{"text_format":"1","workbook":"xlsx","n_sheets":9,"sheets":["DATABASE","Summary","Daily Log","STOCK ANALYSIS","K-LUNCH & K DINNER","LOK LOK ","SIDE ORDER & FOC","DAILY FOC","SAUCE USAGE"],"not_rendered":{"charts":0,"images":1,"macros":0,"external_links":4,"defined_names":13,"comments":2,"pivot_tables":0},"unopened":[],"bounds":{"document_bytes":16777216,"sheet_cells":100000,"rows_first":2000,"rows_last":500,"rows_between":2000,"halvings":0,"cell_chars":16384,"cell_head_chars":4096},"cells_cut":0,"cells_raw":0,"read":"whole","date_system":"1900"}

{"sheet":"DATABASE","index":0,"n_rows":81,"n_cols":9,"rows_kept":81,"cut":false,"hidden":false,"merged":[]}
[null,null,"COST",null,null,null,null,null,"COST"]
[]
[null,"DH01 91101:THAI CHK",3.29,null,null,"DC01 1101:THAI CHK",null,null,{"$f":"+C3","v":3.29}]
[null,"DH02 91102:MAMITE CHK",3.02,null,null,"DC02 1102:MAMITE CHK",null,null,{"$f":"+C4","v":3.02}]
[null,"DH03 91103:KO PO CHK",3.45,null,null,"DC03 1103:KO PO CHK",null,null,3.45]
[null,"DH04 91104:S&S CHK",3.45,null,null,"DC04 1104:S&S CHK",null,null,3.45]
[null,"DH05 91105:BUTTER CHK",3.32,null,null,"DC05 1105:BUTTER CHK",null,null,3.32]
[null,"DH06 91106:HK F.RICE",3.16,null,null,"DC06 1106:HK F.RICE",null,null,3.16]
[null,"DH07 91107:SBL F.RICE",2.41,null,null,"DC07 1107:SBL F.RICE",null,null,2.41]
[null,"DH08 91108:SBL F.MEE",2.8,null,null,"DC08 1108:SBL F.MEE",null,null,2.8]
[null,"DH09 91109:BP UDON",2.08,null,null,"DC09 1109:BP UDON",null,null,2.08]
[null,"DH10 91110:NISSIN",2.3199999999999998,null,null,"DC10 1110:NISSIN",null,null,2.3199999999999998]
[null,"DH11 91111:VEG RICE",1.6,null,null,"DC11 1111:VEG RICE",null,null,1.6]
[null,"DH12 91112:NASI LEMAK",3.56,null,null,"DC12 1112:NASI LEMAK",null,null,3.56]
[null,"DH13 91113:KUEY TEOW",3.16,null,null,"DC13 1113:KUEY TEOW",null,null,3.16]
[null,"DH14 91114:F.BALL MEE",2.59,null,null,"DC14 1114:F.BALL MEE",null,null,2.59]
[null,"DH15 91115:CHK NOODLE",4.71,null,null,"DC15 1115:CHK NOODLE",null,null,4.71]
[null,"DH16 91116:MGL CHK",3.54,null,null,"DC16 1116:MGL CHICKEN",null,null,3.54]
[null,"DG01 91001:BP CHK CP",4.41,null,null,"DB01 1001:BP CKN CP",null,null,4.41]
[null,"DG02 91002:GVY CHK CP",4.43,null,null,"DB02 1002:GVY CHK CP",null,null,4.43]
[null,"DG03 91003:MSR CHK CP",4.75,null,null,"DB03 1003:MSR CKN CP",null,null,4.75]
[null,"DG04 91004:CKN MARY",5.98,null,null,"DB04 1004:CKN MARY",null,null,5.98]
[null,"DG05 91005:FISH&CHIP",4.29,null,null,"DB05 1005:FISH&CHIP",null,null,4.29]
[null,"DG06 91006:SPAGHETTI",2.1,null,null,"DB06 1006:SPAGHETTI",null,null,2.1]
[null,"DG07 91007:CHK SALAD",4.9400000000000004,null,null,"DB07 1007:CHK SALAD",null,null,4.9400000000000004]
[null,"DI01 91201:SFD STICK",2,null,null,"DD01 1201:SFD STICK",null,null,2]
[]
[]
[null,"DI02 91202:FREN FRIES",1.76,null,null,"DD02 1202:FREN FRIES",null,null,{"$f":"+C29","v":1.76}]
[null,"DI03 91203:GOLD MROOM",2.15,null,null,"DD03 1203:GOLD MROOM",null,null,{"$f":"+C30","v":2.15}]
[null,"DI04 91204:FISHBALL",1.56,null,null,"DD04 1204:FISHBALL",null,null,1.56]
[null,"DI05 91205:RAINBOW RL",2.5,null,null,"DD05 1205:RAINBOW RL",null,null,2.5]
[null,"DI06 91206:SPRING RL",2.67,null,null,"DD06 1206:SPRING RL",null,null,2.67]
[null,"DI07 91207:SAUSAGE",1.24,null,null,"DD07 1207:SAUSAGE",null,null,1.24]
[null,"DI08 91208:HOTDOG BUN"]
[null,"DI09 91209:SFD TOFU"]
[null,"DI10 91301:DUMPLING",4.5,null,null,"DD10 1301:DUMPLING",null,null,{"$f":"+C37","v":4.5}]
[null,"DI11 91302:NUGGET",2.4300000000000002,null,null,"DD11 1302:NUGGET",null,null,{"$f":"+C38","v":2.4300000000000002}]
[null,"DI12 91303:CHK WING",3.97,null,null,"DD12 1303:CHK WING",null,null,3.97]
[null,"DI13 91304:IKAN BILIS",2.1800000000000002,null,null,"DD13 1304:IKAN BILIS",null,null,2.1800000000000002]
[null,"DI14 91305:THAI RL",3.61,null,null,"DD14 1305:THAI RL",null,null,3.61]
[null,"DI15 91306:SLVR FISH",null,null,null,"DD15 1306:SLVR FISH",null,null,0]
[null,"DI16 91307:D/F C.WING",4.3099999999999996,null,null,"DD16 1307:D.F C/WING",null,null,4.3099999999999996]
[null,"DI17 91308:C/CALAMARI",3.69,null,null,"DD17 1308 C/CALAMARI",null,null,3.69]
[null,"DI18 91309:Mc O.RINGS",1.72,null,null,"DD18 1309 Mc C/O.RING",null,null,1.72]
[null,"DI19 91310:McSPIRAL.F",1.72,null,null,"DD19 1310:Mc SPIRAL/F",null,null,1.72]
[null,"DI20 91311Mc H/SMILES",1.34,null,null,"DD20 1311:Mc H/SMILES",null,null,1.34]
[null,"DI21 91312:Mc HASH.B",0.59,null,null,"DD21 1312:Mc HASH BRW",null,null,0.59]
[null,null,null,null,null,"ZAB01 1201:SFD STICK",null,null,2]
[]
[null,null,null,null,null,"ZAB02 1202:FRIES",null,null,1.76]
[null,null,null,null,null,"ZAB03 1203:GOLD MROOM",null,null,2.15]
[null,null,null,null,null,"ZAB04 1204:F.BALL",null,null,1.56]
[null,null,null,null,null,"ZAB06 1206:SPRING RL",null,null,2.5]
[null,null,null,null,null,"ZAB07 1207:SAUSAGE",null,null,2.67]
[null,null,null,null,null,"ZAC02 1302:NUGGET",null,null,1.24]
[null,null,null,null,null,"ZAC03 1303:CHK WING",null,null,3.97]
[null,null,null,null,null,"ZAC04 1304:IKAN BILIS",null,null,2.1800000000000002]
[null,null,null,null,null,"ZAC05 1305:THAI RL",null,null,3.61]
[null,null,null,null,null,"ZAC07 1307:D/F C.WINGS",null,null,4.3099999999999996]
[null,null,null,null,null,"ZAC08 1308:C/CALAMARI",null,null,3.69]
[null,null,null,null,null,"ZAC09 1309:Mc /O.RINGS",null,null,1.72]
[null,null,null,null,null,"ZAC10 1310:Mc SPIRAL/F",null,null,1.72]
[null,null,null,null,null,"ZAC11 1311:Mc H/SMILES",null,null,1.34]
[null,null,null,null,null,"ZAC12 1312:Mc HASH/B",null,null,0.59]
[null,null,null,null,null,"DL01 3001:6'HAWAIIAN",null,null,3.25]
[null,null,null,null,null,"DL02 3002:6'SMOKE BBQ",null,null,4.59]
[null,null,null,null,null,"DL03 3003:6'SEAFOOD",null,null,5.13]
[null,null,null,null,null,"DL04 3004:6'SPICY BUF",null,null,2.99]
[null,null,null,null,null,"DL05 3005:6'VEGGIE",null,null,3.62]
[null,null,null,null,null,"DL06 3001:9'HAWAIIAN",null,null,5.79]
[null,null,null,null,null,"DL07 3002:9'SMOKED",null,null,8.2100000000000009]
[null,null,null,null,null,"DL08 3003:9'SEAFOOD",null,null,9.48]
[null,null,null,null,null,"DL09 3004:9'SPICY B",null,null,5.38]
[null,null,null,null,null,"DL10 3005:9'VEGGIE",null,null,6.96]
[null,null,null,null,null,"DM01 SNACK PLATTER(A)",null,null,4.5999999999999996]
[null,null,null,null,null,"DM02 SNACK PLATTER(B)",null,null,4.5999999999999996]
[null,null,null,null,null,"DM03 CNY platter(A)",null,null,9.81]
[null,null,null,null,null,"DM04 CNY platter (B)",null,null,9.81]
[null,null,null,null,null,"DF01 ADD RICE",null,null,0.5]
[null,null,null,null,null,"DF02 ADD F.EGG",null,null,0.34]

{"sheet":"Summary","index":1,"n_rows":431,"n_cols":37,"rows_kept":431,"cut":false,"hidden":false,"merged":[[5,2,5,3],[7,2,7,3],[9,2,9,3],[28,1,28,2],[360,1,360,2],[361,1,361,2],[362,1,362,2],[363,1,363,2],[364,1,364,2],[365,1,365,2],[366,1,366,2],[367,1,367,2],[368,1,368,2],[369,1,369,2],[370,1,370,2],[371,1,371,2],[372,1,372,2],[373,1,373,2],[374,1,374,2],[375,1,375,2],[376,1,376,2],[377,1,377,2],[378,1,378,2],[379,1,379,2],[380,1,380,2],[381,1,381,2],[382,1,382,2],[383,1,383,2],[384,1,384,2],[385,1,385,2],[386,1,386,2],[387,1,387,2],[388,1,388,2],[389,1,389,2],[390,1,390,2],[391,1,391,2],[392,1,392,2],[393,1,393,2],[394,1,394,2],[395,1,395,2],[396,1,396,2],[397,1,397,2],[398,1,398,2],[399,1,399,2],[400,1,400,2],[401,1,401,2],[402,1,402,2],[403,1,403,2],[404,1,404,2],[405,1,405,2],[406,1,406,2],[407,1,407,2],[408,1,408,2],[409,1,409,2],[410,1,410,2],[411,1,411,2],[412,1,412,2],[413,1,413,2],[414,1,414,2],[415,1,415,2],[416,1,416,2],[417,1,417,2],[418,1,418,2],[419,1,419,2],[420,1,420,2],[426,1,426,2],[427,1,427,2],[428,1,428,2],[421,1,421,2],[422,1,422,2],[423,1,423,2],[424,1,424,2],[425,1,425,2]]}
[]
[]
[null,null,"SUMMARY OF PRODUCT SALES IN MONTH"]
[]
[]
[null,"OUTLET",{"$f":"MID(CELL(\"FILENAME\",$A$1),FIND(\"[\",CELL(\"FILENAME\",$A$1))+1,3)","v":"CCS"}]
[]
[null,"YEAR",{"$f":"MID(CELL(\"FILENAME\",$A$1),FIND(\"[\",CELL(\"FILENAME\",$A$1))+4,4)","v":"2013"}]
[]
[null,"MONTH",{"$f":"INDEX($C$12:$C$23,MID(CELL(\"FILENAME\",$A$1),FIND(\"[\",CELL(\"FILENAME\",$A$1))+8,2),1)","v":"AUGUST"}]
[]
[null,"MONTH","JANUARY"]
[null,null,"FEBRUARY"]
[null,null,"MARCH"]
[null,null,"APRIL"]
[null,null,"MAY"]
[null,null,"JUNE"]
[null,null,"JULY"]
[null,null,"AUGUST"]
[null,null,"SEPTEMBER"]
[null,null,"OCTOBER"]
[null,null,"NOVEMBER"]
[null,null,"DECEMBER"]
[]
[]
[null,"PRODUCT",null,"CATEGORY","QTY","QUANTITIES SOLD IN MONTH"]
[null,null,null,null,"PER","TOTAL",{"$f":"DATE(C8,MID(CELL(\"FILENAME\",$A$1),FIND(\"[\",CELL(\"FILENAME\",$A$1))+8,2),1)","v":"2013-08-01"},{"$f":"IFERROR(IF(MONTH(G27+1)<=MONTH($G$27),G27+1,\"\"),\"\")","v":"2013-08-02"},{"$f":"IFERROR(IF(MONTH(H27+1)<=MONTH($G$27),H27+1,\"\"),\"\")","v":"2013-08-03"},"2013-08-04","2013-08-05","2013-08-06","2013-08-07","2013-08-08","2013-08-09","2013-08-10","2013-08-11","2013-08-12","2013-08-13","2013-08-14","2013-08-15","2013-08-16","2013-08-17","2013-08-18","2013-08-19","2013-08-20","2013-08-21","2013-08-22","2013-08-23","2013-08-24","2013-08-25","2013-08-26","2013-08-27","2013-08-28","2013-08-29","2013-08-30","2013-08-31"]
[null,null,null,null,"ITEM"]
[]
[null,"BA01 K : 4BP",null,"BEER",12,{"$f":"SUM($G30:$AK30)","v":0},{"$f":"IFERROR($E30*SUMIF('Daily Log'!$B$18:$B$1017,$B30,'[1]Daily Log'!$C$18:$C$1017),0)","v":0},{"$f":"IFERROR($E30*SUMIF('Daily Log'!$B$18:$B$1017,$B30,'[1]Daily Log'!$C$18:$C$1017),0)","v":0},{"$f":"IFERROR($E30*SUMIF('Daily Log'!$B$18:$B$1017,$B30,'[1]Daily Log'!$C$18:$C$1017),0)","v":0},{"$f":"IFERROR($E30*SUMIF('Daily Log'!$B$18:$B$1017,$B30,'[1]Daily Log'!$C$18:$C$1017),0)","v":0},{"$f":"IFERROR($E30*SUMIF('Daily Log'!$B$18:$B$1017,$B30,'[1]Daily Log'!$C$18:$C$1017),0)","v":0},{"$f":"IFERROR($E30*SUMIF('Daily Log'!$B$18:$B$1017,$B30,'[1]Daily Log'!$C$18:$C$1017),0)","v":0},{"$f":"IFERROR($E30*SUMIF('Daily Log'!$B$18:$B$1017,$B30,'[1]Daily Log'!$C$18:$C$1017),0)","v":0},{"$f":"IFERROR($E30*SUMIF('Daily Log'!$B$18:$B$1017,$B30,'[1]Daily Log'!$C$18:$C$1017),0)","v":0},{"$f":"IFERROR($E30*SUMIF('[2]Daily Log'!$Z$18:$Z$1017,$B30,'[2]Daily Log'!$AA$18:$AA$1017),0)","v":0},{"$f":"IFERROR($E30*SUMIF('[2]Daily Log'!$AC$18:$AC$1017,$B30,'[2]Daily Log'!$AD$18:$AD$1017),0)","v":0},{"$f":"IFERROR($E30*SUMIF('[2]Daily Log'!$AF$18:$AF$1017,$B30,'[2]Daily Log'!$AG$18:$AG$1017),0)","v":0},{"$f":"IFERROR($E30*SUMIF('[2]Daily Log'!$AI$18:$AI$1017,$B30,'[2]Daily Log'!$AJ$18:$AJ$1017),0)","v":0},{"$f":"IFERROR($E30*SUMIF('[2]Daily Log'!$AL$18:$AL$1017,$B30,'[2]Daily Log'!$AM$18:$AM$1017),0)","v":0},{"$f":"IFERROR($E30*SUMIF('[2]Daily Log'!$AO$18:$AO$1017,$B30,'[2]Daily Log'!$AP$18:$AP$1017),0)","v":0},{"$f":"IFERROR($E30*SUMIF('[2]Daily Log'!$AR$18:$AR$1017,$B30,'[2]Daily Log'!$AS$18:$AS$1017),0)","v":0},{"$f":"IFERROR($E30*SUMIF('[2]Daily Log'!$AU$18:$AU$1017,$B30,'[2]Daily Log'!$AV$18:$AV$1017),0)","v":0},{"$f":"IFERROR($E30*SUMIF('[2]Daily Log'!$AX$18:$AX$1017,$B30,'[2]Daily Log'!$AY$18:$AY$1017),0)","v":0},{"$f":"IFERROR($E30*SUMIF('[2]Daily Log'!$BA$18:$BA$1017,$B30,'[2]Daily Log'!$BB$18:$BB$1017),0)","v":0},{"$f":"IFERROR($E30*SUMIF('[2]Daily Log'!$BD$18:$BD$1017,$B30,'[2]Daily Log'!$BE$18:$BE$1017),0)","v":0},{"$f":"IFERROR($E30*SUMIF('[2]Daily Log'!$BG$18:$BG$1017,$B30,'[2]Daily Log'!$BH$18:$BH$1017),0)","v":0},{"$f":"IFERROR($E30*SUMIF('[2]Daily Log'!$BJ$18:$BJ$1017,$B30,'[2]Daily Log'!$BK$18:$BK$1017),0)","v":0},{"$f":"IFERROR($E30*SUMIF('[2]Daily Log'!$BM$18:$BM$1017,$B30,'[2]Daily Log'!$BN$18:$BN$1017),0)","v":0},{"$f":"IFERROR($E30*SUMIF('[2]Daily Log'!$BP$18:$BP$1017,$B30,'[2]Daily Log'!$BQ$18:$BQ$1017),0)","v":0},{"$f":"IFERROR($E30*SUMIF('[2]Daily Log'!$BS$18:$BS$1017,$B30,'[2]Daily Log'!$BT$18:$BT$1017),0)","v":0},{"$f":"IFERROR($E30*SUMIF('[2]Daily Log'!$BV$18:$BV$1017,$B30,'[2]Daily Log'!$BW$18:$BW$1017),0)","v":0},{"$f":"IFERROR($E30*SUMIF('[2]Daily Log'!$BY$18:$BY$1017,$B30,'[2]Daily Log'!$BZ$18:$BZ$1017),0)","v":0},{"$f":"IFERROR($E30*SUMIF('[2]Daily Log'!$CB$18:$CB$1017,$B30,'[2]Daily Log'!$CC$18:$CC$1017),0)","v":0},{"$f":"IFERROR($E30*SUMIF('[2]Daily Log'!$CE$18:$CE$1017,$B30,'[2]Daily Log'!$CF$18:$CF$1017),0)","v":0},{"$f":"IFERROR($E30*SUMIF('[2]Daily Log'!$CH$18:$CH$1017,$B30,'[2]Daily Log'!$CI$18:$CI$1017),0)","v":0},{"$f":"IFERROR($E30*SUMIF('[2]Daily Log'!$CK$18:$CK$1017,$B30,'[2]Daily Log'!$CL$18:$CL$1017),0)","v":0},{"$f":"IFERROR($E30*SUMIF('[2]Daily Log'!$CN$18:$CN$1017,$B30,'[2]Daily Log'!$CO$18:$CO$1017),0)","v":0}]
[null,"BA02 H : 4BP",null,"BEER",12,132,null,null,null,null,null,null,null,null,null,null,null,null,null,null,null,null,null,null,null,null,null,null,null,null,null,null,null,null,null,null,{"$f":"IFERROR($E31*SUMIF('Daily Log'!$CN$18:$CN$1017,$B31,'Daily Log'!$CO$18:$CO$1017),0)","v":132}]
[null,"BA03 H : 4BP MEMBER",null,"BEER",12,0,null,null,null,null,null,null,null,null,null,null,null,null,null,null,null,null,null,null,null,null,null,null,null,null,null,null,null,null,null,null,{"$f":"IFERROR($E32*SUMIF('Daily Log'!$CN$18:$CN$1017,$B32,'Daily Log'!$CO$18:$CO$1017),0)","v":0}]
[null,"BA04 N : 4BP",null,"BEER",12,2148,null,null,null,null,null,null,null,null,null,null,null,null,null,null,null,null,null,null,null,null,null,null,null,null,null,null,null,null,null,null,{"$f":"IFERROR($E33*SUMIF('Daily Log'!$CN$18:$CN$1017,$B33,'Daily Log'!$CO$18:$CO$1017),0)","v":2148}]
[null,"BA05 N : 4BP MEMBER",null,"BEER",12,60,null,null,null,null,null,null,null,null,null,null,null,null,null,null,null,null,null,null,null,null,null,null,null,null,null,null,null,null,null,null,{"$f":"IFERROR($E34*SUMIF('Daily Log'!$CN$18:$CN$1017,$B34,'Daily Log'!$CO$18:$CO$1017),0)","v":60}]
[null,"BA06 M : 4BP",null,"BEER",12,228,null,null,null,null,null,null,null,null,null,null,null,null,null,null,null,null,null,null,null,null,null,null,null,null,null,null,null,null,null,null,{"$f":"IFERROR($E35*SUMIF('Daily Log'!$CN$18:$CN$1017,$B35,'Daily Log'!$CO$18:$CO$1017),0)","v":228}]
[null,"BA07 M : 4BP MEMBER",null,"BEER",12,0,null,null,null,null,null,null,null,null,null,null,null,null,null,null,null,null,null,null,null,null,null,null,null,null,null,null,null,null,null,null,{"$f":"IFERROR($E36*SUMIF('Daily Log'!$CN$18:$CN$1017,$B36,'Daily Log'!$CO$18:$CO$1017),0)","v":0}]
[null,"BA08 GUINNESS BTL",null,"BEER",1,24,null,null,null,null,null,null,null,null,null,null,null,null,null,null,null,null,null,null,null,null,null,null,null,null,null,null,null,null,null,null,{"$f":"IFERROR($E37*SUMIF('Daily Log'!$CN$18:$CN$1017,$B37,'Daily Log'!$CO$18:$CO$1017),0)","v":24}]
[null,"BA09 GUINNESS BKT",null,"BEER",4,96,null,null,null,null,null,null,null,null,null,null,null,null,null,null,null,null,null,null,null,null,null,null,null,null,null,null,null,null,null,null,{"$f":"IFERROR($E38*SUMIF('Daily Log'!$CN$18:$CN$1017,$B38,'Daily Log'!$CO$18:$CO$1017),0)","v":96}]
[null,"BA10 GUINNESS RND",null,"BEER",12,24,null,null,null,null,null,null,null,null,null,null,null,null,null,null,null,null,null,null,null,null,null,null,null,null,null,null,null,null,null,null,{"$f":"IFERROR($E39*SUMIF('Daily Log'!$CN$18:$CN$1017,$B39,'Daily Log'!$CO$18:$CO$1017),0)","v":24}]
[null,"BA11 HEINEKEN BTL",null,"BEER",1,21,null,null,null,null,null,null,null,null,null,null,null,null,null,null,null,null,null,null,null,null,null,null,null,null,null,null,null,null,null,null,{"$f":"IFERROR($E40*SUMIF('Daily Log'!$CN$18:$CN$1017,$B40,'Daily Log'!$CO$18:$CO$1017),0)","v":21}]
[null,"BA12 HEINEKEN BKT",null,"BEER",4,128,null,null,null,null,null,null,null,null,null,null,null,null,null,null,null,null,null,null,null,null,null,null,null,null,null,null,null,null,null,null,{"$f":"IFERROR($E41*SUMIF('Daily Log'!$CN$18:$CN$1017,$B41,'Daily Log'!$CO$18:$CO$1017),0)","v":128}]
[null,"BA13 HEINEKEN RND",null,"BEER",12,228,null,null,null,null,null,null,null,null,null,null,null,null,null,null,null,null,null,null,null,null,null,null,null,null,null,null,null,null,null,null,{"$f":"IFERROR($E42*SUMIF('Daily Log'!$CN$18:$CN$1017,$B42,'Daily Log'!$CO$18:$CO$1017),0)","v":228}]
[null,"BA14 TIGER BTL",null,"BEER",1,41,null,null,null,null,null,null,null,null,null,null,null,null,null,null,null,null,null,null,null,null,null,null,null,null,null,null,null,null,null,null,{"$f":"IFERROR($E43*SUMIF('Daily Log'!$CN$18:$CN$1017,$B43,'Daily Log'!$CO$18:$CO$1017),0)","v":41}]
[null,"BA15 TIGER BKT",null,"BEER",4,436,null,null,null,null,null,null,null,null,null,null,null,null,null,null,null,null,null,null,null,null,null,null,null,null,null,null,null,null,null,null,{"$f":"IFERROR($E44*SUMIF('Daily Log'!$CN$18:$CN$1017,$B44,'Daily Log'!$CO$18:$CO$1017),0)","v":436}]
[null,"BA16 TIGER RND",null,"BEER",12,864,null,null,null,null,null,null,null,null,null,null,null,null,null,null,null,null,null,null,null,null,null,null,null,null,null,null,null,null,null,null,{"$f":"IFERROR($E45*SUMIF('Daily Log'!$CN$18:$CN$1017,$B45,'Daily Log'!$CO$18:$CO$1017),0)","v":864}]
[null,"BA17 TIGER 3+1",null,"BEER",0,0,null,null,null,null,null,null,null,null,null,null,null,null,null,null,null,null,null,null,null,null,null,null,null,null,null,null,null,null,null,null,{"$f":"IFERROR($E46*SUMIF('Daily Log'!$CN$18:$CN$1017,$B46,'Daily Log'!$CO$18:$CO$1017),0)","v":0}]
[null,"BA19 Tiger 2+1",null,"BEER",12,288,null,null,null,null,null,null,null,null,null,null,null,null,null,null,null,null,null,null,null,null,null,null,null,null,null,null,null,null,null,null,{"$f":"IFERROR($E47*SUMIF('Daily Log'!$CN$18:$CN$1017,$B47,'Daily Log'!$CO$18:$CO$1017),0)","v":288}]
[null,"BA20 Heineken 3+1",null,"BEER",16,240,null,null,null,null,null,null,null,null,null,null,null,null,null,null,null,null,null,null,null,null,null,null,null,null,null,null,null,null,null,null,{"$f":"IFERROR($E48*SUMIF('Daily Log'!$CN$18:$CN$1017,$B48,'Daily Log'!$CO$18:$CO$1017),0)","v":240}]
[null,"CA01 GRAPE J",null,"SIDE ORDER-JUICE",1,0,null,null,null,null,null,null,null,null,null,null,null,null,null,null,null,null,null,null,null,null,null,null,null,null,null,null,null,null,null,null,{"$f":"IFERROR($E49*SUMIF('Daily Log'!$CN$18:$CN$1017,$B49,'Daily Log'!$CO$18:$CO$1017),0)","v":0}]
[null,"CA02 APPLE J",null,"SIDE ORDER-JUICE",1,3,null,null,null,null,null,null,null,null,null,null,null,null,null,null,null,null,null,null,null,null,null,null,null,null,null,null,null,null,null,null,{"$f":"IFERROR($E50*SUMIF('Daily Log'!$CN$18:$CN$1017,$B50,'Daily Log'!$CO$18:$CO$1017),0)","v":3}]
[null,"CA03 KIWI J",null,"SIDE ORDER-JUICE",1,0,null,null,null,null,null,null,null,null,null,null,null,null,null,null,null,null,null,null,null,null,null,null,null,null,null,null,null,null,null,null,{"$f":"IFERROR($E51*SUMIF('Daily Log'!$CN$18:$CN$1017,$B51,'Daily Log'!$CO$18:$CO$1017),0)","v":0}]
[null,"CA04 MANGO J",null,"SIDE ORDER-JUICE",1,1,null,null,null,null,null,null,null,null,null,null,null,null,null,null,null,null,null,null,null,null,null,null,null,null,null,null,null,null,null,null,{"$f":"IFERROR($E52*SUMIF('Daily Log'!$CN$18:$CN$1017,$B52,'Daily Log'!$CO$18:$CO$1017),0)","v":1}]
[null,"CA05 PASSION J",null,"SIDE ORDER-JUICE",1,3,null,null,null,null,null,null,null,null,null,null,null,null,null,null,null,null,null,null,null,null,null,null,null,null,null,null,null,null,null,null,{"$f":"IFERROR($E53*SUMIF('Daily Log'!$CN$18:$CN$1017,$B53,'Daily Log'!$CO$18:$CO$1017),0)","v":3}]
[null,"CA06 RIBENA J",null,"SIDE ORDER-JUICE",1,2,null,null,null,null,null,null,null,null,null,null,null,null,null,null,null,null,null,null,null,null,null,null,null,null,null,null,null,null,null,null,{"$f":"IFERROR($E54*SUMIF('Daily Log'!$CN$18:$CN$1017,$B54,'Daily Log'!$CO$18:$CO$1017),0)","v":2}]
[null,"CB01 GRAPE SO",null,"SIDE ORDER-SODA",1,0,null,null,null,null,null,null,null,null,null,null,null,null,null,null,null,null,null,null,null,null,null,null,null,null,null,null,null,null,null,null,{"$f":"IFERROR($E55*SUMIF('Daily Log'!$CN$18:$CN$1017,$B55,'Daily Log'!$CO$18:$CO$1017),0)","v":0}]
[null,"CB02 APPLE SO",null,"SIDE ORDER-SODA",1,0,null,null,null,null,null,null,null,null,null,null,null,null,null,null,null,null,null,null,null,null,null,null,null,null,null,null,null,null,null,null,{"$f":"IFERROR($E56*SUMIF('Daily Log'!$CN$18:$CN$1017,$B56,'Daily Log'!$CO$18:$CO$1017),0)","v":0}]
[null,"CB03 KIWI SO",null,"SIDE ORDER-SODA",1,0,null,null,null,null,null,null,null,null,null,null,null,null,null,null,null,null,null,null,null,null,null,null,null,null,null,null,null,null,null,null,{"$f":"IFERROR($E57*SUMIF('Daily Log'!$CN$18:$CN$1017,$B57,'Daily Log'!$CO$18:$CO$1017),0)","v":0}]
[null,"CB04 MANGO SO",null,"SIDE ORDER-SODA",1,0,null,null,null,null,null,null,null,null,null,null,null,null,null,null,null,null,null,null,null,null,null,null,null,null,null,null,null,null,null,null,{"$f":"IFERROR($E58*SUMIF('Daily Log'!$CN$18:$CN$1017,$B58,'Daily Log'!$CO$18:$CO$1017),0)","v":0}]
[null,"CB05 PASSION SO",null,"SIDE ORDER-SODA",1,0,null,null,null,null,null,null,null,null,null,null,null,null,null,null,null,null,null,null,null,null,null,null,null,null,null,null,null,null,null,null,{"$f":"IFERROR($E59*SUMIF('Daily Log'!$CN$18:$CN$1017,$B59,'Daily Log'!$CO$18:$CO$1017),0)","v":0}]
[null,"CB06 RIBENA SO",null,"SIDE ORDER-SODA",1,0,null,null,null,null,null,null,null,null,null,null,null,null,null,null,null,null,null,null,null,null,null,null,null,null,null,null,null,null,null,null,{"$f":"IFERROR($E60*SUMIF('Daily Log'!$CN$18:$CN$1017,$B60,'Daily Log'!$CO$18:$CO$1017),0)","v":0}]
[null,"CC01 GRAPE SM",null,"SIDE ORDER-SMOOTHIES",1,0,null,null,null,null,null,null,null,null,null,null,null,null,null,null,null,null,null,null,null,null,null,null,null,null,null,null,null,null,null,null,{"$f":"IFERROR($E61*SUMIF('Daily Log'!$CN$18:$CN$1017,$B61,'Daily Log'!$CO$18:$CO$1017),0)","v":0}]
[null,"CC02 APPLE SM",null,"SIDE ORDER-SMOOTHIES",1,0,null,null,null,null,null,null,null,null,null,null,null,null,null,null,null,null,null,null,null,null,null,null,null,null,null,null,null,null,null,null,{"$f":"IFERROR($E62*SUMIF('Daily Log'!$CN$18:$CN$1017,$B62,'Daily Log'!$CO$18:$CO$1017),0)","v":0}]
[null,"CC03 KIWI SM",null,"SIDE ORDER-SMOOTHIES",1,0,null,null,null,null,null,null,null,null,null,null,null,null,null,null,null,null,null,null,null,null,null,null,null,null,null,null,null,null,null,null,{"$f":"IFERROR($E63*SUMIF('Daily Log'!$CN$18:$CN$1017,$B63,'Daily Log'!$CO$18:$CO$1017),0)","v":0}]
[null,"CC04 MANGO SM",null,"SIDE ORDER-SMOOTHIES",1,1,null,null,null,null,null,null,null,null,null,null,null,null,null,null,null,null,null,null,null,null,null,null,null,null,null,null,null,null,null,null,{"$f":"IFERROR($E64*SUMIF('Daily Log'!$CN$18:$CN$1017,$B64,'Daily Log'!$CO$18:$CO$1017),0)","v":1}]
[null,"CC05 PASSION SM",null,"SIDE ORDER-SMOOTHIES",1,0,null,null,null,null,null,null,null,null,null,null,null,null,null,null,null,null,null,null,null,null,null,null,null,null,null,null,null,null,null,null,{"$f":"IFERROR($E65*SUMIF('Daily Log'!$CN$18:$CN$1017,$B65,'Daily Log'!$CO$18:$CO$1017),0)","v":0}]
[null,"CC06 RIBENA SM",null,"SIDE ORDER-SMOOTHIES",1,0,null,null,null,null,null,null,null,null,null,null,null,null,null,null,null,null,null,null,null,null,null,null,null,null,null,null,null,null,null,null,{"$f":"IFERROR($E66*SUMIF('Daily Log'!$CN$18:$CN$1017,$B66,'Daily Log'!$CO$18:$CO$1017),0)","v":0}]
[null,"CC07 CAPPUCINNO SM",null,"SIDE ORDER-SMOOTHIES",1,2,null,null,null,null,null,null,null,null,null,null,null,null,null,null,null,null,null,null,null,null,null,null,null,null,null,null,null,null,null,null,{"$f":"IFERROR($E67*SUMIF('Daily Log'!$CN$18:$CN$1017,$B67,'Daily Log'!$CO$18:$CO$1017),0)","v":2}]
[null,"CC08 CHOCOLATE SM",null,"SIDE ORDER-SMOOTHIES",1,3,null,null,null,null,null,null,null,null,null,null,null,null,null,null,null,null,null,null,null,null,null,null,null,null,null,null,null,null,null,null,{"$f":"IFERROR($E68*SUMIF('Daily Log'!$CN$18:$CN$1017,$B68,'Daily Log'!$CO$18:$CO$1017),0)","v":3}]
[null,"CC09 MOCHA SM",null,"SIDE ORDER-SMOOTHIES",1,1,null,null,null,null,null,null,null,null,null,null,null,null,null,null,null,null,null,null,null,null,null,null,null,null,null,null,null,null,null,null,{"$f":"IFERROR($E69*SUMIF('Daily Log'!$CN$18:$CN$1017,$B69,'Daily Log'!$CO$18:$CO$1017),0)","v":1}]
[null,"CD01 7 UP",null,"SIDE ORDER-SOFT DRINKS",1,1,null,null,null,null,null,null,null,null,null,null,null,null,null,null,null,null,null,null,null,null,null,null,null,null,null,null,null,null,null,null,{"$f":"IFERROR($E70*SUMIF('Daily Log'!$CN$18:$CN$1017,$B70,'Daily Log'!$CO$18:$CO$1017),0)","v":1}]
[null,"CD02 7 UP REVIVE",null,"SIDE ORDER-SOFT DRINKS",1,0,null,null,null,null,null,null,null,null,null,null,null,null,null,null,null,null,null,null,null,null,null,null,null,null,null,null,null,null,null,null,{"$f":"IFERROR($E71*SUMIF('Daily Log'!$CN$18:$CN$1017,$B71,'Daily Log'!$CO$18:$CO$1017),0)","v":0}]
[null,"CD03 PEPSI",null,"SIDE ORDER-SOFT DRINKS",1,5,null,null,null,null,null,null,null,null,null,null,null,null,null,null,null,null,null,null,null,null,null,null,null,null,null,null,null,null,null,null,{"$f":"IFERROR($E72*SUMIF('Daily Log'!$CN$18:$CN$1017,$B72,'Daily Log'!$CO$18:$CO$1017),0)","v":5}]
[null,"CE01 MILO (C)",null,"SIDE ORDER-COLD BEVERAGE",1,0,null,null,null,null,null,null,null,null,null,null,null,null,null,null,null,null,null,null,null,null,null,null,null,null,null,null,null,null,null,null,{"$f":"IFERROR($E73*SUMIF('Daily Log'!$CN$18:$CN$1017,$B73,'Daily Log'!$CO$18:$CO$1017),0)","v":0}]
[null,"CE02 NESCAFE (C)",null,"SIDE ORDER-COLD BEVERAGE",1,0,null,null,null,null,null,null,null,null,null,null,null,null,null,null,null,null,null,null,null,null,null,null,null,null,null,null,null,null,null,null,{"$f":"IFERROR($E74*SUMIF('Daily Log'!$CN$18:$CN$1017,$B74,'Daily Log'!$CO$18:$CO$1017),0)","v":0}]
[null,"CE03 TEA (C)",null,"SIDE ORDER-COLD BEVERAGE",1,0,null,null,null,null,null,null,null,null,null,null,null,null,null,null,null,null,null,null,null,null,null,null,null,null,null,null,null,null,null,null,{"$f":"IFERROR($E75*SUMIF('Daily Log'!$CN$18:$CN$1017,$B75,'Daily Log'!$CO$18:$CO$1017),0)","v":0}]
[null,"CE04 LEMON TEA (C)",null,"SIDE ORDER-COLD BEVERAGE",1,5,null,null,null,null,null,null,null,null,null,null,null,null,null,null,null,null,null,null,null,null,null,null,null,null,null,null,null,null,null,null,{"$f":"IFERROR($E76*SUMIF('Daily Log'!$CN$18:$CN$1017,$B76,'Daily Log'!$CO$18:$CO$1017),0)","v":5}]
[null,"CE05 GRN TEA (C)",null,"SIDE ORDER-COLD BEVERAGE",1,0,null,null,null,null,null,null,null,null,null,null,null,null,null,null,null,null,null,null,null,null,null,null,null,null,null,null,null,null,null,null,{"$f":"IFERROR($E77*SUMIF('Daily Log'!$CN$18:$CN$1017,$B77,'Daily Log'!$CO$18:$CO$1017),0)","v":0}]
[null,"CE06 HNY GRN TEA (C)",null,"SIDE ORDER-COLD BEVERAGE",1,3,null,null,null,null,null,null,null,null,null,null,null,null,null,null,null,null,null,null,null,null,null,null,null,null,null,null,null,null,null,null,{"$f":"IFERROR($E78*SUMIF('Daily Log'!$CN$18:$CN$1017,$B78,'Daily Log'!$CO$18:$CO$1017),0)","v":3}]
[null,"CE07 HONEY (C)",null,"SIDE ORDER-COLD BEVERAGE",1,2,null,null,null,null,null,null,null,null,null,null,null,null,null,null,null,null,null,null,null,null,null,null,null,null,null,null,null,null,null,null,{"$f":"IFERROR($E79*SUMIF('Daily Log'!$CN$18:$CN$1017,$B79,'Daily Log'!$CO$18:$CO$1017),0)","v":2}]
[null,"CE08 LEMON HONEY (C)",null,"SIDE ORDER-COLD BEVERAGE",1,6,null,null,null,null,null,null,null,null,null,null,null,null,null,null,null,null,null,null,null,null,null,null,null,null,null,null,null,null,null,null,{"$f":"IFERROR($E80*SUMIF('Daily Log'!$CN$18:$CN$1017,$B80,'Daily Log'!$CO$18:$CO$1017),0)","v":6}]
[null,"CF01 MILO (H)",null,"SIDE ORDER-HOT BEVERAGE",1,2,null,null,null,null,null,null,null,null,null,null,null,null,null,null,null,null,null,null,null,null,null,null,null,null,null,null,null,null,null,null,{"$f":"IFERROR($E81*SUMIF('Daily Log'!$CN$18:$CN$1017,$B81,'Daily Log'!$CO$18:$CO$1017),0)","v":2}]
[null,"CF02 NESCAFE (H)",null,"SIDE ORDER-HOT BEVERAGE",1,0,null,null,null,null,null,null,null,null,null,null,null,null,null,null,null,null,null,null,null,null,null,null,null,null,null,null,null,null,null,null,{"$f":"IFERROR($E82*SUMIF('Daily Log'!$CN$18:$CN$1017,$B82,'Daily Log'!$CO$18:$CO$1017),0)","v":0}]
[null,"CF03 TEA (H)",null,"SIDE ORDER-HOT BEVERAGE",1,0,null,null,null,null,null,null,null,null,null,null,null,null,null,null,null,null,null,null,null,null,null,null,null,null,null,null,null,null,null,null,{"$f":"IFERROR($E83*SUMIF('Daily Log'!$CN$18:$CN$1017,$B83,'Daily Log'!$CO$18:$CO$1017),0)","v":0}]
[null,"CF04 LEMON TEA (H)",null,"SIDE ORDER-HOT BEVERAGE",1,0,null,null,null,null,null,null,null,null,null,null,null,null,null,null,null,null,null,null,null,null,null,null,null,null,null,null,null,null,null,null,{"$f":"IFERROR($E84*SUMIF('Daily Log'!$CN$18:$CN$1017,$B84,'Daily Log'!$CO$18:$CO$1017),0)","v":0}]
[null,"CF05 GRN TEA (H)",null,"SIDE ORDER-HOT BEVERAGE",1,3,null,null,null,null,null,null,null,null,null,null,null,null,null,null,null,null,null,null,null,null,null,null,null,null,null,null,null,null,null,null,{"$f":"IFERROR($E85*SUMIF('Daily Log'!$CN$18:$CN$1017,$B85,'Daily Log'!$CO$18:$CO$1017),0)","v":3}]
[null,"CF06 HNY GRN TEA (H)",null,"SIDE ORDER-HOT BEVERAGE",1,3,null,null,null,null,null,null,null,null,null,null,null,null,null,null,null,null,null,null,null,null,null,null,null,null,null,null,null,null,null,null,{"$f":"IFERROR($E86*SUMIF('Daily Log'!$CN$18:$CN$1017,$B86,'Daily Log'!$CO$18:$CO$1017),0)","v":3}]
[null,"CF07 HONEY (H)",null,"SIDE ORDER-HOT BEVERAGE",1,3,null,null,null,null,null,null,null,null,null,null,null,null,null,null,null,null,null,null,null,null,null,null,null,null,null,null,null,null,null,null,{"$f":"IFERROR($E87*SUMIF('Daily Log'!$CN$18:$CN$1017,$B87,'Daily Log'!$CO$18:$CO$1017),0)","v":3}]
[null,"CF08 LEMON HONEY (H)",null,"SIDE ORDER-HOT BEVERAGE",1,6,null,null,null,null,null,null,null,null,null,null,null,null,null,null,null,null,null,null,null,null,null,null,null,null,null,null,null,null,null,null,{"$f":"IFERROR($E88*SUMIF('Daily Log'!$CN$18:$CN$1017,$B88,'Daily Log'!$CO$18:$CO$1017),0)","v":6}]
[null,"CF09 CAPPUCCINO (H)",null,"SIDE ORDER-HOT BEVERAGE",1,3,null,null,null,null,null,null,null,null,null,null,null,null,null,null,null,null,null,null,null,null,null,null,null,null,null,null,null,null,null,null,{"$f":"IFERROR($E89*SUMIF('Daily Log'!$CN$18:$CN$1017,$B89,'Daily Log'!$CO$18:$CO$1017),0)","v":3}]
[null,"CF10 CHOCOLATE (H)",null,"SIDE ORDER-HOT BEVERAGE",1,2,null,null,null,null,null,null,null,null,null,null,null,null,null,null,null,null,null,null,null,null,null,null,null,null,null,null,null,null,null,null,{"$f":"IFERROR($E90*SUMIF('Daily Log'!$CN$18:$CN$1017,$B90,'Daily Log'!$CO$18:$CO$1017),0)","v":2}]
[null,"CF11 MOCHA (H)",null,"SIDE ORDER-HOT BEVERAGE",1,1,null,null,null,null,null,null,null,null,null,null,null,null,null,null,null,null,null,null,null,null,null,null,null,null,null,null,null,null,null,null,{"$f":"IFERROR($E91*SUMIF('Daily Log'!$CN$18:$CN$1017,$B91,'Daily Log'!$CO$18:$CO$1017),0)","v":1}]
[null,"CF12 CHAMOMILE (H)",null,"SIDE ORDER-HOT BEVERAGE",1,0,null,null,null,null,null,null,null,null,null,null,null,null,null,null,null,null,null,null,null,null,null,null,null,null,null,null,null,null,null,null,{"$f":"IFERROR($E92*SUMIF('Daily Log'!$CN$18:$CN$1017,$B92,'Daily Log'!$CO$18:$CO$1017),0)","v":0}]
[null,"CF13 DARJEELING (H)",null,"SIDE ORDER-HOT BEVERAGE",1,0,null,null,null,null,null,null,null,null,null,null,null,null,null,null,null,null,null,null,null,null,null,null,null,null,null,null,null,null,null,null,{"$f":"IFERROR($E93*SUMIF('Daily Log'!$CN$18:$CN$1017,$B93,'Daily Log'!$CO$18:$CO$1017),0)","v":0}]
[null,"CF14 EARL GREY (H)",null,"SIDE ORDER-HOT BEVERAGE",1,{"$f":"SUM($G94:$AK94)","v":0},null,null,null,null,null,null,null,null,null,null,null,null,null,null,null,null,null,null,null,null,null,null,null,null,null,null,null,null,null,null,{"$f":"IFERROR($E94*SUMIF('Daily Log'!$CN$18:$CN$1017,$B94,'Daily Log'!$CO$18:$CO$1017),0)","v":0}]
[null,"CG01 MINERAL WATER",null,"MINERAL WATER ",1,7,null,null,null,null,null,null,null,null,null,null,null,null,null,null,null,null,null,null,null,null,null,null,null,null,null,null,null,null,null,null,{"$f":"IFERROR($E95*SUMIF('Daily Log'!$CN$18:$CN$1017,$B95,'Daily Log'!$CO$18:$CO$1017),0)","v":7}]
[null,"CH01 7 UP JUG",null,"JUG",1,2,null,null,null,null,null,null,null,null,null,null,null,null,null,null,null,null,null,null,null,null,null,null,null,null,null,null,null,null,null,null,{"$f":"IFERROR($E96*SUMIF('Daily Log'!$CN$18:$CN$1017,$B96,'Daily Log'!$CO$18:$CO$1017),0)","v":2}]
[null,"CH02 GRN TEA JUG",null,"JUG",1,0,null,null,null,null,null,null,null,null,null,null,null,null,null,null,null,null,null,null,null,null,null,null,null,null,null,null,null,null,null,null,{"$f":"IFERROR($E97*SUMIF('Daily Log'!$CN$18:$CN$1017,$B97,'Daily Log'!$CO$18:$CO$1017),0)","v":0}]
[null,"CH03 PEPSI JUG",null,"JUG",1,2,null,null,null,null,null,null,null,null,null,null,null,null,null,null,null,null,null,null,null,null,null,null,null,null,null,null,null,null,null,null,{"$f":"IFERROR($E98*SUMIF('Daily Log'!$CN$18:$CN$1017,$B98,'Daily Log'!$CO$18:$CO$1017),0)","v":2}]
[null,"CH04 RIBENA JUG",null,"JUG",1,0,null,null,null,null,null,null,null,null,null,null,null,null,null,null,null,null,null,null,null,null,null,null,null,null,null,null,null,null,null,null,{"$f":"IFERROR($E99*SUMIF('Daily Log'!$CN$18:$CN$1017,$B99,'Daily Log'!$CO$18:$CO$1017),0)","v":0}]
[null,"CI01 GRAPE J",null,"FFD-JUICE",1,411,null,null,null,null,null,null,null,null,null,null,null,null,null,null,null,null,null,null,null,null,null,null,null,null,null,null,null,null,null,null,{"$f":"IFERROR($E100*SUMIF('Daily Log'!$CN$18:$CN$1017,$B100,'Daily Log'!$CO$18:$CO$1017),0)","v":411}]
[null,"CI02 APPLE J",null,"FFD-JUICE",1,708,null,null,null,null,null,null,null,null,null,null,null,null,null,null,null,null,null,null,null,null,null,null,null,null,null,null,null,null,null,null,{"$f":"IFERROR($E101*SUMIF('Daily Log'!$CN$18:$CN$1017,$B101,'Daily Log'!$CO$18:$CO$1017),0)","v":708}]
[null,"CI04 MANGO J",null,"FFD-JUICE",1,552,null,null,null,null,null,null,null,null,null,null,null,null,null,null,null,null,null,null,null,null,null,null,null,null,null,null,null,null,null,null,{"$f":"IFERROR($E102*SUMIF('Daily Log'!$CN$18:$CN$1017,$B102,'Daily Log'!$CO$18:$CO$1017),0)","v":552}]
[null,"CI05 PASSION J",null,"FFD-JUICE",1,1075,null,null,null,null,null,null,null,null,null,null,null,null,null,null,null,null,null,null,null,null,null,null,null,null,null,null,null,null,null,null,{"$f":"IFERROR($E103*SUMIF('Daily Log'!$CN$18:$CN$1017,$B103,'Daily Log'!$CO$18:$CO$1017),0)","v":1075}]
[null,"CI06 RIBENA J",null,"FFD-JUICE",1,1076,null,null,null,null,null,null,null,null,null,null,null,null,null,null,null,null,null,null,null,null,null,null,null,null,null,null,null,null,null,null,{"$f":"IFERROR($E104*SUMIF('Daily Log'!$CN$18:$CN$1017,$B104,'Daily Log'!$CO$18:$CO$1017),0)","v":1076}]
[null,"CJ01 GRAPE SO",null,"FFD-SODA",1,64,null,null,null,null,null,null,null,null,null,null,null,null,null,null,null,null,null,null,null,null,null,null,null,null,null,null,null,null,null,null,{"$f":"IFERROR($E105*SUMIF('Daily Log'!$CN$18:$CN$1017,$B105,'Daily Log'!$CO$18:$CO$1017),0)","v":64}]
[null,"CJ02 APPLE SO",null,"FFD-SODA",1,103,null,null,null,null,null,null,null,null,null,null,null,null,null,null,null,null,null,null,null,null,null,null,null,null,null,null,null,null,null,null,{"$f":"IFERROR($E106*SUMIF('Daily Log'!$CN$18:$CN$1017,$B106,'Daily Log'!$CO$18:$CO$1017),0)","v":103}]
[null,"CJ04 MANGO SO",null,"FFD-SODA",1,41,null,null,null,null,null,null,null,null,null,null,null,null,null,null,null,null,null,null,null,null,null,null,null,null,null,null,null,null,null,null,{"$f":"IFERROR($E107*SUMIF('Daily Log'!$CN$18:$CN$1017,$B107,'Daily Log'!$CO$18:$CO$1017),0)","v":41}]
[null,"CJ05 PASSION SO",null,"FFD-SODA",1,128,null,null,null,null,null,null,null,null,null,null,null,null,null,null,null,null,null,null,null,null,null,null,null,null,null,null,null,null,null,null,{"$f":"IFERROR($E108*SUMIF('Daily Log'!$CN$18:$CN$1017,$B108,'Daily Log'!$CO$18:$CO$1017),0)","v":128}]
[null,"CJ06 RIBENA SO",null,"FFD-SODA",1,125,null,null,null,null,null,null,null,null,null,null,null,null,null,null,null,null,null,null,null,null,null,null,null,null,null,null,null,null,null,null,{"$f":"IFERROR($E109*SUMIF('Daily Log'!$CN$18:$CN$1017,$B109,'Daily Log'!$CO$18:$CO$1017),0)","v":125}]
[null,"CL01 7 UP",null,"FFD-SOFT DRINKS",1,518,null,null,null,null,null,null,null,null,null,null,null,null,null,null,null,null,null,null,null,null,null,null,null,null,null,null,null,null,null,null,{"$f":"IFERROR($E110*SUMIF('Daily Log'!$CN$18:$CN$1017,$B110,'Daily Log'!$CO$18:$CO$1017),0)","v":518}]
[null,"CL02 7 UP REVIVE",null,"FFD-SOFT DRINKS",1,100,null,null,null,null,null,null,null,null,null,null,null,null,null,null,null,null,null,null,null,null,null,null,null,null,null,null,null,null,null,null,{"$f":"IFERROR($E111*SUMIF('Daily Log'!$CN$18:$CN$1017,$B111,'Daily Log'!$CO$18:$CO$1017),0)","v":100}]
[null,"CL03 PEPSI",null,"FFD-SOFT DRINKS",1,1047,null,null,null,null,null,null,null,null,null,null,null,null,null,null,null,null,null,null,null,null,null,null,null,null,null,null,null,null,null,null,{"$f":"IFERROR($E112*SUMIF('Daily Log'!$CN$18:$CN$1017,$B112,'Daily Log'!$CO$18:$CO$1017),0)","v":1047}]
[null,"CM01 MILO (C)",null,"FFD-COLD BEVERAGES",1,978,null,null,null,null,null,null,null,null,null,null,null,null,null,null,null,null,null,null,null,null,null,null,null,null,null,null,null,null,null,null,{"$f":"IFERROR($E113*SUMIF('Daily Log'!$CN$18:$CN$1017,$B113,'Daily Log'!$CO$18:$CO$1017),0)","v":978}]
[null,"CM02 NESCAFE (C)",null,"FFD-COLD BEVERAGES",1,291,null,null,null,null,null,null,null,null,null,null,null,null,null,null,null,null,null,null,null,null,null,null,null,null,null,null,null,null,null,null,{"$f":"IFERROR($E114*SUMIF('Daily Log'!$CN$18:$CN$1017,$B114,'Daily Log'!$CO$18:$CO$1017),0)","v":291}]
[null,"CM03 TEA (C)",null,"FFD-COLD BEVERAGES",1,439,null,null,null,null,null,null,null,null,null,null,null,null,null,null,null,null,null,null,null,null,null,null,null,null,null,null,null,null,null,null,{"$f":"IFERROR($E115*SUMIF('Daily Log'!$CN$18:$CN$1017,$B115,'Daily Log'!$CO$18:$CO$1017),0)","v":439}]
[null,"CM04 LEMON TEA (C)",null,"FFD-COLD BEVERAGES",1,1379,null,null,null,null,null,null,null,null,null,null,null,null,null,null,null,null,null,null,null,null,null,null,null,null,null,null,null,null,null,null,{"$f":"IFERROR($E116*SUMIF('Daily Log'!$CN$18:$CN$1017,$B116,'Daily Log'!$CO$18:$CO$1017),0)","v":1379}]
[null,"CM05 GRN TEA (C)",null,"FFD-COLD BEVERAGES",1,1497,null,null,null,null,null,null,null,null,null,null,null,null,null,null,null,null,null,null,null,null,null,null,null,null,null,null,null,null,null,null,{"$f":"IFERROR($E117*SUMIF('Daily Log'!$CN$18:$CN$1017,$B117,'Daily Log'!$CO$18:$CO$1017),0)","v":1497}]
[null,"CM06 HNY GRN TEA (C)",null,"FFD-COLD BEVERAGES",1,2332,null,null,null,null,null,null,null,null,null,null,null,null,null,null,null,null,null,null,null,null,null,null,null,null,null,null,null,null,null,null,{"$f":"IFERROR($E118*SUMIF('Daily Log'!$CN$18:$CN$1017,$B118,'Daily Log'!$CO$18:$CO$1017),0)","v":2332}]
[null,"CM07 HONEY (C)",null,"FFD-COLD BEVERAGES",1,686,null,null,null,null,null,null,null,null,null,null,null,null,null,null,null,null,null,null,null,null,null,null,null,null,null,null,null,null,null,null,{"$f":"IFERROR($E119*SUMIF('Daily Log'!$CN$18:$CN$1017,$B119,'Daily Log'!$CO$18:$CO$1017),0)","v":686}]
[null,"CM08 LEMON HONEY (C)",null,"FFD-COLD BEVERAGES",1,3028,null,null,null,null,null,null,null,null,null,null,null,null,null,null,null,null,null,null,null,null,null,null,null,null,null,null,null,null,null,null,{"$f":"IFERROR($E120*SUMIF('Daily Log'!$CN$18:$CN$1017,$B120,'Daily Log'!$CO$18:$CO$1017),0)","v":3028}]
[null,"CN01 MILO (H)",null,"FFD-HOT BEVERAGES",1,776,null,null,null,null,null,null,null,null,null,null,null,null,null,null,null,null,null,null,null,null,null,null,null,null,null,null,null,null,null,null,{"$f":"IFERROR($E121*SUMIF('Daily Log'!$CN$18:$CN$1017,$B121,'Daily Log'!$CO$18:$CO$1017),0)","v":776}]
[null,"CN02 NESCAFE (H)",null,"FFD-HOT BEVERAGES",1,185,null,null,null,null,null,null,null,null,null,null,null,null,null,null,null,null,null,null,null,null,null,null,null,null,null,null,null,null,null,null,{"$f":"IFERROR($E122*SUMIF('Daily Log'!$CN$18:$CN$1017,$B122,'Daily Log'!$CO$18:$CO$1017),0)","v":185}]
[null,"CN03 TEA (H)",null,"FFD-HOT BEVERAGES",1,81,null,null,null,null,null,null,null,null,null,null,null,null,null,null,null,null,null,null,null,null,null,null,null,null,null,null,null,null,null,null,{"$f":"IFERROR($E123*SUMIF('Daily Log'!$CN$18:$CN$1017,$B123,'Daily Log'!$CO$18:$CO$1017),0)","v":81}]
[null,"CN04 LEMON TEA (H)",null,"FFD-HOT BEVERAGES",1,201,null,null,null,null,null,null,null,null,null,null,null,null,null,null,null,null,null,null,null,null,null,null,null,null,null,null,null,null,null,null,{"$f":"IFERROR($E124*SUMIF('Daily Log'!$CN$18:$CN$1017,$B124,'Daily Log'!$CO$18:$CO$1017),0)","v":201}]
[null,"CN05 GRN TEA (H)",null,"FFD-HOT BEVERAGES",1,410,null,null,null,null,null,null,null,null,null,null,null,null,null,null,null,null,null,null,null,null,null,null,null,null,null,null,null,null,null,null,{"$f":"IFERROR($E125*SUMIF('Daily Log'!$CN$18:$CN$1017,$B125,'Daily Log'!$CO$18:$CO$1017),0)","v":410}]
[null,"CN06 HNY GRN TEA (H)",null,"FFD-HOT BEVERAGES",1,688,null,null,null,null,null,null,null,null,null,null,null,null,null,null,null,null,null,null,null,null,null,null,null,null,null,null,null,null,null,null,{"$f":"IFERROR($E126*SUMIF('Daily Log'!$CN$18:$CN$1017,$B126,'Daily Log'!$CO$18:$CO$1017),0)","v":688}]
[null,"CN07 HONEY (H)",null,"FFD-HOT BEVERAGES",1,460,null,null,null,null,null,null,null,null,null,null,null,null,null,null,null,null,null,null,null,null,null,null,null,null,null,null,null,null,null,null,{"$f":"IFERROR($E127*SUMIF('Daily Log'!$CN$18:$CN$1017,$B127,'Daily Log'!$CO$18:$CO$1017),0)","v":460}]
[null,"CN08 LEMON HONEY (H)",null,"FFD-HOT BEVERAGES",1,2053,null,null,null,null,null,null,null,null,null,null,null,null,null,null,null,null,null,null,null,null,null,null,null,null,null,null,null,null,null,null,{"$f":"IFERROR($E128*SUMIF('Daily Log'!$CN$18:$CN$1017,$B128,'Daily Log'!$CO$18:$CO$1017),0)","v":2053}]
[null,"CN12 CHAMOMILE (H)",null,"FFD-HOT BEVERAGES",1,153,null,null,null,null,null,null,null,null,null,null,null,null,null,null,null,null,null,null,null,null,null,null,null,null,null,null,null,null,null,null,{"$f":"IFERROR($E129*SUMIF('Daily Log'!$CN$18:$CN$1017,$B129,'Daily Log'!$CO$18:$CO$1017),0)","v":153}]
[null,"CN13 DARJEELING (H)",null,"FFD-HOT BEVERAGES",1,22,null,null,null,null,null,null,null,null,null,null,null,null,null,null,null,null,null,null,null,null,null,null,null,null,null,null,null,null,null,null,{"$f":"IFERROR($E130*SUMIF('Daily Log'!$CN$18:$CN$1017,$B130,'Daily Log'!$CO$18:$CO$1017),0)","v":22}]
[null,"CN14 EARL GREY (H)",null,"FFD-HOT BEVERAGES",1,81,null,null,null,null,null,null,null,null,null,null,null,null,null,null,null,null,null,null,null,null,null,null,null,null,null,null,null,null,null,null,{"$f":"IFERROR($E131*SUMIF('Daily Log'!$CN$18:$CN$1017,$B131,'Daily Log'!$CO$18:$CO$1017),0)","v":81}]
[null,"DB01 1001:BP CKN CP",null,"SIDE ORDER- WESTERN CRUISE ",1,99,null,null,null,null,null,null,null,null,null,null,null,null,null,null,null,null,null,null,null,null,null,null,null,null,null,null,null,null,null,null,{"$f":"IFERROR($E132*SUMIF('Daily Log'!$CN$18:$CN$1017,$B132,'Daily Log'!$CO$18:$CO$1017),0)","v":99}]
[null,"DB02 1002:GVY CHK CP",null,"SIDE ORDER- WESTERN CRUISE ",1,24,null,null,null,null,null,null,null,null,null,null,null,null,null,null,null,null,null,null,null,null,null,null,null,null,null,null,null,null,null,null,{"$f":"IFERROR($E133*SUMIF('Daily Log'!$CN$18:$CN$1017,$B133,'Daily Log'!$CO$18:$CO$1017),0)","v":24}]
[null,"DB03 1003:MSR CKN CP",null,"SIDE ORDER- WESTERN CRUISE ",1,96,null,null,null,null,null,null,null,null,null,null,null,null,null,null,null,null,null,null,null,null,null,null,null,null,null,null,null,null,null,null,{"$f":"IFERROR($E134*SUMIF('Daily Log'!$CN$18:$CN$1017,$B134,'Daily Log'!$CO$18:$CO$1017),0)","v":96}]
[null,"DB04 1004:CKN MARY",null,"SIDE ORDER- WESTERN CRUISE ",1,41,null,null,null,null,null,null,null,null,null,null,null,null,null,null,null,null,null,null,null,null,null,null,null,null,null,null,null,null,null,null,{"$f":"IFERROR($E135*SUMIF('Daily Log'!$CN$18:$CN$1017,$B135,'Daily Log'!$CO$18:$CO$1017),0)","v":41}]
[null,"DB05 1005:FISH&CHIP",null,"SIDE ORDER- WESTERN CRUISE ",1,38,null,null,null,null,null,null,null,null,null,null,null,null,null,null,null,null,null,null,null,null,null,null,null,null,null,null,null,null,null,null,{"$f":"IFERROR($E136*SUMIF('Daily Log'!$CN$18:$CN$1017,$B136,'Daily Log'!$CO$18:$CO$1017),0)","v":38}]
[null,"DB06 1006:SPAGHETTI",null,"SIDE ORDER- WESTERN CRUISE ",1,57,null,null,null,null,null,null,null,null,null,null,null,null,null,null,null,null,null,null,null,null,null,null,null,null,null,null,null,null,null,null,{"$f":"IFERROR($E137*SUMIF('Daily Log'!$CN$18:$CN$1017,$B137,'Daily Log'!$CO$18:$CO$1017),0)","v":57}]
[null,"DB07 1007:CHK SALAD",null,"SIDE ORDER- WESTERN CRUISE ",1,23,null,null,null,null,null,null,null,null,null,null,null,null,null,null,null,null,null,null,null,null,null,null,null,null,null,null,null,null,null,null,{"$f":"IFERROR($E138*SUMIF('Daily Log'!$CN$18:$CN$1017,$B138,'Daily Log'!$CO$18:$CO$1017),0)","v":23}]
[null,"DC01 1101:THAI CHK",null,"SIDE ORDER- LOCAL DELIGHTS",1,53,null,null,null,null,null,null,null,null,null,null,null,null,null,null,null,null,null,null,null,null,null,null,null,null,null,null,null,null,null,null,{"$f":"IFERROR($E139*SUMIF('Daily Log'!$CN$18:$CN$1017,$B139,'Daily Log'!$CO$18:$CO$1017),0)","v":53}]
[null,"DC02 1102:MAMITE CHK",null,"SIDE ORDER- LOCAL DELIGHTS",1,70,null,null,null,null,null,null,null,null,null,null,null,null,null,null,null,null,null,null,null,null,null,null,null,null,null,null,null,null,null,null,{"$f":"IFERROR($E140*SUMIF('Daily Log'!$CN$18:$CN$1017,$B140,'Daily Log'!$CO$18:$CO$1017),0)","v":70}]
[null,"DC03 1103:KO PO CHK",null,"SIDE ORDER- LOCAL DELIGHTS",1,0,null,null,null,null,null,null,null,null,null,null,null,null,null,null,null,null,null,null,null,null,null,null,null,null,null,null,null,null,null,null,{"$f":"IFERROR($E141*SUMIF('Daily Log'!$CN$18:$CN$1017,$B141,'Daily Log'!$CO$18:$CO$1017),0)","v":0}]
[null,"DC04 1104:S&S CHK",null,"SIDE ORDER- LOCAL DELIGHTS",1,21,null,null,null,null,null,null,null,null,null,null,null,null,null,null,null,null,null,null,null,null,null,null,null,null,null,null,null,null,null,null,{"$f":"IFERROR($E142*SUMIF('Daily Log'!$CN$18:$CN$1017,$B142,'Daily Log'!$CO$18:$CO$1017),0)","v":21}]
[null,"DC05 1105:BUTTER CHK",null,"SIDE ORDER- LOCAL DELIGHTS",1,105,null,null,null,null,null,null,null,null,null,null,null,null,null,null,null,null,null,null,null,null,null,null,null,null,null,null,null,null,null,null,{"$f":"IFERROR($E143*SUMIF('Daily Log'!$CN$18:$CN$1017,$B143,'Daily Log'!$CO$18:$CO$1017),0)","v":105}]
[null,"DC06 1106:HK F.RICE",null,"SIDE ORDER- LOCAL DELIGHTS",1,60,null,null,null,null,null,null,null,null,null,null,null,null,null,null,null,null,null,null,null,null,null,null,null,null,null,null,null,null,null,null,{"$f":"IFERROR($E144*SUMIF('Daily Log'!$CN$18:$CN$1017,$B144,'Daily Log'!$CO$18:$CO$1017),0)","v":60}]
[null,"DC07 1107:SBL F.RICE",null,"SIDE ORDER- LOCAL DELIGHTS",1,38,null,null,null,null,null,null,null,null,null,null,null,null,null,null,null,null,null,null,null,null,null,null,null,null,null,null,null,null,null,null,{"$f":"IFERROR($E145*SUMIF('Daily Log'!$CN$18:$CN$1017,$B145,'Daily Log'!$CO$18:$CO$1017),0)","v":38}]
[null,"DC08 1108:SBL F.MEE",null,"SIDE ORDER- LOCAL DELIGHTS",1,8,null,null,null,null,null,null,null,null,null,null,null,null,null,null,null,null,null,null,null,null,null,null,null,null,null,null,null,null,null,null,{"$f":"IFERROR($E146*SUMIF('Daily Log'!$CN$18:$CN$1017,$B146,'Daily Log'!$CO$18:$CO$1017),0)","v":8}]
[null,"DC09 1109:BP UDON",null,"SIDE ORDER- LOCAL DELIGHTS",1,27,null,null,null,null,null,null,null,null,null,null,null,null,null,null,null,null,null,null,null,null,null,null,null,null,null,null,null,null,null,null,{"$f":"IFERROR($E147*SUMIF('Daily Log'!$CN$18:$CN$1017,$B147,'Daily Log'!$CO$18:$CO$1017),0)","v":27}]
["","DC10 1110:NISSIN",null,"SIDE ORDER- LOCAL DELIGHTS",1,33,null,null,null,null,null,null,null,null,null,null,null,null,null,null,null,null,null,null,null,null,null,null,null,null,null,null,null,null,null,null,{"$f":"IFERROR($E148*SUMIF('Daily Log'!$CN$18:$CN$1017,$B148,'Daily Log'!$CO$18:$CO$1017),0)","v":33}]
[null,"DC11 1111:VEG RICE",null,"SIDE ORDER- LOCAL DELIGHTS",1,5,null,null,null,null,null,null,null,null,null,null,null,null,null,null,null,null,null,null,null,null,null,null,null,null,null,null,null,null,null,null,{"$f":"IFERROR($E149*SUMIF('Daily Log'!$CN$18:$CN$1017,$B149,'Daily Log'!$CO$18:$CO$1017),0)","v":5}]
[null,"DC12 1112:NASI LEMAK",null,"SIDE ORDER- LOCAL DELIGHTS",1,0,null,null,null,null,null,null,null,null,null,null,null,null,null,null,null,null,null,null,null,null,null,null,null,null,null,null,null,null,null,null,{"$f":"IFERROR($E150*SUMIF('Daily Log'!$CN$18:$CN$1017,$B150,'Daily Log'!$CO$18:$CO$1017),0)","v":0}]
[null,"DC13 1113:KUEY TEOW",null,"SIDE ORDER- LOCAL DELIGHTS",1,0,null,null,null,null,null,null,null,null,null,null,null,null,null,null,null,null,null,null,null,null,null,null,null,null,null,null,null,null,null,null,{"$f":"IFERROR($E151*SUMIF('Daily Log'!$CN$18:$CN$1017,$B151,'Daily Log'!$CO$18:$CO$1017),0)","v":0}]
[null,"DC14 1114:F.BALL MEE",null,"SIDE ORDER- LOCAL DELIGHTS",1,0,null,null,null,null,null,null,null,null,null,null,null,null,null,null,null,null,null,null,null,null,null,null,null,null,null,null,null,null,null,null,{"$f":"IFERROR($E152*SUMIF('Daily Log'!$CN$18:$CN$1017,$B152,'Daily Log'!$CO$18:$CO$1017),0)","v":0}]
[null,"DC15 1115:CHK NOODLE",null,"SIDE ORDER- LOCAL DELIGHTS",1,22,null,null,null,null,null,null,null,null,null,null,null,null,null,null,null,null,null,null,null,null,null,null,null,null,null,null,null,null,null,null,{"$f":"IFERROR($E153*SUMIF('Daily Log'!$CN$18:$CN$1017,$B153,'Daily Log'!$CO$18:$CO$1017),0)","v":22}]
[null,"DC16 1116:MGL CHICKEN",null,"SIDE ORDER- LOCAL DELIGHTS",1,27,null,null,null,null,null,null,null,null,null,null,null,null,null,null,null,null,null,null,null,null,null,null,null,null,null,null,null,null,null,null,{"$f":"IFERROR($E154*SUMIF('Daily Log'!$CN$18:$CN$1017,$B154,'Daily Log'!$CO$18:$CO$1017),0)","v":27}]
[null,"DD01 1201:SFD STICK",null,"SIDE ORDER- APPETIZER",1,5,null,null,null,null,null,null,null,null,null,null,null,null,null,null,null,null,null,null,null,null,null,null,null,null,null,null,null,null,null,null,{"$f":"IFERROR($E155*SUMIF('Daily Log'!$CN$18:$CN$1017,$B155,'Daily Log'!$CO$18:$CO$1017),0)","v":5}]
[null,"DD02 1202:FREN FRIES",null,"SIDE ORDER- APPETIZER",1,98,null,null,null,null,null,null,null,null,null,null,null,null,null,null,null,null,null,null,null,null,null,null,null,null,null,null,null,null,null,null,{"$f":"IFERROR($E156*SUMIF('Daily Log'!$CN$18:$CN$1017,$B156,'Daily Log'!$CO$18:$CO$1017),0)","v":98}]
[null,"DD03 1203:GOLD MROOM",null,"SIDE ORDER- APPETIZER",1,9,null,null,null,null,null,null,null,null,null,null,null,null,null,null,null,null,null,null,null,null,null,null,null,null,null,null,null,null,null,null,{"$f":"IFERROR($E157*SUMIF('Daily Log'!$CN$18:$CN$1017,$B157,'Daily Log'!$CO$18:$CO$1017),0)","v":9}]
[null,"DD04 1204:FISHBALL",null,"SIDE ORDER- APPETIZER",1,10,null,null,null,null,null,null,null,null,null,null,null,null,null,null,null,null,null,null,null,null,null,null,null,null,null,null,null,null,null,null,{"$f":"IFERROR($E158*SUMIF('Daily Log'!$CN$18:$CN$1017,$B158,'Daily Log'!$CO$18:$CO$1017),0)","v":10}]
[null,"DD05 1205:RAINBOW RL",null,"SIDE ORDER- APPETIZER",1,0,null,null,null,null,null,null,null,null,null,null,null,null,null,null,null,null,null,null,null,null,null,null,null,null,null,null,null,null,null,null,{"$f":"IFERROR($E159*SUMIF('Daily Log'!$CN$18:$CN$1017,$B159,'Daily Log'!$CO$18:$CO$1017),0)","v":0}]
[null,"DD06 1206:SPRING RL",null,"SIDE ORDER- APPETIZER",1,8,null,null,null,null,null,null,null,null,null,null,null,null,null,null,null,null,null,null,null,null,null,null,null,null,null,null,null,null,null,null,{"$f":"IFERROR($E160*SUMIF('Daily Log'!$CN$18:$CN$1017,$B160,'Daily Log'!$CO$18:$CO$1017),0)","v":8}]
[null,"DD07 1207:SAUSAGE",null,"SIDE ORDER- APPETIZER",1,{"$f":"SUM($G161:$AK161)","v":17},null,null,null,null,null,null,null,null,null,null,null,null,null,null,null,null,null,null,null,null,null,null,null,null,null,null,null,null,null,null,{"$f":"IFERROR($E161*SUMIF('Daily Log'!$CN$18:$CN$1017,$B161,'Daily Log'!$CO$18:$CO$1017),0)","v":17}]
[null,"DD08 1208:HOTDOG BUN",null,"SIDE ORDER- APPETIZER",1,0,null,null,null,null,null,null,null,null,null,null,null,null,null,null,null,null,null,null,null,null,null,null,null,null,null,null,null,null,null,null,{"$f":"IFERROR($E162*SUMIF('Daily Log'!$CN$18:$CN$1017,$B162,'Daily Log'!$CO$18:$CO$1017),0)","v":0}]
[null,"DD09 1209:SFD TOFU",null,"SIDE ORDER- APPETIZER",1,0,null,null,null,null,null,null,null,null,null,null,null,null,null,null,null,null,null,null,null,null,null,null,null,null,null,null,null,null,null,null,{"$f":"IFERROR($E163*SUMIF('Daily Log'!$CN$18:$CN$1017,$B163,'Daily Log'!$CO$18:$CO$1017),0)","v":0}]
[null,"DD10 1301:DUMPLING",null,"SIDE ORDER- APPETIZER",1,0,null,null,null,null,null,null,null,null,null,null,null,null,null,null,null,null,null,null,null,null,null,null,null,null,null,null,null,null,null,null,{"$f":"IFERROR($E164*SUMIF('Daily Log'!$CN$18:$CN$1017,$B164,'Daily Log'!$CO$18:$CO$1017),0)","v":0}]
[null,"DD11 1302:NUGGET",null,"SIDE ORDER- APPETIZER",1,35,null,null,null,null,null,null,null,null,null,null,null,null,null,null,null,null,null,null,null,null,null,null,null,null,null,null,null,null,null,null,{"$f":"IFERROR($E165*SUMIF('Daily Log'!$CN$18:$CN$1017,$B165,'Daily Log'!$CO$18:$CO$1017),0)","v":35}]
[null,"DD12 1303:CHK WING",null,"SIDE ORDER- APPETIZER",1,24,null,null,null,null,null,null,null,null,null,null,null,null,null,null,null,null,null,null,null,null,null,null,null,null,null,null,null,null,null,null,{"$f":"IFERROR($E166*SUMIF('Daily Log'!$CN$18:$CN$1017,$B166,'Daily Log'!$CO$18:$CO$1017),0)","v":24}]
[null,"DD13 1304:IKAN BILIS",null,"SIDE ORDER- APPETIZER",1,8,null,null,null,null,null,null,null,null,null,null,null,null,null,null,null,null,null,null,null,null,null,null,null,null,null,null,null,null,null,null,{"$f":"IFERROR($E167*SUMIF('Daily Log'!$CN$18:$CN$1017,$B167,'Daily Log'!$CO$18:$CO$1017),0)","v":8}]
[null,"DD14 1305:THAI RL",null,"SIDE ORDER- APPETIZER",1,5,null,null,null,null,null,null,null,null,null,null,null,null,null,null,null,null,null,null,null,null,null,null,null,null,null,null,null,null,null,null,{"$f":"IFERROR($E168*SUMIF('Daily Log'!$CN$18:$CN$1017,$B168,'Daily Log'!$CO$18:$CO$1017),0)","v":5}]
[null,"DD15 1306:SLVR FISH",null,"SIDE ORDER- APPETIZER",1,0,null,null,null,null,null,null,null,null,null,null,null,null,null,null,null,null,null,null,null,null,null,null,null,null,null,null,null,null,null,null,{"$f":"IFERROR($E169*SUMIF('Daily Log'!$CN$18:$CN$1017,$B169,'Daily Log'!$CO$18:$CO$1017),0)","v":0}]
[null,"DD16 1307:D.F C/WING",null,"SIDE ORDER- APPETIZER",1,18,null,null,null,null,null,null,null,null,null,null,null,null,null,null,null,null,null,null,null,null,null,null,null,null,null,null,null,null,null,null,{"$f":"IFERROR($E170*SUMIF('Daily Log'!$CN$18:$CN$1017,$B170,'Daily Log'!$CO$18:$CO$1017),0)","v":18}]
[null,"DD17 1308 C/CALAMARI",null,"SIDE ORDER- APPETIZER",1,6,null,null,null,null,null,null,null,null,null,null,null,null,null,null,null,null,null,null,null,null,null,null,null,null,null,null,null,null,null,null,{"$f":"IFERROR($E171*SUMIF('Daily Log'!$CN$18:$CN$1017,$B171,'Daily Log'!$CO$18:$CO$1017),0)","v":6}]
[null,"DD18 1309 Mc C/O.RING",null,"SIDE ORDER- APPETIZER",1,6,null,null,null,null,null,null,null,null,null,null,null,null,null,null,null,null,null,null,null,null,null,null,null,null,null,null,null,null,null,null,{"$f":"IFERROR($E172*SUMIF('Daily Log'!$CN$18:$CN$1017,$B172,'Daily Log'!$CO$18:$CO$1017),0)","v":6}]
[null,"DD19 1310:Mc SPIRAL/F",null,"SIDE ORDER- APPETIZER",1,9,null,null,null,null,null,null,null,null,null,null,null,null,null,null,null,null,null,null,null,null,null,null,null,null,null,null,null,null,null,null,{"$f":"IFERROR($E173*SUMIF('Daily Log'!$CN$18:$CN$1017,$B173,'Daily Log'!$CO$18:$CO$1017),0)","v":9}]
[null,"DD20 1311:Mc H/SMILES",null,"SIDE ORDER- APPETIZER",1,4,null,null,null,null,null,null,null,null,null,null,null,null,null,null,null,null,null,null,null,null,null,null,null,null,null,null,null,null,null,null,{"$f":"IFERROR($E174*SUMIF('Daily Log'!$CN$18:$CN$1017,$B174,'Daily Log'!$CO$18:$CO$1017),0)","v":4}]
[null,"DD21 1312:Mc HASH BRW",null,"SIDE ORDER- APPETIZER",1,11,null,null,null,null,null,null,null,null,null,null,null,null,null,null,null,null,null,null,null,null,null,null,null,null,null,null,null,null,null,null,{"$f":"IFERROR($E175*SUMIF('Daily Log'!$CN$18:$CN$1017,$B175,'Daily Log'!$CO$18:$CO$1017),0)","v":11}]
[null,"DF01 ADD RICE",null,"SIDE ORDER-OTHERS",1,17,null,null,null,null,null,null,null,null,null,null,null,null,null,null,null,null,null,null,null,null,null,null,null,null,null,null,null,null,null,null,{"$f":"IFERROR($E176*SUMIF('Daily Log'!$CN$18:$CN$1017,$B176,'Daily Log'!$CO$18:$CO$1017),0)","v":17}]
[null,"DF02 ADD F.EGG",null,"SIDE ORDER-OTHERS",1,5,null,null,null,null,null,null,null,null,null,null,null,null,null,null,null,null,null,null,null,null,null,null,null,null,null,null,null,null,null,null,{"$f":"IFERROR($E177*SUMIF('Daily Log'!$CN$18:$CN$1017,$B177,'Daily Log'!$CO$18:$CO$1017),0)","v":5}]
[null,"DF03 ADD SAUCE 1000",null,"SAUCE",1,8,null,null,null,null,null,null,null,null,null,null,null,null,null,null,null,null,null,null,null,null,null,null,null,null,null,null,null,null,null,null,{"$f":"IFERROR($E178*SUMIF('Daily Log'!$CN$18:$CN$1017,$B178,'Daily Log'!$CO$18:$CO$1017),0)","v":8}]
[null,"DF04 ADD SAUCE BOLO",null,"SAUCE",1,1,null,null,null,null,null,null,null,null,null,null,null,null,null,null,null,null,null,null,null,null,null,null,null,null,null,null,null,null,null,null,{"$f":"IFERROR($E179*SUMIF('Daily Log'!$CN$18:$CN$1017,$B179,'Daily Log'!$CO$18:$CO$1017),0)","v":1}]
[null,"DF05 ADD SAUCE BP",null,"SAUCE",1,1,null,null,null,null,null,null,null,null,null,null,null,null,null,null,null,null,null,null,null,null,null,null,null,null,null,null,null,null,null,null,{"$f":"IFERROR($E180*SUMIF('Daily Log'!$CN$18:$CN$1017,$B180,'Daily Log'!$CO$18:$CO$1017),0)","v":1}]
[null,"DF06 ADD SAUCE BUTTER",null,"SAUCE",1,0,null,null,null,null,null,null,null,null,null,null,null,null,null,null,null,null,null,null,null,null,null,null,null,null,null,null,null,null,null,null,{"$f":"IFERROR($E181*SUMIF('Daily Log'!$CN$18:$CN$1017,$B181,'Daily Log'!$CO$18:$CO$1017),0)","v":0}]
[null,"DF07 ADD SAUCE C.PADI",null,"SAUCE",1,32,null,null,null,null,null,null,null,null,null,null,null,null,null,null,null,null,null,null,null,null,null,null,null,null,null,null,null,null,null,null,{"$f":"IFERROR($E182*SUMIF('Daily Log'!$CN$18:$CN$1017,$B182,'Daily Log'!$CO$18:$CO$1017),0)","v":32}]
[null,"DF08 ADD SAUCE GS",null,"SAUCE",1,0,null,null,null,null,null,null,null,null,null,null,null,null,null,null,null,null,null,null,null,null,null,null,null,null,null,null,null,null,null,null,{"$f":"IFERROR($E183*SUMIF('Daily Log'!$CN$18:$CN$1017,$B183,'Daily Log'!$CO$18:$CO$1017),0)","v":0}]
[null,"DF09 ADD SAUCE MAYO",null,"SAUCE",1,82,null,null,null,null,null,null,null,null,null,null,null,null,null,null,null,null,null,null,null,null,null,null,null,null,null,null,null,null,null,null,{"$f":"IFERROR($E184*SUMIF('Daily Log'!$CN$18:$CN$1017,$B184,'Daily Log'!$CO$18:$CO$1017),0)","v":82}]
[null,"DF10 ADD SAUCE MMITE",null,"SAUCE",1,1,null,null,null,null,null,null,null,null,null,null,null,null,null,null,null,null,null,null,null,null,null,null,null,null,null,null,null,null,null,null,{"$f":"IFERROR($E185*SUMIF('Daily Log'!$CN$18:$CN$1017,$B185,'Daily Log'!$CO$18:$CO$1017),0)","v":1}]
[null,"DF11 ADD SAUCE MR",null,"SAUCE",1,13,null,null,null,null,null,null,null,null,null,null,null,null,null,null,null,null,null,null,null,null,null,null,null,null,null,null,null,null,null,null,{"$f":"IFERROR($E186*SUMIF('Daily Log'!$CN$18:$CN$1017,$B186,'Daily Log'!$CO$18:$CO$1017),0)","v":13}]
[null,"DF12 ADD SAUCE SAMBAL",null,"SAUCE",1,9,null,null,null,null,null,null,null,null,null,null,null,null,null,null,null,null,null,null,null,null,null,null,null,null,null,null,null,null,null,null,{"$f":"IFERROR($E187*SUMIF('Daily Log'!$CN$18:$CN$1017,$B187,'Daily Log'!$CO$18:$CO$1017),0)","v":9}]
[null,"DF13 ADD SAUCE THAI",null,"SAUCE",1,1,null,null,null,null,null,null,null,null,null,null,null,null,null,null,null,null,null,null,null,null,null,null,null,null,null,null,null,null,null,null,{"$f":"IFERROR($E188*SUMIF('Daily Log'!$CN$18:$CN$1017,$B188,'Daily Log'!$CO$18:$CO$1017),0)","v":1}]
[null,"DF14 ADD SAUCE TOMATO",null,"SAUCE",1,101,null,null,null,null,null,null,null,null,null,null,null,null,null,null,null,null,null,null,null,null,null,null,null,null,null,null,null,null,null,null,{"$f":"IFERROR($E189*SUMIF('Daily Log'!$CN$18:$CN$1017,$B189,'Daily Log'!$CO$18:$CO$1017),0)","v":101}]
[null,"DF15 ADD TATA SAUCE",null,"SAUCE",1,11,null,null,null,null,null,null,null,null,null,null,null,null,null,null,null,null,null,null,null,null,null,null,null,null,null,null,null,null,null,null,{"$f":"IFERROR($E190*SUMIF('Daily Log'!$CN$18:$CN$1017,$B190,'Daily Log'!$CO$18:$CO$1017),0)","v":11}]
[null,"DF16 ADD SAUCE CHEES",null,"SAUCE",1,0,null,null,null,null,null,null,null,null,null,null,null,null,null,null,null,null,null,null,null,null,null,null,null,null,null,null,null,null,null,null,{"$f":"IFERROR($E191*SUMIF('Daily Log'!$CN$18:$CN$1017,$B191,'Daily Log'!$CO$18:$CO$1017),0)","v":0}]
[null,"DG01 91001:BP CHK CP",null,"KLKD-WESTERN CRUISE ",1,510,null,null,null,null,null,null,null,null,null,null,null,null,null,null,null,null,null,null,null,null,null,null,null,null,null,null,null,null,null,null,{"$f":"IFERROR($E192*SUMIF('Daily Log'!$CN$18:$CN$1017,$B192,'Daily Log'!$CO$18:$CO$1017),0)","v":510}]
[null,"DG02 91002:GVY CHK CP",null,"KLKD-WESTERN CRUISE ",1,126,null,null,null,null,null,null,null,null,null,null,null,null,null,null,null,null,null,null,null,null,null,null,null,null,null,null,null,null,null,null,{"$f":"IFERROR($E193*SUMIF('Daily Log'!$CN$18:$CN$1017,$B193,'Daily Log'!$CO$18:$CO$1017),0)","v":126}]
[null,"DG03 91003:MSR CHK CP",null,"KLKD-WESTERN CRUISE ",1,535,null,null,null,null,null,null,null,null,null,null,null,null,null,null,null,null,null,null,null,null,null,null,null,null,null,null,null,null,null,null,{"$f":"IFERROR($E194*SUMIF('Daily Log'!$CN$18:$CN$1017,$B194,'Daily Log'!$CO$18:$CO$1017),0)","v":535}]
[null,"DG04 91004:CKN MARY",null,"KLKD-WESTERN CRUISE ",1,290,null,null,null,null,null,null,null,null,null,null,null,null,null,null,null,null,null,null,null,null,null,null,null,null,null,null,null,null,null,null,{"$f":"IFERROR($E195*SUMIF('Daily Log'!$CN$18:$CN$1017,$B195,'Daily Log'!$CO$18:$CO$1017),0)","v":290}]
[null,"DG05 91005:FISH&CHIP",null,"KLKD-WESTERN CRUISE ",1,295,null,null,null,null,null,null,null,null,null,null,null,null,null,null,null,null,null,null,null,null,null,null,null,null,null,null,null,null,null,null,{"$f":"IFERROR($E196*SUMIF('Daily Log'!$CN$18:$CN$1017,$B196,'Daily Log'!$CO$18:$CO$1017),0)","v":295}]
[null,"DG06 91006:SPAGHETTI",null,"KLKD-WESTERN CRUISE ",1,232,null,null,null,null,null,null,null,null,null,null,null,null,null,null,null,null,null,null,null,null,null,null,null,null,null,null,null,null,null,null,{"$f":"IFERROR($E197*SUMIF('Daily Log'!$CN$18:$CN$1017,$B197,'Daily Log'!$CO$18:$CO$1017),0)","v":232}]
[null,"DG07 91007:CHK SALAD",null,"KLKD-WESTERN CRUISE ",1,87,null,null,null,null,null,null,null,null,null,null,null,null,null,null,null,null,null,null,null,null,null,null,null,null,null,null,null,null,null,null,{"$f":"IFERROR($E198*SUMIF('Daily Log'!$CN$18:$CN$1017,$B198,'Daily Log'!$CO$18:$CO$1017),0)","v":87}]
[null,"DH01 91101:THAI CHK",null,"KLKD-LOCAL DELIGHTS",1,101,null,null,null,null,null,null,null,null,null,null,null,null,null,null,null,null,null,null,null,null,null,null,null,null,null,null,null,null,null,null,{"$f":"IFERROR($E199*SUMIF('Daily Log'!$CN$18:$CN$1017,$B199,'Daily Log'!$CO$18:$CO$1017),0)","v":101}]
[null,"DH02 91102:MAMITE CHK",null,"KLKD-LOCAL DELIGHTS",1,156,null,null,null,null,null,null,null,null,null,null,null,null,null,null,null,null,null,null,null,null,null,null,null,null,null,null,null,null,null,null,{"$f":"IFERROR($E200*SUMIF('Daily Log'!$CN$18:$CN$1017,$B200,'Daily Log'!$CO$18:$CO$1017),0)","v":156}]
[null,"DH03 91103:KO PO CHK",null,"KLKD-LOCAL DELIGHTS",1,0,null,null,null,null,null,null,null,null,null,null,null,null,null,null,null,null,null,null,null,null,null,null,null,null,null,null,null,null,null,null,{"$f":"IFERROR($E201*SUMIF('Daily Log'!$CN$18:$CN$1017,$B201,'Daily Log'!$CO$18:$CO$1017),0)","v":0}]
[null,"DH04 91104:S&S CHK",null,"KLKD-LOCAL DELIGHTS",1,65,null,null,null,null,null,null,null,null,null,null,null,null,null,null,null,null,null,null,null,null,null,null,null,null,null,null,null,null,null,null,{"$f":"IFERROR($E202*SUMIF('Daily Log'!$CN$18:$CN$1017,$B202,'Daily Log'!$CO$18:$CO$1017),0)","v":65}]
[null,"DH05 91105:BUTTER CHK",null,"KLKD-LOCAL DELIGHTS",1,217,null,null,null,null,null,null,null,null,null,null,null,null,null,null,null,null,null,null,null,null,null,null,null,null,null,null,null,null,null,null,{"$f":"IFERROR($E203*SUMIF('Daily Log'!$CN$18:$CN$1017,$B203,'Daily Log'!$CO$18:$CO$1017),0)","v":217}]
[null,"DH06 91106:HK F.RICE",null,"KLKD-LOCAL DELIGHTS",1,154,null,null,null,null,null,null,null,null,null,null,null,null,null,null,null,null,null,null,null,null,null,null,null,null,null,null,null,null,null,null,{"$f":"IFERROR($E204*SUMIF('Daily Log'!$CN$18:$CN$1017,$B204,'Daily Log'!$CO$18:$CO$1017),0)","v":154}]
[null,"DH07 91107:SBL F.RICE",null,"KLKD-LOCAL DELIGHTS",1,66,null,null,null,null,null,null,null,null,null,null,null,null,null,null,null,null,null,null,null,null,null,null,null,null,null,null,null,null,null,null,{"$f":"IFERROR($E205*SUMIF('Daily Log'!$CN$18:$CN$1017,$B205,'Daily Log'!$CO$18:$CO$1017),0)","v":66}]
[null,"DH08 91108:SBL F.MEE",null,"KLKD-LOCAL DELIGHTS",1,19,null,null,null,null,null,null,null,null,null,null,null,null,null,null,null,null,null,null,null,null,null,null,null,null,null,null,null,null,null,null,{"$f":"IFERROR($E206*SUMIF('Daily Log'!$CN$18:$CN$1017,$B206,'Daily Log'!$CO$18:$CO$1017),0)","v":19}]
[null,"DH09 91109:BP UDON",null,"KLKD-LOCAL DELIGHTS",1,66,null,null,null,null,null,null,null,null,null,null,null,null,null,null,null,null,null,null,null,null,null,null,null,null,null,null,null,null,null,null,{"$f":"IFERROR($E207*SUMIF('Daily Log'!$CN$18:$CN$1017,$B207,'Daily Log'!$CO$18:$CO$1017),0)","v":66}]
[null,"DH10 91110:NISSIN",null,"KLKD-LOCAL DELIGHTS",1,49,null,null,null,null,null,null,null,null,null,null,null,null,null,null,null,null,null,null,null,null,null,null,null,null,null,null,null,null,null,null,{"$f":"IFERROR($E208*SUMIF('Daily Log'!$CN$18:$CN$1017,$B208,'Daily Log'!$CO$18:$CO$1017),0)","v":49}]
[null,"DH11 91111:VEG RICE",null,"KLKD-LOCAL DELIGHTS",1,25,null,null,null,null,null,null,null,null,null,null,null,null,null,null,null,null,null,null,null,null,null,null,null,null,null,null,null,null,null,null,{"$f":"IFERROR($E209*SUMIF('Daily Log'!$CN$18:$CN$1017,$B209,'Daily Log'!$CO$18:$CO$1017),0)","v":25}]
[null,"DH12 91112:NASI LEMAK",null,"KLKD-LOCAL DELIGHTS",1,0,null,null,null,null,null,null,null,null,null,null,null,null,null,null,null,null,null,null,null,null,null,null,null,null,null,null,null,null,null,null,{"$f":"IFERROR($E210*SUMIF('Daily Log'!$CN$18:$CN$1017,$B210,'Daily Log'!$CO$18:$CO$1017),0)","v":0}]
[null,"DH13 91113:KUEY TEOW",null,"KLKD-LOCAL DELIGHTS",1,0,null,null,null,null,null,null,null,null,null,null,null,null,null,null,null,null,null,null,null,null,null,null,null,null,null,null,null,null,null,null,{"$f":"IFERROR($E211*SUMIF('Daily Log'!$CN$18:$CN$1017,$B211,'Daily Log'!$CO$18:$CO$1017),0)","v":0}]
[null,"DH14 91114:F.BALL MEE",null,"KLKD-LOCAL DELIGHTS",1,0,null,null,null,null,null,null,null,null,null,null,null,null,null,null,null,null,null,null,null,null,null,null,null,null,null,null,null,null,null,null,{"$f":"IFERROR($E212*SUMIF('Daily Log'!$CN$18:$CN$1017,$B212,'Daily Log'!$CO$18:$CO$1017),0)","v":0}]
[null,"DH15 91115:CHK NOODLE",null,"KLKD-LOCAL DELIGHTS",1,57,null,null,null,null,null,null,null,null,null,null,null,null,null,null,null,null,null,null,null,null,null,null,null,null,null,null,null,null,null,null,{"$f":"IFERROR($E213*SUMIF('Daily Log'!$CN$18:$CN$1017,$B213,'Daily Log'!$CO$18:$CO$1017),0)","v":57}]
[null,"DH16 91116:MGL CHK",null,"KLKD-LOCAL DELIGHTS",1,55,null,null,null,null,null,null,null,null,null,null,null,null,null,null,null,null,null,null,null,null,null,null,null,null,null,null,null,null,null,null,{"$f":"IFERROR($E214*SUMIF('Daily Log'!$CN$18:$CN$1017,$B214,'Daily Log'!$CO$18:$CO$1017),0)","v":55}]
[null,"DI01 91201:SFD STICK",null,"KLKD-APPETIZER",1,1,null,null,null,null,null,null,null,null,null,null,null,null,null,null,null,null,null,null,null,null,null,null,null,null,null,null,null,null,null,null,{"$f":"IFERROR($E215*SUMIF('Daily Log'!$CN$18:$CN$1017,$B215,'Daily Log'!$CO$18:$CO$1017),0)","v":1}]
[null,"DI02 91202:FREN FRIES",null,"KLKD-APPETIZER",1,30,null,null,null,null,null,null,null,null,null,null,null,null,null,null,null,null,null,null,null,null,null,null,null,null,null,null,null,null,null,null,{"$f":"IFERROR($E216*SUMIF('Daily Log'!$CN$18:$CN$1017,$B216,'Daily Log'!$CO$18:$CO$1017),0)","v":30}]
[null,"DI03 91203:GOLD MROOM",null,"KLKD-APPETIZER",1,8,null,null,null,null,null,null,null,null,null,null,null,null,null,null,null,null,null,null,null,null,null,null,null,null,null,null,null,null,null,null,{"$f":"IFERROR($E217*SUMIF('Daily Log'!$CN$18:$CN$1017,$B217,'Daily Log'!$CO$18:$CO$1017),0)","v":8}]
[null,"DI04 91204:FISHBALL",null,"KLKD-APPETIZER",1,7,null,null,null,null,null,null,null,null,null,null,null,null,null,null,null,null,null,null,null,null,null,null,null,null,null,null,null,null,null,null,{"$f":"IFERROR($E218*SUMIF('Daily Log'!$CN$18:$CN$1017,$B218,'Daily Log'!$CO$18:$CO$1017),0)","v":7}]
[null,"DI05 91205:RAINBOW RL",null,"KLKD-APPETIZER",1,0,null,null,null,null,null,null,null,null,null,null,null,null,null,null,null,null,null,null,null,null,null,null,null,null,null,null,null,null,null,null,{"$f":"IFERROR($E219*SUMIF('Daily Log'!$CN$18:$CN$1017,$B219,'Daily Log'!$CO$18:$CO$1017),0)","v":0}]
[null,"DI06 91206:SPRING RL",null,"KLKD-APPETIZER",1,6,null,null,null,null,null,null,null,null,null,null,null,null,null,null,null,null,null,null,null,null,null,null,null,null,null,null,null,null,null,null,{"$f":"IFERROR($E220*SUMIF('Daily Log'!$CN$18:$CN$1017,$B220,'Daily Log'!$CO$18:$CO$1017),0)","v":6}]
[null,"DI07 91207:SAUSAGE",null,"KLKD-APPETIZER",1,22,null,null,null,null,null,null,null,null,null,null,null,null,null,null,null,null,null,null,null,null,null,null,null,null,null,null,null,null,null,null,{"$f":"IFERROR($E221*SUMIF('Daily Log'!$CN$18:$CN$1017,$B221,'Daily Log'!$CO$18:$CO$1017),0)","v":22}]
[null,"DI08 91208:HOTDOG BUN",null,"KLKD-APPETIZER",1,0,null,null,null,null,null,null,null,null,null,null,null,null,null,null,null,null,null,null,null,null,null,null,null,null,null,null,null,null,null,null,{"$f":"IFERROR($E222*SUMIF('Daily Log'!$CN$18:$CN$1017,$B222,'Daily Log'!$CO$18:$CO$1017),0)","v":0}]
[null,"DI09 91209:SFD TOFU",null,"KLKD-APPETIZER",1,0,null,null,null,null,null,null,null,null,null,null,null,null,null,null,null,null,null,null,null,null,null,null,null,null,null,null,null,null,null,null,{"$f":"IFERROR($E223*SUMIF('Daily Log'!$CN$18:$CN$1017,$B223,'Daily Log'!$CO$18:$CO$1017),0)","v":0}]
[null,"DI10 91301:DUMPLING",null,"KLKD-APPETIZER",1,0,null,null,null,null,null,null,null,null,null,null,null,null,null,null,null,null,null,null,null,null,null,null,null,null,null,null,null,null,null,null,{"$f":"IFERROR($E224*SUMIF('Daily Log'!$CN$18:$CN$1017,$B224,'Daily Log'!$CO$18:$CO$1017),0)","v":0}]
[null,"DI11 91302:NUGGET",null,"KLKD-APPETIZER",1,{"$f":"SUM($G225:$AK225)","v":43},null,null,null,null,null,null,null,null,null,null,null,null,null,null,null,null,null,null,null,null,null,null,null,null,null,null,null,null,null,null,{"$f":"IFERROR($E225*SUMIF('Daily Log'!$CN$18:$CN$1017,$B225,'Daily Log'!$CO$18:$CO$1017),0)","v":43}]
[null,"DI12 91303:CHK WING",null,"KLKD-APPETIZER",1,57,null,null,null,null,null,null,null,null,null,null,null,null,null,null,null,null,null,null,null,null,null,null,null,null,null,null,null,null,null,null,{"$f":"IFERROR($E226*SUMIF('Daily Log'!$CN$18:$CN$1017,$B226,'Daily Log'!$CO$18:$CO$1017),0)","v":57}]
[null,"DI13 91304:IKAN BILIS",null,"KLKD-APPETIZER",1,6,null,null,null,null,null,null,null,null,null,null,null,null,null,null,null,null,null,null,null,null,null,null,null,null,null,null,null,null,null,null,{"$f":"IFERROR($E227*SUMIF('Daily Log'!$CN$18:$CN$1017,$B227,'Daily Log'!$CO$18:$CO$1017),0)","v":6}]
[null,"DI14 91305:THAI RL",null,"KLKD-APPETIZER",1,6,null,null,null,null,null,null,null,null,null,null,null,null,null,null,null,null,null,null,null,null,null,null,null,null,null,null,null,null,null,null,{"$f":"IFERROR($E228*SUMIF('Daily Log'!$CN$18:$CN$1017,$B228,'Daily Log'!$CO$18:$CO$1017),0)","v":6}]
[null,"DI15 91306:SLVR FISH",null,"KLKD-APPETIZER",1,0,null,null,null,null,null,null,null,null,null,null,null,null,null,null,null,null,null,null,null,null,null,null,null,null,null,null,null,null,null,null,{"$f":"IFERROR($E229*SUMIF('Daily Log'!$CN$18:$CN$1017,$B229,'Daily Log'!$CO$18:$CO$1017),0)","v":0}]
[null,"DI16 91307:D/F C.WING",null,"KLKD-APPETIZER",1,28,null,null,null,null,null,null,null,null,null,null,null,null,null,null,null,null,null,null,null,null,null,null,null,null,null,null,null,null,null,null,{"$f":"IFERROR($E230*SUMIF('Daily Log'!$CN$18:$CN$1017,$B230,'Daily Log'!$CO$18:$CO$1017),0)","v":28}]
[null,"DI17 91308:C/CALAMARI",null,"KLKD-APPETIZER",1,17,null,null,null,null,null,null,null,null,null,null,null,null,null,null,null,null,null,null,null,null,null,null,null,null,null,null,null,null,null,null,{"$f":"IFERROR($E231*SUMIF('Daily Log'!$CN$18:$CN$1017,$B231,'Daily Log'!$CO$18:$CO$1017),0)","v":17}]
[null,"DI18 91309:Mc O.RINGS",null,"KLKD-APPETIZER",1,8,null,null,null,null,null,null,null,null,null,null,null,null,null,null,null,null,null,null,null,null,null,null,null,null,null,null,null,null,null,null,{"$f":"IFERROR($E232*SUMIF('Daily Log'!$CN$18:$CN$1017,$B232,'Daily Log'!$CO$18:$CO$1017),0)","v":8}]
[null,"DI19 91310:McSPIRAL.F",null,"KLKD-APPETIZER",1,18,null,null,null,null,null,null,null,null,null,null,null,null,null,null,null,null,null,null,null,null,null,null,null,null,null,null,null,null,null,null,{"$f":"IFERROR($E233*SUMIF('Daily Log'!$CN$18:$CN$1017,$B233,'Daily Log'!$CO$18:$CO$1017),0)","v":18}]
[null,"DI20 91311Mc H/SMILES",null,"KLKD-APPETIZER",1,5,null,null,null,null,null,null,null,null,null,null,null,null,null,null,null,null,null,null,null,null,null,null,null,null,null,null,null,null,null,null,{"$f":"IFERROR($E234*SUMIF('Daily Log'!$CN$18:$CN$1017,$B234,'Daily Log'!$CO$18:$CO$1017),0)","v":5}]
[null,"DI21 91312:Mc HASH.B",null,"KLKD-APPETIZER",1,11,null,null,null,null,null,null,null,null,null,null,null,null,null,null,null,null,null,null,null,null,null,null,null,null,null,null,null,null,null,null,{"$f":"IFERROR($E235*SUMIF('Daily Log'!$CN$18:$CN$1017,$B235,'Daily Log'!$CO$18:$CO$1017),0)","v":11}]
[null,"DL01 3001:6'HAWAIIAN",null,"SIDE ORDER -APPETIZER (PIZZA)",1,7,null,null,null,null,null,null,null,null,null,null,null,null,null,null,null,null,null,null,null,null,null,null,null,null,null,null,null,null,null,null,{"$f":"IFERROR($E236*SUMIF('Daily Log'!$CN$18:$CN$1017,$B236,'Daily Log'!$CO$18:$CO$1017),0)","v":7}]
[null,"DL02 3002:6'SMOKE BBQ",null,"SIDE ORDER -APPETIZER (PIZZA)",1,4,null,null,null,null,null,null,null,null,null,null,null,null,null,null,null,null,null,null,null,null,null,null,null,null,null,null,null,null,null,null,{"$f":"IFERROR($E237*SUMIF('Daily Log'!$CN$18:$CN$1017,$B237,'Daily Log'!$CO$18:$CO$1017),0)","v":4}]
[null,"DL03 3003:6'SEAFOOD",null,"SIDE ORDER -APPETIZER (PIZZA)",1,3,null,null,null,null,null,null,null,null,null,null,null,null,null,null,null,null,null,null,null,null,null,null,null,null,null,null,null,null,null,null,{"$f":"IFERROR($E238*SUMIF('Daily Log'!$CN$18:$CN$1017,$B238,'Daily Log'!$CO$18:$CO$1017),0)","v":3}]
[null,"DL04 3004:6'SPICY BUF",null,"SIDE ORDER -APPETIZER (PIZZA)",1,3,null,null,null,null,null,null,null,null,null,null,null,null,null,null,null,null,null,null,null,null,null,null,null,null,null,null,null,null,null,null,{"$f":"IFERROR($E239*SUMIF('Daily Log'!$CN$18:$CN$1017,$B239,'Daily Log'!$CO$18:$CO$1017),0)","v":3}]
[null,"DL05 3005:6'VEGGIE",null,"SIDE ORDER -APPETIZER (PIZZA)",1,4,null,null,null,null,null,null,null,null,null,null,null,null,null,null,null,null,null,null,null,null,null,null,null,null,null,null,null,null,null,null,{"$f":"IFERROR($E240*SUMIF('Daily Log'!$CN$18:$CN$1017,$B240,'Daily Log'!$CO$18:$CO$1017),0)","v":4}]
[null,"DL06 3001:9'HAWAIIAN",null,"SIDE ORDER -APPETIZER (PIZZA)",1,0,null,null,null,null,null,null,null,null,null,null,null,null,null,null,null,null,null,null,null,null,null,null,null,null,null,null,null,null,null,null,{"$f":"IFERROR($E241*SUMIF('Daily Log'!$CN$18:$CN$1017,$B241,'Daily Log'!$CO$18:$CO$1017),0)","v":0}]
[null,"DL07 3002:9'SMOKED",null,"SIDE ORDER -APPETIZER (PIZZA)",1,0,null,null,null,null,null,null,null,null,null,null,null,null,null,null,null,null,null,null,null,null,null,null,null,null,null,null,null,null,null,null,{"$f":"IFERROR($E242*SUMIF('Daily Log'!$CN$18:$CN$1017,$B242,'Daily Log'!$CO$18:$CO$1017),0)","v":0}]
[null,"DL08 3003:9'SEAFOOD",null,"SIDE ORDER -APPETIZER (PIZZA)",1,0,null,null,null,null,null,null,null,null,null,null,null,null,null,null,null,null,null,null,null,null,null,null,null,null,null,null,null,null,null,null,{"$f":"IFERROR($E243*SUMIF('Daily Log'!$CN$18:$CN$1017,$B243,'Daily Log'!$CO$18:$CO$1017),0)","v":0}]
[null,"DL09 3004:9'SPICY B",null,"SIDE ORDER -APPETIZER (PIZZA)",1,0,null,null,null,null,null,null,null,null,null,null,null,null,null,null,null,null,null,null,null,null,null,null,null,null,null,null,null,null,null,null,{"$f":"IFERROR($E244*SUMIF('Daily Log'!$CN$18:$CN$1017,$B244,'Daily Log'!$CO$18:$CO$1017),0)","v":0}]
[null,"DL10 3005:9'VEGGIE",null,"SIDE ORDER -APPETIZER (PIZZA)",1,0,null,null,null,null,null,null,null,null,null,null,null,null,null,null,null,null,null,null,null,null,null,null,null,null,null,null,null,null,null,null,{"$f":"IFERROR($E245*SUMIF('Daily Log'!$CN$18:$CN$1017,$B245,'Daily Log'!$CO$18:$CO$1017),0)","v":0}]
[null,"DM01 SNACK PLATTER(A)",null,"PLATTER",1,28,null,null,null,null,null,null,null,null,null,null,null,null,null,null,null,null,null,null,null,null,null,null,null,null,null,null,null,null,null,null,{"$f":"IFERROR($E246*SUMIF('Daily Log'!$CN$18:$CN$1017,$B246,'Daily Log'!$CO$18:$CO$1017),0)","v":28}]
[null,"DM02 SNACK PLATTER(B)",null,"PLATTER",1,8,null,null,null,null,null,null,null,null,null,null,null,null,null,null,null,null,null,null,null,null,null,null,null,null,null,null,null,null,null,null,{"$f":"IFERROR($E247*SUMIF('Daily Log'!$CN$18:$CN$1017,$B247,'Daily Log'!$CO$18:$CO$1017),0)","v":8}]
[null,"DM03 CNY platter(A)",null,"PLATTER",1,0,null,null,null,null,null,null,null,null,null,null,null,null,null,null,null,null,null,null,null,null,null,null,null,null,null,null,null,null,null,null,{"$f":"IFERROR($E248*SUMIF('Daily Log'!$CN$18:$CN$1017,$B248,'Daily Log'!$CO$18:$CO$1017),0)","v":0}]
[null,"DM04 CNY platter (B)",null,"PLATTER",1,0,null,null,null,null,null,null,null,null,null,null,null,null,null,null,null,null,null,null,null,null,null,null,null,null,null,null,null,null,null,null,{"$f":"IFERROR($E249*SUMIF('Daily Log'!$CN$18:$CN$1017,$B249,'Daily Log'!$CO$18:$CO$1017),0)","v":0}]
[null,"GA01 DUNHILL",null,"CIGARETTE",1,0,null,null,null,null,null,null,null,null,null,null,null,null,null,null,null,null,null,null,null,null,null,null,null,null,null,null,null,null,null,null,{"$f":"IFERROR($E250*SUMIF('Daily Log'!$CN$18:$CN$1017,$B250,'Daily Log'!$CO$18:$CO$1017),0)","v":0}]
[null,"GA02 KENT",null,"CIGARETTE",1,0,null,null,null,null,null,null,null,null,null,null,null,null,null,null,null,null,null,null,null,null,null,null,null,null,null,null,null,null,null,null,{"$f":"IFERROR($E251*SUMIF('Daily Log'!$CN$18:$CN$1017,$B251,'Daily Log'!$CO$18:$CO$1017),0)","v":0}]
[null,"GE01 DUNHILL",null,"CIGARETTE",1,21,null,null,null,null,null,null,null,null,null,null,null,null,null,null,null,null,null,null,null,null,null,null,null,null,null,null,null,null,null,null,{"$f":"IFERROR($E252*SUMIF('Daily Log'!$CN$18:$CN$1017,$B252,'Daily Log'!$CO$18:$CO$1017),0)","v":21}]
[null,"GE02 DUNHILL LITE",null,"CIGARETTE",1,12,null,null,null,null,null,null,null,null,null,null,null,null,null,null,null,null,null,null,null,null,null,null,null,null,null,null,null,null,null,null,{"$f":"IFERROR($E253*SUMIF('Daily Log'!$CN$18:$CN$1017,$B253,'Daily Log'!$CO$18:$CO$1017),0)","v":12}]
[null,"GE03 DUNHILL MT",null,"CIGARETTE",1,9,null,null,null,null,null,null,null,null,null,null,null,null,null,null,null,null,null,null,null,null,null,null,null,null,null,null,null,null,null,null,{"$f":"IFERROR($E254*SUMIF('Daily Log'!$CN$18:$CN$1017,$B254,'Daily Log'!$CO$18:$CO$1017),0)","v":9}]
[null,"GE04 DUNHILL MT LITE",null,"CIGARETTE",1,6,null,null,null,null,null,null,null,null,null,null,null,null,null,null,null,null,null,null,null,null,null,null,null,null,null,null,null,null,null,null,{"$f":"IFERROR($E255*SUMIF('Daily Log'!$CN$18:$CN$1017,$B255,'Daily Log'!$CO$18:$CO$1017),0)","v":6}]
[null,"GE05 DUNHILL BOOST",null,"CIGARETTE",1,2,null,null,null,null,null,null,null,null,null,null,null,null,null,null,null,null,null,null,null,null,null,null,null,null,null,null,null,null,null,null,{"$f":"IFERROR($E256*SUMIF('Daily Log'!$CN$18:$CN$1017,$B256,'Daily Log'!$CO$18:$CO$1017),0)","v":2}]
[null,"GE06 DUNHILL SWITCH",null,"CIGARETTE",1,2,null,null,null,null,null,null,null,null,null,null,null,null,null,null,null,null,null,null,null,null,null,null,null,null,null,null,null,null,null,null,{"$f":"IFERROR($E257*SUMIF('Daily Log'!$CN$18:$CN$1017,$B257,'Daily Log'!$CO$18:$CO$1017),0)","v":2}]
[null,"GE07 DUNHILL ICE",null,"CIGARETTE",1,25,null,null,null,null,null,null,null,null,null,null,null,null,null,null,null,null,null,null,null,null,null,null,null,null,null,null,null,null,null,null,{"$f":"IFERROR($E258*SUMIF('Daily Log'!$CN$18:$CN$1017,$B258,'Daily Log'!$CO$18:$CO$1017),0)","v":25}]
[null,"GF01 KENT ORIGINAL",null,"CIGARETTE",1,0,null,null,null,null,null,null,null,null,null,null,null,null,null,null,null,null,null,null,null,null,null,null,null,null,null,null,null,null,null,null,{"$f":"IFERROR($E259*SUMIF('Daily Log'!$CN$18:$CN$1017,$B259,'Daily Log'!$CO$18:$CO$1017),0)","v":0}]
[null,"GF02 KENT FUTURA",null,"CIGARETTE",1,0,null,null,null,null,null,null,null,null,null,null,null,null,null,null,null,null,null,null,null,null,null,null,null,null,null,null,null,null,null,null,{"$f":"IFERROR($E260*SUMIF('Daily Log'!$CN$18:$CN$1017,$B260,'Daily Log'!$CO$18:$CO$1017),0)","v":0}]
[null,"GF03 KENT MINTEK",null,"CIGARETTE",1,0,null,null,null,null,null,null,null,null,null,null,null,null,null,null,null,null,null,null,null,null,null,null,null,null,null,null,null,null,null,null,{"$f":"IFERROR($E261*SUMIF('Daily Log'!$CN$18:$CN$1017,$B261,'Daily Log'!$CO$18:$CO$1017),0)","v":0}]
[null,"GF04 KENT NEO",null,"CIGARETTE",1,0,null,null,null,null,null,null,null,null,null,null,null,null,null,null,null,null,null,null,null,null,null,null,null,null,null,null,null,null,null,null,{"$f":"IFERROR($E262*SUMIF('Daily Log'!$CN$18:$CN$1017,$B262,'Daily Log'!$CO$18:$CO$1017),0)","v":0}]
[null,"ZAB01 1201:SFD STICK",null,"COMBO-SNAKCS",1,22,null,null,null,null,null,null,null,null,null,null,null,null,null,null,null,null,null,null,null,null,null,null,null,null,null,null,null,null,null,null,{"$f":"IFERROR($E263*SUMIF('Daily Log'!$CN$18:$CN$1017,$B263,'Daily Log'!$CO$18:$CO$1017),0)","v":22}]
[null,"ZAB02 1202:FRIES",null,"COMBO-SNAKCS",1,168,null,null,null,null,null,null,null,null,null,null,null,null,null,null,null,null,null,null,null,null,null,null,null,null,null,null,null,null,null,null,{"$f":"IFERROR($E264*SUMIF('Daily Log'!$CN$18:$CN$1017,$B264,'Daily Log'!$CO$18:$CO$1017),0)","v":168}]
[null,"ZAB03 1203:GOLD MROOM",null,"COMBO-SNAKCS",1,34,null,null,null,null,null,null,null,null,null,null,null,null,null,null,null,null,null,null,null,null,null,null,null,null,null,null,null,null,null,null,{"$f":"IFERROR($E265*SUMIF('Daily Log'!$CN$18:$CN$1017,$B265,'Daily Log'!$CO$18:$CO$1017),0)","v":34}]
[null,"ZAB04 1204:F.BALL",null,"COMBO-SNAKCS",1,41,null,null,null,null,null,null,null,null,null,null,null,null,null,null,null,null,null,null,null,null,null,null,null,null,null,null,null,null,null,null,{"$f":"IFERROR($E266*SUMIF('Daily Log'!$CN$18:$CN$1017,$B266,'Daily Log'!$CO$18:$CO$1017),0)","v":41}]
[null,"ZAB06 1206:SPRING RL",null,"COMBO-SNAKCS",1,50,null,null,null,null,null,null,null,null,null,null,null,null,null,null,null,null,null,null,null,null,null,null,null,null,null,null,null,null,null,null,{"$f":"IFERROR($E267*SUMIF('Daily Log'!$CN$18:$CN$1017,$B267,'Daily Log'!$CO$18:$CO$1017),0)","v":50}]
[null,"ZAB07 1207:SAUSAGE",null,"COMBO-SNAKCS",1,89,null,null,null,null,null,null,null,null,null,null,null,null,null,null,null,null,null,null,null,null,null,null,null,null,null,null,null,null,null,null,{"$f":"IFERROR($E268*SUMIF('Daily Log'!$CN$18:$CN$1017,$B268,'Daily Log'!$CO$18:$CO$1017),0)","v":89}]
[null,"ZAC02 1302:NUGGET",null,"COMBO-SNAKCS",1,62,null,null,null,null,null,null,null,null,null,null,null,null,null,null,null,null,null,null,null,null,null,null,null,null,null,null,null,null,null,null,{"$f":"IFERROR($E269*SUMIF('Daily Log'!$CN$18:$CN$1017,$B269,'Daily Log'!$CO$18:$CO$1017),0)","v":62}]
[null,"ZAC03 1303:CHK WING",null,"COMBO-SNAKCS",1,74,null,null,null,null,null,null,null,null,null,null,null,null,null,null,null,null,null,null,null,null,null,null,null,null,null,null,null,null,null,null,{"$f":"IFERROR($E270*SUMIF('Daily Log'!$CN$18:$CN$1017,$B270,'Daily Log'!$CO$18:$CO$1017),0)","v":74}]
[null,"ZAC04 1304:IKAN BILIS",null,"COMBO-SNAKCS",1,9,null,null,null,null,null,null,null,null,null,null,null,null,null,null,null,null,null,null,null,null,null,null,null,null,null,null,null,null,null,null,{"$f":"IFERROR($E271*SUMIF('Daily Log'!$CN$18:$CN$1017,$B271,'Daily Log'!$CO$18:$CO$1017),0)","v":9}]
[null,"ZAC05 1305:THAI RL",null,"COMBO-SNAKCS",1,16,null,null,null,null,null,null,null,null,null,null,null,null,null,null,null,null,null,null,null,null,null,null,null,null,null,null,null,null,null,null,{"$f":"IFERROR($E272*SUMIF('Daily Log'!$CN$18:$CN$1017,$B272,'Daily Log'!$CO$18:$CO$1017),0)","v":16}]
[null,"ZAC07 1307:D/F C.WINGS",null,"COMBO-SNAKCS",1,37,null,null,null,null,null,null,null,null,null,null,null,null,null,null,null,null,null,null,null,null,null,null,null,null,null,null,null,null,null,null,{"$f":"IFERROR($E273*SUMIF('Daily Log'!$CN$18:$CN$1017,$B273,'Daily Log'!$CO$18:$CO$1017),0)","v":37}]
[null,"ZAC08 1308:C/CALAMARI",null,"COMBO-SNAKCS",1,29,null,null,null,null,null,null,null,null,null,null,null,null,null,null,null,null,null,null,null,null,null,null,null,null,null,null,null,null,null,null,{"$f":"IFERROR($E274*SUMIF('Daily Log'!$CN$18:$CN$1017,$B274,'Daily Log'!$CO$18:$CO$1017),0)","v":29}]
[null,"ZAC09 1309:Mc /O.RINGS",null,"COMBO-SNAKCS",1,17,null,null,null,null,null,null,null,null,null,null,null,null,null,null,null,null,null,null,null,null,null,null,null,null,null,null,null,null,null,null,{"$f":"IFERROR($E275*SUMIF('Daily Log'!$CN$18:$CN$1017,$B275,'Daily Log'!$CO$18:$CO$1017),0)","v":17}]
[null,"ZAC10 1310:Mc SPIRAL/F",null,"COMBO-SNAKCS",1,17,null,null,null,null,null,null,null,null,null,null,null,null,null,null,null,null,null,null,null,null,null,null,null,null,null,null,null,null,null,null,{"$f":"IFERROR($E276*SUMIF('Daily Log'!$CN$18:$CN$1017,$B276,'Daily Log'!$CO$18:$CO$1017),0)","v":17}]
[null,"ZAC11 1311:Mc H/SMILES",null,"COMBO-SNAKCS",1,6,null,null,null,null,null,null,null,null,null,null,null,null,null,null,null,null,null,null,null,null,null,null,null,null,null,null,null,null,null,null,{"$f":"IFERROR($E277*SUMIF('Daily Log'!$CN$18:$CN$1017,$B277,'Daily Log'!$CO$18:$CO$1017),0)","v":6}]
[null,"ZAC12 1312:Mc HASH/B",null,"COMBO-SNAKCS",1,19,null,null,null,null,null,null,null,null,null,null,null,null,null,null,null,null,null,null,null,null,null,null,null,null,null,null,null,null,null,null,{"$f":"IFERROR($E278*SUMIF('Daily Log'!$CN$18:$CN$1017,$B278,'Daily Log'!$CO$18:$CO$1017),0)","v":19}]
[null,"JK002 LLB G.S C. CHOP",null,"LLB -MAIN COURSE ",1,1,null,null,null,null,null,null,null,null,null,null,null,null,null,null,null,null,null,null,null,null,null,null,null,null,null,null,null,null,null,null,{"$f":"IFERROR($E279*SUMIF('Daily Log'!$CN$18:$CN$1017,$B279,'Daily Log'!$CO$18:$CO$1017),0)","v":1}]
[null,"JK003 LLB MSR CHK CHOP",null,"LLB -MAIN COURSE ",1,1,null,null,null,null,null,null,null,null,null,null,null,null,null,null,null,null,null,null,null,null,null,null,null,null,null,null,null,null,null,null,{"$f":"IFERROR($E280*SUMIF('Daily Log'!$CN$18:$CN$1017,$B280,'Daily Log'!$CO$18:$CO$1017),0)","v":1}]
[null,"JK101 LLB Thai Chk Ric",null,"LLB -MAIN COURSE ",1,1,null,null,null,null,null,null,null,null,null,null,null,null,null,null,null,null,null,null,null,null,null,null,null,null,null,null,null,null,null,null,{"$f":"IFERROR($E281*SUMIF('Daily Log'!$CN$18:$CN$1017,$B281,'Daily Log'!$CO$18:$CO$1017),0)","v":1}]
[null,"JK102 Marmite Chk Rice",null,"LLB -MAIN COURSE ",1,3,null,null,null,null,null,null,null,null,null,null,null,null,null,null,null,null,null,null,null,null,null,null,null,null,null,null,null,null,null,null,{"$f":"IFERROR($E282*SUMIF('Daily Log'!$CN$18:$CN$1017,$B282,'Daily Log'!$CO$18:$CO$1017),0)","v":3}]
[null,"JK104 S&S Chk Rice",null,"LLB -MAIN COURSE ",1,2,null,null,null,null,null,null,null,null,null,null,null,null,null,null,null,null,null,null,null,null,null,null,null,null,null,null,null,null,null,null,{"$f":"IFERROR($E283*SUMIF('Daily Log'!$CN$18:$CN$1017,$B283,'Daily Log'!$CO$18:$CO$1017),0)","v":2}]
[null,"JK105 B.Cream.Chk Rice",null,"LLB -MAIN COURSE ",1,1,null,null,null,null,null,null,null,null,null,null,null,null,null,null,null,null,null,null,null,null,null,null,null,null,null,null,null,null,null,null,{"$f":"IFERROR($E284*SUMIF('Daily Log'!$CN$18:$CN$1017,$B284,'Daily Log'!$CO$18:$CO$1017),0)","v":1}]
[null,"JK106 H.K Fried Rice",null,"LLB -MAIN COURSE ",1,2,null,null,null,null,null,null,null,null,null,null,null,null,null,null,null,null,null,null,null,null,null,null,null,null,null,null,null,null,null,null,{"$f":"IFERROR($E285*SUMIF('Daily Log'!$CN$18:$CN$1017,$B285,'Daily Log'!$CO$18:$CO$1017),0)","v":2}]
[null,"JK109 LLB BP Udon Mee",null,"LLB -MAIN COURSE ",1,1,null,null,null,null,null,null,null,null,null,null,null,null,null,null,null,null,null,null,null,null,null,null,null,null,null,null,null,null,null,null,{"$f":"IFERROR($E286*SUMIF('Daily Log'!$CN$18:$CN$1017,$B286,'Daily Log'!$CO$18:$CO$1017),0)","v":1}]
[null,"JK111 LLB S.M.Ver Rice",null,"LLB -MAIN COURSE ",1,1,null,null,null,null,null,null,null,null,null,null,null,null,null,null,null,null,null,null,null,null,null,null,null,null,null,null,null,null,null,null,{"$f":"IFERROR($E287*SUMIF('Daily Log'!$CN$18:$CN$1017,$B287,'Daily Log'!$CO$18:$CO$1017),0)","v":1}]
[null,"JK116 LLB Mon.Chk Rice",null,"LLB -MAIN COURSE ",1,1,null,null,null,null,null,null,null,null,null,null,null,null,null,null,null,null,null,null,null,null,null,null,null,null,null,null,null,null,null,null,{"$f":"IFERROR($E288*SUMIF('Daily Log'!$CN$18:$CN$1017,$B288,'Daily Log'!$CO$18:$CO$1017),0)","v":1}]
[null,"JL001 6\" HAWAIIAN",null,"LLB -APPETIZER ",1,{"$f":"SUM($G289:$AK289)","v":0},null,null,null,null,null,null,null,null,null,null,null,null,null,null,null,null,null,null,null,null,null,null,null,null,null,null,null,null,null,null,{"$f":"IFERROR($E289*SUMIF('Daily Log'!$CN$18:$CN$1017,$B289,'Daily Log'!$CO$18:$CO$1017),0)","v":0}]
[null,"JM101 C.Chicken Sausag",null,"LLB -LOK LOK STICK ",1,3,null,null,null,null,null,null,null,null,null,null,null,null,null,null,null,null,null,null,null,null,null,null,null,null,null,null,null,null,null,null,{"$f":"IFERROR($E290*SUMIF('Daily Log'!$CN$18:$CN$1017,$B290,'Daily Log'!$CO$18:$CO$1017),0)","v":3}]
[null,"JM102 Beef Ball",null,"LLB -LOK LOK STICK ",1,2,null,null,null,null,null,null,null,null,null,null,null,null,null,null,null,null,null,null,null,null,null,null,null,null,null,null,null,null,null,null,{"$f":"IFERROR($E291*SUMIF('Daily Log'!$CN$18:$CN$1017,$B291,'Daily Log'!$CO$18:$CO$1017),0)","v":2}]
[null,"JM103 Chicken Kidney",null,"LLB -LOK LOK STICK ",1,3,null,null,null,null,null,null,null,null,null,null,null,null,null,null,null,null,null,null,null,null,null,null,null,null,null,null,null,null,null,null,{"$f":"IFERROR($E292*SUMIF('Daily Log'!$CN$18:$CN$1017,$B292,'Daily Log'!$CO$18:$CO$1017),0)","v":3}]
[null,"JM104 Chicken Liver",null,"LLB -LOK LOK STICK ",1,3,null,null,null,null,null,null,null,null,null,null,null,null,null,null,null,null,null,null,null,null,null,null,null,null,null,null,null,null,null,null,{"$f":"IFERROR($E293*SUMIF('Daily Log'!$CN$18:$CN$1017,$B293,'Daily Log'!$CO$18:$CO$1017),0)","v":3}]
[null,"JM105 Cheese C.Sausage",null,"LLB -LOK LOK STICK ",1,8,null,null,null,null,null,null,null,null,null,null,null,null,null,null,null,null,null,null,null,null,null,null,null,null,null,null,null,null,null,null,{"$f":"IFERROR($E294*SUMIF('Daily Log'!$CN$18:$CN$1017,$B294,'Daily Log'!$CO$18:$CO$1017),0)","v":8}]
[null,"JM106 B.P C.Sausage",null,"LLB -LOK LOK STICK ",1,5,null,null,null,null,null,null,null,null,null,null,null,null,null,null,null,null,null,null,null,null,null,null,null,null,null,null,null,null,null,null,{"$f":"IFERROR($E295*SUMIF('Daily Log'!$CN$18:$CN$1017,$B295,'Daily Log'!$CO$18:$CO$1017),0)","v":5}]
[null,"JM107 S.Fill beef Ball",null,"LLB -LOK LOK STICK ",1,2,null,null,null,null,null,null,null,null,null,null,null,null,null,null,null,null,null,null,null,null,null,null,null,null,null,null,null,null,null,null,{"$f":"IFERROR($E296*SUMIF('Daily Log'!$CN$18:$CN$1017,$B296,'Daily Log'!$CO$18:$CO$1017),0)","v":2}]
[null,"JM108 Pandan Chicken",null,"LLB -LOK LOK STICK ",1,5,null,null,null,null,null,null,null,null,null,null,null,null,null,null,null,null,null,null,null,null,null,null,null,null,null,null,null,null,null,null,{"$f":"IFERROR($E297*SUMIF('Daily Log'!$CN$18:$CN$1017,$B297,'Daily Log'!$CO$18:$CO$1017),0)","v":5}]
[null,"JM109 S. Duck Breast",null,"LLB -LOK LOK STICK ",1,7,null,null,null,null,null,null,null,null,null,null,null,null,null,null,null,null,null,null,null,null,null,null,null,null,null,null,null,null,null,null,{"$f":"IFERROR($E298*SUMIF('Daily Log'!$CN$18:$CN$1017,$B298,'Daily Log'!$CO$18:$CO$1017),0)","v":7}]
[null,"JM110 Grill.B.Chk.Wing",null,"LLB -LOK LOK STICK ",1,2,null,null,null,null,null,null,null,null,null,null,null,null,null,null,null,null,null,null,null,null,null,null,null,null,null,null,null,null,null,null,{"$f":"IFERROR($E299*SUMIF('Daily Log'!$CN$18:$CN$1017,$B299,'Daily Log'!$CO$18:$CO$1017),0)","v":2}]
[null,"JN211 Pork Meatball s",null,"LLB -LOK LOK STICK ",1,10,null,null,null,null,null,null,null,null,null,null,null,null,null,null,null,null,null,null,null,null,null,null,null,null,null,null,null,null,null,null,{"$f":"IFERROR($E300*SUMIF('Daily Log'!$CN$18:$CN$1017,$B300,'Daily Log'!$CO$18:$CO$1017),0)","v":10}]
[null,"JN212 Wu Xiang Roll s",null,"LLB -LOK LOK STICK ",1,4,null,null,null,null,null,null,null,null,null,null,null,null,null,null,null,null,null,null,null,null,null,null,null,null,null,null,null,null,null,null,{"$f":"IFERROR($E301*SUMIF('Daily Log'!$CN$18:$CN$1017,$B301,'Daily Log'!$CO$18:$CO$1017),0)","v":4}]
[null,"JN213 P. Sauage Slices",null,"LLB -LOK LOK STICK ",1,3,null,null,null,null,null,null,null,null,null,null,null,null,null,null,null,null,null,null,null,null,null,null,null,null,null,null,null,null,null,null,{"$f":"IFERROR($E302*SUMIF('Daily Log'!$CN$18:$CN$1017,$B302,'Daily Log'!$CO$18:$CO$1017),0)","v":3}]
[null,"JN214 Pork Dumplings",null,"LLB -LOK LOK STICK ",1,6,null,null,null,null,null,null,null,null,null,null,null,null,null,null,null,null,null,null,null,null,null,null,null,null,null,null,null,null,null,null,{"$f":"IFERROR($E303*SUMIF('Daily Log'!$CN$18:$CN$1017,$B303,'Daily Log'!$CO$18:$CO$1017),0)","v":6}]
[null,"JN215 Pork Meatball B",null,"LLB -LOK LOK STICK ",1,7,null,null,null,null,null,null,null,null,null,null,null,null,null,null,null,null,null,null,null,null,null,null,null,null,null,null,null,null,null,null,{"$f":"IFERROR($E304*SUMIF('Daily Log'!$CN$18:$CN$1017,$B304,'Daily Log'!$CO$18:$CO$1017),0)","v":7}]
[null,"JN216 Pork Liver",null,"LLB -LOK LOK STICK ",1,3,null,null,null,null,null,null,null,null,null,null,null,null,null,null,null,null,null,null,null,null,null,null,null,null,null,null,null,null,null,null,{"$f":"IFERROR($E305*SUMIF('Daily Log'!$CN$18:$CN$1017,$B305,'Daily Log'!$CO$18:$CO$1017),0)","v":3}]
[null,"JN217 Taiwan Sausage",null,"LLB -LOK LOK STICK ",1,23,null,null,null,null,null,null,null,null,null,null,null,null,null,null,null,null,null,null,null,null,null,null,null,null,null,null,null,null,null,null,{"$f":"IFERROR($E306*SUMIF('Daily Log'!$CN$18:$CN$1017,$B306,'Daily Log'!$CO$18:$CO$1017),0)","v":23}]
[null,"JN218 Bacon",null,"LLB -LOK LOK STICK ",1,4,null,null,null,null,null,null,null,null,null,null,null,null,null,null,null,null,null,null,null,null,null,null,null,null,null,null,null,null,null,null,{"$f":"IFERROR($E307*SUMIF('Daily Log'!$CN$18:$CN$1017,$B307,'Daily Log'!$CO$18:$CO$1017),0)","v":4}]
[null,"JN219 Pork Rinds",null,"LLB -LOK LOK STICK ",1,1,null,null,null,null,null,null,null,null,null,null,null,null,null,null,null,null,null,null,null,null,null,null,null,null,null,null,null,null,null,null,{"$f":"IFERROR($E308*SUMIF('Daily Log'!$CN$18:$CN$1017,$B308,'Daily Log'!$CO$18:$CO$1017),0)","v":1}]
[null,"JN220 Sauce Filll Ball",null,"LLB -LOK LOK STICK ",1,4,null,null,null,null,null,null,null,null,null,null,null,null,null,null,null,null,null,null,null,null,null,null,null,null,null,null,null,null,null,null,{"$f":"IFERROR($E309*SUMIF('Daily Log'!$CN$18:$CN$1017,$B309,'Daily Log'!$CO$18:$CO$1017),0)","v":4}]
[null,"JN221 Roasted Pork",null,"LLB -LOK LOK STICK ",1,11,null,null,null,null,null,null,null,null,null,null,null,null,null,null,null,null,null,null,null,null,null,null,null,null,null,null,null,null,null,null,{"$f":"IFERROR($E310*SUMIF('Daily Log'!$CN$18:$CN$1017,$B310,'Daily Log'!$CO$18:$CO$1017),0)","v":11}]
[null,"JN222 Enoki Bacon Roll",null,"LLB -LOK LOK STICK ",1,7,null,null,null,null,null,null,null,null,null,null,null,null,null,null,null,null,null,null,null,null,null,null,null,null,null,null,null,null,null,null,{"$f":"IFERROR($E311*SUMIF('Daily Log'!$CN$18:$CN$1017,$B311,'Daily Log'!$CO$18:$CO$1017),0)","v":7}]
[null,"JO323 Fish Wanton",null,"LLB -LOK LOK STICK ",1,1,null,null,null,null,null,null,null,null,null,null,null,null,null,null,null,null,null,null,null,null,null,null,null,null,null,null,null,null,null,null,{"$f":"IFERROR($E312*SUMIF('Daily Log'!$CN$18:$CN$1017,$B312,'Daily Log'!$CO$18:$CO$1017),0)","v":1}]
[null,"JO324 M. Fried F. Cake",null,"LLB -LOK LOK STICK ",1,4,null,null,null,null,null,null,null,null,null,null,null,null,null,null,null,null,null,null,null,null,null,null,null,null,null,null,null,null,null,null,{"$f":"IFERROR($E313*SUMIF('Daily Log'!$CN$18:$CN$1017,$B313,'Daily Log'!$CO$18:$CO$1017),0)","v":4}]
[null,"JO325 Spicy Fish Cake",null,"LLB -LOK LOK STICK ",1,1,null,null,null,null,null,null,null,null,null,null,null,null,null,null,null,null,null,null,null,null,null,null,null,null,null,null,null,null,null,null,{"$f":"IFERROR($E314*SUMIF('Daily Log'!$CN$18:$CN$1017,$B314,'Daily Log'!$CO$18:$CO$1017),0)","v":1}]
[null,"JO326 Fresh Clam",null,"LLB -LOK LOK STICK ",1,20,null,null,null,null,null,null,null,null,null,null,null,null,null,null,null,null,null,null,null,null,null,null,null,null,null,null,null,null,null,null,{"$f":"IFERROR($E315*SUMIF('Daily Log'!$CN$18:$CN$1017,$B315,'Daily Log'!$CO$18:$CO$1017),0)","v":20}]
[null,"JO327 Wu Xiang F.Ball",null,"LLB -LOK LOK STICK ",1,2,null,null,null,null,null,null,null,null,null,null,null,null,null,null,null,null,null,null,null,null,null,null,null,null,null,null,null,null,null,null,{"$f":"IFERROR($E316*SUMIF('Daily Log'!$CN$18:$CN$1017,$B316,'Daily Log'!$CO$18:$CO$1017),0)","v":2}]
[null,"JO328 Xi Dao Fish Ball",null,"LLB -LOK LOK STICK ",1,10,null,null,null,null,null,null,null,null,null,null,null,null,null,null,null,null,null,null,null,null,null,null,null,null,null,null,null,null,null,null,{"$f":"IFERROR($E317*SUMIF('Daily Log'!$CN$18:$CN$1017,$B317,'Daily Log'!$CO$18:$CO$1017),0)","v":10}]
[null,"JO329 Fish Ball (S)",null,"LLB -LOK LOK STICK ",1,5,null,null,null,null,null,null,null,null,null,null,null,null,null,null,null,null,null,null,null,null,null,null,null,null,null,null,null,null,null,null,{"$f":"IFERROR($E318*SUMIF('Daily Log'!$CN$18:$CN$1017,$B318,'Daily Log'!$CO$18:$CO$1017),0)","v":5}]
[null,"JO330 Tofu Fish Ball",null,"LLB -LOK LOK STICK ",1,4,null,null,null,null,null,null,null,null,null,null,null,null,null,null,null,null,null,null,null,null,null,null,null,null,null,null,null,null,null,null,{"$f":"IFERROR($E319*SUMIF('Daily Log'!$CN$18:$CN$1017,$B319,'Daily Log'!$CO$18:$CO$1017),0)","v":4}]
[null,"JO331 Prawn Ball",null,"LLB -LOK LOK STICK ",1,2,null,null,null,null,null,null,null,null,null,null,null,null,null,null,null,null,null,null,null,null,null,null,null,null,null,null,null,null,null,null,{"$f":"IFERROR($E320*SUMIF('Daily Log'!$CN$18:$CN$1017,$B320,'Daily Log'!$CO$18:$CO$1017),0)","v":2}]
[null,"JO332 Abalone Slices",null,"LLB -LOK LOK STICK ",1,4,null,null,null,null,null,null,null,null,null,null,null,null,null,null,null,null,null,null,null,null,null,null,null,null,null,null,null,null,null,null,{"$f":"IFERROR($E321*SUMIF('Daily Log'!$CN$18:$CN$1017,$B321,'Daily Log'!$CO$18:$CO$1017),0)","v":4}]
[null,"JO333 Prawn C. sausage",null,"LLB -LOK LOK STICK ",1,1,null,null,null,null,null,null,null,null,null,null,null,null,null,null,null,null,null,null,null,null,null,null,null,null,null,null,null,null,null,null,{"$f":"IFERROR($E322*SUMIF('Daily Log'!$CN$18:$CN$1017,$B322,'Daily Log'!$CO$18:$CO$1017),0)","v":1}]
[null,"JO334 FISH BALL BIG",null,"LLB -LOK LOK STICK ",1,2,null,null,null,null,null,null,null,null,null,null,null,null,null,null,null,null,null,null,null,null,null,null,null,null,null,null,null,null,null,null,{"$f":"IFERROR($E323*SUMIF('Daily Log'!$CN$18:$CN$1017,$B323,'Daily Log'!$CO$18:$CO$1017),0)","v":2}]
[null,"JO335 Tempura Prawn",null,"LLB -LOK LOK STICK ",1,3,null,null,null,null,null,null,null,null,null,null,null,null,null,null,null,null,null,null,null,null,null,null,null,null,null,null,null,null,null,null,{"$f":"IFERROR($E324*SUMIF('Daily Log'!$CN$18:$CN$1017,$B324,'Daily Log'!$CO$18:$CO$1017),0)","v":3}]
[null,"JO336 Breaded CarbClaw",null,"LLB -LOK LOK STICK ",1,4,null,null,null,null,null,null,null,null,null,null,null,null,null,null,null,null,null,null,null,null,null,null,null,null,null,null,null,null,null,null,{"$f":"IFERROR($E325*SUMIF('Daily Log'!$CN$18:$CN$1017,$B325,'Daily Log'!$CO$18:$CO$1017),0)","v":4}]
[null,"JO338 Otak Fish Paste",null,"LLB -LOK LOK STICK ",1,8,null,null,null,null,null,null,null,null,null,null,null,null,null,null,null,null,null,null,null,null,null,null,null,null,null,null,null,null,null,null,{"$f":"IFERROR($E326*SUMIF('Daily Log'!$CN$18:$CN$1017,$B326,'Daily Log'!$CO$18:$CO$1017),0)","v":8}]
[null,"JO339 Salmon Ball",null,"LLB -LOK LOK STICK ",1,1,null,null,null,null,null,null,null,null,null,null,null,null,null,null,null,null,null,null,null,null,null,null,null,null,null,null,null,null,null,null,{"$f":"IFERROR($E327*SUMIF('Daily Log'!$CN$18:$CN$1017,$B327,'Daily Log'!$CO$18:$CO$1017),0)","v":1}]
[null,"JO341 Scallop Ball",null,"LLB -LOK LOK STICK ",1,4,null,null,null,null,null,null,null,null,null,null,null,null,null,null,null,null,null,null,null,null,null,null,null,null,null,null,null,null,null,null,{"$f":"IFERROR($E328*SUMIF('Daily Log'!$CN$18:$CN$1017,$B328,'Daily Log'!$CO$18:$CO$1017),0)","v":4}]
[null,"JO342 Taiwan C.F. Ball",null,"LLB -LOK LOK STICK ",1,1,null,null,null,null,null,null,null,null,null,null,null,null,null,null,null,null,null,null,null,null,null,null,null,null,null,null,null,null,null,null,{"$f":"IFERROR($E329*SUMIF('Daily Log'!$CN$18:$CN$1017,$B329,'Daily Log'!$CO$18:$CO$1017),0)","v":1}]
[null,"JO343 Cuttlefish Roll",null,"LLB -LOK LOK STICK ",1,2,null,null,null,null,null,null,null,null,null,null,null,null,null,null,null,null,null,null,null,null,null,null,null,null,null,null,null,null,null,null,{"$f":"IFERROR($E330*SUMIF('Daily Log'!$CN$18:$CN$1017,$B330,'Daily Log'!$CO$18:$CO$1017),0)","v":2}]
[null,"JO344 M.Seafood Ball",null,"LLB -LOK LOK STICK ",1,1,null,null,null,null,null,null,null,null,null,null,null,null,null,null,null,null,null,null,null,null,null,null,null,null,null,null,null,null,null,null,{"$f":"IFERROR($E331*SUMIF('Daily Log'!$CN$18:$CN$1017,$B331,'Daily Log'!$CO$18:$CO$1017),0)","v":1}]
[null,"JO345 Cuttlefish",null,"LLB -LOK LOK STICK ",1,12,null,null,null,null,null,null,null,null,null,null,null,null,null,null,null,null,null,null,null,null,null,null,null,null,null,null,null,null,null,null,{"$f":"IFERROR($E332*SUMIF('Daily Log'!$CN$18:$CN$1017,$B332,'Daily Log'!$CO$18:$CO$1017),0)","v":12}]
[null,"JO346 Shisamo",null,"LLB -LOK LOK STICK ",1,9,null,null,null,null,null,null,null,null,null,null,null,null,null,null,null,null,null,null,null,null,null,null,null,null,null,null,null,null,null,null,{"$f":"IFERROR($E333*SUMIF('Daily Log'!$CN$18:$CN$1017,$B333,'Daily Log'!$CO$18:$CO$1017),0)","v":9}]
[null,"JO347 Tiger Prawn",null,"LLB -LOK LOK STICK ",1,6,null,null,null,null,null,null,null,null,null,null,null,null,null,null,null,null,null,null,null,null,null,null,null,null,null,null,null,null,null,null,{"$f":"IFERROR($E334*SUMIF('Daily Log'!$CN$18:$CN$1017,$B334,'Daily Log'!$CO$18:$CO$1017),0)","v":6}]
[null,"JP448 Botton Mushroom",null,"LLB -LOK LOK STICK ",1,5,null,null,null,null,null,null,null,null,null,null,null,null,null,null,null,null,null,null,null,null,null,null,null,null,null,null,null,null,null,null,{"$f":"IFERROR($E335*SUMIF('Daily Log'!$CN$18:$CN$1017,$B335,'Daily Log'!$CO$18:$CO$1017),0)","v":5}]
[null,"JP449 Kang Kong",null,"LLB -LOK LOK STICK ",1,10,null,null,null,null,null,null,null,null,null,null,null,null,null,null,null,null,null,null,null,null,null,null,null,null,null,null,null,null,null,null,{"$f":"IFERROR($E336*SUMIF('Daily Log'!$CN$18:$CN$1017,$B336,'Daily Log'!$CO$18:$CO$1017),0)","v":10}]
[null,"JP450 Broccali",null,"LLB -LOK LOK STICK ",1,16,null,null,null,null,null,null,null,null,null,null,null,null,null,null,null,null,null,null,null,null,null,null,null,null,null,null,null,null,null,null,{"$f":"IFERROR($E337*SUMIF('Daily Log'!$CN$18:$CN$1017,$B337,'Daily Log'!$CO$18:$CO$1017),0)","v":16}]
[null,"JP451 Long Bean",null,"LLB -LOK LOK STICK ",1,5,null,null,null,null,null,null,null,null,null,null,null,null,null,null,null,null,null,null,null,null,null,null,null,null,null,null,null,null,null,null,{"$f":"IFERROR($E338*SUMIF('Daily Log'!$CN$18:$CN$1017,$B338,'Daily Log'!$CO$18:$CO$1017),0)","v":5}]
[null,"JP452 Fried A.Mushroom",null,"LLB -LOK LOK STICK ",1,11,null,null,null,null,null,null,null,null,null,null,null,null,null,null,null,null,null,null,null,null,null,null,null,null,null,null,null,null,null,null,{"$f":"IFERROR($E339*SUMIF('Daily Log'!$CN$18:$CN$1017,$B339,'Daily Log'!$CO$18:$CO$1017),0)","v":11}]
[null,"JP453 Shiitake Mushrom",null,"LLB -LOK LOK STICK ",1,6,null,null,null,null,null,null,null,null,null,null,null,null,null,null,null,null,null,null,null,null,null,null,null,null,null,null,null,null,null,null,{"$f":"IFERROR($E340*SUMIF('Daily Log'!$CN$18:$CN$1017,$B340,'Daily Log'!$CO$18:$CO$1017),0)","v":6}]
[null,"JQ554 M.Fish Eggplant",null,"LLB -LOK LOK STICK ",1,3,null,null,null,null,null,null,null,null,null,null,null,null,null,null,null,null,null,null,null,null,null,null,null,null,null,null,null,null,null,null,{"$f":"IFERROR($E341*SUMIF('Daily Log'!$CN$18:$CN$1017,$B341,'Daily Log'!$CO$18:$CO$1017),0)","v":3}]
[null,"JQ555 M.Fish Chilli",null,"LLB -LOK LOK STICK ",1,2,null,null,null,null,null,null,null,null,null,null,null,null,null,null,null,null,null,null,null,null,null,null,null,null,null,null,null,null,null,null,{"$f":"IFERROR($E342*SUMIF('Daily Log'!$CN$18:$CN$1017,$B342,'Daily Log'!$CO$18:$CO$1017),0)","v":2}]
[null,"JQ556 M.Fish Lady's F",null,"LLB -LOK LOK STICK ",1,2,null,null,null,null,null,null,null,null,null,null,null,null,null,null,null,null,null,null,null,null,null,null,null,null,null,null,null,null,null,null,{"$f":"IFERROR($E343*SUMIF('Daily Log'!$CN$18:$CN$1017,$B343,'Daily Log'!$CO$18:$CO$1017),0)","v":2}]
[null,"JQ557 Chrisy Beabcurd",null,"LLB -LOK LOK STICK ",1,11,null,null,null,null,null,null,null,null,null,null,null,null,null,null,null,null,null,null,null,null,null,null,null,null,null,null,null,null,null,null,{"$f":"IFERROR($E344*SUMIF('Daily Log'!$CN$18:$CN$1017,$B344,'Daily Log'!$CO$18:$CO$1017),0)","v":11}]
[null,"JQ558 Quail Eggs",null,"LLB -LOK LOK STICK ",1,13,null,null,null,null,null,null,null,null,null,null,null,null,null,null,null,null,null,null,null,null,null,null,null,null,null,null,null,null,null,null,{"$f":"IFERROR($E345*SUMIF('Daily Log'!$CN$18:$CN$1017,$B345,'Daily Log'!$CO$18:$CO$1017),0)","v":13}]
[null,"JQ559 Fried Wanton",null,"LLB -LOK LOK STICK ",1,8,null,null,null,null,null,null,null,null,null,null,null,null,null,null,null,null,null,null,null,null,null,null,null,null,null,null,null,null,null,null,{"$f":"IFERROR($E346*SUMIF('Daily Log'!$CN$18:$CN$1017,$B346,'Daily Log'!$CO$18:$CO$1017),0)","v":8}]
[null,"JQ560 L.G.Potato Samos",null,"LLB -LOK LOK STICK ",1,2,null,null,null,null,null,null,null,null,null,null,null,null,null,null,null,null,null,null,null,null,null,null,null,null,null,null,null,null,null,null,{"$f":"IFERROR($E347*SUMIF('Daily Log'!$CN$18:$CN$1017,$B347,'Daily Log'!$CO$18:$CO$1017),0)","v":2}]
[null,"JQ561 F.Vege Ball",null,"LLB -LOK LOK STICK ",1,1,null,null,null,null,null,null,null,null,null,null,null,null,null,null,null,null,null,null,null,null,null,null,null,null,null,null,null,null,null,null,{"$f":"IFERROR($E348*SUMIF('Daily Log'!$CN$18:$CN$1017,$B348,'Daily Log'!$CO$18:$CO$1017),0)","v":1}]
[null,"JQ563 Seafood Tofu",null,"LLB -LOK LOK STICK ",1,3,null,null,null,null,null,null,null,null,null,null,null,null,null,null,null,null,null,null,null,null,null,null,null,null,null,null,null,null,null,null,{"$f":"IFERROR($E349*SUMIF('Daily Log'!$CN$18:$CN$1017,$B349,'Daily Log'!$CO$18:$CO$1017),0)","v":3}]
[null,"JQ564 Spring Roll",null,"LLB -LOK LOK STICK ",1,1,null,null,null,null,null,null,null,null,null,null,null,null,null,null,null,null,null,null,null,null,null,null,null,null,null,null,null,null,null,null,{"$f":"IFERROR($E350*SUMIF('Daily Log'!$CN$18:$CN$1017,$B350,'Daily Log'!$CO$18:$CO$1017),0)","v":1}]
[null,"JQ565 Quail Century Eg",null,"LLB -LOK LOK STICK ",1,3,null,null,null,null,null,null,null,null,null,null,null,null,null,null,null,null,null,null,null,null,null,null,null,null,null,null,null,null,null,null,{"$f":"IFERROR($E351*SUMIF('Daily Log'!$CN$18:$CN$1017,$B351,'Daily Log'!$CO$18:$CO$1017),0)","v":3}]
[null,"JQ566 Thai Roll",null,"LLB -LOK LOK STICK ",1,4,null,null,null,null,null,null,null,null,null,null,null,null,null,null,null,null,null,null,null,null,null,null,null,null,null,null,null,null,null,null,{"$f":"IFERROR($E352*SUMIF('Daily Log'!$CN$18:$CN$1017,$B352,'Daily Log'!$CO$18:$CO$1017),0)","v":4}]
[null,"JQ567 Cheese S.Tofu",null,"LLB -LOK LOK STICK ",1,{"$f":"SUM($G353:$AK353)","v":2},null,null,null,null,null,null,null,null,null,null,null,null,null,null,null,null,null,null,null,null,null,null,null,null,null,null,null,null,null,null,{"$f":"IFERROR($E353*SUMIF('Daily Log'!$CN$18:$CN$1017,$B353,'Daily Log'!$CO$18:$CO$1017),0)","v":2}]
[null,"JQ568 Rice Skin  Roll",null,"LLB -LOK LOK STICK ",1,13,null,null,null,null,null,null,null,null,null,null,null,null,null,null,null,null,null,null,null,null,null,null,null,null,null,null,null,null,null,null,{"$f":"IFERROR($E354*SUMIF('Daily Log'!$CN$18:$CN$1017,$B354,'Daily Log'!$CO$18:$CO$1017),0)","v":13}]
[null,null,null,null,1,0,null,null,null,null,null,null,null,null,null,null,null,null,null,null,null,null,null,null,null,null,null,null,null,null,null,null,null,null,null,null,{"$f":"IFERROR($E355*SUMIF('Daily Log'!$CN$18:$CN$1017,$B355,'Daily Log'!$CO$18:$CO$1017),0)","v":0}]
[null,null,null,null,null,{"$f":"SUM($G356:$AK356)","v":0},null,null,null,null,null,null,null,null,null,null,null,null,null,null,null,null,null,null,null,null,null,null,null,null,null,null,null,null,null,null,{"$f":"IFERROR($E356*SUMIF('[3]Daily Log'!$CN$18:$CN$1017,$B356,'[3]Daily Log'!$CO$18:$CO$1017),0)","v":0}]
[null,null,null,null,null,0,null,null,null,null,null,null,null,null,null,null,null,null,null,null,null,null,null,null,null,null,null,null,null,null,null,null,null,null,null,null,{"$f":"IFERROR($E357*SUMIF('[3]Daily Log'!$CN$18:$CN$1017,$B357,'[3]Daily Log'!$CO$18:$CO$1017),0)","v":0}]
[null,null,null,null,null,0,null,null,null,null,null,null,null,null,null,null,null,null,null,null,null,null,null,null,null,null,null,null,null,null,null,null,null,null,null,null,{"$f":"IFERROR($E358*SUMIF('[3]Daily Log'!$CN$18:$CN$1017,$B358,'[3]Daily Log'!$CO$18:$CO$1017),0)","v":0}]
[null,null,null,null,null,0,null,null,null,null,null,null,null,null,null,null,null,null,null,null,null,null,null,null,null,null,null,null,null,null,null,null,null,null,null,null,{"$f":"IFERROR($E359*SUMIF('[3]Daily Log'!$CN$18:$CN$1017,$B359,'[3]Daily Log'!$CO$18:$CO$1017),0)","v":0}]
[null,null,null,null,null,0,null,null,null,null,null,null,null,null,null,null,null,null,null,null,null,null,null,null,null,null,null,null,null,null,null,null,null,null,null,null,{"$f":"IFERROR($E360*SUMIF('[3]Daily Log'!$CN$18:$CN$1017,$B360,'[3]Daily Log'!$CO$18:$CO$1017),0)","v":0}]
[null,null,null,null,null,0,null,null,null,null,null,null,null,null,null,null,null,null,null,null,null,null,null,null,null,null,null,null,null,null,null,null,null,null,null,null,{"$f":"IFERROR($E361*SUMIF('[3]Daily Log'!$CN$18:$CN$1017,$B361,'[3]Daily Log'!$CO$18:$CO$1017),0)","v":0}]
[null,null,null,null,null,0,null,null,null,null,null,null,null,null,null,null,null,null,null,null,null,null,null,null,null,null,null,null,null,null,null,null,null,null,null,null,{"$f":"IFERROR($E362*SUMIF('[3]Daily Log'!$CN$18:$CN$1017,$B362,'[3]Daily Log'!$CO$18:$CO$1017),0)","v":0}]
[null,null,null,null,null,0,null,null,null,null,null,null,null,null,null,null,null,null,null,null,null,null,null,null,null,null,null,null,null,null,null,null,null,null,null,null,{"$f":"IFERROR($E363*SUMIF('[3]Daily Log'!$CN$18:$CN$1017,$B363,'[3]Daily Log'!$CO$18:$CO$1017),0)","v":0}]
[null,null,null,null,null,0,null,null,null,null,null,null,null,null,null,null,null,null,null,null,null,null,null,null,null,null,null,null,null,null,null,null,null,null,null,null,{"$f":"IFERROR($E364*SUMIF('[3]Daily Log'!$CN$18:$CN$1017,$B364,'[3]Daily Log'!$CO$18:$CO$1017),0)","v":0}]
[null,null,null,null,null,0,null,null,null,null,null,null,null,null,null,null,null,null,null,null,null,null,null,null,null,null,null,null,null,null,null,null,null,null,null,null,{"$f":"IFERROR($E365*SUMIF('[3]Daily Log'!$CN$18:$CN$1017,$B365,'[3]Daily Log'!$CO$18:$CO$1017),0)","v":0}]
[null,null,null,null,null,0,null,null,null,null,null,null,null,null,null,null,null,null,null,null,null,null,null,null,null,null,null,null,null,null,null,null,null,null,null,null,{"$f":"IFERROR($E366*SUMIF('[3]Daily Log'!$CN$18:$CN$1017,$B366,'[3]Daily Log'!$CO$18:$CO$1017),0)","v":0}]
[null,null,null,null,null,0,null,null,null,null,null,null,null,null,null,null,null,null,null,null,null,null,null,null,null,null,null,null,null,null,null,null,null,null,null,null,{"$f":"IFERROR($E367*SUMIF('[3]Daily Log'!$CN$18:$CN$1017,$B367,'[3]Daily Log'!$CO$18:$CO$1017),0)","v":0}]
[null,null,null,null,null,0,null,null,null,null,null,null,null,null,null,null,null,null,null,null,null,null,null,null,null,null,null,null,null,null,null,null,null,null,null,null,{"$f":"IFERROR($E368*SUMIF('[3]Daily Log'!$CN$18:$CN$1017,$B368,'[3]Daily Log'!$CO$18:$CO$1017),0)","v":0}]
[null,null,null,null,null,0,null,null,null,null,null,null,null,null,null,null,null,null,null,null,null,null,null,null,null,null,null,null,null,null,null,null,null,null,null,null,{"$f":"IFERROR($E369*SUMIF('[3]Daily Log'!$CN$18:$CN$1017,$B369,'[3]Daily Log'!$CO$18:$CO$1017),0)","v":0}]
[null,null,null,null,null,0,null,null,null,null,null,null,null,null,null,null,null,null,null,null,null,null,null,null,null,null,null,null,null,null,null,null,null,null,null,null,{"$f":"IFERROR($E370*SUMIF('[3]Daily Log'!$CN$18:$CN$1017,$B370,'[3]Daily Log'!$CO$18:$CO$1017),0)","v":0}]
[null,null,null,null,null,0,null,null,null,null,null,null,null,null,null,null,null,null,null,null,null,null,null,null,null,null,null,null,null,null,null,null,null,null,null,null,{"$f":"IFERROR($E371*SUMIF('[3]Daily Log'!$CN$18:$CN$1017,$B371,'[3]Daily Log'!$CO$18:$CO$1017),0)","v":0}]
[null,null,null,null,null,0,null,null,null,null,null,null,null,null,null,null,null,null,null,null,null,null,null,null,null,null,null,null,null,null,null,null,null,null,null,null,{"$f":"IFERROR($E372*SUMIF('[3]Daily Log'!$CN$18:$CN$1017,$B372,'[3]Daily Log'!$CO$18:$CO$1017),0)","v":0}]
[null,null,null,null,null,0,null,null,null,null,null,null,null,null,null,null,null,null,null,null,null,null,null,null,null,null,null,null,null,null,null,null,null,null,null,null,{"$f":"IFERROR($E373*SUMIF('[3]Daily Log'!$CN$18:$CN$1017,$B373,'[3]Daily Log'!$CO$18:$CO$1017),0)","v":0}]
[null,null,null,null,null,0,null,null,null,null,null,null,null,null,null,null,null,null,null,null,null,null,null,null,null,null,null,null,null,null,null,null,null,null,null,null,{"$f":"IFERROR($E374*SUMIF('[3]Daily Log'!$CN$18:$CN$1017,$B374,'[3]Daily Log'!$CO$18:$CO$1017),0)","v":0}]
[null,null,null,null,null,0,null,null,null,null,null,null,null,null,null,null,null,null,null,null,null,null,null,null,null,null,null,null,null,null,null,null,null,null,null,null,{"$f":"IFERROR($E375*SUMIF('[3]Daily Log'!$CN$18:$CN$1017,$B375,'[3]Daily Log'!$CO$18:$CO$1017),0)","v":0}]
[null,null,null,null,null,0,null,null,null,null,null,null,null,null,null,null,null,null,null,null,null,null,null,null,null,null,null,null,null,null,null,null,null,null,null,null,{"$f":"IFERROR($E376*SUMIF('[3]Daily Log'!$CN$18:$CN$1017,$B376,'[3]Daily Log'!$CO$18:$CO$1017),0)","v":0}]
[null,null,null,null,null,0,null,null,null,null,null,null,null,null,null,null,null,null,null,null,null,null,null,null,null,null,null,null,null,null,null,null,null,null,null,null,{"$f":"IFERROR($E377*SUMIF('[3]Daily Log'!$CN$18:$CN$1017,$B377,'[3]Daily Log'!$CO$18:$CO$1017),0)","v":0}]
[null,null,null,null,null,0,null,null,null,null,null,null,null,null,null,null,null,null,null,null,null,null,null,null,null,null,null,null,null,null,null,null,null,null,null,null,{"$f":"IFERROR($E378*SUMIF('[3]Daily Log'!$CN$18:$CN$1017,$B378,'[3]Daily Log'!$CO$18:$CO$1017),0)","v":0}]
[null,null,null,null,null,0,null,null,null,null,null,null,null,null,null,null,null,null,null,null,null,null,null,null,null,null,null,null,null,null,null,null,null,null,null,null,{"$f":"IFERROR($E379*SUMIF('[3]Daily Log'!$CN$18:$CN$1017,$B379,'[3]Daily Log'!$CO$18:$CO$1017),0)","v":0}]
[null,null,null,null,null,0,null,null,null,null,null,null,null,null,null,null,null,null,null,null,null,null,null,null,null,null,null,null,null,null,null,null,null,null,null,null,{"$f":"IFERROR($E380*SUMIF('[3]Daily Log'!$CN$18:$CN$1017,$B380,'[3]Daily Log'!$CO$18:$CO$1017),0)","v":0}]
[null,null,null,null,null,0,null,null,null,null,null,null,null,null,null,null,null,null,null,null,null,null,null,null,null,null,null,null,null,null,null,null,null,null,null,null,{"$f":"IFERROR($E381*SUMIF('[3]Daily Log'!$CN$18:$CN$1017,$B381,'[3]Daily Log'!$CO$18:$CO$1017),0)","v":0}]
[null,null,null,null,null,0,null,null,null,null,null,null,null,null,null,null,null,null,null,null,null,null,null,null,null,null,null,null,null,null,null,null,null,null,null,null,{"$f":"IFERROR($E382*SUMIF('[3]Daily Log'!$CN$18:$CN$1017,$B382,'[3]Daily Log'!$CO$18:$CO$1017),0)","v":0}]
[null,null,null,null,null,0,null,null,null,null,null,null,null,null,null,null,null,null,null,null,null,null,null,null,null,null,null,null,null,null,null,null,null,null,null,null,{"$f":"IFERROR($E383*SUMIF('[3]Daily Log'!$CN$18:$CN$1017,$B383,'[3]Daily Log'!$CO$18:$CO$1017),0)","v":0}]
[null,null,null,null,null,0,null,null,null,null,null,null,null,null,null,null,null,null,null,null,null,null,null,null,null,null,null,null,null,null,null,null,null,null,null,null,{"$f":"IFERROR($E384*SUMIF('[3]Daily Log'!$CN$18:$CN$1017,$B384,'[3]Daily Log'!$CO$18:$CO$1017),0)","v":0}]
[null,null,null,null,null,0,null,null,null,null,null,null,null,null,null,null,null,null,null,null,null,null,null,null,null,null,null,null,null,null,null,null,null,null,null,null,{"$f":"IFERROR($E385*SUMIF('[3]Daily Log'!$CN$18:$CN$1017,$B385,'[3]Daily Log'!$CO$18:$CO$1017),0)","v":0}]
[null,null,null,null,null,0,null,null,null,null,null,null,null,null,null,null,null,null,null,null,null,null,null,null,null,null,null,null,null,null,null,null,null,null,null,null,{"$f":"IFERROR($E386*SUMIF('[3]Daily Log'!$CN$18:$CN$1017,$B386,'[3]Daily Log'!$CO$18:$CO$1017),0)","v":0}]
[null,null,null,null,null,0,null,null,null,null,null,null,null,null,null,null,null,null,null,null,null,null,null,null,null,null,null,null,null,null,null,null,null,null,null,null,{"$f":"IFERROR($E387*SUMIF('[3]Daily Log'!$CN$18:$CN$1017,$B387,'[3]Daily Log'!$CO$18:$CO$1017),0)","v":0}]
[null,null,null,null,null,0,null,null,null,null,null,null,null,null,null,null,null,null,null,null,null,null,null,null,null,null,null,null,null,null,null,null,null,null,null,null,{"$f":"IFERROR($E388*SUMIF('[3]Daily Log'!$CN$18:$CN$1017,$B388,'[3]Daily Log'!$CO$18:$CO$1017),0)","v":0}]
[null,null,null,null,null,0,null,null,null,null,null,null,null,null,null,null,null,null,null,null,null,null,null,null,null,null,null,null,null,null,null,null,null,null,null,null,{"$f":"IFERROR($E389*SUMIF('[3]Daily Log'!$CN$18:$CN$1017,$B389,'[3]Daily Log'!$CO$18:$CO$1017),0)","v":0}]
[null,null,null,null,null,0,null,null,null,null,null,null,null,null,null,null,null,null,null,null,null,null,null,null,null,null,null,null,null,null,null,null,null,null,null,null,{"$f":"IFERROR($E390*SUMIF('[3]Daily Log'!$CN$18:$CN$1017,$B390,'[3]Daily Log'!$CO$18:$CO$1017),0)","v":0}]
[null,null,null,null,null,0,null,null,null,null,null,null,null,null,null,null,null,null,null,null,null,null,null,null,null,null,null,null,null,null,null,null,null,null,null,null,{"$f":"IFERROR($E391*SUMIF('[3]Daily Log'!$CN$18:$CN$1017,$B391,'[3]Daily Log'!$CO$18:$CO$1017),0)","v":0}]
[null,null,null,null,null,0,null,null,null,null,null,null,null,null,null,null,null,null,null,null,null,null,null,null,null,null,null,null,null,null,null,null,null,null,null,null,{"$f":"IFERROR($E392*SUMIF('[3]Daily Log'!$CN$18:$CN$1017,$B392,'[3]Daily Log'!$CO$18:$CO$1017),0)","v":0}]
[null,null,null,null,null,0,null,null,null,null,null,null,null,null,null,null,null,null,null,null,null,null,null,null,null,null,null,null,null,null,null,null,null,null,null,null,{"$f":"IFERROR($E393*SUMIF('[3]Daily Log'!$CN$18:$CN$1017,$B393,'[3]Daily Log'!$CO$18:$CO$1017),0)","v":0}]
[null,null,null,null,null,0,null,null,null,null,null,null,null,null,null,null,null,null,null,null,null,null,null,null,null,null,null,null,null,null,null,null,null,null,null,null,{"$f":"IFERROR($E394*SUMIF('[3]Daily Log'!$CN$18:$CN$1017,$B394,'[3]Daily Log'!$CO$18:$CO$1017),0)","v":0}]
[null,null,null,null,null,0,null,null,null,null,null,null,null,null,null,null,null,null,null,null,null,null,null,null,null,null,null,null,null,null,null,null,null,null,null,null,{"$f":"IFERROR($E395*SUMIF('[3]Daily Log'!$CN$18:$CN$1017,$B395,'[3]Daily Log'!$CO$18:$CO$1017),0)","v":0}]
[null,null,null,null,null,0,null,null,null,null,null,null,null,null,null,null,null,null,null,null,null,null,null,null,null,null,null,null,null,null,null,null,null,null,null,null,{"$f":"IFERROR($E396*SUMIF('[3]Daily Log'!$CN$18:$CN$1017,$B396,'[3]Daily Log'!$CO$18:$CO$1017),0)","v":0}]
[null,null,null,null,null,0,null,null,null,null,null,null,null,null,null,null,null,null,null,null,null,null,null,null,null,null,null,null,null,null,null,null,null,null,null,null,{"$f":"IFERROR($E397*SUMIF('[3]Daily Log'!$CN$18:$CN$1017,$B397,'[3]Daily Log'!$CO$18:$CO$1017),0)","v":0}]
[null,null,null,null,null,{"$f":"SUM($G398:$AK398)","v":0},null,null,null,null,null,null,null,null,null,null,null,null,null,null,null,null,null,null,null,null,null,null,null,null,null,null,null,null,null,null,{"$f":"IFERROR($E398*SUMIF('[3]Daily Log'!$CN$18:$CN$1017,$B398,'[3]Daily Log'!$CO$18:$CO$1017),0)","v":0}]
[null,null,null,null,null,0,null,null,null,null,null,null,null,null,null,null,null,null,null,null,null,null,null,null,null,null,null,null,null,null,null,null,null,null,null,null,{"$f":"IFERROR($E399*SUMIF('[3]Daily Log'!$CN$18:$CN$1017,$B399,'[3]Daily Log'!$CO$18:$CO$1017),0)","v":0}]
[null,null,null,null,null,0,null,null,null,null,null,null,null,null,null,null,null,null,null,null,null,null,null,null,null,null,null,null,null,null,null,null,null,null,null,null,{"$f":"IFERROR($E400*SUMIF('[3]Daily Log'!$CN$18:$CN$1017,$B400,'[3]Daily Log'!$CO$18:$CO$1017),0)","v":0}]
[null,null,null,null,null,0,null,null,null,null,null,null,null,null,null,null,null,null,null,null,null,null,null,null,null,null,null,null,null,null,null,null,null,null,null,null,{"$f":"IFERROR($E401*SUMIF('[3]Daily Log'!$CN$18:$CN$1017,$B401,'[3]Daily Log'!$CO$18:$CO$1017),0)","v":0}]
[null,null,null,null,null,0,null,null,null,null,null,null,null,null,null,null,null,null,null,null,null,null,null,null,null,null,null,null,null,null,null,null,null,null,null,null,{"$f":"IFERROR($E402*SUMIF('[3]Daily Log'!$CN$18:$CN$1017,$B402,'[3]Daily Log'!$CO$18:$CO$1017),0)","v":0}]
[null,null,null,null,null,0,null,null,null,null,null,null,null,null,null,null,null,null,null,null,null,null,null,null,null,null,null,null,null,null,null,null,null,null,null,null,{"$f":"IFERROR($E403*SUMIF('[3]Daily Log'!$CN$18:$CN$1017,$B403,'[3]Daily Log'!$CO$18:$CO$1017),0)","v":0}]
[null,null,null,null,null,0,null,null,null,null,null,null,null,null,null,null,null,null,null,null,null,null,null,null,null,null,null,null,null,null,null,null,null,null,null,null,{"$f":"IFERROR($E404*SUMIF('[3]Daily Log'!$CN$18:$CN$1017,$B404,'[3]Daily Log'!$CO$18:$CO$1017),0)","v":0}]
[null,null,null,null,null,0,null,null,null,null,null,null,null,null,null,null,null,null,null,null,null,null,null,null,null,null,null,null,null,null,null,null,null,null,null,null,{"$f":"IFERROR($E405*SUMIF('[3]Daily Log'!$CN$18:$CN$1017,$B405,'[3]Daily Log'!$CO$18:$CO$1017),0)","v":0}]
[null,null,null,null,null,0,null,null,null,null,null,null,null,null,null,null,null,null,null,null,null,null,null,null,null,null,null,null,null,null,null,null,null,null,null,null,{"$f":"IFERROR($E406*SUMIF('[3]Daily Log'!$CN$18:$CN$1017,$B406,'[3]Daily Log'!$CO$18:$CO$1017),0)","v":0}]
[null,null,null,null,null,0,null,null,null,null,null,null,null,null,null,null,null,null,null,null,null,null,null,null,null,null,null,null,null,null,null,null,null,null,null,null,{"$f":"IFERROR($E407*SUMIF('[3]Daily Log'!$CN$18:$CN$1017,$B407,'[3]Daily Log'!$CO$18:$CO$1017),0)","v":0}]
[null,null,null,null,null,0,null,null,null,null,null,null,null,null,null,null,null,null,null,null,null,null,null,null,null,null,null,null,null,null,null,null,null,null,null,null,{"$f":"IFERROR($E408*SUMIF('[3]Daily Log'!$CN$18:$CN$1017,$B408,'[3]Daily Log'!$CO$18:$CO$1017),0)","v":0}]
[null,null,null,null,null,0,null,null,null,null,null,null,null,null,null,null,null,null,null,null,null,null,null,null,null,null,null,null,null,null,null,null,null,null,null,null,{"$f":"IFERROR($E409*SUMIF('[3]Daily Log'!$CN$18:$CN$1017,$B409,'[3]Daily Log'!$CO$18:$CO$1017),0)","v":0}]
[null,null,null,null,null,0,null,null,null,null,null,null,null,null,null,null,null,null,null,null,null,null,null,null,null,null,null,null,null,null,null,null,null,null,null,null,{"$f":"IFERROR($E410*SUMIF('[3]Daily Log'!$CN$18:$CN$1017,$B410,'[3]Daily Log'!$CO$18:$CO$1017),0)","v":0}]
[null,null,null,null,null,0,null,null,null,null,null,null,null,null,null,null,null,null,null,null,null,null,null,null,null,null,null,null,null,null,null,null,null,null,null,null,{"$f":"IFERROR($E411*SUMIF('[3]Daily Log'!$CN$18:$CN$1017,$B411,'[3]Daily Log'!$CO$18:$CO$1017),0)","v":0}]
[null,null,null,null,null,0,{"$f":"IFERROR($E412*SUMIF('[3]Daily Log'!$B$18:$B$1017,$B412,'[3]Daily Log'!$C$18:$C$1017),0)","v":0},{"$f":"IFERROR($E412*SUMIF('[3]Daily Log'!$E$18:$E$1017,$B412,'[3]Daily Log'!$F$18:$F$1017),0)","v":0},{"$f":"IFERROR($E412*SUMIF('[3]Daily Log'!$H$18:$H$1017,$B412,'[3]Daily Log'!$I$18:$I$1017),0)","v":0},{"$f":"IFERROR($E412*SUMIF('[3]Daily Log'!$K$18:$K$1017,$B412,'[3]Daily Log'!$L$18:$L$1017),0)","v":0},{"$f":"IFERROR($E412*SUMIF('[3]Daily Log'!$N$18:$N$1017,$B412,'[3]Daily Log'!$O$18:$O$1017),0)","v":0},{"$f":"IFERROR($E412*SUMIF('[3]Daily Log'!$Q$18:$Q$1017,$B412,'[3]Daily Log'!$R$18:$R$1017),0)","v":0},{"$f":"IFERROR($E412*SUMIF('[3]Daily Log'!$T$18:$T$1017,$B412,'[3]Daily Log'!$U$18:$U$1017),0)","v":0},{"$f":"IFERROR($E412*SUMIF('[3]Daily Log'!$W$18:$W$1017,$B412,'[3]Daily Log'!$X$18:$X$1017),0)","v":0},{"$f":"IFERROR($E412*SUMIF('[3]Daily Log'!$Z$18:$Z$1017,$B412,'[3]Daily Log'!$AA$18:$AA$1017),0)","v":0},{"$f":"IFERROR($E412*SUMIF('[3]Daily Log'!$AC$18:$AC$1017,$B412,'[3]Daily Log'!$AD$18:$AD$1017),0)","v":0},{"$f":"IFERROR($E412*SUMIF('[3]Daily Log'!$AF$18:$AF$1017,$B412,'[3]Daily Log'!$AG$18:$AG$1017),0)","v":0},{"$f":"IFERROR($E412*SUMIF('[3]Daily Log'!$AI$18:$AI$1017,$B412,'[3]Daily Log'!$AJ$18:$AJ$1017),0)","v":0},{"$f":"IFERROR($E412*SUMIF('[3]Daily Log'!$AL$18:$AL$1017,$B412,'[3]Daily Log'!$AM$18:$AM$1017),0)","v":0},{"$f":"IFERROR($E412*SUMIF('[3]Daily Log'!$AO$18:$AO$1017,$B412,'[3]Daily Log'!$AP$18:$AP$1017),0)","v":0},{"$f":"IFERROR($E412*SUMIF('[3]Daily Log'!$AR$18:$AR$1017,$B412,'[3]Daily Log'!$AS$18:$AS$1017),0)","v":0},{"$f":"IFERROR($E412*SUMIF('[3]Daily Log'!$AU$18:$AU$1017,$B412,'[3]Daily Log'!$AV$18:$AV$1017),0)","v":0},{"$f":"IFERROR($E412*SUMIF('[3]Daily Log'!$AX$18:$AX$1017,$B412,'[3]Daily Log'!$AY$18:$AY$1017),0)","v":0},{"$f":"IFERROR($E412*SUMIF('[3]Daily Log'!$BA$18:$BA$1017,$B412,'[3]Daily Log'!$BB$18:$BB$1017),0)","v":0},{"$f":"IFERROR($E412*SUMIF('[3]Daily Log'!$BD$18:$BD$1017,$B412,'[3]Daily Log'!$BE$18:$BE$1017),0)","v":0},{"$f":"IFERROR($E412*SUMIF('[3]Daily Log'!$BG$18:$BG$1017,$B412,'[3]Daily Log'!$BH$18:$BH$1017),0)","v":0},{"$f":"IFERROR($E412*SUMIF('[3]Daily Log'!$BJ$18:$BJ$1017,$B412,'[3]Daily Log'!$BK$18:$BK$1017),0)","v":0},{"$f":"IFERROR($E412*SUMIF('[3]Daily Log'!$BM$18:$BM$1017,$B412,'[3]Daily Log'!$BN$18:$BN$1017),0)","v":0},{"$f":"IFERROR($E412*SUMIF('[3]Daily Log'!$BP$18:$BP$1017,$B412,'[3]Daily Log'!$BQ$18:$BQ$1017),0)","v":0},{"$f":"IFERROR($E412*SUMIF('[3]Daily Log'!$BS$18:$BS$1017,$B412,'[3]Daily Log'!$BT$18:$BT$1017),0)","v":0},{"$f":"IFERROR($E412*SUMIF('[3]Daily Log'!$BV$18:$BV$1017,$B412,'[3]Daily Log'!$BW$18:$BW$1017),0)","v":0},{"$f":"IFERROR($E412*SUMIF('[3]Daily Log'!$BY$18:$BY$1017,$B412,'[3]Daily Log'!$BZ$18:$BZ$1017),0)","v":0},{"$f":"IFERROR($E412*SUMIF('[3]Daily Log'!$CB$18:$CB$1017,$B412,'[3]Daily Log'!$CC$18:$CC$1017),0)","v":0},{"$f":"IFERROR($E412*SUMIF('[3]Daily Log'!$CE$18:$CE$1017,$B412,'[3]Daily Log'!$CF$18:$CF$1017),0)","v":0},{"$f":"IFERROR($E412*SUMIF('[3]Daily Log'!$CH$18:$CH$1017,$B412,'[3]Daily Log'!$CI$18:$CI$1017),0)","v":0},{"$f":"IFERROR($E412*SUMIF('[3]Daily Log'!$CK$18:$CK$1017,$B412,'[3]Daily Log'!$CL$18:$CL$1017),0)","v":0},{"$f":"IFERROR($E412*SUMIF('[3]Daily Log'!$CN$18:$CN$1017,$B412,'[3]Daily Log'!$CO$18:$CO$1017),0)","v":0}]
[null,null,null,null,null,0,{"$f":"IFERROR($E413*SUMIF('[3]Daily Log'!$B$18:$B$1017,$B413,'[3]Daily Log'!$C$18:$C$1017),0)","v":0},{"$f":"IFERROR($E413*SUMIF('[3]Daily Log'!$E$18:$E$1017,$B413,'[3]Daily Log'!$F$18:$F$1017),0)","v":0},{"$f":"IFERROR($E413*SUMIF('[3]Daily Log'!$H$18:$H$1017,$B413,'[3]Daily Log'!$I$18:$I$1017),0)","v":0},{"$f":"IFERROR($E413*SUMIF('[3]Daily Log'!$K$18:$K$1017,$B413,'[3]Daily Log'!$L$18:$L$1017),0)","v":0},{"$f":"IFERROR($E413*SUMIF('[3]Daily Log'!$N$18:$N$1017,$B413,'[3]Daily Log'!$O$18:$O$1017),0)","v":0},{"$f":"IFERROR($E413*SUMIF('[3]Daily Log'!$Q$18:$Q$1017,$B413,'[3]Daily Log'!$R$18:$R$1017),0)","v":0},{"$f":"IFERROR($E413*SUMIF('[3]Daily Log'!$T$18:$T$1017,$B413,'[3]Daily Log'!$U$18:$U$1017),0)","v":0},{"$f":"IFERROR($E413*SUMIF('[3]Daily Log'!$W$18:$W$1017,$B413,'[3]Daily Log'!$X$18:$X$1017),0)","v":0},{"$f":"IFERROR($E413*SUMIF('[3]Daily Log'!$Z$18:$Z$1017,$B413,'[3]Daily Log'!$AA$18:$AA$1017),0)","v":0},{"$f":"IFERROR($E413*SUMIF('[3]Daily Log'!$AC$18:$AC$1017,$B413,'[3]Daily Log'!$AD$18:$AD$1017),0)","v":0},{"$f":"IFERROR($E413*SUMIF('[3]Daily Log'!$AF$18:$AF$1017,$B413,'[3]Daily Log'!$AG$18:$AG$1017),0)","v":0},{"$f":"IFERROR($E413*SUMIF('[3]Daily Log'!$AI$18:$AI$1017,$B413,'[3]Daily Log'!$AJ$18:$AJ$1017),0)","v":0},{"$f":"IFERROR($E413*SUMIF('[3]Daily Log'!$AL$18:$AL$1017,$B413,'[3]Daily Log'!$AM$18:$AM$1017),0)","v":0},{"$f":"IFERROR($E413*SUMIF('[3]Daily Log'!$AO$18:$AO$1017,$B413,'[3]Daily Log'!$AP$18:$AP$1017),0)","v":0},{"$f":"IFERROR($E413*SUMIF('[3]Daily Log'!$AR$18:$AR$1017,$B413,'[3]Daily Log'!$AS$18:$AS$1017),0)","v":0},{"$f":"IFERROR($E413*SUMIF('[3]Daily Log'!$AU$18:$AU$1017,$B413,'[3]Daily Log'!$AV$18:$AV$1017),0)","v":0},{"$f":"IFERROR($E413*SUMIF('[3]Daily Log'!$AX$18:$AX$1017,$B413,'[3]Daily Log'!$AY$18:$AY$1017),0)","v":0},{"$f":"IFERROR($E413*SUMIF('[3]Daily Log'!$BA$18:$BA$1017,$B413,'[3]Daily Log'!$BB$18:$BB$1017),0)","v":0},{"$f":"IFERROR($E413*SUMIF('[3]Daily Log'!$BD$18:$BD$1017,$B413,'[3]Daily Log'!$BE$18:$BE$1017),0)","v":0},{"$f":"IFERROR($E413*SUMIF('[3]Daily Log'!$BG$18:$BG$1017,$B413,'[3]Daily Log'!$BH$18:$BH$1017),0)","v":0},{"$f":"IFERROR($E413*SUMIF('[3]Daily Log'!$BJ$18:$BJ$1017,$B413,'[3]Daily Log'!$BK$18:$BK$1017),0)","v":0},{"$f":"IFERROR($E413*SUMIF('[3]Daily Log'!$BM$18:$BM$1017,$B413,'[3]Daily Log'!$BN$18:$BN$1017),0)","v":0},{"$f":"IFERROR($E413*SUMIF('[3]Daily Log'!$BP$18:$BP$1017,$B413,'[3]Daily Log'!$BQ$18:$BQ$1017),0)","v":0},{"$f":"IFERROR($E413*SUMIF('[3]Daily Log'!$BS$18:$BS$1017,$B413,'[3]Daily Log'!$BT$18:$BT$1017),0)","v":0},{"$f":"IFERROR($E413*SUMIF('[3]Daily Log'!$BV$18:$BV$1017,$B413,'[3]Daily Log'!$BW$18:$BW$1017),0)","v":0},{"$f":"IFERROR($E413*SUMIF('[3]Daily Log'!$BY$18:$BY$1017,$B413,'[3]Daily Log'!$BZ$18:$BZ$1017),0)","v":0},{"$f":"IFERROR($E413*SUMIF('[3]Daily Log'!$CB$18:$CB$1017,$B413,'[3]Daily Log'!$CC$18:$CC$1017),0)","v":0},{"$f":"IFERROR($E413*SUMIF('[3]Daily Log'!$CE$18:$CE$1017,$B413,'[3]Daily Log'!$CF$18:$CF$1017),0)","v":0},{"$f":"IFERROR($E413*SUMIF('[3]Daily Log'!$CH$18:$CH$1017,$B413,'[3]Daily Log'!$CI$18:$CI$1017),0)","v":0},{"$f":"IFERROR($E413*SUMIF('[3]Daily Log'!$CK$18:$CK$1017,$B413,'[3]Daily Log'!$CL$18:$CL$1017),0)","v":0},{"$f":"IFERROR($E413*SUMIF('[3]Daily Log'!$CN$18:$CN$1017,$B413,'[3]Daily Log'!$CO$18:$CO$1017),0)","v":0}]
[null,null,null,null,null,0,{"$f":"IFERROR($E414*SUMIF('[3]Daily Log'!$B$18:$B$1017,$B414,'[3]Daily Log'!$C$18:$C$1017),0)","v":0},{"$f":"IFERROR($E414*SUMIF('[3]Daily Log'!$E$18:$E$1017,$B414,'[3]Daily Log'!$F$18:$F$1017),0)","v":0},{"$f":"IFERROR($E414*SUMIF('[3]Daily Log'!$H$18:$H$1017,$B414,'[3]Daily Log'!$I$18:$I$1017),0)","v":0},{"$f":"IFERROR($E414*SUMIF('[3]Daily Log'!$K$18:$K$1017,$B414,'[3]Daily Log'!$L$18:$L$1017),0)","v":0},{"$f":"IFERROR($E414*SUMIF('[3]Daily Log'!$N$18:$N$1017,$B414,'[3]Daily Log'!$O$18:$O$1017),0)","v":0},{"$f":"IFERROR($E414*SUMIF('[3]Daily Log'!$Q$18:$Q$1017,$B414,'[3]Daily Log'!$R$18:$R$1017),0)","v":0},{"$f":"IFERROR($E414*SUMIF('[3]Daily Log'!$T$18:$T$1017,$B414,'[3]Daily Log'!$U$18:$U$1017),0)","v":0},{"$f":"IFERROR($E414*SUMIF('[3]Daily Log'!$W$18:$W$1017,$B414,'[3]Daily Log'!$X$18:$X$1017),0)","v":0},{"$f":"IFERROR($E414*SUMIF('[3]Daily Log'!$Z$18:$Z$1017,$B414,'[3]Daily Log'!$AA$18:$AA$1017),0)","v":0},{"$f":"IFERROR($E414*SUMIF('[3]Daily Log'!$AC$18:$AC$1017,$B414,'[3]Daily Log'!$AD$18:$AD$1017),0)","v":0},{"$f":"IFERROR($E414*SUMIF('[3]Daily Log'!$AF$18:$AF$1017,$B414,'[3]Daily Log'!$AG$18:$AG$1017),0)","v":0},{"$f":"IFERROR($E414*SUMIF('[3]Daily Log'!$AI$18:$AI$1017,$B414,'[3]Daily Log'!$AJ$18:$AJ$1017),0)","v":0},{"$f":"IFERROR($E414*SUMIF('[3]Daily Log'!$AL$18:$AL$1017,$B414,'[3]Daily Log'!$AM$18:$AM$1017),0)","v":0},{"$f":"IFERROR($E414*SUMIF('[3]Daily Log'!$AO$18:$AO$1017,$B414,'[3]Daily Log'!$AP$18:$AP$1017),0)","v":0},{"$f":"IFERROR($E414*SUMIF('[3]Daily Log'!$AR$18:$AR$1017,$B414,'[3]Daily Log'!$AS$18:$AS$1017),0)","v":0},{"$f":"IFERROR($E414*SUMIF('[3]Daily Log'!$AU$18:$AU$1017,$B414,'[3]Daily Log'!$AV$18:$AV$1017),0)","v":0},{"$f":"IFERROR($E414*SUMIF('[3]Daily Log'!$AX$18:$AX$1017,$B414,'[3]Daily Log'!$AY$18:$AY$1017),0)","v":0},{"$f":"IFERROR($E414*SUMIF('[3]Daily Log'!$BA$18:$BA$1017,$B414,'[3]Daily Log'!$BB$18:$BB$1017),0)","v":0},{"$f":"IFERROR($E414*SUMIF('[3]Daily Log'!$BD$18:$BD$1017,$B414,'[3]Daily Log'!$BE$18:$BE$1017),0)","v":0},{"$f":"IFERROR($E414*SUMIF('[3]Daily Log'!$BG$18:$BG$1017,$B414,'[3]Daily Log'!$BH$18:$BH$1017),0)","v":0},{"$f":"IFERROR($E414*SUMIF('[3]Daily Log'!$BJ$18:$BJ$1017,$B414,'[3]Daily Log'!$BK$18:$BK$1017),0)","v":0},{"$f":"IFERROR($E414*SUMIF('[3]Daily Log'!$BM$18:$BM$1017,$B414,'[3]Daily Log'!$BN$18:$BN$1017),0)","v":0},{"$f":"IFERROR($E414*SUMIF('[3]Daily Log'!$BP$18:$BP$1017,$B414,'[3]Daily Log'!$BQ$18:$BQ$1017),0)","v":0},{"$f":"IFERROR($E414*SUMIF('[3]Daily Log'!$BS$18:$BS$1017,$B414,'[3]Daily Log'!$BT$18:$BT$1017),0)","v":0},{"$f":"IFERROR($E414*SUMIF('[3]Daily Log'!$BV$18:$BV$1017,$B414,'[3]Daily Log'!$BW$18:$BW$1017),0)","v":0},{"$f":"IFERROR($E414*SUMIF('[3]Daily Log'!$BY$18:$BY$1017,$B414,'[3]Daily Log'!$BZ$18:$BZ$1017),0)","v":0},{"$f":"IFERROR($E414*SUMIF('[3]Daily Log'!$CB$18:$CB$1017,$B414,'[3]Daily Log'!$CC$18:$CC$1017),0)","v":0},{"$f":"IFERROR($E414*SUMIF('[3]Daily Log'!$CE$18:$CE$1017,$B414,'[3]Daily Log'!$CF$18:$CF$1017),0)","v":0},{"$f":"IFERROR($E414*SUMIF('[3]Daily Log'!$CH$18:$CH$1017,$B414,'[3]Daily Log'!$CI$18:$CI$1017),0)","v":0},{"$f":"IFERROR($E414*SUMIF('[3]Daily Log'!$CK$18:$CK$1017,$B414,'[3]Daily Log'!$CL$18:$CL$1017),0)","v":0},{"$f":"IFERROR($E414*SUMIF('[3]Daily Log'!$CN$18:$CN$1017,$B414,'[3]Daily Log'!$CO$18:$CO$1017),0)","v":0}]
[null,null,null,null,null,0,{"$f":"IFERROR($E415*SUMIF('[3]Daily Log'!$B$18:$B$1017,$B415,'[3]Daily Log'!$C$18:$C$1017),0)","v":0},{"$f":"IFERROR($E415*SUMIF('[3]Daily Log'!$E$18:$E$1017,$B415,'[3]Daily Log'!$F$18:$F$1017),0)","v":0},{"$f":"IFERROR($E415*SUMIF('[3]Daily Log'!$H$18:$H$1017,$B415,'[3]Daily Log'!$I$18:$I$1017),0)","v":0},{"$f":"IFERROR($E415*SUMIF('[3]Daily Log'!$K$18:$K$1017,$B415,'[3]Daily Log'!$L$18:$L$1017),0)","v":0},{"$f":"IFERROR($E415*SUMIF('[3]Daily Log'!$N$18:$N$1017,$B415,'[3]Daily Log'!$O$18:$O$1017),0)","v":0},{"$f":"IFERROR($E415*SUMIF('[3]Daily Log'!$Q$18:$Q$1017,$B415,'[3]Daily Log'!$R$18:$R$1017),0)","v":0},{"$f":"IFERROR($E415*SUMIF('[3]Daily Log'!$T$18:$T$1017,$B415,'[3]Daily Log'!$U$18:$U$1017),0)","v":0},{"$f":"IFERROR($E415*SUMIF('[3]Daily Log'!$W$18:$W$1017,$B415,'[3]Daily Log'!$X$18:$X$1017),0)","v":0},{"$f":"IFERROR($E415*SUMIF('[3]Daily Log'!$Z$18:$Z$1017,$B415,'[3]Daily Log'!$AA$18:$AA$1017),0)","v":0},{"$f":"IFERROR($E415*SUMIF('[3]Daily Log'!$AC$18:$AC$1017,$B415,'[3]Daily Log'!$AD$18:$AD$1017),0)","v":0},{"$f":"IFERROR($E415*SUMIF('[3]Daily Log'!$AF$18:$AF$1017,$B415,'[3]Daily Log'!$AG$18:$AG$1017),0)","v":0},{"$f":"IFERROR($E415*SUMIF('[3]Daily Log'!$AI$18:$AI$1017,$B415,'[3]Daily Log'!$AJ$18:$AJ$1017),0)","v":0},{"$f":"IFERROR($E415*SUMIF('[3]Daily Log'!$AL$18:$AL$1017,$B415,'[3]Daily Log'!$AM$18:$AM$1017),0)","v":0},{"$f":"IFERROR($E415*SUMIF('[3]Daily Log'!$AO$18:$AO$1017,$B415,'[3]Daily Log'!$AP$18:$AP$1017),0)","v":0},{"$f":"IFERROR($E415*SUMIF('[3]Daily Log'!$AR$18:$AR$1017,$B415,'[3]Daily Log'!$AS$18:$AS$1017),0)","v":0},{"$f":"IFERROR($E415*SUMIF('[3]Daily Log'!$AU$18:$AU$1017,$B415,'[3]Daily Log'!$AV$18:$AV$1017),0)","v":0},{"$f":"IFERROR($E415*SUMIF('[3]Daily Log'!$AX$18:$AX$1017,$B415,'[3]Daily Log'!$AY$18:$AY$1017),0)","v":0},{"$f":"IFERROR($E415*SUMIF('[3]Daily Log'!$BA$18:$BA$1017,$B415,'[3]Daily Log'!$BB$18:$BB$1017),0)","v":0},{"$f":"IFERROR($E415*SUMIF('[3]Daily Log'!$BD$18:$BD$1017,$B415,'[3]Daily Log'!$BE$18:$BE$1017),0)","v":0},{"$f":"IFERROR($E415*SUMIF('[3]Daily Log'!$BG$18:$BG$1017,$B415,'[3]Daily Log'!$BH$18:$BH$1017),0)","v":0},{"$f":"IFERROR($E415*SUMIF('[3]Daily Log'!$BJ$18:$BJ$1017,$B415,'[3]Daily Log'!$BK$18:$BK$1017),0)","v":0},{"$f":"IFERROR($E415*SUMIF('[3]Daily Log'!$BM$18:$BM$1017,$B415,'[3]Daily Log'!$BN$18:$BN$1017),0)","v":0},{"$f":"IFERROR($E415*SUMIF('[3]Daily Log'!$BP$18:$BP$1017,$B415,'[3]Daily Log'!$BQ$18:$BQ$1017),0)","v":0},{"$f":"IFERROR($E415*SUMIF('[3]Daily Log'!$BS$18:$BS$1017,$B415,'[3]Daily Log'!$BT$18:$BT$1017),0)","v":0},{"$f":"IFERROR($E415*SUMIF('[3]Daily Log'!$BV$18:$BV$1017,$B415,'[3]Daily Log'!$BW$18:$BW$1017),0)","v":0},{"$f":"IFERROR($E415*SUMIF('[3]Daily Log'!$BY$18:$BY$1017,$B415,'[3]Daily Log'!$BZ$18:$BZ$1017),0)","v":0},{"$f":"IFERROR($E415*SUMIF('[3]Daily Log'!$CB$18:$CB$1017,$B415,'[3]Daily Log'!$CC$18:$CC$1017),0)","v":0},{"$f":"IFERROR($E415*SUMIF('[3]Daily Log'!$CE$18:$CE$1017,$B415,'[3]Daily Log'!$CF$18:$CF$1017),0)","v":0},{"$f":"IFERROR($E415*SUMIF('[3]Daily Log'!$CH$18:$CH$1017,$B415,'[3]Daily Log'!$CI$18:$CI$1017),0)","v":0},{"$f":"IFERROR($E415*SUMIF('[3]Daily Log'!$CK$18:$CK$1017,$B415,'[3]Daily Log'!$CL$18:$CL$1017),0)","v":0},{"$f":"IFERROR($E415*SUMIF('[3]Daily Log'!$CN$18:$CN$1017,$B415,'[3]Daily Log'!$CO$18:$CO$1017),0)","v":0}]
[null,null,null,null,null,0,{"$f":"IFERROR($E416*SUMIF('[3]Daily Log'!$B$18:$B$1017,$B416,'[3]Daily Log'!$C$18:$C$1017),0)","v":0},{"$f":"IFERROR($E416*SUMIF('[3]Daily Log'!$E$18:$E$1017,$B416,'[3]Daily Log'!$F$18:$F$1017),0)","v":0},{"$f":"IFERROR($E416*SUMIF('[3]Daily Log'!$H$18:$H$1017,$B416,'[3]Daily Log'!$I$18:$I$1017),0)","v":0},{"$f":"IFERROR($E416*SUMIF('[3]Daily Log'!$K$18:$K$1017,$B416,'[3]Daily Log'!$L$18:$L$1017),0)","v":0},{"$f":"IFERROR($E416*SUMIF('[3]Daily Log'!$N$18:$N$1017,$B416,'[3]Daily Log'!$O$18:$O$1017),0)","v":0},{"$f":"IFERROR($E416*SUMIF('[3]Daily Log'!$Q$18:$Q$1017,$B416,'[3]Daily Log'!$R$18:$R$1017),0)","v":0},{"$f":"IFERROR($E416*SUMIF('[3]Daily Log'!$T$18:$T$1017,$B416,'[3]Daily Log'!$U$18:$U$1017),0)","v":0},{"$f":"IFERROR($E416*SUMIF('[3]Daily Log'!$W$18:$W$1017,$B416,'[3]Daily Log'!$X$18:$X$1017),0)","v":0},{"$f":"IFERROR($E416*SUMIF('[3]Daily Log'!$Z$18:$Z$1017,$B416,'[3]Daily Log'!$AA$18:$AA$1017),0)","v":0},{"$f":"IFERROR($E416*SUMIF('[3]Daily Log'!$AC$18:$AC$1017,$B416,'[3]Daily Log'!$AD$18:$AD$1017),0)","v":0},{"$f":"IFERROR($E416*SUMIF('[3]Daily Log'!$AF$18:$AF$1017,$B416,'[3]Daily Log'!$AG$18:$AG$1017),0)","v":0},{"$f":"IFERROR($E416*SUMIF('[3]Daily Log'!$AI$18:$AI$1017,$B416,'[3]Daily Log'!$AJ$18:$AJ$1017),0)","v":0},{"$f":"IFERROR($E416*SUMIF('[3]Daily Log'!$AL$18:$AL$1017,$B416,'[3]Daily Log'!$AM$18:$AM$1017),0)","v":0},{"$f":"IFERROR($E416*SUMIF('[3]Daily Log'!$AO$18:$AO$1017,$B416,'[3]Daily Log'!$AP$18:$AP$1017),0)","v":0},{"$f":"IFERROR($E416*SUMIF('[3]Daily Log'!$AR$18:$AR$1017,$B416,'[3]Daily Log'!$AS$18:$AS$1017),0)","v":0},{"$f":"IFERROR($E416*SUMIF('[3]Daily Log'!$AU$18:$AU$1017,$B416,'[3]Daily Log'!$AV$18:$AV$1017),0)","v":0},{"$f":"IFERROR($E416*SUMIF('[3]Daily Log'!$AX$18:$AX$1017,$B416,'[3]Daily Log'!$AY$18:$AY$1017),0)","v":0},{"$f":"IFERROR($E416*SUMIF('[3]Daily Log'!$BA$18:$BA$1017,$B416,'[3]Daily Log'!$BB$18:$BB$1017),0)","v":0},{"$f":"IFERROR($E416*SUMIF('[3]Daily Log'!$BD$18:$BD$1017,$B416,'[3]Daily Log'!$BE$18:$BE$1017),0)","v":0},{"$f":"IFERROR($E416*SUMIF('[3]Daily Log'!$BG$18:$BG$1017,$B416,'[3]Daily Log'!$BH$18:$BH$1017),0)","v":0},{"$f":"IFERROR($E416*SUMIF('[3]Daily Log'!$BJ$18:$BJ$1017,$B416,'[3]Daily Log'!$BK$18:$BK$1017),0)","v":0},{"$f":"IFERROR($E416*SUMIF('[3]Daily Log'!$BM$18:$BM$1017,$B416,'[3]Daily Log'!$BN$18:$BN$1017),0)","v":0},{"$f":"IFERROR($E416*SUMIF('[3]Daily Log'!$BP$18:$BP$1017,$B416,'[3]Daily Log'!$BQ$18:$BQ$1017),0)","v":0},{"$f":"IFERROR($E416*SUMIF('[3]Daily Log'!$BS$18:$BS$1017,$B416,'[3]Daily Log'!$BT$18:$BT$1017),0)","v":0},{"$f":"IFERROR($E416*SUMIF('[3]Daily Log'!$BV$18:$BV$1017,$B416,'[3]Daily Log'!$BW$18:$BW$1017),0)","v":0},{"$f":"IFERROR($E416*SUMIF('[3]Daily Log'!$BY$18:$BY$1017,$B416,'[3]Daily Log'!$BZ$18:$BZ$1017),0)","v":0},{"$f":"IFERROR($E416*SUMIF('[3]Daily Log'!$CB$18:$CB$1017,$B416,'[3]Daily Log'!$CC$18:$CC$1017),0)","v":0},{"$f":"IFERROR($E416*SUMIF('[3]Daily Log'!$CE$18:$CE$1017,$B416,'[3]Daily Log'!$CF$18:$CF$1017),0)","v":0},{"$f":"IFERROR($E416*SUMIF('[3]Daily Log'!$CH$18:$CH$1017,$B416,'[3]Daily Log'!$CI$18:$CI$1017),0)","v":0},{"$f":"IFERROR($E416*SUMIF('[3]Daily Log'!$CK$18:$CK$1017,$B416,'[3]Daily Log'!$CL$18:$CL$1017),0)","v":0},{"$f":"IFERROR($E416*SUMIF('[3]Daily Log'!$CN$18:$CN$1017,$B416,'[3]Daily Log'!$CO$18:$CO$1017),0)","v":0}]
[null,null,null,null,null,0,{"$f":"IFERROR($E417*SUMIF('[3]Daily Log'!$B$18:$B$1017,$B417,'[3]Daily Log'!$C$18:$C$1017),0)","v":0},{"$f":"IFERROR($E417*SUMIF('[3]Daily Log'!$E$18:$E$1017,$B417,'[3]Daily Log'!$F$18:$F$1017),0)","v":0},{"$f":"IFERROR($E417*SUMIF('[3]Daily Log'!$H$18:$H$1017,$B417,'[3]Daily Log'!$I$18:$I$1017),0)","v":0},{"$f":"IFERROR($E417*SUMIF('[3]Daily Log'!$K$18:$K$1017,$B417,'[3]Daily Log'!$L$18:$L$1017),0)","v":0},{"$f":"IFERROR($E417*SUMIF('[3]Daily Log'!$N$18:$N$1017,$B417,'[3]Daily Log'!$O$18:$O$1017),0)","v":0},{"$f":"IFERROR($E417*SUMIF('[3]Daily Log'!$Q$18:$Q$1017,$B417,'[3]Daily Log'!$R$18:$R$1017),0)","v":0},{"$f":"IFERROR($E417*SUMIF('[3]Daily Log'!$T$18:$T$1017,$B417,'[3]Daily Log'!$U$18:$U$1017),0)","v":0},{"$f":"IFERROR($E417*SUMIF('[3]Daily Log'!$W$18:$W$1017,$B417,'[3]Daily Log'!$X$18:$X$1017),0)","v":0},{"$f":"IFERROR($E417*SUMIF('[3]Daily Log'!$Z$18:$Z$1017,$B417,'[3]Daily Log'!$AA$18:$AA$1017),0)","v":0},{"$f":"IFERROR($E417*SUMIF('[3]Daily Log'!$AC$18:$AC$1017,$B417,'[3]Daily Log'!$AD$18:$AD$1017),0)","v":0},{"$f":"IFERROR($E417*SUMIF('[3]Daily Log'!$AF$18:$AF$1017,$B417,'[3]Daily Log'!$AG$18:$AG$1017),0)","v":0},{"$f":"IFERROR($E417*SUMIF('[3]Daily Log'!$AI$18:$AI$1017,$B417,'[3]Daily Log'!$AJ$18:$AJ$1017),0)","v":0},{"$f":"IFERROR($E417*SUMIF('[3]Daily Log'!$AL$18:$AL$1017,$B417,'[3]Daily Log'!$AM$18:$AM$1017),0)","v":0},{"$f":"IFERROR($E417*SUMIF('[3]Daily Log'!$AO$18:$AO$1017,$B417,'[3]Daily Log'!$AP$18:$AP$1017),0)","v":0},{"$f":"IFERROR($E417*SUMIF('[3]Daily Log'!$AR$18:$AR$1017,$B417,'[3]Daily Log'!$AS$18:$AS$1017),0)","v":0},{"$f":"IFERROR($E417*SUMIF('[3]Daily Log'!$AU$18:$AU$1017,$B417,'[3]Daily Log'!$AV$18:$AV$1017),0)","v":0},{"$f":"IFERROR($E417*SUMIF('[3]Daily Log'!$AX$18:$AX$1017,$B417,'[3]Daily Log'!$AY$18:$AY$1017),0)","v":0},{"$f":"IFERROR($E417*SUMIF('[3]Daily Log'!$BA$18:$BA$1017,$B417,'[3]Daily Log'!$BB$18:$BB$1017),0)","v":0},{"$f":"IFERROR($E417*SUMIF('[3]Daily Log'!$BD$18:$BD$1017,$B417,'[3]Daily Log'!$BE$18:$BE$1017),0)","v":0},{"$f":"IFERROR($E417*SUMIF('[3]Daily Log'!$BG$18:$BG$1017,$B417,'[3]Daily Log'!$BH$18:$BH$1017),0)","v":0},{"$f":"IFERROR($E417*SUMIF('[3]Daily Log'!$BJ$18:$BJ$1017,$B417,'[3]Daily Log'!$BK$18:$BK$1017),0)","v":0},{"$f":"IFERROR($E417*SUMIF('[3]Daily Log'!$BM$18:$BM$1017,$B417,'[3]Daily Log'!$BN$18:$BN$1017),0)","v":0},{"$f":"IFERROR($E417*SUMIF('[3]Daily Log'!$BP$18:$BP$1017,$B417,'[3]Daily Log'!$BQ$18:$BQ$1017),0)","v":0},{"$f":"IFERROR($E417*SUMIF('[3]Daily Log'!$BS$18:$BS$1017,$B417,'[3]Daily Log'!$BT$18:$BT$1017),0)","v":0},{"$f":"IFERROR($E417*SUMIF('[3]Daily Log'!$BV$18:$BV$1017,$B417,'[3]Daily Log'!$BW$18:$BW$1017),0)","v":0},{"$f":"IFERROR($E417*SUMIF('[3]Daily Log'!$BY$18:$BY$1017,$B417,'[3]Daily Log'!$BZ$18:$BZ$1017),0)","v":0},{"$f":"IFERROR($E417*SUMIF('[3]Daily Log'!$CB$18:$CB$1017,$B417,'[3]Daily Log'!$CC$18:$CC$1017),0)","v":0},{"$f":"IFERROR($E417*SUMIF('[3]Daily Log'!$CE$18:$CE$1017,$B417,'[3]Daily Log'!$CF$18:$CF$1017),0)","v":0},{"$f":"IFERROR($E417*SUMIF('[3]Daily Log'!$CH$18:$CH$1017,$B417,'[3]Daily Log'!$CI$18:$CI$1017),0)","v":0},{"$f":"IFERROR($E417*SUMIF('[3]Daily Log'!$CK$18:$CK$1017,$B417,'[3]Daily Log'!$CL$18:$CL$1017),0)","v":0},{"$f":"IFERROR($E417*SUMIF('[3]Daily Log'!$CN$18:$CN$1017,$B417,'[3]Daily Log'!$CO$18:$CO$1017),0)","v":0}]
[null,null,null,null,null,0,{"$f":"IFERROR($E418*SUMIF('[3]Daily Log'!$B$18:$B$1017,$B418,'[3]Daily Log'!$C$18:$C$1017),0)","v":0},{"$f":"IFERROR($E418*SUMIF('[3]Daily Log'!$E$18:$E$1017,$B418,'[3]Daily Log'!$F$18:$F$1017),0)","v":0},{"$f":"IFERROR($E418*SUMIF('[3]Daily Log'!$H$18:$H$1017,$B418,'[3]Daily Log'!$I$18:$I$1017),0)","v":0},{"$f":"IFERROR($E418*SUMIF('[3]Daily Log'!$K$18:$K$1017,$B418,'[3]Daily Log'!$L$18:$L$1017),0)","v":0},{"$f":"IFERROR($E418*SUMIF('[3]Daily Log'!$N$18:$N$1017,$B418,'[3]Daily Log'!$O$18:$O$1017),0)","v":0},{"$f":"IFERROR($E418*SUMIF('[3]Daily Log'!$Q$18:$Q$1017,$B418,'[3]Daily Log'!$R$18:$R$1017),0)","v":0},{"$f":"IFERROR($E418*SUMIF('[3]Daily Log'!$T$18:$T$1017,$B418,'[3]Daily Log'!$U$18:$U$1017),0)","v":0},{"$f":"IFERROR($E418*SUMIF('[3]Daily Log'!$W$18:$W$1017,$B418,'[3]Daily Log'!$X$18:$X$1017),0)","v":0},{"$f":"IFERROR($E418*SUMIF('[3]Daily Log'!$Z$18:$Z$1017,$B418,'[3]Daily Log'!$AA$18:$AA$1017),0)","v":0},{"$f":"IFERROR($E418*SUMIF('[3]Daily Log'!$AC$18:$AC$1017,$B418,'[3]Daily Log'!$AD$18:$AD$1017),0)","v":0},{"$f":"IFERROR($E418*SUMIF('[3]Daily Log'!$AF$18:$AF$1017,$B418,'[3]Daily Log'!$AG$18:$AG$1017),0)","v":0},{"$f":"IFERROR($E418*SUMIF('[3]Daily Log'!$AI$18:$AI$1017,$B418,'[3]Daily Log'!$AJ$18:$AJ$1017),0)","v":0},{"$f":"IFERROR($E418*SUMIF('[3]Daily Log'!$AL$18:$AL$1017,$B418,'[3]Daily Log'!$AM$18:$AM$1017),0)","v":0},{"$f":"IFERROR($E418*SUMIF('[3]Daily Log'!$AO$18:$AO$1017,$B418,'[3]Daily Log'!$AP$18:$AP$1017),0)","v":0},{"$f":"IFERROR($E418*SUMIF('[3]Daily Log'!$AR$18:$AR$1017,$B418,'[3]Daily Log'!$AS$18:$AS$1017),0)","v":0},{"$f":"IFERROR($E418*SUMIF('[3]Daily Log'!$AU$18:$AU$1017,$B418,'[3]Daily Log'!$AV$18:$AV$1017),0)","v":0},{"$f":"IFERROR($E418*SUMIF('[3]Daily Log'!$AX$18:$AX$1017,$B418,'[3]Daily Log'!$AY$18:$AY$1017),0)","v":0},{"$f":"IFERROR($E418*SUMIF('[3]Daily Log'!$BA$18:$BA$1017,$B418,'[3]Daily Log'!$BB$18:$BB$1017),0)","v":0},{"$f":"IFERROR($E418*SUMIF('[3]Daily Log'!$BD$18:$BD$1017,$B418,'[3]Daily Log'!$BE$18:$BE$1017),0)","v":0},{"$f":"IFERROR($E418*SUMIF('[3]Daily Log'!$BG$18:$BG$1017,$B418,'[3]Daily Log'!$BH$18:$BH$1017),0)","v":0},{"$f":"IFERROR($E418*SUMIF('[3]Daily Log'!$BJ$18:$BJ$1017,$B418,'[3]Daily Log'!$BK$18:$BK$1017),0)","v":0},{"$f":"IFERROR($E418*SUMIF('[3]Daily Log'!$BM$18:$BM$1017,$B418,'[3]Daily Log'!$BN$18:$BN$1017),0)","v":0},{"$f":"IFERROR($E418*SUMIF('[3]Daily Log'!$BP$18:$BP$1017,$B418,'[3]Daily Log'!$BQ$18:$BQ$1017),0)","v":0},{"$f":"IFERROR($E418*SUMIF('[3]Daily Log'!$BS$18:$BS$1017,$B418,'[3]Daily Log'!$BT$18:$BT$1017),0)","v":0},{"$f":"IFERROR($E418*SUMIF('[3]Daily Log'!$BV$18:$BV$1017,$B418,'[3]Daily Log'!$BW$18:$BW$1017),0)","v":0},{"$f":"IFERROR($E418*SUMIF('[3]Daily Log'!$BY$18:$BY$1017,$B418,'[3]Daily Log'!$BZ$18:$BZ$1017),0)","v":0},{"$f":"IFERROR($E418*SUMIF('[3]Daily Log'!$CB$18:$CB$1017,$B418,'[3]Daily Log'!$CC$18:$CC$1017),0)","v":0},{"$f":"IFERROR($E418*SUMIF('[3]Daily Log'!$CE$18:$CE$1017,$B418,'[3]Daily Log'!$CF$18:$CF$1017),0)","v":0},{"$f":"IFERROR($E418*SUMIF('[3]Daily Log'!$CH$18:$CH$1017,$B418,'[3]Daily Log'!$CI$18:$CI$1017),0)","v":0},{"$f":"IFERROR($E418*SUMIF('[3]Daily Log'!$CK$18:$CK$1017,$B418,'[3]Daily Log'!$CL$18:$CL$1017),0)","v":0},{"$f":"IFERROR($E418*SUMIF('[3]Daily Log'!$CN$18:$CN$1017,$B418,'[3]Daily Log'!$CO$18:$CO$1017),0)","v":0}]
[null,null,null,null,null,0,{"$f":"IFERROR($E419*SUMIF('[3]Daily Log'!$B$18:$B$1017,$B419,'[3]Daily Log'!$C$18:$C$1017),0)","v":0},{"$f":"IFERROR($E419*SUMIF('[3]Daily Log'!$E$18:$E$1017,$B419,'[3]Daily Log'!$F$18:$F$1017),0)","v":0},{"$f":"IFERROR($E419*SUMIF('[3]Daily Log'!$H$18:$H$1017,$B419,'[3]Daily Log'!$I$18:$I$1017),0)","v":0},{"$f":"IFERROR($E419*SUMIF('[3]Daily Log'!$K$18:$K$1017,$B419,'[3]Daily Log'!$L$18:$L$1017),0)","v":0},{"$f":"IFERROR($E419*SUMIF('[3]Daily Log'!$N$18:$N$1017,$B419,'[3]Daily Log'!$O$18:$O$1017),0)","v":0},{"$f":"IFERROR($E419*SUMIF('[3]Daily Log'!$Q$18:$Q$1017,$B419,'[3]Daily Log'!$R$18:$R$1017),0)","v":0},{"$f":"IFERROR($E419*SUMIF('[3]Daily Log'!$T$18:$T$1017,$B419,'[3]Daily Log'!$U$18:$U$1017),0)","v":0},{"$f":"IFERROR($E419*SUMIF('[3]Daily Log'!$W$18:$W$1017,$B419,'[3]Daily Log'!$X$18:$X$1017),0)","v":0},{"$f":"IFERROR($E419*SUMIF('[3]Daily Log'!$Z$18:$Z$1017,$B419,'[3]Daily Log'!$AA$18:$AA$1017),0)","v":0},{"$f":"IFERROR($E419*SUMIF('[3]Daily Log'!$AC$18:$AC$1017,$B419,'[3]Daily Log'!$AD$18:$AD$1017),0)","v":0},{"$f":"IFERROR($E419*SUMIF('[3]Daily Log'!$AF$18:$AF$1017,$B419,'[3]Daily Log'!$AG$18:$AG$1017),0)","v":0},{"$f":"IFERROR($E419*SUMIF('[3]Daily Log'!$AI$18:$AI$1017,$B419,'[3]Daily Log'!$AJ$18:$AJ$1017),0)","v":0},{"$f":"IFERROR($E419*SUMIF('[3]Daily Log'!$AL$18:$AL$1017,$B419,'[3]Daily Log'!$AM$18:$AM$1017),0)","v":0},{"$f":"IFERROR($E419*SUMIF('[3]Daily Log'!$AO$18:$AO$1017,$B419,'[3]Daily Log'!$AP$18:$AP$1017),0)","v":0},{"$f":"IFERROR($E419*SUMIF('[3]Daily Log'!$AR$18:$AR$1017,$B419,'[3]Daily Log'!$AS$18:$AS$1017),0)","v":0},{"$f":"IFERROR($E419*SUMIF('[3]Daily Log'!$AU$18:$AU$1017,$B419,'[3]Daily Log'!$AV$18:$AV$1017),0)","v":0},{"$f":"IFERROR($E419*SUMIF('[3]Daily Log'!$AX$18:$AX$1017,$B419,'[3]Daily Log'!$AY$18:$AY$1017),0)","v":0},{"$f":"IFERROR($E419*SUMIF('[3]Daily Log'!$BA$18:$BA$1017,$B419,'[3]Daily Log'!$BB$18:$BB$1017),0)","v":0},{"$f":"IFERROR($E419*SUMIF('[3]Daily Log'!$BD$18:$BD$1017,$B419,'[3]Daily Log'!$BE$18:$BE$1017),0)","v":0},{"$f":"IFERROR($E419*SUMIF('[3]Daily Log'!$BG$18:$BG$1017,$B419,'[3]Daily Log'!$BH$18:$BH$1017),0)","v":0},{"$f":"IFERROR($E419*SUMIF('[3]Daily Log'!$BJ$18:$BJ$1017,$B419,'[3]Daily Log'!$BK$18:$BK$1017),0)","v":0},{"$f":"IFERROR($E419*SUMIF('[3]Daily Log'!$BM$18:$BM$1017,$B419,'[3]Daily Log'!$BN$18:$BN$1017),0)","v":0},{"$f":"IFERROR($E419*SUMIF('[3]Daily Log'!$BP$18:$BP$1017,$B419,'[3]Daily Log'!$BQ$18:$BQ$1017),0)","v":0},{"$f":"IFERROR($E419*SUMIF('[3]Daily Log'!$BS$18:$BS$1017,$B419,'[3]Daily Log'!$BT$18:$BT$1017),0)","v":0},{"$f":"IFERROR($E419*SUMIF('[3]Daily Log'!$BV$18:$BV$1017,$B419,'[3]Daily Log'!$BW$18:$BW$1017),0)","v":0},{"$f":"IFERROR($E419*SUMIF('[3]Daily Log'!$BY$18:$BY$1017,$B419,'[3]Daily Log'!$BZ$18:$BZ$1017),0)","v":0},{"$f":"IFERROR($E419*SUMIF('[3]Daily Log'!$CB$18:$CB$1017,$B419,'[3]Daily Log'!$CC$18:$CC$1017),0)","v":0},{"$f":"IFERROR($E419*SUMIF('[3]Daily Log'!$CE$18:$CE$1017,$B419,'[3]Daily Log'!$CF$18:$CF$1017),0)","v":0},{"$f":"IFERROR($E419*SUMIF('[3]Daily Log'!$CH$18:$CH$1017,$B419,'[3]Daily Log'!$CI$18:$CI$1017),0)","v":0},{"$f":"IFERROR($E419*SUMIF('[3]Daily Log'!$CK$18:$CK$1017,$B419,'[3]Daily Log'!$CL$18:$CL$1017),0)","v":0},{"$f":"IFERROR($E419*SUMIF('[3]Daily Log'!$CN$18:$CN$1017,$B419,'[3]Daily Log'!$CO$18:$CO$1017),0)","v":0}]
[null,null,null,null,null,0,{"$f":"IFERROR($E420*SUMIF('[3]Daily Log'!$B$18:$B$1017,$B420,'[3]Daily Log'!$C$18:$C$1017),0)","v":0},{"$f":"IFERROR($E420*SUMIF('[3]Daily Log'!$E$18:$E$1017,$B420,'[3]Daily Log'!$F$18:$F$1017),0)","v":0},{"$f":"IFERROR($E420*SUMIF('[3]Daily Log'!$H$18:$H$1017,$B420,'[3]Daily Log'!$I$18:$I$1017),0)","v":0},{"$f":"IFERROR($E420*SUMIF('[3]Daily Log'!$K$18:$K$1017,$B420,'[3]Daily Log'!$L$18:$L$1017),0)","v":0},{"$f":"IFERROR($E420*SUMIF('[3]Daily Log'!$N$18:$N$1017,$B420,'[3]Daily Log'!$O$18:$O$1017),0)","v":0},{"$f":"IFERROR($E420*SUMIF('[3]Daily Log'!$Q$18:$Q$1017,$B420,'[3]Daily Log'!$R$18:$R$1017),0)","v":0},{"$f":"IFERROR($E420*SUMIF('[3]Daily Log'!$T$18:$T$1017,$B420,'[3]Daily Log'!$U$18:$U$1017),0)","v":0},{"$f":"IFERROR($E420*SUMIF('[3]Daily Log'!$W$18:$W$1017,$B420,'[3]Daily Log'!$X$18:$X$1017),0)","v":0},{"$f":"IFERROR($E420*SUMIF('[3]Daily Log'!$Z$18:$Z$1017,$B420,'[3]Daily Log'!$AA$18:$AA$1017),0)","v":0},{"$f":"IFERROR($E420*SUMIF('[3]Daily Log'!$AC$18:$AC$1017,$B420,'[3]Daily Log'!$AD$18:$AD$1017),0)","v":0},{"$f":"IFERROR($E420*SUMIF('[3]Daily Log'!$AF$18:$AF$1017,$B420,'[3]Daily Log'!$AG$18:$AG$1017),0)","v":0},{"$f":"IFERROR($E420*SUMIF('[3]Daily Log'!$AI$18:$AI$1017,$B420,'[3]Daily Log'!$AJ$18:$AJ$1017),0)","v":0},{"$f":"IFERROR($E420*SUMIF('[3]Daily Log'!$AL$18:$AL$1017,$B420,'[3]Daily Log'!$AM$18:$AM$1017),0)","v":0},{"$f":"IFERROR($E420*SUMIF('[3]Daily Log'!$AO$18:$AO$1017,$B420,'[3]Daily Log'!$AP$18:$AP$1017),0)","v":0},{"$f":"IFERROR($E420*SUMIF('[3]Daily Log'!$AR$18:$AR$1017,$B420,'[3]Daily Log'!$AS$18:$AS$1017),0)","v":0},{"$f":"IFERROR($E420*SUMIF('[3]Daily Log'!$AU$18:$AU$1017,$B420,'[3]Daily Log'!$AV$18:$AV$1017),0)","v":0},{"$f":"IFERROR($E420*SUMIF('[3]Daily Log'!$AX$18:$AX$1017,$B420,'[3]Daily Log'!$AY$18:$AY$1017),0)","v":0},{"$f":"IFERROR($E420*SUMIF('[3]Daily Log'!$BA$18:$BA$1017,$B420,'[3]Daily Log'!$BB$18:$BB$1017),0)","v":0},{"$f":"IFERROR($E420*SUMIF('[3]Daily Log'!$BD$18:$BD$1017,$B420,'[3]Daily Log'!$BE$18:$BE$1017),0)","v":0},{"$f":"IFERROR($E420*SUMIF('[3]Daily Log'!$BG$18:$BG$1017,$B420,'[3]Daily Log'!$BH$18:$BH$1017),0)","v":0},{"$f":"IFERROR($E420*SUMIF('[3]Daily Log'!$BJ$18:$BJ$1017,$B420,'[3]Daily Log'!$BK$18:$BK$1017),0)","v":0},{"$f":"IFERROR($E420*SUMIF('[3]Daily Log'!$BM$18:$BM$1017,$B420,'[3]Daily Log'!$BN$18:$BN$1017),0)","v":0},{"$f":"IFERROR($E420*SUMIF('[3]Daily Log'!$BP$18:$BP$1017,$B420,'[3]Daily Log'!$BQ$18:$BQ$1017),0)","v":0},{"$f":"IFERROR($E420*SUMIF('[3]Daily Log'!$BS$18:$BS$1017,$B420,'[3]Daily Log'!$BT$18:$BT$1017),0)","v":0},{"$f":"IFERROR($E420*SUMIF('[3]Daily Log'!$BV$18:$BV$1017,$B420,'[3]Daily Log'!$BW$18:$BW$1017),0)","v":0},{"$f":"IFERROR($E420*SUMIF('[3]Daily Log'!$BY$18:$BY$1017,$B420,'[3]Daily Log'!$BZ$18:$BZ$1017),0)","v":0},{"$f":"IFERROR($E420*SUMIF('[3]Daily Log'!$CB$18:$CB$1017,$B420,'[3]Daily Log'!$CC$18:$CC$1017),0)","v":0},{"$f":"IFERROR($E420*SUMIF('[3]Daily Log'!$CE$18:$CE$1017,$B420,'[3]Daily Log'!$CF$18:$CF$1017),0)","v":0},{"$f":"IFERROR($E420*SUMIF('[3]Daily Log'!$CH$18:$CH$1017,$B420,'[3]Daily Log'!$CI$18:$CI$1017),0)","v":0},{"$f":"IFERROR($E420*SUMIF('[3]Daily Log'!$CK$18:$CK$1017,$B420,'[3]Daily Log'!$CL$18:$CL$1017),0)","v":0},{"$f":"IFERROR($E420*SUMIF('[3]Daily Log'!$CN$18:$CN$1017,$B420,'[3]Daily Log'!$CO$18:$CO$1017),0)","v":0}]
[null,null,null,null,null,0,{"$f":"IFERROR($E421*SUMIF('[3]Daily Log'!$B$18:$B$1017,$B421,'[3]Daily Log'!$C$18:$C$1017),0)","v":0},{"$f":"IFERROR($E421*SUMIF('[3]Daily Log'!$E$18:$E$1017,$B421,'[3]Daily Log'!$F$18:$F$1017),0)","v":0},{"$f":"IFERROR($E421*SUMIF('[3]Daily Log'!$H$18:$H$1017,$B421,'[3]Daily Log'!$I$18:$I$1017),0)","v":0},{"$f":"IFERROR($E421*SUMIF('[3]Daily Log'!$K$18:$K$1017,$B421,'[3]Daily Log'!$L$18:$L$1017),0)","v":0},{"$f":"IFERROR($E421*SUMIF('[3]Daily Log'!$N$18:$N$1017,$B421,'[3]Daily Log'!$O$18:$O$1017),0)","v":0},{"$f":"IFERROR($E421*SUMIF('[3]Daily Log'!$Q$18:$Q$1017,$B421,'[3]Daily Log'!$R$18:$R$1017),0)","v":0},{"$f":"IFERROR($E421*SUMIF('[3]Daily Log'!$T$18:$T$1017,$B421,'[3]Daily Log'!$U$18:$U$1017),0)","v":0},{"$f":"IFERROR($E421*SUMIF('[3]Daily Log'!$W$18:$W$1017,$B421,'[3]Daily Log'!$X$18:$X$1017),0)","v":0},{"$f":"IFERROR($E421*SUMIF('[3]Daily Log'!$Z$18:$Z$1017,$B421,'[3]Daily Log'!$AA$18:$AA$1017),0)","v":0},{"$f":"IFERROR($E421*SUMIF('[3]Daily Log'!$AC$18:$AC$1017,$B421,'[3]Daily Log'!$AD$18:$AD$1017),0)","v":0},{"$f":"IFERROR($E421*SUMIF('[3]Daily Log'!$AF$18:$AF$1017,$B421,'[3]Daily Log'!$AG$18:$AG$1017),0)","v":0},{"$f":"IFERROR($E421*SUMIF('[3]Daily Log'!$AI$18:$AI$1017,$B421,'[3]Daily Log'!$AJ$18:$AJ$1017),0)","v":0},{"$f":"IFERROR($E421*SUMIF('[3]Daily Log'!$AL$18:$AL$1017,$B421,'[3]Daily Log'!$AM$18:$AM$1017),0)","v":0},{"$f":"IFERROR($E421*SUMIF('[3]Daily Log'!$AO$18:$AO$1017,$B421,'[3]Daily Log'!$AP$18:$AP$1017),0)","v":0},{"$f":"IFERROR($E421*SUMIF('[3]Daily Log'!$AR$18:$AR$1017,$B421,'[3]Daily Log'!$AS$18:$AS$1017),0)","v":0},{"$f":"IFERROR($E421*SUMIF('[3]Daily Log'!$AU$18:$AU$1017,$B421,'[3]Daily Log'!$AV$18:$AV$1017),0)","v":0},{"$f":"IFERROR($E421*SUMIF('[3]Daily Log'!$AX$18:$AX$1017,$B421,'[3]Daily Log'!$AY$18:$AY$1017),0)","v":0},{"$f":"IFERROR($E421*SUMIF('[3]Daily Log'!$BA$18:$BA$1017,$B421,'[3]Daily Log'!$BB$18:$BB$1017),0)","v":0},{"$f":"IFERROR($E421*SUMIF('[3]Daily Log'!$BD$18:$BD$1017,$B421,'[3]Daily Log'!$BE$18:$BE$1017),0)","v":0},{"$f":"IFERROR($E421*SUMIF('[3]Daily Log'!$BG$18:$BG$1017,$B421,'[3]Daily Log'!$BH$18:$BH$1017),0)","v":0},{"$f":"IFERROR($E421*SUMIF('[3]Daily Log'!$BJ$18:$BJ$1017,$B421,'[3]Daily Log'!$BK$18:$BK$1017),0)","v":0},{"$f":"IFERROR($E421*SUMIF('[3]Daily Log'!$BM$18:$BM$1017,$B421,'[3]Daily Log'!$BN$18:$BN$1017),0)","v":0},{"$f":"IFERROR($E421*SUMIF('[3]Daily Log'!$BP$18:$BP$1017,$B421,'[3]Daily Log'!$BQ$18:$BQ$1017),0)","v":0},{"$f":"IFERROR($E421*SUMIF('[3]Daily Log'!$BS$18:$BS$1017,$B421,'[3]Daily Log'!$BT$18:$BT$1017),0)","v":0},{"$f":"IFERROR($E421*SUMIF('[3]Daily Log'!$BV$18:$BV$1017,$B421,'[3]Daily Log'!$BW$18:$BW$1017),0)","v":0},{"$f":"IFERROR($E421*SUMIF('[3]Daily Log'!$BY$18:$BY$1017,$B421,'[3]Daily Log'!$BZ$18:$BZ$1017),0)","v":0},{"$f":"IFERROR($E421*SUMIF('[3]Daily Log'!$CB$18:$CB$1017,$B421,'[3]Daily Log'!$CC$18:$CC$1017),0)","v":0},{"$f":"IFERROR($E421*SUMIF('[3]Daily Log'!$CE$18:$CE$1017,$B421,'[3]Daily Log'!$CF$18:$CF$1017),0)","v":0},{"$f":"IFERROR($E421*SUMIF('[3]Daily Log'!$CH$18:$CH$1017,$B421,'[3]Daily Log'!$CI$18:$CI$1017),0)","v":0},{"$f":"IFERROR($E421*SUMIF('[3]Daily Log'!$CK$18:$CK$1017,$B421,'[3]Daily Log'!$CL$18:$CL$1017),0)","v":0},{"$f":"IFERROR($E421*SUMIF('[3]Daily Log'!$CN$18:$CN$1017,$B421,'[3]Daily Log'!$CO$18:$CO$1017),0)","v":0}]
[null,null,null,null,null,0,{"$f":"IFERROR($E422*SUMIF('[3]Daily Log'!$B$18:$B$1017,$B422,'[3]Daily Log'!$C$18:$C$1017),0)","v":0},{"$f":"IFERROR($E422*SUMIF('[3]Daily Log'!$E$18:$E$1017,$B422,'[3]Daily Log'!$F$18:$F$1017),0)","v":0},{"$f":"IFERROR($E422*SUMIF('[3]Daily Log'!$H$18:$H$1017,$B422,'[3]Daily Log'!$I$18:$I$1017),0)","v":0},{"$f":"IFERROR($E422*SUMIF('[3]Daily Log'!$K$18:$K$1017,$B422,'[3]Daily Log'!$L$18:$L$1017),0)","v":0},{"$f":"IFERROR($E422*SUMIF('[3]Daily Log'!$N$18:$N$1017,$B422,'[3]Daily Log'!$O$18:$O$1017),0)","v":0},{"$f":"IFERROR($E422*SUMIF('[3]Daily Log'!$Q$18:$Q$1017,$B422,'[3]Daily Log'!$R$18:$R$1017),0)","v":0},{"$f":"IFERROR($E422*SUMIF('[3]Daily Log'!$T$18:$T$1017,$B422,'[3]Daily Log'!$U$18:$U$1017),0)","v":0},{"$f":"IFERROR($E422*SUMIF('[3]Daily Log'!$W$18:$W$1017,$B422,'[3]Daily Log'!$X$18:$X$1017),0)","v":0},{"$f":"IFERROR($E422*SUMIF('[3]Daily Log'!$Z$18:$Z$1017,$B422,'[3]Daily Log'!$AA$18:$AA$1017),0)","v":0},{"$f":"IFERROR($E422*SUMIF('[3]Daily Log'!$AC$18:$AC$1017,$B422,'[3]Daily Log'!$AD$18:$AD$1017),0)","v":0},{"$f":"IFERROR($E422*SUMIF('[3]Daily Log'!$AF$18:$AF$1017,$B422,'[3]Daily Log'!$AG$18:$AG$1017),0)","v":0},{"$f":"IFERROR($E422*SUMIF('[3]Daily Log'!$AI$18:$AI$1017,$B422,'[3]Daily Log'!$AJ$18:$AJ$1017),0)","v":0},{"$f":"IFERROR($E422*SUMIF('[3]Daily Log'!$AL$18:$AL$1017,$B422,'[3]Daily Log'!$AM$18:$AM$1017),0)","v":0},{"$f":"IFERROR($E422*SUMIF('[3]Daily Log'!$AO$18:$AO$1017,$B422,'[3]Daily Log'!$AP$18:$AP$1017),0)","v":0},{"$f":"IFERROR($E422*SUMIF('[3]Daily Log'!$AR$18:$AR$1017,$B422,'[3]Daily Log'!$AS$18:$AS$1017),0)","v":0},{"$f":"IFERROR($E422*SUMIF('[3]Daily Log'!$AU$18:$AU$1017,$B422,'[3]Daily Log'!$AV$18:$AV$1017),0)","v":0},{"$f":"IFERROR($E422*SUMIF('[3]Daily Log'!$AX$18:$AX$1017,$B422,'[3]Daily Log'!$AY$18:$AY$1017),0)","v":0},{"$f":"IFERROR($E422*SUMIF('[3]Daily Log'!$BA$18:$BA$1017,$B422,'[3]Daily Log'!$BB$18:$BB$1017),0)","v":0},{"$f":"IFERROR($E422*SUMIF('[3]Daily Log'!$BD$18:$BD$1017,$B422,'[3]Daily Log'!$BE$18:$BE$1017),0)","v":0},{"$f":"IFERROR($E422*SUMIF('[3]Daily Log'!$BG$18:$BG$1017,$B422,'[3]Daily Log'!$BH$18:$BH$1017),0)","v":0},{"$f":"IFERROR($E422*SUMIF('[3]Daily Log'!$BJ$18:$BJ$1017,$B422,'[3]Daily Log'!$BK$18:$BK$1017),0)","v":0},{"$f":"IFERROR($E422*SUMIF('[3]Daily Log'!$BM$18:$BM$1017,$B422,'[3]Daily Log'!$BN$18:$BN$1017),0)","v":0},{"$f":"IFERROR($E422*SUMIF('[3]Daily Log'!$BP$18:$BP$1017,$B422,'[3]Daily Log'!$BQ$18:$BQ$1017),0)","v":0},{"$f":"IFERROR($E422*SUMIF('[3]Daily Log'!$BS$18:$BS$1017,$B422,'[3]Daily Log'!$BT$18:$BT$1017),0)","v":0},{"$f":"IFERROR($E422*SUMIF('[3]Daily Log'!$BV$18:$BV$1017,$B422,'[3]Daily Log'!$BW$18:$BW$1017),0)","v":0},{"$f":"IFERROR($E422*SUMIF('[3]Daily Log'!$BY$18:$BY$1017,$B422,'[3]Daily Log'!$BZ$18:$BZ$1017),0)","v":0},{"$f":"IFERROR($E422*SUMIF('[3]Daily Log'!$CB$18:$CB$1017,$B422,'[3]Daily Log'!$CC$18:$CC$1017),0)","v":0},{"$f":"IFERROR($E422*SUMIF('[3]Daily Log'!$CE$18:$CE$1017,$B422,'[3]Daily Log'!$CF$18:$CF$1017),0)","v":0},{"$f":"IFERROR($E422*SUMIF('[3]Daily Log'!$CH$18:$CH$1017,$B422,'[3]Daily Log'!$CI$18:$CI$1017),0)","v":0},{"$f":"IFERROR($E422*SUMIF('[3]Daily Log'!$CK$18:$CK$1017,$B422,'[3]Daily Log'!$CL$18:$CL$1017),0)","v":0},{"$f":"IFERROR($E422*SUMIF('[3]Daily Log'!$CN$18:$CN$1017,$B422,'[3]Daily Log'!$CO$18:$CO$1017),0)","v":0}]
[null,null,null,null,null,0,{"$f":"IFERROR($E423*SUMIF('[3]Daily Log'!$B$18:$B$1017,$B423,'[3]Daily Log'!$C$18:$C$1017),0)","v":0},{"$f":"IFERROR($E423*SUMIF('[3]Daily Log'!$E$18:$E$1017,$B423,'[3]Daily Log'!$F$18:$F$1017),0)","v":0},{"$f":"IFERROR($E423*SUMIF('[3]Daily Log'!$H$18:$H$1017,$B423,'[3]Daily Log'!$I$18:$I$1017),0)","v":0},{"$f":"IFERROR($E423*SUMIF('[3]Daily Log'!$K$18:$K$1017,$B423,'[3]Daily Log'!$L$18:$L$1017),0)","v":0},{"$f":"IFERROR($E423*SUMIF('[3]Daily Log'!$N$18:$N$1017,$B423,'[3]Daily Log'!$O$18:$O$1017),0)","v":0},{"$f":"IFERROR($E423*SUMIF('[3]Daily Log'!$Q$18:$Q$1017,$B423,'[3]Daily Log'!$R$18:$R$1017),0)","v":0},{"$f":"IFERROR($E423*SUMIF('[3]Daily Log'!$T$18:$T$1017,$B423,'[3]Daily Log'!$U$18:$U$1017),0)","v":0},{"$f":"IFERROR($E423*SUMIF('[3]Daily Log'!$W$18:$W$1017,$B423,'[3]Daily Log'!$X$18:$X$1017),0)","v":0},{"$f":"IFERROR($E423*SUMIF('[3]Daily Log'!$Z$18:$Z$1017,$B423,'[3]Daily Log'!$AA$18:$AA$1017),0)","v":0},{"$f":"IFERROR($E423*SUMIF('[3]Daily Log'!$AC$18:$AC$1017,$B423,'[3]Daily Log'!$AD$18:$AD$1017),0)","v":0},{"$f":"IFERROR($E423*SUMIF('[3]Daily Log'!$AF$18:$AF$1017,$B423,'[3]Daily Log'!$AG$18:$AG$1017),0)","v":0},{"$f":"IFERROR($E423*SUMIF('[3]Daily Log'!$AI$18:$AI$1017,$B423,'[3]Daily Log'!$AJ$18:$AJ$1017),0)","v":0},{"$f":"IFERROR($E423*SUMIF('[3]Daily Log'!$AL$18:$AL$1017,$B423,'[3]Daily Log'!$AM$18:$AM$1017),0)","v":0},{"$f":"IFERROR($E423*SUMIF('[3]Daily Log'!$AO$18:$AO$1017,$B423,'[3]Daily Log'!$AP$18:$AP$1017),0)","v":0},{"$f":"IFERROR($E423*SUMIF('[3]Daily Log'!$AR$18:$AR$1017,$B423,'[3]Daily Log'!$AS$18:$AS$1017),0)","v":0},{"$f":"IFERROR($E423*SUMIF('[3]Daily Log'!$AU$18:$AU$1017,$B423,'[3]Daily Log'!$AV$18:$AV$1017),0)","v":0},{"$f":"IFERROR($E423*SUMIF('[3]Daily Log'!$AX$18:$AX$1017,$B423,'[3]Daily Log'!$AY$18:$AY$1017),0)","v":0},{"$f":"IFERROR($E423*SUMIF('[3]Daily Log'!$BA$18:$BA$1017,$B423,'[3]Daily Log'!$BB$18:$BB$1017),0)","v":0},{"$f":"IFERROR($E423*SUMIF('[3]Daily Log'!$BD$18:$BD$1017,$B423,'[3]Daily Log'!$BE$18:$BE$1017),0)","v":0},{"$f":"IFERROR($E423*SUMIF('[3]Daily Log'!$BG$18:$BG$1017,$B423,'[3]Daily Log'!$BH$18:$BH$1017),0)","v":0},{"$f":"IFERROR($E423*SUMIF('[3]Daily Log'!$BJ$18:$BJ$1017,$B423,'[3]Daily Log'!$BK$18:$BK$1017),0)","v":0},{"$f":"IFERROR($E423*SUMIF('[3]Daily Log'!$BM$18:$BM$1017,$B423,'[3]Daily Log'!$BN$18:$BN$1017),0)","v":0},{"$f":"IFERROR($E423*SUMIF('[3]Daily Log'!$BP$18:$BP$1017,$B423,'[3]Daily Log'!$BQ$18:$BQ$1017),0)","v":0},{"$f":"IFERROR($E423*SUMIF('[3]Daily Log'!$BS$18:$BS$1017,$B423,'[3]Daily Log'!$BT$18:$BT$1017),0)","v":0},{"$f":"IFERROR($E423*SUMIF('[3]Daily Log'!$BV$18:$BV$1017,$B423,'[3]Daily Log'!$BW$18:$BW$1017),0)","v":0},{"$f":"IFERROR($E423*SUMIF('[3]Daily Log'!$BY$18:$BY$1017,$B423,'[3]Daily Log'!$BZ$18:$BZ$1017),0)","v":0},{"$f":"IFERROR($E423*SUMIF('[3]Daily Log'!$CB$18:$CB$1017,$B423,'[3]Daily Log'!$CC$18:$CC$1017),0)","v":0},{"$f":"IFERROR($E423*SUMIF('[3]Daily Log'!$CE$18:$CE$1017,$B423,'[3]Daily Log'!$CF$18:$CF$1017),0)","v":0},{"$f":"IFERROR($E423*SUMIF('[3]Daily Log'!$CH$18:$CH$1017,$B423,'[3]Daily Log'!$CI$18:$CI$1017),0)","v":0},{"$f":"IFERROR($E423*SUMIF('[3]Daily Log'!$CK$18:$CK$1017,$B423,'[3]Daily Log'!$CL$18:$CL$1017),0)","v":0},{"$f":"IFERROR($E423*SUMIF('[3]Daily Log'!$CN$18:$CN$1017,$B423,'[3]Daily Log'!$CO$18:$CO$1017),0)","v":0}]
[null,null,null,null,null,0,{"$f":"IFERROR($E424*SUMIF('[3]Daily Log'!$B$18:$B$1017,$B424,'[3]Daily Log'!$C$18:$C$1017),0)","v":0},{"$f":"IFERROR($E424*SUMIF('[3]Daily Log'!$E$18:$E$1017,$B424,'[3]Daily Log'!$F$18:$F$1017),0)","v":0},{"$f":"IFERROR($E424*SUMIF('[3]Daily Log'!$H$18:$H$1017,$B424,'[3]Daily Log'!$I$18:$I$1017),0)","v":0},{"$f":"IFERROR($E424*SUMIF('[3]Daily Log'!$K$18:$K$1017,$B424,'[3]Daily Log'!$L$18:$L$1017),0)","v":0},{"$f":"IFERROR($E424*SUMIF('[3]Daily Log'!$N$18:$N$1017,$B424,'[3]Daily Log'!$O$18:$O$1017),0)","v":0},{"$f":"IFERROR($E424*SUMIF('[3]Daily Log'!$Q$18:$Q$1017,$B424,'[3]Daily Log'!$R$18:$R$1017),0)","v":0},{"$f":"IFERROR($E424*SUMIF('[3]Daily Log'!$T$18:$T$1017,$B424,'[3]Daily Log'!$U$18:$U$1017),0)","v":0},{"$f":"IFERROR($E424*SUMIF('[3]Daily Log'!$W$18:$W$1017,$B424,'[3]Daily Log'!$X$18:$X$1017),0)","v":0},{"$f":"IFERROR($E424*SUMIF('[3]Daily Log'!$Z$18:$Z$1017,$B424,'[3]Daily Log'!$AA$18:$AA$1017),0)","v":0},{"$f":"IFERROR($E424*SUMIF('[3]Daily Log'!$AC$18:$AC$1017,$B424,'[3]Daily Log'!$AD$18:$AD$1017),0)","v":0},{"$f":"IFERROR($E424*SUMIF('[3]Daily Log'!$AF$18:$AF$1017,$B424,'[3]Daily Log'!$AG$18:$AG$1017),0)","v":0},{"$f":"IFERROR($E424*SUMIF('[3]Daily Log'!$AI$18:$AI$1017,$B424,'[3]Daily Log'!$AJ$18:$AJ$1017),0)","v":0},{"$f":"IFERROR($E424*SUMIF('[3]Daily Log'!$AL$18:$AL$1017,$B424,'[3]Daily Log'!$AM$18:$AM$1017),0)","v":0},{"$f":"IFERROR($E424*SUMIF('[3]Daily Log'!$AO$18:$AO$1017,$B424,'[3]Daily Log'!$AP$18:$AP$1017),0)","v":0},{"$f":"IFERROR($E424*SUMIF('[3]Daily Log'!$AR$18:$AR$1017,$B424,'[3]Daily Log'!$AS$18:$AS$1017),0)","v":0},{"$f":"IFERROR($E424*SUMIF('[3]Daily Log'!$AU$18:$AU$1017,$B424,'[3]Daily Log'!$AV$18:$AV$1017),0)","v":0},{"$f":"IFERROR($E424*SUMIF('[3]Daily Log'!$AX$18:$AX$1017,$B424,'[3]Daily Log'!$AY$18:$AY$1017),0)","v":0},{"$f":"IFERROR($E424*SUMIF('[3]Daily Log'!$BA$18:$BA$1017,$B424,'[3]Daily Log'!$BB$18:$BB$1017),0)","v":0},{"$f":"IFERROR($E424*SUMIF('[3]Daily Log'!$BD$18:$BD$1017,$B424,'[3]Daily Log'!$BE$18:$BE$1017),0)","v":0},{"$f":"IFERROR($E424*SUMIF('[3]Daily Log'!$BG$18:$BG$1017,$B424,'[3]Daily Log'!$BH$18:$BH$1017),0)","v":0},{"$f":"IFERROR($E424*SUMIF('[3]Daily Log'!$BJ$18:$BJ$1017,$B424,'[3]Daily Log'!$BK$18:$BK$1017),0)","v":0},{"$f":"IFERROR($E424*SUMIF('[3]Daily Log'!$BM$18:$BM$1017,$B424,'[3]Daily Log'!$BN$18:$BN$1017),0)","v":0},{"$f":"IFERROR($E424*SUMIF('[3]Daily Log'!$BP$18:$BP$1017,$B424,'[3]Daily Log'!$BQ$18:$BQ$1017),0)","v":0},{"$f":"IFERROR($E424*SUMIF('[3]Daily Log'!$BS$18:$BS$1017,$B424,'[3]Daily Log'!$BT$18:$BT$1017),0)","v":0},{"$f":"IFERROR($E424*SUMIF('[3]Daily Log'!$BV$18:$BV$1017,$B424,'[3]Daily Log'!$BW$18:$BW$1017),0)","v":0},{"$f":"IFERROR($E424*SUMIF('[3]Daily Log'!$BY$18:$BY$1017,$B424,'[3]Daily Log'!$BZ$18:$BZ$1017),0)","v":0},{"$f":"IFERROR($E424*SUMIF('[3]Daily Log'!$CB$18:$CB$1017,$B424,'[3]Daily Log'!$CC$18:$CC$1017),0)","v":0},{"$f":"IFERROR($E424*SUMIF('[3]Daily Log'!$CE$18:$CE$1017,$B424,'[3]Daily Log'!$CF$18:$CF$1017),0)","v":0},{"$f":"IFERROR($E424*SUMIF('[3]Daily Log'!$CH$18:$CH$1017,$B424,'[3]Daily Log'!$CI$18:$CI$1017),0)","v":0},{"$f":"IFERROR($E424*SUMIF('[3]Daily Log'!$CK$18:$CK$1017,$B424,'[3]Daily Log'!$CL$18:$CL$1017),0)","v":0},{"$f":"IFERROR($E424*SUMIF('[3]Daily Log'!$CN$18:$CN$1017,$B424,'[3]Daily Log'!$CO$18:$CO$1017),0)","v":0}]
[null,null,null,null,null,0,{"$f":"IFERROR($E425*SUMIF('[3]Daily Log'!$B$18:$B$1017,$B425,'[3]Daily Log'!$C$18:$C$1017),0)","v":0},{"$f":"IFERROR($E425*SUMIF('[3]Daily Log'!$E$18:$E$1017,$B425,'[3]Daily Log'!$F$18:$F$1017),0)","v":0},{"$f":"IFERROR($E425*SUMIF('[3]Daily Log'!$H$18:$H$1017,$B425,'[3]Daily Log'!$I$18:$I$1017),0)","v":0},{"$f":"IFERROR($E425*SUMIF('[3]Daily Log'!$K$18:$K$1017,$B425,'[3]Daily Log'!$L$18:$L$1017),0)","v":0},{"$f":"IFERROR($E425*SUMIF('[3]Daily Log'!$N$18:$N$1017,$B425,'[3]Daily Log'!$O$18:$O$1017),0)","v":0},{"$f":"IFERROR($E425*SUMIF('[3]Daily Log'!$Q$18:$Q$1017,$B425,'[3]Daily Log'!$R$18:$R$1017),0)","v":0},{"$f":"IFERROR($E425*SUMIF('[3]Daily Log'!$T$18:$T$1017,$B425,'[3]Daily Log'!$U$18:$U$1017),0)","v":0},{"$f":"IFERROR($E425*SUMIF('[3]Daily Log'!$W$18:$W$1017,$B425,'[3]Daily Log'!$X$18:$X$1017),0)","v":0},{"$f":"IFERROR($E425*SUMIF('[3]Daily Log'!$Z$18:$Z$1017,$B425,'[3]Daily Log'!$AA$18:$AA$1017),0)","v":0},{"$f":"IFERROR($E425*SUMIF('[3]Daily Log'!$AC$18:$AC$1017,$B425,'[3]Daily Log'!$AD$18:$AD$1017),0)","v":0},{"$f":"IFERROR($E425*SUMIF('[3]Daily Log'!$AF$18:$AF$1017,$B425,'[3]Daily Log'!$AG$18:$AG$1017),0)","v":0},{"$f":"IFERROR($E425*SUMIF('[3]Daily Log'!$AI$18:$AI$1017,$B425,'[3]Daily Log'!$AJ$18:$AJ$1017),0)","v":0},{"$f":"IFERROR($E425*SUMIF('[3]Daily Log'!$AL$18:$AL$1017,$B425,'[3]Daily Log'!$AM$18:$AM$1017),0)","v":0},{"$f":"IFERROR($E425*SUMIF('[3]Daily Log'!$AO$18:$AO$1017,$B425,'[3]Daily Log'!$AP$18:$AP$1017),0)","v":0},{"$f":"IFERROR($E425*SUMIF('[3]Daily Log'!$AR$18:$AR$1017,$B425,'[3]Daily Log'!$AS$18:$AS$1017),0)","v":0},{"$f":"IFERROR($E425*SUMIF('[3]Daily Log'!$AU$18:$AU$1017,$B425,'[3]Daily Log'!$AV$18:$AV$1017),0)","v":0},{"$f":"IFERROR($E425*SUMIF('[3]Daily Log'!$AX$18:$AX$1017,$B425,'[3]Daily Log'!$AY$18:$AY$1017),0)","v":0},{"$f":"IFERROR($E425*SUMIF('[3]Daily Log'!$BA$18:$BA$1017,$B425,'[3]Daily Log'!$BB$18:$BB$1017),0)","v":0},{"$f":"IFERROR($E425*SUMIF('[3]Daily Log'!$BD$18:$BD$1017,$B425,'[3]Daily Log'!$BE$18:$BE$1017),0)","v":0},{"$f":"IFERROR($E425*SUMIF('[3]Daily Log'!$BG$18:$BG$1017,$B425,'[3]Daily Log'!$BH$18:$BH$1017),0)","v":0},{"$f":"IFERROR($E425*SUMIF('[3]Daily Log'!$BJ$18:$BJ$1017,$B425,'[3]Daily Log'!$BK$18:$BK$1017),0)","v":0},{"$f":"IFERROR($E425*SUMIF('[3]Daily Log'!$BM$18:$BM$1017,$B425,'[3]Daily Log'!$BN$18:$BN$1017),0)","v":0},{"$f":"IFERROR($E425*SUMIF('[3]Daily Log'!$BP$18:$BP$1017,$B425,'[3]Daily Log'!$BQ$18:$BQ$1017),0)","v":0},{"$f":"IFERROR($E425*SUMIF('[3]Daily Log'!$BS$18:$BS$1017,$B425,'[3]Daily Log'!$BT$18:$BT$1017),0)","v":0},{"$f":"IFERROR($E425*SUMIF('[3]Daily Log'!$BV$18:$BV$1017,$B425,'[3]Daily Log'!$BW$18:$BW$1017),0)","v":0},{"$f":"IFERROR($E425*SUMIF('[3]Daily Log'!$BY$18:$BY$1017,$B425,'[3]Daily Log'!$BZ$18:$BZ$1017),0)","v":0},{"$f":"IFERROR($E425*SUMIF('[3]Daily Log'!$CB$18:$CB$1017,$B425,'[3]Daily Log'!$CC$18:$CC$1017),0)","v":0},{"$f":"IFERROR($E425*SUMIF('[3]Daily Log'!$CE$18:$CE$1017,$B425,'[3]Daily Log'!$CF$18:$CF$1017),0)","v":0},{"$f":"IFERROR($E425*SUMIF('[3]Daily Log'!$CH$18:$CH$1017,$B425,'[3]Daily Log'!$CI$18:$CI$1017),0)","v":0},{"$f":"IFERROR($E425*SUMIF('[3]Daily Log'!$CK$18:$CK$1017,$B425,'[3]Daily Log'!$CL$18:$CL$1017),0)","v":0},{"$f":"IFERROR($E425*SUMIF('[3]Daily Log'!$CN$18:$CN$1017,$B425,'[3]Daily Log'!$CO$18:$CO$1017),0)","v":0}]
[null,null,null,null,null,0,{"$f":"IFERROR($E426*SUMIF('[3]Daily Log'!$B$18:$B$1017,$B426,'[3]Daily Log'!$C$18:$C$1017),0)","v":0},{"$f":"IFERROR($E426*SUMIF('[3]Daily Log'!$E$18:$E$1017,$B426,'[3]Daily Log'!$F$18:$F$1017),0)","v":0},{"$f":"IFERROR($E426*SUMIF('[3]Daily Log'!$H$18:$H$1017,$B426,'[3]Daily Log'!$I$18:$I$1017),0)","v":0},{"$f":"IFERROR($E426*SUMIF('[3]Daily Log'!$K$18:$K$1017,$B426,'[3]Daily Log'!$L$18:$L$1017),0)","v":0},{"$f":"IFERROR($E426*SUMIF('[3]Daily Log'!$N$18:$N$1017,$B426,'[3]Daily Log'!$O$18:$O$1017),0)","v":0},{"$f":"IFERROR($E426*SUMIF('[3]Daily Log'!$Q$18:$Q$1017,$B426,'[3]Daily Log'!$R$18:$R$1017),0)","v":0},{"$f":"IFERROR($E426*SUMIF('[3]Daily Log'!$T$18:$T$1017,$B426,'[3]Daily Log'!$U$18:$U$1017),0)","v":0},{"$f":"IFERROR($E426*SUMIF('[3]Daily Log'!$W$18:$W$1017,$B426,'[3]Daily Log'!$X$18:$X$1017),0)","v":0},{"$f":"IFERROR($E426*SUMIF('[3]Daily Log'!$Z$18:$Z$1017,$B426,'[3]Daily Log'!$AA$18:$AA$1017),0)","v":0},{"$f":"IFERROR($E426*SUMIF('[3]Daily Log'!$AC$18:$AC$1017,$B426,'[3]Daily Log'!$AD$18:$AD$1017),0)","v":0},{"$f":"IFERROR($E426*SUMIF('[3]Daily Log'!$AF$18:$AF$1017,$B426,'[3]Daily Log'!$AG$18:$AG$1017),0)","v":0},{"$f":"IFERROR($E426*SUMIF('[3]Daily Log'!$AI$18:$AI$1017,$B426,'[3]Daily Log'!$AJ$18:$AJ$1017),0)","v":0},{"$f":"IFERROR($E426*SUMIF('[3]Daily Log'!$AL$18:$AL$1017,$B426,'[3]Daily Log'!$AM$18:$AM$1017),0)","v":0},{"$f":"IFERROR($E426*SUMIF('[3]Daily Log'!$AO$18:$AO$1017,$B426,'[3]Daily Log'!$AP$18:$AP$1017),0)","v":0},{"$f":"IFERROR($E426*SUMIF('[3]Daily Log'!$AR$18:$AR$1017,$B426,'[3]Daily Log'!$AS$18:$AS$1017),0)","v":0},{"$f":"IFERROR($E426*SUMIF('[3]Daily Log'!$AU$18:$AU$1017,$B426,'[3]Daily Log'!$AV$18:$AV$1017),0)","v":0},{"$f":"IFERROR($E426*SUMIF('[3]Daily Log'!$AX$18:$AX$1017,$B426,'[3]Daily Log'!$AY$18:$AY$1017),0)","v":0},{"$f":"IFERROR($E426*SUMIF('[3]Daily Log'!$BA$18:$BA$1017,$B426,'[3]Daily Log'!$BB$18:$BB$1017),0)","v":0},{"$f":"IFERROR($E426*SUMIF('[3]Daily Log'!$BD$18:$BD$1017,$B426,'[3]Daily Log'!$BE$18:$BE$1017),0)","v":0},{"$f":"IFERROR($E426*SUMIF('[3]Daily Log'!$BG$18:$BG$1017,$B426,'[3]Daily Log'!$BH$18:$BH$1017),0)","v":0},{"$f":"IFERROR($E426*SUMIF('[3]Daily Log'!$BJ$18:$BJ$1017,$B426,'[3]Daily Log'!$BK$18:$BK$1017),0)","v":0},{"$f":"IFERROR($E426*SUMIF('[3]Daily Log'!$BM$18:$BM$1017,$B426,'[3]Daily Log'!$BN$18:$BN$1017),0)","v":0},{"$f":"IFERROR($E426*SUMIF('[3]Daily Log'!$BP$18:$BP$1017,$B426,'[3]Daily Log'!$BQ$18:$BQ$1017),0)","v":0},{"$f":"IFERROR($E426*SUMIF('[3]Daily Log'!$BS$18:$BS$1017,$B426,'[3]Daily Log'!$BT$18:$BT$1017),0)","v":0},{"$f":"IFERROR($E426*SUMIF('[3]Daily Log'!$BV$18:$BV$1017,$B426,'[3]Daily Log'!$BW$18:$BW$1017),0)","v":0},{"$f":"IFERROR($E426*SUMIF('[3]Daily Log'!$BY$18:$BY$1017,$B426,'[3]Daily Log'!$BZ$18:$BZ$1017),0)","v":0},{"$f":"IFERROR($E426*SUMIF('[3]Daily Log'!$CB$18:$CB$1017,$B426,'[3]Daily Log'!$CC$18:$CC$1017),0)","v":0},{"$f":"IFERROR($E426*SUMIF('[3]Daily Log'!$CE$18:$CE$1017,$B426,'[3]Daily Log'!$CF$18:$CF$1017),0)","v":0},{"$f":"IFERROR($E426*SUMIF('[3]Daily Log'!$CH$18:$CH$1017,$B426,'[3]Daily Log'!$CI$18:$CI$1017),0)","v":0},{"$f":"IFERROR($E426*SUMIF('[3]Daily Log'!$CK$18:$CK$1017,$B426,'[3]Daily Log'!$CL$18:$CL$1017),0)","v":0},{"$f":"IFERROR($E426*SUMIF('[3]Daily Log'!$CN$18:$CN$1017,$B426,'[3]Daily Log'!$CO$18:$CO$1017),0)","v":0}]
[null,null,null,null,null,0,{"$f":"IFERROR($E427*SUMIF('[3]Daily Log'!$B$18:$B$1017,$B427,'[3]Daily Log'!$C$18:$C$1017),0)","v":0},{"$f":"IFERROR($E427*SUMIF('[3]Daily Log'!$E$18:$E$1017,$B427,'[3]Daily Log'!$F$18:$F$1017),0)","v":0},{"$f":"IFERROR($E427*SUMIF('[3]Daily Log'!$H$18:$H$1017,$B427,'[3]Daily Log'!$I$18:$I$1017),0)","v":0},{"$f":"IFERROR($E427*SUMIF('[3]Daily Log'!$K$18:$K$1017,$B427,'[3]Daily Log'!$L$18:$L$1017),0)","v":0},{"$f":"IFERROR($E427*SUMIF('[3]Daily Log'!$N$18:$N$1017,$B427,'[3]Daily Log'!$O$18:$O$1017),0)","v":0},{"$f":"IFERROR($E427*SUMIF('[3]Daily Log'!$Q$18:$Q$1017,$B427,'[3]Daily Log'!$R$18:$R$1017),0)","v":0},{"$f":"IFERROR($E427*SUMIF('[3]Daily Log'!$T$18:$T$1017,$B427,'[3]Daily Log'!$U$18:$U$1017),0)","v":0},{"$f":"IFERROR($E427*SUMIF('[3]Daily Log'!$W$18:$W$1017,$B427,'[3]Daily Log'!$X$18:$X$1017),0)","v":0},{"$f":"IFERROR($E427*SUMIF('[3]Daily Log'!$Z$18:$Z$1017,$B427,'[3]Daily Log'!$AA$18:$AA$1017),0)","v":0},{"$f":"IFERROR($E427*SUMIF('[3]Daily Log'!$AC$18:$AC$1017,$B427,'[3]Daily Log'!$AD$18:$AD$1017),0)","v":0},{"$f":"IFERROR($E427*SUMIF('[3]Daily Log'!$AF$18:$AF$1017,$B427,'[3]Daily Log'!$AG$18:$AG$1017),0)","v":0},{"$f":"IFERROR($E427*SUMIF('[3]Daily Log'!$AI$18:$AI$1017,$B427,'[3]Daily Log'!$AJ$18:$AJ$1017),0)","v":0},{"$f":"IFERROR($E427*SUMIF('[3]Daily Log'!$AL$18:$AL$1017,$B427,'[3]Daily Log'!$AM$18:$AM$1017),0)","v":0},{"$f":"IFERROR($E427*SUMIF('[3]Daily Log'!$AO$18:$AO$1017,$B427,'[3]Daily Log'!$AP$18:$AP$1017),0)","v":0},{"$f":"IFERROR($E427*SUMIF('[3]Daily Log'!$AR$18:$AR$1017,$B427,'[3]Daily Log'!$AS$18:$AS$1017),0)","v":0},{"$f":"IFERROR($E427*SUMIF('[3]Daily Log'!$AU$18:$AU$1017,$B427,'[3]Daily Log'!$AV$18:$AV$1017),0)","v":0},{"$f":"IFERROR($E427*SUMIF('[3]Daily Log'!$AX$18:$AX$1017,$B427,'[3]Daily Log'!$AY$18:$AY$1017),0)","v":0},{"$f":"IFERROR($E427*SUMIF('[3]Daily Log'!$BA$18:$BA$1017,$B427,'[3]Daily Log'!$BB$18:$BB$1017),0)","v":0},{"$f":"IFERROR($E427*SUMIF('[3]Daily Log'!$BD$18:$BD$1017,$B427,'[3]Daily Log'!$BE$18:$BE$1017),0)","v":0},{"$f":"IFERROR($E427*SUMIF('[3]Daily Log'!$BG$18:$BG$1017,$B427,'[3]Daily Log'!$BH$18:$BH$1017),0)","v":0},{"$f":"IFERROR($E427*SUMIF('[3]Daily Log'!$BJ$18:$BJ$1017,$B427,'[3]Daily Log'!$BK$18:$BK$1017),0)","v":0},{"$f":"IFERROR($E427*SUMIF('[3]Daily Log'!$BM$18:$BM$1017,$B427,'[3]Daily Log'!$BN$18:$BN$1017),0)","v":0},{"$f":"IFERROR($E427*SUMIF('[3]Daily Log'!$BP$18:$BP$1017,$B427,'[3]Daily Log'!$BQ$18:$BQ$1017),0)","v":0},{"$f":"IFERROR($E427*SUMIF('[3]Daily Log'!$BS$18:$BS$1017,$B427,'[3]Daily Log'!$BT$18:$BT$1017),0)","v":0},{"$f":"IFERROR($E427*SUMIF('[3]Daily Log'!$BV$18:$BV$1017,$B427,'[3]Daily Log'!$BW$18:$BW$1017),0)","v":0},{"$f":"IFERROR($E427*SUMIF('[3]Daily Log'!$BY$18:$BY$1017,$B427,'[3]Daily Log'!$BZ$18:$BZ$1017),0)","v":0},{"$f":"IFERROR($E427*SUMIF('[3]Daily Log'!$CB$18:$CB$1017,$B427,'[3]Daily Log'!$CC$18:$CC$1017),0)","v":0},{"$f":"IFERROR($E427*SUMIF('[3]Daily Log'!$CE$18:$CE$1017,$B427,'[3]Daily Log'!$CF$18:$CF$1017),0)","v":0},{"$f":"IFERROR($E427*SUMIF('[3]Daily Log'!$CH$18:$CH$1017,$B427,'[3]Daily Log'!$CI$18:$CI$1017),0)","v":0},{"$f":"IFERROR($E427*SUMIF('[3]Daily Log'!$CK$18:$CK$1017,$B427,'[3]Daily Log'!$CL$18:$CL$1017),0)","v":0},{"$f":"IFERROR($E427*SUMIF('[3]Daily Log'!$CN$18:$CN$1017,$B427,'[3]Daily Log'!$CO$18:$CO$1017),0)","v":0}]
[null,null,null,null,null,0,{"$f":"IFERROR($E428*SUMIF('[3]Daily Log'!$B$18:$B$1017,$B428,'[3]Daily Log'!$C$18:$C$1017),0)","v":0},{"$f":"IFERROR($E428*SUMIF('[3]Daily Log'!$E$18:$E$1017,$B428,'[3]Daily Log'!$F$18:$F$1017),0)","v":0},{"$f":"IFERROR($E428*SUMIF('[3]Daily Log'!$H$18:$H$1017,$B428,'[3]Daily Log'!$I$18:$I$1017),0)","v":0},{"$f":"IFERROR($E428*SUMIF('[3]Daily Log'!$K$18:$K$1017,$B428,'[3]Daily Log'!$L$18:$L$1017),0)","v":0},{"$f":"IFERROR($E428*SUMIF('[3]Daily Log'!$N$18:$N$1017,$B428,'[3]Daily Log'!$O$18:$O$1017),0)","v":0},{"$f":"IFERROR($E428*SUMIF('[3]Daily Log'!$Q$18:$Q$1017,$B428,'[3]Daily Log'!$R$18:$R$1017),0)","v":0},{"$f":"IFERROR($E428*SUMIF('[3]Daily Log'!$T$18:$T$1017,$B428,'[3]Daily Log'!$U$18:$U$1017),0)","v":0},{"$f":"IFERROR($E428*SUMIF('[3]Daily Log'!$W$18:$W$1017,$B428,'[3]Daily Log'!$X$18:$X$1017),0)","v":0},{"$f":"IFERROR($E428*SUMIF('[3]Daily Log'!$Z$18:$Z$1017,$B428,'[3]Daily Log'!$AA$18:$AA$1017),0)","v":0},{"$f":"IFERROR($E428*SUMIF('[3]Daily Log'!$AC$18:$AC$1017,$B428,'[3]Daily Log'!$AD$18:$AD$1017),0)","v":0},{"$f":"IFERROR($E428*SUMIF('[3]Daily Log'!$AF$18:$AF$1017,$B428,'[3]Daily Log'!$AG$18:$AG$1017),0)","v":0},{"$f":"IFERROR($E428*SUMIF('[3]Daily Log'!$AI$18:$AI$1017,$B428,'[3]Daily Log'!$AJ$18:$AJ$1017),0)","v":0},{"$f":"IFERROR($E428*SUMIF('[3]Daily Log'!$AL$18:$AL$1017,$B428,'[3]Daily Log'!$AM$18:$AM$1017),0)","v":0},{"$f":"IFERROR($E428*SUMIF('[3]Daily Log'!$AO$18:$AO$1017,$B428,'[3]Daily Log'!$AP$18:$AP$1017),0)","v":0},{"$f":"IFERROR($E428*SUMIF('[3]Daily Log'!$AR$18:$AR$1017,$B428,'[3]Daily Log'!$AS$18:$AS$1017),0)","v":0},{"$f":"IFERROR($E428*SUMIF('[3]Daily Log'!$AU$18:$AU$1017,$B428,'[3]Daily Log'!$AV$18:$AV$1017),0)","v":0},{"$f":"IFERROR($E428*SUMIF('[3]Daily Log'!$AX$18:$AX$1017,$B428,'[3]Daily Log'!$AY$18:$AY$1017),0)","v":0},{"$f":"IFERROR($E428*SUMIF('[3]Daily Log'!$BA$18:$BA$1017,$B428,'[3]Daily Log'!$BB$18:$BB$1017),0)","v":0},{"$f":"IFERROR($E428*SUMIF('[3]Daily Log'!$BD$18:$BD$1017,$B428,'[3]Daily Log'!$BE$18:$BE$1017),0)","v":0},{"$f":"IFERROR($E428*SUMIF('[3]Daily Log'!$BG$18:$BG$1017,$B428,'[3]Daily Log'!$BH$18:$BH$1017),0)","v":0},{"$f":"IFERROR($E428*SUMIF('[3]Daily Log'!$BJ$18:$BJ$1017,$B428,'[3]Daily Log'!$BK$18:$BK$1017),0)","v":0},{"$f":"IFERROR($E428*SUMIF('[3]Daily Log'!$BM$18:$BM$1017,$B428,'[3]Daily Log'!$BN$18:$BN$1017),0)","v":0},{"$f":"IFERROR($E428*SUMIF('[3]Daily Log'!$BP$18:$BP$1017,$B428,'[3]Daily Log'!$BQ$18:$BQ$1017),0)","v":0},{"$f":"IFERROR($E428*SUMIF('[3]Daily Log'!$BS$18:$BS$1017,$B428,'[3]Daily Log'!$BT$18:$BT$1017),0)","v":0},{"$f":"IFERROR($E428*SUMIF('[3]Daily Log'!$BV$18:$BV$1017,$B428,'[3]Daily Log'!$BW$18:$BW$1017),0)","v":0},{"$f":"IFERROR($E428*SUMIF('[3]Daily Log'!$BY$18:$BY$1017,$B428,'[3]Daily Log'!$BZ$18:$BZ$1017),0)","v":0},{"$f":"IFERROR($E428*SUMIF('[3]Daily Log'!$CB$18:$CB$1017,$B428,'[3]Daily Log'!$CC$18:$CC$1017),0)","v":0},{"$f":"IFERROR($E428*SUMIF('[3]Daily Log'!$CE$18:$CE$1017,$B428,'[3]Daily Log'!$CF$18:$CF$1017),0)","v":0},{"$f":"IFERROR($E428*SUMIF('[3]Daily Log'!$CH$18:$CH$1017,$B428,'[3]Daily Log'!$CI$18:$CI$1017),0)","v":0},{"$f":"IFERROR($E428*SUMIF('[3]Daily Log'!$CK$18:$CK$1017,$B428,'[3]Daily Log'!$CL$18:$CL$1017),0)","v":0},{"$f":"IFERROR($E428*SUMIF('[3]Daily Log'!$CN$18:$CN$1017,$B428,'[3]Daily Log'!$CO$18:$CO$1017),0)","v":0}]
[null,null,null,null,null,0,{"$f":"IFERROR($E429*SUMIF('[3]Daily Log'!$B$18:$B$1017,$B429,'[3]Daily Log'!$C$18:$C$1017),0)","v":0},{"$f":"IFERROR($E429*SUMIF('[3]Daily Log'!$E$18:$E$1017,$B429,'[3]Daily Log'!$F$18:$F$1017),0)","v":0},{"$f":"IFERROR($E429*SUMIF('[3]Daily Log'!$H$18:$H$1017,$B429,'[3]Daily Log'!$I$18:$I$1017),0)","v":0},{"$f":"IFERROR($E429*SUMIF('[3]Daily Log'!$K$18:$K$1017,$B429,'[3]Daily Log'!$L$18:$L$1017),0)","v":0},{"$f":"IFERROR($E429*SUMIF('[3]Daily Log'!$N$18:$N$1017,$B429,'[3]Daily Log'!$O$18:$O$1017),0)","v":0},{"$f":"IFERROR($E429*SUMIF('[3]Daily Log'!$Q$18:$Q$1017,$B429,'[3]Daily Log'!$R$18:$R$1017),0)","v":0},{"$f":"IFERROR($E429*SUMIF('[3]Daily Log'!$T$18:$T$1017,$B429,'[3]Daily Log'!$U$18:$U$1017),0)","v":0},{"$f":"IFERROR($E429*SUMIF('[3]Daily Log'!$W$18:$W$1017,$B429,'[3]Daily Log'!$X$18:$X$1017),0)","v":0},{"$f":"IFERROR($E429*SUMIF('[3]Daily Log'!$Z$18:$Z$1017,$B429,'[3]Daily Log'!$AA$18:$AA$1017),0)","v":0},{"$f":"IFERROR($E429*SUMIF('[3]Daily Log'!$AC$18:$AC$1017,$B429,'[3]Daily Log'!$AD$18:$AD$1017),0)","v":0},{"$f":"IFERROR($E429*SUMIF('[3]Daily Log'!$AF$18:$AF$1017,$B429,'[3]Daily Log'!$AG$18:$AG$1017),0)","v":0},{"$f":"IFERROR($E429*SUMIF('[3]Daily Log'!$AI$18:$AI$1017,$B429,'[3]Daily Log'!$AJ$18:$AJ$1017),0)","v":0},{"$f":"IFERROR($E429*SUMIF('[3]Daily Log'!$AL$18:$AL$1017,$B429,'[3]Daily Log'!$AM$18:$AM$1017),0)","v":0},{"$f":"IFERROR($E429*SUMIF('[3]Daily Log'!$AO$18:$AO$1017,$B429,'[3]Daily Log'!$AP$18:$AP$1017),0)","v":0},{"$f":"IFERROR($E429*SUMIF('[3]Daily Log'!$AR$18:$AR$1017,$B429,'[3]Daily Log'!$AS$18:$AS$1017),0)","v":0},{"$f":"IFERROR($E429*SUMIF('[3]Daily Log'!$AU$18:$AU$1017,$B429,'[3]Daily Log'!$AV$18:$AV$1017),0)","v":0},{"$f":"IFERROR($E429*SUMIF('[3]Daily Log'!$AX$18:$AX$1017,$B429,'[3]Daily Log'!$AY$18:$AY$1017),0)","v":0},{"$f":"IFERROR($E429*SUMIF('[3]Daily Log'!$BA$18:$BA$1017,$B429,'[3]Daily Log'!$BB$18:$BB$1017),0)","v":0},{"$f":"IFERROR($E429*SUMIF('[3]Daily Log'!$BD$18:$BD$1017,$B429,'[3]Daily Log'!$BE$18:$BE$1017),0)","v":0},{"$f":"IFERROR($E429*SUMIF('[3]Daily Log'!$BG$18:$BG$1017,$B429,'[3]Daily Log'!$BH$18:$BH$1017),0)","v":0},{"$f":"IFERROR($E429*SUMIF('[3]Daily Log'!$BJ$18:$BJ$1017,$B429,'[3]Daily Log'!$BK$18:$BK$1017),0)","v":0},{"$f":"IFERROR($E429*SUMIF('[3]Daily Log'!$BM$18:$BM$1017,$B429,'[3]Daily Log'!$BN$18:$BN$1017),0)","v":0},{"$f":"IFERROR($E429*SUMIF('[3]Daily Log'!$BP$18:$BP$1017,$B429,'[3]Daily Log'!$BQ$18:$BQ$1017),0)","v":0},{"$f":"IFERROR($E429*SUMIF('[3]Daily Log'!$BS$18:$BS$1017,$B429,'[3]Daily Log'!$BT$18:$BT$1017),0)","v":0},{"$f":"IFERROR($E429*SUMIF('[3]Daily Log'!$BV$18:$BV$1017,$B429,'[3]Daily Log'!$BW$18:$BW$1017),0)","v":0},{"$f":"IFERROR($E429*SUMIF('[3]Daily Log'!$BY$18:$BY$1017,$B429,'[3]Daily Log'!$BZ$18:$BZ$1017),0)","v":0},{"$f":"IFERROR($E429*SUMIF('[3]Daily Log'!$CB$18:$CB$1017,$B429,'[3]Daily Log'!$CC$18:$CC$1017),0)","v":0},{"$f":"IFERROR($E429*SUMIF('[3]Daily Log'!$CE$18:$CE$1017,$B429,'[3]Daily Log'!$CF$18:$CF$1017),0)","v":0},{"$f":"IFERROR($E429*SUMIF('[3]Daily Log'!$CH$18:$CH$1017,$B429,'[3]Daily Log'!$CI$18:$CI$1017),0)","v":0},{"$f":"IFERROR($E429*SUMIF('[3]Daily Log'!$CK$18:$CK$1017,$B429,'[3]Daily Log'!$CL$18:$CL$1017),0)","v":0},{"$f":"IFERROR($E429*SUMIF('[3]Daily Log'!$CN$18:$CN$1017,$B429,'[3]Daily Log'!$CO$18:$CO$1017),0)","v":0}]
[]
[null,"Copyright © 2013 by Oracle Symphony Sdn Bhd"]

{"sheet":"Daily Log","index":2,"n_rows":1048,"n_cols":96,"rows_kept":1048,"cut":false,"hidden":false,"merged":[[5,2,5,4],[7,2,7,4],[9,2,9,4]]}
[]
[]
[null,null,"DAILY LOG OF PRODUCT SALES"]
[]
[]
[null,"OUTLET",{"$f":"Summary!C6","v":"CCS"}]
[]
[null,"YEAR",{"$f":"Summary!C8","v":"2013"}]
[]
[null,"MONTH",{"$f":"Summary!C10","v":"AUGUST"}]
[]
[]
[]
[{"$f":"IFERROR(INDEX($CR$18:$CR$48,MAX($B$17:$CO$17),1),\"\")","v":0},{"$f":"\"DATE  \"&TEXT(Summary!G27,\"DD / MM / YYYY\")","v":"DATE  01 / 08 / 2013"},null,null,{"$f":"\"DATE  \"&TEXT(Summary!H27,\"DD / MM / YYYY\")","v":"DATE  02 / 08 / 2013"},null,null,{"$f":"\"DATE  \"&TEXT(Summary!I27,\"DD / MM / YYYY\")","v":"DATE  03 / 08 / 2013"},null,null,{"$f":"\"DATE  \"&TEXT(Summary!J27,\"DD / MM / YYYY\")","v":"DATE  04 / 08 / 2013"},null,null,{"$f":"\"DATE  \"&TEXT(Summary!K27,\"DD / MM / YYYY\")","v":"DATE  05 / 08 / 2013"},null,null,{"$f":"\"DATE  \"&TEXT(Summary!L27,\"DD / MM / YYYY\")","v":"DATE  06 / 08 / 2013"},null,null,{"$f":"\"DATE  \"&TEXT(Summary!M27,\"DD / MM / YYYY\")","v":"DATE  07 / 08 / 2013"},null,null,{"$f":"\"DATE  \"&TEXT(Summary!N27,\"DD / MM / YYYY\")","v":"DATE  08 / 08 / 2013"},null,null,{"$f":"\"DATE  \"&TEXT(Summary!O27,\"DD / MM / YYYY\")","v":"DATE  09 / 08 / 2013"},null,null,{"$f":"\"DATE  \"&TEXT(Summary!P27,\"DD / MM / YYYY\")","v":"DATE  10 / 08 / 2013"},null,null,{"$f":"\"DATE  \"&TEXT(Summary!Q27,\"DD / MM / YYYY\")","v":"DATE  11 / 08 / 2013"},null,null,{"$f":"\"DATE  \"&TEXT(Summary!R27,\"DD / MM / YYYY\")","v":"DATE  12 / 08 / 2013"},null,null,{"$f":"\"DATE  \"&TEXT(Summary!S27,\"DD / MM / YYYY\")","v":"DATE  13 / 08 / 2013"},null,null,{"$f":"\"DATE  \"&TEXT(Summary!T27,\"DD / MM / YYYY\")","v":"DATE  14 / 08 / 2013"},null,null,{"$f":"\"DATE  \"&TEXT(Summary!U27,\"DD / MM / YYYY\")","v":"DATE  15 / 08 / 2013"},null,null,{"$f":"\"DATE  \"&TEXT(Summary!V27,\"DD / MM / YYYY\")","v":"DATE  16 / 08 / 2013"},null,null,{"$f":"\"DATE  \"&TEXT(Summary!W27,\"DD / MM / YYYY\")","v":"DATE  17 / 08 / 2013"},null,null,{"$f":"\"DATE  \"&TEXT(Summary!X27,\"DD / MM / YYYY\")","v":"DATE  18 / 08 / 2013"},null,null,{"$f":"\"DATE  \"&TEXT(Summary!Y27,\"DD / MM / YYYY\")","v":"DATE  19 / 08 / 2013"},null,null,{"$f":"\"DATE  \"&TEXT(Summary!Z27,\"DD / MM / YYYY\")","v":"DATE  20 / 08 / 2013"},null,null,{"$f":"\"DATE  \"&TEXT(Summary!AA27,\"DD / MM / YYYY\")","v":"DATE  21 / 08 / 2013"},null,null,{"$f":"\"DATE  \"&TEXT(Summary!AB27,\"DD / MM / YYYY\")","v":"DATE  22 / 08 / 2013"},null,null,{"$f":"\"DATE  \"&TEXT(Summary!AC27,\"DD / MM / YYYY\")","v":"DATE  23 / 08 / 2013"},null,null,{"$f":"\"DATE  \"&TEXT(Summary!AD27,\"DD / MM / YYYY\")","v":"DATE  24 / 08 / 2013"},null,null,{"$f":"\"DATE  \"&TEXT(Summary!AE27,\"DD / MM / YYYY\")","v":"DATE  25 / 08 / 2013"},null,null,{"$f":"\"DATE  \"&TEXT(Summary!AF27,\"DD / MM / YYYY\")","v":"DATE  26 / 08 / 2013"},null,null,{"$f":"\"DATE  \"&TEXT(Summary!AG27,\"DD / MM / YYYY\")","v":"DATE  27 / 08 / 2013"},null,null,{"$f":"\"DATE  \"&TEXT(Summary!AH27,\"DD / MM / YYYY\")","v":"DATE  28 / 08 / 2013"},null,null,{"$f":"\"DATE  \"&TEXT(Summary!AI27,\"DD / MM / YYYY\")","v":"DATE  29 / 08 / 2013"},null,null,{"$f":"\"DATE  \"&TEXT(Summary!AJ27,\"DD / MM / YYYY\")","v":"DATE  30 / 08 / 2013"},null,null,{"$f":"\"DATE  \"&TEXT(Summary!AK27,\"DD / MM / YYYY\")","v":"DATE  31 / 08 / 2013"},null,null,"COLUMN"]
[]
[null,"PRODUCT","QUANTITY",null,"PRODUCT","QUANTITY",null,"PRODUCT","QUANTITY",null,"PRODUCT","QUANTITY",null,"PRODUCT","QUANTITY",null,"PRODUCT","QUANTITY",null,"PRODUCT","QUANTITY",null,"PRODUCT","QUANTITY",null,"PRODUCT","QUANTITY",null,"PRODUCT","QUANTITY",null,"PRODUCT","QUANTITY",null,"PRODUCT","QUANTITY",null,"PRODUCT","QUANTITY",null,"PRODUCT","QUANTITY",null,"PRODUCT","QUANTITY",null,"PRODUCT","QUANTITY",null,"PRODUCT","QUANTITY",null,"PRODUCT","QUANTITY",null,"PRODUCT","QUANTITY",null,"PRODUCT","QUANTITY",null,"PRODUCT","QUANTITY",null,"PRODUCT","QUANTITY",null,"PRODUCT","QUANTITY",null,"PRODUCT","QUANTITY",null,"PRODUCT","QUANTITY",null,"PRODUCT","QUANTITY",null,"PRODUCT","QUANTITY",null,"PRODUCT","QUANTITY",null,"PRODUCT","QUANTITY",null,"PRODUCT","QUANTITY",null,"PRODUCT","QUANTITY",null,"MONTH","COLUMN"]
[null,{"$f":"IF(B18<>\"\",1,0)","v":0},null,null,{"$f":"IF(E18<>\"\",2,0)","v":0},null,null,{"$f":"IF(H18<>\"\",3,0)","v":0},null,null,{"$f":"IF(K18<>\"\",4,0)","v":0},null,null,{"$f":"IF(N18<>\"\",5,0)","v":0},null,null,{"$f":"IF(Q18<>\"\",6,0)","v":0},null,null,{"$f":"IF(T18<>\"\",7,0)","v":0},null,null,{"$f":"IF(W18<>\"\",8,0)","v":0},null,null,{"$f":"IF(Z18<>\"\",9,0)","v":0},null,null,{"$f":"IF(AC18<>\"\",10,0)","v":0},null,null,{"$f":"IF(AF18<>\"\",11,0)","v":0},null,null,{"$f":"IF(AI18<>\"\",12,0)","v":0},null,null,{"$f":"IF(AL18<>\"\",13,0)","v":0},null,null,{"$f":"IF(AO18<>\"\",14,0)","v":0},null,null,{"$f":"IF(AR18<>\"\",15,0)","v":0},null,null,{"$f":"IF(AU18<>\"\",16,0)","v":0},null,null,{"$f":"IF(AX18<>\"\",17,0)","v":0},null,null,{"$f":"IF(BA18<>\"\",23,0)","v":0},null,null,{"$f":"IF(BD18<>\"\",23,0)","v":0},null,null,{"$f":"IF(BG18<>\"\",23,0)","v":0},null,null,{"$f":"IF(BJ18<>\"\",23,0)","v":0},null,null,{"$f":"IF(BM18<>\"\",23,0)","v":0},null,null,{"$f":"IF(BP18<>\"\",23,0)","v":0},null,null,{"$f":"IF(BS18<>\"\",24,0)","v":0},null,null,{"$f":"IF(BV18<>\"\",25,0)","v":0},null,null,{"$f":"IF(BY18<>\"\",26,0)","v":0},null,null,{"$f":"IF(CB18<>\"\",27,0)","v":0},null,null,{"$f":"IF(CE18<>\"\",28,0)","v":0},null,null,{"$f":"IF(CH18<>\"\",29,0)","v":0},null,null,{"$f":"IF(CK18<>\"\",30,0)","v":0},null,null,{"$f":"IF(CN18<>\"\",23,0)","v":23}]
[{"$f":"IFERROR(IF(INDIRECT($A$14&ROW())<>\"\",COUNTIF(Summary!$B$30:$B$1094,INDIRECT($A$14&ROW())),\"\"),\"\")","v":""},null,null,null,null,null,null,null,null,null,null,null,null,null,null,null,null,null,null,null,null,null,null,null,null,null,null,null,null,null,null,null,null,null,null,null,null,null,null,null,null,null,null,null,null,null,null,null,null,null,null,null,null,null,null,null,null,null,null,null,null,null,null,null,null,null,null,null,null,null,null,null,null,null,null,null,null,null,null,null,null,null,null,null,null,null,null,null,null,null,null,"AA01 K : REGULAR",36]
[{"$f":"IFERROR(IF(INDIRECT($A$14&ROW())<>\"\",COUNTIF(Summary!$B$30:$B$1094,INDIRECT($A$14&ROW())),\"\"),\"\")","v":""},null,null,null,null,null,null,null,null,null,null,null,null,null,null,null,null,null,null,null,null,null,null,null,null,null,null,null,null,null,null,null,null,null,null,null,null,null,null,null,null,null,null,null,null,null,null,null,null,null,null,null,null,null,null,null,null,null,null,null,null,null,null,null,null,null,null,null,null,null,null,null,null,null,null,null,null,null,null,null,null,null,null,null,null,null,null,null,null,null,null,"AA02 K : MEMBER",5]
[{"$f":"IFERROR(IF(INDIRECT($A$14&ROW())<>\"\",COUNTIF(Summary!$B$30:$B$1094,INDIRECT($A$14&ROW())),\"\"),\"\")","v":""},null,null,null,null,null,null,null,null,null,null,null,null,null,null,null,null,null,null,null,null,null,null,null,null,null,null,null,null,null,null,null,null,null,null,null,null,null,null,null,null,null,null,null,null,null,null,null,null,null,null,null,null,null,null,null,null,null,null,null,null,null,null,null,null,null,null,null,null,null,null,null,null,null,null,null,null,null,null,null,null,null,null,null,null,null,null,null,null,null,null,"AA04 K-LUNCH",1900]
[{"$f":"IFERROR(IF(INDIRECT($A$14&ROW())<>\"\",COUNTIF(Summary!$B$30:$B$1094,INDIRECT($A$14&ROW())),\"\"),\"\")","v":""},null,null,null,null,null,null,null,null,null,null,null,null,null,null,null,null,null,null,null,null,null,null,null,null,null,null,null,null,null,null,null,null,null,null,null,null,null,null,null,null,null,null,null,null,null,null,null,null,null,null,null,null,null,null,null,null,null,null,null,null,null,null,null,null,null,null,null,null,null,null,null,null,null,null,null,null,null,null,null,null,null,null,null,null,null,null,null,null,null,null,"AA05 K : CHILDREN",78]
[{"$f":"IFERROR(IF(INDIRECT($A$14&ROW())<>\"\",COUNTIF(Summary!$B$30:$B$1094,INDIRECT($A$14&ROW())),\"\"),\"\")","v":""},null,null,null,null,null,null,null,null,null,null,null,null,null,null,null,null,null,null,null,null,null,null,null,null,null,null,null,null,null,null,null,null,null,null,null,null,null,null,null,null,null,null,null,null,null,null,null,null,null,null,null,null,null,null,null,null,null,null,null,null,null,null,null,null,null,null,null,null,null,null,null,null,null,null,null,null,null,null,null,null,null,null,null,null,null,null,null,null,null,null,"AA06 K : MEMBER B'DAY",3]
[{"$f":"IFERROR(IF(INDIRECT($A$14&ROW())<>\"\",COUNTIF(Summary!$B$30:$B$1094,INDIRECT($A$14&ROW())),\"\"),\"\")","v":""},null,null,null,null,null,null,null,null,null,null,null,null,null,null,null,null,null,null,null,null,null,null,null,null,null,null,null,null,null,null,null,null,null,null,null,null,null,null,null,null,null,null,null,null,null,null,null,null,null,null,null,null,null,null,null,null,null,null,null,null,null,null,null,null,null,null,null,null,null,null,null,null,null,null,null,null,null,null,null,null,null,null,null,null,null,null,null,null,null,null,"AA11 K : FREEHEAD (R)",2]
[{"$f":"IFERROR(IF(INDIRECT($A$14&ROW())<>\"\",COUNTIF(Summary!$B$30:$B$1094,INDIRECT($A$14&ROW())),\"\"),\"\")","v":""},null,null,null,null,null,null,null,null,null,null,null,null,null,null,null,null,null,null,null,null,null,null,null,null,null,null,null,null,null,null,null,null,null,null,null,null,null,null,null,null,null,null,null,null,null,null,null,null,null,null,null,null,null,null,null,null,null,null,null,null,null,null,null,null,null,null,null,null,null,null,null,null,null,null,null,null,null,null,null,null,null,null,null,null,null,null,null,null,null,null,"AA12 K : Buy 3 Free 1",1]
[{"$f":"IFERROR(IF(INDIRECT($A$14&ROW())<>\"\",COUNTIF(Summary!$B$30:$B$1094,INDIRECT($A$14&ROW())),\"\"),\"\")","v":""},null,null,null,null,null,null,null,null,null,null,null,null,null,null,null,null,null,null,null,null,null,null,null,null,null,null,null,null,null,null,null,null,null,null,null,null,null,null,null,null,null,null,null,null,null,null,null,null,null,null,null,null,null,null,null,null,null,null,null,null,null,null,null,null,null,null,null,null,null,null,null,null,null,null,null,null,null,null,null,null,null,null,null,null,null,null,null,null,null,null,"AA29 K : XTD VIP ROOM",1]
[{"$f":"IFERROR(IF(INDIRECT($A$14&ROW())<>\"\",COUNTIF(Summary!$B$30:$B$1094,INDIRECT($A$14&ROW())),\"\"),\"\")","v":""},null,null,null,null,null,null,null,null,null,null,null,null,null,null,null,null,null,null,null,null,null,null,null,null,null,null,null,null,null,null,null,null,null,null,null,null,null,null,null,null,null,null,null,null,null,null,null,null,null,null,null,null,null,null,null,null,null,null,null,null,null,null,null,null,null,null,null,null,null,null,null,null,null,null,null,null,null,null,null,null,null,null,null,null,null,null,null,null,null,null,"AB01 H : REGULAR",1079]
[{"$f":"IFERROR(IF(INDIRECT($A$14&ROW())<>\"\",COUNTIF(Summary!$B$30:$B$1094,INDIRECT($A$14&ROW())),\"\"),\"\")","v":""},null,null,null,null,null,null,null,null,null,null,null,null,null,null,null,null,null,null,null,null,null,null,null,null,null,null,null,null,null,null,null,null,null,null,null,null,null,null,null,null,null,null,null,null,null,null,null,null,null,null,null,null,null,null,null,null,null,null,null,null,null,null,null,null,null,null,null,null,null,null,null,null,null,null,null,null,null,null,null,null,null,null,null,null,null,null,null,null,null,null,"AB02 H : MEMBER",407]
[{"$f":"IFERROR(IF(INDIRECT($A$14&ROW())<>\"\",COUNTIF(Summary!$B$30:$B$1094,INDIRECT($A$14&ROW())),\"\"),\"\")","v":""},null,null,null,null,null,null,null,null,null,null,null,null,null,null,null,null,null,null,null,null,null,null,null,null,null,null,null,null,null,null,null,null,null,null,null,null,null,null,null,null,null,null,null,null,null,null,null,null,null,null,null,null,null,null,null,null,null,null,null,null,null,null,null,null,null,null,null,null,null,null,null,null,null,null,null,null,null,null,null,null,null,null,null,null,null,null,null,null,null,null,"AB03 H : MEMBER 30%",46]
[{"$f":"IFERROR(IF(INDIRECT($A$14&ROW())<>\"\",COUNTIF(Summary!$B$30:$B$1094,INDIRECT($A$14&ROW())),\"\"),\"\")","v":""},null,null,null,null,null,null,null,null,null,null,null,null,null,null,null,null,null,null,null,null,null,null,null,null,null,null,null,null,null,null,null,null,null,null,null,null,null,null,null,null,null,null,null,null,null,null,null,null,null,null,null,null,null,null,null,null,null,null,null,null,null,null,null,null,null,null,null,null,null,null,null,null,null,null,null,null,null,null,null,null,null,null,null,null,null,null,null,null,null,null,"AB05 H : STUDENT",529]
[{"$f":"IFERROR(IF(INDIRECT($A$14&ROW())<>\"\",COUNTIF(Summary!$B$30:$B$1094,INDIRECT($A$14&ROW())),\"\"),\"\")","v":""},null,null,null,null,null,null,null,null,null,null,null,null,null,null,null,null,null,null,null,null,null,null,null,null,null,null,null,null,null,null,null,null,null,null,null,null,null,null,null,null,null,null,null,null,null,null,null,null,null,null,null,null,null,null,null,null,null,null,null,null,null,null,null,null,null,null,null,null,null,null,null,null,null,null,null,null,null,null,null,null,null,null,null,null,null,null,null,null,null,null,"AB06 H : SENIOR",2]
[{"$f":"IFERROR(IF(INDIRECT($A$14&ROW())<>\"\",COUNTIF(Summary!$B$30:$B$1094,INDIRECT($A$14&ROW())),\"\"),\"\")","v":""},null,null,null,null,null,null,null,null,null,null,null,null,null,null,null,null,null,null,null,null,null,null,null,null,null,null,null,null,null,null,null,null,null,null,null,null,null,null,null,null,null,null,null,null,null,null,null,null,null,null,null,null,null,null,null,null,null,null,null,null,null,null,null,null,null,null,null,null,null,null,null,null,null,null,null,null,null,null,null,null,null,null,null,null,null,null,null,null,null,null,"AB07 H : CHILDREN",49]
[{"$f":"IFERROR(IF(INDIRECT($A$14&ROW())<>\"\",COUNTIF(Summary!$B$30:$B$1094,INDIRECT($A$14&ROW())),\"\"),\"\")","v":""},null,null,null,null,null,null,null,null,null,null,null,null,null,null,null,null,null,null,null,null,null,null,null,null,null,null,null,null,null,null,null,null,null,null,null,null,null,null,null,null,null,null,null,null,null,null,null,null,null,null,null,null,null,null,null,null,null,null,null,null,null,null,null,null,null,null,null,null,null,null,null,null,null,null,null,null,null,null,null,null,null,null,null,null,null,null,null,null,null,null,"AB08 H : MEMBER B'DAY",6]
[{"$f":"IFERROR(IF(INDIRECT($A$14&ROW())<>\"\",COUNTIF(Summary!$B$30:$B$1094,INDIRECT($A$14&ROW())),\"\"),\"\")","v":""},null,null,null,null,null,null,null,null,null,null,null,null,null,null,null,null,null,null,null,null,null,null,null,null,null,null,null,null,null,null,null,null,null,null,null,null,null,null,null,null,null,null,null,null,null,null,null,null,null,null,null,null,null,null,null,null,null,null,null,null,null,null,null,null,null,null,null,null,null,null,null,null,null,null,null,null,null,null,null,null,null,null,null,null,null,null,null,null,null,null,"AB11 H : FREEHEAD (B)",1]
[{"$f":"IFERROR(IF(INDIRECT($A$14&ROW())<>\"\",COUNTIF(Summary!$B$30:$B$1094,INDIRECT($A$14&ROW())),\"\"),\"\")","v":""},null,null,null,null,null,null,null,null,null,null,null,null,null,null,null,null,null,null,null,null,null,null,null,null,null,null,null,null,null,null,null,null,null,null,null,null,null,null,null,null,null,null,null,null,null,null,null,null,null,null,null,null,null,null,null,null,null,null,null,null,null,null,null,null,null,null,null,null,null,null,null,null,null,null,null,null,null,null,null,null,null,null,null,null,null,null,null,null,null,null,"AB13 H : FREEHEAD (R)",8]
[{"$f":"IFERROR(IF(INDIRECT($A$14&ROW())<>\"\",COUNTIF(Summary!$B$30:$B$1094,INDIRECT($A$14&ROW())),\"\"),\"\")","v":""},null,null,null,null,null,null,null,null,null,null,null,null,null,null,null,null,null,null,null,null,null,null,null,null,null,null,null,null,null,null,null,null,null,null,null,null,null,null,null,null,null,null,null,null,null,null,null,null,null,null,null,null,null,null,null,null,null,null,null,null,null,null,null,null,null,null,null,null,null,null,null,null,null,null,null,null,null,null,null,null,null,null,null,null,null,null,null,null,null,null,"AB14 H : Buy 3 Free 1",4]
[{"$f":"IFERROR(IF(INDIRECT($A$14&ROW())<>\"\",COUNTIF(Summary!$B$30:$B$1094,INDIRECT($A$14&ROW())),\"\"),\"\")","v":""},null,null,null,null,null,null,null,null,null,null,null,null,null,null,null,null,null,null,null,null,null,null,null,null,null,null,null,null,null,null,null,null,null,null,null,null,null,null,null,null,null,null,null,null,null,null,null,null,null,null,null,null,null,null,null,null,null,null,null,null,null,null,null,null,null,null,null,null,null,null,null,null,null,null,null,null,null,null,null,null,null,null,null,null,null,null,null,null,null,null,"AB17 H : XTD S ROOM",1]
[{"$f":"IFERROR(IF(INDIRECT($A$14&ROW())<>\"\",COUNTIF(Summary!$B$30:$B$1094,INDIRECT($A$14&ROW())),\"\"),\"\")","v":""},null,null,null,null,null,null,null,null,null,null,null,null,null,null,null,null,null,null,null,null,null,null,null,null,null,null,null,null,null,null,null,null,null,null,null,null,null,null,null,null,null,null,null,null,null,null,null,null,null,null,null,null,null,null,null,null,null,null,null,null,null,null,null,null,null,null,null,null,null,null,null,null,null,null,null,null,null,null,null,null,null,null,null,null,null,null,null,null,null,null,"AB18 H : XTD M ROOM",2]
[{"$f":"IFERROR(IF(INDIRECT($A$14&ROW())<>\"\",COUNTIF(Summary!$B$30:$B$1094,INDIRECT($A$14&ROW())),\"\"),\"\")","v":""},null,null,null,null,null,null,null,null,null,null,null,null,null,null,null,null,null,null,null,null,null,null,null,null,null,null,null,null,null,null,null,null,null,null,null,null,null,null,null,null,null,null,null,null,null,null,null,null,null,null,null,null,null,null,null,null,null,null,null,null,null,null,null,null,null,null,null,null,null,null,null,null,null,null,null,null,null,null,null,null,null,null,null,null,null,null,null,null,null,null,"AB21 H : XTD VIP ROOM",1]
[{"$f":"IFERROR(IF(INDIRECT($A$14&ROW())<>\"\",COUNTIF(Summary!$B$30:$B$1094,INDIRECT($A$14&ROW())),\"\"),\"\")","v":""},null,null,null,null,null,null,null,null,null,null,null,null,null,null,null,null,null,null,null,null,null,null,null,null,null,null,null,null,null,null,null,null,null,null,null,null,null,null,null,null,null,null,null,null,null,null,null,null,null,null,null,null,null,null,null,null,null,null,null,null,null,null,null,null,null,null,null,null,null,null,null,null,null,null,null,null,null,null,null,null,null,null,null,null,null,null,null,null,null,null,"AB50 H:Student Mem",30]
[{"$f":"IFERROR(IF(INDIRECT($A$14&ROW())<>\"\",COUNTIF(Summary!$B$30:$B$1094,INDIRECT($A$14&ROW())),\"\"),\"\")","v":""},null,null,null,null,null,null,null,null,null,null,null,null,null,null,null,null,null,null,null,null,null,null,null,null,null,null,null,null,null,null,null,null,null,null,null,null,null,null,null,null,null,null,null,null,null,null,null,null,null,null,null,null,null,null,null,null,null,null,null,null,null,null,null,null,null,null,null,null,null,null,null,null,null,null,null,null,null,null,null,null,null,null,null,null,null,null,null,null,null,null,"AB53 H: BUY 2 FREE 2",12]
[{"$f":"IFERROR(IF(INDIRECT($A$14&ROW())<>\"\",COUNTIF(Summary!$B$30:$B$1094,INDIRECT($A$14&ROW())),\"\"),\"\")","v":""},null,null,null,null,null,null,null,null,null,null,null,null,null,null,null,null,null,null,null,null,null,null,null,null,null,null,null,null,null,null,null,null,null,null,null,null,null,null,null,null,null,null,null,null,null,null,null,null,null,null,null,null,null,null,null,null,null,null,null,null,null,null,null,null,null,null,null,null,null,null,null,null,null,null,null,null,null,null,null,null,null,null,null,null,null,null,null,null,null,null,"AC01 N : REGULAR",1821]
[{"$f":"IFERROR(IF(INDIRECT($A$14&ROW())<>\"\",COUNTIF(Summary!$B$30:$B$1094,INDIRECT($A$14&ROW())),\"\"),\"\")","v":""},null,null,null,null,null,null,null,null,null,null,null,null,null,null,null,null,null,null,null,null,null,null,null,null,null,null,null,null,null,null,null,null,null,null,null,null,null,null,null,null,null,null,null,null,null,null,null,null,null,null,null,null,null,null,null,null,null,null,null,null,null,null,null,null,null,null,null,null,null,null,null,null,null,null,null,null,null,null,null,null,null,null,null,null,null,null,null,null,null,null,"AC02 N : MEMBER",991]
[{"$f":"IFERROR(IF(INDIRECT($A$14&ROW())<>\"\",COUNTIF(Summary!$B$30:$B$1094,INDIRECT($A$14&ROW())),\"\"),\"\")","v":""},null,null,null,null,null,null,null,null,null,null,null,null,null,null,null,null,null,null,null,null,null,null,null,null,null,null,null,null,null,null,null,null,null,null,null,null,null,null,null,null,null,null,null,null,null,null,null,null,null,null,null,null,null,null,null,null,null,null,null,null,null,null,null,null,null,null,null,null,null,null,null,null,null,null,null,null,null,null,null,null,null,null,null,null,null,null,null,null,null,null,"AC03 N : MEMBER 30%",202]
[{"$f":"IFERROR(IF(INDIRECT($A$14&ROW())<>\"\",COUNTIF(Summary!$B$30:$B$1094,INDIRECT($A$14&ROW())),\"\"),\"\")","v":""},null,null,null,null,null,null,null,null,null,null,null,null,null,null,null,null,null,null,null,null,null,null,null,null,null,null,null,null,null,null,null,null,null,null,null,null,null,null,null,null,null,null,null,null,null,null,null,null,null,null,null,null,null,null,null,null,null,null,null,null,null,null,null,null,null,null,null,null,null,null,null,null,null,null,null,null,null,null,null,null,null,null,null,null,null,null,null,null,null,null,"AC05 K-DINNER",1471]
[{"$f":"IFERROR(IF(INDIRECT($A$14&ROW())<>\"\",COUNTIF(Summary!$B$30:$B$1094,INDIRECT($A$14&ROW())),\"\"),\"\")","v":""},null,null,null,null,null,null,null,null,null,null,null,null,null,null,null,null,null,null,null,null,null,null,null,null,null,null,null,null,null,null,null,null,null,null,null,null,null,null,null,null,null,null,null,null,null,null,null,null,null,null,null,null,null,null,null,null,null,null,null,null,null,null,null,null,null,null,null,null,null,null,null,null,null,null,null,null,null,null,null,null,null,null,null,null,null,null,null,null,null,null,"AC06 N : CHILDREN",199]
[{"$f":"IFERROR(IF(INDIRECT($A$14&ROW())<>\"\",COUNTIF(Summary!$B$30:$B$1094,INDIRECT($A$14&ROW())),\"\"),\"\")","v":""},null,null,null,null,null,null,null,null,null,null,null,null,null,null,null,null,null,null,null,null,null,null,null,null,null,null,null,null,null,null,null,null,null,null,null,null,null,null,null,null,null,null,null,null,null,null,null,null,null,null,null,null,null,null,null,null,null,null,null,null,null,null,null,null,null,null,null,null,null,null,null,null,null,null,null,null,null,null,null,null,null,null,null,null,null,null,null,null,null,null,"AC07 N : MEMBER B'DAY",59]
[{"$f":"IFERROR(IF(INDIRECT($A$14&ROW())<>\"\",COUNTIF(Summary!$B$30:$B$1094,INDIRECT($A$14&ROW())),\"\"),\"\")","v":""},null,null,null,null,null,null,null,null,null,null,null,null,null,null,null,null,null,null,null,null,null,null,null,null,null,null,null,null,null,null,null,null,null,null,null,null,null,null,null,null,null,null,null,null,null,null,null,null,null,null,null,null,null,null,null,null,null,null,null,null,null,null,null,null,null,null,null,null,null,null,null,null,null,null,null,null,null,null,null,null,null,null,null,null,null,null,null,null,null,null,"AC10 N : FREEHEAD (B)"]
[{"$f":"IFERROR(IF(INDIRECT($A$14&ROW())<>\"\",COUNTIF(Summary!$B$30:$B$1094,INDIRECT($A$14&ROW())),\"\"),\"\")","v":""},null,null,null,null,null,null,null,null,null,null,null,null,null,null,null,null,null,null,null,null,null,null,null,null,null,null,null,null,null,null,null,null,null,null,null,null,null,null,null,null,null,null,null,null,null,null,null,null,null,null,null,null,null,null,null,null,null,null,null,null,null,null,null,null,null,null,null,null,null,null,null,null,null,null,null,null,null,null,null,null,null,null,null,null,null,null,null,null,null,null,"AC12 N : FREEHEAD (R)",60]
[{"$f":"IFERROR(IF(INDIRECT($A$14&ROW())<>\"\",COUNTIF(Summary!$B$30:$B$1094,INDIRECT($A$14&ROW())),\"\"),\"\")","v":""},null,null,null,null,null,null,null,null,null,null,null,null,null,null,null,null,null,null,null,null,null,null,null,null,null,null,null,null,null,null,null,null,null,null,null,null,null,null,null,null,null,null,null,null,null,null,null,null,null,null,null,null,null,null,null,null,null,null,null,null,null,null,null,null,null,null,null,null,null,null,null,null,null,null,null,null,null,null,null,null,null,null,null,null,null,null,null,null,null,null,"AC13 N : Buy 3 Free 1",2]
[{"$f":"IFERROR(IF(INDIRECT($A$14&ROW())<>\"\",COUNTIF(Summary!$B$30:$B$1094,INDIRECT($A$14&ROW())),\"\"),\"\")","v":""},null,null,null,null,null,null,null,null,null,null,null,null,null,null,null,null,null,null,null,null,null,null,null,null,null,null,null,null,null,null,null,null,null,null,null,null,null,null,null,null,null,null,null,null,null,null,null,null,null,null,null,null,null,null,null,null,null,null,null,null,null,null,null,null,null,null,null,null,null,null,null,null,null,null,null,null,null,null,null,null,null,null,null,null,null,null,null,null,null,null,"AC17 N : XTD S ROOM",13]
[{"$f":"IFERROR(IF(INDIRECT($A$14&ROW())<>\"\",COUNTIF(Summary!$B$30:$B$1094,INDIRECT($A$14&ROW())),\"\"),\"\")","v":""},null,null,null,null,null,null,null,null,null,null,null,null,null,null,null,null,null,null,null,null,null,null,null,null,null,null,null,null,null,null,null,null,null,null,null,null,null,null,null,null,null,null,null,null,null,null,null,null,null,null,null,null,null,null,null,null,null,null,null,null,null,null,null,null,null,null,null,null,null,null,null,null,null,null,null,null,null,null,null,null,null,null,null,null,null,null,null,null,null,null,"AC18 N : XTD M ROOM",17]
[{"$f":"IFERROR(IF(INDIRECT($A$14&ROW())<>\"\",COUNTIF(Summary!$B$30:$B$1094,INDIRECT($A$14&ROW())),\"\"),\"\")","v":""},null,null,null,null,null,null,null,null,null,null,null,null,null,null,null,null,null,null,null,null,null,null,null,null,null,null,null,null,null,null,null,null,null,null,null,null,null,null,null,null,null,null,null,null,null,null,null,null,null,null,null,null,null,null,null,null,null,null,null,null,null,null,null,null,null,null,null,null,null,null,null,null,null,null,null,null,null,null,null,null,null,null,null,null,null,null,null,null,null,null,"AC19 N : XTD B ROOM",12]
[{"$f":"IFERROR(IF(INDIRECT($A$14&ROW())<>\"\",COUNTIF(Summary!$B$30:$B$1094,INDIRECT($A$14&ROW())),\"\"),\"\")","v":""},null,null,null,null,null,null,null,null,null,null,null,null,null,null,null,null,null,null,null,null,null,null,null,null,null,null,null,null,null,null,null,null,null,null,null,null,null,null,null,null,null,null,null,null,null,null,null,null,null,null,null,null,null,null,null,null,null,null,null,null,null,null,null,null,null,null,null,null,null,null,null,null,null,null,null,null,null,null,null,null,null,null,null,null,null,null,null,null,null,null,"AC24 N:Student Mem",2]
[{"$f":"IFERROR(IF(INDIRECT($A$14&ROW())<>\"\",COUNTIF(Summary!$B$30:$B$1094,INDIRECT($A$14&ROW())),\"\"),\"\")","v":""},null,null,null,null,null,null,null,null,null,null,null,null,null,null,null,null,null,null,null,null,null,null,null,null,null,null,null,null,null,null,null,null,null,null,null,null,null,null,null,null,null,null,null,null,null,null,null,null,null,null,null,null,null,null,null,null,null,null,null,null,null,null,null,null,null,null,null,null,null,null,null,null,null,null,null,null,null,null,null,null,null,null,null,null,null,null,null,null,null,null,"AC29 N:7.0 VER",484]
[{"$f":"IFERROR(IF(INDIRECT($A$14&ROW())<>\"\",COUNTIF(Summary!$B$30:$B$1094,INDIRECT($A$14&ROW())),\"\"),\"\")","v":""},null,null,null,null,null,null,null,null,null,null,null,null,null,null,null,null,null,null,null,null,null,null,null,null,null,null,null,null,null,null,null,null,null,null,null,null,null,null,null,null,null,null,null,null,null,null,null,null,null,null,null,null,null,null,null,null,null,null,null,null,null,null,null,null,null,null,null,null,null,null,null,null,null,null,null,null,null,null,null,null,null,null,null,null,null,null,null,null,null,null,"AC30 N:8.0 ver Aeon",391]
[{"$f":"IFERROR(IF(INDIRECT($A$14&ROW())<>\"\",COUNTIF(Summary!$B$30:$B$1094,INDIRECT($A$14&ROW())),\"\"),\"\")","v":""},null,null,null,null,null,null,null,null,null,null,null,null,null,null,null,null,null,null,null,null,null,null,null,null,null,null,null,null,null,null,null,null,null,null,null,null,null,null,null,null,null,null,null,null,null,null,null,null,null,null,null,null,null,null,null,null,null,null,null,null,null,null,null,null,null,null,null,null,null,null,null,null,null,null,null,null,null,null,null,null,null,null,null,null,null,null,null,null,null,null,"AC33 N : XTD VIP ROOM",6]
[{"$f":"IFERROR(IF(INDIRECT($A$14&ROW())<>\"\",COUNTIF(Summary!$B$30:$B$1094,INDIRECT($A$14&ROW())),\"\"),\"\")","v":""},null,null,null,null,null,null,null,null,null,null,null,null,null,null,null,null,null,null,null,null,null,null,null,null,null,null,null,null,null,null,null,null,null,null,null,null,null,null,null,null,null,null,null,null,null,null,null,null,null,null,null,null,null,null,null,null,null,null,null,null,null,null,null,null,null,null,null,null,null,null,null,null,null,null,null,null,null,null,null,null,null,null,null,null,null,null,null,null,null,null,"AD01 M : REGULAR",627]
[{"$f":"IFERROR(IF(INDIRECT($A$14&ROW())<>\"\",COUNTIF(Summary!$B$30:$B$1094,INDIRECT($A$14&ROW())),\"\"),\"\")","v":""},null,null,null,null,null,null,null,null,null,null,null,null,null,null,null,null,null,null,null,null,null,null,null,null,null,null,null,null,null,null,null,null,null,null,null,null,null,null,null,null,null,null,null,null,null,null,null,null,null,null,null,null,null,null,null,null,null,null,null,null,null,null,null,null,null,null,null,null,null,null,null,null,null,null,null,null,null,null,null,null,null,null,null,null,null,null,null,null,null,null,"AD02 M : MEMBER",165]
[{"$f":"IFERROR(IF(INDIRECT($A$14&ROW())<>\"\",COUNTIF(Summary!$B$30:$B$1094,INDIRECT($A$14&ROW())),\"\"),\"\")","v":""},null,null,null,null,null,null,null,null,null,null,null,null,null,null,null,null,null,null,null,null,null,null,null,null,null,null,null,null,null,null,null,null,null,null,null,null,null,null,null,null,null,null,null,null,null,null,null,null,null,null,null,null,null,null,null,null,null,null,null,null,null,null,null,null,null,null,null,null,null,null,null,null,null,null,null,null,null,null,null,null,null,null,null,null,null,null,null,null,null,null,"AD03 M : MEMBER 30%",26]
[{"$f":"IFERROR(IF(INDIRECT($A$14&ROW())<>\"\",COUNTIF(Summary!$B$30:$B$1094,INDIRECT($A$14&ROW())),\"\"),\"\")","v":""},null,null,null,null,null,null,null,null,null,null,null,null,null,null,null,null,null,null,null,null,null,null,null,null,null,null,null,null,null,null,null,null,null,null,null,null,null,null,null,null,null,null,null,null,null,null,null,null,null,null,null,null,null,null,null,null,null,null,null,null,null,null,null,null,null,null,null,null,null,null,null,null,null,null,null,null,null,null,null,null,null,null,null,null,null,null,null,null,null,null,"AD05 M : LADIES",343]
[{"$f":"IFERROR(IF(INDIRECT($A$14&ROW())<>\"\",COUNTIF(Summary!$B$30:$B$1094,INDIRECT($A$14&ROW())),\"\"),\"\")","v":""},null,null,null,null,null,null,null,null,null,null,null,null,null,null,null,null,null,null,null,null,null,null,null,null,null,null,null,null,null,null,null,null,null,null,null,null,null,null,null,null,null,null,null,null,null,null,null,null,null,null,null,null,null,null,null,null,null,null,null,null,null,null,null,null,null,null,null,null,null,null,null,null,null,null,null,null,null,null,null,null,null,null,null,null,null,null,null,null,null,null,"AD06 M : CHILDREN",10]
[{"$f":"IFERROR(IF(INDIRECT($A$14&ROW())<>\"\",COUNTIF(Summary!$B$30:$B$1094,INDIRECT($A$14&ROW())),\"\"),\"\")","v":""},null,null,null,null,null,null,null,null,null,null,null,null,null,null,null,null,null,null,null,null,null,null,null,null,null,null,null,null,null,null,null,null,null,null,null,null,null,null,null,null,null,null,null,null,null,null,null,null,null,null,null,null,null,null,null,null,null,null,null,null,null,null,null,null,null,null,null,null,null,null,null,null,null,null,null,null,null,null,null,null,null,null,null,null,null,null,null,null,null,null,"AD07 M : MEMBER B'DAY",12]
[{"$f":"IFERROR(IF(INDIRECT($A$14&ROW())<>\"\",COUNTIF(Summary!$B$30:$B$1094,INDIRECT($A$14&ROW())),\"\"),\"\")","v":""},null,null,null,null,null,null,null,null,null,null,null,null,null,null,null,null,null,null,null,null,null,null,null,null,null,null,null,null,null,null,null,null,null,null,null,null,null,null,null,null,null,null,null,null,null,null,null,null,null,null,null,null,null,null,null,null,null,null,null,null,null,null,null,null,null,null,null,null,null,null,null,null,null,null,null,null,null,null,null,null,null,null,null,null,null,null,null,null,null,null,"AD11 M : FREEHEAD (R)",7]
[{"$f":"IFERROR(IF(INDIRECT($A$14&ROW())<>\"\",COUNTIF(Summary!$B$30:$B$1094,INDIRECT($A$14&ROW())),\"\"),\"\")","v":""},null,null,null,null,null,null,null,null,null,null,null,null,null,null,null,null,null,null,null,null,null,null,null,null,null,null,null,null,null,null,null,null,null,null,null,null,null,null,null,null,null,null,null,null,null,null,null,null,null,null,null,null,null,null,null,null,null,null,null,null,null,null,null,null,null,null,null,null,null,null,null,null,null,null,null,null,null,null,null,null,null,null,null,null,null,null,null,null,null,null,"AD15 M : XTD S ROOM",2]
[{"$f":"IFERROR(IF(INDIRECT($A$14&ROW())<>\"\",COUNTIF(Summary!$B$30:$B$1094,INDIRECT($A$14&ROW())),\"\"),\"\")","v":""},null,null,null,null,null,null,null,null,null,null,null,null,null,null,null,null,null,null,null,null,null,null,null,null,null,null,null,null,null,null,null,null,null,null,null,null,null,null,null,null,null,null,null,null,null,null,null,null,null,null,null,null,null,null,null,null,null,null,null,null,null,null,null,null,null,null,null,null,null,null,null,null,null,null,null,null,null,null,null,null,null,null,null,null,null,null,null,null,null,null,"AD16 M : XTD M ROOM",5]
[{"$f":"IFERROR(IF(INDIRECT($A$14&ROW())<>\"\",COUNTIF(Summary!$B$30:$B$1094,INDIRECT($A$14&ROW())),\"\"),\"\")","v":""},null,null,null,null,null,null,null,null,null,null,null,null,null,null,null,null,null,null,null,null,null,null,null,null,null,null,null,null,null,null,null,null,null,null,null,null,null,null,null,null,null,null,null,null,null,null,null,null,null,null,null,null,null,null,null,null,null,null,null,null,null,null,null,null,null,null,null,null,null,null,null,null,null,null,null,null,null,null,null,null,null,null,null,null,null,null,null,null,null,null,"AD17 M : XTD B ROOM",5]
[{"$f":"IFERROR(IF(INDIRECT($A$14&ROW())<>\"\",COUNTIF(Summary!$B$30:$B$1094,INDIRECT($A$14&ROW())),\"\"),\"\")","v":""},null,null,null,null,null,null,null,null,null,null,null,null,null,null,null,null,null,null,null,null,null,null,null,null,null,null,null,null,null,null,null,null,null,null,null,null,null,null,null,null,null,null,null,null,null,null,null,null,null,null,null,null,null,null,null,null,null,null,null,null,null,null,null,null,null,null,null,null,null,null,null,null,null,null,null,null,null,null,null,null,null,null,null,null,null,null,null,null,null,null,"BA02 H : 4BP",11]
[{"$f":"IFERROR(IF(INDIRECT($A$14&ROW())<>\"\",COUNTIF(Summary!$B$30:$B$1094,INDIRECT($A$14&ROW())),\"\"),\"\")","v":""},null,null,null,null,null,null,null,null,null,null,null,null,null,null,null,null,null,null,null,null,null,null,null,null,null,null,null,null,null,null,null,null,null,null,null,null,null,null,null,null,null,null,null,null,null,null,null,null,null,null,null,null,null,null,null,null,null,null,null,null,null,null,null,null,null,null,null,null,null,null,null,null,null,null,null,null,null,null,null,null,null,null,null,null,null,null,null,null,null,null,"BA04 N : 4BP",179]
[{"$f":"IFERROR(IF(INDIRECT($A$14&ROW())<>\"\",COUNTIF(Summary!$B$30:$B$1094,INDIRECT($A$14&ROW())),\"\"),\"\")","v":""},null,null,null,null,null,null,null,null,null,null,null,null,null,null,null,null,null,null,null,null,null,null,null,null,null,null,null,null,null,null,null,null,null,null,null,null,null,null,null,null,null,null,null,null,null,null,null,null,null,null,null,null,null,null,null,null,null,null,null,null,null,null,null,null,null,null,null,null,null,null,null,null,null,null,null,null,null,null,null,null,null,null,null,null,null,null,null,null,null,null,"BA05 N : 4BP MEMBER",5]
[{"$f":"IFERROR(IF(INDIRECT($A$14&ROW())<>\"\",COUNTIF(Summary!$B$30:$B$1094,INDIRECT($A$14&ROW())),\"\"),\"\")","v":""},null,null,null,null,null,null,null,null,null,null,null,null,null,null,null,null,null,null,null,null,null,null,null,null,null,null,null,null,null,null,null,null,null,null,null,null,null,null,null,null,null,null,null,null,null,null,null,null,null,null,null,null,null,null,null,null,null,null,null,null,null,null,null,null,null,null,null,null,null,null,null,null,null,null,null,null,null,null,null,null,null,null,null,null,null,null,null,null,null,null,"BA06 M : 4BP",19]
[{"$f":"IFERROR(IF(INDIRECT($A$14&ROW())<>\"\",COUNTIF(Summary!$B$30:$B$1094,INDIRECT($A$14&ROW())),\"\"),\"\")","v":""},null,null,null,null,null,null,null,null,null,null,null,null,null,null,null,null,null,null,null,null,null,null,null,null,null,null,null,null,null,null,null,null,null,null,null,null,null,null,null,null,null,null,null,null,null,null,null,null,null,null,null,null,null,null,null,null,null,null,null,null,null,null,null,null,null,null,null,null,null,null,null,null,null,null,null,null,null,null,null,null,null,null,null,null,null,null,null,null,null,null,"BA08 GUINNESS BTL",24]
[{"$f":"IFERROR(IF(INDIRECT($A$14&ROW())<>\"\",COUNTIF(Summary!$B$30:$B$1094,INDIRECT($A$14&ROW())),\"\"),\"\")","v":""},null,null,null,null,null,null,null,null,null,null,null,null,null,null,null,null,null,null,null,null,null,null,null,null,null,null,null,null,null,null,null,null,null,null,null,null,null,null,null,null,null,null,null,null,null,null,null,null,null,null,null,null,null,null,null,null,null,null,null,null,null,null,null,null,null,null,null,null,null,null,null,null,null,null,null,null,null,null,null,null,null,null,null,null,null,null,null,null,null,null,"BA09 GUINNESS BKT",24]
[{"$f":"IFERROR(IF(INDIRECT($A$14&ROW())<>\"\",COUNTIF(Summary!$B$30:$B$1094,INDIRECT($A$14&ROW())),\"\"),\"\")","v":""},null,null,null,null,null,null,null,null,null,null,null,null,null,null,null,null,null,null,null,null,null,null,null,null,null,null,null,null,null,null,null,null,null,null,null,null,null,null,null,null,null,null,null,null,null,null,null,null,null,null,null,null,null,null,null,null,null,null,null,null,null,null,null,null,null,null,null,null,null,null,null,null,null,null,null,null,null,null,null,null,null,null,null,null,null,null,null,null,null,null,"BA10 GUINNESS RND",2]
[{"$f":"IFERROR(IF(INDIRECT($A$14&ROW())<>\"\",COUNTIF(Summary!$B$30:$B$1094,INDIRECT($A$14&ROW())),\"\"),\"\")","v":""},null,null,null,null,null,null,null,null,null,null,null,null,null,null,null,null,null,null,null,null,null,null,null,null,null,null,null,null,null,null,null,null,null,null,null,null,null,null,null,null,null,null,null,null,null,null,null,null,null,null,null,null,null,null,null,null,null,null,null,null,null,null,null,null,null,null,null,null,null,null,null,null,null,null,null,null,null,null,null,null,null,null,null,null,null,null,null,null,null,null,"BA11 HEINEKEN BTL",21]
[{"$f":"IFERROR(IF(INDIRECT($A$14&ROW())<>\"\",COUNTIF(Summary!$B$30:$B$1094,INDIRECT($A$14&ROW())),\"\"),\"\")","v":""},null,null,null,null,null,null,null,null,null,null,null,null,null,null,null,null,null,null,null,null,null,null,null,null,null,null,null,null,null,null,null,null,null,null,null,null,null,null,null,null,null,null,null,null,null,null,null,null,null,null,null,null,null,null,null,null,null,null,null,null,null,null,null,null,null,null,null,null,null,null,null,null,null,null,null,null,null,null,null,null,null,null,null,null,null,null,null,null,null,null,"BA12 HEINEKEN BKT",32]
[{"$f":"IFERROR(IF(INDIRECT($A$14&ROW())<>\"\",COUNTIF(Summary!$B$30:$B$1094,INDIRECT($A$14&ROW())),\"\"),\"\")","v":""},null,null,null,null,null,null,null,null,null,null,null,null,null,null,null,null,null,null,null,null,null,null,null,null,null,null,null,null,null,null,null,null,null,null,null,null,null,null,null,null,null,null,null,null,null,null,null,null,null,null,null,null,null,null,null,null,null,null,null,null,null,null,null,null,null,null,null,null,null,null,null,null,null,null,null,null,null,null,null,null,null,null,null,null,null,null,null,null,null,null,"BA13 HEINEKEN RND",19]
[{"$f":"IFERROR(IF(INDIRECT($A$14&ROW())<>\"\",COUNTIF(Summary!$B$30:$B$1094,INDIRECT($A$14&ROW())),\"\"),\"\")","v":""},null,null,null,null,null,null,null,null,null,null,null,null,null,null,null,null,null,null,null,null,null,null,null,null,null,null,null,null,null,null,null,null,null,null,null,null,null,null,null,null,null,null,null,null,null,null,null,null,null,null,null,null,null,null,null,null,null,null,null,null,null,null,null,null,null,null,null,null,null,null,null,null,null,null,null,null,null,null,null,null,null,null,null,null,null,null,null,null,null,null,"BA14 TIGER BTL",41]
[{"$f":"IFERROR(IF(INDIRECT($A$14&ROW())<>\"\",COUNTIF(Summary!$B$30:$B$1094,INDIRECT($A$14&ROW())),\"\"),\"\")","v":""},null,null,null,null,null,null,null,null,null,null,null,null,null,null,null,null,null,null,null,null,null,null,null,null,null,null,null,null,null,null,null,null,null,null,null,null,null,null,null,null,null,null,null,null,null,null,null,null,null,null,null,null,null,null,null,null,null,null,null,null,null,null,null,null,null,null,null,null,null,null,null,null,null,null,null,null,null,null,null,null,null,null,null,null,null,null,null,null,null,null,"BA15 TIGER BKT",109]
[{"$f":"IFERROR(IF(INDIRECT($A$14&ROW())<>\"\",COUNTIF(Summary!$B$30:$B$1094,INDIRECT($A$14&ROW())),\"\"),\"\")","v":""},null,null,null,null,null,null,null,null,null,null,null,null,null,null,null,null,null,null,null,null,null,null,null,null,null,null,null,null,null,null,null,null,null,null,null,null,null,null,null,null,null,null,null,null,null,null,null,null,null,null,null,null,null,null,null,null,null,null,null,null,null,null,null,null,null,null,null,null,null,null,null,null,null,null,null,null,null,null,null,null,null,null,null,null,null,null,null,null,null,null,"BA16 TIGER RND",72]
[{"$f":"IFERROR(IF(INDIRECT($A$14&ROW())<>\"\",COUNTIF(Summary!$B$30:$B$1094,INDIRECT($A$14&ROW())),\"\"),\"\")","v":""},null,null,null,null,null,null,null,null,null,null,null,null,null,null,null,null,null,null,null,null,null,null,null,null,null,null,null,null,null,null,null,null,null,null,null,null,null,null,null,null,null,null,null,null,null,null,null,null,null,null,null,null,null,null,null,null,null,null,null,null,null,null,null,null,null,null,null,null,null,null,null,null,null,null,null,null,null,null,null,null,null,null,null,null,null,null,null,null,null,null,"BA19 Tiger 2+1",24]
[{"$f":"IFERROR(IF(INDIRECT($A$14&ROW())<>\"\",COUNTIF(Summary!$B$30:$B$1094,INDIRECT($A$14&ROW())),\"\"),\"\")","v":""},null,null,null,null,null,null,null,null,null,null,null,null,null,null,null,null,null,null,null,null,null,null,null,null,null,null,null,null,null,null,null,null,null,null,null,null,null,null,null,null,null,null,null,null,null,null,null,null,null,null,null,null,null,null,null,null,null,null,null,null,null,null,null,null,null,null,null,null,null,null,null,null,null,null,null,null,null,null,null,null,null,null,null,null,null,null,null,null,null,null,"BA20 Heineken 3+1",15]
[{"$f":"IFERROR(IF(INDIRECT($A$14&ROW())<>\"\",COUNTIF(Summary!$B$30:$B$1094,INDIRECT($A$14&ROW())),\"\"),\"\")","v":""},null,null,null,null,null,null,null,null,null,null,null,null,null,null,null,null,null,null,null,null,null,null,null,null,null,null,null,null,null,null,null,null,null,null,null,null,null,null,null,null,null,null,null,null,null,null,null,null,null,null,null,null,null,null,null,null,null,null,null,null,null,null,null,null,null,null,null,null,null,null,null,null,null,null,null,null,null,null,null,null,null,null,null,null,null,null,null,null,null,null,"BA21 M : TIGER PROMO",2]
[{"$f":"IFERROR(IF(INDIRECT($A$14&ROW())<>\"\",COUNTIF(Summary!$B$30:$B$1094,INDIRECT($A$14&ROW())),\"\"),\"\")","v":""},null,null,null,null,null,null,null,null,null,null,null,null,null,null,null,null,null,null,null,null,null,null,null,null,null,null,null,null,null,null,null,null,null,null,null,null,null,null,null,null,null,null,null,null,null,null,null,null,null,null,null,null,null,null,null,null,null,null,null,null,null,null,null,null,null,null,null,null,null,null,null,null,null,null,null,null,null,null,null,null,null,null,null,null,null,null,null,null,null,null,"CA02 APPLE J",3]
[{"$f":"IFERROR(IF(INDIRECT($A$14&ROW())<>\"\",COUNTIF(Summary!$B$30:$B$1094,INDIRECT($A$14&ROW())),\"\"),\"\")","v":""},null,null,null,null,null,null,null,null,null,null,null,null,null,null,null,null,null,null,null,null,null,null,null,null,null,null,null,null,null,null,null,null,null,null,null,null,null,null,null,null,null,null,null,null,null,null,null,null,null,null,null,null,null,null,null,null,null,null,null,null,null,null,null,null,null,null,null,null,null,null,null,null,null,null,null,null,null,null,null,null,null,null,null,null,null,null,null,null,null,null,"CA04 MANGO J",1]
[{"$f":"IFERROR(IF(INDIRECT($A$14&ROW())<>\"\",COUNTIF(Summary!$B$30:$B$1094,INDIRECT($A$14&ROW())),\"\"),\"\")","v":""},null,null,null,null,null,null,null,null,null,null,null,null,null,null,null,null,null,null,null,null,null,null,null,null,null,null,null,null,null,null,null,null,null,null,null,null,null,null,null,null,null,null,null,null,null,null,null,null,null,null,null,null,null,null,null,null,null,null,null,null,null,null,null,null,null,null,null,null,null,null,null,null,null,null,null,null,null,null,null,null,null,null,null,null,null,null,null,null,null,null,"CA05 PASSION J",3]
[{"$f":"IFERROR(IF(INDIRECT($A$14&ROW())<>\"\",COUNTIF(Summary!$B$30:$B$1094,INDIRECT($A$14&ROW())),\"\"),\"\")","v":""},null,null,null,null,null,null,null,null,null,null,null,null,null,null,null,null,null,null,null,null,null,null,null,null,null,null,null,null,null,null,null,null,null,null,null,null,null,null,null,null,null,null,null,null,null,null,null,null,null,null,null,null,null,null,null,null,null,null,null,null,null,null,null,null,null,null,null,null,null,null,null,null,null,null,null,null,null,null,null,null,null,null,null,null,null,null,null,null,null,null,"CA06 RIBENA J",2]
[{"$f":"IFERROR(IF(INDIRECT($A$14&ROW())<>\"\",COUNTIF(Summary!$B$30:$B$1094,INDIRECT($A$14&ROW())),\"\"),\"\")","v":""},null,null,null,null,null,null,null,null,null,null,null,null,null,null,null,null,null,null,null,null,null,null,null,null,null,null,null,null,null,null,null,null,null,null,null,null,null,null,null,null,null,null,null,null,null,null,null,null,null,null,null,null,null,null,null,null,null,null,null,null,null,null,null,null,null,null,null,null,null,null,null,null,null,null,null,null,null,null,null,null,null,null,null,null,null,null,null,null,null,null,"CC04 MANGO SM",1]
[{"$f":"IFERROR(IF(INDIRECT($A$14&ROW())<>\"\",COUNTIF(Summary!$B$30:$B$1094,INDIRECT($A$14&ROW())),\"\"),\"\")","v":""},null,null,null,null,null,null,null,null,null,null,null,null,null,null,null,null,null,null,null,null,null,null,null,null,null,null,null,null,null,null,null,null,null,null,null,null,null,null,null,null,null,null,null,null,null,null,null,null,null,null,null,null,null,null,null,null,null,null,null,null,null,null,null,null,null,null,null,null,null,null,null,null,null,null,null,null,null,null,null,null,null,null,null,null,null,null,null,null,null,null,"CC07 CAPPUCINNO SM",2]
[{"$f":"IFERROR(IF(INDIRECT($A$14&ROW())<>\"\",COUNTIF(Summary!$B$30:$B$1094,INDIRECT($A$14&ROW())),\"\"),\"\")","v":""},null,null,null,null,null,null,null,null,null,null,null,null,null,null,null,null,null,null,null,null,null,null,null,null,null,null,null,null,null,null,null,null,null,null,null,null,null,null,null,null,null,null,null,null,null,null,null,null,null,null,null,null,null,null,null,null,null,null,null,null,null,null,null,null,null,null,null,null,null,null,null,null,null,null,null,null,null,null,null,null,null,null,null,null,null,null,null,null,null,null,"CC08 CHOCOLATE SM",3]
[{"$f":"IFERROR(IF(INDIRECT($A$14&ROW())<>\"\",COUNTIF(Summary!$B$30:$B$1094,INDIRECT($A$14&ROW())),\"\"),\"\")","v":""},null,null,null,null,null,null,null,null,null,null,null,null,null,null,null,null,null,null,null,null,null,null,null,null,null,null,null,null,null,null,null,null,null,null,null,null,null,null,null,null,null,null,null,null,null,null,null,null,null,null,null,null,null,null,null,null,null,null,null,null,null,null,null,null,null,null,null,null,null,null,null,null,null,null,null,null,null,null,null,null,null,null,null,null,null,null,null,null,null,null,"CC09 MOCHA SM",1]
[{"$f":"IFERROR(IF(INDIRECT($A$14&ROW())<>\"\",COUNTIF(Summary!$B$30:$B$1094,INDIRECT($A$14&ROW())),\"\"),\"\")","v":""},null,null,null,null,null,null,null,null,null,null,null,null,null,null,null,null,null,null,null,null,null,null,null,null,null,null,null,null,null,null,null,null,null,null,null,null,null,null,null,null,null,null,null,null,null,null,null,null,null,null,null,null,null,null,null,null,null,null,null,null,null,null,null,null,null,null,null,null,null,null,null,null,null,null,null,null,null,null,null,null,null,null,null,null,null,null,null,null,null,null,"CD01 7 UP",1]
[{"$f":"IFERROR(IF(INDIRECT($A$14&ROW())<>\"\",COUNTIF(Summary!$B$30:$B$1094,INDIRECT($A$14&ROW())),\"\"),\"\")","v":""},null,null,null,null,null,null,null,null,null,null,null,null,null,null,null,null,null,null,null,null,null,null,null,null,null,null,null,null,null,null,null,null,null,null,null,null,null,null,null,null,null,null,null,null,null,null,null,null,null,null,null,null,null,null,null,null,null,null,null,null,null,null,null,null,null,null,null,null,null,null,null,null,null,null,null,null,null,null,null,null,null,null,null,null,null,null,null,null,null,null,"CD03 PEPSI",5]
[{"$f":"IFERROR(IF(INDIRECT($A$14&ROW())<>\"\",COUNTIF(Summary!$B$30:$B$1094,INDIRECT($A$14&ROW())),\"\"),\"\")","v":""},null,null,null,null,null,null,null,null,null,null,null,null,null,null,null,null,null,null,null,null,null,null,null,null,null,null,null,null,null,null,null,null,null,null,null,null,null,null,null,null,null,null,null,null,null,null,null,null,null,null,null,null,null,null,null,null,null,null,null,null,null,null,null,null,null,null,null,null,null,null,null,null,null,null,null,null,null,null,null,null,null,null,null,null,null,null,null,null,null,null,"CE04 LEMON TEA (C)",5]
[{"$f":"IFERROR(IF(INDIRECT($A$14&ROW())<>\"\",COUNTIF(Summary!$B$30:$B$1094,INDIRECT($A$14&ROW())),\"\"),\"\")","v":""},null,null,null,null,null,null,null,null,null,null,null,null,null,null,null,null,null,null,null,null,null,null,null,null,null,null,null,null,null,null,null,null,null,null,null,null,null,null,null,null,null,null,null,null,null,null,null,null,null,null,null,null,null,null,null,null,null,null,null,null,null,null,null,null,null,null,null,null,null,null,null,null,null,null,null,null,null,null,null,null,null,null,null,null,null,null,null,null,null,null,"CE06 HNY GRN TEA (C)",3]
[{"$f":"IFERROR(IF(INDIRECT($A$14&ROW())<>\"\",COUNTIF(Summary!$B$30:$B$1094,INDIRECT($A$14&ROW())),\"\"),\"\")","v":""},null,null,null,null,null,null,null,null,null,null,null,null,null,null,null,null,null,null,null,null,null,null,null,null,null,null,null,null,null,null,null,null,null,null,null,null,null,null,null,null,null,null,null,null,null,null,null,null,null,null,null,null,null,null,null,null,null,null,null,null,null,null,null,null,null,null,null,null,null,null,null,null,null,null,null,null,null,null,null,null,null,null,null,null,null,null,null,null,null,null,"CE07 HONEY (C)",2]
[{"$f":"IFERROR(IF(INDIRECT($A$14&ROW())<>\"\",COUNTIF(Summary!$B$30:$B$1094,INDIRECT($A$14&ROW())),\"\"),\"\")","v":""},null,null,null,null,null,null,null,null,null,null,null,null,null,null,null,null,null,null,null,null,null,null,null,null,null,null,null,null,null,null,null,null,null,null,null,null,null,null,null,null,null,null,null,null,null,null,null,null,null,null,null,null,null,null,null,null,null,null,null,null,null,null,null,null,null,null,null,null,null,null,null,null,null,null,null,null,null,null,null,null,null,null,null,null,null,null,null,null,null,null,"CE08 LEMON HONEY (C)",6]
[{"$f":"IFERROR(IF(INDIRECT($A$14&ROW())<>\"\",COUNTIF(Summary!$B$30:$B$1094,INDIRECT($A$14&ROW())),\"\"),\"\")","v":""},null,null,null,null,null,null,null,null,null,null,null,null,null,null,null,null,null,null,null,null,null,null,null,null,null,null,null,null,null,null,null,null,null,null,null,null,null,null,null,null,null,null,null,null,null,null,null,null,null,null,null,null,null,null,null,null,null,null,null,null,null,null,null,null,null,null,null,null,null,null,null,null,null,null,null,null,null,null,null,null,null,null,null,null,null,null,null,null,null,null,"CF01 MILO (H)",2]
[{"$f":"IFERROR(IF(INDIRECT($A$14&ROW())<>\"\",COUNTIF(Summary!$B$30:$B$1094,INDIRECT($A$14&ROW())),\"\"),\"\")","v":""},null,null,null,null,null,null,null,null,null,null,null,null,null,null,null,null,null,null,null,null,null,null,null,null,null,null,null,null,null,null,null,null,null,null,null,null,null,null,null,null,null,null,null,null,null,null,null,null,null,null,null,null,null,null,null,null,null,null,null,null,null,null,null,null,null,null,null,null,null,null,null,null,null,null,null,null,null,null,null,null,null,null,null,null,null,null,null,null,null,null,"CF05 GRN TEA (H)",3]
[{"$f":"IFERROR(IF(INDIRECT($A$14&ROW())<>\"\",COUNTIF(Summary!$B$30:$B$1094,INDIRECT($A$14&ROW())),\"\"),\"\")","v":""},null,null,null,null,null,null,null,null,null,null,null,null,null,null,null,null,null,null,null,null,null,null,null,null,null,null,null,null,null,null,null,null,null,null,null,null,null,null,null,null,null,null,null,null,null,null,null,null,null,null,null,null,null,null,null,null,null,null,null,null,null,null,null,null,null,null,null,null,null,null,null,null,null,null,null,null,null,null,null,null,null,null,null,null,null,null,null,null,null,null,"CF06 HNY GRN TEA (H)",3]
[{"$f":"IFERROR(IF(INDIRECT($A$14&ROW())<>\"\",COUNTIF(Summary!$B$30:$B$1094,INDIRECT($A$14&ROW())),\"\"),\"\")","v":""},null,null,null,null,null,null,null,null,null,null,null,null,null,null,null,null,null,null,null,null,null,null,null,null,null,null,null,null,null,null,null,null,null,null,null,null,null,null,null,null,null,null,null,null,null,null,null,null,null,null,null,null,null,null,null,null,null,null,null,null,null,null,null,null,null,null,null,null,null,null,null,null,null,null,null,null,null,null,null,null,null,null,null,null,null,null,null,null,null,null,"CF07 HONEY (H)",3]
[{"$f":"IFERROR(IF(INDIRECT($A$14&ROW())<>\"\",COUNTIF(Summary!$B$30:$B$1094,INDIRECT($A$14&ROW())),\"\"),\"\")","v":""},null,null,null,null,null,null,null,null,null,null,null,null,null,null,null,null,null,null,null,null,null,null,null,null,null,null,null,null,null,null,null,null,null,null,null,null,null,null,null,null,null,null,null,null,null,null,null,null,null,null,null,null,null,null,null,null,null,null,null,null,null,null,null,null,null,null,null,null,null,null,null,null,null,null,null,null,null,null,null,null,null,null,null,null,null,null,null,null,null,null,"CF08 LEMON HONEY (H)",6]
[{"$f":"IFERROR(IF(INDIRECT($A$14&ROW())<>\"\",COUNTIF(Summary!$B$30:$B$1094,INDIRECT($A$14&ROW())),\"\"),\"\")","v":""},null,null,null,null,null,null,null,null,null,null,null,null,null,null,null,null,null,null,null,null,null,null,null,null,null,null,null,null,null,null,null,null,null,null,null,null,null,null,null,null,null,null,null,null,null,null,null,null,null,null,null,null,null,null,null,null,null,null,null,null,null,null,null,null,null,null,null,null,null,null,null,null,null,null,null,null,null,null,null,null,null,null,null,null,null,null,null,null,null,null,"CF09 CAPPUCCINO (H)",3]
[{"$f":"IFERROR(IF(INDIRECT($A$14&ROW())<>\"\",COUNTIF(Summary!$B$30:$B$1094,INDIRECT($A$14&ROW())),\"\"),\"\")","v":""},null,null,null,null,null,null,null,null,null,null,null,null,null,null,null,null,null,null,null,null,null,null,null,null,null,null,null,null,null,null,null,null,null,null,null,null,null,null,null,null,null,null,null,null,null,null,null,null,null,null,null,null,null,null,null,null,null,null,null,null,null,null,null,null,null,null,null,null,null,null,null,null,null,null,null,null,null,null,null,null,null,null,null,null,null,null,null,null,null,null,"CF10 CHOCOLATE (H)",2]
[{"$f":"IFERROR(IF(INDIRECT($A$14&ROW())<>\"\",COUNTIF(Summary!$B$30:$B$1094,INDIRECT($A$14&ROW())),\"\"),\"\")","v":""},null,null,null,null,null,null,null,null,null,null,null,null,null,null,null,null,null,null,null,null,null,null,null,null,null,null,null,null,null,null,null,null,null,null,null,null,null,null,null,null,null,null,null,null,null,null,null,null,null,null,null,null,null,null,null,null,null,null,null,null,null,null,null,null,null,null,null,null,null,null,null,null,null,null,null,null,null,null,null,null,null,null,null,null,null,null,null,null,null,null,"CF11 MOCHA (H)",1]
[{"$f":"IFERROR(IF(INDIRECT($A$14&ROW())<>\"\",COUNTIF(Summary!$B$30:$B$1094,INDIRECT($A$14&ROW())),\"\"),\"\")","v":""},null,null,null,null,null,null,null,null,null,null,null,null,null,null,null,null,null,null,null,null,null,null,null,null,null,null,null,null,null,null,null,null,null,null,null,null,null,null,null,null,null,null,null,null,null,null,null,null,null,null,null,null,null,null,null,null,null,null,null,null,null,null,null,null,null,null,null,null,null,null,null,null,null,null,null,null,null,null,null,null,null,null,null,null,null,null,null,null,null,null,"CG01 MINERAL WATER",7]
[{"$f":"IFERROR(IF(INDIRECT($A$14&ROW())<>\"\",COUNTIF(Summary!$B$30:$B$1094,INDIRECT($A$14&ROW())),\"\"),\"\")","v":""},null,null,null,null,null,null,null,null,null,null,null,null,null,null,null,null,null,null,null,null,null,null,null,null,null,null,null,null,null,null,null,null,null,null,null,null,null,null,null,null,null,null,null,null,null,null,null,null,null,null,null,null,null,null,null,null,null,null,null,null,null,null,null,null,null,null,null,null,null,null,null,null,null,null,null,null,null,null,null,null,null,null,null,null,null,null,null,null,null,null,"CH01 7 UP JUG",2]
[{"$f":"IFERROR(IF(INDIRECT($A$14&ROW())<>\"\",COUNTIF(Summary!$B$30:$B$1094,INDIRECT($A$14&ROW())),\"\"),\"\")","v":""},null,null,null,null,null,null,null,null,null,null,null,null,null,null,null,null,null,null,null,null,null,null,null,null,null,null,null,null,null,null,null,null,null,null,null,null,null,null,null,null,null,null,null,null,null,null,null,null,null,null,null,null,null,null,null,null,null,null,null,null,null,null,null,null,null,null,null,null,null,null,null,null,null,null,null,null,null,null,null,null,null,null,null,null,null,null,null,null,null,null,"CH03 PEPSI JUG",2]
[{"$f":"IFERROR(IF(INDIRECT($A$14&ROW())<>\"\",COUNTIF(Summary!$B$30:$B$1094,INDIRECT($A$14&ROW())),\"\"),\"\")","v":""},null,null,null,null,null,null,null,null,null,null,null,null,null,null,null,null,null,null,null,null,null,null,null,null,null,null,null,null,null,null,null,null,null,null,null,null,null,null,null,null,null,null,null,null,null,null,null,null,null,null,null,null,null,null,null,null,null,null,null,null,null,null,null,null,null,null,null,null,null,null,null,null,null,null,null,null,null,null,null,null,null,null,null,null,null,null,null,null,null,null,"CH06 WATER JUG",3]
[{"$f":"IFERROR(IF(INDIRECT($A$14&ROW())<>\"\",COUNTIF(Summary!$B$30:$B$1094,INDIRECT($A$14&ROW())),\"\"),\"\")","v":""},null,null,null,null,null,null,null,null,null,null,null,null,null,null,null,null,null,null,null,null,null,null,null,null,null,null,null,null,null,null,null,null,null,null,null,null,null,null,null,null,null,null,null,null,null,null,null,null,null,null,null,null,null,null,null,null,null,null,null,null,null,null,null,null,null,null,null,null,null,null,null,null,null,null,null,null,null,null,null,null,null,null,null,null,null,null,null,null,null,null,"CI01 GRAPE J",411]
[{"$f":"IFERROR(IF(INDIRECT($A$14&ROW())<>\"\",COUNTIF(Summary!$B$30:$B$1094,INDIRECT($A$14&ROW())),\"\"),\"\")","v":""},null,null,null,null,null,null,null,null,null,null,null,null,null,null,null,null,null,null,null,null,null,null,null,null,null,null,null,null,null,null,null,null,null,null,null,null,null,null,null,null,null,null,null,null,null,null,null,null,null,null,null,null,null,null,null,null,null,null,null,null,null,null,null,null,null,null,null,null,null,null,null,null,null,null,null,null,null,null,null,null,null,null,null,null,null,null,null,null,null,null,"CI02 APPLE J",708]
[{"$f":"IFERROR(IF(INDIRECT($A$14&ROW())<>\"\",COUNTIF(Summary!$B$30:$B$1094,INDIRECT($A$14&ROW())),\"\"),\"\")","v":""},null,null,null,null,null,null,null,null,null,null,null,null,null,null,null,null,null,null,null,null,null,null,null,null,null,null,null,null,null,null,null,null,null,null,null,null,null,null,null,null,null,null,null,null,null,null,null,null,null,null,null,null,null,null,null,null,null,null,null,null,null,null,null,null,null,null,null,null,null,null,null,null,null,null,null,null,null,null,null,null,null,null,null,null,null,null,null,null,null,null,"CI04 MANGO J",552]
[{"$f":"IFERROR(IF(INDIRECT($A$14&ROW())<>\"\",COUNTIF(Summary!$B$30:$B$1094,INDIRECT($A$14&ROW())),\"\"),\"\")","v":""},null,null,null,null,null,null,null,null,null,null,null,null,null,null,null,null,null,null,null,null,null,null,null,null,null,null,null,null,null,null,null,null,null,null,null,null,null,null,null,null,null,null,null,null,null,null,null,null,null,null,null,null,null,null,null,null,null,null,null,null,null,null,null,null,null,null,null,null,null,null,null,null,null,null,null,null,null,null,null,null,null,null,null,null,null,null,null,null,null,null,"CI05 PASSION J",1075]
[{"$f":"IFERROR(IF(INDIRECT($A$14&ROW())<>\"\",COUNTIF(Summary!$B$30:$B$1094,INDIRECT($A$14&ROW())),\"\"),\"\")","v":""},null,null,null,null,null,null,null,null,null,null,null,null,null,null,null,null,null,null,null,null,null,null,null,null,null,null,null,null,null,null,null,null,null,null,null,null,null,null,null,null,null,null,null,null,null,null,null,null,null,null,null,null,null,null,null,null,null,null,null,null,null,null,null,null,null,null,null,null,null,null,null,null,null,null,null,null,null,null,null,null,null,null,null,null,null,null,null,null,null,null,"CI06 RIBENA J",1076]
[{"$f":"IFERROR(IF(INDIRECT($A$14&ROW())<>\"\",COUNTIF(Summary!$B$30:$B$1094,INDIRECT($A$14&ROW())),\"\"),\"\")","v":""},null,null,null,null,null,null,null,null,null,null,null,null,null,null,null,null,null,null,null,null,null,null,null,null,null,null,null,null,null,null,null,null,null,null,null,null,null,null,null,null,null,null,null,null,null,null,null,null,null,null,null,null,null,null,null,null,null,null,null,null,null,null,null,null,null,null,null,null,null,null,null,null,null,null,null,null,null,null,null,null,null,null,null,null,null,null,null,null,null,null,"CJ01 GRAPE SO",64]
[{"$f":"IFERROR(IF(INDIRECT($A$14&ROW())<>\"\",COUNTIF(Summary!$B$30:$B$1094,INDIRECT($A$14&ROW())),\"\"),\"\")","v":""},null,null,null,null,null,null,null,null,null,null,null,null,null,null,null,null,null,null,null,null,null,null,null,null,null,null,null,null,null,null,null,null,null,null,null,null,null,null,null,null,null,null,null,null,null,null,null,null,null,null,null,null,null,null,null,null,null,null,null,null,null,null,null,null,null,null,null,null,null,null,null,null,null,null,null,null,null,null,null,null,null,null,null,null,null,null,null,null,null,null,"CJ02 APPLE SO",103]
[{"$f":"IFERROR(IF(INDIRECT($A$14&ROW())<>\"\",COUNTIF(Summary!$B$30:$B$1094,INDIRECT($A$14&ROW())),\"\"),\"\")","v":""},null,null,null,null,null,null,null,null,null,null,null,null,null,null,null,null,null,null,null,null,null,null,null,null,null,null,null,null,null,null,null,null,null,null,null,null,null,null,null,null,null,null,null,null,null,null,null,null,null,null,null,null,null,null,null,null,null,null,null,null,null,null,null,null,null,null,null,null,null,null,null,null,null,null,null,null,null,null,null,null,null,null,null,null,null,null,null,null,null,null,"CJ04 MANGO SO",41]
[{"$f":"IFERROR(IF(INDIRECT($A$14&ROW())<>\"\",COUNTIF(Summary!$B$30:$B$1094,INDIRECT($A$14&ROW())),\"\"),\"\")","v":""},null,null,null,null,null,null,null,null,null,null,null,null,null,null,null,null,null,null,null,null,null,null,null,null,null,null,null,null,null,null,null,null,null,null,null,null,null,null,null,null,null,null,null,null,null,null,null,null,null,null,null,null,null,null,null,null,null,null,null,null,null,null,null,null,null,null,null,null,null,null,null,null,null,null,null,null,null,null,null,null,null,null,null,null,null,null,null,null,null,null,"CJ05 PASSION SO",128]
[{"$f":"IFERROR(IF(INDIRECT($A$14&ROW())<>\"\",COUNTIF(Summary!$B$30:$B$1094,INDIRECT($A$14&ROW())),\"\"),\"\")","v":""},null,null,null,null,null,null,null,null,null,null,null,null,null,null,null,null,null,null,null,null,null,null,null,null,null,null,null,null,null,null,null,null,null,null,null,null,null,null,null,null,null,null,null,null,null,null,null,null,null,null,null,null,null,null,null,null,null,null,null,null,null,null,null,null,null,null,null,null,null,null,null,null,null,null,null,null,null,null,null,null,null,null,null,null,null,null,null,null,null,null,"CJ06 RIBENA SO",125]
[{"$f":"IFERROR(IF(INDIRECT($A$14&ROW())<>\"\",COUNTIF(Summary!$B$30:$B$1094,INDIRECT($A$14&ROW())),\"\"),\"\")","v":""},null,null,null,null,null,null,null,null,null,null,null,null,null,null,null,null,null,null,null,null,null,null,null,null,null,null,null,null,null,null,null,null,null,null,null,null,null,null,null,null,null,null,null,null,null,null,null,null,null,null,null,null,null,null,null,null,null,null,null,null,null,null,null,null,null,null,null,null,null,null,null,null,null,null,null,null,null,null,null,null,null,null,null,null,null,null,null,null,null,null,"CL01 7 UP",518]
[{"$f":"IFERROR(IF(INDIRECT($A$14&ROW())<>\"\",COUNTIF(Summary!$B$30:$B$1094,INDIRECT($A$14&ROW())),\"\"),\"\")","v":""},null,null,null,null,null,null,null,null,null,null,null,null,null,null,null,null,null,null,null,null,null,null,null,null,null,null,null,null,null,null,null,null,null,null,null,null,null,null,null,null,null,null,null,null,null,null,null,null,null,null,null,null,null,null,null,null,null,null,null,null,null,null,null,null,null,null,null,null,null,null,null,null,null,null,null,null,null,null,null,null,null,null,null,null,null,null,null,null,null,null,"CL02 7 UP REVIVE",100]
[{"$f":"IFERROR(IF(INDIRECT($A$14&ROW())<>\"\",COUNTIF(Summary!$B$30:$B$1094,INDIRECT($A$14&ROW())),\"\"),\"\")","v":""},null,null,null,null,null,null,null,null,null,null,null,null,null,null,null,null,null,null,null,null,null,null,null,null,null,null,null,null,null,null,null,null,null,null,null,null,null,null,null,null,null,null,null,null,null,null,null,null,null,null,null,null,null,null,null,null,null,null,null,null,null,null,null,null,null,null,null,null,null,null,null,null,null,null,null,null,null,null,null,null,null,null,null,null,null,null,null,null,null,null,"CL03 PEPSI",1047]
[{"$f":"IFERROR(IF(INDIRECT($A$14&ROW())<>\"\",COUNTIF(Summary!$B$30:$B$1094,INDIRECT($A$14&ROW())),\"\"),\"\")","v":""},null,null,null,null,null,null,null,null,null,null,null,null,null,null,null,null,null,null,null,null,null,null,null,null,null,null,null,null,null,null,null,null,null,null,null,null,null,null,null,null,null,null,null,null,null,null,null,null,null,null,null,null,null,null,null,null,null,null,null,null,null,null,null,null,null,null,null,null,null,null,null,null,null,null,null,null,null,null,null,null,null,null,null,null,null,null,null,null,null,null,"CM01 MILO (C)",978]
[{"$f":"IFERROR(IF(INDIRECT($A$14&ROW())<>\"\",COUNTIF(Summary!$B$30:$B$1094,INDIRECT($A$14&ROW())),\"\"),\"\")","v":""},null,null,null,null,null,null,null,null,null,null,null,null,null,null,null,null,null,null,null,null,null,null,null,null,null,null,null,null,null,null,null,null,null,null,null,null,null,null,null,null,null,null,null,null,null,null,null,null,null,null,null,null,null,null,null,null,null,null,null,null,null,null,null,null,null,null,null,null,null,null,null,null,null,null,null,null,null,null,null,null,null,null,null,null,null,null,null,null,null,null,"CM02 NESCAFE (C)",291]
[{"$f":"IFERROR(IF(INDIRECT($A$14&ROW())<>\"\",COUNTIF(Summary!$B$30:$B$1094,INDIRECT($A$14&ROW())),\"\"),\"\")","v":""},null,null,null,null,null,null,null,null,null,null,null,null,null,null,null,null,null,null,null,null,null,null,null,null,null,null,null,null,null,null,null,null,null,null,null,null,null,null,null,null,null,null,null,null,null,null,null,null,null,null,null,null,null,null,null,null,null,null,null,null,null,null,null,null,null,null,null,null,null,null,null,null,null,null,null,null,null,null,null,null,null,null,null,null,null,null,null,null,null,null,"CM03 TEA (C)",439]
[{"$f":"IFERROR(IF(INDIRECT($A$14&ROW())<>\"\",COUNTIF(Summary!$B$30:$B$1094,INDIRECT($A$14&ROW())),\"\"),\"\")","v":""},null,null,null,null,null,null,null,null,null,null,null,null,null,null,null,null,null,null,null,null,null,null,null,null,null,null,null,null,null,null,null,null,null,null,null,null,null,null,null,null,null,null,null,null,null,null,null,null,null,null,null,null,null,null,null,null,null,null,null,null,null,null,null,null,null,null,null,null,null,null,null,null,null,null,null,null,null,null,null,null,null,null,null,null,null,null,null,null,null,null,"CM04 LEMON TEA (C)",1379]
[{"$f":"IFERROR(IF(INDIRECT($A$14&ROW())<>\"\",COUNTIF(Summary!$B$30:$B$1094,INDIRECT($A$14&ROW())),\"\"),\"\")","v":""},null,null,null,null,null,null,null,null,null,null,null,null,null,null,null,null,null,null,null,null,null,null,null,null,null,null,null,null,null,null,null,null,null,null,null,null,null,null,null,null,null,null,null,null,null,null,null,null,null,null,null,null,null,null,null,null,null,null,null,null,null,null,null,null,null,null,null,null,null,null,null,null,null,null,null,null,null,null,null,null,null,null,null,null,null,null,null,null,null,null,"CM05 GRN TEA (C)",1497]
[{"$f":"IFERROR(IF(INDIRECT($A$14&ROW())<>\"\",COUNTIF(Summary!$B$30:$B$1094,INDIRECT($A$14&ROW())),\"\"),\"\")","v":""},null,null,null,null,null,null,null,null,null,null,null,null,null,null,null,null,null,null,null,null,null,null,null,null,null,null,null,null,null,null,null,null,null,null,null,null,null,null,null,null,null,null,null,null,null,null,null,null,null,null,null,null,null,null,null,null,null,null,null,null,null,null,null,null,null,null,null,null,null,null,null,null,null,null,null,null,null,null,null,null,null,null,null,null,null,null,null,null,null,null,"CM06 HNY GRN TEA (C)",2332]
[{"$f":"IFERROR(IF(INDIRECT($A$14&ROW())<>\"\",COUNTIF(Summary!$B$30:$B$1094,INDIRECT($A$14&ROW())),\"\"),\"\")","v":""},null,null,null,null,null,null,null,null,null,null,null,null,null,null,null,null,null,null,null,null,null,null,null,null,null,null,null,null,null,null,null,null,null,null,null,null,null,null,null,null,null,null,null,null,null,null,null,null,null,null,null,null,null,null,null,null,null,null,null,null,null,null,null,null,null,null,null,null,null,null,null,null,null,null,null,null,null,null,null,null,null,null,null,null,null,null,null,null,null,null,"CM07 HONEY (C)",686]
[{"$f":"IFERROR(IF(INDIRECT($A$14&ROW())<>\"\",COUNTIF(Summary!$B$30:$B$1094,INDIRECT($A$14&ROW())),\"\"),\"\")","v":""},null,null,null,null,null,null,null,null,null,null,null,null,null,null,null,null,null,null,null,null,null,null,null,null,null,null,null,null,null,null,null,null,null,null,null,null,null,null,null,null,null,null,null,null,null,null,null,null,null,null,null,null,null,null,null,null,null,null,null,null,null,null,null,null,null,null,null,null,null,null,null,null,null,null,null,null,null,null,null,null,null,null,null,null,null,null,null,null,null,null,"CM08 LEMON HONEY (C)",3028]
[{"$f":"IFERROR(IF(INDIRECT($A$14&ROW())<>\"\",COUNTIF(Summary!$B$30:$B$1094,INDIRECT($A$14&ROW())),\"\"),\"\")","v":""},null,null,null,null,null,null,null,null,null,null,null,null,null,null,null,null,null,null,null,null,null,null,null,null,null,null,null,null,null,null,null,null,null,null,null,null,null,null,null,null,null,null,null,null,null,null,null,null,null,null,null,null,null,null,null,null,null,null,null,null,null,null,null,null,null,null,null,null,null,null,null,null,null,null,null,null,null,null,null,null,null,null,null,null,null,null,null,null,null,null,"CN01 MILO (H)",776]
[{"$f":"IFERROR(IF(INDIRECT($A$14&ROW())<>\"\",COUNTIF(Summary!$B$30:$B$1094,INDIRECT($A$14&ROW())),\"\"),\"\")","v":""},null,null,null,null,null,null,null,null,null,null,null,null,null,null,null,null,null,null,null,null,null,null,null,null,null,null,null,null,null,null,null,null,null,null,null,null,null,null,null,null,null,null,null,null,null,null,null,null,null,null,null,null,null,null,null,null,null,null,null,null,null,null,null,null,null,null,null,null,null,null,null,null,null,null,null,null,null,null,null,null,null,null,null,null,null,null,null,null,null,null,"CN02 NESCAFE (H)",185]
[{"$f":"IFERROR(IF(INDIRECT($A$14&ROW())<>\"\",COUNTIF(Summary!$B$30:$B$1094,INDIRECT($A$14&ROW())),\"\"),\"\")","v":""},null,null,null,null,null,null,null,null,null,null,null,null,null,null,null,null,null,null,null,null,null,null,null,null,null,null,null,null,null,null,null,null,null,null,null,null,null,null,null,null,null,null,null,null,null,null,null,null,null,null,null,null,null,null,null,null,null,null,null,null,null,null,null,null,null,null,null,null,null,null,null,null,null,null,null,null,null,null,null,null,null,null,null,null,null,null,null,null,null,null,"CN03 TEA (H)",81]
[{"$f":"IFERROR(IF(INDIRECT($A$14&ROW())<>\"\",COUNTIF(Summary!$B$30:$B$1094,INDIRECT($A$14&ROW())),\"\"),\"\")","v":""},null,null,null,null,null,null,null,null,null,null,null,null,null,null,null,null,null,null,null,null,null,null,null,null,null,null,null,null,null,null,null,null,null,null,null,null,null,null,null,null,null,null,null,null,null,null,null,null,null,null,null,null,null,null,null,null,null,null,null,null,null,null,null,null,null,null,null,null,null,null,null,null,null,null,null,null,null,null,null,null,null,null,null,null,null,null,null,null,null,null,"CN04 LEMON TEA (H)",201]
[{"$f":"IFERROR(IF(INDIRECT($A$14&ROW())<>\"\",COUNTIF(Summary!$B$30:$B$1094,INDIRECT($A$14&ROW())),\"\"),\"\")","v":""},null,null,null,null,null,null,null,null,null,null,null,null,null,null,null,null,null,null,null,null,null,null,null,null,null,null,null,null,null,null,null,null,null,null,null,null,null,null,null,null,null,null,null,null,null,null,null,null,null,null,null,null,null,null,null,null,null,null,null,null,null,null,null,null,null,null,null,null,null,null,null,null,null,null,null,null,null,null,null,null,null,null,null,null,null,null,null,null,null,null,"CN05 GRN TEA (H)",410]
[{"$f":"IFERROR(IF(INDIRECT($A$14&ROW())<>\"\",COUNTIF(Summary!$B$30:$B$1094,INDIRECT($A$14&ROW())),\"\"),\"\")","v":""},null,null,null,null,null,null,null,null,null,null,null,null,null,null,null,null,null,null,null,null,null,null,null,null,null,null,null,null,null,null,null,null,null,null,null,null,null,null,null,null,null,null,null,null,null,null,null,null,null,null,null,null,null,null,null,null,null,null,null,null,null,null,null,null,null,null,null,null,null,null,null,null,null,null,null,null,null,null,null,null,null,null,null,null,null,null,null,null,null,null,"CN06 HNY GRN TEA (H)",688]
[{"$f":"IFERROR(IF(INDIRECT($A$14&ROW())<>\"\",COUNTIF(Summary!$B$30:$B$1094,INDIRECT($A$14&ROW())),\"\"),\"\")","v":""},null,null,null,null,null,null,null,null,null,null,null,null,null,null,null,null,null,null,null,null,null,null,null,null,null,null,null,null,null,null,null,null,null,null,null,null,null,null,null,null,null,null,null,null,null,null,null,null,null,null,null,null,null,null,null,null,null,null,null,null,null,null,null,null,null,null,null,null,null,null,null,null,null,null,null,null,null,null,null,null,null,null,null,null,null,null,null,null,null,null,"CN07 HONEY (H)",460]
[{"$f":"IFERROR(IF(INDIRECT($A$14&ROW())<>\"\",COUNTIF(Summary!$B$30:$B$1094,INDIRECT($A$14&ROW())),\"\"),\"\")","v":""},null,null,null,null,null,null,null,null,null,null,null,null,null,null,null,null,null,null,null,null,null,null,null,null,null,null,null,null,null,null,null,null,null,null,null,null,null,null,null,null,null,null,null,null,null,null,null,null,null,null,null,null,null,null,null,null,null,null,null,null,null,null,null,null,null,null,null,null,null,null,null,null,null,null,null,null,null,null,null,null,null,null,null,null,null,null,null,null,null,null,"CN08 LEMON HONEY (H)",2053]
[{"$f":"IFERROR(IF(INDIRECT($A$14&ROW())<>\"\",COUNTIF(Summary!$B$30:$B$1094,INDIRECT($A$14&ROW())),\"\"),\"\")","v":""},null,null,null,null,null,null,null,null,null,null,null,null,null,null,null,null,null,null,null,null,null,null,null,null,null,null,null,null,null,null,null,null,null,null,null,null,null,null,null,null,null,null,null,null,null,null,null,null,null,null,null,null,null,null,null,null,null,null,null,null,null,null,null,null,null,null,null,null,null,null,null,null,null,null,null,null,null,null,null,null,null,null,null,null,null,null,null,null,null,null,"CN12 CHAMOMILE (H)",153]
[{"$f":"IFERROR(IF(INDIRECT($A$14&ROW())<>\"\",COUNTIF(Summary!$B$30:$B$1094,INDIRECT($A$14&ROW())),\"\"),\"\")","v":""},null,null,null,null,null,null,null,null,null,null,null,null,null,null,null,null,null,null,null,null,null,null,null,null,null,null,null,null,null,null,null,null,null,null,null,null,null,null,null,null,null,null,null,null,null,null,null,null,null,null,null,null,null,null,null,null,null,null,null,null,null,null,null,null,null,null,null,null,null,null,null,null,null,null,null,null,null,null,null,null,null,null,null,null,null,null,null,null,null,null,"CN13 DARJEELING (H)",22]
[{"$f":"IFERROR(IF(INDIRECT($A$14&ROW())<>\"\",COUNTIF(Summary!$B$30:$B$1094,INDIRECT($A$14&ROW())),\"\"),\"\")","v":""},null,null,null,null,null,null,null,null,null,null,null,null,null,null,null,null,null,null,null,null,null,null,null,null,null,null,null,null,null,null,null,null,null,null,null,null,null,null,null,null,null,null,null,null,null,null,null,null,null,null,null,null,null,null,null,null,null,null,null,null,null,null,null,null,null,null,null,null,null,null,null,null,null,null,null,null,null,null,null,null,null,null,null,null,null,null,null,null,null,null,"CN14 EARL GREY (H)",81]
[{"$f":"IFERROR(IF(INDIRECT($A$14&ROW())<>\"\",COUNTIF(Summary!$B$30:$B$1094,INDIRECT($A$14&ROW())),\"\"),\"\")","v":""},null,null,null,null,null,null,null,null,null,null,null,null,null,null,null,null,null,null,null,null,null,null,null,null,null,null,null,null,null,null,null,null,null,null,null,null,null,null,null,null,null,null,null,null,null,null,null,null,null,null,null,null,null,null,null,null,null,null,null,null,null,null,null,null,null,null,null,null,null,null,null,null,null,null,null,null,null,null,null,null,null,null,null,null,null,null,null,null,null,null,"CO02 PLAIN WATER",812]
[{"$f":"IFERROR(IF(INDIRECT($A$14&ROW())<>\"\",COUNTIF(Summary!$B$30:$B$1094,INDIRECT($A$14&ROW())),\"\"),\"\")","v":""},null,null,null,null,null,null,null,null,null,null,null,null,null,null,null,null,null,null,null,null,null,null,null,null,null,null,null,null,null,null,null,null,null,null,null,null,null,null,null,null,null,null,null,null,null,null,null,null,null,null,null,null,null,null,null,null,null,null,null,null,null,null,null,null,null,null,null,null,null,null,null,null,null,null,null,null,null,null,null,null,null,null,null,null,null,null,null,null,null,null,"DB01 1001:BP CKN CP",99]
[{"$f":"IFERROR(IF(INDIRECT($A$14&ROW())<>\"\",COUNTIF(Summary!$B$30:$B$1094,INDIRECT($A$14&ROW())),\"\"),\"\")","v":""},null,null,null,null,null,null,null,null,null,null,null,null,null,null,null,null,null,null,null,null,null,null,null,null,null,null,null,null,null,null,null,null,null,null,null,null,null,null,null,null,null,null,null,null,null,null,null,null,null,null,null,null,null,null,null,null,null,null,null,null,null,null,null,null,null,null,null,null,null,null,null,null,null,null,null,null,null,null,null,null,null,null,null,null,null,null,null,null,null,null,"DB02 1002:GVY CHK CP",24]
[{"$f":"IFERROR(IF(INDIRECT($A$14&ROW())<>\"\",COUNTIF(Summary!$B$30:$B$1094,INDIRECT($A$14&ROW())),\"\"),\"\")","v":""},null,null,null,null,null,null,null,null,null,null,null,null,null,null,null,null,null,null,null,null,null,null,null,null,null,null,null,null,null,null,null,null,null,null,null,null,null,null,null,null,null,null,null,null,null,null,null,null,null,null,null,null,null,null,null,null,null,null,null,null,null,null,null,null,null,null,null,null,null,null,null,null,null,null,null,null,null,null,null,null,null,null,null,null,null,null,null,null,null,null,"DB03 1003:MSR CKN CP",96]
[{"$f":"IFERROR(IF(INDIRECT($A$14&ROW())<>\"\",COUNTIF(Summary!$B$30:$B$1094,INDIRECT($A$14&ROW())),\"\"),\"\")","v":""},null,null,null,null,null,null,null,null,null,null,null,null,null,null,null,null,null,null,null,null,null,null,null,null,null,null,null,null,null,null,null,null,null,null,null,null,null,null,null,null,null,null,null,null,null,null,null,null,null,null,null,null,null,null,null,null,null,null,null,null,null,null,null,null,null,null,null,null,null,null,null,null,null,null,null,null,null,null,null,null,null,null,null,null,null,null,null,null,null,null,"DB04 1004:CKN MARY",41]
[{"$f":"IFERROR(IF(INDIRECT($A$14&ROW())<>\"\",COUNTIF(Summary!$B$30:$B$1094,INDIRECT($A$14&ROW())),\"\"),\"\")","v":""},null,null,null,null,null,null,null,null,null,null,null,null,null,null,null,null,null,null,null,null,null,null,null,null,null,null,null,null,null,null,null,null,null,null,null,null,null,null,null,null,null,null,null,null,null,null,null,null,null,null,null,null,null,null,null,null,null,null,null,null,null,null,null,null,null,null,null,null,null,null,null,null,null,null,null,null,null,null,null,null,null,null,null,null,null,null,null,null,null,null,"DB05 1005:FISH&CHIP",38]
[{"$f":"IFERROR(IF(INDIRECT($A$14&ROW())<>\"\",COUNTIF(Summary!$B$30:$B$1094,INDIRECT($A$14&ROW())),\"\"),\"\")","v":""},null,null,null,null,null,null,null,null,null,null,null,null,null,null,null,null,null,null,null,null,null,null,null,null,null,null,null,null,null,null,null,null,null,null,null,null,null,null,null,null,null,null,null,null,null,null,null,null,null,null,null,null,null,null,null,null,null,null,null,null,null,null,null,null,null,null,null,null,null,null,null,null,null,null,null,null,null,null,null,null,null,null,null,null,null,null,null,null,null,null,"DB06 1006:SPAGHETTI",57]
[{"$f":"IFERROR(IF(INDIRECT($A$14&ROW())<>\"\",COUNTIF(Summary!$B$30:$B$1094,INDIRECT($A$14&ROW())),\"\"),\"\")","v":""},null,null,null,null,null,null,null,null,null,null,null,null,null,null,null,null,null,null,null,null,null,null,null,null,null,null,null,null,null,null,null,null,null,null,null,null,null,null,null,null,null,null,null,null,null,null,null,null,null,null,null,null,null,null,null,null,null,null,null,null,null,null,null,null,null,null,null,null,null,null,null,null,null,null,null,null,null,null,null,null,null,null,null,null,null,null,null,null,null,null,"DB07 1007:CHK SALAD",23]
[{"$f":"IFERROR(IF(INDIRECT($A$14&ROW())<>\"\",COUNTIF(Summary!$B$30:$B$1094,INDIRECT($A$14&ROW())),\"\"),\"\")","v":""},null,null,null,null,null,null,null,null,null,null,null,null,null,null,null,null,null,null,null,null,null,null,null,null,null,null,null,null,null,null,null,null,null,null,null,null,null,null,null,null,null,null,null,null,null,null,null,null,null,null,null,null,null,null,null,null,null,null,null,null,null,null,null,null,null,null,null,null,null,null,null,null,null,null,null,null,null,null,null,null,null,null,null,null,null,null,null,null,null,null,"DC01 1101:THAI CHK",53]
[{"$f":"IFERROR(IF(INDIRECT($A$14&ROW())<>\"\",COUNTIF(Summary!$B$30:$B$1094,INDIRECT($A$14&ROW())),\"\"),\"\")","v":""},null,null,null,null,null,null,null,null,null,null,null,null,null,null,null,null,null,null,null,null,null,null,null,null,null,null,null,null,null,null,null,null,null,null,null,null,null,null,null,null,null,null,null,null,null,null,null,null,null,null,null,null,null,null,null,null,null,null,null,null,null,null,null,null,null,null,null,null,null,null,null,null,null,null,null,null,null,null,null,null,null,null,null,null,null,null,null,null,null,null,"DC02 1102:MAMITE CHK",70]
[{"$f":"IFERROR(IF(INDIRECT($A$14&ROW())<>\"\",COUNTIF(Summary!$B$30:$B$1094,INDIRECT($A$14&ROW())),\"\"),\"\")","v":""},null,null,null,null,null,null,null,null,null,null,null,null,null,null,null,null,null,null,null,null,null,null,null,null,null,null,null,null,null,null,null,null,null,null,null,null,null,null,null,null,null,null,null,null,null,null,null,null,null,null,null,null,null,null,null,null,null,null,null,null,null,null,null,null,null,null,null,null,null,null,null,null,null,null,null,null,null,null,null,null,null,null,null,null,null,null,null,null,null,null,"DC04 1104:S&S CHK",21]
[{"$f":"IFERROR(IF(INDIRECT($A$14&ROW())<>\"\",COUNTIF(Summary!$B$30:$B$1094,INDIRECT($A$14&ROW())),\"\"),\"\")","v":""},null,null,null,null,null,null,null,null,null,null,null,null,null,null,null,null,null,null,null,null,null,null,null,null,null,null,null,null,null,null,null,null,null,null,null,null,null,null,null,null,null,null,null,null,null,null,null,null,null,null,null,null,null,null,null,null,null,null,null,null,null,null,null,null,null,null,null,null,null,null,null,null,null,null,null,null,null,null,null,null,null,null,null,null,null,null,null,null,null,null,"DC05 1105:BUTTER CHK",105]
[{"$f":"IFERROR(IF(INDIRECT($A$14&ROW())<>\"\",COUNTIF(Summary!$B$30:$B$1094,INDIRECT($A$14&ROW())),\"\"),\"\")","v":""},null,null,null,null,null,null,null,null,null,null,null,null,null,null,null,null,null,null,null,null,null,null,null,null,null,null,null,null,null,null,null,null,null,null,null,null,null,null,null,null,null,null,null,null,null,null,null,null,null,null,null,null,null,null,null,null,null,null,null,null,null,null,null,null,null,null,null,null,null,null,null,null,null,null,null,null,null,null,null,null,null,null,null,null,null,null,null,null,null,null,"DC06 1106:HK F.RICE",60]
[{"$f":"IFERROR(IF(INDIRECT($A$14&ROW())<>\"\",COUNTIF(Summary!$B$30:$B$1094,INDIRECT($A$14&ROW())),\"\"),\"\")","v":""},null,null,null,null,null,null,null,null,null,null,null,null,null,null,null,null,null,null,null,null,null,null,null,null,null,null,null,null,null,null,null,null,null,null,null,null,null,null,null,null,null,null,null,null,null,null,null,null,null,null,null,null,null,null,null,null,null,null,null,null,null,null,null,null,null,null,null,null,null,null,null,null,null,null,null,null,null,null,null,null,null,null,null,null,null,null,null,null,null,null,"DC07 1107:SBL F.RICE",38]
[{"$f":"IFERROR(IF(INDIRECT($A$14&ROW())<>\"\",COUNTIF(Summary!$B$30:$B$1094,INDIRECT($A$14&ROW())),\"\"),\"\")","v":""},null,null,null,null,null,null,null,null,null,null,null,null,null,null,null,null,null,null,null,null,null,null,null,null,null,null,null,null,null,null,null,null,null,null,null,null,null,null,null,null,null,null,null,null,null,null,null,null,null,null,null,null,null,null,null,null,null,null,null,null,null,null,null,null,null,null,null,null,null,null,null,null,null,null,null,null,null,null,null,null,null,null,null,null,null,null,null,null,null,null,"DC08 1108:SBL F.MEE",8]
[{"$f":"IFERROR(IF(INDIRECT($A$14&ROW())<>\"\",COUNTIF(Summary!$B$30:$B$1094,INDIRECT($A$14&ROW())),\"\"),\"\")","v":""},null,null,null,null,null,null,null,null,null,null,null,null,null,null,null,null,null,null,null,null,null,null,null,null,null,null,null,null,null,null,null,null,null,null,null,null,null,null,null,null,null,null,null,null,null,null,null,null,null,null,null,null,null,null,null,null,null,null,null,null,null,null,null,null,null,null,null,null,null,null,null,null,null,null,null,null,null,null,null,null,null,null,null,null,null,null,null,null,null,null,"DC09 1109:BP UDON",27]
[{"$f":"IFERROR(IF(INDIRECT($A$14&ROW())<>\"\",COUNTIF(Summary!$B$30:$B$1094,INDIRECT($A$14&ROW())),\"\"),\"\")","v":""},null,null,null,null,null,null,null,null,null,null,null,null,null,null,null,null,null,null,null,null,null,null,null,null,null,null,null,null,null,null,null,null,null,null,null,null,null,null,null,null,null,null,null,null,null,null,null,null,null,null,null,null,null,null,null,null,null,null,null,null,null,null,null,null,null,null,null,null,null,null,null,null,null,null,null,null,null,null,null,null,null,null,null,null,null,null,null,null,null,null,"DC10 1110:NISSIN",33]
[{"$f":"IFERROR(IF(INDIRECT($A$14&ROW())<>\"\",COUNTIF(Summary!$B$30:$B$1094,INDIRECT($A$14&ROW())),\"\"),\"\")","v":""},null,null,null,null,null,null,null,null,null,null,null,null,null,null,null,null,null,null,null,null,null,null,null,null,null,null,null,null,null,null,null,null,null,null,null,null,null,null,null,null,null,null,null,null,null,null,null,null,null,null,null,null,null,null,null,null,null,null,null,null,null,null,null,null,null,null,null,null,null,null,null,null,null,null,null,null,null,null,null,null,null,null,null,null,null,null,null,null,null,null,"DC11 1111:VEG RICE",5]
[{"$f":"IFERROR(IF(INDIRECT($A$14&ROW())<>\"\",COUNTIF(Summary!$B$30:$B$1094,INDIRECT($A$14&ROW())),\"\"),\"\")","v":""},null,null,null,null,null,null,null,null,null,null,null,null,null,null,null,null,null,null,null,null,null,null,null,null,null,null,null,null,null,null,null,null,null,null,null,null,null,null,null,null,null,null,null,null,null,null,null,null,null,null,null,null,null,null,null,null,null,null,null,null,null,null,null,null,null,null,null,null,null,null,null,null,null,null,null,null,null,null,null,null,null,null,null,null,null,null,null,null,null,null,"DC15 1115:CHK NOODLE",22]
[{"$f":"IFERROR(IF(INDIRECT($A$14&ROW())<>\"\",COUNTIF(Summary!$B$30:$B$1094,INDIRECT($A$14&ROW())),\"\"),\"\")","v":""},null,null,null,null,null,null,null,null,null,null,null,null,null,null,null,null,null,null,null,null,null,null,null,null,null,null,null,null,null,null,null,null,null,null,null,null,null,null,null,null,null,null,null,null,null,null,null,null,null,null,null,null,null,null,null,null,null,null,null,null,null,null,null,null,null,null,null,null,null,null,null,null,null,null,null,null,null,null,null,null,null,null,null,null,null,null,null,null,null,null,"DC16 1116:MGL CHICKEN",27]
[{"$f":"IFERROR(IF(INDIRECT($A$14&ROW())<>\"\",COUNTIF(Summary!$B$30:$B$1094,INDIRECT($A$14&ROW())),\"\"),\"\")","v":""},null,null,null,null,null,null,null,null,null,null,null,null,null,null,null,null,null,null,null,null,null,null,null,null,null,null,null,null,null,null,null,null,null,null,null,null,null,null,null,null,null,null,null,null,null,null,null,null,null,null,null,null,null,null,null,null,null,null,null,null,null,null,null,null,null,null,null,null,null,null,null,null,null,null,null,null,null,null,null,null,null,null,null,null,null,null,null,null,null,null,"DD01 1201:SFD STICK",5]
[{"$f":"IFERROR(IF(INDIRECT($A$14&ROW())<>\"\",COUNTIF(Summary!$B$30:$B$1094,INDIRECT($A$14&ROW())),\"\"),\"\")","v":""},null,null,null,null,null,null,null,null,null,null,null,null,null,null,null,null,null,null,null,null,null,null,null,null,null,null,null,null,null,null,null,null,null,null,null,null,null,null,null,null,null,null,null,null,null,null,null,null,null,null,null,null,null,null,null,null,null,null,null,null,null,null,null,null,null,null,null,null,null,null,null,null,null,null,null,null,null,null,null,null,null,null,null,null,null,null,null,null,null,null,"DD02 1202:FREN FRIES",98]
[{"$f":"IFERROR(IF(INDIRECT($A$14&ROW())<>\"\",COUNTIF(Summary!$B$30:$B$1094,INDIRECT($A$14&ROW())),\"\"),\"\")","v":""},null,null,null,null,null,null,null,null,null,null,null,null,null,null,null,"ZAC08 1308:C/CALAMARI",2,null,null,null,null,null,null,null,null,null,null,null,null,null,null,null,null,null,null,null,null,null,null,null,null,null,null,null,null,null,null,null,null,null,null,null,null,null,"ZZZZZ UPGRADE TO HEI",null,null,"ZAD37 ICE BUCKET",12,null,"ZAD21 TAKE AWAY",3,null,null,null,null,null,null,null,null,null,null,null,null,null,"ZAD36 BEER GLASS",22,null,"ZAD17 WITHOUT SUGAR",3,null,null,null,null,null,null,null,null,null,null,"DD03 1203:GOLD MROOM",9]
[{"$f":"IFERROR(IF(INDIRECT($A$14&ROW())<>\"\",COUNTIF(Summary!$B$30:$B$1094,INDIRECT($A$14&ROW())),\"\"),\"\")","v":""},null,null,null,null,null,null,null,null,null,null,null,null,null,null,null,"ZAC10 1310:Mc SPIRAL/F",5,null,null,null,null,null,null,null,null,null,null,null,null,null,null,null,null,null,null,null,null,null,null,null,null,null,null,null,null,null,null,null,null,null,null,null,null,null,null,null,null,"ZZZZZ APPLY MEM",null,null,"ZAD36 BEER GLASS",26,null,null,null,null,null,null,null,null,null,null,null,null,null,"ZAD37 ICE BUCKET",10,null,"ZAD20 JUG",8,null,null,null,null,null,null,null,null,null,null,"DD04 1204:FISHBALL",10]
[{"$f":"IFERROR(IF(INDIRECT($A$14&ROW())<>\"\",COUNTIF(Summary!$B$30:$B$1094,INDIRECT($A$14&ROW())),\"\"),\"\")","v":""},null,null,null,null,null,null,null,null,null,null,null,null,null,null,null,"ZAC11 1311:Mc H/SMILES",1,null,null,null,null,null,null,null,null,null,null,null,null,null,null,null,null,null,null,null,null,null,null,null,null,null,null,null,null,null,null,null,null,null,null,null,null,null,null,null,null,null,null,null,"ZAD37 ICE BUCKET",8,null,null,null,null,null,null,null,null,null,null,null,null,null,"ZZZZZ PRICE NOT CHANGE",null,null,"ZAD36 BEER GLASS",46,null,null,null,null,null,null,null,null,null,null,"DD06 1206:SPRING RL",8]
[{"$f":"IFERROR(IF(INDIRECT($A$14&ROW())<>\"\",COUNTIF(Summary!$B$30:$B$1094,INDIRECT($A$14&ROW())),\"\"),\"\")","v":""},null,null,null,null,null,null,null,null,null,null,null,null,null,null,null,"ZAC12 1312:Mc HASH/B",1,null,null,null,null,null,null,null,null,null,null,null,null,null,null,null,null,null,null,null,null,null,null,null,null,null,null,null,null,null,null,null,null,null,null,null,null,null,null,null,null,null,null,null,"ZZZZZ SOLD OUT",null,null,null,null,null,null,null,null,null,null,null,null,null,null,null,null,null,"ZAD37 ICE BUCKET",14,null,null,null,null,null,null,null,null,null,null,"DD07 1207:SAUSAGE",17]
[{"$f":"IFERROR(IF(INDIRECT($A$14&ROW())<>\"\",COUNTIF(Summary!$B$30:$B$1094,INDIRECT($A$14&ROW())),\"\"),\"\")","v":""},null,null,null,null,null,null,null,null,null,null,null,null,null,null,null,"ZAD01 COLD",7,null,null,null,null,null,null,null,null,null,null,null,null,null,null,null,null,null,null,null,null,null,null,null,null,null,null,null,null,null,null,null,null,null,null,null,null,null,null,null,null,null,null,null,null,null,null,null,null,null,null,null,null,null,null,null,null,null,null,null,null,null,"ZZZZZ CHANGE REGULAR",null,null,null,null,null,null,null,null,null,null,null,"DD11 1302:NUGGET",35]
[{"$f":"IFERROR(IF(INDIRECT($A$14&ROW())<>\"\",COUNTIF(Summary!$B$30:$B$1094,INDIRECT($A$14&ROW())),\"\"),\"\")","v":""},null,null,null,null,null,null,null,null,null,null,null,null,null,null,null,"ZAD02 HOT",7,null,null,null,null,null,null,null,null,null,null,null,null,null,null,null,null,null,null,null,null,null,null,null,null,null,null,null,null,null,null,null,null,null,null,null,null,null,null,null,null,null,null,null,null,null,null,null,null,null,null,null,null,null,null,null,null,null,null,null,null,null,null,null,null,null,null,null,null,null,null,null,null,null,"DD12 1303:CHK WING",24]
[{"$f":"IFERROR(IF(INDIRECT($A$14&ROW())<>\"\",COUNTIF(Summary!$B$30:$B$1094,INDIRECT($A$14&ROW())),\"\"),\"\")","v":""},null,null,null,null,null,null,null,null,null,null,null,null,null,null,null,"ZAD03 WARM",25,null,null,null,null,null,null,null,null,null,null,null,null,null,null,null,null,null,null,null,null,null,null,null,null,null,null,null,null,null,null,null,null,null,null,null,null,null,null,null,null,null,null,null,null,null,null,null,null,null,null,null,null,null,null,null,null,null,null,null,null,null,null,null,null,null,null,null,null,null,null,null,null,null,"DD13 1304:IKAN BILIS",8]
[{"$f":"IFERROR(IF(INDIRECT($A$14&ROW())<>\"\",COUNTIF(Summary!$B$30:$B$1094,INDIRECT($A$14&ROW())),\"\"),\"\")","v":""},null,null,null,null,null,null,null,null,null,null,null,null,null,null,null,"ZAD04 LESS ICE",58,null,null,null,null,null,null,null,null,null,null,null,null,null,null,null,null,null,null,null,null,null,null,null,null,null,null,null,null,null,null,null,null,null,null,null,null,null,null,null,null,null,null,null,null,null,null,null,null,null,null,null,null,null,null,null,null,null,null,null,null,null,null,null,null,null,null,null,null,null,null,null,null,null,"DD14 1305:THAI RL",5]
[{"$f":"IFERROR(IF(INDIRECT($A$14&ROW())<>\"\",COUNTIF(Summary!$B$30:$B$1094,INDIRECT($A$14&ROW())),\"\"),\"\")","v":""},null,null,null,null,null,null,null,null,null,null,null,null,null,null,null,"ZAD06 NO ICE",25,null,null,null,null,null,null,null,null,null,null,null,null,null,null,null,null,null,null,null,null,null,null,null,null,null,null,null,null,null,null,null,null,null,null,null,null,null,null,null,null,null,null,null,null,null,null,null,null,null,null,null,null,null,null,null,null,null,null,null,null,null,null,null,null,null,null,null,null,null,null,null,null,null,"DD16 1307:D.F C/WING",18]
[{"$f":"IFERROR(IF(INDIRECT($A$14&ROW())<>\"\",COUNTIF(Summary!$B$30:$B$1094,INDIRECT($A$14&ROW())),\"\"),\"\")","v":""},null,null,null,null,null,null,null,null,null,null,null,null,null,null,null,"ZAD07 LESS SWEET",6,null,null,null,null,null,null,null,null,null,null,null,null,null,null,null,null,null,null,null,null,null,null,null,null,null,null,null,null,null,null,null,null,null,null,null,null,null,null,null,null,null,null,null,null,null,null,null,null,null,null,null,null,null,null,null,null,null,null,null,null,null,null,null,null,null,null,null,null,null,null,null,null,null,"DD17 1308 C/CALAMARI",6]
[{"$f":"IFERROR(IF(INDIRECT($A$14&ROW())<>\"\",COUNTIF(Summary!$B$30:$B$1094,INDIRECT($A$14&ROW())),\"\"),\"\")","v":""},null,null,null,null,null,null,null,null,null,null,null,null,null,null,null,"ZAD13 ADD LEMON",2,null,null,null,null,null,null,null,null,null,null,null,null,null,null,null,null,null,null,null,null,null,null,null,null,null,null,null,null,null,null,null,null,null,null,null,null,null,null,null,null,null,null,null,null,null,null,null,null,null,null,null,null,null,null,null,null,null,null,null,null,null,null,null,null,null,null,null,null,null,null,null,null,null,"DD18 1309 Mc C/O.RING",6]
[{"$f":"IFERROR(IF(INDIRECT($A$14&ROW())<>\"\",COUNTIF(Summary!$B$30:$B$1094,INDIRECT($A$14&ROW())),\"\"),\"\")","v":""},null,null,null,null,null,null,null,null,null,null,null,null,null,null,null,"ZAD20 JUG",4,null,null,null,null,null,null,null,null,null,null,null,null,null,null,null,null,null,null,null,null,null,null,null,null,null,null,null,null,null,null,null,null,null,null,null,null,null,null,null,null,null,null,null,null,null,null,null,null,null,null,null,null,null,null,null,null,null,null,null,null,null,null,null,null,null,null,null,null,null,null,null,null,null,"DD19 1310:Mc SPIRAL/F",9]
[{"$f":"IFERROR(IF(INDIRECT($A$14&ROW())<>\"\",COUNTIF(Summary!$B$30:$B$1094,INDIRECT($A$14&ROW())),\"\"),\"\")","v":""},null,null,null,null,null,null,null,null,null,null,null,null,null,null,null,"ZAD21 TAKE AWAY",4,null,null,null,null,null,null,null,null,null,null,null,null,null,null,null,null,null,null,null,null,null,null,null,null,null,null,null,null,null,null,null,null,null,null,null,null,null,null,null,null,null,null,null,null,null,null,null,null,null,null,null,null,null,null,null,null,null,null,null,null,null,null,null,null,null,null,null,null,null,null,null,null,null,"DD20 1311:Mc H/SMILES",4]
[{"$f":"IFERROR(IF(INDIRECT($A$14&ROW())<>\"\",COUNTIF(Summary!$B$30:$B$1094,INDIRECT($A$14&ROW())),\"\"),\"\")","v":""},null,null,null,null,null,null,null,null,null,null,null,null,null,null,null,"ZAD36 BEER GLASS",28,null,null,null,null,null,null,null,null,null,null,null,null,null,null,null,null,null,null,null,null,null,null,null,null,null,null,null,null,null,null,null,null,null,null,null,null,null,null,null,null,null,null,null,null,null,null,null,null,null,null,null,null,null,null,null,null,null,null,null,null,null,null,null,null,null,null,null,null,null,null,null,null,null,"DD21 1312:Mc HASH BRW",11]
[{"$f":"IFERROR(IF(INDIRECT($A$14&ROW())<>\"\",COUNTIF(Summary!$B$30:$B$1094,INDIRECT($A$14&ROW())),\"\"),\"\")","v":""},null,null,null,null,null,null,null,null,null,null,null,null,null,null,null,"ZAD37 ICE BUCKET",11,null,null,null,null,null,null,null,null,null,null,null,null,null,null,null,null,null,null,null,null,null,null,null,null,null,null,null,null,null,null,null,null,null,null,null,null,null,null,null,null,null,null,null,null,null,null,null,null,null,null,null,null,null,null,null,null,null,null,null,null,null,null,null,null,null,null,null,null,null,null,null,null,null,"DE01 SET 990",202]
[{"$f":"IFERROR(IF(INDIRECT($A$14&ROW())<>\"\",COUNTIF(Summary!$B$30:$B$1094,INDIRECT($A$14&ROW())),\"\"),\"\")","v":""},null,null,null,null,null,null,null,null,null,null,null,null,null,null,null,"ZZZZZ WRONG KEY",null,null,null,null,null,null,null,null,null,null,null,null,null,null,null,null,null,null,null,null,null,null,null,null,null,null,null,null,null,null,null,null,null,null,null,null,null,null,null,null,null,null,null,null,null,null,null,null,null,null,null,null,null,null,null,null,null,null,null,null,null,null,null,null,null,null,null,null,null,null,null,null,null,null,"DE02 SET 1390",143]
[{"$f":"IFERROR(IF(INDIRECT($A$14&ROW())<>\"\",COUNTIF(Summary!$B$30:$B$1094,INDIRECT($A$14&ROW())),\"\"),\"\")","v":""},null,null,null,null,null,null,null,null,null,null,null,null,null,null,null,null,null,null,null,null,null,null,null,null,null,null,null,null,null,null,null,null,null,null,null,null,null,null,null,null,null,null,null,null,null,null,null,null,null,null,null,null,null,null,null,null,null,null,null,null,null,null,null,null,null,null,null,null,null,null,null,null,null,null,null,null,null,null,null,null,null,null,null,null,null,null,null,null,null,null,"DF01 ADD RICE",17]
[{"$f":"IFERROR(IF(INDIRECT($A$14&ROW())<>\"\",COUNTIF(Summary!$B$30:$B$1094,INDIRECT($A$14&ROW())),\"\"),\"\")","v":""},null,null,null,null,null,null,null,null,null,null,null,null,null,null,null,null,null,null,null,null,null,null,null,null,null,null,null,null,null,null,null,null,null,null,null,null,null,null,null,null,null,null,null,null,null,null,null,null,null,null,null,null,null,null,null,null,null,null,null,null,null,null,null,null,null,null,null,null,null,null,null,null,null,null,null,null,null,null,null,null,null,null,null,null,null,null,null,null,null,null,"DF02 ADD F.EGG",5]
[{"$f":"IFERROR(IF(INDIRECT($A$14&ROW())<>\"\",COUNTIF(Summary!$B$30:$B$1094,INDIRECT($A$14&ROW())),\"\"),\"\")","v":""},null,null,null,null,null,null,null,null,null,null,null,null,null,null,null,null,null,null,null,null,null,null,null,null,null,null,null,null,null,null,null,null,null,null,null,null,null,null,null,null,null,null,null,null,null,null,null,null,null,null,null,null,null,null,null,null,null,null,null,null,null,null,null,null,null,null,null,null,null,null,null,null,null,null,null,null,null,null,null,null,null,null,null,null,null,null,null,null,null,null,"DF03 ADD SAUCE 1000",8]
[{"$f":"IFERROR(IF(INDIRECT($A$14&ROW())<>\"\",COUNTIF(Summary!$B$30:$B$1094,INDIRECT($A$14&ROW())),\"\"),\"\")","v":""},null,null,null,null,null,null,null,null,null,null,null,null,null,null,null,null,null,null,null,null,null,null,null,null,null,null,null,null,null,null,null,null,null,null,null,null,null,null,null,null,null,null,null,null,null,null,null,null,null,null,null,null,null,null,null,null,null,null,null,null,null,null,null,null,null,null,null,null,null,null,null,null,null,null,null,null,null,null,null,null,null,null,null,null,null,null,null,null,null,null,"DF04 ADD SAUCE BOLO",1]
[{"$f":"IFERROR(IF(INDIRECT($A$14&ROW())<>\"\",COUNTIF(Summary!$B$30:$B$1094,INDIRECT($A$14&ROW())),\"\"),\"\")","v":""},null,null,null,null,null,null,null,null,null,null,null,null,null,null,null,null,null,null,null,null,null,null,null,null,null,null,null,null,null,null,null,null,null,null,null,null,null,null,null,null,null,null,null,null,null,null,null,null,null,null,null,null,null,null,null,null,null,null,null,null,null,null,null,null,null,null,null,null,null,null,null,null,null,null,null,null,null,null,null,null,null,null,null,null,null,null,null,null,null,null,"DF05 ADD SAUCE BP",1]
[{"$f":"IFERROR(IF(INDIRECT($A$14&ROW())<>\"\",COUNTIF(Summary!$B$30:$B$1094,INDIRECT($A$14&ROW())),\"\"),\"\")","v":""},null,null,null,null,null,null,null,null,null,null,null,null,null,null,null,null,null,null,null,null,null,null,null,null,null,null,null,null,null,null,null,null,null,null,null,null,null,null,null,null,null,null,null,null,null,null,null,null,null,null,null,null,null,null,null,null,null,null,null,null,null,null,null,null,null,null,null,null,null,null,null,null,null,null,null,null,null,null,null,null,null,null,null,null,null,null,null,null,null,null,"DF07 ADD SAUCE C.PADI",32]
[{"$f":"IFERROR(IF(INDIRECT($A$14&ROW())<>\"\",COUNTIF(Summary!$B$30:$B$1094,INDIRECT($A$14&ROW())),\"\"),\"\")","v":""},null,null,null,null,null,null,null,null,null,null,null,null,null,null,null,null,null,null,null,null,null,null,null,null,null,null,null,null,null,null,null,null,null,null,null,null,null,null,null,null,null,null,null,null,null,null,null,null,null,null,null,null,null,null,null,null,null,null,null,null,null,null,null,null,null,null,null,null,null,null,null,null,null,null,null,null,null,null,null,null,null,null,null,null,null,null,null,null,null,null,"DF09 ADD SAUCE MAYO",82]
[{"$f":"IFERROR(IF(INDIRECT($A$14&ROW())<>\"\",COUNTIF(Summary!$B$30:$B$1094,INDIRECT($A$14&ROW())),\"\"),\"\")","v":""},null,null,null,null,null,null,null,null,null,null,null,null,null,null,null,null,null,null,null,null,null,null,null,null,null,null,null,null,null,null,null,null,null,null,null,null,null,null,null,null,null,null,null,null,null,null,null,null,null,null,null,null,null,null,null,null,null,null,null,null,null,null,null,null,null,null,null,null,null,null,null,null,null,null,null,null,null,null,null,null,null,null,null,null,null,null,null,null,null,null,"DF10 ADD SAUCE MMITE",1]
[{"$f":"IFERROR(IF(INDIRECT($A$14&ROW())<>\"\",COUNTIF(Summary!$B$30:$B$1094,INDIRECT($A$14&ROW())),\"\"),\"\")","v":""},null,null,null,null,null,null,null,null,null,null,null,null,null,null,null,null,null,null,null,null,null,null,null,null,null,null,null,null,null,null,null,null,null,null,null,null,null,null,null,null,null,null,null,null,null,null,null,null,null,null,null,null,null,null,null,null,null,null,null,null,null,null,null,null,null,null,null,null,null,null,null,null,null,null,null,null,null,null,null,null,null,null,null,null,null,null,null,null,null,null,"DF11 ADD SAUCE MR",13]
[{"$f":"IFERROR(IF(INDIRECT($A$14&ROW())<>\"\",COUNTIF(Summary!$B$30:$B$1094,INDIRECT($A$14&ROW())),\"\"),\"\")","v":""},null,null,null,null,null,null,null,null,null,null,null,null,null,null,null,null,null,null,null,null,null,null,null,null,null,null,null,null,null,null,null,null,null,null,null,null,null,null,null,null,null,null,null,null,null,null,null,null,null,null,null,null,null,null,null,null,null,null,null,null,null,null,null,null,null,null,null,null,null,null,null,null,null,null,null,null,null,null,null,null,null,null,null,null,null,null,null,null,null,null,"DF12 ADD SAUCE SAMBAL",9]
[{"$f":"IFERROR(IF(INDIRECT($A$14&ROW())<>\"\",COUNTIF(Summary!$B$30:$B$1094,INDIRECT($A$14&ROW())),\"\"),\"\")","v":""},null,null,null,null,null,null,null,null,null,null,null,null,null,null,null,null,null,null,null,null,null,null,null,null,null,null,null,null,null,null,null,null,null,null,null,null,null,null,null,null,null,null,null,null,null,null,null,null,null,null,null,null,null,null,null,null,null,null,null,null,null,null,null,null,null,null,null,null,null,null,null,null,null,null,null,null,null,null,null,null,null,null,null,null,null,null,null,null,null,null,"DF13 ADD SAUCE THAI",1]
[{"$f":"IFERROR(IF(INDIRECT($A$14&ROW())<>\"\",COUNTIF(Summary!$B$30:$B$1094,INDIRECT($A$14&ROW())),\"\"),\"\")","v":""},null,null,null,null,null,null,null,null,null,null,null,null,null,null,null,null,null,null,null,null,null,null,null,null,null,null,null,null,null,null,null,null,null,null,null,null,null,null,null,null,null,null,null,null,null,null,null,null,null,null,null,null,null,null,null,null,null,null,null,null,null,null,null,null,null,null,null,null,null,null,null,null,null,null,null,null,null,null,null,null,null,null,null,null,null,null,null,null,null,null,"DF14 ADD SAUCE TOMATO",101]
[{"$f":"IFERROR(IF(INDIRECT($A$14&ROW())<>\"\",COUNTIF(Summary!$B$30:$B$1094,INDIRECT($A$14&ROW())),\"\"),\"\")","v":""},null,null,null,null,null,null,null,null,null,null,null,null,null,null,null,null,null,null,null,null,null,null,null,null,null,null,null,null,null,null,null,null,null,null,null,null,null,null,null,null,null,null,null,null,null,null,null,null,null,null,null,null,null,null,null,null,null,null,null,null,null,null,null,null,null,null,null,null,null,null,null,null,null,null,null,null,null,null,null,null,null,null,null,null,null,null,null,null,null,null,"DF15 ADD TATA SAUCE",11]
[{"$f":"IFERROR(IF(INDIRECT($A$14&ROW())<>\"\",COUNTIF(Summary!$B$30:$B$1094,INDIRECT($A$14&ROW())),\"\"),\"\")","v":""},null,null,null,null,null,null,null,null,null,null,null,null,null,null,null,null,null,null,null,null,null,null,null,null,null,null,null,null,null,null,null,null,null,null,null,null,null,null,null,null,null,null,null,null,null,null,null,null,null,null,null,null,null,null,null,null,null,null,null,null,null,null,null,null,null,null,null,null,null,null,null,null,null,null,null,null,null,null,null,null,null,null,null,null,null,null,null,null,null,null,"DG01 91001:BP CHK CP",510]
[{"$f":"IFERROR(IF(INDIRECT($A$14&ROW())<>\"\",COUNTIF(Summary!$B$30:$B$1094,INDIRECT($A$14&ROW())),\"\"),\"\")","v":""},null,null,null,null,null,null,null,null,null,null,null,null,null,null,null,null,null,null,null,null,null,null,null,null,null,null,null,null,null,null,null,null,null,null,null,null,null,null,null,null,null,null,null,null,null,null,null,null,null,null,null,null,null,null,null,null,null,null,null,null,null,null,null,null,null,null,null,null,null,null,null,null,null,null,null,null,null,null,null,null,null,null,null,null,null,null,null,null,null,null,"DG02 91002:GVY CHK CP",126]
[{"$f":"IFERROR(IF(INDIRECT($A$14&ROW())<>\"\",COUNTIF(Summary!$B$30:$B$1094,INDIRECT($A$14&ROW())),\"\"),\"\")","v":""},null,null,null,null,null,null,null,null,null,null,null,null,null,null,null,null,null,null,null,null,null,null,null,null,null,null,null,null,null,null,null,null,null,null,null,null,null,null,null,null,null,null,null,null,null,null,null,null,null,null,null,null,null,null,null,null,null,null,null,null,null,null,null,null,null,null,null,null,null,null,null,null,null,null,null,null,null,null,null,null,null,null,null,null,null,null,null,null,null,null,"DG03 91003:MSR CHK CP",535]
[{"$f":"IFERROR(IF(INDIRECT($A$14&ROW())<>\"\",COUNTIF(Summary!$B$30:$B$1094,INDIRECT($A$14&ROW())),\"\"),\"\")","v":""},null,null,null,null,null,null,null,null,null,null,null,null,null,null,null,null,null,null,null,null,null,null,null,null,null,null,null,null,null,null,null,null,null,null,null,null,null,null,null,null,null,null,null,null,null,null,null,null,null,null,null,null,null,null,null,null,null,null,null,null,null,null,null,null,null,null,null,null,null,null,null,null,null,null,null,null,null,null,null,null,null,null,null,null,null,null,null,null,null,null,"DG04 91004:CKN MARY",290]
[{"$f":"IFERROR(IF(INDIRECT($A$14&ROW())<>\"\",COUNTIF(Summary!$B$30:$B$1094,INDIRECT($A$14&ROW())),\"\"),\"\")","v":""},null,null,null,null,null,null,null,null,null,null,null,null,null,null,null,null,null,null,null,null,null,null,null,null,null,null,null,null,null,null,null,null,null,null,null,null,null,null,null,null,null,null,null,null,null,null,null,null,null,null,null,null,null,null,null,null,null,null,null,null,null,null,null,null,null,null,null,null,null,null,null,null,null,null,null,null,null,null,null,null,null,null,null,null,null,null,null,null,null,null,"DG05 91005:FISH&CHIP",295]
[{"$f":"IFERROR(IF(INDIRECT($A$14&ROW())<>\"\",COUNTIF(Summary!$B$30:$B$1094,INDIRECT($A$14&ROW())),\"\"),\"\")","v":""},null,null,null,null,null,null,null,null,null,null,null,null,null,null,null,null,null,null,null,null,null,null,null,null,null,null,null,null,null,null,null,null,null,null,null,null,null,null,null,null,null,null,null,null,null,null,null,null,null,null,null,null,null,null,null,null,null,null,null,null,null,null,null,null,null,null,null,null,null,null,null,null,null,null,null,null,null,null,null,null,null,null,null,null,null,null,null,null,null,null,"DG06 91006:SPAGHETTI",232]
[{"$f":"IFERROR(IF(INDIRECT($A$14&ROW())<>\"\",COUNTIF(Summary!$B$30:$B$1094,INDIRECT($A$14&ROW())),\"\"),\"\")","v":""},null,null,null,null,null,null,null,null,null,null,null,null,null,null,null,null,null,null,null,null,null,null,null,null,null,null,null,null,null,null,null,null,null,null,null,null,null,null,null,null,null,null,null,null,null,null,null,null,null,null,null,null,null,null,null,null,null,null,null,null,null,null,null,null,null,null,null,null,null,null,null,null,null,null,null,null,null,null,null,null,null,null,null,null,null,null,null,null,null,null,"DG07 91007:CHK SALAD",87]
[{"$f":"IFERROR(IF(INDIRECT($A$14&ROW())<>\"\",COUNTIF(Summary!$B$30:$B$1094,INDIRECT($A$14&ROW())),\"\"),\"\")","v":""},null,null,null,null,null,null,null,null,null,null,null,null,null,null,null,null,null,null,null,null,null,null,null,null,null,null,null,null,null,null,null,null,null,null,null,null,null,null,null,null,null,null,null,null,null,null,null,null,null,null,null,null,null,null,null,null,null,null,null,null,null,null,null,null,null,null,null,null,null,null,null,null,null,null,null,null,null,null,null,null,null,null,null,null,null,null,null,null,null,null,"DH01 91101:THAI CHK",101]
[{"$f":"IFERROR(IF(INDIRECT($A$14&ROW())<>\"\",COUNTIF(Summary!$B$30:$B$1094,INDIRECT($A$14&ROW())),\"\"),\"\")","v":""},null,null,null,null,null,null,null,null,null,null,null,null,null,null,null,null,null,null,null,null,null,null,null,null,null,null,null,null,null,null,null,null,null,null,null,null,null,null,null,null,null,null,null,null,null,null,null,null,null,null,null,null,null,null,null,null,null,null,null,null,null,null,null,null,null,null,null,null,null,null,null,null,null,null,null,null,null,null,null,null,null,null,null,null,null,null,null,null,null,null,"DH02 91102:MAMITE CHK",156]
[{"$f":"IFERROR(IF(INDIRECT($A$14&ROW())<>\"\",COUNTIF(Summary!$B$30:$B$1094,INDIRECT($A$14&ROW())),\"\"),\"\")","v":""},null,null,null,null,null,null,null,null,null,null,null,null,null,null,null,null,null,null,null,null,null,null,null,null,null,null,null,null,null,null,null,null,null,null,null,null,null,null,null,null,null,null,null,null,null,null,null,null,null,null,null,null,null,null,null,null,null,null,null,null,null,null,null,null,null,null,null,null,null,null,null,null,null,null,null,null,null,null,null,null,null,null,null,null,null,null,null,null,null,null,"DH04 91104:S&S CHK",65]
[{"$f":"IFERROR(IF(INDIRECT($A$14&ROW())<>\"\",COUNTIF(Summary!$B$30:$B$1094,INDIRECT($A$14&ROW())),\"\"),\"\")","v":""},null,null,null,null,null,null,null,null,null,null,null,null,null,null,null,null,null,null,null,null,null,null,null,null,null,null,null,null,null,null,null,null,null,null,null,null,null,null,null,null,null,null,null,null,null,null,null,null,null,null,null,null,null,null,null,null,null,null,null,null,null,null,null,null,null,null,null,null,null,null,null,null,null,null,null,null,null,null,null,null,null,null,null,null,null,null,null,null,null,null,"DH05 91105:BUTTER CHK",217]
[{"$f":"IFERROR(IF(INDIRECT($A$14&ROW())<>\"\",COUNTIF(Summary!$B$30:$B$1094,INDIRECT($A$14&ROW())),\"\"),\"\")","v":""},null,null,null,null,null,null,null,null,null,null,null,null,null,null,null,null,null,null,null,null,null,null,null,null,null,null,null,null,null,null,null,null,null,null,null,null,null,null,null,null,null,null,null,null,null,null,null,null,null,null,null,null,null,null,null,null,null,null,null,null,null,null,null,null,null,null,null,null,null,null,null,null,null,null,null,null,null,null,null,null,null,null,null,null,null,null,null,null,null,null,"DH06 91106:HK F.RICE",154]
[{"$f":"IFERROR(IF(INDIRECT($A$14&ROW())<>\"\",COUNTIF(Summary!$B$30:$B$1094,INDIRECT($A$14&ROW())),\"\"),\"\")","v":""},null,null,null,null,null,null,null,null,null,null,null,null,null,null,null,null,null,null,null,null,null,null,null,null,null,null,null,null,null,null,null,null,null,null,null,null,null,null,null,null,null,null,null,null,null,null,null,null,null,null,null,null,null,null,null,null,null,null,null,null,null,null,null,null,null,null,null,null,null,null,null,null,null,null,null,null,null,null,null,null,null,null,null,null,null,null,null,null,null,null,"DH07 91107:SBL F.RICE",66]
[{"$f":"IFERROR(IF(INDIRECT($A$14&ROW())<>\"\",COUNTIF(Summary!$B$30:$B$1094,INDIRECT($A$14&ROW())),\"\"),\"\")","v":""},null,null,null,null,null,null,null,null,null,null,null,null,null,null,null,null,null,null,null,null,null,null,null,null,null,null,null,null,null,null,null,null,null,null,null,null,null,null,null,null,null,null,null,null,null,null,null,null,null,null,null,null,null,null,null,null,null,null,null,null,null,null,null,null,null,null,null,null,null,null,null,null,null,null,null,null,null,null,null,null,null,null,null,null,null,null,null,null,null,null,"DH08 91108:SBL F.MEE",19]
[{"$f":"IFERROR(IF(INDIRECT($A$14&ROW())<>\"\",COUNTIF(Summary!$B$30:$B$1094,INDIRECT($A$14&ROW())),\"\"),\"\")","v":""},null,null,null,null,null,null,null,null,null,null,null,null,null,null,null,null,null,null,null,null,null,null,null,null,null,null,null,null,null,null,null,null,null,null,null,null,null,null,null,null,null,null,null,null,null,null,null,null,null,null,null,null,null,null,null,null,null,null,null,null,null,null,null,null,null,null,null,null,null,null,null,null,null,null,null,null,null,null,null,null,null,null,null,null,null,null,null,null,null,null,"DH09 91109:BP UDON",66]
[{"$f":"IFERROR(IF(INDIRECT($A$14&ROW())<>\"\",COUNTIF(Summary!$B$30:$B$1094,INDIRECT($A$14&ROW())),\"\"),\"\")","v":""},null,null,null,null,null,null,null,null,null,null,null,null,null,null,null,null,null,null,null,null,null,null,null,null,null,null,null,null,null,null,null,null,null,null,null,null,null,null,null,null,null,null,null,null,null,null,null,null,null,null,null,null,null,null,null,null,null,null,null,null,null,null,null,null,null,null,null,null,null,null,null,null,null,null,null,null,null,null,null,null,null,null,null,null,null,null,null,null,null,null,"DH10 91110:NISSIN",49]
[{"$f":"IFERROR(IF(INDIRECT($A$14&ROW())<>\"\",COUNTIF(Summary!$B$30:$B$1094,INDIRECT($A$14&ROW())),\"\"),\"\")","v":""},null,null,null,null,null,null,null,null,null,null,null,null,null,null,null,null,null,null,null,null,null,null,null,null,null,null,null,null,null,null,null,null,null,null,null,null,null,null,null,null,null,null,null,null,null,null,null,null,null,null,null,null,null,null,null,null,null,null,null,null,null,null,null,null,null,null,null,null,null,null,null,null,null,null,null,null,null,null,null,null,null,null,null,null,null,null,null,null,null,null,"DH11 91111:VEG RICE",25]
[{"$f":"IFERROR(IF(INDIRECT($A$14&ROW())<>\"\",COUNTIF(Summary!$B$30:$B$1094,INDIRECT($A$14&ROW())),\"\"),\"\")","v":""},null,null,null,null,null,null,null,null,null,null,null,null,null,null,null,null,null,null,null,null,null,null,null,null,null,null,null,null,null,null,null,null,null,null,null,null,null,null,null,null,null,null,null,null,null,null,null,null,null,null,null,null,null,null,null,null,null,null,null,null,null,null,null,null,null,null,null,null,null,null,null,null,null,null,null,null,null,null,null,null,null,null,null,null,null,null,null,null,null,null,"DH15 91115:CHK NOODLE",57]
[{"$f":"IFERROR(IF(INDIRECT($A$14&ROW())<>\"\",COUNTIF(Summary!$B$30:$B$1094,INDIRECT($A$14&ROW())),\"\"),\"\")","v":""},null,null,null,null,null,null,null,null,null,null,null,null,null,null,null,null,null,null,null,null,null,null,null,null,null,null,null,null,null,null,null,null,null,null,null,null,null,null,null,null,null,null,null,null,null,null,null,null,null,null,null,null,null,null,null,null,null,null,null,null,null,null,null,null,null,null,null,null,null,null,null,null,null,null,null,null,null,null,null,null,null,null,null,null,null,null,null,null,null,null,"DH16 91116:MGL CHK",55]
[{"$f":"IFERROR(IF(INDIRECT($A$14&ROW())<>\"\",COUNTIF(Summary!$B$30:$B$1094,INDIRECT($A$14&ROW())),\"\"),\"\")","v":""},null,null,null,null,null,null,null,null,null,null,null,null,null,null,null,null,null,null,null,null,null,null,null,null,null,null,null,null,null,null,null,null,null,null,null,null,null,null,null,null,null,null,null,null,null,null,null,null,null,null,null,null,null,null,null,null,null,null,null,null,null,null,null,null,null,null,null,null,null,null,null,null,null,null,null,null,null,null,null,null,null,null,null,null,null,null,null,null,null,null,"DI01 91201:SFD STICK",1]
[{"$f":"IFERROR(IF(INDIRECT($A$14&ROW())<>\"\",COUNTIF(Summary!$B$30:$B$1094,INDIRECT($A$14&ROW())),\"\"),\"\")","v":""},null,null,null,null,null,null,null,null,null,null,null,null,null,null,null,null,null,null,null,null,null,null,null,null,null,null,null,null,null,null,null,null,null,null,null,null,null,null,null,null,null,null,null,null,null,null,null,null,null,null,null,null,null,null,null,null,null,null,null,null,null,null,null,null,null,null,null,null,null,null,null,null,null,null,null,null,null,null,null,null,null,null,null,null,null,null,null,null,null,null,"DI02 91202:FREN FRIES",30]
[{"$f":"IFERROR(IF(INDIRECT($A$14&ROW())<>\"\",COUNTIF(Summary!$B$30:$B$1094,INDIRECT($A$14&ROW())),\"\"),\"\")","v":""},null,null,null,null,null,null,null,null,null,null,null,null,null,null,null,null,null,null,null,null,null,null,null,null,null,null,null,null,null,null,null,null,null,null,null,null,null,null,null,null,null,null,null,null,null,null,null,null,null,null,null,null,null,null,null,null,null,null,null,null,null,null,null,null,null,null,null,null,null,null,null,null,null,null,null,null,null,null,null,null,null,null,null,null,null,null,null,null,null,null,"DI03 91203:GOLD MROOM",8]
[{"$f":"IFERROR(IF(INDIRECT($A$14&ROW())<>\"\",COUNTIF(Summary!$B$30:$B$1094,INDIRECT($A$14&ROW())),\"\"),\"\")","v":""},null,null,null,null,null,null,null,null,null,null,null,null,null,null,null,null,null,null,null,null,null,null,null,null,null,null,null,null,null,null,null,null,null,null,null,null,null,null,null,null,null,null,null,null,null,null,null,null,null,null,null,null,null,null,null,null,null,null,null,null,null,null,null,null,null,null,null,null,null,null,null,null,null,null,null,null,null,null,null,null,null,null,null,null,null,null,null,null,null,null,"DI04 91204:FISHBALL",7]
[{"$f":"IFERROR(IF(INDIRECT($A$14&ROW())<>\"\",COUNTIF(Summary!$B$30:$B$1094,INDIRECT($A$14&ROW())),\"\"),\"\")","v":""},null,null,null,null,null,null,null,null,null,null,null,null,null,null,null,null,null,null,null,null,null,null,null,null,null,null,null,null,null,null,null,null,null,null,null,null,null,null,null,null,null,null,null,null,null,null,null,null,null,null,null,null,null,null,null,null,null,null,null,null,null,null,null,null,null,null,null,null,null,null,null,null,null,null,null,null,null,null,null,null,null,null,null,null,null,null,null,null,null,null,"DI06 91206:SPRING RL",6]
[{"$f":"IFERROR(IF(INDIRECT($A$14&ROW())<>\"\",COUNTIF(Summary!$B$30:$B$1094,INDIRECT($A$14&ROW())),\"\"),\"\")","v":""},null,null,null,null,null,null,null,null,null,null,null,null,null,null,null,null,null,null,null,null,null,null,null,null,null,null,null,null,null,null,null,null,null,null,null,null,null,null,null,null,null,null,null,null,null,null,null,null,null,null,null,null,null,null,null,null,null,null,null,null,null,null,null,null,null,null,null,null,null,null,null,null,null,null,null,null,null,null,null,null,null,null,null,null,null,null,null,null,null,null,"DI07 91207:SAUSAGE",22]
[{"$f":"IFERROR(IF(INDIRECT($A$14&ROW())<>\"\",COUNTIF(Summary!$B$30:$B$1094,INDIRECT($A$14&ROW())),\"\"),\"\")","v":""},null,null,null,null,null,null,null,null,null,null,null,null,null,null,null,null,null,null,null,null,null,null,null,null,null,null,null,null,null,null,null,null,null,null,null,null,null,null,null,null,null,null,null,null,null,null,null,null,null,null,null,null,null,null,null,null,null,null,null,null,null,null,null,null,null,null,null,null,null,null,null,null,null,null,null,null,null,null,null,null,null,null,null,null,null,null,null,null,null,null,"DI11 91302:NUGGET",43]
[{"$f":"IFERROR(IF(INDIRECT($A$14&ROW())<>\"\",COUNTIF(Summary!$B$30:$B$1094,INDIRECT($A$14&ROW())),\"\"),\"\")","v":""},null,null,null,null,null,null,null,null,null,null,null,null,null,null,null,null,null,null,null,null,null,null,null,null,null,null,null,null,null,null,null,null,null,null,null,null,null,null,null,null,null,null,null,null,null,null,null,null,null,null,null,null,null,null,null,null,null,null,null,null,null,null,null,null,null,null,null,null,null,null,null,null,null,null,null,null,null,null,null,null,null,null,null,null,null,null,null,null,null,null,"DI12 91303:CHK WING",57]
[{"$f":"IFERROR(IF(INDIRECT($A$14&ROW())<>\"\",COUNTIF(Summary!$B$30:$B$1094,INDIRECT($A$14&ROW())),\"\"),\"\")","v":""},null,null,null,null,null,null,null,null,null,null,null,null,null,null,null,null,null,null,null,null,null,null,null,null,null,null,null,null,null,null,null,null,null,null,null,null,null,null,null,null,null,null,null,null,null,null,null,null,null,null,null,null,null,null,null,null,null,null,null,null,null,null,null,null,null,null,null,null,null,null,null,null,null,null,null,null,null,null,null,null,null,null,null,null,null,null,null,null,null,null,"DI13 91304:IKAN BILIS",6]
[{"$f":"IFERROR(IF(INDIRECT($A$14&ROW())<>\"\",COUNTIF(Summary!$B$30:$B$1094,INDIRECT($A$14&ROW())),\"\"),\"\")","v":""},null,null,null,null,null,null,null,null,null,null,null,null,null,null,null,null,null,null,null,null,null,null,null,null,null,null,null,null,null,null,null,null,null,null,null,null,null,null,null,null,null,null,null,null,null,null,null,null,null,null,null,null,null,null,null,null,null,null,null,null,null,null,null,null,null,null,null,null,null,null,null,null,null,null,null,null,null,null,null,null,null,null,null,null,null,null,null,null,null,null,"DI14 91305:THAI RL",6]
[{"$f":"IFERROR(IF(INDIRECT($A$14&ROW())<>\"\",COUNTIF(Summary!$B$30:$B$1094,INDIRECT($A$14&ROW())),\"\"),\"\")","v":""},null,null,null,null,null,null,null,null,null,null,null,null,null,null,null,null,null,null,null,null,null,null,null,null,null,null,null,null,null,null,null,null,null,null,null,null,null,null,null,null,null,null,null,null,null,null,null,null,null,null,null,null,null,null,null,null,null,null,null,null,null,null,null,null,null,null,null,null,null,null,null,null,null,null,null,null,null,null,null,null,null,null,null,null,null,null,null,null,null,null,"DI16 91307:D/F C.WING",28]
[{"$f":"IFERROR(IF(INDIRECT($A$14&ROW())<>\"\",COUNTIF(Summary!$B$30:$B$1094,INDIRECT($A$14&ROW())),\"\"),\"\")","v":""},null,null,null,null,null,null,null,null,null,null,null,null,null,null,null,null,null,null,null,null,null,null,null,null,null,null,null,null,null,null,null,null,null,null,null,null,null,null,null,null,null,null,null,null,null,null,null,null,null,null,null,null,null,null,null,null,null,null,null,null,null,null,null,null,null,null,null,null,null,null,null,null,null,null,null,null,null,null,null,null,null,null,null,null,null,null,null,null,null,null,"DI17 91308:C/CALAMARI",17]
[{"$f":"IFERROR(IF(INDIRECT($A$14&ROW())<>\"\",COUNTIF(Summary!$B$30:$B$1094,INDIRECT($A$14&ROW())),\"\"),\"\")","v":""},null,null,null,null,null,null,null,null,null,null,null,null,null,null,null,null,null,null,null,null,null,null,null,null,null,null,null,null,null,null,null,null,null,null,null,null,null,null,null,null,null,null,null,null,null,null,null,null,null,null,null,null,null,null,null,null,null,null,null,null,null,null,null,null,null,null,null,null,null,null,null,null,null,null,null,null,null,null,null,null,null,null,null,null,null,null,null,null,null,null,"DI18 91309:Mc O.RINGS",8]
[{"$f":"IFERROR(IF(INDIRECT($A$14&ROW())<>\"\",COUNTIF(Summary!$B$30:$B$1094,INDIRECT($A$14&ROW())),\"\"),\"\")","v":""},null,null,null,null,null,null,null,null,null,null,null,null,null,null,null,null,null,null,null,null,null,null,null,null,null,null,null,null,null,null,null,null,null,null,null,null,null,null,null,null,null,null,null,null,null,null,null,null,null,null,null,null,null,null,null,null,null,null,null,null,null,null,null,null,null,null,null,null,null,null,null,null,null,null,null,null,null,null,null,null,null,null,null,null,null,null,null,null,null,null,"DI19 91310:McSPIRAL.F",18]
[{"$f":"IFERROR(IF(INDIRECT($A$14&ROW())<>\"\",COUNTIF(Summary!$B$30:$B$1094,INDIRECT($A$14&ROW())),\"\"),\"\")","v":""},null,null,null,null,null,null,null,null,null,null,null,null,null,null,null,null,null,null,null,null,null,null,null,null,null,null,null,null,null,null,null,null,null,null,null,null,null,null,null,null,null,null,null,null,null,null,null,null,null,null,null,null,null,null,null,null,null,null,null,null,null,null,null,null,null,null,null,null,null,null,null,null,null,null,null,null,null,null,null,null,null,null,null,null,null,null,null,null,null,null,"DI20 91311Mc H/SMILES",5]
[{"$f":"IFERROR(IF(INDIRECT($A$14&ROW())<>\"\",COUNTIF(Summary!$B$30:$B$1094,INDIRECT($A$14&ROW())),\"\"),\"\")","v":""},null,null,null,null,null,null,null,null,null,null,null,null,null,null,null,null,null,null,null,null,null,null,null,null,null,null,null,null,null,null,null,null,null,null,null,null,null,null,null,null,null,null,null,null,null,null,null,null,null,null,null,null,null,null,null,null,null,null,null,null,null,null,null,null,null,null,null,null,null,null,null,null,null,null,null,null,null,null,null,null,null,null,null,null,null,null,null,null,null,null,"DI21 91312:Mc HASH.B",11]
[{"$f":"IFERROR(IF(INDIRECT($A$14&ROW())<>\"\",COUNTIF(Summary!$B$30:$B$1094,INDIRECT($A$14&ROW())),\"\"),\"\")","v":""},null,null,null,null,null,null,null,null,null,null,null,null,null,null,null,null,null,null,null,null,null,null,null,null,null,null,null,null,null,null,null,null,null,null,null,null,null,null,null,null,null,null,null,null,null,null,null,null,null,null,null,null,null,null,null,null,null,null,null,null,null,null,null,null,null,null,null,null,null,null,null,null,null,null,null,null,null,null,null,null,null,null,null,null,null,null,null,null,null,null,"DL01 3001:6'HAWAIIAN",7]
[{"$f":"IFERROR(IF(INDIRECT($A$14&ROW())<>\"\",COUNTIF(Summary!$B$30:$B$1094,INDIRECT($A$14&ROW())),\"\"),\"\")","v":""},null,null,null,null,null,null,null,null,null,null,null,null,null,null,null,null,null,null,null,null,null,null,null,null,null,null,null,null,null,null,null,null,null,null,null,null,null,null,null,null,null,null,null,null,null,null,null,null,null,null,null,null,null,null,null,null,null,null,null,null,null,null,null,null,null,null,null,null,null,null,null,null,null,null,null,null,null,null,null,null,null,null,null,null,null,null,null,null,null,null,"DL02 3002:6'SMOKE BBQ",4]
[{"$f":"IFERROR(IF(INDIRECT($A$14&ROW())<>\"\",COUNTIF(Summary!$B$30:$B$1094,INDIRECT($A$14&ROW())),\"\"),\"\")","v":""},null,null,null,null,null,null,null,null,null,null,null,null,null,null,null,null,null,null,null,null,null,null,null,null,null,null,null,null,null,null,null,null,null,null,null,null,null,null,null,null,null,null,null,null,null,null,null,null,null,null,null,null,null,null,null,null,null,null,null,null,null,null,null,null,null,null,null,null,null,null,null,null,null,null,null,null,null,null,null,null,null,null,null,null,null,null,null,null,null,null,"DL03 3003:6'SEAFOOD",3]
[{"$f":"IFERROR(IF(INDIRECT($A$14&ROW())<>\"\",COUNTIF(Summary!$B$30:$B$1094,INDIRECT($A$14&ROW())),\"\"),\"\")","v":""},null,null,null,null,null,null,null,null,null,null,null,null,null,null,null,null,null,null,null,null,null,null,null,null,null,null,null,null,null,null,null,null,null,null,null,null,null,null,null,null,null,null,null,null,null,null,null,null,null,null,null,null,null,null,null,null,null,null,null,null,null,null,null,null,null,null,null,null,null,null,null,null,null,null,null,null,null,null,null,null,null,null,null,null,null,null,null,null,null,null,"DL04 3004:6'SPICY BUF",3]
[{"$f":"IFERROR(IF(INDIRECT($A$14&ROW())<>\"\",COUNTIF(Summary!$B$30:$B$1094,INDIRECT($A$14&ROW())),\"\"),\"\")","v":""},null,null,null,null,null,null,null,null,null,null,null,null,null,null,null,null,null,null,null,null,null,null,null,null,null,null,null,null,null,null,null,null,null,null,null,null,null,null,null,null,null,null,null,null,null,null,null,null,null,null,null,null,null,null,null,null,null,null,null,null,null,null,null,null,null,null,null,null,null,null,null,null,null,null,null,null,null,null,null,null,null,null,null,null,null,null,null,null,null,null,"DL05 3005:6'VEGGIE",4]
[{"$f":"IFERROR(IF(INDIRECT($A$14&ROW())<>\"\",COUNTIF(Summary!$B$30:$B$1094,INDIRECT($A$14&ROW())),\"\"),\"\")","v":""},null,null,null,null,null,null,null,null,null,null,null,null,null,null,null,null,null,null,null,null,null,null,null,null,null,null,null,null,null,null,null,null,null,null,null,null,null,null,null,null,null,null,null,null,null,null,null,null,null,null,null,null,null,null,null,null,null,null,null,null,null,null,null,null,null,null,null,null,null,null,null,null,null,null,null,null,null,null,null,null,null,null,null,null,null,null,null,null,null,null,"DL07 3002:9'SMOKED"]
[{"$f":"IFERROR(IF(INDIRECT($A$14&ROW())<>\"\",COUNTIF(Summary!$B$30:$B$1094,INDIRECT($A$14&ROW())),\"\"),\"\")","v":""},null,null,null,null,null,null,null,null,null,null,null,null,null,null,null,null,null,null,null,null,null,null,null,null,null,null,null,null,null,null,null,null,null,null,null,null,null,null,null,null,null,null,null,null,null,null,null,null,null,null,null,null,null,null,null,null,null,null,null,null,null,null,null,null,null,null,null,null,null,null,null,null,null,null,null,null,null,null,null,null,null,null,null,null,null,null,null,null,null,null,"DM01 SNACK PLATTER(A)",28]
[{"$f":"IFERROR(IF(INDIRECT($A$14&ROW())<>\"\",COUNTIF(Summary!$B$30:$B$1094,INDIRECT($A$14&ROW())),\"\"),\"\")","v":""},null,null,null,null,null,null,null,null,null,null,null,null,null,null,null,null,null,null,null,null,null,null,null,null,null,null,null,null,null,null,null,null,null,null,null,null,null,null,null,null,null,null,null,null,null,null,null,null,null,null,null,null,null,null,null,null,null,null,null,null,null,null,null,null,null,null,null,null,null,null,null,null,null,null,null,null,null,null,null,null,null,null,null,null,null,null,null,null,null,null,"DM02 SNACK PLATTER(B)",8]
[{"$f":"IFERROR(IF(INDIRECT($A$14&ROW())<>\"\",COUNTIF(Summary!$B$30:$B$1094,INDIRECT($A$14&ROW())),\"\"),\"\")","v":""},null,null,null,null,null,null,null,null,null,null,null,null,null,null,null,null,null,null,null,null,null,null,null,null,null,null,null,null,null,null,null,null,null,null,null,null,null,null,null,null,null,null,null,null,null,null,null,null,null,null,null,null,null,null,null,null,null,null,null,null,null,null,null,null,null,null,null,null,null,null,null,null,null,null,null,null,null,null,null,null,null,null,null,null,null,null,null,null,null,null,"EA01 TIDBITS",4]
[{"$f":"IFERROR(IF(INDIRECT($A$14&ROW())<>\"\",COUNTIF(Summary!$B$30:$B$1094,INDIRECT($A$14&ROW())),\"\"),\"\")","v":""},null,null,null,null,null,null,null,null,null,null,null,null,null,null,null,null,null,null,null,null,null,null,null,null,null,null,null,null,null,null,null,null,null,null,null,null,null,null,null,null,null,null,null,null,null,null,null,null,null,null,null,null,null,null,null,null,null,null,null,null,null,null,null,null,null,null,null,null,null,null,null,null,null,null,null,null,null,null,null,null,null,null,null,null,null,null,null,null,null,null,"GA09 LIGHTER",12]
[{"$f":"IFERROR(IF(INDIRECT($A$14&ROW())<>\"\",COUNTIF(Summary!$B$30:$B$1094,INDIRECT($A$14&ROW())),\"\"),\"\")","v":""},null,null,null,null,null,null,null,null,null,null,null,null,null,null,null,null,null,null,null,null,null,null,null,null,null,null,null,null,null,null,null,null,null,null,null,null,null,null,null,null,null,null,null,null,null,null,null,null,null,null,null,null,null,null,null,null,null,null,null,null,null,null,null,null,null,null,null,null,null,null,null,null,null,null,null,null,null,null,null,null,null,null,null,null,null,null,null,null,null,null,"GC01 CARD NEW",66]
[{"$f":"IFERROR(IF(INDIRECT($A$14&ROW())<>\"\",COUNTIF(Summary!$B$30:$B$1094,INDIRECT($A$14&ROW())),\"\"),\"\")","v":""},null,null,null,null,null,null,null,null,null,null,null,null,null,null,null,null,null,null,null,null,null,null,null,null,null,null,null,null,null,null,null,null,null,null,null,null,null,null,null,null,null,null,null,null,null,null,null,null,null,null,null,null,null,null,null,null,null,null,null,null,null,null,null,null,null,null,null,null,null,null,null,null,null,null,null,null,null,null,null,null,null,null,null,null,null,null,null,null,null,null,"GC02 CARD REPLACE",2]
[{"$f":"IFERROR(IF(INDIRECT($A$14&ROW())<>\"\",COUNTIF(Summary!$B$30:$B$1094,INDIRECT($A$14&ROW())),\"\"),\"\")","v":""},null,null,null,null,null,null,null,null,null,null,null,null,null,null,null,null,null,null,null,null,null,null,null,null,null,null,null,null,null,null,null,null,null,null,null,null,null,null,null,null,null,null,null,null,null,null,null,null,null,null,null,null,null,null,null,null,null,null,null,null,null,null,null,null,null,null,null,null,null,null,null,null,null,null,null,null,null,null,null,null,null,null,null,null,null,null,null,null,null,null,"GC03 Student Mem Card",7]
[{"$f":"IFERROR(IF(INDIRECT($A$14&ROW())<>\"\",COUNTIF(Summary!$B$30:$B$1094,INDIRECT($A$14&ROW())),\"\"),\"\")","v":""},null,null,null,null,null,null,null,null,null,null,null,null,null,null,null,null,null,null,null,null,null,null,null,null,null,null,null,null,null,null,null,null,null,null,null,null,null,null,null,null,null,null,null,null,null,null,null,null,null,null,null,null,null,null,null,null,null,null,null,null,null,null,null,null,null,null,null,null,null,null,null,null,null,null,null,null,null,null,null,null,null,null,null,null,null,null,null,null,null,null,"GC05 AEON MEMBER 50%",105]
[{"$f":"IFERROR(IF(INDIRECT($A$14&ROW())<>\"\",COUNTIF(Summary!$B$30:$B$1094,INDIRECT($A$14&ROW())),\"\"),\"\")","v":""},null,null,null,null,null,null,null,null,null,null,null,null,null,null,null,null,null,null,null,null,null,null,null,null,null,null,null,null,null,null,null,null,null,null,null,null,null,null,null,null,null,null,null,null,null,null,null,null,null,null,null,null,null,null,null,null,null,null,null,null,null,null,null,null,null,null,null,null,null,null,null,null,null,null,null,null,null,null,null,null,null,null,null,null,null,null,null,null,null,null,"GD01 MIKE COVER 01",5]
[{"$f":"IFERROR(IF(INDIRECT($A$14&ROW())<>\"\",COUNTIF(Summary!$B$30:$B$1094,INDIRECT($A$14&ROW())),\"\"),\"\")","v":""},null,null,null,null,null,null,null,null,null,null,null,null,null,null,null,null,null,null,null,null,null,null,null,null,null,null,null,null,null,null,null,null,null,null,null,null,null,null,null,null,null,null,null,null,null,null,null,null,null,null,null,null,null,null,null,null,null,null,null,null,null,null,null,null,null,null,null,null,null,null,null,null,null,null,null,null,null,null,null,null,null,null,null,null,null,null,null,null,null,null,"GD02 MIKE COVER 03",34]
[{"$f":"IFERROR(IF(INDIRECT($A$14&ROW())<>\"\",COUNTIF(Summary!$B$30:$B$1094,INDIRECT($A$14&ROW())),\"\"),\"\")","v":""},null,null,null,null,null,null,null,null,null,null,null,null,null,null,null,null,null,null,null,null,null,null,null,null,null,null,null,null,null,null,null,null,null,null,null,null,null,null,null,null,null,null,null,null,null,null,null,null,null,null,null,null,null,null,null,null,null,null,null,null,null,null,null,null,null,null,null,null,null,null,null,null,null,null,null,null,null,null,null,null,null,null,null,null,null,null,null,null,null,null,"GE01 DUNHILL",21]
[{"$f":"IFERROR(IF(INDIRECT($A$14&ROW())<>\"\",COUNTIF(Summary!$B$30:$B$1094,INDIRECT($A$14&ROW())),\"\"),\"\")","v":""},null,null,null,null,null,null,null,null,null,null,null,null,null,null,null,null,null,null,null,null,null,null,null,null,null,null,null,null,null,null,null,null,null,null,null,null,null,null,null,null,null,null,null,null,null,null,null,null,null,null,null,null,null,null,null,null,null,null,null,null,null,null,null,null,null,null,null,null,null,null,null,null,null,null,null,null,null,null,null,null,null,null,null,null,null,null,null,null,null,null,"GE02 DUNHILL LITE",12]
[{"$f":"IFERROR(IF(INDIRECT($A$14&ROW())<>\"\",COUNTIF(Summary!$B$30:$B$1094,INDIRECT($A$14&ROW())),\"\"),\"\")","v":""},null,null,null,null,null,null,null,null,null,null,null,null,null,null,null,null,null,null,null,null,null,null,null,null,null,null,null,null,null,null,null,null,null,null,null,null,null,null,null,null,null,null,null,null,null,null,null,null,null,null,null,null,null,null,null,null,null,null,null,null,null,null,null,null,null,null,null,null,null,null,null,null,null,null,null,null,null,null,null,null,null,null,null,null,null,null,null,null,null,null,"GE03 DUNHILL MT",9]
[{"$f":"IFERROR(IF(INDIRECT($A$14&ROW())<>\"\",COUNTIF(Summary!$B$30:$B$1094,INDIRECT($A$14&ROW())),\"\"),\"\")","v":""},null,null,null,null,null,null,null,null,null,null,null,null,null,null,null,null,null,null,null,null,null,null,null,null,null,null,null,null,null,null,null,null,null,null,null,null,null,null,null,null,null,null,null,null,null,null,null,null,null,null,null,null,null,null,null,null,null,null,null,null,null,null,null,null,null,null,null,null,null,null,null,null,null,null,null,null,null,null,null,null,null,null,null,null,null,null,null,null,null,null,"GE04 DUNHILL MT LITE",6]
[{"$f":"IFERROR(IF(INDIRECT($A$14&ROW())<>\"\",COUNTIF(Summary!$B$30:$B$1094,INDIRECT($A$14&ROW())),\"\"),\"\")","v":""},null,null,null,null,null,null,null,null,null,null,null,null,null,null,null,null,null,null,null,null,null,null,null,null,null,null,null,null,null,null,null,null,null,null,null,null,null,null,null,null,null,null,null,null,null,null,null,null,null,null,null,null,null,null,null,null,null,null,null,null,null,null,null,null,null,null,null,null,null,null,null,null,null,null,null,null,null,null,null,null,null,null,null,null,null,null,null,null,null,null,"GE05 DUNHILL BOOST",2]
[{"$f":"IFERROR(IF(INDIRECT($A$14&ROW())<>\"\",COUNTIF(Summary!$B$30:$B$1094,INDIRECT($A$14&ROW())),\"\"),\"\")","v":""},null,null,null,null,null,null,null,null,null,null,null,null,null,null,null,null,null,null,null,null,null,null,null,null,null,null,null,null,null,null,null,null,null,null,null,null,null,null,null,null,null,null,null,null,null,null,null,null,null,null,null,null,null,null,null,null,null,null,null,null,null,null,null,null,null,null,null,null,null,null,null,null,null,null,null,null,null,null,null,null,null,null,null,null,null,null,null,null,null,null,"GE06 DUNHILL SWITCH",2]
[{"$f":"IFERROR(IF(INDIRECT($A$14&ROW())<>\"\",COUNTIF(Summary!$B$30:$B$1094,INDIRECT($A$14&ROW())),\"\"),\"\")","v":""},null,null,null,null,null,null,null,null,null,null,null,null,null,null,null,null,null,null,null,null,null,null,null,null,null,null,null,null,null,null,null,null,null,null,null,null,null,null,null,null,null,null,null,null,null,null,null,null,null,null,null,null,null,null,null,null,null,null,null,null,null,null,null,null,null,null,null,null,null,null,null,null,null,null,null,null,null,null,null,null,null,null,null,null,null,null,null,null,null,null,"GE07 DUNHILL ICE",25]
[{"$f":"IFERROR(IF(INDIRECT($A$14&ROW())<>\"\",COUNTIF(Summary!$B$30:$B$1094,INDIRECT($A$14&ROW())),\"\"),\"\")","v":""},null,null,null,null,null,null,null,null,null,null,null,null,null,null,null,null,null,null,null,null,null,null,null,null,null,null,null,null,null,null,null,null,null,null,null,null,null,null,null,null,null,null,null,null,null,null,null,null,null,null,null,null,null,null,null,null,null,null,null,null,null,null,null,null,null,null,null,null,null,null,null,null,null,null,null,null,null,null,null,null,null,null,null,null,null,null,null,null,null,null,"JG201 LLB L. Tea (C)",23]
[{"$f":"IFERROR(IF(INDIRECT($A$14&ROW())<>\"\",COUNTIF(Summary!$B$30:$B$1094,INDIRECT($A$14&ROW())),\"\"),\"\")","v":""},null,null,null,null,null,null,null,null,null,null,null,null,null,null,null,null,null,null,null,null,null,null,null,null,null,null,null,null,null,null,null,null,null,null,null,null,null,null,null,null,null,null,null,null,null,null,null,null,null,null,null,null,null,null,null,null,null,null,null,null,null,null,null,null,null,null,null,null,null,null,null,null,null,null,null,null,null,null,null,null,null,null,null,null,null,null,null,null,null,null,"JG202 LLBGreen Tea (C)",21]
[{"$f":"IFERROR(IF(INDIRECT($A$14&ROW())<>\"\",COUNTIF(Summary!$B$30:$B$1094,INDIRECT($A$14&ROW())),\"\"),\"\")","v":""},null,null,null,null,null,null,null,null,null,null,null,null,null,null,null,null,null,null,null,null,null,null,null,null,null,null,null,null,null,null,null,null,null,null,null,null,null,null,null,null,null,null,null,null,null,null,null,null,null,null,null,null,null,null,null,null,null,null,null,null,null,null,null,null,null,null,null,null,null,null,null,null,null,null,null,null,null,null,null,null,null,null,null,null,null,null,null,null,null,null,"JG203 LLB Chrysanthemu",19]
[{"$f":"IFERROR(IF(INDIRECT($A$14&ROW())<>\"\",COUNTIF(Summary!$B$30:$B$1094,INDIRECT($A$14&ROW())),\"\"),\"\")","v":""},null,null,null,null,null,null,null,null,null,null,null,null,null,null,null,null,null,null,null,null,null,null,null,null,null,null,null,null,null,null,null,null,null,null,null,null,null,null,null,null,null,null,null,null,null,null,null,null,null,null,null,null,null,null,null,null,null,null,null,null,null,null,null,null,null,null,null,null,null,null,null,null,null,null,null,null,null,null,null,null,null,null,null,null,null,null,null,null,null,null,"JG204 Soya Milk",17]
[{"$f":"IFERROR(IF(INDIRECT($A$14&ROW())<>\"\",COUNTIF(Summary!$B$30:$B$1094,INDIRECT($A$14&ROW())),\"\"),\"\")","v":""},null,null,null,null,null,null,null,null,null,null,null,null,null,null,null,null,null,null,null,null,null,null,null,null,null,null,null,null,null,null,null,null,null,null,null,null,null,null,null,null,null,null,null,null,null,null,null,null,null,null,null,null,null,null,null,null,null,null,null,null,null,null,null,null,null,null,null,null,null,null,null,null,null,null,null,null,null,null,null,null,null,null,null,null,null,null,null,null,null,null,"JG205 Chicau",7]
[{"$f":"IFERROR(IF(INDIRECT($A$14&ROW())<>\"\",COUNTIF(Summary!$B$30:$B$1094,INDIRECT($A$14&ROW())),\"\"),\"\")","v":""},null,null,null,null,null,null,null,null,null,null,null,null,null,null,null,null,null,null,null,null,null,null,null,null,null,null,null,null,null,null,null,null,null,null,null,null,null,null,null,null,null,null,null,null,null,null,null,null,null,null,null,null,null,null,null,null,null,null,null,null,null,null,null,null,null,null,null,null,null,null,null,null,null,null,null,null,null,null,null,null,null,null,null,null,null,null,null,null,null,null,"JG206 7up Revive",4]
[{"$f":"IFERROR(IF(INDIRECT($A$14&ROW())<>\"\",COUNTIF(Summary!$B$30:$B$1094,INDIRECT($A$14&ROW())),\"\"),\"\")","v":""},null,null,null,null,null,null,null,null,null,null,null,null,null,null,null,null,null,null,null,null,null,null,null,null,null,null,null,null,null,null,null,null,null,null,null,null,null,null,null,null,null,null,null,null,null,null,null,null,null,null,null,null,null,null,null,null,null,null,null,null,null,null,null,null,null,null,null,null,null,null,null,null,null,null,null,null,null,null,null,null,null,null,null,null,null,null,null,null,null,null,"JG207 Pepsi",5]
[{"$f":"IFERROR(IF(INDIRECT($A$14&ROW())<>\"\",COUNTIF(Summary!$B$30:$B$1094,INDIRECT($A$14&ROW())),\"\"),\"\")","v":""},null,null,null,null,null,null,null,null,null,null,null,null,null,null,null,null,null,null,null,null,null,null,null,null,null,null,null,null,null,null,null,null,null,null,null,null,null,null,null,null,null,null,null,null,null,null,null,null,null,null,null,null,null,null,null,null,null,null,null,null,null,null,null,null,null,null,null,null,null,null,null,null,null,null,null,null,null,null,null,null,null,null,null,null,null,null,null,null,null,null,"JG208 7UP",7]
[{"$f":"IFERROR(IF(INDIRECT($A$14&ROW())<>\"\",COUNTIF(Summary!$B$30:$B$1094,INDIRECT($A$14&ROW())),\"\"),\"\")","v":""},null,null,null,null,null,null,null,null,null,null,null,null,null,null,null,null,null,null,null,null,null,null,null,null,null,null,null,null,null,null,null,null,null,null,null,null,null,null,null,null,null,null,null,null,null,null,null,null,null,null,null,null,null,null,null,null,null,null,null,null,null,null,null,null,null,null,null,null,null,null,null,null,null,null,null,null,null,null,null,null,null,null,null,null,null,null,null,null,null,null,"JG209 Ribena",15]
[{"$f":"IFERROR(IF(INDIRECT($A$14&ROW())<>\"\",COUNTIF(Summary!$B$30:$B$1094,INDIRECT($A$14&ROW())),\"\"),\"\")","v":""},null,null,null,null,null,null,null,null,null,null,null,null,null,null,null,null,null,null,null,null,null,null,null,null,null,null,null,null,null,null,null,null,null,null,null,null,null,null,null,null,null,null,null,null,null,null,null,null,null,null,null,null,null,null,null,null,null,null,null,null,null,null,null,null,null,null,null,null,null,null,null,null,null,null,null,null,null,null,null,null,null,null,null,null,null,null,null,null,null,null,"JG210 Mineral Water",36]
[{"$f":"IFERROR(IF(INDIRECT($A$14&ROW())<>\"\",COUNTIF(Summary!$B$30:$B$1094,INDIRECT($A$14&ROW())),\"\"),\"\")","v":""},null,null,null,null,null,null,null,null,null,null,null,null,null,null,null,null,null,null,null,null,null,null,null,null,null,null,null,null,null,null,null,null,null,null,null,null,null,null,null,null,null,null,null,null,null,null,null,null,null,null,null,null,null,null,null,null,null,null,null,null,null,null,null,null,null,null,null,null,null,null,null,null,null,null,null,null,null,null,null,null,null,null,null,null,null,null,null,null,null,null,"JH101 LLB TIGER BTL"]
[{"$f":"IFERROR(IF(INDIRECT($A$14&ROW())<>\"\",COUNTIF(Summary!$B$30:$B$1094,INDIRECT($A$14&ROW())),\"\"),\"\")","v":""},null,null,null,null,null,null,null,null,null,null,null,null,null,null,null,null,null,null,null,null,null,null,null,null,null,null,null,null,null,null,null,null,null,null,null,null,null,null,null,null,null,null,null,null,null,null,null,null,null,null,null,null,null,null,null,null,null,null,null,null,null,null,null,null,null,null,null,null,null,null,null,null,null,null,null,null,null,null,null,null,null,null,null,null,null,null,null,null,null,null,"JH102 LLB TIGER BKT",1]
[{"$f":"IFERROR(IF(INDIRECT($A$14&ROW())<>\"\",COUNTIF(Summary!$B$30:$B$1094,INDIRECT($A$14&ROW())),\"\"),\"\")","v":""},null,null,null,null,null,null,null,null,null,null,null,null,null,null,null,null,null,null,null,null,null,null,null,null,null,null,null,null,null,null,null,null,null,null,null,null,null,null,null,null,null,null,null,null,null,null,null,null,null,null,null,null,null,null,null,null,null,null,null,null,null,null,null,null,null,null,null,null,null,null,null,null,null,null,null,null,null,null,null,null,null,null,null,null,null,null,null,null,null,null,"JH103 LLB TIGER RND"]
[{"$f":"IFERROR(IF(INDIRECT($A$14&ROW())<>\"\",COUNTIF(Summary!$B$30:$B$1094,INDIRECT($A$14&ROW())),\"\"),\"\")","v":""},null,null,null,null,null,null,null,null,null,null,null,null,null,null,null,null,null,null,null,null,null,null,null,null,null,null,null,null,null,null,null,null,null,null,null,null,null,null,null,null,null,null,null,null,null,null,null,null,null,null,null,null,null,null,null,null,null,null,null,null,null,null,null,null,null,null,null,null,null,null,null,null,null,null,null,null,null,null,null,null,null,null,null,null,null,null,null,null,null,null,"JH104 LLB HEINEKEN BTL",1]
[{"$f":"IFERROR(IF(INDIRECT($A$14&ROW())<>\"\",COUNTIF(Summary!$B$30:$B$1094,INDIRECT($A$14&ROW())),\"\"),\"\")","v":""},null,null,null,null,null,null,null,null,null,null,null,null,null,null,null,null,null,null,null,null,null,null,null,null,null,null,null,null,null,null,null,null,null,null,null,null,null,null,null,null,null,null,null,null,null,null,null,null,null,null,null,null,null,null,null,null,null,null,null,null,null,null,null,null,null,null,null,null,null,null,null,null,null,null,null,null,null,null,null,null,null,null,null,null,null,null,null,null,null,null,"JH105 LLB HEINEKEN BKT",2]
[{"$f":"IFERROR(IF(INDIRECT($A$14&ROW())<>\"\",COUNTIF(Summary!$B$30:$B$1094,INDIRECT($A$14&ROW())),\"\"),\"\")","v":""},null,null,null,null,null,null,null,null,null,null,null,null,null,null,null,null,null,null,null,null,null,null,null,null,null,null,null,null,null,null,null,null,null,null,null,null,null,null,null,null,null,null,null,null,null,null,null,null,null,null,null,null,null,null,null,null,null,null,null,null,null,null,null,null,null,null,null,null,null,null,null,null,null,null,null,null,null,null,null,null,null,null,null,null,null,null,null,null,null,null,"JH106 LLB HEINEKEN RND"]
[{"$f":"IFERROR(IF(INDIRECT($A$14&ROW())<>\"\",COUNTIF(Summary!$B$30:$B$1094,INDIRECT($A$14&ROW())),\"\"),\"\")","v":""},null,null,null,null,null,null,null,null,null,null,null,null,null,null,null,null,null,null,null,null,null,null,null,null,null,null,null,null,null,null,null,null,null,null,null,null,null,null,null,null,null,null,null,null,null,null,null,null,null,null,null,null,null,null,null,null,null,null,null,null,null,null,null,null,null,null,null,null,null,null,null,null,null,null,null,null,null,null,null,null,null,null,null,null,null,null,null,null,null,null,"JH107 LLB GUINNESS BTL",1]
[{"$f":"IFERROR(IF(INDIRECT($A$14&ROW())<>\"\",COUNTIF(Summary!$B$30:$B$1094,INDIRECT($A$14&ROW())),\"\"),\"\")","v":""},null,null,null,null,null,null,null,null,null,null,null,null,null,null,null,null,null,null,null,null,null,null,null,null,null,null,null,null,null,null,null,null,null,null,null,null,null,null,null,null,null,null,null,null,null,null,null,null,null,null,null,null,null,null,null,null,null,null,null,null,null,null,null,null,null,null,null,null,null,null,null,null,null,null,null,null,null,null,null,null,null,null,null,null,null,null,null,null,null,null,"JH108 LLB GUINNESS BKT"]
[{"$f":"IFERROR(IF(INDIRECT($A$14&ROW())<>\"\",COUNTIF(Summary!$B$30:$B$1094,INDIRECT($A$14&ROW())),\"\"),\"\")","v":""},null,null,null,null,null,null,null,null,null,null,null,null,null,null,null,null,null,null,null,null,null,null,null,null,null,null,null,null,null,null,null,null,null,null,null,null,null,null,null,null,null,null,null,null,null,null,null,null,null,null,null,null,null,null,null,null,null,null,null,null,null,null,null,null,null,null,null,null,null,null,null,null,null,null,null,null,null,null,null,null,null,null,null,null,null,null,null,null,null,null,"JH109 LLB GUINNESS RND"]
[{"$f":"IFERROR(IF(INDIRECT($A$14&ROW())<>\"\",COUNTIF(Summary!$B$30:$B$1094,INDIRECT($A$14&ROW())),\"\"),\"\")","v":""},null,null,null,null,null,null,null,null,null,null,null,null,null,null,null,null,null,null,null,null,null,null,null,null,null,null,null,null,null,null,null,null,null,null,null,null,null,null,null,null,null,null,null,null,null,null,null,null,null,null,null,null,null,null,null,null,null,null,null,null,null,null,null,null,null,null,null,null,null,null,null,null,null,null,null,null,null,null,null,null,null,null,null,null,null,null,null,null,null,null,"JH110 LLB SOMERSBY BTL",9]
[{"$f":"IFERROR(IF(INDIRECT($A$14&ROW())<>\"\",COUNTIF(Summary!$B$30:$B$1094,INDIRECT($A$14&ROW())),\"\"),\"\")","v":""},null,null,null,null,null,null,null,null,null,null,null,null,null,null,null,null,null,null,null,null,null,null,null,null,null,null,null,null,null,null,null,null,null,null,null,null,null,null,null,null,null,null,null,null,null,null,null,null,null,null,null,null,null,null,null,null,null,null,null,null,null,null,null,null,null,null,null,null,null,null,null,null,null,null,null,null,null,null,null,null,null,null,null,null,null,null,null,null,null,null,"JH111 LLB SOMERSBY BKT",5]
[{"$f":"IFERROR(IF(INDIRECT($A$14&ROW())<>\"\",COUNTIF(Summary!$B$30:$B$1094,INDIRECT($A$14&ROW())),\"\"),\"\")","v":""},null,null,null,null,null,null,null,null,null,null,null,null,null,null,null,null,null,null,null,null,null,null,null,null,null,null,null,null,null,null,null,null,null,null,null,null,null,null,null,null,null,null,null,null,null,null,null,null,null,null,null,null,null,null,null,null,null,null,null,null,null,null,null,null,null,null,null,null,null,null,null,null,null,null,null,null,null,null,null,null,null,null,null,null,null,null,null,null,null,null,"JH112 LLB S.BOW BTL",4]
[{"$f":"IFERROR(IF(INDIRECT($A$14&ROW())<>\"\",COUNTIF(Summary!$B$30:$B$1094,INDIRECT($A$14&ROW())),\"\"),\"\")","v":""},null,null,null,null,null,null,null,null,null,null,null,null,null,null,null,null,null,null,null,null,null,null,null,null,null,null,null,null,null,null,null,null,null,null,null,null,null,null,null,null,null,null,null,null,null,null,null,null,null,null,null,null,null,null,null,null,null,null,null,null,null,null,null,null,null,null,null,null,null,null,null,null,null,null,null,null,null,null,null,null,null,null,null,null,null,null,null,null,null,null,"JH113 LLB S.BOW BKT"]
[{"$f":"IFERROR(IF(INDIRECT($A$14&ROW())<>\"\",COUNTIF(Summary!$B$30:$B$1094,INDIRECT($A$14&ROW())),\"\"),\"\")","v":""},null,null,null,null,null,null,null,null,null,null,null,null,null,null,null,null,null,null,null,null,null,null,null,null,null,null,null,null,null,null,null,null,null,null,null,null,null,null,null,null,null,null,null,null,null,null,null,null,null,null,null,null,null,null,null,null,null,null,null,null,null,null,null,null,null,null,null,null,null,null,null,null,null,null,null,null,null,null,null,null,null,null,null,null,null,null,null,null,null,null,"JH114 LLB H.GAARDEN BT"]
[{"$f":"IFERROR(IF(INDIRECT($A$14&ROW())<>\"\",COUNTIF(Summary!$B$30:$B$1094,INDIRECT($A$14&ROW())),\"\"),\"\")","v":""},null,null,null,null,null,null,null,null,null,null,null,null,null,null,null,null,null,null,null,null,null,null,null,null,null,null,null,null,null,null,null,null,null,null,null,null,null,null,null,null,null,null,null,null,null,null,null,null,null,null,null,null,null,null,null,null,null,null,null,null,null,null,null,null,null,null,null,null,null,null,null,null,null,null,null,null,null,null,null,null,null,null,null,null,null,null,null,null,null,null,"JH115 LLB H.GAARDEN BK"]
[{"$f":"IFERROR(IF(INDIRECT($A$14&ROW())<>\"\",COUNTIF(Summary!$B$30:$B$1094,INDIRECT($A$14&ROW())),\"\"),\"\")","v":""},null,null,null,null,null,null,null,null,null,null,null,null,null,null,null,null,null,null,null,null,null,null,null,null,null,null,null,null,null,null,null,null,null,null,null,null,null,null,null,null,null,null,null,null,null,null,null,null,null,null,null,null,null,null,null,null,null,null,null,null,null,null,null,null,null,null,null,null,null,null,null,null,null,null,null,null,null,null,null,null,null,null,null,null,null,null,null,null,null,null,"JH116 LLB PAULANER BTL",2]
[{"$f":"IFERROR(IF(INDIRECT($A$14&ROW())<>\"\",COUNTIF(Summary!$B$30:$B$1094,INDIRECT($A$14&ROW())),\"\"),\"\")","v":""},null,null,null,null,null,null,null,null,null,null,null,null,null,null,null,null,null,null,null,null,null,null,null,null,null,null,null,null,null,null,null,null,null,null,null,null,null,null,null,null,null,null,null,null,null,null,null,null,null,null,null,null,null,null,null,null,null,null,null,null,null,null,null,null,null,null,null,null,null,null,null,null,null,null,null,null,null,null,null,null,null,null,null,null,null,null,null,null,null,null,"JH117 LLB PAULANER BKT"]
[{"$f":"IFERROR(IF(INDIRECT($A$14&ROW())<>\"\",COUNTIF(Summary!$B$30:$B$1094,INDIRECT($A$14&ROW())),\"\"),\"\")","v":""},null,null,null,null,null,null,null,null,null,null,null,null,null,null,null,null,null,null,null,null,null,null,null,null,null,null,null,null,null,null,null,null,null,null,null,null,null,null,null,null,null,null,null,null,null,null,null,null,null,null,null,null,null,null,null,null,null,null,null,null,null,null,null,null,null,null,null,null,null,null,null,null,null,null,null,null,null,null,null,null,null,null,null,null,null,null,null,null,null,null,"JK002 LLB G.S C. CHOP",1]
[{"$f":"IFERROR(IF(INDIRECT($A$14&ROW())<>\"\",COUNTIF(Summary!$B$30:$B$1094,INDIRECT($A$14&ROW())),\"\"),\"\")","v":""},null,null,null,null,null,null,null,null,null,null,null,null,null,null,null,null,null,null,null,null,null,null,null,null,null,null,null,null,null,null,null,null,null,null,null,null,null,null,null,null,null,null,null,null,null,null,null,null,null,null,null,null,null,null,null,null,null,null,null,null,null,null,null,null,null,null,null,null,null,null,null,null,null,null,null,null,null,null,null,null,null,null,null,null,null,null,null,null,null,null,"JK003 LLB MSR CHK CHOP",1]
[{"$f":"IFERROR(IF(INDIRECT($A$14&ROW())<>\"\",COUNTIF(Summary!$B$30:$B$1094,INDIRECT($A$14&ROW())),\"\"),\"\")","v":""},null,null,null,null,null,null,null,null,null,null,null,null,null,null,null,null,null,null,null,null,null,null,null,null,null,null,null,null,null,null,null,null,null,null,null,null,null,null,null,null,null,null,null,null,null,null,null,null,null,null,null,null,null,null,null,null,null,null,null,null,null,null,null,null,null,null,null,null,null,null,null,null,null,null,null,null,null,null,null,null,null,null,null,null,null,null,null,null,null,null,"JK101 LLB Thai Chk Ric",1]
[{"$f":"IFERROR(IF(INDIRECT($A$14&ROW())<>\"\",COUNTIF(Summary!$B$30:$B$1094,INDIRECT($A$14&ROW())),\"\"),\"\")","v":""},null,null,null,null,null,null,null,null,null,null,null,null,null,null,null,null,null,null,null,null,null,null,null,null,null,null,null,null,null,null,null,null,null,null,null,null,null,null,null,null,null,null,null,null,null,null,null,null,null,null,null,null,null,null,null,null,null,null,null,null,null,null,null,null,null,null,null,null,null,null,null,null,null,null,null,null,null,null,null,null,null,null,null,null,null,null,null,null,null,null,"JK102 Marmite Chk Rice",3]
[{"$f":"IFERROR(IF(INDIRECT($A$14&ROW())<>\"\",COUNTIF(Summary!$B$30:$B$1094,INDIRECT($A$14&ROW())),\"\"),\"\")","v":""},null,null,null,null,null,null,null,null,null,null,null,null,null,null,null,null,null,null,null,null,null,null,null,null,null,null,null,null,null,null,null,null,null,null,null,null,null,null,null,null,null,null,null,null,null,null,null,null,null,null,null,null,null,null,null,null,null,null,null,null,null,null,null,null,null,null,null,null,null,null,null,null,null,null,null,null,null,null,null,null,null,null,null,null,null,null,null,null,null,null,"JK104 S&S Chk Rice",2]
[{"$f":"IFERROR(IF(INDIRECT($A$14&ROW())<>\"\",COUNTIF(Summary!$B$30:$B$1094,INDIRECT($A$14&ROW())),\"\"),\"\")","v":""},null,null,null,null,null,null,null,null,null,null,null,null,null,null,null,null,null,null,null,null,null,null,null,null,null,null,null,null,null,null,null,null,null,null,null,null,null,null,null,null,null,null,null,null,null,null,null,null,null,null,null,null,null,null,null,null,null,null,null,null,null,null,null,null,null,null,null,null,null,null,null,null,null,null,null,null,null,null,null,null,null,null,null,null,null,null,null,null,null,null,"JK105 B.Cream.Chk Rice",1]
[{"$f":"IFERROR(IF(INDIRECT($A$14&ROW())<>\"\",COUNTIF(Summary!$B$30:$B$1094,INDIRECT($A$14&ROW())),\"\"),\"\")","v":""},null,null,null,null,null,null,null,null,null,null,null,null,null,null,null,null,null,null,null,null,null,null,null,null,null,null,null,null,null,null,null,null,null,null,null,null,null,null,null,null,null,null,null,null,null,null,null,null,null,null,null,null,null,null,null,null,null,null,null,null,null,null,null,null,null,null,null,null,null,null,null,null,null,null,null,null,null,null,null,null,null,null,null,null,null,null,null,null,null,null,"JK106 H.K Fried Rice",2]
[{"$f":"IFERROR(IF(INDIRECT($A$14&ROW())<>\"\",COUNTIF(Summary!$B$30:$B$1094,INDIRECT($A$14&ROW())),\"\"),\"\")","v":""},null,null,null,null,null,null,null,null,null,null,null,null,null,null,null,null,null,null,null,null,null,null,null,null,null,null,null,null,null,null,null,null,null,null,null,null,null,null,null,null,null,null,null,null,null,null,null,null,null,null,null,null,null,null,null,null,null,null,null,null,null,null,null,null,null,null,null,null,null,null,null,null,null,null,null,null,null,null,null,null,null,null,null,null,null,null,null,null,null,null,"JK109 LLB BP Udon Mee",1]
[{"$f":"IFERROR(IF(INDIRECT($A$14&ROW())<>\"\",COUNTIF(Summary!$B$30:$B$1094,INDIRECT($A$14&ROW())),\"\"),\"\")","v":""},null,null,null,null,null,null,null,null,null,null,null,null,null,null,null,null,null,null,null,null,null,null,null,null,null,null,null,null,null,null,null,null,null,null,null,null,null,null,null,null,null,null,null,null,null,null,null,null,null,null,null,null,null,null,null,null,null,null,null,null,null,null,null,null,null,null,null,null,null,null,null,null,null,null,null,null,null,null,null,null,null,null,null,null,null,null,null,null,null,null,"JK111 LLB S.M.Ver Rice",1]
[{"$f":"IFERROR(IF(INDIRECT($A$14&ROW())<>\"\",COUNTIF(Summary!$B$30:$B$1094,INDIRECT($A$14&ROW())),\"\"),\"\")","v":""},null,null,null,null,null,null,null,null,null,null,null,null,null,null,null,null,null,null,null,null,null,null,null,null,null,null,null,null,null,null,null,null,null,null,null,null,null,null,null,null,null,null,null,null,null,null,null,null,null,null,null,null,null,null,null,null,null,null,null,null,null,null,null,null,null,null,null,null,null,null,null,null,null,null,null,null,null,null,null,null,null,null,null,null,null,null,null,null,null,null,"JK116 LLB Mon.Chk Rice",1]
[{"$f":"IFERROR(IF(INDIRECT($A$14&ROW())<>\"\",COUNTIF(Summary!$B$30:$B$1094,INDIRECT($A$14&ROW())),\"\"),\"\")","v":""},null,null,null,null,null,null,null,null,null,null,null,null,null,null,null,null,null,null,null,null,null,null,null,null,null,null,null,null,null,null,null,null,null,null,null,null,null,null,null,null,null,null,null,null,null,null,null,null,null,null,null,null,null,null,null,null,null,null,null,null,null,null,null,null,null,null,null,null,null,null,null,null,null,null,null,null,null,null,null,null,null,null,null,null,null,null,null,null,null,null,"JL001 6\" HAWAIIAN"]
[{"$f":"IFERROR(IF(INDIRECT($A$14&ROW())<>\"\",COUNTIF(Summary!$B$30:$B$1094,INDIRECT($A$14&ROW())),\"\"),\"\")","v":""},null,null,null,null,null,null,null,null,null,null,null,null,null,null,null,null,null,null,null,null,null,null,null,null,null,null,null,null,null,null,null,null,null,null,null,null,null,null,null,null,null,null,null,null,null,null,null,null,null,null,null,null,null,null,null,null,null,null,null,null,null,null,null,null,null,null,null,null,null,null,null,null,null,null,null,null,null,null,null,null,null,null,null,null,null,null,null,null,null,null,"JM101 C.Chicken Sausag",3]
[{"$f":"IFERROR(IF(INDIRECT($A$14&ROW())<>\"\",COUNTIF(Summary!$B$30:$B$1094,INDIRECT($A$14&ROW())),\"\"),\"\")","v":""},null,null,null,null,null,null,null,null,null,null,null,null,null,null,null,null,null,null,null,null,null,null,null,null,null,null,null,null,null,null,null,null,null,null,null,null,null,null,null,null,null,null,null,null,null,null,null,null,null,null,null,null,null,null,null,null,null,null,null,null,null,null,null,null,null,null,null,null,null,null,null,null,null,null,null,null,null,null,null,null,null,null,null,null,null,null,null,null,null,null,"JM102 Beef Ball",2]
[{"$f":"IFERROR(IF(INDIRECT($A$14&ROW())<>\"\",COUNTIF(Summary!$B$30:$B$1094,INDIRECT($A$14&ROW())),\"\"),\"\")","v":""},null,null,null,null,null,null,null,null,null,null,null,null,null,null,null,null,null,null,null,null,null,null,null,null,null,null,null,null,null,null,null,null,null,null,null,null,null,null,null,null,null,null,null,null,null,null,null,null,null,null,null,null,null,null,null,null,null,null,null,null,null,null,null,null,null,null,null,null,null,null,null,null,null,null,null,null,null,null,null,null,null,null,null,null,null,null,null,null,null,null,"JM103 Chicken Kidney",3]
[{"$f":"IFERROR(IF(INDIRECT($A$14&ROW())<>\"\",COUNTIF(Summary!$B$30:$B$1094,INDIRECT($A$14&ROW())),\"\"),\"\")","v":""},null,null,null,null,null,null,null,null,null,null,null,null,null,null,null,null,null,null,null,null,null,null,null,null,null,null,null,null,null,null,null,null,null,null,null,null,null,null,null,null,null,null,null,null,null,null,null,null,null,null,null,null,null,null,null,null,null,null,null,null,null,null,null,null,null,null,null,null,null,null,null,null,null,null,null,null,null,null,null,null,null,null,null,null,null,null,null,null,null,null,"JM104 Chicken Liver",3]
[{"$f":"IFERROR(IF(INDIRECT($A$14&ROW())<>\"\",COUNTIF(Summary!$B$30:$B$1094,INDIRECT($A$14&ROW())),\"\"),\"\")","v":""},null,null,null,null,null,null,null,null,null,null,null,null,null,null,null,null,null,null,null,null,null,null,null,null,null,null,null,null,null,null,null,null,null,null,null,null,null,null,null,null,null,null,null,null,null,null,null,null,null,null,null,null,null,null,null,null,null,null,null,null,null,null,null,null,null,null,null,null,null,null,null,null,null,null,null,null,null,null,null,null,null,null,null,null,null,null,null,null,null,null,"JM105 Cheese C.Sausage",8]
[{"$f":"IFERROR(IF(INDIRECT($A$14&ROW())<>\"\",COUNTIF(Summary!$B$30:$B$1094,INDIRECT($A$14&ROW())),\"\"),\"\")","v":""},null,null,null,null,null,null,null,null,null,null,null,null,null,null,null,null,null,null,null,null,null,null,null,null,null,null,null,null,null,null,null,null,null,null,null,null,null,null,null,null,null,null,null,null,null,null,null,null,null,null,null,null,null,null,null,null,null,null,null,null,null,null,null,null,null,null,null,null,null,null,null,null,null,null,null,null,null,null,null,null,null,null,null,null,null,null,null,null,null,null,"JM106 B.P C.Sausage",5]
[{"$f":"IFERROR(IF(INDIRECT($A$14&ROW())<>\"\",COUNTIF(Summary!$B$30:$B$1094,INDIRECT($A$14&ROW())),\"\"),\"\")","v":""},null,null,null,null,null,null,null,null,null,null,null,null,null,null,null,null,null,null,null,null,null,null,null,null,null,null,null,null,null,null,null,null,null,null,null,null,null,null,null,null,null,null,null,null,null,null,null,null,null,null,null,null,null,null,null,null,null,null,null,null,null,null,null,null,null,null,null,null,null,null,null,null,null,null,null,null,null,null,null,null,null,null,null,null,null,null,null,null,null,null,"JM107 S.Fill beef Ball",2]
[{"$f":"IFERROR(IF(INDIRECT($A$14&ROW())<>\"\",COUNTIF(Summary!$B$30:$B$1094,INDIRECT($A$14&ROW())),\"\"),\"\")","v":""},null,null,null,null,null,null,null,null,null,null,null,null,null,null,null,null,null,null,null,null,null,null,null,null,null,null,null,null,null,null,null,null,null,null,null,null,null,null,null,null,null,null,null,null,null,null,null,null,null,null,null,null,null,null,null,null,null,null,null,null,null,null,null,null,null,null,null,null,null,null,null,null,null,null,null,null,null,null,null,null,null,null,null,null,null,null,null,null,null,null,"JM108 Pandan Chicken",5]
[{"$f":"IFERROR(IF(INDIRECT($A$14&ROW())<>\"\",COUNTIF(Summary!$B$30:$B$1094,INDIRECT($A$14&ROW())),\"\"),\"\")","v":""},null,null,null,null,null,null,null,null,null,null,null,null,null,null,null,null,null,null,null,null,null,null,null,null,null,null,null,null,null,null,null,null,null,null,null,null,null,null,null,null,null,null,null,null,null,null,null,null,null,null,null,null,null,null,null,null,null,null,null,null,null,null,null,null,null,null,null,null,null,null,null,null,null,null,null,null,null,null,null,null,null,null,null,null,null,null,null,null,null,null,"JM109 S. Duck Breast",7]
[{"$f":"IFERROR(IF(INDIRECT($A$14&ROW())<>\"\",COUNTIF(Summary!$B$30:$B$1094,INDIRECT($A$14&ROW())),\"\"),\"\")","v":""},null,null,null,null,null,null,null,null,null,null,null,null,null,null,null,null,null,null,null,null,null,null,null,null,null,null,null,null,null,null,null,null,null,null,null,null,null,null,null,null,null,null,null,null,null,null,null,null,null,null,null,null,null,null,null,null,null,null,null,null,null,null,null,null,null,null,null,null,null,null,null,null,null,null,null,null,null,null,null,null,null,null,null,null,null,null,null,null,null,null,"JM110 Grill.B.Chk.Wing",2]
[{"$f":"IFERROR(IF(INDIRECT($A$14&ROW())<>\"\",COUNTIF(Summary!$B$30:$B$1094,INDIRECT($A$14&ROW())),\"\"),\"\")","v":""},null,null,null,null,null,null,null,null,null,null,null,null,null,null,null,null,null,null,null,null,null,null,null,null,null,null,null,null,null,null,null,null,null,null,null,null,null,null,null,null,null,null,null,null,null,null,null,null,null,null,null,null,null,null,null,null,null,null,null,null,null,null,null,null,null,null,null,null,null,null,null,null,null,null,null,null,null,null,null,null,null,null,null,null,null,null,null,null,null,null,"JN211 Pork Meatball s",10]
[{"$f":"IFERROR(IF(INDIRECT($A$14&ROW())<>\"\",COUNTIF(Summary!$B$30:$B$1094,INDIRECT($A$14&ROW())),\"\"),\"\")","v":""},null,null,null,null,null,null,null,null,null,null,null,null,null,null,null,null,null,null,null,null,null,null,null,null,null,null,null,null,null,null,null,null,null,null,null,null,null,null,null,null,null,null,null,null,null,null,null,null,null,null,null,null,null,null,null,null,null,null,null,null,null,null,null,null,null,null,null,null,null,null,null,null,null,null,null,null,null,null,null,null,null,null,null,null,null,null,null,null,null,null,"JN212 Wu Xiang Roll s",4]
[{"$f":"IFERROR(IF(INDIRECT($A$14&ROW())<>\"\",COUNTIF(Summary!$B$30:$B$1094,INDIRECT($A$14&ROW())),\"\"),\"\")","v":""},null,null,null,null,null,null,null,null,null,null,null,null,null,null,null,null,null,null,null,null,null,null,null,null,null,null,null,null,null,null,null,null,null,null,null,null,null,null,null,null,null,null,null,null,null,null,null,null,null,null,null,null,null,null,null,null,null,null,null,null,null,null,null,null,null,null,null,null,null,null,null,null,null,null,null,null,null,null,null,null,null,null,null,null,null,null,null,null,null,null,"JN213 P. Sauage Slices",3]
[{"$f":"IFERROR(IF(INDIRECT($A$14&ROW())<>\"\",COUNTIF(Summary!$B$30:$B$1094,INDIRECT($A$14&ROW())),\"\"),\"\")","v":""},null,null,null,null,null,null,null,null,null,null,null,null,null,null,null,null,null,null,null,null,null,null,null,null,null,null,null,null,null,null,null,null,null,null,null,null,null,null,null,null,null,null,null,null,null,null,null,null,null,null,null,null,null,null,null,null,null,null,null,null,null,null,null,null,null,null,null,null,null,null,null,null,null,null,null,null,null,null,null,null,null,null,null,null,null,null,null,null,null,null,"JN214 Pork Dumplings",6]
[{"$f":"IFERROR(IF(INDIRECT($A$14&ROW())<>\"\",COUNTIF(Summary!$B$30:$B$1094,INDIRECT($A$14&ROW())),\"\"),\"\")","v":""},null,null,null,null,null,null,null,null,null,null,null,null,null,null,null,null,null,null,null,null,null,null,null,null,null,null,null,null,null,null,null,null,null,null,null,null,null,null,null,null,null,null,null,null,null,null,null,null,null,null,null,null,null,null,null,null,null,null,null,null,null,null,null,null,null,null,null,null,null,null,null,null,null,null,null,null,null,null,null,null,null,null,null,null,null,null,null,null,null,null,"JN215 Pork Meatball B",7]
[{"$f":"IFERROR(IF(INDIRECT($A$14&ROW())<>\"\",COUNTIF(Summary!$B$30:$B$1094,INDIRECT($A$14&ROW())),\"\"),\"\")","v":""},null,null,null,null,null,null,null,null,null,null,null,null,null,null,null,null,null,null,null,null,null,null,null,null,null,null,null,null,null,null,null,null,null,null,null,null,null,null,null,null,null,null,null,null,null,null,null,null,null,null,null,null,null,null,null,null,null,null,null,null,null,null,null,null,null,null,null,null,null,null,null,null,null,null,null,null,null,null,null,null,null,null,null,null,null,null,null,null,null,null,"JN216 Pork Liver",3]
[{"$f":"IFERROR(IF(INDIRECT($A$14&ROW())<>\"\",COUNTIF(Summary!$B$30:$B$1094,INDIRECT($A$14&ROW())),\"\"),\"\")","v":""},null,null,null,null,null,null,null,null,null,null,null,null,null,null,null,null,null,null,null,null,null,null,null,null,null,null,null,null,null,null,null,null,null,null,null,null,null,null,null,null,null,null,null,null,null,null,null,null,null,null,null,null,null,null,null,null,null,null,null,null,null,null,null,null,null,null,null,null,null,null,null,null,null,null,null,null,null,null,null,null,null,null,null,null,null,null,null,null,null,null,"JN217 Taiwan Sausage",23]
[{"$f":"IFERROR(IF(INDIRECT($A$14&ROW())<>\"\",COUNTIF(Summary!$B$30:$B$1094,INDIRECT($A$14&ROW())),\"\"),\"\")","v":""},null,null,null,null,null,null,null,null,null,null,null,null,null,null,null,null,null,null,null,null,null,null,null,null,null,null,null,null,null,null,null,null,null,null,null,null,null,null,null,null,null,null,null,null,null,null,null,null,null,null,null,null,null,null,null,null,null,null,null,null,null,null,null,null,null,null,null,null,null,null,null,null,null,null,null,null,null,null,null,null,null,null,null,null,null,null,null,null,null,null,"JN218 Bacon",4]
[{"$f":"IFERROR(IF(INDIRECT($A$14&ROW())<>\"\",COUNTIF(Summary!$B$30:$B$1094,INDIRECT($A$14&ROW())),\"\"),\"\")","v":""},null,null,null,null,null,null,null,null,null,null,null,null,null,null,null,null,null,null,null,null,null,null,null,null,null,null,null,null,null,null,null,null,null,null,null,null,null,null,null,null,null,null,null,null,null,null,null,null,null,null,null,null,null,null,null,null,null,null,null,null,null,null,null,null,null,null,null,null,null,null,null,null,null,null,null,null,null,null,null,null,null,null,null,null,null,null,null,null,null,null,"JN219 Pork Rinds",1]
[{"$f":"IFERROR(IF(INDIRECT($A$14&ROW())<>\"\",COUNTIF(Summary!$B$30:$B$1094,INDIRECT($A$14&ROW())),\"\"),\"\")","v":""},null,null,null,null,null,null,null,null,null,null,null,null,null,null,null,null,null,null,null,null,null,null,null,null,null,null,null,null,null,null,null,null,null,null,null,null,null,null,null,null,null,null,null,null,null,null,null,null,null,null,null,null,null,null,null,null,null,null,null,null,null,null,null,null,null,null,null,null,null,null,null,null,null,null,null,null,null,null,null,null,null,null,null,null,null,null,null,null,null,null,"JN220 Sauce Filll Ball",4]
[{"$f":"IFERROR(IF(INDIRECT($A$14&ROW())<>\"\",COUNTIF(Summary!$B$30:$B$1094,INDIRECT($A$14&ROW())),\"\"),\"\")","v":""},null,null,null,null,null,null,null,null,null,null,null,null,null,null,null,null,null,null,null,null,null,null,null,null,null,null,null,null,null,null,null,null,null,null,null,null,null,null,null,null,null,null,null,null,null,null,null,null,null,null,null,null,null,null,null,null,null,null,null,null,null,null,null,null,null,null,null,null,null,null,null,null,null,null,null,null,null,null,null,null,null,null,null,null,null,null,null,null,null,null,"JN221 Roasted Pork",11]
[{"$f":"IFERROR(IF(INDIRECT($A$14&ROW())<>\"\",COUNTIF(Summary!$B$30:$B$1094,INDIRECT($A$14&ROW())),\"\"),\"\")","v":""},null,null,null,null,null,null,null,null,null,null,null,null,null,null,null,null,null,null,null,null,null,null,null,null,null,null,null,null,null,null,null,null,null,null,null,null,null,null,null,null,null,null,null,null,null,null,null,null,null,null,null,null,null,null,null,null,null,null,null,null,null,null,null,null,null,null,null,null,null,null,null,null,null,null,null,null,null,null,null,null,null,null,null,null,null,null,null,null,null,null,"JN222 Enoki Bacon Roll",7]
[{"$f":"IFERROR(IF(INDIRECT($A$14&ROW())<>\"\",COUNTIF(Summary!$B$30:$B$1094,INDIRECT($A$14&ROW())),\"\"),\"\")","v":""},null,null,null,null,null,null,null,null,null,null,null,null,null,null,null,null,null,null,null,null,null,null,null,null,null,null,null,null,null,null,null,null,null,null,null,null,null,null,null,null,null,null,null,null,null,null,null,null,null,null,null,null,null,null,null,null,null,null,null,null,null,null,null,null,null,null,null,null,null,null,null,null,null,null,null,null,null,null,null,null,null,null,null,null,null,null,null,null,null,null,"JO323 Fish Wanton",1]
[{"$f":"IFERROR(IF(INDIRECT($A$14&ROW())<>\"\",COUNTIF(Summary!$B$30:$B$1094,INDIRECT($A$14&ROW())),\"\"),\"\")","v":""},null,null,null,null,null,null,null,null,null,null,null,null,null,null,null,null,null,null,null,null,null,null,null,null,null,null,null,null,null,null,null,null,null,null,null,null,null,null,null,null,null,null,null,null,null,null,null,null,null,null,null,null,null,null,null,null,null,null,null,null,null,null,null,null,null,null,null,null,null,null,null,null,null,null,null,null,null,null,null,null,null,null,null,null,null,null,null,null,null,null,"JO324 M. Fried F. Cake",4]
[{"$f":"IFERROR(IF(INDIRECT($A$14&ROW())<>\"\",COUNTIF(Summary!$B$30:$B$1094,INDIRECT($A$14&ROW())),\"\"),\"\")","v":""},null,null,null,null,null,null,null,null,null,null,null,null,null,null,null,null,null,null,null,null,null,null,null,null,null,null,null,null,null,null,null,null,null,null,null,null,null,null,null,null,null,null,null,null,null,null,null,null,null,null,null,null,null,null,null,null,null,null,null,null,null,null,null,null,null,null,null,null,null,null,null,null,null,null,null,null,null,null,null,null,null,null,null,null,null,null,null,null,null,null,"JO325 Spicy Fish Cake",1]
[{"$f":"IFERROR(IF(INDIRECT($A$14&ROW())<>\"\",COUNTIF(Summary!$B$30:$B$1094,INDIRECT($A$14&ROW())),\"\"),\"\")","v":""},null,null,null,null,null,null,null,null,null,null,null,null,null,null,null,null,null,null,null,null,null,null,null,null,null,null,null,null,null,null,null,null,null,null,null,null,null,null,null,null,null,null,null,null,null,null,null,null,null,null,null,null,null,null,null,null,null,null,null,null,null,null,null,null,null,null,null,null,null,null,null,null,null,null,null,null,null,null,null,null,null,null,null,null,null,null,null,null,null,null,"JO326 Fresh Clam",20]
[{"$f":"IFERROR(IF(INDIRECT($A$14&ROW())<>\"\",COUNTIF(Summary!$B$30:$B$1094,INDIRECT($A$14&ROW())),\"\"),\"\")","v":""},null,null,null,null,null,null,null,null,null,null,null,null,null,null,null,null,null,null,null,null,null,null,null,null,null,null,null,null,null,null,null,null,null,null,null,null,null,null,null,null,null,null,null,null,null,null,null,null,null,null,null,null,null,null,null,null,null,null,null,null,null,null,null,null,null,null,null,null,null,null,null,null,null,null,null,null,null,null,null,null,null,null,null,null,null,null,null,null,null,null,"JO327 Wu Xiang F.Ball",2]
[{"$f":"IFERROR(IF(INDIRECT($A$14&ROW())<>\"\",COUNTIF(Summary!$B$30:$B$1094,INDIRECT($A$14&ROW())),\"\"),\"\")","v":""},null,null,null,null,null,null,null,null,null,null,null,null,null,null,null,null,null,null,null,null,null,null,null,null,null,null,null,null,null,null,null,null,null,null,null,null,null,null,null,null,null,null,null,null,null,null,null,null,null,null,null,null,null,null,null,null,null,null,null,null,null,null,null,null,null,null,null,null,null,null,null,null,null,null,null,null,null,null,null,null,null,null,null,null,null,null,null,null,null,null,"JO328 Xi Dao Fish Ball",10]
[{"$f":"IFERROR(IF(INDIRECT($A$14&ROW())<>\"\",COUNTIF(Summary!$B$30:$B$1094,INDIRECT($A$14&ROW())),\"\"),\"\")","v":""},null,null,null,null,null,null,null,null,null,null,null,null,null,null,null,null,null,null,null,null,null,null,null,null,null,null,null,null,null,null,null,null,null,null,null,null,null,null,null,null,null,null,null,null,null,null,null,null,null,null,null,null,null,null,null,null,null,null,null,null,null,null,null,null,null,null,null,null,null,null,null,null,null,null,null,null,null,null,null,null,null,null,null,null,null,null,null,null,null,null,"JO329 Fish Ball (S)",5]
[{"$f":"IFERROR(IF(INDIRECT($A$14&ROW())<>\"\",COUNTIF(Summary!$B$30:$B$1094,INDIRECT($A$14&ROW())),\"\"),\"\")","v":""},null,null,null,null,null,null,null,null,null,null,null,null,null,null,null,null,null,null,null,null,null,null,null,null,null,null,null,null,null,null,null,null,null,null,null,null,null,null,null,null,null,null,null,null,null,null,null,null,null,null,null,null,null,null,null,null,null,null,null,null,null,null,null,null,null,null,null,null,null,null,null,null,null,null,null,null,null,null,null,null,null,null,null,null,null,null,null,null,null,null,"JO330 Tofu Fish Ball",4]
[{"$f":"IFERROR(IF(INDIRECT($A$14&ROW())<>\"\",COUNTIF(Summary!$B$30:$B$1094,INDIRECT($A$14&ROW())),\"\"),\"\")","v":""},null,null,null,null,null,null,null,null,null,null,null,null,null,null,null,null,null,null,null,null,null,null,null,null,null,null,null,null,null,null,null,null,null,null,null,null,null,null,null,null,null,null,null,null,null,null,null,null,null,null,null,null,null,null,null,null,null,null,null,null,null,null,null,null,null,null,null,null,null,null,null,null,null,null,null,null,null,null,null,null,null,null,null,null,null,null,null,null,null,null,"JO331 Prawn Ball",2]
[{"$f":"IFERROR(IF(INDIRECT($A$14&ROW())<>\"\",COUNTIF(Summary!$B$30:$B$1094,INDIRECT($A$14&ROW())),\"\"),\"\")","v":""},null,null,null,null,null,null,null,null,null,null,null,null,null,null,null,null,null,null,null,null,null,null,null,null,null,null,null,null,null,null,null,null,null,null,null,null,null,null,null,null,null,null,null,null,null,null,null,null,null,null,null,null,null,null,null,null,null,null,null,null,null,null,null,null,null,null,null,null,null,null,null,null,null,null,null,null,null,null,null,null,null,null,null,null,null,null,null,null,null,null,"JO332 Abalone Slices",4]
[{"$f":"IFERROR(IF(INDIRECT($A$14&ROW())<>\"\",COUNTIF(Summary!$B$30:$B$1094,INDIRECT($A$14&ROW())),\"\"),\"\")","v":""},null,null,null,null,null,null,null,null,null,null,null,null,null,null,null,null,null,null,null,null,null,null,null,null,null,null,null,null,null,null,null,null,null,null,null,null,null,null,null,null,null,null,null,null,null,null,null,null,null,null,null,null,null,null,null,null,null,null,null,null,null,null,null,null,null,null,null,null,null,null,null,null,null,null,null,null,null,null,null,null,null,null,null,null,null,null,null,null,null,null,"JO333 Prawn C. sausage",1]
[{"$f":"IFERROR(IF(INDIRECT($A$14&ROW())<>\"\",COUNTIF(Summary!$B$30:$B$1094,INDIRECT($A$14&ROW())),\"\"),\"\")","v":""},null,null,null,null,null,null,null,null,null,null,null,null,null,null,null,null,null,null,null,null,null,null,null,null,null,null,null,null,null,null,null,null,null,null,null,null,null,null,null,null,null,null,null,null,null,null,null,null,null,null,null,null,null,null,null,null,null,null,null,null,null,null,null,null,null,null,null,null,null,null,null,null,null,null,null,null,null,null,null,null,null,null,null,null,null,null,null,null,null,null,"JO334 FISH BALL BIG",2]
[{"$f":"IFERROR(IF(INDIRECT($A$14&ROW())<>\"\",COUNTIF(Summary!$B$30:$B$1094,INDIRECT($A$14&ROW())),\"\"),\"\")","v":""},null,null,null,null,null,null,null,null,null,null,null,null,null,null,null,null,null,null,null,null,null,null,null,null,null,null,null,null,null,null,null,null,null,null,null,null,null,null,null,null,null,null,null,null,null,null,null,null,null,null,null,null,null,null,null,null,null,null,null,null,null,null,null,null,null,null,null,null,null,null,null,null,null,null,null,null,null,null,null,null,null,null,null,null,null,null,null,null,null,null,"JO335 Tempura Prawn",3]
[{"$f":"IFERROR(IF(INDIRECT($A$14&ROW())<>\"\",COUNTIF(Summary!$B$30:$B$1094,INDIRECT($A$14&ROW())),\"\"),\"\")","v":""},null,null,null,null,null,null,null,null,null,null,null,null,null,null,null,null,null,null,null,null,null,null,null,null,null,null,null,null,null,null,null,null,null,null,null,null,null,null,null,null,null,null,null,null,null,null,null,null,null,null,null,null,null,null,null,null,null,null,null,null,null,null,null,null,null,null,null,null,null,null,null,null,null,null,null,null,null,null,null,null,null,null,null,null,null,null,null,null,null,null,"JO336 Breaded CarbClaw",4]
[{"$f":"IFERROR(IF(INDIRECT($A$14&ROW())<>\"\",COUNTIF(Summary!$B$30:$B$1094,INDIRECT($A$14&ROW())),\"\"),\"\")","v":""},null,null,null,null,null,null,null,null,null,null,null,null,null,null,null,null,null,null,null,null,null,null,null,null,null,null,null,null,null,null,null,null,null,null,null,null,null,null,null,null,null,null,null,null,null,null,null,null,null,null,null,null,null,null,null,null,null,null,null,null,null,null,null,null,null,null,null,null,null,null,null,null,null,null,null,null,null,null,null,null,null,null,null,null,null,null,null,null,null,null,"JO338 Otak Fish Paste",8]
[{"$f":"IFERROR(IF(INDIRECT($A$14&ROW())<>\"\",COUNTIF(Summary!$B$30:$B$1094,INDIRECT($A$14&ROW())),\"\"),\"\")","v":""},null,null,null,null,null,null,null,null,null,null,null,null,null,null,null,null,null,null,null,null,null,null,null,null,null,null,null,null,null,null,null,null,null,null,null,null,null,null,null,null,null,null,null,null,null,null,null,null,null,null,null,null,null,null,null,null,null,null,null,null,null,null,null,null,null,null,null,null,null,null,null,null,null,null,null,null,null,null,null,null,null,null,null,null,null,null,null,null,null,null,"JO339 Salmon Ball",1]
[{"$f":"IFERROR(IF(INDIRECT($A$14&ROW())<>\"\",COUNTIF(Summary!$B$30:$B$1094,INDIRECT($A$14&ROW())),\"\"),\"\")","v":""},null,null,null,null,null,null,null,null,null,null,null,null,null,null,null,null,null,null,null,null,null,null,null,null,null,null,null,null,null,null,null,null,null,null,null,null,null,null,null,null,null,null,null,null,null,null,null,null,null,null,null,null,null,null,null,null,null,null,null,null,null,null,null,null,null,null,null,null,null,null,null,null,null,null,null,null,null,null,null,null,null,null,null,null,null,null,null,null,null,null,"JO341 Scallop Ball",4]
[{"$f":"IFERROR(IF(INDIRECT($A$14&ROW())<>\"\",COUNTIF(Summary!$B$30:$B$1094,INDIRECT($A$14&ROW())),\"\"),\"\")","v":""},null,null,null,null,null,null,null,null,null,null,null,null,null,null,null,null,null,null,null,null,null,null,null,null,null,null,null,null,null,null,null,null,null,null,null,null,null,null,null,null,null,null,null,null,null,null,null,null,null,null,null,null,null,null,null,null,null,null,null,null,null,null,null,null,null,null,null,null,null,null,null,null,null,null,null,null,null,null,null,null,null,null,null,null,null,null,null,null,null,null,"JO342 Taiwan C.F. Ball",1]
[{"$f":"IFERROR(IF(INDIRECT($A$14&ROW())<>\"\",COUNTIF(Summary!$B$30:$B$1094,INDIRECT($A$14&ROW())),\"\"),\"\")","v":""},null,null,null,null,null,null,null,null,null,null,null,null,null,null,null,null,null,null,null,null,null,null,null,null,null,null,null,null,null,null,null,null,null,null,null,null,null,null,null,null,null,null,null,null,null,null,null,null,null,null,null,null,null,null,null,null,null,null,null,null,null,null,null,null,null,null,null,null,null,null,null,null,null,null,null,null,null,null,null,null,null,null,null,null,null,null,null,null,null,null,"JO343 Cuttlefish Roll",2]
[{"$f":"IFERROR(IF(INDIRECT($A$14&ROW())<>\"\",COUNTIF(Summary!$B$30:$B$1094,INDIRECT($A$14&ROW())),\"\"),\"\")","v":""},null,null,null,null,null,null,null,null,null,null,null,null,null,null,null,null,null,null,null,null,null,null,null,null,null,null,null,null,null,null,null,null,null,null,null,null,null,null,null,null,null,null,null,null,null,null,null,null,null,null,null,null,null,null,null,null,null,null,null,null,null,null,null,null,null,null,null,null,null,null,null,null,null,null,null,null,null,null,null,null,null,null,null,null,null,null,null,null,null,null,"JO344 M.Seafood Ball",1]
[{"$f":"IFERROR(IF(INDIRECT($A$14&ROW())<>\"\",COUNTIF(Summary!$B$30:$B$1094,INDIRECT($A$14&ROW())),\"\"),\"\")","v":""},null,null,null,null,null,null,null,null,null,null,null,null,null,null,null,null,null,null,null,null,null,null,null,null,null,null,null,null,null,null,null,null,null,null,null,null,null,null,null,null,null,null,null,null,null,null,null,null,null,null,null,null,null,null,null,null,null,null,null,null,null,null,null,null,null,null,null,null,null,null,null,null,null,null,null,null,null,null,null,null,null,null,null,null,null,null,null,null,null,null,"JO345 Cuttlefish",12]
[{"$f":"IFERROR(IF(INDIRECT($A$14&ROW())<>\"\",COUNTIF(Summary!$B$30:$B$1094,INDIRECT($A$14&ROW())),\"\"),\"\")","v":""},null,null,null,null,null,null,null,null,null,null,null,null,null,null,null,null,null,null,null,null,null,null,null,null,null,null,null,null,null,null,null,null,null,null,null,null,null,null,null,null,null,null,null,null,null,null,null,null,null,null,null,null,null,null,null,null,null,null,null,null,null,null,null,null,null,null,null,null,null,null,null,null,null,null,null,null,null,null,null,null,null,null,null,null,null,null,null,null,null,null,"JO346 Shisamo",9]
[{"$f":"IFERROR(IF(INDIRECT($A$14&ROW())<>\"\",COUNTIF(Summary!$B$30:$B$1094,INDIRECT($A$14&ROW())),\"\"),\"\")","v":""},null,null,null,null,null,null,null,null,null,null,null,null,null,null,null,null,null,null,null,null,null,null,null,null,null,null,null,null,null,null,null,null,null,null,null,null,null,null,null,null,null,null,null,null,null,null,null,null,null,null,null,null,null,null,null,null,null,null,null,null,null,null,null,null,null,null,null,null,null,null,null,null,null,null,null,null,null,null,null,null,null,null,null,null,null,null,null,null,null,null,"JO347 Tiger Prawn",6]
[{"$f":"IFERROR(IF(INDIRECT($A$14&ROW())<>\"\",COUNTIF(Summary!$B$30:$B$1094,INDIRECT($A$14&ROW())),\"\"),\"\")","v":""},null,null,null,null,null,null,null,null,null,null,null,null,null,null,null,null,null,null,null,null,null,null,null,null,null,null,null,null,null,null,null,null,null,null,null,null,null,null,null,null,null,null,null,null,null,null,null,null,null,null,null,null,null,null,null,null,null,null,null,null,null,null,null,null,null,null,null,null,null,null,null,null,null,null,null,null,null,null,null,null,null,null,null,null,null,null,null,null,null,null,"JP448 Botton Mushroom",5]
[{"$f":"IFERROR(IF(INDIRECT($A$14&ROW())<>\"\",COUNTIF(Summary!$B$30:$B$1094,INDIRECT($A$14&ROW())),\"\"),\"\")","v":""},null,null,null,null,null,null,null,null,null,null,null,null,null,null,null,null,null,null,null,null,null,null,null,null,null,null,null,null,null,null,null,null,null,null,null,null,null,null,null,null,null,null,null,null,null,null,null,null,null,null,null,null,null,null,null,null,null,null,null,null,null,null,null,null,null,null,null,null,null,null,null,null,null,null,null,null,null,null,null,null,null,null,null,null,null,null,null,null,null,null,"JP449 Kang Kong",10]
[{"$f":"IFERROR(IF(INDIRECT($A$14&ROW())<>\"\",COUNTIF(Summary!$B$30:$B$1094,INDIRECT($A$14&ROW())),\"\"),\"\")","v":""},null,null,null,null,null,null,null,null,null,null,null,null,null,null,null,null,null,null,null,null,null,null,null,null,null,null,null,null,null,null,null,null,null,null,null,null,null,null,null,null,null,null,null,null,null,null,null,null,null,null,null,null,null,null,null,null,null,null,null,null,null,null,null,null,null,null,null,null,null,null,null,null,null,null,null,null,null,null,null,null,null,null,null,null,null,null,null,null,null,null,"JP450 Broccali",16]
[{"$f":"IFERROR(IF(INDIRECT($A$14&ROW())<>\"\",COUNTIF(Summary!$B$30:$B$1094,INDIRECT($A$14&ROW())),\"\"),\"\")","v":""},null,null,null,null,null,null,null,null,null,null,null,null,null,null,null,null,null,null,null,null,null,null,null,null,null,null,null,null,null,null,null,null,null,null,null,null,null,null,null,null,null,null,null,null,null,null,null,null,null,null,null,null,null,null,null,null,null,null,null,null,null,null,null,null,null,null,null,null,null,null,null,null,null,null,null,null,null,null,null,null,null,null,null,null,null,null,null,null,null,null,"JP451 Long Bean",5]
[{"$f":"IFERROR(IF(INDIRECT($A$14&ROW())<>\"\",COUNTIF(Summary!$B$30:$B$1094,INDIRECT($A$14&ROW())),\"\"),\"\")","v":""},null,null,null,null,null,null,null,null,null,null,null,null,null,null,null,null,null,null,null,null,null,null,null,null,null,null,null,null,null,null,null,null,null,null,null,null,null,null,null,null,null,null,null,null,null,null,null,null,null,null,null,null,null,null,null,null,null,null,null,null,null,null,null,null,null,null,null,null,null,null,null,null,null,null,null,null,null,null,null,null,null,null,null,null,null,null,null,null,null,null,"JP452 Fried A.Mushroom",11]
[{"$f":"IFERROR(IF(INDIRECT($A$14&ROW())<>\"\",COUNTIF(Summary!$B$30:$B$1094,INDIRECT($A$14&ROW())),\"\"),\"\")","v":""},null,null,null,null,null,null,null,null,null,null,null,null,null,null,null,null,null,null,null,null,null,null,null,null,null,null,null,null,null,null,null,null,null,null,null,null,null,null,null,null,null,null,null,null,null,null,null,null,null,null,null,null,null,null,null,null,null,null,null,null,null,null,null,null,null,null,null,null,null,null,null,null,null,null,null,null,null,null,null,null,null,null,null,null,null,null,null,null,null,null,"JP453 Shiitake Mushrom",6]
[{"$f":"IFERROR(IF(INDIRECT($A$14&ROW())<>\"\",COUNTIF(Summary!$B$30:$B$1094,INDIRECT($A$14&ROW())),\"\"),\"\")","v":""},null,null,null,null,null,null,null,null,null,null,null,null,null,null,null,null,null,null,null,null,null,null,null,null,null,null,null,null,null,null,null,null,null,null,null,null,null,null,null,null,null,null,null,null,null,null,null,null,null,null,null,null,null,null,null,null,null,null,null,null,null,null,null,null,null,null,null,null,null,null,null,null,null,null,null,null,null,null,null,null,null,null,null,null,null,null,null,null,null,null,"JQ554 M.Fish Eggplant",3]
[{"$f":"IFERROR(IF(INDIRECT($A$14&ROW())<>\"\",COUNTIF(Summary!$B$30:$B$1094,INDIRECT($A$14&ROW())),\"\"),\"\")","v":""},null,null,null,null,null,null,null,null,null,null,null,null,null,null,null,null,null,null,null,null,null,null,null,null,null,null,null,null,null,null,null,null,null,null,null,null,null,null,null,null,null,null,null,null,null,null,null,null,null,null,null,null,null,null,null,null,null,null,null,null,null,null,null,null,null,null,null,null,null,null,null,null,null,null,null,null,null,null,null,null,null,null,null,null,null,null,null,null,null,null,"JQ555 M.Fish Chilli",2]
[{"$f":"IFERROR(IF(INDIRECT($A$14&ROW())<>\"\",COUNTIF(Summary!$B$30:$B$1094,INDIRECT($A$14&ROW())),\"\"),\"\")","v":""},null,null,null,null,null,null,null,null,null,null,null,null,null,null,null,null,null,null,null,null,null,null,null,null,null,null,null,null,null,null,null,null,null,null,null,null,null,null,null,null,null,null,null,null,null,null,null,null,null,null,null,null,null,null,null,null,null,null,null,null,null,null,null,null,null,null,null,null,null,null,null,null,null,null,null,null,null,null,null,null,null,null,null,null,null,null,null,null,null,null,"JQ556 M.Fish Lady's F",2]
[{"$f":"IFERROR(IF(INDIRECT($A$14&ROW())<>\"\",COUNTIF(Summary!$B$30:$B$1094,INDIRECT($A$14&ROW())),\"\"),\"\")","v":""},null,null,null,null,null,null,null,null,null,null,null,null,null,null,null,null,null,null,null,null,null,null,null,null,null,null,null,null,null,null,null,null,null,null,null,null,null,null,null,null,null,null,null,null,null,null,null,null,null,null,null,null,null,null,null,null,null,null,null,null,null,null,null,null,null,null,null,null,null,null,null,null,null,null,null,null,null,null,null,null,null,null,null,null,null,null,null,null,null,null,"JQ557 Chrisy Beabcurd",11]
[{"$f":"IFERROR(IF(INDIRECT($A$14&ROW())<>\"\",COUNTIF(Summary!$B$30:$B$1094,INDIRECT($A$14&ROW())),\"\"),\"\")","v":""},null,null,null,null,null,null,null,null,null,null,null,null,null,null,null,null,null,null,null,null,null,null,null,null,null,null,null,null,null,null,null,null,null,null,null,null,null,null,null,null,null,null,null,null,null,null,null,null,null,null,null,null,null,null,null,null,null,null,null,null,null,null,null,null,null,null,null,null,null,null,null,null,null,null,null,null,null,null,null,null,null,null,null,null,null,null,null,null,null,null,"JQ558 Quail Eggs",13]
[{"$f":"IFERROR(IF(INDIRECT($A$14&ROW())<>\"\",COUNTIF(Summary!$B$30:$B$1094,INDIRECT($A$14&ROW())),\"\"),\"\")","v":""},null,null,null,null,null,null,null,null,null,null,null,null,null,null,null,null,null,null,null,null,null,null,null,null,null,null,null,null,null,null,null,null,null,null,null,null,null,null,null,null,null,null,null,null,null,null,null,null,null,null,null,null,null,null,null,null,null,null,null,null,null,null,null,null,null,null,null,null,null,null,null,null,null,null,null,null,null,null,null,null,null,null,null,null,null,null,null,null,null,null,"JQ559 Fried Wanton",8]
[{"$f":"IFERROR(IF(INDIRECT($A$14&ROW())<>\"\",COUNTIF(Summary!$B$30:$B$1094,INDIRECT($A$14&ROW())),\"\"),\"\")","v":""},null,null,null,null,null,null,null,null,null,null,null,null,null,null,null,null,null,null,null,null,null,null,null,null,null,null,null,null,null,null,null,null,null,null,null,null,null,null,null,null,null,null,null,null,null,null,null,null,null,null,null,null,null,null,null,null,null,null,null,null,null,null,null,null,null,null,null,null,null,null,null,null,null,null,null,null,null,null,null,null,null,null,null,null,null,null,null,null,null,null,"JQ560 L.G.Potato Samos",2]
[{"$f":"IFERROR(IF(INDIRECT($A$14&ROW())<>\"\",COUNTIF(Summary!$B$30:$B$1094,INDIRECT($A$14&ROW())),\"\"),\"\")","v":""},null,null,null,null,null,null,null,null,null,null,null,null,null,null,null,null,null,null,null,null,null,null,null,null,null,null,null,null,null,null,null,null,null,null,null,null,null,null,null,null,null,null,null,null,null,null,null,null,null,null,null,null,null,null,null,null,null,null,null,null,null,null,null,null,null,null,null,null,null,null,null,null,null,null,null,null,null,null,null,null,null,null,null,null,null,null,null,null,null,null,"JQ561 F.Vege Ball",1]
[{"$f":"IFERROR(IF(INDIRECT($A$14&ROW())<>\"\",COUNTIF(Summary!$B$30:$B$1094,INDIRECT($A$14&ROW())),\"\"),\"\")","v":""},null,null,null,null,null,null,null,null,null,null,null,null,null,null,null,null,null,null,null,null,null,null,null,null,null,null,null,null,null,null,null,null,null,null,null,null,null,null,null,null,null,null,null,null,null,null,null,null,null,null,null,null,null,null,null,null,null,null,null,null,null,null,null,null,null,null,null,null,null,null,null,null,null,null,null,null,null,null,null,null,null,null,null,null,null,null,null,null,null,null,"JQ563 Seafood Tofu",3]
[{"$f":"IFERROR(IF(INDIRECT($A$14&ROW())<>\"\",COUNTIF(Summary!$B$30:$B$1094,INDIRECT($A$14&ROW())),\"\"),\"\")","v":""},null,null,null,null,null,null,null,null,null,null,null,null,null,null,null,null,null,null,null,null,null,null,null,null,null,null,null,null,null,null,null,null,null,null,null,null,null,null,null,null,null,null,null,null,null,null,null,null,null,null,null,null,null,null,null,null,null,null,null,null,null,null,null,null,null,null,null,null,null,null,null,null,null,null,null,null,null,null,null,null,null,null,null,null,null,null,null,null,null,null,"JQ564 Spring Roll",1]
[{"$f":"IFERROR(IF(INDIRECT($A$14&ROW())<>\"\",COUNTIF(Summary!$B$30:$B$1094,INDIRECT($A$14&ROW())),\"\"),\"\")","v":""},null,null,null,null,null,null,null,null,null,null,null,null,null,null,null,null,null,null,null,null,null,null,null,null,null,null,null,null,null,null,null,null,null,null,null,null,null,null,null,null,null,null,null,null,null,null,null,null,null,null,null,null,null,null,null,null,null,null,null,null,null,null,null,null,null,null,null,null,null,null,null,null,null,null,null,null,null,null,null,null,null,null,null,null,null,null,null,null,null,null,"JQ565 Quail Century Eg",3]
[{"$f":"IFERROR(IF(INDIRECT($A$14&ROW())<>\"\",COUNTIF(Summary!$B$30:$B$1094,INDIRECT($A$14&ROW())),\"\"),\"\")","v":""},null,null,null,null,null,null,null,null,null,null,null,null,null,null,null,null,null,null,null,null,null,null,null,null,null,null,null,null,null,null,null,null,null,null,null,null,null,null,null,null,null,null,null,null,null,null,null,null,null,null,null,null,null,null,null,null,null,null,null,null,null,null,null,null,null,null,null,null,null,null,null,null,null,null,null,null,null,null,null,null,null,null,null,null,null,null,null,null,null,null,"JQ566 Thai Roll",4]
[{"$f":"IFERROR(IF(INDIRECT($A$14&ROW())<>\"\",COUNTIF(Summary!$B$30:$B$1094,INDIRECT($A$14&ROW())),\"\"),\"\")","v":""},null,null,null,null,null,null,null,null,null,null,null,null,null,null,null,null,null,null,null,null,null,null,null,null,null,null,null,null,null,null,null,null,null,null,null,null,null,null,null,null,null,null,null,null,null,null,null,null,null,null,null,null,null,null,null,null,null,null,null,null,null,null,null,null,null,null,null,null,null,null,null,null,null,null,null,null,null,null,null,null,null,null,null,null,null,null,null,null,null,null,"JQ567 Cheese S.Tofu",2]
[{"$f":"IFERROR(IF(INDIRECT($A$14&ROW())<>\"\",COUNTIF(Summary!$B$30:$B$1094,INDIRECT($A$14&ROW())),\"\"),\"\")","v":""},null,null,null,null,null,null,null,null,null,null,null,null,null,null,null,null,null,null,null,null,null,null,null,null,null,null,null,null,null,null,null,null,null,null,null,null,null,null,null,null,null,null,null,null,null,null,null,null,null,null,null,null,null,null,null,null,null,null,null,null,null,null,null,null,null,null,null,null,null,null,null,null,null,null,null,null,null,null,null,null,null,null,null,null,null,null,null,null,null,null,"JQ568 Rice Skin  Roll",13]
[{"$f":"IFERROR(IF(INDIRECT($A$14&ROW())<>\"\",COUNTIF(Summary!$B$30:$B$1094,INDIRECT($A$14&ROW())),\"\"),\"\")","v":""},null,null,null,null,null,null,null,null,null,null,null,null,null,null,null,null,null,null,null,null,null,null,null,null,null,null,null,null,null,null,null,null,null,null,null,null,null,null,null,null,null,null,null,null,null,null,null,null,null,null,null,null,null,null,null,null,null,null,null,null,null,null,null,null,null,null,null,null,null,null,null,null,null,null,null,null,null,null,null,null,null,null,null,null,null,null,null,null,null,null,"JR01 PACKAGE A",1]
[{"$f":"IFERROR(IF(INDIRECT($A$14&ROW())<>\"\",COUNTIF(Summary!$B$30:$B$1094,INDIRECT($A$14&ROW())),\"\"),\"\")","v":""},null,null,null,null,null,null,null,null,null,null,null,null,null,null,null,null,null,null,null,null,null,null,null,null,null,null,null,null,null,null,null,null,null,null,null,null,null,null,null,null,null,null,null,null,null,null,null,null,null,null,null,null,null,null,null,null,null,null,null,null,null,null,null,null,null,null,null,null,null,null,null,null,null,null,null,null,null,null,null,null,null,null,null,null,null,null,null,null,null,null,"JR02 PACKAGE B",1]
[{"$f":"IFERROR(IF(INDIRECT($A$14&ROW())<>\"\",COUNTIF(Summary!$B$30:$B$1094,INDIRECT($A$14&ROW())),\"\"),\"\")","v":""},null,null,null,null,null,null,null,null,null,null,null,null,null,null,null,null,null,null,null,null,null,null,null,null,null,null,null,null,null,null,null,null,null,null,null,null,null,null,null,null,null,null,null,null,null,null,null,null,null,null,null,null,null,null,null,null,null,null,null,null,null,null,null,null,null,null,null,null,null,null,null,null,null,null,null,null,null,null,null,null,null,null,null,null,null,null,null,null,null,null,"JS101 Colorless Stick",191]
[{"$f":"IFERROR(IF(INDIRECT($A$14&ROW())<>\"\",COUNTIF(Summary!$B$30:$B$1094,INDIRECT($A$14&ROW())),\"\"),\"\")","v":""},null,null,null,null,null,null,null,null,null,null,null,null,null,null,null,null,null,null,null,null,null,null,null,null,null,null,null,null,null,null,null,null,null,null,null,null,null,null,null,null,null,null,null,null,null,null,null,null,null,null,null,null,null,null,null,null,null,null,null,null,null,null,null,null,null,null,null,null,null,null,null,null,null,null,null,null,null,null,null,null,null,null,null,null,null,null,null,null,null,null,"JS102 Blue Color Stick",175]
[{"$f":"IFERROR(IF(INDIRECT($A$14&ROW())<>\"\",COUNTIF(Summary!$B$30:$B$1094,INDIRECT($A$14&ROW())),\"\"),\"\")","v":""},null,null,null,null,null,null,null,null,null,null,null,null,null,null,null,null,null,null,null,null,null,null,null,null,null,null,null,null,null,null,null,null,null,null,null,null,null,null,null,null,null,null,null,null,null,null,null,null,null,null,null,null,null,null,null,null,null,null,null,null,null,null,null,null,null,null,null,null,null,null,null,null,null,null,null,null,null,null,null,null,null,null,null,null,null,null,null,null,null,null,"JS103 Red Color Stick",171]
[{"$f":"IFERROR(IF(INDIRECT($A$14&ROW())<>\"\",COUNTIF(Summary!$B$30:$B$1094,INDIRECT($A$14&ROW())),\"\"),\"\")","v":""},null,null,null,null,null,null,null,null,null,null,null,null,null,null,null,null,null,null,null,null,null,null,null,null,null,null,null,null,null,null,null,null,null,null,null,null,null,null,null,null,null,null,null,null,null,null,null,null,null,null,null,null,null,null,null,null,null,null,null,null,null,null,null,null,null,null,null,null,null,null,null,null,null,null,null,null,null,null,null,null,null,null,null,null,null,null,null,null,null,null,"JS104 Green Color .S",129]
[{"$f":"IFERROR(IF(INDIRECT($A$14&ROW())<>\"\",COUNTIF(Summary!$B$30:$B$1094,INDIRECT($A$14&ROW())),\"\"),\"\")","v":""},null,null,null,null,null,null,null,null,null,null,null,null,null,null,null,null,null,null,null,null,null,null,null,null,null,null,null,null,null,null,null,null,null,null,null,null,null,null,null,null,null,null,null,null,null,null,null,null,null,null,null,null,null,null,null,null,null,null,null,null,null,null,null,null,null,null,null,null,null,null,null,null,null,null,null,null,null,null,null,null,null,null,null,null,null,null,null,null,null,null,"JS105 Black Color .S",55]
[{"$f":"IFERROR(IF(INDIRECT($A$14&ROW())<>\"\",COUNTIF(Summary!$B$30:$B$1094,INDIRECT($A$14&ROW())),\"\"),\"\")","v":""},null,null,null,null,null,null,null,null,null,null,null,null,null,null,null,null,null,null,null,null,null,null,null,null,null,null,null,null,null,null,null,null,null,null,null,null,null,null,null,null,null,null,null,null,null,null,null,null,null,null,null,null,null,null,null,null,null,null,null,null,null,null,null,null,null,null,null,null,null,null,null,null,null,null,null,null,null,null,null,null,null,null,null,null,null,null,null,null,null,null,"ZAA01 GUINNESS EX BKT",8]
[{"$f":"IFERROR(IF(INDIRECT($A$14&ROW())<>\"\",COUNTIF(Summary!$B$30:$B$1094,INDIRECT($A$14&ROW())),\"\"),\"\")","v":""},null,null,null,null,null,null,null,null,null,null,null,null,null,null,null,null,null,null,null,null,null,null,null,null,null,null,null,null,null,null,null,null,null,null,null,null,null,null,null,null,null,null,null,null,null,null,null,null,null,null,null,null,null,null,null,null,null,null,null,null,null,null,null,null,null,null,null,null,null,null,null,null,null,null,null,null,null,null,null,null,null,null,null,null,null,null,null,null,null,null,"ZAA02 HEINEKEN EX BKT",57]
[{"$f":"IFERROR(IF(INDIRECT($A$14&ROW())<>\"\",COUNTIF(Summary!$B$30:$B$1094,INDIRECT($A$14&ROW())),\"\"),\"\")","v":""},null,null,null,null,null,null,null,null,null,null,null,null,null,null,null,null,null,null,null,null,null,null,null,null,null,null,null,null,null,null,null,null,null,null,null,null,null,null,null,null,null,null,null,null,null,null,null,null,null,null,null,null,null,null,null,null,null,null,null,null,null,null,null,null,null,null,null,null,null,null,null,null,null,null,null,null,null,null,null,null,null,null,null,null,null,null,null,null,null,null,"ZAB01 1201:SFD STICK",22]
[{"$f":"IFERROR(IF(INDIRECT($A$14&ROW())<>\"\",COUNTIF(Summary!$B$30:$B$1094,INDIRECT($A$14&ROW())),\"\"),\"\")","v":""},null,null,null,null,null,null,null,null,null,null,null,null,null,null,null,null,null,null,null,null,null,null,null,null,null,null,null,null,null,null,null,null,null,null,null,null,null,null,null,null,null,null,null,null,null,null,null,null,null,null,null,null,null,null,null,null,null,null,null,null,null,null,null,null,null,null,null,null,null,null,null,null,null,null,null,null,null,null,null,null,null,null,null,null,null,null,null,null,null,null,"ZAB02 1202:FRIES",168]
[{"$f":"IFERROR(IF(INDIRECT($A$14&ROW())<>\"\",COUNTIF(Summary!$B$30:$B$1094,INDIRECT($A$14&ROW())),\"\"),\"\")","v":""},null,null,null,null,null,null,null,null,null,null,null,null,null,null,null,null,null,null,null,null,null,null,null,null,null,null,null,null,null,null,null,null,null,null,null,null,null,null,null,null,null,null,null,null,null,null,null,null,null,null,null,null,null,null,null,null,null,null,null,null,null,null,null,null,null,null,null,null,null,null,null,null,null,null,null,null,null,null,null,null,null,null,null,null,null,null,null,null,null,null,"ZAB03 1203:GOLD MROOM",34]
[{"$f":"IFERROR(IF(INDIRECT($A$14&ROW())<>\"\",COUNTIF(Summary!$B$30:$B$1094,INDIRECT($A$14&ROW())),\"\"),\"\")","v":""},null,null,null,null,null,null,null,null,null,null,null,null,null,null,null,null,null,null,null,null,null,null,null,null,null,null,null,null,null,null,null,null,null,null,null,null,null,null,null,null,null,null,null,null,null,null,null,null,null,null,null,null,null,null,null,null,null,null,null,null,null,null,null,null,null,null,null,null,null,null,null,null,null,null,null,null,null,null,null,null,null,null,null,null,null,null,null,null,null,null,"ZAB04 1204:F.BALL",41]
[{"$f":"IFERROR(IF(INDIRECT($A$14&ROW())<>\"\",COUNTIF(Summary!$B$30:$B$1094,INDIRECT($A$14&ROW())),\"\"),\"\")","v":""},null,null,null,null,null,null,null,null,null,null,null,null,null,null,null,null,null,null,null,null,null,null,null,null,null,null,null,null,null,null,null,null,null,null,null,null,null,null,null,null,null,null,null,null,null,null,null,null,null,null,null,null,null,null,null,null,null,null,null,null,null,null,null,null,null,null,null,null,null,null,null,null,null,null,null,null,null,null,null,null,null,null,null,null,null,null,null,null,null,null,"ZAB06 1206:SPRING RL",50]
[{"$f":"IFERROR(IF(INDIRECT($A$14&ROW())<>\"\",COUNTIF(Summary!$B$30:$B$1094,INDIRECT($A$14&ROW())),\"\"),\"\")","v":""},null,null,null,null,null,null,null,null,null,null,null,null,null,null,null,null,null,null,null,null,null,null,null,null,null,null,null,null,null,null,null,null,null,null,null,null,null,null,null,null,null,null,null,null,null,null,null,null,null,null,null,null,null,null,null,null,null,null,null,null,null,null,null,null,null,null,null,null,null,null,null,null,null,null,null,null,null,null,null,null,null,null,null,null,null,null,null,null,null,null,"ZAB07 1207:SAUSAGE",89]
[{"$f":"IFERROR(IF(INDIRECT($A$14&ROW())<>\"\",COUNTIF(Summary!$B$30:$B$1094,INDIRECT($A$14&ROW())),\"\"),\"\")","v":""},null,null,null,null,null,null,null,null,null,null,null,null,null,null,null,null,null,null,null,null,null,null,null,null,null,null,null,null,null,null,null,null,null,null,null,null,null,null,null,null,null,null,null,null,null,null,null,null,null,null,null,null,null,null,null,null,null,null,null,null,null,null,null,null,null,null,null,null,null,null,null,null,null,null,null,null,null,null,null,null,null,null,null,null,null,null,null,null,null,null,"ZAC02 1302:NUGGET",62]
[{"$f":"IFERROR(IF(INDIRECT($A$14&ROW())<>\"\",COUNTIF(Summary!$B$30:$B$1094,INDIRECT($A$14&ROW())),\"\"),\"\")","v":""},null,null,null,null,null,null,null,null,null,null,null,null,null,null,null,null,null,null,null,null,null,null,null,null,null,null,null,null,null,null,null,null,null,null,null,null,null,null,null,null,null,null,null,null,null,null,null,null,null,null,null,null,null,null,null,null,null,null,null,null,null,null,null,null,null,null,null,null,null,null,null,null,null,null,null,null,null,null,null,null,null,null,null,null,null,null,null,null,null,null,"ZAC03 1303:CHK WING",74]
[{"$f":"IFERROR(IF(INDIRECT($A$14&ROW())<>\"\",COUNTIF(Summary!$B$30:$B$1094,INDIRECT($A$14&ROW())),\"\"),\"\")","v":""},null,null,null,null,null,null,null,null,null,null,null,null,null,null,null,null,null,null,null,null,null,null,null,null,null,null,null,null,null,null,null,null,null,null,null,null,null,null,null,null,null,null,null,null,null,null,null,null,null,null,null,null,null,null,null,null,null,null,null,null,null,null,null,null,null,null,null,null,null,null,null,null,null,null,null,null,null,null,null,null,null,null,null,null,null,null,null,null,null,null,"ZAC04 1304:IKAN BILIS",9]
[{"$f":"IFERROR(IF(INDIRECT($A$14&ROW())<>\"\",COUNTIF(Summary!$B$30:$B$1094,INDIRECT($A$14&ROW())),\"\"),\"\")","v":""},null,null,null,null,null,null,null,null,null,null,null,null,null,null,null,null,null,null,null,null,null,null,null,null,null,null,null,null,null,null,null,null,null,null,null,null,null,null,null,null,null,null,null,null,null,null,null,null,null,null,null,null,null,null,null,null,null,null,null,null,null,null,null,null,null,null,null,null,null,null,null,null,null,null,null,null,null,null,null,null,null,null,null,null,null,null,null,null,null,null,"ZAC05 1305:THAI RL",16]
[{"$f":"IFERROR(IF(INDIRECT($A$14&ROW())<>\"\",COUNTIF(Summary!$B$30:$B$1094,INDIRECT($A$14&ROW())),\"\"),\"\")","v":""},null,null,null,null,null,null,null,null,null,null,null,null,null,null,null,null,null,null,null,null,null,null,null,null,null,null,null,null,null,null,null,null,null,null,null,null,null,null,null,null,null,null,null,null,null,null,null,null,null,null,null,null,null,null,null,null,null,null,null,null,null,null,null,null,null,null,null,null,null,null,null,null,null,null,null,null,null,null,null,null,null,null,null,null,null,null,null,null,null,null,"ZAC07 1307:D/F C.WINGS",37]
[{"$f":"IFERROR(IF(INDIRECT($A$14&ROW())<>\"\",COUNTIF(Summary!$B$30:$B$1094,INDIRECT($A$14&ROW())),\"\"),\"\")","v":""},null,null,null,null,null,null,null,null,null,null,null,null,null,null,null,null,null,null,null,null,null,null,null,null,null,null,null,null,null,null,null,null,null,null,null,null,null,null,null,null,null,null,null,null,null,null,null,null,null,null,null,null,null,null,null,null,null,null,null,null,null,null,null,null,null,null,null,null,null,null,null,null,null,null,null,null,null,null,null,null,null,null,null,null,null,null,null,null,null,null,"ZAC08 1308:C/CALAMARI",29]
[{"$f":"IFERROR(IF(INDIRECT($A$14&ROW())<>\"\",COUNTIF(Summary!$B$30:$B$1094,INDIRECT($A$14&ROW())),\"\"),\"\")","v":""},null,null,null,null,null,null,null,null,null,null,null,null,null,null,null,null,null,null,null,null,null,null,null,null,null,null,null,null,null,null,null,null,null,null,null,null,null,null,null,null,null,null,null,null,null,null,null,null,null,null,null,null,null,null,null,null,null,null,null,null,null,null,null,null,null,null,null,null,null,null,null,null,null,null,null,null,null,null,null,null,null,null,null,null,null,null,null,null,null,null,"ZAC09 1309:Mc /O.RINGS",17]
[{"$f":"IFERROR(IF(INDIRECT($A$14&ROW())<>\"\",COUNTIF(Summary!$B$30:$B$1094,INDIRECT($A$14&ROW())),\"\"),\"\")","v":""},null,null,null,null,null,null,null,null,null,null,null,null,null,null,null,null,null,null,null,null,null,null,null,null,null,null,null,null,null,null,null,null,null,null,null,null,null,null,null,null,null,null,null,null,null,null,null,null,null,null,null,null,null,null,null,null,null,null,null,null,null,null,null,null,null,null,null,null,null,null,null,null,null,null,null,null,null,null,null,null,null,null,null,null,null,null,null,null,null,null,"ZAC10 1310:Mc SPIRAL/F",17]
[{"$f":"IFERROR(IF(INDIRECT($A$14&ROW())<>\"\",COUNTIF(Summary!$B$30:$B$1094,INDIRECT($A$14&ROW())),\"\"),\"\")","v":""},null,null,null,null,null,null,null,null,null,null,null,null,null,null,null,null,null,null,null,null,null,null,null,null,null,null,null,null,null,null,null,null,null,null,null,null,null,null,null,null,null,null,null,null,null,null,null,null,null,null,null,null,null,null,null,null,null,null,null,null,null,null,null,null,null,null,null,null,null,null,null,null,null,null,null,null,null,null,null,null,null,null,null,null,null,null,null,null,null,null,"ZAC11 1311:Mc H/SMILES",6]
[{"$f":"IFERROR(IF(INDIRECT($A$14&ROW())<>\"\",COUNTIF(Summary!$B$30:$B$1094,INDIRECT($A$14&ROW())),\"\"),\"\")","v":""},null,null,null,null,null,null,null,null,null,null,null,null,null,null,null,null,null,null,null,null,null,null,null,null,null,null,null,null,null,null,null,null,null,null,null,null,null,null,null,null,null,null,null,null,null,null,null,null,null,null,null,null,null,null,null,null,null,null,null,null,null,null,null,null,null,null,null,null,null,null,null,null,null,null,null,null,null,null,null,null,null,null,null,null,null,null,null,null,null,null,"ZAC12 1312:Mc HASH/B",19]
[{"$f":"IFERROR(IF(INDIRECT($A$14&ROW())<>\"\",COUNTIF(Summary!$B$30:$B$1094,INDIRECT($A$14&ROW())),\"\"),\"\")","v":""},null,null,null,null,null,null,null,null,null,null,null,null,null,null,null,null,null,null,null,null,null,null,null,null,null,null,null,null,null,null,null,null,null,null,null,null,null,null,null,null,null,null,null,null,null,null,null,null,null,null,null,null,null,null,null,null,null,null,null,null,null,null,null,null,null,null,null,null,null,null,null,null,null,null,null,null,null,null,null,null,null,null,null,null,null,null,null,null,null,null,"ZAD01 COLD",102]
[{"$f":"IFERROR(IF(INDIRECT($A$14&ROW())<>\"\",COUNTIF(Summary!$B$30:$B$1094,INDIRECT($A$14&ROW())),\"\"),\"\")","v":""},null,null,null,null,null,null,null,null,null,null,null,null,null,null,null,null,null,null,null,null,null,null,null,null,null,null,null,null,null,null,null,null,null,null,null,null,null,null,null,null,null,null,null,null,null,null,null,null,null,null,null,null,null,null,null,null,null,null,null,null,null,null,null,null,null,null,null,null,null,null,null,null,null,null,null,null,null,null,null,null,null,null,null,null,null,null,null,null,null,null,"ZAD02 HOT",98]
[{"$f":"IFERROR(IF(INDIRECT($A$14&ROW())<>\"\",COUNTIF(Summary!$B$30:$B$1094,INDIRECT($A$14&ROW())),\"\"),\"\")","v":""},null,null,null,null,null,null,null,null,null,null,null,null,null,null,null,null,null,null,null,null,null,null,null,null,null,null,null,null,null,null,null,null,null,null,null,null,null,null,null,null,null,null,null,null,null,null,null,null,null,null,null,null,null,null,null,null,null,null,null,null,null,null,null,null,null,null,null,null,null,null,null,null,null,null,null,null,null,null,null,null,null,null,null,null,null,null,null,null,null,null,"ZAD03 WARM",553]
[{"$f":"IFERROR(IF(INDIRECT($A$14&ROW())<>\"\",COUNTIF(Summary!$B$30:$B$1094,INDIRECT($A$14&ROW())),\"\"),\"\")","v":""},null,null,null,null,null,null,null,null,null,null,null,null,null,null,null,null,null,null,null,null,null,null,null,null,null,null,null,null,null,null,null,null,null,null,null,null,null,null,null,null,null,null,null,null,null,null,null,null,null,null,null,null,null,null,null,null,null,null,null,null,null,null,null,null,null,null,null,null,null,null,null,null,null,null,null,null,null,null,null,null,null,null,null,null,null,null,null,null,null,null,"ZAD04 LESS ICE",1259]
[{"$f":"IFERROR(IF(INDIRECT($A$14&ROW())<>\"\",COUNTIF(Summary!$B$30:$B$1094,INDIRECT($A$14&ROW())),\"\"),\"\")","v":""},null,null,null,null,null,null,null,null,null,null,null,null,null,null,null,null,null,null,null,null,null,null,null,null,null,null,null,null,null,null,null,null,null,null,null,null,null,null,null,null,null,null,null,null,null,null,null,null,null,null,null,null,null,null,null,null,null,null,null,null,null,null,null,null,null,null,null,null,null,null,null,null,null,null,null,null,null,null,null,null,null,null,null,null,null,null,null,null,null,null,"ZAD05 MORE ICE",4]
[{"$f":"IFERROR(IF(INDIRECT($A$14&ROW())<>\"\",COUNTIF(Summary!$B$30:$B$1094,INDIRECT($A$14&ROW())),\"\"),\"\")","v":""},null,null,null,null,null,null,null,null,null,null,null,null,null,null,null,null,null,null,null,null,null,null,null,null,null,null,null,null,null,null,null,null,null,null,null,null,null,null,null,null,null,null,null,null,null,null,null,null,null,null,null,null,null,null,null,null,null,null,null,null,null,null,null,null,null,null,null,null,null,null,null,null,null,null,null,null,null,null,null,null,null,null,null,null,null,null,null,null,null,null,"ZAD06 NO ICE",419]
[{"$f":"IFERROR(IF(INDIRECT($A$14&ROW())<>\"\",COUNTIF(Summary!$B$30:$B$1094,INDIRECT($A$14&ROW())),\"\"),\"\")","v":""},null,null,null,null,null,null,null,null,null,null,null,null,null,null,null,null,null,null,null,null,null,null,null,null,null,null,null,null,null,null,null,null,null,null,null,null,null,null,null,null,null,null,null,null,null,null,null,null,null,null,null,null,null,null,null,null,null,null,null,null,null,null,null,null,null,null,null,null,null,null,null,null,null,null,null,null,null,null,null,null,null,null,null,null,null,null,null,null,null,null,"ZAD07 LESS SWEET",111]
[{"$f":"IFERROR(IF(INDIRECT($A$14&ROW())<>\"\",COUNTIF(Summary!$B$30:$B$1094,INDIRECT($A$14&ROW())),\"\"),\"\")","v":""},null,null,null,null,null,null,null,null,null,null,null,null,null,null,null,null,null,null,null,null,null,null,null,null,null,null,null,null,null,null,null,null,null,null,null,null,null,null,null,null,null,null,null,null,null,null,null,null,null,null,null,null,null,null,null,null,null,null,null,null,null,null,null,null,null,null,null,null,null,null,null,null,null,null,null,null,null,null,null,null,null,null,null,null,null,null,null,null,null,null,"ZAD08 LESS OILY",1]
[{"$f":"IFERROR(IF(INDIRECT($A$14&ROW())<>\"\",COUNTIF(Summary!$B$30:$B$1094,INDIRECT($A$14&ROW())),\"\"),\"\")","v":""},null,null,null,null,null,null,null,null,null,null,null,null,null,null,null,null,null,null,null,null,null,null,null,null,null,null,null,null,null,null,null,null,null,null,null,null,null,null,null,null,null,null,null,null,null,null,null,null,null,null,null,null,null,null,null,null,null,null,null,null,null,null,null,null,null,null,null,null,null,null,null,null,null,null,null,null,null,null,null,null,null,null,null,null,null,null,null,null,null,null,"ZAD10 LESS SPICY",1]
[{"$f":"IFERROR(IF(INDIRECT($A$14&ROW())<>\"\",COUNTIF(Summary!$B$30:$B$1094,INDIRECT($A$14&ROW())),\"\"),\"\")","v":""},null,null,null,null,null,null,null,null,null,null,null,null,null,null,null,null,null,null,null,null,null,null,null,null,null,null,null,null,null,null,null,null,null,null,null,null,null,null,null,null,null,null,null,null,null,null,null,null,null,null,null,null,null,null,null,null,null,null,null,null,null,null,null,null,null,null,null,null,null,null,null,null,null,null,null,null,null,null,null,null,null,null,null,null,null,null,null,null,null,null,"ZAD11 MORE SPICY",1]
[{"$f":"IFERROR(IF(INDIRECT($A$14&ROW())<>\"\",COUNTIF(Summary!$B$30:$B$1094,INDIRECT($A$14&ROW())),\"\"),\"\")","v":""},null,null,null,null,null,null,null,null,null,null,null,null,null,null,null,null,null,null,null,null,null,null,null,null,null,null,null,null,null,null,null,null,null,null,null,null,null,null,null,null,null,null,null,null,null,null,null,null,null,null,null,null,null,null,null,null,null,null,null,null,null,null,null,null,null,null,null,null,null,null,null,null,null,null,null,null,null,null,null,null,null,null,null,null,null,null,null,null,null,null,"ZAD12 NO VEGGIE",2]
[{"$f":"IFERROR(IF(INDIRECT($A$14&ROW())<>\"\",COUNTIF(Summary!$B$30:$B$1094,INDIRECT($A$14&ROW())),\"\"),\"\")","v":""},null,null,null,null,null,null,null,null,null,null,null,null,null,null,null,null,null,null,null,null,null,null,null,null,null,null,null,null,null,null,null,null,null,null,null,null,null,null,null,null,null,null,null,null,null,null,null,null,null,null,null,null,null,null,null,null,null,null,null,null,null,null,null,null,null,null,null,null,null,null,null,null,null,null,null,null,null,null,null,null,null,null,null,null,null,null,null,null,null,null,"ZAD13 ADD LEMON",289]
[{"$f":"IFERROR(IF(INDIRECT($A$14&ROW())<>\"\",COUNTIF(Summary!$B$30:$B$1094,INDIRECT($A$14&ROW())),\"\"),\"\")","v":""},null,null,null,null,null,null,null,null,null,null,null,null,null,null,null,null,null,null,null,null,null,null,null,null,null,null,null,null,null,null,null,null,null,null,null,null,null,null,null,null,null,null,null,null,null,null,null,null,null,null,null,null,null,null,null,null,null,null,null,null,null,null,null,null,null,null,null,null,null,null,null,null,null,null,null,null,null,null,null,null,null,null,null,null,null,null,null,null,null,null,"ZAD14 MORE SWEET",24]
[{"$f":"IFERROR(IF(INDIRECT($A$14&ROW())<>\"\",COUNTIF(Summary!$B$30:$B$1094,INDIRECT($A$14&ROW())),\"\"),\"\")","v":""},null,null,null,null,null,null,null,null,null,null,null,null,null,null,null,null,null,null,null,null,null,null,null,null,null,null,null,null,null,null,null,null,null,null,null,null,null,null,null,null,null,null,null,null,null,null,null,null,null,null,null,null,null,null,null,null,null,null,null,null,null,null,null,null,null,null,null,null,null,null,null,null,null,null,null,null,null,null,null,null,null,null,null,null,null,null,null,null,null,null,"ZAD15 VEGGIE ONLY",4]
[{"$f":"IFERROR(IF(INDIRECT($A$14&ROW())<>\"\",COUNTIF(Summary!$B$30:$B$1094,INDIRECT($A$14&ROW())),\"\"),\"\")","v":""},null,null,null,null,null,null,null,null,null,null,null,null,null,null,null,null,null,null,null,null,null,null,null,null,null,null,null,null,null,null,null,null,null,null,null,null,null,null,null,null,null,null,null,null,null,null,null,null,null,null,null,null,null,null,null,null,null,null,null,null,null,null,null,null,null,null,null,null,null,null,null,null,null,null,null,null,null,null,null,null,null,null,null,null,null,null,null,null,null,null,"ZAD16 1 ICE CUTE",66]
[{"$f":"IFERROR(IF(INDIRECT($A$14&ROW())<>\"\",COUNTIF(Summary!$B$30:$B$1094,INDIRECT($A$14&ROW())),\"\"),\"\")","v":""},null,null,null,null,null,null,null,null,null,null,null,null,null,null,null,null,null,null,null,null,null,null,null,null,null,null,null,null,null,null,null,null,null,null,null,null,null,null,null,null,null,null,null,null,null,null,null,null,null,null,null,null,null,null,null,null,null,null,null,null,null,null,null,null,null,null,null,null,null,null,null,null,null,null,null,null,null,null,null,null,null,null,null,null,null,null,null,null,null,null,"ZAD17 WITHOUT SUGAR",75]
[{"$f":"IFERROR(IF(INDIRECT($A$14&ROW())<>\"\",COUNTIF(Summary!$B$30:$B$1094,INDIRECT($A$14&ROW())),\"\"),\"\")","v":""},null,null,null,null,null,null,null,null,null,null,null,null,null,null,null,null,null,null,null,null,null,null,null,null,null,null,null,null,null,null,null,null,null,null,null,null,null,null,null,null,null,null,null,null,null,null,null,null,null,null,null,null,null,null,null,null,null,null,null,null,null,null,null,null,null,null,null,null,null,null,null,null,null,null,null,null,null,null,null,null,null,null,null,null,null,null,null,null,null,null,"ZAD19 KAU KAU",49]
[{"$f":"IFERROR(IF(INDIRECT($A$14&ROW())<>\"\",COUNTIF(Summary!$B$30:$B$1094,INDIRECT($A$14&ROW())),\"\"),\"\")","v":""},null,null,null,null,null,null,null,null,null,null,null,null,null,null,null,null,null,null,null,null,null,null,null,null,null,null,null,null,null,null,null,null,null,null,null,null,null,null,null,null,null,null,null,null,null,null,null,null,null,null,null,null,null,null,null,null,null,null,null,null,null,null,null,null,null,null,null,null,null,null,null,null,null,null,null,null,null,null,null,null,null,null,null,null,null,null,null,null,null,null,"ZAD20 JUG",250]
[{"$f":"IFERROR(IF(INDIRECT($A$14&ROW())<>\"\",COUNTIF(Summary!$B$30:$B$1094,INDIRECT($A$14&ROW())),\"\"),\"\")","v":""},null,null,null,null,null,null,null,null,null,null,null,null,null,null,null,null,null,null,null,null,null,null,null,null,null,null,null,null,null,null,null,null,null,null,null,null,null,null,null,null,null,null,null,null,null,null,null,null,null,null,null,null,null,null,null,null,null,null,null,null,null,null,null,null,null,null,null,null,null,null,null,null,null,null,null,null,null,null,null,null,null,null,null,null,null,null,null,null,null,null,"ZAD21 TAKE AWAY",17]
[{"$f":"IFERROR(IF(INDIRECT($A$14&ROW())<>\"\",COUNTIF(Summary!$B$30:$B$1094,INDIRECT($A$14&ROW())),\"\"),\"\")","v":""},null,null,null,null,null,null,null,null,null,null,null,null,null,null,null,null,null,null,null,null,null,null,null,null,null,null,null,null,null,null,null,null,null,null,null,null,null,null,null,null,null,null,null,null,null,null,null,null,null,null,null,null,null,null,null,null,null,null,null,null,null,null,null,null,null,null,null,null,null,null,null,null,null,null,null,null,null,null,null,null,null,null,null,null,null,null,null,null,null,null,"ZAD22 + SAUCE 1000",3]
[{"$f":"IFERROR(IF(INDIRECT($A$14&ROW())<>\"\",COUNTIF(Summary!$B$30:$B$1094,INDIRECT($A$14&ROW())),\"\"),\"\")","v":""},null,null,null,null,null,null,null,null,null,null,null,null,null,null,null,null,null,null,null,null,null,null,null,null,null,null,null,null,null,null,null,null,null,null,null,null,null,null,null,null,null,null,null,null,null,null,null,null,null,null,null,null,null,null,null,null,null,null,null,null,null,null,null,null,null,null,null,null,null,null,null,null,null,null,null,null,null,null,null,null,null,null,null,null,null,null,null,null,null,null,"ZAD24 + SAUCE BP",3]
[{"$f":"IFERROR(IF(INDIRECT($A$14&ROW())<>\"\",COUNTIF(Summary!$B$30:$B$1094,INDIRECT($A$14&ROW())),\"\"),\"\")","v":""},null,null,null,null,null,null,null,null,null,null,null,null,null,null,null,null,null,null,null,null,null,null,null,null,null,null,null,null,null,null,null,null,null,null,null,null,null,null,null,null,null,null,null,null,null,null,null,null,null,null,null,null,null,null,null,null,null,null,null,null,null,null,null,null,null,null,null,null,null,null,null,null,null,null,null,null,null,null,null,null,null,null,null,null,null,null,null,null,null,null,"ZAD25 + SAUCE BUTTER",3]
[{"$f":"IFERROR(IF(INDIRECT($A$14&ROW())<>\"\",COUNTIF(Summary!$B$30:$B$1094,INDIRECT($A$14&ROW())),\"\"),\"\")","v":""},null,null,null,null,null,null,null,null,null,null,null,null,null,null,null,null,null,null,null,null,null,null,null,null,null,null,null,null,null,null,null,null,null,null,null,null,null,null,null,null,null,null,null,null,null,null,null,null,null,null,null,null,null,null,null,null,null,null,null,null,null,null,null,null,null,null,null,null,null,null,null,null,null,null,null,null,null,null,null,null,null,null,null,null,null,null,null,null,null,null,"ZAD26 + CILLI PADI",2]
[{"$f":"IFERROR(IF(INDIRECT($A$14&ROW())<>\"\",COUNTIF(Summary!$B$30:$B$1094,INDIRECT($A$14&ROW())),\"\"),\"\")","v":""},null,null,null,null,null,null,null,null,null,null,null,null,null,null,null,null,null,null,null,null,null,null,null,null,null,null,null,null,null,null,null,null,null,null,null,null,null,null,null,null,null,null,null,null,null,null,null,null,null,null,null,null,null,null,null,null,null,null,null,null,null,null,null,null,null,null,null,null,null,null,null,null,null,null,null,null,null,null,null,null,null,null,null,null,null,null,null,null,null,null,"ZAD27 + SAUCE GS",1]
[{"$f":"IFERROR(IF(INDIRECT($A$14&ROW())<>\"\",COUNTIF(Summary!$B$30:$B$1094,INDIRECT($A$14&ROW())),\"\"),\"\")","v":""},null,null,null,null,null,null,null,null,null,null,null,null,null,null,null,null,null,null,null,null,null,null,null,null,null,null,null,null,null,null,null,null,null,null,null,null,null,null,null,null,null,null,null,null,null,null,null,null,null,null,null,null,null,null,null,null,null,null,null,null,null,null,null,null,null,null,null,null,null,null,null,null,null,null,null,null,null,null,null,null,null,null,null,null,null,null,null,null,null,null,"ZAD28 + SAUCE MAYO",1]
[{"$f":"IFERROR(IF(INDIRECT($A$14&ROW())<>\"\",COUNTIF(Summary!$B$30:$B$1094,INDIRECT($A$14&ROW())),\"\"),\"\")","v":""},null,null,null,null,null,null,null,null,null,null,null,null,null,null,null,null,null,null,null,null,null,null,null,null,null,null,null,null,null,null,null,null,null,null,null,null,null,null,null,null,null,null,null,null,null,null,null,null,null,null,null,null,null,null,null,null,null,null,null,null,null,null,null,null,null,null,null,null,null,null,null,null,null,null,null,null,null,null,null,null,null,null,null,null,null,null,null,null,null,null,"ZAD30 + SAUCE MR",4]
[{"$f":"IFERROR(IF(INDIRECT($A$14&ROW())<>\"\",COUNTIF(Summary!$B$30:$B$1094,INDIRECT($A$14&ROW())),\"\"),\"\")","v":""},null,null,null,null,null,null,null,null,null,null,null,null,null,null,null,null,null,null,null,null,null,null,null,null,null,null,null,null,null,null,null,null,null,null,null,null,null,null,null,null,null,null,null,null,null,null,null,null,null,null,null,null,null,null,null,null,null,null,null,null,null,null,null,null,null,null,null,null,null,null,null,null,null,null,null,null,null,null,null,null,null,null,null,null,null,null,null,null,null,null,"ZAD33 + SAUCE TOMATO",1]
[{"$f":"IFERROR(IF(INDIRECT($A$14&ROW())<>\"\",COUNTIF(Summary!$B$30:$B$1094,INDIRECT($A$14&ROW())),\"\"),\"\")","v":""},null,null,null,null,null,null,null,null,null,null,null,null,null,null,null,null,null,null,null,null,null,null,null,null,null,null,null,null,null,null,null,null,null,null,null,null,null,null,null,null,null,null,null,null,null,null,null,null,null,null,null,null,null,null,null,null,null,null,null,null,null,null,null,null,null,null,null,null,null,null,null,null,null,null,null,null,null,null,null,null,null,null,null,null,null,null,null,null,null,null,"ZAD34 + SAUCE TATAR",5]
[{"$f":"IFERROR(IF(INDIRECT($A$14&ROW())<>\"\",COUNTIF(Summary!$B$30:$B$1094,INDIRECT($A$14&ROW())),\"\"),\"\")","v":""},null,null,null,null,null,null,null,null,null,null,null,null,null,null,null,null,null,null,null,null,null,null,null,null,null,null,null,null,null,null,null,null,null,null,null,null,null,null,null,null,null,null,null,null,null,null,null,null,null,null,null,null,null,null,null,null,null,null,null,null,null,null,null,null,null,null,null,null,null,null,null,null,null,null,null,null,null,null,null,null,null,null,null,null,null,null,null,null,null,null,"ZAD36 BEER GLASS",588]
[{"$f":"IFERROR(IF(INDIRECT($A$14&ROW())<>\"\",COUNTIF(Summary!$B$30:$B$1094,INDIRECT($A$14&ROW())),\"\"),\"\")","v":""},null,null,null,null,null,null,null,null,null,null,null,null,null,null,null,null,null,null,null,null,null,null,null,null,null,null,null,null,null,null,null,null,null,null,null,null,null,null,null,null,null,null,null,null,null,null,null,null,null,null,null,null,null,null,null,null,null,null,null,null,null,null,null,null,null,null,null,null,null,null,null,null,null,null,null,null,null,null,null,null,null,null,null,null,null,null,null,null,null,null,"ZAD37 ICE BUCKET",211]
[{"$f":"IFERROR(IF(INDIRECT($A$14&ROW())<>\"\",COUNTIF(Summary!$B$30:$B$1094,INDIRECT($A$14&ROW())),\"\"),\"\")","v":""},null,null,null,null,null,null,null,null,null,null,null,null,null,null,null,null,null,null,null,null,null,null,null,null,null,null,null,null,null,null,null,null,null,null,null,null,null,null,null,null,null,null,null,null,null,null,null,null,null,null,null,null,null,null,null,null,null,null,null,null,null,null,null,null,null,null,null,null,null,null,null,null,null,null,null,null,null,null,null,null,null,null,null,null,null,null,null,null,null,null,"ZAE02 HEI MEM EX BKT",12]
[{"$f":"IFERROR(IF(INDIRECT($A$14&ROW())<>\"\",COUNTIF(Summary!$B$30:$B$1094,INDIRECT($A$14&ROW())),\"\"),\"\")","v":""},null,null,null,null,null,null,null,null,null,null,null,null,null,null,null,null,null,null,null,null,null,null,null,null,null,null,null,null,null,null,null,null,null,null,null,null,null,null,null,null,null,null,null,null,null,null,null,null,null,null,null,null,null,null,null,null,null,null,null,null,null,null,null,null,null,null,null,null,null,null,null,null,null,null,null,null,null,null,null,null,null,null,null,null,null,null,null,null,null,null,"ZZZZZ CHANGE K LUNCH"]
[{"$f":"IFERROR(IF(INDIRECT($A$14&ROW())<>\"\",COUNTIF(Summary!$B$30:$B$1094,INDIRECT($A$14&ROW())),\"\"),\"\")","v":""}]
[{"$f":"IFERROR(IF(INDIRECT($A$14&ROW())<>\"\",COUNTIF(Summary!$B$30:$B$1094,INDIRECT($A$14&ROW())),\"\"),\"\")","v":""}]
[{"$f":"IFERROR(IF(INDIRECT($A$14&ROW())<>\"\",COUNTIF(Summary!$B$30:$B$1094,INDIRECT($A$14&ROW())),\"\"),\"\")","v":""}]
[{"$f":"IFERROR(IF(INDIRECT($A$14&ROW())<>\"\",COUNTIF(Summary!$B$30:$B$1094,INDIRECT($A$14&ROW())),\"\"),\"\")","v":""}]
[{"$f":"IFERROR(IF(INDIRECT($A$14&ROW())<>\"\",COUNTIF(Summary!$B$30:$B$1094,INDIRECT($A$14&ROW())),\"\"),\"\")","v":""}]
[{"$f":"IFERROR(IF(INDIRECT($A$14&ROW())<>\"\",COUNTIF(Summary!$B$30:$B$1094,INDIRECT($A$14&ROW())),\"\"),\"\")","v":""}]
[{"$f":"IFERROR(IF(INDIRECT($A$14&ROW())<>\"\",COUNTIF(Summary!$B$30:$B$1094,INDIRECT($A$14&ROW())),\"\"),\"\")","v":""}]
[{"$f":"IFERROR(IF(INDIRECT($A$14&ROW())<>\"\",COUNTIF(Summary!$B$30:$B$1094,INDIRECT($A$14&ROW())),\"\"),\"\")","v":""}]
[{"$f":"IFERROR(IF(INDIRECT($A$14&ROW())<>\"\",COUNTIF(Summary!$B$30:$B$1094,INDIRECT($A$14&ROW())),\"\"),\"\")","v":""}]
[{"$f":"IFERROR(IF(INDIRECT($A$14&ROW())<>\"\",COUNTIF(Summary!$B$30:$B$1094,INDIRECT($A$14&ROW())),\"\"),\"\")","v":""}]
[{"$f":"IFERROR(IF(INDIRECT($A$14&ROW())<>\"\",COUNTIF(Summary!$B$30:$B$1094,INDIRECT($A$14&ROW())),\"\"),\"\")","v":""}]
[{"$f":"IFERROR(IF(INDIRECT($A$14&ROW())<>\"\",COUNTIF(Summary!$B$30:$B$1094,INDIRECT($A$14&ROW())),\"\"),\"\")","v":""}]
[{"$f":"IFERROR(IF(INDIRECT($A$14&ROW())<>\"\",COUNTIF(Summary!$B$30:$B$1094,INDIRECT($A$14&ROW())),\"\"),\"\")","v":""}]
[{"$f":"IFERROR(IF(INDIRECT($A$14&ROW())<>\"\",COUNTIF(Summary!$B$30:$B$1094,INDIRECT($A$14&ROW())),\"\"),\"\")","v":""}]
[{"$f":"IFERROR(IF(INDIRECT($A$14&ROW())<>\"\",COUNTIF(Summary!$B$30:$B$1094,INDIRECT($A$14&ROW())),\"\"),\"\")","v":""}]
[{"$f":"IFERROR(IF(INDIRECT($A$14&ROW())<>\"\",COUNTIF(Summary!$B$30:$B$1094,INDIRECT($A$14&ROW())),\"\"),\"\")","v":""}]
[{"$f":"IFERROR(IF(INDIRECT($A$14&ROW())<>\"\",COUNTIF(Summary!$B$30:$B$1094,INDIRECT($A$14&ROW())),\"\"),\"\")","v":""}]
[{"$f":"IFERROR(IF(INDIRECT($A$14&ROW())<>\"\",COUNTIF(Summary!$B$30:$B$1094,INDIRECT($A$14&ROW())),\"\"),\"\")","v":""}]
[{"$f":"IFERROR(IF(INDIRECT($A$14&ROW())<>\"\",COUNTIF(Summary!$B$30:$B$1094,INDIRECT($A$14&ROW())),\"\"),\"\")","v":""}]
[{"$f":"IFERROR(IF(INDIRECT($A$14&ROW())<>\"\",COUNTIF(Summary!$B$30:$B$1094,INDIRECT($A$14&ROW())),\"\"),\"\")","v":""}]
[{"$f":"IFERROR(IF(INDIRECT($A$14&ROW())<>\"\",COUNTIF(Summary!$B$30:$B$1094,INDIRECT($A$14&ROW())),\"\"),\"\")","v":""}]
[{"$f":"IFERROR(IF(INDIRECT($A$14&ROW())<>\"\",COUNTIF(Summary!$B$30:$B$1094,INDIRECT($A$14&ROW())),\"\"),\"\")","v":""}]
[{"$f":"IFERROR(IF(INDIRECT($A$14&ROW())<>\"\",COUNTIF(Summary!$B$30:$B$1094,INDIRECT($A$14&ROW())),\"\"),\"\")","v":""}]
[{"$f":"IFERROR(IF(INDIRECT($A$14&ROW())<>\"\",COUNTIF(Summary!$B$30:$B$1094,INDIRECT($A$14&ROW())),\"\"),\"\")","v":""}]
[{"$f":"IFERROR(IF(INDIRECT($A$14&ROW())<>\"\",COUNTIF(Summary!$B$30:$B$1094,INDIRECT($A$14&ROW())),\"\"),\"\")","v":""}]
[{"$f":"IFERROR(IF(INDIRECT($A$14&ROW())<>\"\",COUNTIF(Summary!$B$30:$B$1094,INDIRECT($A$14&ROW())),\"\"),\"\")","v":""}]
[{"$f":"IFERROR(IF(INDIRECT($A$14&ROW())<>\"\",COUNTIF(Summary!$B$30:$B$1094,INDIRECT($A$14&ROW())),\"\"),\"\")","v":""}]
[{"$f":"IFERROR(IF(INDIRECT($A$14&ROW())<>\"\",COUNTIF(Summary!$B$30:$B$1094,INDIRECT($A$14&ROW())),\"\"),\"\")","v":""}]
[{"$f":"IFERROR(IF(INDIRECT($A$14&ROW())<>\"\",COUNTIF(Summary!$B$30:$B$1094,INDIRECT($A$14&ROW())),\"\"),\"\")","v":""}]
[{"$f":"IFERROR(IF(INDIRECT($A$14&ROW())<>\"\",COUNTIF(Summary!$B$30:$B$1094,INDIRECT($A$14&ROW())),\"\"),\"\")","v":""}]
[{"$f":"IFERROR(IF(INDIRECT($A$14&ROW())<>\"\",COUNTIF(Summary!$B$30:$B$1094,INDIRECT($A$14&ROW())),\"\"),\"\")","v":""}]
[{"$f":"IFERROR(IF(INDIRECT($A$14&ROW())<>\"\",COUNTIF(Summary!$B$30:$B$1094,INDIRECT($A$14&ROW())),\"\"),\"\")","v":""}]
[{"$f":"IFERROR(IF(INDIRECT($A$14&ROW())<>\"\",COUNTIF(Summary!$B$30:$B$1094,INDIRECT($A$14&ROW())),\"\"),\"\")","v":""}]
[{"$f":"IFERROR(IF(INDIRECT($A$14&ROW())<>\"\",COUNTIF(Summary!$B$30:$B$1094,INDIRECT($A$14&ROW())),\"\"),\"\")","v":""}]
[{"$f":"IFERROR(IF(INDIRECT($A$14&ROW())<>\"\",COUNTIF(Summary!$B$30:$B$1094,INDIRECT($A$14&ROW())),\"\"),\"\")","v":""}]
[{"$f":"IFERROR(IF(INDIRECT($A$14&ROW())<>\"\",COUNTIF(Summary!$B$30:$B$1094,INDIRECT($A$14&ROW())),\"\"),\"\")","v":""}]
[{"$f":"IFERROR(IF(INDIRECT($A$14&ROW())<>\"\",COUNTIF(Summary!$B$30:$B$1094,INDIRECT($A$14&ROW())),\"\"),\"\")","v":""}]
[{"$f":"IFERROR(IF(INDIRECT($A$14&ROW())<>\"\",COUNTIF(Summary!$B$30:$B$1094,INDIRECT($A$14&ROW())),\"\"),\"\")","v":""}]
[{"$f":"IFERROR(IF(INDIRECT($A$14&ROW())<>\"\",COUNTIF(Summary!$B$30:$B$1094,INDIRECT($A$14&ROW())),\"\"),\"\")","v":""}]
[{"$f":"IFERROR(IF(INDIRECT($A$14&ROW())<>\"\",COUNTIF(Summary!$B$30:$B$1094,INDIRECT($A$14&ROW())),\"\"),\"\")","v":""}]
[{"$f":"IFERROR(IF(INDIRECT($A$14&ROW())<>\"\",COUNTIF(Summary!$B$30:$B$1094,INDIRECT($A$14&ROW())),\"\"),\"\")","v":""}]
[{"$f":"IFERROR(IF(INDIRECT($A$14&ROW())<>\"\",COUNTIF(Summary!$B$30:$B$1094,INDIRECT($A$14&ROW())),\"\"),\"\")","v":""}]
[{"$f":"IFERROR(IF(INDIRECT($A$14&ROW())<>\"\",COUNTIF(Summary!$B$30:$B$1094,INDIRECT($A$14&ROW())),\"\"),\"\")","v":""}]
[{"$f":"IFERROR(IF(INDIRECT($A$14&ROW())<>\"\",COUNTIF(Summary!$B$30:$B$1094,INDIRECT($A$14&ROW())),\"\"),\"\")","v":""}]
[{"$f":"IFERROR(IF(INDIRECT($A$14&ROW())<>\"\",COUNTIF(Summary!$B$30:$B$1094,INDIRECT($A$14&ROW())),\"\"),\"\")","v":""}]
[{"$f":"IFERROR(IF(INDIRECT($A$14&ROW())<>\"\",COUNTIF(Summary!$B$30:$B$1094,INDIRECT($A$14&ROW())),\"\"),\"\")","v":""}]
[{"$f":"IFERROR(IF(INDIRECT($A$14&ROW())<>\"\",COUNTIF(Summary!$B$30:$B$1094,INDIRECT($A$14&ROW())),\"\"),\"\")","v":""}]
[{"$f":"IFERROR(IF(INDIRECT($A$14&ROW())<>\"\",COUNTIF(Summary!$B$30:$B$1094,INDIRECT($A$14&ROW())),\"\"),\"\")","v":""}]
[{"$f":"IFERROR(IF(INDIRECT($A$14&ROW())<>\"\",COUNTIF(Summary!$B$30:$B$1094,INDIRECT($A$14&ROW())),\"\"),\"\")","v":""}]
[{"$f":"IFERROR(IF(INDIRECT($A$14&ROW())<>\"\",COUNTIF(Summary!$B$30:$B$1094,INDIRECT($A$14&ROW())),\"\"),\"\")","v":""}]
[{"$f":"IFERROR(IF(INDIRECT($A$14&ROW())<>\"\",COUNTIF(Summary!$B$30:$B$1094,INDIRECT($A$14&ROW())),\"\"),\"\")","v":""}]
[{"$f":"IFERROR(IF(INDIRECT($A$14&ROW())<>\"\",COUNTIF(Summary!$B$30:$B$1094,INDIRECT($A$14&ROW())),\"\"),\"\")","v":""}]
[{"$f":"IFERROR(IF(INDIRECT($A$14&ROW())<>\"\",COUNTIF(Summary!$B$30:$B$1094,INDIRECT($A$14&ROW())),\"\"),\"\")","v":""}]
[{"$f":"IFERROR(IF(INDIRECT($A$14&ROW())<>\"\",COUNTIF(Summary!$B$30:$B$1094,INDIRECT($A$14&ROW())),\"\"),\"\")","v":""}]
[{"$f":"IFERROR(IF(INDIRECT($A$14&ROW())<>\"\",COUNTIF(Summary!$B$30:$B$1094,INDIRECT($A$14&ROW())),\"\"),\"\")","v":""}]
[{"$f":"IFERROR(IF(INDIRECT($A$14&ROW())<>\"\",COUNTIF(Summary!$B$30:$B$1094,INDIRECT($A$14&ROW())),\"\"),\"\")","v":""}]
[{"$f":"IFERROR(IF(INDIRECT($A$14&ROW())<>\"\",COUNTIF(Summary!$B$30:$B$1094,INDIRECT($A$14&ROW())),\"\"),\"\")","v":""}]
[{"$f":"IFERROR(IF(INDIRECT($A$14&ROW())<>\"\",COUNTIF(Summary!$B$30:$B$1094,INDIRECT($A$14&ROW())),\"\"),\"\")","v":""}]
[{"$f":"IFERROR(IF(INDIRECT($A$14&ROW())<>\"\",COUNTIF(Summary!$B$30:$B$1094,INDIRECT($A$14&ROW())),\"\"),\"\")","v":""}]
[{"$f":"IFERROR(IF(INDIRECT($A$14&ROW())<>\"\",COUNTIF(Summary!$B$30:$B$1094,INDIRECT($A$14&ROW())),\"\"),\"\")","v":""}]
[{"$f":"IFERROR(IF(INDIRECT($A$14&ROW())<>\"\",COUNTIF(Summary!$B$30:$B$1094,INDIRECT($A$14&ROW())),\"\"),\"\")","v":""}]
[{"$f":"IFERROR(IF(INDIRECT($A$14&ROW())<>\"\",COUNTIF(Summary!$B$30:$B$1094,INDIRECT($A$14&ROW())),\"\"),\"\")","v":""}]
[{"$f":"IFERROR(IF(INDIRECT($A$14&ROW())<>\"\",COUNTIF(Summary!$B$30:$B$1094,INDIRECT($A$14&ROW())),\"\"),\"\")","v":""}]
[{"$f":"IFERROR(IF(INDIRECT($A$14&ROW())<>\"\",COUNTIF(Summary!$B$30:$B$1094,INDIRECT($A$14&ROW())),\"\"),\"\")","v":""}]
[{"$f":"IFERROR(IF(INDIRECT($A$14&ROW())<>\"\",COUNTIF(Summary!$B$30:$B$1094,INDIRECT($A$14&ROW())),\"\"),\"\")","v":""}]
[{"$f":"IFERROR(IF(INDIRECT($A$14&ROW())<>\"\",COUNTIF(Summary!$B$30:$B$1094,INDIRECT($A$14&ROW())),\"\"),\"\")","v":""}]
[{"$f":"IFERROR(IF(INDIRECT($A$14&ROW())<>\"\",COUNTIF(Summary!$B$30:$B$1094,INDIRECT($A$14&ROW())),\"\"),\"\")","v":""}]
[{"$f":"IFERROR(IF(INDIRECT($A$14&ROW())<>\"\",COUNTIF(Summary!$B$30:$B$1094,INDIRECT($A$14&ROW())),\"\"),\"\")","v":""}]
[{"$f":"IFERROR(IF(INDIRECT($A$14&ROW())<>\"\",COUNTIF(Summary!$B$30:$B$1094,INDIRECT($A$14&ROW())),\"\"),\"\")","v":""}]
[{"$f":"IFERROR(IF(INDIRECT($A$14&ROW())<>\"\",COUNTIF(Summary!$B$30:$B$1094,INDIRECT($A$14&ROW())),\"\"),\"\")","v":""}]
[{"$f":"IFERROR(IF(INDIRECT($A$14&ROW())<>\"\",COUNTIF(Summary!$B$30:$B$1094,INDIRECT($A$14&ROW())),\"\"),\"\")","v":""}]
[{"$f":"IFERROR(IF(INDIRECT($A$14&ROW())<>\"\",COUNTIF(Summary!$B$30:$B$1094,INDIRECT($A$14&ROW())),\"\"),\"\")","v":""}]
[{"$f":"IFERROR(IF(INDIRECT($A$14&ROW())<>\"\",COUNTIF(Summary!$B$30:$B$1094,INDIRECT($A$14&ROW())),\"\"),\"\")","v":""}]
[{"$f":"IFERROR(IF(INDIRECT($A$14&ROW())<>\"\",COUNTIF(Summary!$B$30:$B$1094,INDIRECT($A$14&ROW())),\"\"),\"\")","v":""}]
[{"$f":"IFERROR(IF(INDIRECT($A$14&ROW())<>\"\",COUNTIF(Summary!$B$30:$B$1094,INDIRECT($A$14&ROW())),\"\"),\"\")","v":""}]
[{"$f":"IFERROR(IF(INDIRECT($A$14&ROW())<>\"\",COUNTIF(Summary!$B$30:$B$1094,INDIRECT($A$14&ROW())),\"\"),\"\")","v":""}]
[{"$f":"IFERROR(IF(INDIRECT($A$14&ROW())<>\"\",COUNTIF(Summary!$B$30:$B$1094,INDIRECT($A$14&ROW())),\"\"),\"\")","v":""}]
[{"$f":"IFERROR(IF(INDIRECT($A$14&ROW())<>\"\",COUNTIF(Summary!$B$30:$B$1094,INDIRECT($A$14&ROW())),\"\"),\"\")","v":""}]
[{"$f":"IFERROR(IF(INDIRECT($A$14&ROW())<>\"\",COUNTIF(Summary!$B$30:$B$1094,INDIRECT($A$14&ROW())),\"\"),\"\")","v":""}]
[{"$f":"IFERROR(IF(INDIRECT($A$14&ROW())<>\"\",COUNTIF(Summary!$B$30:$B$1094,INDIRECT($A$14&ROW())),\"\"),\"\")","v":""}]
[{"$f":"IFERROR(IF(INDIRECT($A$14&ROW())<>\"\",COUNTIF(Summary!$B$30:$B$1094,INDIRECT($A$14&ROW())),\"\"),\"\")","v":""}]
[{"$f":"IFERROR(IF(INDIRECT($A$14&ROW())<>\"\",COUNTIF(Summary!$B$30:$B$1094,INDIRECT($A$14&ROW())),\"\"),\"\")","v":""}]
[{"$f":"IFERROR(IF(INDIRECT($A$14&ROW())<>\"\",COUNTIF(Summary!$B$30:$B$1094,INDIRECT($A$14&ROW())),\"\"),\"\")","v":""}]
[{"$f":"IFERROR(IF(INDIRECT($A$14&ROW())<>\"\",COUNTIF(Summary!$B$30:$B$1094,INDIRECT($A$14&ROW())),\"\"),\"\")","v":""}]
[{"$f":"IFERROR(IF(INDIRECT($A$14&ROW())<>\"\",COUNTIF(Summary!$B$30:$B$1094,INDIRECT($A$14&ROW())),\"\"),\"\")","v":""}]
[{"$f":"IFERROR(IF(INDIRECT($A$14&ROW())<>\"\",COUNTIF(Summary!$B$30:$B$1094,INDIRECT($A$14&ROW())),\"\"),\"\")","v":""}]
[{"$f":"IFERROR(IF(INDIRECT($A$14&ROW())<>\"\",COUNTIF(Summary!$B$30:$B$1094,INDIRECT($A$14&ROW())),\"\"),\"\")","v":""}]
[{"$f":"IFERROR(IF(INDIRECT($A$14&ROW())<>\"\",COUNTIF(Summary!$B$30:$B$1094,INDIRECT($A$14&ROW())),\"\"),\"\")","v":""}]
[{"$f":"IFERROR(IF(INDIRECT($A$14&ROW())<>\"\",COUNTIF(Summary!$B$30:$B$1094,INDIRECT($A$14&ROW())),\"\"),\"\")","v":""}]
[{"$f":"IFERROR(IF(INDIRECT($A$14&ROW())<>\"\",COUNTIF(Summary!$B$30:$B$1094,INDIRECT($A$14&ROW())),\"\"),\"\")","v":""}]
[{"$f":"IFERROR(IF(INDIRECT($A$14&ROW())<>\"\",COUNTIF(Summary!$B$30:$B$1094,INDIRECT($A$14&ROW())),\"\"),\"\")","v":""}]
[{"$f":"IFERROR(IF(INDIRECT($A$14&ROW())<>\"\",COUNTIF(Summary!$B$30:$B$1094,INDIRECT($A$14&ROW())),\"\"),\"\")","v":""}]
[{"$f":"IFERROR(IF(INDIRECT($A$14&ROW())<>\"\",COUNTIF(Summary!$B$30:$B$1094,INDIRECT($A$14&ROW())),\"\"),\"\")","v":""}]
[{"$f":"IFERROR(IF(INDIRECT($A$14&ROW())<>\"\",COUNTIF(Summary!$B$30:$B$1094,INDIRECT($A$14&ROW())),\"\"),\"\")","v":""}]
[{"$f":"IFERROR(IF(INDIRECT($A$14&ROW())<>\"\",COUNTIF(Summary!$B$30:$B$1094,INDIRECT($A$14&ROW())),\"\"),\"\")","v":""}]
[{"$f":"IFERROR(IF(INDIRECT($A$14&ROW())<>\"\",COUNTIF(Summary!$B$30:$B$1094,INDIRECT($A$14&ROW())),\"\"),\"\")","v":""}]
[{"$f":"IFERROR(IF(INDIRECT($A$14&ROW())<>\"\",COUNTIF(Summary!$B$30:$B$1094,INDIRECT($A$14&ROW())),\"\"),\"\")","v":""}]
[{"$f":"IFERROR(IF(INDIRECT($A$14&ROW())<>\"\",COUNTIF(Summary!$B$30:$B$1094,INDIRECT($A$14&ROW())),\"\"),\"\")","v":""}]
[{"$f":"IFERROR(IF(INDIRECT($A$14&ROW())<>\"\",COUNTIF(Summary!$B$30:$B$1094,INDIRECT($A$14&ROW())),\"\"),\"\")","v":""}]
[{"$f":"IFERROR(IF(INDIRECT($A$14&ROW())<>\"\",COUNTIF(Summary!$B$30:$B$1094,INDIRECT($A$14&ROW())),\"\"),\"\")","v":""}]
[{"$f":"IFERROR(IF(INDIRECT($A$14&ROW())<>\"\",COUNTIF(Summary!$B$30:$B$1094,INDIRECT($A$14&ROW())),\"\"),\"\")","v":""}]
[{"$f":"IFERROR(IF(INDIRECT($A$14&ROW())<>\"\",COUNTIF(Summary!$B$30:$B$1094,INDIRECT($A$14&ROW())),\"\"),\"\")","v":""}]
[{"$f":"IFERROR(IF(INDIRECT($A$14&ROW())<>\"\",COUNTIF(Summary!$B$30:$B$1094,INDIRECT($A$14&ROW())),\"\"),\"\")","v":""}]
[{"$f":"IFERROR(IF(INDIRECT($A$14&ROW())<>\"\",COUNTIF(Summary!$B$30:$B$1094,INDIRECT($A$14&ROW())),\"\"),\"\")","v":""}]
[{"$f":"IFERROR(IF(INDIRECT($A$14&ROW())<>\"\",COUNTIF(Summary!$B$30:$B$1094,INDIRECT($A$14&ROW())),\"\"),\"\")","v":""}]
[{"$f":"IFERROR(IF(INDIRECT($A$14&ROW())<>\"\",COUNTIF(Summary!$B$30:$B$1094,INDIRECT($A$14&ROW())),\"\"),\"\")","v":""}]
[{"$f":"IFERROR(IF(INDIRECT($A$14&ROW())<>\"\",COUNTIF(Summary!$B$30:$B$1094,INDIRECT($A$14&ROW())),\"\"),\"\")","v":""}]
[{"$f":"IFERROR(IF(INDIRECT($A$14&ROW())<>\"\",COUNTIF(Summary!$B$30:$B$1094,INDIRECT($A$14&ROW())),\"\"),\"\")","v":""}]
[{"$f":"IFERROR(IF(INDIRECT($A$14&ROW())<>\"\",COUNTIF(Summary!$B$30:$B$1094,INDIRECT($A$14&ROW())),\"\"),\"\")","v":""}]
[{"$f":"IFERROR(IF(INDIRECT($A$14&ROW())<>\"\",COUNTIF(Summary!$B$30:$B$1094,INDIRECT($A$14&ROW())),\"\"),\"\")","v":""}]
[{"$f":"IFERROR(IF(INDIRECT($A$14&ROW())<>\"\",COUNTIF(Summary!$B$30:$B$1094,INDIRECT($A$14&ROW())),\"\"),\"\")","v":""}]
[{"$f":"IFERROR(IF(INDIRECT($A$14&ROW())<>\"\",COUNTIF(Summary!$B$30:$B$1094,INDIRECT($A$14&ROW())),\"\"),\"\")","v":""}]
[{"$f":"IFERROR(IF(INDIRECT($A$14&ROW())<>\"\",COUNTIF(Summary!$B$30:$B$1094,INDIRECT($A$14&ROW())),\"\"),\"\")","v":""}]
[{"$f":"IFERROR(IF(INDIRECT($A$14&ROW())<>\"\",COUNTIF(Summary!$B$30:$B$1094,INDIRECT($A$14&ROW())),\"\"),\"\")","v":""}]
[{"$f":"IFERROR(IF(INDIRECT($A$14&ROW())<>\"\",COUNTIF(Summary!$B$30:$B$1094,INDIRECT($A$14&ROW())),\"\"),\"\")","v":""}]
[{"$f":"IFERROR(IF(INDIRECT($A$14&ROW())<>\"\",COUNTIF(Summary!$B$30:$B$1094,INDIRECT($A$14&ROW())),\"\"),\"\")","v":""}]
[{"$f":"IFERROR(IF(INDIRECT($A$14&ROW())<>\"\",COUNTIF(Summary!$B$30:$B$1094,INDIRECT($A$14&ROW())),\"\"),\"\")","v":""}]
[{"$f":"IFERROR(IF(INDIRECT($A$14&ROW())<>\"\",COUNTIF(Summary!$B$30:$B$1094,INDIRECT($A$14&ROW())),\"\"),\"\")","v":""}]
[{"$f":"IFERROR(IF(INDIRECT($A$14&ROW())<>\"\",COUNTIF(Summary!$B$30:$B$1094,INDIRECT($A$14&ROW())),\"\"),\"\")","v":""}]
[{"$f":"IFERROR(IF(INDIRECT($A$14&ROW())<>\"\",COUNTIF(Summary!$B$30:$B$1094,INDIRECT($A$14&ROW())),\"\"),\"\")","v":""}]
[{"$f":"IFERROR(IF(INDIRECT($A$14&ROW())<>\"\",COUNTIF(Summary!$B$30:$B$1094,INDIRECT($A$14&ROW())),\"\"),\"\")","v":""}]
[{"$f":"IFERROR(IF(INDIRECT($A$14&ROW())<>\"\",COUNTIF(Summary!$B$30:$B$1094,INDIRECT($A$14&ROW())),\"\"),\"\")","v":""}]
[{"$f":"IFERROR(IF(INDIRECT($A$14&ROW())<>\"\",COUNTIF(Summary!$B$30:$B$1094,INDIRECT($A$14&ROW())),\"\"),\"\")","v":""}]
[{"$f":"IFERROR(IF(INDIRECT($A$14&ROW())<>\"\",COUNTIF(Summary!$B$30:$B$1094,INDIRECT($A$14&ROW())),\"\"),\"\")","v":""}]
[{"$f":"IFERROR(IF(INDIRECT($A$14&ROW())<>\"\",COUNTIF(Summary!$B$30:$B$1094,INDIRECT($A$14&ROW())),\"\"),\"\")","v":""}]
[{"$f":"IFERROR(IF(INDIRECT($A$14&ROW())<>\"\",COUNTIF(Summary!$B$30:$B$1094,INDIRECT($A$14&ROW())),\"\"),\"\")","v":""}]
[{"$f":"IFERROR(IF(INDIRECT($A$14&ROW())<>\"\",COUNTIF(Summary!$B$30:$B$1094,INDIRECT($A$14&ROW())),\"\"),\"\")","v":""}]
[{"$f":"IFERROR(IF(INDIRECT($A$14&ROW())<>\"\",COUNTIF(Summary!$B$30:$B$1094,INDIRECT($A$14&ROW())),\"\"),\"\")","v":""}]
[{"$f":"IFERROR(IF(INDIRECT($A$14&ROW())<>\"\",COUNTIF(Summary!$B$30:$B$1094,INDIRECT($A$14&ROW())),\"\"),\"\")","v":""}]
[{"$f":"IFERROR(IF(INDIRECT($A$14&ROW())<>\"\",COUNTIF(Summary!$B$30:$B$1094,INDIRECT($A$14&ROW())),\"\"),\"\")","v":""}]
[{"$f":"IFERROR(IF(INDIRECT($A$14&ROW())<>\"\",COUNTIF(Summary!$B$30:$B$1094,INDIRECT($A$14&ROW())),\"\"),\"\")","v":""}]
[{"$f":"IFERROR(IF(INDIRECT($A$14&ROW())<>\"\",COUNTIF(Summary!$B$30:$B$1094,INDIRECT($A$14&ROW())),\"\"),\"\")","v":""}]
[{"$f":"IFERROR(IF(INDIRECT($A$14&ROW())<>\"\",COUNTIF(Summary!$B$30:$B$1094,INDIRECT($A$14&ROW())),\"\"),\"\")","v":""}]
[{"$f":"IFERROR(IF(INDIRECT($A$14&ROW())<>\"\",COUNTIF(Summary!$B$30:$B$1094,INDIRECT($A$14&ROW())),\"\"),\"\")","v":""}]
[{"$f":"IFERROR(IF(INDIRECT($A$14&ROW())<>\"\",COUNTIF(Summary!$B$30:$B$1094,INDIRECT($A$14&ROW())),\"\"),\"\")","v":""}]
[{"$f":"IFERROR(IF(INDIRECT($A$14&ROW())<>\"\",COUNTIF(Summary!$B$30:$B$1094,INDIRECT($A$14&ROW())),\"\"),\"\")","v":""}]
[{"$f":"IFERROR(IF(INDIRECT($A$14&ROW())<>\"\",COUNTIF(Summary!$B$30:$B$1094,INDIRECT($A$14&ROW())),\"\"),\"\")","v":""}]
[{"$f":"IFERROR(IF(INDIRECT($A$14&ROW())<>\"\",COUNTIF(Summary!$B$30:$B$1094,INDIRECT($A$14&ROW())),\"\"),\"\")","v":""}]
[{"$f":"IFERROR(IF(INDIRECT($A$14&ROW())<>\"\",COUNTIF(Summary!$B$30:$B$1094,INDIRECT($A$14&ROW())),\"\"),\"\")","v":""}]
[{"$f":"IFERROR(IF(INDIRECT($A$14&ROW())<>\"\",COUNTIF(Summary!$B$30:$B$1094,INDIRECT($A$14&ROW())),\"\"),\"\")","v":""}]
[{"$f":"IFERROR(IF(INDIRECT($A$14&ROW())<>\"\",COUNTIF(Summary!$B$30:$B$1094,INDIRECT($A$14&ROW())),\"\"),\"\")","v":""}]
[{"$f":"IFERROR(IF(INDIRECT($A$14&ROW())<>\"\",COUNTIF(Summary!$B$30:$B$1094,INDIRECT($A$14&ROW())),\"\"),\"\")","v":""}]
[{"$f":"IFERROR(IF(INDIRECT($A$14&ROW())<>\"\",COUNTIF(Summary!$B$30:$B$1094,INDIRECT($A$14&ROW())),\"\"),\"\")","v":""}]
[{"$f":"IFERROR(IF(INDIRECT($A$14&ROW())<>\"\",COUNTIF(Summary!$B$30:$B$1094,INDIRECT($A$14&ROW())),\"\"),\"\")","v":""}]
[{"$f":"IFERROR(IF(INDIRECT($A$14&ROW())<>\"\",COUNTIF(Summary!$B$30:$B$1094,INDIRECT($A$14&ROW())),\"\"),\"\")","v":""}]
[{"$f":"IFERROR(IF(INDIRECT($A$14&ROW())<>\"\",COUNTIF(Summary!$B$30:$B$1094,INDIRECT($A$14&ROW())),\"\"),\"\")","v":""}]
[{"$f":"IFERROR(IF(INDIRECT($A$14&ROW())<>\"\",COUNTIF(Summary!$B$30:$B$1094,INDIRECT($A$14&ROW())),\"\"),\"\")","v":""}]
[{"$f":"IFERROR(IF(INDIRECT($A$14&ROW())<>\"\",COUNTIF(Summary!$B$30:$B$1094,INDIRECT($A$14&ROW())),\"\"),\"\")","v":""}]
[{"$f":"IFERROR(IF(INDIRECT($A$14&ROW())<>\"\",COUNTIF(Summary!$B$30:$B$1094,INDIRECT($A$14&ROW())),\"\"),\"\")","v":""}]
[{"$f":"IFERROR(IF(INDIRECT($A$14&ROW())<>\"\",COUNTIF(Summary!$B$30:$B$1094,INDIRECT($A$14&ROW())),\"\"),\"\")","v":""}]
[{"$f":"IFERROR(IF(INDIRECT($A$14&ROW())<>\"\",COUNTIF(Summary!$B$30:$B$1094,INDIRECT($A$14&ROW())),\"\"),\"\")","v":""}]
[{"$f":"IFERROR(IF(INDIRECT($A$14&ROW())<>\"\",COUNTIF(Summary!$B$30:$B$1094,INDIRECT($A$14&ROW())),\"\"),\"\")","v":""}]
[{"$f":"IFERROR(IF(INDIRECT($A$14&ROW())<>\"\",COUNTIF(Summary!$B$30:$B$1094,INDIRECT($A$14&ROW())),\"\"),\"\")","v":""}]
[{"$f":"IFERROR(IF(INDIRECT($A$14&ROW())<>\"\",COUNTIF(Summary!$B$30:$B$1094,INDIRECT($A$14&ROW())),\"\"),\"\")","v":""}]
[{"$f":"IFERROR(IF(INDIRECT($A$14&ROW())<>\"\",COUNTIF(Summary!$B$30:$B$1094,INDIRECT($A$14&ROW())),\"\"),\"\")","v":""}]
[{"$f":"IFERROR(IF(INDIRECT($A$14&ROW())<>\"\",COUNTIF(Summary!$B$30:$B$1094,INDIRECT($A$14&ROW())),\"\"),\"\")","v":""}]
[{"$f":"IFERROR(IF(INDIRECT($A$14&ROW())<>\"\",COUNTIF(Summary!$B$30:$B$1094,INDIRECT($A$14&ROW())),\"\"),\"\")","v":""}]
[{"$f":"IFERROR(IF(INDIRECT($A$14&ROW())<>\"\",COUNTIF(Summary!$B$30:$B$1094,INDIRECT($A$14&ROW())),\"\"),\"\")","v":""}]
[{"$f":"IFERROR(IF(INDIRECT($A$14&ROW())<>\"\",COUNTIF(Summary!$B$30:$B$1094,INDIRECT($A$14&ROW())),\"\"),\"\")","v":""}]
[{"$f":"IFERROR(IF(INDIRECT($A$14&ROW())<>\"\",COUNTIF(Summary!$B$30:$B$1094,INDIRECT($A$14&ROW())),\"\"),\"\")","v":""}]
[{"$f":"IFERROR(IF(INDIRECT($A$14&ROW())<>\"\",COUNTIF(Summary!$B$30:$B$1094,INDIRECT($A$14&ROW())),\"\"),\"\")","v":""}]
[{"$f":"IFERROR(IF(INDIRECT($A$14&ROW())<>\"\",COUNTIF(Summary!$B$30:$B$1094,INDIRECT($A$14&ROW())),\"\"),\"\")","v":""}]
[{"$f":"IFERROR(IF(INDIRECT($A$14&ROW())<>\"\",COUNTIF(Summary!$B$30:$B$1094,INDIRECT($A$14&ROW())),\"\"),\"\")","v":""}]
[{"$f":"IFERROR(IF(INDIRECT($A$14&ROW())<>\"\",COUNTIF(Summary!$B$30:$B$1094,INDIRECT($A$14&ROW())),\"\"),\"\")","v":""}]
[{"$f":"IFERROR(IF(INDIRECT($A$14&ROW())<>\"\",COUNTIF(Summary!$B$30:$B$1094,INDIRECT($A$14&ROW())),\"\"),\"\")","v":""}]
[{"$f":"IFERROR(IF(INDIRECT($A$14&ROW())<>\"\",COUNTIF(Summary!$B$30:$B$1094,INDIRECT($A$14&ROW())),\"\"),\"\")","v":""}]
[{"$f":"IFERROR(IF(INDIRECT($A$14&ROW())<>\"\",COUNTIF(Summary!$B$30:$B$1094,INDIRECT($A$14&ROW())),\"\"),\"\")","v":""}]
[{"$f":"IFERROR(IF(INDIRECT($A$14&ROW())<>\"\",COUNTIF(Summary!$B$30:$B$1094,INDIRECT($A$14&ROW())),\"\"),\"\")","v":""}]
[{"$f":"IFERROR(IF(INDIRECT($A$14&ROW())<>\"\",COUNTIF(Summary!$B$30:$B$1094,INDIRECT($A$14&ROW())),\"\"),\"\")","v":""}]
[{"$f":"IFERROR(IF(INDIRECT($A$14&ROW())<>\"\",COUNTIF(Summary!$B$30:$B$1094,INDIRECT($A$14&ROW())),\"\"),\"\")","v":""}]
[{"$f":"IFERROR(IF(INDIRECT($A$14&ROW())<>\"\",COUNTIF(Summary!$B$30:$B$1094,INDIRECT($A$14&ROW())),\"\"),\"\")","v":""}]
[{"$f":"IFERROR(IF(INDIRECT($A$14&ROW())<>\"\",COUNTIF(Summary!$B$30:$B$1094,INDIRECT($A$14&ROW())),\"\"),\"\")","v":""}]
[{"$f":"IFERROR(IF(INDIRECT($A$14&ROW())<>\"\",COUNTIF(Summary!$B$30:$B$1094,INDIRECT($A$14&ROW())),\"\"),\"\")","v":""}]
[{"$f":"IFERROR(IF(INDIRECT($A$14&ROW())<>\"\",COUNTIF(Summary!$B$30:$B$1094,INDIRECT($A$14&ROW())),\"\"),\"\")","v":""}]
[{"$f":"IFERROR(IF(INDIRECT($A$14&ROW())<>\"\",COUNTIF(Summary!$B$30:$B$1094,INDIRECT($A$14&ROW())),\"\"),\"\")","v":""}]
[{"$f":"IFERROR(IF(INDIRECT($A$14&ROW())<>\"\",COUNTIF(Summary!$B$30:$B$1094,INDIRECT($A$14&ROW())),\"\"),\"\")","v":""}]
[{"$f":"IFERROR(IF(INDIRECT($A$14&ROW())<>\"\",COUNTIF(Summary!$B$30:$B$1094,INDIRECT($A$14&ROW())),\"\"),\"\")","v":""}]
[{"$f":"IFERROR(IF(INDIRECT($A$14&ROW())<>\"\",COUNTIF(Summary!$B$30:$B$1094,INDIRECT($A$14&ROW())),\"\"),\"\")","v":""}]
[{"$f":"IFERROR(IF(INDIRECT($A$14&ROW())<>\"\",COUNTIF(Summary!$B$30:$B$1094,INDIRECT($A$14&ROW())),\"\"),\"\")","v":""}]
[{"$f":"IFERROR(IF(INDIRECT($A$14&ROW())<>\"\",COUNTIF(Summary!$B$30:$B$1094,INDIRECT($A$14&ROW())),\"\"),\"\")","v":""}]
[{"$f":"IFERROR(IF(INDIRECT($A$14&ROW())<>\"\",COUNTIF(Summary!$B$30:$B$1094,INDIRECT($A$14&ROW())),\"\"),\"\")","v":""}]
[{"$f":"IFERROR(IF(INDIRECT($A$14&ROW())<>\"\",COUNTIF(Summary!$B$30:$B$1094,INDIRECT($A$14&ROW())),\"\"),\"\")","v":""}]
[{"$f":"IFERROR(IF(INDIRECT($A$14&ROW())<>\"\",COUNTIF(Summary!$B$30:$B$1094,INDIRECT($A$14&ROW())),\"\"),\"\")","v":""}]
[{"$f":"IFERROR(IF(INDIRECT($A$14&ROW())<>\"\",COUNTIF(Summary!$B$30:$B$1094,INDIRECT($A$14&ROW())),\"\"),\"\")","v":""}]
[{"$f":"IFERROR(IF(INDIRECT($A$14&ROW())<>\"\",COUNTIF(Summary!$B$30:$B$1094,INDIRECT($A$14&ROW())),\"\"),\"\")","v":""}]
[{"$f":"IFERROR(IF(INDIRECT($A$14&ROW())<>\"\",COUNTIF(Summary!$B$30:$B$1094,INDIRECT($A$14&ROW())),\"\"),\"\")","v":""}]
[{"$f":"IFERROR(IF(INDIRECT($A$14&ROW())<>\"\",COUNTIF(Summary!$B$30:$B$1094,INDIRECT($A$14&ROW())),\"\"),\"\")","v":""}]
[{"$f":"IFERROR(IF(INDIRECT($A$14&ROW())<>\"\",COUNTIF(Summary!$B$30:$B$1094,INDIRECT($A$14&ROW())),\"\"),\"\")","v":""}]
[{"$f":"IFERROR(IF(INDIRECT($A$14&ROW())<>\"\",COUNTIF(Summary!$B$30:$B$1094,INDIRECT($A$14&ROW())),\"\"),\"\")","v":""}]
[{"$f":"IFERROR(IF(INDIRECT($A$14&ROW())<>\"\",COUNTIF(Summary!$B$30:$B$1094,INDIRECT($A$14&ROW())),\"\"),\"\")","v":""}]
[{"$f":"IFERROR(IF(INDIRECT($A$14&ROW())<>\"\",COUNTIF(Summary!$B$30:$B$1094,INDIRECT($A$14&ROW())),\"\"),\"\")","v":""}]
[{"$f":"IFERROR(IF(INDIRECT($A$14&ROW())<>\"\",COUNTIF(Summary!$B$30:$B$1094,INDIRECT($A$14&ROW())),\"\"),\"\")","v":""}]
[{"$f":"IFERROR(IF(INDIRECT($A$14&ROW())<>\"\",COUNTIF(Summary!$B$30:$B$1094,INDIRECT($A$14&ROW())),\"\"),\"\")","v":""}]
[{"$f":"IFERROR(IF(INDIRECT($A$14&ROW())<>\"\",COUNTIF(Summary!$B$30:$B$1094,INDIRECT($A$14&ROW())),\"\"),\"\")","v":""}]
[{"$f":"IFERROR(IF(INDIRECT($A$14&ROW())<>\"\",COUNTIF(Summary!$B$30:$B$1094,INDIRECT($A$14&ROW())),\"\"),\"\")","v":""}]
[{"$f":"IFERROR(IF(INDIRECT($A$14&ROW())<>\"\",COUNTIF(Summary!$B$30:$B$1094,INDIRECT($A$14&ROW())),\"\"),\"\")","v":""}]
[{"$f":"IFERROR(IF(INDIRECT($A$14&ROW())<>\"\",COUNTIF(Summary!$B$30:$B$1094,INDIRECT($A$14&ROW())),\"\"),\"\")","v":""}]
[{"$f":"IFERROR(IF(INDIRECT($A$14&ROW())<>\"\",COUNTIF(Summary!$B$30:$B$1094,INDIRECT($A$14&ROW())),\"\"),\"\")","v":""}]
[{"$f":"IFERROR(IF(INDIRECT($A$14&ROW())<>\"\",COUNTIF(Summary!$B$30:$B$1094,INDIRECT($A$14&ROW())),\"\"),\"\")","v":""}]
[{"$f":"IFERROR(IF(INDIRECT($A$14&ROW())<>\"\",COUNTIF(Summary!$B$30:$B$1094,INDIRECT($A$14&ROW())),\"\"),\"\")","v":""}]
[{"$f":"IFERROR(IF(INDIRECT($A$14&ROW())<>\"\",COUNTIF(Summary!$B$30:$B$1094,INDIRECT($A$14&ROW())),\"\"),\"\")","v":""}]
[{"$f":"IFERROR(IF(INDIRECT($A$14&ROW())<>\"\",COUNTIF(Summary!$B$30:$B$1094,INDIRECT($A$14&ROW())),\"\"),\"\")","v":""}]
[{"$f":"IFERROR(IF(INDIRECT($A$14&ROW())<>\"\",COUNTIF(Summary!$B$30:$B$1094,INDIRECT($A$14&ROW())),\"\"),\"\")","v":""}]
[{"$f":"IFERROR(IF(INDIRECT($A$14&ROW())<>\"\",COUNTIF(Summary!$B$30:$B$1094,INDIRECT($A$14&ROW())),\"\"),\"\")","v":""}]
[{"$f":"IFERROR(IF(INDIRECT($A$14&ROW())<>\"\",COUNTIF(Summary!$B$30:$B$1094,INDIRECT($A$14&ROW())),\"\"),\"\")","v":""}]
[{"$f":"IFERROR(IF(INDIRECT($A$14&ROW())<>\"\",COUNTIF(Summary!$B$30:$B$1094,INDIRECT($A$14&ROW())),\"\"),\"\")","v":""}]
[{"$f":"IFERROR(IF(INDIRECT($A$14&ROW())<>\"\",COUNTIF(Summary!$B$30:$B$1094,INDIRECT($A$14&ROW())),\"\"),\"\")","v":""}]
[{"$f":"IFERROR(IF(INDIRECT($A$14&ROW())<>\"\",COUNTIF(Summary!$B$30:$B$1094,INDIRECT($A$14&ROW())),\"\"),\"\")","v":""}]
[{"$f":"IFERROR(IF(INDIRECT($A$14&ROW())<>\"\",COUNTIF(Summary!$B$30:$B$1094,INDIRECT($A$14&ROW())),\"\"),\"\")","v":""}]
[{"$f":"IFERROR(IF(INDIRECT($A$14&ROW())<>\"\",COUNTIF(Summary!$B$30:$B$1094,INDIRECT($A$14&ROW())),\"\"),\"\")","v":""}]
[{"$f":"IFERROR(IF(INDIRECT($A$14&ROW())<>\"\",COUNTIF(Summary!$B$30:$B$1094,INDIRECT($A$14&ROW())),\"\"),\"\")","v":""}]
[{"$f":"IFERROR(IF(INDIRECT($A$14&ROW())<>\"\",COUNTIF(Summary!$B$30:$B$1094,INDIRECT($A$14&ROW())),\"\"),\"\")","v":""}]
[{"$f":"IFERROR(IF(INDIRECT($A$14&ROW())<>\"\",COUNTIF(Summary!$B$30:$B$1094,INDIRECT($A$14&ROW())),\"\"),\"\")","v":""}]
[{"$f":"IFERROR(IF(INDIRECT($A$14&ROW())<>\"\",COUNTIF(Summary!$B$30:$B$1094,INDIRECT($A$14&ROW())),\"\"),\"\")","v":""}]
[{"$f":"IFERROR(IF(INDIRECT($A$14&ROW())<>\"\",COUNTIF(Summary!$B$30:$B$1094,INDIRECT($A$14&ROW())),\"\"),\"\")","v":""}]
[{"$f":"IFERROR(IF(INDIRECT($A$14&ROW())<>\"\",COUNTIF(Summary!$B$30:$B$1094,INDIRECT($A$14&ROW())),\"\"),\"\")","v":""}]
[{"$f":"IFERROR(IF(INDIRECT($A$14&ROW())<>\"\",COUNTIF(Summary!$B$30:$B$1094,INDIRECT($A$14&ROW())),\"\"),\"\")","v":""}]
[{"$f":"IFERROR(IF(INDIRECT($A$14&ROW())<>\"\",COUNTIF(Summary!$B$30:$B$1094,INDIRECT($A$14&ROW())),\"\"),\"\")","v":""},null,null,null,null,null,null,null,null,null,null,null,null,null,null,null,null,null,null,null,null,null,null,null,null,null,null,null,null,null,null,null,null,null,null,null,null,null,null,null,null,null,null,null,null,null,null,null,null,null,null,null,null,null,null,null,null,null,null,null,null,null,null,null,null,1]
[{"$f":"IFERROR(IF(INDIRECT($A$14&ROW())<>\"\",COUNTIF(Summary!$B$30:$B$1094,INDIRECT($A$14&ROW())),\"\"),\"\")","v":""},null,null,null,null,null,null,null,null,null,null,null,null,null,null,null,null,null,null,null,null,null,null,null,null,null,null,null,null,null,null,null,null,null,null,null,null,null,null,null,null,null,null,null,null,null,null,null,null,null,null,null,null,null,null,null,null,null,null,null,null,null,null,null,null,1]
[{"$f":"IFERROR(IF(INDIRECT($A$14&ROW())<>\"\",COUNTIF(Summary!$B$30:$B$1094,INDIRECT($A$14&ROW())),\"\"),\"\")","v":""},null,null,null,null,null,null,null,null,null,null,null,null,null,null,null,null,null,null,null,null,null,null,null,null,null,null,null,null,null,null,null,null,null,null,null,null,null,null,null,null,null,null,null,null,null,null,null,null,null,null,null,null,null,null,null,null,null,null,null,null,null,null,null,null,1]
[{"$f":"IFERROR(IF(INDIRECT($A$14&ROW())<>\"\",COUNTIF(Summary!$B$30:$B$1094,INDIRECT($A$14&ROW())),\"\"),\"\")","v":""},null,null,null,null,null,null,null,null,null,null,null,null,null,null,null,null,null,null,null,null,null,null,null,null,null,null,null,null,null,null,null,null,null,null,null,null,null,null,null,null,null,null,null,null,null,null,null,null,null,null,null,null,null,null,null,null,null,null,null,null,null,null,null,null,1]
[{"$f":"IFERROR(IF(INDIRECT($A$14&ROW())<>\"\",COUNTIF(Summary!$B$30:$B$1094,INDIRECT($A$14&ROW())),\"\"),\"\")","v":""},null,null,null,null,null,null,null,null,null,null,null,null,null,null,null,null,null,null,null,null,null,null,null,null,null,null,null,null,null,null,null,null,null,null,null,null,null,null,null,null,null,null,null,null,null,null,null,null,null,null,null,null,null,null,null,null,null,null,null,null,null,null,null,null,2]
[{"$f":"IFERROR(IF(INDIRECT($A$14&ROW())<>\"\",COUNTIF(Summary!$B$30:$B$1094,INDIRECT($A$14&ROW())),\"\"),\"\")","v":""},null,null,null,null,null,null,null,null,null,null,null,null,null,null,null,null,null,null,null,null,null,null,null,null,null,null,null,null,null,null,null,null,null,null,null,null,null,null,null,null,null,null,null,null,null,null,null,null,null,null,null,null,null,null,null,null,null,null,null,null,null,null,null,null,1]
[{"$f":"IFERROR(IF(INDIRECT($A$14&ROW())<>\"\",COUNTIF(Summary!$B$30:$B$1094,INDIRECT($A$14&ROW())),\"\"),\"\")","v":""},null,null,null,null,null,null,null,null,null,null,null,null,null,null,null,null,null,null,null,null,null,null,null,null,null,null,null,null,null,null,null,null,null,null,null,null,null,null,null,null,null,null,null,null,null,null,null,null,null,null,null,null,null,null,null,null,null,null,null,null,null,null,null,null,1]
[{"$f":"IFERROR(IF(INDIRECT($A$14&ROW())<>\"\",COUNTIF(Summary!$B$30:$B$1094,INDIRECT($A$14&ROW())),\"\"),\"\")","v":""},null,null,null,null,null,null,null,null,null,null,null,null,null,null,null,null,null,null,null,null,null,null,null,null,null,null,null,null,null,null,null,null,null,null,null,null,null,null,null,null,null,null,null,null,null,null,null,null,null,null,null,null,null,null,null,null,null,null,null,null,null,null,null,null,1]
[{"$f":"IFERROR(IF(INDIRECT($A$14&ROW())<>\"\",COUNTIF(Summary!$B$30:$B$1094,INDIRECT($A$14&ROW())),\"\"),\"\")","v":""},null,null,null,null,null,null,null,null,null,null,null,null,null,null,null,null,null,null,null,null,null,null,null,null,null,null,null,null,null,null,null,null,null,null,null,null,null,null,null,null,null,null,null,null,null,null,null,null,null,null,null,null,null,null,null,null,null,null,null,null,null,null,null,null,1]
[{"$f":"IFERROR(IF(INDIRECT($A$14&ROW())<>\"\",COUNTIF(Summary!$B$30:$B$1094,INDIRECT($A$14&ROW())),\"\"),\"\")","v":""},null,null,null,null,null,null,null,null,null,null,null,null,null,null,null,null,null,null,null,null,null,null,null,null,null,null,null,null,null,null,null,null,null,null,null,null,null,null,null,null,null,null,null,null,null,null,null,null,null,null,null,null,null,null,null,null,null,null,null,null,null,null,null,null,1]
[{"$f":"IFERROR(IF(INDIRECT($A$14&ROW())<>\"\",COUNTIF(Summary!$B$30:$B$1094,INDIRECT($A$14&ROW())),\"\"),\"\")","v":""},null,null,null,null,null,null,null,null,null,null,null,null,null,null,null,null,null,null,null,null,null,null,null,null,null,null,null,null,null,null,null,null,null,null,null,null,null,null,null,null,null,null,null,null,null,null,null,null,null,null,null,null,null,null,null,null,null,null,null,null,null,null,null,null,3]
[{"$f":"IFERROR(IF(INDIRECT($A$14&ROW())<>\"\",COUNTIF(Summary!$B$30:$B$1094,INDIRECT($A$14&ROW())),\"\"),\"\")","v":""},null,null,null,null,null,null,null,null,null,null,null,null,null,null,null,null,null,null,null,null,null,null,null,null,null,null,null,null,null,null,null,null,null,null,null,null,null,null,null,null,null,null,null,null,null,null,null,null,null,null,null,null,null,null,null,null,null,null,null,null,null,null,null,null,1]
[{"$f":"IFERROR(IF(INDIRECT($A$14&ROW())<>\"\",COUNTIF(Summary!$B$30:$B$1094,INDIRECT($A$14&ROW())),\"\"),\"\")","v":""},null,null,null,null,null,null,null,null,null,null,null,null,null,null,null,null,null,null,null,null,null,null,null,null,null,null,null,null,null,null,null,null,null,null,null,null,null,null,null,null,null,null,null,null,null,null,null,null,null,null,null,null,null,null,null,null,null,null,null,null,null,null,null,null,1]
[{"$f":"IFERROR(IF(INDIRECT($A$14&ROW())<>\"\",COUNTIF(Summary!$B$30:$B$1094,INDIRECT($A$14&ROW())),\"\"),\"\")","v":""},null,null,null,null,null,null,null,null,null,null,null,null,null,null,null,null,null,null,null,null,null,null,null,null,null,null,null,null,null,null,null,null,null,null,null,null,null,null,null,null,null,null,null,null,null,null,null,null,null,null,null,null,null,null,null,null,null,null,null,null,null,null,null,null,2]
[{"$f":"IFERROR(IF(INDIRECT($A$14&ROW())<>\"\",COUNTIF(Summary!$B$30:$B$1094,INDIRECT($A$14&ROW())),\"\"),\"\")","v":""},null,null,null,null,null,null,null,null,null,null,null,null,null,null,null,null,null,null,null,null,null,null,null,null,null,null,null,null,null,null,null,null,null,null,null,null,null,null,null,null,null,null,null,null,null,null,null,null,null,null,null,null,null,null,null,null,null,null,null,null,null,null,null,null,1]
[{"$f":"IFERROR(IF(INDIRECT($A$14&ROW())<>\"\",COUNTIF(Summary!$B$30:$B$1094,INDIRECT($A$14&ROW())),\"\"),\"\")","v":""},null,null,null,null,null,null,null,null,null,null,null,null,null,null,null,null,null,null,null,null,null,null,null,null,null,null,null,null,null,null,null,null,null,null,null,null,null,null,null,null,null,null,null,null,null,null,null,null,null,null,null,null,null,null,null,null,null,null,null,null,null,null,null,null,1]
[{"$f":"IFERROR(IF(INDIRECT($A$14&ROW())<>\"\",COUNTIF(Summary!$B$30:$B$1094,INDIRECT($A$14&ROW())),\"\"),\"\")","v":""},null,null,null,null,null,null,null,null,null,null,null,null,null,null,null,null,null,null,null,null,null,null,null,null,null,null,null,null,null,null,null,null,null,null,null,null,null,null,null,null,null,null,null,null,null,null,null,null,null,null,null,null,null,null,null,null,null,null,null,null,null,null,null,null,1]
[{"$f":"IFERROR(IF(INDIRECT($A$14&ROW())<>\"\",COUNTIF(Summary!$B$30:$B$1094,INDIRECT($A$14&ROW())),\"\"),\"\")","v":""},null,null,null,null,null,null,null,null,null,null,null,null,null,null,null,null,null,null,null,null,null,null,null,null,null,null,null,null,null,null,null,null,null,null,null,null,null,null,null,null,null,null,null,null,null,null,null,null,null,null,null,null,null,null,null,null,null,null,null,null,null,null,null,null,4]
[{"$f":"IFERROR(IF(INDIRECT($A$14&ROW())<>\"\",COUNTIF(Summary!$B$30:$B$1094,INDIRECT($A$14&ROW())),\"\"),\"\")","v":""},null,null,null,null,null,null,null,null,null,null,null,null,null,null,null,null,null,null,null,null,null,null,null,null,null,null,null,null,null,null,null,null,null,null,null,null,null,null,null,null,null,null,null,null,null,null,null,null,null,null,null,null,null,null,null,null,null,null,null,null,null,null,null,null,1]
[{"$f":"IFERROR(IF(INDIRECT($A$14&ROW())<>\"\",COUNTIF(Summary!$B$30:$B$1094,INDIRECT($A$14&ROW())),\"\"),\"\")","v":""},null,null,null,null,null,null,null,null,null,null,null,null,null,null,null,null,null,null,null,null,null,null,null,null,null,null,null,null,null,null,null,null,null,null,null,null,null,null,null,null,null,null,null,null,null,null,null,null,null,null,null,null,null,null,null,null,null,null,null,null,null,null,null,null,1]
[{"$f":"IFERROR(IF(INDIRECT($A$14&ROW())<>\"\",COUNTIF(Summary!$B$30:$B$1094,INDIRECT($A$14&ROW())),\"\"),\"\")","v":""},null,null,null,null,null,null,null,null,null,null,null,null,null,null,null,null,null,null,null,null,null,null,null,null,null,null,null,null,null,null,null,null,null,null,null,null,null,null,null,null,null,null,null,null,null,null,null,null,null,null,null,null,null,null,null,null,null,null,null,null,null,null,null,null,1]
[{"$f":"IFERROR(IF(INDIRECT($A$14&ROW())<>\"\",COUNTIF(Summary!$B$30:$B$1094,INDIRECT($A$14&ROW())),\"\"),\"\")","v":""},null,null,null,null,null,null,null,null,null,null,null,null,null,null,null,null,null,null,null,null,null,null,null,null,null,null,null,null,null,null,null,null,null,null,null,null,null,null,null,null,null,null,null,null,null,null,null,null,null,null,null,null,null,null,null,null,null,null,null,null,null,null,null,null,1]
[{"$f":"IFERROR(IF(INDIRECT($A$14&ROW())<>\"\",COUNTIF(Summary!$B$30:$B$1094,INDIRECT($A$14&ROW())),\"\"),\"\")","v":""},null,null,null,null,null,null,null,null,null,null,null,null,null,null,null,null,null,null,null,null,null,null,null,null,null,null,null,null,null,null,null,null,null,null,null,null,null,null,null,null,null,null,null,null,null,null,null,null,null,null,null,null,null,null,null,null,null,null,null,null,null,null,null,null,1]
[{"$f":"IFERROR(IF(INDIRECT($A$14&ROW())<>\"\",COUNTIF(Summary!$B$30:$B$1094,INDIRECT($A$14&ROW())),\"\"),\"\")","v":""},null,null,null,null,null,null,null,null,null,null,null,null,null,null,null,null,null,null,null,null,null,null,null,null,null,null,null,null,null,null,null,null,null,null,null,null,null,null,null,null,null,null,null,null,null,null,null,null,null,null,null,null,null,null,null,null,null,null,null,null,null,null,null,null,1]
[{"$f":"IFERROR(IF(INDIRECT($A$14&ROW())<>\"\",COUNTIF(Summary!$B$30:$B$1094,INDIRECT($A$14&ROW())),\"\"),\"\")","v":""},null,null,null,null,null,null,null,null,null,null,null,null,null,null,null,null,null,null,null,null,null,null,null,null,null,null,null,null,null,null,null,null,null,null,null,null,null,null,null,null,null,null,null,null,null,null,null,null,null,null,null,null,null,null,null,null,null,null,null,null,null,null,null,null,1]
[{"$f":"IFERROR(IF(INDIRECT($A$14&ROW())<>\"\",COUNTIF(Summary!$B$30:$B$1094,INDIRECT($A$14&ROW())),\"\"),\"\")","v":""},null,null,null,null,null,null,null,null,null,null,null,null,null,null,null,null,null,null,null,null,null,null,null,null,null,null,null,null,null,null,null,null,null,null,null,null,null,null,null,null,null,null,null,null,null,null,null,null,null,null,null,null,null,null,null,null,null,null,null,null,null,null,null,null,1]
[{"$f":"IFERROR(IF(INDIRECT($A$14&ROW())<>\"\",COUNTIF(Summary!$B$30:$B$1094,INDIRECT($A$14&ROW())),\"\"),\"\")","v":""},null,null,null,null,null,null,null,null,null,null,null,null,null,null,null,null,null,null,null,null,null,null,null,null,null,null,null,null,null,null,null,null,null,null,null,null,null,null,null,null,null,null,null,null,null,null,null,null,null,null,null,null,null,null,null,null,null,null,null,null,null,null,null,null,1]
[{"$f":"IFERROR(IF(INDIRECT($A$14&ROW())<>\"\",COUNTIF(Summary!$B$30:$B$1094,INDIRECT($A$14&ROW())),\"\"),\"\")","v":""},null,null,null,null,null,null,null,null,null,null,null,null,null,null,null,null,null,null,null,null,null,null,null,null,null,null,null,null,null,null,null,null,null,null,null,null,null,null,null,null,null,null,null,null,null,null,null,null,null,null,null,null,null,null,null,null,null,null,null,null,null,null,null,null,1]
[{"$f":"IFERROR(IF(INDIRECT($A$14&ROW())<>\"\",COUNTIF(Summary!$B$30:$B$1094,INDIRECT($A$14&ROW())),\"\"),\"\")","v":""},null,null,null,null,null,null,null,null,null,null,null,null,null,null,null,null,null,null,null,null,null,null,null,null,null,null,null,null,null,null,null,null,null,null,null,null,null,null,null,null,null,null,null,null,null,null,null,null,null,null,null,null,null,null,null,null,null,null,null,null,null,null,null,null,1]
[{"$f":"IFERROR(IF(INDIRECT($A$14&ROW())<>\"\",COUNTIF(Summary!$B$30:$B$1094,INDIRECT($A$14&ROW())),\"\"),\"\")","v":""},null,null,null,null,null,null,null,null,null,null,null,null,null,null,null,null,null,null,null,null,null,null,null,null,null,null,null,null,null,null,null,null,null,null,null,null,null,null,null,null,null,null,null,null,null,null,null,null,null,null,null,null,null,null,null,null,null,null,null,null,null,null,null,null,1]
[{"$f":"IFERROR(IF(INDIRECT($A$14&ROW())<>\"\",COUNTIF(Summary!$B$30:$B$1094,INDIRECT($A$14&ROW())),\"\"),\"\")","v":""},null,null,null,null,null,null,null,null,null,null,null,null,null,null,null,null,null,null,null,null,null,null,null,null,null,null,null,null,null,null,null,null,null,null,null,null,null,null,null,null,null,null,null,null,null,null,null,null,null,null,null,null,null,null,null,null,null,null,null,null,null,null,null,null,1]
[{"$f":"IFERROR(IF(INDIRECT($A$14&ROW())<>\"\",COUNTIF(Summary!$B$30:$B$1094,INDIRECT($A$14&ROW())),\"\"),\"\")","v":""},null,null,null,null,null,null,null,null,null,null,null,null,null,null,null,null,null,null,null,null,null,null,null,null,null,null,null,null,null,null,null,null,null,null,null,null,null,null,null,null,null,null,null,null,null,null,null,null,null,null,null,null,null,null,null,null,null,null,null,null,null,null,null,null,1]
[{"$f":"IFERROR(IF(INDIRECT($A$14&ROW())<>\"\",COUNTIF(Summary!$B$30:$B$1094,INDIRECT($A$14&ROW())),\"\"),\"\")","v":""},null,null,null,null,null,null,null,null,null,null,null,null,null,null,null,null,null,null,null,null,null,null,null,null,null,null,null,null,null,null,null,null,null,null,null,null,null,null,null,null,null,null,null,null,null,null,null,null,null,null,null,null,null,null,null,null,null,null,null,null,null,null,null,null,1]
[{"$f":"IFERROR(IF(INDIRECT($A$14&ROW())<>\"\",COUNTIF(Summary!$B$30:$B$1094,INDIRECT($A$14&ROW())),\"\"),\"\")","v":""},null,null,null,null,null,null,null,null,null,null,null,null,null,null,null,null,null,null,null,null,null,null,null,null,null,null,null,null,null,null,null,null,null,null,null,null,null,null,null,null,null,null,null,null,null,null,null,null,null,null,null,null,null,null,null,null,null,null,null,null,null,null,null,null,1]
[{"$f":"IFERROR(IF(INDIRECT($A$14&ROW())<>\"\",COUNTIF(Summary!$B$30:$B$1094,INDIRECT($A$14&ROW())),\"\"),\"\")","v":""},null,null,null,null,null,null,null,null,null,null,null,null,null,null,null,null,null,null,null,null,null,null,null,null,null,null,null,null,null,null,null,null,null,null,null,null,null,null,null,null,null,null,null,null,null,null,null,null,null,null,null,null,null,null,null,null,null,null,null,null,null,null,null,null,1]
[{"$f":"IFERROR(IF(INDIRECT($A$14&ROW())<>\"\",COUNTIF(Summary!$B$30:$B$1094,INDIRECT($A$14&ROW())),\"\"),\"\")","v":""},null,null,null,null,null,null,null,null,null,null,null,null,null,null,null,null,null,null,null,null,null,null,null,null,null,null,null,null,null,null,null,null,null,null,null,null,null,null,null,null,null,null,null,null,null,null,null,null,null,null,null,null,null,null,null,null,null,null,null,null,null,null,null,null,1]
[{"$f":"IFERROR(IF(INDIRECT($A$14&ROW())<>\"\",COUNTIF(Summary!$B$30:$B$1094,INDIRECT($A$14&ROW())),\"\"),\"\")","v":""},null,null,null,null,null,null,null,null,null,null,null,null,null,null,null,null,null,null,null,null,null,null,null,null,null,null,null,null,null,null,null,null,null,null,null,null,null,null,null,null,null,null,null,null,null,null,null,null,null,null,null,null,null,null,null,null,null,null,null,null,null,null,null,null,1]
[{"$f":"IFERROR(IF(INDIRECT($A$14&ROW())<>\"\",COUNTIF(Summary!$B$30:$B$1094,INDIRECT($A$14&ROW())),\"\"),\"\")","v":""},null,null,null,null,null,null,null,null,null,null,null,null,null,null,null,null,null,null,null,null,null,null,null,null,null,null,null,null,null,null,null,null,null,null,null,null,null,null,null,null,null,null,null,null,null,null,null,null,null,null,null,null,null,null,null,null,null,null,null,null,null,null,null,null,1]
[{"$f":"IFERROR(IF(INDIRECT($A$14&ROW())<>\"\",COUNTIF(Summary!$B$30:$B$1094,INDIRECT($A$14&ROW())),\"\"),\"\")","v":""},null,null,null,null,null,null,null,null,null,null,null,null,null,null,null,null,null,null,null,null,null,null,null,null,null,null,null,null,null,null,null,null,null,null,null,null,null,null,null,null,null,null,null,null,null,null,null,null,null,null,null,null,null,null,null,null,null,null,null,null,null,null,null,null,1]
[{"$f":"IFERROR(IF(INDIRECT($A$14&ROW())<>\"\",COUNTIF(Summary!$B$30:$B$1094,INDIRECT($A$14&ROW())),\"\"),\"\")","v":""},null,null,null,null,null,null,null,null,null,null,null,null,null,null,null,null,null,null,null,null,null,null,null,null,null,null,null,null,null,null,null,null,null,null,null,null,null,null,null,null,null,null,null,null,null,null,null,null,null,null,null,null,null,null,null,null,null,null,null,null,null,null,null,null,1]
[{"$f":"IFERROR(IF(INDIRECT($A$14&ROW())<>\"\",COUNTIF(Summary!$B$30:$B$1094,INDIRECT($A$14&ROW())),\"\"),\"\")","v":""},null,null,null,null,null,null,null,null,null,null,null,null,null,null,null,null,null,null,null,null,null,null,null,null,null,null,null,null,null,null,null,null,null,null,null,null,null,null,null,null,null,null,null,null,null,null,null,null,null,null,null,null,null,null,null,null,null,null,null,null,null,null,null,null,1]
[{"$f":"IFERROR(IF(INDIRECT($A$14&ROW())<>\"\",COUNTIF(Summary!$B$30:$B$1094,INDIRECT($A$14&ROW())),\"\"),\"\")","v":""},null,null,null,null,null,null,null,null,null,null,null,null,null,null,null,null,null,null,null,null,null,null,null,null,null,null,null,null,null,null,null,null,null,null,null,null,null,null,null,null,null,null,null,null,null,null,null,null,null,null,null,null,null,null,null,null,null,null,null,null,null,null,null,null,1]
[{"$f":"IFERROR(IF(INDIRECT($A$14&ROW())<>\"\",COUNTIF(Summary!$B$30:$B$1094,INDIRECT($A$14&ROW())),\"\"),\"\")","v":""},null,null,null,null,null,null,null,null,null,null,null,null,null,null,null,null,null,null,null,null,null,null,null,null,null,null,null,null,null,null,null,null,null,null,null,null,null,null,null,null,null,null,null,null,null,null,null,null,null,null,null,null,null,null,null,null,null,null,null,null,null,null,null,null,4]
[{"$f":"IFERROR(IF(INDIRECT($A$14&ROW())<>\"\",COUNTIF(Summary!$B$30:$B$1094,INDIRECT($A$14&ROW())),\"\"),\"\")","v":""},null,null,null,null,null,null,null,null,null,null,null,null,null,null,null,null,null,null,null,null,null,null,null,null,null,null,null,null,null,null,null,null,null,null,null,null,null,null,null,null,null,null,null,null,null,null,null,null,null,null,null,null,null,null,null,null,null,null,null,null,null,null,null,null,1]
[{"$f":"IFERROR(IF(INDIRECT($A$14&ROW())<>\"\",COUNTIF(Summary!$B$30:$B$1094,INDIRECT($A$14&ROW())),\"\"),\"\")","v":""},null,null,null,null,null,null,null,null,null,null,null,null,null,null,null,null,null,null,null,null,null,null,null,null,null,null,null,null,null,null,null,null,null,null,null,null,null,null,null,null,null,null,null,null,null,null,null,null,null,null,null,null,null,null,null,null,null,null,null,null,null,null,null,null,1]
[{"$f":"IFERROR(IF(INDIRECT($A$14&ROW())<>\"\",COUNTIF(Summary!$B$30:$B$1094,INDIRECT($A$14&ROW())),\"\"),\"\")","v":""},null,null,null,null,null,null,null,null,null,null,null,null,null,null,null,null,null,null,null,null,null,null,null,null,null,null,null,null,null,null,null,null,null,null,null,null,null,null,null,null,null,null,null,null,null,null,null,null,null,null,null,null,null,null,null,null,null,null,null,null,null,null,null,null,1]
[{"$f":"IFERROR(IF(INDIRECT($A$14&ROW())<>\"\",COUNTIF(Summary!$B$30:$B$1094,INDIRECT($A$14&ROW())),\"\"),\"\")","v":""},null,null,null,null,null,null,null,null,null,null,null,null,null,null,null,null,null,null,null,null,null,null,null,null,null,null,null,null,null,null,null,null,null,null,null,null,null,null,null,null,null,null,null,null,null,null,null,null,null,null,null,null,null,null,null,null,null,null,null,null,null,null,null,null,1]
[{"$f":"IFERROR(IF(INDIRECT($A$14&ROW())<>\"\",COUNTIF(Summary!$B$30:$B$1094,INDIRECT($A$14&ROW())),\"\"),\"\")","v":""},null,null,null,null,null,null,null,null,null,null,null,null,null,null,null,null,null,null,null,null,null,null,null,null,null,null,null,null,null,null,null,null,null,null,null,null,null,null,null,null,null,null,null,null,null,null,null,null,null,null,null,null,null,null,null,null,null,null,null,null,null,null,null,null,1]
[{"$f":"IFERROR(IF(INDIRECT($A$14&ROW())<>\"\",COUNTIF(Summary!$B$30:$B$1094,INDIRECT($A$14&ROW())),\"\"),\"\")","v":""},null,null,null,null,null,null,null,null,null,null,null,null,null,null,null,null,null,null,null,null,null,null,null,null,null,null,null,null,null,null,null,null,null,null,null,null,null,null,null,null,null,null,null,null,null,null,null,null,null,null,null,null,null,null,null,null,null,null,null,null,null,null,null,null,1]
[{"$f":"IFERROR(IF(INDIRECT($A$14&ROW())<>\"\",COUNTIF(Summary!$B$30:$B$1094,INDIRECT($A$14&ROW())),\"\"),\"\")","v":""},null,null,null,null,null,null,null,null,null,null,null,null,null,null,null,null,null,null,null,null,null,null,null,null,null,null,null,null,null,null,null,null,null,null,null,null,null,null,null,null,null,null,null,null,null,null,null,null,null,null,null,null,null,null,null,null,null,null,null,null,null,null,null,null,1]
[{"$f":"IFERROR(IF(INDIRECT($A$14&ROW())<>\"\",COUNTIF(Summary!$B$30:$B$1094,INDIRECT($A$14&ROW())),\"\"),\"\")","v":""},null,null,null,null,null,null,null,null,null,null,null,null,null,null,null,null,null,null,null,null,null,null,null,null,null,null,null,null,null,null,null,null,null,null,null,null,null,null,null,null,null,null,null,null,null,null,null,null,null,null,null,null,null,null,null,null,null,null,null,null,null,null,null,null,1]
[{"$f":"IFERROR(IF(INDIRECT($A$14&ROW())<>\"\",COUNTIF(Summary!$B$30:$B$1094,INDIRECT($A$14&ROW())),\"\"),\"\")","v":""},null,null,null,null,null,null,null,null,null,null,null,null,null,null,null,null,null,null,null,null,null,null,null,null,null,null,null,null,null,null,null,null,null,null,null,null,null,null,null,null,null,null,null,null,null,null,null,null,null,null,null,null,null,null,null,null,null,null,null,null,null,null,null,null,1]
[{"$f":"IFERROR(IF(INDIRECT($A$14&ROW())<>\"\",COUNTIF(Summary!$B$30:$B$1094,INDIRECT($A$14&ROW())),\"\"),\"\")","v":""},null,null,null,null,null,null,null,null,null,null,null,null,null,null,null,null,null,null,null,null,null,null,null,null,null,null,null,null,null,null,null,null,null,null,null,null,null,null,null,null,null,null,null,null,null,null,null,null,null,null,null,null,null,null,null,null,null,null,null,null,null,null,null,null,1]
[{"$f":"IFERROR(IF(INDIRECT($A$14&ROW())<>\"\",COUNTIF(Summary!$B$30:$B$1094,INDIRECT($A$14&ROW())),\"\"),\"\")","v":""},null,null,null,null,null,null,null,null,null,null,null,null,null,null,null,null,null,null,null,null,null,null,null,null,null,null,null,null,null,null,null,null,null,null,null,null,null,null,null,null,null,null,null,null,null,null,null,null,null,null,null,null,null,null,null,null,null,null,null,null,null,null,null,null,1]
[{"$f":"IFERROR(IF(INDIRECT($A$14&ROW())<>\"\",COUNTIF(Summary!$B$30:$B$1094,INDIRECT($A$14&ROW())),\"\"),\"\")","v":""},null,null,null,null,null,null,null,null,null,null,null,null,null,null,null,null,null,null,null,null,null,null,null,null,null,null,null,null,null,null,null,null,null,null,null,null,null,null,null,null,null,null,null,null,null,null,null,null,null,null,null,null,null,null,null,null,null,null,null,null,null,null,null,null,1]
[{"$f":"IFERROR(IF(INDIRECT($A$14&ROW())<>\"\",COUNTIF(Summary!$B$30:$B$1094,INDIRECT($A$14&ROW())),\"\"),\"\")","v":""},null,null,null,null,null,null,null,null,null,null,null,null,null,null,null,null,null,null,null,null,null,null,null,null,null,null,null,null,null,null,null,null,null,null,null,null,null,null,null,null,null,null,null,null,null,null,null,null,null,null,null,null,null,null,null,null,null,null,null,null,null,null,null,null,1]
[{"$f":"IFERROR(IF(INDIRECT($A$14&ROW())<>\"\",COUNTIF(Summary!$B$30:$B$1094,INDIRECT($A$14&ROW())),\"\"),\"\")","v":""},null,null,null,null,null,null,null,null,null,null,null,null,null,null,null,null,null,null,null,null,null,null,null,null,null,null,null,null,null,null,null,null,null,null,null,null,null,null,null,null,null,null,null,null,null,null,null,null,null,null,null,null,null,null,null,null,null,null,null,null,null,null,null,null,1]
[{"$f":"IFERROR(IF(INDIRECT($A$14&ROW())<>\"\",COUNTIF(Summary!$B$30:$B$1094,INDIRECT($A$14&ROW())),\"\"),\"\")","v":""},null,null,null,null,null,null,null,null,null,null,null,null,null,null,null,null,null,null,null,null,null,null,null,null,null,null,null,null,null,null,null,null,null,null,null,null,null,null,null,null,null,null,null,null,null,null,null,null,null,null,null,null,null,null,null,null,null,null,null,null,null,null,null,null,1]
[{"$f":"IFERROR(IF(INDIRECT($A$14&ROW())<>\"\",COUNTIF(Summary!$B$30:$B$1094,INDIRECT($A$14&ROW())),\"\"),\"\")","v":""},null,null,null,null,null,null,null,null,null,null,null,null,null,null,null,null,null,null,null,null,null,null,null,null,null,null,null,null,null,null,null,null,null,null,null,null,null,null,null,null,null,null,null,null,null,null,null,null,null,null,null,null,null,null,null,null,null,null,null,null,null,null,null,null,1]
[{"$f":"IFERROR(IF(INDIRECT($A$14&ROW())<>\"\",COUNTIF(Summary!$B$30:$B$1094,INDIRECT($A$14&ROW())),\"\"),\"\")","v":""},null,null,null,null,null,null,null,null,null,null,null,null,null,null,null,null,null,null,null,null,null,null,null,null,null,null,null,null,null,null,null,null,null,null,null,null,null,null,null,null,null,null,null,null,null,null,null,null,null,null,null,null,null,null,null,null,null,null,null,null,null,null,null,null,1]
[{"$f":"IFERROR(IF(INDIRECT($A$14&ROW())<>\"\",COUNTIF(Summary!$B$30:$B$1094,INDIRECT($A$14&ROW())),\"\"),\"\")","v":""},null,null,null,null,null,null,null,null,null,null,null,null,null,null,null,null,null,null,null,null,null,null,null,null,null,null,null,null,null,null,null,null,null,null,null,null,null,null,null,null,null,null,null,null,null,null,null,null,null,null,null,null,null,null,null,null,null,null,null,null,null,null,null,null,1]
[{"$f":"IFERROR(IF(INDIRECT($A$14&ROW())<>\"\",COUNTIF(Summary!$B$30:$B$1094,INDIRECT($A$14&ROW())),\"\"),\"\")","v":""},null,null,null,null,null,null,null,null,null,null,null,null,null,null,null,null,null,null,null,null,null,null,null,null,null,null,null,null,null,null,null,null,null,null,null,null,null,null,null,null,null,null,null,null,null,null,null,null,null,null,null,null,null,null,null,null,null,null,null,null,null,null,null,null,1]
[{"$f":"IFERROR(IF(INDIRECT($A$14&ROW())<>\"\",COUNTIF(Summary!$B$30:$B$1094,INDIRECT($A$14&ROW())),\"\"),\"\")","v":""},null,null,null,null,null,null,null,null,null,null,null,null,null,null,null,null,null,null,null,null,null,null,null,null,null,null,null,null,null,null,null,null,null,null,null,null,null,null,null,null,null,null,null,null,null,null,null,null,null,null,null,null,null,null,null,null,null,null,null,null,null,null,null,null,2]
[{"$f":"IFERROR(IF(INDIRECT($A$14&ROW())<>\"\",COUNTIF(Summary!$B$30:$B$1094,INDIRECT($A$14&ROW())),\"\"),\"\")","v":""},null,null,null,null,null,null,null,null,null,null,null,null,null,null,null,null,null,null,null,null,null,null,null,null,null,null,null,null,null,null,null,null,null,null,null,null,null,null,null,null,null,null,null,null,null,null,null,null,null,null,null,null,null,null,null,null,null,null,null,null,null,null,null,null,1]
[{"$f":"IFERROR(IF(INDIRECT($A$14&ROW())<>\"\",COUNTIF(Summary!$B$30:$B$1094,INDIRECT($A$14&ROW())),\"\"),\"\")","v":""},null,null,null,null,null,null,null,null,null,null,null,null,null,null,null,null,null,null,null,null,null,null,null,null,null,null,null,null,null,null,null,null,null,null,null,null,null,null,null,null,null,null,null,null,null,null,null,null,null,null,null,null,null,null,null,null,null,null,null,null,null,null,null,null,1]
[{"$f":"IFERROR(IF(INDIRECT($A$14&ROW())<>\"\",COUNTIF(Summary!$B$30:$B$1094,INDIRECT($A$14&ROW())),\"\"),\"\")","v":""},null,null,null,null,null,null,null,null,null,null,null,null,null,null,null,null,null,null,null,null,null,null,null,null,null,null,null,null,null,null,null,null,null,null,null,null,null,null,null,null,null,null,null,null,null,null,null,null,null,null,null,null,null,null,null,null,null,null,null,null,null,null,null,null,1]
[{"$f":"IFERROR(IF(INDIRECT($A$14&ROW())<>\"\",COUNTIF(Summary!$B$30:$B$1094,INDIRECT($A$14&ROW())),\"\"),\"\")","v":""},null,null,null,null,null,null,null,null,null,null,null,null,null,null,null,null,null,null,null,null,null,null,null,null,null,null,null,null,null,null,null,null,null,null,null,null,null,null,null,null,null,null,null,null,null,null,null,null,null,null,null,null,null,null,null,null,null,null,null,null,null,null,null,null,1]
[{"$f":"IFERROR(IF(INDIRECT($A$14&ROW())<>\"\",COUNTIF(Summary!$B$30:$B$1094,INDIRECT($A$14&ROW())),\"\"),\"\")","v":""},null,null,null,null,null,null,null,null,null,null,null,null,null,null,null,null,null,null,null,null,null,null,null,null,null,null,null,null,null,null,null,null,null,null,null,null,null,null,null,null,null,null,null,null,null,null,null,null,null,null,null,null,null,null,null,null,null,null,null,null,null,null,null,null,1]
[{"$f":"IFERROR(IF(INDIRECT($A$14&ROW())<>\"\",COUNTIF(Summary!$B$30:$B$1094,INDIRECT($A$14&ROW())),\"\"),\"\")","v":""},null,null,null,null,null,null,null,null,null,null,null,null,null,null,null,null,null,null,null,null,null,null,null,null,null,null,null,null,null,null,null,null,null,null,null,null,null,null,null,null,null,null,null,null,null,null,null,null,null,null,null,null,null,null,null,null,null,null,null,null,null,null,null,null,1]
[{"$f":"IFERROR(IF(INDIRECT($A$14&ROW())<>\"\",COUNTIF(Summary!$B$30:$B$1094,INDIRECT($A$14&ROW())),\"\"),\"\")","v":""},null,null,null,null,null,null,null,null,null,null,null,null,null,null,null,null,null,null,null,null,null,null,null,null,null,null,null,null,null,null,null,null,null,null,null,null,null,null,null,null,null,null,null,null,null,null,null,null,null,null,null,null,null,null,null,null,null,null,null,null,null,null,null,null,1]
[{"$f":"IFERROR(IF(INDIRECT($A$14&ROW())<>\"\",COUNTIF(Summary!$B$30:$B$1094,INDIRECT($A$14&ROW())),\"\"),\"\")","v":""},null,null,null,null,null,null,null,null,null,null,null,null,null,null,null,null,null,null,null,null,null,null,null,null,null,null,null,null,null,null,null,null,null,null,null,null,null,null,null,null,null,null,null,null,null,null,null,null,null,null,null,null,null,null,null,null,null,null,null,null,null,null,null,null,1]
[{"$f":"IFERROR(IF(INDIRECT($A$14&ROW())<>\"\",COUNTIF(Summary!$B$30:$B$1094,INDIRECT($A$14&ROW())),\"\"),\"\")","v":""},null,null,null,null,null,null,null,null,null,null,null,null,null,null,null,null,null,null,null,null,null,null,null,null,null,null,null,null,null,null,null,null,null,null,null,null,null,null,null,null,null,null,null,null,null,null,null,null,null,null,null,null,null,null,null,null,null,null,null,null,null,null,null,null,1]
[{"$f":"IFERROR(IF(INDIRECT($A$14&ROW())<>\"\",COUNTIF(Summary!$B$30:$B$1094,INDIRECT($A$14&ROW())),\"\"),\"\")","v":""},null,null,null,null,null,null,null,null,null,null,null,null,null,null,null,null,null,null,null,null,null,null,null,null,null,null,null,null,null,null,null,null,null,null,null,null,null,null,null,null,null,null,null,null,null,null,null,null,null,null,null,null,null,null,null,null,null,null,null,null,null,null,null,null,1]
[{"$f":"IFERROR(IF(INDIRECT($A$14&ROW())<>\"\",COUNTIF(Summary!$B$30:$B$1094,INDIRECT($A$14&ROW())),\"\"),\"\")","v":""},null,null,null,null,null,null,null,null,null,null,null,null,null,null,null,null,null,null,null,null,null,null,null,null,null,null,null,null,null,null,null,null,null,null,null,null,null,null,null,null,null,null,null,null,null,null,null,null,null,null,null,null,null,null,null,null,null,null,null,null,null,null,null,null,1]
[{"$f":"IFERROR(IF(INDIRECT($A$14&ROW())<>\"\",COUNTIF(Summary!$B$30:$B$1094,INDIRECT($A$14&ROW())),\"\"),\"\")","v":""},null,null,null,null,null,null,null,null,null,null,null,null,null,null,null,null,null,null,null,null,null,null,null,null,null,null,null,null,null,null,null,null,null,null,null,null,null,null,null,null,null,null,null,null,null,null,null,null,null,null,null,null,null,null,null,null,null,null,null,null,null,null,null,null,1]
[{"$f":"IFERROR(IF(INDIRECT($A$14&ROW())<>\"\",COUNTIF(Summary!$B$30:$B$1094,INDIRECT($A$14&ROW())),\"\"),\"\")","v":""},null,null,null,null,null,null,null,null,null,null,null,null,null,null,null,null,null,null,null,null,null,null,null,null,null,null,null,null,null,null,null,null,null,null,null,null,null,null,null,null,null,null,null,null,null,null,null,null,null,null,null,null,null,null,null,null,null,null,null,null,null,null,null,null,1]
[{"$f":"IFERROR(IF(INDIRECT($A$14&ROW())<>\"\",COUNTIF(Summary!$B$30:$B$1094,INDIRECT($A$14&ROW())),\"\"),\"\")","v":""},null,null,null,null,null,null,null,null,null,null,null,null,null,null,null,null,null,null,null,null,null,null,null,null,null,null,null,null,null,null,null,null,null,null,null,null,null,null,null,null,null,null,null,null,null,null,null,null,null,null,null,null,null,null,null,null,null,null,null,null,null,null,null,null,1]
[{"$f":"IFERROR(IF(INDIRECT($A$14&ROW())<>\"\",COUNTIF(Summary!$B$30:$B$1094,INDIRECT($A$14&ROW())),\"\"),\"\")","v":""},null,null,null,null,null,null,null,null,null,null,null,null,null,null,null,null,null,null,null,null,null,null,null,null,null,null,null,null,null,null,null,null,null,null,null,null,null,null,null,null,null,null,null,null,null,null,null,null,null,null,null,null,null,null,null,null,null,null,null,null,null,null,null,null,1]
[{"$f":"IFERROR(IF(INDIRECT($A$14&ROW())<>\"\",COUNTIF(Summary!$B$30:$B$1094,INDIRECT($A$14&ROW())),\"\"),\"\")","v":""},null,null,null,null,null,null,null,null,null,null,null,null,null,null,null,null,null,null,null,null,null,null,null,null,null,null,null,null,null,null,null,null,null,null,null,null,null,null,null,null,null,null,null,null,null,null,null,null,null,null,null,null,null,null,null,null,null,null,null,null,null,null,null,null,1]
[{"$f":"IFERROR(IF(INDIRECT($A$14&ROW())<>\"\",COUNTIF(Summary!$B$30:$B$1094,INDIRECT($A$14&ROW())),\"\"),\"\")","v":""},null,null,null,null,null,null,null,null,null,null,null,null,null,null,null,null,null,null,null,null,null,null,null,null,null,null,null,null,null,null,null,null,null,null,null,null,null,null,null,null,null,null,null,null,null,null,null,null,null,null,null,null,null,null,null,null,null,null,null,null,null,null,null,null,1]
[{"$f":"IFERROR(IF(INDIRECT($A$14&ROW())<>\"\",COUNTIF(Summary!$B$30:$B$1094,INDIRECT($A$14&ROW())),\"\"),\"\")","v":""},null,null,null,null,null,null,null,null,null,null,null,null,null,null,null,null,null,null,null,null,null,null,null,null,null,null,null,null,null,null,null,null,null,null,null,null,null,null,null,null,null,null,null,null,null,null,null,null,null,null,null,null,null,null,null,null,null,null,null,null,null,null,null,null,1]
[{"$f":"IFERROR(IF(INDIRECT($A$14&ROW())<>\"\",COUNTIF(Summary!$B$30:$B$1094,INDIRECT($A$14&ROW())),\"\"),\"\")","v":""},null,null,null,null,null,null,null,null,null,null,null,null,null,null,null,null,null,null,null,null,null,null,null,null,null,null,null,null,null,null,null,null,null,null,null,null,null,null,null,null,null,null,null,null,null,null,null,null,null,null,null,null,null,null,null,null,null,null,null,null,null,null,null,null,1]
[{"$f":"IFERROR(IF(INDIRECT($A$14&ROW())<>\"\",COUNTIF(Summary!$B$30:$B$1094,INDIRECT($A$14&ROW())),\"\"),\"\")","v":""},null,null,null,null,null,null,null,null,null,null,null,null,null,null,null,null,null,null,null,null,null,null,null,null,null,null,null,null,null,null,null,null,null,null,null,null,null,null,null,null,null,null,null,null,null,null,null,null,null,null,null,null,null,null,null,null,null,null,null,null,null,null,null,null,1]
[{"$f":"IFERROR(IF(INDIRECT($A$14&ROW())<>\"\",COUNTIF(Summary!$B$30:$B$1094,INDIRECT($A$14&ROW())),\"\"),\"\")","v":""},null,null,null,null,null,null,null,null,null,null,null,null,null,null,null,null,null,null,null,null,null,null,null,null,null,null,null,null,null,null,null,null,null,null,null,null,null,null,null,null,null,null,null,null,null,null,null,null,null,null,null,null,null,null,null,null,null,null,null,null,null,null,null,null,1]
[{"$f":"IFERROR(IF(INDIRECT($A$14&ROW())<>\"\",COUNTIF(Summary!$B$30:$B$1094,INDIRECT($A$14&ROW())),\"\"),\"\")","v":""},null,null,null,null,null,null,null,null,null,null,null,null,null,null,null,null,null,null,null,null,null,null,null,null,null,null,null,null,null,null,null,null,null,null,null,null,null,null,null,null,null,null,null,null,null,null,null,null,null,null,null,null,null,null,null,null,null,null,null,null,null,null,null,null,1]
[{"$f":"IFERROR(IF(INDIRECT($A$14&ROW())<>\"\",COUNTIF(Summary!$B$30:$B$1094,INDIRECT($A$14&ROW())),\"\"),\"\")","v":""},null,null,null,null,null,null,null,null,null,null,null,null,null,null,null,null,null,null,null,null,null,null,null,null,null,null,null,null,null,null,null,null,null,null,null,null,null,null,null,null,null,null,null,null,null,null,null,null,null,null,null,null,null,null,null,null,null,null,null,null,null,null,null,null,1]
[{"$f":"IFERROR(IF(INDIRECT($A$14&ROW())<>\"\",COUNTIF(Summary!$B$30:$B$1094,INDIRECT($A$14&ROW())),\"\"),\"\")","v":""},null,null,null,null,null,null,null,null,null,null,null,null,null,null,null,null,null,null,null,null,null,null,null,null,null,null,null,null,null,null,null,null,null,null,null,null,null,null,null,null,null,null,null,null,null,null,null,null,null,null,null,null,null,null,null,null,null,null,null,null,null,null,null,null,1]
[{"$f":"IFERROR(IF(INDIRECT($A$14&ROW())<>\"\",COUNTIF(Summary!$B$30:$B$1094,INDIRECT($A$14&ROW())),\"\"),\"\")","v":""},null,null,null,null,null,null,null,null,null,null,null,null,null,null,null,null,null,null,null,null,null,null,null,null,null,null,null,null,null,null,null,null,null,null,null,null,null,null,null,null,null,null,null,null,null,null,null,null,null,null,null,null,null,null,null,null,null,null,null,null,null,null,null,null,1]
[{"$f":"IFERROR(IF(INDIRECT($A$14&ROW())<>\"\",COUNTIF(Summary!$B$30:$B$1094,INDIRECT($A$14&ROW())),\"\"),\"\")","v":""},null,null,null,null,null,null,null,null,null,null,null,null,null,null,null,null,null,null,null,null,null,null,null,null,null,null,null,null,null,null,null,null,null,null,null,null,null,null,null,null,null,null,null,null,null,null,null,null,null,null,null,null,null,null,null,null,null,null,null,null,null,null,null,null,1]
[{"$f":"IFERROR(IF(INDIRECT($A$14&ROW())<>\"\",COUNTIF(Summary!$B$30:$B$1094,INDIRECT($A$14&ROW())),\"\"),\"\")","v":""},null,null,null,null,null,null,null,null,null,null,null,null,null,null,null,null,null,null,null,null,null,null,null,null,null,null,null,null,null,null,null,null,null,null,null,null,null,null,null,null,null,null,null,null,null,null,null,null,null,null,null,null,null,null,null,null,null,null,null,null,null,null,null,null,1]
[{"$f":"IFERROR(IF(INDIRECT($A$14&ROW())<>\"\",COUNTIF(Summary!$B$30:$B$1094,INDIRECT($A$14&ROW())),\"\"),\"\")","v":""},null,null,null,null,null,null,null,null,null,null,null,null,null,null,null,null,null,null,null,null,null,null,null,null,null,null,null,null,null,null,null,null,null,null,null,null,null,null,null,null,null,null,null,null,null,null,null,null,null,null,null,null,null,null,null,null,null,null,null,null,null,null,null,null,1]
[{"$f":"IFERROR(IF(INDIRECT($A$14&ROW())<>\"\",COUNTIF(Summary!$B$30:$B$1094,INDIRECT($A$14&ROW())),\"\"),\"\")","v":""},null,null,null,null,null,null,null,null,null,null,null,null,null,null,null,null,null,null,null,null,null,null,null,null,null,null,null,null,null,null,null,null,null,null,null,null,null,null,null,null,null,null,null,null,null,null,null,null,null,null,null,null,null,null,null,null,null,null,null,null,null,null,null,null,1]
[{"$f":"IFERROR(IF(INDIRECT($A$14&ROW())<>\"\",COUNTIF(Summary!$B$30:$B$1094,INDIRECT($A$14&ROW())),\"\"),\"\")","v":""},null,null,null,null,null,null,null,null,null,null,null,null,null,null,null,null,null,null,null,null,null,null,null,null,null,null,null,null,null,null,null,null,null,null,null,null,null,null,null,null,null,null,null,null,null,null,null,null,null,null,null,null,null,null,null,null,null,null,null,null,null,null,null,null,1]
[{"$f":"IFERROR(IF(INDIRECT($A$14&ROW())<>\"\",COUNTIF(Summary!$B$30:$B$1094,INDIRECT($A$14&ROW())),\"\"),\"\")","v":""},null,null,null,null,null,null,null,null,null,null,null,null,null,null,null,null,null,null,null,null,null,null,null,null,null,null,null,null,null,null,null,null,null,null,null,null,null,null,null,null,null,null,null,null,null,null,null,null,null,null,null,null,null,null,null,null,null,null,null,null,null,null,null,null,1]
[{"$f":"IFERROR(IF(INDIRECT($A$14&ROW())<>\"\",COUNTIF(Summary!$B$30:$B$1094,INDIRECT($A$14&ROW())),\"\"),\"\")","v":""},null,null,null,null,null,null,null,null,null,null,null,null,null,null,null,null,null,null,null,null,null,null,null,null,null,null,null,null,null,null,null,null,null,null,null,null,null,null,null,null,null,null,null,null,null,null,null,null,null,null,null,null,null,null,null,null,null,null,null,null,null,null,null,null,1]
[{"$f":"IFERROR(IF(INDIRECT($A$14&ROW())<>\"\",COUNTIF(Summary!$B$30:$B$1094,INDIRECT($A$14&ROW())),\"\"),\"\")","v":""},null,null,null,null,null,null,null,null,null,null,null,null,null,null,null,null,null,null,null,null,null,null,null,null,null,null,null,null,null,null,null,null,null,null,null,null,null,null,null,null,null,null,null,null,null,null,null,null,null,null,null,null,null,null,null,null,null,null,null,null,null,null,null,null,1]
[{"$f":"IFERROR(IF(INDIRECT($A$14&ROW())<>\"\",COUNTIF(Summary!$B$30:$B$1094,INDIRECT($A$14&ROW())),\"\"),\"\")","v":""},null,null,null,null,null,null,null,null,null,null,null,null,null,null,null,null,null,null,null,null,null,null,null,null,null,null,null,null,null,null,null,null,null,null,null,null,null,null,null,null,null,null,null,null,null,null,null,null,null,null,null,null,null,null,null,null,null,null,null,null,null,null,null,null,3]
[{"$f":"IFERROR(IF(INDIRECT($A$14&ROW())<>\"\",COUNTIF(Summary!$B$30:$B$1094,INDIRECT($A$14&ROW())),\"\"),\"\")","v":""},null,null,null,null,null,null,null,null,null,null,null,null,null,null,null,null,null,null,null,null,null,null,null,null,null,null,null,null,null,null,null,null,null,null,null,null,null,null,null,null,null,null,null,null,null,null,null,null,null,null,null,null,null,null,null,null,null,null,null,null,null,null,null,null,1]
[{"$f":"IFERROR(IF(INDIRECT($A$14&ROW())<>\"\",COUNTIF(Summary!$B$30:$B$1094,INDIRECT($A$14&ROW())),\"\"),\"\")","v":""},null,null,null,null,null,null,null,null,null,null,null,null,null,null,null,null,null,null,null,null,null,null,null,null,null,null,null,null,null,null,null,null,null,null,null,null,null,null,null,null,null,null,null,null,null,null,null,null,null,null,null,null,null,null,null,null,null,null,null,null,null,null,null,null,1]
[{"$f":"IFERROR(IF(INDIRECT($A$14&ROW())<>\"\",COUNTIF(Summary!$B$30:$B$1094,INDIRECT($A$14&ROW())),\"\"),\"\")","v":""},null,null,null,null,null,null,null,null,null,null,null,null,null,null,null,null,null,null,null,null,null,null,null,null,null,null,null,null,null,null,null,null,null,null,null,null,null,null,null,null,null,null,null,null,null,null,null,null,null,null,null,null,null,null,null,null,null,null,null,null,null,null,null,null,-1]
[{"$f":"IFERROR(IF(INDIRECT($A$14&ROW())<>\"\",COUNTIF(Summary!$B$30:$B$1094,INDIRECT($A$14&ROW())),\"\"),\"\")","v":""},null,null,null,null,null,null,null,null,null,null,null,null,null,null,null,null,null,null,null,null,null,null,null,null,null,null,null,null,null,null,null,null,null,null,null,null,null,null,null,null,null,null,null,null,null,null,null,null,null,null,null,null,null,null,null,null,null,null,null,null,null,null,null,null,1]
[{"$f":"IFERROR(IF(INDIRECT($A$14&ROW())<>\"\",COUNTIF(Summary!$B$30:$B$1094,INDIRECT($A$14&ROW())),\"\"),\"\")","v":""},null,null,null,null,null,null,null,null,null,null,null,null,null,null,null,null,null,null,null,null,null,null,null,null,null,null,null,null,null,null,null,null,null,null,null,null,null,null,null,null,null,null,null,null,null,null,null,null,null,null,null,null,null,null,null,null,null,null,null,null,null,null,null,null,1]
[{"$f":"IFERROR(IF(INDIRECT($A$14&ROW())<>\"\",COUNTIF(Summary!$B$30:$B$1094,INDIRECT($A$14&ROW())),\"\"),\"\")","v":""},null,null,null,null,null,null,null,null,null,null,null,null,null,null,null,null,null,null,null,null,null,null,null,null,null,null,null,null,null,null,null,null,null,null,null,null,null,null,null,null,null,null,null,null,null,null,null,null,null,null,null,null,null,null,null,null,null,null,null,null,null,null,null,null,-1]
[{"$f":"IFERROR(IF(INDIRECT($A$14&ROW())<>\"\",COUNTIF(Summary!$B$30:$B$1094,INDIRECT($A$14&ROW())),\"\"),\"\")","v":""},null,null,null,null,null,null,null,null,null,null,null,null,null,null,null,null,null,null,null,null,null,null,null,null,null,null,null,null,null,null,null,null,null,null,null,null,null,null,null,null,null,null,null,null,null,null,null,null,null,null,null,null,null,null,null,null,null,null,null,null,null,null,null,null,1]
[{"$f":"IFERROR(IF(INDIRECT($A$14&ROW())<>\"\",COUNTIF(Summary!$B$30:$B$1094,INDIRECT($A$14&ROW())),\"\"),\"\")","v":""},null,null,null,null,null,null,null,null,null,null,null,null,null,null,null,null,null,null,null,null,null,null,null,null,null,null,null,null,null,null,null,null,null,null,null,null,null,null,null,null,null,null,null,null,null,null,null,null,null,null,null,null,null,null,null,null,null,null,null,null,null,null,null,null,1]
[{"$f":"IFERROR(IF(INDIRECT($A$14&ROW())<>\"\",COUNTIF(Summary!$B$30:$B$1094,INDIRECT($A$14&ROW())),\"\"),\"\")","v":""},null,null,null,null,null,null,null,null,null,null,null,null,null,null,null,null,null,null,null,null,null,null,null,null,null,null,null,null,null,null,null,null,null,null,null,null,null,null,null,null,null,null,null,null,null,null,null,null,null,null,null,null,null,null,null,null,null,null,null,null,null,null,null,null,1]
[{"$f":"IFERROR(IF(INDIRECT($A$14&ROW())<>\"\",COUNTIF(Summary!$B$30:$B$1094,INDIRECT($A$14&ROW())),\"\"),\"\")","v":""},null,null,null,null,null,null,null,null,null,null,null,null,null,null,null,null,null,null,null,null,null,null,null,null,null,null,null,null,null,null,null,null,null,null,null,null,null,null,null,null,null,null,null,null,null,null,null,null,null,null,null,null,null,null,null,null,null,null,null,null,null,null,null,null,-1]
[{"$f":"IFERROR(IF(INDIRECT($A$14&ROW())<>\"\",COUNTIF(Summary!$B$30:$B$1094,INDIRECT($A$14&ROW())),\"\"),\"\")","v":""},null,null,null,null,null,null,null,null,null,null,null,null,null,null,null,null,null,null,null,null,null,null,null,null,null,null,null,null,null,null,null,null,null,null,null,null,null,null,null,null,null,null,null,null,null,null,null,null,null,null,null,null,null,null,null,null,null,null,null,null,null,null,null,null,1]
[{"$f":"IFERROR(IF(INDIRECT($A$14&ROW())<>\"\",COUNTIF(Summary!$B$30:$B$1094,INDIRECT($A$14&ROW())),\"\"),\"\")","v":""},null,null,null,null,null,null,null,null,null,null,null,null,null,null,null,null,null,null,null,null,null,null,null,null,null,null,null,null,null,null,null,null,null,null,null,null,null,null,null,null,null,null,null,null,null,null,null,null,null,null,null,null,null,null,null,null,null,null,null,null,null,null,null,null,1]
[{"$f":"IFERROR(IF(INDIRECT($A$14&ROW())<>\"\",COUNTIF(Summary!$B$30:$B$1094,INDIRECT($A$14&ROW())),\"\"),\"\")","v":""},null,null,null,null,null,null,null,null,null,null,null,null,null,null,null,null,null,null,null,null,null,null,null,null,null,null,null,null,null,null,null,null,null,null,null,null,null,null,null,null,null,null,null,null,null,null,null,null,null,null,null,null,null,null,null,null,null,null,null,null,null,null,null,null,1]
[{"$f":"IFERROR(IF(INDIRECT($A$14&ROW())<>\"\",COUNTIF(Summary!$B$30:$B$1094,INDIRECT($A$14&ROW())),\"\"),\"\")","v":""},null,null,null,null,null,null,null,null,null,null,null,null,null,null,null,null,null,null,null,null,null,null,null,null,null,null,null,null,null,null,null,null,null,null,null,null,null,null,null,null,null,null,null,null,null,null,null,null,null,null,null,null,null,null,null,null,null,null,null,null,null,null,null,null,1]
[{"$f":"IFERROR(IF(INDIRECT($A$14&ROW())<>\"\",COUNTIF(Summary!$B$30:$B$1094,INDIRECT($A$14&ROW())),\"\"),\"\")","v":""},null,null,null,null,null,null,null,null,null,null,null,null,null,null,null,null,null,null,null,null,null,null,null,null,null,null,null,null,null,null,null,null,null,null,null,null,null,null,null,null,null,null,null,null,null,null,null,null,null,null,null,null,null,null,null,null,null,null,null,null,null,null,null,null,1]
[{"$f":"IFERROR(IF(INDIRECT($A$14&ROW())<>\"\",COUNTIF(Summary!$B$30:$B$1094,INDIRECT($A$14&ROW())),\"\"),\"\")","v":""},null,null,null,null,null,null,null,null,null,null,null,null,null,null,null,null,null,null,null,null,null,null,null,null,null,null,null,null,null,null,null,null,null,null,null,null,null,null,null,null,null,null,null,null,null,null,null,null,null,null,null,null,null,null,null,null,null,null,null,null,null,null,null,null,1]
[{"$f":"IFERROR(IF(INDIRECT($A$14&ROW())<>\"\",COUNTIF(Summary!$B$30:$B$1094,INDIRECT($A$14&ROW())),\"\"),\"\")","v":""},null,null,null,null,null,null,null,null,null,null,null,null,null,null,null,null,null,null,null,null,null,null,null,null,null,null,null,null,null,null,null,null,null,null,null,null,null,null,null,null,null,null,null,null,null,null,null,null,null,null,null,null,null,null,null,null,null,null,null,null,null,null,null,null,1]
[{"$f":"IFERROR(IF(INDIRECT($A$14&ROW())<>\"\",COUNTIF(Summary!$B$30:$B$1094,INDIRECT($A$14&ROW())),\"\"),\"\")","v":""},null,null,null,null,null,null,null,null,null,null,null,null,null,null,null,null,null,null,null,null,null,null,null,null,null,null,null,null,null,null,null,null,null,null,null,null,null,null,null,null,null,null,null,null,null,null,null,null,null,null,null,null,null,null,null,null,null,null,null,null,null,null,null,null,1]
[{"$f":"IFERROR(IF(INDIRECT($A$14&ROW())<>\"\",COUNTIF(Summary!$B$30:$B$1094,INDIRECT($A$14&ROW())),\"\"),\"\")","v":""},null,null,null,null,null,null,null,null,null,null,null,null,null,null,null,null,null,null,null,null,null,null,null,null,null,null,null,null,null,null,null,null,null,null,null,null,null,null,null,null,null,null,null,null,null,null,null,null,null,null,null,null,null,null,null,null,null,null,null,null,null,null,null,null,1]
[{"$f":"IFERROR(IF(INDIRECT($A$14&ROW())<>\"\",COUNTIF(Summary!$B$30:$B$1094,INDIRECT($A$14&ROW())),\"\"),\"\")","v":""},null,null,null,null,null,null,null,null,null,null,null,null,null,null,null,null,null,null,null,null,null,null,null,null,null,null,null,null,null,null,null,null,null,null,null,null,null,null,null,null,null,null,null,null,null,null,null,null,null,null,null,null,null,null,null,null,null,null,null,null,null,null,null,null,1]
[{"$f":"IFERROR(IF(INDIRECT($A$14&ROW())<>\"\",COUNTIF(Summary!$B$30:$B$1094,INDIRECT($A$14&ROW())),\"\"),\"\")","v":""},null,null,null,null,null,null,null,null,null,null,null,null,null,null,null,null,null,null,null,null,null,null,null,null,null,null,null,null,null,null,null,null,null,null,null,null,null,null,null,null,null,null,null,null,null,null,null,null,null,null,null,null,null,null,null,null,null,null,null,null,null,null,null,null,1]
[{"$f":"IFERROR(IF(INDIRECT($A$14&ROW())<>\"\",COUNTIF(Summary!$B$30:$B$1094,INDIRECT($A$14&ROW())),\"\"),\"\")","v":""},null,null,null,null,null,null,null,null,null,null,null,null,null,null,null,null,null,null,null,null,null,null,null,null,null,null,null,null,null,null,null,null,null,null,null,null,null,null,null,null,null,null,null,null,null,null,null,null,null,null,null,null,null,null,null,null,null,null,null,null,null,null,null,null,1]
[{"$f":"IFERROR(IF(INDIRECT($A$14&ROW())<>\"\",COUNTIF(Summary!$B$30:$B$1094,INDIRECT($A$14&ROW())),\"\"),\"\")","v":""},null,null,null,null,null,null,null,null,null,null,null,null,null,null,null,null,null,null,null,null,null,null,null,null,null,null,null,null,null,null,null,null,null,null,null,null,null,null,null,null,null,null,null,null,null,null,null,null,null,null,null,null,null,null,null,null,null,null,null,null,null,null,null,null,1]
[{"$f":"IFERROR(IF(INDIRECT($A$14&ROW())<>\"\",COUNTIF(Summary!$B$30:$B$1094,INDIRECT($A$14&ROW())),\"\"),\"\")","v":""},null,null,null,null,null,null,null,null,null,null,null,null,null,null,null,null,null,null,null,null,null,null,null,null,null,null,null,null,null,null,null,null,null,null,null,null,null,null,null,null,null,null,null,null,null,null,null,null,null,null,null,null,null,null,null,null,null,null,null,null,null,null,null,null,1]
[{"$f":"IFERROR(IF(INDIRECT($A$14&ROW())<>\"\",COUNTIF(Summary!$B$30:$B$1094,INDIRECT($A$14&ROW())),\"\"),\"\")","v":""},null,null,null,null,null,null,null,null,null,null,null,null,null,null,null,null,null,null,null,null,null,null,null,null,null,null,null,null,null,null,null,null,null,null,null,null,null,null,null,null,null,null,null,null,null,null,null,null,null,null,null,null,null,null,null,null,null,null,null,null,null,null,null,null,1]
[{"$f":"IFERROR(IF(INDIRECT($A$14&ROW())<>\"\",COUNTIF(Summary!$B$30:$B$1094,INDIRECT($A$14&ROW())),\"\"),\"\")","v":""},null,null,null,null,null,null,null,null,null,null,null,null,null,null,null,null,null,null,null,null,null,null,null,null,null,null,null,null,null,null,null,null,null,null,null,null,null,null,null,null,null,null,null,null,null,null,null,null,null,null,null,null,null,null,null,null,null,null,null,null,null,null,null,null,1]
[{"$f":"IFERROR(IF(INDIRECT($A$14&ROW())<>\"\",COUNTIF(Summary!$B$30:$B$1094,INDIRECT($A$14&ROW())),\"\"),\"\")","v":""},null,null,null,null,null,null,null,null,null,null,null,null,null,null,null,null,null,null,null,null,null,null,null,null,null,null,null,null,null,null,null,null,null,null,null,null,null,null,null,null,null,null,null,null,null,null,null,null,null,null,null,null,null,null,null,null,null,null,null,null,null,null,null,null,1]
[{"$f":"IFERROR(IF(INDIRECT($A$14&ROW())<>\"\",COUNTIF(Summary!$B$30:$B$1094,INDIRECT($A$14&ROW())),\"\"),\"\")","v":""},null,null,null,null,null,null,null,null,null,null,null,null,null,null,null,null,null,null,null,null,null,null,null,null,null,null,null,null,null,null,null,null,null,null,null,null,null,null,null,null,null,null,null,null,null,null,null,null,null,null,null,null,null,null,null,null,null,null,null,null,null,null,null,null,1]
[{"$f":"IFERROR(IF(INDIRECT($A$14&ROW())<>\"\",COUNTIF(Summary!$B$30:$B$1094,INDIRECT($A$14&ROW())),\"\"),\"\")","v":""},null,null,null,null,null,null,null,null,null,null,null,null,null,null,null,null,null,null,null,null,null,null,null,null,null,null,null,null,null,null,null,null,null,null,null,null,null,null,null,null,null,null,null,null,null,null,null,null,null,null,null,null,null,null,null,null,null,null,null,null,null,null,null,null,1]
[{"$f":"IFERROR(IF(INDIRECT($A$14&ROW())<>\"\",COUNTIF(Summary!$B$30:$B$1094,INDIRECT($A$14&ROW())),\"\"),\"\")","v":""},null,null,null,null,null,null,null,null,null,null,null,null,null,null,null,null,null,null,null,null,null,null,null,null,null,null,null,null,null,null,null,null,null,null,null,null,null,null,null,null,null,null,null,null,null,null,null,null,null,null,null,null,null,null,null,null,null,null,null,null,null,null,null,null,1]
[{"$f":"IFERROR(IF(INDIRECT($A$14&ROW())<>\"\",COUNTIF(Summary!$B$30:$B$1094,INDIRECT($A$14&ROW())),\"\"),\"\")","v":""},null,null,null,null,null,null,null,null,null,null,null,null,null,null,null,null,null,null,null,null,null,null,null,null,null,null,null,null,null,null,null,null,null,null,null,null,null,null,null,null,null,null,null,null,null,null,null,null,null,null,null,null,null,null,null,null,null,null,null,null,null,null,null,null,1]
[{"$f":"IFERROR(IF(INDIRECT($A$14&ROW())<>\"\",COUNTIF(Summary!$B$30:$B$1094,INDIRECT($A$14&ROW())),\"\"),\"\")","v":""},null,null,null,null,null,null,null,null,null,null,null,null,null,null,null,null,null,null,null,null,null,null,null,null,null,null,null,null,null,null,null,null,null,null,null,null,null,null,null,null,null,null,null,null,null,null,null,null,null,null,null,null,null,null,null,null,null,null,null,null,null,null,null,null,1]
[{"$f":"IFERROR(IF(INDIRECT($A$14&ROW())<>\"\",COUNTIF(Summary!$B$30:$B$1094,INDIRECT($A$14&ROW())),\"\"),\"\")","v":""},null,null,null,null,null,null,null,null,null,null,null,null,null,null,null,null,null,null,null,null,null,null,null,null,null,null,null,null,null,null,null,null,null,null,null,null,null,null,null,null,null,null,null,null,null,null,null,null,null,null,null,null,null,null,null,null,null,null,null,null,null,null,null,null,1]
[{"$f":"IFERROR(IF(INDIRECT($A$14&ROW())<>\"\",COUNTIF(Summary!$B$30:$B$1094,INDIRECT($A$14&ROW())),\"\"),\"\")","v":""},null,null,null,null,null,null,null,null,null,null,null,null,null,null,null,null,null,null,null,null,null,null,null,null,null,null,null,null,null,null,null,null,null,null,null,null,null,null,null,null,null,null,null,null,null,null,null,null,null,null,null,null,null,null,null,null,null,null,null,null,null,null,null,null,1]
[{"$f":"IFERROR(IF(INDIRECT($A$14&ROW())<>\"\",COUNTIF(Summary!$B$30:$B$1094,INDIRECT($A$14&ROW())),\"\"),\"\")","v":""},null,null,null,null,null,null,null,null,null,null,null,null,null,null,null,null,null,null,null,null,null,null,null,null,null,null,null,null,null,null,null,null,null,null,null,null,null,null,null,null,null,null,null,null,null,null,null,null,null,null,null,null,null,null,null,null,null,null,null,null,null,null,null,null,1]
[{"$f":"IFERROR(IF(INDIRECT($A$14&ROW())<>\"\",COUNTIF(Summary!$B$30:$B$1094,INDIRECT($A$14&ROW())),\"\"),\"\")","v":""},null,null,null,null,null,null,null,null,null,null,null,null,null,null,null,null,null,null,null,null,null,null,null,null,null,null,null,null,null,null,null,null,null,null,null,null,null,null,null,null,null,null,null,null,null,null,null,null,null,null,null,null,null,null,null,null,null,null,null,null,null,null,null,null,1]
[{"$f":"IFERROR(IF(INDIRECT($A$14&ROW())<>\"\",COUNTIF(Summary!$B$30:$B$1094,INDIRECT($A$14&ROW())),\"\"),\"\")","v":""},null,null,null,null,null,null,null,null,null,null,null,null,null,null,null,null,null,null,null,null,null,null,null,null,null,null,null,null,null,null,null,null,null,null,null,null,null,null,null,null,null,null,null,null,null,null,null,null,null,null,null,null,null,null,null,null,null,null,null,null,null,null,null,null,1]
[{"$f":"IFERROR(IF(INDIRECT($A$14&ROW())<>\"\",COUNTIF(Summary!$B$30:$B$1094,INDIRECT($A$14&ROW())),\"\"),\"\")","v":""},null,null,null,null,null,null,null,null,null,null,null,null,null,null,null,null,null,null,null,null,null,null,null,null,null,null,null,null,null,null,null,null,null,null,null,null,null,null,null,null,null,null,null,null,null,null,null,null,null,null,null,null,null,null,null,null,null,null,null,null,null,null,null,null,-1]
[{"$f":"IFERROR(IF(INDIRECT($A$14&ROW())<>\"\",COUNTIF(Summary!$B$30:$B$1094,INDIRECT($A$14&ROW())),\"\"),\"\")","v":""},null,null,null,null,null,null,null,null,null,null,null,null,null,null,null,null,null,null,null,null,null,null,null,null,null,null,null,null,null,null,null,null,null,null,null,null,null,null,null,null,null,null,null,null,null,null,null,null,null,null,null,null,null,null,null,null,null,null,null,null,null,null,null,null,-1]
[{"$f":"IFERROR(IF(INDIRECT($A$14&ROW())<>\"\",COUNTIF(Summary!$B$30:$B$1094,INDIRECT($A$14&ROW())),\"\"),\"\")","v":""},null,null,null,null,null,null,null,null,null,null,null,null,null,null,null,null,null,null,null,null,null,null,null,null,null,null,null,null,null,null,null,null,null,null,null,null,null,null,null,null,null,null,null,null,null,null,null,null,null,null,null,null,null,null,null,null,null,null,null,null,null,null,null,null,-1]
[{"$f":"IFERROR(IF(INDIRECT($A$14&ROW())<>\"\",COUNTIF(Summary!$B$30:$B$1094,INDIRECT($A$14&ROW())),\"\"),\"\")","v":""},null,null,null,null,null,null,null,null,null,null,null,null,null,null,null,null,null,null,null,null,null,null,null,null,null,null,null,null,null,null,null,null,null,null,null,null,null,null,null,null,null,null,null,null,null,null,null,null,null,null,null,null,null,null,null,null,null,null,null,null,null,null,null,null,-1]
[{"$f":"IFERROR(IF(INDIRECT($A$14&ROW())<>\"\",COUNTIF(Summary!$B$30:$B$1094,INDIRECT($A$14&ROW())),\"\"),\"\")","v":""},null,null,null,null,null,null,null,null,null,null,null,null,null,null,null,null,null,null,null,null,null,null,null,null,null,null,null,null,null,null,null,null,null,null,null,null,null,null,null,null,null,null,null,null,null,null,null,null,null,null,null,null,null,null,null,null,null,null,null,null,null,null,null,null,1]
[{"$f":"IFERROR(IF(INDIRECT($A$14&ROW())<>\"\",COUNTIF(Summary!$B$30:$B$1094,INDIRECT($A$14&ROW())),\"\"),\"\")","v":""},null,null,null,null,null,null,null,null,null,null,null,null,null,null,null,null,null,null,null,null,null,null,null,null,null,null,null,null,null,null,null,null,null,null,null,null,null,null,null,null,null,null,null,null,null,null,null,null,null,null,null,null,null,null,null,null,null,null,null,null,null,null,null,null,1]
[{"$f":"IFERROR(IF(INDIRECT($A$14&ROW())<>\"\",COUNTIF(Summary!$B$30:$B$1094,INDIRECT($A$14&ROW())),\"\"),\"\")","v":""},null,null,null,null,null,null,null,null,null,null,null,null,null,null,null,null,null,null,null,null,null,null,null,null,null,null,null,null,null,null,null,null,null,null,null,null,null,null,null,null,null,null,null,null,null,null,null,null,null,null,null,null,null,null,null,null,null,null,null,null,null,null,null,null,1]
[{"$f":"IFERROR(IF(INDIRECT($A$14&ROW())<>\"\",COUNTIF(Summary!$B$30:$B$1094,INDIRECT($A$14&ROW())),\"\"),\"\")","v":""},null,null,null,null,null,null,null,null,null,null,null,null,null,null,null,null,null,null,null,null,null,null,null,null,null,null,null,null,null,null,null,null,null,null,null,null,null,null,null,null,null,null,null,null,null,null,null,null,null,null,null,null,null,null,null,null,null,null,null,null,null,null,null,null,1]
[{"$f":"IFERROR(IF(INDIRECT($A$14&ROW())<>\"\",COUNTIF(Summary!$B$30:$B$1094,INDIRECT($A$14&ROW())),\"\"),\"\")","v":""},null,null,null,null,null,null,null,null,null,null,null,null,null,null,null,null,null,null,null,null,null,null,null,null,null,null,null,null,null,null,null,null,null,null,null,null,null,null,null,null,null,null,null,null,null,null,null,null,null,null,null,null,null,null,null,null,null,null,null,null,null,null,null,null,1]
[{"$f":"IFERROR(IF(INDIRECT($A$14&ROW())<>\"\",COUNTIF(Summary!$B$30:$B$1094,INDIRECT($A$14&ROW())),\"\"),\"\")","v":""},null,null,null,null,null,null,null,null,null,null,null,null,null,null,null,null,null,null,null,null,null,null,null,null,null,null,null,null,null,null,null,null,null,null,null,null,null,null,null,null,null,null,null,null,null,null,null,null,null,null,null,null,null,null,null,null,null,null,null,null,null,null,null,null,-1]
[{"$f":"IFERROR(IF(INDIRECT($A$14&ROW())<>\"\",COUNTIF(Summary!$B$30:$B$1094,INDIRECT($A$14&ROW())),\"\"),\"\")","v":""},null,null,null,null,null,null,null,null,null,null,null,null,null,null,null,null,null,null,null,null,null,null,null,null,null,null,null,null,null,null,null,null,null,null,null,null,null,null,null,null,null,null,null,null,null,null,null,null,null,null,null,null,null,null,null,null,null,null,null,null,null,null,null,null,-1]
[{"$f":"IFERROR(IF(INDIRECT($A$14&ROW())<>\"\",COUNTIF(Summary!$B$30:$B$1094,INDIRECT($A$14&ROW())),\"\"),\"\")","v":""},null,null,null,null,null,null,null,null,null,null,null,null,null,null,null,null,null,null,null,null,null,null,null,null,null,null,null,null,null,null,null,null,null,null,null,null,null,null,null,null,null,null,null,null,null,null,null,null,null,null,null,null,null,null,null,null,null,null,null,null,null,null,null,null,-1]
[{"$f":"IFERROR(IF(INDIRECT($A$14&ROW())<>\"\",COUNTIF(Summary!$B$30:$B$1094,INDIRECT($A$14&ROW())),\"\"),\"\")","v":""},null,null,null,null,null,null,null,null,null,null,null,null,null,null,null,null,null,null,null,null,null,null,null,null,null,null,null,null,null,null,null,null,null,null,null,null,null,null,null,null,null,null,null,null,null,null,null,null,null,null,null,null,null,null,null,null,null,null,null,null,null,null,null,null,-1]
[{"$f":"IFERROR(IF(INDIRECT($A$14&ROW())<>\"\",COUNTIF(Summary!$B$30:$B$1094,INDIRECT($A$14&ROW())),\"\"),\"\")","v":""},null,null,null,null,null,null,null,null,null,null,null,null,null,null,null,null,null,null,null,null,null,null,null,null,null,null,null,null,null,null,null,null,null,null,null,null,null,null,null,null,null,null,null,null,null,null,null,null,null,null,null,null,null,null,null,null,null,null,null,null,null,null,null,null,1]
[{"$f":"IFERROR(IF(INDIRECT($A$14&ROW())<>\"\",COUNTIF(Summary!$B$30:$B$1094,INDIRECT($A$14&ROW())),\"\"),\"\")","v":""},null,null,null,null,null,null,null,null,null,null,null,null,null,null,null,null,null,null,null,null,null,null,null,null,null,null,null,null,null,null,null,null,null,null,null,null,null,null,null,null,null,null,null,null,null,null,null,null,null,null,null,null,null,null,null,null,null,null,null,null,null,null,null,null,1]
[{"$f":"IFERROR(IF(INDIRECT($A$14&ROW())<>\"\",COUNTIF(Summary!$B$30:$B$1094,INDIRECT($A$14&ROW())),\"\"),\"\")","v":""},null,null,null,null,null,null,null,null,null,null,null,null,null,null,null,null,null,null,null,null,null,null,null,null,null,null,null,null,null,null,null,null,null,null,null,null,null,null,null,null,null,null,null,null,null,null,null,null,null,null,null,null,null,null,null,null,null,null,null,null,null,null,null,null,1]
[{"$f":"IFERROR(IF(INDIRECT($A$14&ROW())<>\"\",COUNTIF(Summary!$B$30:$B$1094,INDIRECT($A$14&ROW())),\"\"),\"\")","v":""}]
[{"$f":"IFERROR(IF(INDIRECT($A$14&ROW())<>\"\",COUNTIF(Summary!$B$30:$B$1094,INDIRECT($A$14&ROW())),\"\"),\"\")","v":""}]
[{"$f":"IFERROR(IF(INDIRECT($A$14&ROW())<>\"\",COUNTIF(Summary!$B$30:$B$1094,INDIRECT($A$14&ROW())),\"\"),\"\")","v":""}]
[{"$f":"IFERROR(IF(INDIRECT($A$14&ROW())<>\"\",COUNTIF(Summary!$B$30:$B$1094,INDIRECT($A$14&ROW())),\"\"),\"\")","v":""}]
[{"$f":"IFERROR(IF(INDIRECT($A$14&ROW())<>\"\",COUNTIF(Summary!$B$30:$B$1094,INDIRECT($A$14&ROW())),\"\"),\"\")","v":""}]
[{"$f":"IFERROR(IF(INDIRECT($A$14&ROW())<>\"\",COUNTIF(Summary!$B$30:$B$1094,INDIRECT($A$14&ROW())),\"\"),\"\")","v":""}]
[{"$f":"IFERROR(IF(INDIRECT($A$14&ROW())<>\"\",COUNTIF(Summary!$B$30:$B$1094,INDIRECT($A$14&ROW())),\"\"),\"\")","v":""}]
[{"$f":"IFERROR(IF(INDIRECT($A$14&ROW())<>\"\",COUNTIF(Summary!$B$30:$B$1094,INDIRECT($A$14&ROW())),\"\"),\"\")","v":""}]
[{"$f":"IFERROR(IF(INDIRECT($A$14&ROW())<>\"\",COUNTIF(Summary!$B$30:$B$1094,INDIRECT($A$14&ROW())),\"\"),\"\")","v":""}]
[{"$f":"IFERROR(IF(INDIRECT($A$14&ROW())<>\"\",COUNTIF(Summary!$B$30:$B$1094,INDIRECT($A$14&ROW())),\"\"),\"\")","v":""}]
[{"$f":"IFERROR(IF(INDIRECT($A$14&ROW())<>\"\",COUNTIF(Summary!$B$30:$B$1094,INDIRECT($A$14&ROW())),\"\"),\"\")","v":""}]
[{"$f":"IFERROR(IF(INDIRECT($A$14&ROW())<>\"\",COUNTIF(Summary!$B$30:$B$1094,INDIRECT($A$14&ROW())),\"\"),\"\")","v":""}]
[{"$f":"IFERROR(IF(INDIRECT($A$14&ROW())<>\"\",COUNTIF(Summary!$B$30:$B$1094,INDIRECT($A$14&ROW())),\"\"),\"\")","v":""}]
[{"$f":"IFERROR(IF(INDIRECT($A$14&ROW())<>\"\",COUNTIF(Summary!$B$30:$B$1094,INDIRECT($A$14&ROW())),\"\"),\"\")","v":""}]
[{"$f":"IFERROR(IF(INDIRECT($A$14&ROW())<>\"\",COUNTIF(Summary!$B$30:$B$1094,INDIRECT($A$14&ROW())),\"\"),\"\")","v":""}]
[{"$f":"IFERROR(IF(INDIRECT($A$14&ROW())<>\"\",COUNTIF(Summary!$B$30:$B$1094,INDIRECT($A$14&ROW())),\"\"),\"\")","v":""}]
[{"$f":"IFERROR(IF(INDIRECT($A$14&ROW())<>\"\",COUNTIF(Summary!$B$30:$B$1094,INDIRECT($A$14&ROW())),\"\"),\"\")","v":""}]
[{"$f":"IFERROR(IF(INDIRECT($A$14&ROW())<>\"\",COUNTIF(Summary!$B$30:$B$1094,INDIRECT($A$14&ROW())),\"\"),\"\")","v":""}]
[{"$f":"IFERROR(IF(INDIRECT($A$14&ROW())<>\"\",COUNTIF(Summary!$B$30:$B$1094,INDIRECT($A$14&ROW())),\"\"),\"\")","v":""}]
[{"$f":"IFERROR(IF(INDIRECT($A$14&ROW())<>\"\",COUNTIF(Summary!$B$30:$B$1094,INDIRECT($A$14&ROW())),\"\"),\"\")","v":""}]
[{"$f":"IFERROR(IF(INDIRECT($A$14&ROW())<>\"\",COUNTIF(Summary!$B$30:$B$1094,INDIRECT($A$14&ROW())),\"\"),\"\")","v":""}]
[{"$f":"IFERROR(IF(INDIRECT($A$14&ROW())<>\"\",COUNTIF(Summary!$B$30:$B$1094,INDIRECT($A$14&ROW())),\"\"),\"\")","v":""}]
[{"$f":"IFERROR(IF(INDIRECT($A$14&ROW())<>\"\",COUNTIF(Summary!$B$30:$B$1094,INDIRECT($A$14&ROW())),\"\"),\"\")","v":""}]
[{"$f":"IFERROR(IF(INDIRECT($A$14&ROW())<>\"\",COUNTIF(Summary!$B$30:$B$1094,INDIRECT($A$14&ROW())),\"\"),\"\")","v":""}]
[{"$f":"IFERROR(IF(INDIRECT($A$14&ROW())<>\"\",COUNTIF(Summary!$B$30:$B$1094,INDIRECT($A$14&ROW())),\"\"),\"\")","v":""}]
[{"$f":"IFERROR(IF(INDIRECT($A$14&ROW())<>\"\",COUNTIF(Summary!$B$30:$B$1094,INDIRECT($A$14&ROW())),\"\"),\"\")","v":""}]
[{"$f":"IFERROR(IF(INDIRECT($A$14&ROW())<>\"\",COUNTIF(Summary!$B$30:$B$1094,INDIRECT($A$14&ROW())),\"\"),\"\")","v":""}]
[{"$f":"IFERROR(IF(INDIRECT($A$14&ROW())<>\"\",COUNTIF(Summary!$B$30:$B$1094,INDIRECT($A$14&ROW())),\"\"),\"\")","v":""}]
[{"$f":"IFERROR(IF(INDIRECT($A$14&ROW())<>\"\",COUNTIF(Summary!$B$30:$B$1094,INDIRECT($A$14&ROW())),\"\"),\"\")","v":""}]
[{"$f":"IFERROR(IF(INDIRECT($A$14&ROW())<>\"\",COUNTIF(Summary!$B$30:$B$1094,INDIRECT($A$14&ROW())),\"\"),\"\")","v":""}]
[{"$f":"IFERROR(IF(INDIRECT($A$14&ROW())<>\"\",COUNTIF(Summary!$B$30:$B$1094,INDIRECT($A$14&ROW())),\"\"),\"\")","v":""}]
[{"$f":"IFERROR(IF(INDIRECT($A$14&ROW())<>\"\",COUNTIF(Summary!$B$30:$B$1094,INDIRECT($A$14&ROW())),\"\"),\"\")","v":""}]
[{"$f":"IFERROR(IF(INDIRECT($A$14&ROW())<>\"\",COUNTIF(Summary!$B$30:$B$1094,INDIRECT($A$14&ROW())),\"\"),\"\")","v":""}]
[{"$f":"IFERROR(IF(INDIRECT($A$14&ROW())<>\"\",COUNTIF(Summary!$B$30:$B$1094,INDIRECT($A$14&ROW())),\"\"),\"\")","v":""}]
[{"$f":"IFERROR(IF(INDIRECT($A$14&ROW())<>\"\",COUNTIF(Summary!$B$30:$B$1094,INDIRECT($A$14&ROW())),\"\"),\"\")","v":""}]
[{"$f":"IFERROR(IF(INDIRECT($A$14&ROW())<>\"\",COUNTIF(Summary!$B$30:$B$1094,INDIRECT($A$14&ROW())),\"\"),\"\")","v":""}]
[{"$f":"IFERROR(IF(INDIRECT($A$14&ROW())<>\"\",COUNTIF(Summary!$B$30:$B$1094,INDIRECT($A$14&ROW())),\"\"),\"\")","v":""}]
[{"$f":"IFERROR(IF(INDIRECT($A$14&ROW())<>\"\",COUNTIF(Summary!$B$30:$B$1094,INDIRECT($A$14&ROW())),\"\"),\"\")","v":""}]
[{"$f":"IFERROR(IF(INDIRECT($A$14&ROW())<>\"\",COUNTIF(Summary!$B$30:$B$1094,INDIRECT($A$14&ROW())),\"\"),\"\")","v":""}]
[{"$f":"IFERROR(IF(INDIRECT($A$14&ROW())<>\"\",COUNTIF(Summary!$B$30:$B$1094,INDIRECT($A$14&ROW())),\"\"),\"\")","v":""}]
[{"$f":"IFERROR(IF(INDIRECT($A$14&ROW())<>\"\",COUNTIF(Summary!$B$30:$B$1094,INDIRECT($A$14&ROW())),\"\"),\"\")","v":""}]
[{"$f":"IFERROR(IF(INDIRECT($A$14&ROW())<>\"\",COUNTIF(Summary!$B$30:$B$1094,INDIRECT($A$14&ROW())),\"\"),\"\")","v":""}]
[{"$f":"IFERROR(IF(INDIRECT($A$14&ROW())<>\"\",COUNTIF(Summary!$B$30:$B$1094,INDIRECT($A$14&ROW())),\"\"),\"\")","v":""}]
[{"$f":"IFERROR(IF(INDIRECT($A$14&ROW())<>\"\",COUNTIF(Summary!$B$30:$B$1094,INDIRECT($A$14&ROW())),\"\"),\"\")","v":""}]
[{"$f":"IFERROR(IF(INDIRECT($A$14&ROW())<>\"\",COUNTIF(Summary!$B$30:$B$1094,INDIRECT($A$14&ROW())),\"\"),\"\")","v":""}]
[{"$f":"IFERROR(IF(INDIRECT($A$14&ROW())<>\"\",COUNTIF(Summary!$B$30:$B$1094,INDIRECT($A$14&ROW())),\"\"),\"\")","v":""}]
[{"$f":"IFERROR(IF(INDIRECT($A$14&ROW())<>\"\",COUNTIF(Summary!$B$30:$B$1094,INDIRECT($A$14&ROW())),\"\"),\"\")","v":""}]
[{"$f":"IFERROR(IF(INDIRECT($A$14&ROW())<>\"\",COUNTIF(Summary!$B$30:$B$1094,INDIRECT($A$14&ROW())),\"\"),\"\")","v":""}]
[{"$f":"IFERROR(IF(INDIRECT($A$14&ROW())<>\"\",COUNTIF(Summary!$B$30:$B$1094,INDIRECT($A$14&ROW())),\"\"),\"\")","v":""}]
[{"$f":"IFERROR(IF(INDIRECT($A$14&ROW())<>\"\",COUNTIF(Summary!$B$30:$B$1094,INDIRECT($A$14&ROW())),\"\"),\"\")","v":""}]
[{"$f":"IFERROR(IF(INDIRECT($A$14&ROW())<>\"\",COUNTIF(Summary!$B$30:$B$1094,INDIRECT($A$14&ROW())),\"\"),\"\")","v":""}]
[{"$f":"IFERROR(IF(INDIRECT($A$14&ROW())<>\"\",COUNTIF(Summary!$B$30:$B$1094,INDIRECT($A$14&ROW())),\"\"),\"\")","v":""}]
[{"$f":"IFERROR(IF(INDIRECT($A$14&ROW())<>\"\",COUNTIF(Summary!$B$30:$B$1094,INDIRECT($A$14&ROW())),\"\"),\"\")","v":""}]
[{"$f":"IFERROR(IF(INDIRECT($A$14&ROW())<>\"\",COUNTIF(Summary!$B$30:$B$1094,INDIRECT($A$14&ROW())),\"\"),\"\")","v":""}]
[{"$f":"IFERROR(IF(INDIRECT($A$14&ROW())<>\"\",COUNTIF(Summary!$B$30:$B$1094,INDIRECT($A$14&ROW())),\"\"),\"\")","v":""}]
[{"$f":"IFERROR(IF(INDIRECT($A$14&ROW())<>\"\",COUNTIF(Summary!$B$30:$B$1094,INDIRECT($A$14&ROW())),\"\"),\"\")","v":""}]
[{"$f":"IFERROR(IF(INDIRECT($A$14&ROW())<>\"\",COUNTIF(Summary!$B$30:$B$1094,INDIRECT($A$14&ROW())),\"\"),\"\")","v":""}]
[{"$f":"IFERROR(IF(INDIRECT($A$14&ROW())<>\"\",COUNTIF(Summary!$B$30:$B$1094,INDIRECT($A$14&ROW())),\"\"),\"\")","v":""}]
[{"$f":"IFERROR(IF(INDIRECT($A$14&ROW())<>\"\",COUNTIF(Summary!$B$30:$B$1094,INDIRECT($A$14&ROW())),\"\"),\"\")","v":""}]
[{"$f":"IFERROR(IF(INDIRECT($A$14&ROW())<>\"\",COUNTIF(Summary!$B$30:$B$1094,INDIRECT($A$14&ROW())),\"\"),\"\")","v":""}]
[{"$f":"IFERROR(IF(INDIRECT($A$14&ROW())<>\"\",COUNTIF(Summary!$B$30:$B$1094,INDIRECT($A$14&ROW())),\"\"),\"\")","v":""}]
[{"$f":"IFERROR(IF(INDIRECT($A$14&ROW())<>\"\",COUNTIF(Summary!$B$30:$B$1094,INDIRECT($A$14&ROW())),\"\"),\"\")","v":""}]
[{"$f":"IFERROR(IF(INDIRECT($A$14&ROW())<>\"\",COUNTIF(Summary!$B$30:$B$1094,INDIRECT($A$14&ROW())),\"\"),\"\")","v":""}]
[{"$f":"IFERROR(IF(INDIRECT($A$14&ROW())<>\"\",COUNTIF(Summary!$B$30:$B$1094,INDIRECT($A$14&ROW())),\"\"),\"\")","v":""}]
[{"$f":"IFERROR(IF(INDIRECT($A$14&ROW())<>\"\",COUNTIF(Summary!$B$30:$B$1094,INDIRECT($A$14&ROW())),\"\"),\"\")","v":""}]
[{"$f":"IFERROR(IF(INDIRECT($A$14&ROW())<>\"\",COUNTIF(Summary!$B$30:$B$1094,INDIRECT($A$14&ROW())),\"\"),\"\")","v":""}]
[{"$f":"IFERROR(IF(INDIRECT($A$14&ROW())<>\"\",COUNTIF(Summary!$B$30:$B$1094,INDIRECT($A$14&ROW())),\"\"),\"\")","v":""}]
[{"$f":"IFERROR(IF(INDIRECT($A$14&ROW())<>\"\",COUNTIF(Summary!$B$30:$B$1094,INDIRECT($A$14&ROW())),\"\"),\"\")","v":""}]
[{"$f":"IFERROR(IF(INDIRECT($A$14&ROW())<>\"\",COUNTIF(Summary!$B$30:$B$1094,INDIRECT($A$14&ROW())),\"\"),\"\")","v":""}]
[{"$f":"IFERROR(IF(INDIRECT($A$14&ROW())<>\"\",COUNTIF(Summary!$B$30:$B$1094,INDIRECT($A$14&ROW())),\"\"),\"\")","v":""}]
[{"$f":"IFERROR(IF(INDIRECT($A$14&ROW())<>\"\",COUNTIF(Summary!$B$30:$B$1094,INDIRECT($A$14&ROW())),\"\"),\"\")","v":""}]
[{"$f":"IFERROR(IF(INDIRECT($A$14&ROW())<>\"\",COUNTIF(Summary!$B$30:$B$1094,INDIRECT($A$14&ROW())),\"\"),\"\")","v":""}]
[{"$f":"IFERROR(IF(INDIRECT($A$14&ROW())<>\"\",COUNTIF(Summary!$B$30:$B$1094,INDIRECT($A$14&ROW())),\"\"),\"\")","v":""}]
[{"$f":"IFERROR(IF(INDIRECT($A$14&ROW())<>\"\",COUNTIF(Summary!$B$30:$B$1094,INDIRECT($A$14&ROW())),\"\"),\"\")","v":""}]
[{"$f":"IFERROR(IF(INDIRECT($A$14&ROW())<>\"\",COUNTIF(Summary!$B$30:$B$1094,INDIRECT($A$14&ROW())),\"\"),\"\")","v":""}]
[{"$f":"IFERROR(IF(INDIRECT($A$14&ROW())<>\"\",COUNTIF(Summary!$B$30:$B$1094,INDIRECT($A$14&ROW())),\"\"),\"\")","v":""}]
[{"$f":"IFERROR(IF(INDIRECT($A$14&ROW())<>\"\",COUNTIF(Summary!$B$30:$B$1094,INDIRECT($A$14&ROW())),\"\"),\"\")","v":""}]
[{"$f":"IFERROR(IF(INDIRECT($A$14&ROW())<>\"\",COUNTIF(Summary!$B$30:$B$1094,INDIRECT($A$14&ROW())),\"\"),\"\")","v":""}]
[{"$f":"IFERROR(IF(INDIRECT($A$14&ROW())<>\"\",COUNTIF(Summary!$B$30:$B$1094,INDIRECT($A$14&ROW())),\"\"),\"\")","v":""}]
[{"$f":"IFERROR(IF(INDIRECT($A$14&ROW())<>\"\",COUNTIF(Summary!$B$30:$B$1094,INDIRECT($A$14&ROW())),\"\"),\"\")","v":""}]
[{"$f":"IFERROR(IF(INDIRECT($A$14&ROW())<>\"\",COUNTIF(Summary!$B$30:$B$1094,INDIRECT($A$14&ROW())),\"\"),\"\")","v":""}]
[{"$f":"IFERROR(IF(INDIRECT($A$14&ROW())<>\"\",COUNTIF(Summary!$B$30:$B$1094,INDIRECT($A$14&ROW())),\"\"),\"\")","v":""}]
[{"$f":"IFERROR(IF(INDIRECT($A$14&ROW())<>\"\",COUNTIF(Summary!$B$30:$B$1094,INDIRECT($A$14&ROW())),\"\"),\"\")","v":""}]
[{"$f":"IFERROR(IF(INDIRECT($A$14&ROW())<>\"\",COUNTIF(Summary!$B$30:$B$1094,INDIRECT($A$14&ROW())),\"\"),\"\")","v":""}]
[{"$f":"IFERROR(IF(INDIRECT($A$14&ROW())<>\"\",COUNTIF(Summary!$B$30:$B$1094,INDIRECT($A$14&ROW())),\"\"),\"\")","v":""}]
[{"$f":"IFERROR(IF(INDIRECT($A$14&ROW())<>\"\",COUNTIF(Summary!$B$30:$B$1094,INDIRECT($A$14&ROW())),\"\"),\"\")","v":""}]
[{"$f":"IFERROR(IF(INDIRECT($A$14&ROW())<>\"\",COUNTIF(Summary!$B$30:$B$1094,INDIRECT($A$14&ROW())),\"\"),\"\")","v":""}]
[{"$f":"IFERROR(IF(INDIRECT($A$14&ROW())<>\"\",COUNTIF(Summary!$B$30:$B$1094,INDIRECT($A$14&ROW())),\"\"),\"\")","v":""}]
[{"$f":"IFERROR(IF(INDIRECT($A$14&ROW())<>\"\",COUNTIF(Summary!$B$30:$B$1094,INDIRECT($A$14&ROW())),\"\"),\"\")","v":""}]
[{"$f":"IFERROR(IF(INDIRECT($A$14&ROW())<>\"\",COUNTIF(Summary!$B$30:$B$1094,INDIRECT($A$14&ROW())),\"\"),\"\")","v":""}]
[{"$f":"IFERROR(IF(INDIRECT($A$14&ROW())<>\"\",COUNTIF(Summary!$B$30:$B$1094,INDIRECT($A$14&ROW())),\"\"),\"\")","v":""}]
[{"$f":"IFERROR(IF(INDIRECT($A$14&ROW())<>\"\",COUNTIF(Summary!$B$30:$B$1094,INDIRECT($A$14&ROW())),\"\"),\"\")","v":""}]
[{"$f":"IFERROR(IF(INDIRECT($A$14&ROW())<>\"\",COUNTIF(Summary!$B$30:$B$1094,INDIRECT($A$14&ROW())),\"\"),\"\")","v":""}]
[{"$f":"IFERROR(IF(INDIRECT($A$14&ROW())<>\"\",COUNTIF(Summary!$B$30:$B$1094,INDIRECT($A$14&ROW())),\"\"),\"\")","v":""}]
[{"$f":"IFERROR(IF(INDIRECT($A$14&ROW())<>\"\",COUNTIF(Summary!$B$30:$B$1094,INDIRECT($A$14&ROW())),\"\"),\"\")","v":""}]
[{"$f":"IFERROR(IF(INDIRECT($A$14&ROW())<>\"\",COUNTIF(Summary!$B$30:$B$1094,INDIRECT($A$14&ROW())),\"\"),\"\")","v":""}]
[{"$f":"IFERROR(IF(INDIRECT($A$14&ROW())<>\"\",COUNTIF(Summary!$B$30:$B$1094,INDIRECT($A$14&ROW())),\"\"),\"\")","v":""}]
[{"$f":"IFERROR(IF(INDIRECT($A$14&ROW())<>\"\",COUNTIF(Summary!$B$30:$B$1094,INDIRECT($A$14&ROW())),\"\"),\"\")","v":""}]
[{"$f":"IFERROR(IF(INDIRECT($A$14&ROW())<>\"\",COUNTIF(Summary!$B$30:$B$1094,INDIRECT($A$14&ROW())),\"\"),\"\")","v":""}]
[{"$f":"IFERROR(IF(INDIRECT($A$14&ROW())<>\"\",COUNTIF(Summary!$B$30:$B$1094,INDIRECT($A$14&ROW())),\"\"),\"\")","v":""}]
[{"$f":"IFERROR(IF(INDIRECT($A$14&ROW())<>\"\",COUNTIF(Summary!$B$30:$B$1094,INDIRECT($A$14&ROW())),\"\"),\"\")","v":""}]
[{"$f":"IFERROR(IF(INDIRECT($A$14&ROW())<>\"\",COUNTIF(Summary!$B$30:$B$1094,INDIRECT($A$14&ROW())),\"\"),\"\")","v":""}]
[{"$f":"IFERROR(IF(INDIRECT($A$14&ROW())<>\"\",COUNTIF(Summary!$B$30:$B$1094,INDIRECT($A$14&ROW())),\"\"),\"\")","v":""}]
[{"$f":"IFERROR(IF(INDIRECT($A$14&ROW())<>\"\",COUNTIF(Summary!$B$30:$B$1094,INDIRECT($A$14&ROW())),\"\"),\"\")","v":""}]
[{"$f":"IFERROR(IF(INDIRECT($A$14&ROW())<>\"\",COUNTIF(Summary!$B$30:$B$1094,INDIRECT($A$14&ROW())),\"\"),\"\")","v":""}]
[{"$f":"IFERROR(IF(INDIRECT($A$14&ROW())<>\"\",COUNTIF(Summary!$B$30:$B$1094,INDIRECT($A$14&ROW())),\"\"),\"\")","v":""}]
[{"$f":"IFERROR(IF(INDIRECT($A$14&ROW())<>\"\",COUNTIF(Summary!$B$30:$B$1094,INDIRECT($A$14&ROW())),\"\"),\"\")","v":""}]
[{"$f":"IFERROR(IF(INDIRECT($A$14&ROW())<>\"\",COUNTIF(Summary!$B$30:$B$1094,INDIRECT($A$14&ROW())),\"\"),\"\")","v":""}]
[{"$f":"IFERROR(IF(INDIRECT($A$14&ROW())<>\"\",COUNTIF(Summary!$B$30:$B$1094,INDIRECT($A$14&ROW())),\"\"),\"\")","v":""}]
[{"$f":"IFERROR(IF(INDIRECT($A$14&ROW())<>\"\",COUNTIF(Summary!$B$30:$B$1094,INDIRECT($A$14&ROW())),\"\"),\"\")","v":""}]
[{"$f":"IFERROR(IF(INDIRECT($A$14&ROW())<>\"\",COUNTIF(Summary!$B$30:$B$1094,INDIRECT($A$14&ROW())),\"\"),\"\")","v":""}]
[{"$f":"IFERROR(IF(INDIRECT($A$14&ROW())<>\"\",COUNTIF(Summary!$B$30:$B$1094,INDIRECT($A$14&ROW())),\"\"),\"\")","v":""}]
[{"$f":"IFERROR(IF(INDIRECT($A$14&ROW())<>\"\",COUNTIF(Summary!$B$30:$B$1094,INDIRECT($A$14&ROW())),\"\"),\"\")","v":""}]
[{"$f":"IFERROR(IF(INDIRECT($A$14&ROW())<>\"\",COUNTIF(Summary!$B$30:$B$1094,INDIRECT($A$14&ROW())),\"\"),\"\")","v":""}]
[{"$f":"IFERROR(IF(INDIRECT($A$14&ROW())<>\"\",COUNTIF(Summary!$B$30:$B$1094,INDIRECT($A$14&ROW())),\"\"),\"\")","v":""}]
[{"$f":"IFERROR(IF(INDIRECT($A$14&ROW())<>\"\",COUNTIF(Summary!$B$30:$B$1094,INDIRECT($A$14&ROW())),\"\"),\"\")","v":""}]
[{"$f":"IFERROR(IF(INDIRECT($A$14&ROW())<>\"\",COUNTIF(Summary!$B$30:$B$1094,INDIRECT($A$14&ROW())),\"\"),\"\")","v":""}]
[{"$f":"IFERROR(IF(INDIRECT($A$14&ROW())<>\"\",COUNTIF(Summary!$B$30:$B$1094,INDIRECT($A$14&ROW())),\"\"),\"\")","v":""}]
[{"$f":"IFERROR(IF(INDIRECT($A$14&ROW())<>\"\",COUNTIF(Summary!$B$30:$B$1094,INDIRECT($A$14&ROW())),\"\"),\"\")","v":""}]
[{"$f":"IFERROR(IF(INDIRECT($A$14&ROW())<>\"\",COUNTIF(Summary!$B$30:$B$1094,INDIRECT($A$14&ROW())),\"\"),\"\")","v":""}]
[{"$f":"IFERROR(IF(INDIRECT($A$14&ROW())<>\"\",COUNTIF(Summary!$B$30:$B$1094,INDIRECT($A$14&ROW())),\"\"),\"\")","v":""}]
[{"$f":"IFERROR(IF(INDIRECT($A$14&ROW())<>\"\",COUNTIF(Summary!$B$30:$B$1094,INDIRECT($A$14&ROW())),\"\"),\"\")","v":""}]
[{"$f":"IFERROR(IF(INDIRECT($A$14&ROW())<>\"\",COUNTIF(Summary!$B$30:$B$1094,INDIRECT($A$14&ROW())),\"\"),\"\")","v":""}]
[{"$f":"IFERROR(IF(INDIRECT($A$14&ROW())<>\"\",COUNTIF(Summary!$B$30:$B$1094,INDIRECT($A$14&ROW())),\"\"),\"\")","v":""}]
[{"$f":"IFERROR(IF(INDIRECT($A$14&ROW())<>\"\",COUNTIF(Summary!$B$30:$B$1094,INDIRECT($A$14&ROW())),\"\"),\"\")","v":""}]
[{"$f":"IFERROR(IF(INDIRECT($A$14&ROW())<>\"\",COUNTIF(Summary!$B$30:$B$1094,INDIRECT($A$14&ROW())),\"\"),\"\")","v":""}]
[{"$f":"IFERROR(IF(INDIRECT($A$14&ROW())<>\"\",COUNTIF(Summary!$B$30:$B$1094,INDIRECT($A$14&ROW())),\"\"),\"\")","v":""}]
[{"$f":"IFERROR(IF(INDIRECT($A$14&ROW())<>\"\",COUNTIF(Summary!$B$30:$B$1094,INDIRECT($A$14&ROW())),\"\"),\"\")","v":""}]
[{"$f":"IFERROR(IF(INDIRECT($A$14&ROW())<>\"\",COUNTIF(Summary!$B$30:$B$1094,INDIRECT($A$14&ROW())),\"\"),\"\")","v":""}]
[{"$f":"IFERROR(IF(INDIRECT($A$14&ROW())<>\"\",COUNTIF(Summary!$B$30:$B$1094,INDIRECT($A$14&ROW())),\"\"),\"\")","v":""}]
[{"$f":"IFERROR(IF(INDIRECT($A$14&ROW())<>\"\",COUNTIF(Summary!$B$30:$B$1094,INDIRECT($A$14&ROW())),\"\"),\"\")","v":""}]
[{"$f":"IFERROR(IF(INDIRECT($A$14&ROW())<>\"\",COUNTIF(Summary!$B$30:$B$1094,INDIRECT($A$14&ROW())),\"\"),\"\")","v":""}]
[{"$f":"IFERROR(IF(INDIRECT($A$14&ROW())<>\"\",COUNTIF(Summary!$B$30:$B$1094,INDIRECT($A$14&ROW())),\"\"),\"\")","v":""}]
[{"$f":"IFERROR(IF(INDIRECT($A$14&ROW())<>\"\",COUNTIF(Summary!$B$30:$B$1094,INDIRECT($A$14&ROW())),\"\"),\"\")","v":""}]
[{"$f":"IFERROR(IF(INDIRECT($A$14&ROW())<>\"\",COUNTIF(Summary!$B$30:$B$1094,INDIRECT($A$14&ROW())),\"\"),\"\")","v":""}]
[{"$f":"IFERROR(IF(INDIRECT($A$14&ROW())<>\"\",COUNTIF(Summary!$B$30:$B$1094,INDIRECT($A$14&ROW())),\"\"),\"\")","v":""}]
[{"$f":"IFERROR(IF(INDIRECT($A$14&ROW())<>\"\",COUNTIF(Summary!$B$30:$B$1094,INDIRECT($A$14&ROW())),\"\"),\"\")","v":""}]
[{"$f":"IFERROR(IF(INDIRECT($A$14&ROW())<>\"\",COUNTIF(Summary!$B$30:$B$1094,INDIRECT($A$14&ROW())),\"\"),\"\")","v":""}]
[{"$f":"IFERROR(IF(INDIRECT($A$14&ROW())<>\"\",COUNTIF(Summary!$B$30:$B$1094,INDIRECT($A$14&ROW())),\"\"),\"\")","v":""}]
[{"$f":"IFERROR(IF(INDIRECT($A$14&ROW())<>\"\",COUNTIF(Summary!$B$30:$B$1094,INDIRECT($A$14&ROW())),\"\"),\"\")","v":""}]
[{"$f":"IFERROR(IF(INDIRECT($A$14&ROW())<>\"\",COUNTIF(Summary!$B$30:$B$1094,INDIRECT($A$14&ROW())),\"\"),\"\")","v":""}]
[{"$f":"IFERROR(IF(INDIRECT($A$14&ROW())<>\"\",COUNTIF(Summary!$B$30:$B$1094,INDIRECT($A$14&ROW())),\"\"),\"\")","v":""}]
[{"$f":"IFERROR(IF(INDIRECT($A$14&ROW())<>\"\",COUNTIF(Summary!$B$30:$B$1094,INDIRECT($A$14&ROW())),\"\"),\"\")","v":""}]
[{"$f":"IFERROR(IF(INDIRECT($A$14&ROW())<>\"\",COUNTIF(Summary!$B$30:$B$1094,INDIRECT($A$14&ROW())),\"\"),\"\")","v":""}]
[{"$f":"IFERROR(IF(INDIRECT($A$14&ROW())<>\"\",COUNTIF(Summary!$B$30:$B$1094,INDIRECT($A$14&ROW())),\"\"),\"\")","v":""}]
[{"$f":"IFERROR(IF(INDIRECT($A$14&ROW())<>\"\",COUNTIF(Summary!$B$30:$B$1094,INDIRECT($A$14&ROW())),\"\"),\"\")","v":""}]
[{"$f":"IFERROR(IF(INDIRECT($A$14&ROW())<>\"\",COUNTIF(Summary!$B$30:$B$1094,INDIRECT($A$14&ROW())),\"\"),\"\")","v":""}]
[{"$f":"IFERROR(IF(INDIRECT($A$14&ROW())<>\"\",COUNTIF(Summary!$B$30:$B$1094,INDIRECT($A$14&ROW())),\"\"),\"\")","v":""}]
[{"$f":"IFERROR(IF(INDIRECT($A$14&ROW())<>\"\",COUNTIF(Summary!$B$30:$B$1094,INDIRECT($A$14&ROW())),\"\"),\"\")","v":""}]
[{"$f":"IFERROR(IF(INDIRECT($A$14&ROW())<>\"\",COUNTIF(Summary!$B$30:$B$1094,INDIRECT($A$14&ROW())),\"\"),\"\")","v":""}]
[{"$f":"IFERROR(IF(INDIRECT($A$14&ROW())<>\"\",COUNTIF(Summary!$B$30:$B$1094,INDIRECT($A$14&ROW())),\"\"),\"\")","v":""}]
[{"$f":"IFERROR(IF(INDIRECT($A$14&ROW())<>\"\",COUNTIF(Summary!$B$30:$B$1094,INDIRECT($A$14&ROW())),\"\"),\"\")","v":""}]
[{"$f":"IFERROR(IF(INDIRECT($A$14&ROW())<>\"\",COUNTIF(Summary!$B$30:$B$1094,INDIRECT($A$14&ROW())),\"\"),\"\")","v":""}]
[{"$f":"IFERROR(IF(INDIRECT($A$14&ROW())<>\"\",COUNTIF(Summary!$B$30:$B$1094,INDIRECT($A$14&ROW())),\"\"),\"\")","v":""}]
[{"$f":"IFERROR(IF(INDIRECT($A$14&ROW())<>\"\",COUNTIF(Summary!$B$30:$B$1094,INDIRECT($A$14&ROW())),\"\"),\"\")","v":""}]
[{"$f":"IFERROR(IF(INDIRECT($A$14&ROW())<>\"\",COUNTIF(Summary!$B$30:$B$1094,INDIRECT($A$14&ROW())),\"\"),\"\")","v":""}]
[{"$f":"IFERROR(IF(INDIRECT($A$14&ROW())<>\"\",COUNTIF(Summary!$B$30:$B$1094,INDIRECT($A$14&ROW())),\"\"),\"\")","v":""}]
[{"$f":"IFERROR(IF(INDIRECT($A$14&ROW())<>\"\",COUNTIF(Summary!$B$30:$B$1094,INDIRECT($A$14&ROW())),\"\"),\"\")","v":""}]
[{"$f":"IFERROR(IF(INDIRECT($A$14&ROW())<>\"\",COUNTIF(Summary!$B$30:$B$1094,INDIRECT($A$14&ROW())),\"\"),\"\")","v":""}]
[{"$f":"IFERROR(IF(INDIRECT($A$14&ROW())<>\"\",COUNTIF(Summary!$B$30:$B$1094,INDIRECT($A$14&ROW())),\"\"),\"\")","v":""}]
[{"$f":"IFERROR(IF(INDIRECT($A$14&ROW())<>\"\",COUNTIF(Summary!$B$30:$B$1094,INDIRECT($A$14&ROW())),\"\"),\"\")","v":""}]
[{"$f":"IFERROR(IF(INDIRECT($A$14&ROW())<>\"\",COUNTIF(Summary!$B$30:$B$1094,INDIRECT($A$14&ROW())),\"\"),\"\")","v":""}]
[{"$f":"IFERROR(IF(INDIRECT($A$14&ROW())<>\"\",COUNTIF(Summary!$B$30:$B$1094,INDIRECT($A$14&ROW())),\"\"),\"\")","v":""}]
[{"$f":"IFERROR(IF(INDIRECT($A$14&ROW())<>\"\",COUNTIF(Summary!$B$30:$B$1094,INDIRECT($A$14&ROW())),\"\"),\"\")","v":""}]
[{"$f":"IFERROR(IF(INDIRECT($A$14&ROW())<>\"\",COUNTIF(Summary!$B$30:$B$1094,INDIRECT($A$14&ROW())),\"\"),\"\")","v":""}]
[{"$f":"IFERROR(IF(INDIRECT($A$14&ROW())<>\"\",COUNTIF(Summary!$B$30:$B$1094,INDIRECT($A$14&ROW())),\"\"),\"\")","v":""}]
[{"$f":"IFERROR(IF(INDIRECT($A$14&ROW())<>\"\",COUNTIF(Summary!$B$30:$B$1094,INDIRECT($A$14&ROW())),\"\"),\"\")","v":""}]
[{"$f":"IFERROR(IF(INDIRECT($A$14&ROW())<>\"\",COUNTIF(Summary!$B$30:$B$1094,INDIRECT($A$14&ROW())),\"\"),\"\")","v":""}]
[{"$f":"IFERROR(IF(INDIRECT($A$14&ROW())<>\"\",COUNTIF(Summary!$B$30:$B$1094,INDIRECT($A$14&ROW())),\"\"),\"\")","v":""}]
[{"$f":"IFERROR(IF(INDIRECT($A$14&ROW())<>\"\",COUNTIF(Summary!$B$30:$B$1094,INDIRECT($A$14&ROW())),\"\"),\"\")","v":""}]
[{"$f":"IFERROR(IF(INDIRECT($A$14&ROW())<>\"\",COUNTIF(Summary!$B$30:$B$1094,INDIRECT($A$14&ROW())),\"\"),\"\")","v":""}]
[{"$f":"IFERROR(IF(INDIRECT($A$14&ROW())<>\"\",COUNTIF(Summary!$B$30:$B$1094,INDIRECT($A$14&ROW())),\"\"),\"\")","v":""}]
[{"$f":"IFERROR(IF(INDIRECT($A$14&ROW())<>\"\",COUNTIF(Summary!$B$30:$B$1094,INDIRECT($A$14&ROW())),\"\"),\"\")","v":""}]
[{"$f":"IFERROR(IF(INDIRECT($A$14&ROW())<>\"\",COUNTIF(Summary!$B$30:$B$1094,INDIRECT($A$14&ROW())),\"\"),\"\")","v":""}]
[{"$f":"IFERROR(IF(INDIRECT($A$14&ROW())<>\"\",COUNTIF(Summary!$B$30:$B$1094,INDIRECT($A$14&ROW())),\"\"),\"\")","v":""}]
[{"$f":"IFERROR(IF(INDIRECT($A$14&ROW())<>\"\",COUNTIF(Summary!$B$30:$B$1094,INDIRECT($A$14&ROW())),\"\"),\"\")","v":""}]
[{"$f":"IFERROR(IF(INDIRECT($A$14&ROW())<>\"\",COUNTIF(Summary!$B$30:$B$1094,INDIRECT($A$14&ROW())),\"\"),\"\")","v":""}]
[{"$f":"IFERROR(IF(INDIRECT($A$14&ROW())<>\"\",COUNTIF(Summary!$B$30:$B$1094,INDIRECT($A$14&ROW())),\"\"),\"\")","v":""}]
[{"$f":"IFERROR(IF(INDIRECT($A$14&ROW())<>\"\",COUNTIF(Summary!$B$30:$B$1094,INDIRECT($A$14&ROW())),\"\"),\"\")","v":""}]
[{"$f":"IFERROR(IF(INDIRECT($A$14&ROW())<>\"\",COUNTIF(Summary!$B$30:$B$1094,INDIRECT($A$14&ROW())),\"\"),\"\")","v":""}]
[{"$f":"IFERROR(IF(INDIRECT($A$14&ROW())<>\"\",COUNTIF(Summary!$B$30:$B$1094,INDIRECT($A$14&ROW())),\"\"),\"\")","v":""}]
[{"$f":"IFERROR(IF(INDIRECT($A$14&ROW())<>\"\",COUNTIF(Summary!$B$30:$B$1094,INDIRECT($A$14&ROW())),\"\"),\"\")","v":""}]
[{"$f":"IFERROR(IF(INDIRECT($A$14&ROW())<>\"\",COUNTIF(Summary!$B$30:$B$1094,INDIRECT($A$14&ROW())),\"\"),\"\")","v":""}]
[{"$f":"IFERROR(IF(INDIRECT($A$14&ROW())<>\"\",COUNTIF(Summary!$B$30:$B$1094,INDIRECT($A$14&ROW())),\"\"),\"\")","v":""}]
[{"$f":"IFERROR(IF(INDIRECT($A$14&ROW())<>\"\",COUNTIF(Summary!$B$30:$B$1094,INDIRECT($A$14&ROW())),\"\"),\"\")","v":""}]
[{"$f":"IFERROR(IF(INDIRECT($A$14&ROW())<>\"\",COUNTIF(Summary!$B$30:$B$1094,INDIRECT($A$14&ROW())),\"\"),\"\")","v":""}]
[{"$f":"IFERROR(IF(INDIRECT($A$14&ROW())<>\"\",COUNTIF(Summary!$B$30:$B$1094,INDIRECT($A$14&ROW())),\"\"),\"\")","v":""}]
[{"$f":"IFERROR(IF(INDIRECT($A$14&ROW())<>\"\",COUNTIF(Summary!$B$30:$B$1094,INDIRECT($A$14&ROW())),\"\"),\"\")","v":""}]
[{"$f":"IFERROR(IF(INDIRECT($A$14&ROW())<>\"\",COUNTIF(Summary!$B$30:$B$1094,INDIRECT($A$14&ROW())),\"\"),\"\")","v":""}]
[{"$f":"IFERROR(IF(INDIRECT($A$14&ROW())<>\"\",COUNTIF(Summary!$B$30:$B$1094,INDIRECT($A$14&ROW())),\"\"),\"\")","v":""}]
[{"$f":"IFERROR(IF(INDIRECT($A$14&ROW())<>\"\",COUNTIF(Summary!$B$30:$B$1094,INDIRECT($A$14&ROW())),\"\"),\"\")","v":""}]
[{"$f":"IFERROR(IF(INDIRECT($A$14&ROW())<>\"\",COUNTIF(Summary!$B$30:$B$1094,INDIRECT($A$14&ROW())),\"\"),\"\")","v":""}]
[{"$f":"IFERROR(IF(INDIRECT($A$14&ROW())<>\"\",COUNTIF(Summary!$B$30:$B$1094,INDIRECT($A$14&ROW())),\"\"),\"\")","v":""}]
[{"$f":"IFERROR(IF(INDIRECT($A$14&ROW())<>\"\",COUNTIF(Summary!$B$30:$B$1094,INDIRECT($A$14&ROW())),\"\"),\"\")","v":""}]
[{"$f":"IFERROR(IF(INDIRECT($A$14&ROW())<>\"\",COUNTIF(Summary!$B$30:$B$1094,INDIRECT($A$14&ROW())),\"\"),\"\")","v":""}]
[{"$f":"IFERROR(IF(INDIRECT($A$14&ROW())<>\"\",COUNTIF(Summary!$B$30:$B$1094,INDIRECT($A$14&ROW())),\"\"),\"\")","v":""}]
[{"$f":"IFERROR(IF(INDIRECT($A$14&ROW())<>\"\",COUNTIF(Summary!$B$30:$B$1094,INDIRECT($A$14&ROW())),\"\"),\"\")","v":""}]
[{"$f":"IFERROR(IF(INDIRECT($A$14&ROW())<>\"\",COUNTIF(Summary!$B$30:$B$1094,INDIRECT($A$14&ROW())),\"\"),\"\")","v":""}]
[{"$f":"IFERROR(IF(INDIRECT($A$14&ROW())<>\"\",COUNTIF(Summary!$B$30:$B$1094,INDIRECT($A$14&ROW())),\"\"),\"\")","v":""}]
[{"$f":"IFERROR(IF(INDIRECT($A$14&ROW())<>\"\",COUNTIF(Summary!$B$30:$B$1094,INDIRECT($A$14&ROW())),\"\"),\"\")","v":""}]
[{"$f":"IFERROR(IF(INDIRECT($A$14&ROW())<>\"\",COUNTIF(Summary!$B$30:$B$1094,INDIRECT($A$14&ROW())),\"\"),\"\")","v":""}]
[{"$f":"IFERROR(IF(INDIRECT($A$14&ROW())<>\"\",COUNTIF(Summary!$B$30:$B$1094,INDIRECT($A$14&ROW())),\"\"),\"\")","v":""}]
[{"$f":"IFERROR(IF(INDIRECT($A$14&ROW())<>\"\",COUNTIF(Summary!$B$30:$B$1094,INDIRECT($A$14&ROW())),\"\"),\"\")","v":""}]
[{"$f":"IFERROR(IF(INDIRECT($A$14&ROW())<>\"\",COUNTIF(Summary!$B$30:$B$1094,INDIRECT($A$14&ROW())),\"\"),\"\")","v":""}]
[{"$f":"IFERROR(IF(INDIRECT($A$14&ROW())<>\"\",COUNTIF(Summary!$B$30:$B$1094,INDIRECT($A$14&ROW())),\"\"),\"\")","v":""}]
[{"$f":"IFERROR(IF(INDIRECT($A$14&ROW())<>\"\",COUNTIF(Summary!$B$30:$B$1094,INDIRECT($A$14&ROW())),\"\"),\"\")","v":""}]
[{"$f":"IFERROR(IF(INDIRECT($A$14&ROW())<>\"\",COUNTIF(Summary!$B$30:$B$1094,INDIRECT($A$14&ROW())),\"\"),\"\")","v":""}]
[{"$f":"IFERROR(IF(INDIRECT($A$14&ROW())<>\"\",COUNTIF(Summary!$B$30:$B$1094,INDIRECT($A$14&ROW())),\"\"),\"\")","v":""}]
[{"$f":"IFERROR(IF(INDIRECT($A$14&ROW())<>\"\",COUNTIF(Summary!$B$30:$B$1094,INDIRECT($A$14&ROW())),\"\"),\"\")","v":""}]
[{"$f":"IFERROR(IF(INDIRECT($A$14&ROW())<>\"\",COUNTIF(Summary!$B$30:$B$1094,INDIRECT($A$14&ROW())),\"\"),\"\")","v":""}]
[{"$f":"IFERROR(IF(INDIRECT($A$14&ROW())<>\"\",COUNTIF(Summary!$B$30:$B$1094,INDIRECT($A$14&ROW())),\"\"),\"\")","v":""}]
[{"$f":"IFERROR(IF(INDIRECT($A$14&ROW())<>\"\",COUNTIF(Summary!$B$30:$B$1094,INDIRECT($A$14&ROW())),\"\"),\"\")","v":""}]
[{"$f":"IFERROR(IF(INDIRECT($A$14&ROW())<>\"\",COUNTIF(Summary!$B$30:$B$1094,INDIRECT($A$14&ROW())),\"\"),\"\")","v":""}]
[{"$f":"IFERROR(IF(INDIRECT($A$14&ROW())<>\"\",COUNTIF(Summary!$B$30:$B$1094,INDIRECT($A$14&ROW())),\"\"),\"\")","v":""}]
[{"$f":"IFERROR(IF(INDIRECT($A$14&ROW())<>\"\",COUNTIF(Summary!$B$30:$B$1094,INDIRECT($A$14&ROW())),\"\"),\"\")","v":""}]
[{"$f":"IFERROR(IF(INDIRECT($A$14&ROW())<>\"\",COUNTIF(Summary!$B$30:$B$1094,INDIRECT($A$14&ROW())),\"\"),\"\")","v":""}]
[{"$f":"IFERROR(IF(INDIRECT($A$14&ROW())<>\"\",COUNTIF(Summary!$B$30:$B$1094,INDIRECT($A$14&ROW())),\"\"),\"\")","v":""}]
[{"$f":"IFERROR(IF(INDIRECT($A$14&ROW())<>\"\",COUNTIF(Summary!$B$30:$B$1094,INDIRECT($A$14&ROW())),\"\"),\"\")","v":""}]
[{"$f":"IFERROR(IF(INDIRECT($A$14&ROW())<>\"\",COUNTIF(Summary!$B$30:$B$1094,INDIRECT($A$14&ROW())),\"\"),\"\")","v":""}]
[{"$f":"IFERROR(IF(INDIRECT($A$14&ROW())<>\"\",COUNTIF(Summary!$B$30:$B$1094,INDIRECT($A$14&ROW())),\"\"),\"\")","v":""}]
[{"$f":"IFERROR(IF(INDIRECT($A$14&ROW())<>\"\",COUNTIF(Summary!$B$30:$B$1094,INDIRECT($A$14&ROW())),\"\"),\"\")","v":""}]
[{"$f":"IFERROR(IF(INDIRECT($A$14&ROW())<>\"\",COUNTIF(Summary!$B$30:$B$1094,INDIRECT($A$14&ROW())),\"\"),\"\")","v":""}]
[{"$f":"IFERROR(IF(INDIRECT($A$14&ROW())<>\"\",COUNTIF(Summary!$B$30:$B$1094,INDIRECT($A$14&ROW())),\"\"),\"\")","v":""}]
[{"$f":"IFERROR(IF(INDIRECT($A$14&ROW())<>\"\",COUNTIF(Summary!$B$30:$B$1094,INDIRECT($A$14&ROW())),\"\"),\"\")","v":""}]
[{"$f":"IFERROR(IF(INDIRECT($A$14&ROW())<>\"\",COUNTIF(Summary!$B$30:$B$1094,INDIRECT($A$14&ROW())),\"\"),\"\")","v":""}]
[{"$f":"IFERROR(IF(INDIRECT($A$14&ROW())<>\"\",COUNTIF(Summary!$B$30:$B$1094,INDIRECT($A$14&ROW())),\"\"),\"\")","v":""}]
[{"$f":"IFERROR(IF(INDIRECT($A$14&ROW())<>\"\",COUNTIF(Summary!$B$30:$B$1094,INDIRECT($A$14&ROW())),\"\"),\"\")","v":""}]
[{"$f":"IFERROR(IF(INDIRECT($A$14&ROW())<>\"\",COUNTIF(Summary!$B$30:$B$1094,INDIRECT($A$14&ROW())),\"\"),\"\")","v":""}]
[{"$f":"IFERROR(IF(INDIRECT($A$14&ROW())<>\"\",COUNTIF(Summary!$B$30:$B$1094,INDIRECT($A$14&ROW())),\"\"),\"\")","v":""}]
[{"$f":"IFERROR(IF(INDIRECT($A$14&ROW())<>\"\",COUNTIF(Summary!$B$30:$B$1094,INDIRECT($A$14&ROW())),\"\"),\"\")","v":""}]
[{"$f":"IFERROR(IF(INDIRECT($A$14&ROW())<>\"\",COUNTIF(Summary!$B$30:$B$1094,INDIRECT($A$14&ROW())),\"\"),\"\")","v":""}]
[{"$f":"IFERROR(IF(INDIRECT($A$14&ROW())<>\"\",COUNTIF(Summary!$B$30:$B$1094,INDIRECT($A$14&ROW())),\"\"),\"\")","v":""}]
[{"$f":"IFERROR(IF(INDIRECT($A$14&ROW())<>\"\",COUNTIF(Summary!$B$30:$B$1094,INDIRECT($A$14&ROW())),\"\"),\"\")","v":""}]
[{"$f":"IFERROR(IF(INDIRECT($A$14&ROW())<>\"\",COUNTIF(Summary!$B$30:$B$1094,INDIRECT($A$14&ROW())),\"\"),\"\")","v":""}]
[{"$f":"IFERROR(IF(INDIRECT($A$14&ROW())<>\"\",COUNTIF(Summary!$B$30:$B$1094,INDIRECT($A$14&ROW())),\"\"),\"\")","v":""}]
[{"$f":"IFERROR(IF(INDIRECT($A$14&ROW())<>\"\",COUNTIF(Summary!$B$30:$B$1094,INDIRECT($A$14&ROW())),\"\"),\"\")","v":""}]
[{"$f":"IFERROR(IF(INDIRECT($A$14&ROW())<>\"\",COUNTIF(Summary!$B$30:$B$1094,INDIRECT($A$14&ROW())),\"\"),\"\")","v":""}]
[{"$f":"IFERROR(IF(INDIRECT($A$14&ROW())<>\"\",COUNTIF(Summary!$B$30:$B$1094,INDIRECT($A$14&ROW())),\"\"),\"\")","v":""}]
[{"$f":"IFERROR(IF(INDIRECT($A$14&ROW())<>\"\",COUNTIF(Summary!$B$30:$B$1094,INDIRECT($A$14&ROW())),\"\"),\"\")","v":""}]
[{"$f":"IFERROR(IF(INDIRECT($A$14&ROW())<>\"\",COUNTIF(Summary!$B$30:$B$1094,INDIRECT($A$14&ROW())),\"\"),\"\")","v":""}]
[{"$f":"IFERROR(IF(INDIRECT($A$14&ROW())<>\"\",COUNTIF(Summary!$B$30:$B$1094,INDIRECT($A$14&ROW())),\"\"),\"\")","v":""}]
[]
[null,"Copyright © 2013 by Oracle Symphony Sdn Bhd"]
[]
[null,null,null,null,null,null,null,null,null,null,null,null,null,null,null,null,null,null,null,null,null,null,null,null,null,null,null,null,null,null,null,null,null,null,null,null,null,null,null,null,null,null,null,null,null,null,null,null,null,null,null,null,"DH16 91116:MGL CHK",1]
[null,null,null,null,null,null,null,null,null,null,null,null,null,null,null,null,null,null,null,null,null,null,null,null,null,null,null,null,null,null,null,null,null,null,null,null,null,null,null,null,null,null,null,null,null,null,null,null,null,null,null,null,"DD02 1202:FREN FRIES",1]
[null,null,null,null,null,null,null,null,null,null,null,null,null,null,null,null,null,null,null,null,null,null,null,null,null,null,null,null,null,null,null,null,null,null,null,null,null,null,null,null,null,null,null,null,null,null,null,null,null,null,null,null,"DD02 1202:FREN FRIES",1]
[null,null,null,null,null,null,null,null,null,null,null,null,null,null,null,null,null,null,null,null,null,null,null,null,null,null,null,null,null,null,null,null,null,null,null,null,null,null,null,null,null,null,null,null,null,null,null,null,null,null,null,null,"DD17 1308 C/CALAMARI",1]
[null,null,null,null,null,null,null,null,null,null,null,null,null,null,null,null,null,null,null,null,null,null,null,null,null,null,null,null,null,null,null,null,null,null,null,null,null,null,null,null,null,null,null,null,null,null,null,null,null,null,null,null,"DD21 1312:Mc HASH BRW",1]
[null,null,null,null,null,null,null,null,null,null,null,null,null,null,null,null,null,null,null,null,null,null,null,null,null,null,null,null,null,null,null,null,null,null,null,null,null,null,null,null,null,null,null,null,null,null,null,null,null,null,null,null,"DI11 91302:NUGGET",1]
[null,null,null,null,null,null,null,null,null,null,null,null,null,null,null,null,null,null,null,null,null,null,null,null,null,null,null,null,null,null,null,null,null,null,null,null,null,null,null,null,null,null,null,null,null,null,null,null,null,null,null,null,"DE02 SET 1390",1]
[null,null,null,null,null,null,null,null,null,null,null,null,null,null,null,null,null,null,null,null,null,null,null,null,null,null,null,null,null,null,null,null,null,null,null,null,null,null,null,null,null,null,null,null,null,null,null,null,null,null,null,null,"DE02 SET 1390",1]
[null,null,null,null,null,null,null,null,null,null,null,null,null,null,null,null,null,null,null,null,null,null,null,null,null,null,null,null,null,null,null,null,null,null,null,null,null,null,null,null,null,null,null,null,null,null,null,null,null,null,null,null,"DE02 SET 1390",1]
[null,null,null,null,null,null,null,null,null,null,null,null,null,null,null,null,null,null,null,null,null,null,null,null,null,null,null,null,null,null,null,null,null,null,null,null,null,null,null,null,null,null,null,null,null,null,null,null,null,null,null,null,"DE01 SET 990",1]
[null,null,null,null,null,null,null,null,null,null,null,null,null,null,null,null,null,null,null,null,null,null,null,null,null,null,null,null,null,null,null,null,null,null,null,null,null,null,null,null,null,null,null,null,null,null,null,null,null,null,null,null,"DE01 SET 990",1]
[null,null,null,null,null,null,null,null,null,null,null,null,null,null,null,null,null,null,null,null,null,null,null,null,null,null,null,null,null,null,null,null,null,null,null,null,null,null,null,null,null,null,null,null,null,null,null,null,null,null,null,null,"DE01 SET 990",1]
[null,null,null,null,null,null,null,null,null,null,null,null,null,null,null,null,null,null,null,null,null,null,null,null,null,null,null,null,null,null,null,null,null,null,null,null,null,null,null,null,null,null,null,null,null,null,null,null,null,null,null,null,"DE01 SET 990",1]
[null,null,null,null,null,null,null,null,null,null,null,null,null,null,null,null,null,null,null,null,null,null,null,null,null,null,null,null,null,null,null,null,null,null,null,null,null,null,null,null,null,null,null,null,null,null,null,null,null,null,null,null,"DF07 ADD SAUCE C.PADI",1]
[null,null,null,null,null,null,null,null,null,null,null,null,null,null,null,null,null,null,null,null,null,null,null,null,null,null,null,null,null,null,null,null,null,null,null,null,null,null,null,null,null,null,null,null,null,null,null,null,null,null,null,null,"DF09 ADD SAUCE MAYO",1]
[null,null,null,null,null,null,null,null,null,null,null,null,null,null,null,null,null,null,null,null,null,null,null,null,null,null,null,null,null,null,null,null,null,null,null,null,null,null,null,null,null,null,null,null,null,null,null,null,null,null,null,null,"DF14 ADD SAUCE TOMATO",1]
[null,null,null,null,null,null,null,null,null,null,null,null,null,null,null,null,null,null,null,null,null,null,null,null,null,null,null,null,null,null,null,null,null,null,null,null,null,null,null,null,null,null,null,null,null,null,null,null,null,null,null,null,"DF14 ADD SAUCE TOMATO",1]
[null,null,null,null,null,null,null,null,null,null,null,null,null,null,null,null,null,null,null,null,null,null,null,null,null,null,null,null,null,null,null,null,null,null,null,null,null,null,null,null,null,null,null,null,null,null,null,null,null,null,null,null,"GA09 LIGHTER",1]
[null,null,null,null,null,null,null,null,null,null,null,null,null,null,null,null,null,null,null,null,null,null,null,null,null,null,null,null,null,null,null,null,null,null,null,null,null,null,null,null,null,null,null,null,null,null,null,null,null,null,null,null,"GC01 CARD NEW",1]
[null,null,null,null,null,null,null,null,null,null,null,null,null,null,null,null,null,null,null,null,null,null,null,null,null,null,null,null,null,null,null,null,null,null,null,null,null,null,null,null,null,null,null,null,null,null,null,null,null,null,null,null,"GC01 CARD NEW",1]
[null,null,null,null,null,null,null,null,null,null,null,null,null,null,null,null,null,null,null,null,null,null,null,null,null,null,null,null,null,null,null,null,null,null,null,null,null,null,null,null,null,null,null,null,null,null,null,null,null,null,null,null,"GC01 CARD NEW",1]
[null,null,null,null,null,null,null,null,null,null,null,null,null,null,null,null,null,null,null,null,null,null,null,null,null,null,null,null,null,null,null,null,null,null,null,null,null,null,null,null,null,null,null,null,null,null,null,null,null,null,null,null,"GD02 MIKE COVER 03",1]
[null,null,null,null,null,null,null,null,null,null,null,null,null,null,null,null,null,null,null,null,null,null,null,null,null,null,null,null,null,null,null,null,null,null,null,null,null,null,null,null,null,null,null,null,null,null,null,null,null,null,null,null,"DL06 3001:9'HAWAIIAN",1]
[null,null,null,null,null,null,null,null,null,null,null,null,null,null,null,null,null,null,null,null,null,null,null,null,null,null,null,null,null,null,null,null,null,null,null,null,null,null,null,null,null,null,null,null,null,null,null,null,null,null,null,null,"DL06 3001:9'HAWAIIAN",1]
[null,null,null,null,null,null,null,null,null,null,null,null,null,null,null,null,null,null,null,null,null,null,null,null,null,null,null,null,null,null,null,null,null,null,null,null,null,null,null,null,null,null,null,null,null,null,null,null,null,null,null,null,"AC33 N : XTD VIP ROOM",1]
[null,null,null,null,null,null,null,null,null,null,null,null,null,null,null,null,null,null,null,null,null,null,null,null,null,null,null,null,null,null,null,null,null,null,null,null,null,null,null,null,null,null,null,null,null,null,null,null,null,null,null,null,"GE07 DUNHILL ICE",1]
[null,null,null,null,null,null,null,null,null,null,null,null,null,null,null,null,null,null,null,null,null,null,null,null,null,null,null,null,null,null,null,null,null,null,null,null,null,null,null,null,null,null,null,null,null,null,null,null,null,null,null,null,"GE02 DUNHILL LITE",1]
[null,null,null,null,null,null,null,null,null,null,null,null,null,null,null,null,null,null,null,null,null,null,null,null,null,null,null,null,null,null,null,null,null,null,null,null,null,null,null,null,null,null,null,null,null,null,null,null,null,null,null,null,"GE04 DUNHILL MT LITE",1]

{"sheet":"STOCK ANALYSIS","index":3,"n_rows":93,"n_cols":19,"rows_kept":93,"cut":false,"hidden":false,"merged":[[78,1,78,4],[6,3,6,4],[9,3,9,4],[43,1,43,2],[31,1,31,2],[62,1,62,2],[17,18,18,18],[21,0,21,18],[33,0,33,18],[45,0,45,18],[71,1,71,4]]}
[]
[]
[null,null,"MONTHLY KITCHEN STOCK SUMMARY "]
[null,null,"每月厨房货物总结表"]
[]
[]
[null,null,"OUTLET KITCHEN ","CCS"]
[null,null,"分行厨房"]
[]
[null,null,"YEAR / MONTH","AUGUST  2013"]
[null,null,"年/月"]
[]
[]
[]
[null,"ITEM","PRODUCT DESCRIPTION","PRICE","UOM","FOR CCS KITCHEN "]
[null,"项目","食材产品","价格","单位","A","B","C","D","E","F","G","H","I","J","K","L","M","N"]
[null,null,null,null,null,null,null,null,null,null,null,null,"=C+D+E+F+G","=A+B-H",null,"=J-I","=K / I","=UP*K","=K / H"]
[null,null,null,null,null,"OPENING","PURCHASE","USAGE ","USAGE ","DISPOSED","CUSTOMER REQUEST /","USAGE ","TOTAL","BOOKING","STOCK ","DIFF.","DIFF.","LOSS/GAIN","STOCK DIFF OVER USAGE"]
[null,null,null,null,null,"STOCK",null,"IN K LUNCH & K DINNER","IN SIDE ORDER","STOCK","STAFF MEAL","IN OTHER ","USAGE ","INVENTORY","TAKE "]
[null,null,null,null,null,"上月存货","购买数量","K LUNCH / DINNER  用量","附加菜 用量","本月抛弃","顾客请求/员工餐","其他用途","总用量","账面存货","本月点货","差异","%差异","盈亏 (RM)"]
[]
["MAIN SAUCE 主要酱料"]
[null,1,"BLACK PEPPER SAUCE",3.88,"KG",4.2,45.6,{"$f":"SUMIF('SAUCE USAGE'!$J$26:$J$66,C23,'SAUCE USAGE'!$L$26:$L$66)/1000","v":45.9},{"$f":"SUMIF('SAUCE USAGE'!$J$69:$J$109,C23,'SAUCE USAGE'!$L$69:$L$109)/1000","v":8.91},null,{"$f":"SUMIF('SAUCE USAGE'!$J$11:$J$24,C23,'SAUCE USAGE'!$L$11:$L$24)/1000","v":0.08},null,{"$f":"L23+H23+I23+J23+K23","v":54.89},{"$f":"+F23+G23-M23","v":-5.0899999999999963},3.2,{"$f":"+O23-N23","v":8.2899999999999956},{"$f":"IF(N23=0,\"\",P23/N23)","v":-1.6286836935166997},{"$f":"+P23*D23","v":32.165199999999984},{"$f":"+P23/M23","v":0.15102933139005276}]
[null,2,"BLACK PEPPER SAUCE (UDON)",3.88,"KG",3.5,0,{"$f":"SUMIF('SAUCE USAGE'!$J$26:$J$66,C24,'SAUCE USAGE'!$L$26:$L$66)/1000","v":4.62},{"$f":"SUMIF('SAUCE USAGE'!$J$69:$J$109,C24,'SAUCE USAGE'!$L$69:$L$109)/1000","v":1.89},null,{"$f":"SUMIF('SAUCE USAGE'!$J$11:$J$24,C24,'SAUCE USAGE'!$L$11:$L$24)/1000","v":0},null,6.51,-3.01,1.9,4.91,-1.6312292358803988,19.050799999999999,{"$f":"+P24/M24","v":0.75422427035330264}]
[null,{"$f":"+B24+1","v":3},"BOLOGNESE SAUCE",11.35,"KG",5.9,12,{"$f":"SUMIF('SAUCE USAGE'!$J$26:$J$66,C25,'SAUCE USAGE'!$L$26:$L$66)/1000","v":34.799999999999997},{"$f":"SUMIF('SAUCE USAGE'!$J$69:$J$109,C25,'SAUCE USAGE'!$L$69:$L$109)/1000","v":8.5500000000000007},null,{"$f":"SUMIF('SAUCE USAGE'!$J$11:$J$24,C25,'SAUCE USAGE'!$L$11:$L$24)/1000","v":0.14000000000000001},null,43.489999999999995,-25.589999999999996,7.9,33.489999999999995,-1.3087143415396638,380.11149999999992,0.7700620832375259]
[null,{"$f":"+B25+1","v":4},"BUTTER CREAM SAUCE",5.9,"KG",0.6,16.100000000000001,{"$f":"SUMIF('SAUCE USAGE'!$J$26:$J$66,C26,'SAUCE USAGE'!$L$26:$L$66)/1000","v":16.274999999999999},{"$f":"SUMIF('SAUCE USAGE'!$J$69:$J$109,C26,'SAUCE USAGE'!$L$69:$L$109)/1000","v":7.875},null,{"$f":"SUMIF('SAUCE USAGE'!$J$11:$J$24,C26,'SAUCE USAGE'!$L$11:$L$24)/1000","v":0},null,{"$f":"L26+H26+I26+J26+K26","v":24.15},{"$f":"+F26+G26-M26","v":-7.4499999999999957},0.5,{"$f":"+O26-N26","v":7.9499999999999957},{"$f":"IF(N26=0,\"\",P26/N26)","v":-1.0671140939597317},{"$f":"+P26*D26","v":46.90499999999998},{"$f":"+P26/M26","v":0.32919254658385078}]
[null,5,"GRAVY SAUCE",3.3,"KG",2.2999999999999998,12.8,{"$f":"SUMIF('SAUCE USAGE'!$J$26:$J$66,C27,'SAUCE USAGE'!$L$26:$L$66)/1000","v":11.34},{"$f":"SUMIF('SAUCE USAGE'!$J$69:$J$109,C27,'SAUCE USAGE'!$L$69:$L$109)/1000","v":2.16},null,{"$f":"SUMIF('SAUCE USAGE'!$J$11:$J$24,C27,'SAUCE USAGE'!$L$11:$L$24)/1000","v":0},null,13.5,1.6000000000000014,1.8,0.19999999999999862,0.12499999999999903,0.65999999999999537,1.4814814814814713E-2]
[null,6,"MARMITE SAUCE ",2,"KG",3.2,20.9,{"$f":"SUMIF('SAUCE USAGE'!$J$26:$J$66,C28,'SAUCE USAGE'!$L$26:$L$66)/1000","v":12.48},{"$f":"SUMIF('SAUCE USAGE'!$J$69:$J$109,C28,'SAUCE USAGE'!$L$69:$L$109)/1000","v":5.6},null,{"$f":"SUMIF('SAUCE USAGE'!$J$11:$J$24,C28,'SAUCE USAGE'!$L$11:$L$24)/1000","v":7.0000000000000007E-2},null,18.149999999999999,5.9499999999999993,4.5,-1.4499999999999993,-0.24369747899159655,-2.8999999999999986,-7.9889807162534396E-2]
[null,7,"MUSHROOM SAUCE",6.78,"KG",4,49.4,{"$f":"SUMIF('SAUCE USAGE'!$J$26:$J$66,C29,'SAUCE USAGE'!$L$26:$L$66)/1000","v":48.15},{"$f":"SUMIF('SAUCE USAGE'!$J$69:$J$109,C29,'SAUCE USAGE'!$L$69:$L$109)/1000","v":8.64},null,{"$f":"SUMIF('SAUCE USAGE'!$J$11:$J$24,C29,'SAUCE USAGE'!$L$11:$L$24)/1000","v":1.04},null,57.83,-4.43,3.4,7.83,-1.7674943566591423,53.087400000000002,0.13539685284454436]
[null,8,"SAMBAL (FRIED)SAUCE",9.07,"KG",10.4,7.8,{"$f":"SUMIF('SAUCE USAGE'!$J$26:$J$66,C30,'SAUCE USAGE'!$L$26:$L$66)/1000","v":4.32},{"$f":"SUMIF('SAUCE USAGE'!$J$69:$J$109,C30,'SAUCE USAGE'!$L$69:$L$109)/1000","v":3.15},null,{"$f":"SUMIF('SAUCE USAGE'!$J$11:$J$24,C30,'SAUCE USAGE'!$L$11:$L$24)/1000","v":0},null,7.4700000000000006,10.729999999999999,9.1999999999999993,-1.5299999999999994,-0.14259086672879773,-13.877099999999995,-0.20481927710843364]
[null,{"$f":"+B30+1","v":9},"SWEET & SOUR SAUCE",1.88,"KG",5.3,16,{"$f":"SUMIF('SAUCE USAGE'!$J$26:$J$66,C31,'SAUCE USAGE'!$L$26:$L$66)/1000","v":13},{"$f":"SUMIF('SAUCE USAGE'!$J$69:$J$109,C31,'SAUCE USAGE'!$L$69:$L$109)/1000","v":4.2},null,{"$f":"SUMIF('SAUCE USAGE'!$J$11:$J$24,C31,'SAUCE USAGE'!$L$11:$L$24)/1000","v":0},null,17.2,4.1000000000000014,5.2,1.0999999999999988,0.2682926829268289,2.0679999999999974,6.3953488372092956E-2]
[null,"GRAND TOTAL ",null,null,null,null,null,null,null,null,null,null,null,null,null,null,null,{"$f":"SUM(R23:R31)","v":517.27079999999978}]
[]
["MAIN COURSE MATERIAL 主餐食材"]
[]
[null,1,"CHICKEN CHOP (MARINATED)",3.34,"PCS",505,2387,{"$f":"SUMIF('K-LUNCH & K DINNER'!$H$10:$H$55,C36,'K-LUNCH & K DINNER'!$J$10:$J$55)","v":1997.04},{"$f":"SUMIF('SIDE ORDER & FOC'!$Q$11:$Q$204,C36,'SIDE ORDER & FOC'!$S$11:$S$204)","v":489.15999999999997},null,6,null,{"$f":"L36+H36+I36+J36+K36","v":2492.1999999999998},{"$f":"+F36+G36-M36","v":399.80000000000018},374,{"$f":"+O36-N36","v":-25.800000000000182},{"$f":"IF(N36=0,\"\",P36/N36)","v":-6.4532266133066965E-2},{"$f":"+P36*D36","v":-86.172000000000608},-1.0352299173421148E-2]
[]
[null,2,"CHICKEN WING  (MARINATED)",1.17,"PCS",107,393,{"$f":"SUMIF('K-LUNCH & K DINNER'!$H$10:$H$55,C38,'K-LUNCH & K DINNER'!$J$10:$J$55)","v":255},{"$f":"SUMIF('SIDE ORDER & FOC'!$Q$11:$Q$204,C38,'SIDE ORDER & FOC'!$S$11:$S$204)","v":459},null,1,null,{"$f":"L38+H38+I38+J38+K38","v":715},{"$f":"+F38+G38-M38","v":-215},33,{"$f":"+O38-N38","v":248},-1.1534883720930234]
[null,3,"CHICKEN WINGS (NON -MARINATED)",1.17,"PCS",71,215,{"$f":"SUMIF('K-LUNCH & K DINNER'!$H$10:$H$55,C39,'K-LUNCH & K DINNER'!$J$10:$J$55)","v":0},{"$f":"SUMIF('SIDE ORDER & FOC'!$Q$11:$Q$204,C39,'SIDE ORDER & FOC'!$S$11:$S$204)","v":0},7,0,null,{"$f":"L39+H39+I39+J39+K39","v":7},{"$f":"+F39+G39-M39","v":279},26,-253,-0.90681003584229392]
[null,null,"CHICKEN WINGS -TOTAL",1.17,"PCS",{"$f":"SUM(F38:F39)","v":178},608,255,459,7,1,0,722,64,59,-5,-2.060298407935317,{"$f":"+P40*D40","v":-5.85},-6.9252077562326868E-3]
[]
[null,4,"DORY FISH FILLET ",2.4500000000000002,"PCS",37,320,{"$f":"SUMIF('K-LUNCH & K DINNER'!$H$10:$H$55,C42,'K-LUNCH & K DINNER'!$J$10:$J$55)","v":295},{"$f":"SUMIF('SIDE ORDER & FOC'!$Q$11:$Q$204,C42,'SIDE ORDER & FOC'!$S$11:$S$204)","v":38},3,null,null,{"$f":"L42+H42+I42+J42+K42","v":336},{"$f":"+F42+G42-M42","v":21},18,-3,-0.14285714285714285,{"$f":"+P42*D42","v":-7.3500000000000005},-8.9285714285714281E-3]
[]
[null,"GRAND TOTAL ",null,null,null,null,null,null,null,null,null,null,null,null,null,null,null,{"$f":"SUM(R35:R43)","v":-99.372000000000597}]
[]
["SNACKS MATERIAL   小吃食材"]
[null,5,"MCCAIN ONION RING",0.16,"PCS",1242,0,{"$f":"SUMIF('K-LUNCH & K DINNER'!$H$10:$H$55,C47,'K-LUNCH & K DINNER'!$J$10:$J$55)","v":64},{"$f":"SUMIF('SIDE ORDER & FOC'!$Q$11:$Q$204,C47,'SIDE ORDER & FOC'!$S$11:$S$204)","v":472},null,null,null,{"$f":"L47+H47+I47+J47+K47","v":536},{"$f":"+F47+G47-M47","v":706},565,-141,{"$f":"IF(N47=0,\"\",P47/N47)","v":-0.19971671388101983},{"$f":"+P47*D47","v":-22.56},-0.26305970149253732]
[null,6,"MCCAIN SMILES",0.12,"PCS",298,630,{"$f":"SUMIF('K-LUNCH & K DINNER'!$H$10:$H$55,C48,'K-LUNCH & K DINNER'!$J$10:$J$55)","v":40},{"$f":"SUMIF('SIDE ORDER & FOC'!$Q$11:$Q$204,C48,'SIDE ORDER & FOC'!$S$11:$S$204)","v":296},null,null,null,{"$f":"L48+H48+I48+J48+K48","v":336},{"$f":"+F48+G48-M48","v":592},603,11,1.8581081081081082E-2,{"$f":"+P48*D48","v":1.3199999999999998},3.273809523809524E-2]
[null,7,"MCCAIN VERSITOT",0.06,"PCS",220,1320,{"$f":"SUMIF('K-LUNCH & K DINNER'!$H$10:$H$55,C49,'K-LUNCH & K DINNER'!$J$10:$J$55)","v":165},{"$f":"SUMIF('SIDE ORDER & FOC'!$Q$11:$Q$204,C49,'SIDE ORDER & FOC'!$S$11:$S$204)","v":738},null,null,null,{"$f":"L49+H49+I49+J49+K49","v":903},{"$f":"+F49+G49-M49","v":637},565,-72,-0.11302982731554161,-4.32,-7.9734219269102985E-2]
[null,{"$f":"+B49+1","v":8},"MCCAIN SPIRAL FRIES",7.87,"KG",1.4,21.6,{"$f":"SUMIF('K-LUNCH & K DINNER'!$H$10:$H$55,C50,'K-LUNCH & K DINNER'!$J$10:$J$55)","v":3.96},{"$f":"SUMIF('SIDE ORDER & FOC'!$Q$11:$Q$204,C50,'SIDE ORDER & FOC'!$S$11:$S$204)","v":12.44},null,null,null,1.56,-1.56,5.6,7.16,-4.5897435897435894,56.349200000000003,4.5897435897435894]
[null,{"$f":"+B50+1","v":9},"CALAMARI RING",0.47,"PCS",210,225,{"$f":"SUMIF('K-LUNCH & K DINNER'!$H$10:$H$55,C51,'K-LUNCH & K DINNER'!$J$10:$J$55)","v":119},{"$f":"SUMIF('SIDE ORDER & FOC'!$Q$11:$Q$204,C51,'SIDE ORDER & FOC'!$S$11:$S$204)","v":245},null,null,null,{"$f":"L51+H51+I51+J51+K51","v":364},{"$f":"+F51+G51-M51","v":71},72,{"$f":"+O51-N51","v":1},{"$f":"IF(N51=0,\"\",P51/N51)","v":1.4084507042253521E-2},0.47,2.7472527472527475E-3]
[null,10,"CHICKEN NUGGET",0.26,"PCS",178,1332,{"$f":"SUMIF('K-LUNCH & K DINNER'!$H$10:$H$55,C52,'K-LUNCH & K DINNER'!$J$10:$J$55)","v":344},{"$f":"SUMIF('SIDE ORDER & FOC'!$Q$11:$Q$204,C52,'SIDE ORDER & FOC'!$S$11:$S$204)","v":776},null,null,null,1120,390,384,-6,-1.5384615384615385E-2,-1.56,-5.3571428571428572E-3]
[null,11,"CHICKEN SAUSAGE ",0.23,"PCS",198,610,{"$f":"SUMIF('K-LUNCH & K DINNER'!$H$10:$H$55,C53,'K-LUNCH & K DINNER'!$J$10:$J$55)","v":161.5},{"$f":"SUMIF('SIDE ORDER & FOC'!$Q$11:$Q$204,C53,'SIDE ORDER & FOC'!$S$11:$S$204)","v":476.5},null,42,null,680,128,229,101,0.7890625,23.23,0.14852941176470588]
[null,12,"FISH BALL (BIG)",0.24,"PCS",74,360,{"$f":"SUMIF('K-LUNCH & K DINNER'!$H$10:$H$55,C54,'K-LUNCH & K DINNER'!$J$10:$J$55)","v":42},{"$f":"SUMIF('SIDE ORDER & FOC'!$Q$11:$Q$204,C54,'SIDE ORDER & FOC'!$S$11:$S$204)","v":306},null,null,null,348,86,100,14,0.16279069767441862,3.36,4.0229885057471264E-2]
[null,13,"SALMON BALL",0.27,"PCS",47,30,{"$f":"SUMIF('K-LUNCH & K DINNER'!$H$10:$H$55,C55,'K-LUNCH & K DINNER'!$J$10:$J$55)","v":2},{"$f":"SUMIF('SIDE ORDER & FOC'!$Q$11:$Q$204,C55,'SIDE ORDER & FOC'!$S$11:$S$204)","v":54},null,null,null,56,21,41,20,0.95238095238095233,5.4,0.35714285714285715]
[null,14,"SEAFOOD TOFU ",0.33,"PCS",9,66,{"$f":"SUMIF('K-LUNCH & K DINNER'!$H$10:$H$55,C56,'K-LUNCH & K DINNER'!$J$10:$J$55)","v":2},{"$f":"SUMIF('SIDE ORDER & FOC'!$Q$11:$Q$204,C56,'SIDE ORDER & FOC'!$S$11:$S$204)","v":54},null,null,null,56,19,41,22,1.1578947368421053,7.2600000000000007,0.39285714285714285]
[null,15,"SOTONG BALL",0.17,"PCS",103,50,{"$f":"SUMIF('K-LUNCH & K DINNER'!$H$10:$H$55,C57,'K-LUNCH & K DINNER'!$J$10:$J$55)","v":2},{"$f":"SUMIF('SIDE ORDER & FOC'!$Q$11:$Q$204,C57,'SIDE ORDER & FOC'!$S$11:$S$204)","v":54},null,null,null,56,97,102,5,5.1546391752577317E-2,0.85000000000000009,8.9285714285714288E-2]
[null,16,"SPRING ROLL",0.27,"PCS",53,720,{"$f":"SUMIF('K-LUNCH & K DINNER'!$H$10:$H$55,C58,'K-LUNCH & K DINNER'!$J$10:$J$55)","v":48},{"$f":"SUMIF('SIDE ORDER & FOC'!$Q$11:$Q$204,C58,'SIDE ORDER & FOC'!$S$11:$S$204)","v":464},null,null,null,512,261,177,-84,-0.32183908045977011,-22.68,-0.1640625]
[null,17,"THAI ROLL",0.45,"PCS",166,285,{"$f":"SUMIF('K-LUNCH & K DINNER'!$H$10:$H$55,C59,'K-LUNCH & K DINNER'!$J$10:$J$55)","v":42},{"$f":"SUMIF('SIDE ORDER & FOC'!$Q$11:$Q$204,C59,'SIDE ORDER & FOC'!$S$11:$S$204)","v":147},null,null,null,189,262,197,-65,-0.24809160305343511,-29.25,-0.3439153439153439]
[null,18,"6\" PIZZA BASE ",1.25,"PCS",26,0,{"$f":"SUMIF('K-LUNCH & K DINNER'!$H$10:$H$55,C60,'K-LUNCH & K DINNER'!$J$10:$J$55)","v":0},{"$f":"SUMIF('SIDE ORDER & FOC'!$Q$11:$Q$204,C60,'SIDE ORDER & FOC'!$S$11:$S$204)","v":18},null,null,null,18,8,0,{"$f":"+O60-N60","v":-8},-1,-10,{"$f":"+P60/M60","v":-0.44444444444444442}]
[null,19,"9\" PIZZA BASE ",2.2999999999999998,"PCS",0,0,{"$f":"SUMIF('K-LUNCH & K DINNER'!$H$10:$H$55,C61,'K-LUNCH & K DINNER'!$J$10:$J$55)","v":0},{"$f":"SUMIF('SIDE ORDER & FOC'!$Q$11:$Q$204,C61,'SIDE ORDER & FOC'!$S$11:$S$204)","v":0},null,null,null,0,0,0,0,"",0,{"$f":"IF(M61=0,\"\",O61/M61)","v":""}]
[]
[null,"GRAND TOTAL ",null,null,null,null,null,null,null,null,null,null,null,null,null,null,null,{"$f":"SUM(R47:R62)","v":7.8691999999999993}]
[]
[]
[]
[]
[]
[]
[]
[]
[null,"COMPARISON OF TOTAL LOSSES",null,null,null,null,null,null,null,"COMPARISON OF ACTUAL USAGE "]
[null,"NO","CATEGORIES",null,null,"JULY ","AUG","DIFF",null,"NO",null,null,null,null,"JULY ","AUG","DIFF"]
[null,null,null,null,null,"RM ","PCS","%",null,null,null,null,null,null,"PCS","PCS","%"]
[null,1,"MAIN SAUCE 主要酱料",null,null,152.52000000000001,{"$f":"+R32","v":517.27079999999978},{"$f":"(+G75-F75)/F75","v":2.3914948859165994},null,1,{"$f":"+C36","v":"CHICKEN CHOP (MARINATED)"},null,null,null,1714.4,{"$f":"+M36","v":2492.1999999999998},{"$f":"(+P75-O75)/O75","v":0.45368642090527278}]
[null,2,"MAIN COURSE MATERIAL 主餐食材",null,null,-130.32399999999973,{"$f":"+R44","v":-99.372000000000597},-0.23750038365918169,null,2,{"$f":"+C40","v":"CHICKEN WINGS -TOTAL"},null,null,null,693,{"$f":"+M40","v":722},{"$f":"(+P76-O76)/O76","v":4.1847041847041848E-2}]
[null,3,"SNACKS MATERIAL   小吃食材",null,null,-109.69,{"$f":"+R63","v":7.8691999999999993},-1.0717403591940926,null,3,{"$f":"+C42","v":"DORY FISH FILLET "},null,null,null,276,{"$f":"+M42","v":336},0.21739130434782608]
[null,null,null,null,null,null,null,null,null,4,{"$f":"+C47","v":"MCCAIN ONION RING"},null,null,null,408,{"$f":"+M47","v":536},0.31372549019607843]
[null,"GRAND TOTAL ",null,null,null,{"$f":"SUM(F75:F77)","v":-87.493999999999716},{"$f":"SUM(G75:G77)","v":425.76799999999918},null,null,5,{"$f":"+C48","v":"MCCAIN SMILES"},null,null,null,88,{"$f":"+M48","v":336},2.8181818181818183]
[null,null,null,null,null,null,null,null,null,6,"MCCAIN VERSITOT",null,null,null,668,903,0.35179640718562877]
[null,null,null,null,null,null,null,null,null,7,"MCCAIN SPIRAL FRIES",null,null,null,14.9,1.56,-0.89530201342281879]
[null,"COMPARISON OF ACTUAL USAGE  (SAUCE)",null,null,null,null,null,null,null,8,"CALAMARI RING",null,null,null,175,364,1.08]
[null,null,null,null,null,null,null,null,null,9,"CHICKEN NUGGET",null,null,null,1016,1120,0.10236220472440945]
[null,"NO","CATEGORIES",null,null,"JULY ","AUG","DIFF",null,10,"CHICKEN SAUSAGE ",null,null,null,502.5,680,0.35323383084577115]
[null,null,null,null,null,"KG","KG","%",null,11,"FISH BALL (BIG)",null,null,null,216,348,0.61111111111111116]
[null,1,{"$f":"+C23","v":"BLACK PEPPER SAUCE"},null,null,34.28,{"$f":"+M23","v":54.89},{"$f":"(+G86-F86)/F86","v":0.60122520420070003},null,{"$f":"+J85+1","v":12},{"$f":"+C55","v":"SALMON BALL"},null,null,null,38,56,0.47368421052631576]
[null,2,{"$f":"+C24","v":"BLACK PEPPER SAUCE (UDON)"},null,null,5.04,{"$f":"+M24","v":6.51},0.29166666666666663,null,{"$f":"+J86+1","v":13},{"$f":"+C56","v":"SEAFOOD TOFU "},null,null,null,38,56,0.47368421052631576]
[null,3,{"$f":"+C25","v":"BOLOGNESE SAUCE"},null,null,31.5,{"$f":"+M25","v":43.489999999999995},0.38063492063492049,null,14,"SOTONG BALL",null,null,null,38,56,0.47368421052631576]
[null,{"$f":"+B88+1","v":4},{"$f":"+C27","v":"GRAVY SAUCE"},null,null,8.6300000000000008,{"$f":"+M27","v":13.5},{"$f":"(+G89-F89)/F89","v":0.56431054461181906},null,15,"SPRING ROLL",null,null,null,440,512,0.16363636363636364]
[null,{"$f":"+B89+1","v":5},"MARMITE SAUCE ",null,null,13.84,18.149999999999999,0.31141618497109819,null,16,"THAI ROLL",null,null,null,126,189,0.5]
[null,6,"MUSHROOM SAUCE",null,null,38.28,57.83,0.51071055381400199,null,17,"6\" PIZZA BASE ",null,null,null,15,18,0.2]
[null,7,"SAMBAL (FRIED)SAUCE",null,null,4.95,7.4700000000000006,0.50909090909090915,null,18,"9\" PIZZA BASE ",null,null,null,6,0,{"$f":"(+P92-O92)/O92","v":-1}]
[null,8,"SWEET & SOUR SAUCE",null,null,10.199999999999999,17.2,0.68627450980392157]

{"sheet":"K-LUNCH & K DINNER","index":4,"n_rows":60,"n_cols":10,"rows_kept":60,"cut":false,"hidden":false,"merged":[[55,0,55,2],[5,8,5,9],[0,0,0,4]]}
["MONTHLY SALES FOOD RECORD ( K LUNCH & K DINNER)"]
[]
["Outlet :","CCS OUTLET"]
["Month :","2013-08-01"]
[]
[null,null,null,"K-LUNCH & K DINNER","TOTAL COST ",null,null,null,"USAGE"]
["NO","MENU ITEM","Cost","Sales",null,null,null,"MATERIAL  USED","PORTION","TOTAL"]
[null,null,"RM","Q","RM",null,null,"Q","Q","Q"]
[]
[1,"DH01 91101:THAI CHK",{"$f":"SUMIF(DATABASE!$B$3:$B$73,'K-LUNCH & K DINNER'!B10,DATABASE!$C$3:$C$73)","v":3.29},{"$f":"VLOOKUP(B10,Summary!$B$30:$AK$464,5,FALSE)","v":101},{"$f":"+D10*C10","v":332.29},null,null,"CHICKEN CHOP (MARINATED)",0.66,{"$f":"+I10*D10","v":66.66}]
[{"$f":"+A10+1","v":2},"DH02 91102:MAMITE CHK",{"$f":"SUMIF(DATABASE!$B$3:$B$73,'K-LUNCH & K DINNER'!B11,DATABASE!$C$3:$C$73)","v":3.02},{"$f":"VLOOKUP(B11,Summary!$B$30:$AK$464,5,FALSE)","v":156},{"$f":"+D11*C11","v":471.12},null,null,"CHICKEN CHOP (MARINATED)",0.66,102.96000000000001]
[{"$f":"+A11+1","v":3},"DH03 91103:KO PO CHK",{"$f":"SUMIF(DATABASE!$B$3:$B$73,'K-LUNCH & K DINNER'!B12,DATABASE!$C$3:$C$73)","v":3.45},{"$f":"VLOOKUP(B12,Summary!$B$30:$AK$464,5,FALSE)","v":0},0,null,null,"CHICKEN CHOP (MARINATED)",0.66,0]
[4,"DH04 91104:S&S CHK",{"$f":"SUMIF(DATABASE!$B$3:$B$73,'K-LUNCH & K DINNER'!B13,DATABASE!$C$3:$C$73)","v":3.45},{"$f":"VLOOKUP(B13,Summary!$B$30:$AK$464,5,FALSE)","v":65},224.25,null,null,"CHICKEN CHOP (MARINATED)",0.66,42.9]
[5,"DH05 91105:BUTTER CHK",{"$f":"SUMIF(DATABASE!$B$3:$B$73,'K-LUNCH & K DINNER'!B14,DATABASE!$C$3:$C$73)","v":3.32},{"$f":"VLOOKUP(B14,Summary!$B$30:$AK$464,5,FALSE)","v":217},720.43999999999994,null,null,"CHICKEN CHOP (MARINATED)",0.66,143.22]
[6,"DH06 91106:HK F.RICE",{"$f":"SUMIF(DATABASE!$B$3:$B$73,'K-LUNCH & K DINNER'!B15,DATABASE!$C$3:$C$73)","v":3.16},{"$f":"VLOOKUP(B15,Summary!$B$30:$AK$464,5,FALSE)","v":154},486.64000000000004,null,null,null,null,0]
[7,"DH07 91107:SBL F.RICE",{"$f":"SUMIF(DATABASE!$B$3:$B$73,'K-LUNCH & K DINNER'!B16,DATABASE!$C$3:$C$73)","v":2.41},{"$f":"+Summary!F148","v":33},79.53,null,null,null,null,0]
[8,"DH08 91108:SBL F.MEE",{"$f":"SUMIF(DATABASE!$B$3:$B$73,'K-LUNCH & K DINNER'!B17,DATABASE!$C$3:$C$73)","v":2.8},{"$f":"VLOOKUP(B17,Summary!$B$30:$AK$464,5,FALSE)","v":19},53.199999999999996,null,null,null,null,0]
[9,"DH09 91109:BP UDON",{"$f":"SUMIF(DATABASE!$B$3:$B$73,'K-LUNCH & K DINNER'!B18,DATABASE!$C$3:$C$73)","v":2.08},{"$f":"VLOOKUP(B18,Summary!$B$30:$AK$464,5,FALSE)","v":66},137.28,null,null,null,null,0]
[10,"DH10 91110:NISSIN",{"$f":"SUMIF(DATABASE!$B$3:$B$73,'K-LUNCH & K DINNER'!B19,DATABASE!$C$3:$C$73)","v":2.3199999999999998},{"$f":"VLOOKUP(B19,Summary!$B$30:$AK$464,5,FALSE)","v":49},113.67999999999999,null,null,"CHICKEN SAUSAGE ",1.5,73.5]
[11,"DH11 91111:VEG RICE",{"$f":"SUMIF(DATABASE!$B$3:$B$73,'K-LUNCH & K DINNER'!B20,DATABASE!$C$3:$C$73)","v":1.6},{"$f":"VLOOKUP(B20,Summary!$B$30:$AK$464,5,FALSE)","v":25},40,null,null,null,null,0]
[12,"DH12 91112:NASI LEMAK",{"$f":"SUMIF(DATABASE!$B$3:$B$73,'K-LUNCH & K DINNER'!B21,DATABASE!$C$3:$C$73)","v":3.56},{"$f":"VLOOKUP(B21,Summary!$B$30:$AK$464,5,FALSE)","v":0},0,null,null,"CHICKEN WINGS (NON -MARINATED)",1,0]
[13,"DH13 91113:KUEY TEOW",{"$f":"SUMIF(DATABASE!$B$3:$B$73,'K-LUNCH & K DINNER'!B22,DATABASE!$C$3:$C$73)","v":3.16},{"$f":"VLOOKUP(B22,Summary!$B$30:$AK$464,5,FALSE)","v":0},0,null,null,null,null,0]
[14,"DH14 91114:F.BALL MEE",{"$f":"SUMIF(DATABASE!$B$3:$B$73,'K-LUNCH & K DINNER'!B23,DATABASE!$C$3:$C$73)","v":2.59},{"$f":"VLOOKUP(B23,Summary!$B$30:$AK$464,5,FALSE)","v":0},0,null,null,"FISH BALL (SMALL)",5,0]
[15,"DH15 91115:CHK NOODLE",{"$f":"SUMIF(DATABASE!$B$3:$B$73,'K-LUNCH & K DINNER'!B24,DATABASE!$C$3:$C$73)","v":4.71},{"$f":"VLOOKUP(B24,Summary!$B$30:$AK$464,5,FALSE)","v":57},268.46999999999997,null,null,"CHICKEN CHOP (MARINATED)",1,57]
[16,"DH16 91116:MGL CHK",{"$f":"SUMIF(DATABASE!$B$3:$B$73,'K-LUNCH & K DINNER'!B25,DATABASE!$C$3:$C$73)","v":3.54},{"$f":"VLOOKUP(B25,Summary!$B$30:$AK$464,5,FALSE)","v":55},194.7,null,null,"CHICKEN CHOP (MARINATED)",0.66,{"$f":"+I25*D25","v":36.300000000000004}]
[{"$f":"+A25+1","v":17},"DG01 91001:BP CHK CP",{"$f":"SUMIF(DATABASE!$B$3:$B$73,'K-LUNCH & K DINNER'!B26,DATABASE!$C$3:$C$73)","v":4.41},{"$f":"VLOOKUP(B26,Summary!$B$30:$AK$464,5,FALSE)","v":510},{"$f":"+D26*C26","v":2249.1},null,null,"CHICKEN CHOP (MARINATED)",1,510]
[{"$f":"+A26+1","v":18},"DG02 91002:GVY CHK CP",{"$f":"SUMIF(DATABASE!$B$3:$B$73,'K-LUNCH & K DINNER'!B27,DATABASE!$C$3:$C$73)","v":4.43},{"$f":"VLOOKUP(B27,Summary!$B$30:$AK$464,5,FALSE)","v":126},558.17999999999995,null,null,"CHICKEN CHOP (MARINATED)",1,126]
[19,"DG03 91003:MSR CHK CP",{"$f":"SUMIF(DATABASE!$B$3:$B$73,'K-LUNCH & K DINNER'!B28,DATABASE!$C$3:$C$73)","v":4.75},{"$f":"VLOOKUP(B28,Summary!$B$30:$AK$464,5,FALSE)","v":535},2541.25,null,null,"CHICKEN CHOP (MARINATED)",1,535]
[20,"DG04 91004:CKN MARY",{"$f":"SUMIF(DATABASE!$B$3:$B$73,'K-LUNCH & K DINNER'!B29,DATABASE!$C$3:$C$73)","v":5.98},{"$f":"VLOOKUP(B29,Summary!$B$30:$AK$464,5,FALSE)","v":290},1734.2,null,null,"CHICKEN CHOP (MARINATED)",1,290]
[21,"DG05 91005:FISH&CHIP",{"$f":"SUMIF(DATABASE!$B$3:$B$73,'K-LUNCH & K DINNER'!B30,DATABASE!$C$3:$C$73)","v":4.29},{"$f":"VLOOKUP(B30,Summary!$B$30:$AK$464,5,FALSE)","v":295},1265.55,null,null,"DORY FISH FILLET ",1,295]
[22,"DG06 91006:SPAGHETTI",{"$f":"SUMIF(DATABASE!$B$3:$B$73,'K-LUNCH & K DINNER'!B31,DATABASE!$C$3:$C$73)","v":2.1},{"$f":"VLOOKUP(B31,Summary!$B$30:$AK$464,5,FALSE)","v":232},487.20000000000005]
[23,"DG07 91007:CHK SALAD",{"$f":"SUMIF(DATABASE!$B$3:$B$73,'K-LUNCH & K DINNER'!B32,DATABASE!$C$3:$C$73)","v":4.9400000000000004},{"$f":"VLOOKUP(B32,Summary!$B$30:$AK$464,5,FALSE)","v":87},429.78000000000003,null,null,"CHICKEN CHOP (MARINATED)",1,{"$f":"+I32*D32","v":87}]
[24,"DI01 91201:SFD STICK",{"$f":"SUMIF(DATABASE!$B$3:$B$73,'K-LUNCH & K DINNER'!B33,DATABASE!$C$3:$C$73)","v":2},{"$f":"VLOOKUP(B33,Summary!$B$30:$AK$464,5,FALSE)","v":1},2,null,null,"SOTONG BALL",2,{"$f":"+I33*$D$33","v":2}]
[null,null,null,null,null,null,null,"SALMON BALL",2,{"$f":"+I34*$D$33","v":2}]
[null,null,null,null,null,null,null,"SEAFOOD TOFU ",2,{"$f":"+I35*$D$33","v":2}]
[25,"DI02 91202:FREN FRIES",{"$f":"SUMIF(DATABASE!$B$3:$B$73,'K-LUNCH & K DINNER'!B36,DATABASE!$C$3:$C$73)","v":1.76},{"$f":"VLOOKUP(B36,Summary!$B$30:$AK$464,5,FALSE)","v":30},52.8,null,null,null,null,{"$f":"+I36*D36","v":0}]
[26,"DI03 91203:GOLD MROOM",{"$f":"SUMIF(DATABASE!$B$3:$B$73,'K-LUNCH & K DINNER'!B37,DATABASE!$C$3:$C$73)","v":2.15},{"$f":"VLOOKUP(B37,Summary!$B$30:$AK$464,5,FALSE)","v":8},17.2,null,null,null,null,0]
[27,"DI04 91204:FISHBALL",{"$f":"SUMIF(DATABASE!$B$3:$B$73,'K-LUNCH & K DINNER'!B38,DATABASE!$C$3:$C$73)","v":1.56},{"$f":"VLOOKUP(B38,Summary!$B$30:$AK$464,5,FALSE)","v":7},10.92,null,null,"FISH BALL (BIG)",6,42]
[28,"DI05 91205:RAINBOW RL",{"$f":"SUMIF(DATABASE!$B$3:$B$73,'K-LUNCH & K DINNER'!B39,DATABASE!$C$3:$C$73)","v":2.5},{"$f":"VLOOKUP(B39,Summary!$B$30:$AK$464,5,FALSE)","v":0},0,null,null,"RAINBOW ROLL",1,0]
[29,"DI06 91206:SPRING RL",{"$f":"SUMIF(DATABASE!$B$3:$B$73,'K-LUNCH & K DINNER'!B40,DATABASE!$C$3:$C$73)","v":2.67},{"$f":"VLOOKUP(B40,Summary!$B$30:$AK$464,5,FALSE)","v":6},16.02,null,null,"SPRING ROLL",8,48]
[30,"DI07 91207:SAUSAGE",{"$f":"SUMIF(DATABASE!$B$3:$B$73,'K-LUNCH & K DINNER'!B41,DATABASE!$C$3:$C$73)","v":1.24},{"$f":"VLOOKUP(B41,Summary!$B$30:$AK$464,5,FALSE)","v":22},27.28,null,null,"CHICKEN SAUSAGE ",4,88]
[31,"DI08 91208:HOTDOG BUN",{"$f":"SUMIF(DATABASE!$B$3:$B$73,'K-LUNCH & K DINNER'!B42,DATABASE!$C$3:$C$73)","v":0},{"$f":"VLOOKUP(B42,Summary!$B$30:$AK$464,5,FALSE)","v":0},0,null,null,"HOTDOG",null,0]
[32,"DI09 91209:SFD TOFU",{"$f":"SUMIF(DATABASE!$B$3:$B$73,'K-LUNCH & K DINNER'!B43,DATABASE!$C$3:$C$73)","v":0},{"$f":"VLOOKUP(B43,Summary!$B$30:$AK$464,5,FALSE)","v":0},0,null,null,"SEAFOOD TOFU ",null,0]
[24,"DI10 91301:DUMPLING",{"$f":"SUMIF(DATABASE!$B$3:$B$73,'K-LUNCH & K DINNER'!B44,DATABASE!$C$3:$C$73)","v":4.5},{"$f":"VLOOKUP(B44,Summary!$B$30:$AK$464,5,FALSE)","v":0},0,null,null,"DUMPLING ",6,0]
[25,"DI11 91302:NUGGET",{"$f":"SUMIF(DATABASE!$B$3:$B$73,'K-LUNCH & K DINNER'!B45,DATABASE!$C$3:$C$73)","v":2.4300000000000002},{"$f":"VLOOKUP(B45,Summary!$B$30:$AK$464,5,FALSE)","v":43},104.49000000000001,null,null,"CHICKEN NUGGET",8,344]
[26,"DI12 91303:CHK WING",{"$f":"SUMIF(DATABASE!$B$3:$B$73,'K-LUNCH & K DINNER'!B46,DATABASE!$C$3:$C$73)","v":3.97},{"$f":"VLOOKUP(B46,Summary!$B$30:$AK$464,5,FALSE)","v":57},226.29000000000002,null,null,"CHICKEN WING  (MARINATED)",3,171]
[27,"DI13 91304:IKAN BILIS",{"$f":"SUMIF(DATABASE!$B$3:$B$73,'K-LUNCH & K DINNER'!B47,DATABASE!$C$3:$C$73)","v":2.1800000000000002},{"$f":"VLOOKUP(B47,Summary!$B$30:$AK$464,5,FALSE)","v":6},13.080000000000002,null,null,null,null,0]
[28,"DI14 91305:THAI RL",{"$f":"SUMIF(DATABASE!$B$3:$B$73,'K-LUNCH & K DINNER'!B48,DATABASE!$C$3:$C$73)","v":3.61},{"$f":"VLOOKUP(B48,Summary!$B$30:$AK$464,5,FALSE)","v":6},21.66,null,null,"THAI ROLL",7,42]
[29,"DI15 91306:SLVR FISH",{"$f":"SUMIF(DATABASE!$B$3:$B$73,'K-LUNCH & K DINNER'!B49,DATABASE!$C$3:$C$73)","v":0},{"$f":"VLOOKUP(B49,Summary!$B$30:$AK$464,5,FALSE)","v":0},0,null,null,null,null,0]
[30,"DI16 91307:D/F C.WING",{"$f":"SUMIF(DATABASE!$B$3:$B$73,'K-LUNCH & K DINNER'!B50,DATABASE!$C$3:$C$73)","v":4.3099999999999996},{"$f":"VLOOKUP(B50,Summary!$B$30:$AK$464,5,FALSE)","v":28},120.67999999999999,null,null,"CHICKEN WING  (MARINATED)",3,84]
[31,"DI17 91308:C/CALAMARI",{"$f":"SUMIF(DATABASE!$B$3:$B$73,'K-LUNCH & K DINNER'!B51,DATABASE!$C$3:$C$73)","v":3.69},{"$f":"VLOOKUP(B51,Summary!$B$30:$AK$464,5,FALSE)","v":17},62.73,null,null,"CALAMARI RING",7,119]
[32,"DI18 91309:Mc O.RINGS",{"$f":"SUMIF(DATABASE!$B$3:$B$73,'K-LUNCH & K DINNER'!B52,DATABASE!$C$3:$C$73)","v":1.72},{"$f":"VLOOKUP(B52,Summary!$B$30:$AK$464,5,FALSE)","v":8},13.76,null,null,"MCCAIN ONION RING",8,{"$f":"+I52*D52","v":64}]
[33,"DI19 91310:McSPIRAL.F",{"$f":"SUMIF(DATABASE!$B$3:$B$73,'K-LUNCH & K DINNER'!B53,DATABASE!$C$3:$C$73)","v":1.72},{"$f":"VLOOKUP(B53,Summary!$B$30:$AK$464,5,FALSE)","v":18},30.96,null,null,"MCCAIN SPIRAL FRIES",0.22,3.96]
[34,"DI20 91311Mc H/SMILES",{"$f":"SUMIF(DATABASE!$B$3:$B$73,'K-LUNCH & K DINNER'!B54,DATABASE!$C$3:$C$73)","v":1.34},{"$f":"VLOOKUP(B54,Summary!$B$30:$AK$464,5,FALSE)","v":5},6.7,null,null,"MCCAIN SMILES",8,40]
[35,"DI21 91312:Mc HASH.B",{"$f":"SUMIF(DATABASE!$B$3:$B$73,'K-LUNCH & K DINNER'!B55,DATABASE!$C$3:$C$73)","v":0.59},{"$f":"VLOOKUP(B55,Summary!$B$30:$AK$464,5,FALSE)","v":11},6.4899999999999993,null,null,"MCCAIN VERSITOT",15,165]
["Total Sales / COST",null,null,{"$f":"SUM(D10:D55)","v":3345},{"$f":"SUM(E10:E55)","v":13119.920000000002}]
[]
[]
[null,null,null,null,null,null,null,null,{"$f":"SUBTOTAL(9,J19:J41)","v":2193.8000000000002}]
[null,null,null,null,null,null,null,null,{"$f":"SUBTOTAL(9,J46:J50)","v":297}]

{"sheet":"LOK LOK ","index":5,"n_rows":116,"n_cols":20,"rows_kept":116,"cut":false,"hidden":false,"merged":[[115,0,115,2],[0,0,0,12],[7,16,7,18],[7,3,7,4],[7,6,7,7],[7,8,7,9],[7,11,7,12],[7,13,7,14],[6,3,6,4],[6,6,6,7],[6,8,6,9]]}
["MONTHLY SALES FOOD RECORD ( LOK LOK BAR COUNTER )"]
[]
[{"$f":"+'K-LUNCH & K DINNER'!A3","v":"Outlet :"},{"$f":"+'K-LUNCH & K DINNER'!B3","v":"CCS OUTLET"}]
[{"$f":"+'K-LUNCH & K DINNER'!A4","v":"Month :"},{"$f":"+'K-LUNCH & K DINNER'!B4","v":"2013-08-01"}]
[]
["CCS LOK LOK BAR SALES"]
[null,null,null,"(A)",null,null,"(B)",null,"(A) - (B)"]
[null,null,null,"SIDE ORDER                 (INCLUDING FOC)",null,null,"FOC",null,"SIDE ORDER                        (NETT SALES)",null,null,"SIDE ORDER                        (NETT COST)",null,"FOC (COST)",null,null,"USAGE"]
["NO","MENU ITEM","S/P","Sales","TOTAL",null,"Sales","TOTAL","Sales","TOTAL",null,"COST","TOTAL","COST","TOTAL",null,"MATERIAL ","RECIPE","TOTAL"]
[null,null,"RM","Q","RM",null,"Q","RM","Q","RM",null,"RM","RM","RM","RM",null,"Q","Q","Q"]
[null,"MAIN COURSE"]
[1]
[{"$f":"+A12+1","v":2},"JK002 LLB G.S C. CHOP",12.9,{"$f":"VLOOKUP(B13,Summary!$B$30:$AK$464,5,FALSE)","v":1},{"$f":"D13*C13","v":12.9},null,{"$f":"+'DAILY FOC'!BO115","v":0},{"$f":"G13*C13","v":0},{"$f":"+D13-G13","v":1},{"$f":"+I13*C13","v":12.9},null,4.43,{"$f":"+L13*I13","v":4.43},{"$f":"+L13","v":4.43},{"$f":"+N13*G13","v":0},null,"CHICKEN CHOP (MARINATED)",1,{"$f":"+R13*D13","v":1}]
[3,"JK003 LLB MSR CHK CHOP",12.9,{"$f":"VLOOKUP(B14,Summary!$B$30:$AK$464,5,FALSE)","v":1},{"$f":"D14*C14","v":12.9},null,{"$f":"+'DAILY FOC'!BO116","v":0},{"$f":"G14*C14","v":0},{"$f":"+D14-G14","v":1},{"$f":"+I14*C14","v":12.9},null,4.75,{"$f":"+L14*I14","v":4.75},{"$f":"+L14","v":4.75},{"$f":"+N14*G14","v":0},null,"CHICKEN CHOP (MARINATED)",1,{"$f":"+R14*D14","v":1}]
[4]
[5]
[6]
[7]
[8,"JK101 LLB Thai Chk Ric",9.9,{"$f":"VLOOKUP(B19,Summary!$B$30:$AK$464,5,FALSE)","v":1},{"$f":"D19*C19","v":9.9},null,{"$f":"+'DAILY FOC'!BO117","v":0},{"$f":"G19*C19","v":0},{"$f":"+D19-G19","v":1},{"$f":"+I19*C19","v":9.9},null,3.29,{"$f":"+L19*I19","v":3.29},{"$f":"+L19","v":3.29},{"$f":"+N19*G19","v":0},null,"CHICKEN CHOP (MARINATED)",0.66,{"$f":"+R19*D19","v":0.66}]
[9,"JK102 Marmite Chk Rice",9.9,{"$f":"VLOOKUP(B20,Summary!$B$30:$AK$464,5,FALSE)","v":3},{"$f":"D20*C20","v":29.700000000000003},null,{"$f":"+'DAILY FOC'!BO118","v":0},{"$f":"G20*C20","v":0},{"$f":"+D20-G20","v":3},{"$f":"+I20*C20","v":29.700000000000003},null,3.02,{"$f":"+L20*I20","v":9.06},3.02,{"$f":"+N20*G20","v":0},null,"CHICKEN CHOP (MARINATED)",0.66,{"$f":"+R20*D20","v":1.98}]
[10,"JK104 S&S Chk Rice",9.9,{"$f":"VLOOKUP(B21,Summary!$B$30:$AK$464,5,FALSE)","v":2},{"$f":"D21*C21","v":19.8},null,{"$f":"+'DAILY FOC'!BO119","v":0},{"$f":"G21*C21","v":0},0,{"$f":"+I21*C21","v":0},null,3.45,{"$f":"+L21*I21","v":0},3.45,{"$f":"+N21*G21","v":0},null,"CHICKEN CHOP (MARINATED)",0.66,{"$f":"+R21*D21","v":1.32}]
[11,"JK105 B.Cream.Chk Rice",9.9,{"$f":"VLOOKUP(B22,Summary!$B$30:$AK$464,5,FALSE)","v":1},{"$f":"D22*C22","v":9.9},null,{"$f":"+'DAILY FOC'!BO120","v":0},{"$f":"G22*C22","v":0},{"$f":"+D22-G22","v":1},{"$f":"+I22*C22","v":9.9},null,3.32,{"$f":"+L22*I22","v":3.32},3.32,{"$f":"+N22*G22","v":0},null,"CHICKEN CHOP (MARINATED)",0.66,{"$f":"+R22*D22","v":0.66}]
[12,"JK106 H.K Fried Rice",9.9,{"$f":"VLOOKUP(B23,Summary!$B$30:$AK$464,5,FALSE)","v":2},{"$f":"D23*C23","v":19.8},null,{"$f":"+'DAILY FOC'!BO121","v":0},{"$f":"G23*C23","v":0},{"$f":"+D23-G23","v":2},{"$f":"+I23*C23","v":19.8},null,3.16,{"$f":"+L23*I23","v":6.32},3.16,{"$f":"+N23*G23","v":0}]
[13,null,null,null,null,null,null,null,null,null,null,null,null,0]
[14,null,null,null,null,null,null,null,null,null,null,null,null,0]
[15,"JK109 LLB BP Udon Mee",9.9,{"$f":"VLOOKUP(B26,Summary!$B$30:$AK$464,5,FALSE)","v":1},{"$f":"D26*C26","v":9.9},null,{"$f":"+'DAILY FOC'!BO122","v":0},{"$f":"G26*C26","v":0},{"$f":"+D26-G26","v":1},{"$f":"+I26*C26","v":9.9},null,2.08,{"$f":"+L26*I26","v":2.08},2.08,{"$f":"+N26*G26","v":0}]
[16,"JK111 LLB S.M.Ver Rice",9.9,{"$f":"VLOOKUP(B27,Summary!$B$30:$AK$464,5,FALSE)","v":1},{"$f":"D27*C27","v":9.9},null,{"$f":"+'DAILY FOC'!BO123","v":0},{"$f":"G27*C27","v":0},{"$f":"+D27-G27","v":1},{"$f":"+I27*C27","v":9.9},null,1.6,{"$f":"+L27*I27","v":1.6},1.6,{"$f":"+N27*G27","v":0}]
[17]
[18,"JK116 LLB Mon.Chk Rice",9.9,{"$f":"VLOOKUP(B29,Summary!$B$30:$AK$464,5,FALSE)","v":1},{"$f":"D29*C29","v":9.9},null,{"$f":"+'DAILY FOC'!BO125","v":0},{"$f":"G29*C29","v":0},{"$f":"+D29-G29","v":1},{"$f":"+I29*C29","v":9.9},null,3.54,{"$f":"+L29*I29","v":3.54},{"$f":"+L29","v":3.54},{"$f":"+N29*G29","v":0},null,"CHICKEN CHOP (MARINATED)",0.66,{"$f":"+R29*D29","v":0.66}]
[]
[null,"PIZZA"]
[1,"JL001 6\" HAWAIIAN",null,{"$f":"VLOOKUP(B32,Summary!$B$30:$AK$464,5,FALSE)","v":0},{"$f":"D32*C32","v":0},null,{"$f":"+'DAILY FOC'!BO128","v":0},{"$f":"G32*C32","v":0},{"$f":"+D32-G32","v":0},{"$f":"+I32*C32","v":0},null,3.54,{"$f":"+L32*I32","v":0},{"$f":"+L32","v":3.54},{"$f":"+N32*G32","v":0},null,"6\" PIZZA BASE ",1,{"$f":"+R32*D32","v":0}]
[{"$f":"+A32+1","v":2}]
[3]
[4]
[5]
[6]
[7]
[{"$f":"+A38+1","v":8}]
[9]
[10]
[]
[null,"LOK LOK "]
[1,"JM101 C.Chicken Sausag",1.5,{"$f":"VLOOKUP(B44,Summary!$B$30:$AK$464,5,FALSE)","v":3},{"$f":"D44*C44","v":4.5},null,{"$f":"+'DAILY FOC'!BO9","v":0},{"$f":"G44*C44","v":0},{"$f":"+D44-G44","v":3},{"$f":"+I44*C44","v":4.5},null,0.39,{"$f":"+L44*I44","v":1.17},{"$f":"+L44","v":0.39},{"$f":"+N44*G44","v":0},null,"CHICKEN SAUSAGE",3]
[{"$f":"+A44+1","v":2},"JM102 Beef Ball",2,{"$f":"VLOOKUP(B45,Summary!$B$30:$AK$464,5,FALSE)","v":2},{"$f":"D45*C45","v":4},null,{"$f":"+'DAILY FOC'!BO10","v":0},0,2,4,null,0.65,{"$f":"+L45*I45","v":1.3},{"$f":"+L45","v":0.65},0,null,"BEEF BALL",3]
[{"$f":"+A45+1","v":3},"JM103 Chicken Kidney",2.5,{"$f":"VLOOKUP(B46,Summary!$B$30:$AK$464,5,FALSE)","v":3},7.5,null,{"$f":"+'DAILY FOC'!BO11","v":0},0,3,7.5,null,1,3,{"$f":"+L46","v":1},0,null,"CHICKEN KIDNEY",3,{"$f":"+R46*D46","v":9}]
[4,"JM104 Chicken Liver",2.5,{"$f":"VLOOKUP(B47,Summary!$B$30:$AK$464,5,FALSE)","v":3},7.5,null,{"$f":"+'DAILY FOC'!BO12","v":0},0,3,7.5,null,1,3,{"$f":"+L47","v":1},0,null,"CHICKEN LIVER",3,{"$f":"+R47*D47","v":9}]
[5,"JM105 Cheese C.Sausage",2.5,{"$f":"VLOOKUP(B48,Summary!$B$30:$AK$464,5,FALSE)","v":8},20,null,{"$f":"+'DAILY FOC'!BO13","v":0},0,0,0,null,0.8,0,0.8,0,null,"CHESS C.SAUSAGE",1,8]
[6,"JM106 B.P C.Sausage",2.5,{"$f":"VLOOKUP(B49,Summary!$B$30:$AK$464,5,FALSE)","v":5},12.5,null,{"$f":"+'DAILY FOC'!BO14","v":0},0,5,12.5,null,0.8,4,0.8,0,null,null,1,5]
[7,"JM107 S.Fill beef Ball",3,{"$f":"VLOOKUP(B50,Summary!$B$30:$AK$464,5,FALSE)","v":2},6,null,{"$f":"+'DAILY FOC'!BO15","v":0},0,2,6,null,1.05,2.1,1.05,0,null,"BEEF BALL",3,6]
[8,"JM108 Pandan Chicken",4,{"$f":"VLOOKUP(B51,Summary!$B$30:$AK$464,5,FALSE)","v":5},20,null,{"$f":"+'DAILY FOC'!BO16","v":0},0,5,20,null,1.64,8.1999999999999993,1.64,0,null,"PANDAN CHICKEN",2,10]
[9,"JM109 S. Duck Breast",4,{"$f":"VLOOKUP(B52,Summary!$B$30:$AK$464,5,FALSE)","v":7},28,null,{"$f":"+'DAILY FOC'!BO17","v":1},4,6,24,null,2.13,12.78,2.13,2.13,null,"DUCK BREAST",2,14]
[10,"JM110 Grill.B.Chk.Wing",4,{"$f":"VLOOKUP(B53,Summary!$B$30:$AK$464,5,FALSE)","v":2},8,null,{"$f":"+'DAILY FOC'!BO18","v":0},0,0,0,null,2.8,0,2.8,0,null,null,1,{"$f":"+R53*D53","v":2}]
[11,"JN211 Pork Meatball s",2,{"$f":"VLOOKUP(B54,Summary!$B$30:$AK$464,5,FALSE)","v":10},20,null,{"$f":"+'DAILY FOC'!BO19","v":0},0,0,0,null,0.55000000000000004,0,0.55000000000000004,0,null,"PORK MEATBALL",5,{"$f":"+R54*D54","v":50}]
[12,"JN212 Wu Xiang Roll s",2,{"$f":"VLOOKUP(B55,Summary!$B$30:$AK$464,5,FALSE)","v":4},8,null,{"$f":"+'DAILY FOC'!BO20","v":0},0,4,8,null,0.54,2.16,0.54,0,null,"RAINBOW ROLL",2,8]
[13,"JN213 P. Sauage Slices",2.5,{"$f":"VLOOKUP(B56,Summary!$B$30:$AK$464,5,FALSE)","v":3},7.5,null,{"$f":"+'DAILY FOC'!BO21","v":0},0,0,0,null,0.96,0,0.96,0,null,null,3,9]
[14,"JN214 Pork Dumplings",2.5,{"$f":"VLOOKUP(B57,Summary!$B$30:$AK$464,5,FALSE)","v":6},15,null,{"$f":"+'DAILY FOC'!BO22","v":0},0,0,0,null,1.2,0,1.2,0,null,"PORK DUMPLINGS",3,18]
[15,"JN215 Pork Meatball B",2.5,{"$f":"VLOOKUP(B58,Summary!$B$30:$AK$464,5,FALSE)","v":7},17.5,null,{"$f":"+'DAILY FOC'!BO23","v":0},0,7,17.5,null,0.78,5.46,0.78,0,null,"PORK MEATBALL",3,21]
[16,"JN216 Pork Liver",3,{"$f":"VLOOKUP(B59,Summary!$B$30:$AK$464,5,FALSE)","v":3},9,null,{"$f":"+'DAILY FOC'!BO24","v":0},0,3,9,null,1.2,3.5999999999999996,1.2,0,null,"PORK LIVER",3,9]
[17,"JN217 Taiwan Sausage",3,{"$f":"VLOOKUP(B60,Summary!$B$30:$AK$464,5,FALSE)","v":23},69,null,{"$f":"+'DAILY FOC'!BO25","v":0},0,23,69,null,1.02,23.46,1.02,0,null,"TAIWAN SAUSAGE",3,69]
[18,"JN218 Bacon",3,{"$f":"VLOOKUP(B61,Summary!$B$30:$AK$464,5,FALSE)","v":4},12,null,{"$f":"+'DAILY FOC'!BO26","v":0},0,4,12,null,0.95,3.8,0.95,0,null,"BACON",1,4]
[19,"JN219 Pork Rinds",4,{"$f":"VLOOKUP(B62,Summary!$B$30:$AK$464,5,FALSE)","v":1},4,null,{"$f":"+'DAILY FOC'!BO27","v":1},4,0,0,null,1.5,0,1.5,1.5,null,"PORK RINDS",2,2]
[20,"JN220 Sauce Filll Ball",4,{"$f":"VLOOKUP(B63,Summary!$B$30:$AK$464,5,FALSE)","v":4},16,null,{"$f":"+'DAILY FOC'!BO28","v":0},0,4,16,null,1.5,6,1.5,0,null,null,3,12]
[21,"JN221 Roasted Pork",4,{"$f":"VLOOKUP(B64,Summary!$B$30:$AK$464,5,FALSE)","v":11},44,null,{"$f":"+'DAILY FOC'!BO29","v":3},12,8,32,null,1.5,12,1.5,4.5,null,"ROASTED PORK",3,33]
[22,"JN222 Enoki Bacon Roll",4,{"$f":"VLOOKUP(B65,Summary!$B$30:$AK$464,5,FALSE)","v":7},28,null,{"$f":"+'DAILY FOC'!BO30","v":4},16,3,12,null,1.5,4.5,1.5,6,null,"ENOKI BACON",3,21]
[23,"JO323 Fish Wanton",1.5,{"$f":"VLOOKUP(B66,Summary!$B$30:$AK$464,5,FALSE)","v":1},1.5,null,{"$f":"+'DAILY FOC'!BO31","v":1},1.5,0,0,null,0.45,0,0.45,0.45,null,"FISH WANTON",3,3]
[24,"JO324 M. Fried F. Cake",1.5,{"$f":"VLOOKUP(B67,Summary!$B$30:$AK$464,5,FALSE)","v":4},6,null,{"$f":"+'DAILY FOC'!BO32","v":2},3,2,3,null,0.6,1.2,0.6,1.2,null,null,3,12]
[25,"JO325 Spicy Fish Cake",1.5,{"$f":"VLOOKUP(B68,Summary!$B$30:$AK$464,5,FALSE)","v":1},1.5,null,{"$f":"+'DAILY FOC'!BO33","v":0},0,1,1.5,null,0.48,0.48,0.48,0,null,null,1.5,1.5]
[26,"JO326 Fresh Clam",1.5,{"$f":"VLOOKUP(B69,Summary!$B$30:$AK$464,5,FALSE)","v":20},{"$f":"D69*C69","v":30},null,{"$f":"+'DAILY FOC'!BO34","v":0},0,0,{"$f":"+I69*C69","v":0},null,1.5,0,{"$f":"+L69","v":1.5},0,null,null,7,140]
[27,"JO327 Wu Xiang F.Ball",2,null,null,null,null,null,null,null,null,0.75,null,null,null,null,null,3,0]
[28,"JO328 Xi Dao Fish Ball",2,null,null,null,null,null,null,null,null,0.65,null,null,null,null,"FISH BALL",5,0]
[29,"JO329 Fish Ball (S)",2,{"$f":"VLOOKUP(B72,Summary!$B$30:$AK$464,5,FALSE)","v":5},{"$f":"D72*C72","v":10},null,{"$f":"+'DAILY FOC'!BO35","v":0},{"$f":"G72*C72","v":0},{"$f":"+D72-G72","v":5},{"$f":"+I72*C72","v":10},null,0.65,3.25,{"$f":"+L72","v":0.65},0,null,"FISH BALL (S )",5,25]
[30,"JO330 Tofu Fish Ball",2,{"$f":"VLOOKUP(B73,Summary!$B$30:$AK$464,5,FALSE)","v":4},8,null,{"$f":"+'DAILY FOC'!BO36","v":0},0,4,{"$f":"+I73*C73","v":8},null,0.6,2.4,0.6,0,null,"TOFU FISH BALL",3,12]
[31,"JO331 Prawn Ball",2,{"$f":"VLOOKUP(B74,Summary!$B$30:$AK$464,5,FALSE)","v":2},4,null,{"$f":"+'DAILY FOC'!BO37","v":0},0,2,4,null,0.39,0.78,0.39,0,null,"PRAWN BALL",3,6]
[32,"JO332 Abalone Slices",2,{"$f":"VLOOKUP(B75,Summary!$B$30:$AK$464,5,FALSE)","v":4},8,null,{"$f":"+'DAILY FOC'!BO38","v":0},0,0,0,null,0.72,0,0.72,0,null,"ABALONE SLICES",3,12]
[33,"JO333 Prawn C. sausage",2,{"$f":"VLOOKUP(B76,Summary!$B$30:$AK$464,5,FALSE)","v":1},2,null,{"$f":"+'DAILY FOC'!BO39","v":0},{"$f":"G76*C76","v":0},1,{"$f":"+I76*C76","v":2},null,0.56999999999999995,0.56999999999999995,0.56999999999999995,0,null,"PRAWN. C.SAUSAGE",3,3]
[34,"JO334 FISH BALL BIG",2.5,{"$f":"VLOOKUP(B77,Summary!$B$30:$AK$464,5,FALSE)","v":2},5,null,{"$f":"+'DAILY FOC'!BO40","v":0},0,2,5,null,1,2,1,0,null,"FISH BALL (B)",3,6]
[35,"JO335 Tempura Prawn",2.5,{"$f":"VLOOKUP(B78,Summary!$B$30:$AK$464,5,FALSE)","v":3},7.5,null,{"$f":"+'DAILY FOC'!BO41","v":0},0,0,0,null,0.9,0,0.9,0,null,"TEMPURA PRAWN",1,3]
[36,"JO336 Breaded CarbClaw",2.5,{"$f":"VLOOKUP(B79,Summary!$B$30:$AK$464,5,FALSE)","v":4},10,null,{"$f":"+'DAILY FOC'!BO42","v":0},0,4,10,null,0.9,3.6,0.9,0,null,null,3,12]
[37,null,2.5,null,null,null,null,null,null,null,null,0.73,null,null,null,null,null,3,0]
[38,"JO338 Otak Fish Paste",2.5,{"$f":"VLOOKUP(B81,Summary!$B$30:$AK$464,5,FALSE)","v":8},20,null,{"$f":"+'DAILY FOC'!BO43","v":1},2.5,7,17.5,null,0.67,4.6900000000000004,0.67,0.67,null,null,3,24,105]
[39,"JO339 Salmon Ball",2.5,{"$f":"VLOOKUP(B82,Summary!$B$30:$AK$464,5,FALSE)","v":1},2.5,null,{"$f":"+'DAILY FOC'!BO44","v":1},2.5,0,0,null,0.9,0,0.9,0.9,null,"SALMON BALL",3,3]
[40,null,3,null,null,null,null,null,null,null,null,1.29,null,null,null,null,null,3,0]
[41,"JO341 Scallop Ball",3,{"$f":"VLOOKUP(B84,Summary!$B$30:$AK$464,5,FALSE)","v":4},12,null,{"$f":"+'DAILY FOC'!BO45","v":1},3,3,9,null,1.02,3.06,1.02,1.02,null,"SCALLOP BALL",3,12]
[42,"JO342 Taiwan C.F. Ball",3,{"$f":"VLOOKUP(B85,Summary!$B$30:$AK$464,5,FALSE)","v":1},3,null,{"$f":"+'DAILY FOC'!BO46","v":0},0,1,3,null,1.17,1.17,1.17,0,null,"TAIWAN C.F. BALL",3,3]
[43,"JO343 Cuttlefish Roll",3,{"$f":"VLOOKUP(B86,Summary!$B$30:$AK$464,5,FALSE)","v":2},6,null,{"$f":"+'DAILY FOC'!BO47","v":0},0,2,6,null,1.06,2.12,1.06,0,null,null,3,6,48]
[44,"JO344 M.Seafood Ball",3,{"$f":"VLOOKUP(B87,Summary!$B$30:$AK$464,5,FALSE)","v":1},{"$f":"D87*C87","v":3},null,{"$f":"+'DAILY FOC'!BO48","v":0},0,1,3,null,1.02,1.02,1.02,0,null,"SEAFOOD BALL",3,3]
[45,"JO345 Cuttlefish",3,{"$f":"VLOOKUP(B88,Summary!$B$30:$AK$464,5,FALSE)","v":12},36,null,{"$f":"+'DAILY FOC'!BO49","v":0},0,12,36,null,1.5,18,1.5,0,null,null,3,36]
[46,"JO346 Shisamo",4,{"$f":"VLOOKUP(B89,Summary!$B$30:$AK$464,5,FALSE)","v":9},36,null,{"$f":"+'DAILY FOC'!BO50","v":0},0,9,36,null,1.5,13.5,1.5,0,null,null,1,9]
[47,"JO347 Tiger Prawn",4,{"$f":"VLOOKUP(B90,Summary!$B$30:$AK$464,5,FALSE)","v":6},24,null,{"$f":"+'DAILY FOC'!BO51","v":0},0,6,24,null,1.5,9,1.5,0,null,"TIGER PRAWN",3,18]
[48,"JP448 Botton Mushroom",1.5,{"$f":"VLOOKUP(B91,Summary!$B$30:$AK$464,5,FALSE)","v":5},{"$f":"D91*C91","v":7.5},null,{"$f":"+'DAILY FOC'!BO52","v":0},{"$f":"G91*C91","v":0},{"$f":"+D91-G91","v":5},{"$f":"+I91*C91","v":7.5},null,0.6,{"$f":"+L91*I91","v":3},{"$f":"+L91","v":0.6},{"$f":"+N91*G91","v":0},null,null,3,15]
[49,"JP449 Kang Kong",1.5,{"$f":"VLOOKUP(B92,Summary!$B$30:$AK$464,5,FALSE)","v":10},15,null,{"$f":"+'DAILY FOC'!BO53","v":0},0,10,15,null,0.4,4,0.4,0,null,null,3,30]
[50,"JP450 Broccali",1.5,{"$f":"VLOOKUP(B93,Summary!$B$30:$AK$464,5,FALSE)","v":16},24,null,{"$f":"+'DAILY FOC'!BO54","v":0},0,16,24,null,0.5,8,0.5,0,null,null,3,48]
[51,"JP451 Long Bean",1.5,{"$f":"VLOOKUP(B94,Summary!$B$30:$AK$464,5,FALSE)","v":5},7.5,null,{"$f":"+'DAILY FOC'!BO55","v":0},0,5,7.5,null,0.3,1.5,0.3,0,null,null,1,5]
[52,"JP452 Fried A.Mushroom",2,{"$f":"VLOOKUP(B95,Summary!$B$30:$AK$464,5,FALSE)","v":11},22,null,{"$f":"+'DAILY FOC'!BO56","v":0},0,11,22,null,0.4,4.4000000000000004,0.4,0,null,null,3,33]
[53,"JP453 Shiitake Mushrom",2,{"$f":"VLOOKUP(B96,Summary!$B$30:$AK$464,5,FALSE)","v":6},12,null,{"$f":"+'DAILY FOC'!BO57","v":0},0,6,12,null,0.7,4.1999999999999993,0.7,0,null,null,3,18]
[54,"JQ554 M.Fish Eggplant",1.5,{"$f":"VLOOKUP(B97,Summary!$B$30:$AK$464,5,FALSE)","v":3},4.5,null,{"$f":"+'DAILY FOC'!BO58","v":0},0,3,4.5,null,0.52,1.56,0.52,0,null,null,1,3]
[55,"JQ555 M.Fish Chilli",1.5,{"$f":"VLOOKUP(B98,Summary!$B$30:$AK$464,5,FALSE)","v":2},3,null,{"$f":"+'DAILY FOC'!BO59","v":0},0,2,3,null,0.52,1.04,0.52,0,null,null,1,2]
[56,"JQ556 M.Fish Lady's F",1.5,{"$f":"VLOOKUP(B99,Summary!$B$30:$AK$464,5,FALSE)","v":2},3,null,{"$f":"+'DAILY FOC'!BO60","v":0},0,2,3,null,0.52,1.04,0.52,0,null,null,1,2]
[57,"JQ557 Chrisy Beabcurd",1.5,{"$f":"VLOOKUP(B100,Summary!$B$30:$AK$464,5,FALSE)","v":11},16.5,null,{"$f":"+'DAILY FOC'!BO61","v":0},0,11,16.5,null,0.33,3.6300000000000003,0.33,0,null,null,3,33]
[58,"JQ558 Quail Eggs",1.5,{"$f":"VLOOKUP(B101,Summary!$B$30:$AK$464,5,FALSE)","v":13},19.5,null,{"$f":"+'DAILY FOC'!BO62","v":0},0,13,19.5,null,0.56000000000000005,7.2800000000000011,0.56000000000000005,0,null,"QUAIL EGGS",4,52]
[59,"JQ559 Fried Wanton",2,{"$f":"VLOOKUP(B102,Summary!$B$30:$AK$464,5,FALSE)","v":8},16,null,{"$f":"+'DAILY FOC'!BO63","v":0},0,8,16,null,0.9,7.2,0.9,0,null,"FRIED WANTON ",3,24]
[60,"JQ560 L.G.Potato Samos",2,{"$f":"VLOOKUP(B103,Summary!$B$30:$AK$464,5,FALSE)","v":2},4,null,{"$f":"+'DAILY FOC'!BO64","v":0},0,2,4,null,0.7,1.4,0.7,0,null,null,2,4]
[61,"JQ561 F.Vege Ball",2,{"$f":"VLOOKUP(B104,Summary!$B$30:$AK$464,5,FALSE)","v":1},2,null,{"$f":"+'DAILY FOC'!BO65","v":0},0,1,2,null,0.75,0.75,0.75,0,null,"VEGE BALL",3,3]
[62,null,2.5,null,null,null,null,null,null,null,null,1.02,0,1.02,0,null,null,3,0]
[63,"JQ563 Seafood Tofu",2.5,{"$f":"VLOOKUP(B106,Summary!$B$30:$AK$464,5,FALSE)","v":3},7.5,null,{"$f":"+'DAILY FOC'!BO67","v":0},0,3,7.5,null,0.87,2.61,0.87,0,null,"SEAFOOD TOFU ",3,9]
[64,"JQ564 Spring Roll",2.5,{"$f":"VLOOKUP(B107,Summary!$B$30:$AK$464,5,FALSE)","v":1},2.5,null,{"$f":"+'DAILY FOC'!BO68","v":0},0,1,2.5,null,1,1,1,0,null,"SPRING ROLL",2,2]
[65,"JQ565 Quail Century Eg",2.5,{"$f":"VLOOKUP(B108,Summary!$B$30:$AK$464,5,FALSE)","v":3},7.5,null,{"$f":"+'DAILY FOC'!BO69","v":0},0,3,7.5,null,0.81,2.4300000000000002,0.81,0,null,"QUAIL CENTURY EGG",3,9]
[66,"JQ566 Thai Roll",3,{"$f":"VLOOKUP(B109,Summary!$B$30:$AK$464,5,FALSE)","v":4},12,null,{"$f":"+'DAILY FOC'!BO70","v":0},0,4,12,null,1.2,4.8,1.2,0,null,"THAI ROLL",2,8]
[{"$f":"+A109+1","v":67},"JQ567 Cheese S.Tofu",3,{"$f":"VLOOKUP(B110,Summary!$B$30:$AK$464,5,FALSE)","v":2},6,null,{"$f":"+'DAILY FOC'!BO71","v":0},0,2,6,null,1.02,2.04,1.02,0,null,"CHEESE. TOFU",3,6]
[68,"JQ568 Rice Skin  Roll",3,{"$f":"VLOOKUP(B111,Summary!$B$30:$AK$464,5,FALSE)","v":13},39,null,{"$f":"+'DAILY FOC'!BO72","v":0},0,13,39,null,1.2,15.6,1.2,0,null,"RICE SKIN ROLL",2,26]
[]
[]
[]
[]
["Total Sales / COST",null,null,{"$f":"SUM(D11:D115)","v":353},{"$f":"SUM(E11:E115)","v":979.6},null,{"$f":"SUM(G26:G114)","v":15},{"$f":"SUM(H11:H115)","v":48.5},{"$f":"SUM(I26:I115)","v":271},{"$f":"SUM(J11:J112)","v":795.3},null,null,{"$f":"SUM(M11:M115)","v":279.23999999999995},null,{"$f":"SUM(O26:O115)","v":18.369999999999997}]

{"sheet":"SIDE ORDER & FOC","index":6,"n_rows":201,"n_cols":20,"rows_kept":201,"cut":false,"hidden":false,"merged":[[7,16,7,18],[166,9,166,11],[7,13,7,14],[109,0,109,2],[7,3,7,4],[7,6,7,7],[7,8,7,9],[165,9,165,11],[0,0,0,12],[7,11,7,12],[6,3,6,4],[6,6,6,7],[6,8,6,9]]}
["MONTHLY SALES FOOD RECORD ( SIDE ORDER & FOC )"]
[]
[{"$f":"+'K-LUNCH & K DINNER'!A3","v":"Outlet :"},{"$f":"+'K-LUNCH & K DINNER'!B3","v":"CCS OUTLET"}]
[{"$f":"+'K-LUNCH & K DINNER'!A4","v":"Month :"},{"$f":"+'K-LUNCH & K DINNER'!B4","v":"2013-08-01"}]
[]
["LOCAL DELIGHTS / WESTERN CRUISE / APPETIZER "]
[null,null,null,"(A)",null,null,"(B)",null,"(A) - (B)"]
[null,null,null,"SIDE ORDER                 (INCLUDING FOC)",null,null,"FOC",null,"SIDE ORDER                        (NETT SALES)",null,null,"SIDE ORDER                        (NETT COST)",null,"FOC (COST)",null,null,"USAGE"]
["NO","MENU ITEM","S/P","Sales","TOTAL",null,"Sales","TOTAL","Sales","TOTAL",null,"COST","TOTAL","COST","TOTAL",null,"MATERIAL ","RECIPE","TOTAL"]
[null,null,"RM","Q","RM",null,"Q","RM","Q","RM",null,"RM","RM","RM","RM",null,"Q","Q","Q"]
[1,"DF01 ADD RICE",1,{"$f":"VLOOKUP(B11,Summary!$B$30:$AK$464,5,FALSE)","v":17},{"$f":"D11*C11","v":17},null,{"$f":"+'DAILY FOC'!BO9","v":0},{"$f":"G11*C11","v":0},{"$f":"+D11-G11","v":17},{"$f":"+I11*C11","v":17},null,{"$f":"SUMIF(DATABASE!$F$3:$F$89,B11,DATABASE!$I$3:$I$81)","v":0.5},{"$f":"+L11*I11","v":8.5},{"$f":"+L11","v":0.5},{"$f":"+N11*G11","v":0}]
[{"$f":"+A11+1","v":2},"DF02 ADD F.EGG",1.5,{"$f":"VLOOKUP(B12,Summary!$B$30:$AK$464,5,FALSE)","v":5},7.5,null,{"$f":"+'DAILY FOC'!BO10","v":0},0,{"$f":"+D12-G12","v":5},7.5,null,{"$f":"SUMIF(DATABASE!$F$3:$F$89,B12,DATABASE!$I$3:$I$81)","v":0.34},1.7000000000000002,0.34,0]
[3,"DC01 1101:THAI CHK",9.9,{"$f":"VLOOKUP(B13,Summary!$B$30:$AK$464,5,FALSE)","v":53},524.70000000000005,null,{"$f":"+'DAILY FOC'!BO11","v":0},0,{"$f":"+D13-G13","v":53},524.70000000000005,null,{"$f":"SUMIF(DATABASE!$F$3:$F$89,B13,DATABASE!$I$3:$I$81)","v":3.29},174.37,3.29,0,null,"CHICKEN CHOP (MARINATED)",0.66,{"$f":"+R13*D13","v":34.980000000000004}]
[4,"DC02 1102:MAMITE CHK",9.9,{"$f":"VLOOKUP(B14,Summary!$B$30:$AK$464,5,FALSE)","v":70},693,null,{"$f":"+'DAILY FOC'!BO12","v":0},0,{"$f":"+D14-G14","v":70},693,null,{"$f":"SUMIF(DATABASE!$F$3:$F$89,B14,DATABASE!$I$3:$I$81)","v":3.02},211.4,3.02,0,null,"CHICKEN CHOP (MARINATED)",0.66,{"$f":"+R14*D14","v":46.2}]
[5,"DC03 1103:KO PO CHK",9.9,{"$f":"VLOOKUP(B15,Summary!$B$30:$AK$464,5,FALSE)","v":0},0,null,{"$f":"+'DAILY FOC'!BO13","v":0},0,0,0,null,{"$f":"SUMIF(DATABASE!$F$3:$F$89,B15,DATABASE!$I$3:$I$81)","v":3.45},0,3.45,0,null,"CHICKEN CHOP (MARINATED)",0.66,{"$f":"+R15*D15","v":0}]
[6,"DC04 1104:S&S CHK",9.9,{"$f":"VLOOKUP(B16,Summary!$B$30:$AK$464,5,FALSE)","v":21},207.9,null,{"$f":"+'DAILY FOC'!BO14","v":0},0,{"$f":"+D16-G16","v":21},207.9,null,{"$f":"SUMIF(DATABASE!$F$3:$F$89,B16,DATABASE!$I$3:$I$81)","v":3.45},72.45,3.45,0,null,"CHICKEN CHOP (MARINATED)",0.66,{"$f":"+R16*D16","v":13.860000000000001}]
[7,"DC05 1105:BUTTER CHK",9.9,{"$f":"VLOOKUP(B17,Summary!$B$30:$AK$464,5,FALSE)","v":105},1039.5,null,{"$f":"+'DAILY FOC'!BO15","v":0},0,{"$f":"+D17-G17","v":105},1039.5,null,{"$f":"SUMIF(DATABASE!$F$3:$F$89,B17,DATABASE!$I$3:$I$81)","v":3.32},348.59999999999997,3.32,0,null,"CHICKEN CHOP (MARINATED)",0.66,{"$f":"+R17*D17","v":69.3}]
[8,"DC06 1106:HK F.RICE",9.9,{"$f":"VLOOKUP(B18,Summary!$B$30:$AK$464,5,FALSE)","v":60},594,null,{"$f":"+'DAILY FOC'!BO16","v":0},0,{"$f":"+D18-G18","v":60},594,null,{"$f":"SUMIF(DATABASE!$F$3:$F$89,B18,DATABASE!$I$3:$I$81)","v":3.16},189.60000000000002,3.16,0]
[9,"DC07 1107:SBL F.RICE",9.9,{"$f":"VLOOKUP(B19,Summary!$B$30:$AK$464,5,FALSE)","v":38},376.2,null,{"$f":"+'DAILY FOC'!BO17","v":1},9.9,{"$f":"+D19-G19","v":37},366.3,null,{"$f":"SUMIF(DATABASE!$F$3:$F$89,B19,DATABASE!$I$3:$I$81)","v":2.41},89.17,2.41,2.41]
[10,"DC08 1108:SBL F.MEE",9.9,{"$f":"VLOOKUP(B20,Summary!$B$30:$AK$464,5,FALSE)","v":8},79.2,null,{"$f":"+'DAILY FOC'!BO18","v":0},0,0,0,null,{"$f":"SUMIF(DATABASE!$F$3:$F$89,B20,DATABASE!$I$3:$I$81)","v":2.8},0,2.8,0]
[11,"DC09 1109:BP UDON",9.9,{"$f":"VLOOKUP(B21,Summary!$B$30:$AK$464,5,FALSE)","v":27},267.3,null,{"$f":"+'DAILY FOC'!BO19","v":0},0,0,0,null,{"$f":"SUMIF(DATABASE!$F$3:$F$89,B21,DATABASE!$I$3:$I$81)","v":2.08},0,2.08,0]
[12,"DC10 1110:NISSIN",9.9,{"$f":"VLOOKUP(B22,Summary!$B$30:$AK$464,5,FALSE)","v":33},326.7,null,{"$f":"+'DAILY FOC'!BO20","v":0},0,{"$f":"+D22-G22","v":33},326.7,null,{"$f":"SUMIF(DATABASE!$F$3:$F$89,B22,DATABASE!$I$3:$I$81)","v":2.3199999999999998},76.559999999999988,2.3199999999999998,0,null,"CHICKEN SAUSAGE ",1.5,{"$f":"+R22*D22","v":49.5}]
[13,"DC11 1111:VEG RICE",9.9,{"$f":"VLOOKUP(B23,Summary!$B$30:$AK$464,5,FALSE)","v":5},49.5,null,{"$f":"+'DAILY FOC'!BO21","v":0},0,0,0,null,{"$f":"SUMIF(DATABASE!$F$3:$F$89,B23,DATABASE!$I$3:$I$81)","v":1.6},0,1.6,0]
[14,"DC12 1112:NASI LEMAK",9.9,{"$f":"VLOOKUP(B24,Summary!$B$30:$AK$464,5,FALSE)","v":0},0,null,{"$f":"+'DAILY FOC'!BO22","v":0},0,0,0,null,{"$f":"SUMIF(DATABASE!$F$3:$F$89,B24,DATABASE!$I$3:$I$81)","v":3.56},0,3.56,0,null,"CHICKEN WINGS (NON -MARINATED)",1,{"$f":"+R24*D24","v":0}]
[15,"DC13 1113:KUEY TEOW",9.9,{"$f":"VLOOKUP(B25,Summary!$B$30:$AK$464,5,FALSE)","v":0},0,null,{"$f":"+'DAILY FOC'!BO23","v":0},0,{"$f":"+D25-G25","v":0},0,null,{"$f":"SUMIF(DATABASE!$F$3:$F$89,B25,DATABASE!$I$3:$I$81)","v":3.16},0,3.16,0]
[16,"DC14 1114:F.BALL MEE",9.9,{"$f":"VLOOKUP(B26,Summary!$B$30:$AK$464,5,FALSE)","v":0},0,null,{"$f":"+'DAILY FOC'!BO24","v":0},0,0,0,null,{"$f":"SUMIF(DATABASE!$F$3:$F$89,B26,DATABASE!$I$3:$I$81)","v":2.59},0,2.59,0,null,"FISH BALL (SMALL)",5,{"$f":"+R26*D26","v":0}]
[17,"DC15 1115:CHK NOODLE",9.9,{"$f":"VLOOKUP(B27,Summary!$B$30:$AK$464,5,FALSE)","v":22},217.8,null,{"$f":"+'DAILY FOC'!BO25","v":0},0,22,217.8,null,{"$f":"SUMIF(DATABASE!$F$3:$F$89,B27,DATABASE!$I$3:$I$81)","v":4.71},103.62,4.71,0,null,"CHICKEN CHOP (MARINATED)",1,22]
[18,"DC16 1116:MGL CHICKEN",9.9,{"$f":"VLOOKUP(B28,Summary!$B$30:$AK$464,5,FALSE)","v":27},267.3,null,{"$f":"+'DAILY FOC'!BO26","v":0},0,27,267.3,null,{"$f":"SUMIF(DATABASE!$F$3:$F$89,B28,DATABASE!$I$3:$I$81)","v":3.54},95.58,3.54,0,null,"CHICKEN CHOP (MARINATED)",0.66,17.82]
[19,"DB01 1001:BP CKN CP",12.9,{"$f":"VLOOKUP(B29,Summary!$B$30:$AK$464,5,FALSE)","v":99},1277.1000000000001,null,{"$f":"+'DAILY FOC'!BO27","v":1},12.9,98,1264.2,null,{"$f":"SUMIF(DATABASE!$F$3:$F$89,B29,DATABASE!$I$3:$I$81)","v":4.41},432.18,4.41,4.41,null,"CHICKEN CHOP (MARINATED)",1,99]
[20,"DB02 1002:GVY CHK CP",12.9,{"$f":"VLOOKUP(B30,Summary!$B$30:$AK$464,5,FALSE)","v":24},309.60000000000002,null,{"$f":"+'DAILY FOC'!BO28","v":0},0,24,309.60000000000002,null,{"$f":"SUMIF(DATABASE!$F$3:$F$89,B30,DATABASE!$I$3:$I$81)","v":4.43},106.32,4.43,0,null,"CHICKEN CHOP (MARINATED)",1,24]
[21,"DB03 1003:MSR CKN CP",12.9,{"$f":"VLOOKUP(B31,Summary!$B$30:$AK$464,5,FALSE)","v":96},1238.4000000000001,null,{"$f":"+'DAILY FOC'!BO29","v":3},38.700000000000003,93,1199.7,null,{"$f":"SUMIF(DATABASE!$F$3:$F$89,B31,DATABASE!$I$3:$I$81)","v":4.75},441.75,4.75,14.25,null,"CHICKEN CHOP (MARINATED)",1,96]
[22,"DB04 1004:CKN MARY",12.9,{"$f":"VLOOKUP(B32,Summary!$B$30:$AK$464,5,FALSE)","v":41},528.9,null,{"$f":"+'DAILY FOC'!BO30","v":4},51.6,37,477.3,null,{"$f":"SUMIF(DATABASE!$F$3:$F$89,B32,DATABASE!$I$3:$I$81)","v":5.98},221.26000000000002,5.98,23.92,null,"CHICKEN CHOP (MARINATED)",1,41]
[23,"DB05 1005:FISH&CHIP",12.9,{"$f":"VLOOKUP(B33,Summary!$B$30:$AK$464,5,FALSE)","v":38},490.2,null,{"$f":"+'DAILY FOC'!BO31","v":1},12.9,37,477.3,null,{"$f":"SUMIF(DATABASE!$F$3:$F$89,B33,DATABASE!$I$3:$I$81)","v":4.29},158.72999999999999,4.29,4.29,null,"DORY FISH FILLET ",1,38]
[24,"DB06 1006:SPAGHETTI",12.9,{"$f":"VLOOKUP(B34,Summary!$B$30:$AK$464,5,FALSE)","v":57},735.30000000000007,null,{"$f":"+'DAILY FOC'!BO32","v":2},25.8,55,709.5,null,{"$f":"SUMIF(DATABASE!$F$3:$F$89,B34,DATABASE!$I$3:$I$81)","v":2.1},115.5,2.1,4.2]
[25,"DB07 1007:CHK SALAD",12.9,{"$f":"VLOOKUP(B35,Summary!$B$30:$AK$464,5,FALSE)","v":23},296.7,null,{"$f":"+'DAILY FOC'!BO33","v":0},0,23,296.7,null,{"$f":"SUMIF(DATABASE!$F$3:$F$89,B35,DATABASE!$I$3:$I$81)","v":4.9400000000000004},113.62,4.9400000000000004,0,null,"CHICKEN CHOP (MARINATED)",1,{"$f":"+R35*D35","v":23}]
[26,"DD01 1201:SFD STICK",5.9,{"$f":"VLOOKUP(B36,Summary!$B$30:$AK$464,5,FALSE)","v":5},29.5,null,{"$f":"+'DAILY FOC'!BO34","v":0},0,0,0,null,{"$f":"SUMIF(DATABASE!$F$3:$F$89,B36,DATABASE!$I$3:$I$81)","v":2},0,2,0,null,"SOTONG BALL",2,{"$f":"+R36*$D$36","v":10}]
[null,null,null,null,null,null,null,null,null,null,null,null,null,null,null,null,"SALMON BALL",2,{"$f":"+R37*$D$36","v":10}]
[null,null,null,null,null,null,null,null,null,null,null,null,null,null,null,null,"SEAFOOD TOFU ",2,{"$f":"+R38*$D$36","v":10}]
[{"$f":"+A36+1","v":27},"DD02 1202:FREN FRIES",5.9,{"$f":"VLOOKUP(B39,Summary!$B$30:$AK$464,5,FALSE)","v":98},{"$f":"D39*C39","v":578.20000000000005},null,{"$f":"+'DAILY FOC'!BO35","v":0},{"$f":"G39*C39","v":0},{"$f":"+D39-G39","v":98},{"$f":"+I39*C39","v":578.20000000000005},null,{"$f":"SUMIF(DATABASE!$F$3:$F$89,B39,DATABASE!$I$3:$I$81)","v":1.76},{"$f":"+L39*I39","v":172.48},{"$f":"+L39","v":1.76},{"$f":"+N39*G39","v":0}]
[{"$f":"+A39+1","v":28},"DD03 1203:GOLD MROOM",5.9,{"$f":"VLOOKUP(B40,Summary!$B$30:$AK$464,5,FALSE)","v":9},53.1,null,{"$f":"+'DAILY FOC'!BO36","v":0},0,{"$f":"+D40-G40","v":9},53.1,null,{"$f":"SUMIF(DATABASE!$F$3:$F$89,B40,DATABASE!$I$3:$I$81)","v":2.15},19.349999999999998,2.15,0]
[29,"DD04 1204:FISHBALL",5.9,{"$f":"VLOOKUP(B41,Summary!$B$30:$AK$464,5,FALSE)","v":10},59,null,{"$f":"+'DAILY FOC'!BO37","v":0},0,{"$f":"+D41-G41","v":10},59,null,{"$f":"SUMIF(DATABASE!$F$3:$F$89,B41,DATABASE!$I$3:$I$81)","v":1.56},15.600000000000001,1.56,0,null,"FISH BALL (BIG)",6,{"$f":"+R41*D41","v":60}]
[30,"DD05 1205:RAINBOW RL",5.9,{"$f":"VLOOKUP(B42,Summary!$B$30:$AK$464,5,FALSE)","v":0},0,null,{"$f":"+'DAILY FOC'!BO38","v":0},0,0,0,null,{"$f":"SUMIF(DATABASE!$F$3:$F$89,B42,DATABASE!$I$3:$I$81)","v":2.5},0,2.5,0,null,"RAINBOW ROLL",1,0]
[31,"DD06 1206:SPRING RL",5.9,{"$f":"VLOOKUP(B43,Summary!$B$30:$AK$464,5,FALSE)","v":8},47.2,null,{"$f":"+'DAILY FOC'!BO39","v":0},0,{"$f":"+D43-G43","v":8},47.2,null,{"$f":"SUMIF(DATABASE!$F$3:$F$89,B43,DATABASE!$I$3:$I$81)","v":2.67},21.36,2.67,0,null,"SPRING ROLL",8,64]
[32,"DD07 1207:SAUSAGE",5.9,{"$f":"VLOOKUP(B44,Summary!$B$30:$AK$464,5,FALSE)","v":17},100.30000000000001,null,{"$f":"+'DAILY FOC'!BO40","v":0},0,{"$f":"+D44-G44","v":17},100.30000000000001,null,{"$f":"SUMIF(DATABASE!$F$3:$F$89,B44,DATABASE!$I$3:$I$81)","v":1.24},21.08,1.24,0,null,"CHICKEN SAUSAGE ",4,68]
[33,"DD10 1301:DUMPLING",5.9,{"$f":"VLOOKUP(B45,Summary!$B$30:$AK$464,5,FALSE)","v":0},0,null,{"$f":"+'DAILY FOC'!BO41","v":0},0,0,0,null,{"$f":"SUMIF(DATABASE!$F$3:$F$89,B45,DATABASE!$I$3:$I$81)","v":4.5},0,4.5,0,null,"DUMPLING ",6,0]
[34,"DD11 1302:NUGGET",7.9,{"$f":"VLOOKUP(B46,Summary!$B$30:$AK$464,5,FALSE)","v":35},276.5,null,{"$f":"+'DAILY FOC'!BO42","v":0},0,{"$f":"+D46-G46","v":35},276.5,null,{"$f":"SUMIF(DATABASE!$F$3:$F$89,B46,DATABASE!$I$3:$I$81)","v":2.4300000000000002},85.050000000000011,2.4300000000000002,0,null,"CHICKEN NUGGET",8,280]
[35,"DD12 1303:CHK WING",7.9,{"$f":"VLOOKUP(B47,Summary!$B$30:$AK$464,5,FALSE)","v":24},189.60000000000002,null,{"$f":"+'DAILY FOC'!BO43","v":1},7.9,23,181.70000000000002,null,{"$f":"SUMIF(DATABASE!$F$3:$F$89,B47,DATABASE!$I$3:$I$81)","v":3.97},91.31,3.97,3.97,null,"CHICKEN WING  (MARINATED)",3,72,105]
[36,"DD13 1304:IKAN BILIS",7.9,{"$f":"VLOOKUP(B48,Summary!$B$30:$AK$464,5,FALSE)","v":8},63.2,null,{"$f":"+'DAILY FOC'!BO44","v":1},7.9,7,55.300000000000004,null,{"$f":"SUMIF(DATABASE!$F$3:$F$89,B48,DATABASE!$I$3:$I$81)","v":2.1800000000000002},15.260000000000002,2.1800000000000002,2.1800000000000002,null,null,null,0]
[37,"DD14 1305:THAI RL",7.9,{"$f":"VLOOKUP(B49,Summary!$B$30:$AK$464,5,FALSE)","v":5},39.5,null,{"$f":"+'DAILY FOC'!BO45","v":1},7.9,4,31.6,null,{"$f":"SUMIF(DATABASE!$F$3:$F$89,B49,DATABASE!$I$3:$I$81)","v":3.61},14.44,3.61,3.61,null,"THAI ROLL",7,35]
[38,"DD15 1306:SLVR FISH",7.9,{"$f":"VLOOKUP(B50,Summary!$B$30:$AK$464,5,FALSE)","v":0},0,null,{"$f":"+'DAILY FOC'!BO46","v":0},0,0,0,null,{"$f":"SUMIF(DATABASE!$F$3:$F$89,B50,DATABASE!$I$3:$I$81)","v":0},0,0,0,null,null,null,0]
[39,"DD16 1307:D.F C/WING",7.9,{"$f":"VLOOKUP(B51,Summary!$B$30:$AK$464,5,FALSE)","v":18},142.20000000000002,null,{"$f":"+'DAILY FOC'!BO47","v":0},0,18,142.20000000000002,null,{"$f":"SUMIF(DATABASE!$F$3:$F$89,B51,DATABASE!$I$3:$I$81)","v":4.3099999999999996},77.58,4.3099999999999996,0,null,"CHICKEN WING  (MARINATED)",3,54,48]
[40,"DD17 1308 C/CALAMARI",7.9,{"$f":"VLOOKUP(B52,Summary!$B$30:$AK$464,5,FALSE)","v":6},47.400000000000006,null,{"$f":"+'DAILY FOC'!BO48","v":0},0,6,47.400000000000006,null,{"$f":"SUMIF(DATABASE!$F$3:$F$89,B52,DATABASE!$I$3:$I$81)","v":3.69},22.14,3.69,0,null,"CALAMARI RING",7,42]
[41,"DD18 1309 Mc C/O.RING",7.9,{"$f":"VLOOKUP(B53,Summary!$B$30:$AK$464,5,FALSE)","v":6},47.400000000000006,null,{"$f":"+'DAILY FOC'!BO49","v":0},0,6,47.400000000000006,null,{"$f":"SUMIF(DATABASE!$F$3:$F$89,B53,DATABASE!$I$3:$I$81)","v":1.72},10.32,1.72,0,null,"MCCAIN ONION RING",8,48]
[42,"DD19 1310:Mc SPIRAL/F",7.9,{"$f":"VLOOKUP(B54,Summary!$B$30:$AK$464,5,FALSE)","v":9},71.100000000000009,null,{"$f":"+'DAILY FOC'!BO50","v":0},0,9,71.100000000000009,null,{"$f":"SUMIF(DATABASE!$F$3:$F$89,B54,DATABASE!$I$3:$I$81)","v":1.72},15.48,1.72,0,null,"MCCAIN SPIRAL FRIES",0.22,1.98]
[43,"DD20 1311:Mc H/SMILES",7.9,{"$f":"VLOOKUP(B55,Summary!$B$30:$AK$464,5,FALSE)","v":4},31.6,null,{"$f":"+'DAILY FOC'!BO51","v":0},0,4,31.6,null,{"$f":"SUMIF(DATABASE!$F$3:$F$89,B55,DATABASE!$I$3:$I$81)","v":1.34},5.36,1.34,0,null,"MCCAIN SMILES",8,32]
[44,"DD21 1312:Mc HASH BRW",7.9,{"$f":"VLOOKUP(B56,Summary!$B$30:$AK$464,5,FALSE)","v":11},86.9,null,{"$f":"+'DAILY FOC'!BO52","v":0},0,11,86.9,null,{"$f":"SUMIF(DATABASE!$F$3:$F$89,B56,DATABASE!$I$3:$I$81)","v":0.59},6.4899999999999993,0.59,0,null,"MCCAIN VERSITOT",15,165]
[]
[null,"COMBO SET"]
[1,"ZAB01 1201:SFD STICK",4.95,{"$f":"VLOOKUP(B59,Summary!$B$30:$AK$464,5,FALSE)","v":22},{"$f":"D59*C59","v":108.9},null,null,null,{"$f":"+D59-G59","v":22},{"$f":"+I59*C59","v":108.9},null,{"$f":"SUMIF(DATABASE!$F$3:$F$89,B59,DATABASE!$I$3:$I$81)","v":2},{"$f":"+L59*I59","v":44},{"$f":"+L59","v":2},{"$f":"+N59*G59","v":0},null,"SOTONG BALL",2,{"$f":"+R59*D59","v":44}]
[null,null,null,null,null,null,null,null,null,null,null,null,null,null,null,null,"SALMON BALL",2,{"$f":"+R60*$D$59","v":44}]
[null,null,null,null,null,null,null,null,null,null,null,null,null,null,null,null,"SEAFOOD TOFU ",2,{"$f":"+R61*$D$59","v":44}]
[{"$f":"+A59+1","v":2},"ZAB02 1202:FRIES",4.95,{"$f":"VLOOKUP(B62,Summary!$B$30:$AK$464,5,FALSE)","v":168},{"$f":"D62*C62","v":831.6},null,null,null,{"$f":"+D62-G62","v":168},{"$f":"+I62*C62","v":831.6},null,{"$f":"SUMIF(DATABASE!$F$3:$F$89,B62,DATABASE!$I$3:$I$81)","v":1.76},{"$f":"+L62*I62","v":295.68},{"$f":"+L62","v":1.76},{"$f":"+N62*G62","v":0},null,null,null,{"$f":"+R62*D62","v":0}]
[{"$f":"+A62+1","v":3},"ZAB03 1203:GOLD MROOM",4.95,{"$f":"VLOOKUP(B63,Summary!$B$30:$AK$464,5,FALSE)","v":34},168.3,null,null,null,34,168.3,null,{"$f":"SUMIF(DATABASE!$F$3:$F$89,B63,DATABASE!$I$3:$I$81)","v":2.15},73.099999999999994,2.15,0,null,null,null,0]
[4,"ZAB04 1204:F.BALL",4.95,{"$f":"VLOOKUP(B64,Summary!$B$30:$AK$464,5,FALSE)","v":41},202.95000000000002,null,null,null,41,202.95000000000002,null,{"$f":"SUMIF(DATABASE!$F$3:$F$89,B64,DATABASE!$I$3:$I$81)","v":1.56},63.96,1.56,0,null,"FISH BALL (BIG)",6,246]
[5,"ZAB06 1206:SPRING RL",4.95,{"$f":"VLOOKUP(B65,Summary!$B$30:$AK$464,5,FALSE)","v":50},247.5,null,null,null,50,247.5,null,{"$f":"SUMIF(DATABASE!$F$3:$F$89,B65,DATABASE!$I$3:$I$81)","v":2.5},125,2.5,0,null,"SPRING ROLL",8,400]
[6,"ZAB07 1207:SAUSAGE",4.95,{"$f":"VLOOKUP(B66,Summary!$B$30:$AK$464,5,FALSE)","v":89},440.55,null,null,null,89,440.55,null,{"$f":"SUMIF(DATABASE!$F$3:$F$89,B66,DATABASE!$I$3:$I$81)","v":2.67},237.63,2.67,0,null,"CHICKEN SAUSAGE ",4,356]
[7,"ZAC02 1302:NUGGET",6.95,{"$f":"VLOOKUP(B67,Summary!$B$30:$AK$464,5,FALSE)","v":62},430.90000000000003,null,null,null,62,430.90000000000003,null,{"$f":"SUMIF(DATABASE!$F$3:$F$89,B67,DATABASE!$I$3:$I$81)","v":1.24},76.88,1.24,0,null,"CHICKEN NUGGET",8,496]
[8,"ZAC03 1303:CHK WING",6.95,{"$f":"VLOOKUP(B68,Summary!$B$30:$AK$464,5,FALSE)","v":74},514.30000000000007,null,null,null,74,514.30000000000007,null,{"$f":"SUMIF(DATABASE!$F$3:$F$89,B68,DATABASE!$I$3:$I$81)","v":3.97},293.78000000000003,3.97,0,null,"CHICKEN WING  (MARINATED)",3,222]
[9,"ZAC04 1304:IKAN BILIS",6.95,{"$f":"VLOOKUP(B69,Summary!$B$30:$AK$464,5,FALSE)","v":9},62.550000000000004,null,null,null,9,62.550000000000004,null,{"$f":"SUMIF(DATABASE!$F$3:$F$89,B69,DATABASE!$I$3:$I$81)","v":2.1800000000000002},19.62,2.1800000000000002,0,null,null,null,0]
[10,"ZAC05 1305:THAI RL",6.95,{"$f":"VLOOKUP(B70,Summary!$B$30:$AK$464,5,FALSE)","v":16},111.2,null,null,null,16,111.2,null,{"$f":"SUMIF(DATABASE!$F$3:$F$89,B70,DATABASE!$I$3:$I$81)","v":3.61},57.76,3.61,0,null,"THAI ROLL",7,112]
[11,"ZAC07 1307:D/F C.WINGS",6.95,{"$f":"VLOOKUP(B71,Summary!$B$30:$AK$464,5,FALSE)","v":37},257.15000000000003,null,null,null,37,257.15000000000003,null,{"$f":"SUMIF(DATABASE!$F$3:$F$89,B71,DATABASE!$I$3:$I$81)","v":4.3099999999999996},159.47,4.3099999999999996,0,null,"CHICKEN WING  (MARINATED)",3,111]
[12,"ZAC08 1308:C/CALAMARI",6.95,{"$f":"VLOOKUP(B72,Summary!$B$30:$AK$464,5,FALSE)","v":29},201.55,null,null,null,29,201.55,null,{"$f":"SUMIF(DATABASE!$F$3:$F$89,B72,DATABASE!$I$3:$I$81)","v":3.69},107.01,3.69,0,null,"CALAMARI RING",7,203]
[13,"ZAC09 1309:Mc /O.RINGS",6.95,{"$f":"VLOOKUP(B73,Summary!$B$30:$AK$464,5,FALSE)","v":17},118.15,null,null,null,17,118.15,null,{"$f":"SUMIF(DATABASE!$F$3:$F$89,B73,DATABASE!$I$3:$I$81)","v":1.72},29.24,1.72,0,null,"MCCAIN ONION RING",8,136]
[14,"ZAC10 1310:Mc SPIRAL/F",6.95,{"$f":"VLOOKUP(B74,Summary!$B$30:$AK$464,5,FALSE)","v":17},118.15,null,null,null,17,118.15,null,{"$f":"SUMIF(DATABASE!$F$3:$F$89,B74,DATABASE!$I$3:$I$81)","v":1.72},29.24,1.72,0,null,"MCCAIN SPIRAL FRIES",0.22,3.74]
[15,"ZAC11 1311:Mc H/SMILES",6.95,{"$f":"VLOOKUP(B75,Summary!$B$30:$AK$464,5,FALSE)","v":6},41.7,null,null,null,6,41.7,null,{"$f":"SUMIF(DATABASE!$F$3:$F$89,B75,DATABASE!$I$3:$I$81)","v":1.34},8.0400000000000009,1.34,0,null,"MCCAIN SMILES",8,48]
[16,"ZAC12 1312:Mc HASH/B",6.95,{"$f":"VLOOKUP(B76,Summary!$B$30:$AK$464,5,FALSE)","v":19},132.05000000000001,null,null,null,19,132.05000000000001,null,{"$f":"SUMIF(DATABASE!$F$3:$F$89,B76,DATABASE!$I$3:$I$81)","v":0.59},11.209999999999999,0.59,0,null,"MCCAIN VERSITOT",15,285]
[]
[null,"HOMEMADE PIZZA"]
[1,"DL01 3001:6'HAWAIIAN",12.9,{"$f":"VLOOKUP(B79,Summary!$B$30:$AK$464,5,FALSE)","v":7},{"$f":"D79*C79","v":90.3},null,{"$f":"+'DAILY FOC'!BO53","v":0},{"$f":"G79*C79","v":0},{"$f":"+D79-G79","v":7},{"$f":"+I79*C79","v":90.3},null,{"$f":"SUMIF(DATABASE!$F$3:$F$89,B79,DATABASE!$I$3:$I$81)","v":3.25},{"$f":"+L79*I79","v":22.75},{"$f":"+L79","v":3.25},{"$f":"+N79*G79","v":0},null,"6\" PIZZA BASE ",1,{"$f":"+R79*D79","v":7}]
[{"$f":"+A79+1","v":2},"DL02 3002:6'SMOKE BBQ",12.9,{"$f":"VLOOKUP(B80,Summary!$B$30:$AK$464,5,FALSE)","v":4},{"$f":"D80*C80","v":51.6},null,{"$f":"+'DAILY FOC'!BO54","v":0},{"$f":"G80*C80","v":0},{"$f":"+D80-G80","v":4},{"$f":"+I80*C80","v":51.6},null,{"$f":"SUMIF(DATABASE!$F$3:$F$89,B80,DATABASE!$I$3:$I$81)","v":4.59},{"$f":"+L80*I80","v":18.36},{"$f":"+L80","v":4.59},{"$f":"+N80*G80","v":0},null,"CHICKEN CHOP (MARINATED)",0.5,{"$f":"+R80*$D$80","v":2}]
[null,null,null,null,null,null,null,null,null,null,null,null,null,null,null,null,"6\" PIZZA BASE ",1,{"$f":"+R81*$D$80","v":4}]
[{"$f":"+A80+1","v":3},"DL03 3003:6'SEAFOOD",12.9,{"$f":"VLOOKUP(B82,Summary!$B$30:$AK$464,5,FALSE)","v":3},{"$f":"D82*C82","v":38.700000000000003},null,{"$f":"+'DAILY FOC'!BO56","v":0},{"$f":"G82*C82","v":0},{"$f":"+D82-G82","v":3},{"$f":"+I82*C82","v":38.700000000000003},null,{"$f":"SUMIF(DATABASE!$F$3:$F$89,B82,DATABASE!$I$3:$I$81)","v":5.13},{"$f":"+L82*I82","v":15.39},{"$f":"+L82","v":5.13},{"$f":"+N82*G82","v":0},null,"6\" PIZZA BASE ",1,{"$f":"+R82*D82","v":3}]
[{"$f":"+A82+1","v":4},"DL04 3004:6'SPICY BUF",12.9,{"$f":"VLOOKUP(B83,Summary!$B$30:$AK$464,5,FALSE)","v":3},{"$f":"D83*C83","v":38.700000000000003},null,{"$f":"+'DAILY FOC'!BO57","v":0},{"$f":"G83*C83","v":0},{"$f":"+D83-G83","v":3},{"$f":"+I83*C83","v":38.700000000000003},null,{"$f":"SUMIF(DATABASE!$F$3:$F$89,B83,DATABASE!$I$3:$I$81)","v":2.99},{"$f":"+L83*I83","v":8.9700000000000006},{"$f":"+L83","v":2.99},{"$f":"+N83*G83","v":0},null,"CHICKEN SAUSAGE ",1,{"$f":"+R83*$D$83","v":3}]
[null,null,null,null,null,null,{"$f":"+'DAILY FOC'!BO58","v":0},null,null,null,null,null,null,null,null,null,"6\" PIZZA BASE ",1,{"$f":"+R84*D84","v":0}]
[{"$f":"+A83+1","v":5},"DL05 3005:6'VEGGIE",12.9,{"$f":"VLOOKUP(B85,Summary!$B$30:$AK$464,5,FALSE)","v":4},{"$f":"D85*C85","v":51.6},null,{"$f":"+'DAILY FOC'!BO59","v":0},{"$f":"G85*C85","v":0},{"$f":"+D85-G85","v":4},{"$f":"+I85*C85","v":51.6},null,{"$f":"SUMIF(DATABASE!$F$3:$F$89,B85,DATABASE!$I$3:$I$81)","v":3.62},{"$f":"+L85*I85","v":14.48},{"$f":"+L85","v":3.62},{"$f":"+N85*G85","v":0},null,"6\" PIZZA BASE ",1,4]
[{"$f":"+A85+1","v":6},"DL06 3001:9'HAWAIIAN",16.899999999999999,{"$f":"VLOOKUP(B86,Summary!$B$30:$AK$464,5,FALSE)","v":0},{"$f":"D86*C86","v":0},null,{"$f":"+'DAILY FOC'!BO58","v":0},{"$f":"G86*C86","v":0},{"$f":"+D86-G86","v":0},{"$f":"+I86*C86","v":0},null,{"$f":"SUMIF(DATABASE!$F$3:$F$89,B86,DATABASE!$I$3:$I$81)","v":5.79},{"$f":"+L86*I86","v":0},{"$f":"+L86","v":5.79},{"$f":"+N86*G86","v":0},null,"9\" PIZZA BASE ",1,0]
[null,null,null,null,null,null,{"$f":"+'DAILY FOC'!BO59","v":0},null,null,null,null,null,null,null,null,null,"CHICKEN HAM",2,0]
[{"$f":"+A86+1","v":7},"DL07 3002:9'SMOKED",16.899999999999999,{"$f":"VLOOKUP(B88,Summary!$B$30:$AK$464,5,FALSE)","v":0},{"$f":"D88*C88","v":0},null,{"$f":"+'DAILY FOC'!BO60","v":0},{"$f":"G88*C88","v":0},{"$f":"+D88-G88","v":0},{"$f":"+I88*C88","v":0},null,{"$f":"SUMIF(DATABASE!$F$3:$F$89,B88,DATABASE!$I$3:$I$81)","v":8.2100000000000009},{"$f":"+L88*I88","v":0},{"$f":"+L88","v":8.2100000000000009},{"$f":"+N88*G88","v":0},null,"9\" PIZZA BASE ",1,0]
[null,null,null,null,null,null,{"$f":"+'DAILY FOC'!BO61","v":0},null,null,null,null,null,null,null,null,null,"CHICKEN WING  (MARINATED)",1,0]
[{"$f":"+A88+1","v":8},"DL08 3003:9'SEAFOOD",16.899999999999999,{"$f":"VLOOKUP(B90,Summary!$B$30:$AK$464,5,FALSE)","v":0},{"$f":"D90*C90","v":0},null,{"$f":"+'DAILY FOC'!BO62","v":0},{"$f":"G90*C90","v":0},{"$f":"+D90-G90","v":0},{"$f":"+I90*C90","v":0},null,{"$f":"SUMIF(DATABASE!$F$3:$F$89,B90,DATABASE!$I$3:$I$81)","v":9.48},{"$f":"+L90*I90","v":0},{"$f":"+L90","v":9.48},{"$f":"+N90*G90","v":0},null,"9\" PIZZA BASE ",1,0]
[{"$f":"+A90+1","v":9},"DL09 3004:9'SPICY B",16.899999999999999,{"$f":"VLOOKUP(B91,Summary!$B$30:$AK$464,5,FALSE)","v":0},{"$f":"D91*C91","v":0},null,{"$f":"+'DAILY FOC'!BO61","v":0},{"$f":"G91*C91","v":0},{"$f":"+D91-G91","v":0},{"$f":"+I91*C91","v":0},null,{"$f":"SUMIF(DATABASE!$F$3:$F$89,B91,DATABASE!$I$3:$I$81)","v":5.38},{"$f":"+L91*I91","v":0},{"$f":"+L91","v":5.38},{"$f":"+N91*G91","v":0},null,"CHICKEN SAUSAGE ",1,{"$f":"+R91*$D$91","v":0}]
[null,null,null,null,null,null,{"$f":"+'DAILY FOC'!BO64","v":0},null,null,null,null,null,null,null,null,null,"9\" PIZZA BASE ",1,{"$f":"+R92*$D$91","v":0}]
[10,"DL10 3005:9'VEGGIE",16.899999999999999,{"$f":"VLOOKUP(B93,Summary!$B$30:$AK$464,5,FALSE)","v":0},{"$f":"D93*C93","v":0},null,{"$f":"+'DAILY FOC'!BO65","v":0},{"$f":"G93*C93","v":0},{"$f":"+D93-G93","v":0},{"$f":"+I93*C93","v":0},null,{"$f":"SUMIF(DATABASE!$F$3:$F$89,B93,DATABASE!$I$3:$I$81)","v":6.96},{"$f":"+L93*I93","v":0},{"$f":"+L93","v":6.96},{"$f":"+N93*G93","v":0},null,"9\" PIZZA BASE ",1,{"$f":"+R93*D93","v":0}]
[]
[null,"PLATTER"]
[1,"DM01 SNACK PLATTER(A)",16.899999999999999,{"$f":"VLOOKUP(B96,Summary!$B$30:$AK$464,5,FALSE)","v":28},{"$f":"D96*C96","v":473.19999999999993},null,null,null,{"$f":"+D96-G96","v":28},{"$f":"+I96*C96","v":473.19999999999993},null,{"$f":"SUMIF(DATABASE!$F$3:$F$89,B96,DATABASE!$I$3:$I$81)","v":4.5999999999999996},{"$f":"+L96*I96","v":128.79999999999998},{"$f":"+L96","v":4.5999999999999996},{"$f":"+N96*G96","v":0},null,"MCCAIN VERSITOT",8,{"$f":"+R96*$D$96","v":224}]
[null,null,null,null,null,null,null,null,null,null,null,null,null,null,null,null,"MCCAIN SMILES",6,{"$f":"+R97*$D$96","v":168}]
[null,null,null,null,null,null,null,null,null,null,null,null,null,null,null,null,"MCCAIN ONION RING",8,{"$f":"+R98*$D$96","v":224}]
[null,null,null,null,null,null,null,null,null,null,null,null,null,null,null,null,"MCCAIN SPIRAL FRIES",0.12,{"$f":"+R99*$D$96","v":3.36}]
[2,"DM02 SNACK PLATTER(B)",12.9,{"$f":"VLOOKUP(B100,Summary!$B$30:$AK$464,5,FALSE)","v":8},{"$f":"D100*C100","v":103.2},null,null,null,{"$f":"+D100-G100","v":8},{"$f":"+I100*C100","v":103.2},null,{"$f":"SUMIF(DATABASE!$F$3:$F$89,B100,DATABASE!$I$3:$I$81)","v":4.5999999999999996},{"$f":"+L100*I100","v":36.799999999999997},{"$f":"+L100","v":4.5999999999999996},{"$f":"+N100*G100","v":0},null,"MCCAIN VERSITOT",8,{"$f":"+R100*$D$100","v":64}]
[null,null,null,null,null,null,null,null,null,null,null,null,null,null,null,null,"MCCAIN SMILES",6,{"$f":"+R101*$D$100","v":48}]
[null,null,null,null,null,null,null,null,null,null,null,null,null,null,null,null,"MCCAIN ONION RING",8,{"$f":"+R102*$D$100","v":64}]
[null,null,null,null,null,null,null,null,null,null,null,null,null,null,null,null,"MCCAIN SPIRAL FRIES",0.12,{"$f":"+R103*$D$96","v":3.36}]
[3,"DM03 CNY platter(A)",19.899999999999999,{"$f":"VLOOKUP(B104,Summary!$B$30:$AK$464,5,FALSE)","v":0},{"$f":"D104*C104","v":0},null,null,null,{"$f":"+D104-G104","v":0},{"$f":"+I104*C104","v":0},null,{"$f":"SUMIF(DATABASE!$F$3:$F$89,B104,DATABASE!$I$3:$I$81)","v":9.81},{"$f":"+L104*I104","v":0},{"$f":"+L104","v":9.81},{"$f":"+N104*G104","v":0},null,"CHICKEN WINGS (NON -MARINATED)",4,{"$f":"+R104*D104","v":0}]
[null,null,null,null,null,null,null,null,null,null,null,null,null,null,null,null,"MCCAIN ONION RING",8,{"$f":"+R105*$D$104","v":0}]
[4,"DM04 CNY platter (B)",23.9,{"$f":"VLOOKUP(B106,Summary!$B$30:$AK$464,5,FALSE)","v":0},{"$f":"D106*C106","v":0},null,null,null,{"$f":"+D106-G106","v":0},{"$f":"+I106*C106","v":0},null,{"$f":"SUMIF(DATABASE!$F$3:$F$89,B106,DATABASE!$I$3:$I$81)","v":9.81},{"$f":"+L106*I106","v":0},{"$f":"+L106","v":9.81},{"$f":"+N106*G106","v":0},null,"CHICKEN WINGS (NON -MARINATED)",4,{"$f":"+R106*$D$106","v":0}]
[null,null,null,null,null,null,null,null,null,null,null,null,null,null,null,null,"MCCAIN ONION RING",8,{"$f":"+R107*$D$106","v":0}]
[]
[]
["Total Sales / COST",null,null,{"$f":"SUM(D11:D109)","v":1889},{"$f":"SUM(E11:E109)","v":16241.300000000003},null,{"$f":"SUM(G11:G108)","v":15},{"$f":"SUM(H11:H109)","v":175.50000000000003},{"$f":"SUM(I11:I109)","v":1829},{"$f":"SUM(J11:J109)","v":15640.300000000003},null,null,{"$f":"SUM(M11:M109)","v":5431.38},null,{"$f":"SUM(O11:O109)","v":63.24}]
[]
[]
[]
[]
[]
[]
[]
[]
[]
[]
[]
[]
[]
[]
[]
[]
[]
[]
[]
[]
[]
[]
[]
[]
[]
[]
[]
[]
[]
[]
[]
[]
[]
[]
[]
[]
[]
[]
[]
[]
[]
[]
[]
[]
[]
[]
[]
[]
[]
[]
[]
[]
[]
[]
[]
[]
[]
[]
[]
[]
[]
[]
[]
[]
[]
[]
[]
[]
[]
[]
[]
[]
[]
[]
[]
[]
[]
[]
[]
[]
[]
[]
[]
[]
[]
[]
[]
[]
[]
[]
[null,null,null,null,null,null,null,null,null,null,null,null,null,null,null,null,null,{"$f":"SUBTOTAL(9,S79:S85)","v":0},{"$f":"SUBTOTAL(9,S49:S70)","v":400}]

{"sheet":"DAILY FOC","index":7,"n_rows":66,"n_cols":69,"rows_kept":66,"cut":false,"hidden":false,"merged":[[6,13,6,14],[6,15,6,16],[6,17,6,18],[6,19,6,20],[6,3,6,4],[6,5,6,6],[6,7,6,8],[6,9,6,10],[6,11,6,12],[6,43,6,44],[6,21,6,22],[6,23,6,24],[6,25,6,26],[6,27,6,28],[6,29,6,30],[6,31,6,32],[6,57,6,58],[6,59,6,60],[6,61,6,62],[6,63,6,64],[0,0,0,5],[6,45,6,46],[6,47,6,48],[6,49,6,50],[6,51,6,52],[6,53,6,54],[6,55,6,56],[6,33,6,34],[6,35,6,36],[6,37,6,38],[6,39,6,40],[6,41,6,42]]}
["MONTHLY SALES FOOD RECORD ( K LUNCH & K DINNER)"]
[]
["Outlet :",{"$f":"+'K-LUNCH & K DINNER'!B3","v":"CCS OUTLET"}]
["Month :",{"$f":"+'K-LUNCH & K DINNER'!B4","v":"2013-08-01"}]
[]
[]
["CODE","Item","S/P",1,null,{"$f":"+D7+1","v":2},null,{"$f":"+F7+1","v":3},null,{"$f":"+H7+1","v":4},null,{"$f":"+J7+1","v":5},null,{"$f":"+L7+1","v":6},null,{"$f":"+N7+1","v":7},null,{"$f":"+P7+1","v":8},null,{"$f":"+R7+1","v":9},null,{"$f":"+T7+1","v":10},null,{"$f":"+V7+1","v":11},null,{"$f":"+X7+1","v":12},null,{"$f":"+Z7+1","v":13},null,{"$f":"+AB7+1","v":14},null,{"$f":"+AD7+1","v":15},null,{"$f":"+AF7+1","v":16},null,{"$f":"+AH7+1","v":17},null,{"$f":"+AJ7+1","v":18},null,{"$f":"+AL7+1","v":19},null,{"$f":"+AN7+1","v":20},null,{"$f":"+AP7+1","v":21},null,{"$f":"+AR7+1","v":22},null,{"$f":"+AT7+1","v":23},null,{"$f":"+AV7+1","v":24},null,{"$f":"+AX7+1","v":25},null,{"$f":"+AZ7+1","v":26},null,{"$f":"+BB7+1","v":27},null,{"$f":"+BD7+1","v":28},null,{"$f":"+BF7+1","v":29},null,{"$f":"+BH7+1","v":30},null,{"$f":"+BJ7+1","v":31},null,null,"TOTAL","TOTAL","%"]
[null,null,"RM","Q","RM","Q","RM","Q","RM","Q","RM","Q","RM","Q","RM","Q","RM","Q","RM","Q","RM","Q","RM","Q","RM","Q","RM","Q","RM","Q","RM","Q","RM","Q","RM","Q","RM","Q","RM","Q","RM","Q","RM","Q","RM","Q","RM","Q","RM","Q","RM","Q","RM","Q","RM","Q","RM","Q","RM","Q","RM","Q","RM","Q","RM",null,"Q","RM"]
["DF 01","Plain Rice",1,0,{"$f":"D9*C9","v":0},0,{"$f":"F9*C9","v":0},0,{"$f":"H9*C9","v":0},0,{"$f":"J9*C9","v":0},0,{"$f":"L9*C9","v":0},0,{"$f":"N9*C9","v":0},0,{"$f":"P9*C9","v":0},0,{"$f":"R9*C9","v":0},0,{"$f":"T9*C9","v":0},0,{"$f":"V9*C9","v":0},0,{"$f":"X9*C9","v":0},0,{"$f":"Z9*C9","v":0},0,{"$f":"AB9*C9","v":0},0,{"$f":"AD9*C9","v":0},0,{"$f":"AF9*C9","v":0},0,{"$f":"AH9*C9","v":0},0,{"$f":"AJ9*C9","v":0},0,{"$f":"AL9*C9","v":0},0,{"$f":"AN9*C9","v":0},0,{"$f":"AP9*C9","v":0},0,{"$f":"AR9*C9","v":0},0,{"$f":"AT9*C9","v":0},0,{"$f":"AV9*C9","v":0},0,{"$f":"AX9*C9","v":0},0,{"$f":"AZ9*C9","v":0},0,{"$f":"BB9*C9","v":0},0,{"$f":"BD9*C9","v":0},0,{"$f":"BF9*C9","v":0},0,{"$f":"BH9*C9","v":0},0,{"$f":"BJ9*C9","v":0},0,{"$f":"BL9*C9","v":0},null,{"$f":"D9+F9+H9+J9+L9+N9+P9+R9+T9+V9+X9+Z9+AB9+AD9+AF9+AH9+AJ9+AL9+AN9+AP9+AR9+AT9+AV9+AX9+AZ9+BB9+BD9+BF9+BH9+BJ9+BL9","v":0},{"$f":"BO9*C9","v":0}]
["DF 02","Egg",1.5,0,0,0,0,0,0,0,0,0,0,0,0,0,0,0,0,0,0,0,0,0,0,0,0,0,0,0,0,0,0,0,0,0,0,0,0,0,0,0,0,0,0,0,0,0,0,0,0,0,0,0,0,0,0,0,0,0,0,0,0,0,0,null,0,0]
[1101,"Thai Ckn Chop",9.9,0,{"$f":"D11*C11","v":0},0,{"$f":"F11*C11","v":0},0,{"$f":"H11*C11","v":0},0,{"$f":"J11*C11","v":0},0,{"$f":"L11*C11","v":0},0,{"$f":"N11*C11","v":0},0,{"$f":"P11*C11","v":0},0,{"$f":"R11*C11","v":0},0,{"$f":"T11*C11","v":0},0,{"$f":"V11*C11","v":0},0,{"$f":"X11*C11","v":0},0,{"$f":"Z11*C11","v":0},0,{"$f":"AB11*C11","v":0},0,{"$f":"AD11*C11","v":0},0,{"$f":"AF11*C11","v":0},0,{"$f":"AH11*C11","v":0},0,{"$f":"AJ11*C11","v":0},0,{"$f":"AL11*C11","v":0},0,{"$f":"AN11*C11","v":0},0,{"$f":"AP11*C11","v":0},0,{"$f":"AR11*C11","v":0},0,{"$f":"AT11*C11","v":0},0,{"$f":"AV11*C11","v":0},0,{"$f":"AX11*C11","v":0},0,{"$f":"AZ11*C11","v":0},0,{"$f":"BB11*C11","v":0},0,{"$f":"BD11*C11","v":0},0,{"$f":"BF11*C11","v":0},0,{"$f":"BH11*C11","v":0},0,{"$f":"BJ11*C11","v":0},0,{"$f":"BL11*C11","v":0},null,{"$f":"D11+F11+H11+J11+L11+N11+P11+R11+T11+V11+X11+Z11+AB11+AD11+AF11+AH11+AJ11+AL11+AN11+AP11+AR11+AT11+AV11+AX11+AZ11+BB11+BD11+BF11+BH11+BJ11+BL11","v":0},{"$f":"BO11*C11","v":0}]
[1102,"Marmite Ckn Chop",9.9,0,0,0,0,0,0,0,0,0,0,0,0,0,0,0,0,0,0,0,0,0,0,0,0,0,0,0,0,0,0,0,0,0,0,0,0,0,0,0,0,0,0,0,0,0,0,0,0,0,0,0,0,0,0,0,0,0,0,0,0,0,0,null,0,0]
[1103,"Kong Po Ckn Chop",9.9,0,0,0,0,0,0,0,0,0,0,0,0,0,0,0,0,0,0,0,0,0,0,0,0,0,0,0,0,0,0,0,0,0,0,0,0,0,0,0,0,0,0,0,0,0,0,0,0,0,0,0,0,0,0,0,0,0,0,0,0,0,0,null,0,0]
[1104,"S/Sour Ckn Chop",9.9,0,0,0,0,0,0,0,0,0,0,0,0,0,0,0,0,0,0,0,0,0,0,0,0,0,0,0,0,0,0,0,0,0,0,0,0,0,0,0,0,0,0,0,0,0,0,0,0,0,0,0,0,0,0,0,0,0,0,0,0,0,0,null,0,0]
[1105,"Butter Ckn Chop",9.9,0,0,0,0,0,0,0,0,0,0,0,0,0,0,0,0,0,0,0,0,0,0,0,0,0,0,0,0,0,0,0,0,0,0,0,0,0,0,0,0,0,0,0,0,0,0,0,0,0,0,0,0,0,0,0,0,0,0,0,0,0,0,null,0,0]
[1106,"HK Prawn F/Rice",9.9,0,0,0,0,0,0,0,0,0,0,0,0,0,0,0,0,0,0,0,0,0,0,0,0,0,0,0,0,0,0,0,0,0,0,0,0,0,0,0,0,0,0,0,0,0,0,0,0,0,0,0,0,0,0,0,0,0,0,0,0,0,0,null,0,0]
[1107,"Sambal F/Rice",9.9,0,0,0,0,0,0,0,0,0,0,0,0,0,0,0,0,0,0,0,0,0,0,0,0,0,0,0,0,0,0,1,9.9,0,0,0,0,0,0,0,0,0,0,0,0,0,0,0,0,0,0,0,0,0,0,0,0,0,0,0,0,0,0,null,1,9.9]
[1108,"Sambal F/Mee",9.9,0,0,0,0,0,0,0,0,0,0,0,0,0,0,0,0,0,0,0,0,0,0,0,0,0,0,0,0,0,0,0,0,0,0,0,0,0,0,0,0,0,0,0,0,0,0,0,0,0,0,0,0,0,0,0,0,0,0,0,0,0,0,null,0,0]
[1109,"B/Pepper Udon Noodle",9.9,0,0,0,0,0,0,0,0,0,0,0,0,0,0,0,0,0,0,0,0,0,0,0,0,0,0,0,0,0,0,0,0,0,0,0,0,0,0,0,0,0,0,0,0,0,0,0,0,0,0,0,0,0,0,0,0,0,0,0,0,0,0,null,0,0]
[1110,"Nissin Noodle Soup",9.9,0,0,0,0,0,0,0,0,0,0,0,0,0,0,0,0,0,0,0,0,0,0,0,0,0,0,0,0,0,0,0,0,0,0,0,0,0,0,0,0,0,0,0,0,0,0,0,0,0,0,0,0,0,0,0,0,0,0,0,0,0,0,null,0,0]
[1111,"Fried Mix Vegetable W/Rice",9.9,0,0,0,0,0,0,0,0,0,0,0,0,0,0,0,0,0,0,0,0,0,0,0,0,0,0,0,0,0,0,0,0,0,0,0,0,0,0,0,0,0,0,0,0,0,0,0,0,0,0,0,0,0,0,0,0,0,0,0,0,0,0,null,0,0]
[1112,"Nasi Lemak W/F Ckn Wing",9.9,0,0,0,0,0,0,0,0,0,0,0,0,0,0,0,0,0,0,0,0,0,0,0,0,0,0,0,0,0,0,0,0,0,0,0,0,0,0,0,0,0,0,0,0,0,0,0,0,0,0,0,0,0,0,0,0,0,0,0,0,0,0,null,0,0]
[1113,"H & S F/Kuey Teow",9.9,0,0,0,0,0,0,0,0,0,0,0,0,0,0,0,0,0,0,0,0,0,0,0,0,0,0,0,0,0,0,0,0,0,0,0,0,0,0,0,0,0,0,0,0,0,0,0,0,0,0,0,0,0,0,0,0,0,0,0,0,0,0,null,0,0]
[1114,"Seaweed Fishball Noodle Soup",9.9,0,0,0,0,0,0,0,0,0,0,0,0,0,0,0,0,0,0,0,0,0,0,0,0,0,0,0,0,0,0,0,0,0,0,0,0,0,0,0,0,0,0,0,0,0,0,0,0,0,0,0,0,0,0,0,0,0,0,0,0,0,0,null,0,0]
[1115,"Braised Noodle W/Chicken Chop",9.9,0,0,0,0,0,0,0,0,0,0,0,0,0,0,0,0,0,0,0,0,0,0,0,0,0,0,0,0,0,0,0,0,0,0,0,0,0,0,0,0,0,0,0,0,0,0,0,0,0,0,0,0,0,0,0,0,0,0,0,0,0,0,null,0,0]
[1116,"Mongolian Chicken Chop",9.9,0,0,0,0,0,0,0,0,0,0,0,0,0,0,0,0,0,0,0,0,0,0,0,0,0,0,0,0,0,0,0,0,0,0,0,0,0,0,0,0,0,0,0,0,0,0,0,0,0,0,0,0,0,0,0,0,0,0,0,0,0,0,null,0,0]
[1001,"Black Pepper Chicken Chop",12.9,0,0,0,0,0,0,0,0,0,0,0,0,0,0,0,0,0,0,0,0,0,0,0,0,0,0,0,0,0,0,0,0,0,0,0,0,1,12.9,0,0,0,0,0,0,0,0,0,0,0,0,0,0,0,0,0,0,0,0,0,0,0,0,null,1,12.9]
[1002,"Gravy Chicken Chop",12.9,0,0,0,0,0,0,0,0,0,0,0,0,0,0,0,0,0,0,0,0,0,0,0,0,0,0,0,0,0,0,0,0,0,0,0,0,0,0,0,0,0,0,0,0,0,0,0,0,0,0,0,0,0,0,0,0,0,0,0,0,0,0,null,0,0]
[1003,"Mushroom Chicken Chop",12.9,0,0,0,0,0,0,0,0,0,0,0,0,0,0,1,12.9,0,0,0,0,0,0,0,0,0,0,0,0,0,0,2,25.8,0,0,0,0,0,0,0,0,0,0,0,0,0,0,0,0,0,0,0,0,0,0,0,0,0,0,0,0,0,0,null,3,38.700000000000003]
[1004,"Chicken Maryland",12.9,0,0,0,0,0,0,0,0,0,0,0,0,0,0,0,0,2,25.8,1,12.9,0,0,0,0,1,12.9,0,0,0,0,0,0,0,0,0,0,0,0,0,0,0,0,0,0,0,0,0,0,0,0,0,0,0,0,0,0,0,0,0,0,0,0,null,4,51.6]
[1005,"Fish & chip",12.9,0,0,0,0,0,0,0,0,0,0,0,0,0,0,0,0,0,0,0,0,0,0,0,0,0,0,0,0,0,0,0,0,0,0,0,0,0,0,0,0,0,0,1,12.9,0,0,0,0,0,0,0,0,0,0,0,0,0,0,0,0,0,0,null,1,12.9]
[1006,"Spaghetti Bolognese",12.9,0,0,0,0,1,12.9,0,0,0,0,0,0,0,0,0,0,0,0,0,0,0,0,0,0,0,0,0,0,0,0,0,0,0,0,0,0,0,0,0,0,0,0,0,0,0,0,0,0,0,0,0,0,0,0,0,0,0,0,1,12.9,0,0,null,2,25.8]
[1007,"Chicken Chop Salad",12.9,0,0,0,0,0,0,0,0,0,0,0,0,0,0,0,0,0,0,0,0,0,0,0,0,0,0,0,0,0,0,0,0,0,0,0,0,0,0,0,0,0,0,0,0,0,0,0,0,0,0,0,0,0,0,0,0,0,0,0,0,0,0,null,0,0]
[1201,"Seafood Stick",5.9,0,0,0,0,0,0,0,0,0,0,0,0,0,0,0,0,0,0,0,0,0,0,0,0,0,0,0,0,0,0,0,0,0,0,0,0,0,0,0,0,0,0,0,0,0,0,0,0,0,0,0,0,0,0,0,0,0,0,0,0,0,0,null,0,0]
[1202,"French Fries",5.9,0,0,0,0,0,0,0,0,0,0,0,0,0,0,0,0,0,0,0,0,0,0,0,0,0,0,0,0,0,0,0,0,0,0,0,0,0,0,0,0,0,0,0,0,0,0,0,0,0,0,0,0,0,0,0,0,0,0,0,0,0,0,null,0,0]
[1203,"S/Pepper Golden Mushroom",5.9,0,0,0,0,0,0,0,0,0,0,0,0,0,0,0,0,0,0,0,0,0,0,0,0,0,0,0,0,0,0,0,0,0,0,0,0,0,0,0,0,0,0,0,0,0,0,0,0,0,0,0,0,0,0,0,0,0,0,0,0,0,0,null,0,0]
[1204,"Fried Fish Ball",5.9,0,0,0,0,0,0,0,0,0,0,0,0,0,0,0,0,0,0,0,0,0,0,0,0,0,0,0,0,0,0,0,0,0,0,0,0,0,0,0,0,0,0,0,0,0,0,0,0,0,0,0,0,0,0,0,0,0,0,0,0,0,0,null,0,0]
[1205,"Rainbow Roll",5.9,0,0,0,0,0,0,0,0,0,0,0,0,0,0,0,0,0,0,0,0,0,0,0,0,0,0,0,0,0,0,0,0,0,0,0,0,0,0,0,0,0,0,0,0,0,0,0,0,0,0,0,0,0,0,0,0,0,0,0,0,0,0,null,0,0]
[1206,"Spring Roll",5.9,0,0,0,0,0,0,0,0,0,0,0,0,0,0,0,0,0,0,0,0,0,0,0,0,0,0,0,0,0,0,0,0,0,0,0,0,0,0,0,0,0,0,0,0,0,0,0,0,0,0,0,0,0,0,0,0,0,0,0,0,0,0,null,0,0]
[1207,"Crispy Ckn Sausage",5.9,0,0,0,0,0,0,0,0,0,0,0,0,0,0,0,0,0,0,0,0,0,0,0,0,0,0,0,0,0,0,0,0,0,0,0,0,0,0,0,0,0,0,0,0,0,0,0,0,0,0,0,0,0,0,0,0,0,0,0,0,0,0,null,0,0]
[1301,"Shanghai Guo Tie",7.9,0,0,0,0,0,0,0,0,0,0,0,0,0,0,0,0,0,0,0,0,0,0,0,0,0,0,0,0,0,0,0,0,0,0,0,0,0,0,0,0,0,0,0,0,0,0,0,0,0,0,0,0,0,0,0,0,0,0,0,0,0,0,null,0,0]
[1302,"Chicken Nugget",7.9,0,0,0,0,0,0,0,0,0,0,0,0,0,0,0,0,0,0,0,0,0,0,0,0,0,0,0,0,0,0,0,0,0,0,0,0,0,0,0,0,0,0,0,0,0,0,0,0,0,0,0,0,0,0,0,0,0,0,0,0,0,0,null,0,0]
[1303,"Ckn Wing",7.9,0,0,0,0,0,0,0,0,0,0,0,0,0,0,0,0,0,0,0,0,0,0,0,0,1,7.9,0,0,0,0,0,0,0,0,0,0,0,0,0,0,0,0,0,0,0,0,0,0,0,0,0,0,0,0,0,0,0,0,0,0,0,0,null,1,7.9]
[1304,"Hot & Spicy Achiovice",7.9,0,0,0,0,0,0,0,0,0,0,0,0,0,0,0,0,0,0,0,0,0,0,0,0,0,0,0,0,0,0,0,0,0,0,1,7.9,0,0,0,0,0,0,0,0,0,0,0,0,0,0,0,0,0,0,0,0,0,0,0,0,0,0,null,1,7.9]
[1305,"Crispy Thai Roll",7.9,0,0,0,0,0,0,0,0,0,0,0,0,0,0,0,0,0,0,0,0,0,0,0,0,0,0,0,0,0,0,0,0,0,0,0,0,1,7.9,0,0,0,0,0,0,0,0,0,0,0,0,0,0,0,0,0,0,0,0,0,0,0,0,null,1,7.9]
[1306,"S/Pepper Silver Fish",7.9,0,0,0,0,0,0,0,0,0,0,0,0,0,0,0,0,0,0,0,0,0,0,0,0,0,0,0,0,0,0,0,0,0,0,0,0,0,0,0,0,0,0,0,0,0,0,0,0,0,0,0,0,0,0,0,0,0,0,0,0,0,0,null,0,0]
[1307,"Deep Fried Chicken Wing",7.9,0,0,0,0,0,0,0,0,0,0,0,0,0,0,0,0,0,{"$f":"T47*C47","v":0},0,0,0,0,0,0,0,0,0,0,0,0,0,0,0,0,0,0,0,0,0,0,0,0,0,0,0,0,0,0,0,0,0,0,0,0,0,0,0,0,0,0,0,0,null,0,0]
[1308,"Crunchy Calamari Ring",7.9,0,0,0,0,0,0,0,0,0,0,0,0,0,0,0,0,0,{"$f":"T48*C48","v":0},0,0,0,0,0,0,0,0,0,0,0,0,0,0,0,0,0,0,0,0,0,0,0,0,0,0,0,0,0,0,0,0,0,0,0,0,0,0,0,0,0,0,0,0,null,0,0]
[1309,"Mccain Breaded Onion Ring",7.9,0,0,0,0,0,0,0,0,0,0,0,0,0,0,0,0,0,{"$f":"T49*C49","v":0},0,0,0,0,0,0,0,0,0,0,0,0,0,0,0,0,0,0,0,0,0,0,0,0,0,0,0,0,0,0,0,0,0,0,0,0,0,0,0,0,0,0,0,0,null,0,0]
[1310,"Mccain Spiral Fries",7.9,0,0,0,0,0,0,0,0,0,0,0,0,0,0,0,0,0,{"$f":"T50*E50","v":0},0,0,0,0,0,0,0,0,0,0,0,0,0,0,0,0,0,0,0,0,0,0,0,0,0,0,0,0,0,0,0,0,0,0,0,0,0,0,0,0,0,0,0,0,null,0,0]
[1311,"Mccain Happy Crispy Smiles",7.9,0,0,0,0,0,0,0,0,0,0,0,0,0,0,0,0,0,{"$f":"T51*C51","v":0},0,0,0,0,0,0,0,0,0,0,0,0,0,0,0,0,0,0,0,0,0,0,0,0,0,0,0,0,0,0,0,0,0,0,0,0,0,0,0,0,0,0,0,0,null,0,0]
[1312,"Mccain Mini Hash Brown",7.9,0,0,0,0,0,0,0,0,0,0,0,0,0,0,0,0,0,{"$f":"T52*C52","v":0},0,0,0,0,0,0,0,0,0,0,0,0,0,0,0,0,0,0,0,0,0,0,0,0,0,0,0,0,0,0,0,0,0,0,0,0,0,0,0,0,0,0,0,0,null,0,0]
[3001,"6' Hawaiian Pizza",12.9,0,{"$f":"D53*C53","v":0},0,{"$f":"F53*C53","v":0},0,0,0,{"$f":"J53*C53","v":0},0,0,0,0,0,0,0,0,0,0,0,0,0,0,0,0,0,0,0,0,0,0,0,{"$f":"AH53*AG53","v":0},0,0,0,0,0,0,0,0,0,0,0,0,0,0,0,0,0,0,0,0,0,0,0,0,0,{"$f":"BH53*C53","v":0},0,0,0,0,null,0,0]
[3002,"6' Smoke BBQ Pizza",12.9,0,{"$f":"D54*C54","v":0},0,{"$f":"F54*C54","v":0},0,0,0,{"$f":"J54*C54","v":0},0,0,0,0,0,0,0,0,0,0,0,0,0,0,0,0,0,0,0,0,0,0,0,0,0,0,0,0,0,0,0,0,0,0,0,0,0,0,0,0,0,0,0,0,0,0,0,0,0,{"$f":"BH54*C54","v":0},0,0,0,0,null,0,0]
[3003,"6' Seafood Pizza",12.9,0,0,0,0,0,0,0,0,0,0,0,{"$f":"N55*C55","v":0},0,0,0,0,0,0,0,0,0,0,0,0,0,0,0,0,0,0,0,0,0,0,0,0,0,0,0,0,0,0,0,0,0,0,0,0,0,0,0,0,0,0,0,0,0,0,0,0,0,0,null,0,0]
[3004,"6' Spicy Buf Pizza",12.9,0,0,0,0,0,0,0,0,0,0,0,{"$f":"N56*C56","v":0},0,0,0,0,0,0,0,0,0,0,0,0,0,0,0,0,0,0,0,0,0,0,0,0,0,0,0,0,0,0,0,0,0,0,0,0,0,0,0,0,0,0,0,0,0,0,0,0,0,0,null,0,0]
[3005,"6' Veggie",12.9,0,0,0,0,0,0,0,0,0,0,0,0,0,0,0,0,0,0,0,0,0,0,0,0,0,0,0,0,0,0,0,0,0,0,0,0,0,0,0,0,0,0,0,0,0,0,0,0,0,0,0,0,0,0,0,0,0,0,0,0,0,0,null,0,0]
[3001,"9' Hawaiian Pizza",16.899999999999999,0,0,0,0,0,0,0,0,0,0,0,0,0,0,0,0,0,0,0,0,0,0,0,0,0,0,0,0,0,0,0,0,0,0,0,0,0,0,0,0,0,0,0,0,0,0,0,0,0,0,0,0,0,0,0,0,0,0,0,0,0,0,null,0,0]
[3002,"9' Smoke BBQ Pizza",16.899999999999999,0,0,0,0,0,0,0,0,0,0,0,0,0,0,0,0,0,0,0,0,0,0,0,0,0,0,0,0,0,0,0,0,0,0,0,0,0,0,0,0,0,0,0,0,0,0,0,0,0,0,0,0,0,0,0,0,0,0,0,0,0,0,null,0,0]
[3003,"9' Seafood Pizza",16.899999999999999,0,0,0,0,0,0,0,0,0,0,0,0,0,0,0,0,0,0,0,0,0,0,0,0,0,0,0,0,0,0,0,0,0,0,0,0,0,0,0,0,0,0,0,0,0,0,0,0,0,0,0,0,0,0,0,0,0,0,0,0,0,0,null,0,0]
[3004,"9' Spicy Buf Pizza",16.899999999999999,0,0,0,0,0,0,0,0,0,0,0,0,0,0,0,0,0,0,0,0,0,0,0,0,0,0,0,0,0,0,0,0,0,0,0,0,0,0,0,0,0,0,0,0,0,0,0,0,0,0,0,0,0,0,0,0,0,0,0,0,0,0,null,0,0]
[3005,"9' Veggie",16.899999999999999,0,0,0,0,0,0,0,0,0,0,0,0,0,0,0,0,0,0,0,0,0,0,0,0,0,0,0,0,0,0,0,0,0,0,0,0,0,0,0,0,0,0,0,0,0,0,0,0,0,0,0,0,0,0,0,0,0,0,0,0,0,0,null,0,0]
[null,"McCain AlaCarte",16.899999999999999,0,0,0,0,0,0,0,0,0,0,0,0,0,0,0,0,0,0,0,0,0,0,0,0,0,0,0,0,0,0,0,0,0,0,0,0,0,0,0,0,0,0,0,0,0,0,0,0,0,0,0,0,0,0,0,0,0,0,0,0,0,0,null,0,0]
[null,"McCain Beer Platter",12.9,0,0,0,0,0,0,0,0,0,0,0,0,0,0,0,0,0,0,0,0,0,0,0,0,0,0,0,0,0,0,0,0,0,0,0,0,0,0,0,0,0,0,0,0,0,0,0,0,0,0,0,0,0,0,0,0,0,0,0,0,0,0,null,0,0]
[]
[null,"Total Foc","-",{"$f":"SUM(D9:D64)","v":0},0,0,0,1,12.9,0,0,0,0,0,0,0,0,1,12.9,2,25.8,1,12.9,0,0,0,0,2,20.8,0,0,0,0,3,35.700000000000003,{"$f":"SUM(AJ9:AJ64)","v":0},0,1,7.9,2,20.8,0,0,0,0,1,12.9,0,0,0,0,0,0,0,0,0,0,0,0,0,0,1,12.9,0,0,null,{"$f":"SUM(BO9:BO64)","v":15},{"$f":"SUM(BP9:BP65)","v":175.50000000000003}]

{"sheet":"SAUCE USAGE","index":8,"n_rows":109,"n_cols":13,"rows_kept":109,"cut":false,"hidden":false,"merged":[[6,9,6,11],[0,0,0,4]]}
["MONTHLY SERVINGS: SAUCE "]
[]
[{"$f":"+'[4]K-LUNCH & K DINNER'!A3","v":"Outlet :"},{"$f":"+'K-LUNCH & K DINNER'!B3","v":"CCS OUTLET"}]
[{"$f":"+'[4]K-LUNCH & K DINNER'!A4","v":"Month :"},{"$f":"+'[4]K-LUNCH & K DINNER'!B4","v":"2013-05-01"}]
[]
[]
[null,null,null,"FROM SYSTEM ",null,null,"FROM SYSTEM ",null,null,"USAGE"]
["NO","Item","COST","SERVINGS",null,"Item","SERVINGS","TOTAL ",null,"MATERIAL ","RECIPE","TOTAL","TOTAL COST"]
[null,null,"RM","Q",null,null,"Q","Q",null,"Q","GRAM","GRAM ","RM"]
[null,"REQUEST BY CUSTOMERS",null,null,null,null,null,null,null,"ALL PORTION DECREASED BY 10 GRAM"]
[1,"DF03 ADD SAUCE 1000",1.0800000000000001E-2,{"$f":"VLOOKUP(B11,Summary!$B$30:$AK$464,5,FALSE)","v":8},null,null,null,{"$f":"+G11+D11","v":8},null,"DRESSING THOUSAND ISLAND",55,{"$f":"+K11*H11","v":440},{"$f":"+L11*C11","v":4.7520000000000007}]
[{"$f":"+A11+1","v":2},"DF04 ADD SAUCE BOLO",1.14E-2,{"$f":"VLOOKUP(B12,Summary!$B$30:$AK$464,5,FALSE)","v":1},null,null,null,1,null,"BOLOGNESE SAUCE",140,{"$f":"+K12*H12","v":140},1.5960000000000001]
[{"$f":"+A12+1","v":3},"DF05 ADD SAUCE BP",3.0000000000000001E-3,{"$f":"VLOOKUP(B13,Summary!$B$30:$AK$464,5,FALSE)","v":1},null,null,null,1,null,"BLACK PEPPER SAUCE",80,80,0.24]
[4,"DF06 ADD SAUCE BUTTER",5.8999999999999999E-3,{"$f":"VLOOKUP(B14,Summary!$B$30:$AK$464,5,FALSE)","v":0},null,null,null,0,null,"BUTTER CREAM SAUCE",65,0,0]
[5,"DF07 ADD SAUCE C.PADI",{"$f":"0.13/30","v":4.3333333333333331E-3},{"$f":"VLOOKUP(B15,Summary!$B$30:$AK$464,5,FALSE)","v":32},null,null,null,32,null,"SAUCE CHILLI (KIMBALL)",20,640,{"$f":"+L15*C15","v":2.7733333333333334}]
[6,"DF08 ADD SAUCE GS",3.3E-3,{"$f":"VLOOKUP(B16,Summary!$B$30:$AK$464,5,FALSE)","v":0},null,null,null,0,null,"GRAVY SAUCE",80,0,0]
[7,"DF09 ADD SAUCE MAYO",6.3E-3,{"$f":"VLOOKUP(B17,Summary!$B$30:$AK$464,5,FALSE)","v":82},null,null,null,82,null,"MAYONNAISE",70,5740,36.161999999999999]
[8,"DF10 ADD SAUCE MMITE",2E-3,{"$f":"VLOOKUP(B18,Summary!$B$30:$AK$464,5,FALSE)","v":1},null,null,null,1,null,"MARMITE SAUCE ",70,70,0.14000000000000001]
[9,"DF11 ADD SAUCE MR",6.7999999999999996E-3,{"$f":"VLOOKUP(B19,Summary!$B$30:$AK$464,5,FALSE)","v":13},null,null,null,13,null,"MUSHROOM SAUCE",80,1040,7.0719999999999992]
[10,"DF12 ADD SAUCE SAMBAL",8.2500000000000004E-3,{"$f":"VLOOKUP(B20,Summary!$B$30:$AK$464,5,FALSE)","v":9},null,null,null,9,null,"SAMBAL SAUCE (NASI)",110,990,8.1675000000000004]
[11,"DF13 ADD SAUCE THAI",{"$f":"0.27/38","v":7.1052631578947369E-3},{"$f":"VLOOKUP(B21,Summary!$B$30:$AK$464,5,FALSE)","v":1},null,null,null,1,null,"THAI SAUCE",65,65,0.46184210526315789]
[12,"DF14 ADD SAUCE TOMATO",3.5000000000000001E-3,{"$f":"VLOOKUP(B22,Summary!$B$30:$AK$464,5,FALSE)","v":101},null,null,null,101,null,"TOMATO SAUCE ( KIMBALL )",20,2020,7.07]
[13,"DF15 ADD TATA SAUCE",1.24E-2,{"$f":"VLOOKUP(B23,Summary!$B$30:$AK$464,5,FALSE)","v":11},null,null,null,11,null,"TARTAR SAUCE",28,308,3.8191999999999999]
[14,"DF16 ADD SAUCE CHEES",null,{"$f":"VLOOKUP(B24,Summary!$B$30:$AK$464,5,FALSE)","v":0},null,null,null,0,null,"NACHO CHEESE DIP ",70,0,0]
[null,"KLKD"]
[15,"DH01 91101:THAI CHK",{"$f":"0.27/38","v":7.1052631578947369E-3},{"$f":"VLOOKUP(B26,Summary!$B$30:$AK$464,5,FALSE)","v":101},null,null,null,{"$f":"+G26+D26","v":101},null,"THAI SAUCE",75,{"$f":"+K26*H26","v":7575},{"$f":"+L26*C26","v":53.82236842105263}]
[{"$f":"+A26+1","v":16},"DH02 91102:MAMITE CHK",2E-3,{"$f":"VLOOKUP(B27,Summary!$B$30:$AK$464,5,FALSE)","v":156},null,null,null,{"$f":"+G27+D27","v":156},null,"MARMITE SAUCE ",80,{"$f":"+K27*H27","v":12480},{"$f":"+L27*C27","v":24.96}]
[{"$f":"+A27+1","v":17},"DH03 91103:KO PO CHK",1.5E-3,{"$f":"VLOOKUP(B28,Summary!$B$30:$AK$464,5,FALSE)","v":0},null,null,null,0,null,"KONG PO SAUCE",180,0,0]
[18,"DH04 91104:S&S CHK",{"$f":"0.38/200","v":1.9E-3},{"$f":"VLOOKUP(B29,Summary!$B$30:$AK$464,5,FALSE)","v":65},null,null,null,65,null,"SWEET & SOUR SAUCE",200,13000,24.7]
[19,"DH05 91105:BUTTER CHK",5.8999999999999999E-3,{"$f":"VLOOKUP(B30,Summary!$B$30:$AK$464,5,FALSE)","v":217},null,null,null,217,null,"BUTTER CREAM SAUCE",75,{"$f":"+K30*H30","v":16275},96.022499999999994]
[20,"DH06 91106:HK F.RICE",{"$f":"0.28/30","v":9.3333333333333341E-3},{"$f":"VLOOKUP(B31,Summary!$B$30:$AK$464,5,FALSE)","v":154},null,null,null,154,null,null,null,{"$f":"+K31*H31","v":0},0]
[21,"DH07 91107:SBL F.RICE",9.1000000000000004E-3,{"$f":"VLOOKUP(B32,Summary!$B$30:$AK$464,5,FALSE)","v":66},null,null,null,66,null,"SAMBAL (FRIED)SAUCE",30,1980,18.018000000000001]
[22,"DH08 91108:SBL F.MEE",9.1000000000000004E-3,{"$f":"VLOOKUP(B33,Summary!$B$30:$AK$464,5,FALSE)","v":19},null,null,null,19,null,"SAMBAL (FRIED)SAUCE",30,{"$f":"+K33*H33","v":570},5.1870000000000003]
[23,"DH09 91109:BP UDON",3.8999999999999998E-3,{"$f":"VLOOKUP(B34,Summary!$B$30:$AK$464,5,FALSE)","v":66},null,null,null,66,null,"BLACK PEPPER SAUCE (UDON)",70,{"$f":"+K34*H34","v":4620},18.018000000000001]
[24,"DH10 91110:NISSIN",{"$f":"0.7/80","v":8.7499999999999991E-3},{"$f":"VLOOKUP(B35,Summary!$B$30:$AK$464,5,FALSE)","v":49},null,null,null,49,null,null,null,{"$f":"+K35*H35","v":0},0]
[{"$f":"+A35+1","v":25},"DH11 91111:VEG RICE",{"$f":"0.28/90","v":3.1111111111111114E-3},{"$f":"VLOOKUP(B36,Summary!$B$30:$AK$464,5,FALSE)","v":25},null,null,null,25,null,null,null,0,0]
[{"$f":"+A36+1","v":26},"DH12 91112:NASI LEMAK",7.4000000000000003E-3,{"$f":"VLOOKUP(B37,Summary!$B$30:$AK$464,5,FALSE)","v":0},null,null,null,0,null,"SAMBAL SAUCE (NASI)",110,0,0]
[27,"DH13 91113:KUEY TEOW",9.1000000000000004E-3,{"$f":"VLOOKUP(B38,Summary!$B$30:$AK$464,5,FALSE)","v":0},null,null,null,0,null,"SAMBAL (FRIED)SAUCE",30,0,0]
[28,"DH14 91114:F.BALL MEE",{"$f":"0.75/130","v":5.7692307692307696E-3},{"$f":"VLOOKUP(B39,Summary!$B$30:$AK$464,5,FALSE)","v":0},null,null,null,0,null,null,null,0,0]
[{"$f":"+A39+1","v":29},"DH15 91115:CHK NOODLE",1.5E-3,{"$f":"VLOOKUP(B40,Summary!$B$30:$AK$464,5,FALSE)","v":57},null,null,null,57,null,"DRY NOODLE SAUCE",25,1425,2.1375000000000002]
[30,"DG01 91001:BP CHK CP",3.0000000000000001E-3,{"$f":"VLOOKUP(B41,Summary!$B$30:$AK$464,5,FALSE)","v":510},null,null,null,{"$f":"+G41+D41","v":510},null,"BLACK PEPPER SAUCE",90,{"$f":"+K41*H41","v":45900},137.70000000000002]
[31,"DH16 91116:MGL CHK",{"$f":"0.7/80","v":8.7499999999999991E-3},{"$f":"VLOOKUP(B42,Summary!$B$30:$AK$464,5,FALSE)","v":55},null,null,null,{"$f":"+G42+D42","v":55},null,"MONGOLIAN SAUCE",80,{"$f":"+K42*H42","v":4400}]
[32,"DG02 91002:GVY CHK CP",6.7999999999999996E-3,{"$f":"VLOOKUP(B43,Summary!$B$30:$AK$464,5,FALSE)","v":126},null,null,null,126,null,"GRAVY SAUCE",90,{"$f":"+K43*H43","v":11340},77.111999999999995]
[33,"DG03 91003:MSR CHK CP",{"$f":"0.27/38","v":7.1052631578947369E-3},{"$f":"VLOOKUP(B44,Summary!$B$30:$AK$464,5,FALSE)","v":535},null,null,null,535,null,"MUSHROOM SAUCE",90,{"$f":"+K44*H44","v":48150},342.11842105263156]
[34,"DG04 91004:CKN MARY",7.1052631578947369E-3,{"$f":"VLOOKUP(B45,Summary!$B$30:$AK$464,5,FALSE)","v":290},null,null,null,290,null,"DRESSING THOUSAND ISLAND",30,{"$f":"+K45*H45","v":8700},61.815789473684212]
[35,"DG05 91005:FISH&CHIP",1.24E-2,{"$f":"VLOOKUP(B46,Summary!$B$30:$AK$464,5,FALSE)","v":295},null,null,null,295,null,"TARTAR SAUCE",30,8850,109.74]
[36,"DG06 91006:SPAGHETTI",1.14E-2,{"$f":"VLOOKUP(B47,Summary!$B$30:$AK$464,5,FALSE)","v":232},null,null,null,232,null,"BOLOGNESE SAUCE",150,34800,396.72]
[37,"DG07 91007:CHK SALAD",{"$f":"0.7/65","v":1.0769230769230769E-2},{"$f":"VLOOKUP(B48,Summary!$B$30:$AK$464,5,FALSE)","v":87},null,null,null,87,null,"DRESSING THOUSAND ISLAND",65,5655,60.9]
[38,"DI01 91201:SFD STICK",{"$f":"0.27/38","v":7.1052631578947369E-3},{"$f":"VLOOKUP(B49,Summary!$B$30:$AK$464,5,FALSE)","v":1},null,null,null,1,null,"THAI SAUCE",38,38,0.27]
[39,"DI02 91202:FREN FRIES",{"$f":"0.13/30","v":4.3333333333333331E-3},{"$f":"VLOOKUP(B50,Summary!$B$30:$AK$464,5,FALSE)","v":30},null,null,null,30,null,"SAUCE CHILLI (KIMBALL)",30,900,3.9]
[40,"DI03 91203:GOLD MROOM",{"$f":"0.28/30","v":9.3333333333333341E-3},{"$f":"VLOOKUP(B51,Summary!$B$30:$AK$464,5,FALSE)","v":8},null,null,null,8,null,null,null,0,0]
[41,"DI04 91204:FISHBALL",4.3E-3,{"$f":"VLOOKUP(B52,Summary!$B$30:$AK$464,5,FALSE)","v":7},null,null,null,7,null,"SAUCE CHILLI (KIMBALL)",30,210,0.90300000000000002]
[42,"DI05 91205:RAINBOW RL",1.24E-2,{"$f":"VLOOKUP(B53,Summary!$B$30:$AK$464,5,FALSE)","v":0},null,null,null,0,null,"TARTAR SAUCE",38,0,0]
[43,"DI06 91206:SPRING RL",1.24E-2,{"$f":"VLOOKUP(B54,Summary!$B$30:$AK$464,5,FALSE)","v":6},null,null,null,6,null,"TARTAR SAUCE",30,180,2.2319999999999998]
[44,"DI07 91207:SAUSAGE",{"$f":"0.32/30","v":1.0666666666666666E-2},{"$f":"VLOOKUP(B55,Summary!$B$30:$AK$464,5,FALSE)","v":22},null,null,null,22,null,"SAUCE CHILLI (KIMBALL)",30,660,7.04]
[45,"DI10 91301:DUMPLING",{"$f":"0.2/30","v":6.6666666666666671E-3},{"$f":"VLOOKUP(B56,Summary!$B$30:$AK$464,5,FALSE)","v":0},null,null,null,0,null,null,null,0,0]
[46,"DI11 91302:NUGGET",{"$f":"0.2/30","v":6.6666666666666671E-3},{"$f":"VLOOKUP(B57,Summary!$B$30:$AK$464,5,FALSE)","v":43},null,null,null,43,null,"SAUCE CHILLI (KIMBALL)",30,1290,8.6000000000000014]
[47,"DI12 91303:CHK WING",{"$f":"0.2/30","v":6.6666666666666671E-3},{"$f":"VLOOKUP(B58,Summary!$B$30:$AK$464,5,FALSE)","v":57},null,null,null,57,null,"THAI SAUCE",38,2166,14.440000000000001]
[48,"DI13 91304:IKAN BILIS",9.1000000000000004E-3,{"$f":"VLOOKUP(B59,Summary!$B$30:$AK$464,5,FALSE)","v":6},null,null,null,6,null,"SAMBAL (FRIED)SAUCE",30,1770,16.106999999999999]
[49,"DI14 91305:THAI RL",{"$f":"0.2/30","v":6.6666666666666671E-3},{"$f":"VLOOKUP(B60,Summary!$B$30:$AK$464,5,FALSE)","v":6},null,null,null,6,null,"THAI SAUCE",38,{"$f":"+K60*H60","v":228},{"$f":"+L60*C60","v":1.52}]
[50,"DI16 91307:D/F C.WING",{"$f":"0.32/30","v":1.0666666666666666E-2},{"$f":"VLOOKUP(B61,Summary!$B$30:$AK$464,5,FALSE)","v":28},null,null,null,28,null,"SAUCE CHILLI (KIMBALL)",30,840,8.9599999999999991]
[51,"DI17 91308:C/CALAMARI",1.24E-2,{"$f":"VLOOKUP(B62,Summary!$B$30:$AK$464,5,FALSE)","v":17},null,null,null,17,null,"TARTAR SAUCE",30,510,6.3239999999999998]
[52,"DI18 91309:Mc O.RINGS",1.24E-2,{"$f":"VLOOKUP(B63,Summary!$B$30:$AK$464,5,FALSE)","v":8},null,null,null,8,null,"TARTAR SAUCE",30,{"$f":"+K63*H63","v":240},2.976]
[53,"DI19 91310:McSPIRAL.F",6.3E-3,{"$f":"VLOOKUP(B64,Summary!$B$30:$AK$464,5,FALSE)","v":18},null,null,null,18,null,"MAYONNAISE",30,540,3.4020000000000001]
[54,"DI20 91311Mc H/SMILES",6.3E-3,{"$f":"VLOOKUP(B65,Summary!$B$30:$AK$464,5,FALSE)","v":5},null,null,null,5,null,"MAYONNAISE",30,{"$f":"+K65*H65","v":150},{"$f":"+L65*C65","v":0.94500000000000006}]
[55,"DI21 91312:Mc HASH.B",6.3E-3,{"$f":"VLOOKUP(B66,Summary!$B$30:$AK$464,5,FALSE)","v":11},null,null,null,11,null,"MAYONNAISE",30,{"$f":"+K66*H66","v":330},{"$f":"+L66*C66","v":2.0790000000000002}]
[null,null,null,null,null,null,null,0,null,null,null,0,0]
[null,"SIDE ORDER",null,null,null,null,null,0]
[{"$f":"+A66+1","v":56},"DC01 1101:THAI CHK",{"$f":"0.27/38","v":7.1052631578947369E-3},{"$f":"VLOOKUP(B69,Summary!$B$30:$AK$464,5,FALSE)","v":53},null,null,null,53,null,"THAI SAUCE",75,{"$f":"+K69*H69","v":3975},{"$f":"+L69*C69","v":28.243421052631579}]
[{"$f":"+A69+1","v":57},"DC02 1102:MAMITE CHK",2E-3,{"$f":"VLOOKUP(B70,Summary!$B$30:$AK$464,5,FALSE)","v":70},null,null,null,70,null,"MARMITE SAUCE ",80,{"$f":"+K70*H70","v":5600},{"$f":"+L70*C70","v":11.200000000000001}]
[{"$f":"+A70+1","v":58},"DC03 1103:KO PO CHK",1.5E-3,{"$f":"VLOOKUP(B71,Summary!$B$30:$AK$464,5,FALSE)","v":0},null,null,null,0,null,"KONG PO SAUCE",180,0,0]
[59,"DC04 1104:S&S CHK",{"$f":"0.38/200","v":1.9E-3},{"$f":"VLOOKUP(B72,Summary!$B$30:$AK$464,5,FALSE)","v":21},null,null,null,21,null,"SWEET & SOUR SAUCE",200,4200,7.98]
[60,"DC05 1105:BUTTER CHK",5.8999999999999999E-3,{"$f":"VLOOKUP(B73,Summary!$B$30:$AK$464,5,FALSE)","v":105},null,null,null,105,null,"BUTTER CREAM SAUCE",75,{"$f":"+K73*H73","v":7875},46.462499999999999]
[61,"DC06 1106:HK F.RICE",{"$f":"0.28/30","v":9.3333333333333341E-3},{"$f":"VLOOKUP(B74,Summary!$B$30:$AK$464,5,FALSE)","v":60},null,null,null,60,null,null,null,{"$f":"+K74*H74","v":0},0]
[62,"DC07 1107:SBL F.RICE",9.1000000000000004E-3,{"$f":"VLOOKUP(B75,Summary!$B$30:$AK$464,5,FALSE)","v":38},null,null,null,38,null,"SAMBAL (FRIED)SAUCE",30,{"$f":"+K75*H75","v":1140},10.374000000000001]
[63,"DC08 1108:SBL F.MEE",9.1000000000000004E-3,{"$f":"VLOOKUP(B76,Summary!$B$30:$AK$464,5,FALSE)","v":8},null,null,null,8,null,"SAMBAL (FRIED)SAUCE",30,{"$f":"+K76*H76","v":240},2.1840000000000002]
[64,"DC09 1109:BP UDON",3.8999999999999998E-3,{"$f":"VLOOKUP(B77,Summary!$B$30:$AK$464,5,FALSE)","v":27},null,null,null,27,null,"BLACK PEPPER SAUCE (UDON)",70,{"$f":"+K77*H77","v":1890},7.3709999999999996]
[65,"DC10 1110:NISSIN",{"$f":"0.7/80","v":8.7499999999999991E-3},{"$f":"VLOOKUP(B78,Summary!$B$30:$AK$464,5,FALSE)","v":33},null,null,null,33,null,null,null,{"$f":"+K78*H78","v":0},0]
[66,"DC11 1111:VEG RICE",{"$f":"0.28/90","v":3.1111111111111114E-3},{"$f":"VLOOKUP(B79,Summary!$B$30:$AK$464,5,FALSE)","v":5},null,null,null,5,null,null,null,0,0]
[67,"DC12 1112:NASI LEMAK",7.4000000000000003E-3,{"$f":"VLOOKUP(B80,Summary!$B$30:$AK$464,5,FALSE)","v":0},null,null,null,0,null,"SAMBAL SAUCE (NASI)",110,0,0]
[68,"DC13 1113:KUEY TEOW",9.1000000000000004E-3,{"$f":"VLOOKUP(B81,Summary!$B$30:$AK$464,5,FALSE)","v":0},null,null,null,0,null,"SAMBAL (FRIED)SAUCE",30,0,0]
[69,"DC14 1114:F.BALL MEE",{"$f":"0.75/130","v":5.7692307692307696E-3},{"$f":"VLOOKUP(B82,Summary!$B$30:$AK$464,5,FALSE)","v":0},null,null,null,0,null,null,null,0,0]
[70,"DC15 1115:CHK NOODLE",1.5E-3,{"$f":"VLOOKUP(B83,Summary!$B$30:$AK$464,5,FALSE)","v":22},null,null,null,22,null,"DRY NOODLE SAUCE",25,550,0.82500000000000007]
[71,"DB01 1001:BP CKN CP",3.0000000000000001E-3,{"$f":"VLOOKUP(B84,Summary!$B$30:$AK$464,5,FALSE)","v":99},null,null,null,99,null,"BLACK PEPPER SAUCE",90,{"$f":"+K84*H84","v":8910},26.73]
[72,"DC16 1116:MGL CHICKEN",{"$f":"0.7/80","v":8.7499999999999991E-3},{"$f":"VLOOKUP(B85,Summary!$B$30:$AK$464,5,FALSE)","v":27},null,null,null,27,null,"MONGOLIAN SAUCE",80,{"$f":"+K85*H85","v":2160}]
[73,"DB02 1002:GVY CHK CP",6.7999999999999996E-3,{"$f":"VLOOKUP(B86,Summary!$B$30:$AK$464,5,FALSE)","v":24},null,null,null,24,null,"GRAVY SAUCE",90,{"$f":"+K86*H86","v":2160},{"$f":"+L86*C86","v":14.687999999999999}]
[74,"DB03 1003:MSR CKN CP",{"$f":"0.27/38","v":7.1052631578947369E-3},{"$f":"VLOOKUP(B87,Summary!$B$30:$AK$464,5,FALSE)","v":96},null,null,null,96,null,"MUSHROOM SAUCE",90,{"$f":"+K87*H87","v":8640},61.389473684210529]
[75,"DB04 1004:CKN MARY",7.1052631578947369E-3,{"$f":"VLOOKUP(B88,Summary!$B$30:$AK$464,5,FALSE)","v":41},null,null,null,41,null,"DRESSING THOUSAND ISLAND",30,1230,8.7394736842105267]
[76,"DB05 1005:FISH&CHIP",1.24E-2,{"$f":"VLOOKUP(B89,Summary!$B$30:$AK$464,5,FALSE)","v":38},null,null,null,38,null,"TARTAR SAUCE",30,1140,14.135999999999999]
[77,"DB06 1006:SPAGHETTI",1.14E-2,{"$f":"VLOOKUP(B90,Summary!$B$30:$AK$464,5,FALSE)","v":57},null,null,null,57,null,"BOLOGNESE SAUCE",150,8550,97.47]
[78,"DB07 1007:CHK SALAD",{"$f":"0.7/65","v":1.0769230769230769E-2},{"$f":"VLOOKUP(B91,Summary!$B$30:$AK$464,5,FALSE)","v":23},null,null,null,23,null,"DRESSING THOUSAND ISLAND",65,1495,16.099999999999998]
[79,"DD01 1201:SFD STICK",{"$f":"0.27/38","v":7.1052631578947369E-3},{"$f":"VLOOKUP(B92,Summary!$B$30:$AK$464,5,FALSE)","v":5},null,null,null,5,null,"THAI SAUCE",38,190,1.35]
[80,"DD02 1202:FREN FRIES",{"$f":"0.13/30","v":4.3333333333333331E-3},{"$f":"VLOOKUP(B93,Summary!$B$30:$AK$464,5,FALSE)","v":98},null,null,null,98,null,"SAUCE CHILLI (KIMBALL)",30,2940,12.74]
[81,"DD03 1203:GOLD MROOM",{"$f":"0.28/30","v":9.3333333333333341E-3},{"$f":"VLOOKUP(B94,Summary!$B$30:$AK$464,5,FALSE)","v":9},null,null,null,9,null,null,null,0,0]
[82,"DD04 1204:FISHBALL",4.3E-3,{"$f":"VLOOKUP(B95,Summary!$B$30:$AK$464,5,FALSE)","v":10},null,null,null,10,null,"SAUCE CHILLI (KIMBALL)",30,300,1.29]
[83,"DD05 1205:RAINBOW RL",1.24E-2,{"$f":"VLOOKUP(B96,Summary!$B$30:$AK$464,5,FALSE)","v":0},null,null,null,0,null,"TARTAR SAUCE",38,0,0]
[84,"DD06 1206:SPRING RL",1.24E-2,{"$f":"VLOOKUP(B97,Summary!$B$30:$AK$464,5,FALSE)","v":8},null,null,null,8,null,"TARTAR SAUCE",30,240,2.976]
[85,"DD07 1207:SAUSAGE",{"$f":"0.32/30","v":1.0666666666666666E-2},{"$f":"VLOOKUP(B98,Summary!$B$30:$AK$464,5,FALSE)","v":17},null,null,null,17,null,"SAUCE CHILLI (KIMBALL)",30,510,5.4399999999999995]
[86,"DD10 1301:DUMPLING",{"$f":"0.2/30","v":6.6666666666666671E-3},{"$f":"VLOOKUP(B99,Summary!$B$30:$AK$464,5,FALSE)","v":0},null,null,null,0,null,null,null,0,0]
[87,"DD11 1302:NUGGET",{"$f":"0.2/30","v":6.6666666666666671E-3},{"$f":"VLOOKUP(B100,Summary!$B$30:$AK$464,5,FALSE)","v":35},null,null,null,35,null,"SAUCE CHILLI (KIMBALL)",30,1050,7.0000000000000009]
[88,"DD12 1303:CHK WING",{"$f":"0.2/30","v":6.6666666666666671E-3},{"$f":"VLOOKUP(B101,Summary!$B$30:$AK$464,5,FALSE)","v":24},null,null,null,24,null,"THAI SAUCE",38,912,6.08]
[89,"DD13 1304:IKAN BILIS",9.1000000000000004E-3,{"$f":"VLOOKUP(B102,Summary!$B$30:$AK$464,5,FALSE)","v":8},null,null,null,8,null,"SAMBAL (FRIED)SAUCE",30,1770,16.106999999999999]
[90,"DD14 1305:THAI RL",{"$f":"0.2/30","v":6.6666666666666671E-3},{"$f":"VLOOKUP(B103,Summary!$B$30:$AK$464,5,FALSE)","v":5},null,null,null,5,null,"THAI SAUCE",38,{"$f":"+K103*H103","v":190},{"$f":"+L103*C103","v":1.2666666666666668}]
[91,"DD16 1307:D.F C/WING",{"$f":"0.32/30","v":1.0666666666666666E-2},{"$f":"VLOOKUP(B104,Summary!$B$30:$AK$464,5,FALSE)","v":18},null,null,null,18,null,"SAUCE CHILLI (KIMBALL)",30,540,5.76]
[92,"DD17 1308 C/CALAMARI",1.24E-2,{"$f":"VLOOKUP(B105,Summary!$B$30:$AK$464,5,FALSE)","v":6},null,null,null,6,null,"TARTAR SAUCE",30,180,2.2319999999999998]
[93,"DD18 1309 Mc C/O.RING",1.24E-2,{"$f":"VLOOKUP(B106,Summary!$B$30:$AK$464,5,FALSE)","v":6},null,null,null,{"$f":"+G106+D106","v":6},null,"TARTAR SAUCE",30,180,2.2319999999999998]
[94,"DD19 1310:Mc SPIRAL/F",6.3E-3,{"$f":"VLOOKUP(B107,Summary!$B$30:$AK$464,5,FALSE)","v":9},null,null,null,9,null,"MAYONNAISE",30,270,1.7010000000000001]
[95,"DD20 1311:Mc H/SMILES",6.3E-3,{"$f":"VLOOKUP(B108,Summary!$B$30:$AK$464,5,FALSE)","v":4},null,null,null,4,null,"MAYONNAISE",30,120,0.75600000000000001]
[96,"DD21 1312:Mc HASH BRW",6.3E-3,{"$f":"VLOOKUP(B109,Summary!$B$30:$AK$464,5,FALSE)","v":11},null,null,null,11,null,"MAYONNAISE",30,330,2.0790000000000002]