{"text_format":"1","workbook":"xlsx","n_sheets":7,"sheets":["Summary","Daily Log","K-LUNCH & K DINNER","SIDE ORDER & FOC","SAUCE USAGE","STOCK ANALYSIS","DAILY FOC"],"not_rendered":{"charts":0,"images":1,"macros":0,"external_links":1,"defined_names":10,"comments":0,"pivot_tables":0},"unopened":[],"bounds":{"document_bytes":16777216,"sheet_cells":100000,"rows_first":2000,"rows_last":500,"rows_between":2000,"halvings":0,"cell_chars":16384,"cell_head_chars":4096},"cells_cut":0,"cells_raw":0,"read":"whole","date_system":"1900"}

{"sheet":"Summary","index":0,"n_rows":378,"n_cols":37,"rows_kept":378,"cut":false,"hidden":false,"merged":[[374,1,374,2],[375,1,375,2],[372,1,372,2],[326,1,326,2],[5,2,5,3],[7,2,7,3],[9,2,9,3],[28,1,28,2]]}
[]
[]
[null,null,"SUMMARY OF PRODUCT SALES IN MONTH"]
[]
[]
[null,"OUTLET",{"$f":"MID(CELL(\"FILENAME\",$A$1),FIND(\"[\",CELL(\"FILENAME\",$A$1))+1,3)","v":"CCS"}]
[]
[null,"YEAR",{"$f":"MID(CELL(\"FILENAME\",$A$1),FIND(\"[\",CELL(\"FILENAME\",$A$1))+4,4)","v":"2013"}]
[]
[null,"MONTH",{"$f":"INDEX($C$12:$C$23,MID(CELL(\"FILENAME\",$A$1),FIND(\"[\",CELL(\"FILENAME\",$A$1))+8,2),1)","v":"MAY"}]
[]
[null,"MONTH","JANUARY"]
[null,null,"FEBRUARY"]
[null,null,"MARCH"]
[null,null,"APRIL"]
[null,null,"MAY"]
[null,null,"JUNE"]
[null,null,"JULY"]
[null,null,"AUGUST"]
[null,null,"SEPTEMBER"]
[null,null,"OCTOBER"]
[null,null,"NOVEMBER"]
[null,null,"DECEMBER"]
[]
[]
[null,"PRODUCT",null,"CATEGORY","QTY","QUANTITIES SOLD IN MONTH"]
[null,null,null,null,"PER","TOTAL",{"$f":"DATE(C8,MID(CELL(\"FILENAME\",$A$1),FIND(\"[\",CELL(\"FILENAME\",$A$1))+8,2),1)","v":"2013-05-01"},{"$f":"IFERROR(IF(MONTH(G27+1)<=MONTH($G$27),G27+1,\"\"),\"\")","v":"2013-05-02"},{"$f":"IFERROR(IF(MONTH(H27+1)<=MONTH($G$27),H27+1,\"\"),\"\")","v":"2013-05-03"},"2013-05-04","2013-05-05","2013-05-06","2013-05-07","2013-05-08","2013-05-09","2013-05-10","2013-05-11","2013-05-12","2013-05-13","2013-05-14","2013-05-15","2013-05-16","2013-05-17","2013-05-18","2013-05-19","2013-05-20","2013-05-21","2013-05-22","2013-05-23","2013-05-24","2013-05-25","2013-05-26","2013-05-27","2013-05-28","2013-05-29","2013-05-30","2013-05-31"]
[null,null,null,null,"ITEM"]
[]
[null,"BA01 K : 4BP",null,"BEER",12,{"$f":"SUM($G30:$AK30)","v":0},{"$f":"IFERROR($E30*SUMIF('Daily Log'!$B$18:$B$1017,$B30,'Daily Log'!$C$18:$C$1017),0)","v":0},{"$f":"IFERROR($E30*SUMIF('Daily Log'!$E$18:$E$1017,$B30,'Daily Log'!$F$18:$F$1017),0)","v":0},{"$f":"IFERROR($E30*SUMIF('Daily Log'!$H$18:$H$1017,$B30,'Daily Log'!$I$18:$I$1017),0)","v":0},{"$f":"IFERROR($E30*SUMIF('Daily Log'!$K$18:$K$1017,$B30,'Daily Log'!$L$18:$L$1017),0)","v":0},{"$f":"IFERROR($E30*SUMIF('Daily Log'!$N$18:$N$1017,$B30,'Daily Log'!$O$18:$O$1017),0)","v":0},{"$f":"IFERROR($E30*SUMIF('Daily Log'!#REF!,$B30,'Daily Log'!#REF!),0)","v":0},{"$f":"IFERROR($E30*SUMIF('Daily Log'!#REF!,$B30,'Daily Log'!#REF!),0)","v":0},{"$f":"IFERROR($E30*SUMIF('Daily Log'!#REF!,$B30,'Daily Log'!#REF!),0)","v":0},{"$f":"IFERROR($E30*SUMIF('Daily Log'!#REF!,$B30,'Daily Log'!#REF!),0)","v":0},{"$f":"IFERROR($E30*SUMIF('Daily Log'!#REF!,$B30,'Daily Log'!#REF!),0)","v":0},{"$f":"IFERROR($E30*SUMIF('Daily Log'!#REF!,$B30,'Daily Log'!#REF!),0)","v":0},{"$f":"IFERROR($E30*SUMIF('Daily Log'!#REF!,$B30,'Daily Log'!#REF!),0)","v":0},{"$f":"IFERROR($E30*SUMIF('Daily Log'!#REF!,$B30,'Daily Log'!#REF!),0)","v":0},{"$f":"IFERROR($E30*SUMIF('Daily Log'!#REF!,$B30,'Daily Log'!#REF!),0)","v":0},{"$f":"IFERROR($E30*SUMIF('Daily Log'!#REF!,$B30,'Daily Log'!#REF!),0)","v":0},{"$f":"IFERROR($E30*SUMIF('Daily Log'!#REF!,$B30,'Daily Log'!#REF!),0)","v":0},{"$f":"IFERROR($E30*SUMIF('Daily Log'!#REF!,$B30,'Daily Log'!#REF!),0)","v":0},{"$f":"IFERROR($E30*SUMIF('Daily Log'!#REF!,$B30,'Daily Log'!#REF!),0)","v":0},{"$f":"IFERROR($E30*SUMIF('Daily Log'!#REF!,$B30,'Daily Log'!#REF!),0)","v":0},{"$f":"IFERROR($E30*SUMIF('Daily Log'!#REF!,$B30,'Daily Log'!#REF!),0)","v":0},{"$f":"IFERROR($E30*SUMIF('Daily Log'!#REF!,$B30,'Daily Log'!#REF!),0)","v":0},{"$f":"IFERROR($E30*SUMIF('Daily Log'!#REF!,$B30,'Daily Log'!#REF!),0)","v":0},{"$f":"IFERROR($E30*SUMIF('Daily Log'!#REF!,$B30,'Daily Log'!#REF!),0)","v":0},{"$f":"IFERROR($E30*SUMIF('Daily Log'!#REF!,$B30,'Daily Log'!#REF!),0)","v":0},{"$f":"IFERROR($E30*SUMIF('Daily Log'!#REF!,$B30,'Daily Log'!#REF!),0)","v":0},{"$f":"IFERROR($E30*SUMIF('Daily Log'!#REF!,$B30,'Daily Log'!#REF!),0)","v":0},{"$f":"IFERROR($E30*SUMIF('Daily Log'!#REF!,$B30,'Daily Log'!#REF!),0)","v":0},{"$f":"IFERROR($E30*SUMIF('Daily Log'!#REF!,$B30,'Daily Log'!#REF!),0)","v":0},{"$f":"IFERROR($E30*SUMIF('Daily Log'!#REF!,$B30,'Daily Log'!#REF!),0)","v":0},{"$f":"IFERROR($E30*SUMIF('Daily Log'!#REF!,$B30,'Daily Log'!#REF!),0)","v":0},{"$f":"IFERROR($E30*SUMIF('Daily Log'!#REF!,$B30,'Daily Log'!#REF!),0)","v":0}]
[null,"BA02 H : 4BP",null,"BEER",12,48,{"$f":"IFERROR($E31*SUMIF('Daily Log'!$B$18:$B$1017,$B31,'Daily Log'!$C$18:$C$1017),0)","v":12},{"$f":"IFERROR($E31*SUMIF('Daily Log'!$E$18:$E$1017,$B31,'Daily Log'!$F$18:$F$1017),0)","v":0},{"$f":"IFERROR($E31*SUMIF('Daily Log'!$H$18:$H$1017,$B31,'Daily Log'!$I$18:$I$1017),0)","v":0},{"$f":"IFERROR($E31*SUMIF('Daily Log'!$K$18:$K$1017,$B31,'Daily Log'!$L$18:$L$1017),0)","v":0},{"$f":"IFERROR($E31*SUMIF('Daily Log'!$N$18:$N$1017,$B31,'Daily Log'!$O$18:$O$1017),0)","v":36},{"$f":"IFERROR($E31*SUMIF('Daily Log'!#REF!,$B31,'Daily Log'!#REF!),0)","v":0},{"$f":"IFERROR($E31*SUMIF('Daily Log'!#REF!,$B31,'Daily Log'!#REF!),0)","v":0},{"$f":"IFERROR($E31*SUMIF('Daily Log'!#REF!,$B31,'Daily Log'!#REF!),0)","v":0},{"$f":"IFERROR($E31*SUMIF('Daily Log'!#REF!,$B31,'Daily Log'!#REF!),0)","v":0},{"$f":"IFERROR($E31*SUMIF('Daily Log'!#REF!,$B31,'Daily Log'!#REF!),0)","v":0},{"$f":"IFERROR($E31*SUMIF('Daily Log'!#REF!,$B31,'Daily Log'!#REF!),0)","v":0},{"$f":"IFERROR($E31*SUMIF('Daily Log'!#REF!,$B31,'Daily Log'!#REF!),0)","v":0},{"$f":"IFERROR($E31*SUMIF('Daily Log'!#REF!,$B31,'Daily Log'!#REF!),0)","v":0},{"$f":"IFERROR($E31*SUMIF('Daily Log'!#REF!,$B31,'Daily Log'!#REF!),0)","v":0},{"$f":"IFERROR($E31*SUMIF('Daily Log'!#REF!,$B31,'Daily Log'!#REF!),0)","v":0},{"$f":"IFERROR($E31*SUMIF('Daily Log'!#REF!,$B31,'Daily Log'!#REF!),0)","v":0},{"$f":"IFERROR($E31*SUMIF('Daily Log'!#REF!,$B31,'Daily Log'!#REF!),0)","v":0},{"$f":"IFERROR($E31*SUMIF('Daily Log'!#REF!,$B31,'Daily Log'!#REF!),0)","v":0},{"$f":"IFERROR($E31*SUMIF('Daily Log'!#REF!,$B31,'Daily Log'!#REF!),0)","v":0},{"$f":"IFERROR($E31*SUMIF('Daily Log'!#REF!,$B31,'Daily Log'!#REF!),0)","v":0},{"$f":"IFERROR($E31*SUMIF('Daily Log'!#REF!,$B31,'Daily Log'!#REF!),0)","v":0},{"$f":"IFERROR($E31*SUMIF('Daily Log'!#REF!,$B31,'Daily Log'!#REF!),0)","v":0},{"$f":"IFERROR($E31*SUMIF('Daily Log'!#REF!,$B31,'Daily Log'!#REF!),0)","v":0},{"$f":"IFERROR($E31*SUMIF('Daily Log'!#REF!,$B31,'Daily Log'!#REF!),0)","v":0},{"$f":"IFERROR($E31*SUMIF('Daily Log'!#REF!,$B31,'Daily Log'!#REF!),0)","v":0},{"$f":"IFERROR($E31*SUMIF('Daily Log'!#REF!,$B31,'Daily Log'!#REF!),0)","v":0},{"$f":"IFERROR($E31*SUMIF('Daily Log'!#REF!,$B31,'Daily Log'!#REF!),0)","v":0},{"$f":"IFERROR($E31*SUMIF('Daily Log'!#REF!,$B31,'Daily Log'!#REF!),0)","v":0},{"$f":"IFERROR($E31*SUMIF('Daily Log'!#REF!,$B31,'Daily Log'!#REF!),0)","v":0},{"$f":"IFERROR($E31*SUMIF('Daily Log'!#REF!,$B31,'Daily Log'!#REF!),0)","v":0},{"$f":"IFERROR($E31*SUMIF('Daily Log'!#REF!,$B31,'Daily Log'!#REF!),0)","v":0}]
[null,"BA03 H : 4BP MEMBER",null,"BEER",12,0,{"$f":"IFERROR($E32*SUMIF('Daily Log'!$B$18:$B$1017,$B32,'Daily Log'!$C$18:$C$1017),0)","v":0},{"$f":"IFERROR($E32*SUMIF('Daily Log'!$E$18:$E$1017,$B32,'Daily Log'!$F$18:$F$1017),0)","v":0},{"$f":"IFERROR($E32*SUMIF('Daily Log'!$H$18:$H$1017,$B32,'Daily Log'!$I$18:$I$1017),0)","v":0},{"$f":"IFERROR($E32*SUMIF('Daily Log'!$K$18:$K$1017,$B32,'Daily Log'!$L$18:$L$1017),0)","v":0},{"$f":"IFERROR($E32*SUMIF('Daily Log'!$N$18:$N$1017,$B32,'Daily Log'!$O$18:$O$1017),0)","v":0},{"$f":"IFERROR($E32*SUMIF('Daily Log'!#REF!,$B32,'Daily Log'!#REF!),0)","v":0},{"$f":"IFERROR($E32*SUMIF('Daily Log'!#REF!,$B32,'Daily Log'!#REF!),0)","v":0},{"$f":"IFERROR($E32*SUMIF('Daily Log'!#REF!,$B32,'Daily Log'!#REF!),0)","v":0},{"$f":"IFERROR($E32*SUMIF('Daily Log'!#REF!,$B32,'Daily Log'!#REF!),0)","v":0},{"$f":"IFERROR($E32*SUMIF('Daily Log'!#REF!,$B32,'Daily Log'!#REF!),0)","v":0},{"$f":"IFERROR($E32*SUMIF('Daily Log'!#REF!,$B32,'Daily Log'!#REF!),0)","v":0},{"$f":"IFERROR($E32*SUMIF('Daily Log'!#REF!,$B32,'Daily Log'!#REF!),0)","v":0},{"$f":"IFERROR($E32*SUMIF('Daily Log'!#REF!,$B32,'Daily Log'!#REF!),0)","v":0},{"$f":"IFERROR($E32*SUMIF('Daily Log'!#REF!,$B32,'Daily Log'!#REF!),0)","v":0},{"$f":"IFERROR($E32*SUMIF('Daily Log'!#REF!,$B32,'Daily Log'!#REF!),0)","v":0},{"$f":"IFERROR($E32*SUMIF('Daily Log'!#REF!,$B32,'Daily Log'!#REF!),0)","v":0},{"$f":"IFERROR($E32*SUMIF('Daily Log'!#REF!,$B32,'Daily Log'!#REF!),0)","v":0},{"$f":"IFERROR($E32*SUMIF('Daily Log'!#REF!,$B32,'Daily Log'!#REF!),0)","v":0},{"$f":"IFERROR($E32*SUMIF('Daily Log'!#REF!,$B32,'Daily Log'!#REF!),0)","v":0},{"$f":"IFERROR($E32*SUMIF('Daily Log'!#REF!,$B32,'Daily Log'!#REF!),0)","v":0},{"$f":"IFERROR($E32*SUMIF('Daily Log'!#REF!,$B32,'Daily Log'!#REF!),0)","v":0},{"$f":"IFERROR($E32*SUMIF('Daily Log'!#REF!,$B32,'Daily Log'!#REF!),0)","v":0},{"$f":"IFERROR($E32*SUMIF('Daily Log'!#REF!,$B32,'Daily Log'!#REF!),0)","v":0},{"$f":"IFERROR($E32*SUMIF('Daily Log'!#REF!,$B32,'Daily Log'!#REF!),0)","v":0},{"$f":"IFERROR($E32*SUMIF('Daily Log'!#REF!,$B32,'Daily Log'!#REF!),0)","v":0},{"$f":"IFERROR($E32*SUMIF('Daily Log'!#REF!,$B32,'Daily Log'!#REF!),0)","v":0},{"$f":"IFERROR($E32*SUMIF('Daily Log'!#REF!,$B32,'Daily Log'!#REF!),0)","v":0},{"$f":"IFERROR($E32*SUMIF('Daily Log'!#REF!,$B32,'Daily Log'!#REF!),0)","v":0},{"$f":"IFERROR($E32*SUMIF('Daily Log'!#REF!,$B32,'Daily Log'!#REF!),0)","v":0},{"$f":"IFERROR($E32*SUMIF('Daily Log'!#REF!,$B32,'Daily Log'!#REF!),0)","v":0},{"$f":"IFERROR($E32*SUMIF('Daily Log'!#REF!,$B32,'Daily Log'!#REF!),0)","v":0}]
[null,"BA04 N : 4BP",null,"BEER",12,144,{"$f":"IFERROR($E33*SUMIF('Daily Log'!$B$18:$B$1017,$B33,'Daily Log'!$C$18:$C$1017),0)","v":24},{"$f":"IFERROR($E33*SUMIF('Daily Log'!$E$18:$E$1017,$B33,'Daily Log'!$F$18:$F$1017),0)","v":36},{"$f":"IFERROR($E33*SUMIF('Daily Log'!$H$18:$H$1017,$B33,'Daily Log'!$I$18:$I$1017),0)","v":48},{"$f":"IFERROR($E33*SUMIF('Daily Log'!$K$18:$K$1017,$B33,'Daily Log'!$L$18:$L$1017),0)","v":24},{"$f":"IFERROR($E33*SUMIF('Daily Log'!$N$18:$N$1017,$B33,'Daily Log'!$O$18:$O$1017),0)","v":12},{"$f":"IFERROR($E33*SUMIF('Daily Log'!#REF!,$B33,'Daily Log'!#REF!),0)","v":0},{"$f":"IFERROR($E33*SUMIF('Daily Log'!#REF!,$B33,'Daily Log'!#REF!),0)","v":0},{"$f":"IFERROR($E33*SUMIF('Daily Log'!#REF!,$B33,'Daily Log'!#REF!),0)","v":0},{"$f":"IFERROR($E33*SUMIF('Daily Log'!#REF!,$B33,'Daily Log'!#REF!),0)","v":0},{"$f":"IFERROR($E33*SUMIF('Daily Log'!#REF!,$B33,'Daily Log'!#REF!),0)","v":0},{"$f":"IFERROR($E33*SUMIF('Daily Log'!#REF!,$B33,'Daily Log'!#REF!),0)","v":0},{"$f":"IFERROR($E33*SUMIF('Daily Log'!#REF!,$B33,'Daily Log'!#REF!),0)","v":0},{"$f":"IFERROR($E33*SUMIF('Daily Log'!#REF!,$B33,'Daily Log'!#REF!),0)","v":0},{"$f":"IFERROR($E33*SUMIF('Daily Log'!#REF!,$B33,'Daily Log'!#REF!),0)","v":0},{"$f":"IFERROR($E33*SUMIF('Daily Log'!#REF!,$B33,'Daily Log'!#REF!),0)","v":0},{"$f":"IFERROR($E33*SUMIF('Daily Log'!#REF!,$B33,'Daily Log'!#REF!),0)","v":0},{"$f":"IFERROR($E33*SUMIF('Daily Log'!#REF!,$B33,'Daily Log'!#REF!),0)","v":0},{"$f":"IFERROR($E33*SUMIF('Daily Log'!#REF!,$B33,'Daily Log'!#REF!),0)","v":0},{"$f":"IFERROR($E33*SUMIF('Daily Log'!#REF!,$B33,'Daily Log'!#REF!),0)","v":0},{"$f":"IFERROR($E33*SUMIF('Daily Log'!#REF!,$B33,'Daily Log'!#REF!),0)","v":0},{"$f":"IFERROR($E33*SUMIF('Daily Log'!#REF!,$B33,'Daily Log'!#REF!),0)","v":0},{"$f":"IFERROR($E33*SUMIF('Daily Log'!#REF!,$B33,'Daily Log'!#REF!),0)","v":0},{"$f":"IFERROR($E33*SUMIF('Daily Log'!#REF!,$B33,'Daily Log'!#REF!),0)","v":0},{"$f":"IFERROR($E33*SUMIF('Daily Log'!#REF!,$B33,'Daily Log'!#REF!),0)","v":0},{"$f":"IFERROR($E33*SUMIF('Daily Log'!#REF!,$B33,'Daily Log'!#REF!),0)","v":0},{"$f":"IFERROR($E33*SUMIF('Daily Log'!#REF!,$B33,'Daily Log'!#REF!),0)","v":0},{"$f":"IFERROR($E33*SUMIF('Daily Log'!#REF!,$B33,'Daily Log'!#REF!),0)","v":0},{"$f":"IFERROR($E33*SUMIF('Daily Log'!#REF!,$B33,'Daily Log'!#REF!),0)","v":0},{"$f":"IFERROR($E33*SUMIF('Daily Log'!#REF!,$B33,'Daily Log'!#REF!),0)","v":0},{"$f":"IFERROR($E33*SUMIF('Daily Log'!#REF!,$B33,'Daily Log'!#REF!),0)","v":0},{"$f":"IFERROR($E33*SUMIF('Daily Log'!#REF!,$B33,'Daily Log'!#REF!),0)","v":0}]
[null,"BA05 N : 4BP MEMBER",null,"BEER",12,0,{"$f":"IFERROR($E34*SUMIF('Daily Log'!$B$18:$B$1017,$B34,'Daily Log'!$C$18:$C$1017),0)","v":0},{"$f":"IFERROR($E34*SUMIF('Daily Log'!$E$18:$E$1017,$B34,'Daily Log'!$F$18:$F$1017),0)","v":0},{"$f":"IFERROR($E34*SUMIF('Daily Log'!$H$18:$H$1017,$B34,'Daily Log'!$I$18:$I$1017),0)","v":0},{"$f":"IFERROR($E34*SUMIF('Daily Log'!$K$18:$K$1017,$B34,'Daily Log'!$L$18:$L$1017),0)","v":0},{"$f":"IFERROR($E34*SUMIF('Daily Log'!$N$18:$N$1017,$B34,'Daily Log'!$O$18:$O$1017),0)","v":0},{"$f":"IFERROR($E34*SUMIF('Daily Log'!#REF!,$B34,'Daily Log'!#REF!),0)","v":0},{"$f":"IFERROR($E34*SUMIF('Daily Log'!#REF!,$B34,'Daily Log'!#REF!),0)","v":0},{"$f":"IFERROR($E34*SUMIF('Daily Log'!#REF!,$B34,'Daily Log'!#REF!),0)","v":0},{"$f":"IFERROR($E34*SUMIF('Daily Log'!#REF!,$B34,'Daily Log'!#REF!),0)","v":0},{"$f":"IFERROR($E34*SUMIF('Daily Log'!#REF!,$B34,'Daily Log'!#REF!),0)","v":0},{"$f":"IFERROR($E34*SUMIF('Daily Log'!#REF!,$B34,'Daily Log'!#REF!),0)","v":0},{"$f":"IFERROR($E34*SUMIF('Daily Log'!#REF!,$B34,'Daily Log'!#REF!),0)","v":0},{"$f":"IFERROR($E34*SUMIF('Daily Log'!#REF!,$B34,'Daily Log'!#REF!),0)","v":0},{"$f":"IFERROR($E34*SUMIF('Daily Log'!#REF!,$B34,'Daily Log'!#REF!),0)","v":0},{"$f":"IFERROR($E34*SUMIF('Daily Log'!#REF!,$B34,'Daily Log'!#REF!),0)","v":0},{"$f":"IFERROR($E34*SUMIF('Daily Log'!#REF!,$B34,'Daily Log'!#REF!),0)","v":0},{"$f":"IFERROR($E34*SUMIF('Daily Log'!#REF!,$B34,'Daily Log'!#REF!),0)","v":0},{"$f":"IFERROR($E34*SUMIF('Daily Log'!#REF!,$B34,'Daily Log'!#REF!),0)","v":0},{"$f":"IFERROR($E34*SUMIF('Daily Log'!#REF!,$B34,'Daily Log'!#REF!),0)","v":0},{"$f":"IFERROR($E34*SUMIF('Daily Log'!#REF!,$B34,'Daily Log'!#REF!),0)","v":0},{"$f":"IFERROR($E34*SUMIF('Daily Log'!#REF!,$B34,'Daily Log'!#REF!),0)","v":0},{"$f":"IFERROR($E34*SUMIF('Daily Log'!#REF!,$B34,'Daily Log'!#REF!),0)","v":0},{"$f":"IFERROR($E34*SUMIF('Daily Log'!#REF!,$B34,'Daily Log'!#REF!),0)","v":0},{"$f":"IFERROR($E34*SUMIF('Daily Log'!#REF!,$B34,'Daily Log'!#REF!),0)","v":0},{"$f":"IFERROR($E34*SUMIF('Daily Log'!#REF!,$B34,'Daily Log'!#REF!),0)","v":0},{"$f":"IFERROR($E34*SUMIF('Daily Log'!#REF!,$B34,'Daily Log'!#REF!),0)","v":0},{"$f":"IFERROR($E34*SUMIF('Daily Log'!#REF!,$B34,'Daily Log'!#REF!),0)","v":0},{"$f":"IFERROR($E34*SUMIF('Daily Log'!#REF!,$B34,'Daily Log'!#REF!),0)","v":0},{"$f":"IFERROR($E34*SUMIF('Daily Log'!#REF!,$B34,'Daily Log'!#REF!),0)","v":0},{"$f":"IFERROR($E34*SUMIF('Daily Log'!#REF!,$B34,'Daily Log'!#REF!),0)","v":0},{"$f":"IFERROR($E34*SUMIF('Daily Log'!#REF!,$B34,'Daily Log'!#REF!),0)","v":0}]
[null,"BA06 M : 4BP",null,"BEER",12,12,{"$f":"IFERROR($E35*SUMIF('Daily Log'!$B$18:$B$1017,$B35,'Daily Log'!$C$18:$C$1017),0)","v":0},{"$f":"IFERROR($E35*SUMIF('Daily Log'!$E$18:$E$1017,$B35,'Daily Log'!$F$18:$F$1017),0)","v":0},{"$f":"IFERROR($E35*SUMIF('Daily Log'!$H$18:$H$1017,$B35,'Daily Log'!$I$18:$I$1017),0)","v":0},{"$f":"IFERROR($E35*SUMIF('Daily Log'!$K$18:$K$1017,$B35,'Daily Log'!$L$18:$L$1017),0)","v":12},{"$f":"IFERROR($E35*SUMIF('Daily Log'!$N$18:$N$1017,$B35,'Daily Log'!$O$18:$O$1017),0)","v":0},{"$f":"IFERROR($E35*SUMIF('Daily Log'!#REF!,$B35,'Daily Log'!#REF!),0)","v":0},{"$f":"IFERROR($E35*SUMIF('Daily Log'!#REF!,$B35,'Daily Log'!#REF!),0)","v":0},{"$f":"IFERROR($E35*SUMIF('Daily Log'!#REF!,$B35,'Daily Log'!#REF!),0)","v":0},{"$f":"IFERROR($E35*SUMIF('Daily Log'!#REF!,$B35,'Daily Log'!#REF!),0)","v":0},{"$f":"IFERROR($E35*SUMIF('Daily Log'!#REF!,$B35,'Daily Log'!#REF!),0)","v":0},{"$f":"IFERROR($E35*SUMIF('Daily Log'!#REF!,$B35,'Daily Log'!#REF!),0)","v":0},{"$f":"IFERROR($E35*SUMIF('Daily Log'!#REF!,$B35,'Daily Log'!#REF!),0)","v":0},{"$f":"IFERROR($E35*SUMIF('Daily Log'!#REF!,$B35,'Daily Log'!#REF!),0)","v":0},{"$f":"IFERROR($E35*SUMIF('Daily Log'!#REF!,$B35,'Daily Log'!#REF!),0)","v":0},{"$f":"IFERROR($E35*SUMIF('Daily Log'!#REF!,$B35,'Daily Log'!#REF!),0)","v":0},{"$f":"IFERROR($E35*SUMIF('Daily Log'!#REF!,$B35,'Daily Log'!#REF!),0)","v":0},{"$f":"IFERROR($E35*SUMIF('Daily Log'!#REF!,$B35,'Daily Log'!#REF!),0)","v":0},{"$f":"IFERROR($E35*SUMIF('Daily Log'!#REF!,$B35,'Daily Log'!#REF!),0)","v":0},{"$f":"IFERROR($E35*SUMIF('Daily Log'!#REF!,$B35,'Daily Log'!#REF!),0)","v":0},{"$f":"IFERROR($E35*SUMIF('Daily Log'!#REF!,$B35,'Daily Log'!#REF!),0)","v":0},{"$f":"IFERROR($E35*SUMIF('Daily Log'!#REF!,$B35,'Daily Log'!#REF!),0)","v":0},{"$f":"IFERROR($E35*SUMIF('Daily Log'!#REF!,$B35,'Daily Log'!#REF!),0)","v":0},{"$f":"IFERROR($E35*SUMIF('Daily Log'!#REF!,$B35,'Daily Log'!#REF!),0)","v":0},{"$f":"IFERROR($E35*SUMIF('Daily Log'!#REF!,$B35,'Daily Log'!#REF!),0)","v":0},{"$f":"IFERROR($E35*SUMIF('Daily Log'!#REF!,$B35,'Daily Log'!#REF!),0)","v":0},{"$f":"IFERROR($E35*SUMIF('Daily Log'!#REF!,$B35,'Daily Log'!#REF!),0)","v":0},{"$f":"IFERROR($E35*SUMIF('Daily Log'!#REF!,$B35,'Daily Log'!#REF!),0)","v":0},{"$f":"IFERROR($E35*SUMIF('Daily Log'!#REF!,$B35,'Daily Log'!#REF!),0)","v":0},{"$f":"IFERROR($E35*SUMIF('Daily Log'!#REF!,$B35,'Daily Log'!#REF!),0)","v":0},{"$f":"IFERROR($E35*SUMIF('Daily Log'!#REF!,$B35,'Daily Log'!#REF!),0)","v":0},{"$f":"IFERROR($E35*SUMIF('Daily Log'!#REF!,$B35,'Daily Log'!#REF!),0)","v":0}]
[null,"BA07 M : 4BP MEMBER",null,"BEER",12,0,{"$f":"IFERROR($E36*SUMIF('Daily Log'!$B$18:$B$1017,$B36,'Daily Log'!$C$18:$C$1017),0)","v":0},{"$f":"IFERROR($E36*SUMIF('Daily Log'!$E$18:$E$1017,$B36,'Daily Log'!$F$18:$F$1017),0)","v":0},{"$f":"IFERROR($E36*SUMIF('Daily Log'!$H$18:$H$1017,$B36,'Daily Log'!$I$18:$I$1017),0)","v":0},{"$f":"IFERROR($E36*SUMIF('Daily Log'!$K$18:$K$1017,$B36,'Daily Log'!$L$18:$L$1017),0)","v":0},{"$f":"IFERROR($E36*SUMIF('Daily Log'!$N$18:$N$1017,$B36,'Daily Log'!$O$18:$O$1017),0)","v":0},{"$f":"IFERROR($E36*SUMIF('Daily Log'!#REF!,$B36,'Daily Log'!#REF!),0)","v":0},{"$f":"IFERROR($E36*SUMIF('Daily Log'!#REF!,$B36,'Daily Log'!#REF!),0)","v":0},{"$f":"IFERROR($E36*SUMIF('Daily Log'!#REF!,$B36,'Daily Log'!#REF!),0)","v":0},{"$f":"IFERROR($E36*SUMIF('Daily Log'!#REF!,$B36,'Daily Log'!#REF!),0)","v":0},{"$f":"IFERROR($E36*SUMIF('Daily Log'!#REF!,$B36,'Daily Log'!#REF!),0)","v":0},{"$f":"IFERROR($E36*SUMIF('Daily Log'!#REF!,$B36,'Daily Log'!#REF!),0)","v":0},{"$f":"IFERROR($E36*SUMIF('Daily Log'!#REF!,$B36,'Daily Log'!#REF!),0)","v":0},{"$f":"IFERROR($E36*SUMIF('Daily Log'!#REF!,$B36,'Daily Log'!#REF!),0)","v":0},{"$f":"IFERROR($E36*SUMIF('Daily Log'!#REF!,$B36,'Daily Log'!#REF!),0)","v":0},{"$f":"IFERROR($E36*SUMIF('Daily Log'!#REF!,$B36,'Daily Log'!#REF!),0)","v":0},{"$f":"IFERROR($E36*SUMIF('Daily Log'!#REF!,$B36,'Daily Log'!#REF!),0)","v":0},{"$f":"IFERROR($E36*SUMIF('Daily Log'!#REF!,$B36,'Daily Log'!#REF!),0)","v":0},{"$f":"IFERROR($E36*SUMIF('Daily Log'!#REF!,$B36,'Daily Log'!#REF!),0)","v":0},{"$f":"IFERROR($E36*SUMIF('Daily Log'!#REF!,$B36,'Daily Log'!#REF!),0)","v":0},{"$f":"IFERROR($E36*SUMIF('Daily Log'!#REF!,$B36,'Daily Log'!#REF!),0)","v":0},{"$f":"IFERROR($E36*SUMIF('Daily Log'!#REF!,$B36,'Daily Log'!#REF!),0)","v":0},{"$f":"IFERROR($E36*SUMIF('Daily Log'!#REF!,$B36,'Daily Log'!#REF!),0)","v":0},{"$f":"IFERROR($E36*SUMIF('Daily Log'!#REF!,$B36,'Daily Log'!#REF!),0)","v":0},{"$f":"IFERROR($E36*SUMIF('Daily Log'!#REF!,$B36,'Daily Log'!#REF!),0)","v":0},{"$f":"IFERROR($E36*SUMIF('Daily Log'!#REF!,$B36,'Daily Log'!#REF!),0)","v":0},{"$f":"IFERROR($E36*SUMIF('Daily Log'!#REF!,$B36,'Daily Log'!#REF!),0)","v":0},{"$f":"IFERROR($E36*SUMIF('Daily Log'!#REF!,$B36,'Daily Log'!#REF!),0)","v":0},{"$f":"IFERROR($E36*SUMIF('Daily Log'!#REF!,$B36,'Daily Log'!#REF!),0)","v":0},{"$f":"IFERROR($E36*SUMIF('Daily Log'!#REF!,$B36,'Daily Log'!#REF!),0)","v":0},{"$f":"IFERROR($E36*SUMIF('Daily Log'!#REF!,$B36,'Daily Log'!#REF!),0)","v":0},{"$f":"IFERROR($E36*SUMIF('Daily Log'!#REF!,$B36,'Daily Log'!#REF!),0)","v":0}]
[null,"BA08 GUINNESS BTL",null,"BEER",1,2,{"$f":"IFERROR($E37*SUMIF('Daily Log'!$B$18:$B$1017,$B37,'Daily Log'!$C$18:$C$1017),0)","v":2},{"$f":"IFERROR($E37*SUMIF('Daily Log'!$E$18:$E$1017,$B37,'Daily Log'!$F$18:$F$1017),0)","v":0},{"$f":"IFERROR($E37*SUMIF('Daily Log'!$H$18:$H$1017,$B37,'Daily Log'!$I$18:$I$1017),0)","v":0},{"$f":"IFERROR($E37*SUMIF('Daily Log'!$K$18:$K$1017,$B37,'Daily Log'!$L$18:$L$1017),0)","v":0},{"$f":"IFERROR($E37*SUMIF('Daily Log'!$N$18:$N$1017,$B37,'Daily Log'!$O$18:$O$1017),0)","v":0},{"$f":"IFERROR($E37*SUMIF('Daily Log'!#REF!,$B37,'Daily Log'!#REF!),0)","v":0},{"$f":"IFERROR($E37*SUMIF('Daily Log'!#REF!,$B37,'Daily Log'!#REF!),0)","v":0},{"$f":"IFERROR($E37*SUMIF('Daily Log'!#REF!,$B37,'Daily Log'!#REF!),0)","v":0},{"$f":"IFERROR($E37*SUMIF('Daily Log'!#REF!,$B37,'Daily Log'!#REF!),0)","v":0},{"$f":"IFERROR($E37*SUMIF('Daily Log'!#REF!,$B37,'Daily Log'!#REF!),0)","v":0},{"$f":"IFERROR($E37*SUMIF('Daily Log'!#REF!,$B37,'Daily Log'!#REF!),0)","v":0},{"$f":"IFERROR($E37*SUMIF('Daily Log'!#REF!,$B37,'Daily Log'!#REF!),0)","v":0},{"$f":"IFERROR($E37*SUMIF('Daily Log'!#REF!,$B37,'Daily Log'!#REF!),0)","v":0},{"$f":"IFERROR($E37*SUMIF('Daily Log'!#REF!,$B37,'Daily Log'!#REF!),0)","v":0},{"$f":"IFERROR($E37*SUMIF('Daily Log'!#REF!,$B37,'Daily Log'!#REF!),0)","v":0},{"$f":"IFERROR($E37*SUMIF('Daily Log'!#REF!,$B37,'Daily Log'!#REF!),0)","v":0},{"$f":"IFERROR($E37*SUMIF('Daily Log'!#REF!,$B37,'Daily Log'!#REF!),0)","v":0},{"$f":"IFERROR($E37*SUMIF('Daily Log'!#REF!,$B37,'Daily Log'!#REF!),0)","v":0},{"$f":"IFERROR($E37*SUMIF('Daily Log'!#REF!,$B37,'Daily Log'!#REF!),0)","v":0},{"$f":"IFERROR($E37*SUMIF('Daily Log'!#REF!,$B37,'Daily Log'!#REF!),0)","v":0},{"$f":"IFERROR($E37*SUMIF('Daily Log'!#REF!,$B37,'Daily Log'!#REF!),0)","v":0},{"$f":"IFERROR($E37*SUMIF('Daily Log'!#REF!,$B37,'Daily Log'!#REF!),0)","v":0},{"$f":"IFERROR($E37*SUMIF('Daily Log'!#REF!,$B37,'Daily Log'!#REF!),0)","v":0},{"$f":"IFERROR($E37*SUMIF('Daily Log'!#REF!,$B37,'Daily Log'!#REF!),0)","v":0},{"$f":"IFERROR($E37*SUMIF('Daily Log'!#REF!,$B37,'Daily Log'!#REF!),0)","v":0},{"$f":"IFERROR($E37*SUMIF('Daily Log'!#REF!,$B37,'Daily Log'!#REF!),0)","v":0},{"$f":"IFERROR($E37*SUMIF('Daily Log'!#REF!,$B37,'Daily Log'!#REF!),0)","v":0},{"$f":"IFERROR($E37*SUMIF('Daily Log'!#REF!,$B37,'Daily Log'!#REF!),0)","v":0},{"$f":"IFERROR($E37*SUMIF('Daily Log'!#REF!,$B37,'Daily Log'!#REF!),0)","v":0},{"$f":"IFERROR($E37*SUMIF('Daily Log'!#REF!,$B37,'Daily Log'!#REF!),0)","v":0},{"$f":"IFERROR($E37*SUMIF('Daily Log'!#REF!,$B37,'Daily Log'!#REF!),0)","v":0}]
[null,"BA09 GUINNESS BKT",null,"BEER",4,4,{"$f":"IFERROR($E38*SUMIF('Daily Log'!$B$18:$B$1017,$B38,'Daily Log'!$C$18:$C$1017),0)","v":0},{"$f":"IFERROR($E38*SUMIF('Daily Log'!$E$18:$E$1017,$B38,'Daily Log'!$F$18:$F$1017),0)","v":0},{"$f":"IFERROR($E38*SUMIF('Daily Log'!$H$18:$H$1017,$B38,'Daily Log'!$I$18:$I$1017),0)","v":4},{"$f":"IFERROR($E38*SUMIF('Daily Log'!$K$18:$K$1017,$B38,'Daily Log'!$L$18:$L$1017),0)","v":0},{"$f":"IFERROR($E38*SUMIF('Daily Log'!$N$18:$N$1017,$B38,'Daily Log'!$O$18:$O$1017),0)","v":0},{"$f":"IFERROR($E38*SUMIF('Daily Log'!#REF!,$B38,'Daily Log'!#REF!),0)","v":0},{"$f":"IFERROR($E38*SUMIF('Daily Log'!#REF!,$B38,'Daily Log'!#REF!),0)","v":0},{"$f":"IFERROR($E38*SUMIF('Daily Log'!#REF!,$B38,'Daily Log'!#REF!),0)","v":0},{"$f":"IFERROR($E38*SUMIF('Daily Log'!#REF!,$B38,'Daily Log'!#REF!),0)","v":0},{"$f":"IFERROR($E38*SUMIF('Daily Log'!#REF!,$B38,'Daily Log'!#REF!),0)","v":0},{"$f":"IFERROR($E38*SUMIF('Daily Log'!#REF!,$B38,'Daily Log'!#REF!),0)","v":0},{"$f":"IFERROR($E38*SUMIF('Daily Log'!#REF!,$B38,'Daily Log'!#REF!),0)","v":0},{"$f":"IFERROR($E38*SUMIF('Daily Log'!#REF!,$B38,'Daily Log'!#REF!),0)","v":0},{"$f":"IFERROR($E38*SUMIF('Daily Log'!#REF!,$B38,'Daily Log'!#REF!),0)","v":0},{"$f":"IFERROR($E38*SUMIF('Daily Log'!#REF!,$B38,'Daily Log'!#REF!),0)","v":0},{"$f":"IFERROR($E38*SUMIF('Daily Log'!#REF!,$B38,'Daily Log'!#REF!),0)","v":0},{"$f":"IFERROR($E38*SUMIF('Daily Log'!#REF!,$B38,'Daily Log'!#REF!),0)","v":0},{"$f":"IFERROR($E38*SUMIF('Daily Log'!#REF!,$B38,'Daily Log'!#REF!),0)","v":0},{"$f":"IFERROR($E38*SUMIF('Daily Log'!#REF!,$B38,'Daily Log'!#REF!),0)","v":0},{"$f":"IFERROR($E38*SUMIF('Daily Log'!#REF!,$B38,'Daily Log'!#REF!),0)","v":0},{"$f":"IFERROR($E38*SUMIF('Daily Log'!#REF!,$B38,'Daily Log'!#REF!),0)","v":0},{"$f":"IFERROR($E38*SUMIF('Daily Log'!#REF!,$B38,'Daily Log'!#REF!),0)","v":0},{"$f":"IFERROR($E38*SUMIF('Daily Log'!#REF!,$B38,'Daily Log'!#REF!),0)","v":0},{"$f":"IFERROR($E38*SUMIF('Daily Log'!#REF!,$B38,'Daily Log'!#REF!),0)","v":0},{"$f":"IFERROR($E38*SUMIF('Daily Log'!#REF!,$B38,'Daily Log'!#REF!),0)","v":0},{"$f":"IFERROR($E38*SUMIF('Daily Log'!#REF!,$B38,'Daily Log'!#REF!),0)","v":0},{"$f":"IFERROR($E38*SUMIF('Daily Log'!#REF!,$B38,'Daily Log'!#REF!),0)","v":0},{"$f":"IFERROR($E38*SUMIF('Daily Log'!#REF!,$B38,'Daily Log'!#REF!),0)","v":0},{"$f":"IFERROR($E38*SUMIF('Daily Log'!#REF!,$B38,'Daily Log'!#REF!),0)","v":0},{"$f":"IFERROR($E38*SUMIF('Daily Log'!#REF!,$B38,'Daily Log'!#REF!),0)","v":0},{"$f":"IFERROR($E38*SUMIF('Daily Log'!#REF!,$B38,'Daily Log'!#REF!),0)","v":0}]
[null,"BA10 GUINNESS RND",null,"BEER",12,0,{"$f":"IFERROR($E39*SUMIF('Daily Log'!$B$18:$B$1017,$B39,'Daily Log'!$C$18:$C$1017),0)","v":0},{"$f":"IFERROR($E39*SUMIF('Daily Log'!$E$18:$E$1017,$B39,'Daily Log'!$F$18:$F$1017),0)","v":0},{"$f":"IFERROR($E39*SUMIF('Daily Log'!$H$18:$H$1017,$B39,'Daily Log'!$I$18:$I$1017),0)","v":0},{"$f":"IFERROR($E39*SUMIF('Daily Log'!$K$18:$K$1017,$B39,'Daily Log'!$L$18:$L$1017),0)","v":0},{"$f":"IFERROR($E39*SUMIF('Daily Log'!$N$18:$N$1017,$B39,'Daily Log'!$O$18:$O$1017),0)","v":0},{"$f":"IFERROR($E39*SUMIF('Daily Log'!#REF!,$B39,'Daily Log'!#REF!),0)","v":0},{"$f":"IFERROR($E39*SUMIF('Daily Log'!#REF!,$B39,'Daily Log'!#REF!),0)","v":0},{"$f":"IFERROR($E39*SUMIF('Daily Log'!#REF!,$B39,'Daily Log'!#REF!),0)","v":0},{"$f":"IFERROR($E39*SUMIF('Daily Log'!#REF!,$B39,'Daily Log'!#REF!),0)","v":0},{"$f":"IFERROR($E39*SUMIF('Daily Log'!#REF!,$B39,'Daily Log'!#REF!),0)","v":0},{"$f":"IFERROR($E39*SUMIF('Daily Log'!#REF!,$B39,'Daily Log'!#REF!),0)","v":0},{"$f":"IFERROR($E39*SUMIF('Daily Log'!#REF!,$B39,'Daily Log'!#REF!),0)","v":0},{"$f":"IFERROR($E39*SUMIF('Daily Log'!#REF!,$B39,'Daily Log'!#REF!),0)","v":0},{"$f":"IFERROR($E39*SUMIF('Daily Log'!#REF!,$B39,'Daily Log'!#REF!),0)","v":0},{"$f":"IFERROR($E39*SUMIF('Daily Log'!#REF!,$B39,'Daily Log'!#REF!),0)","v":0},{"$f":"IFERROR($E39*SUMIF('Daily Log'!#REF!,$B39,'Daily Log'!#REF!),0)","v":0},{"$f":"IFERROR($E39*SUMIF('Daily Log'!#REF!,$B39,'Daily Log'!#REF!),0)","v":0},{"$f":"IFERROR($E39*SUMIF('Daily Log'!#REF!,$B39,'Daily Log'!#REF!),0)","v":0},{"$f":"IFERROR($E39*SUMIF('Daily Log'!#REF!,$B39,'Daily Log'!#REF!),0)","v":0},{"$f":"IFERROR($E39*SUMIF('Daily Log'!#REF!,$B39,'Daily Log'!#REF!),0)","v":0},{"$f":"IFERROR($E39*SUMIF('Daily Log'!#REF!,$B39,'Daily Log'!#REF!),0)","v":0},{"$f":"IFERROR($E39*SUMIF('Daily Log'!#REF!,$B39,'Daily Log'!#REF!),0)","v":0},{"$f":"IFERROR($E39*SUMIF('Daily Log'!#REF!,$B39,'Daily Log'!#REF!),0)","v":0},{"$f":"IFERROR($E39*SUMIF('Daily Log'!#REF!,$B39,'Daily Log'!#REF!),0)","v":0},{"$f":"IFERROR($E39*SUMIF('Daily Log'!#REF!,$B39,'Daily Log'!#REF!),0)","v":0},{"$f":"IFERROR($E39*SUMIF('Daily Log'!#REF!,$B39,'Daily Log'!#REF!),0)","v":0},{"$f":"IFERROR($E39*SUMIF('Daily Log'!#REF!,$B39,'Daily Log'!#REF!),0)","v":0},{"$f":"IFERROR($E39*SUMIF('Daily Log'!#REF!,$B39,'Daily Log'!#REF!),0)","v":0},{"$f":"IFERROR($E39*SUMIF('Daily Log'!#REF!,$B39,'Daily Log'!#REF!),0)","v":0},{"$f":"IFERROR($E39*SUMIF('Daily Log'!#REF!,$B39,'Daily Log'!#REF!),0)","v":0},{"$f":"IFERROR($E39*SUMIF('Daily Log'!#REF!,$B39,'Daily Log'!#REF!),0)","v":0}]
[null,"BA11 HEINEKEN BTL",null,"BEER",1,5,{"$f":"IFERROR($E40*SUMIF('Daily Log'!$B$18:$B$1017,$B40,'Daily Log'!$C$18:$C$1017),0)","v":1},{"$f":"IFERROR($E40*SUMIF('Daily Log'!$E$18:$E$1017,$B40,'Daily Log'!$F$18:$F$1017),0)","v":2},{"$f":"IFERROR($E40*SUMIF('Daily Log'!$H$18:$H$1017,$B40,'Daily Log'!$I$18:$I$1017),0)","v":0},{"$f":"IFERROR($E40*SUMIF('Daily Log'!$K$18:$K$1017,$B40,'Daily Log'!$L$18:$L$1017),0)","v":2},{"$f":"IFERROR($E40*SUMIF('Daily Log'!$N$18:$N$1017,$B40,'Daily Log'!$O$18:$O$1017),0)","v":0},{"$f":"IFERROR($E40*SUMIF('Daily Log'!#REF!,$B40,'Daily Log'!#REF!),0)","v":0},{"$f":"IFERROR($E40*SUMIF('Daily Log'!#REF!,$B40,'Daily Log'!#REF!),0)","v":0},{"$f":"IFERROR($E40*SUMIF('Daily Log'!#REF!,$B40,'Daily Log'!#REF!),0)","v":0},{"$f":"IFERROR($E40*SUMIF('Daily Log'!#REF!,$B40,'Daily Log'!#REF!),0)","v":0},{"$f":"IFERROR($E40*SUMIF('Daily Log'!#REF!,$B40,'Daily Log'!#REF!),0)","v":0},{"$f":"IFERROR($E40*SUMIF('Daily Log'!#REF!,$B40,'Daily Log'!#REF!),0)","v":0},{"$f":"IFERROR($E40*SUMIF('Daily Log'!#REF!,$B40,'Daily Log'!#REF!),0)","v":0},{"$f":"IFERROR($E40*SUMIF('Daily Log'!#REF!,$B40,'Daily Log'!#REF!),0)","v":0},{"$f":"IFERROR($E40*SUMIF('Daily Log'!#REF!,$B40,'Daily Log'!#REF!),0)","v":0},{"$f":"IFERROR($E40*SUMIF('Daily Log'!#REF!,$B40,'Daily Log'!#REF!),0)","v":0},{"$f":"IFERROR($E40*SUMIF('Daily Log'!#REF!,$B40,'Daily Log'!#REF!),0)","v":0},{"$f":"IFERROR($E40*SUMIF('Daily Log'!#REF!,$B40,'Daily Log'!#REF!),0)","v":0},{"$f":"IFERROR($E40*SUMIF('Daily Log'!#REF!,$B40,'Daily Log'!#REF!),0)","v":0},{"$f":"IFERROR($E40*SUMIF('Daily Log'!#REF!,$B40,'Daily Log'!#REF!),0)","v":0},{"$f":"IFERROR($E40*SUMIF('Daily Log'!#REF!,$B40,'Daily Log'!#REF!),0)","v":0},{"$f":"IFERROR($E40*SUMIF('Daily Log'!#REF!,$B40,'Daily Log'!#REF!),0)","v":0},{"$f":"IFERROR($E40*SUMIF('Daily Log'!#REF!,$B40,'Daily Log'!#REF!),0)","v":0},{"$f":"IFERROR($E40*SUMIF('Daily Log'!#REF!,$B40,'Daily Log'!#REF!),0)","v":0},{"$f":"IFERROR($E40*SUMIF('Daily Log'!#REF!,$B40,'Daily Log'!#REF!),0)","v":0},{"$f":"IFERROR($E40*SUMIF('Daily Log'!#REF!,$B40,'Daily Log'!#REF!),0)","v":0},{"$f":"IFERROR($E40*SUMIF('Daily Log'!#REF!,$B40,'Daily Log'!#REF!),0)","v":0},{"$f":"IFERROR($E40*SUMIF('Daily Log'!#REF!,$B40,'Daily Log'!#REF!),0)","v":0},{"$f":"IFERROR($E40*SUMIF('Daily Log'!#REF!,$B40,'Daily Log'!#REF!),0)","v":0},{"$f":"IFERROR($E40*SUMIF('Daily Log'!#REF!,$B40,'Daily Log'!#REF!),0)","v":0},{"$f":"IFERROR($E40*SUMIF('Daily Log'!#REF!,$B40,'Daily Log'!#REF!),0)","v":0},{"$f":"IFERROR($E40*SUMIF('Daily Log'!#REF!,$B40,'Daily Log'!#REF!),0)","v":0}]
[null,"BA12 HEINEKEN BKT",null,"BEER",4,8,{"$f":"IFERROR($E41*SUMIF('Daily Log'!$B$18:$B$1017,$B41,'Daily Log'!$C$18:$C$1017),0)","v":0},{"$f":"IFERROR($E41*SUMIF('Daily Log'!$E$18:$E$1017,$B41,'Daily Log'!$F$18:$F$1017),0)","v":0},{"$f":"IFERROR($E41*SUMIF('Daily Log'!$H$18:$H$1017,$B41,'Daily Log'!$I$18:$I$1017),0)","v":4},{"$f":"IFERROR($E41*SUMIF('Daily Log'!$K$18:$K$1017,$B41,'Daily Log'!$L$18:$L$1017),0)","v":4},{"$f":"IFERROR($E41*SUMIF('Daily Log'!$N$18:$N$1017,$B41,'Daily Log'!$O$18:$O$1017),0)","v":0},{"$f":"IFERROR($E41*SUMIF('Daily Log'!#REF!,$B41,'Daily Log'!#REF!),0)","v":0},{"$f":"IFERROR($E41*SUMIF('Daily Log'!#REF!,$B41,'Daily Log'!#REF!),0)","v":0},{"$f":"IFERROR($E41*SUMIF('Daily Log'!#REF!,$B41,'Daily Log'!#REF!),0)","v":0},{"$f":"IFERROR($E41*SUMIF('Daily Log'!#REF!,$B41,'Daily Log'!#REF!),0)","v":0},{"$f":"IFERROR($E41*SUMIF('Daily Log'!#REF!,$B41,'Daily Log'!#REF!),0)","v":0},{"$f":"IFERROR($E41*SUMIF('Daily Log'!#REF!,$B41,'Daily Log'!#REF!),0)","v":0},{"$f":"IFERROR($E41*SUMIF('Daily Log'!#REF!,$B41,'Daily Log'!#REF!),0)","v":0},{"$f":"IFERROR($E41*SUMIF('Daily Log'!#REF!,$B41,'Daily Log'!#REF!),0)","v":0},{"$f":"IFERROR($E41*SUMIF('Daily Log'!#REF!,$B41,'Daily Log'!#REF!),0)","v":0},{"$f":"IFERROR($E41*SUMIF('Daily Log'!#REF!,$B41,'Daily Log'!#REF!),0)","v":0},{"$f":"IFERROR($E41*SUMIF('Daily Log'!#REF!,$B41,'Daily Log'!#REF!),0)","v":0},{"$f":"IFERROR($E41*SUMIF('Daily Log'!#REF!,$B41,'Daily Log'!#REF!),0)","v":0},{"$f":"IFERROR($E41*SUMIF('Daily Log'!#REF!,$B41,'Daily Log'!#REF!),0)","v":0},{"$f":"IFERROR($E41*SUMIF('Daily Log'!#REF!,$B41,'Daily Log'!#REF!),0)","v":0},{"$f":"IFERROR($E41*SUMIF('Daily Log'!#REF!,$B41,'Daily Log'!#REF!),0)","v":0},{"$f":"IFERROR($E41*SUMIF('Daily Log'!#REF!,$B41,'Daily Log'!#REF!),0)","v":0},{"$f":"IFERROR($E41*SUMIF('Daily Log'!#REF!,$B41,'Daily Log'!#REF!),0)","v":0},{"$f":"IFERROR($E41*SUMIF('Daily Log'!#REF!,$B41,'Daily Log'!#REF!),0)","v":0},{"$f":"IFERROR($E41*SUMIF('Daily Log'!#REF!,$B41,'Daily Log'!#REF!),0)","v":0},{"$f":"IFERROR($E41*SUMIF('Daily Log'!#REF!,$B41,'Daily Log'!#REF!),0)","v":0},{"$f":"IFERROR($E41*SUMIF('Daily Log'!#REF!,$B41,'Daily Log'!#REF!),0)","v":0},{"$f":"IFERROR($E41*SUMIF('Daily Log'!#REF!,$B41,'Daily Log'!#REF!),0)","v":0},{"$f":"IFERROR($E41*SUMIF('Daily Log'!#REF!,$B41,'Daily Log'!#REF!),0)","v":0},{"$f":"IFERROR($E41*SUMIF('Daily Log'!#REF!,$B41,'Daily Log'!#REF!),0)","v":0},{"$f":"IFERROR($E41*SUMIF('Daily Log'!#REF!,$B41,'Daily Log'!#REF!),0)","v":0},{"$f":"IFERROR($E41*SUMIF('Daily Log'!#REF!,$B41,'Daily Log'!#REF!),0)","v":0}]
[null,"BA13 HEINEKEN RND",null,"BEER",12,12,{"$f":"IFERROR($E42*SUMIF('Daily Log'!$B$18:$B$1017,$B42,'Daily Log'!$C$18:$C$1017),0)","v":0},{"$f":"IFERROR($E42*SUMIF('Daily Log'!$E$18:$E$1017,$B42,'Daily Log'!$F$18:$F$1017),0)","v":0},{"$f":"IFERROR($E42*SUMIF('Daily Log'!$H$18:$H$1017,$B42,'Daily Log'!$I$18:$I$1017),0)","v":0},{"$f":"IFERROR($E42*SUMIF('Daily Log'!$K$18:$K$1017,$B42,'Daily Log'!$L$18:$L$1017),0)","v":12},{"$f":"IFERROR($E42*SUMIF('Daily Log'!$N$18:$N$1017,$B42,'Daily Log'!$O$18:$O$1017),0)","v":0},{"$f":"IFERROR($E42*SUMIF('Daily Log'!#REF!,$B42,'Daily Log'!#REF!),0)","v":0},{"$f":"IFERROR($E42*SUMIF('Daily Log'!#REF!,$B42,'Daily Log'!#REF!),0)","v":0},{"$f":"IFERROR($E42*SUMIF('Daily Log'!#REF!,$B42,'Daily Log'!#REF!),0)","v":0},{"$f":"IFERROR($E42*SUMIF('Daily Log'!#REF!,$B42,'Daily Log'!#REF!),0)","v":0},{"$f":"IFERROR($E42*SUMIF('Daily Log'!#REF!,$B42,'Daily Log'!#REF!),0)","v":0},{"$f":"IFERROR($E42*SUMIF('Daily Log'!#REF!,$B42,'Daily Log'!#REF!),0)","v":0},{"$f":"IFERROR($E42*SUMIF('Daily Log'!#REF!,$B42,'Daily Log'!#REF!),0)","v":0},{"$f":"IFERROR($E42*SUMIF('Daily Log'!#REF!,$B42,'Daily Log'!#REF!),0)","v":0},{"$f":"IFERROR($E42*SUMIF('Daily Log'!#REF!,$B42,'Daily Log'!#REF!),0)","v":0},{"$f":"IFERROR($E42*SUMIF('Daily Log'!#REF!,$B42,'Daily Log'!#REF!),0)","v":0},{"$f":"IFERROR($E42*SUMIF('Daily Log'!#REF!,$B42,'Daily Log'!#REF!),0)","v":0},{"$f":"IFERROR($E42*SUMIF('Daily Log'!#REF!,$B42,'Daily Log'!#REF!),0)","v":0},{"$f":"IFERROR($E42*SUMIF('Daily Log'!#REF!,$B42,'Daily Log'!#REF!),0)","v":0},{"$f":"IFERROR($E42*SUMIF('Daily Log'!#REF!,$B42,'Daily Log'!#REF!),0)","v":0},{"$f":"IFERROR($E42*SUMIF('Daily Log'!#REF!,$B42,'Daily Log'!#REF!),0)","v":0},{"$f":"IFERROR($E42*SUMIF('Daily Log'!#REF!,$B42,'Daily Log'!#REF!),0)","v":0},{"$f":"IFERROR($E42*SUMIF('Daily Log'!#REF!,$B42,'Daily Log'!#REF!),0)","v":0},{"$f":"IFERROR($E42*SUMIF('Daily Log'!#REF!,$B42,'Daily Log'!#REF!),0)","v":0},{"$f":"IFERROR($E42*SUMIF('Daily Log'!#REF!,$B42,'Daily Log'!#REF!),0)","v":0},{"$f":"IFERROR($E42*SUMIF('Daily Log'!#REF!,$B42,'Daily Log'!#REF!),0)","v":0},{"$f":"IFERROR($E42*SUMIF('Daily Log'!#REF!,$B42,'Daily Log'!#REF!),0)","v":0},{"$f":"IFERROR($E42*SUMIF('Daily Log'!#REF!,$B42,'Daily Log'!#REF!),0)","v":0},{"$f":"IFERROR($E42*SUMIF('Daily Log'!#REF!,$B42,'Daily Log'!#REF!),0)","v":0},{"$f":"IFERROR($E42*SUMIF('Daily Log'!#REF!,$B42,'Daily Log'!#REF!),0)","v":0},{"$f":"IFERROR($E42*SUMIF('Daily Log'!#REF!,$B42,'Daily Log'!#REF!),0)","v":0},{"$f":"IFERROR($E42*SUMIF('Daily Log'!#REF!,$B42,'Daily Log'!#REF!),0)","v":0}]
[null,"BA14 TIGER BTL",null,"BEER",1,6,{"$f":"IFERROR($E43*SUMIF('Daily Log'!$B$18:$B$1017,$B43,'Daily Log'!$C$18:$C$1017),0)","v":4},{"$f":"IFERROR($E43*SUMIF('Daily Log'!$E$18:$E$1017,$B43,'Daily Log'!$F$18:$F$1017),0)","v":0},{"$f":"IFERROR($E43*SUMIF('Daily Log'!$H$18:$H$1017,$B43,'Daily Log'!$I$18:$I$1017),0)","v":0},{"$f":"IFERROR($E43*SUMIF('Daily Log'!$K$18:$K$1017,$B43,'Daily Log'!$L$18:$L$1017),0)","v":1},{"$f":"IFERROR($E43*SUMIF('Daily Log'!$N$18:$N$1017,$B43,'Daily Log'!$O$18:$O$1017),0)","v":1},{"$f":"IFERROR($E43*SUMIF('Daily Log'!#REF!,$B43,'Daily Log'!#REF!),0)","v":0},{"$f":"IFERROR($E43*SUMIF('Daily Log'!#REF!,$B43,'Daily Log'!#REF!),0)","v":0},{"$f":"IFERROR($E43*SUMIF('Daily Log'!#REF!,$B43,'Daily Log'!#REF!),0)","v":0},{"$f":"IFERROR($E43*SUMIF('Daily Log'!#REF!,$B43,'Daily Log'!#REF!),0)","v":0},{"$f":"IFERROR($E43*SUMIF('Daily Log'!#REF!,$B43,'Daily Log'!#REF!),0)","v":0},{"$f":"IFERROR($E43*SUMIF('Daily Log'!#REF!,$B43,'Daily Log'!#REF!),0)","v":0},{"$f":"IFERROR($E43*SUMIF('Daily Log'!#REF!,$B43,'Daily Log'!#REF!),0)","v":0},{"$f":"IFERROR($E43*SUMIF('Daily Log'!#REF!,$B43,'Daily Log'!#REF!),0)","v":0},{"$f":"IFERROR($E43*SUMIF('Daily Log'!#REF!,$B43,'Daily Log'!#REF!),0)","v":0},{"$f":"IFERROR($E43*SUMIF('Daily Log'!#REF!,$B43,'Daily Log'!#REF!),0)","v":0},{"$f":"IFERROR($E43*SUMIF('Daily Log'!#REF!,$B43,'Daily Log'!#REF!),0)","v":0},{"$f":"IFERROR($E43*SUMIF('Daily Log'!#REF!,$B43,'Daily Log'!#REF!),0)","v":0},{"$f":"IFERROR($E43*SUMIF('Daily Log'!#REF!,$B43,'Daily Log'!#REF!),0)","v":0},{"$f":"IFERROR($E43*SUMIF('Daily Log'!#REF!,$B43,'Daily Log'!#REF!),0)","v":0},{"$f":"IFERROR($E43*SUMIF('Daily Log'!#REF!,$B43,'Daily Log'!#REF!),0)","v":0},{"$f":"IFERROR($E43*SUMIF('Daily Log'!#REF!,$B43,'Daily Log'!#REF!),0)","v":0},{"$f":"IFERROR($E43*SUMIF('Daily Log'!#REF!,$B43,'Daily Log'!#REF!),0)","v":0},{"$f":"IFERROR($E43*SUMIF('Daily Log'!#REF!,$B43,'Daily Log'!#REF!),0)","v":0},{"$f":"IFERROR($E43*SUMIF('Daily Log'!#REF!,$B43,'Daily Log'!#REF!),0)","v":0},{"$f":"IFERROR($E43*SUMIF('Daily Log'!#REF!,$B43,'Daily Log'!#REF!),0)","v":0},{"$f":"IFERROR($E43*SUMIF('Daily Log'!#REF!,$B43,'Daily Log'!#REF!),0)","v":0},{"$f":"IFERROR($E43*SUMIF('Daily Log'!#REF!,$B43,'Daily Log'!#REF!),0)","v":0},{"$f":"IFERROR($E43*SUMIF('Daily Log'!#REF!,$B43,'Daily Log'!#REF!),0)","v":0},{"$f":"IFERROR($E43*SUMIF('Daily Log'!#REF!,$B43,'Daily Log'!#REF!),0)","v":0},{"$f":"IFERROR($E43*SUMIF('Daily Log'!#REF!,$B43,'Daily Log'!#REF!),0)","v":0},{"$f":"IFERROR($E43*SUMIF('Daily Log'!#REF!,$B43,'Daily Log'!#REF!),0)","v":0}]
[null,"BA15 TIGER BKT",null,"BEER",4,40,{"$f":"IFERROR($E44*SUMIF('Daily Log'!$B$18:$B$1017,$B44,'Daily Log'!$C$18:$C$1017),0)","v":16},{"$f":"IFERROR($E44*SUMIF('Daily Log'!$E$18:$E$1017,$B44,'Daily Log'!$F$18:$F$1017),0)","v":8},{"$f":"IFERROR($E44*SUMIF('Daily Log'!$H$18:$H$1017,$B44,'Daily Log'!$I$18:$I$1017),0)","v":0},{"$f":"IFERROR($E44*SUMIF('Daily Log'!$K$18:$K$1017,$B44,'Daily Log'!$L$18:$L$1017),0)","v":4},{"$f":"IFERROR($E44*SUMIF('Daily Log'!$N$18:$N$1017,$B44,'Daily Log'!$O$18:$O$1017),0)","v":12},{"$f":"IFERROR($E44*SUMIF('Daily Log'!#REF!,$B44,'Daily Log'!#REF!),0)","v":0},{"$f":"IFERROR($E44*SUMIF('Daily Log'!#REF!,$B44,'Daily Log'!#REF!),0)","v":0},{"$f":"IFERROR($E44*SUMIF('Daily Log'!#REF!,$B44,'Daily Log'!#REF!),0)","v":0},{"$f":"IFERROR($E44*SUMIF('Daily Log'!#REF!,$B44,'Daily Log'!#REF!),0)","v":0},{"$f":"IFERROR($E44*SUMIF('Daily Log'!#REF!,$B44,'Daily Log'!#REF!),0)","v":0},{"$f":"IFERROR($E44*SUMIF('Daily Log'!#REF!,$B44,'Daily Log'!#REF!),0)","v":0},{"$f":"IFERROR($E44*SUMIF('Daily Log'!#REF!,$B44,'Daily Log'!#REF!),0)","v":0},{"$f":"IFERROR($E44*SUMIF('Daily Log'!#REF!,$B44,'Daily Log'!#REF!),0)","v":0},{"$f":"IFERROR($E44*SUMIF('Daily Log'!#REF!,$B44,'Daily Log'!#REF!),0)","v":0},{"$f":"IFERROR($E44*SUMIF('Daily Log'!#REF!,$B44,'Daily Log'!#REF!),0)","v":0},{"$f":"IFERROR($E44*SUMIF('Daily Log'!#REF!,$B44,'Daily Log'!#REF!),0)","v":0},{"$f":"IFERROR($E44*SUMIF('Daily Log'!#REF!,$B44,'Daily Log'!#REF!),0)","v":0},{"$f":"IFERROR($E44*SUMIF('Daily Log'!#REF!,$B44,'Daily Log'!#REF!),0)","v":0},{"$f":"IFERROR($E44*SUMIF('Daily Log'!#REF!,$B44,'Daily Log'!#REF!),0)","v":0},{"$f":"IFERROR($E44*SUMIF('Daily Log'!#REF!,$B44,'Daily Log'!#REF!),0)","v":0},{"$f":"IFERROR($E44*SUMIF('Daily Log'!#REF!,$B44,'Daily Log'!#REF!),0)","v":0},{"$f":"IFERROR($E44*SUMIF('Daily Log'!#REF!,$B44,'Daily Log'!#REF!),0)","v":0},{"$f":"IFERROR($E44*SUMIF('Daily Log'!#REF!,$B44,'Daily Log'!#REF!),0)","v":0},{"$f":"IFERROR($E44*SUMIF('Daily Log'!#REF!,$B44,'Daily Log'!#REF!),0)","v":0},{"$f":"IFERROR($E44*SUMIF('Daily Log'!#REF!,$B44,'Daily Log'!#REF!),0)","v":0},{"$f":"IFERROR($E44*SUMIF('Daily Log'!#REF!,$B44,'Daily Log'!#REF!),0)","v":0},{"$f":"IFERROR($E44*SUMIF('Daily Log'!#REF!,$B44,'Daily Log'!#REF!),0)","v":0},{"$f":"IFERROR($E44*SUMIF('Daily Log'!#REF!,$B44,'Daily Log'!#REF!),0)","v":0},{"$f":"IFERROR($E44*SUMIF('Daily Log'!#REF!,$B44,'Daily Log'!#REF!),0)","v":0},{"$f":"IFERROR($E44*SUMIF('Daily Log'!#REF!,$B44,'Daily Log'!#REF!),0)","v":0},{"$f":"IFERROR($E44*SUMIF('Daily Log'!#REF!,$B44,'Daily Log'!#REF!),0)","v":0}]
[null,"BA16 TIGER RND",null,"BEER",12,96,{"$f":"IFERROR($E45*SUMIF('Daily Log'!$B$18:$B$1017,$B45,'Daily Log'!$C$18:$C$1017),0)","v":12},{"$f":"IFERROR($E45*SUMIF('Daily Log'!$E$18:$E$1017,$B45,'Daily Log'!$F$18:$F$1017),0)","v":12},{"$f":"IFERROR($E45*SUMIF('Daily Log'!$H$18:$H$1017,$B45,'Daily Log'!$I$18:$I$1017),0)","v":24},{"$f":"IFERROR($E45*SUMIF('Daily Log'!$K$18:$K$1017,$B45,'Daily Log'!$L$18:$L$1017),0)","v":36},{"$f":"IFERROR($E45*SUMIF('Daily Log'!$N$18:$N$1017,$B45,'Daily Log'!$O$18:$O$1017),0)","v":12},{"$f":"IFERROR($E45*SUMIF('Daily Log'!#REF!,$B45,'Daily Log'!#REF!),0)","v":0},{"$f":"IFERROR($E45*SUMIF('Daily Log'!#REF!,$B45,'Daily Log'!#REF!),0)","v":0},{"$f":"IFERROR($E45*SUMIF('Daily Log'!#REF!,$B45,'Daily Log'!#REF!),0)","v":0},{"$f":"IFERROR($E45*SUMIF('Daily Log'!#REF!,$B45,'Daily Log'!#REF!),0)","v":0},{"$f":"IFERROR($E45*SUMIF('Daily Log'!#REF!,$B45,'Daily Log'!#REF!),0)","v":0},{"$f":"IFERROR($E45*SUMIF('Daily Log'!#REF!,$B45,'Daily Log'!#REF!),0)","v":0},{"$f":"IFERROR($E45*SUMIF('Daily Log'!#REF!,$B45,'Daily Log'!#REF!),0)","v":0},{"$f":"IFERROR($E45*SUMIF('Daily Log'!#REF!,$B45,'Daily Log'!#REF!),0)","v":0},{"$f":"IFERROR($E45*SUMIF('Daily Log'!#REF!,$B45,'Daily Log'!#REF!),0)","v":0},{"$f":"IFERROR($E45*SUMIF('Daily Log'!#REF!,$B45,'Daily Log'!#REF!),0)","v":0},{"$f":"IFERROR($E45*SUMIF('Daily Log'!#REF!,$B45,'Daily Log'!#REF!),0)","v":0},{"$f":"IFERROR($E45*SUMIF('Daily Log'!#REF!,$B45,'Daily Log'!#REF!),0)","v":0},{"$f":"IFERROR($E45*SUMIF('Daily Log'!#REF!,$B45,'Daily Log'!#REF!),0)","v":0},{"$f":"IFERROR($E45*SUMIF('Daily Log'!#REF!,$B45,'Daily Log'!#REF!),0)","v":0},{"$f":"IFERROR($E45*SUMIF('Daily Log'!#REF!,$B45,'Daily Log'!#REF!),0)","v":0},{"$f":"IFERROR($E45*SUMIF('Daily Log'!#REF!,$B45,'Daily Log'!#REF!),0)","v":0},{"$f":"IFERROR($E45*SUMIF('Daily Log'!#REF!,$B45,'Daily Log'!#REF!),0)","v":0},{"$f":"IFERROR($E45*SUMIF('Daily Log'!#REF!,$B45,'Daily Log'!#REF!),0)","v":0},{"$f":"IFERROR($E45*SUMIF('Daily Log'!#REF!,$B45,'Daily Log'!#REF!),0)","v":0},{"$f":"IFERROR($E45*SUMIF('Daily Log'!#REF!,$B45,'Daily Log'!#REF!),0)","v":0},{"$f":"IFERROR($E45*SUMIF('Daily Log'!#REF!,$B45,'Daily Log'!#REF!),0)","v":0},{"$f":"IFERROR($E45*SUMIF('Daily Log'!#REF!,$B45,'Daily Log'!#REF!),0)","v":0},{"$f":"IFERROR($E45*SUMIF('Daily Log'!#REF!,$B45,'Daily Log'!#REF!),0)","v":0},{"$f":"IFERROR($E45*SUMIF('Daily Log'!#REF!,$B45,'Daily Log'!#REF!),0)","v":0},{"$f":"IFERROR($E45*SUMIF('Daily Log'!#REF!,$B45,'Daily Log'!#REF!),0)","v":0},{"$f":"IFERROR($E45*SUMIF('Daily Log'!#REF!,$B45,'Daily Log'!#REF!),0)","v":0}]
[null,"BA17 TIGER 3+1",null,"BEER",0,0,{"$f":"IFERROR($E46*SUMIF('Daily Log'!$B$18:$B$1017,$B46,'Daily Log'!$C$18:$C$1017),0)","v":0},{"$f":"IFERROR($E46*SUMIF('Daily Log'!$E$18:$E$1017,$B46,'Daily Log'!$F$18:$F$1017),0)","v":0},{"$f":"IFERROR($E46*SUMIF('Daily Log'!$H$18:$H$1017,$B46,'Daily Log'!$I$18:$I$1017),0)","v":0},{"$f":"IFERROR($E46*SUMIF('Daily Log'!$K$18:$K$1017,$B46,'Daily Log'!$L$18:$L$1017),0)","v":0},{"$f":"IFERROR($E46*SUMIF('Daily Log'!$N$18:$N$1017,$B46,'Daily Log'!$O$18:$O$1017),0)","v":0},{"$f":"IFERROR($E46*SUMIF('Daily Log'!#REF!,$B46,'Daily Log'!#REF!),0)","v":0},{"$f":"IFERROR($E46*SUMIF('Daily Log'!#REF!,$B46,'Daily Log'!#REF!),0)","v":0},{"$f":"IFERROR($E46*SUMIF('Daily Log'!#REF!,$B46,'Daily Log'!#REF!),0)","v":0},{"$f":"IFERROR($E46*SUMIF('Daily Log'!#REF!,$B46,'Daily Log'!#REF!),0)","v":0},{"$f":"IFERROR($E46*SUMIF('Daily Log'!#REF!,$B46,'Daily Log'!#REF!),0)","v":0},{"$f":"IFERROR($E46*SUMIF('Daily Log'!#REF!,$B46,'Daily Log'!#REF!),0)","v":0},{"$f":"IFERROR($E46*SUMIF('Daily Log'!#REF!,$B46,'Daily Log'!#REF!),0)","v":0},{"$f":"IFERROR($E46*SUMIF('Daily Log'!#REF!,$B46,'Daily Log'!#REF!),0)","v":0},{"$f":"IFERROR($E46*SUMIF('Daily Log'!#REF!,$B46,'Daily Log'!#REF!),0)","v":0},{"$f":"IFERROR($E46*SUMIF('Daily Log'!#REF!,$B46,'Daily Log'!#REF!),0)","v":0},{"$f":"IFERROR($E46*SUMIF('Daily Log'!#REF!,$B46,'Daily Log'!#REF!),0)","v":0},{"$f":"IFERROR($E46*SUMIF('Daily Log'!#REF!,$B46,'Daily Log'!#REF!),0)","v":0},{"$f":"IFERROR($E46*SUMIF('Daily Log'!#REF!,$B46,'Daily Log'!#REF!),0)","v":0},{"$f":"IFERROR($E46*SUMIF('Daily Log'!#REF!,$B46,'Daily Log'!#REF!),0)","v":0},{"$f":"IFERROR($E46*SUMIF('Daily Log'!#REF!,$B46,'Daily Log'!#REF!),0)","v":0},{"$f":"IFERROR($E46*SUMIF('Daily Log'!#REF!,$B46,'Daily Log'!#REF!),0)","v":0},{"$f":"IFERROR($E46*SUMIF('Daily Log'!#REF!,$B46,'Daily Log'!#REF!),0)","v":0},{"$f":"IFERROR($E46*SUMIF('Daily Log'!#REF!,$B46,'Daily Log'!#REF!),0)","v":0},{"$f":"IFERROR($E46*SUMIF('Daily Log'!#REF!,$B46,'Daily Log'!#REF!),0)","v":0},{"$f":"IFERROR($E46*SUMIF('Daily Log'!#REF!,$B46,'Daily Log'!#REF!),0)","v":0},{"$f":"IFERROR($E46*SUMIF('Daily Log'!#REF!,$B46,'Daily Log'!#REF!),0)","v":0},{"$f":"IFERROR($E46*SUMIF('Daily Log'!#REF!,$B46,'Daily Log'!#REF!),0)","v":0},{"$f":"IFERROR($E46*SUMIF('Daily Log'!#REF!,$B46,'Daily Log'!#REF!),0)","v":0},{"$f":"IFERROR($E46*SUMIF('Daily Log'!#REF!,$B46,'Daily Log'!#REF!),0)","v":0},{"$f":"IFERROR($E46*SUMIF('Daily Log'!#REF!,$B46,'Daily Log'!#REF!),0)","v":0},{"$f":"IFERROR($E46*SUMIF('Daily Log'!#REF!,$B46,'Daily Log'!#REF!),0)","v":0}]
[null,"BA19 Tiger 2+1",null,"BEER",12,0,{"$f":"IFERROR($E47*SUMIF('Daily Log'!$B$18:$B$1017,$B47,'Daily Log'!$C$18:$C$1017),0)","v":0},{"$f":"IFERROR($E47*SUMIF('Daily Log'!$E$18:$E$1017,$B47,'Daily Log'!$F$18:$F$1017),0)","v":0},{"$f":"IFERROR($E47*SUMIF('Daily Log'!$H$18:$H$1017,$B47,'Daily Log'!$I$18:$I$1017),0)","v":0},{"$f":"IFERROR($E47*SUMIF('Daily Log'!$K$18:$K$1017,$B47,'Daily Log'!$L$18:$L$1017),0)","v":0},{"$f":"IFERROR($E47*SUMIF('Daily Log'!$N$18:$N$1017,$B47,'Daily Log'!$O$18:$O$1017),0)","v":0},{"$f":"IFERROR($E47*SUMIF('Daily Log'!#REF!,$B47,'Daily Log'!#REF!),0)","v":0},{"$f":"IFERROR($E47*SUMIF('Daily Log'!#REF!,$B47,'Daily Log'!#REF!),0)","v":0},{"$f":"IFERROR($E47*SUMIF('Daily Log'!#REF!,$B47,'Daily Log'!#REF!),0)","v":0},{"$f":"IFERROR($E47*SUMIF('Daily Log'!#REF!,$B47,'Daily Log'!#REF!),0)","v":0},{"$f":"IFERROR($E47*SUMIF('Daily Log'!#REF!,$B47,'Daily Log'!#REF!),0)","v":0},{"$f":"IFERROR($E47*SUMIF('Daily Log'!#REF!,$B47,'Daily Log'!#REF!),0)","v":0},{"$f":"IFERROR($E47*SUMIF('Daily Log'!#REF!,$B47,'Daily Log'!#REF!),0)","v":0},{"$f":"IFERROR($E47*SUMIF('Daily Log'!#REF!,$B47,'Daily Log'!#REF!),0)","v":0},{"$f":"IFERROR($E47*SUMIF('Daily Log'!#REF!,$B47,'Daily Log'!#REF!),0)","v":0},{"$f":"IFERROR($E47*SUMIF('Daily Log'!#REF!,$B47,'Daily Log'!#REF!),0)","v":0},{"$f":"IFERROR($E47*SUMIF('Daily Log'!#REF!,$B47,'Daily Log'!#REF!),0)","v":0},{"$f":"IFERROR($E47*SUMIF('Daily Log'!#REF!,$B47,'Daily Log'!#REF!),0)","v":0},{"$f":"IFERROR($E47*SUMIF('Daily Log'!#REF!,$B47,'Daily Log'!#REF!),0)","v":0},{"$f":"IFERROR($E47*SUMIF('Daily Log'!#REF!,$B47,'Daily Log'!#REF!),0)","v":0},{"$f":"IFERROR($E47*SUMIF('Daily Log'!#REF!,$B47,'Daily Log'!#REF!),0)","v":0},{"$f":"IFERROR($E47*SUMIF('Daily Log'!#REF!,$B47,'Daily Log'!#REF!),0)","v":0},{"$f":"IFERROR($E47*SUMIF('Daily Log'!#REF!,$B47,'Daily Log'!#REF!),0)","v":0},{"$f":"IFERROR($E47*SUMIF('Daily Log'!#REF!,$B47,'Daily Log'!#REF!),0)","v":0},{"$f":"IFERROR($E47*SUMIF('Daily Log'!#REF!,$B47,'Daily Log'!#REF!),0)","v":0},{"$f":"IFERROR($E47*SUMIF('Daily Log'!#REF!,$B47,'Daily Log'!#REF!),0)","v":0},{"$f":"IFERROR($E47*SUMIF('Daily Log'!#REF!,$B47,'Daily Log'!#REF!),0)","v":0},{"$f":"IFERROR($E47*SUMIF('Daily Log'!#REF!,$B47,'Daily Log'!#REF!),0)","v":0},{"$f":"IFERROR($E47*SUMIF('Daily Log'!#REF!,$B47,'Daily Log'!#REF!),0)","v":0},{"$f":"IFERROR($E47*SUMIF('Daily Log'!#REF!,$B47,'Daily Log'!#REF!),0)","v":0},{"$f":"IFERROR($E47*SUMIF('Daily Log'!#REF!,$B47,'Daily Log'!#REF!),0)","v":0},{"$f":"IFERROR($E47*SUMIF('Daily Log'!#REF!,$B47,'Daily Log'!#REF!),0)","v":0}]
[null,"BA20 Heineken 3+1",null,"BEER",16,48,{"$f":"IFERROR($E48*SUMIF('Daily Log'!$B$18:$B$1017,$B48,'Daily Log'!$C$18:$C$1017),0)","v":48},{"$f":"IFERROR($E48*SUMIF('Daily Log'!$E$18:$E$1017,$B48,'Daily Log'!$F$18:$F$1017),0)","v":0},{"$f":"IFERROR($E48*SUMIF('Daily Log'!$H$18:$H$1017,$B48,'Daily Log'!$I$18:$I$1017),0)","v":0},{"$f":"IFERROR($E48*SUMIF('Daily Log'!$K$18:$K$1017,$B48,'Daily Log'!$L$18:$L$1017),0)","v":0},{"$f":"IFERROR($E48*SUMIF('Daily Log'!$N$18:$N$1017,$B48,'Daily Log'!$O$18:$O$1017),0)","v":0},{"$f":"IFERROR($E48*SUMIF('Daily Log'!#REF!,$B48,'Daily Log'!#REF!),0)","v":0},{"$f":"IFERROR($E48*SUMIF('Daily Log'!#REF!,$B48,'Daily Log'!#REF!),0)","v":0},{"$f":"IFERROR($E48*SUMIF('Daily Log'!#REF!,$B48,'Daily Log'!#REF!),0)","v":0},{"$f":"IFERROR($E48*SUMIF('Daily Log'!#REF!,$B48,'Daily Log'!#REF!),0)","v":0},{"$f":"IFERROR($E48*SUMIF('Daily Log'!#REF!,$B48,'Daily Log'!#REF!),0)","v":0},{"$f":"IFERROR($E48*SUMIF('Daily Log'!#REF!,$B48,'Daily Log'!#REF!),0)","v":0},{"$f":"IFERROR($E48*SUMIF('Daily Log'!#REF!,$B48,'Daily Log'!#REF!),0)","v":0},{"$f":"IFERROR($E48*SUMIF('Daily Log'!#REF!,$B48,'Daily Log'!#REF!),0)","v":0},{"$f":"IFERROR($E48*SUMIF('Daily Log'!#REF!,$B48,'Daily Log'!#REF!),0)","v":0},{"$f":"IFERROR($E48*SUMIF('Daily Log'!#REF!,$B48,'Daily Log'!#REF!),0)","v":0},{"$f":"IFERROR($E48*SUMIF('Daily Log'!#REF!,$B48,'Daily Log'!#REF!),0)","v":0},{"$f":"IFERROR($E48*SUMIF('Daily Log'!#REF!,$B48,'Daily Log'!#REF!),0)","v":0},{"$f":"IFERROR($E48*SUMIF('Daily Log'!#REF!,$B48,'Daily Log'!#REF!),0)","v":0},{"$f":"IFERROR($E48*SUMIF('Daily Log'!#REF!,$B48,'Daily Log'!#REF!),0)","v":0},{"$f":"IFERROR($E48*SUMIF('Daily Log'!#REF!,$B48,'Daily Log'!#REF!),0)","v":0},{"$f":"IFERROR($E48*SUMIF('Daily Log'!#REF!,$B48,'Daily Log'!#REF!),0)","v":0},{"$f":"IFERROR($E48*SUMIF('Daily Log'!#REF!,$B48,'Daily Log'!#REF!),0)","v":0},{"$f":"IFERROR($E48*SUMIF('Daily Log'!#REF!,$B48,'Daily Log'!#REF!),0)","v":0},{"$f":"IFERROR($E48*SUMIF('Daily Log'!#REF!,$B48,'Daily Log'!#REF!),0)","v":0},{"$f":"IFERROR($E48*SUMIF('Daily Log'!#REF!,$B48,'Daily Log'!#REF!),0)","v":0},{"$f":"IFERROR($E48*SUMIF('Daily Log'!#REF!,$B48,'Daily Log'!#REF!),0)","v":0},{"$f":"IFERROR($E48*SUMIF('Daily Log'!#REF!,$B48,'Daily Log'!#REF!),0)","v":0},{"$f":"IFERROR($E48*SUMIF('Daily Log'!#REF!,$B48,'Daily Log'!#REF!),0)","v":0},{"$f":"IFERROR($E48*SUMIF('Daily Log'!#REF!,$B48,'Daily Log'!#REF!),0)","v":0},{"$f":"IFERROR($E48*SUMIF('Daily Log'!#REF!,$B48,'Daily Log'!#REF!),0)","v":0},{"$f":"IFERROR($E48*SUMIF('Daily Log'!#REF!,$B48,'Daily Log'!#REF!),0)","v":0}]
[null,"CA01 GRAPE J",null,"SIDE ORDER-JUICE",1,0,{"$f":"IFERROR($E49*SUMIF('Daily Log'!$B$18:$B$1017,$B49,'Daily Log'!$C$18:$C$1017),0)","v":0},{"$f":"IFERROR($E49*SUMIF('Daily Log'!$E$18:$E$1017,$B49,'Daily Log'!$F$18:$F$1017),0)","v":0},{"$f":"IFERROR($E49*SUMIF('Daily Log'!$H$18:$H$1017,$B49,'Daily Log'!$I$18:$I$1017),0)","v":0},{"$f":"IFERROR($E49*SUMIF('Daily Log'!$K$18:$K$1017,$B49,'Daily Log'!$L$18:$L$1017),0)","v":0},{"$f":"IFERROR($E49*SUMIF('Daily Log'!$N$18:$N$1017,$B49,'Daily Log'!$O$18:$O$1017),0)","v":0},{"$f":"IFERROR($E49*SUMIF('Daily Log'!#REF!,$B49,'Daily Log'!#REF!),0)","v":0},{"$f":"IFERROR($E49*SUMIF('Daily Log'!#REF!,$B49,'Daily Log'!#REF!),0)","v":0},{"$f":"IFERROR($E49*SUMIF('Daily Log'!#REF!,$B49,'Daily Log'!#REF!),0)","v":0},{"$f":"IFERROR($E49*SUMIF('Daily Log'!#REF!,$B49,'Daily Log'!#REF!),0)","v":0},{"$f":"IFERROR($E49*SUMIF('Daily Log'!#REF!,$B49,'Daily Log'!#REF!),0)","v":0},{"$f":"IFERROR($E49*SUMIF('Daily Log'!#REF!,$B49,'Daily Log'!#REF!),0)","v":0},{"$f":"IFERROR($E49*SUMIF('Daily Log'!#REF!,$B49,'Daily Log'!#REF!),0)","v":0},{"$f":"IFERROR($E49*SUMIF('Daily Log'!#REF!,$B49,'Daily Log'!#REF!),0)","v":0},{"$f":"IFERROR($E49*SUMIF('Daily Log'!#REF!,$B49,'Daily Log'!#REF!),0)","v":0},{"$f":"IFERROR($E49*SUMIF('Daily Log'!#REF!,$B49,'Daily Log'!#REF!),0)","v":0},{"$f":"IFERROR($E49*SUMIF('Daily Log'!#REF!,$B49,'Daily Log'!#REF!),0)","v":0},{"$f":"IFERROR($E49*SUMIF('Daily Log'!#REF!,$B49,'Daily Log'!#REF!),0)","v":0},{"$f":"IFERROR($E49*SUMIF('Daily Log'!#REF!,$B49,'Daily Log'!#REF!),0)","v":0},{"$f":"IFERROR($E49*SUMIF('Daily Log'!#REF!,$B49,'Daily Log'!#REF!),0)","v":0},{"$f":"IFERROR($E49*SUMIF('Daily Log'!#REF!,$B49,'Daily Log'!#REF!),0)","v":0},{"$f":"IFERROR($E49*SUMIF('Daily Log'!#REF!,$B49,'Daily Log'!#REF!),0)","v":0},{"$f":"IFERROR($E49*SUMIF('Daily Log'!#REF!,$B49,'Daily Log'!#REF!),0)","v":0},{"$f":"IFERROR($E49*SUMIF('Daily Log'!#REF!,$B49,'Daily Log'!#REF!),0)","v":0},{"$f":"IFERROR($E49*SUMIF('Daily Log'!#REF!,$B49,'Daily Log'!#REF!),0)","v":0},{"$f":"IFERROR($E49*SUMIF('Daily Log'!#REF!,$B49,'Daily Log'!#REF!),0)","v":0},{"$f":"IFERROR($E49*SUMIF('Daily Log'!#REF!,$B49,'Daily Log'!#REF!),0)","v":0},{"$f":"IFERROR($E49*SUMIF('Daily Log'!#REF!,$B49,'Daily Log'!#REF!),0)","v":0},{"$f":"IFERROR($E49*SUMIF('Daily Log'!#REF!,$B49,'Daily Log'!#REF!),0)","v":0},{"$f":"IFERROR($E49*SUMIF('Daily Log'!#REF!,$B49,'Daily Log'!#REF!),0)","v":0},{"$f":"IFERROR($E49*SUMIF('Daily Log'!#REF!,$B49,'Daily Log'!#REF!),0)","v":0},{"$f":"IFERROR($E49*SUMIF('Daily Log'!#REF!,$B49,'Daily Log'!#REF!),0)","v":0}]
[null,"CA02 APPLE J",null,"SIDE ORDER-JUICE",1,0,{"$f":"IFERROR($E50*SUMIF('Daily Log'!$B$18:$B$1017,$B50,'Daily Log'!$C$18:$C$1017),0)","v":0},{"$f":"IFERROR($E50*SUMIF('Daily Log'!$E$18:$E$1017,$B50,'Daily Log'!$F$18:$F$1017),0)","v":0},{"$f":"IFERROR($E50*SUMIF('Daily Log'!$H$18:$H$1017,$B50,'Daily Log'!$I$18:$I$1017),0)","v":0},{"$f":"IFERROR($E50*SUMIF('Daily Log'!$K$18:$K$1017,$B50,'Daily Log'!$L$18:$L$1017),0)","v":0},{"$f":"IFERROR($E50*SUMIF('Daily Log'!$N$18:$N$1017,$B50,'Daily Log'!$O$18:$O$1017),0)","v":0},{"$f":"IFERROR($E50*SUMIF('Daily Log'!#REF!,$B50,'Daily Log'!#REF!),0)","v":0},{"$f":"IFERROR($E50*SUMIF('Daily Log'!#REF!,$B50,'Daily Log'!#REF!),0)","v":0},{"$f":"IFERROR($E50*SUMIF('Daily Log'!#REF!,$B50,'Daily Log'!#REF!),0)","v":0},{"$f":"IFERROR($E50*SUMIF('Daily Log'!#REF!,$B50,'Daily Log'!#REF!),0)","v":0},{"$f":"IFERROR($E50*SUMIF('Daily Log'!#REF!,$B50,'Daily Log'!#REF!),0)","v":0},{"$f":"IFERROR($E50*SUMIF('Daily Log'!#REF!,$B50,'Daily Log'!#REF!),0)","v":0},{"$f":"IFERROR($E50*SUMIF('Daily Log'!#REF!,$B50,'Daily Log'!#REF!),0)","v":0},{"$f":"IFERROR($E50*SUMIF('Daily Log'!#REF!,$B50,'Daily Log'!#REF!),0)","v":0},{"$f":"IFERROR($E50*SUMIF('Daily Log'!#REF!,$B50,'Daily Log'!#REF!),0)","v":0},{"$f":"IFERROR($E50*SUMIF('Daily Log'!#REF!,$B50,'Daily Log'!#REF!),0)","v":0},{"$f":"IFERROR($E50*SUMIF('Daily Log'!#REF!,$B50,'Daily Log'!#REF!),0)","v":0},{"$f":"IFERROR($E50*SUMIF('Daily Log'!#REF!,$B50,'Daily Log'!#REF!),0)","v":0},{"$f":"IFERROR($E50*SUMIF('Daily Log'!#REF!,$B50,'Daily Log'!#REF!),0)","v":0},{"$f":"IFERROR($E50*SUMIF('Daily Log'!#REF!,$B50,'Daily Log'!#REF!),0)","v":0},{"$f":"IFERROR($E50*SUMIF('Daily Log'!#REF!,$B50,'Daily Log'!#REF!),0)","v":0},{"$f":"IFERROR($E50*SUMIF('Daily Log'!#REF!,$B50,'Daily Log'!#REF!),0)","v":0},{"$f":"IFERROR($E50*SUMIF('Daily Log'!#REF!,$B50,'Daily Log'!#REF!),0)","v":0},{"$f":"IFERROR($E50*SUMIF('Daily Log'!#REF!,$B50,'Daily Log'!#REF!),0)","v":0},{"$f":"IFERROR($E50*SUMIF('Daily Log'!#REF!,$B50,'Daily Log'!#REF!),0)","v":0},{"$f":"IFERROR($E50*SUMIF('Daily Log'!#REF!,$B50,'Daily Log'!#REF!),0)","v":0},{"$f":"IFERROR($E50*SUMIF('Daily Log'!#REF!,$B50,'Daily Log'!#REF!),0)","v":0},{"$f":"IFERROR($E50*SUMIF('Daily Log'!#REF!,$B50,'Daily Log'!#REF!),0)","v":0},{"$f":"IFERROR($E50*SUMIF('Daily Log'!#REF!,$B50,'Daily Log'!#REF!),0)","v":0},{"$f":"IFERROR($E50*SUMIF('Daily Log'!#REF!,$B50,'Daily Log'!#REF!),0)","v":0},{"$f":"IFERROR($E50*SUMIF('Daily Log'!#REF!,$B50,'Daily Log'!#REF!),0)","v":0},{"$f":"IFERROR($E50*SUMIF('Daily Log'!#REF!,$B50,'Daily Log'!#REF!),0)","v":0}]
[null,"CA03 KIWI J",null,"SIDE ORDER-JUICE",1,0,{"$f":"IFERROR($E51*SUMIF('Daily Log'!$B$18:$B$1017,$B51,'Daily Log'!$C$18:$C$1017),0)","v":0},{"$f":"IFERROR($E51*SUMIF('Daily Log'!$E$18:$E$1017,$B51,'Daily Log'!$F$18:$F$1017),0)","v":0},{"$f":"IFERROR($E51*SUMIF('Daily Log'!$H$18:$H$1017,$B51,'Daily Log'!$I$18:$I$1017),0)","v":0},{"$f":"IFERROR($E51*SUMIF('Daily Log'!$K$18:$K$1017,$B51,'Daily Log'!$L$18:$L$1017),0)","v":0},{"$f":"IFERROR($E51*SUMIF('Daily Log'!$N$18:$N$1017,$B51,'Daily Log'!$O$18:$O$1017),0)","v":0},{"$f":"IFERROR($E51*SUMIF('Daily Log'!#REF!,$B51,'Daily Log'!#REF!),0)","v":0},{"$f":"IFERROR($E51*SUMIF('Daily Log'!#REF!,$B51,'Daily Log'!#REF!),0)","v":0},{"$f":"IFERROR($E51*SUMIF('Daily Log'!#REF!,$B51,'Daily Log'!#REF!),0)","v":0},{"$f":"IFERROR($E51*SUMIF('Daily Log'!#REF!,$B51,'Daily Log'!#REF!),0)","v":0},{"$f":"IFERROR($E51*SUMIF('Daily Log'!#REF!,$B51,'Daily Log'!#REF!),0)","v":0},{"$f":"IFERROR($E51*SUMIF('Daily Log'!#REF!,$B51,'Daily Log'!#REF!),0)","v":0},{"$f":"IFERROR($E51*SUMIF('Daily Log'!#REF!,$B51,'Daily Log'!#REF!),0)","v":0},{"$f":"IFERROR($E51*SUMIF('Daily Log'!#REF!,$B51,'Daily Log'!#REF!),0)","v":0},{"$f":"IFERROR($E51*SUMIF('Daily Log'!#REF!,$B51,'Daily Log'!#REF!),0)","v":0},{"$f":"IFERROR($E51*SUMIF('Daily Log'!#REF!,$B51,'Daily Log'!#REF!),0)","v":0},{"$f":"IFERROR($E51*SUMIF('Daily Log'!#REF!,$B51,'Daily Log'!#REF!),0)","v":0},{"$f":"IFERROR($E51*SUMIF('Daily Log'!#REF!,$B51,'Daily Log'!#REF!),0)","v":0},{"$f":"IFERROR($E51*SUMIF('Daily Log'!#REF!,$B51,'Daily Log'!#REF!),0)","v":0},{"$f":"IFERROR($E51*SUMIF('Daily Log'!#REF!,$B51,'Daily Log'!#REF!),0)","v":0},{"$f":"IFERROR($E51*SUMIF('Daily Log'!#REF!,$B51,'Daily Log'!#REF!),0)","v":0},{"$f":"IFERROR($E51*SUMIF('Daily Log'!#REF!,$B51,'Daily Log'!#REF!),0)","v":0},{"$f":"IFERROR($E51*SUMIF('Daily Log'!#REF!,$B51,'Daily Log'!#REF!),0)","v":0},{"$f":"IFERROR($E51*SUMIF('Daily Log'!#REF!,$B51,'Daily Log'!#REF!),0)","v":0},{"$f":"IFERROR($E51*SUMIF('Daily Log'!#REF!,$B51,'Daily Log'!#REF!),0)","v":0},{"$f":"IFERROR($E51*SUMIF('Daily Log'!#REF!,$B51,'Daily Log'!#REF!),0)","v":0},{"$f":"IFERROR($E51*SUMIF('Daily Log'!#REF!,$B51,'Daily Log'!#REF!),0)","v":0},{"$f":"IFERROR($E51*SUMIF('Daily Log'!#REF!,$B51,'Daily Log'!#REF!),0)","v":0},{"$f":"IFERROR($E51*SUMIF('Daily Log'!#REF!,$B51,'Daily Log'!#REF!),0)","v":0},{"$f":"IFERROR($E51*SUMIF('Daily Log'!#REF!,$B51,'Daily Log'!#REF!),0)","v":0},{"$f":"IFERROR($E51*SUMIF('Daily Log'!#REF!,$B51,'Daily Log'!#REF!),0)","v":0},{"$f":"IFERROR($E51*SUMIF('Daily Log'!#REF!,$B51,'Daily Log'!#REF!),0)","v":0}]
[null,"CA04 MANGO J",null,"SIDE ORDER-JUICE",1,0,{"$f":"IFERROR($E52*SUMIF('Daily Log'!$B$18:$B$1017,$B52,'Daily Log'!$C$18:$C$1017),0)","v":0},{"$f":"IFERROR($E52*SUMIF('Daily Log'!$E$18:$E$1017,$B52,'Daily Log'!$F$18:$F$1017),0)","v":0},{"$f":"IFERROR($E52*SUMIF('Daily Log'!$H$18:$H$1017,$B52,'Daily Log'!$I$18:$I$1017),0)","v":0},{"$f":"IFERROR($E52*SUMIF('Daily Log'!$K$18:$K$1017,$B52,'Daily Log'!$L$18:$L$1017),0)","v":0},{"$f":"IFERROR($E52*SUMIF('Daily Log'!$N$18:$N$1017,$B52,'Daily Log'!$O$18:$O$1017),0)","v":0},{"$f":"IFERROR($E52*SUMIF('Daily Log'!#REF!,$B52,'Daily Log'!#REF!),0)","v":0},{"$f":"IFERROR($E52*SUMIF('Daily Log'!#REF!,$B52,'Daily Log'!#REF!),0)","v":0},{"$f":"IFERROR($E52*SUMIF('Daily Log'!#REF!,$B52,'Daily Log'!#REF!),0)","v":0},{"$f":"IFERROR($E52*SUMIF('Daily Log'!#REF!,$B52,'Daily Log'!#REF!),0)","v":0},{"$f":"IFERROR($E52*SUMIF('Daily Log'!#REF!,$B52,'Daily Log'!#REF!),0)","v":0},{"$f":"IFERROR($E52*SUMIF('Daily Log'!#REF!,$B52,'Daily Log'!#REF!),0)","v":0},{"$f":"IFERROR($E52*SUMIF('Daily Log'!#REF!,$B52,'Daily Log'!#REF!),0)","v":0},{"$f":"IFERROR($E52*SUMIF('Daily Log'!#REF!,$B52,'Daily Log'!#REF!),0)","v":0},{"$f":"IFERROR($E52*SUMIF('Daily Log'!#REF!,$B52,'Daily Log'!#REF!),0)","v":0},{"$f":"IFERROR($E52*SUMIF('Daily Log'!#REF!,$B52,'Daily Log'!#REF!),0)","v":0},{"$f":"IFERROR($E52*SUMIF('Daily Log'!#REF!,$B52,'Daily Log'!#REF!),0)","v":0},{"$f":"IFERROR($E52*SUMIF('Daily Log'!#REF!,$B52,'Daily Log'!#REF!),0)","v":0},{"$f":"IFERROR($E52*SUMIF('Daily Log'!#REF!,$B52,'Daily Log'!#REF!),0)","v":0},{"$f":"IFERROR($E52*SUMIF('Daily Log'!#REF!,$B52,'Daily Log'!#REF!),0)","v":0},{"$f":"IFERROR($E52*SUMIF('Daily Log'!#REF!,$B52,'Daily Log'!#REF!),0)","v":0},{"$f":"IFERROR($E52*SUMIF('Daily Log'!#REF!,$B52,'Daily Log'!#REF!),0)","v":0},{"$f":"IFERROR($E52*SUMIF('Daily Log'!#REF!,$B52,'Daily Log'!#REF!),0)","v":0},{"$f":"IFERROR($E52*SUMIF('Daily Log'!#REF!,$B52,'Daily Log'!#REF!),0)","v":0},{"$f":"IFERROR($E52*SUMIF('Daily Log'!#REF!,$B52,'Daily Log'!#REF!),0)","v":0},{"$f":"IFERROR($E52*SUMIF('Daily Log'!#REF!,$B52,'Daily Log'!#REF!),0)","v":0},{"$f":"IFERROR($E52*SUMIF('Daily Log'!#REF!,$B52,'Daily Log'!#REF!),0)","v":0},{"$f":"IFERROR($E52*SUMIF('Daily Log'!#REF!,$B52,'Daily Log'!#REF!),0)","v":0},{"$f":"IFERROR($E52*SUMIF('Daily Log'!#REF!,$B52,'Daily Log'!#REF!),0)","v":0},{"$f":"IFERROR($E52*SUMIF('Daily Log'!#REF!,$B52,'Daily Log'!#REF!),0)","v":0},{"$f":"IFERROR($E52*SUMIF('Daily Log'!#REF!,$B52,'Daily Log'!#REF!),0)","v":0},{"$f":"IFERROR($E52*SUMIF('Daily Log'!#REF!,$B52,'Daily Log'!#REF!),0)","v":0}]
[null,"CA05 PASSION J",null,"SIDE ORDER-JUICE",1,1,{"$f":"IFERROR($E53*SUMIF('Daily Log'!$B$18:$B$1017,$B53,'Daily Log'!$C$18:$C$1017),0)","v":0},{"$f":"IFERROR($E53*SUMIF('Daily Log'!$E$18:$E$1017,$B53,'Daily Log'!$F$18:$F$1017),0)","v":0},{"$f":"IFERROR($E53*SUMIF('Daily Log'!$H$18:$H$1017,$B53,'Daily Log'!$I$18:$I$1017),0)","v":0},{"$f":"IFERROR($E53*SUMIF('Daily Log'!$K$18:$K$1017,$B53,'Daily Log'!$L$18:$L$1017),0)","v":0},{"$f":"IFERROR($E53*SUMIF('Daily Log'!$N$18:$N$1017,$B53,'Daily Log'!$O$18:$O$1017),0)","v":1},{"$f":"IFERROR($E53*SUMIF('Daily Log'!#REF!,$B53,'Daily Log'!#REF!),0)","v":0},{"$f":"IFERROR($E53*SUMIF('Daily Log'!#REF!,$B53,'Daily Log'!#REF!),0)","v":0},{"$f":"IFERROR($E53*SUMIF('Daily Log'!#REF!,$B53,'Daily Log'!#REF!),0)","v":0},{"$f":"IFERROR($E53*SUMIF('Daily Log'!#REF!,$B53,'Daily Log'!#REF!),0)","v":0},{"$f":"IFERROR($E53*SUMIF('Daily Log'!#REF!,$B53,'Daily Log'!#REF!),0)","v":0},{"$f":"IFERROR($E53*SUMIF('Daily Log'!#REF!,$B53,'Daily Log'!#REF!),0)","v":0},{"$f":"IFERROR($E53*SUMIF('Daily Log'!#REF!,$B53,'Daily Log'!#REF!),0)","v":0},{"$f":"IFERROR($E53*SUMIF('Daily Log'!#REF!,$B53,'Daily Log'!#REF!),0)","v":0},{"$f":"IFERROR($E53*SUMIF('Daily Log'!#REF!,$B53,'Daily Log'!#REF!),0)","v":0},{"$f":"IFERROR($E53*SUMIF('Daily Log'!#REF!,$B53,'Daily Log'!#REF!),0)","v":0},{"$f":"IFERROR($E53*SUMIF('Daily Log'!#REF!,$B53,'Daily Log'!#REF!),0)","v":0},{"$f":"IFERROR($E53*SUMIF('Daily Log'!#REF!,$B53,'Daily Log'!#REF!),0)","v":0},{"$f":"IFERROR($E53*SUMIF('Daily Log'!#REF!,$B53,'Daily Log'!#REF!),0)","v":0},{"$f":"IFERROR($E53*SUMIF('Daily Log'!#REF!,$B53,'Daily Log'!#REF!),0)","v":0},{"$f":"IFERROR($E53*SUMIF('Daily Log'!#REF!,$B53,'Daily Log'!#REF!),0)","v":0},{"$f":"IFERROR($E53*SUMIF('Daily Log'!#REF!,$B53,'Daily Log'!#REF!),0)","v":0},{"$f":"IFERROR($E53*SUMIF('Daily Log'!#REF!,$B53,'Daily Log'!#REF!),0)","v":0},{"$f":"IFERROR($E53*SUMIF('Daily Log'!#REF!,$B53,'Daily Log'!#REF!),0)","v":0},{"$f":"IFERROR($E53*SUMIF('Daily Log'!#REF!,$B53,'Daily Log'!#REF!),0)","v":0},{"$f":"IFERROR($E53*SUMIF('Daily Log'!#REF!,$B53,'Daily Log'!#REF!),0)","v":0},{"$f":"IFERROR($E53*SUMIF('Daily Log'!#REF!,$B53,'Daily Log'!#REF!),0)","v":0},{"$f":"IFERROR($E53*SUMIF('Daily Log'!#REF!,$B53,'Daily Log'!#REF!),0)","v":0},{"$f":"IFERROR($E53*SUMIF('Daily Log'!#REF!,$B53,'Daily Log'!#REF!),0)","v":0},{"$f":"IFERROR($E53*SUMIF('Daily Log'!#REF!,$B53,'Daily Log'!#REF!),0)","v":0},{"$f":"IFERROR($E53*SUMIF('Daily Log'!#REF!,$B53,'Daily Log'!#REF!),0)","v":0},{"$f":"IFERROR($E53*SUMIF('Daily Log'!#REF!,$B53,'Daily Log'!#REF!),0)","v":0}]
[null,"CA06 RIBENA J",null,"SIDE ORDER-JUICE",1,0,{"$f":"IFERROR($E54*SUMIF('Daily Log'!$B$18:$B$1017,$B54,'Daily Log'!$C$18:$C$1017),0)","v":0},{"$f":"IFERROR($E54*SUMIF('Daily Log'!$E$18:$E$1017,$B54,'Daily Log'!$F$18:$F$1017),0)","v":0},{"$f":"IFERROR($E54*SUMIF('Daily Log'!$H$18:$H$1017,$B54,'Daily Log'!$I$18:$I$1017),0)","v":0},{"$f":"IFERROR($E54*SUMIF('Daily Log'!$K$18:$K$1017,$B54,'Daily Log'!$L$18:$L$1017),0)","v":0},{"$f":"IFERROR($E54*SUMIF('Daily Log'!$N$18:$N$1017,$B54,'Daily Log'!$O$18:$O$1017),0)","v":0},{"$f":"IFERROR($E54*SUMIF('Daily Log'!#REF!,$B54,'Daily Log'!#REF!),0)","v":0},{"$f":"IFERROR($E54*SUMIF('Daily Log'!#REF!,$B54,'Daily Log'!#REF!),0)","v":0},{"$f":"IFERROR($E54*SUMIF('Daily Log'!#REF!,$B54,'Daily Log'!#REF!),0)","v":0},{"$f":"IFERROR($E54*SUMIF('Daily Log'!#REF!,$B54,'Daily Log'!#REF!),0)","v":0},{"$f":"IFERROR($E54*SUMIF('Daily Log'!#REF!,$B54,'Daily Log'!#REF!),0)","v":0},{"$f":"IFERROR($E54*SUMIF('Daily Log'!#REF!,$B54,'Daily Log'!#REF!),0)","v":0},{"$f":"IFERROR($E54*SUMIF('Daily Log'!#REF!,$B54,'Daily Log'!#REF!),0)","v":0},{"$f":"IFERROR($E54*SUMIF('Daily Log'!#REF!,$B54,'Daily Log'!#REF!),0)","v":0},{"$f":"IFERROR($E54*SUMIF('Daily Log'!#REF!,$B54,'Daily Log'!#REF!),0)","v":0},{"$f":"IFERROR($E54*SUMIF('Daily Log'!#REF!,$B54,'Daily Log'!#REF!),0)","v":0},{"$f":"IFERROR($E54*SUMIF('Daily Log'!#REF!,$B54,'Daily Log'!#REF!),0)","v":0},{"$f":"IFERROR($E54*SUMIF('Daily Log'!#REF!,$B54,'Daily Log'!#REF!),0)","v":0},{"$f":"IFERROR($E54*SUMIF('Daily Log'!#REF!,$B54,'Daily Log'!#REF!),0)","v":0},{"$f":"IFERROR($E54*SUMIF('Daily Log'!#REF!,$B54,'Daily Log'!#REF!),0)","v":0},{"$f":"IFERROR($E54*SUMIF('Daily Log'!#REF!,$B54,'Daily Log'!#REF!),0)","v":0},{"$f":"IFERROR($E54*SUMIF('Daily Log'!#REF!,$B54,'Daily Log'!#REF!),0)","v":0},{"$f":"IFERROR($E54*SUMIF('Daily Log'!#REF!,$B54,'Daily Log'!#REF!),0)","v":0},{"$f":"IFERROR($E54*SUMIF('Daily Log'!#REF!,$B54,'Daily Log'!#REF!),0)","v":0},{"$f":"IFERROR($E54*SUMIF('Daily Log'!#REF!,$B54,'Daily Log'!#REF!),0)","v":0},{"$f":"IFERROR($E54*SUMIF('Daily Log'!#REF!,$B54,'Daily Log'!#REF!),0)","v":0},{"$f":"IFERROR($E54*SUMIF('Daily Log'!#REF!,$B54,'Daily Log'!#REF!),0)","v":0},{"$f":"IFERROR($E54*SUMIF('Daily Log'!#REF!,$B54,'Daily Log'!#REF!),0)","v":0},{"$f":"IFERROR($E54*SUMIF('Daily Log'!#REF!,$B54,'Daily Log'!#REF!),0)","v":0},{"$f":"IFERROR($E54*SUMIF('Daily Log'!#REF!,$B54,'Daily Log'!#REF!),0)","v":0},{"$f":"IFERROR($E54*SUMIF('Daily Log'!#REF!,$B54,'Daily Log'!#REF!),0)","v":0},{"$f":"IFERROR($E54*SUMIF('Daily Log'!#REF!,$B54,'Daily Log'!#REF!),0)","v":0}]
[null,"CB01 GRAPE SO",null,"SIDE ORDER-SODA",1,0,{"$f":"IFERROR($E55*SUMIF('Daily Log'!$B$18:$B$1017,$B55,'Daily Log'!$C$18:$C$1017),0)","v":0},{"$f":"IFERROR($E55*SUMIF('Daily Log'!$E$18:$E$1017,$B55,'Daily Log'!$F$18:$F$1017),0)","v":0},{"$f":"IFERROR($E55*SUMIF('Daily Log'!$H$18:$H$1017,$B55,'Daily Log'!$I$18:$I$1017),0)","v":0},{"$f":"IFERROR($E55*SUMIF('Daily Log'!$K$18:$K$1017,$B55,'Daily Log'!$L$18:$L$1017),0)","v":0},{"$f":"IFERROR($E55*SUMIF('Daily Log'!$N$18:$N$1017,$B55,'Daily Log'!$O$18:$O$1017),0)","v":0},{"$f":"IFERROR($E55*SUMIF('Daily Log'!#REF!,$B55,'Daily Log'!#REF!),0)","v":0},{"$f":"IFERROR($E55*SUMIF('Daily Log'!#REF!,$B55,'Daily Log'!#REF!),0)","v":0},{"$f":"IFERROR($E55*SUMIF('Daily Log'!#REF!,$B55,'Daily Log'!#REF!),0)","v":0},{"$f":"IFERROR($E55*SUMIF('Daily Log'!#REF!,$B55,'Daily Log'!#REF!),0)","v":0},{"$f":"IFERROR($E55*SUMIF('Daily Log'!#REF!,$B55,'Daily Log'!#REF!),0)","v":0},{"$f":"IFERROR($E55*SUMIF('Daily Log'!#REF!,$B55,'Daily Log'!#REF!),0)","v":0},{"$f":"IFERROR($E55*SUMIF('Daily Log'!#REF!,$B55,'Daily Log'!#REF!),0)","v":0},{"$f":"IFERROR($E55*SUMIF('Daily Log'!#REF!,$B55,'Daily Log'!#REF!),0)","v":0},{"$f":"IFERROR($E55*SUMIF('Daily Log'!#REF!,$B55,'Daily Log'!#REF!),0)","v":0},{"$f":"IFERROR($E55*SUMIF('Daily Log'!#REF!,$B55,'Daily Log'!#REF!),0)","v":0},{"$f":"IFERROR($E55*SUMIF('Daily Log'!#REF!,$B55,'Daily Log'!#REF!),0)","v":0},{"$f":"IFERROR($E55*SUMIF('Daily Log'!#REF!,$B55,'Daily Log'!#REF!),0)","v":0},{"$f":"IFERROR($E55*SUMIF('Daily Log'!#REF!,$B55,'Daily Log'!#REF!),0)","v":0},{"$f":"IFERROR($E55*SUMIF('Daily Log'!#REF!,$B55,'Daily Log'!#REF!),0)","v":0},{"$f":"IFERROR($E55*SUMIF('Daily Log'!#REF!,$B55,'Daily Log'!#REF!),0)","v":0},{"$f":"IFERROR($E55*SUMIF('Daily Log'!#REF!,$B55,'Daily Log'!#REF!),0)","v":0},{"$f":"IFERROR($E55*SUMIF('Daily Log'!#REF!,$B55,'Daily Log'!#REF!),0)","v":0},{"$f":"IFERROR($E55*SUMIF('Daily Log'!#REF!,$B55,'Daily Log'!#REF!),0)","v":0},{"$f":"IFERROR($E55*SUMIF('Daily Log'!#REF!,$B55,'Daily Log'!#REF!),0)","v":0},{"$f":"IFERROR($E55*SUMIF('Daily Log'!#REF!,$B55,'Daily Log'!#REF!),0)","v":0},{"$f":"IFERROR($E55*SUMIF('Daily Log'!#REF!,$B55,'Daily Log'!#REF!),0)","v":0},{"$f":"IFERROR($E55*SUMIF('Daily Log'!#REF!,$B55,'Daily Log'!#REF!),0)","v":0},{"$f":"IFERROR($E55*SUMIF('Daily Log'!#REF!,$B55,'Daily Log'!#REF!),0)","v":0},{"$f":"IFERROR($E55*SUMIF('Daily Log'!#REF!,$B55,'Daily Log'!#REF!),0)","v":0},{"$f":"IFERROR($E55*SUMIF('Daily Log'!#REF!,$B55,'Daily Log'!#REF!),0)","v":0},{"$f":"IFERROR($E55*SUMIF('Daily Log'!#REF!,$B55,'Daily Log'!#REF!),0)","v":0}]
[null,"CB02 APPLE SO",null,"SIDE ORDER-SODA",1,0,{"$f":"IFERROR($E56*SUMIF('Daily Log'!$B$18:$B$1017,$B56,'Daily Log'!$C$18:$C$1017),0)","v":0},{"$f":"IFERROR($E56*SUMIF('Daily Log'!$E$18:$E$1017,$B56,'Daily Log'!$F$18:$F$1017),0)","v":0},{"$f":"IFERROR($E56*SUMIF('Daily Log'!$H$18:$H$1017,$B56,'Daily Log'!$I$18:$I$1017),0)","v":0},{"$f":"IFERROR($E56*SUMIF('Daily Log'!$K$18:$K$1017,$B56,'Daily Log'!$L$18:$L$1017),0)","v":0},{"$f":"IFERROR($E56*SUMIF('Daily Log'!$N$18:$N$1017,$B56,'Daily Log'!$O$18:$O$1017),0)","v":0},{"$f":"IFERROR($E56*SUMIF('Daily Log'!#REF!,$B56,'Daily Log'!#REF!),0)","v":0},{"$f":"IFERROR($E56*SUMIF('Daily Log'!#REF!,$B56,'Daily Log'!#REF!),0)","v":0},{"$f":"IFERROR($E56*SUMIF('Daily Log'!#REF!,$B56,'Daily Log'!#REF!),0)","v":0},{"$f":"IFERROR($E56*SUMIF('Daily Log'!#REF!,$B56,'Daily Log'!#REF!),0)","v":0},{"$f":"IFERROR($E56*SUMIF('Daily Log'!#REF!,$B56,'Daily Log'!#REF!),0)","v":0},{"$f":"IFERROR($E56*SUMIF('Daily Log'!#REF!,$B56,'Daily Log'!#REF!),0)","v":0},{"$f":"IFERROR($E56*SUMIF('Daily Log'!#REF!,$B56,'Daily Log'!#REF!),0)","v":0},{"$f":"IFERROR($E56*SUMIF('Daily Log'!#REF!,$B56,'Daily Log'!#REF!),0)","v":0},{"$f":"IFERROR($E56*SUMIF('Daily Log'!#REF!,$B56,'Daily Log'!#REF!),0)","v":0},{"$f":"IFERROR($E56*SUMIF('Daily Log'!#REF!,$B56,'Daily Log'!#REF!),0)","v":0},{"$f":"IFERROR($E56*SUMIF('Daily Log'!#REF!,$B56,'Daily Log'!#REF!),0)","v":0},{"$f":"IFERROR($E56*SUMIF('Daily Log'!#REF!,$B56,'Daily Log'!#REF!),0)","v":0},{"$f":"IFERROR($E56*SUMIF('Daily Log'!#REF!,$B56,'Daily Log'!#REF!),0)","v":0},{"$f":"IFERROR($E56*SUMIF('Daily Log'!#REF!,$B56,'Daily Log'!#REF!),0)","v":0},{"$f":"IFERROR($E56*SUMIF('Daily Log'!#REF!,$B56,'Daily Log'!#REF!),0)","v":0},{"$f":"IFERROR($E56*SUMIF('Daily Log'!#REF!,$B56,'Daily Log'!#REF!),0)","v":0},{"$f":"IFERROR($E56*SUMIF('Daily Log'!#REF!,$B56,'Daily Log'!#REF!),0)","v":0},{"$f":"IFERROR($E56*SUMIF('Daily Log'!#REF!,$B56,'Daily Log'!#REF!),0)","v":0},{"$f":"IFERROR($E56*SUMIF('Daily Log'!#REF!,$B56,'Daily Log'!#REF!),0)","v":0},{"$f":"IFERROR($E56*SUMIF('Daily Log'!#REF!,$B56,'Daily Log'!#REF!),0)","v":0},{"$f":"IFERROR($E56*SUMIF('Daily Log'!#REF!,$B56,'Daily Log'!#REF!),0)","v":0},{"$f":"IFERROR($E56*SUMIF('Daily Log'!#REF!,$B56,'Daily Log'!#REF!),0)","v":0},{"$f":"IFERROR($E56*SUMIF('Daily Log'!#REF!,$B56,'Daily Log'!#REF!),0)","v":0},{"$f":"IFERROR($E56*SUMIF('Daily Log'!#REF!,$B56,'Daily Log'!#REF!),0)","v":0},{"$f":"IFERROR($E56*SUMIF('Daily Log'!#REF!,$B56,'Daily Log'!#REF!),0)","v":0},{"$f":"IFERROR($E56*SUMIF('Daily Log'!#REF!,$B56,'Daily Log'!#REF!),0)","v":0}]
[null,"CB03 KIWI SO",null,"SIDE ORDER-SODA",1,0,{"$f":"IFERROR($E57*SUMIF('Daily Log'!$B$18:$B$1017,$B57,'Daily Log'!$C$18:$C$1017),0)","v":0},{"$f":"IFERROR($E57*SUMIF('Daily Log'!$E$18:$E$1017,$B57,'Daily Log'!$F$18:$F$1017),0)","v":0},{"$f":"IFERROR($E57*SUMIF('Daily Log'!$H$18:$H$1017,$B57,'Daily Log'!$I$18:$I$1017),0)","v":0},{"$f":"IFERROR($E57*SUMIF('Daily Log'!$K$18:$K$1017,$B57,'Daily Log'!$L$18:$L$1017),0)","v":0},{"$f":"IFERROR($E57*SUMIF('Daily Log'!$N$18:$N$1017,$B57,'Daily Log'!$O$18:$O$1017),0)","v":0},{"$f":"IFERROR($E57*SUMIF('Daily Log'!#REF!,$B57,'Daily Log'!#REF!),0)","v":0},{"$f":"IFERROR($E57*SUMIF('Daily Log'!#REF!,$B57,'Daily Log'!#REF!),0)","v":0},{"$f":"IFERROR($E57*SUMIF('Daily Log'!#REF!,$B57,'Daily Log'!#REF!),0)","v":0},{"$f":"IFERROR($E57*SUMIF('Daily Log'!#REF!,$B57,'Daily Log'!#REF!),0)","v":0},{"$f":"IFERROR($E57*SUMIF('Daily Log'!#REF!,$B57,'Daily Log'!#REF!),0)","v":0},{"$f":"IFERROR($E57*SUMIF('Daily Log'!#REF!,$B57,'Daily Log'!#REF!),0)","v":0},{"$f":"IFERROR($E57*SUMIF('Daily Log'!#REF!,$B57,'Daily Log'!#REF!),0)","v":0},{"$f":"IFERROR($E57*SUMIF('Daily Log'!#REF!,$B57,'Daily Log'!#REF!),0)","v":0},{"$f":"IFERROR($E57*SUMIF('Daily Log'!#REF!,$B57,'Daily Log'!#REF!),0)","v":0},{"$f":"IFERROR($E57*SUMIF('Daily Log'!#REF!,$B57,'Daily Log'!#REF!),0)","v":0},{"$f":"IFERROR($E57*SUMIF('Daily Log'!#REF!,$B57,'Daily Log'!#REF!),0)","v":0},{"$f":"IFERROR($E57*SUMIF('Daily Log'!#REF!,$B57,'Daily Log'!#REF!),0)","v":0},{"$f":"IFERROR($E57*SUMIF('Daily Log'!#REF!,$B57,'Daily Log'!#REF!),0)","v":0},{"$f":"IFERROR($E57*SUMIF('Daily Log'!#REF!,$B57,'Daily Log'!#REF!),0)","v":0},{"$f":"IFERROR($E57*SUMIF('Daily Log'!#REF!,$B57,'Daily Log'!#REF!),0)","v":0},{"$f":"IFERROR($E57*SUMIF('Daily Log'!#REF!,$B57,'Daily Log'!#REF!),0)","v":0},{"$f":"IFERROR($E57*SUMIF('Daily Log'!#REF!,$B57,'Daily Log'!#REF!),0)","v":0},{"$f":"IFERROR($E57*SUMIF('Daily Log'!#REF!,$B57,'Daily Log'!#REF!),0)","v":0},{"$f":"IFERROR($E57*SUMIF('Daily Log'!#REF!,$B57,'Daily Log'!#REF!),0)","v":0},{"$f":"IFERROR($E57*SUMIF('Daily Log'!#REF!,$B57,'Daily Log'!#REF!),0)","v":0},{"$f":"IFERROR($E57*SUMIF('Daily Log'!#REF!,$B57,'Daily Log'!#REF!),0)","v":0},{"$f":"IFERROR($E57*SUMIF('Daily Log'!#REF!,$B57,'Daily Log'!#REF!),0)","v":0},{"$f":"IFERROR($E57*SUMIF('Daily Log'!#REF!,$B57,'Daily Log'!#REF!),0)","v":0},{"$f":"IFERROR($E57*SUMIF('Daily Log'!#REF!,$B57,'Daily Log'!#REF!),0)","v":0},{"$f":"IFERROR($E57*SUMIF('Daily Log'!#REF!,$B57,'Daily Log'!#REF!),0)","v":0},{"$f":"IFERROR($E57*SUMIF('Daily Log'!#REF!,$B57,'Daily Log'!#REF!),0)","v":0}]
[null,"CB04 MANGO SO",null,"SIDE ORDER-SODA",1,0,{"$f":"IFERROR($E58*SUMIF('Daily Log'!$B$18:$B$1017,$B58,'Daily Log'!$C$18:$C$1017),0)","v":0},{"$f":"IFERROR($E58*SUMIF('Daily Log'!$E$18:$E$1017,$B58,'Daily Log'!$F$18:$F$1017),0)","v":0},{"$f":"IFERROR($E58*SUMIF('Daily Log'!$H$18:$H$1017,$B58,'Daily Log'!$I$18:$I$1017),0)","v":0},{"$f":"IFERROR($E58*SUMIF('Daily Log'!$K$18:$K$1017,$B58,'Daily Log'!$L$18:$L$1017),0)","v":0},{"$f":"IFERROR($E58*SUMIF('Daily Log'!$N$18:$N$1017,$B58,'Daily Log'!$O$18:$O$1017),0)","v":0},{"$f":"IFERROR($E58*SUMIF('Daily Log'!#REF!,$B58,'Daily Log'!#REF!),0)","v":0},{"$f":"IFERROR($E58*SUMIF('Daily Log'!#REF!,$B58,'Daily Log'!#REF!),0)","v":0},{"$f":"IFERROR($E58*SUMIF('Daily Log'!#REF!,$B58,'Daily Log'!#REF!),0)","v":0},{"$f":"IFERROR($E58*SUMIF('Daily Log'!#REF!,$B58,'Daily Log'!#REF!),0)","v":0},{"$f":"IFERROR($E58*SUMIF('Daily Log'!#REF!,$B58,'Daily Log'!#REF!),0)","v":0},{"$f":"IFERROR($E58*SUMIF('Daily Log'!#REF!,$B58,'Daily Log'!#REF!),0)","v":0},{"$f":"IFERROR($E58*SUMIF('Daily Log'!#REF!,$B58,'Daily Log'!#REF!),0)","v":0},{"$f":"IFERROR($E58*SUMIF('Daily Log'!#REF!,$B58,'Daily Log'!#REF!),0)","v":0},{"$f":"IFERROR($E58*SUMIF('Daily Log'!#REF!,$B58,'Daily Log'!#REF!),0)","v":0},{"$f":"IFERROR($E58*SUMIF('Daily Log'!#REF!,$B58,'Daily Log'!#REF!),0)","v":0},{"$f":"IFERROR($E58*SUMIF('Daily Log'!#REF!,$B58,'Daily Log'!#REF!),0)","v":0},{"$f":"IFERROR($E58*SUMIF('Daily Log'!#REF!,$B58,'Daily Log'!#REF!),0)","v":0},{"$f":"IFERROR($E58*SUMIF('Daily Log'!#REF!,$B58,'Daily Log'!#REF!),0)","v":0},{"$f":"IFERROR($E58*SUMIF('Daily Log'!#REF!,$B58,'Daily Log'!#REF!),0)","v":0},{"$f":"IFERROR($E58*SUMIF('Daily Log'!#REF!,$B58,'Daily Log'!#REF!),0)","v":0},{"$f":"IFERROR($E58*SUMIF('Daily Log'!#REF!,$B58,'Daily Log'!#REF!),0)","v":0},{"$f":"IFERROR($E58*SUMIF('Daily Log'!#REF!,$B58,'Daily Log'!#REF!),0)","v":0},{"$f":"IFERROR($E58*SUMIF('Daily Log'!#REF!,$B58,'Daily Log'!#REF!),0)","v":0},{"$f":"IFERROR($E58*SUMIF('Daily Log'!#REF!,$B58,'Daily Log'!#REF!),0)","v":0},{"$f":"IFERROR($E58*SUMIF('Daily Log'!#REF!,$B58,'Daily Log'!#REF!),0)","v":0},{"$f":"IFERROR($E58*SUMIF('Daily Log'!#REF!,$B58,'Daily Log'!#REF!),0)","v":0},{"$f":"IFERROR($E58*SUMIF('Daily Log'!#REF!,$B58,'Daily Log'!#REF!),0)","v":0},{"$f":"IFERROR($E58*SUMIF('Daily Log'!#REF!,$B58,'Daily Log'!#REF!),0)","v":0},{"$f":"IFERROR($E58*SUMIF('Daily Log'!#REF!,$B58,'Daily Log'!#REF!),0)","v":0},{"$f":"IFERROR($E58*SUMIF('Daily Log'!#REF!,$B58,'Daily Log'!#REF!),0)","v":0},{"$f":"IFERROR($E58*SUMIF('Daily Log'!#REF!,$B58,'Daily Log'!#REF!),0)","v":0}]
[null,"CB05 PASSION SO",null,"SIDE ORDER-SODA",1,0,{"$f":"IFERROR($E59*SUMIF('Daily Log'!$B$18:$B$1017,$B59,'Daily Log'!$C$18:$C$1017),0)","v":0},{"$f":"IFERROR($E59*SUMIF('Daily Log'!$E$18:$E$1017,$B59,'Daily Log'!$F$18:$F$1017),0)","v":0},{"$f":"IFERROR($E59*SUMIF('Daily Log'!$H$18:$H$1017,$B59,'Daily Log'!$I$18:$I$1017),0)","v":0},{"$f":"IFERROR($E59*SUMIF('Daily Log'!$K$18:$K$1017,$B59,'Daily Log'!$L$18:$L$1017),0)","v":0},{"$f":"IFERROR($E59*SUMIF('Daily Log'!$N$18:$N$1017,$B59,'Daily Log'!$O$18:$O$1017),0)","v":0},{"$f":"IFERROR($E59*SUMIF('Daily Log'!#REF!,$B59,'Daily Log'!#REF!),0)","v":0},{"$f":"IFERROR($E59*SUMIF('Daily Log'!#REF!,$B59,'Daily Log'!#REF!),0)","v":0},{"$f":"IFERROR($E59*SUMIF('Daily Log'!#REF!,$B59,'Daily Log'!#REF!),0)","v":0},{"$f":"IFERROR($E59*SUMIF('Daily Log'!#REF!,$B59,'Daily Log'!#REF!),0)","v":0},{"$f":"IFERROR($E59*SUMIF('Daily Log'!#REF!,$B59,'Daily Log'!#REF!),0)","v":0},{"$f":"IFERROR($E59*SUMIF('Daily Log'!#REF!,$B59,'Daily Log'!#REF!),0)","v":0},{"$f":"IFERROR($E59*SUMIF('Daily Log'!#REF!,$B59,'Daily Log'!#REF!),0)","v":0},{"$f":"IFERROR($E59*SUMIF('Daily Log'!#REF!,$B59,'Daily Log'!#REF!),0)","v":0},{"$f":"IFERROR($E59*SUMIF('Daily Log'!#REF!,$B59,'Daily Log'!#REF!),0)","v":0},{"$f":"IFERROR($E59*SUMIF('Daily Log'!#REF!,$B59,'Daily Log'!#REF!),0)","v":0},{"$f":"IFERROR($E59*SUMIF('Daily Log'!#REF!,$B59,'Daily Log'!#REF!),0)","v":0},{"$f":"IFERROR($E59*SUMIF('Daily Log'!#REF!,$B59,'Daily Log'!#REF!),0)","v":0},{"$f":"IFERROR($E59*SUMIF('Daily Log'!#REF!,$B59,'Daily Log'!#REF!),0)","v":0},{"$f":"IFERROR($E59*SUMIF('Daily Log'!#REF!,$B59,'Daily Log'!#REF!),0)","v":0},{"$f":"IFERROR($E59*SUMIF('Daily Log'!#REF!,$B59,'Daily Log'!#REF!),0)","v":0},{"$f":"IFERROR($E59*SUMIF('Daily Log'!#REF!,$B59,'Daily Log'!#REF!),0)","v":0},{"$f":"IFERROR($E59*SUMIF('Daily Log'!#REF!,$B59,'Daily Log'!#REF!),0)","v":0},{"$f":"IFERROR($E59*SUMIF('Daily Log'!#REF!,$B59,'Daily Log'!#REF!),0)","v":0},{"$f":"IFERROR($E59*SUMIF('Daily Log'!#REF!,$B59,'Daily Log'!#REF!),0)","v":0},{"$f":"IFERROR($E59*SUMIF('Daily Log'!#REF!,$B59,'Daily Log'!#REF!),0)","v":0},{"$f":"IFERROR($E59*SUMIF('Daily Log'!#REF!,$B59,'Daily Log'!#REF!),0)","v":0},{"$f":"IFERROR($E59*SUMIF('Daily Log'!#REF!,$B59,'Daily Log'!#REF!),0)","v":0},{"$f":"IFERROR($E59*SUMIF('Daily Log'!#REF!,$B59,'Daily Log'!#REF!),0)","v":0},{"$f":"IFERROR($E59*SUMIF('Daily Log'!#REF!,$B59,'Daily Log'!#REF!),0)","v":0},{"$f":"IFERROR($E59*SUMIF('Daily Log'!#REF!,$B59,'Daily Log'!#REF!),0)","v":0},{"$f":"IFERROR($E59*SUMIF('Daily Log'!#REF!,$B59,'Daily Log'!#REF!),0)","v":0}]
[null,"CB06 RIBENA SO",null,"SIDE ORDER-SODA",1,0,{"$f":"IFERROR($E60*SUMIF('Daily Log'!$B$18:$B$1017,$B60,'Daily Log'!$C$18:$C$1017),0)","v":0},{"$f":"IFERROR($E60*SUMIF('Daily Log'!$E$18:$E$1017,$B60,'Daily Log'!$F$18:$F$1017),0)","v":0},{"$f":"IFERROR($E60*SUMIF('Daily Log'!$H$18:$H$1017,$B60,'Daily Log'!$I$18:$I$1017),0)","v":0},{"$f":"IFERROR($E60*SUMIF('Daily Log'!$K$18:$K$1017,$B60,'Daily Log'!$L$18:$L$1017),0)","v":0},{"$f":"IFERROR($E60*SUMIF('Daily Log'!$N$18:$N$1017,$B60,'Daily Log'!$O$18:$O$1017),0)","v":0},{"$f":"IFERROR($E60*SUMIF('Daily Log'!#REF!,$B60,'Daily Log'!#REF!),0)","v":0},{"$f":"IFERROR($E60*SUMIF('Daily Log'!#REF!,$B60,'Daily Log'!#REF!),0)","v":0},{"$f":"IFERROR($E60*SUMIF('Daily Log'!#REF!,$B60,'Daily Log'!#REF!),0)","v":0},{"$f":"IFERROR($E60*SUMIF('Daily Log'!#REF!,$B60,'Daily Log'!#REF!),0)","v":0},{"$f":"IFERROR($E60*SUMIF('Daily Log'!#REF!,$B60,'Daily Log'!#REF!),0)","v":0},{"$f":"IFERROR($E60*SUMIF('Daily Log'!#REF!,$B60,'Daily Log'!#REF!),0)","v":0},{"$f":"IFERROR($E60*SUMIF('Daily Log'!#REF!,$B60,'Daily Log'!#REF!),0)","v":0},{"$f":"IFERROR($E60*SUMIF('Daily Log'!#REF!,$B60,'Daily Log'!#REF!),0)","v":0},{"$f":"IFERROR($E60*SUMIF('Daily Log'!#REF!,$B60,'Daily Log'!#REF!),0)","v":0},{"$f":"IFERROR($E60*SUMIF('Daily Log'!#REF!,$B60,'Daily Log'!#REF!),0)","v":0},{"$f":"IFERROR($E60*SUMIF('Daily Log'!#REF!,$B60,'Daily Log'!#REF!),0)","v":0},{"$f":"IFERROR($E60*SUMIF('Daily Log'!#REF!,$B60,'Daily Log'!#REF!),0)","v":0},{"$f":"IFERROR($E60*SUMIF('Daily Log'!#REF!,$B60,'Daily Log'!#REF!),0)","v":0},{"$f":"IFERROR($E60*SUMIF('Daily Log'!#REF!,$B60,'Daily Log'!#REF!),0)","v":0},{"$f":"IFERROR($E60*SUMIF('Daily Log'!#REF!,$B60,'Daily Log'!#REF!),0)","v":0},{"$f":"IFERROR($E60*SUMIF('Daily Log'!#REF!,$B60,'Daily Log'!#REF!),0)","v":0},{"$f":"IFERROR($E60*SUMIF('Daily Log'!#REF!,$B60,'Daily Log'!#REF!),0)","v":0},{"$f":"IFERROR($E60*SUMIF('Daily Log'!#REF!,$B60,'Daily Log'!#REF!),0)","v":0},{"$f":"IFERROR($E60*SUMIF('Daily Log'!#REF!,$B60,'Daily Log'!#REF!),0)","v":0},{"$f":"IFERROR($E60*SUMIF('Daily Log'!#REF!,$B60,'Daily Log'!#REF!),0)","v":0},{"$f":"IFERROR($E60*SUMIF('Daily Log'!#REF!,$B60,'Daily Log'!#REF!),0)","v":0},{"$f":"IFERROR($E60*SUMIF('Daily Log'!#REF!,$B60,'Daily Log'!#REF!),0)","v":0},{"$f":"IFERROR($E60*SUMIF('Daily Log'!#REF!,$B60,'Daily Log'!#REF!),0)","v":0},{"$f":"IFERROR($E60*SUMIF('Daily Log'!#REF!,$B60,'Daily Log'!#REF!),0)","v":0},{"$f":"IFERROR($E60*SUMIF('Daily Log'!#REF!,$B60,'Daily Log'!#REF!),0)","v":0},{"$f":"IFERROR($E60*SUMIF('Daily Log'!#REF!,$B60,'Daily Log'!#REF!),0)","v":0}]
[null,"CC01 GRAPE SM",null,"SIDE ORDER-SMOOTHIES",1,0,{"$f":"IFERROR($E61*SUMIF('Daily Log'!$B$18:$B$1017,$B61,'Daily Log'!$C$18:$C$1017),0)","v":0},{"$f":"IFERROR($E61*SUMIF('Daily Log'!$E$18:$E$1017,$B61,'Daily Log'!$F$18:$F$1017),0)","v":0},{"$f":"IFERROR($E61*SUMIF('Daily Log'!$H$18:$H$1017,$B61,'Daily Log'!$I$18:$I$1017),0)","v":0},{"$f":"IFERROR($E61*SUMIF('Daily Log'!$K$18:$K$1017,$B61,'Daily Log'!$L$18:$L$1017),0)","v":0},{"$f":"IFERROR($E61*SUMIF('Daily Log'!$N$18:$N$1017,$B61,'Daily Log'!$O$18:$O$1017),0)","v":0},{"$f":"IFERROR($E61*SUMIF('Daily Log'!#REF!,$B61,'Daily Log'!#REF!),0)","v":0},{"$f":"IFERROR($E61*SUMIF('Daily Log'!#REF!,$B61,'Daily Log'!#REF!),0)","v":0},{"$f":"IFERROR($E61*SUMIF('Daily Log'!#REF!,$B61,'Daily Log'!#REF!),0)","v":0},{"$f":"IFERROR($E61*SUMIF('Daily Log'!#REF!,$B61,'Daily Log'!#REF!),0)","v":0},{"$f":"IFERROR($E61*SUMIF('Daily Log'!#REF!,$B61,'Daily Log'!#REF!),0)","v":0},{"$f":"IFERROR($E61*SUMIF('Daily Log'!#REF!,$B61,'Daily Log'!#REF!),0)","v":0},{"$f":"IFERROR($E61*SUMIF('Daily Log'!#REF!,$B61,'Daily Log'!#REF!),0)","v":0},{"$f":"IFERROR($E61*SUMIF('Daily Log'!#REF!,$B61,'Daily Log'!#REF!),0)","v":0},{"$f":"IFERROR($E61*SUMIF('Daily Log'!#REF!,$B61,'Daily Log'!#REF!),0)","v":0},{"$f":"IFERROR($E61*SUMIF('Daily Log'!#REF!,$B61,'Daily Log'!#REF!),0)","v":0},{"$f":"IFERROR($E61*SUMIF('Daily Log'!#REF!,$B61,'Daily Log'!#REF!),0)","v":0},{"$f":"IFERROR($E61*SUMIF('Daily Log'!#REF!,$B61,'Daily Log'!#REF!),0)","v":0},{"$f":"IFERROR($E61*SUMIF('Daily Log'!#REF!,$B61,'Daily Log'!#REF!),0)","v":0},{"$f":"IFERROR($E61*SUMIF('Daily Log'!#REF!,$B61,'Daily Log'!#REF!),0)","v":0},{"$f":"IFERROR($E61*SUMIF('Daily Log'!#REF!,$B61,'Daily Log'!#REF!),0)","v":0},{"$f":"IFERROR($E61*SUMIF('Daily Log'!#REF!,$B61,'Daily Log'!#REF!),0)","v":0},{"$f":"IFERROR($E61*SUMIF('Daily Log'!#REF!,$B61,'Daily Log'!#REF!),0)","v":0},{"$f":"IFERROR($E61*SUMIF('Daily Log'!#REF!,$B61,'Daily Log'!#REF!),0)","v":0},{"$f":"IFERROR($E61*SUMIF('Daily Log'!#REF!,$B61,'Daily Log'!#REF!),0)","v":0},{"$f":"IFERROR($E61*SUMIF('Daily Log'!#REF!,$B61,'Daily Log'!#REF!),0)","v":0},{"$f":"IFERROR($E61*SUMIF('Daily Log'!#REF!,$B61,'Daily Log'!#REF!),0)","v":0},{"$f":"IFERROR($E61*SUMIF('Daily Log'!#REF!,$B61,'Daily Log'!#REF!),0)","v":0},{"$f":"IFERROR($E61*SUMIF('Daily Log'!#REF!,$B61,'Daily Log'!#REF!),0)","v":0},{"$f":"IFERROR($E61*SUMIF('Daily Log'!#REF!,$B61,'Daily Log'!#REF!),0)","v":0},{"$f":"IFERROR($E61*SUMIF('Daily Log'!#REF!,$B61,'Daily Log'!#REF!),0)","v":0},{"$f":"IFERROR($E61*SUMIF('Daily Log'!#REF!,$B61,'Daily Log'!#REF!),0)","v":0}]
[null,"CC02 APPLE SM",null,"SIDE ORDER-SMOOTHIES",1,0,{"$f":"IFERROR($E62*SUMIF('Daily Log'!$B$18:$B$1017,$B62,'Daily Log'!$C$18:$C$1017),0)","v":0},{"$f":"IFERROR($E62*SUMIF('Daily Log'!$E$18:$E$1017,$B62,'Daily Log'!$F$18:$F$1017),0)","v":0},{"$f":"IFERROR($E62*SUMIF('Daily Log'!$H$18:$H$1017,$B62,'Daily Log'!$I$18:$I$1017),0)","v":0},{"$f":"IFERROR($E62*SUMIF('Daily Log'!$K$18:$K$1017,$B62,'Daily Log'!$L$18:$L$1017),0)","v":0},{"$f":"IFERROR($E62*SUMIF('Daily Log'!$N$18:$N$1017,$B62,'Daily Log'!$O$18:$O$1017),0)","v":0},{"$f":"IFERROR($E62*SUMIF('Daily Log'!#REF!,$B62,'Daily Log'!#REF!),0)","v":0},{"$f":"IFERROR($E62*SUMIF('Daily Log'!#REF!,$B62,'Daily Log'!#REF!),0)","v":0},{"$f":"IFERROR($E62*SUMIF('Daily Log'!#REF!,$B62,'Daily Log'!#REF!),0)","v":0},{"$f":"IFERROR($E62*SUMIF('Daily Log'!#REF!,$B62,'Daily Log'!#REF!),0)","v":0},{"$f":"IFERROR($E62*SUMIF('Daily Log'!#REF!,$B62,'Daily Log'!#REF!),0)","v":0},{"$f":"IFERROR($E62*SUMIF('Daily Log'!#REF!,$B62,'Daily Log'!#REF!),0)","v":0},{"$f":"IFERROR($E62*SUMIF('Daily Log'!#REF!,$B62,'Daily Log'!#REF!),0)","v":0},{"$f":"IFERROR($E62*SUMIF('Daily Log'!#REF!,$B62,'Daily Log'!#REF!),0)","v":0},{"$f":"IFERROR($E62*SUMIF('Daily Log'!#REF!,$B62,'Daily Log'!#REF!),0)","v":0},{"$f":"IFERROR($E62*SUMIF('Daily Log'!#REF!,$B62,'Daily Log'!#REF!),0)","v":0},{"$f":"IFERROR($E62*SUMIF('Daily Log'!#REF!,$B62,'Daily Log'!#REF!),0)","v":0},{"$f":"IFERROR($E62*SUMIF('Daily Log'!#REF!,$B62,'Daily Log'!#REF!),0)","v":0},{"$f":"IFERROR($E62*SUMIF('Daily Log'!#REF!,$B62,'Daily Log'!#REF!),0)","v":0},{"$f":"IFERROR($E62*SUMIF('Daily Log'!#REF!,$B62,'Daily Log'!#REF!),0)","v":0},{"$f":"IFERROR($E62*SUMIF('Daily Log'!#REF!,$B62,'Daily Log'!#REF!),0)","v":0},{"$f":"IFERROR($E62*SUMIF('Daily Log'!#REF!,$B62,'Daily Log'!#REF!),0)","v":0},{"$f":"IFERROR($E62*SUMIF('Daily Log'!#REF!,$B62,'Daily Log'!#REF!),0)","v":0},{"$f":"IFERROR($E62*SUMIF('Daily Log'!#REF!,$B62,'Daily Log'!#REF!),0)","v":0},{"$f":"IFERROR($E62*SUMIF('Daily Log'!#REF!,$B62,'Daily Log'!#REF!),0)","v":0},{"$f":"IFERROR($E62*SUMIF('Daily Log'!#REF!,$B62,'Daily Log'!#REF!),0)","v":0},{"$f":"IFERROR($E62*SUMIF('Daily Log'!#REF!,$B62,'Daily Log'!#REF!),0)","v":0},{"$f":"IFERROR($E62*SUMIF('Daily Log'!#REF!,$B62,'Daily Log'!#REF!),0)","v":0},{"$f":"IFERROR($E62*SUMIF('Daily Log'!#REF!,$B62,'Daily Log'!#REF!),0)","v":0},{"$f":"IFERROR($E62*SUMIF('Daily Log'!#REF!,$B62,'Daily Log'!#REF!),0)","v":0},{"$f":"IFERROR($E62*SUMIF('Daily Log'!#REF!,$B62,'Daily Log'!#REF!),0)","v":0},{"$f":"IFERROR($E62*SUMIF('Daily Log'!#REF!,$B62,'Daily Log'!#REF!),0)","v":0}]
[null,"CC03 KIWI SM",null,"SIDE ORDER-SMOOTHIES",1,0,{"$f":"IFERROR($E63*SUMIF('Daily Log'!$B$18:$B$1017,$B63,'Daily Log'!$C$18:$C$1017),0)","v":0},{"$f":"IFERROR($E63*SUMIF('Daily Log'!$E$18:$E$1017,$B63,'Daily Log'!$F$18:$F$1017),0)","v":0},{"$f":"IFERROR($E63*SUMIF('Daily Log'!$H$18:$H$1017,$B63,'Daily Log'!$I$18:$I$1017),0)","v":0},{"$f":"IFERROR($E63*SUMIF('Daily Log'!$K$18:$K$1017,$B63,'Daily Log'!$L$18:$L$1017),0)","v":0},{"$f":"IFERROR($E63*SUMIF('Daily Log'!$N$18:$N$1017,$B63,'Daily Log'!$O$18:$O$1017),0)","v":0},{"$f":"IFERROR($E63*SUMIF('Daily Log'!#REF!,$B63,'Daily Log'!#REF!),0)","v":0},{"$f":"IFERROR($E63*SUMIF('Daily Log'!#REF!,$B63,'Daily Log'!#REF!),0)","v":0},{"$f":"IFERROR($E63*SUMIF('Daily Log'!#REF!,$B63,'Daily Log'!#REF!),0)","v":0},{"$f":"IFERROR($E63*SUMIF('Daily Log'!#REF!,$B63,'Daily Log'!#REF!),0)","v":0},{"$f":"IFERROR($E63*SUMIF('Daily Log'!#REF!,$B63,'Daily Log'!#REF!),0)","v":0},{"$f":"IFERROR($E63*SUMIF('Daily Log'!#REF!,$B63,'Daily Log'!#REF!),0)","v":0},{"$f":"IFERROR($E63*SUMIF('Daily Log'!#REF!,$B63,'Daily Log'!#REF!),0)","v":0},{"$f":"IFERROR($E63*SUMIF('Daily Log'!#REF!,$B63,'Daily Log'!#REF!),0)","v":0},{"$f":"IFERROR($E63*SUMIF('Daily Log'!#REF!,$B63,'Daily Log'!#REF!),0)","v":0},{"$f":"IFERROR($E63*SUMIF('Daily Log'!#REF!,$B63,'Daily Log'!#REF!),0)","v":0},{"$f":"IFERROR($E63*SUMIF('Daily Log'!#REF!,$B63,'Daily Log'!#REF!),0)","v":0},{"$f":"IFERROR($E63*SUMIF('Daily Log'!#REF!,$B63,'Daily Log'!#REF!),0)","v":0},{"$f":"IFERROR($E63*SUMIF('Daily Log'!#REF!,$B63,'Daily Log'!#REF!),0)","v":0},{"$f":"IFERROR($E63*SUMIF('Daily Log'!#REF!,$B63,'Daily Log'!#REF!),0)","v":0},{"$f":"IFERROR($E63*SUMIF('Daily Log'!#REF!,$B63,'Daily Log'!#REF!),0)","v":0},{"$f":"IFERROR($E63*SUMIF('Daily Log'!#REF!,$B63,'Daily Log'!#REF!),0)","v":0},{"$f":"IFERROR($E63*SUMIF('Daily Log'!#REF!,$B63,'Daily Log'!#REF!),0)","v":0},{"$f":"IFERROR($E63*SUMIF('Daily Log'!#REF!,$B63,'Daily Log'!#REF!),0)","v":0},{"$f":"IFERROR($E63*SUMIF('Daily Log'!#REF!,$B63,'Daily Log'!#REF!),0)","v":0},{"$f":"IFERROR($E63*SUMIF('Daily Log'!#REF!,$B63,'Daily Log'!#REF!),0)","v":0},{"$f":"IFERROR($E63*SUMIF('Daily Log'!#REF!,$B63,'Daily Log'!#REF!),0)","v":0},{"$f":"IFERROR($E63*SUMIF('Daily Log'!#REF!,$B63,'Daily Log'!#REF!),0)","v":0},{"$f":"IFERROR($E63*SUMIF('Daily Log'!#REF!,$B63,'Daily Log'!#REF!),0)","v":0},{"$f":"IFERROR($E63*SUMIF('Daily Log'!#REF!,$B63,'Daily Log'!#REF!),0)","v":0},{"$f":"IFERROR($E63*SUMIF('Daily Log'!#REF!,$B63,'Daily Log'!#REF!),0)","v":0},{"$f":"IFERROR($E63*SUMIF('Daily Log'!#REF!,$B63,'Daily Log'!#REF!),0)","v":0}]
[null,"CC04 MANGO SM",null,"SIDE ORDER-SMOOTHIES",1,0,{"$f":"IFERROR($E64*SUMIF('Daily Log'!$B$18:$B$1017,$B64,'Daily Log'!$C$18:$C$1017),0)","v":0},{"$f":"IFERROR($E64*SUMIF('Daily Log'!$E$18:$E$1017,$B64,'Daily Log'!$F$18:$F$1017),0)","v":0},{"$f":"IFERROR($E64*SUMIF('Daily Log'!$H$18:$H$1017,$B64,'Daily Log'!$I$18:$I$1017),0)","v":0},{"$f":"IFERROR($E64*SUMIF('Daily Log'!$K$18:$K$1017,$B64,'Daily Log'!$L$18:$L$1017),0)","v":0},{"$f":"IFERROR($E64*SUMIF('Daily Log'!$N$18:$N$1017,$B64,'Daily Log'!$O$18:$O$1017),0)","v":0},{"$f":"IFERROR($E64*SUMIF('Daily Log'!#REF!,$B64,'Daily Log'!#REF!),0)","v":0},{"$f":"IFERROR($E64*SUMIF('Daily Log'!#REF!,$B64,'Daily Log'!#REF!),0)","v":0},{"$f":"IFERROR($E64*SUMIF('Daily Log'!#REF!,$B64,'Daily Log'!#REF!),0)","v":0},{"$f":"IFERROR($E64*SUMIF('Daily Log'!#REF!,$B64,'Daily Log'!#REF!),0)","v":0},{"$f":"IFERROR($E64*SUMIF('Daily Log'!#REF!,$B64,'Daily Log'!#REF!),0)","v":0},{"$f":"IFERROR($E64*SUMIF('Daily Log'!#REF!,$B64,'Daily Log'!#REF!),0)","v":0},{"$f":"IFERROR($E64*SUMIF('Daily Log'!#REF!,$B64,'Daily Log'!#REF!),0)","v":0},{"$f":"IFERROR($E64*SUMIF('Daily Log'!#REF!,$B64,'Daily Log'!#REF!),0)","v":0},{"$f":"IFERROR($E64*SUMIF('Daily Log'!#REF!,$B64,'Daily Log'!#REF!),0)","v":0},{"$f":"IFERROR($E64*SUMIF('Daily Log'!#REF!,$B64,'Daily Log'!#REF!),0)","v":0},{"$f":"IFERROR($E64*SUMIF('Daily Log'!#REF!,$B64,'Daily Log'!#REF!),0)","v":0},{"$f":"IFERROR($E64*SUMIF('Daily Log'!#REF!,$B64,'Daily Log'!#REF!),0)","v":0},{"$f":"IFERROR($E64*SUMIF('Daily Log'!#REF!,$B64,'Daily Log'!#REF!),0)","v":0},{"$f":"IFERROR($E64*SUMIF('Daily Log'!#REF!,$B64,'Daily Log'!#REF!),0)","v":0},{"$f":"IFERROR($E64*SUMIF('Daily Log'!#REF!,$B64,'Daily Log'!#REF!),0)","v":0},{"$f":"IFERROR($E64*SUMIF('Daily Log'!#REF!,$B64,'Daily Log'!#REF!),0)","v":0},{"$f":"IFERROR($E64*SUMIF('Daily Log'!#REF!,$B64,'Daily Log'!#REF!),0)","v":0},{"$f":"IFERROR($E64*SUMIF('Daily Log'!#REF!,$B64,'Daily Log'!#REF!),0)","v":0},{"$f":"IFERROR($E64*SUMIF('Daily Log'!#REF!,$B64,'Daily Log'!#REF!),0)","v":0},{"$f":"IFERROR($E64*SUMIF('Daily Log'!#REF!,$B64,'Daily Log'!#REF!),0)","v":0},{"$f":"IFERROR($E64*SUMIF('Daily Log'!#REF!,$B64,'Daily Log'!#REF!),0)","v":0},{"$f":"IFERROR($E64*SUMIF('Daily Log'!#REF!,$B64,'Daily Log'!#REF!),0)","v":0},{"$f":"IFERROR($E64*SUMIF('Daily Log'!#REF!,$B64,'Daily Log'!#REF!),0)","v":0},{"$f":"IFERROR($E64*SUMIF('Daily Log'!#REF!,$B64,'Daily Log'!#REF!),0)","v":0},{"$f":"IFERROR($E64*SUMIF('Daily Log'!#REF!,$B64,'Daily Log'!#REF!),0)","v":0},{"$f":"IFERROR($E64*SUMIF('Daily Log'!#REF!,$B64,'Daily Log'!#REF!),0)","v":0}]
[null,"CC05 PASSION SM",null,"SIDE ORDER-SMOOTHIES",1,0,{"$f":"IFERROR($E65*SUMIF('Daily Log'!$B$18:$B$1017,$B65,'Daily Log'!$C$18:$C$1017),0)","v":0},{"$f":"IFERROR($E65*SUMIF('Daily Log'!$E$18:$E$1017,$B65,'Daily Log'!$F$18:$F$1017),0)","v":0},{"$f":"IFERROR($E65*SUMIF('Daily Log'!$H$18:$H$1017,$B65,'Daily Log'!$I$18:$I$1017),0)","v":0},{"$f":"IFERROR($E65*SUMIF('Daily Log'!$K$18:$K$1017,$B65,'Daily Log'!$L$18:$L$1017),0)","v":0},{"$f":"IFERROR($E65*SUMIF('Daily Log'!$N$18:$N$1017,$B65,'Daily Log'!$O$18:$O$1017),0)","v":0},{"$f":"IFERROR($E65*SUMIF('Daily Log'!#REF!,$B65,'Daily Log'!#REF!),0)","v":0},{"$f":"IFERROR($E65*SUMIF('Daily Log'!#REF!,$B65,'Daily Log'!#REF!),0)","v":0},{"$f":"IFERROR($E65*SUMIF('Daily Log'!#REF!,$B65,'Daily Log'!#REF!),0)","v":0},{"$f":"IFERROR($E65*SUMIF('Daily Log'!#REF!,$B65,'Daily Log'!#REF!),0)","v":0},{"$f":"IFERROR($E65*SUMIF('Daily Log'!#REF!,$B65,'Daily Log'!#REF!),0)","v":0},{"$f":"IFERROR($E65*SUMIF('Daily Log'!#REF!,$B65,'Daily Log'!#REF!),0)","v":0},{"$f":"IFERROR($E65*SUMIF('Daily Log'!#REF!,$B65,'Daily Log'!#REF!),0)","v":0},{"$f":"IFERROR($E65*SUMIF('Daily Log'!#REF!,$B65,'Daily Log'!#REF!),0)","v":0},{"$f":"IFERROR($E65*SUMIF('Daily Log'!#REF!,$B65,'Daily Log'!#REF!),0)","v":0},{"$f":"IFERROR($E65*SUMIF('Daily Log'!#REF!,$B65,'Daily Log'!#REF!),0)","v":0},{"$f":"IFERROR($E65*SUMIF('Daily Log'!#REF!,$B65,'Daily Log'!#REF!),0)","v":0},{"$f":"IFERROR($E65*SUMIF('Daily Log'!#REF!,$B65,'Daily Log'!#REF!),0)","v":0},{"$f":"IFERROR($E65*SUMIF('Daily Log'!#REF!,$B65,'Daily Log'!#REF!),0)","v":0},{"$f":"IFERROR($E65*SUMIF('Daily Log'!#REF!,$B65,'Daily Log'!#REF!),0)","v":0},{"$f":"IFERROR($E65*SUMIF('Daily Log'!#REF!,$B65,'Daily Log'!#REF!),0)","v":0},{"$f":"IFERROR($E65*SUMIF('Daily Log'!#REF!,$B65,'Daily Log'!#REF!),0)","v":0},{"$f":"IFERROR($E65*SUMIF('Daily Log'!#REF!,$B65,'Daily Log'!#REF!),0)","v":0},{"$f":"IFERROR($E65*SUMIF('Daily Log'!#REF!,$B65,'Daily Log'!#REF!),0)","v":0},{"$f":"IFERROR($E65*SUMIF('Daily Log'!#REF!,$B65,'Daily Log'!#REF!),0)","v":0},{"$f":"IFERROR($E65*SUMIF('Daily Log'!#REF!,$B65,'Daily Log'!#REF!),0)","v":0},{"$f":"IFERROR($E65*SUMIF('Daily Log'!#REF!,$B65,'Daily Log'!#REF!),0)","v":0},{"$f":"IFERROR($E65*SUMIF('Daily Log'!#REF!,$B65,'Daily Log'!#REF!),0)","v":0},{"$f":"IFERROR($E65*SUMIF('Daily Log'!#REF!,$B65,'Daily Log'!#REF!),0)","v":0},{"$f":"IFERROR($E65*SUMIF('Daily Log'!#REF!,$B65,'Daily Log'!#REF!),0)","v":0},{"$f":"IFERROR($E65*SUMIF('Daily Log'!#REF!,$B65,'Daily Log'!#REF!),0)","v":0},{"$f":"IFERROR($E65*SUMIF('Daily Log'!#REF!,$B65,'Daily Log'!#REF!),0)","v":0}]
[null,"CC06 RIBENA SM",null,"SIDE ORDER-SMOOTHIES",1,0,{"$f":"IFERROR($E66*SUMIF('Daily Log'!$B$18:$B$1017,$B66,'Daily Log'!$C$18:$C$1017),0)","v":0},{"$f":"IFERROR($E66*SUMIF('Daily Log'!$E$18:$E$1017,$B66,'Daily Log'!$F$18:$F$1017),0)","v":0},{"$f":"IFERROR($E66*SUMIF('Daily Log'!$H$18:$H$1017,$B66,'Daily Log'!$I$18:$I$1017),0)","v":0},{"$f":"IFERROR($E66*SUMIF('Daily Log'!$K$18:$K$1017,$B66,'Daily Log'!$L$18:$L$1017),0)","v":0},{"$f":"IFERROR($E66*SUMIF('Daily Log'!$N$18:$N$1017,$B66,'Daily Log'!$O$18:$O$1017),0)","v":0},{"$f":"IFERROR($E66*SUMIF('Daily Log'!#REF!,$B66,'Daily Log'!#REF!),0)","v":0},{"$f":"IFERROR($E66*SUMIF('Daily Log'!#REF!,$B66,'Daily Log'!#REF!),0)","v":0},{"$f":"IFERROR($E66*SUMIF('Daily Log'!#REF!,$B66,'Daily Log'!#REF!),0)","v":0},{"$f":"IFERROR($E66*SUMIF('Daily Log'!#REF!,$B66,'Daily Log'!#REF!),0)","v":0},{"$f":"IFERROR($E66*SUMIF('Daily Log'!#REF!,$B66,'Daily Log'!#REF!),0)","v":0},{"$f":"IFERROR($E66*SUMIF('Daily Log'!#REF!,$B66,'Daily Log'!#REF!),0)","v":0},{"$f":"IFERROR($E66*SUMIF('Daily Log'!#REF!,$B66,'Daily Log'!#REF!),0)","v":0},{"$f":"IFERROR($E66*SUMIF('Daily Log'!#REF!,$B66,'Daily Log'!#REF!),0)","v":0},{"$f":"IFERROR($E66*SUMIF('Daily Log'!#REF!,$B66,'Daily Log'!#REF!),0)","v":0},{"$f":"IFERROR($E66*SUMIF('Daily Log'!#REF!,$B66,'Daily Log'!#REF!),0)","v":0},{"$f":"IFERROR($E66*SUMIF('Daily Log'!#REF!,$B66,'Daily Log'!#REF!),0)","v":0},{"$f":"IFERROR($E66*SUMIF('Daily Log'!#REF!,$B66,'Daily Log'!#REF!),0)","v":0},{"$f":"IFERROR($E66*SUMIF('Daily Log'!#REF!,$B66,'Daily Log'!#REF!),0)","v":0},{"$f":"IFERROR($E66*SUMIF('Daily Log'!#REF!,$B66,'Daily Log'!#REF!),0)","v":0},{"$f":"IFERROR($E66*SUMIF('Daily Log'!#REF!,$B66,'Daily Log'!#REF!),0)","v":0},{"$f":"IFERROR($E66*SUMIF('Daily Log'!#REF!,$B66,'Daily Log'!#REF!),0)","v":0},{"$f":"IFERROR($E66*SUMIF('Daily Log'!#REF!,$B66,'Daily Log'!#REF!),0)","v":0},{"$f":"IFERROR($E66*SUMIF('Daily Log'!#REF!,$B66,'Daily Log'!#REF!),0)","v":0},{"$f":"IFERROR($E66*SUMIF('Daily Log'!#REF!,$B66,'Daily Log'!#REF!),0)","v":0},{"$f":"IFERROR($E66*SUMIF('Daily Log'!#REF!,$B66,'Daily Log'!#REF!),0)","v":0},{"$f":"IFERROR($E66*SUMIF('Daily Log'!#REF!,$B66,'Daily Log'!#REF!),0)","v":0},{"$f":"IFERROR($E66*SUMIF('Daily Log'!#REF!,$B66,'Daily Log'!#REF!),0)","v":0},{"$f":"IFERROR($E66*SUMIF('Daily Log'!#REF!,$B66,'Daily Log'!#REF!),0)","v":0},{"$f":"IFERROR($E66*SUMIF('Daily Log'!#REF!,$B66,'Daily Log'!#REF!),0)","v":0},{"$f":"IFERROR($E66*SUMIF('Daily Log'!#REF!,$B66,'Daily Log'!#REF!),0)","v":0},{"$f":"IFERROR($E66*SUMIF('Daily Log'!#REF!,$B66,'Daily Log'!#REF!),0)","v":0}]
[null,"CC07 CAPPUCINNO SM",null,"SIDE ORDER-SMOOTHIES",1,1,{"$f":"IFERROR($E67*SUMIF('Daily Log'!$B$18:$B$1017,$B67,'Daily Log'!$C$18:$C$1017),0)","v":0},{"$f":"IFERROR($E67*SUMIF('Daily Log'!$E$18:$E$1017,$B67,'Daily Log'!$F$18:$F$1017),0)","v":0},{"$f":"IFERROR($E67*SUMIF('Daily Log'!$H$18:$H$1017,$B67,'Daily Log'!$I$18:$I$1017),0)","v":1},{"$f":"IFERROR($E67*SUMIF('Daily Log'!$K$18:$K$1017,$B67,'Daily Log'!$L$18:$L$1017),0)","v":0},{"$f":"IFERROR($E67*SUMIF('Daily Log'!$N$18:$N$1017,$B67,'Daily Log'!$O$18:$O$1017),0)","v":0},{"$f":"IFERROR($E67*SUMIF('Daily Log'!#REF!,$B67,'Daily Log'!#REF!),0)","v":0},{"$f":"IFERROR($E67*SUMIF('Daily Log'!#REF!,$B67,'Daily Log'!#REF!),0)","v":0},{"$f":"IFERROR($E67*SUMIF('Daily Log'!#REF!,$B67,'Daily Log'!#REF!),0)","v":0},{"$f":"IFERROR($E67*SUMIF('Daily Log'!#REF!,$B67,'Daily Log'!#REF!),0)","v":0},{"$f":"IFERROR($E67*SUMIF('Daily Log'!#REF!,$B67,'Daily Log'!#REF!),0)","v":0},{"$f":"IFERROR($E67*SUMIF('Daily Log'!#REF!,$B67,'Daily Log'!#REF!),0)","v":0},{"$f":"IFERROR($E67*SUMIF('Daily Log'!#REF!,$B67,'Daily Log'!#REF!),0)","v":0},{"$f":"IFERROR($E67*SUMIF('Daily Log'!#REF!,$B67,'Daily Log'!#REF!),0)","v":0},{"$f":"IFERROR($E67*SUMIF('Daily Log'!#REF!,$B67,'Daily Log'!#REF!),0)","v":0},{"$f":"IFERROR($E67*SUMIF('Daily Log'!#REF!,$B67,'Daily Log'!#REF!),0)","v":0},{"$f":"IFERROR($E67*SUMIF('Daily Log'!#REF!,$B67,'Daily Log'!#REF!),0)","v":0},{"$f":"IFERROR($E67*SUMIF('Daily Log'!#REF!,$B67,'Daily Log'!#REF!),0)","v":0},{"$f":"IFERROR($E67*SUMIF('Daily Log'!#REF!,$B67,'Daily Log'!#REF!),0)","v":0},{"$f":"IFERROR($E67*SUMIF('Daily Log'!#REF!,$B67,'Daily Log'!#REF!),0)","v":0},{"$f":"IFERROR($E67*SUMIF('Daily Log'!#REF!,$B67,'Daily Log'!#REF!),0)","v":0},{"$f":"IFERROR($E67*SUMIF('Daily Log'!#REF!,$B67,'Daily Log'!#REF!),0)","v":0},{"$f":"IFERROR($E67*SUMIF('Daily Log'!#REF!,$B67,'Daily Log'!#REF!),0)","v":0},{"$f":"IFERROR($E67*SUMIF('Daily Log'!#REF!,$B67,'Daily Log'!#REF!),0)","v":0},{"$f":"IFERROR($E67*SUMIF('Daily Log'!#REF!,$B67,'Daily Log'!#REF!),0)","v":0},{"$f":"IFERROR($E67*SUMIF('Daily Log'!#REF!,$B67,'Daily Log'!#REF!),0)","v":0},{"$f":"IFERROR($E67*SUMIF('Daily Log'!#REF!,$B67,'Daily Log'!#REF!),0)","v":0},{"$f":"IFERROR($E67*SUMIF('Daily Log'!#REF!,$B67,'Daily Log'!#REF!),0)","v":0},{"$f":"IFERROR($E67*SUMIF('Daily Log'!#REF!,$B67,'Daily Log'!#REF!),0)","v":0},{"$f":"IFERROR($E67*SUMIF('Daily Log'!#REF!,$B67,'Daily Log'!#REF!),0)","v":0},{"$f":"IFERROR($E67*SUMIF('Daily Log'!#REF!,$B67,'Daily Log'!#REF!),0)","v":0},{"$f":"IFERROR($E67*SUMIF('Daily Log'!#REF!,$B67,'Daily Log'!#REF!),0)","v":0}]
[null,"CC08 CHOCOLATE SM",null,"SIDE ORDER-SMOOTHIES",1,0,{"$f":"IFERROR($E68*SUMIF('Daily Log'!$B$18:$B$1017,$B68,'Daily Log'!$C$18:$C$1017),0)","v":0},{"$f":"IFERROR($E68*SUMIF('Daily Log'!$E$18:$E$1017,$B68,'Daily Log'!$F$18:$F$1017),0)","v":0},{"$f":"IFERROR($E68*SUMIF('Daily Log'!$H$18:$H$1017,$B68,'Daily Log'!$I$18:$I$1017),0)","v":0},{"$f":"IFERROR($E68*SUMIF('Daily Log'!$K$18:$K$1017,$B68,'Daily Log'!$L$18:$L$1017),0)","v":0},{"$f":"IFERROR($E68*SUMIF('Daily Log'!$N$18:$N$1017,$B68,'Daily Log'!$O$18:$O$1017),0)","v":0},{"$f":"IFERROR($E68*SUMIF('Daily Log'!#REF!,$B68,'Daily Log'!#REF!),0)","v":0},{"$f":"IFERROR($E68*SUMIF('Daily Log'!#REF!,$B68,'Daily Log'!#REF!),0)","v":0},{"$f":"IFERROR($E68*SUMIF('Daily Log'!#REF!,$B68,'Daily Log'!#REF!),0)","v":0},{"$f":"IFERROR($E68*SUMIF('Daily Log'!#REF!,$B68,'Daily Log'!#REF!),0)","v":0},{"$f":"IFERROR($E68*SUMIF('Daily Log'!#REF!,$B68,'Daily Log'!#REF!),0)","v":0},{"$f":"IFERROR($E68*SUMIF('Daily Log'!#REF!,$B68,'Daily Log'!#REF!),0)","v":0},{"$f":"IFERROR($E68*SUMIF('Daily Log'!#REF!,$B68,'Daily Log'!#REF!),0)","v":0},{"$f":"IFERROR($E68*SUMIF('Daily Log'!#REF!,$B68,'Daily Log'!#REF!),0)","v":0},{"$f":"IFERROR($E68*SUMIF('Daily Log'!#REF!,$B68,'Daily Log'!#REF!),0)","v":0},{"$f":"IFERROR($E68*SUMIF('Daily Log'!#REF!,$B68,'Daily Log'!#REF!),0)","v":0},{"$f":"IFERROR($E68*SUMIF('Daily Log'!#REF!,$B68,'Daily Log'!#REF!),0)","v":0},{"$f":"IFERROR($E68*SUMIF('Daily Log'!#REF!,$B68,'Daily Log'!#REF!),0)","v":0},{"$f":"IFERROR($E68*SUMIF('Daily Log'!#REF!,$B68,'Daily Log'!#REF!),0)","v":0},{"$f":"IFERROR($E68*SUMIF('Daily Log'!#REF!,$B68,'Daily Log'!#REF!),0)","v":0},{"$f":"IFERROR($E68*SUMIF('Daily Log'!#REF!,$B68,'Daily Log'!#REF!),0)","v":0},{"$f":"IFERROR($E68*SUMIF('Daily Log'!#REF!,$B68,'Daily Log'!#REF!),0)","v":0},{"$f":"IFERROR($E68*SUMIF('Daily Log'!#REF!,$B68,'Daily Log'!#REF!),0)","v":0},{"$f":"IFERROR($E68*SUMIF('Daily Log'!#REF!,$B68,'Daily Log'!#REF!),0)","v":0},{"$f":"IFERROR($E68*SUMIF('Daily Log'!#REF!,$B68,'Daily Log'!#REF!),0)","v":0},{"$f":"IFERROR($E68*SUMIF('Daily Log'!#REF!,$B68,'Daily Log'!#REF!),0)","v":0},{"$f":"IFERROR($E68*SUMIF('Daily Log'!#REF!,$B68,'Daily Log'!#REF!),0)","v":0},{"$f":"IFERROR($E68*SUMIF('Daily Log'!#REF!,$B68,'Daily Log'!#REF!),0)","v":0},{"$f":"IFERROR($E68*SUMIF('Daily Log'!#REF!,$B68,'Daily Log'!#REF!),0)","v":0},{"$f":"IFERROR($E68*SUMIF('Daily Log'!#REF!,$B68,'Daily Log'!#REF!),0)","v":0},{"$f":"IFERROR($E68*SUMIF('Daily Log'!#REF!,$B68,'Daily Log'!#REF!),0)","v":0},{"$f":"IFERROR($E68*SUMIF('Daily Log'!#REF!,$B68,'Daily Log'!#REF!),0)","v":0}]
[null,"CC09 MOCHA SM",null,"SIDE ORDER-SMOOTHIES",1,0,{"$f":"IFERROR($E69*SUMIF('Daily Log'!$B$18:$B$1017,$B69,'Daily Log'!$C$18:$C$1017),0)","v":0},{"$f":"IFERROR($E69*SUMIF('Daily Log'!$E$18:$E$1017,$B69,'Daily Log'!$F$18:$F$1017),0)","v":0},{"$f":"IFERROR($E69*SUMIF('Daily Log'!$H$18:$H$1017,$B69,'Daily Log'!$I$18:$I$1017),0)","v":0},{"$f":"IFERROR($E69*SUMIF('Daily Log'!$K$18:$K$1017,$B69,'Daily Log'!$L$18:$L$1017),0)","v":0},{"$f":"IFERROR($E69*SUMIF('Daily Log'!$N$18:$N$1017,$B69,'Daily Log'!$O$18:$O$1017),0)","v":0},{"$f":"IFERROR($E69*SUMIF('Daily Log'!#REF!,$B69,'Daily Log'!#REF!),0)","v":0},{"$f":"IFERROR($E69*SUMIF('Daily Log'!#REF!,$B69,'Daily Log'!#REF!),0)","v":0},{"$f":"IFERROR($E69*SUMIF('Daily Log'!#REF!,$B69,'Daily Log'!#REF!),0)","v":0},{"$f":"IFERROR($E69*SUMIF('Daily Log'!#REF!,$B69,'Daily Log'!#REF!),0)","v":0},{"$f":"IFERROR($E69*SUMIF('Daily Log'!#REF!,$B69,'Daily Log'!#REF!),0)","v":0},{"$f":"IFERROR($E69*SUMIF('Daily Log'!#REF!,$B69,'Daily Log'!#REF!),0)","v":0},{"$f":"IFERROR($E69*SUMIF('Daily Log'!#REF!,$B69,'Daily Log'!#REF!),0)","v":0},{"$f":"IFERROR($E69*SUMIF('Daily Log'!#REF!,$B69,'Daily Log'!#REF!),0)","v":0},{"$f":"IFERROR($E69*SUMIF('Daily Log'!#REF!,$B69,'Daily Log'!#REF!),0)","v":0},{"$f":"IFERROR($E69*SUMIF('Daily Log'!#REF!,$B69,'Daily Log'!#REF!),0)","v":0},{"$f":"IFERROR($E69*SUMIF('Daily Log'!#REF!,$B69,'Daily Log'!#REF!),0)","v":0},{"$f":"IFERROR($E69*SUMIF('Daily Log'!#REF!,$B69,'Daily Log'!#REF!),0)","v":0},{"$f":"IFERROR($E69*SUMIF('Daily Log'!#REF!,$B69,'Daily Log'!#REF!),0)","v":0},{"$f":"IFERROR($E69*SUMIF('Daily Log'!#REF!,$B69,'Daily Log'!#REF!),0)","v":0},{"$f":"IFERROR($E69*SUMIF('Daily Log'!#REF!,$B69,'Daily Log'!#REF!),0)","v":0},{"$f":"IFERROR($E69*SUMIF('Daily Log'!#REF!,$B69,'Daily Log'!#REF!),0)","v":0},{"$f":"IFERROR($E69*SUMIF('Daily Log'!#REF!,$B69,'Daily Log'!#REF!),0)","v":0},{"$f":"IFERROR($E69*SUMIF('Daily Log'!#REF!,$B69,'Daily Log'!#REF!),0)","v":0},{"$f":"IFERROR($E69*SUMIF('Daily Log'!#REF!,$B69,'Daily Log'!#REF!),0)","v":0},{"$f":"IFERROR($E69*SUMIF('Daily Log'!#REF!,$B69,'Daily Log'!#REF!),0)","v":0},{"$f":"IFERROR($E69*SUMIF('Daily Log'!#REF!,$B69,'Daily Log'!#REF!),0)","v":0},{"$f":"IFERROR($E69*SUMIF('Daily Log'!#REF!,$B69,'Daily Log'!#REF!),0)","v":0},{"$f":"IFERROR($E69*SUMIF('Daily Log'!#REF!,$B69,'Daily Log'!#REF!),0)","v":0},{"$f":"IFERROR($E69*SUMIF('Daily Log'!#REF!,$B69,'Daily Log'!#REF!),0)","v":0},{"$f":"IFERROR($E69*SUMIF('Daily Log'!#REF!,$B69,'Daily Log'!#REF!),0)","v":0},{"$f":"IFERROR($E69*SUMIF('Daily Log'!#REF!,$B69,'Daily Log'!#REF!),0)","v":0}]
[null,"CD01 7 UP",null,"SIDE ORDER-SOFT DRINKS",1,0,{"$f":"IFERROR($E70*SUMIF('Daily Log'!$B$18:$B$1017,$B70,'Daily Log'!$C$18:$C$1017),0)","v":0},{"$f":"IFERROR($E70*SUMIF('Daily Log'!$E$18:$E$1017,$B70,'Daily Log'!$F$18:$F$1017),0)","v":0},{"$f":"IFERROR($E70*SUMIF('Daily Log'!$H$18:$H$1017,$B70,'Daily Log'!$I$18:$I$1017),0)","v":0},{"$f":"IFERROR($E70*SUMIF('Daily Log'!$K$18:$K$1017,$B70,'Daily Log'!$L$18:$L$1017),0)","v":0},{"$f":"IFERROR($E70*SUMIF('Daily Log'!$N$18:$N$1017,$B70,'Daily Log'!$O$18:$O$1017),0)","v":0},{"$f":"IFERROR($E70*SUMIF('Daily Log'!#REF!,$B70,'Daily Log'!#REF!),0)","v":0},{"$f":"IFERROR($E70*SUMIF('Daily Log'!#REF!,$B70,'Daily Log'!#REF!),0)","v":0},{"$f":"IFERROR($E70*SUMIF('Daily Log'!#REF!,$B70,'Daily Log'!#REF!),0)","v":0},{"$f":"IFERROR($E70*SUMIF('Daily Log'!#REF!,$B70,'Daily Log'!#REF!),0)","v":0},{"$f":"IFERROR($E70*SUMIF('Daily Log'!#REF!,$B70,'Daily Log'!#REF!),0)","v":0},{"$f":"IFERROR($E70*SUMIF('Daily Log'!#REF!,$B70,'Daily Log'!#REF!),0)","v":0},{"$f":"IFERROR($E70*SUMIF('Daily Log'!#REF!,$B70,'Daily Log'!#REF!),0)","v":0},{"$f":"IFERROR($E70*SUMIF('Daily Log'!#REF!,$B70,'Daily Log'!#REF!),0)","v":0},{"$f":"IFERROR($E70*SUMIF('Daily Log'!#REF!,$B70,'Daily Log'!#REF!),0)","v":0},{"$f":"IFERROR($E70*SUMIF('Daily Log'!#REF!,$B70,'Daily Log'!#REF!),0)","v":0},{"$f":"IFERROR($E70*SUMIF('Daily Log'!#REF!,$B70,'Daily Log'!#REF!),0)","v":0},{"$f":"IFERROR($E70*SUMIF('Daily Log'!#REF!,$B70,'Daily Log'!#REF!),0)","v":0},{"$f":"IFERROR($E70*SUMIF('Daily Log'!#REF!,$B70,'Daily Log'!#REF!),0)","v":0},{"$f":"IFERROR($E70*SUMIF('Daily Log'!#REF!,$B70,'Daily Log'!#REF!),0)","v":0},{"$f":"IFERROR($E70*SUMIF('Daily Log'!#REF!,$B70,'Daily Log'!#REF!),0)","v":0},{"$f":"IFERROR($E70*SUMIF('Daily Log'!#REF!,$B70,'Daily Log'!#REF!),0)","v":0},{"$f":"IFERROR($E70*SUMIF('Daily Log'!#REF!,$B70,'Daily Log'!#REF!),0)","v":0},{"$f":"IFERROR($E70*SUMIF('Daily Log'!#REF!,$B70,'Daily Log'!#REF!),0)","v":0},{"$f":"IFERROR($E70*SUMIF('Daily Log'!#REF!,$B70,'Daily Log'!#REF!),0)","v":0},{"$f":"IFERROR($E70*SUMIF('Daily Log'!#REF!,$B70,'Daily Log'!#REF!),0)","v":0},{"$f":"IFERROR($E70*SUMIF('Daily Log'!#REF!,$B70,'Daily Log'!#REF!),0)","v":0},{"$f":"IFERROR($E70*SUMIF('Daily Log'!#REF!,$B70,'Daily Log'!#REF!),0)","v":0},{"$f":"IFERROR($E70*SUMIF('Daily Log'!#REF!,$B70,'Daily Log'!#REF!),0)","v":0},{"$f":"IFERROR($E70*SUMIF('Daily Log'!#REF!,$B70,'Daily Log'!#REF!),0)","v":0},{"$f":"IFERROR($E70*SUMIF('Daily Log'!#REF!,$B70,'Daily Log'!#REF!),0)","v":0},{"$f":"IFERROR($E70*SUMIF('Daily Log'!#REF!,$B70,'Daily Log'!#REF!),0)","v":0}]
[null,"CD02 7 UP REVIVE",null,"SIDE ORDER-SOFT DRINKS",1,0,{"$f":"IFERROR($E71*SUMIF('Daily Log'!$B$18:$B$1017,$B71,'Daily Log'!$C$18:$C$1017),0)","v":0},{"$f":"IFERROR($E71*SUMIF('Daily Log'!$E$18:$E$1017,$B71,'Daily Log'!$F$18:$F$1017),0)","v":0},{"$f":"IFERROR($E71*SUMIF('Daily Log'!$H$18:$H$1017,$B71,'Daily Log'!$I$18:$I$1017),0)","v":0},{"$f":"IFERROR($E71*SUMIF('Daily Log'!$K$18:$K$1017,$B71,'Daily Log'!$L$18:$L$1017),0)","v":0},{"$f":"IFERROR($E71*SUMIF('Daily Log'!$N$18:$N$1017,$B71,'Daily Log'!$O$18:$O$1017),0)","v":0},{"$f":"IFERROR($E71*SUMIF('Daily Log'!#REF!,$B71,'Daily Log'!#REF!),0)","v":0},{"$f":"IFERROR($E71*SUMIF('Daily Log'!#REF!,$B71,'Daily Log'!#REF!),0)","v":0},{"$f":"IFERROR($E71*SUMIF('Daily Log'!#REF!,$B71,'Daily Log'!#REF!),0)","v":0},{"$f":"IFERROR($E71*SUMIF('Daily Log'!#REF!,$B71,'Daily Log'!#REF!),0)","v":0},{"$f":"IFERROR($E71*SUMIF('Daily Log'!#REF!,$B71,'Daily Log'!#REF!),0)","v":0},{"$f":"IFERROR($E71*SUMIF('Daily Log'!#REF!,$B71,'Daily Log'!#REF!),0)","v":0},{"$f":"IFERROR($E71*SUMIF('Daily Log'!#REF!,$B71,'Daily Log'!#REF!),0)","v":0},{"$f":"IFERROR($E71*SUMIF('Daily Log'!#REF!,$B71,'Daily Log'!#REF!),0)","v":0},{"$f":"IFERROR($E71*SUMIF('Daily Log'!#REF!,$B71,'Daily Log'!#REF!),0)","v":0},{"$f":"IFERROR($E71*SUMIF('Daily Log'!#REF!,$B71,'Daily Log'!#REF!),0)","v":0},{"$f":"IFERROR($E71*SUMIF('Daily Log'!#REF!,$B71,'Daily Log'!#REF!),0)","v":0},{"$f":"IFERROR($E71*SUMIF('Daily Log'!#REF!,$B71,'Daily Log'!#REF!),0)","v":0},{"$f":"IFERROR($E71*SUMIF('Daily Log'!#REF!,$B71,'Daily Log'!#REF!),0)","v":0},{"$f":"IFERROR($E71*SUMIF('Daily Log'!#REF!,$B71,'Daily Log'!#REF!),0)","v":0},{"$f":"IFERROR($E71*SUMIF('Daily Log'!#REF!,$B71,'Daily Log'!#REF!),0)","v":0},{"$f":"IFERROR($E71*SUMIF('Daily Log'!#REF!,$B71,'Daily Log'!#REF!),0)","v":0},{"$f":"IFERROR($E71*SUMIF('Daily Log'!#REF!,$B71,'Daily Log'!#REF!),0)","v":0},{"$f":"IFERROR($E71*SUMIF('Daily Log'!#REF!,$B71,'Daily Log'!#REF!),0)","v":0},{"$f":"IFERROR($E71*SUMIF('Daily Log'!#REF!,$B71,'Daily Log'!#REF!),0)","v":0},{"$f":"IFERROR($E71*SUMIF('Daily Log'!#REF!,$B71,'Daily Log'!#REF!),0)","v":0},{"$f":"IFERROR($E71*SUMIF('Daily Log'!#REF!,$B71,'Daily Log'!#REF!),0)","v":0},{"$f":"IFERROR($E71*SUMIF('Daily Log'!#REF!,$B71,'Daily Log'!#REF!),0)","v":0},{"$f":"IFERROR($E71*SUMIF('Daily Log'!#REF!,$B71,'Daily Log'!#REF!),0)","v":0},{"$f":"IFERROR($E71*SUMIF('Daily Log'!#REF!,$B71,'Daily Log'!#REF!),0)","v":0},{"$f":"IFERROR($E71*SUMIF('Daily Log'!#REF!,$B71,'Daily Log'!#REF!),0)","v":0},{"$f":"IFERROR($E71*SUMIF('Daily Log'!#REF!,$B71,'Daily Log'!#REF!),0)","v":0}]
[null,"CD03 PEPSI",null,"SIDE ORDER-SOFT DRINKS",1,0,{"$f":"IFERROR($E72*SUMIF('Daily Log'!$B$18:$B$1017,$B72,'Daily Log'!$C$18:$C$1017),0)","v":0},{"$f":"IFERROR($E72*SUMIF('Daily Log'!$E$18:$E$1017,$B72,'Daily Log'!$F$18:$F$1017),0)","v":0},{"$f":"IFERROR($E72*SUMIF('Daily Log'!$H$18:$H$1017,$B72,'Daily Log'!$I$18:$I$1017),0)","v":0},{"$f":"IFERROR($E72*SUMIF('Daily Log'!$K$18:$K$1017,$B72,'Daily Log'!$L$18:$L$1017),0)","v":0},{"$f":"IFERROR($E72*SUMIF('Daily Log'!$N$18:$N$1017,$B72,'Daily Log'!$O$18:$O$1017),0)","v":0},{"$f":"IFERROR($E72*SUMIF('Daily Log'!#REF!,$B72,'Daily Log'!#REF!),0)","v":0},{"$f":"IFERROR($E72*SUMIF('Daily Log'!#REF!,$B72,'Daily Log'!#REF!),0)","v":0},{"$f":"IFERROR($E72*SUMIF('Daily Log'!#REF!,$B72,'Daily Log'!#REF!),0)","v":0},{"$f":"IFERROR($E72*SUMIF('Daily Log'!#REF!,$B72,'Daily Log'!#REF!),0)","v":0},{"$f":"IFERROR($E72*SUMIF('Daily Log'!#REF!,$B72,'Daily Log'!#REF!),0)","v":0},{"$f":"IFERROR($E72*SUMIF('Daily Log'!#REF!,$B72,'Daily Log'!#REF!),0)","v":0},{"$f":"IFERROR($E72*SUMIF('Daily Log'!#REF!,$B72,'Daily Log'!#REF!),0)","v":0},{"$f":"IFERROR($E72*SUMIF('Daily Log'!#REF!,$B72,'Daily Log'!#REF!),0)","v":0},{"$f":"IFERROR($E72*SUMIF('Daily Log'!#REF!,$B72,'Daily Log'!#REF!),0)","v":0},{"$f":"IFERROR($E72*SUMIF('Daily Log'!#REF!,$B72,'Daily Log'!#REF!),0)","v":0},{"$f":"IFERROR($E72*SUMIF('Daily Log'!#REF!,$B72,'Daily Log'!#REF!),0)","v":0},{"$f":"IFERROR($E72*SUMIF('Daily Log'!#REF!,$B72,'Daily Log'!#REF!),0)","v":0},{"$f":"IFERROR($E72*SUMIF('Daily Log'!#REF!,$B72,'Daily Log'!#REF!),0)","v":0},{"$f":"IFERROR($E72*SUMIF('Daily Log'!#REF!,$B72,'Daily Log'!#REF!),0)","v":0},{"$f":"IFERROR($E72*SUMIF('Daily Log'!#REF!,$B72,'Daily Log'!#REF!),0)","v":0},{"$f":"IFERROR($E72*SUMIF('Daily Log'!#REF!,$B72,'Daily Log'!#REF!),0)","v":0},{"$f":"IFERROR($E72*SUMIF('Daily Log'!#REF!,$B72,'Daily Log'!#REF!),0)","v":0},{"$f":"IFERROR($E72*SUMIF('Daily Log'!#REF!,$B72,'Daily Log'!#REF!),0)","v":0},{"$f":"IFERROR($E72*SUMIF('Daily Log'!#REF!,$B72,'Daily Log'!#REF!),0)","v":0},{"$f":"IFERROR($E72*SUMIF('Daily Log'!#REF!,$B72,'Daily Log'!#REF!),0)","v":0},{"$f":"IFERROR($E72*SUMIF('Daily Log'!#REF!,$B72,'Daily Log'!#REF!),0)","v":0},{"$f":"IFERROR($E72*SUMIF('Daily Log'!#REF!,$B72,'Daily Log'!#REF!),0)","v":0},{"$f":"IFERROR($E72*SUMIF('Daily Log'!#REF!,$B72,'Daily Log'!#REF!),0)","v":0},{"$f":"IFERROR($E72*SUMIF('Daily Log'!#REF!,$B72,'Daily Log'!#REF!),0)","v":0},{"$f":"IFERROR($E72*SUMIF('Daily Log'!#REF!,$B72,'Daily Log'!#REF!),0)","v":0},{"$f":"IFERROR($E72*SUMIF('Daily Log'!#REF!,$B72,'Daily Log'!#REF!),0)","v":0}]
[null,"CE01 MILO (C)",null,"SIDE ORDER-COLD BEVERAGE",1,0,{"$f":"IFERROR($E73*SUMIF('Daily Log'!$B$18:$B$1017,$B73,'Daily Log'!$C$18:$C$1017),0)","v":0},{"$f":"IFERROR($E73*SUMIF('Daily Log'!$E$18:$E$1017,$B73,'Daily Log'!$F$18:$F$1017),0)","v":0},{"$f":"IFERROR($E73*SUMIF('Daily Log'!$H$18:$H$1017,$B73,'Daily Log'!$I$18:$I$1017),0)","v":0},{"$f":"IFERROR($E73*SUMIF('Daily Log'!$K$18:$K$1017,$B73,'Daily Log'!$L$18:$L$1017),0)","v":0},{"$f":"IFERROR($E73*SUMIF('Daily Log'!$N$18:$N$1017,$B73,'Daily Log'!$O$18:$O$1017),0)","v":0},{"$f":"IFERROR($E73*SUMIF('Daily Log'!#REF!,$B73,'Daily Log'!#REF!),0)","v":0},{"$f":"IFERROR($E73*SUMIF('Daily Log'!#REF!,$B73,'Daily Log'!#REF!),0)","v":0},{"$f":"IFERROR($E73*SUMIF('Daily Log'!#REF!,$B73,'Daily Log'!#REF!),0)","v":0},{"$f":"IFERROR($E73*SUMIF('Daily Log'!#REF!,$B73,'Daily Log'!#REF!),0)","v":0},{"$f":"IFERROR($E73*SUMIF('Daily Log'!#REF!,$B73,'Daily Log'!#REF!),0)","v":0},{"$f":"IFERROR($E73*SUMIF('Daily Log'!#REF!,$B73,'Daily Log'!#REF!),0)","v":0},{"$f":"IFERROR($E73*SUMIF('Daily Log'!#REF!,$B73,'Daily Log'!#REF!),0)","v":0},{"$f":"IFERROR($E73*SUMIF('Daily Log'!#REF!,$B73,'Daily Log'!#REF!),0)","v":0},{"$f":"IFERROR($E73*SUMIF('Daily Log'!#REF!,$B73,'Daily Log'!#REF!),0)","v":0},{"$f":"IFERROR($E73*SUMIF('Daily Log'!#REF!,$B73,'Daily Log'!#REF!),0)","v":0},{"$f":"IFERROR($E73*SUMIF('Daily Log'!#REF!,$B73,'Daily Log'!#REF!),0)","v":0},{"$f":"IFERROR($E73*SUMIF('Daily Log'!#REF!,$B73,'Daily Log'!#REF!),0)","v":0},{"$f":"IFERROR($E73*SUMIF('Daily Log'!#REF!,$B73,'Daily Log'!#REF!),0)","v":0},{"$f":"IFERROR($E73*SUMIF('Daily Log'!#REF!,$B73,'Daily Log'!#REF!),0)","v":0},{"$f":"IFERROR($E73*SUMIF('Daily Log'!#REF!,$B73,'Daily Log'!#REF!),0)","v":0},{"$f":"IFERROR($E73*SUMIF('Daily Log'!#REF!,$B73,'Daily Log'!#REF!),0)","v":0},{"$f":"IFERROR($E73*SUMIF('Daily Log'!#REF!,$B73,'Daily Log'!#REF!),0)","v":0},{"$f":"IFERROR($E73*SUMIF('Daily Log'!#REF!,$B73,'Daily Log'!#REF!),0)","v":0},{"$f":"IFERROR($E73*SUMIF('Daily Log'!#REF!,$B73,'Daily Log'!#REF!),0)","v":0},{"$f":"IFERROR($E73*SUMIF('Daily Log'!#REF!,$B73,'Daily Log'!#REF!),0)","v":0},{"$f":"IFERROR($E73*SUMIF('Daily Log'!#REF!,$B73,'Daily Log'!#REF!),0)","v":0},{"$f":"IFERROR($E73*SUMIF('Daily Log'!#REF!,$B73,'Daily Log'!#REF!),0)","v":0},{"$f":"IFERROR($E73*SUMIF('Daily Log'!#REF!,$B73,'Daily Log'!#REF!),0)","v":0},{"$f":"IFERROR($E73*SUMIF('Daily Log'!#REF!,$B73,'Daily Log'!#REF!),0)","v":0},{"$f":"IFERROR($E73*SUMIF('Daily Log'!#REF!,$B73,'Daily Log'!#REF!),0)","v":0},{"$f":"IFERROR($E73*SUMIF('Daily Log'!#REF!,$B73,'Daily Log'!#REF!),0)","v":0}]
[null,"CE02 NESCAFE (C)",null,"SIDE ORDER-COLD BEVERAGE",1,0,{"$f":"IFERROR($E74*SUMIF('Daily Log'!$B$18:$B$1017,$B74,'Daily Log'!$C$18:$C$1017),0)","v":0},{"$f":"IFERROR($E74*SUMIF('Daily Log'!$E$18:$E$1017,$B74,'Daily Log'!$F$18:$F$1017),0)","v":0},{"$f":"IFERROR($E74*SUMIF('Daily Log'!$H$18:$H$1017,$B74,'Daily Log'!$I$18:$I$1017),0)","v":0},{"$f":"IFERROR($E74*SUMIF('Daily Log'!$K$18:$K$1017,$B74,'Daily Log'!$L$18:$L$1017),0)","v":0},{"$f":"IFERROR($E74*SUMIF('Daily Log'!$N$18:$N$1017,$B74,'Daily Log'!$O$18:$O$1017),0)","v":0},{"$f":"IFERROR($E74*SUMIF('Daily Log'!#REF!,$B74,'Daily Log'!#REF!),0)","v":0},{"$f":"IFERROR($E74*SUMIF('Daily Log'!#REF!,$B74,'Daily Log'!#REF!),0)","v":0},{"$f":"IFERROR($E74*SUMIF('Daily Log'!#REF!,$B74,'Daily Log'!#REF!),0)","v":0},{"$f":"IFERROR($E74*SUMIF('Daily Log'!#REF!,$B74,'Daily Log'!#REF!),0)","v":0},{"$f":"IFERROR($E74*SUMIF('Daily Log'!#REF!,$B74,'Daily Log'!#REF!),0)","v":0},{"$f":"IFERROR($E74*SUMIF('Daily Log'!#REF!,$B74,'Daily Log'!#REF!),0)","v":0},{"$f":"IFERROR($E74*SUMIF('Daily Log'!#REF!,$B74,'Daily Log'!#REF!),0)","v":0},{"$f":"IFERROR($E74*SUMIF('Daily Log'!#REF!,$B74,'Daily Log'!#REF!),0)","v":0},{"$f":"IFERROR($E74*SUMIF('Daily Log'!#REF!,$B74,'Daily Log'!#REF!),0)","v":0},{"$f":"IFERROR($E74*SUMIF('Daily Log'!#REF!,$B74,'Daily Log'!#REF!),0)","v":0},{"$f":"IFERROR($E74*SUMIF('Daily Log'!#REF!,$B74,'Daily Log'!#REF!),0)","v":0},{"$f":"IFERROR($E74*SUMIF('Daily Log'!#REF!,$B74,'Daily Log'!#REF!),0)","v":0},{"$f":"IFERROR($E74*SUMIF('Daily Log'!#REF!,$B74,'Daily Log'!#REF!),0)","v":0},{"$f":"IFERROR($E74*SUMIF('Daily Log'!#REF!,$B74,'Daily Log'!#REF!),0)","v":0},{"$f":"IFERROR($E74*SUMIF('Daily Log'!#REF!,$B74,'Daily Log'!#REF!),0)","v":0},{"$f":"IFERROR($E74*SUMIF('Daily Log'!#REF!,$B74,'Daily Log'!#REF!),0)","v":0},{"$f":"IFERROR($E74*SUMIF('Daily Log'!#REF!,$B74,'Daily Log'!#REF!),0)","v":0},{"$f":"IFERROR($E74*SUMIF('Daily Log'!#REF!,$B74,'Daily Log'!#REF!),0)","v":0},{"$f":"IFERROR($E74*SUMIF('Daily Log'!#REF!,$B74,'Daily Log'!#REF!),0)","v":0},{"$f":"IFERROR($E74*SUMIF('Daily Log'!#REF!,$B74,'Daily Log'!#REF!),0)","v":0},{"$f":"IFERROR($E74*SUMIF('Daily Log'!#REF!,$B74,'Daily Log'!#REF!),0)","v":0},{"$f":"IFERROR($E74*SUMIF('Daily Log'!#REF!,$B74,'Daily Log'!#REF!),0)","v":0},{"$f":"IFERROR($E74*SUMIF('Daily Log'!#REF!,$B74,'Daily Log'!#REF!),0)","v":0},{"$f":"IFERROR($E74*SUMIF('Daily Log'!#REF!,$B74,'Daily Log'!#REF!),0)","v":0},{"$f":"IFERROR($E74*SUMIF('Daily Log'!#REF!,$B74,'Daily Log'!#REF!),0)","v":0},{"$f":"IFERROR($E74*SUMIF('Daily Log'!#REF!,$B74,'Daily Log'!#REF!),0)","v":0}]
[null,"CE03 TEA (C)",null,"SIDE ORDER-COLD BEVERAGE",1,0,{"$f":"IFERROR($E75*SUMIF('Daily Log'!$B$18:$B$1017,$B75,'Daily Log'!$C$18:$C$1017),0)","v":0},{"$f":"IFERROR($E75*SUMIF('Daily Log'!$E$18:$E$1017,$B75,'Daily Log'!$F$18:$F$1017),0)","v":0},{"$f":"IFERROR($E75*SUMIF('Daily Log'!$H$18:$H$1017,$B75,'Daily Log'!$I$18:$I$1017),0)","v":0},{"$f":"IFERROR($E75*SUMIF('Daily Log'!$K$18:$K$1017,$B75,'Daily Log'!$L$18:$L$1017),0)","v":0},{"$f":"IFERROR($E75*SUMIF('Daily Log'!$N$18:$N$1017,$B75,'Daily Log'!$O$18:$O$1017),0)","v":0},{"$f":"IFERROR($E75*SUMIF('Daily Log'!#REF!,$B75,'Daily Log'!#REF!),0)","v":0},{"$f":"IFERROR($E75*SUMIF('Daily Log'!#REF!,$B75,'Daily Log'!#REF!),0)","v":0},{"$f":"IFERROR($E75*SUMIF('Daily Log'!#REF!,$B75,'Daily Log'!#REF!),0)","v":0},{"$f":"IFERROR($E75*SUMIF('Daily Log'!#REF!,$B75,'Daily Log'!#REF!),0)","v":0},{"$f":"IFERROR($E75*SUMIF('Daily Log'!#REF!,$B75,'Daily Log'!#REF!),0)","v":0},{"$f":"IFERROR($E75*SUMIF('Daily Log'!#REF!,$B75,'Daily Log'!#REF!),0)","v":0},{"$f":"IFERROR($E75*SUMIF('Daily Log'!#REF!,$B75,'Daily Log'!#REF!),0)","v":0},{"$f":"IFERROR($E75*SUMIF('Daily Log'!#REF!,$B75,'Daily Log'!#REF!),0)","v":0},{"$f":"IFERROR($E75*SUMIF('Daily Log'!#REF!,$B75,'Daily Log'!#REF!),0)","v":0},{"$f":"IFERROR($E75*SUMIF('Daily Log'!#REF!,$B75,'Daily Log'!#REF!),0)","v":0},{"$f":"IFERROR($E75*SUMIF('Daily Log'!#REF!,$B75,'Daily Log'!#REF!),0)","v":0},{"$f":"IFERROR($E75*SUMIF('Daily Log'!#REF!,$B75,'Daily Log'!#REF!),0)","v":0},{"$f":"IFERROR($E75*SUMIF('Daily Log'!#REF!,$B75,'Daily Log'!#REF!),0)","v":0},{"$f":"IFERROR($E75*SUMIF('Daily Log'!#REF!,$B75,'Daily Log'!#REF!),0)","v":0},{"$f":"IFERROR($E75*SUMIF('Daily Log'!#REF!,$B75,'Daily Log'!#REF!),0)","v":0},{"$f":"IFERROR($E75*SUMIF('Daily Log'!#REF!,$B75,'Daily Log'!#REF!),0)","v":0},{"$f":"IFERROR($E75*SUMIF('Daily Log'!#REF!,$B75,'Daily Log'!#REF!),0)","v":0},{"$f":"IFERROR($E75*SUMIF('Daily Log'!#REF!,$B75,'Daily Log'!#REF!),0)","v":0},{"$f":"IFERROR($E75*SUMIF('Daily Log'!#REF!,$B75,'Daily Log'!#REF!),0)","v":0},{"$f":"IFERROR($E75*SUMIF('Daily Log'!#REF!,$B75,'Daily Log'!#REF!),0)","v":0},{"$f":"IFERROR($E75*SUMIF('Daily Log'!#REF!,$B75,'Daily Log'!#REF!),0)","v":0},{"$f":"IFERROR($E75*SUMIF('Daily Log'!#REF!,$B75,'Daily Log'!#REF!),0)","v":0},{"$f":"IFERROR($E75*SUMIF('Daily Log'!#REF!,$B75,'Daily Log'!#REF!),0)","v":0},{"$f":"IFERROR($E75*SUMIF('Daily Log'!#REF!,$B75,'Daily Log'!#REF!),0)","v":0},{"$f":"IFERROR($E75*SUMIF('Daily Log'!#REF!,$B75,'Daily Log'!#REF!),0)","v":0},{"$f":"IFERROR($E75*SUMIF('Daily Log'!#REF!,$B75,'Daily Log'!#REF!),0)","v":0}]
[null,"CE04 LEMON TEA (C)",null,"SIDE ORDER-COLD BEVERAGE",1,1,{"$f":"IFERROR($E76*SUMIF('Daily Log'!$B$18:$B$1017,$B76,'Daily Log'!$C$18:$C$1017),0)","v":1},{"$f":"IFERROR($E76*SUMIF('Daily Log'!$E$18:$E$1017,$B76,'Daily Log'!$F$18:$F$1017),0)","v":0},{"$f":"IFERROR($E76*SUMIF('Daily Log'!$H$18:$H$1017,$B76,'Daily Log'!$I$18:$I$1017),0)","v":0},{"$f":"IFERROR($E76*SUMIF('Daily Log'!$K$18:$K$1017,$B76,'Daily Log'!$L$18:$L$1017),0)","v":0},{"$f":"IFERROR($E76*SUMIF('Daily Log'!$N$18:$N$1017,$B76,'Daily Log'!$O$18:$O$1017),0)","v":0},{"$f":"IFERROR($E76*SUMIF('Daily Log'!#REF!,$B76,'Daily Log'!#REF!),0)","v":0},{"$f":"IFERROR($E76*SUMIF('Daily Log'!#REF!,$B76,'Daily Log'!#REF!),0)","v":0},{"$f":"IFERROR($E76*SUMIF('Daily Log'!#REF!,$B76,'Daily Log'!#REF!),0)","v":0},{"$f":"IFERROR($E76*SUMIF('Daily Log'!#REF!,$B76,'Daily Log'!#REF!),0)","v":0},{"$f":"IFERROR($E76*SUMIF('Daily Log'!#REF!,$B76,'Daily Log'!#REF!),0)","v":0},{"$f":"IFERROR($E76*SUMIF('Daily Log'!#REF!,$B76,'Daily Log'!#REF!),0)","v":0},{"$f":"IFERROR($E76*SUMIF('Daily Log'!#REF!,$B76,'Daily Log'!#REF!),0)","v":0},{"$f":"IFERROR($E76*SUMIF('Daily Log'!#REF!,$B76,'Daily Log'!#REF!),0)","v":0},{"$f":"IFERROR($E76*SUMIF('Daily Log'!#REF!,$B76,'Daily Log'!#REF!),0)","v":0},{"$f":"IFERROR($E76*SUMIF('Daily Log'!#REF!,$B76,'Daily Log'!#REF!),0)","v":0},{"$f":"IFERROR($E76*SUMIF('Daily Log'!#REF!,$B76,'Daily Log'!#REF!),0)","v":0},{"$f":"IFERROR($E76*SUMIF('Daily Log'!#REF!,$B76,'Daily Log'!#REF!),0)","v":0},{"$f":"IFERROR($E76*SUMIF('Daily Log'!#REF!,$B76,'Daily Log'!#REF!),0)","v":0},{"$f":"IFERROR($E76*SUMIF('Daily Log'!#REF!,$B76,'Daily Log'!#REF!),0)","v":0},{"$f":"IFERROR($E76*SUMIF('Daily Log'!#REF!,$B76,'Daily Log'!#REF!),0)","v":0},{"$f":"IFERROR($E76*SUMIF('Daily Log'!#REF!,$B76,'Daily Log'!#REF!),0)","v":0},{"$f":"IFERROR($E76*SUMIF('Daily Log'!#REF!,$B76,'Daily Log'!#REF!),0)","v":0},{"$f":"IFERROR($E76*SUMIF('Daily Log'!#REF!,$B76,'Daily Log'!#REF!),0)","v":0},{"$f":"IFERROR($E76*SUMIF('Daily Log'!#REF!,$B76,'Daily Log'!#REF!),0)","v":0},{"$f":"IFERROR($E76*SUMIF('Daily Log'!#REF!,$B76,'Daily Log'!#REF!),0)","v":0},{"$f":"IFERROR($E76*SUMIF('Daily Log'!#REF!,$B76,'Daily Log'!#REF!),0)","v":0},{"$f":"IFERROR($E76*SUMIF('Daily Log'!#REF!,$B76,'Daily Log'!#REF!),0)","v":0},{"$f":"IFERROR($E76*SUMIF('Daily Log'!#REF!,$B76,'Daily Log'!#REF!),0)","v":0},{"$f":"IFERROR($E76*SUMIF('Daily Log'!#REF!,$B76,'Daily Log'!#REF!),0)","v":0},{"$f":"IFERROR($E76*SUMIF('Daily Log'!#REF!,$B76,'Daily Log'!#REF!),0)","v":0},{"$f":"IFERROR($E76*SUMIF('Daily Log'!#REF!,$B76,'Daily Log'!#REF!),0)","v":0}]
[null,"CE05 GRN TEA (C)",null,"SIDE ORDER-COLD BEVERAGE",1,0,{"$f":"IFERROR($E77*SUMIF('Daily Log'!$B$18:$B$1017,$B77,'Daily Log'!$C$18:$C$1017),0)","v":0},{"$f":"IFERROR($E77*SUMIF('Daily Log'!$E$18:$E$1017,$B77,'Daily Log'!$F$18:$F$1017),0)","v":0},{"$f":"IFERROR($E77*SUMIF('Daily Log'!$H$18:$H$1017,$B77,'Daily Log'!$I$18:$I$1017),0)","v":0},{"$f":"IFERROR($E77*SUMIF('Daily Log'!$K$18:$K$1017,$B77,'Daily Log'!$L$18:$L$1017),0)","v":0},{"$f":"IFERROR($E77*SUMIF('Daily Log'!$N$18:$N$1017,$B77,'Daily Log'!$O$18:$O$1017),0)","v":0},{"$f":"IFERROR($E77*SUMIF('Daily Log'!#REF!,$B77,'Daily Log'!#REF!),0)","v":0},{"$f":"IFERROR($E77*SUMIF('Daily Log'!#REF!,$B77,'Daily Log'!#REF!),0)","v":0},{"$f":"IFERROR($E77*SUMIF('Daily Log'!#REF!,$B77,'Daily Log'!#REF!),0)","v":0},{"$f":"IFERROR($E77*SUMIF('Daily Log'!#REF!,$B77,'Daily Log'!#REF!),0)","v":0},{"$f":"IFERROR($E77*SUMIF('Daily Log'!#REF!,$B77,'Daily Log'!#REF!),0)","v":0},{"$f":"IFERROR($E77*SUMIF('Daily Log'!#REF!,$B77,'Daily Log'!#REF!),0)","v":0},{"$f":"IFERROR($E77*SUMIF('Daily Log'!#REF!,$B77,'Daily Log'!#REF!),0)","v":0},{"$f":"IFERROR($E77*SUMIF('Daily Log'!#REF!,$B77,'Daily Log'!#REF!),0)","v":0},{"$f":"IFERROR($E77*SUMIF('Daily Log'!#REF!,$B77,'Daily Log'!#REF!),0)","v":0},{"$f":"IFERROR($E77*SUMIF('Daily Log'!#REF!,$B77,'Daily Log'!#REF!),0)","v":0},{"$f":"IFERROR($E77*SUMIF('Daily Log'!#REF!,$B77,'Daily Log'!#REF!),0)","v":0},{"$f":"IFERROR($E77*SUMIF('Daily Log'!#REF!,$B77,'Daily Log'!#REF!),0)","v":0},{"$f":"IFERROR($E77*SUMIF('Daily Log'!#REF!,$B77,'Daily Log'!#REF!),0)","v":0},{"$f":"IFERROR($E77*SUMIF('Daily Log'!#REF!,$B77,'Daily Log'!#REF!),0)","v":0},{"$f":"IFERROR($E77*SUMIF('Daily Log'!#REF!,$B77,'Daily Log'!#REF!),0)","v":0},{"$f":"IFERROR($E77*SUMIF('Daily Log'!#REF!,$B77,'Daily Log'!#REF!),0)","v":0},{"$f":"IFERROR($E77*SUMIF('Daily Log'!#REF!,$B77,'Daily Log'!#REF!),0)","v":0},{"$f":"IFERROR($E77*SUMIF('Daily Log'!#REF!,$B77,'Daily Log'!#REF!),0)","v":0},{"$f":"IFERROR($E77*SUMIF('Daily Log'!#REF!,$B77,'Daily Log'!#REF!),0)","v":0},{"$f":"IFERROR($E77*SUMIF('Daily Log'!#REF!,$B77,'Daily Log'!#REF!),0)","v":0},{"$f":"IFERROR($E77*SUMIF('Daily Log'!#REF!,$B77,'Daily Log'!#REF!),0)","v":0},{"$f":"IFERROR($E77*SUMIF('Daily Log'!#REF!,$B77,'Daily Log'!#REF!),0)","v":0},{"$f":"IFERROR($E77*SUMIF('Daily Log'!#REF!,$B77,'Daily Log'!#REF!),0)","v":0},{"$f":"IFERROR($E77*SUMIF('Daily Log'!#REF!,$B77,'Daily Log'!#REF!),0)","v":0},{"$f":"IFERROR($E77*SUMIF('Daily Log'!#REF!,$B77,'Daily Log'!#REF!),0)","v":0},{"$f":"IFERROR($E77*SUMIF('Daily Log'!#REF!,$B77,'Daily Log'!#REF!),0)","v":0}]
[null,"CE06 HNY GRN TEA (C)",null,"SIDE ORDER-COLD BEVERAGE",1,0,{"$f":"IFERROR($E78*SUMIF('Daily Log'!$B$18:$B$1017,$B78,'Daily Log'!$C$18:$C$1017),0)","v":0},{"$f":"IFERROR($E78*SUMIF('Daily Log'!$E$18:$E$1017,$B78,'Daily Log'!$F$18:$F$1017),0)","v":0},{"$f":"IFERROR($E78*SUMIF('Daily Log'!$H$18:$H$1017,$B78,'Daily Log'!$I$18:$I$1017),0)","v":0},{"$f":"IFERROR($E78*SUMIF('Daily Log'!$K$18:$K$1017,$B78,'Daily Log'!$L$18:$L$1017),0)","v":0},{"$f":"IFERROR($E78*SUMIF('Daily Log'!$N$18:$N$1017,$B78,'Daily Log'!$O$18:$O$1017),0)","v":0},{"$f":"IFERROR($E78*SUMIF('Daily Log'!#REF!,$B78,'Daily Log'!#REF!),0)","v":0},{"$f":"IFERROR($E78*SUMIF('Daily Log'!#REF!,$B78,'Daily Log'!#REF!),0)","v":0},{"$f":"IFERROR($E78*SUMIF('Daily Log'!#REF!,$B78,'Daily Log'!#REF!),0)","v":0},{"$f":"IFERROR($E78*SUMIF('Daily Log'!#REF!,$B78,'Daily Log'!#REF!),0)","v":0},{"$f":"IFERROR($E78*SUMIF('Daily Log'!#REF!,$B78,'Daily Log'!#REF!),0)","v":0},{"$f":"IFERROR($E78*SUMIF('Daily Log'!#REF!,$B78,'Daily Log'!#REF!),0)","v":0},{"$f":"IFERROR($E78*SUMIF('Daily Log'!#REF!,$B78,'Daily Log'!#REF!),0)","v":0},{"$f":"IFERROR($E78*SUMIF('Daily Log'!#REF!,$B78,'Daily Log'!#REF!),0)","v":0},{"$f":"IFERROR($E78*SUMIF('Daily Log'!#REF!,$B78,'Daily Log'!#REF!),0)","v":0},{"$f":"IFERROR($E78*SUMIF('Daily Log'!#REF!,$B78,'Daily Log'!#REF!),0)","v":0},{"$f":"IFERROR($E78*SUMIF('Daily Log'!#REF!,$B78,'Daily Log'!#REF!),0)","v":0},{"$f":"IFERROR($E78*SUMIF('Daily Log'!#REF!,$B78,'Daily Log'!#REF!),0)","v":0},{"$f":"IFERROR($E78*SUMIF('Daily Log'!#REF!,$B78,'Daily Log'!#REF!),0)","v":0},{"$f":"IFERROR($E78*SUMIF('Daily Log'!#REF!,$B78,'Daily Log'!#REF!),0)","v":0},{"$f":"IFERROR($E78*SUMIF('Daily Log'!#REF!,$B78,'Daily Log'!#REF!),0)","v":0},{"$f":"IFERROR($E78*SUMIF('Daily Log'!#REF!,$B78,'Daily Log'!#REF!),0)","v":0},{"$f":"IFERROR($E78*SUMIF('Daily Log'!#REF!,$B78,'Daily Log'!#REF!),0)","v":0},{"$f":"IFERROR($E78*SUMIF('Daily Log'!#REF!,$B78,'Daily Log'!#REF!),0)","v":0},{"$f":"IFERROR($E78*SUMIF('Daily Log'!#REF!,$B78,'Daily Log'!#REF!),0)","v":0},{"$f":"IFERROR($E78*SUMIF('Daily Log'!#REF!,$B78,'Daily Log'!#REF!),0)","v":0},{"$f":"IFERROR($E78*SUMIF('Daily Log'!#REF!,$B78,'Daily Log'!#REF!),0)","v":0},{"$f":"IFERROR($E78*SUMIF('Daily Log'!#REF!,$B78,'Daily Log'!#REF!),0)","v":0},{"$f":"IFERROR($E78*SUMIF('Daily Log'!#REF!,$B78,'Daily Log'!#REF!),0)","v":0},{"$f":"IFERROR($E78*SUMIF('Daily Log'!#REF!,$B78,'Daily Log'!#REF!),0)","v":0},{"$f":"IFERROR($E78*SUMIF('Daily Log'!#REF!,$B78,'Daily Log'!#REF!),0)","v":0},{"$f":"IFERROR($E78*SUMIF('Daily Log'!#REF!,$B78,'Daily Log'!#REF!),0)","v":0}]
[null,"CE07 HONEY (C)",null,"SIDE ORDER-COLD BEVERAGE",1,0,{"$f":"IFERROR($E79*SUMIF('Daily Log'!$B$18:$B$1017,$B79,'Daily Log'!$C$18:$C$1017),0)","v":0},{"$f":"IFERROR($E79*SUMIF('Daily Log'!$E$18:$E$1017,$B79,'Daily Log'!$F$18:$F$1017),0)","v":0},{"$f":"IFERROR($E79*SUMIF('Daily Log'!$H$18:$H$1017,$B79,'Daily Log'!$I$18:$I$1017),0)","v":0},{"$f":"IFERROR($E79*SUMIF('Daily Log'!$K$18:$K$1017,$B79,'Daily Log'!$L$18:$L$1017),0)","v":0},{"$f":"IFERROR($E79*SUMIF('Daily Log'!$N$18:$N$1017,$B79,'Daily Log'!$O$18:$O$1017),0)","v":0},{"$f":"IFERROR($E79*SUMIF('Daily Log'!#REF!,$B79,'Daily Log'!#REF!),0)","v":0},{"$f":"IFERROR($E79*SUMIF('Daily Log'!#REF!,$B79,'Daily Log'!#REF!),0)","v":0},{"$f":"IFERROR($E79*SUMIF('Daily Log'!#REF!,$B79,'Daily Log'!#REF!),0)","v":0},{"$f":"IFERROR($E79*SUMIF('Daily Log'!#REF!,$B79,'Daily Log'!#REF!),0)","v":0},{"$f":"IFERROR($E79*SUMIF('Daily Log'!#REF!,$B79,'Daily Log'!#REF!),0)","v":0},{"$f":"IFERROR($E79*SUMIF('Daily Log'!#REF!,$B79,'Daily Log'!#REF!),0)","v":0},{"$f":"IFERROR($E79*SUMIF('Daily Log'!#REF!,$B79,'Daily Log'!#REF!),0)","v":0},{"$f":"IFERROR($E79*SUMIF('Daily Log'!#REF!,$B79,'Daily Log'!#REF!),0)","v":0},{"$f":"IFERROR($E79*SUMIF('Daily Log'!#REF!,$B79,'Daily Log'!#REF!),0)","v":0},{"$f":"IFERROR($E79*SUMIF('Daily Log'!#REF!,$B79,'Daily Log'!#REF!),0)","v":0},{"$f":"IFERROR($E79*SUMIF('Daily Log'!#REF!,$B79,'Daily Log'!#REF!),0)","v":0},{"$f":"IFERROR($E79*SUMIF('Daily Log'!#REF!,$B79,'Daily Log'!#REF!),0)","v":0},{"$f":"IFERROR($E79*SUMIF('Daily Log'!#REF!,$B79,'Daily Log'!#REF!),0)","v":0},{"$f":"IFERROR($E79*SUMIF('Daily Log'!#REF!,$B79,'Daily Log'!#REF!),0)","v":0},{"$f":"IFERROR($E79*SUMIF('Daily Log'!#REF!,$B79,'Daily Log'!#REF!),0)","v":0},{"$f":"IFERROR($E79*SUMIF('Daily Log'!#REF!,$B79,'Daily Log'!#REF!),0)","v":0},{"$f":"IFERROR($E79*SUMIF('Daily Log'!#REF!,$B79,'Daily Log'!#REF!),0)","v":0},{"$f":"IFERROR($E79*SUMIF('Daily Log'!#REF!,$B79,'Daily Log'!#REF!),0)","v":0},{"$f":"IFERROR($E79*SUMIF('Daily Log'!#REF!,$B79,'Daily Log'!#REF!),0)","v":0},{"$f":"IFERROR($E79*SUMIF('Daily Log'!#REF!,$B79,'Daily Log'!#REF!),0)","v":0},{"$f":"IFERROR($E79*SUMIF('Daily Log'!#REF!,$B79,'Daily Log'!#REF!),0)","v":0},{"$f":"IFERROR($E79*SUMIF('Daily Log'!#REF!,$B79,'Daily Log'!#REF!),0)","v":0},{"$f":"IFERROR($E79*SUMIF('Daily Log'!#REF!,$B79,'Daily Log'!#REF!),0)","v":0},{"$f":"IFERROR($E79*SUMIF('Daily Log'!#REF!,$B79,'Daily Log'!#REF!),0)","v":0},{"$f":"IFERROR($E79*SUMIF('Daily Log'!#REF!,$B79,'Daily Log'!#REF!),0)","v":0},{"$f":"IFERROR($E79*SUMIF('Daily Log'!#REF!,$B79,'Daily Log'!#REF!),0)","v":0}]
[null,"CE08 LEMON HONEY (C)",null,"SIDE ORDER-COLD BEVERAGE",1,1,{"$f":"IFERROR($E80*SUMIF('Daily Log'!$B$18:$B$1017,$B80,'Daily Log'!$C$18:$C$1017),0)","v":1},{"$f":"IFERROR($E80*SUMIF('Daily Log'!$E$18:$E$1017,$B80,'Daily Log'!$F$18:$F$1017),0)","v":0},{"$f":"IFERROR($E80*SUMIF('Daily Log'!$H$18:$H$1017,$B80,'Daily Log'!$I$18:$I$1017),0)","v":0},{"$f":"IFERROR($E80*SUMIF('Daily Log'!$K$18:$K$1017,$B80,'Daily Log'!$L$18:$L$1017),0)","v":0},{"$f":"IFERROR($E80*SUMIF('Daily Log'!$N$18:$N$1017,$B80,'Daily Log'!$O$18:$O$1017),0)","v":0},{"$f":"IFERROR($E80*SUMIF('Daily Log'!#REF!,$B80,'Daily Log'!#REF!),0)","v":0},{"$f":"IFERROR($E80*SUMIF('Daily Log'!#REF!,$B80,'Daily Log'!#REF!),0)","v":0},{"$f":"IFERROR($E80*SUMIF('Daily Log'!#REF!,$B80,'Daily Log'!#REF!),0)","v":0},{"$f":"IFERROR($E80*SUMIF('Daily Log'!#REF!,$B80,'Daily Log'!#REF!),0)","v":0},{"$f":"IFERROR($E80*SUMIF('Daily Log'!#REF!,$B80,'Daily Log'!#REF!),0)","v":0},{"$f":"IFERROR($E80*SUMIF('Daily Log'!#REF!,$B80,'Daily Log'!#REF!),0)","v":0},{"$f":"IFERROR($E80*SUMIF('Daily Log'!#REF!,$B80,'Daily Log'!#REF!),0)","v":0},{"$f":"IFERROR($E80*SUMIF('Daily Log'!#REF!,$B80,'Daily Log'!#REF!),0)","v":0},{"$f":"IFERROR($E80*SUMIF('Daily Log'!#REF!,$B80,'Daily Log'!#REF!),0)","v":0},{"$f":"IFERROR($E80*SUMIF('Daily Log'!#REF!,$B80,'Daily Log'!#REF!),0)","v":0},{"$f":"IFERROR($E80*SUMIF('Daily Log'!#REF!,$B80,'Daily Log'!#REF!),0)","v":0},{"$f":"IFERROR($E80*SUMIF('Daily Log'!#REF!,$B80,'Daily Log'!#REF!),0)","v":0},{"$f":"IFERROR($E80*SUMIF('Daily Log'!#REF!,$B80,'Daily Log'!#REF!),0)","v":0},{"$f":"IFERROR($E80*SUMIF('Daily Log'!#REF!,$B80,'Daily Log'!#REF!),0)","v":0},{"$f":"IFERROR($E80*SUMIF('Daily Log'!#REF!,$B80,'Daily Log'!#REF!),0)","v":0},{"$f":"IFERROR($E80*SUMIF('Daily Log'!#REF!,$B80,'Daily Log'!#REF!),0)","v":0},{"$f":"IFERROR($E80*SUMIF('Daily Log'!#REF!,$B80,'Daily Log'!#REF!),0)","v":0},{"$f":"IFERROR($E80*SUMIF('Daily Log'!#REF!,$B80,'Daily Log'!#REF!),0)","v":0},{"$f":"IFERROR($E80*SUMIF('Daily Log'!#REF!,$B80,'Daily Log'!#REF!),0)","v":0},{"$f":"IFERROR($E80*SUMIF('Daily Log'!#REF!,$B80,'Daily Log'!#REF!),0)","v":0},{"$f":"IFERROR($E80*SUMIF('Daily Log'!#REF!,$B80,'Daily Log'!#REF!),0)","v":0},{"$f":"IFERROR($E80*SUMIF('Daily Log'!#REF!,$B80,'Daily Log'!#REF!),0)","v":0},{"$f":"IFERROR($E80*SUMIF('Daily Log'!#REF!,$B80,'Daily Log'!#REF!),0)","v":0},{"$f":"IFERROR($E80*SUMIF('Daily Log'!#REF!,$B80,'Daily Log'!#REF!),0)","v":0},{"$f":"IFERROR($E80*SUMIF('Daily Log'!#REF!,$B80,'Daily Log'!#REF!),0)","v":0},{"$f":"IFERROR($E80*SUMIF('Daily Log'!#REF!,$B80,'Daily Log'!#REF!),0)","v":0}]
[null,"CF01 MILO (H)",null,"SIDE ORDER-HOT BEVERAGE",1,0,{"$f":"IFERROR($E81*SUMIF('Daily Log'!$B$18:$B$1017,$B81,'Daily Log'!$C$18:$C$1017),0)","v":0},{"$f":"IFERROR($E81*SUMIF('Daily Log'!$E$18:$E$1017,$B81,'Daily Log'!$F$18:$F$1017),0)","v":0},{"$f":"IFERROR($E81*SUMIF('Daily Log'!$H$18:$H$1017,$B81,'Daily Log'!$I$18:$I$1017),0)","v":0},{"$f":"IFERROR($E81*SUMIF('Daily Log'!$K$18:$K$1017,$B81,'Daily Log'!$L$18:$L$1017),0)","v":0},{"$f":"IFERROR($E81*SUMIF('Daily Log'!$N$18:$N$1017,$B81,'Daily Log'!$O$18:$O$1017),0)","v":0},{"$f":"IFERROR($E81*SUMIF('Daily Log'!#REF!,$B81,'Daily Log'!#REF!),0)","v":0},{"$f":"IFERROR($E81*SUMIF('Daily Log'!#REF!,$B81,'Daily Log'!#REF!),0)","v":0},{"$f":"IFERROR($E81*SUMIF('Daily Log'!#REF!,$B81,'Daily Log'!#REF!),0)","v":0},{"$f":"IFERROR($E81*SUMIF('Daily Log'!#REF!,$B81,'Daily Log'!#REF!),0)","v":0},{"$f":"IFERROR($E81*SUMIF('Daily Log'!#REF!,$B81,'Daily Log'!#REF!),0)","v":0},{"$f":"IFERROR($E81*SUMIF('Daily Log'!#REF!,$B81,'Daily Log'!#REF!),0)","v":0},{"$f":"IFERROR($E81*SUMIF('Daily Log'!#REF!,$B81,'Daily Log'!#REF!),0)","v":0},{"$f":"IFERROR($E81*SUMIF('Daily Log'!#REF!,$B81,'Daily Log'!#REF!),0)","v":0},{"$f":"IFERROR($E81*SUMIF('Daily Log'!#REF!,$B81,'Daily Log'!#REF!),0)","v":0},{"$f":"IFERROR($E81*SUMIF('Daily Log'!#REF!,$B81,'Daily Log'!#REF!),0)","v":0},{"$f":"IFERROR($E81*SUMIF('Daily Log'!#REF!,$B81,'Daily Log'!#REF!),0)","v":0},{"$f":"IFERROR($E81*SUMIF('Daily Log'!#REF!,$B81,'Daily Log'!#REF!),0)","v":0},{"$f":"IFERROR($E81*SUMIF('Daily Log'!#REF!,$B81,'Daily Log'!#REF!),0)","v":0},{"$f":"IFERROR($E81*SUMIF('Daily Log'!#REF!,$B81,'Daily Log'!#REF!),0)","v":0},{"$f":"IFERROR($E81*SUMIF('Daily Log'!#REF!,$B81,'Daily Log'!#REF!),0)","v":0},{"$f":"IFERROR($E81*SUMIF('Daily Log'!#REF!,$B81,'Daily Log'!#REF!),0)","v":0},{"$f":"IFERROR($E81*SUMIF('Daily Log'!#REF!,$B81,'Daily Log'!#REF!),0)","v":0},{"$f":"IFERROR($E81*SUMIF('Daily Log'!#REF!,$B81,'Daily Log'!#REF!),0)","v":0},{"$f":"IFERROR($E81*SUMIF('Daily Log'!#REF!,$B81,'Daily Log'!#REF!),0)","v":0},{"$f":"IFERROR($E81*SUMIF('Daily Log'!#REF!,$B81,'Daily Log'!#REF!),0)","v":0},{"$f":"IFERROR($E81*SUMIF('Daily Log'!#REF!,$B81,'Daily Log'!#REF!),0)","v":0},{"$f":"IFERROR($E81*SUMIF('Daily Log'!#REF!,$B81,'Daily Log'!#REF!),0)","v":0},{"$f":"IFERROR($E81*SUMIF('Daily Log'!#REF!,$B81,'Daily Log'!#REF!),0)","v":0},{"$f":"IFERROR($E81*SUMIF('Daily Log'!#REF!,$B81,'Daily Log'!#REF!),0)","v":0},{"$f":"IFERROR($E81*SUMIF('Daily Log'!#REF!,$B81,'Daily Log'!#REF!),0)","v":0},{"$f":"IFERROR($E81*SUMIF('Daily Log'!#REF!,$B81,'Daily Log'!#REF!),0)","v":0}]
[null,"CF02 NESCAFE (H)",null,"SIDE ORDER-HOT BEVERAGE",1,0,{"$f":"IFERROR($E82*SUMIF('Daily Log'!$B$18:$B$1017,$B82,'Daily Log'!$C$18:$C$1017),0)","v":0},{"$f":"IFERROR($E82*SUMIF('Daily Log'!$E$18:$E$1017,$B82,'Daily Log'!$F$18:$F$1017),0)","v":0},{"$f":"IFERROR($E82*SUMIF('Daily Log'!$H$18:$H$1017,$B82,'Daily Log'!$I$18:$I$1017),0)","v":0},{"$f":"IFERROR($E82*SUMIF('Daily Log'!$K$18:$K$1017,$B82,'Daily Log'!$L$18:$L$1017),0)","v":0},{"$f":"IFERROR($E82*SUMIF('Daily Log'!$N$18:$N$1017,$B82,'Daily Log'!$O$18:$O$1017),0)","v":0},{"$f":"IFERROR($E82*SUMIF('Daily Log'!#REF!,$B82,'Daily Log'!#REF!),0)","v":0},{"$f":"IFERROR($E82*SUMIF('Daily Log'!#REF!,$B82,'Daily Log'!#REF!),0)","v":0},{"$f":"IFERROR($E82*SUMIF('Daily Log'!#REF!,$B82,'Daily Log'!#REF!),0)","v":0},{"$f":"IFERROR($E82*SUMIF('Daily Log'!#REF!,$B82,'Daily Log'!#REF!),0)","v":0},{"$f":"IFERROR($E82*SUMIF('Daily Log'!#REF!,$B82,'Daily Log'!#REF!),0)","v":0},{"$f":"IFERROR($E82*SUMIF('Daily Log'!#REF!,$B82,'Daily Log'!#REF!),0)","v":0},{"$f":"IFERROR($E82*SUMIF('Daily Log'!#REF!,$B82,'Daily Log'!#REF!),0)","v":0},{"$f":"IFERROR($E82*SUMIF('Daily Log'!#REF!,$B82,'Daily Log'!#REF!),0)","v":0},{"$f":"IFERROR($E82*SUMIF('Daily Log'!#REF!,$B82,'Daily Log'!#REF!),0)","v":0},{"$f":"IFERROR($E82*SUMIF('Daily Log'!#REF!,$B82,'Daily Log'!#REF!),0)","v":0},{"$f":"IFERROR($E82*SUMIF('Daily Log'!#REF!,$B82,'Daily Log'!#REF!),0)","v":0},{"$f":"IFERROR($E82*SUMIF('Daily Log'!#REF!,$B82,'Daily Log'!#REF!),0)","v":0},{"$f":"IFERROR($E82*SUMIF('Daily Log'!#REF!,$B82,'Daily Log'!#REF!),0)","v":0},{"$f":"IFERROR($E82*SUMIF('Daily Log'!#REF!,$B82,'Daily Log'!#REF!),0)","v":0},{"$f":"IFERROR($E82*SUMIF('Daily Log'!#REF!,$B82,'Daily Log'!#REF!),0)","v":0},{"$f":"IFERROR($E82*SUMIF('Daily Log'!#REF!,$B82,'Daily Log'!#REF!),0)","v":0},{"$f":"IFERROR($E82*SUMIF('Daily Log'!#REF!,$B82,'Daily Log'!#REF!),0)","v":0},{"$f":"IFERROR($E82*SUMIF('Daily Log'!#REF!,$B82,'Daily Log'!#REF!),0)","v":0},{"$f":"IFERROR($E82*SUMIF('Daily Log'!#REF!,$B82,'Daily Log'!#REF!),0)","v":0},{"$f":"IFERROR($E82*SUMIF('Daily Log'!#REF!,$B82,'Daily Log'!#REF!),0)","v":0},{"$f":"IFERROR($E82*SUMIF('Daily Log'!#REF!,$B82,'Daily Log'!#REF!),0)","v":0},{"$f":"IFERROR($E82*SUMIF('Daily Log'!#REF!,$B82,'Daily Log'!#REF!),0)","v":0},{"$f":"IFERROR($E82*SUMIF('Daily Log'!#REF!,$B82,'Daily Log'!#REF!),0)","v":0},{"$f":"IFERROR($E82*SUMIF('Daily Log'!#REF!,$B82,'Daily Log'!#REF!),0)","v":0},{"$f":"IFERROR($E82*SUMIF('Daily Log'!#REF!,$B82,'Daily Log'!#REF!),0)","v":0},{"$f":"IFERROR($E82*SUMIF('Daily Log'!#REF!,$B82,'Daily Log'!#REF!),0)","v":0}]
[null,"CF03 TEA (H)",null,"SIDE ORDER-HOT BEVERAGE",1,0,{"$f":"IFERROR($E83*SUMIF('Daily Log'!$B$18:$B$1017,$B83,'Daily Log'!$C$18:$C$1017),0)","v":0},{"$f":"IFERROR($E83*SUMIF('Daily Log'!$E$18:$E$1017,$B83,'Daily Log'!$F$18:$F$1017),0)","v":0},{"$f":"IFERROR($E83*SUMIF('Daily Log'!$H$18:$H$1017,$B83,'Daily Log'!$I$18:$I$1017),0)","v":0},{"$f":"IFERROR($E83*SUMIF('Daily Log'!$K$18:$K$1017,$B83,'Daily Log'!$L$18:$L$1017),0)","v":0},{"$f":"IFERROR($E83*SUMIF('Daily Log'!$N$18:$N$1017,$B83,'Daily Log'!$O$18:$O$1017),0)","v":0},{"$f":"IFERROR($E83*SUMIF('Daily Log'!#REF!,$B83,'Daily Log'!#REF!),0)","v":0},{"$f":"IFERROR($E83*SUMIF('Daily Log'!#REF!,$B83,'Daily Log'!#REF!),0)","v":0},{"$f":"IFERROR($E83*SUMIF('Daily Log'!#REF!,$B83,'Daily Log'!#REF!),0)","v":0},{"$f":"IFERROR($E83*SUMIF('Daily Log'!#REF!,$B83,'Daily Log'!#REF!),0)","v":0},{"$f":"IFERROR($E83*SUMIF('Daily Log'!#REF!,$B83,'Daily Log'!#REF!),0)","v":0},{"$f":"IFERROR($E83*SUMIF('Daily Log'!#REF!,$B83,'Daily Log'!#REF!),0)","v":0},{"$f":"IFERROR($E83*SUMIF('Daily Log'!#REF!,$B83,'Daily Log'!#REF!),0)","v":0},{"$f":"IFERROR($E83*SUMIF('Daily Log'!#REF!,$B83,'Daily Log'!#REF!),0)","v":0},{"$f":"IFERROR($E83*SUMIF('Daily Log'!#REF!,$B83,'Daily Log'!#REF!),0)","v":0},{"$f":"IFERROR($E83*SUMIF('Daily Log'!#REF!,$B83,'Daily Log'!#REF!),0)","v":0},{"$f":"IFERROR($E83*SUMIF('Daily Log'!#REF!,$B83,'Daily Log'!#REF!),0)","v":0},{"$f":"IFERROR($E83*SUMIF('Daily Log'!#REF!,$B83,'Daily Log'!#REF!),0)","v":0},{"$f":"IFERROR($E83*SUMIF('Daily Log'!#REF!,$B83,'Daily Log'!#REF!),0)","v":0},{"$f":"IFERROR($E83*SUMIF('Daily Log'!#REF!,$B83,'Daily Log'!#REF!),0)","v":0},{"$f":"IFERROR($E83*SUMIF('Daily Log'!#REF!,$B83,'Daily Log'!#REF!),0)","v":0},{"$f":"IFERROR($E83*SUMIF('Daily Log'!#REF!,$B83,'Daily Log'!#REF!),0)","v":0},{"$f":"IFERROR($E83*SUMIF('Daily Log'!#REF!,$B83,'Daily Log'!#REF!),0)","v":0},{"$f":"IFERROR($E83*SUMIF('Daily Log'!#REF!,$B83,'Daily Log'!#REF!),0)","v":0},{"$f":"IFERROR($E83*SUMIF('Daily Log'!#REF!,$B83,'Daily Log'!#REF!),0)","v":0},{"$f":"IFERROR($E83*SUMIF('Daily Log'!#REF!,$B83,'Daily Log'!#REF!),0)","v":0},{"$f":"IFERROR($E83*SUMIF('Daily Log'!#REF!,$B83,'Daily Log'!#REF!),0)","v":0},{"$f":"IFERROR($E83*SUMIF('Daily Log'!#REF!,$B83,'Daily Log'!#REF!),0)","v":0},{"$f":"IFERROR($E83*SUMIF('Daily Log'!#REF!,$B83,'Daily Log'!#REF!),0)","v":0},{"$f":"IFERROR($E83*SUMIF('Daily Log'!#REF!,$B83,'Daily Log'!#REF!),0)","v":0},{"$f":"IFERROR($E83*SUMIF('Daily Log'!#REF!,$B83,'Daily Log'!#REF!),0)","v":0},{"$f":"IFERROR($E83*SUMIF('Daily Log'!#REF!,$B83,'Daily Log'!#REF!),0)","v":0}]
[null,"CF04 LEMON TEA (H)",null,"SIDE ORDER-HOT BEVERAGE",1,1,{"$f":"IFERROR($E84*SUMIF('Daily Log'!$B$18:$B$1017,$B84,'Daily Log'!$C$18:$C$1017),0)","v":1},{"$f":"IFERROR($E84*SUMIF('Daily Log'!$E$18:$E$1017,$B84,'Daily Log'!$F$18:$F$1017),0)","v":0},{"$f":"IFERROR($E84*SUMIF('Daily Log'!$H$18:$H$1017,$B84,'Daily Log'!$I$18:$I$1017),0)","v":0},{"$f":"IFERROR($E84*SUMIF('Daily Log'!$K$18:$K$1017,$B84,'Daily Log'!$L$18:$L$1017),0)","v":0},{"$f":"IFERROR($E84*SUMIF('Daily Log'!$N$18:$N$1017,$B84,'Daily Log'!$O$18:$O$1017),0)","v":0},{"$f":"IFERROR($E84*SUMIF('Daily Log'!#REF!,$B84,'Daily Log'!#REF!),0)","v":0},{"$f":"IFERROR($E84*SUMIF('Daily Log'!#REF!,$B84,'Daily Log'!#REF!),0)","v":0},{"$f":"IFERROR($E84*SUMIF('Daily Log'!#REF!,$B84,'Daily Log'!#REF!),0)","v":0},{"$f":"IFERROR($E84*SUMIF('Daily Log'!#REF!,$B84,'Daily Log'!#REF!),0)","v":0},{"$f":"IFERROR($E84*SUMIF('Daily Log'!#REF!,$B84,'Daily Log'!#REF!),0)","v":0},{"$f":"IFERROR($E84*SUMIF('Daily Log'!#REF!,$B84,'Daily Log'!#REF!),0)","v":0},{"$f":"IFERROR($E84*SUMIF('Daily Log'!#REF!,$B84,'Daily Log'!#REF!),0)","v":0},{"$f":"IFERROR($E84*SUMIF('Daily Log'!#REF!,$B84,'Daily Log'!#REF!),0)","v":0},{"$f":"IFERROR($E84*SUMIF('Daily Log'!#REF!,$B84,'Daily Log'!#REF!),0)","v":0},{"$f":"IFERROR($E84*SUMIF('Daily Log'!#REF!,$B84,'Daily Log'!#REF!),0)","v":0},{"$f":"IFERROR($E84*SUMIF('Daily Log'!#REF!,$B84,'Daily Log'!#REF!),0)","v":0},{"$f":"IFERROR($E84*SUMIF('Daily Log'!#REF!,$B84,'Daily Log'!#REF!),0)","v":0},{"$f":"IFERROR($E84*SUMIF('Daily Log'!#REF!,$B84,'Daily Log'!#REF!),0)","v":0},{"$f":"IFERROR($E84*SUMIF('Daily Log'!#REF!,$B84,'Daily Log'!#REF!),0)","v":0},{"$f":"IFERROR($E84*SUMIF('Daily Log'!#REF!,$B84,'Daily Log'!#REF!),0)","v":0},{"$f":"IFERROR($E84*SUMIF('Daily Log'!#REF!,$B84,'Daily Log'!#REF!),0)","v":0},{"$f":"IFERROR($E84*SUMIF('Daily Log'!#REF!,$B84,'Daily Log'!#REF!),0)","v":0},{"$f":"IFERROR($E84*SUMIF('Daily Log'!#REF!,$B84,'Daily Log'!#REF!),0)","v":0},{"$f":"IFERROR($E84*SUMIF('Daily Log'!#REF!,$B84,'Daily Log'!#REF!),0)","v":0},{"$f":"IFERROR($E84*SUMIF('Daily Log'!#REF!,$B84,'Daily Log'!#REF!),0)","v":0},{"$f":"IFERROR($E84*SUMIF('Daily Log'!#REF!,$B84,'Daily Log'!#REF!),0)","v":0},{"$f":"IFERROR($E84*SUMIF('Daily Log'!#REF!,$B84,'Daily Log'!#REF!),0)","v":0},{"$f":"IFERROR($E84*SUMIF('Daily Log'!#REF!,$B84,'Daily Log'!#REF!),0)","v":0},{"$f":"IFERROR($E84*SUMIF('Daily Log'!#REF!,$B84,'Daily Log'!#REF!),0)","v":0},{"$f":"IFERROR($E84*SUMIF('Daily Log'!#REF!,$B84,'Daily Log'!#REF!),0)","v":0},{"$f":"IFERROR($E84*SUMIF('Daily Log'!#REF!,$B84,'Daily Log'!#REF!),0)","v":0}]
[null,"CF05 GRN TEA (H)",null,"SIDE ORDER-HOT BEVERAGE",1,0,{"$f":"IFERROR($E85*SUMIF('Daily Log'!$B$18:$B$1017,$B85,'Daily Log'!$C$18:$C$1017),0)","v":0},{"$f":"IFERROR($E85*SUMIF('Daily Log'!$E$18:$E$1017,$B85,'Daily Log'!$F$18:$F$1017),0)","v":0},{"$f":"IFERROR($E85*SUMIF('Daily Log'!$H$18:$H$1017,$B85,'Daily Log'!$I$18:$I$1017),0)","v":0},{"$f":"IFERROR($E85*SUMIF('Daily Log'!$K$18:$K$1017,$B85,'Daily Log'!$L$18:$L$1017),0)","v":0},{"$f":"IFERROR($E85*SUMIF('Daily Log'!$N$18:$N$1017,$B85,'Daily Log'!$O$18:$O$1017),0)","v":0},{"$f":"IFERROR($E85*SUMIF('Daily Log'!#REF!,$B85,'Daily Log'!#REF!),0)","v":0},{"$f":"IFERROR($E85*SUMIF('Daily Log'!#REF!,$B85,'Daily Log'!#REF!),0)","v":0},{"$f":"IFERROR($E85*SUMIF('Daily Log'!#REF!,$B85,'Daily Log'!#REF!),0)","v":0},{"$f":"IFERROR($E85*SUMIF('Daily Log'!#REF!,$B85,'Daily Log'!#REF!),0)","v":0},{"$f":"IFERROR($E85*SUMIF('Daily Log'!#REF!,$B85,'Daily Log'!#REF!),0)","v":0},{"$f":"IFERROR($E85*SUMIF('Daily Log'!#REF!,$B85,'Daily Log'!#REF!),0)","v":0},{"$f":"IFERROR($E85*SUMIF('Daily Log'!#REF!,$B85,'Daily Log'!#REF!),0)","v":0},{"$f":"IFERROR($E85*SUMIF('Daily Log'!#REF!,$B85,'Daily Log'!#REF!),0)","v":0},{"$f":"IFERROR($E85*SUMIF('Daily Log'!#REF!,$B85,'Daily Log'!#REF!),0)","v":0},{"$f":"IFERROR($E85*SUMIF('Daily Log'!#REF!,$B85,'Daily Log'!#REF!),0)","v":0},{"$f":"IFERROR($E85*SUMIF('Daily Log'!#REF!,$B85,'Daily Log'!#REF!),0)","v":0},{"$f":"IFERROR($E85*SUMIF('Daily Log'!#REF!,$B85,'Daily Log'!#REF!),0)","v":0},{"$f":"IFERROR($E85*SUMIF('Daily Log'!#REF!,$B85,'Daily Log'!#REF!),0)","v":0},{"$f":"IFERROR($E85*SUMIF('Daily Log'!#REF!,$B85,'Daily Log'!#REF!),0)","v":0},{"$f":"IFERROR($E85*SUMIF('Daily Log'!#REF!,$B85,'Daily Log'!#REF!),0)","v":0},{"$f":"IFERROR($E85*SUMIF('Daily Log'!#REF!,$B85,'Daily Log'!#REF!),0)","v":0},{"$f":"IFERROR($E85*SUMIF('Daily Log'!#REF!,$B85,'Daily Log'!#REF!),0)","v":0},{"$f":"IFERROR($E85*SUMIF('Daily Log'!#REF!,$B85,'Daily Log'!#REF!),0)","v":0},{"$f":"IFERROR($E85*SUMIF('Daily Log'!#REF!,$B85,'Daily Log'!#REF!),0)","v":0},{"$f":"IFERROR($E85*SUMIF('Daily Log'!#REF!,$B85,'Daily Log'!#REF!),0)","v":0},{"$f":"IFERROR($E85*SUMIF('Daily Log'!#REF!,$B85,'Daily Log'!#REF!),0)","v":0},{"$f":"IFERROR($E85*SUMIF('Daily Log'!#REF!,$B85,'Daily Log'!#REF!),0)","v":0},{"$f":"IFERROR($E85*SUMIF('Daily Log'!#REF!,$B85,'Daily Log'!#REF!),0)","v":0},{"$f":"IFERROR($E85*SUMIF('Daily Log'!#REF!,$B85,'Daily Log'!#REF!),0)","v":0},{"$f":"IFERROR($E85*SUMIF('Daily Log'!#REF!,$B85,'Daily Log'!#REF!),0)","v":0},{"$f":"IFERROR($E85*SUMIF('Daily Log'!#REF!,$B85,'Daily Log'!#REF!),0)","v":0}]
[null,"CF06 HNY GRN TEA (H)",null,"SIDE ORDER-HOT BEVERAGE",1,0,{"$f":"IFERROR($E86*SUMIF('Daily Log'!$B$18:$B$1017,$B86,'Daily Log'!$C$18:$C$1017),0)","v":0},{"$f":"IFERROR($E86*SUMIF('Daily Log'!$E$18:$E$1017,$B86,'Daily Log'!$F$18:$F$1017),0)","v":0},{"$f":"IFERROR($E86*SUMIF('Daily Log'!$H$18:$H$1017,$B86,'Daily Log'!$I$18:$I$1017),0)","v":0},{"$f":"IFERROR($E86*SUMIF('Daily Log'!$K$18:$K$1017,$B86,'Daily Log'!$L$18:$L$1017),0)","v":0},{"$f":"IFERROR($E86*SUMIF('Daily Log'!$N$18:$N$1017,$B86,'Daily Log'!$O$18:$O$1017),0)","v":0},{"$f":"IFERROR($E86*SUMIF('Daily Log'!#REF!,$B86,'Daily Log'!#REF!),0)","v":0},{"$f":"IFERROR($E86*SUMIF('Daily Log'!#REF!,$B86,'Daily Log'!#REF!),0)","v":0},{"$f":"IFERROR($E86*SUMIF('Daily Log'!#REF!,$B86,'Daily Log'!#REF!),0)","v":0},{"$f":"IFERROR($E86*SUMIF('Daily Log'!#REF!,$B86,'Daily Log'!#REF!),0)","v":0},{"$f":"IFERROR($E86*SUMIF('Daily Log'!#REF!,$B86,'Daily Log'!#REF!),0)","v":0},{"$f":"IFERROR($E86*SUMIF('Daily Log'!#REF!,$B86,'Daily Log'!#REF!),0)","v":0},{"$f":"IFERROR($E86*SUMIF('Daily Log'!#REF!,$B86,'Daily Log'!#REF!),0)","v":0},{"$f":"IFERROR($E86*SUMIF('Daily Log'!#REF!,$B86,'Daily Log'!#REF!),0)","v":0},{"$f":"IFERROR($E86*SUMIF('Daily Log'!#REF!,$B86,'Daily Log'!#REF!),0)","v":0},{"$f":"IFERROR($E86*SUMIF('Daily Log'!#REF!,$B86,'Daily Log'!#REF!),0)","v":0},{"$f":"IFERROR($E86*SUMIF('Daily Log'!#REF!,$B86,'Daily Log'!#REF!),0)","v":0},{"$f":"IFERROR($E86*SUMIF('Daily Log'!#REF!,$B86,'Daily Log'!#REF!),0)","v":0},{"$f":"IFERROR($E86*SUMIF('Daily Log'!#REF!,$B86,'Daily Log'!#REF!),0)","v":0},{"$f":"IFERROR($E86*SUMIF('Daily Log'!#REF!,$B86,'Daily Log'!#REF!),0)","v":0},{"$f":"IFERROR($E86*SUMIF('Daily Log'!#REF!,$B86,'Daily Log'!#REF!),0)","v":0},{"$f":"IFERROR($E86*SUMIF('Daily Log'!#REF!,$B86,'Daily Log'!#REF!),0)","v":0},{"$f":"IFERROR($E86*SUMIF('Daily Log'!#REF!,$B86,'Daily Log'!#REF!),0)","v":0},{"$f":"IFERROR($E86*SUMIF('Daily Log'!#REF!,$B86,'Daily Log'!#REF!),0)","v":0},{"$f":"IFERROR($E86*SUMIF('Daily Log'!#REF!,$B86,'Daily Log'!#REF!),0)","v":0},{"$f":"IFERROR($E86*SUMIF('Daily Log'!#REF!,$B86,'Daily Log'!#REF!),0)","v":0},{"$f":"IFERROR($E86*SUMIF('Daily Log'!#REF!,$B86,'Daily Log'!#REF!),0)","v":0},{"$f":"IFERROR($E86*SUMIF('Daily Log'!#REF!,$B86,'Daily Log'!#REF!),0)","v":0},{"$f":"IFERROR($E86*SUMIF('Daily Log'!#REF!,$B86,'Daily Log'!#REF!),0)","v":0},{"$f":"IFERROR($E86*SUMIF('Daily Log'!#REF!,$B86,'Daily Log'!#REF!),0)","v":0},{"$f":"IFERROR($E86*SUMIF('Daily Log'!#REF!,$B86,'Daily Log'!#REF!),0)","v":0},{"$f":"IFERROR($E86*SUMIF('Daily Log'!#REF!,$B86,'Daily Log'!#REF!),0)","v":0}]
[null,"CF07 HONEY (H)",null,"SIDE ORDER-HOT BEVERAGE",1,0,{"$f":"IFERROR($E87*SUMIF('Daily Log'!$B$18:$B$1017,$B87,'Daily Log'!$C$18:$C$1017),0)","v":0},{"$f":"IFERROR($E87*SUMIF('Daily Log'!$E$18:$E$1017,$B87,'Daily Log'!$F$18:$F$1017),0)","v":0},{"$f":"IFERROR($E87*SUMIF('Daily Log'!$H$18:$H$1017,$B87,'Daily Log'!$I$18:$I$1017),0)","v":0},{"$f":"IFERROR($E87*SUMIF('Daily Log'!$K$18:$K$1017,$B87,'Daily Log'!$L$18:$L$1017),0)","v":0},{"$f":"IFERROR($E87*SUMIF('Daily Log'!$N$18:$N$1017,$B87,'Daily Log'!$O$18:$O$1017),0)","v":0},{"$f":"IFERROR($E87*SUMIF('Daily Log'!#REF!,$B87,'Daily Log'!#REF!),0)","v":0},{"$f":"IFERROR($E87*SUMIF('Daily Log'!#REF!,$B87,'Daily Log'!#REF!),0)","v":0},{"$f":"IFERROR($E87*SUMIF('Daily Log'!#REF!,$B87,'Daily Log'!#REF!),0)","v":0},{"$f":"IFERROR($E87*SUMIF('Daily Log'!#REF!,$B87,'Daily Log'!#REF!),0)","v":0},{"$f":"IFERROR($E87*SUMIF('Daily Log'!#REF!,$B87,'Daily Log'!#REF!),0)","v":0},{"$f":"IFERROR($E87*SUMIF('Daily Log'!#REF!,$B87,'Daily Log'!#REF!),0)","v":0},{"$f":"IFERROR($E87*SUMIF('Daily Log'!#REF!,$B87,'Daily Log'!#REF!),0)","v":0},{"$f":"IFERROR($E87*SUMIF('Daily Log'!#REF!,$B87,'Daily Log'!#REF!),0)","v":0},{"$f":"IFERROR($E87*SUMIF('Daily Log'!#REF!,$B87,'Daily Log'!#REF!),0)","v":0},{"$f":"IFERROR($E87*SUMIF('Daily Log'!#REF!,$B87,'Daily Log'!#REF!),0)","v":0},{"$f":"IFERROR($E87*SUMIF('Daily Log'!#REF!,$B87,'Daily Log'!#REF!),0)","v":0},{"$f":"IFERROR($E87*SUMIF('Daily Log'!#REF!,$B87,'Daily Log'!#REF!),0)","v":0},{"$f":"IFERROR($E87*SUMIF('Daily Log'!#REF!,$B87,'Daily Log'!#REF!),0)","v":0},{"$f":"IFERROR($E87*SUMIF('Daily Log'!#REF!,$B87,'Daily Log'!#REF!),0)","v":0},{"$f":"IFERROR($E87*SUMIF('Daily Log'!#REF!,$B87,'Daily Log'!#REF!),0)","v":0},{"$f":"IFERROR($E87*SUMIF('Daily Log'!#REF!,$B87,'Daily Log'!#REF!),0)","v":0},{"$f":"IFERROR($E87*SUMIF('Daily Log'!#REF!,$B87,'Daily Log'!#REF!),0)","v":0},{"$f":"IFERROR($E87*SUMIF('Daily Log'!#REF!,$B87,'Daily Log'!#REF!),0)","v":0},{"$f":"IFERROR($E87*SUMIF('Daily Log'!#REF!,$B87,'Daily Log'!#REF!),0)","v":0},{"$f":"IFERROR($E87*SUMIF('Daily Log'!#REF!,$B87,'Daily Log'!#REF!),0)","v":0},{"$f":"IFERROR($E87*SUMIF('Daily Log'!#REF!,$B87,'Daily Log'!#REF!),0)","v":0},{"$f":"IFERROR($E87*SUMIF('Daily Log'!#REF!,$B87,'Daily Log'!#REF!),0)","v":0},{"$f":"IFERROR($E87*SUMIF('Daily Log'!#REF!,$B87,'Daily Log'!#REF!),0)","v":0},{"$f":"IFERROR($E87*SUMIF('Daily Log'!#REF!,$B87,'Daily Log'!#REF!),0)","v":0},{"$f":"IFERROR($E87*SUMIF('Daily Log'!#REF!,$B87,'Daily Log'!#REF!),0)","v":0},{"$f":"IFERROR($E87*SUMIF('Daily Log'!#REF!,$B87,'Daily Log'!#REF!),0)","v":0}]
[null,"CF08 LEMON HONEY (H)",null,"SIDE ORDER-HOT BEVERAGE",1,0,{"$f":"IFERROR($E88*SUMIF('Daily Log'!$B$18:$B$1017,$B88,'Daily Log'!$C$18:$C$1017),0)","v":0},{"$f":"IFERROR($E88*SUMIF('Daily Log'!$E$18:$E$1017,$B88,'Daily Log'!$F$18:$F$1017),0)","v":0},{"$f":"IFERROR($E88*SUMIF('Daily Log'!$H$18:$H$1017,$B88,'Daily Log'!$I$18:$I$1017),0)","v":0},{"$f":"IFERROR($E88*SUMIF('Daily Log'!$K$18:$K$1017,$B88,'Daily Log'!$L$18:$L$1017),0)","v":0},{"$f":"IFERROR($E88*SUMIF('Daily Log'!$N$18:$N$1017,$B88,'Daily Log'!$O$18:$O$1017),0)","v":0},{"$f":"IFERROR($E88*SUMIF('Daily Log'!#REF!,$B88,'Daily Log'!#REF!),0)","v":0},{"$f":"IFERROR($E88*SUMIF('Daily Log'!#REF!,$B88,'Daily Log'!#REF!),0)","v":0},{"$f":"IFERROR($E88*SUMIF('Daily Log'!#REF!,$B88,'Daily Log'!#REF!),0)","v":0},{"$f":"IFERROR($E88*SUMIF('Daily Log'!#REF!,$B88,'Daily Log'!#REF!),0)","v":0},{"$f":"IFERROR($E88*SUMIF('Daily Log'!#REF!,$B88,'Daily Log'!#REF!),0)","v":0},{"$f":"IFERROR($E88*SUMIF('Daily Log'!#REF!,$B88,'Daily Log'!#REF!),0)","v":0},{"$f":"IFERROR($E88*SUMIF('Daily Log'!#REF!,$B88,'Daily Log'!#REF!),0)","v":0},{"$f":"IFERROR($E88*SUMIF('Daily Log'!#REF!,$B88,'Daily Log'!#REF!),0)","v":0},{"$f":"IFERROR($E88*SUMIF('Daily Log'!#REF!,$B88,'Daily Log'!#REF!),0)","v":0},{"$f":"IFERROR($E88*SUMIF('Daily Log'!#REF!,$B88,'Daily Log'!#REF!),0)","v":0},{"$f":"IFERROR($E88*SUMIF('Daily Log'!#REF!,$B88,'Daily Log'!#REF!),0)","v":0},{"$f":"IFERROR($E88*SUMIF('Daily Log'!#REF!,$B88,'Daily Log'!#REF!),0)","v":0},{"$f":"IFERROR($E88*SUMIF('Daily Log'!#REF!,$B88,'Daily Log'!#REF!),0)","v":0},{"$f":"IFERROR($E88*SUMIF('Daily Log'!#REF!,$B88,'Daily Log'!#REF!),0)","v":0},{"$f":"IFERROR($E88*SUMIF('Daily Log'!#REF!,$B88,'Daily Log'!#REF!),0)","v":0},{"$f":"IFERROR($E88*SUMIF('Daily Log'!#REF!,$B88,'Daily Log'!#REF!),0)","v":0},{"$f":"IFERROR($E88*SUMIF('Daily Log'!#REF!,$B88,'Daily Log'!#REF!),0)","v":0},{"$f":"IFERROR($E88*SUMIF('Daily Log'!#REF!,$B88,'Daily Log'!#REF!),0)","v":0},{"$f":"IFERROR($E88*SUMIF('Daily Log'!#REF!,$B88,'Daily Log'!#REF!),0)","v":0},{"$f":"IFERROR($E88*SUMIF('Daily Log'!#REF!,$B88,'Daily Log'!#REF!),0)","v":0},{"$f":"IFERROR($E88*SUMIF('Daily Log'!#REF!,$B88,'Daily Log'!#REF!),0)","v":0},{"$f":"IFERROR($E88*SUMIF('Daily Log'!#REF!,$B88,'Daily Log'!#REF!),0)","v":0},{"$f":"IFERROR($E88*SUMIF('Daily Log'!#REF!,$B88,'Daily Log'!#REF!),0)","v":0},{"$f":"IFERROR($E88*SUMIF('Daily Log'!#REF!,$B88,'Daily Log'!#REF!),0)","v":0},{"$f":"IFERROR($E88*SUMIF('Daily Log'!#REF!,$B88,'Daily Log'!#REF!),0)","v":0},{"$f":"IFERROR($E88*SUMIF('Daily Log'!#REF!,$B88,'Daily Log'!#REF!),0)","v":0}]
[null,"CF09 CAPPUCCINO (H)",null,"SIDE ORDER-HOT BEVERAGE",1,2,{"$f":"IFERROR($E89*SUMIF('Daily Log'!$B$18:$B$1017,$B89,'Daily Log'!$C$18:$C$1017),0)","v":2},{"$f":"IFERROR($E89*SUMIF('Daily Log'!$E$18:$E$1017,$B89,'Daily Log'!$F$18:$F$1017),0)","v":0},{"$f":"IFERROR($E89*SUMIF('Daily Log'!$H$18:$H$1017,$B89,'Daily Log'!$I$18:$I$1017),0)","v":0},{"$f":"IFERROR($E89*SUMIF('Daily Log'!$K$18:$K$1017,$B89,'Daily Log'!$L$18:$L$1017),0)","v":0},{"$f":"IFERROR($E89*SUMIF('Daily Log'!$N$18:$N$1017,$B89,'Daily Log'!$O$18:$O$1017),0)","v":0},{"$f":"IFERROR($E89*SUMIF('Daily Log'!#REF!,$B89,'Daily Log'!#REF!),0)","v":0},{"$f":"IFERROR($E89*SUMIF('Daily Log'!#REF!,$B89,'Daily Log'!#REF!),0)","v":0},{"$f":"IFERROR($E89*SUMIF('Daily Log'!#REF!,$B89,'Daily Log'!#REF!),0)","v":0},{"$f":"IFERROR($E89*SUMIF('Daily Log'!#REF!,$B89,'Daily Log'!#REF!),0)","v":0},{"$f":"IFERROR($E89*SUMIF('Daily Log'!#REF!,$B89,'Daily Log'!#REF!),0)","v":0},{"$f":"IFERROR($E89*SUMIF('Daily Log'!#REF!,$B89,'Daily Log'!#REF!),0)","v":0},{"$f":"IFERROR($E89*SUMIF('Daily Log'!#REF!,$B89,'Daily Log'!#REF!),0)","v":0},{"$f":"IFERROR($E89*SUMIF('Daily Log'!#REF!,$B89,'Daily Log'!#REF!),0)","v":0},{"$f":"IFERROR($E89*SUMIF('Daily Log'!#REF!,$B89,'Daily Log'!#REF!),0)","v":0},{"$f":"IFERROR($E89*SUMIF('Daily Log'!#REF!,$B89,'Daily Log'!#REF!),0)","v":0},{"$f":"IFERROR($E89*SUMIF('Daily Log'!#REF!,$B89,'Daily Log'!#REF!),0)","v":0},{"$f":"IFERROR($E89*SUMIF('Daily Log'!#REF!,$B89,'Daily Log'!#REF!),0)","v":0},{"$f":"IFERROR($E89*SUMIF('Daily Log'!#REF!,$B89,'Daily Log'!#REF!),0)","v":0},{"$f":"IFERROR($E89*SUMIF('Daily Log'!#REF!,$B89,'Daily Log'!#REF!),0)","v":0},{"$f":"IFERROR($E89*SUMIF('Daily Log'!#REF!,$B89,'Daily Log'!#REF!),0)","v":0},{"$f":"IFERROR($E89*SUMIF('Daily Log'!#REF!,$B89,'Daily Log'!#REF!),0)","v":0},{"$f":"IFERROR($E89*SUMIF('Daily Log'!#REF!,$B89,'Daily Log'!#REF!),0)","v":0},{"$f":"IFERROR($E89*SUMIF('Daily Log'!#REF!,$B89,'Daily Log'!#REF!),0)","v":0},{"$f":"IFERROR($E89*SUMIF('Daily Log'!#REF!,$B89,'Daily Log'!#REF!),0)","v":0},{"$f":"IFERROR($E89*SUMIF('Daily Log'!#REF!,$B89,'Daily Log'!#REF!),0)","v":0},{"$f":"IFERROR($E89*SUMIF('Daily Log'!#REF!,$B89,'Daily Log'!#REF!),0)","v":0},{"$f":"IFERROR($E89*SUMIF('Daily Log'!#REF!,$B89,'Daily Log'!#REF!),0)","v":0},{"$f":"IFERROR($E89*SUMIF('Daily Log'!#REF!,$B89,'Daily Log'!#REF!),0)","v":0},{"$f":"IFERROR($E89*SUMIF('Daily Log'!#REF!,$B89,'Daily Log'!#REF!),0)","v":0},{"$f":"IFERROR($E89*SUMIF('Daily Log'!#REF!,$B89,'Daily Log'!#REF!),0)","v":0},{"$f":"IFERROR($E89*SUMIF('Daily Log'!#REF!,$B89,'Daily Log'!#REF!),0)","v":0}]
[null,"CF10 CHOCOLATE (H)",null,"SIDE ORDER-HOT BEVERAGE",1,1,{"$f":"IFERROR($E90*SUMIF('Daily Log'!$B$18:$B$1017,$B90,'Daily Log'!$C$18:$C$1017),0)","v":0},{"$f":"IFERROR($E90*SUMIF('Daily Log'!$E$18:$E$1017,$B90,'Daily Log'!$F$18:$F$1017),0)","v":0},{"$f":"IFERROR($E90*SUMIF('Daily Log'!$H$18:$H$1017,$B90,'Daily Log'!$I$18:$I$1017),0)","v":0},{"$f":"IFERROR($E90*SUMIF('Daily Log'!$K$18:$K$1017,$B90,'Daily Log'!$L$18:$L$1017),0)","v":1},{"$f":"IFERROR($E90*SUMIF('Daily Log'!$N$18:$N$1017,$B90,'Daily Log'!$O$18:$O$1017),0)","v":0},{"$f":"IFERROR($E90*SUMIF('Daily Log'!#REF!,$B90,'Daily Log'!#REF!),0)","v":0},{"$f":"IFERROR($E90*SUMIF('Daily Log'!#REF!,$B90,'Daily Log'!#REF!),0)","v":0},{"$f":"IFERROR($E90*SUMIF('Daily Log'!#REF!,$B90,'Daily Log'!#REF!),0)","v":0},{"$f":"IFERROR($E90*SUMIF('Daily Log'!#REF!,$B90,'Daily Log'!#REF!),0)","v":0},{"$f":"IFERROR($E90*SUMIF('Daily Log'!#REF!,$B90,'Daily Log'!#REF!),0)","v":0},{"$f":"IFERROR($E90*SUMIF('Daily Log'!#REF!,$B90,'Daily Log'!#REF!),0)","v":0},{"$f":"IFERROR($E90*SUMIF('Daily Log'!#REF!,$B90,'Daily Log'!#REF!),0)","v":0},{"$f":"IFERROR($E90*SUMIF('Daily Log'!#REF!,$B90,'Daily Log'!#REF!),0)","v":0},{"$f":"IFERROR($E90*SUMIF('Daily Log'!#REF!,$B90,'Daily Log'!#REF!),0)","v":0},{"$f":"IFERROR($E90*SUMIF('Daily Log'!#REF!,$B90,'Daily Log'!#REF!),0)","v":0},{"$f":"IFERROR($E90*SUMIF('Daily Log'!#REF!,$B90,'Daily Log'!#REF!),0)","v":0},{"$f":"IFERROR($E90*SUMIF('Daily Log'!#REF!,$B90,'Daily Log'!#REF!),0)","v":0},{"$f":"IFERROR($E90*SUMIF('Daily Log'!#REF!,$B90,'Daily Log'!#REF!),0)","v":0},{"$f":"IFERROR($E90*SUMIF('Daily Log'!#REF!,$B90,'Daily Log'!#REF!),0)","v":0},{"$f":"IFERROR($E90*SUMIF('Daily Log'!#REF!,$B90,'Daily Log'!#REF!),0)","v":0},{"$f":"IFERROR($E90*SUMIF('Daily Log'!#REF!,$B90,'Daily Log'!#REF!),0)","v":0},{"$f":"IFERROR($E90*SUMIF('Daily Log'!#REF!,$B90,'Daily Log'!#REF!),0)","v":0},{"$f":"IFERROR($E90*SUMIF('Daily Log'!#REF!,$B90,'Daily Log'!#REF!),0)","v":0},{"$f":"IFERROR($E90*SUMIF('Daily Log'!#REF!,$B90,'Daily Log'!#REF!),0)","v":0},{"$f":"IFERROR($E90*SUMIF('Daily Log'!#REF!,$B90,'Daily Log'!#REF!),0)","v":0},{"$f":"IFERROR($E90*SUMIF('Daily Log'!#REF!,$B90,'Daily Log'!#REF!),0)","v":0},{"$f":"IFERROR($E90*SUMIF('Daily Log'!#REF!,$B90,'Daily Log'!#REF!),0)","v":0},{"$f":"IFERROR($E90*SUMIF('Daily Log'!#REF!,$B90,'Daily Log'!#REF!),0)","v":0},{"$f":"IFERROR($E90*SUMIF('Daily Log'!#REF!,$B90,'Daily Log'!#REF!),0)","v":0},{"$f":"IFERROR($E90*SUMIF('Daily Log'!#REF!,$B90,'Daily Log'!#REF!),0)","v":0},{"$f":"IFERROR($E90*SUMIF('Daily Log'!#REF!,$B90,'Daily Log'!#REF!),0)","v":0}]
[null,"CF11 MOCHA (H)",null,"SIDE ORDER-HOT BEVERAGE",1,0,{"$f":"IFERROR($E91*SUMIF('Daily Log'!$B$18:$B$1017,$B91,'Daily Log'!$C$18:$C$1017),0)","v":0},{"$f":"IFERROR($E91*SUMIF('Daily Log'!$E$18:$E$1017,$B91,'Daily Log'!$F$18:$F$1017),0)","v":0},{"$f":"IFERROR($E91*SUMIF('Daily Log'!$H$18:$H$1017,$B91,'Daily Log'!$I$18:$I$1017),0)","v":0},{"$f":"IFERROR($E91*SUMIF('Daily Log'!$K$18:$K$1017,$B91,'Daily Log'!$L$18:$L$1017),0)","v":0},{"$f":"IFERROR($E91*SUMIF('Daily Log'!$N$18:$N$1017,$B91,'Daily Log'!$O$18:$O$1017),0)","v":0},{"$f":"IFERROR($E91*SUMIF('Daily Log'!#REF!,$B91,'Daily Log'!#REF!),0)","v":0},{"$f":"IFERROR($E91*SUMIF('Daily Log'!#REF!,$B91,'Daily Log'!#REF!),0)","v":0},{"$f":"IFERROR($E91*SUMIF('Daily Log'!#REF!,$B91,'Daily Log'!#REF!),0)","v":0},{"$f":"IFERROR($E91*SUMIF('Daily Log'!#REF!,$B91,'Daily Log'!#REF!),0)","v":0},{"$f":"IFERROR($E91*SUMIF('Daily Log'!#REF!,$B91,'Daily Log'!#REF!),0)","v":0},{"$f":"IFERROR($E91*SUMIF('Daily Log'!#REF!,$B91,'Daily Log'!#REF!),0)","v":0},{"$f":"IFERROR($E91*SUMIF('Daily Log'!#REF!,$B91,'Daily Log'!#REF!),0)","v":0},{"$f":"IFERROR($E91*SUMIF('Daily Log'!#REF!,$B91,'Daily Log'!#REF!),0)","v":0},{"$f":"IFERROR($E91*SUMIF('Daily Log'!#REF!,$B91,'Daily Log'!#REF!),0)","v":0},{"$f":"IFERROR($E91*SUMIF('Daily Log'!#REF!,$B91,'Daily Log'!#REF!),0)","v":0},{"$f":"IFERROR($E91*SUMIF('Daily Log'!#REF!,$B91,'Daily Log'!#REF!),0)","v":0},{"$f":"IFERROR($E91*SUMIF('Daily Log'!#REF!,$B91,'Daily Log'!#REF!),0)","v":0},{"$f":"IFERROR($E91*SUMIF('Daily Log'!#REF!,$B91,'Daily Log'!#REF!),0)","v":0},{"$f":"IFERROR($E91*SUMIF('Daily Log'!#REF!,$B91,'Daily Log'!#REF!),0)","v":0},{"$f":"IFERROR($E91*SUMIF('Daily Log'!#REF!,$B91,'Daily Log'!#REF!),0)","v":0},{"$f":"IFERROR($E91*SUMIF('Daily Log'!#REF!,$B91,'Daily Log'!#REF!),0)","v":0},{"$f":"IFERROR($E91*SUMIF('Daily Log'!#REF!,$B91,'Daily Log'!#REF!),0)","v":0},{"$f":"IFERROR($E91*SUMIF('Daily Log'!#REF!,$B91,'Daily Log'!#REF!),0)","v":0},{"$f":"IFERROR($E91*SUMIF('Daily Log'!#REF!,$B91,'Daily Log'!#REF!),0)","v":0},{"$f":"IFERROR($E91*SUMIF('Daily Log'!#REF!,$B91,'Daily Log'!#REF!),0)","v":0},{"$f":"IFERROR($E91*SUMIF('Daily Log'!#REF!,$B91,'Daily Log'!#REF!),0)","v":0},{"$f":"IFERROR($E91*SUMIF('Daily Log'!#REF!,$B91,'Daily Log'!#REF!),0)","v":0},{"$f":"IFERROR($E91*SUMIF('Daily Log'!#REF!,$B91,'Daily Log'!#REF!),0)","v":0},{"$f":"IFERROR($E91*SUMIF('Daily Log'!#REF!,$B91,'Daily Log'!#REF!),0)","v":0},{"$f":"IFERROR($E91*SUMIF('Daily Log'!#REF!,$B91,'Daily Log'!#REF!),0)","v":0},{"$f":"IFERROR($E91*SUMIF('Daily Log'!#REF!,$B91,'Daily Log'!#REF!),0)","v":0}]
[null,"CF12 CHAMOMILE (H)",null,"SIDE ORDER-HOT BEVERAGE",1,1,{"$f":"IFERROR($E92*SUMIF('Daily Log'!$B$18:$B$1017,$B92,'Daily Log'!$C$18:$C$1017),0)","v":1},{"$f":"IFERROR($E92*SUMIF('Daily Log'!$E$18:$E$1017,$B92,'Daily Log'!$F$18:$F$1017),0)","v":0},{"$f":"IFERROR($E92*SUMIF('Daily Log'!$H$18:$H$1017,$B92,'Daily Log'!$I$18:$I$1017),0)","v":0},{"$f":"IFERROR($E92*SUMIF('Daily Log'!$K$18:$K$1017,$B92,'Daily Log'!$L$18:$L$1017),0)","v":0},{"$f":"IFERROR($E92*SUMIF('Daily Log'!$N$18:$N$1017,$B92,'Daily Log'!$O$18:$O$1017),0)","v":0},{"$f":"IFERROR($E92*SUMIF('Daily Log'!#REF!,$B92,'Daily Log'!#REF!),0)","v":0},{"$f":"IFERROR($E92*SUMIF('Daily Log'!#REF!,$B92,'Daily Log'!#REF!),0)","v":0},{"$f":"IFERROR($E92*SUMIF('Daily Log'!#REF!,$B92,'Daily Log'!#REF!),0)","v":0},{"$f":"IFERROR($E92*SUMIF('Daily Log'!#REF!,$B92,'Daily Log'!#REF!),0)","v":0},{"$f":"IFERROR($E92*SUMIF('Daily Log'!#REF!,$B92,'Daily Log'!#REF!),0)","v":0},{"$f":"IFERROR($E92*SUMIF('Daily Log'!#REF!,$B92,'Daily Log'!#REF!),0)","v":0},{"$f":"IFERROR($E92*SUMIF('Daily Log'!#REF!,$B92,'Daily Log'!#REF!),0)","v":0},{"$f":"IFERROR($E92*SUMIF('Daily Log'!#REF!,$B92,'Daily Log'!#REF!),0)","v":0},{"$f":"IFERROR($E92*SUMIF('Daily Log'!#REF!,$B92,'Daily Log'!#REF!),0)","v":0},{"$f":"IFERROR($E92*SUMIF('Daily Log'!#REF!,$B92,'Daily Log'!#REF!),0)","v":0},{"$f":"IFERROR($E92*SUMIF('Daily Log'!#REF!,$B92,'Daily Log'!#REF!),0)","v":0},{"$f":"IFERROR($E92*SUMIF('Daily Log'!#REF!,$B92,'Daily Log'!#REF!),0)","v":0},{"$f":"IFERROR($E92*SUMIF('Daily Log'!#REF!,$B92,'Daily Log'!#REF!),0)","v":0},{"$f":"IFERROR($E92*SUMIF('Daily Log'!#REF!,$B92,'Daily Log'!#REF!),0)","v":0},{"$f":"IFERROR($E92*SUMIF('Daily Log'!#REF!,$B92,'Daily Log'!#REF!),0)","v":0},{"$f":"IFERROR($E92*SUMIF('Daily Log'!#REF!,$B92,'Daily Log'!#REF!),0)","v":0},{"$f":"IFERROR($E92*SUMIF('Daily Log'!#REF!,$B92,'Daily Log'!#REF!),0)","v":0},{"$f":"IFERROR($E92*SUMIF('Daily Log'!#REF!,$B92,'Daily Log'!#REF!),0)","v":0},{"$f":"IFERROR($E92*SUMIF('Daily Log'!#REF!,$B92,'Daily Log'!#REF!),0)","v":0},{"$f":"IFERROR($E92*SUMIF('Daily Log'!#REF!,$B92,'Daily Log'!#REF!),0)","v":0},{"$f":"IFERROR($E92*SUMIF('Daily Log'!#REF!,$B92,'Daily Log'!#REF!),0)","v":0},{"$f":"IFERROR($E92*SUMIF('Daily Log'!#REF!,$B92,'Daily Log'!#REF!),0)","v":0},{"$f":"IFERROR($E92*SUMIF('Daily Log'!#REF!,$B92,'Daily Log'!#REF!),0)","v":0},{"$f":"IFERROR($E92*SUMIF('Daily Log'!#REF!,$B92,'Daily Log'!#REF!),0)","v":0},{"$f":"IFERROR($E92*SUMIF('Daily Log'!#REF!,$B92,'Daily Log'!#REF!),0)","v":0},{"$f":"IFERROR($E92*SUMIF('Daily Log'!#REF!,$B92,'Daily Log'!#REF!),0)","v":0}]
[null,"CF13 DARJEELING (H)",null,"SIDE ORDER-HOT BEVERAGE",1,0,{"$f":"IFERROR($E93*SUMIF('Daily Log'!$B$18:$B$1017,$B93,'Daily Log'!$C$18:$C$1017),0)","v":0},{"$f":"IFERROR($E93*SUMIF('Daily Log'!$E$18:$E$1017,$B93,'Daily Log'!$F$18:$F$1017),0)","v":0},{"$f":"IFERROR($E93*SUMIF('Daily Log'!$H$18:$H$1017,$B93,'Daily Log'!$I$18:$I$1017),0)","v":0},{"$f":"IFERROR($E93*SUMIF('Daily Log'!$K$18:$K$1017,$B93,'Daily Log'!$L$18:$L$1017),0)","v":0},{"$f":"IFERROR($E93*SUMIF('Daily Log'!$N$18:$N$1017,$B93,'Daily Log'!$O$18:$O$1017),0)","v":0},{"$f":"IFERROR($E93*SUMIF('Daily Log'!#REF!,$B93,'Daily Log'!#REF!),0)","v":0},{"$f":"IFERROR($E93*SUMIF('Daily Log'!#REF!,$B93,'Daily Log'!#REF!),0)","v":0},{"$f":"IFERROR($E93*SUMIF('Daily Log'!#REF!,$B93,'Daily Log'!#REF!),0)","v":0},{"$f":"IFERROR($E93*SUMIF('Daily Log'!#REF!,$B93,'Daily Log'!#REF!),0)","v":0},{"$f":"IFERROR($E93*SUMIF('Daily Log'!#REF!,$B93,'Daily Log'!#REF!),0)","v":0},{"$f":"IFERROR($E93*SUMIF('Daily Log'!#REF!,$B93,'Daily Log'!#REF!),0)","v":0},{"$f":"IFERROR($E93*SUMIF('Daily Log'!#REF!,$B93,'Daily Log'!#REF!),0)","v":0},{"$f":"IFERROR($E93*SUMIF('Daily Log'!#REF!,$B93,'Daily Log'!#REF!),0)","v":0},{"$f":"IFERROR($E93*SUMIF('Daily Log'!#REF!,$B93,'Daily Log'!#REF!),0)","v":0},{"$f":"IFERROR($E93*SUMIF('Daily Log'!#REF!,$B93,'Daily Log'!#REF!),0)","v":0},{"$f":"IFERROR($E93*SUMIF('Daily Log'!#REF!,$B93,'Daily Log'!#REF!),0)","v":0},{"$f":"IFERROR($E93*SUMIF('Daily Log'!#REF!,$B93,'Daily Log'!#REF!),0)","v":0},{"$f":"IFERROR($E93*SUMIF('Daily Log'!#REF!,$B93,'Daily Log'!#REF!),0)","v":0},{"$f":"IFERROR($E93*SUMIF('Daily Log'!#REF!,$B93,'Daily Log'!#REF!),0)","v":0},{"$f":"IFERROR($E93*SUMIF('Daily Log'!#REF!,$B93,'Daily Log'!#REF!),0)","v":0},{"$f":"IFERROR($E93*SUMIF('Daily Log'!#REF!,$B93,'Daily Log'!#REF!),0)","v":0},{"$f":"IFERROR($E93*SUMIF('Daily Log'!#REF!,$B93,'Daily Log'!#REF!),0)","v":0},{"$f":"IFERROR($E93*SUMIF('Daily Log'!#REF!,$B93,'Daily Log'!#REF!),0)","v":0},{"$f":"IFERROR($E93*SUMIF('Daily Log'!#REF!,$B93,'Daily Log'!#REF!),0)","v":0},{"$f":"IFERROR($E93*SUMIF('Daily Log'!#REF!,$B93,'Daily Log'!#REF!),0)","v":0},{"$f":"IFERROR($E93*SUMIF('Daily Log'!#REF!,$B93,'Daily Log'!#REF!),0)","v":0},{"$f":"IFERROR($E93*SUMIF('Daily Log'!#REF!,$B93,'Daily Log'!#REF!),0)","v":0},{"$f":"IFERROR($E93*SUMIF('Daily Log'!#REF!,$B93,'Daily Log'!#REF!),0)","v":0},{"$f":"IFERROR($E93*SUMIF('Daily Log'!#REF!,$B93,'Daily Log'!#REF!),0)","v":0},{"$f":"IFERROR($E93*SUMIF('Daily Log'!#REF!,$B93,'Daily Log'!#REF!),0)","v":0},{"$f":"IFERROR($E93*SUMIF('Daily Log'!#REF!,$B93,'Daily Log'!#REF!),0)","v":0}]
[null,"CF14 EARL GREY (H)",null,"SIDE ORDER-HOT BEVERAGE",1,{"$f":"SUM($G94:$AK94)","v":0},{"$f":"IFERROR($E94*SUMIF('Daily Log'!$B$18:$B$1017,$B94,'Daily Log'!$C$18:$C$1017),0)","v":0},{"$f":"IFERROR($E94*SUMIF('Daily Log'!$E$18:$E$1017,$B94,'Daily Log'!$F$18:$F$1017),0)","v":0},{"$f":"IFERROR($E94*SUMIF('Daily Log'!$H$18:$H$1017,$B94,'Daily Log'!$I$18:$I$1017),0)","v":0},{"$f":"IFERROR($E94*SUMIF('Daily Log'!$K$18:$K$1017,$B94,'Daily Log'!$L$18:$L$1017),0)","v":0},{"$f":"IFERROR($E94*SUMIF('Daily Log'!$N$18:$N$1017,$B94,'Daily Log'!$O$18:$O$1017),0)","v":0},{"$f":"IFERROR($E94*SUMIF('Daily Log'!#REF!,$B94,'Daily Log'!#REF!),0)","v":0},{"$f":"IFERROR($E94*SUMIF('Daily Log'!#REF!,$B94,'Daily Log'!#REF!),0)","v":0},{"$f":"IFERROR($E94*SUMIF('Daily Log'!#REF!,$B94,'Daily Log'!#REF!),0)","v":0},{"$f":"IFERROR($E94*SUMIF('Daily Log'!#REF!,$B94,'Daily Log'!#REF!),0)","v":0},{"$f":"IFERROR($E94*SUMIF('Daily Log'!#REF!,$B94,'Daily Log'!#REF!),0)","v":0},{"$f":"IFERROR($E94*SUMIF('Daily Log'!#REF!,$B94,'Daily Log'!#REF!),0)","v":0},{"$f":"IFERROR($E94*SUMIF('Daily Log'!#REF!,$B94,'Daily Log'!#REF!),0)","v":0},{"$f":"IFERROR($E94*SUMIF('Daily Log'!#REF!,$B94,'Daily Log'!#REF!),0)","v":0},{"$f":"IFERROR($E94*SUMIF('Daily Log'!#REF!,$B94,'Daily Log'!#REF!),0)","v":0},{"$f":"IFERROR($E94*SUMIF('Daily Log'!#REF!,$B94,'Daily Log'!#REF!),0)","v":0},{"$f":"IFERROR($E94*SUMIF('Daily Log'!#REF!,$B94,'Daily Log'!#REF!),0)","v":0},{"$f":"IFERROR($E94*SUMIF('Daily Log'!#REF!,$B94,'Daily Log'!#REF!),0)","v":0},{"$f":"IFERROR($E94*SUMIF('Daily Log'!#REF!,$B94,'Daily Log'!#REF!),0)","v":0},{"$f":"IFERROR($E94*SUMIF('Daily Log'!#REF!,$B94,'Daily Log'!#REF!),0)","v":0},{"$f":"IFERROR($E94*SUMIF('Daily Log'!#REF!,$B94,'Daily Log'!#REF!),0)","v":0},{"$f":"IFERROR($E94*SUMIF('Daily Log'!#REF!,$B94,'Daily Log'!#REF!),0)","v":0},{"$f":"IFERROR($E94*SUMIF('Daily Log'!#REF!,$B94,'Daily Log'!#REF!),0)","v":0},{"$f":"IFERROR($E94*SUMIF('Daily Log'!#REF!,$B94,'Daily Log'!#REF!),0)","v":0},{"$f":"IFERROR($E94*SUMIF('Daily Log'!#REF!,$B94,'Daily Log'!#REF!),0)","v":0},{"$f":"IFERROR($E94*SUMIF('Daily Log'!#REF!,$B94,'Daily Log'!#REF!),0)","v":0},{"$f":"IFERROR($E94*SUMIF('Daily Log'!#REF!,$B94,'Daily Log'!#REF!),0)","v":0},{"$f":"IFERROR($E94*SUMIF('Daily Log'!#REF!,$B94,'Daily Log'!#REF!),0)","v":0},{"$f":"IFERROR($E94*SUMIF('Daily Log'!#REF!,$B94,'Daily Log'!#REF!),0)","v":0},{"$f":"IFERROR($E94*SUMIF('Daily Log'!#REF!,$B94,'Daily Log'!#REF!),0)","v":0},{"$f":"IFERROR($E94*SUMIF('Daily Log'!#REF!,$B94,'Daily Log'!#REF!),0)","v":0},{"$f":"IFERROR($E94*SUMIF('Daily Log'!#REF!,$B94,'Daily Log'!#REF!),0)","v":0}]
[null,"CG01 MINERAL WATER",null,"MINERAL WATER ",1,2,{"$f":"IFERROR($E95*SUMIF('Daily Log'!$B$18:$B$1017,$B95,'Daily Log'!$C$18:$C$1017),0)","v":1},{"$f":"IFERROR($E95*SUMIF('Daily Log'!$E$18:$E$1017,$B95,'Daily Log'!$F$18:$F$1017),0)","v":0},{"$f":"IFERROR($E95*SUMIF('Daily Log'!$H$18:$H$1017,$B95,'Daily Log'!$I$18:$I$1017),0)","v":1},{"$f":"IFERROR($E95*SUMIF('Daily Log'!$K$18:$K$1017,$B95,'Daily Log'!$L$18:$L$1017),0)","v":0},{"$f":"IFERROR($E95*SUMIF('Daily Log'!$N$18:$N$1017,$B95,'Daily Log'!$O$18:$O$1017),0)","v":0},{"$f":"IFERROR($E95*SUMIF('Daily Log'!#REF!,$B95,'Daily Log'!#REF!),0)","v":0},{"$f":"IFERROR($E95*SUMIF('Daily Log'!#REF!,$B95,'Daily Log'!#REF!),0)","v":0},{"$f":"IFERROR($E95*SUMIF('Daily Log'!#REF!,$B95,'Daily Log'!#REF!),0)","v":0},{"$f":"IFERROR($E95*SUMIF('Daily Log'!#REF!,$B95,'Daily Log'!#REF!),0)","v":0},{"$f":"IFERROR($E95*SUMIF('Daily Log'!#REF!,$B95,'Daily Log'!#REF!),0)","v":0},{"$f":"IFERROR($E95*SUMIF('Daily Log'!#REF!,$B95,'Daily Log'!#REF!),0)","v":0},{"$f":"IFERROR($E95*SUMIF('Daily Log'!#REF!,$B95,'Daily Log'!#REF!),0)","v":0},{"$f":"IFERROR($E95*SUMIF('Daily Log'!#REF!,$B95,'Daily Log'!#REF!),0)","v":0},{"$f":"IFERROR($E95*SUMIF('Daily Log'!#REF!,$B95,'Daily Log'!#REF!),0)","v":0},{"$f":"IFERROR($E95*SUMIF('Daily Log'!#REF!,$B95,'Daily Log'!#REF!),0)","v":0},{"$f":"IFERROR($E95*SUMIF('Daily Log'!#REF!,$B95,'Daily Log'!#REF!),0)","v":0},{"$f":"IFERROR($E95*SUMIF('Daily Log'!#REF!,$B95,'Daily Log'!#REF!),0)","v":0},{"$f":"IFERROR($E95*SUMIF('Daily Log'!#REF!,$B95,'Daily Log'!#REF!),0)","v":0},{"$f":"IFERROR($E95*SUMIF('Daily Log'!#REF!,$B95,'Daily Log'!#REF!),0)","v":0},{"$f":"IFERROR($E95*SUMIF('Daily Log'!#REF!,$B95,'Daily Log'!#REF!),0)","v":0},{"$f":"IFERROR($E95*SUMIF('Daily Log'!#REF!,$B95,'Daily Log'!#REF!),0)","v":0},{"$f":"IFERROR($E95*SUMIF('Daily Log'!#REF!,$B95,'Daily Log'!#REF!),0)","v":0},{"$f":"IFERROR($E95*SUMIF('Daily Log'!#REF!,$B95,'Daily Log'!#REF!),0)","v":0},{"$f":"IFERROR($E95*SUMIF('Daily Log'!#REF!,$B95,'Daily Log'!#REF!),0)","v":0},{"$f":"IFERROR($E95*SUMIF('Daily Log'!#REF!,$B95,'Daily Log'!#REF!),0)","v":0},{"$f":"IFERROR($E95*SUMIF('Daily Log'!#REF!,$B95,'Daily Log'!#REF!),0)","v":0},{"$f":"IFERROR($E95*SUMIF('Daily Log'!#REF!,$B95,'Daily Log'!#REF!),0)","v":0},{"$f":"IFERROR($E95*SUMIF('Daily Log'!#REF!,$B95,'Daily Log'!#REF!),0)","v":0},{"$f":"IFERROR($E95*SUMIF('Daily Log'!#REF!,$B95,'Daily Log'!#REF!),0)","v":0},{"$f":"IFERROR($E95*SUMIF('Daily Log'!#REF!,$B95,'Daily Log'!#REF!),0)","v":0},{"$f":"IFERROR($E95*SUMIF('Daily Log'!#REF!,$B95,'Daily Log'!#REF!),0)","v":0}]
[null,"CH01 7 UP JUG",null,"JUG",1,0,{"$f":"IFERROR($E96*SUMIF('Daily Log'!$B$18:$B$1017,$B96,'Daily Log'!$C$18:$C$1017),0)","v":0},{"$f":"IFERROR($E96*SUMIF('Daily Log'!$E$18:$E$1017,$B96,'Daily Log'!$F$18:$F$1017),0)","v":0},{"$f":"IFERROR($E96*SUMIF('Daily Log'!$H$18:$H$1017,$B96,'Daily Log'!$I$18:$I$1017),0)","v":0},{"$f":"IFERROR($E96*SUMIF('Daily Log'!$K$18:$K$1017,$B96,'Daily Log'!$L$18:$L$1017),0)","v":0},{"$f":"IFERROR($E96*SUMIF('Daily Log'!$N$18:$N$1017,$B96,'Daily Log'!$O$18:$O$1017),0)","v":0},{"$f":"IFERROR($E96*SUMIF('Daily Log'!#REF!,$B96,'Daily Log'!#REF!),0)","v":0},{"$f":"IFERROR($E96*SUMIF('Daily Log'!#REF!,$B96,'Daily Log'!#REF!),0)","v":0},{"$f":"IFERROR($E96*SUMIF('Daily Log'!#REF!,$B96,'Daily Log'!#REF!),0)","v":0},{"$f":"IFERROR($E96*SUMIF('Daily Log'!#REF!,$B96,'Daily Log'!#REF!),0)","v":0},{"$f":"IFERROR($E96*SUMIF('Daily Log'!#REF!,$B96,'Daily Log'!#REF!),0)","v":0},{"$f":"IFERROR($E96*SUMIF('Daily Log'!#REF!,$B96,'Daily Log'!#REF!),0)","v":0},{"$f":"IFERROR($E96*SUMIF('Daily Log'!#REF!,$B96,'Daily Log'!#REF!),0)","v":0},{"$f":"IFERROR($E96*SUMIF('Daily Log'!#REF!,$B96,'Daily Log'!#REF!),0)","v":0},{"$f":"IFERROR($E96*SUMIF('Daily Log'!#REF!,$B96,'Daily Log'!#REF!),0)","v":0},{"$f":"IFERROR($E96*SUMIF('Daily Log'!#REF!,$B96,'Daily Log'!#REF!),0)","v":0},{"$f":"IFERROR($E96*SUMIF('Daily Log'!#REF!,$B96,'Daily Log'!#REF!),0)","v":0},{"$f":"IFERROR($E96*SUMIF('Daily Log'!#REF!,$B96,'Daily Log'!#REF!),0)","v":0},{"$f":"IFERROR($E96*SUMIF('Daily Log'!#REF!,$B96,'Daily Log'!#REF!),0)","v":0},{"$f":"IFERROR($E96*SUMIF('Daily Log'!#REF!,$B96,'Daily Log'!#REF!),0)","v":0},{"$f":"IFERROR($E96*SUMIF('Daily Log'!#REF!,$B96,'Daily Log'!#REF!),0)","v":0},{"$f":"IFERROR($E96*SUMIF('Daily Log'!#REF!,$B96,'Daily Log'!#REF!),0)","v":0},{"$f":"IFERROR($E96*SUMIF('Daily Log'!#REF!,$B96,'Daily Log'!#REF!),0)","v":0},{"$f":"IFERROR($E96*SUMIF('Daily Log'!#REF!,$B96,'Daily Log'!#REF!),0)","v":0},{"$f":"IFERROR($E96*SUMIF('Daily Log'!#REF!,$B96,'Daily Log'!#REF!),0)","v":0},{"$f":"IFERROR($E96*SUMIF('Daily Log'!#REF!,$B96,'Daily Log'!#REF!),0)","v":0},{"$f":"IFERROR($E96*SUMIF('Daily Log'!#REF!,$B96,'Daily Log'!#REF!),0)","v":0},{"$f":"IFERROR($E96*SUMIF('Daily Log'!#REF!,$B96,'Daily Log'!#REF!),0)","v":0},{"$f":"IFERROR($E96*SUMIF('Daily Log'!#REF!,$B96,'Daily Log'!#REF!),0)","v":0},{"$f":"IFERROR($E96*SUMIF('Daily Log'!#REF!,$B96,'Daily Log'!#REF!),0)","v":0},{"$f":"IFERROR($E96*SUMIF('Daily Log'!#REF!,$B96,'Daily Log'!#REF!),0)","v":0},{"$f":"IFERROR($E96*SUMIF('Daily Log'!#REF!,$B96,'Daily Log'!#REF!),0)","v":0}]
[null,"CH02 GRN TEA JUG",null,"JUG",1,2,{"$f":"IFERROR($E97*SUMIF('Daily Log'!$B$18:$B$1017,$B97,'Daily Log'!$C$18:$C$1017),0)","v":0},{"$f":"IFERROR($E97*SUMIF('Daily Log'!$E$18:$E$1017,$B97,'Daily Log'!$F$18:$F$1017),0)","v":0},{"$f":"IFERROR($E97*SUMIF('Daily Log'!$H$18:$H$1017,$B97,'Daily Log'!$I$18:$I$1017),0)","v":0},{"$f":"IFERROR($E97*SUMIF('Daily Log'!$K$18:$K$1017,$B97,'Daily Log'!$L$18:$L$1017),0)","v":2},{"$f":"IFERROR($E97*SUMIF('Daily Log'!$N$18:$N$1017,$B97,'Daily Log'!$O$18:$O$1017),0)","v":0},{"$f":"IFERROR($E97*SUMIF('Daily Log'!#REF!,$B97,'Daily Log'!#REF!),0)","v":0},{"$f":"IFERROR($E97*SUMIF('Daily Log'!#REF!,$B97,'Daily Log'!#REF!),0)","v":0},{"$f":"IFERROR($E97*SUMIF('Daily Log'!#REF!,$B97,'Daily Log'!#REF!),0)","v":0},{"$f":"IFERROR($E97*SUMIF('Daily Log'!#REF!,$B97,'Daily Log'!#REF!),0)","v":0},{"$f":"IFERROR($E97*SUMIF('Daily Log'!#REF!,$B97,'Daily Log'!#REF!),0)","v":0},{"$f":"IFERROR($E97*SUMIF('Daily Log'!#REF!,$B97,'Daily Log'!#REF!),0)","v":0},{"$f":"IFERROR($E97*SUMIF('Daily Log'!#REF!,$B97,'Daily Log'!#REF!),0)","v":0},{"$f":"IFERROR($E97*SUMIF('Daily Log'!#REF!,$B97,'Daily Log'!#REF!),0)","v":0},{"$f":"IFERROR($E97*SUMIF('Daily Log'!#REF!,$B97,'Daily Log'!#REF!),0)","v":0},{"$f":"IFERROR($E97*SUMIF('Daily Log'!#REF!,$B97,'Daily Log'!#REF!),0)","v":0},{"$f":"IFERROR($E97*SUMIF('Daily Log'!#REF!,$B97,'Daily Log'!#REF!),0)","v":0},{"$f":"IFERROR($E97*SUMIF('Daily Log'!#REF!,$B97,'Daily Log'!#REF!),0)","v":0},{"$f":"IFERROR($E97*SUMIF('Daily Log'!#REF!,$B97,'Daily Log'!#REF!),0)","v":0},{"$f":"IFERROR($E97*SUMIF('Daily Log'!#REF!,$B97,'Daily Log'!#REF!),0)","v":0},{"$f":"IFERROR($E97*SUMIF('Daily Log'!#REF!,$B97,'Daily Log'!#REF!),0)","v":0},{"$f":"IFERROR($E97*SUMIF('Daily Log'!#REF!,$B97,'Daily Log'!#REF!),0)","v":0},{"$f":"IFERROR($E97*SUMIF('Daily Log'!#REF!,$B97,'Daily Log'!#REF!),0)","v":0},{"$f":"IFERROR($E97*SUMIF('Daily Log'!#REF!,$B97,'Daily Log'!#REF!),0)","v":0},{"$f":"IFERROR($E97*SUMIF('Daily Log'!#REF!,$B97,'Daily Log'!#REF!),0)","v":0},{"$f":"IFERROR($E97*SUMIF('Daily Log'!#REF!,$B97,'Daily Log'!#REF!),0)","v":0},{"$f":"IFERROR($E97*SUMIF('Daily Log'!#REF!,$B97,'Daily Log'!#REF!),0)","v":0},{"$f":"IFERROR($E97*SUMIF('Daily Log'!#REF!,$B97,'Daily Log'!#REF!),0)","v":0},{"$f":"IFERROR($E97*SUMIF('Daily Log'!#REF!,$B97,'Daily Log'!#REF!),0)","v":0},{"$f":"IFERROR($E97*SUMIF('Daily Log'!#REF!,$B97,'Daily Log'!#REF!),0)","v":0},{"$f":"IFERROR($E97*SUMIF('Daily Log'!#REF!,$B97,'Daily Log'!#REF!),0)","v":0},{"$f":"IFERROR($E97*SUMIF('Daily Log'!#REF!,$B97,'Daily Log'!#REF!),0)","v":0}]
[null,"CH03 PEPSI JUG",null,"JUG",1,2,{"$f":"IFERROR($E98*SUMIF('Daily Log'!$B$18:$B$1017,$B98,'Daily Log'!$C$18:$C$1017),0)","v":0},{"$f":"IFERROR($E98*SUMIF('Daily Log'!$E$18:$E$1017,$B98,'Daily Log'!$F$18:$F$1017),0)","v":0},{"$f":"IFERROR($E98*SUMIF('Daily Log'!$H$18:$H$1017,$B98,'Daily Log'!$I$18:$I$1017),0)","v":0},{"$f":"IFERROR($E98*SUMIF('Daily Log'!$K$18:$K$1017,$B98,'Daily Log'!$L$18:$L$1017),0)","v":2},{"$f":"IFERROR($E98*SUMIF('Daily Log'!$N$18:$N$1017,$B98,'Daily Log'!$O$18:$O$1017),0)","v":0},{"$f":"IFERROR($E98*SUMIF('Daily Log'!#REF!,$B98,'Daily Log'!#REF!),0)","v":0},{"$f":"IFERROR($E98*SUMIF('Daily Log'!#REF!,$B98,'Daily Log'!#REF!),0)","v":0},{"$f":"IFERROR($E98*SUMIF('Daily Log'!#REF!,$B98,'Daily Log'!#REF!),0)","v":0},{"$f":"IFERROR($E98*SUMIF('Daily Log'!#REF!,$B98,'Daily Log'!#REF!),0)","v":0},{"$f":"IFERROR($E98*SUMIF('Daily Log'!#REF!,$B98,'Daily Log'!#REF!),0)","v":0},{"$f":"IFERROR($E98*SUMIF('Daily Log'!#REF!,$B98,'Daily Log'!#REF!),0)","v":0},{"$f":"IFERROR($E98*SUMIF('Daily Log'!#REF!,$B98,'Daily Log'!#REF!),0)","v":0},{"$f":"IFERROR($E98*SUMIF('Daily Log'!#REF!,$B98,'Daily Log'!#REF!),0)","v":0},{"$f":"IFERROR($E98*SUMIF('Daily Log'!#REF!,$B98,'Daily Log'!#REF!),0)","v":0},{"$f":"IFERROR($E98*SUMIF('Daily Log'!#REF!,$B98,'Daily Log'!#REF!),0)","v":0},{"$f":"IFERROR($E98*SUMIF('Daily Log'!#REF!,$B98,'Daily Log'!#REF!),0)","v":0},{"$f":"IFERROR($E98*SUMIF('Daily Log'!#REF!,$B98,'Daily Log'!#REF!),0)","v":0},{"$f":"IFERROR($E98*SUMIF('Daily Log'!#REF!,$B98,'Daily Log'!#REF!),0)","v":0},{"$f":"IFERROR($E98*SUMIF('Daily Log'!#REF!,$B98,'Daily Log'!#REF!),0)","v":0},{"$f":"IFERROR($E98*SUMIF('Daily Log'!#REF!,$B98,'Daily Log'!#REF!),0)","v":0},{"$f":"IFERROR($E98*SUMIF('Daily Log'!#REF!,$B98,'Daily Log'!#REF!),0)","v":0},{"$f":"IFERROR($E98*SUMIF('Daily Log'!#REF!,$B98,'Daily Log'!#REF!),0)","v":0},{"$f":"IFERROR($E98*SUMIF('Daily Log'!#REF!,$B98,'Daily Log'!#REF!),0)","v":0},{"$f":"IFERROR($E98*SUMIF('Daily Log'!#REF!,$B98,'Daily Log'!#REF!),0)","v":0},{"$f":"IFERROR($E98*SUMIF('Daily Log'!#REF!,$B98,'Daily Log'!#REF!),0)","v":0},{"$f":"IFERROR($E98*SUMIF('Daily Log'!#REF!,$B98,'Daily Log'!#REF!),0)","v":0},{"$f":"IFERROR($E98*SUMIF('Daily Log'!#REF!,$B98,'Daily Log'!#REF!),0)","v":0},{"$f":"IFERROR($E98*SUMIF('Daily Log'!#REF!,$B98,'Daily Log'!#REF!),0)","v":0},{"$f":"IFERROR($E98*SUMIF('Daily Log'!#REF!,$B98,'Daily Log'!#REF!),0)","v":0},{"$f":"IFERROR($E98*SUMIF('Daily Log'!#REF!,$B98,'Daily Log'!#REF!),0)","v":0},{"$f":"IFERROR($E98*SUMIF('Daily Log'!#REF!,$B98,'Daily Log'!#REF!),0)","v":0}]
[null,"CH04 RIBENA JUG",null,"JUG",1,0,{"$f":"IFERROR($E99*SUMIF('Daily Log'!$B$18:$B$1017,$B99,'Daily Log'!$C$18:$C$1017),0)","v":0},{"$f":"IFERROR($E99*SUMIF('Daily Log'!$E$18:$E$1017,$B99,'Daily Log'!$F$18:$F$1017),0)","v":0},{"$f":"IFERROR($E99*SUMIF('Daily Log'!$H$18:$H$1017,$B99,'Daily Log'!$I$18:$I$1017),0)","v":0},{"$f":"IFERROR($E99*SUMIF('Daily Log'!$K$18:$K$1017,$B99,'Daily Log'!$L$18:$L$1017),0)","v":0},{"$f":"IFERROR($E99*SUMIF('Daily Log'!$N$18:$N$1017,$B99,'Daily Log'!$O$18:$O$1017),0)","v":0},{"$f":"IFERROR($E99*SUMIF('Daily Log'!#REF!,$B99,'Daily Log'!#REF!),0)","v":0},{"$f":"IFERROR($E99*SUMIF('Daily Log'!#REF!,$B99,'Daily Log'!#REF!),0)","v":0},{"$f":"IFERROR($E99*SUMIF('Daily Log'!#REF!,$B99,'Daily Log'!#REF!),0)","v":0},{"$f":"IFERROR($E99*SUMIF('Daily Log'!#REF!,$B99,'Daily Log'!#REF!),0)","v":0},{"$f":"IFERROR($E99*SUMIF('Daily Log'!#REF!,$B99,'Daily Log'!#REF!),0)","v":0},{"$f":"IFERROR($E99*SUMIF('Daily Log'!#REF!,$B99,'Daily Log'!#REF!),0)","v":0},{"$f":"IFERROR($E99*SUMIF('Daily Log'!#REF!,$B99,'Daily Log'!#REF!),0)","v":0},{"$f":"IFERROR($E99*SUMIF('Daily Log'!#REF!,$B99,'Daily Log'!#REF!),0)","v":0},{"$f":"IFERROR($E99*SUMIF('Daily Log'!#REF!,$B99,'Daily Log'!#REF!),0)","v":0},{"$f":"IFERROR($E99*SUMIF('Daily Log'!#REF!,$B99,'Daily Log'!#REF!),0)","v":0},{"$f":"IFERROR($E99*SUMIF('Daily Log'!#REF!,$B99,'Daily Log'!#REF!),0)","v":0},{"$f":"IFERROR($E99*SUMIF('Daily Log'!#REF!,$B99,'Daily Log'!#REF!),0)","v":0},{"$f":"IFERROR($E99*SUMIF('Daily Log'!#REF!,$B99,'Daily Log'!#REF!),0)","v":0},{"$f":"IFERROR($E99*SUMIF('Daily Log'!#REF!,$B99,'Daily Log'!#REF!),0)","v":0},{"$f":"IFERROR($E99*SUMIF('Daily Log'!#REF!,$B99,'Daily Log'!#REF!),0)","v":0},{"$f":"IFERROR($E99*SUMIF('Daily Log'!#REF!,$B99,'Daily Log'!#REF!),0)","v":0},{"$f":"IFERROR($E99*SUMIF('Daily Log'!#REF!,$B99,'Daily Log'!#REF!),0)","v":0},{"$f":"IFERROR($E99*SUMIF('Daily Log'!#REF!,$B99,'Daily Log'!#REF!),0)","v":0},{"$f":"IFERROR($E99*SUMIF('Daily Log'!#REF!,$B99,'Daily Log'!#REF!),0)","v":0},{"$f":"IFERROR($E99*SUMIF('Daily Log'!#REF!,$B99,'Daily Log'!#REF!),0)","v":0},{"$f":"IFERROR($E99*SUMIF('Daily Log'!#REF!,$B99,'Daily Log'!#REF!),0)","v":0},{"$f":"IFERROR($E99*SUMIF('Daily Log'!#REF!,$B99,'Daily Log'!#REF!),0)","v":0},{"$f":"IFERROR($E99*SUMIF('Daily Log'!#REF!,$B99,'Daily Log'!#REF!),0)","v":0},{"$f":"IFERROR($E99*SUMIF('Daily Log'!#REF!,$B99,'Daily Log'!#REF!),0)","v":0},{"$f":"IFERROR($E99*SUMIF('Daily Log'!#REF!,$B99,'Daily Log'!#REF!),0)","v":0},{"$f":"IFERROR($E99*SUMIF('Daily Log'!#REF!,$B99,'Daily Log'!#REF!),0)","v":0}]
[null,"CI01 GRAPE J",null,"FFD-JUICE",1,60,{"$f":"IFERROR($E100*SUMIF('Daily Log'!$B$18:$B$1017,$B100,'Daily Log'!$C$18:$C$1017),0)","v":14},{"$f":"IFERROR($E100*SUMIF('Daily Log'!$E$18:$E$1017,$B100,'Daily Log'!$F$18:$F$1017),0)","v":14},{"$f":"IFERROR($E100*SUMIF('Daily Log'!$H$18:$H$1017,$B100,'Daily Log'!$I$18:$I$1017),0)","v":7},{"$f":"IFERROR($E100*SUMIF('Daily Log'!$K$18:$K$1017,$B100,'Daily Log'!$L$18:$L$1017),0)","v":16},{"$f":"IFERROR($E100*SUMIF('Daily Log'!$N$18:$N$1017,$B100,'Daily Log'!$O$18:$O$1017),0)","v":9},{"$f":"IFERROR($E100*SUMIF('Daily Log'!#REF!,$B100,'Daily Log'!#REF!),0)","v":0},{"$f":"IFERROR($E100*SUMIF('Daily Log'!#REF!,$B100,'Daily Log'!#REF!),0)","v":0},{"$f":"IFERROR($E100*SUMIF('Daily Log'!#REF!,$B100,'Daily Log'!#REF!),0)","v":0},{"$f":"IFERROR($E100*SUMIF('Daily Log'!#REF!,$B100,'Daily Log'!#REF!),0)","v":0},{"$f":"IFERROR($E100*SUMIF('Daily Log'!#REF!,$B100,'Daily Log'!#REF!),0)","v":0},{"$f":"IFERROR($E100*SUMIF('Daily Log'!#REF!,$B100,'Daily Log'!#REF!),0)","v":0},{"$f":"IFERROR($E100*SUMIF('Daily Log'!#REF!,$B100,'Daily Log'!#REF!),0)","v":0},{"$f":"IFERROR($E100*SUMIF('Daily Log'!#REF!,$B100,'Daily Log'!#REF!),0)","v":0},{"$f":"IFERROR($E100*SUMIF('Daily Log'!#REF!,$B100,'Daily Log'!#REF!),0)","v":0},{"$f":"IFERROR($E100*SUMIF('Daily Log'!#REF!,$B100,'Daily Log'!#REF!),0)","v":0},{"$f":"IFERROR($E100*SUMIF('Daily Log'!#REF!,$B100,'Daily Log'!#REF!),0)","v":0},{"$f":"IFERROR($E100*SUMIF('Daily Log'!#REF!,$B100,'Daily Log'!#REF!),0)","v":0},{"$f":"IFERROR($E100*SUMIF('Daily Log'!#REF!,$B100,'Daily Log'!#REF!),0)","v":0},{"$f":"IFERROR($E100*SUMIF('Daily Log'!#REF!,$B100,'Daily Log'!#REF!),0)","v":0},{"$f":"IFERROR($E100*SUMIF('Daily Log'!#REF!,$B100,'Daily Log'!#REF!),0)","v":0},{"$f":"IFERROR($E100*SUMIF('Daily Log'!#REF!,$B100,'Daily Log'!#REF!),0)","v":0},{"$f":"IFERROR($E100*SUMIF('Daily Log'!#REF!,$B100,'Daily Log'!#REF!),0)","v":0},{"$f":"IFERROR($E100*SUMIF('Daily Log'!#REF!,$B100,'Daily Log'!#REF!),0)","v":0},{"$f":"IFERROR($E100*SUMIF('Daily Log'!#REF!,$B100,'Daily Log'!#REF!),0)","v":0},{"$f":"IFERROR($E100*SUMIF('Daily Log'!#REF!,$B100,'Daily Log'!#REF!),0)","v":0},{"$f":"IFERROR($E100*SUMIF('Daily Log'!#REF!,$B100,'Daily Log'!#REF!),0)","v":0},{"$f":"IFERROR($E100*SUMIF('Daily Log'!#REF!,$B100,'Daily Log'!#REF!),0)","v":0},{"$f":"IFERROR($E100*SUMIF('Daily Log'!#REF!,$B100,'Daily Log'!#REF!),0)","v":0},{"$f":"IFERROR($E100*SUMIF('Daily Log'!#REF!,$B100,'Daily Log'!#REF!),0)","v":0},{"$f":"IFERROR($E100*SUMIF('Daily Log'!#REF!,$B100,'Daily Log'!#REF!),0)","v":0},{"$f":"IFERROR($E100*SUMIF('Daily Log'!#REF!,$B100,'Daily Log'!#REF!),0)","v":0}]
[null,"CI02 APPLE J",null,"FFD-JUICE",1,120,{"$f":"IFERROR($E101*SUMIF('Daily Log'!$B$18:$B$1017,$B101,'Daily Log'!$C$18:$C$1017),0)","v":24},{"$f":"IFERROR($E101*SUMIF('Daily Log'!$E$18:$E$1017,$B101,'Daily Log'!$F$18:$F$1017),0)","v":13},{"$f":"IFERROR($E101*SUMIF('Daily Log'!$H$18:$H$1017,$B101,'Daily Log'!$I$18:$I$1017),0)","v":23},{"$f":"IFERROR($E101*SUMIF('Daily Log'!$K$18:$K$1017,$B101,'Daily Log'!$L$18:$L$1017),0)","v":37},{"$f":"IFERROR($E101*SUMIF('Daily Log'!$N$18:$N$1017,$B101,'Daily Log'!$O$18:$O$1017),0)","v":23},{"$f":"IFERROR($E101*SUMIF('Daily Log'!#REF!,$B101,'Daily Log'!#REF!),0)","v":0},{"$f":"IFERROR($E101*SUMIF('Daily Log'!#REF!,$B101,'Daily Log'!#REF!),0)","v":0},{"$f":"IFERROR($E101*SUMIF('Daily Log'!#REF!,$B101,'Daily Log'!#REF!),0)","v":0},{"$f":"IFERROR($E101*SUMIF('Daily Log'!#REF!,$B101,'Daily Log'!#REF!),0)","v":0},{"$f":"IFERROR($E101*SUMIF('Daily Log'!#REF!,$B101,'Daily Log'!#REF!),0)","v":0},{"$f":"IFERROR($E101*SUMIF('Daily Log'!#REF!,$B101,'Daily Log'!#REF!),0)","v":0},{"$f":"IFERROR($E101*SUMIF('Daily Log'!#REF!,$B101,'Daily Log'!#REF!),0)","v":0},{"$f":"IFERROR($E101*SUMIF('Daily Log'!#REF!,$B101,'Daily Log'!#REF!),0)","v":0},{"$f":"IFERROR($E101*SUMIF('Daily Log'!#REF!,$B101,'Daily Log'!#REF!),0)","v":0},{"$f":"IFERROR($E101*SUMIF('Daily Log'!#REF!,$B101,'Daily Log'!#REF!),0)","v":0},{"$f":"IFERROR($E101*SUMIF('Daily Log'!#REF!,$B101,'Daily Log'!#REF!),0)","v":0},{"$f":"IFERROR($E101*SUMIF('Daily Log'!#REF!,$B101,'Daily Log'!#REF!),0)","v":0},{"$f":"IFERROR($E101*SUMIF('Daily Log'!#REF!,$B101,'Daily Log'!#REF!),0)","v":0},{"$f":"IFERROR($E101*SUMIF('Daily Log'!#REF!,$B101,'Daily Log'!#REF!),0)","v":0},{"$f":"IFERROR($E101*SUMIF('Daily Log'!#REF!,$B101,'Daily Log'!#REF!),0)","v":0},{"$f":"IFERROR($E101*SUMIF('Daily Log'!#REF!,$B101,'Daily Log'!#REF!),0)","v":0},{"$f":"IFERROR($E101*SUMIF('Daily Log'!#REF!,$B101,'Daily Log'!#REF!),0)","v":0},{"$f":"IFERROR($E101*SUMIF('Daily Log'!#REF!,$B101,'Daily Log'!#REF!),0)","v":0},{"$f":"IFERROR($E101*SUMIF('Daily Log'!#REF!,$B101,'Daily Log'!#REF!),0)","v":0},{"$f":"IFERROR($E101*SUMIF('Daily Log'!#REF!,$B101,'Daily Log'!#REF!),0)","v":0},{"$f":"IFERROR($E101*SUMIF('Daily Log'!#REF!,$B101,'Daily Log'!#REF!),0)","v":0},{"$f":"IFERROR($E101*SUMIF('Daily Log'!#REF!,$B101,'Daily Log'!#REF!),0)","v":0},{"$f":"IFERROR($E101*SUMIF('Daily Log'!#REF!,$B101,'Daily Log'!#REF!),0)","v":0},{"$f":"IFERROR($E101*SUMIF('Daily Log'!#REF!,$B101,'Daily Log'!#REF!),0)","v":0},{"$f":"IFERROR($E101*SUMIF('Daily Log'!#REF!,$B101,'Daily Log'!#REF!),0)","v":0},{"$f":"IFERROR($E101*SUMIF('Daily Log'!#REF!,$B101,'Daily Log'!#REF!),0)","v":0}]
[null,"CI03 KIWI J",null,"FFD-JUICE",1,0,{"$f":"IFERROR($E102*SUMIF('Daily Log'!$B$18:$B$1017,$B102,'Daily Log'!$C$18:$C$1017),0)","v":0},{"$f":"IFERROR($E102*SUMIF('Daily Log'!$E$18:$E$1017,$B102,'Daily Log'!$F$18:$F$1017),0)","v":0},{"$f":"IFERROR($E102*SUMIF('Daily Log'!$H$18:$H$1017,$B102,'Daily Log'!$I$18:$I$1017),0)","v":0},{"$f":"IFERROR($E102*SUMIF('Daily Log'!$K$18:$K$1017,$B102,'Daily Log'!$L$18:$L$1017),0)","v":0},{"$f":"IFERROR($E102*SUMIF('Daily Log'!$N$18:$N$1017,$B102,'Daily Log'!$O$18:$O$1017),0)","v":0},{"$f":"IFERROR($E102*SUMIF('Daily Log'!#REF!,$B102,'Daily Log'!#REF!),0)","v":0},{"$f":"IFERROR($E102*SUMIF('Daily Log'!#REF!,$B102,'Daily Log'!#REF!),0)","v":0},{"$f":"IFERROR($E102*SUMIF('Daily Log'!#REF!,$B102,'Daily Log'!#REF!),0)","v":0},{"$f":"IFERROR($E102*SUMIF('Daily Log'!#REF!,$B102,'Daily Log'!#REF!),0)","v":0},{"$f":"IFERROR($E102*SUMIF('Daily Log'!#REF!,$B102,'Daily Log'!#REF!),0)","v":0},{"$f":"IFERROR($E102*SUMIF('Daily Log'!#REF!,$B102,'Daily Log'!#REF!),0)","v":0},{"$f":"IFERROR($E102*SUMIF('Daily Log'!#REF!,$B102,'Daily Log'!#REF!),0)","v":0},{"$f":"IFERROR($E102*SUMIF('Daily Log'!#REF!,$B102,'Daily Log'!#REF!),0)","v":0},{"$f":"IFERROR($E102*SUMIF('Daily Log'!#REF!,$B102,'Daily Log'!#REF!),0)","v":0},{"$f":"IFERROR($E102*SUMIF('Daily Log'!#REF!,$B102,'Daily Log'!#REF!),0)","v":0},{"$f":"IFERROR($E102*SUMIF('Daily Log'!#REF!,$B102,'Daily Log'!#REF!),0)","v":0},{"$f":"IFERROR($E102*SUMIF('Daily Log'!#REF!,$B102,'Daily Log'!#REF!),0)","v":0},{"$f":"IFERROR($E102*SUMIF('Daily Log'!#REF!,$B102,'Daily Log'!#REF!),0)","v":0},{"$f":"IFERROR($E102*SUMIF('Daily Log'!#REF!,$B102,'Daily Log'!#REF!),0)","v":0},{"$f":"IFERROR($E102*SUMIF('Daily Log'!#REF!,$B102,'Daily Log'!#REF!),0)","v":0},{"$f":"IFERROR($E102*SUMIF('Daily Log'!#REF!,$B102,'Daily Log'!#REF!),0)","v":0},{"$f":"IFERROR($E102*SUMIF('Daily Log'!#REF!,$B102,'Daily Log'!#REF!),0)","v":0},{"$f":"IFERROR($E102*SUMIF('Daily Log'!#REF!,$B102,'Daily Log'!#REF!),0)","v":0},{"$f":"IFERROR($E102*SUMIF('Daily Log'!#REF!,$B102,'Daily Log'!#REF!),0)","v":0},{"$f":"IFERROR($E102*SUMIF('Daily Log'!#REF!,$B102,'Daily Log'!#REF!),0)","v":0},{"$f":"IFERROR($E102*SUMIF('Daily Log'!#REF!,$B102,'Daily Log'!#REF!),0)","v":0},{"$f":"IFERROR($E102*SUMIF('Daily Log'!#REF!,$B102,'Daily Log'!#REF!),0)","v":0},{"$f":"IFERROR($E102*SUMIF('Daily Log'!#REF!,$B102,'Daily Log'!#REF!),0)","v":0},{"$f":"IFERROR($E102*SUMIF('Daily Log'!#REF!,$B102,'Daily Log'!#REF!),0)","v":0},{"$f":"IFERROR($E102*SUMIF('Daily Log'!#REF!,$B102,'Daily Log'!#REF!),0)","v":0},{"$f":"IFERROR($E102*SUMIF('Daily Log'!#REF!,$B102,'Daily Log'!#REF!),0)","v":0}]
[null,"CI04 MANGO J",null,"FFD-JUICE",1,74,{"$f":"IFERROR($E103*SUMIF('Daily Log'!$B$18:$B$1017,$B103,'Daily Log'!$C$18:$C$1017),0)","v":18},{"$f":"IFERROR($E103*SUMIF('Daily Log'!$E$18:$E$1017,$B103,'Daily Log'!$F$18:$F$1017),0)","v":11},{"$f":"IFERROR($E103*SUMIF('Daily Log'!$H$18:$H$1017,$B103,'Daily Log'!$I$18:$I$1017),0)","v":15},{"$f":"IFERROR($E103*SUMIF('Daily Log'!$K$18:$K$1017,$B103,'Daily Log'!$L$18:$L$1017),0)","v":15},{"$f":"IFERROR($E103*SUMIF('Daily Log'!$N$18:$N$1017,$B103,'Daily Log'!$O$18:$O$1017),0)","v":15},{"$f":"IFERROR($E103*SUMIF('Daily Log'!#REF!,$B103,'Daily Log'!#REF!),0)","v":0},{"$f":"IFERROR($E103*SUMIF('Daily Log'!#REF!,$B103,'Daily Log'!#REF!),0)","v":0},{"$f":"IFERROR($E103*SUMIF('Daily Log'!#REF!,$B103,'Daily Log'!#REF!),0)","v":0},{"$f":"IFERROR($E103*SUMIF('Daily Log'!#REF!,$B103,'Daily Log'!#REF!),0)","v":0},{"$f":"IFERROR($E103*SUMIF('Daily Log'!#REF!,$B103,'Daily Log'!#REF!),0)","v":0},{"$f":"IFERROR($E103*SUMIF('Daily Log'!#REF!,$B103,'Daily Log'!#REF!),0)","v":0},{"$f":"IFERROR($E103*SUMIF('Daily Log'!#REF!,$B103,'Daily Log'!#REF!),0)","v":0},{"$f":"IFERROR($E103*SUMIF('Daily Log'!#REF!,$B103,'Daily Log'!#REF!),0)","v":0},{"$f":"IFERROR($E103*SUMIF('Daily Log'!#REF!,$B103,'Daily Log'!#REF!),0)","v":0},{"$f":"IFERROR($E103*SUMIF('Daily Log'!#REF!,$B103,'Daily Log'!#REF!),0)","v":0},{"$f":"IFERROR($E103*SUMIF('Daily Log'!#REF!,$B103,'Daily Log'!#REF!),0)","v":0},{"$f":"IFERROR($E103*SUMIF('Daily Log'!#REF!,$B103,'Daily Log'!#REF!),0)","v":0},{"$f":"IFERROR($E103*SUMIF('Daily Log'!#REF!,$B103,'Daily Log'!#REF!),0)","v":0},{"$f":"IFERROR($E103*SUMIF('Daily Log'!#REF!,$B103,'Daily Log'!#REF!),0)","v":0},{"$f":"IFERROR($E103*SUMIF('Daily Log'!#REF!,$B103,'Daily Log'!#REF!),0)","v":0},{"$f":"IFERROR($E103*SUMIF('Daily Log'!#REF!,$B103,'Daily Log'!#REF!),0)","v":0},{"$f":"IFERROR($E103*SUMIF('Daily Log'!#REF!,$B103,'Daily Log'!#REF!),0)","v":0},{"$f":"IFERROR($E103*SUMIF('Daily Log'!#REF!,$B103,'Daily Log'!#REF!),0)","v":0},{"$f":"IFERROR($E103*SUMIF('Daily Log'!#REF!,$B103,'Daily Log'!#REF!),0)","v":0},{"$f":"IFERROR($E103*SUMIF('Daily Log'!#REF!,$B103,'Daily Log'!#REF!),0)","v":0},{"$f":"IFERROR($E103*SUMIF('Daily Log'!#REF!,$B103,'Daily Log'!#REF!),0)","v":0},{"$f":"IFERROR($E103*SUMIF('Daily Log'!#REF!,$B103,'Daily Log'!#REF!),0)","v":0},{"$f":"IFERROR($E103*SUMIF('Daily Log'!#REF!,$B103,'Daily Log'!#REF!),0)","v":0},{"$f":"IFERROR($E103*SUMIF('Daily Log'!#REF!,$B103,'Daily Log'!#REF!),0)","v":0},{"$f":"IFERROR($E103*SUMIF('Daily Log'!#REF!,$B103,'Daily Log'!#REF!),0)","v":0},{"$f":"IFERROR($E103*SUMIF('Daily Log'!#REF!,$B103,'Daily Log'!#REF!),0)","v":0}]
[null,"CI05 PASSION J",null,"FFD-JUICE",1,148,{"$f":"IFERROR($E104*SUMIF('Daily Log'!$B$18:$B$1017,$B104,'Daily Log'!$C$18:$C$1017),0)","v":58},{"$f":"IFERROR($E104*SUMIF('Daily Log'!$E$18:$E$1017,$B104,'Daily Log'!$F$18:$F$1017),0)","v":22},{"$f":"IFERROR($E104*SUMIF('Daily Log'!$H$18:$H$1017,$B104,'Daily Log'!$I$18:$I$1017),0)","v":25},{"$f":"IFERROR($E104*SUMIF('Daily Log'!$K$18:$K$1017,$B104,'Daily Log'!$L$18:$L$1017),0)","v":34},{"$f":"IFERROR($E104*SUMIF('Daily Log'!$N$18:$N$1017,$B104,'Daily Log'!$O$18:$O$1017),0)","v":9},{"$f":"IFERROR($E104*SUMIF('Daily Log'!#REF!,$B104,'Daily Log'!#REF!),0)","v":0},{"$f":"IFERROR($E104*SUMIF('Daily Log'!#REF!,$B104,'Daily Log'!#REF!),0)","v":0},{"$f":"IFERROR($E104*SUMIF('Daily Log'!#REF!,$B104,'Daily Log'!#REF!),0)","v":0},{"$f":"IFERROR($E104*SUMIF('Daily Log'!#REF!,$B104,'Daily Log'!#REF!),0)","v":0},{"$f":"IFERROR($E104*SUMIF('Daily Log'!#REF!,$B104,'Daily Log'!#REF!),0)","v":0},{"$f":"IFERROR($E104*SUMIF('Daily Log'!#REF!,$B104,'Daily Log'!#REF!),0)","v":0},{"$f":"IFERROR($E104*SUMIF('Daily Log'!#REF!,$B104,'Daily Log'!#REF!),0)","v":0},{"$f":"IFERROR($E104*SUMIF('Daily Log'!#REF!,$B104,'Daily Log'!#REF!),0)","v":0},{"$f":"IFERROR($E104*SUMIF('Daily Log'!#REF!,$B104,'Daily Log'!#REF!),0)","v":0},{"$f":"IFERROR($E104*SUMIF('Daily Log'!#REF!,$B104,'Daily Log'!#REF!),0)","v":0},{"$f":"IFERROR($E104*SUMIF('Daily Log'!#REF!,$B104,'Daily Log'!#REF!),0)","v":0},{"$f":"IFERROR($E104*SUMIF('Daily Log'!#REF!,$B104,'Daily Log'!#REF!),0)","v":0},{"$f":"IFERROR($E104*SUMIF('Daily Log'!#REF!,$B104,'Daily Log'!#REF!),0)","v":0},{"$f":"IFERROR($E104*SUMIF('Daily Log'!#REF!,$B104,'Daily Log'!#REF!),0)","v":0},{"$f":"IFERROR($E104*SUMIF('Daily Log'!#REF!,$B104,'Daily Log'!#REF!),0)","v":0},{"$f":"IFERROR($E104*SUMIF('Daily Log'!#REF!,$B104,'Daily Log'!#REF!),0)","v":0},{"$f":"IFERROR($E104*SUMIF('Daily Log'!#REF!,$B104,'Daily Log'!#REF!),0)","v":0},{"$f":"IFERROR($E104*SUMIF('Daily Log'!#REF!,$B104,'Daily Log'!#REF!),0)","v":0},{"$f":"IFERROR($E104*SUMIF('Daily Log'!#REF!,$B104,'Daily Log'!#REF!),0)","v":0},{"$f":"IFERROR($E104*SUMIF('Daily Log'!#REF!,$B104,'Daily Log'!#REF!),0)","v":0},{"$f":"IFERROR($E104*SUMIF('Daily Log'!#REF!,$B104,'Daily Log'!#REF!),0)","v":0},{"$f":"IFERROR($E104*SUMIF('Daily Log'!#REF!,$B104,'Daily Log'!#REF!),0)","v":0},{"$f":"IFERROR($E104*SUMIF('Daily Log'!#REF!,$B104,'Daily Log'!#REF!),0)","v":0},{"$f":"IFERROR($E104*SUMIF('Daily Log'!#REF!,$B104,'Daily Log'!#REF!),0)","v":0},{"$f":"IFERROR($E104*SUMIF('Daily Log'!#REF!,$B104,'Daily Log'!#REF!),0)","v":0},{"$f":"IFERROR($E104*SUMIF('Daily Log'!#REF!,$B104,'Daily Log'!#REF!),0)","v":0}]
[null,"CI06 RIBENA J",null,"FFD-JUICE",1,155,{"$f":"IFERROR($E105*SUMIF('Daily Log'!$B$18:$B$1017,$B105,'Daily Log'!$C$18:$C$1017),0)","v":59},{"$f":"IFERROR($E105*SUMIF('Daily Log'!$E$18:$E$1017,$B105,'Daily Log'!$F$18:$F$1017),0)","v":18},{"$f":"IFERROR($E105*SUMIF('Daily Log'!$H$18:$H$1017,$B105,'Daily Log'!$I$18:$I$1017),0)","v":33},{"$f":"IFERROR($E105*SUMIF('Daily Log'!$K$18:$K$1017,$B105,'Daily Log'!$L$18:$L$1017),0)","v":37},{"$f":"IFERROR($E105*SUMIF('Daily Log'!$N$18:$N$1017,$B105,'Daily Log'!$O$18:$O$1017),0)","v":8},{"$f":"IFERROR($E105*SUMIF('Daily Log'!#REF!,$B105,'Daily Log'!#REF!),0)","v":0},{"$f":"IFERROR($E105*SUMIF('Daily Log'!#REF!,$B105,'Daily Log'!#REF!),0)","v":0},{"$f":"IFERROR($E105*SUMIF('Daily Log'!#REF!,$B105,'Daily Log'!#REF!),0)","v":0},{"$f":"IFERROR($E105*SUMIF('Daily Log'!#REF!,$B105,'Daily Log'!#REF!),0)","v":0},{"$f":"IFERROR($E105*SUMIF('Daily Log'!#REF!,$B105,'Daily Log'!#REF!),0)","v":0},{"$f":"IFERROR($E105*SUMIF('Daily Log'!#REF!,$B105,'Daily Log'!#REF!),0)","v":0},{"$f":"IFERROR($E105*SUMIF('Daily Log'!#REF!,$B105,'Daily Log'!#REF!),0)","v":0},{"$f":"IFERROR($E105*SUMIF('Daily Log'!#REF!,$B105,'Daily Log'!#REF!),0)","v":0},{"$f":"IFERROR($E105*SUMIF('Daily Log'!#REF!,$B105,'Daily Log'!#REF!),0)","v":0},{"$f":"IFERROR($E105*SUMIF('Daily Log'!#REF!,$B105,'Daily Log'!#REF!),0)","v":0},{"$f":"IFERROR($E105*SUMIF('Daily Log'!#REF!,$B105,'Daily Log'!#REF!),0)","v":0},{"$f":"IFERROR($E105*SUMIF('Daily Log'!#REF!,$B105,'Daily Log'!#REF!),0)","v":0},{"$f":"IFERROR($E105*SUMIF('Daily Log'!#REF!,$B105,'Daily Log'!#REF!),0)","v":0},{"$f":"IFERROR($E105*SUMIF('Daily Log'!#REF!,$B105,'Daily Log'!#REF!),0)","v":0},{"$f":"IFERROR($E105*SUMIF('Daily Log'!#REF!,$B105,'Daily Log'!#REF!),0)","v":0},{"$f":"IFERROR($E105*SUMIF('Daily Log'!#REF!,$B105,'Daily Log'!#REF!),0)","v":0},{"$f":"IFERROR($E105*SUMIF('Daily Log'!#REF!,$B105,'Daily Log'!#REF!),0)","v":0},{"$f":"IFERROR($E105*SUMIF('Daily Log'!#REF!,$B105,'Daily Log'!#REF!),0)","v":0},{"$f":"IFERROR($E105*SUMIF('Daily Log'!#REF!,$B105,'Daily Log'!#REF!),0)","v":0},{"$f":"IFERROR($E105*SUMIF('Daily Log'!#REF!,$B105,'Daily Log'!#REF!),0)","v":0},{"$f":"IFERROR($E105*SUMIF('Daily Log'!#REF!,$B105,'Daily Log'!#REF!),0)","v":0},{"$f":"IFERROR($E105*SUMIF('Daily Log'!#REF!,$B105,'Daily Log'!#REF!),0)","v":0},{"$f":"IFERROR($E105*SUMIF('Daily Log'!#REF!,$B105,'Daily Log'!#REF!),0)","v":0},{"$f":"IFERROR($E105*SUMIF('Daily Log'!#REF!,$B105,'Daily Log'!#REF!),0)","v":0},{"$f":"IFERROR($E105*SUMIF('Daily Log'!#REF!,$B105,'Daily Log'!#REF!),0)","v":0},{"$f":"IFERROR($E105*SUMIF('Daily Log'!#REF!,$B105,'Daily Log'!#REF!),0)","v":0}]
[null,"CJ01 GRAPE SO",null,"FFD-SODA",1,17,{"$f":"IFERROR($E106*SUMIF('Daily Log'!$B$18:$B$1017,$B106,'Daily Log'!$C$18:$C$1017),0)","v":11},{"$f":"IFERROR($E106*SUMIF('Daily Log'!$E$18:$E$1017,$B106,'Daily Log'!$F$18:$F$1017),0)","v":1},{"$f":"IFERROR($E106*SUMIF('Daily Log'!$H$18:$H$1017,$B106,'Daily Log'!$I$18:$I$1017),0)","v":0},{"$f":"IFERROR($E106*SUMIF('Daily Log'!$K$18:$K$1017,$B106,'Daily Log'!$L$18:$L$1017),0)","v":4},{"$f":"IFERROR($E106*SUMIF('Daily Log'!$N$18:$N$1017,$B106,'Daily Log'!$O$18:$O$1017),0)","v":1},{"$f":"IFERROR($E106*SUMIF('Daily Log'!#REF!,$B106,'Daily Log'!#REF!),0)","v":0},{"$f":"IFERROR($E106*SUMIF('Daily Log'!#REF!,$B106,'Daily Log'!#REF!),0)","v":0},{"$f":"IFERROR($E106*SUMIF('Daily Log'!#REF!,$B106,'Daily Log'!#REF!),0)","v":0},{"$f":"IFERROR($E106*SUMIF('Daily Log'!#REF!,$B106,'Daily Log'!#REF!),0)","v":0},{"$f":"IFERROR($E106*SUMIF('Daily Log'!#REF!,$B106,'Daily Log'!#REF!),0)","v":0},{"$f":"IFERROR($E106*SUMIF('Daily Log'!#REF!,$B106,'Daily Log'!#REF!),0)","v":0},{"$f":"IFERROR($E106*SUMIF('Daily Log'!#REF!,$B106,'Daily Log'!#REF!),0)","v":0},{"$f":"IFERROR($E106*SUMIF('Daily Log'!#REF!,$B106,'Daily Log'!#REF!),0)","v":0},{"$f":"IFERROR($E106*SUMIF('Daily Log'!#REF!,$B106,'Daily Log'!#REF!),0)","v":0},{"$f":"IFERROR($E106*SUMIF('Daily Log'!#REF!,$B106,'Daily Log'!#REF!),0)","v":0},{"$f":"IFERROR($E106*SUMIF('Daily Log'!#REF!,$B106,'Daily Log'!#REF!),0)","v":0},{"$f":"IFERROR($E106*SUMIF('Daily Log'!#REF!,$B106,'Daily Log'!#REF!),0)","v":0},{"$f":"IFERROR($E106*SUMIF('Daily Log'!#REF!,$B106,'Daily Log'!#REF!),0)","v":0},{"$f":"IFERROR($E106*SUMIF('Daily Log'!#REF!,$B106,'Daily Log'!#REF!),0)","v":0},{"$f":"IFERROR($E106*SUMIF('Daily Log'!#REF!,$B106,'Daily Log'!#REF!),0)","v":0},{"$f":"IFERROR($E106*SUMIF('Daily Log'!#REF!,$B106,'Daily Log'!#REF!),0)","v":0},{"$f":"IFERROR($E106*SUMIF('Daily Log'!#REF!,$B106,'Daily Log'!#REF!),0)","v":0},{"$f":"IFERROR($E106*SUMIF('Daily Log'!#REF!,$B106,'Daily Log'!#REF!),0)","v":0},{"$f":"IFERROR($E106*SUMIF('Daily Log'!#REF!,$B106,'Daily Log'!#REF!),0)","v":0},{"$f":"IFERROR($E106*SUMIF('Daily Log'!#REF!,$B106,'Daily Log'!#REF!),0)","v":0},{"$f":"IFERROR($E106*SUMIF('Daily Log'!#REF!,$B106,'Daily Log'!#REF!),0)","v":0},{"$f":"IFERROR($E106*SUMIF('Daily Log'!#REF!,$B106,'Daily Log'!#REF!),0)","v":0},{"$f":"IFERROR($E106*SUMIF('Daily Log'!#REF!,$B106,'Daily Log'!#REF!),0)","v":0},{"$f":"IFERROR($E106*SUMIF('Daily Log'!#REF!,$B106,'Daily Log'!#REF!),0)","v":0},{"$f":"IFERROR($E106*SUMIF('Daily Log'!#REF!,$B106,'Daily Log'!#REF!),0)","v":0},{"$f":"IFERROR($E106*SUMIF('Daily Log'!#REF!,$B106,'Daily Log'!#REF!),0)","v":0}]
[null,"CJ02 APPLE SO",null,"FFD-SODA",1,11,{"$f":"IFERROR($E107*SUMIF('Daily Log'!$B$18:$B$1017,$B107,'Daily Log'!$C$18:$C$1017),0)","v":3},{"$f":"IFERROR($E107*SUMIF('Daily Log'!$E$18:$E$1017,$B107,'Daily Log'!$F$18:$F$1017),0)","v":0},{"$f":"IFERROR($E107*SUMIF('Daily Log'!$H$18:$H$1017,$B107,'Daily Log'!$I$18:$I$1017),0)","v":3},{"$f":"IFERROR($E107*SUMIF('Daily Log'!$K$18:$K$1017,$B107,'Daily Log'!$L$18:$L$1017),0)","v":3},{"$f":"IFERROR($E107*SUMIF('Daily Log'!$N$18:$N$1017,$B107,'Daily Log'!$O$18:$O$1017),0)","v":2},{"$f":"IFERROR($E107*SUMIF('Daily Log'!#REF!,$B107,'Daily Log'!#REF!),0)","v":0},{"$f":"IFERROR($E107*SUMIF('Daily Log'!#REF!,$B107,'Daily Log'!#REF!),0)","v":0},{"$f":"IFERROR($E107*SUMIF('Daily Log'!#REF!,$B107,'Daily Log'!#REF!),0)","v":0},{"$f":"IFERROR($E107*SUMIF('Daily Log'!#REF!,$B107,'Daily Log'!#REF!),0)","v":0},{"$f":"IFERROR($E107*SUMIF('Daily Log'!#REF!,$B107,'Daily Log'!#REF!),0)","v":0},{"$f":"IFERROR($E107*SUMIF('Daily Log'!#REF!,$B107,'Daily Log'!#REF!),0)","v":0},{"$f":"IFERROR($E107*SUMIF('Daily Log'!#REF!,$B107,'Daily Log'!#REF!),0)","v":0},{"$f":"IFERROR($E107*SUMIF('Daily Log'!#REF!,$B107,'Daily Log'!#REF!),0)","v":0},{"$f":"IFERROR($E107*SUMIF('Daily Log'!#REF!,$B107,'Daily Log'!#REF!),0)","v":0},{"$f":"IFERROR($E107*SUMIF('Daily Log'!#REF!,$B107,'Daily Log'!#REF!),0)","v":0},{"$f":"IFERROR($E107*SUMIF('Daily Log'!#REF!,$B107,'Daily Log'!#REF!),0)","v":0},{"$f":"IFERROR($E107*SUMIF('Daily Log'!#REF!,$B107,'Daily Log'!#REF!),0)","v":0},{"$f":"IFERROR($E107*SUMIF('Daily Log'!#REF!,$B107,'Daily Log'!#REF!),0)","v":0},{"$f":"IFERROR($E107*SUMIF('Daily Log'!#REF!,$B107,'Daily Log'!#REF!),0)","v":0},{"$f":"IFERROR($E107*SUMIF('Daily Log'!#REF!,$B107,'Daily Log'!#REF!),0)","v":0},{"$f":"IFERROR($E107*SUMIF('Daily Log'!#REF!,$B107,'Daily Log'!#REF!),0)","v":0},{"$f":"IFERROR($E107*SUMIF('Daily Log'!#REF!,$B107,'Daily Log'!#REF!),0)","v":0},{"$f":"IFERROR($E107*SUMIF('Daily Log'!#REF!,$B107,'Daily Log'!#REF!),0)","v":0},{"$f":"IFERROR($E107*SUMIF('Daily Log'!#REF!,$B107,'Daily Log'!#REF!),0)","v":0},{"$f":"IFERROR($E107*SUMIF('Daily Log'!#REF!,$B107,'Daily Log'!#REF!),0)","v":0},{"$f":"IFERROR($E107*SUMIF('Daily Log'!#REF!,$B107,'Daily Log'!#REF!),0)","v":0},{"$f":"IFERROR($E107*SUMIF('Daily Log'!#REF!,$B107,'Daily Log'!#REF!),0)","v":0},{"$f":"IFERROR($E107*SUMIF('Daily Log'!#REF!,$B107,'Daily Log'!#REF!),0)","v":0},{"$f":"IFERROR($E107*SUMIF('Daily Log'!#REF!,$B107,'Daily Log'!#REF!),0)","v":0},{"$f":"IFERROR($E107*SUMIF('Daily Log'!#REF!,$B107,'Daily Log'!#REF!),0)","v":0},{"$f":"IFERROR($E107*SUMIF('Daily Log'!#REF!,$B107,'Daily Log'!#REF!),0)","v":0}]
[null,"CJ03 KIWI SO",null,"FFD-SODA",1,0,{"$f":"IFERROR($E108*SUMIF('Daily Log'!$B$18:$B$1017,$B108,'Daily Log'!$C$18:$C$1017),0)","v":0},{"$f":"IFERROR($E108*SUMIF('Daily Log'!$E$18:$E$1017,$B108,'Daily Log'!$F$18:$F$1017),0)","v":0},{"$f":"IFERROR($E108*SUMIF('Daily Log'!$H$18:$H$1017,$B108,'Daily Log'!$I$18:$I$1017),0)","v":0},{"$f":"IFERROR($E108*SUMIF('Daily Log'!$K$18:$K$1017,$B108,'Daily Log'!$L$18:$L$1017),0)","v":0},{"$f":"IFERROR($E108*SUMIF('Daily Log'!$N$18:$N$1017,$B108,'Daily Log'!$O$18:$O$1017),0)","v":0},{"$f":"IFERROR($E108*SUMIF('Daily Log'!#REF!,$B108,'Daily Log'!#REF!),0)","v":0},{"$f":"IFERROR($E108*SUMIF('Daily Log'!#REF!,$B108,'Daily Log'!#REF!),0)","v":0},{"$f":"IFERROR($E108*SUMIF('Daily Log'!#REF!,$B108,'Daily Log'!#REF!),0)","v":0},{"$f":"IFERROR($E108*SUMIF('Daily Log'!#REF!,$B108,'Daily Log'!#REF!),0)","v":0},{"$f":"IFERROR($E108*SUMIF('Daily Log'!#REF!,$B108,'Daily Log'!#REF!),0)","v":0},{"$f":"IFERROR($E108*SUMIF('Daily Log'!#REF!,$B108,'Daily Log'!#REF!),0)","v":0},{"$f":"IFERROR($E108*SUMIF('Daily Log'!#REF!,$B108,'Daily Log'!#REF!),0)","v":0},{"$f":"IFERROR($E108*SUMIF('Daily Log'!#REF!,$B108,'Daily Log'!#REF!),0)","v":0},{"$f":"IFERROR($E108*SUMIF('Daily Log'!#REF!,$B108,'Daily Log'!#REF!),0)","v":0},{"$f":"IFERROR($E108*SUMIF('Daily Log'!#REF!,$B108,'Daily Log'!#REF!),0)","v":0},{"$f":"IFERROR($E108*SUMIF('Daily Log'!#REF!,$B108,'Daily Log'!#REF!),0)","v":0},{"$f":"IFERROR($E108*SUMIF('Daily Log'!#REF!,$B108,'Daily Log'!#REF!),0)","v":0},{"$f":"IFERROR($E108*SUMIF('Daily Log'!#REF!,$B108,'Daily Log'!#REF!),0)","v":0},{"$f":"IFERROR($E108*SUMIF('Daily Log'!#REF!,$B108,'Daily Log'!#REF!),0)","v":0},{"$f":"IFERROR($E108*SUMIF('Daily Log'!#REF!,$B108,'Daily Log'!#REF!),0)","v":0},{"$f":"IFERROR($E108*SUMIF('Daily Log'!#REF!,$B108,'Daily Log'!#REF!),0)","v":0},{"$f":"IFERROR($E108*SUMIF('Daily Log'!#REF!,$B108,'Daily Log'!#REF!),0)","v":0},{"$f":"IFERROR($E108*SUMIF('Daily Log'!#REF!,$B108,'Daily Log'!#REF!),0)","v":0},{"$f":"IFERROR($E108*SUMIF('Daily Log'!#REF!,$B108,'Daily Log'!#REF!),0)","v":0},{"$f":"IFERROR($E108*SUMIF('Daily Log'!#REF!,$B108,'Daily Log'!#REF!),0)","v":0},{"$f":"IFERROR($E108*SUMIF('Daily Log'!#REF!,$B108,'Daily Log'!#REF!),0)","v":0},{"$f":"IFERROR($E108*SUMIF('Daily Log'!#REF!,$B108,'Daily Log'!#REF!),0)","v":0},{"$f":"IFERROR($E108*SUMIF('Daily Log'!#REF!,$B108,'Daily Log'!#REF!),0)","v":0},{"$f":"IFERROR($E108*SUMIF('Daily Log'!#REF!,$B108,'Daily Log'!#REF!),0)","v":0},{"$f":"IFERROR($E108*SUMIF('Daily Log'!#REF!,$B108,'Daily Log'!#REF!),0)","v":0},{"$f":"IFERROR($E108*SUMIF('Daily Log'!#REF!,$B108,'Daily Log'!#REF!),0)","v":0}]
[null,"CJ04 MANGO SO",null,"FFD-SODA",1,8,{"$f":"IFERROR($E109*SUMIF('Daily Log'!$B$18:$B$1017,$B109,'Daily Log'!$C$18:$C$1017),0)","v":1},{"$f":"IFERROR($E109*SUMIF('Daily Log'!$E$18:$E$1017,$B109,'Daily Log'!$F$18:$F$1017),0)","v":2},{"$f":"IFERROR($E109*SUMIF('Daily Log'!$H$18:$H$1017,$B109,'Daily Log'!$I$18:$I$1017),0)","v":2},{"$f":"IFERROR($E109*SUMIF('Daily Log'!$K$18:$K$1017,$B109,'Daily Log'!$L$18:$L$1017),0)","v":3},{"$f":"IFERROR($E109*SUMIF('Daily Log'!$N$18:$N$1017,$B109,'Daily Log'!$O$18:$O$1017),0)","v":0},{"$f":"IFERROR($E109*SUMIF('Daily Log'!#REF!,$B109,'Daily Log'!#REF!),0)","v":0},{"$f":"IFERROR($E109*SUMIF('Daily Log'!#REF!,$B109,'Daily Log'!#REF!),0)","v":0},{"$f":"IFERROR($E109*SUMIF('Daily Log'!#REF!,$B109,'Daily Log'!#REF!),0)","v":0},{"$f":"IFERROR($E109*SUMIF('Daily Log'!#REF!,$B109,'Daily Log'!#REF!),0)","v":0},{"$f":"IFERROR($E109*SUMIF('Daily Log'!#REF!,$B109,'Daily Log'!#REF!),0)","v":0},{"$f":"IFERROR($E109*SUMIF('Daily Log'!#REF!,$B109,'Daily Log'!#REF!),0)","v":0},{"$f":"IFERROR($E109*SUMIF('Daily Log'!#REF!,$B109,'Daily Log'!#REF!),0)","v":0},{"$f":"IFERROR($E109*SUMIF('Daily Log'!#REF!,$B109,'Daily Log'!#REF!),0)","v":0},{"$f":"IFERROR($E109*SUMIF('Daily Log'!#REF!,$B109,'Daily Log'!#REF!),0)","v":0},{"$f":"IFERROR($E109*SUMIF('Daily Log'!#REF!,$B109,'Daily Log'!#REF!),0)","v":0},{"$f":"IFERROR($E109*SUMIF('Daily Log'!#REF!,$B109,'Daily Log'!#REF!),0)","v":0},{"$f":"IFERROR($E109*SUMIF('Daily Log'!#REF!,$B109,'Daily Log'!#REF!),0)","v":0},{"$f":"IFERROR($E109*SUMIF('Daily Log'!#REF!,$B109,'Daily Log'!#REF!),0)","v":0},{"$f":"IFERROR($E109*SUMIF('Daily Log'!#REF!,$B109,'Daily Log'!#REF!),0)","v":0},{"$f":"IFERROR($E109*SUMIF('Daily Log'!#REF!,$B109,'Daily Log'!#REF!),0)","v":0},{"$f":"IFERROR($E109*SUMIF('Daily Log'!#REF!,$B109,'Daily Log'!#REF!),0)","v":0},{"$f":"IFERROR($E109*SUMIF('Daily Log'!#REF!,$B109,'Daily Log'!#REF!),0)","v":0},{"$f":"IFERROR($E109*SUMIF('Daily Log'!#REF!,$B109,'Daily Log'!#REF!),0)","v":0},{"$f":"IFERROR($E109*SUMIF('Daily Log'!#REF!,$B109,'Daily Log'!#REF!),0)","v":0},{"$f":"IFERROR($E109*SUMIF('Daily Log'!#REF!,$B109,'Daily Log'!#REF!),0)","v":0},{"$f":"IFERROR($E109*SUMIF('Daily Log'!#REF!,$B109,'Daily Log'!#REF!),0)","v":0},{"$f":"IFERROR($E109*SUMIF('Daily Log'!#REF!,$B109,'Daily Log'!#REF!),0)","v":0},{"$f":"IFERROR($E109*SUMIF('Daily Log'!#REF!,$B109,'Daily Log'!#REF!),0)","v":0},{"$f":"IFERROR($E109*SUMIF('Daily Log'!#REF!,$B109,'Daily Log'!#REF!),0)","v":0},{"$f":"IFERROR($E109*SUMIF('Daily Log'!#REF!,$B109,'Daily Log'!#REF!),0)","v":0},{"$f":"IFERROR($E109*SUMIF('Daily Log'!#REF!,$B109,'Daily Log'!#REF!),0)","v":0}]
[null,"CJ05 PASSION SO",null,"FFD-SODA",1,22,{"$f":"IFERROR($E110*SUMIF('Daily Log'!$B$18:$B$1017,$B110,'Daily Log'!$C$18:$C$1017),0)","v":10},{"$f":"IFERROR($E110*SUMIF('Daily Log'!$E$18:$E$1017,$B110,'Daily Log'!$F$18:$F$1017),0)","v":3},{"$f":"IFERROR($E110*SUMIF('Daily Log'!$H$18:$H$1017,$B110,'Daily Log'!$I$18:$I$1017),0)","v":3},{"$f":"IFERROR($E110*SUMIF('Daily Log'!$K$18:$K$1017,$B110,'Daily Log'!$L$18:$L$1017),0)","v":6},{"$f":"IFERROR($E110*SUMIF('Daily Log'!$N$18:$N$1017,$B110,'Daily Log'!$O$18:$O$1017),0)","v":0},{"$f":"IFERROR($E110*SUMIF('Daily Log'!#REF!,$B110,'Daily Log'!#REF!),0)","v":0},{"$f":"IFERROR($E110*SUMIF('Daily Log'!#REF!,$B110,'Daily Log'!#REF!),0)","v":0},{"$f":"IFERROR($E110*SUMIF('Daily Log'!#REF!,$B110,'Daily Log'!#REF!),0)","v":0},{"$f":"IFERROR($E110*SUMIF('Daily Log'!#REF!,$B110,'Daily Log'!#REF!),0)","v":0},{"$f":"IFERROR($E110*SUMIF('Daily Log'!#REF!,$B110,'Daily Log'!#REF!),0)","v":0},{"$f":"IFERROR($E110*SUMIF('Daily Log'!#REF!,$B110,'Daily Log'!#REF!),0)","v":0},{"$f":"IFERROR($E110*SUMIF('Daily Log'!#REF!,$B110,'Daily Log'!#REF!),0)","v":0},{"$f":"IFERROR($E110*SUMIF('Daily Log'!#REF!,$B110,'Daily Log'!#REF!),0)","v":0},{"$f":"IFERROR($E110*SUMIF('Daily Log'!#REF!,$B110,'Daily Log'!#REF!),0)","v":0},{"$f":"IFERROR($E110*SUMIF('Daily Log'!#REF!,$B110,'Daily Log'!#REF!),0)","v":0},{"$f":"IFERROR($E110*SUMIF('Daily Log'!#REF!,$B110,'Daily Log'!#REF!),0)","v":0},{"$f":"IFERROR($E110*SUMIF('Daily Log'!#REF!,$B110,'Daily Log'!#REF!),0)","v":0},{"$f":"IFERROR($E110*SUMIF('Daily Log'!#REF!,$B110,'Daily Log'!#REF!),0)","v":0},{"$f":"IFERROR($E110*SUMIF('Daily Log'!#REF!,$B110,'Daily Log'!#REF!),0)","v":0},{"$f":"IFERROR($E110*SUMIF('Daily Log'!#REF!,$B110,'Daily Log'!#REF!),0)","v":0},{"$f":"IFERROR($E110*SUMIF('Daily Log'!#REF!,$B110,'Daily Log'!#REF!),0)","v":0},{"$f":"IFERROR($E110*SUMIF('Daily Log'!#REF!,$B110,'Daily Log'!#REF!),0)","v":0},{"$f":"IFERROR($E110*SUMIF('Daily Log'!#REF!,$B110,'Daily Log'!#REF!),0)","v":0},{"$f":"IFERROR($E110*SUMIF('Daily Log'!#REF!,$B110,'Daily Log'!#REF!),0)","v":0},{"$f":"IFERROR($E110*SUMIF('Daily Log'!#REF!,$B110,'Daily Log'!#REF!),0)","v":0},{"$f":"IFERROR($E110*SUMIF('Daily Log'!#REF!,$B110,'Daily Log'!#REF!),0)","v":0},{"$f":"IFERROR($E110*SUMIF('Daily Log'!#REF!,$B110,'Daily Log'!#REF!),0)","v":0},{"$f":"IFERROR($E110*SUMIF('Daily Log'!#REF!,$B110,'Daily Log'!#REF!),0)","v":0},{"$f":"IFERROR($E110*SUMIF('Daily Log'!#REF!,$B110,'Daily Log'!#REF!),0)","v":0},{"$f":"IFERROR($E110*SUMIF('Daily Log'!#REF!,$B110,'Daily Log'!#REF!),0)","v":0},{"$f":"IFERROR($E110*SUMIF('Daily Log'!#REF!,$B110,'Daily Log'!#REF!),0)","v":0}]
[null,"CJ06 RIBENA SO",null,"FFD-SODA",1,27,{"$f":"IFERROR($E111*SUMIF('Daily Log'!$B$18:$B$1017,$B111,'Daily Log'!$C$18:$C$1017),0)","v":8},{"$f":"IFERROR($E111*SUMIF('Daily Log'!$E$18:$E$1017,$B111,'Daily Log'!$F$18:$F$1017),0)","v":5},{"$f":"IFERROR($E111*SUMIF('Daily Log'!$H$18:$H$1017,$B111,'Daily Log'!$I$18:$I$1017),0)","v":1},{"$f":"IFERROR($E111*SUMIF('Daily Log'!$K$18:$K$1017,$B111,'Daily Log'!$L$18:$L$1017),0)","v":13},{"$f":"IFERROR($E111*SUMIF('Daily Log'!$N$18:$N$1017,$B111,'Daily Log'!$O$18:$O$1017),0)","v":0},{"$f":"IFERROR($E111*SUMIF('Daily Log'!#REF!,$B111,'Daily Log'!#REF!),0)","v":0},{"$f":"IFERROR($E111*SUMIF('Daily Log'!#REF!,$B111,'Daily Log'!#REF!),0)","v":0},{"$f":"IFERROR($E111*SUMIF('Daily Log'!#REF!,$B111,'Daily Log'!#REF!),0)","v":0},{"$f":"IFERROR($E111*SUMIF('Daily Log'!#REF!,$B111,'Daily Log'!#REF!),0)","v":0},{"$f":"IFERROR($E111*SUMIF('Daily Log'!#REF!,$B111,'Daily Log'!#REF!),0)","v":0},{"$f":"IFERROR($E111*SUMIF('Daily Log'!#REF!,$B111,'Daily Log'!#REF!),0)","v":0},{"$f":"IFERROR($E111*SUMIF('Daily Log'!#REF!,$B111,'Daily Log'!#REF!),0)","v":0},{"$f":"IFERROR($E111*SUMIF('Daily Log'!#REF!,$B111,'Daily Log'!#REF!),0)","v":0},{"$f":"IFERROR($E111*SUMIF('Daily Log'!#REF!,$B111,'Daily Log'!#REF!),0)","v":0},{"$f":"IFERROR($E111*SUMIF('Daily Log'!#REF!,$B111,'Daily Log'!#REF!),0)","v":0},{"$f":"IFERROR($E111*SUMIF('Daily Log'!#REF!,$B111,'Daily Log'!#REF!),0)","v":0},{"$f":"IFERROR($E111*SUMIF('Daily Log'!#REF!,$B111,'Daily Log'!#REF!),0)","v":0},{"$f":"IFERROR($E111*SUMIF('Daily Log'!#REF!,$B111,'Daily Log'!#REF!),0)","v":0},{"$f":"IFERROR($E111*SUMIF('Daily Log'!#REF!,$B111,'Daily Log'!#REF!),0)","v":0},{"$f":"IFERROR($E111*SUMIF('Daily Log'!#REF!,$B111,'Daily Log'!#REF!),0)","v":0},{"$f":"IFERROR($E111*SUMIF('Daily Log'!#REF!,$B111,'Daily Log'!#REF!),0)","v":0},{"$f":"IFERROR($E111*SUMIF('Daily Log'!#REF!,$B111,'Daily Log'!#REF!),0)","v":0},{"$f":"IFERROR($E111*SUMIF('Daily Log'!#REF!,$B111,'Daily Log'!#REF!),0)","v":0},{"$f":"IFERROR($E111*SUMIF('Daily Log'!#REF!,$B111,'Daily Log'!#REF!),0)","v":0},{"$f":"IFERROR($E111*SUMIF('Daily Log'!#REF!,$B111,'Daily Log'!#REF!),0)","v":0},{"$f":"IFERROR($E111*SUMIF('Daily Log'!#REF!,$B111,'Daily Log'!#REF!),0)","v":0},{"$f":"IFERROR($E111*SUMIF('Daily Log'!#REF!,$B111,'Daily Log'!#REF!),0)","v":0},{"$f":"IFERROR($E111*SUMIF('Daily Log'!#REF!,$B111,'Daily Log'!#REF!),0)","v":0},{"$f":"IFERROR($E111*SUMIF('Daily Log'!#REF!,$B111,'Daily Log'!#REF!),0)","v":0},{"$f":"IFERROR($E111*SUMIF('Daily Log'!#REF!,$B111,'Daily Log'!#REF!),0)","v":0},{"$f":"IFERROR($E111*SUMIF('Daily Log'!#REF!,$B111,'Daily Log'!#REF!),0)","v":0}]
[null,"CL01 7 UP",null,"FFD-SOFT DRINKS",1,60,{"$f":"IFERROR($E112*SUMIF('Daily Log'!$B$18:$B$1017,$B112,'Daily Log'!$C$18:$C$1017),0)","v":23},{"$f":"IFERROR($E112*SUMIF('Daily Log'!$E$18:$E$1017,$B112,'Daily Log'!$F$18:$F$1017),0)","v":6},{"$f":"IFERROR($E112*SUMIF('Daily Log'!$H$18:$H$1017,$B112,'Daily Log'!$I$18:$I$1017),0)","v":4},{"$f":"IFERROR($E112*SUMIF('Daily Log'!$K$18:$K$1017,$B112,'Daily Log'!$L$18:$L$1017),0)","v":22},{"$f":"IFERROR($E112*SUMIF('Daily Log'!$N$18:$N$1017,$B112,'Daily Log'!$O$18:$O$1017),0)","v":5},{"$f":"IFERROR($E112*SUMIF('Daily Log'!#REF!,$B112,'Daily Log'!#REF!),0)","v":0},{"$f":"IFERROR($E112*SUMIF('Daily Log'!#REF!,$B112,'Daily Log'!#REF!),0)","v":0},{"$f":"IFERROR($E112*SUMIF('Daily Log'!#REF!,$B112,'Daily Log'!#REF!),0)","v":0},{"$f":"IFERROR($E112*SUMIF('Daily Log'!#REF!,$B112,'Daily Log'!#REF!),0)","v":0},{"$f":"IFERROR($E112*SUMIF('Daily Log'!#REF!,$B112,'Daily Log'!#REF!),0)","v":0},{"$f":"IFERROR($E112*SUMIF('Daily Log'!#REF!,$B112,'Daily Log'!#REF!),0)","v":0},{"$f":"IFERROR($E112*SUMIF('Daily Log'!#REF!,$B112,'Daily Log'!#REF!),0)","v":0},{"$f":"IFERROR($E112*SUMIF('Daily Log'!#REF!,$B112,'Daily Log'!#REF!),0)","v":0},{"$f":"IFERROR($E112*SUMIF('Daily Log'!#REF!,$B112,'Daily Log'!#REF!),0)","v":0},{"$f":"IFERROR($E112*SUMIF('Daily Log'!#REF!,$B112,'Daily Log'!#REF!),0)","v":0},{"$f":"IFERROR($E112*SUMIF('Daily Log'!#REF!,$B112,'Daily Log'!#REF!),0)","v":0},{"$f":"IFERROR($E112*SUMIF('Daily Log'!#REF!,$B112,'Daily Log'!#REF!),0)","v":0},{"$f":"IFERROR($E112*SUMIF('Daily Log'!#REF!,$B112,'Daily Log'!#REF!),0)","v":0},{"$f":"IFERROR($E112*SUMIF('Daily Log'!#REF!,$B112,'Daily Log'!#REF!),0)","v":0},{"$f":"IFERROR($E112*SUMIF('Daily Log'!#REF!,$B112,'Daily Log'!#REF!),0)","v":0},{"$f":"IFERROR($E112*SUMIF('Daily Log'!#REF!,$B112,'Daily Log'!#REF!),0)","v":0},{"$f":"IFERROR($E112*SUMIF('Daily Log'!#REF!,$B112,'Daily Log'!#REF!),0)","v":0},{"$f":"IFERROR($E112*SUMIF('Daily Log'!#REF!,$B112,'Daily Log'!#REF!),0)","v":0},{"$f":"IFERROR($E112*SUMIF('Daily Log'!#REF!,$B112,'Daily Log'!#REF!),0)","v":0},{"$f":"IFERROR($E112*SUMIF('Daily Log'!#REF!,$B112,'Daily Log'!#REF!),0)","v":0},{"$f":"IFERROR($E112*SUMIF('Daily Log'!#REF!,$B112,'Daily Log'!#REF!),0)","v":0},{"$f":"IFERROR($E112*SUMIF('Daily Log'!#REF!,$B112,'Daily Log'!#REF!),0)","v":0},{"$f":"IFERROR($E112*SUMIF('Daily Log'!#REF!,$B112,'Daily Log'!#REF!),0)","v":0},{"$f":"IFERROR($E112*SUMIF('Daily Log'!#REF!,$B112,'Daily Log'!#REF!),0)","v":0},{"$f":"IFERROR($E112*SUMIF('Daily Log'!#REF!,$B112,'Daily Log'!#REF!),0)","v":0},{"$f":"IFERROR($E112*SUMIF('Daily Log'!#REF!,$B112,'Daily Log'!#REF!),0)","v":0}]
[null,"CL02 7 UP REVIVE",null,"FFD-SOFT DRINKS",1,8,{"$f":"IFERROR($E113*SUMIF('Daily Log'!$B$18:$B$1017,$B113,'Daily Log'!$C$18:$C$1017),0)","v":1},{"$f":"IFERROR($E113*SUMIF('Daily Log'!$E$18:$E$1017,$B113,'Daily Log'!$F$18:$F$1017),0)","v":4},{"$f":"IFERROR($E113*SUMIF('Daily Log'!$H$18:$H$1017,$B113,'Daily Log'!$I$18:$I$1017),0)","v":1},{"$f":"IFERROR($E113*SUMIF('Daily Log'!$K$18:$K$1017,$B113,'Daily Log'!$L$18:$L$1017),0)","v":1},{"$f":"IFERROR($E113*SUMIF('Daily Log'!$N$18:$N$1017,$B113,'Daily Log'!$O$18:$O$1017),0)","v":1},{"$f":"IFERROR($E113*SUMIF('Daily Log'!#REF!,$B113,'Daily Log'!#REF!),0)","v":0},{"$f":"IFERROR($E113*SUMIF('Daily Log'!#REF!,$B113,'Daily Log'!#REF!),0)","v":0},{"$f":"IFERROR($E113*SUMIF('Daily Log'!#REF!,$B113,'Daily Log'!#REF!),0)","v":0},{"$f":"IFERROR($E113*SUMIF('Daily Log'!#REF!,$B113,'Daily Log'!#REF!),0)","v":0},{"$f":"IFERROR($E113*SUMIF('Daily Log'!#REF!,$B113,'Daily Log'!#REF!),0)","v":0},{"$f":"IFERROR($E113*SUMIF('Daily Log'!#REF!,$B113,'Daily Log'!#REF!),0)","v":0},{"$f":"IFERROR($E113*SUMIF('Daily Log'!#REF!,$B113,'Daily Log'!#REF!),0)","v":0},{"$f":"IFERROR($E113*SUMIF('Daily Log'!#REF!,$B113,'Daily Log'!#REF!),0)","v":0},{"$f":"IFERROR($E113*SUMIF('Daily Log'!#REF!,$B113,'Daily Log'!#REF!),0)","v":0},{"$f":"IFERROR($E113*SUMIF('Daily Log'!#REF!,$B113,'Daily Log'!#REF!),0)","v":0},{"$f":"IFERROR($E113*SUMIF('Daily Log'!#REF!,$B113,'Daily Log'!#REF!),0)","v":0},{"$f":"IFERROR($E113*SUMIF('Daily Log'!#REF!,$B113,'Daily Log'!#REF!),0)","v":0},{"$f":"IFERROR($E113*SUMIF('Daily Log'!#REF!,$B113,'Daily Log'!#REF!),0)","v":0},{"$f":"IFERROR($E113*SUMIF('Daily Log'!#REF!,$B113,'Daily Log'!#REF!),0)","v":0},{"$f":"IFERROR($E113*SUMIF('Daily Log'!#REF!,$B113,'Daily Log'!#REF!),0)","v":0},{"$f":"IFERROR($E113*SUMIF('Daily Log'!#REF!,$B113,'Daily Log'!#REF!),0)","v":0},{"$f":"IFERROR($E113*SUMIF('Daily Log'!#REF!,$B113,'Daily Log'!#REF!),0)","v":0},{"$f":"IFERROR($E113*SUMIF('Daily Log'!#REF!,$B113,'Daily Log'!#REF!),0)","v":0},{"$f":"IFERROR($E113*SUMIF('Daily Log'!#REF!,$B113,'Daily Log'!#REF!),0)","v":0},{"$f":"IFERROR($E113*SUMIF('Daily Log'!#REF!,$B113,'Daily Log'!#REF!),0)","v":0},{"$f":"IFERROR($E113*SUMIF('Daily Log'!#REF!,$B113,'Daily Log'!#REF!),0)","v":0},{"$f":"IFERROR($E113*SUMIF('Daily Log'!#REF!,$B113,'Daily Log'!#REF!),0)","v":0},{"$f":"IFERROR($E113*SUMIF('Daily Log'!#REF!,$B113,'Daily Log'!#REF!),0)","v":0},{"$f":"IFERROR($E113*SUMIF('Daily Log'!#REF!,$B113,'Daily Log'!#REF!),0)","v":0},{"$f":"IFERROR($E113*SUMIF('Daily Log'!#REF!,$B113,'Daily Log'!#REF!),0)","v":0},{"$f":"IFERROR($E113*SUMIF('Daily Log'!#REF!,$B113,'Daily Log'!#REF!),0)","v":0}]
[null,"CL03 PEPSI",null,"FFD-SOFT DRINKS",1,132,{"$f":"IFERROR($E114*SUMIF('Daily Log'!$B$18:$B$1017,$B114,'Daily Log'!$C$18:$C$1017),0)","v":49},{"$f":"IFERROR($E114*SUMIF('Daily Log'!$E$18:$E$1017,$B114,'Daily Log'!$F$18:$F$1017),0)","v":20},{"$f":"IFERROR($E114*SUMIF('Daily Log'!$H$18:$H$1017,$B114,'Daily Log'!$I$18:$I$1017),0)","v":16},{"$f":"IFERROR($E114*SUMIF('Daily Log'!$K$18:$K$1017,$B114,'Daily Log'!$L$18:$L$1017),0)","v":39},{"$f":"IFERROR($E114*SUMIF('Daily Log'!$N$18:$N$1017,$B114,'Daily Log'!$O$18:$O$1017),0)","v":8},{"$f":"IFERROR($E114*SUMIF('Daily Log'!#REF!,$B114,'Daily Log'!#REF!),0)","v":0},{"$f":"IFERROR($E114*SUMIF('Daily Log'!#REF!,$B114,'Daily Log'!#REF!),0)","v":0},{"$f":"IFERROR($E114*SUMIF('Daily Log'!#REF!,$B114,'Daily Log'!#REF!),0)","v":0},{"$f":"IFERROR($E114*SUMIF('Daily Log'!#REF!,$B114,'Daily Log'!#REF!),0)","v":0},{"$f":"IFERROR($E114*SUMIF('Daily Log'!#REF!,$B114,'Daily Log'!#REF!),0)","v":0},{"$f":"IFERROR($E114*SUMIF('Daily Log'!#REF!,$B114,'Daily Log'!#REF!),0)","v":0},{"$f":"IFERROR($E114*SUMIF('Daily Log'!#REF!,$B114,'Daily Log'!#REF!),0)","v":0},{"$f":"IFERROR($E114*SUMIF('Daily Log'!#REF!,$B114,'Daily Log'!#REF!),0)","v":0},{"$f":"IFERROR($E114*SUMIF('Daily Log'!#REF!,$B114,'Daily Log'!#REF!),0)","v":0},{"$f":"IFERROR($E114*SUMIF('Daily Log'!#REF!,$B114,'Daily Log'!#REF!),0)","v":0},{"$f":"IFERROR($E114*SUMIF('Daily Log'!#REF!,$B114,'Daily Log'!#REF!),0)","v":0},{"$f":"IFERROR($E114*SUMIF('Daily Log'!#REF!,$B114,'Daily Log'!#REF!),0)","v":0},{"$f":"IFERROR($E114*SUMIF('Daily Log'!#REF!,$B114,'Daily Log'!#REF!),0)","v":0},{"$f":"IFERROR($E114*SUMIF('Daily Log'!#REF!,$B114,'Daily Log'!#REF!),0)","v":0},{"$f":"IFERROR($E114*SUMIF('Daily Log'!#REF!,$B114,'Daily Log'!#REF!),0)","v":0},{"$f":"IFERROR($E114*SUMIF('Daily Log'!#REF!,$B114,'Daily Log'!#REF!),0)","v":0},{"$f":"IFERROR($E114*SUMIF('Daily Log'!#REF!,$B114,'Daily Log'!#REF!),0)","v":0},{"$f":"IFERROR($E114*SUMIF('Daily Log'!#REF!,$B114,'Daily Log'!#REF!),0)","v":0},{"$f":"IFERROR($E114*SUMIF('Daily Log'!#REF!,$B114,'Daily Log'!#REF!),0)","v":0},{"$f":"IFERROR($E114*SUMIF('Daily Log'!#REF!,$B114,'Daily Log'!#REF!),0)","v":0},{"$f":"IFERROR($E114*SUMIF('Daily Log'!#REF!,$B114,'Daily Log'!#REF!),0)","v":0},{"$f":"IFERROR($E114*SUMIF('Daily Log'!#REF!,$B114,'Daily Log'!#REF!),0)","v":0},{"$f":"IFERROR($E114*SUMIF('Daily Log'!#REF!,$B114,'Daily Log'!#REF!),0)","v":0},{"$f":"IFERROR($E114*SUMIF('Daily Log'!#REF!,$B114,'Daily Log'!#REF!),0)","v":0},{"$f":"IFERROR($E114*SUMIF('Daily Log'!#REF!,$B114,'Daily Log'!#REF!),0)","v":0},{"$f":"IFERROR($E114*SUMIF('Daily Log'!#REF!,$B114,'Daily Log'!#REF!),0)","v":0}]
[null,"CM01 MILO (C)",null,"FFD-COLD BEVERAGES",1,135,{"$f":"IFERROR($E115*SUMIF('Daily Log'!$B$18:$B$1017,$B115,'Daily Log'!$C$18:$C$1017),0)","v":51},{"$f":"IFERROR($E115*SUMIF('Daily Log'!$E$18:$E$1017,$B115,'Daily Log'!$F$18:$F$1017),0)","v":22},{"$f":"IFERROR($E115*SUMIF('Daily Log'!$H$18:$H$1017,$B115,'Daily Log'!$I$18:$I$1017),0)","v":15},{"$f":"IFERROR($E115*SUMIF('Daily Log'!$K$18:$K$1017,$B115,'Daily Log'!$L$18:$L$1017),0)","v":33},{"$f":"IFERROR($E115*SUMIF('Daily Log'!$N$18:$N$1017,$B115,'Daily Log'!$O$18:$O$1017),0)","v":14},{"$f":"IFERROR($E115*SUMIF('Daily Log'!#REF!,$B115,'Daily Log'!#REF!),0)","v":0},{"$f":"IFERROR($E115*SUMIF('Daily Log'!#REF!,$B115,'Daily Log'!#REF!),0)","v":0},{"$f":"IFERROR($E115*SUMIF('Daily Log'!#REF!,$B115,'Daily Log'!#REF!),0)","v":0},{"$f":"IFERROR($E115*SUMIF('Daily Log'!#REF!,$B115,'Daily Log'!#REF!),0)","v":0},{"$f":"IFERROR($E115*SUMIF('Daily Log'!#REF!,$B115,'Daily Log'!#REF!),0)","v":0},{"$f":"IFERROR($E115*SUMIF('Daily Log'!#REF!,$B115,'Daily Log'!#REF!),0)","v":0},{"$f":"IFERROR($E115*SUMIF('Daily Log'!#REF!,$B115,'Daily Log'!#REF!),0)","v":0},{"$f":"IFERROR($E115*SUMIF('Daily Log'!#REF!,$B115,'Daily Log'!#REF!),0)","v":0},{"$f":"IFERROR($E115*SUMIF('Daily Log'!#REF!,$B115,'Daily Log'!#REF!),0)","v":0},{"$f":"IFERROR($E115*SUMIF('Daily Log'!#REF!,$B115,'Daily Log'!#REF!),0)","v":0},{"$f":"IFERROR($E115*SUMIF('Daily Log'!#REF!,$B115,'Daily Log'!#REF!),0)","v":0},{"$f":"IFERROR($E115*SUMIF('Daily Log'!#REF!,$B115,'Daily Log'!#REF!),0)","v":0},{"$f":"IFERROR($E115*SUMIF('Daily Log'!#REF!,$B115,'Daily Log'!#REF!),0)","v":0},{"$f":"IFERROR($E115*SUMIF('Daily Log'!#REF!,$B115,'Daily Log'!#REF!),0)","v":0},{"$f":"IFERROR($E115*SUMIF('Daily Log'!#REF!,$B115,'Daily Log'!#REF!),0)","v":0},{"$f":"IFERROR($E115*SUMIF('Daily Log'!#REF!,$B115,'Daily Log'!#REF!),0)","v":0},{"$f":"IFERROR($E115*SUMIF('Daily Log'!#REF!,$B115,'Daily Log'!#REF!),0)","v":0},{"$f":"IFERROR($E115*SUMIF('Daily Log'!#REF!,$B115,'Daily Log'!#REF!),0)","v":0},{"$f":"IFERROR($E115*SUMIF('Daily Log'!#REF!,$B115,'Daily Log'!#REF!),0)","v":0},{"$f":"IFERROR($E115*SUMIF('Daily Log'!#REF!,$B115,'Daily Log'!#REF!),0)","v":0},{"$f":"IFERROR($E115*SUMIF('Daily Log'!#REF!,$B115,'Daily Log'!#REF!),0)","v":0},{"$f":"IFERROR($E115*SUMIF('Daily Log'!#REF!,$B115,'Daily Log'!#REF!),0)","v":0},{"$f":"IFERROR($E115*SUMIF('Daily Log'!#REF!,$B115,'Daily Log'!#REF!),0)","v":0},{"$f":"IFERROR($E115*SUMIF('Daily Log'!#REF!,$B115,'Daily Log'!#REF!),0)","v":0},{"$f":"IFERROR($E115*SUMIF('Daily Log'!#REF!,$B115,'Daily Log'!#REF!),0)","v":0},{"$f":"IFERROR($E115*SUMIF('Daily Log'!#REF!,$B115,'Daily Log'!#REF!),0)","v":0}]
[null,"CM02 NESCAFE (C)",null,"FFD-COLD BEVERAGES",1,35,{"$f":"IFERROR($E116*SUMIF('Daily Log'!$B$18:$B$1017,$B116,'Daily Log'!$C$18:$C$1017),0)","v":5},{"$f":"IFERROR($E116*SUMIF('Daily Log'!$E$18:$E$1017,$B116,'Daily Log'!$F$18:$F$1017),0)","v":14},{"$f":"IFERROR($E116*SUMIF('Daily Log'!$H$18:$H$1017,$B116,'Daily Log'!$I$18:$I$1017),0)","v":2},{"$f":"IFERROR($E116*SUMIF('Daily Log'!$K$18:$K$1017,$B116,'Daily Log'!$L$18:$L$1017),0)","v":8},{"$f":"IFERROR($E116*SUMIF('Daily Log'!$N$18:$N$1017,$B116,'Daily Log'!$O$18:$O$1017),0)","v":6},{"$f":"IFERROR($E116*SUMIF('Daily Log'!#REF!,$B116,'Daily Log'!#REF!),0)","v":0},{"$f":"IFERROR($E116*SUMIF('Daily Log'!#REF!,$B116,'Daily Log'!#REF!),0)","v":0},{"$f":"IFERROR($E116*SUMIF('Daily Log'!#REF!,$B116,'Daily Log'!#REF!),0)","v":0},{"$f":"IFERROR($E116*SUMIF('Daily Log'!#REF!,$B116,'Daily Log'!#REF!),0)","v":0},{"$f":"IFERROR($E116*SUMIF('Daily Log'!#REF!,$B116,'Daily Log'!#REF!),0)","v":0},{"$f":"IFERROR($E116*SUMIF('Daily Log'!#REF!,$B116,'Daily Log'!#REF!),0)","v":0},{"$f":"IFERROR($E116*SUMIF('Daily Log'!#REF!,$B116,'Daily Log'!#REF!),0)","v":0},{"$f":"IFERROR($E116*SUMIF('Daily Log'!#REF!,$B116,'Daily Log'!#REF!),0)","v":0},{"$f":"IFERROR($E116*SUMIF('Daily Log'!#REF!,$B116,'Daily Log'!#REF!),0)","v":0},{"$f":"IFERROR($E116*SUMIF('Daily Log'!#REF!,$B116,'Daily Log'!#REF!),0)","v":0},{"$f":"IFERROR($E116*SUMIF('Daily Log'!#REF!,$B116,'Daily Log'!#REF!),0)","v":0},{"$f":"IFERROR($E116*SUMIF('Daily Log'!#REF!,$B116,'Daily Log'!#REF!),0)","v":0},{"$f":"IFERROR($E116*SUMIF('Daily Log'!#REF!,$B116,'Daily Log'!#REF!),0)","v":0},{"$f":"IFERROR($E116*SUMIF('Daily Log'!#REF!,$B116,'Daily Log'!#REF!),0)","v":0},{"$f":"IFERROR($E116*SUMIF('Daily Log'!#REF!,$B116,'Daily Log'!#REF!),0)","v":0},{"$f":"IFERROR($E116*SUMIF('Daily Log'!#REF!,$B116,'Daily Log'!#REF!),0)","v":0},{"$f":"IFERROR($E116*SUMIF('Daily Log'!#REF!,$B116,'Daily Log'!#REF!),0)","v":0},{"$f":"IFERROR($E116*SUMIF('Daily Log'!#REF!,$B116,'Daily Log'!#REF!),0)","v":0},{"$f":"IFERROR($E116*SUMIF('Daily Log'!#REF!,$B116,'Daily Log'!#REF!),0)","v":0},{"$f":"IFERROR($E116*SUMIF('Daily Log'!#REF!,$B116,'Daily Log'!#REF!),0)","v":0},{"$f":"IFERROR($E116*SUMIF('Daily Log'!#REF!,$B116,'Daily Log'!#REF!),0)","v":0},{"$f":"IFERROR($E116*SUMIF('Daily Log'!#REF!,$B116,'Daily Log'!#REF!),0)","v":0},{"$f":"IFERROR($E116*SUMIF('Daily Log'!#REF!,$B116,'Daily Log'!#REF!),0)","v":0},{"$f":"IFERROR($E116*SUMIF('Daily Log'!#REF!,$B116,'Daily Log'!#REF!),0)","v":0},{"$f":"IFERROR($E116*SUMIF('Daily Log'!#REF!,$B116,'Daily Log'!#REF!),0)","v":0},{"$f":"IFERROR($E116*SUMIF('Daily Log'!#REF!,$B116,'Daily Log'!#REF!),0)","v":0}]
[null,"CM03 TEA (C)",null,"FFD-COLD BEVERAGES",1,31,{"$f":"IFERROR($E117*SUMIF('Daily Log'!$B$18:$B$1017,$B117,'Daily Log'!$C$18:$C$1017),0)","v":4},{"$f":"IFERROR($E117*SUMIF('Daily Log'!$E$18:$E$1017,$B117,'Daily Log'!$F$18:$F$1017),0)","v":5},{"$f":"IFERROR($E117*SUMIF('Daily Log'!$H$18:$H$1017,$B117,'Daily Log'!$I$18:$I$1017),0)","v":8},{"$f":"IFERROR($E117*SUMIF('Daily Log'!$K$18:$K$1017,$B117,'Daily Log'!$L$18:$L$1017),0)","v":7},{"$f":"IFERROR($E117*SUMIF('Daily Log'!$N$18:$N$1017,$B117,'Daily Log'!$O$18:$O$1017),0)","v":7},{"$f":"IFERROR($E117*SUMIF('Daily Log'!#REF!,$B117,'Daily Log'!#REF!),0)","v":0},{"$f":"IFERROR($E117*SUMIF('Daily Log'!#REF!,$B117,'Daily Log'!#REF!),0)","v":0},{"$f":"IFERROR($E117*SUMIF('Daily Log'!#REF!,$B117,'Daily Log'!#REF!),0)","v":0},{"$f":"IFERROR($E117*SUMIF('Daily Log'!#REF!,$B117,'Daily Log'!#REF!),0)","v":0},{"$f":"IFERROR($E117*SUMIF('Daily Log'!#REF!,$B117,'Daily Log'!#REF!),0)","v":0},{"$f":"IFERROR($E117*SUMIF('Daily Log'!#REF!,$B117,'Daily Log'!#REF!),0)","v":0},{"$f":"IFERROR($E117*SUMIF('Daily Log'!#REF!,$B117,'Daily Log'!#REF!),0)","v":0},{"$f":"IFERROR($E117*SUMIF('Daily Log'!#REF!,$B117,'Daily Log'!#REF!),0)","v":0},{"$f":"IFERROR($E117*SUMIF('Daily Log'!#REF!,$B117,'Daily Log'!#REF!),0)","v":0},{"$f":"IFERROR($E117*SUMIF('Daily Log'!#REF!,$B117,'Daily Log'!#REF!),0)","v":0},{"$f":"IFERROR($E117*SUMIF('Daily Log'!#REF!,$B117,'Daily Log'!#REF!),0)","v":0},{"$f":"IFERROR($E117*SUMIF('Daily Log'!#REF!,$B117,'Daily Log'!#REF!),0)","v":0},{"$f":"IFERROR($E117*SUMIF('Daily Log'!#REF!,$B117,'Daily Log'!#REF!),0)","v":0},{"$f":"IFERROR($E117*SUMIF('Daily Log'!#REF!,$B117,'Daily Log'!#REF!),0)","v":0},{"$f":"IFERROR($E117*SUMIF('Daily Log'!#REF!,$B117,'Daily Log'!#REF!),0)","v":0},{"$f":"IFERROR($E117*SUMIF('Daily Log'!#REF!,$B117,'Daily Log'!#REF!),0)","v":0},{"$f":"IFERROR($E117*SUMIF('Daily Log'!#REF!,$B117,'Daily Log'!#REF!),0)","v":0},{"$f":"IFERROR($E117*SUMIF('Daily Log'!#REF!,$B117,'Daily Log'!#REF!),0)","v":0},{"$f":"IFERROR($E117*SUMIF('Daily Log'!#REF!,$B117,'Daily Log'!#REF!),0)","v":0},{"$f":"IFERROR($E117*SUMIF('Daily Log'!#REF!,$B117,'Daily Log'!#REF!),0)","v":0},{"$f":"IFERROR($E117*SUMIF('Daily Log'!#REF!,$B117,'Daily Log'!#REF!),0)","v":0},{"$f":"IFERROR($E117*SUMIF('Daily Log'!#REF!,$B117,'Daily Log'!#REF!),0)","v":0},{"$f":"IFERROR($E117*SUMIF('Daily Log'!#REF!,$B117,'Daily Log'!#REF!),0)","v":0},{"$f":"IFERROR($E117*SUMIF('Daily Log'!#REF!,$B117,'Daily Log'!#REF!),0)","v":0},{"$f":"IFERROR($E117*SUMIF('Daily Log'!#REF!,$B117,'Daily Log'!#REF!),0)","v":0},{"$f":"IFERROR($E117*SUMIF('Daily Log'!#REF!,$B117,'Daily Log'!#REF!),0)","v":0}]
[null,"CM04 LEMON TEA (C)",null,"FFD-COLD BEVERAGES",1,258,{"$f":"IFERROR($E118*SUMIF('Daily Log'!$B$18:$B$1017,$B118,'Daily Log'!$C$18:$C$1017),0)","v":85},{"$f":"IFERROR($E118*SUMIF('Daily Log'!$E$18:$E$1017,$B118,'Daily Log'!$F$18:$F$1017),0)","v":38},{"$f":"IFERROR($E118*SUMIF('Daily Log'!$H$18:$H$1017,$B118,'Daily Log'!$I$18:$I$1017),0)","v":45},{"$f":"IFERROR($E118*SUMIF('Daily Log'!$K$18:$K$1017,$B118,'Daily Log'!$L$18:$L$1017),0)","v":72},{"$f":"IFERROR($E118*SUMIF('Daily Log'!$N$18:$N$1017,$B118,'Daily Log'!$O$18:$O$1017),0)","v":18},{"$f":"IFERROR($E118*SUMIF('Daily Log'!#REF!,$B118,'Daily Log'!#REF!),0)","v":0},{"$f":"IFERROR($E118*SUMIF('Daily Log'!#REF!,$B118,'Daily Log'!#REF!),0)","v":0},{"$f":"IFERROR($E118*SUMIF('Daily Log'!#REF!,$B118,'Daily Log'!#REF!),0)","v":0},{"$f":"IFERROR($E118*SUMIF('Daily Log'!#REF!,$B118,'Daily Log'!#REF!),0)","v":0},{"$f":"IFERROR($E118*SUMIF('Daily Log'!#REF!,$B118,'Daily Log'!#REF!),0)","v":0},{"$f":"IFERROR($E118*SUMIF('Daily Log'!#REF!,$B118,'Daily Log'!#REF!),0)","v":0},{"$f":"IFERROR($E118*SUMIF('Daily Log'!#REF!,$B118,'Daily Log'!#REF!),0)","v":0},{"$f":"IFERROR($E118*SUMIF('Daily Log'!#REF!,$B118,'Daily Log'!#REF!),0)","v":0},{"$f":"IFERROR($E118*SUMIF('Daily Log'!#REF!,$B118,'Daily Log'!#REF!),0)","v":0},{"$f":"IFERROR($E118*SUMIF('Daily Log'!#REF!,$B118,'Daily Log'!#REF!),0)","v":0},{"$f":"IFERROR($E118*SUMIF('Daily Log'!#REF!,$B118,'Daily Log'!#REF!),0)","v":0},{"$f":"IFERROR($E118*SUMIF('Daily Log'!#REF!,$B118,'Daily Log'!#REF!),0)","v":0},{"$f":"IFERROR($E118*SUMIF('Daily Log'!#REF!,$B118,'Daily Log'!#REF!),0)","v":0},{"$f":"IFERROR($E118*SUMIF('Daily Log'!#REF!,$B118,'Daily Log'!#REF!),0)","v":0},{"$f":"IFERROR($E118*SUMIF('Daily Log'!#REF!,$B118,'Daily Log'!#REF!),0)","v":0},{"$f":"IFERROR($E118*SUMIF('Daily Log'!#REF!,$B118,'Daily Log'!#REF!),0)","v":0},{"$f":"IFERROR($E118*SUMIF('Daily Log'!#REF!,$B118,'Daily Log'!#REF!),0)","v":0},{"$f":"IFERROR($E118*SUMIF('Daily Log'!#REF!,$B118,'Daily Log'!#REF!),0)","v":0},{"$f":"IFERROR($E118*SUMIF('Daily Log'!#REF!,$B118,'Daily Log'!#REF!),0)","v":0},{"$f":"IFERROR($E118*SUMIF('Daily Log'!#REF!,$B118,'Daily Log'!#REF!),0)","v":0},{"$f":"IFERROR($E118*SUMIF('Daily Log'!#REF!,$B118,'Daily Log'!#REF!),0)","v":0},{"$f":"IFERROR($E118*SUMIF('Daily Log'!#REF!,$B118,'Daily Log'!#REF!),0)","v":0},{"$f":"IFERROR($E118*SUMIF('Daily Log'!#REF!,$B118,'Daily Log'!#REF!),0)","v":0},{"$f":"IFERROR($E118*SUMIF('Daily Log'!#REF!,$B118,'Daily Log'!#REF!),0)","v":0},{"$f":"IFERROR($E118*SUMIF('Daily Log'!#REF!,$B118,'Daily Log'!#REF!),0)","v":0},{"$f":"IFERROR($E118*SUMIF('Daily Log'!#REF!,$B118,'Daily Log'!#REF!),0)","v":0}]
[null,"CM05 GRN TEA (C)",null,"FFD-COLD BEVERAGES",1,216,{"$f":"IFERROR($E119*SUMIF('Daily Log'!$B$18:$B$1017,$B119,'Daily Log'!$C$18:$C$1017),0)","v":53},{"$f":"IFERROR($E119*SUMIF('Daily Log'!$E$18:$E$1017,$B119,'Daily Log'!$F$18:$F$1017),0)","v":25},{"$f":"IFERROR($E119*SUMIF('Daily Log'!$H$18:$H$1017,$B119,'Daily Log'!$I$18:$I$1017),0)","v":52},{"$f":"IFERROR($E119*SUMIF('Daily Log'!$K$18:$K$1017,$B119,'Daily Log'!$L$18:$L$1017),0)","v":72},{"$f":"IFERROR($E119*SUMIF('Daily Log'!$N$18:$N$1017,$B119,'Daily Log'!$O$18:$O$1017),0)","v":14},{"$f":"IFERROR($E119*SUMIF('Daily Log'!#REF!,$B119,'Daily Log'!#REF!),0)","v":0},{"$f":"IFERROR($E119*SUMIF('Daily Log'!#REF!,$B119,'Daily Log'!#REF!),0)","v":0},{"$f":"IFERROR($E119*SUMIF('Daily Log'!#REF!,$B119,'Daily Log'!#REF!),0)","v":0},{"$f":"IFERROR($E119*SUMIF('Daily Log'!#REF!,$B119,'Daily Log'!#REF!),0)","v":0},{"$f":"IFERROR($E119*SUMIF('Daily Log'!#REF!,$B119,'Daily Log'!#REF!),0)","v":0},{"$f":"IFERROR($E119*SUMIF('Daily Log'!#REF!,$B119,'Daily Log'!#REF!),0)","v":0},{"$f":"IFERROR($E119*SUMIF('Daily Log'!#REF!,$B119,'Daily Log'!#REF!),0)","v":0},{"$f":"IFERROR($E119*SUMIF('Daily Log'!#REF!,$B119,'Daily Log'!#REF!),0)","v":0},{"$f":"IFERROR($E119*SUMIF('Daily Log'!#REF!,$B119,'Daily Log'!#REF!),0)","v":0},{"$f":"IFERROR($E119*SUMIF('Daily Log'!#REF!,$B119,'Daily Log'!#REF!),0)","v":0},{"$f":"IFERROR($E119*SUMIF('Daily Log'!#REF!,$B119,'Daily Log'!#REF!),0)","v":0},{"$f":"IFERROR($E119*SUMIF('Daily Log'!#REF!,$B119,'Daily Log'!#REF!),0)","v":0},{"$f":"IFERROR($E119*SUMIF('Daily Log'!#REF!,$B119,'Daily Log'!#REF!),0)","v":0},{"$f":"IFERROR($E119*SUMIF('Daily Log'!#REF!,$B119,'Daily Log'!#REF!),0)","v":0},{"$f":"IFERROR($E119*SUMIF('Daily Log'!#REF!,$B119,'Daily Log'!#REF!),0)","v":0},{"$f":"IFERROR($E119*SUMIF('Daily Log'!#REF!,$B119,'Daily Log'!#REF!),0)","v":0},{"$f":"IFERROR($E119*SUMIF('Daily Log'!#REF!,$B119,'Daily Log'!#REF!),0)","v":0},{"$f":"IFERROR($E119*SUMIF('Daily Log'!#REF!,$B119,'Daily Log'!#REF!),0)","v":0},{"$f":"IFERROR($E119*SUMIF('Daily Log'!#REF!,$B119,'Daily Log'!#REF!),0)","v":0},{"$f":"IFERROR($E119*SUMIF('Daily Log'!#REF!,$B119,'Daily Log'!#REF!),0)","v":0},{"$f":"IFERROR($E119*SUMIF('Daily Log'!#REF!,$B119,'Daily Log'!#REF!),0)","v":0},{"$f":"IFERROR($E119*SUMIF('Daily Log'!#REF!,$B119,'Daily Log'!#REF!),0)","v":0},{"$f":"IFERROR($E119*SUMIF('Daily Log'!#REF!,$B119,'Daily Log'!#REF!),0)","v":0},{"$f":"IFERROR($E119*SUMIF('Daily Log'!#REF!,$B119,'Daily Log'!#REF!),0)","v":0},{"$f":"IFERROR($E119*SUMIF('Daily Log'!#REF!,$B119,'Daily Log'!#REF!),0)","v":0},{"$f":"IFERROR($E119*SUMIF('Daily Log'!#REF!,$B119,'Daily Log'!#REF!),0)","v":0}]
[null,"CM06 HNY GRN TEA (C)",null,"FFD-COLD BEVERAGES",1,353,{"$f":"IFERROR($E120*SUMIF('Daily Log'!$B$18:$B$1017,$B120,'Daily Log'!$C$18:$C$1017),0)","v":92},{"$f":"IFERROR($E120*SUMIF('Daily Log'!$E$18:$E$1017,$B120,'Daily Log'!$F$18:$F$1017),0)","v":50},{"$f":"IFERROR($E120*SUMIF('Daily Log'!$H$18:$H$1017,$B120,'Daily Log'!$I$18:$I$1017),0)","v":68},{"$f":"IFERROR($E120*SUMIF('Daily Log'!$K$18:$K$1017,$B120,'Daily Log'!$L$18:$L$1017),0)","v":111},{"$f":"IFERROR($E120*SUMIF('Daily Log'!$N$18:$N$1017,$B120,'Daily Log'!$O$18:$O$1017),0)","v":32},{"$f":"IFERROR($E120*SUMIF('Daily Log'!#REF!,$B120,'Daily Log'!#REF!),0)","v":0},{"$f":"IFERROR($E120*SUMIF('Daily Log'!#REF!,$B120,'Daily Log'!#REF!),0)","v":0},{"$f":"IFERROR($E120*SUMIF('Daily Log'!#REF!,$B120,'Daily Log'!#REF!),0)","v":0},{"$f":"IFERROR($E120*SUMIF('Daily Log'!#REF!,$B120,'Daily Log'!#REF!),0)","v":0},{"$f":"IFERROR($E120*SUMIF('Daily Log'!#REF!,$B120,'Daily Log'!#REF!),0)","v":0},{"$f":"IFERROR($E120*SUMIF('Daily Log'!#REF!,$B120,'Daily Log'!#REF!),0)","v":0},{"$f":"IFERROR($E120*SUMIF('Daily Log'!#REF!,$B120,'Daily Log'!#REF!),0)","v":0},{"$f":"IFERROR($E120*SUMIF('Daily Log'!#REF!,$B120,'Daily Log'!#REF!),0)","v":0},{"$f":"IFERROR($E120*SUMIF('Daily Log'!#REF!,$B120,'Daily Log'!#REF!),0)","v":0},{"$f":"IFERROR($E120*SUMIF('Daily Log'!#REF!,$B120,'Daily Log'!#REF!),0)","v":0},{"$f":"IFERROR($E120*SUMIF('Daily Log'!#REF!,$B120,'Daily Log'!#REF!),0)","v":0},{"$f":"IFERROR($E120*SUMIF('Daily Log'!#REF!,$B120,'Daily Log'!#REF!),0)","v":0},{"$f":"IFERROR($E120*SUMIF('Daily Log'!#REF!,$B120,'Daily Log'!#REF!),0)","v":0},{"$f":"IFERROR($E120*SUMIF('Daily Log'!#REF!,$B120,'Daily Log'!#REF!),0)","v":0},{"$f":"IFERROR($E120*SUMIF('Daily Log'!#REF!,$B120,'Daily Log'!#REF!),0)","v":0},{"$f":"IFERROR($E120*SUMIF('Daily Log'!#REF!,$B120,'Daily Log'!#REF!),0)","v":0},{"$f":"IFERROR($E120*SUMIF('Daily Log'!#REF!,$B120,'Daily Log'!#REF!),0)","v":0},{"$f":"IFERROR($E120*SUMIF('Daily Log'!#REF!,$B120,'Daily Log'!#REF!),0)","v":0},{"$f":"IFERROR($E120*SUMIF('Daily Log'!#REF!,$B120,'Daily Log'!#REF!),0)","v":0},{"$f":"IFERROR($E120*SUMIF('Daily Log'!#REF!,$B120,'Daily Log'!#REF!),0)","v":0},{"$f":"IFERROR($E120*SUMIF('Daily Log'!#REF!,$B120,'Daily Log'!#REF!),0)","v":0},{"$f":"IFERROR($E120*SUMIF('Daily Log'!#REF!,$B120,'Daily Log'!#REF!),0)","v":0},{"$f":"IFERROR($E120*SUMIF('Daily Log'!#REF!,$B120,'Daily Log'!#REF!),0)","v":0},{"$f":"IFERROR($E120*SUMIF('Daily Log'!#REF!,$B120,'Daily Log'!#REF!),0)","v":0},{"$f":"IFERROR($E120*SUMIF('Daily Log'!#REF!,$B120,'Daily Log'!#REF!),0)","v":0},{"$f":"IFERROR($E120*SUMIF('Daily Log'!#REF!,$B120,'Daily Log'!#REF!),0)","v":0}]
[null,"CM07 HONEY (C)",null,"FFD-COLD BEVERAGES",1,87,{"$f":"IFERROR($E121*SUMIF('Daily Log'!$B$18:$B$1017,$B121,'Daily Log'!$C$18:$C$1017),0)","v":28},{"$f":"IFERROR($E121*SUMIF('Daily Log'!$E$18:$E$1017,$B121,'Daily Log'!$F$18:$F$1017),0)","v":4},{"$f":"IFERROR($E121*SUMIF('Daily Log'!$H$18:$H$1017,$B121,'Daily Log'!$I$18:$I$1017),0)","v":22},{"$f":"IFERROR($E121*SUMIF('Daily Log'!$K$18:$K$1017,$B121,'Daily Log'!$L$18:$L$1017),0)","v":21},{"$f":"IFERROR($E121*SUMIF('Daily Log'!$N$18:$N$1017,$B121,'Daily Log'!$O$18:$O$1017),0)","v":12},{"$f":"IFERROR($E121*SUMIF('Daily Log'!#REF!,$B121,'Daily Log'!#REF!),0)","v":0},{"$f":"IFERROR($E121*SUMIF('Daily Log'!#REF!,$B121,'Daily Log'!#REF!),0)","v":0},{"$f":"IFERROR($E121*SUMIF('Daily Log'!#REF!,$B121,'Daily Log'!#REF!),0)","v":0},{"$f":"IFERROR($E121*SUMIF('Daily Log'!#REF!,$B121,'Daily Log'!#REF!),0)","v":0},{"$f":"IFERROR($E121*SUMIF('Daily Log'!#REF!,$B121,'Daily Log'!#REF!),0)","v":0},{"$f":"IFERROR($E121*SUMIF('Daily Log'!#REF!,$B121,'Daily Log'!#REF!),0)","v":0},{"$f":"IFERROR($E121*SUMIF('Daily Log'!#REF!,$B121,'Daily Log'!#REF!),0)","v":0},{"$f":"IFERROR($E121*SUMIF('Daily Log'!#REF!,$B121,'Daily Log'!#REF!),0)","v":0},{"$f":"IFERROR($E121*SUMIF('Daily Log'!#REF!,$B121,'Daily Log'!#REF!),0)","v":0},{"$f":"IFERROR($E121*SUMIF('Daily Log'!#REF!,$B121,'Daily Log'!#REF!),0)","v":0},{"$f":"IFERROR($E121*SUMIF('Daily Log'!#REF!,$B121,'Daily Log'!#REF!),0)","v":0},{"$f":"IFERROR($E121*SUMIF('Daily Log'!#REF!,$B121,'Daily Log'!#REF!),0)","v":0},{"$f":"IFERROR($E121*SUMIF('Daily Log'!#REF!,$B121,'Daily Log'!#REF!),0)","v":0},{"$f":"IFERROR($E121*SUMIF('Daily Log'!#REF!,$B121,'Daily Log'!#REF!),0)","v":0},{"$f":"IFERROR($E121*SUMIF('Daily Log'!#REF!,$B121,'Daily Log'!#REF!),0)","v":0},{"$f":"IFERROR($E121*SUMIF('Daily Log'!#REF!,$B121,'Daily Log'!#REF!),0)","v":0},{"$f":"IFERROR($E121*SUMIF('Daily Log'!#REF!,$B121,'Daily Log'!#REF!),0)","v":0},{"$f":"IFERROR($E121*SUMIF('Daily Log'!#REF!,$B121,'Daily Log'!#REF!),0)","v":0},{"$f":"IFERROR($E121*SUMIF('Daily Log'!#REF!,$B121,'Daily Log'!#REF!),0)","v":0},{"$f":"IFERROR($E121*SUMIF('Daily Log'!#REF!,$B121,'Daily Log'!#REF!),0)","v":0},{"$f":"IFERROR($E121*SUMIF('Daily Log'!#REF!,$B121,'Daily Log'!#REF!),0)","v":0},{"$f":"IFERROR($E121*SUMIF('Daily Log'!#REF!,$B121,'Daily Log'!#REF!),0)","v":0},{"$f":"IFERROR($E121*SUMIF('Daily Log'!#REF!,$B121,'Daily Log'!#REF!),0)","v":0},{"$f":"IFERROR($E121*SUMIF('Daily Log'!#REF!,$B121,'Daily Log'!#REF!),0)","v":0},{"$f":"IFERROR($E121*SUMIF('Daily Log'!#REF!,$B121,'Daily Log'!#REF!),0)","v":0},{"$f":"IFERROR($E121*SUMIF('Daily Log'!#REF!,$B121,'Daily Log'!#REF!),0)","v":0}]
[null,"CM08 LEMON HONEY (C)",null,"FFD-COLD BEVERAGES",1,450,{"$f":"IFERROR($E122*SUMIF('Daily Log'!$B$18:$B$1017,$B122,'Daily Log'!$C$18:$C$1017),0)","v":118},{"$f":"IFERROR($E122*SUMIF('Daily Log'!$E$18:$E$1017,$B122,'Daily Log'!$F$18:$F$1017),0)","v":50},{"$f":"IFERROR($E122*SUMIF('Daily Log'!$H$18:$H$1017,$B122,'Daily Log'!$I$18:$I$1017),0)","v":106},{"$f":"IFERROR($E122*SUMIF('Daily Log'!$K$18:$K$1017,$B122,'Daily Log'!$L$18:$L$1017),0)","v":143},{"$f":"IFERROR($E122*SUMIF('Daily Log'!$N$18:$N$1017,$B122,'Daily Log'!$O$18:$O$1017),0)","v":33},{"$f":"IFERROR($E122*SUMIF('Daily Log'!#REF!,$B122,'Daily Log'!#REF!),0)","v":0},{"$f":"IFERROR($E122*SUMIF('Daily Log'!#REF!,$B122,'Daily Log'!#REF!),0)","v":0},{"$f":"IFERROR($E122*SUMIF('Daily Log'!#REF!,$B122,'Daily Log'!#REF!),0)","v":0},{"$f":"IFERROR($E122*SUMIF('Daily Log'!#REF!,$B122,'Daily Log'!#REF!),0)","v":0},{"$f":"IFERROR($E122*SUMIF('Daily Log'!#REF!,$B122,'Daily Log'!#REF!),0)","v":0},{"$f":"IFERROR($E122*SUMIF('Daily Log'!#REF!,$B122,'Daily Log'!#REF!),0)","v":0},{"$f":"IFERROR($E122*SUMIF('Daily Log'!#REF!,$B122,'Daily Log'!#REF!),0)","v":0},{"$f":"IFERROR($E122*SUMIF('Daily Log'!#REF!,$B122,'Daily Log'!#REF!),0)","v":0},{"$f":"IFERROR($E122*SUMIF('Daily Log'!#REF!,$B122,'Daily Log'!#REF!),0)","v":0},{"$f":"IFERROR($E122*SUMIF('Daily Log'!#REF!,$B122,'Daily Log'!#REF!),0)","v":0},{"$f":"IFERROR($E122*SUMIF('Daily Log'!#REF!,$B122,'Daily Log'!#REF!),0)","v":0},{"$f":"IFERROR($E122*SUMIF('Daily Log'!#REF!,$B122,'Daily Log'!#REF!),0)","v":0},{"$f":"IFERROR($E122*SUMIF('Daily Log'!#REF!,$B122,'Daily Log'!#REF!),0)","v":0},{"$f":"IFERROR($E122*SUMIF('Daily Log'!#REF!,$B122,'Daily Log'!#REF!),0)","v":0},{"$f":"IFERROR($E122*SUMIF('Daily Log'!#REF!,$B122,'Daily Log'!#REF!),0)","v":0},{"$f":"IFERROR($E122*SUMIF('Daily Log'!#REF!,$B122,'Daily Log'!#REF!),0)","v":0},{"$f":"IFERROR($E122*SUMIF('Daily Log'!#REF!,$B122,'Daily Log'!#REF!),0)","v":0},{"$f":"IFERROR($E122*SUMIF('Daily Log'!#REF!,$B122,'Daily Log'!#REF!),0)","v":0},{"$f":"IFERROR($E122*SUMIF('Daily Log'!#REF!,$B122,'Daily Log'!#REF!),0)","v":0},{"$f":"IFERROR($E122*SUMIF('Daily Log'!#REF!,$B122,'Daily Log'!#REF!),0)","v":0},{"$f":"IFERROR($E122*SUMIF('Daily Log'!#REF!,$B122,'Daily Log'!#REF!),0)","v":0},{"$f":"IFERROR($E122*SUMIF('Daily Log'!#REF!,$B122,'Daily Log'!#REF!),0)","v":0},{"$f":"IFERROR($E122*SUMIF('Daily Log'!#REF!,$B122,'Daily Log'!#REF!),0)","v":0},{"$f":"IFERROR($E122*SUMIF('Daily Log'!#REF!,$B122,'Daily Log'!#REF!),0)","v":0},{"$f":"IFERROR($E122*SUMIF('Daily Log'!#REF!,$B122,'Daily Log'!#REF!),0)","v":0},{"$f":"IFERROR($E122*SUMIF('Daily Log'!#REF!,$B122,'Daily Log'!#REF!),0)","v":0}]
[null,"CN01 MILO (H)",null,"FFD-HOT BEVERAGES",1,96,{"$f":"IFERROR($E123*SUMIF('Daily Log'!$B$18:$B$1017,$B123,'Daily Log'!$C$18:$C$1017),0)","v":32},{"$f":"IFERROR($E123*SUMIF('Daily Log'!$E$18:$E$1017,$B123,'Daily Log'!$F$18:$F$1017),0)","v":11},{"$f":"IFERROR($E123*SUMIF('Daily Log'!$H$18:$H$1017,$B123,'Daily Log'!$I$18:$I$1017),0)","v":15},{"$f":"IFERROR($E123*SUMIF('Daily Log'!$K$18:$K$1017,$B123,'Daily Log'!$L$18:$L$1017),0)","v":20},{"$f":"IFERROR($E123*SUMIF('Daily Log'!$N$18:$N$1017,$B123,'Daily Log'!$O$18:$O$1017),0)","v":18},{"$f":"IFERROR($E123*SUMIF('Daily Log'!#REF!,$B123,'Daily Log'!#REF!),0)","v":0},{"$f":"IFERROR($E123*SUMIF('Daily Log'!#REF!,$B123,'Daily Log'!#REF!),0)","v":0},{"$f":"IFERROR($E123*SUMIF('Daily Log'!#REF!,$B123,'Daily Log'!#REF!),0)","v":0},{"$f":"IFERROR($E123*SUMIF('Daily Log'!#REF!,$B123,'Daily Log'!#REF!),0)","v":0},{"$f":"IFERROR($E123*SUMIF('Daily Log'!#REF!,$B123,'Daily Log'!#REF!),0)","v":0},{"$f":"IFERROR($E123*SUMIF('Daily Log'!#REF!,$B123,'Daily Log'!#REF!),0)","v":0},{"$f":"IFERROR($E123*SUMIF('Daily Log'!#REF!,$B123,'Daily Log'!#REF!),0)","v":0},{"$f":"IFERROR($E123*SUMIF('Daily Log'!#REF!,$B123,'Daily Log'!#REF!),0)","v":0},{"$f":"IFERROR($E123*SUMIF('Daily Log'!#REF!,$B123,'Daily Log'!#REF!),0)","v":0},{"$f":"IFERROR($E123*SUMIF('Daily Log'!#REF!,$B123,'Daily Log'!#REF!),0)","v":0},{"$f":"IFERROR($E123*SUMIF('Daily Log'!#REF!,$B123,'Daily Log'!#REF!),0)","v":0},{"$f":"IFERROR($E123*SUMIF('Daily Log'!#REF!,$B123,'Daily Log'!#REF!),0)","v":0},{"$f":"IFERROR($E123*SUMIF('Daily Log'!#REF!,$B123,'Daily Log'!#REF!),0)","v":0},{"$f":"IFERROR($E123*SUMIF('Daily Log'!#REF!,$B123,'Daily Log'!#REF!),0)","v":0},{"$f":"IFERROR($E123*SUMIF('Daily Log'!#REF!,$B123,'Daily Log'!#REF!),0)","v":0},{"$f":"IFERROR($E123*SUMIF('Daily Log'!#REF!,$B123,'Daily Log'!#REF!),0)","v":0},{"$f":"IFERROR($E123*SUMIF('Daily Log'!#REF!,$B123,'Daily Log'!#REF!),0)","v":0},{"$f":"IFERROR($E123*SUMIF('Daily Log'!#REF!,$B123,'Daily Log'!#REF!),0)","v":0},{"$f":"IFERROR($E123*SUMIF('Daily Log'!#REF!,$B123,'Daily Log'!#REF!),0)","v":0},{"$f":"IFERROR($E123*SUMIF('Daily Log'!#REF!,$B123,'Daily Log'!#REF!),0)","v":0},{"$f":"IFERROR($E123*SUMIF('Daily Log'!#REF!,$B123,'Daily Log'!#REF!),0)","v":0},{"$f":"IFERROR($E123*SUMIF('Daily Log'!#REF!,$B123,'Daily Log'!#REF!),0)","v":0},{"$f":"IFERROR($E123*SUMIF('Daily Log'!#REF!,$B123,'Daily Log'!#REF!),0)","v":0},{"$f":"IFERROR($E123*SUMIF('Daily Log'!#REF!,$B123,'Daily Log'!#REF!),0)","v":0},{"$f":"IFERROR($E123*SUMIF('Daily Log'!#REF!,$B123,'Daily Log'!#REF!),0)","v":0},{"$f":"IFERROR($E123*SUMIF('Daily Log'!#REF!,$B123,'Daily Log'!#REF!),0)","v":0}]
[null,"CN02 NESCAFE (H)",null,"FFD-HOT BEVERAGES",1,22,{"$f":"IFERROR($E124*SUMIF('Daily Log'!$B$18:$B$1017,$B124,'Daily Log'!$C$18:$C$1017),0)","v":7},{"$f":"IFERROR($E124*SUMIF('Daily Log'!$E$18:$E$1017,$B124,'Daily Log'!$F$18:$F$1017),0)","v":3},{"$f":"IFERROR($E124*SUMIF('Daily Log'!$H$18:$H$1017,$B124,'Daily Log'!$I$18:$I$1017),0)","v":2},{"$f":"IFERROR($E124*SUMIF('Daily Log'!$K$18:$K$1017,$B124,'Daily Log'!$L$18:$L$1017),0)","v":8},{"$f":"IFERROR($E124*SUMIF('Daily Log'!$N$18:$N$1017,$B124,'Daily Log'!$O$18:$O$1017),0)","v":2},{"$f":"IFERROR($E124*SUMIF('Daily Log'!#REF!,$B124,'Daily Log'!#REF!),0)","v":0},{"$f":"IFERROR($E124*SUMIF('Daily Log'!#REF!,$B124,'Daily Log'!#REF!),0)","v":0},{"$f":"IFERROR($E124*SUMIF('Daily Log'!#REF!,$B124,'Daily Log'!#REF!),0)","v":0},{"$f":"IFERROR($E124*SUMIF('Daily Log'!#REF!,$B124,'Daily Log'!#REF!),0)","v":0},{"$f":"IFERROR($E124*SUMIF('Daily Log'!#REF!,$B124,'Daily Log'!#REF!),0)","v":0},{"$f":"IFERROR($E124*SUMIF('Daily Log'!#REF!,$B124,'Daily Log'!#REF!),0)","v":0},{"$f":"IFERROR($E124*SUMIF('Daily Log'!#REF!,$B124,'Daily Log'!#REF!),0)","v":0},{"$f":"IFERROR($E124*SUMIF('Daily Log'!#REF!,$B124,'Daily Log'!#REF!),0)","v":0},{"$f":"IFERROR($E124*SUMIF('Daily Log'!#REF!,$B124,'Daily Log'!#REF!),0)","v":0},{"$f":"IFERROR($E124*SUMIF('Daily Log'!#REF!,$B124,'Daily Log'!#REF!),0)","v":0},{"$f":"IFERROR($E124*SUMIF('Daily Log'!#REF!,$B124,'Daily Log'!#REF!),0)","v":0},{"$f":"IFERROR($E124*SUMIF('Daily Log'!#REF!,$B124,'Daily Log'!#REF!),0)","v":0},{"$f":"IFERROR($E124*SUMIF('Daily Log'!#REF!,$B124,'Daily Log'!#REF!),0)","v":0},{"$f":"IFERROR($E124*SUMIF('Daily Log'!#REF!,$B124,'Daily Log'!#REF!),0)","v":0},{"$f":"IFERROR($E124*SUMIF('Daily Log'!#REF!,$B124,'Daily Log'!#REF!),0)","v":0},{"$f":"IFERROR($E124*SUMIF('Daily Log'!#REF!,$B124,'Daily Log'!#REF!),0)","v":0},{"$f":"IFERROR($E124*SUMIF('Daily Log'!#REF!,$B124,'Daily Log'!#REF!),0)","v":0},{"$f":"IFERROR($E124*SUMIF('Daily Log'!#REF!,$B124,'Daily Log'!#REF!),0)","v":0},{"$f":"IFERROR($E124*SUMIF('Daily Log'!#REF!,$B124,'Daily Log'!#REF!),0)","v":0},{"$f":"IFERROR($E124*SUMIF('Daily Log'!#REF!,$B124,'Daily Log'!#REF!),0)","v":0},{"$f":"IFERROR($E124*SUMIF('Daily Log'!#REF!,$B124,'Daily Log'!#REF!),0)","v":0},{"$f":"IFERROR($E124*SUMIF('Daily Log'!#REF!,$B124,'Daily Log'!#REF!),0)","v":0},{"$f":"IFERROR($E124*SUMIF('Daily Log'!#REF!,$B124,'Daily Log'!#REF!),0)","v":0},{"$f":"IFERROR($E124*SUMIF('Daily Log'!#REF!,$B124,'Daily Log'!#REF!),0)","v":0},{"$f":"IFERROR($E124*SUMIF('Daily Log'!#REF!,$B124,'Daily Log'!#REF!),0)","v":0},{"$f":"IFERROR($E124*SUMIF('Daily Log'!#REF!,$B124,'Daily Log'!#REF!),0)","v":0}]
[null,"CN03 TEA (H)",null,"FFD-HOT BEVERAGES",1,9,{"$f":"IFERROR($E125*SUMIF('Daily Log'!$B$18:$B$1017,$B125,'Daily Log'!$C$18:$C$1017),0)","v":3},{"$f":"IFERROR($E125*SUMIF('Daily Log'!$E$18:$E$1017,$B125,'Daily Log'!$F$18:$F$1017),0)","v":1},{"$f":"IFERROR($E125*SUMIF('Daily Log'!$H$18:$H$1017,$B125,'Daily Log'!$I$18:$I$1017),0)","v":1},{"$f":"IFERROR($E125*SUMIF('Daily Log'!$K$18:$K$1017,$B125,'Daily Log'!$L$18:$L$1017),0)","v":1},{"$f":"IFERROR($E125*SUMIF('Daily Log'!$N$18:$N$1017,$B125,'Daily Log'!$O$18:$O$1017),0)","v":3},{"$f":"IFERROR($E125*SUMIF('Daily Log'!#REF!,$B125,'Daily Log'!#REF!),0)","v":0},{"$f":"IFERROR($E125*SUMIF('Daily Log'!#REF!,$B125,'Daily Log'!#REF!),0)","v":0},{"$f":"IFERROR($E125*SUMIF('Daily Log'!#REF!,$B125,'Daily Log'!#REF!),0)","v":0},{"$f":"IFERROR($E125*SUMIF('Daily Log'!#REF!,$B125,'Daily Log'!#REF!),0)","v":0},{"$f":"IFERROR($E125*SUMIF('Daily Log'!#REF!,$B125,'Daily Log'!#REF!),0)","v":0},{"$f":"IFERROR($E125*SUMIF('Daily Log'!#REF!,$B125,'Daily Log'!#REF!),0)","v":0},{"$f":"IFERROR($E125*SUMIF('Daily Log'!#REF!,$B125,'Daily Log'!#REF!),0)","v":0},{"$f":"IFERROR($E125*SUMIF('Daily Log'!#REF!,$B125,'Daily Log'!#REF!),0)","v":0},{"$f":"IFERROR($E125*SUMIF('Daily Log'!#REF!,$B125,'Daily Log'!#REF!),0)","v":0},{"$f":"IFERROR($E125*SUMIF('Daily Log'!#REF!,$B125,'Daily Log'!#REF!),0)","v":0},{"$f":"IFERROR($E125*SUMIF('Daily Log'!#REF!,$B125,'Daily Log'!#REF!),0)","v":0},{"$f":"IFERROR($E125*SUMIF('Daily Log'!#REF!,$B125,'Daily Log'!#REF!),0)","v":0},{"$f":"IFERROR($E125*SUMIF('Daily Log'!#REF!,$B125,'Daily Log'!#REF!),0)","v":0},{"$f":"IFERROR($E125*SUMIF('Daily Log'!#REF!,$B125,'Daily Log'!#REF!),0)","v":0},{"$f":"IFERROR($E125*SUMIF('Daily Log'!#REF!,$B125,'Daily Log'!#REF!),0)","v":0},{"$f":"IFERROR($E125*SUMIF('Daily Log'!#REF!,$B125,'Daily Log'!#REF!),0)","v":0},{"$f":"IFERROR($E125*SUMIF('Daily Log'!#REF!,$B125,'Daily Log'!#REF!),0)","v":0},{"$f":"IFERROR($E125*SUMIF('Daily Log'!#REF!,$B125,'Daily Log'!#REF!),0)","v":0},{"$f":"IFERROR($E125*SUMIF('Daily Log'!#REF!,$B125,'Daily Log'!#REF!),0)","v":0},{"$f":"IFERROR($E125*SUMIF('Daily Log'!#REF!,$B125,'Daily Log'!#REF!),0)","v":0},{"$f":"IFERROR($E125*SUMIF('Daily Log'!#REF!,$B125,'Daily Log'!#REF!),0)","v":0},{"$f":"IFERROR($E125*SUMIF('Daily Log'!#REF!,$B125,'Daily Log'!#REF!),0)","v":0},{"$f":"IFERROR($E125*SUMIF('Daily Log'!#REF!,$B125,'Daily Log'!#REF!),0)","v":0},{"$f":"IFERROR($E125*SUMIF('Daily Log'!#REF!,$B125,'Daily Log'!#REF!),0)","v":0},{"$f":"IFERROR($E125*SUMIF('Daily Log'!#REF!,$B125,'Daily Log'!#REF!),0)","v":0},{"$f":"IFERROR($E125*SUMIF('Daily Log'!#REF!,$B125,'Daily Log'!#REF!),0)","v":0}]
[null,"CN04 LEMON TEA (H)",null,"FFD-HOT BEVERAGES",1,35,{"$f":"IFERROR($E126*SUMIF('Daily Log'!$B$18:$B$1017,$B126,'Daily Log'!$C$18:$C$1017),0)","v":5},{"$f":"IFERROR($E126*SUMIF('Daily Log'!$E$18:$E$1017,$B126,'Daily Log'!$F$18:$F$1017),0)","v":1},{"$f":"IFERROR($E126*SUMIF('Daily Log'!$H$18:$H$1017,$B126,'Daily Log'!$I$18:$I$1017),0)","v":8},{"$f":"IFERROR($E126*SUMIF('Daily Log'!$K$18:$K$1017,$B126,'Daily Log'!$L$18:$L$1017),0)","v":13},{"$f":"IFERROR($E126*SUMIF('Daily Log'!$N$18:$N$1017,$B126,'Daily Log'!$O$18:$O$1017),0)","v":8},{"$f":"IFERROR($E126*SUMIF('Daily Log'!#REF!,$B126,'Daily Log'!#REF!),0)","v":0},{"$f":"IFERROR($E126*SUMIF('Daily Log'!#REF!,$B126,'Daily Log'!#REF!),0)","v":0},{"$f":"IFERROR($E126*SUMIF('Daily Log'!#REF!,$B126,'Daily Log'!#REF!),0)","v":0},{"$f":"IFERROR($E126*SUMIF('Daily Log'!#REF!,$B126,'Daily Log'!#REF!),0)","v":0},{"$f":"IFERROR($E126*SUMIF('Daily Log'!#REF!,$B126,'Daily Log'!#REF!),0)","v":0},{"$f":"IFERROR($E126*SUMIF('Daily Log'!#REF!,$B126,'Daily Log'!#REF!),0)","v":0},{"$f":"IFERROR($E126*SUMIF('Daily Log'!#REF!,$B126,'Daily Log'!#REF!),0)","v":0},{"$f":"IFERROR($E126*SUMIF('Daily Log'!#REF!,$B126,'Daily Log'!#REF!),0)","v":0},{"$f":"IFERROR($E126*SUMIF('Daily Log'!#REF!,$B126,'Daily Log'!#REF!),0)","v":0},{"$f":"IFERROR($E126*SUMIF('Daily Log'!#REF!,$B126,'Daily Log'!#REF!),0)","v":0},{"$f":"IFERROR($E126*SUMIF('Daily Log'!#REF!,$B126,'Daily Log'!#REF!),0)","v":0},{"$f":"IFERROR($E126*SUMIF('Daily Log'!#REF!,$B126,'Daily Log'!#REF!),0)","v":0},{"$f":"IFERROR($E126*SUMIF('Daily Log'!#REF!,$B126,'Daily Log'!#REF!),0)","v":0},{"$f":"IFERROR($E126*SUMIF('Daily Log'!#REF!,$B126,'Daily Log'!#REF!),0)","v":0},{"$f":"IFERROR($E126*SUMIF('Daily Log'!#REF!,$B126,'Daily Log'!#REF!),0)","v":0},{"$f":"IFERROR($E126*SUMIF('Daily Log'!#REF!,$B126,'Daily Log'!#REF!),0)","v":0},{"$f":"IFERROR($E126*SUMIF('Daily Log'!#REF!,$B126,'Daily Log'!#REF!),0)","v":0},{"$f":"IFERROR($E126*SUMIF('Daily Log'!#REF!,$B126,'Daily Log'!#REF!),0)","v":0},{"$f":"IFERROR($E126*SUMIF('Daily Log'!#REF!,$B126,'Daily Log'!#REF!),0)","v":0},{"$f":"IFERROR($E126*SUMIF('Daily Log'!#REF!,$B126,'Daily Log'!#REF!),0)","v":0},{"$f":"IFERROR($E126*SUMIF('Daily Log'!#REF!,$B126,'Daily Log'!#REF!),0)","v":0},{"$f":"IFERROR($E126*SUMIF('Daily Log'!#REF!,$B126,'Daily Log'!#REF!),0)","v":0},{"$f":"IFERROR($E126*SUMIF('Daily Log'!#REF!,$B126,'Daily Log'!#REF!),0)","v":0},{"$f":"IFERROR($E126*SUMIF('Daily Log'!#REF!,$B126,'Daily Log'!#REF!),0)","v":0},{"$f":"IFERROR($E126*SUMIF('Daily Log'!#REF!,$B126,'Daily Log'!#REF!),0)","v":0},{"$f":"IFERROR($E126*SUMIF('Daily Log'!#REF!,$B126,'Daily Log'!#REF!),0)","v":0}]
[null,"CN05 GRN TEA (H)",null,"FFD-HOT BEVERAGES",1,105,{"$f":"IFERROR($E127*SUMIF('Daily Log'!$B$18:$B$1017,$B127,'Daily Log'!$C$18:$C$1017),0)","v":17},{"$f":"IFERROR($E127*SUMIF('Daily Log'!$E$18:$E$1017,$B127,'Daily Log'!$F$18:$F$1017),0)","v":9},{"$f":"IFERROR($E127*SUMIF('Daily Log'!$H$18:$H$1017,$B127,'Daily Log'!$I$18:$I$1017),0)","v":21},{"$f":"IFERROR($E127*SUMIF('Daily Log'!$K$18:$K$1017,$B127,'Daily Log'!$L$18:$L$1017),0)","v":44},{"$f":"IFERROR($E127*SUMIF('Daily Log'!$N$18:$N$1017,$B127,'Daily Log'!$O$18:$O$1017),0)","v":14},{"$f":"IFERROR($E127*SUMIF('Daily Log'!#REF!,$B127,'Daily Log'!#REF!),0)","v":0},{"$f":"IFERROR($E127*SUMIF('Daily Log'!#REF!,$B127,'Daily Log'!#REF!),0)","v":0},{"$f":"IFERROR($E127*SUMIF('Daily Log'!#REF!,$B127,'Daily Log'!#REF!),0)","v":0},{"$f":"IFERROR($E127*SUMIF('Daily Log'!#REF!,$B127,'Daily Log'!#REF!),0)","v":0},{"$f":"IFERROR($E127*SUMIF('Daily Log'!#REF!,$B127,'Daily Log'!#REF!),0)","v":0},{"$f":"IFERROR($E127*SUMIF('Daily Log'!#REF!,$B127,'Daily Log'!#REF!),0)","v":0},{"$f":"IFERROR($E127*SUMIF('Daily Log'!#REF!,$B127,'Daily Log'!#REF!),0)","v":0},{"$f":"IFERROR($E127*SUMIF('Daily Log'!#REF!,$B127,'Daily Log'!#REF!),0)","v":0},{"$f":"IFERROR($E127*SUMIF('Daily Log'!#REF!,$B127,'Daily Log'!#REF!),0)","v":0},{"$f":"IFERROR($E127*SUMIF('Daily Log'!#REF!,$B127,'Daily Log'!#REF!),0)","v":0},{"$f":"IFERROR($E127*SUMIF('Daily Log'!#REF!,$B127,'Daily Log'!#REF!),0)","v":0},{"$f":"IFERROR($E127*SUMIF('Daily Log'!#REF!,$B127,'Daily Log'!#REF!),0)","v":0},{"$f":"IFERROR($E127*SUMIF('Daily Log'!#REF!,$B127,'Daily Log'!#REF!),0)","v":0},{"$f":"IFERROR($E127*SUMIF('Daily Log'!#REF!,$B127,'Daily Log'!#REF!),0)","v":0},{"$f":"IFERROR($E127*SUMIF('Daily Log'!#REF!,$B127,'Daily Log'!#REF!),0)","v":0},{"$f":"IFERROR($E127*SUMIF('Daily Log'!#REF!,$B127,'Daily Log'!#REF!),0)","v":0},{"$f":"IFERROR($E127*SUMIF('Daily Log'!#REF!,$B127,'Daily Log'!#REF!),0)","v":0},{"$f":"IFERROR($E127*SUMIF('Daily Log'!#REF!,$B127,'Daily Log'!#REF!),0)","v":0},{"$f":"IFERROR($E127*SUMIF('Daily Log'!#REF!,$B127,'Daily Log'!#REF!),0)","v":0},{"$f":"IFERROR($E127*SUMIF('Daily Log'!#REF!,$B127,'Daily Log'!#REF!),0)","v":0},{"$f":"IFERROR($E127*SUMIF('Daily Log'!#REF!,$B127,'Daily Log'!#REF!),0)","v":0},{"$f":"IFERROR($E127*SUMIF('Daily Log'!#REF!,$B127,'Daily Log'!#REF!),0)","v":0},{"$f":"IFERROR($E127*SUMIF('Daily Log'!#REF!,$B127,'Daily Log'!#REF!),0)","v":0},{"$f":"IFERROR($E127*SUMIF('Daily Log'!#REF!,$B127,'Daily Log'!#REF!),0)","v":0},{"$f":"IFERROR($E127*SUMIF('Daily Log'!#REF!,$B127,'Daily Log'!#REF!),0)","v":0},{"$f":"IFERROR($E127*SUMIF('Daily Log'!#REF!,$B127,'Daily Log'!#REF!),0)","v":0}]
[null,"CN06 HNY GRN TEA (H)",null,"FFD-HOT BEVERAGES",1,71,{"$f":"IFERROR($E128*SUMIF('Daily Log'!$B$18:$B$1017,$B128,'Daily Log'!$C$18:$C$1017),0)","v":12},{"$f":"IFERROR($E128*SUMIF('Daily Log'!$E$18:$E$1017,$B128,'Daily Log'!$F$18:$F$1017),0)","v":9},{"$f":"IFERROR($E128*SUMIF('Daily Log'!$H$18:$H$1017,$B128,'Daily Log'!$I$18:$I$1017),0)","v":16},{"$f":"IFERROR($E128*SUMIF('Daily Log'!$K$18:$K$1017,$B128,'Daily Log'!$L$18:$L$1017),0)","v":32},{"$f":"IFERROR($E128*SUMIF('Daily Log'!$N$18:$N$1017,$B128,'Daily Log'!$O$18:$O$1017),0)","v":2},{"$f":"IFERROR($E128*SUMIF('Daily Log'!#REF!,$B128,'Daily Log'!#REF!),0)","v":0},{"$f":"IFERROR($E128*SUMIF('Daily Log'!#REF!,$B128,'Daily Log'!#REF!),0)","v":0},{"$f":"IFERROR($E128*SUMIF('Daily Log'!#REF!,$B128,'Daily Log'!#REF!),0)","v":0},{"$f":"IFERROR($E128*SUMIF('Daily Log'!#REF!,$B128,'Daily Log'!#REF!),0)","v":0},{"$f":"IFERROR($E128*SUMIF('Daily Log'!#REF!,$B128,'Daily Log'!#REF!),0)","v":0},{"$f":"IFERROR($E128*SUMIF('Daily Log'!#REF!,$B128,'Daily Log'!#REF!),0)","v":0},{"$f":"IFERROR($E128*SUMIF('Daily Log'!#REF!,$B128,'Daily Log'!#REF!),0)","v":0},{"$f":"IFERROR($E128*SUMIF('Daily Log'!#REF!,$B128,'Daily Log'!#REF!),0)","v":0},{"$f":"IFERROR($E128*SUMIF('Daily Log'!#REF!,$B128,'Daily Log'!#REF!),0)","v":0},{"$f":"IFERROR($E128*SUMIF('Daily Log'!#REF!,$B128,'Daily Log'!#REF!),0)","v":0},{"$f":"IFERROR($E128*SUMIF('Daily Log'!#REF!,$B128,'Daily Log'!#REF!),0)","v":0},{"$f":"IFERROR($E128*SUMIF('Daily Log'!#REF!,$B128,'Daily Log'!#REF!),0)","v":0},{"$f":"IFERROR($E128*SUMIF('Daily Log'!#REF!,$B128,'Daily Log'!#REF!),0)","v":0},{"$f":"IFERROR($E128*SUMIF('Daily Log'!#REF!,$B128,'Daily Log'!#REF!),0)","v":0},{"$f":"IFERROR($E128*SUMIF('Daily Log'!#REF!,$B128,'Daily Log'!#REF!),0)","v":0},{"$f":"IFERROR($E128*SUMIF('Daily Log'!#REF!,$B128,'Daily Log'!#REF!),0)","v":0},{"$f":"IFERROR($E128*SUMIF('Daily Log'!#REF!,$B128,'Daily Log'!#REF!),0)","v":0},{"$f":"IFERROR($E128*SUMIF('Daily Log'!#REF!,$B128,'Daily Log'!#REF!),0)","v":0},{"$f":"IFERROR($E128*SUMIF('Daily Log'!#REF!,$B128,'Daily Log'!#REF!),0)","v":0},{"$f":"IFERROR($E128*SUMIF('Daily Log'!#REF!,$B128,'Daily Log'!#REF!),0)","v":0},{"$f":"IFERROR($E128*SUMIF('Daily Log'!#REF!,$B128,'Daily Log'!#REF!),0)","v":0},{"$f":"IFERROR($E128*SUMIF('Daily Log'!#REF!,$B128,'Daily Log'!#REF!),0)","v":0},{"$f":"IFERROR($E128*SUMIF('Daily Log'!#REF!,$B128,'Daily Log'!#REF!),0)","v":0},{"$f":"IFERROR($E128*SUMIF('Daily Log'!#REF!,$B128,'Daily Log'!#REF!),0)","v":0},{"$f":"IFERROR($E128*SUMIF('Daily Log'!#REF!,$B128,'Daily Log'!#REF!),0)","v":0},{"$f":"IFERROR($E128*SUMIF('Daily Log'!#REF!,$B128,'Daily Log'!#REF!),0)","v":0}]
[null,"CN07 HONEY (H)",null,"FFD-HOT BEVERAGES",1,81,{"$f":"IFERROR($E129*SUMIF('Daily Log'!$B$18:$B$1017,$B129,'Daily Log'!$C$18:$C$1017),0)","v":24},{"$f":"IFERROR($E129*SUMIF('Daily Log'!$E$18:$E$1017,$B129,'Daily Log'!$F$18:$F$1017),0)","v":21},{"$f":"IFERROR($E129*SUMIF('Daily Log'!$H$18:$H$1017,$B129,'Daily Log'!$I$18:$I$1017),0)","v":10},{"$f":"IFERROR($E129*SUMIF('Daily Log'!$K$18:$K$1017,$B129,'Daily Log'!$L$18:$L$1017),0)","v":20},{"$f":"IFERROR($E129*SUMIF('Daily Log'!$N$18:$N$1017,$B129,'Daily Log'!$O$18:$O$1017),0)","v":6},{"$f":"IFERROR($E129*SUMIF('Daily Log'!#REF!,$B129,'Daily Log'!#REF!),0)","v":0},{"$f":"IFERROR($E129*SUMIF('Daily Log'!#REF!,$B129,'Daily Log'!#REF!),0)","v":0},{"$f":"IFERROR($E129*SUMIF('Daily Log'!#REF!,$B129,'Daily Log'!#REF!),0)","v":0},{"$f":"IFERROR($E129*SUMIF('Daily Log'!#REF!,$B129,'Daily Log'!#REF!),0)","v":0},{"$f":"IFERROR($E129*SUMIF('Daily Log'!#REF!,$B129,'Daily Log'!#REF!),0)","v":0},{"$f":"IFERROR($E129*SUMIF('Daily Log'!#REF!,$B129,'Daily Log'!#REF!),0)","v":0},{"$f":"IFERROR($E129*SUMIF('Daily Log'!#REF!,$B129,'Daily Log'!#REF!),0)","v":0},{"$f":"IFERROR($E129*SUMIF('Daily Log'!#REF!,$B129,'Daily Log'!#REF!),0)","v":0},{"$f":"IFERROR($E129*SUMIF('Daily Log'!#REF!,$B129,'Daily Log'!#REF!),0)","v":0},{"$f":"IFERROR($E129*SUMIF('Daily Log'!#REF!,$B129,'Daily Log'!#REF!),0)","v":0},{"$f":"IFERROR($E129*SUMIF('Daily Log'!#REF!,$B129,'Daily Log'!#REF!),0)","v":0},{"$f":"IFERROR($E129*SUMIF('Daily Log'!#REF!,$B129,'Daily Log'!#REF!),0)","v":0},{"$f":"IFERROR($E129*SUMIF('Daily Log'!#REF!,$B129,'Daily Log'!#REF!),0)","v":0},{"$f":"IFERROR($E129*SUMIF('Daily Log'!#REF!,$B129,'Daily Log'!#REF!),0)","v":0},{"$f":"IFERROR($E129*SUMIF('Daily Log'!#REF!,$B129,'Daily Log'!#REF!),0)","v":0},{"$f":"IFERROR($E129*SUMIF('Daily Log'!#REF!,$B129,'Daily Log'!#REF!),0)","v":0},{"$f":"IFERROR($E129*SUMIF('Daily Log'!#REF!,$B129,'Daily Log'!#REF!),0)","v":0},{"$f":"IFERROR($E129*SUMIF('Daily Log'!#REF!,$B129,'Daily Log'!#REF!),0)","v":0},{"$f":"IFERROR($E129*SUMIF('Daily Log'!#REF!,$B129,'Daily Log'!#REF!),0)","v":0},{"$f":"IFERROR($E129*SUMIF('Daily Log'!#REF!,$B129,'Daily Log'!#REF!),0)","v":0},{"$f":"IFERROR($E129*SUMIF('Daily Log'!#REF!,$B129,'Daily Log'!#REF!),0)","v":0},{"$f":"IFERROR($E129*SUMIF('Daily Log'!#REF!,$B129,'Daily Log'!#REF!),0)","v":0},{"$f":"IFERROR($E129*SUMIF('Daily Log'!#REF!,$B129,'Daily Log'!#REF!),0)","v":0},{"$f":"IFERROR($E129*SUMIF('Daily Log'!#REF!,$B129,'Daily Log'!#REF!),0)","v":0},{"$f":"IFERROR($E129*SUMIF('Daily Log'!#REF!,$B129,'Daily Log'!#REF!),0)","v":0},{"$f":"IFERROR($E129*SUMIF('Daily Log'!#REF!,$B129,'Daily Log'!#REF!),0)","v":0}]
[null,"CN08 LEMON HONEY (H)",null,"FFD-HOT BEVERAGES",1,208,{"$f":"IFERROR($E130*SUMIF('Daily Log'!$B$18:$B$1017,$B130,'Daily Log'!$C$18:$C$1017),0)","v":59},{"$f":"IFERROR($E130*SUMIF('Daily Log'!$E$18:$E$1017,$B130,'Daily Log'!$F$18:$F$1017),0)","v":51},{"$f":"IFERROR($E130*SUMIF('Daily Log'!$H$18:$H$1017,$B130,'Daily Log'!$I$18:$I$1017),0)","v":37},{"$f":"IFERROR($E130*SUMIF('Daily Log'!$K$18:$K$1017,$B130,'Daily Log'!$L$18:$L$1017),0)","v":51},{"$f":"IFERROR($E130*SUMIF('Daily Log'!$N$18:$N$1017,$B130,'Daily Log'!$O$18:$O$1017),0)","v":10},{"$f":"IFERROR($E130*SUMIF('Daily Log'!#REF!,$B130,'Daily Log'!#REF!),0)","v":0},{"$f":"IFERROR($E130*SUMIF('Daily Log'!#REF!,$B130,'Daily Log'!#REF!),0)","v":0},{"$f":"IFERROR($E130*SUMIF('Daily Log'!#REF!,$B130,'Daily Log'!#REF!),0)","v":0},{"$f":"IFERROR($E130*SUMIF('Daily Log'!#REF!,$B130,'Daily Log'!#REF!),0)","v":0},{"$f":"IFERROR($E130*SUMIF('Daily Log'!#REF!,$B130,'Daily Log'!#REF!),0)","v":0},{"$f":"IFERROR($E130*SUMIF('Daily Log'!#REF!,$B130,'Daily Log'!#REF!),0)","v":0},{"$f":"IFERROR($E130*SUMIF('Daily Log'!#REF!,$B130,'Daily Log'!#REF!),0)","v":0},{"$f":"IFERROR($E130*SUMIF('Daily Log'!#REF!,$B130,'Daily Log'!#REF!),0)","v":0},{"$f":"IFERROR($E130*SUMIF('Daily Log'!#REF!,$B130,'Daily Log'!#REF!),0)","v":0},{"$f":"IFERROR($E130*SUMIF('Daily Log'!#REF!,$B130,'Daily Log'!#REF!),0)","v":0},{"$f":"IFERROR($E130*SUMIF('Daily Log'!#REF!,$B130,'Daily Log'!#REF!),0)","v":0},{"$f":"IFERROR($E130*SUMIF('Daily Log'!#REF!,$B130,'Daily Log'!#REF!),0)","v":0},{"$f":"IFERROR($E130*SUMIF('Daily Log'!#REF!,$B130,'Daily Log'!#REF!),0)","v":0},{"$f":"IFERROR($E130*SUMIF('Daily Log'!#REF!,$B130,'Daily Log'!#REF!),0)","v":0},{"$f":"IFERROR($E130*SUMIF('Daily Log'!#REF!,$B130,'Daily Log'!#REF!),0)","v":0},{"$f":"IFERROR($E130*SUMIF('Daily Log'!#REF!,$B130,'Daily Log'!#REF!),0)","v":0},{"$f":"IFERROR($E130*SUMIF('Daily Log'!#REF!,$B130,'Daily Log'!#REF!),0)","v":0},{"$f":"IFERROR($E130*SUMIF('Daily Log'!#REF!,$B130,'Daily Log'!#REF!),0)","v":0},{"$f":"IFERROR($E130*SUMIF('Daily Log'!#REF!,$B130,'Daily Log'!#REF!),0)","v":0},{"$f":"IFERROR($E130*SUMIF('Daily Log'!#REF!,$B130,'Daily Log'!#REF!),0)","v":0},{"$f":"IFERROR($E130*SUMIF('Daily Log'!#REF!,$B130,'Daily Log'!#REF!),0)","v":0},{"$f":"IFERROR($E130*SUMIF('Daily Log'!#REF!,$B130,'Daily Log'!#REF!),0)","v":0},{"$f":"IFERROR($E130*SUMIF('Daily Log'!#REF!,$B130,'Daily Log'!#REF!),0)","v":0},{"$f":"IFERROR($E130*SUMIF('Daily Log'!#REF!,$B130,'Daily Log'!#REF!),0)","v":0},{"$f":"IFERROR($E130*SUMIF('Daily Log'!#REF!,$B130,'Daily Log'!#REF!),0)","v":0},{"$f":"IFERROR($E130*SUMIF('Daily Log'!#REF!,$B130,'Daily Log'!#REF!),0)","v":0}]
[null,"CN12 CHAMOMILE (H)",null,"FFD-HOT BEVERAGES",1,25,{"$f":"IFERROR($E131*SUMIF('Daily Log'!$B$18:$B$1017,$B131,'Daily Log'!$C$18:$C$1017),0)","v":2},{"$f":"IFERROR($E131*SUMIF('Daily Log'!$E$18:$E$1017,$B131,'Daily Log'!$F$18:$F$1017),0)","v":6},{"$f":"IFERROR($E131*SUMIF('Daily Log'!$H$18:$H$1017,$B131,'Daily Log'!$I$18:$I$1017),0)","v":7},{"$f":"IFERROR($E131*SUMIF('Daily Log'!$K$18:$K$1017,$B131,'Daily Log'!$L$18:$L$1017),0)","v":6},{"$f":"IFERROR($E131*SUMIF('Daily Log'!$N$18:$N$1017,$B131,'Daily Log'!$O$18:$O$1017),0)","v":4},{"$f":"IFERROR($E131*SUMIF('Daily Log'!#REF!,$B131,'Daily Log'!#REF!),0)","v":0},{"$f":"IFERROR($E131*SUMIF('Daily Log'!#REF!,$B131,'Daily Log'!#REF!),0)","v":0},{"$f":"IFERROR($E131*SUMIF('Daily Log'!#REF!,$B131,'Daily Log'!#REF!),0)","v":0},{"$f":"IFERROR($E131*SUMIF('Daily Log'!#REF!,$B131,'Daily Log'!#REF!),0)","v":0},{"$f":"IFERROR($E131*SUMIF('Daily Log'!#REF!,$B131,'Daily Log'!#REF!),0)","v":0},{"$f":"IFERROR($E131*SUMIF('Daily Log'!#REF!,$B131,'Daily Log'!#REF!),0)","v":0},{"$f":"IFERROR($E131*SUMIF('Daily Log'!#REF!,$B131,'Daily Log'!#REF!),0)","v":0},{"$f":"IFERROR($E131*SUMIF('Daily Log'!#REF!,$B131,'Daily Log'!#REF!),0)","v":0},{"$f":"IFERROR($E131*SUMIF('Daily Log'!#REF!,$B131,'Daily Log'!#REF!),0)","v":0},{"$f":"IFERROR($E131*SUMIF('Daily Log'!#REF!,$B131,'Daily Log'!#REF!),0)","v":0},{"$f":"IFERROR($E131*SUMIF('Daily Log'!#REF!,$B131,'Daily Log'!#REF!),0)","v":0},{"$f":"IFERROR($E131*SUMIF('Daily Log'!#REF!,$B131,'Daily Log'!#REF!),0)","v":0},{"$f":"IFERROR($E131*SUMIF('Daily Log'!#REF!,$B131,'Daily Log'!#REF!),0)","v":0},{"$f":"IFERROR($E131*SUMIF('Daily Log'!#REF!,$B131,'Daily Log'!#REF!),0)","v":0},{"$f":"IFERROR($E131*SUMIF('Daily Log'!#REF!,$B131,'Daily Log'!#REF!),0)","v":0},{"$f":"IFERROR($E131*SUMIF('Daily Log'!#REF!,$B131,'Daily Log'!#REF!),0)","v":0},{"$f":"IFERROR($E131*SUMIF('Daily Log'!#REF!,$B131,'Daily Log'!#REF!),0)","v":0},{"$f":"IFERROR($E131*SUMIF('Daily Log'!#REF!,$B131,'Daily Log'!#REF!),0)","v":0},{"$f":"IFERROR($E131*SUMIF('Daily Log'!#REF!,$B131,'Daily Log'!#REF!),0)","v":0},{"$f":"IFERROR($E131*SUMIF('Daily Log'!#REF!,$B131,'Daily Log'!#REF!),0)","v":0},{"$f":"IFERROR($E131*SUMIF('Daily Log'!#REF!,$B131,'Daily Log'!#REF!),0)","v":0},{"$f":"IFERROR($E131*SUMIF('Daily Log'!#REF!,$B131,'Daily Log'!#REF!),0)","v":0},{"$f":"IFERROR($E131*SUMIF('Daily Log'!#REF!,$B131,'Daily Log'!#REF!),0)","v":0},{"$f":"IFERROR($E131*SUMIF('Daily Log'!#REF!,$B131,'Daily Log'!#REF!),0)","v":0},{"$f":"IFERROR($E131*SUMIF('Daily Log'!#REF!,$B131,'Daily Log'!#REF!),0)","v":0},{"$f":"IFERROR($E131*SUMIF('Daily Log'!#REF!,$B131,'Daily Log'!#REF!),0)","v":0}]
[null,"CN13 DARJEELING (H)",null,"FFD-HOT BEVERAGES",1,2,{"$f":"IFERROR($E132*SUMIF('Daily Log'!$B$18:$B$1017,$B132,'Daily Log'!$C$18:$C$1017),0)","v":2},{"$f":"IFERROR($E132*SUMIF('Daily Log'!$E$18:$E$1017,$B132,'Daily Log'!$F$18:$F$1017),0)","v":0},{"$f":"IFERROR($E132*SUMIF('Daily Log'!$H$18:$H$1017,$B132,'Daily Log'!$I$18:$I$1017),0)","v":0},{"$f":"IFERROR($E132*SUMIF('Daily Log'!$K$18:$K$1017,$B132,'Daily Log'!$L$18:$L$1017),0)","v":0},{"$f":"IFERROR($E132*SUMIF('Daily Log'!$N$18:$N$1017,$B132,'Daily Log'!$O$18:$O$1017),0)","v":0},{"$f":"IFERROR($E132*SUMIF('Daily Log'!#REF!,$B132,'Daily Log'!#REF!),0)","v":0},{"$f":"IFERROR($E132*SUMIF('Daily Log'!#REF!,$B132,'Daily Log'!#REF!),0)","v":0},{"$f":"IFERROR($E132*SUMIF('Daily Log'!#REF!,$B132,'Daily Log'!#REF!),0)","v":0},{"$f":"IFERROR($E132*SUMIF('Daily Log'!#REF!,$B132,'Daily Log'!#REF!),0)","v":0},{"$f":"IFERROR($E132*SUMIF('Daily Log'!#REF!,$B132,'Daily Log'!#REF!),0)","v":0},{"$f":"IFERROR($E132*SUMIF('Daily Log'!#REF!,$B132,'Daily Log'!#REF!),0)","v":0},{"$f":"IFERROR($E132*SUMIF('Daily Log'!#REF!,$B132,'Daily Log'!#REF!),0)","v":0},{"$f":"IFERROR($E132*SUMIF('Daily Log'!#REF!,$B132,'Daily Log'!#REF!),0)","v":0},{"$f":"IFERROR($E132*SUMIF('Daily Log'!#REF!,$B132,'Daily Log'!#REF!),0)","v":0},{"$f":"IFERROR($E132*SUMIF('Daily Log'!#REF!,$B132,'Daily Log'!#REF!),0)","v":0},{"$f":"IFERROR($E132*SUMIF('Daily Log'!#REF!,$B132,'Daily Log'!#REF!),0)","v":0},{"$f":"IFERROR($E132*SUMIF('Daily Log'!#REF!,$B132,'Daily Log'!#REF!),0)","v":0},{"$f":"IFERROR($E132*SUMIF('Daily Log'!#REF!,$B132,'Daily Log'!#REF!),0)","v":0},{"$f":"IFERROR($E132*SUMIF('Daily Log'!#REF!,$B132,'Daily Log'!#REF!),0)","v":0},{"$f":"IFERROR($E132*SUMIF('Daily Log'!#REF!,$B132,'Daily Log'!#REF!),0)","v":0},{"$f":"IFERROR($E132*SUMIF('Daily Log'!#REF!,$B132,'Daily Log'!#REF!),0)","v":0},{"$f":"IFERROR($E132*SUMIF('Daily Log'!#REF!,$B132,'Daily Log'!#REF!),0)","v":0},{"$f":"IFERROR($E132*SUMIF('Daily Log'!#REF!,$B132,'Daily Log'!#REF!),0)","v":0},{"$f":"IFERROR($E132*SUMIF('Daily Log'!#REF!,$B132,'Daily Log'!#REF!),0)","v":0},{"$f":"IFERROR($E132*SUMIF('Daily Log'!#REF!,$B132,'Daily Log'!#REF!),0)","v":0},{"$f":"IFERROR($E132*SUMIF('Daily Log'!#REF!,$B132,'Daily Log'!#REF!),0)","v":0},{"$f":"IFERROR($E132*SUMIF('Daily Log'!#REF!,$B132,'Daily Log'!#REF!),0)","v":0},{"$f":"IFERROR($E132*SUMIF('Daily Log'!#REF!,$B132,'Daily Log'!#REF!),0)","v":0},{"$f":"IFERROR($E132*SUMIF('Daily Log'!#REF!,$B132,'Daily Log'!#REF!),0)","v":0},{"$f":"IFERROR($E132*SUMIF('Daily Log'!#REF!,$B132,'Daily Log'!#REF!),0)","v":0},{"$f":"IFERROR($E132*SUMIF('Daily Log'!#REF!,$B132,'Daily Log'!#REF!),0)","v":0}]
[null,"CN14 EARL GREY (H)",null,"FFD-HOT BEVERAGES",1,16,{"$f":"IFERROR($E133*SUMIF('Daily Log'!$B$18:$B$1017,$B133,'Daily Log'!$C$18:$C$1017),0)","v":5},{"$f":"IFERROR($E133*SUMIF('Daily Log'!$E$18:$E$1017,$B133,'Daily Log'!$F$18:$F$1017),0)","v":4},{"$f":"IFERROR($E133*SUMIF('Daily Log'!$H$18:$H$1017,$B133,'Daily Log'!$I$18:$I$1017),0)","v":0},{"$f":"IFERROR($E133*SUMIF('Daily Log'!$K$18:$K$1017,$B133,'Daily Log'!$L$18:$L$1017),0)","v":6},{"$f":"IFERROR($E133*SUMIF('Daily Log'!$N$18:$N$1017,$B133,'Daily Log'!$O$18:$O$1017),0)","v":1},{"$f":"IFERROR($E133*SUMIF('Daily Log'!#REF!,$B133,'Daily Log'!#REF!),0)","v":0},{"$f":"IFERROR($E133*SUMIF('Daily Log'!#REF!,$B133,'Daily Log'!#REF!),0)","v":0},{"$f":"IFERROR($E133*SUMIF('Daily Log'!#REF!,$B133,'Daily Log'!#REF!),0)","v":0},{"$f":"IFERROR($E133*SUMIF('Daily Log'!#REF!,$B133,'Daily Log'!#REF!),0)","v":0},{"$f":"IFERROR($E133*SUMIF('Daily Log'!#REF!,$B133,'Daily Log'!#REF!),0)","v":0},{"$f":"IFERROR($E133*SUMIF('Daily Log'!#REF!,$B133,'Daily Log'!#REF!),0)","v":0},{"$f":"IFERROR($E133*SUMIF('Daily Log'!#REF!,$B133,'Daily Log'!#REF!),0)","v":0},{"$f":"IFERROR($E133*SUMIF('Daily Log'!#REF!,$B133,'Daily Log'!#REF!),0)","v":0},{"$f":"IFERROR($E133*SUMIF('Daily Log'!#REF!,$B133,'Daily Log'!#REF!),0)","v":0},{"$f":"IFERROR($E133*SUMIF('Daily Log'!#REF!,$B133,'Daily Log'!#REF!),0)","v":0},{"$f":"IFERROR($E133*SUMIF('Daily Log'!#REF!,$B133,'Daily Log'!#REF!),0)","v":0},{"$f":"IFERROR($E133*SUMIF('Daily Log'!#REF!,$B133,'Daily Log'!#REF!),0)","v":0},{"$f":"IFERROR($E133*SUMIF('Daily Log'!#REF!,$B133,'Daily Log'!#REF!),0)","v":0},{"$f":"IFERROR($E133*SUMIF('Daily Log'!#REF!,$B133,'Daily Log'!#REF!),0)","v":0},{"$f":"IFERROR($E133*SUMIF('Daily Log'!#REF!,$B133,'Daily Log'!#REF!),0)","v":0},{"$f":"IFERROR($E133*SUMIF('Daily Log'!#REF!,$B133,'Daily Log'!#REF!),0)","v":0},{"$f":"IFERROR($E133*SUMIF('Daily Log'!#REF!,$B133,'Daily Log'!#REF!),0)","v":0},{"$f":"IFERROR($E133*SUMIF('Daily Log'!#REF!,$B133,'Daily Log'!#REF!),0)","v":0},{"$f":"IFERROR($E133*SUMIF('Daily Log'!#REF!,$B133,'Daily Log'!#REF!),0)","v":0},{"$f":"IFERROR($E133*SUMIF('Daily Log'!#REF!,$B133,'Daily Log'!#REF!),0)","v":0},{"$f":"IFERROR($E133*SUMIF('Daily Log'!#REF!,$B133,'Daily Log'!#REF!),0)","v":0},{"$f":"IFERROR($E133*SUMIF('Daily Log'!#REF!,$B133,'Daily Log'!#REF!),0)","v":0},{"$f":"IFERROR($E133*SUMIF('Daily Log'!#REF!,$B133,'Daily Log'!#REF!),0)","v":0},{"$f":"IFERROR($E133*SUMIF('Daily Log'!#REF!,$B133,'Daily Log'!#REF!),0)","v":0},{"$f":"IFERROR($E133*SUMIF('Daily Log'!#REF!,$B133,'Daily Log'!#REF!),0)","v":0},{"$f":"IFERROR($E133*SUMIF('Daily Log'!#REF!,$B133,'Daily Log'!#REF!),0)","v":0}]
[null,"DB01 1001:BP CKN CP",null,"SIDE ORDER- WESTERN CRUISE ",1,12,{"$f":"IFERROR($E134*SUMIF('Daily Log'!$B$18:$B$1017,$B134,'Daily Log'!$C$18:$C$1017),0)","v":4},{"$f":"IFERROR($E134*SUMIF('Daily Log'!$E$18:$E$1017,$B134,'Daily Log'!$F$18:$F$1017),0)","v":1},{"$f":"IFERROR($E134*SUMIF('Daily Log'!$H$18:$H$1017,$B134,'Daily Log'!$I$18:$I$1017),0)","v":3},{"$f":"IFERROR($E134*SUMIF('Daily Log'!$K$18:$K$1017,$B134,'Daily Log'!$L$18:$L$1017),0)","v":4},{"$f":"IFERROR($E134*SUMIF('Daily Log'!$N$18:$N$1017,$B134,'Daily Log'!$O$18:$O$1017),0)","v":0},{"$f":"IFERROR($E134*SUMIF('Daily Log'!#REF!,$B134,'Daily Log'!#REF!),0)","v":0},{"$f":"IFERROR($E134*SUMIF('Daily Log'!#REF!,$B134,'Daily Log'!#REF!),0)","v":0},{"$f":"IFERROR($E134*SUMIF('Daily Log'!#REF!,$B134,'Daily Log'!#REF!),0)","v":0},{"$f":"IFERROR($E134*SUMIF('Daily Log'!#REF!,$B134,'Daily Log'!#REF!),0)","v":0},{"$f":"IFERROR($E134*SUMIF('Daily Log'!#REF!,$B134,'Daily Log'!#REF!),0)","v":0},{"$f":"IFERROR($E134*SUMIF('Daily Log'!#REF!,$B134,'Daily Log'!#REF!),0)","v":0},{"$f":"IFERROR($E134*SUMIF('Daily Log'!#REF!,$B134,'Daily Log'!#REF!),0)","v":0},{"$f":"IFERROR($E134*SUMIF('Daily Log'!#REF!,$B134,'Daily Log'!#REF!),0)","v":0},{"$f":"IFERROR($E134*SUMIF('Daily Log'!#REF!,$B134,'Daily Log'!#REF!),0)","v":0},{"$f":"IFERROR($E134*SUMIF('Daily Log'!#REF!,$B134,'Daily Log'!#REF!),0)","v":0},{"$f":"IFERROR($E134*SUMIF('Daily Log'!#REF!,$B134,'Daily Log'!#REF!),0)","v":0},{"$f":"IFERROR($E134*SUMIF('Daily Log'!#REF!,$B134,'Daily Log'!#REF!),0)","v":0},{"$f":"IFERROR($E134*SUMIF('Daily Log'!#REF!,$B134,'Daily Log'!#REF!),0)","v":0},{"$f":"IFERROR($E134*SUMIF('Daily Log'!#REF!,$B134,'Daily Log'!#REF!),0)","v":0},{"$f":"IFERROR($E134*SUMIF('Daily Log'!#REF!,$B134,'Daily Log'!#REF!),0)","v":0},{"$f":"IFERROR($E134*SUMIF('Daily Log'!#REF!,$B134,'Daily Log'!#REF!),0)","v":0},{"$f":"IFERROR($E134*SUMIF('Daily Log'!#REF!,$B134,'Daily Log'!#REF!),0)","v":0},{"$f":"IFERROR($E134*SUMIF('Daily Log'!#REF!,$B134,'Daily Log'!#REF!),0)","v":0},{"$f":"IFERROR($E134*SUMIF('Daily Log'!#REF!,$B134,'Daily Log'!#REF!),0)","v":0},{"$f":"IFERROR($E134*SUMIF('Daily Log'!#REF!,$B134,'Daily Log'!#REF!),0)","v":0},{"$f":"IFERROR($E134*SUMIF('Daily Log'!#REF!,$B134,'Daily Log'!#REF!),0)","v":0},{"$f":"IFERROR($E134*SUMIF('Daily Log'!#REF!,$B134,'Daily Log'!#REF!),0)","v":0},{"$f":"IFERROR($E134*SUMIF('Daily Log'!#REF!,$B134,'Daily Log'!#REF!),0)","v":0},{"$f":"IFERROR($E134*SUMIF('Daily Log'!#REF!,$B134,'Daily Log'!#REF!),0)","v":0},{"$f":"IFERROR($E134*SUMIF('Daily Log'!#REF!,$B134,'Daily Log'!#REF!),0)","v":0},{"$f":"IFERROR($E134*SUMIF('Daily Log'!#REF!,$B134,'Daily Log'!#REF!),0)","v":0}]
[null,"DB02 1002:GVY CHK CP",null,"SIDE ORDER- WESTERN CRUISE ",1,1,{"$f":"IFERROR($E135*SUMIF('Daily Log'!$B$18:$B$1017,$B135,'Daily Log'!$C$18:$C$1017),0)","v":0},{"$f":"IFERROR($E135*SUMIF('Daily Log'!$E$18:$E$1017,$B135,'Daily Log'!$F$18:$F$1017),0)","v":0},{"$f":"IFERROR($E135*SUMIF('Daily Log'!$H$18:$H$1017,$B135,'Daily Log'!$I$18:$I$1017),0)","v":1},{"$f":"IFERROR($E135*SUMIF('Daily Log'!$K$18:$K$1017,$B135,'Daily Log'!$L$18:$L$1017),0)","v":0},{"$f":"IFERROR($E135*SUMIF('Daily Log'!$N$18:$N$1017,$B135,'Daily Log'!$O$18:$O$1017),0)","v":0},{"$f":"IFERROR($E135*SUMIF('Daily Log'!#REF!,$B135,'Daily Log'!#REF!),0)","v":0},{"$f":"IFERROR($E135*SUMIF('Daily Log'!#REF!,$B135,'Daily Log'!#REF!),0)","v":0},{"$f":"IFERROR($E135*SUMIF('Daily Log'!#REF!,$B135,'Daily Log'!#REF!),0)","v":0},{"$f":"IFERROR($E135*SUMIF('Daily Log'!#REF!,$B135,'Daily Log'!#REF!),0)","v":0},{"$f":"IFERROR($E135*SUMIF('Daily Log'!#REF!,$B135,'Daily Log'!#REF!),0)","v":0},{"$f":"IFERROR($E135*SUMIF('Daily Log'!#REF!,$B135,'Daily Log'!#REF!),0)","v":0},{"$f":"IFERROR($E135*SUMIF('Daily Log'!#REF!,$B135,'Daily Log'!#REF!),0)","v":0},{"$f":"IFERROR($E135*SUMIF('Daily Log'!#REF!,$B135,'Daily Log'!#REF!),0)","v":0},{"$f":"IFERROR($E135*SUMIF('Daily Log'!#REF!,$B135,'Daily Log'!#REF!),0)","v":0},{"$f":"IFERROR($E135*SUMIF('Daily Log'!#REF!,$B135,'Daily Log'!#REF!),0)","v":0},{"$f":"IFERROR($E135*SUMIF('Daily Log'!#REF!,$B135,'Daily Log'!#REF!),0)","v":0},{"$f":"IFERROR($E135*SUMIF('Daily Log'!#REF!,$B135,'Daily Log'!#REF!),0)","v":0},{"$f":"IFERROR($E135*SUMIF('Daily Log'!#REF!,$B135,'Daily Log'!#REF!),0)","v":0},{"$f":"IFERROR($E135*SUMIF('Daily Log'!#REF!,$B135,'Daily Log'!#REF!),0)","v":0},{"$f":"IFERROR($E135*SUMIF('Daily Log'!#REF!,$B135,'Daily Log'!#REF!),0)","v":0},{"$f":"IFERROR($E135*SUMIF('Daily Log'!#REF!,$B135,'Daily Log'!#REF!),0)","v":0},{"$f":"IFERROR($E135*SUMIF('Daily Log'!#REF!,$B135,'Daily Log'!#REF!),0)","v":0},{"$f":"IFERROR($E135*SUMIF('Daily Log'!#REF!,$B135,'Daily Log'!#REF!),0)","v":0},{"$f":"IFERROR($E135*SUMIF('Daily Log'!#REF!,$B135,'Daily Log'!#REF!),0)","v":0},{"$f":"IFERROR($E135*SUMIF('Daily Log'!#REF!,$B135,'Daily Log'!#REF!),0)","v":0},{"$f":"IFERROR($E135*SUMIF('Daily Log'!#REF!,$B135,'Daily Log'!#REF!),0)","v":0},{"$f":"IFERROR($E135*SUMIF('Daily Log'!#REF!,$B135,'Daily Log'!#REF!),0)","v":0},{"$f":"IFERROR($E135*SUMIF('Daily Log'!#REF!,$B135,'Daily Log'!#REF!),0)","v":0},{"$f":"IFERROR($E135*SUMIF('Daily Log'!#REF!,$B135,'Daily Log'!#REF!),0)","v":0},{"$f":"IFERROR($E135*SUMIF('Daily Log'!#REF!,$B135,'Daily Log'!#REF!),0)","v":0},{"$f":"IFERROR($E135*SUMIF('Daily Log'!#REF!,$B135,'Daily Log'!#REF!),0)","v":0}]
[null,"DB03 1003:MSR CKN CP",null,"SIDE ORDER- WESTERN CRUISE ",1,11,{"$f":"IFERROR($E136*SUMIF('Daily Log'!$B$18:$B$1017,$B136,'Daily Log'!$C$18:$C$1017),0)","v":1},{"$f":"IFERROR($E136*SUMIF('Daily Log'!$E$18:$E$1017,$B136,'Daily Log'!$F$18:$F$1017),0)","v":0},{"$f":"IFERROR($E136*SUMIF('Daily Log'!$H$18:$H$1017,$B136,'Daily Log'!$I$18:$I$1017),0)","v":4},{"$f":"IFERROR($E136*SUMIF('Daily Log'!$K$18:$K$1017,$B136,'Daily Log'!$L$18:$L$1017),0)","v":4},{"$f":"IFERROR($E136*SUMIF('Daily Log'!$N$18:$N$1017,$B136,'Daily Log'!$O$18:$O$1017),0)","v":2},{"$f":"IFERROR($E136*SUMIF('Daily Log'!#REF!,$B136,'Daily Log'!#REF!),0)","v":0},{"$f":"IFERROR($E136*SUMIF('Daily Log'!#REF!,$B136,'Daily Log'!#REF!),0)","v":0},{"$f":"IFERROR($E136*SUMIF('Daily Log'!#REF!,$B136,'Daily Log'!#REF!),0)","v":0},{"$f":"IFERROR($E136*SUMIF('Daily Log'!#REF!,$B136,'Daily Log'!#REF!),0)","v":0},{"$f":"IFERROR($E136*SUMIF('Daily Log'!#REF!,$B136,'Daily Log'!#REF!),0)","v":0},{"$f":"IFERROR($E136*SUMIF('Daily Log'!#REF!,$B136,'Daily Log'!#REF!),0)","v":0},{"$f":"IFERROR($E136*SUMIF('Daily Log'!#REF!,$B136,'Daily Log'!#REF!),0)","v":0},{"$f":"IFERROR($E136*SUMIF('Daily Log'!#REF!,$B136,'Daily Log'!#REF!),0)","v":0},{"$f":"IFERROR($E136*SUMIF('Daily Log'!#REF!,$B136,'Daily Log'!#REF!),0)","v":0},{"$f":"IFERROR($E136*SUMIF('Daily Log'!#REF!,$B136,'Daily Log'!#REF!),0)","v":0},{"$f":"IFERROR($E136*SUMIF('Daily Log'!#REF!,$B136,'Daily Log'!#REF!),0)","v":0},{"$f":"IFERROR($E136*SUMIF('Daily Log'!#REF!,$B136,'Daily Log'!#REF!),0)","v":0},{"$f":"IFERROR($E136*SUMIF('Daily Log'!#REF!,$B136,'Daily Log'!#REF!),0)","v":0},{"$f":"IFERROR($E136*SUMIF('Daily Log'!#REF!,$B136,'Daily Log'!#REF!),0)","v":0},{"$f":"IFERROR($E136*SUMIF('Daily Log'!#REF!,$B136,'Daily Log'!#REF!),0)","v":0},{"$f":"IFERROR($E136*SUMIF('Daily Log'!#REF!,$B136,'Daily Log'!#REF!),0)","v":0},{"$f":"IFERROR($E136*SUMIF('Daily Log'!#REF!,$B136,'Daily Log'!#REF!),0)","v":0},{"$f":"IFERROR($E136*SUMIF('Daily Log'!#REF!,$B136,'Daily Log'!#REF!),0)","v":0},{"$f":"IFERROR($E136*SUMIF('Daily Log'!#REF!,$B136,'Daily Log'!#REF!),0)","v":0},{"$f":"IFERROR($E136*SUMIF('Daily Log'!#REF!,$B136,'Daily Log'!#REF!),0)","v":0},{"$f":"IFERROR($E136*SUMIF('Daily Log'!#REF!,$B136,'Daily Log'!#REF!),0)","v":0},{"$f":"IFERROR($E136*SUMIF('Daily Log'!#REF!,$B136,'Daily Log'!#REF!),0)","v":0},{"$f":"IFERROR($E136*SUMIF('Daily Log'!#REF!,$B136,'Daily Log'!#REF!),0)","v":0},{"$f":"IFERROR($E136*SUMIF('Daily Log'!#REF!,$B136,'Daily Log'!#REF!),0)","v":0},{"$f":"IFERROR($E136*SUMIF('Daily Log'!#REF!,$B136,'Daily Log'!#REF!),0)","v":0},{"$f":"IFERROR($E136*SUMIF('Daily Log'!#REF!,$B136,'Daily Log'!#REF!),0)","v":0}]
[null,"DB04 1004:CKN MARY",null,"SIDE ORDER- WESTERN CRUISE ",1,10,{"$f":"IFERROR($E137*SUMIF('Daily Log'!$B$18:$B$1017,$B137,'Daily Log'!$C$18:$C$1017),0)","v":2},{"$f":"IFERROR($E137*SUMIF('Daily Log'!$E$18:$E$1017,$B137,'Daily Log'!$F$18:$F$1017),0)","v":0},{"$f":"IFERROR($E137*SUMIF('Daily Log'!$H$18:$H$1017,$B137,'Daily Log'!$I$18:$I$1017),0)","v":0},{"$f":"IFERROR($E137*SUMIF('Daily Log'!$K$18:$K$1017,$B137,'Daily Log'!$L$18:$L$1017),0)","v":7},{"$f":"IFERROR($E137*SUMIF('Daily Log'!$N$18:$N$1017,$B137,'Daily Log'!$O$18:$O$1017),0)","v":1},{"$f":"IFERROR($E137*SUMIF('Daily Log'!#REF!,$B137,'Daily Log'!#REF!),0)","v":0},{"$f":"IFERROR($E137*SUMIF('Daily Log'!#REF!,$B137,'Daily Log'!#REF!),0)","v":0},{"$f":"IFERROR($E137*SUMIF('Daily Log'!#REF!,$B137,'Daily Log'!#REF!),0)","v":0},{"$f":"IFERROR($E137*SUMIF('Daily Log'!#REF!,$B137,'Daily Log'!#REF!),0)","v":0},{"$f":"IFERROR($E137*SUMIF('Daily Log'!#REF!,$B137,'Daily Log'!#REF!),0)","v":0},{"$f":"IFERROR($E137*SUMIF('Daily Log'!#REF!,$B137,'Daily Log'!#REF!),0)","v":0},{"$f":"IFERROR($E137*SUMIF('Daily Log'!#REF!,$B137,'Daily Log'!#REF!),0)","v":0},{"$f":"IFERROR($E137*SUMIF('Daily Log'!#REF!,$B137,'Daily Log'!#REF!),0)","v":0},{"$f":"IFERROR($E137*SUMIF('Daily Log'!#REF!,$B137,'Daily Log'!#REF!),0)","v":0},{"$f":"IFERROR($E137*SUMIF('Daily Log'!#REF!,$B137,'Daily Log'!#REF!),0)","v":0},{"$f":"IFERROR($E137*SUMIF('Daily Log'!#REF!,$B137,'Daily Log'!#REF!),0)","v":0},{"$f":"IFERROR($E137*SUMIF('Daily Log'!#REF!,$B137,'Daily Log'!#REF!),0)","v":0},{"$f":"IFERROR($E137*SUMIF('Daily Log'!#REF!,$B137,'Daily Log'!#REF!),0)","v":0},{"$f":"IFERROR($E137*SUMIF('Daily Log'!#REF!,$B137,'Daily Log'!#REF!),0)","v":0},{"$f":"IFERROR($E137*SUMIF('Daily Log'!#REF!,$B137,'Daily Log'!#REF!),0)","v":0},{"$f":"IFERROR($E137*SUMIF('Daily Log'!#REF!,$B137,'Daily Log'!#REF!),0)","v":0},{"$f":"IFERROR($E137*SUMIF('Daily Log'!#REF!,$B137,'Daily Log'!#REF!),0)","v":0},{"$f":"IFERROR($E137*SUMIF('Daily Log'!#REF!,$B137,'Daily Log'!#REF!),0)","v":0},{"$f":"IFERROR($E137*SUMIF('Daily Log'!#REF!,$B137,'Daily Log'!#REF!),0)","v":0},{"$f":"IFERROR($E137*SUMIF('Daily Log'!#REF!,$B137,'Daily Log'!#REF!),0)","v":0},{"$f":"IFERROR($E137*SUMIF('Daily Log'!#REF!,$B137,'Daily Log'!#REF!),0)","v":0},{"$f":"IFERROR($E137*SUMIF('Daily Log'!#REF!,$B137,'Daily Log'!#REF!),0)","v":0},{"$f":"IFERROR($E137*SUMIF('Daily Log'!#REF!,$B137,'Daily Log'!#REF!),0)","v":0},{"$f":"IFERROR($E137*SUMIF('Daily Log'!#REF!,$B137,'Daily Log'!#REF!),0)","v":0},{"$f":"IFERROR($E137*SUMIF('Daily Log'!#REF!,$B137,'Daily Log'!#REF!),0)","v":0},{"$f":"IFERROR($E137*SUMIF('Daily Log'!#REF!,$B137,'Daily Log'!#REF!),0)","v":0}]
[null,"DB05 1005:FISH&CHIP",null,"SIDE ORDER- WESTERN CRUISE ",1,8,{"$f":"IFERROR($E138*SUMIF('Daily Log'!$B$18:$B$1017,$B138,'Daily Log'!$C$18:$C$1017),0)","v":2},{"$f":"IFERROR($E138*SUMIF('Daily Log'!$E$18:$E$1017,$B138,'Daily Log'!$F$18:$F$1017),0)","v":0},{"$f":"IFERROR($E138*SUMIF('Daily Log'!$H$18:$H$1017,$B138,'Daily Log'!$I$18:$I$1017),0)","v":2},{"$f":"IFERROR($E138*SUMIF('Daily Log'!$K$18:$K$1017,$B138,'Daily Log'!$L$18:$L$1017),0)","v":3},{"$f":"IFERROR($E138*SUMIF('Daily Log'!$N$18:$N$1017,$B138,'Daily Log'!$O$18:$O$1017),0)","v":1},{"$f":"IFERROR($E138*SUMIF('Daily Log'!#REF!,$B138,'Daily Log'!#REF!),0)","v":0},{"$f":"IFERROR($E138*SUMIF('Daily Log'!#REF!,$B138,'Daily Log'!#REF!),0)","v":0},{"$f":"IFERROR($E138*SUMIF('Daily Log'!#REF!,$B138,'Daily Log'!#REF!),0)","v":0},{"$f":"IFERROR($E138*SUMIF('Daily Log'!#REF!,$B138,'Daily Log'!#REF!),0)","v":0},{"$f":"IFERROR($E138*SUMIF('Daily Log'!#REF!,$B138,'Daily Log'!#REF!),0)","v":0},{"$f":"IFERROR($E138*SUMIF('Daily Log'!#REF!,$B138,'Daily Log'!#REF!),0)","v":0},{"$f":"IFERROR($E138*SUMIF('Daily Log'!#REF!,$B138,'Daily Log'!#REF!),0)","v":0},{"$f":"IFERROR($E138*SUMIF('Daily Log'!#REF!,$B138,'Daily Log'!#REF!),0)","v":0},{"$f":"IFERROR($E138*SUMIF('Daily Log'!#REF!,$B138,'Daily Log'!#REF!),0)","v":0},{"$f":"IFERROR($E138*SUMIF('Daily Log'!#REF!,$B138,'Daily Log'!#REF!),0)","v":0},{"$f":"IFERROR($E138*SUMIF('Daily Log'!#REF!,$B138,'Daily Log'!#REF!),0)","v":0},{"$f":"IFERROR($E138*SUMIF('Daily Log'!#REF!,$B138,'Daily Log'!#REF!),0)","v":0},{"$f":"IFERROR($E138*SUMIF('Daily Log'!#REF!,$B138,'Daily Log'!#REF!),0)","v":0},{"$f":"IFERROR($E138*SUMIF('Daily Log'!#REF!,$B138,'Daily Log'!#REF!),0)","v":0},{"$f":"IFERROR($E138*SUMIF('Daily Log'!#REF!,$B138,'Daily Log'!#REF!),0)","v":0},{"$f":"IFERROR($E138*SUMIF('Daily Log'!#REF!,$B138,'Daily Log'!#REF!),0)","v":0},{"$f":"IFERROR($E138*SUMIF('Daily Log'!#REF!,$B138,'Daily Log'!#REF!),0)","v":0},{"$f":"IFERROR($E138*SUMIF('Daily Log'!#REF!,$B138,'Daily Log'!#REF!),0)","v":0},{"$f":"IFERROR($E138*SUMIF('Daily Log'!#REF!,$B138,'Daily Log'!#REF!),0)","v":0},{"$f":"IFERROR($E138*SUMIF('Daily Log'!#REF!,$B138,'Daily Log'!#REF!),0)","v":0},{"$f":"IFERROR($E138*SUMIF('Daily Log'!#REF!,$B138,'Daily Log'!#REF!),0)","v":0},{"$f":"IFERROR($E138*SUMIF('Daily Log'!#REF!,$B138,'Daily Log'!#REF!),0)","v":0},{"$f":"IFERROR($E138*SUMIF('Daily Log'!#REF!,$B138,'Daily Log'!#REF!),0)","v":0},{"$f":"IFERROR($E138*SUMIF('Daily Log'!#REF!,$B138,'Daily Log'!#REF!),0)","v":0},{"$f":"IFERROR($E138*SUMIF('Daily Log'!#REF!,$B138,'Daily Log'!#REF!),0)","v":0},{"$f":"IFERROR($E138*SUMIF('Daily Log'!#REF!,$B138,'Daily Log'!#REF!),0)","v":0}]
[null,"DB06 1006:SPAGHETTI",null,"SIDE ORDER- WESTERN CRUISE ",1,5,{"$f":"IFERROR($E139*SUMIF('Daily Log'!$B$18:$B$1017,$B139,'Daily Log'!$C$18:$C$1017),0)","v":0},{"$f":"IFERROR($E139*SUMIF('Daily Log'!$E$18:$E$1017,$B139,'Daily Log'!$F$18:$F$1017),0)","v":1},{"$f":"IFERROR($E139*SUMIF('Daily Log'!$H$18:$H$1017,$B139,'Daily Log'!$I$18:$I$1017),0)","v":1},{"$f":"IFERROR($E139*SUMIF('Daily Log'!$K$18:$K$1017,$B139,'Daily Log'!$L$18:$L$1017),0)","v":1},{"$f":"IFERROR($E139*SUMIF('Daily Log'!$N$18:$N$1017,$B139,'Daily Log'!$O$18:$O$1017),0)","v":2},{"$f":"IFERROR($E139*SUMIF('Daily Log'!#REF!,$B139,'Daily Log'!#REF!),0)","v":0},{"$f":"IFERROR($E139*SUMIF('Daily Log'!#REF!,$B139,'Daily Log'!#REF!),0)","v":0},{"$f":"IFERROR($E139*SUMIF('Daily Log'!#REF!,$B139,'Daily Log'!#REF!),0)","v":0},{"$f":"IFERROR($E139*SUMIF('Daily Log'!#REF!,$B139,'Daily Log'!#REF!),0)","v":0},{"$f":"IFERROR($E139*SUMIF('Daily Log'!#REF!,$B139,'Daily Log'!#REF!),0)","v":0},{"$f":"IFERROR($E139*SUMIF('Daily Log'!#REF!,$B139,'Daily Log'!#REF!),0)","v":0},{"$f":"IFERROR($E139*SUMIF('Daily Log'!#REF!,$B139,'Daily Log'!#REF!),0)","v":0},{"$f":"IFERROR($E139*SUMIF('Daily Log'!#REF!,$B139,'Daily Log'!#REF!),0)","v":0},{"$f":"IFERROR($E139*SUMIF('Daily Log'!#REF!,$B139,'Daily Log'!#REF!),0)","v":0},{"$f":"IFERROR($E139*SUMIF('Daily Log'!#REF!,$B139,'Daily Log'!#REF!),0)","v":0},{"$f":"IFERROR($E139*SUMIF('Daily Log'!#REF!,$B139,'Daily Log'!#REF!),0)","v":0},{"$f":"IFERROR($E139*SUMIF('Daily Log'!#REF!,$B139,'Daily Log'!#REF!),0)","v":0},{"$f":"IFERROR($E139*SUMIF('Daily Log'!#REF!,$B139,'Daily Log'!#REF!),0)","v":0},{"$f":"IFERROR($E139*SUMIF('Daily Log'!#REF!,$B139,'Daily Log'!#REF!),0)","v":0},{"$f":"IFERROR($E139*SUMIF('Daily Log'!#REF!,$B139,'Daily Log'!#REF!),0)","v":0},{"$f":"IFERROR($E139*SUMIF('Daily Log'!#REF!,$B139,'Daily Log'!#REF!),0)","v":0},{"$f":"IFERROR($E139*SUMIF('Daily Log'!#REF!,$B139,'Daily Log'!#REF!),0)","v":0},{"$f":"IFERROR($E139*SUMIF('Daily Log'!#REF!,$B139,'Daily Log'!#REF!),0)","v":0},{"$f":"IFERROR($E139*SUMIF('Daily Log'!#REF!,$B139,'Daily Log'!#REF!),0)","v":0},{"$f":"IFERROR($E139*SUMIF('Daily Log'!#REF!,$B139,'Daily Log'!#REF!),0)","v":0},{"$f":"IFERROR($E139*SUMIF('Daily Log'!#REF!,$B139,'Daily Log'!#REF!),0)","v":0},{"$f":"IFERROR($E139*SUMIF('Daily Log'!#REF!,$B139,'Daily Log'!#REF!),0)","v":0},{"$f":"IFERROR($E139*SUMIF('Daily Log'!#REF!,$B139,'Daily Log'!#REF!),0)","v":0},{"$f":"IFERROR($E139*SUMIF('Daily Log'!#REF!,$B139,'Daily Log'!#REF!),0)","v":0},{"$f":"IFERROR($E139*SUMIF('Daily Log'!#REF!,$B139,'Daily Log'!#REF!),0)","v":0},{"$f":"IFERROR($E139*SUMIF('Daily Log'!#REF!,$B139,'Daily Log'!#REF!),0)","v":0}]
[null,"DB07 1007:CHK SALAD",null,"SIDE ORDER- WESTERN CRUISE ",1,4,{"$f":"IFERROR($E140*SUMIF('Daily Log'!$B$18:$B$1017,$B140,'Daily Log'!$C$18:$C$1017),0)","v":1},{"$f":"IFERROR($E140*SUMIF('Daily Log'!$E$18:$E$1017,$B140,'Daily Log'!$F$18:$F$1017),0)","v":0},{"$f":"IFERROR($E140*SUMIF('Daily Log'!$H$18:$H$1017,$B140,'Daily Log'!$I$18:$I$1017),0)","v":1},{"$f":"IFERROR($E140*SUMIF('Daily Log'!$K$18:$K$1017,$B140,'Daily Log'!$L$18:$L$1017),0)","v":1},{"$f":"IFERROR($E140*SUMIF('Daily Log'!$N$18:$N$1017,$B140,'Daily Log'!$O$18:$O$1017),0)","v":1},{"$f":"IFERROR($E140*SUMIF('Daily Log'!#REF!,$B140,'Daily Log'!#REF!),0)","v":0},{"$f":"IFERROR($E140*SUMIF('Daily Log'!#REF!,$B140,'Daily Log'!#REF!),0)","v":0},{"$f":"IFERROR($E140*SUMIF('Daily Log'!#REF!,$B140,'Daily Log'!#REF!),0)","v":0},{"$f":"IFERROR($E140*SUMIF('Daily Log'!#REF!,$B140,'Daily Log'!#REF!),0)","v":0},{"$f":"IFERROR($E140*SUMIF('Daily Log'!#REF!,$B140,'Daily Log'!#REF!),0)","v":0},{"$f":"IFERROR($E140*SUMIF('Daily Log'!#REF!,$B140,'Daily Log'!#REF!),0)","v":0},{"$f":"IFERROR($E140*SUMIF('Daily Log'!#REF!,$B140,'Daily Log'!#REF!),0)","v":0},{"$f":"IFERROR($E140*SUMIF('Daily Log'!#REF!,$B140,'Daily Log'!#REF!),0)","v":0},{"$f":"IFERROR($E140*SUMIF('Daily Log'!#REF!,$B140,'Daily Log'!#REF!),0)","v":0},{"$f":"IFERROR($E140*SUMIF('Daily Log'!#REF!,$B140,'Daily Log'!#REF!),0)","v":0},{"$f":"IFERROR($E140*SUMIF('Daily Log'!#REF!,$B140,'Daily Log'!#REF!),0)","v":0},{"$f":"IFERROR($E140*SUMIF('Daily Log'!#REF!,$B140,'Daily Log'!#REF!),0)","v":0},{"$f":"IFERROR($E140*SUMIF('Daily Log'!#REF!,$B140,'Daily Log'!#REF!),0)","v":0},{"$f":"IFERROR($E140*SUMIF('Daily Log'!#REF!,$B140,'Daily Log'!#REF!),0)","v":0},{"$f":"IFERROR($E140*SUMIF('Daily Log'!#REF!,$B140,'Daily Log'!#REF!),0)","v":0},{"$f":"IFERROR($E140*SUMIF('Daily Log'!#REF!,$B140,'Daily Log'!#REF!),0)","v":0},{"$f":"IFERROR($E140*SUMIF('Daily Log'!#REF!,$B140,'Daily Log'!#REF!),0)","v":0},{"$f":"IFERROR($E140*SUMIF('Daily Log'!#REF!,$B140,'Daily Log'!#REF!),0)","v":0},{"$f":"IFERROR($E140*SUMIF('Daily Log'!#REF!,$B140,'Daily Log'!#REF!),0)","v":0},{"$f":"IFERROR($E140*SUMIF('Daily Log'!#REF!,$B140,'Daily Log'!#REF!),0)","v":0},{"$f":"IFERROR($E140*SUMIF('Daily Log'!#REF!,$B140,'Daily Log'!#REF!),0)","v":0},{"$f":"IFERROR($E140*SUMIF('Daily Log'!#REF!,$B140,'Daily Log'!#REF!),0)","v":0},{"$f":"IFERROR($E140*SUMIF('Daily Log'!#REF!,$B140,'Daily Log'!#REF!),0)","v":0},{"$f":"IFERROR($E140*SUMIF('Daily Log'!#REF!,$B140,'Daily Log'!#REF!),0)","v":0},{"$f":"IFERROR($E140*SUMIF('Daily Log'!#REF!,$B140,'Daily Log'!#REF!),0)","v":0},{"$f":"IFERROR($E140*SUMIF('Daily Log'!#REF!,$B140,'Daily Log'!#REF!),0)","v":0}]
[null,"DC01 1101:THAI CHK",null,"SIDE ORDER- LOCAL DELIGHTS",1,8,{"$f":"IFERROR($E141*SUMIF('Daily Log'!$B$18:$B$1017,$B141,'Daily Log'!$C$18:$C$1017),0)","v":4},{"$f":"IFERROR($E141*SUMIF('Daily Log'!$E$18:$E$1017,$B141,'Daily Log'!$F$18:$F$1017),0)","v":2},{"$f":"IFERROR($E141*SUMIF('Daily Log'!$H$18:$H$1017,$B141,'Daily Log'!$I$18:$I$1017),0)","v":1},{"$f":"IFERROR($E141*SUMIF('Daily Log'!$K$18:$K$1017,$B141,'Daily Log'!$L$18:$L$1017),0)","v":1},{"$f":"IFERROR($E141*SUMIF('Daily Log'!$N$18:$N$1017,$B141,'Daily Log'!$O$18:$O$1017),0)","v":0},{"$f":"IFERROR($E141*SUMIF('Daily Log'!#REF!,$B141,'Daily Log'!#REF!),0)","v":0},{"$f":"IFERROR($E141*SUMIF('Daily Log'!#REF!,$B141,'Daily Log'!#REF!),0)","v":0},{"$f":"IFERROR($E141*SUMIF('Daily Log'!#REF!,$B141,'Daily Log'!#REF!),0)","v":0},{"$f":"IFERROR($E141*SUMIF('Daily Log'!#REF!,$B141,'Daily Log'!#REF!),0)","v":0},{"$f":"IFERROR($E141*SUMIF('Daily Log'!#REF!,$B141,'Daily Log'!#REF!),0)","v":0},{"$f":"IFERROR($E141*SUMIF('Daily Log'!#REF!,$B141,'Daily Log'!#REF!),0)","v":0},{"$f":"IFERROR($E141*SUMIF('Daily Log'!#REF!,$B141,'Daily Log'!#REF!),0)","v":0},{"$f":"IFERROR($E141*SUMIF('Daily Log'!#REF!,$B141,'Daily Log'!#REF!),0)","v":0},{"$f":"IFERROR($E141*SUMIF('Daily Log'!#REF!,$B141,'Daily Log'!#REF!),0)","v":0},{"$f":"IFERROR($E141*SUMIF('Daily Log'!#REF!,$B141,'Daily Log'!#REF!),0)","v":0},{"$f":"IFERROR($E141*SUMIF('Daily Log'!#REF!,$B141,'Daily Log'!#REF!),0)","v":0},{"$f":"IFERROR($E141*SUMIF('Daily Log'!#REF!,$B141,'Daily Log'!#REF!),0)","v":0},{"$f":"IFERROR($E141*SUMIF('Daily Log'!#REF!,$B141,'Daily Log'!#REF!),0)","v":0},{"$f":"IFERROR($E141*SUMIF('Daily Log'!#REF!,$B141,'Daily Log'!#REF!),0)","v":0},{"$f":"IFERROR($E141*SUMIF('Daily Log'!#REF!,$B141,'Daily Log'!#REF!),0)","v":0},{"$f":"IFERROR($E141*SUMIF('Daily Log'!#REF!,$B141,'Daily Log'!#REF!),0)","v":0},{"$f":"IFERROR($E141*SUMIF('Daily Log'!#REF!,$B141,'Daily Log'!#REF!),0)","v":0},{"$f":"IFERROR($E141*SUMIF('Daily Log'!#REF!,$B141,'Daily Log'!#REF!),0)","v":0},{"$f":"IFERROR($E141*SUMIF('Daily Log'!#REF!,$B141,'Daily Log'!#REF!),0)","v":0},{"$f":"IFERROR($E141*SUMIF('Daily Log'!#REF!,$B141,'Daily Log'!#REF!),0)","v":0},{"$f":"IFERROR($E141*SUMIF('Daily Log'!#REF!,$B141,'Daily Log'!#REF!),0)","v":0},{"$f":"IFERROR($E141*SUMIF('Daily Log'!#REF!,$B141,'Daily Log'!#REF!),0)","v":0},{"$f":"IFERROR($E141*SUMIF('Daily Log'!#REF!,$B141,'Daily Log'!#REF!),0)","v":0},{"$f":"IFERROR($E141*SUMIF('Daily Log'!#REF!,$B141,'Daily Log'!#REF!),0)","v":0},{"$f":"IFERROR($E141*SUMIF('Daily Log'!#REF!,$B141,'Daily Log'!#REF!),0)","v":0},{"$f":"IFERROR($E141*SUMIF('Daily Log'!#REF!,$B141,'Daily Log'!#REF!),0)","v":0}]
[null,"DC02 1102:MAMITE CHK",null,"SIDE ORDER- LOCAL DELIGHTS",1,16,{"$f":"IFERROR($E142*SUMIF('Daily Log'!$B$18:$B$1017,$B142,'Daily Log'!$C$18:$C$1017),0)","v":6},{"$f":"IFERROR($E142*SUMIF('Daily Log'!$E$18:$E$1017,$B142,'Daily Log'!$F$18:$F$1017),0)","v":1},{"$f":"IFERROR($E142*SUMIF('Daily Log'!$H$18:$H$1017,$B142,'Daily Log'!$I$18:$I$1017),0)","v":3},{"$f":"IFERROR($E142*SUMIF('Daily Log'!$K$18:$K$1017,$B142,'Daily Log'!$L$18:$L$1017),0)","v":3},{"$f":"IFERROR($E142*SUMIF('Daily Log'!$N$18:$N$1017,$B142,'Daily Log'!$O$18:$O$1017),0)","v":3},{"$f":"IFERROR($E142*SUMIF('Daily Log'!#REF!,$B142,'Daily Log'!#REF!),0)","v":0},{"$f":"IFERROR($E142*SUMIF('Daily Log'!#REF!,$B142,'Daily Log'!#REF!),0)","v":0},{"$f":"IFERROR($E142*SUMIF('Daily Log'!#REF!,$B142,'Daily Log'!#REF!),0)","v":0},{"$f":"IFERROR($E142*SUMIF('Daily Log'!#REF!,$B142,'Daily Log'!#REF!),0)","v":0},{"$f":"IFERROR($E142*SUMIF('Daily Log'!#REF!,$B142,'Daily Log'!#REF!),0)","v":0},{"$f":"IFERROR($E142*SUMIF('Daily Log'!#REF!,$B142,'Daily Log'!#REF!),0)","v":0},{"$f":"IFERROR($E142*SUMIF('Daily Log'!#REF!,$B142,'Daily Log'!#REF!),0)","v":0},{"$f":"IFERROR($E142*SUMIF('Daily Log'!#REF!,$B142,'Daily Log'!#REF!),0)","v":0},{"$f":"IFERROR($E142*SUMIF('Daily Log'!#REF!,$B142,'Daily Log'!#REF!),0)","v":0},{"$f":"IFERROR($E142*SUMIF('Daily Log'!#REF!,$B142,'Daily Log'!#REF!),0)","v":0},{"$f":"IFERROR($E142*SUMIF('Daily Log'!#REF!,$B142,'Daily Log'!#REF!),0)","v":0},{"$f":"IFERROR($E142*SUMIF('Daily Log'!#REF!,$B142,'Daily Log'!#REF!),0)","v":0},{"$f":"IFERROR($E142*SUMIF('Daily Log'!#REF!,$B142,'Daily Log'!#REF!),0)","v":0},{"$f":"IFERROR($E142*SUMIF('Daily Log'!#REF!,$B142,'Daily Log'!#REF!),0)","v":0},{"$f":"IFERROR($E142*SUMIF('Daily Log'!#REF!,$B142,'Daily Log'!#REF!),0)","v":0},{"$f":"IFERROR($E142*SUMIF('Daily Log'!#REF!,$B142,'Daily Log'!#REF!),0)","v":0},{"$f":"IFERROR($E142*SUMIF('Daily Log'!#REF!,$B142,'Daily Log'!#REF!),0)","v":0},{"$f":"IFERROR($E142*SUMIF('Daily Log'!#REF!,$B142,'Daily Log'!#REF!),0)","v":0},{"$f":"IFERROR($E142*SUMIF('Daily Log'!#REF!,$B142,'Daily Log'!#REF!),0)","v":0},{"$f":"IFERROR($E142*SUMIF('Daily Log'!#REF!,$B142,'Daily Log'!#REF!),0)","v":0},{"$f":"IFERROR($E142*SUMIF('Daily Log'!#REF!,$B142,'Daily Log'!#REF!),0)","v":0},{"$f":"IFERROR($E142*SUMIF('Daily Log'!#REF!,$B142,'Daily Log'!#REF!),0)","v":0},{"$f":"IFERROR($E142*SUMIF('Daily Log'!#REF!,$B142,'Daily Log'!#REF!),0)","v":0},{"$f":"IFERROR($E142*SUMIF('Daily Log'!#REF!,$B142,'Daily Log'!#REF!),0)","v":0},{"$f":"IFERROR($E142*SUMIF('Daily Log'!#REF!,$B142,'Daily Log'!#REF!),0)","v":0},{"$f":"IFERROR($E142*SUMIF('Daily Log'!#REF!,$B142,'Daily Log'!#REF!),0)","v":0}]
[null,"DC03 1103:KO PO CHK",null,"SIDE ORDER- LOCAL DELIGHTS",1,0,{"$f":"IFERROR($E143*SUMIF('Daily Log'!$B$18:$B$1017,$B143,'Daily Log'!$C$18:$C$1017),0)","v":0},{"$f":"IFERROR($E143*SUMIF('Daily Log'!$E$18:$E$1017,$B143,'Daily Log'!$F$18:$F$1017),0)","v":0},{"$f":"IFERROR($E143*SUMIF('Daily Log'!$H$18:$H$1017,$B143,'Daily Log'!$I$18:$I$1017),0)","v":0},{"$f":"IFERROR($E143*SUMIF('Daily Log'!$K$18:$K$1017,$B143,'Daily Log'!$L$18:$L$1017),0)","v":0},{"$f":"IFERROR($E143*SUMIF('Daily Log'!$N$18:$N$1017,$B143,'Daily Log'!$O$18:$O$1017),0)","v":0},{"$f":"IFERROR($E143*SUMIF('Daily Log'!#REF!,$B143,'Daily Log'!#REF!),0)","v":0},{"$f":"IFERROR($E143*SUMIF('Daily Log'!#REF!,$B143,'Daily Log'!#REF!),0)","v":0},{"$f":"IFERROR($E143*SUMIF('Daily Log'!#REF!,$B143,'Daily Log'!#REF!),0)","v":0},{"$f":"IFERROR($E143*SUMIF('Daily Log'!#REF!,$B143,'Daily Log'!#REF!),0)","v":0},{"$f":"IFERROR($E143*SUMIF('Daily Log'!#REF!,$B143,'Daily Log'!#REF!),0)","v":0},{"$f":"IFERROR($E143*SUMIF('Daily Log'!#REF!,$B143,'Daily Log'!#REF!),0)","v":0},{"$f":"IFERROR($E143*SUMIF('Daily Log'!#REF!,$B143,'Daily Log'!#REF!),0)","v":0},{"$f":"IFERROR($E143*SUMIF('Daily Log'!#REF!,$B143,'Daily Log'!#REF!),0)","v":0},{"$f":"IFERROR($E143*SUMIF('Daily Log'!#REF!,$B143,'Daily Log'!#REF!),0)","v":0},{"$f":"IFERROR($E143*SUMIF('Daily Log'!#REF!,$B143,'Daily Log'!#REF!),0)","v":0},{"$f":"IFERROR($E143*SUMIF('Daily Log'!#REF!,$B143,'Daily Log'!#REF!),0)","v":0},{"$f":"IFERROR($E143*SUMIF('Daily Log'!#REF!,$B143,'Daily Log'!#REF!),0)","v":0},{"$f":"IFERROR($E143*SUMIF('Daily Log'!#REF!,$B143,'Daily Log'!#REF!),0)","v":0},{"$f":"IFERROR($E143*SUMIF('Daily Log'!#REF!,$B143,'Daily Log'!#REF!),0)","v":0},{"$f":"IFERROR($E143*SUMIF('Daily Log'!#REF!,$B143,'Daily Log'!#REF!),0)","v":0},{"$f":"IFERROR($E143*SUMIF('Daily Log'!#REF!,$B143,'Daily Log'!#REF!),0)","v":0},{"$f":"IFERROR($E143*SUMIF('Daily Log'!#REF!,$B143,'Daily Log'!#REF!),0)","v":0},{"$f":"IFERROR($E143*SUMIF('Daily Log'!#REF!,$B143,'Daily Log'!#REF!),0)","v":0},{"$f":"IFERROR($E143*SUMIF('Daily Log'!#REF!,$B143,'Daily Log'!#REF!),0)","v":0},{"$f":"IFERROR($E143*SUMIF('Daily Log'!#REF!,$B143,'Daily Log'!#REF!),0)","v":0},{"$f":"IFERROR($E143*SUMIF('Daily Log'!#REF!,$B143,'Daily Log'!#REF!),0)","v":0},{"$f":"IFERROR($E143*SUMIF('Daily Log'!#REF!,$B143,'Daily Log'!#REF!),0)","v":0},{"$f":"IFERROR($E143*SUMIF('Daily Log'!#REF!,$B143,'Daily Log'!#REF!),0)","v":0},{"$f":"IFERROR($E143*SUMIF('Daily Log'!#REF!,$B143,'Daily Log'!#REF!),0)","v":0},{"$f":"IFERROR($E143*SUMIF('Daily Log'!#REF!,$B143,'Daily Log'!#REF!),0)","v":0},{"$f":"IFERROR($E143*SUMIF('Daily Log'!#REF!,$B143,'Daily Log'!#REF!),0)","v":0}]
[null,"DC04 1104:S&S CHK",null,"SIDE ORDER- LOCAL DELIGHTS",1,5,{"$f":"IFERROR($E144*SUMIF('Daily Log'!$B$18:$B$1017,$B144,'Daily Log'!$C$18:$C$1017),0)","v":2},{"$f":"IFERROR($E144*SUMIF('Daily Log'!$E$18:$E$1017,$B144,'Daily Log'!$F$18:$F$1017),0)","v":1},{"$f":"IFERROR($E144*SUMIF('Daily Log'!$H$18:$H$1017,$B144,'Daily Log'!$I$18:$I$1017),0)","v":2},{"$f":"IFERROR($E144*SUMIF('Daily Log'!$K$18:$K$1017,$B144,'Daily Log'!$L$18:$L$1017),0)","v":0},{"$f":"IFERROR($E144*SUMIF('Daily Log'!$N$18:$N$1017,$B144,'Daily Log'!$O$18:$O$1017),0)","v":0},{"$f":"IFERROR($E144*SUMIF('Daily Log'!#REF!,$B144,'Daily Log'!#REF!),0)","v":0},{"$f":"IFERROR($E144*SUMIF('Daily Log'!#REF!,$B144,'Daily Log'!#REF!),0)","v":0},{"$f":"IFERROR($E144*SUMIF('Daily Log'!#REF!,$B144,'Daily Log'!#REF!),0)","v":0},{"$f":"IFERROR($E144*SUMIF('Daily Log'!#REF!,$B144,'Daily Log'!#REF!),0)","v":0},{"$f":"IFERROR($E144*SUMIF('Daily Log'!#REF!,$B144,'Daily Log'!#REF!),0)","v":0},{"$f":"IFERROR($E144*SUMIF('Daily Log'!#REF!,$B144,'Daily Log'!#REF!),0)","v":0},{"$f":"IFERROR($E144*SUMIF('Daily Log'!#REF!,$B144,'Daily Log'!#REF!),0)","v":0},{"$f":"IFERROR($E144*SUMIF('Daily Log'!#REF!,$B144,'Daily Log'!#REF!),0)","v":0},{"$f":"IFERROR($E144*SUMIF('Daily Log'!#REF!,$B144,'Daily Log'!#REF!),0)","v":0},{"$f":"IFERROR($E144*SUMIF('Daily Log'!#REF!,$B144,'Daily Log'!#REF!),0)","v":0},{"$f":"IFERROR($E144*SUMIF('Daily Log'!#REF!,$B144,'Daily Log'!#REF!),0)","v":0},{"$f":"IFERROR($E144*SUMIF('Daily Log'!#REF!,$B144,'Daily Log'!#REF!),0)","v":0},{"$f":"IFERROR($E144*SUMIF('Daily Log'!#REF!,$B144,'Daily Log'!#REF!),0)","v":0},{"$f":"IFERROR($E144*SUMIF('Daily Log'!#REF!,$B144,'Daily Log'!#REF!),0)","v":0},{"$f":"IFERROR($E144*SUMIF('Daily Log'!#REF!,$B144,'Daily Log'!#REF!),0)","v":0},{"$f":"IFERROR($E144*SUMIF('Daily Log'!#REF!,$B144,'Daily Log'!#REF!),0)","v":0},{"$f":"IFERROR($E144*SUMIF('Daily Log'!#REF!,$B144,'Daily Log'!#REF!),0)","v":0},{"$f":"IFERROR($E144*SUMIF('Daily Log'!#REF!,$B144,'Daily Log'!#REF!),0)","v":0},{"$f":"IFERROR($E144*SUMIF('Daily Log'!#REF!,$B144,'Daily Log'!#REF!),0)","v":0},{"$f":"IFERROR($E144*SUMIF('Daily Log'!#REF!,$B144,'Daily Log'!#REF!),0)","v":0},{"$f":"IFERROR($E144*SUMIF('Daily Log'!#REF!,$B144,'Daily Log'!#REF!),0)","v":0},{"$f":"IFERROR($E144*SUMIF('Daily Log'!#REF!,$B144,'Daily Log'!#REF!),0)","v":0},{"$f":"IFERROR($E144*SUMIF('Daily Log'!#REF!,$B144,'Daily Log'!#REF!),0)","v":0},{"$f":"IFERROR($E144*SUMIF('Daily Log'!#REF!,$B144,'Daily Log'!#REF!),0)","v":0},{"$f":"IFERROR($E144*SUMIF('Daily Log'!#REF!,$B144,'Daily Log'!#REF!),0)","v":0},{"$f":"IFERROR($E144*SUMIF('Daily Log'!#REF!,$B144,'Daily Log'!#REF!),0)","v":0}]
[null,"DC05 1105:BUTTER CHK",null,"SIDE ORDER- LOCAL DELIGHTS",1,23,{"$f":"IFERROR($E145*SUMIF('Daily Log'!$B$18:$B$1017,$B145,'Daily Log'!$C$18:$C$1017),0)","v":3},{"$f":"IFERROR($E145*SUMIF('Daily Log'!$E$18:$E$1017,$B145,'Daily Log'!$F$18:$F$1017),0)","v":4},{"$f":"IFERROR($E145*SUMIF('Daily Log'!$H$18:$H$1017,$B145,'Daily Log'!$I$18:$I$1017),0)","v":7},{"$f":"IFERROR($E145*SUMIF('Daily Log'!$K$18:$K$1017,$B145,'Daily Log'!$L$18:$L$1017),0)","v":8},{"$f":"IFERROR($E145*SUMIF('Daily Log'!$N$18:$N$1017,$B145,'Daily Log'!$O$18:$O$1017),0)","v":1},{"$f":"IFERROR($E145*SUMIF('Daily Log'!#REF!,$B145,'Daily Log'!#REF!),0)","v":0},{"$f":"IFERROR($E145*SUMIF('Daily Log'!#REF!,$B145,'Daily Log'!#REF!),0)","v":0},{"$f":"IFERROR($E145*SUMIF('Daily Log'!#REF!,$B145,'Daily Log'!#REF!),0)","v":0},{"$f":"IFERROR($E145*SUMIF('Daily Log'!#REF!,$B145,'Daily Log'!#REF!),0)","v":0},{"$f":"IFERROR($E145*SUMIF('Daily Log'!#REF!,$B145,'Daily Log'!#REF!),0)","v":0},{"$f":"IFERROR($E145*SUMIF('Daily Log'!#REF!,$B145,'Daily Log'!#REF!),0)","v":0},{"$f":"IFERROR($E145*SUMIF('Daily Log'!#REF!,$B145,'Daily Log'!#REF!),0)","v":0},{"$f":"IFERROR($E145*SUMIF('Daily Log'!#REF!,$B145,'Daily Log'!#REF!),0)","v":0},{"$f":"IFERROR($E145*SUMIF('Daily Log'!#REF!,$B145,'Daily Log'!#REF!),0)","v":0},{"$f":"IFERROR($E145*SUMIF('Daily Log'!#REF!,$B145,'Daily Log'!#REF!),0)","v":0},{"$f":"IFERROR($E145*SUMIF('Daily Log'!#REF!,$B145,'Daily Log'!#REF!),0)","v":0},{"$f":"IFERROR($E145*SUMIF('Daily Log'!#REF!,$B145,'Daily Log'!#REF!),0)","v":0},{"$f":"IFERROR($E145*SUMIF('Daily Log'!#REF!,$B145,'Daily Log'!#REF!),0)","v":0},{"$f":"IFERROR($E145*SUMIF('Daily Log'!#REF!,$B145,'Daily Log'!#REF!),0)","v":0},{"$f":"IFERROR($E145*SUMIF('Daily Log'!#REF!,$B145,'Daily Log'!#REF!),0)","v":0},{"$f":"IFERROR($E145*SUMIF('Daily Log'!#REF!,$B145,'Daily Log'!#REF!),0)","v":0},{"$f":"IFERROR($E145*SUMIF('Daily Log'!#REF!,$B145,'Daily Log'!#REF!),0)","v":0},{"$f":"IFERROR($E145*SUMIF('Daily Log'!#REF!,$B145,'Daily Log'!#REF!),0)","v":0},{"$f":"IFERROR($E145*SUMIF('Daily Log'!#REF!,$B145,'Daily Log'!#REF!),0)","v":0},{"$f":"IFERROR($E145*SUMIF('Daily Log'!#REF!,$B145,'Daily Log'!#REF!),0)","v":0},{"$f":"IFERROR($E145*SUMIF('Daily Log'!#REF!,$B145,'Daily Log'!#REF!),0)","v":0},{"$f":"IFERROR($E145*SUMIF('Daily Log'!#REF!,$B145,'Daily Log'!#REF!),0)","v":0},{"$f":"IFERROR($E145*SUMIF('Daily Log'!#REF!,$B145,'Daily Log'!#REF!),0)","v":0},{"$f":"IFERROR($E145*SUMIF('Daily Log'!#REF!,$B145,'Daily Log'!#REF!),0)","v":0},{"$f":"IFERROR($E145*SUMIF('Daily Log'!#REF!,$B145,'Daily Log'!#REF!),0)","v":0},{"$f":"IFERROR($E145*SUMIF('Daily Log'!#REF!,$B145,'Daily Log'!#REF!),0)","v":0}]
[null,"DC06 1106:HK F.RICE",null,"SIDE ORDER- LOCAL DELIGHTS",1,13,{"$f":"IFERROR($E146*SUMIF('Daily Log'!$B$18:$B$1017,$B146,'Daily Log'!$C$18:$C$1017),0)","v":5},{"$f":"IFERROR($E146*SUMIF('Daily Log'!$E$18:$E$1017,$B146,'Daily Log'!$F$18:$F$1017),0)","v":1},{"$f":"IFERROR($E146*SUMIF('Daily Log'!$H$18:$H$1017,$B146,'Daily Log'!$I$18:$I$1017),0)","v":5}," ",{"$f":"IFERROR($E146*SUMIF('Daily Log'!$N$18:$N$1017,$B146,'Daily Log'!$O$18:$O$1017),0)","v":2},{"$f":"IFERROR($E146*SUMIF('Daily Log'!#REF!,$B146,'Daily Log'!#REF!),0)","v":0},{"$f":"IFERROR($E146*SUMIF('Daily Log'!#REF!,$B146,'Daily Log'!#REF!),0)","v":0},{"$f":"IFERROR($E146*SUMIF('Daily Log'!#REF!,$B146,'Daily Log'!#REF!),0)","v":0},{"$f":"IFERROR($E146*SUMIF('Daily Log'!#REF!,$B146,'Daily Log'!#REF!),0)","v":0},{"$f":"IFERROR($E146*SUMIF('Daily Log'!#REF!,$B146,'Daily Log'!#REF!),0)","v":0},{"$f":"IFERROR($E146*SUMIF('Daily Log'!#REF!,$B146,'Daily Log'!#REF!),0)","v":0},{"$f":"IFERROR($E146*SUMIF('Daily Log'!#REF!,$B146,'Daily Log'!#REF!),0)","v":0},{"$f":"IFERROR($E146*SUMIF('Daily Log'!#REF!,$B146,'Daily Log'!#REF!),0)","v":0},{"$f":"IFERROR($E146*SUMIF('Daily Log'!#REF!,$B146,'Daily Log'!#REF!),0)","v":0},{"$f":"IFERROR($E146*SUMIF('Daily Log'!#REF!,$B146,'Daily Log'!#REF!),0)","v":0},{"$f":"IFERROR($E146*SUMIF('Daily Log'!#REF!,$B146,'Daily Log'!#REF!),0)","v":0},{"$f":"IFERROR($E146*SUMIF('Daily Log'!#REF!,$B146,'Daily Log'!#REF!),0)","v":0},{"$f":"IFERROR($E146*SUMIF('Daily Log'!#REF!,$B146,'Daily Log'!#REF!),0)","v":0},{"$f":"IFERROR($E146*SUMIF('Daily Log'!#REF!,$B146,'Daily Log'!#REF!),0)","v":0},{"$f":"IFERROR($E146*SUMIF('Daily Log'!#REF!,$B146,'Daily Log'!#REF!),0)","v":0},{"$f":"IFERROR($E146*SUMIF('Daily Log'!#REF!,$B146,'Daily Log'!#REF!),0)","v":0},{"$f":"IFERROR($E146*SUMIF('Daily Log'!#REF!,$B146,'Daily Log'!#REF!),0)","v":0},{"$f":"IFERROR($E146*SUMIF('Daily Log'!#REF!,$B146,'Daily Log'!#REF!),0)","v":0},{"$f":"IFERROR($E146*SUMIF('Daily Log'!#REF!,$B146,'Daily Log'!#REF!),0)","v":0},{"$f":"IFERROR($E146*SUMIF('Daily Log'!#REF!,$B146,'Daily Log'!#REF!),0)","v":0},{"$f":"IFERROR($E146*SUMIF('Daily Log'!#REF!,$B146,'Daily Log'!#REF!),0)","v":0},{"$f":"IFERROR($E146*SUMIF('Daily Log'!#REF!,$B146,'Daily Log'!#REF!),0)","v":0},{"$f":"IFERROR($E146*SUMIF('Daily Log'!#REF!,$B146,'Daily Log'!#REF!),0)","v":0},{"$f":"IFERROR($E146*SUMIF('Daily Log'!#REF!,$B146,'Daily Log'!#REF!),0)","v":0},{"$f":"IFERROR($E146*SUMIF('Daily Log'!#REF!,$B146,'Daily Log'!#REF!),0)","v":0},{"$f":"IFERROR($E146*SUMIF('Daily Log'!#REF!,$B146,'Daily Log'!#REF!),0)","v":0}]
[null,"DC07 1107:SBL F.RICE",null,"SIDE ORDER- LOCAL DELIGHTS",1,2,{"$f":"IFERROR($E147*SUMIF('Daily Log'!$B$18:$B$1017,$B147,'Daily Log'!$C$18:$C$1017),0)","v":1},{"$f":"IFERROR($E147*SUMIF('Daily Log'!$E$18:$E$1017,$B147,'Daily Log'!$F$18:$F$1017),0)","v":0},{"$f":"IFERROR($E147*SUMIF('Daily Log'!$H$18:$H$1017,$B147,'Daily Log'!$I$18:$I$1017),0)","v":0}," ",{"$f":"IFERROR($E147*SUMIF('Daily Log'!$N$18:$N$1017,$B147,'Daily Log'!$O$18:$O$1017),0)","v":1},{"$f":"IFERROR($E147*SUMIF('Daily Log'!#REF!,$B147,'Daily Log'!#REF!),0)","v":0},{"$f":"IFERROR($E147*SUMIF('Daily Log'!#REF!,$B147,'Daily Log'!#REF!),0)","v":0},{"$f":"IFERROR($E147*SUMIF('Daily Log'!#REF!,$B147,'Daily Log'!#REF!),0)","v":0},{"$f":"IFERROR($E147*SUMIF('Daily Log'!#REF!,$B147,'Daily Log'!#REF!),0)","v":0},{"$f":"IFERROR($E147*SUMIF('Daily Log'!#REF!,$B147,'Daily Log'!#REF!),0)","v":0},{"$f":"IFERROR($E147*SUMIF('Daily Log'!#REF!,$B147,'Daily Log'!#REF!),0)","v":0},{"$f":"IFERROR($E147*SUMIF('Daily Log'!#REF!,$B147,'Daily Log'!#REF!),0)","v":0},{"$f":"IFERROR($E147*SUMIF('Daily Log'!#REF!,$B147,'Daily Log'!#REF!),0)","v":0},{"$f":"IFERROR($E147*SUMIF('Daily Log'!#REF!,$B147,'Daily Log'!#REF!),0)","v":0},{"$f":"IFERROR($E147*SUMIF('Daily Log'!#REF!,$B147,'Daily Log'!#REF!),0)","v":0},{"$f":"IFERROR($E147*SUMIF('Daily Log'!#REF!,$B147,'Daily Log'!#REF!),0)","v":0},{"$f":"IFERROR($E147*SUMIF('Daily Log'!#REF!,$B147,'Daily Log'!#REF!),0)","v":0},{"$f":"IFERROR($E147*SUMIF('Daily Log'!#REF!,$B147,'Daily Log'!#REF!),0)","v":0},{"$f":"IFERROR($E147*SUMIF('Daily Log'!#REF!,$B147,'Daily Log'!#REF!),0)","v":0},{"$f":"IFERROR($E147*SUMIF('Daily Log'!#REF!,$B147,'Daily Log'!#REF!),0)","v":0},{"$f":"IFERROR($E147*SUMIF('Daily Log'!#REF!,$B147,'Daily Log'!#REF!),0)","v":0},{"$f":"IFERROR($E147*SUMIF('Daily Log'!#REF!,$B147,'Daily Log'!#REF!),0)","v":0},{"$f":"IFERROR($E147*SUMIF('Daily Log'!#REF!,$B147,'Daily Log'!#REF!),0)","v":0},{"$f":"IFERROR($E147*SUMIF('Daily Log'!#REF!,$B147,'Daily Log'!#REF!),0)","v":0},{"$f":"IFERROR($E147*SUMIF('Daily Log'!#REF!,$B147,'Daily Log'!#REF!),0)","v":0},{"$f":"IFERROR($E147*SUMIF('Daily Log'!#REF!,$B147,'Daily Log'!#REF!),0)","v":0},{"$f":"IFERROR($E147*SUMIF('Daily Log'!#REF!,$B147,'Daily Log'!#REF!),0)","v":0},{"$f":"IFERROR($E147*SUMIF('Daily Log'!#REF!,$B147,'Daily Log'!#REF!),0)","v":0},{"$f":"IFERROR($E147*SUMIF('Daily Log'!#REF!,$B147,'Daily Log'!#REF!),0)","v":0},{"$f":"IFERROR($E147*SUMIF('Daily Log'!#REF!,$B147,'Daily Log'!#REF!),0)","v":0},{"$f":"IFERROR($E147*SUMIF('Daily Log'!#REF!,$B147,'Daily Log'!#REF!),0)","v":0}]
["","DC08 1108:SBL F.MEE",null,"SIDE ORDER- LOCAL DELIGHTS",1,2,{"$f":"IFERROR($E148*SUMIF('Daily Log'!$B$18:$B$1017,$B148,'Daily Log'!$C$18:$C$1017),0)","v":2},{"$f":"IFERROR($E148*SUMIF('Daily Log'!$E$18:$E$1017,$B148,'Daily Log'!$F$18:$F$1017),0)","v":0},{"$f":"IFERROR($E148*SUMIF('Daily Log'!$H$18:$H$1017,$B148,'Daily Log'!$I$18:$I$1017),0)","v":0}," ",{"$f":"IFERROR($E148*SUMIF('Daily Log'!$N$18:$N$1017,$B148,'Daily Log'!$O$18:$O$1017),0)","v":0},{"$f":"IFERROR($E148*SUMIF('Daily Log'!#REF!,$B148,'Daily Log'!#REF!),0)","v":0},{"$f":"IFERROR($E148*SUMIF('Daily Log'!#REF!,$B148,'Daily Log'!#REF!),0)","v":0},{"$f":"IFERROR($E148*SUMIF('Daily Log'!#REF!,$B148,'Daily Log'!#REF!),0)","v":0},{"$f":"IFERROR($E148*SUMIF('Daily Log'!#REF!,$B148,'Daily Log'!#REF!),0)","v":0},{"$f":"IFERROR($E148*SUMIF('Daily Log'!#REF!,$B148,'Daily Log'!#REF!),0)","v":0},{"$f":"IFERROR($E148*SUMIF('Daily Log'!#REF!,$B148,'Daily Log'!#REF!),0)","v":0},{"$f":"IFERROR($E148*SUMIF('Daily Log'!#REF!,$B148,'Daily Log'!#REF!),0)","v":0},{"$f":"IFERROR($E148*SUMIF('Daily Log'!#REF!,$B148,'Daily Log'!#REF!),0)","v":0},{"$f":"IFERROR($E148*SUMIF('Daily Log'!#REF!,$B148,'Daily Log'!#REF!),0)","v":0},{"$f":"IFERROR($E148*SUMIF('Daily Log'!#REF!,$B148,'Daily Log'!#REF!),0)","v":0},{"$f":"IFERROR($E148*SUMIF('Daily Log'!#REF!,$B148,'Daily Log'!#REF!),0)","v":0},{"$f":"IFERROR($E148*SUMIF('Daily Log'!#REF!,$B148,'Daily Log'!#REF!),0)","v":0},{"$f":"IFERROR($E148*SUMIF('Daily Log'!#REF!,$B148,'Daily Log'!#REF!),0)","v":0},{"$f":"IFERROR($E148*SUMIF('Daily Log'!#REF!,$B148,'Daily Log'!#REF!),0)","v":0},{"$f":"IFERROR($E148*SUMIF('Daily Log'!#REF!,$B148,'Daily Log'!#REF!),0)","v":0},{"$f":"IFERROR($E148*SUMIF('Daily Log'!#REF!,$B148,'Daily Log'!#REF!),0)","v":0},{"$f":"IFERROR($E148*SUMIF('Daily Log'!#REF!,$B148,'Daily Log'!#REF!),0)","v":0},{"$f":"IFERROR($E148*SUMIF('Daily Log'!#REF!,$B148,'Daily Log'!#REF!),0)","v":0},{"$f":"IFERROR($E148*SUMIF('Daily Log'!#REF!,$B148,'Daily Log'!#REF!),0)","v":0},{"$f":"IFERROR($E148*SUMIF('Daily Log'!#REF!,$B148,'Daily Log'!#REF!),0)","v":0},{"$f":"IFERROR($E148*SUMIF('Daily Log'!#REF!,$B148,'Daily Log'!#REF!),0)","v":0},{"$f":"IFERROR($E148*SUMIF('Daily Log'!#REF!,$B148,'Daily Log'!#REF!),0)","v":0},{"$f":"IFERROR($E148*SUMIF('Daily Log'!#REF!,$B148,'Daily Log'!#REF!),0)","v":0},{"$f":"IFERROR($E148*SUMIF('Daily Log'!#REF!,$B148,'Daily Log'!#REF!),0)","v":0},{"$f":"IFERROR($E148*SUMIF('Daily Log'!#REF!,$B148,'Daily Log'!#REF!),0)","v":0},{"$f":"IFERROR($E148*SUMIF('Daily Log'!#REF!,$B148,'Daily Log'!#REF!),0)","v":0}]
[null,"DC09 1109:BP UDON",null,"SIDE ORDER- LOCAL DELIGHTS",1,0,{"$f":"IFERROR($E149*SUMIF('Daily Log'!$B$18:$B$1017,$B149,'Daily Log'!$C$18:$C$1017),0)","v":0},{"$f":"IFERROR($E149*SUMIF('Daily Log'!$E$18:$E$1017,$B149,'Daily Log'!$F$18:$F$1017),0)","v":0},{"$f":"IFERROR($E149*SUMIF('Daily Log'!$H$18:$H$1017,$B149,'Daily Log'!$I$18:$I$1017),0)","v":0}," ",{"$f":"IFERROR($E149*SUMIF('Daily Log'!$N$18:$N$1017,$B149,'Daily Log'!$O$18:$O$1017),0)","v":0},{"$f":"IFERROR($E149*SUMIF('Daily Log'!#REF!,$B149,'Daily Log'!#REF!),0)","v":0},{"$f":"IFERROR($E149*SUMIF('Daily Log'!#REF!,$B149,'Daily Log'!#REF!),0)","v":0},{"$f":"IFERROR($E149*SUMIF('Daily Log'!#REF!,$B149,'Daily Log'!#REF!),0)","v":0},{"$f":"IFERROR($E149*SUMIF('Daily Log'!#REF!,$B149,'Daily Log'!#REF!),0)","v":0},{"$f":"IFERROR($E149*SUMIF('Daily Log'!#REF!,$B149,'Daily Log'!#REF!),0)","v":0},{"$f":"IFERROR($E149*SUMIF('Daily Log'!#REF!,$B149,'Daily Log'!#REF!),0)","v":0},{"$f":"IFERROR($E149*SUMIF('Daily Log'!#REF!,$B149,'Daily Log'!#REF!),0)","v":0},{"$f":"IFERROR($E149*SUMIF('Daily Log'!#REF!,$B149,'Daily Log'!#REF!),0)","v":0},{"$f":"IFERROR($E149*SUMIF('Daily Log'!#REF!,$B149,'Daily Log'!#REF!),0)","v":0},{"$f":"IFERROR($E149*SUMIF('Daily Log'!#REF!,$B149,'Daily Log'!#REF!),0)","v":0},{"$f":"IFERROR($E149*SUMIF('Daily Log'!#REF!,$B149,'Daily Log'!#REF!),0)","v":0},{"$f":"IFERROR($E149*SUMIF('Daily Log'!#REF!,$B149,'Daily Log'!#REF!),0)","v":0},{"$f":"IFERROR($E149*SUMIF('Daily Log'!#REF!,$B149,'Daily Log'!#REF!),0)","v":0},{"$f":"IFERROR($E149*SUMIF('Daily Log'!#REF!,$B149,'Daily Log'!#REF!),0)","v":0},{"$f":"IFERROR($E149*SUMIF('Daily Log'!#REF!,$B149,'Daily Log'!#REF!),0)","v":0},{"$f":"IFERROR($E149*SUMIF('Daily Log'!#REF!,$B149,'Daily Log'!#REF!),0)","v":0},{"$f":"IFERROR($E149*SUMIF('Daily Log'!#REF!,$B149,'Daily Log'!#REF!),0)","v":0},{"$f":"IFERROR($E149*SUMIF('Daily Log'!#REF!,$B149,'Daily Log'!#REF!),0)","v":0},{"$f":"IFERROR($E149*SUMIF('Daily Log'!#REF!,$B149,'Daily Log'!#REF!),0)","v":0},{"$f":"IFERROR($E149*SUMIF('Daily Log'!#REF!,$B149,'Daily Log'!#REF!),0)","v":0},{"$f":"IFERROR($E149*SUMIF('Daily Log'!#REF!,$B149,'Daily Log'!#REF!),0)","v":0},{"$f":"IFERROR($E149*SUMIF('Daily Log'!#REF!,$B149,'Daily Log'!#REF!),0)","v":0},{"$f":"IFERROR($E149*SUMIF('Daily Log'!#REF!,$B149,'Daily Log'!#REF!),0)","v":0},{"$f":"IFERROR($E149*SUMIF('Daily Log'!#REF!,$B149,'Daily Log'!#REF!),0)","v":0},{"$f":"IFERROR($E149*SUMIF('Daily Log'!#REF!,$B149,'Daily Log'!#REF!),0)","v":0},{"$f":"IFERROR($E149*SUMIF('Daily Log'!#REF!,$B149,'Daily Log'!#REF!),0)","v":0}]
[null,"DC10 1110:NISSIN",null,"SIDE ORDER- LOCAL DELIGHTS",1,7,{"$f":"IFERROR($E150*SUMIF('Daily Log'!$B$18:$B$1017,$B150,'Daily Log'!$C$18:$C$1017),0)","v":2},{"$f":"IFERROR($E150*SUMIF('Daily Log'!$E$18:$E$1017,$B150,'Daily Log'!$F$18:$F$1017),0)","v":0},{"$f":"IFERROR($E150*SUMIF('Daily Log'!$H$18:$H$1017,$B150,'Daily Log'!$I$18:$I$1017),0)","v":3}," ",{"$f":"IFERROR($E150*SUMIF('Daily Log'!$N$18:$N$1017,$B150,'Daily Log'!$O$18:$O$1017),0)","v":2},{"$f":"IFERROR($E150*SUMIF('Daily Log'!#REF!,$B150,'Daily Log'!#REF!),0)","v":0},{"$f":"IFERROR($E150*SUMIF('Daily Log'!#REF!,$B150,'Daily Log'!#REF!),0)","v":0},{"$f":"IFERROR($E150*SUMIF('Daily Log'!#REF!,$B150,'Daily Log'!#REF!),0)","v":0},{"$f":"IFERROR($E150*SUMIF('Daily Log'!#REF!,$B150,'Daily Log'!#REF!),0)","v":0},{"$f":"IFERROR($E150*SUMIF('Daily Log'!#REF!,$B150,'Daily Log'!#REF!),0)","v":0},{"$f":"IFERROR($E150*SUMIF('Daily Log'!#REF!,$B150,'Daily Log'!#REF!),0)","v":0},{"$f":"IFERROR($E150*SUMIF('Daily Log'!#REF!,$B150,'Daily Log'!#REF!),0)","v":0},{"$f":"IFERROR($E150*SUMIF('Daily Log'!#REF!,$B150,'Daily Log'!#REF!),0)","v":0},{"$f":"IFERROR($E150*SUMIF('Daily Log'!#REF!,$B150,'Daily Log'!#REF!),0)","v":0},{"$f":"IFERROR($E150*SUMIF('Daily Log'!#REF!,$B150,'Daily Log'!#REF!),0)","v":0},{"$f":"IFERROR($E150*SUMIF('Daily Log'!#REF!,$B150,'Daily Log'!#REF!),0)","v":0},{"$f":"IFERROR($E150*SUMIF('Daily Log'!#REF!,$B150,'Daily Log'!#REF!),0)","v":0},{"$f":"IFERROR($E150*SUMIF('Daily Log'!#REF!,$B150,'Daily Log'!#REF!),0)","v":0},{"$f":"IFERROR($E150*SUMIF('Daily Log'!#REF!,$B150,'Daily Log'!#REF!),0)","v":0},{"$f":"IFERROR($E150*SUMIF('Daily Log'!#REF!,$B150,'Daily Log'!#REF!),0)","v":0},{"$f":"IFERROR($E150*SUMIF('Daily Log'!#REF!,$B150,'Daily Log'!#REF!),0)","v":0},{"$f":"IFERROR($E150*SUMIF('Daily Log'!#REF!,$B150,'Daily Log'!#REF!),0)","v":0},{"$f":"IFERROR($E150*SUMIF('Daily Log'!#REF!,$B150,'Daily Log'!#REF!),0)","v":0},{"$f":"IFERROR($E150*SUMIF('Daily Log'!#REF!,$B150,'Daily Log'!#REF!),0)","v":0},{"$f":"IFERROR($E150*SUMIF('Daily Log'!#REF!,$B150,'Daily Log'!#REF!),0)","v":0},{"$f":"IFERROR($E150*SUMIF('Daily Log'!#REF!,$B150,'Daily Log'!#REF!),0)","v":0},{"$f":"IFERROR($E150*SUMIF('Daily Log'!#REF!,$B150,'Daily Log'!#REF!),0)","v":0},{"$f":"IFERROR($E150*SUMIF('Daily Log'!#REF!,$B150,'Daily Log'!#REF!),0)","v":0},{"$f":"IFERROR($E150*SUMIF('Daily Log'!#REF!,$B150,'Daily Log'!#REF!),0)","v":0},{"$f":"IFERROR($E150*SUMIF('Daily Log'!#REF!,$B150,'Daily Log'!#REF!),0)","v":0},{"$f":"IFERROR($E150*SUMIF('Daily Log'!#REF!,$B150,'Daily Log'!#REF!),0)","v":0}]
[null,"DC11 1111:VEG RICE",null,"SIDE ORDER- LOCAL DELIGHTS",1,0,{"$f":"IFERROR($E151*SUMIF('Daily Log'!$B$18:$B$1017,$B151,'Daily Log'!$C$18:$C$1017),0)","v":0},{"$f":"IFERROR($E151*SUMIF('Daily Log'!$E$18:$E$1017,$B151,'Daily Log'!$F$18:$F$1017),0)","v":0},{"$f":"IFERROR($E151*SUMIF('Daily Log'!$H$18:$H$1017,$B151,'Daily Log'!$I$18:$I$1017),0)","v":0}," ",{"$f":"IFERROR($E151*SUMIF('Daily Log'!$N$18:$N$1017,$B151,'Daily Log'!$O$18:$O$1017),0)","v":0},{"$f":"IFERROR($E151*SUMIF('Daily Log'!#REF!,$B151,'Daily Log'!#REF!),0)","v":0},{"$f":"IFERROR($E151*SUMIF('Daily Log'!#REF!,$B151,'Daily Log'!#REF!),0)","v":0},{"$f":"IFERROR($E151*SUMIF('Daily Log'!#REF!,$B151,'Daily Log'!#REF!),0)","v":0},{"$f":"IFERROR($E151*SUMIF('Daily Log'!#REF!,$B151,'Daily Log'!#REF!),0)","v":0},{"$f":"IFERROR($E151*SUMIF('Daily Log'!#REF!,$B151,'Daily Log'!#REF!),0)","v":0},{"$f":"IFERROR($E151*SUMIF('Daily Log'!#REF!,$B151,'Daily Log'!#REF!),0)","v":0},{"$f":"IFERROR($E151*SUMIF('Daily Log'!#REF!,$B151,'Daily Log'!#REF!),0)","v":0},{"$f":"IFERROR($E151*SUMIF('Daily Log'!#REF!,$B151,'Daily Log'!#REF!),0)","v":0},{"$f":"IFERROR($E151*SUMIF('Daily Log'!#REF!,$B151,'Daily Log'!#REF!),0)","v":0},{"$f":"IFERROR($E151*SUMIF('Daily Log'!#REF!,$B151,'Daily Log'!#REF!),0)","v":0},{"$f":"IFERROR($E151*SUMIF('Daily Log'!#REF!,$B151,'Daily Log'!#REF!),0)","v":0},{"$f":"IFERROR($E151*SUMIF('Daily Log'!#REF!,$B151,'Daily Log'!#REF!),0)","v":0},{"$f":"IFERROR($E151*SUMIF('Daily Log'!#REF!,$B151,'Daily Log'!#REF!),0)","v":0},{"$f":"IFERROR($E151*SUMIF('Daily Log'!#REF!,$B151,'Daily Log'!#REF!),0)","v":0},{"$f":"IFERROR($E151*SUMIF('Daily Log'!#REF!,$B151,'Daily Log'!#REF!),0)","v":0},{"$f":"IFERROR($E151*SUMIF('Daily Log'!#REF!,$B151,'Daily Log'!#REF!),0)","v":0},{"$f":"IFERROR($E151*SUMIF('Daily Log'!#REF!,$B151,'Daily Log'!#REF!),0)","v":0},{"$f":"IFERROR($E151*SUMIF('Daily Log'!#REF!,$B151,'Daily Log'!#REF!),0)","v":0},{"$f":"IFERROR($E151*SUMIF('Daily Log'!#REF!,$B151,'Daily Log'!#REF!),0)","v":0},{"$f":"IFERROR($E151*SUMIF('Daily Log'!#REF!,$B151,'Daily Log'!#REF!),0)","v":0},{"$f":"IFERROR($E151*SUMIF('Daily Log'!#REF!,$B151,'Daily Log'!#REF!),0)","v":0},{"$f":"IFERROR($E151*SUMIF('Daily Log'!#REF!,$B151,'Daily Log'!#REF!),0)","v":0},{"$f":"IFERROR($E151*SUMIF('Daily Log'!#REF!,$B151,'Daily Log'!#REF!),0)","v":0},{"$f":"IFERROR($E151*SUMIF('Daily Log'!#REF!,$B151,'Daily Log'!#REF!),0)","v":0},{"$f":"IFERROR($E151*SUMIF('Daily Log'!#REF!,$B151,'Daily Log'!#REF!),0)","v":0},{"$f":"IFERROR($E151*SUMIF('Daily Log'!#REF!,$B151,'Daily Log'!#REF!),0)","v":0}]
[null,"DC12 1112:NASI LEMAK",null,"SIDE ORDER- LOCAL DELIGHTS",1,0,{"$f":"IFERROR($E152*SUMIF('Daily Log'!$B$18:$B$1017,$B152,'Daily Log'!$C$18:$C$1017),0)","v":0},{"$f":"IFERROR($E152*SUMIF('Daily Log'!$E$18:$E$1017,$B152,'Daily Log'!$F$18:$F$1017),0)","v":0},{"$f":"IFERROR($E152*SUMIF('Daily Log'!$H$18:$H$1017,$B152,'Daily Log'!$I$18:$I$1017),0)","v":0}," ",{"$f":"IFERROR($E152*SUMIF('Daily Log'!$N$18:$N$1017,$B152,'Daily Log'!$O$18:$O$1017),0)","v":0},{"$f":"IFERROR($E152*SUMIF('Daily Log'!#REF!,$B152,'Daily Log'!#REF!),0)","v":0},{"$f":"IFERROR($E152*SUMIF('Daily Log'!#REF!,$B152,'Daily Log'!#REF!),0)","v":0},{"$f":"IFERROR($E152*SUMIF('Daily Log'!#REF!,$B152,'Daily Log'!#REF!),0)","v":0},{"$f":"IFERROR($E152*SUMIF('Daily Log'!#REF!,$B152,'Daily Log'!#REF!),0)","v":0},{"$f":"IFERROR($E152*SUMIF('Daily Log'!#REF!,$B152,'Daily Log'!#REF!),0)","v":0},{"$f":"IFERROR($E152*SUMIF('Daily Log'!#REF!,$B152,'Daily Log'!#REF!),0)","v":0},{"$f":"IFERROR($E152*SUMIF('Daily Log'!#REF!,$B152,'Daily Log'!#REF!),0)","v":0},{"$f":"IFERROR($E152*SUMIF('Daily Log'!#REF!,$B152,'Daily Log'!#REF!),0)","v":0},{"$f":"IFERROR($E152*SUMIF('Daily Log'!#REF!,$B152,'Daily Log'!#REF!),0)","v":0},{"$f":"IFERROR($E152*SUMIF('Daily Log'!#REF!,$B152,'Daily Log'!#REF!),0)","v":0},{"$f":"IFERROR($E152*SUMIF('Daily Log'!#REF!,$B152,'Daily Log'!#REF!),0)","v":0},{"$f":"IFERROR($E152*SUMIF('Daily Log'!#REF!,$B152,'Daily Log'!#REF!),0)","v":0},{"$f":"IFERROR($E152*SUMIF('Daily Log'!#REF!,$B152,'Daily Log'!#REF!),0)","v":0},{"$f":"IFERROR($E152*SUMIF('Daily Log'!#REF!,$B152,'Daily Log'!#REF!),0)","v":0},{"$f":"IFERROR($E152*SUMIF('Daily Log'!#REF!,$B152,'Daily Log'!#REF!),0)","v":0},{"$f":"IFERROR($E152*SUMIF('Daily Log'!#REF!,$B152,'Daily Log'!#REF!),0)","v":0},{"$f":"IFERROR($E152*SUMIF('Daily Log'!#REF!,$B152,'Daily Log'!#REF!),0)","v":0},{"$f":"IFERROR($E152*SUMIF('Daily Log'!#REF!,$B152,'Daily Log'!#REF!),0)","v":0},{"$f":"IFERROR($E152*SUMIF('Daily Log'!#REF!,$B152,'Daily Log'!#REF!),0)","v":0},{"$f":"IFERROR($E152*SUMIF('Daily Log'!#REF!,$B152,'Daily Log'!#REF!),0)","v":0},{"$f":"IFERROR($E152*SUMIF('Daily Log'!#REF!,$B152,'Daily Log'!#REF!),0)","v":0},{"$f":"IFERROR($E152*SUMIF('Daily Log'!#REF!,$B152,'Daily Log'!#REF!),0)","v":0},{"$f":"IFERROR($E152*SUMIF('Daily Log'!#REF!,$B152,'Daily Log'!#REF!),0)","v":0},{"$f":"IFERROR($E152*SUMIF('Daily Log'!#REF!,$B152,'Daily Log'!#REF!),0)","v":0},{"$f":"IFERROR($E152*SUMIF('Daily Log'!#REF!,$B152,'Daily Log'!#REF!),0)","v":0},{"$f":"IFERROR($E152*SUMIF('Daily Log'!#REF!,$B152,'Daily Log'!#REF!),0)","v":0}]
[null,"DC13 1113:KUEY TEOW",null,"SIDE ORDER- LOCAL DELIGHTS",1,0,{"$f":"IFERROR($E153*SUMIF('Daily Log'!$B$18:$B$1017,$B153,'Daily Log'!$C$18:$C$1017),0)","v":0},{"$f":"IFERROR($E153*SUMIF('Daily Log'!$E$18:$E$1017,$B153,'Daily Log'!$F$18:$F$1017),0)","v":0},{"$f":"IFERROR($E153*SUMIF('Daily Log'!$H$18:$H$1017,$B153,'Daily Log'!$I$18:$I$1017),0)","v":0}," ",{"$f":"IFERROR($E153*SUMIF('Daily Log'!$N$18:$N$1017,$B153,'Daily Log'!$O$18:$O$1017),0)","v":0},{"$f":"IFERROR($E153*SUMIF('Daily Log'!#REF!,$B153,'Daily Log'!#REF!),0)","v":0},{"$f":"IFERROR($E153*SUMIF('Daily Log'!#REF!,$B153,'Daily Log'!#REF!),0)","v":0},{"$f":"IFERROR($E153*SUMIF('Daily Log'!#REF!,$B153,'Daily Log'!#REF!),0)","v":0},{"$f":"IFERROR($E153*SUMIF('Daily Log'!#REF!,$B153,'Daily Log'!#REF!),0)","v":0},{"$f":"IFERROR($E153*SUMIF('Daily Log'!#REF!,$B153,'Daily Log'!#REF!),0)","v":0},{"$f":"IFERROR($E153*SUMIF('Daily Log'!#REF!,$B153,'Daily Log'!#REF!),0)","v":0},{"$f":"IFERROR($E153*SUMIF('Daily Log'!#REF!,$B153,'Daily Log'!#REF!),0)","v":0},{"$f":"IFERROR($E153*SUMIF('Daily Log'!#REF!,$B153,'Daily Log'!#REF!),0)","v":0},{"$f":"IFERROR($E153*SUMIF('Daily Log'!#REF!,$B153,'Daily Log'!#REF!),0)","v":0},{"$f":"IFERROR($E153*SUMIF('Daily Log'!#REF!,$B153,'Daily Log'!#REF!),0)","v":0},{"$f":"IFERROR($E153*SUMIF('Daily Log'!#REF!,$B153,'Daily Log'!#REF!),0)","v":0},{"$f":"IFERROR($E153*SUMIF('Daily Log'!#REF!,$B153,'Daily Log'!#REF!),0)","v":0},{"$f":"IFERROR($E153*SUMIF('Daily Log'!#REF!,$B153,'Daily Log'!#REF!),0)","v":0},{"$f":"IFERROR($E153*SUMIF('Daily Log'!#REF!,$B153,'Daily Log'!#REF!),0)","v":0},{"$f":"IFERROR($E153*SUMIF('Daily Log'!#REF!,$B153,'Daily Log'!#REF!),0)","v":0},{"$f":"IFERROR($E153*SUMIF('Daily Log'!#REF!,$B153,'Daily Log'!#REF!),0)","v":0},{"$f":"IFERROR($E153*SUMIF('Daily Log'!#REF!,$B153,'Daily Log'!#REF!),0)","v":0},{"$f":"IFERROR($E153*SUMIF('Daily Log'!#REF!,$B153,'Daily Log'!#REF!),0)","v":0},{"$f":"IFERROR($E153*SUMIF('Daily Log'!#REF!,$B153,'Daily Log'!#REF!),0)","v":0},{"$f":"IFERROR($E153*SUMIF('Daily Log'!#REF!,$B153,'Daily Log'!#REF!),0)","v":0},{"$f":"IFERROR($E153*SUMIF('Daily Log'!#REF!,$B153,'Daily Log'!#REF!),0)","v":0},{"$f":"IFERROR($E153*SUMIF('Daily Log'!#REF!,$B153,'Daily Log'!#REF!),0)","v":0},{"$f":"IFERROR($E153*SUMIF('Daily Log'!#REF!,$B153,'Daily Log'!#REF!),0)","v":0},{"$f":"IFERROR($E153*SUMIF('Daily Log'!#REF!,$B153,'Daily Log'!#REF!),0)","v":0},{"$f":"IFERROR($E153*SUMIF('Daily Log'!#REF!,$B153,'Daily Log'!#REF!),0)","v":0},{"$f":"IFERROR($E153*SUMIF('Daily Log'!#REF!,$B153,'Daily Log'!#REF!),0)","v":0}]
[null,"DC14 1114:F.BALL MEE",null,"SIDE ORDER- LOCAL DELIGHTS",1,0,{"$f":"IFERROR($E154*SUMIF('Daily Log'!$B$18:$B$1017,$B154,'Daily Log'!$C$18:$C$1017),0)","v":0},{"$f":"IFERROR($E154*SUMIF('Daily Log'!$E$18:$E$1017,$B154,'Daily Log'!$F$18:$F$1017),0)","v":0},{"$f":"IFERROR($E154*SUMIF('Daily Log'!$H$18:$H$1017,$B154,'Daily Log'!$I$18:$I$1017),0)","v":0}," ",{"$f":"IFERROR($E154*SUMIF('Daily Log'!$N$18:$N$1017,$B154,'Daily Log'!$O$18:$O$1017),0)","v":0},{"$f":"IFERROR($E154*SUMIF('Daily Log'!#REF!,$B154,'Daily Log'!#REF!),0)","v":0},{"$f":"IFERROR($E154*SUMIF('Daily Log'!#REF!,$B154,'Daily Log'!#REF!),0)","v":0},{"$f":"IFERROR($E154*SUMIF('Daily Log'!#REF!,$B154,'Daily Log'!#REF!),0)","v":0},{"$f":"IFERROR($E154*SUMIF('Daily Log'!#REF!,$B154,'Daily Log'!#REF!),0)","v":0},{"$f":"IFERROR($E154*SUMIF('Daily Log'!#REF!,$B154,'Daily Log'!#REF!),0)","v":0},{"$f":"IFERROR($E154*SUMIF('Daily Log'!#REF!,$B154,'Daily Log'!#REF!),0)","v":0},{"$f":"IFERROR($E154*SUMIF('Daily Log'!#REF!,$B154,'Daily Log'!#REF!),0)","v":0},{"$f":"IFERROR($E154*SUMIF('Daily Log'!#REF!,$B154,'Daily Log'!#REF!),0)","v":0},{"$f":"IFERROR($E154*SUMIF('Daily Log'!#REF!,$B154,'Daily Log'!#REF!),0)","v":0},{"$f":"IFERROR($E154*SUMIF('Daily Log'!#REF!,$B154,'Daily Log'!#REF!),0)","v":0},{"$f":"IFERROR($E154*SUMIF('Daily Log'!#REF!,$B154,'Daily Log'!#REF!),0)","v":0},{"$f":"IFERROR($E154*SUMIF('Daily Log'!#REF!,$B154,'Daily Log'!#REF!),0)","v":0},{"$f":"IFERROR($E154*SUMIF('Daily Log'!#REF!,$B154,'Daily Log'!#REF!),0)","v":0},{"$f":"IFERROR($E154*SUMIF('Daily Log'!#REF!,$B154,'Daily Log'!#REF!),0)","v":0},{"$f":"IFERROR($E154*SUMIF('Daily Log'!#REF!,$B154,'Daily Log'!#REF!),0)","v":0},{"$f":"IFERROR($E154*SUMIF('Daily Log'!#REF!,$B154,'Daily Log'!#REF!),0)","v":0},{"$f":"IFERROR($E154*SUMIF('Daily Log'!#REF!,$B154,'Daily Log'!#REF!),0)","v":0},{"$f":"IFERROR($E154*SUMIF('Daily Log'!#REF!,$B154,'Daily Log'!#REF!),0)","v":0},{"$f":"IFERROR($E154*SUMIF('Daily Log'!#REF!,$B154,'Daily Log'!#REF!),0)","v":0},{"$f":"IFERROR($E154*SUMIF('Daily Log'!#REF!,$B154,'Daily Log'!#REF!),0)","v":0},{"$f":"IFERROR($E154*SUMIF('Daily Log'!#REF!,$B154,'Daily Log'!#REF!),0)","v":0},{"$f":"IFERROR($E154*SUMIF('Daily Log'!#REF!,$B154,'Daily Log'!#REF!),0)","v":0},{"$f":"IFERROR($E154*SUMIF('Daily Log'!#REF!,$B154,'Daily Log'!#REF!),0)","v":0},{"$f":"IFERROR($E154*SUMIF('Daily Log'!#REF!,$B154,'Daily Log'!#REF!),0)","v":0},{"$f":"IFERROR($E154*SUMIF('Daily Log'!#REF!,$B154,'Daily Log'!#REF!),0)","v":0},{"$f":"IFERROR($E154*SUMIF('Daily Log'!#REF!,$B154,'Daily Log'!#REF!),0)","v":0}]
[null,"DC15 1115:CHK NOODLE",null,"SIDE ORDER- LOCAL DELIGHTS",1,3,{"$f":"IFERROR($E155*SUMIF('Daily Log'!$B$18:$B$1017,$B155,'Daily Log'!$C$18:$C$1017),0)","v":1},{"$f":"IFERROR($E155*SUMIF('Daily Log'!$E$18:$E$1017,$B155,'Daily Log'!$F$18:$F$1017),0)","v":0},{"$f":"IFERROR($E155*SUMIF('Daily Log'!$H$18:$H$1017,$B155,'Daily Log'!$I$18:$I$1017),0)","v":0},{"$f":"IFERROR($E155*SUMIF('Daily Log'!$K$18:$K$1017,$B155,'Daily Log'!$L$18:$L$1017),0)","v":2},{"$f":"IFERROR($E155*SUMIF('Daily Log'!$N$18:$N$1017,$B155,'Daily Log'!$O$18:$O$1017),0)","v":0},{"$f":"IFERROR($E155*SUMIF('Daily Log'!#REF!,$B155,'Daily Log'!#REF!),0)","v":0},{"$f":"IFERROR($E155*SUMIF('Daily Log'!#REF!,$B155,'Daily Log'!#REF!),0)","v":0},{"$f":"IFERROR($E155*SUMIF('Daily Log'!#REF!,$B155,'Daily Log'!#REF!),0)","v":0},{"$f":"IFERROR($E155*SUMIF('Daily Log'!#REF!,$B155,'Daily Log'!#REF!),0)","v":0},{"$f":"IFERROR($E155*SUMIF('Daily Log'!#REF!,$B155,'Daily Log'!#REF!),0)","v":0},{"$f":"IFERROR($E155*SUMIF('Daily Log'!#REF!,$B155,'Daily Log'!#REF!),0)","v":0},{"$f":"IFERROR($E155*SUMIF('Daily Log'!#REF!,$B155,'Daily Log'!#REF!),0)","v":0},{"$f":"IFERROR($E155*SUMIF('Daily Log'!#REF!,$B155,'Daily Log'!#REF!),0)","v":0},{"$f":"IFERROR($E155*SUMIF('Daily Log'!#REF!,$B155,'Daily Log'!#REF!),0)","v":0},{"$f":"IFERROR($E155*SUMIF('Daily Log'!#REF!,$B155,'Daily Log'!#REF!),0)","v":0},{"$f":"IFERROR($E155*SUMIF('Daily Log'!#REF!,$B155,'Daily Log'!#REF!),0)","v":0},{"$f":"IFERROR($E155*SUMIF('Daily Log'!#REF!,$B155,'Daily Log'!#REF!),0)","v":0},{"$f":"IFERROR($E155*SUMIF('Daily Log'!#REF!,$B155,'Daily Log'!#REF!),0)","v":0},{"$f":"IFERROR($E155*SUMIF('Daily Log'!#REF!,$B155,'Daily Log'!#REF!),0)","v":0},{"$f":"IFERROR($E155*SUMIF('Daily Log'!#REF!,$B155,'Daily Log'!#REF!),0)","v":0},{"$f":"IFERROR($E155*SUMIF('Daily Log'!#REF!,$B155,'Daily Log'!#REF!),0)","v":0},{"$f":"IFERROR($E155*SUMIF('Daily Log'!#REF!,$B155,'Daily Log'!#REF!),0)","v":0},{"$f":"IFERROR($E155*SUMIF('Daily Log'!#REF!,$B155,'Daily Log'!#REF!),0)","v":0},{"$f":"IFERROR($E155*SUMIF('Daily Log'!#REF!,$B155,'Daily Log'!#REF!),0)","v":0},{"$f":"IFERROR($E155*SUMIF('Daily Log'!#REF!,$B155,'Daily Log'!#REF!),0)","v":0},{"$f":"IFERROR($E155*SUMIF('Daily Log'!#REF!,$B155,'Daily Log'!#REF!),0)","v":0},{"$f":"IFERROR($E155*SUMIF('Daily Log'!#REF!,$B155,'Daily Log'!#REF!),0)","v":0},{"$f":"IFERROR($E155*SUMIF('Daily Log'!#REF!,$B155,'Daily Log'!#REF!),0)","v":0},{"$f":"IFERROR($E155*SUMIF('Daily Log'!#REF!,$B155,'Daily Log'!#REF!),0)","v":0},{"$f":"IFERROR($E155*SUMIF('Daily Log'!#REF!,$B155,'Daily Log'!#REF!),0)","v":0},{"$f":"IFERROR($E155*SUMIF('Daily Log'!#REF!,$B155,'Daily Log'!#REF!),0)","v":0}]
[null,"DC16 1116:MGL CHICKEN",null,"SIDE ORDER- LOCAL DELIGHTS",1,8,{"$f":"IFERROR($E156*SUMIF('Daily Log'!$B$18:$B$1017,$B156,'Daily Log'!$C$18:$C$1017),0)","v":1},{"$f":"IFERROR($E156*SUMIF('Daily Log'!$E$18:$E$1017,$B156,'Daily Log'!$F$18:$F$1017),0)","v":2},{"$f":"IFERROR($E156*SUMIF('Daily Log'!$H$18:$H$1017,$B156,'Daily Log'!$I$18:$I$1017),0)","v":3},{"$f":"IFERROR($E156*SUMIF('Daily Log'!$K$18:$K$1017,$B156,'Daily Log'!$L$18:$L$1017),0)","v":2},{"$f":"IFERROR($E156*SUMIF('Daily Log'!$N$18:$N$1017,$B156,'Daily Log'!$O$18:$O$1017),0)","v":0},{"$f":"IFERROR($E156*SUMIF('Daily Log'!#REF!,$B156,'Daily Log'!#REF!),0)","v":0},{"$f":"IFERROR($E156*SUMIF('Daily Log'!#REF!,$B156,'Daily Log'!#REF!),0)","v":0},{"$f":"IFERROR($E156*SUMIF('Daily Log'!#REF!,$B156,'Daily Log'!#REF!),0)","v":0},{"$f":"IFERROR($E156*SUMIF('Daily Log'!#REF!,$B156,'Daily Log'!#REF!),0)","v":0},{"$f":"IFERROR($E156*SUMIF('Daily Log'!#REF!,$B156,'Daily Log'!#REF!),0)","v":0},{"$f":"IFERROR($E156*SUMIF('Daily Log'!#REF!,$B156,'Daily Log'!#REF!),0)","v":0},{"$f":"IFERROR($E156*SUMIF('Daily Log'!#REF!,$B156,'Daily Log'!#REF!),0)","v":0},{"$f":"IFERROR($E156*SUMIF('Daily Log'!#REF!,$B156,'Daily Log'!#REF!),0)","v":0},{"$f":"IFERROR($E156*SUMIF('Daily Log'!#REF!,$B156,'Daily Log'!#REF!),0)","v":0},{"$f":"IFERROR($E156*SUMIF('Daily Log'!#REF!,$B156,'Daily Log'!#REF!),0)","v":0},{"$f":"IFERROR($E156*SUMIF('Daily Log'!#REF!,$B156,'Daily Log'!#REF!),0)","v":0},{"$f":"IFERROR($E156*SUMIF('Daily Log'!#REF!,$B156,'Daily Log'!#REF!),0)","v":0},{"$f":"IFERROR($E156*SUMIF('Daily Log'!#REF!,$B156,'Daily Log'!#REF!),0)","v":0},{"$f":"IFERROR($E156*SUMIF('Daily Log'!#REF!,$B156,'Daily Log'!#REF!),0)","v":0},{"$f":"IFERROR($E156*SUMIF('Daily Log'!#REF!,$B156,'Daily Log'!#REF!),0)","v":0},{"$f":"IFERROR($E156*SUMIF('Daily Log'!#REF!,$B156,'Daily Log'!#REF!),0)","v":0},{"$f":"IFERROR($E156*SUMIF('Daily Log'!#REF!,$B156,'Daily Log'!#REF!),0)","v":0},{"$f":"IFERROR($E156*SUMIF('Daily Log'!#REF!,$B156,'Daily Log'!#REF!),0)","v":0},{"$f":"IFERROR($E156*SUMIF('Daily Log'!#REF!,$B156,'Daily Log'!#REF!),0)","v":0},{"$f":"IFERROR($E156*SUMIF('Daily Log'!#REF!,$B156,'Daily Log'!#REF!),0)","v":0},{"$f":"IFERROR($E156*SUMIF('Daily Log'!#REF!,$B156,'Daily Log'!#REF!),0)","v":0},{"$f":"IFERROR($E156*SUMIF('Daily Log'!#REF!,$B156,'Daily Log'!#REF!),0)","v":0},{"$f":"IFERROR($E156*SUMIF('Daily Log'!#REF!,$B156,'Daily Log'!#REF!),0)","v":0},{"$f":"IFERROR($E156*SUMIF('Daily Log'!#REF!,$B156,'Daily Log'!#REF!),0)","v":0},{"$f":"IFERROR($E156*SUMIF('Daily Log'!#REF!,$B156,'Daily Log'!#REF!),0)","v":0},{"$f":"IFERROR($E156*SUMIF('Daily Log'!#REF!,$B156,'Daily Log'!#REF!),0)","v":0}]
[null,"DD01 1201:SFD STICK",null,"SIDE ORDER- APPETIZER",1,0,{"$f":"IFERROR($E157*SUMIF('Daily Log'!$B$18:$B$1017,$B157,'Daily Log'!$C$18:$C$1017),0)","v":0},{"$f":"IFERROR($E157*SUMIF('Daily Log'!$E$18:$E$1017,$B157,'Daily Log'!$F$18:$F$1017),0)","v":0},{"$f":"IFERROR($E157*SUMIF('Daily Log'!$H$18:$H$1017,$B157,'Daily Log'!$I$18:$I$1017),0)","v":0}," ",{"$f":"IFERROR($E157*SUMIF('Daily Log'!$N$18:$N$1017,$B157,'Daily Log'!$O$18:$O$1017),0)","v":0},{"$f":"IFERROR($E157*SUMIF('Daily Log'!#REF!,$B157,'Daily Log'!#REF!),0)","v":0},{"$f":"IFERROR($E157*SUMIF('Daily Log'!#REF!,$B157,'Daily Log'!#REF!),0)","v":0},{"$f":"IFERROR($E157*SUMIF('Daily Log'!#REF!,$B157,'Daily Log'!#REF!),0)","v":0},{"$f":"IFERROR($E157*SUMIF('Daily Log'!#REF!,$B157,'Daily Log'!#REF!),0)","v":0},{"$f":"IFERROR($E157*SUMIF('Daily Log'!#REF!,$B157,'Daily Log'!#REF!),0)","v":0},{"$f":"IFERROR($E157*SUMIF('Daily Log'!#REF!,$B157,'Daily Log'!#REF!),0)","v":0},{"$f":"IFERROR($E157*SUMIF('Daily Log'!#REF!,$B157,'Daily Log'!#REF!),0)","v":0},{"$f":"IFERROR($E157*SUMIF('Daily Log'!#REF!,$B157,'Daily Log'!#REF!),0)","v":0},{"$f":"IFERROR($E157*SUMIF('Daily Log'!#REF!,$B157,'Daily Log'!#REF!),0)","v":0},{"$f":"IFERROR($E157*SUMIF('Daily Log'!#REF!,$B157,'Daily Log'!#REF!),0)","v":0},{"$f":"IFERROR($E157*SUMIF('Daily Log'!#REF!,$B157,'Daily Log'!#REF!),0)","v":0},{"$f":"IFERROR($E157*SUMIF('Daily Log'!#REF!,$B157,'Daily Log'!#REF!),0)","v":0},{"$f":"IFERROR($E157*SUMIF('Daily Log'!#REF!,$B157,'Daily Log'!#REF!),0)","v":0},{"$f":"IFERROR($E157*SUMIF('Daily Log'!#REF!,$B157,'Daily Log'!#REF!),0)","v":0},{"$f":"IFERROR($E157*SUMIF('Daily Log'!#REF!,$B157,'Daily Log'!#REF!),0)","v":0},{"$f":"IFERROR($E157*SUMIF('Daily Log'!#REF!,$B157,'Daily Log'!#REF!),0)","v":0},{"$f":"IFERROR($E157*SUMIF('Daily Log'!#REF!,$B157,'Daily Log'!#REF!),0)","v":0},{"$f":"IFERROR($E157*SUMIF('Daily Log'!#REF!,$B157,'Daily Log'!#REF!),0)","v":0},{"$f":"IFERROR($E157*SUMIF('Daily Log'!#REF!,$B157,'Daily Log'!#REF!),0)","v":0},{"$f":"IFERROR($E157*SUMIF('Daily Log'!#REF!,$B157,'Daily Log'!#REF!),0)","v":0},{"$f":"IFERROR($E157*SUMIF('Daily Log'!#REF!,$B157,'Daily Log'!#REF!),0)","v":0},{"$f":"IFERROR($E157*SUMIF('Daily Log'!#REF!,$B157,'Daily Log'!#REF!),0)","v":0},{"$f":"IFERROR($E157*SUMIF('Daily Log'!#REF!,$B157,'Daily Log'!#REF!),0)","v":0},{"$f":"IFERROR($E157*SUMIF('Daily Log'!#REF!,$B157,'Daily Log'!#REF!),0)","v":0},{"$f":"IFERROR($E157*SUMIF('Daily Log'!#REF!,$B157,'Daily Log'!#REF!),0)","v":0},{"$f":"IFERROR($E157*SUMIF('Daily Log'!#REF!,$B157,'Daily Log'!#REF!),0)","v":0}]
[null,"DD02 1202:FREN FRIES",null,"SIDE ORDER- APPETIZER",1,7,{"$f":"IFERROR($E158*SUMIF('Daily Log'!$B$18:$B$1017,$B158,'Daily Log'!$C$18:$C$1017),0)","v":1},{"$f":"IFERROR($E158*SUMIF('Daily Log'!$E$18:$E$1017,$B158,'Daily Log'!$F$18:$F$1017),0)","v":3},{"$f":"IFERROR($E158*SUMIF('Daily Log'!$H$18:$H$1017,$B158,'Daily Log'!$I$18:$I$1017),0)","v":3}," ",{"$f":"IFERROR($E158*SUMIF('Daily Log'!$N$18:$N$1017,$B158,'Daily Log'!$O$18:$O$1017),0)","v":0},{"$f":"IFERROR($E158*SUMIF('Daily Log'!#REF!,$B158,'Daily Log'!#REF!),0)","v":0},{"$f":"IFERROR($E158*SUMIF('Daily Log'!#REF!,$B158,'Daily Log'!#REF!),0)","v":0},{"$f":"IFERROR($E158*SUMIF('Daily Log'!#REF!,$B158,'Daily Log'!#REF!),0)","v":0},{"$f":"IFERROR($E158*SUMIF('Daily Log'!#REF!,$B158,'Daily Log'!#REF!),0)","v":0},{"$f":"IFERROR($E158*SUMIF('Daily Log'!#REF!,$B158,'Daily Log'!#REF!),0)","v":0},{"$f":"IFERROR($E158*SUMIF('Daily Log'!#REF!,$B158,'Daily Log'!#REF!),0)","v":0},{"$f":"IFERROR($E158*SUMIF('Daily Log'!#REF!,$B158,'Daily Log'!#REF!),0)","v":0},{"$f":"IFERROR($E158*SUMIF('Daily Log'!#REF!,$B158,'Daily Log'!#REF!),0)","v":0},{"$f":"IFERROR($E158*SUMIF('Daily Log'!#REF!,$B158,'Daily Log'!#REF!),0)","v":0},{"$f":"IFERROR($E158*SUMIF('Daily Log'!#REF!,$B158,'Daily Log'!#REF!),0)","v":0},{"$f":"IFERROR($E158*SUMIF('Daily Log'!#REF!,$B158,'Daily Log'!#REF!),0)","v":0},{"$f":"IFERROR($E158*SUMIF('Daily Log'!#REF!,$B158,'Daily Log'!#REF!),0)","v":0},{"$f":"IFERROR($E158*SUMIF('Daily Log'!#REF!,$B158,'Daily Log'!#REF!),0)","v":0},{"$f":"IFERROR($E158*SUMIF('Daily Log'!#REF!,$B158,'Daily Log'!#REF!),0)","v":0},{"$f":"IFERROR($E158*SUMIF('Daily Log'!#REF!,$B158,'Daily Log'!#REF!),0)","v":0},{"$f":"IFERROR($E158*SUMIF('Daily Log'!#REF!,$B158,'Daily Log'!#REF!),0)","v":0},{"$f":"IFERROR($E158*SUMIF('Daily Log'!#REF!,$B158,'Daily Log'!#REF!),0)","v":0},{"$f":"IFERROR($E158*SUMIF('Daily Log'!#REF!,$B158,'Daily Log'!#REF!),0)","v":0},{"$f":"IFERROR($E158*SUMIF('Daily Log'!#REF!,$B158,'Daily Log'!#REF!),0)","v":0},{"$f":"IFERROR($E158*SUMIF('Daily Log'!#REF!,$B158,'Daily Log'!#REF!),0)","v":0},{"$f":"IFERROR($E158*SUMIF('Daily Log'!#REF!,$B158,'Daily Log'!#REF!),0)","v":0},{"$f":"IFERROR($E158*SUMIF('Daily Log'!#REF!,$B158,'Daily Log'!#REF!),0)","v":0},{"$f":"IFERROR($E158*SUMIF('Daily Log'!#REF!,$B158,'Daily Log'!#REF!),0)","v":0},{"$f":"IFERROR($E158*SUMIF('Daily Log'!#REF!,$B158,'Daily Log'!#REF!),0)","v":0},{"$f":"IFERROR($E158*SUMIF('Daily Log'!#REF!,$B158,'Daily Log'!#REF!),0)","v":0},{"$f":"IFERROR($E158*SUMIF('Daily Log'!#REF!,$B158,'Daily Log'!#REF!),0)","v":0}]
[null,"DD03 1203:GOLD MROOM",null,"SIDE ORDER- APPETIZER",1,2,{"$f":"IFERROR($E159*SUMIF('Daily Log'!$B$18:$B$1017,$B159,'Daily Log'!$C$18:$C$1017),0)","v":0},{"$f":"IFERROR($E159*SUMIF('Daily Log'!$E$18:$E$1017,$B159,'Daily Log'!$F$18:$F$1017),0)","v":0},{"$f":"IFERROR($E159*SUMIF('Daily Log'!$H$18:$H$1017,$B159,'Daily Log'!$I$18:$I$1017),0)","v":2}," ",{"$f":"IFERROR($E159*SUMIF('Daily Log'!$N$18:$N$1017,$B159,'Daily Log'!$O$18:$O$1017),0)","v":0},{"$f":"IFERROR($E159*SUMIF('Daily Log'!#REF!,$B159,'Daily Log'!#REF!),0)","v":0},{"$f":"IFERROR($E159*SUMIF('Daily Log'!#REF!,$B159,'Daily Log'!#REF!),0)","v":0},{"$f":"IFERROR($E159*SUMIF('Daily Log'!#REF!,$B159,'Daily Log'!#REF!),0)","v":0},{"$f":"IFERROR($E159*SUMIF('Daily Log'!#REF!,$B159,'Daily Log'!#REF!),0)","v":0},{"$f":"IFERROR($E159*SUMIF('Daily Log'!#REF!,$B159,'Daily Log'!#REF!),0)","v":0},{"$f":"IFERROR($E159*SUMIF('Daily Log'!#REF!,$B159,'Daily Log'!#REF!),0)","v":0},{"$f":"IFERROR($E159*SUMIF('Daily Log'!#REF!,$B159,'Daily Log'!#REF!),0)","v":0},{"$f":"IFERROR($E159*SUMIF('Daily Log'!#REF!,$B159,'Daily Log'!#REF!),0)","v":0},{"$f":"IFERROR($E159*SUMIF('Daily Log'!#REF!,$B159,'Daily Log'!#REF!),0)","v":0},{"$f":"IFERROR($E159*SUMIF('Daily Log'!#REF!,$B159,'Daily Log'!#REF!),0)","v":0},{"$f":"IFERROR($E159*SUMIF('Daily Log'!#REF!,$B159,'Daily Log'!#REF!),0)","v":0},{"$f":"IFERROR($E159*SUMIF('Daily Log'!#REF!,$B159,'Daily Log'!#REF!),0)","v":0},{"$f":"IFERROR($E159*SUMIF('Daily Log'!#REF!,$B159,'Daily Log'!#REF!),0)","v":0},{"$f":"IFERROR($E159*SUMIF('Daily Log'!#REF!,$B159,'Daily Log'!#REF!),0)","v":0},{"$f":"IFERROR($E159*SUMIF('Daily Log'!#REF!,$B159,'Daily Log'!#REF!),0)","v":0},{"$f":"IFERROR($E159*SUMIF('Daily Log'!#REF!,$B159,'Daily Log'!#REF!),0)","v":0},{"$f":"IFERROR($E159*SUMIF('Daily Log'!#REF!,$B159,'Daily Log'!#REF!),0)","v":0},{"$f":"IFERROR($E159*SUMIF('Daily Log'!#REF!,$B159,'Daily Log'!#REF!),0)","v":0},{"$f":"IFERROR($E159*SUMIF('Daily Log'!#REF!,$B159,'Daily Log'!#REF!),0)","v":0},{"$f":"IFERROR($E159*SUMIF('Daily Log'!#REF!,$B159,'Daily Log'!#REF!),0)","v":0},{"$f":"IFERROR($E159*SUMIF('Daily Log'!#REF!,$B159,'Daily Log'!#REF!),0)","v":0},{"$f":"IFERROR($E159*SUMIF('Daily Log'!#REF!,$B159,'Daily Log'!#REF!),0)","v":0},{"$f":"IFERROR($E159*SUMIF('Daily Log'!#REF!,$B159,'Daily Log'!#REF!),0)","v":0},{"$f":"IFERROR($E159*SUMIF('Daily Log'!#REF!,$B159,'Daily Log'!#REF!),0)","v":0},{"$f":"IFERROR($E159*SUMIF('Daily Log'!#REF!,$B159,'Daily Log'!#REF!),0)","v":0},{"$f":"IFERROR($E159*SUMIF('Daily Log'!#REF!,$B159,'Daily Log'!#REF!),0)","v":0}]
[null,"DD04 1204:FISHBALL",null,"SIDE ORDER- APPETIZER",1,1,{"$f":"IFERROR($E160*SUMIF('Daily Log'!$B$18:$B$1017,$B160,'Daily Log'!$C$18:$C$1017),0)","v":0},{"$f":"IFERROR($E160*SUMIF('Daily Log'!$E$18:$E$1017,$B160,'Daily Log'!$F$18:$F$1017),0)","v":0},{"$f":"IFERROR($E160*SUMIF('Daily Log'!$H$18:$H$1017,$B160,'Daily Log'!$I$18:$I$1017),0)","v":1}," ",{"$f":"IFERROR($E160*SUMIF('Daily Log'!$N$18:$N$1017,$B160,'Daily Log'!$O$18:$O$1017),0)","v":0},{"$f":"IFERROR($E160*SUMIF('Daily Log'!#REF!,$B160,'Daily Log'!#REF!),0)","v":0},{"$f":"IFERROR($E160*SUMIF('Daily Log'!#REF!,$B160,'Daily Log'!#REF!),0)","v":0},{"$f":"IFERROR($E160*SUMIF('Daily Log'!#REF!,$B160,'Daily Log'!#REF!),0)","v":0},{"$f":"IFERROR($E160*SUMIF('Daily Log'!#REF!,$B160,'Daily Log'!#REF!),0)","v":0},{"$f":"IFERROR($E160*SUMIF('Daily Log'!#REF!,$B160,'Daily Log'!#REF!),0)","v":0},{"$f":"IFERROR($E160*SUMIF('Daily Log'!#REF!,$B160,'Daily Log'!#REF!),0)","v":0},{"$f":"IFERROR($E160*SUMIF('Daily Log'!#REF!,$B160,'Daily Log'!#REF!),0)","v":0},{"$f":"IFERROR($E160*SUMIF('Daily Log'!#REF!,$B160,'Daily Log'!#REF!),0)","v":0},{"$f":"IFERROR($E160*SUMIF('Daily Log'!#REF!,$B160,'Daily Log'!#REF!),0)","v":0},{"$f":"IFERROR($E160*SUMIF('Daily Log'!#REF!,$B160,'Daily Log'!#REF!),0)","v":0},{"$f":"IFERROR($E160*SUMIF('Daily Log'!#REF!,$B160,'Daily Log'!#REF!),0)","v":0},{"$f":"IFERROR($E160*SUMIF('Daily Log'!#REF!,$B160,'Daily Log'!#REF!),0)","v":0},{"$f":"IFERROR($E160*SUMIF('Daily Log'!#REF!,$B160,'Daily Log'!#REF!),0)","v":0},{"$f":"IFERROR($E160*SUMIF('Daily Log'!#REF!,$B160,'Daily Log'!#REF!),0)","v":0},{"$f":"IFERROR($E160*SUMIF('Daily Log'!#REF!,$B160,'Daily Log'!#REF!),0)","v":0},{"$f":"IFERROR($E160*SUMIF('Daily Log'!#REF!,$B160,'Daily Log'!#REF!),0)","v":0},{"$f":"IFERROR($E160*SUMIF('Daily Log'!#REF!,$B160,'Daily Log'!#REF!),0)","v":0},{"$f":"IFERROR($E160*SUMIF('Daily Log'!#REF!,$B160,'Daily Log'!#REF!),0)","v":0},{"$f":"IFERROR($E160*SUMIF('Daily Log'!#REF!,$B160,'Daily Log'!#REF!),0)","v":0},{"$f":"IFERROR($E160*SUMIF('Daily Log'!#REF!,$B160,'Daily Log'!#REF!),0)","v":0},{"$f":"IFERROR($E160*SUMIF('Daily Log'!#REF!,$B160,'Daily Log'!#REF!),0)","v":0},{"$f":"IFERROR($E160*SUMIF('Daily Log'!#REF!,$B160,'Daily Log'!#REF!),0)","v":0},{"$f":"IFERROR($E160*SUMIF('Daily Log'!#REF!,$B160,'Daily Log'!#REF!),0)","v":0},{"$f":"IFERROR($E160*SUMIF('Daily Log'!#REF!,$B160,'Daily Log'!#REF!),0)","v":0},{"$f":"IFERROR($E160*SUMIF('Daily Log'!#REF!,$B160,'Daily Log'!#REF!),0)","v":0},{"$f":"IFERROR($E160*SUMIF('Daily Log'!#REF!,$B160,'Daily Log'!#REF!),0)","v":0}]
[null,"DD05 1205:RAINBOW RL",null,"SIDE ORDER- APPETIZER",1,{"$f":"SUM($G161:$AK161)","v":0},{"$f":"IFERROR($E161*SUMIF('Daily Log'!$B$18:$B$1017,$B161,'Daily Log'!$C$18:$C$1017),0)","v":0},{"$f":"IFERROR($E161*SUMIF('Daily Log'!$E$18:$E$1017,$B161,'Daily Log'!$F$18:$F$1017),0)","v":0},{"$f":"IFERROR($E161*SUMIF('Daily Log'!$H$18:$H$1017,$B161,'Daily Log'!$I$18:$I$1017),0)","v":0}," ",{"$f":"IFERROR($E161*SUMIF('Daily Log'!$N$18:$N$1017,$B161,'Daily Log'!$O$18:$O$1017),0)","v":0},{"$f":"IFERROR($E161*SUMIF('Daily Log'!#REF!,$B161,'Daily Log'!#REF!),0)","v":0},{"$f":"IFERROR($E161*SUMIF('Daily Log'!#REF!,$B161,'Daily Log'!#REF!),0)","v":0},{"$f":"IFERROR($E161*SUMIF('Daily Log'!#REF!,$B161,'Daily Log'!#REF!),0)","v":0},{"$f":"IFERROR($E161*SUMIF('Daily Log'!#REF!,$B161,'Daily Log'!#REF!),0)","v":0},{"$f":"IFERROR($E161*SUMIF('Daily Log'!#REF!,$B161,'Daily Log'!#REF!),0)","v":0},{"$f":"IFERROR($E161*SUMIF('Daily Log'!#REF!,$B161,'Daily Log'!#REF!),0)","v":0},{"$f":"IFERROR($E161*SUMIF('Daily Log'!#REF!,$B161,'Daily Log'!#REF!),0)","v":0},{"$f":"IFERROR($E161*SUMIF('Daily Log'!#REF!,$B161,'Daily Log'!#REF!),0)","v":0},{"$f":"IFERROR($E161*SUMIF('Daily Log'!#REF!,$B161,'Daily Log'!#REF!),0)","v":0},{"$f":"IFERROR($E161*SUMIF('Daily Log'!#REF!,$B161,'Daily Log'!#REF!),0)","v":0},{"$f":"IFERROR($E161*SUMIF('Daily Log'!#REF!,$B161,'Daily Log'!#REF!),0)","v":0},{"$f":"IFERROR($E161*SUMIF('Daily Log'!#REF!,$B161,'Daily Log'!#REF!),0)","v":0},{"$f":"IFERROR($E161*SUMIF('Daily Log'!#REF!,$B161,'Daily Log'!#REF!),0)","v":0},{"$f":"IFERROR($E161*SUMIF('Daily Log'!#REF!,$B161,'Daily Log'!#REF!),0)","v":0},{"$f":"IFERROR($E161*SUMIF('Daily Log'!#REF!,$B161,'Daily Log'!#REF!),0)","v":0},{"$f":"IFERROR($E161*SUMIF('Daily Log'!#REF!,$B161,'Daily Log'!#REF!),0)","v":0},{"$f":"IFERROR($E161*SUMIF('Daily Log'!#REF!,$B161,'Daily Log'!#REF!),0)","v":0},{"$f":"IFERROR($E161*SUMIF('Daily Log'!#REF!,$B161,'Daily Log'!#REF!),0)","v":0},{"$f":"IFERROR($E161*SUMIF('Daily Log'!#REF!,$B161,'Daily Log'!#REF!),0)","v":0},{"$f":"IFERROR($E161*SUMIF('Daily Log'!#REF!,$B161,'Daily Log'!#REF!),0)","v":0},{"$f":"IFERROR($E161*SUMIF('Daily Log'!#REF!,$B161,'Daily Log'!#REF!),0)","v":0},{"$f":"IFERROR($E161*SUMIF('Daily Log'!#REF!,$B161,'Daily Log'!#REF!),0)","v":0},{"$f":"IFERROR($E161*SUMIF('Daily Log'!#REF!,$B161,'Daily Log'!#REF!),0)","v":0},{"$f":"IFERROR($E161*SUMIF('Daily Log'!#REF!,$B161,'Daily Log'!#REF!),0)","v":0},{"$f":"IFERROR($E161*SUMIF('Daily Log'!#REF!,$B161,'Daily Log'!#REF!),0)","v":0},{"$f":"IFERROR($E161*SUMIF('Daily Log'!#REF!,$B161,'Daily Log'!#REF!),0)","v":0}]
[null,"DD06 1206:SPRING RL",null,"SIDE ORDER- APPETIZER",1,1,{"$f":"IFERROR($E162*SUMIF('Daily Log'!$B$18:$B$1017,$B162,'Daily Log'!$C$18:$C$1017),0)","v":0},{"$f":"IFERROR($E162*SUMIF('Daily Log'!$E$18:$E$1017,$B162,'Daily Log'!$F$18:$F$1017),0)","v":0},{"$f":"IFERROR($E162*SUMIF('Daily Log'!$H$18:$H$1017,$B162,'Daily Log'!$I$18:$I$1017),0)","v":1}," ",{"$f":"IFERROR($E162*SUMIF('Daily Log'!$N$18:$N$1017,$B162,'Daily Log'!$O$18:$O$1017),0)","v":0},{"$f":"IFERROR($E162*SUMIF('Daily Log'!#REF!,$B162,'Daily Log'!#REF!),0)","v":0},{"$f":"IFERROR($E162*SUMIF('Daily Log'!#REF!,$B162,'Daily Log'!#REF!),0)","v":0},{"$f":"IFERROR($E162*SUMIF('Daily Log'!#REF!,$B162,'Daily Log'!#REF!),0)","v":0},{"$f":"IFERROR($E162*SUMIF('Daily Log'!#REF!,$B162,'Daily Log'!#REF!),0)","v":0},{"$f":"IFERROR($E162*SUMIF('Daily Log'!#REF!,$B162,'Daily Log'!#REF!),0)","v":0},{"$f":"IFERROR($E162*SUMIF('Daily Log'!#REF!,$B162,'Daily Log'!#REF!),0)","v":0},{"$f":"IFERROR($E162*SUMIF('Daily Log'!#REF!,$B162,'Daily Log'!#REF!),0)","v":0},{"$f":"IFERROR($E162*SUMIF('Daily Log'!#REF!,$B162,'Daily Log'!#REF!),0)","v":0},{"$f":"IFERROR($E162*SUMIF('Daily Log'!#REF!,$B162,'Daily Log'!#REF!),0)","v":0},{"$f":"IFERROR($E162*SUMIF('Daily Log'!#REF!,$B162,'Daily Log'!#REF!),0)","v":0},{"$f":"IFERROR($E162*SUMIF('Daily Log'!#REF!,$B162,'Daily Log'!#REF!),0)","v":0},{"$f":"IFERROR($E162*SUMIF('Daily Log'!#REF!,$B162,'Daily Log'!#REF!),0)","v":0},{"$f":"IFERROR($E162*SUMIF('Daily Log'!#REF!,$B162,'Daily Log'!#REF!),0)","v":0},{"$f":"IFERROR($E162*SUMIF('Daily Log'!#REF!,$B162,'Daily Log'!#REF!),0)","v":0},{"$f":"IFERROR($E162*SUMIF('Daily Log'!#REF!,$B162,'Daily Log'!#REF!),0)","v":0},{"$f":"IFERROR($E162*SUMIF('Daily Log'!#REF!,$B162,'Daily Log'!#REF!),0)","v":0},{"$f":"IFERROR($E162*SUMIF('Daily Log'!#REF!,$B162,'Daily Log'!#REF!),0)","v":0},{"$f":"IFERROR($E162*SUMIF('Daily Log'!#REF!,$B162,'Daily Log'!#REF!),0)","v":0},{"$f":"IFERROR($E162*SUMIF('Daily Log'!#REF!,$B162,'Daily Log'!#REF!),0)","v":0},{"$f":"IFERROR($E162*SUMIF('Daily Log'!#REF!,$B162,'Daily Log'!#REF!),0)","v":0},{"$f":"IFERROR($E162*SUMIF('Daily Log'!#REF!,$B162,'Daily Log'!#REF!),0)","v":0},{"$f":"IFERROR($E162*SUMIF('Daily Log'!#REF!,$B162,'Daily Log'!#REF!),0)","v":0},{"$f":"IFERROR($E162*SUMIF('Daily Log'!#REF!,$B162,'Daily Log'!#REF!),0)","v":0},{"$f":"IFERROR($E162*SUMIF('Daily Log'!#REF!,$B162,'Daily Log'!#REF!),0)","v":0},{"$f":"IFERROR($E162*SUMIF('Daily Log'!#REF!,$B162,'Daily Log'!#REF!),0)","v":0},{"$f":"IFERROR($E162*SUMIF('Daily Log'!#REF!,$B162,'Daily Log'!#REF!),0)","v":0}]
[null,"DD07 1207:SAUSAGE",null,"SIDE ORDER- APPETIZER",1,4,{"$f":"IFERROR($E163*SUMIF('Daily Log'!$B$18:$B$1017,$B163,'Daily Log'!$C$18:$C$1017),0)","v":2},{"$f":"IFERROR($E163*SUMIF('Daily Log'!$E$18:$E$1017,$B163,'Daily Log'!$F$18:$F$1017),0)","v":2},{"$f":"IFERROR($E163*SUMIF('Daily Log'!$H$18:$H$1017,$B163,'Daily Log'!$I$18:$I$1017),0)","v":0}," ",{"$f":"IFERROR($E163*SUMIF('Daily Log'!$N$18:$N$1017,$B163,'Daily Log'!$O$18:$O$1017),0)","v":0},{"$f":"IFERROR($E163*SUMIF('Daily Log'!#REF!,$B163,'Daily Log'!#REF!),0)","v":0},{"$f":"IFERROR($E163*SUMIF('Daily Log'!#REF!,$B163,'Daily Log'!#REF!),0)","v":0},{"$f":"IFERROR($E163*SUMIF('Daily Log'!#REF!,$B163,'Daily Log'!#REF!),0)","v":0},{"$f":"IFERROR($E163*SUMIF('Daily Log'!#REF!,$B163,'Daily Log'!#REF!),0)","v":0},{"$f":"IFERROR($E163*SUMIF('Daily Log'!#REF!,$B163,'Daily Log'!#REF!),0)","v":0},{"$f":"IFERROR($E163*SUMIF('Daily Log'!#REF!,$B163,'Daily Log'!#REF!),0)","v":0},{"$f":"IFERROR($E163*SUMIF('Daily Log'!#REF!,$B163,'Daily Log'!#REF!),0)","v":0},{"$f":"IFERROR($E163*SUMIF('Daily Log'!#REF!,$B163,'Daily Log'!#REF!),0)","v":0},{"$f":"IFERROR($E163*SUMIF('Daily Log'!#REF!,$B163,'Daily Log'!#REF!),0)","v":0},{"$f":"IFERROR($E163*SUMIF('Daily Log'!#REF!,$B163,'Daily Log'!#REF!),0)","v":0},{"$f":"IFERROR($E163*SUMIF('Daily Log'!#REF!,$B163,'Daily Log'!#REF!),0)","v":0},{"$f":"IFERROR($E163*SUMIF('Daily Log'!#REF!,$B163,'Daily Log'!#REF!),0)","v":0},{"$f":"IFERROR($E163*SUMIF('Daily Log'!#REF!,$B163,'Daily Log'!#REF!),0)","v":0},{"$f":"IFERROR($E163*SUMIF('Daily Log'!#REF!,$B163,'Daily Log'!#REF!),0)","v":0},{"$f":"IFERROR($E163*SUMIF('Daily Log'!#REF!,$B163,'Daily Log'!#REF!),0)","v":0},{"$f":"IFERROR($E163*SUMIF('Daily Log'!#REF!,$B163,'Daily Log'!#REF!),0)","v":0},{"$f":"IFERROR($E163*SUMIF('Daily Log'!#REF!,$B163,'Daily Log'!#REF!),0)","v":0},{"$f":"IFERROR($E163*SUMIF('Daily Log'!#REF!,$B163,'Daily Log'!#REF!),0)","v":0},{"$f":"IFERROR($E163*SUMIF('Daily Log'!#REF!,$B163,'Daily Log'!#REF!),0)","v":0},{"$f":"IFERROR($E163*SUMIF('Daily Log'!#REF!,$B163,'Daily Log'!#REF!),0)","v":0},{"$f":"IFERROR($E163*SUMIF('Daily Log'!#REF!,$B163,'Daily Log'!#REF!),0)","v":0},{"$f":"IFERROR($E163*SUMIF('Daily Log'!#REF!,$B163,'Daily Log'!#REF!),0)","v":0},{"$f":"IFERROR($E163*SUMIF('Daily Log'!#REF!,$B163,'Daily Log'!#REF!),0)","v":0},{"$f":"IFERROR($E163*SUMIF('Daily Log'!#REF!,$B163,'Daily Log'!#REF!),0)","v":0},{"$f":"IFERROR($E163*SUMIF('Daily Log'!#REF!,$B163,'Daily Log'!#REF!),0)","v":0},{"$f":"IFERROR($E163*SUMIF('Daily Log'!#REF!,$B163,'Daily Log'!#REF!),0)","v":0}]
[null,"DD08 1208:HOTDOG BUN",null,"SIDE ORDER- APPETIZER",1,0,{"$f":"IFERROR($E164*SUMIF('Daily Log'!$B$18:$B$1017,$B164,'Daily Log'!$C$18:$C$1017),0)","v":0},{"$f":"IFERROR($E164*SUMIF('Daily Log'!$E$18:$E$1017,$B164,'Daily Log'!$F$18:$F$1017),0)","v":0},{"$f":"IFERROR($E164*SUMIF('Daily Log'!$H$18:$H$1017,$B164,'Daily Log'!$I$18:$I$1017),0)","v":0}," ",{"$f":"IFERROR($E164*SUMIF('Daily Log'!$N$18:$N$1017,$B164,'Daily Log'!$O$18:$O$1017),0)","v":0},{"$f":"IFERROR($E164*SUMIF('Daily Log'!#REF!,$B164,'Daily Log'!#REF!),0)","v":0},{"$f":"IFERROR($E164*SUMIF('Daily Log'!#REF!,$B164,'Daily Log'!#REF!),0)","v":0},{"$f":"IFERROR($E164*SUMIF('Daily Log'!#REF!,$B164,'Daily Log'!#REF!),0)","v":0},{"$f":"IFERROR($E164*SUMIF('Daily Log'!#REF!,$B164,'Daily Log'!#REF!),0)","v":0},{"$f":"IFERROR($E164*SUMIF('Daily Log'!#REF!,$B164,'Daily Log'!#REF!),0)","v":0},{"$f":"IFERROR($E164*SUMIF('Daily Log'!#REF!,$B164,'Daily Log'!#REF!),0)","v":0},{"$f":"IFERROR($E164*SUMIF('Daily Log'!#REF!,$B164,'Daily Log'!#REF!),0)","v":0},{"$f":"IFERROR($E164*SUMIF('Daily Log'!#REF!,$B164,'Daily Log'!#REF!),0)","v":0},{"$f":"IFERROR($E164*SUMIF('Daily Log'!#REF!,$B164,'Daily Log'!#REF!),0)","v":0},{"$f":"IFERROR($E164*SUMIF('Daily Log'!#REF!,$B164,'Daily Log'!#REF!),0)","v":0},{"$f":"IFERROR($E164*SUMIF('Daily Log'!#REF!,$B164,'Daily Log'!#REF!),0)","v":0},{"$f":"IFERROR($E164*SUMIF('Daily Log'!#REF!,$B164,'Daily Log'!#REF!),0)","v":0},{"$f":"IFERROR($E164*SUMIF('Daily Log'!#REF!,$B164,'Daily Log'!#REF!),0)","v":0},{"$f":"IFERROR($E164*SUMIF('Daily Log'!#REF!,$B164,'Daily Log'!#REF!),0)","v":0},{"$f":"IFERROR($E164*SUMIF('Daily Log'!#REF!,$B164,'Daily Log'!#REF!),0)","v":0},{"$f":"IFERROR($E164*SUMIF('Daily Log'!#REF!,$B164,'Daily Log'!#REF!),0)","v":0},{"$f":"IFERROR($E164*SUMIF('Daily Log'!#REF!,$B164,'Daily Log'!#REF!),0)","v":0},{"$f":"IFERROR($E164*SUMIF('Daily Log'!#REF!,$B164,'Daily Log'!#REF!),0)","v":0},{"$f":"IFERROR($E164*SUMIF('Daily Log'!#REF!,$B164,'Daily Log'!#REF!),0)","v":0},{"$f":"IFERROR($E164*SUMIF('Daily Log'!#REF!,$B164,'Daily Log'!#REF!),0)","v":0},{"$f":"IFERROR($E164*SUMIF('Daily Log'!#REF!,$B164,'Daily Log'!#REF!),0)","v":0},{"$f":"IFERROR($E164*SUMIF('Daily Log'!#REF!,$B164,'Daily Log'!#REF!),0)","v":0},{"$f":"IFERROR($E164*SUMIF('Daily Log'!#REF!,$B164,'Daily Log'!#REF!),0)","v":0},{"$f":"IFERROR($E164*SUMIF('Daily Log'!#REF!,$B164,'Daily Log'!#REF!),0)","v":0},{"$f":"IFERROR($E164*SUMIF('Daily Log'!#REF!,$B164,'Daily Log'!#REF!),0)","v":0},{"$f":"IFERROR($E164*SUMIF('Daily Log'!#REF!,$B164,'Daily Log'!#REF!),0)","v":0}]
[null,"DD09 1209:SFD TOFU",null,"SIDE ORDER- APPETIZER",1,0,{"$f":"IFERROR($E165*SUMIF('Daily Log'!$B$18:$B$1017,$B165,'Daily Log'!$C$18:$C$1017),0)","v":0},{"$f":"IFERROR($E165*SUMIF('Daily Log'!$E$18:$E$1017,$B165,'Daily Log'!$F$18:$F$1017),0)","v":0},{"$f":"IFERROR($E165*SUMIF('Daily Log'!$H$18:$H$1017,$B165,'Daily Log'!$I$18:$I$1017),0)","v":0},{"$f":"IFERROR($E165*SUMIF('Daily Log'!$K$18:$K$1017,$B165,'Daily Log'!$L$18:$L$1017),0)","v":0},{"$f":"IFERROR($E165*SUMIF('Daily Log'!$N$18:$N$1017,$B165,'Daily Log'!$O$18:$O$1017),0)","v":0},{"$f":"IFERROR($E165*SUMIF('Daily Log'!#REF!,$B165,'Daily Log'!#REF!),0)","v":0},{"$f":"IFERROR($E165*SUMIF('Daily Log'!#REF!,$B165,'Daily Log'!#REF!),0)","v":0},{"$f":"IFERROR($E165*SUMIF('Daily Log'!#REF!,$B165,'Daily Log'!#REF!),0)","v":0},{"$f":"IFERROR($E165*SUMIF('Daily Log'!#REF!,$B165,'Daily Log'!#REF!),0)","v":0},{"$f":"IFERROR($E165*SUMIF('Daily Log'!#REF!,$B165,'Daily Log'!#REF!),0)","v":0},{"$f":"IFERROR($E165*SUMIF('Daily Log'!#REF!,$B165,'Daily Log'!#REF!),0)","v":0},{"$f":"IFERROR($E165*SUMIF('Daily Log'!#REF!,$B165,'Daily Log'!#REF!),0)","v":0},{"$f":"IFERROR($E165*SUMIF('Daily Log'!#REF!,$B165,'Daily Log'!#REF!),0)","v":0},{"$f":"IFERROR($E165*SUMIF('Daily Log'!#REF!,$B165,'Daily Log'!#REF!),0)","v":0},{"$f":"IFERROR($E165*SUMIF('Daily Log'!#REF!,$B165,'Daily Log'!#REF!),0)","v":0},{"$f":"IFERROR($E165*SUMIF('Daily Log'!#REF!,$B165,'Daily Log'!#REF!),0)","v":0},{"$f":"IFERROR($E165*SUMIF('Daily Log'!#REF!,$B165,'Daily Log'!#REF!),0)","v":0},{"$f":"IFERROR($E165*SUMIF('Daily Log'!#REF!,$B165,'Daily Log'!#REF!),0)","v":0},{"$f":"IFERROR($E165*SUMIF('Daily Log'!#REF!,$B165,'Daily Log'!#REF!),0)","v":0},{"$f":"IFERROR($E165*SUMIF('Daily Log'!#REF!,$B165,'Daily Log'!#REF!),0)","v":0},{"$f":"IFERROR($E165*SUMIF('Daily Log'!#REF!,$B165,'Daily Log'!#REF!),0)","v":0},{"$f":"IFERROR($E165*SUMIF('Daily Log'!#REF!,$B165,'Daily Log'!#REF!),0)","v":0},{"$f":"IFERROR($E165*SUMIF('Daily Log'!#REF!,$B165,'Daily Log'!#REF!),0)","v":0},{"$f":"IFERROR($E165*SUMIF('Daily Log'!#REF!,$B165,'Daily Log'!#REF!),0)","v":0},{"$f":"IFERROR($E165*SUMIF('Daily Log'!#REF!,$B165,'Daily Log'!#REF!),0)","v":0},{"$f":"IFERROR($E165*SUMIF('Daily Log'!#REF!,$B165,'Daily Log'!#REF!),0)","v":0},{"$f":"IFERROR($E165*SUMIF('Daily Log'!#REF!,$B165,'Daily Log'!#REF!),0)","v":0},{"$f":"IFERROR($E165*SUMIF('Daily Log'!#REF!,$B165,'Daily Log'!#REF!),0)","v":0},{"$f":"IFERROR($E165*SUMIF('Daily Log'!#REF!,$B165,'Daily Log'!#REF!),0)","v":0},{"$f":"IFERROR($E165*SUMIF('Daily Log'!#REF!,$B165,'Daily Log'!#REF!),0)","v":0},{"$f":"IFERROR($E165*SUMIF('Daily Log'!#REF!,$B165,'Daily Log'!#REF!),0)","v":0}]
[null,"DD10 1301:DUMPLING",null,"SIDE ORDER- APPETIZER",1,0,{"$f":"IFERROR($E166*SUMIF('Daily Log'!$B$18:$B$1017,$B166,'Daily Log'!$C$18:$C$1017),0)","v":0},{"$f":"IFERROR($E166*SUMIF('Daily Log'!$E$18:$E$1017,$B166,'Daily Log'!$F$18:$F$1017),0)","v":0},{"$f":"IFERROR($E166*SUMIF('Daily Log'!$H$18:$H$1017,$B166,'Daily Log'!$I$18:$I$1017),0)","v":0},{"$f":"IFERROR($E166*SUMIF('Daily Log'!$K$18:$K$1017,$B166,'Daily Log'!$L$18:$L$1017),0)","v":0},{"$f":"IFERROR($E166*SUMIF('Daily Log'!$N$18:$N$1017,$B166,'Daily Log'!$O$18:$O$1017),0)","v":0},{"$f":"IFERROR($E166*SUMIF('Daily Log'!#REF!,$B166,'Daily Log'!#REF!),0)","v":0},{"$f":"IFERROR($E166*SUMIF('Daily Log'!#REF!,$B166,'Daily Log'!#REF!),0)","v":0},{"$f":"IFERROR($E166*SUMIF('Daily Log'!#REF!,$B166,'Daily Log'!#REF!),0)","v":0},{"$f":"IFERROR($E166*SUMIF('Daily Log'!#REF!,$B166,'Daily Log'!#REF!),0)","v":0},{"$f":"IFERROR($E166*SUMIF('Daily Log'!#REF!,$B166,'Daily Log'!#REF!),0)","v":0},{"$f":"IFERROR($E166*SUMIF('Daily Log'!#REF!,$B166,'Daily Log'!#REF!),0)","v":0},{"$f":"IFERROR($E166*SUMIF('Daily Log'!#REF!,$B166,'Daily Log'!#REF!),0)","v":0},{"$f":"IFERROR($E166*SUMIF('Daily Log'!#REF!,$B166,'Daily Log'!#REF!),0)","v":0},{"$f":"IFERROR($E166*SUMIF('Daily Log'!#REF!,$B166,'Daily Log'!#REF!),0)","v":0},{"$f":"IFERROR($E166*SUMIF('Daily Log'!#REF!,$B166,'Daily Log'!#REF!),0)","v":0},{"$f":"IFERROR($E166*SUMIF('Daily Log'!#REF!,$B166,'Daily Log'!#REF!),0)","v":0},{"$f":"IFERROR($E166*SUMIF('Daily Log'!#REF!,$B166,'Daily Log'!#REF!),0)","v":0},{"$f":"IFERROR($E166*SUMIF('Daily Log'!#REF!,$B166,'Daily Log'!#REF!),0)","v":0},{"$f":"IFERROR($E166*SUMIF('Daily Log'!#REF!,$B166,'Daily Log'!#REF!),0)","v":0},{"$f":"IFERROR($E166*SUMIF('Daily Log'!#REF!,$B166,'Daily Log'!#REF!),0)","v":0},{"$f":"IFERROR($E166*SUMIF('Daily Log'!#REF!,$B166,'Daily Log'!#REF!),0)","v":0},{"$f":"IFERROR($E166*SUMIF('Daily Log'!#REF!,$B166,'Daily Log'!#REF!),0)","v":0},{"$f":"IFERROR($E166*SUMIF('Daily Log'!#REF!,$B166,'Daily Log'!#REF!),0)","v":0},{"$f":"IFERROR($E166*SUMIF('Daily Log'!#REF!,$B166,'Daily Log'!#REF!),0)","v":0},{"$f":"IFERROR($E166*SUMIF('Daily Log'!#REF!,$B166,'Daily Log'!#REF!),0)","v":0},{"$f":"IFERROR($E166*SUMIF('Daily Log'!#REF!,$B166,'Daily Log'!#REF!),0)","v":0},{"$f":"IFERROR($E166*SUMIF('Daily Log'!#REF!,$B166,'Daily Log'!#REF!),0)","v":0},{"$f":"IFERROR($E166*SUMIF('Daily Log'!#REF!,$B166,'Daily Log'!#REF!),0)","v":0},{"$f":"IFERROR($E166*SUMIF('Daily Log'!#REF!,$B166,'Daily Log'!#REF!),0)","v":0},{"$f":"IFERROR($E166*SUMIF('Daily Log'!#REF!,$B166,'Daily Log'!#REF!),0)","v":0},{"$f":"IFERROR($E166*SUMIF('Daily Log'!#REF!,$B166,'Daily Log'!#REF!),0)","v":0}]
[null,"DD11 1302:NUGGET",null,"SIDE ORDER- APPETIZER",1,6,{"$f":"IFERROR($E167*SUMIF('Daily Log'!$B$18:$B$1017,$B167,'Daily Log'!$C$18:$C$1017),0)","v":1},{"$f":"IFERROR($E167*SUMIF('Daily Log'!$E$18:$E$1017,$B167,'Daily Log'!$F$18:$F$1017),0)","v":0},{"$f":"IFERROR($E167*SUMIF('Daily Log'!$H$18:$H$1017,$B167,'Daily Log'!$I$18:$I$1017),0)","v":2},{"$f":"IFERROR($E167*SUMIF('Daily Log'!$K$18:$K$1017,$B167,'Daily Log'!$L$18:$L$1017),0)","v":2},{"$f":"IFERROR($E167*SUMIF('Daily Log'!$N$18:$N$1017,$B167,'Daily Log'!$O$18:$O$1017),0)","v":1},{"$f":"IFERROR($E167*SUMIF('Daily Log'!#REF!,$B167,'Daily Log'!#REF!),0)","v":0},{"$f":"IFERROR($E167*SUMIF('Daily Log'!#REF!,$B167,'Daily Log'!#REF!),0)","v":0},{"$f":"IFERROR($E167*SUMIF('Daily Log'!#REF!,$B167,'Daily Log'!#REF!),0)","v":0},{"$f":"IFERROR($E167*SUMIF('Daily Log'!#REF!,$B167,'Daily Log'!#REF!),0)","v":0},{"$f":"IFERROR($E167*SUMIF('Daily Log'!#REF!,$B167,'Daily Log'!#REF!),0)","v":0},{"$f":"IFERROR($E167*SUMIF('Daily Log'!#REF!,$B167,'Daily Log'!#REF!),0)","v":0},{"$f":"IFERROR($E167*SUMIF('Daily Log'!#REF!,$B167,'Daily Log'!#REF!),0)","v":0},{"$f":"IFERROR($E167*SUMIF('Daily Log'!#REF!,$B167,'Daily Log'!#REF!),0)","v":0},{"$f":"IFERROR($E167*SUMIF('Daily Log'!#REF!,$B167,'Daily Log'!#REF!),0)","v":0},{"$f":"IFERROR($E167*SUMIF('Daily Log'!#REF!,$B167,'Daily Log'!#REF!),0)","v":0},{"$f":"IFERROR($E167*SUMIF('Daily Log'!#REF!,$B167,'Daily Log'!#REF!),0)","v":0},{"$f":"IFERROR($E167*SUMIF('Daily Log'!#REF!,$B167,'Daily Log'!#REF!),0)","v":0},{"$f":"IFERROR($E167*SUMIF('Daily Log'!#REF!,$B167,'Daily Log'!#REF!),0)","v":0},{"$f":"IFERROR($E167*SUMIF('Daily Log'!#REF!,$B167,'Daily Log'!#REF!),0)","v":0},{"$f":"IFERROR($E167*SUMIF('Daily Log'!#REF!,$B167,'Daily Log'!#REF!),0)","v":0},{"$f":"IFERROR($E167*SUMIF('Daily Log'!#REF!,$B167,'Daily Log'!#REF!),0)","v":0},{"$f":"IFERROR($E167*SUMIF('Daily Log'!#REF!,$B167,'Daily Log'!#REF!),0)","v":0},{"$f":"IFERROR($E167*SUMIF('Daily Log'!#REF!,$B167,'Daily Log'!#REF!),0)","v":0},{"$f":"IFERROR($E167*SUMIF('Daily Log'!#REF!,$B167,'Daily Log'!#REF!),0)","v":0},{"$f":"IFERROR($E167*SUMIF('Daily Log'!#REF!,$B167,'Daily Log'!#REF!),0)","v":0},{"$f":"IFERROR($E167*SUMIF('Daily Log'!#REF!,$B167,'Daily Log'!#REF!),0)","v":0},{"$f":"IFERROR($E167*SUMIF('Daily Log'!#REF!,$B167,'Daily Log'!#REF!),0)","v":0},{"$f":"IFERROR($E167*SUMIF('Daily Log'!#REF!,$B167,'Daily Log'!#REF!),0)","v":0},{"$f":"IFERROR($E167*SUMIF('Daily Log'!#REF!,$B167,'Daily Log'!#REF!),0)","v":0},{"$f":"IFERROR($E167*SUMIF('Daily Log'!#REF!,$B167,'Daily Log'!#REF!),0)","v":0},{"$f":"IFERROR($E167*SUMIF('Daily Log'!#REF!,$B167,'Daily Log'!#REF!),0)","v":0}]
[null,"DD12 1303:CHK WING",null,"SIDE ORDER- APPETIZER",1,3,{"$f":"IFERROR($E168*SUMIF('Daily Log'!$B$18:$B$1017,$B168,'Daily Log'!$C$18:$C$1017),0)","v":0},{"$f":"IFERROR($E168*SUMIF('Daily Log'!$E$18:$E$1017,$B168,'Daily Log'!$F$18:$F$1017),0)","v":0},{"$f":"IFERROR($E168*SUMIF('Daily Log'!$H$18:$H$1017,$B168,'Daily Log'!$I$18:$I$1017),0)","v":2},{"$f":"IFERROR($E168*SUMIF('Daily Log'!$K$18:$K$1017,$B168,'Daily Log'!$L$18:$L$1017),0)","v":1},{"$f":"IFERROR($E168*SUMIF('Daily Log'!$N$18:$N$1017,$B168,'Daily Log'!$O$18:$O$1017),0)","v":0},{"$f":"IFERROR($E168*SUMIF('Daily Log'!#REF!,$B168,'Daily Log'!#REF!),0)","v":0},{"$f":"IFERROR($E168*SUMIF('Daily Log'!#REF!,$B168,'Daily Log'!#REF!),0)","v":0},{"$f":"IFERROR($E168*SUMIF('Daily Log'!#REF!,$B168,'Daily Log'!#REF!),0)","v":0},{"$f":"IFERROR($E168*SUMIF('Daily Log'!#REF!,$B168,'Daily Log'!#REF!),0)","v":0},{"$f":"IFERROR($E168*SUMIF('Daily Log'!#REF!,$B168,'Daily Log'!#REF!),0)","v":0},{"$f":"IFERROR($E168*SUMIF('Daily Log'!#REF!,$B168,'Daily Log'!#REF!),0)","v":0},{"$f":"IFERROR($E168*SUMIF('Daily Log'!#REF!,$B168,'Daily Log'!#REF!),0)","v":0},{"$f":"IFERROR($E168*SUMIF('Daily Log'!#REF!,$B168,'Daily Log'!#REF!),0)","v":0},{"$f":"IFERROR($E168*SUMIF('Daily Log'!#REF!,$B168,'Daily Log'!#REF!),0)","v":0},{"$f":"IFERROR($E168*SUMIF('Daily Log'!#REF!,$B168,'Daily Log'!#REF!),0)","v":0},{"$f":"IFERROR($E168*SUMIF('Daily Log'!#REF!,$B168,'Daily Log'!#REF!),0)","v":0},{"$f":"IFERROR($E168*SUMIF('Daily Log'!#REF!,$B168,'Daily Log'!#REF!),0)","v":0},{"$f":"IFERROR($E168*SUMIF('Daily Log'!#REF!,$B168,'Daily Log'!#REF!),0)","v":0},{"$f":"IFERROR($E168*SUMIF('Daily Log'!#REF!,$B168,'Daily Log'!#REF!),0)","v":0},{"$f":"IFERROR($E168*SUMIF('Daily Log'!#REF!,$B168,'Daily Log'!#REF!),0)","v":0},{"$f":"IFERROR($E168*SUMIF('Daily Log'!#REF!,$B168,'Daily Log'!#REF!),0)","v":0},{"$f":"IFERROR($E168*SUMIF('Daily Log'!#REF!,$B168,'Daily Log'!#REF!),0)","v":0},{"$f":"IFERROR($E168*SUMIF('Daily Log'!#REF!,$B168,'Daily Log'!#REF!),0)","v":0},{"$f":"IFERROR($E168*SUMIF('Daily Log'!#REF!,$B168,'Daily Log'!#REF!),0)","v":0},{"$f":"IFERROR($E168*SUMIF('Daily Log'!#REF!,$B168,'Daily Log'!#REF!),0)","v":0},{"$f":"IFERROR($E168*SUMIF('Daily Log'!#REF!,$B168,'Daily Log'!#REF!),0)","v":0},{"$f":"IFERROR($E168*SUMIF('Daily Log'!#REF!,$B168,'Daily Log'!#REF!),0)","v":0},{"$f":"IFERROR($E168*SUMIF('Daily Log'!#REF!,$B168,'Daily Log'!#REF!),0)","v":0},{"$f":"IFERROR($E168*SUMIF('Daily Log'!#REF!,$B168,'Daily Log'!#REF!),0)","v":0},{"$f":"IFERROR($E168*SUMIF('Daily Log'!#REF!,$B168,'Daily Log'!#REF!),0)","v":0},{"$f":"IFERROR($E168*SUMIF('Daily Log'!#REF!,$B168,'Daily Log'!#REF!),0)","v":0}]
[null,"DD13 1304:IKAN BILIS",null,"SIDE ORDER- APPETIZER",1,1,{"$f":"IFERROR($E169*SUMIF('Daily Log'!$B$18:$B$1017,$B169,'Daily Log'!$C$18:$C$1017),0)","v":0},{"$f":"IFERROR($E169*SUMIF('Daily Log'!$E$18:$E$1017,$B169,'Daily Log'!$F$18:$F$1017),0)","v":0},{"$f":"IFERROR($E169*SUMIF('Daily Log'!$H$18:$H$1017,$B169,'Daily Log'!$I$18:$I$1017),0)","v":0},{"$f":"IFERROR($E169*SUMIF('Daily Log'!$K$18:$K$1017,$B169,'Daily Log'!$L$18:$L$1017),0)","v":1},{"$f":"IFERROR($E169*SUMIF('Daily Log'!$N$18:$N$1017,$B169,'Daily Log'!$O$18:$O$1017),0)","v":0},{"$f":"IFERROR($E169*SUMIF('Daily Log'!#REF!,$B169,'Daily Log'!#REF!),0)","v":0},{"$f":"IFERROR($E169*SUMIF('Daily Log'!#REF!,$B169,'Daily Log'!#REF!),0)","v":0},{"$f":"IFERROR($E169*SUMIF('Daily Log'!#REF!,$B169,'Daily Log'!#REF!),0)","v":0},{"$f":"IFERROR($E169*SUMIF('Daily Log'!#REF!,$B169,'Daily Log'!#REF!),0)","v":0},{"$f":"IFERROR($E169*SUMIF('Daily Log'!#REF!,$B169,'Daily Log'!#REF!),0)","v":0},{"$f":"IFERROR($E169*SUMIF('Daily Log'!#REF!,$B169,'Daily Log'!#REF!),0)","v":0},{"$f":"IFERROR($E169*SUMIF('Daily Log'!#REF!,$B169,'Daily Log'!#REF!),0)","v":0},{"$f":"IFERROR($E169*SUMIF('Daily Log'!#REF!,$B169,'Daily Log'!#REF!),0)","v":0},{"$f":"IFERROR($E169*SUMIF('Daily Log'!#REF!,$B169,'Daily Log'!#REF!),0)","v":0},{"$f":"IFERROR($E169*SUMIF('Daily Log'!#REF!,$B169,'Daily Log'!#REF!),0)","v":0},{"$f":"IFERROR($E169*SUMIF('Daily Log'!#REF!,$B169,'Daily Log'!#REF!),0)","v":0},{"$f":"IFERROR($E169*SUMIF('Daily Log'!#REF!,$B169,'Daily Log'!#REF!),0)","v":0},{"$f":"IFERROR($E169*SUMIF('Daily Log'!#REF!,$B169,'Daily Log'!#REF!),0)","v":0},{"$f":"IFERROR($E169*SUMIF('Daily Log'!#REF!,$B169,'Daily Log'!#REF!),0)","v":0},{"$f":"IFERROR($E169*SUMIF('Daily Log'!#REF!,$B169,'Daily Log'!#REF!),0)","v":0},{"$f":"IFERROR($E169*SUMIF('Daily Log'!#REF!,$B169,'Daily Log'!#REF!),0)","v":0},{"$f":"IFERROR($E169*SUMIF('Daily Log'!#REF!,$B169,'Daily Log'!#REF!),0)","v":0},{"$f":"IFERROR($E169*SUMIF('Daily Log'!#REF!,$B169,'Daily Log'!#REF!),0)","v":0},{"$f":"IFERROR($E169*SUMIF('Daily Log'!#REF!,$B169,'Daily Log'!#REF!),0)","v":0},{"$f":"IFERROR($E169*SUMIF('Daily Log'!#REF!,$B169,'Daily Log'!#REF!),0)","v":0},{"$f":"IFERROR($E169*SUMIF('Daily Log'!#REF!,$B169,'Daily Log'!#REF!),0)","v":0},{"$f":"IFERROR($E169*SUMIF('Daily Log'!#REF!,$B169,'Daily Log'!#REF!),0)","v":0},{"$f":"IFERROR($E169*SUMIF('Daily Log'!#REF!,$B169,'Daily Log'!#REF!),0)","v":0},{"$f":"IFERROR($E169*SUMIF('Daily Log'!#REF!,$B169,'Daily Log'!#REF!),0)","v":0},{"$f":"IFERROR($E169*SUMIF('Daily Log'!#REF!,$B169,'Daily Log'!#REF!),0)","v":0},{"$f":"IFERROR($E169*SUMIF('Daily Log'!#REF!,$B169,'Daily Log'!#REF!),0)","v":0}]
[null,"DD14 1305:THAI RL",null,"SIDE ORDER- APPETIZER",1,0,{"$f":"IFERROR($E170*SUMIF('Daily Log'!$B$18:$B$1017,$B170,'Daily Log'!$C$18:$C$1017),0)","v":0},{"$f":"IFERROR($E170*SUMIF('Daily Log'!$E$18:$E$1017,$B170,'Daily Log'!$F$18:$F$1017),0)","v":0},{"$f":"IFERROR($E170*SUMIF('Daily Log'!$H$18:$H$1017,$B170,'Daily Log'!$I$18:$I$1017),0)","v":0},{"$f":"IFERROR($E170*SUMIF('Daily Log'!$K$18:$K$1017,$B170,'Daily Log'!$L$18:$L$1017),0)","v":0},{"$f":"IFERROR($E170*SUMIF('Daily Log'!$N$18:$N$1017,$B170,'Daily Log'!$O$18:$O$1017),0)","v":0},{"$f":"IFERROR($E170*SUMIF('Daily Log'!#REF!,$B170,'Daily Log'!#REF!),0)","v":0},{"$f":"IFERROR($E170*SUMIF('Daily Log'!#REF!,$B170,'Daily Log'!#REF!),0)","v":0},{"$f":"IFERROR($E170*SUMIF('Daily Log'!#REF!,$B170,'Daily Log'!#REF!),0)","v":0},{"$f":"IFERROR($E170*SUMIF('Daily Log'!#REF!,$B170,'Daily Log'!#REF!),0)","v":0},{"$f":"IFERROR($E170*SUMIF('Daily Log'!#REF!,$B170,'Daily Log'!#REF!),0)","v":0},{"$f":"IFERROR($E170*SUMIF('Daily Log'!#REF!,$B170,'Daily Log'!#REF!),0)","v":0},{"$f":"IFERROR($E170*SUMIF('Daily Log'!#REF!,$B170,'Daily Log'!#REF!),0)","v":0},{"$f":"IFERROR($E170*SUMIF('Daily Log'!#REF!,$B170,'Daily Log'!#REF!),0)","v":0},{"$f":"IFERROR($E170*SUMIF('Daily Log'!#REF!,$B170,'Daily Log'!#REF!),0)","v":0},{"$f":"IFERROR($E170*SUMIF('Daily Log'!#REF!,$B170,'Daily Log'!#REF!),0)","v":0},{"$f":"IFERROR($E170*SUMIF('Daily Log'!#REF!,$B170,'Daily Log'!#REF!),0)","v":0},{"$f":"IFERROR($E170*SUMIF('Daily Log'!#REF!,$B170,'Daily Log'!#REF!),0)","v":0},{"$f":"IFERROR($E170*SUMIF('Daily Log'!#REF!,$B170,'Daily Log'!#REF!),0)","v":0},{"$f":"IFERROR($E170*SUMIF('Daily Log'!#REF!,$B170,'Daily Log'!#REF!),0)","v":0},{"$f":"IFERROR($E170*SUMIF('Daily Log'!#REF!,$B170,'Daily Log'!#REF!),0)","v":0},{"$f":"IFERROR($E170*SUMIF('Daily Log'!#REF!,$B170,'Daily Log'!#REF!),0)","v":0},{"$f":"IFERROR($E170*SUMIF('Daily Log'!#REF!,$B170,'Daily Log'!#REF!),0)","v":0},{"$f":"IFERROR($E170*SUMIF('Daily Log'!#REF!,$B170,'Daily Log'!#REF!),0)","v":0},{"$f":"IFERROR($E170*SUMIF('Daily Log'!#REF!,$B170,'Daily Log'!#REF!),0)","v":0},{"$f":"IFERROR($E170*SUMIF('Daily Log'!#REF!,$B170,'Daily Log'!#REF!),0)","v":0},{"$f":"IFERROR($E170*SUMIF('Daily Log'!#REF!,$B170,'Daily Log'!#REF!),0)","v":0},{"$f":"IFERROR($E170*SUMIF('Daily Log'!#REF!,$B170,'Daily Log'!#REF!),0)","v":0},{"$f":"IFERROR($E170*SUMIF('Daily Log'!#REF!,$B170,'Daily Log'!#REF!),0)","v":0},{"$f":"IFERROR($E170*SUMIF('Daily Log'!#REF!,$B170,'Daily Log'!#REF!),0)","v":0},{"$f":"IFERROR($E170*SUMIF('Daily Log'!#REF!,$B170,'Daily Log'!#REF!),0)","v":0},{"$f":"IFERROR($E170*SUMIF('Daily Log'!#REF!,$B170,'Daily Log'!#REF!),0)","v":0}]
[null,"DD15 1306:SLVR FISH",null,"SIDE ORDER- APPETIZER",1,0,{"$f":"IFERROR($E171*SUMIF('Daily Log'!$B$18:$B$1017,$B171,'Daily Log'!$C$18:$C$1017),0)","v":0},{"$f":"IFERROR($E171*SUMIF('Daily Log'!$E$18:$E$1017,$B171,'Daily Log'!$F$18:$F$1017),0)","v":0},{"$f":"IFERROR($E171*SUMIF('Daily Log'!$H$18:$H$1017,$B171,'Daily Log'!$I$18:$I$1017),0)","v":0},{"$f":"IFERROR($E171*SUMIF('Daily Log'!$K$18:$K$1017,$B171,'Daily Log'!$L$18:$L$1017),0)","v":0},{"$f":"IFERROR($E171*SUMIF('Daily Log'!$N$18:$N$1017,$B171,'Daily Log'!$O$18:$O$1017),0)","v":0},{"$f":"IFERROR($E171*SUMIF('Daily Log'!#REF!,$B171,'Daily Log'!#REF!),0)","v":0},{"$f":"IFERROR($E171*SUMIF('Daily Log'!#REF!,$B171,'Daily Log'!#REF!),0)","v":0},{"$f":"IFERROR($E171*SUMIF('Daily Log'!#REF!,$B171,'Daily Log'!#REF!),0)","v":0},{"$f":"IFERROR($E171*SUMIF('Daily Log'!#REF!,$B171,'Daily Log'!#REF!),0)","v":0},{"$f":"IFERROR($E171*SUMIF('Daily Log'!#REF!,$B171,'Daily Log'!#REF!),0)","v":0},{"$f":"IFERROR($E171*SUMIF('Daily Log'!#REF!,$B171,'Daily Log'!#REF!),0)","v":0},{"$f":"IFERROR($E171*SUMIF('Daily Log'!#REF!,$B171,'Daily Log'!#REF!),0)","v":0},{"$f":"IFERROR($E171*SUMIF('Daily Log'!#REF!,$B171,'Daily Log'!#REF!),0)","v":0},{"$f":"IFERROR($E171*SUMIF('Daily Log'!#REF!,$B171,'Daily Log'!#REF!),0)","v":0},{"$f":"IFERROR($E171*SUMIF('Daily Log'!#REF!,$B171,'Daily Log'!#REF!),0)","v":0},{"$f":"IFERROR($E171*SUMIF('Daily Log'!#REF!,$B171,'Daily Log'!#REF!),0)","v":0},{"$f":"IFERROR($E171*SUMIF('Daily Log'!#REF!,$B171,'Daily Log'!#REF!),0)","v":0},{"$f":"IFERROR($E171*SUMIF('Daily Log'!#REF!,$B171,'Daily Log'!#REF!),0)","v":0},{"$f":"IFERROR($E171*SUMIF('Daily Log'!#REF!,$B171,'Daily Log'!#REF!),0)","v":0},{"$f":"IFERROR($E171*SUMIF('Daily Log'!#REF!,$B171,'Daily Log'!#REF!),0)","v":0},{"$f":"IFERROR($E171*SUMIF('Daily Log'!#REF!,$B171,'Daily Log'!#REF!),0)","v":0},{"$f":"IFERROR($E171*SUMIF('Daily Log'!#REF!,$B171,'Daily Log'!#REF!),0)","v":0},{"$f":"IFERROR($E171*SUMIF('Daily Log'!#REF!,$B171,'Daily Log'!#REF!),0)","v":0},{"$f":"IFERROR($E171*SUMIF('Daily Log'!#REF!,$B171,'Daily Log'!#REF!),0)","v":0},{"$f":"IFERROR($E171*SUMIF('Daily Log'!#REF!,$B171,'Daily Log'!#REF!),0)","v":0},{"$f":"IFERROR($E171*SUMIF('Daily Log'!#REF!,$B171,'Daily Log'!#REF!),0)","v":0},{"$f":"IFERROR($E171*SUMIF('Daily Log'!#REF!,$B171,'Daily Log'!#REF!),0)","v":0},{"$f":"IFERROR($E171*SUMIF('Daily Log'!#REF!,$B171,'Daily Log'!#REF!),0)","v":0},{"$f":"IFERROR($E171*SUMIF('Daily Log'!#REF!,$B171,'Daily Log'!#REF!),0)","v":0},{"$f":"IFERROR($E171*SUMIF('Daily Log'!#REF!,$B171,'Daily Log'!#REF!),0)","v":0},{"$f":"IFERROR($E171*SUMIF('Daily Log'!#REF!,$B171,'Daily Log'!#REF!),0)","v":0}]
[null,"DD16 1307:D.F C/WING",null,"SIDE ORDER- APPETIZER",1,2,{"$f":"IFERROR($E172*SUMIF('Daily Log'!$B$18:$B$1017,$B172,'Daily Log'!$C$18:$C$1017),0)","v":0},{"$f":"IFERROR($E172*SUMIF('Daily Log'!$E$18:$E$1017,$B172,'Daily Log'!$F$18:$F$1017),0)","v":1},{"$f":"IFERROR($E172*SUMIF('Daily Log'!$H$18:$H$1017,$B172,'Daily Log'!$I$18:$I$1017),0)","v":0},{"$f":"IFERROR($E172*SUMIF('Daily Log'!$K$18:$K$1017,$B172,'Daily Log'!$L$18:$L$1017),0)","v":0},{"$f":"IFERROR($E172*SUMIF('Daily Log'!$N$18:$N$1017,$B172,'Daily Log'!$O$18:$O$1017),0)","v":1},{"$f":"IFERROR($E172*SUMIF('Daily Log'!#REF!,$B172,'Daily Log'!#REF!),0)","v":0},{"$f":"IFERROR($E172*SUMIF('Daily Log'!#REF!,$B172,'Daily Log'!#REF!),0)","v":0},{"$f":"IFERROR($E172*SUMIF('Daily Log'!#REF!,$B172,'Daily Log'!#REF!),0)","v":0},{"$f":"IFERROR($E172*SUMIF('Daily Log'!#REF!,$B172,'Daily Log'!#REF!),0)","v":0},{"$f":"IFERROR($E172*SUMIF('Daily Log'!#REF!,$B172,'Daily Log'!#REF!),0)","v":0},{"$f":"IFERROR($E172*SUMIF('Daily Log'!#REF!,$B172,'Daily Log'!#REF!),0)","v":0},{"$f":"IFERROR($E172*SUMIF('Daily Log'!#REF!,$B172,'Daily Log'!#REF!),0)","v":0},{"$f":"IFERROR($E172*SUMIF('Daily Log'!#REF!,$B172,'Daily Log'!#REF!),0)","v":0},{"$f":"IFERROR($E172*SUMIF('Daily Log'!#REF!,$B172,'Daily Log'!#REF!),0)","v":0},{"$f":"IFERROR($E172*SUMIF('Daily Log'!#REF!,$B172,'Daily Log'!#REF!),0)","v":0},{"$f":"IFERROR($E172*SUMIF('Daily Log'!#REF!,$B172,'Daily Log'!#REF!),0)","v":0},{"$f":"IFERROR($E172*SUMIF('Daily Log'!#REF!,$B172,'Daily Log'!#REF!),0)","v":0},{"$f":"IFERROR($E172*SUMIF('Daily Log'!#REF!,$B172,'Daily Log'!#REF!),0)","v":0},{"$f":"IFERROR($E172*SUMIF('Daily Log'!#REF!,$B172,'Daily Log'!#REF!),0)","v":0},{"$f":"IFERROR($E172*SUMIF('Daily Log'!#REF!,$B172,'Daily Log'!#REF!),0)","v":0},{"$f":"IFERROR($E172*SUMIF('Daily Log'!#REF!,$B172,'Daily Log'!#REF!),0)","v":0},{"$f":"IFERROR($E172*SUMIF('Daily Log'!#REF!,$B172,'Daily Log'!#REF!),0)","v":0},{"$f":"IFERROR($E172*SUMIF('Daily Log'!#REF!,$B172,'Daily Log'!#REF!),0)","v":0},{"$f":"IFERROR($E172*SUMIF('Daily Log'!#REF!,$B172,'Daily Log'!#REF!),0)","v":0},{"$f":"IFERROR($E172*SUMIF('Daily Log'!#REF!,$B172,'Daily Log'!#REF!),0)","v":0},{"$f":"IFERROR($E172*SUMIF('Daily Log'!#REF!,$B172,'Daily Log'!#REF!),0)","v":0},{"$f":"IFERROR($E172*SUMIF('Daily Log'!#REF!,$B172,'Daily Log'!#REF!),0)","v":0},{"$f":"IFERROR($E172*SUMIF('Daily Log'!#REF!,$B172,'Daily Log'!#REF!),0)","v":0},{"$f":"IFERROR($E172*SUMIF('Daily Log'!#REF!,$B172,'Daily Log'!#REF!),0)","v":0},{"$f":"IFERROR($E172*SUMIF('Daily Log'!#REF!,$B172,'Daily Log'!#REF!),0)","v":0},{"$f":"IFERROR($E172*SUMIF('Daily Log'!#REF!,$B172,'Daily Log'!#REF!),0)","v":0}]
[null,"DD17 1308 C/CALAMARI",null,"SIDE ORDER- APPETIZER",1,1,{"$f":"IFERROR($E173*SUMIF('Daily Log'!$B$18:$B$1017,$B173,'Daily Log'!$C$18:$C$1017),0)","v":0},{"$f":"IFERROR($E173*SUMIF('Daily Log'!$E$18:$E$1017,$B173,'Daily Log'!$F$18:$F$1017),0)","v":0},{"$f":"IFERROR($E173*SUMIF('Daily Log'!$H$18:$H$1017,$B173,'Daily Log'!$I$18:$I$1017),0)","v":0},{"$f":"IFERROR($E173*SUMIF('Daily Log'!$K$18:$K$1017,$B173,'Daily Log'!$L$18:$L$1017),0)","v":1},{"$f":"IFERROR($E173*SUMIF('Daily Log'!$N$18:$N$1017,$B173,'Daily Log'!$O$18:$O$1017),0)","v":0},{"$f":"IFERROR($E173*SUMIF('Daily Log'!#REF!,$B173,'Daily Log'!#REF!),0)","v":0},{"$f":"IFERROR($E173*SUMIF('Daily Log'!#REF!,$B173,'Daily Log'!#REF!),0)","v":0},{"$f":"IFERROR($E173*SUMIF('Daily Log'!#REF!,$B173,'Daily Log'!#REF!),0)","v":0},{"$f":"IFERROR($E173*SUMIF('Daily Log'!#REF!,$B173,'Daily Log'!#REF!),0)","v":0},{"$f":"IFERROR($E173*SUMIF('Daily Log'!#REF!,$B173,'Daily Log'!#REF!),0)","v":0},{"$f":"IFERROR($E173*SUMIF('Daily Log'!#REF!,$B173,'Daily Log'!#REF!),0)","v":0},{"$f":"IFERROR($E173*SUMIF('Daily Log'!#REF!,$B173,'Daily Log'!#REF!),0)","v":0},{"$f":"IFERROR($E173*SUMIF('Daily Log'!#REF!,$B173,'Daily Log'!#REF!),0)","v":0},{"$f":"IFERROR($E173*SUMIF('Daily Log'!#REF!,$B173,'Daily Log'!#REF!),0)","v":0},{"$f":"IFERROR($E173*SUMIF('Daily Log'!#REF!,$B173,'Daily Log'!#REF!),0)","v":0},{"$f":"IFERROR($E173*SUMIF('Daily Log'!#REF!,$B173,'Daily Log'!#REF!),0)","v":0},{"$f":"IFERROR($E173*SUMIF('Daily Log'!#REF!,$B173,'Daily Log'!#REF!),0)","v":0},{"$f":"IFERROR($E173*SUMIF('Daily Log'!#REF!,$B173,'Daily Log'!#REF!),0)","v":0},{"$f":"IFERROR($E173*SUMIF('Daily Log'!#REF!,$B173,'Daily Log'!#REF!),0)","v":0},{"$f":"IFERROR($E173*SUMIF('Daily Log'!#REF!,$B173,'Daily Log'!#REF!),0)","v":0},{"$f":"IFERROR($E173*SUMIF('Daily Log'!#REF!,$B173,'Daily Log'!#REF!),0)","v":0},{"$f":"IFERROR($E173*SUMIF('Daily Log'!#REF!,$B173,'Daily Log'!#REF!),0)","v":0},{"$f":"IFERROR($E173*SUMIF('Daily Log'!#REF!,$B173,'Daily Log'!#REF!),0)","v":0},{"$f":"IFERROR($E173*SUMIF('Daily Log'!#REF!,$B173,'Daily Log'!#REF!),0)","v":0},{"$f":"IFERROR($E173*SUMIF('Daily Log'!#REF!,$B173,'Daily Log'!#REF!),0)","v":0},{"$f":"IFERROR($E173*SUMIF('Daily Log'!#REF!,$B173,'Daily Log'!#REF!),0)","v":0},{"$f":"IFERROR($E173*SUMIF('Daily Log'!#REF!,$B173,'Daily Log'!#REF!),0)","v":0},{"$f":"IFERROR($E173*SUMIF('Daily Log'!#REF!,$B173,'Daily Log'!#REF!),0)","v":0},{"$f":"IFERROR($E173*SUMIF('Daily Log'!#REF!,$B173,'Daily Log'!#REF!),0)","v":0},{"$f":"IFERROR($E173*SUMIF('Daily Log'!#REF!,$B173,'Daily Log'!#REF!),0)","v":0},{"$f":"IFERROR($E173*SUMIF('Daily Log'!#REF!,$B173,'Daily Log'!#REF!),0)","v":0}]
[null,"DD18 1309 Mc C/O.RING",null,"SIDE ORDER- APPETIZER",1,0,{"$f":"IFERROR($E174*SUMIF('Daily Log'!$B$18:$B$1017,$B174,'Daily Log'!$C$18:$C$1017),0)","v":0},{"$f":"IFERROR($E174*SUMIF('Daily Log'!$E$18:$E$1017,$B174,'Daily Log'!$F$18:$F$1017),0)","v":0},{"$f":"IFERROR($E174*SUMIF('Daily Log'!$H$18:$H$1017,$B174,'Daily Log'!$I$18:$I$1017),0)","v":0},{"$f":"IFERROR($E174*SUMIF('Daily Log'!$K$18:$K$1017,$B174,'Daily Log'!$L$18:$L$1017),0)","v":0},{"$f":"IFERROR($E174*SUMIF('Daily Log'!$N$18:$N$1017,$B174,'Daily Log'!$O$18:$O$1017),0)","v":0},{"$f":"IFERROR($E174*SUMIF('Daily Log'!#REF!,$B174,'Daily Log'!#REF!),0)","v":0},{"$f":"IFERROR($E174*SUMIF('Daily Log'!#REF!,$B174,'Daily Log'!#REF!),0)","v":0},{"$f":"IFERROR($E174*SUMIF('Daily Log'!#REF!,$B174,'Daily Log'!#REF!),0)","v":0},{"$f":"IFERROR($E174*SUMIF('Daily Log'!#REF!,$B174,'Daily Log'!#REF!),0)","v":0},{"$f":"IFERROR($E174*SUMIF('Daily Log'!#REF!,$B174,'Daily Log'!#REF!),0)","v":0},{"$f":"IFERROR($E174*SUMIF('Daily Log'!#REF!,$B174,'Daily Log'!#REF!),0)","v":0},{"$f":"IFERROR($E174*SUMIF('Daily Log'!#REF!,$B174,'Daily Log'!#REF!),0)","v":0},{"$f":"IFERROR($E174*SUMIF('Daily Log'!#REF!,$B174,'Daily Log'!#REF!),0)","v":0},{"$f":"IFERROR($E174*SUMIF('Daily Log'!#REF!,$B174,'Daily Log'!#REF!),0)","v":0},{"$f":"IFERROR($E174*SUMIF('Daily Log'!#REF!,$B174,'Daily Log'!#REF!),0)","v":0},{"$f":"IFERROR($E174*SUMIF('Daily Log'!#REF!,$B174,'Daily Log'!#REF!),0)","v":0},{"$f":"IFERROR($E174*SUMIF('Daily Log'!#REF!,$B174,'Daily Log'!#REF!),0)","v":0},{"$f":"IFERROR($E174*SUMIF('Daily Log'!#REF!,$B174,'Daily Log'!#REF!),0)","v":0},{"$f":"IFERROR($E174*SUMIF('Daily Log'!#REF!,$B174,'Daily Log'!#REF!),0)","v":0},{"$f":"IFERROR($E174*SUMIF('Daily Log'!#REF!,$B174,'Daily Log'!#REF!),0)","v":0},{"$f":"IFERROR($E174*SUMIF('Daily Log'!#REF!,$B174,'Daily Log'!#REF!),0)","v":0},{"$f":"IFERROR($E174*SUMIF('Daily Log'!#REF!,$B174,'Daily Log'!#REF!),0)","v":0},{"$f":"IFERROR($E174*SUMIF('Daily Log'!#REF!,$B174,'Daily Log'!#REF!),0)","v":0},{"$f":"IFERROR($E174*SUMIF('Daily Log'!#REF!,$B174,'Daily Log'!#REF!),0)","v":0},{"$f":"IFERROR($E174*SUMIF('Daily Log'!#REF!,$B174,'Daily Log'!#REF!),0)","v":0},{"$f":"IFERROR($E174*SUMIF('Daily Log'!#REF!,$B174,'Daily Log'!#REF!),0)","v":0},{"$f":"IFERROR($E174*SUMIF('Daily Log'!#REF!,$B174,'Daily Log'!#REF!),0)","v":0},{"$f":"IFERROR($E174*SUMIF('Daily Log'!#REF!,$B174,'Daily Log'!#REF!),0)","v":0},{"$f":"IFERROR($E174*SUMIF('Daily Log'!#REF!,$B174,'Daily Log'!#REF!),0)","v":0},{"$f":"IFERROR($E174*SUMIF('Daily Log'!#REF!,$B174,'Daily Log'!#REF!),0)","v":0},{"$f":"IFERROR($E174*SUMIF('Daily Log'!#REF!,$B174,'Daily Log'!#REF!),0)","v":0}]
[null,"DD19 1310:Mc SPIRAL/F",null,"SIDE ORDER- APPETIZER",1,1,{"$f":"IFERROR($E175*SUMIF('Daily Log'!$B$18:$B$1017,$B175,'Daily Log'!$C$18:$C$1017),0)","v":0},{"$f":"IFERROR($E175*SUMIF('Daily Log'!$E$18:$E$1017,$B175,'Daily Log'!$F$18:$F$1017),0)","v":0},{"$f":"IFERROR($E175*SUMIF('Daily Log'!$H$18:$H$1017,$B175,'Daily Log'!$I$18:$I$1017),0)","v":1},{"$f":"IFERROR($E175*SUMIF('Daily Log'!$K$18:$K$1017,$B175,'Daily Log'!$L$18:$L$1017),0)","v":0},{"$f":"IFERROR($E175*SUMIF('Daily Log'!$N$18:$N$1017,$B175,'Daily Log'!$O$18:$O$1017),0)","v":0},{"$f":"IFERROR($E175*SUMIF('Daily Log'!#REF!,$B175,'Daily Log'!#REF!),0)","v":0},{"$f":"IFERROR($E175*SUMIF('Daily Log'!#REF!,$B175,'Daily Log'!#REF!),0)","v":0},{"$f":"IFERROR($E175*SUMIF('Daily Log'!#REF!,$B175,'Daily Log'!#REF!),0)","v":0},{"$f":"IFERROR($E175*SUMIF('Daily Log'!#REF!,$B175,'Daily Log'!#REF!),0)","v":0},{"$f":"IFERROR($E175*SUMIF('Daily Log'!#REF!,$B175,'Daily Log'!#REF!),0)","v":0},{"$f":"IFERROR($E175*SUMIF('Daily Log'!#REF!,$B175,'Daily Log'!#REF!),0)","v":0},{"$f":"IFERROR($E175*SUMIF('Daily Log'!#REF!,$B175,'Daily Log'!#REF!),0)","v":0},{"$f":"IFERROR($E175*SUMIF('Daily Log'!#REF!,$B175,'Daily Log'!#REF!),0)","v":0},{"$f":"IFERROR($E175*SUMIF('Daily Log'!#REF!,$B175,'Daily Log'!#REF!),0)","v":0},{"$f":"IFERROR($E175*SUMIF('Daily Log'!#REF!,$B175,'Daily Log'!#REF!),0)","v":0},{"$f":"IFERROR($E175*SUMIF('Daily Log'!#REF!,$B175,'Daily Log'!#REF!),0)","v":0},{"$f":"IFERROR($E175*SUMIF('Daily Log'!#REF!,$B175,'Daily Log'!#REF!),0)","v":0},{"$f":"IFERROR($E175*SUMIF('Daily Log'!#REF!,$B175,'Daily Log'!#REF!),0)","v":0},{"$f":"IFERROR($E175*SUMIF('Daily Log'!#REF!,$B175,'Daily Log'!#REF!),0)","v":0},{"$f":"IFERROR($E175*SUMIF('Daily Log'!#REF!,$B175,'Daily Log'!#REF!),0)","v":0},{"$f":"IFERROR($E175*SUMIF('Daily Log'!#REF!,$B175,'Daily Log'!#REF!),0)","v":0},{"$f":"IFERROR($E175*SUMIF('Daily Log'!#REF!,$B175,'Daily Log'!#REF!),0)","v":0},{"$f":"IFERROR($E175*SUMIF('Daily Log'!#REF!,$B175,'Daily Log'!#REF!),0)","v":0},{"$f":"IFERROR($E175*SUMIF('Daily Log'!#REF!,$B175,'Daily Log'!#REF!),0)","v":0},{"$f":"IFERROR($E175*SUMIF('Daily Log'!#REF!,$B175,'Daily Log'!#REF!),0)","v":0},{"$f":"IFERROR($E175*SUMIF('Daily Log'!#REF!,$B175,'Daily Log'!#REF!),0)","v":0},{"$f":"IFERROR($E175*SUMIF('Daily Log'!#REF!,$B175,'Daily Log'!#REF!),0)","v":0},{"$f":"IFERROR($E175*SUMIF('Daily Log'!#REF!,$B175,'Daily Log'!#REF!),0)","v":0},{"$f":"IFERROR($E175*SUMIF('Daily Log'!#REF!,$B175,'Daily Log'!#REF!),0)","v":0},{"$f":"IFERROR($E175*SUMIF('Daily Log'!#REF!,$B175,'Daily Log'!#REF!),0)","v":0},{"$f":"IFERROR($E175*SUMIF('Daily Log'!#REF!,$B175,'Daily Log'!#REF!),0)","v":0}]
[null,"DD20 1311:Mc H/SMILES",null,"SIDE ORDER- APPETIZER",1,0,{"$f":"IFERROR($E176*SUMIF('Daily Log'!$B$18:$B$1017,$B176,'Daily Log'!$C$18:$C$1017),0)","v":0},{"$f":"IFERROR($E176*SUMIF('Daily Log'!$E$18:$E$1017,$B176,'Daily Log'!$F$18:$F$1017),0)","v":0},{"$f":"IFERROR($E176*SUMIF('Daily Log'!$H$18:$H$1017,$B176,'Daily Log'!$I$18:$I$1017),0)","v":0},{"$f":"IFERROR($E176*SUMIF('Daily Log'!$K$18:$K$1017,$B176,'Daily Log'!$L$18:$L$1017),0)","v":0},{"$f":"IFERROR($E176*SUMIF('Daily Log'!$N$18:$N$1017,$B176,'Daily Log'!$O$18:$O$1017),0)","v":0},{"$f":"IFERROR($E176*SUMIF('Daily Log'!#REF!,$B176,'Daily Log'!#REF!),0)","v":0},{"$f":"IFERROR($E176*SUMIF('Daily Log'!#REF!,$B176,'Daily Log'!#REF!),0)","v":0},{"$f":"IFERROR($E176*SUMIF('Daily Log'!#REF!,$B176,'Daily Log'!#REF!),0)","v":0},{"$f":"IFERROR($E176*SUMIF('Daily Log'!#REF!,$B176,'Daily Log'!#REF!),0)","v":0},{"$f":"IFERROR($E176*SUMIF('Daily Log'!#REF!,$B176,'Daily Log'!#REF!),0)","v":0},{"$f":"IFERROR($E176*SUMIF('Daily Log'!#REF!,$B176,'Daily Log'!#REF!),0)","v":0},{"$f":"IFERROR($E176*SUMIF('Daily Log'!#REF!,$B176,'Daily Log'!#REF!),0)","v":0},{"$f":"IFERROR($E176*SUMIF('Daily Log'!#REF!,$B176,'Daily Log'!#REF!),0)","v":0},{"$f":"IFERROR($E176*SUMIF('Daily Log'!#REF!,$B176,'Daily Log'!#REF!),0)","v":0},{"$f":"IFERROR($E176*SUMIF('Daily Log'!#REF!,$B176,'Daily Log'!#REF!),0)","v":0},{"$f":"IFERROR($E176*SUMIF('Daily Log'!#REF!,$B176,'Daily Log'!#REF!),0)","v":0},{"$f":"IFERROR($E176*SUMIF('Daily Log'!#REF!,$B176,'Daily Log'!#REF!),0)","v":0},{"$f":"IFERROR($E176*SUMIF('Daily Log'!#REF!,$B176,'Daily Log'!#REF!),0)","v":0},{"$f":"IFERROR($E176*SUMIF('Daily Log'!#REF!,$B176,'Daily Log'!#REF!),0)","v":0},{"$f":"IFERROR($E176*SUMIF('Daily Log'!#REF!,$B176,'Daily Log'!#REF!),0)","v":0},{"$f":"IFERROR($E176*SUMIF('Daily Log'!#REF!,$B176,'Daily Log'!#REF!),0)","v":0},{"$f":"IFERROR($E176*SUMIF('Daily Log'!#REF!,$B176,'Daily Log'!#REF!),0)","v":0},{"$f":"IFERROR($E176*SUMIF('Daily Log'!#REF!,$B176,'Daily Log'!#REF!),0)","v":0},{"$f":"IFERROR($E176*SUMIF('Daily Log'!#REF!,$B176,'Daily Log'!#REF!),0)","v":0},{"$f":"IFERROR($E176*SUMIF('Daily Log'!#REF!,$B176,'Daily Log'!#REF!),0)","v":0},{"$f":"IFERROR($E176*SUMIF('Daily Log'!#REF!,$B176,'Daily Log'!#REF!),0)","v":0},{"$f":"IFERROR($E176*SUMIF('Daily Log'!#REF!,$B176,'Daily Log'!#REF!),0)","v":0},{"$f":"IFERROR($E176*SUMIF('Daily Log'!#REF!,$B176,'Daily Log'!#REF!),0)","v":0},{"$f":"IFERROR($E176*SUMIF('Daily Log'!#REF!,$B176,'Daily Log'!#REF!),0)","v":0},{"$f":"IFERROR($E176*SUMIF('Daily Log'!#REF!,$B176,'Daily Log'!#REF!),0)","v":0},{"$f":"IFERROR($E176*SUMIF('Daily Log'!#REF!,$B176,'Daily Log'!#REF!),0)","v":0}]
[null,"DD21 1312:Mc HASH BRW",null,"SIDE ORDER- APPETIZER",1,1,{"$f":"IFERROR($E177*SUMIF('Daily Log'!$B$18:$B$1017,$B177,'Daily Log'!$C$18:$C$1017),0)","v":1},{"$f":"IFERROR($E177*SUMIF('Daily Log'!$E$18:$E$1017,$B177,'Daily Log'!$F$18:$F$1017),0)","v":0},{"$f":"IFERROR($E177*SUMIF('Daily Log'!$H$18:$H$1017,$B177,'Daily Log'!$I$18:$I$1017),0)","v":0},{"$f":"IFERROR($E177*SUMIF('Daily Log'!$K$18:$K$1017,$B177,'Daily Log'!$L$18:$L$1017),0)","v":0},{"$f":"IFERROR($E177*SUMIF('Daily Log'!$N$18:$N$1017,$B177,'Daily Log'!$O$18:$O$1017),0)","v":0},{"$f":"IFERROR($E177*SUMIF('Daily Log'!#REF!,$B177,'Daily Log'!#REF!),0)","v":0},{"$f":"IFERROR($E177*SUMIF('Daily Log'!#REF!,$B177,'Daily Log'!#REF!),0)","v":0},{"$f":"IFERROR($E177*SUMIF('Daily Log'!#REF!,$B177,'Daily Log'!#REF!),0)","v":0},{"$f":"IFERROR($E177*SUMIF('Daily Log'!#REF!,$B177,'Daily Log'!#REF!),0)","v":0},{"$f":"IFERROR($E177*SUMIF('Daily Log'!#REF!,$B177,'Daily Log'!#REF!),0)","v":0},{"$f":"IFERROR($E177*SUMIF('Daily Log'!#REF!,$B177,'Daily Log'!#REF!),0)","v":0},{"$f":"IFERROR($E177*SUMIF('Daily Log'!#REF!,$B177,'Daily Log'!#REF!),0)","v":0},{"$f":"IFERROR($E177*SUMIF('Daily Log'!#REF!,$B177,'Daily Log'!#REF!),0)","v":0},{"$f":"IFERROR($E177*SUMIF('Daily Log'!#REF!,$B177,'Daily Log'!#REF!),0)","v":0},{"$f":"IFERROR($E177*SUMIF('Daily Log'!#REF!,$B177,'Daily Log'!#REF!),0)","v":0},{"$f":"IFERROR($E177*SUMIF('Daily Log'!#REF!,$B177,'Daily Log'!#REF!),0)","v":0},{"$f":"IFERROR($E177*SUMIF('Daily Log'!#REF!,$B177,'Daily Log'!#REF!),0)","v":0},{"$f":"IFERROR($E177*SUMIF('Daily Log'!#REF!,$B177,'Daily Log'!#REF!),0)","v":0},{"$f":"IFERROR($E177*SUMIF('Daily Log'!#REF!,$B177,'Daily Log'!#REF!),0)","v":0},{"$f":"IFERROR($E177*SUMIF('Daily Log'!#REF!,$B177,'Daily Log'!#REF!),0)","v":0},{"$f":"IFERROR($E177*SUMIF('Daily Log'!#REF!,$B177,'Daily Log'!#REF!),0)","v":0},{"$f":"IFERROR($E177*SUMIF('Daily Log'!#REF!,$B177,'Daily Log'!#REF!),0)","v":0},{"$f":"IFERROR($E177*SUMIF('Daily Log'!#REF!,$B177,'Daily Log'!#REF!),0)","v":0},{"$f":"IFERROR($E177*SUMIF('Daily Log'!#REF!,$B177,'Daily Log'!#REF!),0)","v":0},{"$f":"IFERROR($E177*SUMIF('Daily Log'!#REF!,$B177,'Daily Log'!#REF!),0)","v":0},{"$f":"IFERROR($E177*SUMIF('Daily Log'!#REF!,$B177,'Daily Log'!#REF!),0)","v":0},{"$f":"IFERROR($E177*SUMIF('Daily Log'!#REF!,$B177,'Daily Log'!#REF!),0)","v":0},{"$f":"IFERROR($E177*SUMIF('Daily Log'!#REF!,$B177,'Daily Log'!#REF!),0)","v":0},{"$f":"IFERROR($E177*SUMIF('Daily Log'!#REF!,$B177,'Daily Log'!#REF!),0)","v":0},{"$f":"IFERROR($E177*SUMIF('Daily Log'!#REF!,$B177,'Daily Log'!#REF!),0)","v":0},{"$f":"IFERROR($E177*SUMIF('Daily Log'!#REF!,$B177,'Daily Log'!#REF!),0)","v":0}]
[null,"DF01 ADD RICE",null,"SIDE ORDER-OTHERS",1,0,{"$f":"IFERROR($E178*SUMIF('Daily Log'!$B$18:$B$1017,$B178,'Daily Log'!$C$18:$C$1017),0)","v":0},{"$f":"IFERROR($E178*SUMIF('Daily Log'!$E$18:$E$1017,$B178,'Daily Log'!$F$18:$F$1017),0)","v":0},{"$f":"IFERROR($E178*SUMIF('Daily Log'!$H$18:$H$1017,$B178,'Daily Log'!$I$18:$I$1017),0)","v":0},{"$f":"IFERROR($E178*SUMIF('Daily Log'!$K$18:$K$1017,$B178,'Daily Log'!$L$18:$L$1017),0)","v":0},{"$f":"IFERROR($E178*SUMIF('Daily Log'!$N$18:$N$1017,$B178,'Daily Log'!$O$18:$O$1017),0)","v":0},{"$f":"IFERROR($E178*SUMIF('Daily Log'!#REF!,$B178,'Daily Log'!#REF!),0)","v":0},{"$f":"IFERROR($E178*SUMIF('Daily Log'!#REF!,$B178,'Daily Log'!#REF!),0)","v":0},{"$f":"IFERROR($E178*SUMIF('Daily Log'!#REF!,$B178,'Daily Log'!#REF!),0)","v":0},{"$f":"IFERROR($E178*SUMIF('Daily Log'!#REF!,$B178,'Daily Log'!#REF!),0)","v":0},{"$f":"IFERROR($E178*SUMIF('Daily Log'!#REF!,$B178,'Daily Log'!#REF!),0)","v":0},{"$f":"IFERROR($E178*SUMIF('Daily Log'!#REF!,$B178,'Daily Log'!#REF!),0)","v":0},{"$f":"IFERROR($E178*SUMIF('Daily Log'!#REF!,$B178,'Daily Log'!#REF!),0)","v":0},{"$f":"IFERROR($E178*SUMIF('Daily Log'!#REF!,$B178,'Daily Log'!#REF!),0)","v":0},{"$f":"IFERROR($E178*SUMIF('Daily Log'!#REF!,$B178,'Daily Log'!#REF!),0)","v":0},{"$f":"IFERROR($E178*SUMIF('Daily Log'!#REF!,$B178,'Daily Log'!#REF!),0)","v":0},{"$f":"IFERROR($E178*SUMIF('Daily Log'!#REF!,$B178,'Daily Log'!#REF!),0)","v":0},{"$f":"IFERROR($E178*SUMIF('Daily Log'!#REF!,$B178,'Daily Log'!#REF!),0)","v":0},{"$f":"IFERROR($E178*SUMIF('Daily Log'!#REF!,$B178,'Daily Log'!#REF!),0)","v":0},{"$f":"IFERROR($E178*SUMIF('Daily Log'!#REF!,$B178,'Daily Log'!#REF!),0)","v":0},{"$f":"IFERROR($E178*SUMIF('Daily Log'!#REF!,$B178,'Daily Log'!#REF!),0)","v":0},{"$f":"IFERROR($E178*SUMIF('Daily Log'!#REF!,$B178,'Daily Log'!#REF!),0)","v":0},{"$f":"IFERROR($E178*SUMIF('Daily Log'!#REF!,$B178,'Daily Log'!#REF!),0)","v":0},{"$f":"IFERROR($E178*SUMIF('Daily Log'!#REF!,$B178,'Daily Log'!#REF!),0)","v":0},{"$f":"IFERROR($E178*SUMIF('Daily Log'!#REF!,$B178,'Daily Log'!#REF!),0)","v":0},{"$f":"IFERROR($E178*SUMIF('Daily Log'!#REF!,$B178,'Daily Log'!#REF!),0)","v":0},{"$f":"IFERROR($E178*SUMIF('Daily Log'!#REF!,$B178,'Daily Log'!#REF!),0)","v":0},{"$f":"IFERROR($E178*SUMIF('Daily Log'!#REF!,$B178,'Daily Log'!#REF!),0)","v":0},{"$f":"IFERROR($E178*SUMIF('Daily Log'!#REF!,$B178,'Daily Log'!#REF!),0)","v":0},{"$f":"IFERROR($E178*SUMIF('Daily Log'!#REF!,$B178,'Daily Log'!#REF!),0)","v":0},{"$f":"IFERROR($E178*SUMIF('Daily Log'!#REF!,$B178,'Daily Log'!#REF!),0)","v":0},{"$f":"IFERROR($E178*SUMIF('Daily Log'!#REF!,$B178,'Daily Log'!#REF!),0)","v":0}]
[null,"DF02 ADD F.EGG",null,"SIDE ORDER-OTHERS",1,0,{"$f":"IFERROR($E179*SUMIF('Daily Log'!$B$18:$B$1017,$B179,'Daily Log'!$C$18:$C$1017),0)","v":0},{"$f":"IFERROR($E179*SUMIF('Daily Log'!$E$18:$E$1017,$B179,'Daily Log'!$F$18:$F$1017),0)","v":0},{"$f":"IFERROR($E179*SUMIF('Daily Log'!$H$18:$H$1017,$B179,'Daily Log'!$I$18:$I$1017),0)","v":0},{"$f":"IFERROR($E179*SUMIF('Daily Log'!$K$18:$K$1017,$B179,'Daily Log'!$L$18:$L$1017),0)","v":0},{"$f":"IFERROR($E179*SUMIF('Daily Log'!$N$18:$N$1017,$B179,'Daily Log'!$O$18:$O$1017),0)","v":0},{"$f":"IFERROR($E179*SUMIF('Daily Log'!#REF!,$B179,'Daily Log'!#REF!),0)","v":0},{"$f":"IFERROR($E179*SUMIF('Daily Log'!#REF!,$B179,'Daily Log'!#REF!),0)","v":0},{"$f":"IFERROR($E179*SUMIF('Daily Log'!#REF!,$B179,'Daily Log'!#REF!),0)","v":0},{"$f":"IFERROR($E179*SUMIF('Daily Log'!#REF!,$B179,'Daily Log'!#REF!),0)","v":0},{"$f":"IFERROR($E179*SUMIF('Daily Log'!#REF!,$B179,'Daily Log'!#REF!),0)","v":0},{"$f":"IFERROR($E179*SUMIF('Daily Log'!#REF!,$B179,'Daily Log'!#REF!),0)","v":0},{"$f":"IFERROR($E179*SUMIF('Daily Log'!#REF!,$B179,'Daily Log'!#REF!),0)","v":0},{"$f":"IFERROR($E179*SUMIF('Daily Log'!#REF!,$B179,'Daily Log'!#REF!),0)","v":0},{"$f":"IFERROR($E179*SUMIF('Daily Log'!#REF!,$B179,'Daily Log'!#REF!),0)","v":0},{"$f":"IFERROR($E179*SUMIF('Daily Log'!#REF!,$B179,'Daily Log'!#REF!),0)","v":0},{"$f":"IFERROR($E179*SUMIF('Daily Log'!#REF!,$B179,'Daily Log'!#REF!),0)","v":0},{"$f":"IFERROR($E179*SUMIF('Daily Log'!#REF!,$B179,'Daily Log'!#REF!),0)","v":0},{"$f":"IFERROR($E179*SUMIF('Daily Log'!#REF!,$B179,'Daily Log'!#REF!),0)","v":0},{"$f":"IFERROR($E179*SUMIF('Daily Log'!#REF!,$B179,'Daily Log'!#REF!),0)","v":0},{"$f":"IFERROR($E179*SUMIF('Daily Log'!#REF!,$B179,'Daily Log'!#REF!),0)","v":0},{"$f":"IFERROR($E179*SUMIF('Daily Log'!#REF!,$B179,'Daily Log'!#REF!),0)","v":0},{"$f":"IFERROR($E179*SUMIF('Daily Log'!#REF!,$B179,'Daily Log'!#REF!),0)","v":0},{"$f":"IFERROR($E179*SUMIF('Daily Log'!#REF!,$B179,'Daily Log'!#REF!),0)","v":0},{"$f":"IFERROR($E179*SUMIF('Daily Log'!#REF!,$B179,'Daily Log'!#REF!),0)","v":0},{"$f":"IFERROR($E179*SUMIF('Daily Log'!#REF!,$B179,'Daily Log'!#REF!),0)","v":0},{"$f":"IFERROR($E179*SUMIF('Daily Log'!#REF!,$B179,'Daily Log'!#REF!),0)","v":0},{"$f":"IFERROR($E179*SUMIF('Daily Log'!#REF!,$B179,'Daily Log'!#REF!),0)","v":0},{"$f":"IFERROR($E179*SUMIF('Daily Log'!#REF!,$B179,'Daily Log'!#REF!),0)","v":0},{"$f":"IFERROR($E179*SUMIF('Daily Log'!#REF!,$B179,'Daily Log'!#REF!),0)","v":0},{"$f":"IFERROR($E179*SUMIF('Daily Log'!#REF!,$B179,'Daily Log'!#REF!),0)","v":0},{"$f":"IFERROR($E179*SUMIF('Daily Log'!#REF!,$B179,'Daily Log'!#REF!),0)","v":0}]
[null,"DF03 ADD SAUCE 1000",null,"SAUCE",1,5,{"$f":"IFERROR($E180*SUMIF('Daily Log'!$B$18:$B$1017,$B180,'Daily Log'!$C$18:$C$1017),0)","v":4},{"$f":"IFERROR($E180*SUMIF('Daily Log'!$E$18:$E$1017,$B180,'Daily Log'!$F$18:$F$1017),0)","v":0},{"$f":"IFERROR($E180*SUMIF('Daily Log'!$H$18:$H$1017,$B180,'Daily Log'!$I$18:$I$1017),0)","v":1},{"$f":"IFERROR($E180*SUMIF('Daily Log'!$K$18:$K$1017,$B180,'Daily Log'!$L$18:$L$1017),0)","v":0},{"$f":"IFERROR($E180*SUMIF('Daily Log'!$N$18:$N$1017,$B180,'Daily Log'!$O$18:$O$1017),0)","v":0},{"$f":"IFERROR($E180*SUMIF('Daily Log'!#REF!,$B180,'Daily Log'!#REF!),0)","v":0},{"$f":"IFERROR($E180*SUMIF('Daily Log'!#REF!,$B180,'Daily Log'!#REF!),0)","v":0},{"$f":"IFERROR($E180*SUMIF('Daily Log'!#REF!,$B180,'Daily Log'!#REF!),0)","v":0},{"$f":"IFERROR($E180*SUMIF('Daily Log'!#REF!,$B180,'Daily Log'!#REF!),0)","v":0},{"$f":"IFERROR($E180*SUMIF('Daily Log'!#REF!,$B180,'Daily Log'!#REF!),0)","v":0},{"$f":"IFERROR($E180*SUMIF('Daily Log'!#REF!,$B180,'Daily Log'!#REF!),0)","v":0},{"$f":"IFERROR($E180*SUMIF('Daily Log'!#REF!,$B180,'Daily Log'!#REF!),0)","v":0},{"$f":"IFERROR($E180*SUMIF('Daily Log'!#REF!,$B180,'Daily Log'!#REF!),0)","v":0},{"$f":"IFERROR($E180*SUMIF('Daily Log'!#REF!,$B180,'Daily Log'!#REF!),0)","v":0},{"$f":"IFERROR($E180*SUMIF('Daily Log'!#REF!,$B180,'Daily Log'!#REF!),0)","v":0},{"$f":"IFERROR($E180*SUMIF('Daily Log'!#REF!,$B180,'Daily Log'!#REF!),0)","v":0},{"$f":"IFERROR($E180*SUMIF('Daily Log'!#REF!,$B180,'Daily Log'!#REF!),0)","v":0},{"$f":"IFERROR($E180*SUMIF('Daily Log'!#REF!,$B180,'Daily Log'!#REF!),0)","v":0},{"$f":"IFERROR($E180*SUMIF('Daily Log'!#REF!,$B180,'Daily Log'!#REF!),0)","v":0},{"$f":"IFERROR($E180*SUMIF('Daily Log'!#REF!,$B180,'Daily Log'!#REF!),0)","v":0},{"$f":"IFERROR($E180*SUMIF('Daily Log'!#REF!,$B180,'Daily Log'!#REF!),0)","v":0},{"$f":"IFERROR($E180*SUMIF('Daily Log'!#REF!,$B180,'Daily Log'!#REF!),0)","v":0},{"$f":"IFERROR($E180*SUMIF('Daily Log'!#REF!,$B180,'Daily Log'!#REF!),0)","v":0},{"$f":"IFERROR($E180*SUMIF('Daily Log'!#REF!,$B180,'Daily Log'!#REF!),0)","v":0},{"$f":"IFERROR($E180*SUMIF('Daily Log'!#REF!,$B180,'Daily Log'!#REF!),0)","v":0},{"$f":"IFERROR($E180*SUMIF('Daily Log'!#REF!,$B180,'Daily Log'!#REF!),0)","v":0},{"$f":"IFERROR($E180*SUMIF('Daily Log'!#REF!,$B180,'Daily Log'!#REF!),0)","v":0},{"$f":"IFERROR($E180*SUMIF('Daily Log'!#REF!,$B180,'Daily Log'!#REF!),0)","v":0},{"$f":"IFERROR($E180*SUMIF('Daily Log'!#REF!,$B180,'Daily Log'!#REF!),0)","v":0},{"$f":"IFERROR($E180*SUMIF('Daily Log'!#REF!,$B180,'Daily Log'!#REF!),0)","v":0},{"$f":"IFERROR($E180*SUMIF('Daily Log'!#REF!,$B180,'Daily Log'!#REF!),0)","v":0}]
[null,"DF04 ADD SAUCE BOLO",null,"SAUCE",1,0,{"$f":"IFERROR($E181*SUMIF('Daily Log'!$B$18:$B$1017,$B181,'Daily Log'!$C$18:$C$1017),0)","v":0},{"$f":"IFERROR($E181*SUMIF('Daily Log'!$E$18:$E$1017,$B181,'Daily Log'!$F$18:$F$1017),0)","v":0},{"$f":"IFERROR($E181*SUMIF('Daily Log'!$H$18:$H$1017,$B181,'Daily Log'!$I$18:$I$1017),0)","v":0},{"$f":"IFERROR($E181*SUMIF('Daily Log'!$K$18:$K$1017,$B181,'Daily Log'!$L$18:$L$1017),0)","v":0},{"$f":"IFERROR($E181*SUMIF('Daily Log'!$N$18:$N$1017,$B181,'Daily Log'!$O$18:$O$1017),0)","v":0},{"$f":"IFERROR($E181*SUMIF('Daily Log'!#REF!,$B181,'Daily Log'!#REF!),0)","v":0},{"$f":"IFERROR($E181*SUMIF('Daily Log'!#REF!,$B181,'Daily Log'!#REF!),0)","v":0},{"$f":"IFERROR($E181*SUMIF('Daily Log'!#REF!,$B181,'Daily Log'!#REF!),0)","v":0},{"$f":"IFERROR($E181*SUMIF('Daily Log'!#REF!,$B181,'Daily Log'!#REF!),0)","v":0},{"$f":"IFERROR($E181*SUMIF('Daily Log'!#REF!,$B181,'Daily Log'!#REF!),0)","v":0},{"$f":"IFERROR($E181*SUMIF('Daily Log'!#REF!,$B181,'Daily Log'!#REF!),0)","v":0},{"$f":"IFERROR($E181*SUMIF('Daily Log'!#REF!,$B181,'Daily Log'!#REF!),0)","v":0},{"$f":"IFERROR($E181*SUMIF('Daily Log'!#REF!,$B181,'Daily Log'!#REF!),0)","v":0},{"$f":"IFERROR($E181*SUMIF('Daily Log'!#REF!,$B181,'Daily Log'!#REF!),0)","v":0},{"$f":"IFERROR($E181*SUMIF('Daily Log'!#REF!,$B181,'Daily Log'!#REF!),0)","v":0},{"$f":"IFERROR($E181*SUMIF('Daily Log'!#REF!,$B181,'Daily Log'!#REF!),0)","v":0},{"$f":"IFERROR($E181*SUMIF('Daily Log'!#REF!,$B181,'Daily Log'!#REF!),0)","v":0},{"$f":"IFERROR($E181*SUMIF('Daily Log'!#REF!,$B181,'Daily Log'!#REF!),0)","v":0},{"$f":"IFERROR($E181*SUMIF('Daily Log'!#REF!,$B181,'Daily Log'!#REF!),0)","v":0},{"$f":"IFERROR($E181*SUMIF('Daily Log'!#REF!,$B181,'Daily Log'!#REF!),0)","v":0},{"$f":"IFERROR($E181*SUMIF('Daily Log'!#REF!,$B181,'Daily Log'!#REF!),0)","v":0},{"$f":"IFERROR($E181*SUMIF('Daily Log'!#REF!,$B181,'Daily Log'!#REF!),0)","v":0},{"$f":"IFERROR($E181*SUMIF('Daily Log'!#REF!,$B181,'Daily Log'!#REF!),0)","v":0},{"$f":"IFERROR($E181*SUMIF('Daily Log'!#REF!,$B181,'Daily Log'!#REF!),0)","v":0},{"$f":"IFERROR($E181*SUMIF('Daily Log'!#REF!,$B181,'Daily Log'!#REF!),0)","v":0},{"$f":"IFERROR($E181*SUMIF('Daily Log'!#REF!,$B181,'Daily Log'!#REF!),0)","v":0},{"$f":"IFERROR($E181*SUMIF('Daily Log'!#REF!,$B181,'Daily Log'!#REF!),0)","v":0},{"$f":"IFERROR($E181*SUMIF('Daily Log'!#REF!,$B181,'Daily Log'!#REF!),0)","v":0},{"$f":"IFERROR($E181*SUMIF('Daily Log'!#REF!,$B181,'Daily Log'!#REF!),0)","v":0},{"$f":"IFERROR($E181*SUMIF('Daily Log'!#REF!,$B181,'Daily Log'!#REF!),0)","v":0},{"$f":"IFERROR($E181*SUMIF('Daily Log'!#REF!,$B181,'Daily Log'!#REF!),0)","v":0}]
[null,"DF05 ADD SAUCE BP",null,"SAUCE",1,2,{"$f":"IFERROR($E182*SUMIF('Daily Log'!$B$18:$B$1017,$B182,'Daily Log'!$C$18:$C$1017),0)","v":0},{"$f":"IFERROR($E182*SUMIF('Daily Log'!$E$18:$E$1017,$B182,'Daily Log'!$F$18:$F$1017),0)","v":0},{"$f":"IFERROR($E182*SUMIF('Daily Log'!$H$18:$H$1017,$B182,'Daily Log'!$I$18:$I$1017),0)","v":0},{"$f":"IFERROR($E182*SUMIF('Daily Log'!$K$18:$K$1017,$B182,'Daily Log'!$L$18:$L$1017),0)","v":2},{"$f":"IFERROR($E182*SUMIF('Daily Log'!$N$18:$N$1017,$B182,'Daily Log'!$O$18:$O$1017),0)","v":0},{"$f":"IFERROR($E182*SUMIF('Daily Log'!#REF!,$B182,'Daily Log'!#REF!),0)","v":0},{"$f":"IFERROR($E182*SUMIF('Daily Log'!#REF!,$B182,'Daily Log'!#REF!),0)","v":0},{"$f":"IFERROR($E182*SUMIF('Daily Log'!#REF!,$B182,'Daily Log'!#REF!),0)","v":0},{"$f":"IFERROR($E182*SUMIF('Daily Log'!#REF!,$B182,'Daily Log'!#REF!),0)","v":0},{"$f":"IFERROR($E182*SUMIF('Daily Log'!#REF!,$B182,'Daily Log'!#REF!),0)","v":0},{"$f":"IFERROR($E182*SUMIF('Daily Log'!#REF!,$B182,'Daily Log'!#REF!),0)","v":0},{"$f":"IFERROR($E182*SUMIF('Daily Log'!#REF!,$B182,'Daily Log'!#REF!),0)","v":0},{"$f":"IFERROR($E182*SUMIF('Daily Log'!#REF!,$B182,'Daily Log'!#REF!),0)","v":0},{"$f":"IFERROR($E182*SUMIF('Daily Log'!#REF!,$B182,'Daily Log'!#REF!),0)","v":0},{"$f":"IFERROR($E182*SUMIF('Daily Log'!#REF!,$B182,'Daily Log'!#REF!),0)","v":0},{"$f":"IFERROR($E182*SUMIF('Daily Log'!#REF!,$B182,'Daily Log'!#REF!),0)","v":0},{"$f":"IFERROR($E182*SUMIF('Daily Log'!#REF!,$B182,'Daily Log'!#REF!),0)","v":0},{"$f":"IFERROR($E182*SUMIF('Daily Log'!#REF!,$B182,'Daily Log'!#REF!),0)","v":0},{"$f":"IFERROR($E182*SUMIF('Daily Log'!#REF!,$B182,'Daily Log'!#REF!),0)","v":0},{"$f":"IFERROR($E182*SUMIF('Daily Log'!#REF!,$B182,'Daily Log'!#REF!),0)","v":0},{"$f":"IFERROR($E182*SUMIF('Daily Log'!#REF!,$B182,'Daily Log'!#REF!),0)","v":0},{"$f":"IFERROR($E182*SUMIF('Daily Log'!#REF!,$B182,'Daily Log'!#REF!),0)","v":0},{"$f":"IFERROR($E182*SUMIF('Daily Log'!#REF!,$B182,'Daily Log'!#REF!),0)","v":0},{"$f":"IFERROR($E182*SUMIF('Daily Log'!#REF!,$B182,'Daily Log'!#REF!),0)","v":0},{"$f":"IFERROR($E182*SUMIF('Daily Log'!#REF!,$B182,'Daily Log'!#REF!),0)","v":0},{"$f":"IFERROR($E182*SUMIF('Daily Log'!#REF!,$B182,'Daily Log'!#REF!),0)","v":0},{"$f":"IFERROR($E182*SUMIF('Daily Log'!#REF!,$B182,'Daily Log'!#REF!),0)","v":0},{"$f":"IFERROR($E182*SUMIF('Daily Log'!#REF!,$B182,'Daily Log'!#REF!),0)","v":0},{"$f":"IFERROR($E182*SUMIF('Daily Log'!#REF!,$B182,'Daily Log'!#REF!),0)","v":0},{"$f":"IFERROR($E182*SUMIF('Daily Log'!#REF!,$B182,'Daily Log'!#REF!),0)","v":0},{"$f":"IFERROR($E182*SUMIF('Daily Log'!#REF!,$B182,'Daily Log'!#REF!),0)","v":0}]
[null,"DF06 ADD SAUCE BUTTER",null,"SAUCE",1,0,{"$f":"IFERROR($E183*SUMIF('Daily Log'!$B$18:$B$1017,$B183,'Daily Log'!$C$18:$C$1017),0)","v":0},{"$f":"IFERROR($E183*SUMIF('Daily Log'!$E$18:$E$1017,$B183,'Daily Log'!$F$18:$F$1017),0)","v":0},{"$f":"IFERROR($E183*SUMIF('Daily Log'!$H$18:$H$1017,$B183,'Daily Log'!$I$18:$I$1017),0)","v":0},{"$f":"IFERROR($E183*SUMIF('Daily Log'!$K$18:$K$1017,$B183,'Daily Log'!$L$18:$L$1017),0)","v":0},{"$f":"IFERROR($E183*SUMIF('Daily Log'!$N$18:$N$1017,$B183,'Daily Log'!$O$18:$O$1017),0)","v":0},{"$f":"IFERROR($E183*SUMIF('Daily Log'!#REF!,$B183,'Daily Log'!#REF!),0)","v":0},{"$f":"IFERROR($E183*SUMIF('Daily Log'!#REF!,$B183,'Daily Log'!#REF!),0)","v":0},{"$f":"IFERROR($E183*SUMIF('Daily Log'!#REF!,$B183,'Daily Log'!#REF!),0)","v":0},{"$f":"IFERROR($E183*SUMIF('Daily Log'!#REF!,$B183,'Daily Log'!#REF!),0)","v":0},{"$f":"IFERROR($E183*SUMIF('Daily Log'!#REF!,$B183,'Daily Log'!#REF!),0)","v":0},{"$f":"IFERROR($E183*SUMIF('Daily Log'!#REF!,$B183,'Daily Log'!#REF!),0)","v":0},{"$f":"IFERROR($E183*SUMIF('Daily Log'!#REF!,$B183,'Daily Log'!#REF!),0)","v":0},{"$f":"IFERROR($E183*SUMIF('Daily Log'!#REF!,$B183,'Daily Log'!#REF!),0)","v":0},{"$f":"IFERROR($E183*SUMIF('Daily Log'!#REF!,$B183,'Daily Log'!#REF!),0)","v":0},{"$f":"IFERROR($E183*SUMIF('Daily Log'!#REF!,$B183,'Daily Log'!#REF!),0)","v":0},{"$f":"IFERROR($E183*SUMIF('Daily Log'!#REF!,$B183,'Daily Log'!#REF!),0)","v":0},{"$f":"IFERROR($E183*SUMIF('Daily Log'!#REF!,$B183,'Daily Log'!#REF!),0)","v":0},{"$f":"IFERROR($E183*SUMIF('Daily Log'!#REF!,$B183,'Daily Log'!#REF!),0)","v":0},{"$f":"IFERROR($E183*SUMIF('Daily Log'!#REF!,$B183,'Daily Log'!#REF!),0)","v":0},{"$f":"IFERROR($E183*SUMIF('Daily Log'!#REF!,$B183,'Daily Log'!#REF!),0)","v":0},{"$f":"IFERROR($E183*SUMIF('Daily Log'!#REF!,$B183,'Daily Log'!#REF!),0)","v":0},{"$f":"IFERROR($E183*SUMIF('Daily Log'!#REF!,$B183,'Daily Log'!#REF!),0)","v":0},{"$f":"IFERROR($E183*SUMIF('Daily Log'!#REF!,$B183,'Daily Log'!#REF!),0)","v":0},{"$f":"IFERROR($E183*SUMIF('Daily Log'!#REF!,$B183,'Daily Log'!#REF!),0)","v":0},{"$f":"IFERROR($E183*SUMIF('Daily Log'!#REF!,$B183,'Daily Log'!#REF!),0)","v":0},{"$f":"IFERROR($E183*SUMIF('Daily Log'!#REF!,$B183,'Daily Log'!#REF!),0)","v":0},{"$f":"IFERROR($E183*SUMIF('Daily Log'!#REF!,$B183,'Daily Log'!#REF!),0)","v":0},{"$f":"IFERROR($E183*SUMIF('Daily Log'!#REF!,$B183,'Daily Log'!#REF!),0)","v":0},{"$f":"IFERROR($E183*SUMIF('Daily Log'!#REF!,$B183,'Daily Log'!#REF!),0)","v":0},{"$f":"IFERROR($E183*SUMIF('Daily Log'!#REF!,$B183,'Daily Log'!#REF!),0)","v":0},{"$f":"IFERROR($E183*SUMIF('Daily Log'!#REF!,$B183,'Daily Log'!#REF!),0)","v":0}]
[null,"DF07 ADD SAUCE C.PADI",null,"SAUCE",1,2,{"$f":"IFERROR($E184*SUMIF('Daily Log'!$B$18:$B$1017,$B184,'Daily Log'!$C$18:$C$1017),0)","v":0},{"$f":"IFERROR($E184*SUMIF('Daily Log'!$E$18:$E$1017,$B184,'Daily Log'!$F$18:$F$1017),0)","v":1},{"$f":"IFERROR($E184*SUMIF('Daily Log'!$H$18:$H$1017,$B184,'Daily Log'!$I$18:$I$1017),0)","v":0},{"$f":"IFERROR($E184*SUMIF('Daily Log'!$K$18:$K$1017,$B184,'Daily Log'!$L$18:$L$1017),0)","v":1},{"$f":"IFERROR($E184*SUMIF('Daily Log'!$N$18:$N$1017,$B184,'Daily Log'!$O$18:$O$1017),0)","v":0},{"$f":"IFERROR($E184*SUMIF('Daily Log'!#REF!,$B184,'Daily Log'!#REF!),0)","v":0},{"$f":"IFERROR($E184*SUMIF('Daily Log'!#REF!,$B184,'Daily Log'!#REF!),0)","v":0},{"$f":"IFERROR($E184*SUMIF('Daily Log'!#REF!,$B184,'Daily Log'!#REF!),0)","v":0},{"$f":"IFERROR($E184*SUMIF('Daily Log'!#REF!,$B184,'Daily Log'!#REF!),0)","v":0},{"$f":"IFERROR($E184*SUMIF('Daily Log'!#REF!,$B184,'Daily Log'!#REF!),0)","v":0},{"$f":"IFERROR($E184*SUMIF('Daily Log'!#REF!,$B184,'Daily Log'!#REF!),0)","v":0},{"$f":"IFERROR($E184*SUMIF('Daily Log'!#REF!,$B184,'Daily Log'!#REF!),0)","v":0},{"$f":"IFERROR($E184*SUMIF('Daily Log'!#REF!,$B184,'Daily Log'!#REF!),0)","v":0},{"$f":"IFERROR($E184*SUMIF('Daily Log'!#REF!,$B184,'Daily Log'!#REF!),0)","v":0},{"$f":"IFERROR($E184*SUMIF('Daily Log'!#REF!,$B184,'Daily Log'!#REF!),0)","v":0},{"$f":"IFERROR($E184*SUMIF('Daily Log'!#REF!,$B184,'Daily Log'!#REF!),0)","v":0},{"$f":"IFERROR($E184*SUMIF('Daily Log'!#REF!,$B184,'Daily Log'!#REF!),0)","v":0},{"$f":"IFERROR($E184*SUMIF('Daily Log'!#REF!,$B184,'Daily Log'!#REF!),0)","v":0},{"$f":"IFERROR($E184*SUMIF('Daily Log'!#REF!,$B184,'Daily Log'!#REF!),0)","v":0},{"$f":"IFERROR($E184*SUMIF('Daily Log'!#REF!,$B184,'Daily Log'!#REF!),0)","v":0},{"$f":"IFERROR($E184*SUMIF('Daily Log'!#REF!,$B184,'Daily Log'!#REF!),0)","v":0},{"$f":"IFERROR($E184*SUMIF('Daily Log'!#REF!,$B184,'Daily Log'!#REF!),0)","v":0},{"$f":"IFERROR($E184*SUMIF('Daily Log'!#REF!,$B184,'Daily Log'!#REF!),0)","v":0},{"$f":"IFERROR($E184*SUMIF('Daily Log'!#REF!,$B184,'Daily Log'!#REF!),0)","v":0},{"$f":"IFERROR($E184*SUMIF('Daily Log'!#REF!,$B184,'Daily Log'!#REF!),0)","v":0},{"$f":"IFERROR($E184*SUMIF('Daily Log'!#REF!,$B184,'Daily Log'!#REF!),0)","v":0},{"$f":"IFERROR($E184*SUMIF('Daily Log'!#REF!,$B184,'Daily Log'!#REF!),0)","v":0},{"$f":"IFERROR($E184*SUMIF('Daily Log'!#REF!,$B184,'Daily Log'!#REF!),0)","v":0},{"$f":"IFERROR($E184*SUMIF('Daily Log'!#REF!,$B184,'Daily Log'!#REF!),0)","v":0},{"$f":"IFERROR($E184*SUMIF('Daily Log'!#REF!,$B184,'Daily Log'!#REF!),0)","v":0},{"$f":"IFERROR($E184*SUMIF('Daily Log'!#REF!,$B184,'Daily Log'!#REF!),0)","v":0}]
[null,"DF08 ADD SAUCE GS",null,"SAUCE",1,0,{"$f":"IFERROR($E185*SUMIF('Daily Log'!$B$18:$B$1017,$B185,'Daily Log'!$C$18:$C$1017),0)","v":0},{"$f":"IFERROR($E185*SUMIF('Daily Log'!$E$18:$E$1017,$B185,'Daily Log'!$F$18:$F$1017),0)","v":0},{"$f":"IFERROR($E185*SUMIF('Daily Log'!$H$18:$H$1017,$B185,'Daily Log'!$I$18:$I$1017),0)","v":0},{"$f":"IFERROR($E185*SUMIF('Daily Log'!$K$18:$K$1017,$B185,'Daily Log'!$L$18:$L$1017),0)","v":0},{"$f":"IFERROR($E185*SUMIF('Daily Log'!$N$18:$N$1017,$B185,'Daily Log'!$O$18:$O$1017),0)","v":0},{"$f":"IFERROR($E185*SUMIF('Daily Log'!#REF!,$B185,'Daily Log'!#REF!),0)","v":0},{"$f":"IFERROR($E185*SUMIF('Daily Log'!#REF!,$B185,'Daily Log'!#REF!),0)","v":0},{"$f":"IFERROR($E185*SUMIF('Daily Log'!#REF!,$B185,'Daily Log'!#REF!),0)","v":0},{"$f":"IFERROR($E185*SUMIF('Daily Log'!#REF!,$B185,'Daily Log'!#REF!),0)","v":0},{"$f":"IFERROR($E185*SUMIF('Daily Log'!#REF!,$B185,'Daily Log'!#REF!),0)","v":0},{"$f":"IFERROR($E185*SUMIF('Daily Log'!#REF!,$B185,'Daily Log'!#REF!),0)","v":0},{"$f":"IFERROR($E185*SUMIF('Daily Log'!#REF!,$B185,'Daily Log'!#REF!),0)","v":0},{"$f":"IFERROR($E185*SUMIF('Daily Log'!#REF!,$B185,'Daily Log'!#REF!),0)","v":0},{"$f":"IFERROR($E185*SUMIF('Daily Log'!#REF!,$B185,'Daily Log'!#REF!),0)","v":0},{"$f":"IFERROR($E185*SUMIF('Daily Log'!#REF!,$B185,'Daily Log'!#REF!),0)","v":0},{"$f":"IFERROR($E185*SUMIF('Daily Log'!#REF!,$B185,'Daily Log'!#REF!),0)","v":0},{"$f":"IFERROR($E185*SUMIF('Daily Log'!#REF!,$B185,'Daily Log'!#REF!),0)","v":0},{"$f":"IFERROR($E185*SUMIF('Daily Log'!#REF!,$B185,'Daily Log'!#REF!),0)","v":0},{"$f":"IFERROR($E185*SUMIF('Daily Log'!#REF!,$B185,'Daily Log'!#REF!),0)","v":0},{"$f":"IFERROR($E185*SUMIF('Daily Log'!#REF!,$B185,'Daily Log'!#REF!),0)","v":0},{"$f":"IFERROR($E185*SUMIF('Daily Log'!#REF!,$B185,'Daily Log'!#REF!),0)","v":0},{"$f":"IFERROR($E185*SUMIF('Daily Log'!#REF!,$B185,'Daily Log'!#REF!),0)","v":0},{"$f":"IFERROR($E185*SUMIF('Daily Log'!#REF!,$B185,'Daily Log'!#REF!),0)","v":0},{"$f":"IFERROR($E185*SUMIF('Daily Log'!#REF!,$B185,'Daily Log'!#REF!),0)","v":0},{"$f":"IFERROR($E185*SUMIF('Daily Log'!#REF!,$B185,'Daily Log'!#REF!),0)","v":0},{"$f":"IFERROR($E185*SUMIF('Daily Log'!#REF!,$B185,'Daily Log'!#REF!),0)","v":0},{"$f":"IFERROR($E185*SUMIF('Daily Log'!#REF!,$B185,'Daily Log'!#REF!),0)","v":0},{"$f":"IFERROR($E185*SUMIF('Daily Log'!#REF!,$B185,'Daily Log'!#REF!),0)","v":0},{"$f":"IFERROR($E185*SUMIF('Daily Log'!#REF!,$B185,'Daily Log'!#REF!),0)","v":0},{"$f":"IFERROR($E185*SUMIF('Daily Log'!#REF!,$B185,'Daily Log'!#REF!),0)","v":0},{"$f":"IFERROR($E185*SUMIF('Daily Log'!#REF!,$B185,'Daily Log'!#REF!),0)","v":0}]
[null,"DF09 ADD SAUCE MAYO",null,"SAUCE",1,7,{"$f":"IFERROR($E186*SUMIF('Daily Log'!$B$18:$B$1017,$B186,'Daily Log'!$C$18:$C$1017),0)","v":3},{"$f":"IFERROR($E186*SUMIF('Daily Log'!$E$18:$E$1017,$B186,'Daily Log'!$F$18:$F$1017),0)","v":0},{"$f":"IFERROR($E186*SUMIF('Daily Log'!$H$18:$H$1017,$B186,'Daily Log'!$I$18:$I$1017),0)","v":2},{"$f":"IFERROR($E186*SUMIF('Daily Log'!$K$18:$K$1017,$B186,'Daily Log'!$L$18:$L$1017),0)","v":0},{"$f":"IFERROR($E186*SUMIF('Daily Log'!$N$18:$N$1017,$B186,'Daily Log'!$O$18:$O$1017),0)","v":2},{"$f":"IFERROR($E186*SUMIF('Daily Log'!#REF!,$B186,'Daily Log'!#REF!),0)","v":0},{"$f":"IFERROR($E186*SUMIF('Daily Log'!#REF!,$B186,'Daily Log'!#REF!),0)","v":0},{"$f":"IFERROR($E186*SUMIF('Daily Log'!#REF!,$B186,'Daily Log'!#REF!),0)","v":0},{"$f":"IFERROR($E186*SUMIF('Daily Log'!#REF!,$B186,'Daily Log'!#REF!),0)","v":0},{"$f":"IFERROR($E186*SUMIF('Daily Log'!#REF!,$B186,'Daily Log'!#REF!),0)","v":0},{"$f":"IFERROR($E186*SUMIF('Daily Log'!#REF!,$B186,'Daily Log'!#REF!),0)","v":0},{"$f":"IFERROR($E186*SUMIF('Daily Log'!#REF!,$B186,'Daily Log'!#REF!),0)","v":0},{"$f":"IFERROR($E186*SUMIF('Daily Log'!#REF!,$B186,'Daily Log'!#REF!),0)","v":0},{"$f":"IFERROR($E186*SUMIF('Daily Log'!#REF!,$B186,'Daily Log'!#REF!),0)","v":0},{"$f":"IFERROR($E186*SUMIF('Daily Log'!#REF!,$B186,'Daily Log'!#REF!),0)","v":0},{"$f":"IFERROR($E186*SUMIF('Daily Log'!#REF!,$B186,'Daily Log'!#REF!),0)","v":0},{"$f":"IFERROR($E186*SUMIF('Daily Log'!#REF!,$B186,'Daily Log'!#REF!),0)","v":0},{"$f":"IFERROR($E186*SUMIF('Daily Log'!#REF!,$B186,'Daily Log'!#REF!),0)","v":0},{"$f":"IFERROR($E186*SUMIF('Daily Log'!#REF!,$B186,'Daily Log'!#REF!),0)","v":0},{"$f":"IFERROR($E186*SUMIF('Daily Log'!#REF!,$B186,'Daily Log'!#REF!),0)","v":0},{"$f":"IFERROR($E186*SUMIF('Daily Log'!#REF!,$B186,'Daily Log'!#REF!),0)","v":0},{"$f":"IFERROR($E186*SUMIF('Daily Log'!#REF!,$B186,'Daily Log'!#REF!),0)","v":0},{"$f":"IFERROR($E186*SUMIF('Daily Log'!#REF!,$B186,'Daily Log'!#REF!),0)","v":0},{"$f":"IFERROR($E186*SUMIF('Daily Log'!#REF!,$B186,'Daily Log'!#REF!),0)","v":0},{"$f":"IFERROR($E186*SUMIF('Daily Log'!#REF!,$B186,'Daily Log'!#REF!),0)","v":0},{"$f":"IFERROR($E186*SUMIF('Daily Log'!#REF!,$B186,'Daily Log'!#REF!),0)","v":0},{"$f":"IFERROR($E186*SUMIF('Daily Log'!#REF!,$B186,'Daily Log'!#REF!),0)","v":0},{"$f":"IFERROR($E186*SUMIF('Daily Log'!#REF!,$B186,'Daily Log'!#REF!),0)","v":0},{"$f":"IFERROR($E186*SUMIF('Daily Log'!#REF!,$B186,'Daily Log'!#REF!),0)","v":0},{"$f":"IFERROR($E186*SUMIF('Daily Log'!#REF!,$B186,'Daily Log'!#REF!),0)","v":0},{"$f":"IFERROR($E186*SUMIF('Daily Log'!#REF!,$B186,'Daily Log'!#REF!),0)","v":0}]
[null,"DF10 ADD SAUCE MMITE",null,"SAUCE",1,0,{"$f":"IFERROR($E187*SUMIF('Daily Log'!$B$18:$B$1017,$B187,'Daily Log'!$C$18:$C$1017),0)","v":0},{"$f":"IFERROR($E187*SUMIF('Daily Log'!$E$18:$E$1017,$B187,'Daily Log'!$F$18:$F$1017),0)","v":0},{"$f":"IFERROR($E187*SUMIF('Daily Log'!$H$18:$H$1017,$B187,'Daily Log'!$I$18:$I$1017),0)","v":0},{"$f":"IFERROR($E187*SUMIF('Daily Log'!$K$18:$K$1017,$B187,'Daily Log'!$L$18:$L$1017),0)","v":0},{"$f":"IFERROR($E187*SUMIF('Daily Log'!$N$18:$N$1017,$B187,'Daily Log'!$O$18:$O$1017),0)","v":0},{"$f":"IFERROR($E187*SUMIF('Daily Log'!#REF!,$B187,'Daily Log'!#REF!),0)","v":0},{"$f":"IFERROR($E187*SUMIF('Daily Log'!#REF!,$B187,'Daily Log'!#REF!),0)","v":0},{"$f":"IFERROR($E187*SUMIF('Daily Log'!#REF!,$B187,'Daily Log'!#REF!),0)","v":0},{"$f":"IFERROR($E187*SUMIF('Daily Log'!#REF!,$B187,'Daily Log'!#REF!),0)","v":0},{"$f":"IFERROR($E187*SUMIF('Daily Log'!#REF!,$B187,'Daily Log'!#REF!),0)","v":0},{"$f":"IFERROR($E187*SUMIF('Daily Log'!#REF!,$B187,'Daily Log'!#REF!),0)","v":0},{"$f":"IFERROR($E187*SUMIF('Daily Log'!#REF!,$B187,'Daily Log'!#REF!),0)","v":0},{"$f":"IFERROR($E187*SUMIF('Daily Log'!#REF!,$B187,'Daily Log'!#REF!),0)","v":0},{"$f":"IFERROR($E187*SUMIF('Daily Log'!#REF!,$B187,'Daily Log'!#REF!),0)","v":0},{"$f":"IFERROR($E187*SUMIF('Daily Log'!#REF!,$B187,'Daily Log'!#REF!),0)","v":0},{"$f":"IFERROR($E187*SUMIF('Daily Log'!#REF!,$B187,'Daily Log'!#REF!),0)","v":0},{"$f":"IFERROR($E187*SUMIF('Daily Log'!#REF!,$B187,'Daily Log'!#REF!),0)","v":0},{"$f":"IFERROR($E187*SUMIF('Daily Log'!#REF!,$B187,'Daily Log'!#REF!),0)","v":0},{"$f":"IFERROR($E187*SUMIF('Daily Log'!#REF!,$B187,'Daily Log'!#REF!),0)","v":0},{"$f":"IFERROR($E187*SUMIF('Daily Log'!#REF!,$B187,'Daily Log'!#REF!),0)","v":0},{"$f":"IFERROR($E187*SUMIF('Daily Log'!#REF!,$B187,'Daily Log'!#REF!),0)","v":0},{"$f":"IFERROR($E187*SUMIF('Daily Log'!#REF!,$B187,'Daily Log'!#REF!),0)","v":0},{"$f":"IFERROR($E187*SUMIF('Daily Log'!#REF!,$B187,'Daily Log'!#REF!),0)","v":0},{"$f":"IFERROR($E187*SUMIF('Daily Log'!#REF!,$B187,'Daily Log'!#REF!),0)","v":0},{"$f":"IFERROR($E187*SUMIF('Daily Log'!#REF!,$B187,'Daily Log'!#REF!),0)","v":0},{"$f":"IFERROR($E187*SUMIF('Daily Log'!#REF!,$B187,'Daily Log'!#REF!),0)","v":0},{"$f":"IFERROR($E187*SUMIF('Daily Log'!#REF!,$B187,'Daily Log'!#REF!),0)","v":0},{"$f":"IFERROR($E187*SUMIF('Daily Log'!#REF!,$B187,'Daily Log'!#REF!),0)","v":0},{"$f":"IFERROR($E187*SUMIF('Daily Log'!#REF!,$B187,'Daily Log'!#REF!),0)","v":0},{"$f":"IFERROR($E187*SUMIF('Daily Log'!#REF!,$B187,'Daily Log'!#REF!),0)","v":0},{"$f":"IFERROR($E187*SUMIF('Daily Log'!#REF!,$B187,'Daily Log'!#REF!),0)","v":0}]
[null,"DF11 ADD SAUCE MR",null,"SAUCE",1,0,{"$f":"IFERROR($E188*SUMIF('Daily Log'!$B$18:$B$1017,$B188,'Daily Log'!$C$18:$C$1017),0)","v":0},{"$f":"IFERROR($E188*SUMIF('Daily Log'!$E$18:$E$1017,$B188,'Daily Log'!$F$18:$F$1017),0)","v":0},{"$f":"IFERROR($E188*SUMIF('Daily Log'!$H$18:$H$1017,$B188,'Daily Log'!$I$18:$I$1017),0)","v":0},{"$f":"IFERROR($E188*SUMIF('Daily Log'!$K$18:$K$1017,$B188,'Daily Log'!$L$18:$L$1017),0)","v":0},{"$f":"IFERROR($E188*SUMIF('Daily Log'!$N$18:$N$1017,$B188,'Daily Log'!$O$18:$O$1017),0)","v":0},{"$f":"IFERROR($E188*SUMIF('Daily Log'!#REF!,$B188,'Daily Log'!#REF!),0)","v":0},{"$f":"IFERROR($E188*SUMIF('Daily Log'!#REF!,$B188,'Daily Log'!#REF!),0)","v":0},{"$f":"IFERROR($E188*SUMIF('Daily Log'!#REF!,$B188,'Daily Log'!#REF!),0)","v":0},{"$f":"IFERROR($E188*SUMIF('Daily Log'!#REF!,$B188,'Daily Log'!#REF!),0)","v":0},{"$f":"IFERROR($E188*SUMIF('Daily Log'!#REF!,$B188,'Daily Log'!#REF!),0)","v":0},{"$f":"IFERROR($E188*SUMIF('Daily Log'!#REF!,$B188,'Daily Log'!#REF!),0)","v":0},{"$f":"IFERROR($E188*SUMIF('Daily Log'!#REF!,$B188,'Daily Log'!#REF!),0)","v":0},{"$f":"IFERROR($E188*SUMIF('Daily Log'!#REF!,$B188,'Daily Log'!#REF!),0)","v":0},{"$f":"IFERROR($E188*SUMIF('Daily Log'!#REF!,$B188,'Daily Log'!#REF!),0)","v":0},{"$f":"IFERROR($E188*SUMIF('Daily Log'!#REF!,$B188,'Daily Log'!#REF!),0)","v":0},{"$f":"IFERROR($E188*SUMIF('Daily Log'!#REF!,$B188,'Daily Log'!#REF!),0)","v":0},{"$f":"IFERROR($E188*SUMIF('Daily Log'!#REF!,$B188,'Daily Log'!#REF!),0)","v":0},{"$f":"IFERROR($E188*SUMIF('Daily Log'!#REF!,$B188,'Daily Log'!#REF!),0)","v":0},{"$f":"IFERROR($E188*SUMIF('Daily Log'!#REF!,$B188,'Daily Log'!#REF!),0)","v":0},{"$f":"IFERROR($E188*SUMIF('Daily Log'!#REF!,$B188,'Daily Log'!#REF!),0)","v":0},{"$f":"IFERROR($E188*SUMIF('Daily Log'!#REF!,$B188,'Daily Log'!#REF!),0)","v":0},{"$f":"IFERROR($E188*SUMIF('Daily Log'!#REF!,$B188,'Daily Log'!#REF!),0)","v":0},{"$f":"IFERROR($E188*SUMIF('Daily Log'!#REF!,$B188,'Daily Log'!#REF!),0)","v":0},{"$f":"IFERROR($E188*SUMIF('Daily Log'!#REF!,$B188,'Daily Log'!#REF!),0)","v":0},{"$f":"IFERROR($E188*SUMIF('Daily Log'!#REF!,$B188,'Daily Log'!#REF!),0)","v":0},{"$f":"IFERROR($E188*SUMIF('Daily Log'!#REF!,$B188,'Daily Log'!#REF!),0)","v":0},{"$f":"IFERROR($E188*SUMIF('Daily Log'!#REF!,$B188,'Daily Log'!#REF!),0)","v":0},{"$f":"IFERROR($E188*SUMIF('Daily Log'!#REF!,$B188,'Daily Log'!#REF!),0)","v":0},{"$f":"IFERROR($E188*SUMIF('Daily Log'!#REF!,$B188,'Daily Log'!#REF!),0)","v":0},{"$f":"IFERROR($E188*SUMIF('Daily Log'!#REF!,$B188,'Daily Log'!#REF!),0)","v":0},{"$f":"IFERROR($E188*SUMIF('Daily Log'!#REF!,$B188,'Daily Log'!#REF!),0)","v":0}]
[null,"DF12 ADD SAUCE SAMBAL",null,"SAUCE",1,1,{"$f":"IFERROR($E189*SUMIF('Daily Log'!$B$18:$B$1017,$B189,'Daily Log'!$C$18:$C$1017),0)","v":0},{"$f":"IFERROR($E189*SUMIF('Daily Log'!$E$18:$E$1017,$B189,'Daily Log'!$F$18:$F$1017),0)","v":0},{"$f":"IFERROR($E189*SUMIF('Daily Log'!$H$18:$H$1017,$B189,'Daily Log'!$I$18:$I$1017),0)","v":0},{"$f":"IFERROR($E189*SUMIF('Daily Log'!$K$18:$K$1017,$B189,'Daily Log'!$L$18:$L$1017),0)","v":0},{"$f":"IFERROR($E189*SUMIF('Daily Log'!$N$18:$N$1017,$B189,'Daily Log'!$O$18:$O$1017),0)","v":1},{"$f":"IFERROR($E189*SUMIF('Daily Log'!#REF!,$B189,'Daily Log'!#REF!),0)","v":0},{"$f":"IFERROR($E189*SUMIF('Daily Log'!#REF!,$B189,'Daily Log'!#REF!),0)","v":0},{"$f":"IFERROR($E189*SUMIF('Daily Log'!#REF!,$B189,'Daily Log'!#REF!),0)","v":0},{"$f":"IFERROR($E189*SUMIF('Daily Log'!#REF!,$B189,'Daily Log'!#REF!),0)","v":0},{"$f":"IFERROR($E189*SUMIF('Daily Log'!#REF!,$B189,'Daily Log'!#REF!),0)","v":0},{"$f":"IFERROR($E189*SUMIF('Daily Log'!#REF!,$B189,'Daily Log'!#REF!),0)","v":0},{"$f":"IFERROR($E189*SUMIF('Daily Log'!#REF!,$B189,'Daily Log'!#REF!),0)","v":0},{"$f":"IFERROR($E189*SUMIF('Daily Log'!#REF!,$B189,'Daily Log'!#REF!),0)","v":0},{"$f":"IFERROR($E189*SUMIF('Daily Log'!#REF!,$B189,'Daily Log'!#REF!),0)","v":0},{"$f":"IFERROR($E189*SUMIF('Daily Log'!#REF!,$B189,'Daily Log'!#REF!),0)","v":0},{"$f":"IFERROR($E189*SUMIF('Daily Log'!#REF!,$B189,'Daily Log'!#REF!),0)","v":0},{"$f":"IFERROR($E189*SUMIF('Daily Log'!#REF!,$B189,'Daily Log'!#REF!),0)","v":0},{"$f":"IFERROR($E189*SUMIF('Daily Log'!#REF!,$B189,'Daily Log'!#REF!),0)","v":0},{"$f":"IFERROR($E189*SUMIF('Daily Log'!#REF!,$B189,'Daily Log'!#REF!),0)","v":0},{"$f":"IFERROR($E189*SUMIF('Daily Log'!#REF!,$B189,'Daily Log'!#REF!),0)","v":0},{"$f":"IFERROR($E189*SUMIF('Daily Log'!#REF!,$B189,'Daily Log'!#REF!),0)","v":0},{"$f":"IFERROR($E189*SUMIF('Daily Log'!#REF!,$B189,'Daily Log'!#REF!),0)","v":0},{"$f":"IFERROR($E189*SUMIF('Daily Log'!#REF!,$B189,'Daily Log'!#REF!),0)","v":0},{"$f":"IFERROR($E189*SUMIF('Daily Log'!#REF!,$B189,'Daily Log'!#REF!),0)","v":0},{"$f":"IFERROR($E189*SUMIF('Daily Log'!#REF!,$B189,'Daily Log'!#REF!),0)","v":0},{"$f":"IFERROR($E189*SUMIF('Daily Log'!#REF!,$B189,'Daily Log'!#REF!),0)","v":0},{"$f":"IFERROR($E189*SUMIF('Daily Log'!#REF!,$B189,'Daily Log'!#REF!),0)","v":0},{"$f":"IFERROR($E189*SUMIF('Daily Log'!#REF!,$B189,'Daily Log'!#REF!),0)","v":0},{"$f":"IFERROR($E189*SUMIF('Daily Log'!#REF!,$B189,'Daily Log'!#REF!),0)","v":0},{"$f":"IFERROR($E189*SUMIF('Daily Log'!#REF!,$B189,'Daily Log'!#REF!),0)","v":0},{"$f":"IFERROR($E189*SUMIF('Daily Log'!#REF!,$B189,'Daily Log'!#REF!),0)","v":0}]
[null,"DF13 ADD SAUCE THAI",null,"SAUCE",1,0,{"$f":"IFERROR($E190*SUMIF('Daily Log'!$B$18:$B$1017,$B190,'Daily Log'!$C$18:$C$1017),0)","v":0},{"$f":"IFERROR($E190*SUMIF('Daily Log'!$E$18:$E$1017,$B190,'Daily Log'!$F$18:$F$1017),0)","v":0},{"$f":"IFERROR($E190*SUMIF('Daily Log'!$H$18:$H$1017,$B190,'Daily Log'!$I$18:$I$1017),0)","v":0},{"$f":"IFERROR($E190*SUMIF('Daily Log'!$K$18:$K$1017,$B190,'Daily Log'!$L$18:$L$1017),0)","v":0},{"$f":"IFERROR($E190*SUMIF('Daily Log'!$N$18:$N$1017,$B190,'Daily Log'!$O$18:$O$1017),0)","v":0},{"$f":"IFERROR($E190*SUMIF('Daily Log'!#REF!,$B190,'Daily Log'!#REF!),0)","v":0},{"$f":"IFERROR($E190*SUMIF('Daily Log'!#REF!,$B190,'Daily Log'!#REF!),0)","v":0},{"$f":"IFERROR($E190*SUMIF('Daily Log'!#REF!,$B190,'Daily Log'!#REF!),0)","v":0},{"$f":"IFERROR($E190*SUMIF('Daily Log'!#REF!,$B190,'Daily Log'!#REF!),0)","v":0},{"$f":"IFERROR($E190*SUMIF('Daily Log'!#REF!,$B190,'Daily Log'!#REF!),0)","v":0},{"$f":"IFERROR($E190*SUMIF('Daily Log'!#REF!,$B190,'Daily Log'!#REF!),0)","v":0},{"$f":"IFERROR($E190*SUMIF('Daily Log'!#REF!,$B190,'Daily Log'!#REF!),0)","v":0},{"$f":"IFERROR($E190*SUMIF('Daily Log'!#REF!,$B190,'Daily Log'!#REF!),0)","v":0},{"$f":"IFERROR($E190*SUMIF('Daily Log'!#REF!,$B190,'Daily Log'!#REF!),0)","v":0},{"$f":"IFERROR($E190*SUMIF('Daily Log'!#REF!,$B190,'Daily Log'!#REF!),0)","v":0},{"$f":"IFERROR($E190*SUMIF('Daily Log'!#REF!,$B190,'Daily Log'!#REF!),0)","v":0},{"$f":"IFERROR($E190*SUMIF('Daily Log'!#REF!,$B190,'Daily Log'!#REF!),0)","v":0},{"$f":"IFERROR($E190*SUMIF('Daily Log'!#REF!,$B190,'Daily Log'!#REF!),0)","v":0},{"$f":"IFERROR($E190*SUMIF('Daily Log'!#REF!,$B190,'Daily Log'!#REF!),0)","v":0},{"$f":"IFERROR($E190*SUMIF('Daily Log'!#REF!,$B190,'Daily Log'!#REF!),0)","v":0},{"$f":"IFERROR($E190*SUMIF('Daily Log'!#REF!,$B190,'Daily Log'!#REF!),0)","v":0},{"$f":"IFERROR($E190*SUMIF('Daily Log'!#REF!,$B190,'Daily Log'!#REF!),0)","v":0},{"$f":"IFERROR($E190*SUMIF('Daily Log'!#REF!,$B190,'Daily Log'!#REF!),0)","v":0},{"$f":"IFERROR($E190*SUMIF('Daily Log'!#REF!,$B190,'Daily Log'!#REF!),0)","v":0},{"$f":"IFERROR($E190*SUMIF('Daily Log'!#REF!,$B190,'Daily Log'!#REF!),0)","v":0},{"$f":"IFERROR($E190*SUMIF('Daily Log'!#REF!,$B190,'Daily Log'!#REF!),0)","v":0},{"$f":"IFERROR($E190*SUMIF('Daily Log'!#REF!,$B190,'Daily Log'!#REF!),0)","v":0},{"$f":"IFERROR($E190*SUMIF('Daily Log'!#REF!,$B190,'Daily Log'!#REF!),0)","v":0},{"$f":"IFERROR($E190*SUMIF('Daily Log'!#REF!,$B190,'Daily Log'!#REF!),0)","v":0},{"$f":"IFERROR($E190*SUMIF('Daily Log'!#REF!,$B190,'Daily Log'!#REF!),0)","v":0},{"$f":"IFERROR($E190*SUMIF('Daily Log'!#REF!,$B190,'Daily Log'!#REF!),0)","v":0}]
[null,"DF14 ADD SAUCE TOMATO",null,"SAUCE",1,9,{"$f":"IFERROR($E191*SUMIF('Daily Log'!$B$18:$B$1017,$B191,'Daily Log'!$C$18:$C$1017),0)","v":5},{"$f":"IFERROR($E191*SUMIF('Daily Log'!$E$18:$E$1017,$B191,'Daily Log'!$F$18:$F$1017),0)","v":0},{"$f":"IFERROR($E191*SUMIF('Daily Log'!$H$18:$H$1017,$B191,'Daily Log'!$I$18:$I$1017),0)","v":1},{"$f":"IFERROR($E191*SUMIF('Daily Log'!$K$18:$K$1017,$B191,'Daily Log'!$L$18:$L$1017),0)","v":2},{"$f":"IFERROR($E191*SUMIF('Daily Log'!$N$18:$N$1017,$B191,'Daily Log'!$O$18:$O$1017),0)","v":1},{"$f":"IFERROR($E191*SUMIF('Daily Log'!#REF!,$B191,'Daily Log'!#REF!),0)","v":0},{"$f":"IFERROR($E191*SUMIF('Daily Log'!#REF!,$B191,'Daily Log'!#REF!),0)","v":0},{"$f":"IFERROR($E191*SUMIF('Daily Log'!#REF!,$B191,'Daily Log'!#REF!),0)","v":0},{"$f":"IFERROR($E191*SUMIF('Daily Log'!#REF!,$B191,'Daily Log'!#REF!),0)","v":0},{"$f":"IFERROR($E191*SUMIF('Daily Log'!#REF!,$B191,'Daily Log'!#REF!),0)","v":0},{"$f":"IFERROR($E191*SUMIF('Daily Log'!#REF!,$B191,'Daily Log'!#REF!),0)","v":0},{"$f":"IFERROR($E191*SUMIF('Daily Log'!#REF!,$B191,'Daily Log'!#REF!),0)","v":0},{"$f":"IFERROR($E191*SUMIF('Daily Log'!#REF!,$B191,'Daily Log'!#REF!),0)","v":0},{"$f":"IFERROR($E191*SUMIF('Daily Log'!#REF!,$B191,'Daily Log'!#REF!),0)","v":0},{"$f":"IFERROR($E191*SUMIF('Daily Log'!#REF!,$B191,'Daily Log'!#REF!),0)","v":0},{"$f":"IFERROR($E191*SUMIF('Daily Log'!#REF!,$B191,'Daily Log'!#REF!),0)","v":0},{"$f":"IFERROR($E191*SUMIF('Daily Log'!#REF!,$B191,'Daily Log'!#REF!),0)","v":0},{"$f":"IFERROR($E191*SUMIF('Daily Log'!#REF!,$B191,'Daily Log'!#REF!),0)","v":0},{"$f":"IFERROR($E191*SUMIF('Daily Log'!#REF!,$B191,'Daily Log'!#REF!),0)","v":0},{"$f":"IFERROR($E191*SUMIF('Daily Log'!#REF!,$B191,'Daily Log'!#REF!),0)","v":0},{"$f":"IFERROR($E191*SUMIF('Daily Log'!#REF!,$B191,'Daily Log'!#REF!),0)","v":0},{"$f":"IFERROR($E191*SUMIF('Daily Log'!#REF!,$B191,'Daily Log'!#REF!),0)","v":0},{"$f":"IFERROR($E191*SUMIF('Daily Log'!#REF!,$B191,'Daily Log'!#REF!),0)","v":0},{"$f":"IFERROR($E191*SUMIF('Daily Log'!#REF!,$B191,'Daily Log'!#REF!),0)","v":0},{"$f":"IFERROR($E191*SUMIF('Daily Log'!#REF!,$B191,'Daily Log'!#REF!),0)","v":0},{"$f":"IFERROR($E191*SUMIF('Daily Log'!#REF!,$B191,'Daily Log'!#REF!),0)","v":0},{"$f":"IFERROR($E191*SUMIF('Daily Log'!#REF!,$B191,'Daily Log'!#REF!),0)","v":0},{"$f":"IFERROR($E191*SUMIF('Daily Log'!#REF!,$B191,'Daily Log'!#REF!),0)","v":0},{"$f":"IFERROR($E191*SUMIF('Daily Log'!#REF!,$B191,'Daily Log'!#REF!),0)","v":0},{"$f":"IFERROR($E191*SUMIF('Daily Log'!#REF!,$B191,'Daily Log'!#REF!),0)","v":0},{"$f":"IFERROR($E191*SUMIF('Daily Log'!#REF!,$B191,'Daily Log'!#REF!),0)","v":0}]
[null,"DF15 ADD TATA SAUCE",null,"SAUCE",1,2,{"$f":"IFERROR($E192*SUMIF('Daily Log'!$B$18:$B$1017,$B192,'Daily Log'!$C$18:$C$1017),0)","v":1},{"$f":"IFERROR($E192*SUMIF('Daily Log'!$E$18:$E$1017,$B192,'Daily Log'!$F$18:$F$1017),0)","v":0},{"$f":"IFERROR($E192*SUMIF('Daily Log'!$H$18:$H$1017,$B192,'Daily Log'!$I$18:$I$1017),0)","v":1},{"$f":"IFERROR($E192*SUMIF('Daily Log'!$K$18:$K$1017,$B192,'Daily Log'!$L$18:$L$1017),0)","v":0},{"$f":"IFERROR($E192*SUMIF('Daily Log'!$N$18:$N$1017,$B192,'Daily Log'!$O$18:$O$1017),0)","v":0},{"$f":"IFERROR($E192*SUMIF('Daily Log'!#REF!,$B192,'Daily Log'!#REF!),0)","v":0},{"$f":"IFERROR($E192*SUMIF('Daily Log'!#REF!,$B192,'Daily Log'!#REF!),0)","v":0},{"$f":"IFERROR($E192*SUMIF('Daily Log'!#REF!,$B192,'Daily Log'!#REF!),0)","v":0},{"$f":"IFERROR($E192*SUMIF('Daily Log'!#REF!,$B192,'Daily Log'!#REF!),0)","v":0},{"$f":"IFERROR($E192*SUMIF('Daily Log'!#REF!,$B192,'Daily Log'!#REF!),0)","v":0},{"$f":"IFERROR($E192*SUMIF('Daily Log'!#REF!,$B192,'Daily Log'!#REF!),0)","v":0},{"$f":"IFERROR($E192*SUMIF('Daily Log'!#REF!,$B192,'Daily Log'!#REF!),0)","v":0},{"$f":"IFERROR($E192*SUMIF('Daily Log'!#REF!,$B192,'Daily Log'!#REF!),0)","v":0},{"$f":"IFERROR($E192*SUMIF('Daily Log'!#REF!,$B192,'Daily Log'!#REF!),0)","v":0},{"$f":"IFERROR($E192*SUMIF('Daily Log'!#REF!,$B192,'Daily Log'!#REF!),0)","v":0},{"$f":"IFERROR($E192*SUMIF('Daily Log'!#REF!,$B192,'Daily Log'!#REF!),0)","v":0},{"$f":"IFERROR($E192*SUMIF('Daily Log'!#REF!,$B192,'Daily Log'!#REF!),0)","v":0},{"$f":"IFERROR($E192*SUMIF('Daily Log'!#REF!,$B192,'Daily Log'!#REF!),0)","v":0},{"$f":"IFERROR($E192*SUMIF('Daily Log'!#REF!,$B192,'Daily Log'!#REF!),0)","v":0},{"$f":"IFERROR($E192*SUMIF('Daily Log'!#REF!,$B192,'Daily Log'!#REF!),0)","v":0},{"$f":"IFERROR($E192*SUMIF('Daily Log'!#REF!,$B192,'Daily Log'!#REF!),0)","v":0},{"$f":"IFERROR($E192*SUMIF('Daily Log'!#REF!,$B192,'Daily Log'!#REF!),0)","v":0},{"$f":"IFERROR($E192*SUMIF('Daily Log'!#REF!,$B192,'Daily Log'!#REF!),0)","v":0},{"$f":"IFERROR($E192*SUMIF('Daily Log'!#REF!,$B192,'Daily Log'!#REF!),0)","v":0},{"$f":"IFERROR($E192*SUMIF('Daily Log'!#REF!,$B192,'Daily Log'!#REF!),0)","v":0},{"$f":"IFERROR($E192*SUMIF('Daily Log'!#REF!,$B192,'Daily Log'!#REF!),0)","v":0},{"$f":"IFERROR($E192*SUMIF('Daily Log'!#REF!,$B192,'Daily Log'!#REF!),0)","v":0},{"$f":"IFERROR($E192*SUMIF('Daily Log'!#REF!,$B192,'Daily Log'!#REF!),0)","v":0},{"$f":"IFERROR($E192*SUMIF('Daily Log'!#REF!,$B192,'Daily Log'!#REF!),0)","v":0},{"$f":"IFERROR($E192*SUMIF('Daily Log'!#REF!,$B192,'Daily Log'!#REF!),0)","v":0},{"$f":"IFERROR($E192*SUMIF('Daily Log'!#REF!,$B192,'Daily Log'!#REF!),0)","v":0}]
[null,"DF16 ADD SAUCE CHEES",null,"SAUCE",1,2,{"$f":"IFERROR($E193*SUMIF('Daily Log'!$B$18:$B$1017,$B193,'Daily Log'!$C$18:$C$1017),0)","v":0},{"$f":"IFERROR($E193*SUMIF('Daily Log'!$E$18:$E$1017,$B193,'Daily Log'!$F$18:$F$1017),0)","v":0},{"$f":"IFERROR($E193*SUMIF('Daily Log'!$H$18:$H$1017,$B193,'Daily Log'!$I$18:$I$1017),0)","v":1},{"$f":"IFERROR($E193*SUMIF('Daily Log'!$K$18:$K$1017,$B193,'Daily Log'!$L$18:$L$1017),0)","v":1},{"$f":"IFERROR($E193*SUMIF('Daily Log'!$N$18:$N$1017,$B193,'Daily Log'!$O$18:$O$1017),0)","v":0},{"$f":"IFERROR($E193*SUMIF('Daily Log'!#REF!,$B193,'Daily Log'!#REF!),0)","v":0},{"$f":"IFERROR($E193*SUMIF('Daily Log'!#REF!,$B193,'Daily Log'!#REF!),0)","v":0},{"$f":"IFERROR($E193*SUMIF('Daily Log'!#REF!,$B193,'Daily Log'!#REF!),0)","v":0},{"$f":"IFERROR($E193*SUMIF('Daily Log'!#REF!,$B193,'Daily Log'!#REF!),0)","v":0},{"$f":"IFERROR($E193*SUMIF('Daily Log'!#REF!,$B193,'Daily Log'!#REF!),0)","v":0},{"$f":"IFERROR($E193*SUMIF('Daily Log'!#REF!,$B193,'Daily Log'!#REF!),0)","v":0},{"$f":"IFERROR($E193*SUMIF('Daily Log'!#REF!,$B193,'Daily Log'!#REF!),0)","v":0},{"$f":"IFERROR($E193*SUMIF('Daily Log'!#REF!,$B193,'Daily Log'!#REF!),0)","v":0},{"$f":"IFERROR($E193*SUMIF('Daily Log'!#REF!,$B193,'Daily Log'!#REF!),0)","v":0},{"$f":"IFERROR($E193*SUMIF('Daily Log'!#REF!,$B193,'Daily Log'!#REF!),0)","v":0},{"$f":"IFERROR($E193*SUMIF('Daily Log'!#REF!,$B193,'Daily Log'!#REF!),0)","v":0},{"$f":"IFERROR($E193*SUMIF('Daily Log'!#REF!,$B193,'Daily Log'!#REF!),0)","v":0},{"$f":"IFERROR($E193*SUMIF('Daily Log'!#REF!,$B193,'Daily Log'!#REF!),0)","v":0},{"$f":"IFERROR($E193*SUMIF('Daily Log'!#REF!,$B193,'Daily Log'!#REF!),0)","v":0},{"$f":"IFERROR($E193*SUMIF('Daily Log'!#REF!,$B193,'Daily Log'!#REF!),0)","v":0},{"$f":"IFERROR($E193*SUMIF('Daily Log'!#REF!,$B193,'Daily Log'!#REF!),0)","v":0},{"$f":"IFERROR($E193*SUMIF('Daily Log'!#REF!,$B193,'Daily Log'!#REF!),0)","v":0},{"$f":"IFERROR($E193*SUMIF('Daily Log'!#REF!,$B193,'Daily Log'!#REF!),0)","v":0},{"$f":"IFERROR($E193*SUMIF('Daily Log'!#REF!,$B193,'Daily Log'!#REF!),0)","v":0},{"$f":"IFERROR($E193*SUMIF('Daily Log'!#REF!,$B193,'Daily Log'!#REF!),0)","v":0},{"$f":"IFERROR($E193*SUMIF('Daily Log'!#REF!,$B193,'Daily Log'!#REF!),0)","v":0},{"$f":"IFERROR($E193*SUMIF('Daily Log'!#REF!,$B193,'Daily Log'!#REF!),0)","v":0},{"$f":"IFERROR($E193*SUMIF('Daily Log'!#REF!,$B193,'Daily Log'!#REF!),0)","v":0},{"$f":"IFERROR($E193*SUMIF('Daily Log'!#REF!,$B193,'Daily Log'!#REF!),0)","v":0},{"$f":"IFERROR($E193*SUMIF('Daily Log'!#REF!,$B193,'Daily Log'!#REF!),0)","v":0},{"$f":"IFERROR($E193*SUMIF('Daily Log'!#REF!,$B193,'Daily Log'!#REF!),0)","v":0}]
[null,"DG01 91001:BP CHK CP",null,"KLKD-WESTERN CRUISE ",1,{"$f":"SUM($G194:$AK194)","v":50},{"$f":"IFERROR($E194*SUMIF('Daily Log'!$B$18:$B$1017,$B194,'Daily Log'!$C$18:$C$1017),0)","v":26},{"$f":"IFERROR($E194*SUMIF('Daily Log'!$E$18:$E$1017,$B194,'Daily Log'!$F$18:$F$1017),0)","v":2},{"$f":"IFERROR($E194*SUMIF('Daily Log'!$H$18:$H$1017,$B194,'Daily Log'!$I$18:$I$1017),0)","v":5},{"$f":"IFERROR($E194*SUMIF('Daily Log'!$K$18:$K$1017,$B194,'Daily Log'!$L$18:$L$1017),0)","v":15},{"$f":"IFERROR($E194*SUMIF('Daily Log'!$N$18:$N$1017,$B194,'Daily Log'!$O$18:$O$1017),0)","v":2},{"$f":"IFERROR($E194*SUMIF('Daily Log'!#REF!,$B194,'Daily Log'!#REF!),0)","v":0},{"$f":"IFERROR($E194*SUMIF('Daily Log'!#REF!,$B194,'Daily Log'!#REF!),0)","v":0},{"$f":"IFERROR($E194*SUMIF('Daily Log'!#REF!,$B194,'Daily Log'!#REF!),0)","v":0},{"$f":"IFERROR($E194*SUMIF('Daily Log'!#REF!,$B194,'Daily Log'!#REF!),0)","v":0},{"$f":"IFERROR($E194*SUMIF('Daily Log'!#REF!,$B194,'Daily Log'!#REF!),0)","v":0},{"$f":"IFERROR($E194*SUMIF('Daily Log'!#REF!,$B194,'Daily Log'!#REF!),0)","v":0},{"$f":"IFERROR($E194*SUMIF('Daily Log'!#REF!,$B194,'Daily Log'!#REF!),0)","v":0},{"$f":"IFERROR($E194*SUMIF('Daily Log'!#REF!,$B194,'Daily Log'!#REF!),0)","v":0},{"$f":"IFERROR($E194*SUMIF('Daily Log'!#REF!,$B194,'Daily Log'!#REF!),0)","v":0},{"$f":"IFERROR($E194*SUMIF('Daily Log'!#REF!,$B194,'Daily Log'!#REF!),0)","v":0},{"$f":"IFERROR($E194*SUMIF('Daily Log'!#REF!,$B194,'Daily Log'!#REF!),0)","v":0},{"$f":"IFERROR($E194*SUMIF('Daily Log'!#REF!,$B194,'Daily Log'!#REF!),0)","v":0},{"$f":"IFERROR($E194*SUMIF('Daily Log'!#REF!,$B194,'Daily Log'!#REF!),0)","v":0},{"$f":"IFERROR($E194*SUMIF('Daily Log'!#REF!,$B194,'Daily Log'!#REF!),0)","v":0},{"$f":"IFERROR($E194*SUMIF('Daily Log'!#REF!,$B194,'Daily Log'!#REF!),0)","v":0},{"$f":"IFERROR($E194*SUMIF('Daily Log'!#REF!,$B194,'Daily Log'!#REF!),0)","v":0},{"$f":"IFERROR($E194*SUMIF('Daily Log'!#REF!,$B194,'Daily Log'!#REF!),0)","v":0},{"$f":"IFERROR($E194*SUMIF('Daily Log'!#REF!,$B194,'Daily Log'!#REF!),0)","v":0},{"$f":"IFERROR($E194*SUMIF('Daily Log'!#REF!,$B194,'Daily Log'!#REF!),0)","v":0},{"$f":"IFERROR($E194*SUMIF('Daily Log'!#REF!,$B194,'Daily Log'!#REF!),0)","v":0},{"$f":"IFERROR($E194*SUMIF('Daily Log'!#REF!,$B194,'Daily Log'!#REF!),0)","v":0},{"$f":"IFERROR($E194*SUMIF('Daily Log'!#REF!,$B194,'Daily Log'!#REF!),0)","v":0},{"$f":"IFERROR($E194*SUMIF('Daily Log'!#REF!,$B194,'Daily Log'!#REF!),0)","v":0},{"$f":"IFERROR($E194*SUMIF('Daily Log'!#REF!,$B194,'Daily Log'!#REF!),0)","v":0},{"$f":"IFERROR($E194*SUMIF('Daily Log'!#REF!,$B194,'Daily Log'!#REF!),0)","v":0},{"$f":"IFERROR($E194*SUMIF('Daily Log'!#REF!,$B194,'Daily Log'!#REF!),0)","v":0}]
[null,"DG02 91002:GVY CHK CP",null,"KLKD-WESTERN CRUISE ",1,16,{"$f":"IFERROR($E195*SUMIF('Daily Log'!$B$18:$B$1017,$B195,'Daily Log'!$C$18:$C$1017),0)","v":9},{"$f":"IFERROR($E195*SUMIF('Daily Log'!$E$18:$E$1017,$B195,'Daily Log'!$F$18:$F$1017),0)","v":0},{"$f":"IFERROR($E195*SUMIF('Daily Log'!$H$18:$H$1017,$B195,'Daily Log'!$I$18:$I$1017),0)","v":2},{"$f":"IFERROR($E195*SUMIF('Daily Log'!$K$18:$K$1017,$B195,'Daily Log'!$L$18:$L$1017),0)","v":4},{"$f":"IFERROR($E195*SUMIF('Daily Log'!$N$18:$N$1017,$B195,'Daily Log'!$O$18:$O$1017),0)","v":1},{"$f":"IFERROR($E195*SUMIF('Daily Log'!#REF!,$B195,'Daily Log'!#REF!),0)","v":0},{"$f":"IFERROR($E195*SUMIF('Daily Log'!#REF!,$B195,'Daily Log'!#REF!),0)","v":0},{"$f":"IFERROR($E195*SUMIF('Daily Log'!#REF!,$B195,'Daily Log'!#REF!),0)","v":0},{"$f":"IFERROR($E195*SUMIF('Daily Log'!#REF!,$B195,'Daily Log'!#REF!),0)","v":0},{"$f":"IFERROR($E195*SUMIF('Daily Log'!#REF!,$B195,'Daily Log'!#REF!),0)","v":0},{"$f":"IFERROR($E195*SUMIF('Daily Log'!#REF!,$B195,'Daily Log'!#REF!),0)","v":0},{"$f":"IFERROR($E195*SUMIF('Daily Log'!#REF!,$B195,'Daily Log'!#REF!),0)","v":0},{"$f":"IFERROR($E195*SUMIF('Daily Log'!#REF!,$B195,'Daily Log'!#REF!),0)","v":0},{"$f":"IFERROR($E195*SUMIF('Daily Log'!#REF!,$B195,'Daily Log'!#REF!),0)","v":0},{"$f":"IFERROR($E195*SUMIF('Daily Log'!#REF!,$B195,'Daily Log'!#REF!),0)","v":0},{"$f":"IFERROR($E195*SUMIF('Daily Log'!#REF!,$B195,'Daily Log'!#REF!),0)","v":0},{"$f":"IFERROR($E195*SUMIF('Daily Log'!#REF!,$B195,'Daily Log'!#REF!),0)","v":0},{"$f":"IFERROR($E195*SUMIF('Daily Log'!#REF!,$B195,'Daily Log'!#REF!),0)","v":0},{"$f":"IFERROR($E195*SUMIF('Daily Log'!#REF!,$B195,'Daily Log'!#REF!),0)","v":0},{"$f":"IFERROR($E195*SUMIF('Daily Log'!#REF!,$B195,'Daily Log'!#REF!),0)","v":0},{"$f":"IFERROR($E195*SUMIF('Daily Log'!#REF!,$B195,'Daily Log'!#REF!),0)","v":0},{"$f":"IFERROR($E195*SUMIF('Daily Log'!#REF!,$B195,'Daily Log'!#REF!),0)","v":0},{"$f":"IFERROR($E195*SUMIF('Daily Log'!#REF!,$B195,'Daily Log'!#REF!),0)","v":0},{"$f":"IFERROR($E195*SUMIF('Daily Log'!#REF!,$B195,'Daily Log'!#REF!),0)","v":0},{"$f":"IFERROR($E195*SUMIF('Daily Log'!#REF!,$B195,'Daily Log'!#REF!),0)","v":0},{"$f":"IFERROR($E195*SUMIF('Daily Log'!#REF!,$B195,'Daily Log'!#REF!),0)","v":0},{"$f":"IFERROR($E195*SUMIF('Daily Log'!#REF!,$B195,'Daily Log'!#REF!),0)","v":0},{"$f":"IFERROR($E195*SUMIF('Daily Log'!#REF!,$B195,'Daily Log'!#REF!),0)","v":0},{"$f":"IFERROR($E195*SUMIF('Daily Log'!#REF!,$B195,'Daily Log'!#REF!),0)","v":0},{"$f":"IFERROR($E195*SUMIF('Daily Log'!#REF!,$B195,'Daily Log'!#REF!),0)","v":0},{"$f":"IFERROR($E195*SUMIF('Daily Log'!#REF!,$B195,'Daily Log'!#REF!),0)","v":0}]
[null,"DG03 91003:MSR CHK CP",null,"KLKD-WESTERN CRUISE ",1,52,{"$f":"IFERROR($E196*SUMIF('Daily Log'!$B$18:$B$1017,$B196,'Daily Log'!$C$18:$C$1017),0)","v":29},{"$f":"IFERROR($E196*SUMIF('Daily Log'!$E$18:$E$1017,$B196,'Daily Log'!$F$18:$F$1017),0)","v":2},{"$f":"IFERROR($E196*SUMIF('Daily Log'!$H$18:$H$1017,$B196,'Daily Log'!$I$18:$I$1017),0)","v":10},{"$f":"IFERROR($E196*SUMIF('Daily Log'!$K$18:$K$1017,$B196,'Daily Log'!$L$18:$L$1017),0)","v":9},{"$f":"IFERROR($E196*SUMIF('Daily Log'!$N$18:$N$1017,$B196,'Daily Log'!$O$18:$O$1017),0)","v":2},{"$f":"IFERROR($E196*SUMIF('Daily Log'!#REF!,$B196,'Daily Log'!#REF!),0)","v":0},{"$f":"IFERROR($E196*SUMIF('Daily Log'!#REF!,$B196,'Daily Log'!#REF!),0)","v":0},{"$f":"IFERROR($E196*SUMIF('Daily Log'!#REF!,$B196,'Daily Log'!#REF!),0)","v":0},{"$f":"IFERROR($E196*SUMIF('Daily Log'!#REF!,$B196,'Daily Log'!#REF!),0)","v":0},{"$f":"IFERROR($E196*SUMIF('Daily Log'!#REF!,$B196,'Daily Log'!#REF!),0)","v":0},{"$f":"IFERROR($E196*SUMIF('Daily Log'!#REF!,$B196,'Daily Log'!#REF!),0)","v":0},{"$f":"IFERROR($E196*SUMIF('Daily Log'!#REF!,$B196,'Daily Log'!#REF!),0)","v":0},{"$f":"IFERROR($E196*SUMIF('Daily Log'!#REF!,$B196,'Daily Log'!#REF!),0)","v":0},{"$f":"IFERROR($E196*SUMIF('Daily Log'!#REF!,$B196,'Daily Log'!#REF!),0)","v":0},{"$f":"IFERROR($E196*SUMIF('Daily Log'!#REF!,$B196,'Daily Log'!#REF!),0)","v":0},{"$f":"IFERROR($E196*SUMIF('Daily Log'!#REF!,$B196,'Daily Log'!#REF!),0)","v":0},{"$f":"IFERROR($E196*SUMIF('Daily Log'!#REF!,$B196,'Daily Log'!#REF!),0)","v":0},{"$f":"IFERROR($E196*SUMIF('Daily Log'!#REF!,$B196,'Daily Log'!#REF!),0)","v":0},{"$f":"IFERROR($E196*SUMIF('Daily Log'!#REF!,$B196,'Daily Log'!#REF!),0)","v":0},{"$f":"IFERROR($E196*SUMIF('Daily Log'!#REF!,$B196,'Daily Log'!#REF!),0)","v":0},{"$f":"IFERROR($E196*SUMIF('Daily Log'!#REF!,$B196,'Daily Log'!#REF!),0)","v":0},{"$f":"IFERROR($E196*SUMIF('Daily Log'!#REF!,$B196,'Daily Log'!#REF!),0)","v":0},{"$f":"IFERROR($E196*SUMIF('Daily Log'!#REF!,$B196,'Daily Log'!#REF!),0)","v":0},{"$f":"IFERROR($E196*SUMIF('Daily Log'!#REF!,$B196,'Daily Log'!#REF!),0)","v":0},{"$f":"IFERROR($E196*SUMIF('Daily Log'!#REF!,$B196,'Daily Log'!#REF!),0)","v":0},{"$f":"IFERROR($E196*SUMIF('Daily Log'!#REF!,$B196,'Daily Log'!#REF!),0)","v":0},{"$f":"IFERROR($E196*SUMIF('Daily Log'!#REF!,$B196,'Daily Log'!#REF!),0)","v":0},{"$f":"IFERROR($E196*SUMIF('Daily Log'!#REF!,$B196,'Daily Log'!#REF!),0)","v":0},{"$f":"IFERROR($E196*SUMIF('Daily Log'!#REF!,$B196,'Daily Log'!#REF!),0)","v":0},{"$f":"IFERROR($E196*SUMIF('Daily Log'!#REF!,$B196,'Daily Log'!#REF!),0)","v":0},{"$f":"IFERROR($E196*SUMIF('Daily Log'!#REF!,$B196,'Daily Log'!#REF!),0)","v":0}]
[null,"DG04 91004:CKN MARY",null,"KLKD-WESTERN CRUISE ",1,42,{"$f":"IFERROR($E197*SUMIF('Daily Log'!$B$18:$B$1017,$B197,'Daily Log'!$C$18:$C$1017),0)","v":19},{"$f":"IFERROR($E197*SUMIF('Daily Log'!$E$18:$E$1017,$B197,'Daily Log'!$F$18:$F$1017),0)","v":2},{"$f":"IFERROR($E197*SUMIF('Daily Log'!$H$18:$H$1017,$B197,'Daily Log'!$I$18:$I$1017),0)","v":8},{"$f":"IFERROR($E197*SUMIF('Daily Log'!$K$18:$K$1017,$B197,'Daily Log'!$L$18:$L$1017),0)","v":9},{"$f":"IFERROR($E197*SUMIF('Daily Log'!$N$18:$N$1017,$B197,'Daily Log'!$O$18:$O$1017),0)","v":4},{"$f":"IFERROR($E197*SUMIF('Daily Log'!#REF!,$B197,'Daily Log'!#REF!),0)","v":0},{"$f":"IFERROR($E197*SUMIF('Daily Log'!#REF!,$B197,'Daily Log'!#REF!),0)","v":0},{"$f":"IFERROR($E197*SUMIF('Daily Log'!#REF!,$B197,'Daily Log'!#REF!),0)","v":0},{"$f":"IFERROR($E197*SUMIF('Daily Log'!#REF!,$B197,'Daily Log'!#REF!),0)","v":0},{"$f":"IFERROR($E197*SUMIF('Daily Log'!#REF!,$B197,'Daily Log'!#REF!),0)","v":0},{"$f":"IFERROR($E197*SUMIF('Daily Log'!#REF!,$B197,'Daily Log'!#REF!),0)","v":0},{"$f":"IFERROR($E197*SUMIF('Daily Log'!#REF!,$B197,'Daily Log'!#REF!),0)","v":0},{"$f":"IFERROR($E197*SUMIF('Daily Log'!#REF!,$B197,'Daily Log'!#REF!),0)","v":0},{"$f":"IFERROR($E197*SUMIF('Daily Log'!#REF!,$B197,'Daily Log'!#REF!),0)","v":0},{"$f":"IFERROR($E197*SUMIF('Daily Log'!#REF!,$B197,'Daily Log'!#REF!),0)","v":0},{"$f":"IFERROR($E197*SUMIF('Daily Log'!#REF!,$B197,'Daily Log'!#REF!),0)","v":0},{"$f":"IFERROR($E197*SUMIF('Daily Log'!#REF!,$B197,'Daily Log'!#REF!),0)","v":0},{"$f":"IFERROR($E197*SUMIF('Daily Log'!#REF!,$B197,'Daily Log'!#REF!),0)","v":0},{"$f":"IFERROR($E197*SUMIF('Daily Log'!#REF!,$B197,'Daily Log'!#REF!),0)","v":0},{"$f":"IFERROR($E197*SUMIF('Daily Log'!#REF!,$B197,'Daily Log'!#REF!),0)","v":0},{"$f":"IFERROR($E197*SUMIF('Daily Log'!#REF!,$B197,'Daily Log'!#REF!),0)","v":0},{"$f":"IFERROR($E197*SUMIF('Daily Log'!#REF!,$B197,'Daily Log'!#REF!),0)","v":0},{"$f":"IFERROR($E197*SUMIF('Daily Log'!#REF!,$B197,'Daily Log'!#REF!),0)","v":0},{"$f":"IFERROR($E197*SUMIF('Daily Log'!#REF!,$B197,'Daily Log'!#REF!),0)","v":0},{"$f":"IFERROR($E197*SUMIF('Daily Log'!#REF!,$B197,'Daily Log'!#REF!),0)","v":0},{"$f":"IFERROR($E197*SUMIF('Daily Log'!#REF!,$B197,'Daily Log'!#REF!),0)","v":0},{"$f":"IFERROR($E197*SUMIF('Daily Log'!#REF!,$B197,'Daily Log'!#REF!),0)","v":0},{"$f":"IFERROR($E197*SUMIF('Daily Log'!#REF!,$B197,'Daily Log'!#REF!),0)","v":0},{"$f":"IFERROR($E197*SUMIF('Daily Log'!#REF!,$B197,'Daily Log'!#REF!),0)","v":0},{"$f":"IFERROR($E197*SUMIF('Daily Log'!#REF!,$B197,'Daily Log'!#REF!),0)","v":0},{"$f":"IFERROR($E197*SUMIF('Daily Log'!#REF!,$B197,'Daily Log'!#REF!),0)","v":0}]
[null,"DG05 91005:FISH&CHIP",null,"KLKD-WESTERN CRUISE ",1,41,{"$f":"IFERROR($E198*SUMIF('Daily Log'!$B$18:$B$1017,$B198,'Daily Log'!$C$18:$C$1017),0)","v":13},{"$f":"IFERROR($E198*SUMIF('Daily Log'!$E$18:$E$1017,$B198,'Daily Log'!$F$18:$F$1017),0)","v":5},{"$f":"IFERROR($E198*SUMIF('Daily Log'!$H$18:$H$1017,$B198,'Daily Log'!$I$18:$I$1017),0)","v":8},{"$f":"IFERROR($E198*SUMIF('Daily Log'!$K$18:$K$1017,$B198,'Daily Log'!$L$18:$L$1017),0)","v":9},{"$f":"IFERROR($E198*SUMIF('Daily Log'!$N$18:$N$1017,$B198,'Daily Log'!$O$18:$O$1017),0)","v":6},{"$f":"IFERROR($E198*SUMIF('Daily Log'!#REF!,$B198,'Daily Log'!#REF!),0)","v":0},{"$f":"IFERROR($E198*SUMIF('Daily Log'!#REF!,$B198,'Daily Log'!#REF!),0)","v":0},{"$f":"IFERROR($E198*SUMIF('Daily Log'!#REF!,$B198,'Daily Log'!#REF!),0)","v":0},{"$f":"IFERROR($E198*SUMIF('Daily Log'!#REF!,$B198,'Daily Log'!#REF!),0)","v":0},{"$f":"IFERROR($E198*SUMIF('Daily Log'!#REF!,$B198,'Daily Log'!#REF!),0)","v":0},{"$f":"IFERROR($E198*SUMIF('Daily Log'!#REF!,$B198,'Daily Log'!#REF!),0)","v":0},{"$f":"IFERROR($E198*SUMIF('Daily Log'!#REF!,$B198,'Daily Log'!#REF!),0)","v":0},{"$f":"IFERROR($E198*SUMIF('Daily Log'!#REF!,$B198,'Daily Log'!#REF!),0)","v":0},{"$f":"IFERROR($E198*SUMIF('Daily Log'!#REF!,$B198,'Daily Log'!#REF!),0)","v":0},{"$f":"IFERROR($E198*SUMIF('Daily Log'!#REF!,$B198,'Daily Log'!#REF!),0)","v":0},{"$f":"IFERROR($E198*SUMIF('Daily Log'!#REF!,$B198,'Daily Log'!#REF!),0)","v":0},{"$f":"IFERROR($E198*SUMIF('Daily Log'!#REF!,$B198,'Daily Log'!#REF!),0)","v":0},{"$f":"IFERROR($E198*SUMIF('Daily Log'!#REF!,$B198,'Daily Log'!#REF!),0)","v":0},{"$f":"IFERROR($E198*SUMIF('Daily Log'!#REF!,$B198,'Daily Log'!#REF!),0)","v":0},{"$f":"IFERROR($E198*SUMIF('Daily Log'!#REF!,$B198,'Daily Log'!#REF!),0)","v":0},{"$f":"IFERROR($E198*SUMIF('Daily Log'!#REF!,$B198,'Daily Log'!#REF!),0)","v":0},{"$f":"IFERROR($E198*SUMIF('Daily Log'!#REF!,$B198,'Daily Log'!#REF!),0)","v":0},{"$f":"IFERROR($E198*SUMIF('Daily Log'!#REF!,$B198,'Daily Log'!#REF!),0)","v":0},{"$f":"IFERROR($E198*SUMIF('Daily Log'!#REF!,$B198,'Daily Log'!#REF!),0)","v":0},{"$f":"IFERROR($E198*SUMIF('Daily Log'!#REF!,$B198,'Daily Log'!#REF!),0)","v":0},{"$f":"IFERROR($E198*SUMIF('Daily Log'!#REF!,$B198,'Daily Log'!#REF!),0)","v":0},{"$f":"IFERROR($E198*SUMIF('Daily Log'!#REF!,$B198,'Daily Log'!#REF!),0)","v":0},{"$f":"IFERROR($E198*SUMIF('Daily Log'!#REF!,$B198,'Daily Log'!#REF!),0)","v":0},{"$f":"IFERROR($E198*SUMIF('Daily Log'!#REF!,$B198,'Daily Log'!#REF!),0)","v":0},{"$f":"IFERROR($E198*SUMIF('Daily Log'!#REF!,$B198,'Daily Log'!#REF!),0)","v":0},{"$f":"IFERROR($E198*SUMIF('Daily Log'!#REF!,$B198,'Daily Log'!#REF!),0)","v":0}]
[null,"DG06 91006:SPAGHETTI",null,"KLKD-WESTERN CRUISE ",1,22,{"$f":"IFERROR($E199*SUMIF('Daily Log'!$B$18:$B$1017,$B199,'Daily Log'!$C$18:$C$1017),0)","v":9},{"$f":"IFERROR($E199*SUMIF('Daily Log'!$E$18:$E$1017,$B199,'Daily Log'!$F$18:$F$1017),0)","v":1},{"$f":"IFERROR($E199*SUMIF('Daily Log'!$H$18:$H$1017,$B199,'Daily Log'!$I$18:$I$1017),0)","v":5},{"$f":"IFERROR($E199*SUMIF('Daily Log'!$K$18:$K$1017,$B199,'Daily Log'!$L$18:$L$1017),0)","v":4},{"$f":"IFERROR($E199*SUMIF('Daily Log'!$N$18:$N$1017,$B199,'Daily Log'!$O$18:$O$1017),0)","v":3},{"$f":"IFERROR($E199*SUMIF('Daily Log'!#REF!,$B199,'Daily Log'!#REF!),0)","v":0},{"$f":"IFERROR($E199*SUMIF('Daily Log'!#REF!,$B199,'Daily Log'!#REF!),0)","v":0},{"$f":"IFERROR($E199*SUMIF('Daily Log'!#REF!,$B199,'Daily Log'!#REF!),0)","v":0},{"$f":"IFERROR($E199*SUMIF('Daily Log'!#REF!,$B199,'Daily Log'!#REF!),0)","v":0},{"$f":"IFERROR($E199*SUMIF('Daily Log'!#REF!,$B199,'Daily Log'!#REF!),0)","v":0},{"$f":"IFERROR($E199*SUMIF('Daily Log'!#REF!,$B199,'Daily Log'!#REF!),0)","v":0},{"$f":"IFERROR($E199*SUMIF('Daily Log'!#REF!,$B199,'Daily Log'!#REF!),0)","v":0},{"$f":"IFERROR($E199*SUMIF('Daily Log'!#REF!,$B199,'Daily Log'!#REF!),0)","v":0},{"$f":"IFERROR($E199*SUMIF('Daily Log'!#REF!,$B199,'Daily Log'!#REF!),0)","v":0},{"$f":"IFERROR($E199*SUMIF('Daily Log'!#REF!,$B199,'Daily Log'!#REF!),0)","v":0},{"$f":"IFERROR($E199*SUMIF('Daily Log'!#REF!,$B199,'Daily Log'!#REF!),0)","v":0},{"$f":"IFERROR($E199*SUMIF('Daily Log'!#REF!,$B199,'Daily Log'!#REF!),0)","v":0},{"$f":"IFERROR($E199*SUMIF('Daily Log'!#REF!,$B199,'Daily Log'!#REF!),0)","v":0},{"$f":"IFERROR($E199*SUMIF('Daily Log'!#REF!,$B199,'Daily Log'!#REF!),0)","v":0},{"$f":"IFERROR($E199*SUMIF('Daily Log'!#REF!,$B199,'Daily Log'!#REF!),0)","v":0},{"$f":"IFERROR($E199*SUMIF('Daily Log'!#REF!,$B199,'Daily Log'!#REF!),0)","v":0},{"$f":"IFERROR($E199*SUMIF('Daily Log'!#REF!,$B199,'Daily Log'!#REF!),0)","v":0},{"$f":"IFERROR($E199*SUMIF('Daily Log'!#REF!,$B199,'Daily Log'!#REF!),0)","v":0},{"$f":"IFERROR($E199*SUMIF('Daily Log'!#REF!,$B199,'Daily Log'!#REF!),0)","v":0},{"$f":"IFERROR($E199*SUMIF('Daily Log'!#REF!,$B199,'Daily Log'!#REF!),0)","v":0},{"$f":"IFERROR($E199*SUMIF('Daily Log'!#REF!,$B199,'Daily Log'!#REF!),0)","v":0},{"$f":"IFERROR($E199*SUMIF('Daily Log'!#REF!,$B199,'Daily Log'!#REF!),0)","v":0},{"$f":"IFERROR($E199*SUMIF('Daily Log'!#REF!,$B199,'Daily Log'!#REF!),0)","v":0},{"$f":"IFERROR($E199*SUMIF('Daily Log'!#REF!,$B199,'Daily Log'!#REF!),0)","v":0},{"$f":"IFERROR($E199*SUMIF('Daily Log'!#REF!,$B199,'Daily Log'!#REF!),0)","v":0},{"$f":"IFERROR($E199*SUMIF('Daily Log'!#REF!,$B199,'Daily Log'!#REF!),0)","v":0}]
[null,"DG07 91007:CHK SALAD",null,"KLKD-WESTERN CRUISE ",1,{"$f":"SUM($G200:$AK200)","v":10},{"$f":"IFERROR($E200*SUMIF('Daily Log'!$B$18:$B$1017,$B200,'Daily Log'!$C$18:$C$1017),0)","v":5},{"$f":"IFERROR($E200*SUMIF('Daily Log'!$E$18:$E$1017,$B200,'Daily Log'!$F$18:$F$1017),0)","v":1},{"$f":"IFERROR($E200*SUMIF('Daily Log'!$H$18:$H$1017,$B200,'Daily Log'!$I$18:$I$1017),0)","v":2},{"$f":"IFERROR($E200*SUMIF('Daily Log'!$K$18:$K$1017,$B200,'Daily Log'!$L$18:$L$1017),0)","v":1},{"$f":"IFERROR($E200*SUMIF('Daily Log'!$N$18:$N$1017,$B200,'Daily Log'!$O$18:$O$1017),0)","v":1},{"$f":"IFERROR($E200*SUMIF('Daily Log'!#REF!,$B200,'Daily Log'!#REF!),0)","v":0},{"$f":"IFERROR($E200*SUMIF('Daily Log'!#REF!,$B200,'Daily Log'!#REF!),0)","v":0},{"$f":"IFERROR($E200*SUMIF('Daily Log'!#REF!,$B200,'Daily Log'!#REF!),0)","v":0},{"$f":"IFERROR($E200*SUMIF('Daily Log'!#REF!,$B200,'Daily Log'!#REF!),0)","v":0},{"$f":"IFERROR($E200*SUMIF('Daily Log'!#REF!,$B200,'Daily Log'!#REF!),0)","v":0},{"$f":"IFERROR($E200*SUMIF('Daily Log'!#REF!,$B200,'Daily Log'!#REF!),0)","v":0},{"$f":"IFERROR($E200*SUMIF('Daily Log'!#REF!,$B200,'Daily Log'!#REF!),0)","v":0},{"$f":"IFERROR($E200*SUMIF('Daily Log'!#REF!,$B200,'Daily Log'!#REF!),0)","v":0},{"$f":"IFERROR($E200*SUMIF('Daily Log'!#REF!,$B200,'Daily Log'!#REF!),0)","v":0},{"$f":"IFERROR($E200*SUMIF('Daily Log'!#REF!,$B200,'Daily Log'!#REF!),0)","v":0},{"$f":"IFERROR($E200*SUMIF('Daily Log'!#REF!,$B200,'Daily Log'!#REF!),0)","v":0},{"$f":"IFERROR($E200*SUMIF('Daily Log'!#REF!,$B200,'Daily Log'!#REF!),0)","v":0},{"$f":"IFERROR($E200*SUMIF('Daily Log'!#REF!,$B200,'Daily Log'!#REF!),0)","v":0},{"$f":"IFERROR($E200*SUMIF('Daily Log'!#REF!,$B200,'Daily Log'!#REF!),0)","v":0},{"$f":"IFERROR($E200*SUMIF('Daily Log'!#REF!,$B200,'Daily Log'!#REF!),0)","v":0},{"$f":"IFERROR($E200*SUMIF('Daily Log'!#REF!,$B200,'Daily Log'!#REF!),0)","v":0},{"$f":"IFERROR($E200*SUMIF('Daily Log'!#REF!,$B200,'Daily Log'!#REF!),0)","v":0},{"$f":"IFERROR($E200*SUMIF('Daily Log'!#REF!,$B200,'Daily Log'!#REF!),0)","v":0},{"$f":"IFERROR($E200*SUMIF('Daily Log'!#REF!,$B200,'Daily Log'!#REF!),0)","v":0},{"$f":"IFERROR($E200*SUMIF('Daily Log'!#REF!,$B200,'Daily Log'!#REF!),0)","v":0},{"$f":"IFERROR($E200*SUMIF('Daily Log'!#REF!,$B200,'Daily Log'!#REF!),0)","v":0},{"$f":"IFERROR($E200*SUMIF('Daily Log'!#REF!,$B200,'Daily Log'!#REF!),0)","v":0},{"$f":"IFERROR($E200*SUMIF('Daily Log'!#REF!,$B200,'Daily Log'!#REF!),0)","v":0},{"$f":"IFERROR($E200*SUMIF('Daily Log'!#REF!,$B200,'Daily Log'!#REF!),0)","v":0},{"$f":"IFERROR($E200*SUMIF('Daily Log'!#REF!,$B200,'Daily Log'!#REF!),0)","v":0},{"$f":"IFERROR($E200*SUMIF('Daily Log'!#REF!,$B200,'Daily Log'!#REF!),0)","v":0}]
[null,"DH01 91101:THAI CHK",null,"KLKD-LOCAL DELIGHTS",1,14,{"$f":"IFERROR($E201*SUMIF('Daily Log'!$B$18:$B$1017,$B201,'Daily Log'!$C$18:$C$1017),0)","v":7},{"$f":"IFERROR($E201*SUMIF('Daily Log'!$E$18:$E$1017,$B201,'Daily Log'!$F$18:$F$1017),0)","v":1},{"$f":"IFERROR($E201*SUMIF('Daily Log'!$H$18:$H$1017,$B201,'Daily Log'!$I$18:$I$1017),0)","v":1},{"$f":"IFERROR($E201*SUMIF('Daily Log'!$K$18:$K$1017,$B201,'Daily Log'!$L$18:$L$1017),0)","v":3},{"$f":"IFERROR($E201*SUMIF('Daily Log'!$N$18:$N$1017,$B201,'Daily Log'!$O$18:$O$1017),0)","v":2},{"$f":"IFERROR($E201*SUMIF('Daily Log'!#REF!,$B201,'Daily Log'!#REF!),0)","v":0},{"$f":"IFERROR($E201*SUMIF('Daily Log'!#REF!,$B201,'Daily Log'!#REF!),0)","v":0},{"$f":"IFERROR($E201*SUMIF('Daily Log'!#REF!,$B201,'Daily Log'!#REF!),0)","v":0},{"$f":"IFERROR($E201*SUMIF('Daily Log'!#REF!,$B201,'Daily Log'!#REF!),0)","v":0},{"$f":"IFERROR($E201*SUMIF('Daily Log'!#REF!,$B201,'Daily Log'!#REF!),0)","v":0},{"$f":"IFERROR($E201*SUMIF('Daily Log'!#REF!,$B201,'Daily Log'!#REF!),0)","v":0},{"$f":"IFERROR($E201*SUMIF('Daily Log'!#REF!,$B201,'Daily Log'!#REF!),0)","v":0},{"$f":"IFERROR($E201*SUMIF('Daily Log'!#REF!,$B201,'Daily Log'!#REF!),0)","v":0},{"$f":"IFERROR($E201*SUMIF('Daily Log'!#REF!,$B201,'Daily Log'!#REF!),0)","v":0},{"$f":"IFERROR($E201*SUMIF('Daily Log'!#REF!,$B201,'Daily Log'!#REF!),0)","v":0},{"$f":"IFERROR($E201*SUMIF('Daily Log'!#REF!,$B201,'Daily Log'!#REF!),0)","v":0},{"$f":"IFERROR($E201*SUMIF('Daily Log'!#REF!,$B201,'Daily Log'!#REF!),0)","v":0},{"$f":"IFERROR($E201*SUMIF('Daily Log'!#REF!,$B201,'Daily Log'!#REF!),0)","v":0},{"$f":"IFERROR($E201*SUMIF('Daily Log'!#REF!,$B201,'Daily Log'!#REF!),0)","v":0},{"$f":"IFERROR($E201*SUMIF('Daily Log'!#REF!,$B201,'Daily Log'!#REF!),0)","v":0},{"$f":"IFERROR($E201*SUMIF('Daily Log'!#REF!,$B201,'Daily Log'!#REF!),0)","v":0},{"$f":"IFERROR($E201*SUMIF('Daily Log'!#REF!,$B201,'Daily Log'!#REF!),0)","v":0},{"$f":"IFERROR($E201*SUMIF('Daily Log'!#REF!,$B201,'Daily Log'!#REF!),0)","v":0},{"$f":"IFERROR($E201*SUMIF('Daily Log'!#REF!,$B201,'Daily Log'!#REF!),0)","v":0},{"$f":"IFERROR($E201*SUMIF('Daily Log'!#REF!,$B201,'Daily Log'!#REF!),0)","v":0},{"$f":"IFERROR($E201*SUMIF('Daily Log'!#REF!,$B201,'Daily Log'!#REF!),0)","v":0},{"$f":"IFERROR($E201*SUMIF('Daily Log'!#REF!,$B201,'Daily Log'!#REF!),0)","v":0},{"$f":"IFERROR($E201*SUMIF('Daily Log'!#REF!,$B201,'Daily Log'!#REF!),0)","v":0},{"$f":"IFERROR($E201*SUMIF('Daily Log'!#REF!,$B201,'Daily Log'!#REF!),0)","v":0},{"$f":"IFERROR($E201*SUMIF('Daily Log'!#REF!,$B201,'Daily Log'!#REF!),0)","v":0},{"$f":"IFERROR($E201*SUMIF('Daily Log'!#REF!,$B201,'Daily Log'!#REF!),0)","v":0}]
[null,"DH02 91102:MAMITE CHK",null,"KLKD-LOCAL DELIGHTS",1,17,{"$f":"IFERROR($E202*SUMIF('Daily Log'!$B$18:$B$1017,$B202,'Daily Log'!$C$18:$C$1017),0)","v":5},{"$f":"IFERROR($E202*SUMIF('Daily Log'!$E$18:$E$1017,$B202,'Daily Log'!$F$18:$F$1017),0)","v":2},{"$f":"IFERROR($E202*SUMIF('Daily Log'!$H$18:$H$1017,$B202,'Daily Log'!$I$18:$I$1017),0)","v":6},{"$f":"IFERROR($E202*SUMIF('Daily Log'!$K$18:$K$1017,$B202,'Daily Log'!$L$18:$L$1017),0)","v":4},{"$f":"IFERROR($E202*SUMIF('Daily Log'!$N$18:$N$1017,$B202,'Daily Log'!$O$18:$O$1017),0)","v":0},{"$f":"IFERROR($E202*SUMIF('Daily Log'!#REF!,$B202,'Daily Log'!#REF!),0)","v":0},{"$f":"IFERROR($E202*SUMIF('Daily Log'!#REF!,$B202,'Daily Log'!#REF!),0)","v":0},{"$f":"IFERROR($E202*SUMIF('Daily Log'!#REF!,$B202,'Daily Log'!#REF!),0)","v":0},{"$f":"IFERROR($E202*SUMIF('Daily Log'!#REF!,$B202,'Daily Log'!#REF!),0)","v":0},{"$f":"IFERROR($E202*SUMIF('Daily Log'!#REF!,$B202,'Daily Log'!#REF!),0)","v":0},{"$f":"IFERROR($E202*SUMIF('Daily Log'!#REF!,$B202,'Daily Log'!#REF!),0)","v":0},{"$f":"IFERROR($E202*SUMIF('Daily Log'!#REF!,$B202,'Daily Log'!#REF!),0)","v":0},{"$f":"IFERROR($E202*SUMIF('Daily Log'!#REF!,$B202,'Daily Log'!#REF!),0)","v":0},{"$f":"IFERROR($E202*SUMIF('Daily Log'!#REF!,$B202,'Daily Log'!#REF!),0)","v":0},{"$f":"IFERROR($E202*SUMIF('Daily Log'!#REF!,$B202,'Daily Log'!#REF!),0)","v":0},{"$f":"IFERROR($E202*SUMIF('Daily Log'!#REF!,$B202,'Daily Log'!#REF!),0)","v":0},{"$f":"IFERROR($E202*SUMIF('Daily Log'!#REF!,$B202,'Daily Log'!#REF!),0)","v":0},{"$f":"IFERROR($E202*SUMIF('Daily Log'!#REF!,$B202,'Daily Log'!#REF!),0)","v":0},{"$f":"IFERROR($E202*SUMIF('Daily Log'!#REF!,$B202,'Daily Log'!#REF!),0)","v":0},{"$f":"IFERROR($E202*SUMIF('Daily Log'!#REF!,$B202,'Daily Log'!#REF!),0)","v":0},{"$f":"IFERROR($E202*SUMIF('Daily Log'!#REF!,$B202,'Daily Log'!#REF!),0)","v":0},{"$f":"IFERROR($E202*SUMIF('Daily Log'!#REF!,$B202,'Daily Log'!#REF!),0)","v":0},{"$f":"IFERROR($E202*SUMIF('Daily Log'!#REF!,$B202,'Daily Log'!#REF!),0)","v":0},{"$f":"IFERROR($E202*SUMIF('Daily Log'!#REF!,$B202,'Daily Log'!#REF!),0)","v":0},{"$f":"IFERROR($E202*SUMIF('Daily Log'!#REF!,$B202,'Daily Log'!#REF!),0)","v":0},{"$f":"IFERROR($E202*SUMIF('Daily Log'!#REF!,$B202,'Daily Log'!#REF!),0)","v":0},{"$f":"IFERROR($E202*SUMIF('Daily Log'!#REF!,$B202,'Daily Log'!#REF!),0)","v":0},{"$f":"IFERROR($E202*SUMIF('Daily Log'!#REF!,$B202,'Daily Log'!#REF!),0)","v":0},{"$f":"IFERROR($E202*SUMIF('Daily Log'!#REF!,$B202,'Daily Log'!#REF!),0)","v":0},{"$f":"IFERROR($E202*SUMIF('Daily Log'!#REF!,$B202,'Daily Log'!#REF!),0)","v":0},{"$f":"IFERROR($E202*SUMIF('Daily Log'!#REF!,$B202,'Daily Log'!#REF!),0)","v":0}]
[null,"DH03 91103:KO PO CHK",null,"KLKD-LOCAL DELIGHTS",1,0,{"$f":"IFERROR($E203*SUMIF('Daily Log'!$B$18:$B$1017,$B203,'Daily Log'!$C$18:$C$1017),0)","v":0},{"$f":"IFERROR($E203*SUMIF('Daily Log'!$E$18:$E$1017,$B203,'Daily Log'!$F$18:$F$1017),0)","v":0},{"$f":"IFERROR($E203*SUMIF('Daily Log'!$H$18:$H$1017,$B203,'Daily Log'!$I$18:$I$1017),0)","v":0},{"$f":"IFERROR($E203*SUMIF('Daily Log'!$K$18:$K$1017,$B203,'Daily Log'!$L$18:$L$1017),0)","v":0},{"$f":"IFERROR($E203*SUMIF('Daily Log'!$N$18:$N$1017,$B203,'Daily Log'!$O$18:$O$1017),0)","v":0},{"$f":"IFERROR($E203*SUMIF('Daily Log'!#REF!,$B203,'Daily Log'!#REF!),0)","v":0},{"$f":"IFERROR($E203*SUMIF('Daily Log'!#REF!,$B203,'Daily Log'!#REF!),0)","v":0},{"$f":"IFERROR($E203*SUMIF('Daily Log'!#REF!,$B203,'Daily Log'!#REF!),0)","v":0},{"$f":"IFERROR($E203*SUMIF('Daily Log'!#REF!,$B203,'Daily Log'!#REF!),0)","v":0},{"$f":"IFERROR($E203*SUMIF('Daily Log'!#REF!,$B203,'Daily Log'!#REF!),0)","v":0},{"$f":"IFERROR($E203*SUMIF('Daily Log'!#REF!,$B203,'Daily Log'!#REF!),0)","v":0},{"$f":"IFERROR($E203*SUMIF('Daily Log'!#REF!,$B203,'Daily Log'!#REF!),0)","v":0},{"$f":"IFERROR($E203*SUMIF('Daily Log'!#REF!,$B203,'Daily Log'!#REF!),0)","v":0},{"$f":"IFERROR($E203*SUMIF('Daily Log'!#REF!,$B203,'Daily Log'!#REF!),0)","v":0},{"$f":"IFERROR($E203*SUMIF('Daily Log'!#REF!,$B203,'Daily Log'!#REF!),0)","v":0},{"$f":"IFERROR($E203*SUMIF('Daily Log'!#REF!,$B203,'Daily Log'!#REF!),0)","v":0},{"$f":"IFERROR($E203*SUMIF('Daily Log'!#REF!,$B203,'Daily Log'!#REF!),0)","v":0},{"$f":"IFERROR($E203*SUMIF('Daily Log'!#REF!,$B203,'Daily Log'!#REF!),0)","v":0},{"$f":"IFERROR($E203*SUMIF('Daily Log'!#REF!,$B203,'Daily Log'!#REF!),0)","v":0},{"$f":"IFERROR($E203*SUMIF('Daily Log'!#REF!,$B203,'Daily Log'!#REF!),0)","v":0},{"$f":"IFERROR($E203*SUMIF('Daily Log'!#REF!,$B203,'Daily Log'!#REF!),0)","v":0},{"$f":"IFERROR($E203*SUMIF('Daily Log'!#REF!,$B203,'Daily Log'!#REF!),0)","v":0},{"$f":"IFERROR($E203*SUMIF('Daily Log'!#REF!,$B203,'Daily Log'!#REF!),0)","v":0},{"$f":"IFERROR($E203*SUMIF('Daily Log'!#REF!,$B203,'Daily Log'!#REF!),0)","v":0},{"$f":"IFERROR($E203*SUMIF('Daily Log'!#REF!,$B203,'Daily Log'!#REF!),0)","v":0},{"$f":"IFERROR($E203*SUMIF('Daily Log'!#REF!,$B203,'Daily Log'!#REF!),0)","v":0},{"$f":"IFERROR($E203*SUMIF('Daily Log'!#REF!,$B203,'Daily Log'!#REF!),0)","v":0},{"$f":"IFERROR($E203*SUMIF('Daily Log'!#REF!,$B203,'Daily Log'!#REF!),0)","v":0},{"$f":"IFERROR($E203*SUMIF('Daily Log'!#REF!,$B203,'Daily Log'!#REF!),0)","v":0},{"$f":"IFERROR($E203*SUMIF('Daily Log'!#REF!,$B203,'Daily Log'!#REF!),0)","v":0},{"$f":"IFERROR($E203*SUMIF('Daily Log'!#REF!,$B203,'Daily Log'!#REF!),0)","v":0}]
[null,"DH04 91104:S&S CHK",null,"KLKD-LOCAL DELIGHTS",1,6,{"$f":"IFERROR($E204*SUMIF('Daily Log'!$B$18:$B$1017,$B204,'Daily Log'!$C$18:$C$1017),0)","v":3},{"$f":"IFERROR($E204*SUMIF('Daily Log'!$E$18:$E$1017,$B204,'Daily Log'!$F$18:$F$1017),0)","v":1},{"$f":"IFERROR($E204*SUMIF('Daily Log'!$H$18:$H$1017,$B204,'Daily Log'!$I$18:$I$1017),0)","v":1},{"$f":"IFERROR($E204*SUMIF('Daily Log'!$K$18:$K$1017,$B204,'Daily Log'!$L$18:$L$1017),0)","v":0},{"$f":"IFERROR($E204*SUMIF('Daily Log'!$N$18:$N$1017,$B204,'Daily Log'!$O$18:$O$1017),0)","v":1},{"$f":"IFERROR($E204*SUMIF('Daily Log'!#REF!,$B204,'Daily Log'!#REF!),0)","v":0},{"$f":"IFERROR($E204*SUMIF('Daily Log'!#REF!,$B204,'Daily Log'!#REF!),0)","v":0},{"$f":"IFERROR($E204*SUMIF('Daily Log'!#REF!,$B204,'Daily Log'!#REF!),0)","v":0},{"$f":"IFERROR($E204*SUMIF('Daily Log'!#REF!,$B204,'Daily Log'!#REF!),0)","v":0},{"$f":"IFERROR($E204*SUMIF('Daily Log'!#REF!,$B204,'Daily Log'!#REF!),0)","v":0},{"$f":"IFERROR($E204*SUMIF('Daily Log'!#REF!,$B204,'Daily Log'!#REF!),0)","v":0},{"$f":"IFERROR($E204*SUMIF('Daily Log'!#REF!,$B204,'Daily Log'!#REF!),0)","v":0},{"$f":"IFERROR($E204*SUMIF('Daily Log'!#REF!,$B204,'Daily Log'!#REF!),0)","v":0},{"$f":"IFERROR($E204*SUMIF('Daily Log'!#REF!,$B204,'Daily Log'!#REF!),0)","v":0},{"$f":"IFERROR($E204*SUMIF('Daily Log'!#REF!,$B204,'Daily Log'!#REF!),0)","v":0},{"$f":"IFERROR($E204*SUMIF('Daily Log'!#REF!,$B204,'Daily Log'!#REF!),0)","v":0},{"$f":"IFERROR($E204*SUMIF('Daily Log'!#REF!,$B204,'Daily Log'!#REF!),0)","v":0},{"$f":"IFERROR($E204*SUMIF('Daily Log'!#REF!,$B204,'Daily Log'!#REF!),0)","v":0},{"$f":"IFERROR($E204*SUMIF('Daily Log'!#REF!,$B204,'Daily Log'!#REF!),0)","v":0},{"$f":"IFERROR($E204*SUMIF('Daily Log'!#REF!,$B204,'Daily Log'!#REF!),0)","v":0},{"$f":"IFERROR($E204*SUMIF('Daily Log'!#REF!,$B204,'Daily Log'!#REF!),0)","v":0},{"$f":"IFERROR($E204*SUMIF('Daily Log'!#REF!,$B204,'Daily Log'!#REF!),0)","v":0},{"$f":"IFERROR($E204*SUMIF('Daily Log'!#REF!,$B204,'Daily Log'!#REF!),0)","v":0},{"$f":"IFERROR($E204*SUMIF('Daily Log'!#REF!,$B204,'Daily Log'!#REF!),0)","v":0},{"$f":"IFERROR($E204*SUMIF('Daily Log'!#REF!,$B204,'Daily Log'!#REF!),0)","v":0},{"$f":"IFERROR($E204*SUMIF('Daily Log'!#REF!,$B204,'Daily Log'!#REF!),0)","v":0},{"$f":"IFERROR($E204*SUMIF('Daily Log'!#REF!,$B204,'Daily Log'!#REF!),0)","v":0},{"$f":"IFERROR($E204*SUMIF('Daily Log'!#REF!,$B204,'Daily Log'!#REF!),0)","v":0},{"$f":"IFERROR($E204*SUMIF('Daily Log'!#REF!,$B204,'Daily Log'!#REF!),0)","v":0},{"$f":"IFERROR($E204*SUMIF('Daily Log'!#REF!,$B204,'Daily Log'!#REF!),0)","v":0},{"$f":"IFERROR($E204*SUMIF('Daily Log'!#REF!,$B204,'Daily Log'!#REF!),0)","v":0}]
[null,"DH05 91105:BUTTER CHK",null,"KLKD-LOCAL DELIGHTS",1,31,{"$f":"IFERROR($E205*SUMIF('Daily Log'!$B$18:$B$1017,$B205,'Daily Log'!$C$18:$C$1017),0)","v":14},{"$f":"IFERROR($E205*SUMIF('Daily Log'!$E$18:$E$1017,$B205,'Daily Log'!$F$18:$F$1017),0)","v":4},{"$f":"IFERROR($E205*SUMIF('Daily Log'!$H$18:$H$1017,$B205,'Daily Log'!$I$18:$I$1017),0)","v":5},{"$f":"IFERROR($E205*SUMIF('Daily Log'!$K$18:$K$1017,$B205,'Daily Log'!$L$18:$L$1017),0)","v":6},{"$f":"IFERROR($E205*SUMIF('Daily Log'!$N$18:$N$1017,$B205,'Daily Log'!$O$18:$O$1017),0)","v":2},{"$f":"IFERROR($E205*SUMIF('Daily Log'!#REF!,$B205,'Daily Log'!#REF!),0)","v":0},{"$f":"IFERROR($E205*SUMIF('Daily Log'!#REF!,$B205,'Daily Log'!#REF!),0)","v":0},{"$f":"IFERROR($E205*SUMIF('Daily Log'!#REF!,$B205,'Daily Log'!#REF!),0)","v":0},{"$f":"IFERROR($E205*SUMIF('Daily Log'!#REF!,$B205,'Daily Log'!#REF!),0)","v":0},{"$f":"IFERROR($E205*SUMIF('Daily Log'!#REF!,$B205,'Daily Log'!#REF!),0)","v":0},{"$f":"IFERROR($E205*SUMIF('Daily Log'!#REF!,$B205,'Daily Log'!#REF!),0)","v":0},{"$f":"IFERROR($E205*SUMIF('Daily Log'!#REF!,$B205,'Daily Log'!#REF!),0)","v":0},{"$f":"IFERROR($E205*SUMIF('Daily Log'!#REF!,$B205,'Daily Log'!#REF!),0)","v":0},{"$f":"IFERROR($E205*SUMIF('Daily Log'!#REF!,$B205,'Daily Log'!#REF!),0)","v":0},{"$f":"IFERROR($E205*SUMIF('Daily Log'!#REF!,$B205,'Daily Log'!#REF!),0)","v":0},{"$f":"IFERROR($E205*SUMIF('Daily Log'!#REF!,$B205,'Daily Log'!#REF!),0)","v":0},{"$f":"IFERROR($E205*SUMIF('Daily Log'!#REF!,$B205,'Daily Log'!#REF!),0)","v":0},{"$f":"IFERROR($E205*SUMIF('Daily Log'!#REF!,$B205,'Daily Log'!#REF!),0)","v":0},{"$f":"IFERROR($E205*SUMIF('Daily Log'!#REF!,$B205,'Daily Log'!#REF!),0)","v":0},{"$f":"IFERROR($E205*SUMIF('Daily Log'!#REF!,$B205,'Daily Log'!#REF!),0)","v":0},{"$f":"IFERROR($E205*SUMIF('Daily Log'!#REF!,$B205,'Daily Log'!#REF!),0)","v":0},{"$f":"IFERROR($E205*SUMIF('Daily Log'!#REF!,$B205,'Daily Log'!#REF!),0)","v":0},{"$f":"IFERROR($E205*SUMIF('Daily Log'!#REF!,$B205,'Daily Log'!#REF!),0)","v":0},{"$f":"IFERROR($E205*SUMIF('Daily Log'!#REF!,$B205,'Daily Log'!#REF!),0)","v":0},{"$f":"IFERROR($E205*SUMIF('Daily Log'!#REF!,$B205,'Daily Log'!#REF!),0)","v":0},{"$f":"IFERROR($E205*SUMIF('Daily Log'!#REF!,$B205,'Daily Log'!#REF!),0)","v":0},{"$f":"IFERROR($E205*SUMIF('Daily Log'!#REF!,$B205,'Daily Log'!#REF!),0)","v":0},{"$f":"IFERROR($E205*SUMIF('Daily Log'!#REF!,$B205,'Daily Log'!#REF!),0)","v":0},{"$f":"IFERROR($E205*SUMIF('Daily Log'!#REF!,$B205,'Daily Log'!#REF!),0)","v":0},{"$f":"IFERROR($E205*SUMIF('Daily Log'!#REF!,$B205,'Daily Log'!#REF!),0)","v":0},{"$f":"IFERROR($E205*SUMIF('Daily Log'!#REF!,$B205,'Daily Log'!#REF!),0)","v":0}]
[null,"DH06 91106:HK F.RICE",null,"KLKD-LOCAL DELIGHTS",1,15,{"$f":"IFERROR($E206*SUMIF('Daily Log'!$B$18:$B$1017,$B206,'Daily Log'!$C$18:$C$1017),0)","v":4},{"$f":"IFERROR($E206*SUMIF('Daily Log'!$E$18:$E$1017,$B206,'Daily Log'!$F$18:$F$1017),0)","v":2},{"$f":"IFERROR($E206*SUMIF('Daily Log'!$H$18:$H$1017,$B206,'Daily Log'!$I$18:$I$1017),0)","v":3},{"$f":"IFERROR($E206*SUMIF('Daily Log'!$K$18:$K$1017,$B206,'Daily Log'!$L$18:$L$1017),0)","v":3},{"$f":"IFERROR($E206*SUMIF('Daily Log'!$N$18:$N$1017,$B206,'Daily Log'!$O$18:$O$1017),0)","v":3},{"$f":"IFERROR($E206*SUMIF('Daily Log'!#REF!,$B206,'Daily Log'!#REF!),0)","v":0},{"$f":"IFERROR($E206*SUMIF('Daily Log'!#REF!,$B206,'Daily Log'!#REF!),0)","v":0},{"$f":"IFERROR($E206*SUMIF('Daily Log'!#REF!,$B206,'Daily Log'!#REF!),0)","v":0},{"$f":"IFERROR($E206*SUMIF('Daily Log'!#REF!,$B206,'Daily Log'!#REF!),0)","v":0},{"$f":"IFERROR($E206*SUMIF('Daily Log'!#REF!,$B206,'Daily Log'!#REF!),0)","v":0},{"$f":"IFERROR($E206*SUMIF('Daily Log'!#REF!,$B206,'Daily Log'!#REF!),0)","v":0},{"$f":"IFERROR($E206*SUMIF('Daily Log'!#REF!,$B206,'Daily Log'!#REF!),0)","v":0},{"$f":"IFERROR($E206*SUMIF('Daily Log'!#REF!,$B206,'Daily Log'!#REF!),0)","v":0},{"$f":"IFERROR($E206*SUMIF('Daily Log'!#REF!,$B206,'Daily Log'!#REF!),0)","v":0},{"$f":"IFERROR($E206*SUMIF('Daily Log'!#REF!,$B206,'Daily Log'!#REF!),0)","v":0},{"$f":"IFERROR($E206*SUMIF('Daily Log'!#REF!,$B206,'Daily Log'!#REF!),0)","v":0},{"$f":"IFERROR($E206*SUMIF('Daily Log'!#REF!,$B206,'Daily Log'!#REF!),0)","v":0},{"$f":"IFERROR($E206*SUMIF('Daily Log'!#REF!,$B206,'Daily Log'!#REF!),0)","v":0},{"$f":"IFERROR($E206*SUMIF('Daily Log'!#REF!,$B206,'Daily Log'!#REF!),0)","v":0},{"$f":"IFERROR($E206*SUMIF('Daily Log'!#REF!,$B206,'Daily Log'!#REF!),0)","v":0},{"$f":"IFERROR($E206*SUMIF('Daily Log'!#REF!,$B206,'Daily Log'!#REF!),0)","v":0},{"$f":"IFERROR($E206*SUMIF('Daily Log'!#REF!,$B206,'Daily Log'!#REF!),0)","v":0},{"$f":"IFERROR($E206*SUMIF('Daily Log'!#REF!,$B206,'Daily Log'!#REF!),0)","v":0},{"$f":"IFERROR($E206*SUMIF('Daily Log'!#REF!,$B206,'Daily Log'!#REF!),0)","v":0},{"$f":"IFERROR($E206*SUMIF('Daily Log'!#REF!,$B206,'Daily Log'!#REF!),0)","v":0},{"$f":"IFERROR($E206*SUMIF('Daily Log'!#REF!,$B206,'Daily Log'!#REF!),0)","v":0},{"$f":"IFERROR($E206*SUMIF('Daily Log'!#REF!,$B206,'Daily Log'!#REF!),0)","v":0},{"$f":"IFERROR($E206*SUMIF('Daily Log'!#REF!,$B206,'Daily Log'!#REF!),0)","v":0},{"$f":"IFERROR($E206*SUMIF('Daily Log'!#REF!,$B206,'Daily Log'!#REF!),0)","v":0},{"$f":"IFERROR($E206*SUMIF('Daily Log'!#REF!,$B206,'Daily Log'!#REF!),0)","v":0},{"$f":"IFERROR($E206*SUMIF('Daily Log'!#REF!,$B206,'Daily Log'!#REF!),0)","v":0}]
[null,"DH07 91107:SBL F.RICE",null,"KLKD-LOCAL DELIGHTS",1,10,{"$f":"IFERROR($E207*SUMIF('Daily Log'!$B$18:$B$1017,$B207,'Daily Log'!$C$18:$C$1017),0)","v":8},{"$f":"IFERROR($E207*SUMIF('Daily Log'!$E$18:$E$1017,$B207,'Daily Log'!$F$18:$F$1017),0)","v":2},{"$f":"IFERROR($E207*SUMIF('Daily Log'!$H$18:$H$1017,$B207,'Daily Log'!$I$18:$I$1017),0)","v":0},{"$f":"IFERROR($E207*SUMIF('Daily Log'!$K$18:$K$1017,$B207,'Daily Log'!$L$18:$L$1017),0)","v":0},{"$f":"IFERROR($E207*SUMIF('Daily Log'!$N$18:$N$1017,$B207,'Daily Log'!$O$18:$O$1017),0)","v":0},{"$f":"IFERROR($E207*SUMIF('Daily Log'!#REF!,$B207,'Daily Log'!#REF!),0)","v":0},{"$f":"IFERROR($E207*SUMIF('Daily Log'!#REF!,$B207,'Daily Log'!#REF!),0)","v":0},{"$f":"IFERROR($E207*SUMIF('Daily Log'!#REF!,$B207,'Daily Log'!#REF!),0)","v":0},{"$f":"IFERROR($E207*SUMIF('Daily Log'!#REF!,$B207,'Daily Log'!#REF!),0)","v":0},{"$f":"IFERROR($E207*SUMIF('Daily Log'!#REF!,$B207,'Daily Log'!#REF!),0)","v":0},{"$f":"IFERROR($E207*SUMIF('Daily Log'!#REF!,$B207,'Daily Log'!#REF!),0)","v":0},{"$f":"IFERROR($E207*SUMIF('Daily Log'!#REF!,$B207,'Daily Log'!#REF!),0)","v":0},{"$f":"IFERROR($E207*SUMIF('Daily Log'!#REF!,$B207,'Daily Log'!#REF!),0)","v":0},{"$f":"IFERROR($E207*SUMIF('Daily Log'!#REF!,$B207,'Daily Log'!#REF!),0)","v":0},{"$f":"IFERROR($E207*SUMIF('Daily Log'!#REF!,$B207,'Daily Log'!#REF!),0)","v":0},{"$f":"IFERROR($E207*SUMIF('Daily Log'!#REF!,$B207,'Daily Log'!#REF!),0)","v":0},{"$f":"IFERROR($E207*SUMIF('Daily Log'!#REF!,$B207,'Daily Log'!#REF!),0)","v":0},{"$f":"IFERROR($E207*SUMIF('Daily Log'!#REF!,$B207,'Daily Log'!#REF!),0)","v":0},{"$f":"IFERROR($E207*SUMIF('Daily Log'!#REF!,$B207,'Daily Log'!#REF!),0)","v":0},{"$f":"IFERROR($E207*SUMIF('Daily Log'!#REF!,$B207,'Daily Log'!#REF!),0)","v":0},{"$f":"IFERROR($E207*SUMIF('Daily Log'!#REF!,$B207,'Daily Log'!#REF!),0)","v":0},{"$f":"IFERROR($E207*SUMIF('Daily Log'!#REF!,$B207,'Daily Log'!#REF!),0)","v":0},{"$f":"IFERROR($E207*SUMIF('Daily Log'!#REF!,$B207,'Daily Log'!#REF!),0)","v":0},{"$f":"IFERROR($E207*SUMIF('Daily Log'!#REF!,$B207,'Daily Log'!#REF!),0)","v":0},{"$f":"IFERROR($E207*SUMIF('Daily Log'!#REF!,$B207,'Daily Log'!#REF!),0)","v":0},{"$f":"IFERROR($E207*SUMIF('Daily Log'!#REF!,$B207,'Daily Log'!#REF!),0)","v":0},{"$f":"IFERROR($E207*SUMIF('Daily Log'!#REF!,$B207,'Daily Log'!#REF!),0)","v":0},{"$f":"IFERROR($E207*SUMIF('Daily Log'!#REF!,$B207,'Daily Log'!#REF!),0)","v":0},{"$f":"IFERROR($E207*SUMIF('Daily Log'!#REF!,$B207,'Daily Log'!#REF!),0)","v":0},{"$f":"IFERROR($E207*SUMIF('Daily Log'!#REF!,$B207,'Daily Log'!#REF!),0)","v":0},{"$f":"IFERROR($E207*SUMIF('Daily Log'!#REF!,$B207,'Daily Log'!#REF!),0)","v":0}]
[null,"DH08 91108:SBL F.MEE",null,"KLKD-LOCAL DELIGHTS",1,2,{"$f":"IFERROR($E208*SUMIF('Daily Log'!$B$18:$B$1017,$B208,'Daily Log'!$C$18:$C$1017),0)","v":1},{"$f":"IFERROR($E208*SUMIF('Daily Log'!$E$18:$E$1017,$B208,'Daily Log'!$F$18:$F$1017),0)","v":0},{"$f":"IFERROR($E208*SUMIF('Daily Log'!$H$18:$H$1017,$B208,'Daily Log'!$I$18:$I$1017),0)","v":1},{"$f":"IFERROR($E208*SUMIF('Daily Log'!$K$18:$K$1017,$B208,'Daily Log'!$L$18:$L$1017),0)","v":0},{"$f":"IFERROR($E208*SUMIF('Daily Log'!$N$18:$N$1017,$B208,'Daily Log'!$O$18:$O$1017),0)","v":0},{"$f":"IFERROR($E208*SUMIF('Daily Log'!#REF!,$B208,'Daily Log'!#REF!),0)","v":0},{"$f":"IFERROR($E208*SUMIF('Daily Log'!#REF!,$B208,'Daily Log'!#REF!),0)","v":0},{"$f":"IFERROR($E208*SUMIF('Daily Log'!#REF!,$B208,'Daily Log'!#REF!),0)","v":0},{"$f":"IFERROR($E208*SUMIF('Daily Log'!#REF!,$B208,'Daily Log'!#REF!),0)","v":0},{"$f":"IFERROR($E208*SUMIF('Daily Log'!#REF!,$B208,'Daily Log'!#REF!),0)","v":0},{"$f":"IFERROR($E208*SUMIF('Daily Log'!#REF!,$B208,'Daily Log'!#REF!),0)","v":0},{"$f":"IFERROR($E208*SUMIF('Daily Log'!#REF!,$B208,'Daily Log'!#REF!),0)","v":0},{"$f":"IFERROR($E208*SUMIF('Daily Log'!#REF!,$B208,'Daily Log'!#REF!),0)","v":0},{"$f":"IFERROR($E208*SUMIF('Daily Log'!#REF!,$B208,'Daily Log'!#REF!),0)","v":0},{"$f":"IFERROR($E208*SUMIF('Daily Log'!#REF!,$B208,'Daily Log'!#REF!),0)","v":0},{"$f":"IFERROR($E208*SUMIF('Daily Log'!#REF!,$B208,'Daily Log'!#REF!),0)","v":0},{"$f":"IFERROR($E208*SUMIF('Daily Log'!#REF!,$B208,'Daily Log'!#REF!),0)","v":0},{"$f":"IFERROR($E208*SUMIF('Daily Log'!#REF!,$B208,'Daily Log'!#REF!),0)","v":0},{"$f":"IFERROR($E208*SUMIF('Daily Log'!#REF!,$B208,'Daily Log'!#REF!),0)","v":0},{"$f":"IFERROR($E208*SUMIF('Daily Log'!#REF!,$B208,'Daily Log'!#REF!),0)","v":0},{"$f":"IFERROR($E208*SUMIF('Daily Log'!#REF!,$B208,'Daily Log'!#REF!),0)","v":0},{"$f":"IFERROR($E208*SUMIF('Daily Log'!#REF!,$B208,'Daily Log'!#REF!),0)","v":0},{"$f":"IFERROR($E208*SUMIF('Daily Log'!#REF!,$B208,'Daily Log'!#REF!),0)","v":0},{"$f":"IFERROR($E208*SUMIF('Daily Log'!#REF!,$B208,'Daily Log'!#REF!),0)","v":0},{"$f":"IFERROR($E208*SUMIF('Daily Log'!#REF!,$B208,'Daily Log'!#REF!),0)","v":0},{"$f":"IFERROR($E208*SUMIF('Daily Log'!#REF!,$B208,'Daily Log'!#REF!),0)","v":0},{"$f":"IFERROR($E208*SUMIF('Daily Log'!#REF!,$B208,'Daily Log'!#REF!),0)","v":0},{"$f":"IFERROR($E208*SUMIF('Daily Log'!#REF!,$B208,'Daily Log'!#REF!),0)","v":0},{"$f":"IFERROR($E208*SUMIF('Daily Log'!#REF!,$B208,'Daily Log'!#REF!),0)","v":0},{"$f":"IFERROR($E208*SUMIF('Daily Log'!#REF!,$B208,'Daily Log'!#REF!),0)","v":0},{"$f":"IFERROR($E208*SUMIF('Daily Log'!#REF!,$B208,'Daily Log'!#REF!),0)","v":0}]
[null,"DH09 91109:BP UDON",null,"KLKD-LOCAL DELIGHTS",1,3,{"$f":"IFERROR($E209*SUMIF('Daily Log'!$B$18:$B$1017,$B209,'Daily Log'!$C$18:$C$1017),0)","v":1},{"$f":"IFERROR($E209*SUMIF('Daily Log'!$E$18:$E$1017,$B209,'Daily Log'!$F$18:$F$1017),0)","v":0},{"$f":"IFERROR($E209*SUMIF('Daily Log'!$H$18:$H$1017,$B209,'Daily Log'!$I$18:$I$1017),0)","v":0},{"$f":"IFERROR($E209*SUMIF('Daily Log'!$K$18:$K$1017,$B209,'Daily Log'!$L$18:$L$1017),0)","v":1},{"$f":"IFERROR($E209*SUMIF('Daily Log'!$N$18:$N$1017,$B209,'Daily Log'!$O$18:$O$1017),0)","v":1},{"$f":"IFERROR($E209*SUMIF('Daily Log'!#REF!,$B209,'Daily Log'!#REF!),0)","v":0},{"$f":"IFERROR($E209*SUMIF('Daily Log'!#REF!,$B209,'Daily Log'!#REF!),0)","v":0},{"$f":"IFERROR($E209*SUMIF('Daily Log'!#REF!,$B209,'Daily Log'!#REF!),0)","v":0},{"$f":"IFERROR($E209*SUMIF('Daily Log'!#REF!,$B209,'Daily Log'!#REF!),0)","v":0},{"$f":"IFERROR($E209*SUMIF('Daily Log'!#REF!,$B209,'Daily Log'!#REF!),0)","v":0},{"$f":"IFERROR($E209*SUMIF('Daily Log'!#REF!,$B209,'Daily Log'!#REF!),0)","v":0},{"$f":"IFERROR($E209*SUMIF('Daily Log'!#REF!,$B209,'Daily Log'!#REF!),0)","v":0},{"$f":"IFERROR($E209*SUMIF('Daily Log'!#REF!,$B209,'Daily Log'!#REF!),0)","v":0},{"$f":"IFERROR($E209*SUMIF('Daily Log'!#REF!,$B209,'Daily Log'!#REF!),0)","v":0},{"$f":"IFERROR($E209*SUMIF('Daily Log'!#REF!,$B209,'Daily Log'!#REF!),0)","v":0},{"$f":"IFERROR($E209*SUMIF('Daily Log'!#REF!,$B209,'Daily Log'!#REF!),0)","v":0},{"$f":"IFERROR($E209*SUMIF('Daily Log'!#REF!,$B209,'Daily Log'!#REF!),0)","v":0},{"$f":"IFERROR($E209*SUMIF('Daily Log'!#REF!,$B209,'Daily Log'!#REF!),0)","v":0},{"$f":"IFERROR($E209*SUMIF('Daily Log'!#REF!,$B209,'Daily Log'!#REF!),0)","v":0},{"$f":"IFERROR($E209*SUMIF('Daily Log'!#REF!,$B209,'Daily Log'!#REF!),0)","v":0},{"$f":"IFERROR($E209*SUMIF('Daily Log'!#REF!,$B209,'Daily Log'!#REF!),0)","v":0},{"$f":"IFERROR($E209*SUMIF('Daily Log'!#REF!,$B209,'Daily Log'!#REF!),0)","v":0},{"$f":"IFERROR($E209*SUMIF('Daily Log'!#REF!,$B209,'Daily Log'!#REF!),0)","v":0},{"$f":"IFERROR($E209*SUMIF('Daily Log'!#REF!,$B209,'Daily Log'!#REF!),0)","v":0},{"$f":"IFERROR($E209*SUMIF('Daily Log'!#REF!,$B209,'Daily Log'!#REF!),0)","v":0},{"$f":"IFERROR($E209*SUMIF('Daily Log'!#REF!,$B209,'Daily Log'!#REF!),0)","v":0},{"$f":"IFERROR($E209*SUMIF('Daily Log'!#REF!,$B209,'Daily Log'!#REF!),0)","v":0},{"$f":"IFERROR($E209*SUMIF('Daily Log'!#REF!,$B209,'Daily Log'!#REF!),0)","v":0},{"$f":"IFERROR($E209*SUMIF('Daily Log'!#REF!,$B209,'Daily Log'!#REF!),0)","v":0},{"$f":"IFERROR($E209*SUMIF('Daily Log'!#REF!,$B209,'Daily Log'!#REF!),0)","v":0},{"$f":"IFERROR($E209*SUMIF('Daily Log'!#REF!,$B209,'Daily Log'!#REF!),0)","v":0}]
[null,"DH10 91110:NISSIN",null,"KLKD-LOCAL DELIGHTS",1,2,{"$f":"IFERROR($E210*SUMIF('Daily Log'!$B$18:$B$1017,$B210,'Daily Log'!$C$18:$C$1017),0)","v":2},{"$f":"IFERROR($E210*SUMIF('Daily Log'!$E$18:$E$1017,$B210,'Daily Log'!$F$18:$F$1017),0)","v":0},{"$f":"IFERROR($E210*SUMIF('Daily Log'!$H$18:$H$1017,$B210,'Daily Log'!$I$18:$I$1017),0)","v":0},{"$f":"IFERROR($E210*SUMIF('Daily Log'!$K$18:$K$1017,$B210,'Daily Log'!$L$18:$L$1017),0)","v":0},{"$f":"IFERROR($E210*SUMIF('Daily Log'!$N$18:$N$1017,$B210,'Daily Log'!$O$18:$O$1017),0)","v":0},{"$f":"IFERROR($E210*SUMIF('Daily Log'!#REF!,$B210,'Daily Log'!#REF!),0)","v":0},{"$f":"IFERROR($E210*SUMIF('Daily Log'!#REF!,$B210,'Daily Log'!#REF!),0)","v":0},{"$f":"IFERROR($E210*SUMIF('Daily Log'!#REF!,$B210,'Daily Log'!#REF!),0)","v":0},{"$f":"IFERROR($E210*SUMIF('Daily Log'!#REF!,$B210,'Daily Log'!#REF!),0)","v":0},{"$f":"IFERROR($E210*SUMIF('Daily Log'!#REF!,$B210,'Daily Log'!#REF!),0)","v":0},{"$f":"IFERROR($E210*SUMIF('Daily Log'!#REF!,$B210,'Daily Log'!#REF!),0)","v":0},{"$f":"IFERROR($E210*SUMIF('Daily Log'!#REF!,$B210,'Daily Log'!#REF!),0)","v":0},{"$f":"IFERROR($E210*SUMIF('Daily Log'!#REF!,$B210,'Daily Log'!#REF!),0)","v":0},{"$f":"IFERROR($E210*SUMIF('Daily Log'!#REF!,$B210,'Daily Log'!#REF!),0)","v":0},{"$f":"IFERROR($E210*SUMIF('Daily Log'!#REF!,$B210,'Daily Log'!#REF!),0)","v":0},{"$f":"IFERROR($E210*SUMIF('Daily Log'!#REF!,$B210,'Daily Log'!#REF!),0)","v":0},{"$f":"IFERROR($E210*SUMIF('Daily Log'!#REF!,$B210,'Daily Log'!#REF!),0)","v":0},{"$f":"IFERROR($E210*SUMIF('Daily Log'!#REF!,$B210,'Daily Log'!#REF!),0)","v":0},{"$f":"IFERROR($E210*SUMIF('Daily Log'!#REF!,$B210,'Daily Log'!#REF!),0)","v":0},{"$f":"IFERROR($E210*SUMIF('Daily Log'!#REF!,$B210,'Daily Log'!#REF!),0)","v":0},{"$f":"IFERROR($E210*SUMIF('Daily Log'!#REF!,$B210,'Daily Log'!#REF!),0)","v":0},{"$f":"IFERROR($E210*SUMIF('Daily Log'!#REF!,$B210,'Daily Log'!#REF!),0)","v":0},{"$f":"IFERROR($E210*SUMIF('Daily Log'!#REF!,$B210,'Daily Log'!#REF!),0)","v":0},{"$f":"IFERROR($E210*SUMIF('Daily Log'!#REF!,$B210,'Daily Log'!#REF!),0)","v":0},{"$f":"IFERROR($E210*SUMIF('Daily Log'!#REF!,$B210,'Daily Log'!#REF!),0)","v":0},{"$f":"IFERROR($E210*SUMIF('Daily Log'!#REF!,$B210,'Daily Log'!#REF!),0)","v":0},{"$f":"IFERROR($E210*SUMIF('Daily Log'!#REF!,$B210,'Daily Log'!#REF!),0)","v":0},{"$f":"IFERROR($E210*SUMIF('Daily Log'!#REF!,$B210,'Daily Log'!#REF!),0)","v":0},{"$f":"IFERROR($E210*SUMIF('Daily Log'!#REF!,$B210,'Daily Log'!#REF!),0)","v":0},{"$f":"IFERROR($E210*SUMIF('Daily Log'!#REF!,$B210,'Daily Log'!#REF!),0)","v":0},{"$f":"IFERROR($E210*SUMIF('Daily Log'!#REF!,$B210,'Daily Log'!#REF!),0)","v":0}]
[null,"DH11 91111:VEG RICE",null,"KLKD-LOCAL DELIGHTS",1,2,{"$f":"IFERROR($E211*SUMIF('Daily Log'!$B$18:$B$1017,$B211,'Daily Log'!$C$18:$C$1017),0)","v":0},{"$f":"IFERROR($E211*SUMIF('Daily Log'!$E$18:$E$1017,$B211,'Daily Log'!$F$18:$F$1017),0)","v":1},{"$f":"IFERROR($E211*SUMIF('Daily Log'!$H$18:$H$1017,$B211,'Daily Log'!$I$18:$I$1017),0)","v":0},{"$f":"IFERROR($E211*SUMIF('Daily Log'!$K$18:$K$1017,$B211,'Daily Log'!$L$18:$L$1017),0)","v":1},{"$f":"IFERROR($E211*SUMIF('Daily Log'!$N$18:$N$1017,$B211,'Daily Log'!$O$18:$O$1017),0)","v":0},{"$f":"IFERROR($E211*SUMIF('Daily Log'!#REF!,$B211,'Daily Log'!#REF!),0)","v":0},{"$f":"IFERROR($E211*SUMIF('Daily Log'!#REF!,$B211,'Daily Log'!#REF!),0)","v":0},{"$f":"IFERROR($E211*SUMIF('Daily Log'!#REF!,$B211,'Daily Log'!#REF!),0)","v":0},{"$f":"IFERROR($E211*SUMIF('Daily Log'!#REF!,$B211,'Daily Log'!#REF!),0)","v":0},{"$f":"IFERROR($E211*SUMIF('Daily Log'!#REF!,$B211,'Daily Log'!#REF!),0)","v":0},{"$f":"IFERROR($E211*SUMIF('Daily Log'!#REF!,$B211,'Daily Log'!#REF!),0)","v":0},{"$f":"IFERROR($E211*SUMIF('Daily Log'!#REF!,$B211,'Daily Log'!#REF!),0)","v":0},{"$f":"IFERROR($E211*SUMIF('Daily Log'!#REF!,$B211,'Daily Log'!#REF!),0)","v":0},{"$f":"IFERROR($E211*SUMIF('Daily Log'!#REF!,$B211,'Daily Log'!#REF!),0)","v":0},{"$f":"IFERROR($E211*SUMIF('Daily Log'!#REF!,$B211,'Daily Log'!#REF!),0)","v":0},{"$f":"IFERROR($E211*SUMIF('Daily Log'!#REF!,$B211,'Daily Log'!#REF!),0)","v":0},{"$f":"IFERROR($E211*SUMIF('Daily Log'!#REF!,$B211,'Daily Log'!#REF!),0)","v":0},{"$f":"IFERROR($E211*SUMIF('Daily Log'!#REF!,$B211,'Daily Log'!#REF!),0)","v":0},{"$f":"IFERROR($E211*SUMIF('Daily Log'!#REF!,$B211,'Daily Log'!#REF!),0)","v":0},{"$f":"IFERROR($E211*SUMIF('Daily Log'!#REF!,$B211,'Daily Log'!#REF!),0)","v":0},{"$f":"IFERROR($E211*SUMIF('Daily Log'!#REF!,$B211,'Daily Log'!#REF!),0)","v":0},{"$f":"IFERROR($E211*SUMIF('Daily Log'!#REF!,$B211,'Daily Log'!#REF!),0)","v":0},{"$f":"IFERROR($E211*SUMIF('Daily Log'!#REF!,$B211,'Daily Log'!#REF!),0)","v":0},{"$f":"IFERROR($E211*SUMIF('Daily Log'!#REF!,$B211,'Daily Log'!#REF!),0)","v":0},{"$f":"IFERROR($E211*SUMIF('Daily Log'!#REF!,$B211,'Daily Log'!#REF!),0)","v":0},{"$f":"IFERROR($E211*SUMIF('Daily Log'!#REF!,$B211,'Daily Log'!#REF!),0)","v":0},{"$f":"IFERROR($E211*SUMIF('Daily Log'!#REF!,$B211,'Daily Log'!#REF!),0)","v":0},{"$f":"IFERROR($E211*SUMIF('Daily Log'!#REF!,$B211,'Daily Log'!#REF!),0)","v":0},{"$f":"IFERROR($E211*SUMIF('Daily Log'!#REF!,$B211,'Daily Log'!#REF!),0)","v":0},{"$f":"IFERROR($E211*SUMIF('Daily Log'!#REF!,$B211,'Daily Log'!#REF!),0)","v":0},{"$f":"IFERROR($E211*SUMIF('Daily Log'!#REF!,$B211,'Daily Log'!#REF!),0)","v":0}]
[null,"DH12 91112:NASI LEMAK",null,"KLKD-LOCAL DELIGHTS",1,0,{"$f":"IFERROR($E212*SUMIF('Daily Log'!$B$18:$B$1017,$B212,'Daily Log'!$C$18:$C$1017),0)","v":0},{"$f":"IFERROR($E212*SUMIF('Daily Log'!$E$18:$E$1017,$B212,'Daily Log'!$F$18:$F$1017),0)","v":0},{"$f":"IFERROR($E212*SUMIF('Daily Log'!$H$18:$H$1017,$B212,'Daily Log'!$I$18:$I$1017),0)","v":0},{"$f":"IFERROR($E212*SUMIF('Daily Log'!$K$18:$K$1017,$B212,'Daily Log'!$L$18:$L$1017),0)","v":0},{"$f":"IFERROR($E212*SUMIF('Daily Log'!$N$18:$N$1017,$B212,'Daily Log'!$O$18:$O$1017),0)","v":0},{"$f":"IFERROR($E212*SUMIF('Daily Log'!#REF!,$B212,'Daily Log'!#REF!),0)","v":0},{"$f":"IFERROR($E212*SUMIF('Daily Log'!#REF!,$B212,'Daily Log'!#REF!),0)","v":0},{"$f":"IFERROR($E212*SUMIF('Daily Log'!#REF!,$B212,'Daily Log'!#REF!),0)","v":0},{"$f":"IFERROR($E212*SUMIF('Daily Log'!#REF!,$B212,'Daily Log'!#REF!),0)","v":0},{"$f":"IFERROR($E212*SUMIF('Daily Log'!#REF!,$B212,'Daily Log'!#REF!),0)","v":0},{"$f":"IFERROR($E212*SUMIF('Daily Log'!#REF!,$B212,'Daily Log'!#REF!),0)","v":0},{"$f":"IFERROR($E212*SUMIF('Daily Log'!#REF!,$B212,'Daily Log'!#REF!),0)","v":0},{"$f":"IFERROR($E212*SUMIF('Daily Log'!#REF!,$B212,'Daily Log'!#REF!),0)","v":0},{"$f":"IFERROR($E212*SUMIF('Daily Log'!#REF!,$B212,'Daily Log'!#REF!),0)","v":0},{"$f":"IFERROR($E212*SUMIF('Daily Log'!#REF!,$B212,'Daily Log'!#REF!),0)","v":0},{"$f":"IFERROR($E212*SUMIF('Daily Log'!#REF!,$B212,'Daily Log'!#REF!),0)","v":0},{"$f":"IFERROR($E212*SUMIF('Daily Log'!#REF!,$B212,'Daily Log'!#REF!),0)","v":0},{"$f":"IFERROR($E212*SUMIF('Daily Log'!#REF!,$B212,'Daily Log'!#REF!),0)","v":0},{"$f":"IFERROR($E212*SUMIF('Daily Log'!#REF!,$B212,'Daily Log'!#REF!),0)","v":0},{"$f":"IFERROR($E212*SUMIF('Daily Log'!#REF!,$B212,'Daily Log'!#REF!),0)","v":0},{"$f":"IFERROR($E212*SUMIF('Daily Log'!#REF!,$B212,'Daily Log'!#REF!),0)","v":0},{"$f":"IFERROR($E212*SUMIF('Daily Log'!#REF!,$B212,'Daily Log'!#REF!),0)","v":0},{"$f":"IFERROR($E212*SUMIF('Daily Log'!#REF!,$B212,'Daily Log'!#REF!),0)","v":0},{"$f":"IFERROR($E212*SUMIF('Daily Log'!#REF!,$B212,'Daily Log'!#REF!),0)","v":0},{"$f":"IFERROR($E212*SUMIF('Daily Log'!#REF!,$B212,'Daily Log'!#REF!),0)","v":0},{"$f":"IFERROR($E212*SUMIF('Daily Log'!#REF!,$B212,'Daily Log'!#REF!),0)","v":0},{"$f":"IFERROR($E212*SUMIF('Daily Log'!#REF!,$B212,'Daily Log'!#REF!),0)","v":0},{"$f":"IFERROR($E212*SUMIF('Daily Log'!#REF!,$B212,'Daily Log'!#REF!),0)","v":0},{"$f":"IFERROR($E212*SUMIF('Daily Log'!#REF!,$B212,'Daily Log'!#REF!),0)","v":0},{"$f":"IFERROR($E212*SUMIF('Daily Log'!#REF!,$B212,'Daily Log'!#REF!),0)","v":0},{"$f":"IFERROR($E212*SUMIF('Daily Log'!#REF!,$B212,'Daily Log'!#REF!),0)","v":0}]
[null,"DH13 91113:KUEY TEOW",null,"KLKD-LOCAL DELIGHTS",1,0,{"$f":"IFERROR($E213*SUMIF('Daily Log'!$B$18:$B$1017,$B213,'Daily Log'!$C$18:$C$1017),0)","v":0},{"$f":"IFERROR($E213*SUMIF('Daily Log'!$E$18:$E$1017,$B213,'Daily Log'!$F$18:$F$1017),0)","v":0},{"$f":"IFERROR($E213*SUMIF('Daily Log'!$H$18:$H$1017,$B213,'Daily Log'!$I$18:$I$1017),0)","v":0},{"$f":"IFERROR($E213*SUMIF('Daily Log'!$K$18:$K$1017,$B213,'Daily Log'!$L$18:$L$1017),0)","v":0},{"$f":"IFERROR($E213*SUMIF('Daily Log'!$N$18:$N$1017,$B213,'Daily Log'!$O$18:$O$1017),0)","v":0},{"$f":"IFERROR($E213*SUMIF('Daily Log'!#REF!,$B213,'Daily Log'!#REF!),0)","v":0},{"$f":"IFERROR($E213*SUMIF('Daily Log'!#REF!,$B213,'Daily Log'!#REF!),0)","v":0},{"$f":"IFERROR($E213*SUMIF('Daily Log'!#REF!,$B213,'Daily Log'!#REF!),0)","v":0},{"$f":"IFERROR($E213*SUMIF('Daily Log'!#REF!,$B213,'Daily Log'!#REF!),0)","v":0},{"$f":"IFERROR($E213*SUMIF('Daily Log'!#REF!,$B213,'Daily Log'!#REF!),0)","v":0},{"$f":"IFERROR($E213*SUMIF('Daily Log'!#REF!,$B213,'Daily Log'!#REF!),0)","v":0},{"$f":"IFERROR($E213*SUMIF('Daily Log'!#REF!,$B213,'Daily Log'!#REF!),0)","v":0},{"$f":"IFERROR($E213*SUMIF('Daily Log'!#REF!,$B213,'Daily Log'!#REF!),0)","v":0},{"$f":"IFERROR($E213*SUMIF('Daily Log'!#REF!,$B213,'Daily Log'!#REF!),0)","v":0},{"$f":"IFERROR($E213*SUMIF('Daily Log'!#REF!,$B213,'Daily Log'!#REF!),0)","v":0},{"$f":"IFERROR($E213*SUMIF('Daily Log'!#REF!,$B213,'Daily Log'!#REF!),0)","v":0},{"$f":"IFERROR($E213*SUMIF('Daily Log'!#REF!,$B213,'Daily Log'!#REF!),0)","v":0},{"$f":"IFERROR($E213*SUMIF('Daily Log'!#REF!,$B213,'Daily Log'!#REF!),0)","v":0},{"$f":"IFERROR($E213*SUMIF('Daily Log'!#REF!,$B213,'Daily Log'!#REF!),0)","v":0},{"$f":"IFERROR($E213*SUMIF('Daily Log'!#REF!,$B213,'Daily Log'!#REF!),0)","v":0},{"$f":"IFERROR($E213*SUMIF('Daily Log'!#REF!,$B213,'Daily Log'!#REF!),0)","v":0},{"$f":"IFERROR($E213*SUMIF('Daily Log'!#REF!,$B213,'Daily Log'!#REF!),0)","v":0},{"$f":"IFERROR($E213*SUMIF('Daily Log'!#REF!,$B213,'Daily Log'!#REF!),0)","v":0},{"$f":"IFERROR($E213*SUMIF('Daily Log'!#REF!,$B213,'Daily Log'!#REF!),0)","v":0},{"$f":"IFERROR($E213*SUMIF('Daily Log'!#REF!,$B213,'Daily Log'!#REF!),0)","v":0},{"$f":"IFERROR($E213*SUMIF('Daily Log'!#REF!,$B213,'Daily Log'!#REF!),0)","v":0},{"$f":"IFERROR($E213*SUMIF('Daily Log'!#REF!,$B213,'Daily Log'!#REF!),0)","v":0},{"$f":"IFERROR($E213*SUMIF('Daily Log'!#REF!,$B213,'Daily Log'!#REF!),0)","v":0},{"$f":"IFERROR($E213*SUMIF('Daily Log'!#REF!,$B213,'Daily Log'!#REF!),0)","v":0},{"$f":"IFERROR($E213*SUMIF('Daily Log'!#REF!,$B213,'Daily Log'!#REF!),0)","v":0},{"$f":"IFERROR($E213*SUMIF('Daily Log'!#REF!,$B213,'Daily Log'!#REF!),0)","v":0}]
[null,"DH14 91114:F.BALL MEE",null,"KLKD-LOCAL DELIGHTS",1,0,{"$f":"IFERROR($E214*SUMIF('Daily Log'!$B$18:$B$1017,$B214,'Daily Log'!$C$18:$C$1017),0)","v":0},{"$f":"IFERROR($E214*SUMIF('Daily Log'!$E$18:$E$1017,$B214,'Daily Log'!$F$18:$F$1017),0)","v":0},{"$f":"IFERROR($E214*SUMIF('Daily Log'!$H$18:$H$1017,$B214,'Daily Log'!$I$18:$I$1017),0)","v":0},{"$f":"IFERROR($E214*SUMIF('Daily Log'!$K$18:$K$1017,$B214,'Daily Log'!$L$18:$L$1017),0)","v":0},{"$f":"IFERROR($E214*SUMIF('Daily Log'!$N$18:$N$1017,$B214,'Daily Log'!$O$18:$O$1017),0)","v":0},{"$f":"IFERROR($E214*SUMIF('Daily Log'!#REF!,$B214,'Daily Log'!#REF!),0)","v":0},{"$f":"IFERROR($E214*SUMIF('Daily Log'!#REF!,$B214,'Daily Log'!#REF!),0)","v":0},{"$f":"IFERROR($E214*SUMIF('Daily Log'!#REF!,$B214,'Daily Log'!#REF!),0)","v":0},{"$f":"IFERROR($E214*SUMIF('Daily Log'!#REF!,$B214,'Daily Log'!#REF!),0)","v":0},{"$f":"IFERROR($E214*SUMIF('Daily Log'!#REF!,$B214,'Daily Log'!#REF!),0)","v":0},{"$f":"IFERROR($E214*SUMIF('Daily Log'!#REF!,$B214,'Daily Log'!#REF!),0)","v":0},{"$f":"IFERROR($E214*SUMIF('Daily Log'!#REF!,$B214,'Daily Log'!#REF!),0)","v":0},{"$f":"IFERROR($E214*SUMIF('Daily Log'!#REF!,$B214,'Daily Log'!#REF!),0)","v":0},{"$f":"IFERROR($E214*SUMIF('Daily Log'!#REF!,$B214,'Daily Log'!#REF!),0)","v":0},{"$f":"IFERROR($E214*SUMIF('Daily Log'!#REF!,$B214,'Daily Log'!#REF!),0)","v":0},{"$f":"IFERROR($E214*SUMIF('Daily Log'!#REF!,$B214,'Daily Log'!#REF!),0)","v":0},{"$f":"IFERROR($E214*SUMIF('Daily Log'!#REF!,$B214,'Daily Log'!#REF!),0)","v":0},{"$f":"IFERROR($E214*SUMIF('Daily Log'!#REF!,$B214,'Daily Log'!#REF!),0)","v":0},{"$f":"IFERROR($E214*SUMIF('Daily Log'!#REF!,$B214,'Daily Log'!#REF!),0)","v":0},{"$f":"IFERROR($E214*SUMIF('Daily Log'!#REF!,$B214,'Daily Log'!#REF!),0)","v":0},{"$f":"IFERROR($E214*SUMIF('Daily Log'!#REF!,$B214,'Daily Log'!#REF!),0)","v":0},{"$f":"IFERROR($E214*SUMIF('Daily Log'!#REF!,$B214,'Daily Log'!#REF!),0)","v":0},{"$f":"IFERROR($E214*SUMIF('Daily Log'!#REF!,$B214,'Daily Log'!#REF!),0)","v":0},{"$f":"IFERROR($E214*SUMIF('Daily Log'!#REF!,$B214,'Daily Log'!#REF!),0)","v":0},{"$f":"IFERROR($E214*SUMIF('Daily Log'!#REF!,$B214,'Daily Log'!#REF!),0)","v":0},{"$f":"IFERROR($E214*SUMIF('Daily Log'!#REF!,$B214,'Daily Log'!#REF!),0)","v":0},{"$f":"IFERROR($E214*SUMIF('Daily Log'!#REF!,$B214,'Daily Log'!#REF!),0)","v":0},{"$f":"IFERROR($E214*SUMIF('Daily Log'!#REF!,$B214,'Daily Log'!#REF!),0)","v":0},{"$f":"IFERROR($E214*SUMIF('Daily Log'!#REF!,$B214,'Daily Log'!#REF!),0)","v":0},{"$f":"IFERROR($E214*SUMIF('Daily Log'!#REF!,$B214,'Daily Log'!#REF!),0)","v":0},{"$f":"IFERROR($E214*SUMIF('Daily Log'!#REF!,$B214,'Daily Log'!#REF!),0)","v":0}]
[null,"DH15 91115:CHK NOODLE",null,"KLKD-LOCAL DELIGHTS",1,{"$f":"SUM($G215:$AK215)","v":6},{"$f":"IFERROR($E215*SUMIF('Daily Log'!$B$18:$B$1017,$B215,'Daily Log'!$C$18:$C$1017),0)","v":0},{"$f":"IFERROR($E215*SUMIF('Daily Log'!$E$18:$E$1017,$B215,'Daily Log'!$F$18:$F$1017),0)","v":3},{"$f":"IFERROR($E215*SUMIF('Daily Log'!$H$18:$H$1017,$B215,'Daily Log'!$I$18:$I$1017),0)","v":2},{"$f":"IFERROR($E215*SUMIF('Daily Log'!$K$18:$K$1017,$B215,'Daily Log'!$L$18:$L$1017),0)","v":0},{"$f":"IFERROR($E215*SUMIF('Daily Log'!$N$18:$N$1017,$B215,'Daily Log'!$O$18:$O$1017),0)","v":1},{"$f":"IFERROR($E215*SUMIF('Daily Log'!#REF!,$B215,'Daily Log'!#REF!),0)","v":0},{"$f":"IFERROR($E215*SUMIF('Daily Log'!#REF!,$B215,'Daily Log'!#REF!),0)","v":0},{"$f":"IFERROR($E215*SUMIF('Daily Log'!#REF!,$B215,'Daily Log'!#REF!),0)","v":0},{"$f":"IFERROR($E215*SUMIF('Daily Log'!#REF!,$B215,'Daily Log'!#REF!),0)","v":0},{"$f":"IFERROR($E215*SUMIF('Daily Log'!#REF!,$B215,'Daily Log'!#REF!),0)","v":0},{"$f":"IFERROR($E215*SUMIF('Daily Log'!#REF!,$B215,'Daily Log'!#REF!),0)","v":0},{"$f":"IFERROR($E215*SUMIF('Daily Log'!#REF!,$B215,'Daily Log'!#REF!),0)","v":0},{"$f":"IFERROR($E215*SUMIF('Daily Log'!#REF!,$B215,'Daily Log'!#REF!),0)","v":0},{"$f":"IFERROR($E215*SUMIF('Daily Log'!#REF!,$B215,'Daily Log'!#REF!),0)","v":0},{"$f":"IFERROR($E215*SUMIF('Daily Log'!#REF!,$B215,'Daily Log'!#REF!),0)","v":0},{"$f":"IFERROR($E215*SUMIF('Daily Log'!#REF!,$B215,'Daily Log'!#REF!),0)","v":0},{"$f":"IFERROR($E215*SUMIF('Daily Log'!#REF!,$B215,'Daily Log'!#REF!),0)","v":0},{"$f":"IFERROR($E215*SUMIF('Daily Log'!#REF!,$B215,'Daily Log'!#REF!),0)","v":0},{"$f":"IFERROR($E215*SUMIF('Daily Log'!#REF!,$B215,'Daily Log'!#REF!),0)","v":0},{"$f":"IFERROR($E215*SUMIF('Daily Log'!#REF!,$B215,'Daily Log'!#REF!),0)","v":0},{"$f":"IFERROR($E215*SUMIF('Daily Log'!#REF!,$B215,'Daily Log'!#REF!),0)","v":0},{"$f":"IFERROR($E215*SUMIF('Daily Log'!#REF!,$B215,'Daily Log'!#REF!),0)","v":0},{"$f":"IFERROR($E215*SUMIF('Daily Log'!#REF!,$B215,'Daily Log'!#REF!),0)","v":0},{"$f":"IFERROR($E215*SUMIF('Daily Log'!#REF!,$B215,'Daily Log'!#REF!),0)","v":0},{"$f":"IFERROR($E215*SUMIF('Daily Log'!#REF!,$B215,'Daily Log'!#REF!),0)","v":0},{"$f":"IFERROR($E215*SUMIF('Daily Log'!#REF!,$B215,'Daily Log'!#REF!),0)","v":0},{"$f":"IFERROR($E215*SUMIF('Daily Log'!#REF!,$B215,'Daily Log'!#REF!),0)","v":0},{"$f":"IFERROR($E215*SUMIF('Daily Log'!#REF!,$B215,'Daily Log'!#REF!),0)","v":0},{"$f":"IFERROR($E215*SUMIF('Daily Log'!#REF!,$B215,'Daily Log'!#REF!),0)","v":0},{"$f":"IFERROR($E215*SUMIF('Daily Log'!#REF!,$B215,'Daily Log'!#REF!),0)","v":0},{"$f":"IFERROR($E215*SUMIF('Daily Log'!#REF!,$B215,'Daily Log'!#REF!),0)","v":0}]
[null,"DH16 91116:MGL CHK",null,"KLKD-LOCAL DELIGHTS",1,4,{"$f":"IFERROR($E216*SUMIF('Daily Log'!$B$18:$B$1017,$B216,'Daily Log'!$C$18:$C$1017),0)","v":0},{"$f":"IFERROR($E216*SUMIF('Daily Log'!$E$18:$E$1017,$B216,'Daily Log'!$F$18:$F$1017),0)","v":0},{"$f":"IFERROR($E216*SUMIF('Daily Log'!$H$18:$H$1017,$B216,'Daily Log'!$I$18:$I$1017),0)","v":1},{"$f":"IFERROR($E216*SUMIF('Daily Log'!$K$18:$K$1017,$B216,'Daily Log'!$L$18:$L$1017),0)","v":3},{"$f":"IFERROR($E216*SUMIF('Daily Log'!$N$18:$N$1017,$B216,'Daily Log'!$O$18:$O$1017),0)","v":0},{"$f":"IFERROR($E216*SUMIF('Daily Log'!#REF!,$B216,'Daily Log'!#REF!),0)","v":0},{"$f":"IFERROR($E216*SUMIF('Daily Log'!#REF!,$B216,'Daily Log'!#REF!),0)","v":0},{"$f":"IFERROR($E216*SUMIF('Daily Log'!#REF!,$B216,'Daily Log'!#REF!),0)","v":0},{"$f":"IFERROR($E216*SUMIF('Daily Log'!#REF!,$B216,'Daily Log'!#REF!),0)","v":0},{"$f":"IFERROR($E216*SUMIF('Daily Log'!#REF!,$B216,'Daily Log'!#REF!),0)","v":0},{"$f":"IFERROR($E216*SUMIF('Daily Log'!#REF!,$B216,'Daily Log'!#REF!),0)","v":0},{"$f":"IFERROR($E216*SUMIF('Daily Log'!#REF!,$B216,'Daily Log'!#REF!),0)","v":0},{"$f":"IFERROR($E216*SUMIF('Daily Log'!#REF!,$B216,'Daily Log'!#REF!),0)","v":0},{"$f":"IFERROR($E216*SUMIF('Daily Log'!#REF!,$B216,'Daily Log'!#REF!),0)","v":0},{"$f":"IFERROR($E216*SUMIF('Daily Log'!#REF!,$B216,'Daily Log'!#REF!),0)","v":0},{"$f":"IFERROR($E216*SUMIF('Daily Log'!#REF!,$B216,'Daily Log'!#REF!),0)","v":0},{"$f":"IFERROR($E216*SUMIF('Daily Log'!#REF!,$B216,'Daily Log'!#REF!),0)","v":0},{"$f":"IFERROR($E216*SUMIF('Daily Log'!#REF!,$B216,'Daily Log'!#REF!),0)","v":0},{"$f":"IFERROR($E216*SUMIF('Daily Log'!#REF!,$B216,'Daily Log'!#REF!),0)","v":0},{"$f":"IFERROR($E216*SUMIF('Daily Log'!#REF!,$B216,'Daily Log'!#REF!),0)","v":0},{"$f":"IFERROR($E216*SUMIF('Daily Log'!#REF!,$B216,'Daily Log'!#REF!),0)","v":0},{"$f":"IFERROR($E216*SUMIF('Daily Log'!#REF!,$B216,'Daily Log'!#REF!),0)","v":0},{"$f":"IFERROR($E216*SUMIF('Daily Log'!#REF!,$B216,'Daily Log'!#REF!),0)","v":0},{"$f":"IFERROR($E216*SUMIF('Daily Log'!#REF!,$B216,'Daily Log'!#REF!),0)","v":0},{"$f":"IFERROR($E216*SUMIF('Daily Log'!#REF!,$B216,'Daily Log'!#REF!),0)","v":0},{"$f":"IFERROR($E216*SUMIF('Daily Log'!#REF!,$B216,'Daily Log'!#REF!),0)","v":0},{"$f":"IFERROR($E216*SUMIF('Daily Log'!#REF!,$B216,'Daily Log'!#REF!),0)","v":0},{"$f":"IFERROR($E216*SUMIF('Daily Log'!#REF!,$B216,'Daily Log'!#REF!),0)","v":0},{"$f":"IFERROR($E216*SUMIF('Daily Log'!#REF!,$B216,'Daily Log'!#REF!),0)","v":0},{"$f":"IFERROR($E216*SUMIF('Daily Log'!#REF!,$B216,'Daily Log'!#REF!),0)","v":0},{"$f":"IFERROR($E216*SUMIF('Daily Log'!#REF!,$B216,'Daily Log'!#REF!),0)","v":0}]
[null,"DI01 91201:SFD STICK",null,"KLKD-APPETIZER",1,3,{"$f":"IFERROR($E217*SUMIF('Daily Log'!$B$18:$B$1017,$B217,'Daily Log'!$C$18:$C$1017),0)","v":3},{"$f":"IFERROR($E217*SUMIF('Daily Log'!$E$18:$E$1017,$B217,'Daily Log'!$F$18:$F$1017),0)","v":0},{"$f":"IFERROR($E217*SUMIF('Daily Log'!$H$18:$H$1017,$B217,'Daily Log'!$I$18:$I$1017),0)","v":0},{"$f":"IFERROR($E217*SUMIF('Daily Log'!$K$18:$K$1017,$B217,'Daily Log'!$L$18:$L$1017),0)","v":0},{"$f":"IFERROR($E217*SUMIF('Daily Log'!$N$18:$N$1017,$B217,'Daily Log'!$O$18:$O$1017),0)","v":0},{"$f":"IFERROR($E217*SUMIF('Daily Log'!#REF!,$B217,'Daily Log'!#REF!),0)","v":0},{"$f":"IFERROR($E217*SUMIF('Daily Log'!#REF!,$B217,'Daily Log'!#REF!),0)","v":0},{"$f":"IFERROR($E217*SUMIF('Daily Log'!#REF!,$B217,'Daily Log'!#REF!),0)","v":0},{"$f":"IFERROR($E217*SUMIF('Daily Log'!#REF!,$B217,'Daily Log'!#REF!),0)","v":0},{"$f":"IFERROR($E217*SUMIF('Daily Log'!#REF!,$B217,'Daily Log'!#REF!),0)","v":0},{"$f":"IFERROR($E217*SUMIF('Daily Log'!#REF!,$B217,'Daily Log'!#REF!),0)","v":0},{"$f":"IFERROR($E217*SUMIF('Daily Log'!#REF!,$B217,'Daily Log'!#REF!),0)","v":0},{"$f":"IFERROR($E217*SUMIF('Daily Log'!#REF!,$B217,'Daily Log'!#REF!),0)","v":0},{"$f":"IFERROR($E217*SUMIF('Daily Log'!#REF!,$B217,'Daily Log'!#REF!),0)","v":0},{"$f":"IFERROR($E217*SUMIF('Daily Log'!#REF!,$B217,'Daily Log'!#REF!),0)","v":0},{"$f":"IFERROR($E217*SUMIF('Daily Log'!#REF!,$B217,'Daily Log'!#REF!),0)","v":0},{"$f":"IFERROR($E217*SUMIF('Daily Log'!#REF!,$B217,'Daily Log'!#REF!),0)","v":0},{"$f":"IFERROR($E217*SUMIF('Daily Log'!#REF!,$B217,'Daily Log'!#REF!),0)","v":0},{"$f":"IFERROR($E217*SUMIF('Daily Log'!#REF!,$B217,'Daily Log'!#REF!),0)","v":0},{"$f":"IFERROR($E217*SUMIF('Daily Log'!#REF!,$B217,'Daily Log'!#REF!),0)","v":0},{"$f":"IFERROR($E217*SUMIF('Daily Log'!#REF!,$B217,'Daily Log'!#REF!),0)","v":0},{"$f":"IFERROR($E217*SUMIF('Daily Log'!#REF!,$B217,'Daily Log'!#REF!),0)","v":0},{"$f":"IFERROR($E217*SUMIF('Daily Log'!#REF!,$B217,'Daily Log'!#REF!),0)","v":0},{"$f":"IFERROR($E217*SUMIF('Daily Log'!#REF!,$B217,'Daily Log'!#REF!),0)","v":0},{"$f":"IFERROR($E217*SUMIF('Daily Log'!#REF!,$B217,'Daily Log'!#REF!),0)","v":0},{"$f":"IFERROR($E217*SUMIF('Daily Log'!#REF!,$B217,'Daily Log'!#REF!),0)","v":0},{"$f":"IFERROR($E217*SUMIF('Daily Log'!#REF!,$B217,'Daily Log'!#REF!),0)","v":0},{"$f":"IFERROR($E217*SUMIF('Daily Log'!#REF!,$B217,'Daily Log'!#REF!),0)","v":0},{"$f":"IFERROR($E217*SUMIF('Daily Log'!#REF!,$B217,'Daily Log'!#REF!),0)","v":0},{"$f":"IFERROR($E217*SUMIF('Daily Log'!#REF!,$B217,'Daily Log'!#REF!),0)","v":0},{"$f":"IFERROR($E217*SUMIF('Daily Log'!#REF!,$B217,'Daily Log'!#REF!),0)","v":0}]
[null,"DI02 91202:FREN FRIES",null,"KLKD-APPETIZER",1,6,{"$f":"IFERROR($E218*SUMIF('Daily Log'!$B$18:$B$1017,$B218,'Daily Log'!$C$18:$C$1017),0)","v":3},{"$f":"IFERROR($E218*SUMIF('Daily Log'!$E$18:$E$1017,$B218,'Daily Log'!$F$18:$F$1017),0)","v":0},{"$f":"IFERROR($E218*SUMIF('Daily Log'!$H$18:$H$1017,$B218,'Daily Log'!$I$18:$I$1017),0)","v":1},{"$f":"IFERROR($E218*SUMIF('Daily Log'!$K$18:$K$1017,$B218,'Daily Log'!$L$18:$L$1017),0)","v":2},{"$f":"IFERROR($E218*SUMIF('Daily Log'!$N$18:$N$1017,$B218,'Daily Log'!$O$18:$O$1017),0)","v":0},{"$f":"IFERROR($E218*SUMIF('Daily Log'!#REF!,$B218,'Daily Log'!#REF!),0)","v":0},{"$f":"IFERROR($E218*SUMIF('Daily Log'!#REF!,$B218,'Daily Log'!#REF!),0)","v":0},{"$f":"IFERROR($E218*SUMIF('Daily Log'!#REF!,$B218,'Daily Log'!#REF!),0)","v":0},{"$f":"IFERROR($E218*SUMIF('Daily Log'!#REF!,$B218,'Daily Log'!#REF!),0)","v":0},{"$f":"IFERROR($E218*SUMIF('Daily Log'!#REF!,$B218,'Daily Log'!#REF!),0)","v":0},{"$f":"IFERROR($E218*SUMIF('Daily Log'!#REF!,$B218,'Daily Log'!#REF!),0)","v":0},{"$f":"IFERROR($E218*SUMIF('Daily Log'!#REF!,$B218,'Daily Log'!#REF!),0)","v":0},{"$f":"IFERROR($E218*SUMIF('Daily Log'!#REF!,$B218,'Daily Log'!#REF!),0)","v":0},{"$f":"IFERROR($E218*SUMIF('Daily Log'!#REF!,$B218,'Daily Log'!#REF!),0)","v":0},{"$f":"IFERROR($E218*SUMIF('Daily Log'!#REF!,$B218,'Daily Log'!#REF!),0)","v":0},{"$f":"IFERROR($E218*SUMIF('Daily Log'!#REF!,$B218,'Daily Log'!#REF!),0)","v":0},{"$f":"IFERROR($E218*SUMIF('Daily Log'!#REF!,$B218,'Daily Log'!#REF!),0)","v":0},{"$f":"IFERROR($E218*SUMIF('Daily Log'!#REF!,$B218,'Daily Log'!#REF!),0)","v":0},{"$f":"IFERROR($E218*SUMIF('Daily Log'!#REF!,$B218,'Daily Log'!#REF!),0)","v":0},{"$f":"IFERROR($E218*SUMIF('Daily Log'!#REF!,$B218,'Daily Log'!#REF!),0)","v":0},{"$f":"IFERROR($E218*SUMIF('Daily Log'!#REF!,$B218,'Daily Log'!#REF!),0)","v":0},{"$f":"IFERROR($E218*SUMIF('Daily Log'!#REF!,$B218,'Daily Log'!#REF!),0)","v":0},{"$f":"IFERROR($E218*SUMIF('Daily Log'!#REF!,$B218,'Daily Log'!#REF!),0)","v":0},{"$f":"IFERROR($E218*SUMIF('Daily Log'!#REF!,$B218,'Daily Log'!#REF!),0)","v":0},{"$f":"IFERROR($E218*SUMIF('Daily Log'!#REF!,$B218,'Daily Log'!#REF!),0)","v":0},{"$f":"IFERROR($E218*SUMIF('Daily Log'!#REF!,$B218,'Daily Log'!#REF!),0)","v":0},{"$f":"IFERROR($E218*SUMIF('Daily Log'!#REF!,$B218,'Daily Log'!#REF!),0)","v":0},{"$f":"IFERROR($E218*SUMIF('Daily Log'!#REF!,$B218,'Daily Log'!#REF!),0)","v":0},{"$f":"IFERROR($E218*SUMIF('Daily Log'!#REF!,$B218,'Daily Log'!#REF!),0)","v":0},{"$f":"IFERROR($E218*SUMIF('Daily Log'!#REF!,$B218,'Daily Log'!#REF!),0)","v":0},{"$f":"IFERROR($E218*SUMIF('Daily Log'!#REF!,$B218,'Daily Log'!#REF!),0)","v":0}]
[null,"DI03 91203:GOLD MROOM",null,"KLKD-APPETIZER",1,0,{"$f":"IFERROR($E219*SUMIF('Daily Log'!$B$18:$B$1017,$B219,'Daily Log'!$C$18:$C$1017),0)","v":0},{"$f":"IFERROR($E219*SUMIF('Daily Log'!$E$18:$E$1017,$B219,'Daily Log'!$F$18:$F$1017),0)","v":0},{"$f":"IFERROR($E219*SUMIF('Daily Log'!$H$18:$H$1017,$B219,'Daily Log'!$I$18:$I$1017),0)","v":0},{"$f":"IFERROR($E219*SUMIF('Daily Log'!$K$18:$K$1017,$B219,'Daily Log'!$L$18:$L$1017),0)","v":0},{"$f":"IFERROR($E219*SUMIF('Daily Log'!$N$18:$N$1017,$B219,'Daily Log'!$O$18:$O$1017),0)","v":0},{"$f":"IFERROR($E219*SUMIF('Daily Log'!#REF!,$B219,'Daily Log'!#REF!),0)","v":0},{"$f":"IFERROR($E219*SUMIF('Daily Log'!#REF!,$B219,'Daily Log'!#REF!),0)","v":0},{"$f":"IFERROR($E219*SUMIF('Daily Log'!#REF!,$B219,'Daily Log'!#REF!),0)","v":0},{"$f":"IFERROR($E219*SUMIF('Daily Log'!#REF!,$B219,'Daily Log'!#REF!),0)","v":0},{"$f":"IFERROR($E219*SUMIF('Daily Log'!#REF!,$B219,'Daily Log'!#REF!),0)","v":0},{"$f":"IFERROR($E219*SUMIF('Daily Log'!#REF!,$B219,'Daily Log'!#REF!),0)","v":0},{"$f":"IFERROR($E219*SUMIF('Daily Log'!#REF!,$B219,'Daily Log'!#REF!),0)","v":0},{"$f":"IFERROR($E219*SUMIF('Daily Log'!#REF!,$B219,'Daily Log'!#REF!),0)","v":0},{"$f":"IFERROR($E219*SUMIF('Daily Log'!#REF!,$B219,'Daily Log'!#REF!),0)","v":0},{"$f":"IFERROR($E219*SUMIF('Daily Log'!#REF!,$B219,'Daily Log'!#REF!),0)","v":0},{"$f":"IFERROR($E219*SUMIF('Daily Log'!#REF!,$B219,'Daily Log'!#REF!),0)","v":0},{"$f":"IFERROR($E219*SUMIF('Daily Log'!#REF!,$B219,'Daily Log'!#REF!),0)","v":0},{"$f":"IFERROR($E219*SUMIF('Daily Log'!#REF!,$B219,'Daily Log'!#REF!),0)","v":0},{"$f":"IFERROR($E219*SUMIF('Daily Log'!#REF!,$B219,'Daily Log'!#REF!),0)","v":0},{"$f":"IFERROR($E219*SUMIF('Daily Log'!#REF!,$B219,'Daily Log'!#REF!),0)","v":0},{"$f":"IFERROR($E219*SUMIF('Daily Log'!#REF!,$B219,'Daily Log'!#REF!),0)","v":0},{"$f":"IFERROR($E219*SUMIF('Daily Log'!#REF!,$B219,'Daily Log'!#REF!),0)","v":0},{"$f":"IFERROR($E219*SUMIF('Daily Log'!#REF!,$B219,'Daily Log'!#REF!),0)","v":0},{"$f":"IFERROR($E219*SUMIF('Daily Log'!#REF!,$B219,'Daily Log'!#REF!),0)","v":0},{"$f":"IFERROR($E219*SUMIF('Daily Log'!#REF!,$B219,'Daily Log'!#REF!),0)","v":0},{"$f":"IFERROR($E219*SUMIF('Daily Log'!#REF!,$B219,'Daily Log'!#REF!),0)","v":0},{"$f":"IFERROR($E219*SUMIF('Daily Log'!#REF!,$B219,'Daily Log'!#REF!),0)","v":0},{"$f":"IFERROR($E219*SUMIF('Daily Log'!#REF!,$B219,'Daily Log'!#REF!),0)","v":0},{"$f":"IFERROR($E219*SUMIF('Daily Log'!#REF!,$B219,'Daily Log'!#REF!),0)","v":0},{"$f":"IFERROR($E219*SUMIF('Daily Log'!#REF!,$B219,'Daily Log'!#REF!),0)","v":0},{"$f":"IFERROR($E219*SUMIF('Daily Log'!#REF!,$B219,'Daily Log'!#REF!),0)","v":0}]
[null,"DI04 91204:FISHBALL",null,"KLKD-APPETIZER",1,1,{"$f":"IFERROR($E220*SUMIF('Daily Log'!$B$18:$B$1017,$B220,'Daily Log'!$C$18:$C$1017),0)","v":0},{"$f":"IFERROR($E220*SUMIF('Daily Log'!$E$18:$E$1017,$B220,'Daily Log'!$F$18:$F$1017),0)","v":0},{"$f":"IFERROR($E220*SUMIF('Daily Log'!$H$18:$H$1017,$B220,'Daily Log'!$I$18:$I$1017),0)","v":0},{"$f":"IFERROR($E220*SUMIF('Daily Log'!$K$18:$K$1017,$B220,'Daily Log'!$L$18:$L$1017),0)","v":1},{"$f":"IFERROR($E220*SUMIF('Daily Log'!$N$18:$N$1017,$B220,'Daily Log'!$O$18:$O$1017),0)","v":0},{"$f":"IFERROR($E220*SUMIF('Daily Log'!#REF!,$B220,'Daily Log'!#REF!),0)","v":0},{"$f":"IFERROR($E220*SUMIF('Daily Log'!#REF!,$B220,'Daily Log'!#REF!),0)","v":0},{"$f":"IFERROR($E220*SUMIF('Daily Log'!#REF!,$B220,'Daily Log'!#REF!),0)","v":0},{"$f":"IFERROR($E220*SUMIF('Daily Log'!#REF!,$B220,'Daily Log'!#REF!),0)","v":0},{"$f":"IFERROR($E220*SUMIF('Daily Log'!#REF!,$B220,'Daily Log'!#REF!),0)","v":0},{"$f":"IFERROR($E220*SUMIF('Daily Log'!#REF!,$B220,'Daily Log'!#REF!),0)","v":0},{"$f":"IFERROR($E220*SUMIF('Daily Log'!#REF!,$B220,'Daily Log'!#REF!),0)","v":0},{"$f":"IFERROR($E220*SUMIF('Daily Log'!#REF!,$B220,'Daily Log'!#REF!),0)","v":0},{"$f":"IFERROR($E220*SUMIF('Daily Log'!#REF!,$B220,'Daily Log'!#REF!),0)","v":0},{"$f":"IFERROR($E220*SUMIF('Daily Log'!#REF!,$B220,'Daily Log'!#REF!),0)","v":0},{"$f":"IFERROR($E220*SUMIF('Daily Log'!#REF!,$B220,'Daily Log'!#REF!),0)","v":0},{"$f":"IFERROR($E220*SUMIF('Daily Log'!#REF!,$B220,'Daily Log'!#REF!),0)","v":0},{"$f":"IFERROR($E220*SUMIF('Daily Log'!#REF!,$B220,'Daily Log'!#REF!),0)","v":0},{"$f":"IFERROR($E220*SUMIF('Daily Log'!#REF!,$B220,'Daily Log'!#REF!),0)","v":0},{"$f":"IFERROR($E220*SUMIF('Daily Log'!#REF!,$B220,'Daily Log'!#REF!),0)","v":0},{"$f":"IFERROR($E220*SUMIF('Daily Log'!#REF!,$B220,'Daily Log'!#REF!),0)","v":0},{"$f":"IFERROR($E220*SUMIF('Daily Log'!#REF!,$B220,'Daily Log'!#REF!),0)","v":0},{"$f":"IFERROR($E220*SUMIF('Daily Log'!#REF!,$B220,'Daily Log'!#REF!),0)","v":0},{"$f":"IFERROR($E220*SUMIF('Daily Log'!#REF!,$B220,'Daily Log'!#REF!),0)","v":0},{"$f":"IFERROR($E220*SUMIF('Daily Log'!#REF!,$B220,'Daily Log'!#REF!),0)","v":0},{"$f":"IFERROR($E220*SUMIF('Daily Log'!#REF!,$B220,'Daily Log'!#REF!),0)","v":0},{"$f":"IFERROR($E220*SUMIF('Daily Log'!#REF!,$B220,'Daily Log'!#REF!),0)","v":0},{"$f":"IFERROR($E220*SUMIF('Daily Log'!#REF!,$B220,'Daily Log'!#REF!),0)","v":0},{"$f":"IFERROR($E220*SUMIF('Daily Log'!#REF!,$B220,'Daily Log'!#REF!),0)","v":0},{"$f":"IFERROR($E220*SUMIF('Daily Log'!#REF!,$B220,'Daily Log'!#REF!),0)","v":0},{"$f":"IFERROR($E220*SUMIF('Daily Log'!#REF!,$B220,'Daily Log'!#REF!),0)","v":0}]
[null,"DI05 91205:RAINBOW RL",null,"KLKD-APPETIZER",1,0,{"$f":"IFERROR($E221*SUMIF('Daily Log'!$B$18:$B$1017,$B221,'Daily Log'!$C$18:$C$1017),0)","v":0},{"$f":"IFERROR($E221*SUMIF('Daily Log'!$E$18:$E$1017,$B221,'Daily Log'!$F$18:$F$1017),0)","v":0},{"$f":"IFERROR($E221*SUMIF('Daily Log'!$H$18:$H$1017,$B221,'Daily Log'!$I$18:$I$1017),0)","v":0},{"$f":"IFERROR($E221*SUMIF('Daily Log'!$K$18:$K$1017,$B221,'Daily Log'!$L$18:$L$1017),0)","v":0},{"$f":"IFERROR($E221*SUMIF('Daily Log'!$N$18:$N$1017,$B221,'Daily Log'!$O$18:$O$1017),0)","v":0},{"$f":"IFERROR($E221*SUMIF('Daily Log'!#REF!,$B221,'Daily Log'!#REF!),0)","v":0},{"$f":"IFERROR($E221*SUMIF('Daily Log'!#REF!,$B221,'Daily Log'!#REF!),0)","v":0},{"$f":"IFERROR($E221*SUMIF('Daily Log'!#REF!,$B221,'Daily Log'!#REF!),0)","v":0},{"$f":"IFERROR($E221*SUMIF('Daily Log'!#REF!,$B221,'Daily Log'!#REF!),0)","v":0},{"$f":"IFERROR($E221*SUMIF('Daily Log'!#REF!,$B221,'Daily Log'!#REF!),0)","v":0},{"$f":"IFERROR($E221*SUMIF('Daily Log'!#REF!,$B221,'Daily Log'!#REF!),0)","v":0},{"$f":"IFERROR($E221*SUMIF('Daily Log'!#REF!,$B221,'Daily Log'!#REF!),0)","v":0},{"$f":"IFERROR($E221*SUMIF('Daily Log'!#REF!,$B221,'Daily Log'!#REF!),0)","v":0},{"$f":"IFERROR($E221*SUMIF('Daily Log'!#REF!,$B221,'Daily Log'!#REF!),0)","v":0},{"$f":"IFERROR($E221*SUMIF('Daily Log'!#REF!,$B221,'Daily Log'!#REF!),0)","v":0},{"$f":"IFERROR($E221*SUMIF('Daily Log'!#REF!,$B221,'Daily Log'!#REF!),0)","v":0},{"$f":"IFERROR($E221*SUMIF('Daily Log'!#REF!,$B221,'Daily Log'!#REF!),0)","v":0},{"$f":"IFERROR($E221*SUMIF('Daily Log'!#REF!,$B221,'Daily Log'!#REF!),0)","v":0},{"$f":"IFERROR($E221*SUMIF('Daily Log'!#REF!,$B221,'Daily Log'!#REF!),0)","v":0},{"$f":"IFERROR($E221*SUMIF('Daily Log'!#REF!,$B221,'Daily Log'!#REF!),0)","v":0},{"$f":"IFERROR($E221*SUMIF('Daily Log'!#REF!,$B221,'Daily Log'!#REF!),0)","v":0},{"$f":"IFERROR($E221*SUMIF('Daily Log'!#REF!,$B221,'Daily Log'!#REF!),0)","v":0},{"$f":"IFERROR($E221*SUMIF('Daily Log'!#REF!,$B221,'Daily Log'!#REF!),0)","v":0},{"$f":"IFERROR($E221*SUMIF('Daily Log'!#REF!,$B221,'Daily Log'!#REF!),0)","v":0},{"$f":"IFERROR($E221*SUMIF('Daily Log'!#REF!,$B221,'Daily Log'!#REF!),0)","v":0},{"$f":"IFERROR($E221*SUMIF('Daily Log'!#REF!,$B221,'Daily Log'!#REF!),0)","v":0},{"$f":"IFERROR($E221*SUMIF('Daily Log'!#REF!,$B221,'Daily Log'!#REF!),0)","v":0},{"$f":"IFERROR($E221*SUMIF('Daily Log'!#REF!,$B221,'Daily Log'!#REF!),0)","v":0},{"$f":"IFERROR($E221*SUMIF('Daily Log'!#REF!,$B221,'Daily Log'!#REF!),0)","v":0},{"$f":"IFERROR($E221*SUMIF('Daily Log'!#REF!,$B221,'Daily Log'!#REF!),0)","v":0},{"$f":"IFERROR($E221*SUMIF('Daily Log'!#REF!,$B221,'Daily Log'!#REF!),0)","v":0}]
[null,"DI06 91206:SPRING RL",null,"KLKD-APPETIZER",1,0,{"$f":"IFERROR($E222*SUMIF('Daily Log'!$B$18:$B$1017,$B222,'Daily Log'!$C$18:$C$1017),0)","v":0},{"$f":"IFERROR($E222*SUMIF('Daily Log'!$E$18:$E$1017,$B222,'Daily Log'!$F$18:$F$1017),0)","v":0},{"$f":"IFERROR($E222*SUMIF('Daily Log'!$H$18:$H$1017,$B222,'Daily Log'!$I$18:$I$1017),0)","v":0},{"$f":"IFERROR($E222*SUMIF('Daily Log'!$K$18:$K$1017,$B222,'Daily Log'!$L$18:$L$1017),0)","v":0},{"$f":"IFERROR($E222*SUMIF('Daily Log'!$N$18:$N$1017,$B222,'Daily Log'!$O$18:$O$1017),0)","v":0},{"$f":"IFERROR($E222*SUMIF('Daily Log'!#REF!,$B222,'Daily Log'!#REF!),0)","v":0},{"$f":"IFERROR($E222*SUMIF('Daily Log'!#REF!,$B222,'Daily Log'!#REF!),0)","v":0},{"$f":"IFERROR($E222*SUMIF('Daily Log'!#REF!,$B222,'Daily Log'!#REF!),0)","v":0},{"$f":"IFERROR($E222*SUMIF('Daily Log'!#REF!,$B222,'Daily Log'!#REF!),0)","v":0},{"$f":"IFERROR($E222*SUMIF('Daily Log'!#REF!,$B222,'Daily Log'!#REF!),0)","v":0},{"$f":"IFERROR($E222*SUMIF('Daily Log'!#REF!,$B222,'Daily Log'!#REF!),0)","v":0},{"$f":"IFERROR($E222*SUMIF('Daily Log'!#REF!,$B222,'Daily Log'!#REF!),0)","v":0},{"$f":"IFERROR($E222*SUMIF('Daily Log'!#REF!,$B222,'Daily Log'!#REF!),0)","v":0},{"$f":"IFERROR($E222*SUMIF('Daily Log'!#REF!,$B222,'Daily Log'!#REF!),0)","v":0},{"$f":"IFERROR($E222*SUMIF('Daily Log'!#REF!,$B222,'Daily Log'!#REF!),0)","v":0},{"$f":"IFERROR($E222*SUMIF('Daily Log'!#REF!,$B222,'Daily Log'!#REF!),0)","v":0},{"$f":"IFERROR($E222*SUMIF('Daily Log'!#REF!,$B222,'Daily Log'!#REF!),0)","v":0},{"$f":"IFERROR($E222*SUMIF('Daily Log'!#REF!,$B222,'Daily Log'!#REF!),0)","v":0},{"$f":"IFERROR($E222*SUMIF('Daily Log'!#REF!,$B222,'Daily Log'!#REF!),0)","v":0},{"$f":"IFERROR($E222*SUMIF('Daily Log'!#REF!,$B222,'Daily Log'!#REF!),0)","v":0},{"$f":"IFERROR($E222*SUMIF('Daily Log'!#REF!,$B222,'Daily Log'!#REF!),0)","v":0},{"$f":"IFERROR($E222*SUMIF('Daily Log'!#REF!,$B222,'Daily Log'!#REF!),0)","v":0},{"$f":"IFERROR($E222*SUMIF('Daily Log'!#REF!,$B222,'Daily Log'!#REF!),0)","v":0},{"$f":"IFERROR($E222*SUMIF('Daily Log'!#REF!,$B222,'Daily Log'!#REF!),0)","v":0},{"$f":"IFERROR($E222*SUMIF('Daily Log'!#REF!,$B222,'Daily Log'!#REF!),0)","v":0},{"$f":"IFERROR($E222*SUMIF('Daily Log'!#REF!,$B222,'Daily Log'!#REF!),0)","v":0},{"$f":"IFERROR($E222*SUMIF('Daily Log'!#REF!,$B222,'Daily Log'!#REF!),0)","v":0},{"$f":"IFERROR($E222*SUMIF('Daily Log'!#REF!,$B222,'Daily Log'!#REF!),0)","v":0},{"$f":"IFERROR($E222*SUMIF('Daily Log'!#REF!,$B222,'Daily Log'!#REF!),0)","v":0},{"$f":"IFERROR($E222*SUMIF('Daily Log'!#REF!,$B222,'Daily Log'!#REF!),0)","v":0},{"$f":"IFERROR($E222*SUMIF('Daily Log'!#REF!,$B222,'Daily Log'!#REF!),0)","v":0}]
[null,"DI07 91207:SAUSAGE",null,"KLKD-APPETIZER",1,2,{"$f":"IFERROR($E223*SUMIF('Daily Log'!$B$18:$B$1017,$B223,'Daily Log'!$C$18:$C$1017),0)","v":0},{"$f":"IFERROR($E223*SUMIF('Daily Log'!$E$18:$E$1017,$B223,'Daily Log'!$F$18:$F$1017),0)","v":1},{"$f":"IFERROR($E223*SUMIF('Daily Log'!$H$18:$H$1017,$B223,'Daily Log'!$I$18:$I$1017),0)","v":0},{"$f":"IFERROR($E223*SUMIF('Daily Log'!$K$18:$K$1017,$B223,'Daily Log'!$L$18:$L$1017),0)","v":1},{"$f":"IFERROR($E223*SUMIF('Daily Log'!$N$18:$N$1017,$B223,'Daily Log'!$O$18:$O$1017),0)","v":0},{"$f":"IFERROR($E223*SUMIF('Daily Log'!#REF!,$B223,'Daily Log'!#REF!),0)","v":0},{"$f":"IFERROR($E223*SUMIF('Daily Log'!#REF!,$B223,'Daily Log'!#REF!),0)","v":0},{"$f":"IFERROR($E223*SUMIF('Daily Log'!#REF!,$B223,'Daily Log'!#REF!),0)","v":0},{"$f":"IFERROR($E223*SUMIF('Daily Log'!#REF!,$B223,'Daily Log'!#REF!),0)","v":0},{"$f":"IFERROR($E223*SUMIF('Daily Log'!#REF!,$B223,'Daily Log'!#REF!),0)","v":0},{"$f":"IFERROR($E223*SUMIF('Daily Log'!#REF!,$B223,'Daily Log'!#REF!),0)","v":0},{"$f":"IFERROR($E223*SUMIF('Daily Log'!#REF!,$B223,'Daily Log'!#REF!),0)","v":0},{"$f":"IFERROR($E223*SUMIF('Daily Log'!#REF!,$B223,'Daily Log'!#REF!),0)","v":0},{"$f":"IFERROR($E223*SUMIF('Daily Log'!#REF!,$B223,'Daily Log'!#REF!),0)","v":0},{"$f":"IFERROR($E223*SUMIF('Daily Log'!#REF!,$B223,'Daily Log'!#REF!),0)","v":0},{"$f":"IFERROR($E223*SUMIF('Daily Log'!#REF!,$B223,'Daily Log'!#REF!),0)","v":0},{"$f":"IFERROR($E223*SUMIF('Daily Log'!#REF!,$B223,'Daily Log'!#REF!),0)","v":0},{"$f":"IFERROR($E223*SUMIF('Daily Log'!#REF!,$B223,'Daily Log'!#REF!),0)","v":0},{"$f":"IFERROR($E223*SUMIF('Daily Log'!#REF!,$B223,'Daily Log'!#REF!),0)","v":0},{"$f":"IFERROR($E223*SUMIF('Daily Log'!#REF!,$B223,'Daily Log'!#REF!),0)","v":0},{"$f":"IFERROR($E223*SUMIF('Daily Log'!#REF!,$B223,'Daily Log'!#REF!),0)","v":0},{"$f":"IFERROR($E223*SUMIF('Daily Log'!#REF!,$B223,'Daily Log'!#REF!),0)","v":0},{"$f":"IFERROR($E223*SUMIF('Daily Log'!#REF!,$B223,'Daily Log'!#REF!),0)","v":0},{"$f":"IFERROR($E223*SUMIF('Daily Log'!#REF!,$B223,'Daily Log'!#REF!),0)","v":0},{"$f":"IFERROR($E223*SUMIF('Daily Log'!#REF!,$B223,'Daily Log'!#REF!),0)","v":0},{"$f":"IFERROR($E223*SUMIF('Daily Log'!#REF!,$B223,'Daily Log'!#REF!),0)","v":0},{"$f":"IFERROR($E223*SUMIF('Daily Log'!#REF!,$B223,'Daily Log'!#REF!),0)","v":0},{"$f":"IFERROR($E223*SUMIF('Daily Log'!#REF!,$B223,'Daily Log'!#REF!),0)","v":0},{"$f":"IFERROR($E223*SUMIF('Daily Log'!#REF!,$B223,'Daily Log'!#REF!),0)","v":0},{"$f":"IFERROR($E223*SUMIF('Daily Log'!#REF!,$B223,'Daily Log'!#REF!),0)","v":0},{"$f":"IFERROR($E223*SUMIF('Daily Log'!#REF!,$B223,'Daily Log'!#REF!),0)","v":0}]
[null,"DI08 91208:HOTDOG BUN",null,"KLKD-APPETIZER",1,0,{"$f":"IFERROR($E224*SUMIF('Daily Log'!$B$18:$B$1017,$B224,'Daily Log'!$C$18:$C$1017),0)","v":0},{"$f":"IFERROR($E224*SUMIF('Daily Log'!$E$18:$E$1017,$B224,'Daily Log'!$F$18:$F$1017),0)","v":0},{"$f":"IFERROR($E224*SUMIF('Daily Log'!$H$18:$H$1017,$B224,'Daily Log'!$I$18:$I$1017),0)","v":0},{"$f":"IFERROR($E224*SUMIF('Daily Log'!$K$18:$K$1017,$B224,'Daily Log'!$L$18:$L$1017),0)","v":0},{"$f":"IFERROR($E224*SUMIF('Daily Log'!$N$18:$N$1017,$B224,'Daily Log'!$O$18:$O$1017),0)","v":0},{"$f":"IFERROR($E224*SUMIF('Daily Log'!#REF!,$B224,'Daily Log'!#REF!),0)","v":0},{"$f":"IFERROR($E224*SUMIF('Daily Log'!#REF!,$B224,'Daily Log'!#REF!),0)","v":0},{"$f":"IFERROR($E224*SUMIF('Daily Log'!#REF!,$B224,'Daily Log'!#REF!),0)","v":0},{"$f":"IFERROR($E224*SUMIF('Daily Log'!#REF!,$B224,'Daily Log'!#REF!),0)","v":0},{"$f":"IFERROR($E224*SUMIF('Daily Log'!#REF!,$B224,'Daily Log'!#REF!),0)","v":0},{"$f":"IFERROR($E224*SUMIF('Daily Log'!#REF!,$B224,'Daily Log'!#REF!),0)","v":0},{"$f":"IFERROR($E224*SUMIF('Daily Log'!#REF!,$B224,'Daily Log'!#REF!),0)","v":0},{"$f":"IFERROR($E224*SUMIF('Daily Log'!#REF!,$B224,'Daily Log'!#REF!),0)","v":0},{"$f":"IFERROR($E224*SUMIF('Daily Log'!#REF!,$B224,'Daily Log'!#REF!),0)","v":0},{"$f":"IFERROR($E224*SUMIF('Daily Log'!#REF!,$B224,'Daily Log'!#REF!),0)","v":0},{"$f":"IFERROR($E224*SUMIF('Daily Log'!#REF!,$B224,'Daily Log'!#REF!),0)","v":0},{"$f":"IFERROR($E224*SUMIF('Daily Log'!#REF!,$B224,'Daily Log'!#REF!),0)","v":0},{"$f":"IFERROR($E224*SUMIF('Daily Log'!#REF!,$B224,'Daily Log'!#REF!),0)","v":0},{"$f":"IFERROR($E224*SUMIF('Daily Log'!#REF!,$B224,'Daily Log'!#REF!),0)","v":0},{"$f":"IFERROR($E224*SUMIF('Daily Log'!#REF!,$B224,'Daily Log'!#REF!),0)","v":0},{"$f":"IFERROR($E224*SUMIF('Daily Log'!#REF!,$B224,'Daily Log'!#REF!),0)","v":0},{"$f":"IFERROR($E224*SUMIF('Daily Log'!#REF!,$B224,'Daily Log'!#REF!),0)","v":0},{"$f":"IFERROR($E224*SUMIF('Daily Log'!#REF!,$B224,'Daily Log'!#REF!),0)","v":0},{"$f":"IFERROR($E224*SUMIF('Daily Log'!#REF!,$B224,'Daily Log'!#REF!),0)","v":0},{"$f":"IFERROR($E224*SUMIF('Daily Log'!#REF!,$B224,'Daily Log'!#REF!),0)","v":0},{"$f":"IFERROR($E224*SUMIF('Daily Log'!#REF!,$B224,'Daily Log'!#REF!),0)","v":0},{"$f":"IFERROR($E224*SUMIF('Daily Log'!#REF!,$B224,'Daily Log'!#REF!),0)","v":0},{"$f":"IFERROR($E224*SUMIF('Daily Log'!#REF!,$B224,'Daily Log'!#REF!),0)","v":0},{"$f":"IFERROR($E224*SUMIF('Daily Log'!#REF!,$B224,'Daily Log'!#REF!),0)","v":0},{"$f":"IFERROR($E224*SUMIF('Daily Log'!#REF!,$B224,'Daily Log'!#REF!),0)","v":0},{"$f":"IFERROR($E224*SUMIF('Daily Log'!#REF!,$B224,'Daily Log'!#REF!),0)","v":0}]
[null,"DI09 91209:SFD TOFU",null,"KLKD-APPETIZER",1,{"$f":"SUM($G225:$AK225)","v":0},{"$f":"IFERROR($E225*SUMIF('Daily Log'!$B$18:$B$1017,$B225,'Daily Log'!$C$18:$C$1017),0)","v":0},{"$f":"IFERROR($E225*SUMIF('Daily Log'!$E$18:$E$1017,$B225,'Daily Log'!$F$18:$F$1017),0)","v":0},{"$f":"IFERROR($E225*SUMIF('Daily Log'!$H$18:$H$1017,$B225,'Daily Log'!$I$18:$I$1017),0)","v":0},{"$f":"IFERROR($E225*SUMIF('Daily Log'!$K$18:$K$1017,$B225,'Daily Log'!$L$18:$L$1017),0)","v":0},{"$f":"IFERROR($E225*SUMIF('Daily Log'!$N$18:$N$1017,$B225,'Daily Log'!$O$18:$O$1017),0)","v":0},{"$f":"IFERROR($E225*SUMIF('Daily Log'!#REF!,$B225,'Daily Log'!#REF!),0)","v":0},{"$f":"IFERROR($E225*SUMIF('Daily Log'!#REF!,$B225,'Daily Log'!#REF!),0)","v":0},{"$f":"IFERROR($E225*SUMIF('Daily Log'!#REF!,$B225,'Daily Log'!#REF!),0)","v":0},{"$f":"IFERROR($E225*SUMIF('Daily Log'!#REF!,$B225,'Daily Log'!#REF!),0)","v":0},{"$f":"IFERROR($E225*SUMIF('Daily Log'!#REF!,$B225,'Daily Log'!#REF!),0)","v":0},{"$f":"IFERROR($E225*SUMIF('Daily Log'!#REF!,$B225,'Daily Log'!#REF!),0)","v":0},{"$f":"IFERROR($E225*SUMIF('Daily Log'!#REF!,$B225,'Daily Log'!#REF!),0)","v":0},{"$f":"IFERROR($E225*SUMIF('Daily Log'!#REF!,$B225,'Daily Log'!#REF!),0)","v":0},{"$f":"IFERROR($E225*SUMIF('Daily Log'!#REF!,$B225,'Daily Log'!#REF!),0)","v":0},{"$f":"IFERROR($E225*SUMIF('Daily Log'!#REF!,$B225,'Daily Log'!#REF!),0)","v":0},{"$f":"IFERROR($E225*SUMIF('Daily Log'!#REF!,$B225,'Daily Log'!#REF!),0)","v":0},{"$f":"IFERROR($E225*SUMIF('Daily Log'!#REF!,$B225,'Daily Log'!#REF!),0)","v":0},{"$f":"IFERROR($E225*SUMIF('Daily Log'!#REF!,$B225,'Daily Log'!#REF!),0)","v":0},{"$f":"IFERROR($E225*SUMIF('Daily Log'!#REF!,$B225,'Daily Log'!#REF!),0)","v":0},{"$f":"IFERROR($E225*SUMIF('Daily Log'!#REF!,$B225,'Daily Log'!#REF!),0)","v":0},{"$f":"IFERROR($E225*SUMIF('Daily Log'!#REF!,$B225,'Daily Log'!#REF!),0)","v":0},{"$f":"IFERROR($E225*SUMIF('Daily Log'!#REF!,$B225,'Daily Log'!#REF!),0)","v":0},{"$f":"IFERROR($E225*SUMIF('Daily Log'!#REF!,$B225,'Daily Log'!#REF!),0)","v":0},{"$f":"IFERROR($E225*SUMIF('Daily Log'!#REF!,$B225,'Daily Log'!#REF!),0)","v":0},{"$f":"IFERROR($E225*SUMIF('Daily Log'!#REF!,$B225,'Daily Log'!#REF!),0)","v":0},{"$f":"IFERROR($E225*SUMIF('Daily Log'!#REF!,$B225,'Daily Log'!#REF!),0)","v":0},{"$f":"IFERROR($E225*SUMIF('Daily Log'!#REF!,$B225,'Daily Log'!#REF!),0)","v":0},{"$f":"IFERROR($E225*SUMIF('Daily Log'!#REF!,$B225,'Daily Log'!#REF!),0)","v":0},{"$f":"IFERROR($E225*SUMIF('Daily Log'!#REF!,$B225,'Daily Log'!#REF!),0)","v":0},{"$f":"IFERROR($E225*SUMIF('Daily Log'!#REF!,$B225,'Daily Log'!#REF!),0)","v":0},{"$f":"IFERROR($E225*SUMIF('Daily Log'!#REF!,$B225,'Daily Log'!#REF!),0)","v":0}]
[null,"DI10 91301:DUMPLING",null,"KLKD-APPETIZER",1,0,{"$f":"IFERROR($E226*SUMIF('Daily Log'!$B$18:$B$1017,$B226,'Daily Log'!$C$18:$C$1017),0)","v":0},{"$f":"IFERROR($E226*SUMIF('Daily Log'!$E$18:$E$1017,$B226,'Daily Log'!$F$18:$F$1017),0)","v":0},{"$f":"IFERROR($E226*SUMIF('Daily Log'!$H$18:$H$1017,$B226,'Daily Log'!$I$18:$I$1017),0)","v":0},{"$f":"IFERROR($E226*SUMIF('Daily Log'!$K$18:$K$1017,$B226,'Daily Log'!$L$18:$L$1017),0)","v":0},{"$f":"IFERROR($E226*SUMIF('Daily Log'!$N$18:$N$1017,$B226,'Daily Log'!$O$18:$O$1017),0)","v":0},{"$f":"IFERROR($E226*SUMIF('Daily Log'!#REF!,$B226,'Daily Log'!#REF!),0)","v":0},{"$f":"IFERROR($E226*SUMIF('Daily Log'!#REF!,$B226,'Daily Log'!#REF!),0)","v":0},{"$f":"IFERROR($E226*SUMIF('Daily Log'!#REF!,$B226,'Daily Log'!#REF!),0)","v":0},{"$f":"IFERROR($E226*SUMIF('Daily Log'!#REF!,$B226,'Daily Log'!#REF!),0)","v":0},{"$f":"IFERROR($E226*SUMIF('Daily Log'!#REF!,$B226,'Daily Log'!#REF!),0)","v":0},{"$f":"IFERROR($E226*SUMIF('Daily Log'!#REF!,$B226,'Daily Log'!#REF!),0)","v":0},{"$f":"IFERROR($E226*SUMIF('Daily Log'!#REF!,$B226,'Daily Log'!#REF!),0)","v":0},{"$f":"IFERROR($E226*SUMIF('Daily Log'!#REF!,$B226,'Daily Log'!#REF!),0)","v":0},{"$f":"IFERROR($E226*SUMIF('Daily Log'!#REF!,$B226,'Daily Log'!#REF!),0)","v":0},{"$f":"IFERROR($E226*SUMIF('Daily Log'!#REF!,$B226,'Daily Log'!#REF!),0)","v":0},{"$f":"IFERROR($E226*SUMIF('Daily Log'!#REF!,$B226,'Daily Log'!#REF!),0)","v":0},{"$f":"IFERROR($E226*SUMIF('Daily Log'!#REF!,$B226,'Daily Log'!#REF!),0)","v":0},{"$f":"IFERROR($E226*SUMIF('Daily Log'!#REF!,$B226,'Daily Log'!#REF!),0)","v":0},{"$f":"IFERROR($E226*SUMIF('Daily Log'!#REF!,$B226,'Daily Log'!#REF!),0)","v":0},{"$f":"IFERROR($E226*SUMIF('Daily Log'!#REF!,$B226,'Daily Log'!#REF!),0)","v":0},{"$f":"IFERROR($E226*SUMIF('Daily Log'!#REF!,$B226,'Daily Log'!#REF!),0)","v":0},{"$f":"IFERROR($E226*SUMIF('Daily Log'!#REF!,$B226,'Daily Log'!#REF!),0)","v":0},{"$f":"IFERROR($E226*SUMIF('Daily Log'!#REF!,$B226,'Daily Log'!#REF!),0)","v":0},{"$f":"IFERROR($E226*SUMIF('Daily Log'!#REF!,$B226,'Daily Log'!#REF!),0)","v":0},{"$f":"IFERROR($E226*SUMIF('Daily Log'!#REF!,$B226,'Daily Log'!#REF!),0)","v":0},{"$f":"IFERROR($E226*SUMIF('Daily Log'!#REF!,$B226,'Daily Log'!#REF!),0)","v":0},{"$f":"IFERROR($E226*SUMIF('Daily Log'!#REF!,$B226,'Daily Log'!#REF!),0)","v":0},{"$f":"IFERROR($E226*SUMIF('Daily Log'!#REF!,$B226,'Daily Log'!#REF!),0)","v":0},{"$f":"IFERROR($E226*SUMIF('Daily Log'!#REF!,$B226,'Daily Log'!#REF!),0)","v":0},{"$f":"IFERROR($E226*SUMIF('Daily Log'!#REF!,$B226,'Daily Log'!#REF!),0)","v":0},{"$f":"IFERROR($E226*SUMIF('Daily Log'!#REF!,$B226,'Daily Log'!#REF!),0)","v":0}]
[null,"DI11 91302:NUGGET",null,"KLKD-APPETIZER",1,6,{"$f":"IFERROR($E227*SUMIF('Daily Log'!$B$18:$B$1017,$B227,'Daily Log'!$C$18:$C$1017),0)","v":5},{"$f":"IFERROR($E227*SUMIF('Daily Log'!$E$18:$E$1017,$B227,'Daily Log'!$F$18:$F$1017),0)","v":0},{"$f":"IFERROR($E227*SUMIF('Daily Log'!$H$18:$H$1017,$B227,'Daily Log'!$I$18:$I$1017),0)","v":0},{"$f":"IFERROR($E227*SUMIF('Daily Log'!$K$18:$K$1017,$B227,'Daily Log'!$L$18:$L$1017),0)","v":0},{"$f":"IFERROR($E227*SUMIF('Daily Log'!$N$18:$N$1017,$B227,'Daily Log'!$O$18:$O$1017),0)","v":1},{"$f":"IFERROR($E227*SUMIF('Daily Log'!#REF!,$B227,'Daily Log'!#REF!),0)","v":0},{"$f":"IFERROR($E227*SUMIF('Daily Log'!#REF!,$B227,'Daily Log'!#REF!),0)","v":0},{"$f":"IFERROR($E227*SUMIF('Daily Log'!#REF!,$B227,'Daily Log'!#REF!),0)","v":0},{"$f":"IFERROR($E227*SUMIF('Daily Log'!#REF!,$B227,'Daily Log'!#REF!),0)","v":0},{"$f":"IFERROR($E227*SUMIF('Daily Log'!#REF!,$B227,'Daily Log'!#REF!),0)","v":0},{"$f":"IFERROR($E227*SUMIF('Daily Log'!#REF!,$B227,'Daily Log'!#REF!),0)","v":0},{"$f":"IFERROR($E227*SUMIF('Daily Log'!#REF!,$B227,'Daily Log'!#REF!),0)","v":0},{"$f":"IFERROR($E227*SUMIF('Daily Log'!#REF!,$B227,'Daily Log'!#REF!),0)","v":0},{"$f":"IFERROR($E227*SUMIF('Daily Log'!#REF!,$B227,'Daily Log'!#REF!),0)","v":0},{"$f":"IFERROR($E227*SUMIF('Daily Log'!#REF!,$B227,'Daily Log'!#REF!),0)","v":0},{"$f":"IFERROR($E227*SUMIF('Daily Log'!#REF!,$B227,'Daily Log'!#REF!),0)","v":0},{"$f":"IFERROR($E227*SUMIF('Daily Log'!#REF!,$B227,'Daily Log'!#REF!),0)","v":0},{"$f":"IFERROR($E227*SUMIF('Daily Log'!#REF!,$B227,'Daily Log'!#REF!),0)","v":0},{"$f":"IFERROR($E227*SUMIF('Daily Log'!#REF!,$B227,'Daily Log'!#REF!),0)","v":0},{"$f":"IFERROR($E227*SUMIF('Daily Log'!#REF!,$B227,'Daily Log'!#REF!),0)","v":0},{"$f":"IFERROR($E227*SUMIF('Daily Log'!#REF!,$B227,'Daily Log'!#REF!),0)","v":0},{"$f":"IFERROR($E227*SUMIF('Daily Log'!#REF!,$B227,'Daily Log'!#REF!),0)","v":0},{"$f":"IFERROR($E227*SUMIF('Daily Log'!#REF!,$B227,'Daily Log'!#REF!),0)","v":0},{"$f":"IFERROR($E227*SUMIF('Daily Log'!#REF!,$B227,'Daily Log'!#REF!),0)","v":0},{"$f":"IFERROR($E227*SUMIF('Daily Log'!#REF!,$B227,'Daily Log'!#REF!),0)","v":0},{"$f":"IFERROR($E227*SUMIF('Daily Log'!#REF!,$B227,'Daily Log'!#REF!),0)","v":0},{"$f":"IFERROR($E227*SUMIF('Daily Log'!#REF!,$B227,'Daily Log'!#REF!),0)","v":0},{"$f":"IFERROR($E227*SUMIF('Daily Log'!#REF!,$B227,'Daily Log'!#REF!),0)","v":0},{"$f":"IFERROR($E227*SUMIF('Daily Log'!#REF!,$B227,'Daily Log'!#REF!),0)","v":0},{"$f":"IFERROR($E227*SUMIF('Daily Log'!#REF!,$B227,'Daily Log'!#REF!),0)","v":0},{"$f":"IFERROR($E227*SUMIF('Daily Log'!#REF!,$B227,'Daily Log'!#REF!),0)","v":0}]
[null,"DI12 91303:CHK WING",null,"KLKD-APPETIZER",1,9,{"$f":"IFERROR($E228*SUMIF('Daily Log'!$B$18:$B$1017,$B228,'Daily Log'!$C$18:$C$1017),0)","v":4},{"$f":"IFERROR($E228*SUMIF('Daily Log'!$E$18:$E$1017,$B228,'Daily Log'!$F$18:$F$1017),0)","v":0},{"$f":"IFERROR($E228*SUMIF('Daily Log'!$H$18:$H$1017,$B228,'Daily Log'!$I$18:$I$1017),0)","v":0},{"$f":"IFERROR($E228*SUMIF('Daily Log'!$K$18:$K$1017,$B228,'Daily Log'!$L$18:$L$1017),0)","v":5},{"$f":"IFERROR($E228*SUMIF('Daily Log'!$N$18:$N$1017,$B228,'Daily Log'!$O$18:$O$1017),0)","v":0},{"$f":"IFERROR($E228*SUMIF('Daily Log'!#REF!,$B228,'Daily Log'!#REF!),0)","v":0},{"$f":"IFERROR($E228*SUMIF('Daily Log'!#REF!,$B228,'Daily Log'!#REF!),0)","v":0},{"$f":"IFERROR($E228*SUMIF('Daily Log'!#REF!,$B228,'Daily Log'!#REF!),0)","v":0},{"$f":"IFERROR($E228*SUMIF('Daily Log'!#REF!,$B228,'Daily Log'!#REF!),0)","v":0},{"$f":"IFERROR($E228*SUMIF('Daily Log'!#REF!,$B228,'Daily Log'!#REF!),0)","v":0},{"$f":"IFERROR($E228*SUMIF('Daily Log'!#REF!,$B228,'Daily Log'!#REF!),0)","v":0},{"$f":"IFERROR($E228*SUMIF('Daily Log'!#REF!,$B228,'Daily Log'!#REF!),0)","v":0},{"$f":"IFERROR($E228*SUMIF('Daily Log'!#REF!,$B228,'Daily Log'!#REF!),0)","v":0},{"$f":"IFERROR($E228*SUMIF('Daily Log'!#REF!,$B228,'Daily Log'!#REF!),0)","v":0},{"$f":"IFERROR($E228*SUMIF('Daily Log'!#REF!,$B228,'Daily Log'!#REF!),0)","v":0},{"$f":"IFERROR($E228*SUMIF('Daily Log'!#REF!,$B228,'Daily Log'!#REF!),0)","v":0},{"$f":"IFERROR($E228*SUMIF('Daily Log'!#REF!,$B228,'Daily Log'!#REF!),0)","v":0},{"$f":"IFERROR($E228*SUMIF('Daily Log'!#REF!,$B228,'Daily Log'!#REF!),0)","v":0},{"$f":"IFERROR($E228*SUMIF('Daily Log'!#REF!,$B228,'Daily Log'!#REF!),0)","v":0},{"$f":"IFERROR($E228*SUMIF('Daily Log'!#REF!,$B228,'Daily Log'!#REF!),0)","v":0},{"$f":"IFERROR($E228*SUMIF('Daily Log'!#REF!,$B228,'Daily Log'!#REF!),0)","v":0},{"$f":"IFERROR($E228*SUMIF('Daily Log'!#REF!,$B228,'Daily Log'!#REF!),0)","v":0},{"$f":"IFERROR($E228*SUMIF('Daily Log'!#REF!,$B228,'Daily Log'!#REF!),0)","v":0},{"$f":"IFERROR($E228*SUMIF('Daily Log'!#REF!,$B228,'Daily Log'!#REF!),0)","v":0},{"$f":"IFERROR($E228*SUMIF('Daily Log'!#REF!,$B228,'Daily Log'!#REF!),0)","v":0},{"$f":"IFERROR($E228*SUMIF('Daily Log'!#REF!,$B228,'Daily Log'!#REF!),0)","v":0},{"$f":"IFERROR($E228*SUMIF('Daily Log'!#REF!,$B228,'Daily Log'!#REF!),0)","v":0},{"$f":"IFERROR($E228*SUMIF('Daily Log'!#REF!,$B228,'Daily Log'!#REF!),0)","v":0},{"$f":"IFERROR($E228*SUMIF('Daily Log'!#REF!,$B228,'Daily Log'!#REF!),0)","v":0},{"$f":"IFERROR($E228*SUMIF('Daily Log'!#REF!,$B228,'Daily Log'!#REF!),0)","v":0},{"$f":"IFERROR($E228*SUMIF('Daily Log'!#REF!,$B228,'Daily Log'!#REF!),0)","v":0}]
[null,"DI13 91304:IKAN BILIS",null,"KLKD-APPETIZER",1,1,{"$f":"IFERROR($E229*SUMIF('Daily Log'!$B$18:$B$1017,$B229,'Daily Log'!$C$18:$C$1017),0)","v":1},{"$f":"IFERROR($E229*SUMIF('Daily Log'!$E$18:$E$1017,$B229,'Daily Log'!$F$18:$F$1017),0)","v":0},{"$f":"IFERROR($E229*SUMIF('Daily Log'!$H$18:$H$1017,$B229,'Daily Log'!$I$18:$I$1017),0)","v":0},{"$f":"IFERROR($E229*SUMIF('Daily Log'!$K$18:$K$1017,$B229,'Daily Log'!$L$18:$L$1017),0)","v":0},{"$f":"IFERROR($E229*SUMIF('Daily Log'!$N$18:$N$1017,$B229,'Daily Log'!$O$18:$O$1017),0)","v":0},{"$f":"IFERROR($E229*SUMIF('Daily Log'!#REF!,$B229,'Daily Log'!#REF!),0)","v":0},{"$f":"IFERROR($E229*SUMIF('Daily Log'!#REF!,$B229,'Daily Log'!#REF!),0)","v":0},{"$f":"IFERROR($E229*SUMIF('Daily Log'!#REF!,$B229,'Daily Log'!#REF!),0)","v":0},{"$f":"IFERROR($E229*SUMIF('Daily Log'!#REF!,$B229,'Daily Log'!#REF!),0)","v":0},{"$f":"IFERROR($E229*SUMIF('Daily Log'!#REF!,$B229,'Daily Log'!#REF!),0)","v":0},{"$f":"IFERROR($E229*SUMIF('Daily Log'!#REF!,$B229,'Daily Log'!#REF!),0)","v":0},{"$f":"IFERROR($E229*SUMIF('Daily Log'!#REF!,$B229,'Daily Log'!#REF!),0)","v":0},{"$f":"IFERROR($E229*SUMIF('Daily Log'!#REF!,$B229,'Daily Log'!#REF!),0)","v":0},{"$f":"IFERROR($E229*SUMIF('Daily Log'!#REF!,$B229,'Daily Log'!#REF!),0)","v":0},{"$f":"IFERROR($E229*SUMIF('Daily Log'!#REF!,$B229,'Daily Log'!#REF!),0)","v":0},{"$f":"IFERROR($E229*SUMIF('Daily Log'!#REF!,$B229,'Daily Log'!#REF!),0)","v":0},{"$f":"IFERROR($E229*SUMIF('Daily Log'!#REF!,$B229,'Daily Log'!#REF!),0)","v":0},{"$f":"IFERROR($E229*SUMIF('Daily Log'!#REF!,$B229,'Daily Log'!#REF!),0)","v":0},{"$f":"IFERROR($E229*SUMIF('Daily Log'!#REF!,$B229,'Daily Log'!#REF!),0)","v":0},{"$f":"IFERROR($E229*SUMIF('Daily Log'!#REF!,$B229,'Daily Log'!#REF!),0)","v":0},{"$f":"IFERROR($E229*SUMIF('Daily Log'!#REF!,$B229,'Daily Log'!#REF!),0)","v":0},{"$f":"IFERROR($E229*SUMIF('Daily Log'!#REF!,$B229,'Daily Log'!#REF!),0)","v":0},{"$f":"IFERROR($E229*SUMIF('Daily Log'!#REF!,$B229,'Daily Log'!#REF!),0)","v":0},{"$f":"IFERROR($E229*SUMIF('Daily Log'!#REF!,$B229,'Daily Log'!#REF!),0)","v":0},{"$f":"IFERROR($E229*SUMIF('Daily Log'!#REF!,$B229,'Daily Log'!#REF!),0)","v":0},{"$f":"IFERROR($E229*SUMIF('Daily Log'!#REF!,$B229,'Daily Log'!#REF!),0)","v":0},{"$f":"IFERROR($E229*SUMIF('Daily Log'!#REF!,$B229,'Daily Log'!#REF!),0)","v":0},{"$f":"IFERROR($E229*SUMIF('Daily Log'!#REF!,$B229,'Daily Log'!#REF!),0)","v":0},{"$f":"IFERROR($E229*SUMIF('Daily Log'!#REF!,$B229,'Daily Log'!#REF!),0)","v":0},{"$f":"IFERROR($E229*SUMIF('Daily Log'!#REF!,$B229,'Daily Log'!#REF!),0)","v":0},{"$f":"IFERROR($E229*SUMIF('Daily Log'!#REF!,$B229,'Daily Log'!#REF!),0)","v":0}]
[null,"DI14 91305:THAI RL",null,"KLKD-APPETIZER",1,2,{"$f":"IFERROR($E230*SUMIF('Daily Log'!$B$18:$B$1017,$B230,'Daily Log'!$C$18:$C$1017),0)","v":2},{"$f":"IFERROR($E230*SUMIF('Daily Log'!$E$18:$E$1017,$B230,'Daily Log'!$F$18:$F$1017),0)","v":0},{"$f":"IFERROR($E230*SUMIF('Daily Log'!$H$18:$H$1017,$B230,'Daily Log'!$I$18:$I$1017),0)","v":0},{"$f":"IFERROR($E230*SUMIF('Daily Log'!$K$18:$K$1017,$B230,'Daily Log'!$L$18:$L$1017),0)","v":0},{"$f":"IFERROR($E230*SUMIF('Daily Log'!$N$18:$N$1017,$B230,'Daily Log'!$O$18:$O$1017),0)","v":0},{"$f":"IFERROR($E230*SUMIF('Daily Log'!#REF!,$B230,'Daily Log'!#REF!),0)","v":0},{"$f":"IFERROR($E230*SUMIF('Daily Log'!#REF!,$B230,'Daily Log'!#REF!),0)","v":0},{"$f":"IFERROR($E230*SUMIF('Daily Log'!#REF!,$B230,'Daily Log'!#REF!),0)","v":0},{"$f":"IFERROR($E230*SUMIF('Daily Log'!#REF!,$B230,'Daily Log'!#REF!),0)","v":0},{"$f":"IFERROR($E230*SUMIF('Daily Log'!#REF!,$B230,'Daily Log'!#REF!),0)","v":0},{"$f":"IFERROR($E230*SUMIF('Daily Log'!#REF!,$B230,'Daily Log'!#REF!),0)","v":0},{"$f":"IFERROR($E230*SUMIF('Daily Log'!#REF!,$B230,'Daily Log'!#REF!),0)","v":0},{"$f":"IFERROR($E230*SUMIF('Daily Log'!#REF!,$B230,'Daily Log'!#REF!),0)","v":0},{"$f":"IFERROR($E230*SUMIF('Daily Log'!#REF!,$B230,'Daily Log'!#REF!),0)","v":0},{"$f":"IFERROR($E230*SUMIF('Daily Log'!#REF!,$B230,'Daily Log'!#REF!),0)","v":0},{"$f":"IFERROR($E230*SUMIF('Daily Log'!#REF!,$B230,'Daily Log'!#REF!),0)","v":0},{"$f":"IFERROR($E230*SUMIF('Daily Log'!#REF!,$B230,'Daily Log'!#REF!),0)","v":0},{"$f":"IFERROR($E230*SUMIF('Daily Log'!#REF!,$B230,'Daily Log'!#REF!),0)","v":0},{"$f":"IFERROR($E230*SUMIF('Daily Log'!#REF!,$B230,'Daily Log'!#REF!),0)","v":0},{"$f":"IFERROR($E230*SUMIF('Daily Log'!#REF!,$B230,'Daily Log'!#REF!),0)","v":0},{"$f":"IFERROR($E230*SUMIF('Daily Log'!#REF!,$B230,'Daily Log'!#REF!),0)","v":0},{"$f":"IFERROR($E230*SUMIF('Daily Log'!#REF!,$B230,'Daily Log'!#REF!),0)","v":0},{"$f":"IFERROR($E230*SUMIF('Daily Log'!#REF!,$B230,'Daily Log'!#REF!),0)","v":0},{"$f":"IFERROR($E230*SUMIF('Daily Log'!#REF!,$B230,'Daily Log'!#REF!),0)","v":0},{"$f":"IFERROR($E230*SUMIF('Daily Log'!#REF!,$B230,'Daily Log'!#REF!),0)","v":0},{"$f":"IFERROR($E230*SUMIF('Daily Log'!#REF!,$B230,'Daily Log'!#REF!),0)","v":0},{"$f":"IFERROR($E230*SUMIF('Daily Log'!#REF!,$B230,'Daily Log'!#REF!),0)","v":0},{"$f":"IFERROR($E230*SUMIF('Daily Log'!#REF!,$B230,'Daily Log'!#REF!),0)","v":0},{"$f":"IFERROR($E230*SUMIF('Daily Log'!#REF!,$B230,'Daily Log'!#REF!),0)","v":0},{"$f":"IFERROR($E230*SUMIF('Daily Log'!#REF!,$B230,'Daily Log'!#REF!),0)","v":0},{"$f":"IFERROR($E230*SUMIF('Daily Log'!#REF!,$B230,'Daily Log'!#REF!),0)","v":0}]
[null,"DI15 91306:SLVR FISH",null,"KLKD-APPETIZER",1,0,{"$f":"IFERROR($E231*SUMIF('Daily Log'!$B$18:$B$1017,$B231,'Daily Log'!$C$18:$C$1017),0)","v":0},{"$f":"IFERROR($E231*SUMIF('Daily Log'!$E$18:$E$1017,$B231,'Daily Log'!$F$18:$F$1017),0)","v":0},{"$f":"IFERROR($E231*SUMIF('Daily Log'!$H$18:$H$1017,$B231,'Daily Log'!$I$18:$I$1017),0)","v":0},{"$f":"IFERROR($E231*SUMIF('Daily Log'!$K$18:$K$1017,$B231,'Daily Log'!$L$18:$L$1017),0)","v":0},{"$f":"IFERROR($E231*SUMIF('Daily Log'!$N$18:$N$1017,$B231,'Daily Log'!$O$18:$O$1017),0)","v":0},{"$f":"IFERROR($E231*SUMIF('Daily Log'!#REF!,$B231,'Daily Log'!#REF!),0)","v":0},{"$f":"IFERROR($E231*SUMIF('Daily Log'!#REF!,$B231,'Daily Log'!#REF!),0)","v":0},{"$f":"IFERROR($E231*SUMIF('Daily Log'!#REF!,$B231,'Daily Log'!#REF!),0)","v":0},{"$f":"IFERROR($E231*SUMIF('Daily Log'!#REF!,$B231,'Daily Log'!#REF!),0)","v":0},{"$f":"IFERROR($E231*SUMIF('Daily Log'!#REF!,$B231,'Daily Log'!#REF!),0)","v":0},{"$f":"IFERROR($E231*SUMIF('Daily Log'!#REF!,$B231,'Daily Log'!#REF!),0)","v":0},{"$f":"IFERROR($E231*SUMIF('Daily Log'!#REF!,$B231,'Daily Log'!#REF!),0)","v":0},{"$f":"IFERROR($E231*SUMIF('Daily Log'!#REF!,$B231,'Daily Log'!#REF!),0)","v":0},{"$f":"IFERROR($E231*SUMIF('Daily Log'!#REF!,$B231,'Daily Log'!#REF!),0)","v":0},{"$f":"IFERROR($E231*SUMIF('Daily Log'!#REF!,$B231,'Daily Log'!#REF!),0)","v":0},{"$f":"IFERROR($E231*SUMIF('Daily Log'!#REF!,$B231,'Daily Log'!#REF!),0)","v":0},{"$f":"IFERROR($E231*SUMIF('Daily Log'!#REF!,$B231,'Daily Log'!#REF!),0)","v":0},{"$f":"IFERROR($E231*SUMIF('Daily Log'!#REF!,$B231,'Daily Log'!#REF!),0)","v":0},{"$f":"IFERROR($E231*SUMIF('Daily Log'!#REF!,$B231,'Daily Log'!#REF!),0)","v":0},{"$f":"IFERROR($E231*SUMIF('Daily Log'!#REF!,$B231,'Daily Log'!#REF!),0)","v":0},{"$f":"IFERROR($E231*SUMIF('Daily Log'!#REF!,$B231,'Daily Log'!#REF!),0)","v":0},{"$f":"IFERROR($E231*SUMIF('Daily Log'!#REF!,$B231,'Daily Log'!#REF!),0)","v":0},{"$f":"IFERROR($E231*SUMIF('Daily Log'!#REF!,$B231,'Daily Log'!#REF!),0)","v":0},{"$f":"IFERROR($E231*SUMIF('Daily Log'!#REF!,$B231,'Daily Log'!#REF!),0)","v":0},{"$f":"IFERROR($E231*SUMIF('Daily Log'!#REF!,$B231,'Daily Log'!#REF!),0)","v":0},{"$f":"IFERROR($E231*SUMIF('Daily Log'!#REF!,$B231,'Daily Log'!#REF!),0)","v":0},{"$f":"IFERROR($E231*SUMIF('Daily Log'!#REF!,$B231,'Daily Log'!#REF!),0)","v":0},{"$f":"IFERROR($E231*SUMIF('Daily Log'!#REF!,$B231,'Daily Log'!#REF!),0)","v":0},{"$f":"IFERROR($E231*SUMIF('Daily Log'!#REF!,$B231,'Daily Log'!#REF!),0)","v":0},{"$f":"IFERROR($E231*SUMIF('Daily Log'!#REF!,$B231,'Daily Log'!#REF!),0)","v":0},{"$f":"IFERROR($E231*SUMIF('Daily Log'!#REF!,$B231,'Daily Log'!#REF!),0)","v":0}]
[null,"DI16 91307:D/F C.WING",null,"KLKD-APPETIZER",1,5,{"$f":"IFERROR($E232*SUMIF('Daily Log'!$B$18:$B$1017,$B232,'Daily Log'!$C$18:$C$1017),0)","v":2},{"$f":"IFERROR($E232*SUMIF('Daily Log'!$E$18:$E$1017,$B232,'Daily Log'!$F$18:$F$1017),0)","v":0},{"$f":"IFERROR($E232*SUMIF('Daily Log'!$H$18:$H$1017,$B232,'Daily Log'!$I$18:$I$1017),0)","v":0},{"$f":"IFERROR($E232*SUMIF('Daily Log'!$K$18:$K$1017,$B232,'Daily Log'!$L$18:$L$1017),0)","v":0},{"$f":"IFERROR($E232*SUMIF('Daily Log'!$N$18:$N$1017,$B232,'Daily Log'!$O$18:$O$1017),0)","v":3},{"$f":"IFERROR($E232*SUMIF('Daily Log'!#REF!,$B232,'Daily Log'!#REF!),0)","v":0},{"$f":"IFERROR($E232*SUMIF('Daily Log'!#REF!,$B232,'Daily Log'!#REF!),0)","v":0},{"$f":"IFERROR($E232*SUMIF('Daily Log'!#REF!,$B232,'Daily Log'!#REF!),0)","v":0},{"$f":"IFERROR($E232*SUMIF('Daily Log'!#REF!,$B232,'Daily Log'!#REF!),0)","v":0},{"$f":"IFERROR($E232*SUMIF('Daily Log'!#REF!,$B232,'Daily Log'!#REF!),0)","v":0},{"$f":"IFERROR($E232*SUMIF('Daily Log'!#REF!,$B232,'Daily Log'!#REF!),0)","v":0},{"$f":"IFERROR($E232*SUMIF('Daily Log'!#REF!,$B232,'Daily Log'!#REF!),0)","v":0},{"$f":"IFERROR($E232*SUMIF('Daily Log'!#REF!,$B232,'Daily Log'!#REF!),0)","v":0},{"$f":"IFERROR($E232*SUMIF('Daily Log'!#REF!,$B232,'Daily Log'!#REF!),0)","v":0},{"$f":"IFERROR($E232*SUMIF('Daily Log'!#REF!,$B232,'Daily Log'!#REF!),0)","v":0},{"$f":"IFERROR($E232*SUMIF('Daily Log'!#REF!,$B232,'Daily Log'!#REF!),0)","v":0},{"$f":"IFERROR($E232*SUMIF('Daily Log'!#REF!,$B232,'Daily Log'!#REF!),0)","v":0},{"$f":"IFERROR($E232*SUMIF('Daily Log'!#REF!,$B232,'Daily Log'!#REF!),0)","v":0},{"$f":"IFERROR($E232*SUMIF('Daily Log'!#REF!,$B232,'Daily Log'!#REF!),0)","v":0},{"$f":"IFERROR($E232*SUMIF('Daily Log'!#REF!,$B232,'Daily Log'!#REF!),0)","v":0},{"$f":"IFERROR($E232*SUMIF('Daily Log'!#REF!,$B232,'Daily Log'!#REF!),0)","v":0},{"$f":"IFERROR($E232*SUMIF('Daily Log'!#REF!,$B232,'Daily Log'!#REF!),0)","v":0},{"$f":"IFERROR($E232*SUMIF('Daily Log'!#REF!,$B232,'Daily Log'!#REF!),0)","v":0},{"$f":"IFERROR($E232*SUMIF('Daily Log'!#REF!,$B232,'Daily Log'!#REF!),0)","v":0},{"$f":"IFERROR($E232*SUMIF('Daily Log'!#REF!,$B232,'Daily Log'!#REF!),0)","v":0},{"$f":"IFERROR($E232*SUMIF('Daily Log'!#REF!,$B232,'Daily Log'!#REF!),0)","v":0},{"$f":"IFERROR($E232*SUMIF('Daily Log'!#REF!,$B232,'Daily Log'!#REF!),0)","v":0},{"$f":"IFERROR($E232*SUMIF('Daily Log'!#REF!,$B232,'Daily Log'!#REF!),0)","v":0},{"$f":"IFERROR($E232*SUMIF('Daily Log'!#REF!,$B232,'Daily Log'!#REF!),0)","v":0},{"$f":"IFERROR($E232*SUMIF('Daily Log'!#REF!,$B232,'Daily Log'!#REF!),0)","v":0},{"$f":"IFERROR($E232*SUMIF('Daily Log'!#REF!,$B232,'Daily Log'!#REF!),0)","v":0}]
[null,"DI17 91308:C/CALAMARI",null,"KLKD-APPETIZER",1,2,{"$f":"IFERROR($E233*SUMIF('Daily Log'!$B$18:$B$1017,$B233,'Daily Log'!$C$18:$C$1017),0)","v":1},{"$f":"IFERROR($E233*SUMIF('Daily Log'!$E$18:$E$1017,$B233,'Daily Log'!$F$18:$F$1017),0)","v":0},{"$f":"IFERROR($E233*SUMIF('Daily Log'!$H$18:$H$1017,$B233,'Daily Log'!$I$18:$I$1017),0)","v":0},{"$f":"IFERROR($E233*SUMIF('Daily Log'!$K$18:$K$1017,$B233,'Daily Log'!$L$18:$L$1017),0)","v":1},{"$f":"IFERROR($E233*SUMIF('Daily Log'!$N$18:$N$1017,$B233,'Daily Log'!$O$18:$O$1017),0)","v":0},{"$f":"IFERROR($E233*SUMIF('Daily Log'!#REF!,$B233,'Daily Log'!#REF!),0)","v":0},{"$f":"IFERROR($E233*SUMIF('Daily Log'!#REF!,$B233,'Daily Log'!#REF!),0)","v":0},{"$f":"IFERROR($E233*SUMIF('Daily Log'!#REF!,$B233,'Daily Log'!#REF!),0)","v":0},{"$f":"IFERROR($E233*SUMIF('Daily Log'!#REF!,$B233,'Daily Log'!#REF!),0)","v":0},{"$f":"IFERROR($E233*SUMIF('Daily Log'!#REF!,$B233,'Daily Log'!#REF!),0)","v":0},{"$f":"IFERROR($E233*SUMIF('Daily Log'!#REF!,$B233,'Daily Log'!#REF!),0)","v":0},{"$f":"IFERROR($E233*SUMIF('Daily Log'!#REF!,$B233,'Daily Log'!#REF!),0)","v":0},{"$f":"IFERROR($E233*SUMIF('Daily Log'!#REF!,$B233,'Daily Log'!#REF!),0)","v":0},{"$f":"IFERROR($E233*SUMIF('Daily Log'!#REF!,$B233,'Daily Log'!#REF!),0)","v":0},{"$f":"IFERROR($E233*SUMIF('Daily Log'!#REF!,$B233,'Daily Log'!#REF!),0)","v":0},{"$f":"IFERROR($E233*SUMIF('Daily Log'!#REF!,$B233,'Daily Log'!#REF!),0)","v":0},{"$f":"IFERROR($E233*SUMIF('Daily Log'!#REF!,$B233,'Daily Log'!#REF!),0)","v":0},{"$f":"IFERROR($E233*SUMIF('Daily Log'!#REF!,$B233,'Daily Log'!#REF!),0)","v":0},{"$f":"IFERROR($E233*SUMIF('Daily Log'!#REF!,$B233,'Daily Log'!#REF!),0)","v":0},{"$f":"IFERROR($E233*SUMIF('Daily Log'!#REF!,$B233,'Daily Log'!#REF!),0)","v":0},{"$f":"IFERROR($E233*SUMIF('Daily Log'!#REF!,$B233,'Daily Log'!#REF!),0)","v":0},{"$f":"IFERROR($E233*SUMIF('Daily Log'!#REF!,$B233,'Daily Log'!#REF!),0)","v":0},{"$f":"IFERROR($E233*SUMIF('Daily Log'!#REF!,$B233,'Daily Log'!#REF!),0)","v":0},{"$f":"IFERROR($E233*SUMIF('Daily Log'!#REF!,$B233,'Daily Log'!#REF!),0)","v":0},{"$f":"IFERROR($E233*SUMIF('Daily Log'!#REF!,$B233,'Daily Log'!#REF!),0)","v":0},{"$f":"IFERROR($E233*SUMIF('Daily Log'!#REF!,$B233,'Daily Log'!#REF!),0)","v":0},{"$f":"IFERROR($E233*SUMIF('Daily Log'!#REF!,$B233,'Daily Log'!#REF!),0)","v":0},{"$f":"IFERROR($E233*SUMIF('Daily Log'!#REF!,$B233,'Daily Log'!#REF!),0)","v":0},{"$f":"IFERROR($E233*SUMIF('Daily Log'!#REF!,$B233,'Daily Log'!#REF!),0)","v":0},{"$f":"IFERROR($E233*SUMIF('Daily Log'!#REF!,$B233,'Daily Log'!#REF!),0)","v":0},{"$f":"IFERROR($E233*SUMIF('Daily Log'!#REF!,$B233,'Daily Log'!#REF!),0)","v":0}]
[null,"DI18 91309:Mc O.RINGS",null,"KLKD-APPETIZER",1,0,{"$f":"IFERROR($E234*SUMIF('Daily Log'!$B$18:$B$1017,$B234,'Daily Log'!$C$18:$C$1017),0)","v":0},{"$f":"IFERROR($E234*SUMIF('Daily Log'!$E$18:$E$1017,$B234,'Daily Log'!$F$18:$F$1017),0)","v":0},{"$f":"IFERROR($E234*SUMIF('Daily Log'!$H$18:$H$1017,$B234,'Daily Log'!$I$18:$I$1017),0)","v":0},{"$f":"IFERROR($E234*SUMIF('Daily Log'!$K$18:$K$1017,$B234,'Daily Log'!$L$18:$L$1017),0)","v":0},{"$f":"IFERROR($E234*SUMIF('Daily Log'!$N$18:$N$1017,$B234,'Daily Log'!$O$18:$O$1017),0)","v":0},{"$f":"IFERROR($E234*SUMIF('Daily Log'!#REF!,$B234,'Daily Log'!#REF!),0)","v":0},{"$f":"IFERROR($E234*SUMIF('Daily Log'!#REF!,$B234,'Daily Log'!#REF!),0)","v":0},{"$f":"IFERROR($E234*SUMIF('Daily Log'!#REF!,$B234,'Daily Log'!#REF!),0)","v":0},{"$f":"IFERROR($E234*SUMIF('Daily Log'!#REF!,$B234,'Daily Log'!#REF!),0)","v":0},{"$f":"IFERROR($E234*SUMIF('Daily Log'!#REF!,$B234,'Daily Log'!#REF!),0)","v":0},{"$f":"IFERROR($E234*SUMIF('Daily Log'!#REF!,$B234,'Daily Log'!#REF!),0)","v":0},{"$f":"IFERROR($E234*SUMIF('Daily Log'!#REF!,$B234,'Daily Log'!#REF!),0)","v":0},{"$f":"IFERROR($E234*SUMIF('Daily Log'!#REF!,$B234,'Daily Log'!#REF!),0)","v":0},{"$f":"IFERROR($E234*SUMIF('Daily Log'!#REF!,$B234,'Daily Log'!#REF!),0)","v":0},{"$f":"IFERROR($E234*SUMIF('Daily Log'!#REF!,$B234,'Daily Log'!#REF!),0)","v":0},{"$f":"IFERROR($E234*SUMIF('Daily Log'!#REF!,$B234,'Daily Log'!#REF!),0)","v":0},{"$f":"IFERROR($E234*SUMIF('Daily Log'!#REF!,$B234,'Daily Log'!#REF!),0)","v":0},{"$f":"IFERROR($E234*SUMIF('Daily Log'!#REF!,$B234,'Daily Log'!#REF!),0)","v":0},{"$f":"IFERROR($E234*SUMIF('Daily Log'!#REF!,$B234,'Daily Log'!#REF!),0)","v":0},{"$f":"IFERROR($E234*SUMIF('Daily Log'!#REF!,$B234,'Daily Log'!#REF!),0)","v":0},{"$f":"IFERROR($E234*SUMIF('Daily Log'!#REF!,$B234,'Daily Log'!#REF!),0)","v":0},{"$f":"IFERROR($E234*SUMIF('Daily Log'!#REF!,$B234,'Daily Log'!#REF!),0)","v":0},{"$f":"IFERROR($E234*SUMIF('Daily Log'!#REF!,$B234,'Daily Log'!#REF!),0)","v":0},{"$f":"IFERROR($E234*SUMIF('Daily Log'!#REF!,$B234,'Daily Log'!#REF!),0)","v":0},{"$f":"IFERROR($E234*SUMIF('Daily Log'!#REF!,$B234,'Daily Log'!#REF!),0)","v":0},{"$f":"IFERROR($E234*SUMIF('Daily Log'!#REF!,$B234,'Daily Log'!#REF!),0)","v":0},{"$f":"IFERROR($E234*SUMIF('Daily Log'!#REF!,$B234,'Daily Log'!#REF!),0)","v":0},{"$f":"IFERROR($E234*SUMIF('Daily Log'!#REF!,$B234,'Daily Log'!#REF!),0)","v":0},{"$f":"IFERROR($E234*SUMIF('Daily Log'!#REF!,$B234,'Daily Log'!#REF!),0)","v":0},{"$f":"IFERROR($E234*SUMIF('Daily Log'!#REF!,$B234,'Daily Log'!#REF!),0)","v":0},{"$f":"IFERROR($E234*SUMIF('Daily Log'!#REF!,$B234,'Daily Log'!#REF!),0)","v":0}]
[null,"DI19 91310:McSPIRAL.F",null,"KLKD-APPETIZER",1,3,{"$f":"IFERROR($E235*SUMIF('Daily Log'!$B$18:$B$1017,$B235,'Daily Log'!$C$18:$C$1017),0)","v":1},{"$f":"IFERROR($E235*SUMIF('Daily Log'!$E$18:$E$1017,$B235,'Daily Log'!$F$18:$F$1017),0)","v":1},{"$f":"IFERROR($E235*SUMIF('Daily Log'!$H$18:$H$1017,$B235,'Daily Log'!$I$18:$I$1017),0)","v":0},{"$f":"IFERROR($E235*SUMIF('Daily Log'!$K$18:$K$1017,$B235,'Daily Log'!$L$18:$L$1017),0)","v":1},{"$f":"IFERROR($E235*SUMIF('Daily Log'!$N$18:$N$1017,$B235,'Daily Log'!$O$18:$O$1017),0)","v":0},{"$f":"IFERROR($E235*SUMIF('Daily Log'!#REF!,$B235,'Daily Log'!#REF!),0)","v":0},{"$f":"IFERROR($E235*SUMIF('Daily Log'!#REF!,$B235,'Daily Log'!#REF!),0)","v":0},{"$f":"IFERROR($E235*SUMIF('Daily Log'!#REF!,$B235,'Daily Log'!#REF!),0)","v":0},{"$f":"IFERROR($E235*SUMIF('Daily Log'!#REF!,$B235,'Daily Log'!#REF!),0)","v":0},{"$f":"IFERROR($E235*SUMIF('Daily Log'!#REF!,$B235,'Daily Log'!#REF!),0)","v":0},{"$f":"IFERROR($E235*SUMIF('Daily Log'!#REF!,$B235,'Daily Log'!#REF!),0)","v":0},{"$f":"IFERROR($E235*SUMIF('Daily Log'!#REF!,$B235,'Daily Log'!#REF!),0)","v":0},{"$f":"IFERROR($E235*SUMIF('Daily Log'!#REF!,$B235,'Daily Log'!#REF!),0)","v":0},{"$f":"IFERROR($E235*SUMIF('Daily Log'!#REF!,$B235,'Daily Log'!#REF!),0)","v":0},{"$f":"IFERROR($E235*SUMIF('Daily Log'!#REF!,$B235,'Daily Log'!#REF!),0)","v":0},{"$f":"IFERROR($E235*SUMIF('Daily Log'!#REF!,$B235,'Daily Log'!#REF!),0)","v":0},{"$f":"IFERROR($E235*SUMIF('Daily Log'!#REF!,$B235,'Daily Log'!#REF!),0)","v":0},{"$f":"IFERROR($E235*SUMIF('Daily Log'!#REF!,$B235,'Daily Log'!#REF!),0)","v":0},{"$f":"IFERROR($E235*SUMIF('Daily Log'!#REF!,$B235,'Daily Log'!#REF!),0)","v":0},{"$f":"IFERROR($E235*SUMIF('Daily Log'!#REF!,$B235,'Daily Log'!#REF!),0)","v":0},{"$f":"IFERROR($E235*SUMIF('Daily Log'!#REF!,$B235,'Daily Log'!#REF!),0)","v":0},{"$f":"IFERROR($E235*SUMIF('Daily Log'!#REF!,$B235,'Daily Log'!#REF!),0)","v":0},{"$f":"IFERROR($E235*SUMIF('Daily Log'!#REF!,$B235,'Daily Log'!#REF!),0)","v":0},{"$f":"IFERROR($E235*SUMIF('Daily Log'!#REF!,$B235,'Daily Log'!#REF!),0)","v":0},{"$f":"IFERROR($E235*SUMIF('Daily Log'!#REF!,$B235,'Daily Log'!#REF!),0)","v":0},{"$f":"IFERROR($E235*SUMIF('Daily Log'!#REF!,$B235,'Daily Log'!#REF!),0)","v":0},{"$f":"IFERROR($E235*SUMIF('Daily Log'!#REF!,$B235,'Daily Log'!#REF!),0)","v":0},{"$f":"IFERROR($E235*SUMIF('Daily Log'!#REF!,$B235,'Daily Log'!#REF!),0)","v":0},{"$f":"IFERROR($E235*SUMIF('Daily Log'!#REF!,$B235,'Daily Log'!#REF!),0)","v":0},{"$f":"IFERROR($E235*SUMIF('Daily Log'!#REF!,$B235,'Daily Log'!#REF!),0)","v":0},{"$f":"IFERROR($E235*SUMIF('Daily Log'!#REF!,$B235,'Daily Log'!#REF!),0)","v":0}]
[null,"DI20 91311Mc H/SMILES",null,"KLKD-APPETIZER",1,0,{"$f":"IFERROR($E236*SUMIF('Daily Log'!$B$18:$B$1017,$B236,'Daily Log'!$C$18:$C$1017),0)","v":0},{"$f":"IFERROR($E236*SUMIF('Daily Log'!$E$18:$E$1017,$B236,'Daily Log'!$F$18:$F$1017),0)","v":0},{"$f":"IFERROR($E236*SUMIF('Daily Log'!$H$18:$H$1017,$B236,'Daily Log'!$I$18:$I$1017),0)","v":0},{"$f":"IFERROR($E236*SUMIF('Daily Log'!$K$18:$K$1017,$B236,'Daily Log'!$L$18:$L$1017),0)","v":0},{"$f":"IFERROR($E236*SUMIF('Daily Log'!$N$18:$N$1017,$B236,'Daily Log'!$O$18:$O$1017),0)","v":0},{"$f":"IFERROR($E236*SUMIF('Daily Log'!#REF!,$B236,'Daily Log'!#REF!),0)","v":0},{"$f":"IFERROR($E236*SUMIF('Daily Log'!#REF!,$B236,'Daily Log'!#REF!),0)","v":0},{"$f":"IFERROR($E236*SUMIF('Daily Log'!#REF!,$B236,'Daily Log'!#REF!),0)","v":0},{"$f":"IFERROR($E236*SUMIF('Daily Log'!#REF!,$B236,'Daily Log'!#REF!),0)","v":0},{"$f":"IFERROR($E236*SUMIF('Daily Log'!#REF!,$B236,'Daily Log'!#REF!),0)","v":0},{"$f":"IFERROR($E236*SUMIF('Daily Log'!#REF!,$B236,'Daily Log'!#REF!),0)","v":0},{"$f":"IFERROR($E236*SUMIF('Daily Log'!#REF!,$B236,'Daily Log'!#REF!),0)","v":0},{"$f":"IFERROR($E236*SUMIF('Daily Log'!#REF!,$B236,'Daily Log'!#REF!),0)","v":0},{"$f":"IFERROR($E236*SUMIF('Daily Log'!#REF!,$B236,'Daily Log'!#REF!),0)","v":0},{"$f":"IFERROR($E236*SUMIF('Daily Log'!#REF!,$B236,'Daily Log'!#REF!),0)","v":0},{"$f":"IFERROR($E236*SUMIF('Daily Log'!#REF!,$B236,'Daily Log'!#REF!),0)","v":0},{"$f":"IFERROR($E236*SUMIF('Daily Log'!#REF!,$B236,'Daily Log'!#REF!),0)","v":0},{"$f":"IFERROR($E236*SUMIF('Daily Log'!#REF!,$B236,'Daily Log'!#REF!),0)","v":0},{"$f":"IFERROR($E236*SUMIF('Daily Log'!#REF!,$B236,'Daily Log'!#REF!),0)","v":0},{"$f":"IFERROR($E236*SUMIF('Daily Log'!#REF!,$B236,'Daily Log'!#REF!),0)","v":0},{"$f":"IFERROR($E236*SUMIF('Daily Log'!#REF!,$B236,'Daily Log'!#REF!),0)","v":0},{"$f":"IFERROR($E236*SUMIF('Daily Log'!#REF!,$B236,'Daily Log'!#REF!),0)","v":0},{"$f":"IFERROR($E236*SUMIF('Daily Log'!#REF!,$B236,'Daily Log'!#REF!),0)","v":0},{"$f":"IFERROR($E236*SUMIF('Daily Log'!#REF!,$B236,'Daily Log'!#REF!),0)","v":0},{"$f":"IFERROR($E236*SUMIF('Daily Log'!#REF!,$B236,'Daily Log'!#REF!),0)","v":0},{"$f":"IFERROR($E236*SUMIF('Daily Log'!#REF!,$B236,'Daily Log'!#REF!),0)","v":0},{"$f":"IFERROR($E236*SUMIF('Daily Log'!#REF!,$B236,'Daily Log'!#REF!),0)","v":0},{"$f":"IFERROR($E236*SUMIF('Daily Log'!#REF!,$B236,'Daily Log'!#REF!),0)","v":0},{"$f":"IFERROR($E236*SUMIF('Daily Log'!#REF!,$B236,'Daily Log'!#REF!),0)","v":0},{"$f":"IFERROR($E236*SUMIF('Daily Log'!#REF!,$B236,'Daily Log'!#REF!),0)","v":0},{"$f":"IFERROR($E236*SUMIF('Daily Log'!#REF!,$B236,'Daily Log'!#REF!),0)","v":0}]
[null,"DI21 91312:Mc HASH.B",null,"KLKD-APPETIZER",1,0,{"$f":"IFERROR($E237*SUMIF('Daily Log'!$B$18:$B$1017,$B237,'Daily Log'!$C$18:$C$1017),0)","v":0},{"$f":"IFERROR($E237*SUMIF('Daily Log'!$E$18:$E$1017,$B237,'Daily Log'!$F$18:$F$1017),0)","v":0},{"$f":"IFERROR($E237*SUMIF('Daily Log'!$H$18:$H$1017,$B237,'Daily Log'!$I$18:$I$1017),0)","v":0},{"$f":"IFERROR($E237*SUMIF('Daily Log'!$K$18:$K$1017,$B237,'Daily Log'!$L$18:$L$1017),0)","v":0},{"$f":"IFERROR($E237*SUMIF('Daily Log'!$N$18:$N$1017,$B237,'Daily Log'!$O$18:$O$1017),0)","v":0},{"$f":"IFERROR($E237*SUMIF('Daily Log'!#REF!,$B237,'Daily Log'!#REF!),0)","v":0},{"$f":"IFERROR($E237*SUMIF('Daily Log'!#REF!,$B237,'Daily Log'!#REF!),0)","v":0},{"$f":"IFERROR($E237*SUMIF('Daily Log'!#REF!,$B237,'Daily Log'!#REF!),0)","v":0},{"$f":"IFERROR($E237*SUMIF('Daily Log'!#REF!,$B237,'Daily Log'!#REF!),0)","v":0},{"$f":"IFERROR($E237*SUMIF('Daily Log'!#REF!,$B237,'Daily Log'!#REF!),0)","v":0},{"$f":"IFERROR($E237*SUMIF('Daily Log'!#REF!,$B237,'Daily Log'!#REF!),0)","v":0},{"$f":"IFERROR($E237*SUMIF('Daily Log'!#REF!,$B237,'Daily Log'!#REF!),0)","v":0},{"$f":"IFERROR($E237*SUMIF('Daily Log'!#REF!,$B237,'Daily Log'!#REF!),0)","v":0},{"$f":"IFERROR($E237*SUMIF('Daily Log'!#REF!,$B237,'Daily Log'!#REF!),0)","v":0},{"$f":"IFERROR($E237*SUMIF('Daily Log'!#REF!,$B237,'Daily Log'!#REF!),0)","v":0},{"$f":"IFERROR($E237*SUMIF('Daily Log'!#REF!,$B237,'Daily Log'!#REF!),0)","v":0},{"$f":"IFERROR($E237*SUMIF('Daily Log'!#REF!,$B237,'Daily Log'!#REF!),0)","v":0},{"$f":"IFERROR($E237*SUMIF('Daily Log'!#REF!,$B237,'Daily Log'!#REF!),0)","v":0},{"$f":"IFERROR($E237*SUMIF('Daily Log'!#REF!,$B237,'Daily Log'!#REF!),0)","v":0},{"$f":"IFERROR($E237*SUMIF('Daily Log'!#REF!,$B237,'Daily Log'!#REF!),0)","v":0},{"$f":"IFERROR($E237*SUMIF('Daily Log'!#REF!,$B237,'Daily Log'!#REF!),0)","v":0},{"$f":"IFERROR($E237*SUMIF('Daily Log'!#REF!,$B237,'Daily Log'!#REF!),0)","v":0},{"$f":"IFERROR($E237*SUMIF('Daily Log'!#REF!,$B237,'Daily Log'!#REF!),0)","v":0},{"$f":"IFERROR($E237*SUMIF('Daily Log'!#REF!,$B237,'Daily Log'!#REF!),0)","v":0},{"$f":"IFERROR($E237*SUMIF('Daily Log'!#REF!,$B237,'Daily Log'!#REF!),0)","v":0},{"$f":"IFERROR($E237*SUMIF('Daily Log'!#REF!,$B237,'Daily Log'!#REF!),0)","v":0},{"$f":"IFERROR($E237*SUMIF('Daily Log'!#REF!,$B237,'Daily Log'!#REF!),0)","v":0},{"$f":"IFERROR($E237*SUMIF('Daily Log'!#REF!,$B237,'Daily Log'!#REF!),0)","v":0},{"$f":"IFERROR($E237*SUMIF('Daily Log'!#REF!,$B237,'Daily Log'!#REF!),0)","v":0},{"$f":"IFERROR($E237*SUMIF('Daily Log'!#REF!,$B237,'Daily Log'!#REF!),0)","v":0},{"$f":"IFERROR($E237*SUMIF('Daily Log'!#REF!,$B237,'Daily Log'!#REF!),0)","v":0}]
[null,"DL01 3001:6'HAWAIIAN",null,"SIDE ORDER -APPETIZER (PIZZA)",1,{"$f":"SUM($G238:$AK238)","v":1},{"$f":"IFERROR($E238*SUMIF('Daily Log'!$B$18:$B$1017,$B238,'Daily Log'!$C$18:$C$1017),0)","v":0},{"$f":"IFERROR($E238*SUMIF('Daily Log'!$E$18:$E$1017,$B238,'Daily Log'!$F$18:$F$1017),0)","v":0},{"$f":"IFERROR($E238*SUMIF('Daily Log'!$H$18:$H$1017,$B238,'Daily Log'!$I$18:$I$1017),0)","v":0},{"$f":"IFERROR($E238*SUMIF('Daily Log'!$K$18:$K$1017,$B238,'Daily Log'!$L$18:$L$1017),0)","v":1},{"$f":"IFERROR($E238*SUMIF('Daily Log'!$N$18:$N$1017,$B238,'Daily Log'!$O$18:$O$1017),0)","v":0},{"$f":"IFERROR($E238*SUMIF('Daily Log'!#REF!,$B238,'Daily Log'!#REF!),0)","v":0},{"$f":"IFERROR($E238*SUMIF('Daily Log'!#REF!,$B238,'Daily Log'!#REF!),0)","v":0},{"$f":"IFERROR($E238*SUMIF('Daily Log'!#REF!,$B238,'Daily Log'!#REF!),0)","v":0},{"$f":"IFERROR($E238*SUMIF('Daily Log'!#REF!,$B238,'Daily Log'!#REF!),0)","v":0},{"$f":"IFERROR($E238*SUMIF('Daily Log'!#REF!,$B238,'Daily Log'!#REF!),0)","v":0},{"$f":"IFERROR($E238*SUMIF('Daily Log'!#REF!,$B238,'Daily Log'!#REF!),0)","v":0},{"$f":"IFERROR($E238*SUMIF('Daily Log'!#REF!,$B238,'Daily Log'!#REF!),0)","v":0},{"$f":"IFERROR($E238*SUMIF('Daily Log'!#REF!,$B238,'Daily Log'!#REF!),0)","v":0},{"$f":"IFERROR($E238*SUMIF('Daily Log'!#REF!,$B238,'Daily Log'!#REF!),0)","v":0},{"$f":"IFERROR($E238*SUMIF('Daily Log'!#REF!,$B238,'Daily Log'!#REF!),0)","v":0},{"$f":"IFERROR($E238*SUMIF('Daily Log'!#REF!,$B238,'Daily Log'!#REF!),0)","v":0},{"$f":"IFERROR($E238*SUMIF('Daily Log'!#REF!,$B238,'Daily Log'!#REF!),0)","v":0},{"$f":"IFERROR($E238*SUMIF('Daily Log'!#REF!,$B238,'Daily Log'!#REF!),0)","v":0},{"$f":"IFERROR($E238*SUMIF('Daily Log'!#REF!,$B238,'Daily Log'!#REF!),0)","v":0},{"$f":"IFERROR($E238*SUMIF('Daily Log'!#REF!,$B238,'Daily Log'!#REF!),0)","v":0},{"$f":"IFERROR($E238*SUMIF('Daily Log'!#REF!,$B238,'Daily Log'!#REF!),0)","v":0},{"$f":"IFERROR($E238*SUMIF('Daily Log'!#REF!,$B238,'Daily Log'!#REF!),0)","v":0},{"$f":"IFERROR($E238*SUMIF('Daily Log'!#REF!,$B238,'Daily Log'!#REF!),0)","v":0},{"$f":"IFERROR($E238*SUMIF('Daily Log'!#REF!,$B238,'Daily Log'!#REF!),0)","v":0},{"$f":"IFERROR($E238*SUMIF('Daily Log'!#REF!,$B238,'Daily Log'!#REF!),0)","v":0},{"$f":"IFERROR($E238*SUMIF('Daily Log'!#REF!,$B238,'Daily Log'!#REF!),0)","v":0},{"$f":"IFERROR($E238*SUMIF('Daily Log'!#REF!,$B238,'Daily Log'!#REF!),0)","v":0},{"$f":"IFERROR($E238*SUMIF('Daily Log'!#REF!,$B238,'Daily Log'!#REF!),0)","v":0},{"$f":"IFERROR($E238*SUMIF('Daily Log'!#REF!,$B238,'Daily Log'!#REF!),0)","v":0},{"$f":"IFERROR($E238*SUMIF('Daily Log'!#REF!,$B238,'Daily Log'!#REF!),0)","v":0},{"$f":"IFERROR($E238*SUMIF('Daily Log'!#REF!,$B238,'Daily Log'!#REF!),0)","v":0}]
[null,"DL02 3002:6'SMOKE BBQ",null,"SIDE ORDER -APPETIZER (PIZZA)",1,0,{"$f":"IFERROR($E239*SUMIF('Daily Log'!$B$18:$B$1017,$B239,'Daily Log'!$C$18:$C$1017),0)","v":0},{"$f":"IFERROR($E239*SUMIF('Daily Log'!$E$18:$E$1017,$B239,'Daily Log'!$F$18:$F$1017),0)","v":0},{"$f":"IFERROR($E239*SUMIF('Daily Log'!$H$18:$H$1017,$B239,'Daily Log'!$I$18:$I$1017),0)","v":0},{"$f":"IFERROR($E239*SUMIF('Daily Log'!$K$18:$K$1017,$B239,'Daily Log'!$L$18:$L$1017),0)","v":0},{"$f":"IFERROR($E239*SUMIF('Daily Log'!$N$18:$N$1017,$B239,'Daily Log'!$O$18:$O$1017),0)","v":0},{"$f":"IFERROR($E239*SUMIF('Daily Log'!#REF!,$B239,'Daily Log'!#REF!),0)","v":0},{"$f":"IFERROR($E239*SUMIF('Daily Log'!#REF!,$B239,'Daily Log'!#REF!),0)","v":0},{"$f":"IFERROR($E239*SUMIF('Daily Log'!#REF!,$B239,'Daily Log'!#REF!),0)","v":0},{"$f":"IFERROR($E239*SUMIF('Daily Log'!#REF!,$B239,'Daily Log'!#REF!),0)","v":0},{"$f":"IFERROR($E239*SUMIF('Daily Log'!#REF!,$B239,'Daily Log'!#REF!),0)","v":0},{"$f":"IFERROR($E239*SUMIF('Daily Log'!#REF!,$B239,'Daily Log'!#REF!),0)","v":0},{"$f":"IFERROR($E239*SUMIF('Daily Log'!#REF!,$B239,'Daily Log'!#REF!),0)","v":0},{"$f":"IFERROR($E239*SUMIF('Daily Log'!#REF!,$B239,'Daily Log'!#REF!),0)","v":0},{"$f":"IFERROR($E239*SUMIF('Daily Log'!#REF!,$B239,'Daily Log'!#REF!),0)","v":0},{"$f":"IFERROR($E239*SUMIF('Daily Log'!#REF!,$B239,'Daily Log'!#REF!),0)","v":0},{"$f":"IFERROR($E239*SUMIF('Daily Log'!#REF!,$B239,'Daily Log'!#REF!),0)","v":0},{"$f":"IFERROR($E239*SUMIF('Daily Log'!#REF!,$B239,'Daily Log'!#REF!),0)","v":0},{"$f":"IFERROR($E239*SUMIF('Daily Log'!#REF!,$B239,'Daily Log'!#REF!),0)","v":0},{"$f":"IFERROR($E239*SUMIF('Daily Log'!#REF!,$B239,'Daily Log'!#REF!),0)","v":0},{"$f":"IFERROR($E239*SUMIF('Daily Log'!#REF!,$B239,'Daily Log'!#REF!),0)","v":0},{"$f":"IFERROR($E239*SUMIF('Daily Log'!#REF!,$B239,'Daily Log'!#REF!),0)","v":0},{"$f":"IFERROR($E239*SUMIF('Daily Log'!#REF!,$B239,'Daily Log'!#REF!),0)","v":0},{"$f":"IFERROR($E239*SUMIF('Daily Log'!#REF!,$B239,'Daily Log'!#REF!),0)","v":0},{"$f":"IFERROR($E239*SUMIF('Daily Log'!#REF!,$B239,'Daily Log'!#REF!),0)","v":0},{"$f":"IFERROR($E239*SUMIF('Daily Log'!#REF!,$B239,'Daily Log'!#REF!),0)","v":0},{"$f":"IFERROR($E239*SUMIF('Daily Log'!#REF!,$B239,'Daily Log'!#REF!),0)","v":0},{"$f":"IFERROR($E239*SUMIF('Daily Log'!#REF!,$B239,'Daily Log'!#REF!),0)","v":0},{"$f":"IFERROR($E239*SUMIF('Daily Log'!#REF!,$B239,'Daily Log'!#REF!),0)","v":0},{"$f":"IFERROR($E239*SUMIF('Daily Log'!#REF!,$B239,'Daily Log'!#REF!),0)","v":0},{"$f":"IFERROR($E239*SUMIF('Daily Log'!#REF!,$B239,'Daily Log'!#REF!),0)","v":0},{"$f":"IFERROR($E239*SUMIF('Daily Log'!#REF!,$B239,'Daily Log'!#REF!),0)","v":0}]
[null,"DL03 3003:6'SEAFOOD",null,"SIDE ORDER -APPETIZER (PIZZA)",1,0,{"$f":"IFERROR($E240*SUMIF('Daily Log'!$B$18:$B$1017,$B240,'Daily Log'!$C$18:$C$1017),0)","v":0},{"$f":"IFERROR($E240*SUMIF('Daily Log'!$E$18:$E$1017,$B240,'Daily Log'!$F$18:$F$1017),0)","v":0},{"$f":"IFERROR($E240*SUMIF('Daily Log'!$H$18:$H$1017,$B240,'Daily Log'!$I$18:$I$1017),0)","v":0},{"$f":"IFERROR($E240*SUMIF('Daily Log'!$K$18:$K$1017,$B240,'Daily Log'!$L$18:$L$1017),0)","v":0},{"$f":"IFERROR($E240*SUMIF('Daily Log'!$N$18:$N$1017,$B240,'Daily Log'!$O$18:$O$1017),0)","v":0},{"$f":"IFERROR($E240*SUMIF('Daily Log'!#REF!,$B240,'Daily Log'!#REF!),0)","v":0},{"$f":"IFERROR($E240*SUMIF('Daily Log'!#REF!,$B240,'Daily Log'!#REF!),0)","v":0},{"$f":"IFERROR($E240*SUMIF('Daily Log'!#REF!,$B240,'Daily Log'!#REF!),0)","v":0},{"$f":"IFERROR($E240*SUMIF('Daily Log'!#REF!,$B240,'Daily Log'!#REF!),0)","v":0},{"$f":"IFERROR($E240*SUMIF('Daily Log'!#REF!,$B240,'Daily Log'!#REF!),0)","v":0},{"$f":"IFERROR($E240*SUMIF('Daily Log'!#REF!,$B240,'Daily Log'!#REF!),0)","v":0},{"$f":"IFERROR($E240*SUMIF('Daily Log'!#REF!,$B240,'Daily Log'!#REF!),0)","v":0},{"$f":"IFERROR($E240*SUMIF('Daily Log'!#REF!,$B240,'Daily Log'!#REF!),0)","v":0},{"$f":"IFERROR($E240*SUMIF('Daily Log'!#REF!,$B240,'Daily Log'!#REF!),0)","v":0},{"$f":"IFERROR($E240*SUMIF('Daily Log'!#REF!,$B240,'Daily Log'!#REF!),0)","v":0},{"$f":"IFERROR($E240*SUMIF('Daily Log'!#REF!,$B240,'Daily Log'!#REF!),0)","v":0},{"$f":"IFERROR($E240*SUMIF('Daily Log'!#REF!,$B240,'Daily Log'!#REF!),0)","v":0},{"$f":"IFERROR($E240*SUMIF('Daily Log'!#REF!,$B240,'Daily Log'!#REF!),0)","v":0},{"$f":"IFERROR($E240*SUMIF('Daily Log'!#REF!,$B240,'Daily Log'!#REF!),0)","v":0},{"$f":"IFERROR($E240*SUMIF('Daily Log'!#REF!,$B240,'Daily Log'!#REF!),0)","v":0},{"$f":"IFERROR($E240*SUMIF('Daily Log'!#REF!,$B240,'Daily Log'!#REF!),0)","v":0},{"$f":"IFERROR($E240*SUMIF('Daily Log'!#REF!,$B240,'Daily Log'!#REF!),0)","v":0},{"$f":"IFERROR($E240*SUMIF('Daily Log'!#REF!,$B240,'Daily Log'!#REF!),0)","v":0},{"$f":"IFERROR($E240*SUMIF('Daily Log'!#REF!,$B240,'Daily Log'!#REF!),0)","v":0},{"$f":"IFERROR($E240*SUMIF('Daily Log'!#REF!,$B240,'Daily Log'!#REF!),0)","v":0},{"$f":"IFERROR($E240*SUMIF('Daily Log'!#REF!,$B240,'Daily Log'!#REF!),0)","v":0},{"$f":"IFERROR($E240*SUMIF('Daily Log'!#REF!,$B240,'Daily Log'!#REF!),0)","v":0},{"$f":"IFERROR($E240*SUMIF('Daily Log'!#REF!,$B240,'Daily Log'!#REF!),0)","v":0},{"$f":"IFERROR($E240*SUMIF('Daily Log'!#REF!,$B240,'Daily Log'!#REF!),0)","v":0},{"$f":"IFERROR($E240*SUMIF('Daily Log'!#REF!,$B240,'Daily Log'!#REF!),0)","v":0},{"$f":"IFERROR($E240*SUMIF('Daily Log'!#REF!,$B240,'Daily Log'!#REF!),0)","v":0}]
[null,"DL04 3004:6'SPICY BUF",null,"SIDE ORDER -APPETIZER (PIZZA)",1,0,{"$f":"IFERROR($E241*SUMIF('Daily Log'!$B$18:$B$1017,$B241,'Daily Log'!$C$18:$C$1017),0)","v":0},{"$f":"IFERROR($E241*SUMIF('Daily Log'!$E$18:$E$1017,$B241,'Daily Log'!$F$18:$F$1017),0)","v":0},{"$f":"IFERROR($E241*SUMIF('Daily Log'!$H$18:$H$1017,$B241,'Daily Log'!$I$18:$I$1017),0)","v":0},{"$f":"IFERROR($E241*SUMIF('Daily Log'!$K$18:$K$1017,$B241,'Daily Log'!$L$18:$L$1017),0)","v":0},{"$f":"IFERROR($E241*SUMIF('Daily Log'!$N$18:$N$1017,$B241,'Daily Log'!$O$18:$O$1017),0)","v":0},{"$f":"IFERROR($E241*SUMIF('Daily Log'!#REF!,$B241,'Daily Log'!#REF!),0)","v":0},{"$f":"IFERROR($E241*SUMIF('Daily Log'!#REF!,$B241,'Daily Log'!#REF!),0)","v":0},{"$f":"IFERROR($E241*SUMIF('Daily Log'!#REF!,$B241,'Daily Log'!#REF!),0)","v":0},{"$f":"IFERROR($E241*SUMIF('Daily Log'!#REF!,$B241,'Daily Log'!#REF!),0)","v":0},{"$f":"IFERROR($E241*SUMIF('Daily Log'!#REF!,$B241,'Daily Log'!#REF!),0)","v":0},{"$f":"IFERROR($E241*SUMIF('Daily Log'!#REF!,$B241,'Daily Log'!#REF!),0)","v":0},{"$f":"IFERROR($E241*SUMIF('Daily Log'!#REF!,$B241,'Daily Log'!#REF!),0)","v":0},{"$f":"IFERROR($E241*SUMIF('Daily Log'!#REF!,$B241,'Daily Log'!#REF!),0)","v":0},{"$f":"IFERROR($E241*SUMIF('Daily Log'!#REF!,$B241,'Daily Log'!#REF!),0)","v":0},{"$f":"IFERROR($E241*SUMIF('Daily Log'!#REF!,$B241,'Daily Log'!#REF!),0)","v":0},{"$f":"IFERROR($E241*SUMIF('Daily Log'!#REF!,$B241,'Daily Log'!#REF!),0)","v":0},{"$f":"IFERROR($E241*SUMIF('Daily Log'!#REF!,$B241,'Daily Log'!#REF!),0)","v":0},{"$f":"IFERROR($E241*SUMIF('Daily Log'!#REF!,$B241,'Daily Log'!#REF!),0)","v":0},{"$f":"IFERROR($E241*SUMIF('Daily Log'!#REF!,$B241,'Daily Log'!#REF!),0)","v":0},{"$f":"IFERROR($E241*SUMIF('Daily Log'!#REF!,$B241,'Daily Log'!#REF!),0)","v":0},{"$f":"IFERROR($E241*SUMIF('Daily Log'!#REF!,$B241,'Daily Log'!#REF!),0)","v":0},{"$f":"IFERROR($E241*SUMIF('Daily Log'!#REF!,$B241,'Daily Log'!#REF!),0)","v":0},{"$f":"IFERROR($E241*SUMIF('Daily Log'!#REF!,$B241,'Daily Log'!#REF!),0)","v":0},{"$f":"IFERROR($E241*SUMIF('Daily Log'!#REF!,$B241,'Daily Log'!#REF!),0)","v":0},{"$f":"IFERROR($E241*SUMIF('Daily Log'!#REF!,$B241,'Daily Log'!#REF!),0)","v":0},{"$f":"IFERROR($E241*SUMIF('Daily Log'!#REF!,$B241,'Daily Log'!#REF!),0)","v":0},{"$f":"IFERROR($E241*SUMIF('Daily Log'!#REF!,$B241,'Daily Log'!#REF!),0)","v":0},{"$f":"IFERROR($E241*SUMIF('Daily Log'!#REF!,$B241,'Daily Log'!#REF!),0)","v":0},{"$f":"IFERROR($E241*SUMIF('Daily Log'!#REF!,$B241,'Daily Log'!#REF!),0)","v":0},{"$f":"IFERROR($E241*SUMIF('Daily Log'!#REF!,$B241,'Daily Log'!#REF!),0)","v":0},{"$f":"IFERROR($E241*SUMIF('Daily Log'!#REF!,$B241,'Daily Log'!#REF!),0)","v":0}]
[null,"DL05 3005:6'VEGGIE",null,"SIDE ORDER -APPETIZER (PIZZA)",1,0,{"$f":"IFERROR($E242*SUMIF('Daily Log'!$B$18:$B$1017,$B242,'Daily Log'!$C$18:$C$1017),0)","v":0},{"$f":"IFERROR($E242*SUMIF('Daily Log'!$E$18:$E$1017,$B242,'Daily Log'!$F$18:$F$1017),0)","v":0},{"$f":"IFERROR($E242*SUMIF('Daily Log'!$H$18:$H$1017,$B242,'Daily Log'!$I$18:$I$1017),0)","v":0},{"$f":"IFERROR($E242*SUMIF('Daily Log'!$K$18:$K$1017,$B242,'Daily Log'!$L$18:$L$1017),0)","v":0},{"$f":"IFERROR($E242*SUMIF('Daily Log'!$N$18:$N$1017,$B242,'Daily Log'!$O$18:$O$1017),0)","v":0},{"$f":"IFERROR($E242*SUMIF('Daily Log'!#REF!,$B242,'Daily Log'!#REF!),0)","v":0},{"$f":"IFERROR($E242*SUMIF('Daily Log'!#REF!,$B242,'Daily Log'!#REF!),0)","v":0},{"$f":"IFERROR($E242*SUMIF('Daily Log'!#REF!,$B242,'Daily Log'!#REF!),0)","v":0},{"$f":"IFERROR($E242*SUMIF('Daily Log'!#REF!,$B242,'Daily Log'!#REF!),0)","v":0},{"$f":"IFERROR($E242*SUMIF('Daily Log'!#REF!,$B242,'Daily Log'!#REF!),0)","v":0},{"$f":"IFERROR($E242*SUMIF('Daily Log'!#REF!,$B242,'Daily Log'!#REF!),0)","v":0},{"$f":"IFERROR($E242*SUMIF('Daily Log'!#REF!,$B242,'Daily Log'!#REF!),0)","v":0},{"$f":"IFERROR($E242*SUMIF('Daily Log'!#REF!,$B242,'Daily Log'!#REF!),0)","v":0},{"$f":"IFERROR($E242*SUMIF('Daily Log'!#REF!,$B242,'Daily Log'!#REF!),0)","v":0},{"$f":"IFERROR($E242*SUMIF('Daily Log'!#REF!,$B242,'Daily Log'!#REF!),0)","v":0},{"$f":"IFERROR($E242*SUMIF('Daily Log'!#REF!,$B242,'Daily Log'!#REF!),0)","v":0},{"$f":"IFERROR($E242*SUMIF('Daily Log'!#REF!,$B242,'Daily Log'!#REF!),0)","v":0},{"$f":"IFERROR($E242*SUMIF('Daily Log'!#REF!,$B242,'Daily Log'!#REF!),0)","v":0},{"$f":"IFERROR($E242*SUMIF('Daily Log'!#REF!,$B242,'Daily Log'!#REF!),0)","v":0},{"$f":"IFERROR($E242*SUMIF('Daily Log'!#REF!,$B242,'Daily Log'!#REF!),0)","v":0},{"$f":"IFERROR($E242*SUMIF('Daily Log'!#REF!,$B242,'Daily Log'!#REF!),0)","v":0},{"$f":"IFERROR($E242*SUMIF('Daily Log'!#REF!,$B242,'Daily Log'!#REF!),0)","v":0},{"$f":"IFERROR($E242*SUMIF('Daily Log'!#REF!,$B242,'Daily Log'!#REF!),0)","v":0},{"$f":"IFERROR($E242*SUMIF('Daily Log'!#REF!,$B242,'Daily Log'!#REF!),0)","v":0},{"$f":"IFERROR($E242*SUMIF('Daily Log'!#REF!,$B242,'Daily Log'!#REF!),0)","v":0},{"$f":"IFERROR($E242*SUMIF('Daily Log'!#REF!,$B242,'Daily Log'!#REF!),0)","v":0},{"$f":"IFERROR($E242*SUMIF('Daily Log'!#REF!,$B242,'Daily Log'!#REF!),0)","v":0},{"$f":"IFERROR($E242*SUMIF('Daily Log'!#REF!,$B242,'Daily Log'!#REF!),0)","v":0},{"$f":"IFERROR($E242*SUMIF('Daily Log'!#REF!,$B242,'Daily Log'!#REF!),0)","v":0},{"$f":"IFERROR($E242*SUMIF('Daily Log'!#REF!,$B242,'Daily Log'!#REF!),0)","v":0},{"$f":"IFERROR($E242*SUMIF('Daily Log'!#REF!,$B242,'Daily Log'!#REF!),0)","v":0}]
[null,"DL06 3001:9'HAWAIIAN",null,"SIDE ORDER -APPETIZER (PIZZA)",1,0,{"$f":"IFERROR($E243*SUMIF('Daily Log'!$B$18:$B$1017,$B243,'Daily Log'!$C$18:$C$1017),0)","v":0},{"$f":"IFERROR($E243*SUMIF('Daily Log'!$E$18:$E$1017,$B243,'Daily Log'!$F$18:$F$1017),0)","v":0},{"$f":"IFERROR($E243*SUMIF('Daily Log'!$H$18:$H$1017,$B243,'Daily Log'!$I$18:$I$1017),0)","v":0},{"$f":"IFERROR($E243*SUMIF('Daily Log'!$K$18:$K$1017,$B243,'Daily Log'!$L$18:$L$1017),0)","v":0},{"$f":"IFERROR($E243*SUMIF('Daily Log'!$N$18:$N$1017,$B243,'Daily Log'!$O$18:$O$1017),0)","v":0},{"$f":"IFERROR($E243*SUMIF('Daily Log'!#REF!,$B243,'Daily Log'!#REF!),0)","v":0},{"$f":"IFERROR($E243*SUMIF('Daily Log'!#REF!,$B243,'Daily Log'!#REF!),0)","v":0},{"$f":"IFERROR($E243*SUMIF('Daily Log'!#REF!,$B243,'Daily Log'!#REF!),0)","v":0},{"$f":"IFERROR($E243*SUMIF('Daily Log'!#REF!,$B243,'Daily Log'!#REF!),0)","v":0},{"$f":"IFERROR($E243*SUMIF('Daily Log'!#REF!,$B243,'Daily Log'!#REF!),0)","v":0},{"$f":"IFERROR($E243*SUMIF('Daily Log'!#REF!,$B243,'Daily Log'!#REF!),0)","v":0},{"$f":"IFERROR($E243*SUMIF('Daily Log'!#REF!,$B243,'Daily Log'!#REF!),0)","v":0},{"$f":"IFERROR($E243*SUMIF('Daily Log'!#REF!,$B243,'Daily Log'!#REF!),0)","v":0},{"$f":"IFERROR($E243*SUMIF('Daily Log'!#REF!,$B243,'Daily Log'!#REF!),0)","v":0},{"$f":"IFERROR($E243*SUMIF('Daily Log'!#REF!,$B243,'Daily Log'!#REF!),0)","v":0},{"$f":"IFERROR($E243*SUMIF('Daily Log'!#REF!,$B243,'Daily Log'!#REF!),0)","v":0},{"$f":"IFERROR($E243*SUMIF('Daily Log'!#REF!,$B243,'Daily Log'!#REF!),0)","v":0},{"$f":"IFERROR($E243*SUMIF('Daily Log'!#REF!,$B243,'Daily Log'!#REF!),0)","v":0},{"$f":"IFERROR($E243*SUMIF('Daily Log'!#REF!,$B243,'Daily Log'!#REF!),0)","v":0},{"$f":"IFERROR($E243*SUMIF('Daily Log'!#REF!,$B243,'Daily Log'!#REF!),0)","v":0},{"$f":"IFERROR($E243*SUMIF('Daily Log'!#REF!,$B243,'Daily Log'!#REF!),0)","v":0},{"$f":"IFERROR($E243*SUMIF('Daily Log'!#REF!,$B243,'Daily Log'!#REF!),0)","v":0},{"$f":"IFERROR($E243*SUMIF('Daily Log'!#REF!,$B243,'Daily Log'!#REF!),0)","v":0},{"$f":"IFERROR($E243*SUMIF('Daily Log'!#REF!,$B243,'Daily Log'!#REF!),0)","v":0},{"$f":"IFERROR($E243*SUMIF('Daily Log'!#REF!,$B243,'Daily Log'!#REF!),0)","v":0},{"$f":"IFERROR($E243*SUMIF('Daily Log'!#REF!,$B243,'Daily Log'!#REF!),0)","v":0},{"$f":"IFERROR($E243*SUMIF('Daily Log'!#REF!,$B243,'Daily Log'!#REF!),0)","v":0},{"$f":"IFERROR($E243*SUMIF('Daily Log'!#REF!,$B243,'Daily Log'!#REF!),0)","v":0},{"$f":"IFERROR($E243*SUMIF('Daily Log'!#REF!,$B243,'Daily Log'!#REF!),0)","v":0},{"$f":"IFERROR($E243*SUMIF('Daily Log'!#REF!,$B243,'Daily Log'!#REF!),0)","v":0},{"$f":"IFERROR($E243*SUMIF('Daily Log'!#REF!,$B243,'Daily Log'!#REF!),0)","v":0}]
[null,"DL07 3002:9'SMOKED",null,"SIDE ORDER -APPETIZER (PIZZA)",1,0,{"$f":"IFERROR($E244*SUMIF('Daily Log'!$B$18:$B$1017,$B244,'Daily Log'!$C$18:$C$1017),0)","v":0},{"$f":"IFERROR($E244*SUMIF('Daily Log'!$E$18:$E$1017,$B244,'Daily Log'!$F$18:$F$1017),0)","v":0},{"$f":"IFERROR($E244*SUMIF('Daily Log'!$H$18:$H$1017,$B244,'Daily Log'!$I$18:$I$1017),0)","v":0},{"$f":"IFERROR($E244*SUMIF('Daily Log'!$K$18:$K$1017,$B244,'Daily Log'!$L$18:$L$1017),0)","v":0},{"$f":"IFERROR($E244*SUMIF('Daily Log'!$N$18:$N$1017,$B244,'Daily Log'!$O$18:$O$1017),0)","v":0},{"$f":"IFERROR($E244*SUMIF('Daily Log'!#REF!,$B244,'Daily Log'!#REF!),0)","v":0},{"$f":"IFERROR($E244*SUMIF('Daily Log'!#REF!,$B244,'Daily Log'!#REF!),0)","v":0},{"$f":"IFERROR($E244*SUMIF('Daily Log'!#REF!,$B244,'Daily Log'!#REF!),0)","v":0},{"$f":"IFERROR($E244*SUMIF('Daily Log'!#REF!,$B244,'Daily Log'!#REF!),0)","v":0},{"$f":"IFERROR($E244*SUMIF('Daily Log'!#REF!,$B244,'Daily Log'!#REF!),0)","v":0},{"$f":"IFERROR($E244*SUMIF('Daily Log'!#REF!,$B244,'Daily Log'!#REF!),0)","v":0},{"$f":"IFERROR($E244*SUMIF('Daily Log'!#REF!,$B244,'Daily Log'!#REF!),0)","v":0},{"$f":"IFERROR($E244*SUMIF('Daily Log'!#REF!,$B244,'Daily Log'!#REF!),0)","v":0},{"$f":"IFERROR($E244*SUMIF('Daily Log'!#REF!,$B244,'Daily Log'!#REF!),0)","v":0},{"$f":"IFERROR($E244*SUMIF('Daily Log'!#REF!,$B244,'Daily Log'!#REF!),0)","v":0},{"$f":"IFERROR($E244*SUMIF('Daily Log'!#REF!,$B244,'Daily Log'!#REF!),0)","v":0},{"$f":"IFERROR($E244*SUMIF('Daily Log'!#REF!,$B244,'Daily Log'!#REF!),0)","v":0},{"$f":"IFERROR($E244*SUMIF('Daily Log'!#REF!,$B244,'Daily Log'!#REF!),0)","v":0},{"$f":"IFERROR($E244*SUMIF('Daily Log'!#REF!,$B244,'Daily Log'!#REF!),0)","v":0},{"$f":"IFERROR($E244*SUMIF('Daily Log'!#REF!,$B244,'Daily Log'!#REF!),0)","v":0},{"$f":"IFERROR($E244*SUMIF('Daily Log'!#REF!,$B244,'Daily Log'!#REF!),0)","v":0},{"$f":"IFERROR($E244*SUMIF('Daily Log'!#REF!,$B244,'Daily Log'!#REF!),0)","v":0},{"$f":"IFERROR($E244*SUMIF('Daily Log'!#REF!,$B244,'Daily Log'!#REF!),0)","v":0},{"$f":"IFERROR($E244*SUMIF('Daily Log'!#REF!,$B244,'Daily Log'!#REF!),0)","v":0},{"$f":"IFERROR($E244*SUMIF('Daily Log'!#REF!,$B244,'Daily Log'!#REF!),0)","v":0},{"$f":"IFERROR($E244*SUMIF('Daily Log'!#REF!,$B244,'Daily Log'!#REF!),0)","v":0},{"$f":"IFERROR($E244*SUMIF('Daily Log'!#REF!,$B244,'Daily Log'!#REF!),0)","v":0},{"$f":"IFERROR($E244*SUMIF('Daily Log'!#REF!,$B244,'Daily Log'!#REF!),0)","v":0},{"$f":"IFERROR($E244*SUMIF('Daily Log'!#REF!,$B244,'Daily Log'!#REF!),0)","v":0},{"$f":"IFERROR($E244*SUMIF('Daily Log'!#REF!,$B244,'Daily Log'!#REF!),0)","v":0},{"$f":"IFERROR($E244*SUMIF('Daily Log'!#REF!,$B244,'Daily Log'!#REF!),0)","v":0}]
[null,"DL08 3003:9'SEAFOOD",null,"SIDE ORDER -APPETIZER (PIZZA)",1,0,{"$f":"IFERROR($E245*SUMIF('Daily Log'!$B$18:$B$1017,$B245,'Daily Log'!$C$18:$C$1017),0)","v":0},{"$f":"IFERROR($E245*SUMIF('Daily Log'!$E$18:$E$1017,$B245,'Daily Log'!$F$18:$F$1017),0)","v":0},{"$f":"IFERROR($E245*SUMIF('Daily Log'!$H$18:$H$1017,$B245,'Daily Log'!$I$18:$I$1017),0)","v":0},{"$f":"IFERROR($E245*SUMIF('Daily Log'!$K$18:$K$1017,$B245,'Daily Log'!$L$18:$L$1017),0)","v":0},{"$f":"IFERROR($E245*SUMIF('Daily Log'!$N$18:$N$1017,$B245,'Daily Log'!$O$18:$O$1017),0)","v":0},{"$f":"IFERROR($E245*SUMIF('Daily Log'!#REF!,$B245,'Daily Log'!#REF!),0)","v":0},{"$f":"IFERROR($E245*SUMIF('Daily Log'!#REF!,$B245,'Daily Log'!#REF!),0)","v":0},{"$f":"IFERROR($E245*SUMIF('Daily Log'!#REF!,$B245,'Daily Log'!#REF!),0)","v":0},{"$f":"IFERROR($E245*SUMIF('Daily Log'!#REF!,$B245,'Daily Log'!#REF!),0)","v":0},{"$f":"IFERROR($E245*SUMIF('Daily Log'!#REF!,$B245,'Daily Log'!#REF!),0)","v":0},{"$f":"IFERROR($E245*SUMIF('Daily Log'!#REF!,$B245,'Daily Log'!#REF!),0)","v":0},{"$f":"IFERROR($E245*SUMIF('Daily Log'!#REF!,$B245,'Daily Log'!#REF!),0)","v":0},{"$f":"IFERROR($E245*SUMIF('Daily Log'!#REF!,$B245,'Daily Log'!#REF!),0)","v":0},{"$f":"IFERROR($E245*SUMIF('Daily Log'!#REF!,$B245,'Daily Log'!#REF!),0)","v":0},{"$f":"IFERROR($E245*SUMIF('Daily Log'!#REF!,$B245,'Daily Log'!#REF!),0)","v":0},{"$f":"IFERROR($E245*SUMIF('Daily Log'!#REF!,$B245,'Daily Log'!#REF!),0)","v":0},{"$f":"IFERROR($E245*SUMIF('Daily Log'!#REF!,$B245,'Daily Log'!#REF!),0)","v":0},{"$f":"IFERROR($E245*SUMIF('Daily Log'!#REF!,$B245,'Daily Log'!#REF!),0)","v":0},{"$f":"IFERROR($E245*SUMIF('Daily Log'!#REF!,$B245,'Daily Log'!#REF!),0)","v":0},{"$f":"IFERROR($E245*SUMIF('Daily Log'!#REF!,$B245,'Daily Log'!#REF!),0)","v":0},{"$f":"IFERROR($E245*SUMIF('Daily Log'!#REF!,$B245,'Daily Log'!#REF!),0)","v":0},{"$f":"IFERROR($E245*SUMIF('Daily Log'!#REF!,$B245,'Daily Log'!#REF!),0)","v":0},{"$f":"IFERROR($E245*SUMIF('Daily Log'!#REF!,$B245,'Daily Log'!#REF!),0)","v":0},{"$f":"IFERROR($E245*SUMIF('Daily Log'!#REF!,$B245,'Daily Log'!#REF!),0)","v":0},{"$f":"IFERROR($E245*SUMIF('Daily Log'!#REF!,$B245,'Daily Log'!#REF!),0)","v":0},{"$f":"IFERROR($E245*SUMIF('Daily Log'!#REF!,$B245,'Daily Log'!#REF!),0)","v":0},{"$f":"IFERROR($E245*SUMIF('Daily Log'!#REF!,$B245,'Daily Log'!#REF!),0)","v":0},{"$f":"IFERROR($E245*SUMIF('Daily Log'!#REF!,$B245,'Daily Log'!#REF!),0)","v":0},{"$f":"IFERROR($E245*SUMIF('Daily Log'!#REF!,$B245,'Daily Log'!#REF!),0)","v":0},{"$f":"IFERROR($E245*SUMIF('Daily Log'!#REF!,$B245,'Daily Log'!#REF!),0)","v":0},{"$f":"IFERROR($E245*SUMIF('Daily Log'!#REF!,$B245,'Daily Log'!#REF!),0)","v":0}]
[null,"DL09 3004:9'SPICY B",null,"SIDE ORDER -APPETIZER (PIZZA)",1,0,{"$f":"IFERROR($E246*SUMIF('Daily Log'!$B$18:$B$1017,$B246,'Daily Log'!$C$18:$C$1017),0)","v":0},{"$f":"IFERROR($E246*SUMIF('Daily Log'!$E$18:$E$1017,$B246,'Daily Log'!$F$18:$F$1017),0)","v":0},{"$f":"IFERROR($E246*SUMIF('Daily Log'!$H$18:$H$1017,$B246,'Daily Log'!$I$18:$I$1017),0)","v":0},{"$f":"IFERROR($E246*SUMIF('Daily Log'!$K$18:$K$1017,$B246,'Daily Log'!$L$18:$L$1017),0)","v":0},{"$f":"IFERROR($E246*SUMIF('Daily Log'!$N$18:$N$1017,$B246,'Daily Log'!$O$18:$O$1017),0)","v":0},{"$f":"IFERROR($E246*SUMIF('Daily Log'!#REF!,$B246,'Daily Log'!#REF!),0)","v":0},{"$f":"IFERROR($E246*SUMIF('Daily Log'!#REF!,$B246,'Daily Log'!#REF!),0)","v":0},{"$f":"IFERROR($E246*SUMIF('Daily Log'!#REF!,$B246,'Daily Log'!#REF!),0)","v":0},{"$f":"IFERROR($E246*SUMIF('Daily Log'!#REF!,$B246,'Daily Log'!#REF!),0)","v":0},{"$f":"IFERROR($E246*SUMIF('Daily Log'!#REF!,$B246,'Daily Log'!#REF!),0)","v":0},{"$f":"IFERROR($E246*SUMIF('Daily Log'!#REF!,$B246,'Daily Log'!#REF!),0)","v":0},{"$f":"IFERROR($E246*SUMIF('Daily Log'!#REF!,$B246,'Daily Log'!#REF!),0)","v":0},{"$f":"IFERROR($E246*SUMIF('Daily Log'!#REF!,$B246,'Daily Log'!#REF!),0)","v":0},{"$f":"IFERROR($E246*SUMIF('Daily Log'!#REF!,$B246,'Daily Log'!#REF!),0)","v":0},{"$f":"IFERROR($E246*SUMIF('Daily Log'!#REF!,$B246,'Daily Log'!#REF!),0)","v":0},{"$f":"IFERROR($E246*SUMIF('Daily Log'!#REF!,$B246,'Daily Log'!#REF!),0)","v":0},{"$f":"IFERROR($E246*SUMIF('Daily Log'!#REF!,$B246,'Daily Log'!#REF!),0)","v":0},{"$f":"IFERROR($E246*SUMIF('Daily Log'!#REF!,$B246,'Daily Log'!#REF!),0)","v":0},{"$f":"IFERROR($E246*SUMIF('Daily Log'!#REF!,$B246,'Daily Log'!#REF!),0)","v":0},{"$f":"IFERROR($E246*SUMIF('Daily Log'!#REF!,$B246,'Daily Log'!#REF!),0)","v":0},{"$f":"IFERROR($E246*SUMIF('Daily Log'!#REF!,$B246,'Daily Log'!#REF!),0)","v":0},{"$f":"IFERROR($E246*SUMIF('Daily Log'!#REF!,$B246,'Daily Log'!#REF!),0)","v":0},{"$f":"IFERROR($E246*SUMIF('Daily Log'!#REF!,$B246,'Daily Log'!#REF!),0)","v":0},{"$f":"IFERROR($E246*SUMIF('Daily Log'!#REF!,$B246,'Daily Log'!#REF!),0)","v":0},{"$f":"IFERROR($E246*SUMIF('Daily Log'!#REF!,$B246,'Daily Log'!#REF!),0)","v":0},{"$f":"IFERROR($E246*SUMIF('Daily Log'!#REF!,$B246,'Daily Log'!#REF!),0)","v":0},{"$f":"IFERROR($E246*SUMIF('Daily Log'!#REF!,$B246,'Daily Log'!#REF!),0)","v":0},{"$f":"IFERROR($E246*SUMIF('Daily Log'!#REF!,$B246,'Daily Log'!#REF!),0)","v":0},{"$f":"IFERROR($E246*SUMIF('Daily Log'!#REF!,$B246,'Daily Log'!#REF!),0)","v":0},{"$f":"IFERROR($E246*SUMIF('Daily Log'!#REF!,$B246,'Daily Log'!#REF!),0)","v":0},{"$f":"IFERROR($E246*SUMIF('Daily Log'!#REF!,$B246,'Daily Log'!#REF!),0)","v":0}]
[null,"DL10 3005:9'VEGGIE",null,"SIDE ORDER -APPETIZER (PIZZA)",1,0,{"$f":"IFERROR($E247*SUMIF('Daily Log'!$B$18:$B$1017,$B247,'Daily Log'!$C$18:$C$1017),0)","v":0},{"$f":"IFERROR($E247*SUMIF('Daily Log'!$E$18:$E$1017,$B247,'Daily Log'!$F$18:$F$1017),0)","v":0},{"$f":"IFERROR($E247*SUMIF('Daily Log'!$H$18:$H$1017,$B247,'Daily Log'!$I$18:$I$1017),0)","v":0},{"$f":"IFERROR($E247*SUMIF('Daily Log'!$K$18:$K$1017,$B247,'Daily Log'!$L$18:$L$1017),0)","v":0},{"$f":"IFERROR($E247*SUMIF('Daily Log'!$N$18:$N$1017,$B247,'Daily Log'!$O$18:$O$1017),0)","v":0},{"$f":"IFERROR($E247*SUMIF('Daily Log'!#REF!,$B247,'Daily Log'!#REF!),0)","v":0},{"$f":"IFERROR($E247*SUMIF('Daily Log'!#REF!,$B247,'Daily Log'!#REF!),0)","v":0},{"$f":"IFERROR($E247*SUMIF('Daily Log'!#REF!,$B247,'Daily Log'!#REF!),0)","v":0},{"$f":"IFERROR($E247*SUMIF('Daily Log'!#REF!,$B247,'Daily Log'!#REF!),0)","v":0},{"$f":"IFERROR($E247*SUMIF('Daily Log'!#REF!,$B247,'Daily Log'!#REF!),0)","v":0},{"$f":"IFERROR($E247*SUMIF('Daily Log'!#REF!,$B247,'Daily Log'!#REF!),0)","v":0},{"$f":"IFERROR($E247*SUMIF('Daily Log'!#REF!,$B247,'Daily Log'!#REF!),0)","v":0},{"$f":"IFERROR($E247*SUMIF('Daily Log'!#REF!,$B247,'Daily Log'!#REF!),0)","v":0},{"$f":"IFERROR($E247*SUMIF('Daily Log'!#REF!,$B247,'Daily Log'!#REF!),0)","v":0},{"$f":"IFERROR($E247*SUMIF('Daily Log'!#REF!,$B247,'Daily Log'!#REF!),0)","v":0},{"$f":"IFERROR($E247*SUMIF('Daily Log'!#REF!,$B247,'Daily Log'!#REF!),0)","v":0},{"$f":"IFERROR($E247*SUMIF('Daily Log'!#REF!,$B247,'Daily Log'!#REF!),0)","v":0},{"$f":"IFERROR($E247*SUMIF('Daily Log'!#REF!,$B247,'Daily Log'!#REF!),0)","v":0},{"$f":"IFERROR($E247*SUMIF('Daily Log'!#REF!,$B247,'Daily Log'!#REF!),0)","v":0},{"$f":"IFERROR($E247*SUMIF('Daily Log'!#REF!,$B247,'Daily Log'!#REF!),0)","v":0},{"$f":"IFERROR($E247*SUMIF('Daily Log'!#REF!,$B247,'Daily Log'!#REF!),0)","v":0},{"$f":"IFERROR($E247*SUMIF('Daily Log'!#REF!,$B247,'Daily Log'!#REF!),0)","v":0},{"$f":"IFERROR($E247*SUMIF('Daily Log'!#REF!,$B247,'Daily Log'!#REF!),0)","v":0},{"$f":"IFERROR($E247*SUMIF('Daily Log'!#REF!,$B247,'Daily Log'!#REF!),0)","v":0},{"$f":"IFERROR($E247*SUMIF('Daily Log'!#REF!,$B247,'Daily Log'!#REF!),0)","v":0},{"$f":"IFERROR($E247*SUMIF('Daily Log'!#REF!,$B247,'Daily Log'!#REF!),0)","v":0},{"$f":"IFERROR($E247*SUMIF('Daily Log'!#REF!,$B247,'Daily Log'!#REF!),0)","v":0},{"$f":"IFERROR($E247*SUMIF('Daily Log'!#REF!,$B247,'Daily Log'!#REF!),0)","v":0},{"$f":"IFERROR($E247*SUMIF('Daily Log'!#REF!,$B247,'Daily Log'!#REF!),0)","v":0},{"$f":"IFERROR($E247*SUMIF('Daily Log'!#REF!,$B247,'Daily Log'!#REF!),0)","v":0},{"$f":"IFERROR($E247*SUMIF('Daily Log'!#REF!,$B247,'Daily Log'!#REF!),0)","v":0}]
[null,"DM01 SNACK PLATTER(A)",null,"PLATTER",1,4,{"$f":"IFERROR($E248*SUMIF('Daily Log'!$B$18:$B$1017,$B248,'Daily Log'!$C$18:$C$1017),0)","v":2},{"$f":"IFERROR($E248*SUMIF('Daily Log'!$E$18:$E$1017,$B248,'Daily Log'!$F$18:$F$1017),0)","v":0},{"$f":"IFERROR($E248*SUMIF('Daily Log'!$H$18:$H$1017,$B248,'Daily Log'!$I$18:$I$1017),0)","v":0},{"$f":"IFERROR($E248*SUMIF('Daily Log'!$K$18:$K$1017,$B248,'Daily Log'!$L$18:$L$1017),0)","v":2},{"$f":"IFERROR($E248*SUMIF('Daily Log'!$N$18:$N$1017,$B248,'Daily Log'!$O$18:$O$1017),0)","v":0},{"$f":"IFERROR($E248*SUMIF('Daily Log'!#REF!,$B248,'Daily Log'!#REF!),0)","v":0},{"$f":"IFERROR($E248*SUMIF('Daily Log'!#REF!,$B248,'Daily Log'!#REF!),0)","v":0},{"$f":"IFERROR($E248*SUMIF('Daily Log'!#REF!,$B248,'Daily Log'!#REF!),0)","v":0},{"$f":"IFERROR($E248*SUMIF('Daily Log'!#REF!,$B248,'Daily Log'!#REF!),0)","v":0},{"$f":"IFERROR($E248*SUMIF('Daily Log'!#REF!,$B248,'Daily Log'!#REF!),0)","v":0},{"$f":"IFERROR($E248*SUMIF('Daily Log'!#REF!,$B248,'Daily Log'!#REF!),0)","v":0},{"$f":"IFERROR($E248*SUMIF('Daily Log'!#REF!,$B248,'Daily Log'!#REF!),0)","v":0},{"$f":"IFERROR($E248*SUMIF('Daily Log'!#REF!,$B248,'Daily Log'!#REF!),0)","v":0},{"$f":"IFERROR($E248*SUMIF('Daily Log'!#REF!,$B248,'Daily Log'!#REF!),0)","v":0},{"$f":"IFERROR($E248*SUMIF('Daily Log'!#REF!,$B248,'Daily Log'!#REF!),0)","v":0},{"$f":"IFERROR($E248*SUMIF('Daily Log'!#REF!,$B248,'Daily Log'!#REF!),0)","v":0},{"$f":"IFERROR($E248*SUMIF('Daily Log'!#REF!,$B248,'Daily Log'!#REF!),0)","v":0},{"$f":"IFERROR($E248*SUMIF('Daily Log'!#REF!,$B248,'Daily Log'!#REF!),0)","v":0},{"$f":"IFERROR($E248*SUMIF('Daily Log'!#REF!,$B248,'Daily Log'!#REF!),0)","v":0},{"$f":"IFERROR($E248*SUMIF('Daily Log'!#REF!,$B248,'Daily Log'!#REF!),0)","v":0},{"$f":"IFERROR($E248*SUMIF('Daily Log'!#REF!,$B248,'Daily Log'!#REF!),0)","v":0},{"$f":"IFERROR($E248*SUMIF('Daily Log'!#REF!,$B248,'Daily Log'!#REF!),0)","v":0},{"$f":"IFERROR($E248*SUMIF('Daily Log'!#REF!,$B248,'Daily Log'!#REF!),0)","v":0},{"$f":"IFERROR($E248*SUMIF('Daily Log'!#REF!,$B248,'Daily Log'!#REF!),0)","v":0},{"$f":"IFERROR($E248*SUMIF('Daily Log'!#REF!,$B248,'Daily Log'!#REF!),0)","v":0},{"$f":"IFERROR($E248*SUMIF('Daily Log'!#REF!,$B248,'Daily Log'!#REF!),0)","v":0},{"$f":"IFERROR($E248*SUMIF('Daily Log'!#REF!,$B248,'Daily Log'!#REF!),0)","v":0},{"$f":"IFERROR($E248*SUMIF('Daily Log'!#REF!,$B248,'Daily Log'!#REF!),0)","v":0},{"$f":"IFERROR($E248*SUMIF('Daily Log'!#REF!,$B248,'Daily Log'!#REF!),0)","v":0},{"$f":"IFERROR($E248*SUMIF('Daily Log'!#REF!,$B248,'Daily Log'!#REF!),0)","v":0},{"$f":"IFERROR($E248*SUMIF('Daily Log'!#REF!,$B248,'Daily Log'!#REF!),0)","v":0}]
[null,"DM02 SNACK PLATTER(B)",null,"PLATTER",1,1,{"$f":"IFERROR($E249*SUMIF('Daily Log'!$B$18:$B$1017,$B249,'Daily Log'!$C$18:$C$1017),0)","v":1},{"$f":"IFERROR($E249*SUMIF('Daily Log'!$E$18:$E$1017,$B249,'Daily Log'!$F$18:$F$1017),0)","v":0},{"$f":"IFERROR($E249*SUMIF('Daily Log'!$H$18:$H$1017,$B249,'Daily Log'!$I$18:$I$1017),0)","v":0},{"$f":"IFERROR($E249*SUMIF('Daily Log'!$K$18:$K$1017,$B249,'Daily Log'!$L$18:$L$1017),0)","v":0},{"$f":"IFERROR($E249*SUMIF('Daily Log'!$N$18:$N$1017,$B249,'Daily Log'!$O$18:$O$1017),0)","v":0},{"$f":"IFERROR($E249*SUMIF('Daily Log'!#REF!,$B249,'Daily Log'!#REF!),0)","v":0},{"$f":"IFERROR($E249*SUMIF('Daily Log'!#REF!,$B249,'Daily Log'!#REF!),0)","v":0},{"$f":"IFERROR($E249*SUMIF('Daily Log'!#REF!,$B249,'Daily Log'!#REF!),0)","v":0},{"$f":"IFERROR($E249*SUMIF('Daily Log'!#REF!,$B249,'Daily Log'!#REF!),0)","v":0},{"$f":"IFERROR($E249*SUMIF('Daily Log'!#REF!,$B249,'Daily Log'!#REF!),0)","v":0},{"$f":"IFERROR($E249*SUMIF('Daily Log'!#REF!,$B249,'Daily Log'!#REF!),0)","v":0},{"$f":"IFERROR($E249*SUMIF('Daily Log'!#REF!,$B249,'Daily Log'!#REF!),0)","v":0},{"$f":"IFERROR($E249*SUMIF('Daily Log'!#REF!,$B249,'Daily Log'!#REF!),0)","v":0},{"$f":"IFERROR($E249*SUMIF('Daily Log'!#REF!,$B249,'Daily Log'!#REF!),0)","v":0},{"$f":"IFERROR($E249*SUMIF('Daily Log'!#REF!,$B249,'Daily Log'!#REF!),0)","v":0},{"$f":"IFERROR($E249*SUMIF('Daily Log'!#REF!,$B249,'Daily Log'!#REF!),0)","v":0},{"$f":"IFERROR($E249*SUMIF('Daily Log'!#REF!,$B249,'Daily Log'!#REF!),0)","v":0},{"$f":"IFERROR($E249*SUMIF('Daily Log'!#REF!,$B249,'Daily Log'!#REF!),0)","v":0},{"$f":"IFERROR($E249*SUMIF('Daily Log'!#REF!,$B249,'Daily Log'!#REF!),0)","v":0},{"$f":"IFERROR($E249*SUMIF('Daily Log'!#REF!,$B249,'Daily Log'!#REF!),0)","v":0},{"$f":"IFERROR($E249*SUMIF('Daily Log'!#REF!,$B249,'Daily Log'!#REF!),0)","v":0},{"$f":"IFERROR($E249*SUMIF('Daily Log'!#REF!,$B249,'Daily Log'!#REF!),0)","v":0},{"$f":"IFERROR($E249*SUMIF('Daily Log'!#REF!,$B249,'Daily Log'!#REF!),0)","v":0},{"$f":"IFERROR($E249*SUMIF('Daily Log'!#REF!,$B249,'Daily Log'!#REF!),0)","v":0},{"$f":"IFERROR($E249*SUMIF('Daily Log'!#REF!,$B249,'Daily Log'!#REF!),0)","v":0},{"$f":"IFERROR($E249*SUMIF('Daily Log'!#REF!,$B249,'Daily Log'!#REF!),0)","v":0},{"$f":"IFERROR($E249*SUMIF('Daily Log'!#REF!,$B249,'Daily Log'!#REF!),0)","v":0},{"$f":"IFERROR($E249*SUMIF('Daily Log'!#REF!,$B249,'Daily Log'!#REF!),0)","v":0},{"$f":"IFERROR($E249*SUMIF('Daily Log'!#REF!,$B249,'Daily Log'!#REF!),0)","v":0},{"$f":"IFERROR($E249*SUMIF('Daily Log'!#REF!,$B249,'Daily Log'!#REF!),0)","v":0},{"$f":"IFERROR($E249*SUMIF('Daily Log'!#REF!,$B249,'Daily Log'!#REF!),0)","v":0}]
[null,"DM03 CNY platter(A)",null,"PLATTER",1,0,{"$f":"IFERROR($E250*SUMIF('Daily Log'!$B$18:$B$1017,$B250,'Daily Log'!$C$18:$C$1017),0)","v":0},{"$f":"IFERROR($E250*SUMIF('Daily Log'!$E$18:$E$1017,$B250,'Daily Log'!$F$18:$F$1017),0)","v":0},{"$f":"IFERROR($E250*SUMIF('Daily Log'!$H$18:$H$1017,$B250,'Daily Log'!$I$18:$I$1017),0)","v":0},{"$f":"IFERROR($E250*SUMIF('Daily Log'!$K$18:$K$1017,$B250,'Daily Log'!$L$18:$L$1017),0)","v":0},{"$f":"IFERROR($E250*SUMIF('Daily Log'!$N$18:$N$1017,$B250,'Daily Log'!$O$18:$O$1017),0)","v":0},{"$f":"IFERROR($E250*SUMIF('Daily Log'!#REF!,$B250,'Daily Log'!#REF!),0)","v":0},{"$f":"IFERROR($E250*SUMIF('Daily Log'!#REF!,$B250,'Daily Log'!#REF!),0)","v":0},{"$f":"IFERROR($E250*SUMIF('Daily Log'!#REF!,$B250,'Daily Log'!#REF!),0)","v":0},{"$f":"IFERROR($E250*SUMIF('Daily Log'!#REF!,$B250,'Daily Log'!#REF!),0)","v":0},{"$f":"IFERROR($E250*SUMIF('Daily Log'!#REF!,$B250,'Daily Log'!#REF!),0)","v":0},{"$f":"IFERROR($E250*SUMIF('Daily Log'!#REF!,$B250,'Daily Log'!#REF!),0)","v":0},{"$f":"IFERROR($E250*SUMIF('Daily Log'!#REF!,$B250,'Daily Log'!#REF!),0)","v":0},{"$f":"IFERROR($E250*SUMIF('Daily Log'!#REF!,$B250,'Daily Log'!#REF!),0)","v":0},{"$f":"IFERROR($E250*SUMIF('Daily Log'!#REF!,$B250,'Daily Log'!#REF!),0)","v":0},{"$f":"IFERROR($E250*SUMIF('Daily Log'!#REF!,$B250,'Daily Log'!#REF!),0)","v":0},{"$f":"IFERROR($E250*SUMIF('Daily Log'!#REF!,$B250,'Daily Log'!#REF!),0)","v":0},{"$f":"IFERROR($E250*SUMIF('Daily Log'!#REF!,$B250,'Daily Log'!#REF!),0)","v":0},{"$f":"IFERROR($E250*SUMIF('Daily Log'!#REF!,$B250,'Daily Log'!#REF!),0)","v":0},{"$f":"IFERROR($E250*SUMIF('Daily Log'!#REF!,$B250,'Daily Log'!#REF!),0)","v":0},{"$f":"IFERROR($E250*SUMIF('Daily Log'!#REF!,$B250,'Daily Log'!#REF!),0)","v":0},{"$f":"IFERROR($E250*SUMIF('Daily Log'!#REF!,$B250,'Daily Log'!#REF!),0)","v":0},{"$f":"IFERROR($E250*SUMIF('Daily Log'!#REF!,$B250,'Daily Log'!#REF!),0)","v":0},{"$f":"IFERROR($E250*SUMIF('Daily Log'!#REF!,$B250,'Daily Log'!#REF!),0)","v":0},{"$f":"IFERROR($E250*SUMIF('Daily Log'!#REF!,$B250,'Daily Log'!#REF!),0)","v":0},{"$f":"IFERROR($E250*SUMIF('Daily Log'!#REF!,$B250,'Daily Log'!#REF!),0)","v":0},{"$f":"IFERROR($E250*SUMIF('Daily Log'!#REF!,$B250,'Daily Log'!#REF!),0)","v":0},{"$f":"IFERROR($E250*SUMIF('Daily Log'!#REF!,$B250,'Daily Log'!#REF!),0)","v":0},{"$f":"IFERROR($E250*SUMIF('Daily Log'!#REF!,$B250,'Daily Log'!#REF!),0)","v":0},{"$f":"IFERROR($E250*SUMIF('Daily Log'!#REF!,$B250,'Daily Log'!#REF!),0)","v":0},{"$f":"IFERROR($E250*SUMIF('Daily Log'!#REF!,$B250,'Daily Log'!#REF!),0)","v":0},{"$f":"IFERROR($E250*SUMIF('Daily Log'!#REF!,$B250,'Daily Log'!#REF!),0)","v":0}]
[null,"DM04 CNY platter (B)",null,"PLATTER",1,0,{"$f":"IFERROR($E251*SUMIF('Daily Log'!$B$18:$B$1017,$B251,'Daily Log'!$C$18:$C$1017),0)","v":0},{"$f":"IFERROR($E251*SUMIF('Daily Log'!$E$18:$E$1017,$B251,'Daily Log'!$F$18:$F$1017),0)","v":0},{"$f":"IFERROR($E251*SUMIF('Daily Log'!$H$18:$H$1017,$B251,'Daily Log'!$I$18:$I$1017),0)","v":0},{"$f":"IFERROR($E251*SUMIF('Daily Log'!$K$18:$K$1017,$B251,'Daily Log'!$L$18:$L$1017),0)","v":0},{"$f":"IFERROR($E251*SUMIF('Daily Log'!$N$18:$N$1017,$B251,'Daily Log'!$O$18:$O$1017),0)","v":0},{"$f":"IFERROR($E251*SUMIF('Daily Log'!#REF!,$B251,'Daily Log'!#REF!),0)","v":0},{"$f":"IFERROR($E251*SUMIF('Daily Log'!#REF!,$B251,'Daily Log'!#REF!),0)","v":0},{"$f":"IFERROR($E251*SUMIF('Daily Log'!#REF!,$B251,'Daily Log'!#REF!),0)","v":0},{"$f":"IFERROR($E251*SUMIF('Daily Log'!#REF!,$B251,'Daily Log'!#REF!),0)","v":0},{"$f":"IFERROR($E251*SUMIF('Daily Log'!#REF!,$B251,'Daily Log'!#REF!),0)","v":0},{"$f":"IFERROR($E251*SUMIF('Daily Log'!#REF!,$B251,'Daily Log'!#REF!),0)","v":0},{"$f":"IFERROR($E251*SUMIF('Daily Log'!#REF!,$B251,'Daily Log'!#REF!),0)","v":0},{"$f":"IFERROR($E251*SUMIF('Daily Log'!#REF!,$B251,'Daily Log'!#REF!),0)","v":0},{"$f":"IFERROR($E251*SUMIF('Daily Log'!#REF!,$B251,'Daily Log'!#REF!),0)","v":0},{"$f":"IFERROR($E251*SUMIF('Daily Log'!#REF!,$B251,'Daily Log'!#REF!),0)","v":0},{"$f":"IFERROR($E251*SUMIF('Daily Log'!#REF!,$B251,'Daily Log'!#REF!),0)","v":0},{"$f":"IFERROR($E251*SUMIF('Daily Log'!#REF!,$B251,'Daily Log'!#REF!),0)","v":0},{"$f":"IFERROR($E251*SUMIF('Daily Log'!#REF!,$B251,'Daily Log'!#REF!),0)","v":0},{"$f":"IFERROR($E251*SUMIF('Daily Log'!#REF!,$B251,'Daily Log'!#REF!),0)","v":0},{"$f":"IFERROR($E251*SUMIF('Daily Log'!#REF!,$B251,'Daily Log'!#REF!),0)","v":0},{"$f":"IFERROR($E251*SUMIF('Daily Log'!#REF!,$B251,'Daily Log'!#REF!),0)","v":0},{"$f":"IFERROR($E251*SUMIF('Daily Log'!#REF!,$B251,'Daily Log'!#REF!),0)","v":0},{"$f":"IFERROR($E251*SUMIF('Daily Log'!#REF!,$B251,'Daily Log'!#REF!),0)","v":0},{"$f":"IFERROR($E251*SUMIF('Daily Log'!#REF!,$B251,'Daily Log'!#REF!),0)","v":0},{"$f":"IFERROR($E251*SUMIF('Daily Log'!#REF!,$B251,'Daily Log'!#REF!),0)","v":0},{"$f":"IFERROR($E251*SUMIF('Daily Log'!#REF!,$B251,'Daily Log'!#REF!),0)","v":0},{"$f":"IFERROR($E251*SUMIF('Daily Log'!#REF!,$B251,'Daily Log'!#REF!),0)","v":0},{"$f":"IFERROR($E251*SUMIF('Daily Log'!#REF!,$B251,'Daily Log'!#REF!),0)","v":0},{"$f":"IFERROR($E251*SUMIF('Daily Log'!#REF!,$B251,'Daily Log'!#REF!),0)","v":0},{"$f":"IFERROR($E251*SUMIF('Daily Log'!#REF!,$B251,'Daily Log'!#REF!),0)","v":0},{"$f":"IFERROR($E251*SUMIF('Daily Log'!#REF!,$B251,'Daily Log'!#REF!),0)","v":0}]
[null,"GA01 DUNHILL",null,"CIGARETTE",1,0,{"$f":"IFERROR($E252*SUMIF('Daily Log'!$B$18:$B$1017,$B252,'Daily Log'!$C$18:$C$1017),0)","v":0},{"$f":"IFERROR($E252*SUMIF('Daily Log'!$E$18:$E$1017,$B252,'Daily Log'!$F$18:$F$1017),0)","v":0},{"$f":"IFERROR($E252*SUMIF('Daily Log'!$H$18:$H$1017,$B252,'Daily Log'!$I$18:$I$1017),0)","v":0},{"$f":"IFERROR($E252*SUMIF('Daily Log'!$K$18:$K$1017,$B252,'Daily Log'!$L$18:$L$1017),0)","v":0},{"$f":"IFERROR($E252*SUMIF('Daily Log'!$N$18:$N$1017,$B252,'Daily Log'!$O$18:$O$1017),0)","v":0},{"$f":"IFERROR($E252*SUMIF('Daily Log'!#REF!,$B252,'Daily Log'!#REF!),0)","v":0},{"$f":"IFERROR($E252*SUMIF('Daily Log'!#REF!,$B252,'Daily Log'!#REF!),0)","v":0},{"$f":"IFERROR($E252*SUMIF('Daily Log'!#REF!,$B252,'Daily Log'!#REF!),0)","v":0},{"$f":"IFERROR($E252*SUMIF('Daily Log'!#REF!,$B252,'Daily Log'!#REF!),0)","v":0},{"$f":"IFERROR($E252*SUMIF('Daily Log'!#REF!,$B252,'Daily Log'!#REF!),0)","v":0},{"$f":"IFERROR($E252*SUMIF('Daily Log'!#REF!,$B252,'Daily Log'!#REF!),0)","v":0},{"$f":"IFERROR($E252*SUMIF('Daily Log'!#REF!,$B252,'Daily Log'!#REF!),0)","v":0},{"$f":"IFERROR($E252*SUMIF('Daily Log'!#REF!,$B252,'Daily Log'!#REF!),0)","v":0},{"$f":"IFERROR($E252*SUMIF('Daily Log'!#REF!,$B252,'Daily Log'!#REF!),0)","v":0},{"$f":"IFERROR($E252*SUMIF('Daily Log'!#REF!,$B252,'Daily Log'!#REF!),0)","v":0},{"$f":"IFERROR($E252*SUMIF('Daily Log'!#REF!,$B252,'Daily Log'!#REF!),0)","v":0},{"$f":"IFERROR($E252*SUMIF('Daily Log'!#REF!,$B252,'Daily Log'!#REF!),0)","v":0},{"$f":"IFERROR($E252*SUMIF('Daily Log'!#REF!,$B252,'Daily Log'!#REF!),0)","v":0},{"$f":"IFERROR($E252*SUMIF('Daily Log'!#REF!,$B252,'Daily Log'!#REF!),0)","v":0},{"$f":"IFERROR($E252*SUMIF('Daily Log'!#REF!,$B252,'Daily Log'!#REF!),0)","v":0},{"$f":"IFERROR($E252*SUMIF('Daily Log'!#REF!,$B252,'Daily Log'!#REF!),0)","v":0},{"$f":"IFERROR($E252*SUMIF('Daily Log'!#REF!,$B252,'Daily Log'!#REF!),0)","v":0},{"$f":"IFERROR($E252*SUMIF('Daily Log'!#REF!,$B252,'Daily Log'!#REF!),0)","v":0},{"$f":"IFERROR($E252*SUMIF('Daily Log'!#REF!,$B252,'Daily Log'!#REF!),0)","v":0},{"$f":"IFERROR($E252*SUMIF('Daily Log'!#REF!,$B252,'Daily Log'!#REF!),0)","v":0},{"$f":"IFERROR($E252*SUMIF('Daily Log'!#REF!,$B252,'Daily Log'!#REF!),0)","v":0},{"$f":"IFERROR($E252*SUMIF('Daily Log'!#REF!,$B252,'Daily Log'!#REF!),0)","v":0},{"$f":"IFERROR($E252*SUMIF('Daily Log'!#REF!,$B252,'Daily Log'!#REF!),0)","v":0},{"$f":"IFERROR($E252*SUMIF('Daily Log'!#REF!,$B252,'Daily Log'!#REF!),0)","v":0},{"$f":"IFERROR($E252*SUMIF('Daily Log'!#REF!,$B252,'Daily Log'!#REF!),0)","v":0},{"$f":"IFERROR($E252*SUMIF('Daily Log'!#REF!,$B252,'Daily Log'!#REF!),0)","v":0}]
[null,"GA02 KENT",null,"CIGARETTE",1,0,{"$f":"IFERROR($E253*SUMIF('Daily Log'!$B$18:$B$1017,$B253,'Daily Log'!$C$18:$C$1017),0)","v":0},{"$f":"IFERROR($E253*SUMIF('Daily Log'!$E$18:$E$1017,$B253,'Daily Log'!$F$18:$F$1017),0)","v":0},{"$f":"IFERROR($E253*SUMIF('Daily Log'!$H$18:$H$1017,$B253,'Daily Log'!$I$18:$I$1017),0)","v":0},{"$f":"IFERROR($E253*SUMIF('Daily Log'!$K$18:$K$1017,$B253,'Daily Log'!$L$18:$L$1017),0)","v":0},{"$f":"IFERROR($E253*SUMIF('Daily Log'!$N$18:$N$1017,$B253,'Daily Log'!$O$18:$O$1017),0)","v":0},{"$f":"IFERROR($E253*SUMIF('Daily Log'!#REF!,$B253,'Daily Log'!#REF!),0)","v":0},{"$f":"IFERROR($E253*SUMIF('Daily Log'!#REF!,$B253,'Daily Log'!#REF!),0)","v":0},{"$f":"IFERROR($E253*SUMIF('Daily Log'!#REF!,$B253,'Daily Log'!#REF!),0)","v":0},{"$f":"IFERROR($E253*SUMIF('Daily Log'!#REF!,$B253,'Daily Log'!#REF!),0)","v":0},{"$f":"IFERROR($E253*SUMIF('Daily Log'!#REF!,$B253,'Daily Log'!#REF!),0)","v":0},{"$f":"IFERROR($E253*SUMIF('Daily Log'!#REF!,$B253,'Daily Log'!#REF!),0)","v":0},{"$f":"IFERROR($E253*SUMIF('Daily Log'!#REF!,$B253,'Daily Log'!#REF!),0)","v":0},{"$f":"IFERROR($E253*SUMIF('Daily Log'!#REF!,$B253,'Daily Log'!#REF!),0)","v":0},{"$f":"IFERROR($E253*SUMIF('Daily Log'!#REF!,$B253,'Daily Log'!#REF!),0)","v":0},{"$f":"IFERROR($E253*SUMIF('Daily Log'!#REF!,$B253,'Daily Log'!#REF!),0)","v":0},{"$f":"IFERROR($E253*SUMIF('Daily Log'!#REF!,$B253,'Daily Log'!#REF!),0)","v":0},{"$f":"IFERROR($E253*SUMIF('Daily Log'!#REF!,$B253,'Daily Log'!#REF!),0)","v":0},{"$f":"IFERROR($E253*SUMIF('Daily Log'!#REF!,$B253,'Daily Log'!#REF!),0)","v":0},{"$f":"IFERROR($E253*SUMIF('Daily Log'!#REF!,$B253,'Daily Log'!#REF!),0)","v":0},{"$f":"IFERROR($E253*SUMIF('Daily Log'!#REF!,$B253,'Daily Log'!#REF!),0)","v":0},{"$f":"IFERROR($E253*SUMIF('Daily Log'!#REF!,$B253,'Daily Log'!#REF!),0)","v":0},{"$f":"IFERROR($E253*SUMIF('Daily Log'!#REF!,$B253,'Daily Log'!#REF!),0)","v":0},{"$f":"IFERROR($E253*SUMIF('Daily Log'!#REF!,$B253,'Daily Log'!#REF!),0)","v":0},{"$f":"IFERROR($E253*SUMIF('Daily Log'!#REF!,$B253,'Daily Log'!#REF!),0)","v":0},{"$f":"IFERROR($E253*SUMIF('Daily Log'!#REF!,$B253,'Daily Log'!#REF!),0)","v":0},{"$f":"IFERROR($E253*SUMIF('Daily Log'!#REF!,$B253,'Daily Log'!#REF!),0)","v":0},{"$f":"IFERROR($E253*SUMIF('Daily Log'!#REF!,$B253,'Daily Log'!#REF!),0)","v":0},{"$f":"IFERROR($E253*SUMIF('Daily Log'!#REF!,$B253,'Daily Log'!#REF!),0)","v":0},{"$f":"IFERROR($E253*SUMIF('Daily Log'!#REF!,$B253,'Daily Log'!#REF!),0)","v":0},{"$f":"IFERROR($E253*SUMIF('Daily Log'!#REF!,$B253,'Daily Log'!#REF!),0)","v":0},{"$f":"IFERROR($E253*SUMIF('Daily Log'!#REF!,$B253,'Daily Log'!#REF!),0)","v":0}]
[null,"GE01 DUNHILL",null,"CIGARETTE",1,5,{"$f":"IFERROR($E254*SUMIF('Daily Log'!$B$18:$B$1017,$B254,'Daily Log'!$C$18:$C$1017),0)","v":0},{"$f":"IFERROR($E254*SUMIF('Daily Log'!$E$18:$E$1017,$B254,'Daily Log'!$F$18:$F$1017),0)","v":1},{"$f":"IFERROR($E254*SUMIF('Daily Log'!$H$18:$H$1017,$B254,'Daily Log'!$I$18:$I$1017),0)","v":3},{"$f":"IFERROR($E254*SUMIF('Daily Log'!$K$18:$K$1017,$B254,'Daily Log'!$L$18:$L$1017),0)","v":0},{"$f":"IFERROR($E254*SUMIF('Daily Log'!$N$18:$N$1017,$B254,'Daily Log'!$O$18:$O$1017),0)","v":1},{"$f":"IFERROR($E254*SUMIF('Daily Log'!#REF!,$B254,'Daily Log'!#REF!),0)","v":0},{"$f":"IFERROR($E254*SUMIF('Daily Log'!#REF!,$B254,'Daily Log'!#REF!),0)","v":0},{"$f":"IFERROR($E254*SUMIF('Daily Log'!#REF!,$B254,'Daily Log'!#REF!),0)","v":0},{"$f":"IFERROR($E254*SUMIF('Daily Log'!#REF!,$B254,'Daily Log'!#REF!),0)","v":0},{"$f":"IFERROR($E254*SUMIF('Daily Log'!#REF!,$B254,'Daily Log'!#REF!),0)","v":0},{"$f":"IFERROR($E254*SUMIF('Daily Log'!#REF!,$B254,'Daily Log'!#REF!),0)","v":0},{"$f":"IFERROR($E254*SUMIF('Daily Log'!#REF!,$B254,'Daily Log'!#REF!),0)","v":0},{"$f":"IFERROR($E254*SUMIF('Daily Log'!#REF!,$B254,'Daily Log'!#REF!),0)","v":0},{"$f":"IFERROR($E254*SUMIF('Daily Log'!#REF!,$B254,'Daily Log'!#REF!),0)","v":0},{"$f":"IFERROR($E254*SUMIF('Daily Log'!#REF!,$B254,'Daily Log'!#REF!),0)","v":0},{"$f":"IFERROR($E254*SUMIF('Daily Log'!#REF!,$B254,'Daily Log'!#REF!),0)","v":0},{"$f":"IFERROR($E254*SUMIF('Daily Log'!#REF!,$B254,'Daily Log'!#REF!),0)","v":0},{"$f":"IFERROR($E254*SUMIF('Daily Log'!#REF!,$B254,'Daily Log'!#REF!),0)","v":0},{"$f":"IFERROR($E254*SUMIF('Daily Log'!#REF!,$B254,'Daily Log'!#REF!),0)","v":0},{"$f":"IFERROR($E254*SUMIF('Daily Log'!#REF!,$B254,'Daily Log'!#REF!),0)","v":0},{"$f":"IFERROR($E254*SUMIF('Daily Log'!#REF!,$B254,'Daily Log'!#REF!),0)","v":0},{"$f":"IFERROR($E254*SUMIF('Daily Log'!#REF!,$B254,'Daily Log'!#REF!),0)","v":0},{"$f":"IFERROR($E254*SUMIF('Daily Log'!#REF!,$B254,'Daily Log'!#REF!),0)","v":0},{"$f":"IFERROR($E254*SUMIF('Daily Log'!#REF!,$B254,'Daily Log'!#REF!),0)","v":0},{"$f":"IFERROR($E254*SUMIF('Daily Log'!#REF!,$B254,'Daily Log'!#REF!),0)","v":0},{"$f":"IFERROR($E254*SUMIF('Daily Log'!#REF!,$B254,'Daily Log'!#REF!),0)","v":0},{"$f":"IFERROR($E254*SUMIF('Daily Log'!#REF!,$B254,'Daily Log'!#REF!),0)","v":0},{"$f":"IFERROR($E254*SUMIF('Daily Log'!#REF!,$B254,'Daily Log'!#REF!),0)","v":0},{"$f":"IFERROR($E254*SUMIF('Daily Log'!#REF!,$B254,'Daily Log'!#REF!),0)","v":0},{"$f":"IFERROR($E254*SUMIF('Daily Log'!#REF!,$B254,'Daily Log'!#REF!),0)","v":0},{"$f":"IFERROR($E254*SUMIF('Daily Log'!#REF!,$B254,'Daily Log'!#REF!),0)","v":0}]
[null,"GE02 DUNHILL LITE",null,"CIGARETTE",1,3,{"$f":"IFERROR($E255*SUMIF('Daily Log'!$B$18:$B$1017,$B255,'Daily Log'!$C$18:$C$1017),0)","v":0},{"$f":"IFERROR($E255*SUMIF('Daily Log'!$E$18:$E$1017,$B255,'Daily Log'!$F$18:$F$1017),0)","v":1},{"$f":"IFERROR($E255*SUMIF('Daily Log'!$H$18:$H$1017,$B255,'Daily Log'!$I$18:$I$1017),0)","v":1},{"$f":"IFERROR($E255*SUMIF('Daily Log'!$K$18:$K$1017,$B255,'Daily Log'!$L$18:$L$1017),0)","v":0},{"$f":"IFERROR($E255*SUMIF('Daily Log'!$N$18:$N$1017,$B255,'Daily Log'!$O$18:$O$1017),0)","v":1},{"$f":"IFERROR($E255*SUMIF('Daily Log'!#REF!,$B255,'Daily Log'!#REF!),0)","v":0},{"$f":"IFERROR($E255*SUMIF('Daily Log'!#REF!,$B255,'Daily Log'!#REF!),0)","v":0},{"$f":"IFERROR($E255*SUMIF('Daily Log'!#REF!,$B255,'Daily Log'!#REF!),0)","v":0},{"$f":"IFERROR($E255*SUMIF('Daily Log'!#REF!,$B255,'Daily Log'!#REF!),0)","v":0},{"$f":"IFERROR($E255*SUMIF('Daily Log'!#REF!,$B255,'Daily Log'!#REF!),0)","v":0},{"$f":"IFERROR($E255*SUMIF('Daily Log'!#REF!,$B255,'Daily Log'!#REF!),0)","v":0},{"$f":"IFERROR($E255*SUMIF('Daily Log'!#REF!,$B255,'Daily Log'!#REF!),0)","v":0},{"$f":"IFERROR($E255*SUMIF('Daily Log'!#REF!,$B255,'Daily Log'!#REF!),0)","v":0},{"$f":"IFERROR($E255*SUMIF('Daily Log'!#REF!,$B255,'Daily Log'!#REF!),0)","v":0},{"$f":"IFERROR($E255*SUMIF('Daily Log'!#REF!,$B255,'Daily Log'!#REF!),0)","v":0},{"$f":"IFERROR($E255*SUMIF('Daily Log'!#REF!,$B255,'Daily Log'!#REF!),0)","v":0},{"$f":"IFERROR($E255*SUMIF('Daily Log'!#REF!,$B255,'Daily Log'!#REF!),0)","v":0},{"$f":"IFERROR($E255*SUMIF('Daily Log'!#REF!,$B255,'Daily Log'!#REF!),0)","v":0},{"$f":"IFERROR($E255*SUMIF('Daily Log'!#REF!,$B255,'Daily Log'!#REF!),0)","v":0},{"$f":"IFERROR($E255*SUMIF('Daily Log'!#REF!,$B255,'Daily Log'!#REF!),0)","v":0},{"$f":"IFERROR($E255*SUMIF('Daily Log'!#REF!,$B255,'Daily Log'!#REF!),0)","v":0},{"$f":"IFERROR($E255*SUMIF('Daily Log'!#REF!,$B255,'Daily Log'!#REF!),0)","v":0},{"$f":"IFERROR($E255*SUMIF('Daily Log'!#REF!,$B255,'Daily Log'!#REF!),0)","v":0},{"$f":"IFERROR($E255*SUMIF('Daily Log'!#REF!,$B255,'Daily Log'!#REF!),0)","v":0},{"$f":"IFERROR($E255*SUMIF('Daily Log'!#REF!,$B255,'Daily Log'!#REF!),0)","v":0},{"$f":"IFERROR($E255*SUMIF('Daily Log'!#REF!,$B255,'Daily Log'!#REF!),0)","v":0},{"$f":"IFERROR($E255*SUMIF('Daily Log'!#REF!,$B255,'Daily Log'!#REF!),0)","v":0},{"$f":"IFERROR($E255*SUMIF('Daily Log'!#REF!,$B255,'Daily Log'!#REF!),0)","v":0},{"$f":"IFERROR($E255*SUMIF('Daily Log'!#REF!,$B255,'Daily Log'!#REF!),0)","v":0},{"$f":"IFERROR($E255*SUMIF('Daily Log'!#REF!,$B255,'Daily Log'!#REF!),0)","v":0},{"$f":"IFERROR($E255*SUMIF('Daily Log'!#REF!,$B255,'Daily Log'!#REF!),0)","v":0}]
[null,"GE03 DUNHILL MT",null,"CIGARETTE",1,0,{"$f":"IFERROR($E256*SUMIF('Daily Log'!$B$18:$B$1017,$B256,'Daily Log'!$C$18:$C$1017),0)","v":0},{"$f":"IFERROR($E256*SUMIF('Daily Log'!$E$18:$E$1017,$B256,'Daily Log'!$F$18:$F$1017),0)","v":0},{"$f":"IFERROR($E256*SUMIF('Daily Log'!$H$18:$H$1017,$B256,'Daily Log'!$I$18:$I$1017),0)","v":0},{"$f":"IFERROR($E256*SUMIF('Daily Log'!$K$18:$K$1017,$B256,'Daily Log'!$L$18:$L$1017),0)","v":0},{"$f":"IFERROR($E256*SUMIF('Daily Log'!$N$18:$N$1017,$B256,'Daily Log'!$O$18:$O$1017),0)","v":0},{"$f":"IFERROR($E256*SUMIF('Daily Log'!#REF!,$B256,'Daily Log'!#REF!),0)","v":0},{"$f":"IFERROR($E256*SUMIF('Daily Log'!#REF!,$B256,'Daily Log'!#REF!),0)","v":0},{"$f":"IFERROR($E256*SUMIF('Daily Log'!#REF!,$B256,'Daily Log'!#REF!),0)","v":0},{"$f":"IFERROR($E256*SUMIF('Daily Log'!#REF!,$B256,'Daily Log'!#REF!),0)","v":0},{"$f":"IFERROR($E256*SUMIF('Daily Log'!#REF!,$B256,'Daily Log'!#REF!),0)","v":0},{"$f":"IFERROR($E256*SUMIF('Daily Log'!#REF!,$B256,'Daily Log'!#REF!),0)","v":0},{"$f":"IFERROR($E256*SUMIF('Daily Log'!#REF!,$B256,'Daily Log'!#REF!),0)","v":0},{"$f":"IFERROR($E256*SUMIF('Daily Log'!#REF!,$B256,'Daily Log'!#REF!),0)","v":0},{"$f":"IFERROR($E256*SUMIF('Daily Log'!#REF!,$B256,'Daily Log'!#REF!),0)","v":0},{"$f":"IFERROR($E256*SUMIF('Daily Log'!#REF!,$B256,'Daily Log'!#REF!),0)","v":0},{"$f":"IFERROR($E256*SUMIF('Daily Log'!#REF!,$B256,'Daily Log'!#REF!),0)","v":0},{"$f":"IFERROR($E256*SUMIF('Daily Log'!#REF!,$B256,'Daily Log'!#REF!),0)","v":0},{"$f":"IFERROR($E256*SUMIF('Daily Log'!#REF!,$B256,'Daily Log'!#REF!),0)","v":0},{"$f":"IFERROR($E256*SUMIF('Daily Log'!#REF!,$B256,'Daily Log'!#REF!),0)","v":0},{"$f":"IFERROR($E256*SUMIF('Daily Log'!#REF!,$B256,'Daily Log'!#REF!),0)","v":0},{"$f":"IFERROR($E256*SUMIF('Daily Log'!#REF!,$B256,'Daily Log'!#REF!),0)","v":0},{"$f":"IFERROR($E256*SUMIF('Daily Log'!#REF!,$B256,'Daily Log'!#REF!),0)","v":0},{"$f":"IFERROR($E256*SUMIF('Daily Log'!#REF!,$B256,'Daily Log'!#REF!),0)","v":0},{"$f":"IFERROR($E256*SUMIF('Daily Log'!#REF!,$B256,'Daily Log'!#REF!),0)","v":0},{"$f":"IFERROR($E256*SUMIF('Daily Log'!#REF!,$B256,'Daily Log'!#REF!),0)","v":0},{"$f":"IFERROR($E256*SUMIF('Daily Log'!#REF!,$B256,'Daily Log'!#REF!),0)","v":0},{"$f":"IFERROR($E256*SUMIF('Daily Log'!#REF!,$B256,'Daily Log'!#REF!),0)","v":0},{"$f":"IFERROR($E256*SUMIF('Daily Log'!#REF!,$B256,'Daily Log'!#REF!),0)","v":0},{"$f":"IFERROR($E256*SUMIF('Daily Log'!#REF!,$B256,'Daily Log'!#REF!),0)","v":0},{"$f":"IFERROR($E256*SUMIF('Daily Log'!#REF!,$B256,'Daily Log'!#REF!),0)","v":0},{"$f":"IFERROR($E256*SUMIF('Daily Log'!#REF!,$B256,'Daily Log'!#REF!),0)","v":0}]
[null,"GE04 DUNHILL MT LITE",null,"CIGARETTE",1,0,{"$f":"IFERROR($E257*SUMIF('Daily Log'!$B$18:$B$1017,$B257,'Daily Log'!$C$18:$C$1017),0)","v":0},{"$f":"IFERROR($E257*SUMIF('Daily Log'!$E$18:$E$1017,$B257,'Daily Log'!$F$18:$F$1017),0)","v":0},{"$f":"IFERROR($E257*SUMIF('Daily Log'!$H$18:$H$1017,$B257,'Daily Log'!$I$18:$I$1017),0)","v":0},{"$f":"IFERROR($E257*SUMIF('Daily Log'!$K$18:$K$1017,$B257,'Daily Log'!$L$18:$L$1017),0)","v":0},{"$f":"IFERROR($E257*SUMIF('Daily Log'!$N$18:$N$1017,$B257,'Daily Log'!$O$18:$O$1017),0)","v":0},{"$f":"IFERROR($E257*SUMIF('Daily Log'!#REF!,$B257,'Daily Log'!#REF!),0)","v":0},{"$f":"IFERROR($E257*SUMIF('Daily Log'!#REF!,$B257,'Daily Log'!#REF!),0)","v":0},{"$f":"IFERROR($E257*SUMIF('Daily Log'!#REF!,$B257,'Daily Log'!#REF!),0)","v":0},{"$f":"IFERROR($E257*SUMIF('Daily Log'!#REF!,$B257,'Daily Log'!#REF!),0)","v":0},{"$f":"IFERROR($E257*SUMIF('Daily Log'!#REF!,$B257,'Daily Log'!#REF!),0)","v":0},{"$f":"IFERROR($E257*SUMIF('Daily Log'!#REF!,$B257,'Daily Log'!#REF!),0)","v":0},{"$f":"IFERROR($E257*SUMIF('Daily Log'!#REF!,$B257,'Daily Log'!#REF!),0)","v":0},{"$f":"IFERROR($E257*SUMIF('Daily Log'!#REF!,$B257,'Daily Log'!#REF!),0)","v":0},{"$f":"IFERROR($E257*SUMIF('Daily Log'!#REF!,$B257,'Daily Log'!#REF!),0)","v":0},{"$f":"IFERROR($E257*SUMIF('Daily Log'!#REF!,$B257,'Daily Log'!#REF!),0)","v":0},{"$f":"IFERROR($E257*SUMIF('Daily Log'!#REF!,$B257,'Daily Log'!#REF!),0)","v":0},{"$f":"IFERROR($E257*SUMIF('Daily Log'!#REF!,$B257,'Daily Log'!#REF!),0)","v":0},{"$f":"IFERROR($E257*SUMIF('Daily Log'!#REF!,$B257,'Daily Log'!#REF!),0)","v":0},{"$f":"IFERROR($E257*SUMIF('Daily Log'!#REF!,$B257,'Daily Log'!#REF!),0)","v":0},{"$f":"IFERROR($E257*SUMIF('Daily Log'!#REF!,$B257,'Daily Log'!#REF!),0)","v":0},{"$f":"IFERROR($E257*SUMIF('Daily Log'!#REF!,$B257,'Daily Log'!#REF!),0)","v":0},{"$f":"IFERROR($E257*SUMIF('Daily Log'!#REF!,$B257,'Daily Log'!#REF!),0)","v":0},{"$f":"IFERROR($E257*SUMIF('Daily Log'!#REF!,$B257,'Daily Log'!#REF!),0)","v":0},{"$f":"IFERROR($E257*SUMIF('Daily Log'!#REF!,$B257,'Daily Log'!#REF!),0)","v":0},{"$f":"IFERROR($E257*SUMIF('Daily Log'!#REF!,$B257,'Daily Log'!#REF!),0)","v":0},{"$f":"IFERROR($E257*SUMIF('Daily Log'!#REF!,$B257,'Daily Log'!#REF!),0)","v":0},{"$f":"IFERROR($E257*SUMIF('Daily Log'!#REF!,$B257,'Daily Log'!#REF!),0)","v":0},{"$f":"IFERROR($E257*SUMIF('Daily Log'!#REF!,$B257,'Daily Log'!#REF!),0)","v":0},{"$f":"IFERROR($E257*SUMIF('Daily Log'!#REF!,$B257,'Daily Log'!#REF!),0)","v":0},{"$f":"IFERROR($E257*SUMIF('Daily Log'!#REF!,$B257,'Daily Log'!#REF!),0)","v":0},{"$f":"IFERROR($E257*SUMIF('Daily Log'!#REF!,$B257,'Daily Log'!#REF!),0)","v":0}]
[null,"GE05 DUNHILL BOOST",null,"CIGARETTE",1,2,{"$f":"IFERROR($E258*SUMIF('Daily Log'!$B$18:$B$1017,$B258,'Daily Log'!$C$18:$C$1017),0)","v":1},{"$f":"IFERROR($E258*SUMIF('Daily Log'!$E$18:$E$1017,$B258,'Daily Log'!$F$18:$F$1017),0)","v":0},{"$f":"IFERROR($E258*SUMIF('Daily Log'!$H$18:$H$1017,$B258,'Daily Log'!$I$18:$I$1017),0)","v":0},{"$f":"IFERROR($E258*SUMIF('Daily Log'!$K$18:$K$1017,$B258,'Daily Log'!$L$18:$L$1017),0)","v":0},{"$f":"IFERROR($E258*SUMIF('Daily Log'!$N$18:$N$1017,$B258,'Daily Log'!$O$18:$O$1017),0)","v":1},{"$f":"IFERROR($E258*SUMIF('Daily Log'!#REF!,$B258,'Daily Log'!#REF!),0)","v":0},{"$f":"IFERROR($E258*SUMIF('Daily Log'!#REF!,$B258,'Daily Log'!#REF!),0)","v":0},{"$f":"IFERROR($E258*SUMIF('Daily Log'!#REF!,$B258,'Daily Log'!#REF!),0)","v":0},{"$f":"IFERROR($E258*SUMIF('Daily Log'!#REF!,$B258,'Daily Log'!#REF!),0)","v":0},{"$f":"IFERROR($E258*SUMIF('Daily Log'!#REF!,$B258,'Daily Log'!#REF!),0)","v":0},{"$f":"IFERROR($E258*SUMIF('Daily Log'!#REF!,$B258,'Daily Log'!#REF!),0)","v":0},{"$f":"IFERROR($E258*SUMIF('Daily Log'!#REF!,$B258,'Daily Log'!#REF!),0)","v":0},{"$f":"IFERROR($E258*SUMIF('Daily Log'!#REF!,$B258,'Daily Log'!#REF!),0)","v":0},{"$f":"IFERROR($E258*SUMIF('Daily Log'!#REF!,$B258,'Daily Log'!#REF!),0)","v":0},{"$f":"IFERROR($E258*SUMIF('Daily Log'!#REF!,$B258,'Daily Log'!#REF!),0)","v":0},{"$f":"IFERROR($E258*SUMIF('Daily Log'!#REF!,$B258,'Daily Log'!#REF!),0)","v":0},{"$f":"IFERROR($E258*SUMIF('Daily Log'!#REF!,$B258,'Daily Log'!#REF!),0)","v":0},{"$f":"IFERROR($E258*SUMIF('Daily Log'!#REF!,$B258,'Daily Log'!#REF!),0)","v":0},{"$f":"IFERROR($E258*SUMIF('Daily Log'!#REF!,$B258,'Daily Log'!#REF!),0)","v":0},{"$f":"IFERROR($E258*SUMIF('Daily Log'!#REF!,$B258,'Daily Log'!#REF!),0)","v":0},{"$f":"IFERROR($E258*SUMIF('Daily Log'!#REF!,$B258,'Daily Log'!#REF!),0)","v":0},{"$f":"IFERROR($E258*SUMIF('Daily Log'!#REF!,$B258,'Daily Log'!#REF!),0)","v":0},{"$f":"IFERROR($E258*SUMIF('Daily Log'!#REF!,$B258,'Daily Log'!#REF!),0)","v":0},{"$f":"IFERROR($E258*SUMIF('Daily Log'!#REF!,$B258,'Daily Log'!#REF!),0)","v":0},{"$f":"IFERROR($E258*SUMIF('Daily Log'!#REF!,$B258,'Daily Log'!#REF!),0)","v":0},{"$f":"IFERROR($E258*SUMIF('Daily Log'!#REF!,$B258,'Daily Log'!#REF!),0)","v":0},{"$f":"IFERROR($E258*SUMIF('Daily Log'!#REF!,$B258,'Daily Log'!#REF!),0)","v":0},{"$f":"IFERROR($E258*SUMIF('Daily Log'!#REF!,$B258,'Daily Log'!#REF!),0)","v":0},{"$f":"IFERROR($E258*SUMIF('Daily Log'!#REF!,$B258,'Daily Log'!#REF!),0)","v":0},{"$f":"IFERROR($E258*SUMIF('Daily Log'!#REF!,$B258,'Daily Log'!#REF!),0)","v":0},{"$f":"IFERROR($E258*SUMIF('Daily Log'!#REF!,$B258,'Daily Log'!#REF!),0)","v":0}]
[null,"GE06 DUNHILL SWITCH",null,"CIGARETTE",1,0,{"$f":"IFERROR($E259*SUMIF('Daily Log'!$B$18:$B$1017,$B259,'Daily Log'!$C$18:$C$1017),0)","v":0},{"$f":"IFERROR($E259*SUMIF('Daily Log'!$E$18:$E$1017,$B259,'Daily Log'!$F$18:$F$1017),0)","v":0},{"$f":"IFERROR($E259*SUMIF('Daily Log'!$H$18:$H$1017,$B259,'Daily Log'!$I$18:$I$1017),0)","v":0},{"$f":"IFERROR($E259*SUMIF('Daily Log'!$K$18:$K$1017,$B259,'Daily Log'!$L$18:$L$1017),0)","v":0},{"$f":"IFERROR($E259*SUMIF('Daily Log'!$N$18:$N$1017,$B259,'Daily Log'!$O$18:$O$1017),0)","v":0},{"$f":"IFERROR($E259*SUMIF('Daily Log'!#REF!,$B259,'Daily Log'!#REF!),0)","v":0},{"$f":"IFERROR($E259*SUMIF('Daily Log'!#REF!,$B259,'Daily Log'!#REF!),0)","v":0},{"$f":"IFERROR($E259*SUMIF('Daily Log'!#REF!,$B259,'Daily Log'!#REF!),0)","v":0},{"$f":"IFERROR($E259*SUMIF('Daily Log'!#REF!,$B259,'Daily Log'!#REF!),0)","v":0},{"$f":"IFERROR($E259*SUMIF('Daily Log'!#REF!,$B259,'Daily Log'!#REF!),0)","v":0},{"$f":"IFERROR($E259*SUMIF('Daily Log'!#REF!,$B259,'Daily Log'!#REF!),0)","v":0},{"$f":"IFERROR($E259*SUMIF('Daily Log'!#REF!,$B259,'Daily Log'!#REF!),0)","v":0},{"$f":"IFERROR($E259*SUMIF('Daily Log'!#REF!,$B259,'Daily Log'!#REF!),0)","v":0},{"$f":"IFERROR($E259*SUMIF('Daily Log'!#REF!,$B259,'Daily Log'!#REF!),0)","v":0},{"$f":"IFERROR($E259*SUMIF('Daily Log'!#REF!,$B259,'Daily Log'!#REF!),0)","v":0},{"$f":"IFERROR($E259*SUMIF('Daily Log'!#REF!,$B259,'Daily Log'!#REF!),0)","v":0},{"$f":"IFERROR($E259*SUMIF('Daily Log'!#REF!,$B259,'Daily Log'!#REF!),0)","v":0},{"$f":"IFERROR($E259*SUMIF('Daily Log'!#REF!,$B259,'Daily Log'!#REF!),0)","v":0},{"$f":"IFERROR($E259*SUMIF('Daily Log'!#REF!,$B259,'Daily Log'!#REF!),0)","v":0},{"$f":"IFERROR($E259*SUMIF('Daily Log'!#REF!,$B259,'Daily Log'!#REF!),0)","v":0},{"$f":"IFERROR($E259*SUMIF('Daily Log'!#REF!,$B259,'Daily Log'!#REF!),0)","v":0},{"$f":"IFERROR($E259*SUMIF('Daily Log'!#REF!,$B259,'Daily Log'!#REF!),0)","v":0},{"$f":"IFERROR($E259*SUMIF('Daily Log'!#REF!,$B259,'Daily Log'!#REF!),0)","v":0},{"$f":"IFERROR($E259*SUMIF('Daily Log'!#REF!,$B259,'Daily Log'!#REF!),0)","v":0},{"$f":"IFERROR($E259*SUMIF('Daily Log'!#REF!,$B259,'Daily Log'!#REF!),0)","v":0},{"$f":"IFERROR($E259*SUMIF('Daily Log'!#REF!,$B259,'Daily Log'!#REF!),0)","v":0},{"$f":"IFERROR($E259*SUMIF('Daily Log'!#REF!,$B259,'Daily Log'!#REF!),0)","v":0},{"$f":"IFERROR($E259*SUMIF('Daily Log'!#REF!,$B259,'Daily Log'!#REF!),0)","v":0},{"$f":"IFERROR($E259*SUMIF('Daily Log'!#REF!,$B259,'Daily Log'!#REF!),0)","v":0},{"$f":"IFERROR($E259*SUMIF('Daily Log'!#REF!,$B259,'Daily Log'!#REF!),0)","v":0},{"$f":"IFERROR($E259*SUMIF('Daily Log'!#REF!,$B259,'Daily Log'!#REF!),0)","v":0}]
[null,"GE07 DUNHILL ICE",null,"CIGARETTE",1,4,{"$f":"IFERROR($E260*SUMIF('Daily Log'!$B$18:$B$1017,$B260,'Daily Log'!$C$18:$C$1017),0)","v":1},{"$f":"IFERROR($E260*SUMIF('Daily Log'!$E$18:$E$1017,$B260,'Daily Log'!$F$18:$F$1017),0)","v":0},{"$f":"IFERROR($E260*SUMIF('Daily Log'!$H$18:$H$1017,$B260,'Daily Log'!$I$18:$I$1017),0)","v":0},{"$f":"IFERROR($E260*SUMIF('Daily Log'!$K$18:$K$1017,$B260,'Daily Log'!$L$18:$L$1017),0)","v":3},{"$f":"IFERROR($E260*SUMIF('Daily Log'!$N$18:$N$1017,$B260,'Daily Log'!$O$18:$O$1017),0)","v":0},{"$f":"IFERROR($E260*SUMIF('Daily Log'!#REF!,$B260,'Daily Log'!#REF!),0)","v":0},{"$f":"IFERROR($E260*SUMIF('Daily Log'!#REF!,$B260,'Daily Log'!#REF!),0)","v":0},{"$f":"IFERROR($E260*SUMIF('Daily Log'!#REF!,$B260,'Daily Log'!#REF!),0)","v":0},{"$f":"IFERROR($E260*SUMIF('Daily Log'!#REF!,$B260,'Daily Log'!#REF!),0)","v":0},{"$f":"IFERROR($E260*SUMIF('Daily Log'!#REF!,$B260,'Daily Log'!#REF!),0)","v":0},{"$f":"IFERROR($E260*SUMIF('Daily Log'!#REF!,$B260,'Daily Log'!#REF!),0)","v":0},{"$f":"IFERROR($E260*SUMIF('Daily Log'!#REF!,$B260,'Daily Log'!#REF!),0)","v":0},{"$f":"IFERROR($E260*SUMIF('Daily Log'!#REF!,$B260,'Daily Log'!#REF!),0)","v":0},{"$f":"IFERROR($E260*SUMIF('Daily Log'!#REF!,$B260,'Daily Log'!#REF!),0)","v":0},{"$f":"IFERROR($E260*SUMIF('Daily Log'!#REF!,$B260,'Daily Log'!#REF!),0)","v":0},{"$f":"IFERROR($E260*SUMIF('Daily Log'!#REF!,$B260,'Daily Log'!#REF!),0)","v":0},{"$f":"IFERROR($E260*SUMIF('Daily Log'!#REF!,$B260,'Daily Log'!#REF!),0)","v":0},{"$f":"IFERROR($E260*SUMIF('Daily Log'!#REF!,$B260,'Daily Log'!#REF!),0)","v":0},{"$f":"IFERROR($E260*SUMIF('Daily Log'!#REF!,$B260,'Daily Log'!#REF!),0)","v":0},{"$f":"IFERROR($E260*SUMIF('Daily Log'!#REF!,$B260,'Daily Log'!#REF!),0)","v":0},{"$f":"IFERROR($E260*SUMIF('Daily Log'!#REF!,$B260,'Daily Log'!#REF!),0)","v":0},{"$f":"IFERROR($E260*SUMIF('Daily Log'!#REF!,$B260,'Daily Log'!#REF!),0)","v":0},{"$f":"IFERROR($E260*SUMIF('Daily Log'!#REF!,$B260,'Daily Log'!#REF!),0)","v":0},{"$f":"IFERROR($E260*SUMIF('Daily Log'!#REF!,$B260,'Daily Log'!#REF!),0)","v":0},{"$f":"IFERROR($E260*SUMIF('Daily Log'!#REF!,$B260,'Daily Log'!#REF!),0)","v":0},{"$f":"IFERROR($E260*SUMIF('Daily Log'!#REF!,$B260,'Daily Log'!#REF!),0)","v":0},{"$f":"IFERROR($E260*SUMIF('Daily Log'!#REF!,$B260,'Daily Log'!#REF!),0)","v":0},{"$f":"IFERROR($E260*SUMIF('Daily Log'!#REF!,$B260,'Daily Log'!#REF!),0)","v":0},{"$f":"IFERROR($E260*SUMIF('Daily Log'!#REF!,$B260,'Daily Log'!#REF!),0)","v":0},{"$f":"IFERROR($E260*SUMIF('Daily Log'!#REF!,$B260,'Daily Log'!#REF!),0)","v":0},{"$f":"IFERROR($E260*SUMIF('Daily Log'!#REF!,$B260,'Daily Log'!#REF!),0)","v":0}]
[null,"GF01 KENT ORIGINAL",null,"CIGARETTE",1,0,{"$f":"IFERROR($E261*SUMIF('Daily Log'!$B$18:$B$1017,$B261,'Daily Log'!$C$18:$C$1017),0)","v":0},{"$f":"IFERROR($E261*SUMIF('Daily Log'!$E$18:$E$1017,$B261,'Daily Log'!$F$18:$F$1017),0)","v":0},{"$f":"IFERROR($E261*SUMIF('Daily Log'!$H$18:$H$1017,$B261,'Daily Log'!$I$18:$I$1017),0)","v":0},{"$f":"IFERROR($E261*SUMIF('Daily Log'!$K$18:$K$1017,$B261,'Daily Log'!$L$18:$L$1017),0)","v":0},{"$f":"IFERROR($E261*SUMIF('Daily Log'!$N$18:$N$1017,$B261,'Daily Log'!$O$18:$O$1017),0)","v":0},{"$f":"IFERROR($E261*SUMIF('Daily Log'!#REF!,$B261,'Daily Log'!#REF!),0)","v":0},{"$f":"IFERROR($E261*SUMIF('Daily Log'!#REF!,$B261,'Daily Log'!#REF!),0)","v":0},{"$f":"IFERROR($E261*SUMIF('Daily Log'!#REF!,$B261,'Daily Log'!#REF!),0)","v":0},{"$f":"IFERROR($E261*SUMIF('Daily Log'!#REF!,$B261,'Daily Log'!#REF!),0)","v":0},{"$f":"IFERROR($E261*SUMIF('Daily Log'!#REF!,$B261,'Daily Log'!#REF!),0)","v":0},{"$f":"IFERROR($E261*SUMIF('Daily Log'!#REF!,$B261,'Daily Log'!#REF!),0)","v":0},{"$f":"IFERROR($E261*SUMIF('Daily Log'!#REF!,$B261,'Daily Log'!#REF!),0)","v":0},{"$f":"IFERROR($E261*SUMIF('Daily Log'!#REF!,$B261,'Daily Log'!#REF!),0)","v":0},{"$f":"IFERROR($E261*SUMIF('Daily Log'!#REF!,$B261,'Daily Log'!#REF!),0)","v":0},{"$f":"IFERROR($E261*SUMIF('Daily Log'!#REF!,$B261,'Daily Log'!#REF!),0)","v":0},{"$f":"IFERROR($E261*SUMIF('Daily Log'!#REF!,$B261,'Daily Log'!#REF!),0)","v":0},{"$f":"IFERROR($E261*SUMIF('Daily Log'!#REF!,$B261,'Daily Log'!#REF!),0)","v":0},{"$f":"IFERROR($E261*SUMIF('Daily Log'!#REF!,$B261,'Daily Log'!#REF!),0)","v":0},{"$f":"IFERROR($E261*SUMIF('Daily Log'!#REF!,$B261,'Daily Log'!#REF!),0)","v":0},{"$f":"IFERROR($E261*SUMIF('Daily Log'!#REF!,$B261,'Daily Log'!#REF!),0)","v":0},{"$f":"IFERROR($E261*SUMIF('Daily Log'!#REF!,$B261,'Daily Log'!#REF!),0)","v":0},{"$f":"IFERROR($E261*SUMIF('Daily Log'!#REF!,$B261,'Daily Log'!#REF!),0)","v":0},{"$f":"IFERROR($E261*SUMIF('Daily Log'!#REF!,$B261,'Daily Log'!#REF!),0)","v":0},{"$f":"IFERROR($E261*SUMIF('Daily Log'!#REF!,$B261,'Daily Log'!#REF!),0)","v":0},{"$f":"IFERROR($E261*SUMIF('Daily Log'!#REF!,$B261,'Daily Log'!#REF!),0)","v":0},{"$f":"IFERROR($E261*SUMIF('Daily Log'!#REF!,$B261,'Daily Log'!#REF!),0)","v":0},{"$f":"IFERROR($E261*SUMIF('Daily Log'!#REF!,$B261,'Daily Log'!#REF!),0)","v":0},{"$f":"IFERROR($E261*SUMIF('Daily Log'!#REF!,$B261,'Daily Log'!#REF!),0)","v":0},{"$f":"IFERROR($E261*SUMIF('Daily Log'!#REF!,$B261,'Daily Log'!#REF!),0)","v":0},{"$f":"IFERROR($E261*SUMIF('Daily Log'!#REF!,$B261,'Daily Log'!#REF!),0)","v":0},{"$f":"IFERROR($E261*SUMIF('Daily Log'!#REF!,$B261,'Daily Log'!#REF!),0)","v":0}]
[null,"GF02 KENT FUTURA",null,"CIGARETTE",1,0,{"$f":"IFERROR($E262*SUMIF('Daily Log'!$B$18:$B$1017,$B262,'Daily Log'!$C$18:$C$1017),0)","v":0},{"$f":"IFERROR($E262*SUMIF('Daily Log'!$E$18:$E$1017,$B262,'Daily Log'!$F$18:$F$1017),0)","v":0},{"$f":"IFERROR($E262*SUMIF('Daily Log'!$H$18:$H$1017,$B262,'Daily Log'!$I$18:$I$1017),0)","v":0},{"$f":"IFERROR($E262*SUMIF('Daily Log'!$K$18:$K$1017,$B262,'Daily Log'!$L$18:$L$1017),0)","v":0},{"$f":"IFERROR($E262*SUMIF('Daily Log'!$N$18:$N$1017,$B262,'Daily Log'!$O$18:$O$1017),0)","v":0},{"$f":"IFERROR($E262*SUMIF('Daily Log'!#REF!,$B262,'Daily Log'!#REF!),0)","v":0},{"$f":"IFERROR($E262*SUMIF('Daily Log'!#REF!,$B262,'Daily Log'!#REF!),0)","v":0},{"$f":"IFERROR($E262*SUMIF('Daily Log'!#REF!,$B262,'Daily Log'!#REF!),0)","v":0},{"$f":"IFERROR($E262*SUMIF('Daily Log'!#REF!,$B262,'Daily Log'!#REF!),0)","v":0},{"$f":"IFERROR($E262*SUMIF('Daily Log'!#REF!,$B262,'Daily Log'!#REF!),0)","v":0},{"$f":"IFERROR($E262*SUMIF('Daily Log'!#REF!,$B262,'Daily Log'!#REF!),0)","v":0},{"$f":"IFERROR($E262*SUMIF('Daily Log'!#REF!,$B262,'Daily Log'!#REF!),0)","v":0},{"$f":"IFERROR($E262*SUMIF('Daily Log'!#REF!,$B262,'Daily Log'!#REF!),0)","v":0},{"$f":"IFERROR($E262*SUMIF('Daily Log'!#REF!,$B262,'Daily Log'!#REF!),0)","v":0},{"$f":"IFERROR($E262*SUMIF('Daily Log'!#REF!,$B262,'Daily Log'!#REF!),0)","v":0},{"$f":"IFERROR($E262*SUMIF('Daily Log'!#REF!,$B262,'Daily Log'!#REF!),0)","v":0},{"$f":"IFERROR($E262*SUMIF('Daily Log'!#REF!,$B262,'Daily Log'!#REF!),0)","v":0},{"$f":"IFERROR($E262*SUMIF('Daily Log'!#REF!,$B262,'Daily Log'!#REF!),0)","v":0},{"$f":"IFERROR($E262*SUMIF('Daily Log'!#REF!,$B262,'Daily Log'!#REF!),0)","v":0},{"$f":"IFERROR($E262*SUMIF('Daily Log'!#REF!,$B262,'Daily Log'!#REF!),0)","v":0},{"$f":"IFERROR($E262*SUMIF('Daily Log'!#REF!,$B262,'Daily Log'!#REF!),0)","v":0},{"$f":"IFERROR($E262*SUMIF('Daily Log'!#REF!,$B262,'Daily Log'!#REF!),0)","v":0},{"$f":"IFERROR($E262*SUMIF('Daily Log'!#REF!,$B262,'Daily Log'!#REF!),0)","v":0},{"$f":"IFERROR($E262*SUMIF('Daily Log'!#REF!,$B262,'Daily Log'!#REF!),0)","v":0},{"$f":"IFERROR($E262*SUMIF('Daily Log'!#REF!,$B262,'Daily Log'!#REF!),0)","v":0},{"$f":"IFERROR($E262*SUMIF('Daily Log'!#REF!,$B262,'Daily Log'!#REF!),0)","v":0},{"$f":"IFERROR($E262*SUMIF('Daily Log'!#REF!,$B262,'Daily Log'!#REF!),0)","v":0},{"$f":"IFERROR($E262*SUMIF('Daily Log'!#REF!,$B262,'Daily Log'!#REF!),0)","v":0},{"$f":"IFERROR($E262*SUMIF('Daily Log'!#REF!,$B262,'Daily Log'!#REF!),0)","v":0},{"$f":"IFERROR($E262*SUMIF('Daily Log'!#REF!,$B262,'Daily Log'!#REF!),0)","v":0},{"$f":"IFERROR($E262*SUMIF('Daily Log'!#REF!,$B262,'Daily Log'!#REF!),0)","v":0}]
[null,"GF03 KENT MINTEK",null,"CIGARETTE",1,0,{"$f":"IFERROR($E263*SUMIF('Daily Log'!$B$18:$B$1017,$B263,'Daily Log'!$C$18:$C$1017),0)","v":0},{"$f":"IFERROR($E263*SUMIF('Daily Log'!$E$18:$E$1017,$B263,'Daily Log'!$F$18:$F$1017),0)","v":0},{"$f":"IFERROR($E263*SUMIF('Daily Log'!$H$18:$H$1017,$B263,'Daily Log'!$I$18:$I$1017),0)","v":0},{"$f":"IFERROR($E263*SUMIF('Daily Log'!$K$18:$K$1017,$B263,'Daily Log'!$L$18:$L$1017),0)","v":0},{"$f":"IFERROR($E263*SUMIF('Daily Log'!$N$18:$N$1017,$B263,'Daily Log'!$O$18:$O$1017),0)","v":0},{"$f":"IFERROR($E263*SUMIF('Daily Log'!#REF!,$B263,'Daily Log'!#REF!),0)","v":0},{"$f":"IFERROR($E263*SUMIF('Daily Log'!#REF!,$B263,'Daily Log'!#REF!),0)","v":0},{"$f":"IFERROR($E263*SUMIF('Daily Log'!#REF!,$B263,'Daily Log'!#REF!),0)","v":0},{"$f":"IFERROR($E263*SUMIF('Daily Log'!#REF!,$B263,'Daily Log'!#REF!),0)","v":0},{"$f":"IFERROR($E263*SUMIF('Daily Log'!#REF!,$B263,'Daily Log'!#REF!),0)","v":0},{"$f":"IFERROR($E263*SUMIF('Daily Log'!#REF!,$B263,'Daily Log'!#REF!),0)","v":0},{"$f":"IFERROR($E263*SUMIF('Daily Log'!#REF!,$B263,'Daily Log'!#REF!),0)","v":0},{"$f":"IFERROR($E263*SUMIF('Daily Log'!#REF!,$B263,'Daily Log'!#REF!),0)","v":0},{"$f":"IFERROR($E263*SUMIF('Daily Log'!#REF!,$B263,'Daily Log'!#REF!),0)","v":0},{"$f":"IFERROR($E263*SUMIF('Daily Log'!#REF!,$B263,'Daily Log'!#REF!),0)","v":0},{"$f":"IFERROR($E263*SUMIF('Daily Log'!#REF!,$B263,'Daily Log'!#REF!),0)","v":0},{"$f":"IFERROR($E263*SUMIF('Daily Log'!#REF!,$B263,'Daily Log'!#REF!),0)","v":0},{"$f":"IFERROR($E263*SUMIF('Daily Log'!#REF!,$B263,'Daily Log'!#REF!),0)","v":0},{"$f":"IFERROR($E263*SUMIF('Daily Log'!#REF!,$B263,'Daily Log'!#REF!),0)","v":0},{"$f":"IFERROR($E263*SUMIF('Daily Log'!#REF!,$B263,'Daily Log'!#REF!),0)","v":0},{"$f":"IFERROR($E263*SUMIF('Daily Log'!#REF!,$B263,'Daily Log'!#REF!),0)","v":0},{"$f":"IFERROR($E263*SUMIF('Daily Log'!#REF!,$B263,'Daily Log'!#REF!),0)","v":0},{"$f":"IFERROR($E263*SUMIF('Daily Log'!#REF!,$B263,'Daily Log'!#REF!),0)","v":0},{"$f":"IFERROR($E263*SUMIF('Daily Log'!#REF!,$B263,'Daily Log'!#REF!),0)","v":0},{"$f":"IFERROR($E263*SUMIF('Daily Log'!#REF!,$B263,'Daily Log'!#REF!),0)","v":0},{"$f":"IFERROR($E263*SUMIF('Daily Log'!#REF!,$B263,'Daily Log'!#REF!),0)","v":0},{"$f":"IFERROR($E263*SUMIF('Daily Log'!#REF!,$B263,'Daily Log'!#REF!),0)","v":0},{"$f":"IFERROR($E263*SUMIF('Daily Log'!#REF!,$B263,'Daily Log'!#REF!),0)","v":0},{"$f":"IFERROR($E263*SUMIF('Daily Log'!#REF!,$B263,'Daily Log'!#REF!),0)","v":0},{"$f":"IFERROR($E263*SUMIF('Daily Log'!#REF!,$B263,'Daily Log'!#REF!),0)","v":0},{"$f":"IFERROR($E263*SUMIF('Daily Log'!#REF!,$B263,'Daily Log'!#REF!),0)","v":0}]
[null,"GF04 KENT NEO",null,"CIGARETTE",1,0,{"$f":"IFERROR($E264*SUMIF('Daily Log'!$B$18:$B$1017,$B264,'Daily Log'!$C$18:$C$1017),0)","v":0},{"$f":"IFERROR($E264*SUMIF('Daily Log'!$E$18:$E$1017,$B264,'Daily Log'!$F$18:$F$1017),0)","v":0},{"$f":"IFERROR($E264*SUMIF('Daily Log'!$H$18:$H$1017,$B264,'Daily Log'!$I$18:$I$1017),0)","v":0},{"$f":"IFERROR($E264*SUMIF('Daily Log'!$K$18:$K$1017,$B264,'Daily Log'!$L$18:$L$1017),0)","v":0},{"$f":"IFERROR($E264*SUMIF('Daily Log'!$N$18:$N$1017,$B264,'Daily Log'!$O$18:$O$1017),0)","v":0},{"$f":"IFERROR($E264*SUMIF('Daily Log'!#REF!,$B264,'Daily Log'!#REF!),0)","v":0},{"$f":"IFERROR($E264*SUMIF('Daily Log'!#REF!,$B264,'Daily Log'!#REF!),0)","v":0},{"$f":"IFERROR($E264*SUMIF('Daily Log'!#REF!,$B264,'Daily Log'!#REF!),0)","v":0},{"$f":"IFERROR($E264*SUMIF('Daily Log'!#REF!,$B264,'Daily Log'!#REF!),0)","v":0},{"$f":"IFERROR($E264*SUMIF('Daily Log'!#REF!,$B264,'Daily Log'!#REF!),0)","v":0},{"$f":"IFERROR($E264*SUMIF('Daily Log'!#REF!,$B264,'Daily Log'!#REF!),0)","v":0},{"$f":"IFERROR($E264*SUMIF('Daily Log'!#REF!,$B264,'Daily Log'!#REF!),0)","v":0},{"$f":"IFERROR($E264*SUMIF('Daily Log'!#REF!,$B264,'Daily Log'!#REF!),0)","v":0},{"$f":"IFERROR($E264*SUMIF('Daily Log'!#REF!,$B264,'Daily Log'!#REF!),0)","v":0},{"$f":"IFERROR($E264*SUMIF('Daily Log'!#REF!,$B264,'Daily Log'!#REF!),0)","v":0},{"$f":"IFERROR($E264*SUMIF('Daily Log'!#REF!,$B264,'Daily Log'!#REF!),0)","v":0},{"$f":"IFERROR($E264*SUMIF('Daily Log'!#REF!,$B264,'Daily Log'!#REF!),0)","v":0},{"$f":"IFERROR($E264*SUMIF('Daily Log'!#REF!,$B264,'Daily Log'!#REF!),0)","v":0},{"$f":"IFERROR($E264*SUMIF('Daily Log'!#REF!,$B264,'Daily Log'!#REF!),0)","v":0},{"$f":"IFERROR($E264*SUMIF('Daily Log'!#REF!,$B264,'Daily Log'!#REF!),0)","v":0},{"$f":"IFERROR($E264*SUMIF('Daily Log'!#REF!,$B264,'Daily Log'!#REF!),0)","v":0},{"$f":"IFERROR($E264*SUMIF('Daily Log'!#REF!,$B264,'Daily Log'!#REF!),0)","v":0},{"$f":"IFERROR($E264*SUMIF('Daily Log'!#REF!,$B264,'Daily Log'!#REF!),0)","v":0},{"$f":"IFERROR($E264*SUMIF('Daily Log'!#REF!,$B264,'Daily Log'!#REF!),0)","v":0},{"$f":"IFERROR($E264*SUMIF('Daily Log'!#REF!,$B264,'Daily Log'!#REF!),0)","v":0},{"$f":"IFERROR($E264*SUMIF('Daily Log'!#REF!,$B264,'Daily Log'!#REF!),0)","v":0},{"$f":"IFERROR($E264*SUMIF('Daily Log'!#REF!,$B264,'Daily Log'!#REF!),0)","v":0},{"$f":"IFERROR($E264*SUMIF('Daily Log'!#REF!,$B264,'Daily Log'!#REF!),0)","v":0},{"$f":"IFERROR($E264*SUMIF('Daily Log'!#REF!,$B264,'Daily Log'!#REF!),0)","v":0},{"$f":"IFERROR($E264*SUMIF('Daily Log'!#REF!,$B264,'Daily Log'!#REF!),0)","v":0},{"$f":"IFERROR($E264*SUMIF('Daily Log'!#REF!,$B264,'Daily Log'!#REF!),0)","v":0}]
[null,"ZAB01 1201:SFD STICK",null,"COMBO-SNAKCS",1,2,{"$f":"IFERROR($E265*SUMIF('Daily Log'!$B$18:$B$1017,$B265,'Daily Log'!$C$18:$C$1017),0)","v":1},{"$f":"IFERROR($E265*SUMIF('Daily Log'!$E$18:$E$1017,$B265,'Daily Log'!$F$18:$F$1017),0)","v":0},{"$f":"IFERROR($E265*SUMIF('Daily Log'!$H$18:$H$1017,$B265,'Daily Log'!$I$18:$I$1017),0)","v":1},{"$f":"IFERROR($E265*SUMIF('Daily Log'!$K$18:$K$1017,$B265,'Daily Log'!$L$18:$L$1017),0)","v":0},{"$f":"IFERROR($E265*SUMIF('Daily Log'!$N$18:$N$1017,$B265,'Daily Log'!$O$18:$O$1017),0)","v":0},{"$f":"IFERROR($E265*SUMIF('Daily Log'!#REF!,$B265,'Daily Log'!#REF!),0)","v":0},{"$f":"IFERROR($E265*SUMIF('Daily Log'!#REF!,$B265,'Daily Log'!#REF!),0)","v":0},{"$f":"IFERROR($E265*SUMIF('Daily Log'!#REF!,$B265,'Daily Log'!#REF!),0)","v":0},{"$f":"IFERROR($E265*SUMIF('Daily Log'!#REF!,$B265,'Daily Log'!#REF!),0)","v":0},{"$f":"IFERROR($E265*SUMIF('Daily Log'!#REF!,$B265,'Daily Log'!#REF!),0)","v":0},{"$f":"IFERROR($E265*SUMIF('Daily Log'!#REF!,$B265,'Daily Log'!#REF!),0)","v":0},{"$f":"IFERROR($E265*SUMIF('Daily Log'!#REF!,$B265,'Daily Log'!#REF!),0)","v":0},{"$f":"IFERROR($E265*SUMIF('Daily Log'!#REF!,$B265,'Daily Log'!#REF!),0)","v":0},{"$f":"IFERROR($E265*SUMIF('Daily Log'!#REF!,$B265,'Daily Log'!#REF!),0)","v":0},{"$f":"IFERROR($E265*SUMIF('Daily Log'!#REF!,$B265,'Daily Log'!#REF!),0)","v":0},{"$f":"IFERROR($E265*SUMIF('Daily Log'!#REF!,$B265,'Daily Log'!#REF!),0)","v":0},{"$f":"IFERROR($E265*SUMIF('Daily Log'!#REF!,$B265,'Daily Log'!#REF!),0)","v":0},{"$f":"IFERROR($E265*SUMIF('Daily Log'!#REF!,$B265,'Daily Log'!#REF!),0)","v":0},{"$f":"IFERROR($E265*SUMIF('Daily Log'!#REF!,$B265,'Daily Log'!#REF!),0)","v":0},{"$f":"IFERROR($E265*SUMIF('Daily Log'!#REF!,$B265,'Daily Log'!#REF!),0)","v":0},{"$f":"IFERROR($E265*SUMIF('Daily Log'!#REF!,$B265,'Daily Log'!#REF!),0)","v":0},{"$f":"IFERROR($E265*SUMIF('Daily Log'!#REF!,$B265,'Daily Log'!#REF!),0)","v":0},{"$f":"IFERROR($E265*SUMIF('Daily Log'!#REF!,$B265,'Daily Log'!#REF!),0)","v":0},{"$f":"IFERROR($E265*SUMIF('Daily Log'!#REF!,$B265,'Daily Log'!#REF!),0)","v":0},{"$f":"IFERROR($E265*SUMIF('Daily Log'!#REF!,$B265,'Daily Log'!#REF!),0)","v":0},{"$f":"IFERROR($E265*SUMIF('Daily Log'!#REF!,$B265,'Daily Log'!#REF!),0)","v":0},{"$f":"IFERROR($E265*SUMIF('Daily Log'!#REF!,$B265,'Daily Log'!#REF!),0)","v":0},{"$f":"IFERROR($E265*SUMIF('Daily Log'!#REF!,$B265,'Daily Log'!#REF!),0)","v":0},{"$f":"IFERROR($E265*SUMIF('Daily Log'!#REF!,$B265,'Daily Log'!#REF!),0)","v":0},{"$f":"IFERROR($E265*SUMIF('Daily Log'!#REF!,$B265,'Daily Log'!#REF!),0)","v":0},{"$f":"IFERROR($E265*SUMIF('Daily Log'!#REF!,$B265,'Daily Log'!#REF!),0)","v":0}]
[null,"ZAB02 1202:FRIES",null,"COMBO-SNAKCS",1,22,{"$f":"IFERROR($E266*SUMIF('Daily Log'!$B$18:$B$1017,$B266,'Daily Log'!$C$18:$C$1017),0)","v":7},{"$f":"IFERROR($E266*SUMIF('Daily Log'!$E$18:$E$1017,$B266,'Daily Log'!$F$18:$F$1017),0)","v":0},{"$f":"IFERROR($E266*SUMIF('Daily Log'!$H$18:$H$1017,$B266,'Daily Log'!$I$18:$I$1017),0)","v":6},{"$f":"IFERROR($E266*SUMIF('Daily Log'!$K$18:$K$1017,$B266,'Daily Log'!$L$18:$L$1017),0)","v":3},{"$f":"IFERROR($E266*SUMIF('Daily Log'!$N$18:$N$1017,$B266,'Daily Log'!$O$18:$O$1017),0)","v":6},{"$f":"IFERROR($E266*SUMIF('Daily Log'!#REF!,$B266,'Daily Log'!#REF!),0)","v":0},{"$f":"IFERROR($E266*SUMIF('Daily Log'!#REF!,$B266,'Daily Log'!#REF!),0)","v":0},{"$f":"IFERROR($E266*SUMIF('Daily Log'!#REF!,$B266,'Daily Log'!#REF!),0)","v":0},{"$f":"IFERROR($E266*SUMIF('Daily Log'!#REF!,$B266,'Daily Log'!#REF!),0)","v":0},{"$f":"IFERROR($E266*SUMIF('Daily Log'!#REF!,$B266,'Daily Log'!#REF!),0)","v":0},{"$f":"IFERROR($E266*SUMIF('Daily Log'!#REF!,$B266,'Daily Log'!#REF!),0)","v":0},{"$f":"IFERROR($E266*SUMIF('Daily Log'!#REF!,$B266,'Daily Log'!#REF!),0)","v":0},{"$f":"IFERROR($E266*SUMIF('Daily Log'!#REF!,$B266,'Daily Log'!#REF!),0)","v":0},{"$f":"IFERROR($E266*SUMIF('Daily Log'!#REF!,$B266,'Daily Log'!#REF!),0)","v":0},{"$f":"IFERROR($E266*SUMIF('Daily Log'!#REF!,$B266,'Daily Log'!#REF!),0)","v":0},{"$f":"IFERROR($E266*SUMIF('Daily Log'!#REF!,$B266,'Daily Log'!#REF!),0)","v":0},{"$f":"IFERROR($E266*SUMIF('Daily Log'!#REF!,$B266,'Daily Log'!#REF!),0)","v":0},{"$f":"IFERROR($E266*SUMIF('Daily Log'!#REF!,$B266,'Daily Log'!#REF!),0)","v":0},{"$f":"IFERROR($E266*SUMIF('Daily Log'!#REF!,$B266,'Daily Log'!#REF!),0)","v":0},{"$f":"IFERROR($E266*SUMIF('Daily Log'!#REF!,$B266,'Daily Log'!#REF!),0)","v":0},{"$f":"IFERROR($E266*SUMIF('Daily Log'!#REF!,$B266,'Daily Log'!#REF!),0)","v":0},{"$f":"IFERROR($E266*SUMIF('Daily Log'!#REF!,$B266,'Daily Log'!#REF!),0)","v":0},{"$f":"IFERROR($E266*SUMIF('Daily Log'!#REF!,$B266,'Daily Log'!#REF!),0)","v":0},{"$f":"IFERROR($E266*SUMIF('Daily Log'!#REF!,$B266,'Daily Log'!#REF!),0)","v":0},{"$f":"IFERROR($E266*SUMIF('Daily Log'!#REF!,$B266,'Daily Log'!#REF!),0)","v":0},{"$f":"IFERROR($E266*SUMIF('Daily Log'!#REF!,$B266,'Daily Log'!#REF!),0)","v":0},{"$f":"IFERROR($E266*SUMIF('Daily Log'!#REF!,$B266,'Daily Log'!#REF!),0)","v":0},{"$f":"IFERROR($E266*SUMIF('Daily Log'!#REF!,$B266,'Daily Log'!#REF!),0)","v":0},{"$f":"IFERROR($E266*SUMIF('Daily Log'!#REF!,$B266,'Daily Log'!#REF!),0)","v":0},{"$f":"IFERROR($E266*SUMIF('Daily Log'!#REF!,$B266,'Daily Log'!#REF!),0)","v":0},{"$f":"IFERROR($E266*SUMIF('Daily Log'!#REF!,$B266,'Daily Log'!#REF!),0)","v":0}]
[null,"ZAB03 1203:GOLD MROOM",null,"COMBO-SNAKCS",1,7,{"$f":"IFERROR($E267*SUMIF('Daily Log'!$B$18:$B$1017,$B267,'Daily Log'!$C$18:$C$1017),0)","v":3},{"$f":"IFERROR($E267*SUMIF('Daily Log'!$E$18:$E$1017,$B267,'Daily Log'!$F$18:$F$1017),0)","v":0},{"$f":"IFERROR($E267*SUMIF('Daily Log'!$H$18:$H$1017,$B267,'Daily Log'!$I$18:$I$1017),0)","v":2},{"$f":"IFERROR($E267*SUMIF('Daily Log'!$K$18:$K$1017,$B267,'Daily Log'!$L$18:$L$1017),0)","v":2},{"$f":"IFERROR($E267*SUMIF('Daily Log'!$N$18:$N$1017,$B267,'Daily Log'!$O$18:$O$1017),0)","v":0},{"$f":"IFERROR($E267*SUMIF('Daily Log'!#REF!,$B267,'Daily Log'!#REF!),0)","v":0},{"$f":"IFERROR($E267*SUMIF('Daily Log'!#REF!,$B267,'Daily Log'!#REF!),0)","v":0},{"$f":"IFERROR($E267*SUMIF('Daily Log'!#REF!,$B267,'Daily Log'!#REF!),0)","v":0},{"$f":"IFERROR($E267*SUMIF('Daily Log'!#REF!,$B267,'Daily Log'!#REF!),0)","v":0},{"$f":"IFERROR($E267*SUMIF('Daily Log'!#REF!,$B267,'Daily Log'!#REF!),0)","v":0},{"$f":"IFERROR($E267*SUMIF('Daily Log'!#REF!,$B267,'Daily Log'!#REF!),0)","v":0},{"$f":"IFERROR($E267*SUMIF('Daily Log'!#REF!,$B267,'Daily Log'!#REF!),0)","v":0},{"$f":"IFERROR($E267*SUMIF('Daily Log'!#REF!,$B267,'Daily Log'!#REF!),0)","v":0},{"$f":"IFERROR($E267*SUMIF('Daily Log'!#REF!,$B267,'Daily Log'!#REF!),0)","v":0},{"$f":"IFERROR($E267*SUMIF('Daily Log'!#REF!,$B267,'Daily Log'!#REF!),0)","v":0},{"$f":"IFERROR($E267*SUMIF('Daily Log'!#REF!,$B267,'Daily Log'!#REF!),0)","v":0},{"$f":"IFERROR($E267*SUMIF('Daily Log'!#REF!,$B267,'Daily Log'!#REF!),0)","v":0},{"$f":"IFERROR($E267*SUMIF('Daily Log'!#REF!,$B267,'Daily Log'!#REF!),0)","v":0},{"$f":"IFERROR($E267*SUMIF('Daily Log'!#REF!,$B267,'Daily Log'!#REF!),0)","v":0},{"$f":"IFERROR($E267*SUMIF('Daily Log'!#REF!,$B267,'Daily Log'!#REF!),0)","v":0},{"$f":"IFERROR($E267*SUMIF('Daily Log'!#REF!,$B267,'Daily Log'!#REF!),0)","v":0},{"$f":"IFERROR($E267*SUMIF('Daily Log'!#REF!,$B267,'Daily Log'!#REF!),0)","v":0},{"$f":"IFERROR($E267*SUMIF('Daily Log'!#REF!,$B267,'Daily Log'!#REF!),0)","v":0},{"$f":"IFERROR($E267*SUMIF('Daily Log'!#REF!,$B267,'Daily Log'!#REF!),0)","v":0},{"$f":"IFERROR($E267*SUMIF('Daily Log'!#REF!,$B267,'Daily Log'!#REF!),0)","v":0},{"$f":"IFERROR($E267*SUMIF('Daily Log'!#REF!,$B267,'Daily Log'!#REF!),0)","v":0},{"$f":"IFERROR($E267*SUMIF('Daily Log'!#REF!,$B267,'Daily Log'!#REF!),0)","v":0},{"$f":"IFERROR($E267*SUMIF('Daily Log'!#REF!,$B267,'Daily Log'!#REF!),0)","v":0},{"$f":"IFERROR($E267*SUMIF('Daily Log'!#REF!,$B267,'Daily Log'!#REF!),0)","v":0},{"$f":"IFERROR($E267*SUMIF('Daily Log'!#REF!,$B267,'Daily Log'!#REF!),0)","v":0},{"$f":"IFERROR($E267*SUMIF('Daily Log'!#REF!,$B267,'Daily Log'!#REF!),0)","v":0}]
[null,"ZAB04 1204:F.BALL",null,"COMBO-SNAKCS",1,4,{"$f":"IFERROR($E268*SUMIF('Daily Log'!$B$18:$B$1017,$B268,'Daily Log'!$C$18:$C$1017),0)","v":0},{"$f":"IFERROR($E268*SUMIF('Daily Log'!$E$18:$E$1017,$B268,'Daily Log'!$F$18:$F$1017),0)","v":0},{"$f":"IFERROR($E268*SUMIF('Daily Log'!$H$18:$H$1017,$B268,'Daily Log'!$I$18:$I$1017),0)","v":2},{"$f":"IFERROR($E268*SUMIF('Daily Log'!$K$18:$K$1017,$B268,'Daily Log'!$L$18:$L$1017),0)","v":1},{"$f":"IFERROR($E268*SUMIF('Daily Log'!$N$18:$N$1017,$B268,'Daily Log'!$O$18:$O$1017),0)","v":1},{"$f":"IFERROR($E268*SUMIF('Daily Log'!#REF!,$B268,'Daily Log'!#REF!),0)","v":0},{"$f":"IFERROR($E268*SUMIF('Daily Log'!#REF!,$B268,'Daily Log'!#REF!),0)","v":0},{"$f":"IFERROR($E268*SUMIF('Daily Log'!#REF!,$B268,'Daily Log'!#REF!),0)","v":0},{"$f":"IFERROR($E268*SUMIF('Daily Log'!#REF!,$B268,'Daily Log'!#REF!),0)","v":0},{"$f":"IFERROR($E268*SUMIF('Daily Log'!#REF!,$B268,'Daily Log'!#REF!),0)","v":0},{"$f":"IFERROR($E268*SUMIF('Daily Log'!#REF!,$B268,'Daily Log'!#REF!),0)","v":0},{"$f":"IFERROR($E268*SUMIF('Daily Log'!#REF!,$B268,'Daily Log'!#REF!),0)","v":0},{"$f":"IFERROR($E268*SUMIF('Daily Log'!#REF!,$B268,'Daily Log'!#REF!),0)","v":0},{"$f":"IFERROR($E268*SUMIF('Daily Log'!#REF!,$B268,'Daily Log'!#REF!),0)","v":0},{"$f":"IFERROR($E268*SUMIF('Daily Log'!#REF!,$B268,'Daily Log'!#REF!),0)","v":0},{"$f":"IFERROR($E268*SUMIF('Daily Log'!#REF!,$B268,'Daily Log'!#REF!),0)","v":0},{"$f":"IFERROR($E268*SUMIF('Daily Log'!#REF!,$B268,'Daily Log'!#REF!),0)","v":0},{"$f":"IFERROR($E268*SUMIF('Daily Log'!#REF!,$B268,'Daily Log'!#REF!),0)","v":0},{"$f":"IFERROR($E268*SUMIF('Daily Log'!#REF!,$B268,'Daily Log'!#REF!),0)","v":0},{"$f":"IFERROR($E268*SUMIF('Daily Log'!#REF!,$B268,'Daily Log'!#REF!),0)","v":0},{"$f":"IFERROR($E268*SUMIF('Daily Log'!#REF!,$B268,'Daily Log'!#REF!),0)","v":0},{"$f":"IFERROR($E268*SUMIF('Daily Log'!#REF!,$B268,'Daily Log'!#REF!),0)","v":0},{"$f":"IFERROR($E268*SUMIF('Daily Log'!#REF!,$B268,'Daily Log'!#REF!),0)","v":0},{"$f":"IFERROR($E268*SUMIF('Daily Log'!#REF!,$B268,'Daily Log'!#REF!),0)","v":0},{"$f":"IFERROR($E268*SUMIF('Daily Log'!#REF!,$B268,'Daily Log'!#REF!),0)","v":0},{"$f":"IFERROR($E268*SUMIF('Daily Log'!#REF!,$B268,'Daily Log'!#REF!),0)","v":0},{"$f":"IFERROR($E268*SUMIF('Daily Log'!#REF!,$B268,'Daily Log'!#REF!),0)","v":0},{"$f":"IFERROR($E268*SUMIF('Daily Log'!#REF!,$B268,'Daily Log'!#REF!),0)","v":0},{"$f":"IFERROR($E268*SUMIF('Daily Log'!#REF!,$B268,'Daily Log'!#REF!),0)","v":0},{"$f":"IFERROR($E268*SUMIF('Daily Log'!#REF!,$B268,'Daily Log'!#REF!),0)","v":0},{"$f":"IFERROR($E268*SUMIF('Daily Log'!#REF!,$B268,'Daily Log'!#REF!),0)","v":0}]
[null,"ZAB06 1206:SPRING RL",null,"COMBO-SNAKCS",1,7,{"$f":"IFERROR($E269*SUMIF('Daily Log'!$B$18:$B$1017,$B269,'Daily Log'!$C$18:$C$1017),0)","v":2},{"$f":"IFERROR($E269*SUMIF('Daily Log'!$E$18:$E$1017,$B269,'Daily Log'!$F$18:$F$1017),0)","v":0},{"$f":"IFERROR($E269*SUMIF('Daily Log'!$H$18:$H$1017,$B269,'Daily Log'!$I$18:$I$1017),0)","v":2},{"$f":"IFERROR($E269*SUMIF('Daily Log'!$K$18:$K$1017,$B269,'Daily Log'!$L$18:$L$1017),0)","v":2},{"$f":"IFERROR($E269*SUMIF('Daily Log'!$N$18:$N$1017,$B269,'Daily Log'!$O$18:$O$1017),0)","v":1},{"$f":"IFERROR($E269*SUMIF('Daily Log'!#REF!,$B269,'Daily Log'!#REF!),0)","v":0},{"$f":"IFERROR($E269*SUMIF('Daily Log'!#REF!,$B269,'Daily Log'!#REF!),0)","v":0},{"$f":"IFERROR($E269*SUMIF('Daily Log'!#REF!,$B269,'Daily Log'!#REF!),0)","v":0},{"$f":"IFERROR($E269*SUMIF('Daily Log'!#REF!,$B269,'Daily Log'!#REF!),0)","v":0},{"$f":"IFERROR($E269*SUMIF('Daily Log'!#REF!,$B269,'Daily Log'!#REF!),0)","v":0},{"$f":"IFERROR($E269*SUMIF('Daily Log'!#REF!,$B269,'Daily Log'!#REF!),0)","v":0},{"$f":"IFERROR($E269*SUMIF('Daily Log'!#REF!,$B269,'Daily Log'!#REF!),0)","v":0},{"$f":"IFERROR($E269*SUMIF('Daily Log'!#REF!,$B269,'Daily Log'!#REF!),0)","v":0},{"$f":"IFERROR($E269*SUMIF('Daily Log'!#REF!,$B269,'Daily Log'!#REF!),0)","v":0},{"$f":"IFERROR($E269*SUMIF('Daily Log'!#REF!,$B269,'Daily Log'!#REF!),0)","v":0},{"$f":"IFERROR($E269*SUMIF('Daily Log'!#REF!,$B269,'Daily Log'!#REF!),0)","v":0},{"$f":"IFERROR($E269*SUMIF('Daily Log'!#REF!,$B269,'Daily Log'!#REF!),0)","v":0},{"$f":"IFERROR($E269*SUMIF('Daily Log'!#REF!,$B269,'Daily Log'!#REF!),0)","v":0},{"$f":"IFERROR($E269*SUMIF('Daily Log'!#REF!,$B269,'Daily Log'!#REF!),0)","v":0},{"$f":"IFERROR($E269*SUMIF('Daily Log'!#REF!,$B269,'Daily Log'!#REF!),0)","v":0},{"$f":"IFERROR($E269*SUMIF('Daily Log'!#REF!,$B269,'Daily Log'!#REF!),0)","v":0},{"$f":"IFERROR($E269*SUMIF('Daily Log'!#REF!,$B269,'Daily Log'!#REF!),0)","v":0},{"$f":"IFERROR($E269*SUMIF('Daily Log'!#REF!,$B269,'Daily Log'!#REF!),0)","v":0},{"$f":"IFERROR($E269*SUMIF('Daily Log'!#REF!,$B269,'Daily Log'!#REF!),0)","v":0},{"$f":"IFERROR($E269*SUMIF('Daily Log'!#REF!,$B269,'Daily Log'!#REF!),0)","v":0},{"$f":"IFERROR($E269*SUMIF('Daily Log'!#REF!,$B269,'Daily Log'!#REF!),0)","v":0},{"$f":"IFERROR($E269*SUMIF('Daily Log'!#REF!,$B269,'Daily Log'!#REF!),0)","v":0},{"$f":"IFERROR($E269*SUMIF('Daily Log'!#REF!,$B269,'Daily Log'!#REF!),0)","v":0},{"$f":"IFERROR($E269*SUMIF('Daily Log'!#REF!,$B269,'Daily Log'!#REF!),0)","v":0},{"$f":"IFERROR($E269*SUMIF('Daily Log'!#REF!,$B269,'Daily Log'!#REF!),0)","v":0},{"$f":"IFERROR($E269*SUMIF('Daily Log'!#REF!,$B269,'Daily Log'!#REF!),0)","v":0}]
[null,"ZAB07 1207:SAUSAGE",null,"COMBO-SNAKCS",1,8,{"$f":"IFERROR($E270*SUMIF('Daily Log'!$B$18:$B$1017,$B270,'Daily Log'!$C$18:$C$1017),0)","v":3},{"$f":"IFERROR($E270*SUMIF('Daily Log'!$E$18:$E$1017,$B270,'Daily Log'!$F$18:$F$1017),0)","v":0},{"$f":"IFERROR($E270*SUMIF('Daily Log'!$H$18:$H$1017,$B270,'Daily Log'!$I$18:$I$1017),0)","v":1},{"$f":"IFERROR($E270*SUMIF('Daily Log'!$K$18:$K$1017,$B270,'Daily Log'!$L$18:$L$1017),0)","v":2},{"$f":"IFERROR($E270*SUMIF('Daily Log'!$N$18:$N$1017,$B270,'Daily Log'!$O$18:$O$1017),0)","v":2},{"$f":"IFERROR($E270*SUMIF('Daily Log'!#REF!,$B270,'Daily Log'!#REF!),0)","v":0},{"$f":"IFERROR($E270*SUMIF('Daily Log'!#REF!,$B270,'Daily Log'!#REF!),0)","v":0},{"$f":"IFERROR($E270*SUMIF('Daily Log'!#REF!,$B270,'Daily Log'!#REF!),0)","v":0},{"$f":"IFERROR($E270*SUMIF('Daily Log'!#REF!,$B270,'Daily Log'!#REF!),0)","v":0},{"$f":"IFERROR($E270*SUMIF('Daily Log'!#REF!,$B270,'Daily Log'!#REF!),0)","v":0},{"$f":"IFERROR($E270*SUMIF('Daily Log'!#REF!,$B270,'Daily Log'!#REF!),0)","v":0},{"$f":"IFERROR($E270*SUMIF('Daily Log'!#REF!,$B270,'Daily Log'!#REF!),0)","v":0},{"$f":"IFERROR($E270*SUMIF('Daily Log'!#REF!,$B270,'Daily Log'!#REF!),0)","v":0},{"$f":"IFERROR($E270*SUMIF('Daily Log'!#REF!,$B270,'Daily Log'!#REF!),0)","v":0},{"$f":"IFERROR($E270*SUMIF('Daily Log'!#REF!,$B270,'Daily Log'!#REF!),0)","v":0},{"$f":"IFERROR($E270*SUMIF('Daily Log'!#REF!,$B270,'Daily Log'!#REF!),0)","v":0},{"$f":"IFERROR($E270*SUMIF('Daily Log'!#REF!,$B270,'Daily Log'!#REF!),0)","v":0},{"$f":"IFERROR($E270*SUMIF('Daily Log'!#REF!,$B270,'Daily Log'!#REF!),0)","v":0},{"$f":"IFERROR($E270*SUMIF('Daily Log'!#REF!,$B270,'Daily Log'!#REF!),0)","v":0},{"$f":"IFERROR($E270*SUMIF('Daily Log'!#REF!,$B270,'Daily Log'!#REF!),0)","v":0},{"$f":"IFERROR($E270*SUMIF('Daily Log'!#REF!,$B270,'Daily Log'!#REF!),0)","v":0},{"$f":"IFERROR($E270*SUMIF('Daily Log'!#REF!,$B270,'Daily Log'!#REF!),0)","v":0},{"$f":"IFERROR($E270*SUMIF('Daily Log'!#REF!,$B270,'Daily Log'!#REF!),0)","v":0},{"$f":"IFERROR($E270*SUMIF('Daily Log'!#REF!,$B270,'Daily Log'!#REF!),0)","v":0},{"$f":"IFERROR($E270*SUMIF('Daily Log'!#REF!,$B270,'Daily Log'!#REF!),0)","v":0},{"$f":"IFERROR($E270*SUMIF('Daily Log'!#REF!,$B270,'Daily Log'!#REF!),0)","v":0},{"$f":"IFERROR($E270*SUMIF('Daily Log'!#REF!,$B270,'Daily Log'!#REF!),0)","v":0},{"$f":"IFERROR($E270*SUMIF('Daily Log'!#REF!,$B270,'Daily Log'!#REF!),0)","v":0},{"$f":"IFERROR($E270*SUMIF('Daily Log'!#REF!,$B270,'Daily Log'!#REF!),0)","v":0},{"$f":"IFERROR($E270*SUMIF('Daily Log'!#REF!,$B270,'Daily Log'!#REF!),0)","v":0},{"$f":"IFERROR($E270*SUMIF('Daily Log'!#REF!,$B270,'Daily Log'!#REF!),0)","v":0}]
[null,"ZAC02 1302:NUGGET",null,"COMBO-SNAKCS",1,8,{"$f":"IFERROR($E271*SUMIF('Daily Log'!$B$18:$B$1017,$B271,'Daily Log'!$C$18:$C$1017),0)","v":2},{"$f":"IFERROR($E271*SUMIF('Daily Log'!$E$18:$E$1017,$B271,'Daily Log'!$F$18:$F$1017),0)","v":1},{"$f":"IFERROR($E271*SUMIF('Daily Log'!$H$18:$H$1017,$B271,'Daily Log'!$I$18:$I$1017),0)","v":4},{"$f":"IFERROR($E271*SUMIF('Daily Log'!$K$18:$K$1017,$B271,'Daily Log'!$L$18:$L$1017),0)","v":1},{"$f":"IFERROR($E271*SUMIF('Daily Log'!$N$18:$N$1017,$B271,'Daily Log'!$O$18:$O$1017),0)","v":0},{"$f":"IFERROR($E271*SUMIF('Daily Log'!#REF!,$B271,'Daily Log'!#REF!),0)","v":0},{"$f":"IFERROR($E271*SUMIF('Daily Log'!#REF!,$B271,'Daily Log'!#REF!),0)","v":0},{"$f":"IFERROR($E271*SUMIF('Daily Log'!#REF!,$B271,'Daily Log'!#REF!),0)","v":0},{"$f":"IFERROR($E271*SUMIF('Daily Log'!#REF!,$B271,'Daily Log'!#REF!),0)","v":0},{"$f":"IFERROR($E271*SUMIF('Daily Log'!#REF!,$B271,'Daily Log'!#REF!),0)","v":0},{"$f":"IFERROR($E271*SUMIF('Daily Log'!#REF!,$B271,'Daily Log'!#REF!),0)","v":0},{"$f":"IFERROR($E271*SUMIF('Daily Log'!#REF!,$B271,'Daily Log'!#REF!),0)","v":0},{"$f":"IFERROR($E271*SUMIF('Daily Log'!#REF!,$B271,'Daily Log'!#REF!),0)","v":0},{"$f":"IFERROR($E271*SUMIF('Daily Log'!#REF!,$B271,'Daily Log'!#REF!),0)","v":0},{"$f":"IFERROR($E271*SUMIF('Daily Log'!#REF!,$B271,'Daily Log'!#REF!),0)","v":0},{"$f":"IFERROR($E271*SUMIF('Daily Log'!#REF!,$B271,'Daily Log'!#REF!),0)","v":0},{"$f":"IFERROR($E271*SUMIF('Daily Log'!#REF!,$B271,'Daily Log'!#REF!),0)","v":0},{"$f":"IFERROR($E271*SUMIF('Daily Log'!#REF!,$B271,'Daily Log'!#REF!),0)","v":0},{"$f":"IFERROR($E271*SUMIF('Daily Log'!#REF!,$B271,'Daily Log'!#REF!),0)","v":0},{"$f":"IFERROR($E271*SUMIF('Daily Log'!#REF!,$B271,'Daily Log'!#REF!),0)","v":0},{"$f":"IFERROR($E271*SUMIF('Daily Log'!#REF!,$B271,'Daily Log'!#REF!),0)","v":0},{"$f":"IFERROR($E271*SUMIF('Daily Log'!#REF!,$B271,'Daily Log'!#REF!),0)","v":0},{"$f":"IFERROR($E271*SUMIF('Daily Log'!#REF!,$B271,'Daily Log'!#REF!),0)","v":0},{"$f":"IFERROR($E271*SUMIF('Daily Log'!#REF!,$B271,'Daily Log'!#REF!),0)","v":0},{"$f":"IFERROR($E271*SUMIF('Daily Log'!#REF!,$B271,'Daily Log'!#REF!),0)","v":0},{"$f":"IFERROR($E271*SUMIF('Daily Log'!#REF!,$B271,'Daily Log'!#REF!),0)","v":0},{"$f":"IFERROR($E271*SUMIF('Daily Log'!#REF!,$B271,'Daily Log'!#REF!),0)","v":0},{"$f":"IFERROR($E271*SUMIF('Daily Log'!#REF!,$B271,'Daily Log'!#REF!),0)","v":0},{"$f":"IFERROR($E271*SUMIF('Daily Log'!#REF!,$B271,'Daily Log'!#REF!),0)","v":0},{"$f":"IFERROR($E271*SUMIF('Daily Log'!#REF!,$B271,'Daily Log'!#REF!),0)","v":0},{"$f":"IFERROR($E271*SUMIF('Daily Log'!#REF!,$B271,'Daily Log'!#REF!),0)","v":0}]
[null,"ZAC03 1303:CHK WING",null,"COMBO-SNAKCS",1,14,{"$f":"IFERROR($E272*SUMIF('Daily Log'!$B$18:$B$1017,$B272,'Daily Log'!$C$18:$C$1017),0)","v":3},{"$f":"IFERROR($E272*SUMIF('Daily Log'!$E$18:$E$1017,$B272,'Daily Log'!$F$18:$F$1017),0)","v":6},{"$f":"IFERROR($E272*SUMIF('Daily Log'!$H$18:$H$1017,$B272,'Daily Log'!$I$18:$I$1017),0)","v":1},{"$f":"IFERROR($E272*SUMIF('Daily Log'!$K$18:$K$1017,$B272,'Daily Log'!$L$18:$L$1017),0)","v":3},{"$f":"IFERROR($E272*SUMIF('Daily Log'!$N$18:$N$1017,$B272,'Daily Log'!$O$18:$O$1017),0)","v":1},{"$f":"IFERROR($E272*SUMIF('Daily Log'!#REF!,$B272,'Daily Log'!#REF!),0)","v":0},{"$f":"IFERROR($E272*SUMIF('Daily Log'!#REF!,$B272,'Daily Log'!#REF!),0)","v":0},{"$f":"IFERROR($E272*SUMIF('Daily Log'!#REF!,$B272,'Daily Log'!#REF!),0)","v":0},{"$f":"IFERROR($E272*SUMIF('Daily Log'!#REF!,$B272,'Daily Log'!#REF!),0)","v":0},{"$f":"IFERROR($E272*SUMIF('Daily Log'!#REF!,$B272,'Daily Log'!#REF!),0)","v":0},{"$f":"IFERROR($E272*SUMIF('Daily Log'!#REF!,$B272,'Daily Log'!#REF!),0)","v":0},{"$f":"IFERROR($E272*SUMIF('Daily Log'!#REF!,$B272,'Daily Log'!#REF!),0)","v":0},{"$f":"IFERROR($E272*SUMIF('Daily Log'!#REF!,$B272,'Daily Log'!#REF!),0)","v":0},{"$f":"IFERROR($E272*SUMIF('Daily Log'!#REF!,$B272,'Daily Log'!#REF!),0)","v":0},{"$f":"IFERROR($E272*SUMIF('Daily Log'!#REF!,$B272,'Daily Log'!#REF!),0)","v":0},{"$f":"IFERROR($E272*SUMIF('Daily Log'!#REF!,$B272,'Daily Log'!#REF!),0)","v":0},{"$f":"IFERROR($E272*SUMIF('Daily Log'!#REF!,$B272,'Daily Log'!#REF!),0)","v":0},{"$f":"IFERROR($E272*SUMIF('Daily Log'!#REF!,$B272,'Daily Log'!#REF!),0)","v":0},{"$f":"IFERROR($E272*SUMIF('Daily Log'!#REF!,$B272,'Daily Log'!#REF!),0)","v":0},{"$f":"IFERROR($E272*SUMIF('Daily Log'!#REF!,$B272,'Daily Log'!#REF!),0)","v":0},{"$f":"IFERROR($E272*SUMIF('Daily Log'!#REF!,$B272,'Daily Log'!#REF!),0)","v":0},{"$f":"IFERROR($E272*SUMIF('Daily Log'!#REF!,$B272,'Daily Log'!#REF!),0)","v":0},{"$f":"IFERROR($E272*SUMIF('Daily Log'!#REF!,$B272,'Daily Log'!#REF!),0)","v":0},{"$f":"IFERROR($E272*SUMIF('Daily Log'!#REF!,$B272,'Daily Log'!#REF!),0)","v":0},{"$f":"IFERROR($E272*SUMIF('Daily Log'!#REF!,$B272,'Daily Log'!#REF!),0)","v":0},{"$f":"IFERROR($E272*SUMIF('Daily Log'!#REF!,$B272,'Daily Log'!#REF!),0)","v":0},{"$f":"IFERROR($E272*SUMIF('Daily Log'!#REF!,$B272,'Daily Log'!#REF!),0)","v":0},{"$f":"IFERROR($E272*SUMIF('Daily Log'!#REF!,$B272,'Daily Log'!#REF!),0)","v":0},{"$f":"IFERROR($E272*SUMIF('Daily Log'!#REF!,$B272,'Daily Log'!#REF!),0)","v":0},{"$f":"IFERROR($E272*SUMIF('Daily Log'!#REF!,$B272,'Daily Log'!#REF!),0)","v":0},{"$f":"IFERROR($E272*SUMIF('Daily Log'!#REF!,$B272,'Daily Log'!#REF!),0)","v":0}]
[null,"ZAC04 1304:IKAN BILIS",null,"COMBO-SNAKCS",1,1,{"$f":"IFERROR($E273*SUMIF('Daily Log'!$B$18:$B$1017,$B273,'Daily Log'!$C$18:$C$1017),0)","v":0},{"$f":"IFERROR($E273*SUMIF('Daily Log'!$E$18:$E$1017,$B273,'Daily Log'!$F$18:$F$1017),0)","v":0},{"$f":"IFERROR($E273*SUMIF('Daily Log'!$H$18:$H$1017,$B273,'Daily Log'!$I$18:$I$1017),0)","v":1},{"$f":"IFERROR($E273*SUMIF('Daily Log'!$K$18:$K$1017,$B273,'Daily Log'!$L$18:$L$1017),0)","v":0},{"$f":"IFERROR($E273*SUMIF('Daily Log'!$N$18:$N$1017,$B273,'Daily Log'!$O$18:$O$1017),0)","v":0},{"$f":"IFERROR($E273*SUMIF('Daily Log'!#REF!,$B273,'Daily Log'!#REF!),0)","v":0},{"$f":"IFERROR($E273*SUMIF('Daily Log'!#REF!,$B273,'Daily Log'!#REF!),0)","v":0},{"$f":"IFERROR($E273*SUMIF('Daily Log'!#REF!,$B273,'Daily Log'!#REF!),0)","v":0},{"$f":"IFERROR($E273*SUMIF('Daily Log'!#REF!,$B273,'Daily Log'!#REF!),0)","v":0},{"$f":"IFERROR($E273*SUMIF('Daily Log'!#REF!,$B273,'Daily Log'!#REF!),0)","v":0},{"$f":"IFERROR($E273*SUMIF('Daily Log'!#REF!,$B273,'Daily Log'!#REF!),0)","v":0},{"$f":"IFERROR($E273*SUMIF('Daily Log'!#REF!,$B273,'Daily Log'!#REF!),0)","v":0},{"$f":"IFERROR($E273*SUMIF('Daily Log'!#REF!,$B273,'Daily Log'!#REF!),0)","v":0},{"$f":"IFERROR($E273*SUMIF('Daily Log'!#REF!,$B273,'Daily Log'!#REF!),0)","v":0},{"$f":"IFERROR($E273*SUMIF('Daily Log'!#REF!,$B273,'Daily Log'!#REF!),0)","v":0},{"$f":"IFERROR($E273*SUMIF('Daily Log'!#REF!,$B273,'Daily Log'!#REF!),0)","v":0},{"$f":"IFERROR($E273*SUMIF('Daily Log'!#REF!,$B273,'Daily Log'!#REF!),0)","v":0},{"$f":"IFERROR($E273*SUMIF('Daily Log'!#REF!,$B273,'Daily Log'!#REF!),0)","v":0},{"$f":"IFERROR($E273*SUMIF('Daily Log'!#REF!,$B273,'Daily Log'!#REF!),0)","v":0},{"$f":"IFERROR($E273*SUMIF('Daily Log'!#REF!,$B273,'Daily Log'!#REF!),0)","v":0},{"$f":"IFERROR($E273*SUMIF('Daily Log'!#REF!,$B273,'Daily Log'!#REF!),0)","v":0},{"$f":"IFERROR($E273*SUMIF('Daily Log'!#REF!,$B273,'Daily Log'!#REF!),0)","v":0},{"$f":"IFERROR($E273*SUMIF('Daily Log'!#REF!,$B273,'Daily Log'!#REF!),0)","v":0},{"$f":"IFERROR($E273*SUMIF('Daily Log'!#REF!,$B273,'Daily Log'!#REF!),0)","v":0},{"$f":"IFERROR($E273*SUMIF('Daily Log'!#REF!,$B273,'Daily Log'!#REF!),0)","v":0},{"$f":"IFERROR($E273*SUMIF('Daily Log'!#REF!,$B273,'Daily Log'!#REF!),0)","v":0},{"$f":"IFERROR($E273*SUMIF('Daily Log'!#REF!,$B273,'Daily Log'!#REF!),0)","v":0},{"$f":"IFERROR($E273*SUMIF('Daily Log'!#REF!,$B273,'Daily Log'!#REF!),0)","v":0},{"$f":"IFERROR($E273*SUMIF('Daily Log'!#REF!,$B273,'Daily Log'!#REF!),0)","v":0},{"$f":"IFERROR($E273*SUMIF('Daily Log'!#REF!,$B273,'Daily Log'!#REF!),0)","v":0},{"$f":"IFERROR($E273*SUMIF('Daily Log'!#REF!,$B273,'Daily Log'!#REF!),0)","v":0}]
[null,"ZAC05 1305:THAI RL",null,"COMBO-SNAKCS",1,0,{"$f":"IFERROR($E274*SUMIF('Daily Log'!$B$18:$B$1017,$B274,'Daily Log'!$C$18:$C$1017),0)","v":0},{"$f":"IFERROR($E274*SUMIF('Daily Log'!$E$18:$E$1017,$B274,'Daily Log'!$F$18:$F$1017),0)","v":0},{"$f":"IFERROR($E274*SUMIF('Daily Log'!$H$18:$H$1017,$B274,'Daily Log'!$I$18:$I$1017),0)","v":0},{"$f":"IFERROR($E274*SUMIF('Daily Log'!$K$18:$K$1017,$B274,'Daily Log'!$L$18:$L$1017),0)","v":0},{"$f":"IFERROR($E274*SUMIF('Daily Log'!$N$18:$N$1017,$B274,'Daily Log'!$O$18:$O$1017),0)","v":0},{"$f":"IFERROR($E274*SUMIF('Daily Log'!#REF!,$B274,'Daily Log'!#REF!),0)","v":0},{"$f":"IFERROR($E274*SUMIF('Daily Log'!#REF!,$B274,'Daily Log'!#REF!),0)","v":0},{"$f":"IFERROR($E274*SUMIF('Daily Log'!#REF!,$B274,'Daily Log'!#REF!),0)","v":0},{"$f":"IFERROR($E274*SUMIF('Daily Log'!#REF!,$B274,'Daily Log'!#REF!),0)","v":0},{"$f":"IFERROR($E274*SUMIF('Daily Log'!#REF!,$B274,'Daily Log'!#REF!),0)","v":0},{"$f":"IFERROR($E274*SUMIF('Daily Log'!#REF!,$B274,'Daily Log'!#REF!),0)","v":0},{"$f":"IFERROR($E274*SUMIF('Daily Log'!#REF!,$B274,'Daily Log'!#REF!),0)","v":0},{"$f":"IFERROR($E274*SUMIF('Daily Log'!#REF!,$B274,'Daily Log'!#REF!),0)","v":0},{"$f":"IFERROR($E274*SUMIF('Daily Log'!#REF!,$B274,'Daily Log'!#REF!),0)","v":0},{"$f":"IFERROR($E274*SUMIF('Daily Log'!#REF!,$B274,'Daily Log'!#REF!),0)","v":0},{"$f":"IFERROR($E274*SUMIF('Daily Log'!#REF!,$B274,'Daily Log'!#REF!),0)","v":0},{"$f":"IFERROR($E274*SUMIF('Daily Log'!#REF!,$B274,'Daily Log'!#REF!),0)","v":0},{"$f":"IFERROR($E274*SUMIF('Daily Log'!#REF!,$B274,'Daily Log'!#REF!),0)","v":0},{"$f":"IFERROR($E274*SUMIF('Daily Log'!#REF!,$B274,'Daily Log'!#REF!),0)","v":0},{"$f":"IFERROR($E274*SUMIF('Daily Log'!#REF!,$B274,'Daily Log'!#REF!),0)","v":0},{"$f":"IFERROR($E274*SUMIF('Daily Log'!#REF!,$B274,'Daily Log'!#REF!),0)","v":0},{"$f":"IFERROR($E274*SUMIF('Daily Log'!#REF!,$B274,'Daily Log'!#REF!),0)","v":0},{"$f":"IFERROR($E274*SUMIF('Daily Log'!#REF!,$B274,'Daily Log'!#REF!),0)","v":0},{"$f":"IFERROR($E274*SUMIF('Daily Log'!#REF!,$B274,'Daily Log'!#REF!),0)","v":0},{"$f":"IFERROR($E274*SUMIF('Daily Log'!#REF!,$B274,'Daily Log'!#REF!),0)","v":0},{"$f":"IFERROR($E274*SUMIF('Daily Log'!#REF!,$B274,'Daily Log'!#REF!),0)","v":0},{"$f":"IFERROR($E274*SUMIF('Daily Log'!#REF!,$B274,'Daily Log'!#REF!),0)","v":0},{"$f":"IFERROR($E274*SUMIF('Daily Log'!#REF!,$B274,'Daily Log'!#REF!),0)","v":0},{"$f":"IFERROR($E274*SUMIF('Daily Log'!#REF!,$B274,'Daily Log'!#REF!),0)","v":0},{"$f":"IFERROR($E274*SUMIF('Daily Log'!#REF!,$B274,'Daily Log'!#REF!),0)","v":0},{"$f":"IFERROR($E274*SUMIF('Daily Log'!#REF!,$B274,'Daily Log'!#REF!),0)","v":0}]
[null,"ZAC07 1307:D/F C.WINGS",null,"COMBO-SNAKCS",1,10,{"$f":"IFERROR($E275*SUMIF('Daily Log'!$B$18:$B$1017,$B275,'Daily Log'!$C$18:$C$1017),0)","v":4},{"$f":"IFERROR($E275*SUMIF('Daily Log'!$E$18:$E$1017,$B275,'Daily Log'!$F$18:$F$1017),0)","v":2},{"$f":"IFERROR($E275*SUMIF('Daily Log'!$H$18:$H$1017,$B275,'Daily Log'!$I$18:$I$1017),0)","v":2},{"$f":"IFERROR($E275*SUMIF('Daily Log'!$K$18:$K$1017,$B275,'Daily Log'!$L$18:$L$1017),0)","v":1},{"$f":"IFERROR($E275*SUMIF('Daily Log'!$N$18:$N$1017,$B275,'Daily Log'!$O$18:$O$1017),0)","v":1},{"$f":"IFERROR($E275*SUMIF('Daily Log'!#REF!,$B275,'Daily Log'!#REF!),0)","v":0},{"$f":"IFERROR($E275*SUMIF('Daily Log'!#REF!,$B275,'Daily Log'!#REF!),0)","v":0},{"$f":"IFERROR($E275*SUMIF('Daily Log'!#REF!,$B275,'Daily Log'!#REF!),0)","v":0},{"$f":"IFERROR($E275*SUMIF('Daily Log'!#REF!,$B275,'Daily Log'!#REF!),0)","v":0},{"$f":"IFERROR($E275*SUMIF('Daily Log'!#REF!,$B275,'Daily Log'!#REF!),0)","v":0},{"$f":"IFERROR($E275*SUMIF('Daily Log'!#REF!,$B275,'Daily Log'!#REF!),0)","v":0},{"$f":"IFERROR($E275*SUMIF('Daily Log'!#REF!,$B275,'Daily Log'!#REF!),0)","v":0},{"$f":"IFERROR($E275*SUMIF('Daily Log'!#REF!,$B275,'Daily Log'!#REF!),0)","v":0},{"$f":"IFERROR($E275*SUMIF('Daily Log'!#REF!,$B275,'Daily Log'!#REF!),0)","v":0},{"$f":"IFERROR($E275*SUMIF('Daily Log'!#REF!,$B275,'Daily Log'!#REF!),0)","v":0},{"$f":"IFERROR($E275*SUMIF('Daily Log'!#REF!,$B275,'Daily Log'!#REF!),0)","v":0},{"$f":"IFERROR($E275*SUMIF('Daily Log'!#REF!,$B275,'Daily Log'!#REF!),0)","v":0},{"$f":"IFERROR($E275*SUMIF('Daily Log'!#REF!,$B275,'Daily Log'!#REF!),0)","v":0},{"$f":"IFERROR($E275*SUMIF('Daily Log'!#REF!,$B275,'Daily Log'!#REF!),0)","v":0},{"$f":"IFERROR($E275*SUMIF('Daily Log'!#REF!,$B275,'Daily Log'!#REF!),0)","v":0},{"$f":"IFERROR($E275*SUMIF('Daily Log'!#REF!,$B275,'Daily Log'!#REF!),0)","v":0},{"$f":"IFERROR($E275*SUMIF('Daily Log'!#REF!,$B275,'Daily Log'!#REF!),0)","v":0},{"$f":"IFERROR($E275*SUMIF('Daily Log'!#REF!,$B275,'Daily Log'!#REF!),0)","v":0},{"$f":"IFERROR($E275*SUMIF('Daily Log'!#REF!,$B275,'Daily Log'!#REF!),0)","v":0},{"$f":"IFERROR($E275*SUMIF('Daily Log'!#REF!,$B275,'Daily Log'!#REF!),0)","v":0},{"$f":"IFERROR($E275*SUMIF('Daily Log'!#REF!,$B275,'Daily Log'!#REF!),0)","v":0},{"$f":"IFERROR($E275*SUMIF('Daily Log'!#REF!,$B275,'Daily Log'!#REF!),0)","v":0},{"$f":"IFERROR($E275*SUMIF('Daily Log'!#REF!,$B275,'Daily Log'!#REF!),0)","v":0},{"$f":"IFERROR($E275*SUMIF('Daily Log'!#REF!,$B275,'Daily Log'!#REF!),0)","v":0},{"$f":"IFERROR($E275*SUMIF('Daily Log'!#REF!,$B275,'Daily Log'!#REF!),0)","v":0},{"$f":"IFERROR($E275*SUMIF('Daily Log'!#REF!,$B275,'Daily Log'!#REF!),0)","v":0}]
[null,"ZAC08 1308:C/CALAMARI",null,"COMBO-SNAKCS",1,5,{"$f":"IFERROR($E276*SUMIF('Daily Log'!$B$18:$B$1017,$B276,'Daily Log'!$C$18:$C$1017),0)","v":0},{"$f":"IFERROR($E276*SUMIF('Daily Log'!$E$18:$E$1017,$B276,'Daily Log'!$F$18:$F$1017),0)","v":0},{"$f":"IFERROR($E276*SUMIF('Daily Log'!$H$18:$H$1017,$B276,'Daily Log'!$I$18:$I$1017),0)","v":0},{"$f":"IFERROR($E276*SUMIF('Daily Log'!$K$18:$K$1017,$B276,'Daily Log'!$L$18:$L$1017),0)","v":4},{"$f":"IFERROR($E276*SUMIF('Daily Log'!$N$18:$N$1017,$B276,'Daily Log'!$O$18:$O$1017),0)","v":1},{"$f":"IFERROR($E276*SUMIF('Daily Log'!#REF!,$B276,'Daily Log'!#REF!),0)","v":0},{"$f":"IFERROR($E276*SUMIF('Daily Log'!#REF!,$B276,'Daily Log'!#REF!),0)","v":0},{"$f":"IFERROR($E276*SUMIF('Daily Log'!#REF!,$B276,'Daily Log'!#REF!),0)","v":0},{"$f":"IFERROR($E276*SUMIF('Daily Log'!#REF!,$B276,'Daily Log'!#REF!),0)","v":0},{"$f":"IFERROR($E276*SUMIF('Daily Log'!#REF!,$B276,'Daily Log'!#REF!),0)","v":0},{"$f":"IFERROR($E276*SUMIF('Daily Log'!#REF!,$B276,'Daily Log'!#REF!),0)","v":0},{"$f":"IFERROR($E276*SUMIF('Daily Log'!#REF!,$B276,'Daily Log'!#REF!),0)","v":0},{"$f":"IFERROR($E276*SUMIF('Daily Log'!#REF!,$B276,'Daily Log'!#REF!),0)","v":0},{"$f":"IFERROR($E276*SUMIF('Daily Log'!#REF!,$B276,'Daily Log'!#REF!),0)","v":0},{"$f":"IFERROR($E276*SUMIF('Daily Log'!#REF!,$B276,'Daily Log'!#REF!),0)","v":0},{"$f":"IFERROR($E276*SUMIF('Daily Log'!#REF!,$B276,'Daily Log'!#REF!),0)","v":0},{"$f":"IFERROR($E276*SUMIF('Daily Log'!#REF!,$B276,'Daily Log'!#REF!),0)","v":0},{"$f":"IFERROR($E276*SUMIF('Daily Log'!#REF!,$B276,'Daily Log'!#REF!),0)","v":0},{"$f":"IFERROR($E276*SUMIF('Daily Log'!#REF!,$B276,'Daily Log'!#REF!),0)","v":0},{"$f":"IFERROR($E276*SUMIF('Daily Log'!#REF!,$B276,'Daily Log'!#REF!),0)","v":0},{"$f":"IFERROR($E276*SUMIF('Daily Log'!#REF!,$B276,'Daily Log'!#REF!),0)","v":0},{"$f":"IFERROR($E276*SUMIF('Daily Log'!#REF!,$B276,'Daily Log'!#REF!),0)","v":0},{"$f":"IFERROR($E276*SUMIF('Daily Log'!#REF!,$B276,'Daily Log'!#REF!),0)","v":0},{"$f":"IFERROR($E276*SUMIF('Daily Log'!#REF!,$B276,'Daily Log'!#REF!),0)","v":0},{"$f":"IFERROR($E276*SUMIF('Daily Log'!#REF!,$B276,'Daily Log'!#REF!),0)","v":0},{"$f":"IFERROR($E276*SUMIF('Daily Log'!#REF!,$B276,'Daily Log'!#REF!),0)","v":0},{"$f":"IFERROR($E276*SUMIF('Daily Log'!#REF!,$B276,'Daily Log'!#REF!),0)","v":0},{"$f":"IFERROR($E276*SUMIF('Daily Log'!#REF!,$B276,'Daily Log'!#REF!),0)","v":0},{"$f":"IFERROR($E276*SUMIF('Daily Log'!#REF!,$B276,'Daily Log'!#REF!),0)","v":0},{"$f":"IFERROR($E276*SUMIF('Daily Log'!#REF!,$B276,'Daily Log'!#REF!),0)","v":0},{"$f":"IFERROR($E276*SUMIF('Daily Log'!#REF!,$B276,'Daily Log'!#REF!),0)","v":0}]
[null,"ZAC09 1309:Mc /O.RINGS",null,"COMBO-SNAKCS",1,1,{"$f":"IFERROR($E277*SUMIF('Daily Log'!$B$18:$B$1017,$B277,'Daily Log'!$C$18:$C$1017),0)","v":1},{"$f":"IFERROR($E277*SUMIF('Daily Log'!$E$18:$E$1017,$B277,'Daily Log'!$F$18:$F$1017),0)","v":0},{"$f":"IFERROR($E277*SUMIF('Daily Log'!$H$18:$H$1017,$B277,'Daily Log'!$I$18:$I$1017),0)","v":0},{"$f":"IFERROR($E277*SUMIF('Daily Log'!$K$18:$K$1017,$B277,'Daily Log'!$L$18:$L$1017),0)","v":0},{"$f":"IFERROR($E277*SUMIF('Daily Log'!$N$18:$N$1017,$B277,'Daily Log'!$O$18:$O$1017),0)","v":0},{"$f":"IFERROR($E277*SUMIF('Daily Log'!#REF!,$B277,'Daily Log'!#REF!),0)","v":0},{"$f":"IFERROR($E277*SUMIF('Daily Log'!#REF!,$B277,'Daily Log'!#REF!),0)","v":0},{"$f":"IFERROR($E277*SUMIF('Daily Log'!#REF!,$B277,'Daily Log'!#REF!),0)","v":0},{"$f":"IFERROR($E277*SUMIF('Daily Log'!#REF!,$B277,'Daily Log'!#REF!),0)","v":0},{"$f":"IFERROR($E277*SUMIF('Daily Log'!#REF!,$B277,'Daily Log'!#REF!),0)","v":0},{"$f":"IFERROR($E277*SUMIF('Daily Log'!#REF!,$B277,'Daily Log'!#REF!),0)","v":0},{"$f":"IFERROR($E277*SUMIF('Daily Log'!#REF!,$B277,'Daily Log'!#REF!),0)","v":0},{"$f":"IFERROR($E277*SUMIF('Daily Log'!#REF!,$B277,'Daily Log'!#REF!),0)","v":0},{"$f":"IFERROR($E277*SUMIF('Daily Log'!#REF!,$B277,'Daily Log'!#REF!),0)","v":0},{"$f":"IFERROR($E277*SUMIF('Daily Log'!#REF!,$B277,'Daily Log'!#REF!),0)","v":0},{"$f":"IFERROR($E277*SUMIF('Daily Log'!#REF!,$B277,'Daily Log'!#REF!),0)","v":0},{"$f":"IFERROR($E277*SUMIF('Daily Log'!#REF!,$B277,'Daily Log'!#REF!),0)","v":0},{"$f":"IFERROR($E277*SUMIF('Daily Log'!#REF!,$B277,'Daily Log'!#REF!),0)","v":0},{"$f":"IFERROR($E277*SUMIF('Daily Log'!#REF!,$B277,'Daily Log'!#REF!),0)","v":0},{"$f":"IFERROR($E277*SUMIF('Daily Log'!#REF!,$B277,'Daily Log'!#REF!),0)","v":0},{"$f":"IFERROR($E277*SUMIF('Daily Log'!#REF!,$B277,'Daily Log'!#REF!),0)","v":0},{"$f":"IFERROR($E277*SUMIF('Daily Log'!#REF!,$B277,'Daily Log'!#REF!),0)","v":0},{"$f":"IFERROR($E277*SUMIF('Daily Log'!#REF!,$B277,'Daily Log'!#REF!),0)","v":0},{"$f":"IFERROR($E277*SUMIF('Daily Log'!#REF!,$B277,'Daily Log'!#REF!),0)","v":0},{"$f":"IFERROR($E277*SUMIF('Daily Log'!#REF!,$B277,'Daily Log'!#REF!),0)","v":0},{"$f":"IFERROR($E277*SUMIF('Daily Log'!#REF!,$B277,'Daily Log'!#REF!),0)","v":0},{"$f":"IFERROR($E277*SUMIF('Daily Log'!#REF!,$B277,'Daily Log'!#REF!),0)","v":0},{"$f":"IFERROR($E277*SUMIF('Daily Log'!#REF!,$B277,'Daily Log'!#REF!),0)","v":0},{"$f":"IFERROR($E277*SUMIF('Daily Log'!#REF!,$B277,'Daily Log'!#REF!),0)","v":0},{"$f":"IFERROR($E277*SUMIF('Daily Log'!#REF!,$B277,'Daily Log'!#REF!),0)","v":0},{"$f":"IFERROR($E277*SUMIF('Daily Log'!#REF!,$B277,'Daily Log'!#REF!),0)","v":0}]
[null,"ZAC10 1310:Mc SPIRAL/F",null,"COMBO-SNAKCS",1,8,{"$f":"IFERROR($E278*SUMIF('Daily Log'!$B$18:$B$1017,$B278,'Daily Log'!$C$18:$C$1017),0)","v":1},{"$f":"IFERROR($E278*SUMIF('Daily Log'!$E$18:$E$1017,$B278,'Daily Log'!$F$18:$F$1017),0)","v":3},{"$f":"IFERROR($E278*SUMIF('Daily Log'!$H$18:$H$1017,$B278,'Daily Log'!$I$18:$I$1017),0)","v":2},{"$f":"IFERROR($E278*SUMIF('Daily Log'!$K$18:$K$1017,$B278,'Daily Log'!$L$18:$L$1017),0)","v":2},{"$f":"IFERROR($E278*SUMIF('Daily Log'!$N$18:$N$1017,$B278,'Daily Log'!$O$18:$O$1017),0)","v":0},{"$f":"IFERROR($E278*SUMIF('Daily Log'!#REF!,$B278,'Daily Log'!#REF!),0)","v":0},{"$f":"IFERROR($E278*SUMIF('Daily Log'!#REF!,$B278,'Daily Log'!#REF!),0)","v":0},{"$f":"IFERROR($E278*SUMIF('Daily Log'!#REF!,$B278,'Daily Log'!#REF!),0)","v":0},{"$f":"IFERROR($E278*SUMIF('Daily Log'!#REF!,$B278,'Daily Log'!#REF!),0)","v":0},{"$f":"IFERROR($E278*SUMIF('Daily Log'!#REF!,$B278,'Daily Log'!#REF!),0)","v":0},{"$f":"IFERROR($E278*SUMIF('Daily Log'!#REF!,$B278,'Daily Log'!#REF!),0)","v":0},{"$f":"IFERROR($E278*SUMIF('Daily Log'!#REF!,$B278,'Daily Log'!#REF!),0)","v":0},{"$f":"IFERROR($E278*SUMIF('Daily Log'!#REF!,$B278,'Daily Log'!#REF!),0)","v":0},{"$f":"IFERROR($E278*SUMIF('Daily Log'!#REF!,$B278,'Daily Log'!#REF!),0)","v":0},{"$f":"IFERROR($E278*SUMIF('Daily Log'!#REF!,$B278,'Daily Log'!#REF!),0)","v":0},{"$f":"IFERROR($E278*SUMIF('Daily Log'!#REF!,$B278,'Daily Log'!#REF!),0)","v":0},{"$f":"IFERROR($E278*SUMIF('Daily Log'!#REF!,$B278,'Daily Log'!#REF!),0)","v":0},{"$f":"IFERROR($E278*SUMIF('Daily Log'!#REF!,$B278,'Daily Log'!#REF!),0)","v":0},{"$f":"IFERROR($E278*SUMIF('Daily Log'!#REF!,$B278,'Daily Log'!#REF!),0)","v":0},{"$f":"IFERROR($E278*SUMIF('Daily Log'!#REF!,$B278,'Daily Log'!#REF!),0)","v":0},{"$f":"IFERROR($E278*SUMIF('Daily Log'!#REF!,$B278,'Daily Log'!#REF!),0)","v":0},{"$f":"IFERROR($E278*SUMIF('Daily Log'!#REF!,$B278,'Daily Log'!#REF!),0)","v":0},{"$f":"IFERROR($E278*SUMIF('Daily Log'!#REF!,$B278,'Daily Log'!#REF!),0)","v":0},{"$f":"IFERROR($E278*SUMIF('Daily Log'!#REF!,$B278,'Daily Log'!#REF!),0)","v":0},{"$f":"IFERROR($E278*SUMIF('Daily Log'!#REF!,$B278,'Daily Log'!#REF!),0)","v":0},{"$f":"IFERROR($E278*SUMIF('Daily Log'!#REF!,$B278,'Daily Log'!#REF!),0)","v":0},{"$f":"IFERROR($E278*SUMIF('Daily Log'!#REF!,$B278,'Daily Log'!#REF!),0)","v":0},{"$f":"IFERROR($E278*SUMIF('Daily Log'!#REF!,$B278,'Daily Log'!#REF!),0)","v":0},{"$f":"IFERROR($E278*SUMIF('Daily Log'!#REF!,$B278,'Daily Log'!#REF!),0)","v":0},{"$f":"IFERROR($E278*SUMIF('Daily Log'!#REF!,$B278,'Daily Log'!#REF!),0)","v":0},{"$f":"IFERROR($E278*SUMIF('Daily Log'!#REF!,$B278,'Daily Log'!#REF!),0)","v":0}]
[null,"ZAC11 1311:Mc H/SMILES",null,"COMBO-SNAKCS",1,1,{"$f":"IFERROR($E279*SUMIF('Daily Log'!$B$18:$B$1017,$B279,'Daily Log'!$C$18:$C$1017),0)","v":0},{"$f":"IFERROR($E279*SUMIF('Daily Log'!$E$18:$E$1017,$B279,'Daily Log'!$F$18:$F$1017),0)","v":0},{"$f":"IFERROR($E279*SUMIF('Daily Log'!$H$18:$H$1017,$B279,'Daily Log'!$I$18:$I$1017),0)","v":1},{"$f":"IFERROR($E279*SUMIF('Daily Log'!$K$18:$K$1017,$B279,'Daily Log'!$L$18:$L$1017),0)","v":0},{"$f":"IFERROR($E279*SUMIF('Daily Log'!$N$18:$N$1017,$B279,'Daily Log'!$O$18:$O$1017),0)","v":0},{"$f":"IFERROR($E279*SUMIF('Daily Log'!#REF!,$B279,'Daily Log'!#REF!),0)","v":0},{"$f":"IFERROR($E279*SUMIF('Daily Log'!#REF!,$B279,'Daily Log'!#REF!),0)","v":0},{"$f":"IFERROR($E279*SUMIF('Daily Log'!#REF!,$B279,'Daily Log'!#REF!),0)","v":0},{"$f":"IFERROR($E279*SUMIF('Daily Log'!#REF!,$B279,'Daily Log'!#REF!),0)","v":0},{"$f":"IFERROR($E279*SUMIF('Daily Log'!#REF!,$B279,'Daily Log'!#REF!),0)","v":0},{"$f":"IFERROR($E279*SUMIF('Daily Log'!#REF!,$B279,'Daily Log'!#REF!),0)","v":0},{"$f":"IFERROR($E279*SUMIF('Daily Log'!#REF!,$B279,'Daily Log'!#REF!),0)","v":0},{"$f":"IFERROR($E279*SUMIF('Daily Log'!#REF!,$B279,'Daily Log'!#REF!),0)","v":0},{"$f":"IFERROR($E279*SUMIF('Daily Log'!#REF!,$B279,'Daily Log'!#REF!),0)","v":0},{"$f":"IFERROR($E279*SUMIF('Daily Log'!#REF!,$B279,'Daily Log'!#REF!),0)","v":0},{"$f":"IFERROR($E279*SUMIF('Daily Log'!#REF!,$B279,'Daily Log'!#REF!),0)","v":0},{"$f":"IFERROR($E279*SUMIF('Daily Log'!#REF!,$B279,'Daily Log'!#REF!),0)","v":0},{"$f":"IFERROR($E279*SUMIF('Daily Log'!#REF!,$B279,'Daily Log'!#REF!),0)","v":0},{"$f":"IFERROR($E279*SUMIF('Daily Log'!#REF!,$B279,'Daily Log'!#REF!),0)","v":0},{"$f":"IFERROR($E279*SUMIF('Daily Log'!#REF!,$B279,'Daily Log'!#REF!),0)","v":0},{"$f":"IFERROR($E279*SUMIF('Daily Log'!#REF!,$B279,'Daily Log'!#REF!),0)","v":0},{"$f":"IFERROR($E279*SUMIF('Daily Log'!#REF!,$B279,'Daily Log'!#REF!),0)","v":0},{"$f":"IFERROR($E279*SUMIF('Daily Log'!#REF!,$B279,'Daily Log'!#REF!),0)","v":0},{"$f":"IFERROR($E279*SUMIF('Daily Log'!#REF!,$B279,'Daily Log'!#REF!),0)","v":0},{"$f":"IFERROR($E279*SUMIF('Daily Log'!#REF!,$B279,'Daily Log'!#REF!),0)","v":0},{"$f":"IFERROR($E279*SUMIF('Daily Log'!#REF!,$B279,'Daily Log'!#REF!),0)","v":0},{"$f":"IFERROR($E279*SUMIF('Daily Log'!#REF!,$B279,'Daily Log'!#REF!),0)","v":0},{"$f":"IFERROR($E279*SUMIF('Daily Log'!#REF!,$B279,'Daily Log'!#REF!),0)","v":0},{"$f":"IFERROR($E279*SUMIF('Daily Log'!#REF!,$B279,'Daily Log'!#REF!),0)","v":0},{"$f":"IFERROR($E279*SUMIF('Daily Log'!#REF!,$B279,'Daily Log'!#REF!),0)","v":0},{"$f":"IFERROR($E279*SUMIF('Daily Log'!#REF!,$B279,'Daily Log'!#REF!),0)","v":0}]
[null,"ZAC12 1312:Mc HASH/B",null,"COMBO-SNAKCS",1,6,{"$f":"IFERROR($E280*SUMIF('Daily Log'!$B$18:$B$1017,$B280,'Daily Log'!$C$18:$C$1017),0)","v":1},{"$f":"IFERROR($E280*SUMIF('Daily Log'!$E$18:$E$1017,$B280,'Daily Log'!$F$18:$F$1017),0)","v":0},{"$f":"IFERROR($E280*SUMIF('Daily Log'!$H$18:$H$1017,$B280,'Daily Log'!$I$18:$I$1017),0)","v":1},{"$f":"IFERROR($E280*SUMIF('Daily Log'!$K$18:$K$1017,$B280,'Daily Log'!$L$18:$L$1017),0)","v":3},{"$f":"IFERROR($E280*SUMIF('Daily Log'!$N$18:$N$1017,$B280,'Daily Log'!$O$18:$O$1017),0)","v":1},{"$f":"IFERROR($E280*SUMIF('Daily Log'!#REF!,$B280,'Daily Log'!#REF!),0)","v":0},{"$f":"IFERROR($E280*SUMIF('Daily Log'!#REF!,$B280,'Daily Log'!#REF!),0)","v":0},{"$f":"IFERROR($E280*SUMIF('Daily Log'!#REF!,$B280,'Daily Log'!#REF!),0)","v":0},{"$f":"IFERROR($E280*SUMIF('Daily Log'!#REF!,$B280,'Daily Log'!#REF!),0)","v":0},{"$f":"IFERROR($E280*SUMIF('Daily Log'!#REF!,$B280,'Daily Log'!#REF!),0)","v":0},{"$f":"IFERROR($E280*SUMIF('Daily Log'!#REF!,$B280,'Daily Log'!#REF!),0)","v":0},{"$f":"IFERROR($E280*SUMIF('Daily Log'!#REF!,$B280,'Daily Log'!#REF!),0)","v":0},{"$f":"IFERROR($E280*SUMIF('Daily Log'!#REF!,$B280,'Daily Log'!#REF!),0)","v":0},{"$f":"IFERROR($E280*SUMIF('Daily Log'!#REF!,$B280,'Daily Log'!#REF!),0)","v":0},{"$f":"IFERROR($E280*SUMIF('Daily Log'!#REF!,$B280,'Daily Log'!#REF!),0)","v":0},{"$f":"IFERROR($E280*SUMIF('Daily Log'!#REF!,$B280,'Daily Log'!#REF!),0)","v":0},{"$f":"IFERROR($E280*SUMIF('Daily Log'!#REF!,$B280,'Daily Log'!#REF!),0)","v":0},{"$f":"IFERROR($E280*SUMIF('Daily Log'!#REF!,$B280,'Daily Log'!#REF!),0)","v":0},{"$f":"IFERROR($E280*SUMIF('Daily Log'!#REF!,$B280,'Daily Log'!#REF!),0)","v":0},{"$f":"IFERROR($E280*SUMIF('Daily Log'!#REF!,$B280,'Daily Log'!#REF!),0)","v":0},{"$f":"IFERROR($E280*SUMIF('Daily Log'!#REF!,$B280,'Daily Log'!#REF!),0)","v":0},{"$f":"IFERROR($E280*SUMIF('Daily Log'!#REF!,$B280,'Daily Log'!#REF!),0)","v":0},{"$f":"IFERROR($E280*SUMIF('Daily Log'!#REF!,$B280,'Daily Log'!#REF!),0)","v":0},{"$f":"IFERROR($E280*SUMIF('Daily Log'!#REF!,$B280,'Daily Log'!#REF!),0)","v":0},{"$f":"IFERROR($E280*SUMIF('Daily Log'!#REF!,$B280,'Daily Log'!#REF!),0)","v":0},{"$f":"IFERROR($E280*SUMIF('Daily Log'!#REF!,$B280,'Daily Log'!#REF!),0)","v":0},{"$f":"IFERROR($E280*SUMIF('Daily Log'!#REF!,$B280,'Daily Log'!#REF!),0)","v":0},{"$f":"IFERROR($E280*SUMIF('Daily Log'!#REF!,$B280,'Daily Log'!#REF!),0)","v":0},{"$f":"IFERROR($E280*SUMIF('Daily Log'!#REF!,$B280,'Daily Log'!#REF!),0)","v":0},{"$f":"IFERROR($E280*SUMIF('Daily Log'!#REF!,$B280,'Daily Log'!#REF!),0)","v":0},{"$f":"IFERROR($E280*SUMIF('Daily Log'!#REF!,$B280,'Daily Log'!#REF!),0)","v":0}]
[null,"AA01 K : REGULAR",null,null,1,{"$f":"SUM($G281:$AK281)","v":5},{"$f":"IFERROR($E281*SUMIF('Daily Log'!$B$18:$B$1017,$B281,'Daily Log'!$C$18:$C$1017),0)","v":0},{"$f":"IFERROR($E281*SUMIF('Daily Log'!$E$18:$E$1017,$B281,'Daily Log'!$F$18:$F$1017),0)","v":3},{"$f":"IFERROR($E281*SUMIF('Daily Log'!$H$18:$H$1017,$B281,'Daily Log'!$I$18:$I$1017),0)","v":1},{"$f":"IFERROR($E281*SUMIF('Daily Log'!$K$18:$K$1017,$B281,'Daily Log'!$L$18:$L$1017),0)","v":0},{"$f":"IFERROR($E281*SUMIF('Daily Log'!$N$18:$N$1017,$B281,'Daily Log'!$O$18:$O$1017),0)","v":1},{"$f":"IFERROR($E281*SUMIF('Daily Log'!#REF!,$B281,'Daily Log'!#REF!),0)","v":0},{"$f":"IFERROR($E281*SUMIF('Daily Log'!#REF!,$B281,'Daily Log'!#REF!),0)","v":0},{"$f":"IFERROR($E281*SUMIF('Daily Log'!#REF!,$B281,'Daily Log'!#REF!),0)","v":0},{"$f":"IFERROR($E281*SUMIF('Daily Log'!#REF!,$B281,'Daily Log'!#REF!),0)","v":0},{"$f":"IFERROR($E281*SUMIF('Daily Log'!#REF!,$B281,'Daily Log'!#REF!),0)","v":0},{"$f":"IFERROR($E281*SUMIF('Daily Log'!#REF!,$B281,'Daily Log'!#REF!),0)","v":0},{"$f":"IFERROR($E281*SUMIF('Daily Log'!#REF!,$B281,'Daily Log'!#REF!),0)","v":0},{"$f":"IFERROR($E281*SUMIF('Daily Log'!#REF!,$B281,'Daily Log'!#REF!),0)","v":0},{"$f":"IFERROR($E281*SUMIF('Daily Log'!#REF!,$B281,'Daily Log'!#REF!),0)","v":0},{"$f":"IFERROR($E281*SUMIF('Daily Log'!#REF!,$B281,'Daily Log'!#REF!),0)","v":0},{"$f":"IFERROR($E281*SUMIF('Daily Log'!#REF!,$B281,'Daily Log'!#REF!),0)","v":0},{"$f":"IFERROR($E281*SUMIF('Daily Log'!#REF!,$B281,'Daily Log'!#REF!),0)","v":0},{"$f":"IFERROR($E281*SUMIF('Daily Log'!#REF!,$B281,'Daily Log'!#REF!),0)","v":0},{"$f":"IFERROR($E281*SUMIF('Daily Log'!#REF!,$B281,'Daily Log'!#REF!),0)","v":0},{"$f":"IFERROR($E281*SUMIF('Daily Log'!#REF!,$B281,'Daily Log'!#REF!),0)","v":0},{"$f":"IFERROR($E281*SUMIF('Daily Log'!#REF!,$B281,'Daily Log'!#REF!),0)","v":0},{"$f":"IFERROR($E281*SUMIF('Daily Log'!#REF!,$B281,'Daily Log'!#REF!),0)","v":0},{"$f":"IFERROR($E281*SUMIF('Daily Log'!#REF!,$B281,'Daily Log'!#REF!),0)","v":0},{"$f":"IFERROR($E281*SUMIF('Daily Log'!#REF!,$B281,'Daily Log'!#REF!),0)","v":0},{"$f":"IFERROR($E281*SUMIF('Daily Log'!#REF!,$B281,'Daily Log'!#REF!),0)","v":0},{"$f":"IFERROR($E281*SUMIF('Daily Log'!#REF!,$B281,'Daily Log'!#REF!),0)","v":0},{"$f":"IFERROR($E281*SUMIF('Daily Log'!#REF!,$B281,'Daily Log'!#REF!),0)","v":0},{"$f":"IFERROR($E281*SUMIF('Daily Log'!#REF!,$B281,'Daily Log'!#REF!),0)","v":0},{"$f":"IFERROR($E281*SUMIF('Daily Log'!#REF!,$B281,'Daily Log'!#REF!),0)","v":0},{"$f":"IFERROR($E281*SUMIF('Daily Log'!#REF!,$B281,'Daily Log'!#REF!),0)","v":0},{"$f":"IFERROR($E281*SUMIF('Daily Log'!#REF!,$B281,'Daily Log'!#REF!),0)","v":0}]
[null,"AA02 K : MEMBER",null,null,1,0,{"$f":"IFERROR($E282*SUMIF('Daily Log'!$B$18:$B$1017,$B282,'Daily Log'!$C$18:$C$1017),0)","v":0},{"$f":"IFERROR($E282*SUMIF('Daily Log'!$E$18:$E$1017,$B282,'Daily Log'!$F$18:$F$1017),0)","v":0},{"$f":"IFERROR($E282*SUMIF('Daily Log'!$H$18:$H$1017,$B282,'Daily Log'!$I$18:$I$1017),0)","v":0},{"$f":"IFERROR($E282*SUMIF('Daily Log'!$K$18:$K$1017,$B282,'Daily Log'!$L$18:$L$1017),0)","v":0},{"$f":"IFERROR($E282*SUMIF('Daily Log'!$N$18:$N$1017,$B282,'Daily Log'!$O$18:$O$1017),0)","v":0},{"$f":"IFERROR($E282*SUMIF('Daily Log'!#REF!,$B282,'Daily Log'!#REF!),0)","v":0},{"$f":"IFERROR($E282*SUMIF('Daily Log'!#REF!,$B282,'Daily Log'!#REF!),0)","v":0},{"$f":"IFERROR($E282*SUMIF('Daily Log'!#REF!,$B282,'Daily Log'!#REF!),0)","v":0},{"$f":"IFERROR($E282*SUMIF('Daily Log'!#REF!,$B282,'Daily Log'!#REF!),0)","v":0},{"$f":"IFERROR($E282*SUMIF('Daily Log'!#REF!,$B282,'Daily Log'!#REF!),0)","v":0},{"$f":"IFERROR($E282*SUMIF('Daily Log'!#REF!,$B282,'Daily Log'!#REF!),0)","v":0},{"$f":"IFERROR($E282*SUMIF('Daily Log'!#REF!,$B282,'Daily Log'!#REF!),0)","v":0},{"$f":"IFERROR($E282*SUMIF('Daily Log'!#REF!,$B282,'Daily Log'!#REF!),0)","v":0},{"$f":"IFERROR($E282*SUMIF('Daily Log'!#REF!,$B282,'Daily Log'!#REF!),0)","v":0},{"$f":"IFERROR($E282*SUMIF('Daily Log'!#REF!,$B282,'Daily Log'!#REF!),0)","v":0},{"$f":"IFERROR($E282*SUMIF('Daily Log'!#REF!,$B282,'Daily Log'!#REF!),0)","v":0},{"$f":"IFERROR($E282*SUMIF('Daily Log'!#REF!,$B282,'Daily Log'!#REF!),0)","v":0},{"$f":"IFERROR($E282*SUMIF('Daily Log'!#REF!,$B282,'Daily Log'!#REF!),0)","v":0},{"$f":"IFERROR($E282*SUMIF('Daily Log'!#REF!,$B282,'Daily Log'!#REF!),0)","v":0},{"$f":"IFERROR($E282*SUMIF('Daily Log'!#REF!,$B282,'Daily Log'!#REF!),0)","v":0},{"$f":"IFERROR($E282*SUMIF('Daily Log'!#REF!,$B282,'Daily Log'!#REF!),0)","v":0},{"$f":"IFERROR($E282*SUMIF('Daily Log'!#REF!,$B282,'Daily Log'!#REF!),0)","v":0},{"$f":"IFERROR($E282*SUMIF('Daily Log'!#REF!,$B282,'Daily Log'!#REF!),0)","v":0},{"$f":"IFERROR($E282*SUMIF('Daily Log'!#REF!,$B282,'Daily Log'!#REF!),0)","v":0},{"$f":"IFERROR($E282*SUMIF('Daily Log'!#REF!,$B282,'Daily Log'!#REF!),0)","v":0},{"$f":"IFERROR($E282*SUMIF('Daily Log'!#REF!,$B282,'Daily Log'!#REF!),0)","v":0},{"$f":"IFERROR($E282*SUMIF('Daily Log'!#REF!,$B282,'Daily Log'!#REF!),0)","v":0},{"$f":"IFERROR($E282*SUMIF('Daily Log'!#REF!,$B282,'Daily Log'!#REF!),0)","v":0},{"$f":"IFERROR($E282*SUMIF('Daily Log'!#REF!,$B282,'Daily Log'!#REF!),0)","v":0},{"$f":"IFERROR($E282*SUMIF('Daily Log'!#REF!,$B282,'Daily Log'!#REF!),0)","v":0},{"$f":"IFERROR($E282*SUMIF('Daily Log'!#REF!,$B282,'Daily Log'!#REF!),0)","v":0}]
[null,"AA03 K : CARI MEMBER",null,null,1,0,{"$f":"IFERROR($E283*SUMIF('Daily Log'!$B$18:$B$1017,$B283,'Daily Log'!$C$18:$C$1017),0)","v":0},{"$f":"IFERROR($E283*SUMIF('Daily Log'!$E$18:$E$1017,$B283,'Daily Log'!$F$18:$F$1017),0)","v":0},{"$f":"IFERROR($E283*SUMIF('Daily Log'!$H$18:$H$1017,$B283,'Daily Log'!$I$18:$I$1017),0)","v":0},{"$f":"IFERROR($E283*SUMIF('Daily Log'!$K$18:$K$1017,$B283,'Daily Log'!$L$18:$L$1017),0)","v":0},{"$f":"IFERROR($E283*SUMIF('Daily Log'!$N$18:$N$1017,$B283,'Daily Log'!$O$18:$O$1017),0)","v":0},{"$f":"IFERROR($E283*SUMIF('Daily Log'!#REF!,$B283,'Daily Log'!#REF!),0)","v":0},{"$f":"IFERROR($E283*SUMIF('Daily Log'!#REF!,$B283,'Daily Log'!#REF!),0)","v":0},{"$f":"IFERROR($E283*SUMIF('Daily Log'!#REF!,$B283,'Daily Log'!#REF!),0)","v":0},{"$f":"IFERROR($E283*SUMIF('Daily Log'!#REF!,$B283,'Daily Log'!#REF!),0)","v":0},{"$f":"IFERROR($E283*SUMIF('Daily Log'!#REF!,$B283,'Daily Log'!#REF!),0)","v":0},{"$f":"IFERROR($E283*SUMIF('Daily Log'!#REF!,$B283,'Daily Log'!#REF!),0)","v":0},{"$f":"IFERROR($E283*SUMIF('Daily Log'!#REF!,$B283,'Daily Log'!#REF!),0)","v":0},{"$f":"IFERROR($E283*SUMIF('Daily Log'!#REF!,$B283,'Daily Log'!#REF!),0)","v":0},{"$f":"IFERROR($E283*SUMIF('Daily Log'!#REF!,$B283,'Daily Log'!#REF!),0)","v":0},{"$f":"IFERROR($E283*SUMIF('Daily Log'!#REF!,$B283,'Daily Log'!#REF!),0)","v":0},{"$f":"IFERROR($E283*SUMIF('Daily Log'!#REF!,$B283,'Daily Log'!#REF!),0)","v":0},{"$f":"IFERROR($E283*SUMIF('Daily Log'!#REF!,$B283,'Daily Log'!#REF!),0)","v":0},{"$f":"IFERROR($E283*SUMIF('Daily Log'!#REF!,$B283,'Daily Log'!#REF!),0)","v":0},{"$f":"IFERROR($E283*SUMIF('Daily Log'!#REF!,$B283,'Daily Log'!#REF!),0)","v":0},{"$f":"IFERROR($E283*SUMIF('Daily Log'!#REF!,$B283,'Daily Log'!#REF!),0)","v":0},{"$f":"IFERROR($E283*SUMIF('Daily Log'!#REF!,$B283,'Daily Log'!#REF!),0)","v":0},{"$f":"IFERROR($E283*SUMIF('Daily Log'!#REF!,$B283,'Daily Log'!#REF!),0)","v":0},{"$f":"IFERROR($E283*SUMIF('Daily Log'!#REF!,$B283,'Daily Log'!#REF!),0)","v":0},{"$f":"IFERROR($E283*SUMIF('Daily Log'!#REF!,$B283,'Daily Log'!#REF!),0)","v":0},{"$f":"IFERROR($E283*SUMIF('Daily Log'!#REF!,$B283,'Daily Log'!#REF!),0)","v":0},{"$f":"IFERROR($E283*SUMIF('Daily Log'!#REF!,$B283,'Daily Log'!#REF!),0)","v":0},{"$f":"IFERROR($E283*SUMIF('Daily Log'!#REF!,$B283,'Daily Log'!#REF!),0)","v":0},{"$f":"IFERROR($E283*SUMIF('Daily Log'!#REF!,$B283,'Daily Log'!#REF!),0)","v":0},{"$f":"IFERROR($E283*SUMIF('Daily Log'!#REF!,$B283,'Daily Log'!#REF!),0)","v":0},{"$f":"IFERROR($E283*SUMIF('Daily Log'!#REF!,$B283,'Daily Log'!#REF!),0)","v":0},{"$f":"IFERROR($E283*SUMIF('Daily Log'!#REF!,$B283,'Daily Log'!#REF!),0)","v":0}]
[null,"AA04 K-LUNCH",null,null,1,191,{"$f":"IFERROR($E284*SUMIF('Daily Log'!$B$18:$B$1017,$B284,'Daily Log'!$C$18:$C$1017),0)","v":91},{"$f":"IFERROR($E284*SUMIF('Daily Log'!$E$18:$E$1017,$B284,'Daily Log'!$F$18:$F$1017),0)","v":20},{"$f":"IFERROR($E284*SUMIF('Daily Log'!$H$18:$H$1017,$B284,'Daily Log'!$I$18:$I$1017),0)","v":27},{"$f":"IFERROR($E284*SUMIF('Daily Log'!$K$18:$K$1017,$B284,'Daily Log'!$L$18:$L$1017),0)","v":32},{"$f":"IFERROR($E284*SUMIF('Daily Log'!$N$18:$N$1017,$B284,'Daily Log'!$O$18:$O$1017),0)","v":21},{"$f":"IFERROR($E284*SUMIF('Daily Log'!#REF!,$B284,'Daily Log'!#REF!),0)","v":0},{"$f":"IFERROR($E284*SUMIF('Daily Log'!#REF!,$B284,'Daily Log'!#REF!),0)","v":0},{"$f":"IFERROR($E284*SUMIF('Daily Log'!#REF!,$B284,'Daily Log'!#REF!),0)","v":0},{"$f":"IFERROR($E284*SUMIF('Daily Log'!#REF!,$B284,'Daily Log'!#REF!),0)","v":0},{"$f":"IFERROR($E284*SUMIF('Daily Log'!#REF!,$B284,'Daily Log'!#REF!),0)","v":0},{"$f":"IFERROR($E284*SUMIF('Daily Log'!#REF!,$B284,'Daily Log'!#REF!),0)","v":0},{"$f":"IFERROR($E284*SUMIF('Daily Log'!#REF!,$B284,'Daily Log'!#REF!),0)","v":0},{"$f":"IFERROR($E284*SUMIF('Daily Log'!#REF!,$B284,'Daily Log'!#REF!),0)","v":0},{"$f":"IFERROR($E284*SUMIF('Daily Log'!#REF!,$B284,'Daily Log'!#REF!),0)","v":0},{"$f":"IFERROR($E284*SUMIF('Daily Log'!#REF!,$B284,'Daily Log'!#REF!),0)","v":0},{"$f":"IFERROR($E284*SUMIF('Daily Log'!#REF!,$B284,'Daily Log'!#REF!),0)","v":0},{"$f":"IFERROR($E284*SUMIF('Daily Log'!#REF!,$B284,'Daily Log'!#REF!),0)","v":0},{"$f":"IFERROR($E284*SUMIF('Daily Log'!#REF!,$B284,'Daily Log'!#REF!),0)","v":0},{"$f":"IFERROR($E284*SUMIF('Daily Log'!#REF!,$B284,'Daily Log'!#REF!),0)","v":0},{"$f":"IFERROR($E284*SUMIF('Daily Log'!#REF!,$B284,'Daily Log'!#REF!),0)","v":0},{"$f":"IFERROR($E284*SUMIF('Daily Log'!#REF!,$B284,'Daily Log'!#REF!),0)","v":0},{"$f":"IFERROR($E284*SUMIF('Daily Log'!#REF!,$B284,'Daily Log'!#REF!),0)","v":0},{"$f":"IFERROR($E284*SUMIF('Daily Log'!#REF!,$B284,'Daily Log'!#REF!),0)","v":0},{"$f":"IFERROR($E284*SUMIF('Daily Log'!#REF!,$B284,'Daily Log'!#REF!),0)","v":0},{"$f":"IFERROR($E284*SUMIF('Daily Log'!#REF!,$B284,'Daily Log'!#REF!),0)","v":0},{"$f":"IFERROR($E284*SUMIF('Daily Log'!#REF!,$B284,'Daily Log'!#REF!),0)","v":0},{"$f":"IFERROR($E284*SUMIF('Daily Log'!#REF!,$B284,'Daily Log'!#REF!),0)","v":0},{"$f":"IFERROR($E284*SUMIF('Daily Log'!#REF!,$B284,'Daily Log'!#REF!),0)","v":0},{"$f":"IFERROR($E284*SUMIF('Daily Log'!#REF!,$B284,'Daily Log'!#REF!),0)","v":0},{"$f":"IFERROR($E284*SUMIF('Daily Log'!#REF!,$B284,'Daily Log'!#REF!),0)","v":0},{"$f":"IFERROR($E284*SUMIF('Daily Log'!#REF!,$B284,'Daily Log'!#REF!),0)","v":0}]
[null,"AA05 K : CHILDREN",null,null,1,8,{"$f":"IFERROR($E285*SUMIF('Daily Log'!$B$18:$B$1017,$B285,'Daily Log'!$C$18:$C$1017),0)","v":1},{"$f":"IFERROR($E285*SUMIF('Daily Log'!$E$18:$E$1017,$B285,'Daily Log'!$F$18:$F$1017),0)","v":0},{"$f":"IFERROR($E285*SUMIF('Daily Log'!$H$18:$H$1017,$B285,'Daily Log'!$I$18:$I$1017),0)","v":1},{"$f":"IFERROR($E285*SUMIF('Daily Log'!$K$18:$K$1017,$B285,'Daily Log'!$L$18:$L$1017),0)","v":0},{"$f":"IFERROR($E285*SUMIF('Daily Log'!$N$18:$N$1017,$B285,'Daily Log'!$O$18:$O$1017),0)","v":6},{"$f":"IFERROR($E285*SUMIF('Daily Log'!#REF!,$B285,'Daily Log'!#REF!),0)","v":0},{"$f":"IFERROR($E285*SUMIF('Daily Log'!#REF!,$B285,'Daily Log'!#REF!),0)","v":0},{"$f":"IFERROR($E285*SUMIF('Daily Log'!#REF!,$B285,'Daily Log'!#REF!),0)","v":0},{"$f":"IFERROR($E285*SUMIF('Daily Log'!#REF!,$B285,'Daily Log'!#REF!),0)","v":0},{"$f":"IFERROR($E285*SUMIF('Daily Log'!#REF!,$B285,'Daily Log'!#REF!),0)","v":0},{"$f":"IFERROR($E285*SUMIF('Daily Log'!#REF!,$B285,'Daily Log'!#REF!),0)","v":0},{"$f":"IFERROR($E285*SUMIF('Daily Log'!#REF!,$B285,'Daily Log'!#REF!),0)","v":0},{"$f":"IFERROR($E285*SUMIF('Daily Log'!#REF!,$B285,'Daily Log'!#REF!),0)","v":0},{"$f":"IFERROR($E285*SUMIF('Daily Log'!#REF!,$B285,'Daily Log'!#REF!),0)","v":0},{"$f":"IFERROR($E285*SUMIF('Daily Log'!#REF!,$B285,'Daily Log'!#REF!),0)","v":0},{"$f":"IFERROR($E285*SUMIF('Daily Log'!#REF!,$B285,'Daily Log'!#REF!),0)","v":0},{"$f":"IFERROR($E285*SUMIF('Daily Log'!#REF!,$B285,'Daily Log'!#REF!),0)","v":0},{"$f":"IFERROR($E285*SUMIF('Daily Log'!#REF!,$B285,'Daily Log'!#REF!),0)","v":0},{"$f":"IFERROR($E285*SUMIF('Daily Log'!#REF!,$B285,'Daily Log'!#REF!),0)","v":0},{"$f":"IFERROR($E285*SUMIF('Daily Log'!#REF!,$B285,'Daily Log'!#REF!),0)","v":0},{"$f":"IFERROR($E285*SUMIF('Daily Log'!#REF!,$B285,'Daily Log'!#REF!),0)","v":0},{"$f":"IFERROR($E285*SUMIF('Daily Log'!#REF!,$B285,'Daily Log'!#REF!),0)","v":0},{"$f":"IFERROR($E285*SUMIF('Daily Log'!#REF!,$B285,'Daily Log'!#REF!),0)","v":0},{"$f":"IFERROR($E285*SUMIF('Daily Log'!#REF!,$B285,'Daily Log'!#REF!),0)","v":0},{"$f":"IFERROR($E285*SUMIF('Daily Log'!#REF!,$B285,'Daily Log'!#REF!),0)","v":0},{"$f":"IFERROR($E285*SUMIF('Daily Log'!#REF!,$B285,'Daily Log'!#REF!),0)","v":0},{"$f":"IFERROR($E285*SUMIF('Daily Log'!#REF!,$B285,'Daily Log'!#REF!),0)","v":0},{"$f":"IFERROR($E285*SUMIF('Daily Log'!#REF!,$B285,'Daily Log'!#REF!),0)","v":0},{"$f":"IFERROR($E285*SUMIF('Daily Log'!#REF!,$B285,'Daily Log'!#REF!),0)","v":0},{"$f":"IFERROR($E285*SUMIF('Daily Log'!#REF!,$B285,'Daily Log'!#REF!),0)","v":0},{"$f":"IFERROR($E285*SUMIF('Daily Log'!#REF!,$B285,'Daily Log'!#REF!),0)","v":0}]
[null,"AA06 K : MEMBER B'DAY",null,null,1,3,{"$f":"IFERROR($E286*SUMIF('Daily Log'!$B$18:$B$1017,$B286,'Daily Log'!$C$18:$C$1017),0)","v":0},{"$f":"IFERROR($E286*SUMIF('Daily Log'!$E$18:$E$1017,$B286,'Daily Log'!$F$18:$F$1017),0)","v":1},{"$f":"IFERROR($E286*SUMIF('Daily Log'!$H$18:$H$1017,$B286,'Daily Log'!$I$18:$I$1017),0)","v":2},{"$f":"IFERROR($E286*SUMIF('Daily Log'!$K$18:$K$1017,$B286,'Daily Log'!$L$18:$L$1017),0)","v":0},{"$f":"IFERROR($E286*SUMIF('Daily Log'!$N$18:$N$1017,$B286,'Daily Log'!$O$18:$O$1017),0)","v":0},{"$f":"IFERROR($E286*SUMIF('Daily Log'!#REF!,$B286,'Daily Log'!#REF!),0)","v":0},{"$f":"IFERROR($E286*SUMIF('Daily Log'!#REF!,$B286,'Daily Log'!#REF!),0)","v":0},{"$f":"IFERROR($E286*SUMIF('Daily Log'!#REF!,$B286,'Daily Log'!#REF!),0)","v":0},{"$f":"IFERROR($E286*SUMIF('Daily Log'!#REF!,$B286,'Daily Log'!#REF!),0)","v":0},{"$f":"IFERROR($E286*SUMIF('Daily Log'!#REF!,$B286,'Daily Log'!#REF!),0)","v":0},{"$f":"IFERROR($E286*SUMIF('Daily Log'!#REF!,$B286,'Daily Log'!#REF!),0)","v":0},{"$f":"IFERROR($E286*SUMIF('Daily Log'!#REF!,$B286,'Daily Log'!#REF!),0)","v":0},{"$f":"IFERROR($E286*SUMIF('Daily Log'!#REF!,$B286,'Daily Log'!#REF!),0)","v":0},{"$f":"IFERROR($E286*SUMIF('Daily Log'!#REF!,$B286,'Daily Log'!#REF!),0)","v":0},{"$f":"IFERROR($E286*SUMIF('Daily Log'!#REF!,$B286,'Daily Log'!#REF!),0)","v":0},{"$f":"IFERROR($E286*SUMIF('Daily Log'!#REF!,$B286,'Daily Log'!#REF!),0)","v":0},{"$f":"IFERROR($E286*SUMIF('Daily Log'!#REF!,$B286,'Daily Log'!#REF!),0)","v":0},{"$f":"IFERROR($E286*SUMIF('Daily Log'!#REF!,$B286,'Daily Log'!#REF!),0)","v":0},{"$f":"IFERROR($E286*SUMIF('Daily Log'!#REF!,$B286,'Daily Log'!#REF!),0)","v":0},{"$f":"IFERROR($E286*SUMIF('Daily Log'!#REF!,$B286,'Daily Log'!#REF!),0)","v":0},{"$f":"IFERROR($E286*SUMIF('Daily Log'!#REF!,$B286,'Daily Log'!#REF!),0)","v":0},{"$f":"IFERROR($E286*SUMIF('Daily Log'!#REF!,$B286,'Daily Log'!#REF!),0)","v":0},{"$f":"IFERROR($E286*SUMIF('Daily Log'!#REF!,$B286,'Daily Log'!#REF!),0)","v":0},{"$f":"IFERROR($E286*SUMIF('Daily Log'!#REF!,$B286,'Daily Log'!#REF!),0)","v":0},{"$f":"IFERROR($E286*SUMIF('Daily Log'!#REF!,$B286,'Daily Log'!#REF!),0)","v":0},{"$f":"IFERROR($E286*SUMIF('Daily Log'!#REF!,$B286,'Daily Log'!#REF!),0)","v":0},{"$f":"IFERROR($E286*SUMIF('Daily Log'!#REF!,$B286,'Daily Log'!#REF!),0)","v":0},{"$f":"IFERROR($E286*SUMIF('Daily Log'!#REF!,$B286,'Daily Log'!#REF!),0)","v":0},{"$f":"IFERROR($E286*SUMIF('Daily Log'!#REF!,$B286,'Daily Log'!#REF!),0)","v":0},{"$f":"IFERROR($E286*SUMIF('Daily Log'!#REF!,$B286,'Daily Log'!#REF!),0)","v":0},{"$f":"IFERROR($E286*SUMIF('Daily Log'!#REF!,$B286,'Daily Log'!#REF!),0)","v":0}]
[null,"AA18 K : XTD B ROOM",null,null,1,2,{"$f":"IFERROR($E287*SUMIF('Daily Log'!$B$18:$B$1017,$B287,'Daily Log'!$C$18:$C$1017),0)","v":0},{"$f":"IFERROR($E287*SUMIF('Daily Log'!$E$18:$E$1017,$B287,'Daily Log'!$F$18:$F$1017),0)","v":0},{"$f":"IFERROR($E287*SUMIF('Daily Log'!$H$18:$H$1017,$B287,'Daily Log'!$I$18:$I$1017),0)","v":2},{"$f":"IFERROR($E287*SUMIF('Daily Log'!$K$18:$K$1017,$B287,'Daily Log'!$L$18:$L$1017),0)","v":0},{"$f":"IFERROR($E287*SUMIF('Daily Log'!$N$18:$N$1017,$B287,'Daily Log'!$O$18:$O$1017),0)","v":0},{"$f":"IFERROR($E287*SUMIF('Daily Log'!#REF!,$B287,'Daily Log'!#REF!),0)","v":0},{"$f":"IFERROR($E287*SUMIF('Daily Log'!#REF!,$B287,'Daily Log'!#REF!),0)","v":0},{"$f":"IFERROR($E287*SUMIF('Daily Log'!#REF!,$B287,'Daily Log'!#REF!),0)","v":0},{"$f":"IFERROR($E287*SUMIF('Daily Log'!#REF!,$B287,'Daily Log'!#REF!),0)","v":0},{"$f":"IFERROR($E287*SUMIF('Daily Log'!#REF!,$B287,'Daily Log'!#REF!),0)","v":0},{"$f":"IFERROR($E287*SUMIF('Daily Log'!#REF!,$B287,'Daily Log'!#REF!),0)","v":0},{"$f":"IFERROR($E287*SUMIF('Daily Log'!#REF!,$B287,'Daily Log'!#REF!),0)","v":0},{"$f":"IFERROR($E287*SUMIF('Daily Log'!#REF!,$B287,'Daily Log'!#REF!),0)","v":0},{"$f":"IFERROR($E287*SUMIF('Daily Log'!#REF!,$B287,'Daily Log'!#REF!),0)","v":0},{"$f":"IFERROR($E287*SUMIF('Daily Log'!#REF!,$B287,'Daily Log'!#REF!),0)","v":0},{"$f":"IFERROR($E287*SUMIF('Daily Log'!#REF!,$B287,'Daily Log'!#REF!),0)","v":0},{"$f":"IFERROR($E287*SUMIF('Daily Log'!#REF!,$B287,'Daily Log'!#REF!),0)","v":0},{"$f":"IFERROR($E287*SUMIF('Daily Log'!#REF!,$B287,'Daily Log'!#REF!),0)","v":0},{"$f":"IFERROR($E287*SUMIF('Daily Log'!#REF!,$B287,'Daily Log'!#REF!),0)","v":0},{"$f":"IFERROR($E287*SUMIF('Daily Log'!#REF!,$B287,'Daily Log'!#REF!),0)","v":0},{"$f":"IFERROR($E287*SUMIF('Daily Log'!#REF!,$B287,'Daily Log'!#REF!),0)","v":0},{"$f":"IFERROR($E287*SUMIF('Daily Log'!#REF!,$B287,'Daily Log'!#REF!),0)","v":0},{"$f":"IFERROR($E287*SUMIF('Daily Log'!#REF!,$B287,'Daily Log'!#REF!),0)","v":0},{"$f":"IFERROR($E287*SUMIF('Daily Log'!#REF!,$B287,'Daily Log'!#REF!),0)","v":0},{"$f":"IFERROR($E287*SUMIF('Daily Log'!#REF!,$B287,'Daily Log'!#REF!),0)","v":0},{"$f":"IFERROR($E287*SUMIF('Daily Log'!#REF!,$B287,'Daily Log'!#REF!),0)","v":0},{"$f":"IFERROR($E287*SUMIF('Daily Log'!#REF!,$B287,'Daily Log'!#REF!),0)","v":0},{"$f":"IFERROR($E287*SUMIF('Daily Log'!#REF!,$B287,'Daily Log'!#REF!),0)","v":0},{"$f":"IFERROR($E287*SUMIF('Daily Log'!#REF!,$B287,'Daily Log'!#REF!),0)","v":0},{"$f":"IFERROR($E287*SUMIF('Daily Log'!#REF!,$B287,'Daily Log'!#REF!),0)","v":0},{"$f":"IFERROR($E287*SUMIF('Daily Log'!#REF!,$B287,'Daily Log'!#REF!),0)","v":0}]
[null,"AB01 H : REGULAR",null,null,1,292,{"$f":"IFERROR($E288*SUMIF('Daily Log'!$B$18:$B$1017,$B288,'Daily Log'!$C$18:$C$1017),0)","v":118},{"$f":"IFERROR($E288*SUMIF('Daily Log'!$E$18:$E$1017,$B288,'Daily Log'!$F$18:$F$1017),0)","v":23},{"$f":"IFERROR($E288*SUMIF('Daily Log'!$H$18:$H$1017,$B288,'Daily Log'!$I$18:$I$1017),0)","v":23},{"$f":"IFERROR($E288*SUMIF('Daily Log'!$K$18:$K$1017,$B288,'Daily Log'!$L$18:$L$1017),0)","v":78},{"$f":"IFERROR($E288*SUMIF('Daily Log'!$N$18:$N$1017,$B288,'Daily Log'!$O$18:$O$1017),0)","v":50},{"$f":"IFERROR($E288*SUMIF('Daily Log'!#REF!,$B288,'Daily Log'!#REF!),0)","v":0},{"$f":"IFERROR($E288*SUMIF('Daily Log'!#REF!,$B288,'Daily Log'!#REF!),0)","v":0},{"$f":"IFERROR($E288*SUMIF('Daily Log'!#REF!,$B288,'Daily Log'!#REF!),0)","v":0},{"$f":"IFERROR($E288*SUMIF('Daily Log'!#REF!,$B288,'Daily Log'!#REF!),0)","v":0},{"$f":"IFERROR($E288*SUMIF('Daily Log'!#REF!,$B288,'Daily Log'!#REF!),0)","v":0},{"$f":"IFERROR($E288*SUMIF('Daily Log'!#REF!,$B288,'Daily Log'!#REF!),0)","v":0},{"$f":"IFERROR($E288*SUMIF('Daily Log'!#REF!,$B288,'Daily Log'!#REF!),0)","v":0},{"$f":"IFERROR($E288*SUMIF('Daily Log'!#REF!,$B288,'Daily Log'!#REF!),0)","v":0},{"$f":"IFERROR($E288*SUMIF('Daily Log'!#REF!,$B288,'Daily Log'!#REF!),0)","v":0},{"$f":"IFERROR($E288*SUMIF('Daily Log'!#REF!,$B288,'Daily Log'!#REF!),0)","v":0},{"$f":"IFERROR($E288*SUMIF('Daily Log'!#REF!,$B288,'Daily Log'!#REF!),0)","v":0},{"$f":"IFERROR($E288*SUMIF('Daily Log'!#REF!,$B288,'Daily Log'!#REF!),0)","v":0},{"$f":"IFERROR($E288*SUMIF('Daily Log'!#REF!,$B288,'Daily Log'!#REF!),0)","v":0},{"$f":"IFERROR($E288*SUMIF('Daily Log'!#REF!,$B288,'Daily Log'!#REF!),0)","v":0},{"$f":"IFERROR($E288*SUMIF('Daily Log'!#REF!,$B288,'Daily Log'!#REF!),0)","v":0},{"$f":"IFERROR($E288*SUMIF('Daily Log'!#REF!,$B288,'Daily Log'!#REF!),0)","v":0},{"$f":"IFERROR($E288*SUMIF('Daily Log'!#REF!,$B288,'Daily Log'!#REF!),0)","v":0},{"$f":"IFERROR($E288*SUMIF('Daily Log'!#REF!,$B288,'Daily Log'!#REF!),0)","v":0},{"$f":"IFERROR($E288*SUMIF('Daily Log'!#REF!,$B288,'Daily Log'!#REF!),0)","v":0},{"$f":"IFERROR($E288*SUMIF('Daily Log'!#REF!,$B288,'Daily Log'!#REF!),0)","v":0},{"$f":"IFERROR($E288*SUMIF('Daily Log'!#REF!,$B288,'Daily Log'!#REF!),0)","v":0},{"$f":"IFERROR($E288*SUMIF('Daily Log'!#REF!,$B288,'Daily Log'!#REF!),0)","v":0},{"$f":"IFERROR($E288*SUMIF('Daily Log'!#REF!,$B288,'Daily Log'!#REF!),0)","v":0},{"$f":"IFERROR($E288*SUMIF('Daily Log'!#REF!,$B288,'Daily Log'!#REF!),0)","v":0},{"$f":"IFERROR($E288*SUMIF('Daily Log'!#REF!,$B288,'Daily Log'!#REF!),0)","v":0},{"$f":"IFERROR($E288*SUMIF('Daily Log'!#REF!,$B288,'Daily Log'!#REF!),0)","v":0}]
[null,"AB02 H : MEMBER",null,null,1,70,{"$f":"IFERROR($E289*SUMIF('Daily Log'!$B$18:$B$1017,$B289,'Daily Log'!$C$18:$C$1017),0)","v":41},{"$f":"IFERROR($E289*SUMIF('Daily Log'!$E$18:$E$1017,$B289,'Daily Log'!$F$18:$F$1017),0)","v":0},{"$f":"IFERROR($E289*SUMIF('Daily Log'!$H$18:$H$1017,$B289,'Daily Log'!$I$18:$I$1017),0)","v":0},{"$f":"IFERROR($E289*SUMIF('Daily Log'!$K$18:$K$1017,$B289,'Daily Log'!$L$18:$L$1017),0)","v":22},{"$f":"IFERROR($E289*SUMIF('Daily Log'!$N$18:$N$1017,$B289,'Daily Log'!$O$18:$O$1017),0)","v":7},{"$f":"IFERROR($E289*SUMIF('Daily Log'!#REF!,$B289,'Daily Log'!#REF!),0)","v":0},{"$f":"IFERROR($E289*SUMIF('Daily Log'!#REF!,$B289,'Daily Log'!#REF!),0)","v":0},{"$f":"IFERROR($E289*SUMIF('Daily Log'!#REF!,$B289,'Daily Log'!#REF!),0)","v":0},{"$f":"IFERROR($E289*SUMIF('Daily Log'!#REF!,$B289,'Daily Log'!#REF!),0)","v":0},{"$f":"IFERROR($E289*SUMIF('Daily Log'!#REF!,$B289,'Daily Log'!#REF!),0)","v":0},{"$f":"IFERROR($E289*SUMIF('Daily Log'!#REF!,$B289,'Daily Log'!#REF!),0)","v":0},{"$f":"IFERROR($E289*SUMIF('Daily Log'!#REF!,$B289,'Daily Log'!#REF!),0)","v":0},{"$f":"IFERROR($E289*SUMIF('Daily Log'!#REF!,$B289,'Daily Log'!#REF!),0)","v":0},{"$f":"IFERROR($E289*SUMIF('Daily Log'!#REF!,$B289,'Daily Log'!#REF!),0)","v":0},{"$f":"IFERROR($E289*SUMIF('Daily Log'!#REF!,$B289,'Daily Log'!#REF!),0)","v":0},{"$f":"IFERROR($E289*SUMIF('Daily Log'!#REF!,$B289,'Daily Log'!#REF!),0)","v":0},{"$f":"IFERROR($E289*SUMIF('Daily Log'!#REF!,$B289,'Daily Log'!#REF!),0)","v":0},{"$f":"IFERROR($E289*SUMIF('Daily Log'!#REF!,$B289,'Daily Log'!#REF!),0)","v":0},{"$f":"IFERROR($E289*SUMIF('Daily Log'!#REF!,$B289,'Daily Log'!#REF!),0)","v":0},{"$f":"IFERROR($E289*SUMIF('Daily Log'!#REF!,$B289,'Daily Log'!#REF!),0)","v":0},{"$f":"IFERROR($E289*SUMIF('Daily Log'!#REF!,$B289,'Daily Log'!#REF!),0)","v":0},{"$f":"IFERROR($E289*SUMIF('Daily Log'!#REF!,$B289,'Daily Log'!#REF!),0)","v":0},{"$f":"IFERROR($E289*SUMIF('Daily Log'!#REF!,$B289,'Daily Log'!#REF!),0)","v":0},{"$f":"IFERROR($E289*SUMIF('Daily Log'!#REF!,$B289,'Daily Log'!#REF!),0)","v":0},{"$f":"IFERROR($E289*SUMIF('Daily Log'!#REF!,$B289,'Daily Log'!#REF!),0)","v":0},{"$f":"IFERROR($E289*SUMIF('Daily Log'!#REF!,$B289,'Daily Log'!#REF!),0)","v":0},{"$f":"IFERROR($E289*SUMIF('Daily Log'!#REF!,$B289,'Daily Log'!#REF!),0)","v":0},{"$f":"IFERROR($E289*SUMIF('Daily Log'!#REF!,$B289,'Daily Log'!#REF!),0)","v":0},{"$f":"IFERROR($E289*SUMIF('Daily Log'!#REF!,$B289,'Daily Log'!#REF!),0)","v":0},{"$f":"IFERROR($E289*SUMIF('Daily Log'!#REF!,$B289,'Daily Log'!#REF!),0)","v":0},{"$f":"IFERROR($E289*SUMIF('Daily Log'!#REF!,$B289,'Daily Log'!#REF!),0)","v":0}]
[null,"AB03 H : MEMBER 30%",null,null,1,0,{"$f":"IFERROR($E290*SUMIF('Daily Log'!$B$18:$B$1017,$B290,'Daily Log'!$C$18:$C$1017),0)","v":0},{"$f":"IFERROR($E290*SUMIF('Daily Log'!$E$18:$E$1017,$B290,'Daily Log'!$F$18:$F$1017),0)","v":0},{"$f":"IFERROR($E290*SUMIF('Daily Log'!$H$18:$H$1017,$B290,'Daily Log'!$I$18:$I$1017),0)","v":0},{"$f":"IFERROR($E290*SUMIF('Daily Log'!$K$18:$K$1017,$B290,'Daily Log'!$L$18:$L$1017),0)","v":0},{"$f":"IFERROR($E290*SUMIF('Daily Log'!$N$18:$N$1017,$B290,'Daily Log'!$O$18:$O$1017),0)","v":0},{"$f":"IFERROR($E290*SUMIF('Daily Log'!#REF!,$B290,'Daily Log'!#REF!),0)","v":0},{"$f":"IFERROR($E290*SUMIF('Daily Log'!#REF!,$B290,'Daily Log'!#REF!),0)","v":0},{"$f":"IFERROR($E290*SUMIF('Daily Log'!#REF!,$B290,'Daily Log'!#REF!),0)","v":0},{"$f":"IFERROR($E290*SUMIF('Daily Log'!#REF!,$B290,'Daily Log'!#REF!),0)","v":0},{"$f":"IFERROR($E290*SUMIF('Daily Log'!#REF!,$B290,'Daily Log'!#REF!),0)","v":0},{"$f":"IFERROR($E290*SUMIF('Daily Log'!#REF!,$B290,'Daily Log'!#REF!),0)","v":0},{"$f":"IFERROR($E290*SUMIF('Daily Log'!#REF!,$B290,'Daily Log'!#REF!),0)","v":0},{"$f":"IFERROR($E290*SUMIF('Daily Log'!#REF!,$B290,'Daily Log'!#REF!),0)","v":0},{"$f":"IFERROR($E290*SUMIF('Daily Log'!#REF!,$B290,'Daily Log'!#REF!),0)","v":0},{"$f":"IFERROR($E290*SUMIF('Daily Log'!#REF!,$B290,'Daily Log'!#REF!),0)","v":0},{"$f":"IFERROR($E290*SUMIF('Daily Log'!#REF!,$B290,'Daily Log'!#REF!),0)","v":0},{"$f":"IFERROR($E290*SUMIF('Daily Log'!#REF!,$B290,'Daily Log'!#REF!),0)","v":0},{"$f":"IFERROR($E290*SUMIF('Daily Log'!#REF!,$B290,'Daily Log'!#REF!),0)","v":0},{"$f":"IFERROR($E290*SUMIF('Daily Log'!#REF!,$B290,'Daily Log'!#REF!),0)","v":0},{"$f":"IFERROR($E290*SUMIF('Daily Log'!#REF!,$B290,'Daily Log'!#REF!),0)","v":0},{"$f":"IFERROR($E290*SUMIF('Daily Log'!#REF!,$B290,'Daily Log'!#REF!),0)","v":0},{"$f":"IFERROR($E290*SUMIF('Daily Log'!#REF!,$B290,'Daily Log'!#REF!),0)","v":0},{"$f":"IFERROR($E290*SUMIF('Daily Log'!#REF!,$B290,'Daily Log'!#REF!),0)","v":0},{"$f":"IFERROR($E290*SUMIF('Daily Log'!#REF!,$B290,'Daily Log'!#REF!),0)","v":0},{"$f":"IFERROR($E290*SUMIF('Daily Log'!#REF!,$B290,'Daily Log'!#REF!),0)","v":0},{"$f":"IFERROR($E290*SUMIF('Daily Log'!#REF!,$B290,'Daily Log'!#REF!),0)","v":0},{"$f":"IFERROR($E290*SUMIF('Daily Log'!#REF!,$B290,'Daily Log'!#REF!),0)","v":0},{"$f":"IFERROR($E290*SUMIF('Daily Log'!#REF!,$B290,'Daily Log'!#REF!),0)","v":0},{"$f":"IFERROR($E290*SUMIF('Daily Log'!#REF!,$B290,'Daily Log'!#REF!),0)","v":0},{"$f":"IFERROR($E290*SUMIF('Daily Log'!#REF!,$B290,'Daily Log'!#REF!),0)","v":0},{"$f":"IFERROR($E290*SUMIF('Daily Log'!#REF!,$B290,'Daily Log'!#REF!),0)","v":0}]
[null,"AB05 H : STUDENT",null,null,1,46,{"$f":"IFERROR($E291*SUMIF('Daily Log'!$B$18:$B$1017,$B291,'Daily Log'!$C$18:$C$1017),0)","v":0},{"$f":"IFERROR($E291*SUMIF('Daily Log'!$E$18:$E$1017,$B291,'Daily Log'!$F$18:$F$1017),0)","v":26},{"$f":"IFERROR($E291*SUMIF('Daily Log'!$H$18:$H$1017,$B291,'Daily Log'!$I$18:$I$1017),0)","v":20},{"$f":"IFERROR($E291*SUMIF('Daily Log'!$K$18:$K$1017,$B291,'Daily Log'!$L$18:$L$1017),0)","v":0},{"$f":"IFERROR($E291*SUMIF('Daily Log'!$N$18:$N$1017,$B291,'Daily Log'!$O$18:$O$1017),0)","v":0},{"$f":"IFERROR($E291*SUMIF('Daily Log'!#REF!,$B291,'Daily Log'!#REF!),0)","v":0},{"$f":"IFERROR($E291*SUMIF('Daily Log'!#REF!,$B291,'Daily Log'!#REF!),0)","v":0},{"$f":"IFERROR($E291*SUMIF('Daily Log'!#REF!,$B291,'Daily Log'!#REF!),0)","v":0},{"$f":"IFERROR($E291*SUMIF('Daily Log'!#REF!,$B291,'Daily Log'!#REF!),0)","v":0},{"$f":"IFERROR($E291*SUMIF('Daily Log'!#REF!,$B291,'Daily Log'!#REF!),0)","v":0},{"$f":"IFERROR($E291*SUMIF('Daily Log'!#REF!,$B291,'Daily Log'!#REF!),0)","v":0},{"$f":"IFERROR($E291*SUMIF('Daily Log'!#REF!,$B291,'Daily Log'!#REF!),0)","v":0},{"$f":"IFERROR($E291*SUMIF('Daily Log'!#REF!,$B291,'Daily Log'!#REF!),0)","v":0},{"$f":"IFERROR($E291*SUMIF('Daily Log'!#REF!,$B291,'Daily Log'!#REF!),0)","v":0},{"$f":"IFERROR($E291*SUMIF('Daily Log'!#REF!,$B291,'Daily Log'!#REF!),0)","v":0},{"$f":"IFERROR($E291*SUMIF('Daily Log'!#REF!,$B291,'Daily Log'!#REF!),0)","v":0},{"$f":"IFERROR($E291*SUMIF('Daily Log'!#REF!,$B291,'Daily Log'!#REF!),0)","v":0},{"$f":"IFERROR($E291*SUMIF('Daily Log'!#REF!,$B291,'Daily Log'!#REF!),0)","v":0},{"$f":"IFERROR($E291*SUMIF('Daily Log'!#REF!,$B291,'Daily Log'!#REF!),0)","v":0},{"$f":"IFERROR($E291*SUMIF('Daily Log'!#REF!,$B291,'Daily Log'!#REF!),0)","v":0},{"$f":"IFERROR($E291*SUMIF('Daily Log'!#REF!,$B291,'Daily Log'!#REF!),0)","v":0},{"$f":"IFERROR($E291*SUMIF('Daily Log'!#REF!,$B291,'Daily Log'!#REF!),0)","v":0},{"$f":"IFERROR($E291*SUMIF('Daily Log'!#REF!,$B291,'Daily Log'!#REF!),0)","v":0},{"$f":"IFERROR($E291*SUMIF('Daily Log'!#REF!,$B291,'Daily Log'!#REF!),0)","v":0},{"$f":"IFERROR($E291*SUMIF('Daily Log'!#REF!,$B291,'Daily Log'!#REF!),0)","v":0},{"$f":"IFERROR($E291*SUMIF('Daily Log'!#REF!,$B291,'Daily Log'!#REF!),0)","v":0},{"$f":"IFERROR($E291*SUMIF('Daily Log'!#REF!,$B291,'Daily Log'!#REF!),0)","v":0},{"$f":"IFERROR($E291*SUMIF('Daily Log'!#REF!,$B291,'Daily Log'!#REF!),0)","v":0},{"$f":"IFERROR($E291*SUMIF('Daily Log'!#REF!,$B291,'Daily Log'!#REF!),0)","v":0},{"$f":"IFERROR($E291*SUMIF('Daily Log'!#REF!,$B291,'Daily Log'!#REF!),0)","v":0},{"$f":"IFERROR($E291*SUMIF('Daily Log'!#REF!,$B291,'Daily Log'!#REF!),0)","v":0}]
[null,"AB06 H : SENIOR",null,null,1,1,{"$f":"IFERROR($E292*SUMIF('Daily Log'!$B$18:$B$1017,$B292,'Daily Log'!$C$18:$C$1017),0)","v":0},{"$f":"IFERROR($E292*SUMIF('Daily Log'!$E$18:$E$1017,$B292,'Daily Log'!$F$18:$F$1017),0)","v":1},{"$f":"IFERROR($E292*SUMIF('Daily Log'!$H$18:$H$1017,$B292,'Daily Log'!$I$18:$I$1017),0)","v":0},{"$f":"IFERROR($E292*SUMIF('Daily Log'!$K$18:$K$1017,$B292,'Daily Log'!$L$18:$L$1017),0)","v":0},{"$f":"IFERROR($E292*SUMIF('Daily Log'!$N$18:$N$1017,$B292,'Daily Log'!$O$18:$O$1017),0)","v":0},{"$f":"IFERROR($E292*SUMIF('Daily Log'!#REF!,$B292,'Daily Log'!#REF!),0)","v":0},{"$f":"IFERROR($E292*SUMIF('Daily Log'!#REF!,$B292,'Daily Log'!#REF!),0)","v":0},{"$f":"IFERROR($E292*SUMIF('Daily Log'!#REF!,$B292,'Daily Log'!#REF!),0)","v":0},{"$f":"IFERROR($E292*SUMIF('Daily Log'!#REF!,$B292,'Daily Log'!#REF!),0)","v":0},{"$f":"IFERROR($E292*SUMIF('Daily Log'!#REF!,$B292,'Daily Log'!#REF!),0)","v":0},{"$f":"IFERROR($E292*SUMIF('Daily Log'!#REF!,$B292,'Daily Log'!#REF!),0)","v":0},{"$f":"IFERROR($E292*SUMIF('Daily Log'!#REF!,$B292,'Daily Log'!#REF!),0)","v":0},{"$f":"IFERROR($E292*SUMIF('Daily Log'!#REF!,$B292,'Daily Log'!#REF!),0)","v":0},{"$f":"IFERROR($E292*SUMIF('Daily Log'!#REF!,$B292,'Daily Log'!#REF!),0)","v":0},{"$f":"IFERROR($E292*SUMIF('Daily Log'!#REF!,$B292,'Daily Log'!#REF!),0)","v":0},{"$f":"IFERROR($E292*SUMIF('Daily Log'!#REF!,$B292,'Daily Log'!#REF!),0)","v":0},{"$f":"IFERROR($E292*SUMIF('Daily Log'!#REF!,$B292,'Daily Log'!#REF!),0)","v":0},{"$f":"IFERROR($E292*SUMIF('Daily Log'!#REF!,$B292,'Daily Log'!#REF!),0)","v":0},{"$f":"IFERROR($E292*SUMIF('Daily Log'!#REF!,$B292,'Daily Log'!#REF!),0)","v":0},{"$f":"IFERROR($E292*SUMIF('Daily Log'!#REF!,$B292,'Daily Log'!#REF!),0)","v":0},{"$f":"IFERROR($E292*SUMIF('Daily Log'!#REF!,$B292,'Daily Log'!#REF!),0)","v":0},{"$f":"IFERROR($E292*SUMIF('Daily Log'!#REF!,$B292,'Daily Log'!#REF!),0)","v":0},{"$f":"IFERROR($E292*SUMIF('Daily Log'!#REF!,$B292,'Daily Log'!#REF!),0)","v":0},{"$f":"IFERROR($E292*SUMIF('Daily Log'!#REF!,$B292,'Daily Log'!#REF!),0)","v":0},{"$f":"IFERROR($E292*SUMIF('Daily Log'!#REF!,$B292,'Daily Log'!#REF!),0)","v":0},{"$f":"IFERROR($E292*SUMIF('Daily Log'!#REF!,$B292,'Daily Log'!#REF!),0)","v":0},{"$f":"IFERROR($E292*SUMIF('Daily Log'!#REF!,$B292,'Daily Log'!#REF!),0)","v":0},{"$f":"IFERROR($E292*SUMIF('Daily Log'!#REF!,$B292,'Daily Log'!#REF!),0)","v":0},{"$f":"IFERROR($E292*SUMIF('Daily Log'!#REF!,$B292,'Daily Log'!#REF!),0)","v":0},{"$f":"IFERROR($E292*SUMIF('Daily Log'!#REF!,$B292,'Daily Log'!#REF!),0)","v":0},{"$f":"IFERROR($E292*SUMIF('Daily Log'!#REF!,$B292,'Daily Log'!#REF!),0)","v":0}]
[null,"AB07 H : CHILDREN",null,null,1,13,{"$f":"IFERROR($E293*SUMIF('Daily Log'!$B$18:$B$1017,$B293,'Daily Log'!$C$18:$C$1017),0)","v":7},{"$f":"IFERROR($E293*SUMIF('Daily Log'!$E$18:$E$1017,$B293,'Daily Log'!$F$18:$F$1017),0)","v":0},{"$f":"IFERROR($E293*SUMIF('Daily Log'!$H$18:$H$1017,$B293,'Daily Log'!$I$18:$I$1017),0)","v":0},{"$f":"IFERROR($E293*SUMIF('Daily Log'!$K$18:$K$1017,$B293,'Daily Log'!$L$18:$L$1017),0)","v":3},{"$f":"IFERROR($E293*SUMIF('Daily Log'!$N$18:$N$1017,$B293,'Daily Log'!$O$18:$O$1017),0)","v":3},{"$f":"IFERROR($E293*SUMIF('Daily Log'!#REF!,$B293,'Daily Log'!#REF!),0)","v":0},{"$f":"IFERROR($E293*SUMIF('Daily Log'!#REF!,$B293,'Daily Log'!#REF!),0)","v":0},{"$f":"IFERROR($E293*SUMIF('Daily Log'!#REF!,$B293,'Daily Log'!#REF!),0)","v":0},{"$f":"IFERROR($E293*SUMIF('Daily Log'!#REF!,$B293,'Daily Log'!#REF!),0)","v":0},{"$f":"IFERROR($E293*SUMIF('Daily Log'!#REF!,$B293,'Daily Log'!#REF!),0)","v":0},{"$f":"IFERROR($E293*SUMIF('Daily Log'!#REF!,$B293,'Daily Log'!#REF!),0)","v":0},{"$f":"IFERROR($E293*SUMIF('Daily Log'!#REF!,$B293,'Daily Log'!#REF!),0)","v":0},{"$f":"IFERROR($E293*SUMIF('Daily Log'!#REF!,$B293,'Daily Log'!#REF!),0)","v":0},{"$f":"IFERROR($E293*SUMIF('Daily Log'!#REF!,$B293,'Daily Log'!#REF!),0)","v":0},{"$f":"IFERROR($E293*SUMIF('Daily Log'!#REF!,$B293,'Daily Log'!#REF!),0)","v":0},{"$f":"IFERROR($E293*SUMIF('Daily Log'!#REF!,$B293,'Daily Log'!#REF!),0)","v":0},{"$f":"IFERROR($E293*SUMIF('Daily Log'!#REF!,$B293,'Daily Log'!#REF!),0)","v":0},{"$f":"IFERROR($E293*SUMIF('Daily Log'!#REF!,$B293,'Daily Log'!#REF!),0)","v":0},{"$f":"IFERROR($E293*SUMIF('Daily Log'!#REF!,$B293,'Daily Log'!#REF!),0)","v":0},{"$f":"IFERROR($E293*SUMIF('Daily Log'!#REF!,$B293,'Daily Log'!#REF!),0)","v":0},{"$f":"IFERROR($E293*SUMIF('Daily Log'!#REF!,$B293,'Daily Log'!#REF!),0)","v":0},{"$f":"IFERROR($E293*SUMIF('Daily Log'!#REF!,$B293,'Daily Log'!#REF!),0)","v":0},{"$f":"IFERROR($E293*SUMIF('Daily Log'!#REF!,$B293,'Daily Log'!#REF!),0)","v":0},{"$f":"IFERROR($E293*SUMIF('Daily Log'!#REF!,$B293,'Daily Log'!#REF!),0)","v":0},{"$f":"IFERROR($E293*SUMIF('Daily Log'!#REF!,$B293,'Daily Log'!#REF!),0)","v":0},{"$f":"IFERROR($E293*SUMIF('Daily Log'!#REF!,$B293,'Daily Log'!#REF!),0)","v":0},{"$f":"IFERROR($E293*SUMIF('Daily Log'!#REF!,$B293,'Daily Log'!#REF!),0)","v":0},{"$f":"IFERROR($E293*SUMIF('Daily Log'!#REF!,$B293,'Daily Log'!#REF!),0)","v":0},{"$f":"IFERROR($E293*SUMIF('Daily Log'!#REF!,$B293,'Daily Log'!#REF!),0)","v":0},{"$f":"IFERROR($E293*SUMIF('Daily Log'!#REF!,$B293,'Daily Log'!#REF!),0)","v":0},{"$f":"IFERROR($E293*SUMIF('Daily Log'!#REF!,$B293,'Daily Log'!#REF!),0)","v":0}]
[null,"AB08 H : MEMBER B'DAY",null,null,1,2,{"$f":"IFERROR($E294*SUMIF('Daily Log'!$B$18:$B$1017,$B294,'Daily Log'!$C$18:$C$1017),0)","v":0},{"$f":"IFERROR($E294*SUMIF('Daily Log'!$E$18:$E$1017,$B294,'Daily Log'!$F$18:$F$1017),0)","v":1},{"$f":"IFERROR($E294*SUMIF('Daily Log'!$H$18:$H$1017,$B294,'Daily Log'!$I$18:$I$1017),0)","v":0},{"$f":"IFERROR($E294*SUMIF('Daily Log'!$K$18:$K$1017,$B294,'Daily Log'!$L$18:$L$1017),0)","v":0},{"$f":"IFERROR($E294*SUMIF('Daily Log'!$N$18:$N$1017,$B294,'Daily Log'!$O$18:$O$1017),0)","v":1},{"$f":"IFERROR($E294*SUMIF('Daily Log'!#REF!,$B294,'Daily Log'!#REF!),0)","v":0},{"$f":"IFERROR($E294*SUMIF('Daily Log'!#REF!,$B294,'Daily Log'!#REF!),0)","v":0},{"$f":"IFERROR($E294*SUMIF('Daily Log'!#REF!,$B294,'Daily Log'!#REF!),0)","v":0},{"$f":"IFERROR($E294*SUMIF('Daily Log'!#REF!,$B294,'Daily Log'!#REF!),0)","v":0},{"$f":"IFERROR($E294*SUMIF('Daily Log'!#REF!,$B294,'Daily Log'!#REF!),0)","v":0},{"$f":"IFERROR($E294*SUMIF('Daily Log'!#REF!,$B294,'Daily Log'!#REF!),0)","v":0},{"$f":"IFERROR($E294*SUMIF('Daily Log'!#REF!,$B294,'Daily Log'!#REF!),0)","v":0},{"$f":"IFERROR($E294*SUMIF('Daily Log'!#REF!,$B294,'Daily Log'!#REF!),0)","v":0},{"$f":"IFERROR($E294*SUMIF('Daily Log'!#REF!,$B294,'Daily Log'!#REF!),0)","v":0},{"$f":"IFERROR($E294*SUMIF('Daily Log'!#REF!,$B294,'Daily Log'!#REF!),0)","v":0},{"$f":"IFERROR($E294*SUMIF('Daily Log'!#REF!,$B294,'Daily Log'!#REF!),0)","v":0},{"$f":"IFERROR($E294*SUMIF('Daily Log'!#REF!,$B294,'Daily Log'!#REF!),0)","v":0},{"$f":"IFERROR($E294*SUMIF('Daily Log'!#REF!,$B294,'Daily Log'!#REF!),0)","v":0},{"$f":"IFERROR($E294*SUMIF('Daily Log'!#REF!,$B294,'Daily Log'!#REF!),0)","v":0},{"$f":"IFERROR($E294*SUMIF('Daily Log'!#REF!,$B294,'Daily Log'!#REF!),0)","v":0},{"$f":"IFERROR($E294*SUMIF('Daily Log'!#REF!,$B294,'Daily Log'!#REF!),0)","v":0},{"$f":"IFERROR($E294*SUMIF('Daily Log'!#REF!,$B294,'Daily Log'!#REF!),0)","v":0},{"$f":"IFERROR($E294*SUMIF('Daily Log'!#REF!,$B294,'Daily Log'!#REF!),0)","v":0},{"$f":"IFERROR($E294*SUMIF('Daily Log'!#REF!,$B294,'Daily Log'!#REF!),0)","v":0},{"$f":"IFERROR($E294*SUMIF('Daily Log'!#REF!,$B294,'Daily Log'!#REF!),0)","v":0},{"$f":"IFERROR($E294*SUMIF('Daily Log'!#REF!,$B294,'Daily Log'!#REF!),0)","v":0},{"$f":"IFERROR($E294*SUMIF('Daily Log'!#REF!,$B294,'Daily Log'!#REF!),0)","v":0},{"$f":"IFERROR($E294*SUMIF('Daily Log'!#REF!,$B294,'Daily Log'!#REF!),0)","v":0},{"$f":"IFERROR($E294*SUMIF('Daily Log'!#REF!,$B294,'Daily Log'!#REF!),0)","v":0},{"$f":"IFERROR($E294*SUMIF('Daily Log'!#REF!,$B294,'Daily Log'!#REF!),0)","v":0},{"$f":"IFERROR($E294*SUMIF('Daily Log'!#REF!,$B294,'Daily Log'!#REF!),0)","v":0}]
[null,"AB10 H : FOC HEAD",null,null,1,0,{"$f":"IFERROR($E295*SUMIF('Daily Log'!$B$18:$B$1017,$B295,'Daily Log'!$C$18:$C$1017),0)","v":0},{"$f":"IFERROR($E295*SUMIF('Daily Log'!$E$18:$E$1017,$B295,'Daily Log'!$F$18:$F$1017),0)","v":0},{"$f":"IFERROR($E295*SUMIF('Daily Log'!$H$18:$H$1017,$B295,'Daily Log'!$I$18:$I$1017),0)","v":0},{"$f":"IFERROR($E295*SUMIF('Daily Log'!$K$18:$K$1017,$B295,'Daily Log'!$L$18:$L$1017),0)","v":0},{"$f":"IFERROR($E295*SUMIF('Daily Log'!$N$18:$N$1017,$B295,'Daily Log'!$O$18:$O$1017),0)","v":0},{"$f":"IFERROR($E295*SUMIF('Daily Log'!#REF!,$B295,'Daily Log'!#REF!),0)","v":0},{"$f":"IFERROR($E295*SUMIF('Daily Log'!#REF!,$B295,'Daily Log'!#REF!),0)","v":0},{"$f":"IFERROR($E295*SUMIF('Daily Log'!#REF!,$B295,'Daily Log'!#REF!),0)","v":0},{"$f":"IFERROR($E295*SUMIF('Daily Log'!#REF!,$B295,'Daily Log'!#REF!),0)","v":0},{"$f":"IFERROR($E295*SUMIF('Daily Log'!#REF!,$B295,'Daily Log'!#REF!),0)","v":0},{"$f":"IFERROR($E295*SUMIF('Daily Log'!#REF!,$B295,'Daily Log'!#REF!),0)","v":0},{"$f":"IFERROR($E295*SUMIF('Daily Log'!#REF!,$B295,'Daily Log'!#REF!),0)","v":0},{"$f":"IFERROR($E295*SUMIF('Daily Log'!#REF!,$B295,'Daily Log'!#REF!),0)","v":0},{"$f":"IFERROR($E295*SUMIF('Daily Log'!#REF!,$B295,'Daily Log'!#REF!),0)","v":0},{"$f":"IFERROR($E295*SUMIF('Daily Log'!#REF!,$B295,'Daily Log'!#REF!),0)","v":0},{"$f":"IFERROR($E295*SUMIF('Daily Log'!#REF!,$B295,'Daily Log'!#REF!),0)","v":0},{"$f":"IFERROR($E295*SUMIF('Daily Log'!#REF!,$B295,'Daily Log'!#REF!),0)","v":0},{"$f":"IFERROR($E295*SUMIF('Daily Log'!#REF!,$B295,'Daily Log'!#REF!),0)","v":0},{"$f":"IFERROR($E295*SUMIF('Daily Log'!#REF!,$B295,'Daily Log'!#REF!),0)","v":0},{"$f":"IFERROR($E295*SUMIF('Daily Log'!#REF!,$B295,'Daily Log'!#REF!),0)","v":0},{"$f":"IFERROR($E295*SUMIF('Daily Log'!#REF!,$B295,'Daily Log'!#REF!),0)","v":0},{"$f":"IFERROR($E295*SUMIF('Daily Log'!#REF!,$B295,'Daily Log'!#REF!),0)","v":0},{"$f":"IFERROR($E295*SUMIF('Daily Log'!#REF!,$B295,'Daily Log'!#REF!),0)","v":0},{"$f":"IFERROR($E295*SUMIF('Daily Log'!#REF!,$B295,'Daily Log'!#REF!),0)","v":0},{"$f":"IFERROR($E295*SUMIF('Daily Log'!#REF!,$B295,'Daily Log'!#REF!),0)","v":0},{"$f":"IFERROR($E295*SUMIF('Daily Log'!#REF!,$B295,'Daily Log'!#REF!),0)","v":0},{"$f":"IFERROR($E295*SUMIF('Daily Log'!#REF!,$B295,'Daily Log'!#REF!),0)","v":0},{"$f":"IFERROR($E295*SUMIF('Daily Log'!#REF!,$B295,'Daily Log'!#REF!),0)","v":0},{"$f":"IFERROR($E295*SUMIF('Daily Log'!#REF!,$B295,'Daily Log'!#REF!),0)","v":0},{"$f":"IFERROR($E295*SUMIF('Daily Log'!#REF!,$B295,'Daily Log'!#REF!),0)","v":0},{"$f":"IFERROR($E295*SUMIF('Daily Log'!#REF!,$B295,'Daily Log'!#REF!),0)","v":0}]
[null,"AB13 H : FREEHEAD (R)",null,null,1,0,{"$f":"IFERROR($E296*SUMIF('Daily Log'!$B$18:$B$1017,$B296,'Daily Log'!$C$18:$C$1017),0)","v":0},{"$f":"IFERROR($E296*SUMIF('Daily Log'!$E$18:$E$1017,$B296,'Daily Log'!$F$18:$F$1017),0)","v":0},{"$f":"IFERROR($E296*SUMIF('Daily Log'!$H$18:$H$1017,$B296,'Daily Log'!$I$18:$I$1017),0)","v":0},{"$f":"IFERROR($E296*SUMIF('Daily Log'!$K$18:$K$1017,$B296,'Daily Log'!$L$18:$L$1017),0)","v":0},{"$f":"IFERROR($E296*SUMIF('Daily Log'!$N$18:$N$1017,$B296,'Daily Log'!$O$18:$O$1017),0)","v":0},{"$f":"IFERROR($E296*SUMIF('Daily Log'!#REF!,$B296,'Daily Log'!#REF!),0)","v":0},{"$f":"IFERROR($E296*SUMIF('Daily Log'!#REF!,$B296,'Daily Log'!#REF!),0)","v":0},{"$f":"IFERROR($E296*SUMIF('Daily Log'!#REF!,$B296,'Daily Log'!#REF!),0)","v":0},{"$f":"IFERROR($E296*SUMIF('Daily Log'!#REF!,$B296,'Daily Log'!#REF!),0)","v":0},{"$f":"IFERROR($E296*SUMIF('Daily Log'!#REF!,$B296,'Daily Log'!#REF!),0)","v":0},{"$f":"IFERROR($E296*SUMIF('Daily Log'!#REF!,$B296,'Daily Log'!#REF!),0)","v":0},{"$f":"IFERROR($E296*SUMIF('Daily Log'!#REF!,$B296,'Daily Log'!#REF!),0)","v":0},{"$f":"IFERROR($E296*SUMIF('Daily Log'!#REF!,$B296,'Daily Log'!#REF!),0)","v":0},{"$f":"IFERROR($E296*SUMIF('Daily Log'!#REF!,$B296,'Daily Log'!#REF!),0)","v":0},{"$f":"IFERROR($E296*SUMIF('Daily Log'!#REF!,$B296,'Daily Log'!#REF!),0)","v":0},{"$f":"IFERROR($E296*SUMIF('Daily Log'!#REF!,$B296,'Daily Log'!#REF!),0)","v":0},{"$f":"IFERROR($E296*SUMIF('Daily Log'!#REF!,$B296,'Daily Log'!#REF!),0)","v":0},{"$f":"IFERROR($E296*SUMIF('Daily Log'!#REF!,$B296,'Daily Log'!#REF!),0)","v":0},{"$f":"IFERROR($E296*SUMIF('Daily Log'!#REF!,$B296,'Daily Log'!#REF!),0)","v":0},{"$f":"IFERROR($E296*SUMIF('Daily Log'!#REF!,$B296,'Daily Log'!#REF!),0)","v":0},{"$f":"IFERROR($E296*SUMIF('Daily Log'!#REF!,$B296,'Daily Log'!#REF!),0)","v":0},{"$f":"IFERROR($E296*SUMIF('Daily Log'!#REF!,$B296,'Daily Log'!#REF!),0)","v":0},{"$f":"IFERROR($E296*SUMIF('Daily Log'!#REF!,$B296,'Daily Log'!#REF!),0)","v":0},{"$f":"IFERROR($E296*SUMIF('Daily Log'!#REF!,$B296,'Daily Log'!#REF!),0)","v":0},{"$f":"IFERROR($E296*SUMIF('Daily Log'!#REF!,$B296,'Daily Log'!#REF!),0)","v":0},{"$f":"IFERROR($E296*SUMIF('Daily Log'!#REF!,$B296,'Daily Log'!#REF!),0)","v":0},{"$f":"IFERROR($E296*SUMIF('Daily Log'!#REF!,$B296,'Daily Log'!#REF!),0)","v":0},{"$f":"IFERROR($E296*SUMIF('Daily Log'!#REF!,$B296,'Daily Log'!#REF!),0)","v":0},{"$f":"IFERROR($E296*SUMIF('Daily Log'!#REF!,$B296,'Daily Log'!#REF!),0)","v":0},{"$f":"IFERROR($E296*SUMIF('Daily Log'!#REF!,$B296,'Daily Log'!#REF!),0)","v":0},{"$f":"IFERROR($E296*SUMIF('Daily Log'!#REF!,$B296,'Daily Log'!#REF!),0)","v":0}]
[null,"AB17 H : XTD S ROOM",null,null,1,0,{"$f":"IFERROR($E297*SUMIF('Daily Log'!$B$18:$B$1017,$B297,'Daily Log'!$C$18:$C$1017),0)","v":0},{"$f":"IFERROR($E297*SUMIF('Daily Log'!$E$18:$E$1017,$B297,'Daily Log'!$F$18:$F$1017),0)","v":0},{"$f":"IFERROR($E297*SUMIF('Daily Log'!$H$18:$H$1017,$B297,'Daily Log'!$I$18:$I$1017),0)","v":0},{"$f":"IFERROR($E297*SUMIF('Daily Log'!$K$18:$K$1017,$B297,'Daily Log'!$L$18:$L$1017),0)","v":0},{"$f":"IFERROR($E297*SUMIF('Daily Log'!$N$18:$N$1017,$B297,'Daily Log'!$O$18:$O$1017),0)","v":0},{"$f":"IFERROR($E297*SUMIF('Daily Log'!#REF!,$B297,'Daily Log'!#REF!),0)","v":0},{"$f":"IFERROR($E297*SUMIF('Daily Log'!#REF!,$B297,'Daily Log'!#REF!),0)","v":0},{"$f":"IFERROR($E297*SUMIF('Daily Log'!#REF!,$B297,'Daily Log'!#REF!),0)","v":0},{"$f":"IFERROR($E297*SUMIF('Daily Log'!#REF!,$B297,'Daily Log'!#REF!),0)","v":0},{"$f":"IFERROR($E297*SUMIF('Daily Log'!#REF!,$B297,'Daily Log'!#REF!),0)","v":0},{"$f":"IFERROR($E297*SUMIF('Daily Log'!#REF!,$B297,'Daily Log'!#REF!),0)","v":0},{"$f":"IFERROR($E297*SUMIF('Daily Log'!#REF!,$B297,'Daily Log'!#REF!),0)","v":0},{"$f":"IFERROR($E297*SUMIF('Daily Log'!#REF!,$B297,'Daily Log'!#REF!),0)","v":0},{"$f":"IFERROR($E297*SUMIF('Daily Log'!#REF!,$B297,'Daily Log'!#REF!),0)","v":0},{"$f":"IFERROR($E297*SUMIF('Daily Log'!#REF!,$B297,'Daily Log'!#REF!),0)","v":0},{"$f":"IFERROR($E297*SUMIF('Daily Log'!#REF!,$B297,'Daily Log'!#REF!),0)","v":0},{"$f":"IFERROR($E297*SUMIF('Daily Log'!#REF!,$B297,'Daily Log'!#REF!),0)","v":0},{"$f":"IFERROR($E297*SUMIF('Daily Log'!#REF!,$B297,'Daily Log'!#REF!),0)","v":0},{"$f":"IFERROR($E297*SUMIF('Daily Log'!#REF!,$B297,'Daily Log'!#REF!),0)","v":0},{"$f":"IFERROR($E297*SUMIF('Daily Log'!#REF!,$B297,'Daily Log'!#REF!),0)","v":0},{"$f":"IFERROR($E297*SUMIF('Daily Log'!#REF!,$B297,'Daily Log'!#REF!),0)","v":0},{"$f":"IFERROR($E297*SUMIF('Daily Log'!#REF!,$B297,'Daily Log'!#REF!),0)","v":0},{"$f":"IFERROR($E297*SUMIF('Daily Log'!#REF!,$B297,'Daily Log'!#REF!),0)","v":0},{"$f":"IFERROR($E297*SUMIF('Daily Log'!#REF!,$B297,'Daily Log'!#REF!),0)","v":0},{"$f":"IFERROR($E297*SUMIF('Daily Log'!#REF!,$B297,'Daily Log'!#REF!),0)","v":0},{"$f":"IFERROR($E297*SUMIF('Daily Log'!#REF!,$B297,'Daily Log'!#REF!),0)","v":0},{"$f":"IFERROR($E297*SUMIF('Daily Log'!#REF!,$B297,'Daily Log'!#REF!),0)","v":0},{"$f":"IFERROR($E297*SUMIF('Daily Log'!#REF!,$B297,'Daily Log'!#REF!),0)","v":0},{"$f":"IFERROR($E297*SUMIF('Daily Log'!#REF!,$B297,'Daily Log'!#REF!),0)","v":0},{"$f":"IFERROR($E297*SUMIF('Daily Log'!#REF!,$B297,'Daily Log'!#REF!),0)","v":0},{"$f":"IFERROR($E297*SUMIF('Daily Log'!#REF!,$B297,'Daily Log'!#REF!),0)","v":0}]
[null,"AB18 H : XTD M ROOM",null,null,1,1,{"$f":"IFERROR($E298*SUMIF('Daily Log'!$B$18:$B$1017,$B298,'Daily Log'!$C$18:$C$1017),0)","v":0},{"$f":"IFERROR($E298*SUMIF('Daily Log'!$E$18:$E$1017,$B298,'Daily Log'!$F$18:$F$1017),0)","v":0},{"$f":"IFERROR($E298*SUMIF('Daily Log'!$H$18:$H$1017,$B298,'Daily Log'!$I$18:$I$1017),0)","v":0},{"$f":"IFERROR($E298*SUMIF('Daily Log'!$K$18:$K$1017,$B298,'Daily Log'!$L$18:$L$1017),0)","v":0},{"$f":"IFERROR($E298*SUMIF('Daily Log'!$N$18:$N$1017,$B298,'Daily Log'!$O$18:$O$1017),0)","v":1},{"$f":"IFERROR($E298*SUMIF('Daily Log'!#REF!,$B298,'Daily Log'!#REF!),0)","v":0},{"$f":"IFERROR($E298*SUMIF('Daily Log'!#REF!,$B298,'Daily Log'!#REF!),0)","v":0},{"$f":"IFERROR($E298*SUMIF('Daily Log'!#REF!,$B298,'Daily Log'!#REF!),0)","v":0},{"$f":"IFERROR($E298*SUMIF('Daily Log'!#REF!,$B298,'Daily Log'!#REF!),0)","v":0},{"$f":"IFERROR($E298*SUMIF('Daily Log'!#REF!,$B298,'Daily Log'!#REF!),0)","v":0},{"$f":"IFERROR($E298*SUMIF('Daily Log'!#REF!,$B298,'Daily Log'!#REF!),0)","v":0},{"$f":"IFERROR($E298*SUMIF('Daily Log'!#REF!,$B298,'Daily Log'!#REF!),0)","v":0},{"$f":"IFERROR($E298*SUMIF('Daily Log'!#REF!,$B298,'Daily Log'!#REF!),0)","v":0},{"$f":"IFERROR($E298*SUMIF('Daily Log'!#REF!,$B298,'Daily Log'!#REF!),0)","v":0},{"$f":"IFERROR($E298*SUMIF('Daily Log'!#REF!,$B298,'Daily Log'!#REF!),0)","v":0},{"$f":"IFERROR($E298*SUMIF('Daily Log'!#REF!,$B298,'Daily Log'!#REF!),0)","v":0},{"$f":"IFERROR($E298*SUMIF('Daily Log'!#REF!,$B298,'Daily Log'!#REF!),0)","v":0},{"$f":"IFERROR($E298*SUMIF('Daily Log'!#REF!,$B298,'Daily Log'!#REF!),0)","v":0},{"$f":"IFERROR($E298*SUMIF('Daily Log'!#REF!,$B298,'Daily Log'!#REF!),0)","v":0},{"$f":"IFERROR($E298*SUMIF('Daily Log'!#REF!,$B298,'Daily Log'!#REF!),0)","v":0},{"$f":"IFERROR($E298*SUMIF('Daily Log'!#REF!,$B298,'Daily Log'!#REF!),0)","v":0},{"$f":"IFERROR($E298*SUMIF('Daily Log'!#REF!,$B298,'Daily Log'!#REF!),0)","v":0},{"$f":"IFERROR($E298*SUMIF('Daily Log'!#REF!,$B298,'Daily Log'!#REF!),0)","v":0},{"$f":"IFERROR($E298*SUMIF('Daily Log'!#REF!,$B298,'Daily Log'!#REF!),0)","v":0},{"$f":"IFERROR($E298*SUMIF('Daily Log'!#REF!,$B298,'Daily Log'!#REF!),0)","v":0},{"$f":"IFERROR($E298*SUMIF('Daily Log'!#REF!,$B298,'Daily Log'!#REF!),0)","v":0},{"$f":"IFERROR($E298*SUMIF('Daily Log'!#REF!,$B298,'Daily Log'!#REF!),0)","v":0},{"$f":"IFERROR($E298*SUMIF('Daily Log'!#REF!,$B298,'Daily Log'!#REF!),0)","v":0},{"$f":"IFERROR($E298*SUMIF('Daily Log'!#REF!,$B298,'Daily Log'!#REF!),0)","v":0},{"$f":"IFERROR($E298*SUMIF('Daily Log'!#REF!,$B298,'Daily Log'!#REF!),0)","v":0},{"$f":"IFERROR($E298*SUMIF('Daily Log'!#REF!,$B298,'Daily Log'!#REF!),0)","v":0}]
[null,"AB50 H:Student Mem",null,null,1,3,{"$f":"IFERROR($E299*SUMIF('Daily Log'!$B$18:$B$1017,$B299,'Daily Log'!$C$18:$C$1017),0)","v":0},{"$f":"IFERROR($E299*SUMIF('Daily Log'!$E$18:$E$1017,$B299,'Daily Log'!$F$18:$F$1017),0)","v":3},{"$f":"IFERROR($E299*SUMIF('Daily Log'!$H$18:$H$1017,$B299,'Daily Log'!$I$18:$I$1017),0)","v":0},{"$f":"IFERROR($E299*SUMIF('Daily Log'!$K$18:$K$1017,$B299,'Daily Log'!$L$18:$L$1017),0)","v":0},{"$f":"IFERROR($E299*SUMIF('Daily Log'!$N$18:$N$1017,$B299,'Daily Log'!$O$18:$O$1017),0)","v":0},{"$f":"IFERROR($E299*SUMIF('Daily Log'!#REF!,$B299,'Daily Log'!#REF!),0)","v":0},{"$f":"IFERROR($E299*SUMIF('Daily Log'!#REF!,$B299,'Daily Log'!#REF!),0)","v":0},{"$f":"IFERROR($E299*SUMIF('Daily Log'!#REF!,$B299,'Daily Log'!#REF!),0)","v":0},{"$f":"IFERROR($E299*SUMIF('Daily Log'!#REF!,$B299,'Daily Log'!#REF!),0)","v":0},{"$f":"IFERROR($E299*SUMIF('Daily Log'!#REF!,$B299,'Daily Log'!#REF!),0)","v":0},{"$f":"IFERROR($E299*SUMIF('Daily Log'!#REF!,$B299,'Daily Log'!#REF!),0)","v":0},{"$f":"IFERROR($E299*SUMIF('Daily Log'!#REF!,$B299,'Daily Log'!#REF!),0)","v":0},{"$f":"IFERROR($E299*SUMIF('Daily Log'!#REF!,$B299,'Daily Log'!#REF!),0)","v":0},{"$f":"IFERROR($E299*SUMIF('Daily Log'!#REF!,$B299,'Daily Log'!#REF!),0)","v":0},{"$f":"IFERROR($E299*SUMIF('Daily Log'!#REF!,$B299,'Daily Log'!#REF!),0)","v":0},{"$f":"IFERROR($E299*SUMIF('Daily Log'!#REF!,$B299,'Daily Log'!#REF!),0)","v":0},{"$f":"IFERROR($E299*SUMIF('Daily Log'!#REF!,$B299,'Daily Log'!#REF!),0)","v":0},{"$f":"IFERROR($E299*SUMIF('Daily Log'!#REF!,$B299,'Daily Log'!#REF!),0)","v":0},{"$f":"IFERROR($E299*SUMIF('Daily Log'!#REF!,$B299,'Daily Log'!#REF!),0)","v":0},{"$f":"IFERROR($E299*SUMIF('Daily Log'!#REF!,$B299,'Daily Log'!#REF!),0)","v":0},{"$f":"IFERROR($E299*SUMIF('Daily Log'!#REF!,$B299,'Daily Log'!#REF!),0)","v":0},{"$f":"IFERROR($E299*SUMIF('Daily Log'!#REF!,$B299,'Daily Log'!#REF!),0)","v":0},{"$f":"IFERROR($E299*SUMIF('Daily Log'!#REF!,$B299,'Daily Log'!#REF!),0)","v":0},{"$f":"IFERROR($E299*SUMIF('Daily Log'!#REF!,$B299,'Daily Log'!#REF!),0)","v":0},{"$f":"IFERROR($E299*SUMIF('Daily Log'!#REF!,$B299,'Daily Log'!#REF!),0)","v":0},{"$f":"IFERROR($E299*SUMIF('Daily Log'!#REF!,$B299,'Daily Log'!#REF!),0)","v":0},{"$f":"IFERROR($E299*SUMIF('Daily Log'!#REF!,$B299,'Daily Log'!#REF!),0)","v":0},{"$f":"IFERROR($E299*SUMIF('Daily Log'!#REF!,$B299,'Daily Log'!#REF!),0)","v":0},{"$f":"IFERROR($E299*SUMIF('Daily Log'!#REF!,$B299,'Daily Log'!#REF!),0)","v":0},{"$f":"IFERROR($E299*SUMIF('Daily Log'!#REF!,$B299,'Daily Log'!#REF!),0)","v":0},{"$f":"IFERROR($E299*SUMIF('Daily Log'!#REF!,$B299,'Daily Log'!#REF!),0)","v":0}]
[null,"AC01 N : REGULAR",null,null,1,358,{"$f":"IFERROR($E300*SUMIF('Daily Log'!$B$18:$B$1017,$B300,'Daily Log'!$C$18:$C$1017),0)","v":77},{"$f":"IFERROR($E300*SUMIF('Daily Log'!$E$18:$E$1017,$B300,'Daily Log'!$F$18:$F$1017),0)","v":29},{"$f":"IFERROR($E300*SUMIF('Daily Log'!$H$18:$H$1017,$B300,'Daily Log'!$I$18:$I$1017),0)","v":104},{"$f":"IFERROR($E300*SUMIF('Daily Log'!$K$18:$K$1017,$B300,'Daily Log'!$L$18:$L$1017),0)","v":131},{"$f":"IFERROR($E300*SUMIF('Daily Log'!$N$18:$N$1017,$B300,'Daily Log'!$O$18:$O$1017),0)","v":17},{"$f":"IFERROR($E300*SUMIF('Daily Log'!#REF!,$B300,'Daily Log'!#REF!),0)","v":0},{"$f":"IFERROR($E300*SUMIF('Daily Log'!#REF!,$B300,'Daily Log'!#REF!),0)","v":0},{"$f":"IFERROR($E300*SUMIF('Daily Log'!#REF!,$B300,'Daily Log'!#REF!),0)","v":0},{"$f":"IFERROR($E300*SUMIF('Daily Log'!#REF!,$B300,'Daily Log'!#REF!),0)","v":0},{"$f":"IFERROR($E300*SUMIF('Daily Log'!#REF!,$B300,'Daily Log'!#REF!),0)","v":0},{"$f":"IFERROR($E300*SUMIF('Daily Log'!#REF!,$B300,'Daily Log'!#REF!),0)","v":0},{"$f":"IFERROR($E300*SUMIF('Daily Log'!#REF!,$B300,'Daily Log'!#REF!),0)","v":0},{"$f":"IFERROR($E300*SUMIF('Daily Log'!#REF!,$B300,'Daily Log'!#REF!),0)","v":0},{"$f":"IFERROR($E300*SUMIF('Daily Log'!#REF!,$B300,'Daily Log'!#REF!),0)","v":0},{"$f":"IFERROR($E300*SUMIF('Daily Log'!#REF!,$B300,'Daily Log'!#REF!),0)","v":0},{"$f":"IFERROR($E300*SUMIF('Daily Log'!#REF!,$B300,'Daily Log'!#REF!),0)","v":0},{"$f":"IFERROR($E300*SUMIF('Daily Log'!#REF!,$B300,'Daily Log'!#REF!),0)","v":0},{"$f":"IFERROR($E300*SUMIF('Daily Log'!#REF!,$B300,'Daily Log'!#REF!),0)","v":0},{"$f":"IFERROR($E300*SUMIF('Daily Log'!#REF!,$B300,'Daily Log'!#REF!),0)","v":0},{"$f":"IFERROR($E300*SUMIF('Daily Log'!#REF!,$B300,'Daily Log'!#REF!),0)","v":0},{"$f":"IFERROR($E300*SUMIF('Daily Log'!#REF!,$B300,'Daily Log'!#REF!),0)","v":0},{"$f":"IFERROR($E300*SUMIF('Daily Log'!#REF!,$B300,'Daily Log'!#REF!),0)","v":0},{"$f":"IFERROR($E300*SUMIF('Daily Log'!#REF!,$B300,'Daily Log'!#REF!),0)","v":0},{"$f":"IFERROR($E300*SUMIF('Daily Log'!#REF!,$B300,'Daily Log'!#REF!),0)","v":0},{"$f":"IFERROR($E300*SUMIF('Daily Log'!#REF!,$B300,'Daily Log'!#REF!),0)","v":0},{"$f":"IFERROR($E300*SUMIF('Daily Log'!#REF!,$B300,'Daily Log'!#REF!),0)","v":0},{"$f":"IFERROR($E300*SUMIF('Daily Log'!#REF!,$B300,'Daily Log'!#REF!),0)","v":0},{"$f":"IFERROR($E300*SUMIF('Daily Log'!#REF!,$B300,'Daily Log'!#REF!),0)","v":0},{"$f":"IFERROR($E300*SUMIF('Daily Log'!#REF!,$B300,'Daily Log'!#REF!),0)","v":0},{"$f":"IFERROR($E300*SUMIF('Daily Log'!#REF!,$B300,'Daily Log'!#REF!),0)","v":0},{"$f":"IFERROR($E300*SUMIF('Daily Log'!#REF!,$B300,'Daily Log'!#REF!),0)","v":0}]
[null,"AC02 N : MEMBER",null,null,1,187,{"$f":"IFERROR($E301*SUMIF('Daily Log'!$B$18:$B$1017,$B301,'Daily Log'!$C$18:$C$1017),0)","v":29},{"$f":"IFERROR($E301*SUMIF('Daily Log'!$E$18:$E$1017,$B301,'Daily Log'!$F$18:$F$1017),0)","v":52},{"$f":"IFERROR($E301*SUMIF('Daily Log'!$H$18:$H$1017,$B301,'Daily Log'!$I$18:$I$1017),0)","v":37},{"$f":"IFERROR($E301*SUMIF('Daily Log'!$K$18:$K$1017,$B301,'Daily Log'!$L$18:$L$1017),0)","v":62},{"$f":"IFERROR($E301*SUMIF('Daily Log'!$N$18:$N$1017,$B301,'Daily Log'!$O$18:$O$1017),0)","v":7},{"$f":"IFERROR($E301*SUMIF('Daily Log'!#REF!,$B301,'Daily Log'!#REF!),0)","v":0},{"$f":"IFERROR($E301*SUMIF('Daily Log'!#REF!,$B301,'Daily Log'!#REF!),0)","v":0},{"$f":"IFERROR($E301*SUMIF('Daily Log'!#REF!,$B301,'Daily Log'!#REF!),0)","v":0},{"$f":"IFERROR($E301*SUMIF('Daily Log'!#REF!,$B301,'Daily Log'!#REF!),0)","v":0},{"$f":"IFERROR($E301*SUMIF('Daily Log'!#REF!,$B301,'Daily Log'!#REF!),0)","v":0},{"$f":"IFERROR($E301*SUMIF('Daily Log'!#REF!,$B301,'Daily Log'!#REF!),0)","v":0},{"$f":"IFERROR($E301*SUMIF('Daily Log'!#REF!,$B301,'Daily Log'!#REF!),0)","v":0},{"$f":"IFERROR($E301*SUMIF('Daily Log'!#REF!,$B301,'Daily Log'!#REF!),0)","v":0},{"$f":"IFERROR($E301*SUMIF('Daily Log'!#REF!,$B301,'Daily Log'!#REF!),0)","v":0},{"$f":"IFERROR($E301*SUMIF('Daily Log'!#REF!,$B301,'Daily Log'!#REF!),0)","v":0},{"$f":"IFERROR($E301*SUMIF('Daily Log'!#REF!,$B301,'Daily Log'!#REF!),0)","v":0},{"$f":"IFERROR($E301*SUMIF('Daily Log'!#REF!,$B301,'Daily Log'!#REF!),0)","v":0},{"$f":"IFERROR($E301*SUMIF('Daily Log'!#REF!,$B301,'Daily Log'!#REF!),0)","v":0},{"$f":"IFERROR($E301*SUMIF('Daily Log'!#REF!,$B301,'Daily Log'!#REF!),0)","v":0},{"$f":"IFERROR($E301*SUMIF('Daily Log'!#REF!,$B301,'Daily Log'!#REF!),0)","v":0},{"$f":"IFERROR($E301*SUMIF('Daily Log'!#REF!,$B301,'Daily Log'!#REF!),0)","v":0},{"$f":"IFERROR($E301*SUMIF('Daily Log'!#REF!,$B301,'Daily Log'!#REF!),0)","v":0},{"$f":"IFERROR($E301*SUMIF('Daily Log'!#REF!,$B301,'Daily Log'!#REF!),0)","v":0},{"$f":"IFERROR($E301*SUMIF('Daily Log'!#REF!,$B301,'Daily Log'!#REF!),0)","v":0},{"$f":"IFERROR($E301*SUMIF('Daily Log'!#REF!,$B301,'Daily Log'!#REF!),0)","v":0},{"$f":"IFERROR($E301*SUMIF('Daily Log'!#REF!,$B301,'Daily Log'!#REF!),0)","v":0},{"$f":"IFERROR($E301*SUMIF('Daily Log'!#REF!,$B301,'Daily Log'!#REF!),0)","v":0},{"$f":"IFERROR($E301*SUMIF('Daily Log'!#REF!,$B301,'Daily Log'!#REF!),0)","v":0},{"$f":"IFERROR($E301*SUMIF('Daily Log'!#REF!,$B301,'Daily Log'!#REF!),0)","v":0},{"$f":"IFERROR($E301*SUMIF('Daily Log'!#REF!,$B301,'Daily Log'!#REF!),0)","v":0},{"$f":"IFERROR($E301*SUMIF('Daily Log'!#REF!,$B301,'Daily Log'!#REF!),0)","v":0}]
[null,"AC03 N : MEMBER 30%",null,null,1,0,{"$f":"IFERROR($E302*SUMIF('Daily Log'!$B$18:$B$1017,$B302,'Daily Log'!$C$18:$C$1017),0)","v":0},{"$f":"IFERROR($E302*SUMIF('Daily Log'!$E$18:$E$1017,$B302,'Daily Log'!$F$18:$F$1017),0)","v":0},{"$f":"IFERROR($E302*SUMIF('Daily Log'!$H$18:$H$1017,$B302,'Daily Log'!$I$18:$I$1017),0)","v":0},{"$f":"IFERROR($E302*SUMIF('Daily Log'!$K$18:$K$1017,$B302,'Daily Log'!$L$18:$L$1017),0)","v":0},{"$f":"IFERROR($E302*SUMIF('Daily Log'!$N$18:$N$1017,$B302,'Daily Log'!$O$18:$O$1017),0)","v":0},{"$f":"IFERROR($E302*SUMIF('Daily Log'!#REF!,$B302,'Daily Log'!#REF!),0)","v":0},{"$f":"IFERROR($E302*SUMIF('Daily Log'!#REF!,$B302,'Daily Log'!#REF!),0)","v":0},{"$f":"IFERROR($E302*SUMIF('Daily Log'!#REF!,$B302,'Daily Log'!#REF!),0)","v":0},{"$f":"IFERROR($E302*SUMIF('Daily Log'!#REF!,$B302,'Daily Log'!#REF!),0)","v":0},{"$f":"IFERROR($E302*SUMIF('Daily Log'!#REF!,$B302,'Daily Log'!#REF!),0)","v":0},{"$f":"IFERROR($E302*SUMIF('Daily Log'!#REF!,$B302,'Daily Log'!#REF!),0)","v":0},{"$f":"IFERROR($E302*SUMIF('Daily Log'!#REF!,$B302,'Daily Log'!#REF!),0)","v":0},{"$f":"IFERROR($E302*SUMIF('Daily Log'!#REF!,$B302,'Daily Log'!#REF!),0)","v":0},{"$f":"IFERROR($E302*SUMIF('Daily Log'!#REF!,$B302,'Daily Log'!#REF!),0)","v":0},{"$f":"IFERROR($E302*SUMIF('Daily Log'!#REF!,$B302,'Daily Log'!#REF!),0)","v":0},{"$f":"IFERROR($E302*SUMIF('Daily Log'!#REF!,$B302,'Daily Log'!#REF!),0)","v":0},{"$f":"IFERROR($E302*SUMIF('Daily Log'!#REF!,$B302,'Daily Log'!#REF!),0)","v":0},{"$f":"IFERROR($E302*SUMIF('Daily Log'!#REF!,$B302,'Daily Log'!#REF!),0)","v":0},{"$f":"IFERROR($E302*SUMIF('Daily Log'!#REF!,$B302,'Daily Log'!#REF!),0)","v":0},{"$f":"IFERROR($E302*SUMIF('Daily Log'!#REF!,$B302,'Daily Log'!#REF!),0)","v":0},{"$f":"IFERROR($E302*SUMIF('Daily Log'!#REF!,$B302,'Daily Log'!#REF!),0)","v":0},{"$f":"IFERROR($E302*SUMIF('Daily Log'!#REF!,$B302,'Daily Log'!#REF!),0)","v":0},{"$f":"IFERROR($E302*SUMIF('Daily Log'!#REF!,$B302,'Daily Log'!#REF!),0)","v":0},{"$f":"IFERROR($E302*SUMIF('Daily Log'!#REF!,$B302,'Daily Log'!#REF!),0)","v":0},{"$f":"IFERROR($E302*SUMIF('Daily Log'!#REF!,$B302,'Daily Log'!#REF!),0)","v":0},{"$f":"IFERROR($E302*SUMIF('Daily Log'!#REF!,$B302,'Daily Log'!#REF!),0)","v":0},{"$f":"IFERROR($E302*SUMIF('Daily Log'!#REF!,$B302,'Daily Log'!#REF!),0)","v":0},{"$f":"IFERROR($E302*SUMIF('Daily Log'!#REF!,$B302,'Daily Log'!#REF!),0)","v":0},{"$f":"IFERROR($E302*SUMIF('Daily Log'!#REF!,$B302,'Daily Log'!#REF!),0)","v":0},{"$f":"IFERROR($E302*SUMIF('Daily Log'!#REF!,$B302,'Daily Log'!#REF!),0)","v":0},{"$f":"IFERROR($E302*SUMIF('Daily Log'!#REF!,$B302,'Daily Log'!#REF!),0)","v":0}]
[null,"AC05 K-DINNER",null,null,1,202,{"$f":"IFERROR($E303*SUMIF('Daily Log'!$B$18:$B$1017,$B303,'Daily Log'!$C$18:$C$1017),0)","v":90},{"$f":"IFERROR($E303*SUMIF('Daily Log'!$E$18:$E$1017,$B303,'Daily Log'!$F$18:$F$1017),0)","v":11},{"$f":"IFERROR($E303*SUMIF('Daily Log'!$H$18:$H$1017,$B303,'Daily Log'!$I$18:$I$1017),0)","v":34},{"$f":"IFERROR($E303*SUMIF('Daily Log'!$K$18:$K$1017,$B303,'Daily Log'!$L$18:$L$1017),0)","v":52},{"$f":"IFERROR($E303*SUMIF('Daily Log'!$N$18:$N$1017,$B303,'Daily Log'!$O$18:$O$1017),0)","v":15},{"$f":"IFERROR($E303*SUMIF('Daily Log'!#REF!,$B303,'Daily Log'!#REF!),0)","v":0},{"$f":"IFERROR($E303*SUMIF('Daily Log'!#REF!,$B303,'Daily Log'!#REF!),0)","v":0},{"$f":"IFERROR($E303*SUMIF('Daily Log'!#REF!,$B303,'Daily Log'!#REF!),0)","v":0},{"$f":"IFERROR($E303*SUMIF('Daily Log'!#REF!,$B303,'Daily Log'!#REF!),0)","v":0},{"$f":"IFERROR($E303*SUMIF('Daily Log'!#REF!,$B303,'Daily Log'!#REF!),0)","v":0},{"$f":"IFERROR($E303*SUMIF('Daily Log'!#REF!,$B303,'Daily Log'!#REF!),0)","v":0},{"$f":"IFERROR($E303*SUMIF('Daily Log'!#REF!,$B303,'Daily Log'!#REF!),0)","v":0},{"$f":"IFERROR($E303*SUMIF('Daily Log'!#REF!,$B303,'Daily Log'!#REF!),0)","v":0},{"$f":"IFERROR($E303*SUMIF('Daily Log'!#REF!,$B303,'Daily Log'!#REF!),0)","v":0},{"$f":"IFERROR($E303*SUMIF('Daily Log'!#REF!,$B303,'Daily Log'!#REF!),0)","v":0},{"$f":"IFERROR($E303*SUMIF('Daily Log'!#REF!,$B303,'Daily Log'!#REF!),0)","v":0},{"$f":"IFERROR($E303*SUMIF('Daily Log'!#REF!,$B303,'Daily Log'!#REF!),0)","v":0},{"$f":"IFERROR($E303*SUMIF('Daily Log'!#REF!,$B303,'Daily Log'!#REF!),0)","v":0},{"$f":"IFERROR($E303*SUMIF('Daily Log'!#REF!,$B303,'Daily Log'!#REF!),0)","v":0},{"$f":"IFERROR($E303*SUMIF('Daily Log'!#REF!,$B303,'Daily Log'!#REF!),0)","v":0},{"$f":"IFERROR($E303*SUMIF('Daily Log'!#REF!,$B303,'Daily Log'!#REF!),0)","v":0},{"$f":"IFERROR($E303*SUMIF('Daily Log'!#REF!,$B303,'Daily Log'!#REF!),0)","v":0},{"$f":"IFERROR($E303*SUMIF('Daily Log'!#REF!,$B303,'Daily Log'!#REF!),0)","v":0},{"$f":"IFERROR($E303*SUMIF('Daily Log'!#REF!,$B303,'Daily Log'!#REF!),0)","v":0},{"$f":"IFERROR($E303*SUMIF('Daily Log'!#REF!,$B303,'Daily Log'!#REF!),0)","v":0},{"$f":"IFERROR($E303*SUMIF('Daily Log'!#REF!,$B303,'Daily Log'!#REF!),0)","v":0},{"$f":"IFERROR($E303*SUMIF('Daily Log'!#REF!,$B303,'Daily Log'!#REF!),0)","v":0},{"$f":"IFERROR($E303*SUMIF('Daily Log'!#REF!,$B303,'Daily Log'!#REF!),0)","v":0},{"$f":"IFERROR($E303*SUMIF('Daily Log'!#REF!,$B303,'Daily Log'!#REF!),0)","v":0},{"$f":"IFERROR($E303*SUMIF('Daily Log'!#REF!,$B303,'Daily Log'!#REF!),0)","v":0},{"$f":"IFERROR($E303*SUMIF('Daily Log'!#REF!,$B303,'Daily Log'!#REF!),0)","v":0}]
[null,"AC06 N : CHILDREN",null,null,1,10,{"$f":"IFERROR($E304*SUMIF('Daily Log'!$B$18:$B$1017,$B304,'Daily Log'!$C$18:$C$1017),0)","v":4},{"$f":"IFERROR($E304*SUMIF('Daily Log'!$E$18:$E$1017,$B304,'Daily Log'!$F$18:$F$1017),0)","v":0},{"$f":"IFERROR($E304*SUMIF('Daily Log'!$H$18:$H$1017,$B304,'Daily Log'!$I$18:$I$1017),0)","v":2},{"$f":"IFERROR($E304*SUMIF('Daily Log'!$K$18:$K$1017,$B304,'Daily Log'!$L$18:$L$1017),0)","v":0},{"$f":"IFERROR($E304*SUMIF('Daily Log'!$N$18:$N$1017,$B304,'Daily Log'!$O$18:$O$1017),0)","v":4},{"$f":"IFERROR($E304*SUMIF('Daily Log'!#REF!,$B304,'Daily Log'!#REF!),0)","v":0},{"$f":"IFERROR($E304*SUMIF('Daily Log'!#REF!,$B304,'Daily Log'!#REF!),0)","v":0},{"$f":"IFERROR($E304*SUMIF('Daily Log'!#REF!,$B304,'Daily Log'!#REF!),0)","v":0},{"$f":"IFERROR($E304*SUMIF('Daily Log'!#REF!,$B304,'Daily Log'!#REF!),0)","v":0},{"$f":"IFERROR($E304*SUMIF('Daily Log'!#REF!,$B304,'Daily Log'!#REF!),0)","v":0},{"$f":"IFERROR($E304*SUMIF('Daily Log'!#REF!,$B304,'Daily Log'!#REF!),0)","v":0},{"$f":"IFERROR($E304*SUMIF('Daily Log'!#REF!,$B304,'Daily Log'!#REF!),0)","v":0},{"$f":"IFERROR($E304*SUMIF('Daily Log'!#REF!,$B304,'Daily Log'!#REF!),0)","v":0},{"$f":"IFERROR($E304*SUMIF('Daily Log'!#REF!,$B304,'Daily Log'!#REF!),0)","v":0},{"$f":"IFERROR($E304*SUMIF('Daily Log'!#REF!,$B304,'Daily Log'!#REF!),0)","v":0},{"$f":"IFERROR($E304*SUMIF('Daily Log'!#REF!,$B304,'Daily Log'!#REF!),0)","v":0},{"$f":"IFERROR($E304*SUMIF('Daily Log'!#REF!,$B304,'Daily Log'!#REF!),0)","v":0},{"$f":"IFERROR($E304*SUMIF('Daily Log'!#REF!,$B304,'Daily Log'!#REF!),0)","v":0},{"$f":"IFERROR($E304*SUMIF('Daily Log'!#REF!,$B304,'Daily Log'!#REF!),0)","v":0},{"$f":"IFERROR($E304*SUMIF('Daily Log'!#REF!,$B304,'Daily Log'!#REF!),0)","v":0},{"$f":"IFERROR($E304*SUMIF('Daily Log'!#REF!,$B304,'Daily Log'!#REF!),0)","v":0},{"$f":"IFERROR($E304*SUMIF('Daily Log'!#REF!,$B304,'Daily Log'!#REF!),0)","v":0},{"$f":"IFERROR($E304*SUMIF('Daily Log'!#REF!,$B304,'Daily Log'!#REF!),0)","v":0},{"$f":"IFERROR($E304*SUMIF('Daily Log'!#REF!,$B304,'Daily Log'!#REF!),0)","v":0},{"$f":"IFERROR($E304*SUMIF('Daily Log'!#REF!,$B304,'Daily Log'!#REF!),0)","v":0},{"$f":"IFERROR($E304*SUMIF('Daily Log'!#REF!,$B304,'Daily Log'!#REF!),0)","v":0},{"$f":"IFERROR($E304*SUMIF('Daily Log'!#REF!,$B304,'Daily Log'!#REF!),0)","v":0},{"$f":"IFERROR($E304*SUMIF('Daily Log'!#REF!,$B304,'Daily Log'!#REF!),0)","v":0},{"$f":"IFERROR($E304*SUMIF('Daily Log'!#REF!,$B304,'Daily Log'!#REF!),0)","v":0},{"$f":"IFERROR($E304*SUMIF('Daily Log'!#REF!,$B304,'Daily Log'!#REF!),0)","v":0},{"$f":"IFERROR($E304*SUMIF('Daily Log'!#REF!,$B304,'Daily Log'!#REF!),0)","v":0}]
[null,"AC07 N : MEMBER B'DAY",null,null,1,11,{"$f":"IFERROR($E305*SUMIF('Daily Log'!$B$18:$B$1017,$B305,'Daily Log'!$C$18:$C$1017),0)","v":4},{"$f":"IFERROR($E305*SUMIF('Daily Log'!$E$18:$E$1017,$B305,'Daily Log'!$F$18:$F$1017),0)","v":1},{"$f":"IFERROR($E305*SUMIF('Daily Log'!$H$18:$H$1017,$B305,'Daily Log'!$I$18:$I$1017),0)","v":4},{"$f":"IFERROR($E305*SUMIF('Daily Log'!$K$18:$K$1017,$B305,'Daily Log'!$L$18:$L$1017),0)","v":1},{"$f":"IFERROR($E305*SUMIF('Daily Log'!$N$18:$N$1017,$B305,'Daily Log'!$O$18:$O$1017),0)","v":1},{"$f":"IFERROR($E305*SUMIF('Daily Log'!#REF!,$B305,'Daily Log'!#REF!),0)","v":0},{"$f":"IFERROR($E305*SUMIF('Daily Log'!#REF!,$B305,'Daily Log'!#REF!),0)","v":0},{"$f":"IFERROR($E305*SUMIF('Daily Log'!#REF!,$B305,'Daily Log'!#REF!),0)","v":0},{"$f":"IFERROR($E305*SUMIF('Daily Log'!#REF!,$B305,'Daily Log'!#REF!),0)","v":0},{"$f":"IFERROR($E305*SUMIF('Daily Log'!#REF!,$B305,'Daily Log'!#REF!),0)","v":0},{"$f":"IFERROR($E305*SUMIF('Daily Log'!#REF!,$B305,'Daily Log'!#REF!),0)","v":0},{"$f":"IFERROR($E305*SUMIF('Daily Log'!#REF!,$B305,'Daily Log'!#REF!),0)","v":0},{"$f":"IFERROR($E305*SUMIF('Daily Log'!#REF!,$B305,'Daily Log'!#REF!),0)","v":0},{"$f":"IFERROR($E305*SUMIF('Daily Log'!#REF!,$B305,'Daily Log'!#REF!),0)","v":0},{"$f":"IFERROR($E305*SUMIF('Daily Log'!#REF!,$B305,'Daily Log'!#REF!),0)","v":0},{"$f":"IFERROR($E305*SUMIF('Daily Log'!#REF!,$B305,'Daily Log'!#REF!),0)","v":0},{"$f":"IFERROR($E305*SUMIF('Daily Log'!#REF!,$B305,'Daily Log'!#REF!),0)","v":0},{"$f":"IFERROR($E305*SUMIF('Daily Log'!#REF!,$B305,'Daily Log'!#REF!),0)","v":0},{"$f":"IFERROR($E305*SUMIF('Daily Log'!#REF!,$B305,'Daily Log'!#REF!),0)","v":0},{"$f":"IFERROR($E305*SUMIF('Daily Log'!#REF!,$B305,'Daily Log'!#REF!),0)","v":0},{"$f":"IFERROR($E305*SUMIF('Daily Log'!#REF!,$B305,'Daily Log'!#REF!),0)","v":0},{"$f":"IFERROR($E305*SUMIF('Daily Log'!#REF!,$B305,'Daily Log'!#REF!),0)","v":0},{"$f":"IFERROR($E305*SUMIF('Daily Log'!#REF!,$B305,'Daily Log'!#REF!),0)","v":0},{"$f":"IFERROR($E305*SUMIF('Daily Log'!#REF!,$B305,'Daily Log'!#REF!),0)","v":0},{"$f":"IFERROR($E305*SUMIF('Daily Log'!#REF!,$B305,'Daily Log'!#REF!),0)","v":0},{"$f":"IFERROR($E305*SUMIF('Daily Log'!#REF!,$B305,'Daily Log'!#REF!),0)","v":0},{"$f":"IFERROR($E305*SUMIF('Daily Log'!#REF!,$B305,'Daily Log'!#REF!),0)","v":0},{"$f":"IFERROR($E305*SUMIF('Daily Log'!#REF!,$B305,'Daily Log'!#REF!),0)","v":0},{"$f":"IFERROR($E305*SUMIF('Daily Log'!#REF!,$B305,'Daily Log'!#REF!),0)","v":0},{"$f":"IFERROR($E305*SUMIF('Daily Log'!#REF!,$B305,'Daily Log'!#REF!),0)","v":0},{"$f":"IFERROR($E305*SUMIF('Daily Log'!#REF!,$B305,'Daily Log'!#REF!),0)","v":0}]
[null,"AC08 N : STAFF B'DAY",null,null,1,0,{"$f":"IFERROR($E306*SUMIF('Daily Log'!$B$18:$B$1017,$B306,'Daily Log'!$C$18:$C$1017),0)","v":0},{"$f":"IFERROR($E306*SUMIF('Daily Log'!$E$18:$E$1017,$B306,'Daily Log'!$F$18:$F$1017),0)","v":0},{"$f":"IFERROR($E306*SUMIF('Daily Log'!$H$18:$H$1017,$B306,'Daily Log'!$I$18:$I$1017),0)","v":0},{"$f":"IFERROR($E306*SUMIF('Daily Log'!$K$18:$K$1017,$B306,'Daily Log'!$L$18:$L$1017),0)","v":0},{"$f":"IFERROR($E306*SUMIF('Daily Log'!$N$18:$N$1017,$B306,'Daily Log'!$O$18:$O$1017),0)","v":0},{"$f":"IFERROR($E306*SUMIF('Daily Log'!#REF!,$B306,'Daily Log'!#REF!),0)","v":0},{"$f":"IFERROR($E306*SUMIF('Daily Log'!#REF!,$B306,'Daily Log'!#REF!),0)","v":0},{"$f":"IFERROR($E306*SUMIF('Daily Log'!#REF!,$B306,'Daily Log'!#REF!),0)","v":0},{"$f":"IFERROR($E306*SUMIF('Daily Log'!#REF!,$B306,'Daily Log'!#REF!),0)","v":0},{"$f":"IFERROR($E306*SUMIF('Daily Log'!#REF!,$B306,'Daily Log'!#REF!),0)","v":0},{"$f":"IFERROR($E306*SUMIF('Daily Log'!#REF!,$B306,'Daily Log'!#REF!),0)","v":0},{"$f":"IFERROR($E306*SUMIF('Daily Log'!#REF!,$B306,'Daily Log'!#REF!),0)","v":0},{"$f":"IFERROR($E306*SUMIF('Daily Log'!#REF!,$B306,'Daily Log'!#REF!),0)","v":0},{"$f":"IFERROR($E306*SUMIF('Daily Log'!#REF!,$B306,'Daily Log'!#REF!),0)","v":0},{"$f":"IFERROR($E306*SUMIF('Daily Log'!#REF!,$B306,'Daily Log'!#REF!),0)","v":0},{"$f":"IFERROR($E306*SUMIF('Daily Log'!#REF!,$B306,'Daily Log'!#REF!),0)","v":0},{"$f":"IFERROR($E306*SUMIF('Daily Log'!#REF!,$B306,'Daily Log'!#REF!),0)","v":0},{"$f":"IFERROR($E306*SUMIF('Daily Log'!#REF!,$B306,'Daily Log'!#REF!),0)","v":0},{"$f":"IFERROR($E306*SUMIF('Daily Log'!#REF!,$B306,'Daily Log'!#REF!),0)","v":0},{"$f":"IFERROR($E306*SUMIF('Daily Log'!#REF!,$B306,'Daily Log'!#REF!),0)","v":0},{"$f":"IFERROR($E306*SUMIF('Daily Log'!#REF!,$B306,'Daily Log'!#REF!),0)","v":0},{"$f":"IFERROR($E306*SUMIF('Daily Log'!#REF!,$B306,'Daily Log'!#REF!),0)","v":0},{"$f":"IFERROR($E306*SUMIF('Daily Log'!#REF!,$B306,'Daily Log'!#REF!),0)","v":0},{"$f":"IFERROR($E306*SUMIF('Daily Log'!#REF!,$B306,'Daily Log'!#REF!),0)","v":0},{"$f":"IFERROR($E306*SUMIF('Daily Log'!#REF!,$B306,'Daily Log'!#REF!),0)","v":0},{"$f":"IFERROR($E306*SUMIF('Daily Log'!#REF!,$B306,'Daily Log'!#REF!),0)","v":0},{"$f":"IFERROR($E306*SUMIF('Daily Log'!#REF!,$B306,'Daily Log'!#REF!),0)","v":0},{"$f":"IFERROR($E306*SUMIF('Daily Log'!#REF!,$B306,'Daily Log'!#REF!),0)","v":0},{"$f":"IFERROR($E306*SUMIF('Daily Log'!#REF!,$B306,'Daily Log'!#REF!),0)","v":0},{"$f":"IFERROR($E306*SUMIF('Daily Log'!#REF!,$B306,'Daily Log'!#REF!),0)","v":0},{"$f":"IFERROR($E306*SUMIF('Daily Log'!#REF!,$B306,'Daily Log'!#REF!),0)","v":0}]
[null,"AC09 N : FOC HEAD",null,null,1,1,{"$f":"IFERROR($E307*SUMIF('Daily Log'!$B$18:$B$1017,$B307,'Daily Log'!$C$18:$C$1017),0)","v":0},{"$f":"IFERROR($E307*SUMIF('Daily Log'!$E$18:$E$1017,$B307,'Daily Log'!$F$18:$F$1017),0)","v":0},{"$f":"IFERROR($E307*SUMIF('Daily Log'!$H$18:$H$1017,$B307,'Daily Log'!$I$18:$I$1017),0)","v":0},{"$f":"IFERROR($E307*SUMIF('Daily Log'!$K$18:$K$1017,$B307,'Daily Log'!$L$18:$L$1017),0)","v":0},{"$f":"IFERROR($E307*SUMIF('Daily Log'!$N$18:$N$1017,$B307,'Daily Log'!$O$18:$O$1017),0)","v":1},{"$f":"IFERROR($E307*SUMIF('Daily Log'!#REF!,$B307,'Daily Log'!#REF!),0)","v":0},{"$f":"IFERROR($E307*SUMIF('Daily Log'!#REF!,$B307,'Daily Log'!#REF!),0)","v":0},{"$f":"IFERROR($E307*SUMIF('Daily Log'!#REF!,$B307,'Daily Log'!#REF!),0)","v":0},{"$f":"IFERROR($E307*SUMIF('Daily Log'!#REF!,$B307,'Daily Log'!#REF!),0)","v":0},{"$f":"IFERROR($E307*SUMIF('Daily Log'!#REF!,$B307,'Daily Log'!#REF!),0)","v":0},{"$f":"IFERROR($E307*SUMIF('Daily Log'!#REF!,$B307,'Daily Log'!#REF!),0)","v":0},{"$f":"IFERROR($E307*SUMIF('Daily Log'!#REF!,$B307,'Daily Log'!#REF!),0)","v":0},{"$f":"IFERROR($E307*SUMIF('Daily Log'!#REF!,$B307,'Daily Log'!#REF!),0)","v":0},{"$f":"IFERROR($E307*SUMIF('Daily Log'!#REF!,$B307,'Daily Log'!#REF!),0)","v":0},{"$f":"IFERROR($E307*SUMIF('Daily Log'!#REF!,$B307,'Daily Log'!#REF!),0)","v":0},{"$f":"IFERROR($E307*SUMIF('Daily Log'!#REF!,$B307,'Daily Log'!#REF!),0)","v":0},{"$f":"IFERROR($E307*SUMIF('Daily Log'!#REF!,$B307,'Daily Log'!#REF!),0)","v":0},{"$f":"IFERROR($E307*SUMIF('Daily Log'!#REF!,$B307,'Daily Log'!#REF!),0)","v":0},{"$f":"IFERROR($E307*SUMIF('Daily Log'!#REF!,$B307,'Daily Log'!#REF!),0)","v":0},{"$f":"IFERROR($E307*SUMIF('Daily Log'!#REF!,$B307,'Daily Log'!#REF!),0)","v":0},{"$f":"IFERROR($E307*SUMIF('Daily Log'!#REF!,$B307,'Daily Log'!#REF!),0)","v":0},{"$f":"IFERROR($E307*SUMIF('Daily Log'!#REF!,$B307,'Daily Log'!#REF!),0)","v":0},{"$f":"IFERROR($E307*SUMIF('Daily Log'!#REF!,$B307,'Daily Log'!#REF!),0)","v":0},{"$f":"IFERROR($E307*SUMIF('Daily Log'!#REF!,$B307,'Daily Log'!#REF!),0)","v":0},{"$f":"IFERROR($E307*SUMIF('Daily Log'!#REF!,$B307,'Daily Log'!#REF!),0)","v":0},{"$f":"IFERROR($E307*SUMIF('Daily Log'!#REF!,$B307,'Daily Log'!#REF!),0)","v":0},{"$f":"IFERROR($E307*SUMIF('Daily Log'!#REF!,$B307,'Daily Log'!#REF!),0)","v":0},{"$f":"IFERROR($E307*SUMIF('Daily Log'!#REF!,$B307,'Daily Log'!#REF!),0)","v":0},{"$f":"IFERROR($E307*SUMIF('Daily Log'!#REF!,$B307,'Daily Log'!#REF!),0)","v":0},{"$f":"IFERROR($E307*SUMIF('Daily Log'!#REF!,$B307,'Daily Log'!#REF!),0)","v":0},{"$f":"IFERROR($E307*SUMIF('Daily Log'!#REF!,$B307,'Daily Log'!#REF!),0)","v":0}]
[null,"AC10 N : FREEHEAD (B)",null,null,1,0,{"$f":"IFERROR($E308*SUMIF('Daily Log'!$B$18:$B$1017,$B308,'Daily Log'!$C$18:$C$1017),0)","v":0},{"$f":"IFERROR($E308*SUMIF('Daily Log'!$E$18:$E$1017,$B308,'Daily Log'!$F$18:$F$1017),0)","v":0},{"$f":"IFERROR($E308*SUMIF('Daily Log'!$H$18:$H$1017,$B308,'Daily Log'!$I$18:$I$1017),0)","v":0},{"$f":"IFERROR($E308*SUMIF('Daily Log'!$K$18:$K$1017,$B308,'Daily Log'!$L$18:$L$1017),0)","v":0},{"$f":"IFERROR($E308*SUMIF('Daily Log'!$N$18:$N$1017,$B308,'Daily Log'!$O$18:$O$1017),0)","v":0},{"$f":"IFERROR($E308*SUMIF('Daily Log'!#REF!,$B308,'Daily Log'!#REF!),0)","v":0},{"$f":"IFERROR($E308*SUMIF('Daily Log'!#REF!,$B308,'Daily Log'!#REF!),0)","v":0},{"$f":"IFERROR($E308*SUMIF('Daily Log'!#REF!,$B308,'Daily Log'!#REF!),0)","v":0},{"$f":"IFERROR($E308*SUMIF('Daily Log'!#REF!,$B308,'Daily Log'!#REF!),0)","v":0},{"$f":"IFERROR($E308*SUMIF('Daily Log'!#REF!,$B308,'Daily Log'!#REF!),0)","v":0},{"$f":"IFERROR($E308*SUMIF('Daily Log'!#REF!,$B308,'Daily Log'!#REF!),0)","v":0},{"$f":"IFERROR($E308*SUMIF('Daily Log'!#REF!,$B308,'Daily Log'!#REF!),0)","v":0},{"$f":"IFERROR($E308*SUMIF('Daily Log'!#REF!,$B308,'Daily Log'!#REF!),0)","v":0},{"$f":"IFERROR($E308*SUMIF('Daily Log'!#REF!,$B308,'Daily Log'!#REF!),0)","v":0},{"$f":"IFERROR($E308*SUMIF('Daily Log'!#REF!,$B308,'Daily Log'!#REF!),0)","v":0},{"$f":"IFERROR($E308*SUMIF('Daily Log'!#REF!,$B308,'Daily Log'!#REF!),0)","v":0},{"$f":"IFERROR($E308*SUMIF('Daily Log'!#REF!,$B308,'Daily Log'!#REF!),0)","v":0},{"$f":"IFERROR($E308*SUMIF('Daily Log'!#REF!,$B308,'Daily Log'!#REF!),0)","v":0},{"$f":"IFERROR($E308*SUMIF('Daily Log'!#REF!,$B308,'Daily Log'!#REF!),0)","v":0},{"$f":"IFERROR($E308*SUMIF('Daily Log'!#REF!,$B308,'Daily Log'!#REF!),0)","v":0},{"$f":"IFERROR($E308*SUMIF('Daily Log'!#REF!,$B308,'Daily Log'!#REF!),0)","v":0},{"$f":"IFERROR($E308*SUMIF('Daily Log'!#REF!,$B308,'Daily Log'!#REF!),0)","v":0},{"$f":"IFERROR($E308*SUMIF('Daily Log'!#REF!,$B308,'Daily Log'!#REF!),0)","v":0},{"$f":"IFERROR($E308*SUMIF('Daily Log'!#REF!,$B308,'Daily Log'!#REF!),0)","v":0},{"$f":"IFERROR($E308*SUMIF('Daily Log'!#REF!,$B308,'Daily Log'!#REF!),0)","v":0},{"$f":"IFERROR($E308*SUMIF('Daily Log'!#REF!,$B308,'Daily Log'!#REF!),0)","v":0},{"$f":"IFERROR($E308*SUMIF('Daily Log'!#REF!,$B308,'Daily Log'!#REF!),0)","v":0},{"$f":"IFERROR($E308*SUMIF('Daily Log'!#REF!,$B308,'Daily Log'!#REF!),0)","v":0},{"$f":"IFERROR($E308*SUMIF('Daily Log'!#REF!,$B308,'Daily Log'!#REF!),0)","v":0},{"$f":"IFERROR($E308*SUMIF('Daily Log'!#REF!,$B308,'Daily Log'!#REF!),0)","v":0},{"$f":"IFERROR($E308*SUMIF('Daily Log'!#REF!,$B308,'Daily Log'!#REF!),0)","v":0}]
[null,"AC12 N : FREEHEAD (R)",null,null,1,8,{"$f":"IFERROR($E309*SUMIF('Daily Log'!$B$18:$B$1017,$B309,'Daily Log'!$C$18:$C$1017),0)","v":1},{"$f":"IFERROR($E309*SUMIF('Daily Log'!$E$18:$E$1017,$B309,'Daily Log'!$F$18:$F$1017),0)","v":2},{"$f":"IFERROR($E309*SUMIF('Daily Log'!$H$18:$H$1017,$B309,'Daily Log'!$I$18:$I$1017),0)","v":4},{"$f":"IFERROR($E309*SUMIF('Daily Log'!$K$18:$K$1017,$B309,'Daily Log'!$L$18:$L$1017),0)","v":1},{"$f":"IFERROR($E309*SUMIF('Daily Log'!$N$18:$N$1017,$B309,'Daily Log'!$O$18:$O$1017),0)","v":0},{"$f":"IFERROR($E309*SUMIF('Daily Log'!#REF!,$B309,'Daily Log'!#REF!),0)","v":0},{"$f":"IFERROR($E309*SUMIF('Daily Log'!#REF!,$B309,'Daily Log'!#REF!),0)","v":0},{"$f":"IFERROR($E309*SUMIF('Daily Log'!#REF!,$B309,'Daily Log'!#REF!),0)","v":0},{"$f":"IFERROR($E309*SUMIF('Daily Log'!#REF!,$B309,'Daily Log'!#REF!),0)","v":0},{"$f":"IFERROR($E309*SUMIF('Daily Log'!#REF!,$B309,'Daily Log'!#REF!),0)","v":0},{"$f":"IFERROR($E309*SUMIF('Daily Log'!#REF!,$B309,'Daily Log'!#REF!),0)","v":0},{"$f":"IFERROR($E309*SUMIF('Daily Log'!#REF!,$B309,'Daily Log'!#REF!),0)","v":0},{"$f":"IFERROR($E309*SUMIF('Daily Log'!#REF!,$B309,'Daily Log'!#REF!),0)","v":0},{"$f":"IFERROR($E309*SUMIF('Daily Log'!#REF!,$B309,'Daily Log'!#REF!),0)","v":0},{"$f":"IFERROR($E309*SUMIF('Daily Log'!#REF!,$B309,'Daily Log'!#REF!),0)","v":0},{"$f":"IFERROR($E309*SUMIF('Daily Log'!#REF!,$B309,'Daily Log'!#REF!),0)","v":0},{"$f":"IFERROR($E309*SUMIF('Daily Log'!#REF!,$B309,'Daily Log'!#REF!),0)","v":0},{"$f":"IFERROR($E309*SUMIF('Daily Log'!#REF!,$B309,'Daily Log'!#REF!),0)","v":0},{"$f":"IFERROR($E309*SUMIF('Daily Log'!#REF!,$B309,'Daily Log'!#REF!),0)","v":0},{"$f":"IFERROR($E309*SUMIF('Daily Log'!#REF!,$B309,'Daily Log'!#REF!),0)","v":0},{"$f":"IFERROR($E309*SUMIF('Daily Log'!#REF!,$B309,'Daily Log'!#REF!),0)","v":0},{"$f":"IFERROR($E309*SUMIF('Daily Log'!#REF!,$B309,'Daily Log'!#REF!),0)","v":0},{"$f":"IFERROR($E309*SUMIF('Daily Log'!#REF!,$B309,'Daily Log'!#REF!),0)","v":0},{"$f":"IFERROR($E309*SUMIF('Daily Log'!#REF!,$B309,'Daily Log'!#REF!),0)","v":0},{"$f":"IFERROR($E309*SUMIF('Daily Log'!#REF!,$B309,'Daily Log'!#REF!),0)","v":0},{"$f":"IFERROR($E309*SUMIF('Daily Log'!#REF!,$B309,'Daily Log'!#REF!),0)","v":0},{"$f":"IFERROR($E309*SUMIF('Daily Log'!#REF!,$B309,'Daily Log'!#REF!),0)","v":0},{"$f":"IFERROR($E309*SUMIF('Daily Log'!#REF!,$B309,'Daily Log'!#REF!),0)","v":0},{"$f":"IFERROR($E309*SUMIF('Daily Log'!#REF!,$B309,'Daily Log'!#REF!),0)","v":0},{"$f":"IFERROR($E309*SUMIF('Daily Log'!#REF!,$B309,'Daily Log'!#REF!),0)","v":0},{"$f":"IFERROR($E309*SUMIF('Daily Log'!#REF!,$B309,'Daily Log'!#REF!),0)","v":0}]
[null,"AC17 N : XTD S ROOM",null,null,1,2,{"$f":"IFERROR($E310*SUMIF('Daily Log'!$B$18:$B$1017,$B310,'Daily Log'!$C$18:$C$1017),0)","v":0},{"$f":"IFERROR($E310*SUMIF('Daily Log'!$E$18:$E$1017,$B310,'Daily Log'!$F$18:$F$1017),0)","v":0},{"$f":"IFERROR($E310*SUMIF('Daily Log'!$H$18:$H$1017,$B310,'Daily Log'!$I$18:$I$1017),0)","v":2},{"$f":"IFERROR($E310*SUMIF('Daily Log'!$K$18:$K$1017,$B310,'Daily Log'!$L$18:$L$1017),0)","v":0},{"$f":"IFERROR($E310*SUMIF('Daily Log'!$N$18:$N$1017,$B310,'Daily Log'!$O$18:$O$1017),0)","v":0},{"$f":"IFERROR($E310*SUMIF('Daily Log'!#REF!,$B310,'Daily Log'!#REF!),0)","v":0},{"$f":"IFERROR($E310*SUMIF('Daily Log'!#REF!,$B310,'Daily Log'!#REF!),0)","v":0},{"$f":"IFERROR($E310*SUMIF('Daily Log'!#REF!,$B310,'Daily Log'!#REF!),0)","v":0},{"$f":"IFERROR($E310*SUMIF('Daily Log'!#REF!,$B310,'Daily Log'!#REF!),0)","v":0},{"$f":"IFERROR($E310*SUMIF('Daily Log'!#REF!,$B310,'Daily Log'!#REF!),0)","v":0},{"$f":"IFERROR($E310*SUMIF('Daily Log'!#REF!,$B310,'Daily Log'!#REF!),0)","v":0},{"$f":"IFERROR($E310*SUMIF('Daily Log'!#REF!,$B310,'Daily Log'!#REF!),0)","v":0},{"$f":"IFERROR($E310*SUMIF('Daily Log'!#REF!,$B310,'Daily Log'!#REF!),0)","v":0},{"$f":"IFERROR($E310*SUMIF('Daily Log'!#REF!,$B310,'Daily Log'!#REF!),0)","v":0},{"$f":"IFERROR($E310*SUMIF('Daily Log'!#REF!,$B310,'Daily Log'!#REF!),0)","v":0},{"$f":"IFERROR($E310*SUMIF('Daily Log'!#REF!,$B310,'Daily Log'!#REF!),0)","v":0},{"$f":"IFERROR($E310*SUMIF('Daily Log'!#REF!,$B310,'Daily Log'!#REF!),0)","v":0},{"$f":"IFERROR($E310*SUMIF('Daily Log'!#REF!,$B310,'Daily Log'!#REF!),0)","v":0},{"$f":"IFERROR($E310*SUMIF('Daily Log'!#REF!,$B310,'Daily Log'!#REF!),0)","v":0},{"$f":"IFERROR($E310*SUMIF('Daily Log'!#REF!,$B310,'Daily Log'!#REF!),0)","v":0},{"$f":"IFERROR($E310*SUMIF('Daily Log'!#REF!,$B310,'Daily Log'!#REF!),0)","v":0},{"$f":"IFERROR($E310*SUMIF('Daily Log'!#REF!,$B310,'Daily Log'!#REF!),0)","v":0},{"$f":"IFERROR($E310*SUMIF('Daily Log'!#REF!,$B310,'Daily Log'!#REF!),0)","v":0},{"$f":"IFERROR($E310*SUMIF('Daily Log'!#REF!,$B310,'Daily Log'!#REF!),0)","v":0},{"$f":"IFERROR($E310*SUMIF('Daily Log'!#REF!,$B310,'Daily Log'!#REF!),0)","v":0},{"$f":"IFERROR($E310*SUMIF('Daily Log'!#REF!,$B310,'Daily Log'!#REF!),0)","v":0},{"$f":"IFERROR($E310*SUMIF('Daily Log'!#REF!,$B310,'Daily Log'!#REF!),0)","v":0},{"$f":"IFERROR($E310*SUMIF('Daily Log'!#REF!,$B310,'Daily Log'!#REF!),0)","v":0},{"$f":"IFERROR($E310*SUMIF('Daily Log'!#REF!,$B310,'Daily Log'!#REF!),0)","v":0},{"$f":"IFERROR($E310*SUMIF('Daily Log'!#REF!,$B310,'Daily Log'!#REF!),0)","v":0},{"$f":"IFERROR($E310*SUMIF('Daily Log'!#REF!,$B310,'Daily Log'!#REF!),0)","v":0}]
[null,"AC18 N : XTD M ROOM",null,null,1,2,{"$f":"IFERROR($E311*SUMIF('Daily Log'!$B$18:$B$1017,$B311,'Daily Log'!$C$18:$C$1017),0)","v":0},{"$f":"IFERROR($E311*SUMIF('Daily Log'!$E$18:$E$1017,$B311,'Daily Log'!$F$18:$F$1017),0)","v":0},{"$f":"IFERROR($E311*SUMIF('Daily Log'!$H$18:$H$1017,$B311,'Daily Log'!$I$18:$I$1017),0)","v":2},{"$f":"IFERROR($E311*SUMIF('Daily Log'!$K$18:$K$1017,$B311,'Daily Log'!$L$18:$L$1017),0)","v":0},{"$f":"IFERROR($E311*SUMIF('Daily Log'!$N$18:$N$1017,$B311,'Daily Log'!$O$18:$O$1017),0)","v":0},{"$f":"IFERROR($E311*SUMIF('Daily Log'!#REF!,$B311,'Daily Log'!#REF!),0)","v":0},{"$f":"IFERROR($E311*SUMIF('Daily Log'!#REF!,$B311,'Daily Log'!#REF!),0)","v":0},{"$f":"IFERROR($E311*SUMIF('Daily Log'!#REF!,$B311,'Daily Log'!#REF!),0)","v":0},{"$f":"IFERROR($E311*SUMIF('Daily Log'!#REF!,$B311,'Daily Log'!#REF!),0)","v":0},{"$f":"IFERROR($E311*SUMIF('Daily Log'!#REF!,$B311,'Daily Log'!#REF!),0)","v":0},{"$f":"IFERROR($E311*SUMIF('Daily Log'!#REF!,$B311,'Daily Log'!#REF!),0)","v":0},{"$f":"IFERROR($E311*SUMIF('Daily Log'!#REF!,$B311,'Daily Log'!#REF!),0)","v":0},{"$f":"IFERROR($E311*SUMIF('Daily Log'!#REF!,$B311,'Daily Log'!#REF!),0)","v":0},{"$f":"IFERROR($E311*SUMIF('Daily Log'!#REF!,$B311,'Daily Log'!#REF!),0)","v":0},{"$f":"IFERROR($E311*SUMIF('Daily Log'!#REF!,$B311,'Daily Log'!#REF!),0)","v":0},{"$f":"IFERROR($E311*SUMIF('Daily Log'!#REF!,$B311,'Daily Log'!#REF!),0)","v":0},{"$f":"IFERROR($E311*SUMIF('Daily Log'!#REF!,$B311,'Daily Log'!#REF!),0)","v":0},{"$f":"IFERROR($E311*SUMIF('Daily Log'!#REF!,$B311,'Daily Log'!#REF!),0)","v":0},{"$f":"IFERROR($E311*SUMIF('Daily Log'!#REF!,$B311,'Daily Log'!#REF!),0)","v":0},{"$f":"IFERROR($E311*SUMIF('Daily Log'!#REF!,$B311,'Daily Log'!#REF!),0)","v":0},{"$f":"IFERROR($E311*SUMIF('Daily Log'!#REF!,$B311,'Daily Log'!#REF!),0)","v":0},{"$f":"IFERROR($E311*SUMIF('Daily Log'!#REF!,$B311,'Daily Log'!#REF!),0)","v":0},{"$f":"IFERROR($E311*SUMIF('Daily Log'!#REF!,$B311,'Daily Log'!#REF!),0)","v":0},{"$f":"IFERROR($E311*SUMIF('Daily Log'!#REF!,$B311,'Daily Log'!#REF!),0)","v":0},{"$f":"IFERROR($E311*SUMIF('Daily Log'!#REF!,$B311,'Daily Log'!#REF!),0)","v":0},{"$f":"IFERROR($E311*SUMIF('Daily Log'!#REF!,$B311,'Daily Log'!#REF!),0)","v":0},{"$f":"IFERROR($E311*SUMIF('Daily Log'!#REF!,$B311,'Daily Log'!#REF!),0)","v":0},{"$f":"IFERROR($E311*SUMIF('Daily Log'!#REF!,$B311,'Daily Log'!#REF!),0)","v":0},{"$f":"IFERROR($E311*SUMIF('Daily Log'!#REF!,$B311,'Daily Log'!#REF!),0)","v":0},{"$f":"IFERROR($E311*SUMIF('Daily Log'!#REF!,$B311,'Daily Log'!#REF!),0)","v":0},{"$f":"IFERROR($E311*SUMIF('Daily Log'!#REF!,$B311,'Daily Log'!#REF!),0)","v":0}]
[null,"AC19 N : XTD B ROOM",null,null,1,2,{"$f":"IFERROR($E312*SUMIF('Daily Log'!$B$18:$B$1017,$B312,'Daily Log'!$C$18:$C$1017),0)","v":0},{"$f":"IFERROR($E312*SUMIF('Daily Log'!$E$18:$E$1017,$B312,'Daily Log'!$F$18:$F$1017),0)","v":0},{"$f":"IFERROR($E312*SUMIF('Daily Log'!$H$18:$H$1017,$B312,'Daily Log'!$I$18:$I$1017),0)","v":1},{"$f":"IFERROR($E312*SUMIF('Daily Log'!$K$18:$K$1017,$B312,'Daily Log'!$L$18:$L$1017),0)","v":1},{"$f":"IFERROR($E312*SUMIF('Daily Log'!$N$18:$N$1017,$B312,'Daily Log'!$O$18:$O$1017),0)","v":0},{"$f":"IFERROR($E312*SUMIF('Daily Log'!#REF!,$B312,'Daily Log'!#REF!),0)","v":0},{"$f":"IFERROR($E312*SUMIF('Daily Log'!#REF!,$B312,'Daily Log'!#REF!),0)","v":0},{"$f":"IFERROR($E312*SUMIF('Daily Log'!#REF!,$B312,'Daily Log'!#REF!),0)","v":0},{"$f":"IFERROR($E312*SUMIF('Daily Log'!#REF!,$B312,'Daily Log'!#REF!),0)","v":0},{"$f":"IFERROR($E312*SUMIF('Daily Log'!#REF!,$B312,'Daily Log'!#REF!),0)","v":0},{"$f":"IFERROR($E312*SUMIF('Daily Log'!#REF!,$B312,'Daily Log'!#REF!),0)","v":0},{"$f":"IFERROR($E312*SUMIF('Daily Log'!#REF!,$B312,'Daily Log'!#REF!),0)","v":0},{"$f":"IFERROR($E312*SUMIF('Daily Log'!#REF!,$B312,'Daily Log'!#REF!),0)","v":0},{"$f":"IFERROR($E312*SUMIF('Daily Log'!#REF!,$B312,'Daily Log'!#REF!),0)","v":0},{"$f":"IFERROR($E312*SUMIF('Daily Log'!#REF!,$B312,'Daily Log'!#REF!),0)","v":0},{"$f":"IFERROR($E312*SUMIF('Daily Log'!#REF!,$B312,'Daily Log'!#REF!),0)","v":0},{"$f":"IFERROR($E312*SUMIF('Daily Log'!#REF!,$B312,'Daily Log'!#REF!),0)","v":0},{"$f":"IFERROR($E312*SUMIF('Daily Log'!#REF!,$B312,'Daily Log'!#REF!),0)","v":0},{"$f":"IFERROR($E312*SUMIF('Daily Log'!#REF!,$B312,'Daily Log'!#REF!),0)","v":0},{"$f":"IFERROR($E312*SUMIF('Daily Log'!#REF!,$B312,'Daily Log'!#REF!),0)","v":0},{"$f":"IFERROR($E312*SUMIF('Daily Log'!#REF!,$B312,'Daily Log'!#REF!),0)","v":0},{"$f":"IFERROR($E312*SUMIF('Daily Log'!#REF!,$B312,'Daily Log'!#REF!),0)","v":0},{"$f":"IFERROR($E312*SUMIF('Daily Log'!#REF!,$B312,'Daily Log'!#REF!),0)","v":0},{"$f":"IFERROR($E312*SUMIF('Daily Log'!#REF!,$B312,'Daily Log'!#REF!),0)","v":0},{"$f":"IFERROR($E312*SUMIF('Daily Log'!#REF!,$B312,'Daily Log'!#REF!),0)","v":0},{"$f":"IFERROR($E312*SUMIF('Daily Log'!#REF!,$B312,'Daily Log'!#REF!),0)","v":0},{"$f":"IFERROR($E312*SUMIF('Daily Log'!#REF!,$B312,'Daily Log'!#REF!),0)","v":0},{"$f":"IFERROR($E312*SUMIF('Daily Log'!#REF!,$B312,'Daily Log'!#REF!),0)","v":0},{"$f":"IFERROR($E312*SUMIF('Daily Log'!#REF!,$B312,'Daily Log'!#REF!),0)","v":0},{"$f":"IFERROR($E312*SUMIF('Daily Log'!#REF!,$B312,'Daily Log'!#REF!),0)","v":0},{"$f":"IFERROR($E312*SUMIF('Daily Log'!#REF!,$B312,'Daily Log'!#REF!),0)","v":0}]
[null,"AC28 N: Student Diner",null,null,1,0,{"$f":"IFERROR($E313*SUMIF('Daily Log'!$B$18:$B$1017,$B313,'Daily Log'!$C$18:$C$1017),0)","v":0},{"$f":"IFERROR($E313*SUMIF('Daily Log'!$E$18:$E$1017,$B313,'Daily Log'!$F$18:$F$1017),0)","v":0},{"$f":"IFERROR($E313*SUMIF('Daily Log'!$H$18:$H$1017,$B313,'Daily Log'!$I$18:$I$1017),0)","v":0},{"$f":"IFERROR($E313*SUMIF('Daily Log'!$K$18:$K$1017,$B313,'Daily Log'!$L$18:$L$1017),0)","v":0},{"$f":"IFERROR($E313*SUMIF('Daily Log'!$N$18:$N$1017,$B313,'Daily Log'!$O$18:$O$1017),0)","v":0},{"$f":"IFERROR($E313*SUMIF('Daily Log'!#REF!,$B313,'Daily Log'!#REF!),0)","v":0},{"$f":"IFERROR($E313*SUMIF('Daily Log'!#REF!,$B313,'Daily Log'!#REF!),0)","v":0},{"$f":"IFERROR($E313*SUMIF('Daily Log'!#REF!,$B313,'Daily Log'!#REF!),0)","v":0},{"$f":"IFERROR($E313*SUMIF('Daily Log'!#REF!,$B313,'Daily Log'!#REF!),0)","v":0},{"$f":"IFERROR($E313*SUMIF('Daily Log'!#REF!,$B313,'Daily Log'!#REF!),0)","v":0},{"$f":"IFERROR($E313*SUMIF('Daily Log'!#REF!,$B313,'Daily Log'!#REF!),0)","v":0},{"$f":"IFERROR($E313*SUMIF('Daily Log'!#REF!,$B313,'Daily Log'!#REF!),0)","v":0},{"$f":"IFERROR($E313*SUMIF('Daily Log'!#REF!,$B313,'Daily Log'!#REF!),0)","v":0},{"$f":"IFERROR($E313*SUMIF('Daily Log'!#REF!,$B313,'Daily Log'!#REF!),0)","v":0},{"$f":"IFERROR($E313*SUMIF('Daily Log'!#REF!,$B313,'Daily Log'!#REF!),0)","v":0},{"$f":"IFERROR($E313*SUMIF('Daily Log'!#REF!,$B313,'Daily Log'!#REF!),0)","v":0},{"$f":"IFERROR($E313*SUMIF('Daily Log'!#REF!,$B313,'Daily Log'!#REF!),0)","v":0},{"$f":"IFERROR($E313*SUMIF('Daily Log'!#REF!,$B313,'Daily Log'!#REF!),0)","v":0},{"$f":"IFERROR($E313*SUMIF('Daily Log'!#REF!,$B313,'Daily Log'!#REF!),0)","v":0},{"$f":"IFERROR($E313*SUMIF('Daily Log'!#REF!,$B313,'Daily Log'!#REF!),0)","v":0},{"$f":"IFERROR($E313*SUMIF('Daily Log'!#REF!,$B313,'Daily Log'!#REF!),0)","v":0},{"$f":"IFERROR($E313*SUMIF('Daily Log'!#REF!,$B313,'Daily Log'!#REF!),0)","v":0},{"$f":"IFERROR($E313*SUMIF('Daily Log'!#REF!,$B313,'Daily Log'!#REF!),0)","v":0},{"$f":"IFERROR($E313*SUMIF('Daily Log'!#REF!,$B313,'Daily Log'!#REF!),0)","v":0},{"$f":"IFERROR($E313*SUMIF('Daily Log'!#REF!,$B313,'Daily Log'!#REF!),0)","v":0},{"$f":"IFERROR($E313*SUMIF('Daily Log'!#REF!,$B313,'Daily Log'!#REF!),0)","v":0},{"$f":"IFERROR($E313*SUMIF('Daily Log'!#REF!,$B313,'Daily Log'!#REF!),0)","v":0},{"$f":"IFERROR($E313*SUMIF('Daily Log'!#REF!,$B313,'Daily Log'!#REF!),0)","v":0},{"$f":"IFERROR($E313*SUMIF('Daily Log'!#REF!,$B313,'Daily Log'!#REF!),0)","v":0},{"$f":"IFERROR($E313*SUMIF('Daily Log'!#REF!,$B313,'Daily Log'!#REF!),0)","v":0},{"$f":"IFERROR($E313*SUMIF('Daily Log'!#REF!,$B313,'Daily Log'!#REF!),0)","v":0}]
[null,"AC29 N :58",null,null,1,0,{"$f":"IFERROR($E314*SUMIF('Daily Log'!$B$18:$B$1017,$B314,'Daily Log'!$C$18:$C$1017),0)","v":0},{"$f":"IFERROR($E314*SUMIF('Daily Log'!$E$18:$E$1017,$B314,'Daily Log'!$F$18:$F$1017),0)","v":0},{"$f":"IFERROR($E314*SUMIF('Daily Log'!$H$18:$H$1017,$B314,'Daily Log'!$I$18:$I$1017),0)","v":0},{"$f":"IFERROR($E314*SUMIF('Daily Log'!$K$18:$K$1017,$B314,'Daily Log'!$L$18:$L$1017),0)","v":0},{"$f":"IFERROR($E314*SUMIF('Daily Log'!$N$18:$N$1017,$B314,'Daily Log'!$O$18:$O$1017),0)","v":0},{"$f":"IFERROR($E314*SUMIF('Daily Log'!#REF!,$B314,'Daily Log'!#REF!),0)","v":0},{"$f":"IFERROR($E314*SUMIF('Daily Log'!#REF!,$B314,'Daily Log'!#REF!),0)","v":0},{"$f":"IFERROR($E314*SUMIF('Daily Log'!#REF!,$B314,'Daily Log'!#REF!),0)","v":0},{"$f":"IFERROR($E314*SUMIF('Daily Log'!#REF!,$B314,'Daily Log'!#REF!),0)","v":0},{"$f":"IFERROR($E314*SUMIF('Daily Log'!#REF!,$B314,'Daily Log'!#REF!),0)","v":0},{"$f":"IFERROR($E314*SUMIF('Daily Log'!#REF!,$B314,'Daily Log'!#REF!),0)","v":0},{"$f":"IFERROR($E314*SUMIF('Daily Log'!#REF!,$B314,'Daily Log'!#REF!),0)","v":0},{"$f":"IFERROR($E314*SUMIF('Daily Log'!#REF!,$B314,'Daily Log'!#REF!),0)","v":0},{"$f":"IFERROR($E314*SUMIF('Daily Log'!#REF!,$B314,'Daily Log'!#REF!),0)","v":0},{"$f":"IFERROR($E314*SUMIF('Daily Log'!#REF!,$B314,'Daily Log'!#REF!),0)","v":0},{"$f":"IFERROR($E314*SUMIF('Daily Log'!#REF!,$B314,'Daily Log'!#REF!),0)","v":0},{"$f":"IFERROR($E314*SUMIF('Daily Log'!#REF!,$B314,'Daily Log'!#REF!),0)","v":0},{"$f":"IFERROR($E314*SUMIF('Daily Log'!#REF!,$B314,'Daily Log'!#REF!),0)","v":0},{"$f":"IFERROR($E314*SUMIF('Daily Log'!#REF!,$B314,'Daily Log'!#REF!),0)","v":0},{"$f":"IFERROR($E314*SUMIF('Daily Log'!#REF!,$B314,'Daily Log'!#REF!),0)","v":0},{"$f":"IFERROR($E314*SUMIF('Daily Log'!#REF!,$B314,'Daily Log'!#REF!),0)","v":0},{"$f":"IFERROR($E314*SUMIF('Daily Log'!#REF!,$B314,'Daily Log'!#REF!),0)","v":0},{"$f":"IFERROR($E314*SUMIF('Daily Log'!#REF!,$B314,'Daily Log'!#REF!),0)","v":0},{"$f":"IFERROR($E314*SUMIF('Daily Log'!#REF!,$B314,'Daily Log'!#REF!),0)","v":0},{"$f":"IFERROR($E314*SUMIF('Daily Log'!#REF!,$B314,'Daily Log'!#REF!),0)","v":0},{"$f":"IFERROR($E314*SUMIF('Daily Log'!#REF!,$B314,'Daily Log'!#REF!),0)","v":0},{"$f":"IFERROR($E314*SUMIF('Daily Log'!#REF!,$B314,'Daily Log'!#REF!),0)","v":0},{"$f":"IFERROR($E314*SUMIF('Daily Log'!#REF!,$B314,'Daily Log'!#REF!),0)","v":0},{"$f":"IFERROR($E314*SUMIF('Daily Log'!#REF!,$B314,'Daily Log'!#REF!),0)","v":0},{"$f":"IFERROR($E314*SUMIF('Daily Log'!#REF!,$B314,'Daily Log'!#REF!),0)","v":0},{"$f":"IFERROR($E314*SUMIF('Daily Log'!#REF!,$B314,'Daily Log'!#REF!),0)","v":0}]
[null,"AC33 N : XTD VIP ROOM",null,null,1,0,{"$f":"IFERROR($E315*SUMIF('Daily Log'!$B$18:$B$1017,$B315,'Daily Log'!$C$18:$C$1017),0)","v":0},{"$f":"IFERROR($E315*SUMIF('Daily Log'!$E$18:$E$1017,$B315,'Daily Log'!$F$18:$F$1017),0)","v":0},{"$f":"IFERROR($E315*SUMIF('Daily Log'!$H$18:$H$1017,$B315,'Daily Log'!$I$18:$I$1017),0)","v":0},{"$f":"IFERROR($E315*SUMIF('Daily Log'!$K$18:$K$1017,$B315,'Daily Log'!$L$18:$L$1017),0)","v":0},{"$f":"IFERROR($E315*SUMIF('Daily Log'!$N$18:$N$1017,$B315,'Daily Log'!$O$18:$O$1017),0)","v":0},{"$f":"IFERROR($E315*SUMIF('Daily Log'!#REF!,$B315,'Daily Log'!#REF!),0)","v":0},{"$f":"IFERROR($E315*SUMIF('Daily Log'!#REF!,$B315,'Daily Log'!#REF!),0)","v":0},{"$f":"IFERROR($E315*SUMIF('Daily Log'!#REF!,$B315,'Daily Log'!#REF!),0)","v":0},{"$f":"IFERROR($E315*SUMIF('Daily Log'!#REF!,$B315,'Daily Log'!#REF!),0)","v":0},{"$f":"IFERROR($E315*SUMIF('Daily Log'!#REF!,$B315,'Daily Log'!#REF!),0)","v":0},{"$f":"IFERROR($E315*SUMIF('Daily Log'!#REF!,$B315,'Daily Log'!#REF!),0)","v":0},{"$f":"IFERROR($E315*SUMIF('Daily Log'!#REF!,$B315,'Daily Log'!#REF!),0)","v":0},{"$f":"IFERROR($E315*SUMIF('Daily Log'!#REF!,$B315,'Daily Log'!#REF!),0)","v":0},{"$f":"IFERROR($E315*SUMIF('Daily Log'!#REF!,$B315,'Daily Log'!#REF!),0)","v":0},{"$f":"IFERROR($E315*SUMIF('Daily Log'!#REF!,$B315,'Daily Log'!#REF!),0)","v":0},{"$f":"IFERROR($E315*SUMIF('Daily Log'!#REF!,$B315,'Daily Log'!#REF!),0)","v":0},{"$f":"IFERROR($E315*SUMIF('Daily Log'!#REF!,$B315,'Daily Log'!#REF!),0)","v":0},{"$f":"IFERROR($E315*SUMIF('Daily Log'!#REF!,$B315,'Daily Log'!#REF!),0)","v":0},{"$f":"IFERROR($E315*SUMIF('Daily Log'!#REF!,$B315,'Daily Log'!#REF!),0)","v":0},{"$f":"IFERROR($E315*SUMIF('Daily Log'!#REF!,$B315,'Daily Log'!#REF!),0)","v":0},{"$f":"IFERROR($E315*SUMIF('Daily Log'!#REF!,$B315,'Daily Log'!#REF!),0)","v":0},{"$f":"IFERROR($E315*SUMIF('Daily Log'!#REF!,$B315,'Daily Log'!#REF!),0)","v":0},{"$f":"IFERROR($E315*SUMIF('Daily Log'!#REF!,$B315,'Daily Log'!#REF!),0)","v":0},{"$f":"IFERROR($E315*SUMIF('Daily Log'!#REF!,$B315,'Daily Log'!#REF!),0)","v":0},{"$f":"IFERROR($E315*SUMIF('Daily Log'!#REF!,$B315,'Daily Log'!#REF!),0)","v":0},{"$f":"IFERROR($E315*SUMIF('Daily Log'!#REF!,$B315,'Daily Log'!#REF!),0)","v":0},{"$f":"IFERROR($E315*SUMIF('Daily Log'!#REF!,$B315,'Daily Log'!#REF!),0)","v":0},{"$f":"IFERROR($E315*SUMIF('Daily Log'!#REF!,$B315,'Daily Log'!#REF!),0)","v":0},{"$f":"IFERROR($E315*SUMIF('Daily Log'!#REF!,$B315,'Daily Log'!#REF!),0)","v":0},{"$f":"IFERROR($E315*SUMIF('Daily Log'!#REF!,$B315,'Daily Log'!#REF!),0)","v":0},{"$f":"IFERROR($E315*SUMIF('Daily Log'!#REF!,$B315,'Daily Log'!#REF!),0)","v":0}]
[null,"AD01 M : REGULAR",null,null,1,69,{"$f":"IFERROR($E316*SUMIF('Daily Log'!$B$18:$B$1017,$B316,'Daily Log'!$C$18:$C$1017),0)","v":11},{"$f":"IFERROR($E316*SUMIF('Daily Log'!$E$18:$E$1017,$B316,'Daily Log'!$F$18:$F$1017),0)","v":11},{"$f":"IFERROR($E316*SUMIF('Daily Log'!$H$18:$H$1017,$B316,'Daily Log'!$I$18:$I$1017),0)","v":15},{"$f":"IFERROR($E316*SUMIF('Daily Log'!$K$18:$K$1017,$B316,'Daily Log'!$L$18:$L$1017),0)","v":31},{"$f":"IFERROR($E316*SUMIF('Daily Log'!$N$18:$N$1017,$B316,'Daily Log'!$O$18:$O$1017),0)","v":1},{"$f":"IFERROR($E316*SUMIF('Daily Log'!#REF!,$B316,'Daily Log'!#REF!),0)","v":0},{"$f":"IFERROR($E316*SUMIF('Daily Log'!#REF!,$B316,'Daily Log'!#REF!),0)","v":0},{"$f":"IFERROR($E316*SUMIF('Daily Log'!#REF!,$B316,'Daily Log'!#REF!),0)","v":0},{"$f":"IFERROR($E316*SUMIF('Daily Log'!#REF!,$B316,'Daily Log'!#REF!),0)","v":0},{"$f":"IFERROR($E316*SUMIF('Daily Log'!#REF!,$B316,'Daily Log'!#REF!),0)","v":0},{"$f":"IFERROR($E316*SUMIF('Daily Log'!#REF!,$B316,'Daily Log'!#REF!),0)","v":0},{"$f":"IFERROR($E316*SUMIF('Daily Log'!#REF!,$B316,'Daily Log'!#REF!),0)","v":0},{"$f":"IFERROR($E316*SUMIF('Daily Log'!#REF!,$B316,'Daily Log'!#REF!),0)","v":0},{"$f":"IFERROR($E316*SUMIF('Daily Log'!#REF!,$B316,'Daily Log'!#REF!),0)","v":0},{"$f":"IFERROR($E316*SUMIF('Daily Log'!#REF!,$B316,'Daily Log'!#REF!),0)","v":0},{"$f":"IFERROR($E316*SUMIF('Daily Log'!#REF!,$B316,'Daily Log'!#REF!),0)","v":0},{"$f":"IFERROR($E316*SUMIF('Daily Log'!#REF!,$B316,'Daily Log'!#REF!),0)","v":0},{"$f":"IFERROR($E316*SUMIF('Daily Log'!#REF!,$B316,'Daily Log'!#REF!),0)","v":0},{"$f":"IFERROR($E316*SUMIF('Daily Log'!#REF!,$B316,'Daily Log'!#REF!),0)","v":0},{"$f":"IFERROR($E316*SUMIF('Daily Log'!#REF!,$B316,'Daily Log'!#REF!),0)","v":0},{"$f":"IFERROR($E316*SUMIF('Daily Log'!#REF!,$B316,'Daily Log'!#REF!),0)","v":0},{"$f":"IFERROR($E316*SUMIF('Daily Log'!#REF!,$B316,'Daily Log'!#REF!),0)","v":0},{"$f":"IFERROR($E316*SUMIF('Daily Log'!#REF!,$B316,'Daily Log'!#REF!),0)","v":0},{"$f":"IFERROR($E316*SUMIF('Daily Log'!#REF!,$B316,'Daily Log'!#REF!),0)","v":0},{"$f":"IFERROR($E316*SUMIF('Daily Log'!#REF!,$B316,'Daily Log'!#REF!),0)","v":0},{"$f":"IFERROR($E316*SUMIF('Daily Log'!#REF!,$B316,'Daily Log'!#REF!),0)","v":0},{"$f":"IFERROR($E316*SUMIF('Daily Log'!#REF!,$B316,'Daily Log'!#REF!),0)","v":0},{"$f":"IFERROR($E316*SUMIF('Daily Log'!#REF!,$B316,'Daily Log'!#REF!),0)","v":0},{"$f":"IFERROR($E316*SUMIF('Daily Log'!#REF!,$B316,'Daily Log'!#REF!),0)","v":0},{"$f":"IFERROR($E316*SUMIF('Daily Log'!#REF!,$B316,'Daily Log'!#REF!),0)","v":0},{"$f":"IFERROR($E316*SUMIF('Daily Log'!#REF!,$B316,'Daily Log'!#REF!),0)","v":0}]
[null,"AD02 M : MEMBER",null,null,1,30,{"$f":"IFERROR($E317*SUMIF('Daily Log'!$B$18:$B$1017,$B317,'Daily Log'!$C$18:$C$1017),0)","v":0},{"$f":"IFERROR($E317*SUMIF('Daily Log'!$E$18:$E$1017,$B317,'Daily Log'!$F$18:$F$1017),0)","v":0},{"$f":"IFERROR($E317*SUMIF('Daily Log'!$H$18:$H$1017,$B317,'Daily Log'!$I$18:$I$1017),0)","v":0},{"$f":"IFERROR($E317*SUMIF('Daily Log'!$K$18:$K$1017,$B317,'Daily Log'!$L$18:$L$1017),0)","v":28},{"$f":"IFERROR($E317*SUMIF('Daily Log'!$N$18:$N$1017,$B317,'Daily Log'!$O$18:$O$1017),0)","v":2},{"$f":"IFERROR($E317*SUMIF('Daily Log'!#REF!,$B317,'Daily Log'!#REF!),0)","v":0},{"$f":"IFERROR($E317*SUMIF('Daily Log'!#REF!,$B317,'Daily Log'!#REF!),0)","v":0},{"$f":"IFERROR($E317*SUMIF('Daily Log'!#REF!,$B317,'Daily Log'!#REF!),0)","v":0},{"$f":"IFERROR($E317*SUMIF('Daily Log'!#REF!,$B317,'Daily Log'!#REF!),0)","v":0},{"$f":"IFERROR($E317*SUMIF('Daily Log'!#REF!,$B317,'Daily Log'!#REF!),0)","v":0},{"$f":"IFERROR($E317*SUMIF('Daily Log'!#REF!,$B317,'Daily Log'!#REF!),0)","v":0},{"$f":"IFERROR($E317*SUMIF('Daily Log'!#REF!,$B317,'Daily Log'!#REF!),0)","v":0},{"$f":"IFERROR($E317*SUMIF('Daily Log'!#REF!,$B317,'Daily Log'!#REF!),0)","v":0},{"$f":"IFERROR($E317*SUMIF('Daily Log'!#REF!,$B317,'Daily Log'!#REF!),0)","v":0},{"$f":"IFERROR($E317*SUMIF('Daily Log'!#REF!,$B317,'Daily Log'!#REF!),0)","v":0},{"$f":"IFERROR($E317*SUMIF('Daily Log'!#REF!,$B317,'Daily Log'!#REF!),0)","v":0},{"$f":"IFERROR($E317*SUMIF('Daily Log'!#REF!,$B317,'Daily Log'!#REF!),0)","v":0},{"$f":"IFERROR($E317*SUMIF('Daily Log'!#REF!,$B317,'Daily Log'!#REF!),0)","v":0},{"$f":"IFERROR($E317*SUMIF('Daily Log'!#REF!,$B317,'Daily Log'!#REF!),0)","v":0},{"$f":"IFERROR($E317*SUMIF('Daily Log'!#REF!,$B317,'Daily Log'!#REF!),0)","v":0},{"$f":"IFERROR($E317*SUMIF('Daily Log'!#REF!,$B317,'Daily Log'!#REF!),0)","v":0},{"$f":"IFERROR($E317*SUMIF('Daily Log'!#REF!,$B317,'Daily Log'!#REF!),0)","v":0},{"$f":"IFERROR($E317*SUMIF('Daily Log'!#REF!,$B317,'Daily Log'!#REF!),0)","v":0},{"$f":"IFERROR($E317*SUMIF('Daily Log'!#REF!,$B317,'Daily Log'!#REF!),0)","v":0},{"$f":"IFERROR($E317*SUMIF('Daily Log'!#REF!,$B317,'Daily Log'!#REF!),0)","v":0},{"$f":"IFERROR($E317*SUMIF('Daily Log'!#REF!,$B317,'Daily Log'!#REF!),0)","v":0},{"$f":"IFERROR($E317*SUMIF('Daily Log'!#REF!,$B317,'Daily Log'!#REF!),0)","v":0},{"$f":"IFERROR($E317*SUMIF('Daily Log'!#REF!,$B317,'Daily Log'!#REF!),0)","v":0},{"$f":"IFERROR($E317*SUMIF('Daily Log'!#REF!,$B317,'Daily Log'!#REF!),0)","v":0},{"$f":"IFERROR($E317*SUMIF('Daily Log'!#REF!,$B317,'Daily Log'!#REF!),0)","v":0},{"$f":"IFERROR($E317*SUMIF('Daily Log'!#REF!,$B317,'Daily Log'!#REF!),0)","v":0}]
[null,"AD03 M : MEMBER 30%",null,null,1,0,{"$f":"IFERROR($E318*SUMIF('Daily Log'!$B$18:$B$1017,$B318,'Daily Log'!$C$18:$C$1017),0)","v":0},{"$f":"IFERROR($E318*SUMIF('Daily Log'!$E$18:$E$1017,$B318,'Daily Log'!$F$18:$F$1017),0)","v":0},{"$f":"IFERROR($E318*SUMIF('Daily Log'!$H$18:$H$1017,$B318,'Daily Log'!$I$18:$I$1017),0)","v":0},{"$f":"IFERROR($E318*SUMIF('Daily Log'!$K$18:$K$1017,$B318,'Daily Log'!$L$18:$L$1017),0)","v":0},{"$f":"IFERROR($E318*SUMIF('Daily Log'!$N$18:$N$1017,$B318,'Daily Log'!$O$18:$O$1017),0)","v":0},{"$f":"IFERROR($E318*SUMIF('Daily Log'!#REF!,$B318,'Daily Log'!#REF!),0)","v":0},{"$f":"IFERROR($E318*SUMIF('Daily Log'!#REF!,$B318,'Daily Log'!#REF!),0)","v":0},{"$f":"IFERROR($E318*SUMIF('Daily Log'!#REF!,$B318,'Daily Log'!#REF!),0)","v":0},{"$f":"IFERROR($E318*SUMIF('Daily Log'!#REF!,$B318,'Daily Log'!#REF!),0)","v":0},{"$f":"IFERROR($E318*SUMIF('Daily Log'!#REF!,$B318,'Daily Log'!#REF!),0)","v":0},{"$f":"IFERROR($E318*SUMIF('Daily Log'!#REF!,$B318,'Daily Log'!#REF!),0)","v":0},{"$f":"IFERROR($E318*SUMIF('Daily Log'!#REF!,$B318,'Daily Log'!#REF!),0)","v":0},{"$f":"IFERROR($E318*SUMIF('Daily Log'!#REF!,$B318,'Daily Log'!#REF!),0)","v":0},{"$f":"IFERROR($E318*SUMIF('Daily Log'!#REF!,$B318,'Daily Log'!#REF!),0)","v":0},{"$f":"IFERROR($E318*SUMIF('Daily Log'!#REF!,$B318,'Daily Log'!#REF!),0)","v":0},{"$f":"IFERROR($E318*SUMIF('Daily Log'!#REF!,$B318,'Daily Log'!#REF!),0)","v":0},{"$f":"IFERROR($E318*SUMIF('Daily Log'!#REF!,$B318,'Daily Log'!#REF!),0)","v":0},{"$f":"IFERROR($E318*SUMIF('Daily Log'!#REF!,$B318,'Daily Log'!#REF!),0)","v":0},{"$f":"IFERROR($E318*SUMIF('Daily Log'!#REF!,$B318,'Daily Log'!#REF!),0)","v":0},{"$f":"IFERROR($E318*SUMIF('Daily Log'!#REF!,$B318,'Daily Log'!#REF!),0)","v":0},{"$f":"IFERROR($E318*SUMIF('Daily Log'!#REF!,$B318,'Daily Log'!#REF!),0)","v":0},{"$f":"IFERROR($E318*SUMIF('Daily Log'!#REF!,$B318,'Daily Log'!#REF!),0)","v":0},{"$f":"IFERROR($E318*SUMIF('Daily Log'!#REF!,$B318,'Daily Log'!#REF!),0)","v":0},{"$f":"IFERROR($E318*SUMIF('Daily Log'!#REF!,$B318,'Daily Log'!#REF!),0)","v":0},{"$f":"IFERROR($E318*SUMIF('Daily Log'!#REF!,$B318,'Daily Log'!#REF!),0)","v":0},{"$f":"IFERROR($E318*SUMIF('Daily Log'!#REF!,$B318,'Daily Log'!#REF!),0)","v":0},{"$f":"IFERROR($E318*SUMIF('Daily Log'!#REF!,$B318,'Daily Log'!#REF!),0)","v":0},{"$f":"IFERROR($E318*SUMIF('Daily Log'!#REF!,$B318,'Daily Log'!#REF!),0)","v":0},{"$f":"IFERROR($E318*SUMIF('Daily Log'!#REF!,$B318,'Daily Log'!#REF!),0)","v":0},{"$f":"IFERROR($E318*SUMIF('Daily Log'!#REF!,$B318,'Daily Log'!#REF!),0)","v":0},{"$f":"IFERROR($E318*SUMIF('Daily Log'!#REF!,$B318,'Daily Log'!#REF!),0)","v":0}]
[null,"AD05 M : LADIES",null,null,1,26,{"$f":"IFERROR($E319*SUMIF('Daily Log'!$B$18:$B$1017,$B319,'Daily Log'!$C$18:$C$1017),0)","v":9},{"$f":"IFERROR($E319*SUMIF('Daily Log'!$E$18:$E$1017,$B319,'Daily Log'!$F$18:$F$1017),0)","v":16},{"$f":"IFERROR($E319*SUMIF('Daily Log'!$H$18:$H$1017,$B319,'Daily Log'!$I$18:$I$1017),0)","v":0},{"$f":"IFERROR($E319*SUMIF('Daily Log'!$K$18:$K$1017,$B319,'Daily Log'!$L$18:$L$1017),0)","v":0},{"$f":"IFERROR($E319*SUMIF('Daily Log'!$N$18:$N$1017,$B319,'Daily Log'!$O$18:$O$1017),0)","v":1},{"$f":"IFERROR($E319*SUMIF('Daily Log'!#REF!,$B319,'Daily Log'!#REF!),0)","v":0},{"$f":"IFERROR($E319*SUMIF('Daily Log'!#REF!,$B319,'Daily Log'!#REF!),0)","v":0},{"$f":"IFERROR($E319*SUMIF('Daily Log'!#REF!,$B319,'Daily Log'!#REF!),0)","v":0},{"$f":"IFERROR($E319*SUMIF('Daily Log'!#REF!,$B319,'Daily Log'!#REF!),0)","v":0},{"$f":"IFERROR($E319*SUMIF('Daily Log'!#REF!,$B319,'Daily Log'!#REF!),0)","v":0},{"$f":"IFERROR($E319*SUMIF('Daily Log'!#REF!,$B319,'Daily Log'!#REF!),0)","v":0},{"$f":"IFERROR($E319*SUMIF('Daily Log'!#REF!,$B319,'Daily Log'!#REF!),0)","v":0},{"$f":"IFERROR($E319*SUMIF('Daily Log'!#REF!,$B319,'Daily Log'!#REF!),0)","v":0},{"$f":"IFERROR($E319*SUMIF('Daily Log'!#REF!,$B319,'Daily Log'!#REF!),0)","v":0},{"$f":"IFERROR($E319*SUMIF('Daily Log'!#REF!,$B319,'Daily Log'!#REF!),0)","v":0},{"$f":"IFERROR($E319*SUMIF('Daily Log'!#REF!,$B319,'Daily Log'!#REF!),0)","v":0},{"$f":"IFERROR($E319*SUMIF('Daily Log'!#REF!,$B319,'Daily Log'!#REF!),0)","v":0},{"$f":"IFERROR($E319*SUMIF('Daily Log'!#REF!,$B319,'Daily Log'!#REF!),0)","v":0},{"$f":"IFERROR($E319*SUMIF('Daily Log'!#REF!,$B319,'Daily Log'!#REF!),0)","v":0},{"$f":"IFERROR($E319*SUMIF('Daily Log'!#REF!,$B319,'Daily Log'!#REF!),0)","v":0},{"$f":"IFERROR($E319*SUMIF('Daily Log'!#REF!,$B319,'Daily Log'!#REF!),0)","v":0},{"$f":"IFERROR($E319*SUMIF('Daily Log'!#REF!,$B319,'Daily Log'!#REF!),0)","v":0},{"$f":"IFERROR($E319*SUMIF('Daily Log'!#REF!,$B319,'Daily Log'!#REF!),0)","v":0},{"$f":"IFERROR($E319*SUMIF('Daily Log'!#REF!,$B319,'Daily Log'!#REF!),0)","v":0},{"$f":"IFERROR($E319*SUMIF('Daily Log'!#REF!,$B319,'Daily Log'!#REF!),0)","v":0},{"$f":"IFERROR($E319*SUMIF('Daily Log'!#REF!,$B319,'Daily Log'!#REF!),0)","v":0},{"$f":"IFERROR($E319*SUMIF('Daily Log'!#REF!,$B319,'Daily Log'!#REF!),0)","v":0},{"$f":"IFERROR($E319*SUMIF('Daily Log'!#REF!,$B319,'Daily Log'!#REF!),0)","v":0},{"$f":"IFERROR($E319*SUMIF('Daily Log'!#REF!,$B319,'Daily Log'!#REF!),0)","v":0},{"$f":"IFERROR($E319*SUMIF('Daily Log'!#REF!,$B319,'Daily Log'!#REF!),0)","v":0},{"$f":"IFERROR($E319*SUMIF('Daily Log'!#REF!,$B319,'Daily Log'!#REF!),0)","v":0}]
[null,"AD06 M : CHILDREN",null,null,1,0,{"$f":"IFERROR($E320*SUMIF('Daily Log'!$B$18:$B$1017,$B320,'Daily Log'!$C$18:$C$1017),0)","v":0},{"$f":"IFERROR($E320*SUMIF('Daily Log'!$E$18:$E$1017,$B320,'Daily Log'!$F$18:$F$1017),0)","v":0},{"$f":"IFERROR($E320*SUMIF('Daily Log'!$H$18:$H$1017,$B320,'Daily Log'!$I$18:$I$1017),0)","v":0},{"$f":"IFERROR($E320*SUMIF('Daily Log'!$K$18:$K$1017,$B320,'Daily Log'!$L$18:$L$1017),0)","v":0},{"$f":"IFERROR($E320*SUMIF('Daily Log'!$N$18:$N$1017,$B320,'Daily Log'!$O$18:$O$1017),0)","v":0},{"$f":"IFERROR($E320*SUMIF('Daily Log'!#REF!,$B320,'Daily Log'!#REF!),0)","v":0},{"$f":"IFERROR($E320*SUMIF('Daily Log'!#REF!,$B320,'Daily Log'!#REF!),0)","v":0},{"$f":"IFERROR($E320*SUMIF('Daily Log'!#REF!,$B320,'Daily Log'!#REF!),0)","v":0},{"$f":"IFERROR($E320*SUMIF('Daily Log'!#REF!,$B320,'Daily Log'!#REF!),0)","v":0},{"$f":"IFERROR($E320*SUMIF('Daily Log'!#REF!,$B320,'Daily Log'!#REF!),0)","v":0},{"$f":"IFERROR($E320*SUMIF('Daily Log'!#REF!,$B320,'Daily Log'!#REF!),0)","v":0},{"$f":"IFERROR($E320*SUMIF('Daily Log'!#REF!,$B320,'Daily Log'!#REF!),0)","v":0},{"$f":"IFERROR($E320*SUMIF('Daily Log'!#REF!,$B320,'Daily Log'!#REF!),0)","v":0},{"$f":"IFERROR($E320*SUMIF('Daily Log'!#REF!,$B320,'Daily Log'!#REF!),0)","v":0},{"$f":"IFERROR($E320*SUMIF('Daily Log'!#REF!,$B320,'Daily Log'!#REF!),0)","v":0},{"$f":"IFERROR($E320*SUMIF('Daily Log'!#REF!,$B320,'Daily Log'!#REF!),0)","v":0},{"$f":"IFERROR($E320*SUMIF('Daily Log'!#REF!,$B320,'Daily Log'!#REF!),0)","v":0},{"$f":"IFERROR($E320*SUMIF('Daily Log'!#REF!,$B320,'Daily Log'!#REF!),0)","v":0},{"$f":"IFERROR($E320*SUMIF('Daily Log'!#REF!,$B320,'Daily Log'!#REF!),0)","v":0},{"$f":"IFERROR($E320*SUMIF('Daily Log'!#REF!,$B320,'Daily Log'!#REF!),0)","v":0},{"$f":"IFERROR($E320*SUMIF('Daily Log'!#REF!,$B320,'Daily Log'!#REF!),0)","v":0},{"$f":"IFERROR($E320*SUMIF('Daily Log'!#REF!,$B320,'Daily Log'!#REF!),0)","v":0},{"$f":"IFERROR($E320*SUMIF('Daily Log'!#REF!,$B320,'Daily Log'!#REF!),0)","v":0},{"$f":"IFERROR($E320*SUMIF('Daily Log'!#REF!,$B320,'Daily Log'!#REF!),0)","v":0},{"$f":"IFERROR($E320*SUMIF('Daily Log'!#REF!,$B320,'Daily Log'!#REF!),0)","v":0},{"$f":"IFERROR($E320*SUMIF('Daily Log'!#REF!,$B320,'Daily Log'!#REF!),0)","v":0},{"$f":"IFERROR($E320*SUMIF('Daily Log'!#REF!,$B320,'Daily Log'!#REF!),0)","v":0},{"$f":"IFERROR($E320*SUMIF('Daily Log'!#REF!,$B320,'Daily Log'!#REF!),0)","v":0},{"$f":"IFERROR($E320*SUMIF('Daily Log'!#REF!,$B320,'Daily Log'!#REF!),0)","v":0},{"$f":"IFERROR($E320*SUMIF('Daily Log'!#REF!,$B320,'Daily Log'!#REF!),0)","v":0},{"$f":"IFERROR($E320*SUMIF('Daily Log'!#REF!,$B320,'Daily Log'!#REF!),0)","v":0}]
[null,"AD07 M : MEMBER B'DAY",null,null,1,2,{"$f":"IFERROR($E321*SUMIF('Daily Log'!$B$18:$B$1017,$B321,'Daily Log'!$C$18:$C$1017),0)","v":0},{"$f":"IFERROR($E321*SUMIF('Daily Log'!$E$18:$E$1017,$B321,'Daily Log'!$F$18:$F$1017),0)","v":2},{"$f":"IFERROR($E321*SUMIF('Daily Log'!$H$18:$H$1017,$B321,'Daily Log'!$I$18:$I$1017),0)","v":0},{"$f":"IFERROR($E321*SUMIF('Daily Log'!$K$18:$K$1017,$B321,'Daily Log'!$L$18:$L$1017),0)","v":0},{"$f":"IFERROR($E321*SUMIF('Daily Log'!$N$18:$N$1017,$B321,'Daily Log'!$O$18:$O$1017),0)","v":0},{"$f":"IFERROR($E321*SUMIF('Daily Log'!#REF!,$B321,'Daily Log'!#REF!),0)","v":0},{"$f":"IFERROR($E321*SUMIF('Daily Log'!#REF!,$B321,'Daily Log'!#REF!),0)","v":0},{"$f":"IFERROR($E321*SUMIF('Daily Log'!#REF!,$B321,'Daily Log'!#REF!),0)","v":0},{"$f":"IFERROR($E321*SUMIF('Daily Log'!#REF!,$B321,'Daily Log'!#REF!),0)","v":0},{"$f":"IFERROR($E321*SUMIF('Daily Log'!#REF!,$B321,'Daily Log'!#REF!),0)","v":0},{"$f":"IFERROR($E321*SUMIF('Daily Log'!#REF!,$B321,'Daily Log'!#REF!),0)","v":0},{"$f":"IFERROR($E321*SUMIF('Daily Log'!#REF!,$B321,'Daily Log'!#REF!),0)","v":0},{"$f":"IFERROR($E321*SUMIF('Daily Log'!#REF!,$B321,'Daily Log'!#REF!),0)","v":0},{"$f":"IFERROR($E321*SUMIF('Daily Log'!#REF!,$B321,'Daily Log'!#REF!),0)","v":0},{"$f":"IFERROR($E321*SUMIF('Daily Log'!#REF!,$B321,'Daily Log'!#REF!),0)","v":0},{"$f":"IFERROR($E321*SUMIF('Daily Log'!#REF!,$B321,'Daily Log'!#REF!),0)","v":0},{"$f":"IFERROR($E321*SUMIF('Daily Log'!#REF!,$B321,'Daily Log'!#REF!),0)","v":0},{"$f":"IFERROR($E321*SUMIF('Daily Log'!#REF!,$B321,'Daily Log'!#REF!),0)","v":0},{"$f":"IFERROR($E321*SUMIF('Daily Log'!#REF!,$B321,'Daily Log'!#REF!),0)","v":0},{"$f":"IFERROR($E321*SUMIF('Daily Log'!#REF!,$B321,'Daily Log'!#REF!),0)","v":0},{"$f":"IFERROR($E321*SUMIF('Daily Log'!#REF!,$B321,'Daily Log'!#REF!),0)","v":0},{"$f":"IFERROR($E321*SUMIF('Daily Log'!#REF!,$B321,'Daily Log'!#REF!),0)","v":0},{"$f":"IFERROR($E321*SUMIF('Daily Log'!#REF!,$B321,'Daily Log'!#REF!),0)","v":0},{"$f":"IFERROR($E321*SUMIF('Daily Log'!#REF!,$B321,'Daily Log'!#REF!),0)","v":0},{"$f":"IFERROR($E321*SUMIF('Daily Log'!#REF!,$B321,'Daily Log'!#REF!),0)","v":0},{"$f":"IFERROR($E321*SUMIF('Daily Log'!#REF!,$B321,'Daily Log'!#REF!),0)","v":0},{"$f":"IFERROR($E321*SUMIF('Daily Log'!#REF!,$B321,'Daily Log'!#REF!),0)","v":0},{"$f":"IFERROR($E321*SUMIF('Daily Log'!#REF!,$B321,'Daily Log'!#REF!),0)","v":0},{"$f":"IFERROR($E321*SUMIF('Daily Log'!#REF!,$B321,'Daily Log'!#REF!),0)","v":0},{"$f":"IFERROR($E321*SUMIF('Daily Log'!#REF!,$B321,'Daily Log'!#REF!),0)","v":0},{"$f":"IFERROR($E321*SUMIF('Daily Log'!#REF!,$B321,'Daily Log'!#REF!),0)","v":0}]
[null,"AD11 M : FREEHEAD (R)",null,null,1,3,{"$f":"IFERROR($E322*SUMIF('Daily Log'!$B$18:$B$1017,$B322,'Daily Log'!$C$18:$C$1017),0)","v":1},{"$f":"IFERROR($E322*SUMIF('Daily Log'!$E$18:$E$1017,$B322,'Daily Log'!$F$18:$F$1017),0)","v":1},{"$f":"IFERROR($E322*SUMIF('Daily Log'!$H$18:$H$1017,$B322,'Daily Log'!$I$18:$I$1017),0)","v":0},{"$f":"IFERROR($E322*SUMIF('Daily Log'!$K$18:$K$1017,$B322,'Daily Log'!$L$18:$L$1017),0)","v":1},{"$f":"IFERROR($E322*SUMIF('Daily Log'!$N$18:$N$1017,$B322,'Daily Log'!$O$18:$O$1017),0)","v":0},{"$f":"IFERROR($E322*SUMIF('Daily Log'!#REF!,$B322,'Daily Log'!#REF!),0)","v":0},{"$f":"IFERROR($E322*SUMIF('Daily Log'!#REF!,$B322,'Daily Log'!#REF!),0)","v":0},{"$f":"IFERROR($E322*SUMIF('Daily Log'!#REF!,$B322,'Daily Log'!#REF!),0)","v":0},{"$f":"IFERROR($E322*SUMIF('Daily Log'!#REF!,$B322,'Daily Log'!#REF!),0)","v":0},{"$f":"IFERROR($E322*SUMIF('Daily Log'!#REF!,$B322,'Daily Log'!#REF!),0)","v":0},{"$f":"IFERROR($E322*SUMIF('Daily Log'!#REF!,$B322,'Daily Log'!#REF!),0)","v":0},{"$f":"IFERROR($E322*SUMIF('Daily Log'!#REF!,$B322,'Daily Log'!#REF!),0)","v":0},{"$f":"IFERROR($E322*SUMIF('Daily Log'!#REF!,$B322,'Daily Log'!#REF!),0)","v":0},{"$f":"IFERROR($E322*SUMIF('Daily Log'!#REF!,$B322,'Daily Log'!#REF!),0)","v":0},{"$f":"IFERROR($E322*SUMIF('Daily Log'!#REF!,$B322,'Daily Log'!#REF!),0)","v":0},{"$f":"IFERROR($E322*SUMIF('Daily Log'!#REF!,$B322,'Daily Log'!#REF!),0)","v":0},{"$f":"IFERROR($E322*SUMIF('Daily Log'!#REF!,$B322,'Daily Log'!#REF!),0)","v":0},{"$f":"IFERROR($E322*SUMIF('Daily Log'!#REF!,$B322,'Daily Log'!#REF!),0)","v":0},{"$f":"IFERROR($E322*SUMIF('Daily Log'!#REF!,$B322,'Daily Log'!#REF!),0)","v":0},{"$f":"IFERROR($E322*SUMIF('Daily Log'!#REF!,$B322,'Daily Log'!#REF!),0)","v":0},{"$f":"IFERROR($E322*SUMIF('Daily Log'!#REF!,$B322,'Daily Log'!#REF!),0)","v":0},{"$f":"IFERROR($E322*SUMIF('Daily Log'!#REF!,$B322,'Daily Log'!#REF!),0)","v":0},{"$f":"IFERROR($E322*SUMIF('Daily Log'!#REF!,$B322,'Daily Log'!#REF!),0)","v":0},{"$f":"IFERROR($E322*SUMIF('Daily Log'!#REF!,$B322,'Daily Log'!#REF!),0)","v":0},{"$f":"IFERROR($E322*SUMIF('Daily Log'!#REF!,$B322,'Daily Log'!#REF!),0)","v":0},{"$f":"IFERROR($E322*SUMIF('Daily Log'!#REF!,$B322,'Daily Log'!#REF!),0)","v":0},{"$f":"IFERROR($E322*SUMIF('Daily Log'!#REF!,$B322,'Daily Log'!#REF!),0)","v":0},{"$f":"IFERROR($E322*SUMIF('Daily Log'!#REF!,$B322,'Daily Log'!#REF!),0)","v":0},{"$f":"IFERROR($E322*SUMIF('Daily Log'!#REF!,$B322,'Daily Log'!#REF!),0)","v":0},{"$f":"IFERROR($E322*SUMIF('Daily Log'!#REF!,$B322,'Daily Log'!#REF!),0)","v":0},{"$f":"IFERROR($E322*SUMIF('Daily Log'!#REF!,$B322,'Daily Log'!#REF!),0)","v":0}]
[null,"AD15 M : XTD S ROOM",null,null,1,0,{"$f":"IFERROR($E323*SUMIF('Daily Log'!$B$18:$B$1017,$B323,'Daily Log'!$C$18:$C$1017),0)","v":0},{"$f":"IFERROR($E323*SUMIF('Daily Log'!$E$18:$E$1017,$B323,'Daily Log'!$F$18:$F$1017),0)","v":0},{"$f":"IFERROR($E323*SUMIF('Daily Log'!$H$18:$H$1017,$B323,'Daily Log'!$I$18:$I$1017),0)","v":0},{"$f":"IFERROR($E323*SUMIF('Daily Log'!$K$18:$K$1017,$B323,'Daily Log'!$L$18:$L$1017),0)","v":0},{"$f":"IFERROR($E323*SUMIF('Daily Log'!$N$18:$N$1017,$B323,'Daily Log'!$O$18:$O$1017),0)","v":0},{"$f":"IFERROR($E323*SUMIF('Daily Log'!#REF!,$B323,'Daily Log'!#REF!),0)","v":0},{"$f":"IFERROR($E323*SUMIF('Daily Log'!#REF!,$B323,'Daily Log'!#REF!),0)","v":0},{"$f":"IFERROR($E323*SUMIF('Daily Log'!#REF!,$B323,'Daily Log'!#REF!),0)","v":0},{"$f":"IFERROR($E323*SUMIF('Daily Log'!#REF!,$B323,'Daily Log'!#REF!),0)","v":0},{"$f":"IFERROR($E323*SUMIF('Daily Log'!#REF!,$B323,'Daily Log'!#REF!),0)","v":0},{"$f":"IFERROR($E323*SUMIF('Daily Log'!#REF!,$B323,'Daily Log'!#REF!),0)","v":0},{"$f":"IFERROR($E323*SUMIF('Daily Log'!#REF!,$B323,'Daily Log'!#REF!),0)","v":0},{"$f":"IFERROR($E323*SUMIF('Daily Log'!#REF!,$B323,'Daily Log'!#REF!),0)","v":0},{"$f":"IFERROR($E323*SUMIF('Daily Log'!#REF!,$B323,'Daily Log'!#REF!),0)","v":0},{"$f":"IFERROR($E323*SUMIF('Daily Log'!#REF!,$B323,'Daily Log'!#REF!),0)","v":0},{"$f":"IFERROR($E323*SUMIF('Daily Log'!#REF!,$B323,'Daily Log'!#REF!),0)","v":0},{"$f":"IFERROR($E323*SUMIF('Daily Log'!#REF!,$B323,'Daily Log'!#REF!),0)","v":0},{"$f":"IFERROR($E323*SUMIF('Daily Log'!#REF!,$B323,'Daily Log'!#REF!),0)","v":0},{"$f":"IFERROR($E323*SUMIF('Daily Log'!#REF!,$B323,'Daily Log'!#REF!),0)","v":0},{"$f":"IFERROR($E323*SUMIF('Daily Log'!#REF!,$B323,'Daily Log'!#REF!),0)","v":0},{"$f":"IFERROR($E323*SUMIF('Daily Log'!#REF!,$B323,'Daily Log'!#REF!),0)","v":0},{"$f":"IFERROR($E323*SUMIF('Daily Log'!#REF!,$B323,'Daily Log'!#REF!),0)","v":0},{"$f":"IFERROR($E323*SUMIF('Daily Log'!#REF!,$B323,'Daily Log'!#REF!),0)","v":0},{"$f":"IFERROR($E323*SUMIF('Daily Log'!#REF!,$B323,'Daily Log'!#REF!),0)","v":0},{"$f":"IFERROR($E323*SUMIF('Daily Log'!#REF!,$B323,'Daily Log'!#REF!),0)","v":0},{"$f":"IFERROR($E323*SUMIF('Daily Log'!#REF!,$B323,'Daily Log'!#REF!),0)","v":0},{"$f":"IFERROR($E323*SUMIF('Daily Log'!#REF!,$B323,'Daily Log'!#REF!),0)","v":0},{"$f":"IFERROR($E323*SUMIF('Daily Log'!#REF!,$B323,'Daily Log'!#REF!),0)","v":0},{"$f":"IFERROR($E323*SUMIF('Daily Log'!#REF!,$B323,'Daily Log'!#REF!),0)","v":0},{"$f":"IFERROR($E323*SUMIF('Daily Log'!#REF!,$B323,'Daily Log'!#REF!),0)","v":0},{"$f":"IFERROR($E323*SUMIF('Daily Log'!#REF!,$B323,'Daily Log'!#REF!),0)","v":0}]
[null,"AD16 M : XTD M ROOM",null,null,1,0,{"$f":"IFERROR($E324*SUMIF('Daily Log'!$B$18:$B$1017,$B324,'Daily Log'!$C$18:$C$1017),0)","v":0},{"$f":"IFERROR($E324*SUMIF('Daily Log'!$E$18:$E$1017,$B324,'Daily Log'!$F$18:$F$1017),0)","v":0},{"$f":"IFERROR($E324*SUMIF('Daily Log'!$H$18:$H$1017,$B324,'Daily Log'!$I$18:$I$1017),0)","v":0},{"$f":"IFERROR($E324*SUMIF('Daily Log'!$K$18:$K$1017,$B324,'Daily Log'!$L$18:$L$1017),0)","v":0},{"$f":"IFERROR($E324*SUMIF('Daily Log'!$N$18:$N$1017,$B324,'Daily Log'!$O$18:$O$1017),0)","v":0},{"$f":"IFERROR($E324*SUMIF('Daily Log'!#REF!,$B324,'Daily Log'!#REF!),0)","v":0},{"$f":"IFERROR($E324*SUMIF('Daily Log'!#REF!,$B324,'Daily Log'!#REF!),0)","v":0},{"$f":"IFERROR($E324*SUMIF('Daily Log'!#REF!,$B324,'Daily Log'!#REF!),0)","v":0},{"$f":"IFERROR($E324*SUMIF('Daily Log'!#REF!,$B324,'Daily Log'!#REF!),0)","v":0},{"$f":"IFERROR($E324*SUMIF('Daily Log'!#REF!,$B324,'Daily Log'!#REF!),0)","v":0},{"$f":"IFERROR($E324*SUMIF('Daily Log'!#REF!,$B324,'Daily Log'!#REF!),0)","v":0},{"$f":"IFERROR($E324*SUMIF('Daily Log'!#REF!,$B324,'Daily Log'!#REF!),0)","v":0},{"$f":"IFERROR($E324*SUMIF('Daily Log'!#REF!,$B324,'Daily Log'!#REF!),0)","v":0},{"$f":"IFERROR($E324*SUMIF('Daily Log'!#REF!,$B324,'Daily Log'!#REF!),0)","v":0},{"$f":"IFERROR($E324*SUMIF('Daily Log'!#REF!,$B324,'Daily Log'!#REF!),0)","v":0},{"$f":"IFERROR($E324*SUMIF('Daily Log'!#REF!,$B324,'Daily Log'!#REF!),0)","v":0},{"$f":"IFERROR($E324*SUMIF('Daily Log'!#REF!,$B324,'Daily Log'!#REF!),0)","v":0},{"$f":"IFERROR($E324*SUMIF('Daily Log'!#REF!,$B324,'Daily Log'!#REF!),0)","v":0},{"$f":"IFERROR($E324*SUMIF('Daily Log'!#REF!,$B324,'Daily Log'!#REF!),0)","v":0},{"$f":"IFERROR($E324*SUMIF('Daily Log'!#REF!,$B324,'Daily Log'!#REF!),0)","v":0},{"$f":"IFERROR($E324*SUMIF('Daily Log'!#REF!,$B324,'Daily Log'!#REF!),0)","v":0},{"$f":"IFERROR($E324*SUMIF('Daily Log'!#REF!,$B324,'Daily Log'!#REF!),0)","v":0},{"$f":"IFERROR($E324*SUMIF('Daily Log'!#REF!,$B324,'Daily Log'!#REF!),0)","v":0},{"$f":"IFERROR($E324*SUMIF('Daily Log'!#REF!,$B324,'Daily Log'!#REF!),0)","v":0},{"$f":"IFERROR($E324*SUMIF('Daily Log'!#REF!,$B324,'Daily Log'!#REF!),0)","v":0},{"$f":"IFERROR($E324*SUMIF('Daily Log'!#REF!,$B324,'Daily Log'!#REF!),0)","v":0},{"$f":"IFERROR($E324*SUMIF('Daily Log'!#REF!,$B324,'Daily Log'!#REF!),0)","v":0},{"$f":"IFERROR($E324*SUMIF('Daily Log'!#REF!,$B324,'Daily Log'!#REF!),0)","v":0},{"$f":"IFERROR($E324*SUMIF('Daily Log'!#REF!,$B324,'Daily Log'!#REF!),0)","v":0},{"$f":"IFERROR($E324*SUMIF('Daily Log'!#REF!,$B324,'Daily Log'!#REF!),0)","v":0},{"$f":"IFERROR($E324*SUMIF('Daily Log'!#REF!,$B324,'Daily Log'!#REF!),0)","v":0}]
[null,"AD17 M : XTD B ROOM",null,null,1,0,{"$f":"IFERROR($E325*SUMIF('Daily Log'!$B$18:$B$1017,$B325,'Daily Log'!$C$18:$C$1017),0)","v":0},{"$f":"IFERROR($E325*SUMIF('Daily Log'!$E$18:$E$1017,$B325,'Daily Log'!$F$18:$F$1017),0)","v":0},{"$f":"IFERROR($E325*SUMIF('Daily Log'!$H$18:$H$1017,$B325,'Daily Log'!$I$18:$I$1017),0)","v":0},{"$f":"IFERROR($E325*SUMIF('Daily Log'!$K$18:$K$1017,$B325,'Daily Log'!$L$18:$L$1017),0)","v":0},{"$f":"IFERROR($E325*SUMIF('Daily Log'!$N$18:$N$1017,$B325,'Daily Log'!$O$18:$O$1017),0)","v":0},{"$f":"IFERROR($E325*SUMIF('Daily Log'!#REF!,$B325,'Daily Log'!#REF!),0)","v":0},{"$f":"IFERROR($E325*SUMIF('Daily Log'!#REF!,$B325,'Daily Log'!#REF!),0)","v":0},{"$f":"IFERROR($E325*SUMIF('Daily Log'!#REF!,$B325,'Daily Log'!#REF!),0)","v":0},{"$f":"IFERROR($E325*SUMIF('Daily Log'!#REF!,$B325,'Daily Log'!#REF!),0)","v":0},{"$f":"IFERROR($E325*SUMIF('Daily Log'!#REF!,$B325,'Daily Log'!#REF!),0)","v":0},{"$f":"IFERROR($E325*SUMIF('Daily Log'!#REF!,$B325,'Daily Log'!#REF!),0)","v":0},{"$f":"IFERROR($E325*SUMIF('Daily Log'!#REF!,$B325,'Daily Log'!#REF!),0)","v":0},{"$f":"IFERROR($E325*SUMIF('Daily Log'!#REF!,$B325,'Daily Log'!#REF!),0)","v":0},{"$f":"IFERROR($E325*SUMIF('Daily Log'!#REF!,$B325,'Daily Log'!#REF!),0)","v":0},{"$f":"IFERROR($E325*SUMIF('Daily Log'!#REF!,$B325,'Daily Log'!#REF!),0)","v":0},{"$f":"IFERROR($E325*SUMIF('Daily Log'!#REF!,$B325,'Daily Log'!#REF!),0)","v":0},{"$f":"IFERROR($E325*SUMIF('Daily Log'!#REF!,$B325,'Daily Log'!#REF!),0)","v":0},{"$f":"IFERROR($E325*SUMIF('Daily Log'!#REF!,$B325,'Daily Log'!#REF!),0)","v":0},{"$f":"IFERROR($E325*SUMIF('Daily Log'!#REF!,$B325,'Daily Log'!#REF!),0)","v":0},{"$f":"IFERROR($E325*SUMIF('Daily Log'!#REF!,$B325,'Daily Log'!#REF!),0)","v":0},{"$f":"IFERROR($E325*SUMIF('Daily Log'!#REF!,$B325,'Daily Log'!#REF!),0)","v":0},{"$f":"IFERROR($E325*SUMIF('Daily Log'!#REF!,$B325,'Daily Log'!#REF!),0)","v":0},{"$f":"IFERROR($E325*SUMIF('Daily Log'!#REF!,$B325,'Daily Log'!#REF!),0)","v":0},{"$f":"IFERROR($E325*SUMIF('Daily Log'!#REF!,$B325,'Daily Log'!#REF!),0)","v":0},{"$f":"IFERROR($E325*SUMIF('Daily Log'!#REF!,$B325,'Daily Log'!#REF!),0)","v":0},{"$f":"IFERROR($E325*SUMIF('Daily Log'!#REF!,$B325,'Daily Log'!#REF!),0)","v":0},{"$f":"IFERROR($E325*SUMIF('Daily Log'!#REF!,$B325,'Daily Log'!#REF!),0)","v":0},{"$f":"IFERROR($E325*SUMIF('Daily Log'!#REF!,$B325,'Daily Log'!#REF!),0)","v":0},{"$f":"IFERROR($E325*SUMIF('Daily Log'!#REF!,$B325,'Daily Log'!#REF!),0)","v":0},{"$f":"IFERROR($E325*SUMIF('Daily Log'!#REF!,$B325,'Daily Log'!#REF!),0)","v":0},{"$f":"IFERROR($E325*SUMIF('Daily Log'!#REF!,$B325,'Daily Log'!#REF!),0)","v":0}]
[null,"AD22 M:Student Mem",null,null,1,0,{"$f":"IFERROR($E326*SUMIF('Daily Log'!$B$18:$B$1017,$B326,'Daily Log'!$C$18:$C$1017),0)","v":0},{"$f":"IFERROR($E326*SUMIF('Daily Log'!$E$18:$E$1017,$B326,'Daily Log'!$F$18:$F$1017),0)","v":0},{"$f":"IFERROR($E326*SUMIF('Daily Log'!$H$18:$H$1017,$B326,'Daily Log'!$I$18:$I$1017),0)","v":0},{"$f":"IFERROR($E326*SUMIF('Daily Log'!$K$18:$K$1017,$B326,'Daily Log'!$L$18:$L$1017),0)","v":0},{"$f":"IFERROR($E326*SUMIF('Daily Log'!$N$18:$N$1017,$B326,'Daily Log'!$O$18:$O$1017),0)","v":0},{"$f":"IFERROR($E326*SUMIF('Daily Log'!#REF!,$B326,'Daily Log'!#REF!),0)","v":0},{"$f":"IFERROR($E326*SUMIF('Daily Log'!#REF!,$B326,'Daily Log'!#REF!),0)","v":0},{"$f":"IFERROR($E326*SUMIF('Daily Log'!#REF!,$B326,'Daily Log'!#REF!),0)","v":0},{"$f":"IFERROR($E326*SUMIF('Daily Log'!#REF!,$B326,'Daily Log'!#REF!),0)","v":0},{"$f":"IFERROR($E326*SUMIF('Daily Log'!#REF!,$B326,'Daily Log'!#REF!),0)","v":0},{"$f":"IFERROR($E326*SUMIF('Daily Log'!#REF!,$B326,'Daily Log'!#REF!),0)","v":0},{"$f":"IFERROR($E326*SUMIF('Daily Log'!#REF!,$B326,'Daily Log'!#REF!),0)","v":0},{"$f":"IFERROR($E326*SUMIF('Daily Log'!#REF!,$B326,'Daily Log'!#REF!),0)","v":0},{"$f":"IFERROR($E326*SUMIF('Daily Log'!#REF!,$B326,'Daily Log'!#REF!),0)","v":0},{"$f":"IFERROR($E326*SUMIF('Daily Log'!#REF!,$B326,'Daily Log'!#REF!),0)","v":0},{"$f":"IFERROR($E326*SUMIF('Daily Log'!#REF!,$B326,'Daily Log'!#REF!),0)","v":0},{"$f":"IFERROR($E326*SUMIF('Daily Log'!#REF!,$B326,'Daily Log'!#REF!),0)","v":0},{"$f":"IFERROR($E326*SUMIF('Daily Log'!#REF!,$B326,'Daily Log'!#REF!),0)","v":0},{"$f":"IFERROR($E326*SUMIF('Daily Log'!#REF!,$B326,'Daily Log'!#REF!),0)","v":0},{"$f":"IFERROR($E326*SUMIF('Daily Log'!#REF!,$B326,'Daily Log'!#REF!),0)","v":0},{"$f":"IFERROR($E326*SUMIF('Daily Log'!#REF!,$B326,'Daily Log'!#REF!),0)","v":0},{"$f":"IFERROR($E326*SUMIF('Daily Log'!#REF!,$B326,'Daily Log'!#REF!),0)","v":0},{"$f":"IFERROR($E326*SUMIF('Daily Log'!#REF!,$B326,'Daily Log'!#REF!),0)","v":0},{"$f":"IFERROR($E326*SUMIF('Daily Log'!#REF!,$B326,'Daily Log'!#REF!),0)","v":0},{"$f":"IFERROR($E326*SUMIF('Daily Log'!#REF!,$B326,'Daily Log'!#REF!),0)","v":0},{"$f":"IFERROR($E326*SUMIF('Daily Log'!#REF!,$B326,'Daily Log'!#REF!),0)","v":0},{"$f":"IFERROR($E326*SUMIF('Daily Log'!#REF!,$B326,'Daily Log'!#REF!),0)","v":0},{"$f":"IFERROR($E326*SUMIF('Daily Log'!#REF!,$B326,'Daily Log'!#REF!),0)","v":0},{"$f":"IFERROR($E326*SUMIF('Daily Log'!#REF!,$B326,'Daily Log'!#REF!),0)","v":0},{"$f":"IFERROR($E326*SUMIF('Daily Log'!#REF!,$B326,'Daily Log'!#REF!),0)","v":0},{"$f":"IFERROR($E326*SUMIF('Daily Log'!#REF!,$B326,'Daily Log'!#REF!),0)","v":0}]
[null,"CO02 PLAIN WATER",null,null,1,100,{"$f":"IFERROR($E327*SUMIF('Daily Log'!$B$18:$B$1017,$B327,'Daily Log'!$C$18:$C$1017),0)","v":22},{"$f":"IFERROR($E327*SUMIF('Daily Log'!$E$18:$E$1017,$B327,'Daily Log'!$F$18:$F$1017),0)","v":21},{"$f":"IFERROR($E327*SUMIF('Daily Log'!$H$18:$H$1017,$B327,'Daily Log'!$I$18:$I$1017),0)","v":21},{"$f":"IFERROR($E327*SUMIF('Daily Log'!$K$18:$K$1017,$B327,'Daily Log'!$L$18:$L$1017),0)","v":29},{"$f":"IFERROR($E327*SUMIF('Daily Log'!$N$18:$N$1017,$B327,'Daily Log'!$O$18:$O$1017),0)","v":7},{"$f":"IFERROR($E327*SUMIF('Daily Log'!#REF!,$B327,'Daily Log'!#REF!),0)","v":0},{"$f":"IFERROR($E327*SUMIF('Daily Log'!#REF!,$B327,'Daily Log'!#REF!),0)","v":0},{"$f":"IFERROR($E327*SUMIF('Daily Log'!#REF!,$B327,'Daily Log'!#REF!),0)","v":0},{"$f":"IFERROR($E327*SUMIF('Daily Log'!#REF!,$B327,'Daily Log'!#REF!),0)","v":0},{"$f":"IFERROR($E327*SUMIF('Daily Log'!#REF!,$B327,'Daily Log'!#REF!),0)","v":0},{"$f":"IFERROR($E327*SUMIF('Daily Log'!#REF!,$B327,'Daily Log'!#REF!),0)","v":0},{"$f":"IFERROR($E327*SUMIF('Daily Log'!#REF!,$B327,'Daily Log'!#REF!),0)","v":0},{"$f":"IFERROR($E327*SUMIF('Daily Log'!#REF!,$B327,'Daily Log'!#REF!),0)","v":0},{"$f":"IFERROR($E327*SUMIF('Daily Log'!#REF!,$B327,'Daily Log'!#REF!),0)","v":0},{"$f":"IFERROR($E327*SUMIF('Daily Log'!#REF!,$B327,'Daily Log'!#REF!),0)","v":0},{"$f":"IFERROR($E327*SUMIF('Daily Log'!#REF!,$B327,'Daily Log'!#REF!),0)","v":0},{"$f":"IFERROR($E327*SUMIF('Daily Log'!#REF!,$B327,'Daily Log'!#REF!),0)","v":0},{"$f":"IFERROR($E327*SUMIF('Daily Log'!#REF!,$B327,'Daily Log'!#REF!),0)","v":0},{"$f":"IFERROR($E327*SUMIF('Daily Log'!#REF!,$B327,'Daily Log'!#REF!),0)","v":0},{"$f":"IFERROR($E327*SUMIF('Daily Log'!#REF!,$B327,'Daily Log'!#REF!),0)","v":0},{"$f":"IFERROR($E327*SUMIF('Daily Log'!#REF!,$B327,'Daily Log'!#REF!),0)","v":0},{"$f":"IFERROR($E327*SUMIF('Daily Log'!#REF!,$B327,'Daily Log'!#REF!),0)","v":0},{"$f":"IFERROR($E327*SUMIF('Daily Log'!#REF!,$B327,'Daily Log'!#REF!),0)","v":0},{"$f":"IFERROR($E327*SUMIF('Daily Log'!#REF!,$B327,'Daily Log'!#REF!),0)","v":0},{"$f":"IFERROR($E327*SUMIF('Daily Log'!#REF!,$B327,'Daily Log'!#REF!),0)","v":0},{"$f":"IFERROR($E327*SUMIF('Daily Log'!#REF!,$B327,'Daily Log'!#REF!),0)","v":0},{"$f":"IFERROR($E327*SUMIF('Daily Log'!#REF!,$B327,'Daily Log'!#REF!),0)","v":0},{"$f":"IFERROR($E327*SUMIF('Daily Log'!#REF!,$B327,'Daily Log'!#REF!),0)","v":0},{"$f":"IFERROR($E327*SUMIF('Daily Log'!#REF!,$B327,'Daily Log'!#REF!),0)","v":0},{"$f":"IFERROR($E327*SUMIF('Daily Log'!#REF!,$B327,'Daily Log'!#REF!),0)","v":0},{"$f":"IFERROR($E327*SUMIF('Daily Log'!#REF!,$B327,'Daily Log'!#REF!),0)","v":0}]
[null,"DE01 SET 990",null,null,1,25,{"$f":"IFERROR($E328*SUMIF('Daily Log'!$B$18:$B$1017,$B328,'Daily Log'!$C$18:$C$1017),0)","v":8},{"$f":"IFERROR($E328*SUMIF('Daily Log'!$E$18:$E$1017,$B328,'Daily Log'!$F$18:$F$1017),0)","v":0},{"$f":"IFERROR($E328*SUMIF('Daily Log'!$H$18:$H$1017,$B328,'Daily Log'!$I$18:$I$1017),0)","v":7},{"$f":"IFERROR($E328*SUMIF('Daily Log'!$K$18:$K$1017,$B328,'Daily Log'!$L$18:$L$1017),0)","v":5},{"$f":"IFERROR($E328*SUMIF('Daily Log'!$N$18:$N$1017,$B328,'Daily Log'!$O$18:$O$1017),0)","v":5},{"$f":"IFERROR($E328*SUMIF('Daily Log'!#REF!,$B328,'Daily Log'!#REF!),0)","v":0},{"$f":"IFERROR($E328*SUMIF('Daily Log'!#REF!,$B328,'Daily Log'!#REF!),0)","v":0},{"$f":"IFERROR($E328*SUMIF('Daily Log'!#REF!,$B328,'Daily Log'!#REF!),0)","v":0},{"$f":"IFERROR($E328*SUMIF('Daily Log'!#REF!,$B328,'Daily Log'!#REF!),0)","v":0},{"$f":"IFERROR($E328*SUMIF('Daily Log'!#REF!,$B328,'Daily Log'!#REF!),0)","v":0},{"$f":"IFERROR($E328*SUMIF('Daily Log'!#REF!,$B328,'Daily Log'!#REF!),0)","v":0},{"$f":"IFERROR($E328*SUMIF('Daily Log'!#REF!,$B328,'Daily Log'!#REF!),0)","v":0},{"$f":"IFERROR($E328*SUMIF('Daily Log'!#REF!,$B328,'Daily Log'!#REF!),0)","v":0},{"$f":"IFERROR($E328*SUMIF('Daily Log'!#REF!,$B328,'Daily Log'!#REF!),0)","v":0},{"$f":"IFERROR($E328*SUMIF('Daily Log'!#REF!,$B328,'Daily Log'!#REF!),0)","v":0},{"$f":"IFERROR($E328*SUMIF('Daily Log'!#REF!,$B328,'Daily Log'!#REF!),0)","v":0},{"$f":"IFERROR($E328*SUMIF('Daily Log'!#REF!,$B328,'Daily Log'!#REF!),0)","v":0},{"$f":"IFERROR($E328*SUMIF('Daily Log'!#REF!,$B328,'Daily Log'!#REF!),0)","v":0},{"$f":"IFERROR($E328*SUMIF('Daily Log'!#REF!,$B328,'Daily Log'!#REF!),0)","v":0},{"$f":"IFERROR($E328*SUMIF('Daily Log'!#REF!,$B328,'Daily Log'!#REF!),0)","v":0},{"$f":"IFERROR($E328*SUMIF('Daily Log'!#REF!,$B328,'Daily Log'!#REF!),0)","v":0},{"$f":"IFERROR($E328*SUMIF('Daily Log'!#REF!,$B328,'Daily Log'!#REF!),0)","v":0},{"$f":"IFERROR($E328*SUMIF('Daily Log'!#REF!,$B328,'Daily Log'!#REF!),0)","v":0},{"$f":"IFERROR($E328*SUMIF('Daily Log'!#REF!,$B328,'Daily Log'!#REF!),0)","v":0},{"$f":"IFERROR($E328*SUMIF('Daily Log'!#REF!,$B328,'Daily Log'!#REF!),0)","v":0},{"$f":"IFERROR($E328*SUMIF('Daily Log'!#REF!,$B328,'Daily Log'!#REF!),0)","v":0},{"$f":"IFERROR($E328*SUMIF('Daily Log'!#REF!,$B328,'Daily Log'!#REF!),0)","v":0},{"$f":"IFERROR($E328*SUMIF('Daily Log'!#REF!,$B328,'Daily Log'!#REF!),0)","v":0},{"$f":"IFERROR($E328*SUMIF('Daily Log'!#REF!,$B328,'Daily Log'!#REF!),0)","v":0},{"$f":"IFERROR($E328*SUMIF('Daily Log'!#REF!,$B328,'Daily Log'!#REF!),0)","v":0},{"$f":"IFERROR($E328*SUMIF('Daily Log'!#REF!,$B328,'Daily Log'!#REF!),0)","v":0}]
[null,"DE02 SET 1390",null,null,1,27,{"$f":"IFERROR($E329*SUMIF('Daily Log'!$B$18:$B$1017,$B329,'Daily Log'!$C$18:$C$1017),0)","v":6},{"$f":"IFERROR($E329*SUMIF('Daily Log'!$E$18:$E$1017,$B329,'Daily Log'!$F$18:$F$1017),0)","v":6},{"$f":"IFERROR($E329*SUMIF('Daily Log'!$H$18:$H$1017,$B329,'Daily Log'!$I$18:$I$1017),0)","v":6},{"$f":"IFERROR($E329*SUMIF('Daily Log'!$K$18:$K$1017,$B329,'Daily Log'!$L$18:$L$1017),0)","v":7},{"$f":"IFERROR($E329*SUMIF('Daily Log'!$N$18:$N$1017,$B329,'Daily Log'!$O$18:$O$1017),0)","v":2},{"$f":"IFERROR($E329*SUMIF('Daily Log'!#REF!,$B329,'Daily Log'!#REF!),0)","v":0},{"$f":"IFERROR($E329*SUMIF('Daily Log'!#REF!,$B329,'Daily Log'!#REF!),0)","v":0},{"$f":"IFERROR($E329*SUMIF('Daily Log'!#REF!,$B329,'Daily Log'!#REF!),0)","v":0},{"$f":"IFERROR($E329*SUMIF('Daily Log'!#REF!,$B329,'Daily Log'!#REF!),0)","v":0},{"$f":"IFERROR($E329*SUMIF('Daily Log'!#REF!,$B329,'Daily Log'!#REF!),0)","v":0},{"$f":"IFERROR($E329*SUMIF('Daily Log'!#REF!,$B329,'Daily Log'!#REF!),0)","v":0},{"$f":"IFERROR($E329*SUMIF('Daily Log'!#REF!,$B329,'Daily Log'!#REF!),0)","v":0},{"$f":"IFERROR($E329*SUMIF('Daily Log'!#REF!,$B329,'Daily Log'!#REF!),0)","v":0},{"$f":"IFERROR($E329*SUMIF('Daily Log'!#REF!,$B329,'Daily Log'!#REF!),0)","v":0},{"$f":"IFERROR($E329*SUMIF('Daily Log'!#REF!,$B329,'Daily Log'!#REF!),0)","v":0},{"$f":"IFERROR($E329*SUMIF('Daily Log'!#REF!,$B329,'Daily Log'!#REF!),0)","v":0},{"$f":"IFERROR($E329*SUMIF('Daily Log'!#REF!,$B329,'Daily Log'!#REF!),0)","v":0},{"$f":"IFERROR($E329*SUMIF('Daily Log'!#REF!,$B329,'Daily Log'!#REF!),0)","v":0},{"$f":"IFERROR($E329*SUMIF('Daily Log'!#REF!,$B329,'Daily Log'!#REF!),0)","v":0},{"$f":"IFERROR($E329*SUMIF('Daily Log'!#REF!,$B329,'Daily Log'!#REF!),0)","v":0},{"$f":"IFERROR($E329*SUMIF('Daily Log'!#REF!,$B329,'Daily Log'!#REF!),0)","v":0},{"$f":"IFERROR($E329*SUMIF('Daily Log'!#REF!,$B329,'Daily Log'!#REF!),0)","v":0},{"$f":"IFERROR($E329*SUMIF('Daily Log'!#REF!,$B329,'Daily Log'!#REF!),0)","v":0},{"$f":"IFERROR($E329*SUMIF('Daily Log'!#REF!,$B329,'Daily Log'!#REF!),0)","v":0},{"$f":"IFERROR($E329*SUMIF('Daily Log'!#REF!,$B329,'Daily Log'!#REF!),0)","v":0},{"$f":"IFERROR($E329*SUMIF('Daily Log'!#REF!,$B329,'Daily Log'!#REF!),0)","v":0},{"$f":"IFERROR($E329*SUMIF('Daily Log'!#REF!,$B329,'Daily Log'!#REF!),0)","v":0},{"$f":"IFERROR($E329*SUMIF('Daily Log'!#REF!,$B329,'Daily Log'!#REF!),0)","v":0},{"$f":"IFERROR($E329*SUMIF('Daily Log'!#REF!,$B329,'Daily Log'!#REF!),0)","v":0},{"$f":"IFERROR($E329*SUMIF('Daily Log'!#REF!,$B329,'Daily Log'!#REF!),0)","v":0},{"$f":"IFERROR($E329*SUMIF('Daily Log'!#REF!,$B329,'Daily Log'!#REF!),0)","v":0}]
[null,"EA01 TIDBITS",null,null,1,1,{"$f":"IFERROR($E330*SUMIF('Daily Log'!$B$18:$B$1017,$B330,'Daily Log'!$C$18:$C$1017),0)","v":0},{"$f":"IFERROR($E330*SUMIF('Daily Log'!$E$18:$E$1017,$B330,'Daily Log'!$F$18:$F$1017),0)","v":0},{"$f":"IFERROR($E330*SUMIF('Daily Log'!$H$18:$H$1017,$B330,'Daily Log'!$I$18:$I$1017),0)","v":1},{"$f":"IFERROR($E330*SUMIF('Daily Log'!$K$18:$K$1017,$B330,'Daily Log'!$L$18:$L$1017),0)","v":0},{"$f":"IFERROR($E330*SUMIF('Daily Log'!$N$18:$N$1017,$B330,'Daily Log'!$O$18:$O$1017),0)","v":0},{"$f":"IFERROR($E330*SUMIF('Daily Log'!#REF!,$B330,'Daily Log'!#REF!),0)","v":0},{"$f":"IFERROR($E330*SUMIF('Daily Log'!#REF!,$B330,'Daily Log'!#REF!),0)","v":0},{"$f":"IFERROR($E330*SUMIF('Daily Log'!#REF!,$B330,'Daily Log'!#REF!),0)","v":0},{"$f":"IFERROR($E330*SUMIF('Daily Log'!#REF!,$B330,'Daily Log'!#REF!),0)","v":0},{"$f":"IFERROR($E330*SUMIF('Daily Log'!#REF!,$B330,'Daily Log'!#REF!),0)","v":0},{"$f":"IFERROR($E330*SUMIF('Daily Log'!#REF!,$B330,'Daily Log'!#REF!),0)","v":0},{"$f":"IFERROR($E330*SUMIF('Daily Log'!#REF!,$B330,'Daily Log'!#REF!),0)","v":0},{"$f":"IFERROR($E330*SUMIF('Daily Log'!#REF!,$B330,'Daily Log'!#REF!),0)","v":0},{"$f":"IFERROR($E330*SUMIF('Daily Log'!#REF!,$B330,'Daily Log'!#REF!),0)","v":0},{"$f":"IFERROR($E330*SUMIF('Daily Log'!#REF!,$B330,'Daily Log'!#REF!),0)","v":0},{"$f":"IFERROR($E330*SUMIF('Daily Log'!#REF!,$B330,'Daily Log'!#REF!),0)","v":0},{"$f":"IFERROR($E330*SUMIF('Daily Log'!#REF!,$B330,'Daily Log'!#REF!),0)","v":0},{"$f":"IFERROR($E330*SUMIF('Daily Log'!#REF!,$B330,'Daily Log'!#REF!),0)","v":0},{"$f":"IFERROR($E330*SUMIF('Daily Log'!#REF!,$B330,'Daily Log'!#REF!),0)","v":0},{"$f":"IFERROR($E330*SUMIF('Daily Log'!#REF!,$B330,'Daily Log'!#REF!),0)","v":0},{"$f":"IFERROR($E330*SUMIF('Daily Log'!#REF!,$B330,'Daily Log'!#REF!),0)","v":0},{"$f":"IFERROR($E330*SUMIF('Daily Log'!#REF!,$B330,'Daily Log'!#REF!),0)","v":0},{"$f":"IFERROR($E330*SUMIF('Daily Log'!#REF!,$B330,'Daily Log'!#REF!),0)","v":0},{"$f":"IFERROR($E330*SUMIF('Daily Log'!#REF!,$B330,'Daily Log'!#REF!),0)","v":0},{"$f":"IFERROR($E330*SUMIF('Daily Log'!#REF!,$B330,'Daily Log'!#REF!),0)","v":0},{"$f":"IFERROR($E330*SUMIF('Daily Log'!#REF!,$B330,'Daily Log'!#REF!),0)","v":0},{"$f":"IFERROR($E330*SUMIF('Daily Log'!#REF!,$B330,'Daily Log'!#REF!),0)","v":0},{"$f":"IFERROR($E330*SUMIF('Daily Log'!#REF!,$B330,'Daily Log'!#REF!),0)","v":0},{"$f":"IFERROR($E330*SUMIF('Daily Log'!#REF!,$B330,'Daily Log'!#REF!),0)","v":0},{"$f":"IFERROR($E330*SUMIF('Daily Log'!#REF!,$B330,'Daily Log'!#REF!),0)","v":0},{"$f":"IFERROR($E330*SUMIF('Daily Log'!#REF!,$B330,'Daily Log'!#REF!),0)","v":0}]
[null,"GA09 LIGHTER",null,null,1,3,{"$f":"IFERROR($E331*SUMIF('Daily Log'!$B$18:$B$1017,$B331,'Daily Log'!$C$18:$C$1017),0)","v":1},{"$f":"IFERROR($E331*SUMIF('Daily Log'!$E$18:$E$1017,$B331,'Daily Log'!$F$18:$F$1017),0)","v":0},{"$f":"IFERROR($E331*SUMIF('Daily Log'!$H$18:$H$1017,$B331,'Daily Log'!$I$18:$I$1017),0)","v":1},{"$f":"IFERROR($E331*SUMIF('Daily Log'!$K$18:$K$1017,$B331,'Daily Log'!$L$18:$L$1017),0)","v":0},{"$f":"IFERROR($E331*SUMIF('Daily Log'!$N$18:$N$1017,$B331,'Daily Log'!$O$18:$O$1017),0)","v":1},{"$f":"IFERROR($E331*SUMIF('Daily Log'!#REF!,$B331,'Daily Log'!#REF!),0)","v":0},{"$f":"IFERROR($E331*SUMIF('Daily Log'!#REF!,$B331,'Daily Log'!#REF!),0)","v":0},{"$f":"IFERROR($E331*SUMIF('Daily Log'!#REF!,$B331,'Daily Log'!#REF!),0)","v":0},{"$f":"IFERROR($E331*SUMIF('Daily Log'!#REF!,$B331,'Daily Log'!#REF!),0)","v":0},{"$f":"IFERROR($E331*SUMIF('Daily Log'!#REF!,$B331,'Daily Log'!#REF!),0)","v":0},{"$f":"IFERROR($E331*SUMIF('Daily Log'!#REF!,$B331,'Daily Log'!#REF!),0)","v":0},{"$f":"IFERROR($E331*SUMIF('Daily Log'!#REF!,$B331,'Daily Log'!#REF!),0)","v":0},{"$f":"IFERROR($E331*SUMIF('Daily Log'!#REF!,$B331,'Daily Log'!#REF!),0)","v":0},{"$f":"IFERROR($E331*SUMIF('Daily Log'!#REF!,$B331,'Daily Log'!#REF!),0)","v":0},{"$f":"IFERROR($E331*SUMIF('Daily Log'!#REF!,$B331,'Daily Log'!#REF!),0)","v":0},{"$f":"IFERROR($E331*SUMIF('Daily Log'!#REF!,$B331,'Daily Log'!#REF!),0)","v":0},{"$f":"IFERROR($E331*SUMIF('Daily Log'!#REF!,$B331,'Daily Log'!#REF!),0)","v":0},{"$f":"IFERROR($E331*SUMIF('Daily Log'!#REF!,$B331,'Daily Log'!#REF!),0)","v":0},{"$f":"IFERROR($E331*SUMIF('Daily Log'!#REF!,$B331,'Daily Log'!#REF!),0)","v":0},{"$f":"IFERROR($E331*SUMIF('Daily Log'!#REF!,$B331,'Daily Log'!#REF!),0)","v":0},{"$f":"IFERROR($E331*SUMIF('Daily Log'!#REF!,$B331,'Daily Log'!#REF!),0)","v":0},{"$f":"IFERROR($E331*SUMIF('Daily Log'!#REF!,$B331,'Daily Log'!#REF!),0)","v":0},{"$f":"IFERROR($E331*SUMIF('Daily Log'!#REF!,$B331,'Daily Log'!#REF!),0)","v":0},{"$f":"IFERROR($E331*SUMIF('Daily Log'!#REF!,$B331,'Daily Log'!#REF!),0)","v":0},{"$f":"IFERROR($E331*SUMIF('Daily Log'!#REF!,$B331,'Daily Log'!#REF!),0)","v":0},{"$f":"IFERROR($E331*SUMIF('Daily Log'!#REF!,$B331,'Daily Log'!#REF!),0)","v":0},{"$f":"IFERROR($E331*SUMIF('Daily Log'!#REF!,$B331,'Daily Log'!#REF!),0)","v":0},{"$f":"IFERROR($E331*SUMIF('Daily Log'!#REF!,$B331,'Daily Log'!#REF!),0)","v":0},{"$f":"IFERROR($E331*SUMIF('Daily Log'!#REF!,$B331,'Daily Log'!#REF!),0)","v":0},{"$f":"IFERROR($E331*SUMIF('Daily Log'!#REF!,$B331,'Daily Log'!#REF!),0)","v":0},{"$f":"IFERROR($E331*SUMIF('Daily Log'!#REF!,$B331,'Daily Log'!#REF!),0)","v":0}]
[null,"GC01 CARD NEW",null,null,1,14,{"$f":"IFERROR($E332*SUMIF('Daily Log'!$B$18:$B$1017,$B332,'Daily Log'!$C$18:$C$1017),0)","v":3},{"$f":"IFERROR($E332*SUMIF('Daily Log'!$E$18:$E$1017,$B332,'Daily Log'!$F$18:$F$1017),0)","v":3},{"$f":"IFERROR($E332*SUMIF('Daily Log'!$H$18:$H$1017,$B332,'Daily Log'!$I$18:$I$1017),0)","v":5},{"$f":"IFERROR($E332*SUMIF('Daily Log'!$K$18:$K$1017,$B332,'Daily Log'!$L$18:$L$1017),0)","v":3},{"$f":"IFERROR($E332*SUMIF('Daily Log'!$N$18:$N$1017,$B332,'Daily Log'!$O$18:$O$1017),0)","v":0},{"$f":"IFERROR($E332*SUMIF('Daily Log'!#REF!,$B332,'Daily Log'!#REF!),0)","v":0},{"$f":"IFERROR($E332*SUMIF('Daily Log'!#REF!,$B332,'Daily Log'!#REF!),0)","v":0},{"$f":"IFERROR($E332*SUMIF('Daily Log'!#REF!,$B332,'Daily Log'!#REF!),0)","v":0},{"$f":"IFERROR($E332*SUMIF('Daily Log'!#REF!,$B332,'Daily Log'!#REF!),0)","v":0},{"$f":"IFERROR($E332*SUMIF('Daily Log'!#REF!,$B332,'Daily Log'!#REF!),0)","v":0},{"$f":"IFERROR($E332*SUMIF('Daily Log'!#REF!,$B332,'Daily Log'!#REF!),0)","v":0},{"$f":"IFERROR($E332*SUMIF('Daily Log'!#REF!,$B332,'Daily Log'!#REF!),0)","v":0},{"$f":"IFERROR($E332*SUMIF('Daily Log'!#REF!,$B332,'Daily Log'!#REF!),0)","v":0},{"$f":"IFERROR($E332*SUMIF('Daily Log'!#REF!,$B332,'Daily Log'!#REF!),0)","v":0},{"$f":"IFERROR($E332*SUMIF('Daily Log'!#REF!,$B332,'Daily Log'!#REF!),0)","v":0},{"$f":"IFERROR($E332*SUMIF('Daily Log'!#REF!,$B332,'Daily Log'!#REF!),0)","v":0},{"$f":"IFERROR($E332*SUMIF('Daily Log'!#REF!,$B332,'Daily Log'!#REF!),0)","v":0},{"$f":"IFERROR($E332*SUMIF('Daily Log'!#REF!,$B332,'Daily Log'!#REF!),0)","v":0},{"$f":"IFERROR($E332*SUMIF('Daily Log'!#REF!,$B332,'Daily Log'!#REF!),0)","v":0},{"$f":"IFERROR($E332*SUMIF('Daily Log'!#REF!,$B332,'Daily Log'!#REF!),0)","v":0},{"$f":"IFERROR($E332*SUMIF('Daily Log'!#REF!,$B332,'Daily Log'!#REF!),0)","v":0},{"$f":"IFERROR($E332*SUMIF('Daily Log'!#REF!,$B332,'Daily Log'!#REF!),0)","v":0},{"$f":"IFERROR($E332*SUMIF('Daily Log'!#REF!,$B332,'Daily Log'!#REF!),0)","v":0},{"$f":"IFERROR($E332*SUMIF('Daily Log'!#REF!,$B332,'Daily Log'!#REF!),0)","v":0},{"$f":"IFERROR($E332*SUMIF('Daily Log'!#REF!,$B332,'Daily Log'!#REF!),0)","v":0},{"$f":"IFERROR($E332*SUMIF('Daily Log'!#REF!,$B332,'Daily Log'!#REF!),0)","v":0},{"$f":"IFERROR($E332*SUMIF('Daily Log'!#REF!,$B332,'Daily Log'!#REF!),0)","v":0},{"$f":"IFERROR($E332*SUMIF('Daily Log'!#REF!,$B332,'Daily Log'!#REF!),0)","v":0},{"$f":"IFERROR($E332*SUMIF('Daily Log'!#REF!,$B332,'Daily Log'!#REF!),0)","v":0},{"$f":"IFERROR($E332*SUMIF('Daily Log'!#REF!,$B332,'Daily Log'!#REF!),0)","v":0},{"$f":"IFERROR($E332*SUMIF('Daily Log'!#REF!,$B332,'Daily Log'!#REF!),0)","v":0}]
[null,"GC02 CARD REPLACE",null,null,1,0,{"$f":"IFERROR($E333*SUMIF('Daily Log'!$B$18:$B$1017,$B333,'Daily Log'!$C$18:$C$1017),0)","v":0},{"$f":"IFERROR($E333*SUMIF('Daily Log'!$E$18:$E$1017,$B333,'Daily Log'!$F$18:$F$1017),0)","v":0},{"$f":"IFERROR($E333*SUMIF('Daily Log'!$H$18:$H$1017,$B333,'Daily Log'!$I$18:$I$1017),0)","v":0},{"$f":"IFERROR($E333*SUMIF('Daily Log'!$K$18:$K$1017,$B333,'Daily Log'!$L$18:$L$1017),0)","v":0},{"$f":"IFERROR($E333*SUMIF('Daily Log'!$N$18:$N$1017,$B333,'Daily Log'!$O$18:$O$1017),0)","v":0},{"$f":"IFERROR($E333*SUMIF('Daily Log'!#REF!,$B333,'Daily Log'!#REF!),0)","v":0},{"$f":"IFERROR($E333*SUMIF('Daily Log'!#REF!,$B333,'Daily Log'!#REF!),0)","v":0},{"$f":"IFERROR($E333*SUMIF('Daily Log'!#REF!,$B333,'Daily Log'!#REF!),0)","v":0},{"$f":"IFERROR($E333*SUMIF('Daily Log'!#REF!,$B333,'Daily Log'!#REF!),0)","v":0},{"$f":"IFERROR($E333*SUMIF('Daily Log'!#REF!,$B333,'Daily Log'!#REF!),0)","v":0},{"$f":"IFERROR($E333*SUMIF('Daily Log'!#REF!,$B333,'Daily Log'!#REF!),0)","v":0},{"$f":"IFERROR($E333*SUMIF('Daily Log'!#REF!,$B333,'Daily Log'!#REF!),0)","v":0},{"$f":"IFERROR($E333*SUMIF('Daily Log'!#REF!,$B333,'Daily Log'!#REF!),0)","v":0},{"$f":"IFERROR($E333*SUMIF('Daily Log'!#REF!,$B333,'Daily Log'!#REF!),0)","v":0},{"$f":"IFERROR($E333*SUMIF('Daily Log'!#REF!,$B333,'Daily Log'!#REF!),0)","v":0},{"$f":"IFERROR($E333*SUMIF('Daily Log'!#REF!,$B333,'Daily Log'!#REF!),0)","v":0},{"$f":"IFERROR($E333*SUMIF('Daily Log'!#REF!,$B333,'Daily Log'!#REF!),0)","v":0},{"$f":"IFERROR($E333*SUMIF('Daily Log'!#REF!,$B333,'Daily Log'!#REF!),0)","v":0},{"$f":"IFERROR($E333*SUMIF('Daily Log'!#REF!,$B333,'Daily Log'!#REF!),0)","v":0},{"$f":"IFERROR($E333*SUMIF('Daily Log'!#REF!,$B333,'Daily Log'!#REF!),0)","v":0},{"$f":"IFERROR($E333*SUMIF('Daily Log'!#REF!,$B333,'Daily Log'!#REF!),0)","v":0},{"$f":"IFERROR($E333*SUMIF('Daily Log'!#REF!,$B333,'Daily Log'!#REF!),0)","v":0},{"$f":"IFERROR($E333*SUMIF('Daily Log'!#REF!,$B333,'Daily Log'!#REF!),0)","v":0},{"$f":"IFERROR($E333*SUMIF('Daily Log'!#REF!,$B333,'Daily Log'!#REF!),0)","v":0},{"$f":"IFERROR($E333*SUMIF('Daily Log'!#REF!,$B333,'Daily Log'!#REF!),0)","v":0},{"$f":"IFERROR($E333*SUMIF('Daily Log'!#REF!,$B333,'Daily Log'!#REF!),0)","v":0},{"$f":"IFERROR($E333*SUMIF('Daily Log'!#REF!,$B333,'Daily Log'!#REF!),0)","v":0},{"$f":"IFERROR($E333*SUMIF('Daily Log'!#REF!,$B333,'Daily Log'!#REF!),0)","v":0},{"$f":"IFERROR($E333*SUMIF('Daily Log'!#REF!,$B333,'Daily Log'!#REF!),0)","v":0},{"$f":"IFERROR($E333*SUMIF('Daily Log'!#REF!,$B333,'Daily Log'!#REF!),0)","v":0},{"$f":"IFERROR($E333*SUMIF('Daily Log'!#REF!,$B333,'Daily Log'!#REF!),0)","v":0}]
[null,"GC03 Student Mem Card",null,null,1,1,{"$f":"IFERROR($E334*SUMIF('Daily Log'!$B$18:$B$1017,$B334,'Daily Log'!$C$18:$C$1017),0)","v":0},{"$f":"IFERROR($E334*SUMIF('Daily Log'!$E$18:$E$1017,$B334,'Daily Log'!$F$18:$F$1017),0)","v":1},{"$f":"IFERROR($E334*SUMIF('Daily Log'!$H$18:$H$1017,$B334,'Daily Log'!$I$18:$I$1017),0)","v":0},{"$f":"IFERROR($E334*SUMIF('Daily Log'!$K$18:$K$1017,$B334,'Daily Log'!$L$18:$L$1017),0)","v":0},{"$f":"IFERROR($E334*SUMIF('Daily Log'!$N$18:$N$1017,$B334,'Daily Log'!$O$18:$O$1017),0)","v":0},{"$f":"IFERROR($E334*SUMIF('Daily Log'!#REF!,$B334,'Daily Log'!#REF!),0)","v":0},{"$f":"IFERROR($E334*SUMIF('Daily Log'!#REF!,$B334,'Daily Log'!#REF!),0)","v":0},{"$f":"IFERROR($E334*SUMIF('Daily Log'!#REF!,$B334,'Daily Log'!#REF!),0)","v":0},{"$f":"IFERROR($E334*SUMIF('Daily Log'!#REF!,$B334,'Daily Log'!#REF!),0)","v":0},{"$f":"IFERROR($E334*SUMIF('Daily Log'!#REF!,$B334,'Daily Log'!#REF!),0)","v":0},{"$f":"IFERROR($E334*SUMIF('Daily Log'!#REF!,$B334,'Daily Log'!#REF!),0)","v":0},{"$f":"IFERROR($E334*SUMIF('Daily Log'!#REF!,$B334,'Daily Log'!#REF!),0)","v":0},{"$f":"IFERROR($E334*SUMIF('Daily Log'!#REF!,$B334,'Daily Log'!#REF!),0)","v":0},{"$f":"IFERROR($E334*SUMIF('Daily Log'!#REF!,$B334,'Daily Log'!#REF!),0)","v":0},{"$f":"IFERROR($E334*SUMIF('Daily Log'!#REF!,$B334,'Daily Log'!#REF!),0)","v":0},{"$f":"IFERROR($E334*SUMIF('Daily Log'!#REF!,$B334,'Daily Log'!#REF!),0)","v":0},{"$f":"IFERROR($E334*SUMIF('Daily Log'!#REF!,$B334,'Daily Log'!#REF!),0)","v":0},{"$f":"IFERROR($E334*SUMIF('Daily Log'!#REF!,$B334,'Daily Log'!#REF!),0)","v":0},{"$f":"IFERROR($E334*SUMIF('Daily Log'!#REF!,$B334,'Daily Log'!#REF!),0)","v":0},{"$f":"IFERROR($E334*SUMIF('Daily Log'!#REF!,$B334,'Daily Log'!#REF!),0)","v":0},{"$f":"IFERROR($E334*SUMIF('Daily Log'!#REF!,$B334,'Daily Log'!#REF!),0)","v":0},{"$f":"IFERROR($E334*SUMIF('Daily Log'!#REF!,$B334,'Daily Log'!#REF!),0)","v":0},{"$f":"IFERROR($E334*SUMIF('Daily Log'!#REF!,$B334,'Daily Log'!#REF!),0)","v":0},{"$f":"IFERROR($E334*SUMIF('Daily Log'!#REF!,$B334,'Daily Log'!#REF!),0)","v":0},{"$f":"IFERROR($E334*SUMIF('Daily Log'!#REF!,$B334,'Daily Log'!#REF!),0)","v":0},{"$f":"IFERROR($E334*SUMIF('Daily Log'!#REF!,$B334,'Daily Log'!#REF!),0)","v":0},{"$f":"IFERROR($E334*SUMIF('Daily Log'!#REF!,$B334,'Daily Log'!#REF!),0)","v":0},{"$f":"IFERROR($E334*SUMIF('Daily Log'!#REF!,$B334,'Daily Log'!#REF!),0)","v":0},{"$f":"IFERROR($E334*SUMIF('Daily Log'!#REF!,$B334,'Daily Log'!#REF!),0)","v":0},{"$f":"IFERROR($E334*SUMIF('Daily Log'!#REF!,$B334,'Daily Log'!#REF!),0)","v":0},{"$f":"IFERROR($E334*SUMIF('Daily Log'!#REF!,$B334,'Daily Log'!#REF!),0)","v":0}]
[null,"GD02 MIKE COVER 03",null,null,1,7,{"$f":"IFERROR($E335*SUMIF('Daily Log'!$B$18:$B$1017,$B335,'Daily Log'!$C$18:$C$1017),0)","v":3},{"$f":"IFERROR($E335*SUMIF('Daily Log'!$E$18:$E$1017,$B335,'Daily Log'!$F$18:$F$1017),0)","v":1},{"$f":"IFERROR($E335*SUMIF('Daily Log'!$H$18:$H$1017,$B335,'Daily Log'!$I$18:$I$1017),0)","v":1},{"$f":"IFERROR($E335*SUMIF('Daily Log'!$K$18:$K$1017,$B335,'Daily Log'!$L$18:$L$1017),0)","v":1},{"$f":"IFERROR($E335*SUMIF('Daily Log'!$N$18:$N$1017,$B335,'Daily Log'!$O$18:$O$1017),0)","v":1},{"$f":"IFERROR($E335*SUMIF('Daily Log'!#REF!,$B335,'Daily Log'!#REF!),0)","v":0},{"$f":"IFERROR($E335*SUMIF('Daily Log'!#REF!,$B335,'Daily Log'!#REF!),0)","v":0},{"$f":"IFERROR($E335*SUMIF('Daily Log'!#REF!,$B335,'Daily Log'!#REF!),0)","v":0},{"$f":"IFERROR($E335*SUMIF('Daily Log'!#REF!,$B335,'Daily Log'!#REF!),0)","v":0},{"$f":"IFERROR($E335*SUMIF('Daily Log'!#REF!,$B335,'Daily Log'!#REF!),0)","v":0},{"$f":"IFERROR($E335*SUMIF('Daily Log'!#REF!,$B335,'Daily Log'!#REF!),0)","v":0},{"$f":"IFERROR($E335*SUMIF('Daily Log'!#REF!,$B335,'Daily Log'!#REF!),0)","v":0},{"$f":"IFERROR($E335*SUMIF('Daily Log'!#REF!,$B335,'Daily Log'!#REF!),0)","v":0},{"$f":"IFERROR($E335*SUMIF('Daily Log'!#REF!,$B335,'Daily Log'!#REF!),0)","v":0},{"$f":"IFERROR($E335*SUMIF('Daily Log'!#REF!,$B335,'Daily Log'!#REF!),0)","v":0},{"$f":"IFERROR($E335*SUMIF('Daily Log'!#REF!,$B335,'Daily Log'!#REF!),0)","v":0},{"$f":"IFERROR($E335*SUMIF('Daily Log'!#REF!,$B335,'Daily Log'!#REF!),0)","v":0},{"$f":"IFERROR($E335*SUMIF('Daily Log'!#REF!,$B335,'Daily Log'!#REF!),0)","v":0},{"$f":"IFERROR($E335*SUMIF('Daily Log'!#REF!,$B335,'Daily Log'!#REF!),0)","v":0},{"$f":"IFERROR($E335*SUMIF('Daily Log'!#REF!,$B335,'Daily Log'!#REF!),0)","v":0},{"$f":"IFERROR($E335*SUMIF('Daily Log'!#REF!,$B335,'Daily Log'!#REF!),0)","v":0},{"$f":"IFERROR($E335*SUMIF('Daily Log'!#REF!,$B335,'Daily Log'!#REF!),0)","v":0},{"$f":"IFERROR($E335*SUMIF('Daily Log'!#REF!,$B335,'Daily Log'!#REF!),0)","v":0},{"$f":"IFERROR($E335*SUMIF('Daily Log'!#REF!,$B335,'Daily Log'!#REF!),0)","v":0},{"$f":"IFERROR($E335*SUMIF('Daily Log'!#REF!,$B335,'Daily Log'!#REF!),0)","v":0},{"$f":"IFERROR($E335*SUMIF('Daily Log'!#REF!,$B335,'Daily Log'!#REF!),0)","v":0},{"$f":"IFERROR($E335*SUMIF('Daily Log'!#REF!,$B335,'Daily Log'!#REF!),0)","v":0},{"$f":"IFERROR($E335*SUMIF('Daily Log'!#REF!,$B335,'Daily Log'!#REF!),0)","v":0},{"$f":"IFERROR($E335*SUMIF('Daily Log'!#REF!,$B335,'Daily Log'!#REF!),0)","v":0},{"$f":"IFERROR($E335*SUMIF('Daily Log'!#REF!,$B335,'Daily Log'!#REF!),0)","v":0},{"$f":"IFERROR($E335*SUMIF('Daily Log'!#REF!,$B335,'Daily Log'!#REF!),0)","v":0}]
[null,"GD03 PENALTY",null,null,1,0,{"$f":"IFERROR($E336*SUMIF('Daily Log'!$B$18:$B$1017,$B336,'Daily Log'!$C$18:$C$1017),0)","v":0},{"$f":"IFERROR($E336*SUMIF('Daily Log'!$E$18:$E$1017,$B336,'Daily Log'!$F$18:$F$1017),0)","v":0},{"$f":"IFERROR($E336*SUMIF('Daily Log'!$H$18:$H$1017,$B336,'Daily Log'!$I$18:$I$1017),0)","v":0},{"$f":"IFERROR($E336*SUMIF('Daily Log'!$K$18:$K$1017,$B336,'Daily Log'!$L$18:$L$1017),0)","v":0},{"$f":"IFERROR($E336*SUMIF('Daily Log'!$N$18:$N$1017,$B336,'Daily Log'!$O$18:$O$1017),0)","v":0},{"$f":"IFERROR($E336*SUMIF('Daily Log'!#REF!,$B336,'Daily Log'!#REF!),0)","v":0},{"$f":"IFERROR($E336*SUMIF('Daily Log'!#REF!,$B336,'Daily Log'!#REF!),0)","v":0},{"$f":"IFERROR($E336*SUMIF('Daily Log'!#REF!,$B336,'Daily Log'!#REF!),0)","v":0},{"$f":"IFERROR($E336*SUMIF('Daily Log'!#REF!,$B336,'Daily Log'!#REF!),0)","v":0},{"$f":"IFERROR($E336*SUMIF('Daily Log'!#REF!,$B336,'Daily Log'!#REF!),0)","v":0},{"$f":"IFERROR($E336*SUMIF('Daily Log'!#REF!,$B336,'Daily Log'!#REF!),0)","v":0},{"$f":"IFERROR($E336*SUMIF('Daily Log'!#REF!,$B336,'Daily Log'!#REF!),0)","v":0},{"$f":"IFERROR($E336*SUMIF('Daily Log'!#REF!,$B336,'Daily Log'!#REF!),0)","v":0},{"$f":"IFERROR($E336*SUMIF('Daily Log'!#REF!,$B336,'Daily Log'!#REF!),0)","v":0},{"$f":"IFERROR($E336*SUMIF('Daily Log'!#REF!,$B336,'Daily Log'!#REF!),0)","v":0},{"$f":"IFERROR($E336*SUMIF('Daily Log'!#REF!,$B336,'Daily Log'!#REF!),0)","v":0},{"$f":"IFERROR($E336*SUMIF('Daily Log'!#REF!,$B336,'Daily Log'!#REF!),0)","v":0},{"$f":"IFERROR($E336*SUMIF('Daily Log'!#REF!,$B336,'Daily Log'!#REF!),0)","v":0},{"$f":"IFERROR($E336*SUMIF('Daily Log'!#REF!,$B336,'Daily Log'!#REF!),0)","v":0},{"$f":"IFERROR($E336*SUMIF('Daily Log'!#REF!,$B336,'Daily Log'!#REF!),0)","v":0},{"$f":"IFERROR($E336*SUMIF('Daily Log'!#REF!,$B336,'Daily Log'!#REF!),0)","v":0},{"$f":"IFERROR($E336*SUMIF('Daily Log'!#REF!,$B336,'Daily Log'!#REF!),0)","v":0},{"$f":"IFERROR($E336*SUMIF('Daily Log'!#REF!,$B336,'Daily Log'!#REF!),0)","v":0},{"$f":"IFERROR($E336*SUMIF('Daily Log'!#REF!,$B336,'Daily Log'!#REF!),0)","v":0},{"$f":"IFERROR($E336*SUMIF('Daily Log'!#REF!,$B336,'Daily Log'!#REF!),0)","v":0},{"$f":"IFERROR($E336*SUMIF('Daily Log'!#REF!,$B336,'Daily Log'!#REF!),0)","v":0},{"$f":"IFERROR($E336*SUMIF('Daily Log'!#REF!,$B336,'Daily Log'!#REF!),0)","v":0},{"$f":"IFERROR($E336*SUMIF('Daily Log'!#REF!,$B336,'Daily Log'!#REF!),0)","v":0},{"$f":"IFERROR($E336*SUMIF('Daily Log'!#REF!,$B336,'Daily Log'!#REF!),0)","v":0},{"$f":"IFERROR($E336*SUMIF('Daily Log'!#REF!,$B336,'Daily Log'!#REF!),0)","v":0},{"$f":"IFERROR($E336*SUMIF('Daily Log'!#REF!,$B336,'Daily Log'!#REF!),0)","v":0}]
[null,"ZAA01 GUINNESS EX BKT",null,null,1,0,{"$f":"IFERROR($E337*SUMIF('Daily Log'!$B$18:$B$1017,$B337,'Daily Log'!$C$18:$C$1017),0)","v":0},{"$f":"IFERROR($E337*SUMIF('Daily Log'!$E$18:$E$1017,$B337,'Daily Log'!$F$18:$F$1017),0)","v":0},{"$f":"IFERROR($E337*SUMIF('Daily Log'!$H$18:$H$1017,$B337,'Daily Log'!$I$18:$I$1017),0)","v":0},{"$f":"IFERROR($E337*SUMIF('Daily Log'!$K$18:$K$1017,$B337,'Daily Log'!$L$18:$L$1017),0)","v":0},{"$f":"IFERROR($E337*SUMIF('Daily Log'!$N$18:$N$1017,$B337,'Daily Log'!$O$18:$O$1017),0)","v":0},{"$f":"IFERROR($E337*SUMIF('Daily Log'!#REF!,$B337,'Daily Log'!#REF!),0)","v":0},{"$f":"IFERROR($E337*SUMIF('Daily Log'!#REF!,$B337,'Daily Log'!#REF!),0)","v":0},{"$f":"IFERROR($E337*SUMIF('Daily Log'!#REF!,$B337,'Daily Log'!#REF!),0)","v":0},{"$f":"IFERROR($E337*SUMIF('Daily Log'!#REF!,$B337,'Daily Log'!#REF!),0)","v":0},{"$f":"IFERROR($E337*SUMIF('Daily Log'!#REF!,$B337,'Daily Log'!#REF!),0)","v":0},{"$f":"IFERROR($E337*SUMIF('Daily Log'!#REF!,$B337,'Daily Log'!#REF!),0)","v":0},{"$f":"IFERROR($E337*SUMIF('Daily Log'!#REF!,$B337,'Daily Log'!#REF!),0)","v":0},{"$f":"IFERROR($E337*SUMIF('Daily Log'!#REF!,$B337,'Daily Log'!#REF!),0)","v":0},{"$f":"IFERROR($E337*SUMIF('Daily Log'!#REF!,$B337,'Daily Log'!#REF!),0)","v":0},{"$f":"IFERROR($E337*SUMIF('Daily Log'!#REF!,$B337,'Daily Log'!#REF!),0)","v":0},{"$f":"IFERROR($E337*SUMIF('Daily Log'!#REF!,$B337,'Daily Log'!#REF!),0)","v":0},{"$f":"IFERROR($E337*SUMIF('Daily Log'!#REF!,$B337,'Daily Log'!#REF!),0)","v":0},{"$f":"IFERROR($E337*SUMIF('Daily Log'!#REF!,$B337,'Daily Log'!#REF!),0)","v":0},{"$f":"IFERROR($E337*SUMIF('Daily Log'!#REF!,$B337,'Daily Log'!#REF!),0)","v":0},{"$f":"IFERROR($E337*SUMIF('Daily Log'!#REF!,$B337,'Daily Log'!#REF!),0)","v":0},{"$f":"IFERROR($E337*SUMIF('Daily Log'!#REF!,$B337,'Daily Log'!#REF!),0)","v":0},{"$f":"IFERROR($E337*SUMIF('Daily Log'!#REF!,$B337,'Daily Log'!#REF!),0)","v":0},{"$f":"IFERROR($E337*SUMIF('Daily Log'!#REF!,$B337,'Daily Log'!#REF!),0)","v":0},{"$f":"IFERROR($E337*SUMIF('Daily Log'!#REF!,$B337,'Daily Log'!#REF!),0)","v":0},{"$f":"IFERROR($E337*SUMIF('Daily Log'!#REF!,$B337,'Daily Log'!#REF!),0)","v":0},{"$f":"IFERROR($E337*SUMIF('Daily Log'!#REF!,$B337,'Daily Log'!#REF!),0)","v":0},{"$f":"IFERROR($E337*SUMIF('Daily Log'!#REF!,$B337,'Daily Log'!#REF!),0)","v":0},{"$f":"IFERROR($E337*SUMIF('Daily Log'!#REF!,$B337,'Daily Log'!#REF!),0)","v":0},{"$f":"IFERROR($E337*SUMIF('Daily Log'!#REF!,$B337,'Daily Log'!#REF!),0)","v":0},{"$f":"IFERROR($E337*SUMIF('Daily Log'!#REF!,$B337,'Daily Log'!#REF!),0)","v":0},{"$f":"IFERROR($E337*SUMIF('Daily Log'!#REF!,$B337,'Daily Log'!#REF!),0)","v":0}]
[null,"ZAA02 HEINEKEN EX BKT",null,null,1,0,{"$f":"IFERROR($E338*SUMIF('Daily Log'!$B$18:$B$1017,$B338,'Daily Log'!$C$18:$C$1017),0)","v":0},{"$f":"IFERROR($E338*SUMIF('Daily Log'!$E$18:$E$1017,$B338,'Daily Log'!$F$18:$F$1017),0)","v":0},{"$f":"IFERROR($E338*SUMIF('Daily Log'!$H$18:$H$1017,$B338,'Daily Log'!$I$18:$I$1017),0)","v":0},{"$f":"IFERROR($E338*SUMIF('Daily Log'!$K$18:$K$1017,$B338,'Daily Log'!$L$18:$L$1017),0)","v":0},{"$f":"IFERROR($E338*SUMIF('Daily Log'!$N$18:$N$1017,$B338,'Daily Log'!$O$18:$O$1017),0)","v":0},{"$f":"IFERROR($E338*SUMIF('Daily Log'!#REF!,$B338,'Daily Log'!#REF!),0)","v":0},{"$f":"IFERROR($E338*SUMIF('Daily Log'!#REF!,$B338,'Daily Log'!#REF!),0)","v":0},{"$f":"IFERROR($E338*SUMIF('Daily Log'!#REF!,$B338,'Daily Log'!#REF!),0)","v":0},{"$f":"IFERROR($E338*SUMIF('Daily Log'!#REF!,$B338,'Daily Log'!#REF!),0)","v":0},{"$f":"IFERROR($E338*SUMIF('Daily Log'!#REF!,$B338,'Daily Log'!#REF!),0)","v":0},{"$f":"IFERROR($E338*SUMIF('Daily Log'!#REF!,$B338,'Daily Log'!#REF!),0)","v":0},{"$f":"IFERROR($E338*SUMIF('Daily Log'!#REF!,$B338,'Daily Log'!#REF!),0)","v":0},{"$f":"IFERROR($E338*SUMIF('Daily Log'!#REF!,$B338,'Daily Log'!#REF!),0)","v":0},{"$f":"IFERROR($E338*SUMIF('Daily Log'!#REF!,$B338,'Daily Log'!#REF!),0)","v":0},{"$f":"IFERROR($E338*SUMIF('Daily Log'!#REF!,$B338,'Daily Log'!#REF!),0)","v":0},{"$f":"IFERROR($E338*SUMIF('Daily Log'!#REF!,$B338,'Daily Log'!#REF!),0)","v":0},{"$f":"IFERROR($E338*SUMIF('Daily Log'!#REF!,$B338,'Daily Log'!#REF!),0)","v":0},{"$f":"IFERROR($E338*SUMIF('Daily Log'!#REF!,$B338,'Daily Log'!#REF!),0)","v":0},{"$f":"IFERROR($E338*SUMIF('Daily Log'!#REF!,$B338,'Daily Log'!#REF!),0)","v":0},{"$f":"IFERROR($E338*SUMIF('Daily Log'!#REF!,$B338,'Daily Log'!#REF!),0)","v":0},{"$f":"IFERROR($E338*SUMIF('Daily Log'!#REF!,$B338,'Daily Log'!#REF!),0)","v":0},{"$f":"IFERROR($E338*SUMIF('Daily Log'!#REF!,$B338,'Daily Log'!#REF!),0)","v":0},{"$f":"IFERROR($E338*SUMIF('Daily Log'!#REF!,$B338,'Daily Log'!#REF!),0)","v":0},{"$f":"IFERROR($E338*SUMIF('Daily Log'!#REF!,$B338,'Daily Log'!#REF!),0)","v":0},{"$f":"IFERROR($E338*SUMIF('Daily Log'!#REF!,$B338,'Daily Log'!#REF!),0)","v":0},{"$f":"IFERROR($E338*SUMIF('Daily Log'!#REF!,$B338,'Daily Log'!#REF!),0)","v":0},{"$f":"IFERROR($E338*SUMIF('Daily Log'!#REF!,$B338,'Daily Log'!#REF!),0)","v":0},{"$f":"IFERROR($E338*SUMIF('Daily Log'!#REF!,$B338,'Daily Log'!#REF!),0)","v":0},{"$f":"IFERROR($E338*SUMIF('Daily Log'!#REF!,$B338,'Daily Log'!#REF!),0)","v":0},{"$f":"IFERROR($E338*SUMIF('Daily Log'!#REF!,$B338,'Daily Log'!#REF!),0)","v":0},{"$f":"IFERROR($E338*SUMIF('Daily Log'!#REF!,$B338,'Daily Log'!#REF!),0)","v":0}]
[null,"ZAD01 COLD",null,null,1,21,{"$f":"IFERROR($E339*SUMIF('Daily Log'!$B$18:$B$1017,$B339,'Daily Log'!$C$18:$C$1017),0)","v":4},{"$f":"IFERROR($E339*SUMIF('Daily Log'!$E$18:$E$1017,$B339,'Daily Log'!$F$18:$F$1017),0)","v":8},{"$f":"IFERROR($E339*SUMIF('Daily Log'!$H$18:$H$1017,$B339,'Daily Log'!$I$18:$I$1017),0)","v":3},{"$f":"IFERROR($E339*SUMIF('Daily Log'!$K$18:$K$1017,$B339,'Daily Log'!$L$18:$L$1017),0)","v":4},{"$f":"IFERROR($E339*SUMIF('Daily Log'!$N$18:$N$1017,$B339,'Daily Log'!$O$18:$O$1017),0)","v":2},{"$f":"IFERROR($E339*SUMIF('Daily Log'!#REF!,$B339,'Daily Log'!#REF!),0)","v":0},{"$f":"IFERROR($E339*SUMIF('Daily Log'!#REF!,$B339,'Daily Log'!#REF!),0)","v":0},{"$f":"IFERROR($E339*SUMIF('Daily Log'!#REF!,$B339,'Daily Log'!#REF!),0)","v":0},{"$f":"IFERROR($E339*SUMIF('Daily Log'!#REF!,$B339,'Daily Log'!#REF!),0)","v":0},{"$f":"IFERROR($E339*SUMIF('Daily Log'!#REF!,$B339,'Daily Log'!#REF!),0)","v":0},{"$f":"IFERROR($E339*SUMIF('Daily Log'!#REF!,$B339,'Daily Log'!#REF!),0)","v":0},{"$f":"IFERROR($E339*SUMIF('Daily Log'!#REF!,$B339,'Daily Log'!#REF!),0)","v":0},{"$f":"IFERROR($E339*SUMIF('Daily Log'!#REF!,$B339,'Daily Log'!#REF!),0)","v":0},{"$f":"IFERROR($E339*SUMIF('Daily Log'!#REF!,$B339,'Daily Log'!#REF!),0)","v":0},{"$f":"IFERROR($E339*SUMIF('Daily Log'!#REF!,$B339,'Daily Log'!#REF!),0)","v":0},{"$f":"IFERROR($E339*SUMIF('Daily Log'!#REF!,$B339,'Daily Log'!#REF!),0)","v":0},{"$f":"IFERROR($E339*SUMIF('Daily Log'!#REF!,$B339,'Daily Log'!#REF!),0)","v":0},{"$f":"IFERROR($E339*SUMIF('Daily Log'!#REF!,$B339,'Daily Log'!#REF!),0)","v":0},{"$f":"IFERROR($E339*SUMIF('Daily Log'!#REF!,$B339,'Daily Log'!#REF!),0)","v":0},{"$f":"IFERROR($E339*SUMIF('Daily Log'!#REF!,$B339,'Daily Log'!#REF!),0)","v":0},{"$f":"IFERROR($E339*SUMIF('Daily Log'!#REF!,$B339,'Daily Log'!#REF!),0)","v":0},{"$f":"IFERROR($E339*SUMIF('Daily Log'!#REF!,$B339,'Daily Log'!#REF!),0)","v":0},{"$f":"IFERROR($E339*SUMIF('Daily Log'!#REF!,$B339,'Daily Log'!#REF!),0)","v":0},{"$f":"IFERROR($E339*SUMIF('Daily Log'!#REF!,$B339,'Daily Log'!#REF!),0)","v":0},{"$f":"IFERROR($E339*SUMIF('Daily Log'!#REF!,$B339,'Daily Log'!#REF!),0)","v":0},{"$f":"IFERROR($E339*SUMIF('Daily Log'!#REF!,$B339,'Daily Log'!#REF!),0)","v":0},{"$f":"IFERROR($E339*SUMIF('Daily Log'!#REF!,$B339,'Daily Log'!#REF!),0)","v":0},{"$f":"IFERROR($E339*SUMIF('Daily Log'!#REF!,$B339,'Daily Log'!#REF!),0)","v":0},{"$f":"IFERROR($E339*SUMIF('Daily Log'!#REF!,$B339,'Daily Log'!#REF!),0)","v":0},{"$f":"IFERROR($E339*SUMIF('Daily Log'!#REF!,$B339,'Daily Log'!#REF!),0)","v":0},{"$f":"IFERROR($E339*SUMIF('Daily Log'!#REF!,$B339,'Daily Log'!#REF!),0)","v":0}]
[null,"ZAD02 HOT",null,null,1,10,{"$f":"IFERROR($E340*SUMIF('Daily Log'!$B$18:$B$1017,$B340,'Daily Log'!$C$18:$C$1017),0)","v":3},{"$f":"IFERROR($E340*SUMIF('Daily Log'!$E$18:$E$1017,$B340,'Daily Log'!$F$18:$F$1017),0)","v":3},{"$f":"IFERROR($E340*SUMIF('Daily Log'!$H$18:$H$1017,$B340,'Daily Log'!$I$18:$I$1017),0)","v":1},{"$f":"IFERROR($E340*SUMIF('Daily Log'!$K$18:$K$1017,$B340,'Daily Log'!$L$18:$L$1017),0)","v":2},{"$f":"IFERROR($E340*SUMIF('Daily Log'!$N$18:$N$1017,$B340,'Daily Log'!$O$18:$O$1017),0)","v":1},{"$f":"IFERROR($E340*SUMIF('Daily Log'!#REF!,$B340,'Daily Log'!#REF!),0)","v":0},{"$f":"IFERROR($E340*SUMIF('Daily Log'!#REF!,$B340,'Daily Log'!#REF!),0)","v":0},{"$f":"IFERROR($E340*SUMIF('Daily Log'!#REF!,$B340,'Daily Log'!#REF!),0)","v":0},{"$f":"IFERROR($E340*SUMIF('Daily Log'!#REF!,$B340,'Daily Log'!#REF!),0)","v":0},{"$f":"IFERROR($E340*SUMIF('Daily Log'!#REF!,$B340,'Daily Log'!#REF!),0)","v":0},{"$f":"IFERROR($E340*SUMIF('Daily Log'!#REF!,$B340,'Daily Log'!#REF!),0)","v":0},{"$f":"IFERROR($E340*SUMIF('Daily Log'!#REF!,$B340,'Daily Log'!#REF!),0)","v":0},{"$f":"IFERROR($E340*SUMIF('Daily Log'!#REF!,$B340,'Daily Log'!#REF!),0)","v":0},{"$f":"IFERROR($E340*SUMIF('Daily Log'!#REF!,$B340,'Daily Log'!#REF!),0)","v":0},{"$f":"IFERROR($E340*SUMIF('Daily Log'!#REF!,$B340,'Daily Log'!#REF!),0)","v":0},{"$f":"IFERROR($E340*SUMIF('Daily Log'!#REF!,$B340,'Daily Log'!#REF!),0)","v":0},{"$f":"IFERROR($E340*SUMIF('Daily Log'!#REF!,$B340,'Daily Log'!#REF!),0)","v":0},{"$f":"IFERROR($E340*SUMIF('Daily Log'!#REF!,$B340,'Daily Log'!#REF!),0)","v":0},{"$f":"IFERROR($E340*SUMIF('Daily Log'!#REF!,$B340,'Daily Log'!#REF!),0)","v":0},{"$f":"IFERROR($E340*SUMIF('Daily Log'!#REF!,$B340,'Daily Log'!#REF!),0)","v":0},{"$f":"IFERROR($E340*SUMIF('Daily Log'!#REF!,$B340,'Daily Log'!#REF!),0)","v":0},{"$f":"IFERROR($E340*SUMIF('Daily Log'!#REF!,$B340,'Daily Log'!#REF!),0)","v":0},{"$f":"IFERROR($E340*SUMIF('Daily Log'!#REF!,$B340,'Daily Log'!#REF!),0)","v":0},{"$f":"IFERROR($E340*SUMIF('Daily Log'!#REF!,$B340,'Daily Log'!#REF!),0)","v":0},{"$f":"IFERROR($E340*SUMIF('Daily Log'!#REF!,$B340,'Daily Log'!#REF!),0)","v":0},{"$f":"IFERROR($E340*SUMIF('Daily Log'!#REF!,$B340,'Daily Log'!#REF!),0)","v":0},{"$f":"IFERROR($E340*SUMIF('Daily Log'!#REF!,$B340,'Daily Log'!#REF!),0)","v":0},{"$f":"IFERROR($E340*SUMIF('Daily Log'!#REF!,$B340,'Daily Log'!#REF!),0)","v":0},{"$f":"IFERROR($E340*SUMIF('Daily Log'!#REF!,$B340,'Daily Log'!#REF!),0)","v":0},{"$f":"IFERROR($E340*SUMIF('Daily Log'!#REF!,$B340,'Daily Log'!#REF!),0)","v":0},{"$f":"IFERROR($E340*SUMIF('Daily Log'!#REF!,$B340,'Daily Log'!#REF!),0)","v":0}]
[null,"ZAD03 WARM",null,null,1,71,{"$f":"IFERROR($E341*SUMIF('Daily Log'!$B$18:$B$1017,$B341,'Daily Log'!$C$18:$C$1017),0)","v":20},{"$f":"IFERROR($E341*SUMIF('Daily Log'!$E$18:$E$1017,$B341,'Daily Log'!$F$18:$F$1017),0)","v":12},{"$f":"IFERROR($E341*SUMIF('Daily Log'!$H$18:$H$1017,$B341,'Daily Log'!$I$18:$I$1017),0)","v":14},{"$f":"IFERROR($E341*SUMIF('Daily Log'!$K$18:$K$1017,$B341,'Daily Log'!$L$18:$L$1017),0)","v":24},{"$f":"IFERROR($E341*SUMIF('Daily Log'!$N$18:$N$1017,$B341,'Daily Log'!$O$18:$O$1017),0)","v":1},{"$f":"IFERROR($E341*SUMIF('Daily Log'!#REF!,$B341,'Daily Log'!#REF!),0)","v":0},{"$f":"IFERROR($E341*SUMIF('Daily Log'!#REF!,$B341,'Daily Log'!#REF!),0)","v":0},{"$f":"IFERROR($E341*SUMIF('Daily Log'!#REF!,$B341,'Daily Log'!#REF!),0)","v":0},{"$f":"IFERROR($E341*SUMIF('Daily Log'!#REF!,$B341,'Daily Log'!#REF!),0)","v":0},{"$f":"IFERROR($E341*SUMIF('Daily Log'!#REF!,$B341,'Daily Log'!#REF!),0)","v":0},{"$f":"IFERROR($E341*SUMIF('Daily Log'!#REF!,$B341,'Daily Log'!#REF!),0)","v":0},{"$f":"IFERROR($E341*SUMIF('Daily Log'!#REF!,$B341,'Daily Log'!#REF!),0)","v":0},{"$f":"IFERROR($E341*SUMIF('Daily Log'!#REF!,$B341,'Daily Log'!#REF!),0)","v":0},{"$f":"IFERROR($E341*SUMIF('Daily Log'!#REF!,$B341,'Daily Log'!#REF!),0)","v":0},{"$f":"IFERROR($E341*SUMIF('Daily Log'!#REF!,$B341,'Daily Log'!#REF!),0)","v":0},{"$f":"IFERROR($E341*SUMIF('Daily Log'!#REF!,$B341,'Daily Log'!#REF!),0)","v":0},{"$f":"IFERROR($E341*SUMIF('Daily Log'!#REF!,$B341,'Daily Log'!#REF!),0)","v":0},{"$f":"IFERROR($E341*SUMIF('Daily Log'!#REF!,$B341,'Daily Log'!#REF!),0)","v":0},{"$f":"IFERROR($E341*SUMIF('Daily Log'!#REF!,$B341,'Daily Log'!#REF!),0)","v":0},{"$f":"IFERROR($E341*SUMIF('Daily Log'!#REF!,$B341,'Daily Log'!#REF!),0)","v":0},{"$f":"IFERROR($E341*SUMIF('Daily Log'!#REF!,$B341,'Daily Log'!#REF!),0)","v":0},{"$f":"IFERROR($E341*SUMIF('Daily Log'!#REF!,$B341,'Daily Log'!#REF!),0)","v":0},{"$f":"IFERROR($E341*SUMIF('Daily Log'!#REF!,$B341,'Daily Log'!#REF!),0)","v":0},{"$f":"IFERROR($E341*SUMIF('Daily Log'!#REF!,$B341,'Daily Log'!#REF!),0)","v":0},{"$f":"IFERROR($E341*SUMIF('Daily Log'!#REF!,$B341,'Daily Log'!#REF!),0)","v":0},{"$f":"IFERROR($E341*SUMIF('Daily Log'!#REF!,$B341,'Daily Log'!#REF!),0)","v":0},{"$f":"IFERROR($E341*SUMIF('Daily Log'!#REF!,$B341,'Daily Log'!#REF!),0)","v":0},{"$f":"IFERROR($E341*SUMIF('Daily Log'!#REF!,$B341,'Daily Log'!#REF!),0)","v":0},{"$f":"IFERROR($E341*SUMIF('Daily Log'!#REF!,$B341,'Daily Log'!#REF!),0)","v":0},{"$f":"IFERROR($E341*SUMIF('Daily Log'!#REF!,$B341,'Daily Log'!#REF!),0)","v":0},{"$f":"IFERROR($E341*SUMIF('Daily Log'!#REF!,$B341,'Daily Log'!#REF!),0)","v":0}]
[null,"ZAD04 LESS ICE",null,null,1,172,{"$f":"IFERROR($E342*SUMIF('Daily Log'!$B$18:$B$1017,$B342,'Daily Log'!$C$18:$C$1017),0)","v":31},{"$f":"IFERROR($E342*SUMIF('Daily Log'!$E$18:$E$1017,$B342,'Daily Log'!$F$18:$F$1017),0)","v":12},{"$f":"IFERROR($E342*SUMIF('Daily Log'!$H$18:$H$1017,$B342,'Daily Log'!$I$18:$I$1017),0)","v":37},{"$f":"IFERROR($E342*SUMIF('Daily Log'!$K$18:$K$1017,$B342,'Daily Log'!$L$18:$L$1017),0)","v":71},{"$f":"IFERROR($E342*SUMIF('Daily Log'!$N$18:$N$1017,$B342,'Daily Log'!$O$18:$O$1017),0)","v":21},{"$f":"IFERROR($E342*SUMIF('Daily Log'!#REF!,$B342,'Daily Log'!#REF!),0)","v":0},{"$f":"IFERROR($E342*SUMIF('Daily Log'!#REF!,$B342,'Daily Log'!#REF!),0)","v":0},{"$f":"IFERROR($E342*SUMIF('Daily Log'!#REF!,$B342,'Daily Log'!#REF!),0)","v":0},{"$f":"IFERROR($E342*SUMIF('Daily Log'!#REF!,$B342,'Daily Log'!#REF!),0)","v":0},{"$f":"IFERROR($E342*SUMIF('Daily Log'!#REF!,$B342,'Daily Log'!#REF!),0)","v":0},{"$f":"IFERROR($E342*SUMIF('Daily Log'!#REF!,$B342,'Daily Log'!#REF!),0)","v":0},{"$f":"IFERROR($E342*SUMIF('Daily Log'!#REF!,$B342,'Daily Log'!#REF!),0)","v":0},{"$f":"IFERROR($E342*SUMIF('Daily Log'!#REF!,$B342,'Daily Log'!#REF!),0)","v":0},{"$f":"IFERROR($E342*SUMIF('Daily Log'!#REF!,$B342,'Daily Log'!#REF!),0)","v":0},{"$f":"IFERROR($E342*SUMIF('Daily Log'!#REF!,$B342,'Daily Log'!#REF!),0)","v":0},{"$f":"IFERROR($E342*SUMIF('Daily Log'!#REF!,$B342,'Daily Log'!#REF!),0)","v":0},{"$f":"IFERROR($E342*SUMIF('Daily Log'!#REF!,$B342,'Daily Log'!#REF!),0)","v":0},{"$f":"IFERROR($E342*SUMIF('Daily Log'!#REF!,$B342,'Daily Log'!#REF!),0)","v":0},{"$f":"IFERROR($E342*SUMIF('Daily Log'!#REF!,$B342,'Daily Log'!#REF!),0)","v":0},{"$f":"IFERROR($E342*SUMIF('Daily Log'!#REF!,$B342,'Daily Log'!#REF!),0)","v":0},{"$f":"IFERROR($E342*SUMIF('Daily Log'!#REF!,$B342,'Daily Log'!#REF!),0)","v":0},{"$f":"IFERROR($E342*SUMIF('Daily Log'!#REF!,$B342,'Daily Log'!#REF!),0)","v":0},{"$f":"IFERROR($E342*SUMIF('Daily Log'!#REF!,$B342,'Daily Log'!#REF!),0)","v":0},{"$f":"IFERROR($E342*SUMIF('Daily Log'!#REF!,$B342,'Daily Log'!#REF!),0)","v":0},{"$f":"IFERROR($E342*SUMIF('Daily Log'!#REF!,$B342,'Daily Log'!#REF!),0)","v":0},{"$f":"IFERROR($E342*SUMIF('Daily Log'!#REF!,$B342,'Daily Log'!#REF!),0)","v":0},{"$f":"IFERROR($E342*SUMIF('Daily Log'!#REF!,$B342,'Daily Log'!#REF!),0)","v":0},{"$f":"IFERROR($E342*SUMIF('Daily Log'!#REF!,$B342,'Daily Log'!#REF!),0)","v":0},{"$f":"IFERROR($E342*SUMIF('Daily Log'!#REF!,$B342,'Daily Log'!#REF!),0)","v":0},{"$f":"IFERROR($E342*SUMIF('Daily Log'!#REF!,$B342,'Daily Log'!#REF!),0)","v":0},{"$f":"IFERROR($E342*SUMIF('Daily Log'!#REF!,$B342,'Daily Log'!#REF!),0)","v":0}]
[null,"ZAD05 MORE ICE",null,null,1,2,{"$f":"IFERROR($E343*SUMIF('Daily Log'!$B$18:$B$1017,$B343,'Daily Log'!$C$18:$C$1017),0)","v":0},{"$f":"IFERROR($E343*SUMIF('Daily Log'!$E$18:$E$1017,$B343,'Daily Log'!$F$18:$F$1017),0)","v":1},{"$f":"IFERROR($E343*SUMIF('Daily Log'!$H$18:$H$1017,$B343,'Daily Log'!$I$18:$I$1017),0)","v":0},{"$f":"IFERROR($E343*SUMIF('Daily Log'!$K$18:$K$1017,$B343,'Daily Log'!$L$18:$L$1017),0)","v":1},{"$f":"IFERROR($E343*SUMIF('Daily Log'!$N$18:$N$1017,$B343,'Daily Log'!$O$18:$O$1017),0)","v":0},{"$f":"IFERROR($E343*SUMIF('Daily Log'!#REF!,$B343,'Daily Log'!#REF!),0)","v":0},{"$f":"IFERROR($E343*SUMIF('Daily Log'!#REF!,$B343,'Daily Log'!#REF!),0)","v":0},{"$f":"IFERROR($E343*SUMIF('Daily Log'!#REF!,$B343,'Daily Log'!#REF!),0)","v":0},{"$f":"IFERROR($E343*SUMIF('Daily Log'!#REF!,$B343,'Daily Log'!#REF!),0)","v":0},{"$f":"IFERROR($E343*SUMIF('Daily Log'!#REF!,$B343,'Daily Log'!#REF!),0)","v":0},{"$f":"IFERROR($E343*SUMIF('Daily Log'!#REF!,$B343,'Daily Log'!#REF!),0)","v":0},{"$f":"IFERROR($E343*SUMIF('Daily Log'!#REF!,$B343,'Daily Log'!#REF!),0)","v":0},{"$f":"IFERROR($E343*SUMIF('Daily Log'!#REF!,$B343,'Daily Log'!#REF!),0)","v":0},{"$f":"IFERROR($E343*SUMIF('Daily Log'!#REF!,$B343,'Daily Log'!#REF!),0)","v":0},{"$f":"IFERROR($E343*SUMIF('Daily Log'!#REF!,$B343,'Daily Log'!#REF!),0)","v":0},{"$f":"IFERROR($E343*SUMIF('Daily Log'!#REF!,$B343,'Daily Log'!#REF!),0)","v":0},{"$f":"IFERROR($E343*SUMIF('Daily Log'!#REF!,$B343,'Daily Log'!#REF!),0)","v":0},{"$f":"IFERROR($E343*SUMIF('Daily Log'!#REF!,$B343,'Daily Log'!#REF!),0)","v":0},{"$f":"IFERROR($E343*SUMIF('Daily Log'!#REF!,$B343,'Daily Log'!#REF!),0)","v":0},{"$f":"IFERROR($E343*SUMIF('Daily Log'!#REF!,$B343,'Daily Log'!#REF!),0)","v":0},{"$f":"IFERROR($E343*SUMIF('Daily Log'!#REF!,$B343,'Daily Log'!#REF!),0)","v":0},{"$f":"IFERROR($E343*SUMIF('Daily Log'!#REF!,$B343,'Daily Log'!#REF!),0)","v":0},{"$f":"IFERROR($E343*SUMIF('Daily Log'!#REF!,$B343,'Daily Log'!#REF!),0)","v":0},{"$f":"IFERROR($E343*SUMIF('Daily Log'!#REF!,$B343,'Daily Log'!#REF!),0)","v":0},{"$f":"IFERROR($E343*SUMIF('Daily Log'!#REF!,$B343,'Daily Log'!#REF!),0)","v":0},{"$f":"IFERROR($E343*SUMIF('Daily Log'!#REF!,$B343,'Daily Log'!#REF!),0)","v":0},{"$f":"IFERROR($E343*SUMIF('Daily Log'!#REF!,$B343,'Daily Log'!#REF!),0)","v":0},{"$f":"IFERROR($E343*SUMIF('Daily Log'!#REF!,$B343,'Daily Log'!#REF!),0)","v":0},{"$f":"IFERROR($E343*SUMIF('Daily Log'!#REF!,$B343,'Daily Log'!#REF!),0)","v":0},{"$f":"IFERROR($E343*SUMIF('Daily Log'!#REF!,$B343,'Daily Log'!#REF!),0)","v":0},{"$f":"IFERROR($E343*SUMIF('Daily Log'!#REF!,$B343,'Daily Log'!#REF!),0)","v":0}]
[null,"ZAD06 NO ICE",null,null,1,59,{"$f":"IFERROR($E344*SUMIF('Daily Log'!$B$18:$B$1017,$B344,'Daily Log'!$C$18:$C$1017),0)","v":10},{"$f":"IFERROR($E344*SUMIF('Daily Log'!$E$18:$E$1017,$B344,'Daily Log'!$F$18:$F$1017),0)","v":7},{"$f":"IFERROR($E344*SUMIF('Daily Log'!$H$18:$H$1017,$B344,'Daily Log'!$I$18:$I$1017),0)","v":18},{"$f":"IFERROR($E344*SUMIF('Daily Log'!$K$18:$K$1017,$B344,'Daily Log'!$L$18:$L$1017),0)","v":12},{"$f":"IFERROR($E344*SUMIF('Daily Log'!$N$18:$N$1017,$B344,'Daily Log'!$O$18:$O$1017),0)","v":12},{"$f":"IFERROR($E344*SUMIF('Daily Log'!#REF!,$B344,'Daily Log'!#REF!),0)","v":0},{"$f":"IFERROR($E344*SUMIF('Daily Log'!#REF!,$B344,'Daily Log'!#REF!),0)","v":0},{"$f":"IFERROR($E344*SUMIF('Daily Log'!#REF!,$B344,'Daily Log'!#REF!),0)","v":0},{"$f":"IFERROR($E344*SUMIF('Daily Log'!#REF!,$B344,'Daily Log'!#REF!),0)","v":0},{"$f":"IFERROR($E344*SUMIF('Daily Log'!#REF!,$B344,'Daily Log'!#REF!),0)","v":0},{"$f":"IFERROR($E344*SUMIF('Daily Log'!#REF!,$B344,'Daily Log'!#REF!),0)","v":0},{"$f":"IFERROR($E344*SUMIF('Daily Log'!#REF!,$B344,'Daily Log'!#REF!),0)","v":0},{"$f":"IFERROR($E344*SUMIF('Daily Log'!#REF!,$B344,'Daily Log'!#REF!),0)","v":0},{"$f":"IFERROR($E344*SUMIF('Daily Log'!#REF!,$B344,'Daily Log'!#REF!),0)","v":0},{"$f":"IFERROR($E344*SUMIF('Daily Log'!#REF!,$B344,'Daily Log'!#REF!),0)","v":0},{"$f":"IFERROR($E344*SUMIF('Daily Log'!#REF!,$B344,'Daily Log'!#REF!),0)","v":0},{"$f":"IFERROR($E344*SUMIF('Daily Log'!#REF!,$B344,'Daily Log'!#REF!),0)","v":0},{"$f":"IFERROR($E344*SUMIF('Daily Log'!#REF!,$B344,'Daily Log'!#REF!),0)","v":0},{"$f":"IFERROR($E344*SUMIF('Daily Log'!#REF!,$B344,'Daily Log'!#REF!),0)","v":0},{"$f":"IFERROR($E344*SUMIF('Daily Log'!#REF!,$B344,'Daily Log'!#REF!),0)","v":0},{"$f":"IFERROR($E344*SUMIF('Daily Log'!#REF!,$B344,'Daily Log'!#REF!),0)","v":0},{"$f":"IFERROR($E344*SUMIF('Daily Log'!#REF!,$B344,'Daily Log'!#REF!),0)","v":0},{"$f":"IFERROR($E344*SUMIF('Daily Log'!#REF!,$B344,'Daily Log'!#REF!),0)","v":0},{"$f":"IFERROR($E344*SUMIF('Daily Log'!#REF!,$B344,'Daily Log'!#REF!),0)","v":0},{"$f":"IFERROR($E344*SUMIF('Daily Log'!#REF!,$B344,'Daily Log'!#REF!),0)","v":0},{"$f":"IFERROR($E344*SUMIF('Daily Log'!#REF!,$B344,'Daily Log'!#REF!),0)","v":0},{"$f":"IFERROR($E344*SUMIF('Daily Log'!#REF!,$B344,'Daily Log'!#REF!),0)","v":0},{"$f":"IFERROR($E344*SUMIF('Daily Log'!#REF!,$B344,'Daily Log'!#REF!),0)","v":0},{"$f":"IFERROR($E344*SUMIF('Daily Log'!#REF!,$B344,'Daily Log'!#REF!),0)","v":0},{"$f":"IFERROR($E344*SUMIF('Daily Log'!#REF!,$B344,'Daily Log'!#REF!),0)","v":0},{"$f":"IFERROR($E344*SUMIF('Daily Log'!#REF!,$B344,'Daily Log'!#REF!),0)","v":0}]
[null,"ZAD07 LESS SWEET",null,null,1,{"$f":"SUM($G345:$AK345)","v":12},{"$f":"IFERROR($E345*SUMIF('Daily Log'!$B$18:$B$1017,$B345,'Daily Log'!$C$18:$C$1017),0)","v":2},{"$f":"IFERROR($E345*SUMIF('Daily Log'!$E$18:$E$1017,$B345,'Daily Log'!$F$18:$F$1017),0)","v":1},{"$f":"IFERROR($E345*SUMIF('Daily Log'!$H$18:$H$1017,$B345,'Daily Log'!$I$18:$I$1017),0)","v":2},{"$f":"IFERROR($E345*SUMIF('Daily Log'!$K$18:$K$1017,$B345,'Daily Log'!$L$18:$L$1017),0)","v":7},{"$f":"IFERROR($E345*SUMIF('Daily Log'!$N$18:$N$1017,$B345,'Daily Log'!$O$18:$O$1017),0)","v":0},{"$f":"IFERROR($E345*SUMIF('Daily Log'!#REF!,$B345,'Daily Log'!#REF!),0)","v":0},{"$f":"IFERROR($E345*SUMIF('Daily Log'!#REF!,$B345,'Daily Log'!#REF!),0)","v":0},{"$f":"IFERROR($E345*SUMIF('Daily Log'!#REF!,$B345,'Daily Log'!#REF!),0)","v":0},{"$f":"IFERROR($E345*SUMIF('Daily Log'!#REF!,$B345,'Daily Log'!#REF!),0)","v":0},{"$f":"IFERROR($E345*SUMIF('Daily Log'!#REF!,$B345,'Daily Log'!#REF!),0)","v":0},{"$f":"IFERROR($E345*SUMIF('Daily Log'!#REF!,$B345,'Daily Log'!#REF!),0)","v":0},{"$f":"IFERROR($E345*SUMIF('Daily Log'!#REF!,$B345,'Daily Log'!#REF!),0)","v":0},{"$f":"IFERROR($E345*SUMIF('Daily Log'!#REF!,$B345,'Daily Log'!#REF!),0)","v":0},{"$f":"IFERROR($E345*SUMIF('Daily Log'!#REF!,$B345,'Daily Log'!#REF!),0)","v":0},{"$f":"IFERROR($E345*SUMIF('Daily Log'!#REF!,$B345,'Daily Log'!#REF!),0)","v":0},{"$f":"IFERROR($E345*SUMIF('Daily Log'!#REF!,$B345,'Daily Log'!#REF!),0)","v":0},{"$f":"IFERROR($E345*SUMIF('Daily Log'!#REF!,$B345,'Daily Log'!#REF!),0)","v":0},{"$f":"IFERROR($E345*SUMIF('Daily Log'!#REF!,$B345,'Daily Log'!#REF!),0)","v":0},{"$f":"IFERROR($E345*SUMIF('Daily Log'!#REF!,$B345,'Daily Log'!#REF!),0)","v":0},{"$f":"IFERROR($E345*SUMIF('Daily Log'!#REF!,$B345,'Daily Log'!#REF!),0)","v":0},{"$f":"IFERROR($E345*SUMIF('Daily Log'!#REF!,$B345,'Daily Log'!#REF!),0)","v":0},{"$f":"IFERROR($E345*SUMIF('Daily Log'!#REF!,$B345,'Daily Log'!#REF!),0)","v":0},{"$f":"IFERROR($E345*SUMIF('Daily Log'!#REF!,$B345,'Daily Log'!#REF!),0)","v":0},{"$f":"IFERROR($E345*SUMIF('Daily Log'!#REF!,$B345,'Daily Log'!#REF!),0)","v":0},{"$f":"IFERROR($E345*SUMIF('Daily Log'!#REF!,$B345,'Daily Log'!#REF!),0)","v":0},{"$f":"IFERROR($E345*SUMIF('Daily Log'!#REF!,$B345,'Daily Log'!#REF!),0)","v":0},{"$f":"IFERROR($E345*SUMIF('Daily Log'!#REF!,$B345,'Daily Log'!#REF!),0)","v":0},{"$f":"IFERROR($E345*SUMIF('Daily Log'!#REF!,$B345,'Daily Log'!#REF!),0)","v":0},{"$f":"IFERROR($E345*SUMIF('Daily Log'!#REF!,$B345,'Daily Log'!#REF!),0)","v":0},{"$f":"IFERROR($E345*SUMIF('Daily Log'!#REF!,$B345,'Daily Log'!#REF!),0)","v":0},{"$f":"IFERROR($E345*SUMIF('Daily Log'!#REF!,$B345,'Daily Log'!#REF!),0)","v":0}]
[null,"ZAD08 LESS OILY",null,null,1,0,{"$f":"IFERROR($E346*SUMIF('Daily Log'!$B$18:$B$1017,$B346,'Daily Log'!$C$18:$C$1017),0)","v":0},{"$f":"IFERROR($E346*SUMIF('Daily Log'!$E$18:$E$1017,$B346,'Daily Log'!$F$18:$F$1017),0)","v":0},{"$f":"IFERROR($E346*SUMIF('Daily Log'!$H$18:$H$1017,$B346,'Daily Log'!$I$18:$I$1017),0)","v":0},{"$f":"IFERROR($E346*SUMIF('Daily Log'!$K$18:$K$1017,$B346,'Daily Log'!$L$18:$L$1017),0)","v":0},{"$f":"IFERROR($E346*SUMIF('Daily Log'!$N$18:$N$1017,$B346,'Daily Log'!$O$18:$O$1017),0)","v":0},{"$f":"IFERROR($E346*SUMIF('Daily Log'!#REF!,$B346,'Daily Log'!#REF!),0)","v":0},{"$f":"IFERROR($E346*SUMIF('Daily Log'!#REF!,$B346,'Daily Log'!#REF!),0)","v":0},{"$f":"IFERROR($E346*SUMIF('Daily Log'!#REF!,$B346,'Daily Log'!#REF!),0)","v":0},{"$f":"IFERROR($E346*SUMIF('Daily Log'!#REF!,$B346,'Daily Log'!#REF!),0)","v":0},{"$f":"IFERROR($E346*SUMIF('Daily Log'!#REF!,$B346,'Daily Log'!#REF!),0)","v":0},{"$f":"IFERROR($E346*SUMIF('Daily Log'!#REF!,$B346,'Daily Log'!#REF!),0)","v":0},{"$f":"IFERROR($E346*SUMIF('Daily Log'!#REF!,$B346,'Daily Log'!#REF!),0)","v":0},{"$f":"IFERROR($E346*SUMIF('Daily Log'!#REF!,$B346,'Daily Log'!#REF!),0)","v":0},{"$f":"IFERROR($E346*SUMIF('Daily Log'!#REF!,$B346,'Daily Log'!#REF!),0)","v":0},{"$f":"IFERROR($E346*SUMIF('Daily Log'!#REF!,$B346,'Daily Log'!#REF!),0)","v":0},{"$f":"IFERROR($E346*SUMIF('Daily Log'!#REF!,$B346,'Daily Log'!#REF!),0)","v":0},{"$f":"IFERROR($E346*SUMIF('Daily Log'!#REF!,$B346,'Daily Log'!#REF!),0)","v":0},{"$f":"IFERROR($E346*SUMIF('Daily Log'!#REF!,$B346,'Daily Log'!#REF!),0)","v":0},{"$f":"IFERROR($E346*SUMIF('Daily Log'!#REF!,$B346,'Daily Log'!#REF!),0)","v":0},{"$f":"IFERROR($E346*SUMIF('Daily Log'!#REF!,$B346,'Daily Log'!#REF!),0)","v":0},{"$f":"IFERROR($E346*SUMIF('Daily Log'!#REF!,$B346,'Daily Log'!#REF!),0)","v":0},{"$f":"IFERROR($E346*SUMIF('Daily Log'!#REF!,$B346,'Daily Log'!#REF!),0)","v":0},{"$f":"IFERROR($E346*SUMIF('Daily Log'!#REF!,$B346,'Daily Log'!#REF!),0)","v":0},{"$f":"IFERROR($E346*SUMIF('Daily Log'!#REF!,$B346,'Daily Log'!#REF!),0)","v":0},{"$f":"IFERROR($E346*SUMIF('Daily Log'!#REF!,$B346,'Daily Log'!#REF!),0)","v":0},{"$f":"IFERROR($E346*SUMIF('Daily Log'!#REF!,$B346,'Daily Log'!#REF!),0)","v":0},{"$f":"IFERROR($E346*SUMIF('Daily Log'!#REF!,$B346,'Daily Log'!#REF!),0)","v":0},{"$f":"IFERROR($E346*SUMIF('Daily Log'!#REF!,$B346,'Daily Log'!#REF!),0)","v":0},{"$f":"IFERROR($E346*SUMIF('Daily Log'!#REF!,$B346,'Daily Log'!#REF!),0)","v":0},{"$f":"IFERROR($E346*SUMIF('Daily Log'!#REF!,$B346,'Daily Log'!#REF!),0)","v":0},{"$f":"IFERROR($E346*SUMIF('Daily Log'!#REF!,$B346,'Daily Log'!#REF!),0)","v":0}]
[null,"ZAD09 LESS SALTY",null,null,1,0,{"$f":"IFERROR($E347*SUMIF('Daily Log'!$B$18:$B$1017,$B347,'Daily Log'!$C$18:$C$1017),0)","v":0},{"$f":"IFERROR($E347*SUMIF('Daily Log'!$E$18:$E$1017,$B347,'Daily Log'!$F$18:$F$1017),0)","v":0},{"$f":"IFERROR($E347*SUMIF('Daily Log'!$H$18:$H$1017,$B347,'Daily Log'!$I$18:$I$1017),0)","v":0},{"$f":"IFERROR($E347*SUMIF('Daily Log'!$K$18:$K$1017,$B347,'Daily Log'!$L$18:$L$1017),0)","v":0},{"$f":"IFERROR($E347*SUMIF('Daily Log'!$N$18:$N$1017,$B347,'Daily Log'!$O$18:$O$1017),0)","v":0},{"$f":"IFERROR($E347*SUMIF('Daily Log'!#REF!,$B347,'Daily Log'!#REF!),0)","v":0},{"$f":"IFERROR($E347*SUMIF('Daily Log'!#REF!,$B347,'Daily Log'!#REF!),0)","v":0},{"$f":"IFERROR($E347*SUMIF('Daily Log'!#REF!,$B347,'Daily Log'!#REF!),0)","v":0},{"$f":"IFERROR($E347*SUMIF('Daily Log'!#REF!,$B347,'Daily Log'!#REF!),0)","v":0},{"$f":"IFERROR($E347*SUMIF('Daily Log'!#REF!,$B347,'Daily Log'!#REF!),0)","v":0},{"$f":"IFERROR($E347*SUMIF('Daily Log'!#REF!,$B347,'Daily Log'!#REF!),0)","v":0},{"$f":"IFERROR($E347*SUMIF('Daily Log'!#REF!,$B347,'Daily Log'!#REF!),0)","v":0},{"$f":"IFERROR($E347*SUMIF('Daily Log'!#REF!,$B347,'Daily Log'!#REF!),0)","v":0},{"$f":"IFERROR($E347*SUMIF('Daily Log'!#REF!,$B347,'Daily Log'!#REF!),0)","v":0},{"$f":"IFERROR($E347*SUMIF('Daily Log'!#REF!,$B347,'Daily Log'!#REF!),0)","v":0},{"$f":"IFERROR($E347*SUMIF('Daily Log'!#REF!,$B347,'Daily Log'!#REF!),0)","v":0},{"$f":"IFERROR($E347*SUMIF('Daily Log'!#REF!,$B347,'Daily Log'!#REF!),0)","v":0},{"$f":"IFERROR($E347*SUMIF('Daily Log'!#REF!,$B347,'Daily Log'!#REF!),0)","v":0},{"$f":"IFERROR($E347*SUMIF('Daily Log'!#REF!,$B347,'Daily Log'!#REF!),0)","v":0},{"$f":"IFERROR($E347*SUMIF('Daily Log'!#REF!,$B347,'Daily Log'!#REF!),0)","v":0},{"$f":"IFERROR($E347*SUMIF('Daily Log'!#REF!,$B347,'Daily Log'!#REF!),0)","v":0},{"$f":"IFERROR($E347*SUMIF('Daily Log'!#REF!,$B347,'Daily Log'!#REF!),0)","v":0},{"$f":"IFERROR($E347*SUMIF('Daily Log'!#REF!,$B347,'Daily Log'!#REF!),0)","v":0},{"$f":"IFERROR($E347*SUMIF('Daily Log'!#REF!,$B347,'Daily Log'!#REF!),0)","v":0},{"$f":"IFERROR($E347*SUMIF('Daily Log'!#REF!,$B347,'Daily Log'!#REF!),0)","v":0},{"$f":"IFERROR($E347*SUMIF('Daily Log'!#REF!,$B347,'Daily Log'!#REF!),0)","v":0},{"$f":"IFERROR($E347*SUMIF('Daily Log'!#REF!,$B347,'Daily Log'!#REF!),0)","v":0},{"$f":"IFERROR($E347*SUMIF('Daily Log'!#REF!,$B347,'Daily Log'!#REF!),0)","v":0},{"$f":"IFERROR($E347*SUMIF('Daily Log'!#REF!,$B347,'Daily Log'!#REF!),0)","v":0},{"$f":"IFERROR($E347*SUMIF('Daily Log'!#REF!,$B347,'Daily Log'!#REF!),0)","v":0},{"$f":"IFERROR($E347*SUMIF('Daily Log'!#REF!,$B347,'Daily Log'!#REF!),0)","v":0}]
[null,"ZAD10 LESS SPICY",null,null,1,2,{"$f":"IFERROR($E348*SUMIF('Daily Log'!$B$18:$B$1017,$B348,'Daily Log'!$C$18:$C$1017),0)","v":0},{"$f":"IFERROR($E348*SUMIF('Daily Log'!$E$18:$E$1017,$B348,'Daily Log'!$F$18:$F$1017),0)","v":0},{"$f":"IFERROR($E348*SUMIF('Daily Log'!$H$18:$H$1017,$B348,'Daily Log'!$I$18:$I$1017),0)","v":0},{"$f":"IFERROR($E348*SUMIF('Daily Log'!$K$18:$K$1017,$B348,'Daily Log'!$L$18:$L$1017),0)","v":2},{"$f":"IFERROR($E348*SUMIF('Daily Log'!$N$18:$N$1017,$B348,'Daily Log'!$O$18:$O$1017),0)","v":0},{"$f":"IFERROR($E348*SUMIF('Daily Log'!#REF!,$B348,'Daily Log'!#REF!),0)","v":0},{"$f":"IFERROR($E348*SUMIF('Daily Log'!#REF!,$B348,'Daily Log'!#REF!),0)","v":0},{"$f":"IFERROR($E348*SUMIF('Daily Log'!#REF!,$B348,'Daily Log'!#REF!),0)","v":0},{"$f":"IFERROR($E348*SUMIF('Daily Log'!#REF!,$B348,'Daily Log'!#REF!),0)","v":0},{"$f":"IFERROR($E348*SUMIF('Daily Log'!#REF!,$B348,'Daily Log'!#REF!),0)","v":0},{"$f":"IFERROR($E348*SUMIF('Daily Log'!#REF!,$B348,'Daily Log'!#REF!),0)","v":0},{"$f":"IFERROR($E348*SUMIF('Daily Log'!#REF!,$B348,'Daily Log'!#REF!),0)","v":0},{"$f":"IFERROR($E348*SUMIF('Daily Log'!#REF!,$B348,'Daily Log'!#REF!),0)","v":0},{"$f":"IFERROR($E348*SUMIF('Daily Log'!#REF!,$B348,'Daily Log'!#REF!),0)","v":0},{"$f":"IFERROR($E348*SUMIF('Daily Log'!#REF!,$B348,'Daily Log'!#REF!),0)","v":0},{"$f":"IFERROR($E348*SUMIF('Daily Log'!#REF!,$B348,'Daily Log'!#REF!),0)","v":0},{"$f":"IFERROR($E348*SUMIF('Daily Log'!#REF!,$B348,'Daily Log'!#REF!),0)","v":0},{"$f":"IFERROR($E348*SUMIF('Daily Log'!#REF!,$B348,'Daily Log'!#REF!),0)","v":0},{"$f":"IFERROR($E348*SUMIF('Daily Log'!#REF!,$B348,'Daily Log'!#REF!),0)","v":0},{"$f":"IFERROR($E348*SUMIF('Daily Log'!#REF!,$B348,'Daily Log'!#REF!),0)","v":0},{"$f":"IFERROR($E348*SUMIF('Daily Log'!#REF!,$B348,'Daily Log'!#REF!),0)","v":0},{"$f":"IFERROR($E348*SUMIF('Daily Log'!#REF!,$B348,'Daily Log'!#REF!),0)","v":0},{"$f":"IFERROR($E348*SUMIF('Daily Log'!#REF!,$B348,'Daily Log'!#REF!),0)","v":0},{"$f":"IFERROR($E348*SUMIF('Daily Log'!#REF!,$B348,'Daily Log'!#REF!),0)","v":0},{"$f":"IFERROR($E348*SUMIF('Daily Log'!#REF!,$B348,'Daily Log'!#REF!),0)","v":0},{"$f":"IFERROR($E348*SUMIF('Daily Log'!#REF!,$B348,'Daily Log'!#REF!),0)","v":0},{"$f":"IFERROR($E348*SUMIF('Daily Log'!#REF!,$B348,'Daily Log'!#REF!),0)","v":0},{"$f":"IFERROR($E348*SUMIF('Daily Log'!#REF!,$B348,'Daily Log'!#REF!),0)","v":0},{"$f":"IFERROR($E348*SUMIF('Daily Log'!#REF!,$B348,'Daily Log'!#REF!),0)","v":0},{"$f":"IFERROR($E348*SUMIF('Daily Log'!#REF!,$B348,'Daily Log'!#REF!),0)","v":0},{"$f":"IFERROR($E348*SUMIF('Daily Log'!#REF!,$B348,'Daily Log'!#REF!),0)","v":0}]
[null,"ZAD12 NO VEGGIE",null,null,1,0,{"$f":"IFERROR($E349*SUMIF('Daily Log'!$B$18:$B$1017,$B349,'Daily Log'!$C$18:$C$1017),0)","v":0},{"$f":"IFERROR($E349*SUMIF('Daily Log'!$E$18:$E$1017,$B349,'Daily Log'!$F$18:$F$1017),0)","v":0},{"$f":"IFERROR($E349*SUMIF('Daily Log'!$H$18:$H$1017,$B349,'Daily Log'!$I$18:$I$1017),0)","v":0},{"$f":"IFERROR($E349*SUMIF('Daily Log'!$K$18:$K$1017,$B349,'Daily Log'!$L$18:$L$1017),0)","v":0},{"$f":"IFERROR($E349*SUMIF('Daily Log'!$N$18:$N$1017,$B349,'Daily Log'!$O$18:$O$1017),0)","v":0},{"$f":"IFERROR($E349*SUMIF('Daily Log'!#REF!,$B349,'Daily Log'!#REF!),0)","v":0},{"$f":"IFERROR($E349*SUMIF('Daily Log'!#REF!,$B349,'Daily Log'!#REF!),0)","v":0},{"$f":"IFERROR($E349*SUMIF('Daily Log'!#REF!,$B349,'Daily Log'!#REF!),0)","v":0},{"$f":"IFERROR($E349*SUMIF('Daily Log'!#REF!,$B349,'Daily Log'!#REF!),0)","v":0},{"$f":"IFERROR($E349*SUMIF('Daily Log'!#REF!,$B349,'Daily Log'!#REF!),0)","v":0},{"$f":"IFERROR($E349*SUMIF('Daily Log'!#REF!,$B349,'Daily Log'!#REF!),0)","v":0},{"$f":"IFERROR($E349*SUMIF('Daily Log'!#REF!,$B349,'Daily Log'!#REF!),0)","v":0},{"$f":"IFERROR($E349*SUMIF('Daily Log'!#REF!,$B349,'Daily Log'!#REF!),0)","v":0},{"$f":"IFERROR($E349*SUMIF('Daily Log'!#REF!,$B349,'Daily Log'!#REF!),0)","v":0},{"$f":"IFERROR($E349*SUMIF('Daily Log'!#REF!,$B349,'Daily Log'!#REF!),0)","v":0},{"$f":"IFERROR($E349*SUMIF('Daily Log'!#REF!,$B349,'Daily Log'!#REF!),0)","v":0},{"$f":"IFERROR($E349*SUMIF('Daily Log'!#REF!,$B349,'Daily Log'!#REF!),0)","v":0},{"$f":"IFERROR($E349*SUMIF('Daily Log'!#REF!,$B349,'Daily Log'!#REF!),0)","v":0},{"$f":"IFERROR($E349*SUMIF('Daily Log'!#REF!,$B349,'Daily Log'!#REF!),0)","v":0},{"$f":"IFERROR($E349*SUMIF('Daily Log'!#REF!,$B349,'Daily Log'!#REF!),0)","v":0},{"$f":"IFERROR($E349*SUMIF('Daily Log'!#REF!,$B349,'Daily Log'!#REF!),0)","v":0},{"$f":"IFERROR($E349*SUMIF('Daily Log'!#REF!,$B349,'Daily Log'!#REF!),0)","v":0},{"$f":"IFERROR($E349*SUMIF('Daily Log'!#REF!,$B349,'Daily Log'!#REF!),0)","v":0},{"$f":"IFERROR($E349*SUMIF('Daily Log'!#REF!,$B349,'Daily Log'!#REF!),0)","v":0},{"$f":"IFERROR($E349*SUMIF('Daily Log'!#REF!,$B349,'Daily Log'!#REF!),0)","v":0},{"$f":"IFERROR($E349*SUMIF('Daily Log'!#REF!,$B349,'Daily Log'!#REF!),0)","v":0},{"$f":"IFERROR($E349*SUMIF('Daily Log'!#REF!,$B349,'Daily Log'!#REF!),0)","v":0},{"$f":"IFERROR($E349*SUMIF('Daily Log'!#REF!,$B349,'Daily Log'!#REF!),0)","v":0},{"$f":"IFERROR($E349*SUMIF('Daily Log'!#REF!,$B349,'Daily Log'!#REF!),0)","v":0},{"$f":"IFERROR($E349*SUMIF('Daily Log'!#REF!,$B349,'Daily Log'!#REF!),0)","v":0},{"$f":"IFERROR($E349*SUMIF('Daily Log'!#REF!,$B349,'Daily Log'!#REF!),0)","v":0}]
[null,"ZAD13 ADD LEMON",null,null,1,36,{"$f":"IFERROR($E350*SUMIF('Daily Log'!$B$18:$B$1017,$B350,'Daily Log'!$C$18:$C$1017),0)","v":12},{"$f":"IFERROR($E350*SUMIF('Daily Log'!$E$18:$E$1017,$B350,'Daily Log'!$F$18:$F$1017),0)","v":3},{"$f":"IFERROR($E350*SUMIF('Daily Log'!$H$18:$H$1017,$B350,'Daily Log'!$I$18:$I$1017),0)","v":4},{"$f":"IFERROR($E350*SUMIF('Daily Log'!$K$18:$K$1017,$B350,'Daily Log'!$L$18:$L$1017),0)","v":15},{"$f":"IFERROR($E350*SUMIF('Daily Log'!$N$18:$N$1017,$B350,'Daily Log'!$O$18:$O$1017),0)","v":2},{"$f":"IFERROR($E350*SUMIF('Daily Log'!#REF!,$B350,'Daily Log'!#REF!),0)","v":0},{"$f":"IFERROR($E350*SUMIF('Daily Log'!#REF!,$B350,'Daily Log'!#REF!),0)","v":0},{"$f":"IFERROR($E350*SUMIF('Daily Log'!#REF!,$B350,'Daily Log'!#REF!),0)","v":0},{"$f":"IFERROR($E350*SUMIF('Daily Log'!#REF!,$B350,'Daily Log'!#REF!),0)","v":0},{"$f":"IFERROR($E350*SUMIF('Daily Log'!#REF!,$B350,'Daily Log'!#REF!),0)","v":0},{"$f":"IFERROR($E350*SUMIF('Daily Log'!#REF!,$B350,'Daily Log'!#REF!),0)","v":0},{"$f":"IFERROR($E350*SUMIF('Daily Log'!#REF!,$B350,'Daily Log'!#REF!),0)","v":0},{"$f":"IFERROR($E350*SUMIF('Daily Log'!#REF!,$B350,'Daily Log'!#REF!),0)","v":0},{"$f":"IFERROR($E350*SUMIF('Daily Log'!#REF!,$B350,'Daily Log'!#REF!),0)","v":0},{"$f":"IFERROR($E350*SUMIF('Daily Log'!#REF!,$B350,'Daily Log'!#REF!),0)","v":0},{"$f":"IFERROR($E350*SUMIF('Daily Log'!#REF!,$B350,'Daily Log'!#REF!),0)","v":0},{"$f":"IFERROR($E350*SUMIF('Daily Log'!#REF!,$B350,'Daily Log'!#REF!),0)","v":0},{"$f":"IFERROR($E350*SUMIF('Daily Log'!#REF!,$B350,'Daily Log'!#REF!),0)","v":0},{"$f":"IFERROR($E350*SUMIF('Daily Log'!#REF!,$B350,'Daily Log'!#REF!),0)","v":0},{"$f":"IFERROR($E350*SUMIF('Daily Log'!#REF!,$B350,'Daily Log'!#REF!),0)","v":0},{"$f":"IFERROR($E350*SUMIF('Daily Log'!#REF!,$B350,'Daily Log'!#REF!),0)","v":0},{"$f":"IFERROR($E350*SUMIF('Daily Log'!#REF!,$B350,'Daily Log'!#REF!),0)","v":0},{"$f":"IFERROR($E350*SUMIF('Daily Log'!#REF!,$B350,'Daily Log'!#REF!),0)","v":0},{"$f":"IFERROR($E350*SUMIF('Daily Log'!#REF!,$B350,'Daily Log'!#REF!),0)","v":0},{"$f":"IFERROR($E350*SUMIF('Daily Log'!#REF!,$B350,'Daily Log'!#REF!),0)","v":0},{"$f":"IFERROR($E350*SUMIF('Daily Log'!#REF!,$B350,'Daily Log'!#REF!),0)","v":0},{"$f":"IFERROR($E350*SUMIF('Daily Log'!#REF!,$B350,'Daily Log'!#REF!),0)","v":0},{"$f":"IFERROR($E350*SUMIF('Daily Log'!#REF!,$B350,'Daily Log'!#REF!),0)","v":0},{"$f":"IFERROR($E350*SUMIF('Daily Log'!#REF!,$B350,'Daily Log'!#REF!),0)","v":0},{"$f":"IFERROR($E350*SUMIF('Daily Log'!#REF!,$B350,'Daily Log'!#REF!),0)","v":0},{"$f":"IFERROR($E350*SUMIF('Daily Log'!#REF!,$B350,'Daily Log'!#REF!),0)","v":0}]
[null,"ZAD14 MORE SWEET",null,null,1,0,{"$f":"IFERROR($E351*SUMIF('Daily Log'!$B$18:$B$1017,$B351,'Daily Log'!$C$18:$C$1017),0)","v":0},{"$f":"IFERROR($E351*SUMIF('Daily Log'!$E$18:$E$1017,$B351,'Daily Log'!$F$18:$F$1017),0)","v":0},{"$f":"IFERROR($E351*SUMIF('Daily Log'!$H$18:$H$1017,$B351,'Daily Log'!$I$18:$I$1017),0)","v":0},{"$f":"IFERROR($E351*SUMIF('Daily Log'!$K$18:$K$1017,$B351,'Daily Log'!$L$18:$L$1017),0)","v":0},{"$f":"IFERROR($E351*SUMIF('Daily Log'!$N$18:$N$1017,$B351,'Daily Log'!$O$18:$O$1017),0)","v":0},{"$f":"IFERROR($E351*SUMIF('Daily Log'!#REF!,$B351,'Daily Log'!#REF!),0)","v":0},{"$f":"IFERROR($E351*SUMIF('Daily Log'!#REF!,$B351,'Daily Log'!#REF!),0)","v":0},{"$f":"IFERROR($E351*SUMIF('Daily Log'!#REF!,$B351,'Daily Log'!#REF!),0)","v":0},{"$f":"IFERROR($E351*SUMIF('Daily Log'!#REF!,$B351,'Daily Log'!#REF!),0)","v":0},{"$f":"IFERROR($E351*SUMIF('Daily Log'!#REF!,$B351,'Daily Log'!#REF!),0)","v":0},{"$f":"IFERROR($E351*SUMIF('Daily Log'!#REF!,$B351,'Daily Log'!#REF!),0)","v":0},{"$f":"IFERROR($E351*SUMIF('Daily Log'!#REF!,$B351,'Daily Log'!#REF!),0)","v":0},{"$f":"IFERROR($E351*SUMIF('Daily Log'!#REF!,$B351,'Daily Log'!#REF!),0)","v":0},{"$f":"IFERROR($E351*SUMIF('Daily Log'!#REF!,$B351,'Daily Log'!#REF!),0)","v":0},{"$f":"IFERROR($E351*SUMIF('Daily Log'!#REF!,$B351,'Daily Log'!#REF!),0)","v":0},{"$f":"IFERROR($E351*SUMIF('Daily Log'!#REF!,$B351,'Daily Log'!#REF!),0)","v":0},{"$f":"IFERROR($E351*SUMIF('Daily Log'!#REF!,$B351,'Daily Log'!#REF!),0)","v":0},{"$f":"IFERROR($E351*SUMIF('Daily Log'!#REF!,$B351,'Daily Log'!#REF!),0)","v":0},{"$f":"IFERROR($E351*SUMIF('Daily Log'!#REF!,$B351,'Daily Log'!#REF!),0)","v":0},{"$f":"IFERROR($E351*SUMIF('Daily Log'!#REF!,$B351,'Daily Log'!#REF!),0)","v":0},{"$f":"IFERROR($E351*SUMIF('Daily Log'!#REF!,$B351,'Daily Log'!#REF!),0)","v":0},{"$f":"IFERROR($E351*SUMIF('Daily Log'!#REF!,$B351,'Daily Log'!#REF!),0)","v":0},{"$f":"IFERROR($E351*SUMIF('Daily Log'!#REF!,$B351,'Daily Log'!#REF!),0)","v":0},{"$f":"IFERROR($E351*SUMIF('Daily Log'!#REF!,$B351,'Daily Log'!#REF!),0)","v":0},{"$f":"IFERROR($E351*SUMIF('Daily Log'!#REF!,$B351,'Daily Log'!#REF!),0)","v":0},{"$f":"IFERROR($E351*SUMIF('Daily Log'!#REF!,$B351,'Daily Log'!#REF!),0)","v":0},{"$f":"IFERROR($E351*SUMIF('Daily Log'!#REF!,$B351,'Daily Log'!#REF!),0)","v":0},{"$f":"IFERROR($E351*SUMIF('Daily Log'!#REF!,$B351,'Daily Log'!#REF!),0)","v":0},{"$f":"IFERROR($E351*SUMIF('Daily Log'!#REF!,$B351,'Daily Log'!#REF!),0)","v":0},{"$f":"IFERROR($E351*SUMIF('Daily Log'!#REF!,$B351,'Daily Log'!#REF!),0)","v":0},{"$f":"IFERROR($E351*SUMIF('Daily Log'!#REF!,$B351,'Daily Log'!#REF!),0)","v":0}]
[null,"ZAD15 VEGGIE ONLY",null,null,1,0,{"$f":"IFERROR($E352*SUMIF('Daily Log'!$B$18:$B$1017,$B352,'Daily Log'!$C$18:$C$1017),0)","v":0},{"$f":"IFERROR($E352*SUMIF('Daily Log'!$E$18:$E$1017,$B352,'Daily Log'!$F$18:$F$1017),0)","v":0},{"$f":"IFERROR($E352*SUMIF('Daily Log'!$H$18:$H$1017,$B352,'Daily Log'!$I$18:$I$1017),0)","v":0},{"$f":"IFERROR($E352*SUMIF('Daily Log'!$K$18:$K$1017,$B352,'Daily Log'!$L$18:$L$1017),0)","v":0},{"$f":"IFERROR($E352*SUMIF('Daily Log'!$N$18:$N$1017,$B352,'Daily Log'!$O$18:$O$1017),0)","v":0},{"$f":"IFERROR($E352*SUMIF('Daily Log'!#REF!,$B352,'Daily Log'!#REF!),0)","v":0},{"$f":"IFERROR($E352*SUMIF('Daily Log'!#REF!,$B352,'Daily Log'!#REF!),0)","v":0},{"$f":"IFERROR($E352*SUMIF('Daily Log'!#REF!,$B352,'Daily Log'!#REF!),0)","v":0},{"$f":"IFERROR($E352*SUMIF('Daily Log'!#REF!,$B352,'Daily Log'!#REF!),0)","v":0},{"$f":"IFERROR($E352*SUMIF('Daily Log'!#REF!,$B352,'Daily Log'!#REF!),0)","v":0},{"$f":"IFERROR($E352*SUMIF('Daily Log'!#REF!,$B352,'Daily Log'!#REF!),0)","v":0},{"$f":"IFERROR($E352*SUMIF('Daily Log'!#REF!,$B352,'Daily Log'!#REF!),0)","v":0},{"$f":"IFERROR($E352*SUMIF('Daily Log'!#REF!,$B352,'Daily Log'!#REF!),0)","v":0},{"$f":"IFERROR($E352*SUMIF('Daily Log'!#REF!,$B352,'Daily Log'!#REF!),0)","v":0},{"$f":"IFERROR($E352*SUMIF('Daily Log'!#REF!,$B352,'Daily Log'!#REF!),0)","v":0},{"$f":"IFERROR($E352*SUMIF('Daily Log'!#REF!,$B352,'Daily Log'!#REF!),0)","v":0},{"$f":"IFERROR($E352*SUMIF('Daily Log'!#REF!,$B352,'Daily Log'!#REF!),0)","v":0},{"$f":"IFERROR($E352*SUMIF('Daily Log'!#REF!,$B352,'Daily Log'!#REF!),0)","v":0},{"$f":"IFERROR($E352*SUMIF('Daily Log'!#REF!,$B352,'Daily Log'!#REF!),0)","v":0},{"$f":"IFERROR($E352*SUMIF('Daily Log'!#REF!,$B352,'Daily Log'!#REF!),0)","v":0},{"$f":"IFERROR($E352*SUMIF('Daily Log'!#REF!,$B352,'Daily Log'!#REF!),0)","v":0},{"$f":"IFERROR($E352*SUMIF('Daily Log'!#REF!,$B352,'Daily Log'!#REF!),0)","v":0},{"$f":"IFERROR($E352*SUMIF('Daily Log'!#REF!,$B352,'Daily Log'!#REF!),0)","v":0},{"$f":"IFERROR($E352*SUMIF('Daily Log'!#REF!,$B352,'Daily Log'!#REF!),0)","v":0},{"$f":"IFERROR($E352*SUMIF('Daily Log'!#REF!,$B352,'Daily Log'!#REF!),0)","v":0},{"$f":"IFERROR($E352*SUMIF('Daily Log'!#REF!,$B352,'Daily Log'!#REF!),0)","v":0},{"$f":"IFERROR($E352*SUMIF('Daily Log'!#REF!,$B352,'Daily Log'!#REF!),0)","v":0},{"$f":"IFERROR($E352*SUMIF('Daily Log'!#REF!,$B352,'Daily Log'!#REF!),0)","v":0},{"$f":"IFERROR($E352*SUMIF('Daily Log'!#REF!,$B352,'Daily Log'!#REF!),0)","v":0},{"$f":"IFERROR($E352*SUMIF('Daily Log'!#REF!,$B352,'Daily Log'!#REF!),0)","v":0},{"$f":"IFERROR($E352*SUMIF('Daily Log'!#REF!,$B352,'Daily Log'!#REF!),0)","v":0}]
[null,"ZAD16 COOL TELL KENZ D",null,null,1,2,{"$f":"IFERROR($E353*SUMIF('Daily Log'!$B$18:$B$1017,$B353,'Daily Log'!$C$18:$C$1017),0)","v":2},{"$f":"IFERROR($E353*SUMIF('Daily Log'!$E$18:$E$1017,$B353,'Daily Log'!$F$18:$F$1017),0)","v":0},{"$f":"IFERROR($E353*SUMIF('Daily Log'!$H$18:$H$1017,$B353,'Daily Log'!$I$18:$I$1017),0)","v":0},{"$f":"IFERROR($E353*SUMIF('Daily Log'!$K$18:$K$1017,$B353,'Daily Log'!$L$18:$L$1017),0)","v":0},{"$f":"IFERROR($E353*SUMIF('Daily Log'!$N$18:$N$1017,$B353,'Daily Log'!$O$18:$O$1017),0)","v":0},{"$f":"IFERROR($E353*SUMIF('Daily Log'!#REF!,$B353,'Daily Log'!#REF!),0)","v":0},{"$f":"IFERROR($E353*SUMIF('Daily Log'!#REF!,$B353,'Daily Log'!#REF!),0)","v":0},{"$f":"IFERROR($E353*SUMIF('Daily Log'!#REF!,$B353,'Daily Log'!#REF!),0)","v":0},{"$f":"IFERROR($E353*SUMIF('Daily Log'!#REF!,$B353,'Daily Log'!#REF!),0)","v":0},{"$f":"IFERROR($E353*SUMIF('Daily Log'!#REF!,$B353,'Daily Log'!#REF!),0)","v":0},{"$f":"IFERROR($E353*SUMIF('Daily Log'!#REF!,$B353,'Daily Log'!#REF!),0)","v":0},{"$f":"IFERROR($E353*SUMIF('Daily Log'!#REF!,$B353,'Daily Log'!#REF!),0)","v":0},{"$f":"IFERROR($E353*SUMIF('Daily Log'!#REF!,$B353,'Daily Log'!#REF!),0)","v":0},{"$f":"IFERROR($E353*SUMIF('Daily Log'!#REF!,$B353,'Daily Log'!#REF!),0)","v":0},{"$f":"IFERROR($E353*SUMIF('Daily Log'!#REF!,$B353,'Daily Log'!#REF!),0)","v":0},{"$f":"IFERROR($E353*SUMIF('Daily Log'!#REF!,$B353,'Daily Log'!#REF!),0)","v":0},{"$f":"IFERROR($E353*SUMIF('Daily Log'!#REF!,$B353,'Daily Log'!#REF!),0)","v":0},{"$f":"IFERROR($E353*SUMIF('Daily Log'!#REF!,$B353,'Daily Log'!#REF!),0)","v":0},{"$f":"IFERROR($E353*SUMIF('Daily Log'!#REF!,$B353,'Daily Log'!#REF!),0)","v":0},{"$f":"IFERROR($E353*SUMIF('Daily Log'!#REF!,$B353,'Daily Log'!#REF!),0)","v":0},{"$f":"IFERROR($E353*SUMIF('Daily Log'!#REF!,$B353,'Daily Log'!#REF!),0)","v":0},{"$f":"IFERROR($E353*SUMIF('Daily Log'!#REF!,$B353,'Daily Log'!#REF!),0)","v":0},{"$f":"IFERROR($E353*SUMIF('Daily Log'!#REF!,$B353,'Daily Log'!#REF!),0)","v":0},{"$f":"IFERROR($E353*SUMIF('Daily Log'!#REF!,$B353,'Daily Log'!#REF!),0)","v":0},{"$f":"IFERROR($E353*SUMIF('Daily Log'!#REF!,$B353,'Daily Log'!#REF!),0)","v":0},{"$f":"IFERROR($E353*SUMIF('Daily Log'!#REF!,$B353,'Daily Log'!#REF!),0)","v":0},{"$f":"IFERROR($E353*SUMIF('Daily Log'!#REF!,$B353,'Daily Log'!#REF!),0)","v":0},{"$f":"IFERROR($E353*SUMIF('Daily Log'!#REF!,$B353,'Daily Log'!#REF!),0)","v":0},{"$f":"IFERROR($E353*SUMIF('Daily Log'!#REF!,$B353,'Daily Log'!#REF!),0)","v":0},{"$f":"IFERROR($E353*SUMIF('Daily Log'!#REF!,$B353,'Daily Log'!#REF!),0)","v":0},{"$f":"IFERROR($E353*SUMIF('Daily Log'!#REF!,$B353,'Daily Log'!#REF!),0)","v":0}]
[null,"ZAD17 WITHOUT SUGAR",null,null,1,2,{"$f":"IFERROR($E354*SUMIF('Daily Log'!$B$18:$B$1017,$B354,'Daily Log'!$C$18:$C$1017),0)","v":0},{"$f":"IFERROR($E354*SUMIF('Daily Log'!$E$18:$E$1017,$B354,'Daily Log'!$F$18:$F$1017),0)","v":0},{"$f":"IFERROR($E354*SUMIF('Daily Log'!$H$18:$H$1017,$B354,'Daily Log'!$I$18:$I$1017),0)","v":0},{"$f":"IFERROR($E354*SUMIF('Daily Log'!$K$18:$K$1017,$B354,'Daily Log'!$L$18:$L$1017),0)","v":2},{"$f":"IFERROR($E354*SUMIF('Daily Log'!$N$18:$N$1017,$B354,'Daily Log'!$O$18:$O$1017),0)","v":0},{"$f":"IFERROR($E354*SUMIF('Daily Log'!#REF!,$B354,'Daily Log'!#REF!),0)","v":0},{"$f":"IFERROR($E354*SUMIF('Daily Log'!#REF!,$B354,'Daily Log'!#REF!),0)","v":0},{"$f":"IFERROR($E354*SUMIF('Daily Log'!#REF!,$B354,'Daily Log'!#REF!),0)","v":0},{"$f":"IFERROR($E354*SUMIF('Daily Log'!#REF!,$B354,'Daily Log'!#REF!),0)","v":0},{"$f":"IFERROR($E354*SUMIF('Daily Log'!#REF!,$B354,'Daily Log'!#REF!),0)","v":0},{"$f":"IFERROR($E354*SUMIF('Daily Log'!#REF!,$B354,'Daily Log'!#REF!),0)","v":0},{"$f":"IFERROR($E354*SUMIF('Daily Log'!#REF!,$B354,'Daily Log'!#REF!),0)","v":0},{"$f":"IFERROR($E354*SUMIF('Daily Log'!#REF!,$B354,'Daily Log'!#REF!),0)","v":0},{"$f":"IFERROR($E354*SUMIF('Daily Log'!#REF!,$B354,'Daily Log'!#REF!),0)","v":0},{"$f":"IFERROR($E354*SUMIF('Daily Log'!#REF!,$B354,'Daily Log'!#REF!),0)","v":0},{"$f":"IFERROR($E354*SUMIF('Daily Log'!#REF!,$B354,'Daily Log'!#REF!),0)","v":0},{"$f":"IFERROR($E354*SUMIF('Daily Log'!#REF!,$B354,'Daily Log'!#REF!),0)","v":0},{"$f":"IFERROR($E354*SUMIF('Daily Log'!#REF!,$B354,'Daily Log'!#REF!),0)","v":0},{"$f":"IFERROR($E354*SUMIF('Daily Log'!#REF!,$B354,'Daily Log'!#REF!),0)","v":0},{"$f":"IFERROR($E354*SUMIF('Daily Log'!#REF!,$B354,'Daily Log'!#REF!),0)","v":0},{"$f":"IFERROR($E354*SUMIF('Daily Log'!#REF!,$B354,'Daily Log'!#REF!),0)","v":0},{"$f":"IFERROR($E354*SUMIF('Daily Log'!#REF!,$B354,'Daily Log'!#REF!),0)","v":0},{"$f":"IFERROR($E354*SUMIF('Daily Log'!#REF!,$B354,'Daily Log'!#REF!),0)","v":0},{"$f":"IFERROR($E354*SUMIF('Daily Log'!#REF!,$B354,'Daily Log'!#REF!),0)","v":0},{"$f":"IFERROR($E354*SUMIF('Daily Log'!#REF!,$B354,'Daily Log'!#REF!),0)","v":0},{"$f":"IFERROR($E354*SUMIF('Daily Log'!#REF!,$B354,'Daily Log'!#REF!),0)","v":0},{"$f":"IFERROR($E354*SUMIF('Daily Log'!#REF!,$B354,'Daily Log'!#REF!),0)","v":0},{"$f":"IFERROR($E354*SUMIF('Daily Log'!#REF!,$B354,'Daily Log'!#REF!),0)","v":0},{"$f":"IFERROR($E354*SUMIF('Daily Log'!#REF!,$B354,'Daily Log'!#REF!),0)","v":0},{"$f":"IFERROR($E354*SUMIF('Daily Log'!#REF!,$B354,'Daily Log'!#REF!),0)","v":0},{"$f":"IFERROR($E354*SUMIF('Daily Log'!#REF!,$B354,'Daily Log'!#REF!),0)","v":0}]
[null,"ZAD19 KAU KAU",null,null,1,0,{"$f":"IFERROR($E355*SUMIF('Daily Log'!$B$18:$B$1017,$B355,'Daily Log'!$C$18:$C$1017),0)","v":0},{"$f":"IFERROR($E355*SUMIF('Daily Log'!$E$18:$E$1017,$B355,'Daily Log'!$F$18:$F$1017),0)","v":0},{"$f":"IFERROR($E355*SUMIF('Daily Log'!$H$18:$H$1017,$B355,'Daily Log'!$I$18:$I$1017),0)","v":0},{"$f":"IFERROR($E355*SUMIF('Daily Log'!$K$18:$K$1017,$B355,'Daily Log'!$L$18:$L$1017),0)","v":0},{"$f":"IFERROR($E355*SUMIF('Daily Log'!$N$18:$N$1017,$B355,'Daily Log'!$O$18:$O$1017),0)","v":0},{"$f":"IFERROR($E355*SUMIF('Daily Log'!#REF!,$B355,'Daily Log'!#REF!),0)","v":0},{"$f":"IFERROR($E355*SUMIF('Daily Log'!#REF!,$B355,'Daily Log'!#REF!),0)","v":0},{"$f":"IFERROR($E355*SUMIF('Daily Log'!#REF!,$B355,'Daily Log'!#REF!),0)","v":0},{"$f":"IFERROR($E355*SUMIF('Daily Log'!#REF!,$B355,'Daily Log'!#REF!),0)","v":0},{"$f":"IFERROR($E355*SUMIF('Daily Log'!#REF!,$B355,'Daily Log'!#REF!),0)","v":0},{"$f":"IFERROR($E355*SUMIF('Daily Log'!#REF!,$B355,'Daily Log'!#REF!),0)","v":0},{"$f":"IFERROR($E355*SUMIF('Daily Log'!#REF!,$B355,'Daily Log'!#REF!),0)","v":0},{"$f":"IFERROR($E355*SUMIF('Daily Log'!#REF!,$B355,'Daily Log'!#REF!),0)","v":0},{"$f":"IFERROR($E355*SUMIF('Daily Log'!#REF!,$B355,'Daily Log'!#REF!),0)","v":0},{"$f":"IFERROR($E355*SUMIF('Daily Log'!#REF!,$B355,'Daily Log'!#REF!),0)","v":0},{"$f":"IFERROR($E355*SUMIF('Daily Log'!#REF!,$B355,'Daily Log'!#REF!),0)","v":0},{"$f":"IFERROR($E355*SUMIF('Daily Log'!#REF!,$B355,'Daily Log'!#REF!),0)","v":0},{"$f":"IFERROR($E355*SUMIF('Daily Log'!#REF!,$B355,'Daily Log'!#REF!),0)","v":0},{"$f":"IFERROR($E355*SUMIF('Daily Log'!#REF!,$B355,'Daily Log'!#REF!),0)","v":0},{"$f":"IFERROR($E355*SUMIF('Daily Log'!#REF!,$B355,'Daily Log'!#REF!),0)","v":0},{"$f":"IFERROR($E355*SUMIF('Daily Log'!#REF!,$B355,'Daily Log'!#REF!),0)","v":0},{"$f":"IFERROR($E355*SUMIF('Daily Log'!#REF!,$B355,'Daily Log'!#REF!),0)","v":0},{"$f":"IFERROR($E355*SUMIF('Daily Log'!#REF!,$B355,'Daily Log'!#REF!),0)","v":0},{"$f":"IFERROR($E355*SUMIF('Daily Log'!#REF!,$B355,'Daily Log'!#REF!),0)","v":0},{"$f":"IFERROR($E355*SUMIF('Daily Log'!#REF!,$B355,'Daily Log'!#REF!),0)","v":0},{"$f":"IFERROR($E355*SUMIF('Daily Log'!#REF!,$B355,'Daily Log'!#REF!),0)","v":0},{"$f":"IFERROR($E355*SUMIF('Daily Log'!#REF!,$B355,'Daily Log'!#REF!),0)","v":0},{"$f":"IFERROR($E355*SUMIF('Daily Log'!#REF!,$B355,'Daily Log'!#REF!),0)","v":0},{"$f":"IFERROR($E355*SUMIF('Daily Log'!#REF!,$B355,'Daily Log'!#REF!),0)","v":0},{"$f":"IFERROR($E355*SUMIF('Daily Log'!#REF!,$B355,'Daily Log'!#REF!),0)","v":0},{"$f":"IFERROR($E355*SUMIF('Daily Log'!#REF!,$B355,'Daily Log'!#REF!),0)","v":0}]
[null,"ZAD20 JUG",null,null,1,22,{"$f":"IFERROR($E356*SUMIF('Daily Log'!$B$18:$B$1017,$B356,'Daily Log'!$C$18:$C$1017),0)","v":3},{"$f":"IFERROR($E356*SUMIF('Daily Log'!$E$18:$E$1017,$B356,'Daily Log'!$F$18:$F$1017),0)","v":3},{"$f":"IFERROR($E356*SUMIF('Daily Log'!$H$18:$H$1017,$B356,'Daily Log'!$I$18:$I$1017),0)","v":6},{"$f":"IFERROR($E356*SUMIF('Daily Log'!$K$18:$K$1017,$B356,'Daily Log'!$L$18:$L$1017),0)","v":6},{"$f":"IFERROR($E356*SUMIF('Daily Log'!$N$18:$N$1017,$B356,'Daily Log'!$O$18:$O$1017),0)","v":4},{"$f":"IFERROR($E356*SUMIF('Daily Log'!#REF!,$B356,'Daily Log'!#REF!),0)","v":0},{"$f":"IFERROR($E356*SUMIF('Daily Log'!#REF!,$B356,'Daily Log'!#REF!),0)","v":0},{"$f":"IFERROR($E356*SUMIF('Daily Log'!#REF!,$B356,'Daily Log'!#REF!),0)","v":0},{"$f":"IFERROR($E356*SUMIF('Daily Log'!#REF!,$B356,'Daily Log'!#REF!),0)","v":0},{"$f":"IFERROR($E356*SUMIF('Daily Log'!#REF!,$B356,'Daily Log'!#REF!),0)","v":0},{"$f":"IFERROR($E356*SUMIF('Daily Log'!#REF!,$B356,'Daily Log'!#REF!),0)","v":0},{"$f":"IFERROR($E356*SUMIF('Daily Log'!#REF!,$B356,'Daily Log'!#REF!),0)","v":0},{"$f":"IFERROR($E356*SUMIF('Daily Log'!#REF!,$B356,'Daily Log'!#REF!),0)","v":0},{"$f":"IFERROR($E356*SUMIF('Daily Log'!#REF!,$B356,'Daily Log'!#REF!),0)","v":0},{"$f":"IFERROR($E356*SUMIF('Daily Log'!#REF!,$B356,'Daily Log'!#REF!),0)","v":0},{"$f":"IFERROR($E356*SUMIF('Daily Log'!#REF!,$B356,'Daily Log'!#REF!),0)","v":0},{"$f":"IFERROR($E356*SUMIF('Daily Log'!#REF!,$B356,'Daily Log'!#REF!),0)","v":0},{"$f":"IFERROR($E356*SUMIF('Daily Log'!#REF!,$B356,'Daily Log'!#REF!),0)","v":0},{"$f":"IFERROR($E356*SUMIF('Daily Log'!#REF!,$B356,'Daily Log'!#REF!),0)","v":0},{"$f":"IFERROR($E356*SUMIF('Daily Log'!#REF!,$B356,'Daily Log'!#REF!),0)","v":0},{"$f":"IFERROR($E356*SUMIF('Daily Log'!#REF!,$B356,'Daily Log'!#REF!),0)","v":0},{"$f":"IFERROR($E356*SUMIF('Daily Log'!#REF!,$B356,'Daily Log'!#REF!),0)","v":0},{"$f":"IFERROR($E356*SUMIF('Daily Log'!#REF!,$B356,'Daily Log'!#REF!),0)","v":0},{"$f":"IFERROR($E356*SUMIF('Daily Log'!#REF!,$B356,'Daily Log'!#REF!),0)","v":0},{"$f":"IFERROR($E356*SUMIF('Daily Log'!#REF!,$B356,'Daily Log'!#REF!),0)","v":0},{"$f":"IFERROR($E356*SUMIF('Daily Log'!#REF!,$B356,'Daily Log'!#REF!),0)","v":0},{"$f":"IFERROR($E356*SUMIF('Daily Log'!#REF!,$B356,'Daily Log'!#REF!),0)","v":0},{"$f":"IFERROR($E356*SUMIF('Daily Log'!#REF!,$B356,'Daily Log'!#REF!),0)","v":0},{"$f":"IFERROR($E356*SUMIF('Daily Log'!#REF!,$B356,'Daily Log'!#REF!),0)","v":0},{"$f":"IFERROR($E356*SUMIF('Daily Log'!#REF!,$B356,'Daily Log'!#REF!),0)","v":0},{"$f":"IFERROR($E356*SUMIF('Daily Log'!#REF!,$B356,'Daily Log'!#REF!),0)","v":0}]
[null,"ZAD21 TAKE AWAY",null,null,1,0,{"$f":"IFERROR($E357*SUMIF('Daily Log'!$B$18:$B$1017,$B357,'Daily Log'!$C$18:$C$1017),0)","v":0},{"$f":"IFERROR($E357*SUMIF('Daily Log'!$E$18:$E$1017,$B357,'Daily Log'!$F$18:$F$1017),0)","v":0},{"$f":"IFERROR($E357*SUMIF('Daily Log'!$H$18:$H$1017,$B357,'Daily Log'!$I$18:$I$1017),0)","v":0},{"$f":"IFERROR($E357*SUMIF('Daily Log'!$K$18:$K$1017,$B357,'Daily Log'!$L$18:$L$1017),0)","v":0},{"$f":"IFERROR($E357*SUMIF('Daily Log'!$N$18:$N$1017,$B357,'Daily Log'!$O$18:$O$1017),0)","v":0},{"$f":"IFERROR($E357*SUMIF('Daily Log'!#REF!,$B357,'Daily Log'!#REF!),0)","v":0},{"$f":"IFERROR($E357*SUMIF('Daily Log'!#REF!,$B357,'Daily Log'!#REF!),0)","v":0},{"$f":"IFERROR($E357*SUMIF('Daily Log'!#REF!,$B357,'Daily Log'!#REF!),0)","v":0},{"$f":"IFERROR($E357*SUMIF('Daily Log'!#REF!,$B357,'Daily Log'!#REF!),0)","v":0},{"$f":"IFERROR($E357*SUMIF('Daily Log'!#REF!,$B357,'Daily Log'!#REF!),0)","v":0},{"$f":"IFERROR($E357*SUMIF('Daily Log'!#REF!,$B357,'Daily Log'!#REF!),0)","v":0},{"$f":"IFERROR($E357*SUMIF('Daily Log'!#REF!,$B357,'Daily Log'!#REF!),0)","v":0},{"$f":"IFERROR($E357*SUMIF('Daily Log'!#REF!,$B357,'Daily Log'!#REF!),0)","v":0},{"$f":"IFERROR($E357*SUMIF('Daily Log'!#REF!,$B357,'Daily Log'!#REF!),0)","v":0},{"$f":"IFERROR($E357*SUMIF('Daily Log'!#REF!,$B357,'Daily Log'!#REF!),0)","v":0},{"$f":"IFERROR($E357*SUMIF('Daily Log'!#REF!,$B357,'Daily Log'!#REF!),0)","v":0},{"$f":"IFERROR($E357*SUMIF('Daily Log'!#REF!,$B357,'Daily Log'!#REF!),0)","v":0},{"$f":"IFERROR($E357*SUMIF('Daily Log'!#REF!,$B357,'Daily Log'!#REF!),0)","v":0},{"$f":"IFERROR($E357*SUMIF('Daily Log'!#REF!,$B357,'Daily Log'!#REF!),0)","v":0},{"$f":"IFERROR($E357*SUMIF('Daily Log'!#REF!,$B357,'Daily Log'!#REF!),0)","v":0},{"$f":"IFERROR($E357*SUMIF('Daily Log'!#REF!,$B357,'Daily Log'!#REF!),0)","v":0},{"$f":"IFERROR($E357*SUMIF('Daily Log'!#REF!,$B357,'Daily Log'!#REF!),0)","v":0},{"$f":"IFERROR($E357*SUMIF('Daily Log'!#REF!,$B357,'Daily Log'!#REF!),0)","v":0},{"$f":"IFERROR($E357*SUMIF('Daily Log'!#REF!,$B357,'Daily Log'!#REF!),0)","v":0},{"$f":"IFERROR($E357*SUMIF('Daily Log'!#REF!,$B357,'Daily Log'!#REF!),0)","v":0},{"$f":"IFERROR($E357*SUMIF('Daily Log'!#REF!,$B357,'Daily Log'!#REF!),0)","v":0},{"$f":"IFERROR($E357*SUMIF('Daily Log'!#REF!,$B357,'Daily Log'!#REF!),0)","v":0},{"$f":"IFERROR($E357*SUMIF('Daily Log'!#REF!,$B357,'Daily Log'!#REF!),0)","v":0},{"$f":"IFERROR($E357*SUMIF('Daily Log'!#REF!,$B357,'Daily Log'!#REF!),0)","v":0},{"$f":"IFERROR($E357*SUMIF('Daily Log'!#REF!,$B357,'Daily Log'!#REF!),0)","v":0},{"$f":"IFERROR($E357*SUMIF('Daily Log'!#REF!,$B357,'Daily Log'!#REF!),0)","v":0}]
[null,"ZAD24 + SAUCE BP",null,null,1,2,{"$f":"IFERROR($E358*SUMIF('Daily Log'!$B$18:$B$1017,$B358,'Daily Log'!$C$18:$C$1017),0)","v":2},{"$f":"IFERROR($E358*SUMIF('Daily Log'!$E$18:$E$1017,$B358,'Daily Log'!$F$18:$F$1017),0)","v":0},{"$f":"IFERROR($E358*SUMIF('Daily Log'!$H$18:$H$1017,$B358,'Daily Log'!$I$18:$I$1017),0)","v":0},{"$f":"IFERROR($E358*SUMIF('Daily Log'!$K$18:$K$1017,$B358,'Daily Log'!$L$18:$L$1017),0)","v":0},{"$f":"IFERROR($E358*SUMIF('Daily Log'!$N$18:$N$1017,$B358,'Daily Log'!$O$18:$O$1017),0)","v":0},{"$f":"IFERROR($E358*SUMIF('Daily Log'!#REF!,$B358,'Daily Log'!#REF!),0)","v":0},{"$f":"IFERROR($E358*SUMIF('Daily Log'!#REF!,$B358,'Daily Log'!#REF!),0)","v":0},{"$f":"IFERROR($E358*SUMIF('Daily Log'!#REF!,$B358,'Daily Log'!#REF!),0)","v":0},{"$f":"IFERROR($E358*SUMIF('Daily Log'!#REF!,$B358,'Daily Log'!#REF!),0)","v":0},{"$f":"IFERROR($E358*SUMIF('Daily Log'!#REF!,$B358,'Daily Log'!#REF!),0)","v":0},{"$f":"IFERROR($E358*SUMIF('Daily Log'!#REF!,$B358,'Daily Log'!#REF!),0)","v":0},{"$f":"IFERROR($E358*SUMIF('Daily Log'!#REF!,$B358,'Daily Log'!#REF!),0)","v":0},{"$f":"IFERROR($E358*SUMIF('Daily Log'!#REF!,$B358,'Daily Log'!#REF!),0)","v":0},{"$f":"IFERROR($E358*SUMIF('Daily Log'!#REF!,$B358,'Daily Log'!#REF!),0)","v":0},{"$f":"IFERROR($E358*SUMIF('Daily Log'!#REF!,$B358,'Daily Log'!#REF!),0)","v":0},{"$f":"IFERROR($E358*SUMIF('Daily Log'!#REF!,$B358,'Daily Log'!#REF!),0)","v":0},{"$f":"IFERROR($E358*SUMIF('Daily Log'!#REF!,$B358,'Daily Log'!#REF!),0)","v":0},{"$f":"IFERROR($E358*SUMIF('Daily Log'!#REF!,$B358,'Daily Log'!#REF!),0)","v":0},{"$f":"IFERROR($E358*SUMIF('Daily Log'!#REF!,$B358,'Daily Log'!#REF!),0)","v":0},{"$f":"IFERROR($E358*SUMIF('Daily Log'!#REF!,$B358,'Daily Log'!#REF!),0)","v":0},{"$f":"IFERROR($E358*SUMIF('Daily Log'!#REF!,$B358,'Daily Log'!#REF!),0)","v":0},{"$f":"IFERROR($E358*SUMIF('Daily Log'!#REF!,$B358,'Daily Log'!#REF!),0)","v":0},{"$f":"IFERROR($E358*SUMIF('Daily Log'!#REF!,$B358,'Daily Log'!#REF!),0)","v":0},{"$f":"IFERROR($E358*SUMIF('Daily Log'!#REF!,$B358,'Daily Log'!#REF!),0)","v":0},{"$f":"IFERROR($E358*SUMIF('Daily Log'!#REF!,$B358,'Daily Log'!#REF!),0)","v":0},{"$f":"IFERROR($E358*SUMIF('Daily Log'!#REF!,$B358,'Daily Log'!#REF!),0)","v":0},{"$f":"IFERROR($E358*SUMIF('Daily Log'!#REF!,$B358,'Daily Log'!#REF!),0)","v":0},{"$f":"IFERROR($E358*SUMIF('Daily Log'!#REF!,$B358,'Daily Log'!#REF!),0)","v":0},{"$f":"IFERROR($E358*SUMIF('Daily Log'!#REF!,$B358,'Daily Log'!#REF!),0)","v":0},{"$f":"IFERROR($E358*SUMIF('Daily Log'!#REF!,$B358,'Daily Log'!#REF!),0)","v":0},{"$f":"IFERROR($E358*SUMIF('Daily Log'!#REF!,$B358,'Daily Log'!#REF!),0)","v":0}]
[null,"ZAD25 + SAUCE BUTTER",null,null,1,0,{"$f":"IFERROR($E359*SUMIF('Daily Log'!$B$18:$B$1017,$B359,'Daily Log'!$C$18:$C$1017),0)","v":0},{"$f":"IFERROR($E359*SUMIF('Daily Log'!$E$18:$E$1017,$B359,'Daily Log'!$F$18:$F$1017),0)","v":0},{"$f":"IFERROR($E359*SUMIF('Daily Log'!$H$18:$H$1017,$B359,'Daily Log'!$I$18:$I$1017),0)","v":0},{"$f":"IFERROR($E359*SUMIF('Daily Log'!$K$18:$K$1017,$B359,'Daily Log'!$L$18:$L$1017),0)","v":0},{"$f":"IFERROR($E359*SUMIF('Daily Log'!$N$18:$N$1017,$B359,'Daily Log'!$O$18:$O$1017),0)","v":0},{"$f":"IFERROR($E359*SUMIF('Daily Log'!#REF!,$B359,'Daily Log'!#REF!),0)","v":0},{"$f":"IFERROR($E359*SUMIF('Daily Log'!#REF!,$B359,'Daily Log'!#REF!),0)","v":0},{"$f":"IFERROR($E359*SUMIF('Daily Log'!#REF!,$B359,'Daily Log'!#REF!),0)","v":0},{"$f":"IFERROR($E359*SUMIF('Daily Log'!#REF!,$B359,'Daily Log'!#REF!),0)","v":0},{"$f":"IFERROR($E359*SUMIF('Daily Log'!#REF!,$B359,'Daily Log'!#REF!),0)","v":0},{"$f":"IFERROR($E359*SUMIF('Daily Log'!#REF!,$B359,'Daily Log'!#REF!),0)","v":0},{"$f":"IFERROR($E359*SUMIF('Daily Log'!#REF!,$B359,'Daily Log'!#REF!),0)","v":0},{"$f":"IFERROR($E359*SUMIF('Daily Log'!#REF!,$B359,'Daily Log'!#REF!),0)","v":0},{"$f":"IFERROR($E359*SUMIF('Daily Log'!#REF!,$B359,'Daily Log'!#REF!),0)","v":0},{"$f":"IFERROR($E359*SUMIF('Daily Log'!#REF!,$B359,'Daily Log'!#REF!),0)","v":0},{"$f":"IFERROR($E359*SUMIF('Daily Log'!#REF!,$B359,'Daily Log'!#REF!),0)","v":0},{"$f":"IFERROR($E359*SUMIF('Daily Log'!#REF!,$B359,'Daily Log'!#REF!),0)","v":0},{"$f":"IFERROR($E359*SUMIF('Daily Log'!#REF!,$B359,'Daily Log'!#REF!),0)","v":0},{"$f":"IFERROR($E359*SUMIF('Daily Log'!#REF!,$B359,'Daily Log'!#REF!),0)","v":0},{"$f":"IFERROR($E359*SUMIF('Daily Log'!#REF!,$B359,'Daily Log'!#REF!),0)","v":0},{"$f":"IFERROR($E359*SUMIF('Daily Log'!#REF!,$B359,'Daily Log'!#REF!),0)","v":0},{"$f":"IFERROR($E359*SUMIF('Daily Log'!#REF!,$B359,'Daily Log'!#REF!),0)","v":0},{"$f":"IFERROR($E359*SUMIF('Daily Log'!#REF!,$B359,'Daily Log'!#REF!),0)","v":0},{"$f":"IFERROR($E359*SUMIF('Daily Log'!#REF!,$B359,'Daily Log'!#REF!),0)","v":0},{"$f":"IFERROR($E359*SUMIF('Daily Log'!#REF!,$B359,'Daily Log'!#REF!),0)","v":0},{"$f":"IFERROR($E359*SUMIF('Daily Log'!#REF!,$B359,'Daily Log'!#REF!),0)","v":0},{"$f":"IFERROR($E359*SUMIF('Daily Log'!#REF!,$B359,'Daily Log'!#REF!),0)","v":0},{"$f":"IFERROR($E359*SUMIF('Daily Log'!#REF!,$B359,'Daily Log'!#REF!),0)","v":0},{"$f":"IFERROR($E359*SUMIF('Daily Log'!#REF!,$B359,'Daily Log'!#REF!),0)","v":0},{"$f":"IFERROR($E359*SUMIF('Daily Log'!#REF!,$B359,'Daily Log'!#REF!),0)","v":0},{"$f":"IFERROR($E359*SUMIF('Daily Log'!#REF!,$B359,'Daily Log'!#REF!),0)","v":0}]
[null,"ZAD26 + CILLI PADI",null,null,1,0,{"$f":"IFERROR($E360*SUMIF('Daily Log'!$B$18:$B$1017,$B360,'Daily Log'!$C$18:$C$1017),0)","v":0},{"$f":"IFERROR($E360*SUMIF('Daily Log'!$E$18:$E$1017,$B360,'Daily Log'!$F$18:$F$1017),0)","v":0},{"$f":"IFERROR($E360*SUMIF('Daily Log'!$H$18:$H$1017,$B360,'Daily Log'!$I$18:$I$1017),0)","v":0},{"$f":"IFERROR($E360*SUMIF('Daily Log'!$K$18:$K$1017,$B360,'Daily Log'!$L$18:$L$1017),0)","v":0},{"$f":"IFERROR($E360*SUMIF('Daily Log'!$N$18:$N$1017,$B360,'Daily Log'!$O$18:$O$1017),0)","v":0},{"$f":"IFERROR($E360*SUMIF('Daily Log'!#REF!,$B360,'Daily Log'!#REF!),0)","v":0},{"$f":"IFERROR($E360*SUMIF('Daily Log'!#REF!,$B360,'Daily Log'!#REF!),0)","v":0},{"$f":"IFERROR($E360*SUMIF('Daily Log'!#REF!,$B360,'Daily Log'!#REF!),0)","v":0},{"$f":"IFERROR($E360*SUMIF('Daily Log'!#REF!,$B360,'Daily Log'!#REF!),0)","v":0},{"$f":"IFERROR($E360*SUMIF('Daily Log'!#REF!,$B360,'Daily Log'!#REF!),0)","v":0},{"$f":"IFERROR($E360*SUMIF('Daily Log'!#REF!,$B360,'Daily Log'!#REF!),0)","v":0},{"$f":"IFERROR($E360*SUMIF('Daily Log'!#REF!,$B360,'Daily Log'!#REF!),0)","v":0},{"$f":"IFERROR($E360*SUMIF('Daily Log'!#REF!,$B360,'Daily Log'!#REF!),0)","v":0},{"$f":"IFERROR($E360*SUMIF('Daily Log'!#REF!,$B360,'Daily Log'!#REF!),0)","v":0},{"$f":"IFERROR($E360*SUMIF('Daily Log'!#REF!,$B360,'Daily Log'!#REF!),0)","v":0},{"$f":"IFERROR($E360*SUMIF('Daily Log'!#REF!,$B360,'Daily Log'!#REF!),0)","v":0},{"$f":"IFERROR($E360*SUMIF('Daily Log'!#REF!,$B360,'Daily Log'!#REF!),0)","v":0},{"$f":"IFERROR($E360*SUMIF('Daily Log'!#REF!,$B360,'Daily Log'!#REF!),0)","v":0},{"$f":"IFERROR($E360*SUMIF('Daily Log'!#REF!,$B360,'Daily Log'!#REF!),0)","v":0},{"$f":"IFERROR($E360*SUMIF('Daily Log'!#REF!,$B360,'Daily Log'!#REF!),0)","v":0},{"$f":"IFERROR($E360*SUMIF('Daily Log'!#REF!,$B360,'Daily Log'!#REF!),0)","v":0},{"$f":"IFERROR($E360*SUMIF('Daily Log'!#REF!,$B360,'Daily Log'!#REF!),0)","v":0},{"$f":"IFERROR($E360*SUMIF('Daily Log'!#REF!,$B360,'Daily Log'!#REF!),0)","v":0},{"$f":"IFERROR($E360*SUMIF('Daily Log'!#REF!,$B360,'Daily Log'!#REF!),0)","v":0},{"$f":"IFERROR($E360*SUMIF('Daily Log'!#REF!,$B360,'Daily Log'!#REF!),0)","v":0},{"$f":"IFERROR($E360*SUMIF('Daily Log'!#REF!,$B360,'Daily Log'!#REF!),0)","v":0},{"$f":"IFERROR($E360*SUMIF('Daily Log'!#REF!,$B360,'Daily Log'!#REF!),0)","v":0},{"$f":"IFERROR($E360*SUMIF('Daily Log'!#REF!,$B360,'Daily Log'!#REF!),0)","v":0},{"$f":"IFERROR($E360*SUMIF('Daily Log'!#REF!,$B360,'Daily Log'!#REF!),0)","v":0},{"$f":"IFERROR($E360*SUMIF('Daily Log'!#REF!,$B360,'Daily Log'!#REF!),0)","v":0},{"$f":"IFERROR($E360*SUMIF('Daily Log'!#REF!,$B360,'Daily Log'!#REF!),0)","v":0}]
[null,"ZAD28 + SAUCE MAYO",null,null,1,0,{"$f":"IFERROR($E361*SUMIF('Daily Log'!$B$18:$B$1017,$B361,'Daily Log'!$C$18:$C$1017),0)","v":0},{"$f":"IFERROR($E361*SUMIF('Daily Log'!$E$18:$E$1017,$B361,'Daily Log'!$F$18:$F$1017),0)","v":0},{"$f":"IFERROR($E361*SUMIF('Daily Log'!$H$18:$H$1017,$B361,'Daily Log'!$I$18:$I$1017),0)","v":0},{"$f":"IFERROR($E361*SUMIF('Daily Log'!$K$18:$K$1017,$B361,'Daily Log'!$L$18:$L$1017),0)","v":0},{"$f":"IFERROR($E361*SUMIF('Daily Log'!$N$18:$N$1017,$B361,'Daily Log'!$O$18:$O$1017),0)","v":0},{"$f":"IFERROR($E361*SUMIF('Daily Log'!#REF!,$B361,'Daily Log'!#REF!),0)","v":0},{"$f":"IFERROR($E361*SUMIF('Daily Log'!#REF!,$B361,'Daily Log'!#REF!),0)","v":0},{"$f":"IFERROR($E361*SUMIF('Daily Log'!#REF!,$B361,'Daily Log'!#REF!),0)","v":0},{"$f":"IFERROR($E361*SUMIF('Daily Log'!#REF!,$B361,'Daily Log'!#REF!),0)","v":0},{"$f":"IFERROR($E361*SUMIF('Daily Log'!#REF!,$B361,'Daily Log'!#REF!),0)","v":0},{"$f":"IFERROR($E361*SUMIF('Daily Log'!#REF!,$B361,'Daily Log'!#REF!),0)","v":0},{"$f":"IFERROR($E361*SUMIF('Daily Log'!#REF!,$B361,'Daily Log'!#REF!),0)","v":0},{"$f":"IFERROR($E361*SUMIF('Daily Log'!#REF!,$B361,'Daily Log'!#REF!),0)","v":0},{"$f":"IFERROR($E361*SUMIF('Daily Log'!#REF!,$B361,'Daily Log'!#REF!),0)","v":0},{"$f":"IFERROR($E361*SUMIF('Daily Log'!#REF!,$B361,'Daily Log'!#REF!),0)","v":0},{"$f":"IFERROR($E361*SUMIF('Daily Log'!#REF!,$B361,'Daily Log'!#REF!),0)","v":0},{"$f":"IFERROR($E361*SUMIF('Daily Log'!#REF!,$B361,'Daily Log'!#REF!),0)","v":0},{"$f":"IFERROR($E361*SUMIF('Daily Log'!#REF!,$B361,'Daily Log'!#REF!),0)","v":0},{"$f":"IFERROR($E361*SUMIF('Daily Log'!#REF!,$B361,'Daily Log'!#REF!),0)","v":0},{"$f":"IFERROR($E361*SUMIF('Daily Log'!#REF!,$B361,'Daily Log'!#REF!),0)","v":0},{"$f":"IFERROR($E361*SUMIF('Daily Log'!#REF!,$B361,'Daily Log'!#REF!),0)","v":0},{"$f":"IFERROR($E361*SUMIF('Daily Log'!#REF!,$B361,'Daily Log'!#REF!),0)","v":0},{"$f":"IFERROR($E361*SUMIF('Daily Log'!#REF!,$B361,'Daily Log'!#REF!),0)","v":0},{"$f":"IFERROR($E361*SUMIF('Daily Log'!#REF!,$B361,'Daily Log'!#REF!),0)","v":0},{"$f":"IFERROR($E361*SUMIF('Daily Log'!#REF!,$B361,'Daily Log'!#REF!),0)","v":0},{"$f":"IFERROR($E361*SUMIF('Daily Log'!#REF!,$B361,'Daily Log'!#REF!),0)","v":0},{"$f":"IFERROR($E361*SUMIF('Daily Log'!#REF!,$B361,'Daily Log'!#REF!),0)","v":0},{"$f":"IFERROR($E361*SUMIF('Daily Log'!#REF!,$B361,'Daily Log'!#REF!),0)","v":0},{"$f":"IFERROR($E361*SUMIF('Daily Log'!#REF!,$B361,'Daily Log'!#REF!),0)","v":0},{"$f":"IFERROR($E361*SUMIF('Daily Log'!#REF!,$B361,'Daily Log'!#REF!),0)","v":0},{"$f":"IFERROR($E361*SUMIF('Daily Log'!#REF!,$B361,'Daily Log'!#REF!),0)","v":0}]
[null,"ZAD29 + SAUCE MAMITE",null,null,1,0,{"$f":"IFERROR($E362*SUMIF('Daily Log'!$B$18:$B$1017,$B362,'Daily Log'!$C$18:$C$1017),0)","v":0},{"$f":"IFERROR($E362*SUMIF('Daily Log'!$E$18:$E$1017,$B362,'Daily Log'!$F$18:$F$1017),0)","v":0},{"$f":"IFERROR($E362*SUMIF('Daily Log'!$H$18:$H$1017,$B362,'Daily Log'!$I$18:$I$1017),0)","v":0},{"$f":"IFERROR($E362*SUMIF('Daily Log'!$K$18:$K$1017,$B362,'Daily Log'!$L$18:$L$1017),0)","v":0},{"$f":"IFERROR($E362*SUMIF('Daily Log'!$N$18:$N$1017,$B362,'Daily Log'!$O$18:$O$1017),0)","v":0},{"$f":"IFERROR($E362*SUMIF('Daily Log'!#REF!,$B362,'Daily Log'!#REF!),0)","v":0},{"$f":"IFERROR($E362*SUMIF('Daily Log'!#REF!,$B362,'Daily Log'!#REF!),0)","v":0},{"$f":"IFERROR($E362*SUMIF('Daily Log'!#REF!,$B362,'Daily Log'!#REF!),0)","v":0},{"$f":"IFERROR($E362*SUMIF('Daily Log'!#REF!,$B362,'Daily Log'!#REF!),0)","v":0},{"$f":"IFERROR($E362*SUMIF('Daily Log'!#REF!,$B362,'Daily Log'!#REF!),0)","v":0},{"$f":"IFERROR($E362*SUMIF('Daily Log'!#REF!,$B362,'Daily Log'!#REF!),0)","v":0},{"$f":"IFERROR($E362*SUMIF('Daily Log'!#REF!,$B362,'Daily Log'!#REF!),0)","v":0},{"$f":"IFERROR($E362*SUMIF('Daily Log'!#REF!,$B362,'Daily Log'!#REF!),0)","v":0},{"$f":"IFERROR($E362*SUMIF('Daily Log'!#REF!,$B362,'Daily Log'!#REF!),0)","v":0},{"$f":"IFERROR($E362*SUMIF('Daily Log'!#REF!,$B362,'Daily Log'!#REF!),0)","v":0},{"$f":"IFERROR($E362*SUMIF('Daily Log'!#REF!,$B362,'Daily Log'!#REF!),0)","v":0},{"$f":"IFERROR($E362*SUMIF('Daily Log'!#REF!,$B362,'Daily Log'!#REF!),0)","v":0},{"$f":"IFERROR($E362*SUMIF('Daily Log'!#REF!,$B362,'Daily Log'!#REF!),0)","v":0},{"$f":"IFERROR($E362*SUMIF('Daily Log'!#REF!,$B362,'Daily Log'!#REF!),0)","v":0},{"$f":"IFERROR($E362*SUMIF('Daily Log'!#REF!,$B362,'Daily Log'!#REF!),0)","v":0},{"$f":"IFERROR($E362*SUMIF('Daily Log'!#REF!,$B362,'Daily Log'!#REF!),0)","v":0},{"$f":"IFERROR($E362*SUMIF('Daily Log'!#REF!,$B362,'Daily Log'!#REF!),0)","v":0},{"$f":"IFERROR($E362*SUMIF('Daily Log'!#REF!,$B362,'Daily Log'!#REF!),0)","v":0},{"$f":"IFERROR($E362*SUMIF('Daily Log'!#REF!,$B362,'Daily Log'!#REF!),0)","v":0},{"$f":"IFERROR($E362*SUMIF('Daily Log'!#REF!,$B362,'Daily Log'!#REF!),0)","v":0},{"$f":"IFERROR($E362*SUMIF('Daily Log'!#REF!,$B362,'Daily Log'!#REF!),0)","v":0},{"$f":"IFERROR($E362*SUMIF('Daily Log'!#REF!,$B362,'Daily Log'!#REF!),0)","v":0},{"$f":"IFERROR($E362*SUMIF('Daily Log'!#REF!,$B362,'Daily Log'!#REF!),0)","v":0},{"$f":"IFERROR($E362*SUMIF('Daily Log'!#REF!,$B362,'Daily Log'!#REF!),0)","v":0},{"$f":"IFERROR($E362*SUMIF('Daily Log'!#REF!,$B362,'Daily Log'!#REF!),0)","v":0},{"$f":"IFERROR($E362*SUMIF('Daily Log'!#REF!,$B362,'Daily Log'!#REF!),0)","v":0}]
[null,"ZAD30 + SAUCE MR",null,null,1,0,{"$f":"IFERROR($E363*SUMIF('Daily Log'!$B$18:$B$1017,$B363,'Daily Log'!$C$18:$C$1017),0)","v":0},{"$f":"IFERROR($E363*SUMIF('Daily Log'!$E$18:$E$1017,$B363,'Daily Log'!$F$18:$F$1017),0)","v":0},{"$f":"IFERROR($E363*SUMIF('Daily Log'!$H$18:$H$1017,$B363,'Daily Log'!$I$18:$I$1017),0)","v":0},{"$f":"IFERROR($E363*SUMIF('Daily Log'!$K$18:$K$1017,$B363,'Daily Log'!$L$18:$L$1017),0)","v":0},{"$f":"IFERROR($E363*SUMIF('Daily Log'!$N$18:$N$1017,$B363,'Daily Log'!$O$18:$O$1017),0)","v":0},{"$f":"IFERROR($E363*SUMIF('Daily Log'!#REF!,$B363,'Daily Log'!#REF!),0)","v":0},{"$f":"IFERROR($E363*SUMIF('Daily Log'!#REF!,$B363,'Daily Log'!#REF!),0)","v":0},{"$f":"IFERROR($E363*SUMIF('Daily Log'!#REF!,$B363,'Daily Log'!#REF!),0)","v":0},{"$f":"IFERROR($E363*SUMIF('Daily Log'!#REF!,$B363,'Daily Log'!#REF!),0)","v":0},{"$f":"IFERROR($E363*SUMIF('Daily Log'!#REF!,$B363,'Daily Log'!#REF!),0)","v":0},{"$f":"IFERROR($E363*SUMIF('Daily Log'!#REF!,$B363,'Daily Log'!#REF!),0)","v":0},{"$f":"IFERROR($E363*SUMIF('Daily Log'!#REF!,$B363,'Daily Log'!#REF!),0)","v":0},{"$f":"IFERROR($E363*SUMIF('Daily Log'!#REF!,$B363,'Daily Log'!#REF!),0)","v":0},{"$f":"IFERROR($E363*SUMIF('Daily Log'!#REF!,$B363,'Daily Log'!#REF!),0)","v":0},{"$f":"IFERROR($E363*SUMIF('Daily Log'!#REF!,$B363,'Daily Log'!#REF!),0)","v":0},{"$f":"IFERROR($E363*SUMIF('Daily Log'!#REF!,$B363,'Daily Log'!#REF!),0)","v":0},{"$f":"IFERROR($E363*SUMIF('Daily Log'!#REF!,$B363,'Daily Log'!#REF!),0)","v":0},{"$f":"IFERROR($E363*SUMIF('Daily Log'!#REF!,$B363,'Daily Log'!#REF!),0)","v":0},{"$f":"IFERROR($E363*SUMIF('Daily Log'!#REF!,$B363,'Daily Log'!#REF!),0)","v":0},{"$f":"IFERROR($E363*SUMIF('Daily Log'!#REF!,$B363,'Daily Log'!#REF!),0)","v":0},{"$f":"IFERROR($E363*SUMIF('Daily Log'!#REF!,$B363,'Daily Log'!#REF!),0)","v":0},{"$f":"IFERROR($E363*SUMIF('Daily Log'!#REF!,$B363,'Daily Log'!#REF!),0)","v":0},{"$f":"IFERROR($E363*SUMIF('Daily Log'!#REF!,$B363,'Daily Log'!#REF!),0)","v":0},{"$f":"IFERROR($E363*SUMIF('Daily Log'!#REF!,$B363,'Daily Log'!#REF!),0)","v":0},{"$f":"IFERROR($E363*SUMIF('Daily Log'!#REF!,$B363,'Daily Log'!#REF!),0)","v":0},{"$f":"IFERROR($E363*SUMIF('Daily Log'!#REF!,$B363,'Daily Log'!#REF!),0)","v":0},{"$f":"IFERROR($E363*SUMIF('Daily Log'!#REF!,$B363,'Daily Log'!#REF!),0)","v":0},{"$f":"IFERROR($E363*SUMIF('Daily Log'!#REF!,$B363,'Daily Log'!#REF!),0)","v":0},{"$f":"IFERROR($E363*SUMIF('Daily Log'!#REF!,$B363,'Daily Log'!#REF!),0)","v":0},{"$f":"IFERROR($E363*SUMIF('Daily Log'!#REF!,$B363,'Daily Log'!#REF!),0)","v":0},{"$f":"IFERROR($E363*SUMIF('Daily Log'!#REF!,$B363,'Daily Log'!#REF!),0)","v":0}]
[null,"ZAD32 + SAUCE THAI",null,null,1,0,{"$f":"IFERROR($E364*SUMIF('Daily Log'!$B$18:$B$1017,$B364,'Daily Log'!$C$18:$C$1017),0)","v":0},{"$f":"IFERROR($E364*SUMIF('Daily Log'!$E$18:$E$1017,$B364,'Daily Log'!$F$18:$F$1017),0)","v":0},{"$f":"IFERROR($E364*SUMIF('Daily Log'!$H$18:$H$1017,$B364,'Daily Log'!$I$18:$I$1017),0)","v":0},{"$f":"IFERROR($E364*SUMIF('Daily Log'!$K$18:$K$1017,$B364,'Daily Log'!$L$18:$L$1017),0)","v":0},{"$f":"IFERROR($E364*SUMIF('Daily Log'!$N$18:$N$1017,$B364,'Daily Log'!$O$18:$O$1017),0)","v":0},{"$f":"IFERROR($E364*SUMIF('Daily Log'!#REF!,$B364,'Daily Log'!#REF!),0)","v":0},{"$f":"IFERROR($E364*SUMIF('Daily Log'!#REF!,$B364,'Daily Log'!#REF!),0)","v":0},{"$f":"IFERROR($E364*SUMIF('Daily Log'!#REF!,$B364,'Daily Log'!#REF!),0)","v":0},{"$f":"IFERROR($E364*SUMIF('Daily Log'!#REF!,$B364,'Daily Log'!#REF!),0)","v":0},{"$f":"IFERROR($E364*SUMIF('Daily Log'!#REF!,$B364,'Daily Log'!#REF!),0)","v":0},{"$f":"IFERROR($E364*SUMIF('Daily Log'!#REF!,$B364,'Daily Log'!#REF!),0)","v":0},{"$f":"IFERROR($E364*SUMIF('Daily Log'!#REF!,$B364,'Daily Log'!#REF!),0)","v":0},{"$f":"IFERROR($E364*SUMIF('Daily Log'!#REF!,$B364,'Daily Log'!#REF!),0)","v":0},{"$f":"IFERROR($E364*SUMIF('Daily Log'!#REF!,$B364,'Daily Log'!#REF!),0)","v":0},{"$f":"IFERROR($E364*SUMIF('Daily Log'!#REF!,$B364,'Daily Log'!#REF!),0)","v":0},{"$f":"IFERROR($E364*SUMIF('Daily Log'!#REF!,$B364,'Daily Log'!#REF!),0)","v":0},{"$f":"IFERROR($E364*SUMIF('Daily Log'!#REF!,$B364,'Daily Log'!#REF!),0)","v":0},{"$f":"IFERROR($E364*SUMIF('Daily Log'!#REF!,$B364,'Daily Log'!#REF!),0)","v":0},{"$f":"IFERROR($E364*SUMIF('Daily Log'!#REF!,$B364,'Daily Log'!#REF!),0)","v":0},{"$f":"IFERROR($E364*SUMIF('Daily Log'!#REF!,$B364,'Daily Log'!#REF!),0)","v":0},{"$f":"IFERROR($E364*SUMIF('Daily Log'!#REF!,$B364,'Daily Log'!#REF!),0)","v":0},{"$f":"IFERROR($E364*SUMIF('Daily Log'!#REF!,$B364,'Daily Log'!#REF!),0)","v":0},{"$f":"IFERROR($E364*SUMIF('Daily Log'!#REF!,$B364,'Daily Log'!#REF!),0)","v":0},{"$f":"IFERROR($E364*SUMIF('Daily Log'!#REF!,$B364,'Daily Log'!#REF!),0)","v":0},{"$f":"IFERROR($E364*SUMIF('Daily Log'!#REF!,$B364,'Daily Log'!#REF!),0)","v":0},{"$f":"IFERROR($E364*SUMIF('Daily Log'!#REF!,$B364,'Daily Log'!#REF!),0)","v":0},{"$f":"IFERROR($E364*SUMIF('Daily Log'!#REF!,$B364,'Daily Log'!#REF!),0)","v":0},{"$f":"IFERROR($E364*SUMIF('Daily Log'!#REF!,$B364,'Daily Log'!#REF!),0)","v":0},{"$f":"IFERROR($E364*SUMIF('Daily Log'!#REF!,$B364,'Daily Log'!#REF!),0)","v":0},{"$f":"IFERROR($E364*SUMIF('Daily Log'!#REF!,$B364,'Daily Log'!#REF!),0)","v":0},{"$f":"IFERROR($E364*SUMIF('Daily Log'!#REF!,$B364,'Daily Log'!#REF!),0)","v":0}]
[null,"ZAD33 + SAUCE TOMATO",null,null,1,0,{"$f":"IFERROR($E365*SUMIF('Daily Log'!$B$18:$B$1017,$B365,'Daily Log'!$C$18:$C$1017),0)","v":0},{"$f":"IFERROR($E365*SUMIF('Daily Log'!$E$18:$E$1017,$B365,'Daily Log'!$F$18:$F$1017),0)","v":0},{"$f":"IFERROR($E365*SUMIF('Daily Log'!$H$18:$H$1017,$B365,'Daily Log'!$I$18:$I$1017),0)","v":0},{"$f":"IFERROR($E365*SUMIF('Daily Log'!$K$18:$K$1017,$B365,'Daily Log'!$L$18:$L$1017),0)","v":0},{"$f":"IFERROR($E365*SUMIF('Daily Log'!$N$18:$N$1017,$B365,'Daily Log'!$O$18:$O$1017),0)","v":0},{"$f":"IFERROR($E365*SUMIF('Daily Log'!#REF!,$B365,'Daily Log'!#REF!),0)","v":0},{"$f":"IFERROR($E365*SUMIF('Daily Log'!#REF!,$B365,'Daily Log'!#REF!),0)","v":0},{"$f":"IFERROR($E365*SUMIF('Daily Log'!#REF!,$B365,'Daily Log'!#REF!),0)","v":0},{"$f":"IFERROR($E365*SUMIF('Daily Log'!#REF!,$B365,'Daily Log'!#REF!),0)","v":0},{"$f":"IFERROR($E365*SUMIF('Daily Log'!#REF!,$B365,'Daily Log'!#REF!),0)","v":0},{"$f":"IFERROR($E365*SUMIF('Daily Log'!#REF!,$B365,'Daily Log'!#REF!),0)","v":0},{"$f":"IFERROR($E365*SUMIF('Daily Log'!#REF!,$B365,'Daily Log'!#REF!),0)","v":0},{"$f":"IFERROR($E365*SUMIF('Daily Log'!#REF!,$B365,'Daily Log'!#REF!),0)","v":0},{"$f":"IFERROR($E365*SUMIF('Daily Log'!#REF!,$B365,'Daily Log'!#REF!),0)","v":0},{"$f":"IFERROR($E365*SUMIF('Daily Log'!#REF!,$B365,'Daily Log'!#REF!),0)","v":0},{"$f":"IFERROR($E365*SUMIF('Daily Log'!#REF!,$B365,'Daily Log'!#REF!),0)","v":0},{"$f":"IFERROR($E365*SUMIF('Daily Log'!#REF!,$B365,'Daily Log'!#REF!),0)","v":0},{"$f":"IFERROR($E365*SUMIF('Daily Log'!#REF!,$B365,'Daily Log'!#REF!),0)","v":0},{"$f":"IFERROR($E365*SUMIF('Daily Log'!#REF!,$B365,'Daily Log'!#REF!),0)","v":0},{"$f":"IFERROR($E365*SUMIF('Daily Log'!#REF!,$B365,'Daily Log'!#REF!),0)","v":0},{"$f":"IFERROR($E365*SUMIF('Daily Log'!#REF!,$B365,'Daily Log'!#REF!),0)","v":0},{"$f":"IFERROR($E365*SUMIF('Daily Log'!#REF!,$B365,'Daily Log'!#REF!),0)","v":0},{"$f":"IFERROR($E365*SUMIF('Daily Log'!#REF!,$B365,'Daily Log'!#REF!),0)","v":0},{"$f":"IFERROR($E365*SUMIF('Daily Log'!#REF!,$B365,'Daily Log'!#REF!),0)","v":0},{"$f":"IFERROR($E365*SUMIF('Daily Log'!#REF!,$B365,'Daily Log'!#REF!),0)","v":0},{"$f":"IFERROR($E365*SUMIF('Daily Log'!#REF!,$B365,'Daily Log'!#REF!),0)","v":0},{"$f":"IFERROR($E365*SUMIF('Daily Log'!#REF!,$B365,'Daily Log'!#REF!),0)","v":0},{"$f":"IFERROR($E365*SUMIF('Daily Log'!#REF!,$B365,'Daily Log'!#REF!),0)","v":0},{"$f":"IFERROR($E365*SUMIF('Daily Log'!#REF!,$B365,'Daily Log'!#REF!),0)","v":0},{"$f":"IFERROR($E365*SUMIF('Daily Log'!#REF!,$B365,'Daily Log'!#REF!),0)","v":0},{"$f":"IFERROR($E365*SUMIF('Daily Log'!#REF!,$B365,'Daily Log'!#REF!),0)","v":0}]
[null,"ZAD34 + SAUCE TATAR",null,null,1,0,{"$f":"IFERROR($E366*SUMIF('Daily Log'!$B$18:$B$1017,$B366,'Daily Log'!$C$18:$C$1017),0)","v":0},{"$f":"IFERROR($E366*SUMIF('Daily Log'!$E$18:$E$1017,$B366,'Daily Log'!$F$18:$F$1017),0)","v":0},{"$f":"IFERROR($E366*SUMIF('Daily Log'!$H$18:$H$1017,$B366,'Daily Log'!$I$18:$I$1017),0)","v":0},{"$f":"IFERROR($E366*SUMIF('Daily Log'!$K$18:$K$1017,$B366,'Daily Log'!$L$18:$L$1017),0)","v":0},{"$f":"IFERROR($E366*SUMIF('Daily Log'!$N$18:$N$1017,$B366,'Daily Log'!$O$18:$O$1017),0)","v":0},{"$f":"IFERROR($E366*SUMIF('Daily Log'!#REF!,$B366,'Daily Log'!#REF!),0)","v":0},{"$f":"IFERROR($E366*SUMIF('Daily Log'!#REF!,$B366,'Daily Log'!#REF!),0)","v":0},{"$f":"IFERROR($E366*SUMIF('Daily Log'!#REF!,$B366,'Daily Log'!#REF!),0)","v":0},{"$f":"IFERROR($E366*SUMIF('Daily Log'!#REF!,$B366,'Daily Log'!#REF!),0)","v":0},{"$f":"IFERROR($E366*SUMIF('Daily Log'!#REF!,$B366,'Daily Log'!#REF!),0)","v":0},{"$f":"IFERROR($E366*SUMIF('Daily Log'!#REF!,$B366,'Daily Log'!#REF!),0)","v":0},{"$f":"IFERROR($E366*SUMIF('Daily Log'!#REF!,$B366,'Daily Log'!#REF!),0)","v":0},{"$f":"IFERROR($E366*SUMIF('Daily Log'!#REF!,$B366,'Daily Log'!#REF!),0)","v":0},{"$f":"IFERROR($E366*SUMIF('Daily Log'!#REF!,$B366,'Daily Log'!#REF!),0)","v":0},{"$f":"IFERROR($E366*SUMIF('Daily Log'!#REF!,$B366,'Daily Log'!#REF!),0)","v":0},{"$f":"IFERROR($E366*SUMIF('Daily Log'!#REF!,$B366,'Daily Log'!#REF!),0)","v":0},{"$f":"IFERROR($E366*SUMIF('Daily Log'!#REF!,$B366,'Daily Log'!#REF!),0)","v":0},{"$f":"IFERROR($E366*SUMIF('Daily Log'!#REF!,$B366,'Daily Log'!#REF!),0)","v":0},{"$f":"IFERROR($E366*SUMIF('Daily Log'!#REF!,$B366,'Daily Log'!#REF!),0)","v":0},{"$f":"IFERROR($E366*SUMIF('Daily Log'!#REF!,$B366,'Daily Log'!#REF!),0)","v":0},{"$f":"IFERROR($E366*SUMIF('Daily Log'!#REF!,$B366,'Daily Log'!#REF!),0)","v":0},{"$f":"IFERROR($E366*SUMIF('Daily Log'!#REF!,$B366,'Daily Log'!#REF!),0)","v":0},{"$f":"IFERROR($E366*SUMIF('Daily Log'!#REF!,$B366,'Daily Log'!#REF!),0)","v":0},{"$f":"IFERROR($E366*SUMIF('Daily Log'!#REF!,$B366,'Daily Log'!#REF!),0)","v":0},{"$f":"IFERROR($E366*SUMIF('Daily Log'!#REF!,$B366,'Daily Log'!#REF!),0)","v":0},{"$f":"IFERROR($E366*SUMIF('Daily Log'!#REF!,$B366,'Daily Log'!#REF!),0)","v":0},{"$f":"IFERROR($E366*SUMIF('Daily Log'!#REF!,$B366,'Daily Log'!#REF!),0)","v":0},{"$f":"IFERROR($E366*SUMIF('Daily Log'!#REF!,$B366,'Daily Log'!#REF!),0)","v":0},{"$f":"IFERROR($E366*SUMIF('Daily Log'!#REF!,$B366,'Daily Log'!#REF!),0)","v":0},{"$f":"IFERROR($E366*SUMIF('Daily Log'!#REF!,$B366,'Daily Log'!#REF!),0)","v":0},{"$f":"IFERROR($E366*SUMIF('Daily Log'!#REF!,$B366,'Daily Log'!#REF!),0)","v":0}]
[null,"ZAD35 + SAUCE CHEES",null,null,1,0,{"$f":"IFERROR($E367*SUMIF('Daily Log'!$B$18:$B$1017,$B367,'Daily Log'!$C$18:$C$1017),0)","v":0},{"$f":"IFERROR($E367*SUMIF('Daily Log'!$E$18:$E$1017,$B367,'Daily Log'!$F$18:$F$1017),0)","v":0},{"$f":"IFERROR($E367*SUMIF('Daily Log'!$H$18:$H$1017,$B367,'Daily Log'!$I$18:$I$1017),0)","v":0},{"$f":"IFERROR($E367*SUMIF('Daily Log'!$K$18:$K$1017,$B367,'Daily Log'!$L$18:$L$1017),0)","v":0},{"$f":"IFERROR($E367*SUMIF('Daily Log'!$N$18:$N$1017,$B367,'Daily Log'!$O$18:$O$1017),0)","v":0},{"$f":"IFERROR($E367*SUMIF('Daily Log'!#REF!,$B367,'Daily Log'!#REF!),0)","v":0},{"$f":"IFERROR($E367*SUMIF('Daily Log'!#REF!,$B367,'Daily Log'!#REF!),0)","v":0},{"$f":"IFERROR($E367*SUMIF('Daily Log'!#REF!,$B367,'Daily Log'!#REF!),0)","v":0},{"$f":"IFERROR($E367*SUMIF('Daily Log'!#REF!,$B367,'Daily Log'!#REF!),0)","v":0},{"$f":"IFERROR($E367*SUMIF('Daily Log'!#REF!,$B367,'Daily Log'!#REF!),0)","v":0},{"$f":"IFERROR($E367*SUMIF('Daily Log'!#REF!,$B367,'Daily Log'!#REF!),0)","v":0},{"$f":"IFERROR($E367*SUMIF('Daily Log'!#REF!,$B367,'Daily Log'!#REF!),0)","v":0},{"$f":"IFERROR($E367*SUMIF('Daily Log'!#REF!,$B367,'Daily Log'!#REF!),0)","v":0},{"$f":"IFERROR($E367*SUMIF('Daily Log'!#REF!,$B367,'Daily Log'!#REF!),0)","v":0},{"$f":"IFERROR($E367*SUMIF('Daily Log'!#REF!,$B367,'Daily Log'!#REF!),0)","v":0},{"$f":"IFERROR($E367*SUMIF('Daily Log'!#REF!,$B367,'Daily Log'!#REF!),0)","v":0},{"$f":"IFERROR($E367*SUMIF('Daily Log'!#REF!,$B367,'Daily Log'!#REF!),0)","v":0},{"$f":"IFERROR($E367*SUMIF('Daily Log'!#REF!,$B367,'Daily Log'!#REF!),0)","v":0},{"$f":"IFERROR($E367*SUMIF('Daily Log'!#REF!,$B367,'Daily Log'!#REF!),0)","v":0},{"$f":"IFERROR($E367*SUMIF('Daily Log'!#REF!,$B367,'Daily Log'!#REF!),0)","v":0},{"$f":"IFERROR($E367*SUMIF('Daily Log'!#REF!,$B367,'Daily Log'!#REF!),0)","v":0},{"$f":"IFERROR($E367*SUMIF('Daily Log'!#REF!,$B367,'Daily Log'!#REF!),0)","v":0},{"$f":"IFERROR($E367*SUMIF('Daily Log'!#REF!,$B367,'Daily Log'!#REF!),0)","v":0},{"$f":"IFERROR($E367*SUMIF('Daily Log'!#REF!,$B367,'Daily Log'!#REF!),0)","v":0},{"$f":"IFERROR($E367*SUMIF('Daily Log'!#REF!,$B367,'Daily Log'!#REF!),0)","v":0},{"$f":"IFERROR($E367*SUMIF('Daily Log'!#REF!,$B367,'Daily Log'!#REF!),0)","v":0},{"$f":"IFERROR($E367*SUMIF('Daily Log'!#REF!,$B367,'Daily Log'!#REF!),0)","v":0},{"$f":"IFERROR($E367*SUMIF('Daily Log'!#REF!,$B367,'Daily Log'!#REF!),0)","v":0},{"$f":"IFERROR($E367*SUMIF('Daily Log'!#REF!,$B367,'Daily Log'!#REF!),0)","v":0},{"$f":"IFERROR($E367*SUMIF('Daily Log'!#REF!,$B367,'Daily Log'!#REF!),0)","v":0},{"$f":"IFERROR($E367*SUMIF('Daily Log'!#REF!,$B367,'Daily Log'!#REF!),0)","v":0}]
[null,"ZAD36 BEER GLASS",null,null,1,77,{"$f":"IFERROR($E368*SUMIF('Daily Log'!$B$18:$B$1017,$B368,'Daily Log'!$C$18:$C$1017),0)","v":23},{"$f":"IFERROR($E368*SUMIF('Daily Log'!$E$18:$E$1017,$B368,'Daily Log'!$F$18:$F$1017),0)","v":10},{"$f":"IFERROR($E368*SUMIF('Daily Log'!$H$18:$H$1017,$B368,'Daily Log'!$I$18:$I$1017),0)","v":13},{"$f":"IFERROR($E368*SUMIF('Daily Log'!$K$18:$K$1017,$B368,'Daily Log'!$L$18:$L$1017),0)","v":27},{"$f":"IFERROR($E368*SUMIF('Daily Log'!$N$18:$N$1017,$B368,'Daily Log'!$O$18:$O$1017),0)","v":4},{"$f":"IFERROR($E368*SUMIF('Daily Log'!#REF!,$B368,'Daily Log'!#REF!),0)","v":0},{"$f":"IFERROR($E368*SUMIF('Daily Log'!#REF!,$B368,'Daily Log'!#REF!),0)","v":0},{"$f":"IFERROR($E368*SUMIF('Daily Log'!#REF!,$B368,'Daily Log'!#REF!),0)","v":0},{"$f":"IFERROR($E368*SUMIF('Daily Log'!#REF!,$B368,'Daily Log'!#REF!),0)","v":0},{"$f":"IFERROR($E368*SUMIF('Daily Log'!#REF!,$B368,'Daily Log'!#REF!),0)","v":0},{"$f":"IFERROR($E368*SUMIF('Daily Log'!#REF!,$B368,'Daily Log'!#REF!),0)","v":0},{"$f":"IFERROR($E368*SUMIF('Daily Log'!#REF!,$B368,'Daily Log'!#REF!),0)","v":0},{"$f":"IFERROR($E368*SUMIF('Daily Log'!#REF!,$B368,'Daily Log'!#REF!),0)","v":0},{"$f":"IFERROR($E368*SUMIF('Daily Log'!#REF!,$B368,'Daily Log'!#REF!),0)","v":0},{"$f":"IFERROR($E368*SUMIF('Daily Log'!#REF!,$B368,'Daily Log'!#REF!),0)","v":0},{"$f":"IFERROR($E368*SUMIF('Daily Log'!#REF!,$B368,'Daily Log'!#REF!),0)","v":0},{"$f":"IFERROR($E368*SUMIF('Daily Log'!#REF!,$B368,'Daily Log'!#REF!),0)","v":0},{"$f":"IFERROR($E368*SUMIF('Daily Log'!#REF!,$B368,'Daily Log'!#REF!),0)","v":0},{"$f":"IFERROR($E368*SUMIF('Daily Log'!#REF!,$B368,'Daily Log'!#REF!),0)","v":0},{"$f":"IFERROR($E368*SUMIF('Daily Log'!#REF!,$B368,'Daily Log'!#REF!),0)","v":0},{"$f":"IFERROR($E368*SUMIF('Daily Log'!#REF!,$B368,'Daily Log'!#REF!),0)","v":0},{"$f":"IFERROR($E368*SUMIF('Daily Log'!#REF!,$B368,'Daily Log'!#REF!),0)","v":0},{"$f":"IFERROR($E368*SUMIF('Daily Log'!#REF!,$B368,'Daily Log'!#REF!),0)","v":0},{"$f":"IFERROR($E368*SUMIF('Daily Log'!#REF!,$B368,'Daily Log'!#REF!),0)","v":0},{"$f":"IFERROR($E368*SUMIF('Daily Log'!#REF!,$B368,'Daily Log'!#REF!),0)","v":0},{"$f":"IFERROR($E368*SUMIF('Daily Log'!#REF!,$B368,'Daily Log'!#REF!),0)","v":0},{"$f":"IFERROR($E368*SUMIF('Daily Log'!#REF!,$B368,'Daily Log'!#REF!),0)","v":0},{"$f":"IFERROR($E368*SUMIF('Daily Log'!#REF!,$B368,'Daily Log'!#REF!),0)","v":0},{"$f":"IFERROR($E368*SUMIF('Daily Log'!#REF!,$B368,'Daily Log'!#REF!),0)","v":0},{"$f":"IFERROR($E368*SUMIF('Daily Log'!#REF!,$B368,'Daily Log'!#REF!),0)","v":0},{"$f":"IFERROR($E368*SUMIF('Daily Log'!#REF!,$B368,'Daily Log'!#REF!),0)","v":0}]
[null,"ZAD37 ICE BUCKET",null,null,1,19,{"$f":"IFERROR($E369*SUMIF('Daily Log'!$B$18:$B$1017,$B369,'Daily Log'!$C$18:$C$1017),0)","v":4},{"$f":"IFERROR($E369*SUMIF('Daily Log'!$E$18:$E$1017,$B369,'Daily Log'!$F$18:$F$1017),0)","v":2},{"$f":"IFERROR($E369*SUMIF('Daily Log'!$H$18:$H$1017,$B369,'Daily Log'!$I$18:$I$1017),0)","v":4},{"$f":"IFERROR($E369*SUMIF('Daily Log'!$K$18:$K$1017,$B369,'Daily Log'!$L$18:$L$1017),0)","v":5},{"$f":"IFERROR($E369*SUMIF('Daily Log'!$N$18:$N$1017,$B369,'Daily Log'!$O$18:$O$1017),0)","v":4},{"$f":"IFERROR($E369*SUMIF('Daily Log'!#REF!,$B369,'Daily Log'!#REF!),0)","v":0},{"$f":"IFERROR($E369*SUMIF('Daily Log'!#REF!,$B369,'Daily Log'!#REF!),0)","v":0},{"$f":"IFERROR($E369*SUMIF('Daily Log'!#REF!,$B369,'Daily Log'!#REF!),0)","v":0},{"$f":"IFERROR($E369*SUMIF('Daily Log'!#REF!,$B369,'Daily Log'!#REF!),0)","v":0},{"$f":"IFERROR($E369*SUMIF('Daily Log'!#REF!,$B369,'Daily Log'!#REF!),0)","v":0},{"$f":"IFERROR($E369*SUMIF('Daily Log'!#REF!,$B369,'Daily Log'!#REF!),0)","v":0},{"$f":"IFERROR($E369*SUMIF('Daily Log'!#REF!,$B369,'Daily Log'!#REF!),0)","v":0},{"$f":"IFERROR($E369*SUMIF('Daily Log'!#REF!,$B369,'Daily Log'!#REF!),0)","v":0},{"$f":"IFERROR($E369*SUMIF('Daily Log'!#REF!,$B369,'Daily Log'!#REF!),0)","v":0},{"$f":"IFERROR($E369*SUMIF('Daily Log'!#REF!,$B369,'Daily Log'!#REF!),0)","v":0},{"$f":"IFERROR($E369*SUMIF('Daily Log'!#REF!,$B369,'Daily Log'!#REF!),0)","v":0},{"$f":"IFERROR($E369*SUMIF('Daily Log'!#REF!,$B369,'Daily Log'!#REF!),0)","v":0},{"$f":"IFERROR($E369*SUMIF('Daily Log'!#REF!,$B369,'Daily Log'!#REF!),0)","v":0},{"$f":"IFERROR($E369*SUMIF('Daily Log'!#REF!,$B369,'Daily Log'!#REF!),0)","v":0},{"$f":"IFERROR($E369*SUMIF('Daily Log'!#REF!,$B369,'Daily Log'!#REF!),0)","v":0},{"$f":"IFERROR($E369*SUMIF('Daily Log'!#REF!,$B369,'Daily Log'!#REF!),0)","v":0},{"$f":"IFERROR($E369*SUMIF('Daily Log'!#REF!,$B369,'Daily Log'!#REF!),0)","v":0},{"$f":"IFERROR($E369*SUMIF('Daily Log'!#REF!,$B369,'Daily Log'!#REF!),0)","v":0},{"$f":"IFERROR($E369*SUMIF('Daily Log'!#REF!,$B369,'Daily Log'!#REF!),0)","v":0},{"$f":"IFERROR($E369*SUMIF('Daily Log'!#REF!,$B369,'Daily Log'!#REF!),0)","v":0},{"$f":"IFERROR($E369*SUMIF('Daily Log'!#REF!,$B369,'Daily Log'!#REF!),0)","v":0},{"$f":"IFERROR($E369*SUMIF('Daily Log'!#REF!,$B369,'Daily Log'!#REF!),0)","v":0},{"$f":"IFERROR($E369*SUMIF('Daily Log'!#REF!,$B369,'Daily Log'!#REF!),0)","v":0},{"$f":"IFERROR($E369*SUMIF('Daily Log'!#REF!,$B369,'Daily Log'!#REF!),0)","v":0},{"$f":"IFERROR($E369*SUMIF('Daily Log'!#REF!,$B369,'Daily Log'!#REF!),0)","v":0},{"$f":"IFERROR($E369*SUMIF('Daily Log'!#REF!,$B369,'Daily Log'!#REF!),0)","v":0}]
[null,"ZAE01 GUI MEM EX BKT",null,null,1,0,{"$f":"IFERROR($E370*SUMIF('Daily Log'!$B$18:$B$1017,$B370,'Daily Log'!$C$18:$C$1017),0)","v":0},{"$f":"IFERROR($E370*SUMIF('Daily Log'!$E$18:$E$1017,$B370,'Daily Log'!$F$18:$F$1017),0)","v":0},{"$f":"IFERROR($E370*SUMIF('Daily Log'!$H$18:$H$1017,$B370,'Daily Log'!$I$18:$I$1017),0)","v":0},{"$f":"IFERROR($E370*SUMIF('Daily Log'!$K$18:$K$1017,$B370,'Daily Log'!$L$18:$L$1017),0)","v":0},{"$f":"IFERROR($E370*SUMIF('Daily Log'!$N$18:$N$1017,$B370,'Daily Log'!$O$18:$O$1017),0)","v":0},{"$f":"IFERROR($E370*SUMIF('Daily Log'!#REF!,$B370,'Daily Log'!#REF!),0)","v":0},{"$f":"IFERROR($E370*SUMIF('Daily Log'!#REF!,$B370,'Daily Log'!#REF!),0)","v":0},{"$f":"IFERROR($E370*SUMIF('Daily Log'!#REF!,$B370,'Daily Log'!#REF!),0)","v":0},{"$f":"IFERROR($E370*SUMIF('Daily Log'!#REF!,$B370,'Daily Log'!#REF!),0)","v":0},{"$f":"IFERROR($E370*SUMIF('Daily Log'!#REF!,$B370,'Daily Log'!#REF!),0)","v":0},{"$f":"IFERROR($E370*SUMIF('Daily Log'!#REF!,$B370,'Daily Log'!#REF!),0)","v":0},{"$f":"IFERROR($E370*SUMIF('Daily Log'!#REF!,$B370,'Daily Log'!#REF!),0)","v":0},{"$f":"IFERROR($E370*SUMIF('Daily Log'!#REF!,$B370,'Daily Log'!#REF!),0)","v":0},{"$f":"IFERROR($E370*SUMIF('Daily Log'!#REF!,$B370,'Daily Log'!#REF!),0)","v":0},{"$f":"IFERROR($E370*SUMIF('Daily Log'!#REF!,$B370,'Daily Log'!#REF!),0)","v":0},{"$f":"IFERROR($E370*SUMIF('Daily Log'!#REF!,$B370,'Daily Log'!#REF!),0)","v":0},{"$f":"IFERROR($E370*SUMIF('Daily Log'!#REF!,$B370,'Daily Log'!#REF!),0)","v":0},{"$f":"IFERROR($E370*SUMIF('Daily Log'!#REF!,$B370,'Daily Log'!#REF!),0)","v":0},{"$f":"IFERROR($E370*SUMIF('Daily Log'!#REF!,$B370,'Daily Log'!#REF!),0)","v":0},{"$f":"IFERROR($E370*SUMIF('Daily Log'!#REF!,$B370,'Daily Log'!#REF!),0)","v":0},{"$f":"IFERROR($E370*SUMIF('Daily Log'!#REF!,$B370,'Daily Log'!#REF!),0)","v":0},{"$f":"IFERROR($E370*SUMIF('Daily Log'!#REF!,$B370,'Daily Log'!#REF!),0)","v":0},{"$f":"IFERROR($E370*SUMIF('Daily Log'!#REF!,$B370,'Daily Log'!#REF!),0)","v":0},{"$f":"IFERROR($E370*SUMIF('Daily Log'!#REF!,$B370,'Daily Log'!#REF!),0)","v":0},{"$f":"IFERROR($E370*SUMIF('Daily Log'!#REF!,$B370,'Daily Log'!#REF!),0)","v":0},{"$f":"IFERROR($E370*SUMIF('Daily Log'!#REF!,$B370,'Daily Log'!#REF!),0)","v":0},{"$f":"IFERROR($E370*SUMIF('Daily Log'!#REF!,$B370,'Daily Log'!#REF!),0)","v":0},{"$f":"IFERROR($E370*SUMIF('Daily Log'!#REF!,$B370,'Daily Log'!#REF!),0)","v":0},{"$f":"IFERROR($E370*SUMIF('Daily Log'!#REF!,$B370,'Daily Log'!#REF!),0)","v":0},{"$f":"IFERROR($E370*SUMIF('Daily Log'!#REF!,$B370,'Daily Log'!#REF!),0)","v":0},{"$f":"IFERROR($E370*SUMIF('Daily Log'!#REF!,$B370,'Daily Log'!#REF!),0)","v":0}]
[null,"ZAE02 HEI MEM EX BKT",null,null,1,0,{"$f":"IFERROR($E371*SUMIF('Daily Log'!$B$18:$B$1017,$B371,'Daily Log'!$C$18:$C$1017),0)","v":0},{"$f":"IFERROR($E371*SUMIF('Daily Log'!$E$18:$E$1017,$B371,'Daily Log'!$F$18:$F$1017),0)","v":0},{"$f":"IFERROR($E371*SUMIF('Daily Log'!$H$18:$H$1017,$B371,'Daily Log'!$I$18:$I$1017),0)","v":0},{"$f":"IFERROR($E371*SUMIF('Daily Log'!$K$18:$K$1017,$B371,'Daily Log'!$L$18:$L$1017),0)","v":0},{"$f":"IFERROR($E371*SUMIF('Daily Log'!$N$18:$N$1017,$B371,'Daily Log'!$O$18:$O$1017),0)","v":0},{"$f":"IFERROR($E371*SUMIF('Daily Log'!#REF!,$B371,'Daily Log'!#REF!),0)","v":0},{"$f":"IFERROR($E371*SUMIF('Daily Log'!#REF!,$B371,'Daily Log'!#REF!),0)","v":0},{"$f":"IFERROR($E371*SUMIF('Daily Log'!#REF!,$B371,'Daily Log'!#REF!),0)","v":0},{"$f":"IFERROR($E371*SUMIF('Daily Log'!#REF!,$B371,'Daily Log'!#REF!),0)","v":0},{"$f":"IFERROR($E371*SUMIF('Daily Log'!#REF!,$B371,'Daily Log'!#REF!),0)","v":0},{"$f":"IFERROR($E371*SUMIF('Daily Log'!#REF!,$B371,'Daily Log'!#REF!),0)","v":0},{"$f":"IFERROR($E371*SUMIF('Daily Log'!#REF!,$B371,'Daily Log'!#REF!),0)","v":0},{"$f":"IFERROR($E371*SUMIF('Daily Log'!#REF!,$B371,'Daily Log'!#REF!),0)","v":0},{"$f":"IFERROR($E371*SUMIF('Daily Log'!#REF!,$B371,'Daily Log'!#REF!),0)","v":0},{"$f":"IFERROR($E371*SUMIF('Daily Log'!#REF!,$B371,'Daily Log'!#REF!),0)","v":0},{"$f":"IFERROR($E371*SUMIF('Daily Log'!#REF!,$B371,'Daily Log'!#REF!),0)","v":0},{"$f":"IFERROR($E371*SUMIF('Daily Log'!#REF!,$B371,'Daily Log'!#REF!),0)","v":0},{"$f":"IFERROR($E371*SUMIF('Daily Log'!#REF!,$B371,'Daily Log'!#REF!),0)","v":0},{"$f":"IFERROR($E371*SUMIF('Daily Log'!#REF!,$B371,'Daily Log'!#REF!),0)","v":0},{"$f":"IFERROR($E371*SUMIF('Daily Log'!#REF!,$B371,'Daily Log'!#REF!),0)","v":0},{"$f":"IFERROR($E371*SUMIF('Daily Log'!#REF!,$B371,'Daily Log'!#REF!),0)","v":0},{"$f":"IFERROR($E371*SUMIF('Daily Log'!#REF!,$B371,'Daily Log'!#REF!),0)","v":0},{"$f":"IFERROR($E371*SUMIF('Daily Log'!#REF!,$B371,'Daily Log'!#REF!),0)","v":0},{"$f":"IFERROR($E371*SUMIF('Daily Log'!#REF!,$B371,'Daily Log'!#REF!),0)","v":0},{"$f":"IFERROR($E371*SUMIF('Daily Log'!#REF!,$B371,'Daily Log'!#REF!),0)","v":0},{"$f":"IFERROR($E371*SUMIF('Daily Log'!#REF!,$B371,'Daily Log'!#REF!),0)","v":0},{"$f":"IFERROR($E371*SUMIF('Daily Log'!#REF!,$B371,'Daily Log'!#REF!),0)","v":0},{"$f":"IFERROR($E371*SUMIF('Daily Log'!#REF!,$B371,'Daily Log'!#REF!),0)","v":0},{"$f":"IFERROR($E371*SUMIF('Daily Log'!#REF!,$B371,'Daily Log'!#REF!),0)","v":0},{"$f":"IFERROR($E371*SUMIF('Daily Log'!#REF!,$B371,'Daily Log'!#REF!),0)","v":0},{"$f":"IFERROR($E371*SUMIF('Daily Log'!#REF!,$B371,'Daily Log'!#REF!),0)","v":0}]
[null,"ZZZZZ CHANGE MEM",null,null,1,0,{"$f":"IFERROR($E372*SUMIF('Daily Log'!$B$18:$B$1017,$B372,'Daily Log'!$C$18:$C$1017),0)","v":0},{"$f":"IFERROR($E372*SUMIF('Daily Log'!$E$18:$E$1017,$B372,'Daily Log'!$F$18:$F$1017),0)","v":0},{"$f":"IFERROR($E372*SUMIF('Daily Log'!$H$18:$H$1017,$B372,'Daily Log'!$I$18:$I$1017),0)","v":0},{"$f":"IFERROR($E372*SUMIF('Daily Log'!$K$18:$K$1017,$B372,'Daily Log'!$L$18:$L$1017),0)","v":0},{"$f":"IFERROR($E372*SUMIF('Daily Log'!$N$18:$N$1017,$B372,'Daily Log'!$O$18:$O$1017),0)","v":0},{"$f":"IFERROR($E372*SUMIF('Daily Log'!#REF!,$B372,'Daily Log'!#REF!),0)","v":0},{"$f":"IFERROR($E372*SUMIF('Daily Log'!#REF!,$B372,'Daily Log'!#REF!),0)","v":0},{"$f":"IFERROR($E372*SUMIF('Daily Log'!#REF!,$B372,'Daily Log'!#REF!),0)","v":0},{"$f":"IFERROR($E372*SUMIF('Daily Log'!#REF!,$B372,'Daily Log'!#REF!),0)","v":0},{"$f":"IFERROR($E372*SUMIF('Daily Log'!#REF!,$B372,'Daily Log'!#REF!),0)","v":0},{"$f":"IFERROR($E372*SUMIF('Daily Log'!#REF!,$B372,'Daily Log'!#REF!),0)","v":0},{"$f":"IFERROR($E372*SUMIF('Daily Log'!#REF!,$B372,'Daily Log'!#REF!),0)","v":0},{"$f":"IFERROR($E372*SUMIF('Daily Log'!#REF!,$B372,'Daily Log'!#REF!),0)","v":0},{"$f":"IFERROR($E372*SUMIF('Daily Log'!#REF!,$B372,'Daily Log'!#REF!),0)","v":0},{"$f":"IFERROR($E372*SUMIF('Daily Log'!#REF!,$B372,'Daily Log'!#REF!),0)","v":0},{"$f":"IFERROR($E372*SUMIF('Daily Log'!#REF!,$B372,'Daily Log'!#REF!),0)","v":0},{"$f":"IFERROR($E372*SUMIF('Daily Log'!#REF!,$B372,'Daily Log'!#REF!),0)","v":0},{"$f":"IFERROR($E372*SUMIF('Daily Log'!#REF!,$B372,'Daily Log'!#REF!),0)","v":0},{"$f":"IFERROR($E372*SUMIF('Daily Log'!#REF!,$B372,'Daily Log'!#REF!),0)","v":0},{"$f":"IFERROR($E372*SUMIF('Daily Log'!#REF!,$B372,'Daily Log'!#REF!),0)","v":0},{"$f":"IFERROR($E372*SUMIF('Daily Log'!#REF!,$B372,'Daily Log'!#REF!),0)","v":0},{"$f":"IFERROR($E372*SUMIF('Daily Log'!#REF!,$B372,'Daily Log'!#REF!),0)","v":0},{"$f":"IFERROR($E372*SUMIF('Daily Log'!#REF!,$B372,'Daily Log'!#REF!),0)","v":0},{"$f":"IFERROR($E372*SUMIF('Daily Log'!#REF!,$B372,'Daily Log'!#REF!),0)","v":0},{"$f":"IFERROR($E372*SUMIF('Daily Log'!#REF!,$B372,'Daily Log'!#REF!),0)","v":0},{"$f":"IFERROR($E372*SUMIF('Daily Log'!#REF!,$B372,'Daily Log'!#REF!),0)","v":0},{"$f":"IFERROR($E372*SUMIF('Daily Log'!#REF!,$B372,'Daily Log'!#REF!),0)","v":0},{"$f":"IFERROR($E372*SUMIF('Daily Log'!#REF!,$B372,'Daily Log'!#REF!),0)","v":0},{"$f":"IFERROR($E372*SUMIF('Daily Log'!#REF!,$B372,'Daily Log'!#REF!),0)","v":0},{"$f":"IFERROR($E372*SUMIF('Daily Log'!#REF!,$B372,'Daily Log'!#REF!),0)","v":0},{"$f":"IFERROR($E372*SUMIF('Daily Log'!#REF!,$B372,'Daily Log'!#REF!),0)","v":0}]
[null,"AA17 K : XTD M ROOM",null,null,1,1,{"$f":"IFERROR($E373*SUMIF('Daily Log'!$B$18:$B$1017,$B373,'Daily Log'!$C$18:$C$1017),0)","v":1},{"$f":"IFERROR($E373*SUMIF('Daily Log'!$E$18:$E$1017,$B373,'Daily Log'!$F$18:$F$1017),0)","v":0},{"$f":"IFERROR($E373*SUMIF('Daily Log'!$H$18:$H$1017,$B373,'Daily Log'!$I$18:$I$1017),0)","v":0},{"$f":"IFERROR($E373*SUMIF('Daily Log'!$K$18:$K$1017,$B373,'Daily Log'!$L$18:$L$1017),0)","v":0},{"$f":"IFERROR($E373*SUMIF('Daily Log'!$N$18:$N$1017,$B373,'Daily Log'!$O$18:$O$1017),0)","v":0},{"$f":"IFERROR($E373*SUMIF('Daily Log'!#REF!,$B373,'Daily Log'!#REF!),0)","v":0},{"$f":"IFERROR($E373*SUMIF('Daily Log'!#REF!,$B373,'Daily Log'!#REF!),0)","v":0},{"$f":"IFERROR($E373*SUMIF('Daily Log'!#REF!,$B373,'Daily Log'!#REF!),0)","v":0},{"$f":"IFERROR($E373*SUMIF('Daily Log'!#REF!,$B373,'Daily Log'!#REF!),0)","v":0},{"$f":"IFERROR($E373*SUMIF('Daily Log'!#REF!,$B373,'Daily Log'!#REF!),0)","v":0},{"$f":"IFERROR($E373*SUMIF('Daily Log'!#REF!,$B373,'Daily Log'!#REF!),0)","v":0},{"$f":"IFERROR($E373*SUMIF('Daily Log'!#REF!,$B373,'Daily Log'!#REF!),0)","v":0},{"$f":"IFERROR($E373*SUMIF('Daily Log'!#REF!,$B373,'Daily Log'!#REF!),0)","v":0},{"$f":"IFERROR($E373*SUMIF('Daily Log'!#REF!,$B373,'Daily Log'!#REF!),0)","v":0},{"$f":"IFERROR($E373*SUMIF('Daily Log'!#REF!,$B373,'Daily Log'!#REF!),0)","v":0},{"$f":"IFERROR($E373*SUMIF('Daily Log'!#REF!,$B373,'Daily Log'!#REF!),0)","v":0},{"$f":"IFERROR($E373*SUMIF('Daily Log'!#REF!,$B373,'Daily Log'!#REF!),0)","v":0},{"$f":"IFERROR($E373*SUMIF('Daily Log'!#REF!,$B373,'Daily Log'!#REF!),0)","v":0},{"$f":"IFERROR($E373*SUMIF('Daily Log'!#REF!,$B373,'Daily Log'!#REF!),0)","v":0},{"$f":"IFERROR($E373*SUMIF('Daily Log'!#REF!,$B373,'Daily Log'!#REF!),0)","v":0},{"$f":"IFERROR($E373*SUMIF('Daily Log'!#REF!,$B373,'Daily Log'!#REF!),0)","v":0},{"$f":"IFERROR($E373*SUMIF('Daily Log'!#REF!,$B373,'Daily Log'!#REF!),0)","v":0},{"$f":"IFERROR($E373*SUMIF('Daily Log'!#REF!,$B373,'Daily Log'!#REF!),0)","v":0},{"$f":"IFERROR($E373*SUMIF('Daily Log'!#REF!,$B373,'Daily Log'!#REF!),0)","v":0},{"$f":"IFERROR($E373*SUMIF('Daily Log'!#REF!,$B373,'Daily Log'!#REF!),0)","v":0},{"$f":"IFERROR($E373*SUMIF('Daily Log'!#REF!,$B373,'Daily Log'!#REF!),0)","v":0},{"$f":"IFERROR($E373*SUMIF('Daily Log'!#REF!,$B373,'Daily Log'!#REF!),0)","v":0},{"$f":"IFERROR($E373*SUMIF('Daily Log'!#REF!,$B373,'Daily Log'!#REF!),0)","v":0},{"$f":"IFERROR($E373*SUMIF('Daily Log'!#REF!,$B373,'Daily Log'!#REF!),0)","v":0},{"$f":"IFERROR($E373*SUMIF('Daily Log'!#REF!,$B373,'Daily Log'!#REF!),0)","v":0},{"$f":"IFERROR($E373*SUMIF('Daily Log'!#REF!,$B373,'Daily Log'!#REF!),0)","v":0}]
[null,"ZAD16 RECEPT HIL",1,null,1,0,{"$f":"IFERROR($E374*SUMIF('Daily Log'!$B$18:$B$1017,$B374,'Daily Log'!$C$18:$C$1017),0)","v":0},null,null,null,null,{"$f":"IFERROR($E374*SUMIF('Daily Log'!#REF!,$B374,'Daily Log'!#REF!),0)","v":0},{"$f":"IFERROR($E374*SUMIF('Daily Log'!#REF!,$B374,'Daily Log'!#REF!),0)","v":0},{"$f":"IFERROR($E374*SUMIF('Daily Log'!#REF!,$B374,'Daily Log'!#REF!),0)","v":0},{"$f":"IFERROR($E374*SUMIF('Daily Log'!#REF!,$B374,'Daily Log'!#REF!),0)","v":0},{"$f":"IFERROR($E374*SUMIF('Daily Log'!#REF!,$B374,'Daily Log'!#REF!),0)","v":0},{"$f":"IFERROR($E374*SUMIF('Daily Log'!#REF!,$B374,'Daily Log'!#REF!),0)","v":0},{"$f":"IFERROR($E374*SUMIF('Daily Log'!#REF!,$B374,'Daily Log'!#REF!),0)","v":0},{"$f":"IFERROR($E374*SUMIF('Daily Log'!#REF!,$B374,'Daily Log'!#REF!),0)","v":0},{"$f":"IFERROR($E374*SUMIF('Daily Log'!#REF!,$B374,'Daily Log'!#REF!),0)","v":0},{"$f":"IFERROR($E374*SUMIF('Daily Log'!#REF!,$B374,'Daily Log'!#REF!),0)","v":0},{"$f":"IFERROR($E374*SUMIF('Daily Log'!#REF!,$B374,'Daily Log'!#REF!),0)","v":0},{"$f":"IFERROR($E374*SUMIF('Daily Log'!#REF!,$B374,'Daily Log'!#REF!),0)","v":0},{"$f":"IFERROR($E374*SUMIF('Daily Log'!#REF!,$B374,'Daily Log'!#REF!),0)","v":0},{"$f":"IFERROR($E374*SUMIF('Daily Log'!#REF!,$B374,'Daily Log'!#REF!),0)","v":0},{"$f":"IFERROR($E374*SUMIF('Daily Log'!#REF!,$B374,'Daily Log'!#REF!),0)","v":0},{"$f":"IFERROR($E374*SUMIF('Daily Log'!#REF!,$B374,'Daily Log'!#REF!),0)","v":0},{"$f":"IFERROR($E374*SUMIF('Daily Log'!#REF!,$B374,'Daily Log'!#REF!),0)","v":0},{"$f":"IFERROR($E374*SUMIF('Daily Log'!#REF!,$B374,'Daily Log'!#REF!),0)","v":0},{"$f":"IFERROR($E374*SUMIF('Daily Log'!#REF!,$B374,'Daily Log'!#REF!),0)","v":0},{"$f":"IFERROR($E374*SUMIF('Daily Log'!#REF!,$B374,'Daily Log'!#REF!),0)","v":0},{"$f":"IFERROR($E374*SUMIF('Daily Log'!#REF!,$B374,'Daily Log'!#REF!),0)","v":0},{"$f":"IFERROR($E374*SUMIF('Daily Log'!#REF!,$B374,'Daily Log'!#REF!),0)","v":0},{"$f":"IFERROR($E374*SUMIF('Daily Log'!#REF!,$B374,'Daily Log'!#REF!),0)","v":0},{"$f":"IFERROR($E374*SUMIF('Daily Log'!#REF!,$B374,'Daily Log'!#REF!),0)","v":0},{"$f":"IFERROR($E374*SUMIF('Daily Log'!#REF!,$B374,'Daily Log'!#REF!),0)","v":0},{"$f":"IFERROR($E374*SUMIF('Daily Log'!#REF!,$B374,'Daily Log'!#REF!),0)","v":0}]
[null,"ZZZZZ CHANGE 4BP",null,null,1,0,{"$f":"IFERROR($E375*SUMIF('Daily Log'!$B$18:$B$1017,$B375,'Daily Log'!$C$18:$C$1017),0)","v":0},{"$f":"IFERROR($E375*SUMIF('Daily Log'!$E$18:$E$1017,$B375,'Daily Log'!$F$18:$F$1017),0)","v":0},{"$f":"IFERROR($E375*SUMIF('Daily Log'!$H$18:$H$1017,$B375,'Daily Log'!$I$18:$I$1017),0)","v":0},{"$f":"IFERROR($E375*SUMIF('Daily Log'!$K$18:$K$1017,$B375,'Daily Log'!$L$18:$L$1017),0)","v":0},{"$f":"IFERROR($E375*SUMIF('Daily Log'!$N$18:$N$1017,$B375,'Daily Log'!$O$18:$O$1017),0)","v":0},{"$f":"IFERROR($E375*SUMIF('Daily Log'!#REF!,$B375,'Daily Log'!#REF!),0)","v":0},{"$f":"IFERROR($E375*SUMIF('Daily Log'!#REF!,$B375,'Daily Log'!#REF!),0)","v":0},{"$f":"IFERROR($E375*SUMIF('Daily Log'!#REF!,$B375,'Daily Log'!#REF!),0)","v":0},{"$f":"IFERROR($E375*SUMIF('Daily Log'!#REF!,$B375,'Daily Log'!#REF!),0)","v":0},{"$f":"IFERROR($E375*SUMIF('Daily Log'!#REF!,$B375,'Daily Log'!#REF!),0)","v":0},{"$f":"IFERROR($E375*SUMIF('Daily Log'!#REF!,$B375,'Daily Log'!#REF!),0)","v":0},{"$f":"IFERROR($E375*SUMIF('Daily Log'!#REF!,$B375,'Daily Log'!#REF!),0)","v":0},{"$f":"IFERROR($E375*SUMIF('Daily Log'!#REF!,$B375,'Daily Log'!#REF!),0)","v":0},{"$f":"IFERROR($E375*SUMIF('Daily Log'!#REF!,$B375,'Daily Log'!#REF!),0)","v":0},{"$f":"IFERROR($E375*SUMIF('Daily Log'!#REF!,$B375,'Daily Log'!#REF!),0)","v":0},{"$f":"IFERROR($E375*SUMIF('Daily Log'!#REF!,$B375,'Daily Log'!#REF!),0)","v":0},{"$f":"IFERROR($E375*SUMIF('Daily Log'!#REF!,$B375,'Daily Log'!#REF!),0)","v":0},{"$f":"IFERROR($E375*SUMIF('Daily Log'!#REF!,$B375,'Daily Log'!#REF!),0)","v":0},{"$f":"IFERROR($E375*SUMIF('Daily Log'!#REF!,$B375,'Daily Log'!#REF!),0)","v":0},{"$f":"IFERROR($E375*SUMIF('Daily Log'!#REF!,$B375,'Daily Log'!#REF!),0)","v":0},{"$f":"IFERROR($E375*SUMIF('Daily Log'!#REF!,$B375,'Daily Log'!#REF!),0)","v":0},{"$f":"IFERROR($E375*SUMIF('Daily Log'!#REF!,$B375,'Daily Log'!#REF!),0)","v":0},{"$f":"IFERROR($E375*SUMIF('Daily Log'!#REF!,$B375,'Daily Log'!#REF!),0)","v":0},{"$f":"IFERROR($E375*SUMIF('Daily Log'!#REF!,$B375,'Daily Log'!#REF!),0)","v":0},{"$f":"IFERROR($E375*SUMIF('Daily Log'!#REF!,$B375,'Daily Log'!#REF!),0)","v":0},{"$f":"IFERROR($E375*SUMIF('Daily Log'!#REF!,$B375,'Daily Log'!#REF!),0)","v":0},{"$f":"IFERROR($E375*SUMIF('Daily Log'!#REF!,$B375,'Daily Log'!#REF!),0)","v":0},{"$f":"IFERROR($E375*SUMIF('Daily Log'!#REF!,$B375,'Daily Log'!#REF!),0)","v":0},{"$f":"IFERROR($E375*SUMIF('Daily Log'!#REF!,$B375,'Daily Log'!#REF!),0)","v":0},{"$f":"IFERROR($E375*SUMIF('Daily Log'!#REF!,$B375,'Daily Log'!#REF!),0)","v":0},{"$f":"IFERROR($E375*SUMIF('Daily Log'!#REF!,$B375,'Daily Log'!#REF!),0)","v":0}]
[null,null,null,null,null,{"$f":"SUM($G376:$AK376)","v":0},{"$f":"IFERROR($E376*SUMIF('Daily Log'!$B$18:$B$1017,$B376,'Daily Log'!$C$18:$C$1017),0)","v":0},{"$f":"IFERROR($E376*SUMIF('Daily Log'!$E$18:$E$1017,$B376,'Daily Log'!$F$18:$F$1017),0)","v":0},{"$f":"IFERROR($E376*SUMIF('Daily Log'!$H$18:$H$1017,$B376,'Daily Log'!$I$18:$I$1017),0)","v":0},{"$f":"IFERROR($E376*SUMIF('Daily Log'!$K$18:$K$1017,$B376,'Daily Log'!$L$18:$L$1017),0)","v":0},{"$f":"IFERROR($E376*SUMIF('Daily Log'!$N$18:$N$1017,$B376,'Daily Log'!$O$18:$O$1017),0)","v":0},{"$f":"IFERROR($E376*SUMIF('Daily Log'!#REF!,$B376,'Daily Log'!#REF!),0)","v":0},{"$f":"IFERROR($E376*SUMIF('Daily Log'!#REF!,$B376,'Daily Log'!#REF!),0)","v":0},{"$f":"IFERROR($E376*SUMIF('Daily Log'!#REF!,$B376,'Daily Log'!#REF!),0)","v":0},{"$f":"IFERROR($E376*SUMIF('Daily Log'!#REF!,$B376,'Daily Log'!#REF!),0)","v":0},{"$f":"IFERROR($E376*SUMIF('Daily Log'!#REF!,$B376,'Daily Log'!#REF!),0)","v":0},{"$f":"IFERROR($E376*SUMIF('Daily Log'!#REF!,$B376,'Daily Log'!#REF!),0)","v":0},{"$f":"IFERROR($E376*SUMIF('Daily Log'!#REF!,$B376,'Daily Log'!#REF!),0)","v":0},{"$f":"IFERROR($E376*SUMIF('Daily Log'!#REF!,$B376,'Daily Log'!#REF!),0)","v":0},{"$f":"IFERROR($E376*SUMIF('Daily Log'!#REF!,$B376,'Daily Log'!#REF!),0)","v":0},{"$f":"IFERROR($E376*SUMIF('Daily Log'!#REF!,$B376,'Daily Log'!#REF!),0)","v":0},{"$f":"IFERROR($E376*SUMIF('Daily Log'!#REF!,$B376,'Daily Log'!#REF!),0)","v":0},{"$f":"IFERROR($E376*SUMIF('Daily Log'!#REF!,$B376,'Daily Log'!#REF!),0)","v":0},{"$f":"IFERROR($E376*SUMIF('Daily Log'!#REF!,$B376,'Daily Log'!#REF!),0)","v":0},{"$f":"IFERROR($E376*SUMIF('Daily Log'!#REF!,$B376,'Daily Log'!#REF!),0)","v":0},{"$f":"IFERROR($E376*SUMIF('Daily Log'!#REF!,$B376,'Daily Log'!#REF!),0)","v":0},{"$f":"IFERROR($E376*SUMIF('Daily Log'!#REF!,$B376,'Daily Log'!#REF!),0)","v":0},{"$f":"IFERROR($E376*SUMIF('Daily Log'!#REF!,$B376,'Daily Log'!#REF!),0)","v":0},{"$f":"IFERROR($E376*SUMIF('Daily Log'!#REF!,$B376,'Daily Log'!#REF!),0)","v":0},{"$f":"IFERROR($E376*SUMIF('Daily Log'!#REF!,$B376,'Daily Log'!#REF!),0)","v":0},{"$f":"IFERROR($E376*SUMIF('Daily Log'!#REF!,$B376,'Daily Log'!#REF!),0)","v":0},{"$f":"IFERROR($E376*SUMIF('Daily Log'!#REF!,$B376,'Daily Log'!#REF!),0)","v":0},{"$f":"IFERROR($E376*SUMIF('Daily Log'!#REF!,$B376,'Daily Log'!#REF!),0)","v":0},{"$f":"IFERROR($E376*SUMIF('Daily Log'!#REF!,$B376,'Daily Log'!#REF!),0)","v":0},{"$f":"IFERROR($E376*SUMIF('Daily Log'!#REF!,$B376,'Daily Log'!#REF!),0)","v":0},{"$f":"IFERROR($E376*SUMIF('Daily Log'!#REF!,$B376,'Daily Log'!#REF!),0)","v":0},{"$f":"IFERROR($E376*SUMIF('Daily Log'!#REF!,$B376,'Daily Log'!#REF!),0)","v":0}]
[]
[null,"Copyright © 2013 by Oracle Symphony Sdn Bhd"]

{"sheet":"Daily Log","index":1,"n_rows":1019,"n_cols":19,"rows_kept":1019,"cut":false,"hidden":false,"merged":[[5,2,5,4],[7,2,7,4],[9,2,9,4]]}
[]
[]
[null,null,"DAILY LOG OF PRODUCT SALES"]
[]
[]
[null,"OUTLET",{"$f":"Summary!C6","v":"CCS"}]
[]
[null,"YEAR",{"$f":"Summary!C8","v":"2013"}]
[]
[null,"MONTH",{"$f":"Summary!C10","v":"MAY"}]
[]
[]
[]
[{"$f":"IFERROR(INDEX($S$18:$S$48,MAX($B$17:$P$17),1),\"\")","v":"N"},{"$f":"\"DATE  \"&TEXT(Summary!G27,\"DD / MM / YYYY\")","v":"DATE  01 / 05 / 2013"},null,null,{"$f":"\"DATE  \"&TEXT(Summary!H27,\"DD / MM / YYYY\")","v":"DATE  02 / 05 / 2013"},null,null,{"$f":"\"DATE  \"&TEXT(Summary!I27,\"DD / MM / YYYY\")","v":"DATE  03 / 05 / 2013"},null,null,{"$f":"\"DATE  \"&TEXT(Summary!J27,\"DD / MM / YYYY\")","v":"DATE  04 / 05 / 2013"},null,null,{"$f":"\"DATE  \"&TEXT(Summary!K27,\"DD / MM / YYYY\")","v":"DATE  05 / 05 / 2013"},null,null,null,"COLUMN"]
[]
[null,"PRODUCT","QUANTITY",null,"PRODUCT","QUANTITY",null,"PRODUCT","QUANTITY",null,"PRODUCT","QUANTITY",null,"PRODUCT","QUANTITY",null,null,"MONTH","COLUMN"]
[null,{"$f":"IF(B18<>\"\",1,0)","v":1},null,null,{"$f":"IF(E18<>\"\",2,0)","v":2},null,null,{"$f":"IF(H18<>\"\",3,0)","v":3},null,null,{"$f":"IF(K18<>\"\",4,0)","v":4},null,null,{"$f":"IF(N18<>\"\",5,0)","v":5}]
[{"$f":"IFERROR(IF(INDIRECT($A$14&ROW())<>\"\",COUNTIF(Summary!$B$30:$B$1029,INDIRECT($A$14&ROW())),\"\"),\"\")","v":1},"AA04 K-LUNCH",91,null,"AA01 K : REGULAR",3,null,"AA01 K : REGULAR",1,null,"AA04 K-LUNCH",32,null,"AA01 K : REGULAR",1,null,null,1,"B"]
[{"$f":"IFERROR(IF(INDIRECT($A$14&ROW())<>\"\",COUNTIF(Summary!$B$30:$B$1029,INDIRECT($A$14&ROW())),\"\"),\"\")","v":1},"AA05 K : CHILDREN",1,null,"AA04 K-LUNCH",20,null,"AA04 K-LUNCH",27,null,"AA07 K : STAFF B'DAY",null,null,"AA04 K-LUNCH",21,null,null,2,"E"]
[{"$f":"IFERROR(IF(INDIRECT($A$14&ROW())<>\"\",COUNTIF(Summary!$B$30:$B$1029,INDIRECT($A$14&ROW())),\"\"),\"\")","v":1},"AA17 K : XTD M ROOM",1,null,"AA06 K : MEMBER B'DAY",1,null,"AA05 K : CHILDREN",1,null,"AA16 K : XTD S ROOM",null,null,"AA05 K : CHILDREN",6,null,null,3,"H"]
[{"$f":"IFERROR(IF(INDIRECT($A$14&ROW())<>\"\",COUNTIF(Summary!$B$30:$B$1029,INDIRECT($A$14&ROW())),\"\"),\"\")","v":1},"AA18 K : XTD B ROOM",null,null,"AB01 H : REGULAR",23,null,"AA06 K : MEMBER B'DAY",2,null,"AB01 H : REGULAR",78,null,"AB01 H : REGULAR",50,null,null,4,"K"]
[{"$f":"IFERROR(IF(INDIRECT($A$14&ROW())<>\"\",COUNTIF(Summary!$B$30:$B$1029,INDIRECT($A$14&ROW())),\"\"),\"\")","v":1},"AB01 H : REGULAR",118,null,"AB05 H : STUDENT",26,null,"AA18 K : XTD B ROOM",2,null,"AB02 H : MEMBER",22,null,"AB02 H : MEMBER",7,null,null,5,"N"]
[{"$f":"IFERROR(IF(INDIRECT($A$14&ROW())<>\"\",COUNTIF(Summary!$B$30:$B$1029,INDIRECT($A$14&ROW())),\"\"),\"\")","v":1},"AB02 H : MEMBER",41,null,"AB06 H : SENIOR",1,null,"AB01 H : REGULAR",23,null,"AB07 H : CHILDREN",3,null,"AB07 H : CHILDREN",3,null,null,6,"Q"]
[{"$f":"IFERROR(IF(INDIRECT($A$14&ROW())<>\"\",COUNTIF(Summary!$B$30:$B$1029,INDIRECT($A$14&ROW())),\"\"),\"\")","v":1},"AB07 H : CHILDREN",7,null,"AB08 H : MEMBER B'DAY",1,null,"AB05 H : STUDENT",20,null,"AC01 N : REGULAR",131,null,"AB08 H : MEMBER B'DAY",1,null,null,7,"T"]
[{"$f":"IFERROR(IF(INDIRECT($A$14&ROW())<>\"\",COUNTIF(Summary!$B$30:$B$1029,INDIRECT($A$14&ROW())),\"\"),\"\")","v":1},"AC01 N : REGULAR",77,null,"AB50 H:Student Mem",3,null,"AC01 N : REGULAR",104,null,"AC02 N : MEMBER",62,null,"AB18 H : XTD M ROOM",1,null,null,8,"W"]
[{"$f":"IFERROR(IF(INDIRECT($A$14&ROW())<>\"\",COUNTIF(Summary!$B$30:$B$1029,INDIRECT($A$14&ROW())),\"\"),\"\")","v":1},"AC02 N : MEMBER",29,null,"AC01 N : REGULAR",29,null,"AC02 N : MEMBER",37,null,"AC05 K-DINNER",52,null,"AC01 N : REGULAR",17,null,null,9,"Z"]
[{"$f":"IFERROR(IF(INDIRECT($A$14&ROW())<>\"\",COUNTIF(Summary!$B$30:$B$1029,INDIRECT($A$14&ROW())),\"\"),\"\")","v":1},"AC05 K-DINNER",90,null,"AC02 N : MEMBER",52,null,"AC05 K-DINNER",34,null,"AC07 N : MEMBER B'DAY",1,null,"AC02 N : MEMBER",7,null,null,10,"AC"]
[{"$f":"IFERROR(IF(INDIRECT($A$14&ROW())<>\"\",COUNTIF(Summary!$B$30:$B$1029,INDIRECT($A$14&ROW())),\"\"),\"\")","v":1},"AC06 N : CHILDREN",4,null,"AC05 K-DINNER",11,null,"AC06 N : CHILDREN",2,null,"AC12 N : FREEHEAD (R)",1,null,"AC05 K-DINNER",15,null,null,11,"AF"]
[{"$f":"IFERROR(IF(INDIRECT($A$14&ROW())<>\"\",COUNTIF(Summary!$B$30:$B$1029,INDIRECT($A$14&ROW())),\"\"),\"\")","v":1},"AC07 N : MEMBER B'DAY",4,null,"AC07 N : MEMBER B'DAY",1,null,"AC07 N : MEMBER B'DAY",4,null,"AC19 N : XTD B ROOM",1,null,"AC06 N : CHILDREN",4,null,null,12,"AI"]
[{"$f":"IFERROR(IF(INDIRECT($A$14&ROW())<>\"\",COUNTIF(Summary!$B$30:$B$1029,INDIRECT($A$14&ROW())),\"\"),\"\")","v":1},"AC12 N : FREEHEAD (R)",1,null,"AC12 N : FREEHEAD (R)",2,null,"AC12 N : FREEHEAD (R)",4,null,"AD01 M : REGULAR",31,null,"AC07 N : MEMBER B'DAY",1,null,null,13,"AL"]
[{"$f":"IFERROR(IF(INDIRECT($A$14&ROW())<>\"\",COUNTIF(Summary!$B$30:$B$1029,INDIRECT($A$14&ROW())),\"\"),\"\")","v":1},"AD01 M : REGULAR",11,null,"AD01 M : REGULAR",11,null,"AC17 N : XTD S ROOM",2,null,"AD02 M : MEMBER",28,null,"AC09 N : FOC HEAD",1,null,null,14,"AO"]
[{"$f":"IFERROR(IF(INDIRECT($A$14&ROW())<>\"\",COUNTIF(Summary!$B$30:$B$1029,INDIRECT($A$14&ROW())),\"\"),\"\")","v":1},"AD05 M : LADIES",9,null,"AD05 M : LADIES",16,null,"AC18 N : XTD M ROOM",2,null,"AD11 M : FREEHEAD (R)",1,null,"AD01 M : REGULAR",1,null,null,15,"AR"]
[{"$f":"IFERROR(IF(INDIRECT($A$14&ROW())<>\"\",COUNTIF(Summary!$B$30:$B$1029,INDIRECT($A$14&ROW())),\"\"),\"\")","v":1},"AD11 M : FREEHEAD (R)",1,null,"AD07 M : MEMBER B'DAY",2,null,"AC19 N : XTD B ROOM",1,null,"BA04 N : 4BP",2,null,"AD02 M : MEMBER",2,null,null,16,"AU"]
[{"$f":"IFERROR(IF(INDIRECT($A$14&ROW())<>\"\",COUNTIF(Summary!$B$30:$B$1029,INDIRECT($A$14&ROW())),\"\"),\"\")","v":1},"BA02 H : 4BP",1,null,"AD11 M : FREEHEAD (R)",1,null,"AD01 M : REGULAR",15,null,"BA06 M : 4BP",1,null,"AD05 M : LADIES",1,null,null,17,"AX"]
[{"$f":"IFERROR(IF(INDIRECT($A$14&ROW())<>\"\",COUNTIF(Summary!$B$30:$B$1029,INDIRECT($A$14&ROW())),\"\"),\"\")","v":1},"BA04 N : 4BP",2,null,"BA04 N : 4BP",3,null,"BA04 N : 4BP",4,null,"BA11 HEINEKEN BTL",2,null,"BA02 H : 4BP",3,null,null,18,"BA"]
[{"$f":"IFERROR(IF(INDIRECT($A$14&ROW())<>\"\",COUNTIF(Summary!$B$30:$B$1029,INDIRECT($A$14&ROW())),\"\"),\"\")","v":1},"BA08 GUINNESS BTL",2,null,"BA11 HEINEKEN BTL",2,null,"BA09 GUINNESS BKT",1,null,"BA12 HEINEKEN BKT",1,null,"BA04 N : 4BP",1,null,null,19,"BD"]
[{"$f":"IFERROR(IF(INDIRECT($A$14&ROW())<>\"\",COUNTIF(Summary!$B$30:$B$1029,INDIRECT($A$14&ROW())),\"\"),\"\")","v":1},"BA11 HEINEKEN BTL",1,null,"BA15 TIGER BKT",2,null,"BA12 HEINEKEN BKT",1,null,"BA13 HEINEKEN RND",1,null,"BA14 TIGER BTL",1,null,null,20,"BG"]
[{"$f":"IFERROR(IF(INDIRECT($A$14&ROW())<>\"\",COUNTIF(Summary!$B$30:$B$1029,INDIRECT($A$14&ROW())),\"\"),\"\")","v":1},"BA14 TIGER BTL",4,null,"BA16 TIGER RND",1,null,"BA16 TIGER RND",2,null,"BA14 TIGER BTL",1,null,"BA15 TIGER BKT",3,null,null,21,"BJ"]
[{"$f":"IFERROR(IF(INDIRECT($A$14&ROW())<>\"\",COUNTIF(Summary!$B$30:$B$1029,INDIRECT($A$14&ROW())),\"\"),\"\")","v":1},"BA15 TIGER BKT",4,null,"CI01 GRAPE J",14,null,"CB02 APPLE SO",null,null,"BA15 TIGER BKT",1,null,"BA16 TIGER RND",1,null,null,22,"BM"]
[{"$f":"IFERROR(IF(INDIRECT($A$14&ROW())<>\"\",COUNTIF(Summary!$B$30:$B$1029,INDIRECT($A$14&ROW())),\"\"),\"\")","v":1},"BA16 TIGER RND",1,null,"CI02 APPLE J",13,null,"CC07 CAPPUCINNO SM",1,null,"BA16 TIGER RND",3,null,"CA05 PASSION J",1,null,null,23,"BP"]
[{"$f":"IFERROR(IF(INDIRECT($A$14&ROW())<>\"\",COUNTIF(Summary!$B$30:$B$1029,INDIRECT($A$14&ROW())),\"\"),\"\")","v":1},"BA20 Heineken 3+1",3,null,"CI04 MANGO J",11,null,"CG01 MINERAL WATER",1,null,"CF10 CHOCOLATE (H)",1,null,"CI01 GRAPE J",9,null,null,24,"BS"]
[{"$f":"IFERROR(IF(INDIRECT($A$14&ROW())<>\"\",COUNTIF(Summary!$B$30:$B$1029,INDIRECT($A$14&ROW())),\"\"),\"\")","v":1},"CE04 LEMON TEA (C)",1,null,"CI05 PASSION J",22,null,"CI01 GRAPE J",7,null,"CH02 GRN TEA JUG",2,null,"CI02 APPLE J",23,null,null,25,"BV"]
[{"$f":"IFERROR(IF(INDIRECT($A$14&ROW())<>\"\",COUNTIF(Summary!$B$30:$B$1029,INDIRECT($A$14&ROW())),\"\"),\"\")","v":1},"CE08 LEMON HONEY (C)",1,null,"CI06 RIBENA J",18,null,"CI02 APPLE J",23,null,"CH03 PEPSI JUG",2,null,"CI04 MANGO J",15,null,null,26,"BY"]
[{"$f":"IFERROR(IF(INDIRECT($A$14&ROW())<>\"\",COUNTIF(Summary!$B$30:$B$1029,INDIRECT($A$14&ROW())),\"\"),\"\")","v":1},"CF04 LEMON TEA (H)",1,null,"CJ01 GRAPE SO",1,null,"CI04 MANGO J",15,null,"CI01 GRAPE J",16,null,"CI05 PASSION J",9,null,null,27,"CB"]
[{"$f":"IFERROR(IF(INDIRECT($A$14&ROW())<>\"\",COUNTIF(Summary!$B$30:$B$1029,INDIRECT($A$14&ROW())),\"\"),\"\")","v":1},"CF09 CAPPUCCINO (H)",2,null,"CJ04 MANGO SO",2,null,"CI05 PASSION J",25,null,"CI02 APPLE J",37,null,"CI06 RIBENA J",8,null,null,28,"CE"]
[{"$f":"IFERROR(IF(INDIRECT($A$14&ROW())<>\"\",COUNTIF(Summary!$B$30:$B$1029,INDIRECT($A$14&ROW())),\"\"),\"\")","v":1},"CF12 CHAMOMILE (H)",1,null,"CJ05 PASSION SO",3,null,"CI06 RIBENA J",33,null,"CI04 MANGO J",15,null,"CJ01 GRAPE SO",1,null,null,29,"CH"]
[{"$f":"IFERROR(IF(INDIRECT($A$14&ROW())<>\"\",COUNTIF(Summary!$B$30:$B$1029,INDIRECT($A$14&ROW())),\"\"),\"\")","v":1},"CG01 MINERAL WATER",1,null,"CJ06 RIBENA SO",5,null,"CJ02 APPLE SO",3,null,"CI05 PASSION J",34,null,"CJ02 APPLE SO",2,null,null,30,"CK"]
[{"$f":"IFERROR(IF(INDIRECT($A$14&ROW())<>\"\",COUNTIF(Summary!$B$30:$B$1029,INDIRECT($A$14&ROW())),\"\"),\"\")","v":1},"CI01 GRAPE J",14,null,"CL01 7 UP",6,null,"CJ04 MANGO SO",2,null,"CI06 RIBENA J",37,null,"CL01 7 UP",5,null,null,31,"CN"]
[{"$f":"IFERROR(IF(INDIRECT($A$14&ROW())<>\"\",COUNTIF(Summary!$B$30:$B$1029,INDIRECT($A$14&ROW())),\"\"),\"\")","v":1},"CI02 APPLE J",24,null,"CL02 7 UP REVIVE",4,null,"CJ05 PASSION SO",3,null,"CJ01 GRAPE SO",4,null,"CL02 7 UP REVIVE",1]
[{"$f":"IFERROR(IF(INDIRECT($A$14&ROW())<>\"\",COUNTIF(Summary!$B$30:$B$1029,INDIRECT($A$14&ROW())),\"\"),\"\")","v":1},"CI04 MANGO J",18,null,"CL03 PEPSI",20,null,"CJ06 RIBENA SO",1,null,"CJ02 APPLE SO",3,null,"CL03 PEPSI",8]
[{"$f":"IFERROR(IF(INDIRECT($A$14&ROW())<>\"\",COUNTIF(Summary!$B$30:$B$1029,INDIRECT($A$14&ROW())),\"\"),\"\")","v":1},"CI05 PASSION J",58,null,"CM01 MILO (C)",22,null,"CL01 7 UP",4,null,"CJ04 MANGO SO",3,null,"CM01 MILO (C)",14]
[{"$f":"IFERROR(IF(INDIRECT($A$14&ROW())<>\"\",COUNTIF(Summary!$B$30:$B$1029,INDIRECT($A$14&ROW())),\"\"),\"\")","v":1},"CI06 RIBENA J",59,null,"CM02 NESCAFE (C)",14,null,"CL02 7 UP REVIVE",1,null,"CJ05 PASSION SO",6,null,"CM02 NESCAFE (C)",6]
[{"$f":"IFERROR(IF(INDIRECT($A$14&ROW())<>\"\",COUNTIF(Summary!$B$30:$B$1029,INDIRECT($A$14&ROW())),\"\"),\"\")","v":1},"CJ01 GRAPE SO",11,null,"CM03 TEA (C)",5,null,"CL03 PEPSI",16,null,"CJ06 RIBENA SO",13,null,"CM03 TEA (C)",7]
[{"$f":"IFERROR(IF(INDIRECT($A$14&ROW())<>\"\",COUNTIF(Summary!$B$30:$B$1029,INDIRECT($A$14&ROW())),\"\"),\"\")","v":1},"CJ02 APPLE SO",3,null,"CM04 LEMON TEA (C)",38,null,"CM01 MILO (C)",15,null,"CL01 7 UP",22,null,"CM04 LEMON TEA (C)",18]
[{"$f":"IFERROR(IF(INDIRECT($A$14&ROW())<>\"\",COUNTIF(Summary!$B$30:$B$1029,INDIRECT($A$14&ROW())),\"\"),\"\")","v":1},"CJ04 MANGO SO",1,null,"CM05 GRN TEA (C)",25,null,"CM02 NESCAFE (C)",2,null,"CL02 7 UP REVIVE",1,null,"CM05 GRN TEA (C)",14]
[{"$f":"IFERROR(IF(INDIRECT($A$14&ROW())<>\"\",COUNTIF(Summary!$B$30:$B$1029,INDIRECT($A$14&ROW())),\"\"),\"\")","v":1},"CJ05 PASSION SO",10,null,"CM06 HNY GRN TEA (C)",50,null,"CM03 TEA (C)",8,null,"CL03 PEPSI",39,null,"CM06 HNY GRN TEA (C)",32]
[{"$f":"IFERROR(IF(INDIRECT($A$14&ROW())<>\"\",COUNTIF(Summary!$B$30:$B$1029,INDIRECT($A$14&ROW())),\"\"),\"\")","v":1},"CJ06 RIBENA SO",8,null,"CM07 HONEY (C)",4,null,"CM04 LEMON TEA (C)",45,null,"CM01 MILO (C)",33,null,"CM07 HONEY (C)",12]
[{"$f":"IFERROR(IF(INDIRECT($A$14&ROW())<>\"\",COUNTIF(Summary!$B$30:$B$1029,INDIRECT($A$14&ROW())),\"\"),\"\")","v":1},"CL01 7 UP",23,null,"CM08 LEMON HONEY (C)",50,null,"CM05 GRN TEA (C)",52,null,"CM02 NESCAFE (C)",8,null,"CM08 LEMON HONEY (C)",33]
[{"$f":"IFERROR(IF(INDIRECT($A$14&ROW())<>\"\",COUNTIF(Summary!$B$30:$B$1029,INDIRECT($A$14&ROW())),\"\"),\"\")","v":1},"CL02 7 UP REVIVE",1,null,"CN01 MILO (H)",11,null,"CM06 HNY GRN TEA (C)",68,null,"CM03 TEA (C)",7,null,"CN01 MILO (H)",18]
[{"$f":"IFERROR(IF(INDIRECT($A$14&ROW())<>\"\",COUNTIF(Summary!$B$30:$B$1029,INDIRECT($A$14&ROW())),\"\"),\"\")","v":1},"CL03 PEPSI",49,null,"CN02 NESCAFE (H)",3,null,"CM07 HONEY (C)",22,null,"CM04 LEMON TEA (C)",72,null,"CN02 NESCAFE (H)",2]
[{"$f":"IFERROR(IF(INDIRECT($A$14&ROW())<>\"\",COUNTIF(Summary!$B$30:$B$1029,INDIRECT($A$14&ROW())),\"\"),\"\")","v":1},"CM01 MILO (C)",51,null,"CN03 TEA (H)",1,null,"CM08 LEMON HONEY (C)",106,null,"CM05 GRN TEA (C)",72,null,"CN03 TEA (H)",3]
[{"$f":"IFERROR(IF(INDIRECT($A$14&ROW())<>\"\",COUNTIF(Summary!$B$30:$B$1029,INDIRECT($A$14&ROW())),\"\"),\"\")","v":1},"CM02 NESCAFE (C)",5,null,"CN04 LEMON TEA (H)",1,null,"CN01 MILO (H)",15,null,"CM06 HNY GRN TEA (C)",111,null,"CN04 LEMON TEA (H)",8]
[{"$f":"IFERROR(IF(INDIRECT($A$14&ROW())<>\"\",COUNTIF(Summary!$B$30:$B$1029,INDIRECT($A$14&ROW())),\"\"),\"\")","v":1},"CM03 TEA (C)",4,null,"CN05 GRN TEA (H)",9,null,"CN02 NESCAFE (H)",2,null,"CM07 HONEY (C)",21,null,"CN05 GRN TEA (H)",14]
[{"$f":"IFERROR(IF(INDIRECT($A$14&ROW())<>\"\",COUNTIF(Summary!$B$30:$B$1029,INDIRECT($A$14&ROW())),\"\"),\"\")","v":1},"CM04 LEMON TEA (C)",85,null,"CN06 HNY GRN TEA (H)",9,null,"CN03 TEA (H)",1,null,"CM08 LEMON HONEY (C)",143,null,"CN06 HNY GRN TEA (H)",2]
[{"$f":"IFERROR(IF(INDIRECT($A$14&ROW())<>\"\",COUNTIF(Summary!$B$30:$B$1029,INDIRECT($A$14&ROW())),\"\"),\"\")","v":1},"CM05 GRN TEA (C)",53,null,"CN07 HONEY (H)",21,null,"CN04 LEMON TEA (H)",8,null,"CN01 MILO (H)",20,null,"CN07 HONEY (H)",6]
[{"$f":"IFERROR(IF(INDIRECT($A$14&ROW())<>\"\",COUNTIF(Summary!$B$30:$B$1029,INDIRECT($A$14&ROW())),\"\"),\"\")","v":1},"CM06 HNY GRN TEA (C)",92,null,"CN08 LEMON HONEY (H)",51,null,"CN05 GRN TEA (H)",21,null,"CN02 NESCAFE (H)",8,null,"CN08 LEMON HONEY (H)",10]
[{"$f":"IFERROR(IF(INDIRECT($A$14&ROW())<>\"\",COUNTIF(Summary!$B$30:$B$1029,INDIRECT($A$14&ROW())),\"\"),\"\")","v":1},"CM07 HONEY (C)",28,null,"CN12 CHAMOMILE (H)",6,null,"CN06 HNY GRN TEA (H)",16,null,"CN03 TEA (H)",1,null,"CN12 CHAMOMILE (H)",4]
[{"$f":"IFERROR(IF(INDIRECT($A$14&ROW())<>\"\",COUNTIF(Summary!$B$30:$B$1029,INDIRECT($A$14&ROW())),\"\"),\"\")","v":1},"CM08 LEMON HONEY (C)",118,null,"CN14 EARL GREY (H)",4,null,"CN07 HONEY (H)",10,null,"CN04 LEMON TEA (H)",13,null,"CN14 EARL GREY (H)",1]
[{"$f":"IFERROR(IF(INDIRECT($A$14&ROW())<>\"\",COUNTIF(Summary!$B$30:$B$1029,INDIRECT($A$14&ROW())),\"\"),\"\")","v":1},"CN01 MILO (H)",32,null,"CO02 PLAIN WATER",21,null,"CN08 LEMON HONEY (H)",37,null,"CN05 GRN TEA (H)",44,null,"CO02 PLAIN WATER",7]
[{"$f":"IFERROR(IF(INDIRECT($A$14&ROW())<>\"\",COUNTIF(Summary!$B$30:$B$1029,INDIRECT($A$14&ROW())),\"\"),\"\")","v":1},"CN02 NESCAFE (H)",7,null,"DB01 1001:BP CKN CP",1,null,"CN12 CHAMOMILE (H)",7,null,"CN06 HNY GRN TEA (H)",32,null,"DB03 1003:MSR CKN CP",2]
[{"$f":"IFERROR(IF(INDIRECT($A$14&ROW())<>\"\",COUNTIF(Summary!$B$30:$B$1029,INDIRECT($A$14&ROW())),\"\"),\"\")","v":1},"CN03 TEA (H)",3,null,"DB06 1006:SPAGHETTI",1,null,"CO02 PLAIN WATER",21,null,"CN07 HONEY (H)",20,null,"DB04 1004:CKN MARY",1]
[{"$f":"IFERROR(IF(INDIRECT($A$14&ROW())<>\"\",COUNTIF(Summary!$B$30:$B$1029,INDIRECT($A$14&ROW())),\"\"),\"\")","v":1},"CN04 LEMON TEA (H)",5,null,"DC01 1101:THAI CHK",2,null,"DB01 1001:BP CKN CP",3,null,"CN08 LEMON HONEY (H)",51,null,"DB05 1005:FISH&CHIP",1]
[{"$f":"IFERROR(IF(INDIRECT($A$14&ROW())<>\"\",COUNTIF(Summary!$B$30:$B$1029,INDIRECT($A$14&ROW())),\"\"),\"\")","v":1},"CN05 GRN TEA (H)",17,null,"DC02 1102:MAMITE CHK",1,null,"DB02 1002:GVY CHK CP",1,null,"CN12 CHAMOMILE (H)",6,null,"DB06 1006:SPAGHETTI",2]
[{"$f":"IFERROR(IF(INDIRECT($A$14&ROW())<>\"\",COUNTIF(Summary!$B$30:$B$1029,INDIRECT($A$14&ROW())),\"\"),\"\")","v":1},"CN06 HNY GRN TEA (H)",12,null,"DC04 1104:S&S CHK",1,null,"DB03 1003:MSR CKN CP",4,null,"CN14 EARL GREY (H)",6,null,"DB07 1007:CHK SALAD",1]
[{"$f":"IFERROR(IF(INDIRECT($A$14&ROW())<>\"\",COUNTIF(Summary!$B$30:$B$1029,INDIRECT($A$14&ROW())),\"\"),\"\")","v":1},"CN07 HONEY (H)",24,null,"DC05 1105:BUTTER CHK",4,null,"DB05 1005:FISH&CHIP",2,null,"CO02 PLAIN WATER",29,null,"DC02 1102:MAMITE CHK",3]
[{"$f":"IFERROR(IF(INDIRECT($A$14&ROW())<>\"\",COUNTIF(Summary!$B$30:$B$1029,INDIRECT($A$14&ROW())),\"\"),\"\")","v":1},"CN08 LEMON HONEY (H)",59,null,"DC06 1106:HK F.RICE",1,null,"DB06 1006:SPAGHETTI",1,null,"DB01 1001:BP CKN CP",4,null,"DC05 1105:BUTTER CHK",1]
[{"$f":"IFERROR(IF(INDIRECT($A$14&ROW())<>\"\",COUNTIF(Summary!$B$30:$B$1029,INDIRECT($A$14&ROW())),\"\"),\"\")","v":1},"CN12 CHAMOMILE (H)",2,null,"DC16 1116:MGL CHICKEN",2,null,"DB07 1007:CHK SALAD",1,null,"DB03 1003:MSR CKN CP",4,null,"DC06 1106:HK F.RICE",2]
[{"$f":"IFERROR(IF(INDIRECT($A$14&ROW())<>\"\",COUNTIF(Summary!$B$30:$B$1029,INDIRECT($A$14&ROW())),\"\"),\"\")","v":1},"CN13 DARJEELING (H)",2,null,"DD02 1202:FREN FRIES",3,null,"DC01 1101:THAI CHK",1,null,"DB04 1004:CKN MARY",7,null,"DC07 1107:SBL F.RICE",1]
[{"$f":"IFERROR(IF(INDIRECT($A$14&ROW())<>\"\",COUNTIF(Summary!$B$30:$B$1029,INDIRECT($A$14&ROW())),\"\"),\"\")","v":1},"CN14 EARL GREY (H)",5,null,"DD07 1207:SAUSAGE",2,null,"DC02 1102:MAMITE CHK",3,null,"DB05 1005:FISH&CHIP",3,null,"DC10 1110:NISSIN",2]
[{"$f":"IFERROR(IF(INDIRECT($A$14&ROW())<>\"\",COUNTIF(Summary!$B$30:$B$1029,INDIRECT($A$14&ROW())),\"\"),\"\")","v":1},"CO02 PLAIN WATER",22,null,"DD16 1307:D.F C/WING",1,null,"DC04 1104:S&S CHK",2,null,"DB06 1006:SPAGHETTI",1,null,"DD11 1302:NUGGET",1]
[{"$f":"IFERROR(IF(INDIRECT($A$14&ROW())<>\"\",COUNTIF(Summary!$B$30:$B$1029,INDIRECT($A$14&ROW())),\"\"),\"\")","v":1},"DB01 1001:BP CKN CP",4,null,"DE02 SET 1390",6,null,"DC05 1105:BUTTER CHK",7,null,"DB07 1007:CHK SALAD",1,null,"DD16 1307:D.F C/WING",1]
[{"$f":"IFERROR(IF(INDIRECT($A$14&ROW())<>\"\",COUNTIF(Summary!$B$30:$B$1029,INDIRECT($A$14&ROW())),\"\"),\"\")","v":1},"DB03 1003:MSR CKN CP",1,null,"DF07 ADD SAUCE C.PADI",1,null,"DC06 1106:HK F.RICE",5,null,"DC01 1101:THAI CHK",1,null,"DE01 SET 990",5]
[{"$f":"IFERROR(IF(INDIRECT($A$14&ROW())<>\"\",COUNTIF(Summary!$B$30:$B$1029,INDIRECT($A$14&ROW())),\"\"),\"\")","v":1},"DB04 1004:CKN MARY",2,null,"DG01 91001:BP CHK CP",2,null,"DC09 1109:BP UDON",null,null,"DC02 1102:MAMITE CHK",3,null,"DE02 SET 1390",2]
[{"$f":"IFERROR(IF(INDIRECT($A$14&ROW())<>\"\",COUNTIF(Summary!$B$30:$B$1029,INDIRECT($A$14&ROW())),\"\"),\"\")","v":1},"DB05 1005:FISH&CHIP",2,null,"DG03 91003:MSR CHK CP",2,null,"DC10 1110:NISSIN",3,null,"DC05 1105:BUTTER CHK",8,null,"DF09 ADD SAUCE MAYO",2]
[{"$f":"IFERROR(IF(INDIRECT($A$14&ROW())<>\"\",COUNTIF(Summary!$B$30:$B$1029,INDIRECT($A$14&ROW())),\"\"),\"\")","v":1},"DB07 1007:CHK SALAD",1,null,"DG04 91004:CKN MARY",2,null,"DC16 1116:MGL CHICKEN",3,null,"DC06 1106:HK F.RICE",3,null,"DF12 ADD SAUCE SAMBAL",1]
[{"$f":"IFERROR(IF(INDIRECT($A$14&ROW())<>\"\",COUNTIF(Summary!$B$30:$B$1029,INDIRECT($A$14&ROW())),\"\"),\"\")","v":1},"DC01 1101:THAI CHK",4,null,"DG05 91005:FISH&CHIP",5,null,"DD02 1202:FREN FRIES",3,null,"DC07 1107:SBL F.RICE",3,null,"DF14 ADD SAUCE TOMATO",1]
[{"$f":"IFERROR(IF(INDIRECT($A$14&ROW())<>\"\",COUNTIF(Summary!$B$30:$B$1029,INDIRECT($A$14&ROW())),\"\"),\"\")","v":1},"DC02 1102:MAMITE CHK",6,null,"DG06 91006:SPAGHETTI",1,null,"DD03 1203:GOLD MROOM",2,null,"DC09 1109:BP UDON",1,null,"DG01 91001:BP CHK CP",2]
[{"$f":"IFERROR(IF(INDIRECT($A$14&ROW())<>\"\",COUNTIF(Summary!$B$30:$B$1029,INDIRECT($A$14&ROW())),\"\"),\"\")","v":1},"DC04 1104:S&S CHK",2,null,"DG07 91007:CHK SALAD",1,null,"DD04 1204:FISHBALL",1,null,"DC10 1110:NISSIN",1,null,"DG02 91002:GVY CHK CP",1]
[{"$f":"IFERROR(IF(INDIRECT($A$14&ROW())<>\"\",COUNTIF(Summary!$B$30:$B$1029,INDIRECT($A$14&ROW())),\"\"),\"\")","v":1},"DC05 1105:BUTTER CHK",3,null,"DH01 91101:THAI CHK",1,null,"DD06 1206:SPRING RL",1,null,"DC15 1115:CHK NOODLE",2,null,"DG03 91003:MSR CHK CP",2]
[{"$f":"IFERROR(IF(INDIRECT($A$14&ROW())<>\"\",COUNTIF(Summary!$B$30:$B$1029,INDIRECT($A$14&ROW())),\"\"),\"\")","v":1},"DC06 1106:HK F.RICE",5,null,"DH02 91102:MAMITE CHK",2,null,"DD11 1302:NUGGET",2,null,"DC16 1116:MGL CHICKEN",2,null,"DG04 91004:CKN MARY",4]
[{"$f":"IFERROR(IF(INDIRECT($A$14&ROW())<>\"\",COUNTIF(Summary!$B$30:$B$1029,INDIRECT($A$14&ROW())),\"\"),\"\")","v":1},"DC07 1107:SBL F.RICE",1,null,"DH04 91104:S&S CHK",1,null,"DD12 1303:CHK WING",2,null,"DD03 1203:GOLD MROOM",1,null,"DG05 91005:FISH&CHIP",6]
[{"$f":"IFERROR(IF(INDIRECT($A$14&ROW())<>\"\",COUNTIF(Summary!$B$30:$B$1029,INDIRECT($A$14&ROW())),\"\"),\"\")","v":1},"DC08 1108:SBL F.MEE",2,null,"DH05 91105:BUTTER CHK",4,null,"DD19 1310:Mc SPIRAL/F",1,null,"DD11 1302:NUGGET",2,null,"DG06 91006:SPAGHETTI",3]
[{"$f":"IFERROR(IF(INDIRECT($A$14&ROW())<>\"\",COUNTIF(Summary!$B$30:$B$1029,INDIRECT($A$14&ROW())),\"\"),\"\")","v":1},"DC10 1110:NISSIN",2,null,"DH06 91106:HK F.RICE",2,null,"DE01 SET 990",7,null,"DD12 1303:CHK WING",1,null,"DG07 91007:CHK SALAD",1]
[{"$f":"IFERROR(IF(INDIRECT($A$14&ROW())<>\"\",COUNTIF(Summary!$B$30:$B$1029,INDIRECT($A$14&ROW())),\"\"),\"\")","v":1},"DC15 1115:CHK NOODLE",1,null,"DH07 91107:SBL F.RICE",2,null,"DE02 SET 1390",6,null,"DD13 1304:IKAN BILIS",1,null,"DH01 91101:THAI CHK",2]
[{"$f":"IFERROR(IF(INDIRECT($A$14&ROW())<>\"\",COUNTIF(Summary!$B$30:$B$1029,INDIRECT($A$14&ROW())),\"\"),\"\")","v":1},"DC16 1116:MGL CHICKEN",1,null,"DH11 91111:VEG RICE",1,null,"DF03 ADD SAUCE 1000",1,null,"DD17 1308 C/CALAMARI",1,null,"DH04 91104:S&S CHK",1]
[{"$f":"IFERROR(IF(INDIRECT($A$14&ROW())<>\"\",COUNTIF(Summary!$B$30:$B$1029,INDIRECT($A$14&ROW())),\"\"),\"\")","v":1},"DD02 1202:FREN FRIES",1,null,"DH15 91115:CHK NOODLE",3,null,"DF09 ADD SAUCE MAYO",2,null,"DE01 SET 990",5,null,"DH05 91105:BUTTER CHK",2]
[{"$f":"IFERROR(IF(INDIRECT($A$14&ROW())<>\"\",COUNTIF(Summary!$B$30:$B$1029,INDIRECT($A$14&ROW())),\"\"),\"\")","v":1},"DD07 1207:SAUSAGE",2,null,"DI07 91207:SAUSAGE",1,null,"DF14 ADD SAUCE TOMATO",1,null,"DE02 SET 1390",7,null,"DH06 91106:HK F.RICE",3]
[{"$f":"IFERROR(IF(INDIRECT($A$14&ROW())<>\"\",COUNTIF(Summary!$B$30:$B$1029,INDIRECT($A$14&ROW())),\"\"),\"\")","v":1},"DD11 1302:NUGGET",1,null,"DI19 91310:McSPIRAL.F",1,null,"DF15 ADD TATA SAUCE",1,null,"DF05 ADD SAUCE BP",2,null,"DH09 91109:BP UDON",1]
[{"$f":"IFERROR(IF(INDIRECT($A$14&ROW())<>\"\",COUNTIF(Summary!$B$30:$B$1029,INDIRECT($A$14&ROW())),\"\"),\"\")","v":1},"DD21 1312:Mc HASH BRW",1,null,"GC01 CARD NEW",3,null,"DF16 ADD SAUCE CHEES",1,null,"DF07 ADD SAUCE C.PADI",1,null,"DH15 91115:CHK NOODLE",1]
[{"$f":"IFERROR(IF(INDIRECT($A$14&ROW())<>\"\",COUNTIF(Summary!$B$30:$B$1029,INDIRECT($A$14&ROW())),\"\"),\"\")","v":1},"DE01 SET 990",8,null,"GC03 Student Mem Card",1,null,"DG01 91001:BP CHK CP",5,null,"DF14 ADD SAUCE TOMATO",2,null,"DI11 91302:NUGGET",1]
[{"$f":"IFERROR(IF(INDIRECT($A$14&ROW())<>\"\",COUNTIF(Summary!$B$30:$B$1029,INDIRECT($A$14&ROW())),\"\"),\"\")","v":1},"DE02 SET 1390",6,null,"GD02 MIKE COVER 03",1,null,"DG02 91002:GVY CHK CP",2,null,"DF16 ADD SAUCE CHEES",1,null,"DI16 91307:D/F C.WING",3]
[{"$f":"IFERROR(IF(INDIRECT($A$14&ROW())<>\"\",COUNTIF(Summary!$B$30:$B$1029,INDIRECT($A$14&ROW())),\"\"),\"\")","v":1},"DF03 ADD SAUCE 1000",4,null,"GE01 DUNHILL",1,null,"DG03 91003:MSR CHK CP",10,null,"DG01 91001:BP CHK CP",15,null,"GA09 LIGHTER",1]
[{"$f":"IFERROR(IF(INDIRECT($A$14&ROW())<>\"\",COUNTIF(Summary!$B$30:$B$1029,INDIRECT($A$14&ROW())),\"\"),\"\")","v":1},"DF09 ADD SAUCE MAYO",3,null,"GE02 DUNHILL LITE",1,null,"DG04 91004:CKN MARY",8,null,"DG02 91002:GVY CHK CP",4,null,"GD02 MIKE COVER 03",1]
[{"$f":"IFERROR(IF(INDIRECT($A$14&ROW())<>\"\",COUNTIF(Summary!$B$30:$B$1029,INDIRECT($A$14&ROW())),\"\"),\"\")","v":1},"DF14 ADD SAUCE TOMATO",5,null,"ZAC02 1302:NUGGET",1,null,"DG05 91005:FISH&CHIP",8,null,"DG03 91003:MSR CHK CP",9,null,"GE01 DUNHILL",1]
[{"$f":"IFERROR(IF(INDIRECT($A$14&ROW())<>\"\",COUNTIF(Summary!$B$30:$B$1029,INDIRECT($A$14&ROW())),\"\"),\"\")","v":1},"DF15 ADD TATA SAUCE",1,null,"ZAC03 1303:CHK WING",6,null,"DG06 91006:SPAGHETTI",5,null,"DG04 91004:CKN MARY",9,null,"GE02 DUNHILL LITE",1]
[{"$f":"IFERROR(IF(INDIRECT($A$14&ROW())<>\"\",COUNTIF(Summary!$B$30:$B$1029,INDIRECT($A$14&ROW())),\"\"),\"\")","v":1},"DG01 91001:BP CHK CP",26,null,"ZAC07 1307:D/F C.WINGS",2,null,"DG07 91007:CHK SALAD",2,null,"DG05 91005:FISH&CHIP",9,null,"GE05 DUNHILL BOOST",1]
[{"$f":"IFERROR(IF(INDIRECT($A$14&ROW())<>\"\",COUNTIF(Summary!$B$30:$B$1029,INDIRECT($A$14&ROW())),\"\"),\"\")","v":1},"DG02 91002:GVY CHK CP",9,null,"ZAC10 1310:Mc SPIRAL/F",3,null,"DH01 91101:THAI CHK",1,null,"DG06 91006:SPAGHETTI",4,null,"ZAB02 1202:FRIES",6]
[{"$f":"IFERROR(IF(INDIRECT($A$14&ROW())<>\"\",COUNTIF(Summary!$B$30:$B$1029,INDIRECT($A$14&ROW())),\"\"),\"\")","v":1},"DG03 91003:MSR CHK CP",29,null,"ZAD01 COLD",8,null,"DH02 91102:MAMITE CHK",6,null,"DG07 91007:CHK SALAD",1,null,"ZAB04 1204:F.BALL",1]
[{"$f":"IFERROR(IF(INDIRECT($A$14&ROW())<>\"\",COUNTIF(Summary!$B$30:$B$1029,INDIRECT($A$14&ROW())),\"\"),\"\")","v":1},"DG04 91004:CKN MARY",19,null,"ZAD02 HOT",3,null,"DH04 91104:S&S CHK",1,null,"DH01 91101:THAI CHK",3,null,"ZAB06 1206:SPRING RL",1]
[{"$f":"IFERROR(IF(INDIRECT($A$14&ROW())<>\"\",COUNTIF(Summary!$B$30:$B$1029,INDIRECT($A$14&ROW())),\"\"),\"\")","v":1},"DG05 91005:FISH&CHIP",13,null,"ZAD03 WARM",12,null,"DH05 91105:BUTTER CHK",5,null,"DH02 91102:MAMITE CHK",4,null,"ZAB07 1207:SAUSAGE",2]
[{"$f":"IFERROR(IF(INDIRECT($A$14&ROW())<>\"\",COUNTIF(Summary!$B$30:$B$1029,INDIRECT($A$14&ROW())),\"\"),\"\")","v":1},"DG06 91006:SPAGHETTI",9,null,"ZAD04 LESS ICE",12,null,"DH06 91106:HK F.RICE",3,null,"DH05 91105:BUTTER CHK",6,null,"ZAC03 1303:CHK WING",1]
[{"$f":"IFERROR(IF(INDIRECT($A$14&ROW())<>\"\",COUNTIF(Summary!$B$30:$B$1029,INDIRECT($A$14&ROW())),\"\"),\"\")","v":1},"DG07 91007:CHK SALAD",5,null,"ZAD05 MORE ICE",1,null,"DH08 91108:SBL F.MEE",1,null,"DH06 91106:HK F.RICE",3,null,"ZAC07 1307:D/F C.WINGS",1]
[{"$f":"IFERROR(IF(INDIRECT($A$14&ROW())<>\"\",COUNTIF(Summary!$B$30:$B$1029,INDIRECT($A$14&ROW())),\"\"),\"\")","v":1},"DH01 91101:THAI CHK",7,null,"ZAD06 NO ICE",7,null,"DH15 91115:CHK NOODLE",2,null,"DH09 91109:BP UDON",1,null,"ZAC08 1308:C/CALAMARI",1]
[{"$f":"IFERROR(IF(INDIRECT($A$14&ROW())<>\"\",COUNTIF(Summary!$B$30:$B$1029,INDIRECT($A$14&ROW())),\"\"),\"\")","v":1},"DH02 91102:MAMITE CHK",5,null,"ZAD07 LESS SWEET",1,null,"DH16 91116:MGL CHK",1,null,"DH11 91111:VEG RICE",1,null,"ZAC12 1312:Mc HASH/B",1]
[{"$f":"IFERROR(IF(INDIRECT($A$14&ROW())<>\"\",COUNTIF(Summary!$B$30:$B$1029,INDIRECT($A$14&ROW())),\"\"),\"\")","v":1},"DH04 91104:S&S CHK",3,null,"ZAD13 ADD LEMON",3,null,"DI02 91202:FREN FRIES",1,null,"DH16 91116:MGL CHK",3,null,"ZAD01 COLD",2]
[{"$f":"IFERROR(IF(INDIRECT($A$14&ROW())<>\"\",COUNTIF(Summary!$B$30:$B$1029,INDIRECT($A$14&ROW())),\"\"),\"\")","v":1},"DH05 91105:BUTTER CHK",14,null,"ZAD16 ICE",3,null,"EA01 TIDBITS",1,null,"DI02 91202:FREN FRIES",2,null,"ZAD02 HOT",1]
[{"$f":"IFERROR(IF(INDIRECT($A$14&ROW())<>\"\",COUNTIF(Summary!$B$30:$B$1029,INDIRECT($A$14&ROW())),\"\"),\"\")","v":1},"DH06 91106:HK F.RICE",4,null,"ZAD20 JUG",3,null,"GA09 LIGHTER",1,null,"DI04 91204:FISHBALL",1,null,"ZAD03 WARM",1]
[{"$f":"IFERROR(IF(INDIRECT($A$14&ROW())<>\"\",COUNTIF(Summary!$B$30:$B$1029,INDIRECT($A$14&ROW())),\"\"),\"\")","v":1},"DH07 91107:SBL F.RICE",8,null,"ZAD36 BEER GLASS",10,null,"GC01 CARD NEW",5,null,"DI07 91207:SAUSAGE",1,null,"ZAD04 LESS ICE",21]
[{"$f":"IFERROR(IF(INDIRECT($A$14&ROW())<>\"\",COUNTIF(Summary!$B$30:$B$1029,INDIRECT($A$14&ROW())),\"\"),\"\")","v":1},"DH08 91108:SBL F.MEE",1,null,"ZAD37 ICE BUCKET",2,null,"GD02 MIKE COVER 03",1,null,"DI12 91303:CHK WING",5,null,"ZAD06 NO ICE",12]
[{"$f":"IFERROR(IF(INDIRECT($A$14&ROW())<>\"\",COUNTIF(Summary!$B$30:$B$1029,INDIRECT($A$14&ROW())),\"\"),\"\")","v":1},"DH09 91109:BP UDON",1,null,"ZZZZZ WRONG PRICE",null,null,"GE01 DUNHILL",3,null,"DI17 91308:C/CALAMARI",1,null,"ZAD13 ADD LEMON",2]
[{"$f":"IFERROR(IF(INDIRECT($A$14&ROW())<>\"\",COUNTIF(Summary!$B$30:$B$1029,INDIRECT($A$14&ROW())),\"\"),\"\")","v":1},"DH10 91110:NISSIN",2,null,null,null,null,"GE02 DUNHILL LITE",1,null,"DI19 91310:McSPIRAL.F",1,null,"ZAD16 RECEPT HIL",1]
[{"$f":"IFERROR(IF(INDIRECT($A$14&ROW())<>\"\",COUNTIF(Summary!$B$30:$B$1029,INDIRECT($A$14&ROW())),\"\"),\"\")","v":1},"DI01 91201:SFD STICK",3,null,null,null,null,"ZAB01 1201:SFD STICK",1,null,"DL01 3001:6'HAWAIIAN",1,null,"ZAD20 JUG",4]
[{"$f":"IFERROR(IF(INDIRECT($A$14&ROW())<>\"\",COUNTIF(Summary!$B$30:$B$1029,INDIRECT($A$14&ROW())),\"\"),\"\")","v":1},"DI02 91202:FREN FRIES",3,null,null,null,null,"ZAB02 1202:FRIES",6,null,"DM01 SNACK PLATTER(A)",2,null,"ZAD36 BEER GLASS",4]
[{"$f":"IFERROR(IF(INDIRECT($A$14&ROW())<>\"\",COUNTIF(Summary!$B$30:$B$1029,INDIRECT($A$14&ROW())),\"\"),\"\")","v":1},"DI11 91302:NUGGET",5,null,null,null,null,"ZAB03 1203:GOLD MROOM",2,null,"GC01 CARD NEW",3,null,"ZAD37 ICE BUCKET",4]
[{"$f":"IFERROR(IF(INDIRECT($A$14&ROW())<>\"\",COUNTIF(Summary!$B$30:$B$1029,INDIRECT($A$14&ROW())),\"\"),\"\")","v":1},"DI12 91303:CHK WING",4,null,null,null,null,"ZAB04 1204:F.BALL",2,null,"GD02 MIKE COVER 03",1,null,"ZZZZZ CHANGE 4BP"]
[{"$f":"IFERROR(IF(INDIRECT($A$14&ROW())<>\"\",COUNTIF(Summary!$B$30:$B$1029,INDIRECT($A$14&ROW())),\"\"),\"\")","v":""},"DI13 91304:IKAN BILIS",1,null,null,null,null,"ZAB06 1206:SPRING RL",2,null,"GE07 DUNHILL ICE",3]
[{"$f":"IFERROR(IF(INDIRECT($A$14&ROW())<>\"\",COUNTIF(Summary!$B$30:$B$1029,INDIRECT($A$14&ROW())),\"\"),\"\")","v":""},"DI14 91305:THAI RL",2,null,null,null,null,"ZAB07 1207:SAUSAGE",1,null,"ZAB02 1202:FRIES",3]
[{"$f":"IFERROR(IF(INDIRECT($A$14&ROW())<>\"\",COUNTIF(Summary!$B$30:$B$1029,INDIRECT($A$14&ROW())),\"\"),\"\")","v":""},"DI16 91307:D/F C.WING",2,null,null,null,null,"ZAC02 1302:NUGGET",4,null,"ZAB03 1203:GOLD MROOM",2]
[{"$f":"IFERROR(IF(INDIRECT($A$14&ROW())<>\"\",COUNTIF(Summary!$B$30:$B$1029,INDIRECT($A$14&ROW())),\"\"),\"\")","v":""},"DI17 91308:C/CALAMARI",1,null,null,null,null,"ZAC03 1303:CHK WING",1,null,"ZAB04 1204:F.BALL",1]
[{"$f":"IFERROR(IF(INDIRECT($A$14&ROW())<>\"\",COUNTIF(Summary!$B$30:$B$1029,INDIRECT($A$14&ROW())),\"\"),\"\")","v":""},"DI19 91310:McSPIRAL.F",1,null,null,null,null,"ZAC04 1304:IKAN BILIS",1,null,"ZAB06 1206:SPRING RL",2]
[{"$f":"IFERROR(IF(INDIRECT($A$14&ROW())<>\"\",COUNTIF(Summary!$B$30:$B$1029,INDIRECT($A$14&ROW())),\"\"),\"\")","v":""},"DM01 SNACK PLATTER(A)",2,null,null,null,null,"ZAC07 1307:D/F C.WINGS",2,null,"ZAB07 1207:SAUSAGE",2]
[{"$f":"IFERROR(IF(INDIRECT($A$14&ROW())<>\"\",COUNTIF(Summary!$B$30:$B$1029,INDIRECT($A$14&ROW())),\"\"),\"\")","v":""},"DM02 SNACK PLATTER(B)",1,null,null,null,null,"ZAC10 1310:Mc SPIRAL/F",2,null,"ZAC02 1302:NUGGET",1]
[{"$f":"IFERROR(IF(INDIRECT($A$14&ROW())<>\"\",COUNTIF(Summary!$B$30:$B$1029,INDIRECT($A$14&ROW())),\"\"),\"\")","v":""},"GA09 LIGHTER",1,null,null,null,null,"ZAC11 1311:Mc H/SMILES",1,null,"ZAC03 1303:CHK WING",3]
[{"$f":"IFERROR(IF(INDIRECT($A$14&ROW())<>\"\",COUNTIF(Summary!$B$30:$B$1029,INDIRECT($A$14&ROW())),\"\"),\"\")","v":""},"GC01 CARD NEW",3,null,null,null,null,"ZAC12 1312:Mc HASH/B",1,null,"ZAC07 1307:D/F C.WINGS",1]
[{"$f":"IFERROR(IF(INDIRECT($A$14&ROW())<>\"\",COUNTIF(Summary!$B$30:$B$1029,INDIRECT($A$14&ROW())),\"\"),\"\")","v":""},"GD02 MIKE COVER 03",3,null,null,null,null,"ZAD01 COLD",3,null,"ZAC08 1308:C/CALAMARI",4]
[{"$f":"IFERROR(IF(INDIRECT($A$14&ROW())<>\"\",COUNTIF(Summary!$B$30:$B$1029,INDIRECT($A$14&ROW())),\"\"),\"\")","v":""},"GE05 DUNHILL BOOST",1,null,null,null,null,"ZAD02 HOT",1,null,"ZAC10 1310:Mc SPIRAL/F",2]
[{"$f":"IFERROR(IF(INDIRECT($A$14&ROW())<>\"\",COUNTIF(Summary!$B$30:$B$1029,INDIRECT($A$14&ROW())),\"\"),\"\")","v":""},"GE07 DUNHILL ICE",1,null,null,null,null,"ZAD03 WARM",14,null,"ZAC12 1312:Mc HASH/B",3]
[{"$f":"IFERROR(IF(INDIRECT($A$14&ROW())<>\"\",COUNTIF(Summary!$B$30:$B$1029,INDIRECT($A$14&ROW())),\"\"),\"\")","v":""},"ZAB01 1201:SFD STICK",1,null,null,null,null,"ZAD04 LESS ICE",37,null,"ZAD01 COLD",4]
[{"$f":"IFERROR(IF(INDIRECT($A$14&ROW())<>\"\",COUNTIF(Summary!$B$30:$B$1029,INDIRECT($A$14&ROW())),\"\"),\"\")","v":""},"ZAB02 1202:FRIES",7,null,null,null,null,"ZAD06 NO ICE",18,null,"ZAD02 HOT",2]
[{"$f":"IFERROR(IF(INDIRECT($A$14&ROW())<>\"\",COUNTIF(Summary!$B$30:$B$1029,INDIRECT($A$14&ROW())),\"\"),\"\")","v":""},"ZAB03 1203:GOLD MROOM",3,null,null,null,null,"ZAD07 LESS SWEET",2,null,"ZAD03 WARM",24]
[{"$f":"IFERROR(IF(INDIRECT($A$14&ROW())<>\"\",COUNTIF(Summary!$B$30:$B$1029,INDIRECT($A$14&ROW())),\"\"),\"\")","v":""},"ZAB06 1206:SPRING RL",2,null,null,null,null,"ZAD13 ADD LEMON",4,null,"ZAD04 LESS ICE",71]
[{"$f":"IFERROR(IF(INDIRECT($A$14&ROW())<>\"\",COUNTIF(Summary!$B$30:$B$1029,INDIRECT($A$14&ROW())),\"\"),\"\")","v":""},"ZAB07 1207:SAUSAGE",3,null,null,null,null,"ZAD16 2BIJI ICE",4,null,"ZAD05 MORE ICE",1]
[{"$f":"IFERROR(IF(INDIRECT($A$14&ROW())<>\"\",COUNTIF(Summary!$B$30:$B$1029,INDIRECT($A$14&ROW())),\"\"),\"\")","v":""},"ZAC02 1302:NUGGET",2,null,null,null,null,"ZAD20 JUG",6,null,"ZAD06 NO ICE",12]
[{"$f":"IFERROR(IF(INDIRECT($A$14&ROW())<>\"\",COUNTIF(Summary!$B$30:$B$1029,INDIRECT($A$14&ROW())),\"\"),\"\")","v":""},"ZAC03 1303:CHK WING",3,null,null,null,null,"ZAD36 BEER GLASS",13,null,"ZAD07 LESS SWEET",7]
[{"$f":"IFERROR(IF(INDIRECT($A$14&ROW())<>\"\",COUNTIF(Summary!$B$30:$B$1029,INDIRECT($A$14&ROW())),\"\"),\"\")","v":""},"ZAC07 1307:D/F C.WINGS",4,null,null,null,null,"ZAD37 ICE BUCKET",4,null,"ZAD10 LESS SPICY",2]
[{"$f":"IFERROR(IF(INDIRECT($A$14&ROW())<>\"\",COUNTIF(Summary!$B$30:$B$1029,INDIRECT($A$14&ROW())),\"\"),\"\")","v":""},"ZAC09 1309:Mc /O.RINGS",1,null,null,null,null,"ZZZZZ CHANGE TO BIG RO",null,null,"ZAD13 ADD LEMON",15]
[{"$f":"IFERROR(IF(INDIRECT($A$14&ROW())<>\"\",COUNTIF(Summary!$B$30:$B$1029,INDIRECT($A$14&ROW())),\"\"),\"\")","v":""},"ZAC10 1310:Mc SPIRAL/F",1,null,null,null,null,null,null,null,"ZAD16 10 GLASS NORMAL",6]
[{"$f":"IFERROR(IF(INDIRECT($A$14&ROW())<>\"\",COUNTIF(Summary!$B$30:$B$1029,INDIRECT($A$14&ROW())),\"\"),\"\")","v":""},"ZAC12 1312:Mc HASH/B",1,null,null,null,null,null,null,null,"ZAD17 WITHOUT SUGAR",2]
[{"$f":"IFERROR(IF(INDIRECT($A$14&ROW())<>\"\",COUNTIF(Summary!$B$30:$B$1029,INDIRECT($A$14&ROW())),\"\"),\"\")","v":""},"ZAD01 COLD",4,null,null,null,null,null,null,null,"ZAD20 JUG",6]
[{"$f":"IFERROR(IF(INDIRECT($A$14&ROW())<>\"\",COUNTIF(Summary!$B$30:$B$1029,INDIRECT($A$14&ROW())),\"\"),\"\")","v":""},"ZAD02 HOT",3,null,null,null,null,null,null,null,"ZAD36 BEER GLASS",27]
[{"$f":"IFERROR(IF(INDIRECT($A$14&ROW())<>\"\",COUNTIF(Summary!$B$30:$B$1029,INDIRECT($A$14&ROW())),\"\"),\"\")","v":""},"ZAD03 WARM",20,null,null,null,null,null,null,null,"ZAD37 ICE BUCKET",5]
[{"$f":"IFERROR(IF(INDIRECT($A$14&ROW())<>\"\",COUNTIF(Summary!$B$30:$B$1029,INDIRECT($A$14&ROW())),\"\"),\"\")","v":""},"ZAD04 LESS ICE",31,null,null,null,null,null,null,null,"ZZZZZ WRONG KEY"]
[{"$f":"IFERROR(IF(INDIRECT($A$14&ROW())<>\"\",COUNTIF(Summary!$B$30:$B$1029,INDIRECT($A$14&ROW())),\"\"),\"\")","v":""},"ZAD06 NO ICE",10]
[{"$f":"IFERROR(IF(INDIRECT($A$14&ROW())<>\"\",COUNTIF(Summary!$B$30:$B$1029,INDIRECT($A$14&ROW())),\"\"),\"\")","v":""},"ZAD07 LESS SWEET",2]
[{"$f":"IFERROR(IF(INDIRECT($A$14&ROW())<>\"\",COUNTIF(Summary!$B$30:$B$1029,INDIRECT($A$14&ROW())),\"\"),\"\")","v":""},"ZAD13 ADD LEMON",12]
[{"$f":"IFERROR(IF(INDIRECT($A$14&ROW())<>\"\",COUNTIF(Summary!$B$30:$B$1029,INDIRECT($A$14&ROW())),\"\"),\"\")","v":""},"ZAD16 COOL TELL KENZ D",2]
[{"$f":"IFERROR(IF(INDIRECT($A$14&ROW())<>\"\",COUNTIF(Summary!$B$30:$B$1029,INDIRECT($A$14&ROW())),\"\"),\"\")","v":""},"ZAD20 JUG",3]
[{"$f":"IFERROR(IF(INDIRECT($A$14&ROW())<>\"\",COUNTIF(Summary!$B$30:$B$1029,INDIRECT($A$14&ROW())),\"\"),\"\")","v":""},"ZAD24 + SAUCE BP",2]
[{"$f":"IFERROR(IF(INDIRECT($A$14&ROW())<>\"\",COUNTIF(Summary!$B$30:$B$1029,INDIRECT($A$14&ROW())),\"\"),\"\")","v":""},"ZAD36 BEER GLASS",23]
[{"$f":"IFERROR(IF(INDIRECT($A$14&ROW())<>\"\",COUNTIF(Summary!$B$30:$B$1029,INDIRECT($A$14&ROW())),\"\"),\"\")","v":""},"ZAD37 ICE BUCKET",4]
[{"$f":"IFERROR(IF(INDIRECT($A$14&ROW())<>\"\",COUNTIF(Summary!$B$30:$B$1029,INDIRECT($A$14&ROW())),\"\"),\"\")","v":""},"ZZZZZ CHANGE MEM"]
[{"$f":"IFERROR(IF(INDIRECT($A$14&ROW())<>\"\",COUNTIF(Summary!$B$30:$B$1029,INDIRECT($A$14&ROW())),\"\"),\"\")","v":""}]
[{"$f":"IFERROR(IF(INDIRECT($A$14&ROW())<>\"\",COUNTIF(Summary!$B$30:$B$1029,INDIRECT($A$14&ROW())),\"\"),\"\")","v":""}]
[{"$f":"IFERROR(IF(INDIRECT($A$14&ROW())<>\"\",COUNTIF(Summary!$B$30:$B$1029,INDIRECT($A$14&ROW())),\"\"),\"\")","v":""}]
[{"$f":"IFERROR(IF(INDIRECT($A$14&ROW())<>\"\",COUNTIF(Summary!$B$30:$B$1029,INDIRECT($A$14&ROW())),\"\"),\"\")","v":""}]
[{"$f":"IFERROR(IF(INDIRECT($A$14&ROW())<>\"\",COUNTIF(Summary!$B$30:$B$1029,INDIRECT($A$14&ROW())),\"\"),\"\")","v":""}]
[{"$f":"IFERROR(IF(INDIRECT($A$14&ROW())<>\"\",COUNTIF(Summary!$B$30:$B$1029,INDIRECT($A$14&ROW())),\"\"),\"\")","v":""}]
[{"$f":"IFERROR(IF(INDIRECT($A$14&ROW())<>\"\",COUNTIF(Summary!$B$30:$B$1029,INDIRECT($A$14&ROW())),\"\"),\"\")","v":""}]
[{"$f":"IFERROR(IF(INDIRECT($A$14&ROW())<>\"\",COUNTIF(Summary!$B$30:$B$1029,INDIRECT($A$14&ROW())),\"\"),\"\")","v":""}]
[{"$f":"IFERROR(IF(INDIRECT($A$14&ROW())<>\"\",COUNTIF(Summary!$B$30:$B$1029,INDIRECT($A$14&ROW())),\"\"),\"\")","v":""}]
[{"$f":"IFERROR(IF(INDIRECT($A$14&ROW())<>\"\",COUNTIF(Summary!$B$30:$B$1029,INDIRECT($A$14&ROW())),\"\"),\"\")","v":""}]
[{"$f":"IFERROR(IF(INDIRECT($A$14&ROW())<>\"\",COUNTIF(Summary!$B$30:$B$1029,INDIRECT($A$14&ROW())),\"\"),\"\")","v":""}]
[{"$f":"IFERROR(IF(INDIRECT($A$14&ROW())<>\"\",COUNTIF(Summary!$B$30:$B$1029,INDIRECT($A$14&ROW())),\"\"),\"\")","v":""}]
[{"$f":"IFERROR(IF(INDIRECT($A$14&ROW())<>\"\",COUNTIF(Summary!$B$30:$B$1029,INDIRECT($A$14&ROW())),\"\"),\"\")","v":""}]
[{"$f":"IFERROR(IF(INDIRECT($A$14&ROW())<>\"\",COUNTIF(Summary!$B$30:$B$1029,INDIRECT($A$14&ROW())),\"\"),\"\")","v":""}]
[{"$f":"IFERROR(IF(INDIRECT($A$14&ROW())<>\"\",COUNTIF(Summary!$B$30:$B$1029,INDIRECT($A$14&ROW())),\"\"),\"\")","v":""}]
[{"$f":"IFERROR(IF(INDIRECT($A$14&ROW())<>\"\",COUNTIF(Summary!$B$30:$B$1029,INDIRECT($A$14&ROW())),\"\"),\"\")","v":""}]
[{"$f":"IFERROR(IF(INDIRECT($A$14&ROW())<>\"\",COUNTIF(Summary!$B$30:$B$1029,INDIRECT($A$14&ROW())),\"\"),\"\")","v":""}]
[{"$f":"IFERROR(IF(INDIRECT($A$14&ROW())<>\"\",COUNTIF(Summary!$B$30:$B$1029,INDIRECT($A$14&ROW())),\"\"),\"\")","v":""}]
[{"$f":"IFERROR(IF(INDIRECT($A$14&ROW())<>\"\",COUNTIF(Summary!$B$30:$B$1029,INDIRECT($A$14&ROW())),\"\"),\"\")","v":""}]
[{"$f":"IFERROR(IF(INDIRECT($A$14&ROW())<>\"\",COUNTIF(Summary!$B$30:$B$1029,INDIRECT($A$14&ROW())),\"\"),\"\")","v":""}]
[{"$f":"IFERROR(IF(INDIRECT($A$14&ROW())<>\"\",COUNTIF(Summary!$B$30:$B$1029,INDIRECT($A$14&ROW())),\"\"),\"\")","v":""}]
[{"$f":"IFERROR(IF(INDIRECT($A$14&ROW())<>\"\",COUNTIF(Summary!$B$30:$B$1029,INDIRECT($A$14&ROW())),\"\"),\"\")","v":""}]
[{"$f":"IFERROR(IF(INDIRECT($A$14&ROW())<>\"\",COUNTIF(Summary!$B$30:$B$1029,INDIRECT($A$14&ROW())),\"\"),\"\")","v":""}]
[{"$f":"IFERROR(IF(INDIRECT($A$14&ROW())<>\"\",COUNTIF(Summary!$B$30:$B$1029,INDIRECT($A$14&ROW())),\"\"),\"\")","v":""}]
[{"$f":"IFERROR(IF(INDIRECT($A$14&ROW())<>\"\",COUNTIF(Summary!$B$30:$B$1029,INDIRECT($A$14&ROW())),\"\"),\"\")","v":""}]
[{"$f":"IFERROR(IF(INDIRECT($A$14&ROW())<>\"\",COUNTIF(Summary!$B$30:$B$1029,INDIRECT($A$14&ROW())),\"\"),\"\")","v":""}]
[{"$f":"IFERROR(IF(INDIRECT($A$14&ROW())<>\"\",COUNTIF(Summary!$B$30:$B$1029,INDIRECT($A$14&ROW())),\"\"),\"\")","v":""}]
[{"$f":"IFERROR(IF(INDIRECT($A$14&ROW())<>\"\",COUNTIF(Summary!$B$30:$B$1029,INDIRECT($A$14&ROW())),\"\"),\"\")","v":""}]
[{"$f":"IFERROR(IF(INDIRECT($A$14&ROW())<>\"\",COUNTIF(Summary!$B$30:$B$1029,INDIRECT($A$14&ROW())),\"\"),\"\")","v":""}]
[{"$f":"IFERROR(IF(INDIRECT($A$14&ROW())<>\"\",COUNTIF(Summary!$B$30:$B$1029,INDIRECT($A$14&ROW())),\"\"),\"\")","v":""}]
[{"$f":"IFERROR(IF(INDIRECT($A$14&ROW())<>\"\",COUNTIF(Summary!$B$30:$B$1029,INDIRECT($A$14&ROW())),\"\"),\"\")","v":""}]
[{"$f":"IFERROR(IF(INDIRECT($A$14&ROW())<>\"\",COUNTIF(Summary!$B$30:$B$1029,INDIRECT($A$14&ROW())),\"\"),\"\")","v":""}]
[{"$f":"IFERROR(IF(INDIRECT($A$14&ROW())<>\"\",COUNTIF(Summary!$B$30:$B$1029,INDIRECT($A$14&ROW())),\"\"),\"\")","v":""}]
[{"$f":"IFERROR(IF(INDIRECT($A$14&ROW())<>\"\",COUNTIF(Summary!$B$30:$B$1029,INDIRECT($A$14&ROW())),\"\"),\"\")","v":""}]
[{"$f":"IFERROR(IF(INDIRECT($A$14&ROW())<>\"\",COUNTIF(Summary!$B$30:$B$1029,INDIRECT($A$14&ROW())),\"\"),\"\")","v":""}]
[{"$f":"IFERROR(IF(INDIRECT($A$14&ROW())<>\"\",COUNTIF(Summary!$B$30:$B$1029,INDIRECT($A$14&ROW())),\"\"),\"\")","v":""}]
[{"$f":"IFERROR(IF(INDIRECT($A$14&ROW())<>\"\",COUNTIF(Summary!$B$30:$B$1029,INDIRECT($A$14&ROW())),\"\"),\"\")","v":""}]
[{"$f":"IFERROR(IF(INDIRECT($A$14&ROW())<>\"\",COUNTIF(Summary!$B$30:$B$1029,INDIRECT($A$14&ROW())),\"\"),\"\")","v":""}]
[{"$f":"IFERROR(IF(INDIRECT($A$14&ROW())<>\"\",COUNTIF(Summary!$B$30:$B$1029,INDIRECT($A$14&ROW())),\"\"),\"\")","v":""}]
[{"$f":"IFERROR(IF(INDIRECT($A$14&ROW())<>\"\",COUNTIF(Summary!$B$30:$B$1029,INDIRECT($A$14&ROW())),\"\"),\"\")","v":""}]
[{"$f":"IFERROR(IF(INDIRECT($A$14&ROW())<>\"\",COUNTIF(Summary!$B$30:$B$1029,INDIRECT($A$14&ROW())),\"\"),\"\")","v":""}]
[{"$f":"IFERROR(IF(INDIRECT($A$14&ROW())<>\"\",COUNTIF(Summary!$B$30:$B$1029,INDIRECT($A$14&ROW())),\"\"),\"\")","v":""}]
[{"$f":"IFERROR(IF(INDIRECT($A$14&ROW())<>\"\",COUNTIF(Summary!$B$30:$B$1029,INDIRECT($A$14&ROW())),\"\"),\"\")","v":""}]
[{"$f":"IFERROR(IF(INDIRECT($A$14&ROW())<>\"\",COUNTIF(Summary!$B$30:$B$1029,INDIRECT($A$14&ROW())),\"\"),\"\")","v":""}]
[{"$f":"IFERROR(IF(INDIRECT($A$14&ROW())<>\"\",COUNTIF(Summary!$B$30:$B$1029,INDIRECT($A$14&ROW())),\"\"),\"\")","v":""}]
[{"$f":"IFERROR(IF(INDIRECT($A$14&ROW())<>\"\",COUNTIF(Summary!$B$30:$B$1029,INDIRECT($A$14&ROW())),\"\"),\"\")","v":""}]
[{"$f":"IFERROR(IF(INDIRECT($A$14&ROW())<>\"\",COUNTIF(Summary!$B$30:$B$1029,INDIRECT($A$14&ROW())),\"\"),\"\")","v":""}]
[{"$f":"IFERROR(IF(INDIRECT($A$14&ROW())<>\"\",COUNTIF(Summary!$B$30:$B$1029,INDIRECT($A$14&ROW())),\"\"),\"\")","v":""}]
[{"$f":"IFERROR(IF(INDIRECT($A$14&ROW())<>\"\",COUNTIF(Summary!$B$30:$B$1029,INDIRECT($A$14&ROW())),\"\"),\"\")","v":""}]
[{"$f":"IFERROR(IF(INDIRECT($A$14&ROW())<>\"\",COUNTIF(Summary!$B$30:$B$1029,INDIRECT($A$14&ROW())),\"\"),\"\")","v":""}]
[{"$f":"IFERROR(IF(INDIRECT($A$14&ROW())<>\"\",COUNTIF(Summary!$B$30:$B$1029,INDIRECT($A$14&ROW())),\"\"),\"\")","v":""}]
[{"$f":"IFERROR(IF(INDIRECT($A$14&ROW())<>\"\",COUNTIF(Summary!$B$30:$B$1029,INDIRECT($A$14&ROW())),\"\"),\"\")","v":""}]
[{"$f":"IFERROR(IF(INDIRECT($A$14&ROW())<>\"\",COUNTIF(Summary!$B$30:$B$1029,INDIRECT($A$14&ROW())),\"\"),\"\")","v":""}]
[{"$f":"IFERROR(IF(INDIRECT($A$14&ROW())<>\"\",COUNTIF(Summary!$B$30:$B$1029,INDIRECT($A$14&ROW())),\"\"),\"\")","v":""}]
[{"$f":"IFERROR(IF(INDIRECT($A$14&ROW())<>\"\",COUNTIF(Summary!$B$30:$B$1029,INDIRECT($A$14&ROW())),\"\"),\"\")","v":""}]
[{"$f":"IFERROR(IF(INDIRECT($A$14&ROW())<>\"\",COUNTIF(Summary!$B$30:$B$1029,INDIRECT($A$14&ROW())),\"\"),\"\")","v":""}]
[{"$f":"IFERROR(IF(INDIRECT($A$14&ROW())<>\"\",COUNTIF(Summary!$B$30:$B$1029,INDIRECT($A$14&ROW())),\"\"),\"\")","v":""}]
[{"$f":"IFERROR(IF(INDIRECT($A$14&ROW())<>\"\",COUNTIF(Summary!$B$30:$B$1029,INDIRECT($A$14&ROW())),\"\"),\"\")","v":""}]
[{"$f":"IFERROR(IF(INDIRECT($A$14&ROW())<>\"\",COUNTIF(Summary!$B$30:$B$1029,INDIRECT($A$14&ROW())),\"\"),\"\")","v":""}]
[{"$f":"IFERROR(IF(INDIRECT($A$14&ROW())<>\"\",COUNTIF(Summary!$B$30:$B$1029,INDIRECT($A$14&ROW())),\"\"),\"\")","v":""}]
[{"$f":"IFERROR(IF(INDIRECT($A$14&ROW())<>\"\",COUNTIF(Summary!$B$30:$B$1029,INDIRECT($A$14&ROW())),\"\"),\"\")","v":""}]
[{"$f":"IFERROR(IF(INDIRECT($A$14&ROW())<>\"\",COUNTIF(Summary!$B$30:$B$1029,INDIRECT($A$14&ROW())),\"\"),\"\")","v":""}]
[{"$f":"IFERROR(IF(INDIRECT($A$14&ROW())<>\"\",COUNTIF(Summary!$B$30:$B$1029,INDIRECT($A$14&ROW())),\"\"),\"\")","v":""}]
[{"$f":"IFERROR(IF(INDIRECT($A$14&ROW())<>\"\",COUNTIF(Summary!$B$30:$B$1029,INDIRECT($A$14&ROW())),\"\"),\"\")","v":""}]
[{"$f":"IFERROR(IF(INDIRECT($A$14&ROW())<>\"\",COUNTIF(Summary!$B$30:$B$1029,INDIRECT($A$14&ROW())),\"\"),\"\")","v":""}]
[{"$f":"IFERROR(IF(INDIRECT($A$14&ROW())<>\"\",COUNTIF(Summary!$B$30:$B$1029,INDIRECT($A$14&ROW())),\"\"),\"\")","v":""}]
[{"$f":"IFERROR(IF(INDIRECT($A$14&ROW())<>\"\",COUNTIF(Summary!$B$30:$B$1029,INDIRECT($A$14&ROW())),\"\"),\"\")","v":""}]
[{"$f":"IFERROR(IF(INDIRECT($A$14&ROW())<>\"\",COUNTIF(Summary!$B$30:$B$1029,INDIRECT($A$14&ROW())),\"\"),\"\")","v":""}]
[{"$f":"IFERROR(IF(INDIRECT($A$14&ROW())<>\"\",COUNTIF(Summary!$B$30:$B$1029,INDIRECT($A$14&ROW())),\"\"),\"\")","v":""}]
[{"$f":"IFERROR(IF(INDIRECT($A$14&ROW())<>\"\",COUNTIF(Summary!$B$30:$B$1029,INDIRECT($A$14&ROW())),\"\"),\"\")","v":""}]
[{"$f":"IFERROR(IF(INDIRECT($A$14&ROW())<>\"\",COUNTIF(Summary!$B$30:$B$1029,INDIRECT($A$14&ROW())),\"\"),\"\")","v":""}]
[{"$f":"IFERROR(IF(INDIRECT($A$14&ROW())<>\"\",COUNTIF(Summary!$B$30:$B$1029,INDIRECT($A$14&ROW())),\"\"),\"\")","v":""}]
[{"$f":"IFERROR(IF(INDIRECT($A$14&ROW())<>\"\",COUNTIF(Summary!$B$30:$B$1029,INDIRECT($A$14&ROW())),\"\"),\"\")","v":""}]
[{"$f":"IFERROR(IF(INDIRECT($A$14&ROW())<>\"\",COUNTIF(Summary!$B$30:$B$1029,INDIRECT($A$14&ROW())),\"\"),\"\")","v":""}]
[{"$f":"IFERROR(IF(INDIRECT($A$14&ROW())<>\"\",COUNTIF(Summary!$B$30:$B$1029,INDIRECT($A$14&ROW())),\"\"),\"\")","v":""}]
[{"$f":"IFERROR(IF(INDIRECT($A$14&ROW())<>\"\",COUNTIF(Summary!$B$30:$B$1029,INDIRECT($A$14&ROW())),\"\"),\"\")","v":""}]
[{"$f":"IFERROR(IF(INDIRECT($A$14&ROW())<>\"\",COUNTIF(Summary!$B$30:$B$1029,INDIRECT($A$14&ROW())),\"\"),\"\")","v":""}]
[{"$f":"IFERROR(IF(INDIRECT($A$14&ROW())<>\"\",COUNTIF(Summary!$B$30:$B$1029,INDIRECT($A$14&ROW())),\"\"),\"\")","v":""}]
[{"$f":"IFERROR(IF(INDIRECT($A$14&ROW())<>\"\",COUNTIF(Summary!$B$30:$B$1029,INDIRECT($A$14&ROW())),\"\"),\"\")","v":""}]
[{"$f":"IFERROR(IF(INDIRECT($A$14&ROW())<>\"\",COUNTIF(Summary!$B$30:$B$1029,INDIRECT($A$14&ROW())),\"\"),\"\")","v":""}]
[{"$f":"IFERROR(IF(INDIRECT($A$14&ROW())<>\"\",COUNTIF(Summary!$B$30:$B$1029,INDIRECT($A$14&ROW())),\"\"),\"\")","v":""}]
[{"$f":"IFERROR(IF(INDIRECT($A$14&ROW())<>\"\",COUNTIF(Summary!$B$30:$B$1029,INDIRECT($A$14&ROW())),\"\"),\"\")","v":""}]
[{"$f":"IFERROR(IF(INDIRECT($A$14&ROW())<>\"\",COUNTIF(Summary!$B$30:$B$1029,INDIRECT($A$14&ROW())),\"\"),\"\")","v":""}]
[{"$f":"IFERROR(IF(INDIRECT($A$14&ROW())<>\"\",COUNTIF(Summary!$B$30:$B$1029,INDIRECT($A$14&ROW())),\"\"),\"\")","v":""}]
[{"$f":"IFERROR(IF(INDIRECT($A$14&ROW())<>\"\",COUNTIF(Summary!$B$30:$B$1029,INDIRECT($A$14&ROW())),\"\"),\"\")","v":""}]
[{"$f":"IFERROR(IF(INDIRECT($A$14&ROW())<>\"\",COUNTIF(Summary!$B$30:$B$1029,INDIRECT($A$14&ROW())),\"\"),\"\")","v":""}]
[{"$f":"IFERROR(IF(INDIRECT($A$14&ROW())<>\"\",COUNTIF(Summary!$B$30:$B$1029,INDIRECT($A$14&ROW())),\"\"),\"\")","v":""}]
[{"$f":"IFERROR(IF(INDIRECT($A$14&ROW())<>\"\",COUNTIF(Summary!$B$30:$B$1029,INDIRECT($A$14&ROW())),\"\"),\"\")","v":""}]
[{"$f":"IFERROR(IF(INDIRECT($A$14&ROW())<>\"\",COUNTIF(Summary!$B$30:$B$1029,INDIRECT($A$14&ROW())),\"\"),\"\")","v":""}]
[{"$f":"IFERROR(IF(INDIRECT($A$14&ROW())<>\"\",COUNTIF(Summary!$B$30:$B$1029,INDIRECT($A$14&ROW())),\"\"),\"\")","v":""}]
[{"$f":"IFERROR(IF(INDIRECT($A$14&ROW())<>\"\",COUNTIF(Summary!$B$30:$B$1029,INDIRECT($A$14&ROW())),\"\"),\"\")","v":""}]
[{"$f":"IFERROR(IF(INDIRECT($A$14&ROW())<>\"\",COUNTIF(Summary!$B$30:$B$1029,INDIRECT($A$14&ROW())),\"\"),\"\")","v":""}]
[{"$f":"IFERROR(IF(INDIRECT($A$14&ROW())<>\"\",COUNTIF(Summary!$B$30:$B$1029,INDIRECT($A$14&ROW())),\"\"),\"\")","v":""}]
[{"$f":"IFERROR(IF(INDIRECT($A$14&ROW())<>\"\",COUNTIF(Summary!$B$30:$B$1029,INDIRECT($A$14&ROW())),\"\"),\"\")","v":""}]
[{"$f":"IFERROR(IF(INDIRECT($A$14&ROW())<>\"\",COUNTIF(Summary!$B$30:$B$1029,INDIRECT($A$14&ROW())),\"\"),\"\")","v":""}]
[{"$f":"IFERROR(IF(INDIRECT($A$14&ROW())<>\"\",COUNTIF(Summary!$B$30:$B$1029,INDIRECT($A$14&ROW())),\"\"),\"\")","v":""}]
[{"$f":"IFERROR(IF(INDIRECT($A$14&ROW())<>\"\",COUNTIF(Summary!$B$30:$B$1029,INDIRECT($A$14&ROW())),\"\"),\"\")","v":""}]
[{"$f":"IFERROR(IF(INDIRECT($A$14&ROW())<>\"\",COUNTIF(Summary!$B$30:$B$1029,INDIRECT($A$14&ROW())),\"\"),\"\")","v":""}]
[{"$f":"IFERROR(IF(INDIRECT($A$14&ROW())<>\"\",COUNTIF(Summary!$B$30:$B$1029,INDIRECT($A$14&ROW())),\"\"),\"\")","v":""}]
[{"$f":"IFERROR(IF(INDIRECT($A$14&ROW())<>\"\",COUNTIF(Summary!$B$30:$B$1029,INDIRECT($A$14&ROW())),\"\"),\"\")","v":""}]
[{"$f":"IFERROR(IF(INDIRECT($A$14&ROW())<>\"\",COUNTIF(Summary!$B$30:$B$1029,INDIRECT($A$14&ROW())),\"\"),\"\")","v":""}]
[{"$f":"IFERROR(IF(INDIRECT($A$14&ROW())<>\"\",COUNTIF(Summary!$B$30:$B$1029,INDIRECT($A$14&ROW())),\"\"),\"\")","v":""}]
[{"$f":"IFERROR(IF(INDIRECT($A$14&ROW())<>\"\",COUNTIF(Summary!$B$30:$B$1029,INDIRECT($A$14&ROW())),\"\"),\"\")","v":""}]
[{"$f":"IFERROR(IF(INDIRECT($A$14&ROW())<>\"\",COUNTIF(Summary!$B$30:$B$1029,INDIRECT($A$14&ROW())),\"\"),\"\")","v":""}]
[{"$f":"IFERROR(IF(INDIRECT($A$14&ROW())<>\"\",COUNTIF(Summary!$B$30:$B$1029,INDIRECT($A$14&ROW())),\"\"),\"\")","v":""}]
[{"$f":"IFERROR(IF(INDIRECT($A$14&ROW())<>\"\",COUNTIF(Summary!$B$30:$B$1029,INDIRECT($A$14&ROW())),\"\"),\"\")","v":""}]
[{"$f":"IFERROR(IF(INDIRECT($A$14&ROW())<>\"\",COUNTIF(Summary!$B$30:$B$1029,INDIRECT($A$14&ROW())),\"\"),\"\")","v":""}]
[{"$f":"IFERROR(IF(INDIRECT($A$14&ROW())<>\"\",COUNTIF(Summary!$B$30:$B$1029,INDIRECT($A$14&ROW())),\"\"),\"\")","v":""}]
[{"$f":"IFERROR(IF(INDIRECT($A$14&ROW())<>\"\",COUNTIF(Summary!$B$30:$B$1029,INDIRECT($A$14&ROW())),\"\"),\"\")","v":""}]
[{"$f":"IFERROR(IF(INDIRECT($A$14&ROW())<>\"\",COUNTIF(Summary!$B$30:$B$1029,INDIRECT($A$14&ROW())),\"\"),\"\")","v":""}]
[{"$f":"IFERROR(IF(INDIRECT($A$14&ROW())<>\"\",COUNTIF(Summary!$B$30:$B$1029,INDIRECT($A$14&ROW())),\"\"),\"\")","v":""}]
[{"$f":"IFERROR(IF(INDIRECT($A$14&ROW())<>\"\",COUNTIF(Summary!$B$30:$B$1029,INDIRECT($A$14&ROW())),\"\"),\"\")","v":""}]
[{"$f":"IFERROR(IF(INDIRECT($A$14&ROW())<>\"\",COUNTIF(Summary!$B$30:$B$1029,INDIRECT($A$14&ROW())),\"\"),\"\")","v":""}]
[{"$f":"IFERROR(IF(INDIRECT($A$14&ROW())<>\"\",COUNTIF(Summary!$B$30:$B$1029,INDIRECT($A$14&ROW())),\"\"),\"\")","v":""}]
[{"$f":"IFERROR(IF(INDIRECT($A$14&ROW())<>\"\",COUNTIF(Summary!$B$30:$B$1029,INDIRECT($A$14&ROW())),\"\"),\"\")","v":""}]
[{"$f":"IFERROR(IF(INDIRECT($A$14&ROW())<>\"\",COUNTIF(Summary!$B$30:$B$1029,INDIRECT($A$14&ROW())),\"\"),\"\")","v":""}]
[{"$f":"IFERROR(IF(INDIRECT($A$14&ROW())<>\"\",COUNTIF(Summary!$B$30:$B$1029,INDIRECT($A$14&ROW())),\"\"),\"\")","v":""}]
[{"$f":"IFERROR(IF(INDIRECT($A$14&ROW())<>\"\",COUNTIF(Summary!$B$30:$B$1029,INDIRECT($A$14&ROW())),\"\"),\"\")","v":""}]
[{"$f":"IFERROR(IF(INDIRECT($A$14&ROW())<>\"\",COUNTIF(Summary!$B$30:$B$1029,INDIRECT($A$14&ROW())),\"\"),\"\")","v":""}]
[{"$f":"IFERROR(IF(INDIRECT($A$14&ROW())<>\"\",COUNTIF(Summary!$B$30:$B$1029,INDIRECT($A$14&ROW())),\"\"),\"\")","v":""}]
[{"$f":"IFERROR(IF(INDIRECT($A$14&ROW())<>\"\",COUNTIF(Summary!$B$30:$B$1029,INDIRECT($A$14&ROW())),\"\"),\"\")","v":""}]
[{"$f":"IFERROR(IF(INDIRECT($A$14&ROW())<>\"\",COUNTIF(Summary!$B$30:$B$1029,INDIRECT($A$14&ROW())),\"\"),\"\")","v":""}]
[{"$f":"IFERROR(IF(INDIRECT($A$14&ROW())<>\"\",COUNTIF(Summary!$B$30:$B$1029,INDIRECT($A$14&ROW())),\"\"),\"\")","v":""}]
[{"$f":"IFERROR(IF(INDIRECT($A$14&ROW())<>\"\",COUNTIF(Summary!$B$30:$B$1029,INDIRECT($A$14&ROW())),\"\"),\"\")","v":""}]
[{"$f":"IFERROR(IF(INDIRECT($A$14&ROW())<>\"\",COUNTIF(Summary!$B$30:$B$1029,INDIRECT($A$14&ROW())),\"\"),\"\")","v":""}]
[{"$f":"IFERROR(IF(INDIRECT($A$14&ROW())<>\"\",COUNTIF(Summary!$B$30:$B$1029,INDIRECT($A$14&ROW())),\"\"),\"\")","v":""}]
[{"$f":"IFERROR(IF(INDIRECT($A$14&ROW())<>\"\",COUNTIF(Summary!$B$30:$B$1029,INDIRECT($A$14&ROW())),\"\"),\"\")","v":""}]
[{"$f":"IFERROR(IF(INDIRECT($A$14&ROW())<>\"\",COUNTIF(Summary!$B$30:$B$1029,INDIRECT($A$14&ROW())),\"\"),\"\")","v":""}]
[{"$f":"IFERROR(IF(INDIRECT($A$14&ROW())<>\"\",COUNTIF(Summary!$B$30:$B$1029,INDIRECT($A$14&ROW())),\"\"),\"\")","v":""}]
[{"$f":"IFERROR(IF(INDIRECT($A$14&ROW())<>\"\",COUNTIF(Summary!$B$30:$B$1029,INDIRECT($A$14&ROW())),\"\"),\"\")","v":""}]
[{"$f":"IFERROR(IF(INDIRECT($A$14&ROW())<>\"\",COUNTIF(Summary!$B$30:$B$1029,INDIRECT($A$14&ROW())),\"\"),\"\")","v":""}]
[{"$f":"IFERROR(IF(INDIRECT($A$14&ROW())<>\"\",COUNTIF(Summary!$B$30:$B$1029,INDIRECT($A$14&ROW())),\"\"),\"\")","v":""}]
[{"$f":"IFERROR(IF(INDIRECT($A$14&ROW())<>\"\",COUNTIF(Summary!$B$30:$B$1029,INDIRECT($A$14&ROW())),\"\"),\"\")","v":""}]
[{"$f":"IFERROR(IF(INDIRECT($A$14&ROW())<>\"\",COUNTIF(Summary!$B$30:$B$1029,INDIRECT($A$14&ROW())),\"\"),\"\")","v":""}]
[{"$f":"IFERROR(IF(INDIRECT($A$14&ROW())<>\"\",COUNTIF(Summary!$B$30:$B$1029,INDIRECT($A$14&ROW())),\"\"),\"\")","v":""}]
[{"$f":"IFERROR(IF(INDIRECT($A$14&ROW())<>\"\",COUNTIF(Summary!$B$30:$B$1029,INDIRECT($A$14&ROW())),\"\"),\"\")","v":""}]
[{"$f":"IFERROR(IF(INDIRECT($A$14&ROW())<>\"\",COUNTIF(Summary!$B$30:$B$1029,INDIRECT($A$14&ROW())),\"\"),\"\")","v":""}]
[{"$f":"IFERROR(IF(INDIRECT($A$14&ROW())<>\"\",COUNTIF(Summary!$B$30:$B$1029,INDIRECT($A$14&ROW())),\"\"),\"\")","v":""}]
[{"$f":"IFERROR(IF(INDIRECT($A$14&ROW())<>\"\",COUNTIF(Summary!$B$30:$B$1029,INDIRECT($A$14&ROW())),\"\"),\"\")","v":""}]
[{"$f":"IFERROR(IF(INDIRECT($A$14&ROW())<>\"\",COUNTIF(Summary!$B$30:$B$1029,INDIRECT($A$14&ROW())),\"\"),\"\")","v":""}]
[{"$f":"IFERROR(IF(INDIRECT($A$14&ROW())<>\"\",COUNTIF(Summary!$B$30:$B$1029,INDIRECT($A$14&ROW())),\"\"),\"\")","v":""}]
[{"$f":"IFERROR(IF(INDIRECT($A$14&ROW())<>\"\",COUNTIF(Summary!$B$30:$B$1029,INDIRECT($A$14&ROW())),\"\"),\"\")","v":""}]
[{"$f":"IFERROR(IF(INDIRECT($A$14&ROW())<>\"\",COUNTIF(Summary!$B$30:$B$1029,INDIRECT($A$14&ROW())),\"\"),\"\")","v":""}]
[{"$f":"IFERROR(IF(INDIRECT($A$14&ROW())<>\"\",COUNTIF(Summary!$B$30:$B$1029,INDIRECT($A$14&ROW())),\"\"),\"\")","v":""}]
[{"$f":"IFERROR(IF(INDIRECT($A$14&ROW())<>\"\",COUNTIF(Summary!$B$30:$B$1029,INDIRECT($A$14&ROW())),\"\"),\"\")","v":""}]
[{"$f":"IFERROR(IF(INDIRECT($A$14&ROW())<>\"\",COUNTIF(Summary!$B$30:$B$1029,INDIRECT($A$14&ROW())),\"\"),\"\")","v":""}]
[{"$f":"IFERROR(IF(INDIRECT($A$14&ROW())<>\"\",COUNTIF(Summary!$B$30:$B$1029,INDIRECT($A$14&ROW())),\"\"),\"\")","v":""}]
[{"$f":"IFERROR(IF(INDIRECT($A$14&ROW())<>\"\",COUNTIF(Summary!$B$30:$B$1029,INDIRECT($A$14&ROW())),\"\"),\"\")","v":""}]
[{"$f":"IFERROR(IF(INDIRECT($A$14&ROW())<>\"\",COUNTIF(Summary!$B$30:$B$1029,INDIRECT($A$14&ROW())),\"\"),\"\")","v":""}]
[{"$f":"IFERROR(IF(INDIRECT($A$14&ROW())<>\"\",COUNTIF(Summary!$B$30:$B$1029,INDIRECT($A$14&ROW())),\"\"),\"\")","v":""}]
[{"$f":"IFERROR(IF(INDIRECT($A$14&ROW())<>\"\",COUNTIF(Summary!$B$30:$B$1029,INDIRECT($A$14&ROW())),\"\"),\"\")","v":""}]
[{"$f":"IFERROR(IF(INDIRECT($A$14&ROW())<>\"\",COUNTIF(Summary!$B$30:$B$1029,INDIRECT($A$14&ROW())),\"\"),\"\")","v":""}]
[{"$f":"IFERROR(IF(INDIRECT($A$14&ROW())<>\"\",COUNTIF(Summary!$B$30:$B$1029,INDIRECT($A$14&ROW())),\"\"),\"\")","v":""}]
[{"$f":"IFERROR(IF(INDIRECT($A$14&ROW())<>\"\",COUNTIF(Summary!$B$30:$B$1029,INDIRECT($A$14&ROW())),\"\"),\"\")","v":""}]
[{"$f":"IFERROR(IF(INDIRECT($A$14&ROW())<>\"\",COUNTIF(Summary!$B$30:$B$1029,INDIRECT($A$14&ROW())),\"\"),\"\")","v":""}]
[{"$f":"IFERROR(IF(INDIRECT($A$14&ROW())<>\"\",COUNTIF(Summary!$B$30:$B$1029,INDIRECT($A$14&ROW())),\"\"),\"\")","v":""}]
[{"$f":"IFERROR(IF(INDIRECT($A$14&ROW())<>\"\",COUNTIF(Summary!$B$30:$B$1029,INDIRECT($A$14&ROW())),\"\"),\"\")","v":""}]
[{"$f":"IFERROR(IF(INDIRECT($A$14&ROW())<>\"\",COUNTIF(Summary!$B$30:$B$1029,INDIRECT($A$14&ROW())),\"\"),\"\")","v":""}]
[{"$f":"IFERROR(IF(INDIRECT($A$14&ROW())<>\"\",COUNTIF(Summary!$B$30:$B$1029,INDIRECT($A$14&ROW())),\"\"),\"\")","v":""}]
[{"$f":"IFERROR(IF(INDIRECT($A$14&ROW())<>\"\",COUNTIF(Summary!$B$30:$B$1029,INDIRECT($A$14&ROW())),\"\"),\"\")","v":""}]
[{"$f":"IFERROR(IF(INDIRECT($A$14&ROW())<>\"\",COUNTIF(Summary!$B$30:$B$1029,INDIRECT($A$14&ROW())),\"\"),\"\")","v":""}]
[{"$f":"IFERROR(IF(INDIRECT($A$14&ROW())<>\"\",COUNTIF(Summary!$B$30:$B$1029,INDIRECT($A$14&ROW())),\"\"),\"\")","v":""}]
[{"$f":"IFERROR(IF(INDIRECT($A$14&ROW())<>\"\",COUNTIF(Summary!$B$30:$B$1029,INDIRECT($A$14&ROW())),\"\"),\"\")","v":""}]
[{"$f":"IFERROR(IF(INDIRECT($A$14&ROW())<>\"\",COUNTIF(Summary!$B$30:$B$1029,INDIRECT($A$14&ROW())),\"\"),\"\")","v":""}]
[{"$f":"IFERROR(IF(INDIRECT($A$14&ROW())<>\"\",COUNTIF(Summary!$B$30:$B$1029,INDIRECT($A$14&ROW())),\"\"),\"\")","v":""}]
[{"$f":"IFERROR(IF(INDIRECT($A$14&ROW())<>\"\",COUNTIF(Summary!$B$30:$B$1029,INDIRECT($A$14&ROW())),\"\"),\"\")","v":""}]
[{"$f":"IFERROR(IF(INDIRECT($A$14&ROW())<>\"\",COUNTIF(Summary!$B$30:$B$1029,INDIRECT($A$14&ROW())),\"\"),\"\")","v":""}]
[{"$f":"IFERROR(IF(INDIRECT($A$14&ROW())<>\"\",COUNTIF(Summary!$B$30:$B$1029,INDIRECT($A$14&ROW())),\"\"),\"\")","v":""}]
[{"$f":"IFERROR(IF(INDIRECT($A$14&ROW())<>\"\",COUNTIF(Summary!$B$30:$B$1029,INDIRECT($A$14&ROW())),\"\"),\"\")","v":""}]
[{"$f":"IFERROR(IF(INDIRECT($A$14&ROW())<>\"\",COUNTIF(Summary!$B$30:$B$1029,INDIRECT($A$14&ROW())),\"\"),\"\")","v":""}]
[{"$f":"IFERROR(IF(INDIRECT($A$14&ROW())<>\"\",COUNTIF(Summary!$B$30:$B$1029,INDIRECT($A$14&ROW())),\"\"),\"\")","v":""}]
[{"$f":"IFERROR(IF(INDIRECT($A$14&ROW())<>\"\",COUNTIF(Summary!$B$30:$B$1029,INDIRECT($A$14&ROW())),\"\"),\"\")","v":""}]
[{"$f":"IFERROR(IF(INDIRECT($A$14&ROW())<>\"\",COUNTIF(Summary!$B$30:$B$1029,INDIRECT($A$14&ROW())),\"\"),\"\")","v":""}]
[{"$f":"IFERROR(IF(INDIRECT($A$14&ROW())<>\"\",COUNTIF(Summary!$B$30:$B$1029,INDIRECT($A$14&ROW())),\"\"),\"\")","v":""}]
[{"$f":"IFERROR(IF(INDIRECT($A$14&ROW())<>\"\",COUNTIF(Summary!$B$30:$B$1029,INDIRECT($A$14&ROW())),\"\"),\"\")","v":""}]
[{"$f":"IFERROR(IF(INDIRECT($A$14&ROW())<>\"\",COUNTIF(Summary!$B$30:$B$1029,INDIRECT($A$14&ROW())),\"\"),\"\")","v":""}]
[{"$f":"IFERROR(IF(INDIRECT($A$14&ROW())<>\"\",COUNTIF(Summary!$B$30:$B$1029,INDIRECT($A$14&ROW())),\"\"),\"\")","v":""}]
[{"$f":"IFERROR(IF(INDIRECT($A$14&ROW())<>\"\",COUNTIF(Summary!$B$30:$B$1029,INDIRECT($A$14&ROW())),\"\"),\"\")","v":""}]
[{"$f":"IFERROR(IF(INDIRECT($A$14&ROW())<>\"\",COUNTIF(Summary!$B$30:$B$1029,INDIRECT($A$14&ROW())),\"\"),\"\")","v":""}]
[{"$f":"IFERROR(IF(INDIRECT($A$14&ROW())<>\"\",COUNTIF(Summary!$B$30:$B$1029,INDIRECT($A$14&ROW())),\"\"),\"\")","v":""}]
[{"$f":"IFERROR(IF(INDIRECT($A$14&ROW())<>\"\",COUNTIF(Summary!$B$30:$B$1029,INDIRECT($A$14&ROW())),\"\"),\"\")","v":""}]
[{"$f":"IFERROR(IF(INDIRECT($A$14&ROW())<>\"\",COUNTIF(Summary!$B$30:$B$1029,INDIRECT($A$14&ROW())),\"\"),\"\")","v":""}]
[{"$f":"IFERROR(IF(INDIRECT($A$14&ROW())<>\"\",COUNTIF(Summary!$B$30:$B$1029,INDIRECT($A$14&ROW())),\"\"),\"\")","v":""}]
[{"$f":"IFERROR(IF(INDIRECT($A$14&ROW())<>\"\",COUNTIF(Summary!$B$30:$B$1029,INDIRECT($A$14&ROW())),\"\"),\"\")","v":""}]
[{"$f":"IFERROR(IF(INDIRECT($A$14&ROW())<>\"\",COUNTIF(Summary!$B$30:$B$1029,INDIRECT($A$14&ROW())),\"\"),\"\")","v":""}]
[{"$f":"IFERROR(IF(INDIRECT($A$14&ROW())<>\"\",COUNTIF(Summary!$B$30:$B$1029,INDIRECT($A$14&ROW())),\"\"),\"\")","v":""}]
[{"$f":"IFERROR(IF(INDIRECT($A$14&ROW())<>\"\",COUNTIF(Summary!$B$30:$B$1029,INDIRECT($A$14&ROW())),\"\"),\"\")","v":""}]
[{"$f":"IFERROR(IF(INDIRECT($A$14&ROW())<>\"\",COUNTIF(Summary!$B$30:$B$1029,INDIRECT($A$14&ROW())),\"\"),\"\")","v":""}]
[{"$f":"IFERROR(IF(INDIRECT($A$14&ROW())<>\"\",COUNTIF(Summary!$B$30:$B$1029,INDIRECT($A$14&ROW())),\"\"),\"\")","v":""}]
[{"$f":"IFERROR(IF(INDIRECT($A$14&ROW())<>\"\",COUNTIF(Summary!$B$30:$B$1029,INDIRECT($A$14&ROW())),\"\"),\"\")","v":""}]
[{"$f":"IFERROR(IF(INDIRECT($A$14&ROW())<>\"\",COUNTIF(Summary!$B$30:$B$1029,INDIRECT($A$14&ROW())),\"\"),\"\")","v":""}]
[{"$f":"IFERROR(IF(INDIRECT($A$14&ROW())<>\"\",COUNTIF(Summary!$B$30:$B$1029,INDIRECT($A$14&ROW())),\"\"),\"\")","v":""}]
[{"$f":"IFERROR(IF(INDIRECT($A$14&ROW())<>\"\",COUNTIF(Summary!$B$30:$B$1029,INDIRECT($A$14&ROW())),\"\"),\"\")","v":""}]
[{"$f":"IFERROR(IF(INDIRECT($A$14&ROW())<>\"\",COUNTIF(Summary!$B$30:$B$1029,INDIRECT($A$14&ROW())),\"\"),\"\")","v":""}]
[{"$f":"IFERROR(IF(INDIRECT($A$14&ROW())<>\"\",COUNTIF(Summary!$B$30:$B$1029,INDIRECT($A$14&ROW())),\"\"),\"\")","v":""}]
[{"$f":"IFERROR(IF(INDIRECT($A$14&ROW())<>\"\",COUNTIF(Summary!$B$30:$B$1029,INDIRECT($A$14&ROW())),\"\"),\"\")","v":""}]
[{"$f":"IFERROR(IF(INDIRECT($A$14&ROW())<>\"\",COUNTIF(Summary!$B$30:$B$1029,INDIRECT($A$14&ROW())),\"\"),\"\")","v":""}]
[{"$f":"IFERROR(IF(INDIRECT($A$14&ROW())<>\"\",COUNTIF(Summary!$B$30:$B$1029,INDIRECT($A$14&ROW())),\"\"),\"\")","v":""}]
[{"$f":"IFERROR(IF(INDIRECT($A$14&ROW())<>\"\",COUNTIF(Summary!$B$30:$B$1029,INDIRECT($A$14&ROW())),\"\"),\"\")","v":""}]
[{"$f":"IFERROR(IF(INDIRECT($A$14&ROW())<>\"\",COUNTIF(Summary!$B$30:$B$1029,INDIRECT($A$14&ROW())),\"\"),\"\")","v":""}]
[{"$f":"IFERROR(IF(INDIRECT($A$14&ROW())<>\"\",COUNTIF(Summary!$B$30:$B$1029,INDIRECT($A$14&ROW())),\"\"),\"\")","v":""}]
[{"$f":"IFERROR(IF(INDIRECT($A$14&ROW())<>\"\",COUNTIF(Summary!$B$30:$B$1029,INDIRECT($A$14&ROW())),\"\"),\"\")","v":""}]
[{"$f":"IFERROR(IF(INDIRECT($A$14&ROW())<>\"\",COUNTIF(Summary!$B$30:$B$1029,INDIRECT($A$14&ROW())),\"\"),\"\")","v":""}]
[{"$f":"IFERROR(IF(INDIRECT($A$14&ROW())<>\"\",COUNTIF(Summary!$B$30:$B$1029,INDIRECT($A$14&ROW())),\"\"),\"\")","v":""}]
[{"$f":"IFERROR(IF(INDIRECT($A$14&ROW())<>\"\",COUNTIF(Summary!$B$30:$B$1029,INDIRECT($A$14&ROW())),\"\"),\"\")","v":""}]
[{"$f":"IFERROR(IF(INDIRECT($A$14&ROW())<>\"\",COUNTIF(Summary!$B$30:$B$1029,INDIRECT($A$14&ROW())),\"\"),\"\")","v":""}]
[{"$f":"IFERROR(IF(INDIRECT($A$14&ROW())<>\"\",COUNTIF(Summary!$B$30:$B$1029,INDIRECT($A$14&ROW())),\"\"),\"\")","v":""}]
[{"$f":"IFERROR(IF(INDIRECT($A$14&ROW())<>\"\",COUNTIF(Summary!$B$30:$B$1029,INDIRECT($A$14&ROW())),\"\"),\"\")","v":""}]
[{"$f":"IFERROR(IF(INDIRECT($A$14&ROW())<>\"\",COUNTIF(Summary!$B$30:$B$1029,INDIRECT($A$14&ROW())),\"\"),\"\")","v":""}]
[{"$f":"IFERROR(IF(INDIRECT($A$14&ROW())<>\"\",COUNTIF(Summary!$B$30:$B$1029,INDIRECT($A$14&ROW())),\"\"),\"\")","v":""}]
[{"$f":"IFERROR(IF(INDIRECT($A$14&ROW())<>\"\",COUNTIF(Summary!$B$30:$B$1029,INDIRECT($A$14&ROW())),\"\"),\"\")","v":""}]
[{"$f":"IFERROR(IF(INDIRECT($A$14&ROW())<>\"\",COUNTIF(Summary!$B$30:$B$1029,INDIRECT($A$14&ROW())),\"\"),\"\")","v":""}]
[{"$f":"IFERROR(IF(INDIRECT($A$14&ROW())<>\"\",COUNTIF(Summary!$B$30:$B$1029,INDIRECT($A$14&ROW())),\"\"),\"\")","v":""}]
[{"$f":"IFERROR(IF(INDIRECT($A$14&ROW())<>\"\",COUNTIF(Summary!$B$30:$B$1029,INDIRECT($A$14&ROW())),\"\"),\"\")","v":""}]
[{"$f":"IFERROR(IF(INDIRECT($A$14&ROW())<>\"\",COUNTIF(Summary!$B$30:$B$1029,INDIRECT($A$14&ROW())),\"\"),\"\")","v":""}]
[{"$f":"IFERROR(IF(INDIRECT($A$14&ROW())<>\"\",COUNTIF(Summary!$B$30:$B$1029,INDIRECT($A$14&ROW())),\"\"),\"\")","v":""}]
[{"$f":"IFERROR(IF(INDIRECT($A$14&ROW())<>\"\",COUNTIF(Summary!$B$30:$B$1029,INDIRECT($A$14&ROW())),\"\"),\"\")","v":""}]
[{"$f":"IFERROR(IF(INDIRECT($A$14&ROW())<>\"\",COUNTIF(Summary!$B$30:$B$1029,INDIRECT($A$14&ROW())),\"\"),\"\")","v":""}]
[{"$f":"IFERROR(IF(INDIRECT($A$14&ROW())<>\"\",COUNTIF(Summary!$B$30:$B$1029,INDIRECT($A$14&ROW())),\"\"),\"\")","v":""}]
[{"$f":"IFERROR(IF(INDIRECT($A$14&ROW())<>\"\",COUNTIF(Summary!$B$30:$B$1029,INDIRECT($A$14&ROW())),\"\"),\"\")","v":""}]
[{"$f":"IFERROR(IF(INDIRECT($A$14&ROW())<>\"\",COUNTIF(Summary!$B$30:$B$1029,INDIRECT($A$14&ROW())),\"\"),\"\")","v":""}]
[{"$f":"IFERROR(IF(INDIRECT($A$14&ROW())<>\"\",COUNTIF(Summary!$B$30:$B$1029,INDIRECT($A$14&ROW())),\"\"),\"\")","v":""}]
[{"$f":"IFERROR(IF(INDIRECT($A$14&ROW())<>\"\",COUNTIF(Summary!$B$30:$B$1029,INDIRECT($A$14&ROW())),\"\"),\"\")","v":""}]
[{"$f":"IFERROR(IF(INDIRECT($A$14&ROW())<>\"\",COUNTIF(Summary!$B$30:$B$1029,INDIRECT($A$14&ROW())),\"\"),\"\")","v":""}]
[{"$f":"IFERROR(IF(INDIRECT($A$14&ROW())<>\"\",COUNTIF(Summary!$B$30:$B$1029,INDIRECT($A$14&ROW())),\"\"),\"\")","v":""}]
[{"$f":"IFERROR(IF(INDIRECT($A$14&ROW())<>\"\",COUNTIF(Summary!$B$30:$B$1029,INDIRECT($A$14&ROW())),\"\"),\"\")","v":""}]
[{"$f":"IFERROR(IF(INDIRECT($A$14&ROW())<>\"\",COUNTIF(Summary!$B$30:$B$1029,INDIRECT($A$14&ROW())),\"\"),\"\")","v":""}]
[{"$f":"IFERROR(IF(INDIRECT($A$14&ROW())<>\"\",COUNTIF(Summary!$B$30:$B$1029,INDIRECT($A$14&ROW())),\"\"),\"\")","v":""}]
[{"$f":"IFERROR(IF(INDIRECT($A$14&ROW())<>\"\",COUNTIF(Summary!$B$30:$B$1029,INDIRECT($A$14&ROW())),\"\"),\"\")","v":""}]
[{"$f":"IFERROR(IF(INDIRECT($A$14&ROW())<>\"\",COUNTIF(Summary!$B$30:$B$1029,INDIRECT($A$14&ROW())),\"\"),\"\")","v":""}]
[{"$f":"IFERROR(IF(INDIRECT($A$14&ROW())<>\"\",COUNTIF(Summary!$B$30:$B$1029,INDIRECT($A$14&ROW())),\"\"),\"\")","v":""}]
[{"$f":"IFERROR(IF(INDIRECT($A$14&ROW())<>\"\",COUNTIF(Summary!$B$30:$B$1029,INDIRECT($A$14&ROW())),\"\"),\"\")","v":""}]
[{"$f":"IFERROR(IF(INDIRECT($A$14&ROW())<>\"\",COUNTIF(Summary!$B$30:$B$1029,INDIRECT($A$14&ROW())),\"\"),\"\")","v":""}]
[{"$f":"IFERROR(IF(INDIRECT($A$14&ROW())<>\"\",COUNTIF(Summary!$B$30:$B$1029,INDIRECT($A$14&ROW())),\"\"),\"\")","v":""}]
[{"$f":"IFERROR(IF(INDIRECT($A$14&ROW())<>\"\",COUNTIF(Summary!$B$30:$B$1029,INDIRECT($A$14&ROW())),\"\"),\"\")","v":""}]
[{"$f":"IFERROR(IF(INDIRECT($A$14&ROW())<>\"\",COUNTIF(Summary!$B$30:$B$1029,INDIRECT($A$14&ROW())),\"\"),\"\")","v":""}]
[{"$f":"IFERROR(IF(INDIRECT($A$14&ROW())<>\"\",COUNTIF(Summary!$B$30:$B$1029,INDIRECT($A$14&ROW())),\"\"),\"\")","v":""}]
[{"$f":"IFERROR(IF(INDIRECT($A$14&ROW())<>\"\",COUNTIF(Summary!$B$30:$B$1029,INDIRECT($A$14&ROW())),\"\"),\"\")","v":""}]
[{"$f":"IFERROR(IF(INDIRECT($A$14&ROW())<>\"\",COUNTIF(Summary!$B$30:$B$1029,INDIRECT($A$14&ROW())),\"\"),\"\")","v":""}]
[{"$f":"IFERROR(IF(INDIRECT($A$14&ROW())<>\"\",COUNTIF(Summary!$B$30:$B$1029,INDIRECT($A$14&ROW())),\"\"),\"\")","v":""}]
[{"$f":"IFERROR(IF(INDIRECT($A$14&ROW())<>\"\",COUNTIF(Summary!$B$30:$B$1029,INDIRECT($A$14&ROW())),\"\"),\"\")","v":""}]
[{"$f":"IFERROR(IF(INDIRECT($A$14&ROW())<>\"\",COUNTIF(Summary!$B$30:$B$1029,INDIRECT($A$14&ROW())),\"\"),\"\")","v":""}]
[{"$f":"IFERROR(IF(INDIRECT($A$14&ROW())<>\"\",COUNTIF(Summary!$B$30:$B$1029,INDIRECT($A$14&ROW())),\"\"),\"\")","v":""}]
[{"$f":"IFERROR(IF(INDIRECT($A$14&ROW())<>\"\",COUNTIF(Summary!$B$30:$B$1029,INDIRECT($A$14&ROW())),\"\"),\"\")","v":""}]
[{"$f":"IFERROR(IF(INDIRECT($A$14&ROW())<>\"\",COUNTIF(Summary!$B$30:$B$1029,INDIRECT($A$14&ROW())),\"\"),\"\")","v":""}]
[{"$f":"IFERROR(IF(INDIRECT($A$14&ROW())<>\"\",COUNTIF(Summary!$B$30:$B$1029,INDIRECT($A$14&ROW())),\"\"),\"\")","v":""}]
[{"$f":"IFERROR(IF(INDIRECT($A$14&ROW())<>\"\",COUNTIF(Summary!$B$30:$B$1029,INDIRECT($A$14&ROW())),\"\"),\"\")","v":""}]
[{"$f":"IFERROR(IF(INDIRECT($A$14&ROW())<>\"\",COUNTIF(Summary!$B$30:$B$1029,INDIRECT($A$14&ROW())),\"\"),\"\")","v":""}]
[{"$f":"IFERROR(IF(INDIRECT($A$14&ROW())<>\"\",COUNTIF(Summary!$B$30:$B$1029,INDIRECT($A$14&ROW())),\"\"),\"\")","v":""}]
[{"$f":"IFERROR(IF(INDIRECT($A$14&ROW())<>\"\",COUNTIF(Summary!$B$30:$B$1029,INDIRECT($A$14&ROW())),\"\"),\"\")","v":""}]
[{"$f":"IFERROR(IF(INDIRECT($A$14&ROW())<>\"\",COUNTIF(Summary!$B$30:$B$1029,INDIRECT($A$14&ROW())),\"\"),\"\")","v":""}]
[{"$f":"IFERROR(IF(INDIRECT($A$14&ROW())<>\"\",COUNTIF(Summary!$B$30:$B$1029,INDIRECT($A$14&ROW())),\"\"),\"\")","v":""}]
[{"$f":"IFERROR(IF(INDIRECT($A$14&ROW())<>\"\",COUNTIF(Summary!$B$30:$B$1029,INDIRECT($A$14&ROW())),\"\"),\"\")","v":""}]
[{"$f":"IFERROR(IF(INDIRECT($A$14&ROW())<>\"\",COUNTIF(Summary!$B$30:$B$1029,INDIRECT($A$14&ROW())),\"\"),\"\")","v":""}]
[{"$f":"IFERROR(IF(INDIRECT($A$14&ROW())<>\"\",COUNTIF(Summary!$B$30:$B$1029,INDIRECT($A$14&ROW())),\"\"),\"\")","v":""}]
[{"$f":"IFERROR(IF(INDIRECT($A$14&ROW())<>\"\",COUNTIF(Summary!$B$30:$B$1029,INDIRECT($A$14&ROW())),\"\"),\"\")","v":""}]
[{"$f":"IFERROR(IF(INDIRECT($A$14&ROW())<>\"\",COUNTIF(Summary!$B$30:$B$1029,INDIRECT($A$14&ROW())),\"\"),\"\")","v":""}]
[{"$f":"IFERROR(IF(INDIRECT($A$14&ROW())<>\"\",COUNTIF(Summary!$B$30:$B$1029,INDIRECT($A$14&ROW())),\"\"),\"\")","v":""}]
[{"$f":"IFERROR(IF(INDIRECT($A$14&ROW())<>\"\",COUNTIF(Summary!$B$30:$B$1029,INDIRECT($A$14&ROW())),\"\"),\"\")","v":""}]
[{"$f":"IFERROR(IF(INDIRECT($A$14&ROW())<>\"\",COUNTIF(Summary!$B$30:$B$1029,INDIRECT($A$14&ROW())),\"\"),\"\")","v":""}]
[{"$f":"IFERROR(IF(INDIRECT($A$14&ROW())<>\"\",COUNTIF(Summary!$B$30:$B$1029,INDIRECT($A$14&ROW())),\"\"),\"\")","v":""}]
[{"$f":"IFERROR(IF(INDIRECT($A$14&ROW())<>\"\",COUNTIF(Summary!$B$30:$B$1029,INDIRECT($A$14&ROW())),\"\"),\"\")","v":""}]
[{"$f":"IFERROR(IF(INDIRECT($A$14&ROW())<>\"\",COUNTIF(Summary!$B$30:$B$1029,INDIRECT($A$14&ROW())),\"\"),\"\")","v":""}]
[{"$f":"IFERROR(IF(INDIRECT($A$14&ROW())<>\"\",COUNTIF(Summary!$B$30:$B$1029,INDIRECT($A$14&ROW())),\"\"),\"\")","v":""}]
[{"$f":"IFERROR(IF(INDIRECT($A$14&ROW())<>\"\",COUNTIF(Summary!$B$30:$B$1029,INDIRECT($A$14&ROW())),\"\"),\"\")","v":""}]
[{"$f":"IFERROR(IF(INDIRECT($A$14&ROW())<>\"\",COUNTIF(Summary!$B$30:$B$1029,INDIRECT($A$14&ROW())),\"\"),\"\")","v":""}]
[{"$f":"IFERROR(IF(INDIRECT($A$14&ROW())<>\"\",COUNTIF(Summary!$B$30:$B$1029,INDIRECT($A$14&ROW())),\"\"),\"\")","v":""}]
[{"$f":"IFERROR(IF(INDIRECT($A$14&ROW())<>\"\",COUNTIF(Summary!$B$30:$B$1029,INDIRECT($A$14&ROW())),\"\"),\"\")","v":""}]
[{"$f":"IFERROR(IF(INDIRECT($A$14&ROW())<>\"\",COUNTIF(Summary!$B$30:$B$1029,INDIRECT($A$14&ROW())),\"\"),\"\")","v":""}]
[{"$f":"IFERROR(IF(INDIRECT($A$14&ROW())<>\"\",COUNTIF(Summary!$B$30:$B$1029,INDIRECT($A$14&ROW())),\"\"),\"\")","v":""}]
[{"$f":"IFERROR(IF(INDIRECT($A$14&ROW())<>\"\",COUNTIF(Summary!$B$30:$B$1029,INDIRECT($A$14&ROW())),\"\"),\"\")","v":""}]
[{"$f":"IFERROR(IF(INDIRECT($A$14&ROW())<>\"\",COUNTIF(Summary!$B$30:$B$1029,INDIRECT($A$14&ROW())),\"\"),\"\")","v":""}]
[{"$f":"IFERROR(IF(INDIRECT($A$14&ROW())<>\"\",COUNTIF(Summary!$B$30:$B$1029,INDIRECT($A$14&ROW())),\"\"),\"\")","v":""}]
[{"$f":"IFERROR(IF(INDIRECT($A$14&ROW())<>\"\",COUNTIF(Summary!$B$30:$B$1029,INDIRECT($A$14&ROW())),\"\"),\"\")","v":""}]
[{"$f":"IFERROR(IF(INDIRECT($A$14&ROW())<>\"\",COUNTIF(Summary!$B$30:$B$1029,INDIRECT($A$14&ROW())),\"\"),\"\")","v":""}]
[{"$f":"IFERROR(IF(INDIRECT($A$14&ROW())<>\"\",COUNTIF(Summary!$B$30:$B$1029,INDIRECT($A$14&ROW())),\"\"),\"\")","v":""}]
[{"$f":"IFERROR(IF(INDIRECT($A$14&ROW())<>\"\",COUNTIF(Summary!$B$30:$B$1029,INDIRECT($A$14&ROW())),\"\"),\"\")","v":""}]
[{"$f":"IFERROR(IF(INDIRECT($A$14&ROW())<>\"\",COUNTIF(Summary!$B$30:$B$1029,INDIRECT($A$14&ROW())),\"\"),\"\")","v":""}]
[{"$f":"IFERROR(IF(INDIRECT($A$14&ROW())<>\"\",COUNTIF(Summary!$B$30:$B$1029,INDIRECT($A$14&ROW())),\"\"),\"\")","v":""}]
[{"$f":"IFERROR(IF(INDIRECT($A$14&ROW())<>\"\",COUNTIF(Summary!$B$30:$B$1029,INDIRECT($A$14&ROW())),\"\"),\"\")","v":""}]
[{"$f":"IFERROR(IF(INDIRECT($A$14&ROW())<>\"\",COUNTIF(Summary!$B$30:$B$1029,INDIRECT($A$14&ROW())),\"\"),\"\")","v":""}]
[{"$f":"IFERROR(IF(INDIRECT($A$14&ROW())<>\"\",COUNTIF(Summary!$B$30:$B$1029,INDIRECT($A$14&ROW())),\"\"),\"\")","v":""}]
[{"$f":"IFERROR(IF(INDIRECT($A$14&ROW())<>\"\",COUNTIF(Summary!$B$30:$B$1029,INDIRECT($A$14&ROW())),\"\"),\"\")","v":""}]
[{"$f":"IFERROR(IF(INDIRECT($A$14&ROW())<>\"\",COUNTIF(Summary!$B$30:$B$1029,INDIRECT($A$14&ROW())),\"\"),\"\")","v":""}]
[{"$f":"IFERROR(IF(INDIRECT($A$14&ROW())<>\"\",COUNTIF(Summary!$B$30:$B$1029,INDIRECT($A$14&ROW())),\"\"),\"\")","v":""}]
[{"$f":"IFERROR(IF(INDIRECT($A$14&ROW())<>\"\",COUNTIF(Summary!$B$30:$B$1029,INDIRECT($A$14&ROW())),\"\"),\"\")","v":""}]
[{"$f":"IFERROR(IF(INDIRECT($A$14&ROW())<>\"\",COUNTIF(Summary!$B$30:$B$1029,INDIRECT($A$14&ROW())),\"\"),\"\")","v":""}]
[{"$f":"IFERROR(IF(INDIRECT($A$14&ROW())<>\"\",COUNTIF(Summary!$B$30:$B$1029,INDIRECT($A$14&ROW())),\"\"),\"\")","v":""}]
[{"$f":"IFERROR(IF(INDIRECT($A$14&ROW())<>\"\",COUNTIF(Summary!$B$30:$B$1029,INDIRECT($A$14&ROW())),\"\"),\"\")","v":""}]
[{"$f":"IFERROR(IF(INDIRECT($A$14&ROW())<>\"\",COUNTIF(Summary!$B$30:$B$1029,INDIRECT($A$14&ROW())),\"\"),\"\")","v":""}]
[{"$f":"IFERROR(IF(INDIRECT($A$14&ROW())<>\"\",COUNTIF(Summary!$B$30:$B$1029,INDIRECT($A$14&ROW())),\"\"),\"\")","v":""}]
[{"$f":"IFERROR(IF(INDIRECT($A$14&ROW())<>\"\",COUNTIF(Summary!$B$30:$B$1029,INDIRECT($A$14&ROW())),\"\"),\"\")","v":""}]
[{"$f":"IFERROR(IF(INDIRECT($A$14&ROW())<>\"\",COUNTIF(Summary!$B$30:$B$1029,INDIRECT($A$14&ROW())),\"\"),\"\")","v":""}]
[{"$f":"IFERROR(IF(INDIRECT($A$14&ROW())<>\"\",COUNTIF(Summary!$B$30:$B$1029,INDIRECT($A$14&ROW())),\"\"),\"\")","v":""}]
[{"$f":"IFERROR(IF(INDIRECT($A$14&ROW())<>\"\",COUNTIF(Summary!$B$30:$B$1029,INDIRECT($A$14&ROW())),\"\"),\"\")","v":""}]
[{"$f":"IFERROR(IF(INDIRECT($A$14&ROW())<>\"\",COUNTIF(Summary!$B$30:$B$1029,INDIRECT($A$14&ROW())),\"\"),\"\")","v":""}]
[{"$f":"IFERROR(IF(INDIRECT($A$14&ROW())<>\"\",COUNTIF(Summary!$B$30:$B$1029,INDIRECT($A$14&ROW())),\"\"),\"\")","v":""}]
[{"$f":"IFERROR(IF(INDIRECT($A$14&ROW())<>\"\",COUNTIF(Summary!$B$30:$B$1029,INDIRECT($A$14&ROW())),\"\"),\"\")","v":""}]
[{"$f":"IFERROR(IF(INDIRECT($A$14&ROW())<>\"\",COUNTIF(Summary!$B$30:$B$1029,INDIRECT($A$14&ROW())),\"\"),\"\")","v":""}]
[{"$f":"IFERROR(IF(INDIRECT($A$14&ROW())<>\"\",COUNTIF(Summary!$B$30:$B$1029,INDIRECT($A$14&ROW())),\"\"),\"\")","v":""}]
[{"$f":"IFERROR(IF(INDIRECT($A$14&ROW())<>\"\",COUNTIF(Summary!$B$30:$B$1029,INDIRECT($A$14&ROW())),\"\"),\"\")","v":""}]
[{"$f":"IFERROR(IF(INDIRECT($A$14&ROW())<>\"\",COUNTIF(Summary!$B$30:$B$1029,INDIRECT($A$14&ROW())),\"\"),\"\")","v":""}]
[{"$f":"IFERROR(IF(INDIRECT($A$14&ROW())<>\"\",COUNTIF(Summary!$B$30:$B$1029,INDIRECT($A$14&ROW())),\"\"),\"\")","v":""}]
[{"$f":"IFERROR(IF(INDIRECT($A$14&ROW())<>\"\",COUNTIF(Summary!$B$30:$B$1029,INDIRECT($A$14&ROW())),\"\"),\"\")","v":""}]
[{"$f":"IFERROR(IF(INDIRECT($A$14&ROW())<>\"\",COUNTIF(Summary!$B$30:$B$1029,INDIRECT($A$14&ROW())),\"\"),\"\")","v":""}]
[{"$f":"IFERROR(IF(INDIRECT($A$14&ROW())<>\"\",COUNTIF(Summary!$B$30:$B$1029,INDIRECT($A$14&ROW())),\"\"),\"\")","v":""}]
[{"$f":"IFERROR(IF(INDIRECT($A$14&ROW())<>\"\",COUNTIF(Summary!$B$30:$B$1029,INDIRECT($A$14&ROW())),\"\"),\"\")","v":""}]
[{"$f":"IFERROR(IF(INDIRECT($A$14&ROW())<>\"\",COUNTIF(Summary!$B$30:$B$1029,INDIRECT($A$14&ROW())),\"\"),\"\")","v":""}]
[{"$f":"IFERROR(IF(INDIRECT($A$14&ROW())<>\"\",COUNTIF(Summary!$B$30:$B$1029,INDIRECT($A$14&ROW())),\"\"),\"\")","v":""}]
[{"$f":"IFERROR(IF(INDIRECT($A$14&ROW())<>\"\",COUNTIF(Summary!$B$30:$B$1029,INDIRECT($A$14&ROW())),\"\"),\"\")","v":""}]
[{"$f":"IFERROR(IF(INDIRECT($A$14&ROW())<>\"\",COUNTIF(Summary!$B$30:$B$1029,INDIRECT($A$14&ROW())),\"\"),\"\")","v":""}]
[{"$f":"IFERROR(IF(INDIRECT($A$14&ROW())<>\"\",COUNTIF(Summary!$B$30:$B$1029,INDIRECT($A$14&ROW())),\"\"),\"\")","v":""}]
[{"$f":"IFERROR(IF(INDIRECT($A$14&ROW())<>\"\",COUNTIF(Summary!$B$30:$B$1029,INDIRECT($A$14&ROW())),\"\"),\"\")","v":""}]
[{"$f":"IFERROR(IF(INDIRECT($A$14&ROW())<>\"\",COUNTIF(Summary!$B$30:$B$1029,INDIRECT($A$14&ROW())),\"\"),\"\")","v":""}]
[{"$f":"IFERROR(IF(INDIRECT($A$14&ROW())<>\"\",COUNTIF(Summary!$B$30:$B$1029,INDIRECT($A$14&ROW())),\"\"),\"\")","v":""}]
[{"$f":"IFERROR(IF(INDIRECT($A$14&ROW())<>\"\",COUNTIF(Summary!$B$30:$B$1029,INDIRECT($A$14&ROW())),\"\"),\"\")","v":""}]
[{"$f":"IFERROR(IF(INDIRECT($A$14&ROW())<>\"\",COUNTIF(Summary!$B$30:$B$1029,INDIRECT($A$14&ROW())),\"\"),\"\")","v":""}]
[{"$f":"IFERROR(IF(INDIRECT($A$14&ROW())<>\"\",COUNTIF(Summary!$B$30:$B$1029,INDIRECT($A$14&ROW())),\"\"),\"\")","v":""}]
[{"$f":"IFERROR(IF(INDIRECT($A$14&ROW())<>\"\",COUNTIF(Summary!$B$30:$B$1029,INDIRECT($A$14&ROW())),\"\"),\"\")","v":""}]
[{"$f":"IFERROR(IF(INDIRECT($A$14&ROW())<>\"\",COUNTIF(Summary!$B$30:$B$1029,INDIRECT($A$14&ROW())),\"\"),\"\")","v":""}]
[{"$f":"IFERROR(IF(INDIRECT($A$14&ROW())<>\"\",COUNTIF(Summary!$B$30:$B$1029,INDIRECT($A$14&ROW())),\"\"),\"\")","v":""}]
[{"$f":"IFERROR(IF(INDIRECT($A$14&ROW())<>\"\",COUNTIF(Summary!$B$30:$B$1029,INDIRECT($A$14&ROW())),\"\"),\"\")","v":""}]
[{"$f":"IFERROR(IF(INDIRECT($A$14&ROW())<>\"\",COUNTIF(Summary!$B$30:$B$1029,INDIRECT($A$14&ROW())),\"\"),\"\")","v":""}]
[{"$f":"IFERROR(IF(INDIRECT($A$14&ROW())<>\"\",COUNTIF(Summary!$B$30:$B$1029,INDIRECT($A$14&ROW())),\"\"),\"\")","v":""}]
[{"$f":"IFERROR(IF(INDIRECT($A$14&ROW())<>\"\",COUNTIF(Summary!$B$30:$B$1029,INDIRECT($A$14&ROW())),\"\"),\"\")","v":""}]
[{"$f":"IFERROR(IF(INDIRECT($A$14&ROW())<>\"\",COUNTIF(Summary!$B$30:$B$1029,INDIRECT($A$14&ROW())),\"\"),\"\")","v":""}]
[{"$f":"IFERROR(IF(INDIRECT($A$14&ROW())<>\"\",COUNTIF(Summary!$B$30:$B$1029,INDIRECT($A$14&ROW())),\"\"),\"\")","v":""}]
[{"$f":"IFERROR(IF(INDIRECT($A$14&ROW())<>\"\",COUNTIF(Summary!$B$30:$B$1029,INDIRECT($A$14&ROW())),\"\"),\"\")","v":""}]
[{"$f":"IFERROR(IF(INDIRECT($A$14&ROW())<>\"\",COUNTIF(Summary!$B$30:$B$1029,INDIRECT($A$14&ROW())),\"\"),\"\")","v":""}]
[{"$f":"IFERROR(IF(INDIRECT($A$14&ROW())<>\"\",COUNTIF(Summary!$B$30:$B$1029,INDIRECT($A$14&ROW())),\"\"),\"\")","v":""}]
[{"$f":"IFERROR(IF(INDIRECT($A$14&ROW())<>\"\",COUNTIF(Summary!$B$30:$B$1029,INDIRECT($A$14&ROW())),\"\"),\"\")","v":""}]
[{"$f":"IFERROR(IF(INDIRECT($A$14&ROW())<>\"\",COUNTIF(Summary!$B$30:$B$1029,INDIRECT($A$14&ROW())),\"\"),\"\")","v":""}]
[{"$f":"IFERROR(IF(INDIRECT($A$14&ROW())<>\"\",COUNTIF(Summary!$B$30:$B$1029,INDIRECT($A$14&ROW())),\"\"),\"\")","v":""}]
[{"$f":"IFERROR(IF(INDIRECT($A$14&ROW())<>\"\",COUNTIF(Summary!$B$30:$B$1029,INDIRECT($A$14&ROW())),\"\"),\"\")","v":""}]
[{"$f":"IFERROR(IF(INDIRECT($A$14&ROW())<>\"\",COUNTIF(Summary!$B$30:$B$1029,INDIRECT($A$14&ROW())),\"\"),\"\")","v":""}]
[{"$f":"IFERROR(IF(INDIRECT($A$14&ROW())<>\"\",COUNTIF(Summary!$B$30:$B$1029,INDIRECT($A$14&ROW())),\"\"),\"\")","v":""}]
[{"$f":"IFERROR(IF(INDIRECT($A$14&ROW())<>\"\",COUNTIF(Summary!$B$30:$B$1029,INDIRECT($A$14&ROW())),\"\"),\"\")","v":""}]
[{"$f":"IFERROR(IF(INDIRECT($A$14&ROW())<>\"\",COUNTIF(Summary!$B$30:$B$1029,INDIRECT($A$14&ROW())),\"\"),\"\")","v":""}]
[{"$f":"IFERROR(IF(INDIRECT($A$14&ROW())<>\"\",COUNTIF(Summary!$B$30:$B$1029,INDIRECT($A$14&ROW())),\"\"),\"\")","v":""}]
[{"$f":"IFERROR(IF(INDIRECT($A$14&ROW())<>\"\",COUNTIF(Summary!$B$30:$B$1029,INDIRECT($A$14&ROW())),\"\"),\"\")","v":""}]
[{"$f":"IFERROR(IF(INDIRECT($A$14&ROW())<>\"\",COUNTIF(Summary!$B$30:$B$1029,INDIRECT($A$14&ROW())),\"\"),\"\")","v":""}]
[{"$f":"IFERROR(IF(INDIRECT($A$14&ROW())<>\"\",COUNTIF(Summary!$B$30:$B$1029,INDIRECT($A$14&ROW())),\"\"),\"\")","v":""}]
[{"$f":"IFERROR(IF(INDIRECT($A$14&ROW())<>\"\",COUNTIF(Summary!$B$30:$B$1029,INDIRECT($A$14&ROW())),\"\"),\"\")","v":""}]
[{"$f":"IFERROR(IF(INDIRECT($A$14&ROW())<>\"\",COUNTIF(Summary!$B$30:$B$1029,INDIRECT($A$14&ROW())),\"\"),\"\")","v":""}]
[{"$f":"IFERROR(IF(INDIRECT($A$14&ROW())<>\"\",COUNTIF(Summary!$B$30:$B$1029,INDIRECT($A$14&ROW())),\"\"),\"\")","v":""}]
[{"$f":"IFERROR(IF(INDIRECT($A$14&ROW())<>\"\",COUNTIF(Summary!$B$30:$B$1029,INDIRECT($A$14&ROW())),\"\"),\"\")","v":""}]
[{"$f":"IFERROR(IF(INDIRECT($A$14&ROW())<>\"\",COUNTIF(Summary!$B$30:$B$1029,INDIRECT($A$14&ROW())),\"\"),\"\")","v":""}]
[{"$f":"IFERROR(IF(INDIRECT($A$14&ROW())<>\"\",COUNTIF(Summary!$B$30:$B$1029,INDIRECT($A$14&ROW())),\"\"),\"\")","v":""}]
[{"$f":"IFERROR(IF(INDIRECT($A$14&ROW())<>\"\",COUNTIF(Summary!$B$30:$B$1029,INDIRECT($A$14&ROW())),\"\"),\"\")","v":""}]
[{"$f":"IFERROR(IF(INDIRECT($A$14&ROW())<>\"\",COUNTIF(Summary!$B$30:$B$1029,INDIRECT($A$14&ROW())),\"\"),\"\")","v":""}]
[{"$f":"IFERROR(IF(INDIRECT($A$14&ROW())<>\"\",COUNTIF(Summary!$B$30:$B$1029,INDIRECT($A$14&ROW())),\"\"),\"\")","v":""}]
[{"$f":"IFERROR(IF(INDIRECT($A$14&ROW())<>\"\",COUNTIF(Summary!$B$30:$B$1029,INDIRECT($A$14&ROW())),\"\"),\"\")","v":""}]
[{"$f":"IFERROR(IF(INDIRECT($A$14&ROW())<>\"\",COUNTIF(Summary!$B$30:$B$1029,INDIRECT($A$14&ROW())),\"\"),\"\")","v":""}]
[{"$f":"IFERROR(IF(INDIRECT($A$14&ROW())<>\"\",COUNTIF(Summary!$B$30:$B$1029,INDIRECT($A$14&ROW())),\"\"),\"\")","v":""}]
[{"$f":"IFERROR(IF(INDIRECT($A$14&ROW())<>\"\",COUNTIF(Summary!$B$30:$B$1029,INDIRECT($A$14&ROW())),\"\"),\"\")","v":""}]
[{"$f":"IFERROR(IF(INDIRECT($A$14&ROW())<>\"\",COUNTIF(Summary!$B$30:$B$1029,INDIRECT($A$14&ROW())),\"\"),\"\")","v":""}]
[{"$f":"IFERROR(IF(INDIRECT($A$14&ROW())<>\"\",COUNTIF(Summary!$B$30:$B$1029,INDIRECT($A$14&ROW())),\"\"),\"\")","v":""}]
[{"$f":"IFERROR(IF(INDIRECT($A$14&ROW())<>\"\",COUNTIF(Summary!$B$30:$B$1029,INDIRECT($A$14&ROW())),\"\"),\"\")","v":""}]
[{"$f":"IFERROR(IF(INDIRECT($A$14&ROW())<>\"\",COUNTIF(Summary!$B$30:$B$1029,INDIRECT($A$14&ROW())),\"\"),\"\")","v":""}]
[{"$f":"IFERROR(IF(INDIRECT($A$14&ROW())<>\"\",COUNTIF(Summary!$B$30:$B$1029,INDIRECT($A$14&ROW())),\"\"),\"\")","v":""}]
[{"$f":"IFERROR(IF(INDIRECT($A$14&ROW())<>\"\",COUNTIF(Summary!$B$30:$B$1029,INDIRECT($A$14&ROW())),\"\"),\"\")","v":""}]
[{"$f":"IFERROR(IF(INDIRECT($A$14&ROW())<>\"\",COUNTIF(Summary!$B$30:$B$1029,INDIRECT($A$14&ROW())),\"\"),\"\")","v":""}]
[{"$f":"IFERROR(IF(INDIRECT($A$14&ROW())<>\"\",COUNTIF(Summary!$B$30:$B$1029,INDIRECT($A$14&ROW())),\"\"),\"\")","v":""}]
[{"$f":"IFERROR(IF(INDIRECT($A$14&ROW())<>\"\",COUNTIF(Summary!$B$30:$B$1029,INDIRECT($A$14&ROW())),\"\"),\"\")","v":""}]
[{"$f":"IFERROR(IF(INDIRECT($A$14&ROW())<>\"\",COUNTIF(Summary!$B$30:$B$1029,INDIRECT($A$14&ROW())),\"\"),\"\")","v":""}]
[{"$f":"IFERROR(IF(INDIRECT($A$14&ROW())<>\"\",COUNTIF(Summary!$B$30:$B$1029,INDIRECT($A$14&ROW())),\"\"),\"\")","v":""}]
[{"$f":"IFERROR(IF(INDIRECT($A$14&ROW())<>\"\",COUNTIF(Summary!$B$30:$B$1029,INDIRECT($A$14&ROW())),\"\"),\"\")","v":""}]
[{"$f":"IFERROR(IF(INDIRECT($A$14&ROW())<>\"\",COUNTIF(Summary!$B$30:$B$1029,INDIRECT($A$14&ROW())),\"\"),\"\")","v":""}]
[{"$f":"IFERROR(IF(INDIRECT($A$14&ROW())<>\"\",COUNTIF(Summary!$B$30:$B$1029,INDIRECT($A$14&ROW())),\"\"),\"\")","v":""}]
[{"$f":"IFERROR(IF(INDIRECT($A$14&ROW())<>\"\",COUNTIF(Summary!$B$30:$B$1029,INDIRECT($A$14&ROW())),\"\"),\"\")","v":""}]
[{"$f":"IFERROR(IF(INDIRECT($A$14&ROW())<>\"\",COUNTIF(Summary!$B$30:$B$1029,INDIRECT($A$14&ROW())),\"\"),\"\")","v":""}]
[{"$f":"IFERROR(IF(INDIRECT($A$14&ROW())<>\"\",COUNTIF(Summary!$B$30:$B$1029,INDIRECT($A$14&ROW())),\"\"),\"\")","v":""}]
[{"$f":"IFERROR(IF(INDIRECT($A$14&ROW())<>\"\",COUNTIF(Summary!$B$30:$B$1029,INDIRECT($A$14&ROW())),\"\"),\"\")","v":""}]
[{"$f":"IFERROR(IF(INDIRECT($A$14&ROW())<>\"\",COUNTIF(Summary!$B$30:$B$1029,INDIRECT($A$14&ROW())),\"\"),\"\")","v":""}]
[{"$f":"IFERROR(IF(INDIRECT($A$14&ROW())<>\"\",COUNTIF(Summary!$B$30:$B$1029,INDIRECT($A$14&ROW())),\"\"),\"\")","v":""}]
[{"$f":"IFERROR(IF(INDIRECT($A$14&ROW())<>\"\",COUNTIF(Summary!$B$30:$B$1029,INDIRECT($A$14&ROW())),\"\"),\"\")","v":""}]
[{"$f":"IFERROR(IF(INDIRECT($A$14&ROW())<>\"\",COUNTIF(Summary!$B$30:$B$1029,INDIRECT($A$14&ROW())),\"\"),\"\")","v":""}]
[{"$f":"IFERROR(IF(INDIRECT($A$14&ROW())<>\"\",COUNTIF(Summary!$B$30:$B$1029,INDIRECT($A$14&ROW())),\"\"),\"\")","v":""}]
[{"$f":"IFERROR(IF(INDIRECT($A$14&ROW())<>\"\",COUNTIF(Summary!$B$30:$B$1029,INDIRECT($A$14&ROW())),\"\"),\"\")","v":""}]
[{"$f":"IFERROR(IF(INDIRECT($A$14&ROW())<>\"\",COUNTIF(Summary!$B$30:$B$1029,INDIRECT($A$14&ROW())),\"\"),\"\")","v":""}]
[{"$f":"IFERROR(IF(INDIRECT($A$14&ROW())<>\"\",COUNTIF(Summary!$B$30:$B$1029,INDIRECT($A$14&ROW())),\"\"),\"\")","v":""}]
[{"$f":"IFERROR(IF(INDIRECT($A$14&ROW())<>\"\",COUNTIF(Summary!$B$30:$B$1029,INDIRECT($A$14&ROW())),\"\"),\"\")","v":""}]
[{"$f":"IFERROR(IF(INDIRECT($A$14&ROW())<>\"\",COUNTIF(Summary!$B$30:$B$1029,INDIRECT($A$14&ROW())),\"\"),\"\")","v":""}]
[{"$f":"IFERROR(IF(INDIRECT($A$14&ROW())<>\"\",COUNTIF(Summary!$B$30:$B$1029,INDIRECT($A$14&ROW())),\"\"),\"\")","v":""}]
[{"$f":"IFERROR(IF(INDIRECT($A$14&ROW())<>\"\",COUNTIF(Summary!$B$30:$B$1029,INDIRECT($A$14&ROW())),\"\"),\"\")","v":""}]
[{"$f":"IFERROR(IF(INDIRECT($A$14&ROW())<>\"\",COUNTIF(Summary!$B$30:$B$1029,INDIRECT($A$14&ROW())),\"\"),\"\")","v":""}]
[{"$f":"IFERROR(IF(INDIRECT($A$14&ROW())<>\"\",COUNTIF(Summary!$B$30:$B$1029,INDIRECT($A$14&ROW())),\"\"),\"\")","v":""}]
[{"$f":"IFERROR(IF(INDIRECT($A$14&ROW())<>\"\",COUNTIF(Summary!$B$30:$B$1029,INDIRECT($A$14&ROW())),\"\"),\"\")","v":""}]
[{"$f":"IFERROR(IF(INDIRECT($A$14&ROW())<>\"\",COUNTIF(Summary!$B$30:$B$1029,INDIRECT($A$14&ROW())),\"\"),\"\")","v":""}]
[{"$f":"IFERROR(IF(INDIRECT($A$14&ROW())<>\"\",COUNTIF(Summary!$B$30:$B$1029,INDIRECT($A$14&ROW())),\"\"),\"\")","v":""}]
[{"$f":"IFERROR(IF(INDIRECT($A$14&ROW())<>\"\",COUNTIF(Summary!$B$30:$B$1029,INDIRECT($A$14&ROW())),\"\"),\"\")","v":""}]
[{"$f":"IFERROR(IF(INDIRECT($A$14&ROW())<>\"\",COUNTIF(Summary!$B$30:$B$1029,INDIRECT($A$14&ROW())),\"\"),\"\")","v":""}]
[{"$f":"IFERROR(IF(INDIRECT($A$14&ROW())<>\"\",COUNTIF(Summary!$B$30:$B$1029,INDIRECT($A$14&ROW())),\"\"),\"\")","v":""}]
[{"$f":"IFERROR(IF(INDIRECT($A$14&ROW())<>\"\",COUNTIF(Summary!$B$30:$B$1029,INDIRECT($A$14&ROW())),\"\"),\"\")","v":""}]
[{"$f":"IFERROR(IF(INDIRECT($A$14&ROW())<>\"\",COUNTIF(Summary!$B$30:$B$1029,INDIRECT($A$14&ROW())),\"\"),\"\")","v":""}]
[{"$f":"IFERROR(IF(INDIRECT($A$14&ROW())<>\"\",COUNTIF(Summary!$B$30:$B$1029,INDIRECT($A$14&ROW())),\"\"),\"\")","v":""}]
[{"$f":"IFERROR(IF(INDIRECT($A$14&ROW())<>\"\",COUNTIF(Summary!$B$30:$B$1029,INDIRECT($A$14&ROW())),\"\"),\"\")","v":""}]
[{"$f":"IFERROR(IF(INDIRECT($A$14&ROW())<>\"\",COUNTIF(Summary!$B$30:$B$1029,INDIRECT($A$14&ROW())),\"\"),\"\")","v":""}]
[{"$f":"IFERROR(IF(INDIRECT($A$14&ROW())<>\"\",COUNTIF(Summary!$B$30:$B$1029,INDIRECT($A$14&ROW())),\"\"),\"\")","v":""}]
[{"$f":"IFERROR(IF(INDIRECT($A$14&ROW())<>\"\",COUNTIF(Summary!$B$30:$B$1029,INDIRECT($A$14&ROW())),\"\"),\"\")","v":""}]
[{"$f":"IFERROR(IF(INDIRECT($A$14&ROW())<>\"\",COUNTIF(Summary!$B$30:$B$1029,INDIRECT($A$14&ROW())),\"\"),\"\")","v":""}]
[{"$f":"IFERROR(IF(INDIRECT($A$14&ROW())<>\"\",COUNTIF(Summary!$B$30:$B$1029,INDIRECT($A$14&ROW())),\"\"),\"\")","v":""}]
[{"$f":"IFERROR(IF(INDIRECT($A$14&ROW())<>\"\",COUNTIF(Summary!$B$30:$B$1029,INDIRECT($A$14&ROW())),\"\"),\"\")","v":""}]
[{"$f":"IFERROR(IF(INDIRECT($A$14&ROW())<>\"\",COUNTIF(Summary!$B$30:$B$1029,INDIRECT($A$14&ROW())),\"\"),\"\")","v":""}]
[{"$f":"IFERROR(IF(INDIRECT($A$14&ROW())<>\"\",COUNTIF(Summary!$B$30:$B$1029,INDIRECT($A$14&ROW())),\"\"),\"\")","v":""}]
[{"$f":"IFERROR(IF(INDIRECT($A$14&ROW())<>\"\",COUNTIF(Summary!$B$30:$B$1029,INDIRECT($A$14&ROW())),\"\"),\"\")","v":""}]
[{"$f":"IFERROR(IF(INDIRECT($A$14&ROW())<>\"\",COUNTIF(Summary!$B$30:$B$1029,INDIRECT($A$14&ROW())),\"\"),\"\")","v":""}]
[{"$f":"IFERROR(IF(INDIRECT($A$14&ROW())<>\"\",COUNTIF(Summary!$B$30:$B$1029,INDIRECT($A$14&ROW())),\"\"),\"\")","v":""}]
[{"$f":"IFERROR(IF(INDIRECT($A$14&ROW())<>\"\",COUNTIF(Summary!$B$30:$B$1029,INDIRECT($A$14&ROW())),\"\"),\"\")","v":""}]
[{"$f":"IFERROR(IF(INDIRECT($A$14&ROW())<>\"\",COUNTIF(Summary!$B$30:$B$1029,INDIRECT($A$14&ROW())),\"\"),\"\")","v":""}]
[{"$f":"IFERROR(IF(INDIRECT($A$14&ROW())<>\"\",COUNTIF(Summary!$B$30:$B$1029,INDIRECT($A$14&ROW())),\"\"),\"\")","v":""}]
[{"$f":"IFERROR(IF(INDIRECT($A$14&ROW())<>\"\",COUNTIF(Summary!$B$30:$B$1029,INDIRECT($A$14&ROW())),\"\"),\"\")","v":""}]
[{"$f":"IFERROR(IF(INDIRECT($A$14&ROW())<>\"\",COUNTIF(Summary!$B$30:$B$1029,INDIRECT($A$14&ROW())),\"\"),\"\")","v":""}]
[{"$f":"IFERROR(IF(INDIRECT($A$14&ROW())<>\"\",COUNTIF(Summary!$B$30:$B$1029,INDIRECT($A$14&ROW())),\"\"),\"\")","v":""}]
[{"$f":"IFERROR(IF(INDIRECT($A$14&ROW())<>\"\",COUNTIF(Summary!$B$30:$B$1029,INDIRECT($A$14&ROW())),\"\"),\"\")","v":""}]
[{"$f":"IFERROR(IF(INDIRECT($A$14&ROW())<>\"\",COUNTIF(Summary!$B$30:$B$1029,INDIRECT($A$14&ROW())),\"\"),\"\")","v":""}]
[{"$f":"IFERROR(IF(INDIRECT($A$14&ROW())<>\"\",COUNTIF(Summary!$B$30:$B$1029,INDIRECT($A$14&ROW())),\"\"),\"\")","v":""}]
[{"$f":"IFERROR(IF(INDIRECT($A$14&ROW())<>\"\",COUNTIF(Summary!$B$30:$B$1029,INDIRECT($A$14&ROW())),\"\"),\"\")","v":""}]
[{"$f":"IFERROR(IF(INDIRECT($A$14&ROW())<>\"\",COUNTIF(Summary!$B$30:$B$1029,INDIRECT($A$14&ROW())),\"\"),\"\")","v":""}]
[{"$f":"IFERROR(IF(INDIRECT($A$14&ROW())<>\"\",COUNTIF(Summary!$B$30:$B$1029,INDIRECT($A$14&ROW())),\"\"),\"\")","v":""}]
[{"$f":"IFERROR(IF(INDIRECT($A$14&ROW())<>\"\",COUNTIF(Summary!$B$30:$B$1029,INDIRECT($A$14&ROW())),\"\"),\"\")","v":""}]
[{"$f":"IFERROR(IF(INDIRECT($A$14&ROW())<>\"\",COUNTIF(Summary!$B$30:$B$1029,INDIRECT($A$14&ROW())),\"\"),\"\")","v":""}]
[{"$f":"IFERROR(IF(INDIRECT($A$14&ROW())<>\"\",COUNTIF(Summary!$B$30:$B$1029,INDIRECT($A$14&ROW())),\"\"),\"\")","v":""}]
[{"$f":"IFERROR(IF(INDIRECT($A$14&ROW())<>\"\",COUNTIF(Summary!$B$30:$B$1029,INDIRECT($A$14&ROW())),\"\"),\"\")","v":""}]
[{"$f":"IFERROR(IF(INDIRECT($A$14&ROW())<>\"\",COUNTIF(Summary!$B$30:$B$1029,INDIRECT($A$14&ROW())),\"\"),\"\")","v":""}]
[{"$f":"IFERROR(IF(INDIRECT($A$14&ROW())<>\"\",COUNTIF(Summary!$B$30:$B$1029,INDIRECT($A$14&ROW())),\"\"),\"\")","v":""}]
[{"$f":"IFERROR(IF(INDIRECT($A$14&ROW())<>\"\",COUNTIF(Summary!$B$30:$B$1029,INDIRECT($A$14&ROW())),\"\"),\"\")","v":""}]
[{"$f":"IFERROR(IF(INDIRECT($A$14&ROW())<>\"\",COUNTIF(Summary!$B$30:$B$1029,INDIRECT($A$14&ROW())),\"\"),\"\")","v":""}]
[{"$f":"IFERROR(IF(INDIRECT($A$14&ROW())<>\"\",COUNTIF(Summary!$B$30:$B$1029,INDIRECT($A$14&ROW())),\"\"),\"\")","v":""}]
[{"$f":"IFERROR(IF(INDIRECT($A$14&ROW())<>\"\",COUNTIF(Summary!$B$30:$B$1029,INDIRECT($A$14&ROW())),\"\"),\"\")","v":""}]
[{"$f":"IFERROR(IF(INDIRECT($A$14&ROW())<>\"\",COUNTIF(Summary!$B$30:$B$1029,INDIRECT($A$14&ROW())),\"\"),\"\")","v":""}]
[{"$f":"IFERROR(IF(INDIRECT($A$14&ROW())<>\"\",COUNTIF(Summary!$B$30:$B$1029,INDIRECT($A$14&ROW())),\"\"),\"\")","v":""}]
[{"$f":"IFERROR(IF(INDIRECT($A$14&ROW())<>\"\",COUNTIF(Summary!$B$30:$B$1029,INDIRECT($A$14&ROW())),\"\"),\"\")","v":""}]
[{"$f":"IFERROR(IF(INDIRECT($A$14&ROW())<>\"\",COUNTIF(Summary!$B$30:$B$1029,INDIRECT($A$14&ROW())),\"\"),\"\")","v":""}]
[{"$f":"IFERROR(IF(INDIRECT($A$14&ROW())<>\"\",COUNTIF(Summary!$B$30:$B$1029,INDIRECT($A$14&ROW())),\"\"),\"\")","v":""}]
[{"$f":"IFERROR(IF(INDIRECT($A$14&ROW())<>\"\",COUNTIF(Summary!$B$30:$B$1029,INDIRECT($A$14&ROW())),\"\"),\"\")","v":""}]
[{"$f":"IFERROR(IF(INDIRECT($A$14&ROW())<>\"\",COUNTIF(Summary!$B$30:$B$1029,INDIRECT($A$14&ROW())),\"\"),\"\")","v":""}]
[{"$f":"IFERROR(IF(INDIRECT($A$14&ROW())<>\"\",COUNTIF(Summary!$B$30:$B$1029,INDIRECT($A$14&ROW())),\"\"),\"\")","v":""}]
[{"$f":"IFERROR(IF(INDIRECT($A$14&ROW())<>\"\",COUNTIF(Summary!$B$30:$B$1029,INDIRECT($A$14&ROW())),\"\"),\"\")","v":""}]
[{"$f":"IFERROR(IF(INDIRECT($A$14&ROW())<>\"\",COUNTIF(Summary!$B$30:$B$1029,INDIRECT($A$14&ROW())),\"\"),\"\")","v":""}]
[{"$f":"IFERROR(IF(INDIRECT($A$14&ROW())<>\"\",COUNTIF(Summary!$B$30:$B$1029,INDIRECT($A$14&ROW())),\"\"),\"\")","v":""}]
[{"$f":"IFERROR(IF(INDIRECT($A$14&ROW())<>\"\",COUNTIF(Summary!$B$30:$B$1029,INDIRECT($A$14&ROW())),\"\"),\"\")","v":""}]
[{"$f":"IFERROR(IF(INDIRECT($A$14&ROW())<>\"\",COUNTIF(Summary!$B$30:$B$1029,INDIRECT($A$14&ROW())),\"\"),\"\")","v":""}]
[{"$f":"IFERROR(IF(INDIRECT($A$14&ROW())<>\"\",COUNTIF(Summary!$B$30:$B$1029,INDIRECT($A$14&ROW())),\"\"),\"\")","v":""}]
[{"$f":"IFERROR(IF(INDIRECT($A$14&ROW())<>\"\",COUNTIF(Summary!$B$30:$B$1029,INDIRECT($A$14&ROW())),\"\"),\"\")","v":""}]
[{"$f":"IFERROR(IF(INDIRECT($A$14&ROW())<>\"\",COUNTIF(Summary!$B$30:$B$1029,INDIRECT($A$14&ROW())),\"\"),\"\")","v":""}]
[{"$f":"IFERROR(IF(INDIRECT($A$14&ROW())<>\"\",COUNTIF(Summary!$B$30:$B$1029,INDIRECT($A$14&ROW())),\"\"),\"\")","v":""}]
[{"$f":"IFERROR(IF(INDIRECT($A$14&ROW())<>\"\",COUNTIF(Summary!$B$30:$B$1029,INDIRECT($A$14&ROW())),\"\"),\"\")","v":""}]
[{"$f":"IFERROR(IF(INDIRECT($A$14&ROW())<>\"\",COUNTIF(Summary!$B$30:$B$1029,INDIRECT($A$14&ROW())),\"\"),\"\")","v":""}]
[{"$f":"IFERROR(IF(INDIRECT($A$14&ROW())<>\"\",COUNTIF(Summary!$B$30:$B$1029,INDIRECT($A$14&ROW())),\"\"),\"\")","v":""}]
[{"$f":"IFERROR(IF(INDIRECT($A$14&ROW())<>\"\",COUNTIF(Summary!$B$30:$B$1029,INDIRECT($A$14&ROW())),\"\"),\"\")","v":""}]
[{"$f":"IFERROR(IF(INDIRECT($A$14&ROW())<>\"\",COUNTIF(Summary!$B$30:$B$1029,INDIRECT($A$14&ROW())),\"\"),\"\")","v":""}]
[{"$f":"IFERROR(IF(INDIRECT($A$14&ROW())<>\"\",COUNTIF(Summary!$B$30:$B$1029,INDIRECT($A$14&ROW())),\"\"),\"\")","v":""}]
[{"$f":"IFERROR(IF(INDIRECT($A$14&ROW())<>\"\",COUNTIF(Summary!$B$30:$B$1029,INDIRECT($A$14&ROW())),\"\"),\"\")","v":""}]
[{"$f":"IFERROR(IF(INDIRECT($A$14&ROW())<>\"\",COUNTIF(Summary!$B$30:$B$1029,INDIRECT($A$14&ROW())),\"\"),\"\")","v":""}]
[{"$f":"IFERROR(IF(INDIRECT($A$14&ROW())<>\"\",COUNTIF(Summary!$B$30:$B$1029,INDIRECT($A$14&ROW())),\"\"),\"\")","v":""}]
[{"$f":"IFERROR(IF(INDIRECT($A$14&ROW())<>\"\",COUNTIF(Summary!$B$30:$B$1029,INDIRECT($A$14&ROW())),\"\"),\"\")","v":""}]
[{"$f":"IFERROR(IF(INDIRECT($A$14&ROW())<>\"\",COUNTIF(Summary!$B$30:$B$1029,INDIRECT($A$14&ROW())),\"\"),\"\")","v":""}]
[{"$f":"IFERROR(IF(INDIRECT($A$14&ROW())<>\"\",COUNTIF(Summary!$B$30:$B$1029,INDIRECT($A$14&ROW())),\"\"),\"\")","v":""}]
[{"$f":"IFERROR(IF(INDIRECT($A$14&ROW())<>\"\",COUNTIF(Summary!$B$30:$B$1029,INDIRECT($A$14&ROW())),\"\"),\"\")","v":""}]
[{"$f":"IFERROR(IF(INDIRECT($A$14&ROW())<>\"\",COUNTIF(Summary!$B$30:$B$1029,INDIRECT($A$14&ROW())),\"\"),\"\")","v":""}]
[{"$f":"IFERROR(IF(INDIRECT($A$14&ROW())<>\"\",COUNTIF(Summary!$B$30:$B$1029,INDIRECT($A$14&ROW())),\"\"),\"\")","v":""}]
[{"$f":"IFERROR(IF(INDIRECT($A$14&ROW())<>\"\",COUNTIF(Summary!$B$30:$B$1029,INDIRECT($A$14&ROW())),\"\"),\"\")","v":""}]
[{"$f":"IFERROR(IF(INDIRECT($A$14&ROW())<>\"\",COUNTIF(Summary!$B$30:$B$1029,INDIRECT($A$14&ROW())),\"\"),\"\")","v":""}]
[{"$f":"IFERROR(IF(INDIRECT($A$14&ROW())<>\"\",COUNTIF(Summary!$B$30:$B$1029,INDIRECT($A$14&ROW())),\"\"),\"\")","v":""}]
[{"$f":"IFERROR(IF(INDIRECT($A$14&ROW())<>\"\",COUNTIF(Summary!$B$30:$B$1029,INDIRECT($A$14&ROW())),\"\"),\"\")","v":""}]
[{"$f":"IFERROR(IF(INDIRECT($A$14&ROW())<>\"\",COUNTIF(Summary!$B$30:$B$1029,INDIRECT($A$14&ROW())),\"\"),\"\")","v":""}]
[{"$f":"IFERROR(IF(INDIRECT($A$14&ROW())<>\"\",COUNTIF(Summary!$B$30:$B$1029,INDIRECT($A$14&ROW())),\"\"),\"\")","v":""}]
[{"$f":"IFERROR(IF(INDIRECT($A$14&ROW())<>\"\",COUNTIF(Summary!$B$30:$B$1029,INDIRECT($A$14&ROW())),\"\"),\"\")","v":""}]
[{"$f":"IFERROR(IF(INDIRECT($A$14&ROW())<>\"\",COUNTIF(Summary!$B$30:$B$1029,INDIRECT($A$14&ROW())),\"\"),\"\")","v":""}]
[{"$f":"IFERROR(IF(INDIRECT($A$14&ROW())<>\"\",COUNTIF(Summary!$B$30:$B$1029,INDIRECT($A$14&ROW())),\"\"),\"\")","v":""}]
[{"$f":"IFERROR(IF(INDIRECT($A$14&ROW())<>\"\",COUNTIF(Summary!$B$30:$B$1029,INDIRECT($A$14&ROW())),\"\"),\"\")","v":""}]
[{"$f":"IFERROR(IF(INDIRECT($A$14&ROW())<>\"\",COUNTIF(Summary!$B$30:$B$1029,INDIRECT($A$14&ROW())),\"\"),\"\")","v":""}]
[{"$f":"IFERROR(IF(INDIRECT($A$14&ROW())<>\"\",COUNTIF(Summary!$B$30:$B$1029,INDIRECT($A$14&ROW())),\"\"),\"\")","v":""}]
[{"$f":"IFERROR(IF(INDIRECT($A$14&ROW())<>\"\",COUNTIF(Summary!$B$30:$B$1029,INDIRECT($A$14&ROW())),\"\"),\"\")","v":""}]
[{"$f":"IFERROR(IF(INDIRECT($A$14&ROW())<>\"\",COUNTIF(Summary!$B$30:$B$1029,INDIRECT($A$14&ROW())),\"\"),\"\")","v":""}]
[{"$f":"IFERROR(IF(INDIRECT($A$14&ROW())<>\"\",COUNTIF(Summary!$B$30:$B$1029,INDIRECT($A$14&ROW())),\"\"),\"\")","v":""}]
[{"$f":"IFERROR(IF(INDIRECT($A$14&ROW())<>\"\",COUNTIF(Summary!$B$30:$B$1029,INDIRECT($A$14&ROW())),\"\"),\"\")","v":""}]
[{"$f":"IFERROR(IF(INDIRECT($A$14&ROW())<>\"\",COUNTIF(Summary!$B$30:$B$1029,INDIRECT($A$14&ROW())),\"\"),\"\")","v":""}]
[{"$f":"IFERROR(IF(INDIRECT($A$14&ROW())<>\"\",COUNTIF(Summary!$B$30:$B$1029,INDIRECT($A$14&ROW())),\"\"),\"\")","v":""}]
[{"$f":"IFERROR(IF(INDIRECT($A$14&ROW())<>\"\",COUNTIF(Summary!$B$30:$B$1029,INDIRECT($A$14&ROW())),\"\"),\"\")","v":""}]
[{"$f":"IFERROR(IF(INDIRECT($A$14&ROW())<>\"\",COUNTIF(Summary!$B$30:$B$1029,INDIRECT($A$14&ROW())),\"\"),\"\")","v":""}]
[{"$f":"IFERROR(IF(INDIRECT($A$14&ROW())<>\"\",COUNTIF(Summary!$B$30:$B$1029,INDIRECT($A$14&ROW())),\"\"),\"\")","v":""}]
[{"$f":"IFERROR(IF(INDIRECT($A$14&ROW())<>\"\",COUNTIF(Summary!$B$30:$B$1029,INDIRECT($A$14&ROW())),\"\"),\"\")","v":""}]
[{"$f":"IFERROR(IF(INDIRECT($A$14&ROW())<>\"\",COUNTIF(Summary!$B$30:$B$1029,INDIRECT($A$14&ROW())),\"\"),\"\")","v":""}]
[{"$f":"IFERROR(IF(INDIRECT($A$14&ROW())<>\"\",COUNTIF(Summary!$B$30:$B$1029,INDIRECT($A$14&ROW())),\"\"),\"\")","v":""}]
[{"$f":"IFERROR(IF(INDIRECT($A$14&ROW())<>\"\",COUNTIF(Summary!$B$30:$B$1029,INDIRECT($A$14&ROW())),\"\"),\"\")","v":""}]
[{"$f":"IFERROR(IF(INDIRECT($A$14&ROW())<>\"\",COUNTIF(Summary!$B$30:$B$1029,INDIRECT($A$14&ROW())),\"\"),\"\")","v":""}]
[{"$f":"IFERROR(IF(INDIRECT($A$14&ROW())<>\"\",COUNTIF(Summary!$B$30:$B$1029,INDIRECT($A$14&ROW())),\"\"),\"\")","v":""}]
[{"$f":"IFERROR(IF(INDIRECT($A$14&ROW())<>\"\",COUNTIF(Summary!$B$30:$B$1029,INDIRECT($A$14&ROW())),\"\"),\"\")","v":""}]
[{"$f":"IFERROR(IF(INDIRECT($A$14&ROW())<>\"\",COUNTIF(Summary!$B$30:$B$1029,INDIRECT($A$14&ROW())),\"\"),\"\")","v":""}]
[{"$f":"IFERROR(IF(INDIRECT($A$14&ROW())<>\"\",COUNTIF(Summary!$B$30:$B$1029,INDIRECT($A$14&ROW())),\"\"),\"\")","v":""}]
[{"$f":"IFERROR(IF(INDIRECT($A$14&ROW())<>\"\",COUNTIF(Summary!$B$30:$B$1029,INDIRECT($A$14&ROW())),\"\"),\"\")","v":""}]
[{"$f":"IFERROR(IF(INDIRECT($A$14&ROW())<>\"\",COUNTIF(Summary!$B$30:$B$1029,INDIRECT($A$14&ROW())),\"\"),\"\")","v":""}]
[{"$f":"IFERROR(IF(INDIRECT($A$14&ROW())<>\"\",COUNTIF(Summary!$B$30:$B$1029,INDIRECT($A$14&ROW())),\"\"),\"\")","v":""}]
[{"$f":"IFERROR(IF(INDIRECT($A$14&ROW())<>\"\",COUNTIF(Summary!$B$30:$B$1029,INDIRECT($A$14&ROW())),\"\"),\"\")","v":""}]
[{"$f":"IFERROR(IF(INDIRECT($A$14&ROW())<>\"\",COUNTIF(Summary!$B$30:$B$1029,INDIRECT($A$14&ROW())),\"\"),\"\")","v":""}]
[{"$f":"IFERROR(IF(INDIRECT($A$14&ROW())<>\"\",COUNTIF(Summary!$B$30:$B$1029,INDIRECT($A$14&ROW())),\"\"),\"\")","v":""}]
[{"$f":"IFERROR(IF(INDIRECT($A$14&ROW())<>\"\",COUNTIF(Summary!$B$30:$B$1029,INDIRECT($A$14&ROW())),\"\"),\"\")","v":""}]
[{"$f":"IFERROR(IF(INDIRECT($A$14&ROW())<>\"\",COUNTIF(Summary!$B$30:$B$1029,INDIRECT($A$14&ROW())),\"\"),\"\")","v":""}]
[{"$f":"IFERROR(IF(INDIRECT($A$14&ROW())<>\"\",COUNTIF(Summary!$B$30:$B$1029,INDIRECT($A$14&ROW())),\"\"),\"\")","v":""}]
[{"$f":"IFERROR(IF(INDIRECT($A$14&ROW())<>\"\",COUNTIF(Summary!$B$30:$B$1029,INDIRECT($A$14&ROW())),\"\"),\"\")","v":""}]
[{"$f":"IFERROR(IF(INDIRECT($A$14&ROW())<>\"\",COUNTIF(Summary!$B$30:$B$1029,INDIRECT($A$14&ROW())),\"\"),\"\")","v":""}]
[{"$f":"IFERROR(IF(INDIRECT($A$14&ROW())<>\"\",COUNTIF(Summary!$B$30:$B$1029,INDIRECT($A$14&ROW())),\"\"),\"\")","v":""}]
[{"$f":"IFERROR(IF(INDIRECT($A$14&ROW())<>\"\",COUNTIF(Summary!$B$30:$B$1029,INDIRECT($A$14&ROW())),\"\"),\"\")","v":""}]
[{"$f":"IFERROR(IF(INDIRECT($A$14&ROW())<>\"\",COUNTIF(Summary!$B$30:$B$1029,INDIRECT($A$14&ROW())),\"\"),\"\")","v":""}]
[{"$f":"IFERROR(IF(INDIRECT($A$14&ROW())<>\"\",COUNTIF(Summary!$B$30:$B$1029,INDIRECT($A$14&ROW())),\"\"),\"\")","v":""}]
[{"$f":"IFERROR(IF(INDIRECT($A$14&ROW())<>\"\",COUNTIF(Summary!$B$30:$B$1029,INDIRECT($A$14&ROW())),\"\"),\"\")","v":""}]
[{"$f":"IFERROR(IF(INDIRECT($A$14&ROW())<>\"\",COUNTIF(Summary!$B$30:$B$1029,INDIRECT($A$14&ROW())),\"\"),\"\")","v":""}]
[{"$f":"IFERROR(IF(INDIRECT($A$14&ROW())<>\"\",COUNTIF(Summary!$B$30:$B$1029,INDIRECT($A$14&ROW())),\"\"),\"\")","v":""}]
[{"$f":"IFERROR(IF(INDIRECT($A$14&ROW())<>\"\",COUNTIF(Summary!$B$30:$B$1029,INDIRECT($A$14&ROW())),\"\"),\"\")","v":""}]
[{"$f":"IFERROR(IF(INDIRECT($A$14&ROW())<>\"\",COUNTIF(Summary!$B$30:$B$1029,INDIRECT($A$14&ROW())),\"\"),\"\")","v":""}]
[{"$f":"IFERROR(IF(INDIRECT($A$14&ROW())<>\"\",COUNTIF(Summary!$B$30:$B$1029,INDIRECT($A$14&ROW())),\"\"),\"\")","v":""}]
[{"$f":"IFERROR(IF(INDIRECT($A$14&ROW())<>\"\",COUNTIF(Summary!$B$30:$B$1029,INDIRECT($A$14&ROW())),\"\"),\"\")","v":""}]
[{"$f":"IFERROR(IF(INDIRECT($A$14&ROW())<>\"\",COUNTIF(Summary!$B$30:$B$1029,INDIRECT($A$14&ROW())),\"\"),\"\")","v":""}]
[{"$f":"IFERROR(IF(INDIRECT($A$14&ROW())<>\"\",COUNTIF(Summary!$B$30:$B$1029,INDIRECT($A$14&ROW())),\"\"),\"\")","v":""}]
[{"$f":"IFERROR(IF(INDIRECT($A$14&ROW())<>\"\",COUNTIF(Summary!$B$30:$B$1029,INDIRECT($A$14&ROW())),\"\"),\"\")","v":""}]
[{"$f":"IFERROR(IF(INDIRECT($A$14&ROW())<>\"\",COUNTIF(Summary!$B$30:$B$1029,INDIRECT($A$14&ROW())),\"\"),\"\")","v":""}]
[{"$f":"IFERROR(IF(INDIRECT($A$14&ROW())<>\"\",COUNTIF(Summary!$B$30:$B$1029,INDIRECT($A$14&ROW())),\"\"),\"\")","v":""}]
[{"$f":"IFERROR(IF(INDIRECT($A$14&ROW())<>\"\",COUNTIF(Summary!$B$30:$B$1029,INDIRECT($A$14&ROW())),\"\"),\"\")","v":""}]
[{"$f":"IFERROR(IF(INDIRECT($A$14&ROW())<>\"\",COUNTIF(Summary!$B$30:$B$1029,INDIRECT($A$14&ROW())),\"\"),\"\")","v":""}]
[{"$f":"IFERROR(IF(INDIRECT($A$14&ROW())<>\"\",COUNTIF(Summary!$B$30:$B$1029,INDIRECT($A$14&ROW())),\"\"),\"\")","v":""}]
[{"$f":"IFERROR(IF(INDIRECT($A$14&ROW())<>\"\",COUNTIF(Summary!$B$30:$B$1029,INDIRECT($A$14&ROW())),\"\"),\"\")","v":""}]
[{"$f":"IFERROR(IF(INDIRECT($A$14&ROW())<>\"\",COUNTIF(Summary!$B$30:$B$1029,INDIRECT($A$14&ROW())),\"\"),\"\")","v":""}]
[{"$f":"IFERROR(IF(INDIRECT($A$14&ROW())<>\"\",COUNTIF(Summary!$B$30:$B$1029,INDIRECT($A$14&ROW())),\"\"),\"\")","v":""}]
[{"$f":"IFERROR(IF(INDIRECT($A$14&ROW())<>\"\",COUNTIF(Summary!$B$30:$B$1029,INDIRECT($A$14&ROW())),\"\"),\"\")","v":""}]
[{"$f":"IFERROR(IF(INDIRECT($A$14&ROW())<>\"\",COUNTIF(Summary!$B$30:$B$1029,INDIRECT($A$14&ROW())),\"\"),\"\")","v":""}]
[{"$f":"IFERROR(IF(INDIRECT($A$14&ROW())<>\"\",COUNTIF(Summary!$B$30:$B$1029,INDIRECT($A$14&ROW())),\"\"),\"\")","v":""}]
[{"$f":"IFERROR(IF(INDIRECT($A$14&ROW())<>\"\",COUNTIF(Summary!$B$30:$B$1029,INDIRECT($A$14&ROW())),\"\"),\"\")","v":""}]
[{"$f":"IFERROR(IF(INDIRECT($A$14&ROW())<>\"\",COUNTIF(Summary!$B$30:$B$1029,INDIRECT($A$14&ROW())),\"\"),\"\")","v":""}]
[{"$f":"IFERROR(IF(INDIRECT($A$14&ROW())<>\"\",COUNTIF(Summary!$B$30:$B$1029,INDIRECT($A$14&ROW())),\"\"),\"\")","v":""}]
[{"$f":"IFERROR(IF(INDIRECT($A$14&ROW())<>\"\",COUNTIF(Summary!$B$30:$B$1029,INDIRECT($A$14&ROW())),\"\"),\"\")","v":""}]
[{"$f":"IFERROR(IF(INDIRECT($A$14&ROW())<>\"\",COUNTIF(Summary!$B$30:$B$1029,INDIRECT($A$14&ROW())),\"\"),\"\")","v":""}]
[{"$f":"IFERROR(IF(INDIRECT($A$14&ROW())<>\"\",COUNTIF(Summary!$B$30:$B$1029,INDIRECT($A$14&ROW())),\"\"),\"\")","v":""}]
[{"$f":"IFERROR(IF(INDIRECT($A$14&ROW())<>\"\",COUNTIF(Summary!$B$30:$B$1029,INDIRECT($A$14&ROW())),\"\"),\"\")","v":""}]
[{"$f":"IFERROR(IF(INDIRECT($A$14&ROW())<>\"\",COUNTIF(Summary!$B$30:$B$1029,INDIRECT($A$14&ROW())),\"\"),\"\")","v":""}]
[{"$f":"IFERROR(IF(INDIRECT($A$14&ROW())<>\"\",COUNTIF(Summary!$B$30:$B$1029,INDIRECT($A$14&ROW())),\"\"),\"\")","v":""}]
[{"$f":"IFERROR(IF(INDIRECT($A$14&ROW())<>\"\",COUNTIF(Summary!$B$30:$B$1029,INDIRECT($A$14&ROW())),\"\"),\"\")","v":""}]
[{"$f":"IFERROR(IF(INDIRECT($A$14&ROW())<>\"\",COUNTIF(Summary!$B$30:$B$1029,INDIRECT($A$14&ROW())),\"\"),\"\")","v":""}]
[{"$f":"IFERROR(IF(INDIRECT($A$14&ROW())<>\"\",COUNTIF(Summary!$B$30:$B$1029,INDIRECT($A$14&ROW())),\"\"),\"\")","v":""}]
[{"$f":"IFERROR(IF(INDIRECT($A$14&ROW())<>\"\",COUNTIF(Summary!$B$30:$B$1029,INDIRECT($A$14&ROW())),\"\"),\"\")","v":""}]
[{"$f":"IFERROR(IF(INDIRECT($A$14&ROW())<>\"\",COUNTIF(Summary!$B$30:$B$1029,INDIRECT($A$14&ROW())),\"\"),\"\")","v":""}]
[{"$f":"IFERROR(IF(INDIRECT($A$14&ROW())<>\"\",COUNTIF(Summary!$B$30:$B$1029,INDIRECT($A$14&ROW())),\"\"),\"\")","v":""}]
[{"$f":"IFERROR(IF(INDIRECT($A$14&ROW())<>\"\",COUNTIF(Summary!$B$30:$B$1029,INDIRECT($A$14&ROW())),\"\"),\"\")","v":""}]
[{"$f":"IFERROR(IF(INDIRECT($A$14&ROW())<>\"\",COUNTIF(Summary!$B$30:$B$1029,INDIRECT($A$14&ROW())),\"\"),\"\")","v":""}]
[{"$f":"IFERROR(IF(INDIRECT($A$14&ROW())<>\"\",COUNTIF(Summary!$B$30:$B$1029,INDIRECT($A$14&ROW())),\"\"),\"\")","v":""}]
[{"$f":"IFERROR(IF(INDIRECT($A$14&ROW())<>\"\",COUNTIF(Summary!$B$30:$B$1029,INDIRECT($A$14&ROW())),\"\"),\"\")","v":""}]
[{"$f":"IFERROR(IF(INDIRECT($A$14&ROW())<>\"\",COUNTIF(Summary!$B$30:$B$1029,INDIRECT($A$14&ROW())),\"\"),\"\")","v":""}]
[{"$f":"IFERROR(IF(INDIRECT($A$14&ROW())<>\"\",COUNTIF(Summary!$B$30:$B$1029,INDIRECT($A$14&ROW())),\"\"),\"\")","v":""}]
[{"$f":"IFERROR(IF(INDIRECT($A$14&ROW())<>\"\",COUNTIF(Summary!$B$30:$B$1029,INDIRECT($A$14&ROW())),\"\"),\"\")","v":""}]
[{"$f":"IFERROR(IF(INDIRECT($A$14&ROW())<>\"\",COUNTIF(Summary!$B$30:$B$1029,INDIRECT($A$14&ROW())),\"\"),\"\")","v":""}]
[{"$f":"IFERROR(IF(INDIRECT($A$14&ROW())<>\"\",COUNTIF(Summary!$B$30:$B$1029,INDIRECT($A$14&ROW())),\"\"),\"\")","v":""}]
[{"$f":"IFERROR(IF(INDIRECT($A$14&ROW())<>\"\",COUNTIF(Summary!$B$30:$B$1029,INDIRECT($A$14&ROW())),\"\"),\"\")","v":""}]
[{"$f":"IFERROR(IF(INDIRECT($A$14&ROW())<>\"\",COUNTIF(Summary!$B$30:$B$1029,INDIRECT($A$14&ROW())),\"\"),\"\")","v":""}]
[{"$f":"IFERROR(IF(INDIRECT($A$14&ROW())<>\"\",COUNTIF(Summary!$B$30:$B$1029,INDIRECT($A$14&ROW())),\"\"),\"\")","v":""}]
[{"$f":"IFERROR(IF(INDIRECT($A$14&ROW())<>\"\",COUNTIF(Summary!$B$30:$B$1029,INDIRECT($A$14&ROW())),\"\"),\"\")","v":""}]
[{"$f":"IFERROR(IF(INDIRECT($A$14&ROW())<>\"\",COUNTIF(Summary!$B$30:$B$1029,INDIRECT($A$14&ROW())),\"\"),\"\")","v":""}]
[{"$f":"IFERROR(IF(INDIRECT($A$14&ROW())<>\"\",COUNTIF(Summary!$B$30:$B$1029,INDIRECT($A$14&ROW())),\"\"),\"\")","v":""}]
[{"$f":"IFERROR(IF(INDIRECT($A$14&ROW())<>\"\",COUNTIF(Summary!$B$30:$B$1029,INDIRECT($A$14&ROW())),\"\"),\"\")","v":""}]
[{"$f":"IFERROR(IF(INDIRECT($A$14&ROW())<>\"\",COUNTIF(Summary!$B$30:$B$1029,INDIRECT($A$14&ROW())),\"\"),\"\")","v":""}]
[{"$f":"IFERROR(IF(INDIRECT($A$14&ROW())<>\"\",COUNTIF(Summary!$B$30:$B$1029,INDIRECT($A$14&ROW())),\"\"),\"\")","v":""}]
[{"$f":"IFERROR(IF(INDIRECT($A$14&ROW())<>\"\",COUNTIF(Summary!$B$30:$B$1029,INDIRECT($A$14&ROW())),\"\"),\"\")","v":""}]
[{"$f":"IFERROR(IF(INDIRECT($A$14&ROW())<>\"\",COUNTIF(Summary!$B$30:$B$1029,INDIRECT($A$14&ROW())),\"\"),\"\")","v":""}]
[{"$f":"IFERROR(IF(INDIRECT($A$14&ROW())<>\"\",COUNTIF(Summary!$B$30:$B$1029,INDIRECT($A$14&ROW())),\"\"),\"\")","v":""}]
[{"$f":"IFERROR(IF(INDIRECT($A$14&ROW())<>\"\",COUNTIF(Summary!$B$30:$B$1029,INDIRECT($A$14&ROW())),\"\"),\"\")","v":""}]
[{"$f":"IFERROR(IF(INDIRECT($A$14&ROW())<>\"\",COUNTIF(Summary!$B$30:$B$1029,INDIRECT($A$14&ROW())),\"\"),\"\")","v":""}]
[{"$f":"IFERROR(IF(INDIRECT($A$14&ROW())<>\"\",COUNTIF(Summary!$B$30:$B$1029,INDIRECT($A$14&ROW())),\"\"),\"\")","v":""}]
[{"$f":"IFERROR(IF(INDIRECT($A$14&ROW())<>\"\",COUNTIF(Summary!$B$30:$B$1029,INDIRECT($A$14&ROW())),\"\"),\"\")","v":""}]
[{"$f":"IFERROR(IF(INDIRECT($A$14&ROW())<>\"\",COUNTIF(Summary!$B$30:$B$1029,INDIRECT($A$14&ROW())),\"\"),\"\")","v":""}]
[{"$f":"IFERROR(IF(INDIRECT($A$14&ROW())<>\"\",COUNTIF(Summary!$B$30:$B$1029,INDIRECT($A$14&ROW())),\"\"),\"\")","v":""}]
[{"$f":"IFERROR(IF(INDIRECT($A$14&ROW())<>\"\",COUNTIF(Summary!$B$30:$B$1029,INDIRECT($A$14&ROW())),\"\"),\"\")","v":""}]
[{"$f":"IFERROR(IF(INDIRECT($A$14&ROW())<>\"\",COUNTIF(Summary!$B$30:$B$1029,INDIRECT($A$14&ROW())),\"\"),\"\")","v":""}]
[{"$f":"IFERROR(IF(INDIRECT($A$14&ROW())<>\"\",COUNTIF(Summary!$B$30:$B$1029,INDIRECT($A$14&ROW())),\"\"),\"\")","v":""}]
[{"$f":"IFERROR(IF(INDIRECT($A$14&ROW())<>\"\",COUNTIF(Summary!$B$30:$B$1029,INDIRECT($A$14&ROW())),\"\"),\"\")","v":""}]
[{"$f":"IFERROR(IF(INDIRECT($A$14&ROW())<>\"\",COUNTIF(Summary!$B$30:$B$1029,INDIRECT($A$14&ROW())),\"\"),\"\")","v":""}]
[{"$f":"IFERROR(IF(INDIRECT($A$14&ROW())<>\"\",COUNTIF(Summary!$B$30:$B$1029,INDIRECT($A$14&ROW())),\"\"),\"\")","v":""}]
[{"$f":"IFERROR(IF(INDIRECT($A$14&ROW())<>\"\",COUNTIF(Summary!$B$30:$B$1029,INDIRECT($A$14&ROW())),\"\"),\"\")","v":""}]
[{"$f":"IFERROR(IF(INDIRECT($A$14&ROW())<>\"\",COUNTIF(Summary!$B$30:$B$1029,INDIRECT($A$14&ROW())),\"\"),\"\")","v":""}]
[{"$f":"IFERROR(IF(INDIRECT($A$14&ROW())<>\"\",COUNTIF(Summary!$B$30:$B$1029,INDIRECT($A$14&ROW())),\"\"),\"\")","v":""}]
[{"$f":"IFERROR(IF(INDIRECT($A$14&ROW())<>\"\",COUNTIF(Summary!$B$30:$B$1029,INDIRECT($A$14&ROW())),\"\"),\"\")","v":""}]
[{"$f":"IFERROR(IF(INDIRECT($A$14&ROW())<>\"\",COUNTIF(Summary!$B$30:$B$1029,INDIRECT($A$14&ROW())),\"\"),\"\")","v":""}]
[{"$f":"IFERROR(IF(INDIRECT($A$14&ROW())<>\"\",COUNTIF(Summary!$B$30:$B$1029,INDIRECT($A$14&ROW())),\"\"),\"\")","v":""}]
[{"$f":"IFERROR(IF(INDIRECT($A$14&ROW())<>\"\",COUNTIF(Summary!$B$30:$B$1029,INDIRECT($A$14&ROW())),\"\"),\"\")","v":""}]
[{"$f":"IFERROR(IF(INDIRECT($A$14&ROW())<>\"\",COUNTIF(Summary!$B$30:$B$1029,INDIRECT($A$14&ROW())),\"\"),\"\")","v":""}]
[{"$f":"IFERROR(IF(INDIRECT($A$14&ROW())<>\"\",COUNTIF(Summary!$B$30:$B$1029,INDIRECT($A$14&ROW())),\"\"),\"\")","v":""}]
[{"$f":"IFERROR(IF(INDIRECT($A$14&ROW())<>\"\",COUNTIF(Summary!$B$30:$B$1029,INDIRECT($A$14&ROW())),\"\"),\"\")","v":""}]
[{"$f":"IFERROR(IF(INDIRECT($A$14&ROW())<>\"\",COUNTIF(Summary!$B$30:$B$1029,INDIRECT($A$14&ROW())),\"\"),\"\")","v":""}]
[{"$f":"IFERROR(IF(INDIRECT($A$14&ROW())<>\"\",COUNTIF(Summary!$B$30:$B$1029,INDIRECT($A$14&ROW())),\"\"),\"\")","v":""}]
[{"$f":"IFERROR(IF(INDIRECT($A$14&ROW())<>\"\",COUNTIF(Summary!$B$30:$B$1029,INDIRECT($A$14&ROW())),\"\"),\"\")","v":""}]
[{"$f":"IFERROR(IF(INDIRECT($A$14&ROW())<>\"\",COUNTIF(Summary!$B$30:$B$1029,INDIRECT($A$14&ROW())),\"\"),\"\")","v":""}]
[{"$f":"IFERROR(IF(INDIRECT($A$14&ROW())<>\"\",COUNTIF(Summary!$B$30:$B$1029,INDIRECT($A$14&ROW())),\"\"),\"\")","v":""}]
[{"$f":"IFERROR(IF(INDIRECT($A$14&ROW())<>\"\",COUNTIF(Summary!$B$30:$B$1029,INDIRECT($A$14&ROW())),\"\"),\"\")","v":""}]
[{"$f":"IFERROR(IF(INDIRECT($A$14&ROW())<>\"\",COUNTIF(Summary!$B$30:$B$1029,INDIRECT($A$14&ROW())),\"\"),\"\")","v":""}]
[{"$f":"IFERROR(IF(INDIRECT($A$14&ROW())<>\"\",COUNTIF(Summary!$B$30:$B$1029,INDIRECT($A$14&ROW())),\"\"),\"\")","v":""}]
[{"$f":"IFERROR(IF(INDIRECT($A$14&ROW())<>\"\",COUNTIF(Summary!$B$30:$B$1029,INDIRECT($A$14&ROW())),\"\"),\"\")","v":""}]
[{"$f":"IFERROR(IF(INDIRECT($A$14&ROW())<>\"\",COUNTIF(Summary!$B$30:$B$1029,INDIRECT($A$14&ROW())),\"\"),\"\")","v":""}]
[{"$f":"IFERROR(IF(INDIRECT($A$14&ROW())<>\"\",COUNTIF(Summary!$B$30:$B$1029,INDIRECT($A$14&ROW())),\"\"),\"\")","v":""}]
[{"$f":"IFERROR(IF(INDIRECT($A$14&ROW())<>\"\",COUNTIF(Summary!$B$30:$B$1029,INDIRECT($A$14&ROW())),\"\"),\"\")","v":""}]
[{"$f":"IFERROR(IF(INDIRECT($A$14&ROW())<>\"\",COUNTIF(Summary!$B$30:$B$1029,INDIRECT($A$14&ROW())),\"\"),\"\")","v":""}]
[{"$f":"IFERROR(IF(INDIRECT($A$14&ROW())<>\"\",COUNTIF(Summary!$B$30:$B$1029,INDIRECT($A$14&ROW())),\"\"),\"\")","v":""}]
[{"$f":"IFERROR(IF(INDIRECT($A$14&ROW())<>\"\",COUNTIF(Summary!$B$30:$B$1029,INDIRECT($A$14&ROW())),\"\"),\"\")","v":""}]
[{"$f":"IFERROR(IF(INDIRECT($A$14&ROW())<>\"\",COUNTIF(Summary!$B$30:$B$1029,INDIRECT($A$14&ROW())),\"\"),\"\")","v":""}]
[{"$f":"IFERROR(IF(INDIRECT($A$14&ROW())<>\"\",COUNTIF(Summary!$B$30:$B$1029,INDIRECT($A$14&ROW())),\"\"),\"\")","v":""}]
[{"$f":"IFERROR(IF(INDIRECT($A$14&ROW())<>\"\",COUNTIF(Summary!$B$30:$B$1029,INDIRECT($A$14&ROW())),\"\"),\"\")","v":""}]
[{"$f":"IFERROR(IF(INDIRECT($A$14&ROW())<>\"\",COUNTIF(Summary!$B$30:$B$1029,INDIRECT($A$14&ROW())),\"\"),\"\")","v":""}]
[{"$f":"IFERROR(IF(INDIRECT($A$14&ROW())<>\"\",COUNTIF(Summary!$B$30:$B$1029,INDIRECT($A$14&ROW())),\"\"),\"\")","v":""}]
[{"$f":"IFERROR(IF(INDIRECT($A$14&ROW())<>\"\",COUNTIF(Summary!$B$30:$B$1029,INDIRECT($A$14&ROW())),\"\"),\"\")","v":""}]
[{"$f":"IFERROR(IF(INDIRECT($A$14&ROW())<>\"\",COUNTIF(Summary!$B$30:$B$1029,INDIRECT($A$14&ROW())),\"\"),\"\")","v":""}]
[{"$f":"IFERROR(IF(INDIRECT($A$14&ROW())<>\"\",COUNTIF(Summary!$B$30:$B$1029,INDIRECT($A$14&ROW())),\"\"),\"\")","v":""}]
[{"$f":"IFERROR(IF(INDIRECT($A$14&ROW())<>\"\",COUNTIF(Summary!$B$30:$B$1029,INDIRECT($A$14&ROW())),\"\"),\"\")","v":""}]
[{"$f":"IFERROR(IF(INDIRECT($A$14&ROW())<>\"\",COUNTIF(Summary!$B$30:$B$1029,INDIRECT($A$14&ROW())),\"\"),\"\")","v":""}]
[{"$f":"IFERROR(IF(INDIRECT($A$14&ROW())<>\"\",COUNTIF(Summary!$B$30:$B$1029,INDIRECT($A$14&ROW())),\"\"),\"\")","v":""}]
[{"$f":"IFERROR(IF(INDIRECT($A$14&ROW())<>\"\",COUNTIF(Summary!$B$30:$B$1029,INDIRECT($A$14&ROW())),\"\"),\"\")","v":""}]
[{"$f":"IFERROR(IF(INDIRECT($A$14&ROW())<>\"\",COUNTIF(Summary!$B$30:$B$1029,INDIRECT($A$14&ROW())),\"\"),\"\")","v":""}]
[{"$f":"IFERROR(IF(INDIRECT($A$14&ROW())<>\"\",COUNTIF(Summary!$B$30:$B$1029,INDIRECT($A$14&ROW())),\"\"),\"\")","v":""}]
[{"$f":"IFERROR(IF(INDIRECT($A$14&ROW())<>\"\",COUNTIF(Summary!$B$30:$B$1029,INDIRECT($A$14&ROW())),\"\"),\"\")","v":""}]
[{"$f":"IFERROR(IF(INDIRECT($A$14&ROW())<>\"\",COUNTIF(Summary!$B$30:$B$1029,INDIRECT($A$14&ROW())),\"\"),\"\")","v":""}]
[{"$f":"IFERROR(IF(INDIRECT($A$14&ROW())<>\"\",COUNTIF(Summary!$B$30:$B$1029,INDIRECT($A$14&ROW())),\"\"),\"\")","v":""}]
[{"$f":"IFERROR(IF(INDIRECT($A$14&ROW())<>\"\",COUNTIF(Summary!$B$30:$B$1029,INDIRECT($A$14&ROW())),\"\"),\"\")","v":""}]
[{"$f":"IFERROR(IF(INDIRECT($A$14&ROW())<>\"\",COUNTIF(Summary!$B$30:$B$1029,INDIRECT($A$14&ROW())),\"\"),\"\")","v":""}]
[{"$f":"IFERROR(IF(INDIRECT($A$14&ROW())<>\"\",COUNTIF(Summary!$B$30:$B$1029,INDIRECT($A$14&ROW())),\"\"),\"\")","v":""}]
[{"$f":"IFERROR(IF(INDIRECT($A$14&ROW())<>\"\",COUNTIF(Summary!$B$30:$B$1029,INDIRECT($A$14&ROW())),\"\"),\"\")","v":""}]
[{"$f":"IFERROR(IF(INDIRECT($A$14&ROW())<>\"\",COUNTIF(Summary!$B$30:$B$1029,INDIRECT($A$14&ROW())),\"\"),\"\")","v":""}]
[{"$f":"IFERROR(IF(INDIRECT($A$14&ROW())<>\"\",COUNTIF(Summary!$B$30:$B$1029,INDIRECT($A$14&ROW())),\"\"),\"\")","v":""}]
[{"$f":"IFERROR(IF(INDIRECT($A$14&ROW())<>\"\",COUNTIF(Summary!$B$30:$B$1029,INDIRECT($A$14&ROW())),\"\"),\"\")","v":""}]
[{"$f":"IFERROR(IF(INDIRECT($A$14&ROW())<>\"\",COUNTIF(Summary!$B$30:$B$1029,INDIRECT($A$14&ROW())),\"\"),\"\")","v":""}]
[{"$f":"IFERROR(IF(INDIRECT($A$14&ROW())<>\"\",COUNTIF(Summary!$B$30:$B$1029,INDIRECT($A$14&ROW())),\"\"),\"\")","v":""}]
[{"$f":"IFERROR(IF(INDIRECT($A$14&ROW())<>\"\",COUNTIF(Summary!$B$30:$B$1029,INDIRECT($A$14&ROW())),\"\"),\"\")","v":""}]
[{"$f":"IFERROR(IF(INDIRECT($A$14&ROW())<>\"\",COUNTIF(Summary!$B$30:$B$1029,INDIRECT($A$14&ROW())),\"\"),\"\")","v":""}]
[{"$f":"IFERROR(IF(INDIRECT($A$14&ROW())<>\"\",COUNTIF(Summary!$B$30:$B$1029,INDIRECT($A$14&ROW())),\"\"),\"\")","v":""}]
[{"$f":"IFERROR(IF(INDIRECT($A$14&ROW())<>\"\",COUNTIF(Summary!$B$30:$B$1029,INDIRECT($A$14&ROW())),\"\"),\"\")","v":""}]
[{"$f":"IFERROR(IF(INDIRECT($A$14&ROW())<>\"\",COUNTIF(Summary!$B$30:$B$1029,INDIRECT($A$14&ROW())),\"\"),\"\")","v":""}]
[{"$f":"IFERROR(IF(INDIRECT($A$14&ROW())<>\"\",COUNTIF(Summary!$B$30:$B$1029,INDIRECT($A$14&ROW())),\"\"),\"\")","v":""}]
[{"$f":"IFERROR(IF(INDIRECT($A$14&ROW())<>\"\",COUNTIF(Summary!$B$30:$B$1029,INDIRECT($A$14&ROW())),\"\"),\"\")","v":""}]
[{"$f":"IFERROR(IF(INDIRECT($A$14&ROW())<>\"\",COUNTIF(Summary!$B$30:$B$1029,INDIRECT($A$14&ROW())),\"\"),\"\")","v":""}]
[{"$f":"IFERROR(IF(INDIRECT($A$14&ROW())<>\"\",COUNTIF(Summary!$B$30:$B$1029,INDIRECT($A$14&ROW())),\"\"),\"\")","v":""}]
[{"$f":"IFERROR(IF(INDIRECT($A$14&ROW())<>\"\",COUNTIF(Summary!$B$30:$B$1029,INDIRECT($A$14&ROW())),\"\"),\"\")","v":""}]
[{"$f":"IFERROR(IF(INDIRECT($A$14&ROW())<>\"\",COUNTIF(Summary!$B$30:$B$1029,INDIRECT($A$14&ROW())),\"\"),\"\")","v":""}]
[{"$f":"IFERROR(IF(INDIRECT($A$14&ROW())<>\"\",COUNTIF(Summary!$B$30:$B$1029,INDIRECT($A$14&ROW())),\"\"),\"\")","v":""}]
[{"$f":"IFERROR(IF(INDIRECT($A$14&ROW())<>\"\",COUNTIF(Summary!$B$30:$B$1029,INDIRECT($A$14&ROW())),\"\"),\"\")","v":""}]
[{"$f":"IFERROR(IF(INDIRECT($A$14&ROW())<>\"\",COUNTIF(Summary!$B$30:$B$1029,INDIRECT($A$14&ROW())),\"\"),\"\")","v":""}]
[{"$f":"IFERROR(IF(INDIRECT($A$14&ROW())<>\"\",COUNTIF(Summary!$B$30:$B$1029,INDIRECT($A$14&ROW())),\"\"),\"\")","v":""}]
[{"$f":"IFERROR(IF(INDIRECT($A$14&ROW())<>\"\",COUNTIF(Summary!$B$30:$B$1029,INDIRECT($A$14&ROW())),\"\"),\"\")","v":""}]
[{"$f":"IFERROR(IF(INDIRECT($A$14&ROW())<>\"\",COUNTIF(Summary!$B$30:$B$1029,INDIRECT($A$14&ROW())),\"\"),\"\")","v":""}]
[{"$f":"IFERROR(IF(INDIRECT($A$14&ROW())<>\"\",COUNTIF(Summary!$B$30:$B$1029,INDIRECT($A$14&ROW())),\"\"),\"\")","v":""}]
[{"$f":"IFERROR(IF(INDIRECT($A$14&ROW())<>\"\",COUNTIF(Summary!$B$30:$B$1029,INDIRECT($A$14&ROW())),\"\"),\"\")","v":""}]
[{"$f":"IFERROR(IF(INDIRECT($A$14&ROW())<>\"\",COUNTIF(Summary!$B$30:$B$1029,INDIRECT($A$14&ROW())),\"\"),\"\")","v":""}]
[{"$f":"IFERROR(IF(INDIRECT($A$14&ROW())<>\"\",COUNTIF(Summary!$B$30:$B$1029,INDIRECT($A$14&ROW())),\"\"),\"\")","v":""}]
[{"$f":"IFERROR(IF(INDIRECT($A$14&ROW())<>\"\",COUNTIF(Summary!$B$30:$B$1029,INDIRECT($A$14&ROW())),\"\"),\"\")","v":""}]
[{"$f":"IFERROR(IF(INDIRECT($A$14&ROW())<>\"\",COUNTIF(Summary!$B$30:$B$1029,INDIRECT($A$14&ROW())),\"\"),\"\")","v":""}]
[{"$f":"IFERROR(IF(INDIRECT($A$14&ROW())<>\"\",COUNTIF(Summary!$B$30:$B$1029,INDIRECT($A$14&ROW())),\"\"),\"\")","v":""}]
[{"$f":"IFERROR(IF(INDIRECT($A$14&ROW())<>\"\",COUNTIF(Summary!$B$30:$B$1029,INDIRECT($A$14&ROW())),\"\"),\"\")","v":""}]
[{"$f":"IFERROR(IF(INDIRECT($A$14&ROW())<>\"\",COUNTIF(Summary!$B$30:$B$1029,INDIRECT($A$14&ROW())),\"\"),\"\")","v":""}]
[{"$f":"IFERROR(IF(INDIRECT($A$14&ROW())<>\"\",COUNTIF(Summary!$B$30:$B$1029,INDIRECT($A$14&ROW())),\"\"),\"\")","v":""}]
[{"$f":"IFERROR(IF(INDIRECT($A$14&ROW())<>\"\",COUNTIF(Summary!$B$30:$B$1029,INDIRECT($A$14&ROW())),\"\"),\"\")","v":""}]
[{"$f":"IFERROR(IF(INDIRECT($A$14&ROW())<>\"\",COUNTIF(Summary!$B$30:$B$1029,INDIRECT($A$14&ROW())),\"\"),\"\")","v":""}]
[{"$f":"IFERROR(IF(INDIRECT($A$14&ROW())<>\"\",COUNTIF(Summary!$B$30:$B$1029,INDIRECT($A$14&ROW())),\"\"),\"\")","v":""}]
[{"$f":"IFERROR(IF(INDIRECT($A$14&ROW())<>\"\",COUNTIF(Summary!$B$30:$B$1029,INDIRECT($A$14&ROW())),\"\"),\"\")","v":""}]
[{"$f":"IFERROR(IF(INDIRECT($A$14&ROW())<>\"\",COUNTIF(Summary!$B$30:$B$1029,INDIRECT($A$14&ROW())),\"\"),\"\")","v":""}]
[{"$f":"IFERROR(IF(INDIRECT($A$14&ROW())<>\"\",COUNTIF(Summary!$B$30:$B$1029,INDIRECT($A$14&ROW())),\"\"),\"\")","v":""}]
[{"$f":"IFERROR(IF(INDIRECT($A$14&ROW())<>\"\",COUNTIF(Summary!$B$30:$B$1029,INDIRECT($A$14&ROW())),\"\"),\"\")","v":""}]
[{"$f":"IFERROR(IF(INDIRECT($A$14&ROW())<>\"\",COUNTIF(Summary!$B$30:$B$1029,INDIRECT($A$14&ROW())),\"\"),\"\")","v":""}]
[{"$f":"IFERROR(IF(INDIRECT($A$14&ROW())<>\"\",COUNTIF(Summary!$B$30:$B$1029,INDIRECT($A$14&ROW())),\"\"),\"\")","v":""}]
[{"$f":"IFERROR(IF(INDIRECT($A$14&ROW())<>\"\",COUNTIF(Summary!$B$30:$B$1029,INDIRECT($A$14&ROW())),\"\"),\"\")","v":""}]
[{"$f":"IFERROR(IF(INDIRECT($A$14&ROW())<>\"\",COUNTIF(Summary!$B$30:$B$1029,INDIRECT($A$14&ROW())),\"\"),\"\")","v":""}]
[{"$f":"IFERROR(IF(INDIRECT($A$14&ROW())<>\"\",COUNTIF(Summary!$B$30:$B$1029,INDIRECT($A$14&ROW())),\"\"),\"\")","v":""}]
[{"$f":"IFERROR(IF(INDIRECT($A$14&ROW())<>\"\",COUNTIF(Summary!$B$30:$B$1029,INDIRECT($A$14&ROW())),\"\"),\"\")","v":""}]
[{"$f":"IFERROR(IF(INDIRECT($A$14&ROW())<>\"\",COUNTIF(Summary!$B$30:$B$1029,INDIRECT($A$14&ROW())),\"\"),\"\")","v":""}]
[{"$f":"IFERROR(IF(INDIRECT($A$14&ROW())<>\"\",COUNTIF(Summary!$B$30:$B$1029,INDIRECT($A$14&ROW())),\"\"),\"\")","v":""}]
[{"$f":"IFERROR(IF(INDIRECT($A$14&ROW())<>\"\",COUNTIF(Summary!$B$30:$B$1029,INDIRECT($A$14&ROW())),\"\"),\"\")","v":""}]
[{"$f":"IFERROR(IF(INDIRECT($A$14&ROW())<>\"\",COUNTIF(Summary!$B$30:$B$1029,INDIRECT($A$14&ROW())),\"\"),\"\")","v":""}]
[{"$f":"IFERROR(IF(INDIRECT($A$14&ROW())<>\"\",COUNTIF(Summary!$B$30:$B$1029,INDIRECT($A$14&ROW())),\"\"),\"\")","v":""}]
[{"$f":"IFERROR(IF(INDIRECT($A$14&ROW())<>\"\",COUNTIF(Summary!$B$30:$B$1029,INDIRECT($A$14&ROW())),\"\"),\"\")","v":""}]
[{"$f":"IFERROR(IF(INDIRECT($A$14&ROW())<>\"\",COUNTIF(Summary!$B$30:$B$1029,INDIRECT($A$14&ROW())),\"\"),\"\")","v":""}]
[{"$f":"IFERROR(IF(INDIRECT($A$14&ROW())<>\"\",COUNTIF(Summary!$B$30:$B$1029,INDIRECT($A$14&ROW())),\"\"),\"\")","v":""}]
[{"$f":"IFERROR(IF(INDIRECT($A$14&ROW())<>\"\",COUNTIF(Summary!$B$30:$B$1029,INDIRECT($A$14&ROW())),\"\"),\"\")","v":""}]
[{"$f":"IFERROR(IF(INDIRECT($A$14&ROW())<>\"\",COUNTIF(Summary!$B$30:$B$1029,INDIRECT($A$14&ROW())),\"\"),\"\")","v":""}]
[{"$f":"IFERROR(IF(INDIRECT($A$14&ROW())<>\"\",COUNTIF(Summary!$B$30:$B$1029,INDIRECT($A$14&ROW())),\"\"),\"\")","v":""}]
[{"$f":"IFERROR(IF(INDIRECT($A$14&ROW())<>\"\",COUNTIF(Summary!$B$30:$B$1029,INDIRECT($A$14&ROW())),\"\"),\"\")","v":""}]
[{"$f":"IFERROR(IF(INDIRECT($A$14&ROW())<>\"\",COUNTIF(Summary!$B$30:$B$1029,INDIRECT($A$14&ROW())),\"\"),\"\")","v":""}]
[{"$f":"IFERROR(IF(INDIRECT($A$14&ROW())<>\"\",COUNTIF(Summary!$B$30:$B$1029,INDIRECT($A$14&ROW())),\"\"),\"\")","v":""}]
[{"$f":"IFERROR(IF(INDIRECT($A$14&ROW())<>\"\",COUNTIF(Summary!$B$30:$B$1029,INDIRECT($A$14&ROW())),\"\"),\"\")","v":""}]
[{"$f":"IFERROR(IF(INDIRECT($A$14&ROW())<>\"\",COUNTIF(Summary!$B$30:$B$1029,INDIRECT($A$14&ROW())),\"\"),\"\")","v":""}]
[{"$f":"IFERROR(IF(INDIRECT($A$14&ROW())<>\"\",COUNTIF(Summary!$B$30:$B$1029,INDIRECT($A$14&ROW())),\"\"),\"\")","v":""}]
[{"$f":"IFERROR(IF(INDIRECT($A$14&ROW())<>\"\",COUNTIF(Summary!$B$30:$B$1029,INDIRECT($A$14&ROW())),\"\"),\"\")","v":""}]
[{"$f":"IFERROR(IF(INDIRECT($A$14&ROW())<>\"\",COUNTIF(Summary!$B$30:$B$1029,INDIRECT($A$14&ROW())),\"\"),\"\")","v":""}]
[{"$f":"IFERROR(IF(INDIRECT($A$14&ROW())<>\"\",COUNTIF(Summary!$B$30:$B$1029,INDIRECT($A$14&ROW())),\"\"),\"\")","v":""}]
[{"$f":"IFERROR(IF(INDIRECT($A$14&ROW())<>\"\",COUNTIF(Summary!$B$30:$B$1029,INDIRECT($A$14&ROW())),\"\"),\"\")","v":""}]
[{"$f":"IFERROR(IF(INDIRECT($A$14&ROW())<>\"\",COUNTIF(Summary!$B$30:$B$1029,INDIRECT($A$14&ROW())),\"\"),\"\")","v":""}]
[{"$f":"IFERROR(IF(INDIRECT($A$14&ROW())<>\"\",COUNTIF(Summary!$B$30:$B$1029,INDIRECT($A$14&ROW())),\"\"),\"\")","v":""}]
[{"$f":"IFERROR(IF(INDIRECT($A$14&ROW())<>\"\",COUNTIF(Summary!$B$30:$B$1029,INDIRECT($A$14&ROW())),\"\"),\"\")","v":""}]
[{"$f":"IFERROR(IF(INDIRECT($A$14&ROW())<>\"\",COUNTIF(Summary!$B$30:$B$1029,INDIRECT($A$14&ROW())),\"\"),\"\")","v":""}]
[{"$f":"IFERROR(IF(INDIRECT($A$14&ROW())<>\"\",COUNTIF(Summary!$B$30:$B$1029,INDIRECT($A$14&ROW())),\"\"),\"\")","v":""}]
[{"$f":"IFERROR(IF(INDIRECT($A$14&ROW())<>\"\",COUNTIF(Summary!$B$30:$B$1029,INDIRECT($A$14&ROW())),\"\"),\"\")","v":""}]
[{"$f":"IFERROR(IF(INDIRECT($A$14&ROW())<>\"\",COUNTIF(Summary!$B$30:$B$1029,INDIRECT($A$14&ROW())),\"\"),\"\")","v":""}]
[{"$f":"IFERROR(IF(INDIRECT($A$14&ROW())<>\"\",COUNTIF(Summary!$B$30:$B$1029,INDIRECT($A$14&ROW())),\"\"),\"\")","v":""}]
[{"$f":"IFERROR(IF(INDIRECT($A$14&ROW())<>\"\",COUNTIF(Summary!$B$30:$B$1029,INDIRECT($A$14&ROW())),\"\"),\"\")","v":""}]
[{"$f":"IFERROR(IF(INDIRECT($A$14&ROW())<>\"\",COUNTIF(Summary!$B$30:$B$1029,INDIRECT($A$14&ROW())),\"\"),\"\")","v":""}]
[{"$f":"IFERROR(IF(INDIRECT($A$14&ROW())<>\"\",COUNTIF(Summary!$B$30:$B$1029,INDIRECT($A$14&ROW())),\"\"),\"\")","v":""}]
[{"$f":"IFERROR(IF(INDIRECT($A$14&ROW())<>\"\",COUNTIF(Summary!$B$30:$B$1029,INDIRECT($A$14&ROW())),\"\"),\"\")","v":""}]
[{"$f":"IFERROR(IF(INDIRECT($A$14&ROW())<>\"\",COUNTIF(Summary!$B$30:$B$1029,INDIRECT($A$14&ROW())),\"\"),\"\")","v":""}]
[{"$f":"IFERROR(IF(INDIRECT($A$14&ROW())<>\"\",COUNTIF(Summary!$B$30:$B$1029,INDIRECT($A$14&ROW())),\"\"),\"\")","v":""}]
[{"$f":"IFERROR(IF(INDIRECT($A$14&ROW())<>\"\",COUNTIF(Summary!$B$30:$B$1029,INDIRECT($A$14&ROW())),\"\"),\"\")","v":""}]
[{"$f":"IFERROR(IF(INDIRECT($A$14&ROW())<>\"\",COUNTIF(Summary!$B$30:$B$1029,INDIRECT($A$14&ROW())),\"\"),\"\")","v":""}]
[{"$f":"IFERROR(IF(INDIRECT($A$14&ROW())<>\"\",COUNTIF(Summary!$B$30:$B$1029,INDIRECT($A$14&ROW())),\"\"),\"\")","v":""}]
[{"$f":"IFERROR(IF(INDIRECT($A$14&ROW())<>\"\",COUNTIF(Summary!$B$30:$B$1029,INDIRECT($A$14&ROW())),\"\"),\"\")","v":""}]
[{"$f":"IFERROR(IF(INDIRECT($A$14&ROW())<>\"\",COUNTIF(Summary!$B$30:$B$1029,INDIRECT($A$14&ROW())),\"\"),\"\")","v":""}]
[{"$f":"IFERROR(IF(INDIRECT($A$14&ROW())<>\"\",COUNTIF(Summary!$B$30:$B$1029,INDIRECT($A$14&ROW())),\"\"),\"\")","v":""}]
[{"$f":"IFERROR(IF(INDIRECT($A$14&ROW())<>\"\",COUNTIF(Summary!$B$30:$B$1029,INDIRECT($A$14&ROW())),\"\"),\"\")","v":""}]
[{"$f":"IFERROR(IF(INDIRECT($A$14&ROW())<>\"\",COUNTIF(Summary!$B$30:$B$1029,INDIRECT($A$14&ROW())),\"\"),\"\")","v":""}]
[{"$f":"IFERROR(IF(INDIRECT($A$14&ROW())<>\"\",COUNTIF(Summary!$B$30:$B$1029,INDIRECT($A$14&ROW())),\"\"),\"\")","v":""}]
[{"$f":"IFERROR(IF(INDIRECT($A$14&ROW())<>\"\",COUNTIF(Summary!$B$30:$B$1029,INDIRECT($A$14&ROW())),\"\"),\"\")","v":""}]
[{"$f":"IFERROR(IF(INDIRECT($A$14&ROW())<>\"\",COUNTIF(Summary!$B$30:$B$1029,INDIRECT($A$14&ROW())),\"\"),\"\")","v":""}]
[{"$f":"IFERROR(IF(INDIRECT($A$14&ROW())<>\"\",COUNTIF(Summary!$B$30:$B$1029,INDIRECT($A$14&ROW())),\"\"),\"\")","v":""}]
[{"$f":"IFERROR(IF(INDIRECT($A$14&ROW())<>\"\",COUNTIF(Summary!$B$30:$B$1029,INDIRECT($A$14&ROW())),\"\"),\"\")","v":""}]
[{"$f":"IFERROR(IF(INDIRECT($A$14&ROW())<>\"\",COUNTIF(Summary!$B$30:$B$1029,INDIRECT($A$14&ROW())),\"\"),\"\")","v":""}]
[{"$f":"IFERROR(IF(INDIRECT($A$14&ROW())<>\"\",COUNTIF(Summary!$B$30:$B$1029,INDIRECT($A$14&ROW())),\"\"),\"\")","v":""}]
[{"$f":"IFERROR(IF(INDIRECT($A$14&ROW())<>\"\",COUNTIF(Summary!$B$30:$B$1029,INDIRECT($A$14&ROW())),\"\"),\"\")","v":""}]
[{"$f":"IFERROR(IF(INDIRECT($A$14&ROW())<>\"\",COUNTIF(Summary!$B$30:$B$1029,INDIRECT($A$14&ROW())),\"\"),\"\")","v":""}]
[{"$f":"IFERROR(IF(INDIRECT($A$14&ROW())<>\"\",COUNTIF(Summary!$B$30:$B$1029,INDIRECT($A$14&ROW())),\"\"),\"\")","v":""}]
[{"$f":"IFERROR(IF(INDIRECT($A$14&ROW())<>\"\",COUNTIF(Summary!$B$30:$B$1029,INDIRECT($A$14&ROW())),\"\"),\"\")","v":""}]
[{"$f":"IFERROR(IF(INDIRECT($A$14&ROW())<>\"\",COUNTIF(Summary!$B$30:$B$1029,INDIRECT($A$14&ROW())),\"\"),\"\")","v":""}]
[{"$f":"IFERROR(IF(INDIRECT($A$14&ROW())<>\"\",COUNTIF(Summary!$B$30:$B$1029,INDIRECT($A$14&ROW())),\"\"),\"\")","v":""}]
[{"$f":"IFERROR(IF(INDIRECT($A$14&ROW())<>\"\",COUNTIF(Summary!$B$30:$B$1029,INDIRECT($A$14&ROW())),\"\"),\"\")","v":""}]
[{"$f":"IFERROR(IF(INDIRECT($A$14&ROW())<>\"\",COUNTIF(Summary!$B$30:$B$1029,INDIRECT($A$14&ROW())),\"\"),\"\")","v":""}]
[{"$f":"IFERROR(IF(INDIRECT($A$14&ROW())<>\"\",COUNTIF(Summary!$B$30:$B$1029,INDIRECT($A$14&ROW())),\"\"),\"\")","v":""}]
[{"$f":"IFERROR(IF(INDIRECT($A$14&ROW())<>\"\",COUNTIF(Summary!$B$30:$B$1029,INDIRECT($A$14&ROW())),\"\"),\"\")","v":""}]
[{"$f":"IFERROR(IF(INDIRECT($A$14&ROW())<>\"\",COUNTIF(Summary!$B$30:$B$1029,INDIRECT($A$14&ROW())),\"\"),\"\")","v":""}]
[{"$f":"IFERROR(IF(INDIRECT($A$14&ROW())<>\"\",COUNTIF(Summary!$B$30:$B$1029,INDIRECT($A$14&ROW())),\"\"),\"\")","v":""}]
[{"$f":"IFERROR(IF(INDIRECT($A$14&ROW())<>\"\",COUNTIF(Summary!$B$30:$B$1029,INDIRECT($A$14&ROW())),\"\"),\"\")","v":""}]
[{"$f":"IFERROR(IF(INDIRECT($A$14&ROW())<>\"\",COUNTIF(Summary!$B$30:$B$1029,INDIRECT($A$14&ROW())),\"\"),\"\")","v":""}]
[{"$f":"IFERROR(IF(INDIRECT($A$14&ROW())<>\"\",COUNTIF(Summary!$B$30:$B$1029,INDIRECT($A$14&ROW())),\"\"),\"\")","v":""}]
[{"$f":"IFERROR(IF(INDIRECT($A$14&ROW())<>\"\",COUNTIF(Summary!$B$30:$B$1029,INDIRECT($A$14&ROW())),\"\"),\"\")","v":""}]
[{"$f":"IFERROR(IF(INDIRECT($A$14&ROW())<>\"\",COUNTIF(Summary!$B$30:$B$1029,INDIRECT($A$14&ROW())),\"\"),\"\")","v":""}]
[{"$f":"IFERROR(IF(INDIRECT($A$14&ROW())<>\"\",COUNTIF(Summary!$B$30:$B$1029,INDIRECT($A$14&ROW())),\"\"),\"\")","v":""}]
[{"$f":"IFERROR(IF(INDIRECT($A$14&ROW())<>\"\",COUNTIF(Summary!$B$30:$B$1029,INDIRECT($A$14&ROW())),\"\"),\"\")","v":""}]
[{"$f":"IFERROR(IF(INDIRECT($A$14&ROW())<>\"\",COUNTIF(Summary!$B$30:$B$1029,INDIRECT($A$14&ROW())),\"\"),\"\")","v":""}]
[{"$f":"IFERROR(IF(INDIRECT($A$14&ROW())<>\"\",COUNTIF(Summary!$B$30:$B$1029,INDIRECT($A$14&ROW())),\"\"),\"\")","v":""}]
[{"$f":"IFERROR(IF(INDIRECT($A$14&ROW())<>\"\",COUNTIF(Summary!$B$30:$B$1029,INDIRECT($A$14&ROW())),\"\"),\"\")","v":""}]
[{"$f":"IFERROR(IF(INDIRECT($A$14&ROW())<>\"\",COUNTIF(Summary!$B$30:$B$1029,INDIRECT($A$14&ROW())),\"\"),\"\")","v":""}]
[{"$f":"IFERROR(IF(INDIRECT($A$14&ROW())<>\"\",COUNTIF(Summary!$B$30:$B$1029,INDIRECT($A$14&ROW())),\"\"),\"\")","v":""}]
[{"$f":"IFERROR(IF(INDIRECT($A$14&ROW())<>\"\",COUNTIF(Summary!$B$30:$B$1029,INDIRECT($A$14&ROW())),\"\"),\"\")","v":""}]
[{"$f":"IFERROR(IF(INDIRECT($A$14&ROW())<>\"\",COUNTIF(Summary!$B$30:$B$1029,INDIRECT($A$14&ROW())),\"\"),\"\")","v":""}]
[{"$f":"IFERROR(IF(INDIRECT($A$14&ROW())<>\"\",COUNTIF(Summary!$B$30:$B$1029,INDIRECT($A$14&ROW())),\"\"),\"\")","v":""}]
[{"$f":"IFERROR(IF(INDIRECT($A$14&ROW())<>\"\",COUNTIF(Summary!$B$30:$B$1029,INDIRECT($A$14&ROW())),\"\"),\"\")","v":""}]
[{"$f":"IFERROR(IF(INDIRECT($A$14&ROW())<>\"\",COUNTIF(Summary!$B$30:$B$1029,INDIRECT($A$14&ROW())),\"\"),\"\")","v":""}]
[{"$f":"IFERROR(IF(INDIRECT($A$14&ROW())<>\"\",COUNTIF(Summary!$B$30:$B$1029,INDIRECT($A$14&ROW())),\"\"),\"\")","v":""}]
[{"$f":"IFERROR(IF(INDIRECT($A$14&ROW())<>\"\",COUNTIF(Summary!$B$30:$B$1029,INDIRECT($A$14&ROW())),\"\"),\"\")","v":""}]
[{"$f":"IFERROR(IF(INDIRECT($A$14&ROW())<>\"\",COUNTIF(Summary!$B$30:$B$1029,INDIRECT($A$14&ROW())),\"\"),\"\")","v":""}]
[{"$f":"IFERROR(IF(INDIRECT($A$14&ROW())<>\"\",COUNTIF(Summary!$B$30:$B$1029,INDIRECT($A$14&ROW())),\"\"),\"\")","v":""}]
[{"$f":"IFERROR(IF(INDIRECT($A$14&ROW())<>\"\",COUNTIF(Summary!$B$30:$B$1029,INDIRECT($A$14&ROW())),\"\"),\"\")","v":""}]
[{"$f":"IFERROR(IF(INDIRECT($A$14&ROW())<>\"\",COUNTIF(Summary!$B$30:$B$1029,INDIRECT($A$14&ROW())),\"\"),\"\")","v":""}]
[{"$f":"IFERROR(IF(INDIRECT($A$14&ROW())<>\"\",COUNTIF(Summary!$B$30:$B$1029,INDIRECT($A$14&ROW())),\"\"),\"\")","v":""}]
[{"$f":"IFERROR(IF(INDIRECT($A$14&ROW())<>\"\",COUNTIF(Summary!$B$30:$B$1029,INDIRECT($A$14&ROW())),\"\"),\"\")","v":""}]
[{"$f":"IFERROR(IF(INDIRECT($A$14&ROW())<>\"\",COUNTIF(Summary!$B$30:$B$1029,INDIRECT($A$14&ROW())),\"\"),\"\")","v":""}]
[{"$f":"IFERROR(IF(INDIRECT($A$14&ROW())<>\"\",COUNTIF(Summary!$B$30:$B$1029,INDIRECT($A$14&ROW())),\"\"),\"\")","v":""}]
[{"$f":"IFERROR(IF(INDIRECT($A$14&ROW())<>\"\",COUNTIF(Summary!$B$30:$B$1029,INDIRECT($A$14&ROW())),\"\"),\"\")","v":""}]
[{"$f":"IFERROR(IF(INDIRECT($A$14&ROW())<>\"\",COUNTIF(Summary!$B$30:$B$1029,INDIRECT($A$14&ROW())),\"\"),\"\")","v":""}]
[{"$f":"IFERROR(IF(INDIRECT($A$14&ROW())<>\"\",COUNTIF(Summary!$B$30:$B$1029,INDIRECT($A$14&ROW())),\"\"),\"\")","v":""}]
[{"$f":"IFERROR(IF(INDIRECT($A$14&ROW())<>\"\",COUNTIF(Summary!$B$30:$B$1029,INDIRECT($A$14&ROW())),\"\"),\"\")","v":""}]
[{"$f":"IFERROR(IF(INDIRECT($A$14&ROW())<>\"\",COUNTIF(Summary!$B$30:$B$1029,INDIRECT($A$14&ROW())),\"\"),\"\")","v":""}]
[{"$f":"IFERROR(IF(INDIRECT($A$14&ROW())<>\"\",COUNTIF(Summary!$B$30:$B$1029,INDIRECT($A$14&ROW())),\"\"),\"\")","v":""}]
[{"$f":"IFERROR(IF(INDIRECT($A$14&ROW())<>\"\",COUNTIF(Summary!$B$30:$B$1029,INDIRECT($A$14&ROW())),\"\"),\"\")","v":""}]
[{"$f":"IFERROR(IF(INDIRECT($A$14&ROW())<>\"\",COUNTIF(Summary!$B$30:$B$1029,INDIRECT($A$14&ROW())),\"\"),\"\")","v":""}]
[{"$f":"IFERROR(IF(INDIRECT($A$14&ROW())<>\"\",COUNTIF(Summary!$B$30:$B$1029,INDIRECT($A$14&ROW())),\"\"),\"\")","v":""}]
[{"$f":"IFERROR(IF(INDIRECT($A$14&ROW())<>\"\",COUNTIF(Summary!$B$30:$B$1029,INDIRECT($A$14&ROW())),\"\"),\"\")","v":""}]
[{"$f":"IFERROR(IF(INDIRECT($A$14&ROW())<>\"\",COUNTIF(Summary!$B$30:$B$1029,INDIRECT($A$14&ROW())),\"\"),\"\")","v":""}]
[{"$f":"IFERROR(IF(INDIRECT($A$14&ROW())<>\"\",COUNTIF(Summary!$B$30:$B$1029,INDIRECT($A$14&ROW())),\"\"),\"\")","v":""}]
[{"$f":"IFERROR(IF(INDIRECT($A$14&ROW())<>\"\",COUNTIF(Summary!$B$30:$B$1029,INDIRECT($A$14&ROW())),\"\"),\"\")","v":""}]
[{"$f":"IFERROR(IF(INDIRECT($A$14&ROW())<>\"\",COUNTIF(Summary!$B$30:$B$1029,INDIRECT($A$14&ROW())),\"\"),\"\")","v":""}]
[{"$f":"IFERROR(IF(INDIRECT($A$14&ROW())<>\"\",COUNTIF(Summary!$B$30:$B$1029,INDIRECT($A$14&ROW())),\"\"),\"\")","v":""}]
[{"$f":"IFERROR(IF(INDIRECT($A$14&ROW())<>\"\",COUNTIF(Summary!$B$30:$B$1029,INDIRECT($A$14&ROW())),\"\"),\"\")","v":""}]
[{"$f":"IFERROR(IF(INDIRECT($A$14&ROW())<>\"\",COUNTIF(Summary!$B$30:$B$1029,INDIRECT($A$14&ROW())),\"\"),\"\")","v":""}]
[{"$f":"IFERROR(IF(INDIRECT($A$14&ROW())<>\"\",COUNTIF(Summary!$B$30:$B$1029,INDIRECT($A$14&ROW())),\"\"),\"\")","v":""}]
[{"$f":"IFERROR(IF(INDIRECT($A$14&ROW())<>\"\",COUNTIF(Summary!$B$30:$B$1029,INDIRECT($A$14&ROW())),\"\"),\"\")","v":""}]
[{"$f":"IFERROR(IF(INDIRECT($A$14&ROW())<>\"\",COUNTIF(Summary!$B$30:$B$1029,INDIRECT($A$14&ROW())),\"\"),\"\")","v":""}]
[{"$f":"IFERROR(IF(INDIRECT($A$14&ROW())<>\"\",COUNTIF(Summary!$B$30:$B$1029,INDIRECT($A$14&ROW())),\"\"),\"\")","v":""}]
[{"$f":"IFERROR(IF(INDIRECT($A$14&ROW())<>\"\",COUNTIF(Summary!$B$30:$B$1029,INDIRECT($A$14&ROW())),\"\"),\"\")","v":""}]
[{"$f":"IFERROR(IF(INDIRECT($A$14&ROW())<>\"\",COUNTIF(Summary!$B$30:$B$1029,INDIRECT($A$14&ROW())),\"\"),\"\")","v":""}]
[{"$f":"IFERROR(IF(INDIRECT($A$14&ROW())<>\"\",COUNTIF(Summary!$B$30:$B$1029,INDIRECT($A$14&ROW())),\"\"),\"\")","v":""}]
[{"$f":"IFERROR(IF(INDIRECT($A$14&ROW())<>\"\",COUNTIF(Summary!$B$30:$B$1029,INDIRECT($A$14&ROW())),\"\"),\"\")","v":""}]
[{"$f":"IFERROR(IF(INDIRECT($A$14&ROW())<>\"\",COUNTIF(Summary!$B$30:$B$1029,INDIRECT($A$14&ROW())),\"\"),\"\")","v":""}]
[{"$f":"IFERROR(IF(INDIRECT($A$14&ROW())<>\"\",COUNTIF(Summary!$B$30:$B$1029,INDIRECT($A$14&ROW())),\"\"),\"\")","v":""}]
[{"$f":"IFERROR(IF(INDIRECT($A$14&ROW())<>\"\",COUNTIF(Summary!$B$30:$B$1029,INDIRECT($A$14&ROW())),\"\"),\"\")","v":""}]
[{"$f":"IFERROR(IF(INDIRECT($A$14&ROW())<>\"\",COUNTIF(Summary!$B$30:$B$1029,INDIRECT($A$14&ROW())),\"\"),\"\")","v":""}]
[{"$f":"IFERROR(IF(INDIRECT($A$14&ROW())<>\"\",COUNTIF(Summary!$B$30:$B$1029,INDIRECT($A$14&ROW())),\"\"),\"\")","v":""}]
[{"$f":"IFERROR(IF(INDIRECT($A$14&ROW())<>\"\",COUNTIF(Summary!$B$30:$B$1029,INDIRECT($A$14&ROW())),\"\"),\"\")","v":""}]
[{"$f":"IFERROR(IF(INDIRECT($A$14&ROW())<>\"\",COUNTIF(Summary!$B$30:$B$1029,INDIRECT($A$14&ROW())),\"\"),\"\")","v":""}]
[{"$f":"IFERROR(IF(INDIRECT($A$14&ROW())<>\"\",COUNTIF(Summary!$B$30:$B$1029,INDIRECT($A$14&ROW())),\"\"),\"\")","v":""}]
[{"$f":"IFERROR(IF(INDIRECT($A$14&ROW())<>\"\",COUNTIF(Summary!$B$30:$B$1029,INDIRECT($A$14&ROW())),\"\"),\"\")","v":""}]
[{"$f":"IFERROR(IF(INDIRECT($A$14&ROW())<>\"\",COUNTIF(Summary!$B$30:$B$1029,INDIRECT($A$14&ROW())),\"\"),\"\")","v":""}]
[{"$f":"IFERROR(IF(INDIRECT($A$14&ROW())<>\"\",COUNTIF(Summary!$B$30:$B$1029,INDIRECT($A$14&ROW())),\"\"),\"\")","v":""}]
[{"$f":"IFERROR(IF(INDIRECT($A$14&ROW())<>\"\",COUNTIF(Summary!$B$30:$B$1029,INDIRECT($A$14&ROW())),\"\"),\"\")","v":""}]
[{"$f":"IFERROR(IF(INDIRECT($A$14&ROW())<>\"\",COUNTIF(Summary!$B$30:$B$1029,INDIRECT($A$14&ROW())),\"\"),\"\")","v":""}]
[{"$f":"IFERROR(IF(INDIRECT($A$14&ROW())<>\"\",COUNTIF(Summary!$B$30:$B$1029,INDIRECT($A$14&ROW())),\"\"),\"\")","v":""}]
[{"$f":"IFERROR(IF(INDIRECT($A$14&ROW())<>\"\",COUNTIF(Summary!$B$30:$B$1029,INDIRECT($A$14&ROW())),\"\"),\"\")","v":""}]
[{"$f":"IFERROR(IF(INDIRECT($A$14&ROW())<>\"\",COUNTIF(Summary!$B$30:$B$1029,INDIRECT($A$14&ROW())),\"\"),\"\")","v":""}]
[{"$f":"IFERROR(IF(INDIRECT($A$14&ROW())<>\"\",COUNTIF(Summary!$B$30:$B$1029,INDIRECT($A$14&ROW())),\"\"),\"\")","v":""}]
[{"$f":"IFERROR(IF(INDIRECT($A$14&ROW())<>\"\",COUNTIF(Summary!$B$30:$B$1029,INDIRECT($A$14&ROW())),\"\"),\"\")","v":""}]
[{"$f":"IFERROR(IF(INDIRECT($A$14&ROW())<>\"\",COUNTIF(Summary!$B$30:$B$1029,INDIRECT($A$14&ROW())),\"\"),\"\")","v":""}]
[{"$f":"IFERROR(IF(INDIRECT($A$14&ROW())<>\"\",COUNTIF(Summary!$B$30:$B$1029,INDIRECT($A$14&ROW())),\"\"),\"\")","v":""}]
[{"$f":"IFERROR(IF(INDIRECT($A$14&ROW())<>\"\",COUNTIF(Summary!$B$30:$B$1029,INDIRECT($A$14&ROW())),\"\"),\"\")","v":""}]
[{"$f":"IFERROR(IF(INDIRECT($A$14&ROW())<>\"\",COUNTIF(Summary!$B$30:$B$1029,INDIRECT($A$14&ROW())),\"\"),\"\")","v":""}]
[{"$f":"IFERROR(IF(INDIRECT($A$14&ROW())<>\"\",COUNTIF(Summary!$B$30:$B$1029,INDIRECT($A$14&ROW())),\"\"),\"\")","v":""}]
[{"$f":"IFERROR(IF(INDIRECT($A$14&ROW())<>\"\",COUNTIF(Summary!$B$30:$B$1029,INDIRECT($A$14&ROW())),\"\"),\"\")","v":""}]
[{"$f":"IFERROR(IF(INDIRECT($A$14&ROW())<>\"\",COUNTIF(Summary!$B$30:$B$1029,INDIRECT($A$14&ROW())),\"\"),\"\")","v":""}]
[{"$f":"IFERROR(IF(INDIRECT($A$14&ROW())<>\"\",COUNTIF(Summary!$B$30:$B$1029,INDIRECT($A$14&ROW())),\"\"),\"\")","v":""}]
[{"$f":"IFERROR(IF(INDIRECT($A$14&ROW())<>\"\",COUNTIF(Summary!$B$30:$B$1029,INDIRECT($A$14&ROW())),\"\"),\"\")","v":""}]
[{"$f":"IFERROR(IF(INDIRECT($A$14&ROW())<>\"\",COUNTIF(Summary!$B$30:$B$1029,INDIRECT($A$14&ROW())),\"\"),\"\")","v":""}]
[{"$f":"IFERROR(IF(INDIRECT($A$14&ROW())<>\"\",COUNTIF(Summary!$B$30:$B$1029,INDIRECT($A$14&ROW())),\"\"),\"\")","v":""}]
[{"$f":"IFERROR(IF(INDIRECT($A$14&ROW())<>\"\",COUNTIF(Summary!$B$30:$B$1029,INDIRECT($A$14&ROW())),\"\"),\"\")","v":""}]
[{"$f":"IFERROR(IF(INDIRECT($A$14&ROW())<>\"\",COUNTIF(Summary!$B$30:$B$1029,INDIRECT($A$14&ROW())),\"\"),\"\")","v":""}]
[{"$f":"IFERROR(IF(INDIRECT($A$14&ROW())<>\"\",COUNTIF(Summary!$B$30:$B$1029,INDIRECT($A$14&ROW())),\"\"),\"\")","v":""}]
[{"$f":"IFERROR(IF(INDIRECT($A$14&ROW())<>\"\",COUNTIF(Summary!$B$30:$B$1029,INDIRECT($A$14&ROW())),\"\"),\"\")","v":""}]
[{"$f":"IFERROR(IF(INDIRECT($A$14&ROW())<>\"\",COUNTIF(Summary!$B$30:$B$1029,INDIRECT($A$14&ROW())),\"\"),\"\")","v":""}]
[{"$f":"IFERROR(IF(INDIRECT($A$14&ROW())<>\"\",COUNTIF(Summary!$B$30:$B$1029,INDIRECT($A$14&ROW())),\"\"),\"\")","v":""}]
[{"$f":"IFERROR(IF(INDIRECT($A$14&ROW())<>\"\",COUNTIF(Summary!$B$30:$B$1029,INDIRECT($A$14&ROW())),\"\"),\"\")","v":""}]
[{"$f":"IFERROR(IF(INDIRECT($A$14&ROW())<>\"\",COUNTIF(Summary!$B$30:$B$1029,INDIRECT($A$14&ROW())),\"\"),\"\")","v":""}]
[{"$f":"IFERROR(IF(INDIRECT($A$14&ROW())<>\"\",COUNTIF(Summary!$B$30:$B$1029,INDIRECT($A$14&ROW())),\"\"),\"\")","v":""}]
[{"$f":"IFERROR(IF(INDIRECT($A$14&ROW())<>\"\",COUNTIF(Summary!$B$30:$B$1029,INDIRECT($A$14&ROW())),\"\"),\"\")","v":""}]
[{"$f":"IFERROR(IF(INDIRECT($A$14&ROW())<>\"\",COUNTIF(Summary!$B$30:$B$1029,INDIRECT($A$14&ROW())),\"\"),\"\")","v":""}]
[{"$f":"IFERROR(IF(INDIRECT($A$14&ROW())<>\"\",COUNTIF(Summary!$B$30:$B$1029,INDIRECT($A$14&ROW())),\"\"),\"\")","v":""}]
[{"$f":"IFERROR(IF(INDIRECT($A$14&ROW())<>\"\",COUNTIF(Summary!$B$30:$B$1029,INDIRECT($A$14&ROW())),\"\"),\"\")","v":""}]
[{"$f":"IFERROR(IF(INDIRECT($A$14&ROW())<>\"\",COUNTIF(Summary!$B$30:$B$1029,INDIRECT($A$14&ROW())),\"\"),\"\")","v":""}]
[{"$f":"IFERROR(IF(INDIRECT($A$14&ROW())<>\"\",COUNTIF(Summary!$B$30:$B$1029,INDIRECT($A$14&ROW())),\"\"),\"\")","v":""}]
[{"$f":"IFERROR(IF(INDIRECT($A$14&ROW())<>\"\",COUNTIF(Summary!$B$30:$B$1029,INDIRECT($A$14&ROW())),\"\"),\"\")","v":""}]
[{"$f":"IFERROR(IF(INDIRECT($A$14&ROW())<>\"\",COUNTIF(Summary!$B$30:$B$1029,INDIRECT($A$14&ROW())),\"\"),\"\")","v":""}]
[{"$f":"IFERROR(IF(INDIRECT($A$14&ROW())<>\"\",COUNTIF(Summary!$B$30:$B$1029,INDIRECT($A$14&ROW())),\"\"),\"\")","v":""}]
[{"$f":"IFERROR(IF(INDIRECT($A$14&ROW())<>\"\",COUNTIF(Summary!$B$30:$B$1029,INDIRECT($A$14&ROW())),\"\"),\"\")","v":""}]
[{"$f":"IFERROR(IF(INDIRECT($A$14&ROW())<>\"\",COUNTIF(Summary!$B$30:$B$1029,INDIRECT($A$14&ROW())),\"\"),\"\")","v":""}]
[{"$f":"IFERROR(IF(INDIRECT($A$14&ROW())<>\"\",COUNTIF(Summary!$B$30:$B$1029,INDIRECT($A$14&ROW())),\"\"),\"\")","v":""}]
[{"$f":"IFERROR(IF(INDIRECT($A$14&ROW())<>\"\",COUNTIF(Summary!$B$30:$B$1029,INDIRECT($A$14&ROW())),\"\"),\"\")","v":""}]
[{"$f":"IFERROR(IF(INDIRECT($A$14&ROW())<>\"\",COUNTIF(Summary!$B$30:$B$1029,INDIRECT($A$14&ROW())),\"\"),\"\")","v":""}]
[{"$f":"IFERROR(IF(INDIRECT($A$14&ROW())<>\"\",COUNTIF(Summary!$B$30:$B$1029,INDIRECT($A$14&ROW())),\"\"),\"\")","v":""}]
[{"$f":"IFERROR(IF(INDIRECT($A$14&ROW())<>\"\",COUNTIF(Summary!$B$30:$B$1029,INDIRECT($A$14&ROW())),\"\"),\"\")","v":""}]
[{"$f":"IFERROR(IF(INDIRECT($A$14&ROW())<>\"\",COUNTIF(Summary!$B$30:$B$1029,INDIRECT($A$14&ROW())),\"\"),\"\")","v":""}]
[{"$f":"IFERROR(IF(INDIRECT($A$14&ROW())<>\"\",COUNTIF(Summary!$B$30:$B$1029,INDIRECT($A$14&ROW())),\"\"),\"\")","v":""}]
[{"$f":"IFERROR(IF(INDIRECT($A$14&ROW())<>\"\",COUNTIF(Summary!$B$30:$B$1029,INDIRECT($A$14&ROW())),\"\"),\"\")","v":""}]
[{"$f":"IFERROR(IF(INDIRECT($A$14&ROW())<>\"\",COUNTIF(Summary!$B$30:$B$1029,INDIRECT($A$14&ROW())),\"\"),\"\")","v":""}]
[{"$f":"IFERROR(IF(INDIRECT($A$14&ROW())<>\"\",COUNTIF(Summary!$B$30:$B$1029,INDIRECT($A$14&ROW())),\"\"),\"\")","v":""}]
[{"$f":"IFERROR(IF(INDIRECT($A$14&ROW())<>\"\",COUNTIF(Summary!$B$30:$B$1029,INDIRECT($A$14&ROW())),\"\"),\"\")","v":""}]
[{"$f":"IFERROR(IF(INDIRECT($A$14&ROW())<>\"\",COUNTIF(Summary!$B$30:$B$1029,INDIRECT($A$14&ROW())),\"\"),\"\")","v":""}]
[{"$f":"IFERROR(IF(INDIRECT($A$14&ROW())<>\"\",COUNTIF(Summary!$B$30:$B$1029,INDIRECT($A$14&ROW())),\"\"),\"\")","v":""}]
[{"$f":"IFERROR(IF(INDIRECT($A$14&ROW())<>\"\",COUNTIF(Summary!$B$30:$B$1029,INDIRECT($A$14&ROW())),\"\"),\"\")","v":""}]
[{"$f":"IFERROR(IF(INDIRECT($A$14&ROW())<>\"\",COUNTIF(Summary!$B$30:$B$1029,INDIRECT($A$14&ROW())),\"\"),\"\")","v":""}]
[{"$f":"IFERROR(IF(INDIRECT($A$14&ROW())<>\"\",COUNTIF(Summary!$B$30:$B$1029,INDIRECT($A$14&ROW())),\"\"),\"\")","v":""}]
[{"$f":"IFERROR(IF(INDIRECT($A$14&ROW())<>\"\",COUNTIF(Summary!$B$30:$B$1029,INDIRECT($A$14&ROW())),\"\"),\"\")","v":""}]
[{"$f":"IFERROR(IF(INDIRECT($A$14&ROW())<>\"\",COUNTIF(Summary!$B$30:$B$1029,INDIRECT($A$14&ROW())),\"\"),\"\")","v":""}]
[{"$f":"IFERROR(IF(INDIRECT($A$14&ROW())<>\"\",COUNTIF(Summary!$B$30:$B$1029,INDIRECT($A$14&ROW())),\"\"),\"\")","v":""}]
[{"$f":"IFERROR(IF(INDIRECT($A$14&ROW())<>\"\",COUNTIF(Summary!$B$30:$B$1029,INDIRECT($A$14&ROW())),\"\"),\"\")","v":""}]
[{"$f":"IFERROR(IF(INDIRECT($A$14&ROW())<>\"\",COUNTIF(Summary!$B$30:$B$1029,INDIRECT($A$14&ROW())),\"\"),\"\")","v":""}]
[{"$f":"IFERROR(IF(INDIRECT($A$14&ROW())<>\"\",COUNTIF(Summary!$B$30:$B$1029,INDIRECT($A$14&ROW())),\"\"),\"\")","v":""}]
[{"$f":"IFERROR(IF(INDIRECT($A$14&ROW())<>\"\",COUNTIF(Summary!$B$30:$B$1029,INDIRECT($A$14&ROW())),\"\"),\"\")","v":""}]
[{"$f":"IFERROR(IF(INDIRECT($A$14&ROW())<>\"\",COUNTIF(Summary!$B$30:$B$1029,INDIRECT($A$14&ROW())),\"\"),\"\")","v":""}]
[{"$f":"IFERROR(IF(INDIRECT($A$14&ROW())<>\"\",COUNTIF(Summary!$B$30:$B$1029,INDIRECT($A$14&ROW())),\"\"),\"\")","v":""}]
[{"$f":"IFERROR(IF(INDIRECT($A$14&ROW())<>\"\",COUNTIF(Summary!$B$30:$B$1029,INDIRECT($A$14&ROW())),\"\"),\"\")","v":""}]
[]
[null,"Copyright © 2013 by Oracle Symphony Sdn Bhd"]

{"sheet":"K-LUNCH & K DINNER","index":2,"n_rows":56,"n_cols":10,"rows_kept":56,"cut":false,"hidden":false,"merged":[[55,0,55,2],[5,8,5,9],[0,0,0,4]]}
["MONTHLY SALES FOOD RECORD ( K LUNCH & K DINNER)"]
[]
["Outlet :","CCS OUTLET"]
["Month :","2013-04-01"]
[]
[null,null,null,"K-LUNCH & K DINNER","TOTAL COST ",null,null,null,"USAGE"]
["NO","MENU ITEM","Cost","Sales",null,null,null,"MATERIAL  USED","PORTION","TOTAL"]
[null,null,"RM","Q","RM",null,null,"Q","Q","Q"]
[]
[1,"DH01 91101:THAI CHK",3.29,{"$f":"VLOOKUP(B10,Summary!$B$30:$AK$376,5,FALSE)","v":14},{"$f":"+D10*C10","v":46.06},null,null,"CHICKEN CHOP (MARINATED)",0.66,{"$f":"+I10*D10","v":9.24}]
[{"$f":"+A10+1","v":2},"DH02 91102:MAMITE CHK",3.02,{"$f":"VLOOKUP(B11,Summary!$B$30:$AK$376,5,FALSE)","v":17},{"$f":"+D11*C11","v":51.34},null,null,"CHICKEN CHOP (MARINATED)",0.66,11.22]
[{"$f":"+A11+1","v":3},"DH03 91103:KO PO CHK",3.45,{"$f":"VLOOKUP(B12,Summary!$B$30:$AK$376,5,FALSE)","v":0},0,null,null,"CHICKEN CHOP (MARINATED)",0.66,0]
[4,"DH04 91104:S&S CHK",3.45,{"$f":"VLOOKUP(B13,Summary!$B$30:$AK$376,5,FALSE)","v":6},20.700000000000003,null,null,"CHICKEN CHOP (MARINATED)",0.66,3.96]
[5,"DH05 91105:BUTTER CHK",3.32,{"$f":"VLOOKUP(B14,Summary!$B$30:$AK$376,5,FALSE)","v":31},102.92,null,null,"CHICKEN CHOP (MARINATED)",0.66,20.46]
[6,"DH06 91106:HK F.RICE",3.16,{"$f":"VLOOKUP(B15,Summary!$B$30:$AK$376,5,FALSE)","v":15},47.400000000000006,null,null,null,null,0]
[7,"DH07 91107:SBL F.RICE",2.41,{"$f":"+Summary!F148","v":2},4.82,null,null,null,null,0]
[8,"DH08 91108:SBL F.MEE",2.8,{"$f":"VLOOKUP(B17,Summary!$B$30:$AK$376,5,FALSE)","v":2},5.6,null,null,null,null,0]
[9,"DH09 91109:BP UDON",2.08,{"$f":"VLOOKUP(B18,Summary!$B$30:$AK$376,5,FALSE)","v":3},6.24,null,null,null,null,0]
[10,"DH10 91110:NISSIN",2.3199999999999998,{"$f":"VLOOKUP(B19,Summary!$B$30:$AK$376,5,FALSE)","v":2},4.6399999999999997,null,null,"CHICKEN SAUSAGE ",1.5,3]
[11,"DH11 91111:VEG RICE",1.6,{"$f":"VLOOKUP(B20,Summary!$B$30:$AK$376,5,FALSE)","v":2},3.2,null,null,null,null,0]
[12,"DH12 91112:NASI LEMAK",3.56,{"$f":"VLOOKUP(B21,Summary!$B$30:$AK$376,5,FALSE)","v":0},0,null,null,"CHICKEN WINGS (NON -MARINATED)",1,0]
[13,"DH13 91113:KUEY TEOW",3.16,{"$f":"VLOOKUP(B22,Summary!$B$30:$AK$376,5,FALSE)","v":0},0,null,null,null,null,0]
[14,"DH14 91114:F.BALL MEE",2.59,{"$f":"VLOOKUP(B23,Summary!$B$30:$AK$376,5,FALSE)","v":0},0,null,null,"FISH BALL (SMALL)",5,0]
[15,"DH15 91115:CHK NOODLE",4.71,{"$f":"VLOOKUP(B24,Summary!$B$30:$AK$376,5,FALSE)","v":6},28.259999999999998,null,null,"CHICKEN CHOP (MARINATED)",1,6]
[16,"DH16 91116:MGL CHK",3.54,{"$f":"VLOOKUP(B25,Summary!$B$30:$AK$376,5,FALSE)","v":4},14.16,null,null,"CHICKEN CHOP (MARINATED)",0.66,{"$f":"+I25*D25","v":2.64}]
[{"$f":"+A25+1","v":17},"DG01 91001:BP CHK CP",4.41,{"$f":"VLOOKUP(B26,Summary!$B$30:$AK$376,5,FALSE)","v":50},{"$f":"+D26*C26","v":220.5},null,null,"CHICKEN CHOP (MARINATED)",1,50]
[{"$f":"+A26+1","v":18},"DG02 91002:GVY CHK CP",4.43,{"$f":"VLOOKUP(B27,Summary!$B$30:$AK$376,5,FALSE)","v":16},70.88,null,null,"CHICKEN CHOP (MARINATED)",1,16]
[19,"DG03 91003:MSR CHK CP",4.75,{"$f":"VLOOKUP(B28,Summary!$B$30:$AK$376,5,FALSE)","v":52},247,null,null,"CHICKEN CHOP (MARINATED)",1,52]
[20,"DG04 91004:CKN MARY",5.98,{"$f":"VLOOKUP(B29,Summary!$B$30:$AK$376,5,FALSE)","v":42},251.16000000000003,null,null,"CHICKEN CHOP (MARINATED)",1,42]
[21,"DG05 91005:FISH&CHIP",4.29,{"$f":"VLOOKUP(B30,Summary!$B$30:$AK$376,5,FALSE)","v":41},175.89000000000001,null,null,"DORY FISH FILLET ",1,41]
[22,"DG06 91006:SPAGHETTI",2.1,{"$f":"VLOOKUP(B31,Summary!$B$30:$AK$376,5,FALSE)","v":22},46.2]
[23,"DG07 91007:CHK SALAD",4.9400000000000004,{"$f":"VLOOKUP(B32,Summary!$B$30:$AK$376,5,FALSE)","v":10},49.400000000000006,null,null,"CHICKEN CHOP (MARINATED)",1,{"$f":"+I32*D32","v":10}]
[24,"DI01 91201:SFD STICK",2,{"$f":"VLOOKUP(B33,Summary!$B$30:$AK$376,5,FALSE)","v":3},6,null,null,"SOTONG BALL",2,{"$f":"+I33*$D$33","v":6}]
[null,null,null,null,null,null,null,"SALMON BALL",2,{"$f":"+I34*$D$33","v":6}]
[null,null,null,null,null,null,null,"SEAFOOD TOFU ",2,{"$f":"+I35*$D$33","v":6}]
[25,"DI02 91202:FREN FRIES",1.76,{"$f":"VLOOKUP(B36,Summary!$B$30:$AK$376,5,FALSE)","v":6},10.56,null,null,null,null,{"$f":"+I36*D36","v":0}]
[26,"DI03 91203:GOLD MROOM",2.15,{"$f":"VLOOKUP(B37,Summary!$B$30:$AK$376,5,FALSE)","v":0},0,null,null,null,null,0]
[27,"DI04 91204:FISHBALL",1.56,{"$f":"VLOOKUP(B38,Summary!$B$30:$AK$376,5,FALSE)","v":1},1.56,null,null,"FISH BALL (BIG)",6,6]
[28,"DI05 91205:RAINBOW RL",2.5,{"$f":"VLOOKUP(B39,Summary!$B$30:$AK$376,5,FALSE)","v":0},0,null,null,"RAINBOW ROLL",1,0]
[29,"DI06 91206:SPRING RL",2.67,{"$f":"VLOOKUP(B40,Summary!$B$30:$AK$376,5,FALSE)","v":0},0,null,null,"SPRING ROLL",8,0]
[30,"DI07 91207:SAUSAGE",1.24,{"$f":"VLOOKUP(B41,Summary!$B$30:$AK$376,5,FALSE)","v":2},2.48,null,null,"CHICKEN SAUSAGE ",4,8]
[31,"DI08 91208:HOTDOG BUN",null,{"$f":"VLOOKUP(B42,Summary!$B$30:$AK$376,5,FALSE)","v":0},0,null,null,"HOTDOG",null,0]
[32,"DI09 91209:SFD TOFU",null,{"$f":"VLOOKUP(B43,Summary!$B$30:$AK$376,5,FALSE)","v":0},0,null,null,"SEAFOOD TOFU ",null,0]
[24,"DI10 91301:DUMPLING",4.5,{"$f":"VLOOKUP(B44,Summary!$B$30:$AK$376,5,FALSE)","v":0},0,null,null,"DUMPLING ",6,0]
[25,"DI11 91302:NUGGET",2.4300000000000002,{"$f":"VLOOKUP(B45,Summary!$B$30:$AK$376,5,FALSE)","v":6},14.580000000000002,null,null,"CHICKEN NUGGET",8,48]
[26,"DI12 91303:CHK WING",3.97,{"$f":"VLOOKUP(B46,Summary!$B$30:$AK$376,5,FALSE)","v":9},35.730000000000004,null,null,"CHICKEN WING  (MARINATED)",3,27]
[27,"DI13 91304:IKAN BILIS",2.1800000000000002,{"$f":"VLOOKUP(B47,Summary!$B$30:$AK$376,5,FALSE)","v":1},2.1800000000000002,null,null,null,null,0]
[28,"DI14 91305:THAI RL",3.61,{"$f":"VLOOKUP(B48,Summary!$B$30:$AK$376,5,FALSE)","v":2},7.22,null,null,"THAI ROLL",7,14]
[29,"DI15 91306:SLVR FISH",null,{"$f":"VLOOKUP(B49,Summary!$B$30:$AK$376,5,FALSE)","v":0},0,null,null,null,null,0]
[30,"DI16 91307:D/F C.WING",4.3099999999999996,{"$f":"VLOOKUP(B50,Summary!$B$30:$AK$376,5,FALSE)","v":5},21.549999999999997,null,null,"CHICKEN WING  (MARINATED)",3,15]
[31,"DI17 91308:C/CALAMARI",3.69,{"$f":"VLOOKUP(B51,Summary!$B$30:$AK$376,5,FALSE)","v":2},7.38,null,null,"CALAMARI RING",7,14]
[32,"DI18 91309:Mc O.RINGS",1.72,{"$f":"VLOOKUP(B52,Summary!$B$30:$AK$376,5,FALSE)","v":0},0,null,null,"MCCAIN ONION RING",8,0]
[33,"DI19 91310:McSPIRAL.F",1.72,{"$f":"VLOOKUP(B53,Summary!$B$30:$AK$376,5,FALSE)","v":3},5.16,null,null,null,null,0]
[34,"DI20 91311Mc H/SMILES",1.34,{"$f":"VLOOKUP(B54,Summary!$B$30:$AK$376,5,FALSE)","v":0},0,null,null,"MCCAIN SMILES",8,0]
[35,"DI21 91312:Mc HASH.B",0.59,{"$f":"VLOOKUP(B55,Summary!$B$30:$AK$376,5,FALSE)","v":0},0,null,null,null,null,0]
["Total Sales / COST",null,null,{"$f":"SUM(D10:D55)","v":377},{"$f":"SUM(E10:E55)","v":1510.7700000000004}]

{"sheet":"SIDE ORDER & FOC","index":3,"n_rows":118,"n_cols":19,"rows_kept":118,"cut":false,"hidden":false,"merged":[[0,0,0,12],[123,3,123,4],[123,6,123,7],[123,8,123,9],[7,11,7,12],[123,11,123,12],[6,3,6,4],[6,6,6,7],[6,8,6,9],[57,3,57,4],[57,6,57,7],[57,8,57,9],[58,3,58,4],[58,6,58,7],[58,8,58,9],[58,11,58,12],[7,16,7,18],[123,13,123,14],[161,0,161,2],[166,9,166,11],[124,16,124,18],[7,13,7,14],[117,0,117,2],[7,3,7,4],[7,6,7,7],[7,8,7,9],[165,9,165,11],[58,13,58,14],[58,16,58,18]]}
["MONTHLY SALES FOOD RECORD ( SIDE ORDER & FOC )"]
[]
[{"$f":"+'K-LUNCH & K DINNER'!A3","v":"Outlet :"},{"$f":"+'K-LUNCH & K DINNER'!B3","v":"CCS OUTLET"}]
[{"$f":"+'K-LUNCH & K DINNER'!A4","v":"Month :"},{"$f":"+'K-LUNCH & K DINNER'!B4","v":"2013-04-01"}]
[]
["LOCAL DELIGHTS / WESTERN CRUISE / APPETIZER "]
[null,null,null,"(A)",null,null,"(B)",null,"(A) - (B)"]
[null,null,null,"SIDE ORDER                 (INCLUDING FOC)",null,null,"FOC",null,"SIDE ORDER                        (NETT SALES)",null,null,"SIDE ORDER                        (NETT COST)",null,"FOC (COST)",null,null,"USAGE"]
["NO","MENU ITEM","S/P","Sales","TOTAL",null,"Sales","TOTAL","Sales","TOTAL",null,"COST","TOTAL","COST","TOTAL",null,"MATERIAL ","RECIPE","TOTAL"]
[null,null,"RM","Q","RM",null,"Q","RM","Q","RM",null,"RM","RM","RM","RM",null,"Q","Q","Q"]
[1,"DF01 ADD RICE",1,{"$f":"VLOOKUP(B11,Summary!$B$30:$AK$376,5,FALSE)","v":0},{"$f":"D11*C11","v":0},null,{"$f":"+'DAILY FOC'!BO9","v":0},{"$f":"G11*C11","v":0},{"$f":"+D11-G11","v":0},{"$f":"+I11*C11","v":0},null,0.45,{"$f":"+L11*I11","v":0},{"$f":"+L11","v":0.45},{"$f":"+N11*G11","v":0}]
[{"$f":"+A11+1","v":2},"DF02 ADD F.EGG",1.5,{"$f":"VLOOKUP(B12,Summary!$B$30:$AK$376,5,FALSE)","v":0},{"$f":"D12*C12","v":0},null,{"$f":"+'DAILY FOC'!BO10","v":0},0,0,0,null,0.37,0,0.37,0]
[{"$f":"+A12+1","v":3},"DC01 1101:THAI CHK",9.9,{"$f":"VLOOKUP(B13,Summary!$B$30:$AK$376,5,FALSE)","v":8},79.2,null,{"$f":"+'DAILY FOC'!BO11","v":0},0,{"$f":"+D13-G13","v":8},{"$f":"+I13*C13","v":79.2},null,{"$f":"+'K-LUNCH & K DINNER'!C10","v":3.29},{"$f":"+L13*I13","v":26.32},{"$f":"+L13","v":3.29},{"$f":"+N13*G13","v":0},null,"CHICKEN CHOP (MARINATED)",0.66,{"$f":"+R13*D13","v":5.28}]
[4,"DC02 1102:MAMITE CHK",9.9,{"$f":"VLOOKUP(B14,Summary!$B$30:$AK$376,5,FALSE)","v":16},158.4,null,{"$f":"+'DAILY FOC'!BO12","v":0},0,16,158.4,null,{"$f":"+'K-LUNCH & K DINNER'!C11","v":3.02},48.32,{"$f":"+L14","v":3.02},0,null,"CHICKEN CHOP (MARINATED)",0.66,{"$f":"+R14*D14","v":10.56}]
[5,"DC03 1103:KO PO CHK",9.9,{"$f":"VLOOKUP(B15,Summary!$B$30:$AK$376,5,FALSE)","v":0},0,null,{"$f":"+'DAILY FOC'!BO13","v":0},0,0,0,null,{"$f":"+'K-LUNCH & K DINNER'!C12","v":3.45},0,3.45,0,null,"CHICKEN CHOP (MARINATED)",0.66,0]
[6,"DC04 1104:S&S CHK",9.9,{"$f":"VLOOKUP(B16,Summary!$B$30:$AK$376,5,FALSE)","v":5},49.5,null,{"$f":"+'DAILY FOC'!BO14","v":0},0,5,49.5,null,{"$f":"+'K-LUNCH & K DINNER'!C13","v":3.45},17.25,3.45,0,null,"CHICKEN CHOP (MARINATED)",0.66,3.3000000000000003]
[7,"DC05 1105:BUTTER CHK",9.9,{"$f":"VLOOKUP(B17,Summary!$B$30:$AK$376,5,FALSE)","v":23},227.70000000000002,null,{"$f":"+'DAILY FOC'!BO15","v":0},0,23,227.70000000000002,null,{"$f":"+'K-LUNCH & K DINNER'!C14","v":3.32},76.36,3.32,0,null,"CHICKEN CHOP (MARINATED)",0.66,15.180000000000001]
[8,"DC06 1106:HK F.RICE",9.9,{"$f":"VLOOKUP(B18,Summary!$B$30:$AK$376,5,FALSE)","v":13},128.70000000000002,null,{"$f":"+'DAILY FOC'!BO16","v":0},0,13,128.70000000000002,null,{"$f":"+'K-LUNCH & K DINNER'!C15","v":3.16},41.08,3.16,0]
[9,"DC07 1107:SBL F.RICE",9.9,{"$f":"VLOOKUP(B19,Summary!$B$30:$AK$376,5,FALSE)","v":2},19.8,null,{"$f":"+'DAILY FOC'!BO17","v":0},0,2,19.8,null,{"$f":"+'K-LUNCH & K DINNER'!C16","v":2.41},4.82,2.41,0]
[10,"DC08 1108:SBL F.MEE",9.9,{"$f":"VLOOKUP(B20,Summary!$B$30:$AK$376,5,FALSE)","v":2},19.8,null,{"$f":"+'DAILY FOC'!BO18","v":0},0,0,0,null,{"$f":"+'K-LUNCH & K DINNER'!C17","v":2.8},0,2.8,0]
[11,"DC09 1109:BP UDON",9.9,{"$f":"VLOOKUP(B21,Summary!$B$30:$AK$376,5,FALSE)","v":0},0,null,{"$f":"+'DAILY FOC'!BO19","v":0},0,0,0,null,{"$f":"+'K-LUNCH & K DINNER'!C18","v":2.08},0,2.08,0]
[12,"DC10 1110:NISSIN",9.9,{"$f":"VLOOKUP(B22,Summary!$B$30:$AK$376,5,FALSE)","v":7},69.3,null,{"$f":"+'DAILY FOC'!BO20","v":0},0,7,69.3,null,{"$f":"+'K-LUNCH & K DINNER'!C19","v":2.3199999999999998},16.239999999999998,2.3199999999999998,0,null,"CHICKEN SAUSAGE ",1.5,{"$f":"+R22*D22","v":10.5}]
[13,"DC11 1111:VEG RICE",9.9,{"$f":"VLOOKUP(B23,Summary!$B$30:$AK$376,5,FALSE)","v":0},0,null,{"$f":"+'DAILY FOC'!BO21","v":0},0,0,0,null,{"$f":"+'K-LUNCH & K DINNER'!C20","v":1.6},0,1.6,0,null,null,null,{"$f":"+R23*M23","v":0}]
[14,"DC12 1112:NASI LEMAK",9.9,{"$f":"VLOOKUP(B24,Summary!$B$30:$AK$376,5,FALSE)","v":0},0,null,{"$f":"+'DAILY FOC'!BO22","v":0},0,0,0,null,{"$f":"+'K-LUNCH & K DINNER'!C21","v":3.56},0,3.56,0,null,"CHICKEN WINGS (NON -MARINATED)",1,0]
[15,"DC13 1113:KUEY TEOW",9.9,{"$f":"VLOOKUP(B25,Summary!$B$30:$AK$376,5,FALSE)","v":0},0,null,{"$f":"+'DAILY FOC'!BO23","v":0},0,0,0,null,{"$f":"+'K-LUNCH & K DINNER'!C22","v":3.16},0,3.16,0]
[16,"DC14 1114:F.BALL MEE",9.9,{"$f":"VLOOKUP(B26,Summary!$B$30:$AK$376,5,FALSE)","v":0},0,null,{"$f":"+'DAILY FOC'!BO24","v":0},0,0,0,null,{"$f":"+'K-LUNCH & K DINNER'!C23","v":2.59},0,2.59,0,null,"FISH BALL (SMALL)",5,0]
[17,"DC15 1115:CHK NOODLE",9.9,{"$f":"VLOOKUP(B27,Summary!$B$30:$AK$376,5,FALSE)","v":3},29.700000000000003,null,{"$f":"+'DAILY FOC'!BO25","v":0},0,3,29.700000000000003,null,{"$f":"+'K-LUNCH & K DINNER'!C24","v":4.71},14.129999999999999,4.71,0,null,"CHICKEN CHOP (MARINATED)",1,3]
[18,"DC16 1116:MGL CHICKEN",9.9,{"$f":"VLOOKUP(B28,Summary!$B$30:$AK$376,5,FALSE)","v":8},79.2,null,{"$f":"+'DAILY FOC'!BO26","v":0},0,8,79.2,null,{"$f":"+'K-LUNCH & K DINNER'!C25","v":3.54},28.32,3.54,0,null,"CHICKEN CHOP (MARINATED)",0.66,5.28]
[19,"DB01 1001:BP CKN CP",12.9,{"$f":"VLOOKUP(B29,Summary!$B$30:$AK$376,5,FALSE)","v":12},154.80000000000001,null,{"$f":"+'DAILY FOC'!BO27","v":0},0,{"$f":"+D29-G29","v":12},{"$f":"+I29*C29","v":154.80000000000001},null,{"$f":"+'K-LUNCH & K DINNER'!C26","v":4.41},{"$f":"+L29*I29","v":52.92},4.41,{"$f":"+N29*G29","v":0},null,"CHICKEN CHOP (MARINATED)",1,12]
[20,"DB02 1002:GVY CHK CP",12.9,{"$f":"VLOOKUP(B30,Summary!$B$30:$AK$376,5,FALSE)","v":1},12.9,null,{"$f":"+'DAILY FOC'!BO28","v":0},0,1,12.9,null,{"$f":"+'K-LUNCH & K DINNER'!C27","v":4.43},4.43,4.43,0,null,"CHICKEN CHOP (MARINATED)",1,1]
[21,"DB03 1003:MSR CKN CP",12.9,{"$f":"VLOOKUP(B31,Summary!$B$30:$AK$376,5,FALSE)","v":11},141.9,null,{"$f":"+'DAILY FOC'!BO29","v":0},0,11,141.9,null,{"$f":"+'K-LUNCH & K DINNER'!C28","v":4.75},52.25,4.75,0,null,"CHICKEN CHOP (MARINATED)",1,11]
[22,"DB04 1004:CKN MARY",12.9,{"$f":"VLOOKUP(B32,Summary!$B$30:$AK$376,5,FALSE)","v":10},129,null,{"$f":"+'DAILY FOC'!BO30","v":1},12.9,{"$f":"+D32-G32","v":9},{"$f":"+I32*C32","v":116.10000000000001},null,{"$f":"+'K-LUNCH & K DINNER'!C29","v":5.98},{"$f":"+L32*I32","v":53.820000000000007},5.98,{"$f":"+N32*G32","v":5.98},null,"CHICKEN CHOP (MARINATED)",1,10]
[23,"DB05 1005:FISH&CHIP",12.9,{"$f":"VLOOKUP(B33,Summary!$B$30:$AK$376,5,FALSE)","v":8},{"$f":"D33*C33","v":103.2},null,{"$f":"+'DAILY FOC'!BO31","v":1},12.9,7,90.3,null,{"$f":"+'K-LUNCH & K DINNER'!C30","v":4.29},30.03,4.29,4.29,null,"DORY FISH FILLET ",1,8]
[24,"DB06 1006:SPAGHETTI",12.9,{"$f":"VLOOKUP(B34,Summary!$B$30:$AK$376,5,FALSE)","v":5},64.5,null,{"$f":"+'DAILY FOC'!BO32","v":0},0,5,64.5,null,{"$f":"+'K-LUNCH & K DINNER'!C31","v":2.1},10.5,2.1,0]
[25,"DB07 1007:CHK SALAD",12.9,{"$f":"VLOOKUP(B35,Summary!$B$30:$AK$376,5,FALSE)","v":4},51.6,null,{"$f":"+'DAILY FOC'!BO33","v":1},12.9,3,38.700000000000003,null,{"$f":"+'K-LUNCH & K DINNER'!C32","v":4.9400000000000004},14.82,4.9400000000000004,4.9400000000000004,null,"CHICKEN CHOP (MARINATED)",1,4]
[26,"DD01 1201:SFD STICK",5.9,{"$f":"VLOOKUP(B36,Summary!$B$30:$AK$376,5,FALSE)","v":0},{"$f":"D36*C36","v":0},null,{"$f":"+'DAILY FOC'!BO34","v":0},0,1,{"$f":"+I36*C36","v":5.9},null,{"$f":"+'K-LUNCH & K DINNER'!C33","v":2},{"$f":"+L36*I36","v":2},{"$f":"+L36","v":2},{"$f":"+N36*G36","v":0},null,"SOTONG BALL",2,{"$f":"+R36*$D$36","v":0}]
[null,null,null,null,null,null,{"$f":"+'DAILY FOC'!BO35","v":0},null,null,null,null,null,null,null,null,null,"SALMON BALL",2,{"$f":"+R37*$D$36","v":0}]
[null,null,null,null,null,null,{"$f":"+'DAILY FOC'!BO36","v":0},null,null,null,null,null,null,null,null,null,"SEAFOOD TOFU ",2,0]
[{"$f":"+A36+1","v":27},"DD02 1202:FREN FRIES",5.9,{"$f":"VLOOKUP(B39,Summary!$B$30:$AK$376,5,FALSE)","v":7},{"$f":"D39*C39","v":41.300000000000004},null,{"$f":"+'DAILY FOC'!BO37","v":0},{"$f":"G39*C39","v":0},{"$f":"+D39-G39","v":7},{"$f":"+I39*C39","v":41.300000000000004},null,{"$f":"+'K-LUNCH & K DINNER'!C36","v":1.76},12.32,{"$f":"+L39","v":1.76},0]
[{"$f":"+A39+1","v":28},"DD03 1203:GOLD MROOM",5.9,{"$f":"VLOOKUP(B40,Summary!$B$30:$AK$376,5,FALSE)","v":2},11.8,null,{"$f":"+'DAILY FOC'!BO38","v":0},0,2,{"$f":"+I40*C40","v":11.8},null,{"$f":"+'K-LUNCH & K DINNER'!C37","v":2.15},4.3,2.15,0]
[29,"DD04 1204:FISHBALL",5.9,{"$f":"VLOOKUP(B41,Summary!$B$30:$AK$376,5,FALSE)","v":1},5.9,null,{"$f":"+'DAILY FOC'!BO39","v":0},0,1,5.9,null,{"$f":"+'K-LUNCH & K DINNER'!C38","v":1.56},1.56,1.56,0,null,"FISH BALL (BIG)",6,{"$f":"+R41*D41","v":6}]
[30,"DD05 1205:RAINBOW RL",5.9,{"$f":"VLOOKUP(B42,Summary!$B$30:$AK$376,5,FALSE)","v":0},0,null,{"$f":"+'DAILY FOC'!BO40","v":0},0,0,0,null,{"$f":"+'K-LUNCH & K DINNER'!C39","v":2.5},0,2.5,0,null,"RAINBOW ROLL",1,0]
[31,"DD06 1206:SPRING RL",5.9,{"$f":"VLOOKUP(B43,Summary!$B$30:$AK$376,5,FALSE)","v":1},5.9,null,{"$f":"+'DAILY FOC'!BO41","v":0},{"$f":"G43*C43","v":0},1,{"$f":"+I43*C43","v":5.9},null,{"$f":"+'K-LUNCH & K DINNER'!C40","v":2.67},2.67,2.67,0,null,"SPRING ROLL",8,8]
[32,"DD07 1207:SAUSAGE",5.9,{"$f":"VLOOKUP(B44,Summary!$B$30:$AK$376,5,FALSE)","v":4},23.6,null,{"$f":"+'DAILY FOC'!BO42","v":1},5.9,3,17.700000000000003,null,{"$f":"+'K-LUNCH & K DINNER'!C41","v":1.24},3.7199999999999998,1.24,1.24,null,"CHICKEN SAUSAGE ",4,16]
[33,"DD10 1301:DUMPLING",5.9,{"$f":"VLOOKUP(B45,Summary!$B$30:$AK$376,5,FALSE)","v":0},0,null,{"$f":"+'DAILY FOC'!BO43","v":0},0,0,0,null,{"$f":"+'K-LUNCH & K DINNER'!C44","v":4.5},0,4.5,0,null,"DUMPLING ",6,0]
[34,"DD11 1302:NUGGET",7.9,{"$f":"VLOOKUP(B46,Summary!$B$30:$AK$376,5,FALSE)","v":6},47.400000000000006,null,{"$f":"+'DAILY FOC'!BO44","v":0},0,6,47.400000000000006,null,{"$f":"+'K-LUNCH & K DINNER'!C45","v":2.4300000000000002},14.580000000000002,2.4300000000000002,0,null,"CHICKEN NUGGET",8,48]
[35,"DD12 1303:CHK WING",7.9,{"$f":"VLOOKUP(B47,Summary!$B$30:$AK$376,5,FALSE)","v":3},23.700000000000003,null,{"$f":"+'DAILY FOC'!BO45","v":0},0,3,23.700000000000003,null,{"$f":"+'K-LUNCH & K DINNER'!C46","v":3.97},11.91,3.97,0,null,"CHICKEN WING  (MARINATED)",3,9]
[36,"DD13 1304:IKAN BILIS",7.9,{"$f":"VLOOKUP(B48,Summary!$B$30:$AK$376,5,FALSE)","v":1},7.9,null,{"$f":"+'DAILY FOC'!BO46","v":0},0,1,7.9,null,{"$f":"+'K-LUNCH & K DINNER'!C47","v":2.1800000000000002},2.1800000000000002,2.1800000000000002,0,null,null,null,0]
[37,"DD14 1305:THAI RL",7.9,{"$f":"VLOOKUP(B49,Summary!$B$30:$AK$376,5,FALSE)","v":0},0,null,{"$f":"+'DAILY FOC'!BO47","v":0},0,0,0,null,{"$f":"+'K-LUNCH & K DINNER'!C48","v":3.61},0,3.61,0,null,"THAI ROLL",7,0]
[38,"DD15 1306:SLVR FISH",7.9,{"$f":"VLOOKUP(B50,Summary!$B$30:$AK$376,5,FALSE)","v":0},0,null,{"$f":"+'DAILY FOC'!BO48","v":0},0,0,0,null,{"$f":"+'K-LUNCH & K DINNER'!C49","v":0},0,0,0,null,null,null,0]
[39,"DD16 1307:D.F C/WING",7.9,{"$f":"VLOOKUP(B51,Summary!$B$30:$AK$376,5,FALSE)","v":2},15.8,null,{"$f":"+'DAILY FOC'!BO49","v":0},0,2,15.8,null,{"$f":"+'K-LUNCH & K DINNER'!C50","v":4.3099999999999996},8.6199999999999992,4.3099999999999996,0,null,"CHICKEN WING  (MARINATED)",3,6]
[40,"DD17 1308 C/CALAMARI",7.9,{"$f":"VLOOKUP(B52,Summary!$B$30:$AK$376,5,FALSE)","v":1},7.9,null,{"$f":"+'DAILY FOC'!BO50","v":0},0,1,7.9,null,{"$f":"+'K-LUNCH & K DINNER'!C51","v":3.69},3.69,3.69,0,null,"CALAMARI RING",7,7]
[41,"DD18 1309 Mc C/O.RING",7.9,{"$f":"VLOOKUP(B53,Summary!$B$30:$AK$376,5,FALSE)","v":0},0,null,{"$f":"+'DAILY FOC'!BO51","v":0},0,0,0,null,{"$f":"+'K-LUNCH & K DINNER'!C52","v":1.72},0,1.72,0,null,"MCCAIN ONION RING",8,0]
[42,"DD19 1310:Mc SPIRAL/F",7.9,{"$f":"VLOOKUP(B54,Summary!$B$30:$AK$376,5,FALSE)","v":1},7.9,null,{"$f":"+'DAILY FOC'!BO52","v":0},0,1,7.9,null,{"$f":"+'K-LUNCH & K DINNER'!C53","v":1.72},1.72,1.72,0,null,null,null,0]
[43,"DD20 1311:Mc H/SMILES",7.9,{"$f":"VLOOKUP(B55,Summary!$B$30:$AK$376,5,FALSE)","v":0},0,null,{"$f":"+'DAILY FOC'!BO53","v":0},0,0,0,null,{"$f":"+'K-LUNCH & K DINNER'!C54","v":1.34},0,1.34,0,null,"MCCAIN SMILES",8,0]
[44,"DD21 1312:Mc HASH BRW",7.9,{"$f":"VLOOKUP(B56,Summary!$B$30:$AK$376,5,FALSE)","v":1},7.9,null,{"$f":"+'DAILY FOC'!BO54","v":0},0,1,7.9,null,{"$f":"+'K-LUNCH & K DINNER'!C55","v":0.59},0.59,0.59,0,null,null,null,0]
[null,null,null,null,null,null,null,null,null,null,null,null,null,null,null,null,null,null,0]
[null,null,null,"(A)",null,null,"(B)",null,"(A) - (B)"]
[null,null,null,"SIDE ORDER                 (INCLUDING FOC)",null,null,"FOC",null,"SIDE ORDER                        (NETT SALES)",null,null,"SIDE ORDER                        (NETT COST)",null,"FOC (COST)",null,null,"USAGE"]
["NO","MENU ITEM","S/P","Sales","TOTAL",null,"Sales","TOTAL","Sales","TOTAL",null,"COST","TOTAL","COST","TOTAL",null,"MATERIAL ","RECIPE","TOTAL"]
[null,null,"RM","Q","RM",null,"Q","RM","Q","RM",null,"RM","RM","RM","RM",null,"Q","Q","Q"]
[]
[null,"COMBO SET"]
[1,"ZAB01 1201:SFD STICK",4.95,{"$f":"VLOOKUP(B64,Summary!$B$30:$AK$376,5,FALSE)","v":2},{"$f":"D64*C64","v":9.9},null,null,null,{"$f":"+D64-G64","v":2},{"$f":"+I64*C64","v":9.9},null,{"$f":"+L36","v":2},{"$f":"+L64*I64","v":4},{"$f":"+L64","v":2},{"$f":"+N64*G64","v":0},null,"SOTONG BALL",2,{"$f":"+R64*D64","v":4}]
[null,null,null,null,null,null,null,null,null,null,null,null,null,null,null,null,"SALMON BALL",2,{"$f":"+R65*$D$64","v":4}]
[null,null,null,null,null,null,null,null,null,null,null,null,null,null,null,null,"SEAFOOD TOFU ",2,{"$f":"+R66*$D$64","v":4}]
[{"$f":"+A64+1","v":2},"ZAB02 1202:FRIES",4.95,{"$f":"VLOOKUP(B67,Summary!$B$30:$AK$376,5,FALSE)","v":22},{"$f":"D67*C67","v":108.9},null,null,null,{"$f":"+D67-G67","v":22},{"$f":"+I67*C67","v":108.9},null,{"$f":"+L39","v":1.76},{"$f":"+L67*I67","v":38.72},{"$f":"+L67","v":1.76},{"$f":"+N67*G67","v":0},null,null,null,{"$f":"+R67*D67","v":0}]
[{"$f":"+A67+1","v":3},"ZAB03 1203:GOLD MROOM",4.95,{"$f":"VLOOKUP(B68,Summary!$B$30:$AK$376,5,FALSE)","v":7},34.65,null,null,null,7,34.65,null,2.15,15.049999999999999,2.15,0,null,null,null,0]
[4,"ZAB04 1204:F.BALL",4.95,{"$f":"VLOOKUP(B69,Summary!$B$30:$AK$376,5,FALSE)","v":4},19.8,null,null,null,4,19.8,null,1.56,6.24,1.56,0,null,"FISH BALL (BIG)",6,24]
[5,"ZAB06 1206:SPRING RL",4.95,{"$f":"VLOOKUP(B70,Summary!$B$30:$AK$376,5,FALSE)","v":7},34.65,null,null,null,7,34.65,null,2.5,17.5,2.5,0,null,"SPRING ROLL",8,56]
[6,"ZAB07 1207:SAUSAGE",4.95,{"$f":"VLOOKUP(B71,Summary!$B$30:$AK$376,5,FALSE)","v":8},39.6,null,null,null,8,39.6,null,2.67,21.36,2.67,0,null,"CHICKEN SAUSAGE ",4,32]
[7,"ZAC02 1302:NUGGET",6.95,{"$f":"VLOOKUP(B72,Summary!$B$30:$AK$376,5,FALSE)","v":8},55.6,null,null,null,8,55.6,null,1.24,9.92,1.24,0,null,"CHICKEN NUGGET",8,64]
[8,"ZAC03 1303:CHK WING",6.95,{"$f":"VLOOKUP(B73,Summary!$B$30:$AK$376,5,FALSE)","v":14},97.3,null,null,null,14,97.3,null,{"$f":"+L47","v":3.97},55.580000000000005,3.97,0,null,"CHICKEN WING  (MARINATED)",3,42]
[9,"ZAC04 1304:IKAN BILIS",6.95,{"$f":"VLOOKUP(B74,Summary!$B$30:$AK$376,5,FALSE)","v":1},6.95,null,null,null,1,6.95,null,{"$f":"+L48","v":2.1800000000000002},2.1800000000000002,2.1800000000000002,0,null,null,null,0]
[10,"ZAC05 1305:THAI RL",6.95,{"$f":"VLOOKUP(B75,Summary!$B$30:$AK$376,5,FALSE)","v":0},0,null,null,null,0,0,null,{"$f":"+'K-LUNCH & K DINNER'!C48","v":3.61},0,3.61,0,null,"THAI ROLL ",7,0]
[11,"ZAC07 1307:D/F C.WINGS",6.95,{"$f":"VLOOKUP(B76,Summary!$B$30:$AK$376,5,FALSE)","v":10},69.5,null,null,null,10,69.5,null,{"$f":"+'K-LUNCH & K DINNER'!C50","v":4.3099999999999996},43.099999999999994,4.3099999999999996,0,null,"CHICKEN WING  (MARINATED)",3,30]
[12,"ZAC08 1308:C/CALAMARI",6.95,{"$f":"VLOOKUP(B77,Summary!$B$30:$AK$376,5,FALSE)","v":5},34.75,null,null,null,5,34.75,null,{"$f":"+'K-LUNCH & K DINNER'!C51","v":3.69},18.45,3.69,0,null,"CALMARI RING",7,35]
[13,"ZAC09 1309:Mc /O.RINGS",6.95,{"$f":"VLOOKUP(B78,Summary!$B$30:$AK$376,5,FALSE)","v":1},6.95,null,null,null,1,6.95,null,{"$f":"+'K-LUNCH & K DINNER'!C52","v":1.72},1.72,1.72,0,null,"MCCAIN ONION RING",8,8]
[14,"ZAC10 1310:Mc SPIRAL/F",6.95,{"$f":"VLOOKUP(B79,Summary!$B$30:$AK$376,5,FALSE)","v":8},55.6,null,null,null,8,55.6,null,{"$f":"+'K-LUNCH & K DINNER'!C53","v":1.72},13.76,1.72,0,null,null,null,0]
[15,"ZAC11 1311:Mc H/SMILES",6.95,{"$f":"VLOOKUP(B80,Summary!$B$30:$AK$376,5,FALSE)","v":1},6.95,null,null,null,1,6.95,null,{"$f":"+'K-LUNCH & K DINNER'!C54","v":1.34},1.34,1.34,0,null,"MCCAIN SMILES",8,8]
[16,"ZAC12 1312:Mc HASH/B",6.95,{"$f":"VLOOKUP(B81,Summary!$B$30:$AK$376,5,FALSE)","v":6},{"$f":"D81*C81","v":41.7},null,null,null,{"$f":"+D81-G81","v":6},{"$f":"+I81*C81","v":41.7},null,{"$f":"+'K-LUNCH & K DINNER'!C55","v":0.59},{"$f":"+L81*I81","v":3.54},0.59,{"$f":"+N81*G81","v":0},null,"MCCAIN VERSITOT",15,90]
[null,null,null,null,null,null,null,null,null,null,null,null,null,null,null,null,null,null,0]
[null,null,null,null,null,null,null,null,null,null,null,null,null,null,null,null,null,null,0]
[null,"HOMEMADE PIZZA",null,null,null,null,null,null,null,null,null,null,null,null,null,null,null,null,0]
[1,"DL01 3001:6'HAWAIIAN",12.9,{"$f":"VLOOKUP(B85,Summary!$B$30:$AK$376,5,FALSE)","v":1},12.9,null,{"$f":"+'DAILY FOC'!BO53","v":0},0,1,12.9,null,3.25,3.25,{"$f":"+L85","v":3.25},0,null,"6\" PIZZA BASE ",1,{"$f":"+R85*D85","v":1}]
[{"$f":"+A85+1","v":2},"DL02 3002:6'SMOKE BBQ",12.9,{"$f":"VLOOKUP(B86,Summary!$B$30:$AK$376,5,FALSE)","v":0},0,null,{"$f":"+'DAILY FOC'!BO54","v":0},0,0,0,null,4.59,0,{"$f":"+L86","v":4.59},0,null,"CHICKEN CHOP (MARINATED)",0.5,{"$f":"+R86*D86","v":0}]
[null,null,null,null,null,null,null,null,null,null,null,null,null,null,null,null,"6\" PIZZA BASE ",1,0]
[{"$f":"+A86+1","v":3},"DL03 3003:6'SEAFOOD",12.9,{"$f":"VLOOKUP(B88,Summary!$B$30:$AK$376,5,FALSE)","v":0},0,null,{"$f":"+'DAILY FOC'!BO56","v":0},0,0,0,null,5.13,0,{"$f":"+L88","v":5.13},0,null,"6\" PIZZA BASE ",1,0]
[4,"DL04 3004:6'SPICY BUF",12.9,{"$f":"VLOOKUP(B89,Summary!$B$30:$AK$376,5,FALSE)","v":0},0,null,{"$f":"+'DAILY FOC'!BO57","v":0},0,0,0,null,2.99,0,2.99,0,null,"CHICKEN SAUSAGE ",1,0]
[null,null,null,null,null,null,{"$f":"+'DAILY FOC'!BO58","v":0},null,null,null,null,null,null,null,null,null,"6\" PIZZA BASE ",1,0]
[{"$f":"+A89+1","v":5},"DL05 3005:6'VEGGIE",12.9,{"$f":"VLOOKUP(B91,Summary!$B$30:$AK$376,5,FALSE)","v":0},{"$f":"D91*C91","v":0},null,{"$f":"+'DAILY FOC'!BO59","v":0},{"$f":"G91*C91","v":0},{"$f":"+D91-G91","v":0},{"$f":"+I91*C91","v":0},null,3.62,{"$f":"+L91*I91","v":0},3.62,{"$f":"+N91*G91","v":0},null,"6\" PIZZA BASE ",1,0]
[6,"DL06 3001:9'HAWAIIAN",16.899999999999999,{"$f":"VLOOKUP(B92,Summary!$B$30:$AK$376,5,FALSE)","v":0},0,null,{"$f":"+'DAILY FOC'!BO58","v":0},0,0,0,null,5.79,0,5.79,0,null,"9\" PIZZA BASE ",1,0]
[null,null,null,null,null,null,{"$f":"+'DAILY FOC'!BO59","v":0},null,null,null,null,null,null,null,null,null,"CHICKEN HAM",2,0]
[{"$f":"+A92+1","v":7},"DL07 3002:9'SMOKED",16.899999999999999,{"$f":"VLOOKUP(B94,Summary!$B$30:$AK$376,5,FALSE)","v":0},0,null,{"$f":"+'DAILY FOC'!BO60","v":0},0,0,0,null,8.2100000000000009,0,8.2100000000000009,0,null,"9\" PIZZA BASE ",1,0]
[null,null,null,null,null,null,{"$f":"+'DAILY FOC'!BO61","v":0},null,null,null,null,null,null,null,null,null,"CHICKEN WING  (MARINATED)",1,0]
[{"$f":"+A94+1","v":8},"DL08 3003:9'SEAFOOD",16.899999999999999,{"$f":"VLOOKUP(B96,Summary!$B$30:$AK$376,5,FALSE)","v":0},0,null,{"$f":"+'DAILY FOC'!BO62","v":0},0,0,0,null,9.48,0,9.48,0,null,"9\" PIZZA BASE ",1,0]
[9,"DL09 3004:9'SPICY B",16.899999999999999,{"$f":"VLOOKUP(B97,Summary!$B$30:$AK$376,5,FALSE)","v":0},0,null,{"$f":"+'DAILY FOC'!BO61","v":0},0,0,0,null,5.38,0,5.38,0,null,"CHICKEN SAUSAGE ",1,0]
[null,null,null,null,null,null,{"$f":"+'DAILY FOC'!BO64","v":0},null,null,null,null,null,null,null,null,null,"9\" PIZZA BASE ",1,0]
[10,"DL10 3005:9'VEGGIE",16.899999999999999,{"$f":"VLOOKUP(B99,Summary!$B$30:$AK$376,5,FALSE)","v":0},{"$f":"D99*C99","v":0},null,{"$f":"+'DAILY FOC'!BO65","v":0},{"$f":"G99*C99","v":0},{"$f":"+D99-G99","v":0},{"$f":"+I99*C99","v":0},null,6.96,{"$f":"+L99*I99","v":0},6.96,{"$f":"+N99*G99","v":0},null,"9\" PIZZA BASE ",1,0]
[]
[null,"PLATTER"]
[1,"DM01 SNACK PLATTER(A)",16.899999999999999,{"$f":"VLOOKUP(B102,Summary!$B$30:$AK$376,5,FALSE)","v":4},{"$f":"D102*C102","v":67.599999999999994},null,null,null,{"$f":"+D102-G102","v":4},{"$f":"+I102*C102","v":67.599999999999994},null,4.5999999999999996,{"$f":"+L102*I102","v":18.399999999999999},{"$f":"+L102","v":4.5999999999999996},{"$f":"+N102*G102","v":0},null,"MCCAIN VERSITOT",8,{"$f":"+R102*D102","v":32}]
[null,null,null,null,null,null,null,null,null,null,null,null,null,null,null,null,"MCCAIN SMILE",6,0]
[null,null,null,null,null,null,null,null,null,null,null,null,null,null,null,null,"MCCAIN VERSITOT",8,0]
[null,null,null,null,null,null,null,null,null,null,null,null,null,null,null,null,"MCCAIN SMILE",6,0]
[]
[2,"DM02 SNACK PLATTER(B)",12.9,{"$f":"VLOOKUP(B107,Summary!$B$30:$AK$376,5,FALSE)","v":1},12.9,null,null,null,1,12.9,null,4.5999999999999996,{"$f":"+L107*I107","v":4.5999999999999996},4.5999999999999996,0,null,"MCCAIN VERSITOT",8,{"$f":"+R107*$D$107","v":8}]
[null,null,null,null,null,null,null,null,null,null,null,null,null,null,null,null,"MCCAIN SMILE",6,{"$f":"+R108*$D$107","v":6}]
[null,null,null,null,null,null,null,null,null,null,null,null,null,null,null,null,"MCCAIN ONION RING",8,8]
[null,null,null,null,null,null,null,null,null,null,null,null,null,null,null,null,"MCCAIN SPIRAL FRIES",0.12,0.12]
[]
[3,"DM03 CNY platter(A)",19.899999999999999,{"$f":"VLOOKUP(B112,Summary!$B$30:$AK$376,5,FALSE)","v":0},0,null,null,null,0,0,null,9.81,0,9.81,0,null,"CHICKEN WINGS (NON -MARINATED)",4,{"$f":"+R112*$D$112","v":0}]
[null,null,null,null,null,null,null,null,null,null,null,null,null,null,null,null,"MCCAIN ONION RING",8,{"$f":"+R113*$D$112","v":0}]
[]
[4,"DM04 CNY platter (B)",23.9,{"$f":"VLOOKUP(B115,Summary!$B$30:$AK$376,5,FALSE)","v":0},0,null,null,null,0,0,null,9.81,{"$f":"+L115*I115","v":0},9.81,{"$f":"+N115*G115","v":0},null,"CHICKEN WINGS (NON -MARINATED)",4,{"$f":"+R115*$D$115","v":0}]
[null,null,null,null,null,null,null,null,null,null,null,null,null,null,null,null,"MCCAIN ONION RING",8,{"$f":"+R116*$D$115","v":0}]
[]
["Total Sales / COST",null,null,{"$f":"SUM(D11:D117)","v":278},{"$f":"SUM(E11:E117)","v":2442.4},null,{"$f":"SUM(G11:G116)","v":4},{"$f":"SUM(H11:H117)","v":44.6},{"$f":"SUM(I11:I99)","v":268},{"$f":"SUM(J11:J117)","v":2383.9},null,null,{"$f":"SUM(M11:M117)","v":840.18000000000006},null,{"$f":"SUM(O11:O117)","v":16.45}]

{"sheet":"SAUCE USAGE","index":4,"n_rows":34,"n_cols":9,"rows_kept":34,"cut":false,"hidden":false,"merged":[[6,5,6,7],[33,0,33,2]]}
["MONTHLY SERVINGS: SAUCE "]
[]
[{"$f":"+'K-LUNCH & K DINNER'!A3","v":"Outlet :"},{"$f":"+'K-LUNCH & K DINNER'!B3","v":"CCS OUTLET"}]
[{"$f":"+'K-LUNCH & K DINNER'!A4","v":"Month :"},{"$f":"+'K-LUNCH & K DINNER'!B4","v":"2013-04-01"}]
[]
[]
[null,null,null,"FROM POS",null,"USAGE"]
["NO","Item","COST","SERVINGS",null,"MATERIAL ","RECIPE","TOTAL","TOTAL COST"]
[null,null,"RM","Q",null,"Q","GRAM","GRAM ","RM"]
[1,"DF03 ADD SAUCE 1000",null,{"$f":"VLOOKUP(B10,Summary!$B$30:$AK$376,5,FALSE)","v":5},null,null,null,{"$f":"+G10*D10","v":0},{"$f":"+H10*C10","v":0}]
[{"$f":"+A10+1","v":2},"DF04 ADD SAUCE BOLO",null,{"$f":"VLOOKUP(B11,Summary!$B$30:$AK$376,5,FALSE)","v":0},null,null,null,0,0]
[{"$f":"+A11+1","v":3},"DF05 ADD SAUCE BP",3.0000000000000001E-3,{"$f":"VLOOKUP(B12,Summary!$B$30:$AK$376,5,FALSE)","v":2},null,"BLACK PEPPER SAUCE",80,160,0.48]
[4,"DF06 ADD SAUCE BUTTER",6.0000000000000001E-3,{"$f":"VLOOKUP(B13,Summary!$B$30:$AK$376,5,FALSE)","v":0},null,"BUTTER SAUCE ",80,0,0]
[5,"DF07 ADD SAUCE C.PADI",null,{"$f":"VLOOKUP(B14,Summary!$B$30:$AK$376,5,FALSE)","v":2},null,null,null,0,0]
[6,"DF08 ADD SAUCE GS",null,{"$f":"VLOOKUP(B15,Summary!$B$30:$AK$376,5,FALSE)","v":0},null,null,null,0,0]
[7,"DF09 ADD SAUCE MAYO",null,{"$f":"VLOOKUP(B16,Summary!$B$30:$AK$376,5,FALSE)","v":7},null,null,null,0,0]
[8,"DF10 ADD SAUCE MMITE",null,{"$f":"VLOOKUP(B17,Summary!$B$30:$AK$376,5,FALSE)","v":0},null,"MARMITE SAUCE ",80,0,0]
[9,"DF11 ADD SAUCE MR",null,{"$f":"VLOOKUP(B18,Summary!$B$30:$AK$376,5,FALSE)","v":0},null,null,null,0,0]
[10,"DF12 ADD SAUCE SAMBAL",null,{"$f":"VLOOKUP(B19,Summary!$B$30:$AK$376,5,FALSE)","v":1},null,"SAMBAL SAUCE",null,0,0]
[11,"DF13 ADD SAUCE THAI",null,{"$f":"VLOOKUP(B20,Summary!$B$30:$AK$376,5,FALSE)","v":0},null,"THAI SAUCE ",null,null,0]
[12,"DF14 ADD SAUCE TOMATO",null,{"$f":"VLOOKUP(B21,Summary!$B$30:$AK$376,5,FALSE)","v":9},null,"TOMATO SAUCE ",null,null,0]
[13,"DF15 ADD TATA SAUCE",null,{"$f":"VLOOKUP(B22,Summary!$B$30:$AK$376,5,FALSE)","v":2},null,"TATAR SAUCE ",null,null,0]
[14,"DF16 ADD SAUCE CHEES",null,{"$f":"VLOOKUP(B23,Summary!$B$30:$AK$376,5,FALSE)","v":2},null,null,null,null,0]
[15,"DH05 91105:BUTTER CHK",6.0000000000000001E-3,{"$f":"VLOOKUP(B24,Summary!$B$30:$AK$376,5,FALSE)","v":31},null,"BUTTER SAUCE",90,{"$f":"+G24*D24","v":2790},{"$f":"+H24*C24","v":16.740000000000002}]
[16,"DG01 91001:BP CHK CP",3.0000000000000001E-3,{"$f":"VLOOKUP(B25,Summary!$B$30:$AK$376,5,FALSE)","v":50},null,"BLACK PEPPER SAUCE",90,{"$f":"+G25*D25","v":4500},{"$f":"+H25*C25","v":13.5}]
[17,"DC05 1105:BUTTER CHK",6.0000000000000001E-3,{"$f":"VLOOKUP(B26,Summary!$B$30:$AK$376,5,FALSE)","v":23},null,"BUTTER SAUCE",75,1725,{"$f":"+H26*C26","v":10.35}]
[18,"DB01 1001:BP CKN CP",3.0000000000000001E-3,{"$f":"VLOOKUP(B27,Summary!$B$30:$AK$376,5,FALSE)","v":12},null,"BLACK PEPPER SAUCE",90,1080,3.24]
[19,"DG03 91003:MSR CHK CP",6.7999999999999996E-3,{"$f":"VLOOKUP(B28,Summary!$B$30:$AK$376,5,FALSE)","v":52},null,"MUSHROOM SAUCE",90,{"$f":"+G28*D28","v":4680},31.823999999999998]
[20,"DB03 1003:MSR CKN CP",6.7999999999999996E-3,{"$f":"VLOOKUP(B29,Summary!$B$30:$AK$376,5,FALSE)","v":11},null,"MUSHROOM SAUCE",90,990,6.7319999999999993]
[21]
[]
[]
[]
["Total Sales / COST",null,null,null,null,null,null,null,{"$f":"SUM(I10:I33)","v":82.866}]

{"sheet":"STOCK ANALYSIS","index":5,"n_rows":49,"n_cols":18,"rows_kept":49,"cut":false,"hidden":false,"merged":[[0,0,0,4]]}
["MONTHLY KITCHEN STOCK ANALYSIS"]
[]
[{"$f":"+'K-LUNCH & K DINNER'!A3","v":"Outlet :"},{"$f":"+'K-LUNCH & K DINNER'!B3","v":"CCS OUTLET"}]
[{"$f":"+'K-LUNCH & K DINNER'!A4","v":"Month :"},{"$f":"+'K-LUNCH & K DINNER'!B4","v":"2013-04-01"}]
["Date From 1 to 5"]
["PART (A)  :  USAGE -MAIN COURSE & SNACK FOOD MATERIAL "]
[null,null,null,null,null,null,null,null,null,null,null,null,"(A)","(B)","(B) -(A)"]
["NO","MATERIAL ","UOM","U/P","O/S","PURCHASE","USAGE IN SALES","USAGE IN SALES","WASTAGE","STAFF FOOD","PARTY USAGE","USAGE","BOOK INVENTORY ","PHYSICAL C/S","DIFFERENCE ","DIFFERENCE ","STOCK DIFFERENCE  OVER USAGE","PURCHASE OVER USAGE"]
[null,null,null,"RM ",null,null,"K LUNCH / K DINNER ","SIDE ORDER /FOC ",null,null,null,"Q",null,null,"Q","RM ","%","%"]
[]
[1,"6\" PIZZA BASE ","PCS",1.25,null,null,{"$f":"SUMIF('K-LUNCH & K DINNER'!$H$10:$H$55,B11,'K-LUNCH & K DINNER'!$J$10:$J$55)","v":0},{"$f":"SUMIF('SIDE ORDER & FOC'!$Q$11:$Q$99,B11,'SIDE ORDER & FOC'!$S$11:$S$99)","v":1},null,null,null,{"$f":"SUM(E11:K11)","v":1},{"$f":"+E11+F11-G11-H11-I11-J11-K11","v":-1},null,{"$f":"+N11-M11","v":1},{"$f":"+O11*D11","v":1.25},{"$f":"+O11/L11","v":1},{"$f":"+F11/L11","v":0}]
[{"$f":"+A11+1","v":2},"9\" PIZZA BASE ","PCS",2.2999999999999998,null,null,{"$f":"SUMIF('K-LUNCH & K DINNER'!$H$10:$H$55,B12,'K-LUNCH & K DINNER'!$J$10:$J$55)","v":0},{"$f":"SUMIF('SIDE ORDER & FOC'!$Q$11:$Q$99,B12,'SIDE ORDER & FOC'!$S$11:$S$99)","v":0},null,null,null,{"$f":"SUM(E12:K12)","v":0},0,null,0,0,{"$f":"+O12/L12","v":{"$error":"#DIV/0!"}},{"$f":"+F12/L12","v":{"$error":"#DIV/0!"}}]
[3,"CALAMARI RING","PCS",0.47,null,null,{"$f":"SUMIF('K-LUNCH & K DINNER'!$H$10:$H$55,B13,'K-LUNCH & K DINNER'!$J$10:$J$55)","v":14},{"$f":"SUMIF('SIDE ORDER & FOC'!$Q$11:$Q$99,B13,'SIDE ORDER & FOC'!$S$11:$S$99)","v":7},null,null,null,21,-21,null,21,9.8699999999999992,1,0]
[4,"CHICKEN CHOP (MARINATED)","PCS",3.34,510,200,{"$f":"SUMIF('K-LUNCH & K DINNER'!$H$10:$H$55,B14,'K-LUNCH & K DINNER'!$J$10:$J$55)","v":223.52},{"$f":"SUMIF('SIDE ORDER & FOC'!$Q$11:$Q$99,B14,'SIDE ORDER & FOC'!$S$11:$S$99)","v":80.599999999999994},1,2,null,{"$f":"SUM(E14:K14)","v":1017.12},402.88,2079,1676.12,5598.2407999999996,1.6479078181532167,0.1966336322164543]
[5,"CHICKEN HAM","PCS",null,null,null,{"$f":"SUMIF('K-LUNCH & K DINNER'!$H$10:$H$55,B15,'K-LUNCH & K DINNER'!$J$10:$J$55)","v":0},{"$f":"SUMIF('SIDE ORDER & FOC'!$Q$11:$Q$99,B15,'SIDE ORDER & FOC'!$S$11:$S$99)","v":0},null,null,null,0,0,null,0,0,{"$error":"#DIV/0!"},{"$error":"#DIV/0!"}]
[6,"CHICKEN NUGGET","PCS",0.26,328,null,{"$f":"SUMIF('K-LUNCH & K DINNER'!$H$10:$H$55,B16,'K-LUNCH & K DINNER'!$J$10:$J$55)","v":48},{"$f":"SUMIF('SIDE ORDER & FOC'!$Q$11:$Q$99,B16,'SIDE ORDER & FOC'!$S$11:$S$99)","v":112},null,null,null,488,168,null,-168,-43.68,-0.34426229508196721,0]
[7,"CHICKEN SAUSAGE ","PCS",0.23,334,null,{"$f":"SUMIF('K-LUNCH & K DINNER'!$H$10:$H$55,B17,'K-LUNCH & K DINNER'!$J$10:$J$55)","v":11},{"$f":"SUMIF('SIDE ORDER & FOC'!$Q$11:$Q$99,B17,'SIDE ORDER & FOC'!$S$11:$S$99)","v":58.5},null,null,null,403.5,264.5,null,-264.5,-60.835000000000001,-0.65551425030978938,0]
[{"$f":"+A17+1","v":8},"CHICKEN WING  (MARINATED)","PCS",1.17,148,0,{"$f":"SUMIF('K-LUNCH & K DINNER'!$H$10:$H$55,B18,'K-LUNCH & K DINNER'!$J$10:$J$55)","v":42},{"$f":"SUMIF('SIDE ORDER & FOC'!$Q$11:$Q$99,B18,'SIDE ORDER & FOC'!$S$11:$S$99)","v":87},1,null,null,278,18,477,459,537.03," ",0]
[9,"CHICKEN WINGS (NON -MARINATED)","PCS",1.17,125,0,{"$f":"SUMIF('K-LUNCH & K DINNER'!$H$10:$H$55,B19,'K-LUNCH & K DINNER'!$J$10:$J$55)","v":0},{"$f":"SUMIF('SIDE ORDER & FOC'!$Q$11:$Q$116,B19,'SIDE ORDER & FOC'!$S$11:$S$116)","v":0},null,null,null,125,125,460,335,391.95,2.68,0]
[10,"DORY FISH FILLET ","PCS",2.4500000000000002,85,68,{"$f":"SUMIF('K-LUNCH & K DINNER'!$H$10:$H$55,B20,'K-LUNCH & K DINNER'!$J$10:$J$55)","v":41},{"$f":"SUMIF('SIDE ORDER & FOC'!$Q$11:$Q$99,B20,'SIDE ORDER & FOC'!$S$11:$S$99)","v":8},null,null,null,202,104,467,363,889.35,1.7970297029702971,0.33663366336633666]
[11,"DUMPLING ","PCS",0.65,null,null,{"$f":"SUMIF('K-LUNCH & K DINNER'!$H$10:$H$55,B21,'K-LUNCH & K DINNER'!$J$10:$J$55)","v":0},{"$f":"SUMIF('SIDE ORDER & FOC'!$Q$11:$Q$99,B21,'SIDE ORDER & FOC'!$S$11:$S$99)","v":0},null,null,null,0,0,null,0,0,{"$error":"#DIV/0!"},{"$error":"#DIV/0!"}]
[{"$f":"+A21+1","v":12},"FISH BALL (BIG)","PCS",0.24,null,null,{"$f":"SUMIF('K-LUNCH & K DINNER'!$H$10:$H$55,B22,'K-LUNCH & K DINNER'!$J$10:$J$55)","v":6},{"$f":"SUMIF('SIDE ORDER & FOC'!$Q$11:$Q$99,B22,'SIDE ORDER & FOC'!$S$11:$S$99)","v":30},null,null,null,36,-36,null,36,8.64,1,0]
[13,"MCCAIN ONION RING","PCS",null,null,null,{"$f":"SUMIF('K-LUNCH & K DINNER'!$H$10:$H$55,B23,'K-LUNCH & K DINNER'!$J$10:$J$55)","v":0},{"$f":"SUMIF('SIDE ORDER & FOC'!$Q$11:$Q$99,B23,'SIDE ORDER & FOC'!$S$11:$S$99)","v":8},null,null,null,8,-8,null,8,0,1,0]
[14,"MCCAIN SMILES","PCS",0.13,null,null,{"$f":"SUMIF('K-LUNCH & K DINNER'!$H$10:$H$55,B24,'K-LUNCH & K DINNER'!$J$10:$J$55)","v":0},{"$f":"SUMIF('SIDE ORDER & FOC'!$Q$11:$Q$99,B24,'SIDE ORDER & FOC'!$S$11:$S$99)","v":8},null,null,null,8,-8,null,8,1.04,1,0]
[15,"MCCAIN VERSITOT","PCS",0.06,null,null,{"$f":"SUMIF('K-LUNCH & K DINNER'!$H$10:$H$55,B25,'K-LUNCH & K DINNER'!$J$10:$J$55)","v":0},{"$f":"SUMIF('SIDE ORDER & FOC'!$Q$11:$Q$99,B25,'SIDE ORDER & FOC'!$S$11:$S$99)","v":90},null,null,null,90,-90,null,90,5.3999999999999995,1,0]
[16,"RAINBOW ROLL","PCS",2.02,null,null,{"$f":"SUMIF('K-LUNCH & K DINNER'!$H$10:$H$55,B26,'K-LUNCH & K DINNER'!$J$10:$J$55)","v":0},{"$f":"SUMIF('SIDE ORDER & FOC'!$Q$11:$Q$99,B26,'SIDE ORDER & FOC'!$S$11:$S$99)","v":0},null,null,null,0,0,null,0,0,{"$error":"#DIV/0!"},{"$error":"#DIV/0!"}]
[17,"SALMON BALL","PCS",0.27,null,null,{"$f":"SUMIF('K-LUNCH & K DINNER'!$H$10:$H$55,B27,'K-LUNCH & K DINNER'!$J$10:$J$55)","v":6},{"$f":"SUMIF('SIDE ORDER & FOC'!$Q$11:$Q$99,B27,'SIDE ORDER & FOC'!$S$11:$S$99)","v":4},null,null,null,10,-10,null,10,2.7,1,0]
[18,"SEAFOOD TOFU ","PCS",0.33,null,null,{"$f":"SUMIF('K-LUNCH & K DINNER'!$H$10:$H$55,B28,'K-LUNCH & K DINNER'!$J$10:$J$55)","v":6},{"$f":"SUMIF('SIDE ORDER & FOC'!$Q$11:$Q$99,B28,'SIDE ORDER & FOC'!$S$11:$S$99)","v":4},null,null,null,10,-10,null,10,3.3000000000000003,1,0]
[19,"SOTONG BALL","PCS",0.17,null,null,{"$f":"SUMIF('K-LUNCH & K DINNER'!$H$10:$H$55,B29,'K-LUNCH & K DINNER'!$J$10:$J$55)","v":6},{"$f":"SUMIF('SIDE ORDER & FOC'!$Q$11:$Q$99,B29,'SIDE ORDER & FOC'!$S$11:$S$99)","v":4},null,null,null,10,-10,null,10,1.7000000000000002,1,0]
[20,"SPRING ROLL","PCS",0.27,null,null,{"$f":"SUMIF('K-LUNCH & K DINNER'!$H$10:$H$55,B30,'K-LUNCH & K DINNER'!$J$10:$J$55)","v":0},{"$f":"SUMIF('SIDE ORDER & FOC'!$Q$11:$Q$99,B30,'SIDE ORDER & FOC'!$S$11:$S$99)","v":64},null,null,null,64,-64,null,64,17.28,1,0]
[21,"THAI ROLL","PCS",0.45,null,null,{"$f":"SUMIF('K-LUNCH & K DINNER'!$H$10:$H$55,B31,'K-LUNCH & K DINNER'!$J$10:$J$55)","v":14},{"$f":"SUMIF('SIDE ORDER & FOC'!$Q$11:$Q$99,B31,'SIDE ORDER & FOC'!$S$11:$S$99)","v":0},null,null,null,14,-14,null,14,6.3,1,0]
[]
[null,"G.TOTAL ",null,null,null,null,null,null,null,null,null,null,null,null,null,{"$f":"SUM(P11:P32)","v":7369.5357999999987}]
[]
["PART (B)  :  SAUCE "]
[null,null,null,null,null,null,null,null,null,null,null,null,"(A)","(B)","(B) -(A)"]
["NO","MATERIAL ","UOM","U/P","O/S","PURCHASE","USAGE IN SALES",null,"WASTAGE","STAFF FOOD",null,"USAGE","BOOK INVENTORY ","PHYSICAL C/S","DIFFERENCE ","DIFFERENCE ","STOCK DIFFERENCE  OVER USAGE","PURCHASE OVER USAGE"]
[null,null,null,"RM ",null,null,null,null,null,null,null,"Q",null,null,"Q","RM ","%","%"]
[]
[1,"MUSHROOM SAUCE","GRAM",6.8,1.7,7.6,{"$f":"SUMIF('SAUCE USAGE'!$F$10:$F$33,B40,'SAUCE USAGE'!$H$10:$H$33)/1000","v":5.67},null,null,null,null,{"$f":"SUM(E40:K40)","v":14.969999999999999},{"$f":"+E40+F40-G40","v":3.629999999999999},4,{"$f":"+N40-M40","v":0.37000000000000099},{"$f":"+O40*D40","v":2.5160000000000067},{"$f":"+O40/L40","v":2.4716098864395526E-2},{"$f":"+F40/L40","v":0.5076820307281229}]
[{"$f":"+A40+1","v":2},"BLACK PEPPER SAUCE","GRAM",3,2.5,11,{"$f":"SUMIF('SAUCE USAGE'!$F$10:$F$33,B41,'SAUCE USAGE'!$H$10:$H$33)/1000","v":5.74},null,null,null,null,{"$f":"SUM(E41:K41)","v":19.240000000000002},{"$f":"+E41+F41-G41","v":7.76},5,{"$f":"+N41-M41","v":-2.76},{"$f":"+O41*D41","v":-8.2799999999999994},{"$f":"+O41/L41","v":-0.14345114345114343},{"$f":"+F41/L41","v":0.5717255717255717}]
[{"$f":"+A41+1","v":3},null,"GRAM",null,null,null,{"$f":"SUMIF('SAUCE USAGE'!$F$10:$F$33,B42,'SAUCE USAGE'!$H$10:$H$33)","v":0},null,null,null,null,0,0]
[4,null,"GRAM",null,null,null,{"$f":"SUMIF('SAUCE USAGE'!$F$10:$F$33,B43,'SAUCE USAGE'!$H$10:$H$33)","v":0},null,null,null,null,null,0]
[5,null,"GRAM",null,null,null,{"$f":"SUMIF('SAUCE USAGE'!$F$10:$F$33,B44,'SAUCE USAGE'!$H$10:$H$33)","v":0},null,null,null,null,null,0]
[6,null,"GRAM",null,null,null,{"$f":"SUMIF('SAUCE USAGE'!$F$10:$F$33,B45,'SAUCE USAGE'!$H$10:$H$33)","v":0},null,null,null,null,null,0]
[7,null,"GRAM",null,null,null,{"$f":"SUMIF('SAUCE USAGE'!$F$10:$F$33,B46,'SAUCE USAGE'!$H$10:$H$33)","v":0},null,null,null,null,null,0]
[8,null,"GRAM",null,null,null,{"$f":"SUMIF('SAUCE USAGE'!$F$10:$F$33,B47,'SAUCE USAGE'!$H$10:$H$33)","v":0},null,null,null,null,null,0]
[9,null,"GRAM",null,null,null,{"$f":"SUMIF('SAUCE USAGE'!$F$10:$F$33,B48,'SAUCE USAGE'!$H$10:$H$33)","v":0},null,null,null,null,null,0]
[10,null,"GRAM",null,null,null,{"$f":"SUMIF('SAUCE USAGE'!$F$10:$F$33,B49,'SAUCE USAGE'!$H$10:$H$33)","v":0},null,null,null,null,null,0]

{"sheet":"DAILY FOC","index":6,"n_rows":66,"n_cols":69,"rows_kept":66,"cut":false,"hidden":false,"merged":[[6,57,6,58],[6,59,6,60],[6,61,6,62],[6,63,6,64],[0,0,0,5],[6,45,6,46],[6,47,6,48],[6,49,6,50],[6,51,6,52],[6,53,6,54],[6,55,6,56],[6,33,6,34],[6,35,6,36],[6,37,6,38],[6,39,6,40],[6,41,6,42],[6,43,6,44],[6,21,6,22],[6,23,6,24],[6,25,6,26],[6,27,6,28],[6,29,6,30],[6,31,6,32],[6,13,6,14],[6,15,6,16],[6,17,6,18],[6,19,6,20],[6,3,6,4],[6,5,6,6],[6,7,6,8],[6,9,6,10],[6,11,6,12]]}
["MONTHLY SALES FOOD RECORD ( K LUNCH & K DINNER)"]
[]
["Outlet :",{"$f":"+'[1]K-LUNCH & K DINNER'!B3","v":"CCS OUTLET"}]
["Month :",{"$f":"+'[1]K-LUNCH & K DINNER'!B4","v":"2013-05-01"}]
[]
[]
["CODE","Item","S/P",1,null,{"$f":"+D7+1","v":2},null,{"$f":"+F7+1","v":3},null,{"$f":"+H7+1","v":4},null,{"$f":"+J7+1","v":5},null,{"$f":"+L7+1","v":6},null,{"$f":"+N7+1","v":7},null,{"$f":"+P7+1","v":8},null,{"$f":"+R7+1","v":9},null,{"$f":"+T7+1","v":10},null,{"$f":"+V7+1","v":11},null,{"$f":"+X7+1","v":12},null,{"$f":"+Z7+1","v":13},null,{"$f":"+AB7+1","v":14},null,{"$f":"+AD7+1","v":15},null,{"$f":"+AF7+1","v":16},null,{"$f":"+AH7+1","v":17},null,{"$f":"+AJ7+1","v":18},null,{"$f":"+AL7+1","v":19},null,{"$f":"+AN7+1","v":20},null,{"$f":"+AP7+1","v":21},null,{"$f":"+AR7+1","v":22},null,{"$f":"+AT7+1","v":23},null,{"$f":"+AV7+1","v":24},null,{"$f":"+AX7+1","v":25},null,{"$f":"+AZ7+1","v":26},null,{"$f":"+BB7+1","v":27},null,{"$f":"+BD7+1","v":28},null,{"$f":"+BF7+1","v":29},null,{"$f":"+BH7+1","v":30},null,{"$f":"+BJ7+1","v":31},null,null,"TOTAL","TOTAL","%"]
[null,null,"RM","Q","RM","Q","RM","Q","RM","Q","RM","Q","RM","Q","RM","Q","RM","Q","RM","Q","RM","Q","RM","Q","RM","Q","RM","Q","RM","Q","RM","Q","RM","Q","RM","Q","RM","Q","RM","Q","RM","Q","RM","Q","RM","Q","RM","Q","RM","Q","RM","Q","RM","Q","RM","Q","RM","Q","RM","Q","RM","Q","RM","Q","RM",null,"Q","RM"]
["DF 01","Plain Rice",1,0,{"$f":"D9*C9","v":0},0,{"$f":"F9*C9","v":0},0,{"$f":"H9*C9","v":0},0,{"$f":"J9*C9","v":0},0,{"$f":"L9*C9","v":0},0,{"$f":"N9*C9","v":0},0,{"$f":"P9*C9","v":0},0,{"$f":"R9*C9","v":0},0,{"$f":"T9*C9","v":0},0,{"$f":"V9*C9","v":0},0,{"$f":"X9*C9","v":0},0,{"$f":"Z9*C9","v":0},0,{"$f":"AB9*C9","v":0},0,{"$f":"AD9*C9","v":0},0,{"$f":"AF9*C9","v":0},0,{"$f":"AH9*C9","v":0},0,{"$f":"AJ9*C9","v":0},0,{"$f":"AL9*C9","v":0},0,{"$f":"AN9*C9","v":0},0,{"$f":"AP9*C9","v":0},0,{"$f":"AR9*C9","v":0},0,{"$f":"AT9*C9","v":0},0,{"$f":"AV9*C9","v":0},0,{"$f":"AX9*C9","v":0},0,{"$f":"AZ9*C9","v":0},0,{"$f":"BB9*C9","v":0},0,{"$f":"BD9*C9","v":0},0,{"$f":"BF9*C9","v":0},0,{"$f":"BH9*C9","v":0},0,{"$f":"BJ9*C9","v":0},0,{"$f":"BL9*C9","v":0},null,{"$f":"D9+F9+H9+J9+L9+N9+P9+R9+T9+V9+X9+Z9+AB9+AD9+AF9+AH9+AJ9+AL9+AN9+AP9+AR9+AT9+AV9+AX9+AZ9+BB9+BD9+BF9+BH9+BJ9+BL9","v":0},{"$f":"BO9*C9","v":0}]
["DF 02","Egg",1.5,0,0,0,0,0,0,0,0,0,0,0,0,0,0,0,0,0,0,0,0,0,0,0,0,0,0,0,0,0,0,0,0,0,0,0,0,0,0,0,0,0,0,0,0,0,0,0,0,0,0,0,0,0,0,0,0,0,0,0,0,0,0,null,0,0]
[1101,"Thai Ckn Chop",9.9,0,0,0,0,0,0,0,0,0,0,0,0,0,0,0,0,0,0,0,0,0,0,0,0,0,0,0,0,0,0,0,0,0,0,0,0,0,0,0,0,0,0,0,0,0,0,0,0,0,0,0,0,0,0,0,0,0,0,0,0,0,0,null,0,0]
[1102,"Marmite Ckn Chop",9.9,0,0,0,0,0,0,0,0,0,0,0,0,0,0,0,0,0,0,0,0,0,0,0,0,0,0,0,0,0,0,0,0,0,0,0,0,0,0,0,0,0,0,0,0,0,0,0,0,0,0,0,0,0,0,0,0,0,0,0,0,0,0,null,0,0]
[1103,"Kong Po Ckn Chop",9.9,0,0,0,0,0,0,0,0,0,0,0,0,0,0,0,0,0,0,0,0,0,0,0,0,0,0,0,0,0,0,0,0,0,0,0,0,0,0,0,0,0,0,0,0,0,0,0,0,0,0,0,0,0,0,0,0,0,0,0,0,0,0,null,0,0]
[1104,"S/Sour Ckn Chop",9.9,0,0,0,0,0,0,0,0,0,0,0,0,0,0,0,0,0,0,0,0,0,0,0,0,0,0,0,0,0,0,0,0,0,0,0,0,0,0,0,0,0,0,0,0,0,0,0,0,0,0,0,0,0,0,0,0,0,0,0,0,0,0,null,0,0]
[1105,"Butter Ckn Chop",9.9,0,0,0,0,0,0,0,0,0,0,0,0,0,0,0,0,0,0,0,0,0,0,0,0,0,0,0,0,0,0,0,0,0,0,0,0,0,0,0,0,0,0,0,0,0,0,0,0,0,0,0,0,0,0,0,0,0,0,0,0,0,0,null,0,0]
[1106,"HK Prawn F/Rice",9.9,0,0,0,0,0,0,0,0,0,0,0,0,0,0,0,0,0,0,0,0,0,0,0,0,0,0,0,0,0,0,0,0,0,0,0,0,0,0,0,0,0,0,0,0,0,0,0,0,0,0,0,0,0,0,0,0,0,0,0,0,0,0,null,0,0]
[1107,"Sambal F/Rice",9.9,0,0,0,0,0,0,0,0,0,0,0,0,0,0,0,0,0,0,0,0,0,0,0,0,0,0,0,0,0,0,0,0,0,0,0,0,0,0,0,0,0,0,0,0,0,0,0,0,0,0,0,0,0,0,0,0,0,0,0,0,0,0,null,0,0]
[1108,"Sambal F/Mee",9.9,0,0,0,0,0,0,0,0,0,0,0,0,0,0,0,0,0,0,0,0,0,0,0,0,0,0,0,0,0,0,0,0,0,0,0,0,0,0,0,0,0,0,0,0,0,0,0,0,0,0,0,0,0,0,0,0,0,0,0,0,0,0,null,0,0]
[1109,"B/Pepper Udon Noodle",9.9,0,0,0,0,0,0,0,0,0,0,0,0,0,0,0,0,0,0,0,0,0,0,0,0,0,0,0,0,0,0,0,0,0,0,0,0,0,0,0,0,0,0,0,0,0,0,0,0,0,0,0,0,0,0,0,0,0,0,0,0,0,0,null,0,0]
[1110,"Nissin Noodle Soup",9.9,0,0,0,0,0,0,0,0,0,0,0,0,0,0,0,0,0,0,0,0,0,0,0,0,0,0,0,0,0,0,0,0,0,0,0,0,0,0,0,0,0,0,0,0,0,0,0,0,0,0,0,0,0,0,0,0,0,0,0,0,0,0,null,0,0]
[1111,"Fried Mix Vegetable W/Rice",9.9,0,0,0,0,0,0,0,0,0,0,0,0,0,0,0,0,0,0,0,0,0,0,0,0,0,0,0,0,0,0,0,0,0,0,0,0,0,0,0,0,0,0,0,0,0,0,0,0,0,0,0,0,0,0,0,0,0,0,0,0,0,0,null,0,0]
[1112,"Nasi Lemak W/F Ckn Wing",9.9,0,0,0,0,0,0,0,0,0,0,0,0,0,0,0,0,0,0,0,0,0,0,0,0,0,0,0,0,0,0,0,0,0,0,0,0,0,0,0,0,0,0,0,0,0,0,0,0,0,0,0,0,0,0,0,0,0,0,0,0,0,0,null,0,0]
[1113,"H & S F/Kuey Teow",9.9,0,0,0,0,0,0,0,0,0,0,0,0,0,0,0,0,0,0,0,0,0,0,0,0,0,0,0,0,0,0,0,0,0,0,0,0,0,0,0,0,0,0,0,0,0,0,0,0,0,0,0,0,0,0,0,0,0,0,0,0,0,0,null,0,0]
[1114,"Seaweed Fishball Noodle Soup",9.9,0,0,0,0,0,0,0,0,0,0,0,0,0,0,0,0,0,0,0,0,0,0,0,0,0,0,0,0,0,0,0,0,0,0,0,0,0,0,0,0,0,0,0,0,0,0,0,0,0,0,0,0,0,0,0,0,0,0,0,0,0,0,null,0,0]
[1115,"Braised Noodle W/Chicken Chop",9.9,0,0,0,0,0,0,0,0,0,0,0,0,0,0,0,0,0,0,0,0,0,0,0,0,0,0,0,0,0,0,0,0,0,0,0,0,0,0,0,0,0,0,0,0,0,0,0,0,0,0,0,0,0,0,0,0,0,0,0,0,0,0,null,0,0]
[1116,"Mongolian Chicken Chop",9.9,0,0,0,0,0,0,0,0,0,0,0,0,0,0,0,0,0,0,0,0,0,0,0,0,0,0,0,0,0,0,0,0,0,0,0,0,0,0,0,0,0,0,0,0,0,0,0,0,0,0,0,0,0,0,0,0,0,0,0,0,0,0,null,0,0]
[1001,"Black Pepper Chicken Chop",12.9,0,0,0,0,0,0,0,0,0,0,0,0,0,0,0,0,0,0,0,0,0,0,0,0,0,0,0,0,0,0,0,0,0,0,0,0,0,0,0,0,0,0,0,0,0,0,0,0,0,0,0,0,0,0,0,0,0,0,0,0,0,0,null,0,0]
[1002,"Gravy Chicken Chop",12.9,0,0,0,0,0,0,0,0,0,0,0,0,0,0,0,0,0,0,0,0,0,0,0,0,0,0,0,0,0,0,0,0,0,0,0,0,0,0,0,0,0,0,0,0,0,0,0,0,0,0,0,0,0,0,0,0,0,0,0,0,0,0,null,0,0]
[1003,"Mushroom Chicken Chop",12.9,0,0,0,0,0,0,0,0,0,0,0,0,0,0,0,0,0,0,0,0,0,0,0,0,0,0,0,0,0,0,0,0,0,0,0,0,0,0,0,0,0,0,0,0,0,0,0,0,0,0,0,0,0,0,0,0,0,0,0,0,0,0,null,0,0]
[1004,"Chicken Maryland",12.9,0,0,0,0,0,0,1,12.9,0,0,0,0,0,0,0,0,0,0,0,0,0,0,0,0,0,0,0,0,0,0,0,0,0,0,0,0,0,0,0,0,0,0,0,0,0,0,0,0,0,0,0,0,0,0,0,0,0,0,0,0,0,0,null,1,12.9]
[1005,"Fish & chip",12.9,1,12.9,0,0,0,0,0,0,0,0,0,0,0,0,0,0,0,0,0,0,0,0,0,0,0,0,0,0,0,0,0,0,0,0,0,0,0,0,0,0,0,0,0,0,0,0,0,0,0,0,0,0,0,0,0,0,0,0,0,0,0,0,null,1,12.9]
[1006,"Spaghetti Bolognese",12.9,0,0,0,0,0,0,0,0,0,0,0,0,0,0,0,0,0,0,0,0,0,0,0,0,0,0,0,0,0,0,0,0,0,0,0,0,0,0,0,0,0,0,0,0,0,0,0,0,0,0,0,0,0,0,0,0,0,0,0,0,0,0,null,0,0]
[1007,"Chicken Chop Salad",12.9,1,12.9,0,0,0,0,0,0,0,0,0,0,0,0,0,0,0,0,0,0,0,0,0,0,0,0,0,0,0,0,0,0,0,0,0,0,0,0,0,0,0,0,0,0,0,0,0,0,0,0,0,0,0,0,0,0,0,0,0,0,0,0,null,1,12.9]
[1201,"Seafood Stick",5.9,0,0,0,0,0,0,0,0,0,0,0,0,0,0,0,0,0,0,0,0,0,0,0,0,0,0,0,0,0,0,0,0,0,0,0,0,0,0,0,0,0,0,0,0,0,0,0,0,0,0,0,0,0,0,0,0,0,0,0,0,0,0,null,0,0]
[1202,"French Fries",5.9,0,0,0,0,0,0,0,0,0,0,0,0,0,0,0,0,0,0,0,0,0,0,0,0,0,0,0,0,0,0,0,0,0,0,0,0,0,0,0,0,0,0,0,0,0,0,0,0,0,0,0,0,0,0,0,0,0,0,0,0,0,0,null,0,0]
[1203,"S/Pepper Golden Mushroom",5.9,0,0,0,0,0,0,0,0,0,0,0,0,0,0,0,0,0,0,0,0,0,0,0,0,0,0,0,0,0,0,0,0,0,0,0,0,0,0,0,0,0,0,0,0,0,0,0,0,0,0,0,0,0,0,0,0,0,0,0,0,0,0,null,0,0]
[1204,"Fried Fish Ball",5.9,0,0,0,0,0,0,0,0,0,0,0,0,0,0,0,0,0,0,0,0,0,0,0,0,0,0,0,0,0,0,0,0,0,0,0,0,0,0,0,0,0,0,0,0,0,0,0,0,0,0,0,0,0,0,0,0,0,0,0,0,0,0,null,0,0]
[1205,"Rainbow Roll",5.9,0,0,0,0,0,0,0,0,0,0,0,0,0,0,0,0,0,0,0,0,0,0,0,0,0,0,0,0,0,0,0,0,0,0,0,0,0,0,0,0,0,0,0,0,0,0,0,0,0,0,0,0,0,0,0,0,0,0,0,0,0,0,null,0,0]
[1206,"Spring Roll",5.9,0,0,0,0,0,0,0,0,0,0,0,0,0,0,0,0,0,0,0,0,0,0,0,0,0,0,0,0,0,0,0,0,0,0,0,0,0,0,0,0,0,0,0,0,0,0,0,0,0,0,0,0,0,0,0,0,0,0,0,0,0,0,null,0,0]
[1207,"Crispy Ckn Sausage",5.9,0,0,0,0,0,0,0,0,0,0,0,0,0,0,0,0,0,0,0,0,0,0,0,0,0,0,0,0,0,0,0,0,0,0,0,0,0,0,0,0,0,0,0,0,0,0,0,0,0,0,0,0,0,0,0,0,0,0,0,0,0,0,null,0,0]
[1301,"Shanghai Guo Tie",7.9,0,0,0,0,0,0,0,0,0,0,0,0,0,0,0,0,0,0,0,0,0,0,0,0,0,0,0,0,0,0,0,0,0,0,0,0,0,0,0,0,0,0,0,0,0,0,0,0,0,0,0,0,0,0,0,0,0,0,0,0,0,0,null,0,0]
[1302,"Chicken Nugget",7.9,0,0,0,0,0,0,1,7.9,0,0,0,0,0,0,0,0,0,0,0,0,0,0,0,0,0,0,0,0,0,0,0,0,0,0,0,0,0,0,0,0,0,0,0,0,0,0,0,0,0,0,0,0,0,0,0,0,0,0,0,0,0,0,null,1,7.9]
[1303,"Ckn Wing",7.9,0,0,0,0,0,0,0,0,0,0,0,0,0,0,0,0,0,0,0,0,0,0,0,0,0,0,0,0,0,0,0,0,0,0,0,0,0,0,0,0,0,0,0,0,0,0,0,0,0,0,0,0,0,0,0,0,0,0,0,0,0,0,null,0,0]
[1304,"Hot & Spicy Achiovice",7.9,0,0,0,0,0,0,0,0,0,0,0,0,0,0,0,0,0,0,0,0,0,0,0,0,0,0,0,0,0,0,0,0,0,0,0,0,0,0,0,0,0,0,0,0,0,0,0,0,0,0,0,0,0,0,0,0,0,0,0,0,0,0,null,0,0]
[1305,"Crispy Thai Roll",7.9,0,0,0,0,0,0,0,0,0,0,0,0,0,0,0,0,0,0,0,0,0,0,0,0,0,0,0,0,0,0,0,0,0,0,0,0,0,0,0,0,0,0,0,0,0,0,0,0,0,0,0,0,0,0,0,0,0,0,0,0,0,0,null,0,0]
[1306,"S/Pepper Silver Fish",7.9,0,0,0,0,0,0,0,0,0,0,0,0,0,0,0,0,0,0,0,0,0,0,0,0,0,0,0,0,0,0,0,0,0,0,0,0,0,0,0,0,0,0,0,0,0,0,0,0,0,0,0,0,0,0,0,0,0,0,0,0,0,0,null,0,0]
[1307,"Deep Fried Chicken Wing",7.9,0,0,0,0,0,0,0,0,0,0,0,0,0,0,0,0,0,{"$f":"T47*C47","v":0},0,0,0,0,0,0,0,0,0,0,0,0,0,0,0,0,0,0,0,0,0,0,0,0,0,0,0,0,0,0,0,0,0,0,0,0,0,0,0,0,0,0,0,0,null,0,0]
[1308,"Crunchy Calamari Ring",7.9,0,0,0,0,0,0,0,0,0,0,0,0,0,0,0,0,0,{"$f":"T48*C48","v":0},0,0,0,0,0,0,0,0,0,0,0,0,0,0,0,0,0,0,0,0,0,0,0,0,0,0,0,0,0,0,0,0,0,0,0,0,0,0,0,0,0,0,0,0,null,0,0]
[1309,"Mccain Breaded Onion Ring",7.9,0,0,0,0,0,0,0,0,0,0,0,0,0,0,0,0,0,{"$f":"T49*C49","v":0},0,0,0,0,0,0,0,0,0,0,0,0,0,0,0,0,0,0,0,0,0,0,0,0,0,0,0,0,0,0,0,0,0,0,0,0,0,0,0,0,0,0,0,0,null,0,0]
[1310,"Mccain Spiral Fries",7.9,0,0,0,0,0,0,0,0,0,0,0,0,0,0,0,0,0,{"$f":"T50*E50","v":0},0,0,0,0,0,0,0,0,0,0,0,0,0,0,0,0,0,0,0,0,0,0,0,0,0,0,0,0,0,0,0,0,0,0,0,0,0,0,0,0,0,0,0,0,null,0,0]
[1311,"Mccain Happy Crispy Smiles",7.9,0,0,0,0,0,0,0,0,0,0,0,0,0,0,0,0,0,{"$f":"T51*C51","v":0},0,0,0,0,0,0,0,0,0,0,0,0,0,0,0,0,0,0,0,0,0,0,0,0,0,0,0,0,0,0,0,0,0,0,0,0,0,0,0,0,0,0,0,0,null,0,0]
[1312,"Mccain Mini Hash Brown",7.9,0,0,0,0,0,0,0,0,0,0,0,0,0,0,0,0,0,{"$f":"T52*C52","v":0},0,0,0,0,0,0,0,0,0,0,0,0,0,0,0,0,0,0,0,0,0,0,0,0,0,0,0,0,0,0,0,0,0,0,0,0,0,0,0,0,0,0,0,0,null,0,0]
[3001,"6' Hawaiian Pizza",12.9,0,{"$f":"D53*C53","v":0},0,{"$f":"F53*C53","v":0},0,0,0,{"$f":"J53*C53","v":0},0,0,0,0,0,0,0,0,0,0,0,0,0,0,0,0,0,0,0,0,0,0,0,{"$f":"AH53*AG53","v":0},0,0,0,0,0,0,0,0,0,0,0,0,0,0,0,0,0,0,0,0,0,0,0,0,0,{"$f":"BH53*C53","v":0},0,0,0,0,null,0,0]
[3002,"6' Smoke BBQ Pizza",12.9,0,{"$f":"D54*C54","v":0},0,{"$f":"F54*C54","v":0},0,0,0,{"$f":"J54*C54","v":0},0,0,0,0,0,0,0,0,0,0,0,0,0,0,0,0,0,0,0,0,0,0,0,0,0,0,0,0,0,0,0,0,0,0,0,0,0,0,0,0,0,0,0,0,0,0,0,0,0,{"$f":"BH54*C54","v":0},0,0,0,0,null,0,0]
[3003,"6' Seafood Pizza",12.9,0,0,0,0,0,0,0,0,0,0,0,{"$f":"N55*C55","v":0},0,0,0,0,0,0,0,0,0,0,0,0,0,0,0,0,0,0,0,0,0,0,0,0,0,0,0,0,0,0,0,0,0,0,0,0,0,0,0,0,0,0,0,0,0,0,0,0,0,0,null,0,0]
[3004,"6' Spicy Buf Pizza",12.9,0,0,0,0,0,0,0,0,0,0,0,{"$f":"N56*C56","v":0},0,0,0,0,0,0,0,0,0,0,0,0,0,0,0,0,0,0,0,0,0,0,0,0,0,0,0,0,0,0,0,0,0,0,0,0,0,0,0,0,0,0,0,0,0,0,0,0,0,0,null,0,0]
[3005,"6' Veggie",12.9,0,0,0,0,0,0,0,0,0,0,0,0,0,0,0,0,0,0,0,0,0,0,0,0,0,0,0,0,0,0,0,0,0,0,0,0,0,0,0,0,0,0,0,0,0,0,0,0,0,0,0,0,0,0,0,0,0,0,0,0,0,0,null,0,0]
[3001,"9' Hawaiian Pizza",16.899999999999999,0,0,0,0,0,0,0,0,0,0,0,0,0,0,0,0,0,0,0,0,0,0,0,0,0,0,0,0,0,0,0,0,0,0,0,0,0,0,0,0,0,0,0,0,0,0,0,0,0,0,0,0,0,0,0,0,0,0,0,0,0,0,null,0,0]
[3002,"9' Smoke BBQ Pizza",16.899999999999999,0,0,0,0,0,0,0,0,0,0,0,0,0,0,0,0,0,0,0,0,0,0,0,0,0,0,0,0,0,0,0,0,0,0,0,0,0,0,0,0,0,0,0,0,0,0,0,0,0,0,0,0,0,0,0,0,0,0,0,0,0,0,null,0,0]
[3003,"9' Seafood Pizza",16.899999999999999,0,0,0,0,0,0,0,0,0,0,0,0,0,0,0,0,0,0,0,0,0,0,0,0,0,0,0,0,0,0,0,0,0,0,0,0,0,0,0,0,0,0,0,0,0,0,0,0,0,0,0,0,0,0,0,0,0,0,0,0,0,0,null,0,0]
[3004,"9' Spicy Buf Pizza",16.899999999999999,0,0,0,0,0,0,0,0,0,0,0,0,0,0,0,0,0,0,0,0,0,0,0,0,0,0,0,0,0,0,0,0,0,0,0,0,0,0,0,0,0,0,0,0,0,0,0,0,0,0,0,0,0,0,0,0,0,0,0,0,0,0,null,0,0]
[3005,"9' Veggie",16.899999999999999,0,0,0,0,0,0,0,0,0,0,0,0,0,0,0,0,0,0,0,0,0,0,0,0,0,0,0,0,0,0,0,0,0,0,0,0,0,0,0,0,0,0,0,0,0,0,0,0,0,0,0,0,0,0,0,0,0,0,0,0,0,0,null,0,0]
[null,"McCain AlaCarte",16.899999999999999,0,0,0,0,0,0,0,0,0,0,0,0,0,0,0,0,0,0,0,0,0,0,0,0,0,0,0,0,0,0,0,0,0,0,0,0,0,0,0,0,0,0,0,0,0,0,0,0,0,0,0,0,0,0,0,0,0,0,0,0,0,0,null,0,0]
[null,"McCain Beer Platter",12.9,0,0,0,0,0,0,0,0,0,0,0,0,0,0,0,0,0,0,0,0,0,0,0,0,0,0,0,0,0,0,0,0,0,0,0,0,0,0,0,0,0,0,0,0,0,0,0,0,0,0,0,0,0,0,0,0,0,0,0,0,0,0,null,0,0]
[]
[null,"Total Foc","-",{"$f":"SUM(D9:D64)","v":2},25.8,0,0,0,0,2,20.8,0,0,0,0,0,0,0,0,0,0,0,0,0,0,0,0,0,0,0,0,0,0,0,0,0,0,0,0,0,0,0,0,0,0,0,0,0,0,0,0,0,0,0,0,0,0,0,0,0,0,0,0,0,0,null,{"$f":"SUM(BO9:BO64)","v":4},{"$f":"SUM(BP9:BP65)","v":46.6}]