{"text_format":"1","workbook":"xlsx","n_sheets":7,"sheets":["Summary","Daily Log","K-LUNCH & K DINNER","SIDE ORDER & FOC","SAUCE USAGE","STOCK ANALYSIS","DAILY FOC"],"not_rendered":{"charts":0,"images":1,"macros":0,"external_links":1,"defined_names":10,"comments":0,"pivot_tables":0},"unopened":[],"bounds":{"document_bytes":16777216,"sheet_cells":100000,"rows_first":2000,"rows_last":500,"rows_between":2000,"halvings":0,"cell_chars":16384,"cell_head_chars":4096},"cells_cut":0,"cells_raw":0,"read":"whole","date_system":"1900"}

{"sheet":"Summary","index":0,"n_rows":378,"n_cols":37,"rows_kept":378,"cut":false,"hidden":false,"merged":[[374,1,374,2],[375,1,375,2],[372,1,372,2],[326,1,326,2],[5,2,5,3],[7,2,7,3],[9,2,9,3],[28,1,28,2],[373,1,373,2]]}
[]
[]
[null,null,"SUMMARY OF PRODUCT SALES IN MONTH"]
[]
[]
[null,"OUTLET",{"$f":"MID(CELL(\"FILENAME\",$A$1),FIND(\"[\",CELL(\"FILENAME\",$A$1))+1,3)","v":"CCS"}]
[]
[null,"YEAR",{"$f":"MID(CELL(\"FILENAME\",$A$1),FIND(\"[\",CELL(\"FILENAME\",$A$1))+4,4)","v":"2013"}]
[]
[null,"MONTH",{"$f":"INDEX($C$12:$C$23,MID(CELL(\"FILENAME\",$A$1),FIND(\"[\",CELL(\"FILENAME\",$A$1))+8,2),1)","v":"MAY"}]
[]
[null,"MONTH","JANUARY"]
[null,null,"FEBRUARY"]
[null,null,"MARCH"]
[null,null,"APRIL"]
[null,null,"MAY"]
[null,null,"JUNE"]
[null,null,"JULY"]
[null,null,"AUGUST"]
[null,null,"SEPTEMBER"]
[null,null,"OCTOBER"]
[null,null,"NOVEMBER"]
[null,null,"DECEMBER"]
[]
[]
[null,"PRODUCT",null,"CATEGORY","QTY","QUANTITIES SOLD IN MONTH"]
[null,null,null,null,"PER","TOTAL",{"$f":"DATE(C8,MID(CELL(\"FILENAME\",$A$1),FIND(\"[\",CELL(\"FILENAME\",$A$1))+8,2),1)","v":"2013-05-01"},{"$f":"IFERROR(IF(MONTH(G27+1)<=MONTH($G$27),G27+1,\"\"),\"\")","v":"2013-05-02"},{"$f":"IFERROR(IF(MONTH(H27+1)<=MONTH($G$27),H27+1,\"\"),\"\")","v":"2013-05-03"},"2013-05-04","2013-05-05","2013-05-06","2013-05-07","2013-05-08","2013-05-09","2013-05-10","2013-05-11","2013-05-12","2013-05-13","2013-05-14","2013-05-15","2013-05-16","2013-05-17","2013-05-18","2013-05-19","2013-05-20","2013-05-21","2013-05-22","2013-05-23","2013-05-24","2013-05-25","2013-05-26","2013-05-27","2013-05-28","2013-05-29","2013-05-30","2013-05-31"]
[null,null,null,null,"ITEM"]
[]
[null,"BA01 K : 4BP",null,"BEER",12,{"$f":"SUM($G30:$AK30)","v":0},{"$f":"IFERROR($E30*SUMIF('Daily Log'!$B$18:$B$1017,$B30,'Daily Log'!$C$18:$C$1017),0)","v":0},{"$f":"IFERROR($E30*SUMIF('Daily Log'!$E$18:$E$1017,$B30,'Daily Log'!$F$18:$F$1017),0)","v":0},{"$f":"IFERROR($E30*SUMIF('Daily Log'!$H$18:$H$1017,$B30,'Daily Log'!$I$18:$I$1017),0)","v":0},{"$f":"IFERROR($E30*SUMIF('Daily Log'!$K$18:$K$1017,$B30,'Daily Log'!$L$18:$L$1017),0)","v":0},{"$f":"IFERROR($E30*SUMIF('Daily Log'!$N$18:$N$1017,$B30,'Daily Log'!$O$18:$O$1017),0)","v":0},{"$f":"IFERROR($E30*SUMIF('Daily Log'!$Q$18:$Q$1017,$B30,'Daily Log'!$R$18:$R$1017),0)","v":0},{"$f":"IFERROR($E30*SUMIF('Daily Log'!$T$18:$T$1017,$B30,'Daily Log'!$U$18:$U$1017),0)","v":0},{"$f":"IFERROR($E30*SUMIF('Daily Log'!$W$18:$W$1017,$B30,'Daily Log'!$X$18:$X$1017),0)","v":0},{"$f":"IFERROR($E30*SUMIF('Daily Log'!$Z$18:$Z$1017,$B30,'Daily Log'!$AA$18:$AA$1017),0)","v":0},{"$f":"IFERROR($E30*SUMIF('Daily Log'!$AC$18:$AC$1017,$B30,'Daily Log'!$AD$18:$AD$1017),0)","v":0},{"$f":"IFERROR($E30*SUMIF('Daily Log'!$AF$18:$AF$1017,$B30,'Daily Log'!$AG$18:$AG$1017),0)","v":0},{"$f":"IFERROR($E30*SUMIF('Daily Log'!$AI$18:$AI$1017,$B30,'Daily Log'!$AJ$18:$AJ$1017),0)","v":0},{"$f":"IFERROR($E30*SUMIF('Daily Log'!#REF!,$B30,'Daily Log'!#REF!),0)","v":0},{"$f":"IFERROR($E30*SUMIF('Daily Log'!#REF!,$B30,'Daily Log'!#REF!),0)","v":0},{"$f":"IFERROR($E30*SUMIF('Daily Log'!#REF!,$B30,'Daily Log'!#REF!),0)","v":0},{"$f":"IFERROR($E30*SUMIF('Daily Log'!#REF!,$B30,'Daily Log'!#REF!),0)","v":0},{"$f":"IFERROR($E30*SUMIF('Daily Log'!#REF!,$B30,'Daily Log'!#REF!),0)","v":0},{"$f":"IFERROR($E30*SUMIF('Daily Log'!#REF!,$B30,'Daily Log'!#REF!),0)","v":0},{"$f":"IFERROR($E30*SUMIF('Daily Log'!#REF!,$B30,'Daily Log'!#REF!),0)","v":0},{"$f":"IFERROR($E30*SUMIF('Daily Log'!#REF!,$B30,'Daily Log'!#REF!),0)","v":0},{"$f":"IFERROR($E30*SUMIF('Daily Log'!#REF!,$B30,'Daily Log'!#REF!),0)","v":0},{"$f":"IFERROR($E30*SUMIF('Daily Log'!#REF!,$B30,'Daily Log'!#REF!),0)","v":0},{"$f":"IFERROR($E30*SUMIF('Daily Log'!#REF!,$B30,'Daily Log'!#REF!),0)","v":0},{"$f":"IFERROR($E30*SUMIF('Daily Log'!#REF!,$B30,'Daily Log'!#REF!),0)","v":0},{"$f":"IFERROR($E30*SUMIF('Daily Log'!#REF!,$B30,'Daily Log'!#REF!),0)","v":0},{"$f":"IFERROR($E30*SUMIF('Daily Log'!#REF!,$B30,'Daily Log'!#REF!),0)","v":0},{"$f":"IFERROR($E30*SUMIF('Daily Log'!#REF!,$B30,'Daily Log'!#REF!),0)","v":0},{"$f":"IFERROR($E30*SUMIF('Daily Log'!#REF!,$B30,'Daily Log'!#REF!),0)","v":0},{"$f":"IFERROR($E30*SUMIF('Daily Log'!#REF!,$B30,'Daily Log'!#REF!),0)","v":0},{"$f":"IFERROR($E30*SUMIF('Daily Log'!#REF!,$B30,'Daily Log'!#REF!),0)","v":0},{"$f":"IFERROR($E30*SUMIF('Daily Log'!#REF!,$B30,'Daily Log'!#REF!),0)","v":0}]
[null,"BA02 H : 4BP",null,"BEER",12,12,{"$f":"IFERROR($E31*SUMIF('Daily Log'!$B$18:$B$1017,$B31,'Daily Log'!$C$18:$C$1017),0)","v":0},{"$f":"IFERROR($E31*SUMIF('Daily Log'!$E$18:$E$1017,$B31,'Daily Log'!$F$18:$F$1017),0)","v":0},{"$f":"IFERROR($E31*SUMIF('Daily Log'!$H$18:$H$1017,$B31,'Daily Log'!$I$18:$I$1017),0)","v":0},{"$f":"IFERROR($E31*SUMIF('Daily Log'!$K$18:$K$1017,$B31,'Daily Log'!$L$18:$L$1017),0)","v":0},{"$f":"IFERROR($E31*SUMIF('Daily Log'!$N$18:$N$1017,$B31,'Daily Log'!$O$18:$O$1017),0)","v":0},{"$f":"IFERROR($E31*SUMIF('Daily Log'!$Q$18:$Q$1017,$B31,'Daily Log'!$R$18:$R$1017),0)","v":0},{"$f":"IFERROR($E31*SUMIF('Daily Log'!$T$18:$T$1017,$B31,'Daily Log'!$U$18:$U$1017),0)","v":0},{"$f":"IFERROR($E31*SUMIF('Daily Log'!$W$18:$W$1017,$B31,'Daily Log'!$X$18:$X$1017),0)","v":0},{"$f":"IFERROR($E31*SUMIF('Daily Log'!$Z$18:$Z$1017,$B31,'Daily Log'!$AA$18:$AA$1017),0)","v":12},{"$f":"IFERROR($E31*SUMIF('Daily Log'!$AC$18:$AC$1017,$B31,'Daily Log'!$AD$18:$AD$1017),0)","v":0},{"$f":"IFERROR($E31*SUMIF('Daily Log'!$AF$18:$AF$1017,$B31,'Daily Log'!$AG$18:$AG$1017),0)","v":0},{"$f":"IFERROR($E31*SUMIF('Daily Log'!$AI$18:$AI$1017,$B31,'Daily Log'!$AJ$18:$AJ$1017),0)","v":0},{"$f":"IFERROR($E31*SUMIF('Daily Log'!#REF!,$B31,'Daily Log'!#REF!),0)","v":0},{"$f":"IFERROR($E31*SUMIF('Daily Log'!#REF!,$B31,'Daily Log'!#REF!),0)","v":0},{"$f":"IFERROR($E31*SUMIF('Daily Log'!#REF!,$B31,'Daily Log'!#REF!),0)","v":0},{"$f":"IFERROR($E31*SUMIF('Daily Log'!#REF!,$B31,'Daily Log'!#REF!),0)","v":0},{"$f":"IFERROR($E31*SUMIF('Daily Log'!#REF!,$B31,'Daily Log'!#REF!),0)","v":0},{"$f":"IFERROR($E31*SUMIF('Daily Log'!#REF!,$B31,'Daily Log'!#REF!),0)","v":0},{"$f":"IFERROR($E31*SUMIF('Daily Log'!#REF!,$B31,'Daily Log'!#REF!),0)","v":0},{"$f":"IFERROR($E31*SUMIF('Daily Log'!#REF!,$B31,'Daily Log'!#REF!),0)","v":0},{"$f":"IFERROR($E31*SUMIF('Daily Log'!#REF!,$B31,'Daily Log'!#REF!),0)","v":0},{"$f":"IFERROR($E31*SUMIF('Daily Log'!#REF!,$B31,'Daily Log'!#REF!),0)","v":0},{"$f":"IFERROR($E31*SUMIF('Daily Log'!#REF!,$B31,'Daily Log'!#REF!),0)","v":0},{"$f":"IFERROR($E31*SUMIF('Daily Log'!#REF!,$B31,'Daily Log'!#REF!),0)","v":0},{"$f":"IFERROR($E31*SUMIF('Daily Log'!#REF!,$B31,'Daily Log'!#REF!),0)","v":0},{"$f":"IFERROR($E31*SUMIF('Daily Log'!#REF!,$B31,'Daily Log'!#REF!),0)","v":0},{"$f":"IFERROR($E31*SUMIF('Daily Log'!#REF!,$B31,'Daily Log'!#REF!),0)","v":0},{"$f":"IFERROR($E31*SUMIF('Daily Log'!#REF!,$B31,'Daily Log'!#REF!),0)","v":0},{"$f":"IFERROR($E31*SUMIF('Daily Log'!#REF!,$B31,'Daily Log'!#REF!),0)","v":0},{"$f":"IFERROR($E31*SUMIF('Daily Log'!#REF!,$B31,'Daily Log'!#REF!),0)","v":0},{"$f":"IFERROR($E31*SUMIF('Daily Log'!#REF!,$B31,'Daily Log'!#REF!),0)","v":0}]
[null,"BA03 H : 4BP MEMBER",null,"BEER",12,0,{"$f":"IFERROR($E32*SUMIF('Daily Log'!$B$18:$B$1017,$B32,'Daily Log'!$C$18:$C$1017),0)","v":0},{"$f":"IFERROR($E32*SUMIF('Daily Log'!$E$18:$E$1017,$B32,'Daily Log'!$F$18:$F$1017),0)","v":0},{"$f":"IFERROR($E32*SUMIF('Daily Log'!$H$18:$H$1017,$B32,'Daily Log'!$I$18:$I$1017),0)","v":0},{"$f":"IFERROR($E32*SUMIF('Daily Log'!$K$18:$K$1017,$B32,'Daily Log'!$L$18:$L$1017),0)","v":0},{"$f":"IFERROR($E32*SUMIF('Daily Log'!$N$18:$N$1017,$B32,'Daily Log'!$O$18:$O$1017),0)","v":0},{"$f":"IFERROR($E32*SUMIF('Daily Log'!$Q$18:$Q$1017,$B32,'Daily Log'!$R$18:$R$1017),0)","v":0},{"$f":"IFERROR($E32*SUMIF('Daily Log'!$T$18:$T$1017,$B32,'Daily Log'!$U$18:$U$1017),0)","v":0},{"$f":"IFERROR($E32*SUMIF('Daily Log'!$W$18:$W$1017,$B32,'Daily Log'!$X$18:$X$1017),0)","v":0},{"$f":"IFERROR($E32*SUMIF('Daily Log'!$Z$18:$Z$1017,$B32,'Daily Log'!$AA$18:$AA$1017),0)","v":0},{"$f":"IFERROR($E32*SUMIF('Daily Log'!$AC$18:$AC$1017,$B32,'Daily Log'!$AD$18:$AD$1017),0)","v":0},{"$f":"IFERROR($E32*SUMIF('Daily Log'!$AF$18:$AF$1017,$B32,'Daily Log'!$AG$18:$AG$1017),0)","v":0},{"$f":"IFERROR($E32*SUMIF('Daily Log'!$AI$18:$AI$1017,$B32,'Daily Log'!$AJ$18:$AJ$1017),0)","v":0},{"$f":"IFERROR($E32*SUMIF('Daily Log'!#REF!,$B32,'Daily Log'!#REF!),0)","v":0},{"$f":"IFERROR($E32*SUMIF('Daily Log'!#REF!,$B32,'Daily Log'!#REF!),0)","v":0},{"$f":"IFERROR($E32*SUMIF('Daily Log'!#REF!,$B32,'Daily Log'!#REF!),0)","v":0},{"$f":"IFERROR($E32*SUMIF('Daily Log'!#REF!,$B32,'Daily Log'!#REF!),0)","v":0},{"$f":"IFERROR($E32*SUMIF('Daily Log'!#REF!,$B32,'Daily Log'!#REF!),0)","v":0},{"$f":"IFERROR($E32*SUMIF('Daily Log'!#REF!,$B32,'Daily Log'!#REF!),0)","v":0},{"$f":"IFERROR($E32*SUMIF('Daily Log'!#REF!,$B32,'Daily Log'!#REF!),0)","v":0},{"$f":"IFERROR($E32*SUMIF('Daily Log'!#REF!,$B32,'Daily Log'!#REF!),0)","v":0},{"$f":"IFERROR($E32*SUMIF('Daily Log'!#REF!,$B32,'Daily Log'!#REF!),0)","v":0},{"$f":"IFERROR($E32*SUMIF('Daily Log'!#REF!,$B32,'Daily Log'!#REF!),0)","v":0},{"$f":"IFERROR($E32*SUMIF('Daily Log'!#REF!,$B32,'Daily Log'!#REF!),0)","v":0},{"$f":"IFERROR($E32*SUMIF('Daily Log'!#REF!,$B32,'Daily Log'!#REF!),0)","v":0},{"$f":"IFERROR($E32*SUMIF('Daily Log'!#REF!,$B32,'Daily Log'!#REF!),0)","v":0},{"$f":"IFERROR($E32*SUMIF('Daily Log'!#REF!,$B32,'Daily Log'!#REF!),0)","v":0},{"$f":"IFERROR($E32*SUMIF('Daily Log'!#REF!,$B32,'Daily Log'!#REF!),0)","v":0},{"$f":"IFERROR($E32*SUMIF('Daily Log'!#REF!,$B32,'Daily Log'!#REF!),0)","v":0},{"$f":"IFERROR($E32*SUMIF('Daily Log'!#REF!,$B32,'Daily Log'!#REF!),0)","v":0},{"$f":"IFERROR($E32*SUMIF('Daily Log'!#REF!,$B32,'Daily Log'!#REF!),0)","v":0},{"$f":"IFERROR($E32*SUMIF('Daily Log'!#REF!,$B32,'Daily Log'!#REF!),0)","v":0}]
[null,"BA04 N : 4BP",null,"BEER",12,252,{"$f":"IFERROR($E33*SUMIF('Daily Log'!$B$18:$B$1017,$B33,'Daily Log'!$C$18:$C$1017),0)","v":0},{"$f":"IFERROR($E33*SUMIF('Daily Log'!$E$18:$E$1017,$B33,'Daily Log'!$F$18:$F$1017),0)","v":0},{"$f":"IFERROR($E33*SUMIF('Daily Log'!$H$18:$H$1017,$B33,'Daily Log'!$I$18:$I$1017),0)","v":0},{"$f":"IFERROR($E33*SUMIF('Daily Log'!$K$18:$K$1017,$B33,'Daily Log'!$L$18:$L$1017),0)","v":0},{"$f":"IFERROR($E33*SUMIF('Daily Log'!$N$18:$N$1017,$B33,'Daily Log'!$O$18:$O$1017),0)","v":0},{"$f":"IFERROR($E33*SUMIF('Daily Log'!$Q$18:$Q$1017,$B33,'Daily Log'!$R$18:$R$1017),0)","v":48},{"$f":"IFERROR($E33*SUMIF('Daily Log'!$T$18:$T$1017,$B33,'Daily Log'!$U$18:$U$1017),0)","v":0},{"$f":"IFERROR($E33*SUMIF('Daily Log'!$W$18:$W$1017,$B33,'Daily Log'!$X$18:$X$1017),0)","v":0},{"$f":"IFERROR($E33*SUMIF('Daily Log'!$Z$18:$Z$1017,$B33,'Daily Log'!$AA$18:$AA$1017),0)","v":12},{"$f":"IFERROR($E33*SUMIF('Daily Log'!$AC$18:$AC$1017,$B33,'Daily Log'!$AD$18:$AD$1017),0)","v":60},{"$f":"IFERROR($E33*SUMIF('Daily Log'!$AF$18:$AF$1017,$B33,'Daily Log'!$AG$18:$AG$1017),0)","v":120},{"$f":"IFERROR($E33*SUMIF('Daily Log'!$AI$18:$AI$1017,$B33,'Daily Log'!$AJ$18:$AJ$1017),0)","v":12},{"$f":"IFERROR($E33*SUMIF('Daily Log'!#REF!,$B33,'Daily Log'!#REF!),0)","v":0},{"$f":"IFERROR($E33*SUMIF('Daily Log'!#REF!,$B33,'Daily Log'!#REF!),0)","v":0},{"$f":"IFERROR($E33*SUMIF('Daily Log'!#REF!,$B33,'Daily Log'!#REF!),0)","v":0},{"$f":"IFERROR($E33*SUMIF('Daily Log'!#REF!,$B33,'Daily Log'!#REF!),0)","v":0},{"$f":"IFERROR($E33*SUMIF('Daily Log'!#REF!,$B33,'Daily Log'!#REF!),0)","v":0},{"$f":"IFERROR($E33*SUMIF('Daily Log'!#REF!,$B33,'Daily Log'!#REF!),0)","v":0},{"$f":"IFERROR($E33*SUMIF('Daily Log'!#REF!,$B33,'Daily Log'!#REF!),0)","v":0},{"$f":"IFERROR($E33*SUMIF('Daily Log'!#REF!,$B33,'Daily Log'!#REF!),0)","v":0},{"$f":"IFERROR($E33*SUMIF('Daily Log'!#REF!,$B33,'Daily Log'!#REF!),0)","v":0},{"$f":"IFERROR($E33*SUMIF('Daily Log'!#REF!,$B33,'Daily Log'!#REF!),0)","v":0},{"$f":"IFERROR($E33*SUMIF('Daily Log'!#REF!,$B33,'Daily Log'!#REF!),0)","v":0},{"$f":"IFERROR($E33*SUMIF('Daily Log'!#REF!,$B33,'Daily Log'!#REF!),0)","v":0},{"$f":"IFERROR($E33*SUMIF('Daily Log'!#REF!,$B33,'Daily Log'!#REF!),0)","v":0},{"$f":"IFERROR($E33*SUMIF('Daily Log'!#REF!,$B33,'Daily Log'!#REF!),0)","v":0},{"$f":"IFERROR($E33*SUMIF('Daily Log'!#REF!,$B33,'Daily Log'!#REF!),0)","v":0},{"$f":"IFERROR($E33*SUMIF('Daily Log'!#REF!,$B33,'Daily Log'!#REF!),0)","v":0},{"$f":"IFERROR($E33*SUMIF('Daily Log'!#REF!,$B33,'Daily Log'!#REF!),0)","v":0},{"$f":"IFERROR($E33*SUMIF('Daily Log'!#REF!,$B33,'Daily Log'!#REF!),0)","v":0},{"$f":"IFERROR($E33*SUMIF('Daily Log'!#REF!,$B33,'Daily Log'!#REF!),0)","v":0}]
[null,"BA05 N : 4BP MEMBER",null,"BEER",12,0,{"$f":"IFERROR($E34*SUMIF('Daily Log'!$B$18:$B$1017,$B34,'Daily Log'!$C$18:$C$1017),0)","v":0},{"$f":"IFERROR($E34*SUMIF('Daily Log'!$E$18:$E$1017,$B34,'Daily Log'!$F$18:$F$1017),0)","v":0},{"$f":"IFERROR($E34*SUMIF('Daily Log'!$H$18:$H$1017,$B34,'Daily Log'!$I$18:$I$1017),0)","v":0},{"$f":"IFERROR($E34*SUMIF('Daily Log'!$K$18:$K$1017,$B34,'Daily Log'!$L$18:$L$1017),0)","v":0},{"$f":"IFERROR($E34*SUMIF('Daily Log'!$N$18:$N$1017,$B34,'Daily Log'!$O$18:$O$1017),0)","v":0},{"$f":"IFERROR($E34*SUMIF('Daily Log'!$Q$18:$Q$1017,$B34,'Daily Log'!$R$18:$R$1017),0)","v":0},{"$f":"IFERROR($E34*SUMIF('Daily Log'!$T$18:$T$1017,$B34,'Daily Log'!$U$18:$U$1017),0)","v":0},{"$f":"IFERROR($E34*SUMIF('Daily Log'!$W$18:$W$1017,$B34,'Daily Log'!$X$18:$X$1017),0)","v":0},{"$f":"IFERROR($E34*SUMIF('Daily Log'!$Z$18:$Z$1017,$B34,'Daily Log'!$AA$18:$AA$1017),0)","v":0},{"$f":"IFERROR($E34*SUMIF('Daily Log'!$AC$18:$AC$1017,$B34,'Daily Log'!$AD$18:$AD$1017),0)","v":0},{"$f":"IFERROR($E34*SUMIF('Daily Log'!$AF$18:$AF$1017,$B34,'Daily Log'!$AG$18:$AG$1017),0)","v":0},{"$f":"IFERROR($E34*SUMIF('Daily Log'!$AI$18:$AI$1017,$B34,'Daily Log'!$AJ$18:$AJ$1017),0)","v":0},{"$f":"IFERROR($E34*SUMIF('Daily Log'!#REF!,$B34,'Daily Log'!#REF!),0)","v":0},{"$f":"IFERROR($E34*SUMIF('Daily Log'!#REF!,$B34,'Daily Log'!#REF!),0)","v":0},{"$f":"IFERROR($E34*SUMIF('Daily Log'!#REF!,$B34,'Daily Log'!#REF!),0)","v":0},{"$f":"IFERROR($E34*SUMIF('Daily Log'!#REF!,$B34,'Daily Log'!#REF!),0)","v":0},{"$f":"IFERROR($E34*SUMIF('Daily Log'!#REF!,$B34,'Daily Log'!#REF!),0)","v":0},{"$f":"IFERROR($E34*SUMIF('Daily Log'!#REF!,$B34,'Daily Log'!#REF!),0)","v":0},{"$f":"IFERROR($E34*SUMIF('Daily Log'!#REF!,$B34,'Daily Log'!#REF!),0)","v":0},{"$f":"IFERROR($E34*SUMIF('Daily Log'!#REF!,$B34,'Daily Log'!#REF!),0)","v":0},{"$f":"IFERROR($E34*SUMIF('Daily Log'!#REF!,$B34,'Daily Log'!#REF!),0)","v":0},{"$f":"IFERROR($E34*SUMIF('Daily Log'!#REF!,$B34,'Daily Log'!#REF!),0)","v":0},{"$f":"IFERROR($E34*SUMIF('Daily Log'!#REF!,$B34,'Daily Log'!#REF!),0)","v":0},{"$f":"IFERROR($E34*SUMIF('Daily Log'!#REF!,$B34,'Daily Log'!#REF!),0)","v":0},{"$f":"IFERROR($E34*SUMIF('Daily Log'!#REF!,$B34,'Daily Log'!#REF!),0)","v":0},{"$f":"IFERROR($E34*SUMIF('Daily Log'!#REF!,$B34,'Daily Log'!#REF!),0)","v":0},{"$f":"IFERROR($E34*SUMIF('Daily Log'!#REF!,$B34,'Daily Log'!#REF!),0)","v":0},{"$f":"IFERROR($E34*SUMIF('Daily Log'!#REF!,$B34,'Daily Log'!#REF!),0)","v":0},{"$f":"IFERROR($E34*SUMIF('Daily Log'!#REF!,$B34,'Daily Log'!#REF!),0)","v":0},{"$f":"IFERROR($E34*SUMIF('Daily Log'!#REF!,$B34,'Daily Log'!#REF!),0)","v":0},{"$f":"IFERROR($E34*SUMIF('Daily Log'!#REF!,$B34,'Daily Log'!#REF!),0)","v":0}]
[null,"BA06 M : 4BP",null,"BEER",12,0,{"$f":"IFERROR($E35*SUMIF('Daily Log'!$B$18:$B$1017,$B35,'Daily Log'!$C$18:$C$1017),0)","v":0},{"$f":"IFERROR($E35*SUMIF('Daily Log'!$E$18:$E$1017,$B35,'Daily Log'!$F$18:$F$1017),0)","v":0},{"$f":"IFERROR($E35*SUMIF('Daily Log'!$H$18:$H$1017,$B35,'Daily Log'!$I$18:$I$1017),0)","v":0},{"$f":"IFERROR($E35*SUMIF('Daily Log'!$K$18:$K$1017,$B35,'Daily Log'!$L$18:$L$1017),0)","v":0},{"$f":"IFERROR($E35*SUMIF('Daily Log'!$N$18:$N$1017,$B35,'Daily Log'!$O$18:$O$1017),0)","v":0},{"$f":"IFERROR($E35*SUMIF('Daily Log'!$Q$18:$Q$1017,$B35,'Daily Log'!$R$18:$R$1017),0)","v":0},{"$f":"IFERROR($E35*SUMIF('Daily Log'!$T$18:$T$1017,$B35,'Daily Log'!$U$18:$U$1017),0)","v":0},{"$f":"IFERROR($E35*SUMIF('Daily Log'!$W$18:$W$1017,$B35,'Daily Log'!$X$18:$X$1017),0)","v":0},{"$f":"IFERROR($E35*SUMIF('Daily Log'!$Z$18:$Z$1017,$B35,'Daily Log'!$AA$18:$AA$1017),0)","v":0},{"$f":"IFERROR($E35*SUMIF('Daily Log'!$AC$18:$AC$1017,$B35,'Daily Log'!$AD$18:$AD$1017),0)","v":0},{"$f":"IFERROR($E35*SUMIF('Daily Log'!$AF$18:$AF$1017,$B35,'Daily Log'!$AG$18:$AG$1017),0)","v":0},{"$f":"IFERROR($E35*SUMIF('Daily Log'!$AI$18:$AI$1017,$B35,'Daily Log'!$AJ$18:$AJ$1017),0)","v":0},{"$f":"IFERROR($E35*SUMIF('Daily Log'!#REF!,$B35,'Daily Log'!#REF!),0)","v":0},{"$f":"IFERROR($E35*SUMIF('Daily Log'!#REF!,$B35,'Daily Log'!#REF!),0)","v":0},{"$f":"IFERROR($E35*SUMIF('Daily Log'!#REF!,$B35,'Daily Log'!#REF!),0)","v":0},{"$f":"IFERROR($E35*SUMIF('Daily Log'!#REF!,$B35,'Daily Log'!#REF!),0)","v":0},{"$f":"IFERROR($E35*SUMIF('Daily Log'!#REF!,$B35,'Daily Log'!#REF!),0)","v":0},{"$f":"IFERROR($E35*SUMIF('Daily Log'!#REF!,$B35,'Daily Log'!#REF!),0)","v":0},{"$f":"IFERROR($E35*SUMIF('Daily Log'!#REF!,$B35,'Daily Log'!#REF!),0)","v":0},{"$f":"IFERROR($E35*SUMIF('Daily Log'!#REF!,$B35,'Daily Log'!#REF!),0)","v":0},{"$f":"IFERROR($E35*SUMIF('Daily Log'!#REF!,$B35,'Daily Log'!#REF!),0)","v":0},{"$f":"IFERROR($E35*SUMIF('Daily Log'!#REF!,$B35,'Daily Log'!#REF!),0)","v":0},{"$f":"IFERROR($E35*SUMIF('Daily Log'!#REF!,$B35,'Daily Log'!#REF!),0)","v":0},{"$f":"IFERROR($E35*SUMIF('Daily Log'!#REF!,$B35,'Daily Log'!#REF!),0)","v":0},{"$f":"IFERROR($E35*SUMIF('Daily Log'!#REF!,$B35,'Daily Log'!#REF!),0)","v":0},{"$f":"IFERROR($E35*SUMIF('Daily Log'!#REF!,$B35,'Daily Log'!#REF!),0)","v":0},{"$f":"IFERROR($E35*SUMIF('Daily Log'!#REF!,$B35,'Daily Log'!#REF!),0)","v":0},{"$f":"IFERROR($E35*SUMIF('Daily Log'!#REF!,$B35,'Daily Log'!#REF!),0)","v":0},{"$f":"IFERROR($E35*SUMIF('Daily Log'!#REF!,$B35,'Daily Log'!#REF!),0)","v":0},{"$f":"IFERROR($E35*SUMIF('Daily Log'!#REF!,$B35,'Daily Log'!#REF!),0)","v":0},{"$f":"IFERROR($E35*SUMIF('Daily Log'!#REF!,$B35,'Daily Log'!#REF!),0)","v":0}]
[null,"BA07 M : 4BP MEMBER",null,"BEER",12,0,{"$f":"IFERROR($E36*SUMIF('Daily Log'!$B$18:$B$1017,$B36,'Daily Log'!$C$18:$C$1017),0)","v":0},{"$f":"IFERROR($E36*SUMIF('Daily Log'!$E$18:$E$1017,$B36,'Daily Log'!$F$18:$F$1017),0)","v":0},{"$f":"IFERROR($E36*SUMIF('Daily Log'!$H$18:$H$1017,$B36,'Daily Log'!$I$18:$I$1017),0)","v":0},{"$f":"IFERROR($E36*SUMIF('Daily Log'!$K$18:$K$1017,$B36,'Daily Log'!$L$18:$L$1017),0)","v":0},{"$f":"IFERROR($E36*SUMIF('Daily Log'!$N$18:$N$1017,$B36,'Daily Log'!$O$18:$O$1017),0)","v":0},{"$f":"IFERROR($E36*SUMIF('Daily Log'!$Q$18:$Q$1017,$B36,'Daily Log'!$R$18:$R$1017),0)","v":0},{"$f":"IFERROR($E36*SUMIF('Daily Log'!$T$18:$T$1017,$B36,'Daily Log'!$U$18:$U$1017),0)","v":0},{"$f":"IFERROR($E36*SUMIF('Daily Log'!$W$18:$W$1017,$B36,'Daily Log'!$X$18:$X$1017),0)","v":0},{"$f":"IFERROR($E36*SUMIF('Daily Log'!$Z$18:$Z$1017,$B36,'Daily Log'!$AA$18:$AA$1017),0)","v":0},{"$f":"IFERROR($E36*SUMIF('Daily Log'!$AC$18:$AC$1017,$B36,'Daily Log'!$AD$18:$AD$1017),0)","v":0},{"$f":"IFERROR($E36*SUMIF('Daily Log'!$AF$18:$AF$1017,$B36,'Daily Log'!$AG$18:$AG$1017),0)","v":0},{"$f":"IFERROR($E36*SUMIF('Daily Log'!$AI$18:$AI$1017,$B36,'Daily Log'!$AJ$18:$AJ$1017),0)","v":0},{"$f":"IFERROR($E36*SUMIF('Daily Log'!#REF!,$B36,'Daily Log'!#REF!),0)","v":0},{"$f":"IFERROR($E36*SUMIF('Daily Log'!#REF!,$B36,'Daily Log'!#REF!),0)","v":0},{"$f":"IFERROR($E36*SUMIF('Daily Log'!#REF!,$B36,'Daily Log'!#REF!),0)","v":0},{"$f":"IFERROR($E36*SUMIF('Daily Log'!#REF!,$B36,'Daily Log'!#REF!),0)","v":0},{"$f":"IFERROR($E36*SUMIF('Daily Log'!#REF!,$B36,'Daily Log'!#REF!),0)","v":0},{"$f":"IFERROR($E36*SUMIF('Daily Log'!#REF!,$B36,'Daily Log'!#REF!),0)","v":0},{"$f":"IFERROR($E36*SUMIF('Daily Log'!#REF!,$B36,'Daily Log'!#REF!),0)","v":0},{"$f":"IFERROR($E36*SUMIF('Daily Log'!#REF!,$B36,'Daily Log'!#REF!),0)","v":0},{"$f":"IFERROR($E36*SUMIF('Daily Log'!#REF!,$B36,'Daily Log'!#REF!),0)","v":0},{"$f":"IFERROR($E36*SUMIF('Daily Log'!#REF!,$B36,'Daily Log'!#REF!),0)","v":0},{"$f":"IFERROR($E36*SUMIF('Daily Log'!#REF!,$B36,'Daily Log'!#REF!),0)","v":0},{"$f":"IFERROR($E36*SUMIF('Daily Log'!#REF!,$B36,'Daily Log'!#REF!),0)","v":0},{"$f":"IFERROR($E36*SUMIF('Daily Log'!#REF!,$B36,'Daily Log'!#REF!),0)","v":0},{"$f":"IFERROR($E36*SUMIF('Daily Log'!#REF!,$B36,'Daily Log'!#REF!),0)","v":0},{"$f":"IFERROR($E36*SUMIF('Daily Log'!#REF!,$B36,'Daily Log'!#REF!),0)","v":0},{"$f":"IFERROR($E36*SUMIF('Daily Log'!#REF!,$B36,'Daily Log'!#REF!),0)","v":0},{"$f":"IFERROR($E36*SUMIF('Daily Log'!#REF!,$B36,'Daily Log'!#REF!),0)","v":0},{"$f":"IFERROR($E36*SUMIF('Daily Log'!#REF!,$B36,'Daily Log'!#REF!),0)","v":0},{"$f":"IFERROR($E36*SUMIF('Daily Log'!#REF!,$B36,'Daily Log'!#REF!),0)","v":0}]
[null,"BA08 GUINNESS BTL",null,"BEER",1,0,{"$f":"IFERROR($E37*SUMIF('Daily Log'!$B$18:$B$1017,$B37,'Daily Log'!$C$18:$C$1017),0)","v":0},{"$f":"IFERROR($E37*SUMIF('Daily Log'!$E$18:$E$1017,$B37,'Daily Log'!$F$18:$F$1017),0)","v":0},{"$f":"IFERROR($E37*SUMIF('Daily Log'!$H$18:$H$1017,$B37,'Daily Log'!$I$18:$I$1017),0)","v":0},{"$f":"IFERROR($E37*SUMIF('Daily Log'!$K$18:$K$1017,$B37,'Daily Log'!$L$18:$L$1017),0)","v":0},{"$f":"IFERROR($E37*SUMIF('Daily Log'!$N$18:$N$1017,$B37,'Daily Log'!$O$18:$O$1017),0)","v":0},{"$f":"IFERROR($E37*SUMIF('Daily Log'!$Q$18:$Q$1017,$B37,'Daily Log'!$R$18:$R$1017),0)","v":0},{"$f":"IFERROR($E37*SUMIF('Daily Log'!$T$18:$T$1017,$B37,'Daily Log'!$U$18:$U$1017),0)","v":0},{"$f":"IFERROR($E37*SUMIF('Daily Log'!$W$18:$W$1017,$B37,'Daily Log'!$X$18:$X$1017),0)","v":0},{"$f":"IFERROR($E37*SUMIF('Daily Log'!$Z$18:$Z$1017,$B37,'Daily Log'!$AA$18:$AA$1017),0)","v":0},{"$f":"IFERROR($E37*SUMIF('Daily Log'!$AC$18:$AC$1017,$B37,'Daily Log'!$AD$18:$AD$1017),0)","v":0},{"$f":"IFERROR($E37*SUMIF('Daily Log'!$AF$18:$AF$1017,$B37,'Daily Log'!$AG$18:$AG$1017),0)","v":0},{"$f":"IFERROR($E37*SUMIF('Daily Log'!$AI$18:$AI$1017,$B37,'Daily Log'!$AJ$18:$AJ$1017),0)","v":0},{"$f":"IFERROR($E37*SUMIF('Daily Log'!#REF!,$B37,'Daily Log'!#REF!),0)","v":0},{"$f":"IFERROR($E37*SUMIF('Daily Log'!#REF!,$B37,'Daily Log'!#REF!),0)","v":0},{"$f":"IFERROR($E37*SUMIF('Daily Log'!#REF!,$B37,'Daily Log'!#REF!),0)","v":0},{"$f":"IFERROR($E37*SUMIF('Daily Log'!#REF!,$B37,'Daily Log'!#REF!),0)","v":0},{"$f":"IFERROR($E37*SUMIF('Daily Log'!#REF!,$B37,'Daily Log'!#REF!),0)","v":0},{"$f":"IFERROR($E37*SUMIF('Daily Log'!#REF!,$B37,'Daily Log'!#REF!),0)","v":0},{"$f":"IFERROR($E37*SUMIF('Daily Log'!#REF!,$B37,'Daily Log'!#REF!),0)","v":0},{"$f":"IFERROR($E37*SUMIF('Daily Log'!#REF!,$B37,'Daily Log'!#REF!),0)","v":0},{"$f":"IFERROR($E37*SUMIF('Daily Log'!#REF!,$B37,'Daily Log'!#REF!),0)","v":0},{"$f":"IFERROR($E37*SUMIF('Daily Log'!#REF!,$B37,'Daily Log'!#REF!),0)","v":0},{"$f":"IFERROR($E37*SUMIF('Daily Log'!#REF!,$B37,'Daily Log'!#REF!),0)","v":0},{"$f":"IFERROR($E37*SUMIF('Daily Log'!#REF!,$B37,'Daily Log'!#REF!),0)","v":0},{"$f":"IFERROR($E37*SUMIF('Daily Log'!#REF!,$B37,'Daily Log'!#REF!),0)","v":0},{"$f":"IFERROR($E37*SUMIF('Daily Log'!#REF!,$B37,'Daily Log'!#REF!),0)","v":0},{"$f":"IFERROR($E37*SUMIF('Daily Log'!#REF!,$B37,'Daily Log'!#REF!),0)","v":0},{"$f":"IFERROR($E37*SUMIF('Daily Log'!#REF!,$B37,'Daily Log'!#REF!),0)","v":0},{"$f":"IFERROR($E37*SUMIF('Daily Log'!#REF!,$B37,'Daily Log'!#REF!),0)","v":0},{"$f":"IFERROR($E37*SUMIF('Daily Log'!#REF!,$B37,'Daily Log'!#REF!),0)","v":0},{"$f":"IFERROR($E37*SUMIF('Daily Log'!#REF!,$B37,'Daily Log'!#REF!),0)","v":0}]
[null,"BA09 GUINNESS BKT",null,"BEER",4,16,{"$f":"IFERROR($E38*SUMIF('Daily Log'!$B$18:$B$1017,$B38,'Daily Log'!$C$18:$C$1017),0)","v":0},{"$f":"IFERROR($E38*SUMIF('Daily Log'!$E$18:$E$1017,$B38,'Daily Log'!$F$18:$F$1017),0)","v":0},{"$f":"IFERROR($E38*SUMIF('Daily Log'!$H$18:$H$1017,$B38,'Daily Log'!$I$18:$I$1017),0)","v":0},{"$f":"IFERROR($E38*SUMIF('Daily Log'!$K$18:$K$1017,$B38,'Daily Log'!$L$18:$L$1017),0)","v":0},{"$f":"IFERROR($E38*SUMIF('Daily Log'!$N$18:$N$1017,$B38,'Daily Log'!$O$18:$O$1017),0)","v":0},{"$f":"IFERROR($E38*SUMIF('Daily Log'!$Q$18:$Q$1017,$B38,'Daily Log'!$R$18:$R$1017),0)","v":0},{"$f":"IFERROR($E38*SUMIF('Daily Log'!$T$18:$T$1017,$B38,'Daily Log'!$U$18:$U$1017),0)","v":0},{"$f":"IFERROR($E38*SUMIF('Daily Log'!$W$18:$W$1017,$B38,'Daily Log'!$X$18:$X$1017),0)","v":0},{"$f":"IFERROR($E38*SUMIF('Daily Log'!$Z$18:$Z$1017,$B38,'Daily Log'!$AA$18:$AA$1017),0)","v":4},{"$f":"IFERROR($E38*SUMIF('Daily Log'!$AC$18:$AC$1017,$B38,'Daily Log'!$AD$18:$AD$1017),0)","v":12},{"$f":"IFERROR($E38*SUMIF('Daily Log'!$AF$18:$AF$1017,$B38,'Daily Log'!$AG$18:$AG$1017),0)","v":0},{"$f":"IFERROR($E38*SUMIF('Daily Log'!$AI$18:$AI$1017,$B38,'Daily Log'!$AJ$18:$AJ$1017),0)","v":0},{"$f":"IFERROR($E38*SUMIF('Daily Log'!#REF!,$B38,'Daily Log'!#REF!),0)","v":0},{"$f":"IFERROR($E38*SUMIF('Daily Log'!#REF!,$B38,'Daily Log'!#REF!),0)","v":0},{"$f":"IFERROR($E38*SUMIF('Daily Log'!#REF!,$B38,'Daily Log'!#REF!),0)","v":0},{"$f":"IFERROR($E38*SUMIF('Daily Log'!#REF!,$B38,'Daily Log'!#REF!),0)","v":0},{"$f":"IFERROR($E38*SUMIF('Daily Log'!#REF!,$B38,'Daily Log'!#REF!),0)","v":0},{"$f":"IFERROR($E38*SUMIF('Daily Log'!#REF!,$B38,'Daily Log'!#REF!),0)","v":0},{"$f":"IFERROR($E38*SUMIF('Daily Log'!#REF!,$B38,'Daily Log'!#REF!),0)","v":0},{"$f":"IFERROR($E38*SUMIF('Daily Log'!#REF!,$B38,'Daily Log'!#REF!),0)","v":0},{"$f":"IFERROR($E38*SUMIF('Daily Log'!#REF!,$B38,'Daily Log'!#REF!),0)","v":0},{"$f":"IFERROR($E38*SUMIF('Daily Log'!#REF!,$B38,'Daily Log'!#REF!),0)","v":0},{"$f":"IFERROR($E38*SUMIF('Daily Log'!#REF!,$B38,'Daily Log'!#REF!),0)","v":0},{"$f":"IFERROR($E38*SUMIF('Daily Log'!#REF!,$B38,'Daily Log'!#REF!),0)","v":0},{"$f":"IFERROR($E38*SUMIF('Daily Log'!#REF!,$B38,'Daily Log'!#REF!),0)","v":0},{"$f":"IFERROR($E38*SUMIF('Daily Log'!#REF!,$B38,'Daily Log'!#REF!),0)","v":0},{"$f":"IFERROR($E38*SUMIF('Daily Log'!#REF!,$B38,'Daily Log'!#REF!),0)","v":0},{"$f":"IFERROR($E38*SUMIF('Daily Log'!#REF!,$B38,'Daily Log'!#REF!),0)","v":0},{"$f":"IFERROR($E38*SUMIF('Daily Log'!#REF!,$B38,'Daily Log'!#REF!),0)","v":0},{"$f":"IFERROR($E38*SUMIF('Daily Log'!#REF!,$B38,'Daily Log'!#REF!),0)","v":0},{"$f":"IFERROR($E38*SUMIF('Daily Log'!#REF!,$B38,'Daily Log'!#REF!),0)","v":0}]
[null,"BA10 GUINNESS RND",null,"BEER",12,12,{"$f":"IFERROR($E39*SUMIF('Daily Log'!$B$18:$B$1017,$B39,'Daily Log'!$C$18:$C$1017),0)","v":0},{"$f":"IFERROR($E39*SUMIF('Daily Log'!$E$18:$E$1017,$B39,'Daily Log'!$F$18:$F$1017),0)","v":0},{"$f":"IFERROR($E39*SUMIF('Daily Log'!$H$18:$H$1017,$B39,'Daily Log'!$I$18:$I$1017),0)","v":0},{"$f":"IFERROR($E39*SUMIF('Daily Log'!$K$18:$K$1017,$B39,'Daily Log'!$L$18:$L$1017),0)","v":0},{"$f":"IFERROR($E39*SUMIF('Daily Log'!$N$18:$N$1017,$B39,'Daily Log'!$O$18:$O$1017),0)","v":0},{"$f":"IFERROR($E39*SUMIF('Daily Log'!$Q$18:$Q$1017,$B39,'Daily Log'!$R$18:$R$1017),0)","v":0},{"$f":"IFERROR($E39*SUMIF('Daily Log'!$T$18:$T$1017,$B39,'Daily Log'!$U$18:$U$1017),0)","v":12},{"$f":"IFERROR($E39*SUMIF('Daily Log'!$W$18:$W$1017,$B39,'Daily Log'!$X$18:$X$1017),0)","v":0},{"$f":"IFERROR($E39*SUMIF('Daily Log'!$Z$18:$Z$1017,$B39,'Daily Log'!$AA$18:$AA$1017),0)","v":0},{"$f":"IFERROR($E39*SUMIF('Daily Log'!$AC$18:$AC$1017,$B39,'Daily Log'!$AD$18:$AD$1017),0)","v":0},{"$f":"IFERROR($E39*SUMIF('Daily Log'!$AF$18:$AF$1017,$B39,'Daily Log'!$AG$18:$AG$1017),0)","v":0},{"$f":"IFERROR($E39*SUMIF('Daily Log'!$AI$18:$AI$1017,$B39,'Daily Log'!$AJ$18:$AJ$1017),0)","v":0},{"$f":"IFERROR($E39*SUMIF('Daily Log'!#REF!,$B39,'Daily Log'!#REF!),0)","v":0},{"$f":"IFERROR($E39*SUMIF('Daily Log'!#REF!,$B39,'Daily Log'!#REF!),0)","v":0},{"$f":"IFERROR($E39*SUMIF('Daily Log'!#REF!,$B39,'Daily Log'!#REF!),0)","v":0},{"$f":"IFERROR($E39*SUMIF('Daily Log'!#REF!,$B39,'Daily Log'!#REF!),0)","v":0},{"$f":"IFERROR($E39*SUMIF('Daily Log'!#REF!,$B39,'Daily Log'!#REF!),0)","v":0},{"$f":"IFERROR($E39*SUMIF('Daily Log'!#REF!,$B39,'Daily Log'!#REF!),0)","v":0},{"$f":"IFERROR($E39*SUMIF('Daily Log'!#REF!,$B39,'Daily Log'!#REF!),0)","v":0},{"$f":"IFERROR($E39*SUMIF('Daily Log'!#REF!,$B39,'Daily Log'!#REF!),0)","v":0},{"$f":"IFERROR($E39*SUMIF('Daily Log'!#REF!,$B39,'Daily Log'!#REF!),0)","v":0},{"$f":"IFERROR($E39*SUMIF('Daily Log'!#REF!,$B39,'Daily Log'!#REF!),0)","v":0},{"$f":"IFERROR($E39*SUMIF('Daily Log'!#REF!,$B39,'Daily Log'!#REF!),0)","v":0},{"$f":"IFERROR($E39*SUMIF('Daily Log'!#REF!,$B39,'Daily Log'!#REF!),0)","v":0},{"$f":"IFERROR($E39*SUMIF('Daily Log'!#REF!,$B39,'Daily Log'!#REF!),0)","v":0},{"$f":"IFERROR($E39*SUMIF('Daily Log'!#REF!,$B39,'Daily Log'!#REF!),0)","v":0},{"$f":"IFERROR($E39*SUMIF('Daily Log'!#REF!,$B39,'Daily Log'!#REF!),0)","v":0},{"$f":"IFERROR($E39*SUMIF('Daily Log'!#REF!,$B39,'Daily Log'!#REF!),0)","v":0},{"$f":"IFERROR($E39*SUMIF('Daily Log'!#REF!,$B39,'Daily Log'!#REF!),0)","v":0},{"$f":"IFERROR($E39*SUMIF('Daily Log'!#REF!,$B39,'Daily Log'!#REF!),0)","v":0},{"$f":"IFERROR($E39*SUMIF('Daily Log'!#REF!,$B39,'Daily Log'!#REF!),0)","v":0}]
[null,"BA11 HEINEKEN BTL",null,"BEER",1,3,{"$f":"IFERROR($E40*SUMIF('Daily Log'!$B$18:$B$1017,$B40,'Daily Log'!$C$18:$C$1017),0)","v":0},{"$f":"IFERROR($E40*SUMIF('Daily Log'!$E$18:$E$1017,$B40,'Daily Log'!$F$18:$F$1017),0)","v":0},{"$f":"IFERROR($E40*SUMIF('Daily Log'!$H$18:$H$1017,$B40,'Daily Log'!$I$18:$I$1017),0)","v":0},{"$f":"IFERROR($E40*SUMIF('Daily Log'!$K$18:$K$1017,$B40,'Daily Log'!$L$18:$L$1017),0)","v":0},{"$f":"IFERROR($E40*SUMIF('Daily Log'!$N$18:$N$1017,$B40,'Daily Log'!$O$18:$O$1017),0)","v":0},{"$f":"IFERROR($E40*SUMIF('Daily Log'!$Q$18:$Q$1017,$B40,'Daily Log'!$R$18:$R$1017),0)","v":0},{"$f":"IFERROR($E40*SUMIF('Daily Log'!$T$18:$T$1017,$B40,'Daily Log'!$U$18:$U$1017),0)","v":0},{"$f":"IFERROR($E40*SUMIF('Daily Log'!$W$18:$W$1017,$B40,'Daily Log'!$X$18:$X$1017),0)","v":0},{"$f":"IFERROR($E40*SUMIF('Daily Log'!$Z$18:$Z$1017,$B40,'Daily Log'!$AA$18:$AA$1017),0)","v":0},{"$f":"IFERROR($E40*SUMIF('Daily Log'!$AC$18:$AC$1017,$B40,'Daily Log'!$AD$18:$AD$1017),0)","v":0},{"$f":"IFERROR($E40*SUMIF('Daily Log'!$AF$18:$AF$1017,$B40,'Daily Log'!$AG$18:$AG$1017),0)","v":0},{"$f":"IFERROR($E40*SUMIF('Daily Log'!$AI$18:$AI$1017,$B40,'Daily Log'!$AJ$18:$AJ$1017),0)","v":3},{"$f":"IFERROR($E40*SUMIF('Daily Log'!#REF!,$B40,'Daily Log'!#REF!),0)","v":0},{"$f":"IFERROR($E40*SUMIF('Daily Log'!#REF!,$B40,'Daily Log'!#REF!),0)","v":0},{"$f":"IFERROR($E40*SUMIF('Daily Log'!#REF!,$B40,'Daily Log'!#REF!),0)","v":0},{"$f":"IFERROR($E40*SUMIF('Daily Log'!#REF!,$B40,'Daily Log'!#REF!),0)","v":0},{"$f":"IFERROR($E40*SUMIF('Daily Log'!#REF!,$B40,'Daily Log'!#REF!),0)","v":0},{"$f":"IFERROR($E40*SUMIF('Daily Log'!#REF!,$B40,'Daily Log'!#REF!),0)","v":0},{"$f":"IFERROR($E40*SUMIF('Daily Log'!#REF!,$B40,'Daily Log'!#REF!),0)","v":0},{"$f":"IFERROR($E40*SUMIF('Daily Log'!#REF!,$B40,'Daily Log'!#REF!),0)","v":0},{"$f":"IFERROR($E40*SUMIF('Daily Log'!#REF!,$B40,'Daily Log'!#REF!),0)","v":0},{"$f":"IFERROR($E40*SUMIF('Daily Log'!#REF!,$B40,'Daily Log'!#REF!),0)","v":0},{"$f":"IFERROR($E40*SUMIF('Daily Log'!#REF!,$B40,'Daily Log'!#REF!),0)","v":0},{"$f":"IFERROR($E40*SUMIF('Daily Log'!#REF!,$B40,'Daily Log'!#REF!),0)","v":0},{"$f":"IFERROR($E40*SUMIF('Daily Log'!#REF!,$B40,'Daily Log'!#REF!),0)","v":0},{"$f":"IFERROR($E40*SUMIF('Daily Log'!#REF!,$B40,'Daily Log'!#REF!),0)","v":0},{"$f":"IFERROR($E40*SUMIF('Daily Log'!#REF!,$B40,'Daily Log'!#REF!),0)","v":0},{"$f":"IFERROR($E40*SUMIF('Daily Log'!#REF!,$B40,'Daily Log'!#REF!),0)","v":0},{"$f":"IFERROR($E40*SUMIF('Daily Log'!#REF!,$B40,'Daily Log'!#REF!),0)","v":0},{"$f":"IFERROR($E40*SUMIF('Daily Log'!#REF!,$B40,'Daily Log'!#REF!),0)","v":0},{"$f":"IFERROR($E40*SUMIF('Daily Log'!#REF!,$B40,'Daily Log'!#REF!),0)","v":0}]
[null,"BA12 HEINEKEN BKT",null,"BEER",4,40,{"$f":"IFERROR($E41*SUMIF('Daily Log'!$B$18:$B$1017,$B41,'Daily Log'!$C$18:$C$1017),0)","v":0},{"$f":"IFERROR($E41*SUMIF('Daily Log'!$E$18:$E$1017,$B41,'Daily Log'!$F$18:$F$1017),0)","v":0},{"$f":"IFERROR($E41*SUMIF('Daily Log'!$H$18:$H$1017,$B41,'Daily Log'!$I$18:$I$1017),0)","v":0},{"$f":"IFERROR($E41*SUMIF('Daily Log'!$K$18:$K$1017,$B41,'Daily Log'!$L$18:$L$1017),0)","v":0},{"$f":"IFERROR($E41*SUMIF('Daily Log'!$N$18:$N$1017,$B41,'Daily Log'!$O$18:$O$1017),0)","v":0},{"$f":"IFERROR($E41*SUMIF('Daily Log'!$Q$18:$Q$1017,$B41,'Daily Log'!$R$18:$R$1017),0)","v":0},{"$f":"IFERROR($E41*SUMIF('Daily Log'!$T$18:$T$1017,$B41,'Daily Log'!$U$18:$U$1017),0)","v":4},{"$f":"IFERROR($E41*SUMIF('Daily Log'!$W$18:$W$1017,$B41,'Daily Log'!$X$18:$X$1017),0)","v":0},{"$f":"IFERROR($E41*SUMIF('Daily Log'!$Z$18:$Z$1017,$B41,'Daily Log'!$AA$18:$AA$1017),0)","v":8},{"$f":"IFERROR($E41*SUMIF('Daily Log'!$AC$18:$AC$1017,$B41,'Daily Log'!$AD$18:$AD$1017),0)","v":12},{"$f":"IFERROR($E41*SUMIF('Daily Log'!$AF$18:$AF$1017,$B41,'Daily Log'!$AG$18:$AG$1017),0)","v":4},{"$f":"IFERROR($E41*SUMIF('Daily Log'!$AI$18:$AI$1017,$B41,'Daily Log'!$AJ$18:$AJ$1017),0)","v":12},{"$f":"IFERROR($E41*SUMIF('Daily Log'!#REF!,$B41,'Daily Log'!#REF!),0)","v":0},{"$f":"IFERROR($E41*SUMIF('Daily Log'!#REF!,$B41,'Daily Log'!#REF!),0)","v":0},{"$f":"IFERROR($E41*SUMIF('Daily Log'!#REF!,$B41,'Daily Log'!#REF!),0)","v":0},{"$f":"IFERROR($E41*SUMIF('Daily Log'!#REF!,$B41,'Daily Log'!#REF!),0)","v":0},{"$f":"IFERROR($E41*SUMIF('Daily Log'!#REF!,$B41,'Daily Log'!#REF!),0)","v":0},{"$f":"IFERROR($E41*SUMIF('Daily Log'!#REF!,$B41,'Daily Log'!#REF!),0)","v":0},{"$f":"IFERROR($E41*SUMIF('Daily Log'!#REF!,$B41,'Daily Log'!#REF!),0)","v":0},{"$f":"IFERROR($E41*SUMIF('Daily Log'!#REF!,$B41,'Daily Log'!#REF!),0)","v":0},{"$f":"IFERROR($E41*SUMIF('Daily Log'!#REF!,$B41,'Daily Log'!#REF!),0)","v":0},{"$f":"IFERROR($E41*SUMIF('Daily Log'!#REF!,$B41,'Daily Log'!#REF!),0)","v":0},{"$f":"IFERROR($E41*SUMIF('Daily Log'!#REF!,$B41,'Daily Log'!#REF!),0)","v":0},{"$f":"IFERROR($E41*SUMIF('Daily Log'!#REF!,$B41,'Daily Log'!#REF!),0)","v":0},{"$f":"IFERROR($E41*SUMIF('Daily Log'!#REF!,$B41,'Daily Log'!#REF!),0)","v":0},{"$f":"IFERROR($E41*SUMIF('Daily Log'!#REF!,$B41,'Daily Log'!#REF!),0)","v":0},{"$f":"IFERROR($E41*SUMIF('Daily Log'!#REF!,$B41,'Daily Log'!#REF!),0)","v":0},{"$f":"IFERROR($E41*SUMIF('Daily Log'!#REF!,$B41,'Daily Log'!#REF!),0)","v":0},{"$f":"IFERROR($E41*SUMIF('Daily Log'!#REF!,$B41,'Daily Log'!#REF!),0)","v":0},{"$f":"IFERROR($E41*SUMIF('Daily Log'!#REF!,$B41,'Daily Log'!#REF!),0)","v":0},{"$f":"IFERROR($E41*SUMIF('Daily Log'!#REF!,$B41,'Daily Log'!#REF!),0)","v":0}]
[null,"BA13 HEINEKEN RND",null,"BEER",12,12,{"$f":"IFERROR($E42*SUMIF('Daily Log'!$B$18:$B$1017,$B42,'Daily Log'!$C$18:$C$1017),0)","v":0},{"$f":"IFERROR($E42*SUMIF('Daily Log'!$E$18:$E$1017,$B42,'Daily Log'!$F$18:$F$1017),0)","v":0},{"$f":"IFERROR($E42*SUMIF('Daily Log'!$H$18:$H$1017,$B42,'Daily Log'!$I$18:$I$1017),0)","v":0},{"$f":"IFERROR($E42*SUMIF('Daily Log'!$K$18:$K$1017,$B42,'Daily Log'!$L$18:$L$1017),0)","v":0},{"$f":"IFERROR($E42*SUMIF('Daily Log'!$N$18:$N$1017,$B42,'Daily Log'!$O$18:$O$1017),0)","v":0},{"$f":"IFERROR($E42*SUMIF('Daily Log'!$Q$18:$Q$1017,$B42,'Daily Log'!$R$18:$R$1017),0)","v":0},{"$f":"IFERROR($E42*SUMIF('Daily Log'!$T$18:$T$1017,$B42,'Daily Log'!$U$18:$U$1017),0)","v":0},{"$f":"IFERROR($E42*SUMIF('Daily Log'!$W$18:$W$1017,$B42,'Daily Log'!$X$18:$X$1017),0)","v":0},{"$f":"IFERROR($E42*SUMIF('Daily Log'!$Z$18:$Z$1017,$B42,'Daily Log'!$AA$18:$AA$1017),0)","v":0},{"$f":"IFERROR($E42*SUMIF('Daily Log'!$AC$18:$AC$1017,$B42,'Daily Log'!$AD$18:$AD$1017),0)","v":12},{"$f":"IFERROR($E42*SUMIF('Daily Log'!$AF$18:$AF$1017,$B42,'Daily Log'!$AG$18:$AG$1017),0)","v":0},{"$f":"IFERROR($E42*SUMIF('Daily Log'!$AI$18:$AI$1017,$B42,'Daily Log'!$AJ$18:$AJ$1017),0)","v":0},{"$f":"IFERROR($E42*SUMIF('Daily Log'!#REF!,$B42,'Daily Log'!#REF!),0)","v":0},{"$f":"IFERROR($E42*SUMIF('Daily Log'!#REF!,$B42,'Daily Log'!#REF!),0)","v":0},{"$f":"IFERROR($E42*SUMIF('Daily Log'!#REF!,$B42,'Daily Log'!#REF!),0)","v":0},{"$f":"IFERROR($E42*SUMIF('Daily Log'!#REF!,$B42,'Daily Log'!#REF!),0)","v":0},{"$f":"IFERROR($E42*SUMIF('Daily Log'!#REF!,$B42,'Daily Log'!#REF!),0)","v":0},{"$f":"IFERROR($E42*SUMIF('Daily Log'!#REF!,$B42,'Daily Log'!#REF!),0)","v":0},{"$f":"IFERROR($E42*SUMIF('Daily Log'!#REF!,$B42,'Daily Log'!#REF!),0)","v":0},{"$f":"IFERROR($E42*SUMIF('Daily Log'!#REF!,$B42,'Daily Log'!#REF!),0)","v":0},{"$f":"IFERROR($E42*SUMIF('Daily Log'!#REF!,$B42,'Daily Log'!#REF!),0)","v":0},{"$f":"IFERROR($E42*SUMIF('Daily Log'!#REF!,$B42,'Daily Log'!#REF!),0)","v":0},{"$f":"IFERROR($E42*SUMIF('Daily Log'!#REF!,$B42,'Daily Log'!#REF!),0)","v":0},{"$f":"IFERROR($E42*SUMIF('Daily Log'!#REF!,$B42,'Daily Log'!#REF!),0)","v":0},{"$f":"IFERROR($E42*SUMIF('Daily Log'!#REF!,$B42,'Daily Log'!#REF!),0)","v":0},{"$f":"IFERROR($E42*SUMIF('Daily Log'!#REF!,$B42,'Daily Log'!#REF!),0)","v":0},{"$f":"IFERROR($E42*SUMIF('Daily Log'!#REF!,$B42,'Daily Log'!#REF!),0)","v":0},{"$f":"IFERROR($E42*SUMIF('Daily Log'!#REF!,$B42,'Daily Log'!#REF!),0)","v":0},{"$f":"IFERROR($E42*SUMIF('Daily Log'!#REF!,$B42,'Daily Log'!#REF!),0)","v":0},{"$f":"IFERROR($E42*SUMIF('Daily Log'!#REF!,$B42,'Daily Log'!#REF!),0)","v":0},{"$f":"IFERROR($E42*SUMIF('Daily Log'!#REF!,$B42,'Daily Log'!#REF!),0)","v":0}]
[null,"BA14 TIGER BTL",null,"BEER",1,8,{"$f":"IFERROR($E43*SUMIF('Daily Log'!$B$18:$B$1017,$B43,'Daily Log'!$C$18:$C$1017),0)","v":0},{"$f":"IFERROR($E43*SUMIF('Daily Log'!$E$18:$E$1017,$B43,'Daily Log'!$F$18:$F$1017),0)","v":0},{"$f":"IFERROR($E43*SUMIF('Daily Log'!$H$18:$H$1017,$B43,'Daily Log'!$I$18:$I$1017),0)","v":0},{"$f":"IFERROR($E43*SUMIF('Daily Log'!$K$18:$K$1017,$B43,'Daily Log'!$L$18:$L$1017),0)","v":0},{"$f":"IFERROR($E43*SUMIF('Daily Log'!$N$18:$N$1017,$B43,'Daily Log'!$O$18:$O$1017),0)","v":0},{"$f":"IFERROR($E43*SUMIF('Daily Log'!$Q$18:$Q$1017,$B43,'Daily Log'!$R$18:$R$1017),0)","v":5},{"$f":"IFERROR($E43*SUMIF('Daily Log'!$T$18:$T$1017,$B43,'Daily Log'!$U$18:$U$1017),0)","v":0},{"$f":"IFERROR($E43*SUMIF('Daily Log'!$W$18:$W$1017,$B43,'Daily Log'!$X$18:$X$1017),0)","v":0},{"$f":"IFERROR($E43*SUMIF('Daily Log'!$Z$18:$Z$1017,$B43,'Daily Log'!$AA$18:$AA$1017),0)","v":1},{"$f":"IFERROR($E43*SUMIF('Daily Log'!$AC$18:$AC$1017,$B43,'Daily Log'!$AD$18:$AD$1017),0)","v":0},{"$f":"IFERROR($E43*SUMIF('Daily Log'!$AF$18:$AF$1017,$B43,'Daily Log'!$AG$18:$AG$1017),0)","v":2},{"$f":"IFERROR($E43*SUMIF('Daily Log'!$AI$18:$AI$1017,$B43,'Daily Log'!$AJ$18:$AJ$1017),0)","v":0},{"$f":"IFERROR($E43*SUMIF('Daily Log'!#REF!,$B43,'Daily Log'!#REF!),0)","v":0},{"$f":"IFERROR($E43*SUMIF('Daily Log'!#REF!,$B43,'Daily Log'!#REF!),0)","v":0},{"$f":"IFERROR($E43*SUMIF('Daily Log'!#REF!,$B43,'Daily Log'!#REF!),0)","v":0},{"$f":"IFERROR($E43*SUMIF('Daily Log'!#REF!,$B43,'Daily Log'!#REF!),0)","v":0},{"$f":"IFERROR($E43*SUMIF('Daily Log'!#REF!,$B43,'Daily Log'!#REF!),0)","v":0},{"$f":"IFERROR($E43*SUMIF('Daily Log'!#REF!,$B43,'Daily Log'!#REF!),0)","v":0},{"$f":"IFERROR($E43*SUMIF('Daily Log'!#REF!,$B43,'Daily Log'!#REF!),0)","v":0},{"$f":"IFERROR($E43*SUMIF('Daily Log'!#REF!,$B43,'Daily Log'!#REF!),0)","v":0},{"$f":"IFERROR($E43*SUMIF('Daily Log'!#REF!,$B43,'Daily Log'!#REF!),0)","v":0},{"$f":"IFERROR($E43*SUMIF('Daily Log'!#REF!,$B43,'Daily Log'!#REF!),0)","v":0},{"$f":"IFERROR($E43*SUMIF('Daily Log'!#REF!,$B43,'Daily Log'!#REF!),0)","v":0},{"$f":"IFERROR($E43*SUMIF('Daily Log'!#REF!,$B43,'Daily Log'!#REF!),0)","v":0},{"$f":"IFERROR($E43*SUMIF('Daily Log'!#REF!,$B43,'Daily Log'!#REF!),0)","v":0},{"$f":"IFERROR($E43*SUMIF('Daily Log'!#REF!,$B43,'Daily Log'!#REF!),0)","v":0},{"$f":"IFERROR($E43*SUMIF('Daily Log'!#REF!,$B43,'Daily Log'!#REF!),0)","v":0},{"$f":"IFERROR($E43*SUMIF('Daily Log'!#REF!,$B43,'Daily Log'!#REF!),0)","v":0},{"$f":"IFERROR($E43*SUMIF('Daily Log'!#REF!,$B43,'Daily Log'!#REF!),0)","v":0},{"$f":"IFERROR($E43*SUMIF('Daily Log'!#REF!,$B43,'Daily Log'!#REF!),0)","v":0},{"$f":"IFERROR($E43*SUMIF('Daily Log'!#REF!,$B43,'Daily Log'!#REF!),0)","v":0}]
[null,"BA15 TIGER BKT",null,"BEER",4,72,{"$f":"IFERROR($E44*SUMIF('Daily Log'!$B$18:$B$1017,$B44,'Daily Log'!$C$18:$C$1017),0)","v":0},{"$f":"IFERROR($E44*SUMIF('Daily Log'!$E$18:$E$1017,$B44,'Daily Log'!$F$18:$F$1017),0)","v":0},{"$f":"IFERROR($E44*SUMIF('Daily Log'!$H$18:$H$1017,$B44,'Daily Log'!$I$18:$I$1017),0)","v":0},{"$f":"IFERROR($E44*SUMIF('Daily Log'!$K$18:$K$1017,$B44,'Daily Log'!$L$18:$L$1017),0)","v":0},{"$f":"IFERROR($E44*SUMIF('Daily Log'!$N$18:$N$1017,$B44,'Daily Log'!$O$18:$O$1017),0)","v":0},{"$f":"IFERROR($E44*SUMIF('Daily Log'!$Q$18:$Q$1017,$B44,'Daily Log'!$R$18:$R$1017),0)","v":0},{"$f":"IFERROR($E44*SUMIF('Daily Log'!$T$18:$T$1017,$B44,'Daily Log'!$U$18:$U$1017),0)","v":12},{"$f":"IFERROR($E44*SUMIF('Daily Log'!$W$18:$W$1017,$B44,'Daily Log'!$X$18:$X$1017),0)","v":0},{"$f":"IFERROR($E44*SUMIF('Daily Log'!$Z$18:$Z$1017,$B44,'Daily Log'!$AA$18:$AA$1017),0)","v":4},{"$f":"IFERROR($E44*SUMIF('Daily Log'!$AC$18:$AC$1017,$B44,'Daily Log'!$AD$18:$AD$1017),0)","v":24},{"$f":"IFERROR($E44*SUMIF('Daily Log'!$AF$18:$AF$1017,$B44,'Daily Log'!$AG$18:$AG$1017),0)","v":0},{"$f":"IFERROR($E44*SUMIF('Daily Log'!$AI$18:$AI$1017,$B44,'Daily Log'!$AJ$18:$AJ$1017),0)","v":32},{"$f":"IFERROR($E44*SUMIF('Daily Log'!#REF!,$B44,'Daily Log'!#REF!),0)","v":0},{"$f":"IFERROR($E44*SUMIF('Daily Log'!#REF!,$B44,'Daily Log'!#REF!),0)","v":0},{"$f":"IFERROR($E44*SUMIF('Daily Log'!#REF!,$B44,'Daily Log'!#REF!),0)","v":0},{"$f":"IFERROR($E44*SUMIF('Daily Log'!#REF!,$B44,'Daily Log'!#REF!),0)","v":0},{"$f":"IFERROR($E44*SUMIF('Daily Log'!#REF!,$B44,'Daily Log'!#REF!),0)","v":0},{"$f":"IFERROR($E44*SUMIF('Daily Log'!#REF!,$B44,'Daily Log'!#REF!),0)","v":0},{"$f":"IFERROR($E44*SUMIF('Daily Log'!#REF!,$B44,'Daily Log'!#REF!),0)","v":0},{"$f":"IFERROR($E44*SUMIF('Daily Log'!#REF!,$B44,'Daily Log'!#REF!),0)","v":0},{"$f":"IFERROR($E44*SUMIF('Daily Log'!#REF!,$B44,'Daily Log'!#REF!),0)","v":0},{"$f":"IFERROR($E44*SUMIF('Daily Log'!#REF!,$B44,'Daily Log'!#REF!),0)","v":0},{"$f":"IFERROR($E44*SUMIF('Daily Log'!#REF!,$B44,'Daily Log'!#REF!),0)","v":0},{"$f":"IFERROR($E44*SUMIF('Daily Log'!#REF!,$B44,'Daily Log'!#REF!),0)","v":0},{"$f":"IFERROR($E44*SUMIF('Daily Log'!#REF!,$B44,'Daily Log'!#REF!),0)","v":0},{"$f":"IFERROR($E44*SUMIF('Daily Log'!#REF!,$B44,'Daily Log'!#REF!),0)","v":0},{"$f":"IFERROR($E44*SUMIF('Daily Log'!#REF!,$B44,'Daily Log'!#REF!),0)","v":0},{"$f":"IFERROR($E44*SUMIF('Daily Log'!#REF!,$B44,'Daily Log'!#REF!),0)","v":0},{"$f":"IFERROR($E44*SUMIF('Daily Log'!#REF!,$B44,'Daily Log'!#REF!),0)","v":0},{"$f":"IFERROR($E44*SUMIF('Daily Log'!#REF!,$B44,'Daily Log'!#REF!),0)","v":0},{"$f":"IFERROR($E44*SUMIF('Daily Log'!#REF!,$B44,'Daily Log'!#REF!),0)","v":0}]
[null,"BA16 TIGER RND",null,"BEER",12,180,{"$f":"IFERROR($E45*SUMIF('Daily Log'!$B$18:$B$1017,$B45,'Daily Log'!$C$18:$C$1017),0)","v":0},{"$f":"IFERROR($E45*SUMIF('Daily Log'!$E$18:$E$1017,$B45,'Daily Log'!$F$18:$F$1017),0)","v":0},{"$f":"IFERROR($E45*SUMIF('Daily Log'!$H$18:$H$1017,$B45,'Daily Log'!$I$18:$I$1017),0)","v":0},{"$f":"IFERROR($E45*SUMIF('Daily Log'!$K$18:$K$1017,$B45,'Daily Log'!$L$18:$L$1017),0)","v":0},{"$f":"IFERROR($E45*SUMIF('Daily Log'!$N$18:$N$1017,$B45,'Daily Log'!$O$18:$O$1017),0)","v":0},{"$f":"IFERROR($E45*SUMIF('Daily Log'!$Q$18:$Q$1017,$B45,'Daily Log'!$R$18:$R$1017),0)","v":0},{"$f":"IFERROR($E45*SUMIF('Daily Log'!$T$18:$T$1017,$B45,'Daily Log'!$U$18:$U$1017),0)","v":24},{"$f":"IFERROR($E45*SUMIF('Daily Log'!$W$18:$W$1017,$B45,'Daily Log'!$X$18:$X$1017),0)","v":12},{"$f":"IFERROR($E45*SUMIF('Daily Log'!$Z$18:$Z$1017,$B45,'Daily Log'!$AA$18:$AA$1017),0)","v":12},{"$f":"IFERROR($E45*SUMIF('Daily Log'!$AC$18:$AC$1017,$B45,'Daily Log'!$AD$18:$AD$1017),0)","v":12},{"$f":"IFERROR($E45*SUMIF('Daily Log'!$AF$18:$AF$1017,$B45,'Daily Log'!$AG$18:$AG$1017),0)","v":84},{"$f":"IFERROR($E45*SUMIF('Daily Log'!$AI$18:$AI$1017,$B45,'Daily Log'!$AJ$18:$AJ$1017),0)","v":36},{"$f":"IFERROR($E45*SUMIF('Daily Log'!#REF!,$B45,'Daily Log'!#REF!),0)","v":0},{"$f":"IFERROR($E45*SUMIF('Daily Log'!#REF!,$B45,'Daily Log'!#REF!),0)","v":0},{"$f":"IFERROR($E45*SUMIF('Daily Log'!#REF!,$B45,'Daily Log'!#REF!),0)","v":0},{"$f":"IFERROR($E45*SUMIF('Daily Log'!#REF!,$B45,'Daily Log'!#REF!),0)","v":0},{"$f":"IFERROR($E45*SUMIF('Daily Log'!#REF!,$B45,'Daily Log'!#REF!),0)","v":0},{"$f":"IFERROR($E45*SUMIF('Daily Log'!#REF!,$B45,'Daily Log'!#REF!),0)","v":0},{"$f":"IFERROR($E45*SUMIF('Daily Log'!#REF!,$B45,'Daily Log'!#REF!),0)","v":0},{"$f":"IFERROR($E45*SUMIF('Daily Log'!#REF!,$B45,'Daily Log'!#REF!),0)","v":0},{"$f":"IFERROR($E45*SUMIF('Daily Log'!#REF!,$B45,'Daily Log'!#REF!),0)","v":0},{"$f":"IFERROR($E45*SUMIF('Daily Log'!#REF!,$B45,'Daily Log'!#REF!),0)","v":0},{"$f":"IFERROR($E45*SUMIF('Daily Log'!#REF!,$B45,'Daily Log'!#REF!),0)","v":0},{"$f":"IFERROR($E45*SUMIF('Daily Log'!#REF!,$B45,'Daily Log'!#REF!),0)","v":0},{"$f":"IFERROR($E45*SUMIF('Daily Log'!#REF!,$B45,'Daily Log'!#REF!),0)","v":0},{"$f":"IFERROR($E45*SUMIF('Daily Log'!#REF!,$B45,'Daily Log'!#REF!),0)","v":0},{"$f":"IFERROR($E45*SUMIF('Daily Log'!#REF!,$B45,'Daily Log'!#REF!),0)","v":0},{"$f":"IFERROR($E45*SUMIF('Daily Log'!#REF!,$B45,'Daily Log'!#REF!),0)","v":0},{"$f":"IFERROR($E45*SUMIF('Daily Log'!#REF!,$B45,'Daily Log'!#REF!),0)","v":0},{"$f":"IFERROR($E45*SUMIF('Daily Log'!#REF!,$B45,'Daily Log'!#REF!),0)","v":0},{"$f":"IFERROR($E45*SUMIF('Daily Log'!#REF!,$B45,'Daily Log'!#REF!),0)","v":0}]
[null,"BA17 TIGER 3+1",null,"BEER",0,0,{"$f":"IFERROR($E46*SUMIF('Daily Log'!$B$18:$B$1017,$B46,'Daily Log'!$C$18:$C$1017),0)","v":0},{"$f":"IFERROR($E46*SUMIF('Daily Log'!$E$18:$E$1017,$B46,'Daily Log'!$F$18:$F$1017),0)","v":0},{"$f":"IFERROR($E46*SUMIF('Daily Log'!$H$18:$H$1017,$B46,'Daily Log'!$I$18:$I$1017),0)","v":0},{"$f":"IFERROR($E46*SUMIF('Daily Log'!$K$18:$K$1017,$B46,'Daily Log'!$L$18:$L$1017),0)","v":0},{"$f":"IFERROR($E46*SUMIF('Daily Log'!$N$18:$N$1017,$B46,'Daily Log'!$O$18:$O$1017),0)","v":0},{"$f":"IFERROR($E46*SUMIF('Daily Log'!$Q$18:$Q$1017,$B46,'Daily Log'!$R$18:$R$1017),0)","v":0},{"$f":"IFERROR($E46*SUMIF('Daily Log'!$T$18:$T$1017,$B46,'Daily Log'!$U$18:$U$1017),0)","v":0},{"$f":"IFERROR($E46*SUMIF('Daily Log'!$W$18:$W$1017,$B46,'Daily Log'!$X$18:$X$1017),0)","v":0},{"$f":"IFERROR($E46*SUMIF('Daily Log'!$Z$18:$Z$1017,$B46,'Daily Log'!$AA$18:$AA$1017),0)","v":0},{"$f":"IFERROR($E46*SUMIF('Daily Log'!$AC$18:$AC$1017,$B46,'Daily Log'!$AD$18:$AD$1017),0)","v":0},{"$f":"IFERROR($E46*SUMIF('Daily Log'!$AF$18:$AF$1017,$B46,'Daily Log'!$AG$18:$AG$1017),0)","v":0},{"$f":"IFERROR($E46*SUMIF('Daily Log'!$AI$18:$AI$1017,$B46,'Daily Log'!$AJ$18:$AJ$1017),0)","v":0},{"$f":"IFERROR($E46*SUMIF('Daily Log'!#REF!,$B46,'Daily Log'!#REF!),0)","v":0},{"$f":"IFERROR($E46*SUMIF('Daily Log'!#REF!,$B46,'Daily Log'!#REF!),0)","v":0},{"$f":"IFERROR($E46*SUMIF('Daily Log'!#REF!,$B46,'Daily Log'!#REF!),0)","v":0},{"$f":"IFERROR($E46*SUMIF('Daily Log'!#REF!,$B46,'Daily Log'!#REF!),0)","v":0},{"$f":"IFERROR($E46*SUMIF('Daily Log'!#REF!,$B46,'Daily Log'!#REF!),0)","v":0},{"$f":"IFERROR($E46*SUMIF('Daily Log'!#REF!,$B46,'Daily Log'!#REF!),0)","v":0},{"$f":"IFERROR($E46*SUMIF('Daily Log'!#REF!,$B46,'Daily Log'!#REF!),0)","v":0},{"$f":"IFERROR($E46*SUMIF('Daily Log'!#REF!,$B46,'Daily Log'!#REF!),0)","v":0},{"$f":"IFERROR($E46*SUMIF('Daily Log'!#REF!,$B46,'Daily Log'!#REF!),0)","v":0},{"$f":"IFERROR($E46*SUMIF('Daily Log'!#REF!,$B46,'Daily Log'!#REF!),0)","v":0},{"$f":"IFERROR($E46*SUMIF('Daily Log'!#REF!,$B46,'Daily Log'!#REF!),0)","v":0},{"$f":"IFERROR($E46*SUMIF('Daily Log'!#REF!,$B46,'Daily Log'!#REF!),0)","v":0},{"$f":"IFERROR($E46*SUMIF('Daily Log'!#REF!,$B46,'Daily Log'!#REF!),0)","v":0},{"$f":"IFERROR($E46*SUMIF('Daily Log'!#REF!,$B46,'Daily Log'!#REF!),0)","v":0},{"$f":"IFERROR($E46*SUMIF('Daily Log'!#REF!,$B46,'Daily Log'!#REF!),0)","v":0},{"$f":"IFERROR($E46*SUMIF('Daily Log'!#REF!,$B46,'Daily Log'!#REF!),0)","v":0},{"$f":"IFERROR($E46*SUMIF('Daily Log'!#REF!,$B46,'Daily Log'!#REF!),0)","v":0},{"$f":"IFERROR($E46*SUMIF('Daily Log'!#REF!,$B46,'Daily Log'!#REF!),0)","v":0},{"$f":"IFERROR($E46*SUMIF('Daily Log'!#REF!,$B46,'Daily Log'!#REF!),0)","v":0}]
[null,"BA19 Tiger 2+1",null,"BEER",12,0,{"$f":"IFERROR($E47*SUMIF('Daily Log'!$B$18:$B$1017,$B47,'Daily Log'!$C$18:$C$1017),0)","v":0},{"$f":"IFERROR($E47*SUMIF('Daily Log'!$E$18:$E$1017,$B47,'Daily Log'!$F$18:$F$1017),0)","v":0},{"$f":"IFERROR($E47*SUMIF('Daily Log'!$H$18:$H$1017,$B47,'Daily Log'!$I$18:$I$1017),0)","v":0},{"$f":"IFERROR($E47*SUMIF('Daily Log'!$K$18:$K$1017,$B47,'Daily Log'!$L$18:$L$1017),0)","v":0},{"$f":"IFERROR($E47*SUMIF('Daily Log'!$N$18:$N$1017,$B47,'Daily Log'!$O$18:$O$1017),0)","v":0},{"$f":"IFERROR($E47*SUMIF('Daily Log'!$Q$18:$Q$1017,$B47,'Daily Log'!$R$18:$R$1017),0)","v":0},{"$f":"IFERROR($E47*SUMIF('Daily Log'!$T$18:$T$1017,$B47,'Daily Log'!$U$18:$U$1017),0)","v":0},{"$f":"IFERROR($E47*SUMIF('Daily Log'!$W$18:$W$1017,$B47,'Daily Log'!$X$18:$X$1017),0)","v":0},{"$f":"IFERROR($E47*SUMIF('Daily Log'!$Z$18:$Z$1017,$B47,'Daily Log'!$AA$18:$AA$1017),0)","v":0},{"$f":"IFERROR($E47*SUMIF('Daily Log'!$AC$18:$AC$1017,$B47,'Daily Log'!$AD$18:$AD$1017),0)","v":0},{"$f":"IFERROR($E47*SUMIF('Daily Log'!$AF$18:$AF$1017,$B47,'Daily Log'!$AG$18:$AG$1017),0)","v":0},{"$f":"IFERROR($E47*SUMIF('Daily Log'!$AI$18:$AI$1017,$B47,'Daily Log'!$AJ$18:$AJ$1017),0)","v":0},{"$f":"IFERROR($E47*SUMIF('Daily Log'!#REF!,$B47,'Daily Log'!#REF!),0)","v":0},{"$f":"IFERROR($E47*SUMIF('Daily Log'!#REF!,$B47,'Daily Log'!#REF!),0)","v":0},{"$f":"IFERROR($E47*SUMIF('Daily Log'!#REF!,$B47,'Daily Log'!#REF!),0)","v":0},{"$f":"IFERROR($E47*SUMIF('Daily Log'!#REF!,$B47,'Daily Log'!#REF!),0)","v":0},{"$f":"IFERROR($E47*SUMIF('Daily Log'!#REF!,$B47,'Daily Log'!#REF!),0)","v":0},{"$f":"IFERROR($E47*SUMIF('Daily Log'!#REF!,$B47,'Daily Log'!#REF!),0)","v":0},{"$f":"IFERROR($E47*SUMIF('Daily Log'!#REF!,$B47,'Daily Log'!#REF!),0)","v":0},{"$f":"IFERROR($E47*SUMIF('Daily Log'!#REF!,$B47,'Daily Log'!#REF!),0)","v":0},{"$f":"IFERROR($E47*SUMIF('Daily Log'!#REF!,$B47,'Daily Log'!#REF!),0)","v":0},{"$f":"IFERROR($E47*SUMIF('Daily Log'!#REF!,$B47,'Daily Log'!#REF!),0)","v":0},{"$f":"IFERROR($E47*SUMIF('Daily Log'!#REF!,$B47,'Daily Log'!#REF!),0)","v":0},{"$f":"IFERROR($E47*SUMIF('Daily Log'!#REF!,$B47,'Daily Log'!#REF!),0)","v":0},{"$f":"IFERROR($E47*SUMIF('Daily Log'!#REF!,$B47,'Daily Log'!#REF!),0)","v":0},{"$f":"IFERROR($E47*SUMIF('Daily Log'!#REF!,$B47,'Daily Log'!#REF!),0)","v":0},{"$f":"IFERROR($E47*SUMIF('Daily Log'!#REF!,$B47,'Daily Log'!#REF!),0)","v":0},{"$f":"IFERROR($E47*SUMIF('Daily Log'!#REF!,$B47,'Daily Log'!#REF!),0)","v":0},{"$f":"IFERROR($E47*SUMIF('Daily Log'!#REF!,$B47,'Daily Log'!#REF!),0)","v":0},{"$f":"IFERROR($E47*SUMIF('Daily Log'!#REF!,$B47,'Daily Log'!#REF!),0)","v":0},{"$f":"IFERROR($E47*SUMIF('Daily Log'!#REF!,$B47,'Daily Log'!#REF!),0)","v":0}]
[null,"BA20 Heineken 3+1",null,"BEER",16,16,{"$f":"IFERROR($E48*SUMIF('Daily Log'!$B$18:$B$1017,$B48,'Daily Log'!$C$18:$C$1017),0)","v":0},{"$f":"IFERROR($E48*SUMIF('Daily Log'!$E$18:$E$1017,$B48,'Daily Log'!$F$18:$F$1017),0)","v":0},{"$f":"IFERROR($E48*SUMIF('Daily Log'!$H$18:$H$1017,$B48,'Daily Log'!$I$18:$I$1017),0)","v":0},{"$f":"IFERROR($E48*SUMIF('Daily Log'!$K$18:$K$1017,$B48,'Daily Log'!$L$18:$L$1017),0)","v":0},{"$f":"IFERROR($E48*SUMIF('Daily Log'!$N$18:$N$1017,$B48,'Daily Log'!$O$18:$O$1017),0)","v":0},{"$f":"IFERROR($E48*SUMIF('Daily Log'!$Q$18:$Q$1017,$B48,'Daily Log'!$R$18:$R$1017),0)","v":0},{"$f":"IFERROR($E48*SUMIF('Daily Log'!$T$18:$T$1017,$B48,'Daily Log'!$U$18:$U$1017),0)","v":0},{"$f":"IFERROR($E48*SUMIF('Daily Log'!$W$18:$W$1017,$B48,'Daily Log'!$X$18:$X$1017),0)","v":16},{"$f":"IFERROR($E48*SUMIF('Daily Log'!$Z$18:$Z$1017,$B48,'Daily Log'!$AA$18:$AA$1017),0)","v":0},{"$f":"IFERROR($E48*SUMIF('Daily Log'!$AC$18:$AC$1017,$B48,'Daily Log'!$AD$18:$AD$1017),0)","v":0},{"$f":"IFERROR($E48*SUMIF('Daily Log'!$AF$18:$AF$1017,$B48,'Daily Log'!$AG$18:$AG$1017),0)","v":0},{"$f":"IFERROR($E48*SUMIF('Daily Log'!$AI$18:$AI$1017,$B48,'Daily Log'!$AJ$18:$AJ$1017),0)","v":0},{"$f":"IFERROR($E48*SUMIF('Daily Log'!#REF!,$B48,'Daily Log'!#REF!),0)","v":0},{"$f":"IFERROR($E48*SUMIF('Daily Log'!#REF!,$B48,'Daily Log'!#REF!),0)","v":0},{"$f":"IFERROR($E48*SUMIF('Daily Log'!#REF!,$B48,'Daily Log'!#REF!),0)","v":0},{"$f":"IFERROR($E48*SUMIF('Daily Log'!#REF!,$B48,'Daily Log'!#REF!),0)","v":0},{"$f":"IFERROR($E48*SUMIF('Daily Log'!#REF!,$B48,'Daily Log'!#REF!),0)","v":0},{"$f":"IFERROR($E48*SUMIF('Daily Log'!#REF!,$B48,'Daily Log'!#REF!),0)","v":0},{"$f":"IFERROR($E48*SUMIF('Daily Log'!#REF!,$B48,'Daily Log'!#REF!),0)","v":0},{"$f":"IFERROR($E48*SUMIF('Daily Log'!#REF!,$B48,'Daily Log'!#REF!),0)","v":0},{"$f":"IFERROR($E48*SUMIF('Daily Log'!#REF!,$B48,'Daily Log'!#REF!),0)","v":0},{"$f":"IFERROR($E48*SUMIF('Daily Log'!#REF!,$B48,'Daily Log'!#REF!),0)","v":0},{"$f":"IFERROR($E48*SUMIF('Daily Log'!#REF!,$B48,'Daily Log'!#REF!),0)","v":0},{"$f":"IFERROR($E48*SUMIF('Daily Log'!#REF!,$B48,'Daily Log'!#REF!),0)","v":0},{"$f":"IFERROR($E48*SUMIF('Daily Log'!#REF!,$B48,'Daily Log'!#REF!),0)","v":0},{"$f":"IFERROR($E48*SUMIF('Daily Log'!#REF!,$B48,'Daily Log'!#REF!),0)","v":0},{"$f":"IFERROR($E48*SUMIF('Daily Log'!#REF!,$B48,'Daily Log'!#REF!),0)","v":0},{"$f":"IFERROR($E48*SUMIF('Daily Log'!#REF!,$B48,'Daily Log'!#REF!),0)","v":0},{"$f":"IFERROR($E48*SUMIF('Daily Log'!#REF!,$B48,'Daily Log'!#REF!),0)","v":0},{"$f":"IFERROR($E48*SUMIF('Daily Log'!#REF!,$B48,'Daily Log'!#REF!),0)","v":0},{"$f":"IFERROR($E48*SUMIF('Daily Log'!#REF!,$B48,'Daily Log'!#REF!),0)","v":0}]
[null,"CA01 GRAPE J",null,"SIDE ORDER-JUICE",1,0,{"$f":"IFERROR($E49*SUMIF('Daily Log'!$B$18:$B$1017,$B49,'Daily Log'!$C$18:$C$1017),0)","v":0},{"$f":"IFERROR($E49*SUMIF('Daily Log'!$E$18:$E$1017,$B49,'Daily Log'!$F$18:$F$1017),0)","v":0},{"$f":"IFERROR($E49*SUMIF('Daily Log'!$H$18:$H$1017,$B49,'Daily Log'!$I$18:$I$1017),0)","v":0},{"$f":"IFERROR($E49*SUMIF('Daily Log'!$K$18:$K$1017,$B49,'Daily Log'!$L$18:$L$1017),0)","v":0},{"$f":"IFERROR($E49*SUMIF('Daily Log'!$N$18:$N$1017,$B49,'Daily Log'!$O$18:$O$1017),0)","v":0},{"$f":"IFERROR($E49*SUMIF('Daily Log'!$Q$18:$Q$1017,$B49,'Daily Log'!$R$18:$R$1017),0)","v":0},{"$f":"IFERROR($E49*SUMIF('Daily Log'!$T$18:$T$1017,$B49,'Daily Log'!$U$18:$U$1017),0)","v":0},{"$f":"IFERROR($E49*SUMIF('Daily Log'!$W$18:$W$1017,$B49,'Daily Log'!$X$18:$X$1017),0)","v":0},{"$f":"IFERROR($E49*SUMIF('Daily Log'!$Z$18:$Z$1017,$B49,'Daily Log'!$AA$18:$AA$1017),0)","v":0},{"$f":"IFERROR($E49*SUMIF('Daily Log'!$AC$18:$AC$1017,$B49,'Daily Log'!$AD$18:$AD$1017),0)","v":0},{"$f":"IFERROR($E49*SUMIF('Daily Log'!$AF$18:$AF$1017,$B49,'Daily Log'!$AG$18:$AG$1017),0)","v":0},{"$f":"IFERROR($E49*SUMIF('Daily Log'!$AI$18:$AI$1017,$B49,'Daily Log'!$AJ$18:$AJ$1017),0)","v":0},{"$f":"IFERROR($E49*SUMIF('Daily Log'!#REF!,$B49,'Daily Log'!#REF!),0)","v":0},{"$f":"IFERROR($E49*SUMIF('Daily Log'!#REF!,$B49,'Daily Log'!#REF!),0)","v":0},{"$f":"IFERROR($E49*SUMIF('Daily Log'!#REF!,$B49,'Daily Log'!#REF!),0)","v":0},{"$f":"IFERROR($E49*SUMIF('Daily Log'!#REF!,$B49,'Daily Log'!#REF!),0)","v":0},{"$f":"IFERROR($E49*SUMIF('Daily Log'!#REF!,$B49,'Daily Log'!#REF!),0)","v":0},{"$f":"IFERROR($E49*SUMIF('Daily Log'!#REF!,$B49,'Daily Log'!#REF!),0)","v":0},{"$f":"IFERROR($E49*SUMIF('Daily Log'!#REF!,$B49,'Daily Log'!#REF!),0)","v":0},{"$f":"IFERROR($E49*SUMIF('Daily Log'!#REF!,$B49,'Daily Log'!#REF!),0)","v":0},{"$f":"IFERROR($E49*SUMIF('Daily Log'!#REF!,$B49,'Daily Log'!#REF!),0)","v":0},{"$f":"IFERROR($E49*SUMIF('Daily Log'!#REF!,$B49,'Daily Log'!#REF!),0)","v":0},{"$f":"IFERROR($E49*SUMIF('Daily Log'!#REF!,$B49,'Daily Log'!#REF!),0)","v":0},{"$f":"IFERROR($E49*SUMIF('Daily Log'!#REF!,$B49,'Daily Log'!#REF!),0)","v":0},{"$f":"IFERROR($E49*SUMIF('Daily Log'!#REF!,$B49,'Daily Log'!#REF!),0)","v":0},{"$f":"IFERROR($E49*SUMIF('Daily Log'!#REF!,$B49,'Daily Log'!#REF!),0)","v":0},{"$f":"IFERROR($E49*SUMIF('Daily Log'!#REF!,$B49,'Daily Log'!#REF!),0)","v":0},{"$f":"IFERROR($E49*SUMIF('Daily Log'!#REF!,$B49,'Daily Log'!#REF!),0)","v":0},{"$f":"IFERROR($E49*SUMIF('Daily Log'!#REF!,$B49,'Daily Log'!#REF!),0)","v":0},{"$f":"IFERROR($E49*SUMIF('Daily Log'!#REF!,$B49,'Daily Log'!#REF!),0)","v":0},{"$f":"IFERROR($E49*SUMIF('Daily Log'!#REF!,$B49,'Daily Log'!#REF!),0)","v":0}]
[null,"CA02 APPLE J",null,"SIDE ORDER-JUICE",1,0,{"$f":"IFERROR($E50*SUMIF('Daily Log'!$B$18:$B$1017,$B50,'Daily Log'!$C$18:$C$1017),0)","v":0},{"$f":"IFERROR($E50*SUMIF('Daily Log'!$E$18:$E$1017,$B50,'Daily Log'!$F$18:$F$1017),0)","v":0},{"$f":"IFERROR($E50*SUMIF('Daily Log'!$H$18:$H$1017,$B50,'Daily Log'!$I$18:$I$1017),0)","v":0},{"$f":"IFERROR($E50*SUMIF('Daily Log'!$K$18:$K$1017,$B50,'Daily Log'!$L$18:$L$1017),0)","v":0},{"$f":"IFERROR($E50*SUMIF('Daily Log'!$N$18:$N$1017,$B50,'Daily Log'!$O$18:$O$1017),0)","v":0},{"$f":"IFERROR($E50*SUMIF('Daily Log'!$Q$18:$Q$1017,$B50,'Daily Log'!$R$18:$R$1017),0)","v":0},{"$f":"IFERROR($E50*SUMIF('Daily Log'!$T$18:$T$1017,$B50,'Daily Log'!$U$18:$U$1017),0)","v":0},{"$f":"IFERROR($E50*SUMIF('Daily Log'!$W$18:$W$1017,$B50,'Daily Log'!$X$18:$X$1017),0)","v":0},{"$f":"IFERROR($E50*SUMIF('Daily Log'!$Z$18:$Z$1017,$B50,'Daily Log'!$AA$18:$AA$1017),0)","v":0},{"$f":"IFERROR($E50*SUMIF('Daily Log'!$AC$18:$AC$1017,$B50,'Daily Log'!$AD$18:$AD$1017),0)","v":0},{"$f":"IFERROR($E50*SUMIF('Daily Log'!$AF$18:$AF$1017,$B50,'Daily Log'!$AG$18:$AG$1017),0)","v":0},{"$f":"IFERROR($E50*SUMIF('Daily Log'!$AI$18:$AI$1017,$B50,'Daily Log'!$AJ$18:$AJ$1017),0)","v":0},{"$f":"IFERROR($E50*SUMIF('Daily Log'!#REF!,$B50,'Daily Log'!#REF!),0)","v":0},{"$f":"IFERROR($E50*SUMIF('Daily Log'!#REF!,$B50,'Daily Log'!#REF!),0)","v":0},{"$f":"IFERROR($E50*SUMIF('Daily Log'!#REF!,$B50,'Daily Log'!#REF!),0)","v":0},{"$f":"IFERROR($E50*SUMIF('Daily Log'!#REF!,$B50,'Daily Log'!#REF!),0)","v":0},{"$f":"IFERROR($E50*SUMIF('Daily Log'!#REF!,$B50,'Daily Log'!#REF!),0)","v":0},{"$f":"IFERROR($E50*SUMIF('Daily Log'!#REF!,$B50,'Daily Log'!#REF!),0)","v":0},{"$f":"IFERROR($E50*SUMIF('Daily Log'!#REF!,$B50,'Daily Log'!#REF!),0)","v":0},{"$f":"IFERROR($E50*SUMIF('Daily Log'!#REF!,$B50,'Daily Log'!#REF!),0)","v":0},{"$f":"IFERROR($E50*SUMIF('Daily Log'!#REF!,$B50,'Daily Log'!#REF!),0)","v":0},{"$f":"IFERROR($E50*SUMIF('Daily Log'!#REF!,$B50,'Daily Log'!#REF!),0)","v":0},{"$f":"IFERROR($E50*SUMIF('Daily Log'!#REF!,$B50,'Daily Log'!#REF!),0)","v":0},{"$f":"IFERROR($E50*SUMIF('Daily Log'!#REF!,$B50,'Daily Log'!#REF!),0)","v":0},{"$f":"IFERROR($E50*SUMIF('Daily Log'!#REF!,$B50,'Daily Log'!#REF!),0)","v":0},{"$f":"IFERROR($E50*SUMIF('Daily Log'!#REF!,$B50,'Daily Log'!#REF!),0)","v":0},{"$f":"IFERROR($E50*SUMIF('Daily Log'!#REF!,$B50,'Daily Log'!#REF!),0)","v":0},{"$f":"IFERROR($E50*SUMIF('Daily Log'!#REF!,$B50,'Daily Log'!#REF!),0)","v":0},{"$f":"IFERROR($E50*SUMIF('Daily Log'!#REF!,$B50,'Daily Log'!#REF!),0)","v":0},{"$f":"IFERROR($E50*SUMIF('Daily Log'!#REF!,$B50,'Daily Log'!#REF!),0)","v":0},{"$f":"IFERROR($E50*SUMIF('Daily Log'!#REF!,$B50,'Daily Log'!#REF!),0)","v":0}]
[null,"CA03 KIWI J",null,"SIDE ORDER-JUICE",1,0,{"$f":"IFERROR($E51*SUMIF('Daily Log'!$B$18:$B$1017,$B51,'Daily Log'!$C$18:$C$1017),0)","v":0},{"$f":"IFERROR($E51*SUMIF('Daily Log'!$E$18:$E$1017,$B51,'Daily Log'!$F$18:$F$1017),0)","v":0},{"$f":"IFERROR($E51*SUMIF('Daily Log'!$H$18:$H$1017,$B51,'Daily Log'!$I$18:$I$1017),0)","v":0},{"$f":"IFERROR($E51*SUMIF('Daily Log'!$K$18:$K$1017,$B51,'Daily Log'!$L$18:$L$1017),0)","v":0},{"$f":"IFERROR($E51*SUMIF('Daily Log'!$N$18:$N$1017,$B51,'Daily Log'!$O$18:$O$1017),0)","v":0},{"$f":"IFERROR($E51*SUMIF('Daily Log'!$Q$18:$Q$1017,$B51,'Daily Log'!$R$18:$R$1017),0)","v":0},{"$f":"IFERROR($E51*SUMIF('Daily Log'!$T$18:$T$1017,$B51,'Daily Log'!$U$18:$U$1017),0)","v":0},{"$f":"IFERROR($E51*SUMIF('Daily Log'!$W$18:$W$1017,$B51,'Daily Log'!$X$18:$X$1017),0)","v":0},{"$f":"IFERROR($E51*SUMIF('Daily Log'!$Z$18:$Z$1017,$B51,'Daily Log'!$AA$18:$AA$1017),0)","v":0},{"$f":"IFERROR($E51*SUMIF('Daily Log'!$AC$18:$AC$1017,$B51,'Daily Log'!$AD$18:$AD$1017),0)","v":0},{"$f":"IFERROR($E51*SUMIF('Daily Log'!$AF$18:$AF$1017,$B51,'Daily Log'!$AG$18:$AG$1017),0)","v":0},{"$f":"IFERROR($E51*SUMIF('Daily Log'!$AI$18:$AI$1017,$B51,'Daily Log'!$AJ$18:$AJ$1017),0)","v":0},{"$f":"IFERROR($E51*SUMIF('Daily Log'!#REF!,$B51,'Daily Log'!#REF!),0)","v":0},{"$f":"IFERROR($E51*SUMIF('Daily Log'!#REF!,$B51,'Daily Log'!#REF!),0)","v":0},{"$f":"IFERROR($E51*SUMIF('Daily Log'!#REF!,$B51,'Daily Log'!#REF!),0)","v":0},{"$f":"IFERROR($E51*SUMIF('Daily Log'!#REF!,$B51,'Daily Log'!#REF!),0)","v":0},{"$f":"IFERROR($E51*SUMIF('Daily Log'!#REF!,$B51,'Daily Log'!#REF!),0)","v":0},{"$f":"IFERROR($E51*SUMIF('Daily Log'!#REF!,$B51,'Daily Log'!#REF!),0)","v":0},{"$f":"IFERROR($E51*SUMIF('Daily Log'!#REF!,$B51,'Daily Log'!#REF!),0)","v":0},{"$f":"IFERROR($E51*SUMIF('Daily Log'!#REF!,$B51,'Daily Log'!#REF!),0)","v":0},{"$f":"IFERROR($E51*SUMIF('Daily Log'!#REF!,$B51,'Daily Log'!#REF!),0)","v":0},{"$f":"IFERROR($E51*SUMIF('Daily Log'!#REF!,$B51,'Daily Log'!#REF!),0)","v":0},{"$f":"IFERROR($E51*SUMIF('Daily Log'!#REF!,$B51,'Daily Log'!#REF!),0)","v":0},{"$f":"IFERROR($E51*SUMIF('Daily Log'!#REF!,$B51,'Daily Log'!#REF!),0)","v":0},{"$f":"IFERROR($E51*SUMIF('Daily Log'!#REF!,$B51,'Daily Log'!#REF!),0)","v":0},{"$f":"IFERROR($E51*SUMIF('Daily Log'!#REF!,$B51,'Daily Log'!#REF!),0)","v":0},{"$f":"IFERROR($E51*SUMIF('Daily Log'!#REF!,$B51,'Daily Log'!#REF!),0)","v":0},{"$f":"IFERROR($E51*SUMIF('Daily Log'!#REF!,$B51,'Daily Log'!#REF!),0)","v":0},{"$f":"IFERROR($E51*SUMIF('Daily Log'!#REF!,$B51,'Daily Log'!#REF!),0)","v":0},{"$f":"IFERROR($E51*SUMIF('Daily Log'!#REF!,$B51,'Daily Log'!#REF!),0)","v":0},{"$f":"IFERROR($E51*SUMIF('Daily Log'!#REF!,$B51,'Daily Log'!#REF!),0)","v":0}]
[null,"CA04 MANGO J",null,"SIDE ORDER-JUICE",1,0,{"$f":"IFERROR($E52*SUMIF('Daily Log'!$B$18:$B$1017,$B52,'Daily Log'!$C$18:$C$1017),0)","v":0},{"$f":"IFERROR($E52*SUMIF('Daily Log'!$E$18:$E$1017,$B52,'Daily Log'!$F$18:$F$1017),0)","v":0},{"$f":"IFERROR($E52*SUMIF('Daily Log'!$H$18:$H$1017,$B52,'Daily Log'!$I$18:$I$1017),0)","v":0},{"$f":"IFERROR($E52*SUMIF('Daily Log'!$K$18:$K$1017,$B52,'Daily Log'!$L$18:$L$1017),0)","v":0},{"$f":"IFERROR($E52*SUMIF('Daily Log'!$N$18:$N$1017,$B52,'Daily Log'!$O$18:$O$1017),0)","v":0},{"$f":"IFERROR($E52*SUMIF('Daily Log'!$Q$18:$Q$1017,$B52,'Daily Log'!$R$18:$R$1017),0)","v":0},{"$f":"IFERROR($E52*SUMIF('Daily Log'!$T$18:$T$1017,$B52,'Daily Log'!$U$18:$U$1017),0)","v":0},{"$f":"IFERROR($E52*SUMIF('Daily Log'!$W$18:$W$1017,$B52,'Daily Log'!$X$18:$X$1017),0)","v":0},{"$f":"IFERROR($E52*SUMIF('Daily Log'!$Z$18:$Z$1017,$B52,'Daily Log'!$AA$18:$AA$1017),0)","v":0},{"$f":"IFERROR($E52*SUMIF('Daily Log'!$AC$18:$AC$1017,$B52,'Daily Log'!$AD$18:$AD$1017),0)","v":0},{"$f":"IFERROR($E52*SUMIF('Daily Log'!$AF$18:$AF$1017,$B52,'Daily Log'!$AG$18:$AG$1017),0)","v":0},{"$f":"IFERROR($E52*SUMIF('Daily Log'!$AI$18:$AI$1017,$B52,'Daily Log'!$AJ$18:$AJ$1017),0)","v":0},{"$f":"IFERROR($E52*SUMIF('Daily Log'!#REF!,$B52,'Daily Log'!#REF!),0)","v":0},{"$f":"IFERROR($E52*SUMIF('Daily Log'!#REF!,$B52,'Daily Log'!#REF!),0)","v":0},{"$f":"IFERROR($E52*SUMIF('Daily Log'!#REF!,$B52,'Daily Log'!#REF!),0)","v":0},{"$f":"IFERROR($E52*SUMIF('Daily Log'!#REF!,$B52,'Daily Log'!#REF!),0)","v":0},{"$f":"IFERROR($E52*SUMIF('Daily Log'!#REF!,$B52,'Daily Log'!#REF!),0)","v":0},{"$f":"IFERROR($E52*SUMIF('Daily Log'!#REF!,$B52,'Daily Log'!#REF!),0)","v":0},{"$f":"IFERROR($E52*SUMIF('Daily Log'!#REF!,$B52,'Daily Log'!#REF!),0)","v":0},{"$f":"IFERROR($E52*SUMIF('Daily Log'!#REF!,$B52,'Daily Log'!#REF!),0)","v":0},{"$f":"IFERROR($E52*SUMIF('Daily Log'!#REF!,$B52,'Daily Log'!#REF!),0)","v":0},{"$f":"IFERROR($E52*SUMIF('Daily Log'!#REF!,$B52,'Daily Log'!#REF!),0)","v":0},{"$f":"IFERROR($E52*SUMIF('Daily Log'!#REF!,$B52,'Daily Log'!#REF!),0)","v":0},{"$f":"IFERROR($E52*SUMIF('Daily Log'!#REF!,$B52,'Daily Log'!#REF!),0)","v":0},{"$f":"IFERROR($E52*SUMIF('Daily Log'!#REF!,$B52,'Daily Log'!#REF!),0)","v":0},{"$f":"IFERROR($E52*SUMIF('Daily Log'!#REF!,$B52,'Daily Log'!#REF!),0)","v":0},{"$f":"IFERROR($E52*SUMIF('Daily Log'!#REF!,$B52,'Daily Log'!#REF!),0)","v":0},{"$f":"IFERROR($E52*SUMIF('Daily Log'!#REF!,$B52,'Daily Log'!#REF!),0)","v":0},{"$f":"IFERROR($E52*SUMIF('Daily Log'!#REF!,$B52,'Daily Log'!#REF!),0)","v":0},{"$f":"IFERROR($E52*SUMIF('Daily Log'!#REF!,$B52,'Daily Log'!#REF!),0)","v":0},{"$f":"IFERROR($E52*SUMIF('Daily Log'!#REF!,$B52,'Daily Log'!#REF!),0)","v":0}]
[null,"CA05 PASSION J",null,"SIDE ORDER-JUICE",1,1,{"$f":"IFERROR($E53*SUMIF('Daily Log'!$B$18:$B$1017,$B53,'Daily Log'!$C$18:$C$1017),0)","v":0},{"$f":"IFERROR($E53*SUMIF('Daily Log'!$E$18:$E$1017,$B53,'Daily Log'!$F$18:$F$1017),0)","v":0},{"$f":"IFERROR($E53*SUMIF('Daily Log'!$H$18:$H$1017,$B53,'Daily Log'!$I$18:$I$1017),0)","v":0},{"$f":"IFERROR($E53*SUMIF('Daily Log'!$K$18:$K$1017,$B53,'Daily Log'!$L$18:$L$1017),0)","v":0},{"$f":"IFERROR($E53*SUMIF('Daily Log'!$N$18:$N$1017,$B53,'Daily Log'!$O$18:$O$1017),0)","v":0},{"$f":"IFERROR($E53*SUMIF('Daily Log'!$Q$18:$Q$1017,$B53,'Daily Log'!$R$18:$R$1017),0)","v":0},{"$f":"IFERROR($E53*SUMIF('Daily Log'!$T$18:$T$1017,$B53,'Daily Log'!$U$18:$U$1017),0)","v":0},{"$f":"IFERROR($E53*SUMIF('Daily Log'!$W$18:$W$1017,$B53,'Daily Log'!$X$18:$X$1017),0)","v":0},{"$f":"IFERROR($E53*SUMIF('Daily Log'!$Z$18:$Z$1017,$B53,'Daily Log'!$AA$18:$AA$1017),0)","v":0},{"$f":"IFERROR($E53*SUMIF('Daily Log'!$AC$18:$AC$1017,$B53,'Daily Log'!$AD$18:$AD$1017),0)","v":0},{"$f":"IFERROR($E53*SUMIF('Daily Log'!$AF$18:$AF$1017,$B53,'Daily Log'!$AG$18:$AG$1017),0)","v":0},{"$f":"IFERROR($E53*SUMIF('Daily Log'!$AI$18:$AI$1017,$B53,'Daily Log'!$AJ$18:$AJ$1017),0)","v":1},{"$f":"IFERROR($E53*SUMIF('Daily Log'!#REF!,$B53,'Daily Log'!#REF!),0)","v":0},{"$f":"IFERROR($E53*SUMIF('Daily Log'!#REF!,$B53,'Daily Log'!#REF!),0)","v":0},{"$f":"IFERROR($E53*SUMIF('Daily Log'!#REF!,$B53,'Daily Log'!#REF!),0)","v":0},{"$f":"IFERROR($E53*SUMIF('Daily Log'!#REF!,$B53,'Daily Log'!#REF!),0)","v":0},{"$f":"IFERROR($E53*SUMIF('Daily Log'!#REF!,$B53,'Daily Log'!#REF!),0)","v":0},{"$f":"IFERROR($E53*SUMIF('Daily Log'!#REF!,$B53,'Daily Log'!#REF!),0)","v":0},{"$f":"IFERROR($E53*SUMIF('Daily Log'!#REF!,$B53,'Daily Log'!#REF!),0)","v":0},{"$f":"IFERROR($E53*SUMIF('Daily Log'!#REF!,$B53,'Daily Log'!#REF!),0)","v":0},{"$f":"IFERROR($E53*SUMIF('Daily Log'!#REF!,$B53,'Daily Log'!#REF!),0)","v":0},{"$f":"IFERROR($E53*SUMIF('Daily Log'!#REF!,$B53,'Daily Log'!#REF!),0)","v":0},{"$f":"IFERROR($E53*SUMIF('Daily Log'!#REF!,$B53,'Daily Log'!#REF!),0)","v":0},{"$f":"IFERROR($E53*SUMIF('Daily Log'!#REF!,$B53,'Daily Log'!#REF!),0)","v":0},{"$f":"IFERROR($E53*SUMIF('Daily Log'!#REF!,$B53,'Daily Log'!#REF!),0)","v":0},{"$f":"IFERROR($E53*SUMIF('Daily Log'!#REF!,$B53,'Daily Log'!#REF!),0)","v":0},{"$f":"IFERROR($E53*SUMIF('Daily Log'!#REF!,$B53,'Daily Log'!#REF!),0)","v":0},{"$f":"IFERROR($E53*SUMIF('Daily Log'!#REF!,$B53,'Daily Log'!#REF!),0)","v":0},{"$f":"IFERROR($E53*SUMIF('Daily Log'!#REF!,$B53,'Daily Log'!#REF!),0)","v":0},{"$f":"IFERROR($E53*SUMIF('Daily Log'!#REF!,$B53,'Daily Log'!#REF!),0)","v":0},{"$f":"IFERROR($E53*SUMIF('Daily Log'!#REF!,$B53,'Daily Log'!#REF!),0)","v":0}]
[null,"CA06 RIBENA J",null,"SIDE ORDER-JUICE",1,0,{"$f":"IFERROR($E54*SUMIF('Daily Log'!$B$18:$B$1017,$B54,'Daily Log'!$C$18:$C$1017),0)","v":0},{"$f":"IFERROR($E54*SUMIF('Daily Log'!$E$18:$E$1017,$B54,'Daily Log'!$F$18:$F$1017),0)","v":0},{"$f":"IFERROR($E54*SUMIF('Daily Log'!$H$18:$H$1017,$B54,'Daily Log'!$I$18:$I$1017),0)","v":0},{"$f":"IFERROR($E54*SUMIF('Daily Log'!$K$18:$K$1017,$B54,'Daily Log'!$L$18:$L$1017),0)","v":0},{"$f":"IFERROR($E54*SUMIF('Daily Log'!$N$18:$N$1017,$B54,'Daily Log'!$O$18:$O$1017),0)","v":0},{"$f":"IFERROR($E54*SUMIF('Daily Log'!$Q$18:$Q$1017,$B54,'Daily Log'!$R$18:$R$1017),0)","v":0},{"$f":"IFERROR($E54*SUMIF('Daily Log'!$T$18:$T$1017,$B54,'Daily Log'!$U$18:$U$1017),0)","v":0},{"$f":"IFERROR($E54*SUMIF('Daily Log'!$W$18:$W$1017,$B54,'Daily Log'!$X$18:$X$1017),0)","v":0},{"$f":"IFERROR($E54*SUMIF('Daily Log'!$Z$18:$Z$1017,$B54,'Daily Log'!$AA$18:$AA$1017),0)","v":0},{"$f":"IFERROR($E54*SUMIF('Daily Log'!$AC$18:$AC$1017,$B54,'Daily Log'!$AD$18:$AD$1017),0)","v":0},{"$f":"IFERROR($E54*SUMIF('Daily Log'!$AF$18:$AF$1017,$B54,'Daily Log'!$AG$18:$AG$1017),0)","v":0},{"$f":"IFERROR($E54*SUMIF('Daily Log'!$AI$18:$AI$1017,$B54,'Daily Log'!$AJ$18:$AJ$1017),0)","v":0},{"$f":"IFERROR($E54*SUMIF('Daily Log'!#REF!,$B54,'Daily Log'!#REF!),0)","v":0},{"$f":"IFERROR($E54*SUMIF('Daily Log'!#REF!,$B54,'Daily Log'!#REF!),0)","v":0},{"$f":"IFERROR($E54*SUMIF('Daily Log'!#REF!,$B54,'Daily Log'!#REF!),0)","v":0},{"$f":"IFERROR($E54*SUMIF('Daily Log'!#REF!,$B54,'Daily Log'!#REF!),0)","v":0},{"$f":"IFERROR($E54*SUMIF('Daily Log'!#REF!,$B54,'Daily Log'!#REF!),0)","v":0},{"$f":"IFERROR($E54*SUMIF('Daily Log'!#REF!,$B54,'Daily Log'!#REF!),0)","v":0},{"$f":"IFERROR($E54*SUMIF('Daily Log'!#REF!,$B54,'Daily Log'!#REF!),0)","v":0},{"$f":"IFERROR($E54*SUMIF('Daily Log'!#REF!,$B54,'Daily Log'!#REF!),0)","v":0},{"$f":"IFERROR($E54*SUMIF('Daily Log'!#REF!,$B54,'Daily Log'!#REF!),0)","v":0},{"$f":"IFERROR($E54*SUMIF('Daily Log'!#REF!,$B54,'Daily Log'!#REF!),0)","v":0},{"$f":"IFERROR($E54*SUMIF('Daily Log'!#REF!,$B54,'Daily Log'!#REF!),0)","v":0},{"$f":"IFERROR($E54*SUMIF('Daily Log'!#REF!,$B54,'Daily Log'!#REF!),0)","v":0},{"$f":"IFERROR($E54*SUMIF('Daily Log'!#REF!,$B54,'Daily Log'!#REF!),0)","v":0},{"$f":"IFERROR($E54*SUMIF('Daily Log'!#REF!,$B54,'Daily Log'!#REF!),0)","v":0},{"$f":"IFERROR($E54*SUMIF('Daily Log'!#REF!,$B54,'Daily Log'!#REF!),0)","v":0},{"$f":"IFERROR($E54*SUMIF('Daily Log'!#REF!,$B54,'Daily Log'!#REF!),0)","v":0},{"$f":"IFERROR($E54*SUMIF('Daily Log'!#REF!,$B54,'Daily Log'!#REF!),0)","v":0},{"$f":"IFERROR($E54*SUMIF('Daily Log'!#REF!,$B54,'Daily Log'!#REF!),0)","v":0},{"$f":"IFERROR($E54*SUMIF('Daily Log'!#REF!,$B54,'Daily Log'!#REF!),0)","v":0}]
[null,"CB01 GRAPE SO",null,"SIDE ORDER-SODA",1,0,{"$f":"IFERROR($E55*SUMIF('Daily Log'!$B$18:$B$1017,$B55,'Daily Log'!$C$18:$C$1017),0)","v":0},{"$f":"IFERROR($E55*SUMIF('Daily Log'!$E$18:$E$1017,$B55,'Daily Log'!$F$18:$F$1017),0)","v":0},{"$f":"IFERROR($E55*SUMIF('Daily Log'!$H$18:$H$1017,$B55,'Daily Log'!$I$18:$I$1017),0)","v":0},{"$f":"IFERROR($E55*SUMIF('Daily Log'!$K$18:$K$1017,$B55,'Daily Log'!$L$18:$L$1017),0)","v":0},{"$f":"IFERROR($E55*SUMIF('Daily Log'!$N$18:$N$1017,$B55,'Daily Log'!$O$18:$O$1017),0)","v":0},{"$f":"IFERROR($E55*SUMIF('Daily Log'!$Q$18:$Q$1017,$B55,'Daily Log'!$R$18:$R$1017),0)","v":0},{"$f":"IFERROR($E55*SUMIF('Daily Log'!$T$18:$T$1017,$B55,'Daily Log'!$U$18:$U$1017),0)","v":0},{"$f":"IFERROR($E55*SUMIF('Daily Log'!$W$18:$W$1017,$B55,'Daily Log'!$X$18:$X$1017),0)","v":0},{"$f":"IFERROR($E55*SUMIF('Daily Log'!$Z$18:$Z$1017,$B55,'Daily Log'!$AA$18:$AA$1017),0)","v":0},{"$f":"IFERROR($E55*SUMIF('Daily Log'!$AC$18:$AC$1017,$B55,'Daily Log'!$AD$18:$AD$1017),0)","v":0},{"$f":"IFERROR($E55*SUMIF('Daily Log'!$AF$18:$AF$1017,$B55,'Daily Log'!$AG$18:$AG$1017),0)","v":0},{"$f":"IFERROR($E55*SUMIF('Daily Log'!$AI$18:$AI$1017,$B55,'Daily Log'!$AJ$18:$AJ$1017),0)","v":0},{"$f":"IFERROR($E55*SUMIF('Daily Log'!#REF!,$B55,'Daily Log'!#REF!),0)","v":0},{"$f":"IFERROR($E55*SUMIF('Daily Log'!#REF!,$B55,'Daily Log'!#REF!),0)","v":0},{"$f":"IFERROR($E55*SUMIF('Daily Log'!#REF!,$B55,'Daily Log'!#REF!),0)","v":0},{"$f":"IFERROR($E55*SUMIF('Daily Log'!#REF!,$B55,'Daily Log'!#REF!),0)","v":0},{"$f":"IFERROR($E55*SUMIF('Daily Log'!#REF!,$B55,'Daily Log'!#REF!),0)","v":0},{"$f":"IFERROR($E55*SUMIF('Daily Log'!#REF!,$B55,'Daily Log'!#REF!),0)","v":0},{"$f":"IFERROR($E55*SUMIF('Daily Log'!#REF!,$B55,'Daily Log'!#REF!),0)","v":0},{"$f":"IFERROR($E55*SUMIF('Daily Log'!#REF!,$B55,'Daily Log'!#REF!),0)","v":0},{"$f":"IFERROR($E55*SUMIF('Daily Log'!#REF!,$B55,'Daily Log'!#REF!),0)","v":0},{"$f":"IFERROR($E55*SUMIF('Daily Log'!#REF!,$B55,'Daily Log'!#REF!),0)","v":0},{"$f":"IFERROR($E55*SUMIF('Daily Log'!#REF!,$B55,'Daily Log'!#REF!),0)","v":0},{"$f":"IFERROR($E55*SUMIF('Daily Log'!#REF!,$B55,'Daily Log'!#REF!),0)","v":0},{"$f":"IFERROR($E55*SUMIF('Daily Log'!#REF!,$B55,'Daily Log'!#REF!),0)","v":0},{"$f":"IFERROR($E55*SUMIF('Daily Log'!#REF!,$B55,'Daily Log'!#REF!),0)","v":0},{"$f":"IFERROR($E55*SUMIF('Daily Log'!#REF!,$B55,'Daily Log'!#REF!),0)","v":0},{"$f":"IFERROR($E55*SUMIF('Daily Log'!#REF!,$B55,'Daily Log'!#REF!),0)","v":0},{"$f":"IFERROR($E55*SUMIF('Daily Log'!#REF!,$B55,'Daily Log'!#REF!),0)","v":0},{"$f":"IFERROR($E55*SUMIF('Daily Log'!#REF!,$B55,'Daily Log'!#REF!),0)","v":0},{"$f":"IFERROR($E55*SUMIF('Daily Log'!#REF!,$B55,'Daily Log'!#REF!),0)","v":0}]
[null,"CB02 APPLE SO",null,"SIDE ORDER-SODA",1,1,{"$f":"IFERROR($E56*SUMIF('Daily Log'!$B$18:$B$1017,$B56,'Daily Log'!$C$18:$C$1017),0)","v":0},{"$f":"IFERROR($E56*SUMIF('Daily Log'!$E$18:$E$1017,$B56,'Daily Log'!$F$18:$F$1017),0)","v":0},{"$f":"IFERROR($E56*SUMIF('Daily Log'!$H$18:$H$1017,$B56,'Daily Log'!$I$18:$I$1017),0)","v":0},{"$f":"IFERROR($E56*SUMIF('Daily Log'!$K$18:$K$1017,$B56,'Daily Log'!$L$18:$L$1017),0)","v":0},{"$f":"IFERROR($E56*SUMIF('Daily Log'!$N$18:$N$1017,$B56,'Daily Log'!$O$18:$O$1017),0)","v":0},{"$f":"IFERROR($E56*SUMIF('Daily Log'!$Q$18:$Q$1017,$B56,'Daily Log'!$R$18:$R$1017),0)","v":0},{"$f":"IFERROR($E56*SUMIF('Daily Log'!$T$18:$T$1017,$B56,'Daily Log'!$U$18:$U$1017),0)","v":0},{"$f":"IFERROR($E56*SUMIF('Daily Log'!$W$18:$W$1017,$B56,'Daily Log'!$X$18:$X$1017),0)","v":0},{"$f":"IFERROR($E56*SUMIF('Daily Log'!$Z$18:$Z$1017,$B56,'Daily Log'!$AA$18:$AA$1017),0)","v":0},{"$f":"IFERROR($E56*SUMIF('Daily Log'!$AC$18:$AC$1017,$B56,'Daily Log'!$AD$18:$AD$1017),0)","v":0},{"$f":"IFERROR($E56*SUMIF('Daily Log'!$AF$18:$AF$1017,$B56,'Daily Log'!$AG$18:$AG$1017),0)","v":0},{"$f":"IFERROR($E56*SUMIF('Daily Log'!$AI$18:$AI$1017,$B56,'Daily Log'!$AJ$18:$AJ$1017),0)","v":1},{"$f":"IFERROR($E56*SUMIF('Daily Log'!#REF!,$B56,'Daily Log'!#REF!),0)","v":0},{"$f":"IFERROR($E56*SUMIF('Daily Log'!#REF!,$B56,'Daily Log'!#REF!),0)","v":0},{"$f":"IFERROR($E56*SUMIF('Daily Log'!#REF!,$B56,'Daily Log'!#REF!),0)","v":0},{"$f":"IFERROR($E56*SUMIF('Daily Log'!#REF!,$B56,'Daily Log'!#REF!),0)","v":0},{"$f":"IFERROR($E56*SUMIF('Daily Log'!#REF!,$B56,'Daily Log'!#REF!),0)","v":0},{"$f":"IFERROR($E56*SUMIF('Daily Log'!#REF!,$B56,'Daily Log'!#REF!),0)","v":0},{"$f":"IFERROR($E56*SUMIF('Daily Log'!#REF!,$B56,'Daily Log'!#REF!),0)","v":0},{"$f":"IFERROR($E56*SUMIF('Daily Log'!#REF!,$B56,'Daily Log'!#REF!),0)","v":0},{"$f":"IFERROR($E56*SUMIF('Daily Log'!#REF!,$B56,'Daily Log'!#REF!),0)","v":0},{"$f":"IFERROR($E56*SUMIF('Daily Log'!#REF!,$B56,'Daily Log'!#REF!),0)","v":0},{"$f":"IFERROR($E56*SUMIF('Daily Log'!#REF!,$B56,'Daily Log'!#REF!),0)","v":0},{"$f":"IFERROR($E56*SUMIF('Daily Log'!#REF!,$B56,'Daily Log'!#REF!),0)","v":0},{"$f":"IFERROR($E56*SUMIF('Daily Log'!#REF!,$B56,'Daily Log'!#REF!),0)","v":0},{"$f":"IFERROR($E56*SUMIF('Daily Log'!#REF!,$B56,'Daily Log'!#REF!),0)","v":0},{"$f":"IFERROR($E56*SUMIF('Daily Log'!#REF!,$B56,'Daily Log'!#REF!),0)","v":0},{"$f":"IFERROR($E56*SUMIF('Daily Log'!#REF!,$B56,'Daily Log'!#REF!),0)","v":0},{"$f":"IFERROR($E56*SUMIF('Daily Log'!#REF!,$B56,'Daily Log'!#REF!),0)","v":0},{"$f":"IFERROR($E56*SUMIF('Daily Log'!#REF!,$B56,'Daily Log'!#REF!),0)","v":0},{"$f":"IFERROR($E56*SUMIF('Daily Log'!#REF!,$B56,'Daily Log'!#REF!),0)","v":0}]
[null,"CB03 KIWI SO",null,"SIDE ORDER-SODA",1,0,{"$f":"IFERROR($E57*SUMIF('Daily Log'!$B$18:$B$1017,$B57,'Daily Log'!$C$18:$C$1017),0)","v":0},{"$f":"IFERROR($E57*SUMIF('Daily Log'!$E$18:$E$1017,$B57,'Daily Log'!$F$18:$F$1017),0)","v":0},{"$f":"IFERROR($E57*SUMIF('Daily Log'!$H$18:$H$1017,$B57,'Daily Log'!$I$18:$I$1017),0)","v":0},{"$f":"IFERROR($E57*SUMIF('Daily Log'!$K$18:$K$1017,$B57,'Daily Log'!$L$18:$L$1017),0)","v":0},{"$f":"IFERROR($E57*SUMIF('Daily Log'!$N$18:$N$1017,$B57,'Daily Log'!$O$18:$O$1017),0)","v":0},{"$f":"IFERROR($E57*SUMIF('Daily Log'!$Q$18:$Q$1017,$B57,'Daily Log'!$R$18:$R$1017),0)","v":0},{"$f":"IFERROR($E57*SUMIF('Daily Log'!$T$18:$T$1017,$B57,'Daily Log'!$U$18:$U$1017),0)","v":0},{"$f":"IFERROR($E57*SUMIF('Daily Log'!$W$18:$W$1017,$B57,'Daily Log'!$X$18:$X$1017),0)","v":0},{"$f":"IFERROR($E57*SUMIF('Daily Log'!$Z$18:$Z$1017,$B57,'Daily Log'!$AA$18:$AA$1017),0)","v":0},{"$f":"IFERROR($E57*SUMIF('Daily Log'!$AC$18:$AC$1017,$B57,'Daily Log'!$AD$18:$AD$1017),0)","v":0},{"$f":"IFERROR($E57*SUMIF('Daily Log'!$AF$18:$AF$1017,$B57,'Daily Log'!$AG$18:$AG$1017),0)","v":0},{"$f":"IFERROR($E57*SUMIF('Daily Log'!$AI$18:$AI$1017,$B57,'Daily Log'!$AJ$18:$AJ$1017),0)","v":0},{"$f":"IFERROR($E57*SUMIF('Daily Log'!#REF!,$B57,'Daily Log'!#REF!),0)","v":0},{"$f":"IFERROR($E57*SUMIF('Daily Log'!#REF!,$B57,'Daily Log'!#REF!),0)","v":0},{"$f":"IFERROR($E57*SUMIF('Daily Log'!#REF!,$B57,'Daily Log'!#REF!),0)","v":0},{"$f":"IFERROR($E57*SUMIF('Daily Log'!#REF!,$B57,'Daily Log'!#REF!),0)","v":0},{"$f":"IFERROR($E57*SUMIF('Daily Log'!#REF!,$B57,'Daily Log'!#REF!),0)","v":0},{"$f":"IFERROR($E57*SUMIF('Daily Log'!#REF!,$B57,'Daily Log'!#REF!),0)","v":0},{"$f":"IFERROR($E57*SUMIF('Daily Log'!#REF!,$B57,'Daily Log'!#REF!),0)","v":0},{"$f":"IFERROR($E57*SUMIF('Daily Log'!#REF!,$B57,'Daily Log'!#REF!),0)","v":0},{"$f":"IFERROR($E57*SUMIF('Daily Log'!#REF!,$B57,'Daily Log'!#REF!),0)","v":0},{"$f":"IFERROR($E57*SUMIF('Daily Log'!#REF!,$B57,'Daily Log'!#REF!),0)","v":0},{"$f":"IFERROR($E57*SUMIF('Daily Log'!#REF!,$B57,'Daily Log'!#REF!),0)","v":0},{"$f":"IFERROR($E57*SUMIF('Daily Log'!#REF!,$B57,'Daily Log'!#REF!),0)","v":0},{"$f":"IFERROR($E57*SUMIF('Daily Log'!#REF!,$B57,'Daily Log'!#REF!),0)","v":0},{"$f":"IFERROR($E57*SUMIF('Daily Log'!#REF!,$B57,'Daily Log'!#REF!),0)","v":0},{"$f":"IFERROR($E57*SUMIF('Daily Log'!#REF!,$B57,'Daily Log'!#REF!),0)","v":0},{"$f":"IFERROR($E57*SUMIF('Daily Log'!#REF!,$B57,'Daily Log'!#REF!),0)","v":0},{"$f":"IFERROR($E57*SUMIF('Daily Log'!#REF!,$B57,'Daily Log'!#REF!),0)","v":0},{"$f":"IFERROR($E57*SUMIF('Daily Log'!#REF!,$B57,'Daily Log'!#REF!),0)","v":0},{"$f":"IFERROR($E57*SUMIF('Daily Log'!#REF!,$B57,'Daily Log'!#REF!),0)","v":0}]
[null,"CB04 MANGO SO",null,"SIDE ORDER-SODA",1,0,{"$f":"IFERROR($E58*SUMIF('Daily Log'!$B$18:$B$1017,$B58,'Daily Log'!$C$18:$C$1017),0)","v":0},{"$f":"IFERROR($E58*SUMIF('Daily Log'!$E$18:$E$1017,$B58,'Daily Log'!$F$18:$F$1017),0)","v":0},{"$f":"IFERROR($E58*SUMIF('Daily Log'!$H$18:$H$1017,$B58,'Daily Log'!$I$18:$I$1017),0)","v":0},{"$f":"IFERROR($E58*SUMIF('Daily Log'!$K$18:$K$1017,$B58,'Daily Log'!$L$18:$L$1017),0)","v":0},{"$f":"IFERROR($E58*SUMIF('Daily Log'!$N$18:$N$1017,$B58,'Daily Log'!$O$18:$O$1017),0)","v":0},{"$f":"IFERROR($E58*SUMIF('Daily Log'!$Q$18:$Q$1017,$B58,'Daily Log'!$R$18:$R$1017),0)","v":0},{"$f":"IFERROR($E58*SUMIF('Daily Log'!$T$18:$T$1017,$B58,'Daily Log'!$U$18:$U$1017),0)","v":0},{"$f":"IFERROR($E58*SUMIF('Daily Log'!$W$18:$W$1017,$B58,'Daily Log'!$X$18:$X$1017),0)","v":0},{"$f":"IFERROR($E58*SUMIF('Daily Log'!$Z$18:$Z$1017,$B58,'Daily Log'!$AA$18:$AA$1017),0)","v":0},{"$f":"IFERROR($E58*SUMIF('Daily Log'!$AC$18:$AC$1017,$B58,'Daily Log'!$AD$18:$AD$1017),0)","v":0},{"$f":"IFERROR($E58*SUMIF('Daily Log'!$AF$18:$AF$1017,$B58,'Daily Log'!$AG$18:$AG$1017),0)","v":0},{"$f":"IFERROR($E58*SUMIF('Daily Log'!$AI$18:$AI$1017,$B58,'Daily Log'!$AJ$18:$AJ$1017),0)","v":0},{"$f":"IFERROR($E58*SUMIF('Daily Log'!#REF!,$B58,'Daily Log'!#REF!),0)","v":0},{"$f":"IFERROR($E58*SUMIF('Daily Log'!#REF!,$B58,'Daily Log'!#REF!),0)","v":0},{"$f":"IFERROR($E58*SUMIF('Daily Log'!#REF!,$B58,'Daily Log'!#REF!),0)","v":0},{"$f":"IFERROR($E58*SUMIF('Daily Log'!#REF!,$B58,'Daily Log'!#REF!),0)","v":0},{"$f":"IFERROR($E58*SUMIF('Daily Log'!#REF!,$B58,'Daily Log'!#REF!),0)","v":0},{"$f":"IFERROR($E58*SUMIF('Daily Log'!#REF!,$B58,'Daily Log'!#REF!),0)","v":0},{"$f":"IFERROR($E58*SUMIF('Daily Log'!#REF!,$B58,'Daily Log'!#REF!),0)","v":0},{"$f":"IFERROR($E58*SUMIF('Daily Log'!#REF!,$B58,'Daily Log'!#REF!),0)","v":0},{"$f":"IFERROR($E58*SUMIF('Daily Log'!#REF!,$B58,'Daily Log'!#REF!),0)","v":0},{"$f":"IFERROR($E58*SUMIF('Daily Log'!#REF!,$B58,'Daily Log'!#REF!),0)","v":0},{"$f":"IFERROR($E58*SUMIF('Daily Log'!#REF!,$B58,'Daily Log'!#REF!),0)","v":0},{"$f":"IFERROR($E58*SUMIF('Daily Log'!#REF!,$B58,'Daily Log'!#REF!),0)","v":0},{"$f":"IFERROR($E58*SUMIF('Daily Log'!#REF!,$B58,'Daily Log'!#REF!),0)","v":0},{"$f":"IFERROR($E58*SUMIF('Daily Log'!#REF!,$B58,'Daily Log'!#REF!),0)","v":0},{"$f":"IFERROR($E58*SUMIF('Daily Log'!#REF!,$B58,'Daily Log'!#REF!),0)","v":0},{"$f":"IFERROR($E58*SUMIF('Daily Log'!#REF!,$B58,'Daily Log'!#REF!),0)","v":0},{"$f":"IFERROR($E58*SUMIF('Daily Log'!#REF!,$B58,'Daily Log'!#REF!),0)","v":0},{"$f":"IFERROR($E58*SUMIF('Daily Log'!#REF!,$B58,'Daily Log'!#REF!),0)","v":0},{"$f":"IFERROR($E58*SUMIF('Daily Log'!#REF!,$B58,'Daily Log'!#REF!),0)","v":0}]
[null,"CB05 PASSION SO",null,"SIDE ORDER-SODA",1,0,{"$f":"IFERROR($E59*SUMIF('Daily Log'!$B$18:$B$1017,$B59,'Daily Log'!$C$18:$C$1017),0)","v":0},{"$f":"IFERROR($E59*SUMIF('Daily Log'!$E$18:$E$1017,$B59,'Daily Log'!$F$18:$F$1017),0)","v":0},{"$f":"IFERROR($E59*SUMIF('Daily Log'!$H$18:$H$1017,$B59,'Daily Log'!$I$18:$I$1017),0)","v":0},{"$f":"IFERROR($E59*SUMIF('Daily Log'!$K$18:$K$1017,$B59,'Daily Log'!$L$18:$L$1017),0)","v":0},{"$f":"IFERROR($E59*SUMIF('Daily Log'!$N$18:$N$1017,$B59,'Daily Log'!$O$18:$O$1017),0)","v":0},{"$f":"IFERROR($E59*SUMIF('Daily Log'!$Q$18:$Q$1017,$B59,'Daily Log'!$R$18:$R$1017),0)","v":0},{"$f":"IFERROR($E59*SUMIF('Daily Log'!$T$18:$T$1017,$B59,'Daily Log'!$U$18:$U$1017),0)","v":0},{"$f":"IFERROR($E59*SUMIF('Daily Log'!$W$18:$W$1017,$B59,'Daily Log'!$X$18:$X$1017),0)","v":0},{"$f":"IFERROR($E59*SUMIF('Daily Log'!$Z$18:$Z$1017,$B59,'Daily Log'!$AA$18:$AA$1017),0)","v":0},{"$f":"IFERROR($E59*SUMIF('Daily Log'!$AC$18:$AC$1017,$B59,'Daily Log'!$AD$18:$AD$1017),0)","v":0},{"$f":"IFERROR($E59*SUMIF('Daily Log'!$AF$18:$AF$1017,$B59,'Daily Log'!$AG$18:$AG$1017),0)","v":0},{"$f":"IFERROR($E59*SUMIF('Daily Log'!$AI$18:$AI$1017,$B59,'Daily Log'!$AJ$18:$AJ$1017),0)","v":0},{"$f":"IFERROR($E59*SUMIF('Daily Log'!#REF!,$B59,'Daily Log'!#REF!),0)","v":0},{"$f":"IFERROR($E59*SUMIF('Daily Log'!#REF!,$B59,'Daily Log'!#REF!),0)","v":0},{"$f":"IFERROR($E59*SUMIF('Daily Log'!#REF!,$B59,'Daily Log'!#REF!),0)","v":0},{"$f":"IFERROR($E59*SUMIF('Daily Log'!#REF!,$B59,'Daily Log'!#REF!),0)","v":0},{"$f":"IFERROR($E59*SUMIF('Daily Log'!#REF!,$B59,'Daily Log'!#REF!),0)","v":0},{"$f":"IFERROR($E59*SUMIF('Daily Log'!#REF!,$B59,'Daily Log'!#REF!),0)","v":0},{"$f":"IFERROR($E59*SUMIF('Daily Log'!#REF!,$B59,'Daily Log'!#REF!),0)","v":0},{"$f":"IFERROR($E59*SUMIF('Daily Log'!#REF!,$B59,'Daily Log'!#REF!),0)","v":0},{"$f":"IFERROR($E59*SUMIF('Daily Log'!#REF!,$B59,'Daily Log'!#REF!),0)","v":0},{"$f":"IFERROR($E59*SUMIF('Daily Log'!#REF!,$B59,'Daily Log'!#REF!),0)","v":0},{"$f":"IFERROR($E59*SUMIF('Daily Log'!#REF!,$B59,'Daily Log'!#REF!),0)","v":0},{"$f":"IFERROR($E59*SUMIF('Daily Log'!#REF!,$B59,'Daily Log'!#REF!),0)","v":0},{"$f":"IFERROR($E59*SUMIF('Daily Log'!#REF!,$B59,'Daily Log'!#REF!),0)","v":0},{"$f":"IFERROR($E59*SUMIF('Daily Log'!#REF!,$B59,'Daily Log'!#REF!),0)","v":0},{"$f":"IFERROR($E59*SUMIF('Daily Log'!#REF!,$B59,'Daily Log'!#REF!),0)","v":0},{"$f":"IFERROR($E59*SUMIF('Daily Log'!#REF!,$B59,'Daily Log'!#REF!),0)","v":0},{"$f":"IFERROR($E59*SUMIF('Daily Log'!#REF!,$B59,'Daily Log'!#REF!),0)","v":0},{"$f":"IFERROR($E59*SUMIF('Daily Log'!#REF!,$B59,'Daily Log'!#REF!),0)","v":0},{"$f":"IFERROR($E59*SUMIF('Daily Log'!#REF!,$B59,'Daily Log'!#REF!),0)","v":0}]
[null,"CB06 RIBENA SO",null,"SIDE ORDER-SODA",1,0,{"$f":"IFERROR($E60*SUMIF('Daily Log'!$B$18:$B$1017,$B60,'Daily Log'!$C$18:$C$1017),0)","v":0},{"$f":"IFERROR($E60*SUMIF('Daily Log'!$E$18:$E$1017,$B60,'Daily Log'!$F$18:$F$1017),0)","v":0},{"$f":"IFERROR($E60*SUMIF('Daily Log'!$H$18:$H$1017,$B60,'Daily Log'!$I$18:$I$1017),0)","v":0},{"$f":"IFERROR($E60*SUMIF('Daily Log'!$K$18:$K$1017,$B60,'Daily Log'!$L$18:$L$1017),0)","v":0},{"$f":"IFERROR($E60*SUMIF('Daily Log'!$N$18:$N$1017,$B60,'Daily Log'!$O$18:$O$1017),0)","v":0},{"$f":"IFERROR($E60*SUMIF('Daily Log'!$Q$18:$Q$1017,$B60,'Daily Log'!$R$18:$R$1017),0)","v":0},{"$f":"IFERROR($E60*SUMIF('Daily Log'!$T$18:$T$1017,$B60,'Daily Log'!$U$18:$U$1017),0)","v":0},{"$f":"IFERROR($E60*SUMIF('Daily Log'!$W$18:$W$1017,$B60,'Daily Log'!$X$18:$X$1017),0)","v":0},{"$f":"IFERROR($E60*SUMIF('Daily Log'!$Z$18:$Z$1017,$B60,'Daily Log'!$AA$18:$AA$1017),0)","v":0},{"$f":"IFERROR($E60*SUMIF('Daily Log'!$AC$18:$AC$1017,$B60,'Daily Log'!$AD$18:$AD$1017),0)","v":0},{"$f":"IFERROR($E60*SUMIF('Daily Log'!$AF$18:$AF$1017,$B60,'Daily Log'!$AG$18:$AG$1017),0)","v":0},{"$f":"IFERROR($E60*SUMIF('Daily Log'!$AI$18:$AI$1017,$B60,'Daily Log'!$AJ$18:$AJ$1017),0)","v":0},{"$f":"IFERROR($E60*SUMIF('Daily Log'!#REF!,$B60,'Daily Log'!#REF!),0)","v":0},{"$f":"IFERROR($E60*SUMIF('Daily Log'!#REF!,$B60,'Daily Log'!#REF!),0)","v":0},{"$f":"IFERROR($E60*SUMIF('Daily Log'!#REF!,$B60,'Daily Log'!#REF!),0)","v":0},{"$f":"IFERROR($E60*SUMIF('Daily Log'!#REF!,$B60,'Daily Log'!#REF!),0)","v":0},{"$f":"IFERROR($E60*SUMIF('Daily Log'!#REF!,$B60,'Daily Log'!#REF!),0)","v":0},{"$f":"IFERROR($E60*SUMIF('Daily Log'!#REF!,$B60,'Daily Log'!#REF!),0)","v":0},{"$f":"IFERROR($E60*SUMIF('Daily Log'!#REF!,$B60,'Daily Log'!#REF!),0)","v":0},{"$f":"IFERROR($E60*SUMIF('Daily Log'!#REF!,$B60,'Daily Log'!#REF!),0)","v":0},{"$f":"IFERROR($E60*SUMIF('Daily Log'!#REF!,$B60,'Daily Log'!#REF!),0)","v":0},{"$f":"IFERROR($E60*SUMIF('Daily Log'!#REF!,$B60,'Daily Log'!#REF!),0)","v":0},{"$f":"IFERROR($E60*SUMIF('Daily Log'!#REF!,$B60,'Daily Log'!#REF!),0)","v":0},{"$f":"IFERROR($E60*SUMIF('Daily Log'!#REF!,$B60,'Daily Log'!#REF!),0)","v":0},{"$f":"IFERROR($E60*SUMIF('Daily Log'!#REF!,$B60,'Daily Log'!#REF!),0)","v":0},{"$f":"IFERROR($E60*SUMIF('Daily Log'!#REF!,$B60,'Daily Log'!#REF!),0)","v":0},{"$f":"IFERROR($E60*SUMIF('Daily Log'!#REF!,$B60,'Daily Log'!#REF!),0)","v":0},{"$f":"IFERROR($E60*SUMIF('Daily Log'!#REF!,$B60,'Daily Log'!#REF!),0)","v":0},{"$f":"IFERROR($E60*SUMIF('Daily Log'!#REF!,$B60,'Daily Log'!#REF!),0)","v":0},{"$f":"IFERROR($E60*SUMIF('Daily Log'!#REF!,$B60,'Daily Log'!#REF!),0)","v":0},{"$f":"IFERROR($E60*SUMIF('Daily Log'!#REF!,$B60,'Daily Log'!#REF!),0)","v":0}]
[null,"CC01 GRAPE SM",null,"SIDE ORDER-SMOOTHIES",1,0,{"$f":"IFERROR($E61*SUMIF('Daily Log'!$B$18:$B$1017,$B61,'Daily Log'!$C$18:$C$1017),0)","v":0},{"$f":"IFERROR($E61*SUMIF('Daily Log'!$E$18:$E$1017,$B61,'Daily Log'!$F$18:$F$1017),0)","v":0},{"$f":"IFERROR($E61*SUMIF('Daily Log'!$H$18:$H$1017,$B61,'Daily Log'!$I$18:$I$1017),0)","v":0},{"$f":"IFERROR($E61*SUMIF('Daily Log'!$K$18:$K$1017,$B61,'Daily Log'!$L$18:$L$1017),0)","v":0},{"$f":"IFERROR($E61*SUMIF('Daily Log'!$N$18:$N$1017,$B61,'Daily Log'!$O$18:$O$1017),0)","v":0},{"$f":"IFERROR($E61*SUMIF('Daily Log'!$Q$18:$Q$1017,$B61,'Daily Log'!$R$18:$R$1017),0)","v":0},{"$f":"IFERROR($E61*SUMIF('Daily Log'!$T$18:$T$1017,$B61,'Daily Log'!$U$18:$U$1017),0)","v":0},{"$f":"IFERROR($E61*SUMIF('Daily Log'!$W$18:$W$1017,$B61,'Daily Log'!$X$18:$X$1017),0)","v":0},{"$f":"IFERROR($E61*SUMIF('Daily Log'!$Z$18:$Z$1017,$B61,'Daily Log'!$AA$18:$AA$1017),0)","v":0},{"$f":"IFERROR($E61*SUMIF('Daily Log'!$AC$18:$AC$1017,$B61,'Daily Log'!$AD$18:$AD$1017),0)","v":0},{"$f":"IFERROR($E61*SUMIF('Daily Log'!$AF$18:$AF$1017,$B61,'Daily Log'!$AG$18:$AG$1017),0)","v":0},{"$f":"IFERROR($E61*SUMIF('Daily Log'!$AI$18:$AI$1017,$B61,'Daily Log'!$AJ$18:$AJ$1017),0)","v":0},{"$f":"IFERROR($E61*SUMIF('Daily Log'!#REF!,$B61,'Daily Log'!#REF!),0)","v":0},{"$f":"IFERROR($E61*SUMIF('Daily Log'!#REF!,$B61,'Daily Log'!#REF!),0)","v":0},{"$f":"IFERROR($E61*SUMIF('Daily Log'!#REF!,$B61,'Daily Log'!#REF!),0)","v":0},{"$f":"IFERROR($E61*SUMIF('Daily Log'!#REF!,$B61,'Daily Log'!#REF!),0)","v":0},{"$f":"IFERROR($E61*SUMIF('Daily Log'!#REF!,$B61,'Daily Log'!#REF!),0)","v":0},{"$f":"IFERROR($E61*SUMIF('Daily Log'!#REF!,$B61,'Daily Log'!#REF!),0)","v":0},{"$f":"IFERROR($E61*SUMIF('Daily Log'!#REF!,$B61,'Daily Log'!#REF!),0)","v":0},{"$f":"IFERROR($E61*SUMIF('Daily Log'!#REF!,$B61,'Daily Log'!#REF!),0)","v":0},{"$f":"IFERROR($E61*SUMIF('Daily Log'!#REF!,$B61,'Daily Log'!#REF!),0)","v":0},{"$f":"IFERROR($E61*SUMIF('Daily Log'!#REF!,$B61,'Daily Log'!#REF!),0)","v":0},{"$f":"IFERROR($E61*SUMIF('Daily Log'!#REF!,$B61,'Daily Log'!#REF!),0)","v":0},{"$f":"IFERROR($E61*SUMIF('Daily Log'!#REF!,$B61,'Daily Log'!#REF!),0)","v":0},{"$f":"IFERROR($E61*SUMIF('Daily Log'!#REF!,$B61,'Daily Log'!#REF!),0)","v":0},{"$f":"IFERROR($E61*SUMIF('Daily Log'!#REF!,$B61,'Daily Log'!#REF!),0)","v":0},{"$f":"IFERROR($E61*SUMIF('Daily Log'!#REF!,$B61,'Daily Log'!#REF!),0)","v":0},{"$f":"IFERROR($E61*SUMIF('Daily Log'!#REF!,$B61,'Daily Log'!#REF!),0)","v":0},{"$f":"IFERROR($E61*SUMIF('Daily Log'!#REF!,$B61,'Daily Log'!#REF!),0)","v":0},{"$f":"IFERROR($E61*SUMIF('Daily Log'!#REF!,$B61,'Daily Log'!#REF!),0)","v":0},{"$f":"IFERROR($E61*SUMIF('Daily Log'!#REF!,$B61,'Daily Log'!#REF!),0)","v":0}]
[null,"CC02 APPLE SM",null,"SIDE ORDER-SMOOTHIES",1,1,{"$f":"IFERROR($E62*SUMIF('Daily Log'!$B$18:$B$1017,$B62,'Daily Log'!$C$18:$C$1017),0)","v":0},{"$f":"IFERROR($E62*SUMIF('Daily Log'!$E$18:$E$1017,$B62,'Daily Log'!$F$18:$F$1017),0)","v":0},{"$f":"IFERROR($E62*SUMIF('Daily Log'!$H$18:$H$1017,$B62,'Daily Log'!$I$18:$I$1017),0)","v":0},{"$f":"IFERROR($E62*SUMIF('Daily Log'!$K$18:$K$1017,$B62,'Daily Log'!$L$18:$L$1017),0)","v":0},{"$f":"IFERROR($E62*SUMIF('Daily Log'!$N$18:$N$1017,$B62,'Daily Log'!$O$18:$O$1017),0)","v":0},{"$f":"IFERROR($E62*SUMIF('Daily Log'!$Q$18:$Q$1017,$B62,'Daily Log'!$R$18:$R$1017),0)","v":0},{"$f":"IFERROR($E62*SUMIF('Daily Log'!$T$18:$T$1017,$B62,'Daily Log'!$U$18:$U$1017),0)","v":0},{"$f":"IFERROR($E62*SUMIF('Daily Log'!$W$18:$W$1017,$B62,'Daily Log'!$X$18:$X$1017),0)","v":0},{"$f":"IFERROR($E62*SUMIF('Daily Log'!$Z$18:$Z$1017,$B62,'Daily Log'!$AA$18:$AA$1017),0)","v":0},{"$f":"IFERROR($E62*SUMIF('Daily Log'!$AC$18:$AC$1017,$B62,'Daily Log'!$AD$18:$AD$1017),0)","v":0},{"$f":"IFERROR($E62*SUMIF('Daily Log'!$AF$18:$AF$1017,$B62,'Daily Log'!$AG$18:$AG$1017),0)","v":1},{"$f":"IFERROR($E62*SUMIF('Daily Log'!$AI$18:$AI$1017,$B62,'Daily Log'!$AJ$18:$AJ$1017),0)","v":0},{"$f":"IFERROR($E62*SUMIF('Daily Log'!#REF!,$B62,'Daily Log'!#REF!),0)","v":0},{"$f":"IFERROR($E62*SUMIF('Daily Log'!#REF!,$B62,'Daily Log'!#REF!),0)","v":0},{"$f":"IFERROR($E62*SUMIF('Daily Log'!#REF!,$B62,'Daily Log'!#REF!),0)","v":0},{"$f":"IFERROR($E62*SUMIF('Daily Log'!#REF!,$B62,'Daily Log'!#REF!),0)","v":0},{"$f":"IFERROR($E62*SUMIF('Daily Log'!#REF!,$B62,'Daily Log'!#REF!),0)","v":0},{"$f":"IFERROR($E62*SUMIF('Daily Log'!#REF!,$B62,'Daily Log'!#REF!),0)","v":0},{"$f":"IFERROR($E62*SUMIF('Daily Log'!#REF!,$B62,'Daily Log'!#REF!),0)","v":0},{"$f":"IFERROR($E62*SUMIF('Daily Log'!#REF!,$B62,'Daily Log'!#REF!),0)","v":0},{"$f":"IFERROR($E62*SUMIF('Daily Log'!#REF!,$B62,'Daily Log'!#REF!),0)","v":0},{"$f":"IFERROR($E62*SUMIF('Daily Log'!#REF!,$B62,'Daily Log'!#REF!),0)","v":0},{"$f":"IFERROR($E62*SUMIF('Daily Log'!#REF!,$B62,'Daily Log'!#REF!),0)","v":0},{"$f":"IFERROR($E62*SUMIF('Daily Log'!#REF!,$B62,'Daily Log'!#REF!),0)","v":0},{"$f":"IFERROR($E62*SUMIF('Daily Log'!#REF!,$B62,'Daily Log'!#REF!),0)","v":0},{"$f":"IFERROR($E62*SUMIF('Daily Log'!#REF!,$B62,'Daily Log'!#REF!),0)","v":0},{"$f":"IFERROR($E62*SUMIF('Daily Log'!#REF!,$B62,'Daily Log'!#REF!),0)","v":0},{"$f":"IFERROR($E62*SUMIF('Daily Log'!#REF!,$B62,'Daily Log'!#REF!),0)","v":0},{"$f":"IFERROR($E62*SUMIF('Daily Log'!#REF!,$B62,'Daily Log'!#REF!),0)","v":0},{"$f":"IFERROR($E62*SUMIF('Daily Log'!#REF!,$B62,'Daily Log'!#REF!),0)","v":0},{"$f":"IFERROR($E62*SUMIF('Daily Log'!#REF!,$B62,'Daily Log'!#REF!),0)","v":0}]
[null,"CC03 KIWI SM",null,"SIDE ORDER-SMOOTHIES",1,0,{"$f":"IFERROR($E63*SUMIF('Daily Log'!$B$18:$B$1017,$B63,'Daily Log'!$C$18:$C$1017),0)","v":0},{"$f":"IFERROR($E63*SUMIF('Daily Log'!$E$18:$E$1017,$B63,'Daily Log'!$F$18:$F$1017),0)","v":0},{"$f":"IFERROR($E63*SUMIF('Daily Log'!$H$18:$H$1017,$B63,'Daily Log'!$I$18:$I$1017),0)","v":0},{"$f":"IFERROR($E63*SUMIF('Daily Log'!$K$18:$K$1017,$B63,'Daily Log'!$L$18:$L$1017),0)","v":0},{"$f":"IFERROR($E63*SUMIF('Daily Log'!$N$18:$N$1017,$B63,'Daily Log'!$O$18:$O$1017),0)","v":0},{"$f":"IFERROR($E63*SUMIF('Daily Log'!$Q$18:$Q$1017,$B63,'Daily Log'!$R$18:$R$1017),0)","v":0},{"$f":"IFERROR($E63*SUMIF('Daily Log'!$T$18:$T$1017,$B63,'Daily Log'!$U$18:$U$1017),0)","v":0},{"$f":"IFERROR($E63*SUMIF('Daily Log'!$W$18:$W$1017,$B63,'Daily Log'!$X$18:$X$1017),0)","v":0},{"$f":"IFERROR($E63*SUMIF('Daily Log'!$Z$18:$Z$1017,$B63,'Daily Log'!$AA$18:$AA$1017),0)","v":0},{"$f":"IFERROR($E63*SUMIF('Daily Log'!$AC$18:$AC$1017,$B63,'Daily Log'!$AD$18:$AD$1017),0)","v":0},{"$f":"IFERROR($E63*SUMIF('Daily Log'!$AF$18:$AF$1017,$B63,'Daily Log'!$AG$18:$AG$1017),0)","v":0},{"$f":"IFERROR($E63*SUMIF('Daily Log'!$AI$18:$AI$1017,$B63,'Daily Log'!$AJ$18:$AJ$1017),0)","v":0},{"$f":"IFERROR($E63*SUMIF('Daily Log'!#REF!,$B63,'Daily Log'!#REF!),0)","v":0},{"$f":"IFERROR($E63*SUMIF('Daily Log'!#REF!,$B63,'Daily Log'!#REF!),0)","v":0},{"$f":"IFERROR($E63*SUMIF('Daily Log'!#REF!,$B63,'Daily Log'!#REF!),0)","v":0},{"$f":"IFERROR($E63*SUMIF('Daily Log'!#REF!,$B63,'Daily Log'!#REF!),0)","v":0},{"$f":"IFERROR($E63*SUMIF('Daily Log'!#REF!,$B63,'Daily Log'!#REF!),0)","v":0},{"$f":"IFERROR($E63*SUMIF('Daily Log'!#REF!,$B63,'Daily Log'!#REF!),0)","v":0},{"$f":"IFERROR($E63*SUMIF('Daily Log'!#REF!,$B63,'Daily Log'!#REF!),0)","v":0},{"$f":"IFERROR($E63*SUMIF('Daily Log'!#REF!,$B63,'Daily Log'!#REF!),0)","v":0},{"$f":"IFERROR($E63*SUMIF('Daily Log'!#REF!,$B63,'Daily Log'!#REF!),0)","v":0},{"$f":"IFERROR($E63*SUMIF('Daily Log'!#REF!,$B63,'Daily Log'!#REF!),0)","v":0},{"$f":"IFERROR($E63*SUMIF('Daily Log'!#REF!,$B63,'Daily Log'!#REF!),0)","v":0},{"$f":"IFERROR($E63*SUMIF('Daily Log'!#REF!,$B63,'Daily Log'!#REF!),0)","v":0},{"$f":"IFERROR($E63*SUMIF('Daily Log'!#REF!,$B63,'Daily Log'!#REF!),0)","v":0},{"$f":"IFERROR($E63*SUMIF('Daily Log'!#REF!,$B63,'Daily Log'!#REF!),0)","v":0},{"$f":"IFERROR($E63*SUMIF('Daily Log'!#REF!,$B63,'Daily Log'!#REF!),0)","v":0},{"$f":"IFERROR($E63*SUMIF('Daily Log'!#REF!,$B63,'Daily Log'!#REF!),0)","v":0},{"$f":"IFERROR($E63*SUMIF('Daily Log'!#REF!,$B63,'Daily Log'!#REF!),0)","v":0},{"$f":"IFERROR($E63*SUMIF('Daily Log'!#REF!,$B63,'Daily Log'!#REF!),0)","v":0},{"$f":"IFERROR($E63*SUMIF('Daily Log'!#REF!,$B63,'Daily Log'!#REF!),0)","v":0}]
[null,"CC04 MANGO SM",null,"SIDE ORDER-SMOOTHIES",1,1,{"$f":"IFERROR($E64*SUMIF('Daily Log'!$B$18:$B$1017,$B64,'Daily Log'!$C$18:$C$1017),0)","v":0},{"$f":"IFERROR($E64*SUMIF('Daily Log'!$E$18:$E$1017,$B64,'Daily Log'!$F$18:$F$1017),0)","v":0},{"$f":"IFERROR($E64*SUMIF('Daily Log'!$H$18:$H$1017,$B64,'Daily Log'!$I$18:$I$1017),0)","v":0},{"$f":"IFERROR($E64*SUMIF('Daily Log'!$K$18:$K$1017,$B64,'Daily Log'!$L$18:$L$1017),0)","v":0},{"$f":"IFERROR($E64*SUMIF('Daily Log'!$N$18:$N$1017,$B64,'Daily Log'!$O$18:$O$1017),0)","v":0},{"$f":"IFERROR($E64*SUMIF('Daily Log'!$Q$18:$Q$1017,$B64,'Daily Log'!$R$18:$R$1017),0)","v":0},{"$f":"IFERROR($E64*SUMIF('Daily Log'!$T$18:$T$1017,$B64,'Daily Log'!$U$18:$U$1017),0)","v":0},{"$f":"IFERROR($E64*SUMIF('Daily Log'!$W$18:$W$1017,$B64,'Daily Log'!$X$18:$X$1017),0)","v":0},{"$f":"IFERROR($E64*SUMIF('Daily Log'!$Z$18:$Z$1017,$B64,'Daily Log'!$AA$18:$AA$1017),0)","v":0},{"$f":"IFERROR($E64*SUMIF('Daily Log'!$AC$18:$AC$1017,$B64,'Daily Log'!$AD$18:$AD$1017),0)","v":0},{"$f":"IFERROR($E64*SUMIF('Daily Log'!$AF$18:$AF$1017,$B64,'Daily Log'!$AG$18:$AG$1017),0)","v":1},{"$f":"IFERROR($E64*SUMIF('Daily Log'!$AI$18:$AI$1017,$B64,'Daily Log'!$AJ$18:$AJ$1017),0)","v":0},{"$f":"IFERROR($E64*SUMIF('Daily Log'!#REF!,$B64,'Daily Log'!#REF!),0)","v":0},{"$f":"IFERROR($E64*SUMIF('Daily Log'!#REF!,$B64,'Daily Log'!#REF!),0)","v":0},{"$f":"IFERROR($E64*SUMIF('Daily Log'!#REF!,$B64,'Daily Log'!#REF!),0)","v":0},{"$f":"IFERROR($E64*SUMIF('Daily Log'!#REF!,$B64,'Daily Log'!#REF!),0)","v":0},{"$f":"IFERROR($E64*SUMIF('Daily Log'!#REF!,$B64,'Daily Log'!#REF!),0)","v":0},{"$f":"IFERROR($E64*SUMIF('Daily Log'!#REF!,$B64,'Daily Log'!#REF!),0)","v":0},{"$f":"IFERROR($E64*SUMIF('Daily Log'!#REF!,$B64,'Daily Log'!#REF!),0)","v":0},{"$f":"IFERROR($E64*SUMIF('Daily Log'!#REF!,$B64,'Daily Log'!#REF!),0)","v":0},{"$f":"IFERROR($E64*SUMIF('Daily Log'!#REF!,$B64,'Daily Log'!#REF!),0)","v":0},{"$f":"IFERROR($E64*SUMIF('Daily Log'!#REF!,$B64,'Daily Log'!#REF!),0)","v":0},{"$f":"IFERROR($E64*SUMIF('Daily Log'!#REF!,$B64,'Daily Log'!#REF!),0)","v":0},{"$f":"IFERROR($E64*SUMIF('Daily Log'!#REF!,$B64,'Daily Log'!#REF!),0)","v":0},{"$f":"IFERROR($E64*SUMIF('Daily Log'!#REF!,$B64,'Daily Log'!#REF!),0)","v":0},{"$f":"IFERROR($E64*SUMIF('Daily Log'!#REF!,$B64,'Daily Log'!#REF!),0)","v":0},{"$f":"IFERROR($E64*SUMIF('Daily Log'!#REF!,$B64,'Daily Log'!#REF!),0)","v":0},{"$f":"IFERROR($E64*SUMIF('Daily Log'!#REF!,$B64,'Daily Log'!#REF!),0)","v":0},{"$f":"IFERROR($E64*SUMIF('Daily Log'!#REF!,$B64,'Daily Log'!#REF!),0)","v":0},{"$f":"IFERROR($E64*SUMIF('Daily Log'!#REF!,$B64,'Daily Log'!#REF!),0)","v":0},{"$f":"IFERROR($E64*SUMIF('Daily Log'!#REF!,$B64,'Daily Log'!#REF!),0)","v":0}]
[null,"CC05 PASSION SM",null,"SIDE ORDER-SMOOTHIES",1,0,{"$f":"IFERROR($E65*SUMIF('Daily Log'!$B$18:$B$1017,$B65,'Daily Log'!$C$18:$C$1017),0)","v":0},{"$f":"IFERROR($E65*SUMIF('Daily Log'!$E$18:$E$1017,$B65,'Daily Log'!$F$18:$F$1017),0)","v":0},{"$f":"IFERROR($E65*SUMIF('Daily Log'!$H$18:$H$1017,$B65,'Daily Log'!$I$18:$I$1017),0)","v":0},{"$f":"IFERROR($E65*SUMIF('Daily Log'!$K$18:$K$1017,$B65,'Daily Log'!$L$18:$L$1017),0)","v":0},{"$f":"IFERROR($E65*SUMIF('Daily Log'!$N$18:$N$1017,$B65,'Daily Log'!$O$18:$O$1017),0)","v":0},{"$f":"IFERROR($E65*SUMIF('Daily Log'!$Q$18:$Q$1017,$B65,'Daily Log'!$R$18:$R$1017),0)","v":0},{"$f":"IFERROR($E65*SUMIF('Daily Log'!$T$18:$T$1017,$B65,'Daily Log'!$U$18:$U$1017),0)","v":0},{"$f":"IFERROR($E65*SUMIF('Daily Log'!$W$18:$W$1017,$B65,'Daily Log'!$X$18:$X$1017),0)","v":0},{"$f":"IFERROR($E65*SUMIF('Daily Log'!$Z$18:$Z$1017,$B65,'Daily Log'!$AA$18:$AA$1017),0)","v":0},{"$f":"IFERROR($E65*SUMIF('Daily Log'!$AC$18:$AC$1017,$B65,'Daily Log'!$AD$18:$AD$1017),0)","v":0},{"$f":"IFERROR($E65*SUMIF('Daily Log'!$AF$18:$AF$1017,$B65,'Daily Log'!$AG$18:$AG$1017),0)","v":0},{"$f":"IFERROR($E65*SUMIF('Daily Log'!$AI$18:$AI$1017,$B65,'Daily Log'!$AJ$18:$AJ$1017),0)","v":0},{"$f":"IFERROR($E65*SUMIF('Daily Log'!#REF!,$B65,'Daily Log'!#REF!),0)","v":0},{"$f":"IFERROR($E65*SUMIF('Daily Log'!#REF!,$B65,'Daily Log'!#REF!),0)","v":0},{"$f":"IFERROR($E65*SUMIF('Daily Log'!#REF!,$B65,'Daily Log'!#REF!),0)","v":0},{"$f":"IFERROR($E65*SUMIF('Daily Log'!#REF!,$B65,'Daily Log'!#REF!),0)","v":0},{"$f":"IFERROR($E65*SUMIF('Daily Log'!#REF!,$B65,'Daily Log'!#REF!),0)","v":0},{"$f":"IFERROR($E65*SUMIF('Daily Log'!#REF!,$B65,'Daily Log'!#REF!),0)","v":0},{"$f":"IFERROR($E65*SUMIF('Daily Log'!#REF!,$B65,'Daily Log'!#REF!),0)","v":0},{"$f":"IFERROR($E65*SUMIF('Daily Log'!#REF!,$B65,'Daily Log'!#REF!),0)","v":0},{"$f":"IFERROR($E65*SUMIF('Daily Log'!#REF!,$B65,'Daily Log'!#REF!),0)","v":0},{"$f":"IFERROR($E65*SUMIF('Daily Log'!#REF!,$B65,'Daily Log'!#REF!),0)","v":0},{"$f":"IFERROR($E65*SUMIF('Daily Log'!#REF!,$B65,'Daily Log'!#REF!),0)","v":0},{"$f":"IFERROR($E65*SUMIF('Daily Log'!#REF!,$B65,'Daily Log'!#REF!),0)","v":0},{"$f":"IFERROR($E65*SUMIF('Daily Log'!#REF!,$B65,'Daily Log'!#REF!),0)","v":0},{"$f":"IFERROR($E65*SUMIF('Daily Log'!#REF!,$B65,'Daily Log'!#REF!),0)","v":0},{"$f":"IFERROR($E65*SUMIF('Daily Log'!#REF!,$B65,'Daily Log'!#REF!),0)","v":0},{"$f":"IFERROR($E65*SUMIF('Daily Log'!#REF!,$B65,'Daily Log'!#REF!),0)","v":0},{"$f":"IFERROR($E65*SUMIF('Daily Log'!#REF!,$B65,'Daily Log'!#REF!),0)","v":0},{"$f":"IFERROR($E65*SUMIF('Daily Log'!#REF!,$B65,'Daily Log'!#REF!),0)","v":0},{"$f":"IFERROR($E65*SUMIF('Daily Log'!#REF!,$B65,'Daily Log'!#REF!),0)","v":0}]
[null,"CC06 RIBENA SM",null,"SIDE ORDER-SMOOTHIES",1,0,{"$f":"IFERROR($E66*SUMIF('Daily Log'!$B$18:$B$1017,$B66,'Daily Log'!$C$18:$C$1017),0)","v":0},{"$f":"IFERROR($E66*SUMIF('Daily Log'!$E$18:$E$1017,$B66,'Daily Log'!$F$18:$F$1017),0)","v":0},{"$f":"IFERROR($E66*SUMIF('Daily Log'!$H$18:$H$1017,$B66,'Daily Log'!$I$18:$I$1017),0)","v":0},{"$f":"IFERROR($E66*SUMIF('Daily Log'!$K$18:$K$1017,$B66,'Daily Log'!$L$18:$L$1017),0)","v":0},{"$f":"IFERROR($E66*SUMIF('Daily Log'!$N$18:$N$1017,$B66,'Daily Log'!$O$18:$O$1017),0)","v":0},{"$f":"IFERROR($E66*SUMIF('Daily Log'!$Q$18:$Q$1017,$B66,'Daily Log'!$R$18:$R$1017),0)","v":0},{"$f":"IFERROR($E66*SUMIF('Daily Log'!$T$18:$T$1017,$B66,'Daily Log'!$U$18:$U$1017),0)","v":0},{"$f":"IFERROR($E66*SUMIF('Daily Log'!$W$18:$W$1017,$B66,'Daily Log'!$X$18:$X$1017),0)","v":0},{"$f":"IFERROR($E66*SUMIF('Daily Log'!$Z$18:$Z$1017,$B66,'Daily Log'!$AA$18:$AA$1017),0)","v":0},{"$f":"IFERROR($E66*SUMIF('Daily Log'!$AC$18:$AC$1017,$B66,'Daily Log'!$AD$18:$AD$1017),0)","v":0},{"$f":"IFERROR($E66*SUMIF('Daily Log'!$AF$18:$AF$1017,$B66,'Daily Log'!$AG$18:$AG$1017),0)","v":0},{"$f":"IFERROR($E66*SUMIF('Daily Log'!$AI$18:$AI$1017,$B66,'Daily Log'!$AJ$18:$AJ$1017),0)","v":0},{"$f":"IFERROR($E66*SUMIF('Daily Log'!#REF!,$B66,'Daily Log'!#REF!),0)","v":0},{"$f":"IFERROR($E66*SUMIF('Daily Log'!#REF!,$B66,'Daily Log'!#REF!),0)","v":0},{"$f":"IFERROR($E66*SUMIF('Daily Log'!#REF!,$B66,'Daily Log'!#REF!),0)","v":0},{"$f":"IFERROR($E66*SUMIF('Daily Log'!#REF!,$B66,'Daily Log'!#REF!),0)","v":0},{"$f":"IFERROR($E66*SUMIF('Daily Log'!#REF!,$B66,'Daily Log'!#REF!),0)","v":0},{"$f":"IFERROR($E66*SUMIF('Daily Log'!#REF!,$B66,'Daily Log'!#REF!),0)","v":0},{"$f":"IFERROR($E66*SUMIF('Daily Log'!#REF!,$B66,'Daily Log'!#REF!),0)","v":0},{"$f":"IFERROR($E66*SUMIF('Daily Log'!#REF!,$B66,'Daily Log'!#REF!),0)","v":0},{"$f":"IFERROR($E66*SUMIF('Daily Log'!#REF!,$B66,'Daily Log'!#REF!),0)","v":0},{"$f":"IFERROR($E66*SUMIF('Daily Log'!#REF!,$B66,'Daily Log'!#REF!),0)","v":0},{"$f":"IFERROR($E66*SUMIF('Daily Log'!#REF!,$B66,'Daily Log'!#REF!),0)","v":0},{"$f":"IFERROR($E66*SUMIF('Daily Log'!#REF!,$B66,'Daily Log'!#REF!),0)","v":0},{"$f":"IFERROR($E66*SUMIF('Daily Log'!#REF!,$B66,'Daily Log'!#REF!),0)","v":0},{"$f":"IFERROR($E66*SUMIF('Daily Log'!#REF!,$B66,'Daily Log'!#REF!),0)","v":0},{"$f":"IFERROR($E66*SUMIF('Daily Log'!#REF!,$B66,'Daily Log'!#REF!),0)","v":0},{"$f":"IFERROR($E66*SUMIF('Daily Log'!#REF!,$B66,'Daily Log'!#REF!),0)","v":0},{"$f":"IFERROR($E66*SUMIF('Daily Log'!#REF!,$B66,'Daily Log'!#REF!),0)","v":0},{"$f":"IFERROR($E66*SUMIF('Daily Log'!#REF!,$B66,'Daily Log'!#REF!),0)","v":0},{"$f":"IFERROR($E66*SUMIF('Daily Log'!#REF!,$B66,'Daily Log'!#REF!),0)","v":0}]
[null,"CC07 CAPPUCINNO SM",null,"SIDE ORDER-SMOOTHIES",1,0,{"$f":"IFERROR($E67*SUMIF('Daily Log'!$B$18:$B$1017,$B67,'Daily Log'!$C$18:$C$1017),0)","v":0},{"$f":"IFERROR($E67*SUMIF('Daily Log'!$E$18:$E$1017,$B67,'Daily Log'!$F$18:$F$1017),0)","v":0},{"$f":"IFERROR($E67*SUMIF('Daily Log'!$H$18:$H$1017,$B67,'Daily Log'!$I$18:$I$1017),0)","v":0},{"$f":"IFERROR($E67*SUMIF('Daily Log'!$K$18:$K$1017,$B67,'Daily Log'!$L$18:$L$1017),0)","v":0},{"$f":"IFERROR($E67*SUMIF('Daily Log'!$N$18:$N$1017,$B67,'Daily Log'!$O$18:$O$1017),0)","v":0},{"$f":"IFERROR($E67*SUMIF('Daily Log'!$Q$18:$Q$1017,$B67,'Daily Log'!$R$18:$R$1017),0)","v":0},{"$f":"IFERROR($E67*SUMIF('Daily Log'!$T$18:$T$1017,$B67,'Daily Log'!$U$18:$U$1017),0)","v":0},{"$f":"IFERROR($E67*SUMIF('Daily Log'!$W$18:$W$1017,$B67,'Daily Log'!$X$18:$X$1017),0)","v":0},{"$f":"IFERROR($E67*SUMIF('Daily Log'!$Z$18:$Z$1017,$B67,'Daily Log'!$AA$18:$AA$1017),0)","v":0},{"$f":"IFERROR($E67*SUMIF('Daily Log'!$AC$18:$AC$1017,$B67,'Daily Log'!$AD$18:$AD$1017),0)","v":0},{"$f":"IFERROR($E67*SUMIF('Daily Log'!$AF$18:$AF$1017,$B67,'Daily Log'!$AG$18:$AG$1017),0)","v":0},{"$f":"IFERROR($E67*SUMIF('Daily Log'!$AI$18:$AI$1017,$B67,'Daily Log'!$AJ$18:$AJ$1017),0)","v":0},{"$f":"IFERROR($E67*SUMIF('Daily Log'!#REF!,$B67,'Daily Log'!#REF!),0)","v":0},{"$f":"IFERROR($E67*SUMIF('Daily Log'!#REF!,$B67,'Daily Log'!#REF!),0)","v":0},{"$f":"IFERROR($E67*SUMIF('Daily Log'!#REF!,$B67,'Daily Log'!#REF!),0)","v":0},{"$f":"IFERROR($E67*SUMIF('Daily Log'!#REF!,$B67,'Daily Log'!#REF!),0)","v":0},{"$f":"IFERROR($E67*SUMIF('Daily Log'!#REF!,$B67,'Daily Log'!#REF!),0)","v":0},{"$f":"IFERROR($E67*SUMIF('Daily Log'!#REF!,$B67,'Daily Log'!#REF!),0)","v":0},{"$f":"IFERROR($E67*SUMIF('Daily Log'!#REF!,$B67,'Daily Log'!#REF!),0)","v":0},{"$f":"IFERROR($E67*SUMIF('Daily Log'!#REF!,$B67,'Daily Log'!#REF!),0)","v":0},{"$f":"IFERROR($E67*SUMIF('Daily Log'!#REF!,$B67,'Daily Log'!#REF!),0)","v":0},{"$f":"IFERROR($E67*SUMIF('Daily Log'!#REF!,$B67,'Daily Log'!#REF!),0)","v":0},{"$f":"IFERROR($E67*SUMIF('Daily Log'!#REF!,$B67,'Daily Log'!#REF!),0)","v":0},{"$f":"IFERROR($E67*SUMIF('Daily Log'!#REF!,$B67,'Daily Log'!#REF!),0)","v":0},{"$f":"IFERROR($E67*SUMIF('Daily Log'!#REF!,$B67,'Daily Log'!#REF!),0)","v":0},{"$f":"IFERROR($E67*SUMIF('Daily Log'!#REF!,$B67,'Daily Log'!#REF!),0)","v":0},{"$f":"IFERROR($E67*SUMIF('Daily Log'!#REF!,$B67,'Daily Log'!#REF!),0)","v":0},{"$f":"IFERROR($E67*SUMIF('Daily Log'!#REF!,$B67,'Daily Log'!#REF!),0)","v":0},{"$f":"IFERROR($E67*SUMIF('Daily Log'!#REF!,$B67,'Daily Log'!#REF!),0)","v":0},{"$f":"IFERROR($E67*SUMIF('Daily Log'!#REF!,$B67,'Daily Log'!#REF!),0)","v":0},{"$f":"IFERROR($E67*SUMIF('Daily Log'!#REF!,$B67,'Daily Log'!#REF!),0)","v":0}]
[null,"CC08 CHOCOLATE SM",null,"SIDE ORDER-SMOOTHIES",1,1,{"$f":"IFERROR($E68*SUMIF('Daily Log'!$B$18:$B$1017,$B68,'Daily Log'!$C$18:$C$1017),0)","v":0},{"$f":"IFERROR($E68*SUMIF('Daily Log'!$E$18:$E$1017,$B68,'Daily Log'!$F$18:$F$1017),0)","v":0},{"$f":"IFERROR($E68*SUMIF('Daily Log'!$H$18:$H$1017,$B68,'Daily Log'!$I$18:$I$1017),0)","v":0},{"$f":"IFERROR($E68*SUMIF('Daily Log'!$K$18:$K$1017,$B68,'Daily Log'!$L$18:$L$1017),0)","v":0},{"$f":"IFERROR($E68*SUMIF('Daily Log'!$N$18:$N$1017,$B68,'Daily Log'!$O$18:$O$1017),0)","v":0},{"$f":"IFERROR($E68*SUMIF('Daily Log'!$Q$18:$Q$1017,$B68,'Daily Log'!$R$18:$R$1017),0)","v":0},{"$f":"IFERROR($E68*SUMIF('Daily Log'!$T$18:$T$1017,$B68,'Daily Log'!$U$18:$U$1017),0)","v":0},{"$f":"IFERROR($E68*SUMIF('Daily Log'!$W$18:$W$1017,$B68,'Daily Log'!$X$18:$X$1017),0)","v":0},{"$f":"IFERROR($E68*SUMIF('Daily Log'!$Z$18:$Z$1017,$B68,'Daily Log'!$AA$18:$AA$1017),0)","v":0},{"$f":"IFERROR($E68*SUMIF('Daily Log'!$AC$18:$AC$1017,$B68,'Daily Log'!$AD$18:$AD$1017),0)","v":0},{"$f":"IFERROR($E68*SUMIF('Daily Log'!$AF$18:$AF$1017,$B68,'Daily Log'!$AG$18:$AG$1017),0)","v":0},{"$f":"IFERROR($E68*SUMIF('Daily Log'!$AI$18:$AI$1017,$B68,'Daily Log'!$AJ$18:$AJ$1017),0)","v":1},{"$f":"IFERROR($E68*SUMIF('Daily Log'!#REF!,$B68,'Daily Log'!#REF!),0)","v":0},{"$f":"IFERROR($E68*SUMIF('Daily Log'!#REF!,$B68,'Daily Log'!#REF!),0)","v":0},{"$f":"IFERROR($E68*SUMIF('Daily Log'!#REF!,$B68,'Daily Log'!#REF!),0)","v":0},{"$f":"IFERROR($E68*SUMIF('Daily Log'!#REF!,$B68,'Daily Log'!#REF!),0)","v":0},{"$f":"IFERROR($E68*SUMIF('Daily Log'!#REF!,$B68,'Daily Log'!#REF!),0)","v":0},{"$f":"IFERROR($E68*SUMIF('Daily Log'!#REF!,$B68,'Daily Log'!#REF!),0)","v":0},{"$f":"IFERROR($E68*SUMIF('Daily Log'!#REF!,$B68,'Daily Log'!#REF!),0)","v":0},{"$f":"IFERROR($E68*SUMIF('Daily Log'!#REF!,$B68,'Daily Log'!#REF!),0)","v":0},{"$f":"IFERROR($E68*SUMIF('Daily Log'!#REF!,$B68,'Daily Log'!#REF!),0)","v":0},{"$f":"IFERROR($E68*SUMIF('Daily Log'!#REF!,$B68,'Daily Log'!#REF!),0)","v":0},{"$f":"IFERROR($E68*SUMIF('Daily Log'!#REF!,$B68,'Daily Log'!#REF!),0)","v":0},{"$f":"IFERROR($E68*SUMIF('Daily Log'!#REF!,$B68,'Daily Log'!#REF!),0)","v":0},{"$f":"IFERROR($E68*SUMIF('Daily Log'!#REF!,$B68,'Daily Log'!#REF!),0)","v":0},{"$f":"IFERROR($E68*SUMIF('Daily Log'!#REF!,$B68,'Daily Log'!#REF!),0)","v":0},{"$f":"IFERROR($E68*SUMIF('Daily Log'!#REF!,$B68,'Daily Log'!#REF!),0)","v":0},{"$f":"IFERROR($E68*SUMIF('Daily Log'!#REF!,$B68,'Daily Log'!#REF!),0)","v":0},{"$f":"IFERROR($E68*SUMIF('Daily Log'!#REF!,$B68,'Daily Log'!#REF!),0)","v":0},{"$f":"IFERROR($E68*SUMIF('Daily Log'!#REF!,$B68,'Daily Log'!#REF!),0)","v":0},{"$f":"IFERROR($E68*SUMIF('Daily Log'!#REF!,$B68,'Daily Log'!#REF!),0)","v":0}]
[null,"CC09 MOCHA SM",null,"SIDE ORDER-SMOOTHIES",1,0,{"$f":"IFERROR($E69*SUMIF('Daily Log'!$B$18:$B$1017,$B69,'Daily Log'!$C$18:$C$1017),0)","v":0},{"$f":"IFERROR($E69*SUMIF('Daily Log'!$E$18:$E$1017,$B69,'Daily Log'!$F$18:$F$1017),0)","v":0},{"$f":"IFERROR($E69*SUMIF('Daily Log'!$H$18:$H$1017,$B69,'Daily Log'!$I$18:$I$1017),0)","v":0},{"$f":"IFERROR($E69*SUMIF('Daily Log'!$K$18:$K$1017,$B69,'Daily Log'!$L$18:$L$1017),0)","v":0},{"$f":"IFERROR($E69*SUMIF('Daily Log'!$N$18:$N$1017,$B69,'Daily Log'!$O$18:$O$1017),0)","v":0},{"$f":"IFERROR($E69*SUMIF('Daily Log'!$Q$18:$Q$1017,$B69,'Daily Log'!$R$18:$R$1017),0)","v":0},{"$f":"IFERROR($E69*SUMIF('Daily Log'!$T$18:$T$1017,$B69,'Daily Log'!$U$18:$U$1017),0)","v":0},{"$f":"IFERROR($E69*SUMIF('Daily Log'!$W$18:$W$1017,$B69,'Daily Log'!$X$18:$X$1017),0)","v":0},{"$f":"IFERROR($E69*SUMIF('Daily Log'!$Z$18:$Z$1017,$B69,'Daily Log'!$AA$18:$AA$1017),0)","v":0},{"$f":"IFERROR($E69*SUMIF('Daily Log'!$AC$18:$AC$1017,$B69,'Daily Log'!$AD$18:$AD$1017),0)","v":0},{"$f":"IFERROR($E69*SUMIF('Daily Log'!$AF$18:$AF$1017,$B69,'Daily Log'!$AG$18:$AG$1017),0)","v":0},{"$f":"IFERROR($E69*SUMIF('Daily Log'!$AI$18:$AI$1017,$B69,'Daily Log'!$AJ$18:$AJ$1017),0)","v":0},{"$f":"IFERROR($E69*SUMIF('Daily Log'!#REF!,$B69,'Daily Log'!#REF!),0)","v":0},{"$f":"IFERROR($E69*SUMIF('Daily Log'!#REF!,$B69,'Daily Log'!#REF!),0)","v":0},{"$f":"IFERROR($E69*SUMIF('Daily Log'!#REF!,$B69,'Daily Log'!#REF!),0)","v":0},{"$f":"IFERROR($E69*SUMIF('Daily Log'!#REF!,$B69,'Daily Log'!#REF!),0)","v":0},{"$f":"IFERROR($E69*SUMIF('Daily Log'!#REF!,$B69,'Daily Log'!#REF!),0)","v":0},{"$f":"IFERROR($E69*SUMIF('Daily Log'!#REF!,$B69,'Daily Log'!#REF!),0)","v":0},{"$f":"IFERROR($E69*SUMIF('Daily Log'!#REF!,$B69,'Daily Log'!#REF!),0)","v":0},{"$f":"IFERROR($E69*SUMIF('Daily Log'!#REF!,$B69,'Daily Log'!#REF!),0)","v":0},{"$f":"IFERROR($E69*SUMIF('Daily Log'!#REF!,$B69,'Daily Log'!#REF!),0)","v":0},{"$f":"IFERROR($E69*SUMIF('Daily Log'!#REF!,$B69,'Daily Log'!#REF!),0)","v":0},{"$f":"IFERROR($E69*SUMIF('Daily Log'!#REF!,$B69,'Daily Log'!#REF!),0)","v":0},{"$f":"IFERROR($E69*SUMIF('Daily Log'!#REF!,$B69,'Daily Log'!#REF!),0)","v":0},{"$f":"IFERROR($E69*SUMIF('Daily Log'!#REF!,$B69,'Daily Log'!#REF!),0)","v":0},{"$f":"IFERROR($E69*SUMIF('Daily Log'!#REF!,$B69,'Daily Log'!#REF!),0)","v":0},{"$f":"IFERROR($E69*SUMIF('Daily Log'!#REF!,$B69,'Daily Log'!#REF!),0)","v":0},{"$f":"IFERROR($E69*SUMIF('Daily Log'!#REF!,$B69,'Daily Log'!#REF!),0)","v":0},{"$f":"IFERROR($E69*SUMIF('Daily Log'!#REF!,$B69,'Daily Log'!#REF!),0)","v":0},{"$f":"IFERROR($E69*SUMIF('Daily Log'!#REF!,$B69,'Daily Log'!#REF!),0)","v":0},{"$f":"IFERROR($E69*SUMIF('Daily Log'!#REF!,$B69,'Daily Log'!#REF!),0)","v":0}]
[null,"CD01 7 UP",null,"SIDE ORDER-SOFT DRINKS",1,0,{"$f":"IFERROR($E70*SUMIF('Daily Log'!$B$18:$B$1017,$B70,'Daily Log'!$C$18:$C$1017),0)","v":0},{"$f":"IFERROR($E70*SUMIF('Daily Log'!$E$18:$E$1017,$B70,'Daily Log'!$F$18:$F$1017),0)","v":0},{"$f":"IFERROR($E70*SUMIF('Daily Log'!$H$18:$H$1017,$B70,'Daily Log'!$I$18:$I$1017),0)","v":0},{"$f":"IFERROR($E70*SUMIF('Daily Log'!$K$18:$K$1017,$B70,'Daily Log'!$L$18:$L$1017),0)","v":0},{"$f":"IFERROR($E70*SUMIF('Daily Log'!$N$18:$N$1017,$B70,'Daily Log'!$O$18:$O$1017),0)","v":0},{"$f":"IFERROR($E70*SUMIF('Daily Log'!$Q$18:$Q$1017,$B70,'Daily Log'!$R$18:$R$1017),0)","v":0},{"$f":"IFERROR($E70*SUMIF('Daily Log'!$T$18:$T$1017,$B70,'Daily Log'!$U$18:$U$1017),0)","v":0},{"$f":"IFERROR($E70*SUMIF('Daily Log'!$W$18:$W$1017,$B70,'Daily Log'!$X$18:$X$1017),0)","v":0},{"$f":"IFERROR($E70*SUMIF('Daily Log'!$Z$18:$Z$1017,$B70,'Daily Log'!$AA$18:$AA$1017),0)","v":0},{"$f":"IFERROR($E70*SUMIF('Daily Log'!$AC$18:$AC$1017,$B70,'Daily Log'!$AD$18:$AD$1017),0)","v":0},{"$f":"IFERROR($E70*SUMIF('Daily Log'!$AF$18:$AF$1017,$B70,'Daily Log'!$AG$18:$AG$1017),0)","v":0},{"$f":"IFERROR($E70*SUMIF('Daily Log'!$AI$18:$AI$1017,$B70,'Daily Log'!$AJ$18:$AJ$1017),0)","v":0},{"$f":"IFERROR($E70*SUMIF('Daily Log'!#REF!,$B70,'Daily Log'!#REF!),0)","v":0},{"$f":"IFERROR($E70*SUMIF('Daily Log'!#REF!,$B70,'Daily Log'!#REF!),0)","v":0},{"$f":"IFERROR($E70*SUMIF('Daily Log'!#REF!,$B70,'Daily Log'!#REF!),0)","v":0},{"$f":"IFERROR($E70*SUMIF('Daily Log'!#REF!,$B70,'Daily Log'!#REF!),0)","v":0},{"$f":"IFERROR($E70*SUMIF('Daily Log'!#REF!,$B70,'Daily Log'!#REF!),0)","v":0},{"$f":"IFERROR($E70*SUMIF('Daily Log'!#REF!,$B70,'Daily Log'!#REF!),0)","v":0},{"$f":"IFERROR($E70*SUMIF('Daily Log'!#REF!,$B70,'Daily Log'!#REF!),0)","v":0},{"$f":"IFERROR($E70*SUMIF('Daily Log'!#REF!,$B70,'Daily Log'!#REF!),0)","v":0},{"$f":"IFERROR($E70*SUMIF('Daily Log'!#REF!,$B70,'Daily Log'!#REF!),0)","v":0},{"$f":"IFERROR($E70*SUMIF('Daily Log'!#REF!,$B70,'Daily Log'!#REF!),0)","v":0},{"$f":"IFERROR($E70*SUMIF('Daily Log'!#REF!,$B70,'Daily Log'!#REF!),0)","v":0},{"$f":"IFERROR($E70*SUMIF('Daily Log'!#REF!,$B70,'Daily Log'!#REF!),0)","v":0},{"$f":"IFERROR($E70*SUMIF('Daily Log'!#REF!,$B70,'Daily Log'!#REF!),0)","v":0},{"$f":"IFERROR($E70*SUMIF('Daily Log'!#REF!,$B70,'Daily Log'!#REF!),0)","v":0},{"$f":"IFERROR($E70*SUMIF('Daily Log'!#REF!,$B70,'Daily Log'!#REF!),0)","v":0},{"$f":"IFERROR($E70*SUMIF('Daily Log'!#REF!,$B70,'Daily Log'!#REF!),0)","v":0},{"$f":"IFERROR($E70*SUMIF('Daily Log'!#REF!,$B70,'Daily Log'!#REF!),0)","v":0},{"$f":"IFERROR($E70*SUMIF('Daily Log'!#REF!,$B70,'Daily Log'!#REF!),0)","v":0},{"$f":"IFERROR($E70*SUMIF('Daily Log'!#REF!,$B70,'Daily Log'!#REF!),0)","v":0}]
[null,"CD02 7 UP REVIVE",null,"SIDE ORDER-SOFT DRINKS",1,0,{"$f":"IFERROR($E71*SUMIF('Daily Log'!$B$18:$B$1017,$B71,'Daily Log'!$C$18:$C$1017),0)","v":0},{"$f":"IFERROR($E71*SUMIF('Daily Log'!$E$18:$E$1017,$B71,'Daily Log'!$F$18:$F$1017),0)","v":0},{"$f":"IFERROR($E71*SUMIF('Daily Log'!$H$18:$H$1017,$B71,'Daily Log'!$I$18:$I$1017),0)","v":0},{"$f":"IFERROR($E71*SUMIF('Daily Log'!$K$18:$K$1017,$B71,'Daily Log'!$L$18:$L$1017),0)","v":0},{"$f":"IFERROR($E71*SUMIF('Daily Log'!$N$18:$N$1017,$B71,'Daily Log'!$O$18:$O$1017),0)","v":0},{"$f":"IFERROR($E71*SUMIF('Daily Log'!$Q$18:$Q$1017,$B71,'Daily Log'!$R$18:$R$1017),0)","v":0},{"$f":"IFERROR($E71*SUMIF('Daily Log'!$T$18:$T$1017,$B71,'Daily Log'!$U$18:$U$1017),0)","v":0},{"$f":"IFERROR($E71*SUMIF('Daily Log'!$W$18:$W$1017,$B71,'Daily Log'!$X$18:$X$1017),0)","v":0},{"$f":"IFERROR($E71*SUMIF('Daily Log'!$Z$18:$Z$1017,$B71,'Daily Log'!$AA$18:$AA$1017),0)","v":0},{"$f":"IFERROR($E71*SUMIF('Daily Log'!$AC$18:$AC$1017,$B71,'Daily Log'!$AD$18:$AD$1017),0)","v":0},{"$f":"IFERROR($E71*SUMIF('Daily Log'!$AF$18:$AF$1017,$B71,'Daily Log'!$AG$18:$AG$1017),0)","v":0},{"$f":"IFERROR($E71*SUMIF('Daily Log'!$AI$18:$AI$1017,$B71,'Daily Log'!$AJ$18:$AJ$1017),0)","v":0},{"$f":"IFERROR($E71*SUMIF('Daily Log'!#REF!,$B71,'Daily Log'!#REF!),0)","v":0},{"$f":"IFERROR($E71*SUMIF('Daily Log'!#REF!,$B71,'Daily Log'!#REF!),0)","v":0},{"$f":"IFERROR($E71*SUMIF('Daily Log'!#REF!,$B71,'Daily Log'!#REF!),0)","v":0},{"$f":"IFERROR($E71*SUMIF('Daily Log'!#REF!,$B71,'Daily Log'!#REF!),0)","v":0},{"$f":"IFERROR($E71*SUMIF('Daily Log'!#REF!,$B71,'Daily Log'!#REF!),0)","v":0},{"$f":"IFERROR($E71*SUMIF('Daily Log'!#REF!,$B71,'Daily Log'!#REF!),0)","v":0},{"$f":"IFERROR($E71*SUMIF('Daily Log'!#REF!,$B71,'Daily Log'!#REF!),0)","v":0},{"$f":"IFERROR($E71*SUMIF('Daily Log'!#REF!,$B71,'Daily Log'!#REF!),0)","v":0},{"$f":"IFERROR($E71*SUMIF('Daily Log'!#REF!,$B71,'Daily Log'!#REF!),0)","v":0},{"$f":"IFERROR($E71*SUMIF('Daily Log'!#REF!,$B71,'Daily Log'!#REF!),0)","v":0},{"$f":"IFERROR($E71*SUMIF('Daily Log'!#REF!,$B71,'Daily Log'!#REF!),0)","v":0},{"$f":"IFERROR($E71*SUMIF('Daily Log'!#REF!,$B71,'Daily Log'!#REF!),0)","v":0},{"$f":"IFERROR($E71*SUMIF('Daily Log'!#REF!,$B71,'Daily Log'!#REF!),0)","v":0},{"$f":"IFERROR($E71*SUMIF('Daily Log'!#REF!,$B71,'Daily Log'!#REF!),0)","v":0},{"$f":"IFERROR($E71*SUMIF('Daily Log'!#REF!,$B71,'Daily Log'!#REF!),0)","v":0},{"$f":"IFERROR($E71*SUMIF('Daily Log'!#REF!,$B71,'Daily Log'!#REF!),0)","v":0},{"$f":"IFERROR($E71*SUMIF('Daily Log'!#REF!,$B71,'Daily Log'!#REF!),0)","v":0},{"$f":"IFERROR($E71*SUMIF('Daily Log'!#REF!,$B71,'Daily Log'!#REF!),0)","v":0},{"$f":"IFERROR($E71*SUMIF('Daily Log'!#REF!,$B71,'Daily Log'!#REF!),0)","v":0}]
[null,"CD03 PEPSI",null,"SIDE ORDER-SOFT DRINKS",1,0,{"$f":"IFERROR($E72*SUMIF('Daily Log'!$B$18:$B$1017,$B72,'Daily Log'!$C$18:$C$1017),0)","v":0},{"$f":"IFERROR($E72*SUMIF('Daily Log'!$E$18:$E$1017,$B72,'Daily Log'!$F$18:$F$1017),0)","v":0},{"$f":"IFERROR($E72*SUMIF('Daily Log'!$H$18:$H$1017,$B72,'Daily Log'!$I$18:$I$1017),0)","v":0},{"$f":"IFERROR($E72*SUMIF('Daily Log'!$K$18:$K$1017,$B72,'Daily Log'!$L$18:$L$1017),0)","v":0},{"$f":"IFERROR($E72*SUMIF('Daily Log'!$N$18:$N$1017,$B72,'Daily Log'!$O$18:$O$1017),0)","v":0},{"$f":"IFERROR($E72*SUMIF('Daily Log'!$Q$18:$Q$1017,$B72,'Daily Log'!$R$18:$R$1017),0)","v":0},{"$f":"IFERROR($E72*SUMIF('Daily Log'!$T$18:$T$1017,$B72,'Daily Log'!$U$18:$U$1017),0)","v":0},{"$f":"IFERROR($E72*SUMIF('Daily Log'!$W$18:$W$1017,$B72,'Daily Log'!$X$18:$X$1017),0)","v":0},{"$f":"IFERROR($E72*SUMIF('Daily Log'!$Z$18:$Z$1017,$B72,'Daily Log'!$AA$18:$AA$1017),0)","v":0},{"$f":"IFERROR($E72*SUMIF('Daily Log'!$AC$18:$AC$1017,$B72,'Daily Log'!$AD$18:$AD$1017),0)","v":0},{"$f":"IFERROR($E72*SUMIF('Daily Log'!$AF$18:$AF$1017,$B72,'Daily Log'!$AG$18:$AG$1017),0)","v":0},{"$f":"IFERROR($E72*SUMIF('Daily Log'!$AI$18:$AI$1017,$B72,'Daily Log'!$AJ$18:$AJ$1017),0)","v":0},{"$f":"IFERROR($E72*SUMIF('Daily Log'!#REF!,$B72,'Daily Log'!#REF!),0)","v":0},{"$f":"IFERROR($E72*SUMIF('Daily Log'!#REF!,$B72,'Daily Log'!#REF!),0)","v":0},{"$f":"IFERROR($E72*SUMIF('Daily Log'!#REF!,$B72,'Daily Log'!#REF!),0)","v":0},{"$f":"IFERROR($E72*SUMIF('Daily Log'!#REF!,$B72,'Daily Log'!#REF!),0)","v":0},{"$f":"IFERROR($E72*SUMIF('Daily Log'!#REF!,$B72,'Daily Log'!#REF!),0)","v":0},{"$f":"IFERROR($E72*SUMIF('Daily Log'!#REF!,$B72,'Daily Log'!#REF!),0)","v":0},{"$f":"IFERROR($E72*SUMIF('Daily Log'!#REF!,$B72,'Daily Log'!#REF!),0)","v":0},{"$f":"IFERROR($E72*SUMIF('Daily Log'!#REF!,$B72,'Daily Log'!#REF!),0)","v":0},{"$f":"IFERROR($E72*SUMIF('Daily Log'!#REF!,$B72,'Daily Log'!#REF!),0)","v":0},{"$f":"IFERROR($E72*SUMIF('Daily Log'!#REF!,$B72,'Daily Log'!#REF!),0)","v":0},{"$f":"IFERROR($E72*SUMIF('Daily Log'!#REF!,$B72,'Daily Log'!#REF!),0)","v":0},{"$f":"IFERROR($E72*SUMIF('Daily Log'!#REF!,$B72,'Daily Log'!#REF!),0)","v":0},{"$f":"IFERROR($E72*SUMIF('Daily Log'!#REF!,$B72,'Daily Log'!#REF!),0)","v":0},{"$f":"IFERROR($E72*SUMIF('Daily Log'!#REF!,$B72,'Daily Log'!#REF!),0)","v":0},{"$f":"IFERROR($E72*SUMIF('Daily Log'!#REF!,$B72,'Daily Log'!#REF!),0)","v":0},{"$f":"IFERROR($E72*SUMIF('Daily Log'!#REF!,$B72,'Daily Log'!#REF!),0)","v":0},{"$f":"IFERROR($E72*SUMIF('Daily Log'!#REF!,$B72,'Daily Log'!#REF!),0)","v":0},{"$f":"IFERROR($E72*SUMIF('Daily Log'!#REF!,$B72,'Daily Log'!#REF!),0)","v":0},{"$f":"IFERROR($E72*SUMIF('Daily Log'!#REF!,$B72,'Daily Log'!#REF!),0)","v":0}]
[null,"CE01 MILO (C)",null,"SIDE ORDER-COLD BEVERAGE",1,0,{"$f":"IFERROR($E73*SUMIF('Daily Log'!$B$18:$B$1017,$B73,'Daily Log'!$C$18:$C$1017),0)","v":0},{"$f":"IFERROR($E73*SUMIF('Daily Log'!$E$18:$E$1017,$B73,'Daily Log'!$F$18:$F$1017),0)","v":0},{"$f":"IFERROR($E73*SUMIF('Daily Log'!$H$18:$H$1017,$B73,'Daily Log'!$I$18:$I$1017),0)","v":0},{"$f":"IFERROR($E73*SUMIF('Daily Log'!$K$18:$K$1017,$B73,'Daily Log'!$L$18:$L$1017),0)","v":0},{"$f":"IFERROR($E73*SUMIF('Daily Log'!$N$18:$N$1017,$B73,'Daily Log'!$O$18:$O$1017),0)","v":0},{"$f":"IFERROR($E73*SUMIF('Daily Log'!$Q$18:$Q$1017,$B73,'Daily Log'!$R$18:$R$1017),0)","v":0},{"$f":"IFERROR($E73*SUMIF('Daily Log'!$T$18:$T$1017,$B73,'Daily Log'!$U$18:$U$1017),0)","v":0},{"$f":"IFERROR($E73*SUMIF('Daily Log'!$W$18:$W$1017,$B73,'Daily Log'!$X$18:$X$1017),0)","v":0},{"$f":"IFERROR($E73*SUMIF('Daily Log'!$Z$18:$Z$1017,$B73,'Daily Log'!$AA$18:$AA$1017),0)","v":0},{"$f":"IFERROR($E73*SUMIF('Daily Log'!$AC$18:$AC$1017,$B73,'Daily Log'!$AD$18:$AD$1017),0)","v":0},{"$f":"IFERROR($E73*SUMIF('Daily Log'!$AF$18:$AF$1017,$B73,'Daily Log'!$AG$18:$AG$1017),0)","v":0},{"$f":"IFERROR($E73*SUMIF('Daily Log'!$AI$18:$AI$1017,$B73,'Daily Log'!$AJ$18:$AJ$1017),0)","v":0},{"$f":"IFERROR($E73*SUMIF('Daily Log'!#REF!,$B73,'Daily Log'!#REF!),0)","v":0},{"$f":"IFERROR($E73*SUMIF('Daily Log'!#REF!,$B73,'Daily Log'!#REF!),0)","v":0},{"$f":"IFERROR($E73*SUMIF('Daily Log'!#REF!,$B73,'Daily Log'!#REF!),0)","v":0},{"$f":"IFERROR($E73*SUMIF('Daily Log'!#REF!,$B73,'Daily Log'!#REF!),0)","v":0},{"$f":"IFERROR($E73*SUMIF('Daily Log'!#REF!,$B73,'Daily Log'!#REF!),0)","v":0},{"$f":"IFERROR($E73*SUMIF('Daily Log'!#REF!,$B73,'Daily Log'!#REF!),0)","v":0},{"$f":"IFERROR($E73*SUMIF('Daily Log'!#REF!,$B73,'Daily Log'!#REF!),0)","v":0},{"$f":"IFERROR($E73*SUMIF('Daily Log'!#REF!,$B73,'Daily Log'!#REF!),0)","v":0},{"$f":"IFERROR($E73*SUMIF('Daily Log'!#REF!,$B73,'Daily Log'!#REF!),0)","v":0},{"$f":"IFERROR($E73*SUMIF('Daily Log'!#REF!,$B73,'Daily Log'!#REF!),0)","v":0},{"$f":"IFERROR($E73*SUMIF('Daily Log'!#REF!,$B73,'Daily Log'!#REF!),0)","v":0},{"$f":"IFERROR($E73*SUMIF('Daily Log'!#REF!,$B73,'Daily Log'!#REF!),0)","v":0},{"$f":"IFERROR($E73*SUMIF('Daily Log'!#REF!,$B73,'Daily Log'!#REF!),0)","v":0},{"$f":"IFERROR($E73*SUMIF('Daily Log'!#REF!,$B73,'Daily Log'!#REF!),0)","v":0},{"$f":"IFERROR($E73*SUMIF('Daily Log'!#REF!,$B73,'Daily Log'!#REF!),0)","v":0},{"$f":"IFERROR($E73*SUMIF('Daily Log'!#REF!,$B73,'Daily Log'!#REF!),0)","v":0},{"$f":"IFERROR($E73*SUMIF('Daily Log'!#REF!,$B73,'Daily Log'!#REF!),0)","v":0},{"$f":"IFERROR($E73*SUMIF('Daily Log'!#REF!,$B73,'Daily Log'!#REF!),0)","v":0},{"$f":"IFERROR($E73*SUMIF('Daily Log'!#REF!,$B73,'Daily Log'!#REF!),0)","v":0}]
[null,"CE02 NESCAFE (C)",null,"SIDE ORDER-COLD BEVERAGE",1,0,{"$f":"IFERROR($E74*SUMIF('Daily Log'!$B$18:$B$1017,$B74,'Daily Log'!$C$18:$C$1017),0)","v":0},{"$f":"IFERROR($E74*SUMIF('Daily Log'!$E$18:$E$1017,$B74,'Daily Log'!$F$18:$F$1017),0)","v":0},{"$f":"IFERROR($E74*SUMIF('Daily Log'!$H$18:$H$1017,$B74,'Daily Log'!$I$18:$I$1017),0)","v":0},{"$f":"IFERROR($E74*SUMIF('Daily Log'!$K$18:$K$1017,$B74,'Daily Log'!$L$18:$L$1017),0)","v":0},{"$f":"IFERROR($E74*SUMIF('Daily Log'!$N$18:$N$1017,$B74,'Daily Log'!$O$18:$O$1017),0)","v":0},{"$f":"IFERROR($E74*SUMIF('Daily Log'!$Q$18:$Q$1017,$B74,'Daily Log'!$R$18:$R$1017),0)","v":0},{"$f":"IFERROR($E74*SUMIF('Daily Log'!$T$18:$T$1017,$B74,'Daily Log'!$U$18:$U$1017),0)","v":0},{"$f":"IFERROR($E74*SUMIF('Daily Log'!$W$18:$W$1017,$B74,'Daily Log'!$X$18:$X$1017),0)","v":0},{"$f":"IFERROR($E74*SUMIF('Daily Log'!$Z$18:$Z$1017,$B74,'Daily Log'!$AA$18:$AA$1017),0)","v":0},{"$f":"IFERROR($E74*SUMIF('Daily Log'!$AC$18:$AC$1017,$B74,'Daily Log'!$AD$18:$AD$1017),0)","v":0},{"$f":"IFERROR($E74*SUMIF('Daily Log'!$AF$18:$AF$1017,$B74,'Daily Log'!$AG$18:$AG$1017),0)","v":0},{"$f":"IFERROR($E74*SUMIF('Daily Log'!$AI$18:$AI$1017,$B74,'Daily Log'!$AJ$18:$AJ$1017),0)","v":0},{"$f":"IFERROR($E74*SUMIF('Daily Log'!#REF!,$B74,'Daily Log'!#REF!),0)","v":0},{"$f":"IFERROR($E74*SUMIF('Daily Log'!#REF!,$B74,'Daily Log'!#REF!),0)","v":0},{"$f":"IFERROR($E74*SUMIF('Daily Log'!#REF!,$B74,'Daily Log'!#REF!),0)","v":0},{"$f":"IFERROR($E74*SUMIF('Daily Log'!#REF!,$B74,'Daily Log'!#REF!),0)","v":0},{"$f":"IFERROR($E74*SUMIF('Daily Log'!#REF!,$B74,'Daily Log'!#REF!),0)","v":0},{"$f":"IFERROR($E74*SUMIF('Daily Log'!#REF!,$B74,'Daily Log'!#REF!),0)","v":0},{"$f":"IFERROR($E74*SUMIF('Daily Log'!#REF!,$B74,'Daily Log'!#REF!),0)","v":0},{"$f":"IFERROR($E74*SUMIF('Daily Log'!#REF!,$B74,'Daily Log'!#REF!),0)","v":0},{"$f":"IFERROR($E74*SUMIF('Daily Log'!#REF!,$B74,'Daily Log'!#REF!),0)","v":0},{"$f":"IFERROR($E74*SUMIF('Daily Log'!#REF!,$B74,'Daily Log'!#REF!),0)","v":0},{"$f":"IFERROR($E74*SUMIF('Daily Log'!#REF!,$B74,'Daily Log'!#REF!),0)","v":0},{"$f":"IFERROR($E74*SUMIF('Daily Log'!#REF!,$B74,'Daily Log'!#REF!),0)","v":0},{"$f":"IFERROR($E74*SUMIF('Daily Log'!#REF!,$B74,'Daily Log'!#REF!),0)","v":0},{"$f":"IFERROR($E74*SUMIF('Daily Log'!#REF!,$B74,'Daily Log'!#REF!),0)","v":0},{"$f":"IFERROR($E74*SUMIF('Daily Log'!#REF!,$B74,'Daily Log'!#REF!),0)","v":0},{"$f":"IFERROR($E74*SUMIF('Daily Log'!#REF!,$B74,'Daily Log'!#REF!),0)","v":0},{"$f":"IFERROR($E74*SUMIF('Daily Log'!#REF!,$B74,'Daily Log'!#REF!),0)","v":0},{"$f":"IFERROR($E74*SUMIF('Daily Log'!#REF!,$B74,'Daily Log'!#REF!),0)","v":0},{"$f":"IFERROR($E74*SUMIF('Daily Log'!#REF!,$B74,'Daily Log'!#REF!),0)","v":0}]
[null,"CE03 TEA (C)",null,"SIDE ORDER-COLD BEVERAGE",1,0,{"$f":"IFERROR($E75*SUMIF('Daily Log'!$B$18:$B$1017,$B75,'Daily Log'!$C$18:$C$1017),0)","v":0},{"$f":"IFERROR($E75*SUMIF('Daily Log'!$E$18:$E$1017,$B75,'Daily Log'!$F$18:$F$1017),0)","v":0},{"$f":"IFERROR($E75*SUMIF('Daily Log'!$H$18:$H$1017,$B75,'Daily Log'!$I$18:$I$1017),0)","v":0},{"$f":"IFERROR($E75*SUMIF('Daily Log'!$K$18:$K$1017,$B75,'Daily Log'!$L$18:$L$1017),0)","v":0},{"$f":"IFERROR($E75*SUMIF('Daily Log'!$N$18:$N$1017,$B75,'Daily Log'!$O$18:$O$1017),0)","v":0},{"$f":"IFERROR($E75*SUMIF('Daily Log'!$Q$18:$Q$1017,$B75,'Daily Log'!$R$18:$R$1017),0)","v":0},{"$f":"IFERROR($E75*SUMIF('Daily Log'!$T$18:$T$1017,$B75,'Daily Log'!$U$18:$U$1017),0)","v":0},{"$f":"IFERROR($E75*SUMIF('Daily Log'!$W$18:$W$1017,$B75,'Daily Log'!$X$18:$X$1017),0)","v":0},{"$f":"IFERROR($E75*SUMIF('Daily Log'!$Z$18:$Z$1017,$B75,'Daily Log'!$AA$18:$AA$1017),0)","v":0},{"$f":"IFERROR($E75*SUMIF('Daily Log'!$AC$18:$AC$1017,$B75,'Daily Log'!$AD$18:$AD$1017),0)","v":0},{"$f":"IFERROR($E75*SUMIF('Daily Log'!$AF$18:$AF$1017,$B75,'Daily Log'!$AG$18:$AG$1017),0)","v":0},{"$f":"IFERROR($E75*SUMIF('Daily Log'!$AI$18:$AI$1017,$B75,'Daily Log'!$AJ$18:$AJ$1017),0)","v":0},{"$f":"IFERROR($E75*SUMIF('Daily Log'!#REF!,$B75,'Daily Log'!#REF!),0)","v":0},{"$f":"IFERROR($E75*SUMIF('Daily Log'!#REF!,$B75,'Daily Log'!#REF!),0)","v":0},{"$f":"IFERROR($E75*SUMIF('Daily Log'!#REF!,$B75,'Daily Log'!#REF!),0)","v":0},{"$f":"IFERROR($E75*SUMIF('Daily Log'!#REF!,$B75,'Daily Log'!#REF!),0)","v":0},{"$f":"IFERROR($E75*SUMIF('Daily Log'!#REF!,$B75,'Daily Log'!#REF!),0)","v":0},{"$f":"IFERROR($E75*SUMIF('Daily Log'!#REF!,$B75,'Daily Log'!#REF!),0)","v":0},{"$f":"IFERROR($E75*SUMIF('Daily Log'!#REF!,$B75,'Daily Log'!#REF!),0)","v":0},{"$f":"IFERROR($E75*SUMIF('Daily Log'!#REF!,$B75,'Daily Log'!#REF!),0)","v":0},{"$f":"IFERROR($E75*SUMIF('Daily Log'!#REF!,$B75,'Daily Log'!#REF!),0)","v":0},{"$f":"IFERROR($E75*SUMIF('Daily Log'!#REF!,$B75,'Daily Log'!#REF!),0)","v":0},{"$f":"IFERROR($E75*SUMIF('Daily Log'!#REF!,$B75,'Daily Log'!#REF!),0)","v":0},{"$f":"IFERROR($E75*SUMIF('Daily Log'!#REF!,$B75,'Daily Log'!#REF!),0)","v":0},{"$f":"IFERROR($E75*SUMIF('Daily Log'!#REF!,$B75,'Daily Log'!#REF!),0)","v":0},{"$f":"IFERROR($E75*SUMIF('Daily Log'!#REF!,$B75,'Daily Log'!#REF!),0)","v":0},{"$f":"IFERROR($E75*SUMIF('Daily Log'!#REF!,$B75,'Daily Log'!#REF!),0)","v":0},{"$f":"IFERROR($E75*SUMIF('Daily Log'!#REF!,$B75,'Daily Log'!#REF!),0)","v":0},{"$f":"IFERROR($E75*SUMIF('Daily Log'!#REF!,$B75,'Daily Log'!#REF!),0)","v":0},{"$f":"IFERROR($E75*SUMIF('Daily Log'!#REF!,$B75,'Daily Log'!#REF!),0)","v":0},{"$f":"IFERROR($E75*SUMIF('Daily Log'!#REF!,$B75,'Daily Log'!#REF!),0)","v":0}]
[null,"CE04 LEMON TEA (C)",null,"SIDE ORDER-COLD BEVERAGE",1,0,{"$f":"IFERROR($E76*SUMIF('Daily Log'!$B$18:$B$1017,$B76,'Daily Log'!$C$18:$C$1017),0)","v":0},{"$f":"IFERROR($E76*SUMIF('Daily Log'!$E$18:$E$1017,$B76,'Daily Log'!$F$18:$F$1017),0)","v":0},{"$f":"IFERROR($E76*SUMIF('Daily Log'!$H$18:$H$1017,$B76,'Daily Log'!$I$18:$I$1017),0)","v":0},{"$f":"IFERROR($E76*SUMIF('Daily Log'!$K$18:$K$1017,$B76,'Daily Log'!$L$18:$L$1017),0)","v":0},{"$f":"IFERROR($E76*SUMIF('Daily Log'!$N$18:$N$1017,$B76,'Daily Log'!$O$18:$O$1017),0)","v":0},{"$f":"IFERROR($E76*SUMIF('Daily Log'!$Q$18:$Q$1017,$B76,'Daily Log'!$R$18:$R$1017),0)","v":0},{"$f":"IFERROR($E76*SUMIF('Daily Log'!$T$18:$T$1017,$B76,'Daily Log'!$U$18:$U$1017),0)","v":0},{"$f":"IFERROR($E76*SUMIF('Daily Log'!$W$18:$W$1017,$B76,'Daily Log'!$X$18:$X$1017),0)","v":0},{"$f":"IFERROR($E76*SUMIF('Daily Log'!$Z$18:$Z$1017,$B76,'Daily Log'!$AA$18:$AA$1017),0)","v":0},{"$f":"IFERROR($E76*SUMIF('Daily Log'!$AC$18:$AC$1017,$B76,'Daily Log'!$AD$18:$AD$1017),0)","v":0},{"$f":"IFERROR($E76*SUMIF('Daily Log'!$AF$18:$AF$1017,$B76,'Daily Log'!$AG$18:$AG$1017),0)","v":0},{"$f":"IFERROR($E76*SUMIF('Daily Log'!$AI$18:$AI$1017,$B76,'Daily Log'!$AJ$18:$AJ$1017),0)","v":0},{"$f":"IFERROR($E76*SUMIF('Daily Log'!#REF!,$B76,'Daily Log'!#REF!),0)","v":0},{"$f":"IFERROR($E76*SUMIF('Daily Log'!#REF!,$B76,'Daily Log'!#REF!),0)","v":0},{"$f":"IFERROR($E76*SUMIF('Daily Log'!#REF!,$B76,'Daily Log'!#REF!),0)","v":0},{"$f":"IFERROR($E76*SUMIF('Daily Log'!#REF!,$B76,'Daily Log'!#REF!),0)","v":0},{"$f":"IFERROR($E76*SUMIF('Daily Log'!#REF!,$B76,'Daily Log'!#REF!),0)","v":0},{"$f":"IFERROR($E76*SUMIF('Daily Log'!#REF!,$B76,'Daily Log'!#REF!),0)","v":0},{"$f":"IFERROR($E76*SUMIF('Daily Log'!#REF!,$B76,'Daily Log'!#REF!),0)","v":0},{"$f":"IFERROR($E76*SUMIF('Daily Log'!#REF!,$B76,'Daily Log'!#REF!),0)","v":0},{"$f":"IFERROR($E76*SUMIF('Daily Log'!#REF!,$B76,'Daily Log'!#REF!),0)","v":0},{"$f":"IFERROR($E76*SUMIF('Daily Log'!#REF!,$B76,'Daily Log'!#REF!),0)","v":0},{"$f":"IFERROR($E76*SUMIF('Daily Log'!#REF!,$B76,'Daily Log'!#REF!),0)","v":0},{"$f":"IFERROR($E76*SUMIF('Daily Log'!#REF!,$B76,'Daily Log'!#REF!),0)","v":0},{"$f":"IFERROR($E76*SUMIF('Daily Log'!#REF!,$B76,'Daily Log'!#REF!),0)","v":0},{"$f":"IFERROR($E76*SUMIF('Daily Log'!#REF!,$B76,'Daily Log'!#REF!),0)","v":0},{"$f":"IFERROR($E76*SUMIF('Daily Log'!#REF!,$B76,'Daily Log'!#REF!),0)","v":0},{"$f":"IFERROR($E76*SUMIF('Daily Log'!#REF!,$B76,'Daily Log'!#REF!),0)","v":0},{"$f":"IFERROR($E76*SUMIF('Daily Log'!#REF!,$B76,'Daily Log'!#REF!),0)","v":0},{"$f":"IFERROR($E76*SUMIF('Daily Log'!#REF!,$B76,'Daily Log'!#REF!),0)","v":0},{"$f":"IFERROR($E76*SUMIF('Daily Log'!#REF!,$B76,'Daily Log'!#REF!),0)","v":0}]
[null,"CE05 GRN TEA (C)",null,"SIDE ORDER-COLD BEVERAGE",1,0,{"$f":"IFERROR($E77*SUMIF('Daily Log'!$B$18:$B$1017,$B77,'Daily Log'!$C$18:$C$1017),0)","v":0},{"$f":"IFERROR($E77*SUMIF('Daily Log'!$E$18:$E$1017,$B77,'Daily Log'!$F$18:$F$1017),0)","v":0},{"$f":"IFERROR($E77*SUMIF('Daily Log'!$H$18:$H$1017,$B77,'Daily Log'!$I$18:$I$1017),0)","v":0},{"$f":"IFERROR($E77*SUMIF('Daily Log'!$K$18:$K$1017,$B77,'Daily Log'!$L$18:$L$1017),0)","v":0},{"$f":"IFERROR($E77*SUMIF('Daily Log'!$N$18:$N$1017,$B77,'Daily Log'!$O$18:$O$1017),0)","v":0},{"$f":"IFERROR($E77*SUMIF('Daily Log'!$Q$18:$Q$1017,$B77,'Daily Log'!$R$18:$R$1017),0)","v":0},{"$f":"IFERROR($E77*SUMIF('Daily Log'!$T$18:$T$1017,$B77,'Daily Log'!$U$18:$U$1017),0)","v":0},{"$f":"IFERROR($E77*SUMIF('Daily Log'!$W$18:$W$1017,$B77,'Daily Log'!$X$18:$X$1017),0)","v":0},{"$f":"IFERROR($E77*SUMIF('Daily Log'!$Z$18:$Z$1017,$B77,'Daily Log'!$AA$18:$AA$1017),0)","v":0},{"$f":"IFERROR($E77*SUMIF('Daily Log'!$AC$18:$AC$1017,$B77,'Daily Log'!$AD$18:$AD$1017),0)","v":0},{"$f":"IFERROR($E77*SUMIF('Daily Log'!$AF$18:$AF$1017,$B77,'Daily Log'!$AG$18:$AG$1017),0)","v":0},{"$f":"IFERROR($E77*SUMIF('Daily Log'!$AI$18:$AI$1017,$B77,'Daily Log'!$AJ$18:$AJ$1017),0)","v":0},{"$f":"IFERROR($E77*SUMIF('Daily Log'!#REF!,$B77,'Daily Log'!#REF!),0)","v":0},{"$f":"IFERROR($E77*SUMIF('Daily Log'!#REF!,$B77,'Daily Log'!#REF!),0)","v":0},{"$f":"IFERROR($E77*SUMIF('Daily Log'!#REF!,$B77,'Daily Log'!#REF!),0)","v":0},{"$f":"IFERROR($E77*SUMIF('Daily Log'!#REF!,$B77,'Daily Log'!#REF!),0)","v":0},{"$f":"IFERROR($E77*SUMIF('Daily Log'!#REF!,$B77,'Daily Log'!#REF!),0)","v":0},{"$f":"IFERROR($E77*SUMIF('Daily Log'!#REF!,$B77,'Daily Log'!#REF!),0)","v":0},{"$f":"IFERROR($E77*SUMIF('Daily Log'!#REF!,$B77,'Daily Log'!#REF!),0)","v":0},{"$f":"IFERROR($E77*SUMIF('Daily Log'!#REF!,$B77,'Daily Log'!#REF!),0)","v":0},{"$f":"IFERROR($E77*SUMIF('Daily Log'!#REF!,$B77,'Daily Log'!#REF!),0)","v":0},{"$f":"IFERROR($E77*SUMIF('Daily Log'!#REF!,$B77,'Daily Log'!#REF!),0)","v":0},{"$f":"IFERROR($E77*SUMIF('Daily Log'!#REF!,$B77,'Daily Log'!#REF!),0)","v":0},{"$f":"IFERROR($E77*SUMIF('Daily Log'!#REF!,$B77,'Daily Log'!#REF!),0)","v":0},{"$f":"IFERROR($E77*SUMIF('Daily Log'!#REF!,$B77,'Daily Log'!#REF!),0)","v":0},{"$f":"IFERROR($E77*SUMIF('Daily Log'!#REF!,$B77,'Daily Log'!#REF!),0)","v":0},{"$f":"IFERROR($E77*SUMIF('Daily Log'!#REF!,$B77,'Daily Log'!#REF!),0)","v":0},{"$f":"IFERROR($E77*SUMIF('Daily Log'!#REF!,$B77,'Daily Log'!#REF!),0)","v":0},{"$f":"IFERROR($E77*SUMIF('Daily Log'!#REF!,$B77,'Daily Log'!#REF!),0)","v":0},{"$f":"IFERROR($E77*SUMIF('Daily Log'!#REF!,$B77,'Daily Log'!#REF!),0)","v":0},{"$f":"IFERROR($E77*SUMIF('Daily Log'!#REF!,$B77,'Daily Log'!#REF!),0)","v":0}]
[null,"CE06 HNY GRN TEA (C)",null,"SIDE ORDER-COLD BEVERAGE",1,0,{"$f":"IFERROR($E78*SUMIF('Daily Log'!$B$18:$B$1017,$B78,'Daily Log'!$C$18:$C$1017),0)","v":0},{"$f":"IFERROR($E78*SUMIF('Daily Log'!$E$18:$E$1017,$B78,'Daily Log'!$F$18:$F$1017),0)","v":0},{"$f":"IFERROR($E78*SUMIF('Daily Log'!$H$18:$H$1017,$B78,'Daily Log'!$I$18:$I$1017),0)","v":0},{"$f":"IFERROR($E78*SUMIF('Daily Log'!$K$18:$K$1017,$B78,'Daily Log'!$L$18:$L$1017),0)","v":0},{"$f":"IFERROR($E78*SUMIF('Daily Log'!$N$18:$N$1017,$B78,'Daily Log'!$O$18:$O$1017),0)","v":0},{"$f":"IFERROR($E78*SUMIF('Daily Log'!$Q$18:$Q$1017,$B78,'Daily Log'!$R$18:$R$1017),0)","v":0},{"$f":"IFERROR($E78*SUMIF('Daily Log'!$T$18:$T$1017,$B78,'Daily Log'!$U$18:$U$1017),0)","v":0},{"$f":"IFERROR($E78*SUMIF('Daily Log'!$W$18:$W$1017,$B78,'Daily Log'!$X$18:$X$1017),0)","v":0},{"$f":"IFERROR($E78*SUMIF('Daily Log'!$Z$18:$Z$1017,$B78,'Daily Log'!$AA$18:$AA$1017),0)","v":0},{"$f":"IFERROR($E78*SUMIF('Daily Log'!$AC$18:$AC$1017,$B78,'Daily Log'!$AD$18:$AD$1017),0)","v":0},{"$f":"IFERROR($E78*SUMIF('Daily Log'!$AF$18:$AF$1017,$B78,'Daily Log'!$AG$18:$AG$1017),0)","v":0},{"$f":"IFERROR($E78*SUMIF('Daily Log'!$AI$18:$AI$1017,$B78,'Daily Log'!$AJ$18:$AJ$1017),0)","v":0},{"$f":"IFERROR($E78*SUMIF('Daily Log'!#REF!,$B78,'Daily Log'!#REF!),0)","v":0},{"$f":"IFERROR($E78*SUMIF('Daily Log'!#REF!,$B78,'Daily Log'!#REF!),0)","v":0},{"$f":"IFERROR($E78*SUMIF('Daily Log'!#REF!,$B78,'Daily Log'!#REF!),0)","v":0},{"$f":"IFERROR($E78*SUMIF('Daily Log'!#REF!,$B78,'Daily Log'!#REF!),0)","v":0},{"$f":"IFERROR($E78*SUMIF('Daily Log'!#REF!,$B78,'Daily Log'!#REF!),0)","v":0},{"$f":"IFERROR($E78*SUMIF('Daily Log'!#REF!,$B78,'Daily Log'!#REF!),0)","v":0},{"$f":"IFERROR($E78*SUMIF('Daily Log'!#REF!,$B78,'Daily Log'!#REF!),0)","v":0},{"$f":"IFERROR($E78*SUMIF('Daily Log'!#REF!,$B78,'Daily Log'!#REF!),0)","v":0},{"$f":"IFERROR($E78*SUMIF('Daily Log'!#REF!,$B78,'Daily Log'!#REF!),0)","v":0},{"$f":"IFERROR($E78*SUMIF('Daily Log'!#REF!,$B78,'Daily Log'!#REF!),0)","v":0},{"$f":"IFERROR($E78*SUMIF('Daily Log'!#REF!,$B78,'Daily Log'!#REF!),0)","v":0},{"$f":"IFERROR($E78*SUMIF('Daily Log'!#REF!,$B78,'Daily Log'!#REF!),0)","v":0},{"$f":"IFERROR($E78*SUMIF('Daily Log'!#REF!,$B78,'Daily Log'!#REF!),0)","v":0},{"$f":"IFERROR($E78*SUMIF('Daily Log'!#REF!,$B78,'Daily Log'!#REF!),0)","v":0},{"$f":"IFERROR($E78*SUMIF('Daily Log'!#REF!,$B78,'Daily Log'!#REF!),0)","v":0},{"$f":"IFERROR($E78*SUMIF('Daily Log'!#REF!,$B78,'Daily Log'!#REF!),0)","v":0},{"$f":"IFERROR($E78*SUMIF('Daily Log'!#REF!,$B78,'Daily Log'!#REF!),0)","v":0},{"$f":"IFERROR($E78*SUMIF('Daily Log'!#REF!,$B78,'Daily Log'!#REF!),0)","v":0},{"$f":"IFERROR($E78*SUMIF('Daily Log'!#REF!,$B78,'Daily Log'!#REF!),0)","v":0}]
[null,"CE07 HONEY (C)",null,"SIDE ORDER-COLD BEVERAGE",1,0,{"$f":"IFERROR($E79*SUMIF('Daily Log'!$B$18:$B$1017,$B79,'Daily Log'!$C$18:$C$1017),0)","v":0},{"$f":"IFERROR($E79*SUMIF('Daily Log'!$E$18:$E$1017,$B79,'Daily Log'!$F$18:$F$1017),0)","v":0},{"$f":"IFERROR($E79*SUMIF('Daily Log'!$H$18:$H$1017,$B79,'Daily Log'!$I$18:$I$1017),0)","v":0},{"$f":"IFERROR($E79*SUMIF('Daily Log'!$K$18:$K$1017,$B79,'Daily Log'!$L$18:$L$1017),0)","v":0},{"$f":"IFERROR($E79*SUMIF('Daily Log'!$N$18:$N$1017,$B79,'Daily Log'!$O$18:$O$1017),0)","v":0},{"$f":"IFERROR($E79*SUMIF('Daily Log'!$Q$18:$Q$1017,$B79,'Daily Log'!$R$18:$R$1017),0)","v":0},{"$f":"IFERROR($E79*SUMIF('Daily Log'!$T$18:$T$1017,$B79,'Daily Log'!$U$18:$U$1017),0)","v":0},{"$f":"IFERROR($E79*SUMIF('Daily Log'!$W$18:$W$1017,$B79,'Daily Log'!$X$18:$X$1017),0)","v":0},{"$f":"IFERROR($E79*SUMIF('Daily Log'!$Z$18:$Z$1017,$B79,'Daily Log'!$AA$18:$AA$1017),0)","v":0},{"$f":"IFERROR($E79*SUMIF('Daily Log'!$AC$18:$AC$1017,$B79,'Daily Log'!$AD$18:$AD$1017),0)","v":0},{"$f":"IFERROR($E79*SUMIF('Daily Log'!$AF$18:$AF$1017,$B79,'Daily Log'!$AG$18:$AG$1017),0)","v":0},{"$f":"IFERROR($E79*SUMIF('Daily Log'!$AI$18:$AI$1017,$B79,'Daily Log'!$AJ$18:$AJ$1017),0)","v":0},{"$f":"IFERROR($E79*SUMIF('Daily Log'!#REF!,$B79,'Daily Log'!#REF!),0)","v":0},{"$f":"IFERROR($E79*SUMIF('Daily Log'!#REF!,$B79,'Daily Log'!#REF!),0)","v":0},{"$f":"IFERROR($E79*SUMIF('Daily Log'!#REF!,$B79,'Daily Log'!#REF!),0)","v":0},{"$f":"IFERROR($E79*SUMIF('Daily Log'!#REF!,$B79,'Daily Log'!#REF!),0)","v":0},{"$f":"IFERROR($E79*SUMIF('Daily Log'!#REF!,$B79,'Daily Log'!#REF!),0)","v":0},{"$f":"IFERROR($E79*SUMIF('Daily Log'!#REF!,$B79,'Daily Log'!#REF!),0)","v":0},{"$f":"IFERROR($E79*SUMIF('Daily Log'!#REF!,$B79,'Daily Log'!#REF!),0)","v":0},{"$f":"IFERROR($E79*SUMIF('Daily Log'!#REF!,$B79,'Daily Log'!#REF!),0)","v":0},{"$f":"IFERROR($E79*SUMIF('Daily Log'!#REF!,$B79,'Daily Log'!#REF!),0)","v":0},{"$f":"IFERROR($E79*SUMIF('Daily Log'!#REF!,$B79,'Daily Log'!#REF!),0)","v":0},{"$f":"IFERROR($E79*SUMIF('Daily Log'!#REF!,$B79,'Daily Log'!#REF!),0)","v":0},{"$f":"IFERROR($E79*SUMIF('Daily Log'!#REF!,$B79,'Daily Log'!#REF!),0)","v":0},{"$f":"IFERROR($E79*SUMIF('Daily Log'!#REF!,$B79,'Daily Log'!#REF!),0)","v":0},{"$f":"IFERROR($E79*SUMIF('Daily Log'!#REF!,$B79,'Daily Log'!#REF!),0)","v":0},{"$f":"IFERROR($E79*SUMIF('Daily Log'!#REF!,$B79,'Daily Log'!#REF!),0)","v":0},{"$f":"IFERROR($E79*SUMIF('Daily Log'!#REF!,$B79,'Daily Log'!#REF!),0)","v":0},{"$f":"IFERROR($E79*SUMIF('Daily Log'!#REF!,$B79,'Daily Log'!#REF!),0)","v":0},{"$f":"IFERROR($E79*SUMIF('Daily Log'!#REF!,$B79,'Daily Log'!#REF!),0)","v":0},{"$f":"IFERROR($E79*SUMIF('Daily Log'!#REF!,$B79,'Daily Log'!#REF!),0)","v":0}]
[null,"CE08 LEMON HONEY (C)",null,"SIDE ORDER-COLD BEVERAGE",1,0,{"$f":"IFERROR($E80*SUMIF('Daily Log'!$B$18:$B$1017,$B80,'Daily Log'!$C$18:$C$1017),0)","v":0},{"$f":"IFERROR($E80*SUMIF('Daily Log'!$E$18:$E$1017,$B80,'Daily Log'!$F$18:$F$1017),0)","v":0},{"$f":"IFERROR($E80*SUMIF('Daily Log'!$H$18:$H$1017,$B80,'Daily Log'!$I$18:$I$1017),0)","v":0},{"$f":"IFERROR($E80*SUMIF('Daily Log'!$K$18:$K$1017,$B80,'Daily Log'!$L$18:$L$1017),0)","v":0},{"$f":"IFERROR($E80*SUMIF('Daily Log'!$N$18:$N$1017,$B80,'Daily Log'!$O$18:$O$1017),0)","v":0},{"$f":"IFERROR($E80*SUMIF('Daily Log'!$Q$18:$Q$1017,$B80,'Daily Log'!$R$18:$R$1017),0)","v":0},{"$f":"IFERROR($E80*SUMIF('Daily Log'!$T$18:$T$1017,$B80,'Daily Log'!$U$18:$U$1017),0)","v":0},{"$f":"IFERROR($E80*SUMIF('Daily Log'!$W$18:$W$1017,$B80,'Daily Log'!$X$18:$X$1017),0)","v":0},{"$f":"IFERROR($E80*SUMIF('Daily Log'!$Z$18:$Z$1017,$B80,'Daily Log'!$AA$18:$AA$1017),0)","v":0},{"$f":"IFERROR($E80*SUMIF('Daily Log'!$AC$18:$AC$1017,$B80,'Daily Log'!$AD$18:$AD$1017),0)","v":0},{"$f":"IFERROR($E80*SUMIF('Daily Log'!$AF$18:$AF$1017,$B80,'Daily Log'!$AG$18:$AG$1017),0)","v":0},{"$f":"IFERROR($E80*SUMIF('Daily Log'!$AI$18:$AI$1017,$B80,'Daily Log'!$AJ$18:$AJ$1017),0)","v":0},{"$f":"IFERROR($E80*SUMIF('Daily Log'!#REF!,$B80,'Daily Log'!#REF!),0)","v":0},{"$f":"IFERROR($E80*SUMIF('Daily Log'!#REF!,$B80,'Daily Log'!#REF!),0)","v":0},{"$f":"IFERROR($E80*SUMIF('Daily Log'!#REF!,$B80,'Daily Log'!#REF!),0)","v":0},{"$f":"IFERROR($E80*SUMIF('Daily Log'!#REF!,$B80,'Daily Log'!#REF!),0)","v":0},{"$f":"IFERROR($E80*SUMIF('Daily Log'!#REF!,$B80,'Daily Log'!#REF!),0)","v":0},{"$f":"IFERROR($E80*SUMIF('Daily Log'!#REF!,$B80,'Daily Log'!#REF!),0)","v":0},{"$f":"IFERROR($E80*SUMIF('Daily Log'!#REF!,$B80,'Daily Log'!#REF!),0)","v":0},{"$f":"IFERROR($E80*SUMIF('Daily Log'!#REF!,$B80,'Daily Log'!#REF!),0)","v":0},{"$f":"IFERROR($E80*SUMIF('Daily Log'!#REF!,$B80,'Daily Log'!#REF!),0)","v":0},{"$f":"IFERROR($E80*SUMIF('Daily Log'!#REF!,$B80,'Daily Log'!#REF!),0)","v":0},{"$f":"IFERROR($E80*SUMIF('Daily Log'!#REF!,$B80,'Daily Log'!#REF!),0)","v":0},{"$f":"IFERROR($E80*SUMIF('Daily Log'!#REF!,$B80,'Daily Log'!#REF!),0)","v":0},{"$f":"IFERROR($E80*SUMIF('Daily Log'!#REF!,$B80,'Daily Log'!#REF!),0)","v":0},{"$f":"IFERROR($E80*SUMIF('Daily Log'!#REF!,$B80,'Daily Log'!#REF!),0)","v":0},{"$f":"IFERROR($E80*SUMIF('Daily Log'!#REF!,$B80,'Daily Log'!#REF!),0)","v":0},{"$f":"IFERROR($E80*SUMIF('Daily Log'!#REF!,$B80,'Daily Log'!#REF!),0)","v":0},{"$f":"IFERROR($E80*SUMIF('Daily Log'!#REF!,$B80,'Daily Log'!#REF!),0)","v":0},{"$f":"IFERROR($E80*SUMIF('Daily Log'!#REF!,$B80,'Daily Log'!#REF!),0)","v":0},{"$f":"IFERROR($E80*SUMIF('Daily Log'!#REF!,$B80,'Daily Log'!#REF!),0)","v":0}]
[null,"CF01 MILO (H)",null,"SIDE ORDER-HOT BEVERAGE",1,1,{"$f":"IFERROR($E81*SUMIF('Daily Log'!$B$18:$B$1017,$B81,'Daily Log'!$C$18:$C$1017),0)","v":0},{"$f":"IFERROR($E81*SUMIF('Daily Log'!$E$18:$E$1017,$B81,'Daily Log'!$F$18:$F$1017),0)","v":0},{"$f":"IFERROR($E81*SUMIF('Daily Log'!$H$18:$H$1017,$B81,'Daily Log'!$I$18:$I$1017),0)","v":0},{"$f":"IFERROR($E81*SUMIF('Daily Log'!$K$18:$K$1017,$B81,'Daily Log'!$L$18:$L$1017),0)","v":0},{"$f":"IFERROR($E81*SUMIF('Daily Log'!$N$18:$N$1017,$B81,'Daily Log'!$O$18:$O$1017),0)","v":0},{"$f":"IFERROR($E81*SUMIF('Daily Log'!$Q$18:$Q$1017,$B81,'Daily Log'!$R$18:$R$1017),0)","v":1},{"$f":"IFERROR($E81*SUMIF('Daily Log'!$T$18:$T$1017,$B81,'Daily Log'!$U$18:$U$1017),0)","v":0},{"$f":"IFERROR($E81*SUMIF('Daily Log'!$W$18:$W$1017,$B81,'Daily Log'!$X$18:$X$1017),0)","v":0},{"$f":"IFERROR($E81*SUMIF('Daily Log'!$Z$18:$Z$1017,$B81,'Daily Log'!$AA$18:$AA$1017),0)","v":0},{"$f":"IFERROR($E81*SUMIF('Daily Log'!$AC$18:$AC$1017,$B81,'Daily Log'!$AD$18:$AD$1017),0)","v":0},{"$f":"IFERROR($E81*SUMIF('Daily Log'!$AF$18:$AF$1017,$B81,'Daily Log'!$AG$18:$AG$1017),0)","v":0},{"$f":"IFERROR($E81*SUMIF('Daily Log'!$AI$18:$AI$1017,$B81,'Daily Log'!$AJ$18:$AJ$1017),0)","v":0},{"$f":"IFERROR($E81*SUMIF('Daily Log'!#REF!,$B81,'Daily Log'!#REF!),0)","v":0},{"$f":"IFERROR($E81*SUMIF('Daily Log'!#REF!,$B81,'Daily Log'!#REF!),0)","v":0},{"$f":"IFERROR($E81*SUMIF('Daily Log'!#REF!,$B81,'Daily Log'!#REF!),0)","v":0},{"$f":"IFERROR($E81*SUMIF('Daily Log'!#REF!,$B81,'Daily Log'!#REF!),0)","v":0},{"$f":"IFERROR($E81*SUMIF('Daily Log'!#REF!,$B81,'Daily Log'!#REF!),0)","v":0},{"$f":"IFERROR($E81*SUMIF('Daily Log'!#REF!,$B81,'Daily Log'!#REF!),0)","v":0},{"$f":"IFERROR($E81*SUMIF('Daily Log'!#REF!,$B81,'Daily Log'!#REF!),0)","v":0},{"$f":"IFERROR($E81*SUMIF('Daily Log'!#REF!,$B81,'Daily Log'!#REF!),0)","v":0},{"$f":"IFERROR($E81*SUMIF('Daily Log'!#REF!,$B81,'Daily Log'!#REF!),0)","v":0},{"$f":"IFERROR($E81*SUMIF('Daily Log'!#REF!,$B81,'Daily Log'!#REF!),0)","v":0},{"$f":"IFERROR($E81*SUMIF('Daily Log'!#REF!,$B81,'Daily Log'!#REF!),0)","v":0},{"$f":"IFERROR($E81*SUMIF('Daily Log'!#REF!,$B81,'Daily Log'!#REF!),0)","v":0},{"$f":"IFERROR($E81*SUMIF('Daily Log'!#REF!,$B81,'Daily Log'!#REF!),0)","v":0},{"$f":"IFERROR($E81*SUMIF('Daily Log'!#REF!,$B81,'Daily Log'!#REF!),0)","v":0},{"$f":"IFERROR($E81*SUMIF('Daily Log'!#REF!,$B81,'Daily Log'!#REF!),0)","v":0},{"$f":"IFERROR($E81*SUMIF('Daily Log'!#REF!,$B81,'Daily Log'!#REF!),0)","v":0},{"$f":"IFERROR($E81*SUMIF('Daily Log'!#REF!,$B81,'Daily Log'!#REF!),0)","v":0},{"$f":"IFERROR($E81*SUMIF('Daily Log'!#REF!,$B81,'Daily Log'!#REF!),0)","v":0},{"$f":"IFERROR($E81*SUMIF('Daily Log'!#REF!,$B81,'Daily Log'!#REF!),0)","v":0}]
[null,"CF02 NESCAFE (H)",null,"SIDE ORDER-HOT BEVERAGE",1,1,{"$f":"IFERROR($E82*SUMIF('Daily Log'!$B$18:$B$1017,$B82,'Daily Log'!$C$18:$C$1017),0)","v":0},{"$f":"IFERROR($E82*SUMIF('Daily Log'!$E$18:$E$1017,$B82,'Daily Log'!$F$18:$F$1017),0)","v":0},{"$f":"IFERROR($E82*SUMIF('Daily Log'!$H$18:$H$1017,$B82,'Daily Log'!$I$18:$I$1017),0)","v":0},{"$f":"IFERROR($E82*SUMIF('Daily Log'!$K$18:$K$1017,$B82,'Daily Log'!$L$18:$L$1017),0)","v":0},{"$f":"IFERROR($E82*SUMIF('Daily Log'!$N$18:$N$1017,$B82,'Daily Log'!$O$18:$O$1017),0)","v":0},{"$f":"IFERROR($E82*SUMIF('Daily Log'!$Q$18:$Q$1017,$B82,'Daily Log'!$R$18:$R$1017),0)","v":0},{"$f":"IFERROR($E82*SUMIF('Daily Log'!$T$18:$T$1017,$B82,'Daily Log'!$U$18:$U$1017),0)","v":0},{"$f":"IFERROR($E82*SUMIF('Daily Log'!$W$18:$W$1017,$B82,'Daily Log'!$X$18:$X$1017),0)","v":0},{"$f":"IFERROR($E82*SUMIF('Daily Log'!$Z$18:$Z$1017,$B82,'Daily Log'!$AA$18:$AA$1017),0)","v":0},{"$f":"IFERROR($E82*SUMIF('Daily Log'!$AC$18:$AC$1017,$B82,'Daily Log'!$AD$18:$AD$1017),0)","v":0},{"$f":"IFERROR($E82*SUMIF('Daily Log'!$AF$18:$AF$1017,$B82,'Daily Log'!$AG$18:$AG$1017),0)","v":0},{"$f":"IFERROR($E82*SUMIF('Daily Log'!$AI$18:$AI$1017,$B82,'Daily Log'!$AJ$18:$AJ$1017),0)","v":1},{"$f":"IFERROR($E82*SUMIF('Daily Log'!#REF!,$B82,'Daily Log'!#REF!),0)","v":0},{"$f":"IFERROR($E82*SUMIF('Daily Log'!#REF!,$B82,'Daily Log'!#REF!),0)","v":0},{"$f":"IFERROR($E82*SUMIF('Daily Log'!#REF!,$B82,'Daily Log'!#REF!),0)","v":0},{"$f":"IFERROR($E82*SUMIF('Daily Log'!#REF!,$B82,'Daily Log'!#REF!),0)","v":0},{"$f":"IFERROR($E82*SUMIF('Daily Log'!#REF!,$B82,'Daily Log'!#REF!),0)","v":0},{"$f":"IFERROR($E82*SUMIF('Daily Log'!#REF!,$B82,'Daily Log'!#REF!),0)","v":0},{"$f":"IFERROR($E82*SUMIF('Daily Log'!#REF!,$B82,'Daily Log'!#REF!),0)","v":0},{"$f":"IFERROR($E82*SUMIF('Daily Log'!#REF!,$B82,'Daily Log'!#REF!),0)","v":0},{"$f":"IFERROR($E82*SUMIF('Daily Log'!#REF!,$B82,'Daily Log'!#REF!),0)","v":0},{"$f":"IFERROR($E82*SUMIF('Daily Log'!#REF!,$B82,'Daily Log'!#REF!),0)","v":0},{"$f":"IFERROR($E82*SUMIF('Daily Log'!#REF!,$B82,'Daily Log'!#REF!),0)","v":0},{"$f":"IFERROR($E82*SUMIF('Daily Log'!#REF!,$B82,'Daily Log'!#REF!),0)","v":0},{"$f":"IFERROR($E82*SUMIF('Daily Log'!#REF!,$B82,'Daily Log'!#REF!),0)","v":0},{"$f":"IFERROR($E82*SUMIF('Daily Log'!#REF!,$B82,'Daily Log'!#REF!),0)","v":0},{"$f":"IFERROR($E82*SUMIF('Daily Log'!#REF!,$B82,'Daily Log'!#REF!),0)","v":0},{"$f":"IFERROR($E82*SUMIF('Daily Log'!#REF!,$B82,'Daily Log'!#REF!),0)","v":0},{"$f":"IFERROR($E82*SUMIF('Daily Log'!#REF!,$B82,'Daily Log'!#REF!),0)","v":0},{"$f":"IFERROR($E82*SUMIF('Daily Log'!#REF!,$B82,'Daily Log'!#REF!),0)","v":0},{"$f":"IFERROR($E82*SUMIF('Daily Log'!#REF!,$B82,'Daily Log'!#REF!),0)","v":0}]
[null,"CF03 TEA (H)",null,"SIDE ORDER-HOT BEVERAGE",1,0,{"$f":"IFERROR($E83*SUMIF('Daily Log'!$B$18:$B$1017,$B83,'Daily Log'!$C$18:$C$1017),0)","v":0},{"$f":"IFERROR($E83*SUMIF('Daily Log'!$E$18:$E$1017,$B83,'Daily Log'!$F$18:$F$1017),0)","v":0},{"$f":"IFERROR($E83*SUMIF('Daily Log'!$H$18:$H$1017,$B83,'Daily Log'!$I$18:$I$1017),0)","v":0},{"$f":"IFERROR($E83*SUMIF('Daily Log'!$K$18:$K$1017,$B83,'Daily Log'!$L$18:$L$1017),0)","v":0},{"$f":"IFERROR($E83*SUMIF('Daily Log'!$N$18:$N$1017,$B83,'Daily Log'!$O$18:$O$1017),0)","v":0},{"$f":"IFERROR($E83*SUMIF('Daily Log'!$Q$18:$Q$1017,$B83,'Daily Log'!$R$18:$R$1017),0)","v":0},{"$f":"IFERROR($E83*SUMIF('Daily Log'!$T$18:$T$1017,$B83,'Daily Log'!$U$18:$U$1017),0)","v":0},{"$f":"IFERROR($E83*SUMIF('Daily Log'!$W$18:$W$1017,$B83,'Daily Log'!$X$18:$X$1017),0)","v":0},{"$f":"IFERROR($E83*SUMIF('Daily Log'!$Z$18:$Z$1017,$B83,'Daily Log'!$AA$18:$AA$1017),0)","v":0},{"$f":"IFERROR($E83*SUMIF('Daily Log'!$AC$18:$AC$1017,$B83,'Daily Log'!$AD$18:$AD$1017),0)","v":0},{"$f":"IFERROR($E83*SUMIF('Daily Log'!$AF$18:$AF$1017,$B83,'Daily Log'!$AG$18:$AG$1017),0)","v":0},{"$f":"IFERROR($E83*SUMIF('Daily Log'!$AI$18:$AI$1017,$B83,'Daily Log'!$AJ$18:$AJ$1017),0)","v":0},{"$f":"IFERROR($E83*SUMIF('Daily Log'!#REF!,$B83,'Daily Log'!#REF!),0)","v":0},{"$f":"IFERROR($E83*SUMIF('Daily Log'!#REF!,$B83,'Daily Log'!#REF!),0)","v":0},{"$f":"IFERROR($E83*SUMIF('Daily Log'!#REF!,$B83,'Daily Log'!#REF!),0)","v":0},{"$f":"IFERROR($E83*SUMIF('Daily Log'!#REF!,$B83,'Daily Log'!#REF!),0)","v":0},{"$f":"IFERROR($E83*SUMIF('Daily Log'!#REF!,$B83,'Daily Log'!#REF!),0)","v":0},{"$f":"IFERROR($E83*SUMIF('Daily Log'!#REF!,$B83,'Daily Log'!#REF!),0)","v":0},{"$f":"IFERROR($E83*SUMIF('Daily Log'!#REF!,$B83,'Daily Log'!#REF!),0)","v":0},{"$f":"IFERROR($E83*SUMIF('Daily Log'!#REF!,$B83,'Daily Log'!#REF!),0)","v":0},{"$f":"IFERROR($E83*SUMIF('Daily Log'!#REF!,$B83,'Daily Log'!#REF!),0)","v":0},{"$f":"IFERROR($E83*SUMIF('Daily Log'!#REF!,$B83,'Daily Log'!#REF!),0)","v":0},{"$f":"IFERROR($E83*SUMIF('Daily Log'!#REF!,$B83,'Daily Log'!#REF!),0)","v":0},{"$f":"IFERROR($E83*SUMIF('Daily Log'!#REF!,$B83,'Daily Log'!#REF!),0)","v":0},{"$f":"IFERROR($E83*SUMIF('Daily Log'!#REF!,$B83,'Daily Log'!#REF!),0)","v":0},{"$f":"IFERROR($E83*SUMIF('Daily Log'!#REF!,$B83,'Daily Log'!#REF!),0)","v":0},{"$f":"IFERROR($E83*SUMIF('Daily Log'!#REF!,$B83,'Daily Log'!#REF!),0)","v":0},{"$f":"IFERROR($E83*SUMIF('Daily Log'!#REF!,$B83,'Daily Log'!#REF!),0)","v":0},{"$f":"IFERROR($E83*SUMIF('Daily Log'!#REF!,$B83,'Daily Log'!#REF!),0)","v":0},{"$f":"IFERROR($E83*SUMIF('Daily Log'!#REF!,$B83,'Daily Log'!#REF!),0)","v":0},{"$f":"IFERROR($E83*SUMIF('Daily Log'!#REF!,$B83,'Daily Log'!#REF!),0)","v":0}]
[null,"CF04 LEMON TEA (H)",null,"SIDE ORDER-HOT BEVERAGE",1,0,{"$f":"IFERROR($E84*SUMIF('Daily Log'!$B$18:$B$1017,$B84,'Daily Log'!$C$18:$C$1017),0)","v":0},{"$f":"IFERROR($E84*SUMIF('Daily Log'!$E$18:$E$1017,$B84,'Daily Log'!$F$18:$F$1017),0)","v":0},{"$f":"IFERROR($E84*SUMIF('Daily Log'!$H$18:$H$1017,$B84,'Daily Log'!$I$18:$I$1017),0)","v":0},{"$f":"IFERROR($E84*SUMIF('Daily Log'!$K$18:$K$1017,$B84,'Daily Log'!$L$18:$L$1017),0)","v":0},{"$f":"IFERROR($E84*SUMIF('Daily Log'!$N$18:$N$1017,$B84,'Daily Log'!$O$18:$O$1017),0)","v":0},{"$f":"IFERROR($E84*SUMIF('Daily Log'!$Q$18:$Q$1017,$B84,'Daily Log'!$R$18:$R$1017),0)","v":0},{"$f":"IFERROR($E84*SUMIF('Daily Log'!$T$18:$T$1017,$B84,'Daily Log'!$U$18:$U$1017),0)","v":0},{"$f":"IFERROR($E84*SUMIF('Daily Log'!$W$18:$W$1017,$B84,'Daily Log'!$X$18:$X$1017),0)","v":0},{"$f":"IFERROR($E84*SUMIF('Daily Log'!$Z$18:$Z$1017,$B84,'Daily Log'!$AA$18:$AA$1017),0)","v":0},{"$f":"IFERROR($E84*SUMIF('Daily Log'!$AC$18:$AC$1017,$B84,'Daily Log'!$AD$18:$AD$1017),0)","v":0},{"$f":"IFERROR($E84*SUMIF('Daily Log'!$AF$18:$AF$1017,$B84,'Daily Log'!$AG$18:$AG$1017),0)","v":0},{"$f":"IFERROR($E84*SUMIF('Daily Log'!$AI$18:$AI$1017,$B84,'Daily Log'!$AJ$18:$AJ$1017),0)","v":0},{"$f":"IFERROR($E84*SUMIF('Daily Log'!#REF!,$B84,'Daily Log'!#REF!),0)","v":0},{"$f":"IFERROR($E84*SUMIF('Daily Log'!#REF!,$B84,'Daily Log'!#REF!),0)","v":0},{"$f":"IFERROR($E84*SUMIF('Daily Log'!#REF!,$B84,'Daily Log'!#REF!),0)","v":0},{"$f":"IFERROR($E84*SUMIF('Daily Log'!#REF!,$B84,'Daily Log'!#REF!),0)","v":0},{"$f":"IFERROR($E84*SUMIF('Daily Log'!#REF!,$B84,'Daily Log'!#REF!),0)","v":0},{"$f":"IFERROR($E84*SUMIF('Daily Log'!#REF!,$B84,'Daily Log'!#REF!),0)","v":0},{"$f":"IFERROR($E84*SUMIF('Daily Log'!#REF!,$B84,'Daily Log'!#REF!),0)","v":0},{"$f":"IFERROR($E84*SUMIF('Daily Log'!#REF!,$B84,'Daily Log'!#REF!),0)","v":0},{"$f":"IFERROR($E84*SUMIF('Daily Log'!#REF!,$B84,'Daily Log'!#REF!),0)","v":0},{"$f":"IFERROR($E84*SUMIF('Daily Log'!#REF!,$B84,'Daily Log'!#REF!),0)","v":0},{"$f":"IFERROR($E84*SUMIF('Daily Log'!#REF!,$B84,'Daily Log'!#REF!),0)","v":0},{"$f":"IFERROR($E84*SUMIF('Daily Log'!#REF!,$B84,'Daily Log'!#REF!),0)","v":0},{"$f":"IFERROR($E84*SUMIF('Daily Log'!#REF!,$B84,'Daily Log'!#REF!),0)","v":0},{"$f":"IFERROR($E84*SUMIF('Daily Log'!#REF!,$B84,'Daily Log'!#REF!),0)","v":0},{"$f":"IFERROR($E84*SUMIF('Daily Log'!#REF!,$B84,'Daily Log'!#REF!),0)","v":0},{"$f":"IFERROR($E84*SUMIF('Daily Log'!#REF!,$B84,'Daily Log'!#REF!),0)","v":0},{"$f":"IFERROR($E84*SUMIF('Daily Log'!#REF!,$B84,'Daily Log'!#REF!),0)","v":0},{"$f":"IFERROR($E84*SUMIF('Daily Log'!#REF!,$B84,'Daily Log'!#REF!),0)","v":0},{"$f":"IFERROR($E84*SUMIF('Daily Log'!#REF!,$B84,'Daily Log'!#REF!),0)","v":0}]
[null,"CF05 GRN TEA (H)",null,"SIDE ORDER-HOT BEVERAGE",1,3,{"$f":"IFERROR($E85*SUMIF('Daily Log'!$B$18:$B$1017,$B85,'Daily Log'!$C$18:$C$1017),0)","v":0},{"$f":"IFERROR($E85*SUMIF('Daily Log'!$E$18:$E$1017,$B85,'Daily Log'!$F$18:$F$1017),0)","v":0},{"$f":"IFERROR($E85*SUMIF('Daily Log'!$H$18:$H$1017,$B85,'Daily Log'!$I$18:$I$1017),0)","v":0},{"$f":"IFERROR($E85*SUMIF('Daily Log'!$K$18:$K$1017,$B85,'Daily Log'!$L$18:$L$1017),0)","v":0},{"$f":"IFERROR($E85*SUMIF('Daily Log'!$N$18:$N$1017,$B85,'Daily Log'!$O$18:$O$1017),0)","v":0},{"$f":"IFERROR($E85*SUMIF('Daily Log'!$Q$18:$Q$1017,$B85,'Daily Log'!$R$18:$R$1017),0)","v":0},{"$f":"IFERROR($E85*SUMIF('Daily Log'!$T$18:$T$1017,$B85,'Daily Log'!$U$18:$U$1017),0)","v":0},{"$f":"IFERROR($E85*SUMIF('Daily Log'!$W$18:$W$1017,$B85,'Daily Log'!$X$18:$X$1017),0)","v":0},{"$f":"IFERROR($E85*SUMIF('Daily Log'!$Z$18:$Z$1017,$B85,'Daily Log'!$AA$18:$AA$1017),0)","v":0},{"$f":"IFERROR($E85*SUMIF('Daily Log'!$AC$18:$AC$1017,$B85,'Daily Log'!$AD$18:$AD$1017),0)","v":0},{"$f":"IFERROR($E85*SUMIF('Daily Log'!$AF$18:$AF$1017,$B85,'Daily Log'!$AG$18:$AG$1017),0)","v":3},{"$f":"IFERROR($E85*SUMIF('Daily Log'!$AI$18:$AI$1017,$B85,'Daily Log'!$AJ$18:$AJ$1017),0)","v":0},{"$f":"IFERROR($E85*SUMIF('Daily Log'!#REF!,$B85,'Daily Log'!#REF!),0)","v":0},{"$f":"IFERROR($E85*SUMIF('Daily Log'!#REF!,$B85,'Daily Log'!#REF!),0)","v":0},{"$f":"IFERROR($E85*SUMIF('Daily Log'!#REF!,$B85,'Daily Log'!#REF!),0)","v":0},{"$f":"IFERROR($E85*SUMIF('Daily Log'!#REF!,$B85,'Daily Log'!#REF!),0)","v":0},{"$f":"IFERROR($E85*SUMIF('Daily Log'!#REF!,$B85,'Daily Log'!#REF!),0)","v":0},{"$f":"IFERROR($E85*SUMIF('Daily Log'!#REF!,$B85,'Daily Log'!#REF!),0)","v":0},{"$f":"IFERROR($E85*SUMIF('Daily Log'!#REF!,$B85,'Daily Log'!#REF!),0)","v":0},{"$f":"IFERROR($E85*SUMIF('Daily Log'!#REF!,$B85,'Daily Log'!#REF!),0)","v":0},{"$f":"IFERROR($E85*SUMIF('Daily Log'!#REF!,$B85,'Daily Log'!#REF!),0)","v":0},{"$f":"IFERROR($E85*SUMIF('Daily Log'!#REF!,$B85,'Daily Log'!#REF!),0)","v":0},{"$f":"IFERROR($E85*SUMIF('Daily Log'!#REF!,$B85,'Daily Log'!#REF!),0)","v":0},{"$f":"IFERROR($E85*SUMIF('Daily Log'!#REF!,$B85,'Daily Log'!#REF!),0)","v":0},{"$f":"IFERROR($E85*SUMIF('Daily Log'!#REF!,$B85,'Daily Log'!#REF!),0)","v":0},{"$f":"IFERROR($E85*SUMIF('Daily Log'!#REF!,$B85,'Daily Log'!#REF!),0)","v":0},{"$f":"IFERROR($E85*SUMIF('Daily Log'!#REF!,$B85,'Daily Log'!#REF!),0)","v":0},{"$f":"IFERROR($E85*SUMIF('Daily Log'!#REF!,$B85,'Daily Log'!#REF!),0)","v":0},{"$f":"IFERROR($E85*SUMIF('Daily Log'!#REF!,$B85,'Daily Log'!#REF!),0)","v":0},{"$f":"IFERROR($E85*SUMIF('Daily Log'!#REF!,$B85,'Daily Log'!#REF!),0)","v":0},{"$f":"IFERROR($E85*SUMIF('Daily Log'!#REF!,$B85,'Daily Log'!#REF!),0)","v":0}]
[null,"CF06 HNY GRN TEA (H)",null,"SIDE ORDER-HOT BEVERAGE",1,0,{"$f":"IFERROR($E86*SUMIF('Daily Log'!$B$18:$B$1017,$B86,'Daily Log'!$C$18:$C$1017),0)","v":0},{"$f":"IFERROR($E86*SUMIF('Daily Log'!$E$18:$E$1017,$B86,'Daily Log'!$F$18:$F$1017),0)","v":0},{"$f":"IFERROR($E86*SUMIF('Daily Log'!$H$18:$H$1017,$B86,'Daily Log'!$I$18:$I$1017),0)","v":0},{"$f":"IFERROR($E86*SUMIF('Daily Log'!$K$18:$K$1017,$B86,'Daily Log'!$L$18:$L$1017),0)","v":0},{"$f":"IFERROR($E86*SUMIF('Daily Log'!$N$18:$N$1017,$B86,'Daily Log'!$O$18:$O$1017),0)","v":0},{"$f":"IFERROR($E86*SUMIF('Daily Log'!$Q$18:$Q$1017,$B86,'Daily Log'!$R$18:$R$1017),0)","v":0},{"$f":"IFERROR($E86*SUMIF('Daily Log'!$T$18:$T$1017,$B86,'Daily Log'!$U$18:$U$1017),0)","v":0},{"$f":"IFERROR($E86*SUMIF('Daily Log'!$W$18:$W$1017,$B86,'Daily Log'!$X$18:$X$1017),0)","v":0},{"$f":"IFERROR($E86*SUMIF('Daily Log'!$Z$18:$Z$1017,$B86,'Daily Log'!$AA$18:$AA$1017),0)","v":0},{"$f":"IFERROR($E86*SUMIF('Daily Log'!$AC$18:$AC$1017,$B86,'Daily Log'!$AD$18:$AD$1017),0)","v":0},{"$f":"IFERROR($E86*SUMIF('Daily Log'!$AF$18:$AF$1017,$B86,'Daily Log'!$AG$18:$AG$1017),0)","v":0},{"$f":"IFERROR($E86*SUMIF('Daily Log'!$AI$18:$AI$1017,$B86,'Daily Log'!$AJ$18:$AJ$1017),0)","v":0},{"$f":"IFERROR($E86*SUMIF('Daily Log'!#REF!,$B86,'Daily Log'!#REF!),0)","v":0},{"$f":"IFERROR($E86*SUMIF('Daily Log'!#REF!,$B86,'Daily Log'!#REF!),0)","v":0},{"$f":"IFERROR($E86*SUMIF('Daily Log'!#REF!,$B86,'Daily Log'!#REF!),0)","v":0},{"$f":"IFERROR($E86*SUMIF('Daily Log'!#REF!,$B86,'Daily Log'!#REF!),0)","v":0},{"$f":"IFERROR($E86*SUMIF('Daily Log'!#REF!,$B86,'Daily Log'!#REF!),0)","v":0},{"$f":"IFERROR($E86*SUMIF('Daily Log'!#REF!,$B86,'Daily Log'!#REF!),0)","v":0},{"$f":"IFERROR($E86*SUMIF('Daily Log'!#REF!,$B86,'Daily Log'!#REF!),0)","v":0},{"$f":"IFERROR($E86*SUMIF('Daily Log'!#REF!,$B86,'Daily Log'!#REF!),0)","v":0},{"$f":"IFERROR($E86*SUMIF('Daily Log'!#REF!,$B86,'Daily Log'!#REF!),0)","v":0},{"$f":"IFERROR($E86*SUMIF('Daily Log'!#REF!,$B86,'Daily Log'!#REF!),0)","v":0},{"$f":"IFERROR($E86*SUMIF('Daily Log'!#REF!,$B86,'Daily Log'!#REF!),0)","v":0},{"$f":"IFERROR($E86*SUMIF('Daily Log'!#REF!,$B86,'Daily Log'!#REF!),0)","v":0},{"$f":"IFERROR($E86*SUMIF('Daily Log'!#REF!,$B86,'Daily Log'!#REF!),0)","v":0},{"$f":"IFERROR($E86*SUMIF('Daily Log'!#REF!,$B86,'Daily Log'!#REF!),0)","v":0},{"$f":"IFERROR($E86*SUMIF('Daily Log'!#REF!,$B86,'Daily Log'!#REF!),0)","v":0},{"$f":"IFERROR($E86*SUMIF('Daily Log'!#REF!,$B86,'Daily Log'!#REF!),0)","v":0},{"$f":"IFERROR($E86*SUMIF('Daily Log'!#REF!,$B86,'Daily Log'!#REF!),0)","v":0},{"$f":"IFERROR($E86*SUMIF('Daily Log'!#REF!,$B86,'Daily Log'!#REF!),0)","v":0},{"$f":"IFERROR($E86*SUMIF('Daily Log'!#REF!,$B86,'Daily Log'!#REF!),0)","v":0}]
[null,"CF07 HONEY (H)",null,"SIDE ORDER-HOT BEVERAGE",1,0,{"$f":"IFERROR($E87*SUMIF('Daily Log'!$B$18:$B$1017,$B87,'Daily Log'!$C$18:$C$1017),0)","v":0},{"$f":"IFERROR($E87*SUMIF('Daily Log'!$E$18:$E$1017,$B87,'Daily Log'!$F$18:$F$1017),0)","v":0},{"$f":"IFERROR($E87*SUMIF('Daily Log'!$H$18:$H$1017,$B87,'Daily Log'!$I$18:$I$1017),0)","v":0},{"$f":"IFERROR($E87*SUMIF('Daily Log'!$K$18:$K$1017,$B87,'Daily Log'!$L$18:$L$1017),0)","v":0},{"$f":"IFERROR($E87*SUMIF('Daily Log'!$N$18:$N$1017,$B87,'Daily Log'!$O$18:$O$1017),0)","v":0},{"$f":"IFERROR($E87*SUMIF('Daily Log'!$Q$18:$Q$1017,$B87,'Daily Log'!$R$18:$R$1017),0)","v":0},{"$f":"IFERROR($E87*SUMIF('Daily Log'!$T$18:$T$1017,$B87,'Daily Log'!$U$18:$U$1017),0)","v":0},{"$f":"IFERROR($E87*SUMIF('Daily Log'!$W$18:$W$1017,$B87,'Daily Log'!$X$18:$X$1017),0)","v":0},{"$f":"IFERROR($E87*SUMIF('Daily Log'!$Z$18:$Z$1017,$B87,'Daily Log'!$AA$18:$AA$1017),0)","v":0},{"$f":"IFERROR($E87*SUMIF('Daily Log'!$AC$18:$AC$1017,$B87,'Daily Log'!$AD$18:$AD$1017),0)","v":0},{"$f":"IFERROR($E87*SUMIF('Daily Log'!$AF$18:$AF$1017,$B87,'Daily Log'!$AG$18:$AG$1017),0)","v":0},{"$f":"IFERROR($E87*SUMIF('Daily Log'!$AI$18:$AI$1017,$B87,'Daily Log'!$AJ$18:$AJ$1017),0)","v":0},{"$f":"IFERROR($E87*SUMIF('Daily Log'!#REF!,$B87,'Daily Log'!#REF!),0)","v":0},{"$f":"IFERROR($E87*SUMIF('Daily Log'!#REF!,$B87,'Daily Log'!#REF!),0)","v":0},{"$f":"IFERROR($E87*SUMIF('Daily Log'!#REF!,$B87,'Daily Log'!#REF!),0)","v":0},{"$f":"IFERROR($E87*SUMIF('Daily Log'!#REF!,$B87,'Daily Log'!#REF!),0)","v":0},{"$f":"IFERROR($E87*SUMIF('Daily Log'!#REF!,$B87,'Daily Log'!#REF!),0)","v":0},{"$f":"IFERROR($E87*SUMIF('Daily Log'!#REF!,$B87,'Daily Log'!#REF!),0)","v":0},{"$f":"IFERROR($E87*SUMIF('Daily Log'!#REF!,$B87,'Daily Log'!#REF!),0)","v":0},{"$f":"IFERROR($E87*SUMIF('Daily Log'!#REF!,$B87,'Daily Log'!#REF!),0)","v":0},{"$f":"IFERROR($E87*SUMIF('Daily Log'!#REF!,$B87,'Daily Log'!#REF!),0)","v":0},{"$f":"IFERROR($E87*SUMIF('Daily Log'!#REF!,$B87,'Daily Log'!#REF!),0)","v":0},{"$f":"IFERROR($E87*SUMIF('Daily Log'!#REF!,$B87,'Daily Log'!#REF!),0)","v":0},{"$f":"IFERROR($E87*SUMIF('Daily Log'!#REF!,$B87,'Daily Log'!#REF!),0)","v":0},{"$f":"IFERROR($E87*SUMIF('Daily Log'!#REF!,$B87,'Daily Log'!#REF!),0)","v":0},{"$f":"IFERROR($E87*SUMIF('Daily Log'!#REF!,$B87,'Daily Log'!#REF!),0)","v":0},{"$f":"IFERROR($E87*SUMIF('Daily Log'!#REF!,$B87,'Daily Log'!#REF!),0)","v":0},{"$f":"IFERROR($E87*SUMIF('Daily Log'!#REF!,$B87,'Daily Log'!#REF!),0)","v":0},{"$f":"IFERROR($E87*SUMIF('Daily Log'!#REF!,$B87,'Daily Log'!#REF!),0)","v":0},{"$f":"IFERROR($E87*SUMIF('Daily Log'!#REF!,$B87,'Daily Log'!#REF!),0)","v":0},{"$f":"IFERROR($E87*SUMIF('Daily Log'!#REF!,$B87,'Daily Log'!#REF!),0)","v":0}]
[null,"CF08 LEMON HONEY (H)",null,"SIDE ORDER-HOT BEVERAGE",1,0,{"$f":"IFERROR($E88*SUMIF('Daily Log'!$B$18:$B$1017,$B88,'Daily Log'!$C$18:$C$1017),0)","v":0},{"$f":"IFERROR($E88*SUMIF('Daily Log'!$E$18:$E$1017,$B88,'Daily Log'!$F$18:$F$1017),0)","v":0},{"$f":"IFERROR($E88*SUMIF('Daily Log'!$H$18:$H$1017,$B88,'Daily Log'!$I$18:$I$1017),0)","v":0},{"$f":"IFERROR($E88*SUMIF('Daily Log'!$K$18:$K$1017,$B88,'Daily Log'!$L$18:$L$1017),0)","v":0},{"$f":"IFERROR($E88*SUMIF('Daily Log'!$N$18:$N$1017,$B88,'Daily Log'!$O$18:$O$1017),0)","v":0},{"$f":"IFERROR($E88*SUMIF('Daily Log'!$Q$18:$Q$1017,$B88,'Daily Log'!$R$18:$R$1017),0)","v":0},{"$f":"IFERROR($E88*SUMIF('Daily Log'!$T$18:$T$1017,$B88,'Daily Log'!$U$18:$U$1017),0)","v":0},{"$f":"IFERROR($E88*SUMIF('Daily Log'!$W$18:$W$1017,$B88,'Daily Log'!$X$18:$X$1017),0)","v":0},{"$f":"IFERROR($E88*SUMIF('Daily Log'!$Z$18:$Z$1017,$B88,'Daily Log'!$AA$18:$AA$1017),0)","v":0},{"$f":"IFERROR($E88*SUMIF('Daily Log'!$AC$18:$AC$1017,$B88,'Daily Log'!$AD$18:$AD$1017),0)","v":0},{"$f":"IFERROR($E88*SUMIF('Daily Log'!$AF$18:$AF$1017,$B88,'Daily Log'!$AG$18:$AG$1017),0)","v":0},{"$f":"IFERROR($E88*SUMIF('Daily Log'!$AI$18:$AI$1017,$B88,'Daily Log'!$AJ$18:$AJ$1017),0)","v":0},{"$f":"IFERROR($E88*SUMIF('Daily Log'!#REF!,$B88,'Daily Log'!#REF!),0)","v":0},{"$f":"IFERROR($E88*SUMIF('Daily Log'!#REF!,$B88,'Daily Log'!#REF!),0)","v":0},{"$f":"IFERROR($E88*SUMIF('Daily Log'!#REF!,$B88,'Daily Log'!#REF!),0)","v":0},{"$f":"IFERROR($E88*SUMIF('Daily Log'!#REF!,$B88,'Daily Log'!#REF!),0)","v":0},{"$f":"IFERROR($E88*SUMIF('Daily Log'!#REF!,$B88,'Daily Log'!#REF!),0)","v":0},{"$f":"IFERROR($E88*SUMIF('Daily Log'!#REF!,$B88,'Daily Log'!#REF!),0)","v":0},{"$f":"IFERROR($E88*SUMIF('Daily Log'!#REF!,$B88,'Daily Log'!#REF!),0)","v":0},{"$f":"IFERROR($E88*SUMIF('Daily Log'!#REF!,$B88,'Daily Log'!#REF!),0)","v":0},{"$f":"IFERROR($E88*SUMIF('Daily Log'!#REF!,$B88,'Daily Log'!#REF!),0)","v":0},{"$f":"IFERROR($E88*SUMIF('Daily Log'!#REF!,$B88,'Daily Log'!#REF!),0)","v":0},{"$f":"IFERROR($E88*SUMIF('Daily Log'!#REF!,$B88,'Daily Log'!#REF!),0)","v":0},{"$f":"IFERROR($E88*SUMIF('Daily Log'!#REF!,$B88,'Daily Log'!#REF!),0)","v":0},{"$f":"IFERROR($E88*SUMIF('Daily Log'!#REF!,$B88,'Daily Log'!#REF!),0)","v":0},{"$f":"IFERROR($E88*SUMIF('Daily Log'!#REF!,$B88,'Daily Log'!#REF!),0)","v":0},{"$f":"IFERROR($E88*SUMIF('Daily Log'!#REF!,$B88,'Daily Log'!#REF!),0)","v":0},{"$f":"IFERROR($E88*SUMIF('Daily Log'!#REF!,$B88,'Daily Log'!#REF!),0)","v":0},{"$f":"IFERROR($E88*SUMIF('Daily Log'!#REF!,$B88,'Daily Log'!#REF!),0)","v":0},{"$f":"IFERROR($E88*SUMIF('Daily Log'!#REF!,$B88,'Daily Log'!#REF!),0)","v":0},{"$f":"IFERROR($E88*SUMIF('Daily Log'!#REF!,$B88,'Daily Log'!#REF!),0)","v":0}]
[null,"CF09 CAPPUCCINO (H)",null,"SIDE ORDER-HOT BEVERAGE",1,0,{"$f":"IFERROR($E89*SUMIF('Daily Log'!$B$18:$B$1017,$B89,'Daily Log'!$C$18:$C$1017),0)","v":0},{"$f":"IFERROR($E89*SUMIF('Daily Log'!$E$18:$E$1017,$B89,'Daily Log'!$F$18:$F$1017),0)","v":0},{"$f":"IFERROR($E89*SUMIF('Daily Log'!$H$18:$H$1017,$B89,'Daily Log'!$I$18:$I$1017),0)","v":0},{"$f":"IFERROR($E89*SUMIF('Daily Log'!$K$18:$K$1017,$B89,'Daily Log'!$L$18:$L$1017),0)","v":0},{"$f":"IFERROR($E89*SUMIF('Daily Log'!$N$18:$N$1017,$B89,'Daily Log'!$O$18:$O$1017),0)","v":0},{"$f":"IFERROR($E89*SUMIF('Daily Log'!$Q$18:$Q$1017,$B89,'Daily Log'!$R$18:$R$1017),0)","v":0},{"$f":"IFERROR($E89*SUMIF('Daily Log'!$T$18:$T$1017,$B89,'Daily Log'!$U$18:$U$1017),0)","v":0},{"$f":"IFERROR($E89*SUMIF('Daily Log'!$W$18:$W$1017,$B89,'Daily Log'!$X$18:$X$1017),0)","v":0},{"$f":"IFERROR($E89*SUMIF('Daily Log'!$Z$18:$Z$1017,$B89,'Daily Log'!$AA$18:$AA$1017),0)","v":0},{"$f":"IFERROR($E89*SUMIF('Daily Log'!$AC$18:$AC$1017,$B89,'Daily Log'!$AD$18:$AD$1017),0)","v":0},{"$f":"IFERROR($E89*SUMIF('Daily Log'!$AF$18:$AF$1017,$B89,'Daily Log'!$AG$18:$AG$1017),0)","v":0},{"$f":"IFERROR($E89*SUMIF('Daily Log'!$AI$18:$AI$1017,$B89,'Daily Log'!$AJ$18:$AJ$1017),0)","v":0},{"$f":"IFERROR($E89*SUMIF('Daily Log'!#REF!,$B89,'Daily Log'!#REF!),0)","v":0},{"$f":"IFERROR($E89*SUMIF('Daily Log'!#REF!,$B89,'Daily Log'!#REF!),0)","v":0},{"$f":"IFERROR($E89*SUMIF('Daily Log'!#REF!,$B89,'Daily Log'!#REF!),0)","v":0},{"$f":"IFERROR($E89*SUMIF('Daily Log'!#REF!,$B89,'Daily Log'!#REF!),0)","v":0},{"$f":"IFERROR($E89*SUMIF('Daily Log'!#REF!,$B89,'Daily Log'!#REF!),0)","v":0},{"$f":"IFERROR($E89*SUMIF('Daily Log'!#REF!,$B89,'Daily Log'!#REF!),0)","v":0},{"$f":"IFERROR($E89*SUMIF('Daily Log'!#REF!,$B89,'Daily Log'!#REF!),0)","v":0},{"$f":"IFERROR($E89*SUMIF('Daily Log'!#REF!,$B89,'Daily Log'!#REF!),0)","v":0},{"$f":"IFERROR($E89*SUMIF('Daily Log'!#REF!,$B89,'Daily Log'!#REF!),0)","v":0},{"$f":"IFERROR($E89*SUMIF('Daily Log'!#REF!,$B89,'Daily Log'!#REF!),0)","v":0},{"$f":"IFERROR($E89*SUMIF('Daily Log'!#REF!,$B89,'Daily Log'!#REF!),0)","v":0},{"$f":"IFERROR($E89*SUMIF('Daily Log'!#REF!,$B89,'Daily Log'!#REF!),0)","v":0},{"$f":"IFERROR($E89*SUMIF('Daily Log'!#REF!,$B89,'Daily Log'!#REF!),0)","v":0},{"$f":"IFERROR($E89*SUMIF('Daily Log'!#REF!,$B89,'Daily Log'!#REF!),0)","v":0},{"$f":"IFERROR($E89*SUMIF('Daily Log'!#REF!,$B89,'Daily Log'!#REF!),0)","v":0},{"$f":"IFERROR($E89*SUMIF('Daily Log'!#REF!,$B89,'Daily Log'!#REF!),0)","v":0},{"$f":"IFERROR($E89*SUMIF('Daily Log'!#REF!,$B89,'Daily Log'!#REF!),0)","v":0},{"$f":"IFERROR($E89*SUMIF('Daily Log'!#REF!,$B89,'Daily Log'!#REF!),0)","v":0},{"$f":"IFERROR($E89*SUMIF('Daily Log'!#REF!,$B89,'Daily Log'!#REF!),0)","v":0}]
[null,"CF10 CHOCOLATE (H)",null,"SIDE ORDER-HOT BEVERAGE",1,0,{"$f":"IFERROR($E90*SUMIF('Daily Log'!$B$18:$B$1017,$B90,'Daily Log'!$C$18:$C$1017),0)","v":0},{"$f":"IFERROR($E90*SUMIF('Daily Log'!$E$18:$E$1017,$B90,'Daily Log'!$F$18:$F$1017),0)","v":0},{"$f":"IFERROR($E90*SUMIF('Daily Log'!$H$18:$H$1017,$B90,'Daily Log'!$I$18:$I$1017),0)","v":0},{"$f":"IFERROR($E90*SUMIF('Daily Log'!$K$18:$K$1017,$B90,'Daily Log'!$L$18:$L$1017),0)","v":0},{"$f":"IFERROR($E90*SUMIF('Daily Log'!$N$18:$N$1017,$B90,'Daily Log'!$O$18:$O$1017),0)","v":0},{"$f":"IFERROR($E90*SUMIF('Daily Log'!$Q$18:$Q$1017,$B90,'Daily Log'!$R$18:$R$1017),0)","v":0},{"$f":"IFERROR($E90*SUMIF('Daily Log'!$T$18:$T$1017,$B90,'Daily Log'!$U$18:$U$1017),0)","v":0},{"$f":"IFERROR($E90*SUMIF('Daily Log'!$W$18:$W$1017,$B90,'Daily Log'!$X$18:$X$1017),0)","v":0},{"$f":"IFERROR($E90*SUMIF('Daily Log'!$Z$18:$Z$1017,$B90,'Daily Log'!$AA$18:$AA$1017),0)","v":0},{"$f":"IFERROR($E90*SUMIF('Daily Log'!$AC$18:$AC$1017,$B90,'Daily Log'!$AD$18:$AD$1017),0)","v":0},{"$f":"IFERROR($E90*SUMIF('Daily Log'!$AF$18:$AF$1017,$B90,'Daily Log'!$AG$18:$AG$1017),0)","v":0},{"$f":"IFERROR($E90*SUMIF('Daily Log'!$AI$18:$AI$1017,$B90,'Daily Log'!$AJ$18:$AJ$1017),0)","v":0},{"$f":"IFERROR($E90*SUMIF('Daily Log'!#REF!,$B90,'Daily Log'!#REF!),0)","v":0},{"$f":"IFERROR($E90*SUMIF('Daily Log'!#REF!,$B90,'Daily Log'!#REF!),0)","v":0},{"$f":"IFERROR($E90*SUMIF('Daily Log'!#REF!,$B90,'Daily Log'!#REF!),0)","v":0},{"$f":"IFERROR($E90*SUMIF('Daily Log'!#REF!,$B90,'Daily Log'!#REF!),0)","v":0},{"$f":"IFERROR($E90*SUMIF('Daily Log'!#REF!,$B90,'Daily Log'!#REF!),0)","v":0},{"$f":"IFERROR($E90*SUMIF('Daily Log'!#REF!,$B90,'Daily Log'!#REF!),0)","v":0},{"$f":"IFERROR($E90*SUMIF('Daily Log'!#REF!,$B90,'Daily Log'!#REF!),0)","v":0},{"$f":"IFERROR($E90*SUMIF('Daily Log'!#REF!,$B90,'Daily Log'!#REF!),0)","v":0},{"$f":"IFERROR($E90*SUMIF('Daily Log'!#REF!,$B90,'Daily Log'!#REF!),0)","v":0},{"$f":"IFERROR($E90*SUMIF('Daily Log'!#REF!,$B90,'Daily Log'!#REF!),0)","v":0},{"$f":"IFERROR($E90*SUMIF('Daily Log'!#REF!,$B90,'Daily Log'!#REF!),0)","v":0},{"$f":"IFERROR($E90*SUMIF('Daily Log'!#REF!,$B90,'Daily Log'!#REF!),0)","v":0},{"$f":"IFERROR($E90*SUMIF('Daily Log'!#REF!,$B90,'Daily Log'!#REF!),0)","v":0},{"$f":"IFERROR($E90*SUMIF('Daily Log'!#REF!,$B90,'Daily Log'!#REF!),0)","v":0},{"$f":"IFERROR($E90*SUMIF('Daily Log'!#REF!,$B90,'Daily Log'!#REF!),0)","v":0},{"$f":"IFERROR($E90*SUMIF('Daily Log'!#REF!,$B90,'Daily Log'!#REF!),0)","v":0},{"$f":"IFERROR($E90*SUMIF('Daily Log'!#REF!,$B90,'Daily Log'!#REF!),0)","v":0},{"$f":"IFERROR($E90*SUMIF('Daily Log'!#REF!,$B90,'Daily Log'!#REF!),0)","v":0},{"$f":"IFERROR($E90*SUMIF('Daily Log'!#REF!,$B90,'Daily Log'!#REF!),0)","v":0}]
[null,"CF11 MOCHA (H)",null,"SIDE ORDER-HOT BEVERAGE",1,0,{"$f":"IFERROR($E91*SUMIF('Daily Log'!$B$18:$B$1017,$B91,'Daily Log'!$C$18:$C$1017),0)","v":0},{"$f":"IFERROR($E91*SUMIF('Daily Log'!$E$18:$E$1017,$B91,'Daily Log'!$F$18:$F$1017),0)","v":0},{"$f":"IFERROR($E91*SUMIF('Daily Log'!$H$18:$H$1017,$B91,'Daily Log'!$I$18:$I$1017),0)","v":0},{"$f":"IFERROR($E91*SUMIF('Daily Log'!$K$18:$K$1017,$B91,'Daily Log'!$L$18:$L$1017),0)","v":0},{"$f":"IFERROR($E91*SUMIF('Daily Log'!$N$18:$N$1017,$B91,'Daily Log'!$O$18:$O$1017),0)","v":0},{"$f":"IFERROR($E91*SUMIF('Daily Log'!$Q$18:$Q$1017,$B91,'Daily Log'!$R$18:$R$1017),0)","v":0},{"$f":"IFERROR($E91*SUMIF('Daily Log'!$T$18:$T$1017,$B91,'Daily Log'!$U$18:$U$1017),0)","v":0},{"$f":"IFERROR($E91*SUMIF('Daily Log'!$W$18:$W$1017,$B91,'Daily Log'!$X$18:$X$1017),0)","v":0},{"$f":"IFERROR($E91*SUMIF('Daily Log'!$Z$18:$Z$1017,$B91,'Daily Log'!$AA$18:$AA$1017),0)","v":0},{"$f":"IFERROR($E91*SUMIF('Daily Log'!$AC$18:$AC$1017,$B91,'Daily Log'!$AD$18:$AD$1017),0)","v":0},{"$f":"IFERROR($E91*SUMIF('Daily Log'!$AF$18:$AF$1017,$B91,'Daily Log'!$AG$18:$AG$1017),0)","v":0},{"$f":"IFERROR($E91*SUMIF('Daily Log'!$AI$18:$AI$1017,$B91,'Daily Log'!$AJ$18:$AJ$1017),0)","v":0},{"$f":"IFERROR($E91*SUMIF('Daily Log'!#REF!,$B91,'Daily Log'!#REF!),0)","v":0},{"$f":"IFERROR($E91*SUMIF('Daily Log'!#REF!,$B91,'Daily Log'!#REF!),0)","v":0},{"$f":"IFERROR($E91*SUMIF('Daily Log'!#REF!,$B91,'Daily Log'!#REF!),0)","v":0},{"$f":"IFERROR($E91*SUMIF('Daily Log'!#REF!,$B91,'Daily Log'!#REF!),0)","v":0},{"$f":"IFERROR($E91*SUMIF('Daily Log'!#REF!,$B91,'Daily Log'!#REF!),0)","v":0},{"$f":"IFERROR($E91*SUMIF('Daily Log'!#REF!,$B91,'Daily Log'!#REF!),0)","v":0},{"$f":"IFERROR($E91*SUMIF('Daily Log'!#REF!,$B91,'Daily Log'!#REF!),0)","v":0},{"$f":"IFERROR($E91*SUMIF('Daily Log'!#REF!,$B91,'Daily Log'!#REF!),0)","v":0},{"$f":"IFERROR($E91*SUMIF('Daily Log'!#REF!,$B91,'Daily Log'!#REF!),0)","v":0},{"$f":"IFERROR($E91*SUMIF('Daily Log'!#REF!,$B91,'Daily Log'!#REF!),0)","v":0},{"$f":"IFERROR($E91*SUMIF('Daily Log'!#REF!,$B91,'Daily Log'!#REF!),0)","v":0},{"$f":"IFERROR($E91*SUMIF('Daily Log'!#REF!,$B91,'Daily Log'!#REF!),0)","v":0},{"$f":"IFERROR($E91*SUMIF('Daily Log'!#REF!,$B91,'Daily Log'!#REF!),0)","v":0},{"$f":"IFERROR($E91*SUMIF('Daily Log'!#REF!,$B91,'Daily Log'!#REF!),0)","v":0},{"$f":"IFERROR($E91*SUMIF('Daily Log'!#REF!,$B91,'Daily Log'!#REF!),0)","v":0},{"$f":"IFERROR($E91*SUMIF('Daily Log'!#REF!,$B91,'Daily Log'!#REF!),0)","v":0},{"$f":"IFERROR($E91*SUMIF('Daily Log'!#REF!,$B91,'Daily Log'!#REF!),0)","v":0},{"$f":"IFERROR($E91*SUMIF('Daily Log'!#REF!,$B91,'Daily Log'!#REF!),0)","v":0},{"$f":"IFERROR($E91*SUMIF('Daily Log'!#REF!,$B91,'Daily Log'!#REF!),0)","v":0}]
[null,"CF12 CHAMOMILE (H)",null,"SIDE ORDER-HOT BEVERAGE",1,0,{"$f":"IFERROR($E92*SUMIF('Daily Log'!$B$18:$B$1017,$B92,'Daily Log'!$C$18:$C$1017),0)","v":0},{"$f":"IFERROR($E92*SUMIF('Daily Log'!$E$18:$E$1017,$B92,'Daily Log'!$F$18:$F$1017),0)","v":0},{"$f":"IFERROR($E92*SUMIF('Daily Log'!$H$18:$H$1017,$B92,'Daily Log'!$I$18:$I$1017),0)","v":0},{"$f":"IFERROR($E92*SUMIF('Daily Log'!$K$18:$K$1017,$B92,'Daily Log'!$L$18:$L$1017),0)","v":0},{"$f":"IFERROR($E92*SUMIF('Daily Log'!$N$18:$N$1017,$B92,'Daily Log'!$O$18:$O$1017),0)","v":0},{"$f":"IFERROR($E92*SUMIF('Daily Log'!$Q$18:$Q$1017,$B92,'Daily Log'!$R$18:$R$1017),0)","v":0},{"$f":"IFERROR($E92*SUMIF('Daily Log'!$T$18:$T$1017,$B92,'Daily Log'!$U$18:$U$1017),0)","v":0},{"$f":"IFERROR($E92*SUMIF('Daily Log'!$W$18:$W$1017,$B92,'Daily Log'!$X$18:$X$1017),0)","v":0},{"$f":"IFERROR($E92*SUMIF('Daily Log'!$Z$18:$Z$1017,$B92,'Daily Log'!$AA$18:$AA$1017),0)","v":0},{"$f":"IFERROR($E92*SUMIF('Daily Log'!$AC$18:$AC$1017,$B92,'Daily Log'!$AD$18:$AD$1017),0)","v":0},{"$f":"IFERROR($E92*SUMIF('Daily Log'!$AF$18:$AF$1017,$B92,'Daily Log'!$AG$18:$AG$1017),0)","v":0},{"$f":"IFERROR($E92*SUMIF('Daily Log'!$AI$18:$AI$1017,$B92,'Daily Log'!$AJ$18:$AJ$1017),0)","v":0},{"$f":"IFERROR($E92*SUMIF('Daily Log'!#REF!,$B92,'Daily Log'!#REF!),0)","v":0},{"$f":"IFERROR($E92*SUMIF('Daily Log'!#REF!,$B92,'Daily Log'!#REF!),0)","v":0},{"$f":"IFERROR($E92*SUMIF('Daily Log'!#REF!,$B92,'Daily Log'!#REF!),0)","v":0},{"$f":"IFERROR($E92*SUMIF('Daily Log'!#REF!,$B92,'Daily Log'!#REF!),0)","v":0},{"$f":"IFERROR($E92*SUMIF('Daily Log'!#REF!,$B92,'Daily Log'!#REF!),0)","v":0},{"$f":"IFERROR($E92*SUMIF('Daily Log'!#REF!,$B92,'Daily Log'!#REF!),0)","v":0},{"$f":"IFERROR($E92*SUMIF('Daily Log'!#REF!,$B92,'Daily Log'!#REF!),0)","v":0},{"$f":"IFERROR($E92*SUMIF('Daily Log'!#REF!,$B92,'Daily Log'!#REF!),0)","v":0},{"$f":"IFERROR($E92*SUMIF('Daily Log'!#REF!,$B92,'Daily Log'!#REF!),0)","v":0},{"$f":"IFERROR($E92*SUMIF('Daily Log'!#REF!,$B92,'Daily Log'!#REF!),0)","v":0},{"$f":"IFERROR($E92*SUMIF('Daily Log'!#REF!,$B92,'Daily Log'!#REF!),0)","v":0},{"$f":"IFERROR($E92*SUMIF('Daily Log'!#REF!,$B92,'Daily Log'!#REF!),0)","v":0},{"$f":"IFERROR($E92*SUMIF('Daily Log'!#REF!,$B92,'Daily Log'!#REF!),0)","v":0},{"$f":"IFERROR($E92*SUMIF('Daily Log'!#REF!,$B92,'Daily Log'!#REF!),0)","v":0},{"$f":"IFERROR($E92*SUMIF('Daily Log'!#REF!,$B92,'Daily Log'!#REF!),0)","v":0},{"$f":"IFERROR($E92*SUMIF('Daily Log'!#REF!,$B92,'Daily Log'!#REF!),0)","v":0},{"$f":"IFERROR($E92*SUMIF('Daily Log'!#REF!,$B92,'Daily Log'!#REF!),0)","v":0},{"$f":"IFERROR($E92*SUMIF('Daily Log'!#REF!,$B92,'Daily Log'!#REF!),0)","v":0},{"$f":"IFERROR($E92*SUMIF('Daily Log'!#REF!,$B92,'Daily Log'!#REF!),0)","v":0}]
[null,"CF13 DARJEELING (H)",null,"SIDE ORDER-HOT BEVERAGE",1,0,{"$f":"IFERROR($E93*SUMIF('Daily Log'!$B$18:$B$1017,$B93,'Daily Log'!$C$18:$C$1017),0)","v":0},{"$f":"IFERROR($E93*SUMIF('Daily Log'!$E$18:$E$1017,$B93,'Daily Log'!$F$18:$F$1017),0)","v":0},{"$f":"IFERROR($E93*SUMIF('Daily Log'!$H$18:$H$1017,$B93,'Daily Log'!$I$18:$I$1017),0)","v":0},{"$f":"IFERROR($E93*SUMIF('Daily Log'!$K$18:$K$1017,$B93,'Daily Log'!$L$18:$L$1017),0)","v":0},{"$f":"IFERROR($E93*SUMIF('Daily Log'!$N$18:$N$1017,$B93,'Daily Log'!$O$18:$O$1017),0)","v":0},{"$f":"IFERROR($E93*SUMIF('Daily Log'!$Q$18:$Q$1017,$B93,'Daily Log'!$R$18:$R$1017),0)","v":0},{"$f":"IFERROR($E93*SUMIF('Daily Log'!$T$18:$T$1017,$B93,'Daily Log'!$U$18:$U$1017),0)","v":0},{"$f":"IFERROR($E93*SUMIF('Daily Log'!$W$18:$W$1017,$B93,'Daily Log'!$X$18:$X$1017),0)","v":0},{"$f":"IFERROR($E93*SUMIF('Daily Log'!$Z$18:$Z$1017,$B93,'Daily Log'!$AA$18:$AA$1017),0)","v":0},{"$f":"IFERROR($E93*SUMIF('Daily Log'!$AC$18:$AC$1017,$B93,'Daily Log'!$AD$18:$AD$1017),0)","v":0},{"$f":"IFERROR($E93*SUMIF('Daily Log'!$AF$18:$AF$1017,$B93,'Daily Log'!$AG$18:$AG$1017),0)","v":0},{"$f":"IFERROR($E93*SUMIF('Daily Log'!$AI$18:$AI$1017,$B93,'Daily Log'!$AJ$18:$AJ$1017),0)","v":0},{"$f":"IFERROR($E93*SUMIF('Daily Log'!#REF!,$B93,'Daily Log'!#REF!),0)","v":0},{"$f":"IFERROR($E93*SUMIF('Daily Log'!#REF!,$B93,'Daily Log'!#REF!),0)","v":0},{"$f":"IFERROR($E93*SUMIF('Daily Log'!#REF!,$B93,'Daily Log'!#REF!),0)","v":0},{"$f":"IFERROR($E93*SUMIF('Daily Log'!#REF!,$B93,'Daily Log'!#REF!),0)","v":0},{"$f":"IFERROR($E93*SUMIF('Daily Log'!#REF!,$B93,'Daily Log'!#REF!),0)","v":0},{"$f":"IFERROR($E93*SUMIF('Daily Log'!#REF!,$B93,'Daily Log'!#REF!),0)","v":0},{"$f":"IFERROR($E93*SUMIF('Daily Log'!#REF!,$B93,'Daily Log'!#REF!),0)","v":0},{"$f":"IFERROR($E93*SUMIF('Daily Log'!#REF!,$B93,'Daily Log'!#REF!),0)","v":0},{"$f":"IFERROR($E93*SUMIF('Daily Log'!#REF!,$B93,'Daily Log'!#REF!),0)","v":0},{"$f":"IFERROR($E93*SUMIF('Daily Log'!#REF!,$B93,'Daily Log'!#REF!),0)","v":0},{"$f":"IFERROR($E93*SUMIF('Daily Log'!#REF!,$B93,'Daily Log'!#REF!),0)","v":0},{"$f":"IFERROR($E93*SUMIF('Daily Log'!#REF!,$B93,'Daily Log'!#REF!),0)","v":0},{"$f":"IFERROR($E93*SUMIF('Daily Log'!#REF!,$B93,'Daily Log'!#REF!),0)","v":0},{"$f":"IFERROR($E93*SUMIF('Daily Log'!#REF!,$B93,'Daily Log'!#REF!),0)","v":0},{"$f":"IFERROR($E93*SUMIF('Daily Log'!#REF!,$B93,'Daily Log'!#REF!),0)","v":0},{"$f":"IFERROR($E93*SUMIF('Daily Log'!#REF!,$B93,'Daily Log'!#REF!),0)","v":0},{"$f":"IFERROR($E93*SUMIF('Daily Log'!#REF!,$B93,'Daily Log'!#REF!),0)","v":0},{"$f":"IFERROR($E93*SUMIF('Daily Log'!#REF!,$B93,'Daily Log'!#REF!),0)","v":0},{"$f":"IFERROR($E93*SUMIF('Daily Log'!#REF!,$B93,'Daily Log'!#REF!),0)","v":0}]
[null,"CF14 EARL GREY (H)",null,"SIDE ORDER-HOT BEVERAGE",1,{"$f":"SUM($G94:$AK94)","v":0},{"$f":"IFERROR($E94*SUMIF('Daily Log'!$B$18:$B$1017,$B94,'Daily Log'!$C$18:$C$1017),0)","v":0},{"$f":"IFERROR($E94*SUMIF('Daily Log'!$E$18:$E$1017,$B94,'Daily Log'!$F$18:$F$1017),0)","v":0},{"$f":"IFERROR($E94*SUMIF('Daily Log'!$H$18:$H$1017,$B94,'Daily Log'!$I$18:$I$1017),0)","v":0},{"$f":"IFERROR($E94*SUMIF('Daily Log'!$K$18:$K$1017,$B94,'Daily Log'!$L$18:$L$1017),0)","v":0},{"$f":"IFERROR($E94*SUMIF('Daily Log'!$N$18:$N$1017,$B94,'Daily Log'!$O$18:$O$1017),0)","v":0},{"$f":"IFERROR($E94*SUMIF('Daily Log'!$Q$18:$Q$1017,$B94,'Daily Log'!$R$18:$R$1017),0)","v":0},{"$f":"IFERROR($E94*SUMIF('Daily Log'!$T$18:$T$1017,$B94,'Daily Log'!$U$18:$U$1017),0)","v":0},{"$f":"IFERROR($E94*SUMIF('Daily Log'!$W$18:$W$1017,$B94,'Daily Log'!$X$18:$X$1017),0)","v":0},{"$f":"IFERROR($E94*SUMIF('Daily Log'!$Z$18:$Z$1017,$B94,'Daily Log'!$AA$18:$AA$1017),0)","v":0},{"$f":"IFERROR($E94*SUMIF('Daily Log'!$AC$18:$AC$1017,$B94,'Daily Log'!$AD$18:$AD$1017),0)","v":0},{"$f":"IFERROR($E94*SUMIF('Daily Log'!$AF$18:$AF$1017,$B94,'Daily Log'!$AG$18:$AG$1017),0)","v":0},{"$f":"IFERROR($E94*SUMIF('Daily Log'!$AI$18:$AI$1017,$B94,'Daily Log'!$AJ$18:$AJ$1017),0)","v":0},{"$f":"IFERROR($E94*SUMIF('Daily Log'!#REF!,$B94,'Daily Log'!#REF!),0)","v":0},{"$f":"IFERROR($E94*SUMIF('Daily Log'!#REF!,$B94,'Daily Log'!#REF!),0)","v":0},{"$f":"IFERROR($E94*SUMIF('Daily Log'!#REF!,$B94,'Daily Log'!#REF!),0)","v":0},{"$f":"IFERROR($E94*SUMIF('Daily Log'!#REF!,$B94,'Daily Log'!#REF!),0)","v":0},{"$f":"IFERROR($E94*SUMIF('Daily Log'!#REF!,$B94,'Daily Log'!#REF!),0)","v":0},{"$f":"IFERROR($E94*SUMIF('Daily Log'!#REF!,$B94,'Daily Log'!#REF!),0)","v":0},{"$f":"IFERROR($E94*SUMIF('Daily Log'!#REF!,$B94,'Daily Log'!#REF!),0)","v":0},{"$f":"IFERROR($E94*SUMIF('Daily Log'!#REF!,$B94,'Daily Log'!#REF!),0)","v":0},{"$f":"IFERROR($E94*SUMIF('Daily Log'!#REF!,$B94,'Daily Log'!#REF!),0)","v":0},{"$f":"IFERROR($E94*SUMIF('Daily Log'!#REF!,$B94,'Daily Log'!#REF!),0)","v":0},{"$f":"IFERROR($E94*SUMIF('Daily Log'!#REF!,$B94,'Daily Log'!#REF!),0)","v":0},{"$f":"IFERROR($E94*SUMIF('Daily Log'!#REF!,$B94,'Daily Log'!#REF!),0)","v":0},{"$f":"IFERROR($E94*SUMIF('Daily Log'!#REF!,$B94,'Daily Log'!#REF!),0)","v":0},{"$f":"IFERROR($E94*SUMIF('Daily Log'!#REF!,$B94,'Daily Log'!#REF!),0)","v":0},{"$f":"IFERROR($E94*SUMIF('Daily Log'!#REF!,$B94,'Daily Log'!#REF!),0)","v":0},{"$f":"IFERROR($E94*SUMIF('Daily Log'!#REF!,$B94,'Daily Log'!#REF!),0)","v":0},{"$f":"IFERROR($E94*SUMIF('Daily Log'!#REF!,$B94,'Daily Log'!#REF!),0)","v":0},{"$f":"IFERROR($E94*SUMIF('Daily Log'!#REF!,$B94,'Daily Log'!#REF!),0)","v":0},{"$f":"IFERROR($E94*SUMIF('Daily Log'!#REF!,$B94,'Daily Log'!#REF!),0)","v":0}]
[null,"CG01 MINERAL WATER",null,"MINERAL WATER ",1,1,{"$f":"IFERROR($E95*SUMIF('Daily Log'!$B$18:$B$1017,$B95,'Daily Log'!$C$18:$C$1017),0)","v":0},{"$f":"IFERROR($E95*SUMIF('Daily Log'!$E$18:$E$1017,$B95,'Daily Log'!$F$18:$F$1017),0)","v":0},{"$f":"IFERROR($E95*SUMIF('Daily Log'!$H$18:$H$1017,$B95,'Daily Log'!$I$18:$I$1017),0)","v":0},{"$f":"IFERROR($E95*SUMIF('Daily Log'!$K$18:$K$1017,$B95,'Daily Log'!$L$18:$L$1017),0)","v":0},{"$f":"IFERROR($E95*SUMIF('Daily Log'!$N$18:$N$1017,$B95,'Daily Log'!$O$18:$O$1017),0)","v":0},{"$f":"IFERROR($E95*SUMIF('Daily Log'!$Q$18:$Q$1017,$B95,'Daily Log'!$R$18:$R$1017),0)","v":0},{"$f":"IFERROR($E95*SUMIF('Daily Log'!$T$18:$T$1017,$B95,'Daily Log'!$U$18:$U$1017),0)","v":0},{"$f":"IFERROR($E95*SUMIF('Daily Log'!$W$18:$W$1017,$B95,'Daily Log'!$X$18:$X$1017),0)","v":0},{"$f":"IFERROR($E95*SUMIF('Daily Log'!$Z$18:$Z$1017,$B95,'Daily Log'!$AA$18:$AA$1017),0)","v":0},{"$f":"IFERROR($E95*SUMIF('Daily Log'!$AC$18:$AC$1017,$B95,'Daily Log'!$AD$18:$AD$1017),0)","v":0},{"$f":"IFERROR($E95*SUMIF('Daily Log'!$AF$18:$AF$1017,$B95,'Daily Log'!$AG$18:$AG$1017),0)","v":1},{"$f":"IFERROR($E95*SUMIF('Daily Log'!$AI$18:$AI$1017,$B95,'Daily Log'!$AJ$18:$AJ$1017),0)","v":0},{"$f":"IFERROR($E95*SUMIF('Daily Log'!#REF!,$B95,'Daily Log'!#REF!),0)","v":0},{"$f":"IFERROR($E95*SUMIF('Daily Log'!#REF!,$B95,'Daily Log'!#REF!),0)","v":0},{"$f":"IFERROR($E95*SUMIF('Daily Log'!#REF!,$B95,'Daily Log'!#REF!),0)","v":0},{"$f":"IFERROR($E95*SUMIF('Daily Log'!#REF!,$B95,'Daily Log'!#REF!),0)","v":0},{"$f":"IFERROR($E95*SUMIF('Daily Log'!#REF!,$B95,'Daily Log'!#REF!),0)","v":0},{"$f":"IFERROR($E95*SUMIF('Daily Log'!#REF!,$B95,'Daily Log'!#REF!),0)","v":0},{"$f":"IFERROR($E95*SUMIF('Daily Log'!#REF!,$B95,'Daily Log'!#REF!),0)","v":0},{"$f":"IFERROR($E95*SUMIF('Daily Log'!#REF!,$B95,'Daily Log'!#REF!),0)","v":0},{"$f":"IFERROR($E95*SUMIF('Daily Log'!#REF!,$B95,'Daily Log'!#REF!),0)","v":0},{"$f":"IFERROR($E95*SUMIF('Daily Log'!#REF!,$B95,'Daily Log'!#REF!),0)","v":0},{"$f":"IFERROR($E95*SUMIF('Daily Log'!#REF!,$B95,'Daily Log'!#REF!),0)","v":0},{"$f":"IFERROR($E95*SUMIF('Daily Log'!#REF!,$B95,'Daily Log'!#REF!),0)","v":0},{"$f":"IFERROR($E95*SUMIF('Daily Log'!#REF!,$B95,'Daily Log'!#REF!),0)","v":0},{"$f":"IFERROR($E95*SUMIF('Daily Log'!#REF!,$B95,'Daily Log'!#REF!),0)","v":0},{"$f":"IFERROR($E95*SUMIF('Daily Log'!#REF!,$B95,'Daily Log'!#REF!),0)","v":0},{"$f":"IFERROR($E95*SUMIF('Daily Log'!#REF!,$B95,'Daily Log'!#REF!),0)","v":0},{"$f":"IFERROR($E95*SUMIF('Daily Log'!#REF!,$B95,'Daily Log'!#REF!),0)","v":0},{"$f":"IFERROR($E95*SUMIF('Daily Log'!#REF!,$B95,'Daily Log'!#REF!),0)","v":0},{"$f":"IFERROR($E95*SUMIF('Daily Log'!#REF!,$B95,'Daily Log'!#REF!),0)","v":0}]
[null,"CH01 7 UP JUG",null,"JUG",1,0,{"$f":"IFERROR($E96*SUMIF('Daily Log'!$B$18:$B$1017,$B96,'Daily Log'!$C$18:$C$1017),0)","v":0},{"$f":"IFERROR($E96*SUMIF('Daily Log'!$E$18:$E$1017,$B96,'Daily Log'!$F$18:$F$1017),0)","v":0},{"$f":"IFERROR($E96*SUMIF('Daily Log'!$H$18:$H$1017,$B96,'Daily Log'!$I$18:$I$1017),0)","v":0},{"$f":"IFERROR($E96*SUMIF('Daily Log'!$K$18:$K$1017,$B96,'Daily Log'!$L$18:$L$1017),0)","v":0},{"$f":"IFERROR($E96*SUMIF('Daily Log'!$N$18:$N$1017,$B96,'Daily Log'!$O$18:$O$1017),0)","v":0},{"$f":"IFERROR($E96*SUMIF('Daily Log'!$Q$18:$Q$1017,$B96,'Daily Log'!$R$18:$R$1017),0)","v":0},{"$f":"IFERROR($E96*SUMIF('Daily Log'!$T$18:$T$1017,$B96,'Daily Log'!$U$18:$U$1017),0)","v":0},{"$f":"IFERROR($E96*SUMIF('Daily Log'!$W$18:$W$1017,$B96,'Daily Log'!$X$18:$X$1017),0)","v":0},{"$f":"IFERROR($E96*SUMIF('Daily Log'!$Z$18:$Z$1017,$B96,'Daily Log'!$AA$18:$AA$1017),0)","v":0},{"$f":"IFERROR($E96*SUMIF('Daily Log'!$AC$18:$AC$1017,$B96,'Daily Log'!$AD$18:$AD$1017),0)","v":0},{"$f":"IFERROR($E96*SUMIF('Daily Log'!$AF$18:$AF$1017,$B96,'Daily Log'!$AG$18:$AG$1017),0)","v":0},{"$f":"IFERROR($E96*SUMIF('Daily Log'!$AI$18:$AI$1017,$B96,'Daily Log'!$AJ$18:$AJ$1017),0)","v":0},{"$f":"IFERROR($E96*SUMIF('Daily Log'!#REF!,$B96,'Daily Log'!#REF!),0)","v":0},{"$f":"IFERROR($E96*SUMIF('Daily Log'!#REF!,$B96,'Daily Log'!#REF!),0)","v":0},{"$f":"IFERROR($E96*SUMIF('Daily Log'!#REF!,$B96,'Daily Log'!#REF!),0)","v":0},{"$f":"IFERROR($E96*SUMIF('Daily Log'!#REF!,$B96,'Daily Log'!#REF!),0)","v":0},{"$f":"IFERROR($E96*SUMIF('Daily Log'!#REF!,$B96,'Daily Log'!#REF!),0)","v":0},{"$f":"IFERROR($E96*SUMIF('Daily Log'!#REF!,$B96,'Daily Log'!#REF!),0)","v":0},{"$f":"IFERROR($E96*SUMIF('Daily Log'!#REF!,$B96,'Daily Log'!#REF!),0)","v":0},{"$f":"IFERROR($E96*SUMIF('Daily Log'!#REF!,$B96,'Daily Log'!#REF!),0)","v":0},{"$f":"IFERROR($E96*SUMIF('Daily Log'!#REF!,$B96,'Daily Log'!#REF!),0)","v":0},{"$f":"IFERROR($E96*SUMIF('Daily Log'!#REF!,$B96,'Daily Log'!#REF!),0)","v":0},{"$f":"IFERROR($E96*SUMIF('Daily Log'!#REF!,$B96,'Daily Log'!#REF!),0)","v":0},{"$f":"IFERROR($E96*SUMIF('Daily Log'!#REF!,$B96,'Daily Log'!#REF!),0)","v":0},{"$f":"IFERROR($E96*SUMIF('Daily Log'!#REF!,$B96,'Daily Log'!#REF!),0)","v":0},{"$f":"IFERROR($E96*SUMIF('Daily Log'!#REF!,$B96,'Daily Log'!#REF!),0)","v":0},{"$f":"IFERROR($E96*SUMIF('Daily Log'!#REF!,$B96,'Daily Log'!#REF!),0)","v":0},{"$f":"IFERROR($E96*SUMIF('Daily Log'!#REF!,$B96,'Daily Log'!#REF!),0)","v":0},{"$f":"IFERROR($E96*SUMIF('Daily Log'!#REF!,$B96,'Daily Log'!#REF!),0)","v":0},{"$f":"IFERROR($E96*SUMIF('Daily Log'!#REF!,$B96,'Daily Log'!#REF!),0)","v":0},{"$f":"IFERROR($E96*SUMIF('Daily Log'!#REF!,$B96,'Daily Log'!#REF!),0)","v":0}]
[null,"CH02 GRN TEA JUG",null,"JUG",1,0,{"$f":"IFERROR($E97*SUMIF('Daily Log'!$B$18:$B$1017,$B97,'Daily Log'!$C$18:$C$1017),0)","v":0},{"$f":"IFERROR($E97*SUMIF('Daily Log'!$E$18:$E$1017,$B97,'Daily Log'!$F$18:$F$1017),0)","v":0},{"$f":"IFERROR($E97*SUMIF('Daily Log'!$H$18:$H$1017,$B97,'Daily Log'!$I$18:$I$1017),0)","v":0},{"$f":"IFERROR($E97*SUMIF('Daily Log'!$K$18:$K$1017,$B97,'Daily Log'!$L$18:$L$1017),0)","v":0},{"$f":"IFERROR($E97*SUMIF('Daily Log'!$N$18:$N$1017,$B97,'Daily Log'!$O$18:$O$1017),0)","v":0},{"$f":"IFERROR($E97*SUMIF('Daily Log'!$Q$18:$Q$1017,$B97,'Daily Log'!$R$18:$R$1017),0)","v":0},{"$f":"IFERROR($E97*SUMIF('Daily Log'!$T$18:$T$1017,$B97,'Daily Log'!$U$18:$U$1017),0)","v":0},{"$f":"IFERROR($E97*SUMIF('Daily Log'!$W$18:$W$1017,$B97,'Daily Log'!$X$18:$X$1017),0)","v":0},{"$f":"IFERROR($E97*SUMIF('Daily Log'!$Z$18:$Z$1017,$B97,'Daily Log'!$AA$18:$AA$1017),0)","v":0},{"$f":"IFERROR($E97*SUMIF('Daily Log'!$AC$18:$AC$1017,$B97,'Daily Log'!$AD$18:$AD$1017),0)","v":0},{"$f":"IFERROR($E97*SUMIF('Daily Log'!$AF$18:$AF$1017,$B97,'Daily Log'!$AG$18:$AG$1017),0)","v":0},{"$f":"IFERROR($E97*SUMIF('Daily Log'!$AI$18:$AI$1017,$B97,'Daily Log'!$AJ$18:$AJ$1017),0)","v":0},{"$f":"IFERROR($E97*SUMIF('Daily Log'!#REF!,$B97,'Daily Log'!#REF!),0)","v":0},{"$f":"IFERROR($E97*SUMIF('Daily Log'!#REF!,$B97,'Daily Log'!#REF!),0)","v":0},{"$f":"IFERROR($E97*SUMIF('Daily Log'!#REF!,$B97,'Daily Log'!#REF!),0)","v":0},{"$f":"IFERROR($E97*SUMIF('Daily Log'!#REF!,$B97,'Daily Log'!#REF!),0)","v":0},{"$f":"IFERROR($E97*SUMIF('Daily Log'!#REF!,$B97,'Daily Log'!#REF!),0)","v":0},{"$f":"IFERROR($E97*SUMIF('Daily Log'!#REF!,$B97,'Daily Log'!#REF!),0)","v":0},{"$f":"IFERROR($E97*SUMIF('Daily Log'!#REF!,$B97,'Daily Log'!#REF!),0)","v":0},{"$f":"IFERROR($E97*SUMIF('Daily Log'!#REF!,$B97,'Daily Log'!#REF!),0)","v":0},{"$f":"IFERROR($E97*SUMIF('Daily Log'!#REF!,$B97,'Daily Log'!#REF!),0)","v":0},{"$f":"IFERROR($E97*SUMIF('Daily Log'!#REF!,$B97,'Daily Log'!#REF!),0)","v":0},{"$f":"IFERROR($E97*SUMIF('Daily Log'!#REF!,$B97,'Daily Log'!#REF!),0)","v":0},{"$f":"IFERROR($E97*SUMIF('Daily Log'!#REF!,$B97,'Daily Log'!#REF!),0)","v":0},{"$f":"IFERROR($E97*SUMIF('Daily Log'!#REF!,$B97,'Daily Log'!#REF!),0)","v":0},{"$f":"IFERROR($E97*SUMIF('Daily Log'!#REF!,$B97,'Daily Log'!#REF!),0)","v":0},{"$f":"IFERROR($E97*SUMIF('Daily Log'!#REF!,$B97,'Daily Log'!#REF!),0)","v":0},{"$f":"IFERROR($E97*SUMIF('Daily Log'!#REF!,$B97,'Daily Log'!#REF!),0)","v":0},{"$f":"IFERROR($E97*SUMIF('Daily Log'!#REF!,$B97,'Daily Log'!#REF!),0)","v":0},{"$f":"IFERROR($E97*SUMIF('Daily Log'!#REF!,$B97,'Daily Log'!#REF!),0)","v":0},{"$f":"IFERROR($E97*SUMIF('Daily Log'!#REF!,$B97,'Daily Log'!#REF!),0)","v":0}]
[null,"CH03 PEPSI JUG",null,"JUG",1,0,{"$f":"IFERROR($E98*SUMIF('Daily Log'!$B$18:$B$1017,$B98,'Daily Log'!$C$18:$C$1017),0)","v":0},{"$f":"IFERROR($E98*SUMIF('Daily Log'!$E$18:$E$1017,$B98,'Daily Log'!$F$18:$F$1017),0)","v":0},{"$f":"IFERROR($E98*SUMIF('Daily Log'!$H$18:$H$1017,$B98,'Daily Log'!$I$18:$I$1017),0)","v":0},{"$f":"IFERROR($E98*SUMIF('Daily Log'!$K$18:$K$1017,$B98,'Daily Log'!$L$18:$L$1017),0)","v":0},{"$f":"IFERROR($E98*SUMIF('Daily Log'!$N$18:$N$1017,$B98,'Daily Log'!$O$18:$O$1017),0)","v":0},{"$f":"IFERROR($E98*SUMIF('Daily Log'!$Q$18:$Q$1017,$B98,'Daily Log'!$R$18:$R$1017),0)","v":0},{"$f":"IFERROR($E98*SUMIF('Daily Log'!$T$18:$T$1017,$B98,'Daily Log'!$U$18:$U$1017),0)","v":0},{"$f":"IFERROR($E98*SUMIF('Daily Log'!$W$18:$W$1017,$B98,'Daily Log'!$X$18:$X$1017),0)","v":0},{"$f":"IFERROR($E98*SUMIF('Daily Log'!$Z$18:$Z$1017,$B98,'Daily Log'!$AA$18:$AA$1017),0)","v":0},{"$f":"IFERROR($E98*SUMIF('Daily Log'!$AC$18:$AC$1017,$B98,'Daily Log'!$AD$18:$AD$1017),0)","v":0},{"$f":"IFERROR($E98*SUMIF('Daily Log'!$AF$18:$AF$1017,$B98,'Daily Log'!$AG$18:$AG$1017),0)","v":0},{"$f":"IFERROR($E98*SUMIF('Daily Log'!$AI$18:$AI$1017,$B98,'Daily Log'!$AJ$18:$AJ$1017),0)","v":0},{"$f":"IFERROR($E98*SUMIF('Daily Log'!#REF!,$B98,'Daily Log'!#REF!),0)","v":0},{"$f":"IFERROR($E98*SUMIF('Daily Log'!#REF!,$B98,'Daily Log'!#REF!),0)","v":0},{"$f":"IFERROR($E98*SUMIF('Daily Log'!#REF!,$B98,'Daily Log'!#REF!),0)","v":0},{"$f":"IFERROR($E98*SUMIF('Daily Log'!#REF!,$B98,'Daily Log'!#REF!),0)","v":0},{"$f":"IFERROR($E98*SUMIF('Daily Log'!#REF!,$B98,'Daily Log'!#REF!),0)","v":0},{"$f":"IFERROR($E98*SUMIF('Daily Log'!#REF!,$B98,'Daily Log'!#REF!),0)","v":0},{"$f":"IFERROR($E98*SUMIF('Daily Log'!#REF!,$B98,'Daily Log'!#REF!),0)","v":0},{"$f":"IFERROR($E98*SUMIF('Daily Log'!#REF!,$B98,'Daily Log'!#REF!),0)","v":0},{"$f":"IFERROR($E98*SUMIF('Daily Log'!#REF!,$B98,'Daily Log'!#REF!),0)","v":0},{"$f":"IFERROR($E98*SUMIF('Daily Log'!#REF!,$B98,'Daily Log'!#REF!),0)","v":0},{"$f":"IFERROR($E98*SUMIF('Daily Log'!#REF!,$B98,'Daily Log'!#REF!),0)","v":0},{"$f":"IFERROR($E98*SUMIF('Daily Log'!#REF!,$B98,'Daily Log'!#REF!),0)","v":0},{"$f":"IFERROR($E98*SUMIF('Daily Log'!#REF!,$B98,'Daily Log'!#REF!),0)","v":0},{"$f":"IFERROR($E98*SUMIF('Daily Log'!#REF!,$B98,'Daily Log'!#REF!),0)","v":0},{"$f":"IFERROR($E98*SUMIF('Daily Log'!#REF!,$B98,'Daily Log'!#REF!),0)","v":0},{"$f":"IFERROR($E98*SUMIF('Daily Log'!#REF!,$B98,'Daily Log'!#REF!),0)","v":0},{"$f":"IFERROR($E98*SUMIF('Daily Log'!#REF!,$B98,'Daily Log'!#REF!),0)","v":0},{"$f":"IFERROR($E98*SUMIF('Daily Log'!#REF!,$B98,'Daily Log'!#REF!),0)","v":0},{"$f":"IFERROR($E98*SUMIF('Daily Log'!#REF!,$B98,'Daily Log'!#REF!),0)","v":0}]
[null,"CH04 RIBENA JUG",null,"JUG",1,0,{"$f":"IFERROR($E99*SUMIF('Daily Log'!$B$18:$B$1017,$B99,'Daily Log'!$C$18:$C$1017),0)","v":0},{"$f":"IFERROR($E99*SUMIF('Daily Log'!$E$18:$E$1017,$B99,'Daily Log'!$F$18:$F$1017),0)","v":0},{"$f":"IFERROR($E99*SUMIF('Daily Log'!$H$18:$H$1017,$B99,'Daily Log'!$I$18:$I$1017),0)","v":0},{"$f":"IFERROR($E99*SUMIF('Daily Log'!$K$18:$K$1017,$B99,'Daily Log'!$L$18:$L$1017),0)","v":0},{"$f":"IFERROR($E99*SUMIF('Daily Log'!$N$18:$N$1017,$B99,'Daily Log'!$O$18:$O$1017),0)","v":0},{"$f":"IFERROR($E99*SUMIF('Daily Log'!$Q$18:$Q$1017,$B99,'Daily Log'!$R$18:$R$1017),0)","v":0},{"$f":"IFERROR($E99*SUMIF('Daily Log'!$T$18:$T$1017,$B99,'Daily Log'!$U$18:$U$1017),0)","v":0},{"$f":"IFERROR($E99*SUMIF('Daily Log'!$W$18:$W$1017,$B99,'Daily Log'!$X$18:$X$1017),0)","v":0},{"$f":"IFERROR($E99*SUMIF('Daily Log'!$Z$18:$Z$1017,$B99,'Daily Log'!$AA$18:$AA$1017),0)","v":0},{"$f":"IFERROR($E99*SUMIF('Daily Log'!$AC$18:$AC$1017,$B99,'Daily Log'!$AD$18:$AD$1017),0)","v":0},{"$f":"IFERROR($E99*SUMIF('Daily Log'!$AF$18:$AF$1017,$B99,'Daily Log'!$AG$18:$AG$1017),0)","v":0},{"$f":"IFERROR($E99*SUMIF('Daily Log'!$AI$18:$AI$1017,$B99,'Daily Log'!$AJ$18:$AJ$1017),0)","v":0},{"$f":"IFERROR($E99*SUMIF('Daily Log'!#REF!,$B99,'Daily Log'!#REF!),0)","v":0},{"$f":"IFERROR($E99*SUMIF('Daily Log'!#REF!,$B99,'Daily Log'!#REF!),0)","v":0},{"$f":"IFERROR($E99*SUMIF('Daily Log'!#REF!,$B99,'Daily Log'!#REF!),0)","v":0},{"$f":"IFERROR($E99*SUMIF('Daily Log'!#REF!,$B99,'Daily Log'!#REF!),0)","v":0},{"$f":"IFERROR($E99*SUMIF('Daily Log'!#REF!,$B99,'Daily Log'!#REF!),0)","v":0},{"$f":"IFERROR($E99*SUMIF('Daily Log'!#REF!,$B99,'Daily Log'!#REF!),0)","v":0},{"$f":"IFERROR($E99*SUMIF('Daily Log'!#REF!,$B99,'Daily Log'!#REF!),0)","v":0},{"$f":"IFERROR($E99*SUMIF('Daily Log'!#REF!,$B99,'Daily Log'!#REF!),0)","v":0},{"$f":"IFERROR($E99*SUMIF('Daily Log'!#REF!,$B99,'Daily Log'!#REF!),0)","v":0},{"$f":"IFERROR($E99*SUMIF('Daily Log'!#REF!,$B99,'Daily Log'!#REF!),0)","v":0},{"$f":"IFERROR($E99*SUMIF('Daily Log'!#REF!,$B99,'Daily Log'!#REF!),0)","v":0},{"$f":"IFERROR($E99*SUMIF('Daily Log'!#REF!,$B99,'Daily Log'!#REF!),0)","v":0},{"$f":"IFERROR($E99*SUMIF('Daily Log'!#REF!,$B99,'Daily Log'!#REF!),0)","v":0},{"$f":"IFERROR($E99*SUMIF('Daily Log'!#REF!,$B99,'Daily Log'!#REF!),0)","v":0},{"$f":"IFERROR($E99*SUMIF('Daily Log'!#REF!,$B99,'Daily Log'!#REF!),0)","v":0},{"$f":"IFERROR($E99*SUMIF('Daily Log'!#REF!,$B99,'Daily Log'!#REF!),0)","v":0},{"$f":"IFERROR($E99*SUMIF('Daily Log'!#REF!,$B99,'Daily Log'!#REF!),0)","v":0},{"$f":"IFERROR($E99*SUMIF('Daily Log'!#REF!,$B99,'Daily Log'!#REF!),0)","v":0},{"$f":"IFERROR($E99*SUMIF('Daily Log'!#REF!,$B99,'Daily Log'!#REF!),0)","v":0}]
[null,"CI01 GRAPE J",null,"FFD-JUICE",1,102,{"$f":"IFERROR($E100*SUMIF('Daily Log'!$B$18:$B$1017,$B100,'Daily Log'!$C$18:$C$1017),0)","v":0},{"$f":"IFERROR($E100*SUMIF('Daily Log'!$E$18:$E$1017,$B100,'Daily Log'!$F$18:$F$1017),0)","v":0},{"$f":"IFERROR($E100*SUMIF('Daily Log'!$H$18:$H$1017,$B100,'Daily Log'!$I$18:$I$1017),0)","v":0},{"$f":"IFERROR($E100*SUMIF('Daily Log'!$K$18:$K$1017,$B100,'Daily Log'!$L$18:$L$1017),0)","v":0},{"$f":"IFERROR($E100*SUMIF('Daily Log'!$N$18:$N$1017,$B100,'Daily Log'!$O$18:$O$1017),0)","v":0},{"$f":"IFERROR($E100*SUMIF('Daily Log'!$Q$18:$Q$1017,$B100,'Daily Log'!$R$18:$R$1017),0)","v":11},{"$f":"IFERROR($E100*SUMIF('Daily Log'!$T$18:$T$1017,$B100,'Daily Log'!$U$18:$U$1017),0)","v":11},{"$f":"IFERROR($E100*SUMIF('Daily Log'!$W$18:$W$1017,$B100,'Daily Log'!$X$18:$X$1017),0)","v":10},{"$f":"IFERROR($E100*SUMIF('Daily Log'!$Z$18:$Z$1017,$B100,'Daily Log'!$AA$18:$AA$1017),0)","v":11},{"$f":"IFERROR($E100*SUMIF('Daily Log'!$AC$18:$AC$1017,$B100,'Daily Log'!$AD$18:$AD$1017),0)","v":25},{"$f":"IFERROR($E100*SUMIF('Daily Log'!$AF$18:$AF$1017,$B100,'Daily Log'!$AG$18:$AG$1017),0)","v":19},{"$f":"IFERROR($E100*SUMIF('Daily Log'!$AI$18:$AI$1017,$B100,'Daily Log'!$AJ$18:$AJ$1017),0)","v":15},{"$f":"IFERROR($E100*SUMIF('Daily Log'!#REF!,$B100,'Daily Log'!#REF!),0)","v":0},{"$f":"IFERROR($E100*SUMIF('Daily Log'!#REF!,$B100,'Daily Log'!#REF!),0)","v":0},{"$f":"IFERROR($E100*SUMIF('Daily Log'!#REF!,$B100,'Daily Log'!#REF!),0)","v":0},{"$f":"IFERROR($E100*SUMIF('Daily Log'!#REF!,$B100,'Daily Log'!#REF!),0)","v":0},{"$f":"IFERROR($E100*SUMIF('Daily Log'!#REF!,$B100,'Daily Log'!#REF!),0)","v":0},{"$f":"IFERROR($E100*SUMIF('Daily Log'!#REF!,$B100,'Daily Log'!#REF!),0)","v":0},{"$f":"IFERROR($E100*SUMIF('Daily Log'!#REF!,$B100,'Daily Log'!#REF!),0)","v":0},{"$f":"IFERROR($E100*SUMIF('Daily Log'!#REF!,$B100,'Daily Log'!#REF!),0)","v":0},{"$f":"IFERROR($E100*SUMIF('Daily Log'!#REF!,$B100,'Daily Log'!#REF!),0)","v":0},{"$f":"IFERROR($E100*SUMIF('Daily Log'!#REF!,$B100,'Daily Log'!#REF!),0)","v":0},{"$f":"IFERROR($E100*SUMIF('Daily Log'!#REF!,$B100,'Daily Log'!#REF!),0)","v":0},{"$f":"IFERROR($E100*SUMIF('Daily Log'!#REF!,$B100,'Daily Log'!#REF!),0)","v":0},{"$f":"IFERROR($E100*SUMIF('Daily Log'!#REF!,$B100,'Daily Log'!#REF!),0)","v":0},{"$f":"IFERROR($E100*SUMIF('Daily Log'!#REF!,$B100,'Daily Log'!#REF!),0)","v":0},{"$f":"IFERROR($E100*SUMIF('Daily Log'!#REF!,$B100,'Daily Log'!#REF!),0)","v":0},{"$f":"IFERROR($E100*SUMIF('Daily Log'!#REF!,$B100,'Daily Log'!#REF!),0)","v":0},{"$f":"IFERROR($E100*SUMIF('Daily Log'!#REF!,$B100,'Daily Log'!#REF!),0)","v":0},{"$f":"IFERROR($E100*SUMIF('Daily Log'!#REF!,$B100,'Daily Log'!#REF!),0)","v":0},{"$f":"IFERROR($E100*SUMIF('Daily Log'!#REF!,$B100,'Daily Log'!#REF!),0)","v":0}]
[null,"CI02 APPLE J",null,"FFD-JUICE",1,123,{"$f":"IFERROR($E101*SUMIF('Daily Log'!$B$18:$B$1017,$B101,'Daily Log'!$C$18:$C$1017),0)","v":0},{"$f":"IFERROR($E101*SUMIF('Daily Log'!$E$18:$E$1017,$B101,'Daily Log'!$F$18:$F$1017),0)","v":0},{"$f":"IFERROR($E101*SUMIF('Daily Log'!$H$18:$H$1017,$B101,'Daily Log'!$I$18:$I$1017),0)","v":0},{"$f":"IFERROR($E101*SUMIF('Daily Log'!$K$18:$K$1017,$B101,'Daily Log'!$L$18:$L$1017),0)","v":0},{"$f":"IFERROR($E101*SUMIF('Daily Log'!$N$18:$N$1017,$B101,'Daily Log'!$O$18:$O$1017),0)","v":0},{"$f":"IFERROR($E101*SUMIF('Daily Log'!$Q$18:$Q$1017,$B101,'Daily Log'!$R$18:$R$1017),0)","v":11},{"$f":"IFERROR($E101*SUMIF('Daily Log'!$T$18:$T$1017,$B101,'Daily Log'!$U$18:$U$1017),0)","v":10},{"$f":"IFERROR($E101*SUMIF('Daily Log'!$W$18:$W$1017,$B101,'Daily Log'!$X$18:$X$1017),0)","v":6},{"$f":"IFERROR($E101*SUMIF('Daily Log'!$Z$18:$Z$1017,$B101,'Daily Log'!$AA$18:$AA$1017),0)","v":24},{"$f":"IFERROR($E101*SUMIF('Daily Log'!$AC$18:$AC$1017,$B101,'Daily Log'!$AD$18:$AD$1017),0)","v":20},{"$f":"IFERROR($E101*SUMIF('Daily Log'!$AF$18:$AF$1017,$B101,'Daily Log'!$AG$18:$AG$1017),0)","v":30},{"$f":"IFERROR($E101*SUMIF('Daily Log'!$AI$18:$AI$1017,$B101,'Daily Log'!$AJ$18:$AJ$1017),0)","v":22},{"$f":"IFERROR($E101*SUMIF('Daily Log'!#REF!,$B101,'Daily Log'!#REF!),0)","v":0},{"$f":"IFERROR($E101*SUMIF('Daily Log'!#REF!,$B101,'Daily Log'!#REF!),0)","v":0},{"$f":"IFERROR($E101*SUMIF('Daily Log'!#REF!,$B101,'Daily Log'!#REF!),0)","v":0},{"$f":"IFERROR($E101*SUMIF('Daily Log'!#REF!,$B101,'Daily Log'!#REF!),0)","v":0},{"$f":"IFERROR($E101*SUMIF('Daily Log'!#REF!,$B101,'Daily Log'!#REF!),0)","v":0},{"$f":"IFERROR($E101*SUMIF('Daily Log'!#REF!,$B101,'Daily Log'!#REF!),0)","v":0},{"$f":"IFERROR($E101*SUMIF('Daily Log'!#REF!,$B101,'Daily Log'!#REF!),0)","v":0},{"$f":"IFERROR($E101*SUMIF('Daily Log'!#REF!,$B101,'Daily Log'!#REF!),0)","v":0},{"$f":"IFERROR($E101*SUMIF('Daily Log'!#REF!,$B101,'Daily Log'!#REF!),0)","v":0},{"$f":"IFERROR($E101*SUMIF('Daily Log'!#REF!,$B101,'Daily Log'!#REF!),0)","v":0},{"$f":"IFERROR($E101*SUMIF('Daily Log'!#REF!,$B101,'Daily Log'!#REF!),0)","v":0},{"$f":"IFERROR($E101*SUMIF('Daily Log'!#REF!,$B101,'Daily Log'!#REF!),0)","v":0},{"$f":"IFERROR($E101*SUMIF('Daily Log'!#REF!,$B101,'Daily Log'!#REF!),0)","v":0},{"$f":"IFERROR($E101*SUMIF('Daily Log'!#REF!,$B101,'Daily Log'!#REF!),0)","v":0},{"$f":"IFERROR($E101*SUMIF('Daily Log'!#REF!,$B101,'Daily Log'!#REF!),0)","v":0},{"$f":"IFERROR($E101*SUMIF('Daily Log'!#REF!,$B101,'Daily Log'!#REF!),0)","v":0},{"$f":"IFERROR($E101*SUMIF('Daily Log'!#REF!,$B101,'Daily Log'!#REF!),0)","v":0},{"$f":"IFERROR($E101*SUMIF('Daily Log'!#REF!,$B101,'Daily Log'!#REF!),0)","v":0},{"$f":"IFERROR($E101*SUMIF('Daily Log'!#REF!,$B101,'Daily Log'!#REF!),0)","v":0}]
[null,"CI03 KIWI J",null,"FFD-JUICE",1,0,{"$f":"IFERROR($E102*SUMIF('Daily Log'!$B$18:$B$1017,$B102,'Daily Log'!$C$18:$C$1017),0)","v":0},{"$f":"IFERROR($E102*SUMIF('Daily Log'!$E$18:$E$1017,$B102,'Daily Log'!$F$18:$F$1017),0)","v":0},{"$f":"IFERROR($E102*SUMIF('Daily Log'!$H$18:$H$1017,$B102,'Daily Log'!$I$18:$I$1017),0)","v":0},{"$f":"IFERROR($E102*SUMIF('Daily Log'!$K$18:$K$1017,$B102,'Daily Log'!$L$18:$L$1017),0)","v":0},{"$f":"IFERROR($E102*SUMIF('Daily Log'!$N$18:$N$1017,$B102,'Daily Log'!$O$18:$O$1017),0)","v":0},{"$f":"IFERROR($E102*SUMIF('Daily Log'!$Q$18:$Q$1017,$B102,'Daily Log'!$R$18:$R$1017),0)","v":0},{"$f":"IFERROR($E102*SUMIF('Daily Log'!$T$18:$T$1017,$B102,'Daily Log'!$U$18:$U$1017),0)","v":0},{"$f":"IFERROR($E102*SUMIF('Daily Log'!$W$18:$W$1017,$B102,'Daily Log'!$X$18:$X$1017),0)","v":0},{"$f":"IFERROR($E102*SUMIF('Daily Log'!$Z$18:$Z$1017,$B102,'Daily Log'!$AA$18:$AA$1017),0)","v":0},{"$f":"IFERROR($E102*SUMIF('Daily Log'!$AC$18:$AC$1017,$B102,'Daily Log'!$AD$18:$AD$1017),0)","v":0},{"$f":"IFERROR($E102*SUMIF('Daily Log'!$AF$18:$AF$1017,$B102,'Daily Log'!$AG$18:$AG$1017),0)","v":0},{"$f":"IFERROR($E102*SUMIF('Daily Log'!$AI$18:$AI$1017,$B102,'Daily Log'!$AJ$18:$AJ$1017),0)","v":0},{"$f":"IFERROR($E102*SUMIF('Daily Log'!#REF!,$B102,'Daily Log'!#REF!),0)","v":0},{"$f":"IFERROR($E102*SUMIF('Daily Log'!#REF!,$B102,'Daily Log'!#REF!),0)","v":0},{"$f":"IFERROR($E102*SUMIF('Daily Log'!#REF!,$B102,'Daily Log'!#REF!),0)","v":0},{"$f":"IFERROR($E102*SUMIF('Daily Log'!#REF!,$B102,'Daily Log'!#REF!),0)","v":0},{"$f":"IFERROR($E102*SUMIF('Daily Log'!#REF!,$B102,'Daily Log'!#REF!),0)","v":0},{"$f":"IFERROR($E102*SUMIF('Daily Log'!#REF!,$B102,'Daily Log'!#REF!),0)","v":0},{"$f":"IFERROR($E102*SUMIF('Daily Log'!#REF!,$B102,'Daily Log'!#REF!),0)","v":0},{"$f":"IFERROR($E102*SUMIF('Daily Log'!#REF!,$B102,'Daily Log'!#REF!),0)","v":0},{"$f":"IFERROR($E102*SUMIF('Daily Log'!#REF!,$B102,'Daily Log'!#REF!),0)","v":0},{"$f":"IFERROR($E102*SUMIF('Daily Log'!#REF!,$B102,'Daily Log'!#REF!),0)","v":0},{"$f":"IFERROR($E102*SUMIF('Daily Log'!#REF!,$B102,'Daily Log'!#REF!),0)","v":0},{"$f":"IFERROR($E102*SUMIF('Daily Log'!#REF!,$B102,'Daily Log'!#REF!),0)","v":0},{"$f":"IFERROR($E102*SUMIF('Daily Log'!#REF!,$B102,'Daily Log'!#REF!),0)","v":0},{"$f":"IFERROR($E102*SUMIF('Daily Log'!#REF!,$B102,'Daily Log'!#REF!),0)","v":0},{"$f":"IFERROR($E102*SUMIF('Daily Log'!#REF!,$B102,'Daily Log'!#REF!),0)","v":0},{"$f":"IFERROR($E102*SUMIF('Daily Log'!#REF!,$B102,'Daily Log'!#REF!),0)","v":0},{"$f":"IFERROR($E102*SUMIF('Daily Log'!#REF!,$B102,'Daily Log'!#REF!),0)","v":0},{"$f":"IFERROR($E102*SUMIF('Daily Log'!#REF!,$B102,'Daily Log'!#REF!),0)","v":0},{"$f":"IFERROR($E102*SUMIF('Daily Log'!#REF!,$B102,'Daily Log'!#REF!),0)","v":0}]
[null,"CI04 MANGO J",null,"FFD-JUICE",1,94,{"$f":"IFERROR($E103*SUMIF('Daily Log'!$B$18:$B$1017,$B103,'Daily Log'!$C$18:$C$1017),0)","v":0},{"$f":"IFERROR($E103*SUMIF('Daily Log'!$E$18:$E$1017,$B103,'Daily Log'!$F$18:$F$1017),0)","v":0},{"$f":"IFERROR($E103*SUMIF('Daily Log'!$H$18:$H$1017,$B103,'Daily Log'!$I$18:$I$1017),0)","v":0},{"$f":"IFERROR($E103*SUMIF('Daily Log'!$K$18:$K$1017,$B103,'Daily Log'!$L$18:$L$1017),0)","v":0},{"$f":"IFERROR($E103*SUMIF('Daily Log'!$N$18:$N$1017,$B103,'Daily Log'!$O$18:$O$1017),0)","v":0},{"$f":"IFERROR($E103*SUMIF('Daily Log'!$Q$18:$Q$1017,$B103,'Daily Log'!$R$18:$R$1017),0)","v":12},{"$f":"IFERROR($E103*SUMIF('Daily Log'!$T$18:$T$1017,$B103,'Daily Log'!$U$18:$U$1017),0)","v":8},{"$f":"IFERROR($E103*SUMIF('Daily Log'!$W$18:$W$1017,$B103,'Daily Log'!$X$18:$X$1017),0)","v":9},{"$f":"IFERROR($E103*SUMIF('Daily Log'!$Z$18:$Z$1017,$B103,'Daily Log'!$AA$18:$AA$1017),0)","v":10},{"$f":"IFERROR($E103*SUMIF('Daily Log'!$AC$18:$AC$1017,$B103,'Daily Log'!$AD$18:$AD$1017),0)","v":21},{"$f":"IFERROR($E103*SUMIF('Daily Log'!$AF$18:$AF$1017,$B103,'Daily Log'!$AG$18:$AG$1017),0)","v":16},{"$f":"IFERROR($E103*SUMIF('Daily Log'!$AI$18:$AI$1017,$B103,'Daily Log'!$AJ$18:$AJ$1017),0)","v":18},{"$f":"IFERROR($E103*SUMIF('Daily Log'!#REF!,$B103,'Daily Log'!#REF!),0)","v":0},{"$f":"IFERROR($E103*SUMIF('Daily Log'!#REF!,$B103,'Daily Log'!#REF!),0)","v":0},{"$f":"IFERROR($E103*SUMIF('Daily Log'!#REF!,$B103,'Daily Log'!#REF!),0)","v":0},{"$f":"IFERROR($E103*SUMIF('Daily Log'!#REF!,$B103,'Daily Log'!#REF!),0)","v":0},{"$f":"IFERROR($E103*SUMIF('Daily Log'!#REF!,$B103,'Daily Log'!#REF!),0)","v":0},{"$f":"IFERROR($E103*SUMIF('Daily Log'!#REF!,$B103,'Daily Log'!#REF!),0)","v":0},{"$f":"IFERROR($E103*SUMIF('Daily Log'!#REF!,$B103,'Daily Log'!#REF!),0)","v":0},{"$f":"IFERROR($E103*SUMIF('Daily Log'!#REF!,$B103,'Daily Log'!#REF!),0)","v":0},{"$f":"IFERROR($E103*SUMIF('Daily Log'!#REF!,$B103,'Daily Log'!#REF!),0)","v":0},{"$f":"IFERROR($E103*SUMIF('Daily Log'!#REF!,$B103,'Daily Log'!#REF!),0)","v":0},{"$f":"IFERROR($E103*SUMIF('Daily Log'!#REF!,$B103,'Daily Log'!#REF!),0)","v":0},{"$f":"IFERROR($E103*SUMIF('Daily Log'!#REF!,$B103,'Daily Log'!#REF!),0)","v":0},{"$f":"IFERROR($E103*SUMIF('Daily Log'!#REF!,$B103,'Daily Log'!#REF!),0)","v":0},{"$f":"IFERROR($E103*SUMIF('Daily Log'!#REF!,$B103,'Daily Log'!#REF!),0)","v":0},{"$f":"IFERROR($E103*SUMIF('Daily Log'!#REF!,$B103,'Daily Log'!#REF!),0)","v":0},{"$f":"IFERROR($E103*SUMIF('Daily Log'!#REF!,$B103,'Daily Log'!#REF!),0)","v":0},{"$f":"IFERROR($E103*SUMIF('Daily Log'!#REF!,$B103,'Daily Log'!#REF!),0)","v":0},{"$f":"IFERROR($E103*SUMIF('Daily Log'!#REF!,$B103,'Daily Log'!#REF!),0)","v":0},{"$f":"IFERROR($E103*SUMIF('Daily Log'!#REF!,$B103,'Daily Log'!#REF!),0)","v":0}]
[null,"CI05 PASSION J",null,"FFD-JUICE",1,223,{"$f":"IFERROR($E104*SUMIF('Daily Log'!$B$18:$B$1017,$B104,'Daily Log'!$C$18:$C$1017),0)","v":0},{"$f":"IFERROR($E104*SUMIF('Daily Log'!$E$18:$E$1017,$B104,'Daily Log'!$F$18:$F$1017),0)","v":0},{"$f":"IFERROR($E104*SUMIF('Daily Log'!$H$18:$H$1017,$B104,'Daily Log'!$I$18:$I$1017),0)","v":0},{"$f":"IFERROR($E104*SUMIF('Daily Log'!$K$18:$K$1017,$B104,'Daily Log'!$L$18:$L$1017),0)","v":0},{"$f":"IFERROR($E104*SUMIF('Daily Log'!$N$18:$N$1017,$B104,'Daily Log'!$O$18:$O$1017),0)","v":0},{"$f":"IFERROR($E104*SUMIF('Daily Log'!$Q$18:$Q$1017,$B104,'Daily Log'!$R$18:$R$1017),0)","v":32},{"$f":"IFERROR($E104*SUMIF('Daily Log'!$T$18:$T$1017,$B104,'Daily Log'!$U$18:$U$1017),0)","v":15},{"$f":"IFERROR($E104*SUMIF('Daily Log'!$W$18:$W$1017,$B104,'Daily Log'!$X$18:$X$1017),0)","v":11},{"$f":"IFERROR($E104*SUMIF('Daily Log'!$Z$18:$Z$1017,$B104,'Daily Log'!$AA$18:$AA$1017),0)","v":34},{"$f":"IFERROR($E104*SUMIF('Daily Log'!$AC$18:$AC$1017,$B104,'Daily Log'!$AD$18:$AD$1017),0)","v":40},{"$f":"IFERROR($E104*SUMIF('Daily Log'!$AF$18:$AF$1017,$B104,'Daily Log'!$AG$18:$AG$1017),0)","v":50},{"$f":"IFERROR($E104*SUMIF('Daily Log'!$AI$18:$AI$1017,$B104,'Daily Log'!$AJ$18:$AJ$1017),0)","v":41},{"$f":"IFERROR($E104*SUMIF('Daily Log'!#REF!,$B104,'Daily Log'!#REF!),0)","v":0},{"$f":"IFERROR($E104*SUMIF('Daily Log'!#REF!,$B104,'Daily Log'!#REF!),0)","v":0},{"$f":"IFERROR($E104*SUMIF('Daily Log'!#REF!,$B104,'Daily Log'!#REF!),0)","v":0},{"$f":"IFERROR($E104*SUMIF('Daily Log'!#REF!,$B104,'Daily Log'!#REF!),0)","v":0},{"$f":"IFERROR($E104*SUMIF('Daily Log'!#REF!,$B104,'Daily Log'!#REF!),0)","v":0},{"$f":"IFERROR($E104*SUMIF('Daily Log'!#REF!,$B104,'Daily Log'!#REF!),0)","v":0},{"$f":"IFERROR($E104*SUMIF('Daily Log'!#REF!,$B104,'Daily Log'!#REF!),0)","v":0},{"$f":"IFERROR($E104*SUMIF('Daily Log'!#REF!,$B104,'Daily Log'!#REF!),0)","v":0},{"$f":"IFERROR($E104*SUMIF('Daily Log'!#REF!,$B104,'Daily Log'!#REF!),0)","v":0},{"$f":"IFERROR($E104*SUMIF('Daily Log'!#REF!,$B104,'Daily Log'!#REF!),0)","v":0},{"$f":"IFERROR($E104*SUMIF('Daily Log'!#REF!,$B104,'Daily Log'!#REF!),0)","v":0},{"$f":"IFERROR($E104*SUMIF('Daily Log'!#REF!,$B104,'Daily Log'!#REF!),0)","v":0},{"$f":"IFERROR($E104*SUMIF('Daily Log'!#REF!,$B104,'Daily Log'!#REF!),0)","v":0},{"$f":"IFERROR($E104*SUMIF('Daily Log'!#REF!,$B104,'Daily Log'!#REF!),0)","v":0},{"$f":"IFERROR($E104*SUMIF('Daily Log'!#REF!,$B104,'Daily Log'!#REF!),0)","v":0},{"$f":"IFERROR($E104*SUMIF('Daily Log'!#REF!,$B104,'Daily Log'!#REF!),0)","v":0},{"$f":"IFERROR($E104*SUMIF('Daily Log'!#REF!,$B104,'Daily Log'!#REF!),0)","v":0},{"$f":"IFERROR($E104*SUMIF('Daily Log'!#REF!,$B104,'Daily Log'!#REF!),0)","v":0},{"$f":"IFERROR($E104*SUMIF('Daily Log'!#REF!,$B104,'Daily Log'!#REF!),0)","v":0}]
[null,"CI06 RIBENA J",null,"FFD-JUICE",1,138,{"$f":"IFERROR($E105*SUMIF('Daily Log'!$B$18:$B$1017,$B105,'Daily Log'!$C$18:$C$1017),0)","v":0},{"$f":"IFERROR($E105*SUMIF('Daily Log'!$E$18:$E$1017,$B105,'Daily Log'!$F$18:$F$1017),0)","v":0},{"$f":"IFERROR($E105*SUMIF('Daily Log'!$H$18:$H$1017,$B105,'Daily Log'!$I$18:$I$1017),0)","v":0},{"$f":"IFERROR($E105*SUMIF('Daily Log'!$K$18:$K$1017,$B105,'Daily Log'!$L$18:$L$1017),0)","v":0},{"$f":"IFERROR($E105*SUMIF('Daily Log'!$N$18:$N$1017,$B105,'Daily Log'!$O$18:$O$1017),0)","v":0},{"$f":"IFERROR($E105*SUMIF('Daily Log'!$Q$18:$Q$1017,$B105,'Daily Log'!$R$18:$R$1017),0)","v":28},{"$f":"IFERROR($E105*SUMIF('Daily Log'!$T$18:$T$1017,$B105,'Daily Log'!$U$18:$U$1017),0)","v":7},{"$f":"IFERROR($E105*SUMIF('Daily Log'!$W$18:$W$1017,$B105,'Daily Log'!$X$18:$X$1017),0)","v":4},{"$f":"IFERROR($E105*SUMIF('Daily Log'!$Z$18:$Z$1017,$B105,'Daily Log'!$AA$18:$AA$1017),0)","v":14},{"$f":"IFERROR($E105*SUMIF('Daily Log'!$AC$18:$AC$1017,$B105,'Daily Log'!$AD$18:$AD$1017),0)","v":28},{"$f":"IFERROR($E105*SUMIF('Daily Log'!$AF$18:$AF$1017,$B105,'Daily Log'!$AG$18:$AG$1017),0)","v":35},{"$f":"IFERROR($E105*SUMIF('Daily Log'!$AI$18:$AI$1017,$B105,'Daily Log'!$AJ$18:$AJ$1017),0)","v":22},{"$f":"IFERROR($E105*SUMIF('Daily Log'!#REF!,$B105,'Daily Log'!#REF!),0)","v":0},{"$f":"IFERROR($E105*SUMIF('Daily Log'!#REF!,$B105,'Daily Log'!#REF!),0)","v":0},{"$f":"IFERROR($E105*SUMIF('Daily Log'!#REF!,$B105,'Daily Log'!#REF!),0)","v":0},{"$f":"IFERROR($E105*SUMIF('Daily Log'!#REF!,$B105,'Daily Log'!#REF!),0)","v":0},{"$f":"IFERROR($E105*SUMIF('Daily Log'!#REF!,$B105,'Daily Log'!#REF!),0)","v":0},{"$f":"IFERROR($E105*SUMIF('Daily Log'!#REF!,$B105,'Daily Log'!#REF!),0)","v":0},{"$f":"IFERROR($E105*SUMIF('Daily Log'!#REF!,$B105,'Daily Log'!#REF!),0)","v":0},{"$f":"IFERROR($E105*SUMIF('Daily Log'!#REF!,$B105,'Daily Log'!#REF!),0)","v":0},{"$f":"IFERROR($E105*SUMIF('Daily Log'!#REF!,$B105,'Daily Log'!#REF!),0)","v":0},{"$f":"IFERROR($E105*SUMIF('Daily Log'!#REF!,$B105,'Daily Log'!#REF!),0)","v":0},{"$f":"IFERROR($E105*SUMIF('Daily Log'!#REF!,$B105,'Daily Log'!#REF!),0)","v":0},{"$f":"IFERROR($E105*SUMIF('Daily Log'!#REF!,$B105,'Daily Log'!#REF!),0)","v":0},{"$f":"IFERROR($E105*SUMIF('Daily Log'!#REF!,$B105,'Daily Log'!#REF!),0)","v":0},{"$f":"IFERROR($E105*SUMIF('Daily Log'!#REF!,$B105,'Daily Log'!#REF!),0)","v":0},{"$f":"IFERROR($E105*SUMIF('Daily Log'!#REF!,$B105,'Daily Log'!#REF!),0)","v":0},{"$f":"IFERROR($E105*SUMIF('Daily Log'!#REF!,$B105,'Daily Log'!#REF!),0)","v":0},{"$f":"IFERROR($E105*SUMIF('Daily Log'!#REF!,$B105,'Daily Log'!#REF!),0)","v":0},{"$f":"IFERROR($E105*SUMIF('Daily Log'!#REF!,$B105,'Daily Log'!#REF!),0)","v":0},{"$f":"IFERROR($E105*SUMIF('Daily Log'!#REF!,$B105,'Daily Log'!#REF!),0)","v":0}]
[null,"CJ01 GRAPE SO",null,"FFD-SODA",1,20,{"$f":"IFERROR($E106*SUMIF('Daily Log'!$B$18:$B$1017,$B106,'Daily Log'!$C$18:$C$1017),0)","v":0},{"$f":"IFERROR($E106*SUMIF('Daily Log'!$E$18:$E$1017,$B106,'Daily Log'!$F$18:$F$1017),0)","v":0},{"$f":"IFERROR($E106*SUMIF('Daily Log'!$H$18:$H$1017,$B106,'Daily Log'!$I$18:$I$1017),0)","v":0},{"$f":"IFERROR($E106*SUMIF('Daily Log'!$K$18:$K$1017,$B106,'Daily Log'!$L$18:$L$1017),0)","v":0},{"$f":"IFERROR($E106*SUMIF('Daily Log'!$N$18:$N$1017,$B106,'Daily Log'!$O$18:$O$1017),0)","v":0},{"$f":"IFERROR($E106*SUMIF('Daily Log'!$Q$18:$Q$1017,$B106,'Daily Log'!$R$18:$R$1017),0)","v":2},{"$f":"IFERROR($E106*SUMIF('Daily Log'!$T$18:$T$1017,$B106,'Daily Log'!$U$18:$U$1017),0)","v":4},{"$f":"IFERROR($E106*SUMIF('Daily Log'!$W$18:$W$1017,$B106,'Daily Log'!$X$18:$X$1017),0)","v":2},{"$f":"IFERROR($E106*SUMIF('Daily Log'!$Z$18:$Z$1017,$B106,'Daily Log'!$AA$18:$AA$1017),0)","v":1},{"$f":"IFERROR($E106*SUMIF('Daily Log'!$AC$18:$AC$1017,$B106,'Daily Log'!$AD$18:$AD$1017),0)","v":1},{"$f":"IFERROR($E106*SUMIF('Daily Log'!$AF$18:$AF$1017,$B106,'Daily Log'!$AG$18:$AG$1017),0)","v":7},{"$f":"IFERROR($E106*SUMIF('Daily Log'!$AI$18:$AI$1017,$B106,'Daily Log'!$AJ$18:$AJ$1017),0)","v":3},{"$f":"IFERROR($E106*SUMIF('Daily Log'!#REF!,$B106,'Daily Log'!#REF!),0)","v":0},{"$f":"IFERROR($E106*SUMIF('Daily Log'!#REF!,$B106,'Daily Log'!#REF!),0)","v":0},{"$f":"IFERROR($E106*SUMIF('Daily Log'!#REF!,$B106,'Daily Log'!#REF!),0)","v":0},{"$f":"IFERROR($E106*SUMIF('Daily Log'!#REF!,$B106,'Daily Log'!#REF!),0)","v":0},{"$f":"IFERROR($E106*SUMIF('Daily Log'!#REF!,$B106,'Daily Log'!#REF!),0)","v":0},{"$f":"IFERROR($E106*SUMIF('Daily Log'!#REF!,$B106,'Daily Log'!#REF!),0)","v":0},{"$f":"IFERROR($E106*SUMIF('Daily Log'!#REF!,$B106,'Daily Log'!#REF!),0)","v":0},{"$f":"IFERROR($E106*SUMIF('Daily Log'!#REF!,$B106,'Daily Log'!#REF!),0)","v":0},{"$f":"IFERROR($E106*SUMIF('Daily Log'!#REF!,$B106,'Daily Log'!#REF!),0)","v":0},{"$f":"IFERROR($E106*SUMIF('Daily Log'!#REF!,$B106,'Daily Log'!#REF!),0)","v":0},{"$f":"IFERROR($E106*SUMIF('Daily Log'!#REF!,$B106,'Daily Log'!#REF!),0)","v":0},{"$f":"IFERROR($E106*SUMIF('Daily Log'!#REF!,$B106,'Daily Log'!#REF!),0)","v":0},{"$f":"IFERROR($E106*SUMIF('Daily Log'!#REF!,$B106,'Daily Log'!#REF!),0)","v":0},{"$f":"IFERROR($E106*SUMIF('Daily Log'!#REF!,$B106,'Daily Log'!#REF!),0)","v":0},{"$f":"IFERROR($E106*SUMIF('Daily Log'!#REF!,$B106,'Daily Log'!#REF!),0)","v":0},{"$f":"IFERROR($E106*SUMIF('Daily Log'!#REF!,$B106,'Daily Log'!#REF!),0)","v":0},{"$f":"IFERROR($E106*SUMIF('Daily Log'!#REF!,$B106,'Daily Log'!#REF!),0)","v":0},{"$f":"IFERROR($E106*SUMIF('Daily Log'!#REF!,$B106,'Daily Log'!#REF!),0)","v":0},{"$f":"IFERROR($E106*SUMIF('Daily Log'!#REF!,$B106,'Daily Log'!#REF!),0)","v":0}]
[null,"CJ02 APPLE SO",null,"FFD-SODA",1,17,{"$f":"IFERROR($E107*SUMIF('Daily Log'!$B$18:$B$1017,$B107,'Daily Log'!$C$18:$C$1017),0)","v":0},{"$f":"IFERROR($E107*SUMIF('Daily Log'!$E$18:$E$1017,$B107,'Daily Log'!$F$18:$F$1017),0)","v":0},{"$f":"IFERROR($E107*SUMIF('Daily Log'!$H$18:$H$1017,$B107,'Daily Log'!$I$18:$I$1017),0)","v":0},{"$f":"IFERROR($E107*SUMIF('Daily Log'!$K$18:$K$1017,$B107,'Daily Log'!$L$18:$L$1017),0)","v":0},{"$f":"IFERROR($E107*SUMIF('Daily Log'!$N$18:$N$1017,$B107,'Daily Log'!$O$18:$O$1017),0)","v":0},{"$f":"IFERROR($E107*SUMIF('Daily Log'!$Q$18:$Q$1017,$B107,'Daily Log'!$R$18:$R$1017),0)","v":2},{"$f":"IFERROR($E107*SUMIF('Daily Log'!$T$18:$T$1017,$B107,'Daily Log'!$U$18:$U$1017),0)","v":4},{"$f":"IFERROR($E107*SUMIF('Daily Log'!$W$18:$W$1017,$B107,'Daily Log'!$X$18:$X$1017),0)","v":4},{"$f":"IFERROR($E107*SUMIF('Daily Log'!$Z$18:$Z$1017,$B107,'Daily Log'!$AA$18:$AA$1017),0)","v":0},{"$f":"IFERROR($E107*SUMIF('Daily Log'!$AC$18:$AC$1017,$B107,'Daily Log'!$AD$18:$AD$1017),0)","v":0},{"$f":"IFERROR($E107*SUMIF('Daily Log'!$AF$18:$AF$1017,$B107,'Daily Log'!$AG$18:$AG$1017),0)","v":5},{"$f":"IFERROR($E107*SUMIF('Daily Log'!$AI$18:$AI$1017,$B107,'Daily Log'!$AJ$18:$AJ$1017),0)","v":2},{"$f":"IFERROR($E107*SUMIF('Daily Log'!#REF!,$B107,'Daily Log'!#REF!),0)","v":0},{"$f":"IFERROR($E107*SUMIF('Daily Log'!#REF!,$B107,'Daily Log'!#REF!),0)","v":0},{"$f":"IFERROR($E107*SUMIF('Daily Log'!#REF!,$B107,'Daily Log'!#REF!),0)","v":0},{"$f":"IFERROR($E107*SUMIF('Daily Log'!#REF!,$B107,'Daily Log'!#REF!),0)","v":0},{"$f":"IFERROR($E107*SUMIF('Daily Log'!#REF!,$B107,'Daily Log'!#REF!),0)","v":0},{"$f":"IFERROR($E107*SUMIF('Daily Log'!#REF!,$B107,'Daily Log'!#REF!),0)","v":0},{"$f":"IFERROR($E107*SUMIF('Daily Log'!#REF!,$B107,'Daily Log'!#REF!),0)","v":0},{"$f":"IFERROR($E107*SUMIF('Daily Log'!#REF!,$B107,'Daily Log'!#REF!),0)","v":0},{"$f":"IFERROR($E107*SUMIF('Daily Log'!#REF!,$B107,'Daily Log'!#REF!),0)","v":0},{"$f":"IFERROR($E107*SUMIF('Daily Log'!#REF!,$B107,'Daily Log'!#REF!),0)","v":0},{"$f":"IFERROR($E107*SUMIF('Daily Log'!#REF!,$B107,'Daily Log'!#REF!),0)","v":0},{"$f":"IFERROR($E107*SUMIF('Daily Log'!#REF!,$B107,'Daily Log'!#REF!),0)","v":0},{"$f":"IFERROR($E107*SUMIF('Daily Log'!#REF!,$B107,'Daily Log'!#REF!),0)","v":0},{"$f":"IFERROR($E107*SUMIF('Daily Log'!#REF!,$B107,'Daily Log'!#REF!),0)","v":0},{"$f":"IFERROR($E107*SUMIF('Daily Log'!#REF!,$B107,'Daily Log'!#REF!),0)","v":0},{"$f":"IFERROR($E107*SUMIF('Daily Log'!#REF!,$B107,'Daily Log'!#REF!),0)","v":0},{"$f":"IFERROR($E107*SUMIF('Daily Log'!#REF!,$B107,'Daily Log'!#REF!),0)","v":0},{"$f":"IFERROR($E107*SUMIF('Daily Log'!#REF!,$B107,'Daily Log'!#REF!),0)","v":0},{"$f":"IFERROR($E107*SUMIF('Daily Log'!#REF!,$B107,'Daily Log'!#REF!),0)","v":0}]
[null,"CJ03 KIWI SO",null,"FFD-SODA",1,0,{"$f":"IFERROR($E108*SUMIF('Daily Log'!$B$18:$B$1017,$B108,'Daily Log'!$C$18:$C$1017),0)","v":0},{"$f":"IFERROR($E108*SUMIF('Daily Log'!$E$18:$E$1017,$B108,'Daily Log'!$F$18:$F$1017),0)","v":0},{"$f":"IFERROR($E108*SUMIF('Daily Log'!$H$18:$H$1017,$B108,'Daily Log'!$I$18:$I$1017),0)","v":0},{"$f":"IFERROR($E108*SUMIF('Daily Log'!$K$18:$K$1017,$B108,'Daily Log'!$L$18:$L$1017),0)","v":0},{"$f":"IFERROR($E108*SUMIF('Daily Log'!$N$18:$N$1017,$B108,'Daily Log'!$O$18:$O$1017),0)","v":0},{"$f":"IFERROR($E108*SUMIF('Daily Log'!$Q$18:$Q$1017,$B108,'Daily Log'!$R$18:$R$1017),0)","v":0},{"$f":"IFERROR($E108*SUMIF('Daily Log'!$T$18:$T$1017,$B108,'Daily Log'!$U$18:$U$1017),0)","v":0},{"$f":"IFERROR($E108*SUMIF('Daily Log'!$W$18:$W$1017,$B108,'Daily Log'!$X$18:$X$1017),0)","v":0},{"$f":"IFERROR($E108*SUMIF('Daily Log'!$Z$18:$Z$1017,$B108,'Daily Log'!$AA$18:$AA$1017),0)","v":0},{"$f":"IFERROR($E108*SUMIF('Daily Log'!$AC$18:$AC$1017,$B108,'Daily Log'!$AD$18:$AD$1017),0)","v":0},{"$f":"IFERROR($E108*SUMIF('Daily Log'!$AF$18:$AF$1017,$B108,'Daily Log'!$AG$18:$AG$1017),0)","v":0},{"$f":"IFERROR($E108*SUMIF('Daily Log'!$AI$18:$AI$1017,$B108,'Daily Log'!$AJ$18:$AJ$1017),0)","v":0},{"$f":"IFERROR($E108*SUMIF('Daily Log'!#REF!,$B108,'Daily Log'!#REF!),0)","v":0},{"$f":"IFERROR($E108*SUMIF('Daily Log'!#REF!,$B108,'Daily Log'!#REF!),0)","v":0},{"$f":"IFERROR($E108*SUMIF('Daily Log'!#REF!,$B108,'Daily Log'!#REF!),0)","v":0},{"$f":"IFERROR($E108*SUMIF('Daily Log'!#REF!,$B108,'Daily Log'!#REF!),0)","v":0},{"$f":"IFERROR($E108*SUMIF('Daily Log'!#REF!,$B108,'Daily Log'!#REF!),0)","v":0},{"$f":"IFERROR($E108*SUMIF('Daily Log'!#REF!,$B108,'Daily Log'!#REF!),0)","v":0},{"$f":"IFERROR($E108*SUMIF('Daily Log'!#REF!,$B108,'Daily Log'!#REF!),0)","v":0},{"$f":"IFERROR($E108*SUMIF('Daily Log'!#REF!,$B108,'Daily Log'!#REF!),0)","v":0},{"$f":"IFERROR($E108*SUMIF('Daily Log'!#REF!,$B108,'Daily Log'!#REF!),0)","v":0},{"$f":"IFERROR($E108*SUMIF('Daily Log'!#REF!,$B108,'Daily Log'!#REF!),0)","v":0},{"$f":"IFERROR($E108*SUMIF('Daily Log'!#REF!,$B108,'Daily Log'!#REF!),0)","v":0},{"$f":"IFERROR($E108*SUMIF('Daily Log'!#REF!,$B108,'Daily Log'!#REF!),0)","v":0},{"$f":"IFERROR($E108*SUMIF('Daily Log'!#REF!,$B108,'Daily Log'!#REF!),0)","v":0},{"$f":"IFERROR($E108*SUMIF('Daily Log'!#REF!,$B108,'Daily Log'!#REF!),0)","v":0},{"$f":"IFERROR($E108*SUMIF('Daily Log'!#REF!,$B108,'Daily Log'!#REF!),0)","v":0},{"$f":"IFERROR($E108*SUMIF('Daily Log'!#REF!,$B108,'Daily Log'!#REF!),0)","v":0},{"$f":"IFERROR($E108*SUMIF('Daily Log'!#REF!,$B108,'Daily Log'!#REF!),0)","v":0},{"$f":"IFERROR($E108*SUMIF('Daily Log'!#REF!,$B108,'Daily Log'!#REF!),0)","v":0},{"$f":"IFERROR($E108*SUMIF('Daily Log'!#REF!,$B108,'Daily Log'!#REF!),0)","v":0}]
[null,"CJ04 MANGO SO",null,"FFD-SODA",1,7,{"$f":"IFERROR($E109*SUMIF('Daily Log'!$B$18:$B$1017,$B109,'Daily Log'!$C$18:$C$1017),0)","v":0},{"$f":"IFERROR($E109*SUMIF('Daily Log'!$E$18:$E$1017,$B109,'Daily Log'!$F$18:$F$1017),0)","v":0},{"$f":"IFERROR($E109*SUMIF('Daily Log'!$H$18:$H$1017,$B109,'Daily Log'!$I$18:$I$1017),0)","v":0},{"$f":"IFERROR($E109*SUMIF('Daily Log'!$K$18:$K$1017,$B109,'Daily Log'!$L$18:$L$1017),0)","v":0},{"$f":"IFERROR($E109*SUMIF('Daily Log'!$N$18:$N$1017,$B109,'Daily Log'!$O$18:$O$1017),0)","v":0},{"$f":"IFERROR($E109*SUMIF('Daily Log'!$Q$18:$Q$1017,$B109,'Daily Log'!$R$18:$R$1017),0)","v":2},{"$f":"IFERROR($E109*SUMIF('Daily Log'!$T$18:$T$1017,$B109,'Daily Log'!$U$18:$U$1017),0)","v":0},{"$f":"IFERROR($E109*SUMIF('Daily Log'!$W$18:$W$1017,$B109,'Daily Log'!$X$18:$X$1017),0)","v":0},{"$f":"IFERROR($E109*SUMIF('Daily Log'!$Z$18:$Z$1017,$B109,'Daily Log'!$AA$18:$AA$1017),0)","v":3},{"$f":"IFERROR($E109*SUMIF('Daily Log'!$AC$18:$AC$1017,$B109,'Daily Log'!$AD$18:$AD$1017),0)","v":1},{"$f":"IFERROR($E109*SUMIF('Daily Log'!$AF$18:$AF$1017,$B109,'Daily Log'!$AG$18:$AG$1017),0)","v":0},{"$f":"IFERROR($E109*SUMIF('Daily Log'!$AI$18:$AI$1017,$B109,'Daily Log'!$AJ$18:$AJ$1017),0)","v":1},{"$f":"IFERROR($E109*SUMIF('Daily Log'!#REF!,$B109,'Daily Log'!#REF!),0)","v":0},{"$f":"IFERROR($E109*SUMIF('Daily Log'!#REF!,$B109,'Daily Log'!#REF!),0)","v":0},{"$f":"IFERROR($E109*SUMIF('Daily Log'!#REF!,$B109,'Daily Log'!#REF!),0)","v":0},{"$f":"IFERROR($E109*SUMIF('Daily Log'!#REF!,$B109,'Daily Log'!#REF!),0)","v":0},{"$f":"IFERROR($E109*SUMIF('Daily Log'!#REF!,$B109,'Daily Log'!#REF!),0)","v":0},{"$f":"IFERROR($E109*SUMIF('Daily Log'!#REF!,$B109,'Daily Log'!#REF!),0)","v":0},{"$f":"IFERROR($E109*SUMIF('Daily Log'!#REF!,$B109,'Daily Log'!#REF!),0)","v":0},{"$f":"IFERROR($E109*SUMIF('Daily Log'!#REF!,$B109,'Daily Log'!#REF!),0)","v":0},{"$f":"IFERROR($E109*SUMIF('Daily Log'!#REF!,$B109,'Daily Log'!#REF!),0)","v":0},{"$f":"IFERROR($E109*SUMIF('Daily Log'!#REF!,$B109,'Daily Log'!#REF!),0)","v":0},{"$f":"IFERROR($E109*SUMIF('Daily Log'!#REF!,$B109,'Daily Log'!#REF!),0)","v":0},{"$f":"IFERROR($E109*SUMIF('Daily Log'!#REF!,$B109,'Daily Log'!#REF!),0)","v":0},{"$f":"IFERROR($E109*SUMIF('Daily Log'!#REF!,$B109,'Daily Log'!#REF!),0)","v":0},{"$f":"IFERROR($E109*SUMIF('Daily Log'!#REF!,$B109,'Daily Log'!#REF!),0)","v":0},{"$f":"IFERROR($E109*SUMIF('Daily Log'!#REF!,$B109,'Daily Log'!#REF!),0)","v":0},{"$f":"IFERROR($E109*SUMIF('Daily Log'!#REF!,$B109,'Daily Log'!#REF!),0)","v":0},{"$f":"IFERROR($E109*SUMIF('Daily Log'!#REF!,$B109,'Daily Log'!#REF!),0)","v":0},{"$f":"IFERROR($E109*SUMIF('Daily Log'!#REF!,$B109,'Daily Log'!#REF!),0)","v":0},{"$f":"IFERROR($E109*SUMIF('Daily Log'!#REF!,$B109,'Daily Log'!#REF!),0)","v":0}]
[null,"CJ05 PASSION SO",null,"FFD-SODA",1,16,{"$f":"IFERROR($E110*SUMIF('Daily Log'!$B$18:$B$1017,$B110,'Daily Log'!$C$18:$C$1017),0)","v":0},{"$f":"IFERROR($E110*SUMIF('Daily Log'!$E$18:$E$1017,$B110,'Daily Log'!$F$18:$F$1017),0)","v":0},{"$f":"IFERROR($E110*SUMIF('Daily Log'!$H$18:$H$1017,$B110,'Daily Log'!$I$18:$I$1017),0)","v":0},{"$f":"IFERROR($E110*SUMIF('Daily Log'!$K$18:$K$1017,$B110,'Daily Log'!$L$18:$L$1017),0)","v":0},{"$f":"IFERROR($E110*SUMIF('Daily Log'!$N$18:$N$1017,$B110,'Daily Log'!$O$18:$O$1017),0)","v":0},{"$f":"IFERROR($E110*SUMIF('Daily Log'!$Q$18:$Q$1017,$B110,'Daily Log'!$R$18:$R$1017),0)","v":1},{"$f":"IFERROR($E110*SUMIF('Daily Log'!$T$18:$T$1017,$B110,'Daily Log'!$U$18:$U$1017),0)","v":3},{"$f":"IFERROR($E110*SUMIF('Daily Log'!$W$18:$W$1017,$B110,'Daily Log'!$X$18:$X$1017),0)","v":4},{"$f":"IFERROR($E110*SUMIF('Daily Log'!$Z$18:$Z$1017,$B110,'Daily Log'!$AA$18:$AA$1017),0)","v":3},{"$f":"IFERROR($E110*SUMIF('Daily Log'!$AC$18:$AC$1017,$B110,'Daily Log'!$AD$18:$AD$1017),0)","v":2},{"$f":"IFERROR($E110*SUMIF('Daily Log'!$AF$18:$AF$1017,$B110,'Daily Log'!$AG$18:$AG$1017),0)","v":2},{"$f":"IFERROR($E110*SUMIF('Daily Log'!$AI$18:$AI$1017,$B110,'Daily Log'!$AJ$18:$AJ$1017),0)","v":1},{"$f":"IFERROR($E110*SUMIF('Daily Log'!#REF!,$B110,'Daily Log'!#REF!),0)","v":0},{"$f":"IFERROR($E110*SUMIF('Daily Log'!#REF!,$B110,'Daily Log'!#REF!),0)","v":0},{"$f":"IFERROR($E110*SUMIF('Daily Log'!#REF!,$B110,'Daily Log'!#REF!),0)","v":0},{"$f":"IFERROR($E110*SUMIF('Daily Log'!#REF!,$B110,'Daily Log'!#REF!),0)","v":0},{"$f":"IFERROR($E110*SUMIF('Daily Log'!#REF!,$B110,'Daily Log'!#REF!),0)","v":0},{"$f":"IFERROR($E110*SUMIF('Daily Log'!#REF!,$B110,'Daily Log'!#REF!),0)","v":0},{"$f":"IFERROR($E110*SUMIF('Daily Log'!#REF!,$B110,'Daily Log'!#REF!),0)","v":0},{"$f":"IFERROR($E110*SUMIF('Daily Log'!#REF!,$B110,'Daily Log'!#REF!),0)","v":0},{"$f":"IFERROR($E110*SUMIF('Daily Log'!#REF!,$B110,'Daily Log'!#REF!),0)","v":0},{"$f":"IFERROR($E110*SUMIF('Daily Log'!#REF!,$B110,'Daily Log'!#REF!),0)","v":0},{"$f":"IFERROR($E110*SUMIF('Daily Log'!#REF!,$B110,'Daily Log'!#REF!),0)","v":0},{"$f":"IFERROR($E110*SUMIF('Daily Log'!#REF!,$B110,'Daily Log'!#REF!),0)","v":0},{"$f":"IFERROR($E110*SUMIF('Daily Log'!#REF!,$B110,'Daily Log'!#REF!),0)","v":0},{"$f":"IFERROR($E110*SUMIF('Daily Log'!#REF!,$B110,'Daily Log'!#REF!),0)","v":0},{"$f":"IFERROR($E110*SUMIF('Daily Log'!#REF!,$B110,'Daily Log'!#REF!),0)","v":0},{"$f":"IFERROR($E110*SUMIF('Daily Log'!#REF!,$B110,'Daily Log'!#REF!),0)","v":0},{"$f":"IFERROR($E110*SUMIF('Daily Log'!#REF!,$B110,'Daily Log'!#REF!),0)","v":0},{"$f":"IFERROR($E110*SUMIF('Daily Log'!#REF!,$B110,'Daily Log'!#REF!),0)","v":0},{"$f":"IFERROR($E110*SUMIF('Daily Log'!#REF!,$B110,'Daily Log'!#REF!),0)","v":0}]
[null,"CJ06 RIBENA SO",null,"FFD-SODA",1,38,{"$f":"IFERROR($E111*SUMIF('Daily Log'!$B$18:$B$1017,$B111,'Daily Log'!$C$18:$C$1017),0)","v":0},{"$f":"IFERROR($E111*SUMIF('Daily Log'!$E$18:$E$1017,$B111,'Daily Log'!$F$18:$F$1017),0)","v":0},{"$f":"IFERROR($E111*SUMIF('Daily Log'!$H$18:$H$1017,$B111,'Daily Log'!$I$18:$I$1017),0)","v":0},{"$f":"IFERROR($E111*SUMIF('Daily Log'!$K$18:$K$1017,$B111,'Daily Log'!$L$18:$L$1017),0)","v":0},{"$f":"IFERROR($E111*SUMIF('Daily Log'!$N$18:$N$1017,$B111,'Daily Log'!$O$18:$O$1017),0)","v":0},{"$f":"IFERROR($E111*SUMIF('Daily Log'!$Q$18:$Q$1017,$B111,'Daily Log'!$R$18:$R$1017),0)","v":8},{"$f":"IFERROR($E111*SUMIF('Daily Log'!$T$18:$T$1017,$B111,'Daily Log'!$U$18:$U$1017),0)","v":1},{"$f":"IFERROR($E111*SUMIF('Daily Log'!$W$18:$W$1017,$B111,'Daily Log'!$X$18:$X$1017),0)","v":1},{"$f":"IFERROR($E111*SUMIF('Daily Log'!$Z$18:$Z$1017,$B111,'Daily Log'!$AA$18:$AA$1017),0)","v":3},{"$f":"IFERROR($E111*SUMIF('Daily Log'!$AC$18:$AC$1017,$B111,'Daily Log'!$AD$18:$AD$1017),0)","v":12},{"$f":"IFERROR($E111*SUMIF('Daily Log'!$AF$18:$AF$1017,$B111,'Daily Log'!$AG$18:$AG$1017),0)","v":4},{"$f":"IFERROR($E111*SUMIF('Daily Log'!$AI$18:$AI$1017,$B111,'Daily Log'!$AJ$18:$AJ$1017),0)","v":9},{"$f":"IFERROR($E111*SUMIF('Daily Log'!#REF!,$B111,'Daily Log'!#REF!),0)","v":0},{"$f":"IFERROR($E111*SUMIF('Daily Log'!#REF!,$B111,'Daily Log'!#REF!),0)","v":0},{"$f":"IFERROR($E111*SUMIF('Daily Log'!#REF!,$B111,'Daily Log'!#REF!),0)","v":0},{"$f":"IFERROR($E111*SUMIF('Daily Log'!#REF!,$B111,'Daily Log'!#REF!),0)","v":0},{"$f":"IFERROR($E111*SUMIF('Daily Log'!#REF!,$B111,'Daily Log'!#REF!),0)","v":0},{"$f":"IFERROR($E111*SUMIF('Daily Log'!#REF!,$B111,'Daily Log'!#REF!),0)","v":0},{"$f":"IFERROR($E111*SUMIF('Daily Log'!#REF!,$B111,'Daily Log'!#REF!),0)","v":0},{"$f":"IFERROR($E111*SUMIF('Daily Log'!#REF!,$B111,'Daily Log'!#REF!),0)","v":0},{"$f":"IFERROR($E111*SUMIF('Daily Log'!#REF!,$B111,'Daily Log'!#REF!),0)","v":0},{"$f":"IFERROR($E111*SUMIF('Daily Log'!#REF!,$B111,'Daily Log'!#REF!),0)","v":0},{"$f":"IFERROR($E111*SUMIF('Daily Log'!#REF!,$B111,'Daily Log'!#REF!),0)","v":0},{"$f":"IFERROR($E111*SUMIF('Daily Log'!#REF!,$B111,'Daily Log'!#REF!),0)","v":0},{"$f":"IFERROR($E111*SUMIF('Daily Log'!#REF!,$B111,'Daily Log'!#REF!),0)","v":0},{"$f":"IFERROR($E111*SUMIF('Daily Log'!#REF!,$B111,'Daily Log'!#REF!),0)","v":0},{"$f":"IFERROR($E111*SUMIF('Daily Log'!#REF!,$B111,'Daily Log'!#REF!),0)","v":0},{"$f":"IFERROR($E111*SUMIF('Daily Log'!#REF!,$B111,'Daily Log'!#REF!),0)","v":0},{"$f":"IFERROR($E111*SUMIF('Daily Log'!#REF!,$B111,'Daily Log'!#REF!),0)","v":0},{"$f":"IFERROR($E111*SUMIF('Daily Log'!#REF!,$B111,'Daily Log'!#REF!),0)","v":0},{"$f":"IFERROR($E111*SUMIF('Daily Log'!#REF!,$B111,'Daily Log'!#REF!),0)","v":0}]
[null,"CL01 7 UP",null,"FFD-SOFT DRINKS",1,54,{"$f":"IFERROR($E112*SUMIF('Daily Log'!$B$18:$B$1017,$B112,'Daily Log'!$C$18:$C$1017),0)","v":0},{"$f":"IFERROR($E112*SUMIF('Daily Log'!$E$18:$E$1017,$B112,'Daily Log'!$F$18:$F$1017),0)","v":0},{"$f":"IFERROR($E112*SUMIF('Daily Log'!$H$18:$H$1017,$B112,'Daily Log'!$I$18:$I$1017),0)","v":0},{"$f":"IFERROR($E112*SUMIF('Daily Log'!$K$18:$K$1017,$B112,'Daily Log'!$L$18:$L$1017),0)","v":0},{"$f":"IFERROR($E112*SUMIF('Daily Log'!$N$18:$N$1017,$B112,'Daily Log'!$O$18:$O$1017),0)","v":0},{"$f":"IFERROR($E112*SUMIF('Daily Log'!$Q$18:$Q$1017,$B112,'Daily Log'!$R$18:$R$1017),0)","v":9},{"$f":"IFERROR($E112*SUMIF('Daily Log'!$T$18:$T$1017,$B112,'Daily Log'!$U$18:$U$1017),0)","v":1},{"$f":"IFERROR($E112*SUMIF('Daily Log'!$W$18:$W$1017,$B112,'Daily Log'!$X$18:$X$1017),0)","v":1},{"$f":"IFERROR($E112*SUMIF('Daily Log'!$Z$18:$Z$1017,$B112,'Daily Log'!$AA$18:$AA$1017),0)","v":11},{"$f":"IFERROR($E112*SUMIF('Daily Log'!$AC$18:$AC$1017,$B112,'Daily Log'!$AD$18:$AD$1017),0)","v":9},{"$f":"IFERROR($E112*SUMIF('Daily Log'!$AF$18:$AF$1017,$B112,'Daily Log'!$AG$18:$AG$1017),0)","v":16},{"$f":"IFERROR($E112*SUMIF('Daily Log'!$AI$18:$AI$1017,$B112,'Daily Log'!$AJ$18:$AJ$1017),0)","v":7},{"$f":"IFERROR($E112*SUMIF('Daily Log'!#REF!,$B112,'Daily Log'!#REF!),0)","v":0},{"$f":"IFERROR($E112*SUMIF('Daily Log'!#REF!,$B112,'Daily Log'!#REF!),0)","v":0},{"$f":"IFERROR($E112*SUMIF('Daily Log'!#REF!,$B112,'Daily Log'!#REF!),0)","v":0},{"$f":"IFERROR($E112*SUMIF('Daily Log'!#REF!,$B112,'Daily Log'!#REF!),0)","v":0},{"$f":"IFERROR($E112*SUMIF('Daily Log'!#REF!,$B112,'Daily Log'!#REF!),0)","v":0},{"$f":"IFERROR($E112*SUMIF('Daily Log'!#REF!,$B112,'Daily Log'!#REF!),0)","v":0},{"$f":"IFERROR($E112*SUMIF('Daily Log'!#REF!,$B112,'Daily Log'!#REF!),0)","v":0},{"$f":"IFERROR($E112*SUMIF('Daily Log'!#REF!,$B112,'Daily Log'!#REF!),0)","v":0},{"$f":"IFERROR($E112*SUMIF('Daily Log'!#REF!,$B112,'Daily Log'!#REF!),0)","v":0},{"$f":"IFERROR($E112*SUMIF('Daily Log'!#REF!,$B112,'Daily Log'!#REF!),0)","v":0},{"$f":"IFERROR($E112*SUMIF('Daily Log'!#REF!,$B112,'Daily Log'!#REF!),0)","v":0},{"$f":"IFERROR($E112*SUMIF('Daily Log'!#REF!,$B112,'Daily Log'!#REF!),0)","v":0},{"$f":"IFERROR($E112*SUMIF('Daily Log'!#REF!,$B112,'Daily Log'!#REF!),0)","v":0},{"$f":"IFERROR($E112*SUMIF('Daily Log'!#REF!,$B112,'Daily Log'!#REF!),0)","v":0},{"$f":"IFERROR($E112*SUMIF('Daily Log'!#REF!,$B112,'Daily Log'!#REF!),0)","v":0},{"$f":"IFERROR($E112*SUMIF('Daily Log'!#REF!,$B112,'Daily Log'!#REF!),0)","v":0},{"$f":"IFERROR($E112*SUMIF('Daily Log'!#REF!,$B112,'Daily Log'!#REF!),0)","v":0},{"$f":"IFERROR($E112*SUMIF('Daily Log'!#REF!,$B112,'Daily Log'!#REF!),0)","v":0},{"$f":"IFERROR($E112*SUMIF('Daily Log'!#REF!,$B112,'Daily Log'!#REF!),0)","v":0}]
[null,"CL02 7 UP REVIVE",null,"FFD-SOFT DRINKS",1,22,{"$f":"IFERROR($E113*SUMIF('Daily Log'!$B$18:$B$1017,$B113,'Daily Log'!$C$18:$C$1017),0)","v":0},{"$f":"IFERROR($E113*SUMIF('Daily Log'!$E$18:$E$1017,$B113,'Daily Log'!$F$18:$F$1017),0)","v":0},{"$f":"IFERROR($E113*SUMIF('Daily Log'!$H$18:$H$1017,$B113,'Daily Log'!$I$18:$I$1017),0)","v":0},{"$f":"IFERROR($E113*SUMIF('Daily Log'!$K$18:$K$1017,$B113,'Daily Log'!$L$18:$L$1017),0)","v":0},{"$f":"IFERROR($E113*SUMIF('Daily Log'!$N$18:$N$1017,$B113,'Daily Log'!$O$18:$O$1017),0)","v":0},{"$f":"IFERROR($E113*SUMIF('Daily Log'!$Q$18:$Q$1017,$B113,'Daily Log'!$R$18:$R$1017),0)","v":1},{"$f":"IFERROR($E113*SUMIF('Daily Log'!$T$18:$T$1017,$B113,'Daily Log'!$U$18:$U$1017),0)","v":1},{"$f":"IFERROR($E113*SUMIF('Daily Log'!$W$18:$W$1017,$B113,'Daily Log'!$X$18:$X$1017),0)","v":3},{"$f":"IFERROR($E113*SUMIF('Daily Log'!$Z$18:$Z$1017,$B113,'Daily Log'!$AA$18:$AA$1017),0)","v":0},{"$f":"IFERROR($E113*SUMIF('Daily Log'!$AC$18:$AC$1017,$B113,'Daily Log'!$AD$18:$AD$1017),0)","v":7},{"$f":"IFERROR($E113*SUMIF('Daily Log'!$AF$18:$AF$1017,$B113,'Daily Log'!$AG$18:$AG$1017),0)","v":7},{"$f":"IFERROR($E113*SUMIF('Daily Log'!$AI$18:$AI$1017,$B113,'Daily Log'!$AJ$18:$AJ$1017),0)","v":3},{"$f":"IFERROR($E113*SUMIF('Daily Log'!#REF!,$B113,'Daily Log'!#REF!),0)","v":0},{"$f":"IFERROR($E113*SUMIF('Daily Log'!#REF!,$B113,'Daily Log'!#REF!),0)","v":0},{"$f":"IFERROR($E113*SUMIF('Daily Log'!#REF!,$B113,'Daily Log'!#REF!),0)","v":0},{"$f":"IFERROR($E113*SUMIF('Daily Log'!#REF!,$B113,'Daily Log'!#REF!),0)","v":0},{"$f":"IFERROR($E113*SUMIF('Daily Log'!#REF!,$B113,'Daily Log'!#REF!),0)","v":0},{"$f":"IFERROR($E113*SUMIF('Daily Log'!#REF!,$B113,'Daily Log'!#REF!),0)","v":0},{"$f":"IFERROR($E113*SUMIF('Daily Log'!#REF!,$B113,'Daily Log'!#REF!),0)","v":0},{"$f":"IFERROR($E113*SUMIF('Daily Log'!#REF!,$B113,'Daily Log'!#REF!),0)","v":0},{"$f":"IFERROR($E113*SUMIF('Daily Log'!#REF!,$B113,'Daily Log'!#REF!),0)","v":0},{"$f":"IFERROR($E113*SUMIF('Daily Log'!#REF!,$B113,'Daily Log'!#REF!),0)","v":0},{"$f":"IFERROR($E113*SUMIF('Daily Log'!#REF!,$B113,'Daily Log'!#REF!),0)","v":0},{"$f":"IFERROR($E113*SUMIF('Daily Log'!#REF!,$B113,'Daily Log'!#REF!),0)","v":0},{"$f":"IFERROR($E113*SUMIF('Daily Log'!#REF!,$B113,'Daily Log'!#REF!),0)","v":0},{"$f":"IFERROR($E113*SUMIF('Daily Log'!#REF!,$B113,'Daily Log'!#REF!),0)","v":0},{"$f":"IFERROR($E113*SUMIF('Daily Log'!#REF!,$B113,'Daily Log'!#REF!),0)","v":0},{"$f":"IFERROR($E113*SUMIF('Daily Log'!#REF!,$B113,'Daily Log'!#REF!),0)","v":0},{"$f":"IFERROR($E113*SUMIF('Daily Log'!#REF!,$B113,'Daily Log'!#REF!),0)","v":0},{"$f":"IFERROR($E113*SUMIF('Daily Log'!#REF!,$B113,'Daily Log'!#REF!),0)","v":0},{"$f":"IFERROR($E113*SUMIF('Daily Log'!#REF!,$B113,'Daily Log'!#REF!),0)","v":0}]
[null,"CL03 PEPSI",null,"FFD-SOFT DRINKS",1,168,{"$f":"IFERROR($E114*SUMIF('Daily Log'!$B$18:$B$1017,$B114,'Daily Log'!$C$18:$C$1017),0)","v":0},{"$f":"IFERROR($E114*SUMIF('Daily Log'!$E$18:$E$1017,$B114,'Daily Log'!$F$18:$F$1017),0)","v":0},{"$f":"IFERROR($E114*SUMIF('Daily Log'!$H$18:$H$1017,$B114,'Daily Log'!$I$18:$I$1017),0)","v":0},{"$f":"IFERROR($E114*SUMIF('Daily Log'!$K$18:$K$1017,$B114,'Daily Log'!$L$18:$L$1017),0)","v":0},{"$f":"IFERROR($E114*SUMIF('Daily Log'!$N$18:$N$1017,$B114,'Daily Log'!$O$18:$O$1017),0)","v":0},{"$f":"IFERROR($E114*SUMIF('Daily Log'!$Q$18:$Q$1017,$B114,'Daily Log'!$R$18:$R$1017),0)","v":20},{"$f":"IFERROR($E114*SUMIF('Daily Log'!$T$18:$T$1017,$B114,'Daily Log'!$U$18:$U$1017),0)","v":7},{"$f":"IFERROR($E114*SUMIF('Daily Log'!$W$18:$W$1017,$B114,'Daily Log'!$X$18:$X$1017),0)","v":9},{"$f":"IFERROR($E114*SUMIF('Daily Log'!$Z$18:$Z$1017,$B114,'Daily Log'!$AA$18:$AA$1017),0)","v":28},{"$f":"IFERROR($E114*SUMIF('Daily Log'!$AC$18:$AC$1017,$B114,'Daily Log'!$AD$18:$AD$1017),0)","v":42},{"$f":"IFERROR($E114*SUMIF('Daily Log'!$AF$18:$AF$1017,$B114,'Daily Log'!$AG$18:$AG$1017),0)","v":36},{"$f":"IFERROR($E114*SUMIF('Daily Log'!$AI$18:$AI$1017,$B114,'Daily Log'!$AJ$18:$AJ$1017),0)","v":26},{"$f":"IFERROR($E114*SUMIF('Daily Log'!#REF!,$B114,'Daily Log'!#REF!),0)","v":0},{"$f":"IFERROR($E114*SUMIF('Daily Log'!#REF!,$B114,'Daily Log'!#REF!),0)","v":0},{"$f":"IFERROR($E114*SUMIF('Daily Log'!#REF!,$B114,'Daily Log'!#REF!),0)","v":0},{"$f":"IFERROR($E114*SUMIF('Daily Log'!#REF!,$B114,'Daily Log'!#REF!),0)","v":0},{"$f":"IFERROR($E114*SUMIF('Daily Log'!#REF!,$B114,'Daily Log'!#REF!),0)","v":0},{"$f":"IFERROR($E114*SUMIF('Daily Log'!#REF!,$B114,'Daily Log'!#REF!),0)","v":0},{"$f":"IFERROR($E114*SUMIF('Daily Log'!#REF!,$B114,'Daily Log'!#REF!),0)","v":0},{"$f":"IFERROR($E114*SUMIF('Daily Log'!#REF!,$B114,'Daily Log'!#REF!),0)","v":0},{"$f":"IFERROR($E114*SUMIF('Daily Log'!#REF!,$B114,'Daily Log'!#REF!),0)","v":0},{"$f":"IFERROR($E114*SUMIF('Daily Log'!#REF!,$B114,'Daily Log'!#REF!),0)","v":0},{"$f":"IFERROR($E114*SUMIF('Daily Log'!#REF!,$B114,'Daily Log'!#REF!),0)","v":0},{"$f":"IFERROR($E114*SUMIF('Daily Log'!#REF!,$B114,'Daily Log'!#REF!),0)","v":0},{"$f":"IFERROR($E114*SUMIF('Daily Log'!#REF!,$B114,'Daily Log'!#REF!),0)","v":0},{"$f":"IFERROR($E114*SUMIF('Daily Log'!#REF!,$B114,'Daily Log'!#REF!),0)","v":0},{"$f":"IFERROR($E114*SUMIF('Daily Log'!#REF!,$B114,'Daily Log'!#REF!),0)","v":0},{"$f":"IFERROR($E114*SUMIF('Daily Log'!#REF!,$B114,'Daily Log'!#REF!),0)","v":0},{"$f":"IFERROR($E114*SUMIF('Daily Log'!#REF!,$B114,'Daily Log'!#REF!),0)","v":0},{"$f":"IFERROR($E114*SUMIF('Daily Log'!#REF!,$B114,'Daily Log'!#REF!),0)","v":0},{"$f":"IFERROR($E114*SUMIF('Daily Log'!#REF!,$B114,'Daily Log'!#REF!),0)","v":0}]
[null,"CM01 MILO (C)",null,"FFD-COLD BEVERAGES",1,247,{"$f":"IFERROR($E115*SUMIF('Daily Log'!$B$18:$B$1017,$B115,'Daily Log'!$C$18:$C$1017),0)","v":0},{"$f":"IFERROR($E115*SUMIF('Daily Log'!$E$18:$E$1017,$B115,'Daily Log'!$F$18:$F$1017),0)","v":0},{"$f":"IFERROR($E115*SUMIF('Daily Log'!$H$18:$H$1017,$B115,'Daily Log'!$I$18:$I$1017),0)","v":0},{"$f":"IFERROR($E115*SUMIF('Daily Log'!$K$18:$K$1017,$B115,'Daily Log'!$L$18:$L$1017),0)","v":0},{"$f":"IFERROR($E115*SUMIF('Daily Log'!$N$18:$N$1017,$B115,'Daily Log'!$O$18:$O$1017),0)","v":0},{"$f":"IFERROR($E115*SUMIF('Daily Log'!$Q$18:$Q$1017,$B115,'Daily Log'!$R$18:$R$1017),0)","v":22},{"$f":"IFERROR($E115*SUMIF('Daily Log'!$T$18:$T$1017,$B115,'Daily Log'!$U$18:$U$1017),0)","v":37},{"$f":"IFERROR($E115*SUMIF('Daily Log'!$W$18:$W$1017,$B115,'Daily Log'!$X$18:$X$1017),0)","v":12},{"$f":"IFERROR($E115*SUMIF('Daily Log'!$Z$18:$Z$1017,$B115,'Daily Log'!$AA$18:$AA$1017),0)","v":53},{"$f":"IFERROR($E115*SUMIF('Daily Log'!$AC$18:$AC$1017,$B115,'Daily Log'!$AD$18:$AD$1017),0)","v":56},{"$f":"IFERROR($E115*SUMIF('Daily Log'!$AF$18:$AF$1017,$B115,'Daily Log'!$AG$18:$AG$1017),0)","v":35},{"$f":"IFERROR($E115*SUMIF('Daily Log'!$AI$18:$AI$1017,$B115,'Daily Log'!$AJ$18:$AJ$1017),0)","v":32},{"$f":"IFERROR($E115*SUMIF('Daily Log'!#REF!,$B115,'Daily Log'!#REF!),0)","v":0},{"$f":"IFERROR($E115*SUMIF('Daily Log'!#REF!,$B115,'Daily Log'!#REF!),0)","v":0},{"$f":"IFERROR($E115*SUMIF('Daily Log'!#REF!,$B115,'Daily Log'!#REF!),0)","v":0},{"$f":"IFERROR($E115*SUMIF('Daily Log'!#REF!,$B115,'Daily Log'!#REF!),0)","v":0},{"$f":"IFERROR($E115*SUMIF('Daily Log'!#REF!,$B115,'Daily Log'!#REF!),0)","v":0},{"$f":"IFERROR($E115*SUMIF('Daily Log'!#REF!,$B115,'Daily Log'!#REF!),0)","v":0},{"$f":"IFERROR($E115*SUMIF('Daily Log'!#REF!,$B115,'Daily Log'!#REF!),0)","v":0},{"$f":"IFERROR($E115*SUMIF('Daily Log'!#REF!,$B115,'Daily Log'!#REF!),0)","v":0},{"$f":"IFERROR($E115*SUMIF('Daily Log'!#REF!,$B115,'Daily Log'!#REF!),0)","v":0},{"$f":"IFERROR($E115*SUMIF('Daily Log'!#REF!,$B115,'Daily Log'!#REF!),0)","v":0},{"$f":"IFERROR($E115*SUMIF('Daily Log'!#REF!,$B115,'Daily Log'!#REF!),0)","v":0},{"$f":"IFERROR($E115*SUMIF('Daily Log'!#REF!,$B115,'Daily Log'!#REF!),0)","v":0},{"$f":"IFERROR($E115*SUMIF('Daily Log'!#REF!,$B115,'Daily Log'!#REF!),0)","v":0},{"$f":"IFERROR($E115*SUMIF('Daily Log'!#REF!,$B115,'Daily Log'!#REF!),0)","v":0},{"$f":"IFERROR($E115*SUMIF('Daily Log'!#REF!,$B115,'Daily Log'!#REF!),0)","v":0},{"$f":"IFERROR($E115*SUMIF('Daily Log'!#REF!,$B115,'Daily Log'!#REF!),0)","v":0},{"$f":"IFERROR($E115*SUMIF('Daily Log'!#REF!,$B115,'Daily Log'!#REF!),0)","v":0},{"$f":"IFERROR($E115*SUMIF('Daily Log'!#REF!,$B115,'Daily Log'!#REF!),0)","v":0},{"$f":"IFERROR($E115*SUMIF('Daily Log'!#REF!,$B115,'Daily Log'!#REF!),0)","v":0}]
[null,"CM02 NESCAFE (C)",null,"FFD-COLD BEVERAGES",1,61,{"$f":"IFERROR($E116*SUMIF('Daily Log'!$B$18:$B$1017,$B116,'Daily Log'!$C$18:$C$1017),0)","v":0},{"$f":"IFERROR($E116*SUMIF('Daily Log'!$E$18:$E$1017,$B116,'Daily Log'!$F$18:$F$1017),0)","v":0},{"$f":"IFERROR($E116*SUMIF('Daily Log'!$H$18:$H$1017,$B116,'Daily Log'!$I$18:$I$1017),0)","v":0},{"$f":"IFERROR($E116*SUMIF('Daily Log'!$K$18:$K$1017,$B116,'Daily Log'!$L$18:$L$1017),0)","v":0},{"$f":"IFERROR($E116*SUMIF('Daily Log'!$N$18:$N$1017,$B116,'Daily Log'!$O$18:$O$1017),0)","v":0},{"$f":"IFERROR($E116*SUMIF('Daily Log'!$Q$18:$Q$1017,$B116,'Daily Log'!$R$18:$R$1017),0)","v":6},{"$f":"IFERROR($E116*SUMIF('Daily Log'!$T$18:$T$1017,$B116,'Daily Log'!$U$18:$U$1017),0)","v":7},{"$f":"IFERROR($E116*SUMIF('Daily Log'!$W$18:$W$1017,$B116,'Daily Log'!$X$18:$X$1017),0)","v":4},{"$f":"IFERROR($E116*SUMIF('Daily Log'!$Z$18:$Z$1017,$B116,'Daily Log'!$AA$18:$AA$1017),0)","v":7},{"$f":"IFERROR($E116*SUMIF('Daily Log'!$AC$18:$AC$1017,$B116,'Daily Log'!$AD$18:$AD$1017),0)","v":13},{"$f":"IFERROR($E116*SUMIF('Daily Log'!$AF$18:$AF$1017,$B116,'Daily Log'!$AG$18:$AG$1017),0)","v":16},{"$f":"IFERROR($E116*SUMIF('Daily Log'!$AI$18:$AI$1017,$B116,'Daily Log'!$AJ$18:$AJ$1017),0)","v":8},{"$f":"IFERROR($E116*SUMIF('Daily Log'!#REF!,$B116,'Daily Log'!#REF!),0)","v":0},{"$f":"IFERROR($E116*SUMIF('Daily Log'!#REF!,$B116,'Daily Log'!#REF!),0)","v":0},{"$f":"IFERROR($E116*SUMIF('Daily Log'!#REF!,$B116,'Daily Log'!#REF!),0)","v":0},{"$f":"IFERROR($E116*SUMIF('Daily Log'!#REF!,$B116,'Daily Log'!#REF!),0)","v":0},{"$f":"IFERROR($E116*SUMIF('Daily Log'!#REF!,$B116,'Daily Log'!#REF!),0)","v":0},{"$f":"IFERROR($E116*SUMIF('Daily Log'!#REF!,$B116,'Daily Log'!#REF!),0)","v":0},{"$f":"IFERROR($E116*SUMIF('Daily Log'!#REF!,$B116,'Daily Log'!#REF!),0)","v":0},{"$f":"IFERROR($E116*SUMIF('Daily Log'!#REF!,$B116,'Daily Log'!#REF!),0)","v":0},{"$f":"IFERROR($E116*SUMIF('Daily Log'!#REF!,$B116,'Daily Log'!#REF!),0)","v":0},{"$f":"IFERROR($E116*SUMIF('Daily Log'!#REF!,$B116,'Daily Log'!#REF!),0)","v":0},{"$f":"IFERROR($E116*SUMIF('Daily Log'!#REF!,$B116,'Daily Log'!#REF!),0)","v":0},{"$f":"IFERROR($E116*SUMIF('Daily Log'!#REF!,$B116,'Daily Log'!#REF!),0)","v":0},{"$f":"IFERROR($E116*SUMIF('Daily Log'!#REF!,$B116,'Daily Log'!#REF!),0)","v":0},{"$f":"IFERROR($E116*SUMIF('Daily Log'!#REF!,$B116,'Daily Log'!#REF!),0)","v":0},{"$f":"IFERROR($E116*SUMIF('Daily Log'!#REF!,$B116,'Daily Log'!#REF!),0)","v":0},{"$f":"IFERROR($E116*SUMIF('Daily Log'!#REF!,$B116,'Daily Log'!#REF!),0)","v":0},{"$f":"IFERROR($E116*SUMIF('Daily Log'!#REF!,$B116,'Daily Log'!#REF!),0)","v":0},{"$f":"IFERROR($E116*SUMIF('Daily Log'!#REF!,$B116,'Daily Log'!#REF!),0)","v":0},{"$f":"IFERROR($E116*SUMIF('Daily Log'!#REF!,$B116,'Daily Log'!#REF!),0)","v":0}]
[null,"CM03 TEA (C)",null,"FFD-COLD BEVERAGES",1,59,{"$f":"IFERROR($E117*SUMIF('Daily Log'!$B$18:$B$1017,$B117,'Daily Log'!$C$18:$C$1017),0)","v":0},{"$f":"IFERROR($E117*SUMIF('Daily Log'!$E$18:$E$1017,$B117,'Daily Log'!$F$18:$F$1017),0)","v":0},{"$f":"IFERROR($E117*SUMIF('Daily Log'!$H$18:$H$1017,$B117,'Daily Log'!$I$18:$I$1017),0)","v":0},{"$f":"IFERROR($E117*SUMIF('Daily Log'!$K$18:$K$1017,$B117,'Daily Log'!$L$18:$L$1017),0)","v":0},{"$f":"IFERROR($E117*SUMIF('Daily Log'!$N$18:$N$1017,$B117,'Daily Log'!$O$18:$O$1017),0)","v":0},{"$f":"IFERROR($E117*SUMIF('Daily Log'!$Q$18:$Q$1017,$B117,'Daily Log'!$R$18:$R$1017),0)","v":5},{"$f":"IFERROR($E117*SUMIF('Daily Log'!$T$18:$T$1017,$B117,'Daily Log'!$U$18:$U$1017),0)","v":8},{"$f":"IFERROR($E117*SUMIF('Daily Log'!$W$18:$W$1017,$B117,'Daily Log'!$X$18:$X$1017),0)","v":8},{"$f":"IFERROR($E117*SUMIF('Daily Log'!$Z$18:$Z$1017,$B117,'Daily Log'!$AA$18:$AA$1017),0)","v":6},{"$f":"IFERROR($E117*SUMIF('Daily Log'!$AC$18:$AC$1017,$B117,'Daily Log'!$AD$18:$AD$1017),0)","v":14},{"$f":"IFERROR($E117*SUMIF('Daily Log'!$AF$18:$AF$1017,$B117,'Daily Log'!$AG$18:$AG$1017),0)","v":8},{"$f":"IFERROR($E117*SUMIF('Daily Log'!$AI$18:$AI$1017,$B117,'Daily Log'!$AJ$18:$AJ$1017),0)","v":10},{"$f":"IFERROR($E117*SUMIF('Daily Log'!#REF!,$B117,'Daily Log'!#REF!),0)","v":0},{"$f":"IFERROR($E117*SUMIF('Daily Log'!#REF!,$B117,'Daily Log'!#REF!),0)","v":0},{"$f":"IFERROR($E117*SUMIF('Daily Log'!#REF!,$B117,'Daily Log'!#REF!),0)","v":0},{"$f":"IFERROR($E117*SUMIF('Daily Log'!#REF!,$B117,'Daily Log'!#REF!),0)","v":0},{"$f":"IFERROR($E117*SUMIF('Daily Log'!#REF!,$B117,'Daily Log'!#REF!),0)","v":0},{"$f":"IFERROR($E117*SUMIF('Daily Log'!#REF!,$B117,'Daily Log'!#REF!),0)","v":0},{"$f":"IFERROR($E117*SUMIF('Daily Log'!#REF!,$B117,'Daily Log'!#REF!),0)","v":0},{"$f":"IFERROR($E117*SUMIF('Daily Log'!#REF!,$B117,'Daily Log'!#REF!),0)","v":0},{"$f":"IFERROR($E117*SUMIF('Daily Log'!#REF!,$B117,'Daily Log'!#REF!),0)","v":0},{"$f":"IFERROR($E117*SUMIF('Daily Log'!#REF!,$B117,'Daily Log'!#REF!),0)","v":0},{"$f":"IFERROR($E117*SUMIF('Daily Log'!#REF!,$B117,'Daily Log'!#REF!),0)","v":0},{"$f":"IFERROR($E117*SUMIF('Daily Log'!#REF!,$B117,'Daily Log'!#REF!),0)","v":0},{"$f":"IFERROR($E117*SUMIF('Daily Log'!#REF!,$B117,'Daily Log'!#REF!),0)","v":0},{"$f":"IFERROR($E117*SUMIF('Daily Log'!#REF!,$B117,'Daily Log'!#REF!),0)","v":0},{"$f":"IFERROR($E117*SUMIF('Daily Log'!#REF!,$B117,'Daily Log'!#REF!),0)","v":0},{"$f":"IFERROR($E117*SUMIF('Daily Log'!#REF!,$B117,'Daily Log'!#REF!),0)","v":0},{"$f":"IFERROR($E117*SUMIF('Daily Log'!#REF!,$B117,'Daily Log'!#REF!),0)","v":0},{"$f":"IFERROR($E117*SUMIF('Daily Log'!#REF!,$B117,'Daily Log'!#REF!),0)","v":0},{"$f":"IFERROR($E117*SUMIF('Daily Log'!#REF!,$B117,'Daily Log'!#REF!),0)","v":0}]
[null,"CM04 LEMON TEA (C)",null,"FFD-COLD BEVERAGES",1,259,{"$f":"IFERROR($E118*SUMIF('Daily Log'!$B$18:$B$1017,$B118,'Daily Log'!$C$18:$C$1017),0)","v":0},{"$f":"IFERROR($E118*SUMIF('Daily Log'!$E$18:$E$1017,$B118,'Daily Log'!$F$18:$F$1017),0)","v":0},{"$f":"IFERROR($E118*SUMIF('Daily Log'!$H$18:$H$1017,$B118,'Daily Log'!$I$18:$I$1017),0)","v":0},{"$f":"IFERROR($E118*SUMIF('Daily Log'!$K$18:$K$1017,$B118,'Daily Log'!$L$18:$L$1017),0)","v":0},{"$f":"IFERROR($E118*SUMIF('Daily Log'!$N$18:$N$1017,$B118,'Daily Log'!$O$18:$O$1017),0)","v":0},{"$f":"IFERROR($E118*SUMIF('Daily Log'!$Q$18:$Q$1017,$B118,'Daily Log'!$R$18:$R$1017),0)","v":26},{"$f":"IFERROR($E118*SUMIF('Daily Log'!$T$18:$T$1017,$B118,'Daily Log'!$U$18:$U$1017),0)","v":21},{"$f":"IFERROR($E118*SUMIF('Daily Log'!$W$18:$W$1017,$B118,'Daily Log'!$X$18:$X$1017),0)","v":10},{"$f":"IFERROR($E118*SUMIF('Daily Log'!$Z$18:$Z$1017,$B118,'Daily Log'!$AA$18:$AA$1017),0)","v":44},{"$f":"IFERROR($E118*SUMIF('Daily Log'!$AC$18:$AC$1017,$B118,'Daily Log'!$AD$18:$AD$1017),0)","v":59},{"$f":"IFERROR($E118*SUMIF('Daily Log'!$AF$18:$AF$1017,$B118,'Daily Log'!$AG$18:$AG$1017),0)","v":73},{"$f":"IFERROR($E118*SUMIF('Daily Log'!$AI$18:$AI$1017,$B118,'Daily Log'!$AJ$18:$AJ$1017),0)","v":26},{"$f":"IFERROR($E118*SUMIF('Daily Log'!#REF!,$B118,'Daily Log'!#REF!),0)","v":0},{"$f":"IFERROR($E118*SUMIF('Daily Log'!#REF!,$B118,'Daily Log'!#REF!),0)","v":0},{"$f":"IFERROR($E118*SUMIF('Daily Log'!#REF!,$B118,'Daily Log'!#REF!),0)","v":0},{"$f":"IFERROR($E118*SUMIF('Daily Log'!#REF!,$B118,'Daily Log'!#REF!),0)","v":0},{"$f":"IFERROR($E118*SUMIF('Daily Log'!#REF!,$B118,'Daily Log'!#REF!),0)","v":0},{"$f":"IFERROR($E118*SUMIF('Daily Log'!#REF!,$B118,'Daily Log'!#REF!),0)","v":0},{"$f":"IFERROR($E118*SUMIF('Daily Log'!#REF!,$B118,'Daily Log'!#REF!),0)","v":0},{"$f":"IFERROR($E118*SUMIF('Daily Log'!#REF!,$B118,'Daily Log'!#REF!),0)","v":0},{"$f":"IFERROR($E118*SUMIF('Daily Log'!#REF!,$B118,'Daily Log'!#REF!),0)","v":0},{"$f":"IFERROR($E118*SUMIF('Daily Log'!#REF!,$B118,'Daily Log'!#REF!),0)","v":0},{"$f":"IFERROR($E118*SUMIF('Daily Log'!#REF!,$B118,'Daily Log'!#REF!),0)","v":0},{"$f":"IFERROR($E118*SUMIF('Daily Log'!#REF!,$B118,'Daily Log'!#REF!),0)","v":0},{"$f":"IFERROR($E118*SUMIF('Daily Log'!#REF!,$B118,'Daily Log'!#REF!),0)","v":0},{"$f":"IFERROR($E118*SUMIF('Daily Log'!#REF!,$B118,'Daily Log'!#REF!),0)","v":0},{"$f":"IFERROR($E118*SUMIF('Daily Log'!#REF!,$B118,'Daily Log'!#REF!),0)","v":0},{"$f":"IFERROR($E118*SUMIF('Daily Log'!#REF!,$B118,'Daily Log'!#REF!),0)","v":0},{"$f":"IFERROR($E118*SUMIF('Daily Log'!#REF!,$B118,'Daily Log'!#REF!),0)","v":0},{"$f":"IFERROR($E118*SUMIF('Daily Log'!#REF!,$B118,'Daily Log'!#REF!),0)","v":0},{"$f":"IFERROR($E118*SUMIF('Daily Log'!#REF!,$B118,'Daily Log'!#REF!),0)","v":0}]
[null,"CM05 GRN TEA (C)",null,"FFD-COLD BEVERAGES",1,276,{"$f":"IFERROR($E119*SUMIF('Daily Log'!$B$18:$B$1017,$B119,'Daily Log'!$C$18:$C$1017),0)","v":0},{"$f":"IFERROR($E119*SUMIF('Daily Log'!$E$18:$E$1017,$B119,'Daily Log'!$F$18:$F$1017),0)","v":0},{"$f":"IFERROR($E119*SUMIF('Daily Log'!$H$18:$H$1017,$B119,'Daily Log'!$I$18:$I$1017),0)","v":0},{"$f":"IFERROR($E119*SUMIF('Daily Log'!$K$18:$K$1017,$B119,'Daily Log'!$L$18:$L$1017),0)","v":0},{"$f":"IFERROR($E119*SUMIF('Daily Log'!$N$18:$N$1017,$B119,'Daily Log'!$O$18:$O$1017),0)","v":0},{"$f":"IFERROR($E119*SUMIF('Daily Log'!$Q$18:$Q$1017,$B119,'Daily Log'!$R$18:$R$1017),0)","v":25},{"$f":"IFERROR($E119*SUMIF('Daily Log'!$T$18:$T$1017,$B119,'Daily Log'!$U$18:$U$1017),0)","v":23},{"$f":"IFERROR($E119*SUMIF('Daily Log'!$W$18:$W$1017,$B119,'Daily Log'!$X$18:$X$1017),0)","v":25},{"$f":"IFERROR($E119*SUMIF('Daily Log'!$Z$18:$Z$1017,$B119,'Daily Log'!$AA$18:$AA$1017),0)","v":27},{"$f":"IFERROR($E119*SUMIF('Daily Log'!$AC$18:$AC$1017,$B119,'Daily Log'!$AD$18:$AD$1017),0)","v":55},{"$f":"IFERROR($E119*SUMIF('Daily Log'!$AF$18:$AF$1017,$B119,'Daily Log'!$AG$18:$AG$1017),0)","v":64},{"$f":"IFERROR($E119*SUMIF('Daily Log'!$AI$18:$AI$1017,$B119,'Daily Log'!$AJ$18:$AJ$1017),0)","v":57},{"$f":"IFERROR($E119*SUMIF('Daily Log'!#REF!,$B119,'Daily Log'!#REF!),0)","v":0},{"$f":"IFERROR($E119*SUMIF('Daily Log'!#REF!,$B119,'Daily Log'!#REF!),0)","v":0},{"$f":"IFERROR($E119*SUMIF('Daily Log'!#REF!,$B119,'Daily Log'!#REF!),0)","v":0},{"$f":"IFERROR($E119*SUMIF('Daily Log'!#REF!,$B119,'Daily Log'!#REF!),0)","v":0},{"$f":"IFERROR($E119*SUMIF('Daily Log'!#REF!,$B119,'Daily Log'!#REF!),0)","v":0},{"$f":"IFERROR($E119*SUMIF('Daily Log'!#REF!,$B119,'Daily Log'!#REF!),0)","v":0},{"$f":"IFERROR($E119*SUMIF('Daily Log'!#REF!,$B119,'Daily Log'!#REF!),0)","v":0},{"$f":"IFERROR($E119*SUMIF('Daily Log'!#REF!,$B119,'Daily Log'!#REF!),0)","v":0},{"$f":"IFERROR($E119*SUMIF('Daily Log'!#REF!,$B119,'Daily Log'!#REF!),0)","v":0},{"$f":"IFERROR($E119*SUMIF('Daily Log'!#REF!,$B119,'Daily Log'!#REF!),0)","v":0},{"$f":"IFERROR($E119*SUMIF('Daily Log'!#REF!,$B119,'Daily Log'!#REF!),0)","v":0},{"$f":"IFERROR($E119*SUMIF('Daily Log'!#REF!,$B119,'Daily Log'!#REF!),0)","v":0},{"$f":"IFERROR($E119*SUMIF('Daily Log'!#REF!,$B119,'Daily Log'!#REF!),0)","v":0},{"$f":"IFERROR($E119*SUMIF('Daily Log'!#REF!,$B119,'Daily Log'!#REF!),0)","v":0},{"$f":"IFERROR($E119*SUMIF('Daily Log'!#REF!,$B119,'Daily Log'!#REF!),0)","v":0},{"$f":"IFERROR($E119*SUMIF('Daily Log'!#REF!,$B119,'Daily Log'!#REF!),0)","v":0},{"$f":"IFERROR($E119*SUMIF('Daily Log'!#REF!,$B119,'Daily Log'!#REF!),0)","v":0},{"$f":"IFERROR($E119*SUMIF('Daily Log'!#REF!,$B119,'Daily Log'!#REF!),0)","v":0},{"$f":"IFERROR($E119*SUMIF('Daily Log'!#REF!,$B119,'Daily Log'!#REF!),0)","v":0}]
[null,"CM06 HNY GRN TEA (C)",null,"FFD-COLD BEVERAGES",1,366,{"$f":"IFERROR($E120*SUMIF('Daily Log'!$B$18:$B$1017,$B120,'Daily Log'!$C$18:$C$1017),0)","v":0},{"$f":"IFERROR($E120*SUMIF('Daily Log'!$E$18:$E$1017,$B120,'Daily Log'!$F$18:$F$1017),0)","v":0},{"$f":"IFERROR($E120*SUMIF('Daily Log'!$H$18:$H$1017,$B120,'Daily Log'!$I$18:$I$1017),0)","v":0},{"$f":"IFERROR($E120*SUMIF('Daily Log'!$K$18:$K$1017,$B120,'Daily Log'!$L$18:$L$1017),0)","v":0},{"$f":"IFERROR($E120*SUMIF('Daily Log'!$N$18:$N$1017,$B120,'Daily Log'!$O$18:$O$1017),0)","v":0},{"$f":"IFERROR($E120*SUMIF('Daily Log'!$Q$18:$Q$1017,$B120,'Daily Log'!$R$18:$R$1017),0)","v":26},{"$f":"IFERROR($E120*SUMIF('Daily Log'!$T$18:$T$1017,$B120,'Daily Log'!$U$18:$U$1017),0)","v":37},{"$f":"IFERROR($E120*SUMIF('Daily Log'!$W$18:$W$1017,$B120,'Daily Log'!$X$18:$X$1017),0)","v":20},{"$f":"IFERROR($E120*SUMIF('Daily Log'!$Z$18:$Z$1017,$B120,'Daily Log'!$AA$18:$AA$1017),0)","v":57},{"$f":"IFERROR($E120*SUMIF('Daily Log'!$AC$18:$AC$1017,$B120,'Daily Log'!$AD$18:$AD$1017),0)","v":86},{"$f":"IFERROR($E120*SUMIF('Daily Log'!$AF$18:$AF$1017,$B120,'Daily Log'!$AG$18:$AG$1017),0)","v":80},{"$f":"IFERROR($E120*SUMIF('Daily Log'!$AI$18:$AI$1017,$B120,'Daily Log'!$AJ$18:$AJ$1017),0)","v":60},{"$f":"IFERROR($E120*SUMIF('Daily Log'!#REF!,$B120,'Daily Log'!#REF!),0)","v":0},{"$f":"IFERROR($E120*SUMIF('Daily Log'!#REF!,$B120,'Daily Log'!#REF!),0)","v":0},{"$f":"IFERROR($E120*SUMIF('Daily Log'!#REF!,$B120,'Daily Log'!#REF!),0)","v":0},{"$f":"IFERROR($E120*SUMIF('Daily Log'!#REF!,$B120,'Daily Log'!#REF!),0)","v":0},{"$f":"IFERROR($E120*SUMIF('Daily Log'!#REF!,$B120,'Daily Log'!#REF!),0)","v":0},{"$f":"IFERROR($E120*SUMIF('Daily Log'!#REF!,$B120,'Daily Log'!#REF!),0)","v":0},{"$f":"IFERROR($E120*SUMIF('Daily Log'!#REF!,$B120,'Daily Log'!#REF!),0)","v":0},{"$f":"IFERROR($E120*SUMIF('Daily Log'!#REF!,$B120,'Daily Log'!#REF!),0)","v":0},{"$f":"IFERROR($E120*SUMIF('Daily Log'!#REF!,$B120,'Daily Log'!#REF!),0)","v":0},{"$f":"IFERROR($E120*SUMIF('Daily Log'!#REF!,$B120,'Daily Log'!#REF!),0)","v":0},{"$f":"IFERROR($E120*SUMIF('Daily Log'!#REF!,$B120,'Daily Log'!#REF!),0)","v":0},{"$f":"IFERROR($E120*SUMIF('Daily Log'!#REF!,$B120,'Daily Log'!#REF!),0)","v":0},{"$f":"IFERROR($E120*SUMIF('Daily Log'!#REF!,$B120,'Daily Log'!#REF!),0)","v":0},{"$f":"IFERROR($E120*SUMIF('Daily Log'!#REF!,$B120,'Daily Log'!#REF!),0)","v":0},{"$f":"IFERROR($E120*SUMIF('Daily Log'!#REF!,$B120,'Daily Log'!#REF!),0)","v":0},{"$f":"IFERROR($E120*SUMIF('Daily Log'!#REF!,$B120,'Daily Log'!#REF!),0)","v":0},{"$f":"IFERROR($E120*SUMIF('Daily Log'!#REF!,$B120,'Daily Log'!#REF!),0)","v":0},{"$f":"IFERROR($E120*SUMIF('Daily Log'!#REF!,$B120,'Daily Log'!#REF!),0)","v":0},{"$f":"IFERROR($E120*SUMIF('Daily Log'!#REF!,$B120,'Daily Log'!#REF!),0)","v":0}]
[null,"CM07 HONEY (C)",null,"FFD-COLD BEVERAGES",1,114,{"$f":"IFERROR($E121*SUMIF('Daily Log'!$B$18:$B$1017,$B121,'Daily Log'!$C$18:$C$1017),0)","v":0},{"$f":"IFERROR($E121*SUMIF('Daily Log'!$E$18:$E$1017,$B121,'Daily Log'!$F$18:$F$1017),0)","v":0},{"$f":"IFERROR($E121*SUMIF('Daily Log'!$H$18:$H$1017,$B121,'Daily Log'!$I$18:$I$1017),0)","v":0},{"$f":"IFERROR($E121*SUMIF('Daily Log'!$K$18:$K$1017,$B121,'Daily Log'!$L$18:$L$1017),0)","v":0},{"$f":"IFERROR($E121*SUMIF('Daily Log'!$N$18:$N$1017,$B121,'Daily Log'!$O$18:$O$1017),0)","v":0},{"$f":"IFERROR($E121*SUMIF('Daily Log'!$Q$18:$Q$1017,$B121,'Daily Log'!$R$18:$R$1017),0)","v":16},{"$f":"IFERROR($E121*SUMIF('Daily Log'!$T$18:$T$1017,$B121,'Daily Log'!$U$18:$U$1017),0)","v":12},{"$f":"IFERROR($E121*SUMIF('Daily Log'!$W$18:$W$1017,$B121,'Daily Log'!$X$18:$X$1017),0)","v":6},{"$f":"IFERROR($E121*SUMIF('Daily Log'!$Z$18:$Z$1017,$B121,'Daily Log'!$AA$18:$AA$1017),0)","v":17},{"$f":"IFERROR($E121*SUMIF('Daily Log'!$AC$18:$AC$1017,$B121,'Daily Log'!$AD$18:$AD$1017),0)","v":25},{"$f":"IFERROR($E121*SUMIF('Daily Log'!$AF$18:$AF$1017,$B121,'Daily Log'!$AG$18:$AG$1017),0)","v":17},{"$f":"IFERROR($E121*SUMIF('Daily Log'!$AI$18:$AI$1017,$B121,'Daily Log'!$AJ$18:$AJ$1017),0)","v":21},{"$f":"IFERROR($E121*SUMIF('Daily Log'!#REF!,$B121,'Daily Log'!#REF!),0)","v":0},{"$f":"IFERROR($E121*SUMIF('Daily Log'!#REF!,$B121,'Daily Log'!#REF!),0)","v":0},{"$f":"IFERROR($E121*SUMIF('Daily Log'!#REF!,$B121,'Daily Log'!#REF!),0)","v":0},{"$f":"IFERROR($E121*SUMIF('Daily Log'!#REF!,$B121,'Daily Log'!#REF!),0)","v":0},{"$f":"IFERROR($E121*SUMIF('Daily Log'!#REF!,$B121,'Daily Log'!#REF!),0)","v":0},{"$f":"IFERROR($E121*SUMIF('Daily Log'!#REF!,$B121,'Daily Log'!#REF!),0)","v":0},{"$f":"IFERROR($E121*SUMIF('Daily Log'!#REF!,$B121,'Daily Log'!#REF!),0)","v":0},{"$f":"IFERROR($E121*SUMIF('Daily Log'!#REF!,$B121,'Daily Log'!#REF!),0)","v":0},{"$f":"IFERROR($E121*SUMIF('Daily Log'!#REF!,$B121,'Daily Log'!#REF!),0)","v":0},{"$f":"IFERROR($E121*SUMIF('Daily Log'!#REF!,$B121,'Daily Log'!#REF!),0)","v":0},{"$f":"IFERROR($E121*SUMIF('Daily Log'!#REF!,$B121,'Daily Log'!#REF!),0)","v":0},{"$f":"IFERROR($E121*SUMIF('Daily Log'!#REF!,$B121,'Daily Log'!#REF!),0)","v":0},{"$f":"IFERROR($E121*SUMIF('Daily Log'!#REF!,$B121,'Daily Log'!#REF!),0)","v":0},{"$f":"IFERROR($E121*SUMIF('Daily Log'!#REF!,$B121,'Daily Log'!#REF!),0)","v":0},{"$f":"IFERROR($E121*SUMIF('Daily Log'!#REF!,$B121,'Daily Log'!#REF!),0)","v":0},{"$f":"IFERROR($E121*SUMIF('Daily Log'!#REF!,$B121,'Daily Log'!#REF!),0)","v":0},{"$f":"IFERROR($E121*SUMIF('Daily Log'!#REF!,$B121,'Daily Log'!#REF!),0)","v":0},{"$f":"IFERROR($E121*SUMIF('Daily Log'!#REF!,$B121,'Daily Log'!#REF!),0)","v":0},{"$f":"IFERROR($E121*SUMIF('Daily Log'!#REF!,$B121,'Daily Log'!#REF!),0)","v":0}]
[null,"CM08 LEMON HONEY (C)",null,"FFD-COLD BEVERAGES",1,564,{"$f":"IFERROR($E122*SUMIF('Daily Log'!$B$18:$B$1017,$B122,'Daily Log'!$C$18:$C$1017),0)","v":0},{"$f":"IFERROR($E122*SUMIF('Daily Log'!$E$18:$E$1017,$B122,'Daily Log'!$F$18:$F$1017),0)","v":0},{"$f":"IFERROR($E122*SUMIF('Daily Log'!$H$18:$H$1017,$B122,'Daily Log'!$I$18:$I$1017),0)","v":0},{"$f":"IFERROR($E122*SUMIF('Daily Log'!$K$18:$K$1017,$B122,'Daily Log'!$L$18:$L$1017),0)","v":0},{"$f":"IFERROR($E122*SUMIF('Daily Log'!$N$18:$N$1017,$B122,'Daily Log'!$O$18:$O$1017),0)","v":0},{"$f":"IFERROR($E122*SUMIF('Daily Log'!$Q$18:$Q$1017,$B122,'Daily Log'!$R$18:$R$1017),0)","v":49},{"$f":"IFERROR($E122*SUMIF('Daily Log'!$T$18:$T$1017,$B122,'Daily Log'!$U$18:$U$1017),0)","v":52},{"$f":"IFERROR($E122*SUMIF('Daily Log'!$W$18:$W$1017,$B122,'Daily Log'!$X$18:$X$1017),0)","v":56},{"$f":"IFERROR($E122*SUMIF('Daily Log'!$Z$18:$Z$1017,$B122,'Daily Log'!$AA$18:$AA$1017),0)","v":85},{"$f":"IFERROR($E122*SUMIF('Daily Log'!$AC$18:$AC$1017,$B122,'Daily Log'!$AD$18:$AD$1017),0)","v":135},{"$f":"IFERROR($E122*SUMIF('Daily Log'!$AF$18:$AF$1017,$B122,'Daily Log'!$AG$18:$AG$1017),0)","v":92},{"$f":"IFERROR($E122*SUMIF('Daily Log'!$AI$18:$AI$1017,$B122,'Daily Log'!$AJ$18:$AJ$1017),0)","v":95},{"$f":"IFERROR($E122*SUMIF('Daily Log'!#REF!,$B122,'Daily Log'!#REF!),0)","v":0},{"$f":"IFERROR($E122*SUMIF('Daily Log'!#REF!,$B122,'Daily Log'!#REF!),0)","v":0},{"$f":"IFERROR($E122*SUMIF('Daily Log'!#REF!,$B122,'Daily Log'!#REF!),0)","v":0},{"$f":"IFERROR($E122*SUMIF('Daily Log'!#REF!,$B122,'Daily Log'!#REF!),0)","v":0},{"$f":"IFERROR($E122*SUMIF('Daily Log'!#REF!,$B122,'Daily Log'!#REF!),0)","v":0},{"$f":"IFERROR($E122*SUMIF('Daily Log'!#REF!,$B122,'Daily Log'!#REF!),0)","v":0},{"$f":"IFERROR($E122*SUMIF('Daily Log'!#REF!,$B122,'Daily Log'!#REF!),0)","v":0},{"$f":"IFERROR($E122*SUMIF('Daily Log'!#REF!,$B122,'Daily Log'!#REF!),0)","v":0},{"$f":"IFERROR($E122*SUMIF('Daily Log'!#REF!,$B122,'Daily Log'!#REF!),0)","v":0},{"$f":"IFERROR($E122*SUMIF('Daily Log'!#REF!,$B122,'Daily Log'!#REF!),0)","v":0},{"$f":"IFERROR($E122*SUMIF('Daily Log'!#REF!,$B122,'Daily Log'!#REF!),0)","v":0},{"$f":"IFERROR($E122*SUMIF('Daily Log'!#REF!,$B122,'Daily Log'!#REF!),0)","v":0},{"$f":"IFERROR($E122*SUMIF('Daily Log'!#REF!,$B122,'Daily Log'!#REF!),0)","v":0},{"$f":"IFERROR($E122*SUMIF('Daily Log'!#REF!,$B122,'Daily Log'!#REF!),0)","v":0},{"$f":"IFERROR($E122*SUMIF('Daily Log'!#REF!,$B122,'Daily Log'!#REF!),0)","v":0},{"$f":"IFERROR($E122*SUMIF('Daily Log'!#REF!,$B122,'Daily Log'!#REF!),0)","v":0},{"$f":"IFERROR($E122*SUMIF('Daily Log'!#REF!,$B122,'Daily Log'!#REF!),0)","v":0},{"$f":"IFERROR($E122*SUMIF('Daily Log'!#REF!,$B122,'Daily Log'!#REF!),0)","v":0},{"$f":"IFERROR($E122*SUMIF('Daily Log'!#REF!,$B122,'Daily Log'!#REF!),0)","v":0}]
[null,"CN01 MILO (H)",null,"FFD-HOT BEVERAGES",1,157,{"$f":"IFERROR($E123*SUMIF('Daily Log'!$B$18:$B$1017,$B123,'Daily Log'!$C$18:$C$1017),0)","v":0},{"$f":"IFERROR($E123*SUMIF('Daily Log'!$E$18:$E$1017,$B123,'Daily Log'!$F$18:$F$1017),0)","v":0},{"$f":"IFERROR($E123*SUMIF('Daily Log'!$H$18:$H$1017,$B123,'Daily Log'!$I$18:$I$1017),0)","v":0},{"$f":"IFERROR($E123*SUMIF('Daily Log'!$K$18:$K$1017,$B123,'Daily Log'!$L$18:$L$1017),0)","v":0},{"$f":"IFERROR($E123*SUMIF('Daily Log'!$N$18:$N$1017,$B123,'Daily Log'!$O$18:$O$1017),0)","v":0},{"$f":"IFERROR($E123*SUMIF('Daily Log'!$Q$18:$Q$1017,$B123,'Daily Log'!$R$18:$R$1017),0)","v":20},{"$f":"IFERROR($E123*SUMIF('Daily Log'!$T$18:$T$1017,$B123,'Daily Log'!$U$18:$U$1017),0)","v":8},{"$f":"IFERROR($E123*SUMIF('Daily Log'!$W$18:$W$1017,$B123,'Daily Log'!$X$18:$X$1017),0)","v":9},{"$f":"IFERROR($E123*SUMIF('Daily Log'!$Z$18:$Z$1017,$B123,'Daily Log'!$AA$18:$AA$1017),0)","v":16},{"$f":"IFERROR($E123*SUMIF('Daily Log'!$AC$18:$AC$1017,$B123,'Daily Log'!$AD$18:$AD$1017),0)","v":33},{"$f":"IFERROR($E123*SUMIF('Daily Log'!$AF$18:$AF$1017,$B123,'Daily Log'!$AG$18:$AG$1017),0)","v":54},{"$f":"IFERROR($E123*SUMIF('Daily Log'!$AI$18:$AI$1017,$B123,'Daily Log'!$AJ$18:$AJ$1017),0)","v":17},{"$f":"IFERROR($E123*SUMIF('Daily Log'!#REF!,$B123,'Daily Log'!#REF!),0)","v":0},{"$f":"IFERROR($E123*SUMIF('Daily Log'!#REF!,$B123,'Daily Log'!#REF!),0)","v":0},{"$f":"IFERROR($E123*SUMIF('Daily Log'!#REF!,$B123,'Daily Log'!#REF!),0)","v":0},{"$f":"IFERROR($E123*SUMIF('Daily Log'!#REF!,$B123,'Daily Log'!#REF!),0)","v":0},{"$f":"IFERROR($E123*SUMIF('Daily Log'!#REF!,$B123,'Daily Log'!#REF!),0)","v":0},{"$f":"IFERROR($E123*SUMIF('Daily Log'!#REF!,$B123,'Daily Log'!#REF!),0)","v":0},{"$f":"IFERROR($E123*SUMIF('Daily Log'!#REF!,$B123,'Daily Log'!#REF!),0)","v":0},{"$f":"IFERROR($E123*SUMIF('Daily Log'!#REF!,$B123,'Daily Log'!#REF!),0)","v":0},{"$f":"IFERROR($E123*SUMIF('Daily Log'!#REF!,$B123,'Daily Log'!#REF!),0)","v":0},{"$f":"IFERROR($E123*SUMIF('Daily Log'!#REF!,$B123,'Daily Log'!#REF!),0)","v":0},{"$f":"IFERROR($E123*SUMIF('Daily Log'!#REF!,$B123,'Daily Log'!#REF!),0)","v":0},{"$f":"IFERROR($E123*SUMIF('Daily Log'!#REF!,$B123,'Daily Log'!#REF!),0)","v":0},{"$f":"IFERROR($E123*SUMIF('Daily Log'!#REF!,$B123,'Daily Log'!#REF!),0)","v":0},{"$f":"IFERROR($E123*SUMIF('Daily Log'!#REF!,$B123,'Daily Log'!#REF!),0)","v":0},{"$f":"IFERROR($E123*SUMIF('Daily Log'!#REF!,$B123,'Daily Log'!#REF!),0)","v":0},{"$f":"IFERROR($E123*SUMIF('Daily Log'!#REF!,$B123,'Daily Log'!#REF!),0)","v":0},{"$f":"IFERROR($E123*SUMIF('Daily Log'!#REF!,$B123,'Daily Log'!#REF!),0)","v":0},{"$f":"IFERROR($E123*SUMIF('Daily Log'!#REF!,$B123,'Daily Log'!#REF!),0)","v":0},{"$f":"IFERROR($E123*SUMIF('Daily Log'!#REF!,$B123,'Daily Log'!#REF!),0)","v":0}]
[null,"CN02 NESCAFE (H)",null,"FFD-HOT BEVERAGES",1,44,{"$f":"IFERROR($E124*SUMIF('Daily Log'!$B$18:$B$1017,$B124,'Daily Log'!$C$18:$C$1017),0)","v":0},{"$f":"IFERROR($E124*SUMIF('Daily Log'!$E$18:$E$1017,$B124,'Daily Log'!$F$18:$F$1017),0)","v":0},{"$f":"IFERROR($E124*SUMIF('Daily Log'!$H$18:$H$1017,$B124,'Daily Log'!$I$18:$I$1017),0)","v":0},{"$f":"IFERROR($E124*SUMIF('Daily Log'!$K$18:$K$1017,$B124,'Daily Log'!$L$18:$L$1017),0)","v":0},{"$f":"IFERROR($E124*SUMIF('Daily Log'!$N$18:$N$1017,$B124,'Daily Log'!$O$18:$O$1017),0)","v":0},{"$f":"IFERROR($E124*SUMIF('Daily Log'!$Q$18:$Q$1017,$B124,'Daily Log'!$R$18:$R$1017),0)","v":3},{"$f":"IFERROR($E124*SUMIF('Daily Log'!$T$18:$T$1017,$B124,'Daily Log'!$U$18:$U$1017),0)","v":6},{"$f":"IFERROR($E124*SUMIF('Daily Log'!$W$18:$W$1017,$B124,'Daily Log'!$X$18:$X$1017),0)","v":2},{"$f":"IFERROR($E124*SUMIF('Daily Log'!$Z$18:$Z$1017,$B124,'Daily Log'!$AA$18:$AA$1017),0)","v":6},{"$f":"IFERROR($E124*SUMIF('Daily Log'!$AC$18:$AC$1017,$B124,'Daily Log'!$AD$18:$AD$1017),0)","v":8},{"$f":"IFERROR($E124*SUMIF('Daily Log'!$AF$18:$AF$1017,$B124,'Daily Log'!$AG$18:$AG$1017),0)","v":8},{"$f":"IFERROR($E124*SUMIF('Daily Log'!$AI$18:$AI$1017,$B124,'Daily Log'!$AJ$18:$AJ$1017),0)","v":11},{"$f":"IFERROR($E124*SUMIF('Daily Log'!#REF!,$B124,'Daily Log'!#REF!),0)","v":0},{"$f":"IFERROR($E124*SUMIF('Daily Log'!#REF!,$B124,'Daily Log'!#REF!),0)","v":0},{"$f":"IFERROR($E124*SUMIF('Daily Log'!#REF!,$B124,'Daily Log'!#REF!),0)","v":0},{"$f":"IFERROR($E124*SUMIF('Daily Log'!#REF!,$B124,'Daily Log'!#REF!),0)","v":0},{"$f":"IFERROR($E124*SUMIF('Daily Log'!#REF!,$B124,'Daily Log'!#REF!),0)","v":0},{"$f":"IFERROR($E124*SUMIF('Daily Log'!#REF!,$B124,'Daily Log'!#REF!),0)","v":0},{"$f":"IFERROR($E124*SUMIF('Daily Log'!#REF!,$B124,'Daily Log'!#REF!),0)","v":0},{"$f":"IFERROR($E124*SUMIF('Daily Log'!#REF!,$B124,'Daily Log'!#REF!),0)","v":0},{"$f":"IFERROR($E124*SUMIF('Daily Log'!#REF!,$B124,'Daily Log'!#REF!),0)","v":0},{"$f":"IFERROR($E124*SUMIF('Daily Log'!#REF!,$B124,'Daily Log'!#REF!),0)","v":0},{"$f":"IFERROR($E124*SUMIF('Daily Log'!#REF!,$B124,'Daily Log'!#REF!),0)","v":0},{"$f":"IFERROR($E124*SUMIF('Daily Log'!#REF!,$B124,'Daily Log'!#REF!),0)","v":0},{"$f":"IFERROR($E124*SUMIF('Daily Log'!#REF!,$B124,'Daily Log'!#REF!),0)","v":0},{"$f":"IFERROR($E124*SUMIF('Daily Log'!#REF!,$B124,'Daily Log'!#REF!),0)","v":0},{"$f":"IFERROR($E124*SUMIF('Daily Log'!#REF!,$B124,'Daily Log'!#REF!),0)","v":0},{"$f":"IFERROR($E124*SUMIF('Daily Log'!#REF!,$B124,'Daily Log'!#REF!),0)","v":0},{"$f":"IFERROR($E124*SUMIF('Daily Log'!#REF!,$B124,'Daily Log'!#REF!),0)","v":0},{"$f":"IFERROR($E124*SUMIF('Daily Log'!#REF!,$B124,'Daily Log'!#REF!),0)","v":0},{"$f":"IFERROR($E124*SUMIF('Daily Log'!#REF!,$B124,'Daily Log'!#REF!),0)","v":0}]
[null,"CN03 TEA (H)",null,"FFD-HOT BEVERAGES",1,12,{"$f":"IFERROR($E125*SUMIF('Daily Log'!$B$18:$B$1017,$B125,'Daily Log'!$C$18:$C$1017),0)","v":0},{"$f":"IFERROR($E125*SUMIF('Daily Log'!$E$18:$E$1017,$B125,'Daily Log'!$F$18:$F$1017),0)","v":0},{"$f":"IFERROR($E125*SUMIF('Daily Log'!$H$18:$H$1017,$B125,'Daily Log'!$I$18:$I$1017),0)","v":0},{"$f":"IFERROR($E125*SUMIF('Daily Log'!$K$18:$K$1017,$B125,'Daily Log'!$L$18:$L$1017),0)","v":0},{"$f":"IFERROR($E125*SUMIF('Daily Log'!$N$18:$N$1017,$B125,'Daily Log'!$O$18:$O$1017),0)","v":0},{"$f":"IFERROR($E125*SUMIF('Daily Log'!$Q$18:$Q$1017,$B125,'Daily Log'!$R$18:$R$1017),0)","v":0},{"$f":"IFERROR($E125*SUMIF('Daily Log'!$T$18:$T$1017,$B125,'Daily Log'!$U$18:$U$1017),0)","v":0},{"$f":"IFERROR($E125*SUMIF('Daily Log'!$W$18:$W$1017,$B125,'Daily Log'!$X$18:$X$1017),0)","v":4},{"$f":"IFERROR($E125*SUMIF('Daily Log'!$Z$18:$Z$1017,$B125,'Daily Log'!$AA$18:$AA$1017),0)","v":2},{"$f":"IFERROR($E125*SUMIF('Daily Log'!$AC$18:$AC$1017,$B125,'Daily Log'!$AD$18:$AD$1017),0)","v":3},{"$f":"IFERROR($E125*SUMIF('Daily Log'!$AF$18:$AF$1017,$B125,'Daily Log'!$AG$18:$AG$1017),0)","v":3},{"$f":"IFERROR($E125*SUMIF('Daily Log'!$AI$18:$AI$1017,$B125,'Daily Log'!$AJ$18:$AJ$1017),0)","v":0},{"$f":"IFERROR($E125*SUMIF('Daily Log'!#REF!,$B125,'Daily Log'!#REF!),0)","v":0},{"$f":"IFERROR($E125*SUMIF('Daily Log'!#REF!,$B125,'Daily Log'!#REF!),0)","v":0},{"$f":"IFERROR($E125*SUMIF('Daily Log'!#REF!,$B125,'Daily Log'!#REF!),0)","v":0},{"$f":"IFERROR($E125*SUMIF('Daily Log'!#REF!,$B125,'Daily Log'!#REF!),0)","v":0},{"$f":"IFERROR($E125*SUMIF('Daily Log'!#REF!,$B125,'Daily Log'!#REF!),0)","v":0},{"$f":"IFERROR($E125*SUMIF('Daily Log'!#REF!,$B125,'Daily Log'!#REF!),0)","v":0},{"$f":"IFERROR($E125*SUMIF('Daily Log'!#REF!,$B125,'Daily Log'!#REF!),0)","v":0},{"$f":"IFERROR($E125*SUMIF('Daily Log'!#REF!,$B125,'Daily Log'!#REF!),0)","v":0},{"$f":"IFERROR($E125*SUMIF('Daily Log'!#REF!,$B125,'Daily Log'!#REF!),0)","v":0},{"$f":"IFERROR($E125*SUMIF('Daily Log'!#REF!,$B125,'Daily Log'!#REF!),0)","v":0},{"$f":"IFERROR($E125*SUMIF('Daily Log'!#REF!,$B125,'Daily Log'!#REF!),0)","v":0},{"$f":"IFERROR($E125*SUMIF('Daily Log'!#REF!,$B125,'Daily Log'!#REF!),0)","v":0},{"$f":"IFERROR($E125*SUMIF('Daily Log'!#REF!,$B125,'Daily Log'!#REF!),0)","v":0},{"$f":"IFERROR($E125*SUMIF('Daily Log'!#REF!,$B125,'Daily Log'!#REF!),0)","v":0},{"$f":"IFERROR($E125*SUMIF('Daily Log'!#REF!,$B125,'Daily Log'!#REF!),0)","v":0},{"$f":"IFERROR($E125*SUMIF('Daily Log'!#REF!,$B125,'Daily Log'!#REF!),0)","v":0},{"$f":"IFERROR($E125*SUMIF('Daily Log'!#REF!,$B125,'Daily Log'!#REF!),0)","v":0},{"$f":"IFERROR($E125*SUMIF('Daily Log'!#REF!,$B125,'Daily Log'!#REF!),0)","v":0},{"$f":"IFERROR($E125*SUMIF('Daily Log'!#REF!,$B125,'Daily Log'!#REF!),0)","v":0}]
[null,"CN04 LEMON TEA (H)",null,"FFD-HOT BEVERAGES",1,34,{"$f":"IFERROR($E126*SUMIF('Daily Log'!$B$18:$B$1017,$B126,'Daily Log'!$C$18:$C$1017),0)","v":0},{"$f":"IFERROR($E126*SUMIF('Daily Log'!$E$18:$E$1017,$B126,'Daily Log'!$F$18:$F$1017),0)","v":0},{"$f":"IFERROR($E126*SUMIF('Daily Log'!$H$18:$H$1017,$B126,'Daily Log'!$I$18:$I$1017),0)","v":0},{"$f":"IFERROR($E126*SUMIF('Daily Log'!$K$18:$K$1017,$B126,'Daily Log'!$L$18:$L$1017),0)","v":0},{"$f":"IFERROR($E126*SUMIF('Daily Log'!$N$18:$N$1017,$B126,'Daily Log'!$O$18:$O$1017),0)","v":0},{"$f":"IFERROR($E126*SUMIF('Daily Log'!$Q$18:$Q$1017,$B126,'Daily Log'!$R$18:$R$1017),0)","v":3},{"$f":"IFERROR($E126*SUMIF('Daily Log'!$T$18:$T$1017,$B126,'Daily Log'!$U$18:$U$1017),0)","v":2},{"$f":"IFERROR($E126*SUMIF('Daily Log'!$W$18:$W$1017,$B126,'Daily Log'!$X$18:$X$1017),0)","v":5},{"$f":"IFERROR($E126*SUMIF('Daily Log'!$Z$18:$Z$1017,$B126,'Daily Log'!$AA$18:$AA$1017),0)","v":5},{"$f":"IFERROR($E126*SUMIF('Daily Log'!$AC$18:$AC$1017,$B126,'Daily Log'!$AD$18:$AD$1017),0)","v":12},{"$f":"IFERROR($E126*SUMIF('Daily Log'!$AF$18:$AF$1017,$B126,'Daily Log'!$AG$18:$AG$1017),0)","v":4},{"$f":"IFERROR($E126*SUMIF('Daily Log'!$AI$18:$AI$1017,$B126,'Daily Log'!$AJ$18:$AJ$1017),0)","v":3},{"$f":"IFERROR($E126*SUMIF('Daily Log'!#REF!,$B126,'Daily Log'!#REF!),0)","v":0},{"$f":"IFERROR($E126*SUMIF('Daily Log'!#REF!,$B126,'Daily Log'!#REF!),0)","v":0},{"$f":"IFERROR($E126*SUMIF('Daily Log'!#REF!,$B126,'Daily Log'!#REF!),0)","v":0},{"$f":"IFERROR($E126*SUMIF('Daily Log'!#REF!,$B126,'Daily Log'!#REF!),0)","v":0},{"$f":"IFERROR($E126*SUMIF('Daily Log'!#REF!,$B126,'Daily Log'!#REF!),0)","v":0},{"$f":"IFERROR($E126*SUMIF('Daily Log'!#REF!,$B126,'Daily Log'!#REF!),0)","v":0},{"$f":"IFERROR($E126*SUMIF('Daily Log'!#REF!,$B126,'Daily Log'!#REF!),0)","v":0},{"$f":"IFERROR($E126*SUMIF('Daily Log'!#REF!,$B126,'Daily Log'!#REF!),0)","v":0},{"$f":"IFERROR($E126*SUMIF('Daily Log'!#REF!,$B126,'Daily Log'!#REF!),0)","v":0},{"$f":"IFERROR($E126*SUMIF('Daily Log'!#REF!,$B126,'Daily Log'!#REF!),0)","v":0},{"$f":"IFERROR($E126*SUMIF('Daily Log'!#REF!,$B126,'Daily Log'!#REF!),0)","v":0},{"$f":"IFERROR($E126*SUMIF('Daily Log'!#REF!,$B126,'Daily Log'!#REF!),0)","v":0},{"$f":"IFERROR($E126*SUMIF('Daily Log'!#REF!,$B126,'Daily Log'!#REF!),0)","v":0},{"$f":"IFERROR($E126*SUMIF('Daily Log'!#REF!,$B126,'Daily Log'!#REF!),0)","v":0},{"$f":"IFERROR($E126*SUMIF('Daily Log'!#REF!,$B126,'Daily Log'!#REF!),0)","v":0},{"$f":"IFERROR($E126*SUMIF('Daily Log'!#REF!,$B126,'Daily Log'!#REF!),0)","v":0},{"$f":"IFERROR($E126*SUMIF('Daily Log'!#REF!,$B126,'Daily Log'!#REF!),0)","v":0},{"$f":"IFERROR($E126*SUMIF('Daily Log'!#REF!,$B126,'Daily Log'!#REF!),0)","v":0},{"$f":"IFERROR($E126*SUMIF('Daily Log'!#REF!,$B126,'Daily Log'!#REF!),0)","v":0}]
[null,"CN05 GRN TEA (H)",null,"FFD-HOT BEVERAGES",1,76,{"$f":"IFERROR($E127*SUMIF('Daily Log'!$B$18:$B$1017,$B127,'Daily Log'!$C$18:$C$1017),0)","v":0},{"$f":"IFERROR($E127*SUMIF('Daily Log'!$E$18:$E$1017,$B127,'Daily Log'!$F$18:$F$1017),0)","v":0},{"$f":"IFERROR($E127*SUMIF('Daily Log'!$H$18:$H$1017,$B127,'Daily Log'!$I$18:$I$1017),0)","v":0},{"$f":"IFERROR($E127*SUMIF('Daily Log'!$K$18:$K$1017,$B127,'Daily Log'!$L$18:$L$1017),0)","v":0},{"$f":"IFERROR($E127*SUMIF('Daily Log'!$N$18:$N$1017,$B127,'Daily Log'!$O$18:$O$1017),0)","v":0},{"$f":"IFERROR($E127*SUMIF('Daily Log'!$Q$18:$Q$1017,$B127,'Daily Log'!$R$18:$R$1017),0)","v":5},{"$f":"IFERROR($E127*SUMIF('Daily Log'!$T$18:$T$1017,$B127,'Daily Log'!$U$18:$U$1017),0)","v":6},{"$f":"IFERROR($E127*SUMIF('Daily Log'!$W$18:$W$1017,$B127,'Daily Log'!$X$18:$X$1017),0)","v":11},{"$f":"IFERROR($E127*SUMIF('Daily Log'!$Z$18:$Z$1017,$B127,'Daily Log'!$AA$18:$AA$1017),0)","v":13},{"$f":"IFERROR($E127*SUMIF('Daily Log'!$AC$18:$AC$1017,$B127,'Daily Log'!$AD$18:$AD$1017),0)","v":11},{"$f":"IFERROR($E127*SUMIF('Daily Log'!$AF$18:$AF$1017,$B127,'Daily Log'!$AG$18:$AG$1017),0)","v":20},{"$f":"IFERROR($E127*SUMIF('Daily Log'!$AI$18:$AI$1017,$B127,'Daily Log'!$AJ$18:$AJ$1017),0)","v":10},{"$f":"IFERROR($E127*SUMIF('Daily Log'!#REF!,$B127,'Daily Log'!#REF!),0)","v":0},{"$f":"IFERROR($E127*SUMIF('Daily Log'!#REF!,$B127,'Daily Log'!#REF!),0)","v":0},{"$f":"IFERROR($E127*SUMIF('Daily Log'!#REF!,$B127,'Daily Log'!#REF!),0)","v":0},{"$f":"IFERROR($E127*SUMIF('Daily Log'!#REF!,$B127,'Daily Log'!#REF!),0)","v":0},{"$f":"IFERROR($E127*SUMIF('Daily Log'!#REF!,$B127,'Daily Log'!#REF!),0)","v":0},{"$f":"IFERROR($E127*SUMIF('Daily Log'!#REF!,$B127,'Daily Log'!#REF!),0)","v":0},{"$f":"IFERROR($E127*SUMIF('Daily Log'!#REF!,$B127,'Daily Log'!#REF!),0)","v":0},{"$f":"IFERROR($E127*SUMIF('Daily Log'!#REF!,$B127,'Daily Log'!#REF!),0)","v":0},{"$f":"IFERROR($E127*SUMIF('Daily Log'!#REF!,$B127,'Daily Log'!#REF!),0)","v":0},{"$f":"IFERROR($E127*SUMIF('Daily Log'!#REF!,$B127,'Daily Log'!#REF!),0)","v":0},{"$f":"IFERROR($E127*SUMIF('Daily Log'!#REF!,$B127,'Daily Log'!#REF!),0)","v":0},{"$f":"IFERROR($E127*SUMIF('Daily Log'!#REF!,$B127,'Daily Log'!#REF!),0)","v":0},{"$f":"IFERROR($E127*SUMIF('Daily Log'!#REF!,$B127,'Daily Log'!#REF!),0)","v":0},{"$f":"IFERROR($E127*SUMIF('Daily Log'!#REF!,$B127,'Daily Log'!#REF!),0)","v":0},{"$f":"IFERROR($E127*SUMIF('Daily Log'!#REF!,$B127,'Daily Log'!#REF!),0)","v":0},{"$f":"IFERROR($E127*SUMIF('Daily Log'!#REF!,$B127,'Daily Log'!#REF!),0)","v":0},{"$f":"IFERROR($E127*SUMIF('Daily Log'!#REF!,$B127,'Daily Log'!#REF!),0)","v":0},{"$f":"IFERROR($E127*SUMIF('Daily Log'!#REF!,$B127,'Daily Log'!#REF!),0)","v":0},{"$f":"IFERROR($E127*SUMIF('Daily Log'!#REF!,$B127,'Daily Log'!#REF!),0)","v":0}]
[null,"CN06 HNY GRN TEA (H)",null,"FFD-HOT BEVERAGES",1,113,{"$f":"IFERROR($E128*SUMIF('Daily Log'!$B$18:$B$1017,$B128,'Daily Log'!$C$18:$C$1017),0)","v":0},{"$f":"IFERROR($E128*SUMIF('Daily Log'!$E$18:$E$1017,$B128,'Daily Log'!$F$18:$F$1017),0)","v":0},{"$f":"IFERROR($E128*SUMIF('Daily Log'!$H$18:$H$1017,$B128,'Daily Log'!$I$18:$I$1017),0)","v":0},{"$f":"IFERROR($E128*SUMIF('Daily Log'!$K$18:$K$1017,$B128,'Daily Log'!$L$18:$L$1017),0)","v":0},{"$f":"IFERROR($E128*SUMIF('Daily Log'!$N$18:$N$1017,$B128,'Daily Log'!$O$18:$O$1017),0)","v":0},{"$f":"IFERROR($E128*SUMIF('Daily Log'!$Q$18:$Q$1017,$B128,'Daily Log'!$R$18:$R$1017),0)","v":12},{"$f":"IFERROR($E128*SUMIF('Daily Log'!$T$18:$T$1017,$B128,'Daily Log'!$U$18:$U$1017),0)","v":17},{"$f":"IFERROR($E128*SUMIF('Daily Log'!$W$18:$W$1017,$B128,'Daily Log'!$X$18:$X$1017),0)","v":14},{"$f":"IFERROR($E128*SUMIF('Daily Log'!$Z$18:$Z$1017,$B128,'Daily Log'!$AA$18:$AA$1017),0)","v":19},{"$f":"IFERROR($E128*SUMIF('Daily Log'!$AC$18:$AC$1017,$B128,'Daily Log'!$AD$18:$AD$1017),0)","v":22},{"$f":"IFERROR($E128*SUMIF('Daily Log'!$AF$18:$AF$1017,$B128,'Daily Log'!$AG$18:$AG$1017),0)","v":23},{"$f":"IFERROR($E128*SUMIF('Daily Log'!$AI$18:$AI$1017,$B128,'Daily Log'!$AJ$18:$AJ$1017),0)","v":6},{"$f":"IFERROR($E128*SUMIF('Daily Log'!#REF!,$B128,'Daily Log'!#REF!),0)","v":0},{"$f":"IFERROR($E128*SUMIF('Daily Log'!#REF!,$B128,'Daily Log'!#REF!),0)","v":0},{"$f":"IFERROR($E128*SUMIF('Daily Log'!#REF!,$B128,'Daily Log'!#REF!),0)","v":0},{"$f":"IFERROR($E128*SUMIF('Daily Log'!#REF!,$B128,'Daily Log'!#REF!),0)","v":0},{"$f":"IFERROR($E128*SUMIF('Daily Log'!#REF!,$B128,'Daily Log'!#REF!),0)","v":0},{"$f":"IFERROR($E128*SUMIF('Daily Log'!#REF!,$B128,'Daily Log'!#REF!),0)","v":0},{"$f":"IFERROR($E128*SUMIF('Daily Log'!#REF!,$B128,'Daily Log'!#REF!),0)","v":0},{"$f":"IFERROR($E128*SUMIF('Daily Log'!#REF!,$B128,'Daily Log'!#REF!),0)","v":0},{"$f":"IFERROR($E128*SUMIF('Daily Log'!#REF!,$B128,'Daily Log'!#REF!),0)","v":0},{"$f":"IFERROR($E128*SUMIF('Daily Log'!#REF!,$B128,'Daily Log'!#REF!),0)","v":0},{"$f":"IFERROR($E128*SUMIF('Daily Log'!#REF!,$B128,'Daily Log'!#REF!),0)","v":0},{"$f":"IFERROR($E128*SUMIF('Daily Log'!#REF!,$B128,'Daily Log'!#REF!),0)","v":0},{"$f":"IFERROR($E128*SUMIF('Daily Log'!#REF!,$B128,'Daily Log'!#REF!),0)","v":0},{"$f":"IFERROR($E128*SUMIF('Daily Log'!#REF!,$B128,'Daily Log'!#REF!),0)","v":0},{"$f":"IFERROR($E128*SUMIF('Daily Log'!#REF!,$B128,'Daily Log'!#REF!),0)","v":0},{"$f":"IFERROR($E128*SUMIF('Daily Log'!#REF!,$B128,'Daily Log'!#REF!),0)","v":0},{"$f":"IFERROR($E128*SUMIF('Daily Log'!#REF!,$B128,'Daily Log'!#REF!),0)","v":0},{"$f":"IFERROR($E128*SUMIF('Daily Log'!#REF!,$B128,'Daily Log'!#REF!),0)","v":0},{"$f":"IFERROR($E128*SUMIF('Daily Log'!#REF!,$B128,'Daily Log'!#REF!),0)","v":0}]
[null,"CN07 HONEY (H)",null,"FFD-HOT BEVERAGES",1,92,{"$f":"IFERROR($E129*SUMIF('Daily Log'!$B$18:$B$1017,$B129,'Daily Log'!$C$18:$C$1017),0)","v":0},{"$f":"IFERROR($E129*SUMIF('Daily Log'!$E$18:$E$1017,$B129,'Daily Log'!$F$18:$F$1017),0)","v":0},{"$f":"IFERROR($E129*SUMIF('Daily Log'!$H$18:$H$1017,$B129,'Daily Log'!$I$18:$I$1017),0)","v":0},{"$f":"IFERROR($E129*SUMIF('Daily Log'!$K$18:$K$1017,$B129,'Daily Log'!$L$18:$L$1017),0)","v":0},{"$f":"IFERROR($E129*SUMIF('Daily Log'!$N$18:$N$1017,$B129,'Daily Log'!$O$18:$O$1017),0)","v":0},{"$f":"IFERROR($E129*SUMIF('Daily Log'!$Q$18:$Q$1017,$B129,'Daily Log'!$R$18:$R$1017),0)","v":4},{"$f":"IFERROR($E129*SUMIF('Daily Log'!$T$18:$T$1017,$B129,'Daily Log'!$U$18:$U$1017),0)","v":3},{"$f":"IFERROR($E129*SUMIF('Daily Log'!$W$18:$W$1017,$B129,'Daily Log'!$X$18:$X$1017),0)","v":1},{"$f":"IFERROR($E129*SUMIF('Daily Log'!$Z$18:$Z$1017,$B129,'Daily Log'!$AA$18:$AA$1017),0)","v":18},{"$f":"IFERROR($E129*SUMIF('Daily Log'!$AC$18:$AC$1017,$B129,'Daily Log'!$AD$18:$AD$1017),0)","v":27},{"$f":"IFERROR($E129*SUMIF('Daily Log'!$AF$18:$AF$1017,$B129,'Daily Log'!$AG$18:$AG$1017),0)","v":31},{"$f":"IFERROR($E129*SUMIF('Daily Log'!$AI$18:$AI$1017,$B129,'Daily Log'!$AJ$18:$AJ$1017),0)","v":8},{"$f":"IFERROR($E129*SUMIF('Daily Log'!#REF!,$B129,'Daily Log'!#REF!),0)","v":0},{"$f":"IFERROR($E129*SUMIF('Daily Log'!#REF!,$B129,'Daily Log'!#REF!),0)","v":0},{"$f":"IFERROR($E129*SUMIF('Daily Log'!#REF!,$B129,'Daily Log'!#REF!),0)","v":0},{"$f":"IFERROR($E129*SUMIF('Daily Log'!#REF!,$B129,'Daily Log'!#REF!),0)","v":0},{"$f":"IFERROR($E129*SUMIF('Daily Log'!#REF!,$B129,'Daily Log'!#REF!),0)","v":0},{"$f":"IFERROR($E129*SUMIF('Daily Log'!#REF!,$B129,'Daily Log'!#REF!),0)","v":0},{"$f":"IFERROR($E129*SUMIF('Daily Log'!#REF!,$B129,'Daily Log'!#REF!),0)","v":0},{"$f":"IFERROR($E129*SUMIF('Daily Log'!#REF!,$B129,'Daily Log'!#REF!),0)","v":0},{"$f":"IFERROR($E129*SUMIF('Daily Log'!#REF!,$B129,'Daily Log'!#REF!),0)","v":0},{"$f":"IFERROR($E129*SUMIF('Daily Log'!#REF!,$B129,'Daily Log'!#REF!),0)","v":0},{"$f":"IFERROR($E129*SUMIF('Daily Log'!#REF!,$B129,'Daily Log'!#REF!),0)","v":0},{"$f":"IFERROR($E129*SUMIF('Daily Log'!#REF!,$B129,'Daily Log'!#REF!),0)","v":0},{"$f":"IFERROR($E129*SUMIF('Daily Log'!#REF!,$B129,'Daily Log'!#REF!),0)","v":0},{"$f":"IFERROR($E129*SUMIF('Daily Log'!#REF!,$B129,'Daily Log'!#REF!),0)","v":0},{"$f":"IFERROR($E129*SUMIF('Daily Log'!#REF!,$B129,'Daily Log'!#REF!),0)","v":0},{"$f":"IFERROR($E129*SUMIF('Daily Log'!#REF!,$B129,'Daily Log'!#REF!),0)","v":0},{"$f":"IFERROR($E129*SUMIF('Daily Log'!#REF!,$B129,'Daily Log'!#REF!),0)","v":0},{"$f":"IFERROR($E129*SUMIF('Daily Log'!#REF!,$B129,'Daily Log'!#REF!),0)","v":0},{"$f":"IFERROR($E129*SUMIF('Daily Log'!#REF!,$B129,'Daily Log'!#REF!),0)","v":0}]
[null,"CN08 LEMON HONEY (H)",null,"FFD-HOT BEVERAGES",1,270,{"$f":"IFERROR($E130*SUMIF('Daily Log'!$B$18:$B$1017,$B130,'Daily Log'!$C$18:$C$1017),0)","v":0},{"$f":"IFERROR($E130*SUMIF('Daily Log'!$E$18:$E$1017,$B130,'Daily Log'!$F$18:$F$1017),0)","v":0},{"$f":"IFERROR($E130*SUMIF('Daily Log'!$H$18:$H$1017,$B130,'Daily Log'!$I$18:$I$1017),0)","v":0},{"$f":"IFERROR($E130*SUMIF('Daily Log'!$K$18:$K$1017,$B130,'Daily Log'!$L$18:$L$1017),0)","v":0},{"$f":"IFERROR($E130*SUMIF('Daily Log'!$N$18:$N$1017,$B130,'Daily Log'!$O$18:$O$1017),0)","v":0},{"$f":"IFERROR($E130*SUMIF('Daily Log'!$Q$18:$Q$1017,$B130,'Daily Log'!$R$18:$R$1017),0)","v":34},{"$f":"IFERROR($E130*SUMIF('Daily Log'!$T$18:$T$1017,$B130,'Daily Log'!$U$18:$U$1017),0)","v":25},{"$f":"IFERROR($E130*SUMIF('Daily Log'!$W$18:$W$1017,$B130,'Daily Log'!$X$18:$X$1017),0)","v":28},{"$f":"IFERROR($E130*SUMIF('Daily Log'!$Z$18:$Z$1017,$B130,'Daily Log'!$AA$18:$AA$1017),0)","v":37},{"$f":"IFERROR($E130*SUMIF('Daily Log'!$AC$18:$AC$1017,$B130,'Daily Log'!$AD$18:$AD$1017),0)","v":56},{"$f":"IFERROR($E130*SUMIF('Daily Log'!$AF$18:$AF$1017,$B130,'Daily Log'!$AG$18:$AG$1017),0)","v":56},{"$f":"IFERROR($E130*SUMIF('Daily Log'!$AI$18:$AI$1017,$B130,'Daily Log'!$AJ$18:$AJ$1017),0)","v":34},{"$f":"IFERROR($E130*SUMIF('Daily Log'!#REF!,$B130,'Daily Log'!#REF!),0)","v":0},{"$f":"IFERROR($E130*SUMIF('Daily Log'!#REF!,$B130,'Daily Log'!#REF!),0)","v":0},{"$f":"IFERROR($E130*SUMIF('Daily Log'!#REF!,$B130,'Daily Log'!#REF!),0)","v":0},{"$f":"IFERROR($E130*SUMIF('Daily Log'!#REF!,$B130,'Daily Log'!#REF!),0)","v":0},{"$f":"IFERROR($E130*SUMIF('Daily Log'!#REF!,$B130,'Daily Log'!#REF!),0)","v":0},{"$f":"IFERROR($E130*SUMIF('Daily Log'!#REF!,$B130,'Daily Log'!#REF!),0)","v":0},{"$f":"IFERROR($E130*SUMIF('Daily Log'!#REF!,$B130,'Daily Log'!#REF!),0)","v":0},{"$f":"IFERROR($E130*SUMIF('Daily Log'!#REF!,$B130,'Daily Log'!#REF!),0)","v":0},{"$f":"IFERROR($E130*SUMIF('Daily Log'!#REF!,$B130,'Daily Log'!#REF!),0)","v":0},{"$f":"IFERROR($E130*SUMIF('Daily Log'!#REF!,$B130,'Daily Log'!#REF!),0)","v":0},{"$f":"IFERROR($E130*SUMIF('Daily Log'!#REF!,$B130,'Daily Log'!#REF!),0)","v":0},{"$f":"IFERROR($E130*SUMIF('Daily Log'!#REF!,$B130,'Daily Log'!#REF!),0)","v":0},{"$f":"IFERROR($E130*SUMIF('Daily Log'!#REF!,$B130,'Daily Log'!#REF!),0)","v":0},{"$f":"IFERROR($E130*SUMIF('Daily Log'!#REF!,$B130,'Daily Log'!#REF!),0)","v":0},{"$f":"IFERROR($E130*SUMIF('Daily Log'!#REF!,$B130,'Daily Log'!#REF!),0)","v":0},{"$f":"IFERROR($E130*SUMIF('Daily Log'!#REF!,$B130,'Daily Log'!#REF!),0)","v":0},{"$f":"IFERROR($E130*SUMIF('Daily Log'!#REF!,$B130,'Daily Log'!#REF!),0)","v":0},{"$f":"IFERROR($E130*SUMIF('Daily Log'!#REF!,$B130,'Daily Log'!#REF!),0)","v":0},{"$f":"IFERROR($E130*SUMIF('Daily Log'!#REF!,$B130,'Daily Log'!#REF!),0)","v":0}]
[null,"CN12 CHAMOMILE (H)",null,"FFD-HOT BEVERAGES",1,44,{"$f":"IFERROR($E131*SUMIF('Daily Log'!$B$18:$B$1017,$B131,'Daily Log'!$C$18:$C$1017),0)","v":0},{"$f":"IFERROR($E131*SUMIF('Daily Log'!$E$18:$E$1017,$B131,'Daily Log'!$F$18:$F$1017),0)","v":0},{"$f":"IFERROR($E131*SUMIF('Daily Log'!$H$18:$H$1017,$B131,'Daily Log'!$I$18:$I$1017),0)","v":0},{"$f":"IFERROR($E131*SUMIF('Daily Log'!$K$18:$K$1017,$B131,'Daily Log'!$L$18:$L$1017),0)","v":0},{"$f":"IFERROR($E131*SUMIF('Daily Log'!$N$18:$N$1017,$B131,'Daily Log'!$O$18:$O$1017),0)","v":0},{"$f":"IFERROR($E131*SUMIF('Daily Log'!$Q$18:$Q$1017,$B131,'Daily Log'!$R$18:$R$1017),0)","v":3},{"$f":"IFERROR($E131*SUMIF('Daily Log'!$T$18:$T$1017,$B131,'Daily Log'!$U$18:$U$1017),0)","v":7},{"$f":"IFERROR($E131*SUMIF('Daily Log'!$W$18:$W$1017,$B131,'Daily Log'!$X$18:$X$1017),0)","v":0},{"$f":"IFERROR($E131*SUMIF('Daily Log'!$Z$18:$Z$1017,$B131,'Daily Log'!$AA$18:$AA$1017),0)","v":6},{"$f":"IFERROR($E131*SUMIF('Daily Log'!$AC$18:$AC$1017,$B131,'Daily Log'!$AD$18:$AD$1017),0)","v":9},{"$f":"IFERROR($E131*SUMIF('Daily Log'!$AF$18:$AF$1017,$B131,'Daily Log'!$AG$18:$AG$1017),0)","v":10},{"$f":"IFERROR($E131*SUMIF('Daily Log'!$AI$18:$AI$1017,$B131,'Daily Log'!$AJ$18:$AJ$1017),0)","v":9},{"$f":"IFERROR($E131*SUMIF('Daily Log'!#REF!,$B131,'Daily Log'!#REF!),0)","v":0},{"$f":"IFERROR($E131*SUMIF('Daily Log'!#REF!,$B131,'Daily Log'!#REF!),0)","v":0},{"$f":"IFERROR($E131*SUMIF('Daily Log'!#REF!,$B131,'Daily Log'!#REF!),0)","v":0},{"$f":"IFERROR($E131*SUMIF('Daily Log'!#REF!,$B131,'Daily Log'!#REF!),0)","v":0},{"$f":"IFERROR($E131*SUMIF('Daily Log'!#REF!,$B131,'Daily Log'!#REF!),0)","v":0},{"$f":"IFERROR($E131*SUMIF('Daily Log'!#REF!,$B131,'Daily Log'!#REF!),0)","v":0},{"$f":"IFERROR($E131*SUMIF('Daily Log'!#REF!,$B131,'Daily Log'!#REF!),0)","v":0},{"$f":"IFERROR($E131*SUMIF('Daily Log'!#REF!,$B131,'Daily Log'!#REF!),0)","v":0},{"$f":"IFERROR($E131*SUMIF('Daily Log'!#REF!,$B131,'Daily Log'!#REF!),0)","v":0},{"$f":"IFERROR($E131*SUMIF('Daily Log'!#REF!,$B131,'Daily Log'!#REF!),0)","v":0},{"$f":"IFERROR($E131*SUMIF('Daily Log'!#REF!,$B131,'Daily Log'!#REF!),0)","v":0},{"$f":"IFERROR($E131*SUMIF('Daily Log'!#REF!,$B131,'Daily Log'!#REF!),0)","v":0},{"$f":"IFERROR($E131*SUMIF('Daily Log'!#REF!,$B131,'Daily Log'!#REF!),0)","v":0},{"$f":"IFERROR($E131*SUMIF('Daily Log'!#REF!,$B131,'Daily Log'!#REF!),0)","v":0},{"$f":"IFERROR($E131*SUMIF('Daily Log'!#REF!,$B131,'Daily Log'!#REF!),0)","v":0},{"$f":"IFERROR($E131*SUMIF('Daily Log'!#REF!,$B131,'Daily Log'!#REF!),0)","v":0},{"$f":"IFERROR($E131*SUMIF('Daily Log'!#REF!,$B131,'Daily Log'!#REF!),0)","v":0},{"$f":"IFERROR($E131*SUMIF('Daily Log'!#REF!,$B131,'Daily Log'!#REF!),0)","v":0},{"$f":"IFERROR($E131*SUMIF('Daily Log'!#REF!,$B131,'Daily Log'!#REF!),0)","v":0}]
[null,"CN13 DARJEELING (H)",null,"FFD-HOT BEVERAGES",1,2,{"$f":"IFERROR($E132*SUMIF('Daily Log'!$B$18:$B$1017,$B132,'Daily Log'!$C$18:$C$1017),0)","v":0},{"$f":"IFERROR($E132*SUMIF('Daily Log'!$E$18:$E$1017,$B132,'Daily Log'!$F$18:$F$1017),0)","v":0},{"$f":"IFERROR($E132*SUMIF('Daily Log'!$H$18:$H$1017,$B132,'Daily Log'!$I$18:$I$1017),0)","v":0},{"$f":"IFERROR($E132*SUMIF('Daily Log'!$K$18:$K$1017,$B132,'Daily Log'!$L$18:$L$1017),0)","v":0},{"$f":"IFERROR($E132*SUMIF('Daily Log'!$N$18:$N$1017,$B132,'Daily Log'!$O$18:$O$1017),0)","v":0},{"$f":"IFERROR($E132*SUMIF('Daily Log'!$Q$18:$Q$1017,$B132,'Daily Log'!$R$18:$R$1017),0)","v":0},{"$f":"IFERROR($E132*SUMIF('Daily Log'!$T$18:$T$1017,$B132,'Daily Log'!$U$18:$U$1017),0)","v":0},{"$f":"IFERROR($E132*SUMIF('Daily Log'!$W$18:$W$1017,$B132,'Daily Log'!$X$18:$X$1017),0)","v":0},{"$f":"IFERROR($E132*SUMIF('Daily Log'!$Z$18:$Z$1017,$B132,'Daily Log'!$AA$18:$AA$1017),0)","v":0},{"$f":"IFERROR($E132*SUMIF('Daily Log'!$AC$18:$AC$1017,$B132,'Daily Log'!$AD$18:$AD$1017),0)","v":1},{"$f":"IFERROR($E132*SUMIF('Daily Log'!$AF$18:$AF$1017,$B132,'Daily Log'!$AG$18:$AG$1017),0)","v":1},{"$f":"IFERROR($E132*SUMIF('Daily Log'!$AI$18:$AI$1017,$B132,'Daily Log'!$AJ$18:$AJ$1017),0)","v":0},{"$f":"IFERROR($E132*SUMIF('Daily Log'!#REF!,$B132,'Daily Log'!#REF!),0)","v":0},{"$f":"IFERROR($E132*SUMIF('Daily Log'!#REF!,$B132,'Daily Log'!#REF!),0)","v":0},{"$f":"IFERROR($E132*SUMIF('Daily Log'!#REF!,$B132,'Daily Log'!#REF!),0)","v":0},{"$f":"IFERROR($E132*SUMIF('Daily Log'!#REF!,$B132,'Daily Log'!#REF!),0)","v":0},{"$f":"IFERROR($E132*SUMIF('Daily Log'!#REF!,$B132,'Daily Log'!#REF!),0)","v":0},{"$f":"IFERROR($E132*SUMIF('Daily Log'!#REF!,$B132,'Daily Log'!#REF!),0)","v":0},{"$f":"IFERROR($E132*SUMIF('Daily Log'!#REF!,$B132,'Daily Log'!#REF!),0)","v":0},{"$f":"IFERROR($E132*SUMIF('Daily Log'!#REF!,$B132,'Daily Log'!#REF!),0)","v":0},{"$f":"IFERROR($E132*SUMIF('Daily Log'!#REF!,$B132,'Daily Log'!#REF!),0)","v":0},{"$f":"IFERROR($E132*SUMIF('Daily Log'!#REF!,$B132,'Daily Log'!#REF!),0)","v":0},{"$f":"IFERROR($E132*SUMIF('Daily Log'!#REF!,$B132,'Daily Log'!#REF!),0)","v":0},{"$f":"IFERROR($E132*SUMIF('Daily Log'!#REF!,$B132,'Daily Log'!#REF!),0)","v":0},{"$f":"IFERROR($E132*SUMIF('Daily Log'!#REF!,$B132,'Daily Log'!#REF!),0)","v":0},{"$f":"IFERROR($E132*SUMIF('Daily Log'!#REF!,$B132,'Daily Log'!#REF!),0)","v":0},{"$f":"IFERROR($E132*SUMIF('Daily Log'!#REF!,$B132,'Daily Log'!#REF!),0)","v":0},{"$f":"IFERROR($E132*SUMIF('Daily Log'!#REF!,$B132,'Daily Log'!#REF!),0)","v":0},{"$f":"IFERROR($E132*SUMIF('Daily Log'!#REF!,$B132,'Daily Log'!#REF!),0)","v":0},{"$f":"IFERROR($E132*SUMIF('Daily Log'!#REF!,$B132,'Daily Log'!#REF!),0)","v":0},{"$f":"IFERROR($E132*SUMIF('Daily Log'!#REF!,$B132,'Daily Log'!#REF!),0)","v":0}]
[null,"CN14 EARL GREY (H)",null,"FFD-HOT BEVERAGES",1,22,{"$f":"IFERROR($E133*SUMIF('Daily Log'!$B$18:$B$1017,$B133,'Daily Log'!$C$18:$C$1017),0)","v":0},{"$f":"IFERROR($E133*SUMIF('Daily Log'!$E$18:$E$1017,$B133,'Daily Log'!$F$18:$F$1017),0)","v":0},{"$f":"IFERROR($E133*SUMIF('Daily Log'!$H$18:$H$1017,$B133,'Daily Log'!$I$18:$I$1017),0)","v":0},{"$f":"IFERROR($E133*SUMIF('Daily Log'!$K$18:$K$1017,$B133,'Daily Log'!$L$18:$L$1017),0)","v":0},{"$f":"IFERROR($E133*SUMIF('Daily Log'!$N$18:$N$1017,$B133,'Daily Log'!$O$18:$O$1017),0)","v":0},{"$f":"IFERROR($E133*SUMIF('Daily Log'!$Q$18:$Q$1017,$B133,'Daily Log'!$R$18:$R$1017),0)","v":1},{"$f":"IFERROR($E133*SUMIF('Daily Log'!$T$18:$T$1017,$B133,'Daily Log'!$U$18:$U$1017),0)","v":0},{"$f":"IFERROR($E133*SUMIF('Daily Log'!$W$18:$W$1017,$B133,'Daily Log'!$X$18:$X$1017),0)","v":1},{"$f":"IFERROR($E133*SUMIF('Daily Log'!$Z$18:$Z$1017,$B133,'Daily Log'!$AA$18:$AA$1017),0)","v":3},{"$f":"IFERROR($E133*SUMIF('Daily Log'!$AC$18:$AC$1017,$B133,'Daily Log'!$AD$18:$AD$1017),0)","v":5},{"$f":"IFERROR($E133*SUMIF('Daily Log'!$AF$18:$AF$1017,$B133,'Daily Log'!$AG$18:$AG$1017),0)","v":8},{"$f":"IFERROR($E133*SUMIF('Daily Log'!$AI$18:$AI$1017,$B133,'Daily Log'!$AJ$18:$AJ$1017),0)","v":4},{"$f":"IFERROR($E133*SUMIF('Daily Log'!#REF!,$B133,'Daily Log'!#REF!),0)","v":0},{"$f":"IFERROR($E133*SUMIF('Daily Log'!#REF!,$B133,'Daily Log'!#REF!),0)","v":0},{"$f":"IFERROR($E133*SUMIF('Daily Log'!#REF!,$B133,'Daily Log'!#REF!),0)","v":0},{"$f":"IFERROR($E133*SUMIF('Daily Log'!#REF!,$B133,'Daily Log'!#REF!),0)","v":0},{"$f":"IFERROR($E133*SUMIF('Daily Log'!#REF!,$B133,'Daily Log'!#REF!),0)","v":0},{"$f":"IFERROR($E133*SUMIF('Daily Log'!#REF!,$B133,'Daily Log'!#REF!),0)","v":0},{"$f":"IFERROR($E133*SUMIF('Daily Log'!#REF!,$B133,'Daily Log'!#REF!),0)","v":0},{"$f":"IFERROR($E133*SUMIF('Daily Log'!#REF!,$B133,'Daily Log'!#REF!),0)","v":0},{"$f":"IFERROR($E133*SUMIF('Daily Log'!#REF!,$B133,'Daily Log'!#REF!),0)","v":0},{"$f":"IFERROR($E133*SUMIF('Daily Log'!#REF!,$B133,'Daily Log'!#REF!),0)","v":0},{"$f":"IFERROR($E133*SUMIF('Daily Log'!#REF!,$B133,'Daily Log'!#REF!),0)","v":0},{"$f":"IFERROR($E133*SUMIF('Daily Log'!#REF!,$B133,'Daily Log'!#REF!),0)","v":0},{"$f":"IFERROR($E133*SUMIF('Daily Log'!#REF!,$B133,'Daily Log'!#REF!),0)","v":0},{"$f":"IFERROR($E133*SUMIF('Daily Log'!#REF!,$B133,'Daily Log'!#REF!),0)","v":0},{"$f":"IFERROR($E133*SUMIF('Daily Log'!#REF!,$B133,'Daily Log'!#REF!),0)","v":0},{"$f":"IFERROR($E133*SUMIF('Daily Log'!#REF!,$B133,'Daily Log'!#REF!),0)","v":0},{"$f":"IFERROR($E133*SUMIF('Daily Log'!#REF!,$B133,'Daily Log'!#REF!),0)","v":0},{"$f":"IFERROR($E133*SUMIF('Daily Log'!#REF!,$B133,'Daily Log'!#REF!),0)","v":0},{"$f":"IFERROR($E133*SUMIF('Daily Log'!#REF!,$B133,'Daily Log'!#REF!),0)","v":0}]
[null,"DB01 1001:BP CKN CP",null,"SIDE ORDER- WESTERN CRUISE ",1,24,{"$f":"IFERROR($E134*SUMIF('Daily Log'!$B$18:$B$1017,$B134,'Daily Log'!$C$18:$C$1017),0)","v":0},{"$f":"IFERROR($E134*SUMIF('Daily Log'!$E$18:$E$1017,$B134,'Daily Log'!$F$18:$F$1017),0)","v":0},{"$f":"IFERROR($E134*SUMIF('Daily Log'!$H$18:$H$1017,$B134,'Daily Log'!$I$18:$I$1017),0)","v":0},{"$f":"IFERROR($E134*SUMIF('Daily Log'!$K$18:$K$1017,$B134,'Daily Log'!$L$18:$L$1017),0)","v":0},{"$f":"IFERROR($E134*SUMIF('Daily Log'!$N$18:$N$1017,$B134,'Daily Log'!$O$18:$O$1017),0)","v":0},{"$f":"IFERROR($E134*SUMIF('Daily Log'!$Q$18:$Q$1017,$B134,'Daily Log'!$R$18:$R$1017),0)","v":0},{"$f":"IFERROR($E134*SUMIF('Daily Log'!$T$18:$T$1017,$B134,'Daily Log'!$U$18:$U$1017),0)","v":4},{"$f":"IFERROR($E134*SUMIF('Daily Log'!$W$18:$W$1017,$B134,'Daily Log'!$X$18:$X$1017),0)","v":1},{"$f":"IFERROR($E134*SUMIF('Daily Log'!$Z$18:$Z$1017,$B134,'Daily Log'!$AA$18:$AA$1017),0)","v":6},{"$f":"IFERROR($E134*SUMIF('Daily Log'!$AC$18:$AC$1017,$B134,'Daily Log'!$AD$18:$AD$1017),0)","v":6},{"$f":"IFERROR($E134*SUMIF('Daily Log'!$AF$18:$AF$1017,$B134,'Daily Log'!$AG$18:$AG$1017),0)","v":4},{"$f":"IFERROR($E134*SUMIF('Daily Log'!$AI$18:$AI$1017,$B134,'Daily Log'!$AJ$18:$AJ$1017),0)","v":3},{"$f":"IFERROR($E134*SUMIF('Daily Log'!#REF!,$B134,'Daily Log'!#REF!),0)","v":0},{"$f":"IFERROR($E134*SUMIF('Daily Log'!#REF!,$B134,'Daily Log'!#REF!),0)","v":0},{"$f":"IFERROR($E134*SUMIF('Daily Log'!#REF!,$B134,'Daily Log'!#REF!),0)","v":0},{"$f":"IFERROR($E134*SUMIF('Daily Log'!#REF!,$B134,'Daily Log'!#REF!),0)","v":0},{"$f":"IFERROR($E134*SUMIF('Daily Log'!#REF!,$B134,'Daily Log'!#REF!),0)","v":0},{"$f":"IFERROR($E134*SUMIF('Daily Log'!#REF!,$B134,'Daily Log'!#REF!),0)","v":0},{"$f":"IFERROR($E134*SUMIF('Daily Log'!#REF!,$B134,'Daily Log'!#REF!),0)","v":0},{"$f":"IFERROR($E134*SUMIF('Daily Log'!#REF!,$B134,'Daily Log'!#REF!),0)","v":0},{"$f":"IFERROR($E134*SUMIF('Daily Log'!#REF!,$B134,'Daily Log'!#REF!),0)","v":0},{"$f":"IFERROR($E134*SUMIF('Daily Log'!#REF!,$B134,'Daily Log'!#REF!),0)","v":0},{"$f":"IFERROR($E134*SUMIF('Daily Log'!#REF!,$B134,'Daily Log'!#REF!),0)","v":0},{"$f":"IFERROR($E134*SUMIF('Daily Log'!#REF!,$B134,'Daily Log'!#REF!),0)","v":0},{"$f":"IFERROR($E134*SUMIF('Daily Log'!#REF!,$B134,'Daily Log'!#REF!),0)","v":0},{"$f":"IFERROR($E134*SUMIF('Daily Log'!#REF!,$B134,'Daily Log'!#REF!),0)","v":0},{"$f":"IFERROR($E134*SUMIF('Daily Log'!#REF!,$B134,'Daily Log'!#REF!),0)","v":0},{"$f":"IFERROR($E134*SUMIF('Daily Log'!#REF!,$B134,'Daily Log'!#REF!),0)","v":0},{"$f":"IFERROR($E134*SUMIF('Daily Log'!#REF!,$B134,'Daily Log'!#REF!),0)","v":0},{"$f":"IFERROR($E134*SUMIF('Daily Log'!#REF!,$B134,'Daily Log'!#REF!),0)","v":0},{"$f":"IFERROR($E134*SUMIF('Daily Log'!#REF!,$B134,'Daily Log'!#REF!),0)","v":0}]
[null,"DB02 1002:GVY CHK CP",null,"SIDE ORDER- WESTERN CRUISE ",1,1,{"$f":"IFERROR($E135*SUMIF('Daily Log'!$B$18:$B$1017,$B135,'Daily Log'!$C$18:$C$1017),0)","v":0},{"$f":"IFERROR($E135*SUMIF('Daily Log'!$E$18:$E$1017,$B135,'Daily Log'!$F$18:$F$1017),0)","v":0},{"$f":"IFERROR($E135*SUMIF('Daily Log'!$H$18:$H$1017,$B135,'Daily Log'!$I$18:$I$1017),0)","v":0},{"$f":"IFERROR($E135*SUMIF('Daily Log'!$K$18:$K$1017,$B135,'Daily Log'!$L$18:$L$1017),0)","v":0},{"$f":"IFERROR($E135*SUMIF('Daily Log'!$N$18:$N$1017,$B135,'Daily Log'!$O$18:$O$1017),0)","v":0},{"$f":"IFERROR($E135*SUMIF('Daily Log'!$Q$18:$Q$1017,$B135,'Daily Log'!$R$18:$R$1017),0)","v":0},{"$f":"IFERROR($E135*SUMIF('Daily Log'!$T$18:$T$1017,$B135,'Daily Log'!$U$18:$U$1017),0)","v":0},{"$f":"IFERROR($E135*SUMIF('Daily Log'!$W$18:$W$1017,$B135,'Daily Log'!$X$18:$X$1017),0)","v":0},{"$f":"IFERROR($E135*SUMIF('Daily Log'!$Z$18:$Z$1017,$B135,'Daily Log'!$AA$18:$AA$1017),0)","v":1},{"$f":"IFERROR($E135*SUMIF('Daily Log'!$AC$18:$AC$1017,$B135,'Daily Log'!$AD$18:$AD$1017),0)","v":0},{"$f":"IFERROR($E135*SUMIF('Daily Log'!$AF$18:$AF$1017,$B135,'Daily Log'!$AG$18:$AG$1017),0)","v":0},{"$f":"IFERROR($E135*SUMIF('Daily Log'!$AI$18:$AI$1017,$B135,'Daily Log'!$AJ$18:$AJ$1017),0)","v":0},{"$f":"IFERROR($E135*SUMIF('Daily Log'!#REF!,$B135,'Daily Log'!#REF!),0)","v":0},{"$f":"IFERROR($E135*SUMIF('Daily Log'!#REF!,$B135,'Daily Log'!#REF!),0)","v":0},{"$f":"IFERROR($E135*SUMIF('Daily Log'!#REF!,$B135,'Daily Log'!#REF!),0)","v":0},{"$f":"IFERROR($E135*SUMIF('Daily Log'!#REF!,$B135,'Daily Log'!#REF!),0)","v":0},{"$f":"IFERROR($E135*SUMIF('Daily Log'!#REF!,$B135,'Daily Log'!#REF!),0)","v":0},{"$f":"IFERROR($E135*SUMIF('Daily Log'!#REF!,$B135,'Daily Log'!#REF!),0)","v":0},{"$f":"IFERROR($E135*SUMIF('Daily Log'!#REF!,$B135,'Daily Log'!#REF!),0)","v":0},{"$f":"IFERROR($E135*SUMIF('Daily Log'!#REF!,$B135,'Daily Log'!#REF!),0)","v":0},{"$f":"IFERROR($E135*SUMIF('Daily Log'!#REF!,$B135,'Daily Log'!#REF!),0)","v":0},{"$f":"IFERROR($E135*SUMIF('Daily Log'!#REF!,$B135,'Daily Log'!#REF!),0)","v":0},{"$f":"IFERROR($E135*SUMIF('Daily Log'!#REF!,$B135,'Daily Log'!#REF!),0)","v":0},{"$f":"IFERROR($E135*SUMIF('Daily Log'!#REF!,$B135,'Daily Log'!#REF!),0)","v":0},{"$f":"IFERROR($E135*SUMIF('Daily Log'!#REF!,$B135,'Daily Log'!#REF!),0)","v":0},{"$f":"IFERROR($E135*SUMIF('Daily Log'!#REF!,$B135,'Daily Log'!#REF!),0)","v":0},{"$f":"IFERROR($E135*SUMIF('Daily Log'!#REF!,$B135,'Daily Log'!#REF!),0)","v":0},{"$f":"IFERROR($E135*SUMIF('Daily Log'!#REF!,$B135,'Daily Log'!#REF!),0)","v":0},{"$f":"IFERROR($E135*SUMIF('Daily Log'!#REF!,$B135,'Daily Log'!#REF!),0)","v":0},{"$f":"IFERROR($E135*SUMIF('Daily Log'!#REF!,$B135,'Daily Log'!#REF!),0)","v":0},{"$f":"IFERROR($E135*SUMIF('Daily Log'!#REF!,$B135,'Daily Log'!#REF!),0)","v":0}]
[null,"DB03 1003:MSR CKN CP",null,"SIDE ORDER- WESTERN CRUISE ",1,18,{"$f":"IFERROR($E136*SUMIF('Daily Log'!$B$18:$B$1017,$B136,'Daily Log'!$C$18:$C$1017),0)","v":0},{"$f":"IFERROR($E136*SUMIF('Daily Log'!$E$18:$E$1017,$B136,'Daily Log'!$F$18:$F$1017),0)","v":0},{"$f":"IFERROR($E136*SUMIF('Daily Log'!$H$18:$H$1017,$B136,'Daily Log'!$I$18:$I$1017),0)","v":0},{"$f":"IFERROR($E136*SUMIF('Daily Log'!$K$18:$K$1017,$B136,'Daily Log'!$L$18:$L$1017),0)","v":0},{"$f":"IFERROR($E136*SUMIF('Daily Log'!$N$18:$N$1017,$B136,'Daily Log'!$O$18:$O$1017),0)","v":0},{"$f":"IFERROR($E136*SUMIF('Daily Log'!$Q$18:$Q$1017,$B136,'Daily Log'!$R$18:$R$1017),0)","v":0},{"$f":"IFERROR($E136*SUMIF('Daily Log'!$T$18:$T$1017,$B136,'Daily Log'!$U$18:$U$1017),0)","v":1},{"$f":"IFERROR($E136*SUMIF('Daily Log'!$W$18:$W$1017,$B136,'Daily Log'!$X$18:$X$1017),0)","v":0},{"$f":"IFERROR($E136*SUMIF('Daily Log'!$Z$18:$Z$1017,$B136,'Daily Log'!$AA$18:$AA$1017),0)","v":4},{"$f":"IFERROR($E136*SUMIF('Daily Log'!$AC$18:$AC$1017,$B136,'Daily Log'!$AD$18:$AD$1017),0)","v":8},{"$f":"IFERROR($E136*SUMIF('Daily Log'!$AF$18:$AF$1017,$B136,'Daily Log'!$AG$18:$AG$1017),0)","v":2},{"$f":"IFERROR($E136*SUMIF('Daily Log'!$AI$18:$AI$1017,$B136,'Daily Log'!$AJ$18:$AJ$1017),0)","v":3},{"$f":"IFERROR($E136*SUMIF('Daily Log'!#REF!,$B136,'Daily Log'!#REF!),0)","v":0},{"$f":"IFERROR($E136*SUMIF('Daily Log'!#REF!,$B136,'Daily Log'!#REF!),0)","v":0},{"$f":"IFERROR($E136*SUMIF('Daily Log'!#REF!,$B136,'Daily Log'!#REF!),0)","v":0},{"$f":"IFERROR($E136*SUMIF('Daily Log'!#REF!,$B136,'Daily Log'!#REF!),0)","v":0},{"$f":"IFERROR($E136*SUMIF('Daily Log'!#REF!,$B136,'Daily Log'!#REF!),0)","v":0},{"$f":"IFERROR($E136*SUMIF('Daily Log'!#REF!,$B136,'Daily Log'!#REF!),0)","v":0},{"$f":"IFERROR($E136*SUMIF('Daily Log'!#REF!,$B136,'Daily Log'!#REF!),0)","v":0},{"$f":"IFERROR($E136*SUMIF('Daily Log'!#REF!,$B136,'Daily Log'!#REF!),0)","v":0},{"$f":"IFERROR($E136*SUMIF('Daily Log'!#REF!,$B136,'Daily Log'!#REF!),0)","v":0},{"$f":"IFERROR($E136*SUMIF('Daily Log'!#REF!,$B136,'Daily Log'!#REF!),0)","v":0},{"$f":"IFERROR($E136*SUMIF('Daily Log'!#REF!,$B136,'Daily Log'!#REF!),0)","v":0},{"$f":"IFERROR($E136*SUMIF('Daily Log'!#REF!,$B136,'Daily Log'!#REF!),0)","v":0},{"$f":"IFERROR($E136*SUMIF('Daily Log'!#REF!,$B136,'Daily Log'!#REF!),0)","v":0},{"$f":"IFERROR($E136*SUMIF('Daily Log'!#REF!,$B136,'Daily Log'!#REF!),0)","v":0},{"$f":"IFERROR($E136*SUMIF('Daily Log'!#REF!,$B136,'Daily Log'!#REF!),0)","v":0},{"$f":"IFERROR($E136*SUMIF('Daily Log'!#REF!,$B136,'Daily Log'!#REF!),0)","v":0},{"$f":"IFERROR($E136*SUMIF('Daily Log'!#REF!,$B136,'Daily Log'!#REF!),0)","v":0},{"$f":"IFERROR($E136*SUMIF('Daily Log'!#REF!,$B136,'Daily Log'!#REF!),0)","v":0},{"$f":"IFERROR($E136*SUMIF('Daily Log'!#REF!,$B136,'Daily Log'!#REF!),0)","v":0}]
[null,"DB04 1004:CKN MARY",null,"SIDE ORDER- WESTERN CRUISE ",1,8,{"$f":"IFERROR($E137*SUMIF('Daily Log'!$B$18:$B$1017,$B137,'Daily Log'!$C$18:$C$1017),0)","v":0},{"$f":"IFERROR($E137*SUMIF('Daily Log'!$E$18:$E$1017,$B137,'Daily Log'!$F$18:$F$1017),0)","v":0},{"$f":"IFERROR($E137*SUMIF('Daily Log'!$H$18:$H$1017,$B137,'Daily Log'!$I$18:$I$1017),0)","v":0},{"$f":"IFERROR($E137*SUMIF('Daily Log'!$K$18:$K$1017,$B137,'Daily Log'!$L$18:$L$1017),0)","v":0},{"$f":"IFERROR($E137*SUMIF('Daily Log'!$N$18:$N$1017,$B137,'Daily Log'!$O$18:$O$1017),0)","v":0},{"$f":"IFERROR($E137*SUMIF('Daily Log'!$Q$18:$Q$1017,$B137,'Daily Log'!$R$18:$R$1017),0)","v":0},{"$f":"IFERROR($E137*SUMIF('Daily Log'!$T$18:$T$1017,$B137,'Daily Log'!$U$18:$U$1017),0)","v":1},{"$f":"IFERROR($E137*SUMIF('Daily Log'!$W$18:$W$1017,$B137,'Daily Log'!$X$18:$X$1017),0)","v":2},{"$f":"IFERROR($E137*SUMIF('Daily Log'!$Z$18:$Z$1017,$B137,'Daily Log'!$AA$18:$AA$1017),0)","v":2},{"$f":"IFERROR($E137*SUMIF('Daily Log'!$AC$18:$AC$1017,$B137,'Daily Log'!$AD$18:$AD$1017),0)","v":1},{"$f":"IFERROR($E137*SUMIF('Daily Log'!$AF$18:$AF$1017,$B137,'Daily Log'!$AG$18:$AG$1017),0)","v":1},{"$f":"IFERROR($E137*SUMIF('Daily Log'!$AI$18:$AI$1017,$B137,'Daily Log'!$AJ$18:$AJ$1017),0)","v":1},{"$f":"IFERROR($E137*SUMIF('Daily Log'!#REF!,$B137,'Daily Log'!#REF!),0)","v":0},{"$f":"IFERROR($E137*SUMIF('Daily Log'!#REF!,$B137,'Daily Log'!#REF!),0)","v":0},{"$f":"IFERROR($E137*SUMIF('Daily Log'!#REF!,$B137,'Daily Log'!#REF!),0)","v":0},{"$f":"IFERROR($E137*SUMIF('Daily Log'!#REF!,$B137,'Daily Log'!#REF!),0)","v":0},{"$f":"IFERROR($E137*SUMIF('Daily Log'!#REF!,$B137,'Daily Log'!#REF!),0)","v":0},{"$f":"IFERROR($E137*SUMIF('Daily Log'!#REF!,$B137,'Daily Log'!#REF!),0)","v":0},{"$f":"IFERROR($E137*SUMIF('Daily Log'!#REF!,$B137,'Daily Log'!#REF!),0)","v":0},{"$f":"IFERROR($E137*SUMIF('Daily Log'!#REF!,$B137,'Daily Log'!#REF!),0)","v":0},{"$f":"IFERROR($E137*SUMIF('Daily Log'!#REF!,$B137,'Daily Log'!#REF!),0)","v":0},{"$f":"IFERROR($E137*SUMIF('Daily Log'!#REF!,$B137,'Daily Log'!#REF!),0)","v":0},{"$f":"IFERROR($E137*SUMIF('Daily Log'!#REF!,$B137,'Daily Log'!#REF!),0)","v":0},{"$f":"IFERROR($E137*SUMIF('Daily Log'!#REF!,$B137,'Daily Log'!#REF!),0)","v":0},{"$f":"IFERROR($E137*SUMIF('Daily Log'!#REF!,$B137,'Daily Log'!#REF!),0)","v":0},{"$f":"IFERROR($E137*SUMIF('Daily Log'!#REF!,$B137,'Daily Log'!#REF!),0)","v":0},{"$f":"IFERROR($E137*SUMIF('Daily Log'!#REF!,$B137,'Daily Log'!#REF!),0)","v":0},{"$f":"IFERROR($E137*SUMIF('Daily Log'!#REF!,$B137,'Daily Log'!#REF!),0)","v":0},{"$f":"IFERROR($E137*SUMIF('Daily Log'!#REF!,$B137,'Daily Log'!#REF!),0)","v":0},{"$f":"IFERROR($E137*SUMIF('Daily Log'!#REF!,$B137,'Daily Log'!#REF!),0)","v":0},{"$f":"IFERROR($E137*SUMIF('Daily Log'!#REF!,$B137,'Daily Log'!#REF!),0)","v":0}]
[null,"DB05 1005:FISH&CHIP",null,"SIDE ORDER- WESTERN CRUISE ",1,9,{"$f":"IFERROR($E138*SUMIF('Daily Log'!$B$18:$B$1017,$B138,'Daily Log'!$C$18:$C$1017),0)","v":0},{"$f":"IFERROR($E138*SUMIF('Daily Log'!$E$18:$E$1017,$B138,'Daily Log'!$F$18:$F$1017),0)","v":0},{"$f":"IFERROR($E138*SUMIF('Daily Log'!$H$18:$H$1017,$B138,'Daily Log'!$I$18:$I$1017),0)","v":0},{"$f":"IFERROR($E138*SUMIF('Daily Log'!$K$18:$K$1017,$B138,'Daily Log'!$L$18:$L$1017),0)","v":0},{"$f":"IFERROR($E138*SUMIF('Daily Log'!$N$18:$N$1017,$B138,'Daily Log'!$O$18:$O$1017),0)","v":0},{"$f":"IFERROR($E138*SUMIF('Daily Log'!$Q$18:$Q$1017,$B138,'Daily Log'!$R$18:$R$1017),0)","v":0},{"$f":"IFERROR($E138*SUMIF('Daily Log'!$T$18:$T$1017,$B138,'Daily Log'!$U$18:$U$1017),0)","v":0},{"$f":"IFERROR($E138*SUMIF('Daily Log'!$W$18:$W$1017,$B138,'Daily Log'!$X$18:$X$1017),0)","v":0},{"$f":"IFERROR($E138*SUMIF('Daily Log'!$Z$18:$Z$1017,$B138,'Daily Log'!$AA$18:$AA$1017),0)","v":0},{"$f":"IFERROR($E138*SUMIF('Daily Log'!$AC$18:$AC$1017,$B138,'Daily Log'!$AD$18:$AD$1017),0)","v":4},{"$f":"IFERROR($E138*SUMIF('Daily Log'!$AF$18:$AF$1017,$B138,'Daily Log'!$AG$18:$AG$1017),0)","v":4},{"$f":"IFERROR($E138*SUMIF('Daily Log'!$AI$18:$AI$1017,$B138,'Daily Log'!$AJ$18:$AJ$1017),0)","v":1},{"$f":"IFERROR($E138*SUMIF('Daily Log'!#REF!,$B138,'Daily Log'!#REF!),0)","v":0},{"$f":"IFERROR($E138*SUMIF('Daily Log'!#REF!,$B138,'Daily Log'!#REF!),0)","v":0},{"$f":"IFERROR($E138*SUMIF('Daily Log'!#REF!,$B138,'Daily Log'!#REF!),0)","v":0},{"$f":"IFERROR($E138*SUMIF('Daily Log'!#REF!,$B138,'Daily Log'!#REF!),0)","v":0},{"$f":"IFERROR($E138*SUMIF('Daily Log'!#REF!,$B138,'Daily Log'!#REF!),0)","v":0},{"$f":"IFERROR($E138*SUMIF('Daily Log'!#REF!,$B138,'Daily Log'!#REF!),0)","v":0},{"$f":"IFERROR($E138*SUMIF('Daily Log'!#REF!,$B138,'Daily Log'!#REF!),0)","v":0},{"$f":"IFERROR($E138*SUMIF('Daily Log'!#REF!,$B138,'Daily Log'!#REF!),0)","v":0},{"$f":"IFERROR($E138*SUMIF('Daily Log'!#REF!,$B138,'Daily Log'!#REF!),0)","v":0},{"$f":"IFERROR($E138*SUMIF('Daily Log'!#REF!,$B138,'Daily Log'!#REF!),0)","v":0},{"$f":"IFERROR($E138*SUMIF('Daily Log'!#REF!,$B138,'Daily Log'!#REF!),0)","v":0},{"$f":"IFERROR($E138*SUMIF('Daily Log'!#REF!,$B138,'Daily Log'!#REF!),0)","v":0},{"$f":"IFERROR($E138*SUMIF('Daily Log'!#REF!,$B138,'Daily Log'!#REF!),0)","v":0},{"$f":"IFERROR($E138*SUMIF('Daily Log'!#REF!,$B138,'Daily Log'!#REF!),0)","v":0},{"$f":"IFERROR($E138*SUMIF('Daily Log'!#REF!,$B138,'Daily Log'!#REF!),0)","v":0},{"$f":"IFERROR($E138*SUMIF('Daily Log'!#REF!,$B138,'Daily Log'!#REF!),0)","v":0},{"$f":"IFERROR($E138*SUMIF('Daily Log'!#REF!,$B138,'Daily Log'!#REF!),0)","v":0},{"$f":"IFERROR($E138*SUMIF('Daily Log'!#REF!,$B138,'Daily Log'!#REF!),0)","v":0},{"$f":"IFERROR($E138*SUMIF('Daily Log'!#REF!,$B138,'Daily Log'!#REF!),0)","v":0}]
[null,"DB06 1006:SPAGHETTI",null,"SIDE ORDER- WESTERN CRUISE ",1,8,{"$f":"IFERROR($E139*SUMIF('Daily Log'!$B$18:$B$1017,$B139,'Daily Log'!$C$18:$C$1017),0)","v":0},{"$f":"IFERROR($E139*SUMIF('Daily Log'!$E$18:$E$1017,$B139,'Daily Log'!$F$18:$F$1017),0)","v":0},{"$f":"IFERROR($E139*SUMIF('Daily Log'!$H$18:$H$1017,$B139,'Daily Log'!$I$18:$I$1017),0)","v":0},{"$f":"IFERROR($E139*SUMIF('Daily Log'!$K$18:$K$1017,$B139,'Daily Log'!$L$18:$L$1017),0)","v":0},{"$f":"IFERROR($E139*SUMIF('Daily Log'!$N$18:$N$1017,$B139,'Daily Log'!$O$18:$O$1017),0)","v":0},{"$f":"IFERROR($E139*SUMIF('Daily Log'!$Q$18:$Q$1017,$B139,'Daily Log'!$R$18:$R$1017),0)","v":0},{"$f":"IFERROR($E139*SUMIF('Daily Log'!$T$18:$T$1017,$B139,'Daily Log'!$U$18:$U$1017),0)","v":0},{"$f":"IFERROR($E139*SUMIF('Daily Log'!$W$18:$W$1017,$B139,'Daily Log'!$X$18:$X$1017),0)","v":0},{"$f":"IFERROR($E139*SUMIF('Daily Log'!$Z$18:$Z$1017,$B139,'Daily Log'!$AA$18:$AA$1017),0)","v":2},{"$f":"IFERROR($E139*SUMIF('Daily Log'!$AC$18:$AC$1017,$B139,'Daily Log'!$AD$18:$AD$1017),0)","v":1},{"$f":"IFERROR($E139*SUMIF('Daily Log'!$AF$18:$AF$1017,$B139,'Daily Log'!$AG$18:$AG$1017),0)","v":3},{"$f":"IFERROR($E139*SUMIF('Daily Log'!$AI$18:$AI$1017,$B139,'Daily Log'!$AJ$18:$AJ$1017),0)","v":2},{"$f":"IFERROR($E139*SUMIF('Daily Log'!#REF!,$B139,'Daily Log'!#REF!),0)","v":0},{"$f":"IFERROR($E139*SUMIF('Daily Log'!#REF!,$B139,'Daily Log'!#REF!),0)","v":0},{"$f":"IFERROR($E139*SUMIF('Daily Log'!#REF!,$B139,'Daily Log'!#REF!),0)","v":0},{"$f":"IFERROR($E139*SUMIF('Daily Log'!#REF!,$B139,'Daily Log'!#REF!),0)","v":0},{"$f":"IFERROR($E139*SUMIF('Daily Log'!#REF!,$B139,'Daily Log'!#REF!),0)","v":0},{"$f":"IFERROR($E139*SUMIF('Daily Log'!#REF!,$B139,'Daily Log'!#REF!),0)","v":0},{"$f":"IFERROR($E139*SUMIF('Daily Log'!#REF!,$B139,'Daily Log'!#REF!),0)","v":0},{"$f":"IFERROR($E139*SUMIF('Daily Log'!#REF!,$B139,'Daily Log'!#REF!),0)","v":0},{"$f":"IFERROR($E139*SUMIF('Daily Log'!#REF!,$B139,'Daily Log'!#REF!),0)","v":0},{"$f":"IFERROR($E139*SUMIF('Daily Log'!#REF!,$B139,'Daily Log'!#REF!),0)","v":0},{"$f":"IFERROR($E139*SUMIF('Daily Log'!#REF!,$B139,'Daily Log'!#REF!),0)","v":0},{"$f":"IFERROR($E139*SUMIF('Daily Log'!#REF!,$B139,'Daily Log'!#REF!),0)","v":0},{"$f":"IFERROR($E139*SUMIF('Daily Log'!#REF!,$B139,'Daily Log'!#REF!),0)","v":0},{"$f":"IFERROR($E139*SUMIF('Daily Log'!#REF!,$B139,'Daily Log'!#REF!),0)","v":0},{"$f":"IFERROR($E139*SUMIF('Daily Log'!#REF!,$B139,'Daily Log'!#REF!),0)","v":0},{"$f":"IFERROR($E139*SUMIF('Daily Log'!#REF!,$B139,'Daily Log'!#REF!),0)","v":0},{"$f":"IFERROR($E139*SUMIF('Daily Log'!#REF!,$B139,'Daily Log'!#REF!),0)","v":0},{"$f":"IFERROR($E139*SUMIF('Daily Log'!#REF!,$B139,'Daily Log'!#REF!),0)","v":0},{"$f":"IFERROR($E139*SUMIF('Daily Log'!#REF!,$B139,'Daily Log'!#REF!),0)","v":0}]
[null,"DB07 1007:CHK SALAD",null,"SIDE ORDER- WESTERN CRUISE ",1,3,{"$f":"IFERROR($E140*SUMIF('Daily Log'!$B$18:$B$1017,$B140,'Daily Log'!$C$18:$C$1017),0)","v":0},{"$f":"IFERROR($E140*SUMIF('Daily Log'!$E$18:$E$1017,$B140,'Daily Log'!$F$18:$F$1017),0)","v":0},{"$f":"IFERROR($E140*SUMIF('Daily Log'!$H$18:$H$1017,$B140,'Daily Log'!$I$18:$I$1017),0)","v":0},{"$f":"IFERROR($E140*SUMIF('Daily Log'!$K$18:$K$1017,$B140,'Daily Log'!$L$18:$L$1017),0)","v":0},{"$f":"IFERROR($E140*SUMIF('Daily Log'!$N$18:$N$1017,$B140,'Daily Log'!$O$18:$O$1017),0)","v":0},{"$f":"IFERROR($E140*SUMIF('Daily Log'!$Q$18:$Q$1017,$B140,'Daily Log'!$R$18:$R$1017),0)","v":1},{"$f":"IFERROR($E140*SUMIF('Daily Log'!$T$18:$T$1017,$B140,'Daily Log'!$U$18:$U$1017),0)","v":0},{"$f":"IFERROR($E140*SUMIF('Daily Log'!$W$18:$W$1017,$B140,'Daily Log'!$X$18:$X$1017),0)","v":0},{"$f":"IFERROR($E140*SUMIF('Daily Log'!$Z$18:$Z$1017,$B140,'Daily Log'!$AA$18:$AA$1017),0)","v":0},{"$f":"IFERROR($E140*SUMIF('Daily Log'!$AC$18:$AC$1017,$B140,'Daily Log'!$AD$18:$AD$1017),0)","v":0},{"$f":"IFERROR($E140*SUMIF('Daily Log'!$AF$18:$AF$1017,$B140,'Daily Log'!$AG$18:$AG$1017),0)","v":2},{"$f":"IFERROR($E140*SUMIF('Daily Log'!$AI$18:$AI$1017,$B140,'Daily Log'!$AJ$18:$AJ$1017),0)","v":0},{"$f":"IFERROR($E140*SUMIF('Daily Log'!#REF!,$B140,'Daily Log'!#REF!),0)","v":0},{"$f":"IFERROR($E140*SUMIF('Daily Log'!#REF!,$B140,'Daily Log'!#REF!),0)","v":0},{"$f":"IFERROR($E140*SUMIF('Daily Log'!#REF!,$B140,'Daily Log'!#REF!),0)","v":0},{"$f":"IFERROR($E140*SUMIF('Daily Log'!#REF!,$B140,'Daily Log'!#REF!),0)","v":0},{"$f":"IFERROR($E140*SUMIF('Daily Log'!#REF!,$B140,'Daily Log'!#REF!),0)","v":0},{"$f":"IFERROR($E140*SUMIF('Daily Log'!#REF!,$B140,'Daily Log'!#REF!),0)","v":0},{"$f":"IFERROR($E140*SUMIF('Daily Log'!#REF!,$B140,'Daily Log'!#REF!),0)","v":0},{"$f":"IFERROR($E140*SUMIF('Daily Log'!#REF!,$B140,'Daily Log'!#REF!),0)","v":0},{"$f":"IFERROR($E140*SUMIF('Daily Log'!#REF!,$B140,'Daily Log'!#REF!),0)","v":0},{"$f":"IFERROR($E140*SUMIF('Daily Log'!#REF!,$B140,'Daily Log'!#REF!),0)","v":0},{"$f":"IFERROR($E140*SUMIF('Daily Log'!#REF!,$B140,'Daily Log'!#REF!),0)","v":0},{"$f":"IFERROR($E140*SUMIF('Daily Log'!#REF!,$B140,'Daily Log'!#REF!),0)","v":0},{"$f":"IFERROR($E140*SUMIF('Daily Log'!#REF!,$B140,'Daily Log'!#REF!),0)","v":0},{"$f":"IFERROR($E140*SUMIF('Daily Log'!#REF!,$B140,'Daily Log'!#REF!),0)","v":0},{"$f":"IFERROR($E140*SUMIF('Daily Log'!#REF!,$B140,'Daily Log'!#REF!),0)","v":0},{"$f":"IFERROR($E140*SUMIF('Daily Log'!#REF!,$B140,'Daily Log'!#REF!),0)","v":0},{"$f":"IFERROR($E140*SUMIF('Daily Log'!#REF!,$B140,'Daily Log'!#REF!),0)","v":0},{"$f":"IFERROR($E140*SUMIF('Daily Log'!#REF!,$B140,'Daily Log'!#REF!),0)","v":0},{"$f":"IFERROR($E140*SUMIF('Daily Log'!#REF!,$B140,'Daily Log'!#REF!),0)","v":0}]
[null,"DC01 1101:THAI CHK",null,"SIDE ORDER- LOCAL DELIGHTS",1,13,{"$f":"IFERROR($E141*SUMIF('Daily Log'!$B$18:$B$1017,$B141,'Daily Log'!$C$18:$C$1017),0)","v":0},{"$f":"IFERROR($E141*SUMIF('Daily Log'!$E$18:$E$1017,$B141,'Daily Log'!$F$18:$F$1017),0)","v":0},{"$f":"IFERROR($E141*SUMIF('Daily Log'!$H$18:$H$1017,$B141,'Daily Log'!$I$18:$I$1017),0)","v":0},{"$f":"IFERROR($E141*SUMIF('Daily Log'!$K$18:$K$1017,$B141,'Daily Log'!$L$18:$L$1017),0)","v":0},{"$f":"IFERROR($E141*SUMIF('Daily Log'!$N$18:$N$1017,$B141,'Daily Log'!$O$18:$O$1017),0)","v":0},{"$f":"IFERROR($E141*SUMIF('Daily Log'!$Q$18:$Q$1017,$B141,'Daily Log'!$R$18:$R$1017),0)","v":1},{"$f":"IFERROR($E141*SUMIF('Daily Log'!$T$18:$T$1017,$B141,'Daily Log'!$U$18:$U$1017),0)","v":1},{"$f":"IFERROR($E141*SUMIF('Daily Log'!$W$18:$W$1017,$B141,'Daily Log'!$X$18:$X$1017),0)","v":2},{"$f":"IFERROR($E141*SUMIF('Daily Log'!$Z$18:$Z$1017,$B141,'Daily Log'!$AA$18:$AA$1017),0)","v":4},{"$f":"IFERROR($E141*SUMIF('Daily Log'!$AC$18:$AC$1017,$B141,'Daily Log'!$AD$18:$AD$1017),0)","v":3},{"$f":"IFERROR($E141*SUMIF('Daily Log'!$AF$18:$AF$1017,$B141,'Daily Log'!$AG$18:$AG$1017),0)","v":0},{"$f":"IFERROR($E141*SUMIF('Daily Log'!$AI$18:$AI$1017,$B141,'Daily Log'!$AJ$18:$AJ$1017),0)","v":2},{"$f":"IFERROR($E141*SUMIF('Daily Log'!#REF!,$B141,'Daily Log'!#REF!),0)","v":0},{"$f":"IFERROR($E141*SUMIF('Daily Log'!#REF!,$B141,'Daily Log'!#REF!),0)","v":0},{"$f":"IFERROR($E141*SUMIF('Daily Log'!#REF!,$B141,'Daily Log'!#REF!),0)","v":0},{"$f":"IFERROR($E141*SUMIF('Daily Log'!#REF!,$B141,'Daily Log'!#REF!),0)","v":0},{"$f":"IFERROR($E141*SUMIF('Daily Log'!#REF!,$B141,'Daily Log'!#REF!),0)","v":0},{"$f":"IFERROR($E141*SUMIF('Daily Log'!#REF!,$B141,'Daily Log'!#REF!),0)","v":0},{"$f":"IFERROR($E141*SUMIF('Daily Log'!#REF!,$B141,'Daily Log'!#REF!),0)","v":0},{"$f":"IFERROR($E141*SUMIF('Daily Log'!#REF!,$B141,'Daily Log'!#REF!),0)","v":0},{"$f":"IFERROR($E141*SUMIF('Daily Log'!#REF!,$B141,'Daily Log'!#REF!),0)","v":0},{"$f":"IFERROR($E141*SUMIF('Daily Log'!#REF!,$B141,'Daily Log'!#REF!),0)","v":0},{"$f":"IFERROR($E141*SUMIF('Daily Log'!#REF!,$B141,'Daily Log'!#REF!),0)","v":0},{"$f":"IFERROR($E141*SUMIF('Daily Log'!#REF!,$B141,'Daily Log'!#REF!),0)","v":0},{"$f":"IFERROR($E141*SUMIF('Daily Log'!#REF!,$B141,'Daily Log'!#REF!),0)","v":0},{"$f":"IFERROR($E141*SUMIF('Daily Log'!#REF!,$B141,'Daily Log'!#REF!),0)","v":0},{"$f":"IFERROR($E141*SUMIF('Daily Log'!#REF!,$B141,'Daily Log'!#REF!),0)","v":0},{"$f":"IFERROR($E141*SUMIF('Daily Log'!#REF!,$B141,'Daily Log'!#REF!),0)","v":0},{"$f":"IFERROR($E141*SUMIF('Daily Log'!#REF!,$B141,'Daily Log'!#REF!),0)","v":0},{"$f":"IFERROR($E141*SUMIF('Daily Log'!#REF!,$B141,'Daily Log'!#REF!),0)","v":0},{"$f":"IFERROR($E141*SUMIF('Daily Log'!#REF!,$B141,'Daily Log'!#REF!),0)","v":0}]
[null,"DC02 1102:MAMITE CHK",null,"SIDE ORDER- LOCAL DELIGHTS",1,15,{"$f":"IFERROR($E142*SUMIF('Daily Log'!$B$18:$B$1017,$B142,'Daily Log'!$C$18:$C$1017),0)","v":0},{"$f":"IFERROR($E142*SUMIF('Daily Log'!$E$18:$E$1017,$B142,'Daily Log'!$F$18:$F$1017),0)","v":0},{"$f":"IFERROR($E142*SUMIF('Daily Log'!$H$18:$H$1017,$B142,'Daily Log'!$I$18:$I$1017),0)","v":0},{"$f":"IFERROR($E142*SUMIF('Daily Log'!$K$18:$K$1017,$B142,'Daily Log'!$L$18:$L$1017),0)","v":0},{"$f":"IFERROR($E142*SUMIF('Daily Log'!$N$18:$N$1017,$B142,'Daily Log'!$O$18:$O$1017),0)","v":0},{"$f":"IFERROR($E142*SUMIF('Daily Log'!$Q$18:$Q$1017,$B142,'Daily Log'!$R$18:$R$1017),0)","v":1},{"$f":"IFERROR($E142*SUMIF('Daily Log'!$T$18:$T$1017,$B142,'Daily Log'!$U$18:$U$1017),0)","v":0},{"$f":"IFERROR($E142*SUMIF('Daily Log'!$W$18:$W$1017,$B142,'Daily Log'!$X$18:$X$1017),0)","v":1},{"$f":"IFERROR($E142*SUMIF('Daily Log'!$Z$18:$Z$1017,$B142,'Daily Log'!$AA$18:$AA$1017),0)","v":3},{"$f":"IFERROR($E142*SUMIF('Daily Log'!$AC$18:$AC$1017,$B142,'Daily Log'!$AD$18:$AD$1017),0)","v":3},{"$f":"IFERROR($E142*SUMIF('Daily Log'!$AF$18:$AF$1017,$B142,'Daily Log'!$AG$18:$AG$1017),0)","v":4},{"$f":"IFERROR($E142*SUMIF('Daily Log'!$AI$18:$AI$1017,$B142,'Daily Log'!$AJ$18:$AJ$1017),0)","v":3},{"$f":"IFERROR($E142*SUMIF('Daily Log'!#REF!,$B142,'Daily Log'!#REF!),0)","v":0},{"$f":"IFERROR($E142*SUMIF('Daily Log'!#REF!,$B142,'Daily Log'!#REF!),0)","v":0},{"$f":"IFERROR($E142*SUMIF('Daily Log'!#REF!,$B142,'Daily Log'!#REF!),0)","v":0},{"$f":"IFERROR($E142*SUMIF('Daily Log'!#REF!,$B142,'Daily Log'!#REF!),0)","v":0},{"$f":"IFERROR($E142*SUMIF('Daily Log'!#REF!,$B142,'Daily Log'!#REF!),0)","v":0},{"$f":"IFERROR($E142*SUMIF('Daily Log'!#REF!,$B142,'Daily Log'!#REF!),0)","v":0},{"$f":"IFERROR($E142*SUMIF('Daily Log'!#REF!,$B142,'Daily Log'!#REF!),0)","v":0},{"$f":"IFERROR($E142*SUMIF('Daily Log'!#REF!,$B142,'Daily Log'!#REF!),0)","v":0},{"$f":"IFERROR($E142*SUMIF('Daily Log'!#REF!,$B142,'Daily Log'!#REF!),0)","v":0},{"$f":"IFERROR($E142*SUMIF('Daily Log'!#REF!,$B142,'Daily Log'!#REF!),0)","v":0},{"$f":"IFERROR($E142*SUMIF('Daily Log'!#REF!,$B142,'Daily Log'!#REF!),0)","v":0},{"$f":"IFERROR($E142*SUMIF('Daily Log'!#REF!,$B142,'Daily Log'!#REF!),0)","v":0},{"$f":"IFERROR($E142*SUMIF('Daily Log'!#REF!,$B142,'Daily Log'!#REF!),0)","v":0},{"$f":"IFERROR($E142*SUMIF('Daily Log'!#REF!,$B142,'Daily Log'!#REF!),0)","v":0},{"$f":"IFERROR($E142*SUMIF('Daily Log'!#REF!,$B142,'Daily Log'!#REF!),0)","v":0},{"$f":"IFERROR($E142*SUMIF('Daily Log'!#REF!,$B142,'Daily Log'!#REF!),0)","v":0},{"$f":"IFERROR($E142*SUMIF('Daily Log'!#REF!,$B142,'Daily Log'!#REF!),0)","v":0},{"$f":"IFERROR($E142*SUMIF('Daily Log'!#REF!,$B142,'Daily Log'!#REF!),0)","v":0},{"$f":"IFERROR($E142*SUMIF('Daily Log'!#REF!,$B142,'Daily Log'!#REF!),0)","v":0}]
[null,"DC03 1103:KO PO CHK",null,"SIDE ORDER- LOCAL DELIGHTS",1,0,{"$f":"IFERROR($E143*SUMIF('Daily Log'!$B$18:$B$1017,$B143,'Daily Log'!$C$18:$C$1017),0)","v":0},{"$f":"IFERROR($E143*SUMIF('Daily Log'!$E$18:$E$1017,$B143,'Daily Log'!$F$18:$F$1017),0)","v":0},{"$f":"IFERROR($E143*SUMIF('Daily Log'!$H$18:$H$1017,$B143,'Daily Log'!$I$18:$I$1017),0)","v":0},{"$f":"IFERROR($E143*SUMIF('Daily Log'!$K$18:$K$1017,$B143,'Daily Log'!$L$18:$L$1017),0)","v":0},{"$f":"IFERROR($E143*SUMIF('Daily Log'!$N$18:$N$1017,$B143,'Daily Log'!$O$18:$O$1017),0)","v":0},{"$f":"IFERROR($E143*SUMIF('Daily Log'!$Q$18:$Q$1017,$B143,'Daily Log'!$R$18:$R$1017),0)","v":0},{"$f":"IFERROR($E143*SUMIF('Daily Log'!$T$18:$T$1017,$B143,'Daily Log'!$U$18:$U$1017),0)","v":0},{"$f":"IFERROR($E143*SUMIF('Daily Log'!$W$18:$W$1017,$B143,'Daily Log'!$X$18:$X$1017),0)","v":0},{"$f":"IFERROR($E143*SUMIF('Daily Log'!$Z$18:$Z$1017,$B143,'Daily Log'!$AA$18:$AA$1017),0)","v":0},{"$f":"IFERROR($E143*SUMIF('Daily Log'!$AC$18:$AC$1017,$B143,'Daily Log'!$AD$18:$AD$1017),0)","v":0},{"$f":"IFERROR($E143*SUMIF('Daily Log'!$AF$18:$AF$1017,$B143,'Daily Log'!$AG$18:$AG$1017),0)","v":0},{"$f":"IFERROR($E143*SUMIF('Daily Log'!$AI$18:$AI$1017,$B143,'Daily Log'!$AJ$18:$AJ$1017),0)","v":0},{"$f":"IFERROR($E143*SUMIF('Daily Log'!#REF!,$B143,'Daily Log'!#REF!),0)","v":0},{"$f":"IFERROR($E143*SUMIF('Daily Log'!#REF!,$B143,'Daily Log'!#REF!),0)","v":0},{"$f":"IFERROR($E143*SUMIF('Daily Log'!#REF!,$B143,'Daily Log'!#REF!),0)","v":0},{"$f":"IFERROR($E143*SUMIF('Daily Log'!#REF!,$B143,'Daily Log'!#REF!),0)","v":0},{"$f":"IFERROR($E143*SUMIF('Daily Log'!#REF!,$B143,'Daily Log'!#REF!),0)","v":0},{"$f":"IFERROR($E143*SUMIF('Daily Log'!#REF!,$B143,'Daily Log'!#REF!),0)","v":0},{"$f":"IFERROR($E143*SUMIF('Daily Log'!#REF!,$B143,'Daily Log'!#REF!),0)","v":0},{"$f":"IFERROR($E143*SUMIF('Daily Log'!#REF!,$B143,'Daily Log'!#REF!),0)","v":0},{"$f":"IFERROR($E143*SUMIF('Daily Log'!#REF!,$B143,'Daily Log'!#REF!),0)","v":0},{"$f":"IFERROR($E143*SUMIF('Daily Log'!#REF!,$B143,'Daily Log'!#REF!),0)","v":0},{"$f":"IFERROR($E143*SUMIF('Daily Log'!#REF!,$B143,'Daily Log'!#REF!),0)","v":0},{"$f":"IFERROR($E143*SUMIF('Daily Log'!#REF!,$B143,'Daily Log'!#REF!),0)","v":0},{"$f":"IFERROR($E143*SUMIF('Daily Log'!#REF!,$B143,'Daily Log'!#REF!),0)","v":0},{"$f":"IFERROR($E143*SUMIF('Daily Log'!#REF!,$B143,'Daily Log'!#REF!),0)","v":0},{"$f":"IFERROR($E143*SUMIF('Daily Log'!#REF!,$B143,'Daily Log'!#REF!),0)","v":0},{"$f":"IFERROR($E143*SUMIF('Daily Log'!#REF!,$B143,'Daily Log'!#REF!),0)","v":0},{"$f":"IFERROR($E143*SUMIF('Daily Log'!#REF!,$B143,'Daily Log'!#REF!),0)","v":0},{"$f":"IFERROR($E143*SUMIF('Daily Log'!#REF!,$B143,'Daily Log'!#REF!),0)","v":0},{"$f":"IFERROR($E143*SUMIF('Daily Log'!#REF!,$B143,'Daily Log'!#REF!),0)","v":0}]
[null,"DC04 1104:S&S CHK",null,"SIDE ORDER- LOCAL DELIGHTS",1,5,{"$f":"IFERROR($E144*SUMIF('Daily Log'!$B$18:$B$1017,$B144,'Daily Log'!$C$18:$C$1017),0)","v":0},{"$f":"IFERROR($E144*SUMIF('Daily Log'!$E$18:$E$1017,$B144,'Daily Log'!$F$18:$F$1017),0)","v":0},{"$f":"IFERROR($E144*SUMIF('Daily Log'!$H$18:$H$1017,$B144,'Daily Log'!$I$18:$I$1017),0)","v":0},{"$f":"IFERROR($E144*SUMIF('Daily Log'!$K$18:$K$1017,$B144,'Daily Log'!$L$18:$L$1017),0)","v":0},{"$f":"IFERROR($E144*SUMIF('Daily Log'!$N$18:$N$1017,$B144,'Daily Log'!$O$18:$O$1017),0)","v":0},{"$f":"IFERROR($E144*SUMIF('Daily Log'!$Q$18:$Q$1017,$B144,'Daily Log'!$R$18:$R$1017),0)","v":0},{"$f":"IFERROR($E144*SUMIF('Daily Log'!$T$18:$T$1017,$B144,'Daily Log'!$U$18:$U$1017),0)","v":0},{"$f":"IFERROR($E144*SUMIF('Daily Log'!$W$18:$W$1017,$B144,'Daily Log'!$X$18:$X$1017),0)","v":0},{"$f":"IFERROR($E144*SUMIF('Daily Log'!$Z$18:$Z$1017,$B144,'Daily Log'!$AA$18:$AA$1017),0)","v":1},{"$f":"IFERROR($E144*SUMIF('Daily Log'!$AC$18:$AC$1017,$B144,'Daily Log'!$AD$18:$AD$1017),0)","v":2},{"$f":"IFERROR($E144*SUMIF('Daily Log'!$AF$18:$AF$1017,$B144,'Daily Log'!$AG$18:$AG$1017),0)","v":2},{"$f":"IFERROR($E144*SUMIF('Daily Log'!$AI$18:$AI$1017,$B144,'Daily Log'!$AJ$18:$AJ$1017),0)","v":0},{"$f":"IFERROR($E144*SUMIF('Daily Log'!#REF!,$B144,'Daily Log'!#REF!),0)","v":0},{"$f":"IFERROR($E144*SUMIF('Daily Log'!#REF!,$B144,'Daily Log'!#REF!),0)","v":0},{"$f":"IFERROR($E144*SUMIF('Daily Log'!#REF!,$B144,'Daily Log'!#REF!),0)","v":0},{"$f":"IFERROR($E144*SUMIF('Daily Log'!#REF!,$B144,'Daily Log'!#REF!),0)","v":0},{"$f":"IFERROR($E144*SUMIF('Daily Log'!#REF!,$B144,'Daily Log'!#REF!),0)","v":0},{"$f":"IFERROR($E144*SUMIF('Daily Log'!#REF!,$B144,'Daily Log'!#REF!),0)","v":0},{"$f":"IFERROR($E144*SUMIF('Daily Log'!#REF!,$B144,'Daily Log'!#REF!),0)","v":0},{"$f":"IFERROR($E144*SUMIF('Daily Log'!#REF!,$B144,'Daily Log'!#REF!),0)","v":0},{"$f":"IFERROR($E144*SUMIF('Daily Log'!#REF!,$B144,'Daily Log'!#REF!),0)","v":0},{"$f":"IFERROR($E144*SUMIF('Daily Log'!#REF!,$B144,'Daily Log'!#REF!),0)","v":0},{"$f":"IFERROR($E144*SUMIF('Daily Log'!#REF!,$B144,'Daily Log'!#REF!),0)","v":0},{"$f":"IFERROR($E144*SUMIF('Daily Log'!#REF!,$B144,'Daily Log'!#REF!),0)","v":0},{"$f":"IFERROR($E144*SUMIF('Daily Log'!#REF!,$B144,'Daily Log'!#REF!),0)","v":0},{"$f":"IFERROR($E144*SUMIF('Daily Log'!#REF!,$B144,'Daily Log'!#REF!),0)","v":0},{"$f":"IFERROR($E144*SUMIF('Daily Log'!#REF!,$B144,'Daily Log'!#REF!),0)","v":0},{"$f":"IFERROR($E144*SUMIF('Daily Log'!#REF!,$B144,'Daily Log'!#REF!),0)","v":0},{"$f":"IFERROR($E144*SUMIF('Daily Log'!#REF!,$B144,'Daily Log'!#REF!),0)","v":0},{"$f":"IFERROR($E144*SUMIF('Daily Log'!#REF!,$B144,'Daily Log'!#REF!),0)","v":0},{"$f":"IFERROR($E144*SUMIF('Daily Log'!#REF!,$B144,'Daily Log'!#REF!),0)","v":0}]
[null,"DC05 1105:BUTTER CHK",null,"SIDE ORDER- LOCAL DELIGHTS",1,34,{"$f":"IFERROR($E145*SUMIF('Daily Log'!$B$18:$B$1017,$B145,'Daily Log'!$C$18:$C$1017),0)","v":0},{"$f":"IFERROR($E145*SUMIF('Daily Log'!$E$18:$E$1017,$B145,'Daily Log'!$F$18:$F$1017),0)","v":0},{"$f":"IFERROR($E145*SUMIF('Daily Log'!$H$18:$H$1017,$B145,'Daily Log'!$I$18:$I$1017),0)","v":0},{"$f":"IFERROR($E145*SUMIF('Daily Log'!$K$18:$K$1017,$B145,'Daily Log'!$L$18:$L$1017),0)","v":0},{"$f":"IFERROR($E145*SUMIF('Daily Log'!$N$18:$N$1017,$B145,'Daily Log'!$O$18:$O$1017),0)","v":0},{"$f":"IFERROR($E145*SUMIF('Daily Log'!$Q$18:$Q$1017,$B145,'Daily Log'!$R$18:$R$1017),0)","v":6},{"$f":"IFERROR($E145*SUMIF('Daily Log'!$T$18:$T$1017,$B145,'Daily Log'!$U$18:$U$1017),0)","v":2},{"$f":"IFERROR($E145*SUMIF('Daily Log'!$W$18:$W$1017,$B145,'Daily Log'!$X$18:$X$1017),0)","v":4},{"$f":"IFERROR($E145*SUMIF('Daily Log'!$Z$18:$Z$1017,$B145,'Daily Log'!$AA$18:$AA$1017),0)","v":5},{"$f":"IFERROR($E145*SUMIF('Daily Log'!$AC$18:$AC$1017,$B145,'Daily Log'!$AD$18:$AD$1017),0)","v":4},{"$f":"IFERROR($E145*SUMIF('Daily Log'!$AF$18:$AF$1017,$B145,'Daily Log'!$AG$18:$AG$1017),0)","v":8},{"$f":"IFERROR($E145*SUMIF('Daily Log'!$AI$18:$AI$1017,$B145,'Daily Log'!$AJ$18:$AJ$1017),0)","v":5},{"$f":"IFERROR($E145*SUMIF('Daily Log'!#REF!,$B145,'Daily Log'!#REF!),0)","v":0},{"$f":"IFERROR($E145*SUMIF('Daily Log'!#REF!,$B145,'Daily Log'!#REF!),0)","v":0},{"$f":"IFERROR($E145*SUMIF('Daily Log'!#REF!,$B145,'Daily Log'!#REF!),0)","v":0},{"$f":"IFERROR($E145*SUMIF('Daily Log'!#REF!,$B145,'Daily Log'!#REF!),0)","v":0},{"$f":"IFERROR($E145*SUMIF('Daily Log'!#REF!,$B145,'Daily Log'!#REF!),0)","v":0},{"$f":"IFERROR($E145*SUMIF('Daily Log'!#REF!,$B145,'Daily Log'!#REF!),0)","v":0},{"$f":"IFERROR($E145*SUMIF('Daily Log'!#REF!,$B145,'Daily Log'!#REF!),0)","v":0},{"$f":"IFERROR($E145*SUMIF('Daily Log'!#REF!,$B145,'Daily Log'!#REF!),0)","v":0},{"$f":"IFERROR($E145*SUMIF('Daily Log'!#REF!,$B145,'Daily Log'!#REF!),0)","v":0},{"$f":"IFERROR($E145*SUMIF('Daily Log'!#REF!,$B145,'Daily Log'!#REF!),0)","v":0},{"$f":"IFERROR($E145*SUMIF('Daily Log'!#REF!,$B145,'Daily Log'!#REF!),0)","v":0},{"$f":"IFERROR($E145*SUMIF('Daily Log'!#REF!,$B145,'Daily Log'!#REF!),0)","v":0},{"$f":"IFERROR($E145*SUMIF('Daily Log'!#REF!,$B145,'Daily Log'!#REF!),0)","v":0},{"$f":"IFERROR($E145*SUMIF('Daily Log'!#REF!,$B145,'Daily Log'!#REF!),0)","v":0},{"$f":"IFERROR($E145*SUMIF('Daily Log'!#REF!,$B145,'Daily Log'!#REF!),0)","v":0},{"$f":"IFERROR($E145*SUMIF('Daily Log'!#REF!,$B145,'Daily Log'!#REF!),0)","v":0},{"$f":"IFERROR($E145*SUMIF('Daily Log'!#REF!,$B145,'Daily Log'!#REF!),0)","v":0},{"$f":"IFERROR($E145*SUMIF('Daily Log'!#REF!,$B145,'Daily Log'!#REF!),0)","v":0},{"$f":"IFERROR($E145*SUMIF('Daily Log'!#REF!,$B145,'Daily Log'!#REF!),0)","v":0}]
[null,"DC06 1106:HK F.RICE",null,"SIDE ORDER- LOCAL DELIGHTS",1,14,{"$f":"IFERROR($E146*SUMIF('Daily Log'!$B$18:$B$1017,$B146,'Daily Log'!$C$18:$C$1017),0)","v":0},{"$f":"IFERROR($E146*SUMIF('Daily Log'!$E$18:$E$1017,$B146,'Daily Log'!$F$18:$F$1017),0)","v":0},{"$f":"IFERROR($E146*SUMIF('Daily Log'!$H$18:$H$1017,$B146,'Daily Log'!$I$18:$I$1017),0)","v":0},{"$f":"IFERROR($E146*SUMIF('Daily Log'!$K$18:$K$1017,$B146,'Daily Log'!$L$18:$L$1017),0)","v":0},{"$f":"IFERROR($E146*SUMIF('Daily Log'!$N$18:$N$1017,$B146,'Daily Log'!$O$18:$O$1017),0)","v":0},{"$f":"IFERROR($E146*SUMIF('Daily Log'!$Q$18:$Q$1017,$B146,'Daily Log'!$R$18:$R$1017),0)","v":2},{"$f":"IFERROR($E146*SUMIF('Daily Log'!$T$18:$T$1017,$B146,'Daily Log'!$U$18:$U$1017),0)","v":0},{"$f":"IFERROR($E146*SUMIF('Daily Log'!$W$18:$W$1017,$B146,'Daily Log'!$X$18:$X$1017),0)","v":0},{"$f":"IFERROR($E146*SUMIF('Daily Log'!$Z$18:$Z$1017,$B146,'Daily Log'!$AA$18:$AA$1017),0)","v":1},{"$f":"IFERROR($E146*SUMIF('Daily Log'!$AC$18:$AC$1017,$B146,'Daily Log'!$AD$18:$AD$1017),0)","v":5},{"$f":"IFERROR($E146*SUMIF('Daily Log'!$AF$18:$AF$1017,$B146,'Daily Log'!$AG$18:$AG$1017),0)","v":3},{"$f":"IFERROR($E146*SUMIF('Daily Log'!$AI$18:$AI$1017,$B146,'Daily Log'!$AJ$18:$AJ$1017),0)","v":3},{"$f":"IFERROR($E146*SUMIF('Daily Log'!#REF!,$B146,'Daily Log'!#REF!),0)","v":0},{"$f":"IFERROR($E146*SUMIF('Daily Log'!#REF!,$B146,'Daily Log'!#REF!),0)","v":0},{"$f":"IFERROR($E146*SUMIF('Daily Log'!#REF!,$B146,'Daily Log'!#REF!),0)","v":0},{"$f":"IFERROR($E146*SUMIF('Daily Log'!#REF!,$B146,'Daily Log'!#REF!),0)","v":0},{"$f":"IFERROR($E146*SUMIF('Daily Log'!#REF!,$B146,'Daily Log'!#REF!),0)","v":0},{"$f":"IFERROR($E146*SUMIF('Daily Log'!#REF!,$B146,'Daily Log'!#REF!),0)","v":0},{"$f":"IFERROR($E146*SUMIF('Daily Log'!#REF!,$B146,'Daily Log'!#REF!),0)","v":0},{"$f":"IFERROR($E146*SUMIF('Daily Log'!#REF!,$B146,'Daily Log'!#REF!),0)","v":0},{"$f":"IFERROR($E146*SUMIF('Daily Log'!#REF!,$B146,'Daily Log'!#REF!),0)","v":0},{"$f":"IFERROR($E146*SUMIF('Daily Log'!#REF!,$B146,'Daily Log'!#REF!),0)","v":0},{"$f":"IFERROR($E146*SUMIF('Daily Log'!#REF!,$B146,'Daily Log'!#REF!),0)","v":0},{"$f":"IFERROR($E146*SUMIF('Daily Log'!#REF!,$B146,'Daily Log'!#REF!),0)","v":0},{"$f":"IFERROR($E146*SUMIF('Daily Log'!#REF!,$B146,'Daily Log'!#REF!),0)","v":0},{"$f":"IFERROR($E146*SUMIF('Daily Log'!#REF!,$B146,'Daily Log'!#REF!),0)","v":0},{"$f":"IFERROR($E146*SUMIF('Daily Log'!#REF!,$B146,'Daily Log'!#REF!),0)","v":0},{"$f":"IFERROR($E146*SUMIF('Daily Log'!#REF!,$B146,'Daily Log'!#REF!),0)","v":0},{"$f":"IFERROR($E146*SUMIF('Daily Log'!#REF!,$B146,'Daily Log'!#REF!),0)","v":0},{"$f":"IFERROR($E146*SUMIF('Daily Log'!#REF!,$B146,'Daily Log'!#REF!),0)","v":0},{"$f":"IFERROR($E146*SUMIF('Daily Log'!#REF!,$B146,'Daily Log'!#REF!),0)","v":0}]
[null,"DC07 1107:SBL F.RICE",null,"SIDE ORDER- LOCAL DELIGHTS",1,12,{"$f":"IFERROR($E147*SUMIF('Daily Log'!$B$18:$B$1017,$B147,'Daily Log'!$C$18:$C$1017),0)","v":0},{"$f":"IFERROR($E147*SUMIF('Daily Log'!$E$18:$E$1017,$B147,'Daily Log'!$F$18:$F$1017),0)","v":0},{"$f":"IFERROR($E147*SUMIF('Daily Log'!$H$18:$H$1017,$B147,'Daily Log'!$I$18:$I$1017),0)","v":0},{"$f":"IFERROR($E147*SUMIF('Daily Log'!$K$18:$K$1017,$B147,'Daily Log'!$L$18:$L$1017),0)","v":0},{"$f":"IFERROR($E147*SUMIF('Daily Log'!$N$18:$N$1017,$B147,'Daily Log'!$O$18:$O$1017),0)","v":0},{"$f":"IFERROR($E147*SUMIF('Daily Log'!$Q$18:$Q$1017,$B147,'Daily Log'!$R$18:$R$1017),0)","v":0},{"$f":"IFERROR($E147*SUMIF('Daily Log'!$T$18:$T$1017,$B147,'Daily Log'!$U$18:$U$1017),0)","v":3},{"$f":"IFERROR($E147*SUMIF('Daily Log'!$W$18:$W$1017,$B147,'Daily Log'!$X$18:$X$1017),0)","v":0},{"$f":"IFERROR($E147*SUMIF('Daily Log'!$Z$18:$Z$1017,$B147,'Daily Log'!$AA$18:$AA$1017),0)","v":0},{"$f":"IFERROR($E147*SUMIF('Daily Log'!$AC$18:$AC$1017,$B147,'Daily Log'!$AD$18:$AD$1017),0)","v":5},{"$f":"IFERROR($E147*SUMIF('Daily Log'!$AF$18:$AF$1017,$B147,'Daily Log'!$AG$18:$AG$1017),0)","v":2},{"$f":"IFERROR($E147*SUMIF('Daily Log'!$AI$18:$AI$1017,$B147,'Daily Log'!$AJ$18:$AJ$1017),0)","v":2},{"$f":"IFERROR($E147*SUMIF('Daily Log'!#REF!,$B147,'Daily Log'!#REF!),0)","v":0},{"$f":"IFERROR($E147*SUMIF('Daily Log'!#REF!,$B147,'Daily Log'!#REF!),0)","v":0},{"$f":"IFERROR($E147*SUMIF('Daily Log'!#REF!,$B147,'Daily Log'!#REF!),0)","v":0},{"$f":"IFERROR($E147*SUMIF('Daily Log'!#REF!,$B147,'Daily Log'!#REF!),0)","v":0},{"$f":"IFERROR($E147*SUMIF('Daily Log'!#REF!,$B147,'Daily Log'!#REF!),0)","v":0},{"$f":"IFERROR($E147*SUMIF('Daily Log'!#REF!,$B147,'Daily Log'!#REF!),0)","v":0},{"$f":"IFERROR($E147*SUMIF('Daily Log'!#REF!,$B147,'Daily Log'!#REF!),0)","v":0},{"$f":"IFERROR($E147*SUMIF('Daily Log'!#REF!,$B147,'Daily Log'!#REF!),0)","v":0},{"$f":"IFERROR($E147*SUMIF('Daily Log'!#REF!,$B147,'Daily Log'!#REF!),0)","v":0},{"$f":"IFERROR($E147*SUMIF('Daily Log'!#REF!,$B147,'Daily Log'!#REF!),0)","v":0},{"$f":"IFERROR($E147*SUMIF('Daily Log'!#REF!,$B147,'Daily Log'!#REF!),0)","v":0},{"$f":"IFERROR($E147*SUMIF('Daily Log'!#REF!,$B147,'Daily Log'!#REF!),0)","v":0},{"$f":"IFERROR($E147*SUMIF('Daily Log'!#REF!,$B147,'Daily Log'!#REF!),0)","v":0},{"$f":"IFERROR($E147*SUMIF('Daily Log'!#REF!,$B147,'Daily Log'!#REF!),0)","v":0},{"$f":"IFERROR($E147*SUMIF('Daily Log'!#REF!,$B147,'Daily Log'!#REF!),0)","v":0},{"$f":"IFERROR($E147*SUMIF('Daily Log'!#REF!,$B147,'Daily Log'!#REF!),0)","v":0},{"$f":"IFERROR($E147*SUMIF('Daily Log'!#REF!,$B147,'Daily Log'!#REF!),0)","v":0},{"$f":"IFERROR($E147*SUMIF('Daily Log'!#REF!,$B147,'Daily Log'!#REF!),0)","v":0},{"$f":"IFERROR($E147*SUMIF('Daily Log'!#REF!,$B147,'Daily Log'!#REF!),0)","v":0}]
["","DC08 1108:SBL F.MEE",null,"SIDE ORDER- LOCAL DELIGHTS",1,2,{"$f":"IFERROR($E148*SUMIF('Daily Log'!$B$18:$B$1017,$B148,'Daily Log'!$C$18:$C$1017),0)","v":0},{"$f":"IFERROR($E148*SUMIF('Daily Log'!$E$18:$E$1017,$B148,'Daily Log'!$F$18:$F$1017),0)","v":0},{"$f":"IFERROR($E148*SUMIF('Daily Log'!$H$18:$H$1017,$B148,'Daily Log'!$I$18:$I$1017),0)","v":0},{"$f":"IFERROR($E148*SUMIF('Daily Log'!$K$18:$K$1017,$B148,'Daily Log'!$L$18:$L$1017),0)","v":0},{"$f":"IFERROR($E148*SUMIF('Daily Log'!$N$18:$N$1017,$B148,'Daily Log'!$O$18:$O$1017),0)","v":0},{"$f":"IFERROR($E148*SUMIF('Daily Log'!$Q$18:$Q$1017,$B148,'Daily Log'!$R$18:$R$1017),0)","v":0},{"$f":"IFERROR($E148*SUMIF('Daily Log'!$T$18:$T$1017,$B148,'Daily Log'!$U$18:$U$1017),0)","v":0},{"$f":"IFERROR($E148*SUMIF('Daily Log'!$W$18:$W$1017,$B148,'Daily Log'!$X$18:$X$1017),0)","v":0},{"$f":"IFERROR($E148*SUMIF('Daily Log'!$Z$18:$Z$1017,$B148,'Daily Log'!$AA$18:$AA$1017),0)","v":0},{"$f":"IFERROR($E148*SUMIF('Daily Log'!$AC$18:$AC$1017,$B148,'Daily Log'!$AD$18:$AD$1017),0)","v":2},{"$f":"IFERROR($E148*SUMIF('Daily Log'!$AF$18:$AF$1017,$B148,'Daily Log'!$AG$18:$AG$1017),0)","v":0},{"$f":"IFERROR($E148*SUMIF('Daily Log'!$AI$18:$AI$1017,$B148,'Daily Log'!$AJ$18:$AJ$1017),0)","v":0},{"$f":"IFERROR($E148*SUMIF('Daily Log'!#REF!,$B148,'Daily Log'!#REF!),0)","v":0},{"$f":"IFERROR($E148*SUMIF('Daily Log'!#REF!,$B148,'Daily Log'!#REF!),0)","v":0},{"$f":"IFERROR($E148*SUMIF('Daily Log'!#REF!,$B148,'Daily Log'!#REF!),0)","v":0},{"$f":"IFERROR($E148*SUMIF('Daily Log'!#REF!,$B148,'Daily Log'!#REF!),0)","v":0},{"$f":"IFERROR($E148*SUMIF('Daily Log'!#REF!,$B148,'Daily Log'!#REF!),0)","v":0},{"$f":"IFERROR($E148*SUMIF('Daily Log'!#REF!,$B148,'Daily Log'!#REF!),0)","v":0},{"$f":"IFERROR($E148*SUMIF('Daily Log'!#REF!,$B148,'Daily Log'!#REF!),0)","v":0},{"$f":"IFERROR($E148*SUMIF('Daily Log'!#REF!,$B148,'Daily Log'!#REF!),0)","v":0},{"$f":"IFERROR($E148*SUMIF('Daily Log'!#REF!,$B148,'Daily Log'!#REF!),0)","v":0},{"$f":"IFERROR($E148*SUMIF('Daily Log'!#REF!,$B148,'Daily Log'!#REF!),0)","v":0},{"$f":"IFERROR($E148*SUMIF('Daily Log'!#REF!,$B148,'Daily Log'!#REF!),0)","v":0},{"$f":"IFERROR($E148*SUMIF('Daily Log'!#REF!,$B148,'Daily Log'!#REF!),0)","v":0},{"$f":"IFERROR($E148*SUMIF('Daily Log'!#REF!,$B148,'Daily Log'!#REF!),0)","v":0},{"$f":"IFERROR($E148*SUMIF('Daily Log'!#REF!,$B148,'Daily Log'!#REF!),0)","v":0},{"$f":"IFERROR($E148*SUMIF('Daily Log'!#REF!,$B148,'Daily Log'!#REF!),0)","v":0},{"$f":"IFERROR($E148*SUMIF('Daily Log'!#REF!,$B148,'Daily Log'!#REF!),0)","v":0},{"$f":"IFERROR($E148*SUMIF('Daily Log'!#REF!,$B148,'Daily Log'!#REF!),0)","v":0},{"$f":"IFERROR($E148*SUMIF('Daily Log'!#REF!,$B148,'Daily Log'!#REF!),0)","v":0},{"$f":"IFERROR($E148*SUMIF('Daily Log'!#REF!,$B148,'Daily Log'!#REF!),0)","v":0}]
[null,"DC09 1109:BP UDON",null,"SIDE ORDER- LOCAL DELIGHTS",1,6,{"$f":"IFERROR($E149*SUMIF('Daily Log'!$B$18:$B$1017,$B149,'Daily Log'!$C$18:$C$1017),0)","v":0},{"$f":"IFERROR($E149*SUMIF('Daily Log'!$E$18:$E$1017,$B149,'Daily Log'!$F$18:$F$1017),0)","v":0},{"$f":"IFERROR($E149*SUMIF('Daily Log'!$H$18:$H$1017,$B149,'Daily Log'!$I$18:$I$1017),0)","v":0},{"$f":"IFERROR($E149*SUMIF('Daily Log'!$K$18:$K$1017,$B149,'Daily Log'!$L$18:$L$1017),0)","v":0},{"$f":"IFERROR($E149*SUMIF('Daily Log'!$N$18:$N$1017,$B149,'Daily Log'!$O$18:$O$1017),0)","v":0},{"$f":"IFERROR($E149*SUMIF('Daily Log'!$Q$18:$Q$1017,$B149,'Daily Log'!$R$18:$R$1017),0)","v":0},{"$f":"IFERROR($E149*SUMIF('Daily Log'!$T$18:$T$1017,$B149,'Daily Log'!$U$18:$U$1017),0)","v":0},{"$f":"IFERROR($E149*SUMIF('Daily Log'!$W$18:$W$1017,$B149,'Daily Log'!$X$18:$X$1017),0)","v":0},{"$f":"IFERROR($E149*SUMIF('Daily Log'!$Z$18:$Z$1017,$B149,'Daily Log'!$AA$18:$AA$1017),0)","v":1},{"$f":"IFERROR($E149*SUMIF('Daily Log'!$AC$18:$AC$1017,$B149,'Daily Log'!$AD$18:$AD$1017),0)","v":2},{"$f":"IFERROR($E149*SUMIF('Daily Log'!$AF$18:$AF$1017,$B149,'Daily Log'!$AG$18:$AG$1017),0)","v":1},{"$f":"IFERROR($E149*SUMIF('Daily Log'!$AI$18:$AI$1017,$B149,'Daily Log'!$AJ$18:$AJ$1017),0)","v":2},{"$f":"IFERROR($E149*SUMIF('Daily Log'!#REF!,$B149,'Daily Log'!#REF!),0)","v":0},{"$f":"IFERROR($E149*SUMIF('Daily Log'!#REF!,$B149,'Daily Log'!#REF!),0)","v":0},{"$f":"IFERROR($E149*SUMIF('Daily Log'!#REF!,$B149,'Daily Log'!#REF!),0)","v":0},{"$f":"IFERROR($E149*SUMIF('Daily Log'!#REF!,$B149,'Daily Log'!#REF!),0)","v":0},{"$f":"IFERROR($E149*SUMIF('Daily Log'!#REF!,$B149,'Daily Log'!#REF!),0)","v":0},{"$f":"IFERROR($E149*SUMIF('Daily Log'!#REF!,$B149,'Daily Log'!#REF!),0)","v":0},{"$f":"IFERROR($E149*SUMIF('Daily Log'!#REF!,$B149,'Daily Log'!#REF!),0)","v":0},{"$f":"IFERROR($E149*SUMIF('Daily Log'!#REF!,$B149,'Daily Log'!#REF!),0)","v":0},{"$f":"IFERROR($E149*SUMIF('Daily Log'!#REF!,$B149,'Daily Log'!#REF!),0)","v":0},{"$f":"IFERROR($E149*SUMIF('Daily Log'!#REF!,$B149,'Daily Log'!#REF!),0)","v":0},{"$f":"IFERROR($E149*SUMIF('Daily Log'!#REF!,$B149,'Daily Log'!#REF!),0)","v":0},{"$f":"IFERROR($E149*SUMIF('Daily Log'!#REF!,$B149,'Daily Log'!#REF!),0)","v":0},{"$f":"IFERROR($E149*SUMIF('Daily Log'!#REF!,$B149,'Daily Log'!#REF!),0)","v":0},{"$f":"IFERROR($E149*SUMIF('Daily Log'!#REF!,$B149,'Daily Log'!#REF!),0)","v":0},{"$f":"IFERROR($E149*SUMIF('Daily Log'!#REF!,$B149,'Daily Log'!#REF!),0)","v":0},{"$f":"IFERROR($E149*SUMIF('Daily Log'!#REF!,$B149,'Daily Log'!#REF!),0)","v":0},{"$f":"IFERROR($E149*SUMIF('Daily Log'!#REF!,$B149,'Daily Log'!#REF!),0)","v":0},{"$f":"IFERROR($E149*SUMIF('Daily Log'!#REF!,$B149,'Daily Log'!#REF!),0)","v":0},{"$f":"IFERROR($E149*SUMIF('Daily Log'!#REF!,$B149,'Daily Log'!#REF!),0)","v":0}]
[null,"DC10 1110:NISSIN",null,"SIDE ORDER- LOCAL DELIGHTS",1,4,{"$f":"IFERROR($E150*SUMIF('Daily Log'!$B$18:$B$1017,$B150,'Daily Log'!$C$18:$C$1017),0)","v":0},{"$f":"IFERROR($E150*SUMIF('Daily Log'!$E$18:$E$1017,$B150,'Daily Log'!$F$18:$F$1017),0)","v":0},{"$f":"IFERROR($E150*SUMIF('Daily Log'!$H$18:$H$1017,$B150,'Daily Log'!$I$18:$I$1017),0)","v":0},{"$f":"IFERROR($E150*SUMIF('Daily Log'!$K$18:$K$1017,$B150,'Daily Log'!$L$18:$L$1017),0)","v":0},{"$f":"IFERROR($E150*SUMIF('Daily Log'!$N$18:$N$1017,$B150,'Daily Log'!$O$18:$O$1017),0)","v":0},{"$f":"IFERROR($E150*SUMIF('Daily Log'!$Q$18:$Q$1017,$B150,'Daily Log'!$R$18:$R$1017),0)","v":0},{"$f":"IFERROR($E150*SUMIF('Daily Log'!$T$18:$T$1017,$B150,'Daily Log'!$U$18:$U$1017),0)","v":0},{"$f":"IFERROR($E150*SUMIF('Daily Log'!$W$18:$W$1017,$B150,'Daily Log'!$X$18:$X$1017),0)","v":0},{"$f":"IFERROR($E150*SUMIF('Daily Log'!$Z$18:$Z$1017,$B150,'Daily Log'!$AA$18:$AA$1017),0)","v":0},{"$f":"IFERROR($E150*SUMIF('Daily Log'!$AC$18:$AC$1017,$B150,'Daily Log'!$AD$18:$AD$1017),0)","v":0},{"$f":"IFERROR($E150*SUMIF('Daily Log'!$AF$18:$AF$1017,$B150,'Daily Log'!$AG$18:$AG$1017),0)","v":0},{"$f":"IFERROR($E150*SUMIF('Daily Log'!$AI$18:$AI$1017,$B150,'Daily Log'!$AJ$18:$AJ$1017),0)","v":4},{"$f":"IFERROR($E150*SUMIF('Daily Log'!#REF!,$B150,'Daily Log'!#REF!),0)","v":0},{"$f":"IFERROR($E150*SUMIF('Daily Log'!#REF!,$B150,'Daily Log'!#REF!),0)","v":0},{"$f":"IFERROR($E150*SUMIF('Daily Log'!#REF!,$B150,'Daily Log'!#REF!),0)","v":0},{"$f":"IFERROR($E150*SUMIF('Daily Log'!#REF!,$B150,'Daily Log'!#REF!),0)","v":0},{"$f":"IFERROR($E150*SUMIF('Daily Log'!#REF!,$B150,'Daily Log'!#REF!),0)","v":0},{"$f":"IFERROR($E150*SUMIF('Daily Log'!#REF!,$B150,'Daily Log'!#REF!),0)","v":0},{"$f":"IFERROR($E150*SUMIF('Daily Log'!#REF!,$B150,'Daily Log'!#REF!),0)","v":0},{"$f":"IFERROR($E150*SUMIF('Daily Log'!#REF!,$B150,'Daily Log'!#REF!),0)","v":0},{"$f":"IFERROR($E150*SUMIF('Daily Log'!#REF!,$B150,'Daily Log'!#REF!),0)","v":0},{"$f":"IFERROR($E150*SUMIF('Daily Log'!#REF!,$B150,'Daily Log'!#REF!),0)","v":0},{"$f":"IFERROR($E150*SUMIF('Daily Log'!#REF!,$B150,'Daily Log'!#REF!),0)","v":0},{"$f":"IFERROR($E150*SUMIF('Daily Log'!#REF!,$B150,'Daily Log'!#REF!),0)","v":0},{"$f":"IFERROR($E150*SUMIF('Daily Log'!#REF!,$B150,'Daily Log'!#REF!),0)","v":0},{"$f":"IFERROR($E150*SUMIF('Daily Log'!#REF!,$B150,'Daily Log'!#REF!),0)","v":0},{"$f":"IFERROR($E150*SUMIF('Daily Log'!#REF!,$B150,'Daily Log'!#REF!),0)","v":0},{"$f":"IFERROR($E150*SUMIF('Daily Log'!#REF!,$B150,'Daily Log'!#REF!),0)","v":0},{"$f":"IFERROR($E150*SUMIF('Daily Log'!#REF!,$B150,'Daily Log'!#REF!),0)","v":0},{"$f":"IFERROR($E150*SUMIF('Daily Log'!#REF!,$B150,'Daily Log'!#REF!),0)","v":0},{"$f":"IFERROR($E150*SUMIF('Daily Log'!#REF!,$B150,'Daily Log'!#REF!),0)","v":0}]
[null,"DC11 1111:VEG RICE",null,"SIDE ORDER- LOCAL DELIGHTS",1,3,{"$f":"IFERROR($E151*SUMIF('Daily Log'!$B$18:$B$1017,$B151,'Daily Log'!$C$18:$C$1017),0)","v":0},{"$f":"IFERROR($E151*SUMIF('Daily Log'!$E$18:$E$1017,$B151,'Daily Log'!$F$18:$F$1017),0)","v":0},{"$f":"IFERROR($E151*SUMIF('Daily Log'!$H$18:$H$1017,$B151,'Daily Log'!$I$18:$I$1017),0)","v":0},{"$f":"IFERROR($E151*SUMIF('Daily Log'!$K$18:$K$1017,$B151,'Daily Log'!$L$18:$L$1017),0)","v":0},{"$f":"IFERROR($E151*SUMIF('Daily Log'!$N$18:$N$1017,$B151,'Daily Log'!$O$18:$O$1017),0)","v":0},{"$f":"IFERROR($E151*SUMIF('Daily Log'!$Q$18:$Q$1017,$B151,'Daily Log'!$R$18:$R$1017),0)","v":0},{"$f":"IFERROR($E151*SUMIF('Daily Log'!$T$18:$T$1017,$B151,'Daily Log'!$U$18:$U$1017),0)","v":1},{"$f":"IFERROR($E151*SUMIF('Daily Log'!$W$18:$W$1017,$B151,'Daily Log'!$X$18:$X$1017),0)","v":1},{"$f":"IFERROR($E151*SUMIF('Daily Log'!$Z$18:$Z$1017,$B151,'Daily Log'!$AA$18:$AA$1017),0)","v":0},{"$f":"IFERROR($E151*SUMIF('Daily Log'!$AC$18:$AC$1017,$B151,'Daily Log'!$AD$18:$AD$1017),0)","v":0},{"$f":"IFERROR($E151*SUMIF('Daily Log'!$AF$18:$AF$1017,$B151,'Daily Log'!$AG$18:$AG$1017),0)","v":0},{"$f":"IFERROR($E151*SUMIF('Daily Log'!$AI$18:$AI$1017,$B151,'Daily Log'!$AJ$18:$AJ$1017),0)","v":1},{"$f":"IFERROR($E151*SUMIF('Daily Log'!#REF!,$B151,'Daily Log'!#REF!),0)","v":0},{"$f":"IFERROR($E151*SUMIF('Daily Log'!#REF!,$B151,'Daily Log'!#REF!),0)","v":0},{"$f":"IFERROR($E151*SUMIF('Daily Log'!#REF!,$B151,'Daily Log'!#REF!),0)","v":0},{"$f":"IFERROR($E151*SUMIF('Daily Log'!#REF!,$B151,'Daily Log'!#REF!),0)","v":0},{"$f":"IFERROR($E151*SUMIF('Daily Log'!#REF!,$B151,'Daily Log'!#REF!),0)","v":0},{"$f":"IFERROR($E151*SUMIF('Daily Log'!#REF!,$B151,'Daily Log'!#REF!),0)","v":0},{"$f":"IFERROR($E151*SUMIF('Daily Log'!#REF!,$B151,'Daily Log'!#REF!),0)","v":0},{"$f":"IFERROR($E151*SUMIF('Daily Log'!#REF!,$B151,'Daily Log'!#REF!),0)","v":0},{"$f":"IFERROR($E151*SUMIF('Daily Log'!#REF!,$B151,'Daily Log'!#REF!),0)","v":0},{"$f":"IFERROR($E151*SUMIF('Daily Log'!#REF!,$B151,'Daily Log'!#REF!),0)","v":0},{"$f":"IFERROR($E151*SUMIF('Daily Log'!#REF!,$B151,'Daily Log'!#REF!),0)","v":0},{"$f":"IFERROR($E151*SUMIF('Daily Log'!#REF!,$B151,'Daily Log'!#REF!),0)","v":0},{"$f":"IFERROR($E151*SUMIF('Daily Log'!#REF!,$B151,'Daily Log'!#REF!),0)","v":0},{"$f":"IFERROR($E151*SUMIF('Daily Log'!#REF!,$B151,'Daily Log'!#REF!),0)","v":0},{"$f":"IFERROR($E151*SUMIF('Daily Log'!#REF!,$B151,'Daily Log'!#REF!),0)","v":0},{"$f":"IFERROR($E151*SUMIF('Daily Log'!#REF!,$B151,'Daily Log'!#REF!),0)","v":0},{"$f":"IFERROR($E151*SUMIF('Daily Log'!#REF!,$B151,'Daily Log'!#REF!),0)","v":0},{"$f":"IFERROR($E151*SUMIF('Daily Log'!#REF!,$B151,'Daily Log'!#REF!),0)","v":0},{"$f":"IFERROR($E151*SUMIF('Daily Log'!#REF!,$B151,'Daily Log'!#REF!),0)","v":0}]
[null,"DC12 1112:NASI LEMAK",null,"SIDE ORDER- LOCAL DELIGHTS",1,0,{"$f":"IFERROR($E152*SUMIF('Daily Log'!$B$18:$B$1017,$B152,'Daily Log'!$C$18:$C$1017),0)","v":0},{"$f":"IFERROR($E152*SUMIF('Daily Log'!$E$18:$E$1017,$B152,'Daily Log'!$F$18:$F$1017),0)","v":0},{"$f":"IFERROR($E152*SUMIF('Daily Log'!$H$18:$H$1017,$B152,'Daily Log'!$I$18:$I$1017),0)","v":0},{"$f":"IFERROR($E152*SUMIF('Daily Log'!$K$18:$K$1017,$B152,'Daily Log'!$L$18:$L$1017),0)","v":0},{"$f":"IFERROR($E152*SUMIF('Daily Log'!$N$18:$N$1017,$B152,'Daily Log'!$O$18:$O$1017),0)","v":0},{"$f":"IFERROR($E152*SUMIF('Daily Log'!$Q$18:$Q$1017,$B152,'Daily Log'!$R$18:$R$1017),0)","v":0},{"$f":"IFERROR($E152*SUMIF('Daily Log'!$T$18:$T$1017,$B152,'Daily Log'!$U$18:$U$1017),0)","v":0},{"$f":"IFERROR($E152*SUMIF('Daily Log'!$W$18:$W$1017,$B152,'Daily Log'!$X$18:$X$1017),0)","v":0},{"$f":"IFERROR($E152*SUMIF('Daily Log'!$Z$18:$Z$1017,$B152,'Daily Log'!$AA$18:$AA$1017),0)","v":0},{"$f":"IFERROR($E152*SUMIF('Daily Log'!$AC$18:$AC$1017,$B152,'Daily Log'!$AD$18:$AD$1017),0)","v":0},{"$f":"IFERROR($E152*SUMIF('Daily Log'!$AF$18:$AF$1017,$B152,'Daily Log'!$AG$18:$AG$1017),0)","v":0},{"$f":"IFERROR($E152*SUMIF('Daily Log'!$AI$18:$AI$1017,$B152,'Daily Log'!$AJ$18:$AJ$1017),0)","v":0},{"$f":"IFERROR($E152*SUMIF('Daily Log'!#REF!,$B152,'Daily Log'!#REF!),0)","v":0},{"$f":"IFERROR($E152*SUMIF('Daily Log'!#REF!,$B152,'Daily Log'!#REF!),0)","v":0},{"$f":"IFERROR($E152*SUMIF('Daily Log'!#REF!,$B152,'Daily Log'!#REF!),0)","v":0},{"$f":"IFERROR($E152*SUMIF('Daily Log'!#REF!,$B152,'Daily Log'!#REF!),0)","v":0},{"$f":"IFERROR($E152*SUMIF('Daily Log'!#REF!,$B152,'Daily Log'!#REF!),0)","v":0},{"$f":"IFERROR($E152*SUMIF('Daily Log'!#REF!,$B152,'Daily Log'!#REF!),0)","v":0},{"$f":"IFERROR($E152*SUMIF('Daily Log'!#REF!,$B152,'Daily Log'!#REF!),0)","v":0},{"$f":"IFERROR($E152*SUMIF('Daily Log'!#REF!,$B152,'Daily Log'!#REF!),0)","v":0},{"$f":"IFERROR($E152*SUMIF('Daily Log'!#REF!,$B152,'Daily Log'!#REF!),0)","v":0},{"$f":"IFERROR($E152*SUMIF('Daily Log'!#REF!,$B152,'Daily Log'!#REF!),0)","v":0},{"$f":"IFERROR($E152*SUMIF('Daily Log'!#REF!,$B152,'Daily Log'!#REF!),0)","v":0},{"$f":"IFERROR($E152*SUMIF('Daily Log'!#REF!,$B152,'Daily Log'!#REF!),0)","v":0},{"$f":"IFERROR($E152*SUMIF('Daily Log'!#REF!,$B152,'Daily Log'!#REF!),0)","v":0},{"$f":"IFERROR($E152*SUMIF('Daily Log'!#REF!,$B152,'Daily Log'!#REF!),0)","v":0},{"$f":"IFERROR($E152*SUMIF('Daily Log'!#REF!,$B152,'Daily Log'!#REF!),0)","v":0},{"$f":"IFERROR($E152*SUMIF('Daily Log'!#REF!,$B152,'Daily Log'!#REF!),0)","v":0},{"$f":"IFERROR($E152*SUMIF('Daily Log'!#REF!,$B152,'Daily Log'!#REF!),0)","v":0},{"$f":"IFERROR($E152*SUMIF('Daily Log'!#REF!,$B152,'Daily Log'!#REF!),0)","v":0},{"$f":"IFERROR($E152*SUMIF('Daily Log'!#REF!,$B152,'Daily Log'!#REF!),0)","v":0}]
[null,"DC13 1113:KUEY TEOW",null,"SIDE ORDER- LOCAL DELIGHTS",1,0,{"$f":"IFERROR($E153*SUMIF('Daily Log'!$B$18:$B$1017,$B153,'Daily Log'!$C$18:$C$1017),0)","v":0},{"$f":"IFERROR($E153*SUMIF('Daily Log'!$E$18:$E$1017,$B153,'Daily Log'!$F$18:$F$1017),0)","v":0},{"$f":"IFERROR($E153*SUMIF('Daily Log'!$H$18:$H$1017,$B153,'Daily Log'!$I$18:$I$1017),0)","v":0},{"$f":"IFERROR($E153*SUMIF('Daily Log'!$K$18:$K$1017,$B153,'Daily Log'!$L$18:$L$1017),0)","v":0},{"$f":"IFERROR($E153*SUMIF('Daily Log'!$N$18:$N$1017,$B153,'Daily Log'!$O$18:$O$1017),0)","v":0},{"$f":"IFERROR($E153*SUMIF('Daily Log'!$Q$18:$Q$1017,$B153,'Daily Log'!$R$18:$R$1017),0)","v":0},{"$f":"IFERROR($E153*SUMIF('Daily Log'!$T$18:$T$1017,$B153,'Daily Log'!$U$18:$U$1017),0)","v":0},{"$f":"IFERROR($E153*SUMIF('Daily Log'!$W$18:$W$1017,$B153,'Daily Log'!$X$18:$X$1017),0)","v":0},{"$f":"IFERROR($E153*SUMIF('Daily Log'!$Z$18:$Z$1017,$B153,'Daily Log'!$AA$18:$AA$1017),0)","v":0},{"$f":"IFERROR($E153*SUMIF('Daily Log'!$AC$18:$AC$1017,$B153,'Daily Log'!$AD$18:$AD$1017),0)","v":0},{"$f":"IFERROR($E153*SUMIF('Daily Log'!$AF$18:$AF$1017,$B153,'Daily Log'!$AG$18:$AG$1017),0)","v":0},{"$f":"IFERROR($E153*SUMIF('Daily Log'!$AI$18:$AI$1017,$B153,'Daily Log'!$AJ$18:$AJ$1017),0)","v":0},{"$f":"IFERROR($E153*SUMIF('Daily Log'!#REF!,$B153,'Daily Log'!#REF!),0)","v":0},{"$f":"IFERROR($E153*SUMIF('Daily Log'!#REF!,$B153,'Daily Log'!#REF!),0)","v":0},{"$f":"IFERROR($E153*SUMIF('Daily Log'!#REF!,$B153,'Daily Log'!#REF!),0)","v":0},{"$f":"IFERROR($E153*SUMIF('Daily Log'!#REF!,$B153,'Daily Log'!#REF!),0)","v":0},{"$f":"IFERROR($E153*SUMIF('Daily Log'!#REF!,$B153,'Daily Log'!#REF!),0)","v":0},{"$f":"IFERROR($E153*SUMIF('Daily Log'!#REF!,$B153,'Daily Log'!#REF!),0)","v":0},{"$f":"IFERROR($E153*SUMIF('Daily Log'!#REF!,$B153,'Daily Log'!#REF!),0)","v":0},{"$f":"IFERROR($E153*SUMIF('Daily Log'!#REF!,$B153,'Daily Log'!#REF!),0)","v":0},{"$f":"IFERROR($E153*SUMIF('Daily Log'!#REF!,$B153,'Daily Log'!#REF!),0)","v":0},{"$f":"IFERROR($E153*SUMIF('Daily Log'!#REF!,$B153,'Daily Log'!#REF!),0)","v":0},{"$f":"IFERROR($E153*SUMIF('Daily Log'!#REF!,$B153,'Daily Log'!#REF!),0)","v":0},{"$f":"IFERROR($E153*SUMIF('Daily Log'!#REF!,$B153,'Daily Log'!#REF!),0)","v":0},{"$f":"IFERROR($E153*SUMIF('Daily Log'!#REF!,$B153,'Daily Log'!#REF!),0)","v":0},{"$f":"IFERROR($E153*SUMIF('Daily Log'!#REF!,$B153,'Daily Log'!#REF!),0)","v":0},{"$f":"IFERROR($E153*SUMIF('Daily Log'!#REF!,$B153,'Daily Log'!#REF!),0)","v":0},{"$f":"IFERROR($E153*SUMIF('Daily Log'!#REF!,$B153,'Daily Log'!#REF!),0)","v":0},{"$f":"IFERROR($E153*SUMIF('Daily Log'!#REF!,$B153,'Daily Log'!#REF!),0)","v":0},{"$f":"IFERROR($E153*SUMIF('Daily Log'!#REF!,$B153,'Daily Log'!#REF!),0)","v":0},{"$f":"IFERROR($E153*SUMIF('Daily Log'!#REF!,$B153,'Daily Log'!#REF!),0)","v":0}]
[null,"DC14 1114:F.BALL MEE",null,"SIDE ORDER- LOCAL DELIGHTS",1,0,{"$f":"IFERROR($E154*SUMIF('Daily Log'!$B$18:$B$1017,$B154,'Daily Log'!$C$18:$C$1017),0)","v":0},{"$f":"IFERROR($E154*SUMIF('Daily Log'!$E$18:$E$1017,$B154,'Daily Log'!$F$18:$F$1017),0)","v":0},{"$f":"IFERROR($E154*SUMIF('Daily Log'!$H$18:$H$1017,$B154,'Daily Log'!$I$18:$I$1017),0)","v":0},{"$f":"IFERROR($E154*SUMIF('Daily Log'!$K$18:$K$1017,$B154,'Daily Log'!$L$18:$L$1017),0)","v":0},{"$f":"IFERROR($E154*SUMIF('Daily Log'!$N$18:$N$1017,$B154,'Daily Log'!$O$18:$O$1017),0)","v":0},{"$f":"IFERROR($E154*SUMIF('Daily Log'!$Q$18:$Q$1017,$B154,'Daily Log'!$R$18:$R$1017),0)","v":0},{"$f":"IFERROR($E154*SUMIF('Daily Log'!$T$18:$T$1017,$B154,'Daily Log'!$U$18:$U$1017),0)","v":0},{"$f":"IFERROR($E154*SUMIF('Daily Log'!$W$18:$W$1017,$B154,'Daily Log'!$X$18:$X$1017),0)","v":0},{"$f":"IFERROR($E154*SUMIF('Daily Log'!$Z$18:$Z$1017,$B154,'Daily Log'!$AA$18:$AA$1017),0)","v":0},{"$f":"IFERROR($E154*SUMIF('Daily Log'!$AC$18:$AC$1017,$B154,'Daily Log'!$AD$18:$AD$1017),0)","v":0},{"$f":"IFERROR($E154*SUMIF('Daily Log'!$AF$18:$AF$1017,$B154,'Daily Log'!$AG$18:$AG$1017),0)","v":0},{"$f":"IFERROR($E154*SUMIF('Daily Log'!$AI$18:$AI$1017,$B154,'Daily Log'!$AJ$18:$AJ$1017),0)","v":0},{"$f":"IFERROR($E154*SUMIF('Daily Log'!#REF!,$B154,'Daily Log'!#REF!),0)","v":0},{"$f":"IFERROR($E154*SUMIF('Daily Log'!#REF!,$B154,'Daily Log'!#REF!),0)","v":0},{"$f":"IFERROR($E154*SUMIF('Daily Log'!#REF!,$B154,'Daily Log'!#REF!),0)","v":0},{"$f":"IFERROR($E154*SUMIF('Daily Log'!#REF!,$B154,'Daily Log'!#REF!),0)","v":0},{"$f":"IFERROR($E154*SUMIF('Daily Log'!#REF!,$B154,'Daily Log'!#REF!),0)","v":0},{"$f":"IFERROR($E154*SUMIF('Daily Log'!#REF!,$B154,'Daily Log'!#REF!),0)","v":0},{"$f":"IFERROR($E154*SUMIF('Daily Log'!#REF!,$B154,'Daily Log'!#REF!),0)","v":0},{"$f":"IFERROR($E154*SUMIF('Daily Log'!#REF!,$B154,'Daily Log'!#REF!),0)","v":0},{"$f":"IFERROR($E154*SUMIF('Daily Log'!#REF!,$B154,'Daily Log'!#REF!),0)","v":0},{"$f":"IFERROR($E154*SUMIF('Daily Log'!#REF!,$B154,'Daily Log'!#REF!),0)","v":0},{"$f":"IFERROR($E154*SUMIF('Daily Log'!#REF!,$B154,'Daily Log'!#REF!),0)","v":0},{"$f":"IFERROR($E154*SUMIF('Daily Log'!#REF!,$B154,'Daily Log'!#REF!),0)","v":0},{"$f":"IFERROR($E154*SUMIF('Daily Log'!#REF!,$B154,'Daily Log'!#REF!),0)","v":0},{"$f":"IFERROR($E154*SUMIF('Daily Log'!#REF!,$B154,'Daily Log'!#REF!),0)","v":0},{"$f":"IFERROR($E154*SUMIF('Daily Log'!#REF!,$B154,'Daily Log'!#REF!),0)","v":0},{"$f":"IFERROR($E154*SUMIF('Daily Log'!#REF!,$B154,'Daily Log'!#REF!),0)","v":0},{"$f":"IFERROR($E154*SUMIF('Daily Log'!#REF!,$B154,'Daily Log'!#REF!),0)","v":0},{"$f":"IFERROR($E154*SUMIF('Daily Log'!#REF!,$B154,'Daily Log'!#REF!),0)","v":0},{"$f":"IFERROR($E154*SUMIF('Daily Log'!#REF!,$B154,'Daily Log'!#REF!),0)","v":0}]
[null,"DC15 1115:CHK NOODLE",null,"SIDE ORDER- LOCAL DELIGHTS",1,3,{"$f":"IFERROR($E155*SUMIF('Daily Log'!$B$18:$B$1017,$B155,'Daily Log'!$C$18:$C$1017),0)","v":0},{"$f":"IFERROR($E155*SUMIF('Daily Log'!$E$18:$E$1017,$B155,'Daily Log'!$F$18:$F$1017),0)","v":0},{"$f":"IFERROR($E155*SUMIF('Daily Log'!$H$18:$H$1017,$B155,'Daily Log'!$I$18:$I$1017),0)","v":0},{"$f":"IFERROR($E155*SUMIF('Daily Log'!$K$18:$K$1017,$B155,'Daily Log'!$L$18:$L$1017),0)","v":0},{"$f":"IFERROR($E155*SUMIF('Daily Log'!$N$18:$N$1017,$B155,'Daily Log'!$O$18:$O$1017),0)","v":0},{"$f":"IFERROR($E155*SUMIF('Daily Log'!$Q$18:$Q$1017,$B155,'Daily Log'!$R$18:$R$1017),0)","v":0},{"$f":"IFERROR($E155*SUMIF('Daily Log'!$T$18:$T$1017,$B155,'Daily Log'!$U$18:$U$1017),0)","v":0},{"$f":"IFERROR($E155*SUMIF('Daily Log'!$W$18:$W$1017,$B155,'Daily Log'!$X$18:$X$1017),0)","v":0},{"$f":"IFERROR($E155*SUMIF('Daily Log'!$Z$18:$Z$1017,$B155,'Daily Log'!$AA$18:$AA$1017),0)","v":1},{"$f":"IFERROR($E155*SUMIF('Daily Log'!$AC$18:$AC$1017,$B155,'Daily Log'!$AD$18:$AD$1017),0)","v":0},{"$f":"IFERROR($E155*SUMIF('Daily Log'!$AF$18:$AF$1017,$B155,'Daily Log'!$AG$18:$AG$1017),0)","v":1},{"$f":"IFERROR($E155*SUMIF('Daily Log'!$AI$18:$AI$1017,$B155,'Daily Log'!$AJ$18:$AJ$1017),0)","v":1},{"$f":"IFERROR($E155*SUMIF('Daily Log'!#REF!,$B155,'Daily Log'!#REF!),0)","v":0},{"$f":"IFERROR($E155*SUMIF('Daily Log'!#REF!,$B155,'Daily Log'!#REF!),0)","v":0},{"$f":"IFERROR($E155*SUMIF('Daily Log'!#REF!,$B155,'Daily Log'!#REF!),0)","v":0},{"$f":"IFERROR($E155*SUMIF('Daily Log'!#REF!,$B155,'Daily Log'!#REF!),0)","v":0},{"$f":"IFERROR($E155*SUMIF('Daily Log'!#REF!,$B155,'Daily Log'!#REF!),0)","v":0},{"$f":"IFERROR($E155*SUMIF('Daily Log'!#REF!,$B155,'Daily Log'!#REF!),0)","v":0},{"$f":"IFERROR($E155*SUMIF('Daily Log'!#REF!,$B155,'Daily Log'!#REF!),0)","v":0},{"$f":"IFERROR($E155*SUMIF('Daily Log'!#REF!,$B155,'Daily Log'!#REF!),0)","v":0},{"$f":"IFERROR($E155*SUMIF('Daily Log'!#REF!,$B155,'Daily Log'!#REF!),0)","v":0},{"$f":"IFERROR($E155*SUMIF('Daily Log'!#REF!,$B155,'Daily Log'!#REF!),0)","v":0},{"$f":"IFERROR($E155*SUMIF('Daily Log'!#REF!,$B155,'Daily Log'!#REF!),0)","v":0},{"$f":"IFERROR($E155*SUMIF('Daily Log'!#REF!,$B155,'Daily Log'!#REF!),0)","v":0},{"$f":"IFERROR($E155*SUMIF('Daily Log'!#REF!,$B155,'Daily Log'!#REF!),0)","v":0},{"$f":"IFERROR($E155*SUMIF('Daily Log'!#REF!,$B155,'Daily Log'!#REF!),0)","v":0},{"$f":"IFERROR($E155*SUMIF('Daily Log'!#REF!,$B155,'Daily Log'!#REF!),0)","v":0},{"$f":"IFERROR($E155*SUMIF('Daily Log'!#REF!,$B155,'Daily Log'!#REF!),0)","v":0},{"$f":"IFERROR($E155*SUMIF('Daily Log'!#REF!,$B155,'Daily Log'!#REF!),0)","v":0},{"$f":"IFERROR($E155*SUMIF('Daily Log'!#REF!,$B155,'Daily Log'!#REF!),0)","v":0},{"$f":"IFERROR($E155*SUMIF('Daily Log'!#REF!,$B155,'Daily Log'!#REF!),0)","v":0}]
[null,"DC16 1116:MGL CHICKEN",null,"SIDE ORDER- LOCAL DELIGHTS",1,7,{"$f":"IFERROR($E156*SUMIF('Daily Log'!$B$18:$B$1017,$B156,'Daily Log'!$C$18:$C$1017),0)","v":0},{"$f":"IFERROR($E156*SUMIF('Daily Log'!$E$18:$E$1017,$B156,'Daily Log'!$F$18:$F$1017),0)","v":0},{"$f":"IFERROR($E156*SUMIF('Daily Log'!$H$18:$H$1017,$B156,'Daily Log'!$I$18:$I$1017),0)","v":0},{"$f":"IFERROR($E156*SUMIF('Daily Log'!$K$18:$K$1017,$B156,'Daily Log'!$L$18:$L$1017),0)","v":0},{"$f":"IFERROR($E156*SUMIF('Daily Log'!$N$18:$N$1017,$B156,'Daily Log'!$O$18:$O$1017),0)","v":0},{"$f":"IFERROR($E156*SUMIF('Daily Log'!$Q$18:$Q$1017,$B156,'Daily Log'!$R$18:$R$1017),0)","v":2},{"$f":"IFERROR($E156*SUMIF('Daily Log'!$T$18:$T$1017,$B156,'Daily Log'!$U$18:$U$1017),0)","v":2},{"$f":"IFERROR($E156*SUMIF('Daily Log'!$W$18:$W$1017,$B156,'Daily Log'!$X$18:$X$1017),0)","v":0},{"$f":"IFERROR($E156*SUMIF('Daily Log'!$Z$18:$Z$1017,$B156,'Daily Log'!$AA$18:$AA$1017),0)","v":0},{"$f":"IFERROR($E156*SUMIF('Daily Log'!$AC$18:$AC$1017,$B156,'Daily Log'!$AD$18:$AD$1017),0)","v":1},{"$f":"IFERROR($E156*SUMIF('Daily Log'!$AF$18:$AF$1017,$B156,'Daily Log'!$AG$18:$AG$1017),0)","v":1},{"$f":"IFERROR($E156*SUMIF('Daily Log'!$AI$18:$AI$1017,$B156,'Daily Log'!$AJ$18:$AJ$1017),0)","v":1},{"$f":"IFERROR($E156*SUMIF('Daily Log'!#REF!,$B156,'Daily Log'!#REF!),0)","v":0},{"$f":"IFERROR($E156*SUMIF('Daily Log'!#REF!,$B156,'Daily Log'!#REF!),0)","v":0},{"$f":"IFERROR($E156*SUMIF('Daily Log'!#REF!,$B156,'Daily Log'!#REF!),0)","v":0},{"$f":"IFERROR($E156*SUMIF('Daily Log'!#REF!,$B156,'Daily Log'!#REF!),0)","v":0},{"$f":"IFERROR($E156*SUMIF('Daily Log'!#REF!,$B156,'Daily Log'!#REF!),0)","v":0},{"$f":"IFERROR($E156*SUMIF('Daily Log'!#REF!,$B156,'Daily Log'!#REF!),0)","v":0},{"$f":"IFERROR($E156*SUMIF('Daily Log'!#REF!,$B156,'Daily Log'!#REF!),0)","v":0},{"$f":"IFERROR($E156*SUMIF('Daily Log'!#REF!,$B156,'Daily Log'!#REF!),0)","v":0},{"$f":"IFERROR($E156*SUMIF('Daily Log'!#REF!,$B156,'Daily Log'!#REF!),0)","v":0},{"$f":"IFERROR($E156*SUMIF('Daily Log'!#REF!,$B156,'Daily Log'!#REF!),0)","v":0},{"$f":"IFERROR($E156*SUMIF('Daily Log'!#REF!,$B156,'Daily Log'!#REF!),0)","v":0},{"$f":"IFERROR($E156*SUMIF('Daily Log'!#REF!,$B156,'Daily Log'!#REF!),0)","v":0},{"$f":"IFERROR($E156*SUMIF('Daily Log'!#REF!,$B156,'Daily Log'!#REF!),0)","v":0},{"$f":"IFERROR($E156*SUMIF('Daily Log'!#REF!,$B156,'Daily Log'!#REF!),0)","v":0},{"$f":"IFERROR($E156*SUMIF('Daily Log'!#REF!,$B156,'Daily Log'!#REF!),0)","v":0},{"$f":"IFERROR($E156*SUMIF('Daily Log'!#REF!,$B156,'Daily Log'!#REF!),0)","v":0},{"$f":"IFERROR($E156*SUMIF('Daily Log'!#REF!,$B156,'Daily Log'!#REF!),0)","v":0},{"$f":"IFERROR($E156*SUMIF('Daily Log'!#REF!,$B156,'Daily Log'!#REF!),0)","v":0},{"$f":"IFERROR($E156*SUMIF('Daily Log'!#REF!,$B156,'Daily Log'!#REF!),0)","v":0}]
[null,"DD01 1201:SFD STICK",null,"SIDE ORDER- APPETIZER",1,1,{"$f":"IFERROR($E157*SUMIF('Daily Log'!$B$18:$B$1017,$B157,'Daily Log'!$C$18:$C$1017),0)","v":0},{"$f":"IFERROR($E157*SUMIF('Daily Log'!$E$18:$E$1017,$B157,'Daily Log'!$F$18:$F$1017),0)","v":0},{"$f":"IFERROR($E157*SUMIF('Daily Log'!$H$18:$H$1017,$B157,'Daily Log'!$I$18:$I$1017),0)","v":0},{"$f":"IFERROR($E157*SUMIF('Daily Log'!$K$18:$K$1017,$B157,'Daily Log'!$L$18:$L$1017),0)","v":0},{"$f":"IFERROR($E157*SUMIF('Daily Log'!$N$18:$N$1017,$B157,'Daily Log'!$O$18:$O$1017),0)","v":0},{"$f":"IFERROR($E157*SUMIF('Daily Log'!$Q$18:$Q$1017,$B157,'Daily Log'!$R$18:$R$1017),0)","v":0},{"$f":"IFERROR($E157*SUMIF('Daily Log'!$T$18:$T$1017,$B157,'Daily Log'!$U$18:$U$1017),0)","v":0},{"$f":"IFERROR($E157*SUMIF('Daily Log'!$W$18:$W$1017,$B157,'Daily Log'!$X$18:$X$1017),0)","v":0},{"$f":"IFERROR($E157*SUMIF('Daily Log'!$Z$18:$Z$1017,$B157,'Daily Log'!$AA$18:$AA$1017),0)","v":0},{"$f":"IFERROR($E157*SUMIF('Daily Log'!$AC$18:$AC$1017,$B157,'Daily Log'!$AD$18:$AD$1017),0)","v":0},{"$f":"IFERROR($E157*SUMIF('Daily Log'!$AF$18:$AF$1017,$B157,'Daily Log'!$AG$18:$AG$1017),0)","v":0},{"$f":"IFERROR($E157*SUMIF('Daily Log'!$AI$18:$AI$1017,$B157,'Daily Log'!$AJ$18:$AJ$1017),0)","v":1},{"$f":"IFERROR($E157*SUMIF('Daily Log'!#REF!,$B157,'Daily Log'!#REF!),0)","v":0},{"$f":"IFERROR($E157*SUMIF('Daily Log'!#REF!,$B157,'Daily Log'!#REF!),0)","v":0},{"$f":"IFERROR($E157*SUMIF('Daily Log'!#REF!,$B157,'Daily Log'!#REF!),0)","v":0},{"$f":"IFERROR($E157*SUMIF('Daily Log'!#REF!,$B157,'Daily Log'!#REF!),0)","v":0},{"$f":"IFERROR($E157*SUMIF('Daily Log'!#REF!,$B157,'Daily Log'!#REF!),0)","v":0},{"$f":"IFERROR($E157*SUMIF('Daily Log'!#REF!,$B157,'Daily Log'!#REF!),0)","v":0},{"$f":"IFERROR($E157*SUMIF('Daily Log'!#REF!,$B157,'Daily Log'!#REF!),0)","v":0},{"$f":"IFERROR($E157*SUMIF('Daily Log'!#REF!,$B157,'Daily Log'!#REF!),0)","v":0},{"$f":"IFERROR($E157*SUMIF('Daily Log'!#REF!,$B157,'Daily Log'!#REF!),0)","v":0},{"$f":"IFERROR($E157*SUMIF('Daily Log'!#REF!,$B157,'Daily Log'!#REF!),0)","v":0},{"$f":"IFERROR($E157*SUMIF('Daily Log'!#REF!,$B157,'Daily Log'!#REF!),0)","v":0},{"$f":"IFERROR($E157*SUMIF('Daily Log'!#REF!,$B157,'Daily Log'!#REF!),0)","v":0},{"$f":"IFERROR($E157*SUMIF('Daily Log'!#REF!,$B157,'Daily Log'!#REF!),0)","v":0},{"$f":"IFERROR($E157*SUMIF('Daily Log'!#REF!,$B157,'Daily Log'!#REF!),0)","v":0},{"$f":"IFERROR($E157*SUMIF('Daily Log'!#REF!,$B157,'Daily Log'!#REF!),0)","v":0},{"$f":"IFERROR($E157*SUMIF('Daily Log'!#REF!,$B157,'Daily Log'!#REF!),0)","v":0},{"$f":"IFERROR($E157*SUMIF('Daily Log'!#REF!,$B157,'Daily Log'!#REF!),0)","v":0},{"$f":"IFERROR($E157*SUMIF('Daily Log'!#REF!,$B157,'Daily Log'!#REF!),0)","v":0},{"$f":"IFERROR($E157*SUMIF('Daily Log'!#REF!,$B157,'Daily Log'!#REF!),0)","v":0}]
[null,"DD02 1202:FREN FRIES",null,"SIDE ORDER- APPETIZER",1,{"$f":"SUM($G158:$AK158)","v":14},{"$f":"IFERROR($E158*SUMIF('Daily Log'!$B$18:$B$1017,$B158,'Daily Log'!$C$18:$C$1017),0)","v":0},{"$f":"IFERROR($E158*SUMIF('Daily Log'!$E$18:$E$1017,$B158,'Daily Log'!$F$18:$F$1017),0)","v":0},{"$f":"IFERROR($E158*SUMIF('Daily Log'!$H$18:$H$1017,$B158,'Daily Log'!$I$18:$I$1017),0)","v":0},{"$f":"IFERROR($E158*SUMIF('Daily Log'!$K$18:$K$1017,$B158,'Daily Log'!$L$18:$L$1017),0)","v":0},{"$f":"IFERROR($E158*SUMIF('Daily Log'!$N$18:$N$1017,$B158,'Daily Log'!$O$18:$O$1017),0)","v":0},{"$f":"IFERROR($E158*SUMIF('Daily Log'!$Q$18:$Q$1017,$B158,'Daily Log'!$R$18:$R$1017),0)","v":3},{"$f":"IFERROR($E158*SUMIF('Daily Log'!$T$18:$T$1017,$B158,'Daily Log'!$U$18:$U$1017),0)","v":0},{"$f":"IFERROR($E158*SUMIF('Daily Log'!$W$18:$W$1017,$B158,'Daily Log'!$X$18:$X$1017),0)","v":0},{"$f":"IFERROR($E158*SUMIF('Daily Log'!$Z$18:$Z$1017,$B158,'Daily Log'!$AA$18:$AA$1017),0)","v":2},{"$f":"IFERROR($E158*SUMIF('Daily Log'!$AC$18:$AC$1017,$B158,'Daily Log'!$AD$18:$AD$1017),0)","v":4},{"$f":"IFERROR($E158*SUMIF('Daily Log'!$AF$18:$AF$1017,$B158,'Daily Log'!$AG$18:$AG$1017),0)","v":1},{"$f":"IFERROR($E158*SUMIF('Daily Log'!$AI$18:$AI$1017,$B158,'Daily Log'!$AJ$18:$AJ$1017),0)","v":4},{"$f":"IFERROR($E158*SUMIF('Daily Log'!#REF!,$B158,'Daily Log'!#REF!),0)","v":0},{"$f":"IFERROR($E158*SUMIF('Daily Log'!#REF!,$B158,'Daily Log'!#REF!),0)","v":0},{"$f":"IFERROR($E158*SUMIF('Daily Log'!#REF!,$B158,'Daily Log'!#REF!),0)","v":0},{"$f":"IFERROR($E158*SUMIF('Daily Log'!#REF!,$B158,'Daily Log'!#REF!),0)","v":0},{"$f":"IFERROR($E158*SUMIF('Daily Log'!#REF!,$B158,'Daily Log'!#REF!),0)","v":0},{"$f":"IFERROR($E158*SUMIF('Daily Log'!#REF!,$B158,'Daily Log'!#REF!),0)","v":0},{"$f":"IFERROR($E158*SUMIF('Daily Log'!#REF!,$B158,'Daily Log'!#REF!),0)","v":0},{"$f":"IFERROR($E158*SUMIF('Daily Log'!#REF!,$B158,'Daily Log'!#REF!),0)","v":0},{"$f":"IFERROR($E158*SUMIF('Daily Log'!#REF!,$B158,'Daily Log'!#REF!),0)","v":0},{"$f":"IFERROR($E158*SUMIF('Daily Log'!#REF!,$B158,'Daily Log'!#REF!),0)","v":0},{"$f":"IFERROR($E158*SUMIF('Daily Log'!#REF!,$B158,'Daily Log'!#REF!),0)","v":0},{"$f":"IFERROR($E158*SUMIF('Daily Log'!#REF!,$B158,'Daily Log'!#REF!),0)","v":0},{"$f":"IFERROR($E158*SUMIF('Daily Log'!#REF!,$B158,'Daily Log'!#REF!),0)","v":0},{"$f":"IFERROR($E158*SUMIF('Daily Log'!#REF!,$B158,'Daily Log'!#REF!),0)","v":0},{"$f":"IFERROR($E158*SUMIF('Daily Log'!#REF!,$B158,'Daily Log'!#REF!),0)","v":0},{"$f":"IFERROR($E158*SUMIF('Daily Log'!#REF!,$B158,'Daily Log'!#REF!),0)","v":0},{"$f":"IFERROR($E158*SUMIF('Daily Log'!#REF!,$B158,'Daily Log'!#REF!),0)","v":0},{"$f":"IFERROR($E158*SUMIF('Daily Log'!#REF!,$B158,'Daily Log'!#REF!),0)","v":0},{"$f":"IFERROR($E158*SUMIF('Daily Log'!#REF!,$B158,'Daily Log'!#REF!),0)","v":0}]
[null,"DD03 1203:GOLD MROOM",null,"SIDE ORDER- APPETIZER",1,5,{"$f":"IFERROR($E159*SUMIF('Daily Log'!$B$18:$B$1017,$B159,'Daily Log'!$C$18:$C$1017),0)","v":0},{"$f":"IFERROR($E159*SUMIF('Daily Log'!$E$18:$E$1017,$B159,'Daily Log'!$F$18:$F$1017),0)","v":0},{"$f":"IFERROR($E159*SUMIF('Daily Log'!$H$18:$H$1017,$B159,'Daily Log'!$I$18:$I$1017),0)","v":0},{"$f":"IFERROR($E159*SUMIF('Daily Log'!$K$18:$K$1017,$B159,'Daily Log'!$L$18:$L$1017),0)","v":0},{"$f":"IFERROR($E159*SUMIF('Daily Log'!$N$18:$N$1017,$B159,'Daily Log'!$O$18:$O$1017),0)","v":0},{"$f":"IFERROR($E159*SUMIF('Daily Log'!$Q$18:$Q$1017,$B159,'Daily Log'!$R$18:$R$1017),0)","v":1},{"$f":"IFERROR($E159*SUMIF('Daily Log'!$T$18:$T$1017,$B159,'Daily Log'!$U$18:$U$1017),0)","v":0},{"$f":"IFERROR($E159*SUMIF('Daily Log'!$W$18:$W$1017,$B159,'Daily Log'!$X$18:$X$1017),0)","v":0},{"$f":"IFERROR($E159*SUMIF('Daily Log'!$Z$18:$Z$1017,$B159,'Daily Log'!$AA$18:$AA$1017),0)","v":2},{"$f":"IFERROR($E159*SUMIF('Daily Log'!$AC$18:$AC$1017,$B159,'Daily Log'!$AD$18:$AD$1017),0)","v":2},{"$f":"IFERROR($E159*SUMIF('Daily Log'!$AF$18:$AF$1017,$B159,'Daily Log'!$AG$18:$AG$1017),0)","v":0},{"$f":"IFERROR($E159*SUMIF('Daily Log'!$AI$18:$AI$1017,$B159,'Daily Log'!$AJ$18:$AJ$1017),0)","v":0},{"$f":"IFERROR($E159*SUMIF('Daily Log'!#REF!,$B159,'Daily Log'!#REF!),0)","v":0},{"$f":"IFERROR($E159*SUMIF('Daily Log'!#REF!,$B159,'Daily Log'!#REF!),0)","v":0},{"$f":"IFERROR($E159*SUMIF('Daily Log'!#REF!,$B159,'Daily Log'!#REF!),0)","v":0},{"$f":"IFERROR($E159*SUMIF('Daily Log'!#REF!,$B159,'Daily Log'!#REF!),0)","v":0},{"$f":"IFERROR($E159*SUMIF('Daily Log'!#REF!,$B159,'Daily Log'!#REF!),0)","v":0},{"$f":"IFERROR($E159*SUMIF('Daily Log'!#REF!,$B159,'Daily Log'!#REF!),0)","v":0},{"$f":"IFERROR($E159*SUMIF('Daily Log'!#REF!,$B159,'Daily Log'!#REF!),0)","v":0},{"$f":"IFERROR($E159*SUMIF('Daily Log'!#REF!,$B159,'Daily Log'!#REF!),0)","v":0},{"$f":"IFERROR($E159*SUMIF('Daily Log'!#REF!,$B159,'Daily Log'!#REF!),0)","v":0},{"$f":"IFERROR($E159*SUMIF('Daily Log'!#REF!,$B159,'Daily Log'!#REF!),0)","v":0},{"$f":"IFERROR($E159*SUMIF('Daily Log'!#REF!,$B159,'Daily Log'!#REF!),0)","v":0},{"$f":"IFERROR($E159*SUMIF('Daily Log'!#REF!,$B159,'Daily Log'!#REF!),0)","v":0},{"$f":"IFERROR($E159*SUMIF('Daily Log'!#REF!,$B159,'Daily Log'!#REF!),0)","v":0},{"$f":"IFERROR($E159*SUMIF('Daily Log'!#REF!,$B159,'Daily Log'!#REF!),0)","v":0},{"$f":"IFERROR($E159*SUMIF('Daily Log'!#REF!,$B159,'Daily Log'!#REF!),0)","v":0},{"$f":"IFERROR($E159*SUMIF('Daily Log'!#REF!,$B159,'Daily Log'!#REF!),0)","v":0},{"$f":"IFERROR($E159*SUMIF('Daily Log'!#REF!,$B159,'Daily Log'!#REF!),0)","v":0},{"$f":"IFERROR($E159*SUMIF('Daily Log'!#REF!,$B159,'Daily Log'!#REF!),0)","v":0},{"$f":"IFERROR($E159*SUMIF('Daily Log'!#REF!,$B159,'Daily Log'!#REF!),0)","v":0}]
[null,"DD04 1204:FISHBALL",null,"SIDE ORDER- APPETIZER",1,1,{"$f":"IFERROR($E160*SUMIF('Daily Log'!$B$18:$B$1017,$B160,'Daily Log'!$C$18:$C$1017),0)","v":0},{"$f":"IFERROR($E160*SUMIF('Daily Log'!$E$18:$E$1017,$B160,'Daily Log'!$F$18:$F$1017),0)","v":0},{"$f":"IFERROR($E160*SUMIF('Daily Log'!$H$18:$H$1017,$B160,'Daily Log'!$I$18:$I$1017),0)","v":0},{"$f":"IFERROR($E160*SUMIF('Daily Log'!$K$18:$K$1017,$B160,'Daily Log'!$L$18:$L$1017),0)","v":0},{"$f":"IFERROR($E160*SUMIF('Daily Log'!$N$18:$N$1017,$B160,'Daily Log'!$O$18:$O$1017),0)","v":0},{"$f":"IFERROR($E160*SUMIF('Daily Log'!$Q$18:$Q$1017,$B160,'Daily Log'!$R$18:$R$1017),0)","v":0},{"$f":"IFERROR($E160*SUMIF('Daily Log'!$T$18:$T$1017,$B160,'Daily Log'!$U$18:$U$1017),0)","v":0},{"$f":"IFERROR($E160*SUMIF('Daily Log'!$W$18:$W$1017,$B160,'Daily Log'!$X$18:$X$1017),0)","v":0},{"$f":"IFERROR($E160*SUMIF('Daily Log'!$Z$18:$Z$1017,$B160,'Daily Log'!$AA$18:$AA$1017),0)","v":1},{"$f":"IFERROR($E160*SUMIF('Daily Log'!$AC$18:$AC$1017,$B160,'Daily Log'!$AD$18:$AD$1017),0)","v":0},{"$f":"IFERROR($E160*SUMIF('Daily Log'!$AF$18:$AF$1017,$B160,'Daily Log'!$AG$18:$AG$1017),0)","v":0},{"$f":"IFERROR($E160*SUMIF('Daily Log'!$AI$18:$AI$1017,$B160,'Daily Log'!$AJ$18:$AJ$1017),0)","v":0},{"$f":"IFERROR($E160*SUMIF('Daily Log'!#REF!,$B160,'Daily Log'!#REF!),0)","v":0},{"$f":"IFERROR($E160*SUMIF('Daily Log'!#REF!,$B160,'Daily Log'!#REF!),0)","v":0},{"$f":"IFERROR($E160*SUMIF('Daily Log'!#REF!,$B160,'Daily Log'!#REF!),0)","v":0},{"$f":"IFERROR($E160*SUMIF('Daily Log'!#REF!,$B160,'Daily Log'!#REF!),0)","v":0},{"$f":"IFERROR($E160*SUMIF('Daily Log'!#REF!,$B160,'Daily Log'!#REF!),0)","v":0},{"$f":"IFERROR($E160*SUMIF('Daily Log'!#REF!,$B160,'Daily Log'!#REF!),0)","v":0},{"$f":"IFERROR($E160*SUMIF('Daily Log'!#REF!,$B160,'Daily Log'!#REF!),0)","v":0},{"$f":"IFERROR($E160*SUMIF('Daily Log'!#REF!,$B160,'Daily Log'!#REF!),0)","v":0},{"$f":"IFERROR($E160*SUMIF('Daily Log'!#REF!,$B160,'Daily Log'!#REF!),0)","v":0},{"$f":"IFERROR($E160*SUMIF('Daily Log'!#REF!,$B160,'Daily Log'!#REF!),0)","v":0},{"$f":"IFERROR($E160*SUMIF('Daily Log'!#REF!,$B160,'Daily Log'!#REF!),0)","v":0},{"$f":"IFERROR($E160*SUMIF('Daily Log'!#REF!,$B160,'Daily Log'!#REF!),0)","v":0},{"$f":"IFERROR($E160*SUMIF('Daily Log'!#REF!,$B160,'Daily Log'!#REF!),0)","v":0},{"$f":"IFERROR($E160*SUMIF('Daily Log'!#REF!,$B160,'Daily Log'!#REF!),0)","v":0},{"$f":"IFERROR($E160*SUMIF('Daily Log'!#REF!,$B160,'Daily Log'!#REF!),0)","v":0},{"$f":"IFERROR($E160*SUMIF('Daily Log'!#REF!,$B160,'Daily Log'!#REF!),0)","v":0},{"$f":"IFERROR($E160*SUMIF('Daily Log'!#REF!,$B160,'Daily Log'!#REF!),0)","v":0},{"$f":"IFERROR($E160*SUMIF('Daily Log'!#REF!,$B160,'Daily Log'!#REF!),0)","v":0},{"$f":"IFERROR($E160*SUMIF('Daily Log'!#REF!,$B160,'Daily Log'!#REF!),0)","v":0}]
[null,"DD05 1205:RAINBOW RL",null,"SIDE ORDER- APPETIZER",1,0,{"$f":"IFERROR($E161*SUMIF('Daily Log'!$B$18:$B$1017,$B161,'Daily Log'!$C$18:$C$1017),0)","v":0},{"$f":"IFERROR($E161*SUMIF('Daily Log'!$E$18:$E$1017,$B161,'Daily Log'!$F$18:$F$1017),0)","v":0},{"$f":"IFERROR($E161*SUMIF('Daily Log'!$H$18:$H$1017,$B161,'Daily Log'!$I$18:$I$1017),0)","v":0},{"$f":"IFERROR($E161*SUMIF('Daily Log'!$K$18:$K$1017,$B161,'Daily Log'!$L$18:$L$1017),0)","v":0},{"$f":"IFERROR($E161*SUMIF('Daily Log'!$N$18:$N$1017,$B161,'Daily Log'!$O$18:$O$1017),0)","v":0},{"$f":"IFERROR($E161*SUMIF('Daily Log'!$Q$18:$Q$1017,$B161,'Daily Log'!$R$18:$R$1017),0)","v":0},{"$f":"IFERROR($E161*SUMIF('Daily Log'!$T$18:$T$1017,$B161,'Daily Log'!$U$18:$U$1017),0)","v":0},{"$f":"IFERROR($E161*SUMIF('Daily Log'!$W$18:$W$1017,$B161,'Daily Log'!$X$18:$X$1017),0)","v":0},{"$f":"IFERROR($E161*SUMIF('Daily Log'!$Z$18:$Z$1017,$B161,'Daily Log'!$AA$18:$AA$1017),0)","v":0},{"$f":"IFERROR($E161*SUMIF('Daily Log'!$AC$18:$AC$1017,$B161,'Daily Log'!$AD$18:$AD$1017),0)","v":0},{"$f":"IFERROR($E161*SUMIF('Daily Log'!$AF$18:$AF$1017,$B161,'Daily Log'!$AG$18:$AG$1017),0)","v":0},{"$f":"IFERROR($E161*SUMIF('Daily Log'!$AI$18:$AI$1017,$B161,'Daily Log'!$AJ$18:$AJ$1017),0)","v":0},{"$f":"IFERROR($E161*SUMIF('Daily Log'!#REF!,$B161,'Daily Log'!#REF!),0)","v":0},{"$f":"IFERROR($E161*SUMIF('Daily Log'!#REF!,$B161,'Daily Log'!#REF!),0)","v":0},{"$f":"IFERROR($E161*SUMIF('Daily Log'!#REF!,$B161,'Daily Log'!#REF!),0)","v":0},{"$f":"IFERROR($E161*SUMIF('Daily Log'!#REF!,$B161,'Daily Log'!#REF!),0)","v":0},{"$f":"IFERROR($E161*SUMIF('Daily Log'!#REF!,$B161,'Daily Log'!#REF!),0)","v":0},{"$f":"IFERROR($E161*SUMIF('Daily Log'!#REF!,$B161,'Daily Log'!#REF!),0)","v":0},{"$f":"IFERROR($E161*SUMIF('Daily Log'!#REF!,$B161,'Daily Log'!#REF!),0)","v":0},{"$f":"IFERROR($E161*SUMIF('Daily Log'!#REF!,$B161,'Daily Log'!#REF!),0)","v":0},{"$f":"IFERROR($E161*SUMIF('Daily Log'!#REF!,$B161,'Daily Log'!#REF!),0)","v":0},{"$f":"IFERROR($E161*SUMIF('Daily Log'!#REF!,$B161,'Daily Log'!#REF!),0)","v":0},{"$f":"IFERROR($E161*SUMIF('Daily Log'!#REF!,$B161,'Daily Log'!#REF!),0)","v":0},{"$f":"IFERROR($E161*SUMIF('Daily Log'!#REF!,$B161,'Daily Log'!#REF!),0)","v":0},{"$f":"IFERROR($E161*SUMIF('Daily Log'!#REF!,$B161,'Daily Log'!#REF!),0)","v":0},{"$f":"IFERROR($E161*SUMIF('Daily Log'!#REF!,$B161,'Daily Log'!#REF!),0)","v":0},{"$f":"IFERROR($E161*SUMIF('Daily Log'!#REF!,$B161,'Daily Log'!#REF!),0)","v":0},{"$f":"IFERROR($E161*SUMIF('Daily Log'!#REF!,$B161,'Daily Log'!#REF!),0)","v":0},{"$f":"IFERROR($E161*SUMIF('Daily Log'!#REF!,$B161,'Daily Log'!#REF!),0)","v":0},{"$f":"IFERROR($E161*SUMIF('Daily Log'!#REF!,$B161,'Daily Log'!#REF!),0)","v":0},{"$f":"IFERROR($E161*SUMIF('Daily Log'!#REF!,$B161,'Daily Log'!#REF!),0)","v":0}]
[null,"DD06 1206:SPRING RL",null,"SIDE ORDER- APPETIZER",1,4,{"$f":"IFERROR($E162*SUMIF('Daily Log'!$B$18:$B$1017,$B162,'Daily Log'!$C$18:$C$1017),0)","v":0},{"$f":"IFERROR($E162*SUMIF('Daily Log'!$E$18:$E$1017,$B162,'Daily Log'!$F$18:$F$1017),0)","v":0},{"$f":"IFERROR($E162*SUMIF('Daily Log'!$H$18:$H$1017,$B162,'Daily Log'!$I$18:$I$1017),0)","v":0},{"$f":"IFERROR($E162*SUMIF('Daily Log'!$K$18:$K$1017,$B162,'Daily Log'!$L$18:$L$1017),0)","v":0},{"$f":"IFERROR($E162*SUMIF('Daily Log'!$N$18:$N$1017,$B162,'Daily Log'!$O$18:$O$1017),0)","v":0},{"$f":"IFERROR($E162*SUMIF('Daily Log'!$Q$18:$Q$1017,$B162,'Daily Log'!$R$18:$R$1017),0)","v":0},{"$f":"IFERROR($E162*SUMIF('Daily Log'!$T$18:$T$1017,$B162,'Daily Log'!$U$18:$U$1017),0)","v":1},{"$f":"IFERROR($E162*SUMIF('Daily Log'!$W$18:$W$1017,$B162,'Daily Log'!$X$18:$X$1017),0)","v":0},{"$f":"IFERROR($E162*SUMIF('Daily Log'!$Z$18:$Z$1017,$B162,'Daily Log'!$AA$18:$AA$1017),0)","v":1},{"$f":"IFERROR($E162*SUMIF('Daily Log'!$AC$18:$AC$1017,$B162,'Daily Log'!$AD$18:$AD$1017),0)","v":0},{"$f":"IFERROR($E162*SUMIF('Daily Log'!$AF$18:$AF$1017,$B162,'Daily Log'!$AG$18:$AG$1017),0)","v":0},{"$f":"IFERROR($E162*SUMIF('Daily Log'!$AI$18:$AI$1017,$B162,'Daily Log'!$AJ$18:$AJ$1017),0)","v":2},{"$f":"IFERROR($E162*SUMIF('Daily Log'!#REF!,$B162,'Daily Log'!#REF!),0)","v":0},{"$f":"IFERROR($E162*SUMIF('Daily Log'!#REF!,$B162,'Daily Log'!#REF!),0)","v":0},{"$f":"IFERROR($E162*SUMIF('Daily Log'!#REF!,$B162,'Daily Log'!#REF!),0)","v":0},{"$f":"IFERROR($E162*SUMIF('Daily Log'!#REF!,$B162,'Daily Log'!#REF!),0)","v":0},{"$f":"IFERROR($E162*SUMIF('Daily Log'!#REF!,$B162,'Daily Log'!#REF!),0)","v":0},{"$f":"IFERROR($E162*SUMIF('Daily Log'!#REF!,$B162,'Daily Log'!#REF!),0)","v":0},{"$f":"IFERROR($E162*SUMIF('Daily Log'!#REF!,$B162,'Daily Log'!#REF!),0)","v":0},{"$f":"IFERROR($E162*SUMIF('Daily Log'!#REF!,$B162,'Daily Log'!#REF!),0)","v":0},{"$f":"IFERROR($E162*SUMIF('Daily Log'!#REF!,$B162,'Daily Log'!#REF!),0)","v":0},{"$f":"IFERROR($E162*SUMIF('Daily Log'!#REF!,$B162,'Daily Log'!#REF!),0)","v":0},{"$f":"IFERROR($E162*SUMIF('Daily Log'!#REF!,$B162,'Daily Log'!#REF!),0)","v":0},{"$f":"IFERROR($E162*SUMIF('Daily Log'!#REF!,$B162,'Daily Log'!#REF!),0)","v":0},{"$f":"IFERROR($E162*SUMIF('Daily Log'!#REF!,$B162,'Daily Log'!#REF!),0)","v":0},{"$f":"IFERROR($E162*SUMIF('Daily Log'!#REF!,$B162,'Daily Log'!#REF!),0)","v":0},{"$f":"IFERROR($E162*SUMIF('Daily Log'!#REF!,$B162,'Daily Log'!#REF!),0)","v":0},{"$f":"IFERROR($E162*SUMIF('Daily Log'!#REF!,$B162,'Daily Log'!#REF!),0)","v":0},{"$f":"IFERROR($E162*SUMIF('Daily Log'!#REF!,$B162,'Daily Log'!#REF!),0)","v":0},{"$f":"IFERROR($E162*SUMIF('Daily Log'!#REF!,$B162,'Daily Log'!#REF!),0)","v":0},{"$f":"IFERROR($E162*SUMIF('Daily Log'!#REF!,$B162,'Daily Log'!#REF!),0)","v":0}]
[null,"DD07 1207:SAUSAGE",null,"SIDE ORDER- APPETIZER",1,5,{"$f":"IFERROR($E163*SUMIF('Daily Log'!$B$18:$B$1017,$B163,'Daily Log'!$C$18:$C$1017),0)","v":0},{"$f":"IFERROR($E163*SUMIF('Daily Log'!$E$18:$E$1017,$B163,'Daily Log'!$F$18:$F$1017),0)","v":0},{"$f":"IFERROR($E163*SUMIF('Daily Log'!$H$18:$H$1017,$B163,'Daily Log'!$I$18:$I$1017),0)","v":0},{"$f":"IFERROR($E163*SUMIF('Daily Log'!$K$18:$K$1017,$B163,'Daily Log'!$L$18:$L$1017),0)","v":0},{"$f":"IFERROR($E163*SUMIF('Daily Log'!$N$18:$N$1017,$B163,'Daily Log'!$O$18:$O$1017),0)","v":0},{"$f":"IFERROR($E163*SUMIF('Daily Log'!$Q$18:$Q$1017,$B163,'Daily Log'!$R$18:$R$1017),0)","v":0},{"$f":"IFERROR($E163*SUMIF('Daily Log'!$T$18:$T$1017,$B163,'Daily Log'!$U$18:$U$1017),0)","v":1},{"$f":"IFERROR($E163*SUMIF('Daily Log'!$W$18:$W$1017,$B163,'Daily Log'!$X$18:$X$1017),0)","v":0},{"$f":"IFERROR($E163*SUMIF('Daily Log'!$Z$18:$Z$1017,$B163,'Daily Log'!$AA$18:$AA$1017),0)","v":1},{"$f":"IFERROR($E163*SUMIF('Daily Log'!$AC$18:$AC$1017,$B163,'Daily Log'!$AD$18:$AD$1017),0)","v":0},{"$f":"IFERROR($E163*SUMIF('Daily Log'!$AF$18:$AF$1017,$B163,'Daily Log'!$AG$18:$AG$1017),0)","v":2},{"$f":"IFERROR($E163*SUMIF('Daily Log'!$AI$18:$AI$1017,$B163,'Daily Log'!$AJ$18:$AJ$1017),0)","v":1},{"$f":"IFERROR($E163*SUMIF('Daily Log'!#REF!,$B163,'Daily Log'!#REF!),0)","v":0},{"$f":"IFERROR($E163*SUMIF('Daily Log'!#REF!,$B163,'Daily Log'!#REF!),0)","v":0},{"$f":"IFERROR($E163*SUMIF('Daily Log'!#REF!,$B163,'Daily Log'!#REF!),0)","v":0},{"$f":"IFERROR($E163*SUMIF('Daily Log'!#REF!,$B163,'Daily Log'!#REF!),0)","v":0},{"$f":"IFERROR($E163*SUMIF('Daily Log'!#REF!,$B163,'Daily Log'!#REF!),0)","v":0},{"$f":"IFERROR($E163*SUMIF('Daily Log'!#REF!,$B163,'Daily Log'!#REF!),0)","v":0},{"$f":"IFERROR($E163*SUMIF('Daily Log'!#REF!,$B163,'Daily Log'!#REF!),0)","v":0},{"$f":"IFERROR($E163*SUMIF('Daily Log'!#REF!,$B163,'Daily Log'!#REF!),0)","v":0},{"$f":"IFERROR($E163*SUMIF('Daily Log'!#REF!,$B163,'Daily Log'!#REF!),0)","v":0},{"$f":"IFERROR($E163*SUMIF('Daily Log'!#REF!,$B163,'Daily Log'!#REF!),0)","v":0},{"$f":"IFERROR($E163*SUMIF('Daily Log'!#REF!,$B163,'Daily Log'!#REF!),0)","v":0},{"$f":"IFERROR($E163*SUMIF('Daily Log'!#REF!,$B163,'Daily Log'!#REF!),0)","v":0},{"$f":"IFERROR($E163*SUMIF('Daily Log'!#REF!,$B163,'Daily Log'!#REF!),0)","v":0},{"$f":"IFERROR($E163*SUMIF('Daily Log'!#REF!,$B163,'Daily Log'!#REF!),0)","v":0},{"$f":"IFERROR($E163*SUMIF('Daily Log'!#REF!,$B163,'Daily Log'!#REF!),0)","v":0},{"$f":"IFERROR($E163*SUMIF('Daily Log'!#REF!,$B163,'Daily Log'!#REF!),0)","v":0},{"$f":"IFERROR($E163*SUMIF('Daily Log'!#REF!,$B163,'Daily Log'!#REF!),0)","v":0},{"$f":"IFERROR($E163*SUMIF('Daily Log'!#REF!,$B163,'Daily Log'!#REF!),0)","v":0},{"$f":"IFERROR($E163*SUMIF('Daily Log'!#REF!,$B163,'Daily Log'!#REF!),0)","v":0}]
[null,"DD08 1208:HOTDOG BUN",null,"SIDE ORDER- APPETIZER",1,0,{"$f":"IFERROR($E164*SUMIF('Daily Log'!$B$18:$B$1017,$B164,'Daily Log'!$C$18:$C$1017),0)","v":0},{"$f":"IFERROR($E164*SUMIF('Daily Log'!$E$18:$E$1017,$B164,'Daily Log'!$F$18:$F$1017),0)","v":0},{"$f":"IFERROR($E164*SUMIF('Daily Log'!$H$18:$H$1017,$B164,'Daily Log'!$I$18:$I$1017),0)","v":0},{"$f":"IFERROR($E164*SUMIF('Daily Log'!$K$18:$K$1017,$B164,'Daily Log'!$L$18:$L$1017),0)","v":0},{"$f":"IFERROR($E164*SUMIF('Daily Log'!$N$18:$N$1017,$B164,'Daily Log'!$O$18:$O$1017),0)","v":0},{"$f":"IFERROR($E164*SUMIF('Daily Log'!$Q$18:$Q$1017,$B164,'Daily Log'!$R$18:$R$1017),0)","v":0},{"$f":"IFERROR($E164*SUMIF('Daily Log'!$T$18:$T$1017,$B164,'Daily Log'!$U$18:$U$1017),0)","v":0},{"$f":"IFERROR($E164*SUMIF('Daily Log'!$W$18:$W$1017,$B164,'Daily Log'!$X$18:$X$1017),0)","v":0},{"$f":"IFERROR($E164*SUMIF('Daily Log'!$Z$18:$Z$1017,$B164,'Daily Log'!$AA$18:$AA$1017),0)","v":0},{"$f":"IFERROR($E164*SUMIF('Daily Log'!$AC$18:$AC$1017,$B164,'Daily Log'!$AD$18:$AD$1017),0)","v":0},{"$f":"IFERROR($E164*SUMIF('Daily Log'!$AF$18:$AF$1017,$B164,'Daily Log'!$AG$18:$AG$1017),0)","v":0},{"$f":"IFERROR($E164*SUMIF('Daily Log'!$AI$18:$AI$1017,$B164,'Daily Log'!$AJ$18:$AJ$1017),0)","v":0},{"$f":"IFERROR($E164*SUMIF('Daily Log'!#REF!,$B164,'Daily Log'!#REF!),0)","v":0},{"$f":"IFERROR($E164*SUMIF('Daily Log'!#REF!,$B164,'Daily Log'!#REF!),0)","v":0},{"$f":"IFERROR($E164*SUMIF('Daily Log'!#REF!,$B164,'Daily Log'!#REF!),0)","v":0},{"$f":"IFERROR($E164*SUMIF('Daily Log'!#REF!,$B164,'Daily Log'!#REF!),0)","v":0},{"$f":"IFERROR($E164*SUMIF('Daily Log'!#REF!,$B164,'Daily Log'!#REF!),0)","v":0},{"$f":"IFERROR($E164*SUMIF('Daily Log'!#REF!,$B164,'Daily Log'!#REF!),0)","v":0},{"$f":"IFERROR($E164*SUMIF('Daily Log'!#REF!,$B164,'Daily Log'!#REF!),0)","v":0},{"$f":"IFERROR($E164*SUMIF('Daily Log'!#REF!,$B164,'Daily Log'!#REF!),0)","v":0},{"$f":"IFERROR($E164*SUMIF('Daily Log'!#REF!,$B164,'Daily Log'!#REF!),0)","v":0},{"$f":"IFERROR($E164*SUMIF('Daily Log'!#REF!,$B164,'Daily Log'!#REF!),0)","v":0},{"$f":"IFERROR($E164*SUMIF('Daily Log'!#REF!,$B164,'Daily Log'!#REF!),0)","v":0},{"$f":"IFERROR($E164*SUMIF('Daily Log'!#REF!,$B164,'Daily Log'!#REF!),0)","v":0},{"$f":"IFERROR($E164*SUMIF('Daily Log'!#REF!,$B164,'Daily Log'!#REF!),0)","v":0},{"$f":"IFERROR($E164*SUMIF('Daily Log'!#REF!,$B164,'Daily Log'!#REF!),0)","v":0},{"$f":"IFERROR($E164*SUMIF('Daily Log'!#REF!,$B164,'Daily Log'!#REF!),0)","v":0},{"$f":"IFERROR($E164*SUMIF('Daily Log'!#REF!,$B164,'Daily Log'!#REF!),0)","v":0},{"$f":"IFERROR($E164*SUMIF('Daily Log'!#REF!,$B164,'Daily Log'!#REF!),0)","v":0},{"$f":"IFERROR($E164*SUMIF('Daily Log'!#REF!,$B164,'Daily Log'!#REF!),0)","v":0},{"$f":"IFERROR($E164*SUMIF('Daily Log'!#REF!,$B164,'Daily Log'!#REF!),0)","v":0}]
[null,"DD09 1209:SFD TOFU",null,"SIDE ORDER- APPETIZER",1,0,{"$f":"IFERROR($E165*SUMIF('Daily Log'!$B$18:$B$1017,$B165,'Daily Log'!$C$18:$C$1017),0)","v":0},{"$f":"IFERROR($E165*SUMIF('Daily Log'!$E$18:$E$1017,$B165,'Daily Log'!$F$18:$F$1017),0)","v":0},{"$f":"IFERROR($E165*SUMIF('Daily Log'!$H$18:$H$1017,$B165,'Daily Log'!$I$18:$I$1017),0)","v":0},{"$f":"IFERROR($E165*SUMIF('Daily Log'!$K$18:$K$1017,$B165,'Daily Log'!$L$18:$L$1017),0)","v":0},{"$f":"IFERROR($E165*SUMIF('Daily Log'!$N$18:$N$1017,$B165,'Daily Log'!$O$18:$O$1017),0)","v":0},{"$f":"IFERROR($E165*SUMIF('Daily Log'!$Q$18:$Q$1017,$B165,'Daily Log'!$R$18:$R$1017),0)","v":0},{"$f":"IFERROR($E165*SUMIF('Daily Log'!$T$18:$T$1017,$B165,'Daily Log'!$U$18:$U$1017),0)","v":0},{"$f":"IFERROR($E165*SUMIF('Daily Log'!$W$18:$W$1017,$B165,'Daily Log'!$X$18:$X$1017),0)","v":0},{"$f":"IFERROR($E165*SUMIF('Daily Log'!$Z$18:$Z$1017,$B165,'Daily Log'!$AA$18:$AA$1017),0)","v":0},{"$f":"IFERROR($E165*SUMIF('Daily Log'!$AC$18:$AC$1017,$B165,'Daily Log'!$AD$18:$AD$1017),0)","v":0},{"$f":"IFERROR($E165*SUMIF('Daily Log'!$AF$18:$AF$1017,$B165,'Daily Log'!$AG$18:$AG$1017),0)","v":0},{"$f":"IFERROR($E165*SUMIF('Daily Log'!$AI$18:$AI$1017,$B165,'Daily Log'!$AJ$18:$AJ$1017),0)","v":0},{"$f":"IFERROR($E165*SUMIF('Daily Log'!#REF!,$B165,'Daily Log'!#REF!),0)","v":0},{"$f":"IFERROR($E165*SUMIF('Daily Log'!#REF!,$B165,'Daily Log'!#REF!),0)","v":0},{"$f":"IFERROR($E165*SUMIF('Daily Log'!#REF!,$B165,'Daily Log'!#REF!),0)","v":0},{"$f":"IFERROR($E165*SUMIF('Daily Log'!#REF!,$B165,'Daily Log'!#REF!),0)","v":0},{"$f":"IFERROR($E165*SUMIF('Daily Log'!#REF!,$B165,'Daily Log'!#REF!),0)","v":0},{"$f":"IFERROR($E165*SUMIF('Daily Log'!#REF!,$B165,'Daily Log'!#REF!),0)","v":0},{"$f":"IFERROR($E165*SUMIF('Daily Log'!#REF!,$B165,'Daily Log'!#REF!),0)","v":0},{"$f":"IFERROR($E165*SUMIF('Daily Log'!#REF!,$B165,'Daily Log'!#REF!),0)","v":0},{"$f":"IFERROR($E165*SUMIF('Daily Log'!#REF!,$B165,'Daily Log'!#REF!),0)","v":0},{"$f":"IFERROR($E165*SUMIF('Daily Log'!#REF!,$B165,'Daily Log'!#REF!),0)","v":0},{"$f":"IFERROR($E165*SUMIF('Daily Log'!#REF!,$B165,'Daily Log'!#REF!),0)","v":0},{"$f":"IFERROR($E165*SUMIF('Daily Log'!#REF!,$B165,'Daily Log'!#REF!),0)","v":0},{"$f":"IFERROR($E165*SUMIF('Daily Log'!#REF!,$B165,'Daily Log'!#REF!),0)","v":0},{"$f":"IFERROR($E165*SUMIF('Daily Log'!#REF!,$B165,'Daily Log'!#REF!),0)","v":0},{"$f":"IFERROR($E165*SUMIF('Daily Log'!#REF!,$B165,'Daily Log'!#REF!),0)","v":0},{"$f":"IFERROR($E165*SUMIF('Daily Log'!#REF!,$B165,'Daily Log'!#REF!),0)","v":0},{"$f":"IFERROR($E165*SUMIF('Daily Log'!#REF!,$B165,'Daily Log'!#REF!),0)","v":0},{"$f":"IFERROR($E165*SUMIF('Daily Log'!#REF!,$B165,'Daily Log'!#REF!),0)","v":0},{"$f":"IFERROR($E165*SUMIF('Daily Log'!#REF!,$B165,'Daily Log'!#REF!),0)","v":0}]
[null,"DD10 1301:DUMPLING",null,"SIDE ORDER- APPETIZER",1,0,{"$f":"IFERROR($E166*SUMIF('Daily Log'!$B$18:$B$1017,$B166,'Daily Log'!$C$18:$C$1017),0)","v":0},{"$f":"IFERROR($E166*SUMIF('Daily Log'!$E$18:$E$1017,$B166,'Daily Log'!$F$18:$F$1017),0)","v":0},{"$f":"IFERROR($E166*SUMIF('Daily Log'!$H$18:$H$1017,$B166,'Daily Log'!$I$18:$I$1017),0)","v":0},{"$f":"IFERROR($E166*SUMIF('Daily Log'!$K$18:$K$1017,$B166,'Daily Log'!$L$18:$L$1017),0)","v":0},{"$f":"IFERROR($E166*SUMIF('Daily Log'!$N$18:$N$1017,$B166,'Daily Log'!$O$18:$O$1017),0)","v":0},{"$f":"IFERROR($E166*SUMIF('Daily Log'!$Q$18:$Q$1017,$B166,'Daily Log'!$R$18:$R$1017),0)","v":0},{"$f":"IFERROR($E166*SUMIF('Daily Log'!$T$18:$T$1017,$B166,'Daily Log'!$U$18:$U$1017),0)","v":0},{"$f":"IFERROR($E166*SUMIF('Daily Log'!$W$18:$W$1017,$B166,'Daily Log'!$X$18:$X$1017),0)","v":0},{"$f":"IFERROR($E166*SUMIF('Daily Log'!$Z$18:$Z$1017,$B166,'Daily Log'!$AA$18:$AA$1017),0)","v":0},{"$f":"IFERROR($E166*SUMIF('Daily Log'!$AC$18:$AC$1017,$B166,'Daily Log'!$AD$18:$AD$1017),0)","v":0},{"$f":"IFERROR($E166*SUMIF('Daily Log'!$AF$18:$AF$1017,$B166,'Daily Log'!$AG$18:$AG$1017),0)","v":0},{"$f":"IFERROR($E166*SUMIF('Daily Log'!$AI$18:$AI$1017,$B166,'Daily Log'!$AJ$18:$AJ$1017),0)","v":0},{"$f":"IFERROR($E166*SUMIF('Daily Log'!#REF!,$B166,'Daily Log'!#REF!),0)","v":0},{"$f":"IFERROR($E166*SUMIF('Daily Log'!#REF!,$B166,'Daily Log'!#REF!),0)","v":0},{"$f":"IFERROR($E166*SUMIF('Daily Log'!#REF!,$B166,'Daily Log'!#REF!),0)","v":0},{"$f":"IFERROR($E166*SUMIF('Daily Log'!#REF!,$B166,'Daily Log'!#REF!),0)","v":0},{"$f":"IFERROR($E166*SUMIF('Daily Log'!#REF!,$B166,'Daily Log'!#REF!),0)","v":0},{"$f":"IFERROR($E166*SUMIF('Daily Log'!#REF!,$B166,'Daily Log'!#REF!),0)","v":0},{"$f":"IFERROR($E166*SUMIF('Daily Log'!#REF!,$B166,'Daily Log'!#REF!),0)","v":0},{"$f":"IFERROR($E166*SUMIF('Daily Log'!#REF!,$B166,'Daily Log'!#REF!),0)","v":0},{"$f":"IFERROR($E166*SUMIF('Daily Log'!#REF!,$B166,'Daily Log'!#REF!),0)","v":0},{"$f":"IFERROR($E166*SUMIF('Daily Log'!#REF!,$B166,'Daily Log'!#REF!),0)","v":0},{"$f":"IFERROR($E166*SUMIF('Daily Log'!#REF!,$B166,'Daily Log'!#REF!),0)","v":0},{"$f":"IFERROR($E166*SUMIF('Daily Log'!#REF!,$B166,'Daily Log'!#REF!),0)","v":0},{"$f":"IFERROR($E166*SUMIF('Daily Log'!#REF!,$B166,'Daily Log'!#REF!),0)","v":0},{"$f":"IFERROR($E166*SUMIF('Daily Log'!#REF!,$B166,'Daily Log'!#REF!),0)","v":0},{"$f":"IFERROR($E166*SUMIF('Daily Log'!#REF!,$B166,'Daily Log'!#REF!),0)","v":0},{"$f":"IFERROR($E166*SUMIF('Daily Log'!#REF!,$B166,'Daily Log'!#REF!),0)","v":0},{"$f":"IFERROR($E166*SUMIF('Daily Log'!#REF!,$B166,'Daily Log'!#REF!),0)","v":0},{"$f":"IFERROR($E166*SUMIF('Daily Log'!#REF!,$B166,'Daily Log'!#REF!),0)","v":0},{"$f":"IFERROR($E166*SUMIF('Daily Log'!#REF!,$B166,'Daily Log'!#REF!),0)","v":0}]
[null,"DD11 1302:NUGGET",null,"SIDE ORDER- APPETIZER",1,7,{"$f":"IFERROR($E167*SUMIF('Daily Log'!$B$18:$B$1017,$B167,'Daily Log'!$C$18:$C$1017),0)","v":0},{"$f":"IFERROR($E167*SUMIF('Daily Log'!$E$18:$E$1017,$B167,'Daily Log'!$F$18:$F$1017),0)","v":0},{"$f":"IFERROR($E167*SUMIF('Daily Log'!$H$18:$H$1017,$B167,'Daily Log'!$I$18:$I$1017),0)","v":0},{"$f":"IFERROR($E167*SUMIF('Daily Log'!$K$18:$K$1017,$B167,'Daily Log'!$L$18:$L$1017),0)","v":0},{"$f":"IFERROR($E167*SUMIF('Daily Log'!$N$18:$N$1017,$B167,'Daily Log'!$O$18:$O$1017),0)","v":0},{"$f":"IFERROR($E167*SUMIF('Daily Log'!$Q$18:$Q$1017,$B167,'Daily Log'!$R$18:$R$1017),0)","v":2},{"$f":"IFERROR($E167*SUMIF('Daily Log'!$T$18:$T$1017,$B167,'Daily Log'!$U$18:$U$1017),0)","v":0},{"$f":"IFERROR($E167*SUMIF('Daily Log'!$W$18:$W$1017,$B167,'Daily Log'!$X$18:$X$1017),0)","v":1},{"$f":"IFERROR($E167*SUMIF('Daily Log'!$Z$18:$Z$1017,$B167,'Daily Log'!$AA$18:$AA$1017),0)","v":0},{"$f":"IFERROR($E167*SUMIF('Daily Log'!$AC$18:$AC$1017,$B167,'Daily Log'!$AD$18:$AD$1017),0)","v":2},{"$f":"IFERROR($E167*SUMIF('Daily Log'!$AF$18:$AF$1017,$B167,'Daily Log'!$AG$18:$AG$1017),0)","v":1},{"$f":"IFERROR($E167*SUMIF('Daily Log'!$AI$18:$AI$1017,$B167,'Daily Log'!$AJ$18:$AJ$1017),0)","v":1},{"$f":"IFERROR($E167*SUMIF('Daily Log'!#REF!,$B167,'Daily Log'!#REF!),0)","v":0},{"$f":"IFERROR($E167*SUMIF('Daily Log'!#REF!,$B167,'Daily Log'!#REF!),0)","v":0},{"$f":"IFERROR($E167*SUMIF('Daily Log'!#REF!,$B167,'Daily Log'!#REF!),0)","v":0},{"$f":"IFERROR($E167*SUMIF('Daily Log'!#REF!,$B167,'Daily Log'!#REF!),0)","v":0},{"$f":"IFERROR($E167*SUMIF('Daily Log'!#REF!,$B167,'Daily Log'!#REF!),0)","v":0},{"$f":"IFERROR($E167*SUMIF('Daily Log'!#REF!,$B167,'Daily Log'!#REF!),0)","v":0},{"$f":"IFERROR($E167*SUMIF('Daily Log'!#REF!,$B167,'Daily Log'!#REF!),0)","v":0},{"$f":"IFERROR($E167*SUMIF('Daily Log'!#REF!,$B167,'Daily Log'!#REF!),0)","v":0},{"$f":"IFERROR($E167*SUMIF('Daily Log'!#REF!,$B167,'Daily Log'!#REF!),0)","v":0},{"$f":"IFERROR($E167*SUMIF('Daily Log'!#REF!,$B167,'Daily Log'!#REF!),0)","v":0},{"$f":"IFERROR($E167*SUMIF('Daily Log'!#REF!,$B167,'Daily Log'!#REF!),0)","v":0},{"$f":"IFERROR($E167*SUMIF('Daily Log'!#REF!,$B167,'Daily Log'!#REF!),0)","v":0},{"$f":"IFERROR($E167*SUMIF('Daily Log'!#REF!,$B167,'Daily Log'!#REF!),0)","v":0},{"$f":"IFERROR($E167*SUMIF('Daily Log'!#REF!,$B167,'Daily Log'!#REF!),0)","v":0},{"$f":"IFERROR($E167*SUMIF('Daily Log'!#REF!,$B167,'Daily Log'!#REF!),0)","v":0},{"$f":"IFERROR($E167*SUMIF('Daily Log'!#REF!,$B167,'Daily Log'!#REF!),0)","v":0},{"$f":"IFERROR($E167*SUMIF('Daily Log'!#REF!,$B167,'Daily Log'!#REF!),0)","v":0},{"$f":"IFERROR($E167*SUMIF('Daily Log'!#REF!,$B167,'Daily Log'!#REF!),0)","v":0},{"$f":"IFERROR($E167*SUMIF('Daily Log'!#REF!,$B167,'Daily Log'!#REF!),0)","v":0}]
[null,"DD12 1303:CHK WING",null,"SIDE ORDER- APPETIZER",1,14,{"$f":"IFERROR($E168*SUMIF('Daily Log'!$B$18:$B$1017,$B168,'Daily Log'!$C$18:$C$1017),0)","v":0},{"$f":"IFERROR($E168*SUMIF('Daily Log'!$E$18:$E$1017,$B168,'Daily Log'!$F$18:$F$1017),0)","v":0},{"$f":"IFERROR($E168*SUMIF('Daily Log'!$H$18:$H$1017,$B168,'Daily Log'!$I$18:$I$1017),0)","v":0},{"$f":"IFERROR($E168*SUMIF('Daily Log'!$K$18:$K$1017,$B168,'Daily Log'!$L$18:$L$1017),0)","v":0},{"$f":"IFERROR($E168*SUMIF('Daily Log'!$N$18:$N$1017,$B168,'Daily Log'!$O$18:$O$1017),0)","v":0},{"$f":"IFERROR($E168*SUMIF('Daily Log'!$Q$18:$Q$1017,$B168,'Daily Log'!$R$18:$R$1017),0)","v":2},{"$f":"IFERROR($E168*SUMIF('Daily Log'!$T$18:$T$1017,$B168,'Daily Log'!$U$18:$U$1017),0)","v":1},{"$f":"IFERROR($E168*SUMIF('Daily Log'!$W$18:$W$1017,$B168,'Daily Log'!$X$18:$X$1017),0)","v":1},{"$f":"IFERROR($E168*SUMIF('Daily Log'!$Z$18:$Z$1017,$B168,'Daily Log'!$AA$18:$AA$1017),0)","v":1},{"$f":"IFERROR($E168*SUMIF('Daily Log'!$AC$18:$AC$1017,$B168,'Daily Log'!$AD$18:$AD$1017),0)","v":2},{"$f":"IFERROR($E168*SUMIF('Daily Log'!$AF$18:$AF$1017,$B168,'Daily Log'!$AG$18:$AG$1017),0)","v":1},{"$f":"IFERROR($E168*SUMIF('Daily Log'!$AI$18:$AI$1017,$B168,'Daily Log'!$AJ$18:$AJ$1017),0)","v":6},{"$f":"IFERROR($E168*SUMIF('Daily Log'!#REF!,$B168,'Daily Log'!#REF!),0)","v":0},{"$f":"IFERROR($E168*SUMIF('Daily Log'!#REF!,$B168,'Daily Log'!#REF!),0)","v":0},{"$f":"IFERROR($E168*SUMIF('Daily Log'!#REF!,$B168,'Daily Log'!#REF!),0)","v":0},{"$f":"IFERROR($E168*SUMIF('Daily Log'!#REF!,$B168,'Daily Log'!#REF!),0)","v":0},{"$f":"IFERROR($E168*SUMIF('Daily Log'!#REF!,$B168,'Daily Log'!#REF!),0)","v":0},{"$f":"IFERROR($E168*SUMIF('Daily Log'!#REF!,$B168,'Daily Log'!#REF!),0)","v":0},{"$f":"IFERROR($E168*SUMIF('Daily Log'!#REF!,$B168,'Daily Log'!#REF!),0)","v":0},{"$f":"IFERROR($E168*SUMIF('Daily Log'!#REF!,$B168,'Daily Log'!#REF!),0)","v":0},{"$f":"IFERROR($E168*SUMIF('Daily Log'!#REF!,$B168,'Daily Log'!#REF!),0)","v":0},{"$f":"IFERROR($E168*SUMIF('Daily Log'!#REF!,$B168,'Daily Log'!#REF!),0)","v":0},{"$f":"IFERROR($E168*SUMIF('Daily Log'!#REF!,$B168,'Daily Log'!#REF!),0)","v":0},{"$f":"IFERROR($E168*SUMIF('Daily Log'!#REF!,$B168,'Daily Log'!#REF!),0)","v":0},{"$f":"IFERROR($E168*SUMIF('Daily Log'!#REF!,$B168,'Daily Log'!#REF!),0)","v":0},{"$f":"IFERROR($E168*SUMIF('Daily Log'!#REF!,$B168,'Daily Log'!#REF!),0)","v":0},{"$f":"IFERROR($E168*SUMIF('Daily Log'!#REF!,$B168,'Daily Log'!#REF!),0)","v":0},{"$f":"IFERROR($E168*SUMIF('Daily Log'!#REF!,$B168,'Daily Log'!#REF!),0)","v":0},{"$f":"IFERROR($E168*SUMIF('Daily Log'!#REF!,$B168,'Daily Log'!#REF!),0)","v":0},{"$f":"IFERROR($E168*SUMIF('Daily Log'!#REF!,$B168,'Daily Log'!#REF!),0)","v":0},{"$f":"IFERROR($E168*SUMIF('Daily Log'!#REF!,$B168,'Daily Log'!#REF!),0)","v":0}]
[null,"DD13 1304:IKAN BILIS",null,"SIDE ORDER- APPETIZER",1,0,{"$f":"IFERROR($E169*SUMIF('Daily Log'!$B$18:$B$1017,$B169,'Daily Log'!$C$18:$C$1017),0)","v":0},{"$f":"IFERROR($E169*SUMIF('Daily Log'!$E$18:$E$1017,$B169,'Daily Log'!$F$18:$F$1017),0)","v":0},{"$f":"IFERROR($E169*SUMIF('Daily Log'!$H$18:$H$1017,$B169,'Daily Log'!$I$18:$I$1017),0)","v":0},{"$f":"IFERROR($E169*SUMIF('Daily Log'!$K$18:$K$1017,$B169,'Daily Log'!$L$18:$L$1017),0)","v":0},{"$f":"IFERROR($E169*SUMIF('Daily Log'!$N$18:$N$1017,$B169,'Daily Log'!$O$18:$O$1017),0)","v":0},{"$f":"IFERROR($E169*SUMIF('Daily Log'!$Q$18:$Q$1017,$B169,'Daily Log'!$R$18:$R$1017),0)","v":0},{"$f":"IFERROR($E169*SUMIF('Daily Log'!$T$18:$T$1017,$B169,'Daily Log'!$U$18:$U$1017),0)","v":0},{"$f":"IFERROR($E169*SUMIF('Daily Log'!$W$18:$W$1017,$B169,'Daily Log'!$X$18:$X$1017),0)","v":0},{"$f":"IFERROR($E169*SUMIF('Daily Log'!$Z$18:$Z$1017,$B169,'Daily Log'!$AA$18:$AA$1017),0)","v":0},{"$f":"IFERROR($E169*SUMIF('Daily Log'!$AC$18:$AC$1017,$B169,'Daily Log'!$AD$18:$AD$1017),0)","v":0},{"$f":"IFERROR($E169*SUMIF('Daily Log'!$AF$18:$AF$1017,$B169,'Daily Log'!$AG$18:$AG$1017),0)","v":0},{"$f":"IFERROR($E169*SUMIF('Daily Log'!$AI$18:$AI$1017,$B169,'Daily Log'!$AJ$18:$AJ$1017),0)","v":0},{"$f":"IFERROR($E169*SUMIF('Daily Log'!#REF!,$B169,'Daily Log'!#REF!),0)","v":0},{"$f":"IFERROR($E169*SUMIF('Daily Log'!#REF!,$B169,'Daily Log'!#REF!),0)","v":0},{"$f":"IFERROR($E169*SUMIF('Daily Log'!#REF!,$B169,'Daily Log'!#REF!),0)","v":0},{"$f":"IFERROR($E169*SUMIF('Daily Log'!#REF!,$B169,'Daily Log'!#REF!),0)","v":0},{"$f":"IFERROR($E169*SUMIF('Daily Log'!#REF!,$B169,'Daily Log'!#REF!),0)","v":0},{"$f":"IFERROR($E169*SUMIF('Daily Log'!#REF!,$B169,'Daily Log'!#REF!),0)","v":0},{"$f":"IFERROR($E169*SUMIF('Daily Log'!#REF!,$B169,'Daily Log'!#REF!),0)","v":0},{"$f":"IFERROR($E169*SUMIF('Daily Log'!#REF!,$B169,'Daily Log'!#REF!),0)","v":0},{"$f":"IFERROR($E169*SUMIF('Daily Log'!#REF!,$B169,'Daily Log'!#REF!),0)","v":0},{"$f":"IFERROR($E169*SUMIF('Daily Log'!#REF!,$B169,'Daily Log'!#REF!),0)","v":0},{"$f":"IFERROR($E169*SUMIF('Daily Log'!#REF!,$B169,'Daily Log'!#REF!),0)","v":0},{"$f":"IFERROR($E169*SUMIF('Daily Log'!#REF!,$B169,'Daily Log'!#REF!),0)","v":0},{"$f":"IFERROR($E169*SUMIF('Daily Log'!#REF!,$B169,'Daily Log'!#REF!),0)","v":0},{"$f":"IFERROR($E169*SUMIF('Daily Log'!#REF!,$B169,'Daily Log'!#REF!),0)","v":0},{"$f":"IFERROR($E169*SUMIF('Daily Log'!#REF!,$B169,'Daily Log'!#REF!),0)","v":0},{"$f":"IFERROR($E169*SUMIF('Daily Log'!#REF!,$B169,'Daily Log'!#REF!),0)","v":0},{"$f":"IFERROR($E169*SUMIF('Daily Log'!#REF!,$B169,'Daily Log'!#REF!),0)","v":0},{"$f":"IFERROR($E169*SUMIF('Daily Log'!#REF!,$B169,'Daily Log'!#REF!),0)","v":0},{"$f":"IFERROR($E169*SUMIF('Daily Log'!#REF!,$B169,'Daily Log'!#REF!),0)","v":0}]
[null,"DD14 1305:THAI RL",null,"SIDE ORDER- APPETIZER",1,1,{"$f":"IFERROR($E170*SUMIF('Daily Log'!$B$18:$B$1017,$B170,'Daily Log'!$C$18:$C$1017),0)","v":0},{"$f":"IFERROR($E170*SUMIF('Daily Log'!$E$18:$E$1017,$B170,'Daily Log'!$F$18:$F$1017),0)","v":0},{"$f":"IFERROR($E170*SUMIF('Daily Log'!$H$18:$H$1017,$B170,'Daily Log'!$I$18:$I$1017),0)","v":0},{"$f":"IFERROR($E170*SUMIF('Daily Log'!$K$18:$K$1017,$B170,'Daily Log'!$L$18:$L$1017),0)","v":0},{"$f":"IFERROR($E170*SUMIF('Daily Log'!$N$18:$N$1017,$B170,'Daily Log'!$O$18:$O$1017),0)","v":0},{"$f":"IFERROR($E170*SUMIF('Daily Log'!$Q$18:$Q$1017,$B170,'Daily Log'!$R$18:$R$1017),0)","v":0},{"$f":"IFERROR($E170*SUMIF('Daily Log'!$T$18:$T$1017,$B170,'Daily Log'!$U$18:$U$1017),0)","v":0},{"$f":"IFERROR($E170*SUMIF('Daily Log'!$W$18:$W$1017,$B170,'Daily Log'!$X$18:$X$1017),0)","v":0},{"$f":"IFERROR($E170*SUMIF('Daily Log'!$Z$18:$Z$1017,$B170,'Daily Log'!$AA$18:$AA$1017),0)","v":0},{"$f":"IFERROR($E170*SUMIF('Daily Log'!$AC$18:$AC$1017,$B170,'Daily Log'!$AD$18:$AD$1017),0)","v":0},{"$f":"IFERROR($E170*SUMIF('Daily Log'!$AF$18:$AF$1017,$B170,'Daily Log'!$AG$18:$AG$1017),0)","v":1},{"$f":"IFERROR($E170*SUMIF('Daily Log'!$AI$18:$AI$1017,$B170,'Daily Log'!$AJ$18:$AJ$1017),0)","v":0},{"$f":"IFERROR($E170*SUMIF('Daily Log'!#REF!,$B170,'Daily Log'!#REF!),0)","v":0},{"$f":"IFERROR($E170*SUMIF('Daily Log'!#REF!,$B170,'Daily Log'!#REF!),0)","v":0},{"$f":"IFERROR($E170*SUMIF('Daily Log'!#REF!,$B170,'Daily Log'!#REF!),0)","v":0},{"$f":"IFERROR($E170*SUMIF('Daily Log'!#REF!,$B170,'Daily Log'!#REF!),0)","v":0},{"$f":"IFERROR($E170*SUMIF('Daily Log'!#REF!,$B170,'Daily Log'!#REF!),0)","v":0},{"$f":"IFERROR($E170*SUMIF('Daily Log'!#REF!,$B170,'Daily Log'!#REF!),0)","v":0},{"$f":"IFERROR($E170*SUMIF('Daily Log'!#REF!,$B170,'Daily Log'!#REF!),0)","v":0},{"$f":"IFERROR($E170*SUMIF('Daily Log'!#REF!,$B170,'Daily Log'!#REF!),0)","v":0},{"$f":"IFERROR($E170*SUMIF('Daily Log'!#REF!,$B170,'Daily Log'!#REF!),0)","v":0},{"$f":"IFERROR($E170*SUMIF('Daily Log'!#REF!,$B170,'Daily Log'!#REF!),0)","v":0},{"$f":"IFERROR($E170*SUMIF('Daily Log'!#REF!,$B170,'Daily Log'!#REF!),0)","v":0},{"$f":"IFERROR($E170*SUMIF('Daily Log'!#REF!,$B170,'Daily Log'!#REF!),0)","v":0},{"$f":"IFERROR($E170*SUMIF('Daily Log'!#REF!,$B170,'Daily Log'!#REF!),0)","v":0},{"$f":"IFERROR($E170*SUMIF('Daily Log'!#REF!,$B170,'Daily Log'!#REF!),0)","v":0},{"$f":"IFERROR($E170*SUMIF('Daily Log'!#REF!,$B170,'Daily Log'!#REF!),0)","v":0},{"$f":"IFERROR($E170*SUMIF('Daily Log'!#REF!,$B170,'Daily Log'!#REF!),0)","v":0},{"$f":"IFERROR($E170*SUMIF('Daily Log'!#REF!,$B170,'Daily Log'!#REF!),0)","v":0},{"$f":"IFERROR($E170*SUMIF('Daily Log'!#REF!,$B170,'Daily Log'!#REF!),0)","v":0},{"$f":"IFERROR($E170*SUMIF('Daily Log'!#REF!,$B170,'Daily Log'!#REF!),0)","v":0}]
[null,"DD15 1306:SLVR FISH",null,"SIDE ORDER- APPETIZER",1,0,{"$f":"IFERROR($E171*SUMIF('Daily Log'!$B$18:$B$1017,$B171,'Daily Log'!$C$18:$C$1017),0)","v":0},{"$f":"IFERROR($E171*SUMIF('Daily Log'!$E$18:$E$1017,$B171,'Daily Log'!$F$18:$F$1017),0)","v":0},{"$f":"IFERROR($E171*SUMIF('Daily Log'!$H$18:$H$1017,$B171,'Daily Log'!$I$18:$I$1017),0)","v":0},{"$f":"IFERROR($E171*SUMIF('Daily Log'!$K$18:$K$1017,$B171,'Daily Log'!$L$18:$L$1017),0)","v":0},{"$f":"IFERROR($E171*SUMIF('Daily Log'!$N$18:$N$1017,$B171,'Daily Log'!$O$18:$O$1017),0)","v":0},{"$f":"IFERROR($E171*SUMIF('Daily Log'!$Q$18:$Q$1017,$B171,'Daily Log'!$R$18:$R$1017),0)","v":0},{"$f":"IFERROR($E171*SUMIF('Daily Log'!$T$18:$T$1017,$B171,'Daily Log'!$U$18:$U$1017),0)","v":0},{"$f":"IFERROR($E171*SUMIF('Daily Log'!$W$18:$W$1017,$B171,'Daily Log'!$X$18:$X$1017),0)","v":0},{"$f":"IFERROR($E171*SUMIF('Daily Log'!$Z$18:$Z$1017,$B171,'Daily Log'!$AA$18:$AA$1017),0)","v":0},{"$f":"IFERROR($E171*SUMIF('Daily Log'!$AC$18:$AC$1017,$B171,'Daily Log'!$AD$18:$AD$1017),0)","v":0},{"$f":"IFERROR($E171*SUMIF('Daily Log'!$AF$18:$AF$1017,$B171,'Daily Log'!$AG$18:$AG$1017),0)","v":0},{"$f":"IFERROR($E171*SUMIF('Daily Log'!$AI$18:$AI$1017,$B171,'Daily Log'!$AJ$18:$AJ$1017),0)","v":0},{"$f":"IFERROR($E171*SUMIF('Daily Log'!#REF!,$B171,'Daily Log'!#REF!),0)","v":0},{"$f":"IFERROR($E171*SUMIF('Daily Log'!#REF!,$B171,'Daily Log'!#REF!),0)","v":0},{"$f":"IFERROR($E171*SUMIF('Daily Log'!#REF!,$B171,'Daily Log'!#REF!),0)","v":0},{"$f":"IFERROR($E171*SUMIF('Daily Log'!#REF!,$B171,'Daily Log'!#REF!),0)","v":0},{"$f":"IFERROR($E171*SUMIF('Daily Log'!#REF!,$B171,'Daily Log'!#REF!),0)","v":0},{"$f":"IFERROR($E171*SUMIF('Daily Log'!#REF!,$B171,'Daily Log'!#REF!),0)","v":0},{"$f":"IFERROR($E171*SUMIF('Daily Log'!#REF!,$B171,'Daily Log'!#REF!),0)","v":0},{"$f":"IFERROR($E171*SUMIF('Daily Log'!#REF!,$B171,'Daily Log'!#REF!),0)","v":0},{"$f":"IFERROR($E171*SUMIF('Daily Log'!#REF!,$B171,'Daily Log'!#REF!),0)","v":0},{"$f":"IFERROR($E171*SUMIF('Daily Log'!#REF!,$B171,'Daily Log'!#REF!),0)","v":0},{"$f":"IFERROR($E171*SUMIF('Daily Log'!#REF!,$B171,'Daily Log'!#REF!),0)","v":0},{"$f":"IFERROR($E171*SUMIF('Daily Log'!#REF!,$B171,'Daily Log'!#REF!),0)","v":0},{"$f":"IFERROR($E171*SUMIF('Daily Log'!#REF!,$B171,'Daily Log'!#REF!),0)","v":0},{"$f":"IFERROR($E171*SUMIF('Daily Log'!#REF!,$B171,'Daily Log'!#REF!),0)","v":0},{"$f":"IFERROR($E171*SUMIF('Daily Log'!#REF!,$B171,'Daily Log'!#REF!),0)","v":0},{"$f":"IFERROR($E171*SUMIF('Daily Log'!#REF!,$B171,'Daily Log'!#REF!),0)","v":0},{"$f":"IFERROR($E171*SUMIF('Daily Log'!#REF!,$B171,'Daily Log'!#REF!),0)","v":0},{"$f":"IFERROR($E171*SUMIF('Daily Log'!#REF!,$B171,'Daily Log'!#REF!),0)","v":0},{"$f":"IFERROR($E171*SUMIF('Daily Log'!#REF!,$B171,'Daily Log'!#REF!),0)","v":0}]
[null,"DD16 1307:D.F C/WING",null,"SIDE ORDER- APPETIZER",1,1,{"$f":"IFERROR($E172*SUMIF('Daily Log'!$B$18:$B$1017,$B172,'Daily Log'!$C$18:$C$1017),0)","v":0},{"$f":"IFERROR($E172*SUMIF('Daily Log'!$E$18:$E$1017,$B172,'Daily Log'!$F$18:$F$1017),0)","v":0},{"$f":"IFERROR($E172*SUMIF('Daily Log'!$H$18:$H$1017,$B172,'Daily Log'!$I$18:$I$1017),0)","v":0},{"$f":"IFERROR($E172*SUMIF('Daily Log'!$K$18:$K$1017,$B172,'Daily Log'!$L$18:$L$1017),0)","v":0},{"$f":"IFERROR($E172*SUMIF('Daily Log'!$N$18:$N$1017,$B172,'Daily Log'!$O$18:$O$1017),0)","v":0},{"$f":"IFERROR($E172*SUMIF('Daily Log'!$Q$18:$Q$1017,$B172,'Daily Log'!$R$18:$R$1017),0)","v":0},{"$f":"IFERROR($E172*SUMIF('Daily Log'!$T$18:$T$1017,$B172,'Daily Log'!$U$18:$U$1017),0)","v":0},{"$f":"IFERROR($E172*SUMIF('Daily Log'!$W$18:$W$1017,$B172,'Daily Log'!$X$18:$X$1017),0)","v":0},{"$f":"IFERROR($E172*SUMIF('Daily Log'!$Z$18:$Z$1017,$B172,'Daily Log'!$AA$18:$AA$1017),0)","v":1},{"$f":"IFERROR($E172*SUMIF('Daily Log'!$AC$18:$AC$1017,$B172,'Daily Log'!$AD$18:$AD$1017),0)","v":0},{"$f":"IFERROR($E172*SUMIF('Daily Log'!$AF$18:$AF$1017,$B172,'Daily Log'!$AG$18:$AG$1017),0)","v":0},{"$f":"IFERROR($E172*SUMIF('Daily Log'!$AI$18:$AI$1017,$B172,'Daily Log'!$AJ$18:$AJ$1017),0)","v":0},{"$f":"IFERROR($E172*SUMIF('Daily Log'!#REF!,$B172,'Daily Log'!#REF!),0)","v":0},{"$f":"IFERROR($E172*SUMIF('Daily Log'!#REF!,$B172,'Daily Log'!#REF!),0)","v":0},{"$f":"IFERROR($E172*SUMIF('Daily Log'!#REF!,$B172,'Daily Log'!#REF!),0)","v":0},{"$f":"IFERROR($E172*SUMIF('Daily Log'!#REF!,$B172,'Daily Log'!#REF!),0)","v":0},{"$f":"IFERROR($E172*SUMIF('Daily Log'!#REF!,$B172,'Daily Log'!#REF!),0)","v":0},{"$f":"IFERROR($E172*SUMIF('Daily Log'!#REF!,$B172,'Daily Log'!#REF!),0)","v":0},{"$f":"IFERROR($E172*SUMIF('Daily Log'!#REF!,$B172,'Daily Log'!#REF!),0)","v":0},{"$f":"IFERROR($E172*SUMIF('Daily Log'!#REF!,$B172,'Daily Log'!#REF!),0)","v":0},{"$f":"IFERROR($E172*SUMIF('Daily Log'!#REF!,$B172,'Daily Log'!#REF!),0)","v":0},{"$f":"IFERROR($E172*SUMIF('Daily Log'!#REF!,$B172,'Daily Log'!#REF!),0)","v":0},{"$f":"IFERROR($E172*SUMIF('Daily Log'!#REF!,$B172,'Daily Log'!#REF!),0)","v":0},{"$f":"IFERROR($E172*SUMIF('Daily Log'!#REF!,$B172,'Daily Log'!#REF!),0)","v":0},{"$f":"IFERROR($E172*SUMIF('Daily Log'!#REF!,$B172,'Daily Log'!#REF!),0)","v":0},{"$f":"IFERROR($E172*SUMIF('Daily Log'!#REF!,$B172,'Daily Log'!#REF!),0)","v":0},{"$f":"IFERROR($E172*SUMIF('Daily Log'!#REF!,$B172,'Daily Log'!#REF!),0)","v":0},{"$f":"IFERROR($E172*SUMIF('Daily Log'!#REF!,$B172,'Daily Log'!#REF!),0)","v":0},{"$f":"IFERROR($E172*SUMIF('Daily Log'!#REF!,$B172,'Daily Log'!#REF!),0)","v":0},{"$f":"IFERROR($E172*SUMIF('Daily Log'!#REF!,$B172,'Daily Log'!#REF!),0)","v":0},{"$f":"IFERROR($E172*SUMIF('Daily Log'!#REF!,$B172,'Daily Log'!#REF!),0)","v":0}]
[null,"DD17 1308 C/CALAMARI",null,"SIDE ORDER- APPETIZER",1,3,{"$f":"IFERROR($E173*SUMIF('Daily Log'!$B$18:$B$1017,$B173,'Daily Log'!$C$18:$C$1017),0)","v":0},{"$f":"IFERROR($E173*SUMIF('Daily Log'!$E$18:$E$1017,$B173,'Daily Log'!$F$18:$F$1017),0)","v":0},{"$f":"IFERROR($E173*SUMIF('Daily Log'!$H$18:$H$1017,$B173,'Daily Log'!$I$18:$I$1017),0)","v":0},{"$f":"IFERROR($E173*SUMIF('Daily Log'!$K$18:$K$1017,$B173,'Daily Log'!$L$18:$L$1017),0)","v":0},{"$f":"IFERROR($E173*SUMIF('Daily Log'!$N$18:$N$1017,$B173,'Daily Log'!$O$18:$O$1017),0)","v":0},{"$f":"IFERROR($E173*SUMIF('Daily Log'!$Q$18:$Q$1017,$B173,'Daily Log'!$R$18:$R$1017),0)","v":0},{"$f":"IFERROR($E173*SUMIF('Daily Log'!$T$18:$T$1017,$B173,'Daily Log'!$U$18:$U$1017),0)","v":0},{"$f":"IFERROR($E173*SUMIF('Daily Log'!$W$18:$W$1017,$B173,'Daily Log'!$X$18:$X$1017),0)","v":0},{"$f":"IFERROR($E173*SUMIF('Daily Log'!$Z$18:$Z$1017,$B173,'Daily Log'!$AA$18:$AA$1017),0)","v":1},{"$f":"IFERROR($E173*SUMIF('Daily Log'!$AC$18:$AC$1017,$B173,'Daily Log'!$AD$18:$AD$1017),0)","v":2},{"$f":"IFERROR($E173*SUMIF('Daily Log'!$AF$18:$AF$1017,$B173,'Daily Log'!$AG$18:$AG$1017),0)","v":0},{"$f":"IFERROR($E173*SUMIF('Daily Log'!$AI$18:$AI$1017,$B173,'Daily Log'!$AJ$18:$AJ$1017),0)","v":0},{"$f":"IFERROR($E173*SUMIF('Daily Log'!#REF!,$B173,'Daily Log'!#REF!),0)","v":0},{"$f":"IFERROR($E173*SUMIF('Daily Log'!#REF!,$B173,'Daily Log'!#REF!),0)","v":0},{"$f":"IFERROR($E173*SUMIF('Daily Log'!#REF!,$B173,'Daily Log'!#REF!),0)","v":0},{"$f":"IFERROR($E173*SUMIF('Daily Log'!#REF!,$B173,'Daily Log'!#REF!),0)","v":0},{"$f":"IFERROR($E173*SUMIF('Daily Log'!#REF!,$B173,'Daily Log'!#REF!),0)","v":0},{"$f":"IFERROR($E173*SUMIF('Daily Log'!#REF!,$B173,'Daily Log'!#REF!),0)","v":0},{"$f":"IFERROR($E173*SUMIF('Daily Log'!#REF!,$B173,'Daily Log'!#REF!),0)","v":0},{"$f":"IFERROR($E173*SUMIF('Daily Log'!#REF!,$B173,'Daily Log'!#REF!),0)","v":0},{"$f":"IFERROR($E173*SUMIF('Daily Log'!#REF!,$B173,'Daily Log'!#REF!),0)","v":0},{"$f":"IFERROR($E173*SUMIF('Daily Log'!#REF!,$B173,'Daily Log'!#REF!),0)","v":0},{"$f":"IFERROR($E173*SUMIF('Daily Log'!#REF!,$B173,'Daily Log'!#REF!),0)","v":0},{"$f":"IFERROR($E173*SUMIF('Daily Log'!#REF!,$B173,'Daily Log'!#REF!),0)","v":0},{"$f":"IFERROR($E173*SUMIF('Daily Log'!#REF!,$B173,'Daily Log'!#REF!),0)","v":0},{"$f":"IFERROR($E173*SUMIF('Daily Log'!#REF!,$B173,'Daily Log'!#REF!),0)","v":0},{"$f":"IFERROR($E173*SUMIF('Daily Log'!#REF!,$B173,'Daily Log'!#REF!),0)","v":0},{"$f":"IFERROR($E173*SUMIF('Daily Log'!#REF!,$B173,'Daily Log'!#REF!),0)","v":0},{"$f":"IFERROR($E173*SUMIF('Daily Log'!#REF!,$B173,'Daily Log'!#REF!),0)","v":0},{"$f":"IFERROR($E173*SUMIF('Daily Log'!#REF!,$B173,'Daily Log'!#REF!),0)","v":0},{"$f":"IFERROR($E173*SUMIF('Daily Log'!#REF!,$B173,'Daily Log'!#REF!),0)","v":0}]
[null,"DD18 1309 Mc C/O.RING",null,"SIDE ORDER- APPETIZER",1,0,{"$f":"IFERROR($E174*SUMIF('Daily Log'!$B$18:$B$1017,$B174,'Daily Log'!$C$18:$C$1017),0)","v":0},{"$f":"IFERROR($E174*SUMIF('Daily Log'!$E$18:$E$1017,$B174,'Daily Log'!$F$18:$F$1017),0)","v":0},{"$f":"IFERROR($E174*SUMIF('Daily Log'!$H$18:$H$1017,$B174,'Daily Log'!$I$18:$I$1017),0)","v":0},{"$f":"IFERROR($E174*SUMIF('Daily Log'!$K$18:$K$1017,$B174,'Daily Log'!$L$18:$L$1017),0)","v":0},{"$f":"IFERROR($E174*SUMIF('Daily Log'!$N$18:$N$1017,$B174,'Daily Log'!$O$18:$O$1017),0)","v":0},{"$f":"IFERROR($E174*SUMIF('Daily Log'!$Q$18:$Q$1017,$B174,'Daily Log'!$R$18:$R$1017),0)","v":0},{"$f":"IFERROR($E174*SUMIF('Daily Log'!$T$18:$T$1017,$B174,'Daily Log'!$U$18:$U$1017),0)","v":0},{"$f":"IFERROR($E174*SUMIF('Daily Log'!$W$18:$W$1017,$B174,'Daily Log'!$X$18:$X$1017),0)","v":0},{"$f":"IFERROR($E174*SUMIF('Daily Log'!$Z$18:$Z$1017,$B174,'Daily Log'!$AA$18:$AA$1017),0)","v":0},{"$f":"IFERROR($E174*SUMIF('Daily Log'!$AC$18:$AC$1017,$B174,'Daily Log'!$AD$18:$AD$1017),0)","v":0},{"$f":"IFERROR($E174*SUMIF('Daily Log'!$AF$18:$AF$1017,$B174,'Daily Log'!$AG$18:$AG$1017),0)","v":0},{"$f":"IFERROR($E174*SUMIF('Daily Log'!$AI$18:$AI$1017,$B174,'Daily Log'!$AJ$18:$AJ$1017),0)","v":0},{"$f":"IFERROR($E174*SUMIF('Daily Log'!#REF!,$B174,'Daily Log'!#REF!),0)","v":0},{"$f":"IFERROR($E174*SUMIF('Daily Log'!#REF!,$B174,'Daily Log'!#REF!),0)","v":0},{"$f":"IFERROR($E174*SUMIF('Daily Log'!#REF!,$B174,'Daily Log'!#REF!),0)","v":0},{"$f":"IFERROR($E174*SUMIF('Daily Log'!#REF!,$B174,'Daily Log'!#REF!),0)","v":0},{"$f":"IFERROR($E174*SUMIF('Daily Log'!#REF!,$B174,'Daily Log'!#REF!),0)","v":0},{"$f":"IFERROR($E174*SUMIF('Daily Log'!#REF!,$B174,'Daily Log'!#REF!),0)","v":0},{"$f":"IFERROR($E174*SUMIF('Daily Log'!#REF!,$B174,'Daily Log'!#REF!),0)","v":0},{"$f":"IFERROR($E174*SUMIF('Daily Log'!#REF!,$B174,'Daily Log'!#REF!),0)","v":0},{"$f":"IFERROR($E174*SUMIF('Daily Log'!#REF!,$B174,'Daily Log'!#REF!),0)","v":0},{"$f":"IFERROR($E174*SUMIF('Daily Log'!#REF!,$B174,'Daily Log'!#REF!),0)","v":0},{"$f":"IFERROR($E174*SUMIF('Daily Log'!#REF!,$B174,'Daily Log'!#REF!),0)","v":0},{"$f":"IFERROR($E174*SUMIF('Daily Log'!#REF!,$B174,'Daily Log'!#REF!),0)","v":0},{"$f":"IFERROR($E174*SUMIF('Daily Log'!#REF!,$B174,'Daily Log'!#REF!),0)","v":0},{"$f":"IFERROR($E174*SUMIF('Daily Log'!#REF!,$B174,'Daily Log'!#REF!),0)","v":0},{"$f":"IFERROR($E174*SUMIF('Daily Log'!#REF!,$B174,'Daily Log'!#REF!),0)","v":0},{"$f":"IFERROR($E174*SUMIF('Daily Log'!#REF!,$B174,'Daily Log'!#REF!),0)","v":0},{"$f":"IFERROR($E174*SUMIF('Daily Log'!#REF!,$B174,'Daily Log'!#REF!),0)","v":0},{"$f":"IFERROR($E174*SUMIF('Daily Log'!#REF!,$B174,'Daily Log'!#REF!),0)","v":0},{"$f":"IFERROR($E174*SUMIF('Daily Log'!#REF!,$B174,'Daily Log'!#REF!),0)","v":0}]
[null,"DD19 1310:Mc SPIRAL/F",null,"SIDE ORDER- APPETIZER",1,5,{"$f":"IFERROR($E175*SUMIF('Daily Log'!$B$18:$B$1017,$B175,'Daily Log'!$C$18:$C$1017),0)","v":0},{"$f":"IFERROR($E175*SUMIF('Daily Log'!$E$18:$E$1017,$B175,'Daily Log'!$F$18:$F$1017),0)","v":0},{"$f":"IFERROR($E175*SUMIF('Daily Log'!$H$18:$H$1017,$B175,'Daily Log'!$I$18:$I$1017),0)","v":0},{"$f":"IFERROR($E175*SUMIF('Daily Log'!$K$18:$K$1017,$B175,'Daily Log'!$L$18:$L$1017),0)","v":0},{"$f":"IFERROR($E175*SUMIF('Daily Log'!$N$18:$N$1017,$B175,'Daily Log'!$O$18:$O$1017),0)","v":0},{"$f":"IFERROR($E175*SUMIF('Daily Log'!$Q$18:$Q$1017,$B175,'Daily Log'!$R$18:$R$1017),0)","v":0},{"$f":"IFERROR($E175*SUMIF('Daily Log'!$T$18:$T$1017,$B175,'Daily Log'!$U$18:$U$1017),0)","v":1},{"$f":"IFERROR($E175*SUMIF('Daily Log'!$W$18:$W$1017,$B175,'Daily Log'!$X$18:$X$1017),0)","v":0},{"$f":"IFERROR($E175*SUMIF('Daily Log'!$Z$18:$Z$1017,$B175,'Daily Log'!$AA$18:$AA$1017),0)","v":0},{"$f":"IFERROR($E175*SUMIF('Daily Log'!$AC$18:$AC$1017,$B175,'Daily Log'!$AD$18:$AD$1017),0)","v":0},{"$f":"IFERROR($E175*SUMIF('Daily Log'!$AF$18:$AF$1017,$B175,'Daily Log'!$AG$18:$AG$1017),0)","v":2},{"$f":"IFERROR($E175*SUMIF('Daily Log'!$AI$18:$AI$1017,$B175,'Daily Log'!$AJ$18:$AJ$1017),0)","v":2},{"$f":"IFERROR($E175*SUMIF('Daily Log'!#REF!,$B175,'Daily Log'!#REF!),0)","v":0},{"$f":"IFERROR($E175*SUMIF('Daily Log'!#REF!,$B175,'Daily Log'!#REF!),0)","v":0},{"$f":"IFERROR($E175*SUMIF('Daily Log'!#REF!,$B175,'Daily Log'!#REF!),0)","v":0},{"$f":"IFERROR($E175*SUMIF('Daily Log'!#REF!,$B175,'Daily Log'!#REF!),0)","v":0},{"$f":"IFERROR($E175*SUMIF('Daily Log'!#REF!,$B175,'Daily Log'!#REF!),0)","v":0},{"$f":"IFERROR($E175*SUMIF('Daily Log'!#REF!,$B175,'Daily Log'!#REF!),0)","v":0},{"$f":"IFERROR($E175*SUMIF('Daily Log'!#REF!,$B175,'Daily Log'!#REF!),0)","v":0},{"$f":"IFERROR($E175*SUMIF('Daily Log'!#REF!,$B175,'Daily Log'!#REF!),0)","v":0},{"$f":"IFERROR($E175*SUMIF('Daily Log'!#REF!,$B175,'Daily Log'!#REF!),0)","v":0},{"$f":"IFERROR($E175*SUMIF('Daily Log'!#REF!,$B175,'Daily Log'!#REF!),0)","v":0},{"$f":"IFERROR($E175*SUMIF('Daily Log'!#REF!,$B175,'Daily Log'!#REF!),0)","v":0},{"$f":"IFERROR($E175*SUMIF('Daily Log'!#REF!,$B175,'Daily Log'!#REF!),0)","v":0},{"$f":"IFERROR($E175*SUMIF('Daily Log'!#REF!,$B175,'Daily Log'!#REF!),0)","v":0},{"$f":"IFERROR($E175*SUMIF('Daily Log'!#REF!,$B175,'Daily Log'!#REF!),0)","v":0},{"$f":"IFERROR($E175*SUMIF('Daily Log'!#REF!,$B175,'Daily Log'!#REF!),0)","v":0},{"$f":"IFERROR($E175*SUMIF('Daily Log'!#REF!,$B175,'Daily Log'!#REF!),0)","v":0},{"$f":"IFERROR($E175*SUMIF('Daily Log'!#REF!,$B175,'Daily Log'!#REF!),0)","v":0},{"$f":"IFERROR($E175*SUMIF('Daily Log'!#REF!,$B175,'Daily Log'!#REF!),0)","v":0},{"$f":"IFERROR($E175*SUMIF('Daily Log'!#REF!,$B175,'Daily Log'!#REF!),0)","v":0}]
[null,"DD20 1311:Mc H/SMILES",null,"SIDE ORDER- APPETIZER",1,0,{"$f":"IFERROR($E176*SUMIF('Daily Log'!$B$18:$B$1017,$B176,'Daily Log'!$C$18:$C$1017),0)","v":0},{"$f":"IFERROR($E176*SUMIF('Daily Log'!$E$18:$E$1017,$B176,'Daily Log'!$F$18:$F$1017),0)","v":0},{"$f":"IFERROR($E176*SUMIF('Daily Log'!$H$18:$H$1017,$B176,'Daily Log'!$I$18:$I$1017),0)","v":0},{"$f":"IFERROR($E176*SUMIF('Daily Log'!$K$18:$K$1017,$B176,'Daily Log'!$L$18:$L$1017),0)","v":0},{"$f":"IFERROR($E176*SUMIF('Daily Log'!$N$18:$N$1017,$B176,'Daily Log'!$O$18:$O$1017),0)","v":0},{"$f":"IFERROR($E176*SUMIF('Daily Log'!$Q$18:$Q$1017,$B176,'Daily Log'!$R$18:$R$1017),0)","v":0},{"$f":"IFERROR($E176*SUMIF('Daily Log'!$T$18:$T$1017,$B176,'Daily Log'!$U$18:$U$1017),0)","v":0},{"$f":"IFERROR($E176*SUMIF('Daily Log'!$W$18:$W$1017,$B176,'Daily Log'!$X$18:$X$1017),0)","v":0},{"$f":"IFERROR($E176*SUMIF('Daily Log'!$Z$18:$Z$1017,$B176,'Daily Log'!$AA$18:$AA$1017),0)","v":0},{"$f":"IFERROR($E176*SUMIF('Daily Log'!$AC$18:$AC$1017,$B176,'Daily Log'!$AD$18:$AD$1017),0)","v":0},{"$f":"IFERROR($E176*SUMIF('Daily Log'!$AF$18:$AF$1017,$B176,'Daily Log'!$AG$18:$AG$1017),0)","v":0},{"$f":"IFERROR($E176*SUMIF('Daily Log'!$AI$18:$AI$1017,$B176,'Daily Log'!$AJ$18:$AJ$1017),0)","v":0},{"$f":"IFERROR($E176*SUMIF('Daily Log'!#REF!,$B176,'Daily Log'!#REF!),0)","v":0},{"$f":"IFERROR($E176*SUMIF('Daily Log'!#REF!,$B176,'Daily Log'!#REF!),0)","v":0},{"$f":"IFERROR($E176*SUMIF('Daily Log'!#REF!,$B176,'Daily Log'!#REF!),0)","v":0},{"$f":"IFERROR($E176*SUMIF('Daily Log'!#REF!,$B176,'Daily Log'!#REF!),0)","v":0},{"$f":"IFERROR($E176*SUMIF('Daily Log'!#REF!,$B176,'Daily Log'!#REF!),0)","v":0},{"$f":"IFERROR($E176*SUMIF('Daily Log'!#REF!,$B176,'Daily Log'!#REF!),0)","v":0},{"$f":"IFERROR($E176*SUMIF('Daily Log'!#REF!,$B176,'Daily Log'!#REF!),0)","v":0},{"$f":"IFERROR($E176*SUMIF('Daily Log'!#REF!,$B176,'Daily Log'!#REF!),0)","v":0},{"$f":"IFERROR($E176*SUMIF('Daily Log'!#REF!,$B176,'Daily Log'!#REF!),0)","v":0},{"$f":"IFERROR($E176*SUMIF('Daily Log'!#REF!,$B176,'Daily Log'!#REF!),0)","v":0},{"$f":"IFERROR($E176*SUMIF('Daily Log'!#REF!,$B176,'Daily Log'!#REF!),0)","v":0},{"$f":"IFERROR($E176*SUMIF('Daily Log'!#REF!,$B176,'Daily Log'!#REF!),0)","v":0},{"$f":"IFERROR($E176*SUMIF('Daily Log'!#REF!,$B176,'Daily Log'!#REF!),0)","v":0},{"$f":"IFERROR($E176*SUMIF('Daily Log'!#REF!,$B176,'Daily Log'!#REF!),0)","v":0},{"$f":"IFERROR($E176*SUMIF('Daily Log'!#REF!,$B176,'Daily Log'!#REF!),0)","v":0},{"$f":"IFERROR($E176*SUMIF('Daily Log'!#REF!,$B176,'Daily Log'!#REF!),0)","v":0},{"$f":"IFERROR($E176*SUMIF('Daily Log'!#REF!,$B176,'Daily Log'!#REF!),0)","v":0},{"$f":"IFERROR($E176*SUMIF('Daily Log'!#REF!,$B176,'Daily Log'!#REF!),0)","v":0},{"$f":"IFERROR($E176*SUMIF('Daily Log'!#REF!,$B176,'Daily Log'!#REF!),0)","v":0}]
[null,"DD21 1312:Mc HASH BRW",null,"SIDE ORDER- APPETIZER",1,1,{"$f":"IFERROR($E177*SUMIF('Daily Log'!$B$18:$B$1017,$B177,'Daily Log'!$C$18:$C$1017),0)","v":0},{"$f":"IFERROR($E177*SUMIF('Daily Log'!$E$18:$E$1017,$B177,'Daily Log'!$F$18:$F$1017),0)","v":0},{"$f":"IFERROR($E177*SUMIF('Daily Log'!$H$18:$H$1017,$B177,'Daily Log'!$I$18:$I$1017),0)","v":0},{"$f":"IFERROR($E177*SUMIF('Daily Log'!$K$18:$K$1017,$B177,'Daily Log'!$L$18:$L$1017),0)","v":0},{"$f":"IFERROR($E177*SUMIF('Daily Log'!$N$18:$N$1017,$B177,'Daily Log'!$O$18:$O$1017),0)","v":0},{"$f":"IFERROR($E177*SUMIF('Daily Log'!$Q$18:$Q$1017,$B177,'Daily Log'!$R$18:$R$1017),0)","v":0},{"$f":"IFERROR($E177*SUMIF('Daily Log'!$T$18:$T$1017,$B177,'Daily Log'!$U$18:$U$1017),0)","v":0},{"$f":"IFERROR($E177*SUMIF('Daily Log'!$W$18:$W$1017,$B177,'Daily Log'!$X$18:$X$1017),0)","v":0},{"$f":"IFERROR($E177*SUMIF('Daily Log'!$Z$18:$Z$1017,$B177,'Daily Log'!$AA$18:$AA$1017),0)","v":0},{"$f":"IFERROR($E177*SUMIF('Daily Log'!$AC$18:$AC$1017,$B177,'Daily Log'!$AD$18:$AD$1017),0)","v":0},{"$f":"IFERROR($E177*SUMIF('Daily Log'!$AF$18:$AF$1017,$B177,'Daily Log'!$AG$18:$AG$1017),0)","v":0},{"$f":"IFERROR($E177*SUMIF('Daily Log'!$AI$18:$AI$1017,$B177,'Daily Log'!$AJ$18:$AJ$1017),0)","v":1},{"$f":"IFERROR($E177*SUMIF('Daily Log'!#REF!,$B177,'Daily Log'!#REF!),0)","v":0},{"$f":"IFERROR($E177*SUMIF('Daily Log'!#REF!,$B177,'Daily Log'!#REF!),0)","v":0},{"$f":"IFERROR($E177*SUMIF('Daily Log'!#REF!,$B177,'Daily Log'!#REF!),0)","v":0},{"$f":"IFERROR($E177*SUMIF('Daily Log'!#REF!,$B177,'Daily Log'!#REF!),0)","v":0},{"$f":"IFERROR($E177*SUMIF('Daily Log'!#REF!,$B177,'Daily Log'!#REF!),0)","v":0},{"$f":"IFERROR($E177*SUMIF('Daily Log'!#REF!,$B177,'Daily Log'!#REF!),0)","v":0},{"$f":"IFERROR($E177*SUMIF('Daily Log'!#REF!,$B177,'Daily Log'!#REF!),0)","v":0},{"$f":"IFERROR($E177*SUMIF('Daily Log'!#REF!,$B177,'Daily Log'!#REF!),0)","v":0},{"$f":"IFERROR($E177*SUMIF('Daily Log'!#REF!,$B177,'Daily Log'!#REF!),0)","v":0},{"$f":"IFERROR($E177*SUMIF('Daily Log'!#REF!,$B177,'Daily Log'!#REF!),0)","v":0},{"$f":"IFERROR($E177*SUMIF('Daily Log'!#REF!,$B177,'Daily Log'!#REF!),0)","v":0},{"$f":"IFERROR($E177*SUMIF('Daily Log'!#REF!,$B177,'Daily Log'!#REF!),0)","v":0},{"$f":"IFERROR($E177*SUMIF('Daily Log'!#REF!,$B177,'Daily Log'!#REF!),0)","v":0},{"$f":"IFERROR($E177*SUMIF('Daily Log'!#REF!,$B177,'Daily Log'!#REF!),0)","v":0},{"$f":"IFERROR($E177*SUMIF('Daily Log'!#REF!,$B177,'Daily Log'!#REF!),0)","v":0},{"$f":"IFERROR($E177*SUMIF('Daily Log'!#REF!,$B177,'Daily Log'!#REF!),0)","v":0},{"$f":"IFERROR($E177*SUMIF('Daily Log'!#REF!,$B177,'Daily Log'!#REF!),0)","v":0},{"$f":"IFERROR($E177*SUMIF('Daily Log'!#REF!,$B177,'Daily Log'!#REF!),0)","v":0},{"$f":"IFERROR($E177*SUMIF('Daily Log'!#REF!,$B177,'Daily Log'!#REF!),0)","v":0}]
[null,"DF01 ADD RICE",null,"SIDE ORDER-OTHERS",1,2,{"$f":"IFERROR($E178*SUMIF('Daily Log'!$B$18:$B$1017,$B178,'Daily Log'!$C$18:$C$1017),0)","v":0},{"$f":"IFERROR($E178*SUMIF('Daily Log'!$E$18:$E$1017,$B178,'Daily Log'!$F$18:$F$1017),0)","v":0},{"$f":"IFERROR($E178*SUMIF('Daily Log'!$H$18:$H$1017,$B178,'Daily Log'!$I$18:$I$1017),0)","v":0},{"$f":"IFERROR($E178*SUMIF('Daily Log'!$K$18:$K$1017,$B178,'Daily Log'!$L$18:$L$1017),0)","v":0},{"$f":"IFERROR($E178*SUMIF('Daily Log'!$N$18:$N$1017,$B178,'Daily Log'!$O$18:$O$1017),0)","v":0},{"$f":"IFERROR($E178*SUMIF('Daily Log'!$Q$18:$Q$1017,$B178,'Daily Log'!$R$18:$R$1017),0)","v":1},{"$f":"IFERROR($E178*SUMIF('Daily Log'!$T$18:$T$1017,$B178,'Daily Log'!$U$18:$U$1017),0)","v":0},{"$f":"IFERROR($E178*SUMIF('Daily Log'!$W$18:$W$1017,$B178,'Daily Log'!$X$18:$X$1017),0)","v":0},{"$f":"IFERROR($E178*SUMIF('Daily Log'!$Z$18:$Z$1017,$B178,'Daily Log'!$AA$18:$AA$1017),0)","v":0},{"$f":"IFERROR($E178*SUMIF('Daily Log'!$AC$18:$AC$1017,$B178,'Daily Log'!$AD$18:$AD$1017),0)","v":1},{"$f":"IFERROR($E178*SUMIF('Daily Log'!$AF$18:$AF$1017,$B178,'Daily Log'!$AG$18:$AG$1017),0)","v":0},{"$f":"IFERROR($E178*SUMIF('Daily Log'!$AI$18:$AI$1017,$B178,'Daily Log'!$AJ$18:$AJ$1017),0)","v":0},{"$f":"IFERROR($E178*SUMIF('Daily Log'!#REF!,$B178,'Daily Log'!#REF!),0)","v":0},{"$f":"IFERROR($E178*SUMIF('Daily Log'!#REF!,$B178,'Daily Log'!#REF!),0)","v":0},{"$f":"IFERROR($E178*SUMIF('Daily Log'!#REF!,$B178,'Daily Log'!#REF!),0)","v":0},{"$f":"IFERROR($E178*SUMIF('Daily Log'!#REF!,$B178,'Daily Log'!#REF!),0)","v":0},{"$f":"IFERROR($E178*SUMIF('Daily Log'!#REF!,$B178,'Daily Log'!#REF!),0)","v":0},{"$f":"IFERROR($E178*SUMIF('Daily Log'!#REF!,$B178,'Daily Log'!#REF!),0)","v":0},{"$f":"IFERROR($E178*SUMIF('Daily Log'!#REF!,$B178,'Daily Log'!#REF!),0)","v":0},{"$f":"IFERROR($E178*SUMIF('Daily Log'!#REF!,$B178,'Daily Log'!#REF!),0)","v":0},{"$f":"IFERROR($E178*SUMIF('Daily Log'!#REF!,$B178,'Daily Log'!#REF!),0)","v":0},{"$f":"IFERROR($E178*SUMIF('Daily Log'!#REF!,$B178,'Daily Log'!#REF!),0)","v":0},{"$f":"IFERROR($E178*SUMIF('Daily Log'!#REF!,$B178,'Daily Log'!#REF!),0)","v":0},{"$f":"IFERROR($E178*SUMIF('Daily Log'!#REF!,$B178,'Daily Log'!#REF!),0)","v":0},{"$f":"IFERROR($E178*SUMIF('Daily Log'!#REF!,$B178,'Daily Log'!#REF!),0)","v":0},{"$f":"IFERROR($E178*SUMIF('Daily Log'!#REF!,$B178,'Daily Log'!#REF!),0)","v":0},{"$f":"IFERROR($E178*SUMIF('Daily Log'!#REF!,$B178,'Daily Log'!#REF!),0)","v":0},{"$f":"IFERROR($E178*SUMIF('Daily Log'!#REF!,$B178,'Daily Log'!#REF!),0)","v":0},{"$f":"IFERROR($E178*SUMIF('Daily Log'!#REF!,$B178,'Daily Log'!#REF!),0)","v":0},{"$f":"IFERROR($E178*SUMIF('Daily Log'!#REF!,$B178,'Daily Log'!#REF!),0)","v":0},{"$f":"IFERROR($E178*SUMIF('Daily Log'!#REF!,$B178,'Daily Log'!#REF!),0)","v":0}]
[null,"DF02 ADD F.EGG",null,"SIDE ORDER-OTHERS",1,2,{"$f":"IFERROR($E179*SUMIF('Daily Log'!$B$18:$B$1017,$B179,'Daily Log'!$C$18:$C$1017),0)","v":0},{"$f":"IFERROR($E179*SUMIF('Daily Log'!$E$18:$E$1017,$B179,'Daily Log'!$F$18:$F$1017),0)","v":0},{"$f":"IFERROR($E179*SUMIF('Daily Log'!$H$18:$H$1017,$B179,'Daily Log'!$I$18:$I$1017),0)","v":0},{"$f":"IFERROR($E179*SUMIF('Daily Log'!$K$18:$K$1017,$B179,'Daily Log'!$L$18:$L$1017),0)","v":0},{"$f":"IFERROR($E179*SUMIF('Daily Log'!$N$18:$N$1017,$B179,'Daily Log'!$O$18:$O$1017),0)","v":0},{"$f":"IFERROR($E179*SUMIF('Daily Log'!$Q$18:$Q$1017,$B179,'Daily Log'!$R$18:$R$1017),0)","v":0},{"$f":"IFERROR($E179*SUMIF('Daily Log'!$T$18:$T$1017,$B179,'Daily Log'!$U$18:$U$1017),0)","v":0},{"$f":"IFERROR($E179*SUMIF('Daily Log'!$W$18:$W$1017,$B179,'Daily Log'!$X$18:$X$1017),0)","v":0},{"$f":"IFERROR($E179*SUMIF('Daily Log'!$Z$18:$Z$1017,$B179,'Daily Log'!$AA$18:$AA$1017),0)","v":0},{"$f":"IFERROR($E179*SUMIF('Daily Log'!$AC$18:$AC$1017,$B179,'Daily Log'!$AD$18:$AD$1017),0)","v":0},{"$f":"IFERROR($E179*SUMIF('Daily Log'!$AF$18:$AF$1017,$B179,'Daily Log'!$AG$18:$AG$1017),0)","v":2},{"$f":"IFERROR($E179*SUMIF('Daily Log'!$AI$18:$AI$1017,$B179,'Daily Log'!$AJ$18:$AJ$1017),0)","v":0},{"$f":"IFERROR($E179*SUMIF('Daily Log'!#REF!,$B179,'Daily Log'!#REF!),0)","v":0},{"$f":"IFERROR($E179*SUMIF('Daily Log'!#REF!,$B179,'Daily Log'!#REF!),0)","v":0},{"$f":"IFERROR($E179*SUMIF('Daily Log'!#REF!,$B179,'Daily Log'!#REF!),0)","v":0},{"$f":"IFERROR($E179*SUMIF('Daily Log'!#REF!,$B179,'Daily Log'!#REF!),0)","v":0},{"$f":"IFERROR($E179*SUMIF('Daily Log'!#REF!,$B179,'Daily Log'!#REF!),0)","v":0},{"$f":"IFERROR($E179*SUMIF('Daily Log'!#REF!,$B179,'Daily Log'!#REF!),0)","v":0},{"$f":"IFERROR($E179*SUMIF('Daily Log'!#REF!,$B179,'Daily Log'!#REF!),0)","v":0},{"$f":"IFERROR($E179*SUMIF('Daily Log'!#REF!,$B179,'Daily Log'!#REF!),0)","v":0},{"$f":"IFERROR($E179*SUMIF('Daily Log'!#REF!,$B179,'Daily Log'!#REF!),0)","v":0},{"$f":"IFERROR($E179*SUMIF('Daily Log'!#REF!,$B179,'Daily Log'!#REF!),0)","v":0},{"$f":"IFERROR($E179*SUMIF('Daily Log'!#REF!,$B179,'Daily Log'!#REF!),0)","v":0},{"$f":"IFERROR($E179*SUMIF('Daily Log'!#REF!,$B179,'Daily Log'!#REF!),0)","v":0},{"$f":"IFERROR($E179*SUMIF('Daily Log'!#REF!,$B179,'Daily Log'!#REF!),0)","v":0},{"$f":"IFERROR($E179*SUMIF('Daily Log'!#REF!,$B179,'Daily Log'!#REF!),0)","v":0},{"$f":"IFERROR($E179*SUMIF('Daily Log'!#REF!,$B179,'Daily Log'!#REF!),0)","v":0},{"$f":"IFERROR($E179*SUMIF('Daily Log'!#REF!,$B179,'Daily Log'!#REF!),0)","v":0},{"$f":"IFERROR($E179*SUMIF('Daily Log'!#REF!,$B179,'Daily Log'!#REF!),0)","v":0},{"$f":"IFERROR($E179*SUMIF('Daily Log'!#REF!,$B179,'Daily Log'!#REF!),0)","v":0},{"$f":"IFERROR($E179*SUMIF('Daily Log'!#REF!,$B179,'Daily Log'!#REF!),0)","v":0}]
[null,"DF03 ADD SAUCE 1000",null,"SAUCE",1,4,{"$f":"IFERROR($E180*SUMIF('Daily Log'!$B$18:$B$1017,$B180,'Daily Log'!$C$18:$C$1017),0)","v":0},{"$f":"IFERROR($E180*SUMIF('Daily Log'!$E$18:$E$1017,$B180,'Daily Log'!$F$18:$F$1017),0)","v":0},{"$f":"IFERROR($E180*SUMIF('Daily Log'!$H$18:$H$1017,$B180,'Daily Log'!$I$18:$I$1017),0)","v":0},{"$f":"IFERROR($E180*SUMIF('Daily Log'!$K$18:$K$1017,$B180,'Daily Log'!$L$18:$L$1017),0)","v":0},{"$f":"IFERROR($E180*SUMIF('Daily Log'!$N$18:$N$1017,$B180,'Daily Log'!$O$18:$O$1017),0)","v":0},{"$f":"IFERROR($E180*SUMIF('Daily Log'!$Q$18:$Q$1017,$B180,'Daily Log'!$R$18:$R$1017),0)","v":0},{"$f":"IFERROR($E180*SUMIF('Daily Log'!$T$18:$T$1017,$B180,'Daily Log'!$U$18:$U$1017),0)","v":0},{"$f":"IFERROR($E180*SUMIF('Daily Log'!$W$18:$W$1017,$B180,'Daily Log'!$X$18:$X$1017),0)","v":0},{"$f":"IFERROR($E180*SUMIF('Daily Log'!$Z$18:$Z$1017,$B180,'Daily Log'!$AA$18:$AA$1017),0)","v":0},{"$f":"IFERROR($E180*SUMIF('Daily Log'!$AC$18:$AC$1017,$B180,'Daily Log'!$AD$18:$AD$1017),0)","v":0},{"$f":"IFERROR($E180*SUMIF('Daily Log'!$AF$18:$AF$1017,$B180,'Daily Log'!$AG$18:$AG$1017),0)","v":4},{"$f":"IFERROR($E180*SUMIF('Daily Log'!$AI$18:$AI$1017,$B180,'Daily Log'!$AJ$18:$AJ$1017),0)","v":0},{"$f":"IFERROR($E180*SUMIF('Daily Log'!#REF!,$B180,'Daily Log'!#REF!),0)","v":0},{"$f":"IFERROR($E180*SUMIF('Daily Log'!#REF!,$B180,'Daily Log'!#REF!),0)","v":0},{"$f":"IFERROR($E180*SUMIF('Daily Log'!#REF!,$B180,'Daily Log'!#REF!),0)","v":0},{"$f":"IFERROR($E180*SUMIF('Daily Log'!#REF!,$B180,'Daily Log'!#REF!),0)","v":0},{"$f":"IFERROR($E180*SUMIF('Daily Log'!#REF!,$B180,'Daily Log'!#REF!),0)","v":0},{"$f":"IFERROR($E180*SUMIF('Daily Log'!#REF!,$B180,'Daily Log'!#REF!),0)","v":0},{"$f":"IFERROR($E180*SUMIF('Daily Log'!#REF!,$B180,'Daily Log'!#REF!),0)","v":0},{"$f":"IFERROR($E180*SUMIF('Daily Log'!#REF!,$B180,'Daily Log'!#REF!),0)","v":0},{"$f":"IFERROR($E180*SUMIF('Daily Log'!#REF!,$B180,'Daily Log'!#REF!),0)","v":0},{"$f":"IFERROR($E180*SUMIF('Daily Log'!#REF!,$B180,'Daily Log'!#REF!),0)","v":0},{"$f":"IFERROR($E180*SUMIF('Daily Log'!#REF!,$B180,'Daily Log'!#REF!),0)","v":0},{"$f":"IFERROR($E180*SUMIF('Daily Log'!#REF!,$B180,'Daily Log'!#REF!),0)","v":0},{"$f":"IFERROR($E180*SUMIF('Daily Log'!#REF!,$B180,'Daily Log'!#REF!),0)","v":0},{"$f":"IFERROR($E180*SUMIF('Daily Log'!#REF!,$B180,'Daily Log'!#REF!),0)","v":0},{"$f":"IFERROR($E180*SUMIF('Daily Log'!#REF!,$B180,'Daily Log'!#REF!),0)","v":0},{"$f":"IFERROR($E180*SUMIF('Daily Log'!#REF!,$B180,'Daily Log'!#REF!),0)","v":0},{"$f":"IFERROR($E180*SUMIF('Daily Log'!#REF!,$B180,'Daily Log'!#REF!),0)","v":0},{"$f":"IFERROR($E180*SUMIF('Daily Log'!#REF!,$B180,'Daily Log'!#REF!),0)","v":0},{"$f":"IFERROR($E180*SUMIF('Daily Log'!#REF!,$B180,'Daily Log'!#REF!),0)","v":0}]
[null,"DF04 ADD SAUCE BOLO",null,"SAUCE",1,0,{"$f":"IFERROR($E181*SUMIF('Daily Log'!$B$18:$B$1017,$B181,'Daily Log'!$C$18:$C$1017),0)","v":0},{"$f":"IFERROR($E181*SUMIF('Daily Log'!$E$18:$E$1017,$B181,'Daily Log'!$F$18:$F$1017),0)","v":0},{"$f":"IFERROR($E181*SUMIF('Daily Log'!$H$18:$H$1017,$B181,'Daily Log'!$I$18:$I$1017),0)","v":0},{"$f":"IFERROR($E181*SUMIF('Daily Log'!$K$18:$K$1017,$B181,'Daily Log'!$L$18:$L$1017),0)","v":0},{"$f":"IFERROR($E181*SUMIF('Daily Log'!$N$18:$N$1017,$B181,'Daily Log'!$O$18:$O$1017),0)","v":0},{"$f":"IFERROR($E181*SUMIF('Daily Log'!$Q$18:$Q$1017,$B181,'Daily Log'!$R$18:$R$1017),0)","v":0},{"$f":"IFERROR($E181*SUMIF('Daily Log'!$T$18:$T$1017,$B181,'Daily Log'!$U$18:$U$1017),0)","v":0},{"$f":"IFERROR($E181*SUMIF('Daily Log'!$W$18:$W$1017,$B181,'Daily Log'!$X$18:$X$1017),0)","v":0},{"$f":"IFERROR($E181*SUMIF('Daily Log'!$Z$18:$Z$1017,$B181,'Daily Log'!$AA$18:$AA$1017),0)","v":0},{"$f":"IFERROR($E181*SUMIF('Daily Log'!$AC$18:$AC$1017,$B181,'Daily Log'!$AD$18:$AD$1017),0)","v":0},{"$f":"IFERROR($E181*SUMIF('Daily Log'!$AF$18:$AF$1017,$B181,'Daily Log'!$AG$18:$AG$1017),0)","v":0},{"$f":"IFERROR($E181*SUMIF('Daily Log'!$AI$18:$AI$1017,$B181,'Daily Log'!$AJ$18:$AJ$1017),0)","v":0},{"$f":"IFERROR($E181*SUMIF('Daily Log'!#REF!,$B181,'Daily Log'!#REF!),0)","v":0},{"$f":"IFERROR($E181*SUMIF('Daily Log'!#REF!,$B181,'Daily Log'!#REF!),0)","v":0},{"$f":"IFERROR($E181*SUMIF('Daily Log'!#REF!,$B181,'Daily Log'!#REF!),0)","v":0},{"$f":"IFERROR($E181*SUMIF('Daily Log'!#REF!,$B181,'Daily Log'!#REF!),0)","v":0},{"$f":"IFERROR($E181*SUMIF('Daily Log'!#REF!,$B181,'Daily Log'!#REF!),0)","v":0},{"$f":"IFERROR($E181*SUMIF('Daily Log'!#REF!,$B181,'Daily Log'!#REF!),0)","v":0},{"$f":"IFERROR($E181*SUMIF('Daily Log'!#REF!,$B181,'Daily Log'!#REF!),0)","v":0},{"$f":"IFERROR($E181*SUMIF('Daily Log'!#REF!,$B181,'Daily Log'!#REF!),0)","v":0},{"$f":"IFERROR($E181*SUMIF('Daily Log'!#REF!,$B181,'Daily Log'!#REF!),0)","v":0},{"$f":"IFERROR($E181*SUMIF('Daily Log'!#REF!,$B181,'Daily Log'!#REF!),0)","v":0},{"$f":"IFERROR($E181*SUMIF('Daily Log'!#REF!,$B181,'Daily Log'!#REF!),0)","v":0},{"$f":"IFERROR($E181*SUMIF('Daily Log'!#REF!,$B181,'Daily Log'!#REF!),0)","v":0},{"$f":"IFERROR($E181*SUMIF('Daily Log'!#REF!,$B181,'Daily Log'!#REF!),0)","v":0},{"$f":"IFERROR($E181*SUMIF('Daily Log'!#REF!,$B181,'Daily Log'!#REF!),0)","v":0},{"$f":"IFERROR($E181*SUMIF('Daily Log'!#REF!,$B181,'Daily Log'!#REF!),0)","v":0},{"$f":"IFERROR($E181*SUMIF('Daily Log'!#REF!,$B181,'Daily Log'!#REF!),0)","v":0},{"$f":"IFERROR($E181*SUMIF('Daily Log'!#REF!,$B181,'Daily Log'!#REF!),0)","v":0},{"$f":"IFERROR($E181*SUMIF('Daily Log'!#REF!,$B181,'Daily Log'!#REF!),0)","v":0},{"$f":"IFERROR($E181*SUMIF('Daily Log'!#REF!,$B181,'Daily Log'!#REF!),0)","v":0}]
[null,"DF05 ADD SAUCE BP",null,"SAUCE",1,2,{"$f":"IFERROR($E182*SUMIF('Daily Log'!$B$18:$B$1017,$B182,'Daily Log'!$C$18:$C$1017),0)","v":0},{"$f":"IFERROR($E182*SUMIF('Daily Log'!$E$18:$E$1017,$B182,'Daily Log'!$F$18:$F$1017),0)","v":0},{"$f":"IFERROR($E182*SUMIF('Daily Log'!$H$18:$H$1017,$B182,'Daily Log'!$I$18:$I$1017),0)","v":0},{"$f":"IFERROR($E182*SUMIF('Daily Log'!$K$18:$K$1017,$B182,'Daily Log'!$L$18:$L$1017),0)","v":0},{"$f":"IFERROR($E182*SUMIF('Daily Log'!$N$18:$N$1017,$B182,'Daily Log'!$O$18:$O$1017),0)","v":0},{"$f":"IFERROR($E182*SUMIF('Daily Log'!$Q$18:$Q$1017,$B182,'Daily Log'!$R$18:$R$1017),0)","v":1},{"$f":"IFERROR($E182*SUMIF('Daily Log'!$T$18:$T$1017,$B182,'Daily Log'!$U$18:$U$1017),0)","v":0},{"$f":"IFERROR($E182*SUMIF('Daily Log'!$W$18:$W$1017,$B182,'Daily Log'!$X$18:$X$1017),0)","v":1},{"$f":"IFERROR($E182*SUMIF('Daily Log'!$Z$18:$Z$1017,$B182,'Daily Log'!$AA$18:$AA$1017),0)","v":0},{"$f":"IFERROR($E182*SUMIF('Daily Log'!$AC$18:$AC$1017,$B182,'Daily Log'!$AD$18:$AD$1017),0)","v":0},{"$f":"IFERROR($E182*SUMIF('Daily Log'!$AF$18:$AF$1017,$B182,'Daily Log'!$AG$18:$AG$1017),0)","v":0},{"$f":"IFERROR($E182*SUMIF('Daily Log'!$AI$18:$AI$1017,$B182,'Daily Log'!$AJ$18:$AJ$1017),0)","v":0},{"$f":"IFERROR($E182*SUMIF('Daily Log'!#REF!,$B182,'Daily Log'!#REF!),0)","v":0},{"$f":"IFERROR($E182*SUMIF('Daily Log'!#REF!,$B182,'Daily Log'!#REF!),0)","v":0},{"$f":"IFERROR($E182*SUMIF('Daily Log'!#REF!,$B182,'Daily Log'!#REF!),0)","v":0},{"$f":"IFERROR($E182*SUMIF('Daily Log'!#REF!,$B182,'Daily Log'!#REF!),0)","v":0},{"$f":"IFERROR($E182*SUMIF('Daily Log'!#REF!,$B182,'Daily Log'!#REF!),0)","v":0},{"$f":"IFERROR($E182*SUMIF('Daily Log'!#REF!,$B182,'Daily Log'!#REF!),0)","v":0},{"$f":"IFERROR($E182*SUMIF('Daily Log'!#REF!,$B182,'Daily Log'!#REF!),0)","v":0},{"$f":"IFERROR($E182*SUMIF('Daily Log'!#REF!,$B182,'Daily Log'!#REF!),0)","v":0},{"$f":"IFERROR($E182*SUMIF('Daily Log'!#REF!,$B182,'Daily Log'!#REF!),0)","v":0},{"$f":"IFERROR($E182*SUMIF('Daily Log'!#REF!,$B182,'Daily Log'!#REF!),0)","v":0},{"$f":"IFERROR($E182*SUMIF('Daily Log'!#REF!,$B182,'Daily Log'!#REF!),0)","v":0},{"$f":"IFERROR($E182*SUMIF('Daily Log'!#REF!,$B182,'Daily Log'!#REF!),0)","v":0},{"$f":"IFERROR($E182*SUMIF('Daily Log'!#REF!,$B182,'Daily Log'!#REF!),0)","v":0},{"$f":"IFERROR($E182*SUMIF('Daily Log'!#REF!,$B182,'Daily Log'!#REF!),0)","v":0},{"$f":"IFERROR($E182*SUMIF('Daily Log'!#REF!,$B182,'Daily Log'!#REF!),0)","v":0},{"$f":"IFERROR($E182*SUMIF('Daily Log'!#REF!,$B182,'Daily Log'!#REF!),0)","v":0},{"$f":"IFERROR($E182*SUMIF('Daily Log'!#REF!,$B182,'Daily Log'!#REF!),0)","v":0},{"$f":"IFERROR($E182*SUMIF('Daily Log'!#REF!,$B182,'Daily Log'!#REF!),0)","v":0},{"$f":"IFERROR($E182*SUMIF('Daily Log'!#REF!,$B182,'Daily Log'!#REF!),0)","v":0}]
[null,"DF06 ADD SAUCE BUTTER",null,"SAUCE",1,0,{"$f":"IFERROR($E183*SUMIF('Daily Log'!$B$18:$B$1017,$B183,'Daily Log'!$C$18:$C$1017),0)","v":0},{"$f":"IFERROR($E183*SUMIF('Daily Log'!$E$18:$E$1017,$B183,'Daily Log'!$F$18:$F$1017),0)","v":0},{"$f":"IFERROR($E183*SUMIF('Daily Log'!$H$18:$H$1017,$B183,'Daily Log'!$I$18:$I$1017),0)","v":0},{"$f":"IFERROR($E183*SUMIF('Daily Log'!$K$18:$K$1017,$B183,'Daily Log'!$L$18:$L$1017),0)","v":0},{"$f":"IFERROR($E183*SUMIF('Daily Log'!$N$18:$N$1017,$B183,'Daily Log'!$O$18:$O$1017),0)","v":0},{"$f":"IFERROR($E183*SUMIF('Daily Log'!$Q$18:$Q$1017,$B183,'Daily Log'!$R$18:$R$1017),0)","v":0},{"$f":"IFERROR($E183*SUMIF('Daily Log'!$T$18:$T$1017,$B183,'Daily Log'!$U$18:$U$1017),0)","v":0},{"$f":"IFERROR($E183*SUMIF('Daily Log'!$W$18:$W$1017,$B183,'Daily Log'!$X$18:$X$1017),0)","v":0},{"$f":"IFERROR($E183*SUMIF('Daily Log'!$Z$18:$Z$1017,$B183,'Daily Log'!$AA$18:$AA$1017),0)","v":0},{"$f":"IFERROR($E183*SUMIF('Daily Log'!$AC$18:$AC$1017,$B183,'Daily Log'!$AD$18:$AD$1017),0)","v":0},{"$f":"IFERROR($E183*SUMIF('Daily Log'!$AF$18:$AF$1017,$B183,'Daily Log'!$AG$18:$AG$1017),0)","v":0},{"$f":"IFERROR($E183*SUMIF('Daily Log'!$AI$18:$AI$1017,$B183,'Daily Log'!$AJ$18:$AJ$1017),0)","v":0},{"$f":"IFERROR($E183*SUMIF('Daily Log'!#REF!,$B183,'Daily Log'!#REF!),0)","v":0},{"$f":"IFERROR($E183*SUMIF('Daily Log'!#REF!,$B183,'Daily Log'!#REF!),0)","v":0},{"$f":"IFERROR($E183*SUMIF('Daily Log'!#REF!,$B183,'Daily Log'!#REF!),0)","v":0},{"$f":"IFERROR($E183*SUMIF('Daily Log'!#REF!,$B183,'Daily Log'!#REF!),0)","v":0},{"$f":"IFERROR($E183*SUMIF('Daily Log'!#REF!,$B183,'Daily Log'!#REF!),0)","v":0},{"$f":"IFERROR($E183*SUMIF('Daily Log'!#REF!,$B183,'Daily Log'!#REF!),0)","v":0},{"$f":"IFERROR($E183*SUMIF('Daily Log'!#REF!,$B183,'Daily Log'!#REF!),0)","v":0},{"$f":"IFERROR($E183*SUMIF('Daily Log'!#REF!,$B183,'Daily Log'!#REF!),0)","v":0},{"$f":"IFERROR($E183*SUMIF('Daily Log'!#REF!,$B183,'Daily Log'!#REF!),0)","v":0},{"$f":"IFERROR($E183*SUMIF('Daily Log'!#REF!,$B183,'Daily Log'!#REF!),0)","v":0},{"$f":"IFERROR($E183*SUMIF('Daily Log'!#REF!,$B183,'Daily Log'!#REF!),0)","v":0},{"$f":"IFERROR($E183*SUMIF('Daily Log'!#REF!,$B183,'Daily Log'!#REF!),0)","v":0},{"$f":"IFERROR($E183*SUMIF('Daily Log'!#REF!,$B183,'Daily Log'!#REF!),0)","v":0},{"$f":"IFERROR($E183*SUMIF('Daily Log'!#REF!,$B183,'Daily Log'!#REF!),0)","v":0},{"$f":"IFERROR($E183*SUMIF('Daily Log'!#REF!,$B183,'Daily Log'!#REF!),0)","v":0},{"$f":"IFERROR($E183*SUMIF('Daily Log'!#REF!,$B183,'Daily Log'!#REF!),0)","v":0},{"$f":"IFERROR($E183*SUMIF('Daily Log'!#REF!,$B183,'Daily Log'!#REF!),0)","v":0},{"$f":"IFERROR($E183*SUMIF('Daily Log'!#REF!,$B183,'Daily Log'!#REF!),0)","v":0},{"$f":"IFERROR($E183*SUMIF('Daily Log'!#REF!,$B183,'Daily Log'!#REF!),0)","v":0}]
[null,"DF07 ADD SAUCE C.PADI",null,"SAUCE",1,8,{"$f":"IFERROR($E184*SUMIF('Daily Log'!$B$18:$B$1017,$B184,'Daily Log'!$C$18:$C$1017),0)","v":0},{"$f":"IFERROR($E184*SUMIF('Daily Log'!$E$18:$E$1017,$B184,'Daily Log'!$F$18:$F$1017),0)","v":0},{"$f":"IFERROR($E184*SUMIF('Daily Log'!$H$18:$H$1017,$B184,'Daily Log'!$I$18:$I$1017),0)","v":0},{"$f":"IFERROR($E184*SUMIF('Daily Log'!$K$18:$K$1017,$B184,'Daily Log'!$L$18:$L$1017),0)","v":0},{"$f":"IFERROR($E184*SUMIF('Daily Log'!$N$18:$N$1017,$B184,'Daily Log'!$O$18:$O$1017),0)","v":0},{"$f":"IFERROR($E184*SUMIF('Daily Log'!$Q$18:$Q$1017,$B184,'Daily Log'!$R$18:$R$1017),0)","v":0},{"$f":"IFERROR($E184*SUMIF('Daily Log'!$T$18:$T$1017,$B184,'Daily Log'!$U$18:$U$1017),0)","v":1},{"$f":"IFERROR($E184*SUMIF('Daily Log'!$W$18:$W$1017,$B184,'Daily Log'!$X$18:$X$1017),0)","v":3},{"$f":"IFERROR($E184*SUMIF('Daily Log'!$Z$18:$Z$1017,$B184,'Daily Log'!$AA$18:$AA$1017),0)","v":1},{"$f":"IFERROR($E184*SUMIF('Daily Log'!$AC$18:$AC$1017,$B184,'Daily Log'!$AD$18:$AD$1017),0)","v":2},{"$f":"IFERROR($E184*SUMIF('Daily Log'!$AF$18:$AF$1017,$B184,'Daily Log'!$AG$18:$AG$1017),0)","v":1},{"$f":"IFERROR($E184*SUMIF('Daily Log'!$AI$18:$AI$1017,$B184,'Daily Log'!$AJ$18:$AJ$1017),0)","v":0},{"$f":"IFERROR($E184*SUMIF('Daily Log'!#REF!,$B184,'Daily Log'!#REF!),0)","v":0},{"$f":"IFERROR($E184*SUMIF('Daily Log'!#REF!,$B184,'Daily Log'!#REF!),0)","v":0},{"$f":"IFERROR($E184*SUMIF('Daily Log'!#REF!,$B184,'Daily Log'!#REF!),0)","v":0},{"$f":"IFERROR($E184*SUMIF('Daily Log'!#REF!,$B184,'Daily Log'!#REF!),0)","v":0},{"$f":"IFERROR($E184*SUMIF('Daily Log'!#REF!,$B184,'Daily Log'!#REF!),0)","v":0},{"$f":"IFERROR($E184*SUMIF('Daily Log'!#REF!,$B184,'Daily Log'!#REF!),0)","v":0},{"$f":"IFERROR($E184*SUMIF('Daily Log'!#REF!,$B184,'Daily Log'!#REF!),0)","v":0},{"$f":"IFERROR($E184*SUMIF('Daily Log'!#REF!,$B184,'Daily Log'!#REF!),0)","v":0},{"$f":"IFERROR($E184*SUMIF('Daily Log'!#REF!,$B184,'Daily Log'!#REF!),0)","v":0},{"$f":"IFERROR($E184*SUMIF('Daily Log'!#REF!,$B184,'Daily Log'!#REF!),0)","v":0},{"$f":"IFERROR($E184*SUMIF('Daily Log'!#REF!,$B184,'Daily Log'!#REF!),0)","v":0},{"$f":"IFERROR($E184*SUMIF('Daily Log'!#REF!,$B184,'Daily Log'!#REF!),0)","v":0},{"$f":"IFERROR($E184*SUMIF('Daily Log'!#REF!,$B184,'Daily Log'!#REF!),0)","v":0},{"$f":"IFERROR($E184*SUMIF('Daily Log'!#REF!,$B184,'Daily Log'!#REF!),0)","v":0},{"$f":"IFERROR($E184*SUMIF('Daily Log'!#REF!,$B184,'Daily Log'!#REF!),0)","v":0},{"$f":"IFERROR($E184*SUMIF('Daily Log'!#REF!,$B184,'Daily Log'!#REF!),0)","v":0},{"$f":"IFERROR($E184*SUMIF('Daily Log'!#REF!,$B184,'Daily Log'!#REF!),0)","v":0},{"$f":"IFERROR($E184*SUMIF('Daily Log'!#REF!,$B184,'Daily Log'!#REF!),0)","v":0},{"$f":"IFERROR($E184*SUMIF('Daily Log'!#REF!,$B184,'Daily Log'!#REF!),0)","v":0}]
[null,"DF08 ADD SAUCE GS",null,"SAUCE",1,0,{"$f":"IFERROR($E185*SUMIF('Daily Log'!$B$18:$B$1017,$B185,'Daily Log'!$C$18:$C$1017),0)","v":0},{"$f":"IFERROR($E185*SUMIF('Daily Log'!$E$18:$E$1017,$B185,'Daily Log'!$F$18:$F$1017),0)","v":0},{"$f":"IFERROR($E185*SUMIF('Daily Log'!$H$18:$H$1017,$B185,'Daily Log'!$I$18:$I$1017),0)","v":0},{"$f":"IFERROR($E185*SUMIF('Daily Log'!$K$18:$K$1017,$B185,'Daily Log'!$L$18:$L$1017),0)","v":0},{"$f":"IFERROR($E185*SUMIF('Daily Log'!$N$18:$N$1017,$B185,'Daily Log'!$O$18:$O$1017),0)","v":0},{"$f":"IFERROR($E185*SUMIF('Daily Log'!$Q$18:$Q$1017,$B185,'Daily Log'!$R$18:$R$1017),0)","v":0},{"$f":"IFERROR($E185*SUMIF('Daily Log'!$T$18:$T$1017,$B185,'Daily Log'!$U$18:$U$1017),0)","v":0},{"$f":"IFERROR($E185*SUMIF('Daily Log'!$W$18:$W$1017,$B185,'Daily Log'!$X$18:$X$1017),0)","v":0},{"$f":"IFERROR($E185*SUMIF('Daily Log'!$Z$18:$Z$1017,$B185,'Daily Log'!$AA$18:$AA$1017),0)","v":0},{"$f":"IFERROR($E185*SUMIF('Daily Log'!$AC$18:$AC$1017,$B185,'Daily Log'!$AD$18:$AD$1017),0)","v":0},{"$f":"IFERROR($E185*SUMIF('Daily Log'!$AF$18:$AF$1017,$B185,'Daily Log'!$AG$18:$AG$1017),0)","v":0},{"$f":"IFERROR($E185*SUMIF('Daily Log'!$AI$18:$AI$1017,$B185,'Daily Log'!$AJ$18:$AJ$1017),0)","v":0},{"$f":"IFERROR($E185*SUMIF('Daily Log'!#REF!,$B185,'Daily Log'!#REF!),0)","v":0},{"$f":"IFERROR($E185*SUMIF('Daily Log'!#REF!,$B185,'Daily Log'!#REF!),0)","v":0},{"$f":"IFERROR($E185*SUMIF('Daily Log'!#REF!,$B185,'Daily Log'!#REF!),0)","v":0},{"$f":"IFERROR($E185*SUMIF('Daily Log'!#REF!,$B185,'Daily Log'!#REF!),0)","v":0},{"$f":"IFERROR($E185*SUMIF('Daily Log'!#REF!,$B185,'Daily Log'!#REF!),0)","v":0},{"$f":"IFERROR($E185*SUMIF('Daily Log'!#REF!,$B185,'Daily Log'!#REF!),0)","v":0},{"$f":"IFERROR($E185*SUMIF('Daily Log'!#REF!,$B185,'Daily Log'!#REF!),0)","v":0},{"$f":"IFERROR($E185*SUMIF('Daily Log'!#REF!,$B185,'Daily Log'!#REF!),0)","v":0},{"$f":"IFERROR($E185*SUMIF('Daily Log'!#REF!,$B185,'Daily Log'!#REF!),0)","v":0},{"$f":"IFERROR($E185*SUMIF('Daily Log'!#REF!,$B185,'Daily Log'!#REF!),0)","v":0},{"$f":"IFERROR($E185*SUMIF('Daily Log'!#REF!,$B185,'Daily Log'!#REF!),0)","v":0},{"$f":"IFERROR($E185*SUMIF('Daily Log'!#REF!,$B185,'Daily Log'!#REF!),0)","v":0},{"$f":"IFERROR($E185*SUMIF('Daily Log'!#REF!,$B185,'Daily Log'!#REF!),0)","v":0},{"$f":"IFERROR($E185*SUMIF('Daily Log'!#REF!,$B185,'Daily Log'!#REF!),0)","v":0},{"$f":"IFERROR($E185*SUMIF('Daily Log'!#REF!,$B185,'Daily Log'!#REF!),0)","v":0},{"$f":"IFERROR($E185*SUMIF('Daily Log'!#REF!,$B185,'Daily Log'!#REF!),0)","v":0},{"$f":"IFERROR($E185*SUMIF('Daily Log'!#REF!,$B185,'Daily Log'!#REF!),0)","v":0},{"$f":"IFERROR($E185*SUMIF('Daily Log'!#REF!,$B185,'Daily Log'!#REF!),0)","v":0},{"$f":"IFERROR($E185*SUMIF('Daily Log'!#REF!,$B185,'Daily Log'!#REF!),0)","v":0}]
[null,"DF09 ADD SAUCE MAYO",null,"SAUCE",1,19,{"$f":"IFERROR($E186*SUMIF('Daily Log'!$B$18:$B$1017,$B186,'Daily Log'!$C$18:$C$1017),0)","v":0},{"$f":"IFERROR($E186*SUMIF('Daily Log'!$E$18:$E$1017,$B186,'Daily Log'!$F$18:$F$1017),0)","v":0},{"$f":"IFERROR($E186*SUMIF('Daily Log'!$H$18:$H$1017,$B186,'Daily Log'!$I$18:$I$1017),0)","v":0},{"$f":"IFERROR($E186*SUMIF('Daily Log'!$K$18:$K$1017,$B186,'Daily Log'!$L$18:$L$1017),0)","v":0},{"$f":"IFERROR($E186*SUMIF('Daily Log'!$N$18:$N$1017,$B186,'Daily Log'!$O$18:$O$1017),0)","v":0},{"$f":"IFERROR($E186*SUMIF('Daily Log'!$Q$18:$Q$1017,$B186,'Daily Log'!$R$18:$R$1017),0)","v":3},{"$f":"IFERROR($E186*SUMIF('Daily Log'!$T$18:$T$1017,$B186,'Daily Log'!$U$18:$U$1017),0)","v":1},{"$f":"IFERROR($E186*SUMIF('Daily Log'!$W$18:$W$1017,$B186,'Daily Log'!$X$18:$X$1017),0)","v":2},{"$f":"IFERROR($E186*SUMIF('Daily Log'!$Z$18:$Z$1017,$B186,'Daily Log'!$AA$18:$AA$1017),0)","v":4},{"$f":"IFERROR($E186*SUMIF('Daily Log'!$AC$18:$AC$1017,$B186,'Daily Log'!$AD$18:$AD$1017),0)","v":2},{"$f":"IFERROR($E186*SUMIF('Daily Log'!$AF$18:$AF$1017,$B186,'Daily Log'!$AG$18:$AG$1017),0)","v":5},{"$f":"IFERROR($E186*SUMIF('Daily Log'!$AI$18:$AI$1017,$B186,'Daily Log'!$AJ$18:$AJ$1017),0)","v":2},{"$f":"IFERROR($E186*SUMIF('Daily Log'!#REF!,$B186,'Daily Log'!#REF!),0)","v":0},{"$f":"IFERROR($E186*SUMIF('Daily Log'!#REF!,$B186,'Daily Log'!#REF!),0)","v":0},{"$f":"IFERROR($E186*SUMIF('Daily Log'!#REF!,$B186,'Daily Log'!#REF!),0)","v":0},{"$f":"IFERROR($E186*SUMIF('Daily Log'!#REF!,$B186,'Daily Log'!#REF!),0)","v":0},{"$f":"IFERROR($E186*SUMIF('Daily Log'!#REF!,$B186,'Daily Log'!#REF!),0)","v":0},{"$f":"IFERROR($E186*SUMIF('Daily Log'!#REF!,$B186,'Daily Log'!#REF!),0)","v":0},{"$f":"IFERROR($E186*SUMIF('Daily Log'!#REF!,$B186,'Daily Log'!#REF!),0)","v":0},{"$f":"IFERROR($E186*SUMIF('Daily Log'!#REF!,$B186,'Daily Log'!#REF!),0)","v":0},{"$f":"IFERROR($E186*SUMIF('Daily Log'!#REF!,$B186,'Daily Log'!#REF!),0)","v":0},{"$f":"IFERROR($E186*SUMIF('Daily Log'!#REF!,$B186,'Daily Log'!#REF!),0)","v":0},{"$f":"IFERROR($E186*SUMIF('Daily Log'!#REF!,$B186,'Daily Log'!#REF!),0)","v":0},{"$f":"IFERROR($E186*SUMIF('Daily Log'!#REF!,$B186,'Daily Log'!#REF!),0)","v":0},{"$f":"IFERROR($E186*SUMIF('Daily Log'!#REF!,$B186,'Daily Log'!#REF!),0)","v":0},{"$f":"IFERROR($E186*SUMIF('Daily Log'!#REF!,$B186,'Daily Log'!#REF!),0)","v":0},{"$f":"IFERROR($E186*SUMIF('Daily Log'!#REF!,$B186,'Daily Log'!#REF!),0)","v":0},{"$f":"IFERROR($E186*SUMIF('Daily Log'!#REF!,$B186,'Daily Log'!#REF!),0)","v":0},{"$f":"IFERROR($E186*SUMIF('Daily Log'!#REF!,$B186,'Daily Log'!#REF!),0)","v":0},{"$f":"IFERROR($E186*SUMIF('Daily Log'!#REF!,$B186,'Daily Log'!#REF!),0)","v":0},{"$f":"IFERROR($E186*SUMIF('Daily Log'!#REF!,$B186,'Daily Log'!#REF!),0)","v":0}]
[null,"DF10 ADD SAUCE MMITE",null,"SAUCE",1,0,{"$f":"IFERROR($E187*SUMIF('Daily Log'!$B$18:$B$1017,$B187,'Daily Log'!$C$18:$C$1017),0)","v":0},{"$f":"IFERROR($E187*SUMIF('Daily Log'!$E$18:$E$1017,$B187,'Daily Log'!$F$18:$F$1017),0)","v":0},{"$f":"IFERROR($E187*SUMIF('Daily Log'!$H$18:$H$1017,$B187,'Daily Log'!$I$18:$I$1017),0)","v":0},{"$f":"IFERROR($E187*SUMIF('Daily Log'!$K$18:$K$1017,$B187,'Daily Log'!$L$18:$L$1017),0)","v":0},{"$f":"IFERROR($E187*SUMIF('Daily Log'!$N$18:$N$1017,$B187,'Daily Log'!$O$18:$O$1017),0)","v":0},{"$f":"IFERROR($E187*SUMIF('Daily Log'!$Q$18:$Q$1017,$B187,'Daily Log'!$R$18:$R$1017),0)","v":0},{"$f":"IFERROR($E187*SUMIF('Daily Log'!$T$18:$T$1017,$B187,'Daily Log'!$U$18:$U$1017),0)","v":0},{"$f":"IFERROR($E187*SUMIF('Daily Log'!$W$18:$W$1017,$B187,'Daily Log'!$X$18:$X$1017),0)","v":0},{"$f":"IFERROR($E187*SUMIF('Daily Log'!$Z$18:$Z$1017,$B187,'Daily Log'!$AA$18:$AA$1017),0)","v":0},{"$f":"IFERROR($E187*SUMIF('Daily Log'!$AC$18:$AC$1017,$B187,'Daily Log'!$AD$18:$AD$1017),0)","v":0},{"$f":"IFERROR($E187*SUMIF('Daily Log'!$AF$18:$AF$1017,$B187,'Daily Log'!$AG$18:$AG$1017),0)","v":0},{"$f":"IFERROR($E187*SUMIF('Daily Log'!$AI$18:$AI$1017,$B187,'Daily Log'!$AJ$18:$AJ$1017),0)","v":0},{"$f":"IFERROR($E187*SUMIF('Daily Log'!#REF!,$B187,'Daily Log'!#REF!),0)","v":0},{"$f":"IFERROR($E187*SUMIF('Daily Log'!#REF!,$B187,'Daily Log'!#REF!),0)","v":0},{"$f":"IFERROR($E187*SUMIF('Daily Log'!#REF!,$B187,'Daily Log'!#REF!),0)","v":0},{"$f":"IFERROR($E187*SUMIF('Daily Log'!#REF!,$B187,'Daily Log'!#REF!),0)","v":0},{"$f":"IFERROR($E187*SUMIF('Daily Log'!#REF!,$B187,'Daily Log'!#REF!),0)","v":0},{"$f":"IFERROR($E187*SUMIF('Daily Log'!#REF!,$B187,'Daily Log'!#REF!),0)","v":0},{"$f":"IFERROR($E187*SUMIF('Daily Log'!#REF!,$B187,'Daily Log'!#REF!),0)","v":0},{"$f":"IFERROR($E187*SUMIF('Daily Log'!#REF!,$B187,'Daily Log'!#REF!),0)","v":0},{"$f":"IFERROR($E187*SUMIF('Daily Log'!#REF!,$B187,'Daily Log'!#REF!),0)","v":0},{"$f":"IFERROR($E187*SUMIF('Daily Log'!#REF!,$B187,'Daily Log'!#REF!),0)","v":0},{"$f":"IFERROR($E187*SUMIF('Daily Log'!#REF!,$B187,'Daily Log'!#REF!),0)","v":0},{"$f":"IFERROR($E187*SUMIF('Daily Log'!#REF!,$B187,'Daily Log'!#REF!),0)","v":0},{"$f":"IFERROR($E187*SUMIF('Daily Log'!#REF!,$B187,'Daily Log'!#REF!),0)","v":0},{"$f":"IFERROR($E187*SUMIF('Daily Log'!#REF!,$B187,'Daily Log'!#REF!),0)","v":0},{"$f":"IFERROR($E187*SUMIF('Daily Log'!#REF!,$B187,'Daily Log'!#REF!),0)","v":0},{"$f":"IFERROR($E187*SUMIF('Daily Log'!#REF!,$B187,'Daily Log'!#REF!),0)","v":0},{"$f":"IFERROR($E187*SUMIF('Daily Log'!#REF!,$B187,'Daily Log'!#REF!),0)","v":0},{"$f":"IFERROR($E187*SUMIF('Daily Log'!#REF!,$B187,'Daily Log'!#REF!),0)","v":0},{"$f":"IFERROR($E187*SUMIF('Daily Log'!#REF!,$B187,'Daily Log'!#REF!),0)","v":0}]
[null,"DF11 ADD SAUCE MR",null,"SAUCE",1,1,{"$f":"IFERROR($E188*SUMIF('Daily Log'!$B$18:$B$1017,$B188,'Daily Log'!$C$18:$C$1017),0)","v":0},{"$f":"IFERROR($E188*SUMIF('Daily Log'!$E$18:$E$1017,$B188,'Daily Log'!$F$18:$F$1017),0)","v":0},{"$f":"IFERROR($E188*SUMIF('Daily Log'!$H$18:$H$1017,$B188,'Daily Log'!$I$18:$I$1017),0)","v":0},{"$f":"IFERROR($E188*SUMIF('Daily Log'!$K$18:$K$1017,$B188,'Daily Log'!$L$18:$L$1017),0)","v":0},{"$f":"IFERROR($E188*SUMIF('Daily Log'!$N$18:$N$1017,$B188,'Daily Log'!$O$18:$O$1017),0)","v":0},{"$f":"IFERROR($E188*SUMIF('Daily Log'!$Q$18:$Q$1017,$B188,'Daily Log'!$R$18:$R$1017),0)","v":0},{"$f":"IFERROR($E188*SUMIF('Daily Log'!$T$18:$T$1017,$B188,'Daily Log'!$U$18:$U$1017),0)","v":0},{"$f":"IFERROR($E188*SUMIF('Daily Log'!$W$18:$W$1017,$B188,'Daily Log'!$X$18:$X$1017),0)","v":0},{"$f":"IFERROR($E188*SUMIF('Daily Log'!$Z$18:$Z$1017,$B188,'Daily Log'!$AA$18:$AA$1017),0)","v":1},{"$f":"IFERROR($E188*SUMIF('Daily Log'!$AC$18:$AC$1017,$B188,'Daily Log'!$AD$18:$AD$1017),0)","v":0},{"$f":"IFERROR($E188*SUMIF('Daily Log'!$AF$18:$AF$1017,$B188,'Daily Log'!$AG$18:$AG$1017),0)","v":0},{"$f":"IFERROR($E188*SUMIF('Daily Log'!$AI$18:$AI$1017,$B188,'Daily Log'!$AJ$18:$AJ$1017),0)","v":0},{"$f":"IFERROR($E188*SUMIF('Daily Log'!#REF!,$B188,'Daily Log'!#REF!),0)","v":0},{"$f":"IFERROR($E188*SUMIF('Daily Log'!#REF!,$B188,'Daily Log'!#REF!),0)","v":0},{"$f":"IFERROR($E188*SUMIF('Daily Log'!#REF!,$B188,'Daily Log'!#REF!),0)","v":0},{"$f":"IFERROR($E188*SUMIF('Daily Log'!#REF!,$B188,'Daily Log'!#REF!),0)","v":0},{"$f":"IFERROR($E188*SUMIF('Daily Log'!#REF!,$B188,'Daily Log'!#REF!),0)","v":0},{"$f":"IFERROR($E188*SUMIF('Daily Log'!#REF!,$B188,'Daily Log'!#REF!),0)","v":0},{"$f":"IFERROR($E188*SUMIF('Daily Log'!#REF!,$B188,'Daily Log'!#REF!),0)","v":0},{"$f":"IFERROR($E188*SUMIF('Daily Log'!#REF!,$B188,'Daily Log'!#REF!),0)","v":0},{"$f":"IFERROR($E188*SUMIF('Daily Log'!#REF!,$B188,'Daily Log'!#REF!),0)","v":0},{"$f":"IFERROR($E188*SUMIF('Daily Log'!#REF!,$B188,'Daily Log'!#REF!),0)","v":0},{"$f":"IFERROR($E188*SUMIF('Daily Log'!#REF!,$B188,'Daily Log'!#REF!),0)","v":0},{"$f":"IFERROR($E188*SUMIF('Daily Log'!#REF!,$B188,'Daily Log'!#REF!),0)","v":0},{"$f":"IFERROR($E188*SUMIF('Daily Log'!#REF!,$B188,'Daily Log'!#REF!),0)","v":0},{"$f":"IFERROR($E188*SUMIF('Daily Log'!#REF!,$B188,'Daily Log'!#REF!),0)","v":0},{"$f":"IFERROR($E188*SUMIF('Daily Log'!#REF!,$B188,'Daily Log'!#REF!),0)","v":0},{"$f":"IFERROR($E188*SUMIF('Daily Log'!#REF!,$B188,'Daily Log'!#REF!),0)","v":0},{"$f":"IFERROR($E188*SUMIF('Daily Log'!#REF!,$B188,'Daily Log'!#REF!),0)","v":0},{"$f":"IFERROR($E188*SUMIF('Daily Log'!#REF!,$B188,'Daily Log'!#REF!),0)","v":0},{"$f":"IFERROR($E188*SUMIF('Daily Log'!#REF!,$B188,'Daily Log'!#REF!),0)","v":0}]
[null,"DF12 ADD SAUCE SAMBAL",null,"SAUCE",1,0,{"$f":"IFERROR($E189*SUMIF('Daily Log'!$B$18:$B$1017,$B189,'Daily Log'!$C$18:$C$1017),0)","v":0},{"$f":"IFERROR($E189*SUMIF('Daily Log'!$E$18:$E$1017,$B189,'Daily Log'!$F$18:$F$1017),0)","v":0},{"$f":"IFERROR($E189*SUMIF('Daily Log'!$H$18:$H$1017,$B189,'Daily Log'!$I$18:$I$1017),0)","v":0},{"$f":"IFERROR($E189*SUMIF('Daily Log'!$K$18:$K$1017,$B189,'Daily Log'!$L$18:$L$1017),0)","v":0},{"$f":"IFERROR($E189*SUMIF('Daily Log'!$N$18:$N$1017,$B189,'Daily Log'!$O$18:$O$1017),0)","v":0},{"$f":"IFERROR($E189*SUMIF('Daily Log'!$Q$18:$Q$1017,$B189,'Daily Log'!$R$18:$R$1017),0)","v":0},{"$f":"IFERROR($E189*SUMIF('Daily Log'!$T$18:$T$1017,$B189,'Daily Log'!$U$18:$U$1017),0)","v":0},{"$f":"IFERROR($E189*SUMIF('Daily Log'!$W$18:$W$1017,$B189,'Daily Log'!$X$18:$X$1017),0)","v":0},{"$f":"IFERROR($E189*SUMIF('Daily Log'!$Z$18:$Z$1017,$B189,'Daily Log'!$AA$18:$AA$1017),0)","v":0},{"$f":"IFERROR($E189*SUMIF('Daily Log'!$AC$18:$AC$1017,$B189,'Daily Log'!$AD$18:$AD$1017),0)","v":0},{"$f":"IFERROR($E189*SUMIF('Daily Log'!$AF$18:$AF$1017,$B189,'Daily Log'!$AG$18:$AG$1017),0)","v":0},{"$f":"IFERROR($E189*SUMIF('Daily Log'!$AI$18:$AI$1017,$B189,'Daily Log'!$AJ$18:$AJ$1017),0)","v":0},{"$f":"IFERROR($E189*SUMIF('Daily Log'!#REF!,$B189,'Daily Log'!#REF!),0)","v":0},{"$f":"IFERROR($E189*SUMIF('Daily Log'!#REF!,$B189,'Daily Log'!#REF!),0)","v":0},{"$f":"IFERROR($E189*SUMIF('Daily Log'!#REF!,$B189,'Daily Log'!#REF!),0)","v":0},{"$f":"IFERROR($E189*SUMIF('Daily Log'!#REF!,$B189,'Daily Log'!#REF!),0)","v":0},{"$f":"IFERROR($E189*SUMIF('Daily Log'!#REF!,$B189,'Daily Log'!#REF!),0)","v":0},{"$f":"IFERROR($E189*SUMIF('Daily Log'!#REF!,$B189,'Daily Log'!#REF!),0)","v":0},{"$f":"IFERROR($E189*SUMIF('Daily Log'!#REF!,$B189,'Daily Log'!#REF!),0)","v":0},{"$f":"IFERROR($E189*SUMIF('Daily Log'!#REF!,$B189,'Daily Log'!#REF!),0)","v":0},{"$f":"IFERROR($E189*SUMIF('Daily Log'!#REF!,$B189,'Daily Log'!#REF!),0)","v":0},{"$f":"IFERROR($E189*SUMIF('Daily Log'!#REF!,$B189,'Daily Log'!#REF!),0)","v":0},{"$f":"IFERROR($E189*SUMIF('Daily Log'!#REF!,$B189,'Daily Log'!#REF!),0)","v":0},{"$f":"IFERROR($E189*SUMIF('Daily Log'!#REF!,$B189,'Daily Log'!#REF!),0)","v":0},{"$f":"IFERROR($E189*SUMIF('Daily Log'!#REF!,$B189,'Daily Log'!#REF!),0)","v":0},{"$f":"IFERROR($E189*SUMIF('Daily Log'!#REF!,$B189,'Daily Log'!#REF!),0)","v":0},{"$f":"IFERROR($E189*SUMIF('Daily Log'!#REF!,$B189,'Daily Log'!#REF!),0)","v":0},{"$f":"IFERROR($E189*SUMIF('Daily Log'!#REF!,$B189,'Daily Log'!#REF!),0)","v":0},{"$f":"IFERROR($E189*SUMIF('Daily Log'!#REF!,$B189,'Daily Log'!#REF!),0)","v":0},{"$f":"IFERROR($E189*SUMIF('Daily Log'!#REF!,$B189,'Daily Log'!#REF!),0)","v":0},{"$f":"IFERROR($E189*SUMIF('Daily Log'!#REF!,$B189,'Daily Log'!#REF!),0)","v":0}]
[null,"DF13 ADD SAUCE THAI",null,"SAUCE",1,0,{"$f":"IFERROR($E190*SUMIF('Daily Log'!$B$18:$B$1017,$B190,'Daily Log'!$C$18:$C$1017),0)","v":0},{"$f":"IFERROR($E190*SUMIF('Daily Log'!$E$18:$E$1017,$B190,'Daily Log'!$F$18:$F$1017),0)","v":0},{"$f":"IFERROR($E190*SUMIF('Daily Log'!$H$18:$H$1017,$B190,'Daily Log'!$I$18:$I$1017),0)","v":0},{"$f":"IFERROR($E190*SUMIF('Daily Log'!$K$18:$K$1017,$B190,'Daily Log'!$L$18:$L$1017),0)","v":0},{"$f":"IFERROR($E190*SUMIF('Daily Log'!$N$18:$N$1017,$B190,'Daily Log'!$O$18:$O$1017),0)","v":0},{"$f":"IFERROR($E190*SUMIF('Daily Log'!$Q$18:$Q$1017,$B190,'Daily Log'!$R$18:$R$1017),0)","v":0},{"$f":"IFERROR($E190*SUMIF('Daily Log'!$T$18:$T$1017,$B190,'Daily Log'!$U$18:$U$1017),0)","v":0},{"$f":"IFERROR($E190*SUMIF('Daily Log'!$W$18:$W$1017,$B190,'Daily Log'!$X$18:$X$1017),0)","v":0},{"$f":"IFERROR($E190*SUMIF('Daily Log'!$Z$18:$Z$1017,$B190,'Daily Log'!$AA$18:$AA$1017),0)","v":0},{"$f":"IFERROR($E190*SUMIF('Daily Log'!$AC$18:$AC$1017,$B190,'Daily Log'!$AD$18:$AD$1017),0)","v":0},{"$f":"IFERROR($E190*SUMIF('Daily Log'!$AF$18:$AF$1017,$B190,'Daily Log'!$AG$18:$AG$1017),0)","v":0},{"$f":"IFERROR($E190*SUMIF('Daily Log'!$AI$18:$AI$1017,$B190,'Daily Log'!$AJ$18:$AJ$1017),0)","v":0},{"$f":"IFERROR($E190*SUMIF('Daily Log'!#REF!,$B190,'Daily Log'!#REF!),0)","v":0},{"$f":"IFERROR($E190*SUMIF('Daily Log'!#REF!,$B190,'Daily Log'!#REF!),0)","v":0},{"$f":"IFERROR($E190*SUMIF('Daily Log'!#REF!,$B190,'Daily Log'!#REF!),0)","v":0},{"$f":"IFERROR($E190*SUMIF('Daily Log'!#REF!,$B190,'Daily Log'!#REF!),0)","v":0},{"$f":"IFERROR($E190*SUMIF('Daily Log'!#REF!,$B190,'Daily Log'!#REF!),0)","v":0},{"$f":"IFERROR($E190*SUMIF('Daily Log'!#REF!,$B190,'Daily Log'!#REF!),0)","v":0},{"$f":"IFERROR($E190*SUMIF('Daily Log'!#REF!,$B190,'Daily Log'!#REF!),0)","v":0},{"$f":"IFERROR($E190*SUMIF('Daily Log'!#REF!,$B190,'Daily Log'!#REF!),0)","v":0},{"$f":"IFERROR($E190*SUMIF('Daily Log'!#REF!,$B190,'Daily Log'!#REF!),0)","v":0},{"$f":"IFERROR($E190*SUMIF('Daily Log'!#REF!,$B190,'Daily Log'!#REF!),0)","v":0},{"$f":"IFERROR($E190*SUMIF('Daily Log'!#REF!,$B190,'Daily Log'!#REF!),0)","v":0},{"$f":"IFERROR($E190*SUMIF('Daily Log'!#REF!,$B190,'Daily Log'!#REF!),0)","v":0},{"$f":"IFERROR($E190*SUMIF('Daily Log'!#REF!,$B190,'Daily Log'!#REF!),0)","v":0},{"$f":"IFERROR($E190*SUMIF('Daily Log'!#REF!,$B190,'Daily Log'!#REF!),0)","v":0},{"$f":"IFERROR($E190*SUMIF('Daily Log'!#REF!,$B190,'Daily Log'!#REF!),0)","v":0},{"$f":"IFERROR($E190*SUMIF('Daily Log'!#REF!,$B190,'Daily Log'!#REF!),0)","v":0},{"$f":"IFERROR($E190*SUMIF('Daily Log'!#REF!,$B190,'Daily Log'!#REF!),0)","v":0},{"$f":"IFERROR($E190*SUMIF('Daily Log'!#REF!,$B190,'Daily Log'!#REF!),0)","v":0},{"$f":"IFERROR($E190*SUMIF('Daily Log'!#REF!,$B190,'Daily Log'!#REF!),0)","v":0}]
[null,"DF14 ADD SAUCE TOMATO",null,"SAUCE",1,22,{"$f":"IFERROR($E191*SUMIF('Daily Log'!$B$18:$B$1017,$B191,'Daily Log'!$C$18:$C$1017),0)","v":0},{"$f":"IFERROR($E191*SUMIF('Daily Log'!$E$18:$E$1017,$B191,'Daily Log'!$F$18:$F$1017),0)","v":0},{"$f":"IFERROR($E191*SUMIF('Daily Log'!$H$18:$H$1017,$B191,'Daily Log'!$I$18:$I$1017),0)","v":0},{"$f":"IFERROR($E191*SUMIF('Daily Log'!$K$18:$K$1017,$B191,'Daily Log'!$L$18:$L$1017),0)","v":0},{"$f":"IFERROR($E191*SUMIF('Daily Log'!$N$18:$N$1017,$B191,'Daily Log'!$O$18:$O$1017),0)","v":0},{"$f":"IFERROR($E191*SUMIF('Daily Log'!$Q$18:$Q$1017,$B191,'Daily Log'!$R$18:$R$1017),0)","v":4},{"$f":"IFERROR($E191*SUMIF('Daily Log'!$T$18:$T$1017,$B191,'Daily Log'!$U$18:$U$1017),0)","v":3},{"$f":"IFERROR($E191*SUMIF('Daily Log'!$W$18:$W$1017,$B191,'Daily Log'!$X$18:$X$1017),0)","v":0},{"$f":"IFERROR($E191*SUMIF('Daily Log'!$Z$18:$Z$1017,$B191,'Daily Log'!$AA$18:$AA$1017),0)","v":1},{"$f":"IFERROR($E191*SUMIF('Daily Log'!$AC$18:$AC$1017,$B191,'Daily Log'!$AD$18:$AD$1017),0)","v":1},{"$f":"IFERROR($E191*SUMIF('Daily Log'!$AF$18:$AF$1017,$B191,'Daily Log'!$AG$18:$AG$1017),0)","v":7},{"$f":"IFERROR($E191*SUMIF('Daily Log'!$AI$18:$AI$1017,$B191,'Daily Log'!$AJ$18:$AJ$1017),0)","v":6},{"$f":"IFERROR($E191*SUMIF('Daily Log'!#REF!,$B191,'Daily Log'!#REF!),0)","v":0},{"$f":"IFERROR($E191*SUMIF('Daily Log'!#REF!,$B191,'Daily Log'!#REF!),0)","v":0},{"$f":"IFERROR($E191*SUMIF('Daily Log'!#REF!,$B191,'Daily Log'!#REF!),0)","v":0},{"$f":"IFERROR($E191*SUMIF('Daily Log'!#REF!,$B191,'Daily Log'!#REF!),0)","v":0},{"$f":"IFERROR($E191*SUMIF('Daily Log'!#REF!,$B191,'Daily Log'!#REF!),0)","v":0},{"$f":"IFERROR($E191*SUMIF('Daily Log'!#REF!,$B191,'Daily Log'!#REF!),0)","v":0},{"$f":"IFERROR($E191*SUMIF('Daily Log'!#REF!,$B191,'Daily Log'!#REF!),0)","v":0},{"$f":"IFERROR($E191*SUMIF('Daily Log'!#REF!,$B191,'Daily Log'!#REF!),0)","v":0},{"$f":"IFERROR($E191*SUMIF('Daily Log'!#REF!,$B191,'Daily Log'!#REF!),0)","v":0},{"$f":"IFERROR($E191*SUMIF('Daily Log'!#REF!,$B191,'Daily Log'!#REF!),0)","v":0},{"$f":"IFERROR($E191*SUMIF('Daily Log'!#REF!,$B191,'Daily Log'!#REF!),0)","v":0},{"$f":"IFERROR($E191*SUMIF('Daily Log'!#REF!,$B191,'Daily Log'!#REF!),0)","v":0},{"$f":"IFERROR($E191*SUMIF('Daily Log'!#REF!,$B191,'Daily Log'!#REF!),0)","v":0},{"$f":"IFERROR($E191*SUMIF('Daily Log'!#REF!,$B191,'Daily Log'!#REF!),0)","v":0},{"$f":"IFERROR($E191*SUMIF('Daily Log'!#REF!,$B191,'Daily Log'!#REF!),0)","v":0},{"$f":"IFERROR($E191*SUMIF('Daily Log'!#REF!,$B191,'Daily Log'!#REF!),0)","v":0},{"$f":"IFERROR($E191*SUMIF('Daily Log'!#REF!,$B191,'Daily Log'!#REF!),0)","v":0},{"$f":"IFERROR($E191*SUMIF('Daily Log'!#REF!,$B191,'Daily Log'!#REF!),0)","v":0},{"$f":"IFERROR($E191*SUMIF('Daily Log'!#REF!,$B191,'Daily Log'!#REF!),0)","v":0}]
[null,"DF15 ADD TATA SAUCE",null,"SAUCE",1,3,{"$f":"IFERROR($E192*SUMIF('Daily Log'!$B$18:$B$1017,$B192,'Daily Log'!$C$18:$C$1017),0)","v":0},{"$f":"IFERROR($E192*SUMIF('Daily Log'!$E$18:$E$1017,$B192,'Daily Log'!$F$18:$F$1017),0)","v":0},{"$f":"IFERROR($E192*SUMIF('Daily Log'!$H$18:$H$1017,$B192,'Daily Log'!$I$18:$I$1017),0)","v":0},{"$f":"IFERROR($E192*SUMIF('Daily Log'!$K$18:$K$1017,$B192,'Daily Log'!$L$18:$L$1017),0)","v":0},{"$f":"IFERROR($E192*SUMIF('Daily Log'!$N$18:$N$1017,$B192,'Daily Log'!$O$18:$O$1017),0)","v":0},{"$f":"IFERROR($E192*SUMIF('Daily Log'!$Q$18:$Q$1017,$B192,'Daily Log'!$R$18:$R$1017),0)","v":3},{"$f":"IFERROR($E192*SUMIF('Daily Log'!$T$18:$T$1017,$B192,'Daily Log'!$U$18:$U$1017),0)","v":0},{"$f":"IFERROR($E192*SUMIF('Daily Log'!$W$18:$W$1017,$B192,'Daily Log'!$X$18:$X$1017),0)","v":0},{"$f":"IFERROR($E192*SUMIF('Daily Log'!$Z$18:$Z$1017,$B192,'Daily Log'!$AA$18:$AA$1017),0)","v":0},{"$f":"IFERROR($E192*SUMIF('Daily Log'!$AC$18:$AC$1017,$B192,'Daily Log'!$AD$18:$AD$1017),0)","v":0},{"$f":"IFERROR($E192*SUMIF('Daily Log'!$AF$18:$AF$1017,$B192,'Daily Log'!$AG$18:$AG$1017),0)","v":0},{"$f":"IFERROR($E192*SUMIF('Daily Log'!$AI$18:$AI$1017,$B192,'Daily Log'!$AJ$18:$AJ$1017),0)","v":0},{"$f":"IFERROR($E192*SUMIF('Daily Log'!#REF!,$B192,'Daily Log'!#REF!),0)","v":0},{"$f":"IFERROR($E192*SUMIF('Daily Log'!#REF!,$B192,'Daily Log'!#REF!),0)","v":0},{"$f":"IFERROR($E192*SUMIF('Daily Log'!#REF!,$B192,'Daily Log'!#REF!),0)","v":0},{"$f":"IFERROR($E192*SUMIF('Daily Log'!#REF!,$B192,'Daily Log'!#REF!),0)","v":0},{"$f":"IFERROR($E192*SUMIF('Daily Log'!#REF!,$B192,'Daily Log'!#REF!),0)","v":0},{"$f":"IFERROR($E192*SUMIF('Daily Log'!#REF!,$B192,'Daily Log'!#REF!),0)","v":0},{"$f":"IFERROR($E192*SUMIF('Daily Log'!#REF!,$B192,'Daily Log'!#REF!),0)","v":0},{"$f":"IFERROR($E192*SUMIF('Daily Log'!#REF!,$B192,'Daily Log'!#REF!),0)","v":0},{"$f":"IFERROR($E192*SUMIF('Daily Log'!#REF!,$B192,'Daily Log'!#REF!),0)","v":0},{"$f":"IFERROR($E192*SUMIF('Daily Log'!#REF!,$B192,'Daily Log'!#REF!),0)","v":0},{"$f":"IFERROR($E192*SUMIF('Daily Log'!#REF!,$B192,'Daily Log'!#REF!),0)","v":0},{"$f":"IFERROR($E192*SUMIF('Daily Log'!#REF!,$B192,'Daily Log'!#REF!),0)","v":0},{"$f":"IFERROR($E192*SUMIF('Daily Log'!#REF!,$B192,'Daily Log'!#REF!),0)","v":0},{"$f":"IFERROR($E192*SUMIF('Daily Log'!#REF!,$B192,'Daily Log'!#REF!),0)","v":0},{"$f":"IFERROR($E192*SUMIF('Daily Log'!#REF!,$B192,'Daily Log'!#REF!),0)","v":0},{"$f":"IFERROR($E192*SUMIF('Daily Log'!#REF!,$B192,'Daily Log'!#REF!),0)","v":0},{"$f":"IFERROR($E192*SUMIF('Daily Log'!#REF!,$B192,'Daily Log'!#REF!),0)","v":0},{"$f":"IFERROR($E192*SUMIF('Daily Log'!#REF!,$B192,'Daily Log'!#REF!),0)","v":0},{"$f":"IFERROR($E192*SUMIF('Daily Log'!#REF!,$B192,'Daily Log'!#REF!),0)","v":0}]
[null,"DF16 ADD SAUCE CHEES",null,"SAUCE",1,2,{"$f":"IFERROR($E193*SUMIF('Daily Log'!$B$18:$B$1017,$B193,'Daily Log'!$C$18:$C$1017),0)","v":0},{"$f":"IFERROR($E193*SUMIF('Daily Log'!$E$18:$E$1017,$B193,'Daily Log'!$F$18:$F$1017),0)","v":0},{"$f":"IFERROR($E193*SUMIF('Daily Log'!$H$18:$H$1017,$B193,'Daily Log'!$I$18:$I$1017),0)","v":0},{"$f":"IFERROR($E193*SUMIF('Daily Log'!$K$18:$K$1017,$B193,'Daily Log'!$L$18:$L$1017),0)","v":0},{"$f":"IFERROR($E193*SUMIF('Daily Log'!$N$18:$N$1017,$B193,'Daily Log'!$O$18:$O$1017),0)","v":0},{"$f":"IFERROR($E193*SUMIF('Daily Log'!$Q$18:$Q$1017,$B193,'Daily Log'!$R$18:$R$1017),0)","v":2},{"$f":"IFERROR($E193*SUMIF('Daily Log'!$T$18:$T$1017,$B193,'Daily Log'!$U$18:$U$1017),0)","v":0},{"$f":"IFERROR($E193*SUMIF('Daily Log'!$W$18:$W$1017,$B193,'Daily Log'!$X$18:$X$1017),0)","v":0},{"$f":"IFERROR($E193*SUMIF('Daily Log'!$Z$18:$Z$1017,$B193,'Daily Log'!$AA$18:$AA$1017),0)","v":0},{"$f":"IFERROR($E193*SUMIF('Daily Log'!$AC$18:$AC$1017,$B193,'Daily Log'!$AD$18:$AD$1017),0)","v":0},{"$f":"IFERROR($E193*SUMIF('Daily Log'!$AF$18:$AF$1017,$B193,'Daily Log'!$AG$18:$AG$1017),0)","v":0},{"$f":"IFERROR($E193*SUMIF('Daily Log'!$AI$18:$AI$1017,$B193,'Daily Log'!$AJ$18:$AJ$1017),0)","v":0},{"$f":"IFERROR($E193*SUMIF('Daily Log'!#REF!,$B193,'Daily Log'!#REF!),0)","v":0},{"$f":"IFERROR($E193*SUMIF('Daily Log'!#REF!,$B193,'Daily Log'!#REF!),0)","v":0},{"$f":"IFERROR($E193*SUMIF('Daily Log'!#REF!,$B193,'Daily Log'!#REF!),0)","v":0},{"$f":"IFERROR($E193*SUMIF('Daily Log'!#REF!,$B193,'Daily Log'!#REF!),0)","v":0},{"$f":"IFERROR($E193*SUMIF('Daily Log'!#REF!,$B193,'Daily Log'!#REF!),0)","v":0},{"$f":"IFERROR($E193*SUMIF('Daily Log'!#REF!,$B193,'Daily Log'!#REF!),0)","v":0},{"$f":"IFERROR($E193*SUMIF('Daily Log'!#REF!,$B193,'Daily Log'!#REF!),0)","v":0},{"$f":"IFERROR($E193*SUMIF('Daily Log'!#REF!,$B193,'Daily Log'!#REF!),0)","v":0},{"$f":"IFERROR($E193*SUMIF('Daily Log'!#REF!,$B193,'Daily Log'!#REF!),0)","v":0},{"$f":"IFERROR($E193*SUMIF('Daily Log'!#REF!,$B193,'Daily Log'!#REF!),0)","v":0},{"$f":"IFERROR($E193*SUMIF('Daily Log'!#REF!,$B193,'Daily Log'!#REF!),0)","v":0},{"$f":"IFERROR($E193*SUMIF('Daily Log'!#REF!,$B193,'Daily Log'!#REF!),0)","v":0},{"$f":"IFERROR($E193*SUMIF('Daily Log'!#REF!,$B193,'Daily Log'!#REF!),0)","v":0},{"$f":"IFERROR($E193*SUMIF('Daily Log'!#REF!,$B193,'Daily Log'!#REF!),0)","v":0},{"$f":"IFERROR($E193*SUMIF('Daily Log'!#REF!,$B193,'Daily Log'!#REF!),0)","v":0},{"$f":"IFERROR($E193*SUMIF('Daily Log'!#REF!,$B193,'Daily Log'!#REF!),0)","v":0},{"$f":"IFERROR($E193*SUMIF('Daily Log'!#REF!,$B193,'Daily Log'!#REF!),0)","v":0},{"$f":"IFERROR($E193*SUMIF('Daily Log'!#REF!,$B193,'Daily Log'!#REF!),0)","v":0},{"$f":"IFERROR($E193*SUMIF('Daily Log'!#REF!,$B193,'Daily Log'!#REF!),0)","v":0}]
[null,"DG01 91001:BP CHK CP",null,"KLKD-WESTERN CRUISE ",1,46,{"$f":"IFERROR($E194*SUMIF('Daily Log'!$B$18:$B$1017,$B194,'Daily Log'!$C$18:$C$1017),0)","v":0},{"$f":"IFERROR($E194*SUMIF('Daily Log'!$E$18:$E$1017,$B194,'Daily Log'!$F$18:$F$1017),0)","v":0},{"$f":"IFERROR($E194*SUMIF('Daily Log'!$H$18:$H$1017,$B194,'Daily Log'!$I$18:$I$1017),0)","v":0},{"$f":"IFERROR($E194*SUMIF('Daily Log'!$K$18:$K$1017,$B194,'Daily Log'!$L$18:$L$1017),0)","v":0},{"$f":"IFERROR($E194*SUMIF('Daily Log'!$N$18:$N$1017,$B194,'Daily Log'!$O$18:$O$1017),0)","v":0},{"$f":"IFERROR($E194*SUMIF('Daily Log'!$Q$18:$Q$1017,$B194,'Daily Log'!$R$18:$R$1017),0)","v":6},{"$f":"IFERROR($E194*SUMIF('Daily Log'!$T$18:$T$1017,$B194,'Daily Log'!$U$18:$U$1017),0)","v":6},{"$f":"IFERROR($E194*SUMIF('Daily Log'!$W$18:$W$1017,$B194,'Daily Log'!$X$18:$X$1017),0)","v":0},{"$f":"IFERROR($E194*SUMIF('Daily Log'!$Z$18:$Z$1017,$B194,'Daily Log'!$AA$18:$AA$1017),0)","v":7},{"$f":"IFERROR($E194*SUMIF('Daily Log'!$AC$18:$AC$1017,$B194,'Daily Log'!$AD$18:$AD$1017),0)","v":4},{"$f":"IFERROR($E194*SUMIF('Daily Log'!$AF$18:$AF$1017,$B194,'Daily Log'!$AG$18:$AG$1017),0)","v":6},{"$f":"IFERROR($E194*SUMIF('Daily Log'!$AI$18:$AI$1017,$B194,'Daily Log'!$AJ$18:$AJ$1017),0)","v":17},{"$f":"IFERROR($E194*SUMIF('Daily Log'!#REF!,$B194,'Daily Log'!#REF!),0)","v":0},{"$f":"IFERROR($E194*SUMIF('Daily Log'!#REF!,$B194,'Daily Log'!#REF!),0)","v":0},{"$f":"IFERROR($E194*SUMIF('Daily Log'!#REF!,$B194,'Daily Log'!#REF!),0)","v":0},{"$f":"IFERROR($E194*SUMIF('Daily Log'!#REF!,$B194,'Daily Log'!#REF!),0)","v":0},{"$f":"IFERROR($E194*SUMIF('Daily Log'!#REF!,$B194,'Daily Log'!#REF!),0)","v":0},{"$f":"IFERROR($E194*SUMIF('Daily Log'!#REF!,$B194,'Daily Log'!#REF!),0)","v":0},{"$f":"IFERROR($E194*SUMIF('Daily Log'!#REF!,$B194,'Daily Log'!#REF!),0)","v":0},{"$f":"IFERROR($E194*SUMIF('Daily Log'!#REF!,$B194,'Daily Log'!#REF!),0)","v":0},{"$f":"IFERROR($E194*SUMIF('Daily Log'!#REF!,$B194,'Daily Log'!#REF!),0)","v":0},{"$f":"IFERROR($E194*SUMIF('Daily Log'!#REF!,$B194,'Daily Log'!#REF!),0)","v":0},{"$f":"IFERROR($E194*SUMIF('Daily Log'!#REF!,$B194,'Daily Log'!#REF!),0)","v":0},{"$f":"IFERROR($E194*SUMIF('Daily Log'!#REF!,$B194,'Daily Log'!#REF!),0)","v":0},{"$f":"IFERROR($E194*SUMIF('Daily Log'!#REF!,$B194,'Daily Log'!#REF!),0)","v":0},{"$f":"IFERROR($E194*SUMIF('Daily Log'!#REF!,$B194,'Daily Log'!#REF!),0)","v":0},{"$f":"IFERROR($E194*SUMIF('Daily Log'!#REF!,$B194,'Daily Log'!#REF!),0)","v":0},{"$f":"IFERROR($E194*SUMIF('Daily Log'!#REF!,$B194,'Daily Log'!#REF!),0)","v":0},{"$f":"IFERROR($E194*SUMIF('Daily Log'!#REF!,$B194,'Daily Log'!#REF!),0)","v":0},{"$f":"IFERROR($E194*SUMIF('Daily Log'!#REF!,$B194,'Daily Log'!#REF!),0)","v":0},{"$f":"IFERROR($E194*SUMIF('Daily Log'!#REF!,$B194,'Daily Log'!#REF!),0)","v":0}]
[null,"DG02 91002:GVY CHK CP",null,"KLKD-WESTERN CRUISE ",1,12,{"$f":"IFERROR($E195*SUMIF('Daily Log'!$B$18:$B$1017,$B195,'Daily Log'!$C$18:$C$1017),0)","v":0},{"$f":"IFERROR($E195*SUMIF('Daily Log'!$E$18:$E$1017,$B195,'Daily Log'!$F$18:$F$1017),0)","v":0},{"$f":"IFERROR($E195*SUMIF('Daily Log'!$H$18:$H$1017,$B195,'Daily Log'!$I$18:$I$1017),0)","v":0},{"$f":"IFERROR($E195*SUMIF('Daily Log'!$K$18:$K$1017,$B195,'Daily Log'!$L$18:$L$1017),0)","v":0},{"$f":"IFERROR($E195*SUMIF('Daily Log'!$N$18:$N$1017,$B195,'Daily Log'!$O$18:$O$1017),0)","v":0},{"$f":"IFERROR($E195*SUMIF('Daily Log'!$Q$18:$Q$1017,$B195,'Daily Log'!$R$18:$R$1017),0)","v":1},{"$f":"IFERROR($E195*SUMIF('Daily Log'!$T$18:$T$1017,$B195,'Daily Log'!$U$18:$U$1017),0)","v":1},{"$f":"IFERROR($E195*SUMIF('Daily Log'!$W$18:$W$1017,$B195,'Daily Log'!$X$18:$X$1017),0)","v":1},{"$f":"IFERROR($E195*SUMIF('Daily Log'!$Z$18:$Z$1017,$B195,'Daily Log'!$AA$18:$AA$1017),0)","v":1},{"$f":"IFERROR($E195*SUMIF('Daily Log'!$AC$18:$AC$1017,$B195,'Daily Log'!$AD$18:$AD$1017),0)","v":1},{"$f":"IFERROR($E195*SUMIF('Daily Log'!$AF$18:$AF$1017,$B195,'Daily Log'!$AG$18:$AG$1017),0)","v":5},{"$f":"IFERROR($E195*SUMIF('Daily Log'!$AI$18:$AI$1017,$B195,'Daily Log'!$AJ$18:$AJ$1017),0)","v":2},{"$f":"IFERROR($E195*SUMIF('Daily Log'!#REF!,$B195,'Daily Log'!#REF!),0)","v":0},{"$f":"IFERROR($E195*SUMIF('Daily Log'!#REF!,$B195,'Daily Log'!#REF!),0)","v":0},{"$f":"IFERROR($E195*SUMIF('Daily Log'!#REF!,$B195,'Daily Log'!#REF!),0)","v":0},{"$f":"IFERROR($E195*SUMIF('Daily Log'!#REF!,$B195,'Daily Log'!#REF!),0)","v":0},{"$f":"IFERROR($E195*SUMIF('Daily Log'!#REF!,$B195,'Daily Log'!#REF!),0)","v":0},{"$f":"IFERROR($E195*SUMIF('Daily Log'!#REF!,$B195,'Daily Log'!#REF!),0)","v":0},{"$f":"IFERROR($E195*SUMIF('Daily Log'!#REF!,$B195,'Daily Log'!#REF!),0)","v":0},{"$f":"IFERROR($E195*SUMIF('Daily Log'!#REF!,$B195,'Daily Log'!#REF!),0)","v":0},{"$f":"IFERROR($E195*SUMIF('Daily Log'!#REF!,$B195,'Daily Log'!#REF!),0)","v":0},{"$f":"IFERROR($E195*SUMIF('Daily Log'!#REF!,$B195,'Daily Log'!#REF!),0)","v":0},{"$f":"IFERROR($E195*SUMIF('Daily Log'!#REF!,$B195,'Daily Log'!#REF!),0)","v":0},{"$f":"IFERROR($E195*SUMIF('Daily Log'!#REF!,$B195,'Daily Log'!#REF!),0)","v":0},{"$f":"IFERROR($E195*SUMIF('Daily Log'!#REF!,$B195,'Daily Log'!#REF!),0)","v":0},{"$f":"IFERROR($E195*SUMIF('Daily Log'!#REF!,$B195,'Daily Log'!#REF!),0)","v":0},{"$f":"IFERROR($E195*SUMIF('Daily Log'!#REF!,$B195,'Daily Log'!#REF!),0)","v":0},{"$f":"IFERROR($E195*SUMIF('Daily Log'!#REF!,$B195,'Daily Log'!#REF!),0)","v":0},{"$f":"IFERROR($E195*SUMIF('Daily Log'!#REF!,$B195,'Daily Log'!#REF!),0)","v":0},{"$f":"IFERROR($E195*SUMIF('Daily Log'!#REF!,$B195,'Daily Log'!#REF!),0)","v":0},{"$f":"IFERROR($E195*SUMIF('Daily Log'!#REF!,$B195,'Daily Log'!#REF!),0)","v":0}]
[null,"DG03 91003:MSR CHK CP",null,"KLKD-WESTERN CRUISE ",1,48,{"$f":"IFERROR($E196*SUMIF('Daily Log'!$B$18:$B$1017,$B196,'Daily Log'!$C$18:$C$1017),0)","v":0},{"$f":"IFERROR($E196*SUMIF('Daily Log'!$E$18:$E$1017,$B196,'Daily Log'!$F$18:$F$1017),0)","v":0},{"$f":"IFERROR($E196*SUMIF('Daily Log'!$H$18:$H$1017,$B196,'Daily Log'!$I$18:$I$1017),0)","v":0},{"$f":"IFERROR($E196*SUMIF('Daily Log'!$K$18:$K$1017,$B196,'Daily Log'!$L$18:$L$1017),0)","v":0},{"$f":"IFERROR($E196*SUMIF('Daily Log'!$N$18:$N$1017,$B196,'Daily Log'!$O$18:$O$1017),0)","v":0},{"$f":"IFERROR($E196*SUMIF('Daily Log'!$Q$18:$Q$1017,$B196,'Daily Log'!$R$18:$R$1017),0)","v":10},{"$f":"IFERROR($E196*SUMIF('Daily Log'!$T$18:$T$1017,$B196,'Daily Log'!$U$18:$U$1017),0)","v":6},{"$f":"IFERROR($E196*SUMIF('Daily Log'!$W$18:$W$1017,$B196,'Daily Log'!$X$18:$X$1017),0)","v":3},{"$f":"IFERROR($E196*SUMIF('Daily Log'!$Z$18:$Z$1017,$B196,'Daily Log'!$AA$18:$AA$1017),0)","v":1},{"$f":"IFERROR($E196*SUMIF('Daily Log'!$AC$18:$AC$1017,$B196,'Daily Log'!$AD$18:$AD$1017),0)","v":2},{"$f":"IFERROR($E196*SUMIF('Daily Log'!$AF$18:$AF$1017,$B196,'Daily Log'!$AG$18:$AG$1017),0)","v":17},{"$f":"IFERROR($E196*SUMIF('Daily Log'!$AI$18:$AI$1017,$B196,'Daily Log'!$AJ$18:$AJ$1017),0)","v":9},{"$f":"IFERROR($E196*SUMIF('Daily Log'!#REF!,$B196,'Daily Log'!#REF!),0)","v":0},{"$f":"IFERROR($E196*SUMIF('Daily Log'!#REF!,$B196,'Daily Log'!#REF!),0)","v":0},{"$f":"IFERROR($E196*SUMIF('Daily Log'!#REF!,$B196,'Daily Log'!#REF!),0)","v":0},{"$f":"IFERROR($E196*SUMIF('Daily Log'!#REF!,$B196,'Daily Log'!#REF!),0)","v":0},{"$f":"IFERROR($E196*SUMIF('Daily Log'!#REF!,$B196,'Daily Log'!#REF!),0)","v":0},{"$f":"IFERROR($E196*SUMIF('Daily Log'!#REF!,$B196,'Daily Log'!#REF!),0)","v":0},{"$f":"IFERROR($E196*SUMIF('Daily Log'!#REF!,$B196,'Daily Log'!#REF!),0)","v":0},{"$f":"IFERROR($E196*SUMIF('Daily Log'!#REF!,$B196,'Daily Log'!#REF!),0)","v":0},{"$f":"IFERROR($E196*SUMIF('Daily Log'!#REF!,$B196,'Daily Log'!#REF!),0)","v":0},{"$f":"IFERROR($E196*SUMIF('Daily Log'!#REF!,$B196,'Daily Log'!#REF!),0)","v":0},{"$f":"IFERROR($E196*SUMIF('Daily Log'!#REF!,$B196,'Daily Log'!#REF!),0)","v":0},{"$f":"IFERROR($E196*SUMIF('Daily Log'!#REF!,$B196,'Daily Log'!#REF!),0)","v":0},{"$f":"IFERROR($E196*SUMIF('Daily Log'!#REF!,$B196,'Daily Log'!#REF!),0)","v":0},{"$f":"IFERROR($E196*SUMIF('Daily Log'!#REF!,$B196,'Daily Log'!#REF!),0)","v":0},{"$f":"IFERROR($E196*SUMIF('Daily Log'!#REF!,$B196,'Daily Log'!#REF!),0)","v":0},{"$f":"IFERROR($E196*SUMIF('Daily Log'!#REF!,$B196,'Daily Log'!#REF!),0)","v":0},{"$f":"IFERROR($E196*SUMIF('Daily Log'!#REF!,$B196,'Daily Log'!#REF!),0)","v":0},{"$f":"IFERROR($E196*SUMIF('Daily Log'!#REF!,$B196,'Daily Log'!#REF!),0)","v":0},{"$f":"IFERROR($E196*SUMIF('Daily Log'!#REF!,$B196,'Daily Log'!#REF!),0)","v":0}]
[null,"DG04 91004:CKN MARY",null,"KLKD-WESTERN CRUISE ",1,26,{"$f":"IFERROR($E197*SUMIF('Daily Log'!$B$18:$B$1017,$B197,'Daily Log'!$C$18:$C$1017),0)","v":0},{"$f":"IFERROR($E197*SUMIF('Daily Log'!$E$18:$E$1017,$B197,'Daily Log'!$F$18:$F$1017),0)","v":0},{"$f":"IFERROR($E197*SUMIF('Daily Log'!$H$18:$H$1017,$B197,'Daily Log'!$I$18:$I$1017),0)","v":0},{"$f":"IFERROR($E197*SUMIF('Daily Log'!$K$18:$K$1017,$B197,'Daily Log'!$L$18:$L$1017),0)","v":0},{"$f":"IFERROR($E197*SUMIF('Daily Log'!$N$18:$N$1017,$B197,'Daily Log'!$O$18:$O$1017),0)","v":0},{"$f":"IFERROR($E197*SUMIF('Daily Log'!$Q$18:$Q$1017,$B197,'Daily Log'!$R$18:$R$1017),0)","v":2},{"$f":"IFERROR($E197*SUMIF('Daily Log'!$T$18:$T$1017,$B197,'Daily Log'!$U$18:$U$1017),0)","v":3},{"$f":"IFERROR($E197*SUMIF('Daily Log'!$W$18:$W$1017,$B197,'Daily Log'!$X$18:$X$1017),0)","v":3},{"$f":"IFERROR($E197*SUMIF('Daily Log'!$Z$18:$Z$1017,$B197,'Daily Log'!$AA$18:$AA$1017),0)","v":8},{"$f":"IFERROR($E197*SUMIF('Daily Log'!$AC$18:$AC$1017,$B197,'Daily Log'!$AD$18:$AD$1017),0)","v":2},{"$f":"IFERROR($E197*SUMIF('Daily Log'!$AF$18:$AF$1017,$B197,'Daily Log'!$AG$18:$AG$1017),0)","v":2},{"$f":"IFERROR($E197*SUMIF('Daily Log'!$AI$18:$AI$1017,$B197,'Daily Log'!$AJ$18:$AJ$1017),0)","v":6},{"$f":"IFERROR($E197*SUMIF('Daily Log'!#REF!,$B197,'Daily Log'!#REF!),0)","v":0},{"$f":"IFERROR($E197*SUMIF('Daily Log'!#REF!,$B197,'Daily Log'!#REF!),0)","v":0},{"$f":"IFERROR($E197*SUMIF('Daily Log'!#REF!,$B197,'Daily Log'!#REF!),0)","v":0},{"$f":"IFERROR($E197*SUMIF('Daily Log'!#REF!,$B197,'Daily Log'!#REF!),0)","v":0},{"$f":"IFERROR($E197*SUMIF('Daily Log'!#REF!,$B197,'Daily Log'!#REF!),0)","v":0},{"$f":"IFERROR($E197*SUMIF('Daily Log'!#REF!,$B197,'Daily Log'!#REF!),0)","v":0},{"$f":"IFERROR($E197*SUMIF('Daily Log'!#REF!,$B197,'Daily Log'!#REF!),0)","v":0},{"$f":"IFERROR($E197*SUMIF('Daily Log'!#REF!,$B197,'Daily Log'!#REF!),0)","v":0},{"$f":"IFERROR($E197*SUMIF('Daily Log'!#REF!,$B197,'Daily Log'!#REF!),0)","v":0},{"$f":"IFERROR($E197*SUMIF('Daily Log'!#REF!,$B197,'Daily Log'!#REF!),0)","v":0},{"$f":"IFERROR($E197*SUMIF('Daily Log'!#REF!,$B197,'Daily Log'!#REF!),0)","v":0},{"$f":"IFERROR($E197*SUMIF('Daily Log'!#REF!,$B197,'Daily Log'!#REF!),0)","v":0},{"$f":"IFERROR($E197*SUMIF('Daily Log'!#REF!,$B197,'Daily Log'!#REF!),0)","v":0},{"$f":"IFERROR($E197*SUMIF('Daily Log'!#REF!,$B197,'Daily Log'!#REF!),0)","v":0},{"$f":"IFERROR($E197*SUMIF('Daily Log'!#REF!,$B197,'Daily Log'!#REF!),0)","v":0},{"$f":"IFERROR($E197*SUMIF('Daily Log'!#REF!,$B197,'Daily Log'!#REF!),0)","v":0},{"$f":"IFERROR($E197*SUMIF('Daily Log'!#REF!,$B197,'Daily Log'!#REF!),0)","v":0},{"$f":"IFERROR($E197*SUMIF('Daily Log'!#REF!,$B197,'Daily Log'!#REF!),0)","v":0},{"$f":"IFERROR($E197*SUMIF('Daily Log'!#REF!,$B197,'Daily Log'!#REF!),0)","v":0}]
[null,"DG05 91005:FISH&CHIP",null,"KLKD-WESTERN CRUISE ",1,36,{"$f":"IFERROR($E198*SUMIF('Daily Log'!$B$18:$B$1017,$B198,'Daily Log'!$C$18:$C$1017),0)","v":0},{"$f":"IFERROR($E198*SUMIF('Daily Log'!$E$18:$E$1017,$B198,'Daily Log'!$F$18:$F$1017),0)","v":0},{"$f":"IFERROR($E198*SUMIF('Daily Log'!$H$18:$H$1017,$B198,'Daily Log'!$I$18:$I$1017),0)","v":0},{"$f":"IFERROR($E198*SUMIF('Daily Log'!$K$18:$K$1017,$B198,'Daily Log'!$L$18:$L$1017),0)","v":0},{"$f":"IFERROR($E198*SUMIF('Daily Log'!$N$18:$N$1017,$B198,'Daily Log'!$O$18:$O$1017),0)","v":0},{"$f":"IFERROR($E198*SUMIF('Daily Log'!$Q$18:$Q$1017,$B198,'Daily Log'!$R$18:$R$1017),0)","v":8},{"$f":"IFERROR($E198*SUMIF('Daily Log'!$T$18:$T$1017,$B198,'Daily Log'!$U$18:$U$1017),0)","v":1},{"$f":"IFERROR($E198*SUMIF('Daily Log'!$W$18:$W$1017,$B198,'Daily Log'!$X$18:$X$1017),0)","v":1},{"$f":"IFERROR($E198*SUMIF('Daily Log'!$Z$18:$Z$1017,$B198,'Daily Log'!$AA$18:$AA$1017),0)","v":8},{"$f":"IFERROR($E198*SUMIF('Daily Log'!$AC$18:$AC$1017,$B198,'Daily Log'!$AD$18:$AD$1017),0)","v":4},{"$f":"IFERROR($E198*SUMIF('Daily Log'!$AF$18:$AF$1017,$B198,'Daily Log'!$AG$18:$AG$1017),0)","v":2},{"$f":"IFERROR($E198*SUMIF('Daily Log'!$AI$18:$AI$1017,$B198,'Daily Log'!$AJ$18:$AJ$1017),0)","v":12},{"$f":"IFERROR($E198*SUMIF('Daily Log'!#REF!,$B198,'Daily Log'!#REF!),0)","v":0},{"$f":"IFERROR($E198*SUMIF('Daily Log'!#REF!,$B198,'Daily Log'!#REF!),0)","v":0},{"$f":"IFERROR($E198*SUMIF('Daily Log'!#REF!,$B198,'Daily Log'!#REF!),0)","v":0},{"$f":"IFERROR($E198*SUMIF('Daily Log'!#REF!,$B198,'Daily Log'!#REF!),0)","v":0},{"$f":"IFERROR($E198*SUMIF('Daily Log'!#REF!,$B198,'Daily Log'!#REF!),0)","v":0},{"$f":"IFERROR($E198*SUMIF('Daily Log'!#REF!,$B198,'Daily Log'!#REF!),0)","v":0},{"$f":"IFERROR($E198*SUMIF('Daily Log'!#REF!,$B198,'Daily Log'!#REF!),0)","v":0},{"$f":"IFERROR($E198*SUMIF('Daily Log'!#REF!,$B198,'Daily Log'!#REF!),0)","v":0},{"$f":"IFERROR($E198*SUMIF('Daily Log'!#REF!,$B198,'Daily Log'!#REF!),0)","v":0},{"$f":"IFERROR($E198*SUMIF('Daily Log'!#REF!,$B198,'Daily Log'!#REF!),0)","v":0},{"$f":"IFERROR($E198*SUMIF('Daily Log'!#REF!,$B198,'Daily Log'!#REF!),0)","v":0},{"$f":"IFERROR($E198*SUMIF('Daily Log'!#REF!,$B198,'Daily Log'!#REF!),0)","v":0},{"$f":"IFERROR($E198*SUMIF('Daily Log'!#REF!,$B198,'Daily Log'!#REF!),0)","v":0},{"$f":"IFERROR($E198*SUMIF('Daily Log'!#REF!,$B198,'Daily Log'!#REF!),0)","v":0},{"$f":"IFERROR($E198*SUMIF('Daily Log'!#REF!,$B198,'Daily Log'!#REF!),0)","v":0},{"$f":"IFERROR($E198*SUMIF('Daily Log'!#REF!,$B198,'Daily Log'!#REF!),0)","v":0},{"$f":"IFERROR($E198*SUMIF('Daily Log'!#REF!,$B198,'Daily Log'!#REF!),0)","v":0},{"$f":"IFERROR($E198*SUMIF('Daily Log'!#REF!,$B198,'Daily Log'!#REF!),0)","v":0},{"$f":"IFERROR($E198*SUMIF('Daily Log'!#REF!,$B198,'Daily Log'!#REF!),0)","v":0}]
[null,"DG06 91006:SPAGHETTI",null,"KLKD-WESTERN CRUISE ",1,29,{"$f":"IFERROR($E199*SUMIF('Daily Log'!$B$18:$B$1017,$B199,'Daily Log'!$C$18:$C$1017),0)","v":0},{"$f":"IFERROR($E199*SUMIF('Daily Log'!$E$18:$E$1017,$B199,'Daily Log'!$F$18:$F$1017),0)","v":0},{"$f":"IFERROR($E199*SUMIF('Daily Log'!$H$18:$H$1017,$B199,'Daily Log'!$I$18:$I$1017),0)","v":0},{"$f":"IFERROR($E199*SUMIF('Daily Log'!$K$18:$K$1017,$B199,'Daily Log'!$L$18:$L$1017),0)","v":0},{"$f":"IFERROR($E199*SUMIF('Daily Log'!$N$18:$N$1017,$B199,'Daily Log'!$O$18:$O$1017),0)","v":0},{"$f":"IFERROR($E199*SUMIF('Daily Log'!$Q$18:$Q$1017,$B199,'Daily Log'!$R$18:$R$1017),0)","v":6},{"$f":"IFERROR($E199*SUMIF('Daily Log'!$T$18:$T$1017,$B199,'Daily Log'!$U$18:$U$1017),0)","v":4},{"$f":"IFERROR($E199*SUMIF('Daily Log'!$W$18:$W$1017,$B199,'Daily Log'!$X$18:$X$1017),0)","v":4},{"$f":"IFERROR($E199*SUMIF('Daily Log'!$Z$18:$Z$1017,$B199,'Daily Log'!$AA$18:$AA$1017),0)","v":1},{"$f":"IFERROR($E199*SUMIF('Daily Log'!$AC$18:$AC$1017,$B199,'Daily Log'!$AD$18:$AD$1017),0)","v":1},{"$f":"IFERROR($E199*SUMIF('Daily Log'!$AF$18:$AF$1017,$B199,'Daily Log'!$AG$18:$AG$1017),0)","v":5},{"$f":"IFERROR($E199*SUMIF('Daily Log'!$AI$18:$AI$1017,$B199,'Daily Log'!$AJ$18:$AJ$1017),0)","v":8},{"$f":"IFERROR($E199*SUMIF('Daily Log'!#REF!,$B199,'Daily Log'!#REF!),0)","v":0},{"$f":"IFERROR($E199*SUMIF('Daily Log'!#REF!,$B199,'Daily Log'!#REF!),0)","v":0},{"$f":"IFERROR($E199*SUMIF('Daily Log'!#REF!,$B199,'Daily Log'!#REF!),0)","v":0},{"$f":"IFERROR($E199*SUMIF('Daily Log'!#REF!,$B199,'Daily Log'!#REF!),0)","v":0},{"$f":"IFERROR($E199*SUMIF('Daily Log'!#REF!,$B199,'Daily Log'!#REF!),0)","v":0},{"$f":"IFERROR($E199*SUMIF('Daily Log'!#REF!,$B199,'Daily Log'!#REF!),0)","v":0},{"$f":"IFERROR($E199*SUMIF('Daily Log'!#REF!,$B199,'Daily Log'!#REF!),0)","v":0},{"$f":"IFERROR($E199*SUMIF('Daily Log'!#REF!,$B199,'Daily Log'!#REF!),0)","v":0},{"$f":"IFERROR($E199*SUMIF('Daily Log'!#REF!,$B199,'Daily Log'!#REF!),0)","v":0},{"$f":"IFERROR($E199*SUMIF('Daily Log'!#REF!,$B199,'Daily Log'!#REF!),0)","v":0},{"$f":"IFERROR($E199*SUMIF('Daily Log'!#REF!,$B199,'Daily Log'!#REF!),0)","v":0},{"$f":"IFERROR($E199*SUMIF('Daily Log'!#REF!,$B199,'Daily Log'!#REF!),0)","v":0},{"$f":"IFERROR($E199*SUMIF('Daily Log'!#REF!,$B199,'Daily Log'!#REF!),0)","v":0},{"$f":"IFERROR($E199*SUMIF('Daily Log'!#REF!,$B199,'Daily Log'!#REF!),0)","v":0},{"$f":"IFERROR($E199*SUMIF('Daily Log'!#REF!,$B199,'Daily Log'!#REF!),0)","v":0},{"$f":"IFERROR($E199*SUMIF('Daily Log'!#REF!,$B199,'Daily Log'!#REF!),0)","v":0},{"$f":"IFERROR($E199*SUMIF('Daily Log'!#REF!,$B199,'Daily Log'!#REF!),0)","v":0},{"$f":"IFERROR($E199*SUMIF('Daily Log'!#REF!,$B199,'Daily Log'!#REF!),0)","v":0},{"$f":"IFERROR($E199*SUMIF('Daily Log'!#REF!,$B199,'Daily Log'!#REF!),0)","v":0}]
[null,"DG07 91007:CHK SALAD",null,"KLKD-WESTERN CRUISE ",1,13,{"$f":"IFERROR($E200*SUMIF('Daily Log'!$B$18:$B$1017,$B200,'Daily Log'!$C$18:$C$1017),0)","v":0},{"$f":"IFERROR($E200*SUMIF('Daily Log'!$E$18:$E$1017,$B200,'Daily Log'!$F$18:$F$1017),0)","v":0},{"$f":"IFERROR($E200*SUMIF('Daily Log'!$H$18:$H$1017,$B200,'Daily Log'!$I$18:$I$1017),0)","v":0},{"$f":"IFERROR($E200*SUMIF('Daily Log'!$K$18:$K$1017,$B200,'Daily Log'!$L$18:$L$1017),0)","v":0},{"$f":"IFERROR($E200*SUMIF('Daily Log'!$N$18:$N$1017,$B200,'Daily Log'!$O$18:$O$1017),0)","v":0},{"$f":"IFERROR($E200*SUMIF('Daily Log'!$Q$18:$Q$1017,$B200,'Daily Log'!$R$18:$R$1017),0)","v":5},{"$f":"IFERROR($E200*SUMIF('Daily Log'!$T$18:$T$1017,$B200,'Daily Log'!$U$18:$U$1017),0)","v":1},{"$f":"IFERROR($E200*SUMIF('Daily Log'!$W$18:$W$1017,$B200,'Daily Log'!$X$18:$X$1017),0)","v":0},{"$f":"IFERROR($E200*SUMIF('Daily Log'!$Z$18:$Z$1017,$B200,'Daily Log'!$AA$18:$AA$1017),0)","v":0},{"$f":"IFERROR($E200*SUMIF('Daily Log'!$AC$18:$AC$1017,$B200,'Daily Log'!$AD$18:$AD$1017),0)","v":3},{"$f":"IFERROR($E200*SUMIF('Daily Log'!$AF$18:$AF$1017,$B200,'Daily Log'!$AG$18:$AG$1017),0)","v":2},{"$f":"IFERROR($E200*SUMIF('Daily Log'!$AI$18:$AI$1017,$B200,'Daily Log'!$AJ$18:$AJ$1017),0)","v":2},{"$f":"IFERROR($E200*SUMIF('Daily Log'!#REF!,$B200,'Daily Log'!#REF!),0)","v":0},{"$f":"IFERROR($E200*SUMIF('Daily Log'!#REF!,$B200,'Daily Log'!#REF!),0)","v":0},{"$f":"IFERROR($E200*SUMIF('Daily Log'!#REF!,$B200,'Daily Log'!#REF!),0)","v":0},{"$f":"IFERROR($E200*SUMIF('Daily Log'!#REF!,$B200,'Daily Log'!#REF!),0)","v":0},{"$f":"IFERROR($E200*SUMIF('Daily Log'!#REF!,$B200,'Daily Log'!#REF!),0)","v":0},{"$f":"IFERROR($E200*SUMIF('Daily Log'!#REF!,$B200,'Daily Log'!#REF!),0)","v":0},{"$f":"IFERROR($E200*SUMIF('Daily Log'!#REF!,$B200,'Daily Log'!#REF!),0)","v":0},{"$f":"IFERROR($E200*SUMIF('Daily Log'!#REF!,$B200,'Daily Log'!#REF!),0)","v":0},{"$f":"IFERROR($E200*SUMIF('Daily Log'!#REF!,$B200,'Daily Log'!#REF!),0)","v":0},{"$f":"IFERROR($E200*SUMIF('Daily Log'!#REF!,$B200,'Daily Log'!#REF!),0)","v":0},{"$f":"IFERROR($E200*SUMIF('Daily Log'!#REF!,$B200,'Daily Log'!#REF!),0)","v":0},{"$f":"IFERROR($E200*SUMIF('Daily Log'!#REF!,$B200,'Daily Log'!#REF!),0)","v":0},{"$f":"IFERROR($E200*SUMIF('Daily Log'!#REF!,$B200,'Daily Log'!#REF!),0)","v":0},{"$f":"IFERROR($E200*SUMIF('Daily Log'!#REF!,$B200,'Daily Log'!#REF!),0)","v":0},{"$f":"IFERROR($E200*SUMIF('Daily Log'!#REF!,$B200,'Daily Log'!#REF!),0)","v":0},{"$f":"IFERROR($E200*SUMIF('Daily Log'!#REF!,$B200,'Daily Log'!#REF!),0)","v":0},{"$f":"IFERROR($E200*SUMIF('Daily Log'!#REF!,$B200,'Daily Log'!#REF!),0)","v":0},{"$f":"IFERROR($E200*SUMIF('Daily Log'!#REF!,$B200,'Daily Log'!#REF!),0)","v":0},{"$f":"IFERROR($E200*SUMIF('Daily Log'!#REF!,$B200,'Daily Log'!#REF!),0)","v":0}]
[null,"DH01 91101:THAI CHK",null,"KLKD-LOCAL DELIGHTS",1,10,{"$f":"IFERROR($E201*SUMIF('Daily Log'!$B$18:$B$1017,$B201,'Daily Log'!$C$18:$C$1017),0)","v":0},{"$f":"IFERROR($E201*SUMIF('Daily Log'!$E$18:$E$1017,$B201,'Daily Log'!$F$18:$F$1017),0)","v":0},{"$f":"IFERROR($E201*SUMIF('Daily Log'!$H$18:$H$1017,$B201,'Daily Log'!$I$18:$I$1017),0)","v":0},{"$f":"IFERROR($E201*SUMIF('Daily Log'!$K$18:$K$1017,$B201,'Daily Log'!$L$18:$L$1017),0)","v":0},{"$f":"IFERROR($E201*SUMIF('Daily Log'!$N$18:$N$1017,$B201,'Daily Log'!$O$18:$O$1017),0)","v":0},{"$f":"IFERROR($E201*SUMIF('Daily Log'!$Q$18:$Q$1017,$B201,'Daily Log'!$R$18:$R$1017),0)","v":2},{"$f":"IFERROR($E201*SUMIF('Daily Log'!$T$18:$T$1017,$B201,'Daily Log'!$U$18:$U$1017),0)","v":1},{"$f":"IFERROR($E201*SUMIF('Daily Log'!$W$18:$W$1017,$B201,'Daily Log'!$X$18:$X$1017),0)","v":2},{"$f":"IFERROR($E201*SUMIF('Daily Log'!$Z$18:$Z$1017,$B201,'Daily Log'!$AA$18:$AA$1017),0)","v":1},{"$f":"IFERROR($E201*SUMIF('Daily Log'!$AC$18:$AC$1017,$B201,'Daily Log'!$AD$18:$AD$1017),0)","v":1},{"$f":"IFERROR($E201*SUMIF('Daily Log'!$AF$18:$AF$1017,$B201,'Daily Log'!$AG$18:$AG$1017),0)","v":0},{"$f":"IFERROR($E201*SUMIF('Daily Log'!$AI$18:$AI$1017,$B201,'Daily Log'!$AJ$18:$AJ$1017),0)","v":3},{"$f":"IFERROR($E201*SUMIF('Daily Log'!#REF!,$B201,'Daily Log'!#REF!),0)","v":0},{"$f":"IFERROR($E201*SUMIF('Daily Log'!#REF!,$B201,'Daily Log'!#REF!),0)","v":0},{"$f":"IFERROR($E201*SUMIF('Daily Log'!#REF!,$B201,'Daily Log'!#REF!),0)","v":0},{"$f":"IFERROR($E201*SUMIF('Daily Log'!#REF!,$B201,'Daily Log'!#REF!),0)","v":0},{"$f":"IFERROR($E201*SUMIF('Daily Log'!#REF!,$B201,'Daily Log'!#REF!),0)","v":0},{"$f":"IFERROR($E201*SUMIF('Daily Log'!#REF!,$B201,'Daily Log'!#REF!),0)","v":0},{"$f":"IFERROR($E201*SUMIF('Daily Log'!#REF!,$B201,'Daily Log'!#REF!),0)","v":0},{"$f":"IFERROR($E201*SUMIF('Daily Log'!#REF!,$B201,'Daily Log'!#REF!),0)","v":0},{"$f":"IFERROR($E201*SUMIF('Daily Log'!#REF!,$B201,'Daily Log'!#REF!),0)","v":0},{"$f":"IFERROR($E201*SUMIF('Daily Log'!#REF!,$B201,'Daily Log'!#REF!),0)","v":0},{"$f":"IFERROR($E201*SUMIF('Daily Log'!#REF!,$B201,'Daily Log'!#REF!),0)","v":0},{"$f":"IFERROR($E201*SUMIF('Daily Log'!#REF!,$B201,'Daily Log'!#REF!),0)","v":0},{"$f":"IFERROR($E201*SUMIF('Daily Log'!#REF!,$B201,'Daily Log'!#REF!),0)","v":0},{"$f":"IFERROR($E201*SUMIF('Daily Log'!#REF!,$B201,'Daily Log'!#REF!),0)","v":0},{"$f":"IFERROR($E201*SUMIF('Daily Log'!#REF!,$B201,'Daily Log'!#REF!),0)","v":0},{"$f":"IFERROR($E201*SUMIF('Daily Log'!#REF!,$B201,'Daily Log'!#REF!),0)","v":0},{"$f":"IFERROR($E201*SUMIF('Daily Log'!#REF!,$B201,'Daily Log'!#REF!),0)","v":0},{"$f":"IFERROR($E201*SUMIF('Daily Log'!#REF!,$B201,'Daily Log'!#REF!),0)","v":0},{"$f":"IFERROR($E201*SUMIF('Daily Log'!#REF!,$B201,'Daily Log'!#REF!),0)","v":0}]
[null,"DH02 91102:MAMITE CHK",null,"KLKD-LOCAL DELIGHTS",1,16,{"$f":"IFERROR($E202*SUMIF('Daily Log'!$B$18:$B$1017,$B202,'Daily Log'!$C$18:$C$1017),0)","v":0},{"$f":"IFERROR($E202*SUMIF('Daily Log'!$E$18:$E$1017,$B202,'Daily Log'!$F$18:$F$1017),0)","v":0},{"$f":"IFERROR($E202*SUMIF('Daily Log'!$H$18:$H$1017,$B202,'Daily Log'!$I$18:$I$1017),0)","v":0},{"$f":"IFERROR($E202*SUMIF('Daily Log'!$K$18:$K$1017,$B202,'Daily Log'!$L$18:$L$1017),0)","v":0},{"$f":"IFERROR($E202*SUMIF('Daily Log'!$N$18:$N$1017,$B202,'Daily Log'!$O$18:$O$1017),0)","v":0},{"$f":"IFERROR($E202*SUMIF('Daily Log'!$Q$18:$Q$1017,$B202,'Daily Log'!$R$18:$R$1017),0)","v":2},{"$f":"IFERROR($E202*SUMIF('Daily Log'!$T$18:$T$1017,$B202,'Daily Log'!$U$18:$U$1017),0)","v":0},{"$f":"IFERROR($E202*SUMIF('Daily Log'!$W$18:$W$1017,$B202,'Daily Log'!$X$18:$X$1017),0)","v":0},{"$f":"IFERROR($E202*SUMIF('Daily Log'!$Z$18:$Z$1017,$B202,'Daily Log'!$AA$18:$AA$1017),0)","v":3},{"$f":"IFERROR($E202*SUMIF('Daily Log'!$AC$18:$AC$1017,$B202,'Daily Log'!$AD$18:$AD$1017),0)","v":1},{"$f":"IFERROR($E202*SUMIF('Daily Log'!$AF$18:$AF$1017,$B202,'Daily Log'!$AG$18:$AG$1017),0)","v":3},{"$f":"IFERROR($E202*SUMIF('Daily Log'!$AI$18:$AI$1017,$B202,'Daily Log'!$AJ$18:$AJ$1017),0)","v":7},{"$f":"IFERROR($E202*SUMIF('Daily Log'!#REF!,$B202,'Daily Log'!#REF!),0)","v":0},{"$f":"IFERROR($E202*SUMIF('Daily Log'!#REF!,$B202,'Daily Log'!#REF!),0)","v":0},{"$f":"IFERROR($E202*SUMIF('Daily Log'!#REF!,$B202,'Daily Log'!#REF!),0)","v":0},{"$f":"IFERROR($E202*SUMIF('Daily Log'!#REF!,$B202,'Daily Log'!#REF!),0)","v":0},{"$f":"IFERROR($E202*SUMIF('Daily Log'!#REF!,$B202,'Daily Log'!#REF!),0)","v":0},{"$f":"IFERROR($E202*SUMIF('Daily Log'!#REF!,$B202,'Daily Log'!#REF!),0)","v":0},{"$f":"IFERROR($E202*SUMIF('Daily Log'!#REF!,$B202,'Daily Log'!#REF!),0)","v":0},{"$f":"IFERROR($E202*SUMIF('Daily Log'!#REF!,$B202,'Daily Log'!#REF!),0)","v":0},{"$f":"IFERROR($E202*SUMIF('Daily Log'!#REF!,$B202,'Daily Log'!#REF!),0)","v":0},{"$f":"IFERROR($E202*SUMIF('Daily Log'!#REF!,$B202,'Daily Log'!#REF!),0)","v":0},{"$f":"IFERROR($E202*SUMIF('Daily Log'!#REF!,$B202,'Daily Log'!#REF!),0)","v":0},{"$f":"IFERROR($E202*SUMIF('Daily Log'!#REF!,$B202,'Daily Log'!#REF!),0)","v":0},{"$f":"IFERROR($E202*SUMIF('Daily Log'!#REF!,$B202,'Daily Log'!#REF!),0)","v":0},{"$f":"IFERROR($E202*SUMIF('Daily Log'!#REF!,$B202,'Daily Log'!#REF!),0)","v":0},{"$f":"IFERROR($E202*SUMIF('Daily Log'!#REF!,$B202,'Daily Log'!#REF!),0)","v":0},{"$f":"IFERROR($E202*SUMIF('Daily Log'!#REF!,$B202,'Daily Log'!#REF!),0)","v":0},{"$f":"IFERROR($E202*SUMIF('Daily Log'!#REF!,$B202,'Daily Log'!#REF!),0)","v":0},{"$f":"IFERROR($E202*SUMIF('Daily Log'!#REF!,$B202,'Daily Log'!#REF!),0)","v":0},{"$f":"IFERROR($E202*SUMIF('Daily Log'!#REF!,$B202,'Daily Log'!#REF!),0)","v":0}]
[null,"DH03 91103:KO PO CHK",null,"KLKD-LOCAL DELIGHTS",1,0,{"$f":"IFERROR($E203*SUMIF('Daily Log'!$B$18:$B$1017,$B203,'Daily Log'!$C$18:$C$1017),0)","v":0},{"$f":"IFERROR($E203*SUMIF('Daily Log'!$E$18:$E$1017,$B203,'Daily Log'!$F$18:$F$1017),0)","v":0},{"$f":"IFERROR($E203*SUMIF('Daily Log'!$H$18:$H$1017,$B203,'Daily Log'!$I$18:$I$1017),0)","v":0},{"$f":"IFERROR($E203*SUMIF('Daily Log'!$K$18:$K$1017,$B203,'Daily Log'!$L$18:$L$1017),0)","v":0},{"$f":"IFERROR($E203*SUMIF('Daily Log'!$N$18:$N$1017,$B203,'Daily Log'!$O$18:$O$1017),0)","v":0},{"$f":"IFERROR($E203*SUMIF('Daily Log'!$Q$18:$Q$1017,$B203,'Daily Log'!$R$18:$R$1017),0)","v":0},{"$f":"IFERROR($E203*SUMIF('Daily Log'!$T$18:$T$1017,$B203,'Daily Log'!$U$18:$U$1017),0)","v":0},{"$f":"IFERROR($E203*SUMIF('Daily Log'!$W$18:$W$1017,$B203,'Daily Log'!$X$18:$X$1017),0)","v":0},{"$f":"IFERROR($E203*SUMIF('Daily Log'!$Z$18:$Z$1017,$B203,'Daily Log'!$AA$18:$AA$1017),0)","v":0},{"$f":"IFERROR($E203*SUMIF('Daily Log'!$AC$18:$AC$1017,$B203,'Daily Log'!$AD$18:$AD$1017),0)","v":0},{"$f":"IFERROR($E203*SUMIF('Daily Log'!$AF$18:$AF$1017,$B203,'Daily Log'!$AG$18:$AG$1017),0)","v":0},{"$f":"IFERROR($E203*SUMIF('Daily Log'!$AI$18:$AI$1017,$B203,'Daily Log'!$AJ$18:$AJ$1017),0)","v":0},{"$f":"IFERROR($E203*SUMIF('Daily Log'!#REF!,$B203,'Daily Log'!#REF!),0)","v":0},{"$f":"IFERROR($E203*SUMIF('Daily Log'!#REF!,$B203,'Daily Log'!#REF!),0)","v":0},{"$f":"IFERROR($E203*SUMIF('Daily Log'!#REF!,$B203,'Daily Log'!#REF!),0)","v":0},{"$f":"IFERROR($E203*SUMIF('Daily Log'!#REF!,$B203,'Daily Log'!#REF!),0)","v":0},{"$f":"IFERROR($E203*SUMIF('Daily Log'!#REF!,$B203,'Daily Log'!#REF!),0)","v":0},{"$f":"IFERROR($E203*SUMIF('Daily Log'!#REF!,$B203,'Daily Log'!#REF!),0)","v":0},{"$f":"IFERROR($E203*SUMIF('Daily Log'!#REF!,$B203,'Daily Log'!#REF!),0)","v":0},{"$f":"IFERROR($E203*SUMIF('Daily Log'!#REF!,$B203,'Daily Log'!#REF!),0)","v":0},{"$f":"IFERROR($E203*SUMIF('Daily Log'!#REF!,$B203,'Daily Log'!#REF!),0)","v":0},{"$f":"IFERROR($E203*SUMIF('Daily Log'!#REF!,$B203,'Daily Log'!#REF!),0)","v":0},{"$f":"IFERROR($E203*SUMIF('Daily Log'!#REF!,$B203,'Daily Log'!#REF!),0)","v":0},{"$f":"IFERROR($E203*SUMIF('Daily Log'!#REF!,$B203,'Daily Log'!#REF!),0)","v":0},{"$f":"IFERROR($E203*SUMIF('Daily Log'!#REF!,$B203,'Daily Log'!#REF!),0)","v":0},{"$f":"IFERROR($E203*SUMIF('Daily Log'!#REF!,$B203,'Daily Log'!#REF!),0)","v":0},{"$f":"IFERROR($E203*SUMIF('Daily Log'!#REF!,$B203,'Daily Log'!#REF!),0)","v":0},{"$f":"IFERROR($E203*SUMIF('Daily Log'!#REF!,$B203,'Daily Log'!#REF!),0)","v":0},{"$f":"IFERROR($E203*SUMIF('Daily Log'!#REF!,$B203,'Daily Log'!#REF!),0)","v":0},{"$f":"IFERROR($E203*SUMIF('Daily Log'!#REF!,$B203,'Daily Log'!#REF!),0)","v":0},{"$f":"IFERROR($E203*SUMIF('Daily Log'!#REF!,$B203,'Daily Log'!#REF!),0)","v":0}]
[null,"DH04 91104:S&S CHK",null,"KLKD-LOCAL DELIGHTS",1,6,{"$f":"IFERROR($E204*SUMIF('Daily Log'!$B$18:$B$1017,$B204,'Daily Log'!$C$18:$C$1017),0)","v":0},{"$f":"IFERROR($E204*SUMIF('Daily Log'!$E$18:$E$1017,$B204,'Daily Log'!$F$18:$F$1017),0)","v":0},{"$f":"IFERROR($E204*SUMIF('Daily Log'!$H$18:$H$1017,$B204,'Daily Log'!$I$18:$I$1017),0)","v":0},{"$f":"IFERROR($E204*SUMIF('Daily Log'!$K$18:$K$1017,$B204,'Daily Log'!$L$18:$L$1017),0)","v":0},{"$f":"IFERROR($E204*SUMIF('Daily Log'!$N$18:$N$1017,$B204,'Daily Log'!$O$18:$O$1017),0)","v":0},{"$f":"IFERROR($E204*SUMIF('Daily Log'!$Q$18:$Q$1017,$B204,'Daily Log'!$R$18:$R$1017),0)","v":1},{"$f":"IFERROR($E204*SUMIF('Daily Log'!$T$18:$T$1017,$B204,'Daily Log'!$U$18:$U$1017),0)","v":0},{"$f":"IFERROR($E204*SUMIF('Daily Log'!$W$18:$W$1017,$B204,'Daily Log'!$X$18:$X$1017),0)","v":0},{"$f":"IFERROR($E204*SUMIF('Daily Log'!$Z$18:$Z$1017,$B204,'Daily Log'!$AA$18:$AA$1017),0)","v":1},{"$f":"IFERROR($E204*SUMIF('Daily Log'!$AC$18:$AC$1017,$B204,'Daily Log'!$AD$18:$AD$1017),0)","v":1},{"$f":"IFERROR($E204*SUMIF('Daily Log'!$AF$18:$AF$1017,$B204,'Daily Log'!$AG$18:$AG$1017),0)","v":1},{"$f":"IFERROR($E204*SUMIF('Daily Log'!$AI$18:$AI$1017,$B204,'Daily Log'!$AJ$18:$AJ$1017),0)","v":2},{"$f":"IFERROR($E204*SUMIF('Daily Log'!#REF!,$B204,'Daily Log'!#REF!),0)","v":0},{"$f":"IFERROR($E204*SUMIF('Daily Log'!#REF!,$B204,'Daily Log'!#REF!),0)","v":0},{"$f":"IFERROR($E204*SUMIF('Daily Log'!#REF!,$B204,'Daily Log'!#REF!),0)","v":0},{"$f":"IFERROR($E204*SUMIF('Daily Log'!#REF!,$B204,'Daily Log'!#REF!),0)","v":0},{"$f":"IFERROR($E204*SUMIF('Daily Log'!#REF!,$B204,'Daily Log'!#REF!),0)","v":0},{"$f":"IFERROR($E204*SUMIF('Daily Log'!#REF!,$B204,'Daily Log'!#REF!),0)","v":0},{"$f":"IFERROR($E204*SUMIF('Daily Log'!#REF!,$B204,'Daily Log'!#REF!),0)","v":0},{"$f":"IFERROR($E204*SUMIF('Daily Log'!#REF!,$B204,'Daily Log'!#REF!),0)","v":0},{"$f":"IFERROR($E204*SUMIF('Daily Log'!#REF!,$B204,'Daily Log'!#REF!),0)","v":0},{"$f":"IFERROR($E204*SUMIF('Daily Log'!#REF!,$B204,'Daily Log'!#REF!),0)","v":0},{"$f":"IFERROR($E204*SUMIF('Daily Log'!#REF!,$B204,'Daily Log'!#REF!),0)","v":0},{"$f":"IFERROR($E204*SUMIF('Daily Log'!#REF!,$B204,'Daily Log'!#REF!),0)","v":0},{"$f":"IFERROR($E204*SUMIF('Daily Log'!#REF!,$B204,'Daily Log'!#REF!),0)","v":0},{"$f":"IFERROR($E204*SUMIF('Daily Log'!#REF!,$B204,'Daily Log'!#REF!),0)","v":0},{"$f":"IFERROR($E204*SUMIF('Daily Log'!#REF!,$B204,'Daily Log'!#REF!),0)","v":0},{"$f":"IFERROR($E204*SUMIF('Daily Log'!#REF!,$B204,'Daily Log'!#REF!),0)","v":0},{"$f":"IFERROR($E204*SUMIF('Daily Log'!#REF!,$B204,'Daily Log'!#REF!),0)","v":0},{"$f":"IFERROR($E204*SUMIF('Daily Log'!#REF!,$B204,'Daily Log'!#REF!),0)","v":0},{"$f":"IFERROR($E204*SUMIF('Daily Log'!#REF!,$B204,'Daily Log'!#REF!),0)","v":0}]
[null,"DH05 91105:BUTTER CHK",null,"KLKD-LOCAL DELIGHTS",1,30,{"$f":"IFERROR($E205*SUMIF('Daily Log'!$B$18:$B$1017,$B205,'Daily Log'!$C$18:$C$1017),0)","v":0},{"$f":"IFERROR($E205*SUMIF('Daily Log'!$E$18:$E$1017,$B205,'Daily Log'!$F$18:$F$1017),0)","v":0},{"$f":"IFERROR($E205*SUMIF('Daily Log'!$H$18:$H$1017,$B205,'Daily Log'!$I$18:$I$1017),0)","v":0},{"$f":"IFERROR($E205*SUMIF('Daily Log'!$K$18:$K$1017,$B205,'Daily Log'!$L$18:$L$1017),0)","v":0},{"$f":"IFERROR($E205*SUMIF('Daily Log'!$N$18:$N$1017,$B205,'Daily Log'!$O$18:$O$1017),0)","v":0},{"$f":"IFERROR($E205*SUMIF('Daily Log'!$Q$18:$Q$1017,$B205,'Daily Log'!$R$18:$R$1017),0)","v":7},{"$f":"IFERROR($E205*SUMIF('Daily Log'!$T$18:$T$1017,$B205,'Daily Log'!$U$18:$U$1017),0)","v":4},{"$f":"IFERROR($E205*SUMIF('Daily Log'!$W$18:$W$1017,$B205,'Daily Log'!$X$18:$X$1017),0)","v":3},{"$f":"IFERROR($E205*SUMIF('Daily Log'!$Z$18:$Z$1017,$B205,'Daily Log'!$AA$18:$AA$1017),0)","v":5},{"$f":"IFERROR($E205*SUMIF('Daily Log'!$AC$18:$AC$1017,$B205,'Daily Log'!$AD$18:$AD$1017),0)","v":0},{"$f":"IFERROR($E205*SUMIF('Daily Log'!$AF$18:$AF$1017,$B205,'Daily Log'!$AG$18:$AG$1017),0)","v":5},{"$f":"IFERROR($E205*SUMIF('Daily Log'!$AI$18:$AI$1017,$B205,'Daily Log'!$AJ$18:$AJ$1017),0)","v":6},{"$f":"IFERROR($E205*SUMIF('Daily Log'!#REF!,$B205,'Daily Log'!#REF!),0)","v":0},{"$f":"IFERROR($E205*SUMIF('Daily Log'!#REF!,$B205,'Daily Log'!#REF!),0)","v":0},{"$f":"IFERROR($E205*SUMIF('Daily Log'!#REF!,$B205,'Daily Log'!#REF!),0)","v":0},{"$f":"IFERROR($E205*SUMIF('Daily Log'!#REF!,$B205,'Daily Log'!#REF!),0)","v":0},{"$f":"IFERROR($E205*SUMIF('Daily Log'!#REF!,$B205,'Daily Log'!#REF!),0)","v":0},{"$f":"IFERROR($E205*SUMIF('Daily Log'!#REF!,$B205,'Daily Log'!#REF!),0)","v":0},{"$f":"IFERROR($E205*SUMIF('Daily Log'!#REF!,$B205,'Daily Log'!#REF!),0)","v":0},{"$f":"IFERROR($E205*SUMIF('Daily Log'!#REF!,$B205,'Daily Log'!#REF!),0)","v":0},{"$f":"IFERROR($E205*SUMIF('Daily Log'!#REF!,$B205,'Daily Log'!#REF!),0)","v":0},{"$f":"IFERROR($E205*SUMIF('Daily Log'!#REF!,$B205,'Daily Log'!#REF!),0)","v":0},{"$f":"IFERROR($E205*SUMIF('Daily Log'!#REF!,$B205,'Daily Log'!#REF!),0)","v":0},{"$f":"IFERROR($E205*SUMIF('Daily Log'!#REF!,$B205,'Daily Log'!#REF!),0)","v":0},{"$f":"IFERROR($E205*SUMIF('Daily Log'!#REF!,$B205,'Daily Log'!#REF!),0)","v":0},{"$f":"IFERROR($E205*SUMIF('Daily Log'!#REF!,$B205,'Daily Log'!#REF!),0)","v":0},{"$f":"IFERROR($E205*SUMIF('Daily Log'!#REF!,$B205,'Daily Log'!#REF!),0)","v":0},{"$f":"IFERROR($E205*SUMIF('Daily Log'!#REF!,$B205,'Daily Log'!#REF!),0)","v":0},{"$f":"IFERROR($E205*SUMIF('Daily Log'!#REF!,$B205,'Daily Log'!#REF!),0)","v":0},{"$f":"IFERROR($E205*SUMIF('Daily Log'!#REF!,$B205,'Daily Log'!#REF!),0)","v":0},{"$f":"IFERROR($E205*SUMIF('Daily Log'!#REF!,$B205,'Daily Log'!#REF!),0)","v":0}]
[null,"DH06 91106:HK F.RICE",null,"KLKD-LOCAL DELIGHTS",1,13,{"$f":"IFERROR($E206*SUMIF('Daily Log'!$B$18:$B$1017,$B206,'Daily Log'!$C$18:$C$1017),0)","v":0},{"$f":"IFERROR($E206*SUMIF('Daily Log'!$E$18:$E$1017,$B206,'Daily Log'!$F$18:$F$1017),0)","v":0},{"$f":"IFERROR($E206*SUMIF('Daily Log'!$H$18:$H$1017,$B206,'Daily Log'!$I$18:$I$1017),0)","v":0},{"$f":"IFERROR($E206*SUMIF('Daily Log'!$K$18:$K$1017,$B206,'Daily Log'!$L$18:$L$1017),0)","v":0},{"$f":"IFERROR($E206*SUMIF('Daily Log'!$N$18:$N$1017,$B206,'Daily Log'!$O$18:$O$1017),0)","v":0},{"$f":"IFERROR($E206*SUMIF('Daily Log'!$Q$18:$Q$1017,$B206,'Daily Log'!$R$18:$R$1017),0)","v":0},{"$f":"IFERROR($E206*SUMIF('Daily Log'!$T$18:$T$1017,$B206,'Daily Log'!$U$18:$U$1017),0)","v":1},{"$f":"IFERROR($E206*SUMIF('Daily Log'!$W$18:$W$1017,$B206,'Daily Log'!$X$18:$X$1017),0)","v":2},{"$f":"IFERROR($E206*SUMIF('Daily Log'!$Z$18:$Z$1017,$B206,'Daily Log'!$AA$18:$AA$1017),0)","v":5},{"$f":"IFERROR($E206*SUMIF('Daily Log'!$AC$18:$AC$1017,$B206,'Daily Log'!$AD$18:$AD$1017),0)","v":1},{"$f":"IFERROR($E206*SUMIF('Daily Log'!$AF$18:$AF$1017,$B206,'Daily Log'!$AG$18:$AG$1017),0)","v":1},{"$f":"IFERROR($E206*SUMIF('Daily Log'!$AI$18:$AI$1017,$B206,'Daily Log'!$AJ$18:$AJ$1017),0)","v":3},{"$f":"IFERROR($E206*SUMIF('Daily Log'!#REF!,$B206,'Daily Log'!#REF!),0)","v":0},{"$f":"IFERROR($E206*SUMIF('Daily Log'!#REF!,$B206,'Daily Log'!#REF!),0)","v":0},{"$f":"IFERROR($E206*SUMIF('Daily Log'!#REF!,$B206,'Daily Log'!#REF!),0)","v":0},{"$f":"IFERROR($E206*SUMIF('Daily Log'!#REF!,$B206,'Daily Log'!#REF!),0)","v":0},{"$f":"IFERROR($E206*SUMIF('Daily Log'!#REF!,$B206,'Daily Log'!#REF!),0)","v":0},{"$f":"IFERROR($E206*SUMIF('Daily Log'!#REF!,$B206,'Daily Log'!#REF!),0)","v":0},{"$f":"IFERROR($E206*SUMIF('Daily Log'!#REF!,$B206,'Daily Log'!#REF!),0)","v":0},{"$f":"IFERROR($E206*SUMIF('Daily Log'!#REF!,$B206,'Daily Log'!#REF!),0)","v":0},{"$f":"IFERROR($E206*SUMIF('Daily Log'!#REF!,$B206,'Daily Log'!#REF!),0)","v":0},{"$f":"IFERROR($E206*SUMIF('Daily Log'!#REF!,$B206,'Daily Log'!#REF!),0)","v":0},{"$f":"IFERROR($E206*SUMIF('Daily Log'!#REF!,$B206,'Daily Log'!#REF!),0)","v":0},{"$f":"IFERROR($E206*SUMIF('Daily Log'!#REF!,$B206,'Daily Log'!#REF!),0)","v":0},{"$f":"IFERROR($E206*SUMIF('Daily Log'!#REF!,$B206,'Daily Log'!#REF!),0)","v":0},{"$f":"IFERROR($E206*SUMIF('Daily Log'!#REF!,$B206,'Daily Log'!#REF!),0)","v":0},{"$f":"IFERROR($E206*SUMIF('Daily Log'!#REF!,$B206,'Daily Log'!#REF!),0)","v":0},{"$f":"IFERROR($E206*SUMIF('Daily Log'!#REF!,$B206,'Daily Log'!#REF!),0)","v":0},{"$f":"IFERROR($E206*SUMIF('Daily Log'!#REF!,$B206,'Daily Log'!#REF!),0)","v":0},{"$f":"IFERROR($E206*SUMIF('Daily Log'!#REF!,$B206,'Daily Log'!#REF!),0)","v":0},{"$f":"IFERROR($E206*SUMIF('Daily Log'!#REF!,$B206,'Daily Log'!#REF!),0)","v":0}]
[null,"DH07 91107:SBL F.RICE",null,"KLKD-LOCAL DELIGHTS",1,5,{"$f":"IFERROR($E207*SUMIF('Daily Log'!$B$18:$B$1017,$B207,'Daily Log'!$C$18:$C$1017),0)","v":0},{"$f":"IFERROR($E207*SUMIF('Daily Log'!$E$18:$E$1017,$B207,'Daily Log'!$F$18:$F$1017),0)","v":0},{"$f":"IFERROR($E207*SUMIF('Daily Log'!$H$18:$H$1017,$B207,'Daily Log'!$I$18:$I$1017),0)","v":0},{"$f":"IFERROR($E207*SUMIF('Daily Log'!$K$18:$K$1017,$B207,'Daily Log'!$L$18:$L$1017),0)","v":0},{"$f":"IFERROR($E207*SUMIF('Daily Log'!$N$18:$N$1017,$B207,'Daily Log'!$O$18:$O$1017),0)","v":0},{"$f":"IFERROR($E207*SUMIF('Daily Log'!$Q$18:$Q$1017,$B207,'Daily Log'!$R$18:$R$1017),0)","v":1},{"$f":"IFERROR($E207*SUMIF('Daily Log'!$T$18:$T$1017,$B207,'Daily Log'!$U$18:$U$1017),0)","v":0},{"$f":"IFERROR($E207*SUMIF('Daily Log'!$W$18:$W$1017,$B207,'Daily Log'!$X$18:$X$1017),0)","v":3},{"$f":"IFERROR($E207*SUMIF('Daily Log'!$Z$18:$Z$1017,$B207,'Daily Log'!$AA$18:$AA$1017),0)","v":0},{"$f":"IFERROR($E207*SUMIF('Daily Log'!$AC$18:$AC$1017,$B207,'Daily Log'!$AD$18:$AD$1017),0)","v":0},{"$f":"IFERROR($E207*SUMIF('Daily Log'!$AF$18:$AF$1017,$B207,'Daily Log'!$AG$18:$AG$1017),0)","v":1},{"$f":"IFERROR($E207*SUMIF('Daily Log'!$AI$18:$AI$1017,$B207,'Daily Log'!$AJ$18:$AJ$1017),0)","v":0},{"$f":"IFERROR($E207*SUMIF('Daily Log'!#REF!,$B207,'Daily Log'!#REF!),0)","v":0},{"$f":"IFERROR($E207*SUMIF('Daily Log'!#REF!,$B207,'Daily Log'!#REF!),0)","v":0},{"$f":"IFERROR($E207*SUMIF('Daily Log'!#REF!,$B207,'Daily Log'!#REF!),0)","v":0},{"$f":"IFERROR($E207*SUMIF('Daily Log'!#REF!,$B207,'Daily Log'!#REF!),0)","v":0},{"$f":"IFERROR($E207*SUMIF('Daily Log'!#REF!,$B207,'Daily Log'!#REF!),0)","v":0},{"$f":"IFERROR($E207*SUMIF('Daily Log'!#REF!,$B207,'Daily Log'!#REF!),0)","v":0},{"$f":"IFERROR($E207*SUMIF('Daily Log'!#REF!,$B207,'Daily Log'!#REF!),0)","v":0},{"$f":"IFERROR($E207*SUMIF('Daily Log'!#REF!,$B207,'Daily Log'!#REF!),0)","v":0},{"$f":"IFERROR($E207*SUMIF('Daily Log'!#REF!,$B207,'Daily Log'!#REF!),0)","v":0},{"$f":"IFERROR($E207*SUMIF('Daily Log'!#REF!,$B207,'Daily Log'!#REF!),0)","v":0},{"$f":"IFERROR($E207*SUMIF('Daily Log'!#REF!,$B207,'Daily Log'!#REF!),0)","v":0},{"$f":"IFERROR($E207*SUMIF('Daily Log'!#REF!,$B207,'Daily Log'!#REF!),0)","v":0},{"$f":"IFERROR($E207*SUMIF('Daily Log'!#REF!,$B207,'Daily Log'!#REF!),0)","v":0},{"$f":"IFERROR($E207*SUMIF('Daily Log'!#REF!,$B207,'Daily Log'!#REF!),0)","v":0},{"$f":"IFERROR($E207*SUMIF('Daily Log'!#REF!,$B207,'Daily Log'!#REF!),0)","v":0},{"$f":"IFERROR($E207*SUMIF('Daily Log'!#REF!,$B207,'Daily Log'!#REF!),0)","v":0},{"$f":"IFERROR($E207*SUMIF('Daily Log'!#REF!,$B207,'Daily Log'!#REF!),0)","v":0},{"$f":"IFERROR($E207*SUMIF('Daily Log'!#REF!,$B207,'Daily Log'!#REF!),0)","v":0},{"$f":"IFERROR($E207*SUMIF('Daily Log'!#REF!,$B207,'Daily Log'!#REF!),0)","v":0}]
[null,"DH08 91108:SBL F.MEE",null,"KLKD-LOCAL DELIGHTS",1,2,{"$f":"IFERROR($E208*SUMIF('Daily Log'!$B$18:$B$1017,$B208,'Daily Log'!$C$18:$C$1017),0)","v":0},{"$f":"IFERROR($E208*SUMIF('Daily Log'!$E$18:$E$1017,$B208,'Daily Log'!$F$18:$F$1017),0)","v":0},{"$f":"IFERROR($E208*SUMIF('Daily Log'!$H$18:$H$1017,$B208,'Daily Log'!$I$18:$I$1017),0)","v":0},{"$f":"IFERROR($E208*SUMIF('Daily Log'!$K$18:$K$1017,$B208,'Daily Log'!$L$18:$L$1017),0)","v":0},{"$f":"IFERROR($E208*SUMIF('Daily Log'!$N$18:$N$1017,$B208,'Daily Log'!$O$18:$O$1017),0)","v":0},{"$f":"IFERROR($E208*SUMIF('Daily Log'!$Q$18:$Q$1017,$B208,'Daily Log'!$R$18:$R$1017),0)","v":0},{"$f":"IFERROR($E208*SUMIF('Daily Log'!$T$18:$T$1017,$B208,'Daily Log'!$U$18:$U$1017),0)","v":0},{"$f":"IFERROR($E208*SUMIF('Daily Log'!$W$18:$W$1017,$B208,'Daily Log'!$X$18:$X$1017),0)","v":1},{"$f":"IFERROR($E208*SUMIF('Daily Log'!$Z$18:$Z$1017,$B208,'Daily Log'!$AA$18:$AA$1017),0)","v":0},{"$f":"IFERROR($E208*SUMIF('Daily Log'!$AC$18:$AC$1017,$B208,'Daily Log'!$AD$18:$AD$1017),0)","v":0},{"$f":"IFERROR($E208*SUMIF('Daily Log'!$AF$18:$AF$1017,$B208,'Daily Log'!$AG$18:$AG$1017),0)","v":1},{"$f":"IFERROR($E208*SUMIF('Daily Log'!$AI$18:$AI$1017,$B208,'Daily Log'!$AJ$18:$AJ$1017),0)","v":0},{"$f":"IFERROR($E208*SUMIF('Daily Log'!#REF!,$B208,'Daily Log'!#REF!),0)","v":0},{"$f":"IFERROR($E208*SUMIF('Daily Log'!#REF!,$B208,'Daily Log'!#REF!),0)","v":0},{"$f":"IFERROR($E208*SUMIF('Daily Log'!#REF!,$B208,'Daily Log'!#REF!),0)","v":0},{"$f":"IFERROR($E208*SUMIF('Daily Log'!#REF!,$B208,'Daily Log'!#REF!),0)","v":0},{"$f":"IFERROR($E208*SUMIF('Daily Log'!#REF!,$B208,'Daily Log'!#REF!),0)","v":0},{"$f":"IFERROR($E208*SUMIF('Daily Log'!#REF!,$B208,'Daily Log'!#REF!),0)","v":0},{"$f":"IFERROR($E208*SUMIF('Daily Log'!#REF!,$B208,'Daily Log'!#REF!),0)","v":0},{"$f":"IFERROR($E208*SUMIF('Daily Log'!#REF!,$B208,'Daily Log'!#REF!),0)","v":0},{"$f":"IFERROR($E208*SUMIF('Daily Log'!#REF!,$B208,'Daily Log'!#REF!),0)","v":0},{"$f":"IFERROR($E208*SUMIF('Daily Log'!#REF!,$B208,'Daily Log'!#REF!),0)","v":0},{"$f":"IFERROR($E208*SUMIF('Daily Log'!#REF!,$B208,'Daily Log'!#REF!),0)","v":0},{"$f":"IFERROR($E208*SUMIF('Daily Log'!#REF!,$B208,'Daily Log'!#REF!),0)","v":0},{"$f":"IFERROR($E208*SUMIF('Daily Log'!#REF!,$B208,'Daily Log'!#REF!),0)","v":0},{"$f":"IFERROR($E208*SUMIF('Daily Log'!#REF!,$B208,'Daily Log'!#REF!),0)","v":0},{"$f":"IFERROR($E208*SUMIF('Daily Log'!#REF!,$B208,'Daily Log'!#REF!),0)","v":0},{"$f":"IFERROR($E208*SUMIF('Daily Log'!#REF!,$B208,'Daily Log'!#REF!),0)","v":0},{"$f":"IFERROR($E208*SUMIF('Daily Log'!#REF!,$B208,'Daily Log'!#REF!),0)","v":0},{"$f":"IFERROR($E208*SUMIF('Daily Log'!#REF!,$B208,'Daily Log'!#REF!),0)","v":0},{"$f":"IFERROR($E208*SUMIF('Daily Log'!#REF!,$B208,'Daily Log'!#REF!),0)","v":0}]
[null,"DH09 91109:BP UDON",null,"KLKD-LOCAL DELIGHTS",1,9,{"$f":"IFERROR($E209*SUMIF('Daily Log'!$B$18:$B$1017,$B209,'Daily Log'!$C$18:$C$1017),0)","v":0},{"$f":"IFERROR($E209*SUMIF('Daily Log'!$E$18:$E$1017,$B209,'Daily Log'!$F$18:$F$1017),0)","v":0},{"$f":"IFERROR($E209*SUMIF('Daily Log'!$H$18:$H$1017,$B209,'Daily Log'!$I$18:$I$1017),0)","v":0},{"$f":"IFERROR($E209*SUMIF('Daily Log'!$K$18:$K$1017,$B209,'Daily Log'!$L$18:$L$1017),0)","v":0},{"$f":"IFERROR($E209*SUMIF('Daily Log'!$N$18:$N$1017,$B209,'Daily Log'!$O$18:$O$1017),0)","v":0},{"$f":"IFERROR($E209*SUMIF('Daily Log'!$Q$18:$Q$1017,$B209,'Daily Log'!$R$18:$R$1017),0)","v":0},{"$f":"IFERROR($E209*SUMIF('Daily Log'!$T$18:$T$1017,$B209,'Daily Log'!$U$18:$U$1017),0)","v":1},{"$f":"IFERROR($E209*SUMIF('Daily Log'!$W$18:$W$1017,$B209,'Daily Log'!$X$18:$X$1017),0)","v":1},{"$f":"IFERROR($E209*SUMIF('Daily Log'!$Z$18:$Z$1017,$B209,'Daily Log'!$AA$18:$AA$1017),0)","v":1},{"$f":"IFERROR($E209*SUMIF('Daily Log'!$AC$18:$AC$1017,$B209,'Daily Log'!$AD$18:$AD$1017),0)","v":1},{"$f":"IFERROR($E209*SUMIF('Daily Log'!$AF$18:$AF$1017,$B209,'Daily Log'!$AG$18:$AG$1017),0)","v":3},{"$f":"IFERROR($E209*SUMIF('Daily Log'!$AI$18:$AI$1017,$B209,'Daily Log'!$AJ$18:$AJ$1017),0)","v":2},{"$f":"IFERROR($E209*SUMIF('Daily Log'!#REF!,$B209,'Daily Log'!#REF!),0)","v":0},{"$f":"IFERROR($E209*SUMIF('Daily Log'!#REF!,$B209,'Daily Log'!#REF!),0)","v":0},{"$f":"IFERROR($E209*SUMIF('Daily Log'!#REF!,$B209,'Daily Log'!#REF!),0)","v":0},{"$f":"IFERROR($E209*SUMIF('Daily Log'!#REF!,$B209,'Daily Log'!#REF!),0)","v":0},{"$f":"IFERROR($E209*SUMIF('Daily Log'!#REF!,$B209,'Daily Log'!#REF!),0)","v":0},{"$f":"IFERROR($E209*SUMIF('Daily Log'!#REF!,$B209,'Daily Log'!#REF!),0)","v":0},{"$f":"IFERROR($E209*SUMIF('Daily Log'!#REF!,$B209,'Daily Log'!#REF!),0)","v":0},{"$f":"IFERROR($E209*SUMIF('Daily Log'!#REF!,$B209,'Daily Log'!#REF!),0)","v":0},{"$f":"IFERROR($E209*SUMIF('Daily Log'!#REF!,$B209,'Daily Log'!#REF!),0)","v":0},{"$f":"IFERROR($E209*SUMIF('Daily Log'!#REF!,$B209,'Daily Log'!#REF!),0)","v":0},{"$f":"IFERROR($E209*SUMIF('Daily Log'!#REF!,$B209,'Daily Log'!#REF!),0)","v":0},{"$f":"IFERROR($E209*SUMIF('Daily Log'!#REF!,$B209,'Daily Log'!#REF!),0)","v":0},{"$f":"IFERROR($E209*SUMIF('Daily Log'!#REF!,$B209,'Daily Log'!#REF!),0)","v":0},{"$f":"IFERROR($E209*SUMIF('Daily Log'!#REF!,$B209,'Daily Log'!#REF!),0)","v":0},{"$f":"IFERROR($E209*SUMIF('Daily Log'!#REF!,$B209,'Daily Log'!#REF!),0)","v":0},{"$f":"IFERROR($E209*SUMIF('Daily Log'!#REF!,$B209,'Daily Log'!#REF!),0)","v":0},{"$f":"IFERROR($E209*SUMIF('Daily Log'!#REF!,$B209,'Daily Log'!#REF!),0)","v":0},{"$f":"IFERROR($E209*SUMIF('Daily Log'!#REF!,$B209,'Daily Log'!#REF!),0)","v":0},{"$f":"IFERROR($E209*SUMIF('Daily Log'!#REF!,$B209,'Daily Log'!#REF!),0)","v":0}]
[null,"DH10 91110:NISSIN",null,"KLKD-LOCAL DELIGHTS",1,8,{"$f":"IFERROR($E210*SUMIF('Daily Log'!$B$18:$B$1017,$B210,'Daily Log'!$C$18:$C$1017),0)","v":0},{"$f":"IFERROR($E210*SUMIF('Daily Log'!$E$18:$E$1017,$B210,'Daily Log'!$F$18:$F$1017),0)","v":0},{"$f":"IFERROR($E210*SUMIF('Daily Log'!$H$18:$H$1017,$B210,'Daily Log'!$I$18:$I$1017),0)","v":0},{"$f":"IFERROR($E210*SUMIF('Daily Log'!$K$18:$K$1017,$B210,'Daily Log'!$L$18:$L$1017),0)","v":0},{"$f":"IFERROR($E210*SUMIF('Daily Log'!$N$18:$N$1017,$B210,'Daily Log'!$O$18:$O$1017),0)","v":0},{"$f":"IFERROR($E210*SUMIF('Daily Log'!$Q$18:$Q$1017,$B210,'Daily Log'!$R$18:$R$1017),0)","v":3},{"$f":"IFERROR($E210*SUMIF('Daily Log'!$T$18:$T$1017,$B210,'Daily Log'!$U$18:$U$1017),0)","v":1},{"$f":"IFERROR($E210*SUMIF('Daily Log'!$W$18:$W$1017,$B210,'Daily Log'!$X$18:$X$1017),0)","v":0},{"$f":"IFERROR($E210*SUMIF('Daily Log'!$Z$18:$Z$1017,$B210,'Daily Log'!$AA$18:$AA$1017),0)","v":2},{"$f":"IFERROR($E210*SUMIF('Daily Log'!$AC$18:$AC$1017,$B210,'Daily Log'!$AD$18:$AD$1017),0)","v":0},{"$f":"IFERROR($E210*SUMIF('Daily Log'!$AF$18:$AF$1017,$B210,'Daily Log'!$AG$18:$AG$1017),0)","v":1},{"$f":"IFERROR($E210*SUMIF('Daily Log'!$AI$18:$AI$1017,$B210,'Daily Log'!$AJ$18:$AJ$1017),0)","v":1},{"$f":"IFERROR($E210*SUMIF('Daily Log'!#REF!,$B210,'Daily Log'!#REF!),0)","v":0},{"$f":"IFERROR($E210*SUMIF('Daily Log'!#REF!,$B210,'Daily Log'!#REF!),0)","v":0},{"$f":"IFERROR($E210*SUMIF('Daily Log'!#REF!,$B210,'Daily Log'!#REF!),0)","v":0},{"$f":"IFERROR($E210*SUMIF('Daily Log'!#REF!,$B210,'Daily Log'!#REF!),0)","v":0},{"$f":"IFERROR($E210*SUMIF('Daily Log'!#REF!,$B210,'Daily Log'!#REF!),0)","v":0},{"$f":"IFERROR($E210*SUMIF('Daily Log'!#REF!,$B210,'Daily Log'!#REF!),0)","v":0},{"$f":"IFERROR($E210*SUMIF('Daily Log'!#REF!,$B210,'Daily Log'!#REF!),0)","v":0},{"$f":"IFERROR($E210*SUMIF('Daily Log'!#REF!,$B210,'Daily Log'!#REF!),0)","v":0},{"$f":"IFERROR($E210*SUMIF('Daily Log'!#REF!,$B210,'Daily Log'!#REF!),0)","v":0},{"$f":"IFERROR($E210*SUMIF('Daily Log'!#REF!,$B210,'Daily Log'!#REF!),0)","v":0},{"$f":"IFERROR($E210*SUMIF('Daily Log'!#REF!,$B210,'Daily Log'!#REF!),0)","v":0},{"$f":"IFERROR($E210*SUMIF('Daily Log'!#REF!,$B210,'Daily Log'!#REF!),0)","v":0},{"$f":"IFERROR($E210*SUMIF('Daily Log'!#REF!,$B210,'Daily Log'!#REF!),0)","v":0},{"$f":"IFERROR($E210*SUMIF('Daily Log'!#REF!,$B210,'Daily Log'!#REF!),0)","v":0},{"$f":"IFERROR($E210*SUMIF('Daily Log'!#REF!,$B210,'Daily Log'!#REF!),0)","v":0},{"$f":"IFERROR($E210*SUMIF('Daily Log'!#REF!,$B210,'Daily Log'!#REF!),0)","v":0},{"$f":"IFERROR($E210*SUMIF('Daily Log'!#REF!,$B210,'Daily Log'!#REF!),0)","v":0},{"$f":"IFERROR($E210*SUMIF('Daily Log'!#REF!,$B210,'Daily Log'!#REF!),0)","v":0},{"$f":"IFERROR($E210*SUMIF('Daily Log'!#REF!,$B210,'Daily Log'!#REF!),0)","v":0}]
[null,"DH11 91111:VEG RICE",null,"KLKD-LOCAL DELIGHTS",1,0,{"$f":"IFERROR($E211*SUMIF('Daily Log'!$B$18:$B$1017,$B211,'Daily Log'!$C$18:$C$1017),0)","v":0},{"$f":"IFERROR($E211*SUMIF('Daily Log'!$E$18:$E$1017,$B211,'Daily Log'!$F$18:$F$1017),0)","v":0},{"$f":"IFERROR($E211*SUMIF('Daily Log'!$H$18:$H$1017,$B211,'Daily Log'!$I$18:$I$1017),0)","v":0},{"$f":"IFERROR($E211*SUMIF('Daily Log'!$K$18:$K$1017,$B211,'Daily Log'!$L$18:$L$1017),0)","v":0},{"$f":"IFERROR($E211*SUMIF('Daily Log'!$N$18:$N$1017,$B211,'Daily Log'!$O$18:$O$1017),0)","v":0},{"$f":"IFERROR($E211*SUMIF('Daily Log'!$Q$18:$Q$1017,$B211,'Daily Log'!$R$18:$R$1017),0)","v":0},{"$f":"IFERROR($E211*SUMIF('Daily Log'!$T$18:$T$1017,$B211,'Daily Log'!$U$18:$U$1017),0)","v":0},{"$f":"IFERROR($E211*SUMIF('Daily Log'!$W$18:$W$1017,$B211,'Daily Log'!$X$18:$X$1017),0)","v":0},{"$f":"IFERROR($E211*SUMIF('Daily Log'!$Z$18:$Z$1017,$B211,'Daily Log'!$AA$18:$AA$1017),0)","v":0},{"$f":"IFERROR($E211*SUMIF('Daily Log'!$AC$18:$AC$1017,$B211,'Daily Log'!$AD$18:$AD$1017),0)","v":0},{"$f":"IFERROR($E211*SUMIF('Daily Log'!$AF$18:$AF$1017,$B211,'Daily Log'!$AG$18:$AG$1017),0)","v":0},{"$f":"IFERROR($E211*SUMIF('Daily Log'!$AI$18:$AI$1017,$B211,'Daily Log'!$AJ$18:$AJ$1017),0)","v":0},{"$f":"IFERROR($E211*SUMIF('Daily Log'!#REF!,$B211,'Daily Log'!#REF!),0)","v":0},{"$f":"IFERROR($E211*SUMIF('Daily Log'!#REF!,$B211,'Daily Log'!#REF!),0)","v":0},{"$f":"IFERROR($E211*SUMIF('Daily Log'!#REF!,$B211,'Daily Log'!#REF!),0)","v":0},{"$f":"IFERROR($E211*SUMIF('Daily Log'!#REF!,$B211,'Daily Log'!#REF!),0)","v":0},{"$f":"IFERROR($E211*SUMIF('Daily Log'!#REF!,$B211,'Daily Log'!#REF!),0)","v":0},{"$f":"IFERROR($E211*SUMIF('Daily Log'!#REF!,$B211,'Daily Log'!#REF!),0)","v":0},{"$f":"IFERROR($E211*SUMIF('Daily Log'!#REF!,$B211,'Daily Log'!#REF!),0)","v":0},{"$f":"IFERROR($E211*SUMIF('Daily Log'!#REF!,$B211,'Daily Log'!#REF!),0)","v":0},{"$f":"IFERROR($E211*SUMIF('Daily Log'!#REF!,$B211,'Daily Log'!#REF!),0)","v":0},{"$f":"IFERROR($E211*SUMIF('Daily Log'!#REF!,$B211,'Daily Log'!#REF!),0)","v":0},{"$f":"IFERROR($E211*SUMIF('Daily Log'!#REF!,$B211,'Daily Log'!#REF!),0)","v":0},{"$f":"IFERROR($E211*SUMIF('Daily Log'!#REF!,$B211,'Daily Log'!#REF!),0)","v":0},{"$f":"IFERROR($E211*SUMIF('Daily Log'!#REF!,$B211,'Daily Log'!#REF!),0)","v":0},{"$f":"IFERROR($E211*SUMIF('Daily Log'!#REF!,$B211,'Daily Log'!#REF!),0)","v":0},{"$f":"IFERROR($E211*SUMIF('Daily Log'!#REF!,$B211,'Daily Log'!#REF!),0)","v":0},{"$f":"IFERROR($E211*SUMIF('Daily Log'!#REF!,$B211,'Daily Log'!#REF!),0)","v":0},{"$f":"IFERROR($E211*SUMIF('Daily Log'!#REF!,$B211,'Daily Log'!#REF!),0)","v":0},{"$f":"IFERROR($E211*SUMIF('Daily Log'!#REF!,$B211,'Daily Log'!#REF!),0)","v":0},{"$f":"IFERROR($E211*SUMIF('Daily Log'!#REF!,$B211,'Daily Log'!#REF!),0)","v":0}]
[null,"DH12 91112:NASI LEMAK",null,"KLKD-LOCAL DELIGHTS",1,0,{"$f":"IFERROR($E212*SUMIF('Daily Log'!$B$18:$B$1017,$B212,'Daily Log'!$C$18:$C$1017),0)","v":0},{"$f":"IFERROR($E212*SUMIF('Daily Log'!$E$18:$E$1017,$B212,'Daily Log'!$F$18:$F$1017),0)","v":0},{"$f":"IFERROR($E212*SUMIF('Daily Log'!$H$18:$H$1017,$B212,'Daily Log'!$I$18:$I$1017),0)","v":0},{"$f":"IFERROR($E212*SUMIF('Daily Log'!$K$18:$K$1017,$B212,'Daily Log'!$L$18:$L$1017),0)","v":0},{"$f":"IFERROR($E212*SUMIF('Daily Log'!$N$18:$N$1017,$B212,'Daily Log'!$O$18:$O$1017),0)","v":0},{"$f":"IFERROR($E212*SUMIF('Daily Log'!$Q$18:$Q$1017,$B212,'Daily Log'!$R$18:$R$1017),0)","v":0},{"$f":"IFERROR($E212*SUMIF('Daily Log'!$T$18:$T$1017,$B212,'Daily Log'!$U$18:$U$1017),0)","v":0},{"$f":"IFERROR($E212*SUMIF('Daily Log'!$W$18:$W$1017,$B212,'Daily Log'!$X$18:$X$1017),0)","v":0},{"$f":"IFERROR($E212*SUMIF('Daily Log'!$Z$18:$Z$1017,$B212,'Daily Log'!$AA$18:$AA$1017),0)","v":0},{"$f":"IFERROR($E212*SUMIF('Daily Log'!$AC$18:$AC$1017,$B212,'Daily Log'!$AD$18:$AD$1017),0)","v":0},{"$f":"IFERROR($E212*SUMIF('Daily Log'!$AF$18:$AF$1017,$B212,'Daily Log'!$AG$18:$AG$1017),0)","v":0},{"$f":"IFERROR($E212*SUMIF('Daily Log'!$AI$18:$AI$1017,$B212,'Daily Log'!$AJ$18:$AJ$1017),0)","v":0},{"$f":"IFERROR($E212*SUMIF('Daily Log'!#REF!,$B212,'Daily Log'!#REF!),0)","v":0},{"$f":"IFERROR($E212*SUMIF('Daily Log'!#REF!,$B212,'Daily Log'!#REF!),0)","v":0},{"$f":"IFERROR($E212*SUMIF('Daily Log'!#REF!,$B212,'Daily Log'!#REF!),0)","v":0},{"$f":"IFERROR($E212*SUMIF('Daily Log'!#REF!,$B212,'Daily Log'!#REF!),0)","v":0},{"$f":"IFERROR($E212*SUMIF('Daily Log'!#REF!,$B212,'Daily Log'!#REF!),0)","v":0},{"$f":"IFERROR($E212*SUMIF('Daily Log'!#REF!,$B212,'Daily Log'!#REF!),0)","v":0},{"$f":"IFERROR($E212*SUMIF('Daily Log'!#REF!,$B212,'Daily Log'!#REF!),0)","v":0},{"$f":"IFERROR($E212*SUMIF('Daily Log'!#REF!,$B212,'Daily Log'!#REF!),0)","v":0},{"$f":"IFERROR($E212*SUMIF('Daily Log'!#REF!,$B212,'Daily Log'!#REF!),0)","v":0},{"$f":"IFERROR($E212*SUMIF('Daily Log'!#REF!,$B212,'Daily Log'!#REF!),0)","v":0},{"$f":"IFERROR($E212*SUMIF('Daily Log'!#REF!,$B212,'Daily Log'!#REF!),0)","v":0},{"$f":"IFERROR($E212*SUMIF('Daily Log'!#REF!,$B212,'Daily Log'!#REF!),0)","v":0},{"$f":"IFERROR($E212*SUMIF('Daily Log'!#REF!,$B212,'Daily Log'!#REF!),0)","v":0},{"$f":"IFERROR($E212*SUMIF('Daily Log'!#REF!,$B212,'Daily Log'!#REF!),0)","v":0},{"$f":"IFERROR($E212*SUMIF('Daily Log'!#REF!,$B212,'Daily Log'!#REF!),0)","v":0},{"$f":"IFERROR($E212*SUMIF('Daily Log'!#REF!,$B212,'Daily Log'!#REF!),0)","v":0},{"$f":"IFERROR($E212*SUMIF('Daily Log'!#REF!,$B212,'Daily Log'!#REF!),0)","v":0},{"$f":"IFERROR($E212*SUMIF('Daily Log'!#REF!,$B212,'Daily Log'!#REF!),0)","v":0},{"$f":"IFERROR($E212*SUMIF('Daily Log'!#REF!,$B212,'Daily Log'!#REF!),0)","v":0}]
[null,"DH13 91113:KUEY TEOW",null,"KLKD-LOCAL DELIGHTS",1,0,{"$f":"IFERROR($E213*SUMIF('Daily Log'!$B$18:$B$1017,$B213,'Daily Log'!$C$18:$C$1017),0)","v":0},{"$f":"IFERROR($E213*SUMIF('Daily Log'!$E$18:$E$1017,$B213,'Daily Log'!$F$18:$F$1017),0)","v":0},{"$f":"IFERROR($E213*SUMIF('Daily Log'!$H$18:$H$1017,$B213,'Daily Log'!$I$18:$I$1017),0)","v":0},{"$f":"IFERROR($E213*SUMIF('Daily Log'!$K$18:$K$1017,$B213,'Daily Log'!$L$18:$L$1017),0)","v":0},{"$f":"IFERROR($E213*SUMIF('Daily Log'!$N$18:$N$1017,$B213,'Daily Log'!$O$18:$O$1017),0)","v":0},{"$f":"IFERROR($E213*SUMIF('Daily Log'!$Q$18:$Q$1017,$B213,'Daily Log'!$R$18:$R$1017),0)","v":0},{"$f":"IFERROR($E213*SUMIF('Daily Log'!$T$18:$T$1017,$B213,'Daily Log'!$U$18:$U$1017),0)","v":0},{"$f":"IFERROR($E213*SUMIF('Daily Log'!$W$18:$W$1017,$B213,'Daily Log'!$X$18:$X$1017),0)","v":0},{"$f":"IFERROR($E213*SUMIF('Daily Log'!$Z$18:$Z$1017,$B213,'Daily Log'!$AA$18:$AA$1017),0)","v":0},{"$f":"IFERROR($E213*SUMIF('Daily Log'!$AC$18:$AC$1017,$B213,'Daily Log'!$AD$18:$AD$1017),0)","v":0},{"$f":"IFERROR($E213*SUMIF('Daily Log'!$AF$18:$AF$1017,$B213,'Daily Log'!$AG$18:$AG$1017),0)","v":0},{"$f":"IFERROR($E213*SUMIF('Daily Log'!$AI$18:$AI$1017,$B213,'Daily Log'!$AJ$18:$AJ$1017),0)","v":0},{"$f":"IFERROR($E213*SUMIF('Daily Log'!#REF!,$B213,'Daily Log'!#REF!),0)","v":0},{"$f":"IFERROR($E213*SUMIF('Daily Log'!#REF!,$B213,'Daily Log'!#REF!),0)","v":0},{"$f":"IFERROR($E213*SUMIF('Daily Log'!#REF!,$B213,'Daily Log'!#REF!),0)","v":0},{"$f":"IFERROR($E213*SUMIF('Daily Log'!#REF!,$B213,'Daily Log'!#REF!),0)","v":0},{"$f":"IFERROR($E213*SUMIF('Daily Log'!#REF!,$B213,'Daily Log'!#REF!),0)","v":0},{"$f":"IFERROR($E213*SUMIF('Daily Log'!#REF!,$B213,'Daily Log'!#REF!),0)","v":0},{"$f":"IFERROR($E213*SUMIF('Daily Log'!#REF!,$B213,'Daily Log'!#REF!),0)","v":0},{"$f":"IFERROR($E213*SUMIF('Daily Log'!#REF!,$B213,'Daily Log'!#REF!),0)","v":0},{"$f":"IFERROR($E213*SUMIF('Daily Log'!#REF!,$B213,'Daily Log'!#REF!),0)","v":0},{"$f":"IFERROR($E213*SUMIF('Daily Log'!#REF!,$B213,'Daily Log'!#REF!),0)","v":0},{"$f":"IFERROR($E213*SUMIF('Daily Log'!#REF!,$B213,'Daily Log'!#REF!),0)","v":0},{"$f":"IFERROR($E213*SUMIF('Daily Log'!#REF!,$B213,'Daily Log'!#REF!),0)","v":0},{"$f":"IFERROR($E213*SUMIF('Daily Log'!#REF!,$B213,'Daily Log'!#REF!),0)","v":0},{"$f":"IFERROR($E213*SUMIF('Daily Log'!#REF!,$B213,'Daily Log'!#REF!),0)","v":0},{"$f":"IFERROR($E213*SUMIF('Daily Log'!#REF!,$B213,'Daily Log'!#REF!),0)","v":0},{"$f":"IFERROR($E213*SUMIF('Daily Log'!#REF!,$B213,'Daily Log'!#REF!),0)","v":0},{"$f":"IFERROR($E213*SUMIF('Daily Log'!#REF!,$B213,'Daily Log'!#REF!),0)","v":0},{"$f":"IFERROR($E213*SUMIF('Daily Log'!#REF!,$B213,'Daily Log'!#REF!),0)","v":0},{"$f":"IFERROR($E213*SUMIF('Daily Log'!#REF!,$B213,'Daily Log'!#REF!),0)","v":0}]
[null,"DH14 91114:F.BALL MEE",null,"KLKD-LOCAL DELIGHTS",1,0,{"$f":"IFERROR($E214*SUMIF('Daily Log'!$B$18:$B$1017,$B214,'Daily Log'!$C$18:$C$1017),0)","v":0},{"$f":"IFERROR($E214*SUMIF('Daily Log'!$E$18:$E$1017,$B214,'Daily Log'!$F$18:$F$1017),0)","v":0},{"$f":"IFERROR($E214*SUMIF('Daily Log'!$H$18:$H$1017,$B214,'Daily Log'!$I$18:$I$1017),0)","v":0},{"$f":"IFERROR($E214*SUMIF('Daily Log'!$K$18:$K$1017,$B214,'Daily Log'!$L$18:$L$1017),0)","v":0},{"$f":"IFERROR($E214*SUMIF('Daily Log'!$N$18:$N$1017,$B214,'Daily Log'!$O$18:$O$1017),0)","v":0},{"$f":"IFERROR($E214*SUMIF('Daily Log'!$Q$18:$Q$1017,$B214,'Daily Log'!$R$18:$R$1017),0)","v":0},{"$f":"IFERROR($E214*SUMIF('Daily Log'!$T$18:$T$1017,$B214,'Daily Log'!$U$18:$U$1017),0)","v":0},{"$f":"IFERROR($E214*SUMIF('Daily Log'!$W$18:$W$1017,$B214,'Daily Log'!$X$18:$X$1017),0)","v":0},{"$f":"IFERROR($E214*SUMIF('Daily Log'!$Z$18:$Z$1017,$B214,'Daily Log'!$AA$18:$AA$1017),0)","v":0},{"$f":"IFERROR($E214*SUMIF('Daily Log'!$AC$18:$AC$1017,$B214,'Daily Log'!$AD$18:$AD$1017),0)","v":0},{"$f":"IFERROR($E214*SUMIF('Daily Log'!$AF$18:$AF$1017,$B214,'Daily Log'!$AG$18:$AG$1017),0)","v":0},{"$f":"IFERROR($E214*SUMIF('Daily Log'!$AI$18:$AI$1017,$B214,'Daily Log'!$AJ$18:$AJ$1017),0)","v":0},{"$f":"IFERROR($E214*SUMIF('Daily Log'!#REF!,$B214,'Daily Log'!#REF!),0)","v":0},{"$f":"IFERROR($E214*SUMIF('Daily Log'!#REF!,$B214,'Daily Log'!#REF!),0)","v":0},{"$f":"IFERROR($E214*SUMIF('Daily Log'!#REF!,$B214,'Daily Log'!#REF!),0)","v":0},{"$f":"IFERROR($E214*SUMIF('Daily Log'!#REF!,$B214,'Daily Log'!#REF!),0)","v":0},{"$f":"IFERROR($E214*SUMIF('Daily Log'!#REF!,$B214,'Daily Log'!#REF!),0)","v":0},{"$f":"IFERROR($E214*SUMIF('Daily Log'!#REF!,$B214,'Daily Log'!#REF!),0)","v":0},{"$f":"IFERROR($E214*SUMIF('Daily Log'!#REF!,$B214,'Daily Log'!#REF!),0)","v":0},{"$f":"IFERROR($E214*SUMIF('Daily Log'!#REF!,$B214,'Daily Log'!#REF!),0)","v":0},{"$f":"IFERROR($E214*SUMIF('Daily Log'!#REF!,$B214,'Daily Log'!#REF!),0)","v":0},{"$f":"IFERROR($E214*SUMIF('Daily Log'!#REF!,$B214,'Daily Log'!#REF!),0)","v":0},{"$f":"IFERROR($E214*SUMIF('Daily Log'!#REF!,$B214,'Daily Log'!#REF!),0)","v":0},{"$f":"IFERROR($E214*SUMIF('Daily Log'!#REF!,$B214,'Daily Log'!#REF!),0)","v":0},{"$f":"IFERROR($E214*SUMIF('Daily Log'!#REF!,$B214,'Daily Log'!#REF!),0)","v":0},{"$f":"IFERROR($E214*SUMIF('Daily Log'!#REF!,$B214,'Daily Log'!#REF!),0)","v":0},{"$f":"IFERROR($E214*SUMIF('Daily Log'!#REF!,$B214,'Daily Log'!#REF!),0)","v":0},{"$f":"IFERROR($E214*SUMIF('Daily Log'!#REF!,$B214,'Daily Log'!#REF!),0)","v":0},{"$f":"IFERROR($E214*SUMIF('Daily Log'!#REF!,$B214,'Daily Log'!#REF!),0)","v":0},{"$f":"IFERROR($E214*SUMIF('Daily Log'!#REF!,$B214,'Daily Log'!#REF!),0)","v":0},{"$f":"IFERROR($E214*SUMIF('Daily Log'!#REF!,$B214,'Daily Log'!#REF!),0)","v":0}]
[null,"DH15 91115:CHK NOODLE",null,"KLKD-LOCAL DELIGHTS",1,1,{"$f":"IFERROR($E215*SUMIF('Daily Log'!$B$18:$B$1017,$B215,'Daily Log'!$C$18:$C$1017),0)","v":0},{"$f":"IFERROR($E215*SUMIF('Daily Log'!$E$18:$E$1017,$B215,'Daily Log'!$F$18:$F$1017),0)","v":0},{"$f":"IFERROR($E215*SUMIF('Daily Log'!$H$18:$H$1017,$B215,'Daily Log'!$I$18:$I$1017),0)","v":0},{"$f":"IFERROR($E215*SUMIF('Daily Log'!$K$18:$K$1017,$B215,'Daily Log'!$L$18:$L$1017),0)","v":0},{"$f":"IFERROR($E215*SUMIF('Daily Log'!$N$18:$N$1017,$B215,'Daily Log'!$O$18:$O$1017),0)","v":0},{"$f":"IFERROR($E215*SUMIF('Daily Log'!$Q$18:$Q$1017,$B215,'Daily Log'!$R$18:$R$1017),0)","v":0},{"$f":"IFERROR($E215*SUMIF('Daily Log'!$T$18:$T$1017,$B215,'Daily Log'!$U$18:$U$1017),0)","v":0},{"$f":"IFERROR($E215*SUMIF('Daily Log'!$W$18:$W$1017,$B215,'Daily Log'!$X$18:$X$1017),0)","v":0},{"$f":"IFERROR($E215*SUMIF('Daily Log'!$Z$18:$Z$1017,$B215,'Daily Log'!$AA$18:$AA$1017),0)","v":0},{"$f":"IFERROR($E215*SUMIF('Daily Log'!$AC$18:$AC$1017,$B215,'Daily Log'!$AD$18:$AD$1017),0)","v":0},{"$f":"IFERROR($E215*SUMIF('Daily Log'!$AF$18:$AF$1017,$B215,'Daily Log'!$AG$18:$AG$1017),0)","v":0},{"$f":"IFERROR($E215*SUMIF('Daily Log'!$AI$18:$AI$1017,$B215,'Daily Log'!$AJ$18:$AJ$1017),0)","v":1},{"$f":"IFERROR($E215*SUMIF('Daily Log'!#REF!,$B215,'Daily Log'!#REF!),0)","v":0},{"$f":"IFERROR($E215*SUMIF('Daily Log'!#REF!,$B215,'Daily Log'!#REF!),0)","v":0},{"$f":"IFERROR($E215*SUMIF('Daily Log'!#REF!,$B215,'Daily Log'!#REF!),0)","v":0},{"$f":"IFERROR($E215*SUMIF('Daily Log'!#REF!,$B215,'Daily Log'!#REF!),0)","v":0},{"$f":"IFERROR($E215*SUMIF('Daily Log'!#REF!,$B215,'Daily Log'!#REF!),0)","v":0},{"$f":"IFERROR($E215*SUMIF('Daily Log'!#REF!,$B215,'Daily Log'!#REF!),0)","v":0},{"$f":"IFERROR($E215*SUMIF('Daily Log'!#REF!,$B215,'Daily Log'!#REF!),0)","v":0},{"$f":"IFERROR($E215*SUMIF('Daily Log'!#REF!,$B215,'Daily Log'!#REF!),0)","v":0},{"$f":"IFERROR($E215*SUMIF('Daily Log'!#REF!,$B215,'Daily Log'!#REF!),0)","v":0},{"$f":"IFERROR($E215*SUMIF('Daily Log'!#REF!,$B215,'Daily Log'!#REF!),0)","v":0},{"$f":"IFERROR($E215*SUMIF('Daily Log'!#REF!,$B215,'Daily Log'!#REF!),0)","v":0},{"$f":"IFERROR($E215*SUMIF('Daily Log'!#REF!,$B215,'Daily Log'!#REF!),0)","v":0},{"$f":"IFERROR($E215*SUMIF('Daily Log'!#REF!,$B215,'Daily Log'!#REF!),0)","v":0},{"$f":"IFERROR($E215*SUMIF('Daily Log'!#REF!,$B215,'Daily Log'!#REF!),0)","v":0},{"$f":"IFERROR($E215*SUMIF('Daily Log'!#REF!,$B215,'Daily Log'!#REF!),0)","v":0},{"$f":"IFERROR($E215*SUMIF('Daily Log'!#REF!,$B215,'Daily Log'!#REF!),0)","v":0},{"$f":"IFERROR($E215*SUMIF('Daily Log'!#REF!,$B215,'Daily Log'!#REF!),0)","v":0},{"$f":"IFERROR($E215*SUMIF('Daily Log'!#REF!,$B215,'Daily Log'!#REF!),0)","v":0},{"$f":"IFERROR($E215*SUMIF('Daily Log'!#REF!,$B215,'Daily Log'!#REF!),0)","v":0}]
[null,"DH16 91116:MGL CHK",null,"KLKD-LOCAL DELIGHTS",1,5,{"$f":"IFERROR($E216*SUMIF('Daily Log'!$B$18:$B$1017,$B216,'Daily Log'!$C$18:$C$1017),0)","v":0},{"$f":"IFERROR($E216*SUMIF('Daily Log'!$E$18:$E$1017,$B216,'Daily Log'!$F$18:$F$1017),0)","v":0},{"$f":"IFERROR($E216*SUMIF('Daily Log'!$H$18:$H$1017,$B216,'Daily Log'!$I$18:$I$1017),0)","v":0},{"$f":"IFERROR($E216*SUMIF('Daily Log'!$K$18:$K$1017,$B216,'Daily Log'!$L$18:$L$1017),0)","v":0},{"$f":"IFERROR($E216*SUMIF('Daily Log'!$N$18:$N$1017,$B216,'Daily Log'!$O$18:$O$1017),0)","v":0},{"$f":"IFERROR($E216*SUMIF('Daily Log'!$Q$18:$Q$1017,$B216,'Daily Log'!$R$18:$R$1017),0)","v":0},{"$f":"IFERROR($E216*SUMIF('Daily Log'!$T$18:$T$1017,$B216,'Daily Log'!$U$18:$U$1017),0)","v":0},{"$f":"IFERROR($E216*SUMIF('Daily Log'!$W$18:$W$1017,$B216,'Daily Log'!$X$18:$X$1017),0)","v":0},{"$f":"IFERROR($E216*SUMIF('Daily Log'!$Z$18:$Z$1017,$B216,'Daily Log'!$AA$18:$AA$1017),0)","v":1},{"$f":"IFERROR($E216*SUMIF('Daily Log'!$AC$18:$AC$1017,$B216,'Daily Log'!$AD$18:$AD$1017),0)","v":0},{"$f":"IFERROR($E216*SUMIF('Daily Log'!$AF$18:$AF$1017,$B216,'Daily Log'!$AG$18:$AG$1017),0)","v":0},{"$f":"IFERROR($E216*SUMIF('Daily Log'!$AI$18:$AI$1017,$B216,'Daily Log'!$AJ$18:$AJ$1017),0)","v":4},{"$f":"IFERROR($E216*SUMIF('Daily Log'!#REF!,$B216,'Daily Log'!#REF!),0)","v":0},{"$f":"IFERROR($E216*SUMIF('Daily Log'!#REF!,$B216,'Daily Log'!#REF!),0)","v":0},{"$f":"IFERROR($E216*SUMIF('Daily Log'!#REF!,$B216,'Daily Log'!#REF!),0)","v":0},{"$f":"IFERROR($E216*SUMIF('Daily Log'!#REF!,$B216,'Daily Log'!#REF!),0)","v":0},{"$f":"IFERROR($E216*SUMIF('Daily Log'!#REF!,$B216,'Daily Log'!#REF!),0)","v":0},{"$f":"IFERROR($E216*SUMIF('Daily Log'!#REF!,$B216,'Daily Log'!#REF!),0)","v":0},{"$f":"IFERROR($E216*SUMIF('Daily Log'!#REF!,$B216,'Daily Log'!#REF!),0)","v":0},{"$f":"IFERROR($E216*SUMIF('Daily Log'!#REF!,$B216,'Daily Log'!#REF!),0)","v":0},{"$f":"IFERROR($E216*SUMIF('Daily Log'!#REF!,$B216,'Daily Log'!#REF!),0)","v":0},{"$f":"IFERROR($E216*SUMIF('Daily Log'!#REF!,$B216,'Daily Log'!#REF!),0)","v":0},{"$f":"IFERROR($E216*SUMIF('Daily Log'!#REF!,$B216,'Daily Log'!#REF!),0)","v":0},{"$f":"IFERROR($E216*SUMIF('Daily Log'!#REF!,$B216,'Daily Log'!#REF!),0)","v":0},{"$f":"IFERROR($E216*SUMIF('Daily Log'!#REF!,$B216,'Daily Log'!#REF!),0)","v":0},{"$f":"IFERROR($E216*SUMIF('Daily Log'!#REF!,$B216,'Daily Log'!#REF!),0)","v":0},{"$f":"IFERROR($E216*SUMIF('Daily Log'!#REF!,$B216,'Daily Log'!#REF!),0)","v":0},{"$f":"IFERROR($E216*SUMIF('Daily Log'!#REF!,$B216,'Daily Log'!#REF!),0)","v":0},{"$f":"IFERROR($E216*SUMIF('Daily Log'!#REF!,$B216,'Daily Log'!#REF!),0)","v":0},{"$f":"IFERROR($E216*SUMIF('Daily Log'!#REF!,$B216,'Daily Log'!#REF!),0)","v":0},{"$f":"IFERROR($E216*SUMIF('Daily Log'!#REF!,$B216,'Daily Log'!#REF!),0)","v":0}]
[null,"DI01 91201:SFD STICK",null,"KLKD-APPETIZER",1,0,{"$f":"IFERROR($E217*SUMIF('Daily Log'!$B$18:$B$1017,$B217,'Daily Log'!$C$18:$C$1017),0)","v":0},{"$f":"IFERROR($E217*SUMIF('Daily Log'!$E$18:$E$1017,$B217,'Daily Log'!$F$18:$F$1017),0)","v":0},{"$f":"IFERROR($E217*SUMIF('Daily Log'!$H$18:$H$1017,$B217,'Daily Log'!$I$18:$I$1017),0)","v":0},{"$f":"IFERROR($E217*SUMIF('Daily Log'!$K$18:$K$1017,$B217,'Daily Log'!$L$18:$L$1017),0)","v":0},{"$f":"IFERROR($E217*SUMIF('Daily Log'!$N$18:$N$1017,$B217,'Daily Log'!$O$18:$O$1017),0)","v":0},{"$f":"IFERROR($E217*SUMIF('Daily Log'!$Q$18:$Q$1017,$B217,'Daily Log'!$R$18:$R$1017),0)","v":0},{"$f":"IFERROR($E217*SUMIF('Daily Log'!$T$18:$T$1017,$B217,'Daily Log'!$U$18:$U$1017),0)","v":0},{"$f":"IFERROR($E217*SUMIF('Daily Log'!$W$18:$W$1017,$B217,'Daily Log'!$X$18:$X$1017),0)","v":0},{"$f":"IFERROR($E217*SUMIF('Daily Log'!$Z$18:$Z$1017,$B217,'Daily Log'!$AA$18:$AA$1017),0)","v":0},{"$f":"IFERROR($E217*SUMIF('Daily Log'!$AC$18:$AC$1017,$B217,'Daily Log'!$AD$18:$AD$1017),0)","v":0},{"$f":"IFERROR($E217*SUMIF('Daily Log'!$AF$18:$AF$1017,$B217,'Daily Log'!$AG$18:$AG$1017),0)","v":0},{"$f":"IFERROR($E217*SUMIF('Daily Log'!$AI$18:$AI$1017,$B217,'Daily Log'!$AJ$18:$AJ$1017),0)","v":0},{"$f":"IFERROR($E217*SUMIF('Daily Log'!#REF!,$B217,'Daily Log'!#REF!),0)","v":0},{"$f":"IFERROR($E217*SUMIF('Daily Log'!#REF!,$B217,'Daily Log'!#REF!),0)","v":0},{"$f":"IFERROR($E217*SUMIF('Daily Log'!#REF!,$B217,'Daily Log'!#REF!),0)","v":0},{"$f":"IFERROR($E217*SUMIF('Daily Log'!#REF!,$B217,'Daily Log'!#REF!),0)","v":0},{"$f":"IFERROR($E217*SUMIF('Daily Log'!#REF!,$B217,'Daily Log'!#REF!),0)","v":0},{"$f":"IFERROR($E217*SUMIF('Daily Log'!#REF!,$B217,'Daily Log'!#REF!),0)","v":0},{"$f":"IFERROR($E217*SUMIF('Daily Log'!#REF!,$B217,'Daily Log'!#REF!),0)","v":0},{"$f":"IFERROR($E217*SUMIF('Daily Log'!#REF!,$B217,'Daily Log'!#REF!),0)","v":0},{"$f":"IFERROR($E217*SUMIF('Daily Log'!#REF!,$B217,'Daily Log'!#REF!),0)","v":0},{"$f":"IFERROR($E217*SUMIF('Daily Log'!#REF!,$B217,'Daily Log'!#REF!),0)","v":0},{"$f":"IFERROR($E217*SUMIF('Daily Log'!#REF!,$B217,'Daily Log'!#REF!),0)","v":0},{"$f":"IFERROR($E217*SUMIF('Daily Log'!#REF!,$B217,'Daily Log'!#REF!),0)","v":0},{"$f":"IFERROR($E217*SUMIF('Daily Log'!#REF!,$B217,'Daily Log'!#REF!),0)","v":0},{"$f":"IFERROR($E217*SUMIF('Daily Log'!#REF!,$B217,'Daily Log'!#REF!),0)","v":0},{"$f":"IFERROR($E217*SUMIF('Daily Log'!#REF!,$B217,'Daily Log'!#REF!),0)","v":0},{"$f":"IFERROR($E217*SUMIF('Daily Log'!#REF!,$B217,'Daily Log'!#REF!),0)","v":0},{"$f":"IFERROR($E217*SUMIF('Daily Log'!#REF!,$B217,'Daily Log'!#REF!),0)","v":0},{"$f":"IFERROR($E217*SUMIF('Daily Log'!#REF!,$B217,'Daily Log'!#REF!),0)","v":0},{"$f":"IFERROR($E217*SUMIF('Daily Log'!#REF!,$B217,'Daily Log'!#REF!),0)","v":0}]
[null,"DI02 91202:FREN FRIES",null,"KLKD-APPETIZER",1,3,{"$f":"IFERROR($E218*SUMIF('Daily Log'!$B$18:$B$1017,$B218,'Daily Log'!$C$18:$C$1017),0)","v":0},{"$f":"IFERROR($E218*SUMIF('Daily Log'!$E$18:$E$1017,$B218,'Daily Log'!$F$18:$F$1017),0)","v":0},{"$f":"IFERROR($E218*SUMIF('Daily Log'!$H$18:$H$1017,$B218,'Daily Log'!$I$18:$I$1017),0)","v":0},{"$f":"IFERROR($E218*SUMIF('Daily Log'!$K$18:$K$1017,$B218,'Daily Log'!$L$18:$L$1017),0)","v":0},{"$f":"IFERROR($E218*SUMIF('Daily Log'!$N$18:$N$1017,$B218,'Daily Log'!$O$18:$O$1017),0)","v":0},{"$f":"IFERROR($E218*SUMIF('Daily Log'!$Q$18:$Q$1017,$B218,'Daily Log'!$R$18:$R$1017),0)","v":1},{"$f":"IFERROR($E218*SUMIF('Daily Log'!$T$18:$T$1017,$B218,'Daily Log'!$U$18:$U$1017),0)","v":0},{"$f":"IFERROR($E218*SUMIF('Daily Log'!$W$18:$W$1017,$B218,'Daily Log'!$X$18:$X$1017),0)","v":0},{"$f":"IFERROR($E218*SUMIF('Daily Log'!$Z$18:$Z$1017,$B218,'Daily Log'!$AA$18:$AA$1017),0)","v":0},{"$f":"IFERROR($E218*SUMIF('Daily Log'!$AC$18:$AC$1017,$B218,'Daily Log'!$AD$18:$AD$1017),0)","v":0},{"$f":"IFERROR($E218*SUMIF('Daily Log'!$AF$18:$AF$1017,$B218,'Daily Log'!$AG$18:$AG$1017),0)","v":1},{"$f":"IFERROR($E218*SUMIF('Daily Log'!$AI$18:$AI$1017,$B218,'Daily Log'!$AJ$18:$AJ$1017),0)","v":1},{"$f":"IFERROR($E218*SUMIF('Daily Log'!#REF!,$B218,'Daily Log'!#REF!),0)","v":0},{"$f":"IFERROR($E218*SUMIF('Daily Log'!#REF!,$B218,'Daily Log'!#REF!),0)","v":0},{"$f":"IFERROR($E218*SUMIF('Daily Log'!#REF!,$B218,'Daily Log'!#REF!),0)","v":0},{"$f":"IFERROR($E218*SUMIF('Daily Log'!#REF!,$B218,'Daily Log'!#REF!),0)","v":0},{"$f":"IFERROR($E218*SUMIF('Daily Log'!#REF!,$B218,'Daily Log'!#REF!),0)","v":0},{"$f":"IFERROR($E218*SUMIF('Daily Log'!#REF!,$B218,'Daily Log'!#REF!),0)","v":0},{"$f":"IFERROR($E218*SUMIF('Daily Log'!#REF!,$B218,'Daily Log'!#REF!),0)","v":0},{"$f":"IFERROR($E218*SUMIF('Daily Log'!#REF!,$B218,'Daily Log'!#REF!),0)","v":0},{"$f":"IFERROR($E218*SUMIF('Daily Log'!#REF!,$B218,'Daily Log'!#REF!),0)","v":0},{"$f":"IFERROR($E218*SUMIF('Daily Log'!#REF!,$B218,'Daily Log'!#REF!),0)","v":0},{"$f":"IFERROR($E218*SUMIF('Daily Log'!#REF!,$B218,'Daily Log'!#REF!),0)","v":0},{"$f":"IFERROR($E218*SUMIF('Daily Log'!#REF!,$B218,'Daily Log'!#REF!),0)","v":0},{"$f":"IFERROR($E218*SUMIF('Daily Log'!#REF!,$B218,'Daily Log'!#REF!),0)","v":0},{"$f":"IFERROR($E218*SUMIF('Daily Log'!#REF!,$B218,'Daily Log'!#REF!),0)","v":0},{"$f":"IFERROR($E218*SUMIF('Daily Log'!#REF!,$B218,'Daily Log'!#REF!),0)","v":0},{"$f":"IFERROR($E218*SUMIF('Daily Log'!#REF!,$B218,'Daily Log'!#REF!),0)","v":0},{"$f":"IFERROR($E218*SUMIF('Daily Log'!#REF!,$B218,'Daily Log'!#REF!),0)","v":0},{"$f":"IFERROR($E218*SUMIF('Daily Log'!#REF!,$B218,'Daily Log'!#REF!),0)","v":0},{"$f":"IFERROR($E218*SUMIF('Daily Log'!#REF!,$B218,'Daily Log'!#REF!),0)","v":0}]
[null,"DI03 91203:GOLD MROOM",null,"KLKD-APPETIZER",1,0,{"$f":"IFERROR($E219*SUMIF('Daily Log'!$B$18:$B$1017,$B219,'Daily Log'!$C$18:$C$1017),0)","v":0},{"$f":"IFERROR($E219*SUMIF('Daily Log'!$E$18:$E$1017,$B219,'Daily Log'!$F$18:$F$1017),0)","v":0},{"$f":"IFERROR($E219*SUMIF('Daily Log'!$H$18:$H$1017,$B219,'Daily Log'!$I$18:$I$1017),0)","v":0},{"$f":"IFERROR($E219*SUMIF('Daily Log'!$K$18:$K$1017,$B219,'Daily Log'!$L$18:$L$1017),0)","v":0},{"$f":"IFERROR($E219*SUMIF('Daily Log'!$N$18:$N$1017,$B219,'Daily Log'!$O$18:$O$1017),0)","v":0},{"$f":"IFERROR($E219*SUMIF('Daily Log'!$Q$18:$Q$1017,$B219,'Daily Log'!$R$18:$R$1017),0)","v":0},{"$f":"IFERROR($E219*SUMIF('Daily Log'!$T$18:$T$1017,$B219,'Daily Log'!$U$18:$U$1017),0)","v":0},{"$f":"IFERROR($E219*SUMIF('Daily Log'!$W$18:$W$1017,$B219,'Daily Log'!$X$18:$X$1017),0)","v":0},{"$f":"IFERROR($E219*SUMIF('Daily Log'!$Z$18:$Z$1017,$B219,'Daily Log'!$AA$18:$AA$1017),0)","v":0},{"$f":"IFERROR($E219*SUMIF('Daily Log'!$AC$18:$AC$1017,$B219,'Daily Log'!$AD$18:$AD$1017),0)","v":0},{"$f":"IFERROR($E219*SUMIF('Daily Log'!$AF$18:$AF$1017,$B219,'Daily Log'!$AG$18:$AG$1017),0)","v":0},{"$f":"IFERROR($E219*SUMIF('Daily Log'!$AI$18:$AI$1017,$B219,'Daily Log'!$AJ$18:$AJ$1017),0)","v":0},{"$f":"IFERROR($E219*SUMIF('Daily Log'!#REF!,$B219,'Daily Log'!#REF!),0)","v":0},{"$f":"IFERROR($E219*SUMIF('Daily Log'!#REF!,$B219,'Daily Log'!#REF!),0)","v":0},{"$f":"IFERROR($E219*SUMIF('Daily Log'!#REF!,$B219,'Daily Log'!#REF!),0)","v":0},{"$f":"IFERROR($E219*SUMIF('Daily Log'!#REF!,$B219,'Daily Log'!#REF!),0)","v":0},{"$f":"IFERROR($E219*SUMIF('Daily Log'!#REF!,$B219,'Daily Log'!#REF!),0)","v":0},{"$f":"IFERROR($E219*SUMIF('Daily Log'!#REF!,$B219,'Daily Log'!#REF!),0)","v":0},{"$f":"IFERROR($E219*SUMIF('Daily Log'!#REF!,$B219,'Daily Log'!#REF!),0)","v":0},{"$f":"IFERROR($E219*SUMIF('Daily Log'!#REF!,$B219,'Daily Log'!#REF!),0)","v":0},{"$f":"IFERROR($E219*SUMIF('Daily Log'!#REF!,$B219,'Daily Log'!#REF!),0)","v":0},{"$f":"IFERROR($E219*SUMIF('Daily Log'!#REF!,$B219,'Daily Log'!#REF!),0)","v":0},{"$f":"IFERROR($E219*SUMIF('Daily Log'!#REF!,$B219,'Daily Log'!#REF!),0)","v":0},{"$f":"IFERROR($E219*SUMIF('Daily Log'!#REF!,$B219,'Daily Log'!#REF!),0)","v":0},{"$f":"IFERROR($E219*SUMIF('Daily Log'!#REF!,$B219,'Daily Log'!#REF!),0)","v":0},{"$f":"IFERROR($E219*SUMIF('Daily Log'!#REF!,$B219,'Daily Log'!#REF!),0)","v":0},{"$f":"IFERROR($E219*SUMIF('Daily Log'!#REF!,$B219,'Daily Log'!#REF!),0)","v":0},{"$f":"IFERROR($E219*SUMIF('Daily Log'!#REF!,$B219,'Daily Log'!#REF!),0)","v":0},{"$f":"IFERROR($E219*SUMIF('Daily Log'!#REF!,$B219,'Daily Log'!#REF!),0)","v":0},{"$f":"IFERROR($E219*SUMIF('Daily Log'!#REF!,$B219,'Daily Log'!#REF!),0)","v":0},{"$f":"IFERROR($E219*SUMIF('Daily Log'!#REF!,$B219,'Daily Log'!#REF!),0)","v":0}]
[null,"DI04 91204:FISHBALL",null,"KLKD-APPETIZER",1,0,{"$f":"IFERROR($E220*SUMIF('Daily Log'!$B$18:$B$1017,$B220,'Daily Log'!$C$18:$C$1017),0)","v":0},{"$f":"IFERROR($E220*SUMIF('Daily Log'!$E$18:$E$1017,$B220,'Daily Log'!$F$18:$F$1017),0)","v":0},{"$f":"IFERROR($E220*SUMIF('Daily Log'!$H$18:$H$1017,$B220,'Daily Log'!$I$18:$I$1017),0)","v":0},{"$f":"IFERROR($E220*SUMIF('Daily Log'!$K$18:$K$1017,$B220,'Daily Log'!$L$18:$L$1017),0)","v":0},{"$f":"IFERROR($E220*SUMIF('Daily Log'!$N$18:$N$1017,$B220,'Daily Log'!$O$18:$O$1017),0)","v":0},{"$f":"IFERROR($E220*SUMIF('Daily Log'!$Q$18:$Q$1017,$B220,'Daily Log'!$R$18:$R$1017),0)","v":0},{"$f":"IFERROR($E220*SUMIF('Daily Log'!$T$18:$T$1017,$B220,'Daily Log'!$U$18:$U$1017),0)","v":0},{"$f":"IFERROR($E220*SUMIF('Daily Log'!$W$18:$W$1017,$B220,'Daily Log'!$X$18:$X$1017),0)","v":0},{"$f":"IFERROR($E220*SUMIF('Daily Log'!$Z$18:$Z$1017,$B220,'Daily Log'!$AA$18:$AA$1017),0)","v":0},{"$f":"IFERROR($E220*SUMIF('Daily Log'!$AC$18:$AC$1017,$B220,'Daily Log'!$AD$18:$AD$1017),0)","v":0},{"$f":"IFERROR($E220*SUMIF('Daily Log'!$AF$18:$AF$1017,$B220,'Daily Log'!$AG$18:$AG$1017),0)","v":0},{"$f":"IFERROR($E220*SUMIF('Daily Log'!$AI$18:$AI$1017,$B220,'Daily Log'!$AJ$18:$AJ$1017),0)","v":0},{"$f":"IFERROR($E220*SUMIF('Daily Log'!#REF!,$B220,'Daily Log'!#REF!),0)","v":0},{"$f":"IFERROR($E220*SUMIF('Daily Log'!#REF!,$B220,'Daily Log'!#REF!),0)","v":0},{"$f":"IFERROR($E220*SUMIF('Daily Log'!#REF!,$B220,'Daily Log'!#REF!),0)","v":0},{"$f":"IFERROR($E220*SUMIF('Daily Log'!#REF!,$B220,'Daily Log'!#REF!),0)","v":0},{"$f":"IFERROR($E220*SUMIF('Daily Log'!#REF!,$B220,'Daily Log'!#REF!),0)","v":0},{"$f":"IFERROR($E220*SUMIF('Daily Log'!#REF!,$B220,'Daily Log'!#REF!),0)","v":0},{"$f":"IFERROR($E220*SUMIF('Daily Log'!#REF!,$B220,'Daily Log'!#REF!),0)","v":0},{"$f":"IFERROR($E220*SUMIF('Daily Log'!#REF!,$B220,'Daily Log'!#REF!),0)","v":0},{"$f":"IFERROR($E220*SUMIF('Daily Log'!#REF!,$B220,'Daily Log'!#REF!),0)","v":0},{"$f":"IFERROR($E220*SUMIF('Daily Log'!#REF!,$B220,'Daily Log'!#REF!),0)","v":0},{"$f":"IFERROR($E220*SUMIF('Daily Log'!#REF!,$B220,'Daily Log'!#REF!),0)","v":0},{"$f":"IFERROR($E220*SUMIF('Daily Log'!#REF!,$B220,'Daily Log'!#REF!),0)","v":0},{"$f":"IFERROR($E220*SUMIF('Daily Log'!#REF!,$B220,'Daily Log'!#REF!),0)","v":0},{"$f":"IFERROR($E220*SUMIF('Daily Log'!#REF!,$B220,'Daily Log'!#REF!),0)","v":0},{"$f":"IFERROR($E220*SUMIF('Daily Log'!#REF!,$B220,'Daily Log'!#REF!),0)","v":0},{"$f":"IFERROR($E220*SUMIF('Daily Log'!#REF!,$B220,'Daily Log'!#REF!),0)","v":0},{"$f":"IFERROR($E220*SUMIF('Daily Log'!#REF!,$B220,'Daily Log'!#REF!),0)","v":0},{"$f":"IFERROR($E220*SUMIF('Daily Log'!#REF!,$B220,'Daily Log'!#REF!),0)","v":0},{"$f":"IFERROR($E220*SUMIF('Daily Log'!#REF!,$B220,'Daily Log'!#REF!),0)","v":0}]
[null,"DI05 91205:RAINBOW RL",null,"KLKD-APPETIZER",1,0,{"$f":"IFERROR($E221*SUMIF('Daily Log'!$B$18:$B$1017,$B221,'Daily Log'!$C$18:$C$1017),0)","v":0},{"$f":"IFERROR($E221*SUMIF('Daily Log'!$E$18:$E$1017,$B221,'Daily Log'!$F$18:$F$1017),0)","v":0},{"$f":"IFERROR($E221*SUMIF('Daily Log'!$H$18:$H$1017,$B221,'Daily Log'!$I$18:$I$1017),0)","v":0},{"$f":"IFERROR($E221*SUMIF('Daily Log'!$K$18:$K$1017,$B221,'Daily Log'!$L$18:$L$1017),0)","v":0},{"$f":"IFERROR($E221*SUMIF('Daily Log'!$N$18:$N$1017,$B221,'Daily Log'!$O$18:$O$1017),0)","v":0},{"$f":"IFERROR($E221*SUMIF('Daily Log'!$Q$18:$Q$1017,$B221,'Daily Log'!$R$18:$R$1017),0)","v":0},{"$f":"IFERROR($E221*SUMIF('Daily Log'!$T$18:$T$1017,$B221,'Daily Log'!$U$18:$U$1017),0)","v":0},{"$f":"IFERROR($E221*SUMIF('Daily Log'!$W$18:$W$1017,$B221,'Daily Log'!$X$18:$X$1017),0)","v":0},{"$f":"IFERROR($E221*SUMIF('Daily Log'!$Z$18:$Z$1017,$B221,'Daily Log'!$AA$18:$AA$1017),0)","v":0},{"$f":"IFERROR($E221*SUMIF('Daily Log'!$AC$18:$AC$1017,$B221,'Daily Log'!$AD$18:$AD$1017),0)","v":0},{"$f":"IFERROR($E221*SUMIF('Daily Log'!$AF$18:$AF$1017,$B221,'Daily Log'!$AG$18:$AG$1017),0)","v":0},{"$f":"IFERROR($E221*SUMIF('Daily Log'!$AI$18:$AI$1017,$B221,'Daily Log'!$AJ$18:$AJ$1017),0)","v":0},{"$f":"IFERROR($E221*SUMIF('Daily Log'!#REF!,$B221,'Daily Log'!#REF!),0)","v":0},{"$f":"IFERROR($E221*SUMIF('Daily Log'!#REF!,$B221,'Daily Log'!#REF!),0)","v":0},{"$f":"IFERROR($E221*SUMIF('Daily Log'!#REF!,$B221,'Daily Log'!#REF!),0)","v":0},{"$f":"IFERROR($E221*SUMIF('Daily Log'!#REF!,$B221,'Daily Log'!#REF!),0)","v":0},{"$f":"IFERROR($E221*SUMIF('Daily Log'!#REF!,$B221,'Daily Log'!#REF!),0)","v":0},{"$f":"IFERROR($E221*SUMIF('Daily Log'!#REF!,$B221,'Daily Log'!#REF!),0)","v":0},{"$f":"IFERROR($E221*SUMIF('Daily Log'!#REF!,$B221,'Daily Log'!#REF!),0)","v":0},{"$f":"IFERROR($E221*SUMIF('Daily Log'!#REF!,$B221,'Daily Log'!#REF!),0)","v":0},{"$f":"IFERROR($E221*SUMIF('Daily Log'!#REF!,$B221,'Daily Log'!#REF!),0)","v":0},{"$f":"IFERROR($E221*SUMIF('Daily Log'!#REF!,$B221,'Daily Log'!#REF!),0)","v":0},{"$f":"IFERROR($E221*SUMIF('Daily Log'!#REF!,$B221,'Daily Log'!#REF!),0)","v":0},{"$f":"IFERROR($E221*SUMIF('Daily Log'!#REF!,$B221,'Daily Log'!#REF!),0)","v":0},{"$f":"IFERROR($E221*SUMIF('Daily Log'!#REF!,$B221,'Daily Log'!#REF!),0)","v":0},{"$f":"IFERROR($E221*SUMIF('Daily Log'!#REF!,$B221,'Daily Log'!#REF!),0)","v":0},{"$f":"IFERROR($E221*SUMIF('Daily Log'!#REF!,$B221,'Daily Log'!#REF!),0)","v":0},{"$f":"IFERROR($E221*SUMIF('Daily Log'!#REF!,$B221,'Daily Log'!#REF!),0)","v":0},{"$f":"IFERROR($E221*SUMIF('Daily Log'!#REF!,$B221,'Daily Log'!#REF!),0)","v":0},{"$f":"IFERROR($E221*SUMIF('Daily Log'!#REF!,$B221,'Daily Log'!#REF!),0)","v":0},{"$f":"IFERROR($E221*SUMIF('Daily Log'!#REF!,$B221,'Daily Log'!#REF!),0)","v":0}]
[null,"DI06 91206:SPRING RL",null,"KLKD-APPETIZER",1,{"$f":"SUM($G222:$AK222)","v":0},{"$f":"IFERROR($E222*SUMIF('Daily Log'!$B$18:$B$1017,$B222,'Daily Log'!$C$18:$C$1017),0)","v":0},{"$f":"IFERROR($E222*SUMIF('Daily Log'!$E$18:$E$1017,$B222,'Daily Log'!$F$18:$F$1017),0)","v":0},{"$f":"IFERROR($E222*SUMIF('Daily Log'!$H$18:$H$1017,$B222,'Daily Log'!$I$18:$I$1017),0)","v":0},{"$f":"IFERROR($E222*SUMIF('Daily Log'!$K$18:$K$1017,$B222,'Daily Log'!$L$18:$L$1017),0)","v":0},{"$f":"IFERROR($E222*SUMIF('Daily Log'!$N$18:$N$1017,$B222,'Daily Log'!$O$18:$O$1017),0)","v":0},{"$f":"IFERROR($E222*SUMIF('Daily Log'!$Q$18:$Q$1017,$B222,'Daily Log'!$R$18:$R$1017),0)","v":0},{"$f":"IFERROR($E222*SUMIF('Daily Log'!$T$18:$T$1017,$B222,'Daily Log'!$U$18:$U$1017),0)","v":0},{"$f":"IFERROR($E222*SUMIF('Daily Log'!$W$18:$W$1017,$B222,'Daily Log'!$X$18:$X$1017),0)","v":0},{"$f":"IFERROR($E222*SUMIF('Daily Log'!$Z$18:$Z$1017,$B222,'Daily Log'!$AA$18:$AA$1017),0)","v":0},{"$f":"IFERROR($E222*SUMIF('Daily Log'!$AC$18:$AC$1017,$B222,'Daily Log'!$AD$18:$AD$1017),0)","v":0},{"$f":"IFERROR($E222*SUMIF('Daily Log'!$AF$18:$AF$1017,$B222,'Daily Log'!$AG$18:$AG$1017),0)","v":0},{"$f":"IFERROR($E222*SUMIF('Daily Log'!$AI$18:$AI$1017,$B222,'Daily Log'!$AJ$18:$AJ$1017),0)","v":0},{"$f":"IFERROR($E222*SUMIF('Daily Log'!#REF!,$B222,'Daily Log'!#REF!),0)","v":0},{"$f":"IFERROR($E222*SUMIF('Daily Log'!#REF!,$B222,'Daily Log'!#REF!),0)","v":0},{"$f":"IFERROR($E222*SUMIF('Daily Log'!#REF!,$B222,'Daily Log'!#REF!),0)","v":0},{"$f":"IFERROR($E222*SUMIF('Daily Log'!#REF!,$B222,'Daily Log'!#REF!),0)","v":0},{"$f":"IFERROR($E222*SUMIF('Daily Log'!#REF!,$B222,'Daily Log'!#REF!),0)","v":0},{"$f":"IFERROR($E222*SUMIF('Daily Log'!#REF!,$B222,'Daily Log'!#REF!),0)","v":0},{"$f":"IFERROR($E222*SUMIF('Daily Log'!#REF!,$B222,'Daily Log'!#REF!),0)","v":0},{"$f":"IFERROR($E222*SUMIF('Daily Log'!#REF!,$B222,'Daily Log'!#REF!),0)","v":0},{"$f":"IFERROR($E222*SUMIF('Daily Log'!#REF!,$B222,'Daily Log'!#REF!),0)","v":0},{"$f":"IFERROR($E222*SUMIF('Daily Log'!#REF!,$B222,'Daily Log'!#REF!),0)","v":0},{"$f":"IFERROR($E222*SUMIF('Daily Log'!#REF!,$B222,'Daily Log'!#REF!),0)","v":0},{"$f":"IFERROR($E222*SUMIF('Daily Log'!#REF!,$B222,'Daily Log'!#REF!),0)","v":0},{"$f":"IFERROR($E222*SUMIF('Daily Log'!#REF!,$B222,'Daily Log'!#REF!),0)","v":0},{"$f":"IFERROR($E222*SUMIF('Daily Log'!#REF!,$B222,'Daily Log'!#REF!),0)","v":0},{"$f":"IFERROR($E222*SUMIF('Daily Log'!#REF!,$B222,'Daily Log'!#REF!),0)","v":0},{"$f":"IFERROR($E222*SUMIF('Daily Log'!#REF!,$B222,'Daily Log'!#REF!),0)","v":0},{"$f":"IFERROR($E222*SUMIF('Daily Log'!#REF!,$B222,'Daily Log'!#REF!),0)","v":0},{"$f":"IFERROR($E222*SUMIF('Daily Log'!#REF!,$B222,'Daily Log'!#REF!),0)","v":0},{"$f":"IFERROR($E222*SUMIF('Daily Log'!#REF!,$B222,'Daily Log'!#REF!),0)","v":0}]
[null,"DI07 91207:SAUSAGE",null,"KLKD-APPETIZER",1,2,{"$f":"IFERROR($E223*SUMIF('Daily Log'!$B$18:$B$1017,$B223,'Daily Log'!$C$18:$C$1017),0)","v":0},{"$f":"IFERROR($E223*SUMIF('Daily Log'!$E$18:$E$1017,$B223,'Daily Log'!$F$18:$F$1017),0)","v":0},{"$f":"IFERROR($E223*SUMIF('Daily Log'!$H$18:$H$1017,$B223,'Daily Log'!$I$18:$I$1017),0)","v":0},{"$f":"IFERROR($E223*SUMIF('Daily Log'!$K$18:$K$1017,$B223,'Daily Log'!$L$18:$L$1017),0)","v":0},{"$f":"IFERROR($E223*SUMIF('Daily Log'!$N$18:$N$1017,$B223,'Daily Log'!$O$18:$O$1017),0)","v":0},{"$f":"IFERROR($E223*SUMIF('Daily Log'!$Q$18:$Q$1017,$B223,'Daily Log'!$R$18:$R$1017),0)","v":0},{"$f":"IFERROR($E223*SUMIF('Daily Log'!$T$18:$T$1017,$B223,'Daily Log'!$U$18:$U$1017),0)","v":0},{"$f":"IFERROR($E223*SUMIF('Daily Log'!$W$18:$W$1017,$B223,'Daily Log'!$X$18:$X$1017),0)","v":0},{"$f":"IFERROR($E223*SUMIF('Daily Log'!$Z$18:$Z$1017,$B223,'Daily Log'!$AA$18:$AA$1017),0)","v":0},{"$f":"IFERROR($E223*SUMIF('Daily Log'!$AC$18:$AC$1017,$B223,'Daily Log'!$AD$18:$AD$1017),0)","v":0},{"$f":"IFERROR($E223*SUMIF('Daily Log'!$AF$18:$AF$1017,$B223,'Daily Log'!$AG$18:$AG$1017),0)","v":0},{"$f":"IFERROR($E223*SUMIF('Daily Log'!$AI$18:$AI$1017,$B223,'Daily Log'!$AJ$18:$AJ$1017),0)","v":2},{"$f":"IFERROR($E223*SUMIF('Daily Log'!#REF!,$B223,'Daily Log'!#REF!),0)","v":0},{"$f":"IFERROR($E223*SUMIF('Daily Log'!#REF!,$B223,'Daily Log'!#REF!),0)","v":0},{"$f":"IFERROR($E223*SUMIF('Daily Log'!#REF!,$B223,'Daily Log'!#REF!),0)","v":0},{"$f":"IFERROR($E223*SUMIF('Daily Log'!#REF!,$B223,'Daily Log'!#REF!),0)","v":0},{"$f":"IFERROR($E223*SUMIF('Daily Log'!#REF!,$B223,'Daily Log'!#REF!),0)","v":0},{"$f":"IFERROR($E223*SUMIF('Daily Log'!#REF!,$B223,'Daily Log'!#REF!),0)","v":0},{"$f":"IFERROR($E223*SUMIF('Daily Log'!#REF!,$B223,'Daily Log'!#REF!),0)","v":0},{"$f":"IFERROR($E223*SUMIF('Daily Log'!#REF!,$B223,'Daily Log'!#REF!),0)","v":0},{"$f":"IFERROR($E223*SUMIF('Daily Log'!#REF!,$B223,'Daily Log'!#REF!),0)","v":0},{"$f":"IFERROR($E223*SUMIF('Daily Log'!#REF!,$B223,'Daily Log'!#REF!),0)","v":0},{"$f":"IFERROR($E223*SUMIF('Daily Log'!#REF!,$B223,'Daily Log'!#REF!),0)","v":0},{"$f":"IFERROR($E223*SUMIF('Daily Log'!#REF!,$B223,'Daily Log'!#REF!),0)","v":0},{"$f":"IFERROR($E223*SUMIF('Daily Log'!#REF!,$B223,'Daily Log'!#REF!),0)","v":0},{"$f":"IFERROR($E223*SUMIF('Daily Log'!#REF!,$B223,'Daily Log'!#REF!),0)","v":0},{"$f":"IFERROR($E223*SUMIF('Daily Log'!#REF!,$B223,'Daily Log'!#REF!),0)","v":0},{"$f":"IFERROR($E223*SUMIF('Daily Log'!#REF!,$B223,'Daily Log'!#REF!),0)","v":0},{"$f":"IFERROR($E223*SUMIF('Daily Log'!#REF!,$B223,'Daily Log'!#REF!),0)","v":0},{"$f":"IFERROR($E223*SUMIF('Daily Log'!#REF!,$B223,'Daily Log'!#REF!),0)","v":0},{"$f":"IFERROR($E223*SUMIF('Daily Log'!#REF!,$B223,'Daily Log'!#REF!),0)","v":0}]
[null,"DI08 91208:HOTDOG BUN",null,"KLKD-APPETIZER",1,0,{"$f":"IFERROR($E224*SUMIF('Daily Log'!$B$18:$B$1017,$B224,'Daily Log'!$C$18:$C$1017),0)","v":0},{"$f":"IFERROR($E224*SUMIF('Daily Log'!$E$18:$E$1017,$B224,'Daily Log'!$F$18:$F$1017),0)","v":0},{"$f":"IFERROR($E224*SUMIF('Daily Log'!$H$18:$H$1017,$B224,'Daily Log'!$I$18:$I$1017),0)","v":0},{"$f":"IFERROR($E224*SUMIF('Daily Log'!$K$18:$K$1017,$B224,'Daily Log'!$L$18:$L$1017),0)","v":0},{"$f":"IFERROR($E224*SUMIF('Daily Log'!$N$18:$N$1017,$B224,'Daily Log'!$O$18:$O$1017),0)","v":0},{"$f":"IFERROR($E224*SUMIF('Daily Log'!$Q$18:$Q$1017,$B224,'Daily Log'!$R$18:$R$1017),0)","v":0},{"$f":"IFERROR($E224*SUMIF('Daily Log'!$T$18:$T$1017,$B224,'Daily Log'!$U$18:$U$1017),0)","v":0},{"$f":"IFERROR($E224*SUMIF('Daily Log'!$W$18:$W$1017,$B224,'Daily Log'!$X$18:$X$1017),0)","v":0},{"$f":"IFERROR($E224*SUMIF('Daily Log'!$Z$18:$Z$1017,$B224,'Daily Log'!$AA$18:$AA$1017),0)","v":0},{"$f":"IFERROR($E224*SUMIF('Daily Log'!$AC$18:$AC$1017,$B224,'Daily Log'!$AD$18:$AD$1017),0)","v":0},{"$f":"IFERROR($E224*SUMIF('Daily Log'!$AF$18:$AF$1017,$B224,'Daily Log'!$AG$18:$AG$1017),0)","v":0},{"$f":"IFERROR($E224*SUMIF('Daily Log'!$AI$18:$AI$1017,$B224,'Daily Log'!$AJ$18:$AJ$1017),0)","v":0},{"$f":"IFERROR($E224*SUMIF('Daily Log'!#REF!,$B224,'Daily Log'!#REF!),0)","v":0},{"$f":"IFERROR($E224*SUMIF('Daily Log'!#REF!,$B224,'Daily Log'!#REF!),0)","v":0},{"$f":"IFERROR($E224*SUMIF('Daily Log'!#REF!,$B224,'Daily Log'!#REF!),0)","v":0},{"$f":"IFERROR($E224*SUMIF('Daily Log'!#REF!,$B224,'Daily Log'!#REF!),0)","v":0},{"$f":"IFERROR($E224*SUMIF('Daily Log'!#REF!,$B224,'Daily Log'!#REF!),0)","v":0},{"$f":"IFERROR($E224*SUMIF('Daily Log'!#REF!,$B224,'Daily Log'!#REF!),0)","v":0},{"$f":"IFERROR($E224*SUMIF('Daily Log'!#REF!,$B224,'Daily Log'!#REF!),0)","v":0},{"$f":"IFERROR($E224*SUMIF('Daily Log'!#REF!,$B224,'Daily Log'!#REF!),0)","v":0},{"$f":"IFERROR($E224*SUMIF('Daily Log'!#REF!,$B224,'Daily Log'!#REF!),0)","v":0},{"$f":"IFERROR($E224*SUMIF('Daily Log'!#REF!,$B224,'Daily Log'!#REF!),0)","v":0},{"$f":"IFERROR($E224*SUMIF('Daily Log'!#REF!,$B224,'Daily Log'!#REF!),0)","v":0},{"$f":"IFERROR($E224*SUMIF('Daily Log'!#REF!,$B224,'Daily Log'!#REF!),0)","v":0},{"$f":"IFERROR($E224*SUMIF('Daily Log'!#REF!,$B224,'Daily Log'!#REF!),0)","v":0},{"$f":"IFERROR($E224*SUMIF('Daily Log'!#REF!,$B224,'Daily Log'!#REF!),0)","v":0},{"$f":"IFERROR($E224*SUMIF('Daily Log'!#REF!,$B224,'Daily Log'!#REF!),0)","v":0},{"$f":"IFERROR($E224*SUMIF('Daily Log'!#REF!,$B224,'Daily Log'!#REF!),0)","v":0},{"$f":"IFERROR($E224*SUMIF('Daily Log'!#REF!,$B224,'Daily Log'!#REF!),0)","v":0},{"$f":"IFERROR($E224*SUMIF('Daily Log'!#REF!,$B224,'Daily Log'!#REF!),0)","v":0},{"$f":"IFERROR($E224*SUMIF('Daily Log'!#REF!,$B224,'Daily Log'!#REF!),0)","v":0}]
[null,"DI09 91209:SFD TOFU",null,"KLKD-APPETIZER",1,0,{"$f":"IFERROR($E225*SUMIF('Daily Log'!$B$18:$B$1017,$B225,'Daily Log'!$C$18:$C$1017),0)","v":0},{"$f":"IFERROR($E225*SUMIF('Daily Log'!$E$18:$E$1017,$B225,'Daily Log'!$F$18:$F$1017),0)","v":0},{"$f":"IFERROR($E225*SUMIF('Daily Log'!$H$18:$H$1017,$B225,'Daily Log'!$I$18:$I$1017),0)","v":0},{"$f":"IFERROR($E225*SUMIF('Daily Log'!$K$18:$K$1017,$B225,'Daily Log'!$L$18:$L$1017),0)","v":0},{"$f":"IFERROR($E225*SUMIF('Daily Log'!$N$18:$N$1017,$B225,'Daily Log'!$O$18:$O$1017),0)","v":0},{"$f":"IFERROR($E225*SUMIF('Daily Log'!$Q$18:$Q$1017,$B225,'Daily Log'!$R$18:$R$1017),0)","v":0},{"$f":"IFERROR($E225*SUMIF('Daily Log'!$T$18:$T$1017,$B225,'Daily Log'!$U$18:$U$1017),0)","v":0},{"$f":"IFERROR($E225*SUMIF('Daily Log'!$W$18:$W$1017,$B225,'Daily Log'!$X$18:$X$1017),0)","v":0},{"$f":"IFERROR($E225*SUMIF('Daily Log'!$Z$18:$Z$1017,$B225,'Daily Log'!$AA$18:$AA$1017),0)","v":0},{"$f":"IFERROR($E225*SUMIF('Daily Log'!$AC$18:$AC$1017,$B225,'Daily Log'!$AD$18:$AD$1017),0)","v":0},{"$f":"IFERROR($E225*SUMIF('Daily Log'!$AF$18:$AF$1017,$B225,'Daily Log'!$AG$18:$AG$1017),0)","v":0},{"$f":"IFERROR($E225*SUMIF('Daily Log'!$AI$18:$AI$1017,$B225,'Daily Log'!$AJ$18:$AJ$1017),0)","v":0},{"$f":"IFERROR($E225*SUMIF('Daily Log'!#REF!,$B225,'Daily Log'!#REF!),0)","v":0},{"$f":"IFERROR($E225*SUMIF('Daily Log'!#REF!,$B225,'Daily Log'!#REF!),0)","v":0},{"$f":"IFERROR($E225*SUMIF('Daily Log'!#REF!,$B225,'Daily Log'!#REF!),0)","v":0},{"$f":"IFERROR($E225*SUMIF('Daily Log'!#REF!,$B225,'Daily Log'!#REF!),0)","v":0},{"$f":"IFERROR($E225*SUMIF('Daily Log'!#REF!,$B225,'Daily Log'!#REF!),0)","v":0},{"$f":"IFERROR($E225*SUMIF('Daily Log'!#REF!,$B225,'Daily Log'!#REF!),0)","v":0},{"$f":"IFERROR($E225*SUMIF('Daily Log'!#REF!,$B225,'Daily Log'!#REF!),0)","v":0},{"$f":"IFERROR($E225*SUMIF('Daily Log'!#REF!,$B225,'Daily Log'!#REF!),0)","v":0},{"$f":"IFERROR($E225*SUMIF('Daily Log'!#REF!,$B225,'Daily Log'!#REF!),0)","v":0},{"$f":"IFERROR($E225*SUMIF('Daily Log'!#REF!,$B225,'Daily Log'!#REF!),0)","v":0},{"$f":"IFERROR($E225*SUMIF('Daily Log'!#REF!,$B225,'Daily Log'!#REF!),0)","v":0},{"$f":"IFERROR($E225*SUMIF('Daily Log'!#REF!,$B225,'Daily Log'!#REF!),0)","v":0},{"$f":"IFERROR($E225*SUMIF('Daily Log'!#REF!,$B225,'Daily Log'!#REF!),0)","v":0},{"$f":"IFERROR($E225*SUMIF('Daily Log'!#REF!,$B225,'Daily Log'!#REF!),0)","v":0},{"$f":"IFERROR($E225*SUMIF('Daily Log'!#REF!,$B225,'Daily Log'!#REF!),0)","v":0},{"$f":"IFERROR($E225*SUMIF('Daily Log'!#REF!,$B225,'Daily Log'!#REF!),0)","v":0},{"$f":"IFERROR($E225*SUMIF('Daily Log'!#REF!,$B225,'Daily Log'!#REF!),0)","v":0},{"$f":"IFERROR($E225*SUMIF('Daily Log'!#REF!,$B225,'Daily Log'!#REF!),0)","v":0},{"$f":"IFERROR($E225*SUMIF('Daily Log'!#REF!,$B225,'Daily Log'!#REF!),0)","v":0}]
[null,"DI10 91301:DUMPLING",null,"KLKD-APPETIZER",1,0,{"$f":"IFERROR($E226*SUMIF('Daily Log'!$B$18:$B$1017,$B226,'Daily Log'!$C$18:$C$1017),0)","v":0},{"$f":"IFERROR($E226*SUMIF('Daily Log'!$E$18:$E$1017,$B226,'Daily Log'!$F$18:$F$1017),0)","v":0},{"$f":"IFERROR($E226*SUMIF('Daily Log'!$H$18:$H$1017,$B226,'Daily Log'!$I$18:$I$1017),0)","v":0},{"$f":"IFERROR($E226*SUMIF('Daily Log'!$K$18:$K$1017,$B226,'Daily Log'!$L$18:$L$1017),0)","v":0},{"$f":"IFERROR($E226*SUMIF('Daily Log'!$N$18:$N$1017,$B226,'Daily Log'!$O$18:$O$1017),0)","v":0},{"$f":"IFERROR($E226*SUMIF('Daily Log'!$Q$18:$Q$1017,$B226,'Daily Log'!$R$18:$R$1017),0)","v":0},{"$f":"IFERROR($E226*SUMIF('Daily Log'!$T$18:$T$1017,$B226,'Daily Log'!$U$18:$U$1017),0)","v":0},{"$f":"IFERROR($E226*SUMIF('Daily Log'!$W$18:$W$1017,$B226,'Daily Log'!$X$18:$X$1017),0)","v":0},{"$f":"IFERROR($E226*SUMIF('Daily Log'!$Z$18:$Z$1017,$B226,'Daily Log'!$AA$18:$AA$1017),0)","v":0},{"$f":"IFERROR($E226*SUMIF('Daily Log'!$AC$18:$AC$1017,$B226,'Daily Log'!$AD$18:$AD$1017),0)","v":0},{"$f":"IFERROR($E226*SUMIF('Daily Log'!$AF$18:$AF$1017,$B226,'Daily Log'!$AG$18:$AG$1017),0)","v":0},{"$f":"IFERROR($E226*SUMIF('Daily Log'!$AI$18:$AI$1017,$B226,'Daily Log'!$AJ$18:$AJ$1017),0)","v":0},{"$f":"IFERROR($E226*SUMIF('Daily Log'!#REF!,$B226,'Daily Log'!#REF!),0)","v":0},{"$f":"IFERROR($E226*SUMIF('Daily Log'!#REF!,$B226,'Daily Log'!#REF!),0)","v":0},{"$f":"IFERROR($E226*SUMIF('Daily Log'!#REF!,$B226,'Daily Log'!#REF!),0)","v":0},{"$f":"IFERROR($E226*SUMIF('Daily Log'!#REF!,$B226,'Daily Log'!#REF!),0)","v":0},{"$f":"IFERROR($E226*SUMIF('Daily Log'!#REF!,$B226,'Daily Log'!#REF!),0)","v":0},{"$f":"IFERROR($E226*SUMIF('Daily Log'!#REF!,$B226,'Daily Log'!#REF!),0)","v":0},{"$f":"IFERROR($E226*SUMIF('Daily Log'!#REF!,$B226,'Daily Log'!#REF!),0)","v":0},{"$f":"IFERROR($E226*SUMIF('Daily Log'!#REF!,$B226,'Daily Log'!#REF!),0)","v":0},{"$f":"IFERROR($E226*SUMIF('Daily Log'!#REF!,$B226,'Daily Log'!#REF!),0)","v":0},{"$f":"IFERROR($E226*SUMIF('Daily Log'!#REF!,$B226,'Daily Log'!#REF!),0)","v":0},{"$f":"IFERROR($E226*SUMIF('Daily Log'!#REF!,$B226,'Daily Log'!#REF!),0)","v":0},{"$f":"IFERROR($E226*SUMIF('Daily Log'!#REF!,$B226,'Daily Log'!#REF!),0)","v":0},{"$f":"IFERROR($E226*SUMIF('Daily Log'!#REF!,$B226,'Daily Log'!#REF!),0)","v":0},{"$f":"IFERROR($E226*SUMIF('Daily Log'!#REF!,$B226,'Daily Log'!#REF!),0)","v":0},{"$f":"IFERROR($E226*SUMIF('Daily Log'!#REF!,$B226,'Daily Log'!#REF!),0)","v":0},{"$f":"IFERROR($E226*SUMIF('Daily Log'!#REF!,$B226,'Daily Log'!#REF!),0)","v":0},{"$f":"IFERROR($E226*SUMIF('Daily Log'!#REF!,$B226,'Daily Log'!#REF!),0)","v":0},{"$f":"IFERROR($E226*SUMIF('Daily Log'!#REF!,$B226,'Daily Log'!#REF!),0)","v":0},{"$f":"IFERROR($E226*SUMIF('Daily Log'!#REF!,$B226,'Daily Log'!#REF!),0)","v":0}]
[null,"DI11 91302:NUGGET",null,"KLKD-APPETIZER",1,3,{"$f":"IFERROR($E227*SUMIF('Daily Log'!$B$18:$B$1017,$B227,'Daily Log'!$C$18:$C$1017),0)","v":0},{"$f":"IFERROR($E227*SUMIF('Daily Log'!$E$18:$E$1017,$B227,'Daily Log'!$F$18:$F$1017),0)","v":0},{"$f":"IFERROR($E227*SUMIF('Daily Log'!$H$18:$H$1017,$B227,'Daily Log'!$I$18:$I$1017),0)","v":0},{"$f":"IFERROR($E227*SUMIF('Daily Log'!$K$18:$K$1017,$B227,'Daily Log'!$L$18:$L$1017),0)","v":0},{"$f":"IFERROR($E227*SUMIF('Daily Log'!$N$18:$N$1017,$B227,'Daily Log'!$O$18:$O$1017),0)","v":0},{"$f":"IFERROR($E227*SUMIF('Daily Log'!$Q$18:$Q$1017,$B227,'Daily Log'!$R$18:$R$1017),0)","v":1},{"$f":"IFERROR($E227*SUMIF('Daily Log'!$T$18:$T$1017,$B227,'Daily Log'!$U$18:$U$1017),0)","v":0},{"$f":"IFERROR($E227*SUMIF('Daily Log'!$W$18:$W$1017,$B227,'Daily Log'!$X$18:$X$1017),0)","v":0},{"$f":"IFERROR($E227*SUMIF('Daily Log'!$Z$18:$Z$1017,$B227,'Daily Log'!$AA$18:$AA$1017),0)","v":0},{"$f":"IFERROR($E227*SUMIF('Daily Log'!$AC$18:$AC$1017,$B227,'Daily Log'!$AD$18:$AD$1017),0)","v":0},{"$f":"IFERROR($E227*SUMIF('Daily Log'!$AF$18:$AF$1017,$B227,'Daily Log'!$AG$18:$AG$1017),0)","v":0},{"$f":"IFERROR($E227*SUMIF('Daily Log'!$AI$18:$AI$1017,$B227,'Daily Log'!$AJ$18:$AJ$1017),0)","v":2},{"$f":"IFERROR($E227*SUMIF('Daily Log'!#REF!,$B227,'Daily Log'!#REF!),0)","v":0},{"$f":"IFERROR($E227*SUMIF('Daily Log'!#REF!,$B227,'Daily Log'!#REF!),0)","v":0},{"$f":"IFERROR($E227*SUMIF('Daily Log'!#REF!,$B227,'Daily Log'!#REF!),0)","v":0},{"$f":"IFERROR($E227*SUMIF('Daily Log'!#REF!,$B227,'Daily Log'!#REF!),0)","v":0},{"$f":"IFERROR($E227*SUMIF('Daily Log'!#REF!,$B227,'Daily Log'!#REF!),0)","v":0},{"$f":"IFERROR($E227*SUMIF('Daily Log'!#REF!,$B227,'Daily Log'!#REF!),0)","v":0},{"$f":"IFERROR($E227*SUMIF('Daily Log'!#REF!,$B227,'Daily Log'!#REF!),0)","v":0},{"$f":"IFERROR($E227*SUMIF('Daily Log'!#REF!,$B227,'Daily Log'!#REF!),0)","v":0},{"$f":"IFERROR($E227*SUMIF('Daily Log'!#REF!,$B227,'Daily Log'!#REF!),0)","v":0},{"$f":"IFERROR($E227*SUMIF('Daily Log'!#REF!,$B227,'Daily Log'!#REF!),0)","v":0},{"$f":"IFERROR($E227*SUMIF('Daily Log'!#REF!,$B227,'Daily Log'!#REF!),0)","v":0},{"$f":"IFERROR($E227*SUMIF('Daily Log'!#REF!,$B227,'Daily Log'!#REF!),0)","v":0},{"$f":"IFERROR($E227*SUMIF('Daily Log'!#REF!,$B227,'Daily Log'!#REF!),0)","v":0},{"$f":"IFERROR($E227*SUMIF('Daily Log'!#REF!,$B227,'Daily Log'!#REF!),0)","v":0},{"$f":"IFERROR($E227*SUMIF('Daily Log'!#REF!,$B227,'Daily Log'!#REF!),0)","v":0},{"$f":"IFERROR($E227*SUMIF('Daily Log'!#REF!,$B227,'Daily Log'!#REF!),0)","v":0},{"$f":"IFERROR($E227*SUMIF('Daily Log'!#REF!,$B227,'Daily Log'!#REF!),0)","v":0},{"$f":"IFERROR($E227*SUMIF('Daily Log'!#REF!,$B227,'Daily Log'!#REF!),0)","v":0},{"$f":"IFERROR($E227*SUMIF('Daily Log'!#REF!,$B227,'Daily Log'!#REF!),0)","v":0}]
[null,"DI12 91303:CHK WING",null,"KLKD-APPETIZER",1,6,{"$f":"IFERROR($E228*SUMIF('Daily Log'!$B$18:$B$1017,$B228,'Daily Log'!$C$18:$C$1017),0)","v":0},{"$f":"IFERROR($E228*SUMIF('Daily Log'!$E$18:$E$1017,$B228,'Daily Log'!$F$18:$F$1017),0)","v":0},{"$f":"IFERROR($E228*SUMIF('Daily Log'!$H$18:$H$1017,$B228,'Daily Log'!$I$18:$I$1017),0)","v":0},{"$f":"IFERROR($E228*SUMIF('Daily Log'!$K$18:$K$1017,$B228,'Daily Log'!$L$18:$L$1017),0)","v":0},{"$f":"IFERROR($E228*SUMIF('Daily Log'!$N$18:$N$1017,$B228,'Daily Log'!$O$18:$O$1017),0)","v":0},{"$f":"IFERROR($E228*SUMIF('Daily Log'!$Q$18:$Q$1017,$B228,'Daily Log'!$R$18:$R$1017),0)","v":1},{"$f":"IFERROR($E228*SUMIF('Daily Log'!$T$18:$T$1017,$B228,'Daily Log'!$U$18:$U$1017),0)","v":1},{"$f":"IFERROR($E228*SUMIF('Daily Log'!$W$18:$W$1017,$B228,'Daily Log'!$X$18:$X$1017),0)","v":1},{"$f":"IFERROR($E228*SUMIF('Daily Log'!$Z$18:$Z$1017,$B228,'Daily Log'!$AA$18:$AA$1017),0)","v":0},{"$f":"IFERROR($E228*SUMIF('Daily Log'!$AC$18:$AC$1017,$B228,'Daily Log'!$AD$18:$AD$1017),0)","v":0},{"$f":"IFERROR($E228*SUMIF('Daily Log'!$AF$18:$AF$1017,$B228,'Daily Log'!$AG$18:$AG$1017),0)","v":0},{"$f":"IFERROR($E228*SUMIF('Daily Log'!$AI$18:$AI$1017,$B228,'Daily Log'!$AJ$18:$AJ$1017),0)","v":3},{"$f":"IFERROR($E228*SUMIF('Daily Log'!#REF!,$B228,'Daily Log'!#REF!),0)","v":0},{"$f":"IFERROR($E228*SUMIF('Daily Log'!#REF!,$B228,'Daily Log'!#REF!),0)","v":0},{"$f":"IFERROR($E228*SUMIF('Daily Log'!#REF!,$B228,'Daily Log'!#REF!),0)","v":0},{"$f":"IFERROR($E228*SUMIF('Daily Log'!#REF!,$B228,'Daily Log'!#REF!),0)","v":0},{"$f":"IFERROR($E228*SUMIF('Daily Log'!#REF!,$B228,'Daily Log'!#REF!),0)","v":0},{"$f":"IFERROR($E228*SUMIF('Daily Log'!#REF!,$B228,'Daily Log'!#REF!),0)","v":0},{"$f":"IFERROR($E228*SUMIF('Daily Log'!#REF!,$B228,'Daily Log'!#REF!),0)","v":0},{"$f":"IFERROR($E228*SUMIF('Daily Log'!#REF!,$B228,'Daily Log'!#REF!),0)","v":0},{"$f":"IFERROR($E228*SUMIF('Daily Log'!#REF!,$B228,'Daily Log'!#REF!),0)","v":0},{"$f":"IFERROR($E228*SUMIF('Daily Log'!#REF!,$B228,'Daily Log'!#REF!),0)","v":0},{"$f":"IFERROR($E228*SUMIF('Daily Log'!#REF!,$B228,'Daily Log'!#REF!),0)","v":0},{"$f":"IFERROR($E228*SUMIF('Daily Log'!#REF!,$B228,'Daily Log'!#REF!),0)","v":0},{"$f":"IFERROR($E228*SUMIF('Daily Log'!#REF!,$B228,'Daily Log'!#REF!),0)","v":0},{"$f":"IFERROR($E228*SUMIF('Daily Log'!#REF!,$B228,'Daily Log'!#REF!),0)","v":0},{"$f":"IFERROR($E228*SUMIF('Daily Log'!#REF!,$B228,'Daily Log'!#REF!),0)","v":0},{"$f":"IFERROR($E228*SUMIF('Daily Log'!#REF!,$B228,'Daily Log'!#REF!),0)","v":0},{"$f":"IFERROR($E228*SUMIF('Daily Log'!#REF!,$B228,'Daily Log'!#REF!),0)","v":0},{"$f":"IFERROR($E228*SUMIF('Daily Log'!#REF!,$B228,'Daily Log'!#REF!),0)","v":0},{"$f":"IFERROR($E228*SUMIF('Daily Log'!#REF!,$B228,'Daily Log'!#REF!),0)","v":0}]
[null,"DI13 91304:IKAN BILIS",null,"KLKD-APPETIZER",1,0,{"$f":"IFERROR($E229*SUMIF('Daily Log'!$B$18:$B$1017,$B229,'Daily Log'!$C$18:$C$1017),0)","v":0},{"$f":"IFERROR($E229*SUMIF('Daily Log'!$E$18:$E$1017,$B229,'Daily Log'!$F$18:$F$1017),0)","v":0},{"$f":"IFERROR($E229*SUMIF('Daily Log'!$H$18:$H$1017,$B229,'Daily Log'!$I$18:$I$1017),0)","v":0},{"$f":"IFERROR($E229*SUMIF('Daily Log'!$K$18:$K$1017,$B229,'Daily Log'!$L$18:$L$1017),0)","v":0},{"$f":"IFERROR($E229*SUMIF('Daily Log'!$N$18:$N$1017,$B229,'Daily Log'!$O$18:$O$1017),0)","v":0},{"$f":"IFERROR($E229*SUMIF('Daily Log'!$Q$18:$Q$1017,$B229,'Daily Log'!$R$18:$R$1017),0)","v":0},{"$f":"IFERROR($E229*SUMIF('Daily Log'!$T$18:$T$1017,$B229,'Daily Log'!$U$18:$U$1017),0)","v":0},{"$f":"IFERROR($E229*SUMIF('Daily Log'!$W$18:$W$1017,$B229,'Daily Log'!$X$18:$X$1017),0)","v":0},{"$f":"IFERROR($E229*SUMIF('Daily Log'!$Z$18:$Z$1017,$B229,'Daily Log'!$AA$18:$AA$1017),0)","v":0},{"$f":"IFERROR($E229*SUMIF('Daily Log'!$AC$18:$AC$1017,$B229,'Daily Log'!$AD$18:$AD$1017),0)","v":0},{"$f":"IFERROR($E229*SUMIF('Daily Log'!$AF$18:$AF$1017,$B229,'Daily Log'!$AG$18:$AG$1017),0)","v":0},{"$f":"IFERROR($E229*SUMIF('Daily Log'!$AI$18:$AI$1017,$B229,'Daily Log'!$AJ$18:$AJ$1017),0)","v":0},{"$f":"IFERROR($E229*SUMIF('Daily Log'!#REF!,$B229,'Daily Log'!#REF!),0)","v":0},{"$f":"IFERROR($E229*SUMIF('Daily Log'!#REF!,$B229,'Daily Log'!#REF!),0)","v":0},{"$f":"IFERROR($E229*SUMIF('Daily Log'!#REF!,$B229,'Daily Log'!#REF!),0)","v":0},{"$f":"IFERROR($E229*SUMIF('Daily Log'!#REF!,$B229,'Daily Log'!#REF!),0)","v":0},{"$f":"IFERROR($E229*SUMIF('Daily Log'!#REF!,$B229,'Daily Log'!#REF!),0)","v":0},{"$f":"IFERROR($E229*SUMIF('Daily Log'!#REF!,$B229,'Daily Log'!#REF!),0)","v":0},{"$f":"IFERROR($E229*SUMIF('Daily Log'!#REF!,$B229,'Daily Log'!#REF!),0)","v":0},{"$f":"IFERROR($E229*SUMIF('Daily Log'!#REF!,$B229,'Daily Log'!#REF!),0)","v":0},{"$f":"IFERROR($E229*SUMIF('Daily Log'!#REF!,$B229,'Daily Log'!#REF!),0)","v":0},{"$f":"IFERROR($E229*SUMIF('Daily Log'!#REF!,$B229,'Daily Log'!#REF!),0)","v":0},{"$f":"IFERROR($E229*SUMIF('Daily Log'!#REF!,$B229,'Daily Log'!#REF!),0)","v":0},{"$f":"IFERROR($E229*SUMIF('Daily Log'!#REF!,$B229,'Daily Log'!#REF!),0)","v":0},{"$f":"IFERROR($E229*SUMIF('Daily Log'!#REF!,$B229,'Daily Log'!#REF!),0)","v":0},{"$f":"IFERROR($E229*SUMIF('Daily Log'!#REF!,$B229,'Daily Log'!#REF!),0)","v":0},{"$f":"IFERROR($E229*SUMIF('Daily Log'!#REF!,$B229,'Daily Log'!#REF!),0)","v":0},{"$f":"IFERROR($E229*SUMIF('Daily Log'!#REF!,$B229,'Daily Log'!#REF!),0)","v":0},{"$f":"IFERROR($E229*SUMIF('Daily Log'!#REF!,$B229,'Daily Log'!#REF!),0)","v":0},{"$f":"IFERROR($E229*SUMIF('Daily Log'!#REF!,$B229,'Daily Log'!#REF!),0)","v":0},{"$f":"IFERROR($E229*SUMIF('Daily Log'!#REF!,$B229,'Daily Log'!#REF!),0)","v":0}]
[null,"DI14 91305:THAI RL",null,"KLKD-APPETIZER",1,0,{"$f":"IFERROR($E230*SUMIF('Daily Log'!$B$18:$B$1017,$B230,'Daily Log'!$C$18:$C$1017),0)","v":0},{"$f":"IFERROR($E230*SUMIF('Daily Log'!$E$18:$E$1017,$B230,'Daily Log'!$F$18:$F$1017),0)","v":0},{"$f":"IFERROR($E230*SUMIF('Daily Log'!$H$18:$H$1017,$B230,'Daily Log'!$I$18:$I$1017),0)","v":0},{"$f":"IFERROR($E230*SUMIF('Daily Log'!$K$18:$K$1017,$B230,'Daily Log'!$L$18:$L$1017),0)","v":0},{"$f":"IFERROR($E230*SUMIF('Daily Log'!$N$18:$N$1017,$B230,'Daily Log'!$O$18:$O$1017),0)","v":0},{"$f":"IFERROR($E230*SUMIF('Daily Log'!$Q$18:$Q$1017,$B230,'Daily Log'!$R$18:$R$1017),0)","v":0},{"$f":"IFERROR($E230*SUMIF('Daily Log'!$T$18:$T$1017,$B230,'Daily Log'!$U$18:$U$1017),0)","v":0},{"$f":"IFERROR($E230*SUMIF('Daily Log'!$W$18:$W$1017,$B230,'Daily Log'!$X$18:$X$1017),0)","v":0},{"$f":"IFERROR($E230*SUMIF('Daily Log'!$Z$18:$Z$1017,$B230,'Daily Log'!$AA$18:$AA$1017),0)","v":0},{"$f":"IFERROR($E230*SUMIF('Daily Log'!$AC$18:$AC$1017,$B230,'Daily Log'!$AD$18:$AD$1017),0)","v":0},{"$f":"IFERROR($E230*SUMIF('Daily Log'!$AF$18:$AF$1017,$B230,'Daily Log'!$AG$18:$AG$1017),0)","v":0},{"$f":"IFERROR($E230*SUMIF('Daily Log'!$AI$18:$AI$1017,$B230,'Daily Log'!$AJ$18:$AJ$1017),0)","v":0},{"$f":"IFERROR($E230*SUMIF('Daily Log'!#REF!,$B230,'Daily Log'!#REF!),0)","v":0},{"$f":"IFERROR($E230*SUMIF('Daily Log'!#REF!,$B230,'Daily Log'!#REF!),0)","v":0},{"$f":"IFERROR($E230*SUMIF('Daily Log'!#REF!,$B230,'Daily Log'!#REF!),0)","v":0},{"$f":"IFERROR($E230*SUMIF('Daily Log'!#REF!,$B230,'Daily Log'!#REF!),0)","v":0},{"$f":"IFERROR($E230*SUMIF('Daily Log'!#REF!,$B230,'Daily Log'!#REF!),0)","v":0},{"$f":"IFERROR($E230*SUMIF('Daily Log'!#REF!,$B230,'Daily Log'!#REF!),0)","v":0},{"$f":"IFERROR($E230*SUMIF('Daily Log'!#REF!,$B230,'Daily Log'!#REF!),0)","v":0},{"$f":"IFERROR($E230*SUMIF('Daily Log'!#REF!,$B230,'Daily Log'!#REF!),0)","v":0},{"$f":"IFERROR($E230*SUMIF('Daily Log'!#REF!,$B230,'Daily Log'!#REF!),0)","v":0},{"$f":"IFERROR($E230*SUMIF('Daily Log'!#REF!,$B230,'Daily Log'!#REF!),0)","v":0},{"$f":"IFERROR($E230*SUMIF('Daily Log'!#REF!,$B230,'Daily Log'!#REF!),0)","v":0},{"$f":"IFERROR($E230*SUMIF('Daily Log'!#REF!,$B230,'Daily Log'!#REF!),0)","v":0},{"$f":"IFERROR($E230*SUMIF('Daily Log'!#REF!,$B230,'Daily Log'!#REF!),0)","v":0},{"$f":"IFERROR($E230*SUMIF('Daily Log'!#REF!,$B230,'Daily Log'!#REF!),0)","v":0},{"$f":"IFERROR($E230*SUMIF('Daily Log'!#REF!,$B230,'Daily Log'!#REF!),0)","v":0},{"$f":"IFERROR($E230*SUMIF('Daily Log'!#REF!,$B230,'Daily Log'!#REF!),0)","v":0},{"$f":"IFERROR($E230*SUMIF('Daily Log'!#REF!,$B230,'Daily Log'!#REF!),0)","v":0},{"$f":"IFERROR($E230*SUMIF('Daily Log'!#REF!,$B230,'Daily Log'!#REF!),0)","v":0},{"$f":"IFERROR($E230*SUMIF('Daily Log'!#REF!,$B230,'Daily Log'!#REF!),0)","v":0}]
[null,"DI15 91306:SLVR FISH",null,"KLKD-APPETIZER",1,0,{"$f":"IFERROR($E231*SUMIF('Daily Log'!$B$18:$B$1017,$B231,'Daily Log'!$C$18:$C$1017),0)","v":0},{"$f":"IFERROR($E231*SUMIF('Daily Log'!$E$18:$E$1017,$B231,'Daily Log'!$F$18:$F$1017),0)","v":0},{"$f":"IFERROR($E231*SUMIF('Daily Log'!$H$18:$H$1017,$B231,'Daily Log'!$I$18:$I$1017),0)","v":0},{"$f":"IFERROR($E231*SUMIF('Daily Log'!$K$18:$K$1017,$B231,'Daily Log'!$L$18:$L$1017),0)","v":0},{"$f":"IFERROR($E231*SUMIF('Daily Log'!$N$18:$N$1017,$B231,'Daily Log'!$O$18:$O$1017),0)","v":0},{"$f":"IFERROR($E231*SUMIF('Daily Log'!$Q$18:$Q$1017,$B231,'Daily Log'!$R$18:$R$1017),0)","v":0},{"$f":"IFERROR($E231*SUMIF('Daily Log'!$T$18:$T$1017,$B231,'Daily Log'!$U$18:$U$1017),0)","v":0},{"$f":"IFERROR($E231*SUMIF('Daily Log'!$W$18:$W$1017,$B231,'Daily Log'!$X$18:$X$1017),0)","v":0},{"$f":"IFERROR($E231*SUMIF('Daily Log'!$Z$18:$Z$1017,$B231,'Daily Log'!$AA$18:$AA$1017),0)","v":0},{"$f":"IFERROR($E231*SUMIF('Daily Log'!$AC$18:$AC$1017,$B231,'Daily Log'!$AD$18:$AD$1017),0)","v":0},{"$f":"IFERROR($E231*SUMIF('Daily Log'!$AF$18:$AF$1017,$B231,'Daily Log'!$AG$18:$AG$1017),0)","v":0},{"$f":"IFERROR($E231*SUMIF('Daily Log'!$AI$18:$AI$1017,$B231,'Daily Log'!$AJ$18:$AJ$1017),0)","v":0},{"$f":"IFERROR($E231*SUMIF('Daily Log'!#REF!,$B231,'Daily Log'!#REF!),0)","v":0},{"$f":"IFERROR($E231*SUMIF('Daily Log'!#REF!,$B231,'Daily Log'!#REF!),0)","v":0},{"$f":"IFERROR($E231*SUMIF('Daily Log'!#REF!,$B231,'Daily Log'!#REF!),0)","v":0},{"$f":"IFERROR($E231*SUMIF('Daily Log'!#REF!,$B231,'Daily Log'!#REF!),0)","v":0},{"$f":"IFERROR($E231*SUMIF('Daily Log'!#REF!,$B231,'Daily Log'!#REF!),0)","v":0},{"$f":"IFERROR($E231*SUMIF('Daily Log'!#REF!,$B231,'Daily Log'!#REF!),0)","v":0},{"$f":"IFERROR($E231*SUMIF('Daily Log'!#REF!,$B231,'Daily Log'!#REF!),0)","v":0},{"$f":"IFERROR($E231*SUMIF('Daily Log'!#REF!,$B231,'Daily Log'!#REF!),0)","v":0},{"$f":"IFERROR($E231*SUMIF('Daily Log'!#REF!,$B231,'Daily Log'!#REF!),0)","v":0},{"$f":"IFERROR($E231*SUMIF('Daily Log'!#REF!,$B231,'Daily Log'!#REF!),0)","v":0},{"$f":"IFERROR($E231*SUMIF('Daily Log'!#REF!,$B231,'Daily Log'!#REF!),0)","v":0},{"$f":"IFERROR($E231*SUMIF('Daily Log'!#REF!,$B231,'Daily Log'!#REF!),0)","v":0},{"$f":"IFERROR($E231*SUMIF('Daily Log'!#REF!,$B231,'Daily Log'!#REF!),0)","v":0},{"$f":"IFERROR($E231*SUMIF('Daily Log'!#REF!,$B231,'Daily Log'!#REF!),0)","v":0},{"$f":"IFERROR($E231*SUMIF('Daily Log'!#REF!,$B231,'Daily Log'!#REF!),0)","v":0},{"$f":"IFERROR($E231*SUMIF('Daily Log'!#REF!,$B231,'Daily Log'!#REF!),0)","v":0},{"$f":"IFERROR($E231*SUMIF('Daily Log'!#REF!,$B231,'Daily Log'!#REF!),0)","v":0},{"$f":"IFERROR($E231*SUMIF('Daily Log'!#REF!,$B231,'Daily Log'!#REF!),0)","v":0},{"$f":"IFERROR($E231*SUMIF('Daily Log'!#REF!,$B231,'Daily Log'!#REF!),0)","v":0}]
[null,"DI16 91307:D/F C.WING",null,"KLKD-APPETIZER",1,2,{"$f":"IFERROR($E232*SUMIF('Daily Log'!$B$18:$B$1017,$B232,'Daily Log'!$C$18:$C$1017),0)","v":0},{"$f":"IFERROR($E232*SUMIF('Daily Log'!$E$18:$E$1017,$B232,'Daily Log'!$F$18:$F$1017),0)","v":0},{"$f":"IFERROR($E232*SUMIF('Daily Log'!$H$18:$H$1017,$B232,'Daily Log'!$I$18:$I$1017),0)","v":0},{"$f":"IFERROR($E232*SUMIF('Daily Log'!$K$18:$K$1017,$B232,'Daily Log'!$L$18:$L$1017),0)","v":0},{"$f":"IFERROR($E232*SUMIF('Daily Log'!$N$18:$N$1017,$B232,'Daily Log'!$O$18:$O$1017),0)","v":0},{"$f":"IFERROR($E232*SUMIF('Daily Log'!$Q$18:$Q$1017,$B232,'Daily Log'!$R$18:$R$1017),0)","v":1},{"$f":"IFERROR($E232*SUMIF('Daily Log'!$T$18:$T$1017,$B232,'Daily Log'!$U$18:$U$1017),0)","v":0},{"$f":"IFERROR($E232*SUMIF('Daily Log'!$W$18:$W$1017,$B232,'Daily Log'!$X$18:$X$1017),0)","v":0},{"$f":"IFERROR($E232*SUMIF('Daily Log'!$Z$18:$Z$1017,$B232,'Daily Log'!$AA$18:$AA$1017),0)","v":0},{"$f":"IFERROR($E232*SUMIF('Daily Log'!$AC$18:$AC$1017,$B232,'Daily Log'!$AD$18:$AD$1017),0)","v":0},{"$f":"IFERROR($E232*SUMIF('Daily Log'!$AF$18:$AF$1017,$B232,'Daily Log'!$AG$18:$AG$1017),0)","v":0},{"$f":"IFERROR($E232*SUMIF('Daily Log'!$AI$18:$AI$1017,$B232,'Daily Log'!$AJ$18:$AJ$1017),0)","v":1},{"$f":"IFERROR($E232*SUMIF('Daily Log'!#REF!,$B232,'Daily Log'!#REF!),0)","v":0},{"$f":"IFERROR($E232*SUMIF('Daily Log'!#REF!,$B232,'Daily Log'!#REF!),0)","v":0},{"$f":"IFERROR($E232*SUMIF('Daily Log'!#REF!,$B232,'Daily Log'!#REF!),0)","v":0},{"$f":"IFERROR($E232*SUMIF('Daily Log'!#REF!,$B232,'Daily Log'!#REF!),0)","v":0},{"$f":"IFERROR($E232*SUMIF('Daily Log'!#REF!,$B232,'Daily Log'!#REF!),0)","v":0},{"$f":"IFERROR($E232*SUMIF('Daily Log'!#REF!,$B232,'Daily Log'!#REF!),0)","v":0},{"$f":"IFERROR($E232*SUMIF('Daily Log'!#REF!,$B232,'Daily Log'!#REF!),0)","v":0},{"$f":"IFERROR($E232*SUMIF('Daily Log'!#REF!,$B232,'Daily Log'!#REF!),0)","v":0},{"$f":"IFERROR($E232*SUMIF('Daily Log'!#REF!,$B232,'Daily Log'!#REF!),0)","v":0},{"$f":"IFERROR($E232*SUMIF('Daily Log'!#REF!,$B232,'Daily Log'!#REF!),0)","v":0},{"$f":"IFERROR($E232*SUMIF('Daily Log'!#REF!,$B232,'Daily Log'!#REF!),0)","v":0},{"$f":"IFERROR($E232*SUMIF('Daily Log'!#REF!,$B232,'Daily Log'!#REF!),0)","v":0},{"$f":"IFERROR($E232*SUMIF('Daily Log'!#REF!,$B232,'Daily Log'!#REF!),0)","v":0},{"$f":"IFERROR($E232*SUMIF('Daily Log'!#REF!,$B232,'Daily Log'!#REF!),0)","v":0},{"$f":"IFERROR($E232*SUMIF('Daily Log'!#REF!,$B232,'Daily Log'!#REF!),0)","v":0},{"$f":"IFERROR($E232*SUMIF('Daily Log'!#REF!,$B232,'Daily Log'!#REF!),0)","v":0},{"$f":"IFERROR($E232*SUMIF('Daily Log'!#REF!,$B232,'Daily Log'!#REF!),0)","v":0},{"$f":"IFERROR($E232*SUMIF('Daily Log'!#REF!,$B232,'Daily Log'!#REF!),0)","v":0},{"$f":"IFERROR($E232*SUMIF('Daily Log'!#REF!,$B232,'Daily Log'!#REF!),0)","v":0}]
[null,"DI17 91308:C/CALAMARI",null,"KLKD-APPETIZER",1,1,{"$f":"IFERROR($E233*SUMIF('Daily Log'!$B$18:$B$1017,$B233,'Daily Log'!$C$18:$C$1017),0)","v":0},{"$f":"IFERROR($E233*SUMIF('Daily Log'!$E$18:$E$1017,$B233,'Daily Log'!$F$18:$F$1017),0)","v":0},{"$f":"IFERROR($E233*SUMIF('Daily Log'!$H$18:$H$1017,$B233,'Daily Log'!$I$18:$I$1017),0)","v":0},{"$f":"IFERROR($E233*SUMIF('Daily Log'!$K$18:$K$1017,$B233,'Daily Log'!$L$18:$L$1017),0)","v":0},{"$f":"IFERROR($E233*SUMIF('Daily Log'!$N$18:$N$1017,$B233,'Daily Log'!$O$18:$O$1017),0)","v":0},{"$f":"IFERROR($E233*SUMIF('Daily Log'!$Q$18:$Q$1017,$B233,'Daily Log'!$R$18:$R$1017),0)","v":0},{"$f":"IFERROR($E233*SUMIF('Daily Log'!$T$18:$T$1017,$B233,'Daily Log'!$U$18:$U$1017),0)","v":0},{"$f":"IFERROR($E233*SUMIF('Daily Log'!$W$18:$W$1017,$B233,'Daily Log'!$X$18:$X$1017),0)","v":0},{"$f":"IFERROR($E233*SUMIF('Daily Log'!$Z$18:$Z$1017,$B233,'Daily Log'!$AA$18:$AA$1017),0)","v":0},{"$f":"IFERROR($E233*SUMIF('Daily Log'!$AC$18:$AC$1017,$B233,'Daily Log'!$AD$18:$AD$1017),0)","v":0},{"$f":"IFERROR($E233*SUMIF('Daily Log'!$AF$18:$AF$1017,$B233,'Daily Log'!$AG$18:$AG$1017),0)","v":1},{"$f":"IFERROR($E233*SUMIF('Daily Log'!$AI$18:$AI$1017,$B233,'Daily Log'!$AJ$18:$AJ$1017),0)","v":0},{"$f":"IFERROR($E233*SUMIF('Daily Log'!#REF!,$B233,'Daily Log'!#REF!),0)","v":0},{"$f":"IFERROR($E233*SUMIF('Daily Log'!#REF!,$B233,'Daily Log'!#REF!),0)","v":0},{"$f":"IFERROR($E233*SUMIF('Daily Log'!#REF!,$B233,'Daily Log'!#REF!),0)","v":0},{"$f":"IFERROR($E233*SUMIF('Daily Log'!#REF!,$B233,'Daily Log'!#REF!),0)","v":0},{"$f":"IFERROR($E233*SUMIF('Daily Log'!#REF!,$B233,'Daily Log'!#REF!),0)","v":0},{"$f":"IFERROR($E233*SUMIF('Daily Log'!#REF!,$B233,'Daily Log'!#REF!),0)","v":0},{"$f":"IFERROR($E233*SUMIF('Daily Log'!#REF!,$B233,'Daily Log'!#REF!),0)","v":0},{"$f":"IFERROR($E233*SUMIF('Daily Log'!#REF!,$B233,'Daily Log'!#REF!),0)","v":0},{"$f":"IFERROR($E233*SUMIF('Daily Log'!#REF!,$B233,'Daily Log'!#REF!),0)","v":0},{"$f":"IFERROR($E233*SUMIF('Daily Log'!#REF!,$B233,'Daily Log'!#REF!),0)","v":0},{"$f":"IFERROR($E233*SUMIF('Daily Log'!#REF!,$B233,'Daily Log'!#REF!),0)","v":0},{"$f":"IFERROR($E233*SUMIF('Daily Log'!#REF!,$B233,'Daily Log'!#REF!),0)","v":0},{"$f":"IFERROR($E233*SUMIF('Daily Log'!#REF!,$B233,'Daily Log'!#REF!),0)","v":0},{"$f":"IFERROR($E233*SUMIF('Daily Log'!#REF!,$B233,'Daily Log'!#REF!),0)","v":0},{"$f":"IFERROR($E233*SUMIF('Daily Log'!#REF!,$B233,'Daily Log'!#REF!),0)","v":0},{"$f":"IFERROR($E233*SUMIF('Daily Log'!#REF!,$B233,'Daily Log'!#REF!),0)","v":0},{"$f":"IFERROR($E233*SUMIF('Daily Log'!#REF!,$B233,'Daily Log'!#REF!),0)","v":0},{"$f":"IFERROR($E233*SUMIF('Daily Log'!#REF!,$B233,'Daily Log'!#REF!),0)","v":0},{"$f":"IFERROR($E233*SUMIF('Daily Log'!#REF!,$B233,'Daily Log'!#REF!),0)","v":0}]
[null,"DI18 91309:Mc O.RINGS",null,"KLKD-APPETIZER",1,1,{"$f":"IFERROR($E234*SUMIF('Daily Log'!$B$18:$B$1017,$B234,'Daily Log'!$C$18:$C$1017),0)","v":0},{"$f":"IFERROR($E234*SUMIF('Daily Log'!$E$18:$E$1017,$B234,'Daily Log'!$F$18:$F$1017),0)","v":0},{"$f":"IFERROR($E234*SUMIF('Daily Log'!$H$18:$H$1017,$B234,'Daily Log'!$I$18:$I$1017),0)","v":0},{"$f":"IFERROR($E234*SUMIF('Daily Log'!$K$18:$K$1017,$B234,'Daily Log'!$L$18:$L$1017),0)","v":0},{"$f":"IFERROR($E234*SUMIF('Daily Log'!$N$18:$N$1017,$B234,'Daily Log'!$O$18:$O$1017),0)","v":0},{"$f":"IFERROR($E234*SUMIF('Daily Log'!$Q$18:$Q$1017,$B234,'Daily Log'!$R$18:$R$1017),0)","v":0},{"$f":"IFERROR($E234*SUMIF('Daily Log'!$T$18:$T$1017,$B234,'Daily Log'!$U$18:$U$1017),0)","v":0},{"$f":"IFERROR($E234*SUMIF('Daily Log'!$W$18:$W$1017,$B234,'Daily Log'!$X$18:$X$1017),0)","v":0},{"$f":"IFERROR($E234*SUMIF('Daily Log'!$Z$18:$Z$1017,$B234,'Daily Log'!$AA$18:$AA$1017),0)","v":0},{"$f":"IFERROR($E234*SUMIF('Daily Log'!$AC$18:$AC$1017,$B234,'Daily Log'!$AD$18:$AD$1017),0)","v":0},{"$f":"IFERROR($E234*SUMIF('Daily Log'!$AF$18:$AF$1017,$B234,'Daily Log'!$AG$18:$AG$1017),0)","v":1},{"$f":"IFERROR($E234*SUMIF('Daily Log'!$AI$18:$AI$1017,$B234,'Daily Log'!$AJ$18:$AJ$1017),0)","v":0},{"$f":"IFERROR($E234*SUMIF('Daily Log'!#REF!,$B234,'Daily Log'!#REF!),0)","v":0},{"$f":"IFERROR($E234*SUMIF('Daily Log'!#REF!,$B234,'Daily Log'!#REF!),0)","v":0},{"$f":"IFERROR($E234*SUMIF('Daily Log'!#REF!,$B234,'Daily Log'!#REF!),0)","v":0},{"$f":"IFERROR($E234*SUMIF('Daily Log'!#REF!,$B234,'Daily Log'!#REF!),0)","v":0},{"$f":"IFERROR($E234*SUMIF('Daily Log'!#REF!,$B234,'Daily Log'!#REF!),0)","v":0},{"$f":"IFERROR($E234*SUMIF('Daily Log'!#REF!,$B234,'Daily Log'!#REF!),0)","v":0},{"$f":"IFERROR($E234*SUMIF('Daily Log'!#REF!,$B234,'Daily Log'!#REF!),0)","v":0},{"$f":"IFERROR($E234*SUMIF('Daily Log'!#REF!,$B234,'Daily Log'!#REF!),0)","v":0},{"$f":"IFERROR($E234*SUMIF('Daily Log'!#REF!,$B234,'Daily Log'!#REF!),0)","v":0},{"$f":"IFERROR($E234*SUMIF('Daily Log'!#REF!,$B234,'Daily Log'!#REF!),0)","v":0},{"$f":"IFERROR($E234*SUMIF('Daily Log'!#REF!,$B234,'Daily Log'!#REF!),0)","v":0},{"$f":"IFERROR($E234*SUMIF('Daily Log'!#REF!,$B234,'Daily Log'!#REF!),0)","v":0},{"$f":"IFERROR($E234*SUMIF('Daily Log'!#REF!,$B234,'Daily Log'!#REF!),0)","v":0},{"$f":"IFERROR($E234*SUMIF('Daily Log'!#REF!,$B234,'Daily Log'!#REF!),0)","v":0},{"$f":"IFERROR($E234*SUMIF('Daily Log'!#REF!,$B234,'Daily Log'!#REF!),0)","v":0},{"$f":"IFERROR($E234*SUMIF('Daily Log'!#REF!,$B234,'Daily Log'!#REF!),0)","v":0},{"$f":"IFERROR($E234*SUMIF('Daily Log'!#REF!,$B234,'Daily Log'!#REF!),0)","v":0},{"$f":"IFERROR($E234*SUMIF('Daily Log'!#REF!,$B234,'Daily Log'!#REF!),0)","v":0},{"$f":"IFERROR($E234*SUMIF('Daily Log'!#REF!,$B234,'Daily Log'!#REF!),0)","v":0}]
[null,"DI19 91310:McSPIRAL.F",null,"KLKD-APPETIZER",1,1,{"$f":"IFERROR($E235*SUMIF('Daily Log'!$B$18:$B$1017,$B235,'Daily Log'!$C$18:$C$1017),0)","v":0},{"$f":"IFERROR($E235*SUMIF('Daily Log'!$E$18:$E$1017,$B235,'Daily Log'!$F$18:$F$1017),0)","v":0},{"$f":"IFERROR($E235*SUMIF('Daily Log'!$H$18:$H$1017,$B235,'Daily Log'!$I$18:$I$1017),0)","v":0},{"$f":"IFERROR($E235*SUMIF('Daily Log'!$K$18:$K$1017,$B235,'Daily Log'!$L$18:$L$1017),0)","v":0},{"$f":"IFERROR($E235*SUMIF('Daily Log'!$N$18:$N$1017,$B235,'Daily Log'!$O$18:$O$1017),0)","v":0},{"$f":"IFERROR($E235*SUMIF('Daily Log'!$Q$18:$Q$1017,$B235,'Daily Log'!$R$18:$R$1017),0)","v":0},{"$f":"IFERROR($E235*SUMIF('Daily Log'!$T$18:$T$1017,$B235,'Daily Log'!$U$18:$U$1017),0)","v":0},{"$f":"IFERROR($E235*SUMIF('Daily Log'!$W$18:$W$1017,$B235,'Daily Log'!$X$18:$X$1017),0)","v":0},{"$f":"IFERROR($E235*SUMIF('Daily Log'!$Z$18:$Z$1017,$B235,'Daily Log'!$AA$18:$AA$1017),0)","v":0},{"$f":"IFERROR($E235*SUMIF('Daily Log'!$AC$18:$AC$1017,$B235,'Daily Log'!$AD$18:$AD$1017),0)","v":0},{"$f":"IFERROR($E235*SUMIF('Daily Log'!$AF$18:$AF$1017,$B235,'Daily Log'!$AG$18:$AG$1017),0)","v":0},{"$f":"IFERROR($E235*SUMIF('Daily Log'!$AI$18:$AI$1017,$B235,'Daily Log'!$AJ$18:$AJ$1017),0)","v":1},{"$f":"IFERROR($E235*SUMIF('Daily Log'!#REF!,$B235,'Daily Log'!#REF!),0)","v":0},{"$f":"IFERROR($E235*SUMIF('Daily Log'!#REF!,$B235,'Daily Log'!#REF!),0)","v":0},{"$f":"IFERROR($E235*SUMIF('Daily Log'!#REF!,$B235,'Daily Log'!#REF!),0)","v":0},{"$f":"IFERROR($E235*SUMIF('Daily Log'!#REF!,$B235,'Daily Log'!#REF!),0)","v":0},{"$f":"IFERROR($E235*SUMIF('Daily Log'!#REF!,$B235,'Daily Log'!#REF!),0)","v":0},{"$f":"IFERROR($E235*SUMIF('Daily Log'!#REF!,$B235,'Daily Log'!#REF!),0)","v":0},{"$f":"IFERROR($E235*SUMIF('Daily Log'!#REF!,$B235,'Daily Log'!#REF!),0)","v":0},{"$f":"IFERROR($E235*SUMIF('Daily Log'!#REF!,$B235,'Daily Log'!#REF!),0)","v":0},{"$f":"IFERROR($E235*SUMIF('Daily Log'!#REF!,$B235,'Daily Log'!#REF!),0)","v":0},{"$f":"IFERROR($E235*SUMIF('Daily Log'!#REF!,$B235,'Daily Log'!#REF!),0)","v":0},{"$f":"IFERROR($E235*SUMIF('Daily Log'!#REF!,$B235,'Daily Log'!#REF!),0)","v":0},{"$f":"IFERROR($E235*SUMIF('Daily Log'!#REF!,$B235,'Daily Log'!#REF!),0)","v":0},{"$f":"IFERROR($E235*SUMIF('Daily Log'!#REF!,$B235,'Daily Log'!#REF!),0)","v":0},{"$f":"IFERROR($E235*SUMIF('Daily Log'!#REF!,$B235,'Daily Log'!#REF!),0)","v":0},{"$f":"IFERROR($E235*SUMIF('Daily Log'!#REF!,$B235,'Daily Log'!#REF!),0)","v":0},{"$f":"IFERROR($E235*SUMIF('Daily Log'!#REF!,$B235,'Daily Log'!#REF!),0)","v":0},{"$f":"IFERROR($E235*SUMIF('Daily Log'!#REF!,$B235,'Daily Log'!#REF!),0)","v":0},{"$f":"IFERROR($E235*SUMIF('Daily Log'!#REF!,$B235,'Daily Log'!#REF!),0)","v":0},{"$f":"IFERROR($E235*SUMIF('Daily Log'!#REF!,$B235,'Daily Log'!#REF!),0)","v":0}]
[null,"DI20 91311Mc H/SMILES",null,"KLKD-APPETIZER",1,0,{"$f":"IFERROR($E236*SUMIF('Daily Log'!$B$18:$B$1017,$B236,'Daily Log'!$C$18:$C$1017),0)","v":0},{"$f":"IFERROR($E236*SUMIF('Daily Log'!$E$18:$E$1017,$B236,'Daily Log'!$F$18:$F$1017),0)","v":0},{"$f":"IFERROR($E236*SUMIF('Daily Log'!$H$18:$H$1017,$B236,'Daily Log'!$I$18:$I$1017),0)","v":0},{"$f":"IFERROR($E236*SUMIF('Daily Log'!$K$18:$K$1017,$B236,'Daily Log'!$L$18:$L$1017),0)","v":0},{"$f":"IFERROR($E236*SUMIF('Daily Log'!$N$18:$N$1017,$B236,'Daily Log'!$O$18:$O$1017),0)","v":0},{"$f":"IFERROR($E236*SUMIF('Daily Log'!$Q$18:$Q$1017,$B236,'Daily Log'!$R$18:$R$1017),0)","v":0},{"$f":"IFERROR($E236*SUMIF('Daily Log'!$T$18:$T$1017,$B236,'Daily Log'!$U$18:$U$1017),0)","v":0},{"$f":"IFERROR($E236*SUMIF('Daily Log'!$W$18:$W$1017,$B236,'Daily Log'!$X$18:$X$1017),0)","v":0},{"$f":"IFERROR($E236*SUMIF('Daily Log'!$Z$18:$Z$1017,$B236,'Daily Log'!$AA$18:$AA$1017),0)","v":0},{"$f":"IFERROR($E236*SUMIF('Daily Log'!$AC$18:$AC$1017,$B236,'Daily Log'!$AD$18:$AD$1017),0)","v":0},{"$f":"IFERROR($E236*SUMIF('Daily Log'!$AF$18:$AF$1017,$B236,'Daily Log'!$AG$18:$AG$1017),0)","v":0},{"$f":"IFERROR($E236*SUMIF('Daily Log'!$AI$18:$AI$1017,$B236,'Daily Log'!$AJ$18:$AJ$1017),0)","v":0},{"$f":"IFERROR($E236*SUMIF('Daily Log'!#REF!,$B236,'Daily Log'!#REF!),0)","v":0},{"$f":"IFERROR($E236*SUMIF('Daily Log'!#REF!,$B236,'Daily Log'!#REF!),0)","v":0},{"$f":"IFERROR($E236*SUMIF('Daily Log'!#REF!,$B236,'Daily Log'!#REF!),0)","v":0},{"$f":"IFERROR($E236*SUMIF('Daily Log'!#REF!,$B236,'Daily Log'!#REF!),0)","v":0},{"$f":"IFERROR($E236*SUMIF('Daily Log'!#REF!,$B236,'Daily Log'!#REF!),0)","v":0},{"$f":"IFERROR($E236*SUMIF('Daily Log'!#REF!,$B236,'Daily Log'!#REF!),0)","v":0},{"$f":"IFERROR($E236*SUMIF('Daily Log'!#REF!,$B236,'Daily Log'!#REF!),0)","v":0},{"$f":"IFERROR($E236*SUMIF('Daily Log'!#REF!,$B236,'Daily Log'!#REF!),0)","v":0},{"$f":"IFERROR($E236*SUMIF('Daily Log'!#REF!,$B236,'Daily Log'!#REF!),0)","v":0},{"$f":"IFERROR($E236*SUMIF('Daily Log'!#REF!,$B236,'Daily Log'!#REF!),0)","v":0},{"$f":"IFERROR($E236*SUMIF('Daily Log'!#REF!,$B236,'Daily Log'!#REF!),0)","v":0},{"$f":"IFERROR($E236*SUMIF('Daily Log'!#REF!,$B236,'Daily Log'!#REF!),0)","v":0},{"$f":"IFERROR($E236*SUMIF('Daily Log'!#REF!,$B236,'Daily Log'!#REF!),0)","v":0},{"$f":"IFERROR($E236*SUMIF('Daily Log'!#REF!,$B236,'Daily Log'!#REF!),0)","v":0},{"$f":"IFERROR($E236*SUMIF('Daily Log'!#REF!,$B236,'Daily Log'!#REF!),0)","v":0},{"$f":"IFERROR($E236*SUMIF('Daily Log'!#REF!,$B236,'Daily Log'!#REF!),0)","v":0},{"$f":"IFERROR($E236*SUMIF('Daily Log'!#REF!,$B236,'Daily Log'!#REF!),0)","v":0},{"$f":"IFERROR($E236*SUMIF('Daily Log'!#REF!,$B236,'Daily Log'!#REF!),0)","v":0},{"$f":"IFERROR($E236*SUMIF('Daily Log'!#REF!,$B236,'Daily Log'!#REF!),0)","v":0}]
[null,"DI21 91312:Mc HASH.B",null,"KLKD-APPETIZER",1,1,{"$f":"IFERROR($E237*SUMIF('Daily Log'!$B$18:$B$1017,$B237,'Daily Log'!$C$18:$C$1017),0)","v":0},{"$f":"IFERROR($E237*SUMIF('Daily Log'!$E$18:$E$1017,$B237,'Daily Log'!$F$18:$F$1017),0)","v":0},{"$f":"IFERROR($E237*SUMIF('Daily Log'!$H$18:$H$1017,$B237,'Daily Log'!$I$18:$I$1017),0)","v":0},{"$f":"IFERROR($E237*SUMIF('Daily Log'!$K$18:$K$1017,$B237,'Daily Log'!$L$18:$L$1017),0)","v":0},{"$f":"IFERROR($E237*SUMIF('Daily Log'!$N$18:$N$1017,$B237,'Daily Log'!$O$18:$O$1017),0)","v":0},{"$f":"IFERROR($E237*SUMIF('Daily Log'!$Q$18:$Q$1017,$B237,'Daily Log'!$R$18:$R$1017),0)","v":0},{"$f":"IFERROR($E237*SUMIF('Daily Log'!$T$18:$T$1017,$B237,'Daily Log'!$U$18:$U$1017),0)","v":1},{"$f":"IFERROR($E237*SUMIF('Daily Log'!$W$18:$W$1017,$B237,'Daily Log'!$X$18:$X$1017),0)","v":0},{"$f":"IFERROR($E237*SUMIF('Daily Log'!$Z$18:$Z$1017,$B237,'Daily Log'!$AA$18:$AA$1017),0)","v":0},{"$f":"IFERROR($E237*SUMIF('Daily Log'!$AC$18:$AC$1017,$B237,'Daily Log'!$AD$18:$AD$1017),0)","v":0},{"$f":"IFERROR($E237*SUMIF('Daily Log'!$AF$18:$AF$1017,$B237,'Daily Log'!$AG$18:$AG$1017),0)","v":0},{"$f":"IFERROR($E237*SUMIF('Daily Log'!$AI$18:$AI$1017,$B237,'Daily Log'!$AJ$18:$AJ$1017),0)","v":0},{"$f":"IFERROR($E237*SUMIF('Daily Log'!#REF!,$B237,'Daily Log'!#REF!),0)","v":0},{"$f":"IFERROR($E237*SUMIF('Daily Log'!#REF!,$B237,'Daily Log'!#REF!),0)","v":0},{"$f":"IFERROR($E237*SUMIF('Daily Log'!#REF!,$B237,'Daily Log'!#REF!),0)","v":0},{"$f":"IFERROR($E237*SUMIF('Daily Log'!#REF!,$B237,'Daily Log'!#REF!),0)","v":0},{"$f":"IFERROR($E237*SUMIF('Daily Log'!#REF!,$B237,'Daily Log'!#REF!),0)","v":0},{"$f":"IFERROR($E237*SUMIF('Daily Log'!#REF!,$B237,'Daily Log'!#REF!),0)","v":0},{"$f":"IFERROR($E237*SUMIF('Daily Log'!#REF!,$B237,'Daily Log'!#REF!),0)","v":0},{"$f":"IFERROR($E237*SUMIF('Daily Log'!#REF!,$B237,'Daily Log'!#REF!),0)","v":0},{"$f":"IFERROR($E237*SUMIF('Daily Log'!#REF!,$B237,'Daily Log'!#REF!),0)","v":0},{"$f":"IFERROR($E237*SUMIF('Daily Log'!#REF!,$B237,'Daily Log'!#REF!),0)","v":0},{"$f":"IFERROR($E237*SUMIF('Daily Log'!#REF!,$B237,'Daily Log'!#REF!),0)","v":0},{"$f":"IFERROR($E237*SUMIF('Daily Log'!#REF!,$B237,'Daily Log'!#REF!),0)","v":0},{"$f":"IFERROR($E237*SUMIF('Daily Log'!#REF!,$B237,'Daily Log'!#REF!),0)","v":0},{"$f":"IFERROR($E237*SUMIF('Daily Log'!#REF!,$B237,'Daily Log'!#REF!),0)","v":0},{"$f":"IFERROR($E237*SUMIF('Daily Log'!#REF!,$B237,'Daily Log'!#REF!),0)","v":0},{"$f":"IFERROR($E237*SUMIF('Daily Log'!#REF!,$B237,'Daily Log'!#REF!),0)","v":0},{"$f":"IFERROR($E237*SUMIF('Daily Log'!#REF!,$B237,'Daily Log'!#REF!),0)","v":0},{"$f":"IFERROR($E237*SUMIF('Daily Log'!#REF!,$B237,'Daily Log'!#REF!),0)","v":0},{"$f":"IFERROR($E237*SUMIF('Daily Log'!#REF!,$B237,'Daily Log'!#REF!),0)","v":0}]
[null,"DL01 3001:6'HAWAIIAN",null,"SIDE ORDER -APPETIZER (PIZZA)",1,0,{"$f":"IFERROR($E238*SUMIF('Daily Log'!$B$18:$B$1017,$B238,'Daily Log'!$C$18:$C$1017),0)","v":0},{"$f":"IFERROR($E238*SUMIF('Daily Log'!$E$18:$E$1017,$B238,'Daily Log'!$F$18:$F$1017),0)","v":0},{"$f":"IFERROR($E238*SUMIF('Daily Log'!$H$18:$H$1017,$B238,'Daily Log'!$I$18:$I$1017),0)","v":0},{"$f":"IFERROR($E238*SUMIF('Daily Log'!$K$18:$K$1017,$B238,'Daily Log'!$L$18:$L$1017),0)","v":0},{"$f":"IFERROR($E238*SUMIF('Daily Log'!$N$18:$N$1017,$B238,'Daily Log'!$O$18:$O$1017),0)","v":0},{"$f":"IFERROR($E238*SUMIF('Daily Log'!$Q$18:$Q$1017,$B238,'Daily Log'!$R$18:$R$1017),0)","v":0},{"$f":"IFERROR($E238*SUMIF('Daily Log'!$T$18:$T$1017,$B238,'Daily Log'!$U$18:$U$1017),0)","v":0},{"$f":"IFERROR($E238*SUMIF('Daily Log'!$W$18:$W$1017,$B238,'Daily Log'!$X$18:$X$1017),0)","v":0},{"$f":"IFERROR($E238*SUMIF('Daily Log'!$Z$18:$Z$1017,$B238,'Daily Log'!$AA$18:$AA$1017),0)","v":0},{"$f":"IFERROR($E238*SUMIF('Daily Log'!$AC$18:$AC$1017,$B238,'Daily Log'!$AD$18:$AD$1017),0)","v":0},{"$f":"IFERROR($E238*SUMIF('Daily Log'!$AF$18:$AF$1017,$B238,'Daily Log'!$AG$18:$AG$1017),0)","v":0},{"$f":"IFERROR($E238*SUMIF('Daily Log'!$AI$18:$AI$1017,$B238,'Daily Log'!$AJ$18:$AJ$1017),0)","v":0},{"$f":"IFERROR($E238*SUMIF('Daily Log'!#REF!,$B238,'Daily Log'!#REF!),0)","v":0},{"$f":"IFERROR($E238*SUMIF('Daily Log'!#REF!,$B238,'Daily Log'!#REF!),0)","v":0},{"$f":"IFERROR($E238*SUMIF('Daily Log'!#REF!,$B238,'Daily Log'!#REF!),0)","v":0},{"$f":"IFERROR($E238*SUMIF('Daily Log'!#REF!,$B238,'Daily Log'!#REF!),0)","v":0},{"$f":"IFERROR($E238*SUMIF('Daily Log'!#REF!,$B238,'Daily Log'!#REF!),0)","v":0},{"$f":"IFERROR($E238*SUMIF('Daily Log'!#REF!,$B238,'Daily Log'!#REF!),0)","v":0},{"$f":"IFERROR($E238*SUMIF('Daily Log'!#REF!,$B238,'Daily Log'!#REF!),0)","v":0},{"$f":"IFERROR($E238*SUMIF('Daily Log'!#REF!,$B238,'Daily Log'!#REF!),0)","v":0},{"$f":"IFERROR($E238*SUMIF('Daily Log'!#REF!,$B238,'Daily Log'!#REF!),0)","v":0},{"$f":"IFERROR($E238*SUMIF('Daily Log'!#REF!,$B238,'Daily Log'!#REF!),0)","v":0},{"$f":"IFERROR($E238*SUMIF('Daily Log'!#REF!,$B238,'Daily Log'!#REF!),0)","v":0},{"$f":"IFERROR($E238*SUMIF('Daily Log'!#REF!,$B238,'Daily Log'!#REF!),0)","v":0},{"$f":"IFERROR($E238*SUMIF('Daily Log'!#REF!,$B238,'Daily Log'!#REF!),0)","v":0},{"$f":"IFERROR($E238*SUMIF('Daily Log'!#REF!,$B238,'Daily Log'!#REF!),0)","v":0},{"$f":"IFERROR($E238*SUMIF('Daily Log'!#REF!,$B238,'Daily Log'!#REF!),0)","v":0},{"$f":"IFERROR($E238*SUMIF('Daily Log'!#REF!,$B238,'Daily Log'!#REF!),0)","v":0},{"$f":"IFERROR($E238*SUMIF('Daily Log'!#REF!,$B238,'Daily Log'!#REF!),0)","v":0},{"$f":"IFERROR($E238*SUMIF('Daily Log'!#REF!,$B238,'Daily Log'!#REF!),0)","v":0},{"$f":"IFERROR($E238*SUMIF('Daily Log'!#REF!,$B238,'Daily Log'!#REF!),0)","v":0}]
[null,"DL02 3002:6'SMOKE BBQ",null,"SIDE ORDER -APPETIZER (PIZZA)",1,0,{"$f":"IFERROR($E239*SUMIF('Daily Log'!$B$18:$B$1017,$B239,'Daily Log'!$C$18:$C$1017),0)","v":0},{"$f":"IFERROR($E239*SUMIF('Daily Log'!$E$18:$E$1017,$B239,'Daily Log'!$F$18:$F$1017),0)","v":0},{"$f":"IFERROR($E239*SUMIF('Daily Log'!$H$18:$H$1017,$B239,'Daily Log'!$I$18:$I$1017),0)","v":0},{"$f":"IFERROR($E239*SUMIF('Daily Log'!$K$18:$K$1017,$B239,'Daily Log'!$L$18:$L$1017),0)","v":0},{"$f":"IFERROR($E239*SUMIF('Daily Log'!$N$18:$N$1017,$B239,'Daily Log'!$O$18:$O$1017),0)","v":0},{"$f":"IFERROR($E239*SUMIF('Daily Log'!$Q$18:$Q$1017,$B239,'Daily Log'!$R$18:$R$1017),0)","v":0},{"$f":"IFERROR($E239*SUMIF('Daily Log'!$T$18:$T$1017,$B239,'Daily Log'!$U$18:$U$1017),0)","v":0},{"$f":"IFERROR($E239*SUMIF('Daily Log'!$W$18:$W$1017,$B239,'Daily Log'!$X$18:$X$1017),0)","v":0},{"$f":"IFERROR($E239*SUMIF('Daily Log'!$Z$18:$Z$1017,$B239,'Daily Log'!$AA$18:$AA$1017),0)","v":0},{"$f":"IFERROR($E239*SUMIF('Daily Log'!$AC$18:$AC$1017,$B239,'Daily Log'!$AD$18:$AD$1017),0)","v":0},{"$f":"IFERROR($E239*SUMIF('Daily Log'!$AF$18:$AF$1017,$B239,'Daily Log'!$AG$18:$AG$1017),0)","v":0},{"$f":"IFERROR($E239*SUMIF('Daily Log'!$AI$18:$AI$1017,$B239,'Daily Log'!$AJ$18:$AJ$1017),0)","v":0},{"$f":"IFERROR($E239*SUMIF('Daily Log'!#REF!,$B239,'Daily Log'!#REF!),0)","v":0},{"$f":"IFERROR($E239*SUMIF('Daily Log'!#REF!,$B239,'Daily Log'!#REF!),0)","v":0},{"$f":"IFERROR($E239*SUMIF('Daily Log'!#REF!,$B239,'Daily Log'!#REF!),0)","v":0},{"$f":"IFERROR($E239*SUMIF('Daily Log'!#REF!,$B239,'Daily Log'!#REF!),0)","v":0},{"$f":"IFERROR($E239*SUMIF('Daily Log'!#REF!,$B239,'Daily Log'!#REF!),0)","v":0},{"$f":"IFERROR($E239*SUMIF('Daily Log'!#REF!,$B239,'Daily Log'!#REF!),0)","v":0},{"$f":"IFERROR($E239*SUMIF('Daily Log'!#REF!,$B239,'Daily Log'!#REF!),0)","v":0},{"$f":"IFERROR($E239*SUMIF('Daily Log'!#REF!,$B239,'Daily Log'!#REF!),0)","v":0},{"$f":"IFERROR($E239*SUMIF('Daily Log'!#REF!,$B239,'Daily Log'!#REF!),0)","v":0},{"$f":"IFERROR($E239*SUMIF('Daily Log'!#REF!,$B239,'Daily Log'!#REF!),0)","v":0},{"$f":"IFERROR($E239*SUMIF('Daily Log'!#REF!,$B239,'Daily Log'!#REF!),0)","v":0},{"$f":"IFERROR($E239*SUMIF('Daily Log'!#REF!,$B239,'Daily Log'!#REF!),0)","v":0},{"$f":"IFERROR($E239*SUMIF('Daily Log'!#REF!,$B239,'Daily Log'!#REF!),0)","v":0},{"$f":"IFERROR($E239*SUMIF('Daily Log'!#REF!,$B239,'Daily Log'!#REF!),0)","v":0},{"$f":"IFERROR($E239*SUMIF('Daily Log'!#REF!,$B239,'Daily Log'!#REF!),0)","v":0},{"$f":"IFERROR($E239*SUMIF('Daily Log'!#REF!,$B239,'Daily Log'!#REF!),0)","v":0},{"$f":"IFERROR($E239*SUMIF('Daily Log'!#REF!,$B239,'Daily Log'!#REF!),0)","v":0},{"$f":"IFERROR($E239*SUMIF('Daily Log'!#REF!,$B239,'Daily Log'!#REF!),0)","v":0},{"$f":"IFERROR($E239*SUMIF('Daily Log'!#REF!,$B239,'Daily Log'!#REF!),0)","v":0}]
[null,"DL03 3003:6'SEAFOOD",null,"SIDE ORDER -APPETIZER (PIZZA)",1,0,{"$f":"IFERROR($E240*SUMIF('Daily Log'!$B$18:$B$1017,$B240,'Daily Log'!$C$18:$C$1017),0)","v":0},{"$f":"IFERROR($E240*SUMIF('Daily Log'!$E$18:$E$1017,$B240,'Daily Log'!$F$18:$F$1017),0)","v":0},{"$f":"IFERROR($E240*SUMIF('Daily Log'!$H$18:$H$1017,$B240,'Daily Log'!$I$18:$I$1017),0)","v":0},{"$f":"IFERROR($E240*SUMIF('Daily Log'!$K$18:$K$1017,$B240,'Daily Log'!$L$18:$L$1017),0)","v":0},{"$f":"IFERROR($E240*SUMIF('Daily Log'!$N$18:$N$1017,$B240,'Daily Log'!$O$18:$O$1017),0)","v":0},{"$f":"IFERROR($E240*SUMIF('Daily Log'!$Q$18:$Q$1017,$B240,'Daily Log'!$R$18:$R$1017),0)","v":0},{"$f":"IFERROR($E240*SUMIF('Daily Log'!$T$18:$T$1017,$B240,'Daily Log'!$U$18:$U$1017),0)","v":0},{"$f":"IFERROR($E240*SUMIF('Daily Log'!$W$18:$W$1017,$B240,'Daily Log'!$X$18:$X$1017),0)","v":0},{"$f":"IFERROR($E240*SUMIF('Daily Log'!$Z$18:$Z$1017,$B240,'Daily Log'!$AA$18:$AA$1017),0)","v":0},{"$f":"IFERROR($E240*SUMIF('Daily Log'!$AC$18:$AC$1017,$B240,'Daily Log'!$AD$18:$AD$1017),0)","v":0},{"$f":"IFERROR($E240*SUMIF('Daily Log'!$AF$18:$AF$1017,$B240,'Daily Log'!$AG$18:$AG$1017),0)","v":0},{"$f":"IFERROR($E240*SUMIF('Daily Log'!$AI$18:$AI$1017,$B240,'Daily Log'!$AJ$18:$AJ$1017),0)","v":0},{"$f":"IFERROR($E240*SUMIF('Daily Log'!#REF!,$B240,'Daily Log'!#REF!),0)","v":0},{"$f":"IFERROR($E240*SUMIF('Daily Log'!#REF!,$B240,'Daily Log'!#REF!),0)","v":0},{"$f":"IFERROR($E240*SUMIF('Daily Log'!#REF!,$B240,'Daily Log'!#REF!),0)","v":0},{"$f":"IFERROR($E240*SUMIF('Daily Log'!#REF!,$B240,'Daily Log'!#REF!),0)","v":0},{"$f":"IFERROR($E240*SUMIF('Daily Log'!#REF!,$B240,'Daily Log'!#REF!),0)","v":0},{"$f":"IFERROR($E240*SUMIF('Daily Log'!#REF!,$B240,'Daily Log'!#REF!),0)","v":0},{"$f":"IFERROR($E240*SUMIF('Daily Log'!#REF!,$B240,'Daily Log'!#REF!),0)","v":0},{"$f":"IFERROR($E240*SUMIF('Daily Log'!#REF!,$B240,'Daily Log'!#REF!),0)","v":0},{"$f":"IFERROR($E240*SUMIF('Daily Log'!#REF!,$B240,'Daily Log'!#REF!),0)","v":0},{"$f":"IFERROR($E240*SUMIF('Daily Log'!#REF!,$B240,'Daily Log'!#REF!),0)","v":0},{"$f":"IFERROR($E240*SUMIF('Daily Log'!#REF!,$B240,'Daily Log'!#REF!),0)","v":0},{"$f":"IFERROR($E240*SUMIF('Daily Log'!#REF!,$B240,'Daily Log'!#REF!),0)","v":0},{"$f":"IFERROR($E240*SUMIF('Daily Log'!#REF!,$B240,'Daily Log'!#REF!),0)","v":0},{"$f":"IFERROR($E240*SUMIF('Daily Log'!#REF!,$B240,'Daily Log'!#REF!),0)","v":0},{"$f":"IFERROR($E240*SUMIF('Daily Log'!#REF!,$B240,'Daily Log'!#REF!),0)","v":0},{"$f":"IFERROR($E240*SUMIF('Daily Log'!#REF!,$B240,'Daily Log'!#REF!),0)","v":0},{"$f":"IFERROR($E240*SUMIF('Daily Log'!#REF!,$B240,'Daily Log'!#REF!),0)","v":0},{"$f":"IFERROR($E240*SUMIF('Daily Log'!#REF!,$B240,'Daily Log'!#REF!),0)","v":0},{"$f":"IFERROR($E240*SUMIF('Daily Log'!#REF!,$B240,'Daily Log'!#REF!),0)","v":0}]
[null,"DL04 3004:6'SPICY BUF",null,"SIDE ORDER -APPETIZER (PIZZA)",1,0,{"$f":"IFERROR($E241*SUMIF('Daily Log'!$B$18:$B$1017,$B241,'Daily Log'!$C$18:$C$1017),0)","v":0},{"$f":"IFERROR($E241*SUMIF('Daily Log'!$E$18:$E$1017,$B241,'Daily Log'!$F$18:$F$1017),0)","v":0},{"$f":"IFERROR($E241*SUMIF('Daily Log'!$H$18:$H$1017,$B241,'Daily Log'!$I$18:$I$1017),0)","v":0},{"$f":"IFERROR($E241*SUMIF('Daily Log'!$K$18:$K$1017,$B241,'Daily Log'!$L$18:$L$1017),0)","v":0},{"$f":"IFERROR($E241*SUMIF('Daily Log'!$N$18:$N$1017,$B241,'Daily Log'!$O$18:$O$1017),0)","v":0},{"$f":"IFERROR($E241*SUMIF('Daily Log'!$Q$18:$Q$1017,$B241,'Daily Log'!$R$18:$R$1017),0)","v":0},{"$f":"IFERROR($E241*SUMIF('Daily Log'!$T$18:$T$1017,$B241,'Daily Log'!$U$18:$U$1017),0)","v":0},{"$f":"IFERROR($E241*SUMIF('Daily Log'!$W$18:$W$1017,$B241,'Daily Log'!$X$18:$X$1017),0)","v":0},{"$f":"IFERROR($E241*SUMIF('Daily Log'!$Z$18:$Z$1017,$B241,'Daily Log'!$AA$18:$AA$1017),0)","v":0},{"$f":"IFERROR($E241*SUMIF('Daily Log'!$AC$18:$AC$1017,$B241,'Daily Log'!$AD$18:$AD$1017),0)","v":0},{"$f":"IFERROR($E241*SUMIF('Daily Log'!$AF$18:$AF$1017,$B241,'Daily Log'!$AG$18:$AG$1017),0)","v":0},{"$f":"IFERROR($E241*SUMIF('Daily Log'!$AI$18:$AI$1017,$B241,'Daily Log'!$AJ$18:$AJ$1017),0)","v":0},{"$f":"IFERROR($E241*SUMIF('Daily Log'!#REF!,$B241,'Daily Log'!#REF!),0)","v":0},{"$f":"IFERROR($E241*SUMIF('Daily Log'!#REF!,$B241,'Daily Log'!#REF!),0)","v":0},{"$f":"IFERROR($E241*SUMIF('Daily Log'!#REF!,$B241,'Daily Log'!#REF!),0)","v":0},{"$f":"IFERROR($E241*SUMIF('Daily Log'!#REF!,$B241,'Daily Log'!#REF!),0)","v":0},{"$f":"IFERROR($E241*SUMIF('Daily Log'!#REF!,$B241,'Daily Log'!#REF!),0)","v":0},{"$f":"IFERROR($E241*SUMIF('Daily Log'!#REF!,$B241,'Daily Log'!#REF!),0)","v":0},{"$f":"IFERROR($E241*SUMIF('Daily Log'!#REF!,$B241,'Daily Log'!#REF!),0)","v":0},{"$f":"IFERROR($E241*SUMIF('Daily Log'!#REF!,$B241,'Daily Log'!#REF!),0)","v":0},{"$f":"IFERROR($E241*SUMIF('Daily Log'!#REF!,$B241,'Daily Log'!#REF!),0)","v":0},{"$f":"IFERROR($E241*SUMIF('Daily Log'!#REF!,$B241,'Daily Log'!#REF!),0)","v":0},{"$f":"IFERROR($E241*SUMIF('Daily Log'!#REF!,$B241,'Daily Log'!#REF!),0)","v":0},{"$f":"IFERROR($E241*SUMIF('Daily Log'!#REF!,$B241,'Daily Log'!#REF!),0)","v":0},{"$f":"IFERROR($E241*SUMIF('Daily Log'!#REF!,$B241,'Daily Log'!#REF!),0)","v":0},{"$f":"IFERROR($E241*SUMIF('Daily Log'!#REF!,$B241,'Daily Log'!#REF!),0)","v":0},{"$f":"IFERROR($E241*SUMIF('Daily Log'!#REF!,$B241,'Daily Log'!#REF!),0)","v":0},{"$f":"IFERROR($E241*SUMIF('Daily Log'!#REF!,$B241,'Daily Log'!#REF!),0)","v":0},{"$f":"IFERROR($E241*SUMIF('Daily Log'!#REF!,$B241,'Daily Log'!#REF!),0)","v":0},{"$f":"IFERROR($E241*SUMIF('Daily Log'!#REF!,$B241,'Daily Log'!#REF!),0)","v":0},{"$f":"IFERROR($E241*SUMIF('Daily Log'!#REF!,$B241,'Daily Log'!#REF!),0)","v":0}]
[null,"DL05 3005:6'VEGGIE",null,"SIDE ORDER -APPETIZER (PIZZA)",1,0,{"$f":"IFERROR($E242*SUMIF('Daily Log'!$B$18:$B$1017,$B242,'Daily Log'!$C$18:$C$1017),0)","v":0},{"$f":"IFERROR($E242*SUMIF('Daily Log'!$E$18:$E$1017,$B242,'Daily Log'!$F$18:$F$1017),0)","v":0},{"$f":"IFERROR($E242*SUMIF('Daily Log'!$H$18:$H$1017,$B242,'Daily Log'!$I$18:$I$1017),0)","v":0},{"$f":"IFERROR($E242*SUMIF('Daily Log'!$K$18:$K$1017,$B242,'Daily Log'!$L$18:$L$1017),0)","v":0},{"$f":"IFERROR($E242*SUMIF('Daily Log'!$N$18:$N$1017,$B242,'Daily Log'!$O$18:$O$1017),0)","v":0},{"$f":"IFERROR($E242*SUMIF('Daily Log'!$Q$18:$Q$1017,$B242,'Daily Log'!$R$18:$R$1017),0)","v":0},{"$f":"IFERROR($E242*SUMIF('Daily Log'!$T$18:$T$1017,$B242,'Daily Log'!$U$18:$U$1017),0)","v":0},{"$f":"IFERROR($E242*SUMIF('Daily Log'!$W$18:$W$1017,$B242,'Daily Log'!$X$18:$X$1017),0)","v":0},{"$f":"IFERROR($E242*SUMIF('Daily Log'!$Z$18:$Z$1017,$B242,'Daily Log'!$AA$18:$AA$1017),0)","v":0},{"$f":"IFERROR($E242*SUMIF('Daily Log'!$AC$18:$AC$1017,$B242,'Daily Log'!$AD$18:$AD$1017),0)","v":0},{"$f":"IFERROR($E242*SUMIF('Daily Log'!$AF$18:$AF$1017,$B242,'Daily Log'!$AG$18:$AG$1017),0)","v":0},{"$f":"IFERROR($E242*SUMIF('Daily Log'!$AI$18:$AI$1017,$B242,'Daily Log'!$AJ$18:$AJ$1017),0)","v":0},{"$f":"IFERROR($E242*SUMIF('Daily Log'!#REF!,$B242,'Daily Log'!#REF!),0)","v":0},{"$f":"IFERROR($E242*SUMIF('Daily Log'!#REF!,$B242,'Daily Log'!#REF!),0)","v":0},{"$f":"IFERROR($E242*SUMIF('Daily Log'!#REF!,$B242,'Daily Log'!#REF!),0)","v":0},{"$f":"IFERROR($E242*SUMIF('Daily Log'!#REF!,$B242,'Daily Log'!#REF!),0)","v":0},{"$f":"IFERROR($E242*SUMIF('Daily Log'!#REF!,$B242,'Daily Log'!#REF!),0)","v":0},{"$f":"IFERROR($E242*SUMIF('Daily Log'!#REF!,$B242,'Daily Log'!#REF!),0)","v":0},{"$f":"IFERROR($E242*SUMIF('Daily Log'!#REF!,$B242,'Daily Log'!#REF!),0)","v":0},{"$f":"IFERROR($E242*SUMIF('Daily Log'!#REF!,$B242,'Daily Log'!#REF!),0)","v":0},{"$f":"IFERROR($E242*SUMIF('Daily Log'!#REF!,$B242,'Daily Log'!#REF!),0)","v":0},{"$f":"IFERROR($E242*SUMIF('Daily Log'!#REF!,$B242,'Daily Log'!#REF!),0)","v":0},{"$f":"IFERROR($E242*SUMIF('Daily Log'!#REF!,$B242,'Daily Log'!#REF!),0)","v":0},{"$f":"IFERROR($E242*SUMIF('Daily Log'!#REF!,$B242,'Daily Log'!#REF!),0)","v":0},{"$f":"IFERROR($E242*SUMIF('Daily Log'!#REF!,$B242,'Daily Log'!#REF!),0)","v":0},{"$f":"IFERROR($E242*SUMIF('Daily Log'!#REF!,$B242,'Daily Log'!#REF!),0)","v":0},{"$f":"IFERROR($E242*SUMIF('Daily Log'!#REF!,$B242,'Daily Log'!#REF!),0)","v":0},{"$f":"IFERROR($E242*SUMIF('Daily Log'!#REF!,$B242,'Daily Log'!#REF!),0)","v":0},{"$f":"IFERROR($E242*SUMIF('Daily Log'!#REF!,$B242,'Daily Log'!#REF!),0)","v":0},{"$f":"IFERROR($E242*SUMIF('Daily Log'!#REF!,$B242,'Daily Log'!#REF!),0)","v":0},{"$f":"IFERROR($E242*SUMIF('Daily Log'!#REF!,$B242,'Daily Log'!#REF!),0)","v":0}]
[null,"DL06 3001:9'HAWAIIAN",null,"SIDE ORDER -APPETIZER (PIZZA)",1,1,{"$f":"IFERROR($E243*SUMIF('Daily Log'!$B$18:$B$1017,$B243,'Daily Log'!$C$18:$C$1017),0)","v":0},{"$f":"IFERROR($E243*SUMIF('Daily Log'!$E$18:$E$1017,$B243,'Daily Log'!$F$18:$F$1017),0)","v":0},{"$f":"IFERROR($E243*SUMIF('Daily Log'!$H$18:$H$1017,$B243,'Daily Log'!$I$18:$I$1017),0)","v":0},{"$f":"IFERROR($E243*SUMIF('Daily Log'!$K$18:$K$1017,$B243,'Daily Log'!$L$18:$L$1017),0)","v":0},{"$f":"IFERROR($E243*SUMIF('Daily Log'!$N$18:$N$1017,$B243,'Daily Log'!$O$18:$O$1017),0)","v":0},{"$f":"IFERROR($E243*SUMIF('Daily Log'!$Q$18:$Q$1017,$B243,'Daily Log'!$R$18:$R$1017),0)","v":0},{"$f":"IFERROR($E243*SUMIF('Daily Log'!$T$18:$T$1017,$B243,'Daily Log'!$U$18:$U$1017),0)","v":0},{"$f":"IFERROR($E243*SUMIF('Daily Log'!$W$18:$W$1017,$B243,'Daily Log'!$X$18:$X$1017),0)","v":0},{"$f":"IFERROR($E243*SUMIF('Daily Log'!$Z$18:$Z$1017,$B243,'Daily Log'!$AA$18:$AA$1017),0)","v":0},{"$f":"IFERROR($E243*SUMIF('Daily Log'!$AC$18:$AC$1017,$B243,'Daily Log'!$AD$18:$AD$1017),0)","v":0},{"$f":"IFERROR($E243*SUMIF('Daily Log'!$AF$18:$AF$1017,$B243,'Daily Log'!$AG$18:$AG$1017),0)","v":0},{"$f":"IFERROR($E243*SUMIF('Daily Log'!$AI$18:$AI$1017,$B243,'Daily Log'!$AJ$18:$AJ$1017),0)","v":1},{"$f":"IFERROR($E243*SUMIF('Daily Log'!#REF!,$B243,'Daily Log'!#REF!),0)","v":0},{"$f":"IFERROR($E243*SUMIF('Daily Log'!#REF!,$B243,'Daily Log'!#REF!),0)","v":0},{"$f":"IFERROR($E243*SUMIF('Daily Log'!#REF!,$B243,'Daily Log'!#REF!),0)","v":0},{"$f":"IFERROR($E243*SUMIF('Daily Log'!#REF!,$B243,'Daily Log'!#REF!),0)","v":0},{"$f":"IFERROR($E243*SUMIF('Daily Log'!#REF!,$B243,'Daily Log'!#REF!),0)","v":0},{"$f":"IFERROR($E243*SUMIF('Daily Log'!#REF!,$B243,'Daily Log'!#REF!),0)","v":0},{"$f":"IFERROR($E243*SUMIF('Daily Log'!#REF!,$B243,'Daily Log'!#REF!),0)","v":0},{"$f":"IFERROR($E243*SUMIF('Daily Log'!#REF!,$B243,'Daily Log'!#REF!),0)","v":0},{"$f":"IFERROR($E243*SUMIF('Daily Log'!#REF!,$B243,'Daily Log'!#REF!),0)","v":0},{"$f":"IFERROR($E243*SUMIF('Daily Log'!#REF!,$B243,'Daily Log'!#REF!),0)","v":0},{"$f":"IFERROR($E243*SUMIF('Daily Log'!#REF!,$B243,'Daily Log'!#REF!),0)","v":0},{"$f":"IFERROR($E243*SUMIF('Daily Log'!#REF!,$B243,'Daily Log'!#REF!),0)","v":0},{"$f":"IFERROR($E243*SUMIF('Daily Log'!#REF!,$B243,'Daily Log'!#REF!),0)","v":0},{"$f":"IFERROR($E243*SUMIF('Daily Log'!#REF!,$B243,'Daily Log'!#REF!),0)","v":0},{"$f":"IFERROR($E243*SUMIF('Daily Log'!#REF!,$B243,'Daily Log'!#REF!),0)","v":0},{"$f":"IFERROR($E243*SUMIF('Daily Log'!#REF!,$B243,'Daily Log'!#REF!),0)","v":0},{"$f":"IFERROR($E243*SUMIF('Daily Log'!#REF!,$B243,'Daily Log'!#REF!),0)","v":0},{"$f":"IFERROR($E243*SUMIF('Daily Log'!#REF!,$B243,'Daily Log'!#REF!),0)","v":0},{"$f":"IFERROR($E243*SUMIF('Daily Log'!#REF!,$B243,'Daily Log'!#REF!),0)","v":0}]
[null,"DL07 3002:9'SMOKED",null,"SIDE ORDER -APPETIZER (PIZZA)",1,0,{"$f":"IFERROR($E244*SUMIF('Daily Log'!$B$18:$B$1017,$B244,'Daily Log'!$C$18:$C$1017),0)","v":0},{"$f":"IFERROR($E244*SUMIF('Daily Log'!$E$18:$E$1017,$B244,'Daily Log'!$F$18:$F$1017),0)","v":0},{"$f":"IFERROR($E244*SUMIF('Daily Log'!$H$18:$H$1017,$B244,'Daily Log'!$I$18:$I$1017),0)","v":0},{"$f":"IFERROR($E244*SUMIF('Daily Log'!$K$18:$K$1017,$B244,'Daily Log'!$L$18:$L$1017),0)","v":0},{"$f":"IFERROR($E244*SUMIF('Daily Log'!$N$18:$N$1017,$B244,'Daily Log'!$O$18:$O$1017),0)","v":0},{"$f":"IFERROR($E244*SUMIF('Daily Log'!$Q$18:$Q$1017,$B244,'Daily Log'!$R$18:$R$1017),0)","v":0},{"$f":"IFERROR($E244*SUMIF('Daily Log'!$T$18:$T$1017,$B244,'Daily Log'!$U$18:$U$1017),0)","v":0},{"$f":"IFERROR($E244*SUMIF('Daily Log'!$W$18:$W$1017,$B244,'Daily Log'!$X$18:$X$1017),0)","v":0},{"$f":"IFERROR($E244*SUMIF('Daily Log'!$Z$18:$Z$1017,$B244,'Daily Log'!$AA$18:$AA$1017),0)","v":0},{"$f":"IFERROR($E244*SUMIF('Daily Log'!$AC$18:$AC$1017,$B244,'Daily Log'!$AD$18:$AD$1017),0)","v":0},{"$f":"IFERROR($E244*SUMIF('Daily Log'!$AF$18:$AF$1017,$B244,'Daily Log'!$AG$18:$AG$1017),0)","v":0},{"$f":"IFERROR($E244*SUMIF('Daily Log'!$AI$18:$AI$1017,$B244,'Daily Log'!$AJ$18:$AJ$1017),0)","v":0},{"$f":"IFERROR($E244*SUMIF('Daily Log'!#REF!,$B244,'Daily Log'!#REF!),0)","v":0},{"$f":"IFERROR($E244*SUMIF('Daily Log'!#REF!,$B244,'Daily Log'!#REF!),0)","v":0},{"$f":"IFERROR($E244*SUMIF('Daily Log'!#REF!,$B244,'Daily Log'!#REF!),0)","v":0},{"$f":"IFERROR($E244*SUMIF('Daily Log'!#REF!,$B244,'Daily Log'!#REF!),0)","v":0},{"$f":"IFERROR($E244*SUMIF('Daily Log'!#REF!,$B244,'Daily Log'!#REF!),0)","v":0},{"$f":"IFERROR($E244*SUMIF('Daily Log'!#REF!,$B244,'Daily Log'!#REF!),0)","v":0},{"$f":"IFERROR($E244*SUMIF('Daily Log'!#REF!,$B244,'Daily Log'!#REF!),0)","v":0},{"$f":"IFERROR($E244*SUMIF('Daily Log'!#REF!,$B244,'Daily Log'!#REF!),0)","v":0},{"$f":"IFERROR($E244*SUMIF('Daily Log'!#REF!,$B244,'Daily Log'!#REF!),0)","v":0},{"$f":"IFERROR($E244*SUMIF('Daily Log'!#REF!,$B244,'Daily Log'!#REF!),0)","v":0},{"$f":"IFERROR($E244*SUMIF('Daily Log'!#REF!,$B244,'Daily Log'!#REF!),0)","v":0},{"$f":"IFERROR($E244*SUMIF('Daily Log'!#REF!,$B244,'Daily Log'!#REF!),0)","v":0},{"$f":"IFERROR($E244*SUMIF('Daily Log'!#REF!,$B244,'Daily Log'!#REF!),0)","v":0},{"$f":"IFERROR($E244*SUMIF('Daily Log'!#REF!,$B244,'Daily Log'!#REF!),0)","v":0},{"$f":"IFERROR($E244*SUMIF('Daily Log'!#REF!,$B244,'Daily Log'!#REF!),0)","v":0},{"$f":"IFERROR($E244*SUMIF('Daily Log'!#REF!,$B244,'Daily Log'!#REF!),0)","v":0},{"$f":"IFERROR($E244*SUMIF('Daily Log'!#REF!,$B244,'Daily Log'!#REF!),0)","v":0},{"$f":"IFERROR($E244*SUMIF('Daily Log'!#REF!,$B244,'Daily Log'!#REF!),0)","v":0},{"$f":"IFERROR($E244*SUMIF('Daily Log'!#REF!,$B244,'Daily Log'!#REF!),0)","v":0}]
[null,"DL08 3003:9'SEAFOOD",null,"SIDE ORDER -APPETIZER (PIZZA)",1,0,{"$f":"IFERROR($E245*SUMIF('Daily Log'!$B$18:$B$1017,$B245,'Daily Log'!$C$18:$C$1017),0)","v":0},{"$f":"IFERROR($E245*SUMIF('Daily Log'!$E$18:$E$1017,$B245,'Daily Log'!$F$18:$F$1017),0)","v":0},{"$f":"IFERROR($E245*SUMIF('Daily Log'!$H$18:$H$1017,$B245,'Daily Log'!$I$18:$I$1017),0)","v":0},{"$f":"IFERROR($E245*SUMIF('Daily Log'!$K$18:$K$1017,$B245,'Daily Log'!$L$18:$L$1017),0)","v":0},{"$f":"IFERROR($E245*SUMIF('Daily Log'!$N$18:$N$1017,$B245,'Daily Log'!$O$18:$O$1017),0)","v":0},{"$f":"IFERROR($E245*SUMIF('Daily Log'!$Q$18:$Q$1017,$B245,'Daily Log'!$R$18:$R$1017),0)","v":0},{"$f":"IFERROR($E245*SUMIF('Daily Log'!$T$18:$T$1017,$B245,'Daily Log'!$U$18:$U$1017),0)","v":0},{"$f":"IFERROR($E245*SUMIF('Daily Log'!$W$18:$W$1017,$B245,'Daily Log'!$X$18:$X$1017),0)","v":0},{"$f":"IFERROR($E245*SUMIF('Daily Log'!$Z$18:$Z$1017,$B245,'Daily Log'!$AA$18:$AA$1017),0)","v":0},{"$f":"IFERROR($E245*SUMIF('Daily Log'!$AC$18:$AC$1017,$B245,'Daily Log'!$AD$18:$AD$1017),0)","v":0},{"$f":"IFERROR($E245*SUMIF('Daily Log'!$AF$18:$AF$1017,$B245,'Daily Log'!$AG$18:$AG$1017),0)","v":0},{"$f":"IFERROR($E245*SUMIF('Daily Log'!$AI$18:$AI$1017,$B245,'Daily Log'!$AJ$18:$AJ$1017),0)","v":0},{"$f":"IFERROR($E245*SUMIF('Daily Log'!#REF!,$B245,'Daily Log'!#REF!),0)","v":0},{"$f":"IFERROR($E245*SUMIF('Daily Log'!#REF!,$B245,'Daily Log'!#REF!),0)","v":0},{"$f":"IFERROR($E245*SUMIF('Daily Log'!#REF!,$B245,'Daily Log'!#REF!),0)","v":0},{"$f":"IFERROR($E245*SUMIF('Daily Log'!#REF!,$B245,'Daily Log'!#REF!),0)","v":0},{"$f":"IFERROR($E245*SUMIF('Daily Log'!#REF!,$B245,'Daily Log'!#REF!),0)","v":0},{"$f":"IFERROR($E245*SUMIF('Daily Log'!#REF!,$B245,'Daily Log'!#REF!),0)","v":0},{"$f":"IFERROR($E245*SUMIF('Daily Log'!#REF!,$B245,'Daily Log'!#REF!),0)","v":0},{"$f":"IFERROR($E245*SUMIF('Daily Log'!#REF!,$B245,'Daily Log'!#REF!),0)","v":0},{"$f":"IFERROR($E245*SUMIF('Daily Log'!#REF!,$B245,'Daily Log'!#REF!),0)","v":0},{"$f":"IFERROR($E245*SUMIF('Daily Log'!#REF!,$B245,'Daily Log'!#REF!),0)","v":0},{"$f":"IFERROR($E245*SUMIF('Daily Log'!#REF!,$B245,'Daily Log'!#REF!),0)","v":0},{"$f":"IFERROR($E245*SUMIF('Daily Log'!#REF!,$B245,'Daily Log'!#REF!),0)","v":0},{"$f":"IFERROR($E245*SUMIF('Daily Log'!#REF!,$B245,'Daily Log'!#REF!),0)","v":0},{"$f":"IFERROR($E245*SUMIF('Daily Log'!#REF!,$B245,'Daily Log'!#REF!),0)","v":0},{"$f":"IFERROR($E245*SUMIF('Daily Log'!#REF!,$B245,'Daily Log'!#REF!),0)","v":0},{"$f":"IFERROR($E245*SUMIF('Daily Log'!#REF!,$B245,'Daily Log'!#REF!),0)","v":0},{"$f":"IFERROR($E245*SUMIF('Daily Log'!#REF!,$B245,'Daily Log'!#REF!),0)","v":0},{"$f":"IFERROR($E245*SUMIF('Daily Log'!#REF!,$B245,'Daily Log'!#REF!),0)","v":0},{"$f":"IFERROR($E245*SUMIF('Daily Log'!#REF!,$B245,'Daily Log'!#REF!),0)","v":0}]
[null,"DL09 3004:9'SPICY B",null,"SIDE ORDER -APPETIZER (PIZZA)",1,0,{"$f":"IFERROR($E246*SUMIF('Daily Log'!$B$18:$B$1017,$B246,'Daily Log'!$C$18:$C$1017),0)","v":0},{"$f":"IFERROR($E246*SUMIF('Daily Log'!$E$18:$E$1017,$B246,'Daily Log'!$F$18:$F$1017),0)","v":0},{"$f":"IFERROR($E246*SUMIF('Daily Log'!$H$18:$H$1017,$B246,'Daily Log'!$I$18:$I$1017),0)","v":0},{"$f":"IFERROR($E246*SUMIF('Daily Log'!$K$18:$K$1017,$B246,'Daily Log'!$L$18:$L$1017),0)","v":0},{"$f":"IFERROR($E246*SUMIF('Daily Log'!$N$18:$N$1017,$B246,'Daily Log'!$O$18:$O$1017),0)","v":0},{"$f":"IFERROR($E246*SUMIF('Daily Log'!$Q$18:$Q$1017,$B246,'Daily Log'!$R$18:$R$1017),0)","v":0},{"$f":"IFERROR($E246*SUMIF('Daily Log'!$T$18:$T$1017,$B246,'Daily Log'!$U$18:$U$1017),0)","v":0},{"$f":"IFERROR($E246*SUMIF('Daily Log'!$W$18:$W$1017,$B246,'Daily Log'!$X$18:$X$1017),0)","v":0},{"$f":"IFERROR($E246*SUMIF('Daily Log'!$Z$18:$Z$1017,$B246,'Daily Log'!$AA$18:$AA$1017),0)","v":0},{"$f":"IFERROR($E246*SUMIF('Daily Log'!$AC$18:$AC$1017,$B246,'Daily Log'!$AD$18:$AD$1017),0)","v":0},{"$f":"IFERROR($E246*SUMIF('Daily Log'!$AF$18:$AF$1017,$B246,'Daily Log'!$AG$18:$AG$1017),0)","v":0},{"$f":"IFERROR($E246*SUMIF('Daily Log'!$AI$18:$AI$1017,$B246,'Daily Log'!$AJ$18:$AJ$1017),0)","v":0},{"$f":"IFERROR($E246*SUMIF('Daily Log'!#REF!,$B246,'Daily Log'!#REF!),0)","v":0},{"$f":"IFERROR($E246*SUMIF('Daily Log'!#REF!,$B246,'Daily Log'!#REF!),0)","v":0},{"$f":"IFERROR($E246*SUMIF('Daily Log'!#REF!,$B246,'Daily Log'!#REF!),0)","v":0},{"$f":"IFERROR($E246*SUMIF('Daily Log'!#REF!,$B246,'Daily Log'!#REF!),0)","v":0},{"$f":"IFERROR($E246*SUMIF('Daily Log'!#REF!,$B246,'Daily Log'!#REF!),0)","v":0},{"$f":"IFERROR($E246*SUMIF('Daily Log'!#REF!,$B246,'Daily Log'!#REF!),0)","v":0},{"$f":"IFERROR($E246*SUMIF('Daily Log'!#REF!,$B246,'Daily Log'!#REF!),0)","v":0},{"$f":"IFERROR($E246*SUMIF('Daily Log'!#REF!,$B246,'Daily Log'!#REF!),0)","v":0},{"$f":"IFERROR($E246*SUMIF('Daily Log'!#REF!,$B246,'Daily Log'!#REF!),0)","v":0},{"$f":"IFERROR($E246*SUMIF('Daily Log'!#REF!,$B246,'Daily Log'!#REF!),0)","v":0},{"$f":"IFERROR($E246*SUMIF('Daily Log'!#REF!,$B246,'Daily Log'!#REF!),0)","v":0},{"$f":"IFERROR($E246*SUMIF('Daily Log'!#REF!,$B246,'Daily Log'!#REF!),0)","v":0},{"$f":"IFERROR($E246*SUMIF('Daily Log'!#REF!,$B246,'Daily Log'!#REF!),0)","v":0},{"$f":"IFERROR($E246*SUMIF('Daily Log'!#REF!,$B246,'Daily Log'!#REF!),0)","v":0},{"$f":"IFERROR($E246*SUMIF('Daily Log'!#REF!,$B246,'Daily Log'!#REF!),0)","v":0},{"$f":"IFERROR($E246*SUMIF('Daily Log'!#REF!,$B246,'Daily Log'!#REF!),0)","v":0},{"$f":"IFERROR($E246*SUMIF('Daily Log'!#REF!,$B246,'Daily Log'!#REF!),0)","v":0},{"$f":"IFERROR($E246*SUMIF('Daily Log'!#REF!,$B246,'Daily Log'!#REF!),0)","v":0},{"$f":"IFERROR($E246*SUMIF('Daily Log'!#REF!,$B246,'Daily Log'!#REF!),0)","v":0}]
[null,"DL10 3005:9'VEGGIE",null,"SIDE ORDER -APPETIZER (PIZZA)",1,0,{"$f":"IFERROR($E247*SUMIF('Daily Log'!$B$18:$B$1017,$B247,'Daily Log'!$C$18:$C$1017),0)","v":0},{"$f":"IFERROR($E247*SUMIF('Daily Log'!$E$18:$E$1017,$B247,'Daily Log'!$F$18:$F$1017),0)","v":0},{"$f":"IFERROR($E247*SUMIF('Daily Log'!$H$18:$H$1017,$B247,'Daily Log'!$I$18:$I$1017),0)","v":0},{"$f":"IFERROR($E247*SUMIF('Daily Log'!$K$18:$K$1017,$B247,'Daily Log'!$L$18:$L$1017),0)","v":0},{"$f":"IFERROR($E247*SUMIF('Daily Log'!$N$18:$N$1017,$B247,'Daily Log'!$O$18:$O$1017),0)","v":0},{"$f":"IFERROR($E247*SUMIF('Daily Log'!$Q$18:$Q$1017,$B247,'Daily Log'!$R$18:$R$1017),0)","v":0},{"$f":"IFERROR($E247*SUMIF('Daily Log'!$T$18:$T$1017,$B247,'Daily Log'!$U$18:$U$1017),0)","v":0},{"$f":"IFERROR($E247*SUMIF('Daily Log'!$W$18:$W$1017,$B247,'Daily Log'!$X$18:$X$1017),0)","v":0},{"$f":"IFERROR($E247*SUMIF('Daily Log'!$Z$18:$Z$1017,$B247,'Daily Log'!$AA$18:$AA$1017),0)","v":0},{"$f":"IFERROR($E247*SUMIF('Daily Log'!$AC$18:$AC$1017,$B247,'Daily Log'!$AD$18:$AD$1017),0)","v":0},{"$f":"IFERROR($E247*SUMIF('Daily Log'!$AF$18:$AF$1017,$B247,'Daily Log'!$AG$18:$AG$1017),0)","v":0},{"$f":"IFERROR($E247*SUMIF('Daily Log'!$AI$18:$AI$1017,$B247,'Daily Log'!$AJ$18:$AJ$1017),0)","v":0},{"$f":"IFERROR($E247*SUMIF('Daily Log'!#REF!,$B247,'Daily Log'!#REF!),0)","v":0},{"$f":"IFERROR($E247*SUMIF('Daily Log'!#REF!,$B247,'Daily Log'!#REF!),0)","v":0},{"$f":"IFERROR($E247*SUMIF('Daily Log'!#REF!,$B247,'Daily Log'!#REF!),0)","v":0},{"$f":"IFERROR($E247*SUMIF('Daily Log'!#REF!,$B247,'Daily Log'!#REF!),0)","v":0},{"$f":"IFERROR($E247*SUMIF('Daily Log'!#REF!,$B247,'Daily Log'!#REF!),0)","v":0},{"$f":"IFERROR($E247*SUMIF('Daily Log'!#REF!,$B247,'Daily Log'!#REF!),0)","v":0},{"$f":"IFERROR($E247*SUMIF('Daily Log'!#REF!,$B247,'Daily Log'!#REF!),0)","v":0},{"$f":"IFERROR($E247*SUMIF('Daily Log'!#REF!,$B247,'Daily Log'!#REF!),0)","v":0},{"$f":"IFERROR($E247*SUMIF('Daily Log'!#REF!,$B247,'Daily Log'!#REF!),0)","v":0},{"$f":"IFERROR($E247*SUMIF('Daily Log'!#REF!,$B247,'Daily Log'!#REF!),0)","v":0},{"$f":"IFERROR($E247*SUMIF('Daily Log'!#REF!,$B247,'Daily Log'!#REF!),0)","v":0},{"$f":"IFERROR($E247*SUMIF('Daily Log'!#REF!,$B247,'Daily Log'!#REF!),0)","v":0},{"$f":"IFERROR($E247*SUMIF('Daily Log'!#REF!,$B247,'Daily Log'!#REF!),0)","v":0},{"$f":"IFERROR($E247*SUMIF('Daily Log'!#REF!,$B247,'Daily Log'!#REF!),0)","v":0},{"$f":"IFERROR($E247*SUMIF('Daily Log'!#REF!,$B247,'Daily Log'!#REF!),0)","v":0},{"$f":"IFERROR($E247*SUMIF('Daily Log'!#REF!,$B247,'Daily Log'!#REF!),0)","v":0},{"$f":"IFERROR($E247*SUMIF('Daily Log'!#REF!,$B247,'Daily Log'!#REF!),0)","v":0},{"$f":"IFERROR($E247*SUMIF('Daily Log'!#REF!,$B247,'Daily Log'!#REF!),0)","v":0},{"$f":"IFERROR($E247*SUMIF('Daily Log'!#REF!,$B247,'Daily Log'!#REF!),0)","v":0}]
[null,"DM01 SNACK PLATTER(A)",null,"PLATTER",1,4,{"$f":"IFERROR($E248*SUMIF('Daily Log'!$B$18:$B$1017,$B248,'Daily Log'!$C$18:$C$1017),0)","v":0},{"$f":"IFERROR($E248*SUMIF('Daily Log'!$E$18:$E$1017,$B248,'Daily Log'!$F$18:$F$1017),0)","v":0},{"$f":"IFERROR($E248*SUMIF('Daily Log'!$H$18:$H$1017,$B248,'Daily Log'!$I$18:$I$1017),0)","v":0},{"$f":"IFERROR($E248*SUMIF('Daily Log'!$K$18:$K$1017,$B248,'Daily Log'!$L$18:$L$1017),0)","v":0},{"$f":"IFERROR($E248*SUMIF('Daily Log'!$N$18:$N$1017,$B248,'Daily Log'!$O$18:$O$1017),0)","v":0},{"$f":"IFERROR($E248*SUMIF('Daily Log'!$Q$18:$Q$1017,$B248,'Daily Log'!$R$18:$R$1017),0)","v":0},{"$f":"IFERROR($E248*SUMIF('Daily Log'!$T$18:$T$1017,$B248,'Daily Log'!$U$18:$U$1017),0)","v":0},{"$f":"IFERROR($E248*SUMIF('Daily Log'!$W$18:$W$1017,$B248,'Daily Log'!$X$18:$X$1017),0)","v":0},{"$f":"IFERROR($E248*SUMIF('Daily Log'!$Z$18:$Z$1017,$B248,'Daily Log'!$AA$18:$AA$1017),0)","v":0},{"$f":"IFERROR($E248*SUMIF('Daily Log'!$AC$18:$AC$1017,$B248,'Daily Log'!$AD$18:$AD$1017),0)","v":1},{"$f":"IFERROR($E248*SUMIF('Daily Log'!$AF$18:$AF$1017,$B248,'Daily Log'!$AG$18:$AG$1017),0)","v":2},{"$f":"IFERROR($E248*SUMIF('Daily Log'!$AI$18:$AI$1017,$B248,'Daily Log'!$AJ$18:$AJ$1017),0)","v":1},{"$f":"IFERROR($E248*SUMIF('Daily Log'!#REF!,$B248,'Daily Log'!#REF!),0)","v":0},{"$f":"IFERROR($E248*SUMIF('Daily Log'!#REF!,$B248,'Daily Log'!#REF!),0)","v":0},{"$f":"IFERROR($E248*SUMIF('Daily Log'!#REF!,$B248,'Daily Log'!#REF!),0)","v":0},{"$f":"IFERROR($E248*SUMIF('Daily Log'!#REF!,$B248,'Daily Log'!#REF!),0)","v":0},{"$f":"IFERROR($E248*SUMIF('Daily Log'!#REF!,$B248,'Daily Log'!#REF!),0)","v":0},{"$f":"IFERROR($E248*SUMIF('Daily Log'!#REF!,$B248,'Daily Log'!#REF!),0)","v":0},{"$f":"IFERROR($E248*SUMIF('Daily Log'!#REF!,$B248,'Daily Log'!#REF!),0)","v":0},{"$f":"IFERROR($E248*SUMIF('Daily Log'!#REF!,$B248,'Daily Log'!#REF!),0)","v":0},{"$f":"IFERROR($E248*SUMIF('Daily Log'!#REF!,$B248,'Daily Log'!#REF!),0)","v":0},{"$f":"IFERROR($E248*SUMIF('Daily Log'!#REF!,$B248,'Daily Log'!#REF!),0)","v":0},{"$f":"IFERROR($E248*SUMIF('Daily Log'!#REF!,$B248,'Daily Log'!#REF!),0)","v":0},{"$f":"IFERROR($E248*SUMIF('Daily Log'!#REF!,$B248,'Daily Log'!#REF!),0)","v":0},{"$f":"IFERROR($E248*SUMIF('Daily Log'!#REF!,$B248,'Daily Log'!#REF!),0)","v":0},{"$f":"IFERROR($E248*SUMIF('Daily Log'!#REF!,$B248,'Daily Log'!#REF!),0)","v":0},{"$f":"IFERROR($E248*SUMIF('Daily Log'!#REF!,$B248,'Daily Log'!#REF!),0)","v":0},{"$f":"IFERROR($E248*SUMIF('Daily Log'!#REF!,$B248,'Daily Log'!#REF!),0)","v":0},{"$f":"IFERROR($E248*SUMIF('Daily Log'!#REF!,$B248,'Daily Log'!#REF!),0)","v":0},{"$f":"IFERROR($E248*SUMIF('Daily Log'!#REF!,$B248,'Daily Log'!#REF!),0)","v":0},{"$f":"IFERROR($E248*SUMIF('Daily Log'!#REF!,$B248,'Daily Log'!#REF!),0)","v":0}]
[null,"DM02 SNACK PLATTER(B)",null,"PLATTER",1,0,{"$f":"IFERROR($E249*SUMIF('Daily Log'!$B$18:$B$1017,$B249,'Daily Log'!$C$18:$C$1017),0)","v":0},{"$f":"IFERROR($E249*SUMIF('Daily Log'!$E$18:$E$1017,$B249,'Daily Log'!$F$18:$F$1017),0)","v":0},{"$f":"IFERROR($E249*SUMIF('Daily Log'!$H$18:$H$1017,$B249,'Daily Log'!$I$18:$I$1017),0)","v":0},{"$f":"IFERROR($E249*SUMIF('Daily Log'!$K$18:$K$1017,$B249,'Daily Log'!$L$18:$L$1017),0)","v":0},{"$f":"IFERROR($E249*SUMIF('Daily Log'!$N$18:$N$1017,$B249,'Daily Log'!$O$18:$O$1017),0)","v":0},{"$f":"IFERROR($E249*SUMIF('Daily Log'!$Q$18:$Q$1017,$B249,'Daily Log'!$R$18:$R$1017),0)","v":0},{"$f":"IFERROR($E249*SUMIF('Daily Log'!$T$18:$T$1017,$B249,'Daily Log'!$U$18:$U$1017),0)","v":0},{"$f":"IFERROR($E249*SUMIF('Daily Log'!$W$18:$W$1017,$B249,'Daily Log'!$X$18:$X$1017),0)","v":0},{"$f":"IFERROR($E249*SUMIF('Daily Log'!$Z$18:$Z$1017,$B249,'Daily Log'!$AA$18:$AA$1017),0)","v":0},{"$f":"IFERROR($E249*SUMIF('Daily Log'!$AC$18:$AC$1017,$B249,'Daily Log'!$AD$18:$AD$1017),0)","v":0},{"$f":"IFERROR($E249*SUMIF('Daily Log'!$AF$18:$AF$1017,$B249,'Daily Log'!$AG$18:$AG$1017),0)","v":0},{"$f":"IFERROR($E249*SUMIF('Daily Log'!$AI$18:$AI$1017,$B249,'Daily Log'!$AJ$18:$AJ$1017),0)","v":0},{"$f":"IFERROR($E249*SUMIF('Daily Log'!#REF!,$B249,'Daily Log'!#REF!),0)","v":0},{"$f":"IFERROR($E249*SUMIF('Daily Log'!#REF!,$B249,'Daily Log'!#REF!),0)","v":0},{"$f":"IFERROR($E249*SUMIF('Daily Log'!#REF!,$B249,'Daily Log'!#REF!),0)","v":0},{"$f":"IFERROR($E249*SUMIF('Daily Log'!#REF!,$B249,'Daily Log'!#REF!),0)","v":0},{"$f":"IFERROR($E249*SUMIF('Daily Log'!#REF!,$B249,'Daily Log'!#REF!),0)","v":0},{"$f":"IFERROR($E249*SUMIF('Daily Log'!#REF!,$B249,'Daily Log'!#REF!),0)","v":0},{"$f":"IFERROR($E249*SUMIF('Daily Log'!#REF!,$B249,'Daily Log'!#REF!),0)","v":0},{"$f":"IFERROR($E249*SUMIF('Daily Log'!#REF!,$B249,'Daily Log'!#REF!),0)","v":0},{"$f":"IFERROR($E249*SUMIF('Daily Log'!#REF!,$B249,'Daily Log'!#REF!),0)","v":0},{"$f":"IFERROR($E249*SUMIF('Daily Log'!#REF!,$B249,'Daily Log'!#REF!),0)","v":0},{"$f":"IFERROR($E249*SUMIF('Daily Log'!#REF!,$B249,'Daily Log'!#REF!),0)","v":0},{"$f":"IFERROR($E249*SUMIF('Daily Log'!#REF!,$B249,'Daily Log'!#REF!),0)","v":0},{"$f":"IFERROR($E249*SUMIF('Daily Log'!#REF!,$B249,'Daily Log'!#REF!),0)","v":0},{"$f":"IFERROR($E249*SUMIF('Daily Log'!#REF!,$B249,'Daily Log'!#REF!),0)","v":0},{"$f":"IFERROR($E249*SUMIF('Daily Log'!#REF!,$B249,'Daily Log'!#REF!),0)","v":0},{"$f":"IFERROR($E249*SUMIF('Daily Log'!#REF!,$B249,'Daily Log'!#REF!),0)","v":0},{"$f":"IFERROR($E249*SUMIF('Daily Log'!#REF!,$B249,'Daily Log'!#REF!),0)","v":0},{"$f":"IFERROR($E249*SUMIF('Daily Log'!#REF!,$B249,'Daily Log'!#REF!),0)","v":0},{"$f":"IFERROR($E249*SUMIF('Daily Log'!#REF!,$B249,'Daily Log'!#REF!),0)","v":0}]
[null,"DM03 CNY platter(A)",null,"PLATTER",1,0,{"$f":"IFERROR($E250*SUMIF('Daily Log'!$B$18:$B$1017,$B250,'Daily Log'!$C$18:$C$1017),0)","v":0},{"$f":"IFERROR($E250*SUMIF('Daily Log'!$E$18:$E$1017,$B250,'Daily Log'!$F$18:$F$1017),0)","v":0},{"$f":"IFERROR($E250*SUMIF('Daily Log'!$H$18:$H$1017,$B250,'Daily Log'!$I$18:$I$1017),0)","v":0},{"$f":"IFERROR($E250*SUMIF('Daily Log'!$K$18:$K$1017,$B250,'Daily Log'!$L$18:$L$1017),0)","v":0},{"$f":"IFERROR($E250*SUMIF('Daily Log'!$N$18:$N$1017,$B250,'Daily Log'!$O$18:$O$1017),0)","v":0},{"$f":"IFERROR($E250*SUMIF('Daily Log'!$Q$18:$Q$1017,$B250,'Daily Log'!$R$18:$R$1017),0)","v":0},{"$f":"IFERROR($E250*SUMIF('Daily Log'!$T$18:$T$1017,$B250,'Daily Log'!$U$18:$U$1017),0)","v":0},{"$f":"IFERROR($E250*SUMIF('Daily Log'!$W$18:$W$1017,$B250,'Daily Log'!$X$18:$X$1017),0)","v":0},{"$f":"IFERROR($E250*SUMIF('Daily Log'!$Z$18:$Z$1017,$B250,'Daily Log'!$AA$18:$AA$1017),0)","v":0},{"$f":"IFERROR($E250*SUMIF('Daily Log'!$AC$18:$AC$1017,$B250,'Daily Log'!$AD$18:$AD$1017),0)","v":0},{"$f":"IFERROR($E250*SUMIF('Daily Log'!$AF$18:$AF$1017,$B250,'Daily Log'!$AG$18:$AG$1017),0)","v":0},{"$f":"IFERROR($E250*SUMIF('Daily Log'!$AI$18:$AI$1017,$B250,'Daily Log'!$AJ$18:$AJ$1017),0)","v":0},{"$f":"IFERROR($E250*SUMIF('Daily Log'!#REF!,$B250,'Daily Log'!#REF!),0)","v":0},{"$f":"IFERROR($E250*SUMIF('Daily Log'!#REF!,$B250,'Daily Log'!#REF!),0)","v":0},{"$f":"IFERROR($E250*SUMIF('Daily Log'!#REF!,$B250,'Daily Log'!#REF!),0)","v":0},{"$f":"IFERROR($E250*SUMIF('Daily Log'!#REF!,$B250,'Daily Log'!#REF!),0)","v":0},{"$f":"IFERROR($E250*SUMIF('Daily Log'!#REF!,$B250,'Daily Log'!#REF!),0)","v":0},{"$f":"IFERROR($E250*SUMIF('Daily Log'!#REF!,$B250,'Daily Log'!#REF!),0)","v":0},{"$f":"IFERROR($E250*SUMIF('Daily Log'!#REF!,$B250,'Daily Log'!#REF!),0)","v":0},{"$f":"IFERROR($E250*SUMIF('Daily Log'!#REF!,$B250,'Daily Log'!#REF!),0)","v":0},{"$f":"IFERROR($E250*SUMIF('Daily Log'!#REF!,$B250,'Daily Log'!#REF!),0)","v":0},{"$f":"IFERROR($E250*SUMIF('Daily Log'!#REF!,$B250,'Daily Log'!#REF!),0)","v":0},{"$f":"IFERROR($E250*SUMIF('Daily Log'!#REF!,$B250,'Daily Log'!#REF!),0)","v":0},{"$f":"IFERROR($E250*SUMIF('Daily Log'!#REF!,$B250,'Daily Log'!#REF!),0)","v":0},{"$f":"IFERROR($E250*SUMIF('Daily Log'!#REF!,$B250,'Daily Log'!#REF!),0)","v":0},{"$f":"IFERROR($E250*SUMIF('Daily Log'!#REF!,$B250,'Daily Log'!#REF!),0)","v":0},{"$f":"IFERROR($E250*SUMIF('Daily Log'!#REF!,$B250,'Daily Log'!#REF!),0)","v":0},{"$f":"IFERROR($E250*SUMIF('Daily Log'!#REF!,$B250,'Daily Log'!#REF!),0)","v":0},{"$f":"IFERROR($E250*SUMIF('Daily Log'!#REF!,$B250,'Daily Log'!#REF!),0)","v":0},{"$f":"IFERROR($E250*SUMIF('Daily Log'!#REF!,$B250,'Daily Log'!#REF!),0)","v":0},{"$f":"IFERROR($E250*SUMIF('Daily Log'!#REF!,$B250,'Daily Log'!#REF!),0)","v":0}]
[null,"DM04 CNY platter (B)",null,"PLATTER",1,1,{"$f":"IFERROR($E251*SUMIF('Daily Log'!$B$18:$B$1017,$B251,'Daily Log'!$C$18:$C$1017),0)","v":0},{"$f":"IFERROR($E251*SUMIF('Daily Log'!$E$18:$E$1017,$B251,'Daily Log'!$F$18:$F$1017),0)","v":0},{"$f":"IFERROR($E251*SUMIF('Daily Log'!$H$18:$H$1017,$B251,'Daily Log'!$I$18:$I$1017),0)","v":0},{"$f":"IFERROR($E251*SUMIF('Daily Log'!$K$18:$K$1017,$B251,'Daily Log'!$L$18:$L$1017),0)","v":0},{"$f":"IFERROR($E251*SUMIF('Daily Log'!$N$18:$N$1017,$B251,'Daily Log'!$O$18:$O$1017),0)","v":0},{"$f":"IFERROR($E251*SUMIF('Daily Log'!$Q$18:$Q$1017,$B251,'Daily Log'!$R$18:$R$1017),0)","v":1},{"$f":"IFERROR($E251*SUMIF('Daily Log'!$T$18:$T$1017,$B251,'Daily Log'!$U$18:$U$1017),0)","v":0},{"$f":"IFERROR($E251*SUMIF('Daily Log'!$W$18:$W$1017,$B251,'Daily Log'!$X$18:$X$1017),0)","v":0},{"$f":"IFERROR($E251*SUMIF('Daily Log'!$Z$18:$Z$1017,$B251,'Daily Log'!$AA$18:$AA$1017),0)","v":0},{"$f":"IFERROR($E251*SUMIF('Daily Log'!$AC$18:$AC$1017,$B251,'Daily Log'!$AD$18:$AD$1017),0)","v":0},{"$f":"IFERROR($E251*SUMIF('Daily Log'!$AF$18:$AF$1017,$B251,'Daily Log'!$AG$18:$AG$1017),0)","v":0},{"$f":"IFERROR($E251*SUMIF('Daily Log'!$AI$18:$AI$1017,$B251,'Daily Log'!$AJ$18:$AJ$1017),0)","v":0},{"$f":"IFERROR($E251*SUMIF('Daily Log'!#REF!,$B251,'Daily Log'!#REF!),0)","v":0},{"$f":"IFERROR($E251*SUMIF('Daily Log'!#REF!,$B251,'Daily Log'!#REF!),0)","v":0},{"$f":"IFERROR($E251*SUMIF('Daily Log'!#REF!,$B251,'Daily Log'!#REF!),0)","v":0},{"$f":"IFERROR($E251*SUMIF('Daily Log'!#REF!,$B251,'Daily Log'!#REF!),0)","v":0},{"$f":"IFERROR($E251*SUMIF('Daily Log'!#REF!,$B251,'Daily Log'!#REF!),0)","v":0},{"$f":"IFERROR($E251*SUMIF('Daily Log'!#REF!,$B251,'Daily Log'!#REF!),0)","v":0},{"$f":"IFERROR($E251*SUMIF('Daily Log'!#REF!,$B251,'Daily Log'!#REF!),0)","v":0},{"$f":"IFERROR($E251*SUMIF('Daily Log'!#REF!,$B251,'Daily Log'!#REF!),0)","v":0},{"$f":"IFERROR($E251*SUMIF('Daily Log'!#REF!,$B251,'Daily Log'!#REF!),0)","v":0},{"$f":"IFERROR($E251*SUMIF('Daily Log'!#REF!,$B251,'Daily Log'!#REF!),0)","v":0},{"$f":"IFERROR($E251*SUMIF('Daily Log'!#REF!,$B251,'Daily Log'!#REF!),0)","v":0},{"$f":"IFERROR($E251*SUMIF('Daily Log'!#REF!,$B251,'Daily Log'!#REF!),0)","v":0},{"$f":"IFERROR($E251*SUMIF('Daily Log'!#REF!,$B251,'Daily Log'!#REF!),0)","v":0},{"$f":"IFERROR($E251*SUMIF('Daily Log'!#REF!,$B251,'Daily Log'!#REF!),0)","v":0},{"$f":"IFERROR($E251*SUMIF('Daily Log'!#REF!,$B251,'Daily Log'!#REF!),0)","v":0},{"$f":"IFERROR($E251*SUMIF('Daily Log'!#REF!,$B251,'Daily Log'!#REF!),0)","v":0},{"$f":"IFERROR($E251*SUMIF('Daily Log'!#REF!,$B251,'Daily Log'!#REF!),0)","v":0},{"$f":"IFERROR($E251*SUMIF('Daily Log'!#REF!,$B251,'Daily Log'!#REF!),0)","v":0},{"$f":"IFERROR($E251*SUMIF('Daily Log'!#REF!,$B251,'Daily Log'!#REF!),0)","v":0}]
[null,"GA01 DUNHILL",null,"CIGARETTE",1,0,{"$f":"IFERROR($E252*SUMIF('Daily Log'!$B$18:$B$1017,$B252,'Daily Log'!$C$18:$C$1017),0)","v":0},{"$f":"IFERROR($E252*SUMIF('Daily Log'!$E$18:$E$1017,$B252,'Daily Log'!$F$18:$F$1017),0)","v":0},{"$f":"IFERROR($E252*SUMIF('Daily Log'!$H$18:$H$1017,$B252,'Daily Log'!$I$18:$I$1017),0)","v":0},{"$f":"IFERROR($E252*SUMIF('Daily Log'!$K$18:$K$1017,$B252,'Daily Log'!$L$18:$L$1017),0)","v":0},{"$f":"IFERROR($E252*SUMIF('Daily Log'!$N$18:$N$1017,$B252,'Daily Log'!$O$18:$O$1017),0)","v":0},{"$f":"IFERROR($E252*SUMIF('Daily Log'!$Q$18:$Q$1017,$B252,'Daily Log'!$R$18:$R$1017),0)","v":0},{"$f":"IFERROR($E252*SUMIF('Daily Log'!$T$18:$T$1017,$B252,'Daily Log'!$U$18:$U$1017),0)","v":0},{"$f":"IFERROR($E252*SUMIF('Daily Log'!$W$18:$W$1017,$B252,'Daily Log'!$X$18:$X$1017),0)","v":0},{"$f":"IFERROR($E252*SUMIF('Daily Log'!$Z$18:$Z$1017,$B252,'Daily Log'!$AA$18:$AA$1017),0)","v":0},{"$f":"IFERROR($E252*SUMIF('Daily Log'!$AC$18:$AC$1017,$B252,'Daily Log'!$AD$18:$AD$1017),0)","v":0},{"$f":"IFERROR($E252*SUMIF('Daily Log'!$AF$18:$AF$1017,$B252,'Daily Log'!$AG$18:$AG$1017),0)","v":0},{"$f":"IFERROR($E252*SUMIF('Daily Log'!$AI$18:$AI$1017,$B252,'Daily Log'!$AJ$18:$AJ$1017),0)","v":0},{"$f":"IFERROR($E252*SUMIF('Daily Log'!#REF!,$B252,'Daily Log'!#REF!),0)","v":0},{"$f":"IFERROR($E252*SUMIF('Daily Log'!#REF!,$B252,'Daily Log'!#REF!),0)","v":0},{"$f":"IFERROR($E252*SUMIF('Daily Log'!#REF!,$B252,'Daily Log'!#REF!),0)","v":0},{"$f":"IFERROR($E252*SUMIF('Daily Log'!#REF!,$B252,'Daily Log'!#REF!),0)","v":0},{"$f":"IFERROR($E252*SUMIF('Daily Log'!#REF!,$B252,'Daily Log'!#REF!),0)","v":0},{"$f":"IFERROR($E252*SUMIF('Daily Log'!#REF!,$B252,'Daily Log'!#REF!),0)","v":0},{"$f":"IFERROR($E252*SUMIF('Daily Log'!#REF!,$B252,'Daily Log'!#REF!),0)","v":0},{"$f":"IFERROR($E252*SUMIF('Daily Log'!#REF!,$B252,'Daily Log'!#REF!),0)","v":0},{"$f":"IFERROR($E252*SUMIF('Daily Log'!#REF!,$B252,'Daily Log'!#REF!),0)","v":0},{"$f":"IFERROR($E252*SUMIF('Daily Log'!#REF!,$B252,'Daily Log'!#REF!),0)","v":0},{"$f":"IFERROR($E252*SUMIF('Daily Log'!#REF!,$B252,'Daily Log'!#REF!),0)","v":0},{"$f":"IFERROR($E252*SUMIF('Daily Log'!#REF!,$B252,'Daily Log'!#REF!),0)","v":0},{"$f":"IFERROR($E252*SUMIF('Daily Log'!#REF!,$B252,'Daily Log'!#REF!),0)","v":0},{"$f":"IFERROR($E252*SUMIF('Daily Log'!#REF!,$B252,'Daily Log'!#REF!),0)","v":0},{"$f":"IFERROR($E252*SUMIF('Daily Log'!#REF!,$B252,'Daily Log'!#REF!),0)","v":0},{"$f":"IFERROR($E252*SUMIF('Daily Log'!#REF!,$B252,'Daily Log'!#REF!),0)","v":0},{"$f":"IFERROR($E252*SUMIF('Daily Log'!#REF!,$B252,'Daily Log'!#REF!),0)","v":0},{"$f":"IFERROR($E252*SUMIF('Daily Log'!#REF!,$B252,'Daily Log'!#REF!),0)","v":0},{"$f":"IFERROR($E252*SUMIF('Daily Log'!#REF!,$B252,'Daily Log'!#REF!),0)","v":0}]
[null,"GA02 KENT",null,"CIGARETTE",1,0,{"$f":"IFERROR($E253*SUMIF('Daily Log'!$B$18:$B$1017,$B253,'Daily Log'!$C$18:$C$1017),0)","v":0},{"$f":"IFERROR($E253*SUMIF('Daily Log'!$E$18:$E$1017,$B253,'Daily Log'!$F$18:$F$1017),0)","v":0},{"$f":"IFERROR($E253*SUMIF('Daily Log'!$H$18:$H$1017,$B253,'Daily Log'!$I$18:$I$1017),0)","v":0},{"$f":"IFERROR($E253*SUMIF('Daily Log'!$K$18:$K$1017,$B253,'Daily Log'!$L$18:$L$1017),0)","v":0},{"$f":"IFERROR($E253*SUMIF('Daily Log'!$N$18:$N$1017,$B253,'Daily Log'!$O$18:$O$1017),0)","v":0},{"$f":"IFERROR($E253*SUMIF('Daily Log'!$Q$18:$Q$1017,$B253,'Daily Log'!$R$18:$R$1017),0)","v":0},{"$f":"IFERROR($E253*SUMIF('Daily Log'!$T$18:$T$1017,$B253,'Daily Log'!$U$18:$U$1017),0)","v":0},{"$f":"IFERROR($E253*SUMIF('Daily Log'!$W$18:$W$1017,$B253,'Daily Log'!$X$18:$X$1017),0)","v":0},{"$f":"IFERROR($E253*SUMIF('Daily Log'!$Z$18:$Z$1017,$B253,'Daily Log'!$AA$18:$AA$1017),0)","v":0},{"$f":"IFERROR($E253*SUMIF('Daily Log'!$AC$18:$AC$1017,$B253,'Daily Log'!$AD$18:$AD$1017),0)","v":0},{"$f":"IFERROR($E253*SUMIF('Daily Log'!$AF$18:$AF$1017,$B253,'Daily Log'!$AG$18:$AG$1017),0)","v":0},{"$f":"IFERROR($E253*SUMIF('Daily Log'!$AI$18:$AI$1017,$B253,'Daily Log'!$AJ$18:$AJ$1017),0)","v":0},{"$f":"IFERROR($E253*SUMIF('Daily Log'!#REF!,$B253,'Daily Log'!#REF!),0)","v":0},{"$f":"IFERROR($E253*SUMIF('Daily Log'!#REF!,$B253,'Daily Log'!#REF!),0)","v":0},{"$f":"IFERROR($E253*SUMIF('Daily Log'!#REF!,$B253,'Daily Log'!#REF!),0)","v":0},{"$f":"IFERROR($E253*SUMIF('Daily Log'!#REF!,$B253,'Daily Log'!#REF!),0)","v":0},{"$f":"IFERROR($E253*SUMIF('Daily Log'!#REF!,$B253,'Daily Log'!#REF!),0)","v":0},{"$f":"IFERROR($E253*SUMIF('Daily Log'!#REF!,$B253,'Daily Log'!#REF!),0)","v":0},{"$f":"IFERROR($E253*SUMIF('Daily Log'!#REF!,$B253,'Daily Log'!#REF!),0)","v":0},{"$f":"IFERROR($E253*SUMIF('Daily Log'!#REF!,$B253,'Daily Log'!#REF!),0)","v":0},{"$f":"IFERROR($E253*SUMIF('Daily Log'!#REF!,$B253,'Daily Log'!#REF!),0)","v":0},{"$f":"IFERROR($E253*SUMIF('Daily Log'!#REF!,$B253,'Daily Log'!#REF!),0)","v":0},{"$f":"IFERROR($E253*SUMIF('Daily Log'!#REF!,$B253,'Daily Log'!#REF!),0)","v":0},{"$f":"IFERROR($E253*SUMIF('Daily Log'!#REF!,$B253,'Daily Log'!#REF!),0)","v":0},{"$f":"IFERROR($E253*SUMIF('Daily Log'!#REF!,$B253,'Daily Log'!#REF!),0)","v":0},{"$f":"IFERROR($E253*SUMIF('Daily Log'!#REF!,$B253,'Daily Log'!#REF!),0)","v":0},{"$f":"IFERROR($E253*SUMIF('Daily Log'!#REF!,$B253,'Daily Log'!#REF!),0)","v":0},{"$f":"IFERROR($E253*SUMIF('Daily Log'!#REF!,$B253,'Daily Log'!#REF!),0)","v":0},{"$f":"IFERROR($E253*SUMIF('Daily Log'!#REF!,$B253,'Daily Log'!#REF!),0)","v":0},{"$f":"IFERROR($E253*SUMIF('Daily Log'!#REF!,$B253,'Daily Log'!#REF!),0)","v":0},{"$f":"IFERROR($E253*SUMIF('Daily Log'!#REF!,$B253,'Daily Log'!#REF!),0)","v":0}]
[null,"GE01 DUNHILL",null,"CIGARETTE",1,3,{"$f":"IFERROR($E254*SUMIF('Daily Log'!$B$18:$B$1017,$B254,'Daily Log'!$C$18:$C$1017),0)","v":0},{"$f":"IFERROR($E254*SUMIF('Daily Log'!$E$18:$E$1017,$B254,'Daily Log'!$F$18:$F$1017),0)","v":0},{"$f":"IFERROR($E254*SUMIF('Daily Log'!$H$18:$H$1017,$B254,'Daily Log'!$I$18:$I$1017),0)","v":0},{"$f":"IFERROR($E254*SUMIF('Daily Log'!$K$18:$K$1017,$B254,'Daily Log'!$L$18:$L$1017),0)","v":0},{"$f":"IFERROR($E254*SUMIF('Daily Log'!$N$18:$N$1017,$B254,'Daily Log'!$O$18:$O$1017),0)","v":0},{"$f":"IFERROR($E254*SUMIF('Daily Log'!$Q$18:$Q$1017,$B254,'Daily Log'!$R$18:$R$1017),0)","v":1},{"$f":"IFERROR($E254*SUMIF('Daily Log'!$T$18:$T$1017,$B254,'Daily Log'!$U$18:$U$1017),0)","v":0},{"$f":"IFERROR($E254*SUMIF('Daily Log'!$W$18:$W$1017,$B254,'Daily Log'!$X$18:$X$1017),0)","v":0},{"$f":"IFERROR($E254*SUMIF('Daily Log'!$Z$18:$Z$1017,$B254,'Daily Log'!$AA$18:$AA$1017),0)","v":1},{"$f":"IFERROR($E254*SUMIF('Daily Log'!$AC$18:$AC$1017,$B254,'Daily Log'!$AD$18:$AD$1017),0)","v":1},{"$f":"IFERROR($E254*SUMIF('Daily Log'!$AF$18:$AF$1017,$B254,'Daily Log'!$AG$18:$AG$1017),0)","v":0},{"$f":"IFERROR($E254*SUMIF('Daily Log'!$AI$18:$AI$1017,$B254,'Daily Log'!$AJ$18:$AJ$1017),0)","v":0},{"$f":"IFERROR($E254*SUMIF('Daily Log'!#REF!,$B254,'Daily Log'!#REF!),0)","v":0},{"$f":"IFERROR($E254*SUMIF('Daily Log'!#REF!,$B254,'Daily Log'!#REF!),0)","v":0},{"$f":"IFERROR($E254*SUMIF('Daily Log'!#REF!,$B254,'Daily Log'!#REF!),0)","v":0},{"$f":"IFERROR($E254*SUMIF('Daily Log'!#REF!,$B254,'Daily Log'!#REF!),0)","v":0},{"$f":"IFERROR($E254*SUMIF('Daily Log'!#REF!,$B254,'Daily Log'!#REF!),0)","v":0},{"$f":"IFERROR($E254*SUMIF('Daily Log'!#REF!,$B254,'Daily Log'!#REF!),0)","v":0},{"$f":"IFERROR($E254*SUMIF('Daily Log'!#REF!,$B254,'Daily Log'!#REF!),0)","v":0},{"$f":"IFERROR($E254*SUMIF('Daily Log'!#REF!,$B254,'Daily Log'!#REF!),0)","v":0},{"$f":"IFERROR($E254*SUMIF('Daily Log'!#REF!,$B254,'Daily Log'!#REF!),0)","v":0},{"$f":"IFERROR($E254*SUMIF('Daily Log'!#REF!,$B254,'Daily Log'!#REF!),0)","v":0},{"$f":"IFERROR($E254*SUMIF('Daily Log'!#REF!,$B254,'Daily Log'!#REF!),0)","v":0},{"$f":"IFERROR($E254*SUMIF('Daily Log'!#REF!,$B254,'Daily Log'!#REF!),0)","v":0},{"$f":"IFERROR($E254*SUMIF('Daily Log'!#REF!,$B254,'Daily Log'!#REF!),0)","v":0},{"$f":"IFERROR($E254*SUMIF('Daily Log'!#REF!,$B254,'Daily Log'!#REF!),0)","v":0},{"$f":"IFERROR($E254*SUMIF('Daily Log'!#REF!,$B254,'Daily Log'!#REF!),0)","v":0},{"$f":"IFERROR($E254*SUMIF('Daily Log'!#REF!,$B254,'Daily Log'!#REF!),0)","v":0},{"$f":"IFERROR($E254*SUMIF('Daily Log'!#REF!,$B254,'Daily Log'!#REF!),0)","v":0},{"$f":"IFERROR($E254*SUMIF('Daily Log'!#REF!,$B254,'Daily Log'!#REF!),0)","v":0},{"$f":"IFERROR($E254*SUMIF('Daily Log'!#REF!,$B254,'Daily Log'!#REF!),0)","v":0}]
[null,"GE02 DUNHILL LITE",null,"CIGARETTE",1,1,{"$f":"IFERROR($E255*SUMIF('Daily Log'!$B$18:$B$1017,$B255,'Daily Log'!$C$18:$C$1017),0)","v":0},{"$f":"IFERROR($E255*SUMIF('Daily Log'!$E$18:$E$1017,$B255,'Daily Log'!$F$18:$F$1017),0)","v":0},{"$f":"IFERROR($E255*SUMIF('Daily Log'!$H$18:$H$1017,$B255,'Daily Log'!$I$18:$I$1017),0)","v":0},{"$f":"IFERROR($E255*SUMIF('Daily Log'!$K$18:$K$1017,$B255,'Daily Log'!$L$18:$L$1017),0)","v":0},{"$f":"IFERROR($E255*SUMIF('Daily Log'!$N$18:$N$1017,$B255,'Daily Log'!$O$18:$O$1017),0)","v":0},{"$f":"IFERROR($E255*SUMIF('Daily Log'!$Q$18:$Q$1017,$B255,'Daily Log'!$R$18:$R$1017),0)","v":0},{"$f":"IFERROR($E255*SUMIF('Daily Log'!$T$18:$T$1017,$B255,'Daily Log'!$U$18:$U$1017),0)","v":0},{"$f":"IFERROR($E255*SUMIF('Daily Log'!$W$18:$W$1017,$B255,'Daily Log'!$X$18:$X$1017),0)","v":0},{"$f":"IFERROR($E255*SUMIF('Daily Log'!$Z$18:$Z$1017,$B255,'Daily Log'!$AA$18:$AA$1017),0)","v":1},{"$f":"IFERROR($E255*SUMIF('Daily Log'!$AC$18:$AC$1017,$B255,'Daily Log'!$AD$18:$AD$1017),0)","v":0},{"$f":"IFERROR($E255*SUMIF('Daily Log'!$AF$18:$AF$1017,$B255,'Daily Log'!$AG$18:$AG$1017),0)","v":0},{"$f":"IFERROR($E255*SUMIF('Daily Log'!$AI$18:$AI$1017,$B255,'Daily Log'!$AJ$18:$AJ$1017),0)","v":0},{"$f":"IFERROR($E255*SUMIF('Daily Log'!#REF!,$B255,'Daily Log'!#REF!),0)","v":0},{"$f":"IFERROR($E255*SUMIF('Daily Log'!#REF!,$B255,'Daily Log'!#REF!),0)","v":0},{"$f":"IFERROR($E255*SUMIF('Daily Log'!#REF!,$B255,'Daily Log'!#REF!),0)","v":0},{"$f":"IFERROR($E255*SUMIF('Daily Log'!#REF!,$B255,'Daily Log'!#REF!),0)","v":0},{"$f":"IFERROR($E255*SUMIF('Daily Log'!#REF!,$B255,'Daily Log'!#REF!),0)","v":0},{"$f":"IFERROR($E255*SUMIF('Daily Log'!#REF!,$B255,'Daily Log'!#REF!),0)","v":0},{"$f":"IFERROR($E255*SUMIF('Daily Log'!#REF!,$B255,'Daily Log'!#REF!),0)","v":0},{"$f":"IFERROR($E255*SUMIF('Daily Log'!#REF!,$B255,'Daily Log'!#REF!),0)","v":0},{"$f":"IFERROR($E255*SUMIF('Daily Log'!#REF!,$B255,'Daily Log'!#REF!),0)","v":0},{"$f":"IFERROR($E255*SUMIF('Daily Log'!#REF!,$B255,'Daily Log'!#REF!),0)","v":0},{"$f":"IFERROR($E255*SUMIF('Daily Log'!#REF!,$B255,'Daily Log'!#REF!),0)","v":0},{"$f":"IFERROR($E255*SUMIF('Daily Log'!#REF!,$B255,'Daily Log'!#REF!),0)","v":0},{"$f":"IFERROR($E255*SUMIF('Daily Log'!#REF!,$B255,'Daily Log'!#REF!),0)","v":0},{"$f":"IFERROR($E255*SUMIF('Daily Log'!#REF!,$B255,'Daily Log'!#REF!),0)","v":0},{"$f":"IFERROR($E255*SUMIF('Daily Log'!#REF!,$B255,'Daily Log'!#REF!),0)","v":0},{"$f":"IFERROR($E255*SUMIF('Daily Log'!#REF!,$B255,'Daily Log'!#REF!),0)","v":0},{"$f":"IFERROR($E255*SUMIF('Daily Log'!#REF!,$B255,'Daily Log'!#REF!),0)","v":0},{"$f":"IFERROR($E255*SUMIF('Daily Log'!#REF!,$B255,'Daily Log'!#REF!),0)","v":0},{"$f":"IFERROR($E255*SUMIF('Daily Log'!#REF!,$B255,'Daily Log'!#REF!),0)","v":0}]
[null,"GE03 DUNHILL MT",null,"CIGARETTE",1,1,{"$f":"IFERROR($E256*SUMIF('Daily Log'!$B$18:$B$1017,$B256,'Daily Log'!$C$18:$C$1017),0)","v":0},{"$f":"IFERROR($E256*SUMIF('Daily Log'!$E$18:$E$1017,$B256,'Daily Log'!$F$18:$F$1017),0)","v":0},{"$f":"IFERROR($E256*SUMIF('Daily Log'!$H$18:$H$1017,$B256,'Daily Log'!$I$18:$I$1017),0)","v":0},{"$f":"IFERROR($E256*SUMIF('Daily Log'!$K$18:$K$1017,$B256,'Daily Log'!$L$18:$L$1017),0)","v":0},{"$f":"IFERROR($E256*SUMIF('Daily Log'!$N$18:$N$1017,$B256,'Daily Log'!$O$18:$O$1017),0)","v":0},{"$f":"IFERROR($E256*SUMIF('Daily Log'!$Q$18:$Q$1017,$B256,'Daily Log'!$R$18:$R$1017),0)","v":0},{"$f":"IFERROR($E256*SUMIF('Daily Log'!$T$18:$T$1017,$B256,'Daily Log'!$U$18:$U$1017),0)","v":0},{"$f":"IFERROR($E256*SUMIF('Daily Log'!$W$18:$W$1017,$B256,'Daily Log'!$X$18:$X$1017),0)","v":0},{"$f":"IFERROR($E256*SUMIF('Daily Log'!$Z$18:$Z$1017,$B256,'Daily Log'!$AA$18:$AA$1017),0)","v":1},{"$f":"IFERROR($E256*SUMIF('Daily Log'!$AC$18:$AC$1017,$B256,'Daily Log'!$AD$18:$AD$1017),0)","v":0},{"$f":"IFERROR($E256*SUMIF('Daily Log'!$AF$18:$AF$1017,$B256,'Daily Log'!$AG$18:$AG$1017),0)","v":0},{"$f":"IFERROR($E256*SUMIF('Daily Log'!$AI$18:$AI$1017,$B256,'Daily Log'!$AJ$18:$AJ$1017),0)","v":0},{"$f":"IFERROR($E256*SUMIF('Daily Log'!#REF!,$B256,'Daily Log'!#REF!),0)","v":0},{"$f":"IFERROR($E256*SUMIF('Daily Log'!#REF!,$B256,'Daily Log'!#REF!),0)","v":0},{"$f":"IFERROR($E256*SUMIF('Daily Log'!#REF!,$B256,'Daily Log'!#REF!),0)","v":0},{"$f":"IFERROR($E256*SUMIF('Daily Log'!#REF!,$B256,'Daily Log'!#REF!),0)","v":0},{"$f":"IFERROR($E256*SUMIF('Daily Log'!#REF!,$B256,'Daily Log'!#REF!),0)","v":0},{"$f":"IFERROR($E256*SUMIF('Daily Log'!#REF!,$B256,'Daily Log'!#REF!),0)","v":0},{"$f":"IFERROR($E256*SUMIF('Daily Log'!#REF!,$B256,'Daily Log'!#REF!),0)","v":0},{"$f":"IFERROR($E256*SUMIF('Daily Log'!#REF!,$B256,'Daily Log'!#REF!),0)","v":0},{"$f":"IFERROR($E256*SUMIF('Daily Log'!#REF!,$B256,'Daily Log'!#REF!),0)","v":0},{"$f":"IFERROR($E256*SUMIF('Daily Log'!#REF!,$B256,'Daily Log'!#REF!),0)","v":0},{"$f":"IFERROR($E256*SUMIF('Daily Log'!#REF!,$B256,'Daily Log'!#REF!),0)","v":0},{"$f":"IFERROR($E256*SUMIF('Daily Log'!#REF!,$B256,'Daily Log'!#REF!),0)","v":0},{"$f":"IFERROR($E256*SUMIF('Daily Log'!#REF!,$B256,'Daily Log'!#REF!),0)","v":0},{"$f":"IFERROR($E256*SUMIF('Daily Log'!#REF!,$B256,'Daily Log'!#REF!),0)","v":0},{"$f":"IFERROR($E256*SUMIF('Daily Log'!#REF!,$B256,'Daily Log'!#REF!),0)","v":0},{"$f":"IFERROR($E256*SUMIF('Daily Log'!#REF!,$B256,'Daily Log'!#REF!),0)","v":0},{"$f":"IFERROR($E256*SUMIF('Daily Log'!#REF!,$B256,'Daily Log'!#REF!),0)","v":0},{"$f":"IFERROR($E256*SUMIF('Daily Log'!#REF!,$B256,'Daily Log'!#REF!),0)","v":0},{"$f":"IFERROR($E256*SUMIF('Daily Log'!#REF!,$B256,'Daily Log'!#REF!),0)","v":0}]
[null,"GE04 DUNHILL MT LITE",null,"CIGARETTE",1,0,{"$f":"IFERROR($E257*SUMIF('Daily Log'!$B$18:$B$1017,$B257,'Daily Log'!$C$18:$C$1017),0)","v":0},{"$f":"IFERROR($E257*SUMIF('Daily Log'!$E$18:$E$1017,$B257,'Daily Log'!$F$18:$F$1017),0)","v":0},{"$f":"IFERROR($E257*SUMIF('Daily Log'!$H$18:$H$1017,$B257,'Daily Log'!$I$18:$I$1017),0)","v":0},{"$f":"IFERROR($E257*SUMIF('Daily Log'!$K$18:$K$1017,$B257,'Daily Log'!$L$18:$L$1017),0)","v":0},{"$f":"IFERROR($E257*SUMIF('Daily Log'!$N$18:$N$1017,$B257,'Daily Log'!$O$18:$O$1017),0)","v":0},{"$f":"IFERROR($E257*SUMIF('Daily Log'!$Q$18:$Q$1017,$B257,'Daily Log'!$R$18:$R$1017),0)","v":0},{"$f":"IFERROR($E257*SUMIF('Daily Log'!$T$18:$T$1017,$B257,'Daily Log'!$U$18:$U$1017),0)","v":0},{"$f":"IFERROR($E257*SUMIF('Daily Log'!$W$18:$W$1017,$B257,'Daily Log'!$X$18:$X$1017),0)","v":0},{"$f":"IFERROR($E257*SUMIF('Daily Log'!$Z$18:$Z$1017,$B257,'Daily Log'!$AA$18:$AA$1017),0)","v":0},{"$f":"IFERROR($E257*SUMIF('Daily Log'!$AC$18:$AC$1017,$B257,'Daily Log'!$AD$18:$AD$1017),0)","v":0},{"$f":"IFERROR($E257*SUMIF('Daily Log'!$AF$18:$AF$1017,$B257,'Daily Log'!$AG$18:$AG$1017),0)","v":0},{"$f":"IFERROR($E257*SUMIF('Daily Log'!$AI$18:$AI$1017,$B257,'Daily Log'!$AJ$18:$AJ$1017),0)","v":0},{"$f":"IFERROR($E257*SUMIF('Daily Log'!#REF!,$B257,'Daily Log'!#REF!),0)","v":0},{"$f":"IFERROR($E257*SUMIF('Daily Log'!#REF!,$B257,'Daily Log'!#REF!),0)","v":0},{"$f":"IFERROR($E257*SUMIF('Daily Log'!#REF!,$B257,'Daily Log'!#REF!),0)","v":0},{"$f":"IFERROR($E257*SUMIF('Daily Log'!#REF!,$B257,'Daily Log'!#REF!),0)","v":0},{"$f":"IFERROR($E257*SUMIF('Daily Log'!#REF!,$B257,'Daily Log'!#REF!),0)","v":0},{"$f":"IFERROR($E257*SUMIF('Daily Log'!#REF!,$B257,'Daily Log'!#REF!),0)","v":0},{"$f":"IFERROR($E257*SUMIF('Daily Log'!#REF!,$B257,'Daily Log'!#REF!),0)","v":0},{"$f":"IFERROR($E257*SUMIF('Daily Log'!#REF!,$B257,'Daily Log'!#REF!),0)","v":0},{"$f":"IFERROR($E257*SUMIF('Daily Log'!#REF!,$B257,'Daily Log'!#REF!),0)","v":0},{"$f":"IFERROR($E257*SUMIF('Daily Log'!#REF!,$B257,'Daily Log'!#REF!),0)","v":0},{"$f":"IFERROR($E257*SUMIF('Daily Log'!#REF!,$B257,'Daily Log'!#REF!),0)","v":0},{"$f":"IFERROR($E257*SUMIF('Daily Log'!#REF!,$B257,'Daily Log'!#REF!),0)","v":0},{"$f":"IFERROR($E257*SUMIF('Daily Log'!#REF!,$B257,'Daily Log'!#REF!),0)","v":0},{"$f":"IFERROR($E257*SUMIF('Daily Log'!#REF!,$B257,'Daily Log'!#REF!),0)","v":0},{"$f":"IFERROR($E257*SUMIF('Daily Log'!#REF!,$B257,'Daily Log'!#REF!),0)","v":0},{"$f":"IFERROR($E257*SUMIF('Daily Log'!#REF!,$B257,'Daily Log'!#REF!),0)","v":0},{"$f":"IFERROR($E257*SUMIF('Daily Log'!#REF!,$B257,'Daily Log'!#REF!),0)","v":0},{"$f":"IFERROR($E257*SUMIF('Daily Log'!#REF!,$B257,'Daily Log'!#REF!),0)","v":0},{"$f":"IFERROR($E257*SUMIF('Daily Log'!#REF!,$B257,'Daily Log'!#REF!),0)","v":0}]
[null,"GE05 DUNHILL BOOST",null,"CIGARETTE",1,0,{"$f":"IFERROR($E258*SUMIF('Daily Log'!$B$18:$B$1017,$B258,'Daily Log'!$C$18:$C$1017),0)","v":0},{"$f":"IFERROR($E258*SUMIF('Daily Log'!$E$18:$E$1017,$B258,'Daily Log'!$F$18:$F$1017),0)","v":0},{"$f":"IFERROR($E258*SUMIF('Daily Log'!$H$18:$H$1017,$B258,'Daily Log'!$I$18:$I$1017),0)","v":0},{"$f":"IFERROR($E258*SUMIF('Daily Log'!$K$18:$K$1017,$B258,'Daily Log'!$L$18:$L$1017),0)","v":0},{"$f":"IFERROR($E258*SUMIF('Daily Log'!$N$18:$N$1017,$B258,'Daily Log'!$O$18:$O$1017),0)","v":0},{"$f":"IFERROR($E258*SUMIF('Daily Log'!$Q$18:$Q$1017,$B258,'Daily Log'!$R$18:$R$1017),0)","v":0},{"$f":"IFERROR($E258*SUMIF('Daily Log'!$T$18:$T$1017,$B258,'Daily Log'!$U$18:$U$1017),0)","v":0},{"$f":"IFERROR($E258*SUMIF('Daily Log'!$W$18:$W$1017,$B258,'Daily Log'!$X$18:$X$1017),0)","v":0},{"$f":"IFERROR($E258*SUMIF('Daily Log'!$Z$18:$Z$1017,$B258,'Daily Log'!$AA$18:$AA$1017),0)","v":0},{"$f":"IFERROR($E258*SUMIF('Daily Log'!$AC$18:$AC$1017,$B258,'Daily Log'!$AD$18:$AD$1017),0)","v":0},{"$f":"IFERROR($E258*SUMIF('Daily Log'!$AF$18:$AF$1017,$B258,'Daily Log'!$AG$18:$AG$1017),0)","v":0},{"$f":"IFERROR($E258*SUMIF('Daily Log'!$AI$18:$AI$1017,$B258,'Daily Log'!$AJ$18:$AJ$1017),0)","v":0},{"$f":"IFERROR($E258*SUMIF('Daily Log'!#REF!,$B258,'Daily Log'!#REF!),0)","v":0},{"$f":"IFERROR($E258*SUMIF('Daily Log'!#REF!,$B258,'Daily Log'!#REF!),0)","v":0},{"$f":"IFERROR($E258*SUMIF('Daily Log'!#REF!,$B258,'Daily Log'!#REF!),0)","v":0},{"$f":"IFERROR($E258*SUMIF('Daily Log'!#REF!,$B258,'Daily Log'!#REF!),0)","v":0},{"$f":"IFERROR($E258*SUMIF('Daily Log'!#REF!,$B258,'Daily Log'!#REF!),0)","v":0},{"$f":"IFERROR($E258*SUMIF('Daily Log'!#REF!,$B258,'Daily Log'!#REF!),0)","v":0},{"$f":"IFERROR($E258*SUMIF('Daily Log'!#REF!,$B258,'Daily Log'!#REF!),0)","v":0},{"$f":"IFERROR($E258*SUMIF('Daily Log'!#REF!,$B258,'Daily Log'!#REF!),0)","v":0},{"$f":"IFERROR($E258*SUMIF('Daily Log'!#REF!,$B258,'Daily Log'!#REF!),0)","v":0},{"$f":"IFERROR($E258*SUMIF('Daily Log'!#REF!,$B258,'Daily Log'!#REF!),0)","v":0},{"$f":"IFERROR($E258*SUMIF('Daily Log'!#REF!,$B258,'Daily Log'!#REF!),0)","v":0},{"$f":"IFERROR($E258*SUMIF('Daily Log'!#REF!,$B258,'Daily Log'!#REF!),0)","v":0},{"$f":"IFERROR($E258*SUMIF('Daily Log'!#REF!,$B258,'Daily Log'!#REF!),0)","v":0},{"$f":"IFERROR($E258*SUMIF('Daily Log'!#REF!,$B258,'Daily Log'!#REF!),0)","v":0},{"$f":"IFERROR($E258*SUMIF('Daily Log'!#REF!,$B258,'Daily Log'!#REF!),0)","v":0},{"$f":"IFERROR($E258*SUMIF('Daily Log'!#REF!,$B258,'Daily Log'!#REF!),0)","v":0},{"$f":"IFERROR($E258*SUMIF('Daily Log'!#REF!,$B258,'Daily Log'!#REF!),0)","v":0},{"$f":"IFERROR($E258*SUMIF('Daily Log'!#REF!,$B258,'Daily Log'!#REF!),0)","v":0},{"$f":"IFERROR($E258*SUMIF('Daily Log'!#REF!,$B258,'Daily Log'!#REF!),0)","v":0}]
[null,"GE06 DUNHILL SWITCH",null,"CIGARETTE",1,0,{"$f":"IFERROR($E259*SUMIF('Daily Log'!$B$18:$B$1017,$B259,'Daily Log'!$C$18:$C$1017),0)","v":0},{"$f":"IFERROR($E259*SUMIF('Daily Log'!$E$18:$E$1017,$B259,'Daily Log'!$F$18:$F$1017),0)","v":0},{"$f":"IFERROR($E259*SUMIF('Daily Log'!$H$18:$H$1017,$B259,'Daily Log'!$I$18:$I$1017),0)","v":0},{"$f":"IFERROR($E259*SUMIF('Daily Log'!$K$18:$K$1017,$B259,'Daily Log'!$L$18:$L$1017),0)","v":0},{"$f":"IFERROR($E259*SUMIF('Daily Log'!$N$18:$N$1017,$B259,'Daily Log'!$O$18:$O$1017),0)","v":0},{"$f":"IFERROR($E259*SUMIF('Daily Log'!$Q$18:$Q$1017,$B259,'Daily Log'!$R$18:$R$1017),0)","v":0},{"$f":"IFERROR($E259*SUMIF('Daily Log'!$T$18:$T$1017,$B259,'Daily Log'!$U$18:$U$1017),0)","v":0},{"$f":"IFERROR($E259*SUMIF('Daily Log'!$W$18:$W$1017,$B259,'Daily Log'!$X$18:$X$1017),0)","v":0},{"$f":"IFERROR($E259*SUMIF('Daily Log'!$Z$18:$Z$1017,$B259,'Daily Log'!$AA$18:$AA$1017),0)","v":0},{"$f":"IFERROR($E259*SUMIF('Daily Log'!$AC$18:$AC$1017,$B259,'Daily Log'!$AD$18:$AD$1017),0)","v":0},{"$f":"IFERROR($E259*SUMIF('Daily Log'!$AF$18:$AF$1017,$B259,'Daily Log'!$AG$18:$AG$1017),0)","v":0},{"$f":"IFERROR($E259*SUMIF('Daily Log'!$AI$18:$AI$1017,$B259,'Daily Log'!$AJ$18:$AJ$1017),0)","v":0},{"$f":"IFERROR($E259*SUMIF('Daily Log'!#REF!,$B259,'Daily Log'!#REF!),0)","v":0},{"$f":"IFERROR($E259*SUMIF('Daily Log'!#REF!,$B259,'Daily Log'!#REF!),0)","v":0},{"$f":"IFERROR($E259*SUMIF('Daily Log'!#REF!,$B259,'Daily Log'!#REF!),0)","v":0},{"$f":"IFERROR($E259*SUMIF('Daily Log'!#REF!,$B259,'Daily Log'!#REF!),0)","v":0},{"$f":"IFERROR($E259*SUMIF('Daily Log'!#REF!,$B259,'Daily Log'!#REF!),0)","v":0},{"$f":"IFERROR($E259*SUMIF('Daily Log'!#REF!,$B259,'Daily Log'!#REF!),0)","v":0},{"$f":"IFERROR($E259*SUMIF('Daily Log'!#REF!,$B259,'Daily Log'!#REF!),0)","v":0},{"$f":"IFERROR($E259*SUMIF('Daily Log'!#REF!,$B259,'Daily Log'!#REF!),0)","v":0},{"$f":"IFERROR($E259*SUMIF('Daily Log'!#REF!,$B259,'Daily Log'!#REF!),0)","v":0},{"$f":"IFERROR($E259*SUMIF('Daily Log'!#REF!,$B259,'Daily Log'!#REF!),0)","v":0},{"$f":"IFERROR($E259*SUMIF('Daily Log'!#REF!,$B259,'Daily Log'!#REF!),0)","v":0},{"$f":"IFERROR($E259*SUMIF('Daily Log'!#REF!,$B259,'Daily Log'!#REF!),0)","v":0},{"$f":"IFERROR($E259*SUMIF('Daily Log'!#REF!,$B259,'Daily Log'!#REF!),0)","v":0},{"$f":"IFERROR($E259*SUMIF('Daily Log'!#REF!,$B259,'Daily Log'!#REF!),0)","v":0},{"$f":"IFERROR($E259*SUMIF('Daily Log'!#REF!,$B259,'Daily Log'!#REF!),0)","v":0},{"$f":"IFERROR($E259*SUMIF('Daily Log'!#REF!,$B259,'Daily Log'!#REF!),0)","v":0},{"$f":"IFERROR($E259*SUMIF('Daily Log'!#REF!,$B259,'Daily Log'!#REF!),0)","v":0},{"$f":"IFERROR($E259*SUMIF('Daily Log'!#REF!,$B259,'Daily Log'!#REF!),0)","v":0},{"$f":"IFERROR($E259*SUMIF('Daily Log'!#REF!,$B259,'Daily Log'!#REF!),0)","v":0}]
[null,"GE07 DUNHILL ICE",null,"CIGARETTE",1,4,{"$f":"IFERROR($E260*SUMIF('Daily Log'!$B$18:$B$1017,$B260,'Daily Log'!$C$18:$C$1017),0)","v":0},{"$f":"IFERROR($E260*SUMIF('Daily Log'!$E$18:$E$1017,$B260,'Daily Log'!$F$18:$F$1017),0)","v":0},{"$f":"IFERROR($E260*SUMIF('Daily Log'!$H$18:$H$1017,$B260,'Daily Log'!$I$18:$I$1017),0)","v":0},{"$f":"IFERROR($E260*SUMIF('Daily Log'!$K$18:$K$1017,$B260,'Daily Log'!$L$18:$L$1017),0)","v":0},{"$f":"IFERROR($E260*SUMIF('Daily Log'!$N$18:$N$1017,$B260,'Daily Log'!$O$18:$O$1017),0)","v":0},{"$f":"IFERROR($E260*SUMIF('Daily Log'!$Q$18:$Q$1017,$B260,'Daily Log'!$R$18:$R$1017),0)","v":0},{"$f":"IFERROR($E260*SUMIF('Daily Log'!$T$18:$T$1017,$B260,'Daily Log'!$U$18:$U$1017),0)","v":1},{"$f":"IFERROR($E260*SUMIF('Daily Log'!$W$18:$W$1017,$B260,'Daily Log'!$X$18:$X$1017),0)","v":0},{"$f":"IFERROR($E260*SUMIF('Daily Log'!$Z$18:$Z$1017,$B260,'Daily Log'!$AA$18:$AA$1017),0)","v":0},{"$f":"IFERROR($E260*SUMIF('Daily Log'!$AC$18:$AC$1017,$B260,'Daily Log'!$AD$18:$AD$1017),0)","v":2},{"$f":"IFERROR($E260*SUMIF('Daily Log'!$AF$18:$AF$1017,$B260,'Daily Log'!$AG$18:$AG$1017),0)","v":0},{"$f":"IFERROR($E260*SUMIF('Daily Log'!$AI$18:$AI$1017,$B260,'Daily Log'!$AJ$18:$AJ$1017),0)","v":1},{"$f":"IFERROR($E260*SUMIF('Daily Log'!#REF!,$B260,'Daily Log'!#REF!),0)","v":0},{"$f":"IFERROR($E260*SUMIF('Daily Log'!#REF!,$B260,'Daily Log'!#REF!),0)","v":0},{"$f":"IFERROR($E260*SUMIF('Daily Log'!#REF!,$B260,'Daily Log'!#REF!),0)","v":0},{"$f":"IFERROR($E260*SUMIF('Daily Log'!#REF!,$B260,'Daily Log'!#REF!),0)","v":0},{"$f":"IFERROR($E260*SUMIF('Daily Log'!#REF!,$B260,'Daily Log'!#REF!),0)","v":0},{"$f":"IFERROR($E260*SUMIF('Daily Log'!#REF!,$B260,'Daily Log'!#REF!),0)","v":0},{"$f":"IFERROR($E260*SUMIF('Daily Log'!#REF!,$B260,'Daily Log'!#REF!),0)","v":0},{"$f":"IFERROR($E260*SUMIF('Daily Log'!#REF!,$B260,'Daily Log'!#REF!),0)","v":0},{"$f":"IFERROR($E260*SUMIF('Daily Log'!#REF!,$B260,'Daily Log'!#REF!),0)","v":0},{"$f":"IFERROR($E260*SUMIF('Daily Log'!#REF!,$B260,'Daily Log'!#REF!),0)","v":0},{"$f":"IFERROR($E260*SUMIF('Daily Log'!#REF!,$B260,'Daily Log'!#REF!),0)","v":0},{"$f":"IFERROR($E260*SUMIF('Daily Log'!#REF!,$B260,'Daily Log'!#REF!),0)","v":0},{"$f":"IFERROR($E260*SUMIF('Daily Log'!#REF!,$B260,'Daily Log'!#REF!),0)","v":0},{"$f":"IFERROR($E260*SUMIF('Daily Log'!#REF!,$B260,'Daily Log'!#REF!),0)","v":0},{"$f":"IFERROR($E260*SUMIF('Daily Log'!#REF!,$B260,'Daily Log'!#REF!),0)","v":0},{"$f":"IFERROR($E260*SUMIF('Daily Log'!#REF!,$B260,'Daily Log'!#REF!),0)","v":0},{"$f":"IFERROR($E260*SUMIF('Daily Log'!#REF!,$B260,'Daily Log'!#REF!),0)","v":0},{"$f":"IFERROR($E260*SUMIF('Daily Log'!#REF!,$B260,'Daily Log'!#REF!),0)","v":0},{"$f":"IFERROR($E260*SUMIF('Daily Log'!#REF!,$B260,'Daily Log'!#REF!),0)","v":0}]
[null,"GF01 KENT ORIGINAL",null,"CIGARETTE",1,0,{"$f":"IFERROR($E261*SUMIF('Daily Log'!$B$18:$B$1017,$B261,'Daily Log'!$C$18:$C$1017),0)","v":0},{"$f":"IFERROR($E261*SUMIF('Daily Log'!$E$18:$E$1017,$B261,'Daily Log'!$F$18:$F$1017),0)","v":0},{"$f":"IFERROR($E261*SUMIF('Daily Log'!$H$18:$H$1017,$B261,'Daily Log'!$I$18:$I$1017),0)","v":0},{"$f":"IFERROR($E261*SUMIF('Daily Log'!$K$18:$K$1017,$B261,'Daily Log'!$L$18:$L$1017),0)","v":0},{"$f":"IFERROR($E261*SUMIF('Daily Log'!$N$18:$N$1017,$B261,'Daily Log'!$O$18:$O$1017),0)","v":0},{"$f":"IFERROR($E261*SUMIF('Daily Log'!$Q$18:$Q$1017,$B261,'Daily Log'!$R$18:$R$1017),0)","v":0},{"$f":"IFERROR($E261*SUMIF('Daily Log'!$T$18:$T$1017,$B261,'Daily Log'!$U$18:$U$1017),0)","v":0},{"$f":"IFERROR($E261*SUMIF('Daily Log'!$W$18:$W$1017,$B261,'Daily Log'!$X$18:$X$1017),0)","v":0},{"$f":"IFERROR($E261*SUMIF('Daily Log'!$Z$18:$Z$1017,$B261,'Daily Log'!$AA$18:$AA$1017),0)","v":0},{"$f":"IFERROR($E261*SUMIF('Daily Log'!$AC$18:$AC$1017,$B261,'Daily Log'!$AD$18:$AD$1017),0)","v":0},{"$f":"IFERROR($E261*SUMIF('Daily Log'!$AF$18:$AF$1017,$B261,'Daily Log'!$AG$18:$AG$1017),0)","v":0},{"$f":"IFERROR($E261*SUMIF('Daily Log'!$AI$18:$AI$1017,$B261,'Daily Log'!$AJ$18:$AJ$1017),0)","v":0},{"$f":"IFERROR($E261*SUMIF('Daily Log'!#REF!,$B261,'Daily Log'!#REF!),0)","v":0},{"$f":"IFERROR($E261*SUMIF('Daily Log'!#REF!,$B261,'Daily Log'!#REF!),0)","v":0},{"$f":"IFERROR($E261*SUMIF('Daily Log'!#REF!,$B261,'Daily Log'!#REF!),0)","v":0},{"$f":"IFERROR($E261*SUMIF('Daily Log'!#REF!,$B261,'Daily Log'!#REF!),0)","v":0},{"$f":"IFERROR($E261*SUMIF('Daily Log'!#REF!,$B261,'Daily Log'!#REF!),0)","v":0},{"$f":"IFERROR($E261*SUMIF('Daily Log'!#REF!,$B261,'Daily Log'!#REF!),0)","v":0},{"$f":"IFERROR($E261*SUMIF('Daily Log'!#REF!,$B261,'Daily Log'!#REF!),0)","v":0},{"$f":"IFERROR($E261*SUMIF('Daily Log'!#REF!,$B261,'Daily Log'!#REF!),0)","v":0},{"$f":"IFERROR($E261*SUMIF('Daily Log'!#REF!,$B261,'Daily Log'!#REF!),0)","v":0},{"$f":"IFERROR($E261*SUMIF('Daily Log'!#REF!,$B261,'Daily Log'!#REF!),0)","v":0},{"$f":"IFERROR($E261*SUMIF('Daily Log'!#REF!,$B261,'Daily Log'!#REF!),0)","v":0},{"$f":"IFERROR($E261*SUMIF('Daily Log'!#REF!,$B261,'Daily Log'!#REF!),0)","v":0},{"$f":"IFERROR($E261*SUMIF('Daily Log'!#REF!,$B261,'Daily Log'!#REF!),0)","v":0},{"$f":"IFERROR($E261*SUMIF('Daily Log'!#REF!,$B261,'Daily Log'!#REF!),0)","v":0},{"$f":"IFERROR($E261*SUMIF('Daily Log'!#REF!,$B261,'Daily Log'!#REF!),0)","v":0},{"$f":"IFERROR($E261*SUMIF('Daily Log'!#REF!,$B261,'Daily Log'!#REF!),0)","v":0},{"$f":"IFERROR($E261*SUMIF('Daily Log'!#REF!,$B261,'Daily Log'!#REF!),0)","v":0},{"$f":"IFERROR($E261*SUMIF('Daily Log'!#REF!,$B261,'Daily Log'!#REF!),0)","v":0},{"$f":"IFERROR($E261*SUMIF('Daily Log'!#REF!,$B261,'Daily Log'!#REF!),0)","v":0}]
[null,"GF02 KENT FUTURA",null,"CIGARETTE",1,0,{"$f":"IFERROR($E262*SUMIF('Daily Log'!$B$18:$B$1017,$B262,'Daily Log'!$C$18:$C$1017),0)","v":0},{"$f":"IFERROR($E262*SUMIF('Daily Log'!$E$18:$E$1017,$B262,'Daily Log'!$F$18:$F$1017),0)","v":0},{"$f":"IFERROR($E262*SUMIF('Daily Log'!$H$18:$H$1017,$B262,'Daily Log'!$I$18:$I$1017),0)","v":0},{"$f":"IFERROR($E262*SUMIF('Daily Log'!$K$18:$K$1017,$B262,'Daily Log'!$L$18:$L$1017),0)","v":0},{"$f":"IFERROR($E262*SUMIF('Daily Log'!$N$18:$N$1017,$B262,'Daily Log'!$O$18:$O$1017),0)","v":0},{"$f":"IFERROR($E262*SUMIF('Daily Log'!$Q$18:$Q$1017,$B262,'Daily Log'!$R$18:$R$1017),0)","v":0},{"$f":"IFERROR($E262*SUMIF('Daily Log'!$T$18:$T$1017,$B262,'Daily Log'!$U$18:$U$1017),0)","v":0},{"$f":"IFERROR($E262*SUMIF('Daily Log'!$W$18:$W$1017,$B262,'Daily Log'!$X$18:$X$1017),0)","v":0},{"$f":"IFERROR($E262*SUMIF('Daily Log'!$Z$18:$Z$1017,$B262,'Daily Log'!$AA$18:$AA$1017),0)","v":0},{"$f":"IFERROR($E262*SUMIF('Daily Log'!$AC$18:$AC$1017,$B262,'Daily Log'!$AD$18:$AD$1017),0)","v":0},{"$f":"IFERROR($E262*SUMIF('Daily Log'!$AF$18:$AF$1017,$B262,'Daily Log'!$AG$18:$AG$1017),0)","v":0},{"$f":"IFERROR($E262*SUMIF('Daily Log'!$AI$18:$AI$1017,$B262,'Daily Log'!$AJ$18:$AJ$1017),0)","v":0},{"$f":"IFERROR($E262*SUMIF('Daily Log'!#REF!,$B262,'Daily Log'!#REF!),0)","v":0},{"$f":"IFERROR($E262*SUMIF('Daily Log'!#REF!,$B262,'Daily Log'!#REF!),0)","v":0},{"$f":"IFERROR($E262*SUMIF('Daily Log'!#REF!,$B262,'Daily Log'!#REF!),0)","v":0},{"$f":"IFERROR($E262*SUMIF('Daily Log'!#REF!,$B262,'Daily Log'!#REF!),0)","v":0},{"$f":"IFERROR($E262*SUMIF('Daily Log'!#REF!,$B262,'Daily Log'!#REF!),0)","v":0},{"$f":"IFERROR($E262*SUMIF('Daily Log'!#REF!,$B262,'Daily Log'!#REF!),0)","v":0},{"$f":"IFERROR($E262*SUMIF('Daily Log'!#REF!,$B262,'Daily Log'!#REF!),0)","v":0},{"$f":"IFERROR($E262*SUMIF('Daily Log'!#REF!,$B262,'Daily Log'!#REF!),0)","v":0},{"$f":"IFERROR($E262*SUMIF('Daily Log'!#REF!,$B262,'Daily Log'!#REF!),0)","v":0},{"$f":"IFERROR($E262*SUMIF('Daily Log'!#REF!,$B262,'Daily Log'!#REF!),0)","v":0},{"$f":"IFERROR($E262*SUMIF('Daily Log'!#REF!,$B262,'Daily Log'!#REF!),0)","v":0},{"$f":"IFERROR($E262*SUMIF('Daily Log'!#REF!,$B262,'Daily Log'!#REF!),0)","v":0},{"$f":"IFERROR($E262*SUMIF('Daily Log'!#REF!,$B262,'Daily Log'!#REF!),0)","v":0},{"$f":"IFERROR($E262*SUMIF('Daily Log'!#REF!,$B262,'Daily Log'!#REF!),0)","v":0},{"$f":"IFERROR($E262*SUMIF('Daily Log'!#REF!,$B262,'Daily Log'!#REF!),0)","v":0},{"$f":"IFERROR($E262*SUMIF('Daily Log'!#REF!,$B262,'Daily Log'!#REF!),0)","v":0},{"$f":"IFERROR($E262*SUMIF('Daily Log'!#REF!,$B262,'Daily Log'!#REF!),0)","v":0},{"$f":"IFERROR($E262*SUMIF('Daily Log'!#REF!,$B262,'Daily Log'!#REF!),0)","v":0},{"$f":"IFERROR($E262*SUMIF('Daily Log'!#REF!,$B262,'Daily Log'!#REF!),0)","v":0}]
[null,"GF03 KENT MINTEK",null,"CIGARETTE",1,0,{"$f":"IFERROR($E263*SUMIF('Daily Log'!$B$18:$B$1017,$B263,'Daily Log'!$C$18:$C$1017),0)","v":0},{"$f":"IFERROR($E263*SUMIF('Daily Log'!$E$18:$E$1017,$B263,'Daily Log'!$F$18:$F$1017),0)","v":0},{"$f":"IFERROR($E263*SUMIF('Daily Log'!$H$18:$H$1017,$B263,'Daily Log'!$I$18:$I$1017),0)","v":0},{"$f":"IFERROR($E263*SUMIF('Daily Log'!$K$18:$K$1017,$B263,'Daily Log'!$L$18:$L$1017),0)","v":0},{"$f":"IFERROR($E263*SUMIF('Daily Log'!$N$18:$N$1017,$B263,'Daily Log'!$O$18:$O$1017),0)","v":0},{"$f":"IFERROR($E263*SUMIF('Daily Log'!$Q$18:$Q$1017,$B263,'Daily Log'!$R$18:$R$1017),0)","v":0},{"$f":"IFERROR($E263*SUMIF('Daily Log'!$T$18:$T$1017,$B263,'Daily Log'!$U$18:$U$1017),0)","v":0},{"$f":"IFERROR($E263*SUMIF('Daily Log'!$W$18:$W$1017,$B263,'Daily Log'!$X$18:$X$1017),0)","v":0},{"$f":"IFERROR($E263*SUMIF('Daily Log'!$Z$18:$Z$1017,$B263,'Daily Log'!$AA$18:$AA$1017),0)","v":0},{"$f":"IFERROR($E263*SUMIF('Daily Log'!$AC$18:$AC$1017,$B263,'Daily Log'!$AD$18:$AD$1017),0)","v":0},{"$f":"IFERROR($E263*SUMIF('Daily Log'!$AF$18:$AF$1017,$B263,'Daily Log'!$AG$18:$AG$1017),0)","v":0},{"$f":"IFERROR($E263*SUMIF('Daily Log'!$AI$18:$AI$1017,$B263,'Daily Log'!$AJ$18:$AJ$1017),0)","v":0},{"$f":"IFERROR($E263*SUMIF('Daily Log'!#REF!,$B263,'Daily Log'!#REF!),0)","v":0},{"$f":"IFERROR($E263*SUMIF('Daily Log'!#REF!,$B263,'Daily Log'!#REF!),0)","v":0},{"$f":"IFERROR($E263*SUMIF('Daily Log'!#REF!,$B263,'Daily Log'!#REF!),0)","v":0},{"$f":"IFERROR($E263*SUMIF('Daily Log'!#REF!,$B263,'Daily Log'!#REF!),0)","v":0},{"$f":"IFERROR($E263*SUMIF('Daily Log'!#REF!,$B263,'Daily Log'!#REF!),0)","v":0},{"$f":"IFERROR($E263*SUMIF('Daily Log'!#REF!,$B263,'Daily Log'!#REF!),0)","v":0},{"$f":"IFERROR($E263*SUMIF('Daily Log'!#REF!,$B263,'Daily Log'!#REF!),0)","v":0},{"$f":"IFERROR($E263*SUMIF('Daily Log'!#REF!,$B263,'Daily Log'!#REF!),0)","v":0},{"$f":"IFERROR($E263*SUMIF('Daily Log'!#REF!,$B263,'Daily Log'!#REF!),0)","v":0},{"$f":"IFERROR($E263*SUMIF('Daily Log'!#REF!,$B263,'Daily Log'!#REF!),0)","v":0},{"$f":"IFERROR($E263*SUMIF('Daily Log'!#REF!,$B263,'Daily Log'!#REF!),0)","v":0},{"$f":"IFERROR($E263*SUMIF('Daily Log'!#REF!,$B263,'Daily Log'!#REF!),0)","v":0},{"$f":"IFERROR($E263*SUMIF('Daily Log'!#REF!,$B263,'Daily Log'!#REF!),0)","v":0},{"$f":"IFERROR($E263*SUMIF('Daily Log'!#REF!,$B263,'Daily Log'!#REF!),0)","v":0},{"$f":"IFERROR($E263*SUMIF('Daily Log'!#REF!,$B263,'Daily Log'!#REF!),0)","v":0},{"$f":"IFERROR($E263*SUMIF('Daily Log'!#REF!,$B263,'Daily Log'!#REF!),0)","v":0},{"$f":"IFERROR($E263*SUMIF('Daily Log'!#REF!,$B263,'Daily Log'!#REF!),0)","v":0},{"$f":"IFERROR($E263*SUMIF('Daily Log'!#REF!,$B263,'Daily Log'!#REF!),0)","v":0},{"$f":"IFERROR($E263*SUMIF('Daily Log'!#REF!,$B263,'Daily Log'!#REF!),0)","v":0}]
[null,"GF04 KENT NEO",null,"CIGARETTE",1,0,{"$f":"IFERROR($E264*SUMIF('Daily Log'!$B$18:$B$1017,$B264,'Daily Log'!$C$18:$C$1017),0)","v":0},{"$f":"IFERROR($E264*SUMIF('Daily Log'!$E$18:$E$1017,$B264,'Daily Log'!$F$18:$F$1017),0)","v":0},{"$f":"IFERROR($E264*SUMIF('Daily Log'!$H$18:$H$1017,$B264,'Daily Log'!$I$18:$I$1017),0)","v":0},{"$f":"IFERROR($E264*SUMIF('Daily Log'!$K$18:$K$1017,$B264,'Daily Log'!$L$18:$L$1017),0)","v":0},{"$f":"IFERROR($E264*SUMIF('Daily Log'!$N$18:$N$1017,$B264,'Daily Log'!$O$18:$O$1017),0)","v":0},{"$f":"IFERROR($E264*SUMIF('Daily Log'!$Q$18:$Q$1017,$B264,'Daily Log'!$R$18:$R$1017),0)","v":0},{"$f":"IFERROR($E264*SUMIF('Daily Log'!$T$18:$T$1017,$B264,'Daily Log'!$U$18:$U$1017),0)","v":0},{"$f":"IFERROR($E264*SUMIF('Daily Log'!$W$18:$W$1017,$B264,'Daily Log'!$X$18:$X$1017),0)","v":0},{"$f":"IFERROR($E264*SUMIF('Daily Log'!$Z$18:$Z$1017,$B264,'Daily Log'!$AA$18:$AA$1017),0)","v":0},{"$f":"IFERROR($E264*SUMIF('Daily Log'!$AC$18:$AC$1017,$B264,'Daily Log'!$AD$18:$AD$1017),0)","v":0},{"$f":"IFERROR($E264*SUMIF('Daily Log'!$AF$18:$AF$1017,$B264,'Daily Log'!$AG$18:$AG$1017),0)","v":0},{"$f":"IFERROR($E264*SUMIF('Daily Log'!$AI$18:$AI$1017,$B264,'Daily Log'!$AJ$18:$AJ$1017),0)","v":0},{"$f":"IFERROR($E264*SUMIF('Daily Log'!#REF!,$B264,'Daily Log'!#REF!),0)","v":0},{"$f":"IFERROR($E264*SUMIF('Daily Log'!#REF!,$B264,'Daily Log'!#REF!),0)","v":0},{"$f":"IFERROR($E264*SUMIF('Daily Log'!#REF!,$B264,'Daily Log'!#REF!),0)","v":0},{"$f":"IFERROR($E264*SUMIF('Daily Log'!#REF!,$B264,'Daily Log'!#REF!),0)","v":0},{"$f":"IFERROR($E264*SUMIF('Daily Log'!#REF!,$B264,'Daily Log'!#REF!),0)","v":0},{"$f":"IFERROR($E264*SUMIF('Daily Log'!#REF!,$B264,'Daily Log'!#REF!),0)","v":0},{"$f":"IFERROR($E264*SUMIF('Daily Log'!#REF!,$B264,'Daily Log'!#REF!),0)","v":0},{"$f":"IFERROR($E264*SUMIF('Daily Log'!#REF!,$B264,'Daily Log'!#REF!),0)","v":0},{"$f":"IFERROR($E264*SUMIF('Daily Log'!#REF!,$B264,'Daily Log'!#REF!),0)","v":0},{"$f":"IFERROR($E264*SUMIF('Daily Log'!#REF!,$B264,'Daily Log'!#REF!),0)","v":0},{"$f":"IFERROR($E264*SUMIF('Daily Log'!#REF!,$B264,'Daily Log'!#REF!),0)","v":0},{"$f":"IFERROR($E264*SUMIF('Daily Log'!#REF!,$B264,'Daily Log'!#REF!),0)","v":0},{"$f":"IFERROR($E264*SUMIF('Daily Log'!#REF!,$B264,'Daily Log'!#REF!),0)","v":0},{"$f":"IFERROR($E264*SUMIF('Daily Log'!#REF!,$B264,'Daily Log'!#REF!),0)","v":0},{"$f":"IFERROR($E264*SUMIF('Daily Log'!#REF!,$B264,'Daily Log'!#REF!),0)","v":0},{"$f":"IFERROR($E264*SUMIF('Daily Log'!#REF!,$B264,'Daily Log'!#REF!),0)","v":0},{"$f":"IFERROR($E264*SUMIF('Daily Log'!#REF!,$B264,'Daily Log'!#REF!),0)","v":0},{"$f":"IFERROR($E264*SUMIF('Daily Log'!#REF!,$B264,'Daily Log'!#REF!),0)","v":0},{"$f":"IFERROR($E264*SUMIF('Daily Log'!#REF!,$B264,'Daily Log'!#REF!),0)","v":0}]
[null,"ZAB01 1201:SFD STICK",null,"COMBO-SNAKCS",1,3,{"$f":"IFERROR($E265*SUMIF('Daily Log'!$B$18:$B$1017,$B265,'Daily Log'!$C$18:$C$1017),0)","v":0},{"$f":"IFERROR($E265*SUMIF('Daily Log'!$E$18:$E$1017,$B265,'Daily Log'!$F$18:$F$1017),0)","v":0},{"$f":"IFERROR($E265*SUMIF('Daily Log'!$H$18:$H$1017,$B265,'Daily Log'!$I$18:$I$1017),0)","v":0},{"$f":"IFERROR($E265*SUMIF('Daily Log'!$K$18:$K$1017,$B265,'Daily Log'!$L$18:$L$1017),0)","v":0},{"$f":"IFERROR($E265*SUMIF('Daily Log'!$N$18:$N$1017,$B265,'Daily Log'!$O$18:$O$1017),0)","v":0},{"$f":"IFERROR($E265*SUMIF('Daily Log'!$Q$18:$Q$1017,$B265,'Daily Log'!$R$18:$R$1017),0)","v":1},{"$f":"IFERROR($E265*SUMIF('Daily Log'!$T$18:$T$1017,$B265,'Daily Log'!$U$18:$U$1017),0)","v":0},{"$f":"IFERROR($E265*SUMIF('Daily Log'!$W$18:$W$1017,$B265,'Daily Log'!$X$18:$X$1017),0)","v":0},{"$f":"IFERROR($E265*SUMIF('Daily Log'!$Z$18:$Z$1017,$B265,'Daily Log'!$AA$18:$AA$1017),0)","v":0},{"$f":"IFERROR($E265*SUMIF('Daily Log'!$AC$18:$AC$1017,$B265,'Daily Log'!$AD$18:$AD$1017),0)","v":0},{"$f":"IFERROR($E265*SUMIF('Daily Log'!$AF$18:$AF$1017,$B265,'Daily Log'!$AG$18:$AG$1017),0)","v":0},{"$f":"IFERROR($E265*SUMIF('Daily Log'!$AI$18:$AI$1017,$B265,'Daily Log'!$AJ$18:$AJ$1017),0)","v":2},{"$f":"IFERROR($E265*SUMIF('Daily Log'!#REF!,$B265,'Daily Log'!#REF!),0)","v":0},{"$f":"IFERROR($E265*SUMIF('Daily Log'!#REF!,$B265,'Daily Log'!#REF!),0)","v":0},{"$f":"IFERROR($E265*SUMIF('Daily Log'!#REF!,$B265,'Daily Log'!#REF!),0)","v":0},{"$f":"IFERROR($E265*SUMIF('Daily Log'!#REF!,$B265,'Daily Log'!#REF!),0)","v":0},{"$f":"IFERROR($E265*SUMIF('Daily Log'!#REF!,$B265,'Daily Log'!#REF!),0)","v":0},{"$f":"IFERROR($E265*SUMIF('Daily Log'!#REF!,$B265,'Daily Log'!#REF!),0)","v":0},{"$f":"IFERROR($E265*SUMIF('Daily Log'!#REF!,$B265,'Daily Log'!#REF!),0)","v":0},{"$f":"IFERROR($E265*SUMIF('Daily Log'!#REF!,$B265,'Daily Log'!#REF!),0)","v":0},{"$f":"IFERROR($E265*SUMIF('Daily Log'!#REF!,$B265,'Daily Log'!#REF!),0)","v":0},{"$f":"IFERROR($E265*SUMIF('Daily Log'!#REF!,$B265,'Daily Log'!#REF!),0)","v":0},{"$f":"IFERROR($E265*SUMIF('Daily Log'!#REF!,$B265,'Daily Log'!#REF!),0)","v":0},{"$f":"IFERROR($E265*SUMIF('Daily Log'!#REF!,$B265,'Daily Log'!#REF!),0)","v":0},{"$f":"IFERROR($E265*SUMIF('Daily Log'!#REF!,$B265,'Daily Log'!#REF!),0)","v":0},{"$f":"IFERROR($E265*SUMIF('Daily Log'!#REF!,$B265,'Daily Log'!#REF!),0)","v":0},{"$f":"IFERROR($E265*SUMIF('Daily Log'!#REF!,$B265,'Daily Log'!#REF!),0)","v":0},{"$f":"IFERROR($E265*SUMIF('Daily Log'!#REF!,$B265,'Daily Log'!#REF!),0)","v":0},{"$f":"IFERROR($E265*SUMIF('Daily Log'!#REF!,$B265,'Daily Log'!#REF!),0)","v":0},{"$f":"IFERROR($E265*SUMIF('Daily Log'!#REF!,$B265,'Daily Log'!#REF!),0)","v":0},{"$f":"IFERROR($E265*SUMIF('Daily Log'!#REF!,$B265,'Daily Log'!#REF!),0)","v":0}]
[null,"ZAB02 1202:FRIES",null,"COMBO-SNAKCS",1,28,{"$f":"IFERROR($E266*SUMIF('Daily Log'!$B$18:$B$1017,$B266,'Daily Log'!$C$18:$C$1017),0)","v":0},{"$f":"IFERROR($E266*SUMIF('Daily Log'!$E$18:$E$1017,$B266,'Daily Log'!$F$18:$F$1017),0)","v":0},{"$f":"IFERROR($E266*SUMIF('Daily Log'!$H$18:$H$1017,$B266,'Daily Log'!$I$18:$I$1017),0)","v":0},{"$f":"IFERROR($E266*SUMIF('Daily Log'!$K$18:$K$1017,$B266,'Daily Log'!$L$18:$L$1017),0)","v":0},{"$f":"IFERROR($E266*SUMIF('Daily Log'!$N$18:$N$1017,$B266,'Daily Log'!$O$18:$O$1017),0)","v":0},{"$f":"IFERROR($E266*SUMIF('Daily Log'!$Q$18:$Q$1017,$B266,'Daily Log'!$R$18:$R$1017),0)","v":0},{"$f":"IFERROR($E266*SUMIF('Daily Log'!$T$18:$T$1017,$B266,'Daily Log'!$U$18:$U$1017),0)","v":2},{"$f":"IFERROR($E266*SUMIF('Daily Log'!$W$18:$W$1017,$B266,'Daily Log'!$X$18:$X$1017),0)","v":2},{"$f":"IFERROR($E266*SUMIF('Daily Log'!$Z$18:$Z$1017,$B266,'Daily Log'!$AA$18:$AA$1017),0)","v":3},{"$f":"IFERROR($E266*SUMIF('Daily Log'!$AC$18:$AC$1017,$B266,'Daily Log'!$AD$18:$AD$1017),0)","v":5},{"$f":"IFERROR($E266*SUMIF('Daily Log'!$AF$18:$AF$1017,$B266,'Daily Log'!$AG$18:$AG$1017),0)","v":11},{"$f":"IFERROR($E266*SUMIF('Daily Log'!$AI$18:$AI$1017,$B266,'Daily Log'!$AJ$18:$AJ$1017),0)","v":5},{"$f":"IFERROR($E266*SUMIF('Daily Log'!#REF!,$B266,'Daily Log'!#REF!),0)","v":0},{"$f":"IFERROR($E266*SUMIF('Daily Log'!#REF!,$B266,'Daily Log'!#REF!),0)","v":0},{"$f":"IFERROR($E266*SUMIF('Daily Log'!#REF!,$B266,'Daily Log'!#REF!),0)","v":0},{"$f":"IFERROR($E266*SUMIF('Daily Log'!#REF!,$B266,'Daily Log'!#REF!),0)","v":0},{"$f":"IFERROR($E266*SUMIF('Daily Log'!#REF!,$B266,'Daily Log'!#REF!),0)","v":0},{"$f":"IFERROR($E266*SUMIF('Daily Log'!#REF!,$B266,'Daily Log'!#REF!),0)","v":0},{"$f":"IFERROR($E266*SUMIF('Daily Log'!#REF!,$B266,'Daily Log'!#REF!),0)","v":0},{"$f":"IFERROR($E266*SUMIF('Daily Log'!#REF!,$B266,'Daily Log'!#REF!),0)","v":0},{"$f":"IFERROR($E266*SUMIF('Daily Log'!#REF!,$B266,'Daily Log'!#REF!),0)","v":0},{"$f":"IFERROR($E266*SUMIF('Daily Log'!#REF!,$B266,'Daily Log'!#REF!),0)","v":0},{"$f":"IFERROR($E266*SUMIF('Daily Log'!#REF!,$B266,'Daily Log'!#REF!),0)","v":0},{"$f":"IFERROR($E266*SUMIF('Daily Log'!#REF!,$B266,'Daily Log'!#REF!),0)","v":0},{"$f":"IFERROR($E266*SUMIF('Daily Log'!#REF!,$B266,'Daily Log'!#REF!),0)","v":0},{"$f":"IFERROR($E266*SUMIF('Daily Log'!#REF!,$B266,'Daily Log'!#REF!),0)","v":0},{"$f":"IFERROR($E266*SUMIF('Daily Log'!#REF!,$B266,'Daily Log'!#REF!),0)","v":0},{"$f":"IFERROR($E266*SUMIF('Daily Log'!#REF!,$B266,'Daily Log'!#REF!),0)","v":0},{"$f":"IFERROR($E266*SUMIF('Daily Log'!#REF!,$B266,'Daily Log'!#REF!),0)","v":0},{"$f":"IFERROR($E266*SUMIF('Daily Log'!#REF!,$B266,'Daily Log'!#REF!),0)","v":0},{"$f":"IFERROR($E266*SUMIF('Daily Log'!#REF!,$B266,'Daily Log'!#REF!),0)","v":0}]
[null,"ZAB03 1203:GOLD MROOM",null,"COMBO-SNAKCS",1,9,{"$f":"IFERROR($E267*SUMIF('Daily Log'!$B$18:$B$1017,$B267,'Daily Log'!$C$18:$C$1017),0)","v":0},{"$f":"IFERROR($E267*SUMIF('Daily Log'!$E$18:$E$1017,$B267,'Daily Log'!$F$18:$F$1017),0)","v":0},{"$f":"IFERROR($E267*SUMIF('Daily Log'!$H$18:$H$1017,$B267,'Daily Log'!$I$18:$I$1017),0)","v":0},{"$f":"IFERROR($E267*SUMIF('Daily Log'!$K$18:$K$1017,$B267,'Daily Log'!$L$18:$L$1017),0)","v":0},{"$f":"IFERROR($E267*SUMIF('Daily Log'!$N$18:$N$1017,$B267,'Daily Log'!$O$18:$O$1017),0)","v":0},{"$f":"IFERROR($E267*SUMIF('Daily Log'!$Q$18:$Q$1017,$B267,'Daily Log'!$R$18:$R$1017),0)","v":0},{"$f":"IFERROR($E267*SUMIF('Daily Log'!$T$18:$T$1017,$B267,'Daily Log'!$U$18:$U$1017),0)","v":0},{"$f":"IFERROR($E267*SUMIF('Daily Log'!$W$18:$W$1017,$B267,'Daily Log'!$X$18:$X$1017),0)","v":1},{"$f":"IFERROR($E267*SUMIF('Daily Log'!$Z$18:$Z$1017,$B267,'Daily Log'!$AA$18:$AA$1017),0)","v":2},{"$f":"IFERROR($E267*SUMIF('Daily Log'!$AC$18:$AC$1017,$B267,'Daily Log'!$AD$18:$AD$1017),0)","v":3},{"$f":"IFERROR($E267*SUMIF('Daily Log'!$AF$18:$AF$1017,$B267,'Daily Log'!$AG$18:$AG$1017),0)","v":3},{"$f":"IFERROR($E267*SUMIF('Daily Log'!$AI$18:$AI$1017,$B267,'Daily Log'!$AJ$18:$AJ$1017),0)","v":0},{"$f":"IFERROR($E267*SUMIF('Daily Log'!#REF!,$B267,'Daily Log'!#REF!),0)","v":0},{"$f":"IFERROR($E267*SUMIF('Daily Log'!#REF!,$B267,'Daily Log'!#REF!),0)","v":0},{"$f":"IFERROR($E267*SUMIF('Daily Log'!#REF!,$B267,'Daily Log'!#REF!),0)","v":0},{"$f":"IFERROR($E267*SUMIF('Daily Log'!#REF!,$B267,'Daily Log'!#REF!),0)","v":0},{"$f":"IFERROR($E267*SUMIF('Daily Log'!#REF!,$B267,'Daily Log'!#REF!),0)","v":0},{"$f":"IFERROR($E267*SUMIF('Daily Log'!#REF!,$B267,'Daily Log'!#REF!),0)","v":0},{"$f":"IFERROR($E267*SUMIF('Daily Log'!#REF!,$B267,'Daily Log'!#REF!),0)","v":0},{"$f":"IFERROR($E267*SUMIF('Daily Log'!#REF!,$B267,'Daily Log'!#REF!),0)","v":0},{"$f":"IFERROR($E267*SUMIF('Daily Log'!#REF!,$B267,'Daily Log'!#REF!),0)","v":0},{"$f":"IFERROR($E267*SUMIF('Daily Log'!#REF!,$B267,'Daily Log'!#REF!),0)","v":0},{"$f":"IFERROR($E267*SUMIF('Daily Log'!#REF!,$B267,'Daily Log'!#REF!),0)","v":0},{"$f":"IFERROR($E267*SUMIF('Daily Log'!#REF!,$B267,'Daily Log'!#REF!),0)","v":0},{"$f":"IFERROR($E267*SUMIF('Daily Log'!#REF!,$B267,'Daily Log'!#REF!),0)","v":0},{"$f":"IFERROR($E267*SUMIF('Daily Log'!#REF!,$B267,'Daily Log'!#REF!),0)","v":0},{"$f":"IFERROR($E267*SUMIF('Daily Log'!#REF!,$B267,'Daily Log'!#REF!),0)","v":0},{"$f":"IFERROR($E267*SUMIF('Daily Log'!#REF!,$B267,'Daily Log'!#REF!),0)","v":0},{"$f":"IFERROR($E267*SUMIF('Daily Log'!#REF!,$B267,'Daily Log'!#REF!),0)","v":0},{"$f":"IFERROR($E267*SUMIF('Daily Log'!#REF!,$B267,'Daily Log'!#REF!),0)","v":0},{"$f":"IFERROR($E267*SUMIF('Daily Log'!#REF!,$B267,'Daily Log'!#REF!),0)","v":0}]
[null,"ZAB04 1204:F.BALL",null,"COMBO-SNAKCS",1,3,{"$f":"IFERROR($E268*SUMIF('Daily Log'!$B$18:$B$1017,$B268,'Daily Log'!$C$18:$C$1017),0)","v":0},{"$f":"IFERROR($E268*SUMIF('Daily Log'!$E$18:$E$1017,$B268,'Daily Log'!$F$18:$F$1017),0)","v":0},{"$f":"IFERROR($E268*SUMIF('Daily Log'!$H$18:$H$1017,$B268,'Daily Log'!$I$18:$I$1017),0)","v":0},{"$f":"IFERROR($E268*SUMIF('Daily Log'!$K$18:$K$1017,$B268,'Daily Log'!$L$18:$L$1017),0)","v":0},{"$f":"IFERROR($E268*SUMIF('Daily Log'!$N$18:$N$1017,$B268,'Daily Log'!$O$18:$O$1017),0)","v":0},{"$f":"IFERROR($E268*SUMIF('Daily Log'!$Q$18:$Q$1017,$B268,'Daily Log'!$R$18:$R$1017),0)","v":0},{"$f":"IFERROR($E268*SUMIF('Daily Log'!$T$18:$T$1017,$B268,'Daily Log'!$U$18:$U$1017),0)","v":0},{"$f":"IFERROR($E268*SUMIF('Daily Log'!$W$18:$W$1017,$B268,'Daily Log'!$X$18:$X$1017),0)","v":1},{"$f":"IFERROR($E268*SUMIF('Daily Log'!$Z$18:$Z$1017,$B268,'Daily Log'!$AA$18:$AA$1017),0)","v":1},{"$f":"IFERROR($E268*SUMIF('Daily Log'!$AC$18:$AC$1017,$B268,'Daily Log'!$AD$18:$AD$1017),0)","v":0},{"$f":"IFERROR($E268*SUMIF('Daily Log'!$AF$18:$AF$1017,$B268,'Daily Log'!$AG$18:$AG$1017),0)","v":1},{"$f":"IFERROR($E268*SUMIF('Daily Log'!$AI$18:$AI$1017,$B268,'Daily Log'!$AJ$18:$AJ$1017),0)","v":0},{"$f":"IFERROR($E268*SUMIF('Daily Log'!#REF!,$B268,'Daily Log'!#REF!),0)","v":0},{"$f":"IFERROR($E268*SUMIF('Daily Log'!#REF!,$B268,'Daily Log'!#REF!),0)","v":0},{"$f":"IFERROR($E268*SUMIF('Daily Log'!#REF!,$B268,'Daily Log'!#REF!),0)","v":0},{"$f":"IFERROR($E268*SUMIF('Daily Log'!#REF!,$B268,'Daily Log'!#REF!),0)","v":0},{"$f":"IFERROR($E268*SUMIF('Daily Log'!#REF!,$B268,'Daily Log'!#REF!),0)","v":0},{"$f":"IFERROR($E268*SUMIF('Daily Log'!#REF!,$B268,'Daily Log'!#REF!),0)","v":0},{"$f":"IFERROR($E268*SUMIF('Daily Log'!#REF!,$B268,'Daily Log'!#REF!),0)","v":0},{"$f":"IFERROR($E268*SUMIF('Daily Log'!#REF!,$B268,'Daily Log'!#REF!),0)","v":0},{"$f":"IFERROR($E268*SUMIF('Daily Log'!#REF!,$B268,'Daily Log'!#REF!),0)","v":0},{"$f":"IFERROR($E268*SUMIF('Daily Log'!#REF!,$B268,'Daily Log'!#REF!),0)","v":0},{"$f":"IFERROR($E268*SUMIF('Daily Log'!#REF!,$B268,'Daily Log'!#REF!),0)","v":0},{"$f":"IFERROR($E268*SUMIF('Daily Log'!#REF!,$B268,'Daily Log'!#REF!),0)","v":0},{"$f":"IFERROR($E268*SUMIF('Daily Log'!#REF!,$B268,'Daily Log'!#REF!),0)","v":0},{"$f":"IFERROR($E268*SUMIF('Daily Log'!#REF!,$B268,'Daily Log'!#REF!),0)","v":0},{"$f":"IFERROR($E268*SUMIF('Daily Log'!#REF!,$B268,'Daily Log'!#REF!),0)","v":0},{"$f":"IFERROR($E268*SUMIF('Daily Log'!#REF!,$B268,'Daily Log'!#REF!),0)","v":0},{"$f":"IFERROR($E268*SUMIF('Daily Log'!#REF!,$B268,'Daily Log'!#REF!),0)","v":0},{"$f":"IFERROR($E268*SUMIF('Daily Log'!#REF!,$B268,'Daily Log'!#REF!),0)","v":0},{"$f":"IFERROR($E268*SUMIF('Daily Log'!#REF!,$B268,'Daily Log'!#REF!),0)","v":0}]
[null,"ZAB06 1206:SPRING RL",null,"COMBO-SNAKCS",1,12,{"$f":"IFERROR($E269*SUMIF('Daily Log'!$B$18:$B$1017,$B269,'Daily Log'!$C$18:$C$1017),0)","v":0},{"$f":"IFERROR($E269*SUMIF('Daily Log'!$E$18:$E$1017,$B269,'Daily Log'!$F$18:$F$1017),0)","v":0},{"$f":"IFERROR($E269*SUMIF('Daily Log'!$H$18:$H$1017,$B269,'Daily Log'!$I$18:$I$1017),0)","v":0},{"$f":"IFERROR($E269*SUMIF('Daily Log'!$K$18:$K$1017,$B269,'Daily Log'!$L$18:$L$1017),0)","v":0},{"$f":"IFERROR($E269*SUMIF('Daily Log'!$N$18:$N$1017,$B269,'Daily Log'!$O$18:$O$1017),0)","v":0},{"$f":"IFERROR($E269*SUMIF('Daily Log'!$Q$18:$Q$1017,$B269,'Daily Log'!$R$18:$R$1017),0)","v":1},{"$f":"IFERROR($E269*SUMIF('Daily Log'!$T$18:$T$1017,$B269,'Daily Log'!$U$18:$U$1017),0)","v":2},{"$f":"IFERROR($E269*SUMIF('Daily Log'!$W$18:$W$1017,$B269,'Daily Log'!$X$18:$X$1017),0)","v":1},{"$f":"IFERROR($E269*SUMIF('Daily Log'!$Z$18:$Z$1017,$B269,'Daily Log'!$AA$18:$AA$1017),0)","v":0},{"$f":"IFERROR($E269*SUMIF('Daily Log'!$AC$18:$AC$1017,$B269,'Daily Log'!$AD$18:$AD$1017),0)","v":2},{"$f":"IFERROR($E269*SUMIF('Daily Log'!$AF$18:$AF$1017,$B269,'Daily Log'!$AG$18:$AG$1017),0)","v":5},{"$f":"IFERROR($E269*SUMIF('Daily Log'!$AI$18:$AI$1017,$B269,'Daily Log'!$AJ$18:$AJ$1017),0)","v":1},{"$f":"IFERROR($E269*SUMIF('Daily Log'!#REF!,$B269,'Daily Log'!#REF!),0)","v":0},{"$f":"IFERROR($E269*SUMIF('Daily Log'!#REF!,$B269,'Daily Log'!#REF!),0)","v":0},{"$f":"IFERROR($E269*SUMIF('Daily Log'!#REF!,$B269,'Daily Log'!#REF!),0)","v":0},{"$f":"IFERROR($E269*SUMIF('Daily Log'!#REF!,$B269,'Daily Log'!#REF!),0)","v":0},{"$f":"IFERROR($E269*SUMIF('Daily Log'!#REF!,$B269,'Daily Log'!#REF!),0)","v":0},{"$f":"IFERROR($E269*SUMIF('Daily Log'!#REF!,$B269,'Daily Log'!#REF!),0)","v":0},{"$f":"IFERROR($E269*SUMIF('Daily Log'!#REF!,$B269,'Daily Log'!#REF!),0)","v":0},{"$f":"IFERROR($E269*SUMIF('Daily Log'!#REF!,$B269,'Daily Log'!#REF!),0)","v":0},{"$f":"IFERROR($E269*SUMIF('Daily Log'!#REF!,$B269,'Daily Log'!#REF!),0)","v":0},{"$f":"IFERROR($E269*SUMIF('Daily Log'!#REF!,$B269,'Daily Log'!#REF!),0)","v":0},{"$f":"IFERROR($E269*SUMIF('Daily Log'!#REF!,$B269,'Daily Log'!#REF!),0)","v":0},{"$f":"IFERROR($E269*SUMIF('Daily Log'!#REF!,$B269,'Daily Log'!#REF!),0)","v":0},{"$f":"IFERROR($E269*SUMIF('Daily Log'!#REF!,$B269,'Daily Log'!#REF!),0)","v":0},{"$f":"IFERROR($E269*SUMIF('Daily Log'!#REF!,$B269,'Daily Log'!#REF!),0)","v":0},{"$f":"IFERROR($E269*SUMIF('Daily Log'!#REF!,$B269,'Daily Log'!#REF!),0)","v":0},{"$f":"IFERROR($E269*SUMIF('Daily Log'!#REF!,$B269,'Daily Log'!#REF!),0)","v":0},{"$f":"IFERROR($E269*SUMIF('Daily Log'!#REF!,$B269,'Daily Log'!#REF!),0)","v":0},{"$f":"IFERROR($E269*SUMIF('Daily Log'!#REF!,$B269,'Daily Log'!#REF!),0)","v":0},{"$f":"IFERROR($E269*SUMIF('Daily Log'!#REF!,$B269,'Daily Log'!#REF!),0)","v":0}]
[null,"ZAB07 1207:SAUSAGE",null,"COMBO-SNAKCS",1,17,{"$f":"IFERROR($E270*SUMIF('Daily Log'!$B$18:$B$1017,$B270,'Daily Log'!$C$18:$C$1017),0)","v":0},{"$f":"IFERROR($E270*SUMIF('Daily Log'!$E$18:$E$1017,$B270,'Daily Log'!$F$18:$F$1017),0)","v":0},{"$f":"IFERROR($E270*SUMIF('Daily Log'!$H$18:$H$1017,$B270,'Daily Log'!$I$18:$I$1017),0)","v":0},{"$f":"IFERROR($E270*SUMIF('Daily Log'!$K$18:$K$1017,$B270,'Daily Log'!$L$18:$L$1017),0)","v":0},{"$f":"IFERROR($E270*SUMIF('Daily Log'!$N$18:$N$1017,$B270,'Daily Log'!$O$18:$O$1017),0)","v":0},{"$f":"IFERROR($E270*SUMIF('Daily Log'!$Q$18:$Q$1017,$B270,'Daily Log'!$R$18:$R$1017),0)","v":2},{"$f":"IFERROR($E270*SUMIF('Daily Log'!$T$18:$T$1017,$B270,'Daily Log'!$U$18:$U$1017),0)","v":2},{"$f":"IFERROR($E270*SUMIF('Daily Log'!$W$18:$W$1017,$B270,'Daily Log'!$X$18:$X$1017),0)","v":1},{"$f":"IFERROR($E270*SUMIF('Daily Log'!$Z$18:$Z$1017,$B270,'Daily Log'!$AA$18:$AA$1017),0)","v":0},{"$f":"IFERROR($E270*SUMIF('Daily Log'!$AC$18:$AC$1017,$B270,'Daily Log'!$AD$18:$AD$1017),0)","v":2},{"$f":"IFERROR($E270*SUMIF('Daily Log'!$AF$18:$AF$1017,$B270,'Daily Log'!$AG$18:$AG$1017),0)","v":6},{"$f":"IFERROR($E270*SUMIF('Daily Log'!$AI$18:$AI$1017,$B270,'Daily Log'!$AJ$18:$AJ$1017),0)","v":4},{"$f":"IFERROR($E270*SUMIF('Daily Log'!#REF!,$B270,'Daily Log'!#REF!),0)","v":0},{"$f":"IFERROR($E270*SUMIF('Daily Log'!#REF!,$B270,'Daily Log'!#REF!),0)","v":0},{"$f":"IFERROR($E270*SUMIF('Daily Log'!#REF!,$B270,'Daily Log'!#REF!),0)","v":0},{"$f":"IFERROR($E270*SUMIF('Daily Log'!#REF!,$B270,'Daily Log'!#REF!),0)","v":0},{"$f":"IFERROR($E270*SUMIF('Daily Log'!#REF!,$B270,'Daily Log'!#REF!),0)","v":0},{"$f":"IFERROR($E270*SUMIF('Daily Log'!#REF!,$B270,'Daily Log'!#REF!),0)","v":0},{"$f":"IFERROR($E270*SUMIF('Daily Log'!#REF!,$B270,'Daily Log'!#REF!),0)","v":0},{"$f":"IFERROR($E270*SUMIF('Daily Log'!#REF!,$B270,'Daily Log'!#REF!),0)","v":0},{"$f":"IFERROR($E270*SUMIF('Daily Log'!#REF!,$B270,'Daily Log'!#REF!),0)","v":0},{"$f":"IFERROR($E270*SUMIF('Daily Log'!#REF!,$B270,'Daily Log'!#REF!),0)","v":0},{"$f":"IFERROR($E270*SUMIF('Daily Log'!#REF!,$B270,'Daily Log'!#REF!),0)","v":0},{"$f":"IFERROR($E270*SUMIF('Daily Log'!#REF!,$B270,'Daily Log'!#REF!),0)","v":0},{"$f":"IFERROR($E270*SUMIF('Daily Log'!#REF!,$B270,'Daily Log'!#REF!),0)","v":0},{"$f":"IFERROR($E270*SUMIF('Daily Log'!#REF!,$B270,'Daily Log'!#REF!),0)","v":0},{"$f":"IFERROR($E270*SUMIF('Daily Log'!#REF!,$B270,'Daily Log'!#REF!),0)","v":0},{"$f":"IFERROR($E270*SUMIF('Daily Log'!#REF!,$B270,'Daily Log'!#REF!),0)","v":0},{"$f":"IFERROR($E270*SUMIF('Daily Log'!#REF!,$B270,'Daily Log'!#REF!),0)","v":0},{"$f":"IFERROR($E270*SUMIF('Daily Log'!#REF!,$B270,'Daily Log'!#REF!),0)","v":0},{"$f":"IFERROR($E270*SUMIF('Daily Log'!#REF!,$B270,'Daily Log'!#REF!),0)","v":0}]
[null,"ZAC02 1302:NUGGET",null,"COMBO-SNAKCS",1,7,{"$f":"IFERROR($E271*SUMIF('Daily Log'!$B$18:$B$1017,$B271,'Daily Log'!$C$18:$C$1017),0)","v":0},{"$f":"IFERROR($E271*SUMIF('Daily Log'!$E$18:$E$1017,$B271,'Daily Log'!$F$18:$F$1017),0)","v":0},{"$f":"IFERROR($E271*SUMIF('Daily Log'!$H$18:$H$1017,$B271,'Daily Log'!$I$18:$I$1017),0)","v":0},{"$f":"IFERROR($E271*SUMIF('Daily Log'!$K$18:$K$1017,$B271,'Daily Log'!$L$18:$L$1017),0)","v":0},{"$f":"IFERROR($E271*SUMIF('Daily Log'!$N$18:$N$1017,$B271,'Daily Log'!$O$18:$O$1017),0)","v":0},{"$f":"IFERROR($E271*SUMIF('Daily Log'!$Q$18:$Q$1017,$B271,'Daily Log'!$R$18:$R$1017),0)","v":1},{"$f":"IFERROR($E271*SUMIF('Daily Log'!$T$18:$T$1017,$B271,'Daily Log'!$U$18:$U$1017),0)","v":0},{"$f":"IFERROR($E271*SUMIF('Daily Log'!$W$18:$W$1017,$B271,'Daily Log'!$X$18:$X$1017),0)","v":0},{"$f":"IFERROR($E271*SUMIF('Daily Log'!$Z$18:$Z$1017,$B271,'Daily Log'!$AA$18:$AA$1017),0)","v":1},{"$f":"IFERROR($E271*SUMIF('Daily Log'!$AC$18:$AC$1017,$B271,'Daily Log'!$AD$18:$AD$1017),0)","v":3},{"$f":"IFERROR($E271*SUMIF('Daily Log'!$AF$18:$AF$1017,$B271,'Daily Log'!$AG$18:$AG$1017),0)","v":2},{"$f":"IFERROR($E271*SUMIF('Daily Log'!$AI$18:$AI$1017,$B271,'Daily Log'!$AJ$18:$AJ$1017),0)","v":0},{"$f":"IFERROR($E271*SUMIF('Daily Log'!#REF!,$B271,'Daily Log'!#REF!),0)","v":0},{"$f":"IFERROR($E271*SUMIF('Daily Log'!#REF!,$B271,'Daily Log'!#REF!),0)","v":0},{"$f":"IFERROR($E271*SUMIF('Daily Log'!#REF!,$B271,'Daily Log'!#REF!),0)","v":0},{"$f":"IFERROR($E271*SUMIF('Daily Log'!#REF!,$B271,'Daily Log'!#REF!),0)","v":0},{"$f":"IFERROR($E271*SUMIF('Daily Log'!#REF!,$B271,'Daily Log'!#REF!),0)","v":0},{"$f":"IFERROR($E271*SUMIF('Daily Log'!#REF!,$B271,'Daily Log'!#REF!),0)","v":0},{"$f":"IFERROR($E271*SUMIF('Daily Log'!#REF!,$B271,'Daily Log'!#REF!),0)","v":0},{"$f":"IFERROR($E271*SUMIF('Daily Log'!#REF!,$B271,'Daily Log'!#REF!),0)","v":0},{"$f":"IFERROR($E271*SUMIF('Daily Log'!#REF!,$B271,'Daily Log'!#REF!),0)","v":0},{"$f":"IFERROR($E271*SUMIF('Daily Log'!#REF!,$B271,'Daily Log'!#REF!),0)","v":0},{"$f":"IFERROR($E271*SUMIF('Daily Log'!#REF!,$B271,'Daily Log'!#REF!),0)","v":0},{"$f":"IFERROR($E271*SUMIF('Daily Log'!#REF!,$B271,'Daily Log'!#REF!),0)","v":0},{"$f":"IFERROR($E271*SUMIF('Daily Log'!#REF!,$B271,'Daily Log'!#REF!),0)","v":0},{"$f":"IFERROR($E271*SUMIF('Daily Log'!#REF!,$B271,'Daily Log'!#REF!),0)","v":0},{"$f":"IFERROR($E271*SUMIF('Daily Log'!#REF!,$B271,'Daily Log'!#REF!),0)","v":0},{"$f":"IFERROR($E271*SUMIF('Daily Log'!#REF!,$B271,'Daily Log'!#REF!),0)","v":0},{"$f":"IFERROR($E271*SUMIF('Daily Log'!#REF!,$B271,'Daily Log'!#REF!),0)","v":0},{"$f":"IFERROR($E271*SUMIF('Daily Log'!#REF!,$B271,'Daily Log'!#REF!),0)","v":0},{"$f":"IFERROR($E271*SUMIF('Daily Log'!#REF!,$B271,'Daily Log'!#REF!),0)","v":0}]
[null,"ZAC03 1303:CHK WING",null,"COMBO-SNAKCS",1,13,{"$f":"IFERROR($E272*SUMIF('Daily Log'!$B$18:$B$1017,$B272,'Daily Log'!$C$18:$C$1017),0)","v":0},{"$f":"IFERROR($E272*SUMIF('Daily Log'!$E$18:$E$1017,$B272,'Daily Log'!$F$18:$F$1017),0)","v":0},{"$f":"IFERROR($E272*SUMIF('Daily Log'!$H$18:$H$1017,$B272,'Daily Log'!$I$18:$I$1017),0)","v":0},{"$f":"IFERROR($E272*SUMIF('Daily Log'!$K$18:$K$1017,$B272,'Daily Log'!$L$18:$L$1017),0)","v":0},{"$f":"IFERROR($E272*SUMIF('Daily Log'!$N$18:$N$1017,$B272,'Daily Log'!$O$18:$O$1017),0)","v":0},{"$f":"IFERROR($E272*SUMIF('Daily Log'!$Q$18:$Q$1017,$B272,'Daily Log'!$R$18:$R$1017),0)","v":1},{"$f":"IFERROR($E272*SUMIF('Daily Log'!$T$18:$T$1017,$B272,'Daily Log'!$U$18:$U$1017),0)","v":1},{"$f":"IFERROR($E272*SUMIF('Daily Log'!$W$18:$W$1017,$B272,'Daily Log'!$X$18:$X$1017),0)","v":0},{"$f":"IFERROR($E272*SUMIF('Daily Log'!$Z$18:$Z$1017,$B272,'Daily Log'!$AA$18:$AA$1017),0)","v":2},{"$f":"IFERROR($E272*SUMIF('Daily Log'!$AC$18:$AC$1017,$B272,'Daily Log'!$AD$18:$AD$1017),0)","v":4},{"$f":"IFERROR($E272*SUMIF('Daily Log'!$AF$18:$AF$1017,$B272,'Daily Log'!$AG$18:$AG$1017),0)","v":3},{"$f":"IFERROR($E272*SUMIF('Daily Log'!$AI$18:$AI$1017,$B272,'Daily Log'!$AJ$18:$AJ$1017),0)","v":2},{"$f":"IFERROR($E272*SUMIF('Daily Log'!#REF!,$B272,'Daily Log'!#REF!),0)","v":0},{"$f":"IFERROR($E272*SUMIF('Daily Log'!#REF!,$B272,'Daily Log'!#REF!),0)","v":0},{"$f":"IFERROR($E272*SUMIF('Daily Log'!#REF!,$B272,'Daily Log'!#REF!),0)","v":0},{"$f":"IFERROR($E272*SUMIF('Daily Log'!#REF!,$B272,'Daily Log'!#REF!),0)","v":0},{"$f":"IFERROR($E272*SUMIF('Daily Log'!#REF!,$B272,'Daily Log'!#REF!),0)","v":0},{"$f":"IFERROR($E272*SUMIF('Daily Log'!#REF!,$B272,'Daily Log'!#REF!),0)","v":0},{"$f":"IFERROR($E272*SUMIF('Daily Log'!#REF!,$B272,'Daily Log'!#REF!),0)","v":0},{"$f":"IFERROR($E272*SUMIF('Daily Log'!#REF!,$B272,'Daily Log'!#REF!),0)","v":0},{"$f":"IFERROR($E272*SUMIF('Daily Log'!#REF!,$B272,'Daily Log'!#REF!),0)","v":0},{"$f":"IFERROR($E272*SUMIF('Daily Log'!#REF!,$B272,'Daily Log'!#REF!),0)","v":0},{"$f":"IFERROR($E272*SUMIF('Daily Log'!#REF!,$B272,'Daily Log'!#REF!),0)","v":0},{"$f":"IFERROR($E272*SUMIF('Daily Log'!#REF!,$B272,'Daily Log'!#REF!),0)","v":0},{"$f":"IFERROR($E272*SUMIF('Daily Log'!#REF!,$B272,'Daily Log'!#REF!),0)","v":0},{"$f":"IFERROR($E272*SUMIF('Daily Log'!#REF!,$B272,'Daily Log'!#REF!),0)","v":0},{"$f":"IFERROR($E272*SUMIF('Daily Log'!#REF!,$B272,'Daily Log'!#REF!),0)","v":0},{"$f":"IFERROR($E272*SUMIF('Daily Log'!#REF!,$B272,'Daily Log'!#REF!),0)","v":0},{"$f":"IFERROR($E272*SUMIF('Daily Log'!#REF!,$B272,'Daily Log'!#REF!),0)","v":0},{"$f":"IFERROR($E272*SUMIF('Daily Log'!#REF!,$B272,'Daily Log'!#REF!),0)","v":0},{"$f":"IFERROR($E272*SUMIF('Daily Log'!#REF!,$B272,'Daily Log'!#REF!),0)","v":0}]
[null,"ZAC04 1304:IKAN BILIS",null,"COMBO-SNAKCS",1,2,{"$f":"IFERROR($E273*SUMIF('Daily Log'!$B$18:$B$1017,$B273,'Daily Log'!$C$18:$C$1017),0)","v":0},{"$f":"IFERROR($E273*SUMIF('Daily Log'!$E$18:$E$1017,$B273,'Daily Log'!$F$18:$F$1017),0)","v":0},{"$f":"IFERROR($E273*SUMIF('Daily Log'!$H$18:$H$1017,$B273,'Daily Log'!$I$18:$I$1017),0)","v":0},{"$f":"IFERROR($E273*SUMIF('Daily Log'!$K$18:$K$1017,$B273,'Daily Log'!$L$18:$L$1017),0)","v":0},{"$f":"IFERROR($E273*SUMIF('Daily Log'!$N$18:$N$1017,$B273,'Daily Log'!$O$18:$O$1017),0)","v":0},{"$f":"IFERROR($E273*SUMIF('Daily Log'!$Q$18:$Q$1017,$B273,'Daily Log'!$R$18:$R$1017),0)","v":0},{"$f":"IFERROR($E273*SUMIF('Daily Log'!$T$18:$T$1017,$B273,'Daily Log'!$U$18:$U$1017),0)","v":0},{"$f":"IFERROR($E273*SUMIF('Daily Log'!$W$18:$W$1017,$B273,'Daily Log'!$X$18:$X$1017),0)","v":0},{"$f":"IFERROR($E273*SUMIF('Daily Log'!$Z$18:$Z$1017,$B273,'Daily Log'!$AA$18:$AA$1017),0)","v":0},{"$f":"IFERROR($E273*SUMIF('Daily Log'!$AC$18:$AC$1017,$B273,'Daily Log'!$AD$18:$AD$1017),0)","v":0},{"$f":"IFERROR($E273*SUMIF('Daily Log'!$AF$18:$AF$1017,$B273,'Daily Log'!$AG$18:$AG$1017),0)","v":1},{"$f":"IFERROR($E273*SUMIF('Daily Log'!$AI$18:$AI$1017,$B273,'Daily Log'!$AJ$18:$AJ$1017),0)","v":1},{"$f":"IFERROR($E273*SUMIF('Daily Log'!#REF!,$B273,'Daily Log'!#REF!),0)","v":0},{"$f":"IFERROR($E273*SUMIF('Daily Log'!#REF!,$B273,'Daily Log'!#REF!),0)","v":0},{"$f":"IFERROR($E273*SUMIF('Daily Log'!#REF!,$B273,'Daily Log'!#REF!),0)","v":0},{"$f":"IFERROR($E273*SUMIF('Daily Log'!#REF!,$B273,'Daily Log'!#REF!),0)","v":0},{"$f":"IFERROR($E273*SUMIF('Daily Log'!#REF!,$B273,'Daily Log'!#REF!),0)","v":0},{"$f":"IFERROR($E273*SUMIF('Daily Log'!#REF!,$B273,'Daily Log'!#REF!),0)","v":0},{"$f":"IFERROR($E273*SUMIF('Daily Log'!#REF!,$B273,'Daily Log'!#REF!),0)","v":0},{"$f":"IFERROR($E273*SUMIF('Daily Log'!#REF!,$B273,'Daily Log'!#REF!),0)","v":0},{"$f":"IFERROR($E273*SUMIF('Daily Log'!#REF!,$B273,'Daily Log'!#REF!),0)","v":0},{"$f":"IFERROR($E273*SUMIF('Daily Log'!#REF!,$B273,'Daily Log'!#REF!),0)","v":0},{"$f":"IFERROR($E273*SUMIF('Daily Log'!#REF!,$B273,'Daily Log'!#REF!),0)","v":0},{"$f":"IFERROR($E273*SUMIF('Daily Log'!#REF!,$B273,'Daily Log'!#REF!),0)","v":0},{"$f":"IFERROR($E273*SUMIF('Daily Log'!#REF!,$B273,'Daily Log'!#REF!),0)","v":0},{"$f":"IFERROR($E273*SUMIF('Daily Log'!#REF!,$B273,'Daily Log'!#REF!),0)","v":0},{"$f":"IFERROR($E273*SUMIF('Daily Log'!#REF!,$B273,'Daily Log'!#REF!),0)","v":0},{"$f":"IFERROR($E273*SUMIF('Daily Log'!#REF!,$B273,'Daily Log'!#REF!),0)","v":0},{"$f":"IFERROR($E273*SUMIF('Daily Log'!#REF!,$B273,'Daily Log'!#REF!),0)","v":0},{"$f":"IFERROR($E273*SUMIF('Daily Log'!#REF!,$B273,'Daily Log'!#REF!),0)","v":0},{"$f":"IFERROR($E273*SUMIF('Daily Log'!#REF!,$B273,'Daily Log'!#REF!),0)","v":0}]
[null,"ZAC05 1305:THAI RL",null,"COMBO-SNAKCS",1,4,{"$f":"IFERROR($E274*SUMIF('Daily Log'!$B$18:$B$1017,$B274,'Daily Log'!$C$18:$C$1017),0)","v":0},{"$f":"IFERROR($E274*SUMIF('Daily Log'!$E$18:$E$1017,$B274,'Daily Log'!$F$18:$F$1017),0)","v":0},{"$f":"IFERROR($E274*SUMIF('Daily Log'!$H$18:$H$1017,$B274,'Daily Log'!$I$18:$I$1017),0)","v":0},{"$f":"IFERROR($E274*SUMIF('Daily Log'!$K$18:$K$1017,$B274,'Daily Log'!$L$18:$L$1017),0)","v":0},{"$f":"IFERROR($E274*SUMIF('Daily Log'!$N$18:$N$1017,$B274,'Daily Log'!$O$18:$O$1017),0)","v":0},{"$f":"IFERROR($E274*SUMIF('Daily Log'!$Q$18:$Q$1017,$B274,'Daily Log'!$R$18:$R$1017),0)","v":1},{"$f":"IFERROR($E274*SUMIF('Daily Log'!$T$18:$T$1017,$B274,'Daily Log'!$U$18:$U$1017),0)","v":1},{"$f":"IFERROR($E274*SUMIF('Daily Log'!$W$18:$W$1017,$B274,'Daily Log'!$X$18:$X$1017),0)","v":0},{"$f":"IFERROR($E274*SUMIF('Daily Log'!$Z$18:$Z$1017,$B274,'Daily Log'!$AA$18:$AA$1017),0)","v":1},{"$f":"IFERROR($E274*SUMIF('Daily Log'!$AC$18:$AC$1017,$B274,'Daily Log'!$AD$18:$AD$1017),0)","v":0},{"$f":"IFERROR($E274*SUMIF('Daily Log'!$AF$18:$AF$1017,$B274,'Daily Log'!$AG$18:$AG$1017),0)","v":0},{"$f":"IFERROR($E274*SUMIF('Daily Log'!$AI$18:$AI$1017,$B274,'Daily Log'!$AJ$18:$AJ$1017),0)","v":1},{"$f":"IFERROR($E274*SUMIF('Daily Log'!#REF!,$B274,'Daily Log'!#REF!),0)","v":0},{"$f":"IFERROR($E274*SUMIF('Daily Log'!#REF!,$B274,'Daily Log'!#REF!),0)","v":0},{"$f":"IFERROR($E274*SUMIF('Daily Log'!#REF!,$B274,'Daily Log'!#REF!),0)","v":0},{"$f":"IFERROR($E274*SUMIF('Daily Log'!#REF!,$B274,'Daily Log'!#REF!),0)","v":0},{"$f":"IFERROR($E274*SUMIF('Daily Log'!#REF!,$B274,'Daily Log'!#REF!),0)","v":0},{"$f":"IFERROR($E274*SUMIF('Daily Log'!#REF!,$B274,'Daily Log'!#REF!),0)","v":0},{"$f":"IFERROR($E274*SUMIF('Daily Log'!#REF!,$B274,'Daily Log'!#REF!),0)","v":0},{"$f":"IFERROR($E274*SUMIF('Daily Log'!#REF!,$B274,'Daily Log'!#REF!),0)","v":0},{"$f":"IFERROR($E274*SUMIF('Daily Log'!#REF!,$B274,'Daily Log'!#REF!),0)","v":0},{"$f":"IFERROR($E274*SUMIF('Daily Log'!#REF!,$B274,'Daily Log'!#REF!),0)","v":0},{"$f":"IFERROR($E274*SUMIF('Daily Log'!#REF!,$B274,'Daily Log'!#REF!),0)","v":0},{"$f":"IFERROR($E274*SUMIF('Daily Log'!#REF!,$B274,'Daily Log'!#REF!),0)","v":0},{"$f":"IFERROR($E274*SUMIF('Daily Log'!#REF!,$B274,'Daily Log'!#REF!),0)","v":0},{"$f":"IFERROR($E274*SUMIF('Daily Log'!#REF!,$B274,'Daily Log'!#REF!),0)","v":0},{"$f":"IFERROR($E274*SUMIF('Daily Log'!#REF!,$B274,'Daily Log'!#REF!),0)","v":0},{"$f":"IFERROR($E274*SUMIF('Daily Log'!#REF!,$B274,'Daily Log'!#REF!),0)","v":0},{"$f":"IFERROR($E274*SUMIF('Daily Log'!#REF!,$B274,'Daily Log'!#REF!),0)","v":0},{"$f":"IFERROR($E274*SUMIF('Daily Log'!#REF!,$B274,'Daily Log'!#REF!),0)","v":0},{"$f":"IFERROR($E274*SUMIF('Daily Log'!#REF!,$B274,'Daily Log'!#REF!),0)","v":0}]
[null,"ZAC07 1307:D/F C.WINGS",null,"COMBO-SNAKCS",1,18,{"$f":"IFERROR($E275*SUMIF('Daily Log'!$B$18:$B$1017,$B275,'Daily Log'!$C$18:$C$1017),0)","v":0},{"$f":"IFERROR($E275*SUMIF('Daily Log'!$E$18:$E$1017,$B275,'Daily Log'!$F$18:$F$1017),0)","v":0},{"$f":"IFERROR($E275*SUMIF('Daily Log'!$H$18:$H$1017,$B275,'Daily Log'!$I$18:$I$1017),0)","v":0},{"$f":"IFERROR($E275*SUMIF('Daily Log'!$K$18:$K$1017,$B275,'Daily Log'!$L$18:$L$1017),0)","v":0},{"$f":"IFERROR($E275*SUMIF('Daily Log'!$N$18:$N$1017,$B275,'Daily Log'!$O$18:$O$1017),0)","v":0},{"$f":"IFERROR($E275*SUMIF('Daily Log'!$Q$18:$Q$1017,$B275,'Daily Log'!$R$18:$R$1017),0)","v":3},{"$f":"IFERROR($E275*SUMIF('Daily Log'!$T$18:$T$1017,$B275,'Daily Log'!$U$18:$U$1017),0)","v":2},{"$f":"IFERROR($E275*SUMIF('Daily Log'!$W$18:$W$1017,$B275,'Daily Log'!$X$18:$X$1017),0)","v":0},{"$f":"IFERROR($E275*SUMIF('Daily Log'!$Z$18:$Z$1017,$B275,'Daily Log'!$AA$18:$AA$1017),0)","v":1},{"$f":"IFERROR($E275*SUMIF('Daily Log'!$AC$18:$AC$1017,$B275,'Daily Log'!$AD$18:$AD$1017),0)","v":2},{"$f":"IFERROR($E275*SUMIF('Daily Log'!$AF$18:$AF$1017,$B275,'Daily Log'!$AG$18:$AG$1017),0)","v":3},{"$f":"IFERROR($E275*SUMIF('Daily Log'!$AI$18:$AI$1017,$B275,'Daily Log'!$AJ$18:$AJ$1017),0)","v":7},{"$f":"IFERROR($E275*SUMIF('Daily Log'!#REF!,$B275,'Daily Log'!#REF!),0)","v":0},{"$f":"IFERROR($E275*SUMIF('Daily Log'!#REF!,$B275,'Daily Log'!#REF!),0)","v":0},{"$f":"IFERROR($E275*SUMIF('Daily Log'!#REF!,$B275,'Daily Log'!#REF!),0)","v":0},{"$f":"IFERROR($E275*SUMIF('Daily Log'!#REF!,$B275,'Daily Log'!#REF!),0)","v":0},{"$f":"IFERROR($E275*SUMIF('Daily Log'!#REF!,$B275,'Daily Log'!#REF!),0)","v":0},{"$f":"IFERROR($E275*SUMIF('Daily Log'!#REF!,$B275,'Daily Log'!#REF!),0)","v":0},{"$f":"IFERROR($E275*SUMIF('Daily Log'!#REF!,$B275,'Daily Log'!#REF!),0)","v":0},{"$f":"IFERROR($E275*SUMIF('Daily Log'!#REF!,$B275,'Daily Log'!#REF!),0)","v":0},{"$f":"IFERROR($E275*SUMIF('Daily Log'!#REF!,$B275,'Daily Log'!#REF!),0)","v":0},{"$f":"IFERROR($E275*SUMIF('Daily Log'!#REF!,$B275,'Daily Log'!#REF!),0)","v":0},{"$f":"IFERROR($E275*SUMIF('Daily Log'!#REF!,$B275,'Daily Log'!#REF!),0)","v":0},{"$f":"IFERROR($E275*SUMIF('Daily Log'!#REF!,$B275,'Daily Log'!#REF!),0)","v":0},{"$f":"IFERROR($E275*SUMIF('Daily Log'!#REF!,$B275,'Daily Log'!#REF!),0)","v":0},{"$f":"IFERROR($E275*SUMIF('Daily Log'!#REF!,$B275,'Daily Log'!#REF!),0)","v":0},{"$f":"IFERROR($E275*SUMIF('Daily Log'!#REF!,$B275,'Daily Log'!#REF!),0)","v":0},{"$f":"IFERROR($E275*SUMIF('Daily Log'!#REF!,$B275,'Daily Log'!#REF!),0)","v":0},{"$f":"IFERROR($E275*SUMIF('Daily Log'!#REF!,$B275,'Daily Log'!#REF!),0)","v":0},{"$f":"IFERROR($E275*SUMIF('Daily Log'!#REF!,$B275,'Daily Log'!#REF!),0)","v":0},{"$f":"IFERROR($E275*SUMIF('Daily Log'!#REF!,$B275,'Daily Log'!#REF!),0)","v":0}]
[null,"ZAC08 1308:C/CALAMARI",null,"COMBO-SNAKCS",1,4,{"$f":"IFERROR($E276*SUMIF('Daily Log'!$B$18:$B$1017,$B276,'Daily Log'!$C$18:$C$1017),0)","v":0},{"$f":"IFERROR($E276*SUMIF('Daily Log'!$E$18:$E$1017,$B276,'Daily Log'!$F$18:$F$1017),0)","v":0},{"$f":"IFERROR($E276*SUMIF('Daily Log'!$H$18:$H$1017,$B276,'Daily Log'!$I$18:$I$1017),0)","v":0},{"$f":"IFERROR($E276*SUMIF('Daily Log'!$K$18:$K$1017,$B276,'Daily Log'!$L$18:$L$1017),0)","v":0},{"$f":"IFERROR($E276*SUMIF('Daily Log'!$N$18:$N$1017,$B276,'Daily Log'!$O$18:$O$1017),0)","v":0},{"$f":"IFERROR($E276*SUMIF('Daily Log'!$Q$18:$Q$1017,$B276,'Daily Log'!$R$18:$R$1017),0)","v":0},{"$f":"IFERROR($E276*SUMIF('Daily Log'!$T$18:$T$1017,$B276,'Daily Log'!$U$18:$U$1017),0)","v":1},{"$f":"IFERROR($E276*SUMIF('Daily Log'!$W$18:$W$1017,$B276,'Daily Log'!$X$18:$X$1017),0)","v":0},{"$f":"IFERROR($E276*SUMIF('Daily Log'!$Z$18:$Z$1017,$B276,'Daily Log'!$AA$18:$AA$1017),0)","v":0},{"$f":"IFERROR($E276*SUMIF('Daily Log'!$AC$18:$AC$1017,$B276,'Daily Log'!$AD$18:$AD$1017),0)","v":0},{"$f":"IFERROR($E276*SUMIF('Daily Log'!$AF$18:$AF$1017,$B276,'Daily Log'!$AG$18:$AG$1017),0)","v":1},{"$f":"IFERROR($E276*SUMIF('Daily Log'!$AI$18:$AI$1017,$B276,'Daily Log'!$AJ$18:$AJ$1017),0)","v":2},{"$f":"IFERROR($E276*SUMIF('Daily Log'!#REF!,$B276,'Daily Log'!#REF!),0)","v":0},{"$f":"IFERROR($E276*SUMIF('Daily Log'!#REF!,$B276,'Daily Log'!#REF!),0)","v":0},{"$f":"IFERROR($E276*SUMIF('Daily Log'!#REF!,$B276,'Daily Log'!#REF!),0)","v":0},{"$f":"IFERROR($E276*SUMIF('Daily Log'!#REF!,$B276,'Daily Log'!#REF!),0)","v":0},{"$f":"IFERROR($E276*SUMIF('Daily Log'!#REF!,$B276,'Daily Log'!#REF!),0)","v":0},{"$f":"IFERROR($E276*SUMIF('Daily Log'!#REF!,$B276,'Daily Log'!#REF!),0)","v":0},{"$f":"IFERROR($E276*SUMIF('Daily Log'!#REF!,$B276,'Daily Log'!#REF!),0)","v":0},{"$f":"IFERROR($E276*SUMIF('Daily Log'!#REF!,$B276,'Daily Log'!#REF!),0)","v":0},{"$f":"IFERROR($E276*SUMIF('Daily Log'!#REF!,$B276,'Daily Log'!#REF!),0)","v":0},{"$f":"IFERROR($E276*SUMIF('Daily Log'!#REF!,$B276,'Daily Log'!#REF!),0)","v":0},{"$f":"IFERROR($E276*SUMIF('Daily Log'!#REF!,$B276,'Daily Log'!#REF!),0)","v":0},{"$f":"IFERROR($E276*SUMIF('Daily Log'!#REF!,$B276,'Daily Log'!#REF!),0)","v":0},{"$f":"IFERROR($E276*SUMIF('Daily Log'!#REF!,$B276,'Daily Log'!#REF!),0)","v":0},{"$f":"IFERROR($E276*SUMIF('Daily Log'!#REF!,$B276,'Daily Log'!#REF!),0)","v":0},{"$f":"IFERROR($E276*SUMIF('Daily Log'!#REF!,$B276,'Daily Log'!#REF!),0)","v":0},{"$f":"IFERROR($E276*SUMIF('Daily Log'!#REF!,$B276,'Daily Log'!#REF!),0)","v":0},{"$f":"IFERROR($E276*SUMIF('Daily Log'!#REF!,$B276,'Daily Log'!#REF!),0)","v":0},{"$f":"IFERROR($E276*SUMIF('Daily Log'!#REF!,$B276,'Daily Log'!#REF!),0)","v":0},{"$f":"IFERROR($E276*SUMIF('Daily Log'!#REF!,$B276,'Daily Log'!#REF!),0)","v":0}]
[null,"ZAC09 1309:Mc /O.RINGS",null,"COMBO-SNAKCS",1,1,{"$f":"IFERROR($E277*SUMIF('Daily Log'!$B$18:$B$1017,$B277,'Daily Log'!$C$18:$C$1017),0)","v":0},{"$f":"IFERROR($E277*SUMIF('Daily Log'!$E$18:$E$1017,$B277,'Daily Log'!$F$18:$F$1017),0)","v":0},{"$f":"IFERROR($E277*SUMIF('Daily Log'!$H$18:$H$1017,$B277,'Daily Log'!$I$18:$I$1017),0)","v":0},{"$f":"IFERROR($E277*SUMIF('Daily Log'!$K$18:$K$1017,$B277,'Daily Log'!$L$18:$L$1017),0)","v":0},{"$f":"IFERROR($E277*SUMIF('Daily Log'!$N$18:$N$1017,$B277,'Daily Log'!$O$18:$O$1017),0)","v":0},{"$f":"IFERROR($E277*SUMIF('Daily Log'!$Q$18:$Q$1017,$B277,'Daily Log'!$R$18:$R$1017),0)","v":0},{"$f":"IFERROR($E277*SUMIF('Daily Log'!$T$18:$T$1017,$B277,'Daily Log'!$U$18:$U$1017),0)","v":1},{"$f":"IFERROR($E277*SUMIF('Daily Log'!$W$18:$W$1017,$B277,'Daily Log'!$X$18:$X$1017),0)","v":0},{"$f":"IFERROR($E277*SUMIF('Daily Log'!$Z$18:$Z$1017,$B277,'Daily Log'!$AA$18:$AA$1017),0)","v":0},{"$f":"IFERROR($E277*SUMIF('Daily Log'!$AC$18:$AC$1017,$B277,'Daily Log'!$AD$18:$AD$1017),0)","v":0},{"$f":"IFERROR($E277*SUMIF('Daily Log'!$AF$18:$AF$1017,$B277,'Daily Log'!$AG$18:$AG$1017),0)","v":0},{"$f":"IFERROR($E277*SUMIF('Daily Log'!$AI$18:$AI$1017,$B277,'Daily Log'!$AJ$18:$AJ$1017),0)","v":0},{"$f":"IFERROR($E277*SUMIF('Daily Log'!#REF!,$B277,'Daily Log'!#REF!),0)","v":0},{"$f":"IFERROR($E277*SUMIF('Daily Log'!#REF!,$B277,'Daily Log'!#REF!),0)","v":0},{"$f":"IFERROR($E277*SUMIF('Daily Log'!#REF!,$B277,'Daily Log'!#REF!),0)","v":0},{"$f":"IFERROR($E277*SUMIF('Daily Log'!#REF!,$B277,'Daily Log'!#REF!),0)","v":0},{"$f":"IFERROR($E277*SUMIF('Daily Log'!#REF!,$B277,'Daily Log'!#REF!),0)","v":0},{"$f":"IFERROR($E277*SUMIF('Daily Log'!#REF!,$B277,'Daily Log'!#REF!),0)","v":0},{"$f":"IFERROR($E277*SUMIF('Daily Log'!#REF!,$B277,'Daily Log'!#REF!),0)","v":0},{"$f":"IFERROR($E277*SUMIF('Daily Log'!#REF!,$B277,'Daily Log'!#REF!),0)","v":0},{"$f":"IFERROR($E277*SUMIF('Daily Log'!#REF!,$B277,'Daily Log'!#REF!),0)","v":0},{"$f":"IFERROR($E277*SUMIF('Daily Log'!#REF!,$B277,'Daily Log'!#REF!),0)","v":0},{"$f":"IFERROR($E277*SUMIF('Daily Log'!#REF!,$B277,'Daily Log'!#REF!),0)","v":0},{"$f":"IFERROR($E277*SUMIF('Daily Log'!#REF!,$B277,'Daily Log'!#REF!),0)","v":0},{"$f":"IFERROR($E277*SUMIF('Daily Log'!#REF!,$B277,'Daily Log'!#REF!),0)","v":0},{"$f":"IFERROR($E277*SUMIF('Daily Log'!#REF!,$B277,'Daily Log'!#REF!),0)","v":0},{"$f":"IFERROR($E277*SUMIF('Daily Log'!#REF!,$B277,'Daily Log'!#REF!),0)","v":0},{"$f":"IFERROR($E277*SUMIF('Daily Log'!#REF!,$B277,'Daily Log'!#REF!),0)","v":0},{"$f":"IFERROR($E277*SUMIF('Daily Log'!#REF!,$B277,'Daily Log'!#REF!),0)","v":0},{"$f":"IFERROR($E277*SUMIF('Daily Log'!#REF!,$B277,'Daily Log'!#REF!),0)","v":0},{"$f":"IFERROR($E277*SUMIF('Daily Log'!#REF!,$B277,'Daily Log'!#REF!),0)","v":0}]
[null,"ZAC10 1310:Mc SPIRAL/F",null,"COMBO-SNAKCS",1,4,{"$f":"IFERROR($E278*SUMIF('Daily Log'!$B$18:$B$1017,$B278,'Daily Log'!$C$18:$C$1017),0)","v":0},{"$f":"IFERROR($E278*SUMIF('Daily Log'!$E$18:$E$1017,$B278,'Daily Log'!$F$18:$F$1017),0)","v":0},{"$f":"IFERROR($E278*SUMIF('Daily Log'!$H$18:$H$1017,$B278,'Daily Log'!$I$18:$I$1017),0)","v":0},{"$f":"IFERROR($E278*SUMIF('Daily Log'!$K$18:$K$1017,$B278,'Daily Log'!$L$18:$L$1017),0)","v":0},{"$f":"IFERROR($E278*SUMIF('Daily Log'!$N$18:$N$1017,$B278,'Daily Log'!$O$18:$O$1017),0)","v":0},{"$f":"IFERROR($E278*SUMIF('Daily Log'!$Q$18:$Q$1017,$B278,'Daily Log'!$R$18:$R$1017),0)","v":0},{"$f":"IFERROR($E278*SUMIF('Daily Log'!$T$18:$T$1017,$B278,'Daily Log'!$U$18:$U$1017),0)","v":0},{"$f":"IFERROR($E278*SUMIF('Daily Log'!$W$18:$W$1017,$B278,'Daily Log'!$X$18:$X$1017),0)","v":0},{"$f":"IFERROR($E278*SUMIF('Daily Log'!$Z$18:$Z$1017,$B278,'Daily Log'!$AA$18:$AA$1017),0)","v":1},{"$f":"IFERROR($E278*SUMIF('Daily Log'!$AC$18:$AC$1017,$B278,'Daily Log'!$AD$18:$AD$1017),0)","v":1},{"$f":"IFERROR($E278*SUMIF('Daily Log'!$AF$18:$AF$1017,$B278,'Daily Log'!$AG$18:$AG$1017),0)","v":0},{"$f":"IFERROR($E278*SUMIF('Daily Log'!$AI$18:$AI$1017,$B278,'Daily Log'!$AJ$18:$AJ$1017),0)","v":2},{"$f":"IFERROR($E278*SUMIF('Daily Log'!#REF!,$B278,'Daily Log'!#REF!),0)","v":0},{"$f":"IFERROR($E278*SUMIF('Daily Log'!#REF!,$B278,'Daily Log'!#REF!),0)","v":0},{"$f":"IFERROR($E278*SUMIF('Daily Log'!#REF!,$B278,'Daily Log'!#REF!),0)","v":0},{"$f":"IFERROR($E278*SUMIF('Daily Log'!#REF!,$B278,'Daily Log'!#REF!),0)","v":0},{"$f":"IFERROR($E278*SUMIF('Daily Log'!#REF!,$B278,'Daily Log'!#REF!),0)","v":0},{"$f":"IFERROR($E278*SUMIF('Daily Log'!#REF!,$B278,'Daily Log'!#REF!),0)","v":0},{"$f":"IFERROR($E278*SUMIF('Daily Log'!#REF!,$B278,'Daily Log'!#REF!),0)","v":0},{"$f":"IFERROR($E278*SUMIF('Daily Log'!#REF!,$B278,'Daily Log'!#REF!),0)","v":0},{"$f":"IFERROR($E278*SUMIF('Daily Log'!#REF!,$B278,'Daily Log'!#REF!),0)","v":0},{"$f":"IFERROR($E278*SUMIF('Daily Log'!#REF!,$B278,'Daily Log'!#REF!),0)","v":0},{"$f":"IFERROR($E278*SUMIF('Daily Log'!#REF!,$B278,'Daily Log'!#REF!),0)","v":0},{"$f":"IFERROR($E278*SUMIF('Daily Log'!#REF!,$B278,'Daily Log'!#REF!),0)","v":0},{"$f":"IFERROR($E278*SUMIF('Daily Log'!#REF!,$B278,'Daily Log'!#REF!),0)","v":0},{"$f":"IFERROR($E278*SUMIF('Daily Log'!#REF!,$B278,'Daily Log'!#REF!),0)","v":0},{"$f":"IFERROR($E278*SUMIF('Daily Log'!#REF!,$B278,'Daily Log'!#REF!),0)","v":0},{"$f":"IFERROR($E278*SUMIF('Daily Log'!#REF!,$B278,'Daily Log'!#REF!),0)","v":0},{"$f":"IFERROR($E278*SUMIF('Daily Log'!#REF!,$B278,'Daily Log'!#REF!),0)","v":0},{"$f":"IFERROR($E278*SUMIF('Daily Log'!#REF!,$B278,'Daily Log'!#REF!),0)","v":0},{"$f":"IFERROR($E278*SUMIF('Daily Log'!#REF!,$B278,'Daily Log'!#REF!),0)","v":0}]
[null,"ZAC11 1311:Mc H/SMILES",null,"COMBO-SNAKCS",1,0,{"$f":"IFERROR($E279*SUMIF('Daily Log'!$B$18:$B$1017,$B279,'Daily Log'!$C$18:$C$1017),0)","v":0},{"$f":"IFERROR($E279*SUMIF('Daily Log'!$E$18:$E$1017,$B279,'Daily Log'!$F$18:$F$1017),0)","v":0},{"$f":"IFERROR($E279*SUMIF('Daily Log'!$H$18:$H$1017,$B279,'Daily Log'!$I$18:$I$1017),0)","v":0},{"$f":"IFERROR($E279*SUMIF('Daily Log'!$K$18:$K$1017,$B279,'Daily Log'!$L$18:$L$1017),0)","v":0},{"$f":"IFERROR($E279*SUMIF('Daily Log'!$N$18:$N$1017,$B279,'Daily Log'!$O$18:$O$1017),0)","v":0},{"$f":"IFERROR($E279*SUMIF('Daily Log'!$Q$18:$Q$1017,$B279,'Daily Log'!$R$18:$R$1017),0)","v":0},{"$f":"IFERROR($E279*SUMIF('Daily Log'!$T$18:$T$1017,$B279,'Daily Log'!$U$18:$U$1017),0)","v":0},{"$f":"IFERROR($E279*SUMIF('Daily Log'!$W$18:$W$1017,$B279,'Daily Log'!$X$18:$X$1017),0)","v":0},{"$f":"IFERROR($E279*SUMIF('Daily Log'!$Z$18:$Z$1017,$B279,'Daily Log'!$AA$18:$AA$1017),0)","v":0},{"$f":"IFERROR($E279*SUMIF('Daily Log'!$AC$18:$AC$1017,$B279,'Daily Log'!$AD$18:$AD$1017),0)","v":0},{"$f":"IFERROR($E279*SUMIF('Daily Log'!$AF$18:$AF$1017,$B279,'Daily Log'!$AG$18:$AG$1017),0)","v":0},{"$f":"IFERROR($E279*SUMIF('Daily Log'!$AI$18:$AI$1017,$B279,'Daily Log'!$AJ$18:$AJ$1017),0)","v":0},{"$f":"IFERROR($E279*SUMIF('Daily Log'!#REF!,$B279,'Daily Log'!#REF!),0)","v":0},{"$f":"IFERROR($E279*SUMIF('Daily Log'!#REF!,$B279,'Daily Log'!#REF!),0)","v":0},{"$f":"IFERROR($E279*SUMIF('Daily Log'!#REF!,$B279,'Daily Log'!#REF!),0)","v":0},{"$f":"IFERROR($E279*SUMIF('Daily Log'!#REF!,$B279,'Daily Log'!#REF!),0)","v":0},{"$f":"IFERROR($E279*SUMIF('Daily Log'!#REF!,$B279,'Daily Log'!#REF!),0)","v":0},{"$f":"IFERROR($E279*SUMIF('Daily Log'!#REF!,$B279,'Daily Log'!#REF!),0)","v":0},{"$f":"IFERROR($E279*SUMIF('Daily Log'!#REF!,$B279,'Daily Log'!#REF!),0)","v":0},{"$f":"IFERROR($E279*SUMIF('Daily Log'!#REF!,$B279,'Daily Log'!#REF!),0)","v":0},{"$f":"IFERROR($E279*SUMIF('Daily Log'!#REF!,$B279,'Daily Log'!#REF!),0)","v":0},{"$f":"IFERROR($E279*SUMIF('Daily Log'!#REF!,$B279,'Daily Log'!#REF!),0)","v":0},{"$f":"IFERROR($E279*SUMIF('Daily Log'!#REF!,$B279,'Daily Log'!#REF!),0)","v":0},{"$f":"IFERROR($E279*SUMIF('Daily Log'!#REF!,$B279,'Daily Log'!#REF!),0)","v":0},{"$f":"IFERROR($E279*SUMIF('Daily Log'!#REF!,$B279,'Daily Log'!#REF!),0)","v":0},{"$f":"IFERROR($E279*SUMIF('Daily Log'!#REF!,$B279,'Daily Log'!#REF!),0)","v":0},{"$f":"IFERROR($E279*SUMIF('Daily Log'!#REF!,$B279,'Daily Log'!#REF!),0)","v":0},{"$f":"IFERROR($E279*SUMIF('Daily Log'!#REF!,$B279,'Daily Log'!#REF!),0)","v":0},{"$f":"IFERROR($E279*SUMIF('Daily Log'!#REF!,$B279,'Daily Log'!#REF!),0)","v":0},{"$f":"IFERROR($E279*SUMIF('Daily Log'!#REF!,$B279,'Daily Log'!#REF!),0)","v":0},{"$f":"IFERROR($E279*SUMIF('Daily Log'!#REF!,$B279,'Daily Log'!#REF!),0)","v":0}]
[null,"ZAC12 1312:Mc HASH/B",null,"COMBO-SNAKCS",1,3,{"$f":"IFERROR($E280*SUMIF('Daily Log'!$B$18:$B$1017,$B280,'Daily Log'!$C$18:$C$1017),0)","v":0},{"$f":"IFERROR($E280*SUMIF('Daily Log'!$E$18:$E$1017,$B280,'Daily Log'!$F$18:$F$1017),0)","v":0},{"$f":"IFERROR($E280*SUMIF('Daily Log'!$H$18:$H$1017,$B280,'Daily Log'!$I$18:$I$1017),0)","v":0},{"$f":"IFERROR($E280*SUMIF('Daily Log'!$K$18:$K$1017,$B280,'Daily Log'!$L$18:$L$1017),0)","v":0},{"$f":"IFERROR($E280*SUMIF('Daily Log'!$N$18:$N$1017,$B280,'Daily Log'!$O$18:$O$1017),0)","v":0},{"$f":"IFERROR($E280*SUMIF('Daily Log'!$Q$18:$Q$1017,$B280,'Daily Log'!$R$18:$R$1017),0)","v":0},{"$f":"IFERROR($E280*SUMIF('Daily Log'!$T$18:$T$1017,$B280,'Daily Log'!$U$18:$U$1017),0)","v":0},{"$f":"IFERROR($E280*SUMIF('Daily Log'!$W$18:$W$1017,$B280,'Daily Log'!$X$18:$X$1017),0)","v":0},{"$f":"IFERROR($E280*SUMIF('Daily Log'!$Z$18:$Z$1017,$B280,'Daily Log'!$AA$18:$AA$1017),0)","v":2},{"$f":"IFERROR($E280*SUMIF('Daily Log'!$AC$18:$AC$1017,$B280,'Daily Log'!$AD$18:$AD$1017),0)","v":0},{"$f":"IFERROR($E280*SUMIF('Daily Log'!$AF$18:$AF$1017,$B280,'Daily Log'!$AG$18:$AG$1017),0)","v":0},{"$f":"IFERROR($E280*SUMIF('Daily Log'!$AI$18:$AI$1017,$B280,'Daily Log'!$AJ$18:$AJ$1017),0)","v":1},{"$f":"IFERROR($E280*SUMIF('Daily Log'!#REF!,$B280,'Daily Log'!#REF!),0)","v":0},{"$f":"IFERROR($E280*SUMIF('Daily Log'!#REF!,$B280,'Daily Log'!#REF!),0)","v":0},{"$f":"IFERROR($E280*SUMIF('Daily Log'!#REF!,$B280,'Daily Log'!#REF!),0)","v":0},{"$f":"IFERROR($E280*SUMIF('Daily Log'!#REF!,$B280,'Daily Log'!#REF!),0)","v":0},{"$f":"IFERROR($E280*SUMIF('Daily Log'!#REF!,$B280,'Daily Log'!#REF!),0)","v":0},{"$f":"IFERROR($E280*SUMIF('Daily Log'!#REF!,$B280,'Daily Log'!#REF!),0)","v":0},{"$f":"IFERROR($E280*SUMIF('Daily Log'!#REF!,$B280,'Daily Log'!#REF!),0)","v":0},{"$f":"IFERROR($E280*SUMIF('Daily Log'!#REF!,$B280,'Daily Log'!#REF!),0)","v":0},{"$f":"IFERROR($E280*SUMIF('Daily Log'!#REF!,$B280,'Daily Log'!#REF!),0)","v":0},{"$f":"IFERROR($E280*SUMIF('Daily Log'!#REF!,$B280,'Daily Log'!#REF!),0)","v":0},{"$f":"IFERROR($E280*SUMIF('Daily Log'!#REF!,$B280,'Daily Log'!#REF!),0)","v":0},{"$f":"IFERROR($E280*SUMIF('Daily Log'!#REF!,$B280,'Daily Log'!#REF!),0)","v":0},{"$f":"IFERROR($E280*SUMIF('Daily Log'!#REF!,$B280,'Daily Log'!#REF!),0)","v":0},{"$f":"IFERROR($E280*SUMIF('Daily Log'!#REF!,$B280,'Daily Log'!#REF!),0)","v":0},{"$f":"IFERROR($E280*SUMIF('Daily Log'!#REF!,$B280,'Daily Log'!#REF!),0)","v":0},{"$f":"IFERROR($E280*SUMIF('Daily Log'!#REF!,$B280,'Daily Log'!#REF!),0)","v":0},{"$f":"IFERROR($E280*SUMIF('Daily Log'!#REF!,$B280,'Daily Log'!#REF!),0)","v":0},{"$f":"IFERROR($E280*SUMIF('Daily Log'!#REF!,$B280,'Daily Log'!#REF!),0)","v":0},{"$f":"IFERROR($E280*SUMIF('Daily Log'!#REF!,$B280,'Daily Log'!#REF!),0)","v":0}]
[null,"AA01 K : REGULAR",null,null,1,1,{"$f":"IFERROR($E281*SUMIF('Daily Log'!$B$18:$B$1017,$B281,'Daily Log'!$C$18:$C$1017),0)","v":0},{"$f":"IFERROR($E281*SUMIF('Daily Log'!$E$18:$E$1017,$B281,'Daily Log'!$F$18:$F$1017),0)","v":0},{"$f":"IFERROR($E281*SUMIF('Daily Log'!$H$18:$H$1017,$B281,'Daily Log'!$I$18:$I$1017),0)","v":0},{"$f":"IFERROR($E281*SUMIF('Daily Log'!$K$18:$K$1017,$B281,'Daily Log'!$L$18:$L$1017),0)","v":0},{"$f":"IFERROR($E281*SUMIF('Daily Log'!$N$18:$N$1017,$B281,'Daily Log'!$O$18:$O$1017),0)","v":0},{"$f":"IFERROR($E281*SUMIF('Daily Log'!$Q$18:$Q$1017,$B281,'Daily Log'!$R$18:$R$1017),0)","v":0},{"$f":"IFERROR($E281*SUMIF('Daily Log'!$T$18:$T$1017,$B281,'Daily Log'!$U$18:$U$1017),0)","v":1},{"$f":"IFERROR($E281*SUMIF('Daily Log'!$W$18:$W$1017,$B281,'Daily Log'!$X$18:$X$1017),0)","v":0},{"$f":"IFERROR($E281*SUMIF('Daily Log'!$Z$18:$Z$1017,$B281,'Daily Log'!$AA$18:$AA$1017),0)","v":0},{"$f":"IFERROR($E281*SUMIF('Daily Log'!$AC$18:$AC$1017,$B281,'Daily Log'!$AD$18:$AD$1017),0)","v":0},{"$f":"IFERROR($E281*SUMIF('Daily Log'!$AF$18:$AF$1017,$B281,'Daily Log'!$AG$18:$AG$1017),0)","v":0},{"$f":"IFERROR($E281*SUMIF('Daily Log'!$AI$18:$AI$1017,$B281,'Daily Log'!$AJ$18:$AJ$1017),0)","v":0},{"$f":"IFERROR($E281*SUMIF('Daily Log'!#REF!,$B281,'Daily Log'!#REF!),0)","v":0},{"$f":"IFERROR($E281*SUMIF('Daily Log'!#REF!,$B281,'Daily Log'!#REF!),0)","v":0},{"$f":"IFERROR($E281*SUMIF('Daily Log'!#REF!,$B281,'Daily Log'!#REF!),0)","v":0},{"$f":"IFERROR($E281*SUMIF('Daily Log'!#REF!,$B281,'Daily Log'!#REF!),0)","v":0},{"$f":"IFERROR($E281*SUMIF('Daily Log'!#REF!,$B281,'Daily Log'!#REF!),0)","v":0},{"$f":"IFERROR($E281*SUMIF('Daily Log'!#REF!,$B281,'Daily Log'!#REF!),0)","v":0},{"$f":"IFERROR($E281*SUMIF('Daily Log'!#REF!,$B281,'Daily Log'!#REF!),0)","v":0},{"$f":"IFERROR($E281*SUMIF('Daily Log'!#REF!,$B281,'Daily Log'!#REF!),0)","v":0},{"$f":"IFERROR($E281*SUMIF('Daily Log'!#REF!,$B281,'Daily Log'!#REF!),0)","v":0},{"$f":"IFERROR($E281*SUMIF('Daily Log'!#REF!,$B281,'Daily Log'!#REF!),0)","v":0},{"$f":"IFERROR($E281*SUMIF('Daily Log'!#REF!,$B281,'Daily Log'!#REF!),0)","v":0},{"$f":"IFERROR($E281*SUMIF('Daily Log'!#REF!,$B281,'Daily Log'!#REF!),0)","v":0},{"$f":"IFERROR($E281*SUMIF('Daily Log'!#REF!,$B281,'Daily Log'!#REF!),0)","v":0},{"$f":"IFERROR($E281*SUMIF('Daily Log'!#REF!,$B281,'Daily Log'!#REF!),0)","v":0},{"$f":"IFERROR($E281*SUMIF('Daily Log'!#REF!,$B281,'Daily Log'!#REF!),0)","v":0},{"$f":"IFERROR($E281*SUMIF('Daily Log'!#REF!,$B281,'Daily Log'!#REF!),0)","v":0},{"$f":"IFERROR($E281*SUMIF('Daily Log'!#REF!,$B281,'Daily Log'!#REF!),0)","v":0},{"$f":"IFERROR($E281*SUMIF('Daily Log'!#REF!,$B281,'Daily Log'!#REF!),0)","v":0},{"$f":"IFERROR($E281*SUMIF('Daily Log'!#REF!,$B281,'Daily Log'!#REF!),0)","v":0}]
[null,"AA02 K : MEMBER",null,null,1,1,{"$f":"IFERROR($E282*SUMIF('Daily Log'!$B$18:$B$1017,$B282,'Daily Log'!$C$18:$C$1017),0)","v":0},{"$f":"IFERROR($E282*SUMIF('Daily Log'!$E$18:$E$1017,$B282,'Daily Log'!$F$18:$F$1017),0)","v":0},{"$f":"IFERROR($E282*SUMIF('Daily Log'!$H$18:$H$1017,$B282,'Daily Log'!$I$18:$I$1017),0)","v":0},{"$f":"IFERROR($E282*SUMIF('Daily Log'!$K$18:$K$1017,$B282,'Daily Log'!$L$18:$L$1017),0)","v":0},{"$f":"IFERROR($E282*SUMIF('Daily Log'!$N$18:$N$1017,$B282,'Daily Log'!$O$18:$O$1017),0)","v":0},{"$f":"IFERROR($E282*SUMIF('Daily Log'!$Q$18:$Q$1017,$B282,'Daily Log'!$R$18:$R$1017),0)","v":0},{"$f":"IFERROR($E282*SUMIF('Daily Log'!$T$18:$T$1017,$B282,'Daily Log'!$U$18:$U$1017),0)","v":1},{"$f":"IFERROR($E282*SUMIF('Daily Log'!$W$18:$W$1017,$B282,'Daily Log'!$X$18:$X$1017),0)","v":0},{"$f":"IFERROR($E282*SUMIF('Daily Log'!$Z$18:$Z$1017,$B282,'Daily Log'!$AA$18:$AA$1017),0)","v":0},{"$f":"IFERROR($E282*SUMIF('Daily Log'!$AC$18:$AC$1017,$B282,'Daily Log'!$AD$18:$AD$1017),0)","v":0},{"$f":"IFERROR($E282*SUMIF('Daily Log'!$AF$18:$AF$1017,$B282,'Daily Log'!$AG$18:$AG$1017),0)","v":0},{"$f":"IFERROR($E282*SUMIF('Daily Log'!$AI$18:$AI$1017,$B282,'Daily Log'!$AJ$18:$AJ$1017),0)","v":0},{"$f":"IFERROR($E282*SUMIF('Daily Log'!#REF!,$B282,'Daily Log'!#REF!),0)","v":0},{"$f":"IFERROR($E282*SUMIF('Daily Log'!#REF!,$B282,'Daily Log'!#REF!),0)","v":0},{"$f":"IFERROR($E282*SUMIF('Daily Log'!#REF!,$B282,'Daily Log'!#REF!),0)","v":0},{"$f":"IFERROR($E282*SUMIF('Daily Log'!#REF!,$B282,'Daily Log'!#REF!),0)","v":0},{"$f":"IFERROR($E282*SUMIF('Daily Log'!#REF!,$B282,'Daily Log'!#REF!),0)","v":0},{"$f":"IFERROR($E282*SUMIF('Daily Log'!#REF!,$B282,'Daily Log'!#REF!),0)","v":0},{"$f":"IFERROR($E282*SUMIF('Daily Log'!#REF!,$B282,'Daily Log'!#REF!),0)","v":0},{"$f":"IFERROR($E282*SUMIF('Daily Log'!#REF!,$B282,'Daily Log'!#REF!),0)","v":0},{"$f":"IFERROR($E282*SUMIF('Daily Log'!#REF!,$B282,'Daily Log'!#REF!),0)","v":0},{"$f":"IFERROR($E282*SUMIF('Daily Log'!#REF!,$B282,'Daily Log'!#REF!),0)","v":0},{"$f":"IFERROR($E282*SUMIF('Daily Log'!#REF!,$B282,'Daily Log'!#REF!),0)","v":0},{"$f":"IFERROR($E282*SUMIF('Daily Log'!#REF!,$B282,'Daily Log'!#REF!),0)","v":0},{"$f":"IFERROR($E282*SUMIF('Daily Log'!#REF!,$B282,'Daily Log'!#REF!),0)","v":0},{"$f":"IFERROR($E282*SUMIF('Daily Log'!#REF!,$B282,'Daily Log'!#REF!),0)","v":0},{"$f":"IFERROR($E282*SUMIF('Daily Log'!#REF!,$B282,'Daily Log'!#REF!),0)","v":0},{"$f":"IFERROR($E282*SUMIF('Daily Log'!#REF!,$B282,'Daily Log'!#REF!),0)","v":0},{"$f":"IFERROR($E282*SUMIF('Daily Log'!#REF!,$B282,'Daily Log'!#REF!),0)","v":0},{"$f":"IFERROR($E282*SUMIF('Daily Log'!#REF!,$B282,'Daily Log'!#REF!),0)","v":0},{"$f":"IFERROR($E282*SUMIF('Daily Log'!#REF!,$B282,'Daily Log'!#REF!),0)","v":0}]
[null,"AA03 K : CARI MEMBER",null,null,1,0,{"$f":"IFERROR($E283*SUMIF('Daily Log'!$B$18:$B$1017,$B283,'Daily Log'!$C$18:$C$1017),0)","v":0},{"$f":"IFERROR($E283*SUMIF('Daily Log'!$E$18:$E$1017,$B283,'Daily Log'!$F$18:$F$1017),0)","v":0},{"$f":"IFERROR($E283*SUMIF('Daily Log'!$H$18:$H$1017,$B283,'Daily Log'!$I$18:$I$1017),0)","v":0},{"$f":"IFERROR($E283*SUMIF('Daily Log'!$K$18:$K$1017,$B283,'Daily Log'!$L$18:$L$1017),0)","v":0},{"$f":"IFERROR($E283*SUMIF('Daily Log'!$N$18:$N$1017,$B283,'Daily Log'!$O$18:$O$1017),0)","v":0},{"$f":"IFERROR($E283*SUMIF('Daily Log'!$Q$18:$Q$1017,$B283,'Daily Log'!$R$18:$R$1017),0)","v":0},{"$f":"IFERROR($E283*SUMIF('Daily Log'!$T$18:$T$1017,$B283,'Daily Log'!$U$18:$U$1017),0)","v":0},{"$f":"IFERROR($E283*SUMIF('Daily Log'!$W$18:$W$1017,$B283,'Daily Log'!$X$18:$X$1017),0)","v":0},{"$f":"IFERROR($E283*SUMIF('Daily Log'!$Z$18:$Z$1017,$B283,'Daily Log'!$AA$18:$AA$1017),0)","v":0},{"$f":"IFERROR($E283*SUMIF('Daily Log'!$AC$18:$AC$1017,$B283,'Daily Log'!$AD$18:$AD$1017),0)","v":0},{"$f":"IFERROR($E283*SUMIF('Daily Log'!$AF$18:$AF$1017,$B283,'Daily Log'!$AG$18:$AG$1017),0)","v":0},{"$f":"IFERROR($E283*SUMIF('Daily Log'!$AI$18:$AI$1017,$B283,'Daily Log'!$AJ$18:$AJ$1017),0)","v":0},{"$f":"IFERROR($E283*SUMIF('Daily Log'!#REF!,$B283,'Daily Log'!#REF!),0)","v":0},{"$f":"IFERROR($E283*SUMIF('Daily Log'!#REF!,$B283,'Daily Log'!#REF!),0)","v":0},{"$f":"IFERROR($E283*SUMIF('Daily Log'!#REF!,$B283,'Daily Log'!#REF!),0)","v":0},{"$f":"IFERROR($E283*SUMIF('Daily Log'!#REF!,$B283,'Daily Log'!#REF!),0)","v":0},{"$f":"IFERROR($E283*SUMIF('Daily Log'!#REF!,$B283,'Daily Log'!#REF!),0)","v":0},{"$f":"IFERROR($E283*SUMIF('Daily Log'!#REF!,$B283,'Daily Log'!#REF!),0)","v":0},{"$f":"IFERROR($E283*SUMIF('Daily Log'!#REF!,$B283,'Daily Log'!#REF!),0)","v":0},{"$f":"IFERROR($E283*SUMIF('Daily Log'!#REF!,$B283,'Daily Log'!#REF!),0)","v":0},{"$f":"IFERROR($E283*SUMIF('Daily Log'!#REF!,$B283,'Daily Log'!#REF!),0)","v":0},{"$f":"IFERROR($E283*SUMIF('Daily Log'!#REF!,$B283,'Daily Log'!#REF!),0)","v":0},{"$f":"IFERROR($E283*SUMIF('Daily Log'!#REF!,$B283,'Daily Log'!#REF!),0)","v":0},{"$f":"IFERROR($E283*SUMIF('Daily Log'!#REF!,$B283,'Daily Log'!#REF!),0)","v":0},{"$f":"IFERROR($E283*SUMIF('Daily Log'!#REF!,$B283,'Daily Log'!#REF!),0)","v":0},{"$f":"IFERROR($E283*SUMIF('Daily Log'!#REF!,$B283,'Daily Log'!#REF!),0)","v":0},{"$f":"IFERROR($E283*SUMIF('Daily Log'!#REF!,$B283,'Daily Log'!#REF!),0)","v":0},{"$f":"IFERROR($E283*SUMIF('Daily Log'!#REF!,$B283,'Daily Log'!#REF!),0)","v":0},{"$f":"IFERROR($E283*SUMIF('Daily Log'!#REF!,$B283,'Daily Log'!#REF!),0)","v":0},{"$f":"IFERROR($E283*SUMIF('Daily Log'!#REF!,$B283,'Daily Log'!#REF!),0)","v":0},{"$f":"IFERROR($E283*SUMIF('Daily Log'!#REF!,$B283,'Daily Log'!#REF!),0)","v":0}]
[null,"AA04 K-LUNCH",null,null,1,182,{"$f":"IFERROR($E284*SUMIF('Daily Log'!$B$18:$B$1017,$B284,'Daily Log'!$C$18:$C$1017),0)","v":0},{"$f":"IFERROR($E284*SUMIF('Daily Log'!$E$18:$E$1017,$B284,'Daily Log'!$F$18:$F$1017),0)","v":0},{"$f":"IFERROR($E284*SUMIF('Daily Log'!$H$18:$H$1017,$B284,'Daily Log'!$I$18:$I$1017),0)","v":0},{"$f":"IFERROR($E284*SUMIF('Daily Log'!$K$18:$K$1017,$B284,'Daily Log'!$L$18:$L$1017),0)","v":0},{"$f":"IFERROR($E284*SUMIF('Daily Log'!$N$18:$N$1017,$B284,'Daily Log'!$O$18:$O$1017),0)","v":0},{"$f":"IFERROR($E284*SUMIF('Daily Log'!$Q$18:$Q$1017,$B284,'Daily Log'!$R$18:$R$1017),0)","v":34},{"$f":"IFERROR($E284*SUMIF('Daily Log'!$T$18:$T$1017,$B284,'Daily Log'!$U$18:$U$1017),0)","v":11},{"$f":"IFERROR($E284*SUMIF('Daily Log'!$W$18:$W$1017,$B284,'Daily Log'!$X$18:$X$1017),0)","v":18},{"$f":"IFERROR($E284*SUMIF('Daily Log'!$Z$18:$Z$1017,$B284,'Daily Log'!$AA$18:$AA$1017),0)","v":15},{"$f":"IFERROR($E284*SUMIF('Daily Log'!$AC$18:$AC$1017,$B284,'Daily Log'!$AD$18:$AD$1017),0)","v":7},{"$f":"IFERROR($E284*SUMIF('Daily Log'!$AF$18:$AF$1017,$B284,'Daily Log'!$AG$18:$AG$1017),0)","v":24},{"$f":"IFERROR($E284*SUMIF('Daily Log'!$AI$18:$AI$1017,$B284,'Daily Log'!$AJ$18:$AJ$1017),0)","v":73},{"$f":"IFERROR($E284*SUMIF('Daily Log'!#REF!,$B284,'Daily Log'!#REF!),0)","v":0},{"$f":"IFERROR($E284*SUMIF('Daily Log'!#REF!,$B284,'Daily Log'!#REF!),0)","v":0},{"$f":"IFERROR($E284*SUMIF('Daily Log'!#REF!,$B284,'Daily Log'!#REF!),0)","v":0},{"$f":"IFERROR($E284*SUMIF('Daily Log'!#REF!,$B284,'Daily Log'!#REF!),0)","v":0},{"$f":"IFERROR($E284*SUMIF('Daily Log'!#REF!,$B284,'Daily Log'!#REF!),0)","v":0},{"$f":"IFERROR($E284*SUMIF('Daily Log'!#REF!,$B284,'Daily Log'!#REF!),0)","v":0},{"$f":"IFERROR($E284*SUMIF('Daily Log'!#REF!,$B284,'Daily Log'!#REF!),0)","v":0},{"$f":"IFERROR($E284*SUMIF('Daily Log'!#REF!,$B284,'Daily Log'!#REF!),0)","v":0},{"$f":"IFERROR($E284*SUMIF('Daily Log'!#REF!,$B284,'Daily Log'!#REF!),0)","v":0},{"$f":"IFERROR($E284*SUMIF('Daily Log'!#REF!,$B284,'Daily Log'!#REF!),0)","v":0},{"$f":"IFERROR($E284*SUMIF('Daily Log'!#REF!,$B284,'Daily Log'!#REF!),0)","v":0},{"$f":"IFERROR($E284*SUMIF('Daily Log'!#REF!,$B284,'Daily Log'!#REF!),0)","v":0},{"$f":"IFERROR($E284*SUMIF('Daily Log'!#REF!,$B284,'Daily Log'!#REF!),0)","v":0},{"$f":"IFERROR($E284*SUMIF('Daily Log'!#REF!,$B284,'Daily Log'!#REF!),0)","v":0},{"$f":"IFERROR($E284*SUMIF('Daily Log'!#REF!,$B284,'Daily Log'!#REF!),0)","v":0},{"$f":"IFERROR($E284*SUMIF('Daily Log'!#REF!,$B284,'Daily Log'!#REF!),0)","v":0},{"$f":"IFERROR($E284*SUMIF('Daily Log'!#REF!,$B284,'Daily Log'!#REF!),0)","v":0},{"$f":"IFERROR($E284*SUMIF('Daily Log'!#REF!,$B284,'Daily Log'!#REF!),0)","v":0},{"$f":"IFERROR($E284*SUMIF('Daily Log'!#REF!,$B284,'Daily Log'!#REF!),0)","v":0}]
[null,"AA05 K : CHILDREN",null,null,1,6,{"$f":"IFERROR($E285*SUMIF('Daily Log'!$B$18:$B$1017,$B285,'Daily Log'!$C$18:$C$1017),0)","v":0},{"$f":"IFERROR($E285*SUMIF('Daily Log'!$E$18:$E$1017,$B285,'Daily Log'!$F$18:$F$1017),0)","v":0},{"$f":"IFERROR($E285*SUMIF('Daily Log'!$H$18:$H$1017,$B285,'Daily Log'!$I$18:$I$1017),0)","v":0},{"$f":"IFERROR($E285*SUMIF('Daily Log'!$K$18:$K$1017,$B285,'Daily Log'!$L$18:$L$1017),0)","v":0},{"$f":"IFERROR($E285*SUMIF('Daily Log'!$N$18:$N$1017,$B285,'Daily Log'!$O$18:$O$1017),0)","v":0},{"$f":"IFERROR($E285*SUMIF('Daily Log'!$Q$18:$Q$1017,$B285,'Daily Log'!$R$18:$R$1017),0)","v":0},{"$f":"IFERROR($E285*SUMIF('Daily Log'!$T$18:$T$1017,$B285,'Daily Log'!$U$18:$U$1017),0)","v":0},{"$f":"IFERROR($E285*SUMIF('Daily Log'!$W$18:$W$1017,$B285,'Daily Log'!$X$18:$X$1017),0)","v":0},{"$f":"IFERROR($E285*SUMIF('Daily Log'!$Z$18:$Z$1017,$B285,'Daily Log'!$AA$18:$AA$1017),0)","v":0},{"$f":"IFERROR($E285*SUMIF('Daily Log'!$AC$18:$AC$1017,$B285,'Daily Log'!$AD$18:$AD$1017),0)","v":0},{"$f":"IFERROR($E285*SUMIF('Daily Log'!$AF$18:$AF$1017,$B285,'Daily Log'!$AG$18:$AG$1017),0)","v":1},{"$f":"IFERROR($E285*SUMIF('Daily Log'!$AI$18:$AI$1017,$B285,'Daily Log'!$AJ$18:$AJ$1017),0)","v":5},{"$f":"IFERROR($E285*SUMIF('Daily Log'!#REF!,$B285,'Daily Log'!#REF!),0)","v":0},{"$f":"IFERROR($E285*SUMIF('Daily Log'!#REF!,$B285,'Daily Log'!#REF!),0)","v":0},{"$f":"IFERROR($E285*SUMIF('Daily Log'!#REF!,$B285,'Daily Log'!#REF!),0)","v":0},{"$f":"IFERROR($E285*SUMIF('Daily Log'!#REF!,$B285,'Daily Log'!#REF!),0)","v":0},{"$f":"IFERROR($E285*SUMIF('Daily Log'!#REF!,$B285,'Daily Log'!#REF!),0)","v":0},{"$f":"IFERROR($E285*SUMIF('Daily Log'!#REF!,$B285,'Daily Log'!#REF!),0)","v":0},{"$f":"IFERROR($E285*SUMIF('Daily Log'!#REF!,$B285,'Daily Log'!#REF!),0)","v":0},{"$f":"IFERROR($E285*SUMIF('Daily Log'!#REF!,$B285,'Daily Log'!#REF!),0)","v":0},{"$f":"IFERROR($E285*SUMIF('Daily Log'!#REF!,$B285,'Daily Log'!#REF!),0)","v":0},{"$f":"IFERROR($E285*SUMIF('Daily Log'!#REF!,$B285,'Daily Log'!#REF!),0)","v":0},{"$f":"IFERROR($E285*SUMIF('Daily Log'!#REF!,$B285,'Daily Log'!#REF!),0)","v":0},{"$f":"IFERROR($E285*SUMIF('Daily Log'!#REF!,$B285,'Daily Log'!#REF!),0)","v":0},{"$f":"IFERROR($E285*SUMIF('Daily Log'!#REF!,$B285,'Daily Log'!#REF!),0)","v":0},{"$f":"IFERROR($E285*SUMIF('Daily Log'!#REF!,$B285,'Daily Log'!#REF!),0)","v":0},{"$f":"IFERROR($E285*SUMIF('Daily Log'!#REF!,$B285,'Daily Log'!#REF!),0)","v":0},{"$f":"IFERROR($E285*SUMIF('Daily Log'!#REF!,$B285,'Daily Log'!#REF!),0)","v":0},{"$f":"IFERROR($E285*SUMIF('Daily Log'!#REF!,$B285,'Daily Log'!#REF!),0)","v":0},{"$f":"IFERROR($E285*SUMIF('Daily Log'!#REF!,$B285,'Daily Log'!#REF!),0)","v":0},{"$f":"IFERROR($E285*SUMIF('Daily Log'!#REF!,$B285,'Daily Log'!#REF!),0)","v":0}]
[null,"AA06 K : MEMBER B'DAY",null,null,1,{"$f":"SUM($G286:$AK286)","v":2},{"$f":"IFERROR($E286*SUMIF('Daily Log'!$B$18:$B$1017,$B286,'Daily Log'!$C$18:$C$1017),0)","v":0},{"$f":"IFERROR($E286*SUMIF('Daily Log'!$E$18:$E$1017,$B286,'Daily Log'!$F$18:$F$1017),0)","v":0},{"$f":"IFERROR($E286*SUMIF('Daily Log'!$H$18:$H$1017,$B286,'Daily Log'!$I$18:$I$1017),0)","v":0},{"$f":"IFERROR($E286*SUMIF('Daily Log'!$K$18:$K$1017,$B286,'Daily Log'!$L$18:$L$1017),0)","v":0},{"$f":"IFERROR($E286*SUMIF('Daily Log'!$N$18:$N$1017,$B286,'Daily Log'!$O$18:$O$1017),0)","v":0},{"$f":"IFERROR($E286*SUMIF('Daily Log'!$Q$18:$Q$1017,$B286,'Daily Log'!$R$18:$R$1017),0)","v":0},{"$f":"IFERROR($E286*SUMIF('Daily Log'!$T$18:$T$1017,$B286,'Daily Log'!$U$18:$U$1017),0)","v":0},{"$f":"IFERROR($E286*SUMIF('Daily Log'!$W$18:$W$1017,$B286,'Daily Log'!$X$18:$X$1017),0)","v":0},{"$f":"IFERROR($E286*SUMIF('Daily Log'!$Z$18:$Z$1017,$B286,'Daily Log'!$AA$18:$AA$1017),0)","v":1},{"$f":"IFERROR($E286*SUMIF('Daily Log'!$AC$18:$AC$1017,$B286,'Daily Log'!$AD$18:$AD$1017),0)","v":0},{"$f":"IFERROR($E286*SUMIF('Daily Log'!$AF$18:$AF$1017,$B286,'Daily Log'!$AG$18:$AG$1017),0)","v":0},{"$f":"IFERROR($E286*SUMIF('Daily Log'!$AI$18:$AI$1017,$B286,'Daily Log'!$AJ$18:$AJ$1017),0)","v":1},{"$f":"IFERROR($E286*SUMIF('Daily Log'!#REF!,$B286,'Daily Log'!#REF!),0)","v":0},{"$f":"IFERROR($E286*SUMIF('Daily Log'!#REF!,$B286,'Daily Log'!#REF!),0)","v":0},{"$f":"IFERROR($E286*SUMIF('Daily Log'!#REF!,$B286,'Daily Log'!#REF!),0)","v":0},{"$f":"IFERROR($E286*SUMIF('Daily Log'!#REF!,$B286,'Daily Log'!#REF!),0)","v":0},{"$f":"IFERROR($E286*SUMIF('Daily Log'!#REF!,$B286,'Daily Log'!#REF!),0)","v":0},{"$f":"IFERROR($E286*SUMIF('Daily Log'!#REF!,$B286,'Daily Log'!#REF!),0)","v":0},{"$f":"IFERROR($E286*SUMIF('Daily Log'!#REF!,$B286,'Daily Log'!#REF!),0)","v":0},{"$f":"IFERROR($E286*SUMIF('Daily Log'!#REF!,$B286,'Daily Log'!#REF!),0)","v":0},{"$f":"IFERROR($E286*SUMIF('Daily Log'!#REF!,$B286,'Daily Log'!#REF!),0)","v":0},{"$f":"IFERROR($E286*SUMIF('Daily Log'!#REF!,$B286,'Daily Log'!#REF!),0)","v":0},{"$f":"IFERROR($E286*SUMIF('Daily Log'!#REF!,$B286,'Daily Log'!#REF!),0)","v":0},{"$f":"IFERROR($E286*SUMIF('Daily Log'!#REF!,$B286,'Daily Log'!#REF!),0)","v":0},{"$f":"IFERROR($E286*SUMIF('Daily Log'!#REF!,$B286,'Daily Log'!#REF!),0)","v":0},{"$f":"IFERROR($E286*SUMIF('Daily Log'!#REF!,$B286,'Daily Log'!#REF!),0)","v":0},{"$f":"IFERROR($E286*SUMIF('Daily Log'!#REF!,$B286,'Daily Log'!#REF!),0)","v":0},{"$f":"IFERROR($E286*SUMIF('Daily Log'!#REF!,$B286,'Daily Log'!#REF!),0)","v":0},{"$f":"IFERROR($E286*SUMIF('Daily Log'!#REF!,$B286,'Daily Log'!#REF!),0)","v":0},{"$f":"IFERROR($E286*SUMIF('Daily Log'!#REF!,$B286,'Daily Log'!#REF!),0)","v":0},{"$f":"IFERROR($E286*SUMIF('Daily Log'!#REF!,$B286,'Daily Log'!#REF!),0)","v":0}]
[null,"AA18 K : XTD B ROOM",null,null,1,0,{"$f":"IFERROR($E287*SUMIF('Daily Log'!$B$18:$B$1017,$B287,'Daily Log'!$C$18:$C$1017),0)","v":0},{"$f":"IFERROR($E287*SUMIF('Daily Log'!$E$18:$E$1017,$B287,'Daily Log'!$F$18:$F$1017),0)","v":0},{"$f":"IFERROR($E287*SUMIF('Daily Log'!$H$18:$H$1017,$B287,'Daily Log'!$I$18:$I$1017),0)","v":0},{"$f":"IFERROR($E287*SUMIF('Daily Log'!$K$18:$K$1017,$B287,'Daily Log'!$L$18:$L$1017),0)","v":0},{"$f":"IFERROR($E287*SUMIF('Daily Log'!$N$18:$N$1017,$B287,'Daily Log'!$O$18:$O$1017),0)","v":0},{"$f":"IFERROR($E287*SUMIF('Daily Log'!$Q$18:$Q$1017,$B287,'Daily Log'!$R$18:$R$1017),0)","v":0},{"$f":"IFERROR($E287*SUMIF('Daily Log'!$T$18:$T$1017,$B287,'Daily Log'!$U$18:$U$1017),0)","v":0},{"$f":"IFERROR($E287*SUMIF('Daily Log'!$W$18:$W$1017,$B287,'Daily Log'!$X$18:$X$1017),0)","v":0},{"$f":"IFERROR($E287*SUMIF('Daily Log'!$Z$18:$Z$1017,$B287,'Daily Log'!$AA$18:$AA$1017),0)","v":0},{"$f":"IFERROR($E287*SUMIF('Daily Log'!$AC$18:$AC$1017,$B287,'Daily Log'!$AD$18:$AD$1017),0)","v":0},{"$f":"IFERROR($E287*SUMIF('Daily Log'!$AF$18:$AF$1017,$B287,'Daily Log'!$AG$18:$AG$1017),0)","v":0},{"$f":"IFERROR($E287*SUMIF('Daily Log'!$AI$18:$AI$1017,$B287,'Daily Log'!$AJ$18:$AJ$1017),0)","v":0},{"$f":"IFERROR($E287*SUMIF('Daily Log'!#REF!,$B287,'Daily Log'!#REF!),0)","v":0},{"$f":"IFERROR($E287*SUMIF('Daily Log'!#REF!,$B287,'Daily Log'!#REF!),0)","v":0},{"$f":"IFERROR($E287*SUMIF('Daily Log'!#REF!,$B287,'Daily Log'!#REF!),0)","v":0},{"$f":"IFERROR($E287*SUMIF('Daily Log'!#REF!,$B287,'Daily Log'!#REF!),0)","v":0},{"$f":"IFERROR($E287*SUMIF('Daily Log'!#REF!,$B287,'Daily Log'!#REF!),0)","v":0},{"$f":"IFERROR($E287*SUMIF('Daily Log'!#REF!,$B287,'Daily Log'!#REF!),0)","v":0},{"$f":"IFERROR($E287*SUMIF('Daily Log'!#REF!,$B287,'Daily Log'!#REF!),0)","v":0},{"$f":"IFERROR($E287*SUMIF('Daily Log'!#REF!,$B287,'Daily Log'!#REF!),0)","v":0},{"$f":"IFERROR($E287*SUMIF('Daily Log'!#REF!,$B287,'Daily Log'!#REF!),0)","v":0},{"$f":"IFERROR($E287*SUMIF('Daily Log'!#REF!,$B287,'Daily Log'!#REF!),0)","v":0},{"$f":"IFERROR($E287*SUMIF('Daily Log'!#REF!,$B287,'Daily Log'!#REF!),0)","v":0},{"$f":"IFERROR($E287*SUMIF('Daily Log'!#REF!,$B287,'Daily Log'!#REF!),0)","v":0},{"$f":"IFERROR($E287*SUMIF('Daily Log'!#REF!,$B287,'Daily Log'!#REF!),0)","v":0},{"$f":"IFERROR($E287*SUMIF('Daily Log'!#REF!,$B287,'Daily Log'!#REF!),0)","v":0},{"$f":"IFERROR($E287*SUMIF('Daily Log'!#REF!,$B287,'Daily Log'!#REF!),0)","v":0},{"$f":"IFERROR($E287*SUMIF('Daily Log'!#REF!,$B287,'Daily Log'!#REF!),0)","v":0},{"$f":"IFERROR($E287*SUMIF('Daily Log'!#REF!,$B287,'Daily Log'!#REF!),0)","v":0},{"$f":"IFERROR($E287*SUMIF('Daily Log'!#REF!,$B287,'Daily Log'!#REF!),0)","v":0},{"$f":"IFERROR($E287*SUMIF('Daily Log'!#REF!,$B287,'Daily Log'!#REF!),0)","v":0}]
[null,"AB01 H : REGULAR",null,null,1,187,{"$f":"IFERROR($E288*SUMIF('Daily Log'!$B$18:$B$1017,$B288,'Daily Log'!$C$18:$C$1017),0)","v":0},{"$f":"IFERROR($E288*SUMIF('Daily Log'!$E$18:$E$1017,$B288,'Daily Log'!$F$18:$F$1017),0)","v":0},{"$f":"IFERROR($E288*SUMIF('Daily Log'!$H$18:$H$1017,$B288,'Daily Log'!$I$18:$I$1017),0)","v":0},{"$f":"IFERROR($E288*SUMIF('Daily Log'!$K$18:$K$1017,$B288,'Daily Log'!$L$18:$L$1017),0)","v":0},{"$f":"IFERROR($E288*SUMIF('Daily Log'!$N$18:$N$1017,$B288,'Daily Log'!$O$18:$O$1017),0)","v":0},{"$f":"IFERROR($E288*SUMIF('Daily Log'!$Q$18:$Q$1017,$B288,'Daily Log'!$R$18:$R$1017),0)","v":50},{"$f":"IFERROR($E288*SUMIF('Daily Log'!$T$18:$T$1017,$B288,'Daily Log'!$U$18:$U$1017),0)","v":23},{"$f":"IFERROR($E288*SUMIF('Daily Log'!$W$18:$W$1017,$B288,'Daily Log'!$X$18:$X$1017),0)","v":7},{"$f":"IFERROR($E288*SUMIF('Daily Log'!$Z$18:$Z$1017,$B288,'Daily Log'!$AA$18:$AA$1017),0)","v":24},{"$f":"IFERROR($E288*SUMIF('Daily Log'!$AC$18:$AC$1017,$B288,'Daily Log'!$AD$18:$AD$1017),0)","v":14},{"$f":"IFERROR($E288*SUMIF('Daily Log'!$AF$18:$AF$1017,$B288,'Daily Log'!$AG$18:$AG$1017),0)","v":29},{"$f":"IFERROR($E288*SUMIF('Daily Log'!$AI$18:$AI$1017,$B288,'Daily Log'!$AJ$18:$AJ$1017),0)","v":40},{"$f":"IFERROR($E288*SUMIF('Daily Log'!#REF!,$B288,'Daily Log'!#REF!),0)","v":0},{"$f":"IFERROR($E288*SUMIF('Daily Log'!#REF!,$B288,'Daily Log'!#REF!),0)","v":0},{"$f":"IFERROR($E288*SUMIF('Daily Log'!#REF!,$B288,'Daily Log'!#REF!),0)","v":0},{"$f":"IFERROR($E288*SUMIF('Daily Log'!#REF!,$B288,'Daily Log'!#REF!),0)","v":0},{"$f":"IFERROR($E288*SUMIF('Daily Log'!#REF!,$B288,'Daily Log'!#REF!),0)","v":0},{"$f":"IFERROR($E288*SUMIF('Daily Log'!#REF!,$B288,'Daily Log'!#REF!),0)","v":0},{"$f":"IFERROR($E288*SUMIF('Daily Log'!#REF!,$B288,'Daily Log'!#REF!),0)","v":0},{"$f":"IFERROR($E288*SUMIF('Daily Log'!#REF!,$B288,'Daily Log'!#REF!),0)","v":0},{"$f":"IFERROR($E288*SUMIF('Daily Log'!#REF!,$B288,'Daily Log'!#REF!),0)","v":0},{"$f":"IFERROR($E288*SUMIF('Daily Log'!#REF!,$B288,'Daily Log'!#REF!),0)","v":0},{"$f":"IFERROR($E288*SUMIF('Daily Log'!#REF!,$B288,'Daily Log'!#REF!),0)","v":0},{"$f":"IFERROR($E288*SUMIF('Daily Log'!#REF!,$B288,'Daily Log'!#REF!),0)","v":0},{"$f":"IFERROR($E288*SUMIF('Daily Log'!#REF!,$B288,'Daily Log'!#REF!),0)","v":0},{"$f":"IFERROR($E288*SUMIF('Daily Log'!#REF!,$B288,'Daily Log'!#REF!),0)","v":0},{"$f":"IFERROR($E288*SUMIF('Daily Log'!#REF!,$B288,'Daily Log'!#REF!),0)","v":0},{"$f":"IFERROR($E288*SUMIF('Daily Log'!#REF!,$B288,'Daily Log'!#REF!),0)","v":0},{"$f":"IFERROR($E288*SUMIF('Daily Log'!#REF!,$B288,'Daily Log'!#REF!),0)","v":0},{"$f":"IFERROR($E288*SUMIF('Daily Log'!#REF!,$B288,'Daily Log'!#REF!),0)","v":0},{"$f":"IFERROR($E288*SUMIF('Daily Log'!#REF!,$B288,'Daily Log'!#REF!),0)","v":0}]
[null,"AB02 H : MEMBER",null,null,1,20,{"$f":"IFERROR($E289*SUMIF('Daily Log'!$B$18:$B$1017,$B289,'Daily Log'!$C$18:$C$1017),0)","v":0},{"$f":"IFERROR($E289*SUMIF('Daily Log'!$E$18:$E$1017,$B289,'Daily Log'!$F$18:$F$1017),0)","v":0},{"$f":"IFERROR($E289*SUMIF('Daily Log'!$H$18:$H$1017,$B289,'Daily Log'!$I$18:$I$1017),0)","v":0},{"$f":"IFERROR($E289*SUMIF('Daily Log'!$K$18:$K$1017,$B289,'Daily Log'!$L$18:$L$1017),0)","v":0},{"$f":"IFERROR($E289*SUMIF('Daily Log'!$N$18:$N$1017,$B289,'Daily Log'!$O$18:$O$1017),0)","v":0},{"$f":"IFERROR($E289*SUMIF('Daily Log'!$Q$18:$Q$1017,$B289,'Daily Log'!$R$18:$R$1017),0)","v":3},{"$f":"IFERROR($E289*SUMIF('Daily Log'!$T$18:$T$1017,$B289,'Daily Log'!$U$18:$U$1017),0)","v":0},{"$f":"IFERROR($E289*SUMIF('Daily Log'!$W$18:$W$1017,$B289,'Daily Log'!$X$18:$X$1017),0)","v":8},{"$f":"IFERROR($E289*SUMIF('Daily Log'!$Z$18:$Z$1017,$B289,'Daily Log'!$AA$18:$AA$1017),0)","v":0},{"$f":"IFERROR($E289*SUMIF('Daily Log'!$AC$18:$AC$1017,$B289,'Daily Log'!$AD$18:$AD$1017),0)","v":0},{"$f":"IFERROR($E289*SUMIF('Daily Log'!$AF$18:$AF$1017,$B289,'Daily Log'!$AG$18:$AG$1017),0)","v":5},{"$f":"IFERROR($E289*SUMIF('Daily Log'!$AI$18:$AI$1017,$B289,'Daily Log'!$AJ$18:$AJ$1017),0)","v":4},{"$f":"IFERROR($E289*SUMIF('Daily Log'!#REF!,$B289,'Daily Log'!#REF!),0)","v":0},{"$f":"IFERROR($E289*SUMIF('Daily Log'!#REF!,$B289,'Daily Log'!#REF!),0)","v":0},{"$f":"IFERROR($E289*SUMIF('Daily Log'!#REF!,$B289,'Daily Log'!#REF!),0)","v":0},{"$f":"IFERROR($E289*SUMIF('Daily Log'!#REF!,$B289,'Daily Log'!#REF!),0)","v":0},{"$f":"IFERROR($E289*SUMIF('Daily Log'!#REF!,$B289,'Daily Log'!#REF!),0)","v":0},{"$f":"IFERROR($E289*SUMIF('Daily Log'!#REF!,$B289,'Daily Log'!#REF!),0)","v":0},{"$f":"IFERROR($E289*SUMIF('Daily Log'!#REF!,$B289,'Daily Log'!#REF!),0)","v":0},{"$f":"IFERROR($E289*SUMIF('Daily Log'!#REF!,$B289,'Daily Log'!#REF!),0)","v":0},{"$f":"IFERROR($E289*SUMIF('Daily Log'!#REF!,$B289,'Daily Log'!#REF!),0)","v":0},{"$f":"IFERROR($E289*SUMIF('Daily Log'!#REF!,$B289,'Daily Log'!#REF!),0)","v":0},{"$f":"IFERROR($E289*SUMIF('Daily Log'!#REF!,$B289,'Daily Log'!#REF!),0)","v":0},{"$f":"IFERROR($E289*SUMIF('Daily Log'!#REF!,$B289,'Daily Log'!#REF!),0)","v":0},{"$f":"IFERROR($E289*SUMIF('Daily Log'!#REF!,$B289,'Daily Log'!#REF!),0)","v":0},{"$f":"IFERROR($E289*SUMIF('Daily Log'!#REF!,$B289,'Daily Log'!#REF!),0)","v":0},{"$f":"IFERROR($E289*SUMIF('Daily Log'!#REF!,$B289,'Daily Log'!#REF!),0)","v":0},{"$f":"IFERROR($E289*SUMIF('Daily Log'!#REF!,$B289,'Daily Log'!#REF!),0)","v":0},{"$f":"IFERROR($E289*SUMIF('Daily Log'!#REF!,$B289,'Daily Log'!#REF!),0)","v":0},{"$f":"IFERROR($E289*SUMIF('Daily Log'!#REF!,$B289,'Daily Log'!#REF!),0)","v":0},{"$f":"IFERROR($E289*SUMIF('Daily Log'!#REF!,$B289,'Daily Log'!#REF!),0)","v":0}]
[null,"AB03 H : MEMBER 30%",null,null,1,10,{"$f":"IFERROR($E290*SUMIF('Daily Log'!$B$18:$B$1017,$B290,'Daily Log'!$C$18:$C$1017),0)","v":0},{"$f":"IFERROR($E290*SUMIF('Daily Log'!$E$18:$E$1017,$B290,'Daily Log'!$F$18:$F$1017),0)","v":0},{"$f":"IFERROR($E290*SUMIF('Daily Log'!$H$18:$H$1017,$B290,'Daily Log'!$I$18:$I$1017),0)","v":0},{"$f":"IFERROR($E290*SUMIF('Daily Log'!$K$18:$K$1017,$B290,'Daily Log'!$L$18:$L$1017),0)","v":0},{"$f":"IFERROR($E290*SUMIF('Daily Log'!$N$18:$N$1017,$B290,'Daily Log'!$O$18:$O$1017),0)","v":0},{"$f":"IFERROR($E290*SUMIF('Daily Log'!$Q$18:$Q$1017,$B290,'Daily Log'!$R$18:$R$1017),0)","v":0},{"$f":"IFERROR($E290*SUMIF('Daily Log'!$T$18:$T$1017,$B290,'Daily Log'!$U$18:$U$1017),0)","v":10},{"$f":"IFERROR($E290*SUMIF('Daily Log'!$W$18:$W$1017,$B290,'Daily Log'!$X$18:$X$1017),0)","v":0},{"$f":"IFERROR($E290*SUMIF('Daily Log'!$Z$18:$Z$1017,$B290,'Daily Log'!$AA$18:$AA$1017),0)","v":0},{"$f":"IFERROR($E290*SUMIF('Daily Log'!$AC$18:$AC$1017,$B290,'Daily Log'!$AD$18:$AD$1017),0)","v":0},{"$f":"IFERROR($E290*SUMIF('Daily Log'!$AF$18:$AF$1017,$B290,'Daily Log'!$AG$18:$AG$1017),0)","v":0},{"$f":"IFERROR($E290*SUMIF('Daily Log'!$AI$18:$AI$1017,$B290,'Daily Log'!$AJ$18:$AJ$1017),0)","v":0},{"$f":"IFERROR($E290*SUMIF('Daily Log'!#REF!,$B290,'Daily Log'!#REF!),0)","v":0},{"$f":"IFERROR($E290*SUMIF('Daily Log'!#REF!,$B290,'Daily Log'!#REF!),0)","v":0},{"$f":"IFERROR($E290*SUMIF('Daily Log'!#REF!,$B290,'Daily Log'!#REF!),0)","v":0},{"$f":"IFERROR($E290*SUMIF('Daily Log'!#REF!,$B290,'Daily Log'!#REF!),0)","v":0},{"$f":"IFERROR($E290*SUMIF('Daily Log'!#REF!,$B290,'Daily Log'!#REF!),0)","v":0},{"$f":"IFERROR($E290*SUMIF('Daily Log'!#REF!,$B290,'Daily Log'!#REF!),0)","v":0},{"$f":"IFERROR($E290*SUMIF('Daily Log'!#REF!,$B290,'Daily Log'!#REF!),0)","v":0},{"$f":"IFERROR($E290*SUMIF('Daily Log'!#REF!,$B290,'Daily Log'!#REF!),0)","v":0},{"$f":"IFERROR($E290*SUMIF('Daily Log'!#REF!,$B290,'Daily Log'!#REF!),0)","v":0},{"$f":"IFERROR($E290*SUMIF('Daily Log'!#REF!,$B290,'Daily Log'!#REF!),0)","v":0},{"$f":"IFERROR($E290*SUMIF('Daily Log'!#REF!,$B290,'Daily Log'!#REF!),0)","v":0},{"$f":"IFERROR($E290*SUMIF('Daily Log'!#REF!,$B290,'Daily Log'!#REF!),0)","v":0},{"$f":"IFERROR($E290*SUMIF('Daily Log'!#REF!,$B290,'Daily Log'!#REF!),0)","v":0},{"$f":"IFERROR($E290*SUMIF('Daily Log'!#REF!,$B290,'Daily Log'!#REF!),0)","v":0},{"$f":"IFERROR($E290*SUMIF('Daily Log'!#REF!,$B290,'Daily Log'!#REF!),0)","v":0},{"$f":"IFERROR($E290*SUMIF('Daily Log'!#REF!,$B290,'Daily Log'!#REF!),0)","v":0},{"$f":"IFERROR($E290*SUMIF('Daily Log'!#REF!,$B290,'Daily Log'!#REF!),0)","v":0},{"$f":"IFERROR($E290*SUMIF('Daily Log'!#REF!,$B290,'Daily Log'!#REF!),0)","v":0},{"$f":"IFERROR($E290*SUMIF('Daily Log'!#REF!,$B290,'Daily Log'!#REF!),0)","v":0}]
[null,"AB05 H : STUDENT",null,null,1,106,{"$f":"IFERROR($E291*SUMIF('Daily Log'!$B$18:$B$1017,$B291,'Daily Log'!$C$18:$C$1017),0)","v":0},{"$f":"IFERROR($E291*SUMIF('Daily Log'!$E$18:$E$1017,$B291,'Daily Log'!$F$18:$F$1017),0)","v":0},{"$f":"IFERROR($E291*SUMIF('Daily Log'!$H$18:$H$1017,$B291,'Daily Log'!$I$18:$I$1017),0)","v":0},{"$f":"IFERROR($E291*SUMIF('Daily Log'!$K$18:$K$1017,$B291,'Daily Log'!$L$18:$L$1017),0)","v":0},{"$f":"IFERROR($E291*SUMIF('Daily Log'!$N$18:$N$1017,$B291,'Daily Log'!$O$18:$O$1017),0)","v":0},{"$f":"IFERROR($E291*SUMIF('Daily Log'!$Q$18:$Q$1017,$B291,'Daily Log'!$R$18:$R$1017),0)","v":20},{"$f":"IFERROR($E291*SUMIF('Daily Log'!$T$18:$T$1017,$B291,'Daily Log'!$U$18:$U$1017),0)","v":21},{"$f":"IFERROR($E291*SUMIF('Daily Log'!$W$18:$W$1017,$B291,'Daily Log'!$X$18:$X$1017),0)","v":19},{"$f":"IFERROR($E291*SUMIF('Daily Log'!$Z$18:$Z$1017,$B291,'Daily Log'!$AA$18:$AA$1017),0)","v":13},{"$f":"IFERROR($E291*SUMIF('Daily Log'!$AC$18:$AC$1017,$B291,'Daily Log'!$AD$18:$AD$1017),0)","v":33},{"$f":"IFERROR($E291*SUMIF('Daily Log'!$AF$18:$AF$1017,$B291,'Daily Log'!$AG$18:$AG$1017),0)","v":0},{"$f":"IFERROR($E291*SUMIF('Daily Log'!$AI$18:$AI$1017,$B291,'Daily Log'!$AJ$18:$AJ$1017),0)","v":0},{"$f":"IFERROR($E291*SUMIF('Daily Log'!#REF!,$B291,'Daily Log'!#REF!),0)","v":0},{"$f":"IFERROR($E291*SUMIF('Daily Log'!#REF!,$B291,'Daily Log'!#REF!),0)","v":0},{"$f":"IFERROR($E291*SUMIF('Daily Log'!#REF!,$B291,'Daily Log'!#REF!),0)","v":0},{"$f":"IFERROR($E291*SUMIF('Daily Log'!#REF!,$B291,'Daily Log'!#REF!),0)","v":0},{"$f":"IFERROR($E291*SUMIF('Daily Log'!#REF!,$B291,'Daily Log'!#REF!),0)","v":0},{"$f":"IFERROR($E291*SUMIF('Daily Log'!#REF!,$B291,'Daily Log'!#REF!),0)","v":0},{"$f":"IFERROR($E291*SUMIF('Daily Log'!#REF!,$B291,'Daily Log'!#REF!),0)","v":0},{"$f":"IFERROR($E291*SUMIF('Daily Log'!#REF!,$B291,'Daily Log'!#REF!),0)","v":0},{"$f":"IFERROR($E291*SUMIF('Daily Log'!#REF!,$B291,'Daily Log'!#REF!),0)","v":0},{"$f":"IFERROR($E291*SUMIF('Daily Log'!#REF!,$B291,'Daily Log'!#REF!),0)","v":0},{"$f":"IFERROR($E291*SUMIF('Daily Log'!#REF!,$B291,'Daily Log'!#REF!),0)","v":0},{"$f":"IFERROR($E291*SUMIF('Daily Log'!#REF!,$B291,'Daily Log'!#REF!),0)","v":0},{"$f":"IFERROR($E291*SUMIF('Daily Log'!#REF!,$B291,'Daily Log'!#REF!),0)","v":0},{"$f":"IFERROR($E291*SUMIF('Daily Log'!#REF!,$B291,'Daily Log'!#REF!),0)","v":0},{"$f":"IFERROR($E291*SUMIF('Daily Log'!#REF!,$B291,'Daily Log'!#REF!),0)","v":0},{"$f":"IFERROR($E291*SUMIF('Daily Log'!#REF!,$B291,'Daily Log'!#REF!),0)","v":0},{"$f":"IFERROR($E291*SUMIF('Daily Log'!#REF!,$B291,'Daily Log'!#REF!),0)","v":0},{"$f":"IFERROR($E291*SUMIF('Daily Log'!#REF!,$B291,'Daily Log'!#REF!),0)","v":0},{"$f":"IFERROR($E291*SUMIF('Daily Log'!#REF!,$B291,'Daily Log'!#REF!),0)","v":0}]
[null,"AB06 H : SENIOR",null,null,1,0,{"$f":"IFERROR($E292*SUMIF('Daily Log'!$B$18:$B$1017,$B292,'Daily Log'!$C$18:$C$1017),0)","v":0},{"$f":"IFERROR($E292*SUMIF('Daily Log'!$E$18:$E$1017,$B292,'Daily Log'!$F$18:$F$1017),0)","v":0},{"$f":"IFERROR($E292*SUMIF('Daily Log'!$H$18:$H$1017,$B292,'Daily Log'!$I$18:$I$1017),0)","v":0},{"$f":"IFERROR($E292*SUMIF('Daily Log'!$K$18:$K$1017,$B292,'Daily Log'!$L$18:$L$1017),0)","v":0},{"$f":"IFERROR($E292*SUMIF('Daily Log'!$N$18:$N$1017,$B292,'Daily Log'!$O$18:$O$1017),0)","v":0},{"$f":"IFERROR($E292*SUMIF('Daily Log'!$Q$18:$Q$1017,$B292,'Daily Log'!$R$18:$R$1017),0)","v":0},{"$f":"IFERROR($E292*SUMIF('Daily Log'!$T$18:$T$1017,$B292,'Daily Log'!$U$18:$U$1017),0)","v":0},{"$f":"IFERROR($E292*SUMIF('Daily Log'!$W$18:$W$1017,$B292,'Daily Log'!$X$18:$X$1017),0)","v":0},{"$f":"IFERROR($E292*SUMIF('Daily Log'!$Z$18:$Z$1017,$B292,'Daily Log'!$AA$18:$AA$1017),0)","v":0},{"$f":"IFERROR($E292*SUMIF('Daily Log'!$AC$18:$AC$1017,$B292,'Daily Log'!$AD$18:$AD$1017),0)","v":0},{"$f":"IFERROR($E292*SUMIF('Daily Log'!$AF$18:$AF$1017,$B292,'Daily Log'!$AG$18:$AG$1017),0)","v":0},{"$f":"IFERROR($E292*SUMIF('Daily Log'!$AI$18:$AI$1017,$B292,'Daily Log'!$AJ$18:$AJ$1017),0)","v":0},{"$f":"IFERROR($E292*SUMIF('Daily Log'!#REF!,$B292,'Daily Log'!#REF!),0)","v":0},{"$f":"IFERROR($E292*SUMIF('Daily Log'!#REF!,$B292,'Daily Log'!#REF!),0)","v":0},{"$f":"IFERROR($E292*SUMIF('Daily Log'!#REF!,$B292,'Daily Log'!#REF!),0)","v":0},{"$f":"IFERROR($E292*SUMIF('Daily Log'!#REF!,$B292,'Daily Log'!#REF!),0)","v":0},{"$f":"IFERROR($E292*SUMIF('Daily Log'!#REF!,$B292,'Daily Log'!#REF!),0)","v":0},{"$f":"IFERROR($E292*SUMIF('Daily Log'!#REF!,$B292,'Daily Log'!#REF!),0)","v":0},{"$f":"IFERROR($E292*SUMIF('Daily Log'!#REF!,$B292,'Daily Log'!#REF!),0)","v":0},{"$f":"IFERROR($E292*SUMIF('Daily Log'!#REF!,$B292,'Daily Log'!#REF!),0)","v":0},{"$f":"IFERROR($E292*SUMIF('Daily Log'!#REF!,$B292,'Daily Log'!#REF!),0)","v":0},{"$f":"IFERROR($E292*SUMIF('Daily Log'!#REF!,$B292,'Daily Log'!#REF!),0)","v":0},{"$f":"IFERROR($E292*SUMIF('Daily Log'!#REF!,$B292,'Daily Log'!#REF!),0)","v":0},{"$f":"IFERROR($E292*SUMIF('Daily Log'!#REF!,$B292,'Daily Log'!#REF!),0)","v":0},{"$f":"IFERROR($E292*SUMIF('Daily Log'!#REF!,$B292,'Daily Log'!#REF!),0)","v":0},{"$f":"IFERROR($E292*SUMIF('Daily Log'!#REF!,$B292,'Daily Log'!#REF!),0)","v":0},{"$f":"IFERROR($E292*SUMIF('Daily Log'!#REF!,$B292,'Daily Log'!#REF!),0)","v":0},{"$f":"IFERROR($E292*SUMIF('Daily Log'!#REF!,$B292,'Daily Log'!#REF!),0)","v":0},{"$f":"IFERROR($E292*SUMIF('Daily Log'!#REF!,$B292,'Daily Log'!#REF!),0)","v":0},{"$f":"IFERROR($E292*SUMIF('Daily Log'!#REF!,$B292,'Daily Log'!#REF!),0)","v":0},{"$f":"IFERROR($E292*SUMIF('Daily Log'!#REF!,$B292,'Daily Log'!#REF!),0)","v":0}]
[null,"AB07 H : CHILDREN",null,null,1,16,{"$f":"IFERROR($E293*SUMIF('Daily Log'!$B$18:$B$1017,$B293,'Daily Log'!$C$18:$C$1017),0)","v":0},{"$f":"IFERROR($E293*SUMIF('Daily Log'!$E$18:$E$1017,$B293,'Daily Log'!$F$18:$F$1017),0)","v":0},{"$f":"IFERROR($E293*SUMIF('Daily Log'!$H$18:$H$1017,$B293,'Daily Log'!$I$18:$I$1017),0)","v":0},{"$f":"IFERROR($E293*SUMIF('Daily Log'!$K$18:$K$1017,$B293,'Daily Log'!$L$18:$L$1017),0)","v":0},{"$f":"IFERROR($E293*SUMIF('Daily Log'!$N$18:$N$1017,$B293,'Daily Log'!$O$18:$O$1017),0)","v":0},{"$f":"IFERROR($E293*SUMIF('Daily Log'!$Q$18:$Q$1017,$B293,'Daily Log'!$R$18:$R$1017),0)","v":2},{"$f":"IFERROR($E293*SUMIF('Daily Log'!$T$18:$T$1017,$B293,'Daily Log'!$U$18:$U$1017),0)","v":2},{"$f":"IFERROR($E293*SUMIF('Daily Log'!$W$18:$W$1017,$B293,'Daily Log'!$X$18:$X$1017),0)","v":0},{"$f":"IFERROR($E293*SUMIF('Daily Log'!$Z$18:$Z$1017,$B293,'Daily Log'!$AA$18:$AA$1017),0)","v":0},{"$f":"IFERROR($E293*SUMIF('Daily Log'!$AC$18:$AC$1017,$B293,'Daily Log'!$AD$18:$AD$1017),0)","v":0},{"$f":"IFERROR($E293*SUMIF('Daily Log'!$AF$18:$AF$1017,$B293,'Daily Log'!$AG$18:$AG$1017),0)","v":2},{"$f":"IFERROR($E293*SUMIF('Daily Log'!$AI$18:$AI$1017,$B293,'Daily Log'!$AJ$18:$AJ$1017),0)","v":10},{"$f":"IFERROR($E293*SUMIF('Daily Log'!#REF!,$B293,'Daily Log'!#REF!),0)","v":0},{"$f":"IFERROR($E293*SUMIF('Daily Log'!#REF!,$B293,'Daily Log'!#REF!),0)","v":0},{"$f":"IFERROR($E293*SUMIF('Daily Log'!#REF!,$B293,'Daily Log'!#REF!),0)","v":0},{"$f":"IFERROR($E293*SUMIF('Daily Log'!#REF!,$B293,'Daily Log'!#REF!),0)","v":0},{"$f":"IFERROR($E293*SUMIF('Daily Log'!#REF!,$B293,'Daily Log'!#REF!),0)","v":0},{"$f":"IFERROR($E293*SUMIF('Daily Log'!#REF!,$B293,'Daily Log'!#REF!),0)","v":0},{"$f":"IFERROR($E293*SUMIF('Daily Log'!#REF!,$B293,'Daily Log'!#REF!),0)","v":0},{"$f":"IFERROR($E293*SUMIF('Daily Log'!#REF!,$B293,'Daily Log'!#REF!),0)","v":0},{"$f":"IFERROR($E293*SUMIF('Daily Log'!#REF!,$B293,'Daily Log'!#REF!),0)","v":0},{"$f":"IFERROR($E293*SUMIF('Daily Log'!#REF!,$B293,'Daily Log'!#REF!),0)","v":0},{"$f":"IFERROR($E293*SUMIF('Daily Log'!#REF!,$B293,'Daily Log'!#REF!),0)","v":0},{"$f":"IFERROR($E293*SUMIF('Daily Log'!#REF!,$B293,'Daily Log'!#REF!),0)","v":0},{"$f":"IFERROR($E293*SUMIF('Daily Log'!#REF!,$B293,'Daily Log'!#REF!),0)","v":0},{"$f":"IFERROR($E293*SUMIF('Daily Log'!#REF!,$B293,'Daily Log'!#REF!),0)","v":0},{"$f":"IFERROR($E293*SUMIF('Daily Log'!#REF!,$B293,'Daily Log'!#REF!),0)","v":0},{"$f":"IFERROR($E293*SUMIF('Daily Log'!#REF!,$B293,'Daily Log'!#REF!),0)","v":0},{"$f":"IFERROR($E293*SUMIF('Daily Log'!#REF!,$B293,'Daily Log'!#REF!),0)","v":0},{"$f":"IFERROR($E293*SUMIF('Daily Log'!#REF!,$B293,'Daily Log'!#REF!),0)","v":0},{"$f":"IFERROR($E293*SUMIF('Daily Log'!#REF!,$B293,'Daily Log'!#REF!),0)","v":0}]
[null,"AB08 H : MEMBER B'DAY",null,null,1,2,{"$f":"IFERROR($E294*SUMIF('Daily Log'!$B$18:$B$1017,$B294,'Daily Log'!$C$18:$C$1017),0)","v":0},{"$f":"IFERROR($E294*SUMIF('Daily Log'!$E$18:$E$1017,$B294,'Daily Log'!$F$18:$F$1017),0)","v":0},{"$f":"IFERROR($E294*SUMIF('Daily Log'!$H$18:$H$1017,$B294,'Daily Log'!$I$18:$I$1017),0)","v":0},{"$f":"IFERROR($E294*SUMIF('Daily Log'!$K$18:$K$1017,$B294,'Daily Log'!$L$18:$L$1017),0)","v":0},{"$f":"IFERROR($E294*SUMIF('Daily Log'!$N$18:$N$1017,$B294,'Daily Log'!$O$18:$O$1017),0)","v":0},{"$f":"IFERROR($E294*SUMIF('Daily Log'!$Q$18:$Q$1017,$B294,'Daily Log'!$R$18:$R$1017),0)","v":1},{"$f":"IFERROR($E294*SUMIF('Daily Log'!$T$18:$T$1017,$B294,'Daily Log'!$U$18:$U$1017),0)","v":0},{"$f":"IFERROR($E294*SUMIF('Daily Log'!$W$18:$W$1017,$B294,'Daily Log'!$X$18:$X$1017),0)","v":0},{"$f":"IFERROR($E294*SUMIF('Daily Log'!$Z$18:$Z$1017,$B294,'Daily Log'!$AA$18:$AA$1017),0)","v":0},{"$f":"IFERROR($E294*SUMIF('Daily Log'!$AC$18:$AC$1017,$B294,'Daily Log'!$AD$18:$AD$1017),0)","v":0},{"$f":"IFERROR($E294*SUMIF('Daily Log'!$AF$18:$AF$1017,$B294,'Daily Log'!$AG$18:$AG$1017),0)","v":1},{"$f":"IFERROR($E294*SUMIF('Daily Log'!$AI$18:$AI$1017,$B294,'Daily Log'!$AJ$18:$AJ$1017),0)","v":0},{"$f":"IFERROR($E294*SUMIF('Daily Log'!#REF!,$B294,'Daily Log'!#REF!),0)","v":0},{"$f":"IFERROR($E294*SUMIF('Daily Log'!#REF!,$B294,'Daily Log'!#REF!),0)","v":0},{"$f":"IFERROR($E294*SUMIF('Daily Log'!#REF!,$B294,'Daily Log'!#REF!),0)","v":0},{"$f":"IFERROR($E294*SUMIF('Daily Log'!#REF!,$B294,'Daily Log'!#REF!),0)","v":0},{"$f":"IFERROR($E294*SUMIF('Daily Log'!#REF!,$B294,'Daily Log'!#REF!),0)","v":0},{"$f":"IFERROR($E294*SUMIF('Daily Log'!#REF!,$B294,'Daily Log'!#REF!),0)","v":0},{"$f":"IFERROR($E294*SUMIF('Daily Log'!#REF!,$B294,'Daily Log'!#REF!),0)","v":0},{"$f":"IFERROR($E294*SUMIF('Daily Log'!#REF!,$B294,'Daily Log'!#REF!),0)","v":0},{"$f":"IFERROR($E294*SUMIF('Daily Log'!#REF!,$B294,'Daily Log'!#REF!),0)","v":0},{"$f":"IFERROR($E294*SUMIF('Daily Log'!#REF!,$B294,'Daily Log'!#REF!),0)","v":0},{"$f":"IFERROR($E294*SUMIF('Daily Log'!#REF!,$B294,'Daily Log'!#REF!),0)","v":0},{"$f":"IFERROR($E294*SUMIF('Daily Log'!#REF!,$B294,'Daily Log'!#REF!),0)","v":0},{"$f":"IFERROR($E294*SUMIF('Daily Log'!#REF!,$B294,'Daily Log'!#REF!),0)","v":0},{"$f":"IFERROR($E294*SUMIF('Daily Log'!#REF!,$B294,'Daily Log'!#REF!),0)","v":0},{"$f":"IFERROR($E294*SUMIF('Daily Log'!#REF!,$B294,'Daily Log'!#REF!),0)","v":0},{"$f":"IFERROR($E294*SUMIF('Daily Log'!#REF!,$B294,'Daily Log'!#REF!),0)","v":0},{"$f":"IFERROR($E294*SUMIF('Daily Log'!#REF!,$B294,'Daily Log'!#REF!),0)","v":0},{"$f":"IFERROR($E294*SUMIF('Daily Log'!#REF!,$B294,'Daily Log'!#REF!),0)","v":0},{"$f":"IFERROR($E294*SUMIF('Daily Log'!#REF!,$B294,'Daily Log'!#REF!),0)","v":0}]
[null,"AB10 H : FOC HEAD",null,null,1,2,{"$f":"IFERROR($E295*SUMIF('Daily Log'!$B$18:$B$1017,$B295,'Daily Log'!$C$18:$C$1017),0)","v":0},{"$f":"IFERROR($E295*SUMIF('Daily Log'!$E$18:$E$1017,$B295,'Daily Log'!$F$18:$F$1017),0)","v":0},{"$f":"IFERROR($E295*SUMIF('Daily Log'!$H$18:$H$1017,$B295,'Daily Log'!$I$18:$I$1017),0)","v":0},{"$f":"IFERROR($E295*SUMIF('Daily Log'!$K$18:$K$1017,$B295,'Daily Log'!$L$18:$L$1017),0)","v":0},{"$f":"IFERROR($E295*SUMIF('Daily Log'!$N$18:$N$1017,$B295,'Daily Log'!$O$18:$O$1017),0)","v":0},{"$f":"IFERROR($E295*SUMIF('Daily Log'!$Q$18:$Q$1017,$B295,'Daily Log'!$R$18:$R$1017),0)","v":0},{"$f":"IFERROR($E295*SUMIF('Daily Log'!$T$18:$T$1017,$B295,'Daily Log'!$U$18:$U$1017),0)","v":0},{"$f":"IFERROR($E295*SUMIF('Daily Log'!$W$18:$W$1017,$B295,'Daily Log'!$X$18:$X$1017),0)","v":0},{"$f":"IFERROR($E295*SUMIF('Daily Log'!$Z$18:$Z$1017,$B295,'Daily Log'!$AA$18:$AA$1017),0)","v":0},{"$f":"IFERROR($E295*SUMIF('Daily Log'!$AC$18:$AC$1017,$B295,'Daily Log'!$AD$18:$AD$1017),0)","v":0},{"$f":"IFERROR($E295*SUMIF('Daily Log'!$AF$18:$AF$1017,$B295,'Daily Log'!$AG$18:$AG$1017),0)","v":0},{"$f":"IFERROR($E295*SUMIF('Daily Log'!$AI$18:$AI$1017,$B295,'Daily Log'!$AJ$18:$AJ$1017),0)","v":2},{"$f":"IFERROR($E295*SUMIF('Daily Log'!#REF!,$B295,'Daily Log'!#REF!),0)","v":0},{"$f":"IFERROR($E295*SUMIF('Daily Log'!#REF!,$B295,'Daily Log'!#REF!),0)","v":0},{"$f":"IFERROR($E295*SUMIF('Daily Log'!#REF!,$B295,'Daily Log'!#REF!),0)","v":0},{"$f":"IFERROR($E295*SUMIF('Daily Log'!#REF!,$B295,'Daily Log'!#REF!),0)","v":0},{"$f":"IFERROR($E295*SUMIF('Daily Log'!#REF!,$B295,'Daily Log'!#REF!),0)","v":0},{"$f":"IFERROR($E295*SUMIF('Daily Log'!#REF!,$B295,'Daily Log'!#REF!),0)","v":0},{"$f":"IFERROR($E295*SUMIF('Daily Log'!#REF!,$B295,'Daily Log'!#REF!),0)","v":0},{"$f":"IFERROR($E295*SUMIF('Daily Log'!#REF!,$B295,'Daily Log'!#REF!),0)","v":0},{"$f":"IFERROR($E295*SUMIF('Daily Log'!#REF!,$B295,'Daily Log'!#REF!),0)","v":0},{"$f":"IFERROR($E295*SUMIF('Daily Log'!#REF!,$B295,'Daily Log'!#REF!),0)","v":0},{"$f":"IFERROR($E295*SUMIF('Daily Log'!#REF!,$B295,'Daily Log'!#REF!),0)","v":0},{"$f":"IFERROR($E295*SUMIF('Daily Log'!#REF!,$B295,'Daily Log'!#REF!),0)","v":0},{"$f":"IFERROR($E295*SUMIF('Daily Log'!#REF!,$B295,'Daily Log'!#REF!),0)","v":0},{"$f":"IFERROR($E295*SUMIF('Daily Log'!#REF!,$B295,'Daily Log'!#REF!),0)","v":0},{"$f":"IFERROR($E295*SUMIF('Daily Log'!#REF!,$B295,'Daily Log'!#REF!),0)","v":0},{"$f":"IFERROR($E295*SUMIF('Daily Log'!#REF!,$B295,'Daily Log'!#REF!),0)","v":0},{"$f":"IFERROR($E295*SUMIF('Daily Log'!#REF!,$B295,'Daily Log'!#REF!),0)","v":0},{"$f":"IFERROR($E295*SUMIF('Daily Log'!#REF!,$B295,'Daily Log'!#REF!),0)","v":0},{"$f":"IFERROR($E295*SUMIF('Daily Log'!#REF!,$B295,'Daily Log'!#REF!),0)","v":0}]
[null,"AB13 H : FREEHEAD (R)",null,null,1,2,{"$f":"IFERROR($E296*SUMIF('Daily Log'!$B$18:$B$1017,$B296,'Daily Log'!$C$18:$C$1017),0)","v":0},{"$f":"IFERROR($E296*SUMIF('Daily Log'!$E$18:$E$1017,$B296,'Daily Log'!$F$18:$F$1017),0)","v":0},{"$f":"IFERROR($E296*SUMIF('Daily Log'!$H$18:$H$1017,$B296,'Daily Log'!$I$18:$I$1017),0)","v":0},{"$f":"IFERROR($E296*SUMIF('Daily Log'!$K$18:$K$1017,$B296,'Daily Log'!$L$18:$L$1017),0)","v":0},{"$f":"IFERROR($E296*SUMIF('Daily Log'!$N$18:$N$1017,$B296,'Daily Log'!$O$18:$O$1017),0)","v":0},{"$f":"IFERROR($E296*SUMIF('Daily Log'!$Q$18:$Q$1017,$B296,'Daily Log'!$R$18:$R$1017),0)","v":0},{"$f":"IFERROR($E296*SUMIF('Daily Log'!$T$18:$T$1017,$B296,'Daily Log'!$U$18:$U$1017),0)","v":0},{"$f":"IFERROR($E296*SUMIF('Daily Log'!$W$18:$W$1017,$B296,'Daily Log'!$X$18:$X$1017),0)","v":0},{"$f":"IFERROR($E296*SUMIF('Daily Log'!$Z$18:$Z$1017,$B296,'Daily Log'!$AA$18:$AA$1017),0)","v":0},{"$f":"IFERROR($E296*SUMIF('Daily Log'!$AC$18:$AC$1017,$B296,'Daily Log'!$AD$18:$AD$1017),0)","v":0},{"$f":"IFERROR($E296*SUMIF('Daily Log'!$AF$18:$AF$1017,$B296,'Daily Log'!$AG$18:$AG$1017),0)","v":0},{"$f":"IFERROR($E296*SUMIF('Daily Log'!$AI$18:$AI$1017,$B296,'Daily Log'!$AJ$18:$AJ$1017),0)","v":2},{"$f":"IFERROR($E296*SUMIF('Daily Log'!#REF!,$B296,'Daily Log'!#REF!),0)","v":0},{"$f":"IFERROR($E296*SUMIF('Daily Log'!#REF!,$B296,'Daily Log'!#REF!),0)","v":0},{"$f":"IFERROR($E296*SUMIF('Daily Log'!#REF!,$B296,'Daily Log'!#REF!),0)","v":0},{"$f":"IFERROR($E296*SUMIF('Daily Log'!#REF!,$B296,'Daily Log'!#REF!),0)","v":0},{"$f":"IFERROR($E296*SUMIF('Daily Log'!#REF!,$B296,'Daily Log'!#REF!),0)","v":0},{"$f":"IFERROR($E296*SUMIF('Daily Log'!#REF!,$B296,'Daily Log'!#REF!),0)","v":0},{"$f":"IFERROR($E296*SUMIF('Daily Log'!#REF!,$B296,'Daily Log'!#REF!),0)","v":0},{"$f":"IFERROR($E296*SUMIF('Daily Log'!#REF!,$B296,'Daily Log'!#REF!),0)","v":0},{"$f":"IFERROR($E296*SUMIF('Daily Log'!#REF!,$B296,'Daily Log'!#REF!),0)","v":0},{"$f":"IFERROR($E296*SUMIF('Daily Log'!#REF!,$B296,'Daily Log'!#REF!),0)","v":0},{"$f":"IFERROR($E296*SUMIF('Daily Log'!#REF!,$B296,'Daily Log'!#REF!),0)","v":0},{"$f":"IFERROR($E296*SUMIF('Daily Log'!#REF!,$B296,'Daily Log'!#REF!),0)","v":0},{"$f":"IFERROR($E296*SUMIF('Daily Log'!#REF!,$B296,'Daily Log'!#REF!),0)","v":0},{"$f":"IFERROR($E296*SUMIF('Daily Log'!#REF!,$B296,'Daily Log'!#REF!),0)","v":0},{"$f":"IFERROR($E296*SUMIF('Daily Log'!#REF!,$B296,'Daily Log'!#REF!),0)","v":0},{"$f":"IFERROR($E296*SUMIF('Daily Log'!#REF!,$B296,'Daily Log'!#REF!),0)","v":0},{"$f":"IFERROR($E296*SUMIF('Daily Log'!#REF!,$B296,'Daily Log'!#REF!),0)","v":0},{"$f":"IFERROR($E296*SUMIF('Daily Log'!#REF!,$B296,'Daily Log'!#REF!),0)","v":0},{"$f":"IFERROR($E296*SUMIF('Daily Log'!#REF!,$B296,'Daily Log'!#REF!),0)","v":0}]
[null,"AB17 H : XTD S ROOM",null,null,1,1,{"$f":"IFERROR($E297*SUMIF('Daily Log'!$B$18:$B$1017,$B297,'Daily Log'!$C$18:$C$1017),0)","v":0},{"$f":"IFERROR($E297*SUMIF('Daily Log'!$E$18:$E$1017,$B297,'Daily Log'!$F$18:$F$1017),0)","v":0},{"$f":"IFERROR($E297*SUMIF('Daily Log'!$H$18:$H$1017,$B297,'Daily Log'!$I$18:$I$1017),0)","v":0},{"$f":"IFERROR($E297*SUMIF('Daily Log'!$K$18:$K$1017,$B297,'Daily Log'!$L$18:$L$1017),0)","v":0},{"$f":"IFERROR($E297*SUMIF('Daily Log'!$N$18:$N$1017,$B297,'Daily Log'!$O$18:$O$1017),0)","v":0},{"$f":"IFERROR($E297*SUMIF('Daily Log'!$Q$18:$Q$1017,$B297,'Daily Log'!$R$18:$R$1017),0)","v":1},{"$f":"IFERROR($E297*SUMIF('Daily Log'!$T$18:$T$1017,$B297,'Daily Log'!$U$18:$U$1017),0)","v":0},{"$f":"IFERROR($E297*SUMIF('Daily Log'!$W$18:$W$1017,$B297,'Daily Log'!$X$18:$X$1017),0)","v":0},{"$f":"IFERROR($E297*SUMIF('Daily Log'!$Z$18:$Z$1017,$B297,'Daily Log'!$AA$18:$AA$1017),0)","v":0},{"$f":"IFERROR($E297*SUMIF('Daily Log'!$AC$18:$AC$1017,$B297,'Daily Log'!$AD$18:$AD$1017),0)","v":0},{"$f":"IFERROR($E297*SUMIF('Daily Log'!$AF$18:$AF$1017,$B297,'Daily Log'!$AG$18:$AG$1017),0)","v":0},{"$f":"IFERROR($E297*SUMIF('Daily Log'!$AI$18:$AI$1017,$B297,'Daily Log'!$AJ$18:$AJ$1017),0)","v":0},{"$f":"IFERROR($E297*SUMIF('Daily Log'!#REF!,$B297,'Daily Log'!#REF!),0)","v":0},{"$f":"IFERROR($E297*SUMIF('Daily Log'!#REF!,$B297,'Daily Log'!#REF!),0)","v":0},{"$f":"IFERROR($E297*SUMIF('Daily Log'!#REF!,$B297,'Daily Log'!#REF!),0)","v":0},{"$f":"IFERROR($E297*SUMIF('Daily Log'!#REF!,$B297,'Daily Log'!#REF!),0)","v":0},{"$f":"IFERROR($E297*SUMIF('Daily Log'!#REF!,$B297,'Daily Log'!#REF!),0)","v":0},{"$f":"IFERROR($E297*SUMIF('Daily Log'!#REF!,$B297,'Daily Log'!#REF!),0)","v":0},{"$f":"IFERROR($E297*SUMIF('Daily Log'!#REF!,$B297,'Daily Log'!#REF!),0)","v":0},{"$f":"IFERROR($E297*SUMIF('Daily Log'!#REF!,$B297,'Daily Log'!#REF!),0)","v":0},{"$f":"IFERROR($E297*SUMIF('Daily Log'!#REF!,$B297,'Daily Log'!#REF!),0)","v":0},{"$f":"IFERROR($E297*SUMIF('Daily Log'!#REF!,$B297,'Daily Log'!#REF!),0)","v":0},{"$f":"IFERROR($E297*SUMIF('Daily Log'!#REF!,$B297,'Daily Log'!#REF!),0)","v":0},{"$f":"IFERROR($E297*SUMIF('Daily Log'!#REF!,$B297,'Daily Log'!#REF!),0)","v":0},{"$f":"IFERROR($E297*SUMIF('Daily Log'!#REF!,$B297,'Daily Log'!#REF!),0)","v":0},{"$f":"IFERROR($E297*SUMIF('Daily Log'!#REF!,$B297,'Daily Log'!#REF!),0)","v":0},{"$f":"IFERROR($E297*SUMIF('Daily Log'!#REF!,$B297,'Daily Log'!#REF!),0)","v":0},{"$f":"IFERROR($E297*SUMIF('Daily Log'!#REF!,$B297,'Daily Log'!#REF!),0)","v":0},{"$f":"IFERROR($E297*SUMIF('Daily Log'!#REF!,$B297,'Daily Log'!#REF!),0)","v":0},{"$f":"IFERROR($E297*SUMIF('Daily Log'!#REF!,$B297,'Daily Log'!#REF!),0)","v":0},{"$f":"IFERROR($E297*SUMIF('Daily Log'!#REF!,$B297,'Daily Log'!#REF!),0)","v":0}]
[null,"AB18 H : XTD M ROOM",null,null,1,0,{"$f":"IFERROR($E298*SUMIF('Daily Log'!$B$18:$B$1017,$B298,'Daily Log'!$C$18:$C$1017),0)","v":0},{"$f":"IFERROR($E298*SUMIF('Daily Log'!$E$18:$E$1017,$B298,'Daily Log'!$F$18:$F$1017),0)","v":0},{"$f":"IFERROR($E298*SUMIF('Daily Log'!$H$18:$H$1017,$B298,'Daily Log'!$I$18:$I$1017),0)","v":0},{"$f":"IFERROR($E298*SUMIF('Daily Log'!$K$18:$K$1017,$B298,'Daily Log'!$L$18:$L$1017),0)","v":0},{"$f":"IFERROR($E298*SUMIF('Daily Log'!$N$18:$N$1017,$B298,'Daily Log'!$O$18:$O$1017),0)","v":0},{"$f":"IFERROR($E298*SUMIF('Daily Log'!$Q$18:$Q$1017,$B298,'Daily Log'!$R$18:$R$1017),0)","v":0},{"$f":"IFERROR($E298*SUMIF('Daily Log'!$T$18:$T$1017,$B298,'Daily Log'!$U$18:$U$1017),0)","v":0},{"$f":"IFERROR($E298*SUMIF('Daily Log'!$W$18:$W$1017,$B298,'Daily Log'!$X$18:$X$1017),0)","v":0},{"$f":"IFERROR($E298*SUMIF('Daily Log'!$Z$18:$Z$1017,$B298,'Daily Log'!$AA$18:$AA$1017),0)","v":0},{"$f":"IFERROR($E298*SUMIF('Daily Log'!$AC$18:$AC$1017,$B298,'Daily Log'!$AD$18:$AD$1017),0)","v":0},{"$f":"IFERROR($E298*SUMIF('Daily Log'!$AF$18:$AF$1017,$B298,'Daily Log'!$AG$18:$AG$1017),0)","v":0},{"$f":"IFERROR($E298*SUMIF('Daily Log'!$AI$18:$AI$1017,$B298,'Daily Log'!$AJ$18:$AJ$1017),0)","v":0},{"$f":"IFERROR($E298*SUMIF('Daily Log'!#REF!,$B298,'Daily Log'!#REF!),0)","v":0},{"$f":"IFERROR($E298*SUMIF('Daily Log'!#REF!,$B298,'Daily Log'!#REF!),0)","v":0},{"$f":"IFERROR($E298*SUMIF('Daily Log'!#REF!,$B298,'Daily Log'!#REF!),0)","v":0},{"$f":"IFERROR($E298*SUMIF('Daily Log'!#REF!,$B298,'Daily Log'!#REF!),0)","v":0},{"$f":"IFERROR($E298*SUMIF('Daily Log'!#REF!,$B298,'Daily Log'!#REF!),0)","v":0},{"$f":"IFERROR($E298*SUMIF('Daily Log'!#REF!,$B298,'Daily Log'!#REF!),0)","v":0},{"$f":"IFERROR($E298*SUMIF('Daily Log'!#REF!,$B298,'Daily Log'!#REF!),0)","v":0},{"$f":"IFERROR($E298*SUMIF('Daily Log'!#REF!,$B298,'Daily Log'!#REF!),0)","v":0},{"$f":"IFERROR($E298*SUMIF('Daily Log'!#REF!,$B298,'Daily Log'!#REF!),0)","v":0},{"$f":"IFERROR($E298*SUMIF('Daily Log'!#REF!,$B298,'Daily Log'!#REF!),0)","v":0},{"$f":"IFERROR($E298*SUMIF('Daily Log'!#REF!,$B298,'Daily Log'!#REF!),0)","v":0},{"$f":"IFERROR($E298*SUMIF('Daily Log'!#REF!,$B298,'Daily Log'!#REF!),0)","v":0},{"$f":"IFERROR($E298*SUMIF('Daily Log'!#REF!,$B298,'Daily Log'!#REF!),0)","v":0},{"$f":"IFERROR($E298*SUMIF('Daily Log'!#REF!,$B298,'Daily Log'!#REF!),0)","v":0},{"$f":"IFERROR($E298*SUMIF('Daily Log'!#REF!,$B298,'Daily Log'!#REF!),0)","v":0},{"$f":"IFERROR($E298*SUMIF('Daily Log'!#REF!,$B298,'Daily Log'!#REF!),0)","v":0},{"$f":"IFERROR($E298*SUMIF('Daily Log'!#REF!,$B298,'Daily Log'!#REF!),0)","v":0},{"$f":"IFERROR($E298*SUMIF('Daily Log'!#REF!,$B298,'Daily Log'!#REF!),0)","v":0},{"$f":"IFERROR($E298*SUMIF('Daily Log'!#REF!,$B298,'Daily Log'!#REF!),0)","v":0}]
[null,"AB50 H:Student Mem",null,null,1,10,{"$f":"IFERROR($E299*SUMIF('Daily Log'!$B$18:$B$1017,$B299,'Daily Log'!$C$18:$C$1017),0)","v":0},{"$f":"IFERROR($E299*SUMIF('Daily Log'!$E$18:$E$1017,$B299,'Daily Log'!$F$18:$F$1017),0)","v":0},{"$f":"IFERROR($E299*SUMIF('Daily Log'!$H$18:$H$1017,$B299,'Daily Log'!$I$18:$I$1017),0)","v":0},{"$f":"IFERROR($E299*SUMIF('Daily Log'!$K$18:$K$1017,$B299,'Daily Log'!$L$18:$L$1017),0)","v":0},{"$f":"IFERROR($E299*SUMIF('Daily Log'!$N$18:$N$1017,$B299,'Daily Log'!$O$18:$O$1017),0)","v":0},{"$f":"IFERROR($E299*SUMIF('Daily Log'!$Q$18:$Q$1017,$B299,'Daily Log'!$R$18:$R$1017),0)","v":0},{"$f":"IFERROR($E299*SUMIF('Daily Log'!$T$18:$T$1017,$B299,'Daily Log'!$U$18:$U$1017),0)","v":4},{"$f":"IFERROR($E299*SUMIF('Daily Log'!$W$18:$W$1017,$B299,'Daily Log'!$X$18:$X$1017),0)","v":0},{"$f":"IFERROR($E299*SUMIF('Daily Log'!$Z$18:$Z$1017,$B299,'Daily Log'!$AA$18:$AA$1017),0)","v":5},{"$f":"IFERROR($E299*SUMIF('Daily Log'!$AC$18:$AC$1017,$B299,'Daily Log'!$AD$18:$AD$1017),0)","v":1},{"$f":"IFERROR($E299*SUMIF('Daily Log'!$AF$18:$AF$1017,$B299,'Daily Log'!$AG$18:$AG$1017),0)","v":0},{"$f":"IFERROR($E299*SUMIF('Daily Log'!$AI$18:$AI$1017,$B299,'Daily Log'!$AJ$18:$AJ$1017),0)","v":0},{"$f":"IFERROR($E299*SUMIF('Daily Log'!#REF!,$B299,'Daily Log'!#REF!),0)","v":0},{"$f":"IFERROR($E299*SUMIF('Daily Log'!#REF!,$B299,'Daily Log'!#REF!),0)","v":0},{"$f":"IFERROR($E299*SUMIF('Daily Log'!#REF!,$B299,'Daily Log'!#REF!),0)","v":0},{"$f":"IFERROR($E299*SUMIF('Daily Log'!#REF!,$B299,'Daily Log'!#REF!),0)","v":0},{"$f":"IFERROR($E299*SUMIF('Daily Log'!#REF!,$B299,'Daily Log'!#REF!),0)","v":0},{"$f":"IFERROR($E299*SUMIF('Daily Log'!#REF!,$B299,'Daily Log'!#REF!),0)","v":0},{"$f":"IFERROR($E299*SUMIF('Daily Log'!#REF!,$B299,'Daily Log'!#REF!),0)","v":0},{"$f":"IFERROR($E299*SUMIF('Daily Log'!#REF!,$B299,'Daily Log'!#REF!),0)","v":0},{"$f":"IFERROR($E299*SUMIF('Daily Log'!#REF!,$B299,'Daily Log'!#REF!),0)","v":0},{"$f":"IFERROR($E299*SUMIF('Daily Log'!#REF!,$B299,'Daily Log'!#REF!),0)","v":0},{"$f":"IFERROR($E299*SUMIF('Daily Log'!#REF!,$B299,'Daily Log'!#REF!),0)","v":0},{"$f":"IFERROR($E299*SUMIF('Daily Log'!#REF!,$B299,'Daily Log'!#REF!),0)","v":0},{"$f":"IFERROR($E299*SUMIF('Daily Log'!#REF!,$B299,'Daily Log'!#REF!),0)","v":0},{"$f":"IFERROR($E299*SUMIF('Daily Log'!#REF!,$B299,'Daily Log'!#REF!),0)","v":0},{"$f":"IFERROR($E299*SUMIF('Daily Log'!#REF!,$B299,'Daily Log'!#REF!),0)","v":0},{"$f":"IFERROR($E299*SUMIF('Daily Log'!#REF!,$B299,'Daily Log'!#REF!),0)","v":0},{"$f":"IFERROR($E299*SUMIF('Daily Log'!#REF!,$B299,'Daily Log'!#REF!),0)","v":0},{"$f":"IFERROR($E299*SUMIF('Daily Log'!#REF!,$B299,'Daily Log'!#REF!),0)","v":0},{"$f":"IFERROR($E299*SUMIF('Daily Log'!#REF!,$B299,'Daily Log'!#REF!),0)","v":0}]
[null,"AC01 N : REGULAR",null,null,1,437,{"$f":"IFERROR($E300*SUMIF('Daily Log'!$B$18:$B$1017,$B300,'Daily Log'!$C$18:$C$1017),0)","v":0},{"$f":"IFERROR($E300*SUMIF('Daily Log'!$E$18:$E$1017,$B300,'Daily Log'!$F$18:$F$1017),0)","v":0},{"$f":"IFERROR($E300*SUMIF('Daily Log'!$H$18:$H$1017,$B300,'Daily Log'!$I$18:$I$1017),0)","v":0},{"$f":"IFERROR($E300*SUMIF('Daily Log'!$K$18:$K$1017,$B300,'Daily Log'!$L$18:$L$1017),0)","v":0},{"$f":"IFERROR($E300*SUMIF('Daily Log'!$N$18:$N$1017,$B300,'Daily Log'!$O$18:$O$1017),0)","v":0},{"$f":"IFERROR($E300*SUMIF('Daily Log'!$Q$18:$Q$1017,$B300,'Daily Log'!$R$18:$R$1017),0)","v":26},{"$f":"IFERROR($E300*SUMIF('Daily Log'!$T$18:$T$1017,$B300,'Daily Log'!$U$18:$U$1017),0)","v":19},{"$f":"IFERROR($E300*SUMIF('Daily Log'!$W$18:$W$1017,$B300,'Daily Log'!$X$18:$X$1017),0)","v":42},{"$f":"IFERROR($E300*SUMIF('Daily Log'!$Z$18:$Z$1017,$B300,'Daily Log'!$AA$18:$AA$1017),0)","v":50},{"$f":"IFERROR($E300*SUMIF('Daily Log'!$AC$18:$AC$1017,$B300,'Daily Log'!$AD$18:$AD$1017),0)","v":129},{"$f":"IFERROR($E300*SUMIF('Daily Log'!$AF$18:$AF$1017,$B300,'Daily Log'!$AG$18:$AG$1017),0)","v":112},{"$f":"IFERROR($E300*SUMIF('Daily Log'!$AI$18:$AI$1017,$B300,'Daily Log'!$AJ$18:$AJ$1017),0)","v":59},{"$f":"IFERROR($E300*SUMIF('Daily Log'!#REF!,$B300,'Daily Log'!#REF!),0)","v":0},{"$f":"IFERROR($E300*SUMIF('Daily Log'!#REF!,$B300,'Daily Log'!#REF!),0)","v":0},{"$f":"IFERROR($E300*SUMIF('Daily Log'!#REF!,$B300,'Daily Log'!#REF!),0)","v":0},{"$f":"IFERROR($E300*SUMIF('Daily Log'!#REF!,$B300,'Daily Log'!#REF!),0)","v":0},{"$f":"IFERROR($E300*SUMIF('Daily Log'!#REF!,$B300,'Daily Log'!#REF!),0)","v":0},{"$f":"IFERROR($E300*SUMIF('Daily Log'!#REF!,$B300,'Daily Log'!#REF!),0)","v":0},{"$f":"IFERROR($E300*SUMIF('Daily Log'!#REF!,$B300,'Daily Log'!#REF!),0)","v":0},{"$f":"IFERROR($E300*SUMIF('Daily Log'!#REF!,$B300,'Daily Log'!#REF!),0)","v":0},{"$f":"IFERROR($E300*SUMIF('Daily Log'!#REF!,$B300,'Daily Log'!#REF!),0)","v":0},{"$f":"IFERROR($E300*SUMIF('Daily Log'!#REF!,$B300,'Daily Log'!#REF!),0)","v":0},{"$f":"IFERROR($E300*SUMIF('Daily Log'!#REF!,$B300,'Daily Log'!#REF!),0)","v":0},{"$f":"IFERROR($E300*SUMIF('Daily Log'!#REF!,$B300,'Daily Log'!#REF!),0)","v":0},{"$f":"IFERROR($E300*SUMIF('Daily Log'!#REF!,$B300,'Daily Log'!#REF!),0)","v":0},{"$f":"IFERROR($E300*SUMIF('Daily Log'!#REF!,$B300,'Daily Log'!#REF!),0)","v":0},{"$f":"IFERROR($E300*SUMIF('Daily Log'!#REF!,$B300,'Daily Log'!#REF!),0)","v":0},{"$f":"IFERROR($E300*SUMIF('Daily Log'!#REF!,$B300,'Daily Log'!#REF!),0)","v":0},{"$f":"IFERROR($E300*SUMIF('Daily Log'!#REF!,$B300,'Daily Log'!#REF!),0)","v":0},{"$f":"IFERROR($E300*SUMIF('Daily Log'!#REF!,$B300,'Daily Log'!#REF!),0)","v":0},{"$f":"IFERROR($E300*SUMIF('Daily Log'!#REF!,$B300,'Daily Log'!#REF!),0)","v":0}]
[null,"AC02 N : MEMBER",null,null,1,157,{"$f":"IFERROR($E301*SUMIF('Daily Log'!$B$18:$B$1017,$B301,'Daily Log'!$C$18:$C$1017),0)","v":0},{"$f":"IFERROR($E301*SUMIF('Daily Log'!$E$18:$E$1017,$B301,'Daily Log'!$F$18:$F$1017),0)","v":0},{"$f":"IFERROR($E301*SUMIF('Daily Log'!$H$18:$H$1017,$B301,'Daily Log'!$I$18:$I$1017),0)","v":0},{"$f":"IFERROR($E301*SUMIF('Daily Log'!$K$18:$K$1017,$B301,'Daily Log'!$L$18:$L$1017),0)","v":0},{"$f":"IFERROR($E301*SUMIF('Daily Log'!$N$18:$N$1017,$B301,'Daily Log'!$O$18:$O$1017),0)","v":0},{"$f":"IFERROR($E301*SUMIF('Daily Log'!$Q$18:$Q$1017,$B301,'Daily Log'!$R$18:$R$1017),0)","v":11},{"$f":"IFERROR($E301*SUMIF('Daily Log'!$T$18:$T$1017,$B301,'Daily Log'!$U$18:$U$1017),0)","v":0},{"$f":"IFERROR($E301*SUMIF('Daily Log'!$W$18:$W$1017,$B301,'Daily Log'!$X$18:$X$1017),0)","v":12},{"$f":"IFERROR($E301*SUMIF('Daily Log'!$Z$18:$Z$1017,$B301,'Daily Log'!$AA$18:$AA$1017),0)","v":12},{"$f":"IFERROR($E301*SUMIF('Daily Log'!$AC$18:$AC$1017,$B301,'Daily Log'!$AD$18:$AD$1017),0)","v":56},{"$f":"IFERROR($E301*SUMIF('Daily Log'!$AF$18:$AF$1017,$B301,'Daily Log'!$AG$18:$AG$1017),0)","v":54},{"$f":"IFERROR($E301*SUMIF('Daily Log'!$AI$18:$AI$1017,$B301,'Daily Log'!$AJ$18:$AJ$1017),0)","v":12},{"$f":"IFERROR($E301*SUMIF('Daily Log'!#REF!,$B301,'Daily Log'!#REF!),0)","v":0},{"$f":"IFERROR($E301*SUMIF('Daily Log'!#REF!,$B301,'Daily Log'!#REF!),0)","v":0},{"$f":"IFERROR($E301*SUMIF('Daily Log'!#REF!,$B301,'Daily Log'!#REF!),0)","v":0},{"$f":"IFERROR($E301*SUMIF('Daily Log'!#REF!,$B301,'Daily Log'!#REF!),0)","v":0},{"$f":"IFERROR($E301*SUMIF('Daily Log'!#REF!,$B301,'Daily Log'!#REF!),0)","v":0},{"$f":"IFERROR($E301*SUMIF('Daily Log'!#REF!,$B301,'Daily Log'!#REF!),0)","v":0},{"$f":"IFERROR($E301*SUMIF('Daily Log'!#REF!,$B301,'Daily Log'!#REF!),0)","v":0},{"$f":"IFERROR($E301*SUMIF('Daily Log'!#REF!,$B301,'Daily Log'!#REF!),0)","v":0},{"$f":"IFERROR($E301*SUMIF('Daily Log'!#REF!,$B301,'Daily Log'!#REF!),0)","v":0},{"$f":"IFERROR($E301*SUMIF('Daily Log'!#REF!,$B301,'Daily Log'!#REF!),0)","v":0},{"$f":"IFERROR($E301*SUMIF('Daily Log'!#REF!,$B301,'Daily Log'!#REF!),0)","v":0},{"$f":"IFERROR($E301*SUMIF('Daily Log'!#REF!,$B301,'Daily Log'!#REF!),0)","v":0},{"$f":"IFERROR($E301*SUMIF('Daily Log'!#REF!,$B301,'Daily Log'!#REF!),0)","v":0},{"$f":"IFERROR($E301*SUMIF('Daily Log'!#REF!,$B301,'Daily Log'!#REF!),0)","v":0},{"$f":"IFERROR($E301*SUMIF('Daily Log'!#REF!,$B301,'Daily Log'!#REF!),0)","v":0},{"$f":"IFERROR($E301*SUMIF('Daily Log'!#REF!,$B301,'Daily Log'!#REF!),0)","v":0},{"$f":"IFERROR($E301*SUMIF('Daily Log'!#REF!,$B301,'Daily Log'!#REF!),0)","v":0},{"$f":"IFERROR($E301*SUMIF('Daily Log'!#REF!,$B301,'Daily Log'!#REF!),0)","v":0},{"$f":"IFERROR($E301*SUMIF('Daily Log'!#REF!,$B301,'Daily Log'!#REF!),0)","v":0}]
[null,"AC03 N : MEMBER 30%",null,null,1,26,{"$f":"IFERROR($E302*SUMIF('Daily Log'!$B$18:$B$1017,$B302,'Daily Log'!$C$18:$C$1017),0)","v":0},{"$f":"IFERROR($E302*SUMIF('Daily Log'!$E$18:$E$1017,$B302,'Daily Log'!$F$18:$F$1017),0)","v":0},{"$f":"IFERROR($E302*SUMIF('Daily Log'!$H$18:$H$1017,$B302,'Daily Log'!$I$18:$I$1017),0)","v":0},{"$f":"IFERROR($E302*SUMIF('Daily Log'!$K$18:$K$1017,$B302,'Daily Log'!$L$18:$L$1017),0)","v":0},{"$f":"IFERROR($E302*SUMIF('Daily Log'!$N$18:$N$1017,$B302,'Daily Log'!$O$18:$O$1017),0)","v":0},{"$f":"IFERROR($E302*SUMIF('Daily Log'!$Q$18:$Q$1017,$B302,'Daily Log'!$R$18:$R$1017),0)","v":0},{"$f":"IFERROR($E302*SUMIF('Daily Log'!$T$18:$T$1017,$B302,'Daily Log'!$U$18:$U$1017),0)","v":26},{"$f":"IFERROR($E302*SUMIF('Daily Log'!$W$18:$W$1017,$B302,'Daily Log'!$X$18:$X$1017),0)","v":0},{"$f":"IFERROR($E302*SUMIF('Daily Log'!$Z$18:$Z$1017,$B302,'Daily Log'!$AA$18:$AA$1017),0)","v":0},{"$f":"IFERROR($E302*SUMIF('Daily Log'!$AC$18:$AC$1017,$B302,'Daily Log'!$AD$18:$AD$1017),0)","v":0},{"$f":"IFERROR($E302*SUMIF('Daily Log'!$AF$18:$AF$1017,$B302,'Daily Log'!$AG$18:$AG$1017),0)","v":0},{"$f":"IFERROR($E302*SUMIF('Daily Log'!$AI$18:$AI$1017,$B302,'Daily Log'!$AJ$18:$AJ$1017),0)","v":0},{"$f":"IFERROR($E302*SUMIF('Daily Log'!#REF!,$B302,'Daily Log'!#REF!),0)","v":0},{"$f":"IFERROR($E302*SUMIF('Daily Log'!#REF!,$B302,'Daily Log'!#REF!),0)","v":0},{"$f":"IFERROR($E302*SUMIF('Daily Log'!#REF!,$B302,'Daily Log'!#REF!),0)","v":0},{"$f":"IFERROR($E302*SUMIF('Daily Log'!#REF!,$B302,'Daily Log'!#REF!),0)","v":0},{"$f":"IFERROR($E302*SUMIF('Daily Log'!#REF!,$B302,'Daily Log'!#REF!),0)","v":0},{"$f":"IFERROR($E302*SUMIF('Daily Log'!#REF!,$B302,'Daily Log'!#REF!),0)","v":0},{"$f":"IFERROR($E302*SUMIF('Daily Log'!#REF!,$B302,'Daily Log'!#REF!),0)","v":0},{"$f":"IFERROR($E302*SUMIF('Daily Log'!#REF!,$B302,'Daily Log'!#REF!),0)","v":0},{"$f":"IFERROR($E302*SUMIF('Daily Log'!#REF!,$B302,'Daily Log'!#REF!),0)","v":0},{"$f":"IFERROR($E302*SUMIF('Daily Log'!#REF!,$B302,'Daily Log'!#REF!),0)","v":0},{"$f":"IFERROR($E302*SUMIF('Daily Log'!#REF!,$B302,'Daily Log'!#REF!),0)","v":0},{"$f":"IFERROR($E302*SUMIF('Daily Log'!#REF!,$B302,'Daily Log'!#REF!),0)","v":0},{"$f":"IFERROR($E302*SUMIF('Daily Log'!#REF!,$B302,'Daily Log'!#REF!),0)","v":0},{"$f":"IFERROR($E302*SUMIF('Daily Log'!#REF!,$B302,'Daily Log'!#REF!),0)","v":0},{"$f":"IFERROR($E302*SUMIF('Daily Log'!#REF!,$B302,'Daily Log'!#REF!),0)","v":0},{"$f":"IFERROR($E302*SUMIF('Daily Log'!#REF!,$B302,'Daily Log'!#REF!),0)","v":0},{"$f":"IFERROR($E302*SUMIF('Daily Log'!#REF!,$B302,'Daily Log'!#REF!),0)","v":0},{"$f":"IFERROR($E302*SUMIF('Daily Log'!#REF!,$B302,'Daily Log'!#REF!),0)","v":0},{"$f":"IFERROR($E302*SUMIF('Daily Log'!#REF!,$B302,'Daily Log'!#REF!),0)","v":0}]
[null,"AC05 K-DINNER",null,null,1,156,{"$f":"IFERROR($E303*SUMIF('Daily Log'!$B$18:$B$1017,$B303,'Daily Log'!$C$18:$C$1017),0)","v":0},{"$f":"IFERROR($E303*SUMIF('Daily Log'!$E$18:$E$1017,$B303,'Daily Log'!$F$18:$F$1017),0)","v":0},{"$f":"IFERROR($E303*SUMIF('Daily Log'!$H$18:$H$1017,$B303,'Daily Log'!$I$18:$I$1017),0)","v":0},{"$f":"IFERROR($E303*SUMIF('Daily Log'!$K$18:$K$1017,$B303,'Daily Log'!$L$18:$L$1017),0)","v":0},{"$f":"IFERROR($E303*SUMIF('Daily Log'!$N$18:$N$1017,$B303,'Daily Log'!$O$18:$O$1017),0)","v":0},{"$f":"IFERROR($E303*SUMIF('Daily Log'!$Q$18:$Q$1017,$B303,'Daily Log'!$R$18:$R$1017),0)","v":24},{"$f":"IFERROR($E303*SUMIF('Daily Log'!$T$18:$T$1017,$B303,'Daily Log'!$U$18:$U$1017),0)","v":21},{"$f":"IFERROR($E303*SUMIF('Daily Log'!$W$18:$W$1017,$B303,'Daily Log'!$X$18:$X$1017),0)","v":7},{"$f":"IFERROR($E303*SUMIF('Daily Log'!$Z$18:$Z$1017,$B303,'Daily Log'!$AA$18:$AA$1017),0)","v":32},{"$f":"IFERROR($E303*SUMIF('Daily Log'!$AC$18:$AC$1017,$B303,'Daily Log'!$AD$18:$AD$1017),0)","v":16},{"$f":"IFERROR($E303*SUMIF('Daily Log'!$AF$18:$AF$1017,$B303,'Daily Log'!$AG$18:$AG$1017),0)","v":34},{"$f":"IFERROR($E303*SUMIF('Daily Log'!$AI$18:$AI$1017,$B303,'Daily Log'!$AJ$18:$AJ$1017),0)","v":22},{"$f":"IFERROR($E303*SUMIF('Daily Log'!#REF!,$B303,'Daily Log'!#REF!),0)","v":0},{"$f":"IFERROR($E303*SUMIF('Daily Log'!#REF!,$B303,'Daily Log'!#REF!),0)","v":0},{"$f":"IFERROR($E303*SUMIF('Daily Log'!#REF!,$B303,'Daily Log'!#REF!),0)","v":0},{"$f":"IFERROR($E303*SUMIF('Daily Log'!#REF!,$B303,'Daily Log'!#REF!),0)","v":0},{"$f":"IFERROR($E303*SUMIF('Daily Log'!#REF!,$B303,'Daily Log'!#REF!),0)","v":0},{"$f":"IFERROR($E303*SUMIF('Daily Log'!#REF!,$B303,'Daily Log'!#REF!),0)","v":0},{"$f":"IFERROR($E303*SUMIF('Daily Log'!#REF!,$B303,'Daily Log'!#REF!),0)","v":0},{"$f":"IFERROR($E303*SUMIF('Daily Log'!#REF!,$B303,'Daily Log'!#REF!),0)","v":0},{"$f":"IFERROR($E303*SUMIF('Daily Log'!#REF!,$B303,'Daily Log'!#REF!),0)","v":0},{"$f":"IFERROR($E303*SUMIF('Daily Log'!#REF!,$B303,'Daily Log'!#REF!),0)","v":0},{"$f":"IFERROR($E303*SUMIF('Daily Log'!#REF!,$B303,'Daily Log'!#REF!),0)","v":0},{"$f":"IFERROR($E303*SUMIF('Daily Log'!#REF!,$B303,'Daily Log'!#REF!),0)","v":0},{"$f":"IFERROR($E303*SUMIF('Daily Log'!#REF!,$B303,'Daily Log'!#REF!),0)","v":0},{"$f":"IFERROR($E303*SUMIF('Daily Log'!#REF!,$B303,'Daily Log'!#REF!),0)","v":0},{"$f":"IFERROR($E303*SUMIF('Daily Log'!#REF!,$B303,'Daily Log'!#REF!),0)","v":0},{"$f":"IFERROR($E303*SUMIF('Daily Log'!#REF!,$B303,'Daily Log'!#REF!),0)","v":0},{"$f":"IFERROR($E303*SUMIF('Daily Log'!#REF!,$B303,'Daily Log'!#REF!),0)","v":0},{"$f":"IFERROR($E303*SUMIF('Daily Log'!#REF!,$B303,'Daily Log'!#REF!),0)","v":0},{"$f":"IFERROR($E303*SUMIF('Daily Log'!#REF!,$B303,'Daily Log'!#REF!),0)","v":0}]
[null,"AC06 N : CHILDREN",null,null,1,12,{"$f":"IFERROR($E304*SUMIF('Daily Log'!$B$18:$B$1017,$B304,'Daily Log'!$C$18:$C$1017),0)","v":0},{"$f":"IFERROR($E304*SUMIF('Daily Log'!$E$18:$E$1017,$B304,'Daily Log'!$F$18:$F$1017),0)","v":0},{"$f":"IFERROR($E304*SUMIF('Daily Log'!$H$18:$H$1017,$B304,'Daily Log'!$I$18:$I$1017),0)","v":0},{"$f":"IFERROR($E304*SUMIF('Daily Log'!$K$18:$K$1017,$B304,'Daily Log'!$L$18:$L$1017),0)","v":0},{"$f":"IFERROR($E304*SUMIF('Daily Log'!$N$18:$N$1017,$B304,'Daily Log'!$O$18:$O$1017),0)","v":0},{"$f":"IFERROR($E304*SUMIF('Daily Log'!$Q$18:$Q$1017,$B304,'Daily Log'!$R$18:$R$1017),0)","v":2},{"$f":"IFERROR($E304*SUMIF('Daily Log'!$T$18:$T$1017,$B304,'Daily Log'!$U$18:$U$1017),0)","v":0},{"$f":"IFERROR($E304*SUMIF('Daily Log'!$W$18:$W$1017,$B304,'Daily Log'!$X$18:$X$1017),0)","v":0},{"$f":"IFERROR($E304*SUMIF('Daily Log'!$Z$18:$Z$1017,$B304,'Daily Log'!$AA$18:$AA$1017),0)","v":0},{"$f":"IFERROR($E304*SUMIF('Daily Log'!$AC$18:$AC$1017,$B304,'Daily Log'!$AD$18:$AD$1017),0)","v":2},{"$f":"IFERROR($E304*SUMIF('Daily Log'!$AF$18:$AF$1017,$B304,'Daily Log'!$AG$18:$AG$1017),0)","v":6},{"$f":"IFERROR($E304*SUMIF('Daily Log'!$AI$18:$AI$1017,$B304,'Daily Log'!$AJ$18:$AJ$1017),0)","v":2},{"$f":"IFERROR($E304*SUMIF('Daily Log'!#REF!,$B304,'Daily Log'!#REF!),0)","v":0},{"$f":"IFERROR($E304*SUMIF('Daily Log'!#REF!,$B304,'Daily Log'!#REF!),0)","v":0},{"$f":"IFERROR($E304*SUMIF('Daily Log'!#REF!,$B304,'Daily Log'!#REF!),0)","v":0},{"$f":"IFERROR($E304*SUMIF('Daily Log'!#REF!,$B304,'Daily Log'!#REF!),0)","v":0},{"$f":"IFERROR($E304*SUMIF('Daily Log'!#REF!,$B304,'Daily Log'!#REF!),0)","v":0},{"$f":"IFERROR($E304*SUMIF('Daily Log'!#REF!,$B304,'Daily Log'!#REF!),0)","v":0},{"$f":"IFERROR($E304*SUMIF('Daily Log'!#REF!,$B304,'Daily Log'!#REF!),0)","v":0},{"$f":"IFERROR($E304*SUMIF('Daily Log'!#REF!,$B304,'Daily Log'!#REF!),0)","v":0},{"$f":"IFERROR($E304*SUMIF('Daily Log'!#REF!,$B304,'Daily Log'!#REF!),0)","v":0},{"$f":"IFERROR($E304*SUMIF('Daily Log'!#REF!,$B304,'Daily Log'!#REF!),0)","v":0},{"$f":"IFERROR($E304*SUMIF('Daily Log'!#REF!,$B304,'Daily Log'!#REF!),0)","v":0},{"$f":"IFERROR($E304*SUMIF('Daily Log'!#REF!,$B304,'Daily Log'!#REF!),0)","v":0},{"$f":"IFERROR($E304*SUMIF('Daily Log'!#REF!,$B304,'Daily Log'!#REF!),0)","v":0},{"$f":"IFERROR($E304*SUMIF('Daily Log'!#REF!,$B304,'Daily Log'!#REF!),0)","v":0},{"$f":"IFERROR($E304*SUMIF('Daily Log'!#REF!,$B304,'Daily Log'!#REF!),0)","v":0},{"$f":"IFERROR($E304*SUMIF('Daily Log'!#REF!,$B304,'Daily Log'!#REF!),0)","v":0},{"$f":"IFERROR($E304*SUMIF('Daily Log'!#REF!,$B304,'Daily Log'!#REF!),0)","v":0},{"$f":"IFERROR($E304*SUMIF('Daily Log'!#REF!,$B304,'Daily Log'!#REF!),0)","v":0},{"$f":"IFERROR($E304*SUMIF('Daily Log'!#REF!,$B304,'Daily Log'!#REF!),0)","v":0}]
[null,"AC07 N : MEMBER B'DAY",null,null,1,8,{"$f":"IFERROR($E305*SUMIF('Daily Log'!$B$18:$B$1017,$B305,'Daily Log'!$C$18:$C$1017),0)","v":0},{"$f":"IFERROR($E305*SUMIF('Daily Log'!$E$18:$E$1017,$B305,'Daily Log'!$F$18:$F$1017),0)","v":0},{"$f":"IFERROR($E305*SUMIF('Daily Log'!$H$18:$H$1017,$B305,'Daily Log'!$I$18:$I$1017),0)","v":0},{"$f":"IFERROR($E305*SUMIF('Daily Log'!$K$18:$K$1017,$B305,'Daily Log'!$L$18:$L$1017),0)","v":0},{"$f":"IFERROR($E305*SUMIF('Daily Log'!$N$18:$N$1017,$B305,'Daily Log'!$O$18:$O$1017),0)","v":0},{"$f":"IFERROR($E305*SUMIF('Daily Log'!$Q$18:$Q$1017,$B305,'Daily Log'!$R$18:$R$1017),0)","v":0},{"$f":"IFERROR($E305*SUMIF('Daily Log'!$T$18:$T$1017,$B305,'Daily Log'!$U$18:$U$1017),0)","v":1},{"$f":"IFERROR($E305*SUMIF('Daily Log'!$W$18:$W$1017,$B305,'Daily Log'!$X$18:$X$1017),0)","v":2},{"$f":"IFERROR($E305*SUMIF('Daily Log'!$Z$18:$Z$1017,$B305,'Daily Log'!$AA$18:$AA$1017),0)","v":0},{"$f":"IFERROR($E305*SUMIF('Daily Log'!$AC$18:$AC$1017,$B305,'Daily Log'!$AD$18:$AD$1017),0)","v":2},{"$f":"IFERROR($E305*SUMIF('Daily Log'!$AF$18:$AF$1017,$B305,'Daily Log'!$AG$18:$AG$1017),0)","v":3},{"$f":"IFERROR($E305*SUMIF('Daily Log'!$AI$18:$AI$1017,$B305,'Daily Log'!$AJ$18:$AJ$1017),0)","v":0},{"$f":"IFERROR($E305*SUMIF('Daily Log'!#REF!,$B305,'Daily Log'!#REF!),0)","v":0},{"$f":"IFERROR($E305*SUMIF('Daily Log'!#REF!,$B305,'Daily Log'!#REF!),0)","v":0},{"$f":"IFERROR($E305*SUMIF('Daily Log'!#REF!,$B305,'Daily Log'!#REF!),0)","v":0},{"$f":"IFERROR($E305*SUMIF('Daily Log'!#REF!,$B305,'Daily Log'!#REF!),0)","v":0},{"$f":"IFERROR($E305*SUMIF('Daily Log'!#REF!,$B305,'Daily Log'!#REF!),0)","v":0},{"$f":"IFERROR($E305*SUMIF('Daily Log'!#REF!,$B305,'Daily Log'!#REF!),0)","v":0},{"$f":"IFERROR($E305*SUMIF('Daily Log'!#REF!,$B305,'Daily Log'!#REF!),0)","v":0},{"$f":"IFERROR($E305*SUMIF('Daily Log'!#REF!,$B305,'Daily Log'!#REF!),0)","v":0},{"$f":"IFERROR($E305*SUMIF('Daily Log'!#REF!,$B305,'Daily Log'!#REF!),0)","v":0},{"$f":"IFERROR($E305*SUMIF('Daily Log'!#REF!,$B305,'Daily Log'!#REF!),0)","v":0},{"$f":"IFERROR($E305*SUMIF('Daily Log'!#REF!,$B305,'Daily Log'!#REF!),0)","v":0},{"$f":"IFERROR($E305*SUMIF('Daily Log'!#REF!,$B305,'Daily Log'!#REF!),0)","v":0},{"$f":"IFERROR($E305*SUMIF('Daily Log'!#REF!,$B305,'Daily Log'!#REF!),0)","v":0},{"$f":"IFERROR($E305*SUMIF('Daily Log'!#REF!,$B305,'Daily Log'!#REF!),0)","v":0},{"$f":"IFERROR($E305*SUMIF('Daily Log'!#REF!,$B305,'Daily Log'!#REF!),0)","v":0},{"$f":"IFERROR($E305*SUMIF('Daily Log'!#REF!,$B305,'Daily Log'!#REF!),0)","v":0},{"$f":"IFERROR($E305*SUMIF('Daily Log'!#REF!,$B305,'Daily Log'!#REF!),0)","v":0},{"$f":"IFERROR($E305*SUMIF('Daily Log'!#REF!,$B305,'Daily Log'!#REF!),0)","v":0},{"$f":"IFERROR($E305*SUMIF('Daily Log'!#REF!,$B305,'Daily Log'!#REF!),0)","v":0}]
[null,"AC08 N : STAFF B'DAY",null,null,1,0,{"$f":"IFERROR($E306*SUMIF('Daily Log'!$B$18:$B$1017,$B306,'Daily Log'!$C$18:$C$1017),0)","v":0},{"$f":"IFERROR($E306*SUMIF('Daily Log'!$E$18:$E$1017,$B306,'Daily Log'!$F$18:$F$1017),0)","v":0},{"$f":"IFERROR($E306*SUMIF('Daily Log'!$H$18:$H$1017,$B306,'Daily Log'!$I$18:$I$1017),0)","v":0},{"$f":"IFERROR($E306*SUMIF('Daily Log'!$K$18:$K$1017,$B306,'Daily Log'!$L$18:$L$1017),0)","v":0},{"$f":"IFERROR($E306*SUMIF('Daily Log'!$N$18:$N$1017,$B306,'Daily Log'!$O$18:$O$1017),0)","v":0},{"$f":"IFERROR($E306*SUMIF('Daily Log'!$Q$18:$Q$1017,$B306,'Daily Log'!$R$18:$R$1017),0)","v":0},{"$f":"IFERROR($E306*SUMIF('Daily Log'!$T$18:$T$1017,$B306,'Daily Log'!$U$18:$U$1017),0)","v":0},{"$f":"IFERROR($E306*SUMIF('Daily Log'!$W$18:$W$1017,$B306,'Daily Log'!$X$18:$X$1017),0)","v":0},{"$f":"IFERROR($E306*SUMIF('Daily Log'!$Z$18:$Z$1017,$B306,'Daily Log'!$AA$18:$AA$1017),0)","v":0},{"$f":"IFERROR($E306*SUMIF('Daily Log'!$AC$18:$AC$1017,$B306,'Daily Log'!$AD$18:$AD$1017),0)","v":0},{"$f":"IFERROR($E306*SUMIF('Daily Log'!$AF$18:$AF$1017,$B306,'Daily Log'!$AG$18:$AG$1017),0)","v":0},{"$f":"IFERROR($E306*SUMIF('Daily Log'!$AI$18:$AI$1017,$B306,'Daily Log'!$AJ$18:$AJ$1017),0)","v":0},{"$f":"IFERROR($E306*SUMIF('Daily Log'!#REF!,$B306,'Daily Log'!#REF!),0)","v":0},{"$f":"IFERROR($E306*SUMIF('Daily Log'!#REF!,$B306,'Daily Log'!#REF!),0)","v":0},{"$f":"IFERROR($E306*SUMIF('Daily Log'!#REF!,$B306,'Daily Log'!#REF!),0)","v":0},{"$f":"IFERROR($E306*SUMIF('Daily Log'!#REF!,$B306,'Daily Log'!#REF!),0)","v":0},{"$f":"IFERROR($E306*SUMIF('Daily Log'!#REF!,$B306,'Daily Log'!#REF!),0)","v":0},{"$f":"IFERROR($E306*SUMIF('Daily Log'!#REF!,$B306,'Daily Log'!#REF!),0)","v":0},{"$f":"IFERROR($E306*SUMIF('Daily Log'!#REF!,$B306,'Daily Log'!#REF!),0)","v":0},{"$f":"IFERROR($E306*SUMIF('Daily Log'!#REF!,$B306,'Daily Log'!#REF!),0)","v":0},{"$f":"IFERROR($E306*SUMIF('Daily Log'!#REF!,$B306,'Daily Log'!#REF!),0)","v":0},{"$f":"IFERROR($E306*SUMIF('Daily Log'!#REF!,$B306,'Daily Log'!#REF!),0)","v":0},{"$f":"IFERROR($E306*SUMIF('Daily Log'!#REF!,$B306,'Daily Log'!#REF!),0)","v":0},{"$f":"IFERROR($E306*SUMIF('Daily Log'!#REF!,$B306,'Daily Log'!#REF!),0)","v":0},{"$f":"IFERROR($E306*SUMIF('Daily Log'!#REF!,$B306,'Daily Log'!#REF!),0)","v":0},{"$f":"IFERROR($E306*SUMIF('Daily Log'!#REF!,$B306,'Daily Log'!#REF!),0)","v":0},{"$f":"IFERROR($E306*SUMIF('Daily Log'!#REF!,$B306,'Daily Log'!#REF!),0)","v":0},{"$f":"IFERROR($E306*SUMIF('Daily Log'!#REF!,$B306,'Daily Log'!#REF!),0)","v":0},{"$f":"IFERROR($E306*SUMIF('Daily Log'!#REF!,$B306,'Daily Log'!#REF!),0)","v":0},{"$f":"IFERROR($E306*SUMIF('Daily Log'!#REF!,$B306,'Daily Log'!#REF!),0)","v":0},{"$f":"IFERROR($E306*SUMIF('Daily Log'!#REF!,$B306,'Daily Log'!#REF!),0)","v":0}]
[null,"AC09 N : FOC HEAD",null,null,1,0,{"$f":"IFERROR($E307*SUMIF('Daily Log'!$B$18:$B$1017,$B307,'Daily Log'!$C$18:$C$1017),0)","v":0},{"$f":"IFERROR($E307*SUMIF('Daily Log'!$E$18:$E$1017,$B307,'Daily Log'!$F$18:$F$1017),0)","v":0},{"$f":"IFERROR($E307*SUMIF('Daily Log'!$H$18:$H$1017,$B307,'Daily Log'!$I$18:$I$1017),0)","v":0},{"$f":"IFERROR($E307*SUMIF('Daily Log'!$K$18:$K$1017,$B307,'Daily Log'!$L$18:$L$1017),0)","v":0},{"$f":"IFERROR($E307*SUMIF('Daily Log'!$N$18:$N$1017,$B307,'Daily Log'!$O$18:$O$1017),0)","v":0},{"$f":"IFERROR($E307*SUMIF('Daily Log'!$Q$18:$Q$1017,$B307,'Daily Log'!$R$18:$R$1017),0)","v":0},{"$f":"IFERROR($E307*SUMIF('Daily Log'!$T$18:$T$1017,$B307,'Daily Log'!$U$18:$U$1017),0)","v":0},{"$f":"IFERROR($E307*SUMIF('Daily Log'!$W$18:$W$1017,$B307,'Daily Log'!$X$18:$X$1017),0)","v":0},{"$f":"IFERROR($E307*SUMIF('Daily Log'!$Z$18:$Z$1017,$B307,'Daily Log'!$AA$18:$AA$1017),0)","v":0},{"$f":"IFERROR($E307*SUMIF('Daily Log'!$AC$18:$AC$1017,$B307,'Daily Log'!$AD$18:$AD$1017),0)","v":0},{"$f":"IFERROR($E307*SUMIF('Daily Log'!$AF$18:$AF$1017,$B307,'Daily Log'!$AG$18:$AG$1017),0)","v":0},{"$f":"IFERROR($E307*SUMIF('Daily Log'!$AI$18:$AI$1017,$B307,'Daily Log'!$AJ$18:$AJ$1017),0)","v":0},{"$f":"IFERROR($E307*SUMIF('Daily Log'!#REF!,$B307,'Daily Log'!#REF!),0)","v":0},{"$f":"IFERROR($E307*SUMIF('Daily Log'!#REF!,$B307,'Daily Log'!#REF!),0)","v":0},{"$f":"IFERROR($E307*SUMIF('Daily Log'!#REF!,$B307,'Daily Log'!#REF!),0)","v":0},{"$f":"IFERROR($E307*SUMIF('Daily Log'!#REF!,$B307,'Daily Log'!#REF!),0)","v":0},{"$f":"IFERROR($E307*SUMIF('Daily Log'!#REF!,$B307,'Daily Log'!#REF!),0)","v":0},{"$f":"IFERROR($E307*SUMIF('Daily Log'!#REF!,$B307,'Daily Log'!#REF!),0)","v":0},{"$f":"IFERROR($E307*SUMIF('Daily Log'!#REF!,$B307,'Daily Log'!#REF!),0)","v":0},{"$f":"IFERROR($E307*SUMIF('Daily Log'!#REF!,$B307,'Daily Log'!#REF!),0)","v":0},{"$f":"IFERROR($E307*SUMIF('Daily Log'!#REF!,$B307,'Daily Log'!#REF!),0)","v":0},{"$f":"IFERROR($E307*SUMIF('Daily Log'!#REF!,$B307,'Daily Log'!#REF!),0)","v":0},{"$f":"IFERROR($E307*SUMIF('Daily Log'!#REF!,$B307,'Daily Log'!#REF!),0)","v":0},{"$f":"IFERROR($E307*SUMIF('Daily Log'!#REF!,$B307,'Daily Log'!#REF!),0)","v":0},{"$f":"IFERROR($E307*SUMIF('Daily Log'!#REF!,$B307,'Daily Log'!#REF!),0)","v":0},{"$f":"IFERROR($E307*SUMIF('Daily Log'!#REF!,$B307,'Daily Log'!#REF!),0)","v":0},{"$f":"IFERROR($E307*SUMIF('Daily Log'!#REF!,$B307,'Daily Log'!#REF!),0)","v":0},{"$f":"IFERROR($E307*SUMIF('Daily Log'!#REF!,$B307,'Daily Log'!#REF!),0)","v":0},{"$f":"IFERROR($E307*SUMIF('Daily Log'!#REF!,$B307,'Daily Log'!#REF!),0)","v":0},{"$f":"IFERROR($E307*SUMIF('Daily Log'!#REF!,$B307,'Daily Log'!#REF!),0)","v":0},{"$f":"IFERROR($E307*SUMIF('Daily Log'!#REF!,$B307,'Daily Log'!#REF!),0)","v":0}]
[null,"AC10 N : FREEHEAD (B)",null,null,1,1,{"$f":"IFERROR($E308*SUMIF('Daily Log'!$B$18:$B$1017,$B308,'Daily Log'!$C$18:$C$1017),0)","v":0},{"$f":"IFERROR($E308*SUMIF('Daily Log'!$E$18:$E$1017,$B308,'Daily Log'!$F$18:$F$1017),0)","v":0},{"$f":"IFERROR($E308*SUMIF('Daily Log'!$H$18:$H$1017,$B308,'Daily Log'!$I$18:$I$1017),0)","v":0},{"$f":"IFERROR($E308*SUMIF('Daily Log'!$K$18:$K$1017,$B308,'Daily Log'!$L$18:$L$1017),0)","v":0},{"$f":"IFERROR($E308*SUMIF('Daily Log'!$N$18:$N$1017,$B308,'Daily Log'!$O$18:$O$1017),0)","v":0},{"$f":"IFERROR($E308*SUMIF('Daily Log'!$Q$18:$Q$1017,$B308,'Daily Log'!$R$18:$R$1017),0)","v":0},{"$f":"IFERROR($E308*SUMIF('Daily Log'!$T$18:$T$1017,$B308,'Daily Log'!$U$18:$U$1017),0)","v":0},{"$f":"IFERROR($E308*SUMIF('Daily Log'!$W$18:$W$1017,$B308,'Daily Log'!$X$18:$X$1017),0)","v":1},{"$f":"IFERROR($E308*SUMIF('Daily Log'!$Z$18:$Z$1017,$B308,'Daily Log'!$AA$18:$AA$1017),0)","v":0},{"$f":"IFERROR($E308*SUMIF('Daily Log'!$AC$18:$AC$1017,$B308,'Daily Log'!$AD$18:$AD$1017),0)","v":0},{"$f":"IFERROR($E308*SUMIF('Daily Log'!$AF$18:$AF$1017,$B308,'Daily Log'!$AG$18:$AG$1017),0)","v":0},{"$f":"IFERROR($E308*SUMIF('Daily Log'!$AI$18:$AI$1017,$B308,'Daily Log'!$AJ$18:$AJ$1017),0)","v":0},{"$f":"IFERROR($E308*SUMIF('Daily Log'!#REF!,$B308,'Daily Log'!#REF!),0)","v":0},{"$f":"IFERROR($E308*SUMIF('Daily Log'!#REF!,$B308,'Daily Log'!#REF!),0)","v":0},{"$f":"IFERROR($E308*SUMIF('Daily Log'!#REF!,$B308,'Daily Log'!#REF!),0)","v":0},{"$f":"IFERROR($E308*SUMIF('Daily Log'!#REF!,$B308,'Daily Log'!#REF!),0)","v":0},{"$f":"IFERROR($E308*SUMIF('Daily Log'!#REF!,$B308,'Daily Log'!#REF!),0)","v":0},{"$f":"IFERROR($E308*SUMIF('Daily Log'!#REF!,$B308,'Daily Log'!#REF!),0)","v":0},{"$f":"IFERROR($E308*SUMIF('Daily Log'!#REF!,$B308,'Daily Log'!#REF!),0)","v":0},{"$f":"IFERROR($E308*SUMIF('Daily Log'!#REF!,$B308,'Daily Log'!#REF!),0)","v":0},{"$f":"IFERROR($E308*SUMIF('Daily Log'!#REF!,$B308,'Daily Log'!#REF!),0)","v":0},{"$f":"IFERROR($E308*SUMIF('Daily Log'!#REF!,$B308,'Daily Log'!#REF!),0)","v":0},{"$f":"IFERROR($E308*SUMIF('Daily Log'!#REF!,$B308,'Daily Log'!#REF!),0)","v":0},{"$f":"IFERROR($E308*SUMIF('Daily Log'!#REF!,$B308,'Daily Log'!#REF!),0)","v":0},{"$f":"IFERROR($E308*SUMIF('Daily Log'!#REF!,$B308,'Daily Log'!#REF!),0)","v":0},{"$f":"IFERROR($E308*SUMIF('Daily Log'!#REF!,$B308,'Daily Log'!#REF!),0)","v":0},{"$f":"IFERROR($E308*SUMIF('Daily Log'!#REF!,$B308,'Daily Log'!#REF!),0)","v":0},{"$f":"IFERROR($E308*SUMIF('Daily Log'!#REF!,$B308,'Daily Log'!#REF!),0)","v":0},{"$f":"IFERROR($E308*SUMIF('Daily Log'!#REF!,$B308,'Daily Log'!#REF!),0)","v":0},{"$f":"IFERROR($E308*SUMIF('Daily Log'!#REF!,$B308,'Daily Log'!#REF!),0)","v":0},{"$f":"IFERROR($E308*SUMIF('Daily Log'!#REF!,$B308,'Daily Log'!#REF!),0)","v":0}]
[null,"AC12 N : FREEHEAD (R)",null,null,1,11,{"$f":"IFERROR($E309*SUMIF('Daily Log'!$B$18:$B$1017,$B309,'Daily Log'!$C$18:$C$1017),0)","v":0},{"$f":"IFERROR($E309*SUMIF('Daily Log'!$E$18:$E$1017,$B309,'Daily Log'!$F$18:$F$1017),0)","v":0},{"$f":"IFERROR($E309*SUMIF('Daily Log'!$H$18:$H$1017,$B309,'Daily Log'!$I$18:$I$1017),0)","v":0},{"$f":"IFERROR($E309*SUMIF('Daily Log'!$K$18:$K$1017,$B309,'Daily Log'!$L$18:$L$1017),0)","v":0},{"$f":"IFERROR($E309*SUMIF('Daily Log'!$N$18:$N$1017,$B309,'Daily Log'!$O$18:$O$1017),0)","v":0},{"$f":"IFERROR($E309*SUMIF('Daily Log'!$Q$18:$Q$1017,$B309,'Daily Log'!$R$18:$R$1017),0)","v":0},{"$f":"IFERROR($E309*SUMIF('Daily Log'!$T$18:$T$1017,$B309,'Daily Log'!$U$18:$U$1017),0)","v":0},{"$f":"IFERROR($E309*SUMIF('Daily Log'!$W$18:$W$1017,$B309,'Daily Log'!$X$18:$X$1017),0)","v":3},{"$f":"IFERROR($E309*SUMIF('Daily Log'!$Z$18:$Z$1017,$B309,'Daily Log'!$AA$18:$AA$1017),0)","v":2},{"$f":"IFERROR($E309*SUMIF('Daily Log'!$AC$18:$AC$1017,$B309,'Daily Log'!$AD$18:$AD$1017),0)","v":1},{"$f":"IFERROR($E309*SUMIF('Daily Log'!$AF$18:$AF$1017,$B309,'Daily Log'!$AG$18:$AG$1017),0)","v":3},{"$f":"IFERROR($E309*SUMIF('Daily Log'!$AI$18:$AI$1017,$B309,'Daily Log'!$AJ$18:$AJ$1017),0)","v":2},{"$f":"IFERROR($E309*SUMIF('Daily Log'!#REF!,$B309,'Daily Log'!#REF!),0)","v":0},{"$f":"IFERROR($E309*SUMIF('Daily Log'!#REF!,$B309,'Daily Log'!#REF!),0)","v":0},{"$f":"IFERROR($E309*SUMIF('Daily Log'!#REF!,$B309,'Daily Log'!#REF!),0)","v":0},{"$f":"IFERROR($E309*SUMIF('Daily Log'!#REF!,$B309,'Daily Log'!#REF!),0)","v":0},{"$f":"IFERROR($E309*SUMIF('Daily Log'!#REF!,$B309,'Daily Log'!#REF!),0)","v":0},{"$f":"IFERROR($E309*SUMIF('Daily Log'!#REF!,$B309,'Daily Log'!#REF!),0)","v":0},{"$f":"IFERROR($E309*SUMIF('Daily Log'!#REF!,$B309,'Daily Log'!#REF!),0)","v":0},{"$f":"IFERROR($E309*SUMIF('Daily Log'!#REF!,$B309,'Daily Log'!#REF!),0)","v":0},{"$f":"IFERROR($E309*SUMIF('Daily Log'!#REF!,$B309,'Daily Log'!#REF!),0)","v":0},{"$f":"IFERROR($E309*SUMIF('Daily Log'!#REF!,$B309,'Daily Log'!#REF!),0)","v":0},{"$f":"IFERROR($E309*SUMIF('Daily Log'!#REF!,$B309,'Daily Log'!#REF!),0)","v":0},{"$f":"IFERROR($E309*SUMIF('Daily Log'!#REF!,$B309,'Daily Log'!#REF!),0)","v":0},{"$f":"IFERROR($E309*SUMIF('Daily Log'!#REF!,$B309,'Daily Log'!#REF!),0)","v":0},{"$f":"IFERROR($E309*SUMIF('Daily Log'!#REF!,$B309,'Daily Log'!#REF!),0)","v":0},{"$f":"IFERROR($E309*SUMIF('Daily Log'!#REF!,$B309,'Daily Log'!#REF!),0)","v":0},{"$f":"IFERROR($E309*SUMIF('Daily Log'!#REF!,$B309,'Daily Log'!#REF!),0)","v":0},{"$f":"IFERROR($E309*SUMIF('Daily Log'!#REF!,$B309,'Daily Log'!#REF!),0)","v":0},{"$f":"IFERROR($E309*SUMIF('Daily Log'!#REF!,$B309,'Daily Log'!#REF!),0)","v":0},{"$f":"IFERROR($E309*SUMIF('Daily Log'!#REF!,$B309,'Daily Log'!#REF!),0)","v":0}]
[null,"AC17 N : XTD S ROOM",null,null,1,3,{"$f":"IFERROR($E310*SUMIF('Daily Log'!$B$18:$B$1017,$B310,'Daily Log'!$C$18:$C$1017),0)","v":0},{"$f":"IFERROR($E310*SUMIF('Daily Log'!$E$18:$E$1017,$B310,'Daily Log'!$F$18:$F$1017),0)","v":0},{"$f":"IFERROR($E310*SUMIF('Daily Log'!$H$18:$H$1017,$B310,'Daily Log'!$I$18:$I$1017),0)","v":0},{"$f":"IFERROR($E310*SUMIF('Daily Log'!$K$18:$K$1017,$B310,'Daily Log'!$L$18:$L$1017),0)","v":0},{"$f":"IFERROR($E310*SUMIF('Daily Log'!$N$18:$N$1017,$B310,'Daily Log'!$O$18:$O$1017),0)","v":0},{"$f":"IFERROR($E310*SUMIF('Daily Log'!$Q$18:$Q$1017,$B310,'Daily Log'!$R$18:$R$1017),0)","v":0},{"$f":"IFERROR($E310*SUMIF('Daily Log'!$T$18:$T$1017,$B310,'Daily Log'!$U$18:$U$1017),0)","v":0},{"$f":"IFERROR($E310*SUMIF('Daily Log'!$W$18:$W$1017,$B310,'Daily Log'!$X$18:$X$1017),0)","v":0},{"$f":"IFERROR($E310*SUMIF('Daily Log'!$Z$18:$Z$1017,$B310,'Daily Log'!$AA$18:$AA$1017),0)","v":1},{"$f":"IFERROR($E310*SUMIF('Daily Log'!$AC$18:$AC$1017,$B310,'Daily Log'!$AD$18:$AD$1017),0)","v":0},{"$f":"IFERROR($E310*SUMIF('Daily Log'!$AF$18:$AF$1017,$B310,'Daily Log'!$AG$18:$AG$1017),0)","v":1},{"$f":"IFERROR($E310*SUMIF('Daily Log'!$AI$18:$AI$1017,$B310,'Daily Log'!$AJ$18:$AJ$1017),0)","v":1},{"$f":"IFERROR($E310*SUMIF('Daily Log'!#REF!,$B310,'Daily Log'!#REF!),0)","v":0},{"$f":"IFERROR($E310*SUMIF('Daily Log'!#REF!,$B310,'Daily Log'!#REF!),0)","v":0},{"$f":"IFERROR($E310*SUMIF('Daily Log'!#REF!,$B310,'Daily Log'!#REF!),0)","v":0},{"$f":"IFERROR($E310*SUMIF('Daily Log'!#REF!,$B310,'Daily Log'!#REF!),0)","v":0},{"$f":"IFERROR($E310*SUMIF('Daily Log'!#REF!,$B310,'Daily Log'!#REF!),0)","v":0},{"$f":"IFERROR($E310*SUMIF('Daily Log'!#REF!,$B310,'Daily Log'!#REF!),0)","v":0},{"$f":"IFERROR($E310*SUMIF('Daily Log'!#REF!,$B310,'Daily Log'!#REF!),0)","v":0},{"$f":"IFERROR($E310*SUMIF('Daily Log'!#REF!,$B310,'Daily Log'!#REF!),0)","v":0},{"$f":"IFERROR($E310*SUMIF('Daily Log'!#REF!,$B310,'Daily Log'!#REF!),0)","v":0},{"$f":"IFERROR($E310*SUMIF('Daily Log'!#REF!,$B310,'Daily Log'!#REF!),0)","v":0},{"$f":"IFERROR($E310*SUMIF('Daily Log'!#REF!,$B310,'Daily Log'!#REF!),0)","v":0},{"$f":"IFERROR($E310*SUMIF('Daily Log'!#REF!,$B310,'Daily Log'!#REF!),0)","v":0},{"$f":"IFERROR($E310*SUMIF('Daily Log'!#REF!,$B310,'Daily Log'!#REF!),0)","v":0},{"$f":"IFERROR($E310*SUMIF('Daily Log'!#REF!,$B310,'Daily Log'!#REF!),0)","v":0},{"$f":"IFERROR($E310*SUMIF('Daily Log'!#REF!,$B310,'Daily Log'!#REF!),0)","v":0},{"$f":"IFERROR($E310*SUMIF('Daily Log'!#REF!,$B310,'Daily Log'!#REF!),0)","v":0},{"$f":"IFERROR($E310*SUMIF('Daily Log'!#REF!,$B310,'Daily Log'!#REF!),0)","v":0},{"$f":"IFERROR($E310*SUMIF('Daily Log'!#REF!,$B310,'Daily Log'!#REF!),0)","v":0},{"$f":"IFERROR($E310*SUMIF('Daily Log'!#REF!,$B310,'Daily Log'!#REF!),0)","v":0}]
[null,"AC18 N : XTD M ROOM",null,null,1,5,{"$f":"IFERROR($E311*SUMIF('Daily Log'!$B$18:$B$1017,$B311,'Daily Log'!$C$18:$C$1017),0)","v":0},{"$f":"IFERROR($E311*SUMIF('Daily Log'!$E$18:$E$1017,$B311,'Daily Log'!$F$18:$F$1017),0)","v":0},{"$f":"IFERROR($E311*SUMIF('Daily Log'!$H$18:$H$1017,$B311,'Daily Log'!$I$18:$I$1017),0)","v":0},{"$f":"IFERROR($E311*SUMIF('Daily Log'!$K$18:$K$1017,$B311,'Daily Log'!$L$18:$L$1017),0)","v":0},{"$f":"IFERROR($E311*SUMIF('Daily Log'!$N$18:$N$1017,$B311,'Daily Log'!$O$18:$O$1017),0)","v":0},{"$f":"IFERROR($E311*SUMIF('Daily Log'!$Q$18:$Q$1017,$B311,'Daily Log'!$R$18:$R$1017),0)","v":0},{"$f":"IFERROR($E311*SUMIF('Daily Log'!$T$18:$T$1017,$B311,'Daily Log'!$U$18:$U$1017),0)","v":1},{"$f":"IFERROR($E311*SUMIF('Daily Log'!$W$18:$W$1017,$B311,'Daily Log'!$X$18:$X$1017),0)","v":0},{"$f":"IFERROR($E311*SUMIF('Daily Log'!$Z$18:$Z$1017,$B311,'Daily Log'!$AA$18:$AA$1017),0)","v":1},{"$f":"IFERROR($E311*SUMIF('Daily Log'!$AC$18:$AC$1017,$B311,'Daily Log'!$AD$18:$AD$1017),0)","v":1},{"$f":"IFERROR($E311*SUMIF('Daily Log'!$AF$18:$AF$1017,$B311,'Daily Log'!$AG$18:$AG$1017),0)","v":2},{"$f":"IFERROR($E311*SUMIF('Daily Log'!$AI$18:$AI$1017,$B311,'Daily Log'!$AJ$18:$AJ$1017),0)","v":0},{"$f":"IFERROR($E311*SUMIF('Daily Log'!#REF!,$B311,'Daily Log'!#REF!),0)","v":0},{"$f":"IFERROR($E311*SUMIF('Daily Log'!#REF!,$B311,'Daily Log'!#REF!),0)","v":0},{"$f":"IFERROR($E311*SUMIF('Daily Log'!#REF!,$B311,'Daily Log'!#REF!),0)","v":0},{"$f":"IFERROR($E311*SUMIF('Daily Log'!#REF!,$B311,'Daily Log'!#REF!),0)","v":0},{"$f":"IFERROR($E311*SUMIF('Daily Log'!#REF!,$B311,'Daily Log'!#REF!),0)","v":0},{"$f":"IFERROR($E311*SUMIF('Daily Log'!#REF!,$B311,'Daily Log'!#REF!),0)","v":0},{"$f":"IFERROR($E311*SUMIF('Daily Log'!#REF!,$B311,'Daily Log'!#REF!),0)","v":0},{"$f":"IFERROR($E311*SUMIF('Daily Log'!#REF!,$B311,'Daily Log'!#REF!),0)","v":0},{"$f":"IFERROR($E311*SUMIF('Daily Log'!#REF!,$B311,'Daily Log'!#REF!),0)","v":0},{"$f":"IFERROR($E311*SUMIF('Daily Log'!#REF!,$B311,'Daily Log'!#REF!),0)","v":0},{"$f":"IFERROR($E311*SUMIF('Daily Log'!#REF!,$B311,'Daily Log'!#REF!),0)","v":0},{"$f":"IFERROR($E311*SUMIF('Daily Log'!#REF!,$B311,'Daily Log'!#REF!),0)","v":0},{"$f":"IFERROR($E311*SUMIF('Daily Log'!#REF!,$B311,'Daily Log'!#REF!),0)","v":0},{"$f":"IFERROR($E311*SUMIF('Daily Log'!#REF!,$B311,'Daily Log'!#REF!),0)","v":0},{"$f":"IFERROR($E311*SUMIF('Daily Log'!#REF!,$B311,'Daily Log'!#REF!),0)","v":0},{"$f":"IFERROR($E311*SUMIF('Daily Log'!#REF!,$B311,'Daily Log'!#REF!),0)","v":0},{"$f":"IFERROR($E311*SUMIF('Daily Log'!#REF!,$B311,'Daily Log'!#REF!),0)","v":0},{"$f":"IFERROR($E311*SUMIF('Daily Log'!#REF!,$B311,'Daily Log'!#REF!),0)","v":0},{"$f":"IFERROR($E311*SUMIF('Daily Log'!#REF!,$B311,'Daily Log'!#REF!),0)","v":0}]
[null,"AC19 N : XTD B ROOM",null,null,1,2,{"$f":"IFERROR($E312*SUMIF('Daily Log'!$B$18:$B$1017,$B312,'Daily Log'!$C$18:$C$1017),0)","v":0},{"$f":"IFERROR($E312*SUMIF('Daily Log'!$E$18:$E$1017,$B312,'Daily Log'!$F$18:$F$1017),0)","v":0},{"$f":"IFERROR($E312*SUMIF('Daily Log'!$H$18:$H$1017,$B312,'Daily Log'!$I$18:$I$1017),0)","v":0},{"$f":"IFERROR($E312*SUMIF('Daily Log'!$K$18:$K$1017,$B312,'Daily Log'!$L$18:$L$1017),0)","v":0},{"$f":"IFERROR($E312*SUMIF('Daily Log'!$N$18:$N$1017,$B312,'Daily Log'!$O$18:$O$1017),0)","v":0},{"$f":"IFERROR($E312*SUMIF('Daily Log'!$Q$18:$Q$1017,$B312,'Daily Log'!$R$18:$R$1017),0)","v":0},{"$f":"IFERROR($E312*SUMIF('Daily Log'!$T$18:$T$1017,$B312,'Daily Log'!$U$18:$U$1017),0)","v":0},{"$f":"IFERROR($E312*SUMIF('Daily Log'!$W$18:$W$1017,$B312,'Daily Log'!$X$18:$X$1017),0)","v":0},{"$f":"IFERROR($E312*SUMIF('Daily Log'!$Z$18:$Z$1017,$B312,'Daily Log'!$AA$18:$AA$1017),0)","v":0},{"$f":"IFERROR($E312*SUMIF('Daily Log'!$AC$18:$AC$1017,$B312,'Daily Log'!$AD$18:$AD$1017),0)","v":2},{"$f":"IFERROR($E312*SUMIF('Daily Log'!$AF$18:$AF$1017,$B312,'Daily Log'!$AG$18:$AG$1017),0)","v":0},{"$f":"IFERROR($E312*SUMIF('Daily Log'!$AI$18:$AI$1017,$B312,'Daily Log'!$AJ$18:$AJ$1017),0)","v":0},{"$f":"IFERROR($E312*SUMIF('Daily Log'!#REF!,$B312,'Daily Log'!#REF!),0)","v":0},{"$f":"IFERROR($E312*SUMIF('Daily Log'!#REF!,$B312,'Daily Log'!#REF!),0)","v":0},{"$f":"IFERROR($E312*SUMIF('Daily Log'!#REF!,$B312,'Daily Log'!#REF!),0)","v":0},{"$f":"IFERROR($E312*SUMIF('Daily Log'!#REF!,$B312,'Daily Log'!#REF!),0)","v":0},{"$f":"IFERROR($E312*SUMIF('Daily Log'!#REF!,$B312,'Daily Log'!#REF!),0)","v":0},{"$f":"IFERROR($E312*SUMIF('Daily Log'!#REF!,$B312,'Daily Log'!#REF!),0)","v":0},{"$f":"IFERROR($E312*SUMIF('Daily Log'!#REF!,$B312,'Daily Log'!#REF!),0)","v":0},{"$f":"IFERROR($E312*SUMIF('Daily Log'!#REF!,$B312,'Daily Log'!#REF!),0)","v":0},{"$f":"IFERROR($E312*SUMIF('Daily Log'!#REF!,$B312,'Daily Log'!#REF!),0)","v":0},{"$f":"IFERROR($E312*SUMIF('Daily Log'!#REF!,$B312,'Daily Log'!#REF!),0)","v":0},{"$f":"IFERROR($E312*SUMIF('Daily Log'!#REF!,$B312,'Daily Log'!#REF!),0)","v":0},{"$f":"IFERROR($E312*SUMIF('Daily Log'!#REF!,$B312,'Daily Log'!#REF!),0)","v":0},{"$f":"IFERROR($E312*SUMIF('Daily Log'!#REF!,$B312,'Daily Log'!#REF!),0)","v":0},{"$f":"IFERROR($E312*SUMIF('Daily Log'!#REF!,$B312,'Daily Log'!#REF!),0)","v":0},{"$f":"IFERROR($E312*SUMIF('Daily Log'!#REF!,$B312,'Daily Log'!#REF!),0)","v":0},{"$f":"IFERROR($E312*SUMIF('Daily Log'!#REF!,$B312,'Daily Log'!#REF!),0)","v":0},{"$f":"IFERROR($E312*SUMIF('Daily Log'!#REF!,$B312,'Daily Log'!#REF!),0)","v":0},{"$f":"IFERROR($E312*SUMIF('Daily Log'!#REF!,$B312,'Daily Log'!#REF!),0)","v":0},{"$f":"IFERROR($E312*SUMIF('Daily Log'!#REF!,$B312,'Daily Log'!#REF!),0)","v":0}]
[null,"AC28 N: Student Diner",null,null,1,0,{"$f":"IFERROR($E313*SUMIF('Daily Log'!$B$18:$B$1017,$B313,'Daily Log'!$C$18:$C$1017),0)","v":0},{"$f":"IFERROR($E313*SUMIF('Daily Log'!$E$18:$E$1017,$B313,'Daily Log'!$F$18:$F$1017),0)","v":0},{"$f":"IFERROR($E313*SUMIF('Daily Log'!$H$18:$H$1017,$B313,'Daily Log'!$I$18:$I$1017),0)","v":0},{"$f":"IFERROR($E313*SUMIF('Daily Log'!$K$18:$K$1017,$B313,'Daily Log'!$L$18:$L$1017),0)","v":0},{"$f":"IFERROR($E313*SUMIF('Daily Log'!$N$18:$N$1017,$B313,'Daily Log'!$O$18:$O$1017),0)","v":0},{"$f":"IFERROR($E313*SUMIF('Daily Log'!$Q$18:$Q$1017,$B313,'Daily Log'!$R$18:$R$1017),0)","v":0},{"$f":"IFERROR($E313*SUMIF('Daily Log'!$T$18:$T$1017,$B313,'Daily Log'!$U$18:$U$1017),0)","v":0},{"$f":"IFERROR($E313*SUMIF('Daily Log'!$W$18:$W$1017,$B313,'Daily Log'!$X$18:$X$1017),0)","v":0},{"$f":"IFERROR($E313*SUMIF('Daily Log'!$Z$18:$Z$1017,$B313,'Daily Log'!$AA$18:$AA$1017),0)","v":0},{"$f":"IFERROR($E313*SUMIF('Daily Log'!$AC$18:$AC$1017,$B313,'Daily Log'!$AD$18:$AD$1017),0)","v":0},{"$f":"IFERROR($E313*SUMIF('Daily Log'!$AF$18:$AF$1017,$B313,'Daily Log'!$AG$18:$AG$1017),0)","v":0},{"$f":"IFERROR($E313*SUMIF('Daily Log'!$AI$18:$AI$1017,$B313,'Daily Log'!$AJ$18:$AJ$1017),0)","v":0},{"$f":"IFERROR($E313*SUMIF('Daily Log'!#REF!,$B313,'Daily Log'!#REF!),0)","v":0},{"$f":"IFERROR($E313*SUMIF('Daily Log'!#REF!,$B313,'Daily Log'!#REF!),0)","v":0},{"$f":"IFERROR($E313*SUMIF('Daily Log'!#REF!,$B313,'Daily Log'!#REF!),0)","v":0},{"$f":"IFERROR($E313*SUMIF('Daily Log'!#REF!,$B313,'Daily Log'!#REF!),0)","v":0},{"$f":"IFERROR($E313*SUMIF('Daily Log'!#REF!,$B313,'Daily Log'!#REF!),0)","v":0},{"$f":"IFERROR($E313*SUMIF('Daily Log'!#REF!,$B313,'Daily Log'!#REF!),0)","v":0},{"$f":"IFERROR($E313*SUMIF('Daily Log'!#REF!,$B313,'Daily Log'!#REF!),0)","v":0},{"$f":"IFERROR($E313*SUMIF('Daily Log'!#REF!,$B313,'Daily Log'!#REF!),0)","v":0},{"$f":"IFERROR($E313*SUMIF('Daily Log'!#REF!,$B313,'Daily Log'!#REF!),0)","v":0},{"$f":"IFERROR($E313*SUMIF('Daily Log'!#REF!,$B313,'Daily Log'!#REF!),0)","v":0},{"$f":"IFERROR($E313*SUMIF('Daily Log'!#REF!,$B313,'Daily Log'!#REF!),0)","v":0},{"$f":"IFERROR($E313*SUMIF('Daily Log'!#REF!,$B313,'Daily Log'!#REF!),0)","v":0},{"$f":"IFERROR($E313*SUMIF('Daily Log'!#REF!,$B313,'Daily Log'!#REF!),0)","v":0},{"$f":"IFERROR($E313*SUMIF('Daily Log'!#REF!,$B313,'Daily Log'!#REF!),0)","v":0},{"$f":"IFERROR($E313*SUMIF('Daily Log'!#REF!,$B313,'Daily Log'!#REF!),0)","v":0},{"$f":"IFERROR($E313*SUMIF('Daily Log'!#REF!,$B313,'Daily Log'!#REF!),0)","v":0},{"$f":"IFERROR($E313*SUMIF('Daily Log'!#REF!,$B313,'Daily Log'!#REF!),0)","v":0},{"$f":"IFERROR($E313*SUMIF('Daily Log'!#REF!,$B313,'Daily Log'!#REF!),0)","v":0},{"$f":"IFERROR($E313*SUMIF('Daily Log'!#REF!,$B313,'Daily Log'!#REF!),0)","v":0}]
[null,"AC29 N :58",null,null,1,335,{"$f":"IFERROR($E314*SUMIF('Daily Log'!$B$18:$B$1017,$B314,'Daily Log'!$C$18:$C$1017),0)","v":0},{"$f":"IFERROR($E314*SUMIF('Daily Log'!$E$18:$E$1017,$B314,'Daily Log'!$F$18:$F$1017),0)","v":0},{"$f":"IFERROR($E314*SUMIF('Daily Log'!$H$18:$H$1017,$B314,'Daily Log'!$I$18:$I$1017),0)","v":0},{"$f":"IFERROR($E314*SUMIF('Daily Log'!$K$18:$K$1017,$B314,'Daily Log'!$L$18:$L$1017),0)","v":0},{"$f":"IFERROR($E314*SUMIF('Daily Log'!$N$18:$N$1017,$B314,'Daily Log'!$O$18:$O$1017),0)","v":0},{"$f":"IFERROR($E314*SUMIF('Daily Log'!$Q$18:$Q$1017,$B314,'Daily Log'!$R$18:$R$1017),0)","v":0},{"$f":"IFERROR($E314*SUMIF('Daily Log'!$T$18:$T$1017,$B314,'Daily Log'!$U$18:$U$1017),0)","v":0},{"$f":"IFERROR($E314*SUMIF('Daily Log'!$W$18:$W$1017,$B314,'Daily Log'!$X$18:$X$1017),0)","v":0},{"$f":"IFERROR($E314*SUMIF('Daily Log'!$Z$18:$Z$1017,$B314,'Daily Log'!$AA$18:$AA$1017),0)","v":78},{"$f":"IFERROR($E314*SUMIF('Daily Log'!$AC$18:$AC$1017,$B314,'Daily Log'!$AD$18:$AD$1017),0)","v":103},{"$f":"IFERROR($E314*SUMIF('Daily Log'!$AF$18:$AF$1017,$B314,'Daily Log'!$AG$18:$AG$1017),0)","v":79},{"$f":"IFERROR($E314*SUMIF('Daily Log'!$AI$18:$AI$1017,$B314,'Daily Log'!$AJ$18:$AJ$1017),0)","v":75},{"$f":"IFERROR($E314*SUMIF('Daily Log'!#REF!,$B314,'Daily Log'!#REF!),0)","v":0},{"$f":"IFERROR($E314*SUMIF('Daily Log'!#REF!,$B314,'Daily Log'!#REF!),0)","v":0},{"$f":"IFERROR($E314*SUMIF('Daily Log'!#REF!,$B314,'Daily Log'!#REF!),0)","v":0},{"$f":"IFERROR($E314*SUMIF('Daily Log'!#REF!,$B314,'Daily Log'!#REF!),0)","v":0},{"$f":"IFERROR($E314*SUMIF('Daily Log'!#REF!,$B314,'Daily Log'!#REF!),0)","v":0},{"$f":"IFERROR($E314*SUMIF('Daily Log'!#REF!,$B314,'Daily Log'!#REF!),0)","v":0},{"$f":"IFERROR($E314*SUMIF('Daily Log'!#REF!,$B314,'Daily Log'!#REF!),0)","v":0},{"$f":"IFERROR($E314*SUMIF('Daily Log'!#REF!,$B314,'Daily Log'!#REF!),0)","v":0},{"$f":"IFERROR($E314*SUMIF('Daily Log'!#REF!,$B314,'Daily Log'!#REF!),0)","v":0},{"$f":"IFERROR($E314*SUMIF('Daily Log'!#REF!,$B314,'Daily Log'!#REF!),0)","v":0},{"$f":"IFERROR($E314*SUMIF('Daily Log'!#REF!,$B314,'Daily Log'!#REF!),0)","v":0},{"$f":"IFERROR($E314*SUMIF('Daily Log'!#REF!,$B314,'Daily Log'!#REF!),0)","v":0},{"$f":"IFERROR($E314*SUMIF('Daily Log'!#REF!,$B314,'Daily Log'!#REF!),0)","v":0},{"$f":"IFERROR($E314*SUMIF('Daily Log'!#REF!,$B314,'Daily Log'!#REF!),0)","v":0},{"$f":"IFERROR($E314*SUMIF('Daily Log'!#REF!,$B314,'Daily Log'!#REF!),0)","v":0},{"$f":"IFERROR($E314*SUMIF('Daily Log'!#REF!,$B314,'Daily Log'!#REF!),0)","v":0},{"$f":"IFERROR($E314*SUMIF('Daily Log'!#REF!,$B314,'Daily Log'!#REF!),0)","v":0},{"$f":"IFERROR($E314*SUMIF('Daily Log'!#REF!,$B314,'Daily Log'!#REF!),0)","v":0},{"$f":"IFERROR($E314*SUMIF('Daily Log'!#REF!,$B314,'Daily Log'!#REF!),0)","v":0}]
[null,"AC33 N : XTD VIP ROOM",null,null,1,0,{"$f":"IFERROR($E315*SUMIF('Daily Log'!$B$18:$B$1017,$B315,'Daily Log'!$C$18:$C$1017),0)","v":0},{"$f":"IFERROR($E315*SUMIF('Daily Log'!$E$18:$E$1017,$B315,'Daily Log'!$F$18:$F$1017),0)","v":0},{"$f":"IFERROR($E315*SUMIF('Daily Log'!$H$18:$H$1017,$B315,'Daily Log'!$I$18:$I$1017),0)","v":0},{"$f":"IFERROR($E315*SUMIF('Daily Log'!$K$18:$K$1017,$B315,'Daily Log'!$L$18:$L$1017),0)","v":0},{"$f":"IFERROR($E315*SUMIF('Daily Log'!$N$18:$N$1017,$B315,'Daily Log'!$O$18:$O$1017),0)","v":0},{"$f":"IFERROR($E315*SUMIF('Daily Log'!$Q$18:$Q$1017,$B315,'Daily Log'!$R$18:$R$1017),0)","v":0},{"$f":"IFERROR($E315*SUMIF('Daily Log'!$T$18:$T$1017,$B315,'Daily Log'!$U$18:$U$1017),0)","v":0},{"$f":"IFERROR($E315*SUMIF('Daily Log'!$W$18:$W$1017,$B315,'Daily Log'!$X$18:$X$1017),0)","v":0},{"$f":"IFERROR($E315*SUMIF('Daily Log'!$Z$18:$Z$1017,$B315,'Daily Log'!$AA$18:$AA$1017),0)","v":0},{"$f":"IFERROR($E315*SUMIF('Daily Log'!$AC$18:$AC$1017,$B315,'Daily Log'!$AD$18:$AD$1017),0)","v":0},{"$f":"IFERROR($E315*SUMIF('Daily Log'!$AF$18:$AF$1017,$B315,'Daily Log'!$AG$18:$AG$1017),0)","v":0},{"$f":"IFERROR($E315*SUMIF('Daily Log'!$AI$18:$AI$1017,$B315,'Daily Log'!$AJ$18:$AJ$1017),0)","v":0},{"$f":"IFERROR($E315*SUMIF('Daily Log'!#REF!,$B315,'Daily Log'!#REF!),0)","v":0},{"$f":"IFERROR($E315*SUMIF('Daily Log'!#REF!,$B315,'Daily Log'!#REF!),0)","v":0},{"$f":"IFERROR($E315*SUMIF('Daily Log'!#REF!,$B315,'Daily Log'!#REF!),0)","v":0},{"$f":"IFERROR($E315*SUMIF('Daily Log'!#REF!,$B315,'Daily Log'!#REF!),0)","v":0},{"$f":"IFERROR($E315*SUMIF('Daily Log'!#REF!,$B315,'Daily Log'!#REF!),0)","v":0},{"$f":"IFERROR($E315*SUMIF('Daily Log'!#REF!,$B315,'Daily Log'!#REF!),0)","v":0},{"$f":"IFERROR($E315*SUMIF('Daily Log'!#REF!,$B315,'Daily Log'!#REF!),0)","v":0},{"$f":"IFERROR($E315*SUMIF('Daily Log'!#REF!,$B315,'Daily Log'!#REF!),0)","v":0},{"$f":"IFERROR($E315*SUMIF('Daily Log'!#REF!,$B315,'Daily Log'!#REF!),0)","v":0},{"$f":"IFERROR($E315*SUMIF('Daily Log'!#REF!,$B315,'Daily Log'!#REF!),0)","v":0},{"$f":"IFERROR($E315*SUMIF('Daily Log'!#REF!,$B315,'Daily Log'!#REF!),0)","v":0},{"$f":"IFERROR($E315*SUMIF('Daily Log'!#REF!,$B315,'Daily Log'!#REF!),0)","v":0},{"$f":"IFERROR($E315*SUMIF('Daily Log'!#REF!,$B315,'Daily Log'!#REF!),0)","v":0},{"$f":"IFERROR($E315*SUMIF('Daily Log'!#REF!,$B315,'Daily Log'!#REF!),0)","v":0},{"$f":"IFERROR($E315*SUMIF('Daily Log'!#REF!,$B315,'Daily Log'!#REF!),0)","v":0},{"$f":"IFERROR($E315*SUMIF('Daily Log'!#REF!,$B315,'Daily Log'!#REF!),0)","v":0},{"$f":"IFERROR($E315*SUMIF('Daily Log'!#REF!,$B315,'Daily Log'!#REF!),0)","v":0},{"$f":"IFERROR($E315*SUMIF('Daily Log'!#REF!,$B315,'Daily Log'!#REF!),0)","v":0},{"$f":"IFERROR($E315*SUMIF('Daily Log'!#REF!,$B315,'Daily Log'!#REF!),0)","v":0}]
[null,"AD01 M : REGULAR",null,null,1,116,{"$f":"IFERROR($E316*SUMIF('Daily Log'!$B$18:$B$1017,$B316,'Daily Log'!$C$18:$C$1017),0)","v":0},{"$f":"IFERROR($E316*SUMIF('Daily Log'!$E$18:$E$1017,$B316,'Daily Log'!$F$18:$F$1017),0)","v":0},{"$f":"IFERROR($E316*SUMIF('Daily Log'!$H$18:$H$1017,$B316,'Daily Log'!$I$18:$I$1017),0)","v":0},{"$f":"IFERROR($E316*SUMIF('Daily Log'!$K$18:$K$1017,$B316,'Daily Log'!$L$18:$L$1017),0)","v":0},{"$f":"IFERROR($E316*SUMIF('Daily Log'!$N$18:$N$1017,$B316,'Daily Log'!$O$18:$O$1017),0)","v":0},{"$f":"IFERROR($E316*SUMIF('Daily Log'!$Q$18:$Q$1017,$B316,'Daily Log'!$R$18:$R$1017),0)","v":3},{"$f":"IFERROR($E316*SUMIF('Daily Log'!$T$18:$T$1017,$B316,'Daily Log'!$U$18:$U$1017),0)","v":2},{"$f":"IFERROR($E316*SUMIF('Daily Log'!$W$18:$W$1017,$B316,'Daily Log'!$X$18:$X$1017),0)","v":2},{"$f":"IFERROR($E316*SUMIF('Daily Log'!$Z$18:$Z$1017,$B316,'Daily Log'!$AA$18:$AA$1017),0)","v":14},{"$f":"IFERROR($E316*SUMIF('Daily Log'!$AC$18:$AC$1017,$B316,'Daily Log'!$AD$18:$AD$1017),0)","v":13},{"$f":"IFERROR($E316*SUMIF('Daily Log'!$AF$18:$AF$1017,$B316,'Daily Log'!$AG$18:$AG$1017),0)","v":73},{"$f":"IFERROR($E316*SUMIF('Daily Log'!$AI$18:$AI$1017,$B316,'Daily Log'!$AJ$18:$AJ$1017),0)","v":9},{"$f":"IFERROR($E316*SUMIF('Daily Log'!#REF!,$B316,'Daily Log'!#REF!),0)","v":0},{"$f":"IFERROR($E316*SUMIF('Daily Log'!#REF!,$B316,'Daily Log'!#REF!),0)","v":0},{"$f":"IFERROR($E316*SUMIF('Daily Log'!#REF!,$B316,'Daily Log'!#REF!),0)","v":0},{"$f":"IFERROR($E316*SUMIF('Daily Log'!#REF!,$B316,'Daily Log'!#REF!),0)","v":0},{"$f":"IFERROR($E316*SUMIF('Daily Log'!#REF!,$B316,'Daily Log'!#REF!),0)","v":0},{"$f":"IFERROR($E316*SUMIF('Daily Log'!#REF!,$B316,'Daily Log'!#REF!),0)","v":0},{"$f":"IFERROR($E316*SUMIF('Daily Log'!#REF!,$B316,'Daily Log'!#REF!),0)","v":0},{"$f":"IFERROR($E316*SUMIF('Daily Log'!#REF!,$B316,'Daily Log'!#REF!),0)","v":0},{"$f":"IFERROR($E316*SUMIF('Daily Log'!#REF!,$B316,'Daily Log'!#REF!),0)","v":0},{"$f":"IFERROR($E316*SUMIF('Daily Log'!#REF!,$B316,'Daily Log'!#REF!),0)","v":0},{"$f":"IFERROR($E316*SUMIF('Daily Log'!#REF!,$B316,'Daily Log'!#REF!),0)","v":0},{"$f":"IFERROR($E316*SUMIF('Daily Log'!#REF!,$B316,'Daily Log'!#REF!),0)","v":0},{"$f":"IFERROR($E316*SUMIF('Daily Log'!#REF!,$B316,'Daily Log'!#REF!),0)","v":0},{"$f":"IFERROR($E316*SUMIF('Daily Log'!#REF!,$B316,'Daily Log'!#REF!),0)","v":0},{"$f":"IFERROR($E316*SUMIF('Daily Log'!#REF!,$B316,'Daily Log'!#REF!),0)","v":0},{"$f":"IFERROR($E316*SUMIF('Daily Log'!#REF!,$B316,'Daily Log'!#REF!),0)","v":0},{"$f":"IFERROR($E316*SUMIF('Daily Log'!#REF!,$B316,'Daily Log'!#REF!),0)","v":0},{"$f":"IFERROR($E316*SUMIF('Daily Log'!#REF!,$B316,'Daily Log'!#REF!),0)","v":0},{"$f":"IFERROR($E316*SUMIF('Daily Log'!#REF!,$B316,'Daily Log'!#REF!),0)","v":0}]
[null,"AD02 M : MEMBER",null,null,1,22,{"$f":"IFERROR($E317*SUMIF('Daily Log'!$B$18:$B$1017,$B317,'Daily Log'!$C$18:$C$1017),0)","v":0},{"$f":"IFERROR($E317*SUMIF('Daily Log'!$E$18:$E$1017,$B317,'Daily Log'!$F$18:$F$1017),0)","v":0},{"$f":"IFERROR($E317*SUMIF('Daily Log'!$H$18:$H$1017,$B317,'Daily Log'!$I$18:$I$1017),0)","v":0},{"$f":"IFERROR($E317*SUMIF('Daily Log'!$K$18:$K$1017,$B317,'Daily Log'!$L$18:$L$1017),0)","v":0},{"$f":"IFERROR($E317*SUMIF('Daily Log'!$N$18:$N$1017,$B317,'Daily Log'!$O$18:$O$1017),0)","v":0},{"$f":"IFERROR($E317*SUMIF('Daily Log'!$Q$18:$Q$1017,$B317,'Daily Log'!$R$18:$R$1017),0)","v":0},{"$f":"IFERROR($E317*SUMIF('Daily Log'!$T$18:$T$1017,$B317,'Daily Log'!$U$18:$U$1017),0)","v":0},{"$f":"IFERROR($E317*SUMIF('Daily Log'!$W$18:$W$1017,$B317,'Daily Log'!$X$18:$X$1017),0)","v":2},{"$f":"IFERROR($E317*SUMIF('Daily Log'!$Z$18:$Z$1017,$B317,'Daily Log'!$AA$18:$AA$1017),0)","v":0},{"$f":"IFERROR($E317*SUMIF('Daily Log'!$AC$18:$AC$1017,$B317,'Daily Log'!$AD$18:$AD$1017),0)","v":16},{"$f":"IFERROR($E317*SUMIF('Daily Log'!$AF$18:$AF$1017,$B317,'Daily Log'!$AG$18:$AG$1017),0)","v":4},{"$f":"IFERROR($E317*SUMIF('Daily Log'!$AI$18:$AI$1017,$B317,'Daily Log'!$AJ$18:$AJ$1017),0)","v":0},{"$f":"IFERROR($E317*SUMIF('Daily Log'!#REF!,$B317,'Daily Log'!#REF!),0)","v":0},{"$f":"IFERROR($E317*SUMIF('Daily Log'!#REF!,$B317,'Daily Log'!#REF!),0)","v":0},{"$f":"IFERROR($E317*SUMIF('Daily Log'!#REF!,$B317,'Daily Log'!#REF!),0)","v":0},{"$f":"IFERROR($E317*SUMIF('Daily Log'!#REF!,$B317,'Daily Log'!#REF!),0)","v":0},{"$f":"IFERROR($E317*SUMIF('Daily Log'!#REF!,$B317,'Daily Log'!#REF!),0)","v":0},{"$f":"IFERROR($E317*SUMIF('Daily Log'!#REF!,$B317,'Daily Log'!#REF!),0)","v":0},{"$f":"IFERROR($E317*SUMIF('Daily Log'!#REF!,$B317,'Daily Log'!#REF!),0)","v":0},{"$f":"IFERROR($E317*SUMIF('Daily Log'!#REF!,$B317,'Daily Log'!#REF!),0)","v":0},{"$f":"IFERROR($E317*SUMIF('Daily Log'!#REF!,$B317,'Daily Log'!#REF!),0)","v":0},{"$f":"IFERROR($E317*SUMIF('Daily Log'!#REF!,$B317,'Daily Log'!#REF!),0)","v":0},{"$f":"IFERROR($E317*SUMIF('Daily Log'!#REF!,$B317,'Daily Log'!#REF!),0)","v":0},{"$f":"IFERROR($E317*SUMIF('Daily Log'!#REF!,$B317,'Daily Log'!#REF!),0)","v":0},{"$f":"IFERROR($E317*SUMIF('Daily Log'!#REF!,$B317,'Daily Log'!#REF!),0)","v":0},{"$f":"IFERROR($E317*SUMIF('Daily Log'!#REF!,$B317,'Daily Log'!#REF!),0)","v":0},{"$f":"IFERROR($E317*SUMIF('Daily Log'!#REF!,$B317,'Daily Log'!#REF!),0)","v":0},{"$f":"IFERROR($E317*SUMIF('Daily Log'!#REF!,$B317,'Daily Log'!#REF!),0)","v":0},{"$f":"IFERROR($E317*SUMIF('Daily Log'!#REF!,$B317,'Daily Log'!#REF!),0)","v":0},{"$f":"IFERROR($E317*SUMIF('Daily Log'!#REF!,$B317,'Daily Log'!#REF!),0)","v":0},{"$f":"IFERROR($E317*SUMIF('Daily Log'!#REF!,$B317,'Daily Log'!#REF!),0)","v":0}]
[null,"AD03 M : MEMBER 30%",null,null,1,0,{"$f":"IFERROR($E318*SUMIF('Daily Log'!$B$18:$B$1017,$B318,'Daily Log'!$C$18:$C$1017),0)","v":0},{"$f":"IFERROR($E318*SUMIF('Daily Log'!$E$18:$E$1017,$B318,'Daily Log'!$F$18:$F$1017),0)","v":0},{"$f":"IFERROR($E318*SUMIF('Daily Log'!$H$18:$H$1017,$B318,'Daily Log'!$I$18:$I$1017),0)","v":0},{"$f":"IFERROR($E318*SUMIF('Daily Log'!$K$18:$K$1017,$B318,'Daily Log'!$L$18:$L$1017),0)","v":0},{"$f":"IFERROR($E318*SUMIF('Daily Log'!$N$18:$N$1017,$B318,'Daily Log'!$O$18:$O$1017),0)","v":0},{"$f":"IFERROR($E318*SUMIF('Daily Log'!$Q$18:$Q$1017,$B318,'Daily Log'!$R$18:$R$1017),0)","v":0},{"$f":"IFERROR($E318*SUMIF('Daily Log'!$T$18:$T$1017,$B318,'Daily Log'!$U$18:$U$1017),0)","v":0},{"$f":"IFERROR($E318*SUMIF('Daily Log'!$W$18:$W$1017,$B318,'Daily Log'!$X$18:$X$1017),0)","v":0},{"$f":"IFERROR($E318*SUMIF('Daily Log'!$Z$18:$Z$1017,$B318,'Daily Log'!$AA$18:$AA$1017),0)","v":0},{"$f":"IFERROR($E318*SUMIF('Daily Log'!$AC$18:$AC$1017,$B318,'Daily Log'!$AD$18:$AD$1017),0)","v":0},{"$f":"IFERROR($E318*SUMIF('Daily Log'!$AF$18:$AF$1017,$B318,'Daily Log'!$AG$18:$AG$1017),0)","v":0},{"$f":"IFERROR($E318*SUMIF('Daily Log'!$AI$18:$AI$1017,$B318,'Daily Log'!$AJ$18:$AJ$1017),0)","v":0},{"$f":"IFERROR($E318*SUMIF('Daily Log'!#REF!,$B318,'Daily Log'!#REF!),0)","v":0},{"$f":"IFERROR($E318*SUMIF('Daily Log'!#REF!,$B318,'Daily Log'!#REF!),0)","v":0},{"$f":"IFERROR($E318*SUMIF('Daily Log'!#REF!,$B318,'Daily Log'!#REF!),0)","v":0},{"$f":"IFERROR($E318*SUMIF('Daily Log'!#REF!,$B318,'Daily Log'!#REF!),0)","v":0},{"$f":"IFERROR($E318*SUMIF('Daily Log'!#REF!,$B318,'Daily Log'!#REF!),0)","v":0},{"$f":"IFERROR($E318*SUMIF('Daily Log'!#REF!,$B318,'Daily Log'!#REF!),0)","v":0},{"$f":"IFERROR($E318*SUMIF('Daily Log'!#REF!,$B318,'Daily Log'!#REF!),0)","v":0},{"$f":"IFERROR($E318*SUMIF('Daily Log'!#REF!,$B318,'Daily Log'!#REF!),0)","v":0},{"$f":"IFERROR($E318*SUMIF('Daily Log'!#REF!,$B318,'Daily Log'!#REF!),0)","v":0},{"$f":"IFERROR($E318*SUMIF('Daily Log'!#REF!,$B318,'Daily Log'!#REF!),0)","v":0},{"$f":"IFERROR($E318*SUMIF('Daily Log'!#REF!,$B318,'Daily Log'!#REF!),0)","v":0},{"$f":"IFERROR($E318*SUMIF('Daily Log'!#REF!,$B318,'Daily Log'!#REF!),0)","v":0},{"$f":"IFERROR($E318*SUMIF('Daily Log'!#REF!,$B318,'Daily Log'!#REF!),0)","v":0},{"$f":"IFERROR($E318*SUMIF('Daily Log'!#REF!,$B318,'Daily Log'!#REF!),0)","v":0},{"$f":"IFERROR($E318*SUMIF('Daily Log'!#REF!,$B318,'Daily Log'!#REF!),0)","v":0},{"$f":"IFERROR($E318*SUMIF('Daily Log'!#REF!,$B318,'Daily Log'!#REF!),0)","v":0},{"$f":"IFERROR($E318*SUMIF('Daily Log'!#REF!,$B318,'Daily Log'!#REF!),0)","v":0},{"$f":"IFERROR($E318*SUMIF('Daily Log'!#REF!,$B318,'Daily Log'!#REF!),0)","v":0},{"$f":"IFERROR($E318*SUMIF('Daily Log'!#REF!,$B318,'Daily Log'!#REF!),0)","v":0}]
[null,"AD05 M : LADIES",null,null,1,45,{"$f":"IFERROR($E319*SUMIF('Daily Log'!$B$18:$B$1017,$B319,'Daily Log'!$C$18:$C$1017),0)","v":0},{"$f":"IFERROR($E319*SUMIF('Daily Log'!$E$18:$E$1017,$B319,'Daily Log'!$F$18:$F$1017),0)","v":0},{"$f":"IFERROR($E319*SUMIF('Daily Log'!$H$18:$H$1017,$B319,'Daily Log'!$I$18:$I$1017),0)","v":0},{"$f":"IFERROR($E319*SUMIF('Daily Log'!$K$18:$K$1017,$B319,'Daily Log'!$L$18:$L$1017),0)","v":0},{"$f":"IFERROR($E319*SUMIF('Daily Log'!$N$18:$N$1017,$B319,'Daily Log'!$O$18:$O$1017),0)","v":0},{"$f":"IFERROR($E319*SUMIF('Daily Log'!$Q$18:$Q$1017,$B319,'Daily Log'!$R$18:$R$1017),0)","v":9},{"$f":"IFERROR($E319*SUMIF('Daily Log'!$T$18:$T$1017,$B319,'Daily Log'!$U$18:$U$1017),0)","v":2},{"$f":"IFERROR($E319*SUMIF('Daily Log'!$W$18:$W$1017,$B319,'Daily Log'!$X$18:$X$1017),0)","v":2},{"$f":"IFERROR($E319*SUMIF('Daily Log'!$Z$18:$Z$1017,$B319,'Daily Log'!$AA$18:$AA$1017),0)","v":17},{"$f":"IFERROR($E319*SUMIF('Daily Log'!$AC$18:$AC$1017,$B319,'Daily Log'!$AD$18:$AD$1017),0)","v":0},{"$f":"IFERROR($E319*SUMIF('Daily Log'!$AF$18:$AF$1017,$B319,'Daily Log'!$AG$18:$AG$1017),0)","v":0},{"$f":"IFERROR($E319*SUMIF('Daily Log'!$AI$18:$AI$1017,$B319,'Daily Log'!$AJ$18:$AJ$1017),0)","v":15},{"$f":"IFERROR($E319*SUMIF('Daily Log'!#REF!,$B319,'Daily Log'!#REF!),0)","v":0},{"$f":"IFERROR($E319*SUMIF('Daily Log'!#REF!,$B319,'Daily Log'!#REF!),0)","v":0},{"$f":"IFERROR($E319*SUMIF('Daily Log'!#REF!,$B319,'Daily Log'!#REF!),0)","v":0},{"$f":"IFERROR($E319*SUMIF('Daily Log'!#REF!,$B319,'Daily Log'!#REF!),0)","v":0},{"$f":"IFERROR($E319*SUMIF('Daily Log'!#REF!,$B319,'Daily Log'!#REF!),0)","v":0},{"$f":"IFERROR($E319*SUMIF('Daily Log'!#REF!,$B319,'Daily Log'!#REF!),0)","v":0},{"$f":"IFERROR($E319*SUMIF('Daily Log'!#REF!,$B319,'Daily Log'!#REF!),0)","v":0},{"$f":"IFERROR($E319*SUMIF('Daily Log'!#REF!,$B319,'Daily Log'!#REF!),0)","v":0},{"$f":"IFERROR($E319*SUMIF('Daily Log'!#REF!,$B319,'Daily Log'!#REF!),0)","v":0},{"$f":"IFERROR($E319*SUMIF('Daily Log'!#REF!,$B319,'Daily Log'!#REF!),0)","v":0},{"$f":"IFERROR($E319*SUMIF('Daily Log'!#REF!,$B319,'Daily Log'!#REF!),0)","v":0},{"$f":"IFERROR($E319*SUMIF('Daily Log'!#REF!,$B319,'Daily Log'!#REF!),0)","v":0},{"$f":"IFERROR($E319*SUMIF('Daily Log'!#REF!,$B319,'Daily Log'!#REF!),0)","v":0},{"$f":"IFERROR($E319*SUMIF('Daily Log'!#REF!,$B319,'Daily Log'!#REF!),0)","v":0},{"$f":"IFERROR($E319*SUMIF('Daily Log'!#REF!,$B319,'Daily Log'!#REF!),0)","v":0},{"$f":"IFERROR($E319*SUMIF('Daily Log'!#REF!,$B319,'Daily Log'!#REF!),0)","v":0},{"$f":"IFERROR($E319*SUMIF('Daily Log'!#REF!,$B319,'Daily Log'!#REF!),0)","v":0},{"$f":"IFERROR($E319*SUMIF('Daily Log'!#REF!,$B319,'Daily Log'!#REF!),0)","v":0},{"$f":"IFERROR($E319*SUMIF('Daily Log'!#REF!,$B319,'Daily Log'!#REF!),0)","v":0}]
[null,"AD06 M : CHILDREN",null,null,1,1,{"$f":"IFERROR($E320*SUMIF('Daily Log'!$B$18:$B$1017,$B320,'Daily Log'!$C$18:$C$1017),0)","v":0},{"$f":"IFERROR($E320*SUMIF('Daily Log'!$E$18:$E$1017,$B320,'Daily Log'!$F$18:$F$1017),0)","v":0},{"$f":"IFERROR($E320*SUMIF('Daily Log'!$H$18:$H$1017,$B320,'Daily Log'!$I$18:$I$1017),0)","v":0},{"$f":"IFERROR($E320*SUMIF('Daily Log'!$K$18:$K$1017,$B320,'Daily Log'!$L$18:$L$1017),0)","v":0},{"$f":"IFERROR($E320*SUMIF('Daily Log'!$N$18:$N$1017,$B320,'Daily Log'!$O$18:$O$1017),0)","v":0},{"$f":"IFERROR($E320*SUMIF('Daily Log'!$Q$18:$Q$1017,$B320,'Daily Log'!$R$18:$R$1017),0)","v":0},{"$f":"IFERROR($E320*SUMIF('Daily Log'!$T$18:$T$1017,$B320,'Daily Log'!$U$18:$U$1017),0)","v":0},{"$f":"IFERROR($E320*SUMIF('Daily Log'!$W$18:$W$1017,$B320,'Daily Log'!$X$18:$X$1017),0)","v":1},{"$f":"IFERROR($E320*SUMIF('Daily Log'!$Z$18:$Z$1017,$B320,'Daily Log'!$AA$18:$AA$1017),0)","v":0},{"$f":"IFERROR($E320*SUMIF('Daily Log'!$AC$18:$AC$1017,$B320,'Daily Log'!$AD$18:$AD$1017),0)","v":0},{"$f":"IFERROR($E320*SUMIF('Daily Log'!$AF$18:$AF$1017,$B320,'Daily Log'!$AG$18:$AG$1017),0)","v":0},{"$f":"IFERROR($E320*SUMIF('Daily Log'!$AI$18:$AI$1017,$B320,'Daily Log'!$AJ$18:$AJ$1017),0)","v":0},{"$f":"IFERROR($E320*SUMIF('Daily Log'!#REF!,$B320,'Daily Log'!#REF!),0)","v":0},{"$f":"IFERROR($E320*SUMIF('Daily Log'!#REF!,$B320,'Daily Log'!#REF!),0)","v":0},{"$f":"IFERROR($E320*SUMIF('Daily Log'!#REF!,$B320,'Daily Log'!#REF!),0)","v":0},{"$f":"IFERROR($E320*SUMIF('Daily Log'!#REF!,$B320,'Daily Log'!#REF!),0)","v":0},{"$f":"IFERROR($E320*SUMIF('Daily Log'!#REF!,$B320,'Daily Log'!#REF!),0)","v":0},{"$f":"IFERROR($E320*SUMIF('Daily Log'!#REF!,$B320,'Daily Log'!#REF!),0)","v":0},{"$f":"IFERROR($E320*SUMIF('Daily Log'!#REF!,$B320,'Daily Log'!#REF!),0)","v":0},{"$f":"IFERROR($E320*SUMIF('Daily Log'!#REF!,$B320,'Daily Log'!#REF!),0)","v":0},{"$f":"IFERROR($E320*SUMIF('Daily Log'!#REF!,$B320,'Daily Log'!#REF!),0)","v":0},{"$f":"IFERROR($E320*SUMIF('Daily Log'!#REF!,$B320,'Daily Log'!#REF!),0)","v":0},{"$f":"IFERROR($E320*SUMIF('Daily Log'!#REF!,$B320,'Daily Log'!#REF!),0)","v":0},{"$f":"IFERROR($E320*SUMIF('Daily Log'!#REF!,$B320,'Daily Log'!#REF!),0)","v":0},{"$f":"IFERROR($E320*SUMIF('Daily Log'!#REF!,$B320,'Daily Log'!#REF!),0)","v":0},{"$f":"IFERROR($E320*SUMIF('Daily Log'!#REF!,$B320,'Daily Log'!#REF!),0)","v":0},{"$f":"IFERROR($E320*SUMIF('Daily Log'!#REF!,$B320,'Daily Log'!#REF!),0)","v":0},{"$f":"IFERROR($E320*SUMIF('Daily Log'!#REF!,$B320,'Daily Log'!#REF!),0)","v":0},{"$f":"IFERROR($E320*SUMIF('Daily Log'!#REF!,$B320,'Daily Log'!#REF!),0)","v":0},{"$f":"IFERROR($E320*SUMIF('Daily Log'!#REF!,$B320,'Daily Log'!#REF!),0)","v":0},{"$f":"IFERROR($E320*SUMIF('Daily Log'!#REF!,$B320,'Daily Log'!#REF!),0)","v":0}]
[null,"AD07 M : MEMBER B'DAY",null,null,1,1,{"$f":"IFERROR($E321*SUMIF('Daily Log'!$B$18:$B$1017,$B321,'Daily Log'!$C$18:$C$1017),0)","v":0},{"$f":"IFERROR($E321*SUMIF('Daily Log'!$E$18:$E$1017,$B321,'Daily Log'!$F$18:$F$1017),0)","v":0},{"$f":"IFERROR($E321*SUMIF('Daily Log'!$H$18:$H$1017,$B321,'Daily Log'!$I$18:$I$1017),0)","v":0},{"$f":"IFERROR($E321*SUMIF('Daily Log'!$K$18:$K$1017,$B321,'Daily Log'!$L$18:$L$1017),0)","v":0},{"$f":"IFERROR($E321*SUMIF('Daily Log'!$N$18:$N$1017,$B321,'Daily Log'!$O$18:$O$1017),0)","v":0},{"$f":"IFERROR($E321*SUMIF('Daily Log'!$Q$18:$Q$1017,$B321,'Daily Log'!$R$18:$R$1017),0)","v":0},{"$f":"IFERROR($E321*SUMIF('Daily Log'!$T$18:$T$1017,$B321,'Daily Log'!$U$18:$U$1017),0)","v":0},{"$f":"IFERROR($E321*SUMIF('Daily Log'!$W$18:$W$1017,$B321,'Daily Log'!$X$18:$X$1017),0)","v":0},{"$f":"IFERROR($E321*SUMIF('Daily Log'!$Z$18:$Z$1017,$B321,'Daily Log'!$AA$18:$AA$1017),0)","v":0},{"$f":"IFERROR($E321*SUMIF('Daily Log'!$AC$18:$AC$1017,$B321,'Daily Log'!$AD$18:$AD$1017),0)","v":0},{"$f":"IFERROR($E321*SUMIF('Daily Log'!$AF$18:$AF$1017,$B321,'Daily Log'!$AG$18:$AG$1017),0)","v":1},{"$f":"IFERROR($E321*SUMIF('Daily Log'!$AI$18:$AI$1017,$B321,'Daily Log'!$AJ$18:$AJ$1017),0)","v":0},{"$f":"IFERROR($E321*SUMIF('Daily Log'!#REF!,$B321,'Daily Log'!#REF!),0)","v":0},{"$f":"IFERROR($E321*SUMIF('Daily Log'!#REF!,$B321,'Daily Log'!#REF!),0)","v":0},{"$f":"IFERROR($E321*SUMIF('Daily Log'!#REF!,$B321,'Daily Log'!#REF!),0)","v":0},{"$f":"IFERROR($E321*SUMIF('Daily Log'!#REF!,$B321,'Daily Log'!#REF!),0)","v":0},{"$f":"IFERROR($E321*SUMIF('Daily Log'!#REF!,$B321,'Daily Log'!#REF!),0)","v":0},{"$f":"IFERROR($E321*SUMIF('Daily Log'!#REF!,$B321,'Daily Log'!#REF!),0)","v":0},{"$f":"IFERROR($E321*SUMIF('Daily Log'!#REF!,$B321,'Daily Log'!#REF!),0)","v":0},{"$f":"IFERROR($E321*SUMIF('Daily Log'!#REF!,$B321,'Daily Log'!#REF!),0)","v":0},{"$f":"IFERROR($E321*SUMIF('Daily Log'!#REF!,$B321,'Daily Log'!#REF!),0)","v":0},{"$f":"IFERROR($E321*SUMIF('Daily Log'!#REF!,$B321,'Daily Log'!#REF!),0)","v":0},{"$f":"IFERROR($E321*SUMIF('Daily Log'!#REF!,$B321,'Daily Log'!#REF!),0)","v":0},{"$f":"IFERROR($E321*SUMIF('Daily Log'!#REF!,$B321,'Daily Log'!#REF!),0)","v":0},{"$f":"IFERROR($E321*SUMIF('Daily Log'!#REF!,$B321,'Daily Log'!#REF!),0)","v":0},{"$f":"IFERROR($E321*SUMIF('Daily Log'!#REF!,$B321,'Daily Log'!#REF!),0)","v":0},{"$f":"IFERROR($E321*SUMIF('Daily Log'!#REF!,$B321,'Daily Log'!#REF!),0)","v":0},{"$f":"IFERROR($E321*SUMIF('Daily Log'!#REF!,$B321,'Daily Log'!#REF!),0)","v":0},{"$f":"IFERROR($E321*SUMIF('Daily Log'!#REF!,$B321,'Daily Log'!#REF!),0)","v":0},{"$f":"IFERROR($E321*SUMIF('Daily Log'!#REF!,$B321,'Daily Log'!#REF!),0)","v":0},{"$f":"IFERROR($E321*SUMIF('Daily Log'!#REF!,$B321,'Daily Log'!#REF!),0)","v":0}]
[null,"AD11 M : FREEHEAD (R)",null,null,1,0,{"$f":"IFERROR($E322*SUMIF('Daily Log'!$B$18:$B$1017,$B322,'Daily Log'!$C$18:$C$1017),0)","v":0},{"$f":"IFERROR($E322*SUMIF('Daily Log'!$E$18:$E$1017,$B322,'Daily Log'!$F$18:$F$1017),0)","v":0},{"$f":"IFERROR($E322*SUMIF('Daily Log'!$H$18:$H$1017,$B322,'Daily Log'!$I$18:$I$1017),0)","v":0},{"$f":"IFERROR($E322*SUMIF('Daily Log'!$K$18:$K$1017,$B322,'Daily Log'!$L$18:$L$1017),0)","v":0},{"$f":"IFERROR($E322*SUMIF('Daily Log'!$N$18:$N$1017,$B322,'Daily Log'!$O$18:$O$1017),0)","v":0},{"$f":"IFERROR($E322*SUMIF('Daily Log'!$Q$18:$Q$1017,$B322,'Daily Log'!$R$18:$R$1017),0)","v":0},{"$f":"IFERROR($E322*SUMIF('Daily Log'!$T$18:$T$1017,$B322,'Daily Log'!$U$18:$U$1017),0)","v":0},{"$f":"IFERROR($E322*SUMIF('Daily Log'!$W$18:$W$1017,$B322,'Daily Log'!$X$18:$X$1017),0)","v":0},{"$f":"IFERROR($E322*SUMIF('Daily Log'!$Z$18:$Z$1017,$B322,'Daily Log'!$AA$18:$AA$1017),0)","v":0},{"$f":"IFERROR($E322*SUMIF('Daily Log'!$AC$18:$AC$1017,$B322,'Daily Log'!$AD$18:$AD$1017),0)","v":0},{"$f":"IFERROR($E322*SUMIF('Daily Log'!$AF$18:$AF$1017,$B322,'Daily Log'!$AG$18:$AG$1017),0)","v":0},{"$f":"IFERROR($E322*SUMIF('Daily Log'!$AI$18:$AI$1017,$B322,'Daily Log'!$AJ$18:$AJ$1017),0)","v":0},{"$f":"IFERROR($E322*SUMIF('Daily Log'!#REF!,$B322,'Daily Log'!#REF!),0)","v":0},{"$f":"IFERROR($E322*SUMIF('Daily Log'!#REF!,$B322,'Daily Log'!#REF!),0)","v":0},{"$f":"IFERROR($E322*SUMIF('Daily Log'!#REF!,$B322,'Daily Log'!#REF!),0)","v":0},{"$f":"IFERROR($E322*SUMIF('Daily Log'!#REF!,$B322,'Daily Log'!#REF!),0)","v":0},{"$f":"IFERROR($E322*SUMIF('Daily Log'!#REF!,$B322,'Daily Log'!#REF!),0)","v":0},{"$f":"IFERROR($E322*SUMIF('Daily Log'!#REF!,$B322,'Daily Log'!#REF!),0)","v":0},{"$f":"IFERROR($E322*SUMIF('Daily Log'!#REF!,$B322,'Daily Log'!#REF!),0)","v":0},{"$f":"IFERROR($E322*SUMIF('Daily Log'!#REF!,$B322,'Daily Log'!#REF!),0)","v":0},{"$f":"IFERROR($E322*SUMIF('Daily Log'!#REF!,$B322,'Daily Log'!#REF!),0)","v":0},{"$f":"IFERROR($E322*SUMIF('Daily Log'!#REF!,$B322,'Daily Log'!#REF!),0)","v":0},{"$f":"IFERROR($E322*SUMIF('Daily Log'!#REF!,$B322,'Daily Log'!#REF!),0)","v":0},{"$f":"IFERROR($E322*SUMIF('Daily Log'!#REF!,$B322,'Daily Log'!#REF!),0)","v":0},{"$f":"IFERROR($E322*SUMIF('Daily Log'!#REF!,$B322,'Daily Log'!#REF!),0)","v":0},{"$f":"IFERROR($E322*SUMIF('Daily Log'!#REF!,$B322,'Daily Log'!#REF!),0)","v":0},{"$f":"IFERROR($E322*SUMIF('Daily Log'!#REF!,$B322,'Daily Log'!#REF!),0)","v":0},{"$f":"IFERROR($E322*SUMIF('Daily Log'!#REF!,$B322,'Daily Log'!#REF!),0)","v":0},{"$f":"IFERROR($E322*SUMIF('Daily Log'!#REF!,$B322,'Daily Log'!#REF!),0)","v":0},{"$f":"IFERROR($E322*SUMIF('Daily Log'!#REF!,$B322,'Daily Log'!#REF!),0)","v":0},{"$f":"IFERROR($E322*SUMIF('Daily Log'!#REF!,$B322,'Daily Log'!#REF!),0)","v":0}]
[null,"AD15 M : XTD S ROOM",null,null,1,2,{"$f":"IFERROR($E323*SUMIF('Daily Log'!$B$18:$B$1017,$B323,'Daily Log'!$C$18:$C$1017),0)","v":0},{"$f":"IFERROR($E323*SUMIF('Daily Log'!$E$18:$E$1017,$B323,'Daily Log'!$F$18:$F$1017),0)","v":0},{"$f":"IFERROR($E323*SUMIF('Daily Log'!$H$18:$H$1017,$B323,'Daily Log'!$I$18:$I$1017),0)","v":0},{"$f":"IFERROR($E323*SUMIF('Daily Log'!$K$18:$K$1017,$B323,'Daily Log'!$L$18:$L$1017),0)","v":0},{"$f":"IFERROR($E323*SUMIF('Daily Log'!$N$18:$N$1017,$B323,'Daily Log'!$O$18:$O$1017),0)","v":0},{"$f":"IFERROR($E323*SUMIF('Daily Log'!$Q$18:$Q$1017,$B323,'Daily Log'!$R$18:$R$1017),0)","v":0},{"$f":"IFERROR($E323*SUMIF('Daily Log'!$T$18:$T$1017,$B323,'Daily Log'!$U$18:$U$1017),0)","v":0},{"$f":"IFERROR($E323*SUMIF('Daily Log'!$W$18:$W$1017,$B323,'Daily Log'!$X$18:$X$1017),0)","v":0},{"$f":"IFERROR($E323*SUMIF('Daily Log'!$Z$18:$Z$1017,$B323,'Daily Log'!$AA$18:$AA$1017),0)","v":1},{"$f":"IFERROR($E323*SUMIF('Daily Log'!$AC$18:$AC$1017,$B323,'Daily Log'!$AD$18:$AD$1017),0)","v":0},{"$f":"IFERROR($E323*SUMIF('Daily Log'!$AF$18:$AF$1017,$B323,'Daily Log'!$AG$18:$AG$1017),0)","v":1},{"$f":"IFERROR($E323*SUMIF('Daily Log'!$AI$18:$AI$1017,$B323,'Daily Log'!$AJ$18:$AJ$1017),0)","v":0},{"$f":"IFERROR($E323*SUMIF('Daily Log'!#REF!,$B323,'Daily Log'!#REF!),0)","v":0},{"$f":"IFERROR($E323*SUMIF('Daily Log'!#REF!,$B323,'Daily Log'!#REF!),0)","v":0},{"$f":"IFERROR($E323*SUMIF('Daily Log'!#REF!,$B323,'Daily Log'!#REF!),0)","v":0},{"$f":"IFERROR($E323*SUMIF('Daily Log'!#REF!,$B323,'Daily Log'!#REF!),0)","v":0},{"$f":"IFERROR($E323*SUMIF('Daily Log'!#REF!,$B323,'Daily Log'!#REF!),0)","v":0},{"$f":"IFERROR($E323*SUMIF('Daily Log'!#REF!,$B323,'Daily Log'!#REF!),0)","v":0},{"$f":"IFERROR($E323*SUMIF('Daily Log'!#REF!,$B323,'Daily Log'!#REF!),0)","v":0},{"$f":"IFERROR($E323*SUMIF('Daily Log'!#REF!,$B323,'Daily Log'!#REF!),0)","v":0},{"$f":"IFERROR($E323*SUMIF('Daily Log'!#REF!,$B323,'Daily Log'!#REF!),0)","v":0},{"$f":"IFERROR($E323*SUMIF('Daily Log'!#REF!,$B323,'Daily Log'!#REF!),0)","v":0},{"$f":"IFERROR($E323*SUMIF('Daily Log'!#REF!,$B323,'Daily Log'!#REF!),0)","v":0},{"$f":"IFERROR($E323*SUMIF('Daily Log'!#REF!,$B323,'Daily Log'!#REF!),0)","v":0},{"$f":"IFERROR($E323*SUMIF('Daily Log'!#REF!,$B323,'Daily Log'!#REF!),0)","v":0},{"$f":"IFERROR($E323*SUMIF('Daily Log'!#REF!,$B323,'Daily Log'!#REF!),0)","v":0},{"$f":"IFERROR($E323*SUMIF('Daily Log'!#REF!,$B323,'Daily Log'!#REF!),0)","v":0},{"$f":"IFERROR($E323*SUMIF('Daily Log'!#REF!,$B323,'Daily Log'!#REF!),0)","v":0},{"$f":"IFERROR($E323*SUMIF('Daily Log'!#REF!,$B323,'Daily Log'!#REF!),0)","v":0},{"$f":"IFERROR($E323*SUMIF('Daily Log'!#REF!,$B323,'Daily Log'!#REF!),0)","v":0},{"$f":"IFERROR($E323*SUMIF('Daily Log'!#REF!,$B323,'Daily Log'!#REF!),0)","v":0}]
[null,"AD16 M : XTD M ROOM",null,null,1,1,{"$f":"IFERROR($E324*SUMIF('Daily Log'!$B$18:$B$1017,$B324,'Daily Log'!$C$18:$C$1017),0)","v":0},{"$f":"IFERROR($E324*SUMIF('Daily Log'!$E$18:$E$1017,$B324,'Daily Log'!$F$18:$F$1017),0)","v":0},{"$f":"IFERROR($E324*SUMIF('Daily Log'!$H$18:$H$1017,$B324,'Daily Log'!$I$18:$I$1017),0)","v":0},{"$f":"IFERROR($E324*SUMIF('Daily Log'!$K$18:$K$1017,$B324,'Daily Log'!$L$18:$L$1017),0)","v":0},{"$f":"IFERROR($E324*SUMIF('Daily Log'!$N$18:$N$1017,$B324,'Daily Log'!$O$18:$O$1017),0)","v":0},{"$f":"IFERROR($E324*SUMIF('Daily Log'!$Q$18:$Q$1017,$B324,'Daily Log'!$R$18:$R$1017),0)","v":0},{"$f":"IFERROR($E324*SUMIF('Daily Log'!$T$18:$T$1017,$B324,'Daily Log'!$U$18:$U$1017),0)","v":0},{"$f":"IFERROR($E324*SUMIF('Daily Log'!$W$18:$W$1017,$B324,'Daily Log'!$X$18:$X$1017),0)","v":0},{"$f":"IFERROR($E324*SUMIF('Daily Log'!$Z$18:$Z$1017,$B324,'Daily Log'!$AA$18:$AA$1017),0)","v":0},{"$f":"IFERROR($E324*SUMIF('Daily Log'!$AC$18:$AC$1017,$B324,'Daily Log'!$AD$18:$AD$1017),0)","v":0},{"$f":"IFERROR($E324*SUMIF('Daily Log'!$AF$18:$AF$1017,$B324,'Daily Log'!$AG$18:$AG$1017),0)","v":1},{"$f":"IFERROR($E324*SUMIF('Daily Log'!$AI$18:$AI$1017,$B324,'Daily Log'!$AJ$18:$AJ$1017),0)","v":0},{"$f":"IFERROR($E324*SUMIF('Daily Log'!#REF!,$B324,'Daily Log'!#REF!),0)","v":0},{"$f":"IFERROR($E324*SUMIF('Daily Log'!#REF!,$B324,'Daily Log'!#REF!),0)","v":0},{"$f":"IFERROR($E324*SUMIF('Daily Log'!#REF!,$B324,'Daily Log'!#REF!),0)","v":0},{"$f":"IFERROR($E324*SUMIF('Daily Log'!#REF!,$B324,'Daily Log'!#REF!),0)","v":0},{"$f":"IFERROR($E324*SUMIF('Daily Log'!#REF!,$B324,'Daily Log'!#REF!),0)","v":0},{"$f":"IFERROR($E324*SUMIF('Daily Log'!#REF!,$B324,'Daily Log'!#REF!),0)","v":0},{"$f":"IFERROR($E324*SUMIF('Daily Log'!#REF!,$B324,'Daily Log'!#REF!),0)","v":0},{"$f":"IFERROR($E324*SUMIF('Daily Log'!#REF!,$B324,'Daily Log'!#REF!),0)","v":0},{"$f":"IFERROR($E324*SUMIF('Daily Log'!#REF!,$B324,'Daily Log'!#REF!),0)","v":0},{"$f":"IFERROR($E324*SUMIF('Daily Log'!#REF!,$B324,'Daily Log'!#REF!),0)","v":0},{"$f":"IFERROR($E324*SUMIF('Daily Log'!#REF!,$B324,'Daily Log'!#REF!),0)","v":0},{"$f":"IFERROR($E324*SUMIF('Daily Log'!#REF!,$B324,'Daily Log'!#REF!),0)","v":0},{"$f":"IFERROR($E324*SUMIF('Daily Log'!#REF!,$B324,'Daily Log'!#REF!),0)","v":0},{"$f":"IFERROR($E324*SUMIF('Daily Log'!#REF!,$B324,'Daily Log'!#REF!),0)","v":0},{"$f":"IFERROR($E324*SUMIF('Daily Log'!#REF!,$B324,'Daily Log'!#REF!),0)","v":0},{"$f":"IFERROR($E324*SUMIF('Daily Log'!#REF!,$B324,'Daily Log'!#REF!),0)","v":0},{"$f":"IFERROR($E324*SUMIF('Daily Log'!#REF!,$B324,'Daily Log'!#REF!),0)","v":0},{"$f":"IFERROR($E324*SUMIF('Daily Log'!#REF!,$B324,'Daily Log'!#REF!),0)","v":0},{"$f":"IFERROR($E324*SUMIF('Daily Log'!#REF!,$B324,'Daily Log'!#REF!),0)","v":0}]
[null,"AD17 M : XTD B ROOM",null,null,1,0,{"$f":"IFERROR($E325*SUMIF('Daily Log'!$B$18:$B$1017,$B325,'Daily Log'!$C$18:$C$1017),0)","v":0},{"$f":"IFERROR($E325*SUMIF('Daily Log'!$E$18:$E$1017,$B325,'Daily Log'!$F$18:$F$1017),0)","v":0},{"$f":"IFERROR($E325*SUMIF('Daily Log'!$H$18:$H$1017,$B325,'Daily Log'!$I$18:$I$1017),0)","v":0},{"$f":"IFERROR($E325*SUMIF('Daily Log'!$K$18:$K$1017,$B325,'Daily Log'!$L$18:$L$1017),0)","v":0},{"$f":"IFERROR($E325*SUMIF('Daily Log'!$N$18:$N$1017,$B325,'Daily Log'!$O$18:$O$1017),0)","v":0},{"$f":"IFERROR($E325*SUMIF('Daily Log'!$Q$18:$Q$1017,$B325,'Daily Log'!$R$18:$R$1017),0)","v":0},{"$f":"IFERROR($E325*SUMIF('Daily Log'!$T$18:$T$1017,$B325,'Daily Log'!$U$18:$U$1017),0)","v":0},{"$f":"IFERROR($E325*SUMIF('Daily Log'!$W$18:$W$1017,$B325,'Daily Log'!$X$18:$X$1017),0)","v":0},{"$f":"IFERROR($E325*SUMIF('Daily Log'!$Z$18:$Z$1017,$B325,'Daily Log'!$AA$18:$AA$1017),0)","v":0},{"$f":"IFERROR($E325*SUMIF('Daily Log'!$AC$18:$AC$1017,$B325,'Daily Log'!$AD$18:$AD$1017),0)","v":0},{"$f":"IFERROR($E325*SUMIF('Daily Log'!$AF$18:$AF$1017,$B325,'Daily Log'!$AG$18:$AG$1017),0)","v":0},{"$f":"IFERROR($E325*SUMIF('Daily Log'!$AI$18:$AI$1017,$B325,'Daily Log'!$AJ$18:$AJ$1017),0)","v":0},{"$f":"IFERROR($E325*SUMIF('Daily Log'!#REF!,$B325,'Daily Log'!#REF!),0)","v":0},{"$f":"IFERROR($E325*SUMIF('Daily Log'!#REF!,$B325,'Daily Log'!#REF!),0)","v":0},{"$f":"IFERROR($E325*SUMIF('Daily Log'!#REF!,$B325,'Daily Log'!#REF!),0)","v":0},{"$f":"IFERROR($E325*SUMIF('Daily Log'!#REF!,$B325,'Daily Log'!#REF!),0)","v":0},{"$f":"IFERROR($E325*SUMIF('Daily Log'!#REF!,$B325,'Daily Log'!#REF!),0)","v":0},{"$f":"IFERROR($E325*SUMIF('Daily Log'!#REF!,$B325,'Daily Log'!#REF!),0)","v":0},{"$f":"IFERROR($E325*SUMIF('Daily Log'!#REF!,$B325,'Daily Log'!#REF!),0)","v":0},{"$f":"IFERROR($E325*SUMIF('Daily Log'!#REF!,$B325,'Daily Log'!#REF!),0)","v":0},{"$f":"IFERROR($E325*SUMIF('Daily Log'!#REF!,$B325,'Daily Log'!#REF!),0)","v":0},{"$f":"IFERROR($E325*SUMIF('Daily Log'!#REF!,$B325,'Daily Log'!#REF!),0)","v":0},{"$f":"IFERROR($E325*SUMIF('Daily Log'!#REF!,$B325,'Daily Log'!#REF!),0)","v":0},{"$f":"IFERROR($E325*SUMIF('Daily Log'!#REF!,$B325,'Daily Log'!#REF!),0)","v":0},{"$f":"IFERROR($E325*SUMIF('Daily Log'!#REF!,$B325,'Daily Log'!#REF!),0)","v":0},{"$f":"IFERROR($E325*SUMIF('Daily Log'!#REF!,$B325,'Daily Log'!#REF!),0)","v":0},{"$f":"IFERROR($E325*SUMIF('Daily Log'!#REF!,$B325,'Daily Log'!#REF!),0)","v":0},{"$f":"IFERROR($E325*SUMIF('Daily Log'!#REF!,$B325,'Daily Log'!#REF!),0)","v":0},{"$f":"IFERROR($E325*SUMIF('Daily Log'!#REF!,$B325,'Daily Log'!#REF!),0)","v":0},{"$f":"IFERROR($E325*SUMIF('Daily Log'!#REF!,$B325,'Daily Log'!#REF!),0)","v":0},{"$f":"IFERROR($E325*SUMIF('Daily Log'!#REF!,$B325,'Daily Log'!#REF!),0)","v":0}]
[null,"AD22 M:Student Mem",null,null,1,0,{"$f":"IFERROR($E326*SUMIF('Daily Log'!$B$18:$B$1017,$B326,'Daily Log'!$C$18:$C$1017),0)","v":0},{"$f":"IFERROR($E326*SUMIF('Daily Log'!$E$18:$E$1017,$B326,'Daily Log'!$F$18:$F$1017),0)","v":0},{"$f":"IFERROR($E326*SUMIF('Daily Log'!$H$18:$H$1017,$B326,'Daily Log'!$I$18:$I$1017),0)","v":0},{"$f":"IFERROR($E326*SUMIF('Daily Log'!$K$18:$K$1017,$B326,'Daily Log'!$L$18:$L$1017),0)","v":0},{"$f":"IFERROR($E326*SUMIF('Daily Log'!$N$18:$N$1017,$B326,'Daily Log'!$O$18:$O$1017),0)","v":0},{"$f":"IFERROR($E326*SUMIF('Daily Log'!$Q$18:$Q$1017,$B326,'Daily Log'!$R$18:$R$1017),0)","v":0},{"$f":"IFERROR($E326*SUMIF('Daily Log'!$T$18:$T$1017,$B326,'Daily Log'!$U$18:$U$1017),0)","v":0},{"$f":"IFERROR($E326*SUMIF('Daily Log'!$W$18:$W$1017,$B326,'Daily Log'!$X$18:$X$1017),0)","v":0},{"$f":"IFERROR($E326*SUMIF('Daily Log'!$Z$18:$Z$1017,$B326,'Daily Log'!$AA$18:$AA$1017),0)","v":0},{"$f":"IFERROR($E326*SUMIF('Daily Log'!$AC$18:$AC$1017,$B326,'Daily Log'!$AD$18:$AD$1017),0)","v":0},{"$f":"IFERROR($E326*SUMIF('Daily Log'!$AF$18:$AF$1017,$B326,'Daily Log'!$AG$18:$AG$1017),0)","v":0},{"$f":"IFERROR($E326*SUMIF('Daily Log'!$AI$18:$AI$1017,$B326,'Daily Log'!$AJ$18:$AJ$1017),0)","v":0},{"$f":"IFERROR($E326*SUMIF('Daily Log'!#REF!,$B326,'Daily Log'!#REF!),0)","v":0},{"$f":"IFERROR($E326*SUMIF('Daily Log'!#REF!,$B326,'Daily Log'!#REF!),0)","v":0},{"$f":"IFERROR($E326*SUMIF('Daily Log'!#REF!,$B326,'Daily Log'!#REF!),0)","v":0},{"$f":"IFERROR($E326*SUMIF('Daily Log'!#REF!,$B326,'Daily Log'!#REF!),0)","v":0},{"$f":"IFERROR($E326*SUMIF('Daily Log'!#REF!,$B326,'Daily Log'!#REF!),0)","v":0},{"$f":"IFERROR($E326*SUMIF('Daily Log'!#REF!,$B326,'Daily Log'!#REF!),0)","v":0},{"$f":"IFERROR($E326*SUMIF('Daily Log'!#REF!,$B326,'Daily Log'!#REF!),0)","v":0},{"$f":"IFERROR($E326*SUMIF('Daily Log'!#REF!,$B326,'Daily Log'!#REF!),0)","v":0},{"$f":"IFERROR($E326*SUMIF('Daily Log'!#REF!,$B326,'Daily Log'!#REF!),0)","v":0},{"$f":"IFERROR($E326*SUMIF('Daily Log'!#REF!,$B326,'Daily Log'!#REF!),0)","v":0},{"$f":"IFERROR($E326*SUMIF('Daily Log'!#REF!,$B326,'Daily Log'!#REF!),0)","v":0},{"$f":"IFERROR($E326*SUMIF('Daily Log'!#REF!,$B326,'Daily Log'!#REF!),0)","v":0},{"$f":"IFERROR($E326*SUMIF('Daily Log'!#REF!,$B326,'Daily Log'!#REF!),0)","v":0},{"$f":"IFERROR($E326*SUMIF('Daily Log'!#REF!,$B326,'Daily Log'!#REF!),0)","v":0},{"$f":"IFERROR($E326*SUMIF('Daily Log'!#REF!,$B326,'Daily Log'!#REF!),0)","v":0},{"$f":"IFERROR($E326*SUMIF('Daily Log'!#REF!,$B326,'Daily Log'!#REF!),0)","v":0},{"$f":"IFERROR($E326*SUMIF('Daily Log'!#REF!,$B326,'Daily Log'!#REF!),0)","v":0},{"$f":"IFERROR($E326*SUMIF('Daily Log'!#REF!,$B326,'Daily Log'!#REF!),0)","v":0},{"$f":"IFERROR($E326*SUMIF('Daily Log'!#REF!,$B326,'Daily Log'!#REF!),0)","v":0}]
[null,"CO02 PLAIN WATER",null,null,1,156,{"$f":"IFERROR($E327*SUMIF('Daily Log'!$B$18:$B$1017,$B327,'Daily Log'!$C$18:$C$1017),0)","v":0},{"$f":"IFERROR($E327*SUMIF('Daily Log'!$E$18:$E$1017,$B327,'Daily Log'!$F$18:$F$1017),0)","v":0},{"$f":"IFERROR($E327*SUMIF('Daily Log'!$H$18:$H$1017,$B327,'Daily Log'!$I$18:$I$1017),0)","v":0},{"$f":"IFERROR($E327*SUMIF('Daily Log'!$K$18:$K$1017,$B327,'Daily Log'!$L$18:$L$1017),0)","v":0},{"$f":"IFERROR($E327*SUMIF('Daily Log'!$N$18:$N$1017,$B327,'Daily Log'!$O$18:$O$1017),0)","v":0},{"$f":"IFERROR($E327*SUMIF('Daily Log'!$Q$18:$Q$1017,$B327,'Daily Log'!$R$18:$R$1017),0)","v":30},{"$f":"IFERROR($E327*SUMIF('Daily Log'!$T$18:$T$1017,$B327,'Daily Log'!$U$18:$U$1017),0)","v":14},{"$f":"IFERROR($E327*SUMIF('Daily Log'!$W$18:$W$1017,$B327,'Daily Log'!$X$18:$X$1017),0)","v":9},{"$f":"IFERROR($E327*SUMIF('Daily Log'!$Z$18:$Z$1017,$B327,'Daily Log'!$AA$18:$AA$1017),0)","v":24},{"$f":"IFERROR($E327*SUMIF('Daily Log'!$AC$18:$AC$1017,$B327,'Daily Log'!$AD$18:$AD$1017),0)","v":30},{"$f":"IFERROR($E327*SUMIF('Daily Log'!$AF$18:$AF$1017,$B327,'Daily Log'!$AG$18:$AG$1017),0)","v":38},{"$f":"IFERROR($E327*SUMIF('Daily Log'!$AI$18:$AI$1017,$B327,'Daily Log'!$AJ$18:$AJ$1017),0)","v":11},{"$f":"IFERROR($E327*SUMIF('Daily Log'!#REF!,$B327,'Daily Log'!#REF!),0)","v":0},{"$f":"IFERROR($E327*SUMIF('Daily Log'!#REF!,$B327,'Daily Log'!#REF!),0)","v":0},{"$f":"IFERROR($E327*SUMIF('Daily Log'!#REF!,$B327,'Daily Log'!#REF!),0)","v":0},{"$f":"IFERROR($E327*SUMIF('Daily Log'!#REF!,$B327,'Daily Log'!#REF!),0)","v":0},{"$f":"IFERROR($E327*SUMIF('Daily Log'!#REF!,$B327,'Daily Log'!#REF!),0)","v":0},{"$f":"IFERROR($E327*SUMIF('Daily Log'!#REF!,$B327,'Daily Log'!#REF!),0)","v":0},{"$f":"IFERROR($E327*SUMIF('Daily Log'!#REF!,$B327,'Daily Log'!#REF!),0)","v":0},{"$f":"IFERROR($E327*SUMIF('Daily Log'!#REF!,$B327,'Daily Log'!#REF!),0)","v":0},{"$f":"IFERROR($E327*SUMIF('Daily Log'!#REF!,$B327,'Daily Log'!#REF!),0)","v":0},{"$f":"IFERROR($E327*SUMIF('Daily Log'!#REF!,$B327,'Daily Log'!#REF!),0)","v":0},{"$f":"IFERROR($E327*SUMIF('Daily Log'!#REF!,$B327,'Daily Log'!#REF!),0)","v":0},{"$f":"IFERROR($E327*SUMIF('Daily Log'!#REF!,$B327,'Daily Log'!#REF!),0)","v":0},{"$f":"IFERROR($E327*SUMIF('Daily Log'!#REF!,$B327,'Daily Log'!#REF!),0)","v":0},{"$f":"IFERROR($E327*SUMIF('Daily Log'!#REF!,$B327,'Daily Log'!#REF!),0)","v":0},{"$f":"IFERROR($E327*SUMIF('Daily Log'!#REF!,$B327,'Daily Log'!#REF!),0)","v":0},{"$f":"IFERROR($E327*SUMIF('Daily Log'!#REF!,$B327,'Daily Log'!#REF!),0)","v":0},{"$f":"IFERROR($E327*SUMIF('Daily Log'!#REF!,$B327,'Daily Log'!#REF!),0)","v":0},{"$f":"IFERROR($E327*SUMIF('Daily Log'!#REF!,$B327,'Daily Log'!#REF!),0)","v":0},{"$f":"IFERROR($E327*SUMIF('Daily Log'!#REF!,$B327,'Daily Log'!#REF!),0)","v":0}]
[null,"DE01 SET 990",null,null,1,36,{"$f":"IFERROR($E328*SUMIF('Daily Log'!$B$18:$B$1017,$B328,'Daily Log'!$C$18:$C$1017),0)","v":0},{"$f":"IFERROR($E328*SUMIF('Daily Log'!$E$18:$E$1017,$B328,'Daily Log'!$F$18:$F$1017),0)","v":0},{"$f":"IFERROR($E328*SUMIF('Daily Log'!$H$18:$H$1017,$B328,'Daily Log'!$I$18:$I$1017),0)","v":0},{"$f":"IFERROR($E328*SUMIF('Daily Log'!$K$18:$K$1017,$B328,'Daily Log'!$L$18:$L$1017),0)","v":0},{"$f":"IFERROR($E328*SUMIF('Daily Log'!$N$18:$N$1017,$B328,'Daily Log'!$O$18:$O$1017),0)","v":0},{"$f":"IFERROR($E328*SUMIF('Daily Log'!$Q$18:$Q$1017,$B328,'Daily Log'!$R$18:$R$1017),0)","v":2},{"$f":"IFERROR($E328*SUMIF('Daily Log'!$T$18:$T$1017,$B328,'Daily Log'!$U$18:$U$1017),0)","v":3},{"$f":"IFERROR($E328*SUMIF('Daily Log'!$W$18:$W$1017,$B328,'Daily Log'!$X$18:$X$1017),0)","v":3},{"$f":"IFERROR($E328*SUMIF('Daily Log'!$Z$18:$Z$1017,$B328,'Daily Log'!$AA$18:$AA$1017),0)","v":3},{"$f":"IFERROR($E328*SUMIF('Daily Log'!$AC$18:$AC$1017,$B328,'Daily Log'!$AD$18:$AD$1017),0)","v":6},{"$f":"IFERROR($E328*SUMIF('Daily Log'!$AF$18:$AF$1017,$B328,'Daily Log'!$AG$18:$AG$1017),0)","v":13},{"$f":"IFERROR($E328*SUMIF('Daily Log'!$AI$18:$AI$1017,$B328,'Daily Log'!$AJ$18:$AJ$1017),0)","v":6},{"$f":"IFERROR($E328*SUMIF('Daily Log'!#REF!,$B328,'Daily Log'!#REF!),0)","v":0},{"$f":"IFERROR($E328*SUMIF('Daily Log'!#REF!,$B328,'Daily Log'!#REF!),0)","v":0},{"$f":"IFERROR($E328*SUMIF('Daily Log'!#REF!,$B328,'Daily Log'!#REF!),0)","v":0},{"$f":"IFERROR($E328*SUMIF('Daily Log'!#REF!,$B328,'Daily Log'!#REF!),0)","v":0},{"$f":"IFERROR($E328*SUMIF('Daily Log'!#REF!,$B328,'Daily Log'!#REF!),0)","v":0},{"$f":"IFERROR($E328*SUMIF('Daily Log'!#REF!,$B328,'Daily Log'!#REF!),0)","v":0},{"$f":"IFERROR($E328*SUMIF('Daily Log'!#REF!,$B328,'Daily Log'!#REF!),0)","v":0},{"$f":"IFERROR($E328*SUMIF('Daily Log'!#REF!,$B328,'Daily Log'!#REF!),0)","v":0},{"$f":"IFERROR($E328*SUMIF('Daily Log'!#REF!,$B328,'Daily Log'!#REF!),0)","v":0},{"$f":"IFERROR($E328*SUMIF('Daily Log'!#REF!,$B328,'Daily Log'!#REF!),0)","v":0},{"$f":"IFERROR($E328*SUMIF('Daily Log'!#REF!,$B328,'Daily Log'!#REF!),0)","v":0},{"$f":"IFERROR($E328*SUMIF('Daily Log'!#REF!,$B328,'Daily Log'!#REF!),0)","v":0},{"$f":"IFERROR($E328*SUMIF('Daily Log'!#REF!,$B328,'Daily Log'!#REF!),0)","v":0},{"$f":"IFERROR($E328*SUMIF('Daily Log'!#REF!,$B328,'Daily Log'!#REF!),0)","v":0},{"$f":"IFERROR($E328*SUMIF('Daily Log'!#REF!,$B328,'Daily Log'!#REF!),0)","v":0},{"$f":"IFERROR($E328*SUMIF('Daily Log'!#REF!,$B328,'Daily Log'!#REF!),0)","v":0},{"$f":"IFERROR($E328*SUMIF('Daily Log'!#REF!,$B328,'Daily Log'!#REF!),0)","v":0},{"$f":"IFERROR($E328*SUMIF('Daily Log'!#REF!,$B328,'Daily Log'!#REF!),0)","v":0},{"$f":"IFERROR($E328*SUMIF('Daily Log'!#REF!,$B328,'Daily Log'!#REF!),0)","v":0}]
[null,"DE02 SET 1390",null,null,1,28,{"$f":"IFERROR($E329*SUMIF('Daily Log'!$B$18:$B$1017,$B329,'Daily Log'!$C$18:$C$1017),0)","v":0},{"$f":"IFERROR($E329*SUMIF('Daily Log'!$E$18:$E$1017,$B329,'Daily Log'!$F$18:$F$1017),0)","v":0},{"$f":"IFERROR($E329*SUMIF('Daily Log'!$H$18:$H$1017,$B329,'Daily Log'!$I$18:$I$1017),0)","v":0},{"$f":"IFERROR($E329*SUMIF('Daily Log'!$K$18:$K$1017,$B329,'Daily Log'!$L$18:$L$1017),0)","v":0},{"$f":"IFERROR($E329*SUMIF('Daily Log'!$N$18:$N$1017,$B329,'Daily Log'!$O$18:$O$1017),0)","v":0},{"$f":"IFERROR($E329*SUMIF('Daily Log'!$Q$18:$Q$1017,$B329,'Daily Log'!$R$18:$R$1017),0)","v":3},{"$f":"IFERROR($E329*SUMIF('Daily Log'!$T$18:$T$1017,$B329,'Daily Log'!$U$18:$U$1017),0)","v":3},{"$f":"IFERROR($E329*SUMIF('Daily Log'!$W$18:$W$1017,$B329,'Daily Log'!$X$18:$X$1017),0)","v":0},{"$f":"IFERROR($E329*SUMIF('Daily Log'!$Z$18:$Z$1017,$B329,'Daily Log'!$AA$18:$AA$1017),0)","v":4},{"$f":"IFERROR($E329*SUMIF('Daily Log'!$AC$18:$AC$1017,$B329,'Daily Log'!$AD$18:$AD$1017),0)","v":5},{"$f":"IFERROR($E329*SUMIF('Daily Log'!$AF$18:$AF$1017,$B329,'Daily Log'!$AG$18:$AG$1017),0)","v":5},{"$f":"IFERROR($E329*SUMIF('Daily Log'!$AI$18:$AI$1017,$B329,'Daily Log'!$AJ$18:$AJ$1017),0)","v":8},{"$f":"IFERROR($E329*SUMIF('Daily Log'!#REF!,$B329,'Daily Log'!#REF!),0)","v":0},{"$f":"IFERROR($E329*SUMIF('Daily Log'!#REF!,$B329,'Daily Log'!#REF!),0)","v":0},{"$f":"IFERROR($E329*SUMIF('Daily Log'!#REF!,$B329,'Daily Log'!#REF!),0)","v":0},{"$f":"IFERROR($E329*SUMIF('Daily Log'!#REF!,$B329,'Daily Log'!#REF!),0)","v":0},{"$f":"IFERROR($E329*SUMIF('Daily Log'!#REF!,$B329,'Daily Log'!#REF!),0)","v":0},{"$f":"IFERROR($E329*SUMIF('Daily Log'!#REF!,$B329,'Daily Log'!#REF!),0)","v":0},{"$f":"IFERROR($E329*SUMIF('Daily Log'!#REF!,$B329,'Daily Log'!#REF!),0)","v":0},{"$f":"IFERROR($E329*SUMIF('Daily Log'!#REF!,$B329,'Daily Log'!#REF!),0)","v":0},{"$f":"IFERROR($E329*SUMIF('Daily Log'!#REF!,$B329,'Daily Log'!#REF!),0)","v":0},{"$f":"IFERROR($E329*SUMIF('Daily Log'!#REF!,$B329,'Daily Log'!#REF!),0)","v":0},{"$f":"IFERROR($E329*SUMIF('Daily Log'!#REF!,$B329,'Daily Log'!#REF!),0)","v":0},{"$f":"IFERROR($E329*SUMIF('Daily Log'!#REF!,$B329,'Daily Log'!#REF!),0)","v":0},{"$f":"IFERROR($E329*SUMIF('Daily Log'!#REF!,$B329,'Daily Log'!#REF!),0)","v":0},{"$f":"IFERROR($E329*SUMIF('Daily Log'!#REF!,$B329,'Daily Log'!#REF!),0)","v":0},{"$f":"IFERROR($E329*SUMIF('Daily Log'!#REF!,$B329,'Daily Log'!#REF!),0)","v":0},{"$f":"IFERROR($E329*SUMIF('Daily Log'!#REF!,$B329,'Daily Log'!#REF!),0)","v":0},{"$f":"IFERROR($E329*SUMIF('Daily Log'!#REF!,$B329,'Daily Log'!#REF!),0)","v":0},{"$f":"IFERROR($E329*SUMIF('Daily Log'!#REF!,$B329,'Daily Log'!#REF!),0)","v":0},{"$f":"IFERROR($E329*SUMIF('Daily Log'!#REF!,$B329,'Daily Log'!#REF!),0)","v":0}]
[null,"EA01 TIDBITS",null,null,1,1,{"$f":"IFERROR($E330*SUMIF('Daily Log'!$B$18:$B$1017,$B330,'Daily Log'!$C$18:$C$1017),0)","v":0},{"$f":"IFERROR($E330*SUMIF('Daily Log'!$E$18:$E$1017,$B330,'Daily Log'!$F$18:$F$1017),0)","v":0},{"$f":"IFERROR($E330*SUMIF('Daily Log'!$H$18:$H$1017,$B330,'Daily Log'!$I$18:$I$1017),0)","v":0},{"$f":"IFERROR($E330*SUMIF('Daily Log'!$K$18:$K$1017,$B330,'Daily Log'!$L$18:$L$1017),0)","v":0},{"$f":"IFERROR($E330*SUMIF('Daily Log'!$N$18:$N$1017,$B330,'Daily Log'!$O$18:$O$1017),0)","v":0},{"$f":"IFERROR($E330*SUMIF('Daily Log'!$Q$18:$Q$1017,$B330,'Daily Log'!$R$18:$R$1017),0)","v":0},{"$f":"IFERROR($E330*SUMIF('Daily Log'!$T$18:$T$1017,$B330,'Daily Log'!$U$18:$U$1017),0)","v":0},{"$f":"IFERROR($E330*SUMIF('Daily Log'!$W$18:$W$1017,$B330,'Daily Log'!$X$18:$X$1017),0)","v":0},{"$f":"IFERROR($E330*SUMIF('Daily Log'!$Z$18:$Z$1017,$B330,'Daily Log'!$AA$18:$AA$1017),0)","v":1},{"$f":"IFERROR($E330*SUMIF('Daily Log'!$AC$18:$AC$1017,$B330,'Daily Log'!$AD$18:$AD$1017),0)","v":0},{"$f":"IFERROR($E330*SUMIF('Daily Log'!$AF$18:$AF$1017,$B330,'Daily Log'!$AG$18:$AG$1017),0)","v":0},{"$f":"IFERROR($E330*SUMIF('Daily Log'!$AI$18:$AI$1017,$B330,'Daily Log'!$AJ$18:$AJ$1017),0)","v":0},{"$f":"IFERROR($E330*SUMIF('Daily Log'!#REF!,$B330,'Daily Log'!#REF!),0)","v":0},{"$f":"IFERROR($E330*SUMIF('Daily Log'!#REF!,$B330,'Daily Log'!#REF!),0)","v":0},{"$f":"IFERROR($E330*SUMIF('Daily Log'!#REF!,$B330,'Daily Log'!#REF!),0)","v":0},{"$f":"IFERROR($E330*SUMIF('Daily Log'!#REF!,$B330,'Daily Log'!#REF!),0)","v":0},{"$f":"IFERROR($E330*SUMIF('Daily Log'!#REF!,$B330,'Daily Log'!#REF!),0)","v":0},{"$f":"IFERROR($E330*SUMIF('Daily Log'!#REF!,$B330,'Daily Log'!#REF!),0)","v":0},{"$f":"IFERROR($E330*SUMIF('Daily Log'!#REF!,$B330,'Daily Log'!#REF!),0)","v":0},{"$f":"IFERROR($E330*SUMIF('Daily Log'!#REF!,$B330,'Daily Log'!#REF!),0)","v":0},{"$f":"IFERROR($E330*SUMIF('Daily Log'!#REF!,$B330,'Daily Log'!#REF!),0)","v":0},{"$f":"IFERROR($E330*SUMIF('Daily Log'!#REF!,$B330,'Daily Log'!#REF!),0)","v":0},{"$f":"IFERROR($E330*SUMIF('Daily Log'!#REF!,$B330,'Daily Log'!#REF!),0)","v":0},{"$f":"IFERROR($E330*SUMIF('Daily Log'!#REF!,$B330,'Daily Log'!#REF!),0)","v":0},{"$f":"IFERROR($E330*SUMIF('Daily Log'!#REF!,$B330,'Daily Log'!#REF!),0)","v":0},{"$f":"IFERROR($E330*SUMIF('Daily Log'!#REF!,$B330,'Daily Log'!#REF!),0)","v":0},{"$f":"IFERROR($E330*SUMIF('Daily Log'!#REF!,$B330,'Daily Log'!#REF!),0)","v":0},{"$f":"IFERROR($E330*SUMIF('Daily Log'!#REF!,$B330,'Daily Log'!#REF!),0)","v":0},{"$f":"IFERROR($E330*SUMIF('Daily Log'!#REF!,$B330,'Daily Log'!#REF!),0)","v":0},{"$f":"IFERROR($E330*SUMIF('Daily Log'!#REF!,$B330,'Daily Log'!#REF!),0)","v":0},{"$f":"IFERROR($E330*SUMIF('Daily Log'!#REF!,$B330,'Daily Log'!#REF!),0)","v":0}]
[null,"GA09 LIGHTER",null,null,1,0,{"$f":"IFERROR($E331*SUMIF('Daily Log'!$B$18:$B$1017,$B331,'Daily Log'!$C$18:$C$1017),0)","v":0},{"$f":"IFERROR($E331*SUMIF('Daily Log'!$E$18:$E$1017,$B331,'Daily Log'!$F$18:$F$1017),0)","v":0},{"$f":"IFERROR($E331*SUMIF('Daily Log'!$H$18:$H$1017,$B331,'Daily Log'!$I$18:$I$1017),0)","v":0},{"$f":"IFERROR($E331*SUMIF('Daily Log'!$K$18:$K$1017,$B331,'Daily Log'!$L$18:$L$1017),0)","v":0},{"$f":"IFERROR($E331*SUMIF('Daily Log'!$N$18:$N$1017,$B331,'Daily Log'!$O$18:$O$1017),0)","v":0},{"$f":"IFERROR($E331*SUMIF('Daily Log'!$Q$18:$Q$1017,$B331,'Daily Log'!$R$18:$R$1017),0)","v":0},{"$f":"IFERROR($E331*SUMIF('Daily Log'!$T$18:$T$1017,$B331,'Daily Log'!$U$18:$U$1017),0)","v":0},{"$f":"IFERROR($E331*SUMIF('Daily Log'!$W$18:$W$1017,$B331,'Daily Log'!$X$18:$X$1017),0)","v":0},{"$f":"IFERROR($E331*SUMIF('Daily Log'!$Z$18:$Z$1017,$B331,'Daily Log'!$AA$18:$AA$1017),0)","v":0},{"$f":"IFERROR($E331*SUMIF('Daily Log'!$AC$18:$AC$1017,$B331,'Daily Log'!$AD$18:$AD$1017),0)","v":0},{"$f":"IFERROR($E331*SUMIF('Daily Log'!$AF$18:$AF$1017,$B331,'Daily Log'!$AG$18:$AG$1017),0)","v":0},{"$f":"IFERROR($E331*SUMIF('Daily Log'!$AI$18:$AI$1017,$B331,'Daily Log'!$AJ$18:$AJ$1017),0)","v":0},{"$f":"IFERROR($E331*SUMIF('Daily Log'!#REF!,$B331,'Daily Log'!#REF!),0)","v":0},{"$f":"IFERROR($E331*SUMIF('Daily Log'!#REF!,$B331,'Daily Log'!#REF!),0)","v":0},{"$f":"IFERROR($E331*SUMIF('Daily Log'!#REF!,$B331,'Daily Log'!#REF!),0)","v":0},{"$f":"IFERROR($E331*SUMIF('Daily Log'!#REF!,$B331,'Daily Log'!#REF!),0)","v":0},{"$f":"IFERROR($E331*SUMIF('Daily Log'!#REF!,$B331,'Daily Log'!#REF!),0)","v":0},{"$f":"IFERROR($E331*SUMIF('Daily Log'!#REF!,$B331,'Daily Log'!#REF!),0)","v":0},{"$f":"IFERROR($E331*SUMIF('Daily Log'!#REF!,$B331,'Daily Log'!#REF!),0)","v":0},{"$f":"IFERROR($E331*SUMIF('Daily Log'!#REF!,$B331,'Daily Log'!#REF!),0)","v":0},{"$f":"IFERROR($E331*SUMIF('Daily Log'!#REF!,$B331,'Daily Log'!#REF!),0)","v":0},{"$f":"IFERROR($E331*SUMIF('Daily Log'!#REF!,$B331,'Daily Log'!#REF!),0)","v":0},{"$f":"IFERROR($E331*SUMIF('Daily Log'!#REF!,$B331,'Daily Log'!#REF!),0)","v":0},{"$f":"IFERROR($E331*SUMIF('Daily Log'!#REF!,$B331,'Daily Log'!#REF!),0)","v":0},{"$f":"IFERROR($E331*SUMIF('Daily Log'!#REF!,$B331,'Daily Log'!#REF!),0)","v":0},{"$f":"IFERROR($E331*SUMIF('Daily Log'!#REF!,$B331,'Daily Log'!#REF!),0)","v":0},{"$f":"IFERROR($E331*SUMIF('Daily Log'!#REF!,$B331,'Daily Log'!#REF!),0)","v":0},{"$f":"IFERROR($E331*SUMIF('Daily Log'!#REF!,$B331,'Daily Log'!#REF!),0)","v":0},{"$f":"IFERROR($E331*SUMIF('Daily Log'!#REF!,$B331,'Daily Log'!#REF!),0)","v":0},{"$f":"IFERROR($E331*SUMIF('Daily Log'!#REF!,$B331,'Daily Log'!#REF!),0)","v":0},{"$f":"IFERROR($E331*SUMIF('Daily Log'!#REF!,$B331,'Daily Log'!#REF!),0)","v":0}]
[null,"GC01 CARD NEW",null,null,1,13,{"$f":"IFERROR($E332*SUMIF('Daily Log'!$B$18:$B$1017,$B332,'Daily Log'!$C$18:$C$1017),0)","v":0},{"$f":"IFERROR($E332*SUMIF('Daily Log'!$E$18:$E$1017,$B332,'Daily Log'!$F$18:$F$1017),0)","v":0},{"$f":"IFERROR($E332*SUMIF('Daily Log'!$H$18:$H$1017,$B332,'Daily Log'!$I$18:$I$1017),0)","v":0},{"$f":"IFERROR($E332*SUMIF('Daily Log'!$K$18:$K$1017,$B332,'Daily Log'!$L$18:$L$1017),0)","v":0},{"$f":"IFERROR($E332*SUMIF('Daily Log'!$N$18:$N$1017,$B332,'Daily Log'!$O$18:$O$1017),0)","v":0},{"$f":"IFERROR($E332*SUMIF('Daily Log'!$Q$18:$Q$1017,$B332,'Daily Log'!$R$18:$R$1017),0)","v":2},{"$f":"IFERROR($E332*SUMIF('Daily Log'!$T$18:$T$1017,$B332,'Daily Log'!$U$18:$U$1017),0)","v":3},{"$f":"IFERROR($E332*SUMIF('Daily Log'!$W$18:$W$1017,$B332,'Daily Log'!$X$18:$X$1017),0)","v":2},{"$f":"IFERROR($E332*SUMIF('Daily Log'!$Z$18:$Z$1017,$B332,'Daily Log'!$AA$18:$AA$1017),0)","v":0},{"$f":"IFERROR($E332*SUMIF('Daily Log'!$AC$18:$AC$1017,$B332,'Daily Log'!$AD$18:$AD$1017),0)","v":1},{"$f":"IFERROR($E332*SUMIF('Daily Log'!$AF$18:$AF$1017,$B332,'Daily Log'!$AG$18:$AG$1017),0)","v":3},{"$f":"IFERROR($E332*SUMIF('Daily Log'!$AI$18:$AI$1017,$B332,'Daily Log'!$AJ$18:$AJ$1017),0)","v":2},{"$f":"IFERROR($E332*SUMIF('Daily Log'!#REF!,$B332,'Daily Log'!#REF!),0)","v":0},{"$f":"IFERROR($E332*SUMIF('Daily Log'!#REF!,$B332,'Daily Log'!#REF!),0)","v":0},{"$f":"IFERROR($E332*SUMIF('Daily Log'!#REF!,$B332,'Daily Log'!#REF!),0)","v":0},{"$f":"IFERROR($E332*SUMIF('Daily Log'!#REF!,$B332,'Daily Log'!#REF!),0)","v":0},{"$f":"IFERROR($E332*SUMIF('Daily Log'!#REF!,$B332,'Daily Log'!#REF!),0)","v":0},{"$f":"IFERROR($E332*SUMIF('Daily Log'!#REF!,$B332,'Daily Log'!#REF!),0)","v":0},{"$f":"IFERROR($E332*SUMIF('Daily Log'!#REF!,$B332,'Daily Log'!#REF!),0)","v":0},{"$f":"IFERROR($E332*SUMIF('Daily Log'!#REF!,$B332,'Daily Log'!#REF!),0)","v":0},{"$f":"IFERROR($E332*SUMIF('Daily Log'!#REF!,$B332,'Daily Log'!#REF!),0)","v":0},{"$f":"IFERROR($E332*SUMIF('Daily Log'!#REF!,$B332,'Daily Log'!#REF!),0)","v":0},{"$f":"IFERROR($E332*SUMIF('Daily Log'!#REF!,$B332,'Daily Log'!#REF!),0)","v":0},{"$f":"IFERROR($E332*SUMIF('Daily Log'!#REF!,$B332,'Daily Log'!#REF!),0)","v":0},{"$f":"IFERROR($E332*SUMIF('Daily Log'!#REF!,$B332,'Daily Log'!#REF!),0)","v":0},{"$f":"IFERROR($E332*SUMIF('Daily Log'!#REF!,$B332,'Daily Log'!#REF!),0)","v":0},{"$f":"IFERROR($E332*SUMIF('Daily Log'!#REF!,$B332,'Daily Log'!#REF!),0)","v":0},{"$f":"IFERROR($E332*SUMIF('Daily Log'!#REF!,$B332,'Daily Log'!#REF!),0)","v":0},{"$f":"IFERROR($E332*SUMIF('Daily Log'!#REF!,$B332,'Daily Log'!#REF!),0)","v":0},{"$f":"IFERROR($E332*SUMIF('Daily Log'!#REF!,$B332,'Daily Log'!#REF!),0)","v":0},{"$f":"IFERROR($E332*SUMIF('Daily Log'!#REF!,$B332,'Daily Log'!#REF!),0)","v":0}]
[null,"GC02 CARD REPLACE",null,null,1,0,{"$f":"IFERROR($E333*SUMIF('Daily Log'!$B$18:$B$1017,$B333,'Daily Log'!$C$18:$C$1017),0)","v":0},{"$f":"IFERROR($E333*SUMIF('Daily Log'!$E$18:$E$1017,$B333,'Daily Log'!$F$18:$F$1017),0)","v":0},{"$f":"IFERROR($E333*SUMIF('Daily Log'!$H$18:$H$1017,$B333,'Daily Log'!$I$18:$I$1017),0)","v":0},{"$f":"IFERROR($E333*SUMIF('Daily Log'!$K$18:$K$1017,$B333,'Daily Log'!$L$18:$L$1017),0)","v":0},{"$f":"IFERROR($E333*SUMIF('Daily Log'!$N$18:$N$1017,$B333,'Daily Log'!$O$18:$O$1017),0)","v":0},{"$f":"IFERROR($E333*SUMIF('Daily Log'!$Q$18:$Q$1017,$B333,'Daily Log'!$R$18:$R$1017),0)","v":0},{"$f":"IFERROR($E333*SUMIF('Daily Log'!$T$18:$T$1017,$B333,'Daily Log'!$U$18:$U$1017),0)","v":0},{"$f":"IFERROR($E333*SUMIF('Daily Log'!$W$18:$W$1017,$B333,'Daily Log'!$X$18:$X$1017),0)","v":0},{"$f":"IFERROR($E333*SUMIF('Daily Log'!$Z$18:$Z$1017,$B333,'Daily Log'!$AA$18:$AA$1017),0)","v":0},{"$f":"IFERROR($E333*SUMIF('Daily Log'!$AC$18:$AC$1017,$B333,'Daily Log'!$AD$18:$AD$1017),0)","v":0},{"$f":"IFERROR($E333*SUMIF('Daily Log'!$AF$18:$AF$1017,$B333,'Daily Log'!$AG$18:$AG$1017),0)","v":0},{"$f":"IFERROR($E333*SUMIF('Daily Log'!$AI$18:$AI$1017,$B333,'Daily Log'!$AJ$18:$AJ$1017),0)","v":0},{"$f":"IFERROR($E333*SUMIF('Daily Log'!#REF!,$B333,'Daily Log'!#REF!),0)","v":0},{"$f":"IFERROR($E333*SUMIF('Daily Log'!#REF!,$B333,'Daily Log'!#REF!),0)","v":0},{"$f":"IFERROR($E333*SUMIF('Daily Log'!#REF!,$B333,'Daily Log'!#REF!),0)","v":0},{"$f":"IFERROR($E333*SUMIF('Daily Log'!#REF!,$B333,'Daily Log'!#REF!),0)","v":0},{"$f":"IFERROR($E333*SUMIF('Daily Log'!#REF!,$B333,'Daily Log'!#REF!),0)","v":0},{"$f":"IFERROR($E333*SUMIF('Daily Log'!#REF!,$B333,'Daily Log'!#REF!),0)","v":0},{"$f":"IFERROR($E333*SUMIF('Daily Log'!#REF!,$B333,'Daily Log'!#REF!),0)","v":0},{"$f":"IFERROR($E333*SUMIF('Daily Log'!#REF!,$B333,'Daily Log'!#REF!),0)","v":0},{"$f":"IFERROR($E333*SUMIF('Daily Log'!#REF!,$B333,'Daily Log'!#REF!),0)","v":0},{"$f":"IFERROR($E333*SUMIF('Daily Log'!#REF!,$B333,'Daily Log'!#REF!),0)","v":0},{"$f":"IFERROR($E333*SUMIF('Daily Log'!#REF!,$B333,'Daily Log'!#REF!),0)","v":0},{"$f":"IFERROR($E333*SUMIF('Daily Log'!#REF!,$B333,'Daily Log'!#REF!),0)","v":0},{"$f":"IFERROR($E333*SUMIF('Daily Log'!#REF!,$B333,'Daily Log'!#REF!),0)","v":0},{"$f":"IFERROR($E333*SUMIF('Daily Log'!#REF!,$B333,'Daily Log'!#REF!),0)","v":0},{"$f":"IFERROR($E333*SUMIF('Daily Log'!#REF!,$B333,'Daily Log'!#REF!),0)","v":0},{"$f":"IFERROR($E333*SUMIF('Daily Log'!#REF!,$B333,'Daily Log'!#REF!),0)","v":0},{"$f":"IFERROR($E333*SUMIF('Daily Log'!#REF!,$B333,'Daily Log'!#REF!),0)","v":0},{"$f":"IFERROR($E333*SUMIF('Daily Log'!#REF!,$B333,'Daily Log'!#REF!),0)","v":0},{"$f":"IFERROR($E333*SUMIF('Daily Log'!#REF!,$B333,'Daily Log'!#REF!),0)","v":0}]
[null,"GC03 Student Mem Card",null,null,1,1,{"$f":"IFERROR($E334*SUMIF('Daily Log'!$B$18:$B$1017,$B334,'Daily Log'!$C$18:$C$1017),0)","v":0},{"$f":"IFERROR($E334*SUMIF('Daily Log'!$E$18:$E$1017,$B334,'Daily Log'!$F$18:$F$1017),0)","v":0},{"$f":"IFERROR($E334*SUMIF('Daily Log'!$H$18:$H$1017,$B334,'Daily Log'!$I$18:$I$1017),0)","v":0},{"$f":"IFERROR($E334*SUMIF('Daily Log'!$K$18:$K$1017,$B334,'Daily Log'!$L$18:$L$1017),0)","v":0},{"$f":"IFERROR($E334*SUMIF('Daily Log'!$N$18:$N$1017,$B334,'Daily Log'!$O$18:$O$1017),0)","v":0},{"$f":"IFERROR($E334*SUMIF('Daily Log'!$Q$18:$Q$1017,$B334,'Daily Log'!$R$18:$R$1017),0)","v":0},{"$f":"IFERROR($E334*SUMIF('Daily Log'!$T$18:$T$1017,$B334,'Daily Log'!$U$18:$U$1017),0)","v":1},{"$f":"IFERROR($E334*SUMIF('Daily Log'!$W$18:$W$1017,$B334,'Daily Log'!$X$18:$X$1017),0)","v":0},{"$f":"IFERROR($E334*SUMIF('Daily Log'!$Z$18:$Z$1017,$B334,'Daily Log'!$AA$18:$AA$1017),0)","v":0},{"$f":"IFERROR($E334*SUMIF('Daily Log'!$AC$18:$AC$1017,$B334,'Daily Log'!$AD$18:$AD$1017),0)","v":0},{"$f":"IFERROR($E334*SUMIF('Daily Log'!$AF$18:$AF$1017,$B334,'Daily Log'!$AG$18:$AG$1017),0)","v":0},{"$f":"IFERROR($E334*SUMIF('Daily Log'!$AI$18:$AI$1017,$B334,'Daily Log'!$AJ$18:$AJ$1017),0)","v":0},{"$f":"IFERROR($E334*SUMIF('Daily Log'!#REF!,$B334,'Daily Log'!#REF!),0)","v":0},{"$f":"IFERROR($E334*SUMIF('Daily Log'!#REF!,$B334,'Daily Log'!#REF!),0)","v":0},{"$f":"IFERROR($E334*SUMIF('Daily Log'!#REF!,$B334,'Daily Log'!#REF!),0)","v":0},{"$f":"IFERROR($E334*SUMIF('Daily Log'!#REF!,$B334,'Daily Log'!#REF!),0)","v":0},{"$f":"IFERROR($E334*SUMIF('Daily Log'!#REF!,$B334,'Daily Log'!#REF!),0)","v":0},{"$f":"IFERROR($E334*SUMIF('Daily Log'!#REF!,$B334,'Daily Log'!#REF!),0)","v":0},{"$f":"IFERROR($E334*SUMIF('Daily Log'!#REF!,$B334,'Daily Log'!#REF!),0)","v":0},{"$f":"IFERROR($E334*SUMIF('Daily Log'!#REF!,$B334,'Daily Log'!#REF!),0)","v":0},{"$f":"IFERROR($E334*SUMIF('Daily Log'!#REF!,$B334,'Daily Log'!#REF!),0)","v":0},{"$f":"IFERROR($E334*SUMIF('Daily Log'!#REF!,$B334,'Daily Log'!#REF!),0)","v":0},{"$f":"IFERROR($E334*SUMIF('Daily Log'!#REF!,$B334,'Daily Log'!#REF!),0)","v":0},{"$f":"IFERROR($E334*SUMIF('Daily Log'!#REF!,$B334,'Daily Log'!#REF!),0)","v":0},{"$f":"IFERROR($E334*SUMIF('Daily Log'!#REF!,$B334,'Daily Log'!#REF!),0)","v":0},{"$f":"IFERROR($E334*SUMIF('Daily Log'!#REF!,$B334,'Daily Log'!#REF!),0)","v":0},{"$f":"IFERROR($E334*SUMIF('Daily Log'!#REF!,$B334,'Daily Log'!#REF!),0)","v":0},{"$f":"IFERROR($E334*SUMIF('Daily Log'!#REF!,$B334,'Daily Log'!#REF!),0)","v":0},{"$f":"IFERROR($E334*SUMIF('Daily Log'!#REF!,$B334,'Daily Log'!#REF!),0)","v":0},{"$f":"IFERROR($E334*SUMIF('Daily Log'!#REF!,$B334,'Daily Log'!#REF!),0)","v":0},{"$f":"IFERROR($E334*SUMIF('Daily Log'!#REF!,$B334,'Daily Log'!#REF!),0)","v":0}]
[null,"GD02 MIKE COVER 03",null,null,1,5,{"$f":"IFERROR($E335*SUMIF('Daily Log'!$B$18:$B$1017,$B335,'Daily Log'!$C$18:$C$1017),0)","v":0},{"$f":"IFERROR($E335*SUMIF('Daily Log'!$E$18:$E$1017,$B335,'Daily Log'!$F$18:$F$1017),0)","v":0},{"$f":"IFERROR($E335*SUMIF('Daily Log'!$H$18:$H$1017,$B335,'Daily Log'!$I$18:$I$1017),0)","v":0},{"$f":"IFERROR($E335*SUMIF('Daily Log'!$K$18:$K$1017,$B335,'Daily Log'!$L$18:$L$1017),0)","v":0},{"$f":"IFERROR($E335*SUMIF('Daily Log'!$N$18:$N$1017,$B335,'Daily Log'!$O$18:$O$1017),0)","v":0},{"$f":"IFERROR($E335*SUMIF('Daily Log'!$Q$18:$Q$1017,$B335,'Daily Log'!$R$18:$R$1017),0)","v":0},{"$f":"IFERROR($E335*SUMIF('Daily Log'!$T$18:$T$1017,$B335,'Daily Log'!$U$18:$U$1017),0)","v":1},{"$f":"IFERROR($E335*SUMIF('Daily Log'!$W$18:$W$1017,$B335,'Daily Log'!$X$18:$X$1017),0)","v":0},{"$f":"IFERROR($E335*SUMIF('Daily Log'!$Z$18:$Z$1017,$B335,'Daily Log'!$AA$18:$AA$1017),0)","v":1},{"$f":"IFERROR($E335*SUMIF('Daily Log'!$AC$18:$AC$1017,$B335,'Daily Log'!$AD$18:$AD$1017),0)","v":3},{"$f":"IFERROR($E335*SUMIF('Daily Log'!$AF$18:$AF$1017,$B335,'Daily Log'!$AG$18:$AG$1017),0)","v":0},{"$f":"IFERROR($E335*SUMIF('Daily Log'!$AI$18:$AI$1017,$B335,'Daily Log'!$AJ$18:$AJ$1017),0)","v":0},{"$f":"IFERROR($E335*SUMIF('Daily Log'!#REF!,$B335,'Daily Log'!#REF!),0)","v":0},{"$f":"IFERROR($E335*SUMIF('Daily Log'!#REF!,$B335,'Daily Log'!#REF!),0)","v":0},{"$f":"IFERROR($E335*SUMIF('Daily Log'!#REF!,$B335,'Daily Log'!#REF!),0)","v":0},{"$f":"IFERROR($E335*SUMIF('Daily Log'!#REF!,$B335,'Daily Log'!#REF!),0)","v":0},{"$f":"IFERROR($E335*SUMIF('Daily Log'!#REF!,$B335,'Daily Log'!#REF!),0)","v":0},{"$f":"IFERROR($E335*SUMIF('Daily Log'!#REF!,$B335,'Daily Log'!#REF!),0)","v":0},{"$f":"IFERROR($E335*SUMIF('Daily Log'!#REF!,$B335,'Daily Log'!#REF!),0)","v":0},{"$f":"IFERROR($E335*SUMIF('Daily Log'!#REF!,$B335,'Daily Log'!#REF!),0)","v":0},{"$f":"IFERROR($E335*SUMIF('Daily Log'!#REF!,$B335,'Daily Log'!#REF!),0)","v":0},{"$f":"IFERROR($E335*SUMIF('Daily Log'!#REF!,$B335,'Daily Log'!#REF!),0)","v":0},{"$f":"IFERROR($E335*SUMIF('Daily Log'!#REF!,$B335,'Daily Log'!#REF!),0)","v":0},{"$f":"IFERROR($E335*SUMIF('Daily Log'!#REF!,$B335,'Daily Log'!#REF!),0)","v":0},{"$f":"IFERROR($E335*SUMIF('Daily Log'!#REF!,$B335,'Daily Log'!#REF!),0)","v":0},{"$f":"IFERROR($E335*SUMIF('Daily Log'!#REF!,$B335,'Daily Log'!#REF!),0)","v":0},{"$f":"IFERROR($E335*SUMIF('Daily Log'!#REF!,$B335,'Daily Log'!#REF!),0)","v":0},{"$f":"IFERROR($E335*SUMIF('Daily Log'!#REF!,$B335,'Daily Log'!#REF!),0)","v":0},{"$f":"IFERROR($E335*SUMIF('Daily Log'!#REF!,$B335,'Daily Log'!#REF!),0)","v":0},{"$f":"IFERROR($E335*SUMIF('Daily Log'!#REF!,$B335,'Daily Log'!#REF!),0)","v":0},{"$f":"IFERROR($E335*SUMIF('Daily Log'!#REF!,$B335,'Daily Log'!#REF!),0)","v":0}]
[null,"GD03 PENALTY",null,null,1,1,{"$f":"IFERROR($E336*SUMIF('Daily Log'!$B$18:$B$1017,$B336,'Daily Log'!$C$18:$C$1017),0)","v":0},{"$f":"IFERROR($E336*SUMIF('Daily Log'!$E$18:$E$1017,$B336,'Daily Log'!$F$18:$F$1017),0)","v":0},{"$f":"IFERROR($E336*SUMIF('Daily Log'!$H$18:$H$1017,$B336,'Daily Log'!$I$18:$I$1017),0)","v":0},{"$f":"IFERROR($E336*SUMIF('Daily Log'!$K$18:$K$1017,$B336,'Daily Log'!$L$18:$L$1017),0)","v":0},{"$f":"IFERROR($E336*SUMIF('Daily Log'!$N$18:$N$1017,$B336,'Daily Log'!$O$18:$O$1017),0)","v":0},{"$f":"IFERROR($E336*SUMIF('Daily Log'!$Q$18:$Q$1017,$B336,'Daily Log'!$R$18:$R$1017),0)","v":0},{"$f":"IFERROR($E336*SUMIF('Daily Log'!$T$18:$T$1017,$B336,'Daily Log'!$U$18:$U$1017),0)","v":0},{"$f":"IFERROR($E336*SUMIF('Daily Log'!$W$18:$W$1017,$B336,'Daily Log'!$X$18:$X$1017),0)","v":0},{"$f":"IFERROR($E336*SUMIF('Daily Log'!$Z$18:$Z$1017,$B336,'Daily Log'!$AA$18:$AA$1017),0)","v":0},{"$f":"IFERROR($E336*SUMIF('Daily Log'!$AC$18:$AC$1017,$B336,'Daily Log'!$AD$18:$AD$1017),0)","v":0},{"$f":"IFERROR($E336*SUMIF('Daily Log'!$AF$18:$AF$1017,$B336,'Daily Log'!$AG$18:$AG$1017),0)","v":0},{"$f":"IFERROR($E336*SUMIF('Daily Log'!$AI$18:$AI$1017,$B336,'Daily Log'!$AJ$18:$AJ$1017),0)","v":1},{"$f":"IFERROR($E336*SUMIF('Daily Log'!#REF!,$B336,'Daily Log'!#REF!),0)","v":0},{"$f":"IFERROR($E336*SUMIF('Daily Log'!#REF!,$B336,'Daily Log'!#REF!),0)","v":0},{"$f":"IFERROR($E336*SUMIF('Daily Log'!#REF!,$B336,'Daily Log'!#REF!),0)","v":0},{"$f":"IFERROR($E336*SUMIF('Daily Log'!#REF!,$B336,'Daily Log'!#REF!),0)","v":0},{"$f":"IFERROR($E336*SUMIF('Daily Log'!#REF!,$B336,'Daily Log'!#REF!),0)","v":0},{"$f":"IFERROR($E336*SUMIF('Daily Log'!#REF!,$B336,'Daily Log'!#REF!),0)","v":0},{"$f":"IFERROR($E336*SUMIF('Daily Log'!#REF!,$B336,'Daily Log'!#REF!),0)","v":0},{"$f":"IFERROR($E336*SUMIF('Daily Log'!#REF!,$B336,'Daily Log'!#REF!),0)","v":0},{"$f":"IFERROR($E336*SUMIF('Daily Log'!#REF!,$B336,'Daily Log'!#REF!),0)","v":0},{"$f":"IFERROR($E336*SUMIF('Daily Log'!#REF!,$B336,'Daily Log'!#REF!),0)","v":0},{"$f":"IFERROR($E336*SUMIF('Daily Log'!#REF!,$B336,'Daily Log'!#REF!),0)","v":0},{"$f":"IFERROR($E336*SUMIF('Daily Log'!#REF!,$B336,'Daily Log'!#REF!),0)","v":0},{"$f":"IFERROR($E336*SUMIF('Daily Log'!#REF!,$B336,'Daily Log'!#REF!),0)","v":0},{"$f":"IFERROR($E336*SUMIF('Daily Log'!#REF!,$B336,'Daily Log'!#REF!),0)","v":0},{"$f":"IFERROR($E336*SUMIF('Daily Log'!#REF!,$B336,'Daily Log'!#REF!),0)","v":0},{"$f":"IFERROR($E336*SUMIF('Daily Log'!#REF!,$B336,'Daily Log'!#REF!),0)","v":0},{"$f":"IFERROR($E336*SUMIF('Daily Log'!#REF!,$B336,'Daily Log'!#REF!),0)","v":0},{"$f":"IFERROR($E336*SUMIF('Daily Log'!#REF!,$B336,'Daily Log'!#REF!),0)","v":0},{"$f":"IFERROR($E336*SUMIF('Daily Log'!#REF!,$B336,'Daily Log'!#REF!),0)","v":0}]
[null,"ZAA01 GUINNESS EX BKT",null,null,1,1,{"$f":"IFERROR($E337*SUMIF('Daily Log'!$B$18:$B$1017,$B337,'Daily Log'!$C$18:$C$1017),0)","v":0},{"$f":"IFERROR($E337*SUMIF('Daily Log'!$E$18:$E$1017,$B337,'Daily Log'!$F$18:$F$1017),0)","v":0},{"$f":"IFERROR($E337*SUMIF('Daily Log'!$H$18:$H$1017,$B337,'Daily Log'!$I$18:$I$1017),0)","v":0},{"$f":"IFERROR($E337*SUMIF('Daily Log'!$K$18:$K$1017,$B337,'Daily Log'!$L$18:$L$1017),0)","v":0},{"$f":"IFERROR($E337*SUMIF('Daily Log'!$N$18:$N$1017,$B337,'Daily Log'!$O$18:$O$1017),0)","v":0},{"$f":"IFERROR($E337*SUMIF('Daily Log'!$Q$18:$Q$1017,$B337,'Daily Log'!$R$18:$R$1017),0)","v":1},{"$f":"IFERROR($E337*SUMIF('Daily Log'!$T$18:$T$1017,$B337,'Daily Log'!$U$18:$U$1017),0)","v":0},{"$f":"IFERROR($E337*SUMIF('Daily Log'!$W$18:$W$1017,$B337,'Daily Log'!$X$18:$X$1017),0)","v":0},{"$f":"IFERROR($E337*SUMIF('Daily Log'!$Z$18:$Z$1017,$B337,'Daily Log'!$AA$18:$AA$1017),0)","v":0},{"$f":"IFERROR($E337*SUMIF('Daily Log'!$AC$18:$AC$1017,$B337,'Daily Log'!$AD$18:$AD$1017),0)","v":0},{"$f":"IFERROR($E337*SUMIF('Daily Log'!$AF$18:$AF$1017,$B337,'Daily Log'!$AG$18:$AG$1017),0)","v":0},{"$f":"IFERROR($E337*SUMIF('Daily Log'!$AI$18:$AI$1017,$B337,'Daily Log'!$AJ$18:$AJ$1017),0)","v":0},{"$f":"IFERROR($E337*SUMIF('Daily Log'!#REF!,$B337,'Daily Log'!#REF!),0)","v":0},{"$f":"IFERROR($E337*SUMIF('Daily Log'!#REF!,$B337,'Daily Log'!#REF!),0)","v":0},{"$f":"IFERROR($E337*SUMIF('Daily Log'!#REF!,$B337,'Daily Log'!#REF!),0)","v":0},{"$f":"IFERROR($E337*SUMIF('Daily Log'!#REF!,$B337,'Daily Log'!#REF!),0)","v":0},{"$f":"IFERROR($E337*SUMIF('Daily Log'!#REF!,$B337,'Daily Log'!#REF!),0)","v":0},{"$f":"IFERROR($E337*SUMIF('Daily Log'!#REF!,$B337,'Daily Log'!#REF!),0)","v":0},{"$f":"IFERROR($E337*SUMIF('Daily Log'!#REF!,$B337,'Daily Log'!#REF!),0)","v":0},{"$f":"IFERROR($E337*SUMIF('Daily Log'!#REF!,$B337,'Daily Log'!#REF!),0)","v":0},{"$f":"IFERROR($E337*SUMIF('Daily Log'!#REF!,$B337,'Daily Log'!#REF!),0)","v":0},{"$f":"IFERROR($E337*SUMIF('Daily Log'!#REF!,$B337,'Daily Log'!#REF!),0)","v":0},{"$f":"IFERROR($E337*SUMIF('Daily Log'!#REF!,$B337,'Daily Log'!#REF!),0)","v":0},{"$f":"IFERROR($E337*SUMIF('Daily Log'!#REF!,$B337,'Daily Log'!#REF!),0)","v":0},{"$f":"IFERROR($E337*SUMIF('Daily Log'!#REF!,$B337,'Daily Log'!#REF!),0)","v":0},{"$f":"IFERROR($E337*SUMIF('Daily Log'!#REF!,$B337,'Daily Log'!#REF!),0)","v":0},{"$f":"IFERROR($E337*SUMIF('Daily Log'!#REF!,$B337,'Daily Log'!#REF!),0)","v":0},{"$f":"IFERROR($E337*SUMIF('Daily Log'!#REF!,$B337,'Daily Log'!#REF!),0)","v":0},{"$f":"IFERROR($E337*SUMIF('Daily Log'!#REF!,$B337,'Daily Log'!#REF!),0)","v":0},{"$f":"IFERROR($E337*SUMIF('Daily Log'!#REF!,$B337,'Daily Log'!#REF!),0)","v":0},{"$f":"IFERROR($E337*SUMIF('Daily Log'!#REF!,$B337,'Daily Log'!#REF!),0)","v":0}]
[null,"ZAA02 HEINEKEN EX BKT",null,null,1,0,{"$f":"IFERROR($E338*SUMIF('Daily Log'!$B$18:$B$1017,$B338,'Daily Log'!$C$18:$C$1017),0)","v":0},{"$f":"IFERROR($E338*SUMIF('Daily Log'!$E$18:$E$1017,$B338,'Daily Log'!$F$18:$F$1017),0)","v":0},{"$f":"IFERROR($E338*SUMIF('Daily Log'!$H$18:$H$1017,$B338,'Daily Log'!$I$18:$I$1017),0)","v":0},{"$f":"IFERROR($E338*SUMIF('Daily Log'!$K$18:$K$1017,$B338,'Daily Log'!$L$18:$L$1017),0)","v":0},{"$f":"IFERROR($E338*SUMIF('Daily Log'!$N$18:$N$1017,$B338,'Daily Log'!$O$18:$O$1017),0)","v":0},{"$f":"IFERROR($E338*SUMIF('Daily Log'!$Q$18:$Q$1017,$B338,'Daily Log'!$R$18:$R$1017),0)","v":0},{"$f":"IFERROR($E338*SUMIF('Daily Log'!$T$18:$T$1017,$B338,'Daily Log'!$U$18:$U$1017),0)","v":0},{"$f":"IFERROR($E338*SUMIF('Daily Log'!$W$18:$W$1017,$B338,'Daily Log'!$X$18:$X$1017),0)","v":0},{"$f":"IFERROR($E338*SUMIF('Daily Log'!$Z$18:$Z$1017,$B338,'Daily Log'!$AA$18:$AA$1017),0)","v":0},{"$f":"IFERROR($E338*SUMIF('Daily Log'!$AC$18:$AC$1017,$B338,'Daily Log'!$AD$18:$AD$1017),0)","v":0},{"$f":"IFERROR($E338*SUMIF('Daily Log'!$AF$18:$AF$1017,$B338,'Daily Log'!$AG$18:$AG$1017),0)","v":0},{"$f":"IFERROR($E338*SUMIF('Daily Log'!$AI$18:$AI$1017,$B338,'Daily Log'!$AJ$18:$AJ$1017),0)","v":0},{"$f":"IFERROR($E338*SUMIF('Daily Log'!#REF!,$B338,'Daily Log'!#REF!),0)","v":0},{"$f":"IFERROR($E338*SUMIF('Daily Log'!#REF!,$B338,'Daily Log'!#REF!),0)","v":0},{"$f":"IFERROR($E338*SUMIF('Daily Log'!#REF!,$B338,'Daily Log'!#REF!),0)","v":0},{"$f":"IFERROR($E338*SUMIF('Daily Log'!#REF!,$B338,'Daily Log'!#REF!),0)","v":0},{"$f":"IFERROR($E338*SUMIF('Daily Log'!#REF!,$B338,'Daily Log'!#REF!),0)","v":0},{"$f":"IFERROR($E338*SUMIF('Daily Log'!#REF!,$B338,'Daily Log'!#REF!),0)","v":0},{"$f":"IFERROR($E338*SUMIF('Daily Log'!#REF!,$B338,'Daily Log'!#REF!),0)","v":0},{"$f":"IFERROR($E338*SUMIF('Daily Log'!#REF!,$B338,'Daily Log'!#REF!),0)","v":0},{"$f":"IFERROR($E338*SUMIF('Daily Log'!#REF!,$B338,'Daily Log'!#REF!),0)","v":0},{"$f":"IFERROR($E338*SUMIF('Daily Log'!#REF!,$B338,'Daily Log'!#REF!),0)","v":0},{"$f":"IFERROR($E338*SUMIF('Daily Log'!#REF!,$B338,'Daily Log'!#REF!),0)","v":0},{"$f":"IFERROR($E338*SUMIF('Daily Log'!#REF!,$B338,'Daily Log'!#REF!),0)","v":0},{"$f":"IFERROR($E338*SUMIF('Daily Log'!#REF!,$B338,'Daily Log'!#REF!),0)","v":0},{"$f":"IFERROR($E338*SUMIF('Daily Log'!#REF!,$B338,'Daily Log'!#REF!),0)","v":0},{"$f":"IFERROR($E338*SUMIF('Daily Log'!#REF!,$B338,'Daily Log'!#REF!),0)","v":0},{"$f":"IFERROR($E338*SUMIF('Daily Log'!#REF!,$B338,'Daily Log'!#REF!),0)","v":0},{"$f":"IFERROR($E338*SUMIF('Daily Log'!#REF!,$B338,'Daily Log'!#REF!),0)","v":0},{"$f":"IFERROR($E338*SUMIF('Daily Log'!#REF!,$B338,'Daily Log'!#REF!),0)","v":0},{"$f":"IFERROR($E338*SUMIF('Daily Log'!#REF!,$B338,'Daily Log'!#REF!),0)","v":0}]
[null,"ZAD01 COLD",null,null,1,42,{"$f":"IFERROR($E339*SUMIF('Daily Log'!$B$18:$B$1017,$B339,'Daily Log'!$C$18:$C$1017),0)","v":0},{"$f":"IFERROR($E339*SUMIF('Daily Log'!$E$18:$E$1017,$B339,'Daily Log'!$F$18:$F$1017),0)","v":0},{"$f":"IFERROR($E339*SUMIF('Daily Log'!$H$18:$H$1017,$B339,'Daily Log'!$I$18:$I$1017),0)","v":0},{"$f":"IFERROR($E339*SUMIF('Daily Log'!$K$18:$K$1017,$B339,'Daily Log'!$L$18:$L$1017),0)","v":0},{"$f":"IFERROR($E339*SUMIF('Daily Log'!$N$18:$N$1017,$B339,'Daily Log'!$O$18:$O$1017),0)","v":0},{"$f":"IFERROR($E339*SUMIF('Daily Log'!$Q$18:$Q$1017,$B339,'Daily Log'!$R$18:$R$1017),0)","v":6},{"$f":"IFERROR($E339*SUMIF('Daily Log'!$T$18:$T$1017,$B339,'Daily Log'!$U$18:$U$1017),0)","v":7},{"$f":"IFERROR($E339*SUMIF('Daily Log'!$W$18:$W$1017,$B339,'Daily Log'!$X$18:$X$1017),0)","v":1},{"$f":"IFERROR($E339*SUMIF('Daily Log'!$Z$18:$Z$1017,$B339,'Daily Log'!$AA$18:$AA$1017),0)","v":10},{"$f":"IFERROR($E339*SUMIF('Daily Log'!$AC$18:$AC$1017,$B339,'Daily Log'!$AD$18:$AD$1017),0)","v":10},{"$f":"IFERROR($E339*SUMIF('Daily Log'!$AF$18:$AF$1017,$B339,'Daily Log'!$AG$18:$AG$1017),0)","v":4},{"$f":"IFERROR($E339*SUMIF('Daily Log'!$AI$18:$AI$1017,$B339,'Daily Log'!$AJ$18:$AJ$1017),0)","v":4},{"$f":"IFERROR($E339*SUMIF('Daily Log'!#REF!,$B339,'Daily Log'!#REF!),0)","v":0},{"$f":"IFERROR($E339*SUMIF('Daily Log'!#REF!,$B339,'Daily Log'!#REF!),0)","v":0},{"$f":"IFERROR($E339*SUMIF('Daily Log'!#REF!,$B339,'Daily Log'!#REF!),0)","v":0},{"$f":"IFERROR($E339*SUMIF('Daily Log'!#REF!,$B339,'Daily Log'!#REF!),0)","v":0},{"$f":"IFERROR($E339*SUMIF('Daily Log'!#REF!,$B339,'Daily Log'!#REF!),0)","v":0},{"$f":"IFERROR($E339*SUMIF('Daily Log'!#REF!,$B339,'Daily Log'!#REF!),0)","v":0},{"$f":"IFERROR($E339*SUMIF('Daily Log'!#REF!,$B339,'Daily Log'!#REF!),0)","v":0},{"$f":"IFERROR($E339*SUMIF('Daily Log'!#REF!,$B339,'Daily Log'!#REF!),0)","v":0},{"$f":"IFERROR($E339*SUMIF('Daily Log'!#REF!,$B339,'Daily Log'!#REF!),0)","v":0},{"$f":"IFERROR($E339*SUMIF('Daily Log'!#REF!,$B339,'Daily Log'!#REF!),0)","v":0},{"$f":"IFERROR($E339*SUMIF('Daily Log'!#REF!,$B339,'Daily Log'!#REF!),0)","v":0},{"$f":"IFERROR($E339*SUMIF('Daily Log'!#REF!,$B339,'Daily Log'!#REF!),0)","v":0},{"$f":"IFERROR($E339*SUMIF('Daily Log'!#REF!,$B339,'Daily Log'!#REF!),0)","v":0},{"$f":"IFERROR($E339*SUMIF('Daily Log'!#REF!,$B339,'Daily Log'!#REF!),0)","v":0},{"$f":"IFERROR($E339*SUMIF('Daily Log'!#REF!,$B339,'Daily Log'!#REF!),0)","v":0},{"$f":"IFERROR($E339*SUMIF('Daily Log'!#REF!,$B339,'Daily Log'!#REF!),0)","v":0},{"$f":"IFERROR($E339*SUMIF('Daily Log'!#REF!,$B339,'Daily Log'!#REF!),0)","v":0},{"$f":"IFERROR($E339*SUMIF('Daily Log'!#REF!,$B339,'Daily Log'!#REF!),0)","v":0},{"$f":"IFERROR($E339*SUMIF('Daily Log'!#REF!,$B339,'Daily Log'!#REF!),0)","v":0}]
[null,"ZAD02 HOT",null,null,1,16,{"$f":"IFERROR($E340*SUMIF('Daily Log'!$B$18:$B$1017,$B340,'Daily Log'!$C$18:$C$1017),0)","v":0},{"$f":"IFERROR($E340*SUMIF('Daily Log'!$E$18:$E$1017,$B340,'Daily Log'!$F$18:$F$1017),0)","v":0},{"$f":"IFERROR($E340*SUMIF('Daily Log'!$H$18:$H$1017,$B340,'Daily Log'!$I$18:$I$1017),0)","v":0},{"$f":"IFERROR($E340*SUMIF('Daily Log'!$K$18:$K$1017,$B340,'Daily Log'!$L$18:$L$1017),0)","v":0},{"$f":"IFERROR($E340*SUMIF('Daily Log'!$N$18:$N$1017,$B340,'Daily Log'!$O$18:$O$1017),0)","v":0},{"$f":"IFERROR($E340*SUMIF('Daily Log'!$Q$18:$Q$1017,$B340,'Daily Log'!$R$18:$R$1017),0)","v":3},{"$f":"IFERROR($E340*SUMIF('Daily Log'!$T$18:$T$1017,$B340,'Daily Log'!$U$18:$U$1017),0)","v":1},{"$f":"IFERROR($E340*SUMIF('Daily Log'!$W$18:$W$1017,$B340,'Daily Log'!$X$18:$X$1017),0)","v":2},{"$f":"IFERROR($E340*SUMIF('Daily Log'!$Z$18:$Z$1017,$B340,'Daily Log'!$AA$18:$AA$1017),0)","v":0},{"$f":"IFERROR($E340*SUMIF('Daily Log'!$AC$18:$AC$1017,$B340,'Daily Log'!$AD$18:$AD$1017),0)","v":2},{"$f":"IFERROR($E340*SUMIF('Daily Log'!$AF$18:$AF$1017,$B340,'Daily Log'!$AG$18:$AG$1017),0)","v":8},{"$f":"IFERROR($E340*SUMIF('Daily Log'!$AI$18:$AI$1017,$B340,'Daily Log'!$AJ$18:$AJ$1017),0)","v":0},{"$f":"IFERROR($E340*SUMIF('Daily Log'!#REF!,$B340,'Daily Log'!#REF!),0)","v":0},{"$f":"IFERROR($E340*SUMIF('Daily Log'!#REF!,$B340,'Daily Log'!#REF!),0)","v":0},{"$f":"IFERROR($E340*SUMIF('Daily Log'!#REF!,$B340,'Daily Log'!#REF!),0)","v":0},{"$f":"IFERROR($E340*SUMIF('Daily Log'!#REF!,$B340,'Daily Log'!#REF!),0)","v":0},{"$f":"IFERROR($E340*SUMIF('Daily Log'!#REF!,$B340,'Daily Log'!#REF!),0)","v":0},{"$f":"IFERROR($E340*SUMIF('Daily Log'!#REF!,$B340,'Daily Log'!#REF!),0)","v":0},{"$f":"IFERROR($E340*SUMIF('Daily Log'!#REF!,$B340,'Daily Log'!#REF!),0)","v":0},{"$f":"IFERROR($E340*SUMIF('Daily Log'!#REF!,$B340,'Daily Log'!#REF!),0)","v":0},{"$f":"IFERROR($E340*SUMIF('Daily Log'!#REF!,$B340,'Daily Log'!#REF!),0)","v":0},{"$f":"IFERROR($E340*SUMIF('Daily Log'!#REF!,$B340,'Daily Log'!#REF!),0)","v":0},{"$f":"IFERROR($E340*SUMIF('Daily Log'!#REF!,$B340,'Daily Log'!#REF!),0)","v":0},{"$f":"IFERROR($E340*SUMIF('Daily Log'!#REF!,$B340,'Daily Log'!#REF!),0)","v":0},{"$f":"IFERROR($E340*SUMIF('Daily Log'!#REF!,$B340,'Daily Log'!#REF!),0)","v":0},{"$f":"IFERROR($E340*SUMIF('Daily Log'!#REF!,$B340,'Daily Log'!#REF!),0)","v":0},{"$f":"IFERROR($E340*SUMIF('Daily Log'!#REF!,$B340,'Daily Log'!#REF!),0)","v":0},{"$f":"IFERROR($E340*SUMIF('Daily Log'!#REF!,$B340,'Daily Log'!#REF!),0)","v":0},{"$f":"IFERROR($E340*SUMIF('Daily Log'!#REF!,$B340,'Daily Log'!#REF!),0)","v":0},{"$f":"IFERROR($E340*SUMIF('Daily Log'!#REF!,$B340,'Daily Log'!#REF!),0)","v":0},{"$f":"IFERROR($E340*SUMIF('Daily Log'!#REF!,$B340,'Daily Log'!#REF!),0)","v":0}]
[null,"ZAD03 WARM",null,null,1,107,{"$f":"IFERROR($E341*SUMIF('Daily Log'!$B$18:$B$1017,$B341,'Daily Log'!$C$18:$C$1017),0)","v":0},{"$f":"IFERROR($E341*SUMIF('Daily Log'!$E$18:$E$1017,$B341,'Daily Log'!$F$18:$F$1017),0)","v":0},{"$f":"IFERROR($E341*SUMIF('Daily Log'!$H$18:$H$1017,$B341,'Daily Log'!$I$18:$I$1017),0)","v":0},{"$f":"IFERROR($E341*SUMIF('Daily Log'!$K$18:$K$1017,$B341,'Daily Log'!$L$18:$L$1017),0)","v":0},{"$f":"IFERROR($E341*SUMIF('Daily Log'!$N$18:$N$1017,$B341,'Daily Log'!$O$18:$O$1017),0)","v":0},{"$f":"IFERROR($E341*SUMIF('Daily Log'!$Q$18:$Q$1017,$B341,'Daily Log'!$R$18:$R$1017),0)","v":20},{"$f":"IFERROR($E341*SUMIF('Daily Log'!$T$18:$T$1017,$B341,'Daily Log'!$U$18:$U$1017),0)","v":3},{"$f":"IFERROR($E341*SUMIF('Daily Log'!$W$18:$W$1017,$B341,'Daily Log'!$X$18:$X$1017),0)","v":7},{"$f":"IFERROR($E341*SUMIF('Daily Log'!$Z$18:$Z$1017,$B341,'Daily Log'!$AA$18:$AA$1017),0)","v":12},{"$f":"IFERROR($E341*SUMIF('Daily Log'!$AC$18:$AC$1017,$B341,'Daily Log'!$AD$18:$AD$1017),0)","v":33},{"$f":"IFERROR($E341*SUMIF('Daily Log'!$AF$18:$AF$1017,$B341,'Daily Log'!$AG$18:$AG$1017),0)","v":23},{"$f":"IFERROR($E341*SUMIF('Daily Log'!$AI$18:$AI$1017,$B341,'Daily Log'!$AJ$18:$AJ$1017),0)","v":9},{"$f":"IFERROR($E341*SUMIF('Daily Log'!#REF!,$B341,'Daily Log'!#REF!),0)","v":0},{"$f":"IFERROR($E341*SUMIF('Daily Log'!#REF!,$B341,'Daily Log'!#REF!),0)","v":0},{"$f":"IFERROR($E341*SUMIF('Daily Log'!#REF!,$B341,'Daily Log'!#REF!),0)","v":0},{"$f":"IFERROR($E341*SUMIF('Daily Log'!#REF!,$B341,'Daily Log'!#REF!),0)","v":0},{"$f":"IFERROR($E341*SUMIF('Daily Log'!#REF!,$B341,'Daily Log'!#REF!),0)","v":0},{"$f":"IFERROR($E341*SUMIF('Daily Log'!#REF!,$B341,'Daily Log'!#REF!),0)","v":0},{"$f":"IFERROR($E341*SUMIF('Daily Log'!#REF!,$B341,'Daily Log'!#REF!),0)","v":0},{"$f":"IFERROR($E341*SUMIF('Daily Log'!#REF!,$B341,'Daily Log'!#REF!),0)","v":0},{"$f":"IFERROR($E341*SUMIF('Daily Log'!#REF!,$B341,'Daily Log'!#REF!),0)","v":0},{"$f":"IFERROR($E341*SUMIF('Daily Log'!#REF!,$B341,'Daily Log'!#REF!),0)","v":0},{"$f":"IFERROR($E341*SUMIF('Daily Log'!#REF!,$B341,'Daily Log'!#REF!),0)","v":0},{"$f":"IFERROR($E341*SUMIF('Daily Log'!#REF!,$B341,'Daily Log'!#REF!),0)","v":0},{"$f":"IFERROR($E341*SUMIF('Daily Log'!#REF!,$B341,'Daily Log'!#REF!),0)","v":0},{"$f":"IFERROR($E341*SUMIF('Daily Log'!#REF!,$B341,'Daily Log'!#REF!),0)","v":0},{"$f":"IFERROR($E341*SUMIF('Daily Log'!#REF!,$B341,'Daily Log'!#REF!),0)","v":0},{"$f":"IFERROR($E341*SUMIF('Daily Log'!#REF!,$B341,'Daily Log'!#REF!),0)","v":0},{"$f":"IFERROR($E341*SUMIF('Daily Log'!#REF!,$B341,'Daily Log'!#REF!),0)","v":0},{"$f":"IFERROR($E341*SUMIF('Daily Log'!#REF!,$B341,'Daily Log'!#REF!),0)","v":0},{"$f":"IFERROR($E341*SUMIF('Daily Log'!#REF!,$B341,'Daily Log'!#REF!),0)","v":0}]
[null,"ZAD04 LESS ICE",null,null,1,189,{"$f":"IFERROR($E342*SUMIF('Daily Log'!$B$18:$B$1017,$B342,'Daily Log'!$C$18:$C$1017),0)","v":0},{"$f":"IFERROR($E342*SUMIF('Daily Log'!$E$18:$E$1017,$B342,'Daily Log'!$F$18:$F$1017),0)","v":0},{"$f":"IFERROR($E342*SUMIF('Daily Log'!$H$18:$H$1017,$B342,'Daily Log'!$I$18:$I$1017),0)","v":0},{"$f":"IFERROR($E342*SUMIF('Daily Log'!$K$18:$K$1017,$B342,'Daily Log'!$L$18:$L$1017),0)","v":0},{"$f":"IFERROR($E342*SUMIF('Daily Log'!$N$18:$N$1017,$B342,'Daily Log'!$O$18:$O$1017),0)","v":0},{"$f":"IFERROR($E342*SUMIF('Daily Log'!$Q$18:$Q$1017,$B342,'Daily Log'!$R$18:$R$1017),0)","v":20},{"$f":"IFERROR($E342*SUMIF('Daily Log'!$T$18:$T$1017,$B342,'Daily Log'!$U$18:$U$1017),0)","v":15},{"$f":"IFERROR($E342*SUMIF('Daily Log'!$W$18:$W$1017,$B342,'Daily Log'!$X$18:$X$1017),0)","v":27},{"$f":"IFERROR($E342*SUMIF('Daily Log'!$Z$18:$Z$1017,$B342,'Daily Log'!$AA$18:$AA$1017),0)","v":44},{"$f":"IFERROR($E342*SUMIF('Daily Log'!$AC$18:$AC$1017,$B342,'Daily Log'!$AD$18:$AD$1017),0)","v":40},{"$f":"IFERROR($E342*SUMIF('Daily Log'!$AF$18:$AF$1017,$B342,'Daily Log'!$AG$18:$AG$1017),0)","v":23},{"$f":"IFERROR($E342*SUMIF('Daily Log'!$AI$18:$AI$1017,$B342,'Daily Log'!$AJ$18:$AJ$1017),0)","v":20},{"$f":"IFERROR($E342*SUMIF('Daily Log'!#REF!,$B342,'Daily Log'!#REF!),0)","v":0},{"$f":"IFERROR($E342*SUMIF('Daily Log'!#REF!,$B342,'Daily Log'!#REF!),0)","v":0},{"$f":"IFERROR($E342*SUMIF('Daily Log'!#REF!,$B342,'Daily Log'!#REF!),0)","v":0},{"$f":"IFERROR($E342*SUMIF('Daily Log'!#REF!,$B342,'Daily Log'!#REF!),0)","v":0},{"$f":"IFERROR($E342*SUMIF('Daily Log'!#REF!,$B342,'Daily Log'!#REF!),0)","v":0},{"$f":"IFERROR($E342*SUMIF('Daily Log'!#REF!,$B342,'Daily Log'!#REF!),0)","v":0},{"$f":"IFERROR($E342*SUMIF('Daily Log'!#REF!,$B342,'Daily Log'!#REF!),0)","v":0},{"$f":"IFERROR($E342*SUMIF('Daily Log'!#REF!,$B342,'Daily Log'!#REF!),0)","v":0},{"$f":"IFERROR($E342*SUMIF('Daily Log'!#REF!,$B342,'Daily Log'!#REF!),0)","v":0},{"$f":"IFERROR($E342*SUMIF('Daily Log'!#REF!,$B342,'Daily Log'!#REF!),0)","v":0},{"$f":"IFERROR($E342*SUMIF('Daily Log'!#REF!,$B342,'Daily Log'!#REF!),0)","v":0},{"$f":"IFERROR($E342*SUMIF('Daily Log'!#REF!,$B342,'Daily Log'!#REF!),0)","v":0},{"$f":"IFERROR($E342*SUMIF('Daily Log'!#REF!,$B342,'Daily Log'!#REF!),0)","v":0},{"$f":"IFERROR($E342*SUMIF('Daily Log'!#REF!,$B342,'Daily Log'!#REF!),0)","v":0},{"$f":"IFERROR($E342*SUMIF('Daily Log'!#REF!,$B342,'Daily Log'!#REF!),0)","v":0},{"$f":"IFERROR($E342*SUMIF('Daily Log'!#REF!,$B342,'Daily Log'!#REF!),0)","v":0},{"$f":"IFERROR($E342*SUMIF('Daily Log'!#REF!,$B342,'Daily Log'!#REF!),0)","v":0},{"$f":"IFERROR($E342*SUMIF('Daily Log'!#REF!,$B342,'Daily Log'!#REF!),0)","v":0},{"$f":"IFERROR($E342*SUMIF('Daily Log'!#REF!,$B342,'Daily Log'!#REF!),0)","v":0}]
[null,"ZAD05 MORE ICE",null,null,1,2,{"$f":"IFERROR($E343*SUMIF('Daily Log'!$B$18:$B$1017,$B343,'Daily Log'!$C$18:$C$1017),0)","v":0},{"$f":"IFERROR($E343*SUMIF('Daily Log'!$E$18:$E$1017,$B343,'Daily Log'!$F$18:$F$1017),0)","v":0},{"$f":"IFERROR($E343*SUMIF('Daily Log'!$H$18:$H$1017,$B343,'Daily Log'!$I$18:$I$1017),0)","v":0},{"$f":"IFERROR($E343*SUMIF('Daily Log'!$K$18:$K$1017,$B343,'Daily Log'!$L$18:$L$1017),0)","v":0},{"$f":"IFERROR($E343*SUMIF('Daily Log'!$N$18:$N$1017,$B343,'Daily Log'!$O$18:$O$1017),0)","v":0},{"$f":"IFERROR($E343*SUMIF('Daily Log'!$Q$18:$Q$1017,$B343,'Daily Log'!$R$18:$R$1017),0)","v":1},{"$f":"IFERROR($E343*SUMIF('Daily Log'!$T$18:$T$1017,$B343,'Daily Log'!$U$18:$U$1017),0)","v":0},{"$f":"IFERROR($E343*SUMIF('Daily Log'!$W$18:$W$1017,$B343,'Daily Log'!$X$18:$X$1017),0)","v":0},{"$f":"IFERROR($E343*SUMIF('Daily Log'!$Z$18:$Z$1017,$B343,'Daily Log'!$AA$18:$AA$1017),0)","v":0},{"$f":"IFERROR($E343*SUMIF('Daily Log'!$AC$18:$AC$1017,$B343,'Daily Log'!$AD$18:$AD$1017),0)","v":0},{"$f":"IFERROR($E343*SUMIF('Daily Log'!$AF$18:$AF$1017,$B343,'Daily Log'!$AG$18:$AG$1017),0)","v":1},{"$f":"IFERROR($E343*SUMIF('Daily Log'!$AI$18:$AI$1017,$B343,'Daily Log'!$AJ$18:$AJ$1017),0)","v":0},{"$f":"IFERROR($E343*SUMIF('Daily Log'!#REF!,$B343,'Daily Log'!#REF!),0)","v":0},{"$f":"IFERROR($E343*SUMIF('Daily Log'!#REF!,$B343,'Daily Log'!#REF!),0)","v":0},{"$f":"IFERROR($E343*SUMIF('Daily Log'!#REF!,$B343,'Daily Log'!#REF!),0)","v":0},{"$f":"IFERROR($E343*SUMIF('Daily Log'!#REF!,$B343,'Daily Log'!#REF!),0)","v":0},{"$f":"IFERROR($E343*SUMIF('Daily Log'!#REF!,$B343,'Daily Log'!#REF!),0)","v":0},{"$f":"IFERROR($E343*SUMIF('Daily Log'!#REF!,$B343,'Daily Log'!#REF!),0)","v":0},{"$f":"IFERROR($E343*SUMIF('Daily Log'!#REF!,$B343,'Daily Log'!#REF!),0)","v":0},{"$f":"IFERROR($E343*SUMIF('Daily Log'!#REF!,$B343,'Daily Log'!#REF!),0)","v":0},{"$f":"IFERROR($E343*SUMIF('Daily Log'!#REF!,$B343,'Daily Log'!#REF!),0)","v":0},{"$f":"IFERROR($E343*SUMIF('Daily Log'!#REF!,$B343,'Daily Log'!#REF!),0)","v":0},{"$f":"IFERROR($E343*SUMIF('Daily Log'!#REF!,$B343,'Daily Log'!#REF!),0)","v":0},{"$f":"IFERROR($E343*SUMIF('Daily Log'!#REF!,$B343,'Daily Log'!#REF!),0)","v":0},{"$f":"IFERROR($E343*SUMIF('Daily Log'!#REF!,$B343,'Daily Log'!#REF!),0)","v":0},{"$f":"IFERROR($E343*SUMIF('Daily Log'!#REF!,$B343,'Daily Log'!#REF!),0)","v":0},{"$f":"IFERROR($E343*SUMIF('Daily Log'!#REF!,$B343,'Daily Log'!#REF!),0)","v":0},{"$f":"IFERROR($E343*SUMIF('Daily Log'!#REF!,$B343,'Daily Log'!#REF!),0)","v":0},{"$f":"IFERROR($E343*SUMIF('Daily Log'!#REF!,$B343,'Daily Log'!#REF!),0)","v":0},{"$f":"IFERROR($E343*SUMIF('Daily Log'!#REF!,$B343,'Daily Log'!#REF!),0)","v":0},{"$f":"IFERROR($E343*SUMIF('Daily Log'!#REF!,$B343,'Daily Log'!#REF!),0)","v":0}]
[null,"ZAD06 NO ICE",null,null,1,88,{"$f":"IFERROR($E344*SUMIF('Daily Log'!$B$18:$B$1017,$B344,'Daily Log'!$C$18:$C$1017),0)","v":0},{"$f":"IFERROR($E344*SUMIF('Daily Log'!$E$18:$E$1017,$B344,'Daily Log'!$F$18:$F$1017),0)","v":0},{"$f":"IFERROR($E344*SUMIF('Daily Log'!$H$18:$H$1017,$B344,'Daily Log'!$I$18:$I$1017),0)","v":0},{"$f":"IFERROR($E344*SUMIF('Daily Log'!$K$18:$K$1017,$B344,'Daily Log'!$L$18:$L$1017),0)","v":0},{"$f":"IFERROR($E344*SUMIF('Daily Log'!$N$18:$N$1017,$B344,'Daily Log'!$O$18:$O$1017),0)","v":0},{"$f":"IFERROR($E344*SUMIF('Daily Log'!$Q$18:$Q$1017,$B344,'Daily Log'!$R$18:$R$1017),0)","v":6},{"$f":"IFERROR($E344*SUMIF('Daily Log'!$T$18:$T$1017,$B344,'Daily Log'!$U$18:$U$1017),0)","v":10},{"$f":"IFERROR($E344*SUMIF('Daily Log'!$W$18:$W$1017,$B344,'Daily Log'!$X$18:$X$1017),0)","v":2},{"$f":"IFERROR($E344*SUMIF('Daily Log'!$Z$18:$Z$1017,$B344,'Daily Log'!$AA$18:$AA$1017),0)","v":11},{"$f":"IFERROR($E344*SUMIF('Daily Log'!$AC$18:$AC$1017,$B344,'Daily Log'!$AD$18:$AD$1017),0)","v":18},{"$f":"IFERROR($E344*SUMIF('Daily Log'!$AF$18:$AF$1017,$B344,'Daily Log'!$AG$18:$AG$1017),0)","v":25},{"$f":"IFERROR($E344*SUMIF('Daily Log'!$AI$18:$AI$1017,$B344,'Daily Log'!$AJ$18:$AJ$1017),0)","v":16},{"$f":"IFERROR($E344*SUMIF('Daily Log'!#REF!,$B344,'Daily Log'!#REF!),0)","v":0},{"$f":"IFERROR($E344*SUMIF('Daily Log'!#REF!,$B344,'Daily Log'!#REF!),0)","v":0},{"$f":"IFERROR($E344*SUMIF('Daily Log'!#REF!,$B344,'Daily Log'!#REF!),0)","v":0},{"$f":"IFERROR($E344*SUMIF('Daily Log'!#REF!,$B344,'Daily Log'!#REF!),0)","v":0},{"$f":"IFERROR($E344*SUMIF('Daily Log'!#REF!,$B344,'Daily Log'!#REF!),0)","v":0},{"$f":"IFERROR($E344*SUMIF('Daily Log'!#REF!,$B344,'Daily Log'!#REF!),0)","v":0},{"$f":"IFERROR($E344*SUMIF('Daily Log'!#REF!,$B344,'Daily Log'!#REF!),0)","v":0},{"$f":"IFERROR($E344*SUMIF('Daily Log'!#REF!,$B344,'Daily Log'!#REF!),0)","v":0},{"$f":"IFERROR($E344*SUMIF('Daily Log'!#REF!,$B344,'Daily Log'!#REF!),0)","v":0},{"$f":"IFERROR($E344*SUMIF('Daily Log'!#REF!,$B344,'Daily Log'!#REF!),0)","v":0},{"$f":"IFERROR($E344*SUMIF('Daily Log'!#REF!,$B344,'Daily Log'!#REF!),0)","v":0},{"$f":"IFERROR($E344*SUMIF('Daily Log'!#REF!,$B344,'Daily Log'!#REF!),0)","v":0},{"$f":"IFERROR($E344*SUMIF('Daily Log'!#REF!,$B344,'Daily Log'!#REF!),0)","v":0},{"$f":"IFERROR($E344*SUMIF('Daily Log'!#REF!,$B344,'Daily Log'!#REF!),0)","v":0},{"$f":"IFERROR($E344*SUMIF('Daily Log'!#REF!,$B344,'Daily Log'!#REF!),0)","v":0},{"$f":"IFERROR($E344*SUMIF('Daily Log'!#REF!,$B344,'Daily Log'!#REF!),0)","v":0},{"$f":"IFERROR($E344*SUMIF('Daily Log'!#REF!,$B344,'Daily Log'!#REF!),0)","v":0},{"$f":"IFERROR($E344*SUMIF('Daily Log'!#REF!,$B344,'Daily Log'!#REF!),0)","v":0},{"$f":"IFERROR($E344*SUMIF('Daily Log'!#REF!,$B344,'Daily Log'!#REF!),0)","v":0}]
[null,"ZAD07 LESS SWEET",null,null,1,25,{"$f":"IFERROR($E345*SUMIF('Daily Log'!$B$18:$B$1017,$B345,'Daily Log'!$C$18:$C$1017),0)","v":0},{"$f":"IFERROR($E345*SUMIF('Daily Log'!$E$18:$E$1017,$B345,'Daily Log'!$F$18:$F$1017),0)","v":0},{"$f":"IFERROR($E345*SUMIF('Daily Log'!$H$18:$H$1017,$B345,'Daily Log'!$I$18:$I$1017),0)","v":0},{"$f":"IFERROR($E345*SUMIF('Daily Log'!$K$18:$K$1017,$B345,'Daily Log'!$L$18:$L$1017),0)","v":0},{"$f":"IFERROR($E345*SUMIF('Daily Log'!$N$18:$N$1017,$B345,'Daily Log'!$O$18:$O$1017),0)","v":0},{"$f":"IFERROR($E345*SUMIF('Daily Log'!$Q$18:$Q$1017,$B345,'Daily Log'!$R$18:$R$1017),0)","v":0},{"$f":"IFERROR($E345*SUMIF('Daily Log'!$T$18:$T$1017,$B345,'Daily Log'!$U$18:$U$1017),0)","v":2},{"$f":"IFERROR($E345*SUMIF('Daily Log'!$W$18:$W$1017,$B345,'Daily Log'!$X$18:$X$1017),0)","v":3},{"$f":"IFERROR($E345*SUMIF('Daily Log'!$Z$18:$Z$1017,$B345,'Daily Log'!$AA$18:$AA$1017),0)","v":6},{"$f":"IFERROR($E345*SUMIF('Daily Log'!$AC$18:$AC$1017,$B345,'Daily Log'!$AD$18:$AD$1017),0)","v":6},{"$f":"IFERROR($E345*SUMIF('Daily Log'!$AF$18:$AF$1017,$B345,'Daily Log'!$AG$18:$AG$1017),0)","v":4},{"$f":"IFERROR($E345*SUMIF('Daily Log'!$AI$18:$AI$1017,$B345,'Daily Log'!$AJ$18:$AJ$1017),0)","v":4},{"$f":"IFERROR($E345*SUMIF('Daily Log'!#REF!,$B345,'Daily Log'!#REF!),0)","v":0},{"$f":"IFERROR($E345*SUMIF('Daily Log'!#REF!,$B345,'Daily Log'!#REF!),0)","v":0},{"$f":"IFERROR($E345*SUMIF('Daily Log'!#REF!,$B345,'Daily Log'!#REF!),0)","v":0},{"$f":"IFERROR($E345*SUMIF('Daily Log'!#REF!,$B345,'Daily Log'!#REF!),0)","v":0},{"$f":"IFERROR($E345*SUMIF('Daily Log'!#REF!,$B345,'Daily Log'!#REF!),0)","v":0},{"$f":"IFERROR($E345*SUMIF('Daily Log'!#REF!,$B345,'Daily Log'!#REF!),0)","v":0},{"$f":"IFERROR($E345*SUMIF('Daily Log'!#REF!,$B345,'Daily Log'!#REF!),0)","v":0},{"$f":"IFERROR($E345*SUMIF('Daily Log'!#REF!,$B345,'Daily Log'!#REF!),0)","v":0},{"$f":"IFERROR($E345*SUMIF('Daily Log'!#REF!,$B345,'Daily Log'!#REF!),0)","v":0},{"$f":"IFERROR($E345*SUMIF('Daily Log'!#REF!,$B345,'Daily Log'!#REF!),0)","v":0},{"$f":"IFERROR($E345*SUMIF('Daily Log'!#REF!,$B345,'Daily Log'!#REF!),0)","v":0},{"$f":"IFERROR($E345*SUMIF('Daily Log'!#REF!,$B345,'Daily Log'!#REF!),0)","v":0},{"$f":"IFERROR($E345*SUMIF('Daily Log'!#REF!,$B345,'Daily Log'!#REF!),0)","v":0},{"$f":"IFERROR($E345*SUMIF('Daily Log'!#REF!,$B345,'Daily Log'!#REF!),0)","v":0},{"$f":"IFERROR($E345*SUMIF('Daily Log'!#REF!,$B345,'Daily Log'!#REF!),0)","v":0},{"$f":"IFERROR($E345*SUMIF('Daily Log'!#REF!,$B345,'Daily Log'!#REF!),0)","v":0},{"$f":"IFERROR($E345*SUMIF('Daily Log'!#REF!,$B345,'Daily Log'!#REF!),0)","v":0},{"$f":"IFERROR($E345*SUMIF('Daily Log'!#REF!,$B345,'Daily Log'!#REF!),0)","v":0},{"$f":"IFERROR($E345*SUMIF('Daily Log'!#REF!,$B345,'Daily Log'!#REF!),0)","v":0}]
[null,"ZAD08 LESS OILY",null,null,1,5,{"$f":"IFERROR($E346*SUMIF('Daily Log'!$B$18:$B$1017,$B346,'Daily Log'!$C$18:$C$1017),0)","v":0},{"$f":"IFERROR($E346*SUMIF('Daily Log'!$E$18:$E$1017,$B346,'Daily Log'!$F$18:$F$1017),0)","v":0},{"$f":"IFERROR($E346*SUMIF('Daily Log'!$H$18:$H$1017,$B346,'Daily Log'!$I$18:$I$1017),0)","v":0},{"$f":"IFERROR($E346*SUMIF('Daily Log'!$K$18:$K$1017,$B346,'Daily Log'!$L$18:$L$1017),0)","v":0},{"$f":"IFERROR($E346*SUMIF('Daily Log'!$N$18:$N$1017,$B346,'Daily Log'!$O$18:$O$1017),0)","v":0},{"$f":"IFERROR($E346*SUMIF('Daily Log'!$Q$18:$Q$1017,$B346,'Daily Log'!$R$18:$R$1017),0)","v":0},{"$f":"IFERROR($E346*SUMIF('Daily Log'!$T$18:$T$1017,$B346,'Daily Log'!$U$18:$U$1017),0)","v":0},{"$f":"IFERROR($E346*SUMIF('Daily Log'!$W$18:$W$1017,$B346,'Daily Log'!$X$18:$X$1017),0)","v":5},{"$f":"IFERROR($E346*SUMIF('Daily Log'!$Z$18:$Z$1017,$B346,'Daily Log'!$AA$18:$AA$1017),0)","v":0},{"$f":"IFERROR($E346*SUMIF('Daily Log'!$AC$18:$AC$1017,$B346,'Daily Log'!$AD$18:$AD$1017),0)","v":0},{"$f":"IFERROR($E346*SUMIF('Daily Log'!$AF$18:$AF$1017,$B346,'Daily Log'!$AG$18:$AG$1017),0)","v":0},{"$f":"IFERROR($E346*SUMIF('Daily Log'!$AI$18:$AI$1017,$B346,'Daily Log'!$AJ$18:$AJ$1017),0)","v":0},{"$f":"IFERROR($E346*SUMIF('Daily Log'!#REF!,$B346,'Daily Log'!#REF!),0)","v":0},{"$f":"IFERROR($E346*SUMIF('Daily Log'!#REF!,$B346,'Daily Log'!#REF!),0)","v":0},{"$f":"IFERROR($E346*SUMIF('Daily Log'!#REF!,$B346,'Daily Log'!#REF!),0)","v":0},{"$f":"IFERROR($E346*SUMIF('Daily Log'!#REF!,$B346,'Daily Log'!#REF!),0)","v":0},{"$f":"IFERROR($E346*SUMIF('Daily Log'!#REF!,$B346,'Daily Log'!#REF!),0)","v":0},{"$f":"IFERROR($E346*SUMIF('Daily Log'!#REF!,$B346,'Daily Log'!#REF!),0)","v":0},{"$f":"IFERROR($E346*SUMIF('Daily Log'!#REF!,$B346,'Daily Log'!#REF!),0)","v":0},{"$f":"IFERROR($E346*SUMIF('Daily Log'!#REF!,$B346,'Daily Log'!#REF!),0)","v":0},{"$f":"IFERROR($E346*SUMIF('Daily Log'!#REF!,$B346,'Daily Log'!#REF!),0)","v":0},{"$f":"IFERROR($E346*SUMIF('Daily Log'!#REF!,$B346,'Daily Log'!#REF!),0)","v":0},{"$f":"IFERROR($E346*SUMIF('Daily Log'!#REF!,$B346,'Daily Log'!#REF!),0)","v":0},{"$f":"IFERROR($E346*SUMIF('Daily Log'!#REF!,$B346,'Daily Log'!#REF!),0)","v":0},{"$f":"IFERROR($E346*SUMIF('Daily Log'!#REF!,$B346,'Daily Log'!#REF!),0)","v":0},{"$f":"IFERROR($E346*SUMIF('Daily Log'!#REF!,$B346,'Daily Log'!#REF!),0)","v":0},{"$f":"IFERROR($E346*SUMIF('Daily Log'!#REF!,$B346,'Daily Log'!#REF!),0)","v":0},{"$f":"IFERROR($E346*SUMIF('Daily Log'!#REF!,$B346,'Daily Log'!#REF!),0)","v":0},{"$f":"IFERROR($E346*SUMIF('Daily Log'!#REF!,$B346,'Daily Log'!#REF!),0)","v":0},{"$f":"IFERROR($E346*SUMIF('Daily Log'!#REF!,$B346,'Daily Log'!#REF!),0)","v":0},{"$f":"IFERROR($E346*SUMIF('Daily Log'!#REF!,$B346,'Daily Log'!#REF!),0)","v":0}]
[null,"ZAD09 LESS SALTY",null,null,1,3,{"$f":"IFERROR($E347*SUMIF('Daily Log'!$B$18:$B$1017,$B347,'Daily Log'!$C$18:$C$1017),0)","v":0},{"$f":"IFERROR($E347*SUMIF('Daily Log'!$E$18:$E$1017,$B347,'Daily Log'!$F$18:$F$1017),0)","v":0},{"$f":"IFERROR($E347*SUMIF('Daily Log'!$H$18:$H$1017,$B347,'Daily Log'!$I$18:$I$1017),0)","v":0},{"$f":"IFERROR($E347*SUMIF('Daily Log'!$K$18:$K$1017,$B347,'Daily Log'!$L$18:$L$1017),0)","v":0},{"$f":"IFERROR($E347*SUMIF('Daily Log'!$N$18:$N$1017,$B347,'Daily Log'!$O$18:$O$1017),0)","v":0},{"$f":"IFERROR($E347*SUMIF('Daily Log'!$Q$18:$Q$1017,$B347,'Daily Log'!$R$18:$R$1017),0)","v":0},{"$f":"IFERROR($E347*SUMIF('Daily Log'!$T$18:$T$1017,$B347,'Daily Log'!$U$18:$U$1017),0)","v":0},{"$f":"IFERROR($E347*SUMIF('Daily Log'!$W$18:$W$1017,$B347,'Daily Log'!$X$18:$X$1017),0)","v":3},{"$f":"IFERROR($E347*SUMIF('Daily Log'!$Z$18:$Z$1017,$B347,'Daily Log'!$AA$18:$AA$1017),0)","v":0},{"$f":"IFERROR($E347*SUMIF('Daily Log'!$AC$18:$AC$1017,$B347,'Daily Log'!$AD$18:$AD$1017),0)","v":0},{"$f":"IFERROR($E347*SUMIF('Daily Log'!$AF$18:$AF$1017,$B347,'Daily Log'!$AG$18:$AG$1017),0)","v":0},{"$f":"IFERROR($E347*SUMIF('Daily Log'!$AI$18:$AI$1017,$B347,'Daily Log'!$AJ$18:$AJ$1017),0)","v":0},{"$f":"IFERROR($E347*SUMIF('Daily Log'!#REF!,$B347,'Daily Log'!#REF!),0)","v":0},{"$f":"IFERROR($E347*SUMIF('Daily Log'!#REF!,$B347,'Daily Log'!#REF!),0)","v":0},{"$f":"IFERROR($E347*SUMIF('Daily Log'!#REF!,$B347,'Daily Log'!#REF!),0)","v":0},{"$f":"IFERROR($E347*SUMIF('Daily Log'!#REF!,$B347,'Daily Log'!#REF!),0)","v":0},{"$f":"IFERROR($E347*SUMIF('Daily Log'!#REF!,$B347,'Daily Log'!#REF!),0)","v":0},{"$f":"IFERROR($E347*SUMIF('Daily Log'!#REF!,$B347,'Daily Log'!#REF!),0)","v":0},{"$f":"IFERROR($E347*SUMIF('Daily Log'!#REF!,$B347,'Daily Log'!#REF!),0)","v":0},{"$f":"IFERROR($E347*SUMIF('Daily Log'!#REF!,$B347,'Daily Log'!#REF!),0)","v":0},{"$f":"IFERROR($E347*SUMIF('Daily Log'!#REF!,$B347,'Daily Log'!#REF!),0)","v":0},{"$f":"IFERROR($E347*SUMIF('Daily Log'!#REF!,$B347,'Daily Log'!#REF!),0)","v":0},{"$f":"IFERROR($E347*SUMIF('Daily Log'!#REF!,$B347,'Daily Log'!#REF!),0)","v":0},{"$f":"IFERROR($E347*SUMIF('Daily Log'!#REF!,$B347,'Daily Log'!#REF!),0)","v":0},{"$f":"IFERROR($E347*SUMIF('Daily Log'!#REF!,$B347,'Daily Log'!#REF!),0)","v":0},{"$f":"IFERROR($E347*SUMIF('Daily Log'!#REF!,$B347,'Daily Log'!#REF!),0)","v":0},{"$f":"IFERROR($E347*SUMIF('Daily Log'!#REF!,$B347,'Daily Log'!#REF!),0)","v":0},{"$f":"IFERROR($E347*SUMIF('Daily Log'!#REF!,$B347,'Daily Log'!#REF!),0)","v":0},{"$f":"IFERROR($E347*SUMIF('Daily Log'!#REF!,$B347,'Daily Log'!#REF!),0)","v":0},{"$f":"IFERROR($E347*SUMIF('Daily Log'!#REF!,$B347,'Daily Log'!#REF!),0)","v":0},{"$f":"IFERROR($E347*SUMIF('Daily Log'!#REF!,$B347,'Daily Log'!#REF!),0)","v":0}]
[null,"ZAD10 LESS SPICY",null,null,1,2,{"$f":"IFERROR($E348*SUMIF('Daily Log'!$B$18:$B$1017,$B348,'Daily Log'!$C$18:$C$1017),0)","v":0},{"$f":"IFERROR($E348*SUMIF('Daily Log'!$E$18:$E$1017,$B348,'Daily Log'!$F$18:$F$1017),0)","v":0},{"$f":"IFERROR($E348*SUMIF('Daily Log'!$H$18:$H$1017,$B348,'Daily Log'!$I$18:$I$1017),0)","v":0},{"$f":"IFERROR($E348*SUMIF('Daily Log'!$K$18:$K$1017,$B348,'Daily Log'!$L$18:$L$1017),0)","v":0},{"$f":"IFERROR($E348*SUMIF('Daily Log'!$N$18:$N$1017,$B348,'Daily Log'!$O$18:$O$1017),0)","v":0},{"$f":"IFERROR($E348*SUMIF('Daily Log'!$Q$18:$Q$1017,$B348,'Daily Log'!$R$18:$R$1017),0)","v":0},{"$f":"IFERROR($E348*SUMIF('Daily Log'!$T$18:$T$1017,$B348,'Daily Log'!$U$18:$U$1017),0)","v":0},{"$f":"IFERROR($E348*SUMIF('Daily Log'!$W$18:$W$1017,$B348,'Daily Log'!$X$18:$X$1017),0)","v":2},{"$f":"IFERROR($E348*SUMIF('Daily Log'!$Z$18:$Z$1017,$B348,'Daily Log'!$AA$18:$AA$1017),0)","v":0},{"$f":"IFERROR($E348*SUMIF('Daily Log'!$AC$18:$AC$1017,$B348,'Daily Log'!$AD$18:$AD$1017),0)","v":0},{"$f":"IFERROR($E348*SUMIF('Daily Log'!$AF$18:$AF$1017,$B348,'Daily Log'!$AG$18:$AG$1017),0)","v":0},{"$f":"IFERROR($E348*SUMIF('Daily Log'!$AI$18:$AI$1017,$B348,'Daily Log'!$AJ$18:$AJ$1017),0)","v":0},{"$f":"IFERROR($E348*SUMIF('Daily Log'!#REF!,$B348,'Daily Log'!#REF!),0)","v":0},{"$f":"IFERROR($E348*SUMIF('Daily Log'!#REF!,$B348,'Daily Log'!#REF!),0)","v":0},{"$f":"IFERROR($E348*SUMIF('Daily Log'!#REF!,$B348,'Daily Log'!#REF!),0)","v":0},{"$f":"IFERROR($E348*SUMIF('Daily Log'!#REF!,$B348,'Daily Log'!#REF!),0)","v":0},{"$f":"IFERROR($E348*SUMIF('Daily Log'!#REF!,$B348,'Daily Log'!#REF!),0)","v":0},{"$f":"IFERROR($E348*SUMIF('Daily Log'!#REF!,$B348,'Daily Log'!#REF!),0)","v":0},{"$f":"IFERROR($E348*SUMIF('Daily Log'!#REF!,$B348,'Daily Log'!#REF!),0)","v":0},{"$f":"IFERROR($E348*SUMIF('Daily Log'!#REF!,$B348,'Daily Log'!#REF!),0)","v":0},{"$f":"IFERROR($E348*SUMIF('Daily Log'!#REF!,$B348,'Daily Log'!#REF!),0)","v":0},{"$f":"IFERROR($E348*SUMIF('Daily Log'!#REF!,$B348,'Daily Log'!#REF!),0)","v":0},{"$f":"IFERROR($E348*SUMIF('Daily Log'!#REF!,$B348,'Daily Log'!#REF!),0)","v":0},{"$f":"IFERROR($E348*SUMIF('Daily Log'!#REF!,$B348,'Daily Log'!#REF!),0)","v":0},{"$f":"IFERROR($E348*SUMIF('Daily Log'!#REF!,$B348,'Daily Log'!#REF!),0)","v":0},{"$f":"IFERROR($E348*SUMIF('Daily Log'!#REF!,$B348,'Daily Log'!#REF!),0)","v":0},{"$f":"IFERROR($E348*SUMIF('Daily Log'!#REF!,$B348,'Daily Log'!#REF!),0)","v":0},{"$f":"IFERROR($E348*SUMIF('Daily Log'!#REF!,$B348,'Daily Log'!#REF!),0)","v":0},{"$f":"IFERROR($E348*SUMIF('Daily Log'!#REF!,$B348,'Daily Log'!#REF!),0)","v":0},{"$f":"IFERROR($E348*SUMIF('Daily Log'!#REF!,$B348,'Daily Log'!#REF!),0)","v":0},{"$f":"IFERROR($E348*SUMIF('Daily Log'!#REF!,$B348,'Daily Log'!#REF!),0)","v":0}]
[null,"ZAD12 NO VEGGIE",null,null,1,1,{"$f":"IFERROR($E349*SUMIF('Daily Log'!$B$18:$B$1017,$B349,'Daily Log'!$C$18:$C$1017),0)","v":0},{"$f":"IFERROR($E349*SUMIF('Daily Log'!$E$18:$E$1017,$B349,'Daily Log'!$F$18:$F$1017),0)","v":0},{"$f":"IFERROR($E349*SUMIF('Daily Log'!$H$18:$H$1017,$B349,'Daily Log'!$I$18:$I$1017),0)","v":0},{"$f":"IFERROR($E349*SUMIF('Daily Log'!$K$18:$K$1017,$B349,'Daily Log'!$L$18:$L$1017),0)","v":0},{"$f":"IFERROR($E349*SUMIF('Daily Log'!$N$18:$N$1017,$B349,'Daily Log'!$O$18:$O$1017),0)","v":0},{"$f":"IFERROR($E349*SUMIF('Daily Log'!$Q$18:$Q$1017,$B349,'Daily Log'!$R$18:$R$1017),0)","v":0},{"$f":"IFERROR($E349*SUMIF('Daily Log'!$T$18:$T$1017,$B349,'Daily Log'!$U$18:$U$1017),0)","v":0},{"$f":"IFERROR($E349*SUMIF('Daily Log'!$W$18:$W$1017,$B349,'Daily Log'!$X$18:$X$1017),0)","v":0},{"$f":"IFERROR($E349*SUMIF('Daily Log'!$Z$18:$Z$1017,$B349,'Daily Log'!$AA$18:$AA$1017),0)","v":0},{"$f":"IFERROR($E349*SUMIF('Daily Log'!$AC$18:$AC$1017,$B349,'Daily Log'!$AD$18:$AD$1017),0)","v":0},{"$f":"IFERROR($E349*SUMIF('Daily Log'!$AF$18:$AF$1017,$B349,'Daily Log'!$AG$18:$AG$1017),0)","v":1},{"$f":"IFERROR($E349*SUMIF('Daily Log'!$AI$18:$AI$1017,$B349,'Daily Log'!$AJ$18:$AJ$1017),0)","v":0},{"$f":"IFERROR($E349*SUMIF('Daily Log'!#REF!,$B349,'Daily Log'!#REF!),0)","v":0},{"$f":"IFERROR($E349*SUMIF('Daily Log'!#REF!,$B349,'Daily Log'!#REF!),0)","v":0},{"$f":"IFERROR($E349*SUMIF('Daily Log'!#REF!,$B349,'Daily Log'!#REF!),0)","v":0},{"$f":"IFERROR($E349*SUMIF('Daily Log'!#REF!,$B349,'Daily Log'!#REF!),0)","v":0},{"$f":"IFERROR($E349*SUMIF('Daily Log'!#REF!,$B349,'Daily Log'!#REF!),0)","v":0},{"$f":"IFERROR($E349*SUMIF('Daily Log'!#REF!,$B349,'Daily Log'!#REF!),0)","v":0},{"$f":"IFERROR($E349*SUMIF('Daily Log'!#REF!,$B349,'Daily Log'!#REF!),0)","v":0},{"$f":"IFERROR($E349*SUMIF('Daily Log'!#REF!,$B349,'Daily Log'!#REF!),0)","v":0},{"$f":"IFERROR($E349*SUMIF('Daily Log'!#REF!,$B349,'Daily Log'!#REF!),0)","v":0},{"$f":"IFERROR($E349*SUMIF('Daily Log'!#REF!,$B349,'Daily Log'!#REF!),0)","v":0},{"$f":"IFERROR($E349*SUMIF('Daily Log'!#REF!,$B349,'Daily Log'!#REF!),0)","v":0},{"$f":"IFERROR($E349*SUMIF('Daily Log'!#REF!,$B349,'Daily Log'!#REF!),0)","v":0},{"$f":"IFERROR($E349*SUMIF('Daily Log'!#REF!,$B349,'Daily Log'!#REF!),0)","v":0},{"$f":"IFERROR($E349*SUMIF('Daily Log'!#REF!,$B349,'Daily Log'!#REF!),0)","v":0},{"$f":"IFERROR($E349*SUMIF('Daily Log'!#REF!,$B349,'Daily Log'!#REF!),0)","v":0},{"$f":"IFERROR($E349*SUMIF('Daily Log'!#REF!,$B349,'Daily Log'!#REF!),0)","v":0},{"$f":"IFERROR($E349*SUMIF('Daily Log'!#REF!,$B349,'Daily Log'!#REF!),0)","v":0},{"$f":"IFERROR($E349*SUMIF('Daily Log'!#REF!,$B349,'Daily Log'!#REF!),0)","v":0},{"$f":"IFERROR($E349*SUMIF('Daily Log'!#REF!,$B349,'Daily Log'!#REF!),0)","v":0}]
[null,"ZAD13 ADD LEMON",null,null,1,{"$f":"SUM($G350:$AK350)","v":39},{"$f":"IFERROR($E350*SUMIF('Daily Log'!$B$18:$B$1017,$B350,'Daily Log'!$C$18:$C$1017),0)","v":0},{"$f":"IFERROR($E350*SUMIF('Daily Log'!$E$18:$E$1017,$B350,'Daily Log'!$F$18:$F$1017),0)","v":0},{"$f":"IFERROR($E350*SUMIF('Daily Log'!$H$18:$H$1017,$B350,'Daily Log'!$I$18:$I$1017),0)","v":0},{"$f":"IFERROR($E350*SUMIF('Daily Log'!$K$18:$K$1017,$B350,'Daily Log'!$L$18:$L$1017),0)","v":0},{"$f":"IFERROR($E350*SUMIF('Daily Log'!$N$18:$N$1017,$B350,'Daily Log'!$O$18:$O$1017),0)","v":0},{"$f":"IFERROR($E350*SUMIF('Daily Log'!$Q$18:$Q$1017,$B350,'Daily Log'!$R$18:$R$1017),0)","v":4},{"$f":"IFERROR($E350*SUMIF('Daily Log'!$T$18:$T$1017,$B350,'Daily Log'!$U$18:$U$1017),0)","v":6},{"$f":"IFERROR($E350*SUMIF('Daily Log'!$W$18:$W$1017,$B350,'Daily Log'!$X$18:$X$1017),0)","v":4},{"$f":"IFERROR($E350*SUMIF('Daily Log'!$Z$18:$Z$1017,$B350,'Daily Log'!$AA$18:$AA$1017),0)","v":9},{"$f":"IFERROR($E350*SUMIF('Daily Log'!$AC$18:$AC$1017,$B350,'Daily Log'!$AD$18:$AD$1017),0)","v":10},{"$f":"IFERROR($E350*SUMIF('Daily Log'!$AF$18:$AF$1017,$B350,'Daily Log'!$AG$18:$AG$1017),0)","v":6},{"$f":"IFERROR($E350*SUMIF('Daily Log'!$AI$18:$AI$1017,$B350,'Daily Log'!$AJ$18:$AJ$1017),0)","v":0},{"$f":"IFERROR($E350*SUMIF('Daily Log'!#REF!,$B350,'Daily Log'!#REF!),0)","v":0},{"$f":"IFERROR($E350*SUMIF('Daily Log'!#REF!,$B350,'Daily Log'!#REF!),0)","v":0},{"$f":"IFERROR($E350*SUMIF('Daily Log'!#REF!,$B350,'Daily Log'!#REF!),0)","v":0},{"$f":"IFERROR($E350*SUMIF('Daily Log'!#REF!,$B350,'Daily Log'!#REF!),0)","v":0},{"$f":"IFERROR($E350*SUMIF('Daily Log'!#REF!,$B350,'Daily Log'!#REF!),0)","v":0},{"$f":"IFERROR($E350*SUMIF('Daily Log'!#REF!,$B350,'Daily Log'!#REF!),0)","v":0},{"$f":"IFERROR($E350*SUMIF('Daily Log'!#REF!,$B350,'Daily Log'!#REF!),0)","v":0},{"$f":"IFERROR($E350*SUMIF('Daily Log'!#REF!,$B350,'Daily Log'!#REF!),0)","v":0},{"$f":"IFERROR($E350*SUMIF('Daily Log'!#REF!,$B350,'Daily Log'!#REF!),0)","v":0},{"$f":"IFERROR($E350*SUMIF('Daily Log'!#REF!,$B350,'Daily Log'!#REF!),0)","v":0},{"$f":"IFERROR($E350*SUMIF('Daily Log'!#REF!,$B350,'Daily Log'!#REF!),0)","v":0},{"$f":"IFERROR($E350*SUMIF('Daily Log'!#REF!,$B350,'Daily Log'!#REF!),0)","v":0},{"$f":"IFERROR($E350*SUMIF('Daily Log'!#REF!,$B350,'Daily Log'!#REF!),0)","v":0},{"$f":"IFERROR($E350*SUMIF('Daily Log'!#REF!,$B350,'Daily Log'!#REF!),0)","v":0},{"$f":"IFERROR($E350*SUMIF('Daily Log'!#REF!,$B350,'Daily Log'!#REF!),0)","v":0},{"$f":"IFERROR($E350*SUMIF('Daily Log'!#REF!,$B350,'Daily Log'!#REF!),0)","v":0},{"$f":"IFERROR($E350*SUMIF('Daily Log'!#REF!,$B350,'Daily Log'!#REF!),0)","v":0},{"$f":"IFERROR($E350*SUMIF('Daily Log'!#REF!,$B350,'Daily Log'!#REF!),0)","v":0},{"$f":"IFERROR($E350*SUMIF('Daily Log'!#REF!,$B350,'Daily Log'!#REF!),0)","v":0}]
[null,"ZAD14 MORE SWEET",null,null,1,1,{"$f":"IFERROR($E351*SUMIF('Daily Log'!$B$18:$B$1017,$B351,'Daily Log'!$C$18:$C$1017),0)","v":0},{"$f":"IFERROR($E351*SUMIF('Daily Log'!$E$18:$E$1017,$B351,'Daily Log'!$F$18:$F$1017),0)","v":0},{"$f":"IFERROR($E351*SUMIF('Daily Log'!$H$18:$H$1017,$B351,'Daily Log'!$I$18:$I$1017),0)","v":0},{"$f":"IFERROR($E351*SUMIF('Daily Log'!$K$18:$K$1017,$B351,'Daily Log'!$L$18:$L$1017),0)","v":0},{"$f":"IFERROR($E351*SUMIF('Daily Log'!$N$18:$N$1017,$B351,'Daily Log'!$O$18:$O$1017),0)","v":0},{"$f":"IFERROR($E351*SUMIF('Daily Log'!$Q$18:$Q$1017,$B351,'Daily Log'!$R$18:$R$1017),0)","v":0},{"$f":"IFERROR($E351*SUMIF('Daily Log'!$T$18:$T$1017,$B351,'Daily Log'!$U$18:$U$1017),0)","v":0},{"$f":"IFERROR($E351*SUMIF('Daily Log'!$W$18:$W$1017,$B351,'Daily Log'!$X$18:$X$1017),0)","v":0},{"$f":"IFERROR($E351*SUMIF('Daily Log'!$Z$18:$Z$1017,$B351,'Daily Log'!$AA$18:$AA$1017),0)","v":1},{"$f":"IFERROR($E351*SUMIF('Daily Log'!$AC$18:$AC$1017,$B351,'Daily Log'!$AD$18:$AD$1017),0)","v":0},{"$f":"IFERROR($E351*SUMIF('Daily Log'!$AF$18:$AF$1017,$B351,'Daily Log'!$AG$18:$AG$1017),0)","v":0},{"$f":"IFERROR($E351*SUMIF('Daily Log'!$AI$18:$AI$1017,$B351,'Daily Log'!$AJ$18:$AJ$1017),0)","v":0},{"$f":"IFERROR($E351*SUMIF('Daily Log'!#REF!,$B351,'Daily Log'!#REF!),0)","v":0},{"$f":"IFERROR($E351*SUMIF('Daily Log'!#REF!,$B351,'Daily Log'!#REF!),0)","v":0},{"$f":"IFERROR($E351*SUMIF('Daily Log'!#REF!,$B351,'Daily Log'!#REF!),0)","v":0},{"$f":"IFERROR($E351*SUMIF('Daily Log'!#REF!,$B351,'Daily Log'!#REF!),0)","v":0},{"$f":"IFERROR($E351*SUMIF('Daily Log'!#REF!,$B351,'Daily Log'!#REF!),0)","v":0},{"$f":"IFERROR($E351*SUMIF('Daily Log'!#REF!,$B351,'Daily Log'!#REF!),0)","v":0},{"$f":"IFERROR($E351*SUMIF('Daily Log'!#REF!,$B351,'Daily Log'!#REF!),0)","v":0},{"$f":"IFERROR($E351*SUMIF('Daily Log'!#REF!,$B351,'Daily Log'!#REF!),0)","v":0},{"$f":"IFERROR($E351*SUMIF('Daily Log'!#REF!,$B351,'Daily Log'!#REF!),0)","v":0},{"$f":"IFERROR($E351*SUMIF('Daily Log'!#REF!,$B351,'Daily Log'!#REF!),0)","v":0},{"$f":"IFERROR($E351*SUMIF('Daily Log'!#REF!,$B351,'Daily Log'!#REF!),0)","v":0},{"$f":"IFERROR($E351*SUMIF('Daily Log'!#REF!,$B351,'Daily Log'!#REF!),0)","v":0},{"$f":"IFERROR($E351*SUMIF('Daily Log'!#REF!,$B351,'Daily Log'!#REF!),0)","v":0},{"$f":"IFERROR($E351*SUMIF('Daily Log'!#REF!,$B351,'Daily Log'!#REF!),0)","v":0},{"$f":"IFERROR($E351*SUMIF('Daily Log'!#REF!,$B351,'Daily Log'!#REF!),0)","v":0},{"$f":"IFERROR($E351*SUMIF('Daily Log'!#REF!,$B351,'Daily Log'!#REF!),0)","v":0},{"$f":"IFERROR($E351*SUMIF('Daily Log'!#REF!,$B351,'Daily Log'!#REF!),0)","v":0},{"$f":"IFERROR($E351*SUMIF('Daily Log'!#REF!,$B351,'Daily Log'!#REF!),0)","v":0},{"$f":"IFERROR($E351*SUMIF('Daily Log'!#REF!,$B351,'Daily Log'!#REF!),0)","v":0}]
[null,"ZAD15 VEGGIE ONLY",null,null,1,0,{"$f":"IFERROR($E352*SUMIF('Daily Log'!$B$18:$B$1017,$B352,'Daily Log'!$C$18:$C$1017),0)","v":0},{"$f":"IFERROR($E352*SUMIF('Daily Log'!$E$18:$E$1017,$B352,'Daily Log'!$F$18:$F$1017),0)","v":0},{"$f":"IFERROR($E352*SUMIF('Daily Log'!$H$18:$H$1017,$B352,'Daily Log'!$I$18:$I$1017),0)","v":0},{"$f":"IFERROR($E352*SUMIF('Daily Log'!$K$18:$K$1017,$B352,'Daily Log'!$L$18:$L$1017),0)","v":0},{"$f":"IFERROR($E352*SUMIF('Daily Log'!$N$18:$N$1017,$B352,'Daily Log'!$O$18:$O$1017),0)","v":0},{"$f":"IFERROR($E352*SUMIF('Daily Log'!$Q$18:$Q$1017,$B352,'Daily Log'!$R$18:$R$1017),0)","v":0},{"$f":"IFERROR($E352*SUMIF('Daily Log'!$T$18:$T$1017,$B352,'Daily Log'!$U$18:$U$1017),0)","v":0},{"$f":"IFERROR($E352*SUMIF('Daily Log'!$W$18:$W$1017,$B352,'Daily Log'!$X$18:$X$1017),0)","v":0},{"$f":"IFERROR($E352*SUMIF('Daily Log'!$Z$18:$Z$1017,$B352,'Daily Log'!$AA$18:$AA$1017),0)","v":0},{"$f":"IFERROR($E352*SUMIF('Daily Log'!$AC$18:$AC$1017,$B352,'Daily Log'!$AD$18:$AD$1017),0)","v":0},{"$f":"IFERROR($E352*SUMIF('Daily Log'!$AF$18:$AF$1017,$B352,'Daily Log'!$AG$18:$AG$1017),0)","v":0},{"$f":"IFERROR($E352*SUMIF('Daily Log'!$AI$18:$AI$1017,$B352,'Daily Log'!$AJ$18:$AJ$1017),0)","v":0},{"$f":"IFERROR($E352*SUMIF('Daily Log'!#REF!,$B352,'Daily Log'!#REF!),0)","v":0},{"$f":"IFERROR($E352*SUMIF('Daily Log'!#REF!,$B352,'Daily Log'!#REF!),0)","v":0},{"$f":"IFERROR($E352*SUMIF('Daily Log'!#REF!,$B352,'Daily Log'!#REF!),0)","v":0},{"$f":"IFERROR($E352*SUMIF('Daily Log'!#REF!,$B352,'Daily Log'!#REF!),0)","v":0},{"$f":"IFERROR($E352*SUMIF('Daily Log'!#REF!,$B352,'Daily Log'!#REF!),0)","v":0},{"$f":"IFERROR($E352*SUMIF('Daily Log'!#REF!,$B352,'Daily Log'!#REF!),0)","v":0},{"$f":"IFERROR($E352*SUMIF('Daily Log'!#REF!,$B352,'Daily Log'!#REF!),0)","v":0},{"$f":"IFERROR($E352*SUMIF('Daily Log'!#REF!,$B352,'Daily Log'!#REF!),0)","v":0},{"$f":"IFERROR($E352*SUMIF('Daily Log'!#REF!,$B352,'Daily Log'!#REF!),0)","v":0},{"$f":"IFERROR($E352*SUMIF('Daily Log'!#REF!,$B352,'Daily Log'!#REF!),0)","v":0},{"$f":"IFERROR($E352*SUMIF('Daily Log'!#REF!,$B352,'Daily Log'!#REF!),0)","v":0},{"$f":"IFERROR($E352*SUMIF('Daily Log'!#REF!,$B352,'Daily Log'!#REF!),0)","v":0},{"$f":"IFERROR($E352*SUMIF('Daily Log'!#REF!,$B352,'Daily Log'!#REF!),0)","v":0},{"$f":"IFERROR($E352*SUMIF('Daily Log'!#REF!,$B352,'Daily Log'!#REF!),0)","v":0},{"$f":"IFERROR($E352*SUMIF('Daily Log'!#REF!,$B352,'Daily Log'!#REF!),0)","v":0},{"$f":"IFERROR($E352*SUMIF('Daily Log'!#REF!,$B352,'Daily Log'!#REF!),0)","v":0},{"$f":"IFERROR($E352*SUMIF('Daily Log'!#REF!,$B352,'Daily Log'!#REF!),0)","v":0},{"$f":"IFERROR($E352*SUMIF('Daily Log'!#REF!,$B352,'Daily Log'!#REF!),0)","v":0},{"$f":"IFERROR($E352*SUMIF('Daily Log'!#REF!,$B352,'Daily Log'!#REF!),0)","v":0}]
[null,"ZAD16 COOL TELL KENZ D",null,null,1,0,{"$f":"IFERROR($E353*SUMIF('Daily Log'!$B$18:$B$1017,$B353,'Daily Log'!$C$18:$C$1017),0)","v":0},{"$f":"IFERROR($E353*SUMIF('Daily Log'!$E$18:$E$1017,$B353,'Daily Log'!$F$18:$F$1017),0)","v":0},{"$f":"IFERROR($E353*SUMIF('Daily Log'!$H$18:$H$1017,$B353,'Daily Log'!$I$18:$I$1017),0)","v":0},{"$f":"IFERROR($E353*SUMIF('Daily Log'!$K$18:$K$1017,$B353,'Daily Log'!$L$18:$L$1017),0)","v":0},{"$f":"IFERROR($E353*SUMIF('Daily Log'!$N$18:$N$1017,$B353,'Daily Log'!$O$18:$O$1017),0)","v":0},{"$f":"IFERROR($E353*SUMIF('Daily Log'!$Q$18:$Q$1017,$B353,'Daily Log'!$R$18:$R$1017),0)","v":0},{"$f":"IFERROR($E353*SUMIF('Daily Log'!$T$18:$T$1017,$B353,'Daily Log'!$U$18:$U$1017),0)","v":0},{"$f":"IFERROR($E353*SUMIF('Daily Log'!$W$18:$W$1017,$B353,'Daily Log'!$X$18:$X$1017),0)","v":0},{"$f":"IFERROR($E353*SUMIF('Daily Log'!$Z$18:$Z$1017,$B353,'Daily Log'!$AA$18:$AA$1017),0)","v":0},{"$f":"IFERROR($E353*SUMIF('Daily Log'!$AC$18:$AC$1017,$B353,'Daily Log'!$AD$18:$AD$1017),0)","v":0},{"$f":"IFERROR($E353*SUMIF('Daily Log'!$AF$18:$AF$1017,$B353,'Daily Log'!$AG$18:$AG$1017),0)","v":0},{"$f":"IFERROR($E353*SUMIF('Daily Log'!$AI$18:$AI$1017,$B353,'Daily Log'!$AJ$18:$AJ$1017),0)","v":0},{"$f":"IFERROR($E353*SUMIF('Daily Log'!#REF!,$B353,'Daily Log'!#REF!),0)","v":0},{"$f":"IFERROR($E353*SUMIF('Daily Log'!#REF!,$B353,'Daily Log'!#REF!),0)","v":0},{"$f":"IFERROR($E353*SUMIF('Daily Log'!#REF!,$B353,'Daily Log'!#REF!),0)","v":0},{"$f":"IFERROR($E353*SUMIF('Daily Log'!#REF!,$B353,'Daily Log'!#REF!),0)","v":0},{"$f":"IFERROR($E353*SUMIF('Daily Log'!#REF!,$B353,'Daily Log'!#REF!),0)","v":0},{"$f":"IFERROR($E353*SUMIF('Daily Log'!#REF!,$B353,'Daily Log'!#REF!),0)","v":0},{"$f":"IFERROR($E353*SUMIF('Daily Log'!#REF!,$B353,'Daily Log'!#REF!),0)","v":0},{"$f":"IFERROR($E353*SUMIF('Daily Log'!#REF!,$B353,'Daily Log'!#REF!),0)","v":0},{"$f":"IFERROR($E353*SUMIF('Daily Log'!#REF!,$B353,'Daily Log'!#REF!),0)","v":0},{"$f":"IFERROR($E353*SUMIF('Daily Log'!#REF!,$B353,'Daily Log'!#REF!),0)","v":0},{"$f":"IFERROR($E353*SUMIF('Daily Log'!#REF!,$B353,'Daily Log'!#REF!),0)","v":0},{"$f":"IFERROR($E353*SUMIF('Daily Log'!#REF!,$B353,'Daily Log'!#REF!),0)","v":0},{"$f":"IFERROR($E353*SUMIF('Daily Log'!#REF!,$B353,'Daily Log'!#REF!),0)","v":0},{"$f":"IFERROR($E353*SUMIF('Daily Log'!#REF!,$B353,'Daily Log'!#REF!),0)","v":0},{"$f":"IFERROR($E353*SUMIF('Daily Log'!#REF!,$B353,'Daily Log'!#REF!),0)","v":0},{"$f":"IFERROR($E353*SUMIF('Daily Log'!#REF!,$B353,'Daily Log'!#REF!),0)","v":0},{"$f":"IFERROR($E353*SUMIF('Daily Log'!#REF!,$B353,'Daily Log'!#REF!),0)","v":0},{"$f":"IFERROR($E353*SUMIF('Daily Log'!#REF!,$B353,'Daily Log'!#REF!),0)","v":0},{"$f":"IFERROR($E353*SUMIF('Daily Log'!#REF!,$B353,'Daily Log'!#REF!),0)","v":0}]
[null,"ZAD17 WITHOUT SUGAR",null,null,1,6,{"$f":"IFERROR($E354*SUMIF('Daily Log'!$B$18:$B$1017,$B354,'Daily Log'!$C$18:$C$1017),0)","v":0},{"$f":"IFERROR($E354*SUMIF('Daily Log'!$E$18:$E$1017,$B354,'Daily Log'!$F$18:$F$1017),0)","v":0},{"$f":"IFERROR($E354*SUMIF('Daily Log'!$H$18:$H$1017,$B354,'Daily Log'!$I$18:$I$1017),0)","v":0},{"$f":"IFERROR($E354*SUMIF('Daily Log'!$K$18:$K$1017,$B354,'Daily Log'!$L$18:$L$1017),0)","v":0},{"$f":"IFERROR($E354*SUMIF('Daily Log'!$N$18:$N$1017,$B354,'Daily Log'!$O$18:$O$1017),0)","v":0},{"$f":"IFERROR($E354*SUMIF('Daily Log'!$Q$18:$Q$1017,$B354,'Daily Log'!$R$18:$R$1017),0)","v":0},{"$f":"IFERROR($E354*SUMIF('Daily Log'!$T$18:$T$1017,$B354,'Daily Log'!$U$18:$U$1017),0)","v":0},{"$f":"IFERROR($E354*SUMIF('Daily Log'!$W$18:$W$1017,$B354,'Daily Log'!$X$18:$X$1017),0)","v":1},{"$f":"IFERROR($E354*SUMIF('Daily Log'!$Z$18:$Z$1017,$B354,'Daily Log'!$AA$18:$AA$1017),0)","v":2},{"$f":"IFERROR($E354*SUMIF('Daily Log'!$AC$18:$AC$1017,$B354,'Daily Log'!$AD$18:$AD$1017),0)","v":0},{"$f":"IFERROR($E354*SUMIF('Daily Log'!$AF$18:$AF$1017,$B354,'Daily Log'!$AG$18:$AG$1017),0)","v":1},{"$f":"IFERROR($E354*SUMIF('Daily Log'!$AI$18:$AI$1017,$B354,'Daily Log'!$AJ$18:$AJ$1017),0)","v":2},{"$f":"IFERROR($E354*SUMIF('Daily Log'!#REF!,$B354,'Daily Log'!#REF!),0)","v":0},{"$f":"IFERROR($E354*SUMIF('Daily Log'!#REF!,$B354,'Daily Log'!#REF!),0)","v":0},{"$f":"IFERROR($E354*SUMIF('Daily Log'!#REF!,$B354,'Daily Log'!#REF!),0)","v":0},{"$f":"IFERROR($E354*SUMIF('Daily Log'!#REF!,$B354,'Daily Log'!#REF!),0)","v":0},{"$f":"IFERROR($E354*SUMIF('Daily Log'!#REF!,$B354,'Daily Log'!#REF!),0)","v":0},{"$f":"IFERROR($E354*SUMIF('Daily Log'!#REF!,$B354,'Daily Log'!#REF!),0)","v":0},{"$f":"IFERROR($E354*SUMIF('Daily Log'!#REF!,$B354,'Daily Log'!#REF!),0)","v":0},{"$f":"IFERROR($E354*SUMIF('Daily Log'!#REF!,$B354,'Daily Log'!#REF!),0)","v":0},{"$f":"IFERROR($E354*SUMIF('Daily Log'!#REF!,$B354,'Daily Log'!#REF!),0)","v":0},{"$f":"IFERROR($E354*SUMIF('Daily Log'!#REF!,$B354,'Daily Log'!#REF!),0)","v":0},{"$f":"IFERROR($E354*SUMIF('Daily Log'!#REF!,$B354,'Daily Log'!#REF!),0)","v":0},{"$f":"IFERROR($E354*SUMIF('Daily Log'!#REF!,$B354,'Daily Log'!#REF!),0)","v":0},{"$f":"IFERROR($E354*SUMIF('Daily Log'!#REF!,$B354,'Daily Log'!#REF!),0)","v":0},{"$f":"IFERROR($E354*SUMIF('Daily Log'!#REF!,$B354,'Daily Log'!#REF!),0)","v":0},{"$f":"IFERROR($E354*SUMIF('Daily Log'!#REF!,$B354,'Daily Log'!#REF!),0)","v":0},{"$f":"IFERROR($E354*SUMIF('Daily Log'!#REF!,$B354,'Daily Log'!#REF!),0)","v":0},{"$f":"IFERROR($E354*SUMIF('Daily Log'!#REF!,$B354,'Daily Log'!#REF!),0)","v":0},{"$f":"IFERROR($E354*SUMIF('Daily Log'!#REF!,$B354,'Daily Log'!#REF!),0)","v":0},{"$f":"IFERROR($E354*SUMIF('Daily Log'!#REF!,$B354,'Daily Log'!#REF!),0)","v":0}]
[null,"ZAD19 KAU KAU",null,null,1,17,{"$f":"IFERROR($E355*SUMIF('Daily Log'!$B$18:$B$1017,$B355,'Daily Log'!$C$18:$C$1017),0)","v":0},{"$f":"IFERROR($E355*SUMIF('Daily Log'!$E$18:$E$1017,$B355,'Daily Log'!$F$18:$F$1017),0)","v":0},{"$f":"IFERROR($E355*SUMIF('Daily Log'!$H$18:$H$1017,$B355,'Daily Log'!$I$18:$I$1017),0)","v":0},{"$f":"IFERROR($E355*SUMIF('Daily Log'!$K$18:$K$1017,$B355,'Daily Log'!$L$18:$L$1017),0)","v":0},{"$f":"IFERROR($E355*SUMIF('Daily Log'!$N$18:$N$1017,$B355,'Daily Log'!$O$18:$O$1017),0)","v":0},{"$f":"IFERROR($E355*SUMIF('Daily Log'!$Q$18:$Q$1017,$B355,'Daily Log'!$R$18:$R$1017),0)","v":1},{"$f":"IFERROR($E355*SUMIF('Daily Log'!$T$18:$T$1017,$B355,'Daily Log'!$U$18:$U$1017),0)","v":2},{"$f":"IFERROR($E355*SUMIF('Daily Log'!$W$18:$W$1017,$B355,'Daily Log'!$X$18:$X$1017),0)","v":3},{"$f":"IFERROR($E355*SUMIF('Daily Log'!$Z$18:$Z$1017,$B355,'Daily Log'!$AA$18:$AA$1017),0)","v":4},{"$f":"IFERROR($E355*SUMIF('Daily Log'!$AC$18:$AC$1017,$B355,'Daily Log'!$AD$18:$AD$1017),0)","v":5},{"$f":"IFERROR($E355*SUMIF('Daily Log'!$AF$18:$AF$1017,$B355,'Daily Log'!$AG$18:$AG$1017),0)","v":2},{"$f":"IFERROR($E355*SUMIF('Daily Log'!$AI$18:$AI$1017,$B355,'Daily Log'!$AJ$18:$AJ$1017),0)","v":0},{"$f":"IFERROR($E355*SUMIF('Daily Log'!#REF!,$B355,'Daily Log'!#REF!),0)","v":0},{"$f":"IFERROR($E355*SUMIF('Daily Log'!#REF!,$B355,'Daily Log'!#REF!),0)","v":0},{"$f":"IFERROR($E355*SUMIF('Daily Log'!#REF!,$B355,'Daily Log'!#REF!),0)","v":0},{"$f":"IFERROR($E355*SUMIF('Daily Log'!#REF!,$B355,'Daily Log'!#REF!),0)","v":0},{"$f":"IFERROR($E355*SUMIF('Daily Log'!#REF!,$B355,'Daily Log'!#REF!),0)","v":0},{"$f":"IFERROR($E355*SUMIF('Daily Log'!#REF!,$B355,'Daily Log'!#REF!),0)","v":0},{"$f":"IFERROR($E355*SUMIF('Daily Log'!#REF!,$B355,'Daily Log'!#REF!),0)","v":0},{"$f":"IFERROR($E355*SUMIF('Daily Log'!#REF!,$B355,'Daily Log'!#REF!),0)","v":0},{"$f":"IFERROR($E355*SUMIF('Daily Log'!#REF!,$B355,'Daily Log'!#REF!),0)","v":0},{"$f":"IFERROR($E355*SUMIF('Daily Log'!#REF!,$B355,'Daily Log'!#REF!),0)","v":0},{"$f":"IFERROR($E355*SUMIF('Daily Log'!#REF!,$B355,'Daily Log'!#REF!),0)","v":0},{"$f":"IFERROR($E355*SUMIF('Daily Log'!#REF!,$B355,'Daily Log'!#REF!),0)","v":0},{"$f":"IFERROR($E355*SUMIF('Daily Log'!#REF!,$B355,'Daily Log'!#REF!),0)","v":0},{"$f":"IFERROR($E355*SUMIF('Daily Log'!#REF!,$B355,'Daily Log'!#REF!),0)","v":0},{"$f":"IFERROR($E355*SUMIF('Daily Log'!#REF!,$B355,'Daily Log'!#REF!),0)","v":0},{"$f":"IFERROR($E355*SUMIF('Daily Log'!#REF!,$B355,'Daily Log'!#REF!),0)","v":0},{"$f":"IFERROR($E355*SUMIF('Daily Log'!#REF!,$B355,'Daily Log'!#REF!),0)","v":0},{"$f":"IFERROR($E355*SUMIF('Daily Log'!#REF!,$B355,'Daily Log'!#REF!),0)","v":0},{"$f":"IFERROR($E355*SUMIF('Daily Log'!#REF!,$B355,'Daily Log'!#REF!),0)","v":0}]
[null,"ZAD20 JUG",null,null,1,40,{"$f":"IFERROR($E356*SUMIF('Daily Log'!$B$18:$B$1017,$B356,'Daily Log'!$C$18:$C$1017),0)","v":0},{"$f":"IFERROR($E356*SUMIF('Daily Log'!$E$18:$E$1017,$B356,'Daily Log'!$F$18:$F$1017),0)","v":0},{"$f":"IFERROR($E356*SUMIF('Daily Log'!$H$18:$H$1017,$B356,'Daily Log'!$I$18:$I$1017),0)","v":0},{"$f":"IFERROR($E356*SUMIF('Daily Log'!$K$18:$K$1017,$B356,'Daily Log'!$L$18:$L$1017),0)","v":0},{"$f":"IFERROR($E356*SUMIF('Daily Log'!$N$18:$N$1017,$B356,'Daily Log'!$O$18:$O$1017),0)","v":0},{"$f":"IFERROR($E356*SUMIF('Daily Log'!$Q$18:$Q$1017,$B356,'Daily Log'!$R$18:$R$1017),0)","v":5},{"$f":"IFERROR($E356*SUMIF('Daily Log'!$T$18:$T$1017,$B356,'Daily Log'!$U$18:$U$1017),0)","v":5},{"$f":"IFERROR($E356*SUMIF('Daily Log'!$W$18:$W$1017,$B356,'Daily Log'!$X$18:$X$1017),0)","v":6},{"$f":"IFERROR($E356*SUMIF('Daily Log'!$Z$18:$Z$1017,$B356,'Daily Log'!$AA$18:$AA$1017),0)","v":3},{"$f":"IFERROR($E356*SUMIF('Daily Log'!$AC$18:$AC$1017,$B356,'Daily Log'!$AD$18:$AD$1017),0)","v":7},{"$f":"IFERROR($E356*SUMIF('Daily Log'!$AF$18:$AF$1017,$B356,'Daily Log'!$AG$18:$AG$1017),0)","v":8},{"$f":"IFERROR($E356*SUMIF('Daily Log'!$AI$18:$AI$1017,$B356,'Daily Log'!$AJ$18:$AJ$1017),0)","v":6},{"$f":"IFERROR($E356*SUMIF('Daily Log'!#REF!,$B356,'Daily Log'!#REF!),0)","v":0},{"$f":"IFERROR($E356*SUMIF('Daily Log'!#REF!,$B356,'Daily Log'!#REF!),0)","v":0},{"$f":"IFERROR($E356*SUMIF('Daily Log'!#REF!,$B356,'Daily Log'!#REF!),0)","v":0},{"$f":"IFERROR($E356*SUMIF('Daily Log'!#REF!,$B356,'Daily Log'!#REF!),0)","v":0},{"$f":"IFERROR($E356*SUMIF('Daily Log'!#REF!,$B356,'Daily Log'!#REF!),0)","v":0},{"$f":"IFERROR($E356*SUMIF('Daily Log'!#REF!,$B356,'Daily Log'!#REF!),0)","v":0},{"$f":"IFERROR($E356*SUMIF('Daily Log'!#REF!,$B356,'Daily Log'!#REF!),0)","v":0},{"$f":"IFERROR($E356*SUMIF('Daily Log'!#REF!,$B356,'Daily Log'!#REF!),0)","v":0},{"$f":"IFERROR($E356*SUMIF('Daily Log'!#REF!,$B356,'Daily Log'!#REF!),0)","v":0},{"$f":"IFERROR($E356*SUMIF('Daily Log'!#REF!,$B356,'Daily Log'!#REF!),0)","v":0},{"$f":"IFERROR($E356*SUMIF('Daily Log'!#REF!,$B356,'Daily Log'!#REF!),0)","v":0},{"$f":"IFERROR($E356*SUMIF('Daily Log'!#REF!,$B356,'Daily Log'!#REF!),0)","v":0},{"$f":"IFERROR($E356*SUMIF('Daily Log'!#REF!,$B356,'Daily Log'!#REF!),0)","v":0},{"$f":"IFERROR($E356*SUMIF('Daily Log'!#REF!,$B356,'Daily Log'!#REF!),0)","v":0},{"$f":"IFERROR($E356*SUMIF('Daily Log'!#REF!,$B356,'Daily Log'!#REF!),0)","v":0},{"$f":"IFERROR($E356*SUMIF('Daily Log'!#REF!,$B356,'Daily Log'!#REF!),0)","v":0},{"$f":"IFERROR($E356*SUMIF('Daily Log'!#REF!,$B356,'Daily Log'!#REF!),0)","v":0},{"$f":"IFERROR($E356*SUMIF('Daily Log'!#REF!,$B356,'Daily Log'!#REF!),0)","v":0},{"$f":"IFERROR($E356*SUMIF('Daily Log'!#REF!,$B356,'Daily Log'!#REF!),0)","v":0}]
[null,"ZAD21 TAKE AWAY",null,null,1,1,{"$f":"IFERROR($E357*SUMIF('Daily Log'!$B$18:$B$1017,$B357,'Daily Log'!$C$18:$C$1017),0)","v":0},{"$f":"IFERROR($E357*SUMIF('Daily Log'!$E$18:$E$1017,$B357,'Daily Log'!$F$18:$F$1017),0)","v":0},{"$f":"IFERROR($E357*SUMIF('Daily Log'!$H$18:$H$1017,$B357,'Daily Log'!$I$18:$I$1017),0)","v":0},{"$f":"IFERROR($E357*SUMIF('Daily Log'!$K$18:$K$1017,$B357,'Daily Log'!$L$18:$L$1017),0)","v":0},{"$f":"IFERROR($E357*SUMIF('Daily Log'!$N$18:$N$1017,$B357,'Daily Log'!$O$18:$O$1017),0)","v":0},{"$f":"IFERROR($E357*SUMIF('Daily Log'!$Q$18:$Q$1017,$B357,'Daily Log'!$R$18:$R$1017),0)","v":0},{"$f":"IFERROR($E357*SUMIF('Daily Log'!$T$18:$T$1017,$B357,'Daily Log'!$U$18:$U$1017),0)","v":0},{"$f":"IFERROR($E357*SUMIF('Daily Log'!$W$18:$W$1017,$B357,'Daily Log'!$X$18:$X$1017),0)","v":1},{"$f":"IFERROR($E357*SUMIF('Daily Log'!$Z$18:$Z$1017,$B357,'Daily Log'!$AA$18:$AA$1017),0)","v":0},{"$f":"IFERROR($E357*SUMIF('Daily Log'!$AC$18:$AC$1017,$B357,'Daily Log'!$AD$18:$AD$1017),0)","v":0},{"$f":"IFERROR($E357*SUMIF('Daily Log'!$AF$18:$AF$1017,$B357,'Daily Log'!$AG$18:$AG$1017),0)","v":0},{"$f":"IFERROR($E357*SUMIF('Daily Log'!$AI$18:$AI$1017,$B357,'Daily Log'!$AJ$18:$AJ$1017),0)","v":0},{"$f":"IFERROR($E357*SUMIF('Daily Log'!#REF!,$B357,'Daily Log'!#REF!),0)","v":0},{"$f":"IFERROR($E357*SUMIF('Daily Log'!#REF!,$B357,'Daily Log'!#REF!),0)","v":0},{"$f":"IFERROR($E357*SUMIF('Daily Log'!#REF!,$B357,'Daily Log'!#REF!),0)","v":0},{"$f":"IFERROR($E357*SUMIF('Daily Log'!#REF!,$B357,'Daily Log'!#REF!),0)","v":0},{"$f":"IFERROR($E357*SUMIF('Daily Log'!#REF!,$B357,'Daily Log'!#REF!),0)","v":0},{"$f":"IFERROR($E357*SUMIF('Daily Log'!#REF!,$B357,'Daily Log'!#REF!),0)","v":0},{"$f":"IFERROR($E357*SUMIF('Daily Log'!#REF!,$B357,'Daily Log'!#REF!),0)","v":0},{"$f":"IFERROR($E357*SUMIF('Daily Log'!#REF!,$B357,'Daily Log'!#REF!),0)","v":0},{"$f":"IFERROR($E357*SUMIF('Daily Log'!#REF!,$B357,'Daily Log'!#REF!),0)","v":0},{"$f":"IFERROR($E357*SUMIF('Daily Log'!#REF!,$B357,'Daily Log'!#REF!),0)","v":0},{"$f":"IFERROR($E357*SUMIF('Daily Log'!#REF!,$B357,'Daily Log'!#REF!),0)","v":0},{"$f":"IFERROR($E357*SUMIF('Daily Log'!#REF!,$B357,'Daily Log'!#REF!),0)","v":0},{"$f":"IFERROR($E357*SUMIF('Daily Log'!#REF!,$B357,'Daily Log'!#REF!),0)","v":0},{"$f":"IFERROR($E357*SUMIF('Daily Log'!#REF!,$B357,'Daily Log'!#REF!),0)","v":0},{"$f":"IFERROR($E357*SUMIF('Daily Log'!#REF!,$B357,'Daily Log'!#REF!),0)","v":0},{"$f":"IFERROR($E357*SUMIF('Daily Log'!#REF!,$B357,'Daily Log'!#REF!),0)","v":0},{"$f":"IFERROR($E357*SUMIF('Daily Log'!#REF!,$B357,'Daily Log'!#REF!),0)","v":0},{"$f":"IFERROR($E357*SUMIF('Daily Log'!#REF!,$B357,'Daily Log'!#REF!),0)","v":0},{"$f":"IFERROR($E357*SUMIF('Daily Log'!#REF!,$B357,'Daily Log'!#REF!),0)","v":0}]
[null,"ZAD24 + SAUCE BP",null,null,1,0,{"$f":"IFERROR($E358*SUMIF('Daily Log'!$B$18:$B$1017,$B358,'Daily Log'!$C$18:$C$1017),0)","v":0},{"$f":"IFERROR($E358*SUMIF('Daily Log'!$E$18:$E$1017,$B358,'Daily Log'!$F$18:$F$1017),0)","v":0},{"$f":"IFERROR($E358*SUMIF('Daily Log'!$H$18:$H$1017,$B358,'Daily Log'!$I$18:$I$1017),0)","v":0},{"$f":"IFERROR($E358*SUMIF('Daily Log'!$K$18:$K$1017,$B358,'Daily Log'!$L$18:$L$1017),0)","v":0},{"$f":"IFERROR($E358*SUMIF('Daily Log'!$N$18:$N$1017,$B358,'Daily Log'!$O$18:$O$1017),0)","v":0},{"$f":"IFERROR($E358*SUMIF('Daily Log'!$Q$18:$Q$1017,$B358,'Daily Log'!$R$18:$R$1017),0)","v":0},{"$f":"IFERROR($E358*SUMIF('Daily Log'!$T$18:$T$1017,$B358,'Daily Log'!$U$18:$U$1017),0)","v":0},{"$f":"IFERROR($E358*SUMIF('Daily Log'!$W$18:$W$1017,$B358,'Daily Log'!$X$18:$X$1017),0)","v":0},{"$f":"IFERROR($E358*SUMIF('Daily Log'!$Z$18:$Z$1017,$B358,'Daily Log'!$AA$18:$AA$1017),0)","v":0},{"$f":"IFERROR($E358*SUMIF('Daily Log'!$AC$18:$AC$1017,$B358,'Daily Log'!$AD$18:$AD$1017),0)","v":0},{"$f":"IFERROR($E358*SUMIF('Daily Log'!$AF$18:$AF$1017,$B358,'Daily Log'!$AG$18:$AG$1017),0)","v":0},{"$f":"IFERROR($E358*SUMIF('Daily Log'!$AI$18:$AI$1017,$B358,'Daily Log'!$AJ$18:$AJ$1017),0)","v":0},{"$f":"IFERROR($E358*SUMIF('Daily Log'!#REF!,$B358,'Daily Log'!#REF!),0)","v":0},{"$f":"IFERROR($E358*SUMIF('Daily Log'!#REF!,$B358,'Daily Log'!#REF!),0)","v":0},{"$f":"IFERROR($E358*SUMIF('Daily Log'!#REF!,$B358,'Daily Log'!#REF!),0)","v":0},{"$f":"IFERROR($E358*SUMIF('Daily Log'!#REF!,$B358,'Daily Log'!#REF!),0)","v":0},{"$f":"IFERROR($E358*SUMIF('Daily Log'!#REF!,$B358,'Daily Log'!#REF!),0)","v":0},{"$f":"IFERROR($E358*SUMIF('Daily Log'!#REF!,$B358,'Daily Log'!#REF!),0)","v":0},{"$f":"IFERROR($E358*SUMIF('Daily Log'!#REF!,$B358,'Daily Log'!#REF!),0)","v":0},{"$f":"IFERROR($E358*SUMIF('Daily Log'!#REF!,$B358,'Daily Log'!#REF!),0)","v":0},{"$f":"IFERROR($E358*SUMIF('Daily Log'!#REF!,$B358,'Daily Log'!#REF!),0)","v":0},{"$f":"IFERROR($E358*SUMIF('Daily Log'!#REF!,$B358,'Daily Log'!#REF!),0)","v":0},{"$f":"IFERROR($E358*SUMIF('Daily Log'!#REF!,$B358,'Daily Log'!#REF!),0)","v":0},{"$f":"IFERROR($E358*SUMIF('Daily Log'!#REF!,$B358,'Daily Log'!#REF!),0)","v":0},{"$f":"IFERROR($E358*SUMIF('Daily Log'!#REF!,$B358,'Daily Log'!#REF!),0)","v":0},{"$f":"IFERROR($E358*SUMIF('Daily Log'!#REF!,$B358,'Daily Log'!#REF!),0)","v":0},{"$f":"IFERROR($E358*SUMIF('Daily Log'!#REF!,$B358,'Daily Log'!#REF!),0)","v":0},{"$f":"IFERROR($E358*SUMIF('Daily Log'!#REF!,$B358,'Daily Log'!#REF!),0)","v":0},{"$f":"IFERROR($E358*SUMIF('Daily Log'!#REF!,$B358,'Daily Log'!#REF!),0)","v":0},{"$f":"IFERROR($E358*SUMIF('Daily Log'!#REF!,$B358,'Daily Log'!#REF!),0)","v":0},{"$f":"IFERROR($E358*SUMIF('Daily Log'!#REF!,$B358,'Daily Log'!#REF!),0)","v":0}]
[null,"ZAD25 + SAUCE BUTTER",null,null,1,0,{"$f":"IFERROR($E359*SUMIF('Daily Log'!$B$18:$B$1017,$B359,'Daily Log'!$C$18:$C$1017),0)","v":0},{"$f":"IFERROR($E359*SUMIF('Daily Log'!$E$18:$E$1017,$B359,'Daily Log'!$F$18:$F$1017),0)","v":0},{"$f":"IFERROR($E359*SUMIF('Daily Log'!$H$18:$H$1017,$B359,'Daily Log'!$I$18:$I$1017),0)","v":0},{"$f":"IFERROR($E359*SUMIF('Daily Log'!$K$18:$K$1017,$B359,'Daily Log'!$L$18:$L$1017),0)","v":0},{"$f":"IFERROR($E359*SUMIF('Daily Log'!$N$18:$N$1017,$B359,'Daily Log'!$O$18:$O$1017),0)","v":0},{"$f":"IFERROR($E359*SUMIF('Daily Log'!$Q$18:$Q$1017,$B359,'Daily Log'!$R$18:$R$1017),0)","v":0},{"$f":"IFERROR($E359*SUMIF('Daily Log'!$T$18:$T$1017,$B359,'Daily Log'!$U$18:$U$1017),0)","v":0},{"$f":"IFERROR($E359*SUMIF('Daily Log'!$W$18:$W$1017,$B359,'Daily Log'!$X$18:$X$1017),0)","v":0},{"$f":"IFERROR($E359*SUMIF('Daily Log'!$Z$18:$Z$1017,$B359,'Daily Log'!$AA$18:$AA$1017),0)","v":0},{"$f":"IFERROR($E359*SUMIF('Daily Log'!$AC$18:$AC$1017,$B359,'Daily Log'!$AD$18:$AD$1017),0)","v":0},{"$f":"IFERROR($E359*SUMIF('Daily Log'!$AF$18:$AF$1017,$B359,'Daily Log'!$AG$18:$AG$1017),0)","v":0},{"$f":"IFERROR($E359*SUMIF('Daily Log'!$AI$18:$AI$1017,$B359,'Daily Log'!$AJ$18:$AJ$1017),0)","v":0},{"$f":"IFERROR($E359*SUMIF('Daily Log'!#REF!,$B359,'Daily Log'!#REF!),0)","v":0},{"$f":"IFERROR($E359*SUMIF('Daily Log'!#REF!,$B359,'Daily Log'!#REF!),0)","v":0},{"$f":"IFERROR($E359*SUMIF('Daily Log'!#REF!,$B359,'Daily Log'!#REF!),0)","v":0},{"$f":"IFERROR($E359*SUMIF('Daily Log'!#REF!,$B359,'Daily Log'!#REF!),0)","v":0},{"$f":"IFERROR($E359*SUMIF('Daily Log'!#REF!,$B359,'Daily Log'!#REF!),0)","v":0},{"$f":"IFERROR($E359*SUMIF('Daily Log'!#REF!,$B359,'Daily Log'!#REF!),0)","v":0},{"$f":"IFERROR($E359*SUMIF('Daily Log'!#REF!,$B359,'Daily Log'!#REF!),0)","v":0},{"$f":"IFERROR($E359*SUMIF('Daily Log'!#REF!,$B359,'Daily Log'!#REF!),0)","v":0},{"$f":"IFERROR($E359*SUMIF('Daily Log'!#REF!,$B359,'Daily Log'!#REF!),0)","v":0},{"$f":"IFERROR($E359*SUMIF('Daily Log'!#REF!,$B359,'Daily Log'!#REF!),0)","v":0},{"$f":"IFERROR($E359*SUMIF('Daily Log'!#REF!,$B359,'Daily Log'!#REF!),0)","v":0},{"$f":"IFERROR($E359*SUMIF('Daily Log'!#REF!,$B359,'Daily Log'!#REF!),0)","v":0},{"$f":"IFERROR($E359*SUMIF('Daily Log'!#REF!,$B359,'Daily Log'!#REF!),0)","v":0},{"$f":"IFERROR($E359*SUMIF('Daily Log'!#REF!,$B359,'Daily Log'!#REF!),0)","v":0},{"$f":"IFERROR($E359*SUMIF('Daily Log'!#REF!,$B359,'Daily Log'!#REF!),0)","v":0},{"$f":"IFERROR($E359*SUMIF('Daily Log'!#REF!,$B359,'Daily Log'!#REF!),0)","v":0},{"$f":"IFERROR($E359*SUMIF('Daily Log'!#REF!,$B359,'Daily Log'!#REF!),0)","v":0},{"$f":"IFERROR($E359*SUMIF('Daily Log'!#REF!,$B359,'Daily Log'!#REF!),0)","v":0},{"$f":"IFERROR($E359*SUMIF('Daily Log'!#REF!,$B359,'Daily Log'!#REF!),0)","v":0}]
[null,"ZAD26 + CILLI PADI",null,null,1,0,{"$f":"IFERROR($E360*SUMIF('Daily Log'!$B$18:$B$1017,$B360,'Daily Log'!$C$18:$C$1017),0)","v":0},{"$f":"IFERROR($E360*SUMIF('Daily Log'!$E$18:$E$1017,$B360,'Daily Log'!$F$18:$F$1017),0)","v":0},{"$f":"IFERROR($E360*SUMIF('Daily Log'!$H$18:$H$1017,$B360,'Daily Log'!$I$18:$I$1017),0)","v":0},{"$f":"IFERROR($E360*SUMIF('Daily Log'!$K$18:$K$1017,$B360,'Daily Log'!$L$18:$L$1017),0)","v":0},{"$f":"IFERROR($E360*SUMIF('Daily Log'!$N$18:$N$1017,$B360,'Daily Log'!$O$18:$O$1017),0)","v":0},{"$f":"IFERROR($E360*SUMIF('Daily Log'!$Q$18:$Q$1017,$B360,'Daily Log'!$R$18:$R$1017),0)","v":0},{"$f":"IFERROR($E360*SUMIF('Daily Log'!$T$18:$T$1017,$B360,'Daily Log'!$U$18:$U$1017),0)","v":0},{"$f":"IFERROR($E360*SUMIF('Daily Log'!$W$18:$W$1017,$B360,'Daily Log'!$X$18:$X$1017),0)","v":0},{"$f":"IFERROR($E360*SUMIF('Daily Log'!$Z$18:$Z$1017,$B360,'Daily Log'!$AA$18:$AA$1017),0)","v":0},{"$f":"IFERROR($E360*SUMIF('Daily Log'!$AC$18:$AC$1017,$B360,'Daily Log'!$AD$18:$AD$1017),0)","v":0},{"$f":"IFERROR($E360*SUMIF('Daily Log'!$AF$18:$AF$1017,$B360,'Daily Log'!$AG$18:$AG$1017),0)","v":0},{"$f":"IFERROR($E360*SUMIF('Daily Log'!$AI$18:$AI$1017,$B360,'Daily Log'!$AJ$18:$AJ$1017),0)","v":0},{"$f":"IFERROR($E360*SUMIF('Daily Log'!#REF!,$B360,'Daily Log'!#REF!),0)","v":0},{"$f":"IFERROR($E360*SUMIF('Daily Log'!#REF!,$B360,'Daily Log'!#REF!),0)","v":0},{"$f":"IFERROR($E360*SUMIF('Daily Log'!#REF!,$B360,'Daily Log'!#REF!),0)","v":0},{"$f":"IFERROR($E360*SUMIF('Daily Log'!#REF!,$B360,'Daily Log'!#REF!),0)","v":0},{"$f":"IFERROR($E360*SUMIF('Daily Log'!#REF!,$B360,'Daily Log'!#REF!),0)","v":0},{"$f":"IFERROR($E360*SUMIF('Daily Log'!#REF!,$B360,'Daily Log'!#REF!),0)","v":0},{"$f":"IFERROR($E360*SUMIF('Daily Log'!#REF!,$B360,'Daily Log'!#REF!),0)","v":0},{"$f":"IFERROR($E360*SUMIF('Daily Log'!#REF!,$B360,'Daily Log'!#REF!),0)","v":0},{"$f":"IFERROR($E360*SUMIF('Daily Log'!#REF!,$B360,'Daily Log'!#REF!),0)","v":0},{"$f":"IFERROR($E360*SUMIF('Daily Log'!#REF!,$B360,'Daily Log'!#REF!),0)","v":0},{"$f":"IFERROR($E360*SUMIF('Daily Log'!#REF!,$B360,'Daily Log'!#REF!),0)","v":0},{"$f":"IFERROR($E360*SUMIF('Daily Log'!#REF!,$B360,'Daily Log'!#REF!),0)","v":0},{"$f":"IFERROR($E360*SUMIF('Daily Log'!#REF!,$B360,'Daily Log'!#REF!),0)","v":0},{"$f":"IFERROR($E360*SUMIF('Daily Log'!#REF!,$B360,'Daily Log'!#REF!),0)","v":0},{"$f":"IFERROR($E360*SUMIF('Daily Log'!#REF!,$B360,'Daily Log'!#REF!),0)","v":0},{"$f":"IFERROR($E360*SUMIF('Daily Log'!#REF!,$B360,'Daily Log'!#REF!),0)","v":0},{"$f":"IFERROR($E360*SUMIF('Daily Log'!#REF!,$B360,'Daily Log'!#REF!),0)","v":0},{"$f":"IFERROR($E360*SUMIF('Daily Log'!#REF!,$B360,'Daily Log'!#REF!),0)","v":0},{"$f":"IFERROR($E360*SUMIF('Daily Log'!#REF!,$B360,'Daily Log'!#REF!),0)","v":0}]
[null,"ZAD28 + SAUCE MAYO",null,null,1,0,{"$f":"IFERROR($E361*SUMIF('Daily Log'!$B$18:$B$1017,$B361,'Daily Log'!$C$18:$C$1017),0)","v":0},{"$f":"IFERROR($E361*SUMIF('Daily Log'!$E$18:$E$1017,$B361,'Daily Log'!$F$18:$F$1017),0)","v":0},{"$f":"IFERROR($E361*SUMIF('Daily Log'!$H$18:$H$1017,$B361,'Daily Log'!$I$18:$I$1017),0)","v":0},{"$f":"IFERROR($E361*SUMIF('Daily Log'!$K$18:$K$1017,$B361,'Daily Log'!$L$18:$L$1017),0)","v":0},{"$f":"IFERROR($E361*SUMIF('Daily Log'!$N$18:$N$1017,$B361,'Daily Log'!$O$18:$O$1017),0)","v":0},{"$f":"IFERROR($E361*SUMIF('Daily Log'!$Q$18:$Q$1017,$B361,'Daily Log'!$R$18:$R$1017),0)","v":0},{"$f":"IFERROR($E361*SUMIF('Daily Log'!$T$18:$T$1017,$B361,'Daily Log'!$U$18:$U$1017),0)","v":0},{"$f":"IFERROR($E361*SUMIF('Daily Log'!$W$18:$W$1017,$B361,'Daily Log'!$X$18:$X$1017),0)","v":0},{"$f":"IFERROR($E361*SUMIF('Daily Log'!$Z$18:$Z$1017,$B361,'Daily Log'!$AA$18:$AA$1017),0)","v":0},{"$f":"IFERROR($E361*SUMIF('Daily Log'!$AC$18:$AC$1017,$B361,'Daily Log'!$AD$18:$AD$1017),0)","v":0},{"$f":"IFERROR($E361*SUMIF('Daily Log'!$AF$18:$AF$1017,$B361,'Daily Log'!$AG$18:$AG$1017),0)","v":0},{"$f":"IFERROR($E361*SUMIF('Daily Log'!$AI$18:$AI$1017,$B361,'Daily Log'!$AJ$18:$AJ$1017),0)","v":0},{"$f":"IFERROR($E361*SUMIF('Daily Log'!#REF!,$B361,'Daily Log'!#REF!),0)","v":0},{"$f":"IFERROR($E361*SUMIF('Daily Log'!#REF!,$B361,'Daily Log'!#REF!),0)","v":0},{"$f":"IFERROR($E361*SUMIF('Daily Log'!#REF!,$B361,'Daily Log'!#REF!),0)","v":0},{"$f":"IFERROR($E361*SUMIF('Daily Log'!#REF!,$B361,'Daily Log'!#REF!),0)","v":0},{"$f":"IFERROR($E361*SUMIF('Daily Log'!#REF!,$B361,'Daily Log'!#REF!),0)","v":0},{"$f":"IFERROR($E361*SUMIF('Daily Log'!#REF!,$B361,'Daily Log'!#REF!),0)","v":0},{"$f":"IFERROR($E361*SUMIF('Daily Log'!#REF!,$B361,'Daily Log'!#REF!),0)","v":0},{"$f":"IFERROR($E361*SUMIF('Daily Log'!#REF!,$B361,'Daily Log'!#REF!),0)","v":0},{"$f":"IFERROR($E361*SUMIF('Daily Log'!#REF!,$B361,'Daily Log'!#REF!),0)","v":0},{"$f":"IFERROR($E361*SUMIF('Daily Log'!#REF!,$B361,'Daily Log'!#REF!),0)","v":0},{"$f":"IFERROR($E361*SUMIF('Daily Log'!#REF!,$B361,'Daily Log'!#REF!),0)","v":0},{"$f":"IFERROR($E361*SUMIF('Daily Log'!#REF!,$B361,'Daily Log'!#REF!),0)","v":0},{"$f":"IFERROR($E361*SUMIF('Daily Log'!#REF!,$B361,'Daily Log'!#REF!),0)","v":0},{"$f":"IFERROR($E361*SUMIF('Daily Log'!#REF!,$B361,'Daily Log'!#REF!),0)","v":0},{"$f":"IFERROR($E361*SUMIF('Daily Log'!#REF!,$B361,'Daily Log'!#REF!),0)","v":0},{"$f":"IFERROR($E361*SUMIF('Daily Log'!#REF!,$B361,'Daily Log'!#REF!),0)","v":0},{"$f":"IFERROR($E361*SUMIF('Daily Log'!#REF!,$B361,'Daily Log'!#REF!),0)","v":0},{"$f":"IFERROR($E361*SUMIF('Daily Log'!#REF!,$B361,'Daily Log'!#REF!),0)","v":0},{"$f":"IFERROR($E361*SUMIF('Daily Log'!#REF!,$B361,'Daily Log'!#REF!),0)","v":0}]
[null,"ZAD29 + SAUCE MAMITE",null,null,1,0,{"$f":"IFERROR($E362*SUMIF('Daily Log'!$B$18:$B$1017,$B362,'Daily Log'!$C$18:$C$1017),0)","v":0},{"$f":"IFERROR($E362*SUMIF('Daily Log'!$E$18:$E$1017,$B362,'Daily Log'!$F$18:$F$1017),0)","v":0},{"$f":"IFERROR($E362*SUMIF('Daily Log'!$H$18:$H$1017,$B362,'Daily Log'!$I$18:$I$1017),0)","v":0},{"$f":"IFERROR($E362*SUMIF('Daily Log'!$K$18:$K$1017,$B362,'Daily Log'!$L$18:$L$1017),0)","v":0},{"$f":"IFERROR($E362*SUMIF('Daily Log'!$N$18:$N$1017,$B362,'Daily Log'!$O$18:$O$1017),0)","v":0},{"$f":"IFERROR($E362*SUMIF('Daily Log'!$Q$18:$Q$1017,$B362,'Daily Log'!$R$18:$R$1017),0)","v":0},{"$f":"IFERROR($E362*SUMIF('Daily Log'!$T$18:$T$1017,$B362,'Daily Log'!$U$18:$U$1017),0)","v":0},{"$f":"IFERROR($E362*SUMIF('Daily Log'!$W$18:$W$1017,$B362,'Daily Log'!$X$18:$X$1017),0)","v":0},{"$f":"IFERROR($E362*SUMIF('Daily Log'!$Z$18:$Z$1017,$B362,'Daily Log'!$AA$18:$AA$1017),0)","v":0},{"$f":"IFERROR($E362*SUMIF('Daily Log'!$AC$18:$AC$1017,$B362,'Daily Log'!$AD$18:$AD$1017),0)","v":0},{"$f":"IFERROR($E362*SUMIF('Daily Log'!$AF$18:$AF$1017,$B362,'Daily Log'!$AG$18:$AG$1017),0)","v":0},{"$f":"IFERROR($E362*SUMIF('Daily Log'!$AI$18:$AI$1017,$B362,'Daily Log'!$AJ$18:$AJ$1017),0)","v":0},{"$f":"IFERROR($E362*SUMIF('Daily Log'!#REF!,$B362,'Daily Log'!#REF!),0)","v":0},{"$f":"IFERROR($E362*SUMIF('Daily Log'!#REF!,$B362,'Daily Log'!#REF!),0)","v":0},{"$f":"IFERROR($E362*SUMIF('Daily Log'!#REF!,$B362,'Daily Log'!#REF!),0)","v":0},{"$f":"IFERROR($E362*SUMIF('Daily Log'!#REF!,$B362,'Daily Log'!#REF!),0)","v":0},{"$f":"IFERROR($E362*SUMIF('Daily Log'!#REF!,$B362,'Daily Log'!#REF!),0)","v":0},{"$f":"IFERROR($E362*SUMIF('Daily Log'!#REF!,$B362,'Daily Log'!#REF!),0)","v":0},{"$f":"IFERROR($E362*SUMIF('Daily Log'!#REF!,$B362,'Daily Log'!#REF!),0)","v":0},{"$f":"IFERROR($E362*SUMIF('Daily Log'!#REF!,$B362,'Daily Log'!#REF!),0)","v":0},{"$f":"IFERROR($E362*SUMIF('Daily Log'!#REF!,$B362,'Daily Log'!#REF!),0)","v":0},{"$f":"IFERROR($E362*SUMIF('Daily Log'!#REF!,$B362,'Daily Log'!#REF!),0)","v":0},{"$f":"IFERROR($E362*SUMIF('Daily Log'!#REF!,$B362,'Daily Log'!#REF!),0)","v":0},{"$f":"IFERROR($E362*SUMIF('Daily Log'!#REF!,$B362,'Daily Log'!#REF!),0)","v":0},{"$f":"IFERROR($E362*SUMIF('Daily Log'!#REF!,$B362,'Daily Log'!#REF!),0)","v":0},{"$f":"IFERROR($E362*SUMIF('Daily Log'!#REF!,$B362,'Daily Log'!#REF!),0)","v":0},{"$f":"IFERROR($E362*SUMIF('Daily Log'!#REF!,$B362,'Daily Log'!#REF!),0)","v":0},{"$f":"IFERROR($E362*SUMIF('Daily Log'!#REF!,$B362,'Daily Log'!#REF!),0)","v":0},{"$f":"IFERROR($E362*SUMIF('Daily Log'!#REF!,$B362,'Daily Log'!#REF!),0)","v":0},{"$f":"IFERROR($E362*SUMIF('Daily Log'!#REF!,$B362,'Daily Log'!#REF!),0)","v":0},{"$f":"IFERROR($E362*SUMIF('Daily Log'!#REF!,$B362,'Daily Log'!#REF!),0)","v":0}]
[null,"ZAD30 + SAUCE MR",null,null,1,0,{"$f":"IFERROR($E363*SUMIF('Daily Log'!$B$18:$B$1017,$B363,'Daily Log'!$C$18:$C$1017),0)","v":0},{"$f":"IFERROR($E363*SUMIF('Daily Log'!$E$18:$E$1017,$B363,'Daily Log'!$F$18:$F$1017),0)","v":0},{"$f":"IFERROR($E363*SUMIF('Daily Log'!$H$18:$H$1017,$B363,'Daily Log'!$I$18:$I$1017),0)","v":0},{"$f":"IFERROR($E363*SUMIF('Daily Log'!$K$18:$K$1017,$B363,'Daily Log'!$L$18:$L$1017),0)","v":0},{"$f":"IFERROR($E363*SUMIF('Daily Log'!$N$18:$N$1017,$B363,'Daily Log'!$O$18:$O$1017),0)","v":0},{"$f":"IFERROR($E363*SUMIF('Daily Log'!$Q$18:$Q$1017,$B363,'Daily Log'!$R$18:$R$1017),0)","v":0},{"$f":"IFERROR($E363*SUMIF('Daily Log'!$T$18:$T$1017,$B363,'Daily Log'!$U$18:$U$1017),0)","v":0},{"$f":"IFERROR($E363*SUMIF('Daily Log'!$W$18:$W$1017,$B363,'Daily Log'!$X$18:$X$1017),0)","v":0},{"$f":"IFERROR($E363*SUMIF('Daily Log'!$Z$18:$Z$1017,$B363,'Daily Log'!$AA$18:$AA$1017),0)","v":0},{"$f":"IFERROR($E363*SUMIF('Daily Log'!$AC$18:$AC$1017,$B363,'Daily Log'!$AD$18:$AD$1017),0)","v":0},{"$f":"IFERROR($E363*SUMIF('Daily Log'!$AF$18:$AF$1017,$B363,'Daily Log'!$AG$18:$AG$1017),0)","v":0},{"$f":"IFERROR($E363*SUMIF('Daily Log'!$AI$18:$AI$1017,$B363,'Daily Log'!$AJ$18:$AJ$1017),0)","v":0},{"$f":"IFERROR($E363*SUMIF('Daily Log'!#REF!,$B363,'Daily Log'!#REF!),0)","v":0},{"$f":"IFERROR($E363*SUMIF('Daily Log'!#REF!,$B363,'Daily Log'!#REF!),0)","v":0},{"$f":"IFERROR($E363*SUMIF('Daily Log'!#REF!,$B363,'Daily Log'!#REF!),0)","v":0},{"$f":"IFERROR($E363*SUMIF('Daily Log'!#REF!,$B363,'Daily Log'!#REF!),0)","v":0},{"$f":"IFERROR($E363*SUMIF('Daily Log'!#REF!,$B363,'Daily Log'!#REF!),0)","v":0},{"$f":"IFERROR($E363*SUMIF('Daily Log'!#REF!,$B363,'Daily Log'!#REF!),0)","v":0},{"$f":"IFERROR($E363*SUMIF('Daily Log'!#REF!,$B363,'Daily Log'!#REF!),0)","v":0},{"$f":"IFERROR($E363*SUMIF('Daily Log'!#REF!,$B363,'Daily Log'!#REF!),0)","v":0},{"$f":"IFERROR($E363*SUMIF('Daily Log'!#REF!,$B363,'Daily Log'!#REF!),0)","v":0},{"$f":"IFERROR($E363*SUMIF('Daily Log'!#REF!,$B363,'Daily Log'!#REF!),0)","v":0},{"$f":"IFERROR($E363*SUMIF('Daily Log'!#REF!,$B363,'Daily Log'!#REF!),0)","v":0},{"$f":"IFERROR($E363*SUMIF('Daily Log'!#REF!,$B363,'Daily Log'!#REF!),0)","v":0},{"$f":"IFERROR($E363*SUMIF('Daily Log'!#REF!,$B363,'Daily Log'!#REF!),0)","v":0},{"$f":"IFERROR($E363*SUMIF('Daily Log'!#REF!,$B363,'Daily Log'!#REF!),0)","v":0},{"$f":"IFERROR($E363*SUMIF('Daily Log'!#REF!,$B363,'Daily Log'!#REF!),0)","v":0},{"$f":"IFERROR($E363*SUMIF('Daily Log'!#REF!,$B363,'Daily Log'!#REF!),0)","v":0},{"$f":"IFERROR($E363*SUMIF('Daily Log'!#REF!,$B363,'Daily Log'!#REF!),0)","v":0},{"$f":"IFERROR($E363*SUMIF('Daily Log'!#REF!,$B363,'Daily Log'!#REF!),0)","v":0},{"$f":"IFERROR($E363*SUMIF('Daily Log'!#REF!,$B363,'Daily Log'!#REF!),0)","v":0}]
[null,"ZAD32 + SAUCE THAI",null,null,1,0,{"$f":"IFERROR($E364*SUMIF('Daily Log'!$B$18:$B$1017,$B364,'Daily Log'!$C$18:$C$1017),0)","v":0},{"$f":"IFERROR($E364*SUMIF('Daily Log'!$E$18:$E$1017,$B364,'Daily Log'!$F$18:$F$1017),0)","v":0},{"$f":"IFERROR($E364*SUMIF('Daily Log'!$H$18:$H$1017,$B364,'Daily Log'!$I$18:$I$1017),0)","v":0},{"$f":"IFERROR($E364*SUMIF('Daily Log'!$K$18:$K$1017,$B364,'Daily Log'!$L$18:$L$1017),0)","v":0},{"$f":"IFERROR($E364*SUMIF('Daily Log'!$N$18:$N$1017,$B364,'Daily Log'!$O$18:$O$1017),0)","v":0},{"$f":"IFERROR($E364*SUMIF('Daily Log'!$Q$18:$Q$1017,$B364,'Daily Log'!$R$18:$R$1017),0)","v":0},{"$f":"IFERROR($E364*SUMIF('Daily Log'!$T$18:$T$1017,$B364,'Daily Log'!$U$18:$U$1017),0)","v":0},{"$f":"IFERROR($E364*SUMIF('Daily Log'!$W$18:$W$1017,$B364,'Daily Log'!$X$18:$X$1017),0)","v":0},{"$f":"IFERROR($E364*SUMIF('Daily Log'!$Z$18:$Z$1017,$B364,'Daily Log'!$AA$18:$AA$1017),0)","v":0},{"$f":"IFERROR($E364*SUMIF('Daily Log'!$AC$18:$AC$1017,$B364,'Daily Log'!$AD$18:$AD$1017),0)","v":0},{"$f":"IFERROR($E364*SUMIF('Daily Log'!$AF$18:$AF$1017,$B364,'Daily Log'!$AG$18:$AG$1017),0)","v":0},{"$f":"IFERROR($E364*SUMIF('Daily Log'!$AI$18:$AI$1017,$B364,'Daily Log'!$AJ$18:$AJ$1017),0)","v":0},{"$f":"IFERROR($E364*SUMIF('Daily Log'!#REF!,$B364,'Daily Log'!#REF!),0)","v":0},{"$f":"IFERROR($E364*SUMIF('Daily Log'!#REF!,$B364,'Daily Log'!#REF!),0)","v":0},{"$f":"IFERROR($E364*SUMIF('Daily Log'!#REF!,$B364,'Daily Log'!#REF!),0)","v":0},{"$f":"IFERROR($E364*SUMIF('Daily Log'!#REF!,$B364,'Daily Log'!#REF!),0)","v":0},{"$f":"IFERROR($E364*SUMIF('Daily Log'!#REF!,$B364,'Daily Log'!#REF!),0)","v":0},{"$f":"IFERROR($E364*SUMIF('Daily Log'!#REF!,$B364,'Daily Log'!#REF!),0)","v":0},{"$f":"IFERROR($E364*SUMIF('Daily Log'!#REF!,$B364,'Daily Log'!#REF!),0)","v":0},{"$f":"IFERROR($E364*SUMIF('Daily Log'!#REF!,$B364,'Daily Log'!#REF!),0)","v":0},{"$f":"IFERROR($E364*SUMIF('Daily Log'!#REF!,$B364,'Daily Log'!#REF!),0)","v":0},{"$f":"IFERROR($E364*SUMIF('Daily Log'!#REF!,$B364,'Daily Log'!#REF!),0)","v":0},{"$f":"IFERROR($E364*SUMIF('Daily Log'!#REF!,$B364,'Daily Log'!#REF!),0)","v":0},{"$f":"IFERROR($E364*SUMIF('Daily Log'!#REF!,$B364,'Daily Log'!#REF!),0)","v":0},{"$f":"IFERROR($E364*SUMIF('Daily Log'!#REF!,$B364,'Daily Log'!#REF!),0)","v":0},{"$f":"IFERROR($E364*SUMIF('Daily Log'!#REF!,$B364,'Daily Log'!#REF!),0)","v":0},{"$f":"IFERROR($E364*SUMIF('Daily Log'!#REF!,$B364,'Daily Log'!#REF!),0)","v":0},{"$f":"IFERROR($E364*SUMIF('Daily Log'!#REF!,$B364,'Daily Log'!#REF!),0)","v":0},{"$f":"IFERROR($E364*SUMIF('Daily Log'!#REF!,$B364,'Daily Log'!#REF!),0)","v":0},{"$f":"IFERROR($E364*SUMIF('Daily Log'!#REF!,$B364,'Daily Log'!#REF!),0)","v":0},{"$f":"IFERROR($E364*SUMIF('Daily Log'!#REF!,$B364,'Daily Log'!#REF!),0)","v":0}]
[null,"ZAD33 + SAUCE TOMATO",null,null,1,0,{"$f":"IFERROR($E365*SUMIF('Daily Log'!$B$18:$B$1017,$B365,'Daily Log'!$C$18:$C$1017),0)","v":0},{"$f":"IFERROR($E365*SUMIF('Daily Log'!$E$18:$E$1017,$B365,'Daily Log'!$F$18:$F$1017),0)","v":0},{"$f":"IFERROR($E365*SUMIF('Daily Log'!$H$18:$H$1017,$B365,'Daily Log'!$I$18:$I$1017),0)","v":0},{"$f":"IFERROR($E365*SUMIF('Daily Log'!$K$18:$K$1017,$B365,'Daily Log'!$L$18:$L$1017),0)","v":0},{"$f":"IFERROR($E365*SUMIF('Daily Log'!$N$18:$N$1017,$B365,'Daily Log'!$O$18:$O$1017),0)","v":0},{"$f":"IFERROR($E365*SUMIF('Daily Log'!$Q$18:$Q$1017,$B365,'Daily Log'!$R$18:$R$1017),0)","v":0},{"$f":"IFERROR($E365*SUMIF('Daily Log'!$T$18:$T$1017,$B365,'Daily Log'!$U$18:$U$1017),0)","v":0},{"$f":"IFERROR($E365*SUMIF('Daily Log'!$W$18:$W$1017,$B365,'Daily Log'!$X$18:$X$1017),0)","v":0},{"$f":"IFERROR($E365*SUMIF('Daily Log'!$Z$18:$Z$1017,$B365,'Daily Log'!$AA$18:$AA$1017),0)","v":0},{"$f":"IFERROR($E365*SUMIF('Daily Log'!$AC$18:$AC$1017,$B365,'Daily Log'!$AD$18:$AD$1017),0)","v":0},{"$f":"IFERROR($E365*SUMIF('Daily Log'!$AF$18:$AF$1017,$B365,'Daily Log'!$AG$18:$AG$1017),0)","v":0},{"$f":"IFERROR($E365*SUMIF('Daily Log'!$AI$18:$AI$1017,$B365,'Daily Log'!$AJ$18:$AJ$1017),0)","v":0},{"$f":"IFERROR($E365*SUMIF('Daily Log'!#REF!,$B365,'Daily Log'!#REF!),0)","v":0},{"$f":"IFERROR($E365*SUMIF('Daily Log'!#REF!,$B365,'Daily Log'!#REF!),0)","v":0},{"$f":"IFERROR($E365*SUMIF('Daily Log'!#REF!,$B365,'Daily Log'!#REF!),0)","v":0},{"$f":"IFERROR($E365*SUMIF('Daily Log'!#REF!,$B365,'Daily Log'!#REF!),0)","v":0},{"$f":"IFERROR($E365*SUMIF('Daily Log'!#REF!,$B365,'Daily Log'!#REF!),0)","v":0},{"$f":"IFERROR($E365*SUMIF('Daily Log'!#REF!,$B365,'Daily Log'!#REF!),0)","v":0},{"$f":"IFERROR($E365*SUMIF('Daily Log'!#REF!,$B365,'Daily Log'!#REF!),0)","v":0},{"$f":"IFERROR($E365*SUMIF('Daily Log'!#REF!,$B365,'Daily Log'!#REF!),0)","v":0},{"$f":"IFERROR($E365*SUMIF('Daily Log'!#REF!,$B365,'Daily Log'!#REF!),0)","v":0},{"$f":"IFERROR($E365*SUMIF('Daily Log'!#REF!,$B365,'Daily Log'!#REF!),0)","v":0},{"$f":"IFERROR($E365*SUMIF('Daily Log'!#REF!,$B365,'Daily Log'!#REF!),0)","v":0},{"$f":"IFERROR($E365*SUMIF('Daily Log'!#REF!,$B365,'Daily Log'!#REF!),0)","v":0},{"$f":"IFERROR($E365*SUMIF('Daily Log'!#REF!,$B365,'Daily Log'!#REF!),0)","v":0},{"$f":"IFERROR($E365*SUMIF('Daily Log'!#REF!,$B365,'Daily Log'!#REF!),0)","v":0},{"$f":"IFERROR($E365*SUMIF('Daily Log'!#REF!,$B365,'Daily Log'!#REF!),0)","v":0},{"$f":"IFERROR($E365*SUMIF('Daily Log'!#REF!,$B365,'Daily Log'!#REF!),0)","v":0},{"$f":"IFERROR($E365*SUMIF('Daily Log'!#REF!,$B365,'Daily Log'!#REF!),0)","v":0},{"$f":"IFERROR($E365*SUMIF('Daily Log'!#REF!,$B365,'Daily Log'!#REF!),0)","v":0},{"$f":"IFERROR($E365*SUMIF('Daily Log'!#REF!,$B365,'Daily Log'!#REF!),0)","v":0}]
[null,"ZAD34 + SAUCE TATAR",null,null,1,0,{"$f":"IFERROR($E366*SUMIF('Daily Log'!$B$18:$B$1017,$B366,'Daily Log'!$C$18:$C$1017),0)","v":0},{"$f":"IFERROR($E366*SUMIF('Daily Log'!$E$18:$E$1017,$B366,'Daily Log'!$F$18:$F$1017),0)","v":0},{"$f":"IFERROR($E366*SUMIF('Daily Log'!$H$18:$H$1017,$B366,'Daily Log'!$I$18:$I$1017),0)","v":0},{"$f":"IFERROR($E366*SUMIF('Daily Log'!$K$18:$K$1017,$B366,'Daily Log'!$L$18:$L$1017),0)","v":0},{"$f":"IFERROR($E366*SUMIF('Daily Log'!$N$18:$N$1017,$B366,'Daily Log'!$O$18:$O$1017),0)","v":0},{"$f":"IFERROR($E366*SUMIF('Daily Log'!$Q$18:$Q$1017,$B366,'Daily Log'!$R$18:$R$1017),0)","v":0},{"$f":"IFERROR($E366*SUMIF('Daily Log'!$T$18:$T$1017,$B366,'Daily Log'!$U$18:$U$1017),0)","v":0},{"$f":"IFERROR($E366*SUMIF('Daily Log'!$W$18:$W$1017,$B366,'Daily Log'!$X$18:$X$1017),0)","v":0},{"$f":"IFERROR($E366*SUMIF('Daily Log'!$Z$18:$Z$1017,$B366,'Daily Log'!$AA$18:$AA$1017),0)","v":0},{"$f":"IFERROR($E366*SUMIF('Daily Log'!$AC$18:$AC$1017,$B366,'Daily Log'!$AD$18:$AD$1017),0)","v":0},{"$f":"IFERROR($E366*SUMIF('Daily Log'!$AF$18:$AF$1017,$B366,'Daily Log'!$AG$18:$AG$1017),0)","v":0},{"$f":"IFERROR($E366*SUMIF('Daily Log'!$AI$18:$AI$1017,$B366,'Daily Log'!$AJ$18:$AJ$1017),0)","v":0},{"$f":"IFERROR($E366*SUMIF('Daily Log'!#REF!,$B366,'Daily Log'!#REF!),0)","v":0},{"$f":"IFERROR($E366*SUMIF('Daily Log'!#REF!,$B366,'Daily Log'!#REF!),0)","v":0},{"$f":"IFERROR($E366*SUMIF('Daily Log'!#REF!,$B366,'Daily Log'!#REF!),0)","v":0},{"$f":"IFERROR($E366*SUMIF('Daily Log'!#REF!,$B366,'Daily Log'!#REF!),0)","v":0},{"$f":"IFERROR($E366*SUMIF('Daily Log'!#REF!,$B366,'Daily Log'!#REF!),0)","v":0},{"$f":"IFERROR($E366*SUMIF('Daily Log'!#REF!,$B366,'Daily Log'!#REF!),0)","v":0},{"$f":"IFERROR($E366*SUMIF('Daily Log'!#REF!,$B366,'Daily Log'!#REF!),0)","v":0},{"$f":"IFERROR($E366*SUMIF('Daily Log'!#REF!,$B366,'Daily Log'!#REF!),0)","v":0},{"$f":"IFERROR($E366*SUMIF('Daily Log'!#REF!,$B366,'Daily Log'!#REF!),0)","v":0},{"$f":"IFERROR($E366*SUMIF('Daily Log'!#REF!,$B366,'Daily Log'!#REF!),0)","v":0},{"$f":"IFERROR($E366*SUMIF('Daily Log'!#REF!,$B366,'Daily Log'!#REF!),0)","v":0},{"$f":"IFERROR($E366*SUMIF('Daily Log'!#REF!,$B366,'Daily Log'!#REF!),0)","v":0},{"$f":"IFERROR($E366*SUMIF('Daily Log'!#REF!,$B366,'Daily Log'!#REF!),0)","v":0},{"$f":"IFERROR($E366*SUMIF('Daily Log'!#REF!,$B366,'Daily Log'!#REF!),0)","v":0},{"$f":"IFERROR($E366*SUMIF('Daily Log'!#REF!,$B366,'Daily Log'!#REF!),0)","v":0},{"$f":"IFERROR($E366*SUMIF('Daily Log'!#REF!,$B366,'Daily Log'!#REF!),0)","v":0},{"$f":"IFERROR($E366*SUMIF('Daily Log'!#REF!,$B366,'Daily Log'!#REF!),0)","v":0},{"$f":"IFERROR($E366*SUMIF('Daily Log'!#REF!,$B366,'Daily Log'!#REF!),0)","v":0},{"$f":"IFERROR($E366*SUMIF('Daily Log'!#REF!,$B366,'Daily Log'!#REF!),0)","v":0}]
[null,"ZAD35 + SAUCE CHEES",null,null,1,0,{"$f":"IFERROR($E367*SUMIF('Daily Log'!$B$18:$B$1017,$B367,'Daily Log'!$C$18:$C$1017),0)","v":0},{"$f":"IFERROR($E367*SUMIF('Daily Log'!$E$18:$E$1017,$B367,'Daily Log'!$F$18:$F$1017),0)","v":0},{"$f":"IFERROR($E367*SUMIF('Daily Log'!$H$18:$H$1017,$B367,'Daily Log'!$I$18:$I$1017),0)","v":0},{"$f":"IFERROR($E367*SUMIF('Daily Log'!$K$18:$K$1017,$B367,'Daily Log'!$L$18:$L$1017),0)","v":0},{"$f":"IFERROR($E367*SUMIF('Daily Log'!$N$18:$N$1017,$B367,'Daily Log'!$O$18:$O$1017),0)","v":0},{"$f":"IFERROR($E367*SUMIF('Daily Log'!$Q$18:$Q$1017,$B367,'Daily Log'!$R$18:$R$1017),0)","v":0},{"$f":"IFERROR($E367*SUMIF('Daily Log'!$T$18:$T$1017,$B367,'Daily Log'!$U$18:$U$1017),0)","v":0},{"$f":"IFERROR($E367*SUMIF('Daily Log'!$W$18:$W$1017,$B367,'Daily Log'!$X$18:$X$1017),0)","v":0},{"$f":"IFERROR($E367*SUMIF('Daily Log'!$Z$18:$Z$1017,$B367,'Daily Log'!$AA$18:$AA$1017),0)","v":0},{"$f":"IFERROR($E367*SUMIF('Daily Log'!$AC$18:$AC$1017,$B367,'Daily Log'!$AD$18:$AD$1017),0)","v":0},{"$f":"IFERROR($E367*SUMIF('Daily Log'!$AF$18:$AF$1017,$B367,'Daily Log'!$AG$18:$AG$1017),0)","v":0},{"$f":"IFERROR($E367*SUMIF('Daily Log'!$AI$18:$AI$1017,$B367,'Daily Log'!$AJ$18:$AJ$1017),0)","v":0},{"$f":"IFERROR($E367*SUMIF('Daily Log'!#REF!,$B367,'Daily Log'!#REF!),0)","v":0},{"$f":"IFERROR($E367*SUMIF('Daily Log'!#REF!,$B367,'Daily Log'!#REF!),0)","v":0},{"$f":"IFERROR($E367*SUMIF('Daily Log'!#REF!,$B367,'Daily Log'!#REF!),0)","v":0},{"$f":"IFERROR($E367*SUMIF('Daily Log'!#REF!,$B367,'Daily Log'!#REF!),0)","v":0},{"$f":"IFERROR($E367*SUMIF('Daily Log'!#REF!,$B367,'Daily Log'!#REF!),0)","v":0},{"$f":"IFERROR($E367*SUMIF('Daily Log'!#REF!,$B367,'Daily Log'!#REF!),0)","v":0},{"$f":"IFERROR($E367*SUMIF('Daily Log'!#REF!,$B367,'Daily Log'!#REF!),0)","v":0},{"$f":"IFERROR($E367*SUMIF('Daily Log'!#REF!,$B367,'Daily Log'!#REF!),0)","v":0},{"$f":"IFERROR($E367*SUMIF('Daily Log'!#REF!,$B367,'Daily Log'!#REF!),0)","v":0},{"$f":"IFERROR($E367*SUMIF('Daily Log'!#REF!,$B367,'Daily Log'!#REF!),0)","v":0},{"$f":"IFERROR($E367*SUMIF('Daily Log'!#REF!,$B367,'Daily Log'!#REF!),0)","v":0},{"$f":"IFERROR($E367*SUMIF('Daily Log'!#REF!,$B367,'Daily Log'!#REF!),0)","v":0},{"$f":"IFERROR($E367*SUMIF('Daily Log'!#REF!,$B367,'Daily Log'!#REF!),0)","v":0},{"$f":"IFERROR($E367*SUMIF('Daily Log'!#REF!,$B367,'Daily Log'!#REF!),0)","v":0},{"$f":"IFERROR($E367*SUMIF('Daily Log'!#REF!,$B367,'Daily Log'!#REF!),0)","v":0},{"$f":"IFERROR($E367*SUMIF('Daily Log'!#REF!,$B367,'Daily Log'!#REF!),0)","v":0},{"$f":"IFERROR($E367*SUMIF('Daily Log'!#REF!,$B367,'Daily Log'!#REF!),0)","v":0},{"$f":"IFERROR($E367*SUMIF('Daily Log'!#REF!,$B367,'Daily Log'!#REF!),0)","v":0},{"$f":"IFERROR($E367*SUMIF('Daily Log'!#REF!,$B367,'Daily Log'!#REF!),0)","v":0}]
[null,"ZAD36 BEER GLASS",null,null,1,97,{"$f":"IFERROR($E368*SUMIF('Daily Log'!$B$18:$B$1017,$B368,'Daily Log'!$C$18:$C$1017),0)","v":0},{"$f":"IFERROR($E368*SUMIF('Daily Log'!$E$18:$E$1017,$B368,'Daily Log'!$F$18:$F$1017),0)","v":0},{"$f":"IFERROR($E368*SUMIF('Daily Log'!$H$18:$H$1017,$B368,'Daily Log'!$I$18:$I$1017),0)","v":0},{"$f":"IFERROR($E368*SUMIF('Daily Log'!$K$18:$K$1017,$B368,'Daily Log'!$L$18:$L$1017),0)","v":0},{"$f":"IFERROR($E368*SUMIF('Daily Log'!$N$18:$N$1017,$B368,'Daily Log'!$O$18:$O$1017),0)","v":0},{"$f":"IFERROR($E368*SUMIF('Daily Log'!$Q$18:$Q$1017,$B368,'Daily Log'!$R$18:$R$1017),0)","v":0},{"$f":"IFERROR($E368*SUMIF('Daily Log'!$T$18:$T$1017,$B368,'Daily Log'!$U$18:$U$1017),0)","v":9},{"$f":"IFERROR($E368*SUMIF('Daily Log'!$W$18:$W$1017,$B368,'Daily Log'!$X$18:$X$1017),0)","v":2},{"$f":"IFERROR($E368*SUMIF('Daily Log'!$Z$18:$Z$1017,$B368,'Daily Log'!$AA$18:$AA$1017),0)","v":6},{"$f":"IFERROR($E368*SUMIF('Daily Log'!$AC$18:$AC$1017,$B368,'Daily Log'!$AD$18:$AD$1017),0)","v":28},{"$f":"IFERROR($E368*SUMIF('Daily Log'!$AF$18:$AF$1017,$B368,'Daily Log'!$AG$18:$AG$1017),0)","v":16},{"$f":"IFERROR($E368*SUMIF('Daily Log'!$AI$18:$AI$1017,$B368,'Daily Log'!$AJ$18:$AJ$1017),0)","v":36},{"$f":"IFERROR($E368*SUMIF('Daily Log'!#REF!,$B368,'Daily Log'!#REF!),0)","v":0},{"$f":"IFERROR($E368*SUMIF('Daily Log'!#REF!,$B368,'Daily Log'!#REF!),0)","v":0},{"$f":"IFERROR($E368*SUMIF('Daily Log'!#REF!,$B368,'Daily Log'!#REF!),0)","v":0},{"$f":"IFERROR($E368*SUMIF('Daily Log'!#REF!,$B368,'Daily Log'!#REF!),0)","v":0},{"$f":"IFERROR($E368*SUMIF('Daily Log'!#REF!,$B368,'Daily Log'!#REF!),0)","v":0},{"$f":"IFERROR($E368*SUMIF('Daily Log'!#REF!,$B368,'Daily Log'!#REF!),0)","v":0},{"$f":"IFERROR($E368*SUMIF('Daily Log'!#REF!,$B368,'Daily Log'!#REF!),0)","v":0},{"$f":"IFERROR($E368*SUMIF('Daily Log'!#REF!,$B368,'Daily Log'!#REF!),0)","v":0},{"$f":"IFERROR($E368*SUMIF('Daily Log'!#REF!,$B368,'Daily Log'!#REF!),0)","v":0},{"$f":"IFERROR($E368*SUMIF('Daily Log'!#REF!,$B368,'Daily Log'!#REF!),0)","v":0},{"$f":"IFERROR($E368*SUMIF('Daily Log'!#REF!,$B368,'Daily Log'!#REF!),0)","v":0},{"$f":"IFERROR($E368*SUMIF('Daily Log'!#REF!,$B368,'Daily Log'!#REF!),0)","v":0},{"$f":"IFERROR($E368*SUMIF('Daily Log'!#REF!,$B368,'Daily Log'!#REF!),0)","v":0},{"$f":"IFERROR($E368*SUMIF('Daily Log'!#REF!,$B368,'Daily Log'!#REF!),0)","v":0},{"$f":"IFERROR($E368*SUMIF('Daily Log'!#REF!,$B368,'Daily Log'!#REF!),0)","v":0},{"$f":"IFERROR($E368*SUMIF('Daily Log'!#REF!,$B368,'Daily Log'!#REF!),0)","v":0},{"$f":"IFERROR($E368*SUMIF('Daily Log'!#REF!,$B368,'Daily Log'!#REF!),0)","v":0},{"$f":"IFERROR($E368*SUMIF('Daily Log'!#REF!,$B368,'Daily Log'!#REF!),0)","v":0},{"$f":"IFERROR($E368*SUMIF('Daily Log'!#REF!,$B368,'Daily Log'!#REF!),0)","v":0}]
[null,"ZAD37 ICE BUCKET",null,null,1,34,{"$f":"IFERROR($E369*SUMIF('Daily Log'!$B$18:$B$1017,$B369,'Daily Log'!$C$18:$C$1017),0)","v":0},{"$f":"IFERROR($E369*SUMIF('Daily Log'!$E$18:$E$1017,$B369,'Daily Log'!$F$18:$F$1017),0)","v":0},{"$f":"IFERROR($E369*SUMIF('Daily Log'!$H$18:$H$1017,$B369,'Daily Log'!$I$18:$I$1017),0)","v":0},{"$f":"IFERROR($E369*SUMIF('Daily Log'!$K$18:$K$1017,$B369,'Daily Log'!$L$18:$L$1017),0)","v":0},{"$f":"IFERROR($E369*SUMIF('Daily Log'!$N$18:$N$1017,$B369,'Daily Log'!$O$18:$O$1017),0)","v":0},{"$f":"IFERROR($E369*SUMIF('Daily Log'!$Q$18:$Q$1017,$B369,'Daily Log'!$R$18:$R$1017),0)","v":0},{"$f":"IFERROR($E369*SUMIF('Daily Log'!$T$18:$T$1017,$B369,'Daily Log'!$U$18:$U$1017),0)","v":3},{"$f":"IFERROR($E369*SUMIF('Daily Log'!$W$18:$W$1017,$B369,'Daily Log'!$X$18:$X$1017),0)","v":1},{"$f":"IFERROR($E369*SUMIF('Daily Log'!$Z$18:$Z$1017,$B369,'Daily Log'!$AA$18:$AA$1017),0)","v":4},{"$f":"IFERROR($E369*SUMIF('Daily Log'!$AC$18:$AC$1017,$B369,'Daily Log'!$AD$18:$AD$1017),0)","v":10},{"$f":"IFERROR($E369*SUMIF('Daily Log'!$AF$18:$AF$1017,$B369,'Daily Log'!$AG$18:$AG$1017),0)","v":4},{"$f":"IFERROR($E369*SUMIF('Daily Log'!$AI$18:$AI$1017,$B369,'Daily Log'!$AJ$18:$AJ$1017),0)","v":12},{"$f":"IFERROR($E369*SUMIF('Daily Log'!#REF!,$B369,'Daily Log'!#REF!),0)","v":0},{"$f":"IFERROR($E369*SUMIF('Daily Log'!#REF!,$B369,'Daily Log'!#REF!),0)","v":0},{"$f":"IFERROR($E369*SUMIF('Daily Log'!#REF!,$B369,'Daily Log'!#REF!),0)","v":0},{"$f":"IFERROR($E369*SUMIF('Daily Log'!#REF!,$B369,'Daily Log'!#REF!),0)","v":0},{"$f":"IFERROR($E369*SUMIF('Daily Log'!#REF!,$B369,'Daily Log'!#REF!),0)","v":0},{"$f":"IFERROR($E369*SUMIF('Daily Log'!#REF!,$B369,'Daily Log'!#REF!),0)","v":0},{"$f":"IFERROR($E369*SUMIF('Daily Log'!#REF!,$B369,'Daily Log'!#REF!),0)","v":0},{"$f":"IFERROR($E369*SUMIF('Daily Log'!#REF!,$B369,'Daily Log'!#REF!),0)","v":0},{"$f":"IFERROR($E369*SUMIF('Daily Log'!#REF!,$B369,'Daily Log'!#REF!),0)","v":0},{"$f":"IFERROR($E369*SUMIF('Daily Log'!#REF!,$B369,'Daily Log'!#REF!),0)","v":0},{"$f":"IFERROR($E369*SUMIF('Daily Log'!#REF!,$B369,'Daily Log'!#REF!),0)","v":0},{"$f":"IFERROR($E369*SUMIF('Daily Log'!#REF!,$B369,'Daily Log'!#REF!),0)","v":0},{"$f":"IFERROR($E369*SUMIF('Daily Log'!#REF!,$B369,'Daily Log'!#REF!),0)","v":0},{"$f":"IFERROR($E369*SUMIF('Daily Log'!#REF!,$B369,'Daily Log'!#REF!),0)","v":0},{"$f":"IFERROR($E369*SUMIF('Daily Log'!#REF!,$B369,'Daily Log'!#REF!),0)","v":0},{"$f":"IFERROR($E369*SUMIF('Daily Log'!#REF!,$B369,'Daily Log'!#REF!),0)","v":0},{"$f":"IFERROR($E369*SUMIF('Daily Log'!#REF!,$B369,'Daily Log'!#REF!),0)","v":0},{"$f":"IFERROR($E369*SUMIF('Daily Log'!#REF!,$B369,'Daily Log'!#REF!),0)","v":0},{"$f":"IFERROR($E369*SUMIF('Daily Log'!#REF!,$B369,'Daily Log'!#REF!),0)","v":0}]
[null,"ZAE01 GUI MEM EX BKT",null,null,1,0,{"$f":"IFERROR($E370*SUMIF('Daily Log'!$B$18:$B$1017,$B370,'Daily Log'!$C$18:$C$1017),0)","v":0},{"$f":"IFERROR($E370*SUMIF('Daily Log'!$E$18:$E$1017,$B370,'Daily Log'!$F$18:$F$1017),0)","v":0},{"$f":"IFERROR($E370*SUMIF('Daily Log'!$H$18:$H$1017,$B370,'Daily Log'!$I$18:$I$1017),0)","v":0},{"$f":"IFERROR($E370*SUMIF('Daily Log'!$K$18:$K$1017,$B370,'Daily Log'!$L$18:$L$1017),0)","v":0},{"$f":"IFERROR($E370*SUMIF('Daily Log'!$N$18:$N$1017,$B370,'Daily Log'!$O$18:$O$1017),0)","v":0},{"$f":"IFERROR($E370*SUMIF('Daily Log'!$Q$18:$Q$1017,$B370,'Daily Log'!$R$18:$R$1017),0)","v":0},{"$f":"IFERROR($E370*SUMIF('Daily Log'!$T$18:$T$1017,$B370,'Daily Log'!$U$18:$U$1017),0)","v":0},{"$f":"IFERROR($E370*SUMIF('Daily Log'!$W$18:$W$1017,$B370,'Daily Log'!$X$18:$X$1017),0)","v":0},{"$f":"IFERROR($E370*SUMIF('Daily Log'!$Z$18:$Z$1017,$B370,'Daily Log'!$AA$18:$AA$1017),0)","v":0},{"$f":"IFERROR($E370*SUMIF('Daily Log'!$AC$18:$AC$1017,$B370,'Daily Log'!$AD$18:$AD$1017),0)","v":0},{"$f":"IFERROR($E370*SUMIF('Daily Log'!$AF$18:$AF$1017,$B370,'Daily Log'!$AG$18:$AG$1017),0)","v":0},{"$f":"IFERROR($E370*SUMIF('Daily Log'!$AI$18:$AI$1017,$B370,'Daily Log'!$AJ$18:$AJ$1017),0)","v":0},{"$f":"IFERROR($E370*SUMIF('Daily Log'!#REF!,$B370,'Daily Log'!#REF!),0)","v":0},{"$f":"IFERROR($E370*SUMIF('Daily Log'!#REF!,$B370,'Daily Log'!#REF!),0)","v":0},{"$f":"IFERROR($E370*SUMIF('Daily Log'!#REF!,$B370,'Daily Log'!#REF!),0)","v":0},{"$f":"IFERROR($E370*SUMIF('Daily Log'!#REF!,$B370,'Daily Log'!#REF!),0)","v":0},{"$f":"IFERROR($E370*SUMIF('Daily Log'!#REF!,$B370,'Daily Log'!#REF!),0)","v":0},{"$f":"IFERROR($E370*SUMIF('Daily Log'!#REF!,$B370,'Daily Log'!#REF!),0)","v":0},{"$f":"IFERROR($E370*SUMIF('Daily Log'!#REF!,$B370,'Daily Log'!#REF!),0)","v":0},{"$f":"IFERROR($E370*SUMIF('Daily Log'!#REF!,$B370,'Daily Log'!#REF!),0)","v":0},{"$f":"IFERROR($E370*SUMIF('Daily Log'!#REF!,$B370,'Daily Log'!#REF!),0)","v":0},{"$f":"IFERROR($E370*SUMIF('Daily Log'!#REF!,$B370,'Daily Log'!#REF!),0)","v":0},{"$f":"IFERROR($E370*SUMIF('Daily Log'!#REF!,$B370,'Daily Log'!#REF!),0)","v":0},{"$f":"IFERROR($E370*SUMIF('Daily Log'!#REF!,$B370,'Daily Log'!#REF!),0)","v":0},{"$f":"IFERROR($E370*SUMIF('Daily Log'!#REF!,$B370,'Daily Log'!#REF!),0)","v":0},{"$f":"IFERROR($E370*SUMIF('Daily Log'!#REF!,$B370,'Daily Log'!#REF!),0)","v":0},{"$f":"IFERROR($E370*SUMIF('Daily Log'!#REF!,$B370,'Daily Log'!#REF!),0)","v":0},{"$f":"IFERROR($E370*SUMIF('Daily Log'!#REF!,$B370,'Daily Log'!#REF!),0)","v":0},{"$f":"IFERROR($E370*SUMIF('Daily Log'!#REF!,$B370,'Daily Log'!#REF!),0)","v":0},{"$f":"IFERROR($E370*SUMIF('Daily Log'!#REF!,$B370,'Daily Log'!#REF!),0)","v":0},{"$f":"IFERROR($E370*SUMIF('Daily Log'!#REF!,$B370,'Daily Log'!#REF!),0)","v":0}]
[null,"ZAE02 HEI MEM EX BKT",null,null,1,0,{"$f":"IFERROR($E371*SUMIF('Daily Log'!$B$18:$B$1017,$B371,'Daily Log'!$C$18:$C$1017),0)","v":0},{"$f":"IFERROR($E371*SUMIF('Daily Log'!$E$18:$E$1017,$B371,'Daily Log'!$F$18:$F$1017),0)","v":0},{"$f":"IFERROR($E371*SUMIF('Daily Log'!$H$18:$H$1017,$B371,'Daily Log'!$I$18:$I$1017),0)","v":0},{"$f":"IFERROR($E371*SUMIF('Daily Log'!$K$18:$K$1017,$B371,'Daily Log'!$L$18:$L$1017),0)","v":0},{"$f":"IFERROR($E371*SUMIF('Daily Log'!$N$18:$N$1017,$B371,'Daily Log'!$O$18:$O$1017),0)","v":0},{"$f":"IFERROR($E371*SUMIF('Daily Log'!$Q$18:$Q$1017,$B371,'Daily Log'!$R$18:$R$1017),0)","v":0},{"$f":"IFERROR($E371*SUMIF('Daily Log'!$T$18:$T$1017,$B371,'Daily Log'!$U$18:$U$1017),0)","v":0},{"$f":"IFERROR($E371*SUMIF('Daily Log'!$W$18:$W$1017,$B371,'Daily Log'!$X$18:$X$1017),0)","v":0},{"$f":"IFERROR($E371*SUMIF('Daily Log'!$Z$18:$Z$1017,$B371,'Daily Log'!$AA$18:$AA$1017),0)","v":0},{"$f":"IFERROR($E371*SUMIF('Daily Log'!$AC$18:$AC$1017,$B371,'Daily Log'!$AD$18:$AD$1017),0)","v":0},{"$f":"IFERROR($E371*SUMIF('Daily Log'!$AF$18:$AF$1017,$B371,'Daily Log'!$AG$18:$AG$1017),0)","v":0},{"$f":"IFERROR($E371*SUMIF('Daily Log'!$AI$18:$AI$1017,$B371,'Daily Log'!$AJ$18:$AJ$1017),0)","v":0},{"$f":"IFERROR($E371*SUMIF('Daily Log'!#REF!,$B371,'Daily Log'!#REF!),0)","v":0},{"$f":"IFERROR($E371*SUMIF('Daily Log'!#REF!,$B371,'Daily Log'!#REF!),0)","v":0},{"$f":"IFERROR($E371*SUMIF('Daily Log'!#REF!,$B371,'Daily Log'!#REF!),0)","v":0},{"$f":"IFERROR($E371*SUMIF('Daily Log'!#REF!,$B371,'Daily Log'!#REF!),0)","v":0},{"$f":"IFERROR($E371*SUMIF('Daily Log'!#REF!,$B371,'Daily Log'!#REF!),0)","v":0},{"$f":"IFERROR($E371*SUMIF('Daily Log'!#REF!,$B371,'Daily Log'!#REF!),0)","v":0},{"$f":"IFERROR($E371*SUMIF('Daily Log'!#REF!,$B371,'Daily Log'!#REF!),0)","v":0},{"$f":"IFERROR($E371*SUMIF('Daily Log'!#REF!,$B371,'Daily Log'!#REF!),0)","v":0},{"$f":"IFERROR($E371*SUMIF('Daily Log'!#REF!,$B371,'Daily Log'!#REF!),0)","v":0},{"$f":"IFERROR($E371*SUMIF('Daily Log'!#REF!,$B371,'Daily Log'!#REF!),0)","v":0},{"$f":"IFERROR($E371*SUMIF('Daily Log'!#REF!,$B371,'Daily Log'!#REF!),0)","v":0},{"$f":"IFERROR($E371*SUMIF('Daily Log'!#REF!,$B371,'Daily Log'!#REF!),0)","v":0},{"$f":"IFERROR($E371*SUMIF('Daily Log'!#REF!,$B371,'Daily Log'!#REF!),0)","v":0},{"$f":"IFERROR($E371*SUMIF('Daily Log'!#REF!,$B371,'Daily Log'!#REF!),0)","v":0},{"$f":"IFERROR($E371*SUMIF('Daily Log'!#REF!,$B371,'Daily Log'!#REF!),0)","v":0},{"$f":"IFERROR($E371*SUMIF('Daily Log'!#REF!,$B371,'Daily Log'!#REF!),0)","v":0},{"$f":"IFERROR($E371*SUMIF('Daily Log'!#REF!,$B371,'Daily Log'!#REF!),0)","v":0},{"$f":"IFERROR($E371*SUMIF('Daily Log'!#REF!,$B371,'Daily Log'!#REF!),0)","v":0},{"$f":"IFERROR($E371*SUMIF('Daily Log'!#REF!,$B371,'Daily Log'!#REF!),0)","v":0}]
[null,"ZZZZZ CHANGE MEM",null,null,1,0,{"$f":"IFERROR($E372*SUMIF('Daily Log'!$B$18:$B$1017,$B372,'Daily Log'!$C$18:$C$1017),0)","v":0},{"$f":"IFERROR($E372*SUMIF('Daily Log'!$E$18:$E$1017,$B372,'Daily Log'!$F$18:$F$1017),0)","v":0},{"$f":"IFERROR($E372*SUMIF('Daily Log'!$H$18:$H$1017,$B372,'Daily Log'!$I$18:$I$1017),0)","v":0},{"$f":"IFERROR($E372*SUMIF('Daily Log'!$K$18:$K$1017,$B372,'Daily Log'!$L$18:$L$1017),0)","v":0},{"$f":"IFERROR($E372*SUMIF('Daily Log'!$N$18:$N$1017,$B372,'Daily Log'!$O$18:$O$1017),0)","v":0},{"$f":"IFERROR($E372*SUMIF('Daily Log'!$Q$18:$Q$1017,$B372,'Daily Log'!$R$18:$R$1017),0)","v":0},{"$f":"IFERROR($E372*SUMIF('Daily Log'!$T$18:$T$1017,$B372,'Daily Log'!$U$18:$U$1017),0)","v":0},{"$f":"IFERROR($E372*SUMIF('Daily Log'!$W$18:$W$1017,$B372,'Daily Log'!$X$18:$X$1017),0)","v":0},{"$f":"IFERROR($E372*SUMIF('Daily Log'!$Z$18:$Z$1017,$B372,'Daily Log'!$AA$18:$AA$1017),0)","v":0},{"$f":"IFERROR($E372*SUMIF('Daily Log'!$AC$18:$AC$1017,$B372,'Daily Log'!$AD$18:$AD$1017),0)","v":0},{"$f":"IFERROR($E372*SUMIF('Daily Log'!$AF$18:$AF$1017,$B372,'Daily Log'!$AG$18:$AG$1017),0)","v":0},{"$f":"IFERROR($E372*SUMIF('Daily Log'!$AI$18:$AI$1017,$B372,'Daily Log'!$AJ$18:$AJ$1017),0)","v":0},{"$f":"IFERROR($E372*SUMIF('Daily Log'!#REF!,$B372,'Daily Log'!#REF!),0)","v":0},{"$f":"IFERROR($E372*SUMIF('Daily Log'!#REF!,$B372,'Daily Log'!#REF!),0)","v":0},{"$f":"IFERROR($E372*SUMIF('Daily Log'!#REF!,$B372,'Daily Log'!#REF!),0)","v":0},{"$f":"IFERROR($E372*SUMIF('Daily Log'!#REF!,$B372,'Daily Log'!#REF!),0)","v":0},{"$f":"IFERROR($E372*SUMIF('Daily Log'!#REF!,$B372,'Daily Log'!#REF!),0)","v":0},{"$f":"IFERROR($E372*SUMIF('Daily Log'!#REF!,$B372,'Daily Log'!#REF!),0)","v":0},{"$f":"IFERROR($E372*SUMIF('Daily Log'!#REF!,$B372,'Daily Log'!#REF!),0)","v":0},{"$f":"IFERROR($E372*SUMIF('Daily Log'!#REF!,$B372,'Daily Log'!#REF!),0)","v":0},{"$f":"IFERROR($E372*SUMIF('Daily Log'!#REF!,$B372,'Daily Log'!#REF!),0)","v":0},{"$f":"IFERROR($E372*SUMIF('Daily Log'!#REF!,$B372,'Daily Log'!#REF!),0)","v":0},{"$f":"IFERROR($E372*SUMIF('Daily Log'!#REF!,$B372,'Daily Log'!#REF!),0)","v":0},{"$f":"IFERROR($E372*SUMIF('Daily Log'!#REF!,$B372,'Daily Log'!#REF!),0)","v":0},{"$f":"IFERROR($E372*SUMIF('Daily Log'!#REF!,$B372,'Daily Log'!#REF!),0)","v":0},{"$f":"IFERROR($E372*SUMIF('Daily Log'!#REF!,$B372,'Daily Log'!#REF!),0)","v":0},{"$f":"IFERROR($E372*SUMIF('Daily Log'!#REF!,$B372,'Daily Log'!#REF!),0)","v":0},{"$f":"IFERROR($E372*SUMIF('Daily Log'!#REF!,$B372,'Daily Log'!#REF!),0)","v":0},{"$f":"IFERROR($E372*SUMIF('Daily Log'!#REF!,$B372,'Daily Log'!#REF!),0)","v":0},{"$f":"IFERROR($E372*SUMIF('Daily Log'!#REF!,$B372,'Daily Log'!#REF!),0)","v":0},{"$f":"IFERROR($E372*SUMIF('Daily Log'!#REF!,$B372,'Daily Log'!#REF!),0)","v":0}]
[null,"ZAD16 RECEPT",null,null,null,{"$f":"SUM($G373:$AK373)","v":0},{"$f":"IFERROR($E373*SUMIF('Daily Log'!$B$18:$B$1017,$B373,'Daily Log'!$C$18:$C$1017),0)","v":0},{"$f":"IFERROR($E373*SUMIF('Daily Log'!$E$18:$E$1017,$B373,'Daily Log'!$F$18:$F$1017),0)","v":0},{"$f":"IFERROR($E373*SUMIF('Daily Log'!$H$18:$H$1017,$B373,'Daily Log'!$I$18:$I$1017),0)","v":0},{"$f":"IFERROR($E373*SUMIF('Daily Log'!$K$18:$K$1017,$B373,'Daily Log'!$L$18:$L$1017),0)","v":0},{"$f":"IFERROR($E373*SUMIF('Daily Log'!$N$18:$N$1017,$B373,'Daily Log'!$O$18:$O$1017),0)","v":0},{"$f":"IFERROR($E373*SUMIF('Daily Log'!$Q$18:$Q$1017,$B373,'Daily Log'!$R$18:$R$1017),0)","v":0},{"$f":"IFERROR($E373*SUMIF('Daily Log'!$T$18:$T$1017,$B373,'Daily Log'!$U$18:$U$1017),0)","v":0},{"$f":"IFERROR($E373*SUMIF('Daily Log'!$W$18:$W$1017,$B373,'Daily Log'!$X$18:$X$1017),0)","v":0},{"$f":"IFERROR($E373*SUMIF('Daily Log'!$Z$18:$Z$1017,$B373,'Daily Log'!$AA$18:$AA$1017),0)","v":0},{"$f":"IFERROR($E373*SUMIF('Daily Log'!$AC$18:$AC$1017,$B373,'Daily Log'!$AD$18:$AD$1017),0)","v":0},{"$f":"IFERROR($E373*SUMIF('Daily Log'!$AF$18:$AF$1017,$B373,'Daily Log'!$AG$18:$AG$1017),0)","v":0},{"$f":"IFERROR($E373*SUMIF('Daily Log'!$AI$18:$AI$1017,$B373,'Daily Log'!$AJ$18:$AJ$1017),0)","v":0},{"$f":"IFERROR($E373*SUMIF('Daily Log'!#REF!,$B373,'Daily Log'!#REF!),0)","v":0},{"$f":"IFERROR($E373*SUMIF('Daily Log'!#REF!,$B373,'Daily Log'!#REF!),0)","v":0},{"$f":"IFERROR($E373*SUMIF('Daily Log'!#REF!,$B373,'Daily Log'!#REF!),0)","v":0},{"$f":"IFERROR($E373*SUMIF('Daily Log'!#REF!,$B373,'Daily Log'!#REF!),0)","v":0},{"$f":"IFERROR($E373*SUMIF('Daily Log'!#REF!,$B373,'Daily Log'!#REF!),0)","v":0},{"$f":"IFERROR($E373*SUMIF('Daily Log'!#REF!,$B373,'Daily Log'!#REF!),0)","v":0},{"$f":"IFERROR($E373*SUMIF('Daily Log'!#REF!,$B373,'Daily Log'!#REF!),0)","v":0},{"$f":"IFERROR($E373*SUMIF('Daily Log'!#REF!,$B373,'Daily Log'!#REF!),0)","v":0},{"$f":"IFERROR($E373*SUMIF('Daily Log'!#REF!,$B373,'Daily Log'!#REF!),0)","v":0},{"$f":"IFERROR($E373*SUMIF('Daily Log'!#REF!,$B373,'Daily Log'!#REF!),0)","v":0},{"$f":"IFERROR($E373*SUMIF('Daily Log'!#REF!,$B373,'Daily Log'!#REF!),0)","v":0},{"$f":"IFERROR($E373*SUMIF('Daily Log'!#REF!,$B373,'Daily Log'!#REF!),0)","v":0},{"$f":"IFERROR($E373*SUMIF('Daily Log'!#REF!,$B373,'Daily Log'!#REF!),0)","v":0},{"$f":"IFERROR($E373*SUMIF('Daily Log'!#REF!,$B373,'Daily Log'!#REF!),0)","v":0},{"$f":"IFERROR($E373*SUMIF('Daily Log'!#REF!,$B373,'Daily Log'!#REF!),0)","v":0},{"$f":"IFERROR($E373*SUMIF('Daily Log'!#REF!,$B373,'Daily Log'!#REF!),0)","v":0},{"$f":"IFERROR($E373*SUMIF('Daily Log'!#REF!,$B373,'Daily Log'!#REF!),0)","v":0},{"$f":"IFERROR($E373*SUMIF('Daily Log'!#REF!,$B373,'Daily Log'!#REF!),0)","v":0},{"$f":"IFERROR($E373*SUMIF('Daily Log'!#REF!,$B373,'Daily Log'!#REF!),0)","v":0}]
[null,"ZZZZZ CHANGE TO FOC",null,null,null,0,{"$f":"IFERROR($E374*SUMIF('Daily Log'!$B$18:$B$1017,$B374,'Daily Log'!$C$18:$C$1017),0)","v":0},{"$f":"IFERROR($E374*SUMIF('Daily Log'!$E$18:$E$1017,$B374,'Daily Log'!$F$18:$F$1017),0)","v":0},{"$f":"IFERROR($E374*SUMIF('Daily Log'!$H$18:$H$1017,$B374,'Daily Log'!$I$18:$I$1017),0)","v":0},{"$f":"IFERROR($E374*SUMIF('Daily Log'!$K$18:$K$1017,$B374,'Daily Log'!$L$18:$L$1017),0)","v":0},{"$f":"IFERROR($E374*SUMIF('Daily Log'!$N$18:$N$1017,$B374,'Daily Log'!$O$18:$O$1017),0)","v":0},{"$f":"IFERROR($E374*SUMIF('Daily Log'!$Q$18:$Q$1017,$B374,'Daily Log'!$R$18:$R$1017),0)","v":0},{"$f":"IFERROR($E374*SUMIF('Daily Log'!$T$18:$T$1017,$B374,'Daily Log'!$U$18:$U$1017),0)","v":0},{"$f":"IFERROR($E374*SUMIF('Daily Log'!$W$18:$W$1017,$B374,'Daily Log'!$X$18:$X$1017),0)","v":0},{"$f":"IFERROR($E374*SUMIF('Daily Log'!$Z$18:$Z$1017,$B374,'Daily Log'!$AA$18:$AA$1017),0)","v":0},{"$f":"IFERROR($E374*SUMIF('Daily Log'!$AC$18:$AC$1017,$B374,'Daily Log'!$AD$18:$AD$1017),0)","v":0},{"$f":"IFERROR($E374*SUMIF('Daily Log'!$AF$18:$AF$1017,$B374,'Daily Log'!$AG$18:$AG$1017),0)","v":0},{"$f":"IFERROR($E374*SUMIF('Daily Log'!$AI$18:$AI$1017,$B374,'Daily Log'!$AJ$18:$AJ$1017),0)","v":0},{"$f":"IFERROR($E374*SUMIF('Daily Log'!#REF!,$B374,'Daily Log'!#REF!),0)","v":0},{"$f":"IFERROR($E374*SUMIF('Daily Log'!#REF!,$B374,'Daily Log'!#REF!),0)","v":0},{"$f":"IFERROR($E374*SUMIF('Daily Log'!#REF!,$B374,'Daily Log'!#REF!),0)","v":0},{"$f":"IFERROR($E374*SUMIF('Daily Log'!#REF!,$B374,'Daily Log'!#REF!),0)","v":0},{"$f":"IFERROR($E374*SUMIF('Daily Log'!#REF!,$B374,'Daily Log'!#REF!),0)","v":0},{"$f":"IFERROR($E374*SUMIF('Daily Log'!#REF!,$B374,'Daily Log'!#REF!),0)","v":0},{"$f":"IFERROR($E374*SUMIF('Daily Log'!#REF!,$B374,'Daily Log'!#REF!),0)","v":0},{"$f":"IFERROR($E374*SUMIF('Daily Log'!#REF!,$B374,'Daily Log'!#REF!),0)","v":0},{"$f":"IFERROR($E374*SUMIF('Daily Log'!#REF!,$B374,'Daily Log'!#REF!),0)","v":0},{"$f":"IFERROR($E374*SUMIF('Daily Log'!#REF!,$B374,'Daily Log'!#REF!),0)","v":0},{"$f":"IFERROR($E374*SUMIF('Daily Log'!#REF!,$B374,'Daily Log'!#REF!),0)","v":0},{"$f":"IFERROR($E374*SUMIF('Daily Log'!#REF!,$B374,'Daily Log'!#REF!),0)","v":0},{"$f":"IFERROR($E374*SUMIF('Daily Log'!#REF!,$B374,'Daily Log'!#REF!),0)","v":0},{"$f":"IFERROR($E374*SUMIF('Daily Log'!#REF!,$B374,'Daily Log'!#REF!),0)","v":0},{"$f":"IFERROR($E374*SUMIF('Daily Log'!#REF!,$B374,'Daily Log'!#REF!),0)","v":0},{"$f":"IFERROR($E374*SUMIF('Daily Log'!#REF!,$B374,'Daily Log'!#REF!),0)","v":0},{"$f":"IFERROR($E374*SUMIF('Daily Log'!#REF!,$B374,'Daily Log'!#REF!),0)","v":0},{"$f":"IFERROR($E374*SUMIF('Daily Log'!#REF!,$B374,'Daily Log'!#REF!),0)","v":0},{"$f":"IFERROR($E374*SUMIF('Daily Log'!#REF!,$B374,'Daily Log'!#REF!),0)","v":0}]
[null,"ZAD16 2BIJI ICE",null,null,null,0,{"$f":"IFERROR($E375*SUMIF('Daily Log'!$B$18:$B$1017,$B375,'Daily Log'!$C$18:$C$1017),0)","v":0},{"$f":"IFERROR($E375*SUMIF('Daily Log'!$E$18:$E$1017,$B375,'Daily Log'!$F$18:$F$1017),0)","v":0},{"$f":"IFERROR($E375*SUMIF('Daily Log'!$H$18:$H$1017,$B375,'Daily Log'!$I$18:$I$1017),0)","v":0},{"$f":"IFERROR($E375*SUMIF('Daily Log'!$K$18:$K$1017,$B375,'Daily Log'!$L$18:$L$1017),0)","v":0},{"$f":"IFERROR($E375*SUMIF('Daily Log'!$N$18:$N$1017,$B375,'Daily Log'!$O$18:$O$1017),0)","v":0},{"$f":"IFERROR($E375*SUMIF('Daily Log'!$Q$18:$Q$1017,$B375,'Daily Log'!$R$18:$R$1017),0)","v":0},{"$f":"IFERROR($E375*SUMIF('Daily Log'!$T$18:$T$1017,$B375,'Daily Log'!$U$18:$U$1017),0)","v":0},{"$f":"IFERROR($E375*SUMIF('Daily Log'!$W$18:$W$1017,$B375,'Daily Log'!$X$18:$X$1017),0)","v":0},{"$f":"IFERROR($E375*SUMIF('Daily Log'!$Z$18:$Z$1017,$B375,'Daily Log'!$AA$18:$AA$1017),0)","v":0},{"$f":"IFERROR($E375*SUMIF('Daily Log'!$AC$18:$AC$1017,$B375,'Daily Log'!$AD$18:$AD$1017),0)","v":0},{"$f":"IFERROR($E375*SUMIF('Daily Log'!$AF$18:$AF$1017,$B375,'Daily Log'!$AG$18:$AG$1017),0)","v":0},{"$f":"IFERROR($E375*SUMIF('Daily Log'!$AI$18:$AI$1017,$B375,'Daily Log'!$AJ$18:$AJ$1017),0)","v":0},{"$f":"IFERROR($E375*SUMIF('Daily Log'!#REF!,$B375,'Daily Log'!#REF!),0)","v":0},{"$f":"IFERROR($E375*SUMIF('Daily Log'!#REF!,$B375,'Daily Log'!#REF!),0)","v":0},{"$f":"IFERROR($E375*SUMIF('Daily Log'!#REF!,$B375,'Daily Log'!#REF!),0)","v":0},{"$f":"IFERROR($E375*SUMIF('Daily Log'!#REF!,$B375,'Daily Log'!#REF!),0)","v":0},{"$f":"IFERROR($E375*SUMIF('Daily Log'!#REF!,$B375,'Daily Log'!#REF!),0)","v":0},{"$f":"IFERROR($E375*SUMIF('Daily Log'!#REF!,$B375,'Daily Log'!#REF!),0)","v":0},{"$f":"IFERROR($E375*SUMIF('Daily Log'!#REF!,$B375,'Daily Log'!#REF!),0)","v":0},{"$f":"IFERROR($E375*SUMIF('Daily Log'!#REF!,$B375,'Daily Log'!#REF!),0)","v":0},{"$f":"IFERROR($E375*SUMIF('Daily Log'!#REF!,$B375,'Daily Log'!#REF!),0)","v":0},{"$f":"IFERROR($E375*SUMIF('Daily Log'!#REF!,$B375,'Daily Log'!#REF!),0)","v":0},{"$f":"IFERROR($E375*SUMIF('Daily Log'!#REF!,$B375,'Daily Log'!#REF!),0)","v":0},{"$f":"IFERROR($E375*SUMIF('Daily Log'!#REF!,$B375,'Daily Log'!#REF!),0)","v":0},{"$f":"IFERROR($E375*SUMIF('Daily Log'!#REF!,$B375,'Daily Log'!#REF!),0)","v":0},{"$f":"IFERROR($E375*SUMIF('Daily Log'!#REF!,$B375,'Daily Log'!#REF!),0)","v":0},{"$f":"IFERROR($E375*SUMIF('Daily Log'!#REF!,$B375,'Daily Log'!#REF!),0)","v":0},{"$f":"IFERROR($E375*SUMIF('Daily Log'!#REF!,$B375,'Daily Log'!#REF!),0)","v":0},{"$f":"IFERROR($E375*SUMIF('Daily Log'!#REF!,$B375,'Daily Log'!#REF!),0)","v":0},{"$f":"IFERROR($E375*SUMIF('Daily Log'!#REF!,$B375,'Daily Log'!#REF!),0)","v":0},{"$f":"IFERROR($E375*SUMIF('Daily Log'!#REF!,$B375,'Daily Log'!#REF!),0)","v":0}]
[null,"ZZZZZ CHANGE BDAY",null,null,null,0,{"$f":"IFERROR($E376*SUMIF('Daily Log'!$B$18:$B$1017,$B376,'Daily Log'!$C$18:$C$1017),0)","v":0},{"$f":"IFERROR($E376*SUMIF('Daily Log'!$E$18:$E$1017,$B376,'Daily Log'!$F$18:$F$1017),0)","v":0},{"$f":"IFERROR($E376*SUMIF('Daily Log'!$H$18:$H$1017,$B376,'Daily Log'!$I$18:$I$1017),0)","v":0},{"$f":"IFERROR($E376*SUMIF('Daily Log'!$K$18:$K$1017,$B376,'Daily Log'!$L$18:$L$1017),0)","v":0},{"$f":"IFERROR($E376*SUMIF('Daily Log'!$N$18:$N$1017,$B376,'Daily Log'!$O$18:$O$1017),0)","v":0},{"$f":"IFERROR($E376*SUMIF('Daily Log'!$Q$18:$Q$1017,$B376,'Daily Log'!$R$18:$R$1017),0)","v":0},{"$f":"IFERROR($E376*SUMIF('Daily Log'!$T$18:$T$1017,$B376,'Daily Log'!$U$18:$U$1017),0)","v":0},{"$f":"IFERROR($E376*SUMIF('Daily Log'!$W$18:$W$1017,$B376,'Daily Log'!$X$18:$X$1017),0)","v":0},{"$f":"IFERROR($E376*SUMIF('Daily Log'!$Z$18:$Z$1017,$B376,'Daily Log'!$AA$18:$AA$1017),0)","v":0},{"$f":"IFERROR($E376*SUMIF('Daily Log'!$AC$18:$AC$1017,$B376,'Daily Log'!$AD$18:$AD$1017),0)","v":0},{"$f":"IFERROR($E376*SUMIF('Daily Log'!$AF$18:$AF$1017,$B376,'Daily Log'!$AG$18:$AG$1017),0)","v":0},{"$f":"IFERROR($E376*SUMIF('Daily Log'!$AI$18:$AI$1017,$B376,'Daily Log'!$AJ$18:$AJ$1017),0)","v":0},{"$f":"IFERROR($E376*SUMIF('Daily Log'!#REF!,$B376,'Daily Log'!#REF!),0)","v":0},{"$f":"IFERROR($E376*SUMIF('Daily Log'!#REF!,$B376,'Daily Log'!#REF!),0)","v":0},{"$f":"IFERROR($E376*SUMIF('Daily Log'!#REF!,$B376,'Daily Log'!#REF!),0)","v":0},{"$f":"IFERROR($E376*SUMIF('Daily Log'!#REF!,$B376,'Daily Log'!#REF!),0)","v":0},{"$f":"IFERROR($E376*SUMIF('Daily Log'!#REF!,$B376,'Daily Log'!#REF!),0)","v":0},{"$f":"IFERROR($E376*SUMIF('Daily Log'!#REF!,$B376,'Daily Log'!#REF!),0)","v":0},{"$f":"IFERROR($E376*SUMIF('Daily Log'!#REF!,$B376,'Daily Log'!#REF!),0)","v":0},{"$f":"IFERROR($E376*SUMIF('Daily Log'!#REF!,$B376,'Daily Log'!#REF!),0)","v":0},{"$f":"IFERROR($E376*SUMIF('Daily Log'!#REF!,$B376,'Daily Log'!#REF!),0)","v":0},{"$f":"IFERROR($E376*SUMIF('Daily Log'!#REF!,$B376,'Daily Log'!#REF!),0)","v":0},{"$f":"IFERROR($E376*SUMIF('Daily Log'!#REF!,$B376,'Daily Log'!#REF!),0)","v":0},{"$f":"IFERROR($E376*SUMIF('Daily Log'!#REF!,$B376,'Daily Log'!#REF!),0)","v":0},{"$f":"IFERROR($E376*SUMIF('Daily Log'!#REF!,$B376,'Daily Log'!#REF!),0)","v":0},{"$f":"IFERROR($E376*SUMIF('Daily Log'!#REF!,$B376,'Daily Log'!#REF!),0)","v":0},{"$f":"IFERROR($E376*SUMIF('Daily Log'!#REF!,$B376,'Daily Log'!#REF!),0)","v":0},{"$f":"IFERROR($E376*SUMIF('Daily Log'!#REF!,$B376,'Daily Log'!#REF!),0)","v":0},{"$f":"IFERROR($E376*SUMIF('Daily Log'!#REF!,$B376,'Daily Log'!#REF!),0)","v":0},{"$f":"IFERROR($E376*SUMIF('Daily Log'!#REF!,$B376,'Daily Log'!#REF!),0)","v":0},{"$f":"IFERROR($E376*SUMIF('Daily Log'!#REF!,$B376,'Daily Log'!#REF!),0)","v":0}]
[]
[null,"Copyright © 2013 by Oracle Symphony Sdn Bhd"]

{"sheet":"Daily Log","index":1,"n_rows":1019,"n_cols":36,"rows_kept":1019,"cut":false,"hidden":false,"merged":[[5,2,5,4],[7,2,7,4],[9,2,9,4]]}
[]
[]
[null,null,"DAILY LOG OF PRODUCT SALES"]
[]
[]
[null,"OUTLET",{"$f":"Summary!C6","v":"CCS"}]
[]
[null,"YEAR",{"$f":"Summary!C8","v":"2013"}]
[]
[null,"MONTH",{"$f":"Summary!C10","v":"MAY"}]
[]
[]
[]
[{"$f":"IFERROR(INDEX(#REF!,MAX($B$17:$AK$17),1),\"\")","v":""},{"$f":"\"DATE  \"&TEXT(Summary!G27,\"DD / MM / YYYY\")","v":"DATE  01 / 05 / 2013"},null,null,{"$f":"\"DATE  \"&TEXT(Summary!H27,\"DD / MM / YYYY\")","v":"DATE  02 / 05 / 2013"},null,null,{"$f":"\"DATE  \"&TEXT(Summary!I27,\"DD / MM / YYYY\")","v":"DATE  03 / 05 / 2013"},null,null,{"$f":"\"DATE  \"&TEXT(Summary!J27,\"DD / MM / YYYY\")","v":"DATE  04 / 05 / 2013"},null,null,{"$f":"\"DATE  \"&TEXT(Summary!K27,\"DD / MM / YYYY\")","v":"DATE  05 / 05 / 2013"},null,null,{"$f":"\"DATE  \"&TEXT(Summary!L27,\"DD / MM / YYYY\")","v":"DATE  06 / 05 / 2013"},null,null,{"$f":"\"DATE  \"&TEXT(Summary!M27,\"DD / MM / YYYY\")","v":"DATE  07 / 05 / 2013"},null,null,{"$f":"\"DATE  \"&TEXT(Summary!N27,\"DD / MM / YYYY\")","v":"DATE  08 / 05 / 2013"},null,null,{"$f":"\"DATE  \"&TEXT(Summary!O27,\"DD / MM / YYYY\")","v":"DATE  09 / 05 / 2013"},null,null,{"$f":"\"DATE  \"&TEXT(Summary!P27,\"DD / MM / YYYY\")","v":"DATE  10 / 05 / 2013"},null,null,{"$f":"\"DATE  \"&TEXT(Summary!Q27,\"DD / MM / YYYY\")","v":"DATE  11 / 05 / 2013"},null,null,{"$f":"\"DATE  \"&TEXT(Summary!R27,\"DD / MM / YYYY\")","v":"DATE  12 / 05 / 2013"}]
[]
[null,"PRODUCT","QUANTITY",null,"PRODUCT","QUANTITY",null,"PRODUCT","QUANTITY",null,"PRODUCT","QUANTITY",null,"PRODUCT","QUANTITY",null,"PRODUCT","QUANTITY",null,"PRODUCT","QUANTITY",null,"PRODUCT","QUANTITY",null,"PRODUCT","QUANTITY",null,"PRODUCT","QUANTITY",null,"PRODUCT","QUANTITY",null,"PRODUCT","QUANTITY"]
[null,{"$f":"IF(B18<>\"\",1,0)","v":0},null,null,{"$f":"IF(E18<>\"\",2,0)","v":0},null,null,{"$f":"IF(H18<>\"\",3,0)","v":0},null,null,{"$f":"IF(K18<>\"\",4,0)","v":0},null,null,{"$f":"IF(N18<>\"\",5,0)","v":0},null,null,{"$f":"IF(Q18<>\"\",6,0)","v":6},null,null,{"$f":"IF(T18<>\"\",7,0)","v":7},null,null,{"$f":"IF(W18<>\"\",8,0)","v":8},null,null,{"$f":"IF(Z18<>\"\",9,0)","v":9},null,null,{"$f":"IF(AC18<>\"\",10,0)","v":10},null,null,{"$f":"IF(AF18<>\"\",11,0)","v":11},null,null,{"$f":"IF(AI18<>\"\",12,0)","v":12}]
[{"$f":"IFERROR(IF(INDIRECT($A$14&ROW())<>\"\",COUNTIF(Summary!$B$30:$B$1029,INDIRECT($A$14&ROW())),\"\"),\"\")","v":""},null,null,null,null,null,null,null,null,null,null,null,null,null,null,null,"AA04 K-LUNCH",34,null,"AA01 K : REGULAR",1,null,"AA04 K-LUNCH",18,null,"AA04 K-LUNCH",15,null,"AA04 K-LUNCH",7,null,"AA04 K-LUNCH",24,null,"AA04 K-LUNCH",73]
[{"$f":"IFERROR(IF(INDIRECT($A$14&ROW())<>\"\",COUNTIF(Summary!$B$30:$B$1029,INDIRECT($A$14&ROW())),\"\"),\"\")","v":""},null,null,null,null,null,null,null,null,null,null,null,null,null,null,null,"AB01 H : REGULAR",50,null,"AA02 K : MEMBER",1,null,"AA11 K : FREEHEAD (R)",1,null,"AA06 K : MEMBER B'DAY",1,null,"AB01 H : REGULAR",14,null,"AA05 K : CHILDREN",1,null,"AA05 K : CHILDREN",5]
[{"$f":"IFERROR(IF(INDIRECT($A$14&ROW())<>\"\",COUNTIF(Summary!$B$30:$B$1029,INDIRECT($A$14&ROW())),\"\"),\"\")","v":""},null,null,null,null,null,null,null,null,null,null,null,null,null,null,null,"AB02 H : MEMBER",3,null,"AA04 K-LUNCH",11,null,"AB01 H : REGULAR",7,null,"AB01 H : REGULAR",24,null,"AB05 H : STUDENT",33,null,"AB01 H : REGULAR",29,null,"AA06 K : MEMBER B'DAY",1]
[{"$f":"IFERROR(IF(INDIRECT($A$14&ROW())<>\"\",COUNTIF(Summary!$B$30:$B$1029,INDIRECT($A$14&ROW())),\"\"),\"\")","v":""},null,null,null,null,null,null,null,null,null,null,null,null,null,null,null,"AB05 H : STUDENT",20,null,"AB01 H : REGULAR",23,null,"AB02 H : MEMBER",8,null,"AB05 H : STUDENT",13,null,"AB50 H:Student Mem",1,null,"AB02 H : MEMBER",5,null,"AA08 K : FOC HEAD"]
[{"$f":"IFERROR(IF(INDIRECT($A$14&ROW())<>\"\",COUNTIF(Summary!$B$30:$B$1029,INDIRECT($A$14&ROW())),\"\"),\"\")","v":""},null,null,null,null,null,null,null,null,null,null,null,null,null,null,null,"AB07 H : CHILDREN",2,null,"AB03 H : MEMBER 30%",10,null,"AB05 H : STUDENT",19,null,"AB50 H:Student Mem",5,null,"AC01 N : REGULAR",129,null,"AB07 H : CHILDREN",2,null,"AB01 H : REGULAR",40]
[{"$f":"IFERROR(IF(INDIRECT($A$14&ROW())<>\"\",COUNTIF(Summary!$B$30:$B$1029,INDIRECT($A$14&ROW())),\"\"),\"\")","v":""},null,null,null,null,null,null,null,null,null,null,null,null,null,null,null,"AB08 H : MEMBER B'DAY",1,null,"AB05 H : STUDENT",21,null,"AC01 N : REGULAR",42,null,"AC01 N : REGULAR",50,null,"AC02 N : MEMBER",56,null,"AB08 H : MEMBER B'DAY",1,null,"AB02 H : MEMBER",4]
[{"$f":"IFERROR(IF(INDIRECT($A$14&ROW())<>\"\",COUNTIF(Summary!$B$30:$B$1029,INDIRECT($A$14&ROW())),\"\"),\"\")","v":""},null,null,null,null,null,null,null,null,null,null,null,null,null,null,null,"AB17 H : XTD S ROOM",1,null,"AB07 H : CHILDREN",2,null,"AC02 N : MEMBER",12,null,"AC02 N : MEMBER",12,null,"AC05 K-DINNER",16,null,"AB13 H : FREEHEAD (R)",null,null,"AB07 H : CHILDREN",10]
[{"$f":"IFERROR(IF(INDIRECT($A$14&ROW())<>\"\",COUNTIF(Summary!$B$30:$B$1029,INDIRECT($A$14&ROW())),\"\"),\"\")","v":""},null,null,null,null,null,null,null,null,null,null,null,null,null,null,null,"AC01 N : REGULAR",26,null,"AB50 H:Student Mem",4,null,"AC05 K-DINNER",7,null,"AC05 K-DINNER",32,null,"AC06 N : CHILDREN",2,null,"AC01 N : REGULAR",112,null,"AB08 H : MEMBER B'DAY"]
[{"$f":"IFERROR(IF(INDIRECT($A$14&ROW())<>\"\",COUNTIF(Summary!$B$30:$B$1029,INDIRECT($A$14&ROW())),\"\"),\"\")","v":""},null,null,null,null,null,null,null,null,null,null,null,null,null,null,null,"AC02 N : MEMBER",11,null,"AC01 N : REGULAR",19,null,"AC07 N : MEMBER B'DAY",2,null,"AC12 N : FREEHEAD (R)",2,null,"AC07 N : MEMBER B'DAY",2,null,"AC02 N : MEMBER",54,null,"AB10 H : FOC HEAD",2]
[{"$f":"IFERROR(IF(INDIRECT($A$14&ROW())<>\"\",COUNTIF(Summary!$B$30:$B$1029,INDIRECT($A$14&ROW())),\"\"),\"\")","v":""},null,null,null,null,null,null,null,null,null,null,null,null,null,null,null,"AC05 K-DINNER",24,null,"AC03 N : MEMBER 30%",26,null,"AC10 N : FREEHEAD (B)",1,null,"AC17 N : XTD S ROOM",1,null,"AC12 N : FREEHEAD (R)",1,null,"AC05 K-DINNER",34,null,"AB13 H : FREEHEAD (R)",2]
[{"$f":"IFERROR(IF(INDIRECT($A$14&ROW())<>\"\",COUNTIF(Summary!$B$30:$B$1029,INDIRECT($A$14&ROW())),\"\"),\"\")","v":""},null,null,null,null,null,null,null,null,null,null,null,null,null,null,null,"AC06 N : CHILDREN",2,null,"AC05 K-DINNER",21,null,"AC12 N : FREEHEAD (R)",3,null,"AC18 N : XTD M ROOM",1,null,"AC18 N : XTD M ROOM",1,null,"AC06 N : CHILDREN",6,null,"AC01 N : REGULAR",59]
[{"$f":"IFERROR(IF(INDIRECT($A$14&ROW())<>\"\",COUNTIF(Summary!$B$30:$B$1029,INDIRECT($A$14&ROW())),\"\"),\"\")","v":""},null,null,null,null,null,null,null,null,null,null,null,null,null,null,null,"AC12 N : FREEHEAD (R)",null,null,"AC07 N : MEMBER B'DAY",1,null,"AD01 M : REGULAR",2,null,"AC29 N :58",78,null,"AC19 N : XTD B ROOM",2,null,"AC07 N : MEMBER B'DAY",3,null,"AC02 N : MEMBER",12]
[{"$f":"IFERROR(IF(INDIRECT($A$14&ROW())<>\"\",COUNTIF(Summary!$B$30:$B$1029,INDIRECT($A$14&ROW())),\"\"),\"\")","v":""},null,null,null,null,null,null,null,null,null,null,null,null,null,null,null,"AD01 M : REGULAR",3,null,"AC18 N : XTD M ROOM",1,null,"AD02 M : MEMBER",2,null,"AD01 M : REGULAR",14,null,"AC29 N :58",103,null,"AC12 N : FREEHEAD (R)",3,null,"AC05 K-DINNER",22]
[{"$f":"IFERROR(IF(INDIRECT($A$14&ROW())<>\"\",COUNTIF(Summary!$B$30:$B$1029,INDIRECT($A$14&ROW())),\"\"),\"\")","v":""},null,null,null,null,null,null,null,null,null,null,null,null,null,null,null,"AD05 M : LADIES",9,null,"AD01 M : REGULAR",2,null,"AD05 M : LADIES",2,null,"AD05 M : LADIES",17,null,"AD01 M : REGULAR",13,null,"AC17 N : XTD S ROOM",1,null,"AC06 N : CHILDREN",2]
[{"$f":"IFERROR(IF(INDIRECT($A$14&ROW())<>\"\",COUNTIF(Summary!$B$30:$B$1029,INDIRECT($A$14&ROW())),\"\"),\"\")","v":""},null,null,null,null,null,null,null,null,null,null,null,null,null,null,null,"BA04 N : 4BP",4,null,"AD05 M : LADIES",2,null,"AD06 M : CHILDREN",1,null,"AD15 M : XTD S ROOM",1,null,"AD02 M : MEMBER",16,null,"AC18 N : XTD M ROOM",2,null,"AC12 N : FREEHEAD (R)",2]
[{"$f":"IFERROR(IF(INDIRECT($A$14&ROW())<>\"\",COUNTIF(Summary!$B$30:$B$1029,INDIRECT($A$14&ROW())),\"\"),\"\")","v":""},null,null,null,null,null,null,null,null,null,null,null,null,null,null,null,"BA14 TIGER BTL",5,null,"BA10 GUINNESS RND",1,null,"BA16 TIGER RND",1,null,"BA02 H : 4BP",1,null,"BA04 N : 4BP",5,null,"AC29 N :58",79,null,"AC17 N : XTD S ROOM",1]
[{"$f":"IFERROR(IF(INDIRECT($A$14&ROW())<>\"\",COUNTIF(Summary!$B$30:$B$1029,INDIRECT($A$14&ROW())),\"\"),\"\")","v":""},null,null,null,null,null,null,null,null,null,null,null,null,null,null,null,"CF01 MILO (H)",1,null,"BA12 HEINEKEN BKT",1,null,"BA20 Heineken 3+1",1,null,"BA04 N : 4BP",1,null,"BA09 GUINNESS BKT",3,null,"AD01 M : REGULAR",73,null,"AC29 N :58",75]
[{"$f":"IFERROR(IF(INDIRECT($A$14&ROW())<>\"\",COUNTIF(Summary!$B$30:$B$1029,INDIRECT($A$14&ROW())),\"\"),\"\")","v":""},null,null,null,null,null,null,null,null,null,null,null,null,null,null,null,"CI01 GRAPE J",11,null,"BA15 TIGER BKT",3,null,"CI01 GRAPE J",10,null,"BA09 GUINNESS BKT",1,null,"BA12 HEINEKEN BKT",3,null,"AD02 M : MEMBER",4,null,"AD01 M : REGULAR",9]
[{"$f":"IFERROR(IF(INDIRECT($A$14&ROW())<>\"\",COUNTIF(Summary!$B$30:$B$1029,INDIRECT($A$14&ROW())),\"\"),\"\")","v":""},null,null,null,null,null,null,null,null,null,null,null,null,null,null,null,"CI02 APPLE J",11,null,"BA16 TIGER RND",2,null,"CI02 APPLE J",6,null,"BA12 HEINEKEN BKT",2,null,"BA13 HEINEKEN RND",1,null,"AD07 M : MEMBER B'DAY",1,null,"AD05 M : LADIES",15]
[{"$f":"IFERROR(IF(INDIRECT($A$14&ROW())<>\"\",COUNTIF(Summary!$B$30:$B$1029,INDIRECT($A$14&ROW())),\"\"),\"\")","v":""},null,null,null,null,null,null,null,null,null,null,null,null,null,null,null,"CI04 MANGO J",12,null,"CE05 GRN TEA (C)",null,null,"CI04 MANGO J",9,null,"BA14 TIGER BTL",1,null,"BA15 TIGER BKT",6,null,"AD15 M : XTD S ROOM",1,null,"BA04 N : 4BP",1]
[{"$f":"IFERROR(IF(INDIRECT($A$14&ROW())<>\"\",COUNTIF(Summary!$B$30:$B$1029,INDIRECT($A$14&ROW())),\"\"),\"\")","v":""},null,null,null,null,null,null,null,null,null,null,null,null,null,null,null,"CI05 PASSION J",32,null,"CI01 GRAPE J",11,null,"CI05 PASSION J",11,null,"BA15 TIGER BKT",1,null,"BA16 TIGER RND",1,null,"AD16 M : XTD M ROOM",1,null,"BA11 HEINEKEN BTL",3]
[{"$f":"IFERROR(IF(INDIRECT($A$14&ROW())<>\"\",COUNTIF(Summary!$B$30:$B$1029,INDIRECT($A$14&ROW())),\"\"),\"\")","v":""},null,null,null,null,null,null,null,null,null,null,null,null,null,null,null,"CI06 RIBENA J",28,null,"CI02 APPLE J",10,null,"CI06 RIBENA J",4,null,"BA16 TIGER RND",1,null,"CA02 APPLE J",null,null,"BA04 N : 4BP",10,null,"BA12 HEINEKEN BKT",3]
[{"$f":"IFERROR(IF(INDIRECT($A$14&ROW())<>\"\",COUNTIF(Summary!$B$30:$B$1029,INDIRECT($A$14&ROW())),\"\"),\"\")","v":""},null,null,null,null,null,null,null,null,null,null,null,null,null,null,null,"CJ01 GRAPE SO",2,null,"CI04 MANGO J",8,null,"CJ01 GRAPE SO",2,null,"CI01 GRAPE J",11,null,"CI01 GRAPE J",25,null,"BA12 HEINEKEN BKT",1,null,"BA15 TIGER BKT",8]
[{"$f":"IFERROR(IF(INDIRECT($A$14&ROW())<>\"\",COUNTIF(Summary!$B$30:$B$1029,INDIRECT($A$14&ROW())),\"\"),\"\")","v":""},null,null,null,null,null,null,null,null,null,null,null,null,null,null,null,"CJ02 APPLE SO",2,null,"CI05 PASSION J",15,null,"CJ02 APPLE SO",4,null,"CI02 APPLE J",24,null,"CI02 APPLE J",20,null,"BA14 TIGER BTL",2,null,"BA16 TIGER RND",3]
[{"$f":"IFERROR(IF(INDIRECT($A$14&ROW())<>\"\",COUNTIF(Summary!$B$30:$B$1029,INDIRECT($A$14&ROW())),\"\"),\"\")","v":""},null,null,null,null,null,null,null,null,null,null,null,null,null,null,null,"CJ04 MANGO SO",2,null,"CI06 RIBENA J",7,null,"CJ05 PASSION SO",4,null,"CI04 MANGO J",10,null,"CI04 MANGO J",21,null,"BA16 TIGER RND",7,null,"CA05 PASSION J",1]
[{"$f":"IFERROR(IF(INDIRECT($A$14&ROW())<>\"\",COUNTIF(Summary!$B$30:$B$1029,INDIRECT($A$14&ROW())),\"\"),\"\")","v":""},null,null,null,null,null,null,null,null,null,null,null,null,null,null,null,"CJ05 PASSION SO",1,null,"CJ01 GRAPE SO",4,null,"CJ06 RIBENA SO",1,null,"CI05 PASSION J",34,null,"CI05 PASSION J",40,null,"CC02 APPLE SM",1,null,"CB02 APPLE SO",1]
[{"$f":"IFERROR(IF(INDIRECT($A$14&ROW())<>\"\",COUNTIF(Summary!$B$30:$B$1029,INDIRECT($A$14&ROW())),\"\"),\"\")","v":""},null,null,null,null,null,null,null,null,null,null,null,null,null,null,null,"CJ06 RIBENA SO",8,null,"CJ02 APPLE SO",4,null,"CL01 7 UP",1,null,"CI06 RIBENA J",14,null,"CI06 RIBENA J",28,null,"CC04 MANGO SM",1,null,"CC08 CHOCOLATE SM",1]
[{"$f":"IFERROR(IF(INDIRECT($A$14&ROW())<>\"\",COUNTIF(Summary!$B$30:$B$1029,INDIRECT($A$14&ROW())),\"\"),\"\")","v":""},null,null,null,null,null,null,null,null,null,null,null,null,null,null,null,"CL01 7 UP",9,null,"CJ05 PASSION SO",3,null,"CL02 7 UP REVIVE",3,null,"CJ01 GRAPE SO",1,null,"CJ01 GRAPE SO",1,null,"CF05 GRN TEA (H)",3,null,"CF02 NESCAFE (H)",1]
[{"$f":"IFERROR(IF(INDIRECT($A$14&ROW())<>\"\",COUNTIF(Summary!$B$30:$B$1029,INDIRECT($A$14&ROW())),\"\"),\"\")","v":""},null,null,null,null,null,null,null,null,null,null,null,null,null,null,null,"CL02 7 UP REVIVE",1,null,"CJ06 RIBENA SO",1,null,"CL03 PEPSI",9,null,"CJ04 MANGO SO",3,null,"CJ04 MANGO SO",1,null,"CG01 MINERAL WATER",1,null,"CI01 GRAPE J",15]
[{"$f":"IFERROR(IF(INDIRECT($A$14&ROW())<>\"\",COUNTIF(Summary!$B$30:$B$1029,INDIRECT($A$14&ROW())),\"\"),\"\")","v":""},null,null,null,null,null,null,null,null,null,null,null,null,null,null,null,"CL03 PEPSI",20,null,"CL01 7 UP",1,null,"CM01 MILO (C)",12,null,"CJ05 PASSION SO",3,null,"CJ05 PASSION SO",2,null,"CI01 GRAPE J",19,null,"CI02 APPLE J",22]
[{"$f":"IFERROR(IF(INDIRECT($A$14&ROW())<>\"\",COUNTIF(Summary!$B$30:$B$1029,INDIRECT($A$14&ROW())),\"\"),\"\")","v":""},null,null,null,null,null,null,null,null,null,null,null,null,null,null,null,"CM01 MILO (C)",22,null,"CL02 7 UP REVIVE",1,null,"CM02 NESCAFE (C)",4,null,"CJ06 RIBENA SO",3,null,"CJ06 RIBENA SO",12,null,"CI02 APPLE J",30,null,"CI04 MANGO J",18]
[{"$f":"IFERROR(IF(INDIRECT($A$14&ROW())<>\"\",COUNTIF(Summary!$B$30:$B$1029,INDIRECT($A$14&ROW())),\"\"),\"\")","v":""},null,null,null,null,null,null,null,null,null,null,null,null,null,null,null,"CM02 NESCAFE (C)",6,null,"CL03 PEPSI",7,null,"CM03 TEA (C)",8,null,"CL01 7 UP",11,null,"CL01 7 UP",9,null,"CI04 MANGO J",16,null,"CI05 PASSION J",41]
[{"$f":"IFERROR(IF(INDIRECT($A$14&ROW())<>\"\",COUNTIF(Summary!$B$30:$B$1029,INDIRECT($A$14&ROW())),\"\"),\"\")","v":""},null,null,null,null,null,null,null,null,null,null,null,null,null,null,null,"CM03 TEA (C)",5,null,"CM01 MILO (C)",37,null,"CM04 LEMON TEA (C)",10,null,"CL03 PEPSI",28,null,"CL02 7 UP REVIVE",7,null,"CI05 PASSION J",50,null,"CI06 RIBENA J",22]
[{"$f":"IFERROR(IF(INDIRECT($A$14&ROW())<>\"\",COUNTIF(Summary!$B$30:$B$1029,INDIRECT($A$14&ROW())),\"\"),\"\")","v":""},null,null,null,null,null,null,null,null,null,null,null,null,null,null,null,"CM04 LEMON TEA (C)",26,null,"CM02 NESCAFE (C)",7,null,"CM05 GRN TEA (C)",25,null,"CM01 MILO (C)",53,null,"CL03 PEPSI",42,null,"CI06 RIBENA J",35,null,"CJ01 GRAPE SO",3]
[{"$f":"IFERROR(IF(INDIRECT($A$14&ROW())<>\"\",COUNTIF(Summary!$B$30:$B$1029,INDIRECT($A$14&ROW())),\"\"),\"\")","v":""},null,null,null,null,null,null,null,null,null,null,null,null,null,null,null,"CM05 GRN TEA (C)",25,null,"CM03 TEA (C)",8,null,"CM06 HNY GRN TEA (C)",20,null,"CM02 NESCAFE (C)",7,null,"CM01 MILO (C)",56,null,"CJ01 GRAPE SO",7,null,"CJ02 APPLE SO",2]
[{"$f":"IFERROR(IF(INDIRECT($A$14&ROW())<>\"\",COUNTIF(Summary!$B$30:$B$1029,INDIRECT($A$14&ROW())),\"\"),\"\")","v":""},null,null,null,null,null,null,null,null,null,null,null,null,null,null,null,"CM06 HNY GRN TEA (C)",26,null,"CM04 LEMON TEA (C)",21,null,"CM07 HONEY (C)",6,null,"CM03 TEA (C)",6,null,"CM02 NESCAFE (C)",13,null,"CJ02 APPLE SO",5,null,"CJ04 MANGO SO",1]
[{"$f":"IFERROR(IF(INDIRECT($A$14&ROW())<>\"\",COUNTIF(Summary!$B$30:$B$1029,INDIRECT($A$14&ROW())),\"\"),\"\")","v":""},null,null,null,null,null,null,null,null,null,null,null,null,null,null,null,"CM07 HONEY (C)",16,null,"CM05 GRN TEA (C)",23,null,"CM08 LEMON HONEY (C)",56,null,"CM04 LEMON TEA (C)",44,null,"CM03 TEA (C)",14,null,"CJ05 PASSION SO",2,null,"CJ05 PASSION SO",1]
[{"$f":"IFERROR(IF(INDIRECT($A$14&ROW())<>\"\",COUNTIF(Summary!$B$30:$B$1029,INDIRECT($A$14&ROW())),\"\"),\"\")","v":""},null,null,null,null,null,null,null,null,null,null,null,null,null,null,null,"CM08 LEMON HONEY (C)",49,null,"CM06 HNY GRN TEA (C)",37,null,"CN01 MILO (H)",9,null,"CM05 GRN TEA (C)",27,null,"CM04 LEMON TEA (C)",59,null,"CJ06 RIBENA SO",4,null,"CJ06 RIBENA SO",9]
[{"$f":"IFERROR(IF(INDIRECT($A$14&ROW())<>\"\",COUNTIF(Summary!$B$30:$B$1029,INDIRECT($A$14&ROW())),\"\"),\"\")","v":""},null,null,null,null,null,null,null,null,null,null,null,null,null,null,null,"CN01 MILO (H)",20,null,"CM07 HONEY (C)",12,null,"CN02 NESCAFE (H)",2,null,"CM06 HNY GRN TEA (C)",57,null,"CM05 GRN TEA (C)",55,null,"CL01 7 UP",16,null,"CL01 7 UP",7]
[{"$f":"IFERROR(IF(INDIRECT($A$14&ROW())<>\"\",COUNTIF(Summary!$B$30:$B$1029,INDIRECT($A$14&ROW())),\"\"),\"\")","v":""},null,null,null,null,null,null,null,null,null,null,null,null,null,null,null,"CN02 NESCAFE (H)",3,null,"CM08 LEMON HONEY (C)",52,null,"CN03 TEA (H)",4,null,"CM07 HONEY (C)",17,null,"CM06 HNY GRN TEA (C)",86,null,"CL02 7 UP REVIVE",7,null,"CL02 7 UP REVIVE",3]
[{"$f":"IFERROR(IF(INDIRECT($A$14&ROW())<>\"\",COUNTIF(Summary!$B$30:$B$1029,INDIRECT($A$14&ROW())),\"\"),\"\")","v":""},null,null,null,null,null,null,null,null,null,null,null,null,null,null,null,"CN04 LEMON TEA (H)",3,null,"CN01 MILO (H)",8,null,"CN04 LEMON TEA (H)",5,null,"CM08 LEMON HONEY (C)",85,null,"CM07 HONEY (C)",25,null,"CL03 PEPSI",36,null,"CL03 PEPSI",26]
[{"$f":"IFERROR(IF(INDIRECT($A$14&ROW())<>\"\",COUNTIF(Summary!$B$30:$B$1029,INDIRECT($A$14&ROW())),\"\"),\"\")","v":""},null,null,null,null,null,null,null,null,null,null,null,null,null,null,null,"CN05 GRN TEA (H)",5,null,"CN02 NESCAFE (H)",6,null,"CN05 GRN TEA (H)",11,null,"CN01 MILO (H)",16,null,"CM08 LEMON HONEY (C)",135,null,"CM01 MILO (C)",35,null,"CM01 MILO (C)",32]
[{"$f":"IFERROR(IF(INDIRECT($A$14&ROW())<>\"\",COUNTIF(Summary!$B$30:$B$1029,INDIRECT($A$14&ROW())),\"\"),\"\")","v":""},null,null,null,null,null,null,null,null,null,null,null,null,null,null,null,"CN06 HNY GRN TEA (H)",12,null,"CN04 LEMON TEA (H)",2,null,"CN06 HNY GRN TEA (H)",14,null,"CN02 NESCAFE (H)",6,null,"CN01 MILO (H)",33,null,"CM02 NESCAFE (C)",16,null,"CM02 NESCAFE (C)",8]
[{"$f":"IFERROR(IF(INDIRECT($A$14&ROW())<>\"\",COUNTIF(Summary!$B$30:$B$1029,INDIRECT($A$14&ROW())),\"\"),\"\")","v":""},null,null,null,null,null,null,null,null,null,null,null,null,null,null,null,"CN07 HONEY (H)",4,null,"CN05 GRN TEA (H)",6,null,"CN07 HONEY (H)",1,null,"CN03 TEA (H)",2,null,"CN02 NESCAFE (H)",8,null,"CM03 TEA (C)",8,null,"CM03 TEA (C)",10]
[{"$f":"IFERROR(IF(INDIRECT($A$14&ROW())<>\"\",COUNTIF(Summary!$B$30:$B$1029,INDIRECT($A$14&ROW())),\"\"),\"\")","v":""},null,null,null,null,null,null,null,null,null,null,null,null,null,null,null,"CN08 LEMON HONEY (H)",34,null,"CN06 HNY GRN TEA (H)",17,null,"CN08 LEMON HONEY (H)",28,null,"CN04 LEMON TEA (H)",5,null,"CN03 TEA (H)",3,null,"CM04 LEMON TEA (C)",73,null,"CM04 LEMON TEA (C)",26]
[{"$f":"IFERROR(IF(INDIRECT($A$14&ROW())<>\"\",COUNTIF(Summary!$B$30:$B$1029,INDIRECT($A$14&ROW())),\"\"),\"\")","v":""},null,null,null,null,null,null,null,null,null,null,null,null,null,null,null,"CN12 CHAMOMILE (H)",3,null,"CN07 HONEY (H)",3,null,"CN14 EARL GREY (H)",1,null,"CN05 GRN TEA (H)",13,null,"CN04 LEMON TEA (H)",12,null,"CM05 GRN TEA (C)",64,null,"CM05 GRN TEA (C)",57]
[{"$f":"IFERROR(IF(INDIRECT($A$14&ROW())<>\"\",COUNTIF(Summary!$B$30:$B$1029,INDIRECT($A$14&ROW())),\"\"),\"\")","v":""},null,null,null,null,null,null,null,null,null,null,null,null,null,null,null,"CN14 EARL GREY (H)",1,null,"CN08 LEMON HONEY (H)",25,null,"CO02 PLAIN WATER",9,null,"CN06 HNY GRN TEA (H)",19,null,"CN05 GRN TEA (H)",11,null,"CM06 HNY GRN TEA (C)",80,null,"CM06 HNY GRN TEA (C)",60]
[{"$f":"IFERROR(IF(INDIRECT($A$14&ROW())<>\"\",COUNTIF(Summary!$B$30:$B$1029,INDIRECT($A$14&ROW())),\"\"),\"\")","v":""},null,null,null,null,null,null,null,null,null,null,null,null,null,null,null,"CO02 PLAIN WATER",30,null,"CN12 CHAMOMILE (H)",7,null,"DB01 1001:BP CKN CP",1,null,"CN07 HONEY (H)",18,null,"CN06 HNY GRN TEA (H)",22,null,"CM07 HONEY (C)",17,null,"CM07 HONEY (C)",21]
[{"$f":"IFERROR(IF(INDIRECT($A$14&ROW())<>\"\",COUNTIF(Summary!$B$30:$B$1029,INDIRECT($A$14&ROW())),\"\"),\"\")","v":""},null,null,null,null,null,null,null,null,null,null,null,null,null,null,null,"DB07 1007:CHK SALAD",1,null,"CO02 PLAIN WATER",14,null,"DB04 1004:CKN MARY",2,null,"CN08 LEMON HONEY (H)",37,null,"CN07 HONEY (H)",27,null,"CM08 LEMON HONEY (C)",92,null,"CM08 LEMON HONEY (C)",95]
[{"$f":"IFERROR(IF(INDIRECT($A$14&ROW())<>\"\",COUNTIF(Summary!$B$30:$B$1029,INDIRECT($A$14&ROW())),\"\"),\"\")","v":""},null,null,null,null,null,null,null,null,null,null,null,null,null,null,null,"DC01 1101:THAI CHK",1,null,"DB01 1001:BP CKN CP",4,null,"DC01 1101:THAI CHK",2,null,"CN12 CHAMOMILE (H)",6,null,"CN08 LEMON HONEY (H)",56,null,"CN01 MILO (H)",54,null,"CN01 MILO (H)",17]
[{"$f":"IFERROR(IF(INDIRECT($A$14&ROW())<>\"\",COUNTIF(Summary!$B$30:$B$1029,INDIRECT($A$14&ROW())),\"\"),\"\")","v":""},null,null,null,null,null,null,null,null,null,null,null,null,null,null,null,"DC02 1102:MAMITE CHK",1,null,"DB03 1003:MSR CKN CP",1,null,"DC02 1102:MAMITE CHK",1,null,"CN14 EARL GREY (H)",3,null,"CN12 CHAMOMILE (H)",9,null,"CN02 NESCAFE (H)",8,null,"CN02 NESCAFE (H)",11]
[{"$f":"IFERROR(IF(INDIRECT($A$14&ROW())<>\"\",COUNTIF(Summary!$B$30:$B$1029,INDIRECT($A$14&ROW())),\"\"),\"\")","v":""},null,null,null,null,null,null,null,null,null,null,null,null,null,null,null,"DC05 1105:BUTTER CHK",6,null,"DB04 1004:CKN MARY",1,null,"DC05 1105:BUTTER CHK",4,null,"CO02 PLAIN WATER",24,null,"CN13 DARJEELING (H)",1,null,"CN03 TEA (H)",3,null,"CN04 LEMON TEA (H)",3]
[{"$f":"IFERROR(IF(INDIRECT($A$14&ROW())<>\"\",COUNTIF(Summary!$B$30:$B$1029,INDIRECT($A$14&ROW())),\"\"),\"\")","v":""},null,null,null,null,null,null,null,null,null,null,null,null,null,null,null,"DC06 1106:HK F.RICE",2,null,"DC01 1101:THAI CHK",1,null,"DC11 1111:VEG RICE",1,null,"DB01 1001:BP CKN CP",6,null,"CN14 EARL GREY (H)",5,null,"CN04 LEMON TEA (H)",4,null,"CN05 GRN TEA (H)",10]
[{"$f":"IFERROR(IF(INDIRECT($A$14&ROW())<>\"\",COUNTIF(Summary!$B$30:$B$1029,INDIRECT($A$14&ROW())),\"\"),\"\")","v":""},null,null,null,null,null,null,null,null,null,null,null,null,null,null,null,"DC16 1116:MGL CHICKEN",2,null,"DC05 1105:BUTTER CHK",2,null,"DD11 1302:NUGGET",1,null,"DB02 1002:GVY CHK CP",1,null,"CO02 PLAIN WATER",30,null,"CN05 GRN TEA (H)",20,null,"CN06 HNY GRN TEA (H)",6]
[{"$f":"IFERROR(IF(INDIRECT($A$14&ROW())<>\"\",COUNTIF(Summary!$B$30:$B$1029,INDIRECT($A$14&ROW())),\"\"),\"\")","v":""},null,null,null,null,null,null,null,null,null,null,null,null,null,null,null,"DD02 1202:FREN FRIES",3,null,"DC07 1107:SBL F.RICE",3,null,"DD12 1303:CHK WING",1,null,"DB03 1003:MSR CKN CP",4,null,"DB01 1001:BP CKN CP",6,null,"CN06 HNY GRN TEA (H)",23,null,"CN07 HONEY (H)",8]
[{"$f":"IFERROR(IF(INDIRECT($A$14&ROW())<>\"\",COUNTIF(Summary!$B$30:$B$1029,INDIRECT($A$14&ROW())),\"\"),\"\")","v":""},null,null,null,null,null,null,null,null,null,null,null,null,null,null,null,"DD03 1203:GOLD MROOM",1,null,"DC11 1111:VEG RICE",1,null,"DE01 SET 990",3,null,"DB04 1004:CKN MARY",2,null,"DB03 1003:MSR CKN CP",8,null,"CN07 HONEY (H)",31,null,"CN08 LEMON HONEY (H)",34]
[{"$f":"IFERROR(IF(INDIRECT($A$14&ROW())<>\"\",COUNTIF(Summary!$B$30:$B$1029,INDIRECT($A$14&ROW())),\"\"),\"\")","v":""},null,null,null,null,null,null,null,null,null,null,null,null,null,null,null,"DD11 1302:NUGGET",2,null,"DC16 1116:MGL CHICKEN",2,null,"DF05 ADD SAUCE BP",1,null,"DB06 1006:SPAGHETTI",2,null,"DB04 1004:CKN MARY",1,null,"CN08 LEMON HONEY (H)",56,null,"CN12 CHAMOMILE (H)",9]
[{"$f":"IFERROR(IF(INDIRECT($A$14&ROW())<>\"\",COUNTIF(Summary!$B$30:$B$1029,INDIRECT($A$14&ROW())),\"\"),\"\")","v":""},null,null,null,null,null,null,null,null,null,null,null,null,null,null,null,"DD12 1303:CHK WING",2,null,"DD06 1206:SPRING RL",1,null,"DF07 ADD SAUCE C.PADI",3,null,"DC01 1101:THAI CHK",4,null,"DB05 1005:FISH&CHIP",4,null,"CN12 CHAMOMILE (H)",10,null,"CN14 EARL GREY (H)",4]
[{"$f":"IFERROR(IF(INDIRECT($A$14&ROW())<>\"\",COUNTIF(Summary!$B$30:$B$1029,INDIRECT($A$14&ROW())),\"\"),\"\")","v":""},null,null,null,null,null,null,null,null,null,null,null,null,null,null,null,"DE01 SET 990",2,null,"DD07 1207:SAUSAGE",1,null,"DF09 ADD SAUCE MAYO",2,null,"DC02 1102:MAMITE CHK",3,null,"DB06 1006:SPAGHETTI",1,null,"CN13 DARJEELING (H)",1,null,"CO02 PLAIN WATER",11]
[{"$f":"IFERROR(IF(INDIRECT($A$14&ROW())<>\"\",COUNTIF(Summary!$B$30:$B$1029,INDIRECT($A$14&ROW())),\"\"),\"\")","v":""},null,null,null,null,null,null,null,null,null,null,null,null,null,null,null,"DE02 SET 1390",3,null,"DD12 1303:CHK WING",1,null,"DG02 91002:GVY CHK CP",1,null,"DC04 1104:S&S CHK",1,null,"DC01 1101:THAI CHK",3,null,"CN14 EARL GREY (H)",8,null,"DB01 1001:BP CKN CP",3]
[{"$f":"IFERROR(IF(INDIRECT($A$14&ROW())<>\"\",COUNTIF(Summary!$B$30:$B$1029,INDIRECT($A$14&ROW())),\"\"),\"\")","v":""},null,null,null,null,null,null,null,null,null,null,null,null,null,null,null,"DF01 ADD RICE",1,null,"DD19 1310:Mc SPIRAL/F",1,null,"DG03 91003:MSR CHK CP",3,null,"DC05 1105:BUTTER CHK",5,null,"DC02 1102:MAMITE CHK",3,null,"CO02 PLAIN WATER",38,null,"DB03 1003:MSR CKN CP",3]
[{"$f":"IFERROR(IF(INDIRECT($A$14&ROW())<>\"\",COUNTIF(Summary!$B$30:$B$1029,INDIRECT($A$14&ROW())),\"\"),\"\")","v":""},null,null,null,null,null,null,null,null,null,null,null,null,null,null,null,"DF05 ADD SAUCE BP",1,null,"DE01 SET 990",3,null,"DG04 91004:CKN MARY",3,null,"DC06 1106:HK F.RICE",1,null,"DC04 1104:S&S CHK",2,null,"DB01 1001:BP CKN CP",4,null,"DB04 1004:CKN MARY",1]
[{"$f":"IFERROR(IF(INDIRECT($A$14&ROW())<>\"\",COUNTIF(Summary!$B$30:$B$1029,INDIRECT($A$14&ROW())),\"\"),\"\")","v":""},null,null,null,null,null,null,null,null,null,null,null,null,null,null,null,"DF09 ADD SAUCE MAYO",3,null,"DE02 SET 1390",3,null,"DG05 91005:FISH&CHIP",1,null,"DC09 1109:BP UDON",1,null,"DC05 1105:BUTTER CHK",4,null,"DB03 1003:MSR CKN CP",2,null,"DB05 1005:FISH&CHIP",1]
[{"$f":"IFERROR(IF(INDIRECT($A$14&ROW())<>\"\",COUNTIF(Summary!$B$30:$B$1029,INDIRECT($A$14&ROW())),\"\"),\"\")","v":""},null,null,null,null,null,null,null,null,null,null,null,null,null,null,null,"DF14 ADD SAUCE TOMATO",4,null,"DF07 ADD SAUCE C.PADI",1,null,"DG06 91006:SPAGHETTI",4,null,"DC15 1115:CHK NOODLE",1,null,"DC06 1106:HK F.RICE",5,null,"DB04 1004:CKN MARY",1,null,"DB06 1006:SPAGHETTI",2]
[{"$f":"IFERROR(IF(INDIRECT($A$14&ROW())<>\"\",COUNTIF(Summary!$B$30:$B$1029,INDIRECT($A$14&ROW())),\"\"),\"\")","v":""},null,null,null,null,null,null,null,null,null,null,null,null,null,null,null,"DF15 ADD TATA SAUCE",3,null,"DF09 ADD SAUCE MAYO",1,null,"DH01 91101:THAI CHK",2,null,"DD02 1202:FREN FRIES",2,null,"DC07 1107:SBL F.RICE",5,null,"DB05 1005:FISH&CHIP",4,null,"DC01 1101:THAI CHK",2]
[{"$f":"IFERROR(IF(INDIRECT($A$14&ROW())<>\"\",COUNTIF(Summary!$B$30:$B$1029,INDIRECT($A$14&ROW())),\"\"),\"\")","v":""},null,null,null,null,null,null,null,null,null,null,null,null,null,null,null,"DF16 ADD SAUCE CHEES",2,null,"DF14 ADD SAUCE TOMATO",3,null,"DH05 91105:BUTTER CHK",3,null,"DD03 1203:GOLD MROOM",2,null,"DC08 1108:SBL F.MEE",2,null,"DB06 1006:SPAGHETTI",3,null,"DC02 1102:MAMITE CHK",3]
[{"$f":"IFERROR(IF(INDIRECT($A$14&ROW())<>\"\",COUNTIF(Summary!$B$30:$B$1029,INDIRECT($A$14&ROW())),\"\"),\"\")","v":""},null,null,null,null,null,null,null,null,null,null,null,null,null,null,null,"DG01 91001:BP CHK CP",6,null,"DG01 91001:BP CHK CP",6,null,"DH06 91106:HK F.RICE",2,null,"DD04 1204:FISHBALL",1,null,"DC09 1109:BP UDON",2,null,"DB07 1007:CHK SALAD",2,null,"DC05 1105:BUTTER CHK",5]
[{"$f":"IFERROR(IF(INDIRECT($A$14&ROW())<>\"\",COUNTIF(Summary!$B$30:$B$1029,INDIRECT($A$14&ROW())),\"\"),\"\")","v":""},null,null,null,null,null,null,null,null,null,null,null,null,null,null,null,"DG02 91002:GVY CHK CP",1,null,"DG02 91002:GVY CHK CP",1,null,"DH07 91107:SBL F.RICE",3,null,"DD06 1206:SPRING RL",1,null,"DC16 1116:MGL CHICKEN",1,null,"DC02 1102:MAMITE CHK",4,null,"DC06 1106:HK F.RICE",3]
[{"$f":"IFERROR(IF(INDIRECT($A$14&ROW())<>\"\",COUNTIF(Summary!$B$30:$B$1029,INDIRECT($A$14&ROW())),\"\"),\"\")","v":""},null,null,null,null,null,null,null,null,null,null,null,null,null,null,null,"DG03 91003:MSR CHK CP",10,null,"DG03 91003:MSR CHK CP",6,null,"DH08 91108:SBL F.MEE",1,null,"DD07 1207:SAUSAGE",1,null,"DD02 1202:FREN FRIES",4,null,"DC04 1104:S&S CHK",2,null,"DC07 1107:SBL F.RICE",2]
[{"$f":"IFERROR(IF(INDIRECT($A$14&ROW())<>\"\",COUNTIF(Summary!$B$30:$B$1029,INDIRECT($A$14&ROW())),\"\"),\"\")","v":""},null,null,null,null,null,null,null,null,null,null,null,null,null,null,null,"DG04 91004:CKN MARY",2,null,"DG04 91004:CKN MARY",3,null,"DH09 91109:BP UDON",1,null,"DD12 1303:CHK WING",1,null,"DD03 1203:GOLD MROOM",2,null,"DC05 1105:BUTTER CHK",8,null,"DC09 1109:BP UDON",2]
[{"$f":"IFERROR(IF(INDIRECT($A$14&ROW())<>\"\",COUNTIF(Summary!$B$30:$B$1029,INDIRECT($A$14&ROW())),\"\"),\"\")","v":""},null,null,null,null,null,null,null,null,null,null,null,null,null,null,null,"DG05 91005:FISH&CHIP",8,null,"DG05 91005:FISH&CHIP",1,null,"DI12 91303:CHK WING",1,null,"DD16 1307:D.F C/WING",1,null,"DD11 1302:NUGGET",2,null,"DC06 1106:HK F.RICE",3,null,"DC10 1110:NISSIN",4]
[{"$f":"IFERROR(IF(INDIRECT($A$14&ROW())<>\"\",COUNTIF(Summary!$B$30:$B$1029,INDIRECT($A$14&ROW())),\"\"),\"\")","v":""},null,null,null,null,null,null,null,null,null,null,null,null,null,null,null,"DG06 91006:SPAGHETTI",6,null,"DG06 91006:SPAGHETTI",4,null,"GC01 CARD NEW",2,null,"DD17 1308 C/CALAMARI",1,null,"DD12 1303:CHK WING",2,null,"DC07 1107:SBL F.RICE",2,null,"DC11 1111:VEG RICE",1]
[{"$f":"IFERROR(IF(INDIRECT($A$14&ROW())<>\"\",COUNTIF(Summary!$B$30:$B$1029,INDIRECT($A$14&ROW())),\"\"),\"\")","v":""},null,null,null,null,null,null,null,null,null,null,null,null,null,null,null,"DG07 91007:CHK SALAD",5,null,"DG07 91007:CHK SALAD",1,null,"ZAB02 1202:FRIES",2,null,"DE01 SET 990",3,null,"DD17 1308 C/CALAMARI",2,null,"DC09 1109:BP UDON",1,null,"DC15 1115:CHK NOODLE",1]
[{"$f":"IFERROR(IF(INDIRECT($A$14&ROW())<>\"\",COUNTIF(Summary!$B$30:$B$1029,INDIRECT($A$14&ROW())),\"\"),\"\")","v":""},null,null,null,null,null,null,null,null,null,null,null,null,null,null,null,"DH01 91101:THAI CHK",2,null,"DH01 91101:THAI CHK",1,null,"ZAB03 1203:GOLD MROOM",1,null,"DE02 SET 1390",4,null,"DE01 SET 990",6,null,"DC15 1115:CHK NOODLE",1,null,"DC16 1116:MGL CHICKEN",1]
[{"$f":"IFERROR(IF(INDIRECT($A$14&ROW())<>\"\",COUNTIF(Summary!$B$30:$B$1029,INDIRECT($A$14&ROW())),\"\"),\"\")","v":""},null,null,null,null,null,null,null,null,null,null,null,null,null,null,null,"DH02 91102:MAMITE CHK",2,null,"DH05 91105:BUTTER CHK",4,null,"ZAB04 1204:F.BALL",1,null,"DF07 ADD SAUCE C.PADI",1,null,"DE02 SET 1390",5,null,"DC16 1116:MGL CHICKEN",1,null,"DD01 1201:SFD STICK",1]
[{"$f":"IFERROR(IF(INDIRECT($A$14&ROW())<>\"\",COUNTIF(Summary!$B$30:$B$1029,INDIRECT($A$14&ROW())),\"\"),\"\")","v":""},null,null,null,null,null,null,null,null,null,null,null,null,null,null,null,"DH04 91104:S&S CHK",1,null,"DH06 91106:HK F.RICE",1,null,"ZAB06 1206:SPRING RL",1,null,"DF09 ADD SAUCE MAYO",4,null,"DF01 ADD RICE",1,null,"DD02 1202:FREN FRIES",1,null,"DD02 1202:FREN FRIES",4]
[{"$f":"IFERROR(IF(INDIRECT($A$14&ROW())<>\"\",COUNTIF(Summary!$B$30:$B$1029,INDIRECT($A$14&ROW())),\"\"),\"\")","v":""},null,null,null,null,null,null,null,null,null,null,null,null,null,null,null,"DH05 91105:BUTTER CHK",7,null,"DH09 91109:BP UDON",1,null,"ZAB07 1207:SAUSAGE",1,null,"DF11 ADD SAUCE MR",1,null,"DF07 ADD SAUCE C.PADI",2,null,"DD07 1207:SAUSAGE",2,null,"DD06 1206:SPRING RL",2]
[{"$f":"IFERROR(IF(INDIRECT($A$14&ROW())<>\"\",COUNTIF(Summary!$B$30:$B$1029,INDIRECT($A$14&ROW())),\"\"),\"\")","v":""},null,null,null,null,null,null,null,null,null,null,null,null,null,null,null,"DH07 91107:SBL F.RICE",1,null,"DH10 91110:NISSIN",1,null,"ZAD01 COLD",1,null,"DF14 ADD SAUCE TOMATO",1,null,"DF09 ADD SAUCE MAYO",2,null,"DD11 1302:NUGGET",1,null,"DD07 1207:SAUSAGE",1]
[{"$f":"IFERROR(IF(INDIRECT($A$14&ROW())<>\"\",COUNTIF(Summary!$B$30:$B$1029,INDIRECT($A$14&ROW())),\"\"),\"\")","v":""},null,null,null,null,null,null,null,null,null,null,null,null,null,null,null,"DH10 91110:NISSIN",3,null,"DI12 91303:CHK WING",1,null,"ZAD02 HOT",2,null,"DG01 91001:BP CHK CP",7,null,"DF14 ADD SAUCE TOMATO",1,null,"DD12 1303:CHK WING",1,null,"DD11 1302:NUGGET",1]
[{"$f":"IFERROR(IF(INDIRECT($A$14&ROW())<>\"\",COUNTIF(Summary!$B$30:$B$1029,INDIRECT($A$14&ROW())),\"\"),\"\")","v":""},null,null,null,null,null,null,null,null,null,null,null,null,null,null,null,"DI02 91202:FREN FRIES",1,null,"DI21 91312:Mc HASH.B",1,null,"ZAD03 WARM",7,null,"DG02 91002:GVY CHK CP",1,null,"DG01 91001:BP CHK CP",4,null,"DD14 1305:THAI RL",1,null,"DD12 1303:CHK WING",6]
[{"$f":"IFERROR(IF(INDIRECT($A$14&ROW())<>\"\",COUNTIF(Summary!$B$30:$B$1029,INDIRECT($A$14&ROW())),\"\"),\"\")","v":""},null,null,null,null,null,null,null,null,null,null,null,null,null,null,null,"DI11 91302:NUGGET",1,null,"GC01 CARD NEW",3,null,"ZAD04 LESS ICE",27,null,"DG03 91003:MSR CHK CP",1,null,"DG02 91002:GVY CHK CP",1,null,"DD19 1310:Mc SPIRAL/F",2,null,"DD19 1310:Mc SPIRAL/F",2]
[{"$f":"IFERROR(IF(INDIRECT($A$14&ROW())<>\"\",COUNTIF(Summary!$B$30:$B$1029,INDIRECT($A$14&ROW())),\"\"),\"\")","v":""},null,null,null,null,null,null,null,null,null,null,null,null,null,null,null,"DI12 91303:CHK WING",1,null,"GC03 Student Mem Card",1,null,"ZAD06 NO ICE",2,null,"DG04 91004:CKN MARY",8,null,"DG03 91003:MSR CHK CP",2,null,"DE01 SET 990",13,null,"DD21 1312:Mc HASH BRW",1]
[{"$f":"IFERROR(IF(INDIRECT($A$14&ROW())<>\"\",COUNTIF(Summary!$B$30:$B$1029,INDIRECT($A$14&ROW())),\"\"),\"\")","v":""},null,null,null,null,null,null,null,null,null,null,null,null,null,null,null,"DI16 91307:D/F C.WING",1,null,"GD02 MIKE COVER 03",1,null,"ZAD07 LESS SWEET",3,null,"DG05 91005:FISH&CHIP",8,null,"DG04 91004:CKN MARY",2,null,"DE02 SET 1390",5,null,"DE01 SET 990",6]
[{"$f":"IFERROR(IF(INDIRECT($A$14&ROW())<>\"\",COUNTIF(Summary!$B$30:$B$1029,INDIRECT($A$14&ROW())),\"\"),\"\")","v":""},null,null,null,null,null,null,null,null,null,null,null,null,null,null,null,"DM04 CNY platter (B)",1,null,"GE07 DUNHILL ICE",1,null,"ZAD08 LESS OILY",5,null,"DG06 91006:SPAGHETTI",1,null,"DG05 91005:FISH&CHIP",4,null,"DF02 ADD F.EGG",2,null,"DE02 SET 1390",8]
[{"$f":"IFERROR(IF(INDIRECT($A$14&ROW())<>\"\",COUNTIF(Summary!$B$30:$B$1029,INDIRECT($A$14&ROW())),\"\"),\"\")","v":""},null,null,null,null,null,null,null,null,null,null,null,null,null,null,null,"GC01 CARD NEW",2,null,"ZAB02 1202:FRIES",2,null,"ZAD09 LESS SALTY",3,null,"DH01 91101:THAI CHK",1,null,"DG06 91006:SPAGHETTI",1,null,"DF03 ADD SAUCE 1000",4,null,"DF09 ADD SAUCE MAYO",2]
[{"$f":"IFERROR(IF(INDIRECT($A$14&ROW())<>\"\",COUNTIF(Summary!$B$30:$B$1029,INDIRECT($A$14&ROW())),\"\"),\"\")","v":""},null,null,null,null,null,null,null,null,null,null,null,null,null,null,null,"GE01 DUNHILL",1,null,"ZAB06 1206:SPRING RL",2,null,"ZAD10 LESS SPICY",2,null,"DH02 91102:MAMITE CHK",3,null,"DG07 91007:CHK SALAD",3,null,"DF07 ADD SAUCE C.PADI",1,null,"DF14 ADD SAUCE TOMATO",6]
[{"$f":"IFERROR(IF(INDIRECT($A$14&ROW())<>\"\",COUNTIF(Summary!$B$30:$B$1029,INDIRECT($A$14&ROW())),\"\"),\"\")","v":""},null,null,null,null,null,null,null,null,null,null,null,null,null,null,null,"ZAA01 GUINNESS EX BKT",1,null,"ZAB07 1207:SAUSAGE",2,null,"ZAD13 ADD LEMON",4,null,"DH04 91104:S&S CHK",1,null,"DH01 91101:THAI CHK",1,null,"DF09 ADD SAUCE MAYO",5,null,"DG01 91001:BP CHK CP",17]
[{"$f":"IFERROR(IF(INDIRECT($A$14&ROW())<>\"\",COUNTIF(Summary!$B$30:$B$1029,INDIRECT($A$14&ROW())),\"\"),\"\")","v":""},null,null,null,null,null,null,null,null,null,null,null,null,null,null,null,"ZAB01 1201:SFD STICK",1,null,"ZAC03 1303:CHK WING",1,null,"ZAD16 MORE BUTTER SAUC",6,null,"DH05 91105:BUTTER CHK",5,null,"DH02 91102:MAMITE CHK",1,null,"DF14 ADD SAUCE TOMATO",7,null,"DG02 91002:GVY CHK CP",2]
[{"$f":"IFERROR(IF(INDIRECT($A$14&ROW())<>\"\",COUNTIF(Summary!$B$30:$B$1029,INDIRECT($A$14&ROW())),\"\"),\"\")","v":""},null,null,null,null,null,null,null,null,null,null,null,null,null,null,null,"ZAB06 1206:SPRING RL",1,null,"ZAC05 1305:THAI RL",1,null,"ZAD17 WITHOUT SUGAR",1,null,"DH06 91106:HK F.RICE",5,null,"DH04 91104:S&S CHK",1,null,"DG01 91001:BP CHK CP",6,null,"DG03 91003:MSR CHK CP",9]
[{"$f":"IFERROR(IF(INDIRECT($A$14&ROW())<>\"\",COUNTIF(Summary!$B$30:$B$1029,INDIRECT($A$14&ROW())),\"\"),\"\")","v":""},null,null,null,null,null,null,null,null,null,null,null,null,null,null,null,"ZAB07 1207:SAUSAGE",2,null,"ZAC07 1307:D/F C.WINGS",2,null,"ZAD19 KAU KAU",3,null,"DH09 91109:BP UDON",1,null,"DH06 91106:HK F.RICE",1,null,"DG02 91002:GVY CHK CP",5,null,"DG04 91004:CKN MARY",6]
[{"$f":"IFERROR(IF(INDIRECT($A$14&ROW())<>\"\",COUNTIF(Summary!$B$30:$B$1029,INDIRECT($A$14&ROW())),\"\"),\"\")","v":""},null,null,null,null,null,null,null,null,null,null,null,null,null,null,null,"ZAC02 1302:NUGGET",1,null,"ZAC08 1308:C/CALAMARI",1,null,"ZAD20 JUG",6,null,"DH10 91110:NISSIN",2,null,"DH09 91109:BP UDON",1,null,"DG03 91003:MSR CHK CP",17,null,"DG05 91005:FISH&CHIP",12]
[{"$f":"IFERROR(IF(INDIRECT($A$14&ROW())<>\"\",COUNTIF(Summary!$B$30:$B$1029,INDIRECT($A$14&ROW())),\"\"),\"\")","v":""},null,null,null,null,null,null,null,null,null,null,null,null,null,null,null,"ZAC03 1303:CHK WING",1,null,"ZAC09 1309:Mc /O.RINGS",1,null,"ZAD21 TAKE AWAY",1,null,"DH16 91116:MGL CHK",1,null,"DM01 SNACK PLATTER(A)",1,null,"DG04 91004:CKN MARY",2,null,"DG06 91006:SPAGHETTI",8]
[{"$f":"IFERROR(IF(INDIRECT($A$14&ROW())<>\"\",COUNTIF(Summary!$B$30:$B$1029,INDIRECT($A$14&ROW())),\"\"),\"\")","v":""},null,null,null,null,null,null,null,null,null,null,null,null,null,null,null,"ZAC05 1305:THAI RL",1,null,"ZAD01 COLD",7,null,"ZAD36 BEER GLASS",2,null,"EA01 TIDBITS",1,null,"GC01 CARD NEW",1,null,"DG05 91005:FISH&CHIP",2,null,"DG07 91007:CHK SALAD",2]
[{"$f":"IFERROR(IF(INDIRECT($A$14&ROW())<>\"\",COUNTIF(Summary!$B$30:$B$1029,INDIRECT($A$14&ROW())),\"\"),\"\")","v":""},null,null,null,null,null,null,null,null,null,null,null,null,null,null,null,"ZAC07 1307:D/F C.WINGS",3,null,"ZAD02 HOT",1,null,"ZAD37 ICE BUCKET",1,null,"GD02 MIKE COVER 03",1,null,"GD02 MIKE COVER 03",3,null,"DG06 91006:SPAGHETTI",5,null,"DH01 91101:THAI CHK",3]
[{"$f":"IFERROR(IF(INDIRECT($A$14&ROW())<>\"\",COUNTIF(Summary!$B$30:$B$1029,INDIRECT($A$14&ROW())),\"\"),\"\")","v":""},null,null,null,null,null,null,null,null,null,null,null,null,null,null,null,"ZAD01 COLD",6,null,"ZAD03 WARM",3,null,"ZZZZZ CHANGE MEM",null,null,"GE01 DUNHILL",1,null,"GE01 DUNHILL",1,null,"DG07 91007:CHK SALAD",2,null,"DH02 91102:MAMITE CHK",7]
[{"$f":"IFERROR(IF(INDIRECT($A$14&ROW())<>\"\",COUNTIF(Summary!$B$30:$B$1029,INDIRECT($A$14&ROW())),\"\"),\"\")","v":""},null,null,null,null,null,null,null,null,null,null,null,null,null,null,null,"ZAD02 HOT",3,null,"ZAD04 LESS ICE",15,null,null,null,null,"GE02 DUNHILL LITE",1,null,"GE07 DUNHILL ICE",2,null,"DH02 91102:MAMITE CHK",3,null,"DH04 91104:S&S CHK",2]
[{"$f":"IFERROR(IF(INDIRECT($A$14&ROW())<>\"\",COUNTIF(Summary!$B$30:$B$1029,INDIRECT($A$14&ROW())),\"\"),\"\")","v":""},null,null,null,null,null,null,null,null,null,null,null,null,null,null,null,"ZAD03 WARM",20,null,"ZAD06 NO ICE",10,null,null,null,null,"GE03 DUNHILL MT",1,null,"ZAB02 1202:FRIES",5,null,"DH04 91104:S&S CHK",1,null,"DH05 91105:BUTTER CHK",6]
[{"$f":"IFERROR(IF(INDIRECT($A$14&ROW())<>\"\",COUNTIF(Summary!$B$30:$B$1029,INDIRECT($A$14&ROW())),\"\"),\"\")","v":""},null,null,null,null,null,null,null,null,null,null,null,null,null,null,null,"ZAD04 LESS ICE",20,null,"ZAD07 LESS SWEET",2,null,null,null,null,"ZAB02 1202:FRIES",3,null,"ZAB03 1203:GOLD MROOM",3,null,"DH05 91105:BUTTER CHK",5,null,"DH06 91106:HK F.RICE",3]
[{"$f":"IFERROR(IF(INDIRECT($A$14&ROW())<>\"\",COUNTIF(Summary!$B$30:$B$1029,INDIRECT($A$14&ROW())),\"\"),\"\")","v":""},null,null,null,null,null,null,null,null,null,null,null,null,null,null,null,"ZAD05 MORE ICE",1,null,"ZAD13 ADD LEMON",6,null,null,null,null,"ZAB03 1203:GOLD MROOM",2,null,"ZAB06 1206:SPRING RL",2,null,"DH06 91106:HK F.RICE",1,null,"DH09 91109:BP UDON",2]
[{"$f":"IFERROR(IF(INDIRECT($A$14&ROW())<>\"\",COUNTIF(Summary!$B$30:$B$1029,INDIRECT($A$14&ROW())),\"\"),\"\")","v":""},null,null,null,null,null,null,null,null,null,null,null,null,null,null,null,"ZAD06 NO ICE",6,null,"ZAD19 KAU KAU",2,null,null,null,null,"ZAB04 1204:F.BALL",1,null,"ZAB07 1207:SAUSAGE",2,null,"DH07 91107:SBL F.RICE",1,null,"DH10 91110:NISSIN",1]
[{"$f":"IFERROR(IF(INDIRECT($A$14&ROW())<>\"\",COUNTIF(Summary!$B$30:$B$1029,INDIRECT($A$14&ROW())),\"\"),\"\")","v":""},null,null,null,null,null,null,null,null,null,null,null,null,null,null,null,"ZAD13 ADD LEMON",4,null,"ZAD20 JUG",5,null,null,null,null,"ZAC02 1302:NUGGET",1,null,"ZAC02 1302:NUGGET",3,null,"DH08 91108:SBL F.MEE",1,null,"DH15 91115:CHK NOODLE",1]
[{"$f":"IFERROR(IF(INDIRECT($A$14&ROW())<>\"\",COUNTIF(Summary!$B$30:$B$1029,INDIRECT($A$14&ROW())),\"\"),\"\")","v":""},null,null,null,null,null,null,null,null,null,null,null,null,null,null,null,"ZAD16 NORMAL",5,null,"ZAD36 BEER GLASS",9,null,null,null,null,"ZAC03 1303:CHK WING",2,null,"ZAC03 1303:CHK WING",4,null,"DH09 91109:BP UDON",3,null,"DH16 91116:MGL CHK",4]
[{"$f":"IFERROR(IF(INDIRECT($A$14&ROW())<>\"\",COUNTIF(Summary!$B$30:$B$1029,INDIRECT($A$14&ROW())),\"\"),\"\")","v":""},null,null,null,null,null,null,null,null,null,null,null,null,null,null,null,"ZAD19 KAU KAU",1,null,"ZAD37 ICE BUCKET",3,null,null,null,null,"ZAC05 1305:THAI RL",1,null,"ZAC07 1307:D/F C.WINGS",2,null,"DH10 91110:NISSIN",1,null,"DI02 91202:FREN FRIES",1]
[{"$f":"IFERROR(IF(INDIRECT($A$14&ROW())<>\"\",COUNTIF(Summary!$B$30:$B$1029,INDIRECT($A$14&ROW())),\"\"),\"\")","v":""},null,null,null,null,null,null,null,null,null,null,null,null,null,null,null,"ZAD20 JUG",5,null,"ZZZZZ K.LUNCH",null,null,null,null,null,"ZAC07 1307:D/F C.WINGS",1,null,"ZAC10 1310:Mc SPIRAL/F",1,null,"DI02 91202:FREN FRIES",1,null,"DI07 91207:SAUSAGE",2]
[{"$f":"IFERROR(IF(INDIRECT($A$14&ROW())<>\"\",COUNTIF(Summary!$B$30:$B$1029,INDIRECT($A$14&ROW())),\"\"),\"\")","v":""},null,null,null,null,null,null,null,null,null,null,null,null,null,null,null,"ZZZZZ CHANGE TO CHARGE",null,null,null,null,null,null,null,null,"ZAC10 1310:Mc SPIRAL/F",1,null,"ZAD01 COLD",10,null,"DI17 91308:C/CALAMARI",1,null,"DI11 91302:NUGGET",2]
[{"$f":"IFERROR(IF(INDIRECT($A$14&ROW())<>\"\",COUNTIF(Summary!$B$30:$B$1029,INDIRECT($A$14&ROW())),\"\"),\"\")","v":""},null,null,null,null,null,null,null,null,null,null,null,null,null,null,null,null,null,null,null,null,null,null,null,null,"ZAC12 1312:Mc HASH/B",2,null,"ZAD02 HOT",2,null,"DI18 91309:Mc O.RINGS",1,null,"DI12 91303:CHK WING",3]
[{"$f":"IFERROR(IF(INDIRECT($A$14&ROW())<>\"\",COUNTIF(Summary!$B$30:$B$1029,INDIRECT($A$14&ROW())),\"\"),\"\")","v":""},null,null,null,null,null,null,null,null,null,null,null,null,null,null,null,null,null,null,null,null,null,null,null,null,"ZAD01 COLD",10,null,"ZAD03 WARM",33,null,"DM01 SNACK PLATTER(A)",2,null,"DI16 91307:D/F C.WING",1]
[{"$f":"IFERROR(IF(INDIRECT($A$14&ROW())<>\"\",COUNTIF(Summary!$B$30:$B$1029,INDIRECT($A$14&ROW())),\"\"),\"\")","v":""},null,null,null,null,null,null,null,null,null,null,null,null,null,null,null,null,null,null,null,null,null,null,null,null,"ZAD03 WARM",12,null,"ZAD04 LESS ICE",40,null,"GC01 CARD NEW",3,null,"DI19 91310:McSPIRAL.F",1]
[{"$f":"IFERROR(IF(INDIRECT($A$14&ROW())<>\"\",COUNTIF(Summary!$B$30:$B$1029,INDIRECT($A$14&ROW())),\"\"),\"\")","v":""},null,null,null,null,null,null,null,null,null,null,null,null,null,null,null,null,null,null,null,null,null,null,null,null,"ZAD04 LESS ICE",44,null,"ZAD06 NO ICE",18,null,"ZAB02 1202:FRIES",11,null,"DL06 3001:9'HAWAIIAN",1]
[{"$f":"IFERROR(IF(INDIRECT($A$14&ROW())<>\"\",COUNTIF(Summary!$B$30:$B$1029,INDIRECT($A$14&ROW())),\"\"),\"\")","v":""},null,null,null,null,null,null,null,null,null,null,null,null,null,null,null,null,null,null,null,null,null,null,null,null,"ZAD06 NO ICE",11,null,"ZAD07 LESS SWEET",6,null,"ZAB03 1203:GOLD MROOM",3,null,"DM01 SNACK PLATTER(A)",1]
[{"$f":"IFERROR(IF(INDIRECT($A$14&ROW())<>\"\",COUNTIF(Summary!$B$30:$B$1029,INDIRECT($A$14&ROW())),\"\"),\"\")","v":""},null,null,null,null,null,null,null,null,null,null,null,null,null,null,null,null,null,null,null,null,null,null,null,null,"ZAD07 LESS SWEET",6,null,"ZAD13 ADD LEMON",10,null,"ZAB04 1204:F.BALL",1,null,"GC01 CARD NEW",2]
[{"$f":"IFERROR(IF(INDIRECT($A$14&ROW())<>\"\",COUNTIF(Summary!$B$30:$B$1029,INDIRECT($A$14&ROW())),\"\"),\"\")","v":""},null,null,null,null,null,null,null,null,null,null,null,null,null,null,null,null,null,null,null,null,null,null,null,null,"ZAD13 ADD LEMON",9,null,"ZAD16 RECEPT",3,null,"ZAB06 1206:SPRING RL",5,null,"GD03 PENALTY",1]
[{"$f":"IFERROR(IF(INDIRECT($A$14&ROW())<>\"\",COUNTIF(Summary!$B$30:$B$1029,INDIRECT($A$14&ROW())),\"\"),\"\")","v":""},null,null,null,null,null,null,null,null,null,null,null,null,null,null,null,null,null,null,null,null,null,null,null,null,"ZAD14 MORE SWEET",1,null,"ZAD19 KAU KAU",5,null,"ZAB07 1207:SAUSAGE",6,null,"GE07 DUNHILL ICE",1]
[{"$f":"IFERROR(IF(INDIRECT($A$14&ROW())<>\"\",COUNTIF(Summary!$B$30:$B$1029,INDIRECT($A$14&ROW())),\"\"),\"\")","v":""},null,null,null,null,null,null,null,null,null,null,null,null,null,null,null,null,null,null,null,null,null,null,null,null,"ZAD16 RECEPT",3,null,"ZAD20 JUG",7,null,"ZAC02 1302:NUGGET",2,null,"ZAB01 1201:SFD STICK",2]
[{"$f":"IFERROR(IF(INDIRECT($A$14&ROW())<>\"\",COUNTIF(Summary!$B$30:$B$1029,INDIRECT($A$14&ROW())),\"\"),\"\")","v":""},null,null,null,null,null,null,null,null,null,null,null,null,null,null,null,null,null,null,null,null,null,null,null,null,"ZAD17 WITHOUT SUGAR",2,null,"ZAD36 BEER GLASS",28,null,"ZAC03 1303:CHK WING",3,null,"ZAB02 1202:FRIES",5]
[{"$f":"IFERROR(IF(INDIRECT($A$14&ROW())<>\"\",COUNTIF(Summary!$B$30:$B$1029,INDIRECT($A$14&ROW())),\"\"),\"\")","v":""},null,null,null,null,null,null,null,null,null,null,null,null,null,null,null,null,null,null,null,null,null,null,null,null,"ZAD19 KAU KAU",4,null,"ZAD37 ICE BUCKET",10,null,"ZAC04 1304:IKAN BILIS",1,null,"ZAB06 1206:SPRING RL",1]
[{"$f":"IFERROR(IF(INDIRECT($A$14&ROW())<>\"\",COUNTIF(Summary!$B$30:$B$1029,INDIRECT($A$14&ROW())),\"\"),\"\")","v":""},null,null,null,null,null,null,null,null,null,null,null,null,null,null,null,null,null,null,null,null,null,null,null,null,"ZAD20 JUG",3,null,"ZZZZZ CHANGE TO FOC",null,null,"ZAC07 1307:D/F C.WINGS",3,null,"ZAB07 1207:SAUSAGE",4]
[{"$f":"IFERROR(IF(INDIRECT($A$14&ROW())<>\"\",COUNTIF(Summary!$B$30:$B$1029,INDIRECT($A$14&ROW())),\"\"),\"\")","v":""},null,null,null,null,null,null,null,null,null,null,null,null,null,null,null,null,null,null,null,null,null,null,null,null,"ZAD36 BEER GLASS",6,null,null,null,null,"ZAC08 1308:C/CALAMARI",1,null,"ZAC03 1303:CHK WING",2]
[{"$f":"IFERROR(IF(INDIRECT($A$14&ROW())<>\"\",COUNTIF(Summary!$B$30:$B$1029,INDIRECT($A$14&ROW())),\"\"),\"\")","v":""},null,null,null,null,null,null,null,null,null,null,null,null,null,null,null,null,null,null,null,null,null,null,null,null,"ZAD37 ICE BUCKET",4,null,null,null,null,"ZAD01 COLD",4,null,"ZAC04 1304:IKAN BILIS",1]
[{"$f":"IFERROR(IF(INDIRECT($A$14&ROW())<>\"\",COUNTIF(Summary!$B$30:$B$1029,INDIRECT($A$14&ROW())),\"\"),\"\")","v":""},null,null,null,null,null,null,null,null,null,null,null,null,null,null,null,null,null,null,null,null,null,null,null,null,"ZZZZZ WRONG KEY DUE LA",null,null,null,null,null,"ZAD02 HOT",8,null,"ZAC05 1305:THAI RL",1]
[{"$f":"IFERROR(IF(INDIRECT($A$14&ROW())<>\"\",COUNTIF(Summary!$B$30:$B$1029,INDIRECT($A$14&ROW())),\"\"),\"\")","v":""},null,null,null,null,null,null,null,null,null,null,null,null,null,null,null,null,null,null,null,null,null,null,null,null,null,null,null,null,null,null,"ZAD03 WARM",23,null,"ZAC07 1307:D/F C.WINGS",7]
[{"$f":"IFERROR(IF(INDIRECT($A$14&ROW())<>\"\",COUNTIF(Summary!$B$30:$B$1029,INDIRECT($A$14&ROW())),\"\"),\"\")","v":""},null,null,null,null,null,null,null,null,null,null,null,null,null,null,null,null,null,null,null,null,null,null,null,null,null,null,null,null,null,null,"ZAD04 LESS ICE",23,null,"ZAC08 1308:C/CALAMARI",2]
[{"$f":"IFERROR(IF(INDIRECT($A$14&ROW())<>\"\",COUNTIF(Summary!$B$30:$B$1029,INDIRECT($A$14&ROW())),\"\"),\"\")","v":""},null,null,null,null,null,null,null,null,null,null,null,null,null,null,null,null,null,null,null,null,null,null,null,null,null,null,null,null,null,null,"ZAD05 MORE ICE",1,null,"ZAC10 1310:Mc SPIRAL/F",2]
[{"$f":"IFERROR(IF(INDIRECT($A$14&ROW())<>\"\",COUNTIF(Summary!$B$30:$B$1029,INDIRECT($A$14&ROW())),\"\"),\"\")","v":""},null,null,null,null,null,null,null,null,null,null,null,null,null,null,null,null,null,null,null,null,null,null,null,null,null,null,null,null,null,null,"ZAD06 NO ICE",25,null,"ZAC12 1312:Mc HASH/B",1]
[{"$f":"IFERROR(IF(INDIRECT($A$14&ROW())<>\"\",COUNTIF(Summary!$B$30:$B$1029,INDIRECT($A$14&ROW())),\"\"),\"\")","v":""},null,null,null,null,null,null,null,null,null,null,null,null,null,null,null,null,null,null,null,null,null,null,null,null,null,null,null,null,null,null,"ZAD07 LESS SWEET",4,null,"ZAD01 COLD",4]
[{"$f":"IFERROR(IF(INDIRECT($A$14&ROW())<>\"\",COUNTIF(Summary!$B$30:$B$1029,INDIRECT($A$14&ROW())),\"\"),\"\")","v":""},null,null,null,null,null,null,null,null,null,null,null,null,null,null,null,null,null,null,null,null,null,null,null,null,null,null,null,null,null,null,"ZAD12 NO VEGGIE",1,null,"ZAD03 WARM",9]
[{"$f":"IFERROR(IF(INDIRECT($A$14&ROW())<>\"\",COUNTIF(Summary!$B$30:$B$1029,INDIRECT($A$14&ROW())),\"\"),\"\")","v":""},null,null,null,null,null,null,null,null,null,null,null,null,null,null,null,null,null,null,null,null,null,null,null,null,null,null,null,null,null,null,"ZAD13 ADD LEMON",6,null,"ZAD04 LESS ICE",20]
[{"$f":"IFERROR(IF(INDIRECT($A$14&ROW())<>\"\",COUNTIF(Summary!$B$30:$B$1029,INDIRECT($A$14&ROW())),\"\"),\"\")","v":""},null,null,null,null,null,null,null,null,null,null,null,null,null,null,null,null,null,null,null,null,null,null,null,null,null,null,null,null,null,null,"ZAD16 2BIJI ICE",7,null,"ZAD06 NO ICE",16]
[{"$f":"IFERROR(IF(INDIRECT($A$14&ROW())<>\"\",COUNTIF(Summary!$B$30:$B$1029,INDIRECT($A$14&ROW())),\"\"),\"\")","v":""},null,null,null,null,null,null,null,null,null,null,null,null,null,null,null,null,null,null,null,null,null,null,null,null,null,null,null,null,null,null,"ZAD17 WITHOUT SUGAR",1,null,"ZAD07 LESS SWEET",4]
[{"$f":"IFERROR(IF(INDIRECT($A$14&ROW())<>\"\",COUNTIF(Summary!$B$30:$B$1029,INDIRECT($A$14&ROW())),\"\"),\"\")","v":""},null,null,null,null,null,null,null,null,null,null,null,null,null,null,null,null,null,null,null,null,null,null,null,null,null,null,null,null,null,null,"ZAD19 KAU KAU",2,null,"ZAD17 WITHOUT SUGAR",2]
[{"$f":"IFERROR(IF(INDIRECT($A$14&ROW())<>\"\",COUNTIF(Summary!$B$30:$B$1029,INDIRECT($A$14&ROW())),\"\"),\"\")","v":""},null,null,null,null,null,null,null,null,null,null,null,null,null,null,null,null,null,null,null,null,null,null,null,null,null,null,null,null,null,null,"ZAD20 JUG",8,null,"ZAD20 JUG",6]
[{"$f":"IFERROR(IF(INDIRECT($A$14&ROW())<>\"\",COUNTIF(Summary!$B$30:$B$1029,INDIRECT($A$14&ROW())),\"\"),\"\")","v":""},null,null,null,null,null,null,null,null,null,null,null,null,null,null,null,null,null,null,null,null,null,null,null,null,null,null,null,null,null,null,"ZAD36 BEER GLASS",16,null,"ZAD36 BEER GLASS",36]
[{"$f":"IFERROR(IF(INDIRECT($A$14&ROW())<>\"\",COUNTIF(Summary!$B$30:$B$1029,INDIRECT($A$14&ROW())),\"\"),\"\")","v":""},null,null,null,null,null,null,null,null,null,null,null,null,null,null,null,null,null,null,null,null,null,null,null,null,null,null,null,null,null,null,"ZAD37 ICE BUCKET",4,null,"ZAD37 ICE BUCKET",12]
[{"$f":"IFERROR(IF(INDIRECT($A$14&ROW())<>\"\",COUNTIF(Summary!$B$30:$B$1029,INDIRECT($A$14&ROW())),\"\"),\"\")","v":""},null,null,null,null,null,null,null,null,null,null,null,null,null,null,null,null,null,null,null,null,null,null,null,null,null,null,null,null,null,null,"ZZZZZ CHANGE BDAY",null,null,"ZZZZZ CHANGE K LUNCH"]
[{"$f":"IFERROR(IF(INDIRECT($A$14&ROW())<>\"\",COUNTIF(Summary!$B$30:$B$1029,INDIRECT($A$14&ROW())),\"\"),\"\")","v":""}]
[{"$f":"IFERROR(IF(INDIRECT($A$14&ROW())<>\"\",COUNTIF(Summary!$B$30:$B$1029,INDIRECT($A$14&ROW())),\"\"),\"\")","v":""}]
[{"$f":"IFERROR(IF(INDIRECT($A$14&ROW())<>\"\",COUNTIF(Summary!$B$30:$B$1029,INDIRECT($A$14&ROW())),\"\"),\"\")","v":""}]
[{"$f":"IFERROR(IF(INDIRECT($A$14&ROW())<>\"\",COUNTIF(Summary!$B$30:$B$1029,INDIRECT($A$14&ROW())),\"\"),\"\")","v":""}]
[{"$f":"IFERROR(IF(INDIRECT($A$14&ROW())<>\"\",COUNTIF(Summary!$B$30:$B$1029,INDIRECT($A$14&ROW())),\"\"),\"\")","v":""}]
[{"$f":"IFERROR(IF(INDIRECT($A$14&ROW())<>\"\",COUNTIF(Summary!$B$30:$B$1029,INDIRECT($A$14&ROW())),\"\"),\"\")","v":""}]
[{"$f":"IFERROR(IF(INDIRECT($A$14&ROW())<>\"\",COUNTIF(Summary!$B$30:$B$1029,INDIRECT($A$14&ROW())),\"\"),\"\")","v":""}]
[{"$f":"IFERROR(IF(INDIRECT($A$14&ROW())<>\"\",COUNTIF(Summary!$B$30:$B$1029,INDIRECT($A$14&ROW())),\"\"),\"\")","v":""}]
[{"$f":"IFERROR(IF(INDIRECT($A$14&ROW())<>\"\",COUNTIF(Summary!$B$30:$B$1029,INDIRECT($A$14&ROW())),\"\"),\"\")","v":""}]
[{"$f":"IFERROR(IF(INDIRECT($A$14&ROW())<>\"\",COUNTIF(Summary!$B$30:$B$1029,INDIRECT($A$14&ROW())),\"\"),\"\")","v":""}]
[{"$f":"IFERROR(IF(INDIRECT($A$14&ROW())<>\"\",COUNTIF(Summary!$B$30:$B$1029,INDIRECT($A$14&ROW())),\"\"),\"\")","v":""}]
[{"$f":"IFERROR(IF(INDIRECT($A$14&ROW())<>\"\",COUNTIF(Summary!$B$30:$B$1029,INDIRECT($A$14&ROW())),\"\"),\"\")","v":""}]
[{"$f":"IFERROR(IF(INDIRECT($A$14&ROW())<>\"\",COUNTIF(Summary!$B$30:$B$1029,INDIRECT($A$14&ROW())),\"\"),\"\")","v":""}]
[{"$f":"IFERROR(IF(INDIRECT($A$14&ROW())<>\"\",COUNTIF(Summary!$B$30:$B$1029,INDIRECT($A$14&ROW())),\"\"),\"\")","v":""}]
[{"$f":"IFERROR(IF(INDIRECT($A$14&ROW())<>\"\",COUNTIF(Summary!$B$30:$B$1029,INDIRECT($A$14&ROW())),\"\"),\"\")","v":""}]
[{"$f":"IFERROR(IF(INDIRECT($A$14&ROW())<>\"\",COUNTIF(Summary!$B$30:$B$1029,INDIRECT($A$14&ROW())),\"\"),\"\")","v":""}]
[{"$f":"IFERROR(IF(INDIRECT($A$14&ROW())<>\"\",COUNTIF(Summary!$B$30:$B$1029,INDIRECT($A$14&ROW())),\"\"),\"\")","v":""}]
[{"$f":"IFERROR(IF(INDIRECT($A$14&ROW())<>\"\",COUNTIF(Summary!$B$30:$B$1029,INDIRECT($A$14&ROW())),\"\"),\"\")","v":""}]
[{"$f":"IFERROR(IF(INDIRECT($A$14&ROW())<>\"\",COUNTIF(Summary!$B$30:$B$1029,INDIRECT($A$14&ROW())),\"\"),\"\")","v":""}]
[{"$f":"IFERROR(IF(INDIRECT($A$14&ROW())<>\"\",COUNTIF(Summary!$B$30:$B$1029,INDIRECT($A$14&ROW())),\"\"),\"\")","v":""}]
[{"$f":"IFERROR(IF(INDIRECT($A$14&ROW())<>\"\",COUNTIF(Summary!$B$30:$B$1029,INDIRECT($A$14&ROW())),\"\"),\"\")","v":""}]
[{"$f":"IFERROR(IF(INDIRECT($A$14&ROW())<>\"\",COUNTIF(Summary!$B$30:$B$1029,INDIRECT($A$14&ROW())),\"\"),\"\")","v":""}]
[{"$f":"IFERROR(IF(INDIRECT($A$14&ROW())<>\"\",COUNTIF(Summary!$B$30:$B$1029,INDIRECT($A$14&ROW())),\"\"),\"\")","v":""}]
[{"$f":"IFERROR(IF(INDIRECT($A$14&ROW())<>\"\",COUNTIF(Summary!$B$30:$B$1029,INDIRECT($A$14&ROW())),\"\"),\"\")","v":""}]
[{"$f":"IFERROR(IF(INDIRECT($A$14&ROW())<>\"\",COUNTIF(Summary!$B$30:$B$1029,INDIRECT($A$14&ROW())),\"\"),\"\")","v":""}]
[{"$f":"IFERROR(IF(INDIRECT($A$14&ROW())<>\"\",COUNTIF(Summary!$B$30:$B$1029,INDIRECT($A$14&ROW())),\"\"),\"\")","v":""}]
[{"$f":"IFERROR(IF(INDIRECT($A$14&ROW())<>\"\",COUNTIF(Summary!$B$30:$B$1029,INDIRECT($A$14&ROW())),\"\"),\"\")","v":""}]
[{"$f":"IFERROR(IF(INDIRECT($A$14&ROW())<>\"\",COUNTIF(Summary!$B$30:$B$1029,INDIRECT($A$14&ROW())),\"\"),\"\")","v":""}]
[{"$f":"IFERROR(IF(INDIRECT($A$14&ROW())<>\"\",COUNTIF(Summary!$B$30:$B$1029,INDIRECT($A$14&ROW())),\"\"),\"\")","v":""}]
[{"$f":"IFERROR(IF(INDIRECT($A$14&ROW())<>\"\",COUNTIF(Summary!$B$30:$B$1029,INDIRECT($A$14&ROW())),\"\"),\"\")","v":""}]
[{"$f":"IFERROR(IF(INDIRECT($A$14&ROW())<>\"\",COUNTIF(Summary!$B$30:$B$1029,INDIRECT($A$14&ROW())),\"\"),\"\")","v":""}]
[{"$f":"IFERROR(IF(INDIRECT($A$14&ROW())<>\"\",COUNTIF(Summary!$B$30:$B$1029,INDIRECT($A$14&ROW())),\"\"),\"\")","v":""}]
[{"$f":"IFERROR(IF(INDIRECT($A$14&ROW())<>\"\",COUNTIF(Summary!$B$30:$B$1029,INDIRECT($A$14&ROW())),\"\"),\"\")","v":""}]
[{"$f":"IFERROR(IF(INDIRECT($A$14&ROW())<>\"\",COUNTIF(Summary!$B$30:$B$1029,INDIRECT($A$14&ROW())),\"\"),\"\")","v":""}]
[{"$f":"IFERROR(IF(INDIRECT($A$14&ROW())<>\"\",COUNTIF(Summary!$B$30:$B$1029,INDIRECT($A$14&ROW())),\"\"),\"\")","v":""}]
[{"$f":"IFERROR(IF(INDIRECT($A$14&ROW())<>\"\",COUNTIF(Summary!$B$30:$B$1029,INDIRECT($A$14&ROW())),\"\"),\"\")","v":""}]
[{"$f":"IFERROR(IF(INDIRECT($A$14&ROW())<>\"\",COUNTIF(Summary!$B$30:$B$1029,INDIRECT($A$14&ROW())),\"\"),\"\")","v":""}]
[{"$f":"IFERROR(IF(INDIRECT($A$14&ROW())<>\"\",COUNTIF(Summary!$B$30:$B$1029,INDIRECT($A$14&ROW())),\"\"),\"\")","v":""}]
[{"$f":"IFERROR(IF(INDIRECT($A$14&ROW())<>\"\",COUNTIF(Summary!$B$30:$B$1029,INDIRECT($A$14&ROW())),\"\"),\"\")","v":""}]
[{"$f":"IFERROR(IF(INDIRECT($A$14&ROW())<>\"\",COUNTIF(Summary!$B$30:$B$1029,INDIRECT($A$14&ROW())),\"\"),\"\")","v":""}]
[{"$f":"IFERROR(IF(INDIRECT($A$14&ROW())<>\"\",COUNTIF(Summary!$B$30:$B$1029,INDIRECT($A$14&ROW())),\"\"),\"\")","v":""}]
[{"$f":"IFERROR(IF(INDIRECT($A$14&ROW())<>\"\",COUNTIF(Summary!$B$30:$B$1029,INDIRECT($A$14&ROW())),\"\"),\"\")","v":""}]
[{"$f":"IFERROR(IF(INDIRECT($A$14&ROW())<>\"\",COUNTIF(Summary!$B$30:$B$1029,INDIRECT($A$14&ROW())),\"\"),\"\")","v":""}]
[{"$f":"IFERROR(IF(INDIRECT($A$14&ROW())<>\"\",COUNTIF(Summary!$B$30:$B$1029,INDIRECT($A$14&ROW())),\"\"),\"\")","v":""}]
[{"$f":"IFERROR(IF(INDIRECT($A$14&ROW())<>\"\",COUNTIF(Summary!$B$30:$B$1029,INDIRECT($A$14&ROW())),\"\"),\"\")","v":""}]
[{"$f":"IFERROR(IF(INDIRECT($A$14&ROW())<>\"\",COUNTIF(Summary!$B$30:$B$1029,INDIRECT($A$14&ROW())),\"\"),\"\")","v":""}]
[{"$f":"IFERROR(IF(INDIRECT($A$14&ROW())<>\"\",COUNTIF(Summary!$B$30:$B$1029,INDIRECT($A$14&ROW())),\"\"),\"\")","v":""}]
[{"$f":"IFERROR(IF(INDIRECT($A$14&ROW())<>\"\",COUNTIF(Summary!$B$30:$B$1029,INDIRECT($A$14&ROW())),\"\"),\"\")","v":""}]
[{"$f":"IFERROR(IF(INDIRECT($A$14&ROW())<>\"\",COUNTIF(Summary!$B$30:$B$1029,INDIRECT($A$14&ROW())),\"\"),\"\")","v":""}]
[{"$f":"IFERROR(IF(INDIRECT($A$14&ROW())<>\"\",COUNTIF(Summary!$B$30:$B$1029,INDIRECT($A$14&ROW())),\"\"),\"\")","v":""}]
[{"$f":"IFERROR(IF(INDIRECT($A$14&ROW())<>\"\",COUNTIF(Summary!$B$30:$B$1029,INDIRECT($A$14&ROW())),\"\"),\"\")","v":""}]
[{"$f":"IFERROR(IF(INDIRECT($A$14&ROW())<>\"\",COUNTIF(Summary!$B$30:$B$1029,INDIRECT($A$14&ROW())),\"\"),\"\")","v":""}]
[{"$f":"IFERROR(IF(INDIRECT($A$14&ROW())<>\"\",COUNTIF(Summary!$B$30:$B$1029,INDIRECT($A$14&ROW())),\"\"),\"\")","v":""}]
[{"$f":"IFERROR(IF(INDIRECT($A$14&ROW())<>\"\",COUNTIF(Summary!$B$30:$B$1029,INDIRECT($A$14&ROW())),\"\"),\"\")","v":""}]
[{"$f":"IFERROR(IF(INDIRECT($A$14&ROW())<>\"\",COUNTIF(Summary!$B$30:$B$1029,INDIRECT($A$14&ROW())),\"\"),\"\")","v":""}]
[{"$f":"IFERROR(IF(INDIRECT($A$14&ROW())<>\"\",COUNTIF(Summary!$B$30:$B$1029,INDIRECT($A$14&ROW())),\"\"),\"\")","v":""}]
[{"$f":"IFERROR(IF(INDIRECT($A$14&ROW())<>\"\",COUNTIF(Summary!$B$30:$B$1029,INDIRECT($A$14&ROW())),\"\"),\"\")","v":""}]
[{"$f":"IFERROR(IF(INDIRECT($A$14&ROW())<>\"\",COUNTIF(Summary!$B$30:$B$1029,INDIRECT($A$14&ROW())),\"\"),\"\")","v":""}]
[{"$f":"IFERROR(IF(INDIRECT($A$14&ROW())<>\"\",COUNTIF(Summary!$B$30:$B$1029,INDIRECT($A$14&ROW())),\"\"),\"\")","v":""}]
[{"$f":"IFERROR(IF(INDIRECT($A$14&ROW())<>\"\",COUNTIF(Summary!$B$30:$B$1029,INDIRECT($A$14&ROW())),\"\"),\"\")","v":""}]
[{"$f":"IFERROR(IF(INDIRECT($A$14&ROW())<>\"\",COUNTIF(Summary!$B$30:$B$1029,INDIRECT($A$14&ROW())),\"\"),\"\")","v":""}]
[{"$f":"IFERROR(IF(INDIRECT($A$14&ROW())<>\"\",COUNTIF(Summary!$B$30:$B$1029,INDIRECT($A$14&ROW())),\"\"),\"\")","v":""}]
[{"$f":"IFERROR(IF(INDIRECT($A$14&ROW())<>\"\",COUNTIF(Summary!$B$30:$B$1029,INDIRECT($A$14&ROW())),\"\"),\"\")","v":""}]
[{"$f":"IFERROR(IF(INDIRECT($A$14&ROW())<>\"\",COUNTIF(Summary!$B$30:$B$1029,INDIRECT($A$14&ROW())),\"\"),\"\")","v":""}]
[{"$f":"IFERROR(IF(INDIRECT($A$14&ROW())<>\"\",COUNTIF(Summary!$B$30:$B$1029,INDIRECT($A$14&ROW())),\"\"),\"\")","v":""}]
[{"$f":"IFERROR(IF(INDIRECT($A$14&ROW())<>\"\",COUNTIF(Summary!$B$30:$B$1029,INDIRECT($A$14&ROW())),\"\"),\"\")","v":""}]
[{"$f":"IFERROR(IF(INDIRECT($A$14&ROW())<>\"\",COUNTIF(Summary!$B$30:$B$1029,INDIRECT($A$14&ROW())),\"\"),\"\")","v":""}]
[{"$f":"IFERROR(IF(INDIRECT($A$14&ROW())<>\"\",COUNTIF(Summary!$B$30:$B$1029,INDIRECT($A$14&ROW())),\"\"),\"\")","v":""}]
[{"$f":"IFERROR(IF(INDIRECT($A$14&ROW())<>\"\",COUNTIF(Summary!$B$30:$B$1029,INDIRECT($A$14&ROW())),\"\"),\"\")","v":""}]
[{"$f":"IFERROR(IF(INDIRECT($A$14&ROW())<>\"\",COUNTIF(Summary!$B$30:$B$1029,INDIRECT($A$14&ROW())),\"\"),\"\")","v":""}]
[{"$f":"IFERROR(IF(INDIRECT($A$14&ROW())<>\"\",COUNTIF(Summary!$B$30:$B$1029,INDIRECT($A$14&ROW())),\"\"),\"\")","v":""}]
[{"$f":"IFERROR(IF(INDIRECT($A$14&ROW())<>\"\",COUNTIF(Summary!$B$30:$B$1029,INDIRECT($A$14&ROW())),\"\"),\"\")","v":""}]
[{"$f":"IFERROR(IF(INDIRECT($A$14&ROW())<>\"\",COUNTIF(Summary!$B$30:$B$1029,INDIRECT($A$14&ROW())),\"\"),\"\")","v":""}]
[{"$f":"IFERROR(IF(INDIRECT($A$14&ROW())<>\"\",COUNTIF(Summary!$B$30:$B$1029,INDIRECT($A$14&ROW())),\"\"),\"\")","v":""}]
[{"$f":"IFERROR(IF(INDIRECT($A$14&ROW())<>\"\",COUNTIF(Summary!$B$30:$B$1029,INDIRECT($A$14&ROW())),\"\"),\"\")","v":""}]
[{"$f":"IFERROR(IF(INDIRECT($A$14&ROW())<>\"\",COUNTIF(Summary!$B$30:$B$1029,INDIRECT($A$14&ROW())),\"\"),\"\")","v":""}]
[{"$f":"IFERROR(IF(INDIRECT($A$14&ROW())<>\"\",COUNTIF(Summary!$B$30:$B$1029,INDIRECT($A$14&ROW())),\"\"),\"\")","v":""}]
[{"$f":"IFERROR(IF(INDIRECT($A$14&ROW())<>\"\",COUNTIF(Summary!$B$30:$B$1029,INDIRECT($A$14&ROW())),\"\"),\"\")","v":""}]
[{"$f":"IFERROR(IF(INDIRECT($A$14&ROW())<>\"\",COUNTIF(Summary!$B$30:$B$1029,INDIRECT($A$14&ROW())),\"\"),\"\")","v":""}]
[{"$f":"IFERROR(IF(INDIRECT($A$14&ROW())<>\"\",COUNTIF(Summary!$B$30:$B$1029,INDIRECT($A$14&ROW())),\"\"),\"\")","v":""}]
[{"$f":"IFERROR(IF(INDIRECT($A$14&ROW())<>\"\",COUNTIF(Summary!$B$30:$B$1029,INDIRECT($A$14&ROW())),\"\"),\"\")","v":""}]
[{"$f":"IFERROR(IF(INDIRECT($A$14&ROW())<>\"\",COUNTIF(Summary!$B$30:$B$1029,INDIRECT($A$14&ROW())),\"\"),\"\")","v":""}]
[{"$f":"IFERROR(IF(INDIRECT($A$14&ROW())<>\"\",COUNTIF(Summary!$B$30:$B$1029,INDIRECT($A$14&ROW())),\"\"),\"\")","v":""}]
[{"$f":"IFERROR(IF(INDIRECT($A$14&ROW())<>\"\",COUNTIF(Summary!$B$30:$B$1029,INDIRECT($A$14&ROW())),\"\"),\"\")","v":""}]
[{"$f":"IFERROR(IF(INDIRECT($A$14&ROW())<>\"\",COUNTIF(Summary!$B$30:$B$1029,INDIRECT($A$14&ROW())),\"\"),\"\")","v":""}]
[{"$f":"IFERROR(IF(INDIRECT($A$14&ROW())<>\"\",COUNTIF(Summary!$B$30:$B$1029,INDIRECT($A$14&ROW())),\"\"),\"\")","v":""}]
[{"$f":"IFERROR(IF(INDIRECT($A$14&ROW())<>\"\",COUNTIF(Summary!$B$30:$B$1029,INDIRECT($A$14&ROW())),\"\"),\"\")","v":""}]
[{"$f":"IFERROR(IF(INDIRECT($A$14&ROW())<>\"\",COUNTIF(Summary!$B$30:$B$1029,INDIRECT($A$14&ROW())),\"\"),\"\")","v":""}]
[{"$f":"IFERROR(IF(INDIRECT($A$14&ROW())<>\"\",COUNTIF(Summary!$B$30:$B$1029,INDIRECT($A$14&ROW())),\"\"),\"\")","v":""}]
[{"$f":"IFERROR(IF(INDIRECT($A$14&ROW())<>\"\",COUNTIF(Summary!$B$30:$B$1029,INDIRECT($A$14&ROW())),\"\"),\"\")","v":""}]
[{"$f":"IFERROR(IF(INDIRECT($A$14&ROW())<>\"\",COUNTIF(Summary!$B$30:$B$1029,INDIRECT($A$14&ROW())),\"\"),\"\")","v":""}]
[{"$f":"IFERROR(IF(INDIRECT($A$14&ROW())<>\"\",COUNTIF(Summary!$B$30:$B$1029,INDIRECT($A$14&ROW())),\"\"),\"\")","v":""}]
[{"$f":"IFERROR(IF(INDIRECT($A$14&ROW())<>\"\",COUNTIF(Summary!$B$30:$B$1029,INDIRECT($A$14&ROW())),\"\"),\"\")","v":""}]
[{"$f":"IFERROR(IF(INDIRECT($A$14&ROW())<>\"\",COUNTIF(Summary!$B$30:$B$1029,INDIRECT($A$14&ROW())),\"\"),\"\")","v":""}]
[{"$f":"IFERROR(IF(INDIRECT($A$14&ROW())<>\"\",COUNTIF(Summary!$B$30:$B$1029,INDIRECT($A$14&ROW())),\"\"),\"\")","v":""}]
[{"$f":"IFERROR(IF(INDIRECT($A$14&ROW())<>\"\",COUNTIF(Summary!$B$30:$B$1029,INDIRECT($A$14&ROW())),\"\"),\"\")","v":""}]
[{"$f":"IFERROR(IF(INDIRECT($A$14&ROW())<>\"\",COUNTIF(Summary!$B$30:$B$1029,INDIRECT($A$14&ROW())),\"\"),\"\")","v":""}]
[{"$f":"IFERROR(IF(INDIRECT($A$14&ROW())<>\"\",COUNTIF(Summary!$B$30:$B$1029,INDIRECT($A$14&ROW())),\"\"),\"\")","v":""}]
[{"$f":"IFERROR(IF(INDIRECT($A$14&ROW())<>\"\",COUNTIF(Summary!$B$30:$B$1029,INDIRECT($A$14&ROW())),\"\"),\"\")","v":""}]
[{"$f":"IFERROR(IF(INDIRECT($A$14&ROW())<>\"\",COUNTIF(Summary!$B$30:$B$1029,INDIRECT($A$14&ROW())),\"\"),\"\")","v":""}]
[{"$f":"IFERROR(IF(INDIRECT($A$14&ROW())<>\"\",COUNTIF(Summary!$B$30:$B$1029,INDIRECT($A$14&ROW())),\"\"),\"\")","v":""}]
[{"$f":"IFERROR(IF(INDIRECT($A$14&ROW())<>\"\",COUNTIF(Summary!$B$30:$B$1029,INDIRECT($A$14&ROW())),\"\"),\"\")","v":""}]
[{"$f":"IFERROR(IF(INDIRECT($A$14&ROW())<>\"\",COUNTIF(Summary!$B$30:$B$1029,INDIRECT($A$14&ROW())),\"\"),\"\")","v":""}]
[{"$f":"IFERROR(IF(INDIRECT($A$14&ROW())<>\"\",COUNTIF(Summary!$B$30:$B$1029,INDIRECT($A$14&ROW())),\"\"),\"\")","v":""}]
[{"$f":"IFERROR(IF(INDIRECT($A$14&ROW())<>\"\",COUNTIF(Summary!$B$30:$B$1029,INDIRECT($A$14&ROW())),\"\"),\"\")","v":""}]
[{"$f":"IFERROR(IF(INDIRECT($A$14&ROW())<>\"\",COUNTIF(Summary!$B$30:$B$1029,INDIRECT($A$14&ROW())),\"\"),\"\")","v":""}]
[{"$f":"IFERROR(IF(INDIRECT($A$14&ROW())<>\"\",COUNTIF(Summary!$B$30:$B$1029,INDIRECT($A$14&ROW())),\"\"),\"\")","v":""}]
[{"$f":"IFERROR(IF(INDIRECT($A$14&ROW())<>\"\",COUNTIF(Summary!$B$30:$B$1029,INDIRECT($A$14&ROW())),\"\"),\"\")","v":""}]
[{"$f":"IFERROR(IF(INDIRECT($A$14&ROW())<>\"\",COUNTIF(Summary!$B$30:$B$1029,INDIRECT($A$14&ROW())),\"\"),\"\")","v":""}]
[{"$f":"IFERROR(IF(INDIRECT($A$14&ROW())<>\"\",COUNTIF(Summary!$B$30:$B$1029,INDIRECT($A$14&ROW())),\"\"),\"\")","v":""}]
[{"$f":"IFERROR(IF(INDIRECT($A$14&ROW())<>\"\",COUNTIF(Summary!$B$30:$B$1029,INDIRECT($A$14&ROW())),\"\"),\"\")","v":""}]
[{"$f":"IFERROR(IF(INDIRECT($A$14&ROW())<>\"\",COUNTIF(Summary!$B$30:$B$1029,INDIRECT($A$14&ROW())),\"\"),\"\")","v":""}]
[{"$f":"IFERROR(IF(INDIRECT($A$14&ROW())<>\"\",COUNTIF(Summary!$B$30:$B$1029,INDIRECT($A$14&ROW())),\"\"),\"\")","v":""}]
[{"$f":"IFERROR(IF(INDIRECT($A$14&ROW())<>\"\",COUNTIF(Summary!$B$30:$B$1029,INDIRECT($A$14&ROW())),\"\"),\"\")","v":""}]
[{"$f":"IFERROR(IF(INDIRECT($A$14&ROW())<>\"\",COUNTIF(Summary!$B$30:$B$1029,INDIRECT($A$14&ROW())),\"\"),\"\")","v":""}]
[{"$f":"IFERROR(IF(INDIRECT($A$14&ROW())<>\"\",COUNTIF(Summary!$B$30:$B$1029,INDIRECT($A$14&ROW())),\"\"),\"\")","v":""}]
[{"$f":"IFERROR(IF(INDIRECT($A$14&ROW())<>\"\",COUNTIF(Summary!$B$30:$B$1029,INDIRECT($A$14&ROW())),\"\"),\"\")","v":""}]
[{"$f":"IFERROR(IF(INDIRECT($A$14&ROW())<>\"\",COUNTIF(Summary!$B$30:$B$1029,INDIRECT($A$14&ROW())),\"\"),\"\")","v":""}]
[{"$f":"IFERROR(IF(INDIRECT($A$14&ROW())<>\"\",COUNTIF(Summary!$B$30:$B$1029,INDIRECT($A$14&ROW())),\"\"),\"\")","v":""}]
[{"$f":"IFERROR(IF(INDIRECT($A$14&ROW())<>\"\",COUNTIF(Summary!$B$30:$B$1029,INDIRECT($A$14&ROW())),\"\"),\"\")","v":""}]
[{"$f":"IFERROR(IF(INDIRECT($A$14&ROW())<>\"\",COUNTIF(Summary!$B$30:$B$1029,INDIRECT($A$14&ROW())),\"\"),\"\")","v":""}]
[{"$f":"IFERROR(IF(INDIRECT($A$14&ROW())<>\"\",COUNTIF(Summary!$B$30:$B$1029,INDIRECT($A$14&ROW())),\"\"),\"\")","v":""}]
[{"$f":"IFERROR(IF(INDIRECT($A$14&ROW())<>\"\",COUNTIF(Summary!$B$30:$B$1029,INDIRECT($A$14&ROW())),\"\"),\"\")","v":""}]
[{"$f":"IFERROR(IF(INDIRECT($A$14&ROW())<>\"\",COUNTIF(Summary!$B$30:$B$1029,INDIRECT($A$14&ROW())),\"\"),\"\")","v":""}]
[{"$f":"IFERROR(IF(INDIRECT($A$14&ROW())<>\"\",COUNTIF(Summary!$B$30:$B$1029,INDIRECT($A$14&ROW())),\"\"),\"\")","v":""}]
[{"$f":"IFERROR(IF(INDIRECT($A$14&ROW())<>\"\",COUNTIF(Summary!$B$30:$B$1029,INDIRECT($A$14&ROW())),\"\"),\"\")","v":""}]
[{"$f":"IFERROR(IF(INDIRECT($A$14&ROW())<>\"\",COUNTIF(Summary!$B$30:$B$1029,INDIRECT($A$14&ROW())),\"\"),\"\")","v":""}]
[{"$f":"IFERROR(IF(INDIRECT($A$14&ROW())<>\"\",COUNTIF(Summary!$B$30:$B$1029,INDIRECT($A$14&ROW())),\"\"),\"\")","v":""}]
[{"$f":"IFERROR(IF(INDIRECT($A$14&ROW())<>\"\",COUNTIF(Summary!$B$30:$B$1029,INDIRECT($A$14&ROW())),\"\"),\"\")","v":""}]
[{"$f":"IFERROR(IF(INDIRECT($A$14&ROW())<>\"\",COUNTIF(Summary!$B$30:$B$1029,INDIRECT($A$14&ROW())),\"\"),\"\")","v":""}]
[{"$f":"IFERROR(IF(INDIRECT($A$14&ROW())<>\"\",COUNTIF(Summary!$B$30:$B$1029,INDIRECT($A$14&ROW())),\"\"),\"\")","v":""}]
[{"$f":"IFERROR(IF(INDIRECT($A$14&ROW())<>\"\",COUNTIF(Summary!$B$30:$B$1029,INDIRECT($A$14&ROW())),\"\"),\"\")","v":""}]
[{"$f":"IFERROR(IF(INDIRECT($A$14&ROW())<>\"\",COUNTIF(Summary!$B$30:$B$1029,INDIRECT($A$14&ROW())),\"\"),\"\")","v":""}]
[{"$f":"IFERROR(IF(INDIRECT($A$14&ROW())<>\"\",COUNTIF(Summary!$B$30:$B$1029,INDIRECT($A$14&ROW())),\"\"),\"\")","v":""}]
[{"$f":"IFERROR(IF(INDIRECT($A$14&ROW())<>\"\",COUNTIF(Summary!$B$30:$B$1029,INDIRECT($A$14&ROW())),\"\"),\"\")","v":""}]
[{"$f":"IFERROR(IF(INDIRECT($A$14&ROW())<>\"\",COUNTIF(Summary!$B$30:$B$1029,INDIRECT($A$14&ROW())),\"\"),\"\")","v":""}]
[{"$f":"IFERROR(IF(INDIRECT($A$14&ROW())<>\"\",COUNTIF(Summary!$B$30:$B$1029,INDIRECT($A$14&ROW())),\"\"),\"\")","v":""}]
[{"$f":"IFERROR(IF(INDIRECT($A$14&ROW())<>\"\",COUNTIF(Summary!$B$30:$B$1029,INDIRECT($A$14&ROW())),\"\"),\"\")","v":""}]
[{"$f":"IFERROR(IF(INDIRECT($A$14&ROW())<>\"\",COUNTIF(Summary!$B$30:$B$1029,INDIRECT($A$14&ROW())),\"\"),\"\")","v":""}]
[{"$f":"IFERROR(IF(INDIRECT($A$14&ROW())<>\"\",COUNTIF(Summary!$B$30:$B$1029,INDIRECT($A$14&ROW())),\"\"),\"\")","v":""}]
[{"$f":"IFERROR(IF(INDIRECT($A$14&ROW())<>\"\",COUNTIF(Summary!$B$30:$B$1029,INDIRECT($A$14&ROW())),\"\"),\"\")","v":""}]
[{"$f":"IFERROR(IF(INDIRECT($A$14&ROW())<>\"\",COUNTIF(Summary!$B$30:$B$1029,INDIRECT($A$14&ROW())),\"\"),\"\")","v":""}]
[{"$f":"IFERROR(IF(INDIRECT($A$14&ROW())<>\"\",COUNTIF(Summary!$B$30:$B$1029,INDIRECT($A$14&ROW())),\"\"),\"\")","v":""}]
[{"$f":"IFERROR(IF(INDIRECT($A$14&ROW())<>\"\",COUNTIF(Summary!$B$30:$B$1029,INDIRECT($A$14&ROW())),\"\"),\"\")","v":""}]
[{"$f":"IFERROR(IF(INDIRECT($A$14&ROW())<>\"\",COUNTIF(Summary!$B$30:$B$1029,INDIRECT($A$14&ROW())),\"\"),\"\")","v":""}]
[{"$f":"IFERROR(IF(INDIRECT($A$14&ROW())<>\"\",COUNTIF(Summary!$B$30:$B$1029,INDIRECT($A$14&ROW())),\"\"),\"\")","v":""}]
[{"$f":"IFERROR(IF(INDIRECT($A$14&ROW())<>\"\",COUNTIF(Summary!$B$30:$B$1029,INDIRECT($A$14&ROW())),\"\"),\"\")","v":""}]
[{"$f":"IFERROR(IF(INDIRECT($A$14&ROW())<>\"\",COUNTIF(Summary!$B$30:$B$1029,INDIRECT($A$14&ROW())),\"\"),\"\")","v":""}]
[{"$f":"IFERROR(IF(INDIRECT($A$14&ROW())<>\"\",COUNTIF(Summary!$B$30:$B$1029,INDIRECT($A$14&ROW())),\"\"),\"\")","v":""}]
[{"$f":"IFERROR(IF(INDIRECT($A$14&ROW())<>\"\",COUNTIF(Summary!$B$30:$B$1029,INDIRECT($A$14&ROW())),\"\"),\"\")","v":""}]
[{"$f":"IFERROR(IF(INDIRECT($A$14&ROW())<>\"\",COUNTIF(Summary!$B$30:$B$1029,INDIRECT($A$14&ROW())),\"\"),\"\")","v":""}]
[{"$f":"IFERROR(IF(INDIRECT($A$14&ROW())<>\"\",COUNTIF(Summary!$B$30:$B$1029,INDIRECT($A$14&ROW())),\"\"),\"\")","v":""}]
[{"$f":"IFERROR(IF(INDIRECT($A$14&ROW())<>\"\",COUNTIF(Summary!$B$30:$B$1029,INDIRECT($A$14&ROW())),\"\"),\"\")","v":""}]
[{"$f":"IFERROR(IF(INDIRECT($A$14&ROW())<>\"\",COUNTIF(Summary!$B$30:$B$1029,INDIRECT($A$14&ROW())),\"\"),\"\")","v":""}]
[{"$f":"IFERROR(IF(INDIRECT($A$14&ROW())<>\"\",COUNTIF(Summary!$B$30:$B$1029,INDIRECT($A$14&ROW())),\"\"),\"\")","v":""}]
[{"$f":"IFERROR(IF(INDIRECT($A$14&ROW())<>\"\",COUNTIF(Summary!$B$30:$B$1029,INDIRECT($A$14&ROW())),\"\"),\"\")","v":""}]
[{"$f":"IFERROR(IF(INDIRECT($A$14&ROW())<>\"\",COUNTIF(Summary!$B$30:$B$1029,INDIRECT($A$14&ROW())),\"\"),\"\")","v":""}]
[{"$f":"IFERROR(IF(INDIRECT($A$14&ROW())<>\"\",COUNTIF(Summary!$B$30:$B$1029,INDIRECT($A$14&ROW())),\"\"),\"\")","v":""}]
[{"$f":"IFERROR(IF(INDIRECT($A$14&ROW())<>\"\",COUNTIF(Summary!$B$30:$B$1029,INDIRECT($A$14&ROW())),\"\"),\"\")","v":""}]
[{"$f":"IFERROR(IF(INDIRECT($A$14&ROW())<>\"\",COUNTIF(Summary!$B$30:$B$1029,INDIRECT($A$14&ROW())),\"\"),\"\")","v":""}]
[{"$f":"IFERROR(IF(INDIRECT($A$14&ROW())<>\"\",COUNTIF(Summary!$B$30:$B$1029,INDIRECT($A$14&ROW())),\"\"),\"\")","v":""}]
[{"$f":"IFERROR(IF(INDIRECT($A$14&ROW())<>\"\",COUNTIF(Summary!$B$30:$B$1029,INDIRECT($A$14&ROW())),\"\"),\"\")","v":""}]
[{"$f":"IFERROR(IF(INDIRECT($A$14&ROW())<>\"\",COUNTIF(Summary!$B$30:$B$1029,INDIRECT($A$14&ROW())),\"\"),\"\")","v":""}]
[{"$f":"IFERROR(IF(INDIRECT($A$14&ROW())<>\"\",COUNTIF(Summary!$B$30:$B$1029,INDIRECT($A$14&ROW())),\"\"),\"\")","v":""}]
[{"$f":"IFERROR(IF(INDIRECT($A$14&ROW())<>\"\",COUNTIF(Summary!$B$30:$B$1029,INDIRECT($A$14&ROW())),\"\"),\"\")","v":""}]
[{"$f":"IFERROR(IF(INDIRECT($A$14&ROW())<>\"\",COUNTIF(Summary!$B$30:$B$1029,INDIRECT($A$14&ROW())),\"\"),\"\")","v":""}]
[{"$f":"IFERROR(IF(INDIRECT($A$14&ROW())<>\"\",COUNTIF(Summary!$B$30:$B$1029,INDIRECT($A$14&ROW())),\"\"),\"\")","v":""}]
[{"$f":"IFERROR(IF(INDIRECT($A$14&ROW())<>\"\",COUNTIF(Summary!$B$30:$B$1029,INDIRECT($A$14&ROW())),\"\"),\"\")","v":""}]
[{"$f":"IFERROR(IF(INDIRECT($A$14&ROW())<>\"\",COUNTIF(Summary!$B$30:$B$1029,INDIRECT($A$14&ROW())),\"\"),\"\")","v":""}]
[{"$f":"IFERROR(IF(INDIRECT($A$14&ROW())<>\"\",COUNTIF(Summary!$B$30:$B$1029,INDIRECT($A$14&ROW())),\"\"),\"\")","v":""}]
[{"$f":"IFERROR(IF(INDIRECT($A$14&ROW())<>\"\",COUNTIF(Summary!$B$30:$B$1029,INDIRECT($A$14&ROW())),\"\"),\"\")","v":""}]
[{"$f":"IFERROR(IF(INDIRECT($A$14&ROW())<>\"\",COUNTIF(Summary!$B$30:$B$1029,INDIRECT($A$14&ROW())),\"\"),\"\")","v":""}]
[{"$f":"IFERROR(IF(INDIRECT($A$14&ROW())<>\"\",COUNTIF(Summary!$B$30:$B$1029,INDIRECT($A$14&ROW())),\"\"),\"\")","v":""}]
[{"$f":"IFERROR(IF(INDIRECT($A$14&ROW())<>\"\",COUNTIF(Summary!$B$30:$B$1029,INDIRECT($A$14&ROW())),\"\"),\"\")","v":""}]
[{"$f":"IFERROR(IF(INDIRECT($A$14&ROW())<>\"\",COUNTIF(Summary!$B$30:$B$1029,INDIRECT($A$14&ROW())),\"\"),\"\")","v":""}]
[{"$f":"IFERROR(IF(INDIRECT($A$14&ROW())<>\"\",COUNTIF(Summary!$B$30:$B$1029,INDIRECT($A$14&ROW())),\"\"),\"\")","v":""}]
[{"$f":"IFERROR(IF(INDIRECT($A$14&ROW())<>\"\",COUNTIF(Summary!$B$30:$B$1029,INDIRECT($A$14&ROW())),\"\"),\"\")","v":""}]
[{"$f":"IFERROR(IF(INDIRECT($A$14&ROW())<>\"\",COUNTIF(Summary!$B$30:$B$1029,INDIRECT($A$14&ROW())),\"\"),\"\")","v":""}]
[{"$f":"IFERROR(IF(INDIRECT($A$14&ROW())<>\"\",COUNTIF(Summary!$B$30:$B$1029,INDIRECT($A$14&ROW())),\"\"),\"\")","v":""}]
[{"$f":"IFERROR(IF(INDIRECT($A$14&ROW())<>\"\",COUNTIF(Summary!$B$30:$B$1029,INDIRECT($A$14&ROW())),\"\"),\"\")","v":""}]
[{"$f":"IFERROR(IF(INDIRECT($A$14&ROW())<>\"\",COUNTIF(Summary!$B$30:$B$1029,INDIRECT($A$14&ROW())),\"\"),\"\")","v":""}]
[{"$f":"IFERROR(IF(INDIRECT($A$14&ROW())<>\"\",COUNTIF(Summary!$B$30:$B$1029,INDIRECT($A$14&ROW())),\"\"),\"\")","v":""}]
[{"$f":"IFERROR(IF(INDIRECT($A$14&ROW())<>\"\",COUNTIF(Summary!$B$30:$B$1029,INDIRECT($A$14&ROW())),\"\"),\"\")","v":""}]
[{"$f":"IFERROR(IF(INDIRECT($A$14&ROW())<>\"\",COUNTIF(Summary!$B$30:$B$1029,INDIRECT($A$14&ROW())),\"\"),\"\")","v":""}]
[{"$f":"IFERROR(IF(INDIRECT($A$14&ROW())<>\"\",COUNTIF(Summary!$B$30:$B$1029,INDIRECT($A$14&ROW())),\"\"),\"\")","v":""}]
[{"$f":"IFERROR(IF(INDIRECT($A$14&ROW())<>\"\",COUNTIF(Summary!$B$30:$B$1029,INDIRECT($A$14&ROW())),\"\"),\"\")","v":""}]
[{"$f":"IFERROR(IF(INDIRECT($A$14&ROW())<>\"\",COUNTIF(Summary!$B$30:$B$1029,INDIRECT($A$14&ROW())),\"\"),\"\")","v":""}]
[{"$f":"IFERROR(IF(INDIRECT($A$14&ROW())<>\"\",COUNTIF(Summary!$B$30:$B$1029,INDIRECT($A$14&ROW())),\"\"),\"\")","v":""}]
[{"$f":"IFERROR(IF(INDIRECT($A$14&ROW())<>\"\",COUNTIF(Summary!$B$30:$B$1029,INDIRECT($A$14&ROW())),\"\"),\"\")","v":""}]
[{"$f":"IFERROR(IF(INDIRECT($A$14&ROW())<>\"\",COUNTIF(Summary!$B$30:$B$1029,INDIRECT($A$14&ROW())),\"\"),\"\")","v":""}]
[{"$f":"IFERROR(IF(INDIRECT($A$14&ROW())<>\"\",COUNTIF(Summary!$B$30:$B$1029,INDIRECT($A$14&ROW())),\"\"),\"\")","v":""}]
[{"$f":"IFERROR(IF(INDIRECT($A$14&ROW())<>\"\",COUNTIF(Summary!$B$30:$B$1029,INDIRECT($A$14&ROW())),\"\"),\"\")","v":""}]
[{"$f":"IFERROR(IF(INDIRECT($A$14&ROW())<>\"\",COUNTIF(Summary!$B$30:$B$1029,INDIRECT($A$14&ROW())),\"\"),\"\")","v":""}]
[{"$f":"IFERROR(IF(INDIRECT($A$14&ROW())<>\"\",COUNTIF(Summary!$B$30:$B$1029,INDIRECT($A$14&ROW())),\"\"),\"\")","v":""}]
[{"$f":"IFERROR(IF(INDIRECT($A$14&ROW())<>\"\",COUNTIF(Summary!$B$30:$B$1029,INDIRECT($A$14&ROW())),\"\"),\"\")","v":""}]
[{"$f":"IFERROR(IF(INDIRECT($A$14&ROW())<>\"\",COUNTIF(Summary!$B$30:$B$1029,INDIRECT($A$14&ROW())),\"\"),\"\")","v":""}]
[{"$f":"IFERROR(IF(INDIRECT($A$14&ROW())<>\"\",COUNTIF(Summary!$B$30:$B$1029,INDIRECT($A$14&ROW())),\"\"),\"\")","v":""}]
[{"$f":"IFERROR(IF(INDIRECT($A$14&ROW())<>\"\",COUNTIF(Summary!$B$30:$B$1029,INDIRECT($A$14&ROW())),\"\"),\"\")","v":""}]
[{"$f":"IFERROR(IF(INDIRECT($A$14&ROW())<>\"\",COUNTIF(Summary!$B$30:$B$1029,INDIRECT($A$14&ROW())),\"\"),\"\")","v":""}]
[{"$f":"IFERROR(IF(INDIRECT($A$14&ROW())<>\"\",COUNTIF(Summary!$B$30:$B$1029,INDIRECT($A$14&ROW())),\"\"),\"\")","v":""}]
[{"$f":"IFERROR(IF(INDIRECT($A$14&ROW())<>\"\",COUNTIF(Summary!$B$30:$B$1029,INDIRECT($A$14&ROW())),\"\"),\"\")","v":""}]
[{"$f":"IFERROR(IF(INDIRECT($A$14&ROW())<>\"\",COUNTIF(Summary!$B$30:$B$1029,INDIRECT($A$14&ROW())),\"\"),\"\")","v":""}]
[{"$f":"IFERROR(IF(INDIRECT($A$14&ROW())<>\"\",COUNTIF(Summary!$B$30:$B$1029,INDIRECT($A$14&ROW())),\"\"),\"\")","v":""}]
[{"$f":"IFERROR(IF(INDIRECT($A$14&ROW())<>\"\",COUNTIF(Summary!$B$30:$B$1029,INDIRECT($A$14&ROW())),\"\"),\"\")","v":""}]
[{"$f":"IFERROR(IF(INDIRECT($A$14&ROW())<>\"\",COUNTIF(Summary!$B$30:$B$1029,INDIRECT($A$14&ROW())),\"\"),\"\")","v":""}]
[{"$f":"IFERROR(IF(INDIRECT($A$14&ROW())<>\"\",COUNTIF(Summary!$B$30:$B$1029,INDIRECT($A$14&ROW())),\"\"),\"\")","v":""}]
[{"$f":"IFERROR(IF(INDIRECT($A$14&ROW())<>\"\",COUNTIF(Summary!$B$30:$B$1029,INDIRECT($A$14&ROW())),\"\"),\"\")","v":""}]
[{"$f":"IFERROR(IF(INDIRECT($A$14&ROW())<>\"\",COUNTIF(Summary!$B$30:$B$1029,INDIRECT($A$14&ROW())),\"\"),\"\")","v":""}]
[{"$f":"IFERROR(IF(INDIRECT($A$14&ROW())<>\"\",COUNTIF(Summary!$B$30:$B$1029,INDIRECT($A$14&ROW())),\"\"),\"\")","v":""}]
[{"$f":"IFERROR(IF(INDIRECT($A$14&ROW())<>\"\",COUNTIF(Summary!$B$30:$B$1029,INDIRECT($A$14&ROW())),\"\"),\"\")","v":""}]
[{"$f":"IFERROR(IF(INDIRECT($A$14&ROW())<>\"\",COUNTIF(Summary!$B$30:$B$1029,INDIRECT($A$14&ROW())),\"\"),\"\")","v":""}]
[{"$f":"IFERROR(IF(INDIRECT($A$14&ROW())<>\"\",COUNTIF(Summary!$B$30:$B$1029,INDIRECT($A$14&ROW())),\"\"),\"\")","v":""}]
[{"$f":"IFERROR(IF(INDIRECT($A$14&ROW())<>\"\",COUNTIF(Summary!$B$30:$B$1029,INDIRECT($A$14&ROW())),\"\"),\"\")","v":""}]
[{"$f":"IFERROR(IF(INDIRECT($A$14&ROW())<>\"\",COUNTIF(Summary!$B$30:$B$1029,INDIRECT($A$14&ROW())),\"\"),\"\")","v":""}]
[{"$f":"IFERROR(IF(INDIRECT($A$14&ROW())<>\"\",COUNTIF(Summary!$B$30:$B$1029,INDIRECT($A$14&ROW())),\"\"),\"\")","v":""}]
[{"$f":"IFERROR(IF(INDIRECT($A$14&ROW())<>\"\",COUNTIF(Summary!$B$30:$B$1029,INDIRECT($A$14&ROW())),\"\"),\"\")","v":""}]
[{"$f":"IFERROR(IF(INDIRECT($A$14&ROW())<>\"\",COUNTIF(Summary!$B$30:$B$1029,INDIRECT($A$14&ROW())),\"\"),\"\")","v":""}]
[{"$f":"IFERROR(IF(INDIRECT($A$14&ROW())<>\"\",COUNTIF(Summary!$B$30:$B$1029,INDIRECT($A$14&ROW())),\"\"),\"\")","v":""}]
[{"$f":"IFERROR(IF(INDIRECT($A$14&ROW())<>\"\",COUNTIF(Summary!$B$30:$B$1029,INDIRECT($A$14&ROW())),\"\"),\"\")","v":""}]
[{"$f":"IFERROR(IF(INDIRECT($A$14&ROW())<>\"\",COUNTIF(Summary!$B$30:$B$1029,INDIRECT($A$14&ROW())),\"\"),\"\")","v":""}]
[{"$f":"IFERROR(IF(INDIRECT($A$14&ROW())<>\"\",COUNTIF(Summary!$B$30:$B$1029,INDIRECT($A$14&ROW())),\"\"),\"\")","v":""}]
[{"$f":"IFERROR(IF(INDIRECT($A$14&ROW())<>\"\",COUNTIF(Summary!$B$30:$B$1029,INDIRECT($A$14&ROW())),\"\"),\"\")","v":""}]
[{"$f":"IFERROR(IF(INDIRECT($A$14&ROW())<>\"\",COUNTIF(Summary!$B$30:$B$1029,INDIRECT($A$14&ROW())),\"\"),\"\")","v":""}]
[{"$f":"IFERROR(IF(INDIRECT($A$14&ROW())<>\"\",COUNTIF(Summary!$B$30:$B$1029,INDIRECT($A$14&ROW())),\"\"),\"\")","v":""}]
[{"$f":"IFERROR(IF(INDIRECT($A$14&ROW())<>\"\",COUNTIF(Summary!$B$30:$B$1029,INDIRECT($A$14&ROW())),\"\"),\"\")","v":""}]
[{"$f":"IFERROR(IF(INDIRECT($A$14&ROW())<>\"\",COUNTIF(Summary!$B$30:$B$1029,INDIRECT($A$14&ROW())),\"\"),\"\")","v":""}]
[{"$f":"IFERROR(IF(INDIRECT($A$14&ROW())<>\"\",COUNTIF(Summary!$B$30:$B$1029,INDIRECT($A$14&ROW())),\"\"),\"\")","v":""}]
[{"$f":"IFERROR(IF(INDIRECT($A$14&ROW())<>\"\",COUNTIF(Summary!$B$30:$B$1029,INDIRECT($A$14&ROW())),\"\"),\"\")","v":""}]
[{"$f":"IFERROR(IF(INDIRECT($A$14&ROW())<>\"\",COUNTIF(Summary!$B$30:$B$1029,INDIRECT($A$14&ROW())),\"\"),\"\")","v":""}]
[{"$f":"IFERROR(IF(INDIRECT($A$14&ROW())<>\"\",COUNTIF(Summary!$B$30:$B$1029,INDIRECT($A$14&ROW())),\"\"),\"\")","v":""}]
[{"$f":"IFERROR(IF(INDIRECT($A$14&ROW())<>\"\",COUNTIF(Summary!$B$30:$B$1029,INDIRECT($A$14&ROW())),\"\"),\"\")","v":""}]
[{"$f":"IFERROR(IF(INDIRECT($A$14&ROW())<>\"\",COUNTIF(Summary!$B$30:$B$1029,INDIRECT($A$14&ROW())),\"\"),\"\")","v":""}]
[{"$f":"IFERROR(IF(INDIRECT($A$14&ROW())<>\"\",COUNTIF(Summary!$B$30:$B$1029,INDIRECT($A$14&ROW())),\"\"),\"\")","v":""}]
[{"$f":"IFERROR(IF(INDIRECT($A$14&ROW())<>\"\",COUNTIF(Summary!$B$30:$B$1029,INDIRECT($A$14&ROW())),\"\"),\"\")","v":""}]
[{"$f":"IFERROR(IF(INDIRECT($A$14&ROW())<>\"\",COUNTIF(Summary!$B$30:$B$1029,INDIRECT($A$14&ROW())),\"\"),\"\")","v":""}]
[{"$f":"IFERROR(IF(INDIRECT($A$14&ROW())<>\"\",COUNTIF(Summary!$B$30:$B$1029,INDIRECT($A$14&ROW())),\"\"),\"\")","v":""}]
[{"$f":"IFERROR(IF(INDIRECT($A$14&ROW())<>\"\",COUNTIF(Summary!$B$30:$B$1029,INDIRECT($A$14&ROW())),\"\"),\"\")","v":""}]
[{"$f":"IFERROR(IF(INDIRECT($A$14&ROW())<>\"\",COUNTIF(Summary!$B$30:$B$1029,INDIRECT($A$14&ROW())),\"\"),\"\")","v":""}]
[{"$f":"IFERROR(IF(INDIRECT($A$14&ROW())<>\"\",COUNTIF(Summary!$B$30:$B$1029,INDIRECT($A$14&ROW())),\"\"),\"\")","v":""}]
[{"$f":"IFERROR(IF(INDIRECT($A$14&ROW())<>\"\",COUNTIF(Summary!$B$30:$B$1029,INDIRECT($A$14&ROW())),\"\"),\"\")","v":""}]
[{"$f":"IFERROR(IF(INDIRECT($A$14&ROW())<>\"\",COUNTIF(Summary!$B$30:$B$1029,INDIRECT($A$14&ROW())),\"\"),\"\")","v":""}]
[{"$f":"IFERROR(IF(INDIRECT($A$14&ROW())<>\"\",COUNTIF(Summary!$B$30:$B$1029,INDIRECT($A$14&ROW())),\"\"),\"\")","v":""}]
[{"$f":"IFERROR(IF(INDIRECT($A$14&ROW())<>\"\",COUNTIF(Summary!$B$30:$B$1029,INDIRECT($A$14&ROW())),\"\"),\"\")","v":""}]
[{"$f":"IFERROR(IF(INDIRECT($A$14&ROW())<>\"\",COUNTIF(Summary!$B$30:$B$1029,INDIRECT($A$14&ROW())),\"\"),\"\")","v":""}]
[{"$f":"IFERROR(IF(INDIRECT($A$14&ROW())<>\"\",COUNTIF(Summary!$B$30:$B$1029,INDIRECT($A$14&ROW())),\"\"),\"\")","v":""}]
[{"$f":"IFERROR(IF(INDIRECT($A$14&ROW())<>\"\",COUNTIF(Summary!$B$30:$B$1029,INDIRECT($A$14&ROW())),\"\"),\"\")","v":""}]
[{"$f":"IFERROR(IF(INDIRECT($A$14&ROW())<>\"\",COUNTIF(Summary!$B$30:$B$1029,INDIRECT($A$14&ROW())),\"\"),\"\")","v":""}]
[{"$f":"IFERROR(IF(INDIRECT($A$14&ROW())<>\"\",COUNTIF(Summary!$B$30:$B$1029,INDIRECT($A$14&ROW())),\"\"),\"\")","v":""}]
[{"$f":"IFERROR(IF(INDIRECT($A$14&ROW())<>\"\",COUNTIF(Summary!$B$30:$B$1029,INDIRECT($A$14&ROW())),\"\"),\"\")","v":""}]
[{"$f":"IFERROR(IF(INDIRECT($A$14&ROW())<>\"\",COUNTIF(Summary!$B$30:$B$1029,INDIRECT($A$14&ROW())),\"\"),\"\")","v":""}]
[{"$f":"IFERROR(IF(INDIRECT($A$14&ROW())<>\"\",COUNTIF(Summary!$B$30:$B$1029,INDIRECT($A$14&ROW())),\"\"),\"\")","v":""}]
[{"$f":"IFERROR(IF(INDIRECT($A$14&ROW())<>\"\",COUNTIF(Summary!$B$30:$B$1029,INDIRECT($A$14&ROW())),\"\"),\"\")","v":""}]
[{"$f":"IFERROR(IF(INDIRECT($A$14&ROW())<>\"\",COUNTIF(Summary!$B$30:$B$1029,INDIRECT($A$14&ROW())),\"\"),\"\")","v":""}]
[{"$f":"IFERROR(IF(INDIRECT($A$14&ROW())<>\"\",COUNTIF(Summary!$B$30:$B$1029,INDIRECT($A$14&ROW())),\"\"),\"\")","v":""}]
[{"$f":"IFERROR(IF(INDIRECT($A$14&ROW())<>\"\",COUNTIF(Summary!$B$30:$B$1029,INDIRECT($A$14&ROW())),\"\"),\"\")","v":""}]
[{"$f":"IFERROR(IF(INDIRECT($A$14&ROW())<>\"\",COUNTIF(Summary!$B$30:$B$1029,INDIRECT($A$14&ROW())),\"\"),\"\")","v":""}]
[{"$f":"IFERROR(IF(INDIRECT($A$14&ROW())<>\"\",COUNTIF(Summary!$B$30:$B$1029,INDIRECT($A$14&ROW())),\"\"),\"\")","v":""}]
[{"$f":"IFERROR(IF(INDIRECT($A$14&ROW())<>\"\",COUNTIF(Summary!$B$30:$B$1029,INDIRECT($A$14&ROW())),\"\"),\"\")","v":""}]
[{"$f":"IFERROR(IF(INDIRECT($A$14&ROW())<>\"\",COUNTIF(Summary!$B$30:$B$1029,INDIRECT($A$14&ROW())),\"\"),\"\")","v":""}]
[{"$f":"IFERROR(IF(INDIRECT($A$14&ROW())<>\"\",COUNTIF(Summary!$B$30:$B$1029,INDIRECT($A$14&ROW())),\"\"),\"\")","v":""}]
[{"$f":"IFERROR(IF(INDIRECT($A$14&ROW())<>\"\",COUNTIF(Summary!$B$30:$B$1029,INDIRECT($A$14&ROW())),\"\"),\"\")","v":""}]
[{"$f":"IFERROR(IF(INDIRECT($A$14&ROW())<>\"\",COUNTIF(Summary!$B$30:$B$1029,INDIRECT($A$14&ROW())),\"\"),\"\")","v":""}]
[{"$f":"IFERROR(IF(INDIRECT($A$14&ROW())<>\"\",COUNTIF(Summary!$B$30:$B$1029,INDIRECT($A$14&ROW())),\"\"),\"\")","v":""}]
[{"$f":"IFERROR(IF(INDIRECT($A$14&ROW())<>\"\",COUNTIF(Summary!$B$30:$B$1029,INDIRECT($A$14&ROW())),\"\"),\"\")","v":""}]
[{"$f":"IFERROR(IF(INDIRECT($A$14&ROW())<>\"\",COUNTIF(Summary!$B$30:$B$1029,INDIRECT($A$14&ROW())),\"\"),\"\")","v":""}]
[{"$f":"IFERROR(IF(INDIRECT($A$14&ROW())<>\"\",COUNTIF(Summary!$B$30:$B$1029,INDIRECT($A$14&ROW())),\"\"),\"\")","v":""}]
[{"$f":"IFERROR(IF(INDIRECT($A$14&ROW())<>\"\",COUNTIF(Summary!$B$30:$B$1029,INDIRECT($A$14&ROW())),\"\"),\"\")","v":""}]
[{"$f":"IFERROR(IF(INDIRECT($A$14&ROW())<>\"\",COUNTIF(Summary!$B$30:$B$1029,INDIRECT($A$14&ROW())),\"\"),\"\")","v":""}]
[{"$f":"IFERROR(IF(INDIRECT($A$14&ROW())<>\"\",COUNTIF(Summary!$B$30:$B$1029,INDIRECT($A$14&ROW())),\"\"),\"\")","v":""}]
[{"$f":"IFERROR(IF(INDIRECT($A$14&ROW())<>\"\",COUNTIF(Summary!$B$30:$B$1029,INDIRECT($A$14&ROW())),\"\"),\"\")","v":""}]
[{"$f":"IFERROR(IF(INDIRECT($A$14&ROW())<>\"\",COUNTIF(Summary!$B$30:$B$1029,INDIRECT($A$14&ROW())),\"\"),\"\")","v":""}]
[{"$f":"IFERROR(IF(INDIRECT($A$14&ROW())<>\"\",COUNTIF(Summary!$B$30:$B$1029,INDIRECT($A$14&ROW())),\"\"),\"\")","v":""}]
[{"$f":"IFERROR(IF(INDIRECT($A$14&ROW())<>\"\",COUNTIF(Summary!$B$30:$B$1029,INDIRECT($A$14&ROW())),\"\"),\"\")","v":""}]
[{"$f":"IFERROR(IF(INDIRECT($A$14&ROW())<>\"\",COUNTIF(Summary!$B$30:$B$1029,INDIRECT($A$14&ROW())),\"\"),\"\")","v":""}]
[{"$f":"IFERROR(IF(INDIRECT($A$14&ROW())<>\"\",COUNTIF(Summary!$B$30:$B$1029,INDIRECT($A$14&ROW())),\"\"),\"\")","v":""}]
[{"$f":"IFERROR(IF(INDIRECT($A$14&ROW())<>\"\",COUNTIF(Summary!$B$30:$B$1029,INDIRECT($A$14&ROW())),\"\"),\"\")","v":""}]
[{"$f":"IFERROR(IF(INDIRECT($A$14&ROW())<>\"\",COUNTIF(Summary!$B$30:$B$1029,INDIRECT($A$14&ROW())),\"\"),\"\")","v":""}]
[{"$f":"IFERROR(IF(INDIRECT($A$14&ROW())<>\"\",COUNTIF(Summary!$B$30:$B$1029,INDIRECT($A$14&ROW())),\"\"),\"\")","v":""}]
[{"$f":"IFERROR(IF(INDIRECT($A$14&ROW())<>\"\",COUNTIF(Summary!$B$30:$B$1029,INDIRECT($A$14&ROW())),\"\"),\"\")","v":""}]
[{"$f":"IFERROR(IF(INDIRECT($A$14&ROW())<>\"\",COUNTIF(Summary!$B$30:$B$1029,INDIRECT($A$14&ROW())),\"\"),\"\")","v":""}]
[{"$f":"IFERROR(IF(INDIRECT($A$14&ROW())<>\"\",COUNTIF(Summary!$B$30:$B$1029,INDIRECT($A$14&ROW())),\"\"),\"\")","v":""}]
[{"$f":"IFERROR(IF(INDIRECT($A$14&ROW())<>\"\",COUNTIF(Summary!$B$30:$B$1029,INDIRECT($A$14&ROW())),\"\"),\"\")","v":""}]
[{"$f":"IFERROR(IF(INDIRECT($A$14&ROW())<>\"\",COUNTIF(Summary!$B$30:$B$1029,INDIRECT($A$14&ROW())),\"\"),\"\")","v":""}]
[{"$f":"IFERROR(IF(INDIRECT($A$14&ROW())<>\"\",COUNTIF(Summary!$B$30:$B$1029,INDIRECT($A$14&ROW())),\"\"),\"\")","v":""}]
[{"$f":"IFERROR(IF(INDIRECT($A$14&ROW())<>\"\",COUNTIF(Summary!$B$30:$B$1029,INDIRECT($A$14&ROW())),\"\"),\"\")","v":""}]
[{"$f":"IFERROR(IF(INDIRECT($A$14&ROW())<>\"\",COUNTIF(Summary!$B$30:$B$1029,INDIRECT($A$14&ROW())),\"\"),\"\")","v":""}]
[{"$f":"IFERROR(IF(INDIRECT($A$14&ROW())<>\"\",COUNTIF(Summary!$B$30:$B$1029,INDIRECT($A$14&ROW())),\"\"),\"\")","v":""}]
[{"$f":"IFERROR(IF(INDIRECT($A$14&ROW())<>\"\",COUNTIF(Summary!$B$30:$B$1029,INDIRECT($A$14&ROW())),\"\"),\"\")","v":""}]
[{"$f":"IFERROR(IF(INDIRECT($A$14&ROW())<>\"\",COUNTIF(Summary!$B$30:$B$1029,INDIRECT($A$14&ROW())),\"\"),\"\")","v":""}]
[{"$f":"IFERROR(IF(INDIRECT($A$14&ROW())<>\"\",COUNTIF(Summary!$B$30:$B$1029,INDIRECT($A$14&ROW())),\"\"),\"\")","v":""}]
[{"$f":"IFERROR(IF(INDIRECT($A$14&ROW())<>\"\",COUNTIF(Summary!$B$30:$B$1029,INDIRECT($A$14&ROW())),\"\"),\"\")","v":""}]
[{"$f":"IFERROR(IF(INDIRECT($A$14&ROW())<>\"\",COUNTIF(Summary!$B$30:$B$1029,INDIRECT($A$14&ROW())),\"\"),\"\")","v":""}]
[{"$f":"IFERROR(IF(INDIRECT($A$14&ROW())<>\"\",COUNTIF(Summary!$B$30:$B$1029,INDIRECT($A$14&ROW())),\"\"),\"\")","v":""}]
[{"$f":"IFERROR(IF(INDIRECT($A$14&ROW())<>\"\",COUNTIF(Summary!$B$30:$B$1029,INDIRECT($A$14&ROW())),\"\"),\"\")","v":""}]
[{"$f":"IFERROR(IF(INDIRECT($A$14&ROW())<>\"\",COUNTIF(Summary!$B$30:$B$1029,INDIRECT($A$14&ROW())),\"\"),\"\")","v":""}]
[{"$f":"IFERROR(IF(INDIRECT($A$14&ROW())<>\"\",COUNTIF(Summary!$B$30:$B$1029,INDIRECT($A$14&ROW())),\"\"),\"\")","v":""}]
[{"$f":"IFERROR(IF(INDIRECT($A$14&ROW())<>\"\",COUNTIF(Summary!$B$30:$B$1029,INDIRECT($A$14&ROW())),\"\"),\"\")","v":""}]
[{"$f":"IFERROR(IF(INDIRECT($A$14&ROW())<>\"\",COUNTIF(Summary!$B$30:$B$1029,INDIRECT($A$14&ROW())),\"\"),\"\")","v":""}]
[{"$f":"IFERROR(IF(INDIRECT($A$14&ROW())<>\"\",COUNTIF(Summary!$B$30:$B$1029,INDIRECT($A$14&ROW())),\"\"),\"\")","v":""}]
[{"$f":"IFERROR(IF(INDIRECT($A$14&ROW())<>\"\",COUNTIF(Summary!$B$30:$B$1029,INDIRECT($A$14&ROW())),\"\"),\"\")","v":""}]
[{"$f":"IFERROR(IF(INDIRECT($A$14&ROW())<>\"\",COUNTIF(Summary!$B$30:$B$1029,INDIRECT($A$14&ROW())),\"\"),\"\")","v":""}]
[{"$f":"IFERROR(IF(INDIRECT($A$14&ROW())<>\"\",COUNTIF(Summary!$B$30:$B$1029,INDIRECT($A$14&ROW())),\"\"),\"\")","v":""}]
[{"$f":"IFERROR(IF(INDIRECT($A$14&ROW())<>\"\",COUNTIF(Summary!$B$30:$B$1029,INDIRECT($A$14&ROW())),\"\"),\"\")","v":""}]
[{"$f":"IFERROR(IF(INDIRECT($A$14&ROW())<>\"\",COUNTIF(Summary!$B$30:$B$1029,INDIRECT($A$14&ROW())),\"\"),\"\")","v":""}]
[{"$f":"IFERROR(IF(INDIRECT($A$14&ROW())<>\"\",COUNTIF(Summary!$B$30:$B$1029,INDIRECT($A$14&ROW())),\"\"),\"\")","v":""}]
[{"$f":"IFERROR(IF(INDIRECT($A$14&ROW())<>\"\",COUNTIF(Summary!$B$30:$B$1029,INDIRECT($A$14&ROW())),\"\"),\"\")","v":""}]
[{"$f":"IFERROR(IF(INDIRECT($A$14&ROW())<>\"\",COUNTIF(Summary!$B$30:$B$1029,INDIRECT($A$14&ROW())),\"\"),\"\")","v":""}]
[{"$f":"IFERROR(IF(INDIRECT($A$14&ROW())<>\"\",COUNTIF(Summary!$B$30:$B$1029,INDIRECT($A$14&ROW())),\"\"),\"\")","v":""}]
[{"$f":"IFERROR(IF(INDIRECT($A$14&ROW())<>\"\",COUNTIF(Summary!$B$30:$B$1029,INDIRECT($A$14&ROW())),\"\"),\"\")","v":""}]
[{"$f":"IFERROR(IF(INDIRECT($A$14&ROW())<>\"\",COUNTIF(Summary!$B$30:$B$1029,INDIRECT($A$14&ROW())),\"\"),\"\")","v":""}]
[{"$f":"IFERROR(IF(INDIRECT($A$14&ROW())<>\"\",COUNTIF(Summary!$B$30:$B$1029,INDIRECT($A$14&ROW())),\"\"),\"\")","v":""}]
[{"$f":"IFERROR(IF(INDIRECT($A$14&ROW())<>\"\",COUNTIF(Summary!$B$30:$B$1029,INDIRECT($A$14&ROW())),\"\"),\"\")","v":""}]
[{"$f":"IFERROR(IF(INDIRECT($A$14&ROW())<>\"\",COUNTIF(Summary!$B$30:$B$1029,INDIRECT($A$14&ROW())),\"\"),\"\")","v":""}]
[{"$f":"IFERROR(IF(INDIRECT($A$14&ROW())<>\"\",COUNTIF(Summary!$B$30:$B$1029,INDIRECT($A$14&ROW())),\"\"),\"\")","v":""}]
[{"$f":"IFERROR(IF(INDIRECT($A$14&ROW())<>\"\",COUNTIF(Summary!$B$30:$B$1029,INDIRECT($A$14&ROW())),\"\"),\"\")","v":""}]
[{"$f":"IFERROR(IF(INDIRECT($A$14&ROW())<>\"\",COUNTIF(Summary!$B$30:$B$1029,INDIRECT($A$14&ROW())),\"\"),\"\")","v":""}]
[{"$f":"IFERROR(IF(INDIRECT($A$14&ROW())<>\"\",COUNTIF(Summary!$B$30:$B$1029,INDIRECT($A$14&ROW())),\"\"),\"\")","v":""}]
[{"$f":"IFERROR(IF(INDIRECT($A$14&ROW())<>\"\",COUNTIF(Summary!$B$30:$B$1029,INDIRECT($A$14&ROW())),\"\"),\"\")","v":""}]
[{"$f":"IFERROR(IF(INDIRECT($A$14&ROW())<>\"\",COUNTIF(Summary!$B$30:$B$1029,INDIRECT($A$14&ROW())),\"\"),\"\")","v":""}]
[{"$f":"IFERROR(IF(INDIRECT($A$14&ROW())<>\"\",COUNTIF(Summary!$B$30:$B$1029,INDIRECT($A$14&ROW())),\"\"),\"\")","v":""}]
[{"$f":"IFERROR(IF(INDIRECT($A$14&ROW())<>\"\",COUNTIF(Summary!$B$30:$B$1029,INDIRECT($A$14&ROW())),\"\"),\"\")","v":""}]
[{"$f":"IFERROR(IF(INDIRECT($A$14&ROW())<>\"\",COUNTIF(Summary!$B$30:$B$1029,INDIRECT($A$14&ROW())),\"\"),\"\")","v":""}]
[{"$f":"IFERROR(IF(INDIRECT($A$14&ROW())<>\"\",COUNTIF(Summary!$B$30:$B$1029,INDIRECT($A$14&ROW())),\"\"),\"\")","v":""}]
[{"$f":"IFERROR(IF(INDIRECT($A$14&ROW())<>\"\",COUNTIF(Summary!$B$30:$B$1029,INDIRECT($A$14&ROW())),\"\"),\"\")","v":""}]
[{"$f":"IFERROR(IF(INDIRECT($A$14&ROW())<>\"\",COUNTIF(Summary!$B$30:$B$1029,INDIRECT($A$14&ROW())),\"\"),\"\")","v":""}]
[{"$f":"IFERROR(IF(INDIRECT($A$14&ROW())<>\"\",COUNTIF(Summary!$B$30:$B$1029,INDIRECT($A$14&ROW())),\"\"),\"\")","v":""}]
[{"$f":"IFERROR(IF(INDIRECT($A$14&ROW())<>\"\",COUNTIF(Summary!$B$30:$B$1029,INDIRECT($A$14&ROW())),\"\"),\"\")","v":""}]
[{"$f":"IFERROR(IF(INDIRECT($A$14&ROW())<>\"\",COUNTIF(Summary!$B$30:$B$1029,INDIRECT($A$14&ROW())),\"\"),\"\")","v":""}]
[{"$f":"IFERROR(IF(INDIRECT($A$14&ROW())<>\"\",COUNTIF(Summary!$B$30:$B$1029,INDIRECT($A$14&ROW())),\"\"),\"\")","v":""}]
[{"$f":"IFERROR(IF(INDIRECT($A$14&ROW())<>\"\",COUNTIF(Summary!$B$30:$B$1029,INDIRECT($A$14&ROW())),\"\"),\"\")","v":""}]
[{"$f":"IFERROR(IF(INDIRECT($A$14&ROW())<>\"\",COUNTIF(Summary!$B$30:$B$1029,INDIRECT($A$14&ROW())),\"\"),\"\")","v":""}]
[{"$f":"IFERROR(IF(INDIRECT($A$14&ROW())<>\"\",COUNTIF(Summary!$B$30:$B$1029,INDIRECT($A$14&ROW())),\"\"),\"\")","v":""}]
[{"$f":"IFERROR(IF(INDIRECT($A$14&ROW())<>\"\",COUNTIF(Summary!$B$30:$B$1029,INDIRECT($A$14&ROW())),\"\"),\"\")","v":""}]
[{"$f":"IFERROR(IF(INDIRECT($A$14&ROW())<>\"\",COUNTIF(Summary!$B$30:$B$1029,INDIRECT($A$14&ROW())),\"\"),\"\")","v":""}]
[{"$f":"IFERROR(IF(INDIRECT($A$14&ROW())<>\"\",COUNTIF(Summary!$B$30:$B$1029,INDIRECT($A$14&ROW())),\"\"),\"\")","v":""}]
[{"$f":"IFERROR(IF(INDIRECT($A$14&ROW())<>\"\",COUNTIF(Summary!$B$30:$B$1029,INDIRECT($A$14&ROW())),\"\"),\"\")","v":""}]
[{"$f":"IFERROR(IF(INDIRECT($A$14&ROW())<>\"\",COUNTIF(Summary!$B$30:$B$1029,INDIRECT($A$14&ROW())),\"\"),\"\")","v":""}]
[{"$f":"IFERROR(IF(INDIRECT($A$14&ROW())<>\"\",COUNTIF(Summary!$B$30:$B$1029,INDIRECT($A$14&ROW())),\"\"),\"\")","v":""}]
[{"$f":"IFERROR(IF(INDIRECT($A$14&ROW())<>\"\",COUNTIF(Summary!$B$30:$B$1029,INDIRECT($A$14&ROW())),\"\"),\"\")","v":""}]
[{"$f":"IFERROR(IF(INDIRECT($A$14&ROW())<>\"\",COUNTIF(Summary!$B$30:$B$1029,INDIRECT($A$14&ROW())),\"\"),\"\")","v":""}]
[{"$f":"IFERROR(IF(INDIRECT($A$14&ROW())<>\"\",COUNTIF(Summary!$B$30:$B$1029,INDIRECT($A$14&ROW())),\"\"),\"\")","v":""}]
[{"$f":"IFERROR(IF(INDIRECT($A$14&ROW())<>\"\",COUNTIF(Summary!$B$30:$B$1029,INDIRECT($A$14&ROW())),\"\"),\"\")","v":""}]
[{"$f":"IFERROR(IF(INDIRECT($A$14&ROW())<>\"\",COUNTIF(Summary!$B$30:$B$1029,INDIRECT($A$14&ROW())),\"\"),\"\")","v":""}]
[{"$f":"IFERROR(IF(INDIRECT($A$14&ROW())<>\"\",COUNTIF(Summary!$B$30:$B$1029,INDIRECT($A$14&ROW())),\"\"),\"\")","v":""}]
[{"$f":"IFERROR(IF(INDIRECT($A$14&ROW())<>\"\",COUNTIF(Summary!$B$30:$B$1029,INDIRECT($A$14&ROW())),\"\"),\"\")","v":""}]
[{"$f":"IFERROR(IF(INDIRECT($A$14&ROW())<>\"\",COUNTIF(Summary!$B$30:$B$1029,INDIRECT($A$14&ROW())),\"\"),\"\")","v":""}]
[{"$f":"IFERROR(IF(INDIRECT($A$14&ROW())<>\"\",COUNTIF(Summary!$B$30:$B$1029,INDIRECT($A$14&ROW())),\"\"),\"\")","v":""}]
[{"$f":"IFERROR(IF(INDIRECT($A$14&ROW())<>\"\",COUNTIF(Summary!$B$30:$B$1029,INDIRECT($A$14&ROW())),\"\"),\"\")","v":""}]
[{"$f":"IFERROR(IF(INDIRECT($A$14&ROW())<>\"\",COUNTIF(Summary!$B$30:$B$1029,INDIRECT($A$14&ROW())),\"\"),\"\")","v":""}]
[{"$f":"IFERROR(IF(INDIRECT($A$14&ROW())<>\"\",COUNTIF(Summary!$B$30:$B$1029,INDIRECT($A$14&ROW())),\"\"),\"\")","v":""}]
[{"$f":"IFERROR(IF(INDIRECT($A$14&ROW())<>\"\",COUNTIF(Summary!$B$30:$B$1029,INDIRECT($A$14&ROW())),\"\"),\"\")","v":""}]
[{"$f":"IFERROR(IF(INDIRECT($A$14&ROW())<>\"\",COUNTIF(Summary!$B$30:$B$1029,INDIRECT($A$14&ROW())),\"\"),\"\")","v":""}]
[{"$f":"IFERROR(IF(INDIRECT($A$14&ROW())<>\"\",COUNTIF(Summary!$B$30:$B$1029,INDIRECT($A$14&ROW())),\"\"),\"\")","v":""}]
[{"$f":"IFERROR(IF(INDIRECT($A$14&ROW())<>\"\",COUNTIF(Summary!$B$30:$B$1029,INDIRECT($A$14&ROW())),\"\"),\"\")","v":""}]
[{"$f":"IFERROR(IF(INDIRECT($A$14&ROW())<>\"\",COUNTIF(Summary!$B$30:$B$1029,INDIRECT($A$14&ROW())),\"\"),\"\")","v":""}]
[{"$f":"IFERROR(IF(INDIRECT($A$14&ROW())<>\"\",COUNTIF(Summary!$B$30:$B$1029,INDIRECT($A$14&ROW())),\"\"),\"\")","v":""}]
[{"$f":"IFERROR(IF(INDIRECT($A$14&ROW())<>\"\",COUNTIF(Summary!$B$30:$B$1029,INDIRECT($A$14&ROW())),\"\"),\"\")","v":""}]
[{"$f":"IFERROR(IF(INDIRECT($A$14&ROW())<>\"\",COUNTIF(Summary!$B$30:$B$1029,INDIRECT($A$14&ROW())),\"\"),\"\")","v":""}]
[{"$f":"IFERROR(IF(INDIRECT($A$14&ROW())<>\"\",COUNTIF(Summary!$B$30:$B$1029,INDIRECT($A$14&ROW())),\"\"),\"\")","v":""}]
[{"$f":"IFERROR(IF(INDIRECT($A$14&ROW())<>\"\",COUNTIF(Summary!$B$30:$B$1029,INDIRECT($A$14&ROW())),\"\"),\"\")","v":""}]
[{"$f":"IFERROR(IF(INDIRECT($A$14&ROW())<>\"\",COUNTIF(Summary!$B$30:$B$1029,INDIRECT($A$14&ROW())),\"\"),\"\")","v":""}]
[{"$f":"IFERROR(IF(INDIRECT($A$14&ROW())<>\"\",COUNTIF(Summary!$B$30:$B$1029,INDIRECT($A$14&ROW())),\"\"),\"\")","v":""}]
[{"$f":"IFERROR(IF(INDIRECT($A$14&ROW())<>\"\",COUNTIF(Summary!$B$30:$B$1029,INDIRECT($A$14&ROW())),\"\"),\"\")","v":""}]
[{"$f":"IFERROR(IF(INDIRECT($A$14&ROW())<>\"\",COUNTIF(Summary!$B$30:$B$1029,INDIRECT($A$14&ROW())),\"\"),\"\")","v":""}]
[{"$f":"IFERROR(IF(INDIRECT($A$14&ROW())<>\"\",COUNTIF(Summary!$B$30:$B$1029,INDIRECT($A$14&ROW())),\"\"),\"\")","v":""}]
[{"$f":"IFERROR(IF(INDIRECT($A$14&ROW())<>\"\",COUNTIF(Summary!$B$30:$B$1029,INDIRECT($A$14&ROW())),\"\"),\"\")","v":""}]
[{"$f":"IFERROR(IF(INDIRECT($A$14&ROW())<>\"\",COUNTIF(Summary!$B$30:$B$1029,INDIRECT($A$14&ROW())),\"\"),\"\")","v":""}]
[{"$f":"IFERROR(IF(INDIRECT($A$14&ROW())<>\"\",COUNTIF(Summary!$B$30:$B$1029,INDIRECT($A$14&ROW())),\"\"),\"\")","v":""}]
[{"$f":"IFERROR(IF(INDIRECT($A$14&ROW())<>\"\",COUNTIF(Summary!$B$30:$B$1029,INDIRECT($A$14&ROW())),\"\"),\"\")","v":""}]
[{"$f":"IFERROR(IF(INDIRECT($A$14&ROW())<>\"\",COUNTIF(Summary!$B$30:$B$1029,INDIRECT($A$14&ROW())),\"\"),\"\")","v":""}]
[{"$f":"IFERROR(IF(INDIRECT($A$14&ROW())<>\"\",COUNTIF(Summary!$B$30:$B$1029,INDIRECT($A$14&ROW())),\"\"),\"\")","v":""}]
[{"$f":"IFERROR(IF(INDIRECT($A$14&ROW())<>\"\",COUNTIF(Summary!$B$30:$B$1029,INDIRECT($A$14&ROW())),\"\"),\"\")","v":""}]
[{"$f":"IFERROR(IF(INDIRECT($A$14&ROW())<>\"\",COUNTIF(Summary!$B$30:$B$1029,INDIRECT($A$14&ROW())),\"\"),\"\")","v":""}]
[{"$f":"IFERROR(IF(INDIRECT($A$14&ROW())<>\"\",COUNTIF(Summary!$B$30:$B$1029,INDIRECT($A$14&ROW())),\"\"),\"\")","v":""}]
[{"$f":"IFERROR(IF(INDIRECT($A$14&ROW())<>\"\",COUNTIF(Summary!$B$30:$B$1029,INDIRECT($A$14&ROW())),\"\"),\"\")","v":""}]
[{"$f":"IFERROR(IF(INDIRECT($A$14&ROW())<>\"\",COUNTIF(Summary!$B$30:$B$1029,INDIRECT($A$14&ROW())),\"\"),\"\")","v":""}]
[{"$f":"IFERROR(IF(INDIRECT($A$14&ROW())<>\"\",COUNTIF(Summary!$B$30:$B$1029,INDIRECT($A$14&ROW())),\"\"),\"\")","v":""}]
[{"$f":"IFERROR(IF(INDIRECT($A$14&ROW())<>\"\",COUNTIF(Summary!$B$30:$B$1029,INDIRECT($A$14&ROW())),\"\"),\"\")","v":""}]
[{"$f":"IFERROR(IF(INDIRECT($A$14&ROW())<>\"\",COUNTIF(Summary!$B$30:$B$1029,INDIRECT($A$14&ROW())),\"\"),\"\")","v":""}]
[{"$f":"IFERROR(IF(INDIRECT($A$14&ROW())<>\"\",COUNTIF(Summary!$B$30:$B$1029,INDIRECT($A$14&ROW())),\"\"),\"\")","v":""}]
[{"$f":"IFERROR(IF(INDIRECT($A$14&ROW())<>\"\",COUNTIF(Summary!$B$30:$B$1029,INDIRECT($A$14&ROW())),\"\"),\"\")","v":""}]
[{"$f":"IFERROR(IF(INDIRECT($A$14&ROW())<>\"\",COUNTIF(Summary!$B$30:$B$1029,INDIRECT($A$14&ROW())),\"\"),\"\")","v":""}]
[{"$f":"IFERROR(IF(INDIRECT($A$14&ROW())<>\"\",COUNTIF(Summary!$B$30:$B$1029,INDIRECT($A$14&ROW())),\"\"),\"\")","v":""}]
[{"$f":"IFERROR(IF(INDIRECT($A$14&ROW())<>\"\",COUNTIF(Summary!$B$30:$B$1029,INDIRECT($A$14&ROW())),\"\"),\"\")","v":""}]
[{"$f":"IFERROR(IF(INDIRECT($A$14&ROW())<>\"\",COUNTIF(Summary!$B$30:$B$1029,INDIRECT($A$14&ROW())),\"\"),\"\")","v":""}]
[{"$f":"IFERROR(IF(INDIRECT($A$14&ROW())<>\"\",COUNTIF(Summary!$B$30:$B$1029,INDIRECT($A$14&ROW())),\"\"),\"\")","v":""}]
[{"$f":"IFERROR(IF(INDIRECT($A$14&ROW())<>\"\",COUNTIF(Summary!$B$30:$B$1029,INDIRECT($A$14&ROW())),\"\"),\"\")","v":""}]
[{"$f":"IFERROR(IF(INDIRECT($A$14&ROW())<>\"\",COUNTIF(Summary!$B$30:$B$1029,INDIRECT($A$14&ROW())),\"\"),\"\")","v":""}]
[{"$f":"IFERROR(IF(INDIRECT($A$14&ROW())<>\"\",COUNTIF(Summary!$B$30:$B$1029,INDIRECT($A$14&ROW())),\"\"),\"\")","v":""}]
[{"$f":"IFERROR(IF(INDIRECT($A$14&ROW())<>\"\",COUNTIF(Summary!$B$30:$B$1029,INDIRECT($A$14&ROW())),\"\"),\"\")","v":""}]
[{"$f":"IFERROR(IF(INDIRECT($A$14&ROW())<>\"\",COUNTIF(Summary!$B$30:$B$1029,INDIRECT($A$14&ROW())),\"\"),\"\")","v":""}]
[{"$f":"IFERROR(IF(INDIRECT($A$14&ROW())<>\"\",COUNTIF(Summary!$B$30:$B$1029,INDIRECT($A$14&ROW())),\"\"),\"\")","v":""}]
[{"$f":"IFERROR(IF(INDIRECT($A$14&ROW())<>\"\",COUNTIF(Summary!$B$30:$B$1029,INDIRECT($A$14&ROW())),\"\"),\"\")","v":""}]
[{"$f":"IFERROR(IF(INDIRECT($A$14&ROW())<>\"\",COUNTIF(Summary!$B$30:$B$1029,INDIRECT($A$14&ROW())),\"\"),\"\")","v":""}]
[{"$f":"IFERROR(IF(INDIRECT($A$14&ROW())<>\"\",COUNTIF(Summary!$B$30:$B$1029,INDIRECT($A$14&ROW())),\"\"),\"\")","v":""}]
[{"$f":"IFERROR(IF(INDIRECT($A$14&ROW())<>\"\",COUNTIF(Summary!$B$30:$B$1029,INDIRECT($A$14&ROW())),\"\"),\"\")","v":""}]
[{"$f":"IFERROR(IF(INDIRECT($A$14&ROW())<>\"\",COUNTIF(Summary!$B$30:$B$1029,INDIRECT($A$14&ROW())),\"\"),\"\")","v":""}]
[{"$f":"IFERROR(IF(INDIRECT($A$14&ROW())<>\"\",COUNTIF(Summary!$B$30:$B$1029,INDIRECT($A$14&ROW())),\"\"),\"\")","v":""}]
[{"$f":"IFERROR(IF(INDIRECT($A$14&ROW())<>\"\",COUNTIF(Summary!$B$30:$B$1029,INDIRECT($A$14&ROW())),\"\"),\"\")","v":""}]
[{"$f":"IFERROR(IF(INDIRECT($A$14&ROW())<>\"\",COUNTIF(Summary!$B$30:$B$1029,INDIRECT($A$14&ROW())),\"\"),\"\")","v":""}]
[{"$f":"IFERROR(IF(INDIRECT($A$14&ROW())<>\"\",COUNTIF(Summary!$B$30:$B$1029,INDIRECT($A$14&ROW())),\"\"),\"\")","v":""}]
[{"$f":"IFERROR(IF(INDIRECT($A$14&ROW())<>\"\",COUNTIF(Summary!$B$30:$B$1029,INDIRECT($A$14&ROW())),\"\"),\"\")","v":""}]
[{"$f":"IFERROR(IF(INDIRECT($A$14&ROW())<>\"\",COUNTIF(Summary!$B$30:$B$1029,INDIRECT($A$14&ROW())),\"\"),\"\")","v":""}]
[{"$f":"IFERROR(IF(INDIRECT($A$14&ROW())<>\"\",COUNTIF(Summary!$B$30:$B$1029,INDIRECT($A$14&ROW())),\"\"),\"\")","v":""}]
[{"$f":"IFERROR(IF(INDIRECT($A$14&ROW())<>\"\",COUNTIF(Summary!$B$30:$B$1029,INDIRECT($A$14&ROW())),\"\"),\"\")","v":""}]
[{"$f":"IFERROR(IF(INDIRECT($A$14&ROW())<>\"\",COUNTIF(Summary!$B$30:$B$1029,INDIRECT($A$14&ROW())),\"\"),\"\")","v":""}]
[{"$f":"IFERROR(IF(INDIRECT($A$14&ROW())<>\"\",COUNTIF(Summary!$B$30:$B$1029,INDIRECT($A$14&ROW())),\"\"),\"\")","v":""}]
[{"$f":"IFERROR(IF(INDIRECT($A$14&ROW())<>\"\",COUNTIF(Summary!$B$30:$B$1029,INDIRECT($A$14&ROW())),\"\"),\"\")","v":""}]
[{"$f":"IFERROR(IF(INDIRECT($A$14&ROW())<>\"\",COUNTIF(Summary!$B$30:$B$1029,INDIRECT($A$14&ROW())),\"\"),\"\")","v":""}]
[{"$f":"IFERROR(IF(INDIRECT($A$14&ROW())<>\"\",COUNTIF(Summary!$B$30:$B$1029,INDIRECT($A$14&ROW())),\"\"),\"\")","v":""}]
[{"$f":"IFERROR(IF(INDIRECT($A$14&ROW())<>\"\",COUNTIF(Summary!$B$30:$B$1029,INDIRECT($A$14&ROW())),\"\"),\"\")","v":""}]
[{"$f":"IFERROR(IF(INDIRECT($A$14&ROW())<>\"\",COUNTIF(Summary!$B$30:$B$1029,INDIRECT($A$14&ROW())),\"\"),\"\")","v":""}]
[{"$f":"IFERROR(IF(INDIRECT($A$14&ROW())<>\"\",COUNTIF(Summary!$B$30:$B$1029,INDIRECT($A$14&ROW())),\"\"),\"\")","v":""}]
[{"$f":"IFERROR(IF(INDIRECT($A$14&ROW())<>\"\",COUNTIF(Summary!$B$30:$B$1029,INDIRECT($A$14&ROW())),\"\"),\"\")","v":""}]
[{"$f":"IFERROR(IF(INDIRECT($A$14&ROW())<>\"\",COUNTIF(Summary!$B$30:$B$1029,INDIRECT($A$14&ROW())),\"\"),\"\")","v":""}]
[{"$f":"IFERROR(IF(INDIRECT($A$14&ROW())<>\"\",COUNTIF(Summary!$B$30:$B$1029,INDIRECT($A$14&ROW())),\"\"),\"\")","v":""}]
[{"$f":"IFERROR(IF(INDIRECT($A$14&ROW())<>\"\",COUNTIF(Summary!$B$30:$B$1029,INDIRECT($A$14&ROW())),\"\"),\"\")","v":""}]
[{"$f":"IFERROR(IF(INDIRECT($A$14&ROW())<>\"\",COUNTIF(Summary!$B$30:$B$1029,INDIRECT($A$14&ROW())),\"\"),\"\")","v":""}]
[{"$f":"IFERROR(IF(INDIRECT($A$14&ROW())<>\"\",COUNTIF(Summary!$B$30:$B$1029,INDIRECT($A$14&ROW())),\"\"),\"\")","v":""}]
[{"$f":"IFERROR(IF(INDIRECT($A$14&ROW())<>\"\",COUNTIF(Summary!$B$30:$B$1029,INDIRECT($A$14&ROW())),\"\"),\"\")","v":""}]
[{"$f":"IFERROR(IF(INDIRECT($A$14&ROW())<>\"\",COUNTIF(Summary!$B$30:$B$1029,INDIRECT($A$14&ROW())),\"\"),\"\")","v":""}]
[{"$f":"IFERROR(IF(INDIRECT($A$14&ROW())<>\"\",COUNTIF(Summary!$B$30:$B$1029,INDIRECT($A$14&ROW())),\"\"),\"\")","v":""}]
[{"$f":"IFERROR(IF(INDIRECT($A$14&ROW())<>\"\",COUNTIF(Summary!$B$30:$B$1029,INDIRECT($A$14&ROW())),\"\"),\"\")","v":""}]
[{"$f":"IFERROR(IF(INDIRECT($A$14&ROW())<>\"\",COUNTIF(Summary!$B$30:$B$1029,INDIRECT($A$14&ROW())),\"\"),\"\")","v":""}]
[{"$f":"IFERROR(IF(INDIRECT($A$14&ROW())<>\"\",COUNTIF(Summary!$B$30:$B$1029,INDIRECT($A$14&ROW())),\"\"),\"\")","v":""}]
[{"$f":"IFERROR(IF(INDIRECT($A$14&ROW())<>\"\",COUNTIF(Summary!$B$30:$B$1029,INDIRECT($A$14&ROW())),\"\"),\"\")","v":""}]
[{"$f":"IFERROR(IF(INDIRECT($A$14&ROW())<>\"\",COUNTIF(Summary!$B$30:$B$1029,INDIRECT($A$14&ROW())),\"\"),\"\")","v":""}]
[{"$f":"IFERROR(IF(INDIRECT($A$14&ROW())<>\"\",COUNTIF(Summary!$B$30:$B$1029,INDIRECT($A$14&ROW())),\"\"),\"\")","v":""}]
[{"$f":"IFERROR(IF(INDIRECT($A$14&ROW())<>\"\",COUNTIF(Summary!$B$30:$B$1029,INDIRECT($A$14&ROW())),\"\"),\"\")","v":""}]
[{"$f":"IFERROR(IF(INDIRECT($A$14&ROW())<>\"\",COUNTIF(Summary!$B$30:$B$1029,INDIRECT($A$14&ROW())),\"\"),\"\")","v":""}]
[{"$f":"IFERROR(IF(INDIRECT($A$14&ROW())<>\"\",COUNTIF(Summary!$B$30:$B$1029,INDIRECT($A$14&ROW())),\"\"),\"\")","v":""}]
[{"$f":"IFERROR(IF(INDIRECT($A$14&ROW())<>\"\",COUNTIF(Summary!$B$30:$B$1029,INDIRECT($A$14&ROW())),\"\"),\"\")","v":""}]
[{"$f":"IFERROR(IF(INDIRECT($A$14&ROW())<>\"\",COUNTIF(Summary!$B$30:$B$1029,INDIRECT($A$14&ROW())),\"\"),\"\")","v":""}]
[{"$f":"IFERROR(IF(INDIRECT($A$14&ROW())<>\"\",COUNTIF(Summary!$B$30:$B$1029,INDIRECT($A$14&ROW())),\"\"),\"\")","v":""}]
[{"$f":"IFERROR(IF(INDIRECT($A$14&ROW())<>\"\",COUNTIF(Summary!$B$30:$B$1029,INDIRECT($A$14&ROW())),\"\"),\"\")","v":""}]
[{"$f":"IFERROR(IF(INDIRECT($A$14&ROW())<>\"\",COUNTIF(Summary!$B$30:$B$1029,INDIRECT($A$14&ROW())),\"\"),\"\")","v":""}]
[{"$f":"IFERROR(IF(INDIRECT($A$14&ROW())<>\"\",COUNTIF(Summary!$B$30:$B$1029,INDIRECT($A$14&ROW())),\"\"),\"\")","v":""}]
[{"$f":"IFERROR(IF(INDIRECT($A$14&ROW())<>\"\",COUNTIF(Summary!$B$30:$B$1029,INDIRECT($A$14&ROW())),\"\"),\"\")","v":""}]
[{"$f":"IFERROR(IF(INDIRECT($A$14&ROW())<>\"\",COUNTIF(Summary!$B$30:$B$1029,INDIRECT($A$14&ROW())),\"\"),\"\")","v":""}]
[{"$f":"IFERROR(IF(INDIRECT($A$14&ROW())<>\"\",COUNTIF(Summary!$B$30:$B$1029,INDIRECT($A$14&ROW())),\"\"),\"\")","v":""}]
[{"$f":"IFERROR(IF(INDIRECT($A$14&ROW())<>\"\",COUNTIF(Summary!$B$30:$B$1029,INDIRECT($A$14&ROW())),\"\"),\"\")","v":""}]
[{"$f":"IFERROR(IF(INDIRECT($A$14&ROW())<>\"\",COUNTIF(Summary!$B$30:$B$1029,INDIRECT($A$14&ROW())),\"\"),\"\")","v":""}]
[{"$f":"IFERROR(IF(INDIRECT($A$14&ROW())<>\"\",COUNTIF(Summary!$B$30:$B$1029,INDIRECT($A$14&ROW())),\"\"),\"\")","v":""}]
[{"$f":"IFERROR(IF(INDIRECT($A$14&ROW())<>\"\",COUNTIF(Summary!$B$30:$B$1029,INDIRECT($A$14&ROW())),\"\"),\"\")","v":""}]
[{"$f":"IFERROR(IF(INDIRECT($A$14&ROW())<>\"\",COUNTIF(Summary!$B$30:$B$1029,INDIRECT($A$14&ROW())),\"\"),\"\")","v":""}]
[{"$f":"IFERROR(IF(INDIRECT($A$14&ROW())<>\"\",COUNTIF(Summary!$B$30:$B$1029,INDIRECT($A$14&ROW())),\"\"),\"\")","v":""}]
[{"$f":"IFERROR(IF(INDIRECT($A$14&ROW())<>\"\",COUNTIF(Summary!$B$30:$B$1029,INDIRECT($A$14&ROW())),\"\"),\"\")","v":""}]
[{"$f":"IFERROR(IF(INDIRECT($A$14&ROW())<>\"\",COUNTIF(Summary!$B$30:$B$1029,INDIRECT($A$14&ROW())),\"\"),\"\")","v":""}]
[{"$f":"IFERROR(IF(INDIRECT($A$14&ROW())<>\"\",COUNTIF(Summary!$B$30:$B$1029,INDIRECT($A$14&ROW())),\"\"),\"\")","v":""}]
[{"$f":"IFERROR(IF(INDIRECT($A$14&ROW())<>\"\",COUNTIF(Summary!$B$30:$B$1029,INDIRECT($A$14&ROW())),\"\"),\"\")","v":""}]
[{"$f":"IFERROR(IF(INDIRECT($A$14&ROW())<>\"\",COUNTIF(Summary!$B$30:$B$1029,INDIRECT($A$14&ROW())),\"\"),\"\")","v":""}]
[{"$f":"IFERROR(IF(INDIRECT($A$14&ROW())<>\"\",COUNTIF(Summary!$B$30:$B$1029,INDIRECT($A$14&ROW())),\"\"),\"\")","v":""}]
[{"$f":"IFERROR(IF(INDIRECT($A$14&ROW())<>\"\",COUNTIF(Summary!$B$30:$B$1029,INDIRECT($A$14&ROW())),\"\"),\"\")","v":""}]
[{"$f":"IFERROR(IF(INDIRECT($A$14&ROW())<>\"\",COUNTIF(Summary!$B$30:$B$1029,INDIRECT($A$14&ROW())),\"\"),\"\")","v":""}]
[{"$f":"IFERROR(IF(INDIRECT($A$14&ROW())<>\"\",COUNTIF(Summary!$B$30:$B$1029,INDIRECT($A$14&ROW())),\"\"),\"\")","v":""}]
[{"$f":"IFERROR(IF(INDIRECT($A$14&ROW())<>\"\",COUNTIF(Summary!$B$30:$B$1029,INDIRECT($A$14&ROW())),\"\"),\"\")","v":""}]
[{"$f":"IFERROR(IF(INDIRECT($A$14&ROW())<>\"\",COUNTIF(Summary!$B$30:$B$1029,INDIRECT($A$14&ROW())),\"\"),\"\")","v":""}]
[{"$f":"IFERROR(IF(INDIRECT($A$14&ROW())<>\"\",COUNTIF(Summary!$B$30:$B$1029,INDIRECT($A$14&ROW())),\"\"),\"\")","v":""}]
[{"$f":"IFERROR(IF(INDIRECT($A$14&ROW())<>\"\",COUNTIF(Summary!$B$30:$B$1029,INDIRECT($A$14&ROW())),\"\"),\"\")","v":""}]
[{"$f":"IFERROR(IF(INDIRECT($A$14&ROW())<>\"\",COUNTIF(Summary!$B$30:$B$1029,INDIRECT($A$14&ROW())),\"\"),\"\")","v":""}]
[{"$f":"IFERROR(IF(INDIRECT($A$14&ROW())<>\"\",COUNTIF(Summary!$B$30:$B$1029,INDIRECT($A$14&ROW())),\"\"),\"\")","v":""}]
[{"$f":"IFERROR(IF(INDIRECT($A$14&ROW())<>\"\",COUNTIF(Summary!$B$30:$B$1029,INDIRECT($A$14&ROW())),\"\"),\"\")","v":""}]
[{"$f":"IFERROR(IF(INDIRECT($A$14&ROW())<>\"\",COUNTIF(Summary!$B$30:$B$1029,INDIRECT($A$14&ROW())),\"\"),\"\")","v":""}]
[{"$f":"IFERROR(IF(INDIRECT($A$14&ROW())<>\"\",COUNTIF(Summary!$B$30:$B$1029,INDIRECT($A$14&ROW())),\"\"),\"\")","v":""}]
[{"$f":"IFERROR(IF(INDIRECT($A$14&ROW())<>\"\",COUNTIF(Summary!$B$30:$B$1029,INDIRECT($A$14&ROW())),\"\"),\"\")","v":""}]
[{"$f":"IFERROR(IF(INDIRECT($A$14&ROW())<>\"\",COUNTIF(Summary!$B$30:$B$1029,INDIRECT($A$14&ROW())),\"\"),\"\")","v":""}]
[{"$f":"IFERROR(IF(INDIRECT($A$14&ROW())<>\"\",COUNTIF(Summary!$B$30:$B$1029,INDIRECT($A$14&ROW())),\"\"),\"\")","v":""}]
[{"$f":"IFERROR(IF(INDIRECT($A$14&ROW())<>\"\",COUNTIF(Summary!$B$30:$B$1029,INDIRECT($A$14&ROW())),\"\"),\"\")","v":""}]
[{"$f":"IFERROR(IF(INDIRECT($A$14&ROW())<>\"\",COUNTIF(Summary!$B$30:$B$1029,INDIRECT($A$14&ROW())),\"\"),\"\")","v":""}]
[{"$f":"IFERROR(IF(INDIRECT($A$14&ROW())<>\"\",COUNTIF(Summary!$B$30:$B$1029,INDIRECT($A$14&ROW())),\"\"),\"\")","v":""}]
[{"$f":"IFERROR(IF(INDIRECT($A$14&ROW())<>\"\",COUNTIF(Summary!$B$30:$B$1029,INDIRECT($A$14&ROW())),\"\"),\"\")","v":""}]
[{"$f":"IFERROR(IF(INDIRECT($A$14&ROW())<>\"\",COUNTIF(Summary!$B$30:$B$1029,INDIRECT($A$14&ROW())),\"\"),\"\")","v":""}]
[{"$f":"IFERROR(IF(INDIRECT($A$14&ROW())<>\"\",COUNTIF(Summary!$B$30:$B$1029,INDIRECT($A$14&ROW())),\"\"),\"\")","v":""}]
[{"$f":"IFERROR(IF(INDIRECT($A$14&ROW())<>\"\",COUNTIF(Summary!$B$30:$B$1029,INDIRECT($A$14&ROW())),\"\"),\"\")","v":""}]
[{"$f":"IFERROR(IF(INDIRECT($A$14&ROW())<>\"\",COUNTIF(Summary!$B$30:$B$1029,INDIRECT($A$14&ROW())),\"\"),\"\")","v":""}]
[{"$f":"IFERROR(IF(INDIRECT($A$14&ROW())<>\"\",COUNTIF(Summary!$B$30:$B$1029,INDIRECT($A$14&ROW())),\"\"),\"\")","v":""}]
[{"$f":"IFERROR(IF(INDIRECT($A$14&ROW())<>\"\",COUNTIF(Summary!$B$30:$B$1029,INDIRECT($A$14&ROW())),\"\"),\"\")","v":""}]
[{"$f":"IFERROR(IF(INDIRECT($A$14&ROW())<>\"\",COUNTIF(Summary!$B$30:$B$1029,INDIRECT($A$14&ROW())),\"\"),\"\")","v":""}]
[{"$f":"IFERROR(IF(INDIRECT($A$14&ROW())<>\"\",COUNTIF(Summary!$B$30:$B$1029,INDIRECT($A$14&ROW())),\"\"),\"\")","v":""}]
[{"$f":"IFERROR(IF(INDIRECT($A$14&ROW())<>\"\",COUNTIF(Summary!$B$30:$B$1029,INDIRECT($A$14&ROW())),\"\"),\"\")","v":""}]
[{"$f":"IFERROR(IF(INDIRECT($A$14&ROW())<>\"\",COUNTIF(Summary!$B$30:$B$1029,INDIRECT($A$14&ROW())),\"\"),\"\")","v":""}]
[{"$f":"IFERROR(IF(INDIRECT($A$14&ROW())<>\"\",COUNTIF(Summary!$B$30:$B$1029,INDIRECT($A$14&ROW())),\"\"),\"\")","v":""}]
[{"$f":"IFERROR(IF(INDIRECT($A$14&ROW())<>\"\",COUNTIF(Summary!$B$30:$B$1029,INDIRECT($A$14&ROW())),\"\"),\"\")","v":""}]
[{"$f":"IFERROR(IF(INDIRECT($A$14&ROW())<>\"\",COUNTIF(Summary!$B$30:$B$1029,INDIRECT($A$14&ROW())),\"\"),\"\")","v":""}]
[{"$f":"IFERROR(IF(INDIRECT($A$14&ROW())<>\"\",COUNTIF(Summary!$B$30:$B$1029,INDIRECT($A$14&ROW())),\"\"),\"\")","v":""}]
[{"$f":"IFERROR(IF(INDIRECT($A$14&ROW())<>\"\",COUNTIF(Summary!$B$30:$B$1029,INDIRECT($A$14&ROW())),\"\"),\"\")","v":""}]
[{"$f":"IFERROR(IF(INDIRECT($A$14&ROW())<>\"\",COUNTIF(Summary!$B$30:$B$1029,INDIRECT($A$14&ROW())),\"\"),\"\")","v":""}]
[{"$f":"IFERROR(IF(INDIRECT($A$14&ROW())<>\"\",COUNTIF(Summary!$B$30:$B$1029,INDIRECT($A$14&ROW())),\"\"),\"\")","v":""}]
[{"$f":"IFERROR(IF(INDIRECT($A$14&ROW())<>\"\",COUNTIF(Summary!$B$30:$B$1029,INDIRECT($A$14&ROW())),\"\"),\"\")","v":""}]
[{"$f":"IFERROR(IF(INDIRECT($A$14&ROW())<>\"\",COUNTIF(Summary!$B$30:$B$1029,INDIRECT($A$14&ROW())),\"\"),\"\")","v":""}]
[{"$f":"IFERROR(IF(INDIRECT($A$14&ROW())<>\"\",COUNTIF(Summary!$B$30:$B$1029,INDIRECT($A$14&ROW())),\"\"),\"\")","v":""}]
[{"$f":"IFERROR(IF(INDIRECT($A$14&ROW())<>\"\",COUNTIF(Summary!$B$30:$B$1029,INDIRECT($A$14&ROW())),\"\"),\"\")","v":""}]
[{"$f":"IFERROR(IF(INDIRECT($A$14&ROW())<>\"\",COUNTIF(Summary!$B$30:$B$1029,INDIRECT($A$14&ROW())),\"\"),\"\")","v":""}]
[{"$f":"IFERROR(IF(INDIRECT($A$14&ROW())<>\"\",COUNTIF(Summary!$B$30:$B$1029,INDIRECT($A$14&ROW())),\"\"),\"\")","v":""}]
[{"$f":"IFERROR(IF(INDIRECT($A$14&ROW())<>\"\",COUNTIF(Summary!$B$30:$B$1029,INDIRECT($A$14&ROW())),\"\"),\"\")","v":""}]
[{"$f":"IFERROR(IF(INDIRECT($A$14&ROW())<>\"\",COUNTIF(Summary!$B$30:$B$1029,INDIRECT($A$14&ROW())),\"\"),\"\")","v":""}]
[{"$f":"IFERROR(IF(INDIRECT($A$14&ROW())<>\"\",COUNTIF(Summary!$B$30:$B$1029,INDIRECT($A$14&ROW())),\"\"),\"\")","v":""}]
[{"$f":"IFERROR(IF(INDIRECT($A$14&ROW())<>\"\",COUNTIF(Summary!$B$30:$B$1029,INDIRECT($A$14&ROW())),\"\"),\"\")","v":""}]
[{"$f":"IFERROR(IF(INDIRECT($A$14&ROW())<>\"\",COUNTIF(Summary!$B$30:$B$1029,INDIRECT($A$14&ROW())),\"\"),\"\")","v":""}]
[{"$f":"IFERROR(IF(INDIRECT($A$14&ROW())<>\"\",COUNTIF(Summary!$B$30:$B$1029,INDIRECT($A$14&ROW())),\"\"),\"\")","v":""}]
[{"$f":"IFERROR(IF(INDIRECT($A$14&ROW())<>\"\",COUNTIF(Summary!$B$30:$B$1029,INDIRECT($A$14&ROW())),\"\"),\"\")","v":""}]
[{"$f":"IFERROR(IF(INDIRECT($A$14&ROW())<>\"\",COUNTIF(Summary!$B$30:$B$1029,INDIRECT($A$14&ROW())),\"\"),\"\")","v":""}]
[{"$f":"IFERROR(IF(INDIRECT($A$14&ROW())<>\"\",COUNTIF(Summary!$B$30:$B$1029,INDIRECT($A$14&ROW())),\"\"),\"\")","v":""}]
[{"$f":"IFERROR(IF(INDIRECT($A$14&ROW())<>\"\",COUNTIF(Summary!$B$30:$B$1029,INDIRECT($A$14&ROW())),\"\"),\"\")","v":""}]
[{"$f":"IFERROR(IF(INDIRECT($A$14&ROW())<>\"\",COUNTIF(Summary!$B$30:$B$1029,INDIRECT($A$14&ROW())),\"\"),\"\")","v":""}]
[{"$f":"IFERROR(IF(INDIRECT($A$14&ROW())<>\"\",COUNTIF(Summary!$B$30:$B$1029,INDIRECT($A$14&ROW())),\"\"),\"\")","v":""}]
[{"$f":"IFERROR(IF(INDIRECT($A$14&ROW())<>\"\",COUNTIF(Summary!$B$30:$B$1029,INDIRECT($A$14&ROW())),\"\"),\"\")","v":""}]
[{"$f":"IFERROR(IF(INDIRECT($A$14&ROW())<>\"\",COUNTIF(Summary!$B$30:$B$1029,INDIRECT($A$14&ROW())),\"\"),\"\")","v":""}]
[{"$f":"IFERROR(IF(INDIRECT($A$14&ROW())<>\"\",COUNTIF(Summary!$B$30:$B$1029,INDIRECT($A$14&ROW())),\"\"),\"\")","v":""}]
[{"$f":"IFERROR(IF(INDIRECT($A$14&ROW())<>\"\",COUNTIF(Summary!$B$30:$B$1029,INDIRECT($A$14&ROW())),\"\"),\"\")","v":""}]
[{"$f":"IFERROR(IF(INDIRECT($A$14&ROW())<>\"\",COUNTIF(Summary!$B$30:$B$1029,INDIRECT($A$14&ROW())),\"\"),\"\")","v":""}]
[{"$f":"IFERROR(IF(INDIRECT($A$14&ROW())<>\"\",COUNTIF(Summary!$B$30:$B$1029,INDIRECT($A$14&ROW())),\"\"),\"\")","v":""}]
[{"$f":"IFERROR(IF(INDIRECT($A$14&ROW())<>\"\",COUNTIF(Summary!$B$30:$B$1029,INDIRECT($A$14&ROW())),\"\"),\"\")","v":""}]
[{"$f":"IFERROR(IF(INDIRECT($A$14&ROW())<>\"\",COUNTIF(Summary!$B$30:$B$1029,INDIRECT($A$14&ROW())),\"\"),\"\")","v":""}]
[{"$f":"IFERROR(IF(INDIRECT($A$14&ROW())<>\"\",COUNTIF(Summary!$B$30:$B$1029,INDIRECT($A$14&ROW())),\"\"),\"\")","v":""}]
[{"$f":"IFERROR(IF(INDIRECT($A$14&ROW())<>\"\",COUNTIF(Summary!$B$30:$B$1029,INDIRECT($A$14&ROW())),\"\"),\"\")","v":""}]
[{"$f":"IFERROR(IF(INDIRECT($A$14&ROW())<>\"\",COUNTIF(Summary!$B$30:$B$1029,INDIRECT($A$14&ROW())),\"\"),\"\")","v":""}]
[{"$f":"IFERROR(IF(INDIRECT($A$14&ROW())<>\"\",COUNTIF(Summary!$B$30:$B$1029,INDIRECT($A$14&ROW())),\"\"),\"\")","v":""}]
[{"$f":"IFERROR(IF(INDIRECT($A$14&ROW())<>\"\",COUNTIF(Summary!$B$30:$B$1029,INDIRECT($A$14&ROW())),\"\"),\"\")","v":""}]
[{"$f":"IFERROR(IF(INDIRECT($A$14&ROW())<>\"\",COUNTIF(Summary!$B$30:$B$1029,INDIRECT($A$14&ROW())),\"\"),\"\")","v":""}]
[{"$f":"IFERROR(IF(INDIRECT($A$14&ROW())<>\"\",COUNTIF(Summary!$B$30:$B$1029,INDIRECT($A$14&ROW())),\"\"),\"\")","v":""}]
[{"$f":"IFERROR(IF(INDIRECT($A$14&ROW())<>\"\",COUNTIF(Summary!$B$30:$B$1029,INDIRECT($A$14&ROW())),\"\"),\"\")","v":""}]
[{"$f":"IFERROR(IF(INDIRECT($A$14&ROW())<>\"\",COUNTIF(Summary!$B$30:$B$1029,INDIRECT($A$14&ROW())),\"\"),\"\")","v":""}]
[{"$f":"IFERROR(IF(INDIRECT($A$14&ROW())<>\"\",COUNTIF(Summary!$B$30:$B$1029,INDIRECT($A$14&ROW())),\"\"),\"\")","v":""}]
[{"$f":"IFERROR(IF(INDIRECT($A$14&ROW())<>\"\",COUNTIF(Summary!$B$30:$B$1029,INDIRECT($A$14&ROW())),\"\"),\"\")","v":""}]
[{"$f":"IFERROR(IF(INDIRECT($A$14&ROW())<>\"\",COUNTIF(Summary!$B$30:$B$1029,INDIRECT($A$14&ROW())),\"\"),\"\")","v":""}]
[{"$f":"IFERROR(IF(INDIRECT($A$14&ROW())<>\"\",COUNTIF(Summary!$B$30:$B$1029,INDIRECT($A$14&ROW())),\"\"),\"\")","v":""}]
[{"$f":"IFERROR(IF(INDIRECT($A$14&ROW())<>\"\",COUNTIF(Summary!$B$30:$B$1029,INDIRECT($A$14&ROW())),\"\"),\"\")","v":""}]
[{"$f":"IFERROR(IF(INDIRECT($A$14&ROW())<>\"\",COUNTIF(Summary!$B$30:$B$1029,INDIRECT($A$14&ROW())),\"\"),\"\")","v":""}]
[{"$f":"IFERROR(IF(INDIRECT($A$14&ROW())<>\"\",COUNTIF(Summary!$B$30:$B$1029,INDIRECT($A$14&ROW())),\"\"),\"\")","v":""}]
[{"$f":"IFERROR(IF(INDIRECT($A$14&ROW())<>\"\",COUNTIF(Summary!$B$30:$B$1029,INDIRECT($A$14&ROW())),\"\"),\"\")","v":""}]
[{"$f":"IFERROR(IF(INDIRECT($A$14&ROW())<>\"\",COUNTIF(Summary!$B$30:$B$1029,INDIRECT($A$14&ROW())),\"\"),\"\")","v":""}]
[{"$f":"IFERROR(IF(INDIRECT($A$14&ROW())<>\"\",COUNTIF(Summary!$B$30:$B$1029,INDIRECT($A$14&ROW())),\"\"),\"\")","v":""}]
[{"$f":"IFERROR(IF(INDIRECT($A$14&ROW())<>\"\",COUNTIF(Summary!$B$30:$B$1029,INDIRECT($A$14&ROW())),\"\"),\"\")","v":""}]
[{"$f":"IFERROR(IF(INDIRECT($A$14&ROW())<>\"\",COUNTIF(Summary!$B$30:$B$1029,INDIRECT($A$14&ROW())),\"\"),\"\")","v":""}]
[{"$f":"IFERROR(IF(INDIRECT($A$14&ROW())<>\"\",COUNTIF(Summary!$B$30:$B$1029,INDIRECT($A$14&ROW())),\"\"),\"\")","v":""}]
[{"$f":"IFERROR(IF(INDIRECT($A$14&ROW())<>\"\",COUNTIF(Summary!$B$30:$B$1029,INDIRECT($A$14&ROW())),\"\"),\"\")","v":""}]
[{"$f":"IFERROR(IF(INDIRECT($A$14&ROW())<>\"\",COUNTIF(Summary!$B$30:$B$1029,INDIRECT($A$14&ROW())),\"\"),\"\")","v":""}]
[{"$f":"IFERROR(IF(INDIRECT($A$14&ROW())<>\"\",COUNTIF(Summary!$B$30:$B$1029,INDIRECT($A$14&ROW())),\"\"),\"\")","v":""}]
[{"$f":"IFERROR(IF(INDIRECT($A$14&ROW())<>\"\",COUNTIF(Summary!$B$30:$B$1029,INDIRECT($A$14&ROW())),\"\"),\"\")","v":""}]
[{"$f":"IFERROR(IF(INDIRECT($A$14&ROW())<>\"\",COUNTIF(Summary!$B$30:$B$1029,INDIRECT($A$14&ROW())),\"\"),\"\")","v":""}]
[{"$f":"IFERROR(IF(INDIRECT($A$14&ROW())<>\"\",COUNTIF(Summary!$B$30:$B$1029,INDIRECT($A$14&ROW())),\"\"),\"\")","v":""}]
[{"$f":"IFERROR(IF(INDIRECT($A$14&ROW())<>\"\",COUNTIF(Summary!$B$30:$B$1029,INDIRECT($A$14&ROW())),\"\"),\"\")","v":""}]
[{"$f":"IFERROR(IF(INDIRECT($A$14&ROW())<>\"\",COUNTIF(Summary!$B$30:$B$1029,INDIRECT($A$14&ROW())),\"\"),\"\")","v":""}]
[{"$f":"IFERROR(IF(INDIRECT($A$14&ROW())<>\"\",COUNTIF(Summary!$B$30:$B$1029,INDIRECT($A$14&ROW())),\"\"),\"\")","v":""}]
[{"$f":"IFERROR(IF(INDIRECT($A$14&ROW())<>\"\",COUNTIF(Summary!$B$30:$B$1029,INDIRECT($A$14&ROW())),\"\"),\"\")","v":""}]
[{"$f":"IFERROR(IF(INDIRECT($A$14&ROW())<>\"\",COUNTIF(Summary!$B$30:$B$1029,INDIRECT($A$14&ROW())),\"\"),\"\")","v":""}]
[{"$f":"IFERROR(IF(INDIRECT($A$14&ROW())<>\"\",COUNTIF(Summary!$B$30:$B$1029,INDIRECT($A$14&ROW())),\"\"),\"\")","v":""}]
[{"$f":"IFERROR(IF(INDIRECT($A$14&ROW())<>\"\",COUNTIF(Summary!$B$30:$B$1029,INDIRECT($A$14&ROW())),\"\"),\"\")","v":""}]
[{"$f":"IFERROR(IF(INDIRECT($A$14&ROW())<>\"\",COUNTIF(Summary!$B$30:$B$1029,INDIRECT($A$14&ROW())),\"\"),\"\")","v":""}]
[{"$f":"IFERROR(IF(INDIRECT($A$14&ROW())<>\"\",COUNTIF(Summary!$B$30:$B$1029,INDIRECT($A$14&ROW())),\"\"),\"\")","v":""}]
[{"$f":"IFERROR(IF(INDIRECT($A$14&ROW())<>\"\",COUNTIF(Summary!$B$30:$B$1029,INDIRECT($A$14&ROW())),\"\"),\"\")","v":""}]
[{"$f":"IFERROR(IF(INDIRECT($A$14&ROW())<>\"\",COUNTIF(Summary!$B$30:$B$1029,INDIRECT($A$14&ROW())),\"\"),\"\")","v":""}]
[{"$f":"IFERROR(IF(INDIRECT($A$14&ROW())<>\"\",COUNTIF(Summary!$B$30:$B$1029,INDIRECT($A$14&ROW())),\"\"),\"\")","v":""}]
[{"$f":"IFERROR(IF(INDIRECT($A$14&ROW())<>\"\",COUNTIF(Summary!$B$30:$B$1029,INDIRECT($A$14&ROW())),\"\"),\"\")","v":""}]
[{"$f":"IFERROR(IF(INDIRECT($A$14&ROW())<>\"\",COUNTIF(Summary!$B$30:$B$1029,INDIRECT($A$14&ROW())),\"\"),\"\")","v":""}]
[{"$f":"IFERROR(IF(INDIRECT($A$14&ROW())<>\"\",COUNTIF(Summary!$B$30:$B$1029,INDIRECT($A$14&ROW())),\"\"),\"\")","v":""}]
[{"$f":"IFERROR(IF(INDIRECT($A$14&ROW())<>\"\",COUNTIF(Summary!$B$30:$B$1029,INDIRECT($A$14&ROW())),\"\"),\"\")","v":""}]
[{"$f":"IFERROR(IF(INDIRECT($A$14&ROW())<>\"\",COUNTIF(Summary!$B$30:$B$1029,INDIRECT($A$14&ROW())),\"\"),\"\")","v":""}]
[{"$f":"IFERROR(IF(INDIRECT($A$14&ROW())<>\"\",COUNTIF(Summary!$B$30:$B$1029,INDIRECT($A$14&ROW())),\"\"),\"\")","v":""}]
[{"$f":"IFERROR(IF(INDIRECT($A$14&ROW())<>\"\",COUNTIF(Summary!$B$30:$B$1029,INDIRECT($A$14&ROW())),\"\"),\"\")","v":""}]
[{"$f":"IFERROR(IF(INDIRECT($A$14&ROW())<>\"\",COUNTIF(Summary!$B$30:$B$1029,INDIRECT($A$14&ROW())),\"\"),\"\")","v":""}]
[{"$f":"IFERROR(IF(INDIRECT($A$14&ROW())<>\"\",COUNTIF(Summary!$B$30:$B$1029,INDIRECT($A$14&ROW())),\"\"),\"\")","v":""}]
[{"$f":"IFERROR(IF(INDIRECT($A$14&ROW())<>\"\",COUNTIF(Summary!$B$30:$B$1029,INDIRECT($A$14&ROW())),\"\"),\"\")","v":""}]
[{"$f":"IFERROR(IF(INDIRECT($A$14&ROW())<>\"\",COUNTIF(Summary!$B$30:$B$1029,INDIRECT($A$14&ROW())),\"\"),\"\")","v":""}]
[{"$f":"IFERROR(IF(INDIRECT($A$14&ROW())<>\"\",COUNTIF(Summary!$B$30:$B$1029,INDIRECT($A$14&ROW())),\"\"),\"\")","v":""}]
[{"$f":"IFERROR(IF(INDIRECT($A$14&ROW())<>\"\",COUNTIF(Summary!$B$30:$B$1029,INDIRECT($A$14&ROW())),\"\"),\"\")","v":""}]
[{"$f":"IFERROR(IF(INDIRECT($A$14&ROW())<>\"\",COUNTIF(Summary!$B$30:$B$1029,INDIRECT($A$14&ROW())),\"\"),\"\")","v":""}]
[{"$f":"IFERROR(IF(INDIRECT($A$14&ROW())<>\"\",COUNTIF(Summary!$B$30:$B$1029,INDIRECT($A$14&ROW())),\"\"),\"\")","v":""}]
[{"$f":"IFERROR(IF(INDIRECT($A$14&ROW())<>\"\",COUNTIF(Summary!$B$30:$B$1029,INDIRECT($A$14&ROW())),\"\"),\"\")","v":""}]
[{"$f":"IFERROR(IF(INDIRECT($A$14&ROW())<>\"\",COUNTIF(Summary!$B$30:$B$1029,INDIRECT($A$14&ROW())),\"\"),\"\")","v":""}]
[{"$f":"IFERROR(IF(INDIRECT($A$14&ROW())<>\"\",COUNTIF(Summary!$B$30:$B$1029,INDIRECT($A$14&ROW())),\"\"),\"\")","v":""}]
[{"$f":"IFERROR(IF(INDIRECT($A$14&ROW())<>\"\",COUNTIF(Summary!$B$30:$B$1029,INDIRECT($A$14&ROW())),\"\"),\"\")","v":""}]
[{"$f":"IFERROR(IF(INDIRECT($A$14&ROW())<>\"\",COUNTIF(Summary!$B$30:$B$1029,INDIRECT($A$14&ROW())),\"\"),\"\")","v":""}]
[{"$f":"IFERROR(IF(INDIRECT($A$14&ROW())<>\"\",COUNTIF(Summary!$B$30:$B$1029,INDIRECT($A$14&ROW())),\"\"),\"\")","v":""}]
[{"$f":"IFERROR(IF(INDIRECT($A$14&ROW())<>\"\",COUNTIF(Summary!$B$30:$B$1029,INDIRECT($A$14&ROW())),\"\"),\"\")","v":""}]
[{"$f":"IFERROR(IF(INDIRECT($A$14&ROW())<>\"\",COUNTIF(Summary!$B$30:$B$1029,INDIRECT($A$14&ROW())),\"\"),\"\")","v":""}]
[{"$f":"IFERROR(IF(INDIRECT($A$14&ROW())<>\"\",COUNTIF(Summary!$B$30:$B$1029,INDIRECT($A$14&ROW())),\"\"),\"\")","v":""}]
[{"$f":"IFERROR(IF(INDIRECT($A$14&ROW())<>\"\",COUNTIF(Summary!$B$30:$B$1029,INDIRECT($A$14&ROW())),\"\"),\"\")","v":""}]
[{"$f":"IFERROR(IF(INDIRECT($A$14&ROW())<>\"\",COUNTIF(Summary!$B$30:$B$1029,INDIRECT($A$14&ROW())),\"\"),\"\")","v":""}]
[{"$f":"IFERROR(IF(INDIRECT($A$14&ROW())<>\"\",COUNTIF(Summary!$B$30:$B$1029,INDIRECT($A$14&ROW())),\"\"),\"\")","v":""}]
[{"$f":"IFERROR(IF(INDIRECT($A$14&ROW())<>\"\",COUNTIF(Summary!$B$30:$B$1029,INDIRECT($A$14&ROW())),\"\"),\"\")","v":""}]
[{"$f":"IFERROR(IF(INDIRECT($A$14&ROW())<>\"\",COUNTIF(Summary!$B$30:$B$1029,INDIRECT($A$14&ROW())),\"\"),\"\")","v":""}]
[{"$f":"IFERROR(IF(INDIRECT($A$14&ROW())<>\"\",COUNTIF(Summary!$B$30:$B$1029,INDIRECT($A$14&ROW())),\"\"),\"\")","v":""}]
[{"$f":"IFERROR(IF(INDIRECT($A$14&ROW())<>\"\",COUNTIF(Summary!$B$30:$B$1029,INDIRECT($A$14&ROW())),\"\"),\"\")","v":""}]
[{"$f":"IFERROR(IF(INDIRECT($A$14&ROW())<>\"\",COUNTIF(Summary!$B$30:$B$1029,INDIRECT($A$14&ROW())),\"\"),\"\")","v":""}]
[{"$f":"IFERROR(IF(INDIRECT($A$14&ROW())<>\"\",COUNTIF(Summary!$B$30:$B$1029,INDIRECT($A$14&ROW())),\"\"),\"\")","v":""}]
[{"$f":"IFERROR(IF(INDIRECT($A$14&ROW())<>\"\",COUNTIF(Summary!$B$30:$B$1029,INDIRECT($A$14&ROW())),\"\"),\"\")","v":""}]
[{"$f":"IFERROR(IF(INDIRECT($A$14&ROW())<>\"\",COUNTIF(Summary!$B$30:$B$1029,INDIRECT($A$14&ROW())),\"\"),\"\")","v":""}]
[{"$f":"IFERROR(IF(INDIRECT($A$14&ROW())<>\"\",COUNTIF(Summary!$B$30:$B$1029,INDIRECT($A$14&ROW())),\"\"),\"\")","v":""}]
[{"$f":"IFERROR(IF(INDIRECT($A$14&ROW())<>\"\",COUNTIF(Summary!$B$30:$B$1029,INDIRECT($A$14&ROW())),\"\"),\"\")","v":""}]
[{"$f":"IFERROR(IF(INDIRECT($A$14&ROW())<>\"\",COUNTIF(Summary!$B$30:$B$1029,INDIRECT($A$14&ROW())),\"\"),\"\")","v":""}]
[{"$f":"IFERROR(IF(INDIRECT($A$14&ROW())<>\"\",COUNTIF(Summary!$B$30:$B$1029,INDIRECT($A$14&ROW())),\"\"),\"\")","v":""}]
[{"$f":"IFERROR(IF(INDIRECT($A$14&ROW())<>\"\",COUNTIF(Summary!$B$30:$B$1029,INDIRECT($A$14&ROW())),\"\"),\"\")","v":""}]
[{"$f":"IFERROR(IF(INDIRECT($A$14&ROW())<>\"\",COUNTIF(Summary!$B$30:$B$1029,INDIRECT($A$14&ROW())),\"\"),\"\")","v":""}]
[{"$f":"IFERROR(IF(INDIRECT($A$14&ROW())<>\"\",COUNTIF(Summary!$B$30:$B$1029,INDIRECT($A$14&ROW())),\"\"),\"\")","v":""}]
[{"$f":"IFERROR(IF(INDIRECT($A$14&ROW())<>\"\",COUNTIF(Summary!$B$30:$B$1029,INDIRECT($A$14&ROW())),\"\"),\"\")","v":""}]
[{"$f":"IFERROR(IF(INDIRECT($A$14&ROW())<>\"\",COUNTIF(Summary!$B$30:$B$1029,INDIRECT($A$14&ROW())),\"\"),\"\")","v":""}]
[{"$f":"IFERROR(IF(INDIRECT($A$14&ROW())<>\"\",COUNTIF(Summary!$B$30:$B$1029,INDIRECT($A$14&ROW())),\"\"),\"\")","v":""}]
[{"$f":"IFERROR(IF(INDIRECT($A$14&ROW())<>\"\",COUNTIF(Summary!$B$30:$B$1029,INDIRECT($A$14&ROW())),\"\"),\"\")","v":""}]
[{"$f":"IFERROR(IF(INDIRECT($A$14&ROW())<>\"\",COUNTIF(Summary!$B$30:$B$1029,INDIRECT($A$14&ROW())),\"\"),\"\")","v":""}]
[{"$f":"IFERROR(IF(INDIRECT($A$14&ROW())<>\"\",COUNTIF(Summary!$B$30:$B$1029,INDIRECT($A$14&ROW())),\"\"),\"\")","v":""}]
[{"$f":"IFERROR(IF(INDIRECT($A$14&ROW())<>\"\",COUNTIF(Summary!$B$30:$B$1029,INDIRECT($A$14&ROW())),\"\"),\"\")","v":""}]
[{"$f":"IFERROR(IF(INDIRECT($A$14&ROW())<>\"\",COUNTIF(Summary!$B$30:$B$1029,INDIRECT($A$14&ROW())),\"\"),\"\")","v":""}]
[{"$f":"IFERROR(IF(INDIRECT($A$14&ROW())<>\"\",COUNTIF(Summary!$B$30:$B$1029,INDIRECT($A$14&ROW())),\"\"),\"\")","v":""}]
[{"$f":"IFERROR(IF(INDIRECT($A$14&ROW())<>\"\",COUNTIF(Summary!$B$30:$B$1029,INDIRECT($A$14&ROW())),\"\"),\"\")","v":""}]
[{"$f":"IFERROR(IF(INDIRECT($A$14&ROW())<>\"\",COUNTIF(Summary!$B$30:$B$1029,INDIRECT($A$14&ROW())),\"\"),\"\")","v":""}]
[{"$f":"IFERROR(IF(INDIRECT($A$14&ROW())<>\"\",COUNTIF(Summary!$B$30:$B$1029,INDIRECT($A$14&ROW())),\"\"),\"\")","v":""}]
[{"$f":"IFERROR(IF(INDIRECT($A$14&ROW())<>\"\",COUNTIF(Summary!$B$30:$B$1029,INDIRECT($A$14&ROW())),\"\"),\"\")","v":""}]
[{"$f":"IFERROR(IF(INDIRECT($A$14&ROW())<>\"\",COUNTIF(Summary!$B$30:$B$1029,INDIRECT($A$14&ROW())),\"\"),\"\")","v":""}]
[{"$f":"IFERROR(IF(INDIRECT($A$14&ROW())<>\"\",COUNTIF(Summary!$B$30:$B$1029,INDIRECT($A$14&ROW())),\"\"),\"\")","v":""}]
[{"$f":"IFERROR(IF(INDIRECT($A$14&ROW())<>\"\",COUNTIF(Summary!$B$30:$B$1029,INDIRECT($A$14&ROW())),\"\"),\"\")","v":""}]
[{"$f":"IFERROR(IF(INDIRECT($A$14&ROW())<>\"\",COUNTIF(Summary!$B$30:$B$1029,INDIRECT($A$14&ROW())),\"\"),\"\")","v":""}]
[{"$f":"IFERROR(IF(INDIRECT($A$14&ROW())<>\"\",COUNTIF(Summary!$B$30:$B$1029,INDIRECT($A$14&ROW())),\"\"),\"\")","v":""}]
[{"$f":"IFERROR(IF(INDIRECT($A$14&ROW())<>\"\",COUNTIF(Summary!$B$30:$B$1029,INDIRECT($A$14&ROW())),\"\"),\"\")","v":""}]
[{"$f":"IFERROR(IF(INDIRECT($A$14&ROW())<>\"\",COUNTIF(Summary!$B$30:$B$1029,INDIRECT($A$14&ROW())),\"\"),\"\")","v":""}]
[{"$f":"IFERROR(IF(INDIRECT($A$14&ROW())<>\"\",COUNTIF(Summary!$B$30:$B$1029,INDIRECT($A$14&ROW())),\"\"),\"\")","v":""}]
[{"$f":"IFERROR(IF(INDIRECT($A$14&ROW())<>\"\",COUNTIF(Summary!$B$30:$B$1029,INDIRECT($A$14&ROW())),\"\"),\"\")","v":""}]
[{"$f":"IFERROR(IF(INDIRECT($A$14&ROW())<>\"\",COUNTIF(Summary!$B$30:$B$1029,INDIRECT($A$14&ROW())),\"\"),\"\")","v":""}]
[{"$f":"IFERROR(IF(INDIRECT($A$14&ROW())<>\"\",COUNTIF(Summary!$B$30:$B$1029,INDIRECT($A$14&ROW())),\"\"),\"\")","v":""}]
[{"$f":"IFERROR(IF(INDIRECT($A$14&ROW())<>\"\",COUNTIF(Summary!$B$30:$B$1029,INDIRECT($A$14&ROW())),\"\"),\"\")","v":""}]
[{"$f":"IFERROR(IF(INDIRECT($A$14&ROW())<>\"\",COUNTIF(Summary!$B$30:$B$1029,INDIRECT($A$14&ROW())),\"\"),\"\")","v":""}]
[{"$f":"IFERROR(IF(INDIRECT($A$14&ROW())<>\"\",COUNTIF(Summary!$B$30:$B$1029,INDIRECT($A$14&ROW())),\"\"),\"\")","v":""}]
[{"$f":"IFERROR(IF(INDIRECT($A$14&ROW())<>\"\",COUNTIF(Summary!$B$30:$B$1029,INDIRECT($A$14&ROW())),\"\"),\"\")","v":""}]
[{"$f":"IFERROR(IF(INDIRECT($A$14&ROW())<>\"\",COUNTIF(Summary!$B$30:$B$1029,INDIRECT($A$14&ROW())),\"\"),\"\")","v":""}]
[{"$f":"IFERROR(IF(INDIRECT($A$14&ROW())<>\"\",COUNTIF(Summary!$B$30:$B$1029,INDIRECT($A$14&ROW())),\"\"),\"\")","v":""}]
[{"$f":"IFERROR(IF(INDIRECT($A$14&ROW())<>\"\",COUNTIF(Summary!$B$30:$B$1029,INDIRECT($A$14&ROW())),\"\"),\"\")","v":""}]
[{"$f":"IFERROR(IF(INDIRECT($A$14&ROW())<>\"\",COUNTIF(Summary!$B$30:$B$1029,INDIRECT($A$14&ROW())),\"\"),\"\")","v":""}]
[{"$f":"IFERROR(IF(INDIRECT($A$14&ROW())<>\"\",COUNTIF(Summary!$B$30:$B$1029,INDIRECT($A$14&ROW())),\"\"),\"\")","v":""}]
[{"$f":"IFERROR(IF(INDIRECT($A$14&ROW())<>\"\",COUNTIF(Summary!$B$30:$B$1029,INDIRECT($A$14&ROW())),\"\"),\"\")","v":""}]
[{"$f":"IFERROR(IF(INDIRECT($A$14&ROW())<>\"\",COUNTIF(Summary!$B$30:$B$1029,INDIRECT($A$14&ROW())),\"\"),\"\")","v":""}]
[{"$f":"IFERROR(IF(INDIRECT($A$14&ROW())<>\"\",COUNTIF(Summary!$B$30:$B$1029,INDIRECT($A$14&ROW())),\"\"),\"\")","v":""}]
[{"$f":"IFERROR(IF(INDIRECT($A$14&ROW())<>\"\",COUNTIF(Summary!$B$30:$B$1029,INDIRECT($A$14&ROW())),\"\"),\"\")","v":""}]
[{"$f":"IFERROR(IF(INDIRECT($A$14&ROW())<>\"\",COUNTIF(Summary!$B$30:$B$1029,INDIRECT($A$14&ROW())),\"\"),\"\")","v":""}]
[{"$f":"IFERROR(IF(INDIRECT($A$14&ROW())<>\"\",COUNTIF(Summary!$B$30:$B$1029,INDIRECT($A$14&ROW())),\"\"),\"\")","v":""}]
[{"$f":"IFERROR(IF(INDIRECT($A$14&ROW())<>\"\",COUNTIF(Summary!$B$30:$B$1029,INDIRECT($A$14&ROW())),\"\"),\"\")","v":""}]
[{"$f":"IFERROR(IF(INDIRECT($A$14&ROW())<>\"\",COUNTIF(Summary!$B$30:$B$1029,INDIRECT($A$14&ROW())),\"\"),\"\")","v":""}]
[{"$f":"IFERROR(IF(INDIRECT($A$14&ROW())<>\"\",COUNTIF(Summary!$B$30:$B$1029,INDIRECT($A$14&ROW())),\"\"),\"\")","v":""}]
[{"$f":"IFERROR(IF(INDIRECT($A$14&ROW())<>\"\",COUNTIF(Summary!$B$30:$B$1029,INDIRECT($A$14&ROW())),\"\"),\"\")","v":""}]
[{"$f":"IFERROR(IF(INDIRECT($A$14&ROW())<>\"\",COUNTIF(Summary!$B$30:$B$1029,INDIRECT($A$14&ROW())),\"\"),\"\")","v":""}]
[{"$f":"IFERROR(IF(INDIRECT($A$14&ROW())<>\"\",COUNTIF(Summary!$B$30:$B$1029,INDIRECT($A$14&ROW())),\"\"),\"\")","v":""}]
[{"$f":"IFERROR(IF(INDIRECT($A$14&ROW())<>\"\",COUNTIF(Summary!$B$30:$B$1029,INDIRECT($A$14&ROW())),\"\"),\"\")","v":""}]
[{"$f":"IFERROR(IF(INDIRECT($A$14&ROW())<>\"\",COUNTIF(Summary!$B$30:$B$1029,INDIRECT($A$14&ROW())),\"\"),\"\")","v":""}]
[{"$f":"IFERROR(IF(INDIRECT($A$14&ROW())<>\"\",COUNTIF(Summary!$B$30:$B$1029,INDIRECT($A$14&ROW())),\"\"),\"\")","v":""}]
[{"$f":"IFERROR(IF(INDIRECT($A$14&ROW())<>\"\",COUNTIF(Summary!$B$30:$B$1029,INDIRECT($A$14&ROW())),\"\"),\"\")","v":""}]
[{"$f":"IFERROR(IF(INDIRECT($A$14&ROW())<>\"\",COUNTIF(Summary!$B$30:$B$1029,INDIRECT($A$14&ROW())),\"\"),\"\")","v":""}]
[{"$f":"IFERROR(IF(INDIRECT($A$14&ROW())<>\"\",COUNTIF(Summary!$B$30:$B$1029,INDIRECT($A$14&ROW())),\"\"),\"\")","v":""}]
[{"$f":"IFERROR(IF(INDIRECT($A$14&ROW())<>\"\",COUNTIF(Summary!$B$30:$B$1029,INDIRECT($A$14&ROW())),\"\"),\"\")","v":""}]
[{"$f":"IFERROR(IF(INDIRECT($A$14&ROW())<>\"\",COUNTIF(Summary!$B$30:$B$1029,INDIRECT($A$14&ROW())),\"\"),\"\")","v":""}]
[{"$f":"IFERROR(IF(INDIRECT($A$14&ROW())<>\"\",COUNTIF(Summary!$B$30:$B$1029,INDIRECT($A$14&ROW())),\"\"),\"\")","v":""}]
[{"$f":"IFERROR(IF(INDIRECT($A$14&ROW())<>\"\",COUNTIF(Summary!$B$30:$B$1029,INDIRECT($A$14&ROW())),\"\"),\"\")","v":""}]
[{"$f":"IFERROR(IF(INDIRECT($A$14&ROW())<>\"\",COUNTIF(Summary!$B$30:$B$1029,INDIRECT($A$14&ROW())),\"\"),\"\")","v":""}]
[{"$f":"IFERROR(IF(INDIRECT($A$14&ROW())<>\"\",COUNTIF(Summary!$B$30:$B$1029,INDIRECT($A$14&ROW())),\"\"),\"\")","v":""}]
[{"$f":"IFERROR(IF(INDIRECT($A$14&ROW())<>\"\",COUNTIF(Summary!$B$30:$B$1029,INDIRECT($A$14&ROW())),\"\"),\"\")","v":""}]
[{"$f":"IFERROR(IF(INDIRECT($A$14&ROW())<>\"\",COUNTIF(Summary!$B$30:$B$1029,INDIRECT($A$14&ROW())),\"\"),\"\")","v":""}]
[{"$f":"IFERROR(IF(INDIRECT($A$14&ROW())<>\"\",COUNTIF(Summary!$B$30:$B$1029,INDIRECT($A$14&ROW())),\"\"),\"\")","v":""}]
[{"$f":"IFERROR(IF(INDIRECT($A$14&ROW())<>\"\",COUNTIF(Summary!$B$30:$B$1029,INDIRECT($A$14&ROW())),\"\"),\"\")","v":""}]
[{"$f":"IFERROR(IF(INDIRECT($A$14&ROW())<>\"\",COUNTIF(Summary!$B$30:$B$1029,INDIRECT($A$14&ROW())),\"\"),\"\")","v":""}]
[{"$f":"IFERROR(IF(INDIRECT($A$14&ROW())<>\"\",COUNTIF(Summary!$B$30:$B$1029,INDIRECT($A$14&ROW())),\"\"),\"\")","v":""}]
[{"$f":"IFERROR(IF(INDIRECT($A$14&ROW())<>\"\",COUNTIF(Summary!$B$30:$B$1029,INDIRECT($A$14&ROW())),\"\"),\"\")","v":""}]
[{"$f":"IFERROR(IF(INDIRECT($A$14&ROW())<>\"\",COUNTIF(Summary!$B$30:$B$1029,INDIRECT($A$14&ROW())),\"\"),\"\")","v":""}]
[{"$f":"IFERROR(IF(INDIRECT($A$14&ROW())<>\"\",COUNTIF(Summary!$B$30:$B$1029,INDIRECT($A$14&ROW())),\"\"),\"\")","v":""}]
[{"$f":"IFERROR(IF(INDIRECT($A$14&ROW())<>\"\",COUNTIF(Summary!$B$30:$B$1029,INDIRECT($A$14&ROW())),\"\"),\"\")","v":""}]
[{"$f":"IFERROR(IF(INDIRECT($A$14&ROW())<>\"\",COUNTIF(Summary!$B$30:$B$1029,INDIRECT($A$14&ROW())),\"\"),\"\")","v":""}]
[{"$f":"IFERROR(IF(INDIRECT($A$14&ROW())<>\"\",COUNTIF(Summary!$B$30:$B$1029,INDIRECT($A$14&ROW())),\"\"),\"\")","v":""}]
[{"$f":"IFERROR(IF(INDIRECT($A$14&ROW())<>\"\",COUNTIF(Summary!$B$30:$B$1029,INDIRECT($A$14&ROW())),\"\"),\"\")","v":""}]
[{"$f":"IFERROR(IF(INDIRECT($A$14&ROW())<>\"\",COUNTIF(Summary!$B$30:$B$1029,INDIRECT($A$14&ROW())),\"\"),\"\")","v":""}]
[{"$f":"IFERROR(IF(INDIRECT($A$14&ROW())<>\"\",COUNTIF(Summary!$B$30:$B$1029,INDIRECT($A$14&ROW())),\"\"),\"\")","v":""}]
[{"$f":"IFERROR(IF(INDIRECT($A$14&ROW())<>\"\",COUNTIF(Summary!$B$30:$B$1029,INDIRECT($A$14&ROW())),\"\"),\"\")","v":""}]
[{"$f":"IFERROR(IF(INDIRECT($A$14&ROW())<>\"\",COUNTIF(Summary!$B$30:$B$1029,INDIRECT($A$14&ROW())),\"\"),\"\")","v":""}]
[{"$f":"IFERROR(IF(INDIRECT($A$14&ROW())<>\"\",COUNTIF(Summary!$B$30:$B$1029,INDIRECT($A$14&ROW())),\"\"),\"\")","v":""}]
[{"$f":"IFERROR(IF(INDIRECT($A$14&ROW())<>\"\",COUNTIF(Summary!$B$30:$B$1029,INDIRECT($A$14&ROW())),\"\"),\"\")","v":""}]
[{"$f":"IFERROR(IF(INDIRECT($A$14&ROW())<>\"\",COUNTIF(Summary!$B$30:$B$1029,INDIRECT($A$14&ROW())),\"\"),\"\")","v":""}]
[{"$f":"IFERROR(IF(INDIRECT($A$14&ROW())<>\"\",COUNTIF(Summary!$B$30:$B$1029,INDIRECT($A$14&ROW())),\"\"),\"\")","v":""}]
[{"$f":"IFERROR(IF(INDIRECT($A$14&ROW())<>\"\",COUNTIF(Summary!$B$30:$B$1029,INDIRECT($A$14&ROW())),\"\"),\"\")","v":""}]
[{"$f":"IFERROR(IF(INDIRECT($A$14&ROW())<>\"\",COUNTIF(Summary!$B$30:$B$1029,INDIRECT($A$14&ROW())),\"\"),\"\")","v":""}]
[{"$f":"IFERROR(IF(INDIRECT($A$14&ROW())<>\"\",COUNTIF(Summary!$B$30:$B$1029,INDIRECT($A$14&ROW())),\"\"),\"\")","v":""}]
[{"$f":"IFERROR(IF(INDIRECT($A$14&ROW())<>\"\",COUNTIF(Summary!$B$30:$B$1029,INDIRECT($A$14&ROW())),\"\"),\"\")","v":""}]
[{"$f":"IFERROR(IF(INDIRECT($A$14&ROW())<>\"\",COUNTIF(Summary!$B$30:$B$1029,INDIRECT($A$14&ROW())),\"\"),\"\")","v":""}]
[{"$f":"IFERROR(IF(INDIRECT($A$14&ROW())<>\"\",COUNTIF(Summary!$B$30:$B$1029,INDIRECT($A$14&ROW())),\"\"),\"\")","v":""}]
[{"$f":"IFERROR(IF(INDIRECT($A$14&ROW())<>\"\",COUNTIF(Summary!$B$30:$B$1029,INDIRECT($A$14&ROW())),\"\"),\"\")","v":""}]
[{"$f":"IFERROR(IF(INDIRECT($A$14&ROW())<>\"\",COUNTIF(Summary!$B$30:$B$1029,INDIRECT($A$14&ROW())),\"\"),\"\")","v":""}]
[{"$f":"IFERROR(IF(INDIRECT($A$14&ROW())<>\"\",COUNTIF(Summary!$B$30:$B$1029,INDIRECT($A$14&ROW())),\"\"),\"\")","v":""}]
[{"$f":"IFERROR(IF(INDIRECT($A$14&ROW())<>\"\",COUNTIF(Summary!$B$30:$B$1029,INDIRECT($A$14&ROW())),\"\"),\"\")","v":""}]
[{"$f":"IFERROR(IF(INDIRECT($A$14&ROW())<>\"\",COUNTIF(Summary!$B$30:$B$1029,INDIRECT($A$14&ROW())),\"\"),\"\")","v":""}]
[{"$f":"IFERROR(IF(INDIRECT($A$14&ROW())<>\"\",COUNTIF(Summary!$B$30:$B$1029,INDIRECT($A$14&ROW())),\"\"),\"\")","v":""}]
[{"$f":"IFERROR(IF(INDIRECT($A$14&ROW())<>\"\",COUNTIF(Summary!$B$30:$B$1029,INDIRECT($A$14&ROW())),\"\"),\"\")","v":""}]
[{"$f":"IFERROR(IF(INDIRECT($A$14&ROW())<>\"\",COUNTIF(Summary!$B$30:$B$1029,INDIRECT($A$14&ROW())),\"\"),\"\")","v":""}]
[{"$f":"IFERROR(IF(INDIRECT($A$14&ROW())<>\"\",COUNTIF(Summary!$B$30:$B$1029,INDIRECT($A$14&ROW())),\"\"),\"\")","v":""}]
[{"$f":"IFERROR(IF(INDIRECT($A$14&ROW())<>\"\",COUNTIF(Summary!$B$30:$B$1029,INDIRECT($A$14&ROW())),\"\"),\"\")","v":""}]
[{"$f":"IFERROR(IF(INDIRECT($A$14&ROW())<>\"\",COUNTIF(Summary!$B$30:$B$1029,INDIRECT($A$14&ROW())),\"\"),\"\")","v":""}]
[{"$f":"IFERROR(IF(INDIRECT($A$14&ROW())<>\"\",COUNTIF(Summary!$B$30:$B$1029,INDIRECT($A$14&ROW())),\"\"),\"\")","v":""}]
[{"$f":"IFERROR(IF(INDIRECT($A$14&ROW())<>\"\",COUNTIF(Summary!$B$30:$B$1029,INDIRECT($A$14&ROW())),\"\"),\"\")","v":""}]
[{"$f":"IFERROR(IF(INDIRECT($A$14&ROW())<>\"\",COUNTIF(Summary!$B$30:$B$1029,INDIRECT($A$14&ROW())),\"\"),\"\")","v":""}]
[{"$f":"IFERROR(IF(INDIRECT($A$14&ROW())<>\"\",COUNTIF(Summary!$B$30:$B$1029,INDIRECT($A$14&ROW())),\"\"),\"\")","v":""}]
[{"$f":"IFERROR(IF(INDIRECT($A$14&ROW())<>\"\",COUNTIF(Summary!$B$30:$B$1029,INDIRECT($A$14&ROW())),\"\"),\"\")","v":""}]
[{"$f":"IFERROR(IF(INDIRECT($A$14&ROW())<>\"\",COUNTIF(Summary!$B$30:$B$1029,INDIRECT($A$14&ROW())),\"\"),\"\")","v":""}]
[{"$f":"IFERROR(IF(INDIRECT($A$14&ROW())<>\"\",COUNTIF(Summary!$B$30:$B$1029,INDIRECT($A$14&ROW())),\"\"),\"\")","v":""}]
[{"$f":"IFERROR(IF(INDIRECT($A$14&ROW())<>\"\",COUNTIF(Summary!$B$30:$B$1029,INDIRECT($A$14&ROW())),\"\"),\"\")","v":""}]
[{"$f":"IFERROR(IF(INDIRECT($A$14&ROW())<>\"\",COUNTIF(Summary!$B$30:$B$1029,INDIRECT($A$14&ROW())),\"\"),\"\")","v":""}]
[{"$f":"IFERROR(IF(INDIRECT($A$14&ROW())<>\"\",COUNTIF(Summary!$B$30:$B$1029,INDIRECT($A$14&ROW())),\"\"),\"\")","v":""}]
[{"$f":"IFERROR(IF(INDIRECT($A$14&ROW())<>\"\",COUNTIF(Summary!$B$30:$B$1029,INDIRECT($A$14&ROW())),\"\"),\"\")","v":""}]
[{"$f":"IFERROR(IF(INDIRECT($A$14&ROW())<>\"\",COUNTIF(Summary!$B$30:$B$1029,INDIRECT($A$14&ROW())),\"\"),\"\")","v":""}]
[{"$f":"IFERROR(IF(INDIRECT($A$14&ROW())<>\"\",COUNTIF(Summary!$B$30:$B$1029,INDIRECT($A$14&ROW())),\"\"),\"\")","v":""}]
[{"$f":"IFERROR(IF(INDIRECT($A$14&ROW())<>\"\",COUNTIF(Summary!$B$30:$B$1029,INDIRECT($A$14&ROW())),\"\"),\"\")","v":""}]
[{"$f":"IFERROR(IF(INDIRECT($A$14&ROW())<>\"\",COUNTIF(Summary!$B$30:$B$1029,INDIRECT($A$14&ROW())),\"\"),\"\")","v":""}]
[{"$f":"IFERROR(IF(INDIRECT($A$14&ROW())<>\"\",COUNTIF(Summary!$B$30:$B$1029,INDIRECT($A$14&ROW())),\"\"),\"\")","v":""}]
[{"$f":"IFERROR(IF(INDIRECT($A$14&ROW())<>\"\",COUNTIF(Summary!$B$30:$B$1029,INDIRECT($A$14&ROW())),\"\"),\"\")","v":""}]
[{"$f":"IFERROR(IF(INDIRECT($A$14&ROW())<>\"\",COUNTIF(Summary!$B$30:$B$1029,INDIRECT($A$14&ROW())),\"\"),\"\")","v":""}]
[{"$f":"IFERROR(IF(INDIRECT($A$14&ROW())<>\"\",COUNTIF(Summary!$B$30:$B$1029,INDIRECT($A$14&ROW())),\"\"),\"\")","v":""}]
[{"$f":"IFERROR(IF(INDIRECT($A$14&ROW())<>\"\",COUNTIF(Summary!$B$30:$B$1029,INDIRECT($A$14&ROW())),\"\"),\"\")","v":""}]
[{"$f":"IFERROR(IF(INDIRECT($A$14&ROW())<>\"\",COUNTIF(Summary!$B$30:$B$1029,INDIRECT($A$14&ROW())),\"\"),\"\")","v":""}]
[{"$f":"IFERROR(IF(INDIRECT($A$14&ROW())<>\"\",COUNTIF(Summary!$B$30:$B$1029,INDIRECT($A$14&ROW())),\"\"),\"\")","v":""}]
[{"$f":"IFERROR(IF(INDIRECT($A$14&ROW())<>\"\",COUNTIF(Summary!$B$30:$B$1029,INDIRECT($A$14&ROW())),\"\"),\"\")","v":""}]
[{"$f":"IFERROR(IF(INDIRECT($A$14&ROW())<>\"\",COUNTIF(Summary!$B$30:$B$1029,INDIRECT($A$14&ROW())),\"\"),\"\")","v":""}]
[{"$f":"IFERROR(IF(INDIRECT($A$14&ROW())<>\"\",COUNTIF(Summary!$B$30:$B$1029,INDIRECT($A$14&ROW())),\"\"),\"\")","v":""}]
[{"$f":"IFERROR(IF(INDIRECT($A$14&ROW())<>\"\",COUNTIF(Summary!$B$30:$B$1029,INDIRECT($A$14&ROW())),\"\"),\"\")","v":""}]
[{"$f":"IFERROR(IF(INDIRECT($A$14&ROW())<>\"\",COUNTIF(Summary!$B$30:$B$1029,INDIRECT($A$14&ROW())),\"\"),\"\")","v":""}]
[{"$f":"IFERROR(IF(INDIRECT($A$14&ROW())<>\"\",COUNTIF(Summary!$B$30:$B$1029,INDIRECT($A$14&ROW())),\"\"),\"\")","v":""}]
[{"$f":"IFERROR(IF(INDIRECT($A$14&ROW())<>\"\",COUNTIF(Summary!$B$30:$B$1029,INDIRECT($A$14&ROW())),\"\"),\"\")","v":""}]
[{"$f":"IFERROR(IF(INDIRECT($A$14&ROW())<>\"\",COUNTIF(Summary!$B$30:$B$1029,INDIRECT($A$14&ROW())),\"\"),\"\")","v":""}]
[{"$f":"IFERROR(IF(INDIRECT($A$14&ROW())<>\"\",COUNTIF(Summary!$B$30:$B$1029,INDIRECT($A$14&ROW())),\"\"),\"\")","v":""}]
[{"$f":"IFERROR(IF(INDIRECT($A$14&ROW())<>\"\",COUNTIF(Summary!$B$30:$B$1029,INDIRECT($A$14&ROW())),\"\"),\"\")","v":""}]
[{"$f":"IFERROR(IF(INDIRECT($A$14&ROW())<>\"\",COUNTIF(Summary!$B$30:$B$1029,INDIRECT($A$14&ROW())),\"\"),\"\")","v":""}]
[{"$f":"IFERROR(IF(INDIRECT($A$14&ROW())<>\"\",COUNTIF(Summary!$B$30:$B$1029,INDIRECT($A$14&ROW())),\"\"),\"\")","v":""}]
[{"$f":"IFERROR(IF(INDIRECT($A$14&ROW())<>\"\",COUNTIF(Summary!$B$30:$B$1029,INDIRECT($A$14&ROW())),\"\"),\"\")","v":""}]
[{"$f":"IFERROR(IF(INDIRECT($A$14&ROW())<>\"\",COUNTIF(Summary!$B$30:$B$1029,INDIRECT($A$14&ROW())),\"\"),\"\")","v":""}]
[{"$f":"IFERROR(IF(INDIRECT($A$14&ROW())<>\"\",COUNTIF(Summary!$B$30:$B$1029,INDIRECT($A$14&ROW())),\"\"),\"\")","v":""}]
[{"$f":"IFERROR(IF(INDIRECT($A$14&ROW())<>\"\",COUNTIF(Summary!$B$30:$B$1029,INDIRECT($A$14&ROW())),\"\"),\"\")","v":""}]
[{"$f":"IFERROR(IF(INDIRECT($A$14&ROW())<>\"\",COUNTIF(Summary!$B$30:$B$1029,INDIRECT($A$14&ROW())),\"\"),\"\")","v":""}]
[{"$f":"IFERROR(IF(INDIRECT($A$14&ROW())<>\"\",COUNTIF(Summary!$B$30:$B$1029,INDIRECT($A$14&ROW())),\"\"),\"\")","v":""}]
[{"$f":"IFERROR(IF(INDIRECT($A$14&ROW())<>\"\",COUNTIF(Summary!$B$30:$B$1029,INDIRECT($A$14&ROW())),\"\"),\"\")","v":""}]
[{"$f":"IFERROR(IF(INDIRECT($A$14&ROW())<>\"\",COUNTIF(Summary!$B$30:$B$1029,INDIRECT($A$14&ROW())),\"\"),\"\")","v":""}]
[{"$f":"IFERROR(IF(INDIRECT($A$14&ROW())<>\"\",COUNTIF(Summary!$B$30:$B$1029,INDIRECT($A$14&ROW())),\"\"),\"\")","v":""}]
[{"$f":"IFERROR(IF(INDIRECT($A$14&ROW())<>\"\",COUNTIF(Summary!$B$30:$B$1029,INDIRECT($A$14&ROW())),\"\"),\"\")","v":""}]
[{"$f":"IFERROR(IF(INDIRECT($A$14&ROW())<>\"\",COUNTIF(Summary!$B$30:$B$1029,INDIRECT($A$14&ROW())),\"\"),\"\")","v":""}]
[{"$f":"IFERROR(IF(INDIRECT($A$14&ROW())<>\"\",COUNTIF(Summary!$B$30:$B$1029,INDIRECT($A$14&ROW())),\"\"),\"\")","v":""}]
[{"$f":"IFERROR(IF(INDIRECT($A$14&ROW())<>\"\",COUNTIF(Summary!$B$30:$B$1029,INDIRECT($A$14&ROW())),\"\"),\"\")","v":""}]
[{"$f":"IFERROR(IF(INDIRECT($A$14&ROW())<>\"\",COUNTIF(Summary!$B$30:$B$1029,INDIRECT($A$14&ROW())),\"\"),\"\")","v":""}]
[{"$f":"IFERROR(IF(INDIRECT($A$14&ROW())<>\"\",COUNTIF(Summary!$B$30:$B$1029,INDIRECT($A$14&ROW())),\"\"),\"\")","v":""}]
[{"$f":"IFERROR(IF(INDIRECT($A$14&ROW())<>\"\",COUNTIF(Summary!$B$30:$B$1029,INDIRECT($A$14&ROW())),\"\"),\"\")","v":""}]
[{"$f":"IFERROR(IF(INDIRECT($A$14&ROW())<>\"\",COUNTIF(Summary!$B$30:$B$1029,INDIRECT($A$14&ROW())),\"\"),\"\")","v":""}]
[{"$f":"IFERROR(IF(INDIRECT($A$14&ROW())<>\"\",COUNTIF(Summary!$B$30:$B$1029,INDIRECT($A$14&ROW())),\"\"),\"\")","v":""}]
[{"$f":"IFERROR(IF(INDIRECT($A$14&ROW())<>\"\",COUNTIF(Summary!$B$30:$B$1029,INDIRECT($A$14&ROW())),\"\"),\"\")","v":""}]
[{"$f":"IFERROR(IF(INDIRECT($A$14&ROW())<>\"\",COUNTIF(Summary!$B$30:$B$1029,INDIRECT($A$14&ROW())),\"\"),\"\")","v":""}]
[{"$f":"IFERROR(IF(INDIRECT($A$14&ROW())<>\"\",COUNTIF(Summary!$B$30:$B$1029,INDIRECT($A$14&ROW())),\"\"),\"\")","v":""}]
[{"$f":"IFERROR(IF(INDIRECT($A$14&ROW())<>\"\",COUNTIF(Summary!$B$30:$B$1029,INDIRECT($A$14&ROW())),\"\"),\"\")","v":""}]
[{"$f":"IFERROR(IF(INDIRECT($A$14&ROW())<>\"\",COUNTIF(Summary!$B$30:$B$1029,INDIRECT($A$14&ROW())),\"\"),\"\")","v":""}]
[{"$f":"IFERROR(IF(INDIRECT($A$14&ROW())<>\"\",COUNTIF(Summary!$B$30:$B$1029,INDIRECT($A$14&ROW())),\"\"),\"\")","v":""}]
[{"$f":"IFERROR(IF(INDIRECT($A$14&ROW())<>\"\",COUNTIF(Summary!$B$30:$B$1029,INDIRECT($A$14&ROW())),\"\"),\"\")","v":""}]
[{"$f":"IFERROR(IF(INDIRECT($A$14&ROW())<>\"\",COUNTIF(Summary!$B$30:$B$1029,INDIRECT($A$14&ROW())),\"\"),\"\")","v":""}]
[{"$f":"IFERROR(IF(INDIRECT($A$14&ROW())<>\"\",COUNTIF(Summary!$B$30:$B$1029,INDIRECT($A$14&ROW())),\"\"),\"\")","v":""}]
[{"$f":"IFERROR(IF(INDIRECT($A$14&ROW())<>\"\",COUNTIF(Summary!$B$30:$B$1029,INDIRECT($A$14&ROW())),\"\"),\"\")","v":""}]
[{"$f":"IFERROR(IF(INDIRECT($A$14&ROW())<>\"\",COUNTIF(Summary!$B$30:$B$1029,INDIRECT($A$14&ROW())),\"\"),\"\")","v":""}]
[{"$f":"IFERROR(IF(INDIRECT($A$14&ROW())<>\"\",COUNTIF(Summary!$B$30:$B$1029,INDIRECT($A$14&ROW())),\"\"),\"\")","v":""}]
[{"$f":"IFERROR(IF(INDIRECT($A$14&ROW())<>\"\",COUNTIF(Summary!$B$30:$B$1029,INDIRECT($A$14&ROW())),\"\"),\"\")","v":""}]
[{"$f":"IFERROR(IF(INDIRECT($A$14&ROW())<>\"\",COUNTIF(Summary!$B$30:$B$1029,INDIRECT($A$14&ROW())),\"\"),\"\")","v":""}]
[{"$f":"IFERROR(IF(INDIRECT($A$14&ROW())<>\"\",COUNTIF(Summary!$B$30:$B$1029,INDIRECT($A$14&ROW())),\"\"),\"\")","v":""}]
[{"$f":"IFERROR(IF(INDIRECT($A$14&ROW())<>\"\",COUNTIF(Summary!$B$30:$B$1029,INDIRECT($A$14&ROW())),\"\"),\"\")","v":""}]
[{"$f":"IFERROR(IF(INDIRECT($A$14&ROW())<>\"\",COUNTIF(Summary!$B$30:$B$1029,INDIRECT($A$14&ROW())),\"\"),\"\")","v":""}]
[{"$f":"IFERROR(IF(INDIRECT($A$14&ROW())<>\"\",COUNTIF(Summary!$B$30:$B$1029,INDIRECT($A$14&ROW())),\"\"),\"\")","v":""}]
[{"$f":"IFERROR(IF(INDIRECT($A$14&ROW())<>\"\",COUNTIF(Summary!$B$30:$B$1029,INDIRECT($A$14&ROW())),\"\"),\"\")","v":""}]
[{"$f":"IFERROR(IF(INDIRECT($A$14&ROW())<>\"\",COUNTIF(Summary!$B$30:$B$1029,INDIRECT($A$14&ROW())),\"\"),\"\")","v":""}]
[{"$f":"IFERROR(IF(INDIRECT($A$14&ROW())<>\"\",COUNTIF(Summary!$B$30:$B$1029,INDIRECT($A$14&ROW())),\"\"),\"\")","v":""}]
[{"$f":"IFERROR(IF(INDIRECT($A$14&ROW())<>\"\",COUNTIF(Summary!$B$30:$B$1029,INDIRECT($A$14&ROW())),\"\"),\"\")","v":""}]
[{"$f":"IFERROR(IF(INDIRECT($A$14&ROW())<>\"\",COUNTIF(Summary!$B$30:$B$1029,INDIRECT($A$14&ROW())),\"\"),\"\")","v":""}]
[{"$f":"IFERROR(IF(INDIRECT($A$14&ROW())<>\"\",COUNTIF(Summary!$B$30:$B$1029,INDIRECT($A$14&ROW())),\"\"),\"\")","v":""}]
[{"$f":"IFERROR(IF(INDIRECT($A$14&ROW())<>\"\",COUNTIF(Summary!$B$30:$B$1029,INDIRECT($A$14&ROW())),\"\"),\"\")","v":""}]
[{"$f":"IFERROR(IF(INDIRECT($A$14&ROW())<>\"\",COUNTIF(Summary!$B$30:$B$1029,INDIRECT($A$14&ROW())),\"\"),\"\")","v":""}]
[{"$f":"IFERROR(IF(INDIRECT($A$14&ROW())<>\"\",COUNTIF(Summary!$B$30:$B$1029,INDIRECT($A$14&ROW())),\"\"),\"\")","v":""}]
[{"$f":"IFERROR(IF(INDIRECT($A$14&ROW())<>\"\",COUNTIF(Summary!$B$30:$B$1029,INDIRECT($A$14&ROW())),\"\"),\"\")","v":""}]
[{"$f":"IFERROR(IF(INDIRECT($A$14&ROW())<>\"\",COUNTIF(Summary!$B$30:$B$1029,INDIRECT($A$14&ROW())),\"\"),\"\")","v":""}]
[{"$f":"IFERROR(IF(INDIRECT($A$14&ROW())<>\"\",COUNTIF(Summary!$B$30:$B$1029,INDIRECT($A$14&ROW())),\"\"),\"\")","v":""}]
[{"$f":"IFERROR(IF(INDIRECT($A$14&ROW())<>\"\",COUNTIF(Summary!$B$30:$B$1029,INDIRECT($A$14&ROW())),\"\"),\"\")","v":""}]
[{"$f":"IFERROR(IF(INDIRECT($A$14&ROW())<>\"\",COUNTIF(Summary!$B$30:$B$1029,INDIRECT($A$14&ROW())),\"\"),\"\")","v":""}]
[{"$f":"IFERROR(IF(INDIRECT($A$14&ROW())<>\"\",COUNTIF(Summary!$B$30:$B$1029,INDIRECT($A$14&ROW())),\"\"),\"\")","v":""}]
[{"$f":"IFERROR(IF(INDIRECT($A$14&ROW())<>\"\",COUNTIF(Summary!$B$30:$B$1029,INDIRECT($A$14&ROW())),\"\"),\"\")","v":""}]
[{"$f":"IFERROR(IF(INDIRECT($A$14&ROW())<>\"\",COUNTIF(Summary!$B$30:$B$1029,INDIRECT($A$14&ROW())),\"\"),\"\")","v":""}]
[{"$f":"IFERROR(IF(INDIRECT($A$14&ROW())<>\"\",COUNTIF(Summary!$B$30:$B$1029,INDIRECT($A$14&ROW())),\"\"),\"\")","v":""}]
[{"$f":"IFERROR(IF(INDIRECT($A$14&ROW())<>\"\",COUNTIF(Summary!$B$30:$B$1029,INDIRECT($A$14&ROW())),\"\"),\"\")","v":""}]
[{"$f":"IFERROR(IF(INDIRECT($A$14&ROW())<>\"\",COUNTIF(Summary!$B$30:$B$1029,INDIRECT($A$14&ROW())),\"\"),\"\")","v":""}]
[{"$f":"IFERROR(IF(INDIRECT($A$14&ROW())<>\"\",COUNTIF(Summary!$B$30:$B$1029,INDIRECT($A$14&ROW())),\"\"),\"\")","v":""}]
[{"$f":"IFERROR(IF(INDIRECT($A$14&ROW())<>\"\",COUNTIF(Summary!$B$30:$B$1029,INDIRECT($A$14&ROW())),\"\"),\"\")","v":""}]
[{"$f":"IFERROR(IF(INDIRECT($A$14&ROW())<>\"\",COUNTIF(Summary!$B$30:$B$1029,INDIRECT($A$14&ROW())),\"\"),\"\")","v":""}]
[{"$f":"IFERROR(IF(INDIRECT($A$14&ROW())<>\"\",COUNTIF(Summary!$B$30:$B$1029,INDIRECT($A$14&ROW())),\"\"),\"\")","v":""}]
[{"$f":"IFERROR(IF(INDIRECT($A$14&ROW())<>\"\",COUNTIF(Summary!$B$30:$B$1029,INDIRECT($A$14&ROW())),\"\"),\"\")","v":""}]
[{"$f":"IFERROR(IF(INDIRECT($A$14&ROW())<>\"\",COUNTIF(Summary!$B$30:$B$1029,INDIRECT($A$14&ROW())),\"\"),\"\")","v":""}]
[{"$f":"IFERROR(IF(INDIRECT($A$14&ROW())<>\"\",COUNTIF(Summary!$B$30:$B$1029,INDIRECT($A$14&ROW())),\"\"),\"\")","v":""}]
[{"$f":"IFERROR(IF(INDIRECT($A$14&ROW())<>\"\",COUNTIF(Summary!$B$30:$B$1029,INDIRECT($A$14&ROW())),\"\"),\"\")","v":""}]
[{"$f":"IFERROR(IF(INDIRECT($A$14&ROW())<>\"\",COUNTIF(Summary!$B$30:$B$1029,INDIRECT($A$14&ROW())),\"\"),\"\")","v":""}]
[{"$f":"IFERROR(IF(INDIRECT($A$14&ROW())<>\"\",COUNTIF(Summary!$B$30:$B$1029,INDIRECT($A$14&ROW())),\"\"),\"\")","v":""}]
[{"$f":"IFERROR(IF(INDIRECT($A$14&ROW())<>\"\",COUNTIF(Summary!$B$30:$B$1029,INDIRECT($A$14&ROW())),\"\"),\"\")","v":""}]
[{"$f":"IFERROR(IF(INDIRECT($A$14&ROW())<>\"\",COUNTIF(Summary!$B$30:$B$1029,INDIRECT($A$14&ROW())),\"\"),\"\")","v":""}]
[{"$f":"IFERROR(IF(INDIRECT($A$14&ROW())<>\"\",COUNTIF(Summary!$B$30:$B$1029,INDIRECT($A$14&ROW())),\"\"),\"\")","v":""}]
[{"$f":"IFERROR(IF(INDIRECT($A$14&ROW())<>\"\",COUNTIF(Summary!$B$30:$B$1029,INDIRECT($A$14&ROW())),\"\"),\"\")","v":""}]
[{"$f":"IFERROR(IF(INDIRECT($A$14&ROW())<>\"\",COUNTIF(Summary!$B$30:$B$1029,INDIRECT($A$14&ROW())),\"\"),\"\")","v":""}]
[{"$f":"IFERROR(IF(INDIRECT($A$14&ROW())<>\"\",COUNTIF(Summary!$B$30:$B$1029,INDIRECT($A$14&ROW())),\"\"),\"\")","v":""}]
[{"$f":"IFERROR(IF(INDIRECT($A$14&ROW())<>\"\",COUNTIF(Summary!$B$30:$B$1029,INDIRECT($A$14&ROW())),\"\"),\"\")","v":""}]
[{"$f":"IFERROR(IF(INDIRECT($A$14&ROW())<>\"\",COUNTIF(Summary!$B$30:$B$1029,INDIRECT($A$14&ROW())),\"\"),\"\")","v":""}]
[{"$f":"IFERROR(IF(INDIRECT($A$14&ROW())<>\"\",COUNTIF(Summary!$B$30:$B$1029,INDIRECT($A$14&ROW())),\"\"),\"\")","v":""}]
[{"$f":"IFERROR(IF(INDIRECT($A$14&ROW())<>\"\",COUNTIF(Summary!$B$30:$B$1029,INDIRECT($A$14&ROW())),\"\"),\"\")","v":""}]
[{"$f":"IFERROR(IF(INDIRECT($A$14&ROW())<>\"\",COUNTIF(Summary!$B$30:$B$1029,INDIRECT($A$14&ROW())),\"\"),\"\")","v":""}]
[{"$f":"IFERROR(IF(INDIRECT($A$14&ROW())<>\"\",COUNTIF(Summary!$B$30:$B$1029,INDIRECT($A$14&ROW())),\"\"),\"\")","v":""}]
[{"$f":"IFERROR(IF(INDIRECT($A$14&ROW())<>\"\",COUNTIF(Summary!$B$30:$B$1029,INDIRECT($A$14&ROW())),\"\"),\"\")","v":""}]
[{"$f":"IFERROR(IF(INDIRECT($A$14&ROW())<>\"\",COUNTIF(Summary!$B$30:$B$1029,INDIRECT($A$14&ROW())),\"\"),\"\")","v":""}]
[{"$f":"IFERROR(IF(INDIRECT($A$14&ROW())<>\"\",COUNTIF(Summary!$B$30:$B$1029,INDIRECT($A$14&ROW())),\"\"),\"\")","v":""}]
[{"$f":"IFERROR(IF(INDIRECT($A$14&ROW())<>\"\",COUNTIF(Summary!$B$30:$B$1029,INDIRECT($A$14&ROW())),\"\"),\"\")","v":""}]
[{"$f":"IFERROR(IF(INDIRECT($A$14&ROW())<>\"\",COUNTIF(Summary!$B$30:$B$1029,INDIRECT($A$14&ROW())),\"\"),\"\")","v":""}]
[{"$f":"IFERROR(IF(INDIRECT($A$14&ROW())<>\"\",COUNTIF(Summary!$B$30:$B$1029,INDIRECT($A$14&ROW())),\"\"),\"\")","v":""}]
[{"$f":"IFERROR(IF(INDIRECT($A$14&ROW())<>\"\",COUNTIF(Summary!$B$30:$B$1029,INDIRECT($A$14&ROW())),\"\"),\"\")","v":""}]
[{"$f":"IFERROR(IF(INDIRECT($A$14&ROW())<>\"\",COUNTIF(Summary!$B$30:$B$1029,INDIRECT($A$14&ROW())),\"\"),\"\")","v":""}]
[{"$f":"IFERROR(IF(INDIRECT($A$14&ROW())<>\"\",COUNTIF(Summary!$B$30:$B$1029,INDIRECT($A$14&ROW())),\"\"),\"\")","v":""}]
[{"$f":"IFERROR(IF(INDIRECT($A$14&ROW())<>\"\",COUNTIF(Summary!$B$30:$B$1029,INDIRECT($A$14&ROW())),\"\"),\"\")","v":""}]
[{"$f":"IFERROR(IF(INDIRECT($A$14&ROW())<>\"\",COUNTIF(Summary!$B$30:$B$1029,INDIRECT($A$14&ROW())),\"\"),\"\")","v":""}]
[{"$f":"IFERROR(IF(INDIRECT($A$14&ROW())<>\"\",COUNTIF(Summary!$B$30:$B$1029,INDIRECT($A$14&ROW())),\"\"),\"\")","v":""}]
[{"$f":"IFERROR(IF(INDIRECT($A$14&ROW())<>\"\",COUNTIF(Summary!$B$30:$B$1029,INDIRECT($A$14&ROW())),\"\"),\"\")","v":""}]
[{"$f":"IFERROR(IF(INDIRECT($A$14&ROW())<>\"\",COUNTIF(Summary!$B$30:$B$1029,INDIRECT($A$14&ROW())),\"\"),\"\")","v":""}]
[{"$f":"IFERROR(IF(INDIRECT($A$14&ROW())<>\"\",COUNTIF(Summary!$B$30:$B$1029,INDIRECT($A$14&ROW())),\"\"),\"\")","v":""}]
[{"$f":"IFERROR(IF(INDIRECT($A$14&ROW())<>\"\",COUNTIF(Summary!$B$30:$B$1029,INDIRECT($A$14&ROW())),\"\"),\"\")","v":""}]
[{"$f":"IFERROR(IF(INDIRECT($A$14&ROW())<>\"\",COUNTIF(Summary!$B$30:$B$1029,INDIRECT($A$14&ROW())),\"\"),\"\")","v":""}]
[{"$f":"IFERROR(IF(INDIRECT($A$14&ROW())<>\"\",COUNTIF(Summary!$B$30:$B$1029,INDIRECT($A$14&ROW())),\"\"),\"\")","v":""}]
[{"$f":"IFERROR(IF(INDIRECT($A$14&ROW())<>\"\",COUNTIF(Summary!$B$30:$B$1029,INDIRECT($A$14&ROW())),\"\"),\"\")","v":""}]
[{"$f":"IFERROR(IF(INDIRECT($A$14&ROW())<>\"\",COUNTIF(Summary!$B$30:$B$1029,INDIRECT($A$14&ROW())),\"\"),\"\")","v":""}]
[{"$f":"IFERROR(IF(INDIRECT($A$14&ROW())<>\"\",COUNTIF(Summary!$B$30:$B$1029,INDIRECT($A$14&ROW())),\"\"),\"\")","v":""}]
[{"$f":"IFERROR(IF(INDIRECT($A$14&ROW())<>\"\",COUNTIF(Summary!$B$30:$B$1029,INDIRECT($A$14&ROW())),\"\"),\"\")","v":""}]
[{"$f":"IFERROR(IF(INDIRECT($A$14&ROW())<>\"\",COUNTIF(Summary!$B$30:$B$1029,INDIRECT($A$14&ROW())),\"\"),\"\")","v":""}]
[{"$f":"IFERROR(IF(INDIRECT($A$14&ROW())<>\"\",COUNTIF(Summary!$B$30:$B$1029,INDIRECT($A$14&ROW())),\"\"),\"\")","v":""}]
[{"$f":"IFERROR(IF(INDIRECT($A$14&ROW())<>\"\",COUNTIF(Summary!$B$30:$B$1029,INDIRECT($A$14&ROW())),\"\"),\"\")","v":""}]
[{"$f":"IFERROR(IF(INDIRECT($A$14&ROW())<>\"\",COUNTIF(Summary!$B$30:$B$1029,INDIRECT($A$14&ROW())),\"\"),\"\")","v":""}]
[{"$f":"IFERROR(IF(INDIRECT($A$14&ROW())<>\"\",COUNTIF(Summary!$B$30:$B$1029,INDIRECT($A$14&ROW())),\"\"),\"\")","v":""}]
[{"$f":"IFERROR(IF(INDIRECT($A$14&ROW())<>\"\",COUNTIF(Summary!$B$30:$B$1029,INDIRECT($A$14&ROW())),\"\"),\"\")","v":""}]
[{"$f":"IFERROR(IF(INDIRECT($A$14&ROW())<>\"\",COUNTIF(Summary!$B$30:$B$1029,INDIRECT($A$14&ROW())),\"\"),\"\")","v":""}]
[{"$f":"IFERROR(IF(INDIRECT($A$14&ROW())<>\"\",COUNTIF(Summary!$B$30:$B$1029,INDIRECT($A$14&ROW())),\"\"),\"\")","v":""}]
[{"$f":"IFERROR(IF(INDIRECT($A$14&ROW())<>\"\",COUNTIF(Summary!$B$30:$B$1029,INDIRECT($A$14&ROW())),\"\"),\"\")","v":""}]
[{"$f":"IFERROR(IF(INDIRECT($A$14&ROW())<>\"\",COUNTIF(Summary!$B$30:$B$1029,INDIRECT($A$14&ROW())),\"\"),\"\")","v":""}]
[{"$f":"IFERROR(IF(INDIRECT($A$14&ROW())<>\"\",COUNTIF(Summary!$B$30:$B$1029,INDIRECT($A$14&ROW())),\"\"),\"\")","v":""}]
[{"$f":"IFERROR(IF(INDIRECT($A$14&ROW())<>\"\",COUNTIF(Summary!$B$30:$B$1029,INDIRECT($A$14&ROW())),\"\"),\"\")","v":""}]
[{"$f":"IFERROR(IF(INDIRECT($A$14&ROW())<>\"\",COUNTIF(Summary!$B$30:$B$1029,INDIRECT($A$14&ROW())),\"\"),\"\")","v":""}]
[{"$f":"IFERROR(IF(INDIRECT($A$14&ROW())<>\"\",COUNTIF(Summary!$B$30:$B$1029,INDIRECT($A$14&ROW())),\"\"),\"\")","v":""}]
[{"$f":"IFERROR(IF(INDIRECT($A$14&ROW())<>\"\",COUNTIF(Summary!$B$30:$B$1029,INDIRECT($A$14&ROW())),\"\"),\"\")","v":""}]
[{"$f":"IFERROR(IF(INDIRECT($A$14&ROW())<>\"\",COUNTIF(Summary!$B$30:$B$1029,INDIRECT($A$14&ROW())),\"\"),\"\")","v":""}]
[{"$f":"IFERROR(IF(INDIRECT($A$14&ROW())<>\"\",COUNTIF(Summary!$B$30:$B$1029,INDIRECT($A$14&ROW())),\"\"),\"\")","v":""}]
[{"$f":"IFERROR(IF(INDIRECT($A$14&ROW())<>\"\",COUNTIF(Summary!$B$30:$B$1029,INDIRECT($A$14&ROW())),\"\"),\"\")","v":""}]
[{"$f":"IFERROR(IF(INDIRECT($A$14&ROW())<>\"\",COUNTIF(Summary!$B$30:$B$1029,INDIRECT($A$14&ROW())),\"\"),\"\")","v":""}]
[{"$f":"IFERROR(IF(INDIRECT($A$14&ROW())<>\"\",COUNTIF(Summary!$B$30:$B$1029,INDIRECT($A$14&ROW())),\"\"),\"\")","v":""}]
[{"$f":"IFERROR(IF(INDIRECT($A$14&ROW())<>\"\",COUNTIF(Summary!$B$30:$B$1029,INDIRECT($A$14&ROW())),\"\"),\"\")","v":""}]
[{"$f":"IFERROR(IF(INDIRECT($A$14&ROW())<>\"\",COUNTIF(Summary!$B$30:$B$1029,INDIRECT($A$14&ROW())),\"\"),\"\")","v":""}]
[{"$f":"IFERROR(IF(INDIRECT($A$14&ROW())<>\"\",COUNTIF(Summary!$B$30:$B$1029,INDIRECT($A$14&ROW())),\"\"),\"\")","v":""}]
[{"$f":"IFERROR(IF(INDIRECT($A$14&ROW())<>\"\",COUNTIF(Summary!$B$30:$B$1029,INDIRECT($A$14&ROW())),\"\"),\"\")","v":""}]
[{"$f":"IFERROR(IF(INDIRECT($A$14&ROW())<>\"\",COUNTIF(Summary!$B$30:$B$1029,INDIRECT($A$14&ROW())),\"\"),\"\")","v":""}]
[{"$f":"IFERROR(IF(INDIRECT($A$14&ROW())<>\"\",COUNTIF(Summary!$B$30:$B$1029,INDIRECT($A$14&ROW())),\"\"),\"\")","v":""}]
[{"$f":"IFERROR(IF(INDIRECT($A$14&ROW())<>\"\",COUNTIF(Summary!$B$30:$B$1029,INDIRECT($A$14&ROW())),\"\"),\"\")","v":""}]
[{"$f":"IFERROR(IF(INDIRECT($A$14&ROW())<>\"\",COUNTIF(Summary!$B$30:$B$1029,INDIRECT($A$14&ROW())),\"\"),\"\")","v":""}]
[{"$f":"IFERROR(IF(INDIRECT($A$14&ROW())<>\"\",COUNTIF(Summary!$B$30:$B$1029,INDIRECT($A$14&ROW())),\"\"),\"\")","v":""}]
[{"$f":"IFERROR(IF(INDIRECT($A$14&ROW())<>\"\",COUNTIF(Summary!$B$30:$B$1029,INDIRECT($A$14&ROW())),\"\"),\"\")","v":""}]
[{"$f":"IFERROR(IF(INDIRECT($A$14&ROW())<>\"\",COUNTIF(Summary!$B$30:$B$1029,INDIRECT($A$14&ROW())),\"\"),\"\")","v":""}]
[{"$f":"IFERROR(IF(INDIRECT($A$14&ROW())<>\"\",COUNTIF(Summary!$B$30:$B$1029,INDIRECT($A$14&ROW())),\"\"),\"\")","v":""}]
[{"$f":"IFERROR(IF(INDIRECT($A$14&ROW())<>\"\",COUNTIF(Summary!$B$30:$B$1029,INDIRECT($A$14&ROW())),\"\"),\"\")","v":""}]
[{"$f":"IFERROR(IF(INDIRECT($A$14&ROW())<>\"\",COUNTIF(Summary!$B$30:$B$1029,INDIRECT($A$14&ROW())),\"\"),\"\")","v":""}]
[{"$f":"IFERROR(IF(INDIRECT($A$14&ROW())<>\"\",COUNTIF(Summary!$B$30:$B$1029,INDIRECT($A$14&ROW())),\"\"),\"\")","v":""}]
[{"$f":"IFERROR(IF(INDIRECT($A$14&ROW())<>\"\",COUNTIF(Summary!$B$30:$B$1029,INDIRECT($A$14&ROW())),\"\"),\"\")","v":""}]
[{"$f":"IFERROR(IF(INDIRECT($A$14&ROW())<>\"\",COUNTIF(Summary!$B$30:$B$1029,INDIRECT($A$14&ROW())),\"\"),\"\")","v":""}]
[{"$f":"IFERROR(IF(INDIRECT($A$14&ROW())<>\"\",COUNTIF(Summary!$B$30:$B$1029,INDIRECT($A$14&ROW())),\"\"),\"\")","v":""}]
[{"$f":"IFERROR(IF(INDIRECT($A$14&ROW())<>\"\",COUNTIF(Summary!$B$30:$B$1029,INDIRECT($A$14&ROW())),\"\"),\"\")","v":""}]
[{"$f":"IFERROR(IF(INDIRECT($A$14&ROW())<>\"\",COUNTIF(Summary!$B$30:$B$1029,INDIRECT($A$14&ROW())),\"\"),\"\")","v":""}]
[{"$f":"IFERROR(IF(INDIRECT($A$14&ROW())<>\"\",COUNTIF(Summary!$B$30:$B$1029,INDIRECT($A$14&ROW())),\"\"),\"\")","v":""}]
[]
[null,"Copyright © 2013 by Oracle Symphony Sdn Bhd"]

{"sheet":"K-LUNCH & K DINNER","index":2,"n_rows":56,"n_cols":10,"rows_kept":56,"cut":false,"hidden":false,"merged":[[55,0,55,2],[5,8,5,9],[0,0,0,4]]}
["MONTHLY SALES FOOD RECORD ( K LUNCH & K DINNER)"]
[]
["Outlet :","CCS OUTLET"]
["Month :","2013-04-01"]
[]
[null,null,null,"K-LUNCH & K DINNER","TOTAL COST ",null,null,null,"USAGE"]
["NO","MENU ITEM","Cost","Sales",null,null,null,"MATERIAL  USED","PORTION","TOTAL"]
[null,null,"RM","Q","RM",null,null,"Q","Q","Q"]
[]
[1,"DH01 91101:THAI CHK",3.29,{"$f":"VLOOKUP(B10,Summary!$B$30:$AK$376,5,FALSE)","v":10},{"$f":"+D10*C10","v":32.9},null,null,"CHICKEN CHOP (MARINATED)",0.66,{"$f":"+I10*D10","v":6.6000000000000005}]
[{"$f":"+A10+1","v":2},"DH02 91102:MAMITE CHK",3.02,{"$f":"VLOOKUP(B11,Summary!$B$30:$AK$376,5,FALSE)","v":16},{"$f":"+D11*C11","v":48.32},null,null,"CHICKEN CHOP (MARINATED)",0.66,10.56]
[{"$f":"+A11+1","v":3},"DH03 91103:KO PO CHK",3.45,{"$f":"VLOOKUP(B12,Summary!$B$30:$AK$376,5,FALSE)","v":0},0,null,null,"CHICKEN CHOP (MARINATED)",0.66,0]
[4,"DH04 91104:S&S CHK",3.45,{"$f":"VLOOKUP(B13,Summary!$B$30:$AK$376,5,FALSE)","v":6},20.700000000000003,null,null,"CHICKEN CHOP (MARINATED)",0.66,3.96]
[5,"DH05 91105:BUTTER CHK",3.32,{"$f":"VLOOKUP(B14,Summary!$B$30:$AK$376,5,FALSE)","v":30},99.6,null,null,"CHICKEN CHOP (MARINATED)",0.66,19.8]
[6,"DH06 91106:HK F.RICE",3.16,{"$f":"VLOOKUP(B15,Summary!$B$30:$AK$376,5,FALSE)","v":13},41.08,null,null,null,null,0]
[7,"DH07 91107:SBL F.RICE",2.41,{"$f":"+Summary!F148","v":2},4.82,null,null,null,null,0]
[8,"DH08 91108:SBL F.MEE",2.8,{"$f":"VLOOKUP(B17,Summary!$B$30:$AK$376,5,FALSE)","v":2},5.6,null,null,null,null,0]
[9,"DH09 91109:BP UDON",2.08,{"$f":"VLOOKUP(B18,Summary!$B$30:$AK$376,5,FALSE)","v":9},18.72,null,null,null,null,0]
[10,"DH10 91110:NISSIN",2.3199999999999998,{"$f":"VLOOKUP(B19,Summary!$B$30:$AK$376,5,FALSE)","v":8},18.559999999999999,null,null,"CHICKEN SAUSAGE ",1.5,12]
[11,"DH11 91111:VEG RICE",1.6,{"$f":"VLOOKUP(B20,Summary!$B$30:$AK$376,5,FALSE)","v":0},0,null,null,null,null,0]
[12,"DH12 91112:NASI LEMAK",3.56,{"$f":"VLOOKUP(B21,Summary!$B$30:$AK$376,5,FALSE)","v":0},0,null,null,"CHICKEN WINGS (NON -MARINATED)",1,0]
[13,"DH13 91113:KUEY TEOW",3.16,{"$f":"VLOOKUP(B22,Summary!$B$30:$AK$376,5,FALSE)","v":0},0,null,null,null,null,0]
[14,"DH14 91114:F.BALL MEE",2.59,{"$f":"VLOOKUP(B23,Summary!$B$30:$AK$376,5,FALSE)","v":0},0,null,null,"FISH BALL (SMALL)",5,0]
[15,"DH15 91115:CHK NOODLE",4.71,{"$f":"VLOOKUP(B24,Summary!$B$30:$AK$376,5,FALSE)","v":1},4.71,null,null,"CHICKEN CHOP (MARINATED)",1,1]
[16,"DH16 91116:MGL CHK",3.54,{"$f":"VLOOKUP(B25,Summary!$B$30:$AK$376,5,FALSE)","v":5},17.7,null,null,"CHICKEN CHOP (MARINATED)",0.66,{"$f":"+I25*D25","v":3.3000000000000003}]
[{"$f":"+A25+1","v":17},"DG01 91001:BP CHK CP",4.41,{"$f":"VLOOKUP(B26,Summary!$B$30:$AK$376,5,FALSE)","v":46},{"$f":"+D26*C26","v":202.86},null,null,"CHICKEN CHOP (MARINATED)",1,46]
[{"$f":"+A26+1","v":18},"DG02 91002:GVY CHK CP",4.43,{"$f":"VLOOKUP(B27,Summary!$B$30:$AK$376,5,FALSE)","v":12},53.16,null,null,"CHICKEN CHOP (MARINATED)",1,12]
[19,"DG03 91003:MSR CHK CP",4.75,{"$f":"VLOOKUP(B28,Summary!$B$30:$AK$376,5,FALSE)","v":48},228,null,null,"CHICKEN CHOP (MARINATED)",1,48]
[20,"DG04 91004:CKN MARY",5.98,{"$f":"VLOOKUP(B29,Summary!$B$30:$AK$376,5,FALSE)","v":26},155.48000000000002,null,null,"CHICKEN CHOP (MARINATED)",1,26]
[21,"DG05 91005:FISH&CHIP",4.29,{"$f":"VLOOKUP(B30,Summary!$B$30:$AK$376,5,FALSE)","v":36},154.44,null,null,"DORY FISH FILLET ",1,36]
[22,"DG06 91006:SPAGHETTI",2.1,{"$f":"VLOOKUP(B31,Summary!$B$30:$AK$376,5,FALSE)","v":29},60.900000000000006]
[23,"DG07 91007:CHK SALAD",4.9400000000000004,{"$f":"VLOOKUP(B32,Summary!$B$30:$AK$376,5,FALSE)","v":13},64.22,null,null,"CHICKEN CHOP (MARINATED)",1,{"$f":"+I32*D32","v":13}]
[24,"DI01 91201:SFD STICK",2,{"$f":"VLOOKUP(B33,Summary!$B$30:$AK$376,5,FALSE)","v":0},0,null,null,"SOTONG BALL",2,{"$f":"+I33*$D$33","v":0}]
[null,null,null,null,null,null,null,"SALMON BALL",2,{"$f":"+I34*$D$33","v":0}]
[null,null,null,null,null,null,null,"SEAFOOD TOFU ",2,{"$f":"+I35*$D$33","v":0}]
[25,"DI02 91202:FREN FRIES",1.76,{"$f":"VLOOKUP(B36,Summary!$B$30:$AK$376,5,FALSE)","v":3},5.28,null,null,null,null,{"$f":"+I36*D36","v":0}]
[26,"DI03 91203:GOLD MROOM",2.15,{"$f":"VLOOKUP(B37,Summary!$B$30:$AK$376,5,FALSE)","v":0},0,null,null,null,null,0]
[27,"DI04 91204:FISHBALL",1.56,{"$f":"VLOOKUP(B38,Summary!$B$30:$AK$376,5,FALSE)","v":0},0,null,null,"FISH BALL (BIG)",6,0]
[28,"DI05 91205:RAINBOW RL",2.5,{"$f":"VLOOKUP(B39,Summary!$B$30:$AK$376,5,FALSE)","v":0},0,null,null,"RAINBOW ROLL",1,0]
[29,"DI06 91206:SPRING RL",2.67,{"$f":"VLOOKUP(B40,Summary!$B$30:$AK$376,5,FALSE)","v":0},0,null,null,"SPRING ROLL",8,0]
[30,"DI07 91207:SAUSAGE",1.24,{"$f":"VLOOKUP(B41,Summary!$B$30:$AK$376,5,FALSE)","v":2},2.48,null,null,"CHICKEN SAUSAGE ",4,8]
[31,"DI08 91208:HOTDOG BUN",null,{"$f":"VLOOKUP(B42,Summary!$B$30:$AK$376,5,FALSE)","v":0},0,null,null,"HOTDOG",null,0]
[32,"DI09 91209:SFD TOFU",null,{"$f":"VLOOKUP(B43,Summary!$B$30:$AK$376,5,FALSE)","v":0},0,null,null,"SEAFOOD TOFU ",null,0]
[24,"DI10 91301:DUMPLING",4.5,{"$f":"VLOOKUP(B44,Summary!$B$30:$AK$376,5,FALSE)","v":0},0,null,null,"DUMPLING ",6,0]
[25,"DI11 91302:NUGGET",2.4300000000000002,{"$f":"VLOOKUP(B45,Summary!$B$30:$AK$376,5,FALSE)","v":3},7.2900000000000009,null,null,"CHICKEN NUGGET",8,24]
[26,"DI12 91303:CHK WING",3.97,{"$f":"VLOOKUP(B46,Summary!$B$30:$AK$376,5,FALSE)","v":6},23.82,null,null,"CHICKEN WING  (MARINATED)",3,18]
[27,"DI13 91304:IKAN BILIS",2.1800000000000002,{"$f":"VLOOKUP(B47,Summary!$B$30:$AK$376,5,FALSE)","v":0},0,null,null,null,null,0]
[28,"DI14 91305:THAI RL",3.61,{"$f":"VLOOKUP(B48,Summary!$B$30:$AK$376,5,FALSE)","v":0},0,null,null,"THAI ROLL",7,0]
[29,"DI15 91306:SLVR FISH",null,{"$f":"VLOOKUP(B49,Summary!$B$30:$AK$376,5,FALSE)","v":0},0,null,null,null,null,0]
[30,"DI16 91307:D/F C.WING",4.3099999999999996,{"$f":"VLOOKUP(B50,Summary!$B$30:$AK$376,5,FALSE)","v":2},8.6199999999999992,null,null,"CHICKEN WING  (MARINATED)",3,6]
[31,"DI17 91308:C/CALAMARI",3.69,{"$f":"VLOOKUP(B51,Summary!$B$30:$AK$376,5,FALSE)","v":1},3.69,null,null,"CALAMARI RING",7,7]
[32,"DI18 91309:Mc O.RINGS",1.72,{"$f":"VLOOKUP(B52,Summary!$B$30:$AK$376,5,FALSE)","v":1},1.72,null,null,"MCCAIN ONION RING",8,8]
[33,"DI19 91310:McSPIRAL.F",1.72,{"$f":"VLOOKUP(B53,Summary!$B$30:$AK$376,5,FALSE)","v":1},1.72,null,null,null,null,0]
[34,"DI20 91311Mc H/SMILES",1.34,{"$f":"VLOOKUP(B54,Summary!$B$30:$AK$376,5,FALSE)","v":0},0,null,null,"MCCAIN SMILES",8,0]
[35,"DI21 91312:Mc HASH.B",0.59,{"$f":"VLOOKUP(B55,Summary!$B$30:$AK$376,5,FALSE)","v":1},0.59,null,null,null,null,0]
["Total Sales / COST",null,null,{"$f":"SUM(D10:D55)","v":332},{"$f":"SUM(E10:E55)","v":1286.9799999999998}]

{"sheet":"SIDE ORDER & FOC","index":3,"n_rows":118,"n_cols":19,"rows_kept":118,"cut":false,"hidden":false,"merged":[[0,0,0,12],[123,3,123,4],[123,6,123,7],[123,8,123,9],[7,11,7,12],[123,11,123,12],[6,3,6,4],[6,6,6,7],[6,8,6,9],[57,3,57,4],[57,6,57,7],[57,8,57,9],[58,3,58,4],[58,6,58,7],[58,8,58,9],[58,11,58,12],[7,16,7,18],[123,13,123,14],[161,0,161,2],[166,9,166,11],[124,16,124,18],[7,13,7,14],[117,0,117,2],[7,3,7,4],[7,6,7,7],[7,8,7,9],[165,9,165,11],[58,13,58,14],[58,16,58,18]]}
["MONTHLY SALES FOOD RECORD ( SIDE ORDER & FOC )"]
[]
[{"$f":"+'K-LUNCH & K DINNER'!A3","v":"Outlet :"},{"$f":"+'K-LUNCH & K DINNER'!B3","v":"CCS OUTLET"}]
[{"$f":"+'K-LUNCH & K DINNER'!A4","v":"Month :"},{"$f":"+'K-LUNCH & K DINNER'!B4","v":"2013-04-01"}]
[]
["LOCAL DELIGHTS / WESTERN CRUISE / APPETIZER "]
[null,null,null,"(A)",null,null,"(B)",null,"(A) - (B)"]
[null,null,null,"SIDE ORDER                 (INCLUDING FOC)",null,null,"FOC",null,"SIDE ORDER                        (NETT SALES)",null,null,"SIDE ORDER                        (NETT COST)",null,"FOC (COST)",null,null,"USAGE"]
["NO","MENU ITEM","S/P","Sales","TOTAL",null,"Sales","TOTAL","Sales","TOTAL",null,"COST","TOTAL","COST","TOTAL",null,"MATERIAL ","RECIPE","TOTAL"]
[null,null,"RM","Q","RM",null,"Q","RM","Q","RM",null,"RM","RM","RM","RM",null,"Q","Q","Q"]
[1,"DF01 ADD RICE",1,{"$f":"VLOOKUP(B11,Summary!$B$30:$AK$376,5,FALSE)","v":2},{"$f":"D11*C11","v":2},null,{"$f":"+'DAILY FOC'!BO9","v":0},{"$f":"G11*C11","v":0},{"$f":"+D11-G11","v":2},{"$f":"+I11*C11","v":2},null,0.45,{"$f":"+L11*I11","v":0.9},{"$f":"+L11","v":0.45},{"$f":"+N11*G11","v":0}]
[{"$f":"+A11+1","v":2},"DF02 ADD F.EGG",1.5,{"$f":"VLOOKUP(B12,Summary!$B$30:$AK$376,5,FALSE)","v":2},{"$f":"D12*C12","v":3},null,{"$f":"+'DAILY FOC'!BO10","v":0},0,2,3,null,0.37,0.74,0.37,0]
[{"$f":"+A12+1","v":3},"DC01 1101:THAI CHK",9.9,{"$f":"VLOOKUP(B13,Summary!$B$30:$AK$376,5,FALSE)","v":13},128.70000000000002,null,{"$f":"+'DAILY FOC'!BO11","v":0},0,{"$f":"+D13-G13","v":13},{"$f":"+I13*C13","v":128.70000000000002},null,{"$f":"+'K-LUNCH & K DINNER'!C10","v":3.29},{"$f":"+L13*I13","v":42.77},{"$f":"+L13","v":3.29},{"$f":"+N13*G13","v":0},null,"CHICKEN CHOP (MARINATED)",0.66,{"$f":"+R13*D13","v":8.58}]
[4,"DC02 1102:MAMITE CHK",9.9,{"$f":"VLOOKUP(B14,Summary!$B$30:$AK$376,5,FALSE)","v":15},148.5,null,{"$f":"+'DAILY FOC'!BO12","v":0},0,15,148.5,null,{"$f":"+'K-LUNCH & K DINNER'!C11","v":3.02},45.3,{"$f":"+L14","v":3.02},0,null,"CHICKEN CHOP (MARINATED)",0.66,{"$f":"+R14*D14","v":9.9}]
[5,"DC03 1103:KO PO CHK",9.9,{"$f":"VLOOKUP(B15,Summary!$B$30:$AK$376,5,FALSE)","v":0},0,null,{"$f":"+'DAILY FOC'!BO13","v":0},0,0,0,null,{"$f":"+'K-LUNCH & K DINNER'!C12","v":3.45},0,3.45,0,null,"CHICKEN CHOP (MARINATED)",0.66,0]
[6,"DC04 1104:S&S CHK",9.9,{"$f":"VLOOKUP(B16,Summary!$B$30:$AK$376,5,FALSE)","v":5},49.5,null,{"$f":"+'DAILY FOC'!BO14","v":0},0,5,49.5,null,{"$f":"+'K-LUNCH & K DINNER'!C13","v":3.45},17.25,3.45,0,null,"CHICKEN CHOP (MARINATED)",0.66,3.3000000000000003]
[7,"DC05 1105:BUTTER CHK",9.9,{"$f":"VLOOKUP(B17,Summary!$B$30:$AK$376,5,FALSE)","v":34},336.6,null,{"$f":"+'DAILY FOC'!BO15","v":0},0,34,336.6,null,{"$f":"+'K-LUNCH & K DINNER'!C14","v":3.32},112.88,3.32,0,null,"CHICKEN CHOP (MARINATED)",0.66,22.44]
[8,"DC06 1106:HK F.RICE",9.9,{"$f":"VLOOKUP(B18,Summary!$B$30:$AK$376,5,FALSE)","v":14},138.6,null,{"$f":"+'DAILY FOC'!BO16","v":0},0,14,138.6,null,{"$f":"+'K-LUNCH & K DINNER'!C15","v":3.16},44.24,3.16,0]
[9,"DC07 1107:SBL F.RICE",9.9,{"$f":"VLOOKUP(B19,Summary!$B$30:$AK$376,5,FALSE)","v":12},118.80000000000001,null,{"$f":"+'DAILY FOC'!BO17","v":1},9.9,11,108.9,null,{"$f":"+'K-LUNCH & K DINNER'!C16","v":2.41},26.51,2.41,2.41]
[10,"DC08 1108:SBL F.MEE",9.9,{"$f":"VLOOKUP(B20,Summary!$B$30:$AK$376,5,FALSE)","v":2},19.8,null,{"$f":"+'DAILY FOC'!BO18","v":0},0,0,0,null,{"$f":"+'K-LUNCH & K DINNER'!C17","v":2.8},0,2.8,0]
[11,"DC09 1109:BP UDON",9.9,{"$f":"VLOOKUP(B21,Summary!$B$30:$AK$376,5,FALSE)","v":6},59.400000000000006,null,{"$f":"+'DAILY FOC'!BO19","v":0},0,0,0,null,{"$f":"+'K-LUNCH & K DINNER'!C18","v":2.08},0,2.08,0]
[12,"DC10 1110:NISSIN",9.9,{"$f":"VLOOKUP(B22,Summary!$B$30:$AK$376,5,FALSE)","v":4},39.6,null,{"$f":"+'DAILY FOC'!BO20","v":0},0,4,39.6,null,{"$f":"+'K-LUNCH & K DINNER'!C19","v":2.3199999999999998},9.2799999999999994,2.3199999999999998,0,null,"CHICKEN SAUSAGE ",1.5,{"$f":"+R22*D22","v":6}]
[13,"DC11 1111:VEG RICE",9.9,{"$f":"VLOOKUP(B23,Summary!$B$30:$AK$376,5,FALSE)","v":3},29.700000000000003,null,{"$f":"+'DAILY FOC'!BO21","v":0},0,0,0,null,{"$f":"+'K-LUNCH & K DINNER'!C20","v":1.6},0,1.6,0,null,null,null,{"$f":"+R23*M23","v":0}]
[14,"DC12 1112:NASI LEMAK",9.9,{"$f":"VLOOKUP(B24,Summary!$B$30:$AK$376,5,FALSE)","v":0},0,null,{"$f":"+'DAILY FOC'!BO22","v":0},0,0,0,null,{"$f":"+'K-LUNCH & K DINNER'!C21","v":3.56},0,3.56,0,null,"CHICKEN WINGS (NON -MARINATED)",1,0]
[15,"DC13 1113:KUEY TEOW",9.9,{"$f":"VLOOKUP(B25,Summary!$B$30:$AK$376,5,FALSE)","v":0},0,null,{"$f":"+'DAILY FOC'!BO23","v":0},0,0,0,null,{"$f":"+'K-LUNCH & K DINNER'!C22","v":3.16},0,3.16,0]
[16,"DC14 1114:F.BALL MEE",9.9,{"$f":"VLOOKUP(B26,Summary!$B$30:$AK$376,5,FALSE)","v":0},0,null,{"$f":"+'DAILY FOC'!BO24","v":0},0,0,0,null,{"$f":"+'K-LUNCH & K DINNER'!C23","v":2.59},0,2.59,0,null,"FISH BALL (SMALL)",5,0]
[17,"DC15 1115:CHK NOODLE",9.9,{"$f":"VLOOKUP(B27,Summary!$B$30:$AK$376,5,FALSE)","v":3},29.700000000000003,null,{"$f":"+'DAILY FOC'!BO25","v":0},0,3,29.700000000000003,null,{"$f":"+'K-LUNCH & K DINNER'!C24","v":4.71},14.129999999999999,4.71,0,null,"CHICKEN CHOP (MARINATED)",1,3]
[18,"DC16 1116:MGL CHICKEN",9.9,{"$f":"VLOOKUP(B28,Summary!$B$30:$AK$376,5,FALSE)","v":7},69.3,null,{"$f":"+'DAILY FOC'!BO26","v":0},0,7,69.3,null,{"$f":"+'K-LUNCH & K DINNER'!C25","v":3.54},24.78,3.54,0,null,"CHICKEN CHOP (MARINATED)",0.66,4.62]
[19,"DB01 1001:BP CKN CP",12.9,{"$f":"VLOOKUP(B29,Summary!$B$30:$AK$376,5,FALSE)","v":24},309.60000000000002,null,{"$f":"+'DAILY FOC'!BO27","v":0},0,{"$f":"+D29-G29","v":24},{"$f":"+I29*C29","v":309.60000000000002},null,{"$f":"+'K-LUNCH & K DINNER'!C26","v":4.41},{"$f":"+L29*I29","v":105.84},4.41,{"$f":"+N29*G29","v":0},null,"CHICKEN CHOP (MARINATED)",1,24]
[20,"DB02 1002:GVY CHK CP",12.9,{"$f":"VLOOKUP(B30,Summary!$B$30:$AK$376,5,FALSE)","v":1},12.9,null,{"$f":"+'DAILY FOC'!BO28","v":0},0,1,12.9,null,{"$f":"+'K-LUNCH & K DINNER'!C27","v":4.43},4.43,4.43,0,null,"CHICKEN CHOP (MARINATED)",1,1]
[21,"DB03 1003:MSR CKN CP",12.9,{"$f":"VLOOKUP(B31,Summary!$B$30:$AK$376,5,FALSE)","v":18},232.20000000000002,null,{"$f":"+'DAILY FOC'!BO29","v":0},0,18,232.20000000000002,null,{"$f":"+'K-LUNCH & K DINNER'!C28","v":4.75},85.5,4.75,0,null,"CHICKEN CHOP (MARINATED)",1,18]
[22,"DB04 1004:CKN MARY",12.9,{"$f":"VLOOKUP(B32,Summary!$B$30:$AK$376,5,FALSE)","v":8},103.2,null,{"$f":"+'DAILY FOC'!BO30","v":0},0,{"$f":"+D32-G32","v":8},{"$f":"+I32*C32","v":103.2},null,{"$f":"+'K-LUNCH & K DINNER'!C29","v":5.98},{"$f":"+L32*I32","v":47.84},5.98,{"$f":"+N32*G32","v":0},null,"CHICKEN CHOP (MARINATED)",1,8]
[23,"DB05 1005:FISH&CHIP",12.9,{"$f":"VLOOKUP(B33,Summary!$B$30:$AK$376,5,FALSE)","v":9},{"$f":"D33*C33","v":116.10000000000001},null,{"$f":"+'DAILY FOC'!BO31","v":0},0,9,116.10000000000001,null,{"$f":"+'K-LUNCH & K DINNER'!C30","v":4.29},38.61,4.29,0,null,"DORY FISH FILLET ",1,9]
[24,"DB06 1006:SPAGHETTI",12.9,{"$f":"VLOOKUP(B34,Summary!$B$30:$AK$376,5,FALSE)","v":8},103.2,null,{"$f":"+'DAILY FOC'!BO32","v":0},0,8,103.2,null,{"$f":"+'K-LUNCH & K DINNER'!C31","v":2.1},16.8,2.1,0]
[25,"DB07 1007:CHK SALAD",12.9,{"$f":"VLOOKUP(B35,Summary!$B$30:$AK$376,5,FALSE)","v":3},38.700000000000003,null,{"$f":"+'DAILY FOC'!BO33","v":0},0,3,38.700000000000003,null,{"$f":"+'K-LUNCH & K DINNER'!C32","v":4.9400000000000004},14.82,4.9400000000000004,0,null,"CHICKEN CHOP (MARINATED)",1,3]
[26,"DD01 1201:SFD STICK",5.9,{"$f":"VLOOKUP(B36,Summary!$B$30:$AK$376,5,FALSE)","v":1},{"$f":"D36*C36","v":5.9},null,{"$f":"+'DAILY FOC'!BO34","v":0},0,1,{"$f":"+I36*C36","v":5.9},null,{"$f":"+'K-LUNCH & K DINNER'!C33","v":2},{"$f":"+L36*I36","v":2},{"$f":"+L36","v":2},{"$f":"+N36*G36","v":0},null,"SOTONG BALL",2,{"$f":"+R36*$D$36","v":2}]
[null,null,null,null,null,null,{"$f":"+'DAILY FOC'!BO35","v":0},null,null,null,null,null,null,null,null,null,"SALMON BALL",2,{"$f":"+R37*$D$36","v":2}]
[null,null,null,null,null,null,{"$f":"+'DAILY FOC'!BO36","v":0},null,null,null,null,null,null,null,null,null,"SEAFOOD TOFU ",2,2]
[{"$f":"+A36+1","v":27},"DD02 1202:FREN FRIES",5.9,{"$f":"VLOOKUP(B39,Summary!$B$30:$AK$376,5,FALSE)","v":14},{"$f":"D39*C39","v":82.600000000000009},null,{"$f":"+'DAILY FOC'!BO37","v":0},{"$f":"G39*C39","v":0},{"$f":"+D39-G39","v":14},{"$f":"+I39*C39","v":82.600000000000009},null,{"$f":"+'K-LUNCH & K DINNER'!C36","v":1.76},24.64,{"$f":"+L39","v":1.76},0]
[{"$f":"+A39+1","v":28},"DD03 1203:GOLD MROOM",5.9,{"$f":"VLOOKUP(B40,Summary!$B$30:$AK$376,5,FALSE)","v":5},29.5,null,{"$f":"+'DAILY FOC'!BO38","v":0},0,5,{"$f":"+I40*C40","v":29.5},null,{"$f":"+'K-LUNCH & K DINNER'!C37","v":2.15},10.75,2.15,0]
[29,"DD04 1204:FISHBALL",5.9,{"$f":"VLOOKUP(B41,Summary!$B$30:$AK$376,5,FALSE)","v":1},5.9,null,{"$f":"+'DAILY FOC'!BO39","v":0},0,1,5.9,null,{"$f":"+'K-LUNCH & K DINNER'!C38","v":1.56},1.56,1.56,0,null,"FISH BALL (BIG)",6,{"$f":"+R41*D41","v":6}]
[30,"DD05 1205:RAINBOW RL",5.9,{"$f":"VLOOKUP(B42,Summary!$B$30:$AK$376,5,FALSE)","v":0},0,null,{"$f":"+'DAILY FOC'!BO40","v":0},0,0,0,null,{"$f":"+'K-LUNCH & K DINNER'!C39","v":2.5},0,2.5,0,null,"RAINBOW ROLL",1,0]
[31,"DD06 1206:SPRING RL",5.9,{"$f":"VLOOKUP(B43,Summary!$B$30:$AK$376,5,FALSE)","v":4},23.6,null,{"$f":"+'DAILY FOC'!BO41","v":0},{"$f":"G43*C43","v":0},4,{"$f":"+I43*C43","v":23.6},null,{"$f":"+'K-LUNCH & K DINNER'!C40","v":2.67},10.68,2.67,0,null,"SPRING ROLL",8,32]
[32,"DD07 1207:SAUSAGE",5.9,{"$f":"VLOOKUP(B44,Summary!$B$30:$AK$376,5,FALSE)","v":5},29.5,null,{"$f":"+'DAILY FOC'!BO42","v":0},0,5,29.5,null,{"$f":"+'K-LUNCH & K DINNER'!C41","v":1.24},6.2,1.24,0,null,"CHICKEN SAUSAGE ",4,20]
[33,"DD10 1301:DUMPLING",5.9,{"$f":"VLOOKUP(B45,Summary!$B$30:$AK$376,5,FALSE)","v":0},0,null,{"$f":"+'DAILY FOC'!BO43","v":0},0,0,0,null,{"$f":"+'K-LUNCH & K DINNER'!C44","v":4.5},0,4.5,0,null,"DUMPLING ",6,0]
[34,"DD11 1302:NUGGET",7.9,{"$f":"VLOOKUP(B46,Summary!$B$30:$AK$376,5,FALSE)","v":7},55.300000000000004,null,{"$f":"+'DAILY FOC'!BO44","v":0},0,7,55.300000000000004,null,{"$f":"+'K-LUNCH & K DINNER'!C45","v":2.4300000000000002},17.010000000000002,2.4300000000000002,0,null,"CHICKEN NUGGET",8,56]
[35,"DD12 1303:CHK WING",7.9,{"$f":"VLOOKUP(B47,Summary!$B$30:$AK$376,5,FALSE)","v":14},110.60000000000001,null,{"$f":"+'DAILY FOC'!BO45","v":0},0,14,110.60000000000001,null,{"$f":"+'K-LUNCH & K DINNER'!C46","v":3.97},55.580000000000005,3.97,0,null,"CHICKEN WING  (MARINATED)",3,42]
[36,"DD13 1304:IKAN BILIS",7.9,{"$f":"VLOOKUP(B48,Summary!$B$30:$AK$376,5,FALSE)","v":0},0,null,{"$f":"+'DAILY FOC'!BO46","v":0},0,0,0,null,{"$f":"+'K-LUNCH & K DINNER'!C47","v":2.1800000000000002},0,2.1800000000000002,0,null,null,null,0]
[37,"DD14 1305:THAI RL",7.9,{"$f":"VLOOKUP(B49,Summary!$B$30:$AK$376,5,FALSE)","v":1},7.9,null,{"$f":"+'DAILY FOC'!BO47","v":0},0,1,7.9,null,{"$f":"+'K-LUNCH & K DINNER'!C48","v":3.61},3.61,3.61,0,null,"THAI ROLL",7,7]
[38,"DD15 1306:SLVR FISH",7.9,{"$f":"VLOOKUP(B50,Summary!$B$30:$AK$376,5,FALSE)","v":0},0,null,{"$f":"+'DAILY FOC'!BO48","v":0},0,0,0,null,{"$f":"+'K-LUNCH & K DINNER'!C49","v":0},0,0,0,null,null,null,0]
[39,"DD16 1307:D.F C/WING",7.9,{"$f":"VLOOKUP(B51,Summary!$B$30:$AK$376,5,FALSE)","v":1},7.9,null,{"$f":"+'DAILY FOC'!BO49","v":0},0,1,7.9,null,{"$f":"+'K-LUNCH & K DINNER'!C50","v":4.3099999999999996},4.3099999999999996,4.3099999999999996,0,null,"CHICKEN WING  (MARINATED)",3,3]
[40,"DD17 1308 C/CALAMARI",7.9,{"$f":"VLOOKUP(B52,Summary!$B$30:$AK$376,5,FALSE)","v":3},23.700000000000003,null,{"$f":"+'DAILY FOC'!BO50","v":0},0,3,23.700000000000003,null,{"$f":"+'K-LUNCH & K DINNER'!C51","v":3.69},11.07,3.69,0,null,"CALAMARI RING",7,21]
[41,"DD18 1309 Mc C/O.RING",7.9,{"$f":"VLOOKUP(B53,Summary!$B$30:$AK$376,5,FALSE)","v":0},0,null,{"$f":"+'DAILY FOC'!BO51","v":0},0,0,0,null,{"$f":"+'K-LUNCH & K DINNER'!C52","v":1.72},0,1.72,0,null,"MCCAIN ONION RING",8,0]
[42,"DD19 1310:Mc SPIRAL/F",7.9,{"$f":"VLOOKUP(B54,Summary!$B$30:$AK$376,5,FALSE)","v":5},39.5,null,{"$f":"+'DAILY FOC'!BO52","v":0},0,5,39.5,null,{"$f":"+'K-LUNCH & K DINNER'!C53","v":1.72},8.6,1.72,0,null,null,null,0]
[43,"DD20 1311:Mc H/SMILES",7.9,{"$f":"VLOOKUP(B55,Summary!$B$30:$AK$376,5,FALSE)","v":0},0,null,{"$f":"+'DAILY FOC'!BO53","v":0},0,0,0,null,{"$f":"+'K-LUNCH & K DINNER'!C54","v":1.34},0,1.34,0,null,"MCCAIN SMILES",8,0]
[44,"DD21 1312:Mc HASH BRW",7.9,{"$f":"VLOOKUP(B56,Summary!$B$30:$AK$376,5,FALSE)","v":1},7.9,null,{"$f":"+'DAILY FOC'!BO54","v":0},0,1,7.9,null,{"$f":"+'K-LUNCH & K DINNER'!C55","v":0.59},0.59,0.59,0,null,null,null,0]
[null,null,null,null,null,null,null,null,null,null,null,null,null,null,null,null,null,null,0]
[null,null,null,"(A)",null,null,"(B)",null,"(A) - (B)"]
[null,null,null,"SIDE ORDER                 (INCLUDING FOC)",null,null,"FOC",null,"SIDE ORDER                        (NETT SALES)",null,null,"SIDE ORDER                        (NETT COST)",null,"FOC (COST)",null,null,"USAGE"]
["NO","MENU ITEM","S/P","Sales","TOTAL",null,"Sales","TOTAL","Sales","TOTAL",null,"COST","TOTAL","COST","TOTAL",null,"MATERIAL ","RECIPE","TOTAL"]
[null,null,"RM","Q","RM",null,"Q","RM","Q","RM",null,"RM","RM","RM","RM",null,"Q","Q","Q"]
[]
[null,"COMBO SET"]
[1,"ZAB01 1201:SFD STICK",4.95,{"$f":"VLOOKUP(B64,Summary!$B$30:$AK$376,5,FALSE)","v":3},{"$f":"D64*C64","v":14.850000000000001},null,null,null,{"$f":"+D64-G64","v":3},{"$f":"+I64*C64","v":14.850000000000001},null,{"$f":"+L36","v":2},{"$f":"+L64*I64","v":6},{"$f":"+L64","v":2},{"$f":"+N64*G64","v":0},null,"SOTONG BALL",2,{"$f":"+R64*D64","v":6}]
[null,null,null,null,null,null,null,null,null,null,null,null,null,null,null,null,"SALMON BALL",2,{"$f":"+R65*$D$64","v":6}]
[null,null,null,null,null,null,null,null,null,null,null,null,null,null,null,null,"SEAFOOD TOFU ",2,{"$f":"+R66*$D$64","v":6}]
[{"$f":"+A64+1","v":2},"ZAB02 1202:FRIES",4.95,{"$f":"VLOOKUP(B67,Summary!$B$30:$AK$376,5,FALSE)","v":28},{"$f":"D67*C67","v":138.6},null,null,null,{"$f":"+D67-G67","v":28},{"$f":"+I67*C67","v":138.6},null,{"$f":"+L39","v":1.76},{"$f":"+L67*I67","v":49.28},{"$f":"+L67","v":1.76},{"$f":"+N67*G67","v":0},null,null,null,{"$f":"+R67*D67","v":0}]
[{"$f":"+A67+1","v":3},"ZAB03 1203:GOLD MROOM",4.95,{"$f":"VLOOKUP(B68,Summary!$B$30:$AK$376,5,FALSE)","v":9},44.550000000000004,null,null,null,9,44.550000000000004,null,2.15,19.349999999999998,2.15,0,null,null,null,0]
[4,"ZAB04 1204:F.BALL",4.95,{"$f":"VLOOKUP(B69,Summary!$B$30:$AK$376,5,FALSE)","v":3},14.850000000000001,null,null,null,3,14.850000000000001,null,1.56,4.68,1.56,0,null,"FISH BALL (BIG)",6,18]
[5,"ZAB06 1206:SPRING RL",4.95,{"$f":"VLOOKUP(B70,Summary!$B$30:$AK$376,5,FALSE)","v":12},59.400000000000006,null,null,null,12,59.400000000000006,null,2.5,30,2.5,0,null,"SPRING ROLL",8,96]
[6,"ZAB07 1207:SAUSAGE",4.95,{"$f":"VLOOKUP(B71,Summary!$B$30:$AK$376,5,FALSE)","v":17},84.15,null,null,null,17,84.15,null,2.67,45.39,2.67,0,null,"CHICKEN SAUSAGE ",4,68]
[7,"ZAC02 1302:NUGGET",6.95,{"$f":"VLOOKUP(B72,Summary!$B$30:$AK$376,5,FALSE)","v":7},48.65,null,null,null,7,48.65,null,1.24,8.68,1.24,0,null,"CHICKEN NUGGET",8,56]
[8,"ZAC03 1303:CHK WING",6.95,{"$f":"VLOOKUP(B73,Summary!$B$30:$AK$376,5,FALSE)","v":13},90.350000000000009,null,null,null,13,90.350000000000009,null,{"$f":"+L47","v":3.97},51.61,3.97,0,null,"CHICKEN WING  (MARINATED)",3,39]
[9,"ZAC04 1304:IKAN BILIS",6.95,{"$f":"VLOOKUP(B74,Summary!$B$30:$AK$376,5,FALSE)","v":2},13.9,null,null,null,2,13.9,null,{"$f":"+L48","v":2.1800000000000002},4.3600000000000003,2.1800000000000002,0,null,null,null,0]
[10,"ZAC05 1305:THAI RL",6.95,{"$f":"VLOOKUP(B75,Summary!$B$30:$AK$376,5,FALSE)","v":4},27.8,null,null,null,4,27.8,null,{"$f":"+'K-LUNCH & K DINNER'!C48","v":3.61},14.44,3.61,0,null,"THAI ROLL ",7,28]
[11,"ZAC07 1307:D/F C.WINGS",6.95,{"$f":"VLOOKUP(B76,Summary!$B$30:$AK$376,5,FALSE)","v":18},125.10000000000001,null,null,null,18,125.10000000000001,null,{"$f":"+'K-LUNCH & K DINNER'!C50","v":4.3099999999999996},77.58,4.3099999999999996,0,null,"CHICKEN WING  (MARINATED)",3,54]
[12,"ZAC08 1308:C/CALAMARI",6.95,{"$f":"VLOOKUP(B77,Summary!$B$30:$AK$376,5,FALSE)","v":4},27.8,null,null,null,4,27.8,null,{"$f":"+'K-LUNCH & K DINNER'!C51","v":3.69},14.76,3.69,0,null,"CALMARI RING",7,28]
[13,"ZAC09 1309:Mc /O.RINGS",6.95,{"$f":"VLOOKUP(B78,Summary!$B$30:$AK$376,5,FALSE)","v":1},6.95,null,null,null,1,6.95,null,{"$f":"+'K-LUNCH & K DINNER'!C52","v":1.72},1.72,1.72,0,null,"MCCAIN ONION RING",8,8]
[14,"ZAC10 1310:Mc SPIRAL/F",6.95,{"$f":"VLOOKUP(B79,Summary!$B$30:$AK$376,5,FALSE)","v":4},27.8,null,null,null,4,27.8,null,{"$f":"+'K-LUNCH & K DINNER'!C53","v":1.72},6.88,1.72,0,null,null,null,0]
[15,"ZAC11 1311:Mc H/SMILES",6.95,{"$f":"VLOOKUP(B80,Summary!$B$30:$AK$376,5,FALSE)","v":0},0,null,null,null,0,0,null,{"$f":"+'K-LUNCH & K DINNER'!C54","v":1.34},0,1.34,0,null,"MCCAIN SMILES",8,0]
[16,"ZAC12 1312:Mc HASH/B",6.95,{"$f":"VLOOKUP(B81,Summary!$B$30:$AK$376,5,FALSE)","v":3},{"$f":"D81*C81","v":20.85},null,null,null,{"$f":"+D81-G81","v":3},{"$f":"+I81*C81","v":20.85},null,{"$f":"+'K-LUNCH & K DINNER'!C55","v":0.59},{"$f":"+L81*I81","v":1.77},0.59,{"$f":"+N81*G81","v":0},null,"MCCAIN VERSITOT",15,45]
[null,null,null,null,null,null,null,null,null,null,null,null,null,null,null,null,null,null,0]
[null,null,null,null,null,null,null,null,null,null,null,null,null,null,null,null,null,null,0]
[null,"HOMEMADE PIZZA",null,null,null,null,null,null,null,null,null,null,null,null,null,null,null,null,0]
[1,"DL01 3001:6'HAWAIIAN",12.9,{"$f":"VLOOKUP(B85,Summary!$B$30:$AK$376,5,FALSE)","v":0},0,null,{"$f":"+'DAILY FOC'!BO53","v":0},0,0,0,null,3.25,0,{"$f":"+L85","v":3.25},0,null,"6\" PIZZA BASE ",1,{"$f":"+R85*D85","v":0}]
[{"$f":"+A85+1","v":2},"DL02 3002:6'SMOKE BBQ",12.9,{"$f":"VLOOKUP(B86,Summary!$B$30:$AK$376,5,FALSE)","v":0},0,null,{"$f":"+'DAILY FOC'!BO54","v":0},0,0,0,null,4.59,0,{"$f":"+L86","v":4.59},0,null,"CHICKEN CHOP (MARINATED)",0.5,{"$f":"+R86*$D$86","v":0}]
[null,null,null,null,null,null,null,null,null,null,null,null,null,null,null,null,"6\" PIZZA BASE ",1,{"$f":"+R87*$D$86","v":0}]
[{"$f":"+A86+1","v":3},"DL03 3003:6'SEAFOOD",12.9,{"$f":"VLOOKUP(B88,Summary!$B$30:$AK$376,5,FALSE)","v":0},0,null,{"$f":"+'DAILY FOC'!BO56","v":0},0,0,0,null,5.13,0,{"$f":"+L88","v":5.13},0,null,"6\" PIZZA BASE ",1,{"$f":"+R88*D88","v":0}]
[4,"DL04 3004:6'SPICY BUF",12.9,{"$f":"VLOOKUP(B89,Summary!$B$30:$AK$376,5,FALSE)","v":0},0,null,{"$f":"+'DAILY FOC'!BO57","v":0},0,0,0,null,2.99,0,2.99,0,null,"CHICKEN SAUSAGE ",1,{"$f":"+R89*$D$89","v":0}]
[null,null,null,null,null,null,{"$f":"+'DAILY FOC'!BO58","v":0},null,null,null,null,null,null,null,null,null,"6\" PIZZA BASE ",1,0]
[{"$f":"+A89+1","v":5},"DL05 3005:6'VEGGIE",12.9,{"$f":"VLOOKUP(B91,Summary!$B$30:$AK$376,5,FALSE)","v":0},{"$f":"D91*C91","v":0},null,{"$f":"+'DAILY FOC'!BO59","v":0},{"$f":"G91*C91","v":0},{"$f":"+D91-G91","v":0},{"$f":"+I91*C91","v":0},null,3.62,{"$f":"+L91*I91","v":0},3.62,{"$f":"+N91*G91","v":0},null,"6\" PIZZA BASE ",1,0]
[6,"DL06 3001:9'HAWAIIAN",16.899999999999999,{"$f":"VLOOKUP(B92,Summary!$B$30:$AK$376,5,FALSE)","v":1},16.899999999999999,null,{"$f":"+'DAILY FOC'!BO58","v":0},0,1,16.899999999999999,null,5.79,5.79,5.79,0,null,"9\" PIZZA BASE ",1,1]
[null,null,null,null,null,null,{"$f":"+'DAILY FOC'!BO59","v":0},null,null,null,null,null,null,null,null,null,"CHICKEN HAM",2,0]
[{"$f":"+A92+1","v":7},"DL07 3002:9'SMOKED",16.899999999999999,{"$f":"VLOOKUP(B94,Summary!$B$30:$AK$376,5,FALSE)","v":0},0,null,{"$f":"+'DAILY FOC'!BO60","v":0},0,0,0,null,8.2100000000000009,0,8.2100000000000009,0,null,"9\" PIZZA BASE ",1,0]
[null,null,null,null,null,null,{"$f":"+'DAILY FOC'!BO61","v":0},null,null,null,null,null,null,null,null,null,"CHICKEN WING  (MARINATED)",1,0]
[{"$f":"+A94+1","v":8},"DL08 3003:9'SEAFOOD",16.899999999999999,{"$f":"VLOOKUP(B96,Summary!$B$30:$AK$376,5,FALSE)","v":0},0,null,{"$f":"+'DAILY FOC'!BO62","v":0},0,0,0,null,9.48,0,9.48,0,null,"9\" PIZZA BASE ",1,0]
[9,"DL09 3004:9'SPICY B",16.899999999999999,{"$f":"VLOOKUP(B97,Summary!$B$30:$AK$376,5,FALSE)","v":0},0,null,{"$f":"+'DAILY FOC'!BO61","v":0},0,0,0,null,5.38,0,5.38,0,null,"CHICKEN SAUSAGE ",1,{"$f":"+R97*$D$97","v":0}]
[null,null,null,null,null,null,{"$f":"+'DAILY FOC'!BO64","v":0},null,null,null,null,null,null,null,null,null,"9\" PIZZA BASE ",1,{"$f":"+R98*$D$97","v":0}]
[10,"DL10 3005:9'VEGGIE",16.899999999999999,{"$f":"VLOOKUP(B99,Summary!$B$30:$AK$376,5,FALSE)","v":0},{"$f":"D99*C99","v":0},null,{"$f":"+'DAILY FOC'!BO65","v":0},{"$f":"G99*C99","v":0},{"$f":"+D99-G99","v":0},{"$f":"+I99*C99","v":0},null,6.96,{"$f":"+L99*I99","v":0},6.96,{"$f":"+N99*G99","v":0},null,"9\" PIZZA BASE ",1,{"$f":"+R99*D99","v":0}]
[]
[null,"PLATTER"]
[1,"DM01 SNACK PLATTER(A)",16.899999999999999,{"$f":"VLOOKUP(B102,Summary!$B$30:$AK$376,5,FALSE)","v":4},{"$f":"D102*C102","v":67.599999999999994},null,null,null,{"$f":"+D102-G102","v":4},{"$f":"+I102*C102","v":67.599999999999994},null,4.5999999999999996,{"$f":"+L102*I102","v":18.399999999999999},{"$f":"+L102","v":4.5999999999999996},{"$f":"+N102*G102","v":0},null,"MCCAIN VERSITOT",8,{"$f":"+R102*D102","v":32}]
[null,null,null,null,null,null,null,null,null,null,null,null,null,null,null,null,"MCCAIN SMILE",6,0]
[null,null,null,null,null,null,null,null,null,null,null,null,null,null,null,null,"MCCAIN VERSITOT",8,0]
[null,null,null,null,null,null,null,null,null,null,null,null,null,null,null,null,"MCCAIN SMILE",6,0]
[]
[2,"DM02 SNACK PLATTER(B)",12.9,{"$f":"VLOOKUP(B107,Summary!$B$30:$AK$376,5,FALSE)","v":0},0,null,null,null,0,0,null,4.5999999999999996,{"$f":"+L107*I107","v":0},4.5999999999999996,0,null,"MCCAIN VERSITOT",8,{"$f":"+R107*D107","v":0}]
[null,null,null,null,null,null,null,null,null,null,null,null,null,null,null,null,"MCCAIN SMILE",6,0]
[null,null,null,null,null,null,null,null,null,null,null,null,null,null,null,null,"MCCAIN ONION RING",8,0]
[null,null,null,null,null,null,null,null,null,null,null,null,null,null,null,null,"MCCAIN SPIRAL FRIES",0.12,0]
[]
[3,"DM03 CNY platter(A)",19.899999999999999,{"$f":"VLOOKUP(B112,Summary!$B$30:$AK$376,5,FALSE)","v":0},0,null,null,null,0,0,null,9.81,0,9.81,0,null,"CHICKEN WINGS (NON -MARINATED)",4,{"$f":"+R112*D112","v":0}]
[null,null,null,null,null,null,null,null,null,null,null,null,null,null,null,null,"MCCAIN ONION RING",8,0]
[]
[4,"DM04 CNY platter (B)",23.9,{"$f":"VLOOKUP(B115,Summary!$B$30:$AK$376,5,FALSE)","v":1},23.9,null,null,null,1,23.9,null,9.81,{"$f":"+L115*I115","v":9.81},9.81,{"$f":"+N115*G115","v":0},null,"CHICKEN WINGS (NON -MARINATED)",4,{"$f":"+R115*D115","v":4}]
[null,null,null,null,null,null,null,null,null,null,null,null,null,null,null,null,"MCCAIN ONION RING",8,0]
[]
["Total Sales / COST",null,null,{"$f":"SUM(D11:D117)","v":389},{"$f":"SUM(E11:E117)","v":3372.9000000000005},null,{"$f":"SUM(G11:G116)","v":1},{"$f":"SUM(H11:H117)","v":9.9},{"$f":"SUM(I11:I99)","v":372},{"$f":"SUM(J11:J117)","v":3254.1000000000008},null,null,{"$f":"SUM(M11:M117)","v":1179.7199999999998},null,{"$f":"SUM(O11:O117)","v":2.41}]

{"sheet":"SAUCE USAGE","index":4,"n_rows":34,"n_cols":9,"rows_kept":34,"cut":false,"hidden":false,"merged":[[6,5,6,7],[33,0,33,2]]}
["MONTHLY SERVINGS: SAUCE "]
[]
[{"$f":"+'K-LUNCH & K DINNER'!A3","v":"Outlet :"},{"$f":"+'K-LUNCH & K DINNER'!B3","v":"CCS OUTLET"}]
[{"$f":"+'K-LUNCH & K DINNER'!A4","v":"Month :"},{"$f":"+'K-LUNCH & K DINNER'!B4","v":"2013-04-01"}]
[]
[]
[null,null,null,"FROM POS",null,"USAGE"]
["NO","Item","COST","SERVINGS",null,"MATERIAL ","RECIPE","TOTAL","TOTAL COST"]
[null,null,"RM","Q",null,"Q","GRAM","GRAM ","RM"]
[1,"DF03 ADD SAUCE 1000",null,{"$f":"VLOOKUP(B10,Summary!$B$30:$AK$376,5,FALSE)","v":4},null,null,null,{"$f":"+G10*D10","v":0},{"$f":"+H10*C10","v":0}]
[{"$f":"+A10+1","v":2},"DF04 ADD SAUCE BOLO",null,{"$f":"VLOOKUP(B11,Summary!$B$30:$AK$376,5,FALSE)","v":0},null,null,null,0,0]
[{"$f":"+A11+1","v":3},"DF05 ADD SAUCE BP",3.0000000000000001E-3,{"$f":"VLOOKUP(B12,Summary!$B$30:$AK$376,5,FALSE)","v":2},null,"BLACK PEPPER SAUCE",80,160,0.48]
[4,"DF06 ADD SAUCE BUTTER",6.0000000000000001E-3,{"$f":"VLOOKUP(B13,Summary!$B$30:$AK$376,5,FALSE)","v":0},null,"BUTTER SAUCE ",80,0,0]
[5,"DF07 ADD SAUCE C.PADI",null,{"$f":"VLOOKUP(B14,Summary!$B$30:$AK$376,5,FALSE)","v":8},null,null,null,0,0]
[6,"DF08 ADD SAUCE GS",null,{"$f":"VLOOKUP(B15,Summary!$B$30:$AK$376,5,FALSE)","v":0},null,null,null,0,0]
[7,"DF09 ADD SAUCE MAYO",null,{"$f":"VLOOKUP(B16,Summary!$B$30:$AK$376,5,FALSE)","v":19},null,null,null,0,0]
[8,"DF10 ADD SAUCE MMITE",null,{"$f":"VLOOKUP(B17,Summary!$B$30:$AK$376,5,FALSE)","v":0},null,"MARMITE SAUCE ",80,0,0]
[9,"DF11 ADD SAUCE MR",null,{"$f":"VLOOKUP(B18,Summary!$B$30:$AK$376,5,FALSE)","v":1},null,null,null,0,0]
[10,"DF12 ADD SAUCE SAMBAL",null,{"$f":"VLOOKUP(B19,Summary!$B$30:$AK$376,5,FALSE)","v":0},null,"SAMBAL SAUCE",null,0,0]
[11,"DF13 ADD SAUCE THAI",null,{"$f":"VLOOKUP(B20,Summary!$B$30:$AK$376,5,FALSE)","v":0},null,"THAI SAUCE ",null,null,0]
[12,"DF14 ADD SAUCE TOMATO",null,{"$f":"VLOOKUP(B21,Summary!$B$30:$AK$376,5,FALSE)","v":22},null,"TOMATO SAUCE ",null,null,0]
[13,"DF15 ADD TATA SAUCE",null,{"$f":"VLOOKUP(B22,Summary!$B$30:$AK$376,5,FALSE)","v":3},null,"TATAR SAUCE ",null,null,0]
[14,"DF16 ADD SAUCE CHEES",null,{"$f":"VLOOKUP(B23,Summary!$B$30:$AK$376,5,FALSE)","v":2},null,null,null,null,0]
[15,"DH05 91105:BUTTER CHK",6.0000000000000001E-3,{"$f":"VLOOKUP(B24,Summary!$B$30:$AK$376,5,FALSE)","v":30},null,"BUTTER SAUCE",90,{"$f":"+G24*D24","v":2700},{"$f":"+H24*C24","v":16.2}]
[16,"DG01 91001:BP CHK CP",3.0000000000000001E-3,{"$f":"VLOOKUP(B25,Summary!$B$30:$AK$376,5,FALSE)","v":46},null,"BLACK PEPPER SAUCE",90,{"$f":"+G25*D25","v":4140},{"$f":"+H25*C25","v":12.42}]
[17,"DC05 1105:BUTTER CHK",6.0000000000000001E-3,{"$f":"VLOOKUP(B26,Summary!$B$30:$AK$376,5,FALSE)","v":34},null,"BUTTER SAUCE",75,2550,{"$f":"+H26*C26","v":15.3}]
[18,"DB01 1001:BP CKN CP",3.0000000000000001E-3,{"$f":"VLOOKUP(B27,Summary!$B$30:$AK$376,5,FALSE)","v":24},null,"BLACK PEPPER SAUCE",90,2160,6.48]
[19,"DG03 91003:MSR CHK CP",6.7999999999999996E-3,{"$f":"VLOOKUP(B28,Summary!$B$30:$AK$376,5,FALSE)","v":48},null,"MUSHROOM SAUCE",90,{"$f":"+G28*D28","v":4320},29.375999999999998]
[20,"DB03 1003:MSR CKN CP",6.7999999999999996E-3,{"$f":"VLOOKUP(B29,Summary!$B$30:$AK$376,5,FALSE)","v":18},null,"MUSHROOM SAUCE",90,1620,11.016]
[21]
[]
[]
[]
["Total Sales / COST",null,null,null,null,null,null,null,{"$f":"SUM(I10:I33)","v":91.272000000000006}]

{"sheet":"STOCK ANALYSIS","index":5,"n_rows":49,"n_cols":18,"rows_kept":49,"cut":false,"hidden":false,"merged":[[0,0,0,4]]}
["MONTHLY KITCHEN STOCK ANALYSIS"]
[]
[{"$f":"+'K-LUNCH & K DINNER'!A3","v":"Outlet :"},{"$f":"+'K-LUNCH & K DINNER'!B3","v":"CCS OUTLET"}]
[{"$f":"+'K-LUNCH & K DINNER'!A4","v":"Month :"},{"$f":"+'K-LUNCH & K DINNER'!B4","v":"2013-04-01"}]
["Date from 6-12"]
["PART (A)  :  USAGE -MAIN COURSE & SNACK FOOD MATERIAL "]
[null,null,null,null,null,null,null,null,null,null,null,null,"(A)","(B)","(B) -(A)"]
["NO","MATERIAL ","UOM","U/P","O/S","PURCHASE","USAGE IN SALES","USAGE IN SALES","WASTAGE","STAFF FOOD","PARTY USAGE","USAGE","BOOK INVENTORY ","PHYSICAL C/S","DIFFERENCE ","DIFFERENCE ","STOCK DIFFERENCE  OVER USAGE","PURCHASE OVER USAGE"]
[null,null,null,"RM ",null,null,"K LUNCH / K DINNER ","SIDE ORDER /FOC ",null,null,null,"Q",null,null,"Q","RM ","%","%"]
[]
[1,"6\" PIZZA BASE ","PCS",1.25,null,null,{"$f":"SUMIF('K-LUNCH & K DINNER'!$H$10:$H$55,B11,'K-LUNCH & K DINNER'!$J$10:$J$55)","v":0},{"$f":"SUMIF('SIDE ORDER & FOC'!$Q$11:$Q$99,B11,'SIDE ORDER & FOC'!$S$11:$S$99)","v":0},null,null,null,{"$f":"SUM(E11:K11)","v":0},{"$f":"+E11+F11-G11-H11-I11-J11-K11","v":0},null,{"$f":"+N11-M11","v":0},{"$f":"+O11*D11","v":0},{"$f":"+O11/L11","v":{"$error":"#DIV/0!"}},{"$f":"+F11/L11","v":{"$error":"#DIV/0!"}}]
[{"$f":"+A11+1","v":2},"9\" PIZZA BASE ","PCS",2.2999999999999998,null,null,{"$f":"SUMIF('K-LUNCH & K DINNER'!$H$10:$H$55,B12,'K-LUNCH & K DINNER'!$J$10:$J$55)","v":0},{"$f":"SUMIF('SIDE ORDER & FOC'!$Q$11:$Q$99,B12,'SIDE ORDER & FOC'!$S$11:$S$99)","v":1},null,null,null,{"$f":"SUM(E12:K12)","v":1},-1,null,1,2.2999999999999998,{"$f":"+O12/L12","v":1},{"$f":"+F12/L12","v":0}]
[3,"CALAMARI RING","PCS",0.47,null,null,{"$f":"SUMIF('K-LUNCH & K DINNER'!$H$10:$H$55,B13,'K-LUNCH & K DINNER'!$J$10:$J$55)","v":7},{"$f":"SUMIF('SIDE ORDER & FOC'!$Q$11:$Q$99,B13,'SIDE ORDER & FOC'!$S$11:$S$99)","v":21},null,null,null,28,-28,null,28,13.16,1,0]
[4,"CHICKEN CHOP (MARINATED)","PCS",3.34,2079,200,{"$f":"SUMIF('K-LUNCH & K DINNER'!$H$10:$H$55,B14,'K-LUNCH & K DINNER'!$J$10:$J$55)","v":190.22},{"$f":"SUMIF('SIDE ORDER & FOC'!$Q$11:$Q$99,B14,'SIDE ORDER & FOC'!$S$11:$S$99)","v":105.84},1,7,null,{"$f":"SUM(E14:K14)","v":2583.06},1974.9400000000003,3030,1055.0599999999997,3523.9003999999991,0.40845353960031888,7.7427547172733119E-2]
[5,"CHICKEN HAM","PCS",null,null,null,{"$f":"SUMIF('K-LUNCH & K DINNER'!$H$10:$H$55,B15,'K-LUNCH & K DINNER'!$J$10:$J$55)","v":0},{"$f":"SUMIF('SIDE ORDER & FOC'!$Q$11:$Q$99,B15,'SIDE ORDER & FOC'!$S$11:$S$99)","v":0},null,null,null,0,0,null,0,0,{"$error":"#DIV/0!"},{"$error":"#DIV/0!"}]
[6,"CHICKEN NUGGET","PCS",0.26,null,null,{"$f":"SUMIF('K-LUNCH & K DINNER'!$H$10:$H$55,B16,'K-LUNCH & K DINNER'!$J$10:$J$55)","v":24},{"$f":"SUMIF('SIDE ORDER & FOC'!$Q$11:$Q$99,B16,'SIDE ORDER & FOC'!$S$11:$S$99)","v":112},null,null,null,136,-136,null,136,35.36,1,0]
[7,"CHICKEN SAUSAGE ","PCS",0.23,null,null,{"$f":"SUMIF('K-LUNCH & K DINNER'!$H$10:$H$55,B17,'K-LUNCH & K DINNER'!$J$10:$J$55)","v":20},{"$f":"SUMIF('SIDE ORDER & FOC'!$Q$11:$Q$99,B17,'SIDE ORDER & FOC'!$S$11:$S$99)","v":94},null,null,null,114,-114,null,114,26.220000000000002,1,0]
[{"$f":"+A17+1","v":8},"CHICKEN WING  (MARINATED)","PCS",1.17,477,87,{"$f":"SUMIF('K-LUNCH & K DINNER'!$H$10:$H$55,B18,'K-LUNCH & K DINNER'!$J$10:$J$55)","v":24},{"$f":"SUMIF('SIDE ORDER & FOC'!$Q$11:$Q$99,B18,'SIDE ORDER & FOC'!$S$11:$S$99)","v":138},1,2,null,729,399,516,117,136.88999999999999," ",0.11934156378600823]
[9,"CHICKEN WINGS (NON -MARINATED)","PCS",1.17,460,97,{"$f":"SUMIF('K-LUNCH & K DINNER'!$H$10:$H$55,B19,'K-LUNCH & K DINNER'!$J$10:$J$55)","v":0},{"$f":"SUMIF('SIDE ORDER & FOC'!$Q$11:$Q$116,B19,'SIDE ORDER & FOC'!$S$11:$S$116)","v":4},null,18,null,579,535,555,20,23.4,3.4542314335060449E-2,0.16753022452504318]
[10,"DORY FISH FILLET ","PCS",2.4500000000000002,467,0,{"$f":"SUMIF('K-LUNCH & K DINNER'!$H$10:$H$55,B20,'K-LUNCH & K DINNER'!$J$10:$J$55)","v":36},{"$f":"SUMIF('SIDE ORDER & FOC'!$Q$11:$Q$99,B20,'SIDE ORDER & FOC'!$S$11:$S$99)","v":9},2,null,null,514,420,511,91,222.95000000000002,0.17704280155642024,0]
[11,"DUMPLING ","PCS",0.65,null,null,{"$f":"SUMIF('K-LUNCH & K DINNER'!$H$10:$H$55,B21,'K-LUNCH & K DINNER'!$J$10:$J$55)","v":0},{"$f":"SUMIF('SIDE ORDER & FOC'!$Q$11:$Q$99,B21,'SIDE ORDER & FOC'!$S$11:$S$99)","v":0},null,null,null,0,0,null,0,0,{"$error":"#DIV/0!"},{"$error":"#DIV/0!"}]
[{"$f":"+A21+1","v":12},"FISH BALL (BIG)","PCS",0.24,null,null,{"$f":"SUMIF('K-LUNCH & K DINNER'!$H$10:$H$55,B22,'K-LUNCH & K DINNER'!$J$10:$J$55)","v":0},{"$f":"SUMIF('SIDE ORDER & FOC'!$Q$11:$Q$99,B22,'SIDE ORDER & FOC'!$S$11:$S$99)","v":24},null,null,null,24,-24,null,24,5.76,1,0]
[13,"MCCAIN ONION RING","PCS",null,null,null,{"$f":"SUMIF('K-LUNCH & K DINNER'!$H$10:$H$55,B23,'K-LUNCH & K DINNER'!$J$10:$J$55)","v":8},{"$f":"SUMIF('SIDE ORDER & FOC'!$Q$11:$Q$99,B23,'SIDE ORDER & FOC'!$S$11:$S$99)","v":8},null,null,null,16,-16,null,16,0,1,0]
[14,"MCCAIN SMILES","PCS",0.13,null,null,{"$f":"SUMIF('K-LUNCH & K DINNER'!$H$10:$H$55,B24,'K-LUNCH & K DINNER'!$J$10:$J$55)","v":0},{"$f":"SUMIF('SIDE ORDER & FOC'!$Q$11:$Q$99,B24,'SIDE ORDER & FOC'!$S$11:$S$99)","v":0},null,null,null,0,0,null,0,0,{"$error":"#DIV/0!"},{"$error":"#DIV/0!"}]
[15,"MCCAIN VERSITOT","PCS",0.06,null,null,{"$f":"SUMIF('K-LUNCH & K DINNER'!$H$10:$H$55,B25,'K-LUNCH & K DINNER'!$J$10:$J$55)","v":0},{"$f":"SUMIF('SIDE ORDER & FOC'!$Q$11:$Q$99,B25,'SIDE ORDER & FOC'!$S$11:$S$99)","v":45},null,null,null,45,-45,null,45,2.6999999999999997,1,0]
[16,"RAINBOW ROLL","PCS",2.02,null,null,{"$f":"SUMIF('K-LUNCH & K DINNER'!$H$10:$H$55,B26,'K-LUNCH & K DINNER'!$J$10:$J$55)","v":0},{"$f":"SUMIF('SIDE ORDER & FOC'!$Q$11:$Q$99,B26,'SIDE ORDER & FOC'!$S$11:$S$99)","v":0},null,null,null,0,0,null,0,0,{"$error":"#DIV/0!"},{"$error":"#DIV/0!"}]
[17,"SALMON BALL","PCS",0.27,null,null,{"$f":"SUMIF('K-LUNCH & K DINNER'!$H$10:$H$55,B27,'K-LUNCH & K DINNER'!$J$10:$J$55)","v":0},{"$f":"SUMIF('SIDE ORDER & FOC'!$Q$11:$Q$99,B27,'SIDE ORDER & FOC'!$S$11:$S$99)","v":8},null,null,null,8,-8,null,8,2.16,1,0]
[18,"SEAFOOD TOFU ","PCS",0.33,null,null,{"$f":"SUMIF('K-LUNCH & K DINNER'!$H$10:$H$55,B28,'K-LUNCH & K DINNER'!$J$10:$J$55)","v":0},{"$f":"SUMIF('SIDE ORDER & FOC'!$Q$11:$Q$99,B28,'SIDE ORDER & FOC'!$S$11:$S$99)","v":8},null,null,null,8,-8,null,8,2.64,1,0]
[19,"SOTONG BALL","PCS",0.17,null,null,{"$f":"SUMIF('K-LUNCH & K DINNER'!$H$10:$H$55,B29,'K-LUNCH & K DINNER'!$J$10:$J$55)","v":0},{"$f":"SUMIF('SIDE ORDER & FOC'!$Q$11:$Q$99,B29,'SIDE ORDER & FOC'!$S$11:$S$99)","v":8},null,null,null,8,-8,null,8,1.36,1,0]
[20,"SPRING ROLL","PCS",0.27,null,null,{"$f":"SUMIF('K-LUNCH & K DINNER'!$H$10:$H$55,B30,'K-LUNCH & K DINNER'!$J$10:$J$55)","v":0},{"$f":"SUMIF('SIDE ORDER & FOC'!$Q$11:$Q$99,B30,'SIDE ORDER & FOC'!$S$11:$S$99)","v":128},null,null,null,128,-128,null,128,34.56,1,0]
[21,"THAI ROLL","PCS",0.45,null,null,{"$f":"SUMIF('K-LUNCH & K DINNER'!$H$10:$H$55,B31,'K-LUNCH & K DINNER'!$J$10:$J$55)","v":0},{"$f":"SUMIF('SIDE ORDER & FOC'!$Q$11:$Q$99,B31,'SIDE ORDER & FOC'!$S$11:$S$99)","v":7},null,null,null,7,-7,null,7,3.15,1,0]
[]
[null,"G.TOTAL ",null,null,null,null,null,null,null,null,null,null,null,null,null,{"$f":"SUM(P11:P32)","v":4036.5103999999988}]
[]
["PART (B)  :  SAUCE "]
[null,null,null,null,null,null,null,null,null,null,null,null,"(A)","(B)","(B) -(A)"]
["NO","MATERIAL ","UOM","U/P","O/S","PURCHASE","USAGE IN SALES",null,"WASTAGE","STAFF FOOD",null,"USAGE","BOOK INVENTORY ","PHYSICAL C/S","DIFFERENCE ","DIFFERENCE ","STOCK DIFFERENCE  OVER USAGE","PURCHASE OVER USAGE"]
[null,null,null,"RM ",null,null,null,null,null,null,null,"Q",null,null,"Q","RM ","%","%"]
[]
[1,"MUSHROOM SAUCE","GRAM",6.8,4,11.4,{"$f":"SUMIF('SAUCE USAGE'!$F$10:$F$33,B40,'SAUCE USAGE'!$H$10:$H$33)/1000","v":5.94},null,null,null,null,{"$f":"SUM(E40:K40)","v":21.34},{"$f":"+E40+F40-G40","v":9.4600000000000009},4,{"$f":"+N40-M40","v":-5.4600000000000009},{"$f":"+O40*D40","v":-37.128000000000007},{"$f":"+O40/L40","v":-0.25585754451733839},{"$f":"+F40/L40","v":0.53420805998125587}]
[{"$f":"+A40+1","v":2},"BLACK PEPPER SAUCE","GRAM",3,5,7.4,{"$f":"SUMIF('SAUCE USAGE'!$F$10:$F$33,B41,'SAUCE USAGE'!$H$10:$H$33)/1000","v":6.46},null,null,null,null,{"$f":"SUM(E41:K41)","v":18.86},{"$f":"+E41+F41-G41","v":5.94},1.5,{"$f":"+N41-M41","v":-4.4400000000000004},{"$f":"+O41*D41","v":-13.32},{"$f":"+O41/L41","v":-0.23541887592788974},{"$f":"+F41/L41","v":0.39236479321314954}]
[{"$f":"+A41+1","v":3},null,"GRAM",null,null,null,{"$f":"SUMIF('SAUCE USAGE'!$F$10:$F$33,B42,'SAUCE USAGE'!$H$10:$H$33)","v":0},null,null,null,null,0,0]
[4,null,"GRAM",null,null,null,{"$f":"SUMIF('SAUCE USAGE'!$F$10:$F$33,B43,'SAUCE USAGE'!$H$10:$H$33)","v":0},null,null,null,null,null,0]
[5,null,"GRAM",null,null,null,{"$f":"SUMIF('SAUCE USAGE'!$F$10:$F$33,B44,'SAUCE USAGE'!$H$10:$H$33)","v":0},null,null,null,null,null,0]
[6,null,"GRAM",null,null,null,{"$f":"SUMIF('SAUCE USAGE'!$F$10:$F$33,B45,'SAUCE USAGE'!$H$10:$H$33)","v":0},null,null,null,null,null,0]
[7,null,"GRAM",null,null,null,{"$f":"SUMIF('SAUCE USAGE'!$F$10:$F$33,B46,'SAUCE USAGE'!$H$10:$H$33)","v":0},null,null,null,null,null,0]
[8,null,"GRAM",null,null,null,{"$f":"SUMIF('SAUCE USAGE'!$F$10:$F$33,B47,'SAUCE USAGE'!$H$10:$H$33)","v":0},null,null,null,null,null,0]
[9,null,"GRAM",null,null,null,{"$f":"SUMIF('SAUCE USAGE'!$F$10:$F$33,B48,'SAUCE USAGE'!$H$10:$H$33)","v":0},null,null,null,null,null,0]
[10,null,"GRAM",null,null,null,{"$f":"SUMIF('SAUCE USAGE'!$F$10:$F$33,B49,'SAUCE USAGE'!$H$10:$H$33)","v":0},null,null,null,null,null,0]

{"sheet":"DAILY FOC","index":6,"n_rows":66,"n_cols":69,"rows_kept":66,"cut":false,"hidden":false,"merged":[[6,57,6,58],[6,59,6,60],[6,61,6,62],[6,63,6,64],[0,0,0,5],[6,45,6,46],[6,47,6,48],[6,49,6,50],[6,51,6,52],[6,53,6,54],[6,55,6,56],[6,33,6,34],[6,35,6,36],[6,37,6,38],[6,39,6,40],[6,41,6,42],[6,43,6,44],[6,21,6,22],[6,23,6,24],[6,25,6,26],[6,27,6,28],[6,29,6,30],[6,31,6,32],[6,13,6,14],[6,15,6,16],[6,17,6,18],[6,19,6,20],[6,3,6,4],[6,5,6,6],[6,7,6,8],[6,9,6,10],[6,11,6,12]]}
["MONTHLY SALES FOOD RECORD ( K LUNCH & K DINNER)"]
[]
["Outlet :",{"$f":"+'[1]K-LUNCH & K DINNER'!B3","v":"CCS OUTLET"}]
["Month :",{"$f":"+'[1]K-LUNCH & K DINNER'!B4","v":"2013-05-01"}]
[]
[]
["CODE","Item","S/P",1,null,{"$f":"+D7+1","v":2},null,{"$f":"+F7+1","v":3},null,{"$f":"+H7+1","v":4},null,{"$f":"+J7+1","v":5},null,{"$f":"+L7+1","v":6},null,{"$f":"+N7+1","v":7},null,{"$f":"+P7+1","v":8},null,{"$f":"+R7+1","v":9},null,{"$f":"+T7+1","v":10},null,{"$f":"+V7+1","v":11},null,{"$f":"+X7+1","v":12},null,{"$f":"+Z7+1","v":13},null,{"$f":"+AB7+1","v":14},null,{"$f":"+AD7+1","v":15},null,{"$f":"+AF7+1","v":16},null,{"$f":"+AH7+1","v":17},null,{"$f":"+AJ7+1","v":18},null,{"$f":"+AL7+1","v":19},null,{"$f":"+AN7+1","v":20},null,{"$f":"+AP7+1","v":21},null,{"$f":"+AR7+1","v":22},null,{"$f":"+AT7+1","v":23},null,{"$f":"+AV7+1","v":24},null,{"$f":"+AX7+1","v":25},null,{"$f":"+AZ7+1","v":26},null,{"$f":"+BB7+1","v":27},null,{"$f":"+BD7+1","v":28},null,{"$f":"+BF7+1","v":29},null,{"$f":"+BH7+1","v":30},null,{"$f":"+BJ7+1","v":31},null,null,"TOTAL","TOTAL","%"]
[null,null,"RM","Q","RM","Q","RM","Q","RM","Q","RM","Q","RM","Q","RM","Q","RM","Q","RM","Q","RM","Q","RM","Q","RM","Q","RM","Q","RM","Q","RM","Q","RM","Q","RM","Q","RM","Q","RM","Q","RM","Q","RM","Q","RM","Q","RM","Q","RM","Q","RM","Q","RM","Q","RM","Q","RM","Q","RM","Q","RM","Q","RM","Q","RM",null,"Q","RM"]
["DF 01","Plain Rice",1,0,{"$f":"D9*C9","v":0},0,{"$f":"F9*C9","v":0},0,{"$f":"H9*C9","v":0},0,{"$f":"J9*C9","v":0},0,{"$f":"L9*C9","v":0},0,{"$f":"N9*C9","v":0},0,{"$f":"P9*C9","v":0},0,{"$f":"R9*C9","v":0},0,{"$f":"T9*C9","v":0},0,{"$f":"V9*C9","v":0},0,{"$f":"X9*C9","v":0},0,{"$f":"Z9*C9","v":0},0,{"$f":"AB9*C9","v":0},0,{"$f":"AD9*C9","v":0},0,{"$f":"AF9*C9","v":0},0,{"$f":"AH9*C9","v":0},0,{"$f":"AJ9*C9","v":0},0,{"$f":"AL9*C9","v":0},0,{"$f":"AN9*C9","v":0},0,{"$f":"AP9*C9","v":0},0,{"$f":"AR9*C9","v":0},0,{"$f":"AT9*C9","v":0},0,{"$f":"AV9*C9","v":0},0,{"$f":"AX9*C9","v":0},0,{"$f":"AZ9*C9","v":0},0,{"$f":"BB9*C9","v":0},0,{"$f":"BD9*C9","v":0},0,{"$f":"BF9*C9","v":0},0,{"$f":"BH9*C9","v":0},0,{"$f":"BJ9*C9","v":0},0,{"$f":"BL9*C9","v":0},null,{"$f":"D9+F9+H9+J9+L9+N9+P9+R9+T9+V9+X9+Z9+AB9+AD9+AF9+AH9+AJ9+AL9+AN9+AP9+AR9+AT9+AV9+AX9+AZ9+BB9+BD9+BF9+BH9+BJ9+BL9","v":0},{"$f":"BO9*C9","v":0}]
["DF 02","Egg",1.5,0,0,0,0,0,0,0,0,0,0,0,0,0,0,0,0,0,0,0,0,0,0,0,0,0,0,0,0,0,0,0,0,0,0,0,0,0,0,0,0,0,0,0,0,0,0,0,0,0,0,0,0,0,0,0,0,0,0,0,0,0,0,null,0,0]
[1101,"Thai Ckn Chop",9.9,0,0,0,0,0,0,0,0,0,0,0,0,0,0,0,0,0,0,0,0,0,0,0,0,0,0,0,0,0,0,0,0,0,0,0,0,0,0,0,0,0,0,0,0,0,0,0,0,0,0,0,0,0,0,0,0,0,0,0,0,0,0,null,0,0]
[1102,"Marmite Ckn Chop",9.9,0,0,0,0,0,0,0,0,0,0,0,0,0,0,0,0,0,0,0,0,0,0,0,0,0,0,0,0,0,0,0,0,0,0,0,0,0,0,0,0,0,0,0,0,0,0,0,0,0,0,0,0,0,0,0,0,0,0,0,0,0,0,null,0,0]
[1103,"Kong Po Ckn Chop",9.9,0,0,0,0,0,0,0,0,0,0,0,0,0,0,0,0,0,0,0,0,0,0,0,0,0,0,0,0,0,0,0,0,0,0,0,0,0,0,0,0,0,0,0,0,0,0,0,0,0,0,0,0,0,0,0,0,0,0,0,0,0,0,null,0,0]
[1104,"S/Sour Ckn Chop",9.9,0,0,0,0,0,0,0,0,0,0,0,0,0,0,0,0,0,0,0,0,0,0,0,0,0,0,0,0,0,0,0,0,0,0,0,0,0,0,0,0,0,0,0,0,0,0,0,0,0,0,0,0,0,0,0,0,0,0,0,0,0,0,null,0,0]
[1105,"Butter Ckn Chop",9.9,0,0,0,0,0,0,0,0,0,0,0,0,0,0,0,0,0,0,0,0,0,0,0,0,0,0,0,0,0,0,0,0,0,0,0,0,0,0,0,0,0,0,0,0,0,0,0,0,0,0,0,0,0,0,0,0,0,0,0,0,0,0,null,0,0]
[1106,"HK Prawn F/Rice",9.9,0,0,0,0,0,0,0,0,0,0,0,0,0,0,0,0,0,0,0,0,0,0,0,0,0,0,0,0,0,0,0,0,0,0,0,0,0,0,0,0,0,0,0,0,0,0,0,0,0,0,0,0,0,0,0,0,0,0,0,0,0,0,null,0,0]
[1107,"Sambal F/Rice",9.9,0,0,0,0,0,0,0,0,0,0,0,0,1,9.9,0,0,0,0,0,0,0,0,0,0,0,0,0,0,0,0,0,0,0,0,0,0,0,0,0,0,0,0,0,0,0,0,0,0,0,0,0,0,0,0,0,0,0,0,0,0,0,0,null,1,9.9]
[1108,"Sambal F/Mee",9.9,0,0,0,0,0,0,0,0,0,0,0,0,0,0,0,0,0,0,0,0,0,0,0,0,0,0,0,0,0,0,0,0,0,0,0,0,0,0,0,0,0,0,0,0,0,0,0,0,0,0,0,0,0,0,0,0,0,0,0,0,0,0,null,0,0]
[1109,"B/Pepper Udon Noodle",9.9,0,0,0,0,0,0,0,0,0,0,0,0,0,0,0,0,0,0,0,0,0,0,0,0,0,0,0,0,0,0,0,0,0,0,0,0,0,0,0,0,0,0,0,0,0,0,0,0,0,0,0,0,0,0,0,0,0,0,0,0,0,0,null,0,0]
[1110,"Nissin Noodle Soup",9.9,0,0,0,0,0,0,0,0,0,0,0,0,0,0,0,0,0,0,0,0,0,0,0,0,0,0,0,0,0,0,0,0,0,0,0,0,0,0,0,0,0,0,0,0,0,0,0,0,0,0,0,0,0,0,0,0,0,0,0,0,0,0,null,0,0]
[1111,"Fried Mix Vegetable W/Rice",9.9,0,0,0,0,0,0,0,0,0,0,0,0,0,0,0,0,0,0,0,0,0,0,0,0,0,0,0,0,0,0,0,0,0,0,0,0,0,0,0,0,0,0,0,0,0,0,0,0,0,0,0,0,0,0,0,0,0,0,0,0,0,0,null,0,0]
[1112,"Nasi Lemak W/F Ckn Wing",9.9,0,0,0,0,0,0,0,0,0,0,0,0,0,0,0,0,0,0,0,0,0,0,0,0,0,0,0,0,0,0,0,0,0,0,0,0,0,0,0,0,0,0,0,0,0,0,0,0,0,0,0,0,0,0,0,0,0,0,0,0,0,0,null,0,0]
[1113,"H & S F/Kuey Teow",9.9,0,0,0,0,0,0,0,0,0,0,0,0,0,0,0,0,0,0,0,0,0,0,0,0,0,0,0,0,0,0,0,0,0,0,0,0,0,0,0,0,0,0,0,0,0,0,0,0,0,0,0,0,0,0,0,0,0,0,0,0,0,0,null,0,0]
[1114,"Seaweed Fishball Noodle Soup",9.9,0,0,0,0,0,0,0,0,0,0,0,0,0,0,0,0,0,0,0,0,0,0,0,0,0,0,0,0,0,0,0,0,0,0,0,0,0,0,0,0,0,0,0,0,0,0,0,0,0,0,0,0,0,0,0,0,0,0,0,0,0,0,null,0,0]
[1115,"Braised Noodle W/Chicken Chop",9.9,0,0,0,0,0,0,0,0,0,0,0,0,0,0,0,0,0,0,0,0,0,0,0,0,0,0,0,0,0,0,0,0,0,0,0,0,0,0,0,0,0,0,0,0,0,0,0,0,0,0,0,0,0,0,0,0,0,0,0,0,0,0,null,0,0]
[1116,"Mongolian Chicken Chop",9.9,0,0,0,0,0,0,0,0,0,0,0,0,0,0,0,0,0,0,0,0,0,0,0,0,0,0,0,0,0,0,0,0,0,0,0,0,0,0,0,0,0,0,0,0,0,0,0,0,0,0,0,0,0,0,0,0,0,0,0,0,0,0,null,0,0]
[1001,"Black Pepper Chicken Chop",12.9,0,0,0,0,0,0,0,0,0,0,0,0,0,0,0,0,0,0,0,0,0,0,0,0,0,0,0,0,0,0,0,0,0,0,0,0,0,0,0,0,0,0,0,0,0,0,0,0,0,0,0,0,0,0,0,0,0,0,0,0,0,0,null,0,0]
[1002,"Gravy Chicken Chop",12.9,0,0,0,0,0,0,0,0,0,0,0,0,0,0,0,0,0,0,0,0,0,0,0,0,0,0,0,0,0,0,0,0,0,0,0,0,0,0,0,0,0,0,0,0,0,0,0,0,0,0,0,0,0,0,0,0,0,0,0,0,0,0,null,0,0]
[1003,"Mushroom Chicken Chop",12.9,0,0,0,0,0,0,0,0,0,0,0,0,0,0,0,0,0,0,0,0,0,0,0,0,0,0,0,0,0,0,0,0,0,0,0,0,0,0,0,0,0,0,0,0,0,0,0,0,0,0,0,0,0,0,0,0,0,0,0,0,0,0,null,0,0]
[1004,"Chicken Maryland",12.9,0,0,0,0,0,0,0,0,0,0,0,0,0,0,0,0,0,0,0,0,0,0,0,0,0,0,0,0,0,0,0,0,0,0,0,0,0,0,0,0,0,0,0,0,0,0,0,0,0,0,0,0,0,0,0,0,0,0,0,0,0,0,null,0,0]
[1005,"Fish & chip",12.9,0,0,0,0,0,0,0,0,0,0,0,0,0,0,0,0,0,0,0,0,0,0,0,0,0,0,0,0,0,0,0,0,0,0,0,0,0,0,0,0,0,0,0,0,0,0,0,0,0,0,0,0,0,0,0,0,0,0,0,0,0,0,null,0,0]
[1006,"Spaghetti Bolognese",12.9,0,0,0,0,0,0,0,0,0,0,0,0,0,0,0,0,0,0,0,0,0,0,0,0,0,0,0,0,0,0,0,0,0,0,0,0,0,0,0,0,0,0,0,0,0,0,0,0,0,0,0,0,0,0,0,0,0,0,0,0,0,0,null,0,0]
[1007,"Chicken Chop Salad",12.9,0,0,0,0,0,0,0,0,0,0,0,0,0,0,0,0,0,0,0,0,0,0,0,0,0,0,0,0,0,0,0,0,0,0,0,0,0,0,0,0,0,0,0,0,0,0,0,0,0,0,0,0,0,0,0,0,0,0,0,0,0,0,null,0,0]
[1201,"Seafood Stick",5.9,0,0,0,0,0,0,0,0,0,0,0,0,0,0,0,0,0,0,0,0,0,0,0,0,0,0,0,0,0,0,0,0,0,0,0,0,0,0,0,0,0,0,0,0,0,0,0,0,0,0,0,0,0,0,0,0,0,0,0,0,0,0,null,0,0]
[1202,"French Fries",5.9,0,0,0,0,0,0,0,0,0,0,0,0,0,0,0,0,0,0,0,0,0,0,0,0,0,0,0,0,0,0,0,0,0,0,0,0,0,0,0,0,0,0,0,0,0,0,0,0,0,0,0,0,0,0,0,0,0,0,0,0,0,0,null,0,0]
[1203,"S/Pepper Golden Mushroom",5.9,0,0,0,0,0,0,0,0,0,0,0,0,0,0,0,0,0,0,0,0,0,0,0,0,0,0,0,0,0,0,0,0,0,0,0,0,0,0,0,0,0,0,0,0,0,0,0,0,0,0,0,0,0,0,0,0,0,0,0,0,0,0,null,0,0]
[1204,"Fried Fish Ball",5.9,0,0,0,0,0,0,0,0,0,0,0,0,0,0,0,0,0,0,0,0,0,0,0,0,0,0,0,0,0,0,0,0,0,0,0,0,0,0,0,0,0,0,0,0,0,0,0,0,0,0,0,0,0,0,0,0,0,0,0,0,0,0,null,0,0]
[1205,"Rainbow Roll",5.9,0,0,0,0,0,0,0,0,0,0,0,0,0,0,0,0,0,0,0,0,0,0,0,0,0,0,0,0,0,0,0,0,0,0,0,0,0,0,0,0,0,0,0,0,0,0,0,0,0,0,0,0,0,0,0,0,0,0,0,0,0,0,null,0,0]
[1206,"Spring Roll",5.9,0,0,0,0,0,0,0,0,0,0,0,0,0,0,0,0,0,0,0,0,0,0,0,0,0,0,0,0,0,0,0,0,0,0,0,0,0,0,0,0,0,0,0,0,0,0,0,0,0,0,0,0,0,0,0,0,0,0,0,0,0,0,null,0,0]
[1207,"Crispy Ckn Sausage",5.9,0,0,0,0,0,0,0,0,0,0,0,0,0,0,0,0,0,0,0,0,0,0,0,0,0,0,0,0,0,0,0,0,0,0,0,0,0,0,0,0,0,0,0,0,0,0,0,0,0,0,0,0,0,0,0,0,0,0,0,0,0,0,null,0,0]
[1301,"Shanghai Guo Tie",7.9,0,0,0,0,0,0,0,0,0,0,0,0,0,0,0,0,0,0,0,0,0,0,0,0,0,0,0,0,0,0,0,0,0,0,0,0,0,0,0,0,0,0,0,0,0,0,0,0,0,0,0,0,0,0,0,0,0,0,0,0,0,0,null,0,0]
[1302,"Chicken Nugget",7.9,0,0,0,0,0,0,0,0,0,0,0,0,0,0,0,0,0,0,0,0,0,0,0,0,0,0,0,0,0,0,0,0,0,0,0,0,0,0,0,0,0,0,0,0,0,0,0,0,0,0,0,0,0,0,0,0,0,0,0,0,0,0,null,0,0]
[1303,"Ckn Wing",7.9,0,0,0,0,0,0,0,0,0,0,0,0,0,0,0,0,0,0,0,0,0,0,0,0,0,0,0,0,0,0,0,0,0,0,0,0,0,0,0,0,0,0,0,0,0,0,0,0,0,0,0,0,0,0,0,0,0,0,0,0,0,0,null,0,0]
[1304,"Hot & Spicy Achiovice",7.9,0,0,0,0,0,0,0,0,0,0,0,0,0,0,0,0,0,0,0,0,0,0,0,0,0,0,0,0,0,0,0,0,0,0,0,0,0,0,0,0,0,0,0,0,0,0,0,0,0,0,0,0,0,0,0,0,0,0,0,0,0,0,null,0,0]
[1305,"Crispy Thai Roll",7.9,0,0,0,0,0,0,0,0,0,0,0,0,0,0,0,0,0,0,0,0,0,0,0,0,0,0,0,0,0,0,0,0,0,0,0,0,0,0,0,0,0,0,0,0,0,0,0,0,0,0,0,0,0,0,0,0,0,0,0,0,0,0,null,0,0]
[1306,"S/Pepper Silver Fish",7.9,0,0,0,0,0,0,0,0,0,0,0,0,0,0,0,0,0,0,0,0,0,0,0,0,0,0,0,0,0,0,0,0,0,0,0,0,0,0,0,0,0,0,0,0,0,0,0,0,0,0,0,0,0,0,0,0,0,0,0,0,0,0,null,0,0]
[1307,"Deep Fried Chicken Wing",7.9,0,0,0,0,0,0,0,0,0,0,0,0,0,0,0,0,0,{"$f":"T47*C47","v":0},0,0,0,0,0,0,0,0,0,0,0,0,0,0,0,0,0,0,0,0,0,0,0,0,0,0,0,0,0,0,0,0,0,0,0,0,0,0,0,0,0,0,0,0,null,0,0]
[1308,"Crunchy Calamari Ring",7.9,0,0,0,0,0,0,0,0,0,0,0,0,0,0,0,0,0,{"$f":"T48*C48","v":0},0,0,0,0,0,0,0,0,0,0,0,0,0,0,0,0,0,0,0,0,0,0,0,0,0,0,0,0,0,0,0,0,0,0,0,0,0,0,0,0,0,0,0,0,null,0,0]
[1309,"Mccain Breaded Onion Ring",7.9,0,0,0,0,0,0,0,0,0,0,0,0,0,0,0,0,0,{"$f":"T49*C49","v":0},0,0,0,0,0,0,0,0,0,0,0,0,0,0,0,0,0,0,0,0,0,0,0,0,0,0,0,0,0,0,0,0,0,0,0,0,0,0,0,0,0,0,0,0,null,0,0]
[1310,"Mccain Spiral Fries",7.9,0,0,0,0,0,0,0,0,0,0,0,0,0,0,0,0,0,{"$f":"T50*E50","v":0},0,0,0,0,0,0,0,0,0,0,0,0,0,0,0,0,0,0,0,0,0,0,0,0,0,0,0,0,0,0,0,0,0,0,0,0,0,0,0,0,0,0,0,0,null,0,0]
[1311,"Mccain Happy Crispy Smiles",7.9,0,0,0,0,0,0,0,0,0,0,0,0,0,0,0,0,0,{"$f":"T51*C51","v":0},0,0,0,0,0,0,0,0,0,0,0,0,0,0,0,0,0,0,0,0,0,0,0,0,0,0,0,0,0,0,0,0,0,0,0,0,0,0,0,0,0,0,0,0,null,0,0]
[1312,"Mccain Mini Hash Brown",7.9,0,0,0,0,0,0,0,0,0,0,0,0,0,0,0,0,0,{"$f":"T52*C52","v":0},0,0,0,0,0,0,0,0,0,0,0,0,0,0,0,0,0,0,0,0,0,0,0,0,0,0,0,0,0,0,0,0,0,0,0,0,0,0,0,0,0,0,0,0,null,0,0]
[3001,"6' Hawaiian Pizza",12.9,0,{"$f":"D53*C53","v":0},0,{"$f":"F53*C53","v":0},0,0,0,{"$f":"J53*C53","v":0},0,0,0,0,0,0,0,0,0,0,0,0,0,0,0,0,0,0,0,0,0,0,0,{"$f":"AH53*AG53","v":0},0,0,0,0,0,0,0,0,0,0,0,0,0,0,0,0,0,0,0,0,0,0,0,0,0,{"$f":"BH53*C53","v":0},0,0,0,0,null,0,0]
[3002,"6' Smoke BBQ Pizza",12.9,0,{"$f":"D54*C54","v":0},0,{"$f":"F54*C54","v":0},0,0,0,{"$f":"J54*C54","v":0},0,0,0,0,0,0,0,0,0,0,0,0,0,0,0,0,0,0,0,0,0,0,0,0,0,0,0,0,0,0,0,0,0,0,0,0,0,0,0,0,0,0,0,0,0,0,0,0,0,{"$f":"BH54*C54","v":0},0,0,0,0,null,0,0]
[3003,"6' Seafood Pizza",12.9,0,0,0,0,0,0,0,0,0,0,0,{"$f":"N55*C55","v":0},0,0,0,0,0,0,0,0,0,0,0,0,0,0,0,0,0,0,0,0,0,0,0,0,0,0,0,0,0,0,0,0,0,0,0,0,0,0,0,0,0,0,0,0,0,0,0,0,0,0,null,0,0]
[3004,"6' Spicy Buf Pizza",12.9,0,0,0,0,0,0,0,0,0,0,0,{"$f":"N56*C56","v":0},0,0,0,0,0,0,0,0,0,0,0,0,0,0,0,0,0,0,0,0,0,0,0,0,0,0,0,0,0,0,0,0,0,0,0,0,0,0,0,0,0,0,0,0,0,0,0,0,0,0,null,0,0]
[3005,"6' Veggie",12.9,0,0,0,0,0,0,0,0,0,0,0,0,0,0,0,0,0,0,0,0,0,0,0,0,0,0,0,0,0,0,0,0,0,0,0,0,0,0,0,0,0,0,0,0,0,0,0,0,0,0,0,0,0,0,0,0,0,0,0,0,0,0,null,0,0]
[3001,"9' Hawaiian Pizza",16.899999999999999,0,0,0,0,0,0,0,0,0,0,0,0,0,0,0,0,0,0,0,0,0,0,0,0,0,0,0,0,0,0,0,0,0,0,0,0,0,0,0,0,0,0,0,0,0,0,0,0,0,0,0,0,0,0,0,0,0,0,0,0,0,0,null,0,0]
[3002,"9' Smoke BBQ Pizza",16.899999999999999,0,0,0,0,0,0,0,0,0,0,0,0,0,0,0,0,0,0,0,0,0,0,0,0,0,0,0,0,0,0,0,0,0,0,0,0,0,0,0,0,0,0,0,0,0,0,0,0,0,0,0,0,0,0,0,0,0,0,0,0,0,0,null,0,0]
[3003,"9' Seafood Pizza",16.899999999999999,0,0,0,0,0,0,0,0,0,0,0,0,0,0,0,0,0,0,0,0,0,0,0,0,0,0,0,0,0,0,0,0,0,0,0,0,0,0,0,0,0,0,0,0,0,0,0,0,0,0,0,0,0,0,0,0,0,0,0,0,0,0,null,0,0]
[3004,"9' Spicy Buf Pizza",16.899999999999999,0,0,0,0,0,0,0,0,0,0,0,0,0,0,0,0,0,0,0,0,0,0,0,0,0,0,0,0,0,0,0,0,0,0,0,0,0,0,0,0,0,0,0,0,0,0,0,0,0,0,0,0,0,0,0,0,0,0,0,0,0,0,null,0,0]
[3005,"9' Veggie",16.899999999999999,0,0,0,0,0,0,0,0,0,0,0,0,0,0,0,0,0,0,0,0,0,0,0,0,0,0,0,0,0,0,0,0,0,0,0,0,0,0,0,0,0,0,0,0,0,0,0,0,0,0,0,0,0,0,0,0,0,0,0,0,0,0,null,0,0]
[null,"McCain AlaCarte",16.899999999999999,0,0,0,0,0,0,0,0,0,0,0,0,0,0,0,0,0,0,0,0,0,0,0,0,0,0,0,0,0,0,0,0,0,0,0,0,0,0,0,0,0,0,0,0,0,0,0,0,0,0,0,0,0,0,0,0,0,0,0,0,0,0,null,0,0]
[null,"McCain Beer Platter",12.9,0,0,0,0,0,0,0,0,0,0,0,0,0,0,0,0,0,0,0,0,0,0,0,0,0,0,0,0,0,0,0,0,0,0,0,0,0,0,0,0,0,0,0,0,0,0,0,0,0,0,0,0,0,0,0,0,0,0,0,0,0,0,null,0,0]
[]
[null,"Total Foc","-",{"$f":"SUM(D9:D64)","v":0},0,0,0,0,0,0,0,0,0,0,0,1,9.9,0,0,0,0,0,0,0,0,0,0,0,0,0,0,0,0,0,0,0,0,0,0,0,0,0,0,0,0,0,0,0,0,0,0,0,0,0,0,0,0,0,0,0,0,0,0,0,0,null,{"$f":"SUM(BO9:BO64)","v":1},{"$f":"SUM(BP9:BP65)","v":9.9}]