{"text_format":"1","workbook":"xlsx","n_sheets":7,"sheets":["Summary","Daily Log","STOCK ANALYSIS","K-LUNCH & K DINNER","SIDE ORDER & FOC","SAUCE USAGE","DAILY FOC"],"not_rendered":{"charts":0,"images":1,"macros":0,"external_links":3,"defined_names":10,"comments":0,"pivot_tables":0},"unopened":[],"bounds":{"document_bytes":16777216,"sheet_cells":100000,"rows_first":2000,"rows_last":500,"rows_between":2000,"halvings":0,"cell_chars":16384,"cell_head_chars":4096},"cells_cut":0,"cells_raw":0,"read":"whole","date_system":"1900"}

{"sheet":"Summary","index":0,"n_rows":375,"n_cols":37,"rows_kept":375,"cut":false,"hidden":false,"merged":[[358,1,358,2],[5,2,5,3],[7,2,7,3],[9,2,9,3],[28,1,28,2],[359,1,359,2],[360,1,360,2],[361,1,361,2],[362,1,362,2],[363,1,363,2],[369,1,369,2],[370,1,370,2],[371,1,371,2],[372,1,372,2],[364,1,364,2],[365,1,365,2],[366,1,366,2],[367,1,367,2],[368,1,368,2]]}
[]
[]
[null,null,"SUMMARY OF PRODUCT SALES IN MONTH"]
[]
[]
[null,"OUTLET",{"$f":"MID(CELL(\"FILENAME\",$A$1),FIND(\"[\",CELL(\"FILENAME\",$A$1))+1,3)","v":"KDA"}]
[]
[null,"YEAR",{"$f":"MID(CELL(\"FILENAME\",$A$1),FIND(\"[\",CELL(\"FILENAME\",$A$1))+4,4)","v":"2013"}]
[]
[null,"MONTH",{"$f":"INDEX($C$12:$C$23,MID(CELL(\"FILENAME\",$A$1),FIND(\"[\",CELL(\"FILENAME\",$A$1))+8,2),1)","v":"MAY"}]
[]
[null,"MONTH","JANUARY"]
[null,null,"FEBRUARY"]
[null,null,"MARCH"]
[null,null,"APRIL"]
[null,null,"MAY"]
[null,null,"JUNE"]
[null,null,"JULY"]
[null,null,"AUGUST"]
[null,null,"SEPTEMBER"]
[null,null,"OCTOBER"]
[null,null,"NOVEMBER"]
[null,null,"DECEMBER"]
[]
[]
[null,"PRODUCT",null,"CATEGORY","QTY","QUANTITIES SOLD IN MONTH"]
[null,null,null,null,"PER","TOTAL",{"$f":"DATE(C8,MID(CELL(\"FILENAME\",$A$1),FIND(\"[\",CELL(\"FILENAME\",$A$1))+8,2),1)","v":"2013-05-01"},{"$f":"IFERROR(IF(MONTH(G27+1)<=MONTH($G$27),G27+1,\"\"),\"\")","v":"2013-05-02"},{"$f":"IFERROR(IF(MONTH(H27+1)<=MONTH($G$27),H27+1,\"\"),\"\")","v":"2013-05-03"},"2013-05-04","2013-05-05","2013-05-06","2013-05-07","2013-05-08","2013-05-09","2013-05-10","2013-05-11","2013-05-12","2013-05-13","2013-05-14","2013-05-15","2013-05-16","2013-05-17","2013-05-18","2013-05-19","2013-05-20","2013-05-21","2013-05-22","2013-05-23","2013-05-24","2013-05-25","2013-05-26","2013-05-27","2013-05-28","2013-05-29","2013-05-30","2013-05-31"]
[null,null,null,null,"ITEM"]
[]
[null,"BA01 K : 4BP ",null,"BEER",12,{"$f":"SUM($G30:$AK30)","v":0},{"$f":"IFERROR($E30*SUMIF('Daily Log'!#REF!,$B30,'Daily Log'!#REF!),0)","v":0},{"$f":"IFERROR($E30*SUMIF('Daily Log'!#REF!,$B30,'Daily Log'!#REF!),0)","v":0},{"$f":"IFERROR($E30*SUMIF('Daily Log'!#REF!,$B30,'Daily Log'!#REF!),0)","v":0},{"$f":"IFERROR($E30*SUMIF('Daily Log'!#REF!,$B30,'Daily Log'!#REF!),0)","v":0},{"$f":"IFERROR($E30*SUMIF('Daily Log'!#REF!,$B30,'Daily Log'!#REF!),0)","v":0},{"$f":"IFERROR($E30*SUMIF('Daily Log'!#REF!,$B30,'Daily Log'!#REF!),0)","v":0},{"$f":"IFERROR($E30*SUMIF('Daily Log'!#REF!,$B30,'Daily Log'!#REF!),0)","v":0},{"$f":"IFERROR($E30*SUMIF('Daily Log'!#REF!,$B30,'Daily Log'!#REF!),0)","v":0},{"$f":"IFERROR($E30*SUMIF('Daily Log'!#REF!,$B30,'Daily Log'!#REF!),0)","v":0},{"$f":"IFERROR($E30*SUMIF('Daily Log'!#REF!,$B30,'Daily Log'!#REF!),0)","v":0},{"$f":"IFERROR($E30*SUMIF('Daily Log'!#REF!,$B30,'Daily Log'!#REF!),0)","v":0},{"$f":"IFERROR($E30*SUMIF('Daily Log'!#REF!,$B30,'Daily Log'!#REF!),0)","v":0},{"$f":"IFERROR($E30*SUMIF('Daily Log'!#REF!,$B30,'Daily Log'!#REF!),0)","v":0},{"$f":"IFERROR($E30*SUMIF('Daily Log'!#REF!,$B30,'Daily Log'!#REF!),0)","v":0},{"$f":"IFERROR($E30*SUMIF('Daily Log'!#REF!,$B30,'Daily Log'!#REF!),0)","v":0},{"$f":"IFERROR($E30*SUMIF('Daily Log'!#REF!,$B30,'Daily Log'!#REF!),0)","v":0},{"$f":"IFERROR($E30*SUMIF('Daily Log'!#REF!,$B30,'Daily Log'!#REF!),0)","v":0},{"$f":"IFERROR($E30*SUMIF('Daily Log'!#REF!,$B30,'Daily Log'!#REF!),0)","v":0},{"$f":"IFERROR($E30*SUMIF('Daily Log'!#REF!,$B30,'Daily Log'!#REF!),0)","v":0},{"$f":"IFERROR($E30*SUMIF('Daily Log'!$C$18:$C$1017,$B30,'Daily Log'!$D$18:$D$1017),0)","v":0},{"$f":"IFERROR($E30*SUMIF('Daily Log'!$F$18:$F$1017,$B30,'Daily Log'!$G$18:$G$1017),0)","v":0},{"$f":"IFERROR($E30*SUMIF('Daily Log'!$I$18:$I$1017,$B30,'Daily Log'!$J$18:$J$1017),0)","v":0},{"$f":"IFERROR($E30*SUMIF('Daily Log'!$L$18:$L$1017,$B30,'Daily Log'!$M$18:$M$1017),0)","v":0},{"$f":"IFERROR($E30*SUMIF('Daily Log'!$O$18:$O$1017,$B30,'Daily Log'!$P$18:$P$1017),0)","v":0},{"$f":"IFERROR($E30*SUMIF('Daily Log'!$R$18:$R$1017,$B30,'Daily Log'!$S$18:$S$1017),0)","v":0},{"$f":"IFERROR($E30*SUMIF('Daily Log'!$U$18:$U$1017,$B30,'Daily Log'!$V$18:$V$1017),0)","v":0},{"$f":"IFERROR($E30*SUMIF('Daily Log'!#REF!,$B30,'Daily Log'!#REF!),0)","v":0},{"$f":"IFERROR($E30*SUMIF('Daily Log'!#REF!,$B30,'Daily Log'!#REF!),0)","v":0},{"$f":"IFERROR($E30*SUMIF('Daily Log'!#REF!,$B30,'Daily Log'!#REF!),0)","v":0},{"$f":"IFERROR($E30*SUMIF('Daily Log'!#REF!,$B30,'Daily Log'!#REF!),0)","v":0},{"$f":"IFERROR($E30*SUMIF('Daily Log'!#REF!,$B30,'Daily Log'!#REF!),0)","v":0}]
[null,"BA02 H : 4BP",null,"BEER",12,24,{"$f":"IFERROR($E31*SUMIF('Daily Log'!#REF!,$B31,'Daily Log'!#REF!),0)","v":0},{"$f":"IFERROR($E31*SUMIF('Daily Log'!#REF!,$B31,'Daily Log'!#REF!),0)","v":0},{"$f":"IFERROR($E31*SUMIF('Daily Log'!#REF!,$B31,'Daily Log'!#REF!),0)","v":0},{"$f":"IFERROR($E31*SUMIF('Daily Log'!#REF!,$B31,'Daily Log'!#REF!),0)","v":0},{"$f":"IFERROR($E31*SUMIF('Daily Log'!#REF!,$B31,'Daily Log'!#REF!),0)","v":0},{"$f":"IFERROR($E31*SUMIF('Daily Log'!#REF!,$B31,'Daily Log'!#REF!),0)","v":0},{"$f":"IFERROR($E31*SUMIF('Daily Log'!#REF!,$B31,'Daily Log'!#REF!),0)","v":0},{"$f":"IFERROR($E31*SUMIF('Daily Log'!#REF!,$B31,'Daily Log'!#REF!),0)","v":0},{"$f":"IFERROR($E31*SUMIF('Daily Log'!#REF!,$B31,'Daily Log'!#REF!),0)","v":0},{"$f":"IFERROR($E31*SUMIF('Daily Log'!#REF!,$B31,'Daily Log'!#REF!),0)","v":0},{"$f":"IFERROR($E31*SUMIF('Daily Log'!#REF!,$B31,'Daily Log'!#REF!),0)","v":0},{"$f":"IFERROR($E31*SUMIF('Daily Log'!#REF!,$B31,'Daily Log'!#REF!),0)","v":0},{"$f":"IFERROR($E31*SUMIF('Daily Log'!#REF!,$B31,'Daily Log'!#REF!),0)","v":0},{"$f":"IFERROR($E31*SUMIF('Daily Log'!#REF!,$B31,'Daily Log'!#REF!),0)","v":0},{"$f":"IFERROR($E31*SUMIF('Daily Log'!#REF!,$B31,'Daily Log'!#REF!),0)","v":0},{"$f":"IFERROR($E31*SUMIF('Daily Log'!#REF!,$B31,'Daily Log'!#REF!),0)","v":0},{"$f":"IFERROR($E31*SUMIF('Daily Log'!#REF!,$B31,'Daily Log'!#REF!),0)","v":0},{"$f":"IFERROR($E31*SUMIF('Daily Log'!#REF!,$B31,'Daily Log'!#REF!),0)","v":0},{"$f":"IFERROR($E31*SUMIF('Daily Log'!#REF!,$B31,'Daily Log'!#REF!),0)","v":0},{"$f":"IFERROR($E31*SUMIF('Daily Log'!$C$18:$C$1017,$B31,'Daily Log'!$D$18:$D$1017),0)","v":0},{"$f":"IFERROR($E31*SUMIF('Daily Log'!$F$18:$F$1017,$B31,'Daily Log'!$G$18:$G$1017),0)","v":0},{"$f":"IFERROR($E31*SUMIF('Daily Log'!$I$18:$I$1017,$B31,'Daily Log'!$J$18:$J$1017),0)","v":12},{"$f":"IFERROR($E31*SUMIF('Daily Log'!$L$18:$L$1017,$B31,'Daily Log'!$M$18:$M$1017),0)","v":12},{"$f":"IFERROR($E31*SUMIF('Daily Log'!$O$18:$O$1017,$B31,'Daily Log'!$P$18:$P$1017),0)","v":0},{"$f":"IFERROR($E31*SUMIF('Daily Log'!$R$18:$R$1017,$B31,'Daily Log'!$S$18:$S$1017),0)","v":0},{"$f":"IFERROR($E31*SUMIF('Daily Log'!$U$18:$U$1017,$B31,'Daily Log'!$V$18:$V$1017),0)","v":0},{"$f":"IFERROR($E31*SUMIF('Daily Log'!#REF!,$B31,'Daily Log'!#REF!),0)","v":0},{"$f":"IFERROR($E31*SUMIF('Daily Log'!#REF!,$B31,'Daily Log'!#REF!),0)","v":0},{"$f":"IFERROR($E31*SUMIF('Daily Log'!#REF!,$B31,'Daily Log'!#REF!),0)","v":0},{"$f":"IFERROR($E31*SUMIF('Daily Log'!#REF!,$B31,'Daily Log'!#REF!),0)","v":0},{"$f":"IFERROR($E31*SUMIF('Daily Log'!#REF!,$B31,'Daily Log'!#REF!),0)","v":0}]
[null,"BA03 H : 4BP MEMBER",null,"BEER",12,0,{"$f":"IFERROR($E32*SUMIF('Daily Log'!#REF!,$B32,'Daily Log'!#REF!),0)","v":0},{"$f":"IFERROR($E32*SUMIF('Daily Log'!#REF!,$B32,'Daily Log'!#REF!),0)","v":0},{"$f":"IFERROR($E32*SUMIF('Daily Log'!#REF!,$B32,'Daily Log'!#REF!),0)","v":0},{"$f":"IFERROR($E32*SUMIF('Daily Log'!#REF!,$B32,'Daily Log'!#REF!),0)","v":0},{"$f":"IFERROR($E32*SUMIF('Daily Log'!#REF!,$B32,'Daily Log'!#REF!),0)","v":0},{"$f":"IFERROR($E32*SUMIF('Daily Log'!#REF!,$B32,'Daily Log'!#REF!),0)","v":0},{"$f":"IFERROR($E32*SUMIF('Daily Log'!#REF!,$B32,'Daily Log'!#REF!),0)","v":0},{"$f":"IFERROR($E32*SUMIF('Daily Log'!#REF!,$B32,'Daily Log'!#REF!),0)","v":0},{"$f":"IFERROR($E32*SUMIF('Daily Log'!#REF!,$B32,'Daily Log'!#REF!),0)","v":0},{"$f":"IFERROR($E32*SUMIF('Daily Log'!#REF!,$B32,'Daily Log'!#REF!),0)","v":0},{"$f":"IFERROR($E32*SUMIF('Daily Log'!#REF!,$B32,'Daily Log'!#REF!),0)","v":0},{"$f":"IFERROR($E32*SUMIF('Daily Log'!#REF!,$B32,'Daily Log'!#REF!),0)","v":0},{"$f":"IFERROR($E32*SUMIF('Daily Log'!#REF!,$B32,'Daily Log'!#REF!),0)","v":0},{"$f":"IFERROR($E32*SUMIF('Daily Log'!#REF!,$B32,'Daily Log'!#REF!),0)","v":0},{"$f":"IFERROR($E32*SUMIF('Daily Log'!#REF!,$B32,'Daily Log'!#REF!),0)","v":0},{"$f":"IFERROR($E32*SUMIF('Daily Log'!#REF!,$B32,'Daily Log'!#REF!),0)","v":0},{"$f":"IFERROR($E32*SUMIF('Daily Log'!#REF!,$B32,'Daily Log'!#REF!),0)","v":0},{"$f":"IFERROR($E32*SUMIF('Daily Log'!#REF!,$B32,'Daily Log'!#REF!),0)","v":0},{"$f":"IFERROR($E32*SUMIF('Daily Log'!#REF!,$B32,'Daily Log'!#REF!),0)","v":0},{"$f":"IFERROR($E32*SUMIF('Daily Log'!$C$18:$C$1017,$B32,'Daily Log'!$D$18:$D$1017),0)","v":0},{"$f":"IFERROR($E32*SUMIF('Daily Log'!$F$18:$F$1017,$B32,'Daily Log'!$G$18:$G$1017),0)","v":0},{"$f":"IFERROR($E32*SUMIF('Daily Log'!$I$18:$I$1017,$B32,'Daily Log'!$J$18:$J$1017),0)","v":0},{"$f":"IFERROR($E32*SUMIF('Daily Log'!$L$18:$L$1017,$B32,'Daily Log'!$M$18:$M$1017),0)","v":0},{"$f":"IFERROR($E32*SUMIF('Daily Log'!$O$18:$O$1017,$B32,'Daily Log'!$P$18:$P$1017),0)","v":0},{"$f":"IFERROR($E32*SUMIF('Daily Log'!$R$18:$R$1017,$B32,'Daily Log'!$S$18:$S$1017),0)","v":0},{"$f":"IFERROR($E32*SUMIF('Daily Log'!$U$18:$U$1017,$B32,'Daily Log'!$V$18:$V$1017),0)","v":0},{"$f":"IFERROR($E32*SUMIF('Daily Log'!#REF!,$B32,'Daily Log'!#REF!),0)","v":0},{"$f":"IFERROR($E32*SUMIF('Daily Log'!#REF!,$B32,'Daily Log'!#REF!),0)","v":0},{"$f":"IFERROR($E32*SUMIF('Daily Log'!#REF!,$B32,'Daily Log'!#REF!),0)","v":0},{"$f":"IFERROR($E32*SUMIF('Daily Log'!#REF!,$B32,'Daily Log'!#REF!),0)","v":0},{"$f":"IFERROR($E32*SUMIF('Daily Log'!#REF!,$B32,'Daily Log'!#REF!),0)","v":0}]
[null,"BA04 N : 4BP",null,"BEER",12,504,{"$f":"IFERROR($E33*SUMIF('Daily Log'!#REF!,$B33,'Daily Log'!#REF!),0)","v":0},{"$f":"IFERROR($E33*SUMIF('Daily Log'!#REF!,$B33,'Daily Log'!#REF!),0)","v":0},{"$f":"IFERROR($E33*SUMIF('Daily Log'!#REF!,$B33,'Daily Log'!#REF!),0)","v":0},{"$f":"IFERROR($E33*SUMIF('Daily Log'!#REF!,$B33,'Daily Log'!#REF!),0)","v":0},{"$f":"IFERROR($E33*SUMIF('Daily Log'!#REF!,$B33,'Daily Log'!#REF!),0)","v":0},{"$f":"IFERROR($E33*SUMIF('Daily Log'!#REF!,$B33,'Daily Log'!#REF!),0)","v":0},{"$f":"IFERROR($E33*SUMIF('Daily Log'!#REF!,$B33,'Daily Log'!#REF!),0)","v":0},{"$f":"IFERROR($E33*SUMIF('Daily Log'!#REF!,$B33,'Daily Log'!#REF!),0)","v":0},{"$f":"IFERROR($E33*SUMIF('Daily Log'!#REF!,$B33,'Daily Log'!#REF!),0)","v":0},{"$f":"IFERROR($E33*SUMIF('Daily Log'!#REF!,$B33,'Daily Log'!#REF!),0)","v":0},{"$f":"IFERROR($E33*SUMIF('Daily Log'!#REF!,$B33,'Daily Log'!#REF!),0)","v":0},{"$f":"IFERROR($E33*SUMIF('Daily Log'!#REF!,$B33,'Daily Log'!#REF!),0)","v":0},{"$f":"IFERROR($E33*SUMIF('Daily Log'!#REF!,$B33,'Daily Log'!#REF!),0)","v":0},{"$f":"IFERROR($E33*SUMIF('Daily Log'!#REF!,$B33,'Daily Log'!#REF!),0)","v":0},{"$f":"IFERROR($E33*SUMIF('Daily Log'!#REF!,$B33,'Daily Log'!#REF!),0)","v":0},{"$f":"IFERROR($E33*SUMIF('Daily Log'!#REF!,$B33,'Daily Log'!#REF!),0)","v":0},{"$f":"IFERROR($E33*SUMIF('Daily Log'!#REF!,$B33,'Daily Log'!#REF!),0)","v":0},{"$f":"IFERROR($E33*SUMIF('Daily Log'!#REF!,$B33,'Daily Log'!#REF!),0)","v":0},{"$f":"IFERROR($E33*SUMIF('Daily Log'!#REF!,$B33,'Daily Log'!#REF!),0)","v":0},{"$f":"IFERROR($E33*SUMIF('Daily Log'!$C$18:$C$1017,$B33,'Daily Log'!$D$18:$D$1017),0)","v":24},{"$f":"IFERROR($E33*SUMIF('Daily Log'!$F$18:$F$1017,$B33,'Daily Log'!$G$18:$G$1017),0)","v":24},{"$f":"IFERROR($E33*SUMIF('Daily Log'!$I$18:$I$1017,$B33,'Daily Log'!$J$18:$J$1017),0)","v":12},{"$f":"IFERROR($E33*SUMIF('Daily Log'!$L$18:$L$1017,$B33,'Daily Log'!$M$18:$M$1017),0)","v":96},{"$f":"IFERROR($E33*SUMIF('Daily Log'!$O$18:$O$1017,$B33,'Daily Log'!$P$18:$P$1017),0)","v":120},{"$f":"IFERROR($E33*SUMIF('Daily Log'!$R$18:$R$1017,$B33,'Daily Log'!$S$18:$S$1017),0)","v":144},{"$f":"IFERROR($E33*SUMIF('Daily Log'!$U$18:$U$1017,$B33,'Daily Log'!$V$18:$V$1017),0)","v":84},{"$f":"IFERROR($E33*SUMIF('Daily Log'!#REF!,$B33,'Daily Log'!#REF!),0)","v":0},{"$f":"IFERROR($E33*SUMIF('Daily Log'!#REF!,$B33,'Daily Log'!#REF!),0)","v":0},{"$f":"IFERROR($E33*SUMIF('Daily Log'!#REF!,$B33,'Daily Log'!#REF!),0)","v":0},{"$f":"IFERROR($E33*SUMIF('Daily Log'!#REF!,$B33,'Daily Log'!#REF!),0)","v":0},{"$f":"IFERROR($E33*SUMIF('Daily Log'!#REF!,$B33,'Daily Log'!#REF!),0)","v":0}]
[null,"BA05 N : 4BP MEMBER",null,"BEER",12,0,{"$f":"IFERROR($E34*SUMIF('Daily Log'!#REF!,$B34,'Daily Log'!#REF!),0)","v":0},{"$f":"IFERROR($E34*SUMIF('Daily Log'!#REF!,$B34,'Daily Log'!#REF!),0)","v":0},{"$f":"IFERROR($E34*SUMIF('Daily Log'!#REF!,$B34,'Daily Log'!#REF!),0)","v":0},{"$f":"IFERROR($E34*SUMIF('Daily Log'!#REF!,$B34,'Daily Log'!#REF!),0)","v":0},{"$f":"IFERROR($E34*SUMIF('Daily Log'!#REF!,$B34,'Daily Log'!#REF!),0)","v":0},{"$f":"IFERROR($E34*SUMIF('Daily Log'!#REF!,$B34,'Daily Log'!#REF!),0)","v":0},{"$f":"IFERROR($E34*SUMIF('Daily Log'!#REF!,$B34,'Daily Log'!#REF!),0)","v":0},{"$f":"IFERROR($E34*SUMIF('Daily Log'!#REF!,$B34,'Daily Log'!#REF!),0)","v":0},{"$f":"IFERROR($E34*SUMIF('Daily Log'!#REF!,$B34,'Daily Log'!#REF!),0)","v":0},{"$f":"IFERROR($E34*SUMIF('Daily Log'!#REF!,$B34,'Daily Log'!#REF!),0)","v":0},{"$f":"IFERROR($E34*SUMIF('Daily Log'!#REF!,$B34,'Daily Log'!#REF!),0)","v":0},{"$f":"IFERROR($E34*SUMIF('Daily Log'!#REF!,$B34,'Daily Log'!#REF!),0)","v":0},{"$f":"IFERROR($E34*SUMIF('Daily Log'!#REF!,$B34,'Daily Log'!#REF!),0)","v":0},{"$f":"IFERROR($E34*SUMIF('Daily Log'!#REF!,$B34,'Daily Log'!#REF!),0)","v":0},{"$f":"IFERROR($E34*SUMIF('Daily Log'!#REF!,$B34,'Daily Log'!#REF!),0)","v":0},{"$f":"IFERROR($E34*SUMIF('Daily Log'!#REF!,$B34,'Daily Log'!#REF!),0)","v":0},{"$f":"IFERROR($E34*SUMIF('Daily Log'!#REF!,$B34,'Daily Log'!#REF!),0)","v":0},{"$f":"IFERROR($E34*SUMIF('Daily Log'!#REF!,$B34,'Daily Log'!#REF!),0)","v":0},{"$f":"IFERROR($E34*SUMIF('Daily Log'!#REF!,$B34,'Daily Log'!#REF!),0)","v":0},{"$f":"IFERROR($E34*SUMIF('Daily Log'!$C$18:$C$1017,$B34,'Daily Log'!$D$18:$D$1017),0)","v":0},{"$f":"IFERROR($E34*SUMIF('Daily Log'!$F$18:$F$1017,$B34,'Daily Log'!$G$18:$G$1017),0)","v":0},{"$f":"IFERROR($E34*SUMIF('Daily Log'!$I$18:$I$1017,$B34,'Daily Log'!$J$18:$J$1017),0)","v":0},{"$f":"IFERROR($E34*SUMIF('Daily Log'!$L$18:$L$1017,$B34,'Daily Log'!$M$18:$M$1017),0)","v":0},{"$f":"IFERROR($E34*SUMIF('Daily Log'!$O$18:$O$1017,$B34,'Daily Log'!$P$18:$P$1017),0)","v":0},{"$f":"IFERROR($E34*SUMIF('Daily Log'!$R$18:$R$1017,$B34,'Daily Log'!$S$18:$S$1017),0)","v":0},{"$f":"IFERROR($E34*SUMIF('Daily Log'!$U$18:$U$1017,$B34,'Daily Log'!$V$18:$V$1017),0)","v":0},{"$f":"IFERROR($E34*SUMIF('Daily Log'!#REF!,$B34,'Daily Log'!#REF!),0)","v":0},{"$f":"IFERROR($E34*SUMIF('Daily Log'!#REF!,$B34,'Daily Log'!#REF!),0)","v":0},{"$f":"IFERROR($E34*SUMIF('Daily Log'!#REF!,$B34,'Daily Log'!#REF!),0)","v":0},{"$f":"IFERROR($E34*SUMIF('Daily Log'!#REF!,$B34,'Daily Log'!#REF!),0)","v":0},{"$f":"IFERROR($E34*SUMIF('Daily Log'!#REF!,$B34,'Daily Log'!#REF!),0)","v":0}]
[null,"BA06 M : 4BP",null,"BEER",12,132,{"$f":"IFERROR($E35*SUMIF('Daily Log'!#REF!,$B35,'Daily Log'!#REF!),0)","v":0},{"$f":"IFERROR($E35*SUMIF('Daily Log'!#REF!,$B35,'Daily Log'!#REF!),0)","v":0},{"$f":"IFERROR($E35*SUMIF('Daily Log'!#REF!,$B35,'Daily Log'!#REF!),0)","v":0},{"$f":"IFERROR($E35*SUMIF('Daily Log'!#REF!,$B35,'Daily Log'!#REF!),0)","v":0},{"$f":"IFERROR($E35*SUMIF('Daily Log'!#REF!,$B35,'Daily Log'!#REF!),0)","v":0},{"$f":"IFERROR($E35*SUMIF('Daily Log'!#REF!,$B35,'Daily Log'!#REF!),0)","v":0},{"$f":"IFERROR($E35*SUMIF('Daily Log'!#REF!,$B35,'Daily Log'!#REF!),0)","v":0},{"$f":"IFERROR($E35*SUMIF('Daily Log'!#REF!,$B35,'Daily Log'!#REF!),0)","v":0},{"$f":"IFERROR($E35*SUMIF('Daily Log'!#REF!,$B35,'Daily Log'!#REF!),0)","v":0},{"$f":"IFERROR($E35*SUMIF('Daily Log'!#REF!,$B35,'Daily Log'!#REF!),0)","v":0},{"$f":"IFERROR($E35*SUMIF('Daily Log'!#REF!,$B35,'Daily Log'!#REF!),0)","v":0},{"$f":"IFERROR($E35*SUMIF('Daily Log'!#REF!,$B35,'Daily Log'!#REF!),0)","v":0},{"$f":"IFERROR($E35*SUMIF('Daily Log'!#REF!,$B35,'Daily Log'!#REF!),0)","v":0},{"$f":"IFERROR($E35*SUMIF('Daily Log'!#REF!,$B35,'Daily Log'!#REF!),0)","v":0},{"$f":"IFERROR($E35*SUMIF('Daily Log'!#REF!,$B35,'Daily Log'!#REF!),0)","v":0},{"$f":"IFERROR($E35*SUMIF('Daily Log'!#REF!,$B35,'Daily Log'!#REF!),0)","v":0},{"$f":"IFERROR($E35*SUMIF('Daily Log'!#REF!,$B35,'Daily Log'!#REF!),0)","v":0},{"$f":"IFERROR($E35*SUMIF('Daily Log'!#REF!,$B35,'Daily Log'!#REF!),0)","v":0},{"$f":"IFERROR($E35*SUMIF('Daily Log'!#REF!,$B35,'Daily Log'!#REF!),0)","v":0},{"$f":"IFERROR($E35*SUMIF('Daily Log'!$C$18:$C$1017,$B35,'Daily Log'!$D$18:$D$1017),0)","v":0},{"$f":"IFERROR($E35*SUMIF('Daily Log'!$F$18:$F$1017,$B35,'Daily Log'!$G$18:$G$1017),0)","v":12},{"$f":"IFERROR($E35*SUMIF('Daily Log'!$I$18:$I$1017,$B35,'Daily Log'!$J$18:$J$1017),0)","v":0},{"$f":"IFERROR($E35*SUMIF('Daily Log'!$L$18:$L$1017,$B35,'Daily Log'!$M$18:$M$1017),0)","v":24},{"$f":"IFERROR($E35*SUMIF('Daily Log'!$O$18:$O$1017,$B35,'Daily Log'!$P$18:$P$1017),0)","v":12},{"$f":"IFERROR($E35*SUMIF('Daily Log'!$R$18:$R$1017,$B35,'Daily Log'!$S$18:$S$1017),0)","v":84},{"$f":"IFERROR($E35*SUMIF('Daily Log'!$U$18:$U$1017,$B35,'Daily Log'!$V$18:$V$1017),0)","v":0},{"$f":"IFERROR($E35*SUMIF('Daily Log'!#REF!,$B35,'Daily Log'!#REF!),0)","v":0},{"$f":"IFERROR($E35*SUMIF('Daily Log'!#REF!,$B35,'Daily Log'!#REF!),0)","v":0},{"$f":"IFERROR($E35*SUMIF('Daily Log'!#REF!,$B35,'Daily Log'!#REF!),0)","v":0},{"$f":"IFERROR($E35*SUMIF('Daily Log'!#REF!,$B35,'Daily Log'!#REF!),0)","v":0},{"$f":"IFERROR($E35*SUMIF('Daily Log'!#REF!,$B35,'Daily Log'!#REF!),0)","v":0}]
[null,"BA07 M : 4BP MEMBER",null,"BEER",12,0,{"$f":"IFERROR($E36*SUMIF('Daily Log'!#REF!,$B36,'Daily Log'!#REF!),0)","v":0},{"$f":"IFERROR($E36*SUMIF('Daily Log'!#REF!,$B36,'Daily Log'!#REF!),0)","v":0},{"$f":"IFERROR($E36*SUMIF('Daily Log'!#REF!,$B36,'Daily Log'!#REF!),0)","v":0},{"$f":"IFERROR($E36*SUMIF('Daily Log'!#REF!,$B36,'Daily Log'!#REF!),0)","v":0},{"$f":"IFERROR($E36*SUMIF('Daily Log'!#REF!,$B36,'Daily Log'!#REF!),0)","v":0},{"$f":"IFERROR($E36*SUMIF('Daily Log'!#REF!,$B36,'Daily Log'!#REF!),0)","v":0},{"$f":"IFERROR($E36*SUMIF('Daily Log'!#REF!,$B36,'Daily Log'!#REF!),0)","v":0},{"$f":"IFERROR($E36*SUMIF('Daily Log'!#REF!,$B36,'Daily Log'!#REF!),0)","v":0},{"$f":"IFERROR($E36*SUMIF('Daily Log'!#REF!,$B36,'Daily Log'!#REF!),0)","v":0},{"$f":"IFERROR($E36*SUMIF('Daily Log'!#REF!,$B36,'Daily Log'!#REF!),0)","v":0},{"$f":"IFERROR($E36*SUMIF('Daily Log'!#REF!,$B36,'Daily Log'!#REF!),0)","v":0},{"$f":"IFERROR($E36*SUMIF('Daily Log'!#REF!,$B36,'Daily Log'!#REF!),0)","v":0},{"$f":"IFERROR($E36*SUMIF('Daily Log'!#REF!,$B36,'Daily Log'!#REF!),0)","v":0},{"$f":"IFERROR($E36*SUMIF('Daily Log'!#REF!,$B36,'Daily Log'!#REF!),0)","v":0},{"$f":"IFERROR($E36*SUMIF('Daily Log'!#REF!,$B36,'Daily Log'!#REF!),0)","v":0},{"$f":"IFERROR($E36*SUMIF('Daily Log'!#REF!,$B36,'Daily Log'!#REF!),0)","v":0},{"$f":"IFERROR($E36*SUMIF('Daily Log'!#REF!,$B36,'Daily Log'!#REF!),0)","v":0},{"$f":"IFERROR($E36*SUMIF('Daily Log'!#REF!,$B36,'Daily Log'!#REF!),0)","v":0},{"$f":"IFERROR($E36*SUMIF('Daily Log'!#REF!,$B36,'Daily Log'!#REF!),0)","v":0},{"$f":"IFERROR($E36*SUMIF('Daily Log'!$C$18:$C$1017,$B36,'Daily Log'!$D$18:$D$1017),0)","v":0},{"$f":"IFERROR($E36*SUMIF('Daily Log'!$F$18:$F$1017,$B36,'Daily Log'!$G$18:$G$1017),0)","v":0},{"$f":"IFERROR($E36*SUMIF('Daily Log'!$I$18:$I$1017,$B36,'Daily Log'!$J$18:$J$1017),0)","v":0},{"$f":"IFERROR($E36*SUMIF('Daily Log'!$L$18:$L$1017,$B36,'Daily Log'!$M$18:$M$1017),0)","v":0},{"$f":"IFERROR($E36*SUMIF('Daily Log'!$O$18:$O$1017,$B36,'Daily Log'!$P$18:$P$1017),0)","v":0},{"$f":"IFERROR($E36*SUMIF('Daily Log'!$R$18:$R$1017,$B36,'Daily Log'!$S$18:$S$1017),0)","v":0},{"$f":"IFERROR($E36*SUMIF('Daily Log'!$U$18:$U$1017,$B36,'Daily Log'!$V$18:$V$1017),0)","v":0},{"$f":"IFERROR($E36*SUMIF('Daily Log'!#REF!,$B36,'Daily Log'!#REF!),0)","v":0},{"$f":"IFERROR($E36*SUMIF('Daily Log'!#REF!,$B36,'Daily Log'!#REF!),0)","v":0},{"$f":"IFERROR($E36*SUMIF('Daily Log'!#REF!,$B36,'Daily Log'!#REF!),0)","v":0},{"$f":"IFERROR($E36*SUMIF('Daily Log'!#REF!,$B36,'Daily Log'!#REF!),0)","v":0},{"$f":"IFERROR($E36*SUMIF('Daily Log'!#REF!,$B36,'Daily Log'!#REF!),0)","v":0}]
[null,"BA08 GUINNESS BTL",null,"BEER",1,2,{"$f":"IFERROR($E37*SUMIF('Daily Log'!#REF!,$B37,'Daily Log'!#REF!),0)","v":0},{"$f":"IFERROR($E37*SUMIF('Daily Log'!#REF!,$B37,'Daily Log'!#REF!),0)","v":0},{"$f":"IFERROR($E37*SUMIF('Daily Log'!#REF!,$B37,'Daily Log'!#REF!),0)","v":0},{"$f":"IFERROR($E37*SUMIF('Daily Log'!#REF!,$B37,'Daily Log'!#REF!),0)","v":0},{"$f":"IFERROR($E37*SUMIF('Daily Log'!#REF!,$B37,'Daily Log'!#REF!),0)","v":0},{"$f":"IFERROR($E37*SUMIF('Daily Log'!#REF!,$B37,'Daily Log'!#REF!),0)","v":0},{"$f":"IFERROR($E37*SUMIF('Daily Log'!#REF!,$B37,'Daily Log'!#REF!),0)","v":0},{"$f":"IFERROR($E37*SUMIF('Daily Log'!#REF!,$B37,'Daily Log'!#REF!),0)","v":0},{"$f":"IFERROR($E37*SUMIF('Daily Log'!#REF!,$B37,'Daily Log'!#REF!),0)","v":0},{"$f":"IFERROR($E37*SUMIF('Daily Log'!#REF!,$B37,'Daily Log'!#REF!),0)","v":0},{"$f":"IFERROR($E37*SUMIF('Daily Log'!#REF!,$B37,'Daily Log'!#REF!),0)","v":0},{"$f":"IFERROR($E37*SUMIF('Daily Log'!#REF!,$B37,'Daily Log'!#REF!),0)","v":0},{"$f":"IFERROR($E37*SUMIF('Daily Log'!#REF!,$B37,'Daily Log'!#REF!),0)","v":0},{"$f":"IFERROR($E37*SUMIF('Daily Log'!#REF!,$B37,'Daily Log'!#REF!),0)","v":0},{"$f":"IFERROR($E37*SUMIF('Daily Log'!#REF!,$B37,'Daily Log'!#REF!),0)","v":0},{"$f":"IFERROR($E37*SUMIF('Daily Log'!#REF!,$B37,'Daily Log'!#REF!),0)","v":0},{"$f":"IFERROR($E37*SUMIF('Daily Log'!#REF!,$B37,'Daily Log'!#REF!),0)","v":0},{"$f":"IFERROR($E37*SUMIF('Daily Log'!#REF!,$B37,'Daily Log'!#REF!),0)","v":0},{"$f":"IFERROR($E37*SUMIF('Daily Log'!#REF!,$B37,'Daily Log'!#REF!),0)","v":0},{"$f":"IFERROR($E37*SUMIF('Daily Log'!$C$18:$C$1017,$B37,'Daily Log'!$D$18:$D$1017),0)","v":0},{"$f":"IFERROR($E37*SUMIF('Daily Log'!$F$18:$F$1017,$B37,'Daily Log'!$G$18:$G$1017),0)","v":0},{"$f":"IFERROR($E37*SUMIF('Daily Log'!$I$18:$I$1017,$B37,'Daily Log'!$J$18:$J$1017),0)","v":1},{"$f":"IFERROR($E37*SUMIF('Daily Log'!$L$18:$L$1017,$B37,'Daily Log'!$M$18:$M$1017),0)","v":1},{"$f":"IFERROR($E37*SUMIF('Daily Log'!$O$18:$O$1017,$B37,'Daily Log'!$P$18:$P$1017),0)","v":0},{"$f":"IFERROR($E37*SUMIF('Daily Log'!$R$18:$R$1017,$B37,'Daily Log'!$S$18:$S$1017),0)","v":0},{"$f":"IFERROR($E37*SUMIF('Daily Log'!$U$18:$U$1017,$B37,'Daily Log'!$V$18:$V$1017),0)","v":0},{"$f":"IFERROR($E37*SUMIF('Daily Log'!#REF!,$B37,'Daily Log'!#REF!),0)","v":0},{"$f":"IFERROR($E37*SUMIF('Daily Log'!#REF!,$B37,'Daily Log'!#REF!),0)","v":0},{"$f":"IFERROR($E37*SUMIF('Daily Log'!#REF!,$B37,'Daily Log'!#REF!),0)","v":0},{"$f":"IFERROR($E37*SUMIF('Daily Log'!#REF!,$B37,'Daily Log'!#REF!),0)","v":0},{"$f":"IFERROR($E37*SUMIF('Daily Log'!#REF!,$B37,'Daily Log'!#REF!),0)","v":0}]
[null,"BA09 GUINNESS BKT",null,"BEER",4,40,{"$f":"IFERROR($E38*SUMIF('Daily Log'!#REF!,$B38,'Daily Log'!#REF!),0)","v":0},{"$f":"IFERROR($E38*SUMIF('Daily Log'!#REF!,$B38,'Daily Log'!#REF!),0)","v":0},{"$f":"IFERROR($E38*SUMIF('Daily Log'!#REF!,$B38,'Daily Log'!#REF!),0)","v":0},{"$f":"IFERROR($E38*SUMIF('Daily Log'!#REF!,$B38,'Daily Log'!#REF!),0)","v":0},{"$f":"IFERROR($E38*SUMIF('Daily Log'!#REF!,$B38,'Daily Log'!#REF!),0)","v":0},{"$f":"IFERROR($E38*SUMIF('Daily Log'!#REF!,$B38,'Daily Log'!#REF!),0)","v":0},{"$f":"IFERROR($E38*SUMIF('Daily Log'!#REF!,$B38,'Daily Log'!#REF!),0)","v":0},{"$f":"IFERROR($E38*SUMIF('Daily Log'!#REF!,$B38,'Daily Log'!#REF!),0)","v":0},{"$f":"IFERROR($E38*SUMIF('Daily Log'!#REF!,$B38,'Daily Log'!#REF!),0)","v":0},{"$f":"IFERROR($E38*SUMIF('Daily Log'!#REF!,$B38,'Daily Log'!#REF!),0)","v":0},{"$f":"IFERROR($E38*SUMIF('Daily Log'!#REF!,$B38,'Daily Log'!#REF!),0)","v":0},{"$f":"IFERROR($E38*SUMIF('Daily Log'!#REF!,$B38,'Daily Log'!#REF!),0)","v":0},{"$f":"IFERROR($E38*SUMIF('Daily Log'!#REF!,$B38,'Daily Log'!#REF!),0)","v":0},{"$f":"IFERROR($E38*SUMIF('Daily Log'!#REF!,$B38,'Daily Log'!#REF!),0)","v":0},{"$f":"IFERROR($E38*SUMIF('Daily Log'!#REF!,$B38,'Daily Log'!#REF!),0)","v":0},{"$f":"IFERROR($E38*SUMIF('Daily Log'!#REF!,$B38,'Daily Log'!#REF!),0)","v":0},{"$f":"IFERROR($E38*SUMIF('Daily Log'!#REF!,$B38,'Daily Log'!#REF!),0)","v":0},{"$f":"IFERROR($E38*SUMIF('Daily Log'!#REF!,$B38,'Daily Log'!#REF!),0)","v":0},{"$f":"IFERROR($E38*SUMIF('Daily Log'!#REF!,$B38,'Daily Log'!#REF!),0)","v":0},{"$f":"IFERROR($E38*SUMIF('Daily Log'!$C$18:$C$1017,$B38,'Daily Log'!$D$18:$D$1017),0)","v":4},{"$f":"IFERROR($E38*SUMIF('Daily Log'!$F$18:$F$1017,$B38,'Daily Log'!$G$18:$G$1017),0)","v":0},{"$f":"IFERROR($E38*SUMIF('Daily Log'!$I$18:$I$1017,$B38,'Daily Log'!$J$18:$J$1017),0)","v":12},{"$f":"IFERROR($E38*SUMIF('Daily Log'!$L$18:$L$1017,$B38,'Daily Log'!$M$18:$M$1017),0)","v":12},{"$f":"IFERROR($E38*SUMIF('Daily Log'!$O$18:$O$1017,$B38,'Daily Log'!$P$18:$P$1017),0)","v":0},{"$f":"IFERROR($E38*SUMIF('Daily Log'!$R$18:$R$1017,$B38,'Daily Log'!$S$18:$S$1017),0)","v":4},{"$f":"IFERROR($E38*SUMIF('Daily Log'!$U$18:$U$1017,$B38,'Daily Log'!$V$18:$V$1017),0)","v":8},{"$f":"IFERROR($E38*SUMIF('Daily Log'!#REF!,$B38,'Daily Log'!#REF!),0)","v":0},{"$f":"IFERROR($E38*SUMIF('Daily Log'!#REF!,$B38,'Daily Log'!#REF!),0)","v":0},{"$f":"IFERROR($E38*SUMIF('Daily Log'!#REF!,$B38,'Daily Log'!#REF!),0)","v":0},{"$f":"IFERROR($E38*SUMIF('Daily Log'!#REF!,$B38,'Daily Log'!#REF!),0)","v":0},{"$f":"IFERROR($E38*SUMIF('Daily Log'!#REF!,$B38,'Daily Log'!#REF!),0)","v":0}]
[null,"BA10 GUINNESS RND",null,"BEER",12,12,{"$f":"IFERROR($E39*SUMIF('Daily Log'!#REF!,$B39,'Daily Log'!#REF!),0)","v":0},{"$f":"IFERROR($E39*SUMIF('Daily Log'!#REF!,$B39,'Daily Log'!#REF!),0)","v":0},{"$f":"IFERROR($E39*SUMIF('Daily Log'!#REF!,$B39,'Daily Log'!#REF!),0)","v":0},{"$f":"IFERROR($E39*SUMIF('Daily Log'!#REF!,$B39,'Daily Log'!#REF!),0)","v":0},{"$f":"IFERROR($E39*SUMIF('Daily Log'!#REF!,$B39,'Daily Log'!#REF!),0)","v":0},{"$f":"IFERROR($E39*SUMIF('Daily Log'!#REF!,$B39,'Daily Log'!#REF!),0)","v":0},{"$f":"IFERROR($E39*SUMIF('Daily Log'!#REF!,$B39,'Daily Log'!#REF!),0)","v":0},{"$f":"IFERROR($E39*SUMIF('Daily Log'!#REF!,$B39,'Daily Log'!#REF!),0)","v":0},{"$f":"IFERROR($E39*SUMIF('Daily Log'!#REF!,$B39,'Daily Log'!#REF!),0)","v":0},{"$f":"IFERROR($E39*SUMIF('Daily Log'!#REF!,$B39,'Daily Log'!#REF!),0)","v":0},{"$f":"IFERROR($E39*SUMIF('Daily Log'!#REF!,$B39,'Daily Log'!#REF!),0)","v":0},{"$f":"IFERROR($E39*SUMIF('Daily Log'!#REF!,$B39,'Daily Log'!#REF!),0)","v":0},{"$f":"IFERROR($E39*SUMIF('Daily Log'!#REF!,$B39,'Daily Log'!#REF!),0)","v":0},{"$f":"IFERROR($E39*SUMIF('Daily Log'!#REF!,$B39,'Daily Log'!#REF!),0)","v":0},{"$f":"IFERROR($E39*SUMIF('Daily Log'!#REF!,$B39,'Daily Log'!#REF!),0)","v":0},{"$f":"IFERROR($E39*SUMIF('Daily Log'!#REF!,$B39,'Daily Log'!#REF!),0)","v":0},{"$f":"IFERROR($E39*SUMIF('Daily Log'!#REF!,$B39,'Daily Log'!#REF!),0)","v":0},{"$f":"IFERROR($E39*SUMIF('Daily Log'!#REF!,$B39,'Daily Log'!#REF!),0)","v":0},{"$f":"IFERROR($E39*SUMIF('Daily Log'!#REF!,$B39,'Daily Log'!#REF!),0)","v":0},{"$f":"IFERROR($E39*SUMIF('Daily Log'!$C$18:$C$1017,$B39,'Daily Log'!$D$18:$D$1017),0)","v":0},{"$f":"IFERROR($E39*SUMIF('Daily Log'!$F$18:$F$1017,$B39,'Daily Log'!$G$18:$G$1017),0)","v":0},{"$f":"IFERROR($E39*SUMIF('Daily Log'!$I$18:$I$1017,$B39,'Daily Log'!$J$18:$J$1017),0)","v":0},{"$f":"IFERROR($E39*SUMIF('Daily Log'!$L$18:$L$1017,$B39,'Daily Log'!$M$18:$M$1017),0)","v":0},{"$f":"IFERROR($E39*SUMIF('Daily Log'!$O$18:$O$1017,$B39,'Daily Log'!$P$18:$P$1017),0)","v":12},{"$f":"IFERROR($E39*SUMIF('Daily Log'!$R$18:$R$1017,$B39,'Daily Log'!$S$18:$S$1017),0)","v":0},{"$f":"IFERROR($E39*SUMIF('Daily Log'!$U$18:$U$1017,$B39,'Daily Log'!$V$18:$V$1017),0)","v":0},{"$f":"IFERROR($E39*SUMIF('Daily Log'!#REF!,$B39,'Daily Log'!#REF!),0)","v":0},{"$f":"IFERROR($E39*SUMIF('Daily Log'!#REF!,$B39,'Daily Log'!#REF!),0)","v":0},{"$f":"IFERROR($E39*SUMIF('Daily Log'!#REF!,$B39,'Daily Log'!#REF!),0)","v":0},{"$f":"IFERROR($E39*SUMIF('Daily Log'!#REF!,$B39,'Daily Log'!#REF!),0)","v":0},{"$f":"IFERROR($E39*SUMIF('Daily Log'!#REF!,$B39,'Daily Log'!#REF!),0)","v":0}]
[null,"BA11 HEINEKEN BTL",null,"BEER",1,6,{"$f":"IFERROR($E40*SUMIF('Daily Log'!#REF!,$B40,'Daily Log'!#REF!),0)","v":0},{"$f":"IFERROR($E40*SUMIF('Daily Log'!#REF!,$B40,'Daily Log'!#REF!),0)","v":0},{"$f":"IFERROR($E40*SUMIF('Daily Log'!#REF!,$B40,'Daily Log'!#REF!),0)","v":0},{"$f":"IFERROR($E40*SUMIF('Daily Log'!#REF!,$B40,'Daily Log'!#REF!),0)","v":0},{"$f":"IFERROR($E40*SUMIF('Daily Log'!#REF!,$B40,'Daily Log'!#REF!),0)","v":0},{"$f":"IFERROR($E40*SUMIF('Daily Log'!#REF!,$B40,'Daily Log'!#REF!),0)","v":0},{"$f":"IFERROR($E40*SUMIF('Daily Log'!#REF!,$B40,'Daily Log'!#REF!),0)","v":0},{"$f":"IFERROR($E40*SUMIF('Daily Log'!#REF!,$B40,'Daily Log'!#REF!),0)","v":0},{"$f":"IFERROR($E40*SUMIF('Daily Log'!#REF!,$B40,'Daily Log'!#REF!),0)","v":0},{"$f":"IFERROR($E40*SUMIF('Daily Log'!#REF!,$B40,'Daily Log'!#REF!),0)","v":0},{"$f":"IFERROR($E40*SUMIF('Daily Log'!#REF!,$B40,'Daily Log'!#REF!),0)","v":0},{"$f":"IFERROR($E40*SUMIF('Daily Log'!#REF!,$B40,'Daily Log'!#REF!),0)","v":0},{"$f":"IFERROR($E40*SUMIF('Daily Log'!#REF!,$B40,'Daily Log'!#REF!),0)","v":0},{"$f":"IFERROR($E40*SUMIF('Daily Log'!#REF!,$B40,'Daily Log'!#REF!),0)","v":0},{"$f":"IFERROR($E40*SUMIF('Daily Log'!#REF!,$B40,'Daily Log'!#REF!),0)","v":0},{"$f":"IFERROR($E40*SUMIF('Daily Log'!#REF!,$B40,'Daily Log'!#REF!),0)","v":0},{"$f":"IFERROR($E40*SUMIF('Daily Log'!#REF!,$B40,'Daily Log'!#REF!),0)","v":0},{"$f":"IFERROR($E40*SUMIF('Daily Log'!#REF!,$B40,'Daily Log'!#REF!),0)","v":0},{"$f":"IFERROR($E40*SUMIF('Daily Log'!#REF!,$B40,'Daily Log'!#REF!),0)","v":0},{"$f":"IFERROR($E40*SUMIF('Daily Log'!$C$18:$C$1017,$B40,'Daily Log'!$D$18:$D$1017),0)","v":2},{"$f":"IFERROR($E40*SUMIF('Daily Log'!$F$18:$F$1017,$B40,'Daily Log'!$G$18:$G$1017),0)","v":2},{"$f":"IFERROR($E40*SUMIF('Daily Log'!$I$18:$I$1017,$B40,'Daily Log'!$J$18:$J$1017),0)","v":0},{"$f":"IFERROR($E40*SUMIF('Daily Log'!$L$18:$L$1017,$B40,'Daily Log'!$M$18:$M$1017),0)","v":0},{"$f":"IFERROR($E40*SUMIF('Daily Log'!$O$18:$O$1017,$B40,'Daily Log'!$P$18:$P$1017),0)","v":0},{"$f":"IFERROR($E40*SUMIF('Daily Log'!$R$18:$R$1017,$B40,'Daily Log'!$S$18:$S$1017),0)","v":0},{"$f":"IFERROR($E40*SUMIF('Daily Log'!$U$18:$U$1017,$B40,'Daily Log'!$V$18:$V$1017),0)","v":2},{"$f":"IFERROR($E40*SUMIF('Daily Log'!#REF!,$B40,'Daily Log'!#REF!),0)","v":0},{"$f":"IFERROR($E40*SUMIF('Daily Log'!#REF!,$B40,'Daily Log'!#REF!),0)","v":0},{"$f":"IFERROR($E40*SUMIF('Daily Log'!#REF!,$B40,'Daily Log'!#REF!),0)","v":0},{"$f":"IFERROR($E40*SUMIF('Daily Log'!#REF!,$B40,'Daily Log'!#REF!),0)","v":0},{"$f":"IFERROR($E40*SUMIF('Daily Log'!#REF!,$B40,'Daily Log'!#REF!),0)","v":0}]
[null,"BA12 HEINEKEN BKT",null,"BEER",4,76,{"$f":"IFERROR($E41*SUMIF('Daily Log'!#REF!,$B41,'Daily Log'!#REF!),0)","v":0},{"$f":"IFERROR($E41*SUMIF('Daily Log'!#REF!,$B41,'Daily Log'!#REF!),0)","v":0},{"$f":"IFERROR($E41*SUMIF('Daily Log'!#REF!,$B41,'Daily Log'!#REF!),0)","v":0},{"$f":"IFERROR($E41*SUMIF('Daily Log'!#REF!,$B41,'Daily Log'!#REF!),0)","v":0},{"$f":"IFERROR($E41*SUMIF('Daily Log'!#REF!,$B41,'Daily Log'!#REF!),0)","v":0},{"$f":"IFERROR($E41*SUMIF('Daily Log'!#REF!,$B41,'Daily Log'!#REF!),0)","v":0},{"$f":"IFERROR($E41*SUMIF('Daily Log'!#REF!,$B41,'Daily Log'!#REF!),0)","v":0},{"$f":"IFERROR($E41*SUMIF('Daily Log'!#REF!,$B41,'Daily Log'!#REF!),0)","v":0},{"$f":"IFERROR($E41*SUMIF('Daily Log'!#REF!,$B41,'Daily Log'!#REF!),0)","v":0},{"$f":"IFERROR($E41*SUMIF('Daily Log'!#REF!,$B41,'Daily Log'!#REF!),0)","v":0},{"$f":"IFERROR($E41*SUMIF('Daily Log'!#REF!,$B41,'Daily Log'!#REF!),0)","v":0},{"$f":"IFERROR($E41*SUMIF('Daily Log'!#REF!,$B41,'Daily Log'!#REF!),0)","v":0},{"$f":"IFERROR($E41*SUMIF('Daily Log'!#REF!,$B41,'Daily Log'!#REF!),0)","v":0},{"$f":"IFERROR($E41*SUMIF('Daily Log'!#REF!,$B41,'Daily Log'!#REF!),0)","v":0},{"$f":"IFERROR($E41*SUMIF('Daily Log'!#REF!,$B41,'Daily Log'!#REF!),0)","v":0},{"$f":"IFERROR($E41*SUMIF('Daily Log'!#REF!,$B41,'Daily Log'!#REF!),0)","v":0},{"$f":"IFERROR($E41*SUMIF('Daily Log'!#REF!,$B41,'Daily Log'!#REF!),0)","v":0},{"$f":"IFERROR($E41*SUMIF('Daily Log'!#REF!,$B41,'Daily Log'!#REF!),0)","v":0},{"$f":"IFERROR($E41*SUMIF('Daily Log'!#REF!,$B41,'Daily Log'!#REF!),0)","v":0},{"$f":"IFERROR($E41*SUMIF('Daily Log'!$C$18:$C$1017,$B41,'Daily Log'!$D$18:$D$1017),0)","v":4},{"$f":"IFERROR($E41*SUMIF('Daily Log'!$F$18:$F$1017,$B41,'Daily Log'!$G$18:$G$1017),0)","v":12},{"$f":"IFERROR($E41*SUMIF('Daily Log'!$I$18:$I$1017,$B41,'Daily Log'!$J$18:$J$1017),0)","v":12},{"$f":"IFERROR($E41*SUMIF('Daily Log'!$L$18:$L$1017,$B41,'Daily Log'!$M$18:$M$1017),0)","v":8},{"$f":"IFERROR($E41*SUMIF('Daily Log'!$O$18:$O$1017,$B41,'Daily Log'!$P$18:$P$1017),0)","v":20},{"$f":"IFERROR($E41*SUMIF('Daily Log'!$R$18:$R$1017,$B41,'Daily Log'!$S$18:$S$1017),0)","v":0},{"$f":"IFERROR($E41*SUMIF('Daily Log'!$U$18:$U$1017,$B41,'Daily Log'!$V$18:$V$1017),0)","v":20},{"$f":"IFERROR($E41*SUMIF('Daily Log'!#REF!,$B41,'Daily Log'!#REF!),0)","v":0},{"$f":"IFERROR($E41*SUMIF('Daily Log'!#REF!,$B41,'Daily Log'!#REF!),0)","v":0},{"$f":"IFERROR($E41*SUMIF('Daily Log'!#REF!,$B41,'Daily Log'!#REF!),0)","v":0},{"$f":"IFERROR($E41*SUMIF('Daily Log'!#REF!,$B41,'Daily Log'!#REF!),0)","v":0},{"$f":"IFERROR($E41*SUMIF('Daily Log'!#REF!,$B41,'Daily Log'!#REF!),0)","v":0}]
[null,"BA13 HEINEKEN RND",null,"BEER",12,144,{"$f":"IFERROR($E42*SUMIF('Daily Log'!#REF!,$B42,'Daily Log'!#REF!),0)","v":0},{"$f":"IFERROR($E42*SUMIF('Daily Log'!#REF!,$B42,'Daily Log'!#REF!),0)","v":0},{"$f":"IFERROR($E42*SUMIF('Daily Log'!#REF!,$B42,'Daily Log'!#REF!),0)","v":0},{"$f":"IFERROR($E42*SUMIF('Daily Log'!#REF!,$B42,'Daily Log'!#REF!),0)","v":0},{"$f":"IFERROR($E42*SUMIF('Daily Log'!#REF!,$B42,'Daily Log'!#REF!),0)","v":0},{"$f":"IFERROR($E42*SUMIF('Daily Log'!#REF!,$B42,'Daily Log'!#REF!),0)","v":0},{"$f":"IFERROR($E42*SUMIF('Daily Log'!#REF!,$B42,'Daily Log'!#REF!),0)","v":0},{"$f":"IFERROR($E42*SUMIF('Daily Log'!#REF!,$B42,'Daily Log'!#REF!),0)","v":0},{"$f":"IFERROR($E42*SUMIF('Daily Log'!#REF!,$B42,'Daily Log'!#REF!),0)","v":0},{"$f":"IFERROR($E42*SUMIF('Daily Log'!#REF!,$B42,'Daily Log'!#REF!),0)","v":0},{"$f":"IFERROR($E42*SUMIF('Daily Log'!#REF!,$B42,'Daily Log'!#REF!),0)","v":0},{"$f":"IFERROR($E42*SUMIF('Daily Log'!#REF!,$B42,'Daily Log'!#REF!),0)","v":0},{"$f":"IFERROR($E42*SUMIF('Daily Log'!#REF!,$B42,'Daily Log'!#REF!),0)","v":0},{"$f":"IFERROR($E42*SUMIF('Daily Log'!#REF!,$B42,'Daily Log'!#REF!),0)","v":0},{"$f":"IFERROR($E42*SUMIF('Daily Log'!#REF!,$B42,'Daily Log'!#REF!),0)","v":0},{"$f":"IFERROR($E42*SUMIF('Daily Log'!#REF!,$B42,'Daily Log'!#REF!),0)","v":0},{"$f":"IFERROR($E42*SUMIF('Daily Log'!#REF!,$B42,'Daily Log'!#REF!),0)","v":0},{"$f":"IFERROR($E42*SUMIF('Daily Log'!#REF!,$B42,'Daily Log'!#REF!),0)","v":0},{"$f":"IFERROR($E42*SUMIF('Daily Log'!#REF!,$B42,'Daily Log'!#REF!),0)","v":0},{"$f":"IFERROR($E42*SUMIF('Daily Log'!$C$18:$C$1017,$B42,'Daily Log'!$D$18:$D$1017),0)","v":24},{"$f":"IFERROR($E42*SUMIF('Daily Log'!$F$18:$F$1017,$B42,'Daily Log'!$G$18:$G$1017),0)","v":36},{"$f":"IFERROR($E42*SUMIF('Daily Log'!$I$18:$I$1017,$B42,'Daily Log'!$J$18:$J$1017),0)","v":12},{"$f":"IFERROR($E42*SUMIF('Daily Log'!$L$18:$L$1017,$B42,'Daily Log'!$M$18:$M$1017),0)","v":24},{"$f":"IFERROR($E42*SUMIF('Daily Log'!$O$18:$O$1017,$B42,'Daily Log'!$P$18:$P$1017),0)","v":0},{"$f":"IFERROR($E42*SUMIF('Daily Log'!$R$18:$R$1017,$B42,'Daily Log'!$S$18:$S$1017),0)","v":36},{"$f":"IFERROR($E42*SUMIF('Daily Log'!$U$18:$U$1017,$B42,'Daily Log'!$V$18:$V$1017),0)","v":12},{"$f":"IFERROR($E42*SUMIF('Daily Log'!#REF!,$B42,'Daily Log'!#REF!),0)","v":0},{"$f":"IFERROR($E42*SUMIF('Daily Log'!#REF!,$B42,'Daily Log'!#REF!),0)","v":0},{"$f":"IFERROR($E42*SUMIF('Daily Log'!#REF!,$B42,'Daily Log'!#REF!),0)","v":0},{"$f":"IFERROR($E42*SUMIF('Daily Log'!#REF!,$B42,'Daily Log'!#REF!),0)","v":0},{"$f":"IFERROR($E42*SUMIF('Daily Log'!#REF!,$B42,'Daily Log'!#REF!),0)","v":0}]
[null,"BA14 TIGER BTL",null,"BEER",1,7,{"$f":"IFERROR($E43*SUMIF('Daily Log'!#REF!,$B43,'Daily Log'!#REF!),0)","v":0},{"$f":"IFERROR($E43*SUMIF('Daily Log'!#REF!,$B43,'Daily Log'!#REF!),0)","v":0},{"$f":"IFERROR($E43*SUMIF('Daily Log'!#REF!,$B43,'Daily Log'!#REF!),0)","v":0},{"$f":"IFERROR($E43*SUMIF('Daily Log'!#REF!,$B43,'Daily Log'!#REF!),0)","v":0},{"$f":"IFERROR($E43*SUMIF('Daily Log'!#REF!,$B43,'Daily Log'!#REF!),0)","v":0},{"$f":"IFERROR($E43*SUMIF('Daily Log'!#REF!,$B43,'Daily Log'!#REF!),0)","v":0},{"$f":"IFERROR($E43*SUMIF('Daily Log'!#REF!,$B43,'Daily Log'!#REF!),0)","v":0},{"$f":"IFERROR($E43*SUMIF('Daily Log'!#REF!,$B43,'Daily Log'!#REF!),0)","v":0},{"$f":"IFERROR($E43*SUMIF('Daily Log'!#REF!,$B43,'Daily Log'!#REF!),0)","v":0},{"$f":"IFERROR($E43*SUMIF('Daily Log'!#REF!,$B43,'Daily Log'!#REF!),0)","v":0},{"$f":"IFERROR($E43*SUMIF('Daily Log'!#REF!,$B43,'Daily Log'!#REF!),0)","v":0},{"$f":"IFERROR($E43*SUMIF('Daily Log'!#REF!,$B43,'Daily Log'!#REF!),0)","v":0},{"$f":"IFERROR($E43*SUMIF('Daily Log'!#REF!,$B43,'Daily Log'!#REF!),0)","v":0},{"$f":"IFERROR($E43*SUMIF('Daily Log'!#REF!,$B43,'Daily Log'!#REF!),0)","v":0},{"$f":"IFERROR($E43*SUMIF('Daily Log'!#REF!,$B43,'Daily Log'!#REF!),0)","v":0},{"$f":"IFERROR($E43*SUMIF('Daily Log'!#REF!,$B43,'Daily Log'!#REF!),0)","v":0},{"$f":"IFERROR($E43*SUMIF('Daily Log'!#REF!,$B43,'Daily Log'!#REF!),0)","v":0},{"$f":"IFERROR($E43*SUMIF('Daily Log'!#REF!,$B43,'Daily Log'!#REF!),0)","v":0},{"$f":"IFERROR($E43*SUMIF('Daily Log'!#REF!,$B43,'Daily Log'!#REF!),0)","v":0},{"$f":"IFERROR($E43*SUMIF('Daily Log'!$C$18:$C$1017,$B43,'Daily Log'!$D$18:$D$1017),0)","v":2},{"$f":"IFERROR($E43*SUMIF('Daily Log'!$F$18:$F$1017,$B43,'Daily Log'!$G$18:$G$1017),0)","v":0},{"$f":"IFERROR($E43*SUMIF('Daily Log'!$I$18:$I$1017,$B43,'Daily Log'!$J$18:$J$1017),0)","v":0},{"$f":"IFERROR($E43*SUMIF('Daily Log'!$L$18:$L$1017,$B43,'Daily Log'!$M$18:$M$1017),0)","v":0},{"$f":"IFERROR($E43*SUMIF('Daily Log'!$O$18:$O$1017,$B43,'Daily Log'!$P$18:$P$1017),0)","v":2},{"$f":"IFERROR($E43*SUMIF('Daily Log'!$R$18:$R$1017,$B43,'Daily Log'!$S$18:$S$1017),0)","v":0},{"$f":"IFERROR($E43*SUMIF('Daily Log'!$U$18:$U$1017,$B43,'Daily Log'!$V$18:$V$1017),0)","v":3},{"$f":"IFERROR($E43*SUMIF('Daily Log'!#REF!,$B43,'Daily Log'!#REF!),0)","v":0},{"$f":"IFERROR($E43*SUMIF('Daily Log'!#REF!,$B43,'Daily Log'!#REF!),0)","v":0},{"$f":"IFERROR($E43*SUMIF('Daily Log'!#REF!,$B43,'Daily Log'!#REF!),0)","v":0},{"$f":"IFERROR($E43*SUMIF('Daily Log'!#REF!,$B43,'Daily Log'!#REF!),0)","v":0},{"$f":"IFERROR($E43*SUMIF('Daily Log'!#REF!,$B43,'Daily Log'!#REF!),0)","v":0}]
[null,"BA15 TIGER BKT",null,"BEER",4,160,{"$f":"IFERROR($E44*SUMIF('Daily Log'!#REF!,$B44,'Daily Log'!#REF!),0)","v":0},{"$f":"IFERROR($E44*SUMIF('Daily Log'!#REF!,$B44,'Daily Log'!#REF!),0)","v":0},{"$f":"IFERROR($E44*SUMIF('Daily Log'!#REF!,$B44,'Daily Log'!#REF!),0)","v":0},{"$f":"IFERROR($E44*SUMIF('Daily Log'!#REF!,$B44,'Daily Log'!#REF!),0)","v":0},{"$f":"IFERROR($E44*SUMIF('Daily Log'!#REF!,$B44,'Daily Log'!#REF!),0)","v":0},{"$f":"IFERROR($E44*SUMIF('Daily Log'!#REF!,$B44,'Daily Log'!#REF!),0)","v":0},{"$f":"IFERROR($E44*SUMIF('Daily Log'!#REF!,$B44,'Daily Log'!#REF!),0)","v":0},{"$f":"IFERROR($E44*SUMIF('Daily Log'!#REF!,$B44,'Daily Log'!#REF!),0)","v":0},{"$f":"IFERROR($E44*SUMIF('Daily Log'!#REF!,$B44,'Daily Log'!#REF!),0)","v":0},{"$f":"IFERROR($E44*SUMIF('Daily Log'!#REF!,$B44,'Daily Log'!#REF!),0)","v":0},{"$f":"IFERROR($E44*SUMIF('Daily Log'!#REF!,$B44,'Daily Log'!#REF!),0)","v":0},{"$f":"IFERROR($E44*SUMIF('Daily Log'!#REF!,$B44,'Daily Log'!#REF!),0)","v":0},{"$f":"IFERROR($E44*SUMIF('Daily Log'!#REF!,$B44,'Daily Log'!#REF!),0)","v":0},{"$f":"IFERROR($E44*SUMIF('Daily Log'!#REF!,$B44,'Daily Log'!#REF!),0)","v":0},{"$f":"IFERROR($E44*SUMIF('Daily Log'!#REF!,$B44,'Daily Log'!#REF!),0)","v":0},{"$f":"IFERROR($E44*SUMIF('Daily Log'!#REF!,$B44,'Daily Log'!#REF!),0)","v":0},{"$f":"IFERROR($E44*SUMIF('Daily Log'!#REF!,$B44,'Daily Log'!#REF!),0)","v":0},{"$f":"IFERROR($E44*SUMIF('Daily Log'!#REF!,$B44,'Daily Log'!#REF!),0)","v":0},{"$f":"IFERROR($E44*SUMIF('Daily Log'!#REF!,$B44,'Daily Log'!#REF!),0)","v":0},{"$f":"IFERROR($E44*SUMIF('Daily Log'!$C$18:$C$1017,$B44,'Daily Log'!$D$18:$D$1017),0)","v":12},{"$f":"IFERROR($E44*SUMIF('Daily Log'!$F$18:$F$1017,$B44,'Daily Log'!$G$18:$G$1017),0)","v":32},{"$f":"IFERROR($E44*SUMIF('Daily Log'!$I$18:$I$1017,$B44,'Daily Log'!$J$18:$J$1017),0)","v":20},{"$f":"IFERROR($E44*SUMIF('Daily Log'!$L$18:$L$1017,$B44,'Daily Log'!$M$18:$M$1017),0)","v":16},{"$f":"IFERROR($E44*SUMIF('Daily Log'!$O$18:$O$1017,$B44,'Daily Log'!$P$18:$P$1017),0)","v":24},{"$f":"IFERROR($E44*SUMIF('Daily Log'!$R$18:$R$1017,$B44,'Daily Log'!$S$18:$S$1017),0)","v":24},{"$f":"IFERROR($E44*SUMIF('Daily Log'!$U$18:$U$1017,$B44,'Daily Log'!$V$18:$V$1017),0)","v":32},{"$f":"IFERROR($E44*SUMIF('Daily Log'!#REF!,$B44,'Daily Log'!#REF!),0)","v":0},{"$f":"IFERROR($E44*SUMIF('Daily Log'!#REF!,$B44,'Daily Log'!#REF!),0)","v":0},{"$f":"IFERROR($E44*SUMIF('Daily Log'!#REF!,$B44,'Daily Log'!#REF!),0)","v":0},{"$f":"IFERROR($E44*SUMIF('Daily Log'!#REF!,$B44,'Daily Log'!#REF!),0)","v":0},{"$f":"IFERROR($E44*SUMIF('Daily Log'!#REF!,$B44,'Daily Log'!#REF!),0)","v":0}]
[null,"BA16 TIGER RND",null,"BEER",12,324,{"$f":"IFERROR($E45*SUMIF('Daily Log'!#REF!,$B45,'Daily Log'!#REF!),0)","v":0},{"$f":"IFERROR($E45*SUMIF('Daily Log'!#REF!,$B45,'Daily Log'!#REF!),0)","v":0},{"$f":"IFERROR($E45*SUMIF('Daily Log'!#REF!,$B45,'Daily Log'!#REF!),0)","v":0},{"$f":"IFERROR($E45*SUMIF('Daily Log'!#REF!,$B45,'Daily Log'!#REF!),0)","v":0},{"$f":"IFERROR($E45*SUMIF('Daily Log'!#REF!,$B45,'Daily Log'!#REF!),0)","v":0},{"$f":"IFERROR($E45*SUMIF('Daily Log'!#REF!,$B45,'Daily Log'!#REF!),0)","v":0},{"$f":"IFERROR($E45*SUMIF('Daily Log'!#REF!,$B45,'Daily Log'!#REF!),0)","v":0},{"$f":"IFERROR($E45*SUMIF('Daily Log'!#REF!,$B45,'Daily Log'!#REF!),0)","v":0},{"$f":"IFERROR($E45*SUMIF('Daily Log'!#REF!,$B45,'Daily Log'!#REF!),0)","v":0},{"$f":"IFERROR($E45*SUMIF('Daily Log'!#REF!,$B45,'Daily Log'!#REF!),0)","v":0},{"$f":"IFERROR($E45*SUMIF('Daily Log'!#REF!,$B45,'Daily Log'!#REF!),0)","v":0},{"$f":"IFERROR($E45*SUMIF('Daily Log'!#REF!,$B45,'Daily Log'!#REF!),0)","v":0},{"$f":"IFERROR($E45*SUMIF('Daily Log'!#REF!,$B45,'Daily Log'!#REF!),0)","v":0},{"$f":"IFERROR($E45*SUMIF('Daily Log'!#REF!,$B45,'Daily Log'!#REF!),0)","v":0},{"$f":"IFERROR($E45*SUMIF('Daily Log'!#REF!,$B45,'Daily Log'!#REF!),0)","v":0},{"$f":"IFERROR($E45*SUMIF('Daily Log'!#REF!,$B45,'Daily Log'!#REF!),0)","v":0},{"$f":"IFERROR($E45*SUMIF('Daily Log'!#REF!,$B45,'Daily Log'!#REF!),0)","v":0},{"$f":"IFERROR($E45*SUMIF('Daily Log'!#REF!,$B45,'Daily Log'!#REF!),0)","v":0},{"$f":"IFERROR($E45*SUMIF('Daily Log'!#REF!,$B45,'Daily Log'!#REF!),0)","v":0},{"$f":"IFERROR($E45*SUMIF('Daily Log'!$C$18:$C$1017,$B45,'Daily Log'!$D$18:$D$1017),0)","v":0},{"$f":"IFERROR($E45*SUMIF('Daily Log'!$F$18:$F$1017,$B45,'Daily Log'!$G$18:$G$1017),0)","v":36},{"$f":"IFERROR($E45*SUMIF('Daily Log'!$I$18:$I$1017,$B45,'Daily Log'!$J$18:$J$1017),0)","v":0},{"$f":"IFERROR($E45*SUMIF('Daily Log'!$L$18:$L$1017,$B45,'Daily Log'!$M$18:$M$1017),0)","v":48},{"$f":"IFERROR($E45*SUMIF('Daily Log'!$O$18:$O$1017,$B45,'Daily Log'!$P$18:$P$1017),0)","v":108},{"$f":"IFERROR($E45*SUMIF('Daily Log'!$R$18:$R$1017,$B45,'Daily Log'!$S$18:$S$1017),0)","v":60},{"$f":"IFERROR($E45*SUMIF('Daily Log'!$U$18:$U$1017,$B45,'Daily Log'!$V$18:$V$1017),0)","v":72},{"$f":"IFERROR($E45*SUMIF('Daily Log'!#REF!,$B45,'Daily Log'!#REF!),0)","v":0},{"$f":"IFERROR($E45*SUMIF('Daily Log'!#REF!,$B45,'Daily Log'!#REF!),0)","v":0},{"$f":"IFERROR($E45*SUMIF('Daily Log'!#REF!,$B45,'Daily Log'!#REF!),0)","v":0},{"$f":"IFERROR($E45*SUMIF('Daily Log'!#REF!,$B45,'Daily Log'!#REF!),0)","v":0},{"$f":"IFERROR($E45*SUMIF('Daily Log'!#REF!,$B45,'Daily Log'!#REF!),0)","v":0}]
[null,"BA17 TIGER 3+1",null,"BEER",null,0,{"$f":"IFERROR($E46*SUMIF('Daily Log'!#REF!,$B46,'Daily Log'!#REF!),0)","v":0},{"$f":"IFERROR($E46*SUMIF('Daily Log'!#REF!,$B46,'Daily Log'!#REF!),0)","v":0},{"$f":"IFERROR($E46*SUMIF('Daily Log'!#REF!,$B46,'Daily Log'!#REF!),0)","v":0},{"$f":"IFERROR($E46*SUMIF('Daily Log'!#REF!,$B46,'Daily Log'!#REF!),0)","v":0},{"$f":"IFERROR($E46*SUMIF('Daily Log'!#REF!,$B46,'Daily Log'!#REF!),0)","v":0},{"$f":"IFERROR($E46*SUMIF('Daily Log'!#REF!,$B46,'Daily Log'!#REF!),0)","v":0},{"$f":"IFERROR($E46*SUMIF('Daily Log'!#REF!,$B46,'Daily Log'!#REF!),0)","v":0},{"$f":"IFERROR($E46*SUMIF('Daily Log'!#REF!,$B46,'Daily Log'!#REF!),0)","v":0},{"$f":"IFERROR($E46*SUMIF('Daily Log'!#REF!,$B46,'Daily Log'!#REF!),0)","v":0},{"$f":"IFERROR($E46*SUMIF('Daily Log'!#REF!,$B46,'Daily Log'!#REF!),0)","v":0},{"$f":"IFERROR($E46*SUMIF('Daily Log'!#REF!,$B46,'Daily Log'!#REF!),0)","v":0},{"$f":"IFERROR($E46*SUMIF('Daily Log'!#REF!,$B46,'Daily Log'!#REF!),0)","v":0},{"$f":"IFERROR($E46*SUMIF('Daily Log'!#REF!,$B46,'Daily Log'!#REF!),0)","v":0},{"$f":"IFERROR($E46*SUMIF('Daily Log'!#REF!,$B46,'Daily Log'!#REF!),0)","v":0},{"$f":"IFERROR($E46*SUMIF('Daily Log'!#REF!,$B46,'Daily Log'!#REF!),0)","v":0},{"$f":"IFERROR($E46*SUMIF('Daily Log'!#REF!,$B46,'Daily Log'!#REF!),0)","v":0},{"$f":"IFERROR($E46*SUMIF('Daily Log'!#REF!,$B46,'Daily Log'!#REF!),0)","v":0},{"$f":"IFERROR($E46*SUMIF('Daily Log'!#REF!,$B46,'Daily Log'!#REF!),0)","v":0},{"$f":"IFERROR($E46*SUMIF('Daily Log'!#REF!,$B46,'Daily Log'!#REF!),0)","v":0},{"$f":"IFERROR($E46*SUMIF('Daily Log'!$C$18:$C$1017,$B46,'Daily Log'!$D$18:$D$1017),0)","v":0},{"$f":"IFERROR($E46*SUMIF('Daily Log'!$F$18:$F$1017,$B46,'Daily Log'!$G$18:$G$1017),0)","v":0},{"$f":"IFERROR($E46*SUMIF('Daily Log'!$I$18:$I$1017,$B46,'Daily Log'!$J$18:$J$1017),0)","v":0},{"$f":"IFERROR($E46*SUMIF('Daily Log'!$L$18:$L$1017,$B46,'Daily Log'!$M$18:$M$1017),0)","v":0},{"$f":"IFERROR($E46*SUMIF('Daily Log'!$O$18:$O$1017,$B46,'Daily Log'!$P$18:$P$1017),0)","v":0},{"$f":"IFERROR($E46*SUMIF('Daily Log'!$R$18:$R$1017,$B46,'Daily Log'!$S$18:$S$1017),0)","v":0},{"$f":"IFERROR($E46*SUMIF('Daily Log'!$U$18:$U$1017,$B46,'Daily Log'!$V$18:$V$1017),0)","v":0},{"$f":"IFERROR($E46*SUMIF('Daily Log'!#REF!,$B46,'Daily Log'!#REF!),0)","v":0},{"$f":"IFERROR($E46*SUMIF('Daily Log'!#REF!,$B46,'Daily Log'!#REF!),0)","v":0},{"$f":"IFERROR($E46*SUMIF('Daily Log'!#REF!,$B46,'Daily Log'!#REF!),0)","v":0},{"$f":"IFERROR($E46*SUMIF('Daily Log'!#REF!,$B46,'Daily Log'!#REF!),0)","v":0},{"$f":"IFERROR($E46*SUMIF('Daily Log'!#REF!,$B46,'Daily Log'!#REF!),0)","v":0}]
[null,"BA18 BP+MEAL",null,"BEER",null,0,{"$f":"IFERROR($E47*SUMIF('Daily Log'!#REF!,$B47,'Daily Log'!#REF!),0)","v":0},{"$f":"IFERROR($E47*SUMIF('Daily Log'!#REF!,$B47,'Daily Log'!#REF!),0)","v":0},{"$f":"IFERROR($E47*SUMIF('Daily Log'!#REF!,$B47,'Daily Log'!#REF!),0)","v":0},{"$f":"IFERROR($E47*SUMIF('Daily Log'!#REF!,$B47,'Daily Log'!#REF!),0)","v":0},{"$f":"IFERROR($E47*SUMIF('Daily Log'!#REF!,$B47,'Daily Log'!#REF!),0)","v":0},{"$f":"IFERROR($E47*SUMIF('Daily Log'!#REF!,$B47,'Daily Log'!#REF!),0)","v":0},{"$f":"IFERROR($E47*SUMIF('Daily Log'!#REF!,$B47,'Daily Log'!#REF!),0)","v":0},{"$f":"IFERROR($E47*SUMIF('Daily Log'!#REF!,$B47,'Daily Log'!#REF!),0)","v":0},{"$f":"IFERROR($E47*SUMIF('Daily Log'!#REF!,$B47,'Daily Log'!#REF!),0)","v":0},{"$f":"IFERROR($E47*SUMIF('Daily Log'!#REF!,$B47,'Daily Log'!#REF!),0)","v":0},{"$f":"IFERROR($E47*SUMIF('Daily Log'!#REF!,$B47,'Daily Log'!#REF!),0)","v":0},{"$f":"IFERROR($E47*SUMIF('Daily Log'!#REF!,$B47,'Daily Log'!#REF!),0)","v":0},{"$f":"IFERROR($E47*SUMIF('Daily Log'!#REF!,$B47,'Daily Log'!#REF!),0)","v":0},{"$f":"IFERROR($E47*SUMIF('Daily Log'!#REF!,$B47,'Daily Log'!#REF!),0)","v":0},{"$f":"IFERROR($E47*SUMIF('Daily Log'!#REF!,$B47,'Daily Log'!#REF!),0)","v":0},{"$f":"IFERROR($E47*SUMIF('Daily Log'!#REF!,$B47,'Daily Log'!#REF!),0)","v":0},{"$f":"IFERROR($E47*SUMIF('Daily Log'!#REF!,$B47,'Daily Log'!#REF!),0)","v":0},{"$f":"IFERROR($E47*SUMIF('Daily Log'!#REF!,$B47,'Daily Log'!#REF!),0)","v":0},{"$f":"IFERROR($E47*SUMIF('Daily Log'!#REF!,$B47,'Daily Log'!#REF!),0)","v":0},{"$f":"IFERROR($E47*SUMIF('Daily Log'!$C$18:$C$1017,$B47,'Daily Log'!$D$18:$D$1017),0)","v":0},{"$f":"IFERROR($E47*SUMIF('Daily Log'!$F$18:$F$1017,$B47,'Daily Log'!$G$18:$G$1017),0)","v":0},{"$f":"IFERROR($E47*SUMIF('Daily Log'!$I$18:$I$1017,$B47,'Daily Log'!$J$18:$J$1017),0)","v":0},{"$f":"IFERROR($E47*SUMIF('Daily Log'!$L$18:$L$1017,$B47,'Daily Log'!$M$18:$M$1017),0)","v":0},{"$f":"IFERROR($E47*SUMIF('Daily Log'!$O$18:$O$1017,$B47,'Daily Log'!$P$18:$P$1017),0)","v":0},{"$f":"IFERROR($E47*SUMIF('Daily Log'!$R$18:$R$1017,$B47,'Daily Log'!$S$18:$S$1017),0)","v":0},{"$f":"IFERROR($E47*SUMIF('Daily Log'!$U$18:$U$1017,$B47,'Daily Log'!$V$18:$V$1017),0)","v":0},{"$f":"IFERROR($E47*SUMIF('Daily Log'!#REF!,$B47,'Daily Log'!#REF!),0)","v":0},{"$f":"IFERROR($E47*SUMIF('Daily Log'!#REF!,$B47,'Daily Log'!#REF!),0)","v":0},{"$f":"IFERROR($E47*SUMIF('Daily Log'!#REF!,$B47,'Daily Log'!#REF!),0)","v":0},{"$f":"IFERROR($E47*SUMIF('Daily Log'!#REF!,$B47,'Daily Log'!#REF!),0)","v":0},{"$f":"IFERROR($E47*SUMIF('Daily Log'!#REF!,$B47,'Daily Log'!#REF!),0)","v":0}]
[null,"BA19 Tiger 2+1",null,"BEER",null,0,{"$f":"IFERROR($E48*SUMIF('Daily Log'!#REF!,$B48,'Daily Log'!#REF!),0)","v":0},{"$f":"IFERROR($E48*SUMIF('Daily Log'!#REF!,$B48,'Daily Log'!#REF!),0)","v":0},{"$f":"IFERROR($E48*SUMIF('Daily Log'!#REF!,$B48,'Daily Log'!#REF!),0)","v":0},{"$f":"IFERROR($E48*SUMIF('Daily Log'!#REF!,$B48,'Daily Log'!#REF!),0)","v":0},{"$f":"IFERROR($E48*SUMIF('Daily Log'!#REF!,$B48,'Daily Log'!#REF!),0)","v":0},{"$f":"IFERROR($E48*SUMIF('Daily Log'!#REF!,$B48,'Daily Log'!#REF!),0)","v":0},{"$f":"IFERROR($E48*SUMIF('Daily Log'!#REF!,$B48,'Daily Log'!#REF!),0)","v":0},{"$f":"IFERROR($E48*SUMIF('Daily Log'!#REF!,$B48,'Daily Log'!#REF!),0)","v":0},{"$f":"IFERROR($E48*SUMIF('Daily Log'!#REF!,$B48,'Daily Log'!#REF!),0)","v":0},{"$f":"IFERROR($E48*SUMIF('Daily Log'!#REF!,$B48,'Daily Log'!#REF!),0)","v":0},{"$f":"IFERROR($E48*SUMIF('Daily Log'!#REF!,$B48,'Daily Log'!#REF!),0)","v":0},{"$f":"IFERROR($E48*SUMIF('Daily Log'!#REF!,$B48,'Daily Log'!#REF!),0)","v":0},{"$f":"IFERROR($E48*SUMIF('Daily Log'!#REF!,$B48,'Daily Log'!#REF!),0)","v":0},{"$f":"IFERROR($E48*SUMIF('Daily Log'!#REF!,$B48,'Daily Log'!#REF!),0)","v":0},{"$f":"IFERROR($E48*SUMIF('Daily Log'!#REF!,$B48,'Daily Log'!#REF!),0)","v":0},{"$f":"IFERROR($E48*SUMIF('Daily Log'!#REF!,$B48,'Daily Log'!#REF!),0)","v":0},{"$f":"IFERROR($E48*SUMIF('Daily Log'!#REF!,$B48,'Daily Log'!#REF!),0)","v":0},{"$f":"IFERROR($E48*SUMIF('Daily Log'!#REF!,$B48,'Daily Log'!#REF!),0)","v":0},{"$f":"IFERROR($E48*SUMIF('Daily Log'!#REF!,$B48,'Daily Log'!#REF!),0)","v":0},{"$f":"IFERROR($E48*SUMIF('Daily Log'!$C$18:$C$1017,$B48,'Daily Log'!$D$18:$D$1017),0)","v":0},{"$f":"IFERROR($E48*SUMIF('Daily Log'!$F$18:$F$1017,$B48,'Daily Log'!$G$18:$G$1017),0)","v":0},{"$f":"IFERROR($E48*SUMIF('Daily Log'!$I$18:$I$1017,$B48,'Daily Log'!$J$18:$J$1017),0)","v":0},{"$f":"IFERROR($E48*SUMIF('Daily Log'!$L$18:$L$1017,$B48,'Daily Log'!$M$18:$M$1017),0)","v":0},{"$f":"IFERROR($E48*SUMIF('Daily Log'!$O$18:$O$1017,$B48,'Daily Log'!$P$18:$P$1017),0)","v":0},{"$f":"IFERROR($E48*SUMIF('Daily Log'!$R$18:$R$1017,$B48,'Daily Log'!$S$18:$S$1017),0)","v":0},{"$f":"IFERROR($E48*SUMIF('Daily Log'!$U$18:$U$1017,$B48,'Daily Log'!$V$18:$V$1017),0)","v":0},{"$f":"IFERROR($E48*SUMIF('Daily Log'!#REF!,$B48,'Daily Log'!#REF!),0)","v":0},{"$f":"IFERROR($E48*SUMIF('Daily Log'!#REF!,$B48,'Daily Log'!#REF!),0)","v":0},{"$f":"IFERROR($E48*SUMIF('Daily Log'!#REF!,$B48,'Daily Log'!#REF!),0)","v":0},{"$f":"IFERROR($E48*SUMIF('Daily Log'!#REF!,$B48,'Daily Log'!#REF!),0)","v":0},{"$f":"IFERROR($E48*SUMIF('Daily Log'!#REF!,$B48,'Daily Log'!#REF!),0)","v":0}]
[null,"BA20 Heineken 3+1",null,"BEER",null,0,{"$f":"IFERROR($E49*SUMIF('Daily Log'!#REF!,$B49,'Daily Log'!#REF!),0)","v":0},{"$f":"IFERROR($E49*SUMIF('Daily Log'!#REF!,$B49,'Daily Log'!#REF!),0)","v":0},{"$f":"IFERROR($E49*SUMIF('Daily Log'!#REF!,$B49,'Daily Log'!#REF!),0)","v":0},{"$f":"IFERROR($E49*SUMIF('Daily Log'!#REF!,$B49,'Daily Log'!#REF!),0)","v":0},{"$f":"IFERROR($E49*SUMIF('Daily Log'!#REF!,$B49,'Daily Log'!#REF!),0)","v":0},{"$f":"IFERROR($E49*SUMIF('Daily Log'!#REF!,$B49,'Daily Log'!#REF!),0)","v":0},{"$f":"IFERROR($E49*SUMIF('Daily Log'!#REF!,$B49,'Daily Log'!#REF!),0)","v":0},{"$f":"IFERROR($E49*SUMIF('Daily Log'!#REF!,$B49,'Daily Log'!#REF!),0)","v":0},{"$f":"IFERROR($E49*SUMIF('Daily Log'!#REF!,$B49,'Daily Log'!#REF!),0)","v":0},{"$f":"IFERROR($E49*SUMIF('Daily Log'!#REF!,$B49,'Daily Log'!#REF!),0)","v":0},{"$f":"IFERROR($E49*SUMIF('Daily Log'!#REF!,$B49,'Daily Log'!#REF!),0)","v":0},{"$f":"IFERROR($E49*SUMIF('Daily Log'!#REF!,$B49,'Daily Log'!#REF!),0)","v":0},{"$f":"IFERROR($E49*SUMIF('Daily Log'!#REF!,$B49,'Daily Log'!#REF!),0)","v":0},{"$f":"IFERROR($E49*SUMIF('Daily Log'!#REF!,$B49,'Daily Log'!#REF!),0)","v":0},{"$f":"IFERROR($E49*SUMIF('Daily Log'!#REF!,$B49,'Daily Log'!#REF!),0)","v":0},{"$f":"IFERROR($E49*SUMIF('Daily Log'!#REF!,$B49,'Daily Log'!#REF!),0)","v":0},{"$f":"IFERROR($E49*SUMIF('Daily Log'!#REF!,$B49,'Daily Log'!#REF!),0)","v":0},{"$f":"IFERROR($E49*SUMIF('Daily Log'!#REF!,$B49,'Daily Log'!#REF!),0)","v":0},{"$f":"IFERROR($E49*SUMIF('Daily Log'!#REF!,$B49,'Daily Log'!#REF!),0)","v":0},{"$f":"IFERROR($E49*SUMIF('Daily Log'!$C$18:$C$1017,$B49,'Daily Log'!$D$18:$D$1017),0)","v":0},{"$f":"IFERROR($E49*SUMIF('Daily Log'!$F$18:$F$1017,$B49,'Daily Log'!$G$18:$G$1017),0)","v":0},{"$f":"IFERROR($E49*SUMIF('Daily Log'!$I$18:$I$1017,$B49,'Daily Log'!$J$18:$J$1017),0)","v":0},{"$f":"IFERROR($E49*SUMIF('Daily Log'!$L$18:$L$1017,$B49,'Daily Log'!$M$18:$M$1017),0)","v":0},{"$f":"IFERROR($E49*SUMIF('Daily Log'!$O$18:$O$1017,$B49,'Daily Log'!$P$18:$P$1017),0)","v":0},{"$f":"IFERROR($E49*SUMIF('Daily Log'!$R$18:$R$1017,$B49,'Daily Log'!$S$18:$S$1017),0)","v":0},{"$f":"IFERROR($E49*SUMIF('Daily Log'!$U$18:$U$1017,$B49,'Daily Log'!$V$18:$V$1017),0)","v":0},{"$f":"IFERROR($E49*SUMIF('Daily Log'!#REF!,$B49,'Daily Log'!#REF!),0)","v":0},{"$f":"IFERROR($E49*SUMIF('Daily Log'!#REF!,$B49,'Daily Log'!#REF!),0)","v":0},{"$f":"IFERROR($E49*SUMIF('Daily Log'!#REF!,$B49,'Daily Log'!#REF!),0)","v":0},{"$f":"IFERROR($E49*SUMIF('Daily Log'!#REF!,$B49,'Daily Log'!#REF!),0)","v":0},{"$f":"IFERROR($E49*SUMIF('Daily Log'!#REF!,$B49,'Daily Log'!#REF!),0)","v":0}]
[null,"CA01 GRAPE J",null,"SIDE ORDER-COLD BEVERAGE",1,0,{"$f":"IFERROR($E50*SUMIF('Daily Log'!#REF!,$B50,'Daily Log'!#REF!),0)","v":0},{"$f":"IFERROR($E50*SUMIF('Daily Log'!#REF!,$B50,'Daily Log'!#REF!),0)","v":0},{"$f":"IFERROR($E50*SUMIF('Daily Log'!#REF!,$B50,'Daily Log'!#REF!),0)","v":0},{"$f":"IFERROR($E50*SUMIF('Daily Log'!#REF!,$B50,'Daily Log'!#REF!),0)","v":0},{"$f":"IFERROR($E50*SUMIF('Daily Log'!#REF!,$B50,'Daily Log'!#REF!),0)","v":0},{"$f":"IFERROR($E50*SUMIF('Daily Log'!#REF!,$B50,'Daily Log'!#REF!),0)","v":0},{"$f":"IFERROR($E50*SUMIF('Daily Log'!#REF!,$B50,'Daily Log'!#REF!),0)","v":0},{"$f":"IFERROR($E50*SUMIF('Daily Log'!#REF!,$B50,'Daily Log'!#REF!),0)","v":0},{"$f":"IFERROR($E50*SUMIF('Daily Log'!#REF!,$B50,'Daily Log'!#REF!),0)","v":0},{"$f":"IFERROR($E50*SUMIF('Daily Log'!#REF!,$B50,'Daily Log'!#REF!),0)","v":0},{"$f":"IFERROR($E50*SUMIF('Daily Log'!#REF!,$B50,'Daily Log'!#REF!),0)","v":0},{"$f":"IFERROR($E50*SUMIF('Daily Log'!#REF!,$B50,'Daily Log'!#REF!),0)","v":0},{"$f":"IFERROR($E50*SUMIF('Daily Log'!#REF!,$B50,'Daily Log'!#REF!),0)","v":0},{"$f":"IFERROR($E50*SUMIF('Daily Log'!#REF!,$B50,'Daily Log'!#REF!),0)","v":0},{"$f":"IFERROR($E50*SUMIF('Daily Log'!#REF!,$B50,'Daily Log'!#REF!),0)","v":0},{"$f":"IFERROR($E50*SUMIF('Daily Log'!#REF!,$B50,'Daily Log'!#REF!),0)","v":0},{"$f":"IFERROR($E50*SUMIF('Daily Log'!#REF!,$B50,'Daily Log'!#REF!),0)","v":0},{"$f":"IFERROR($E50*SUMIF('Daily Log'!#REF!,$B50,'Daily Log'!#REF!),0)","v":0},{"$f":"IFERROR($E50*SUMIF('Daily Log'!#REF!,$B50,'Daily Log'!#REF!),0)","v":0},{"$f":"IFERROR($E50*SUMIF('Daily Log'!$C$18:$C$1017,$B50,'Daily Log'!$D$18:$D$1017),0)","v":0},{"$f":"IFERROR($E50*SUMIF('Daily Log'!$F$18:$F$1017,$B50,'Daily Log'!$G$18:$G$1017),0)","v":0},{"$f":"IFERROR($E50*SUMIF('Daily Log'!$I$18:$I$1017,$B50,'Daily Log'!$J$18:$J$1017),0)","v":0},{"$f":"IFERROR($E50*SUMIF('Daily Log'!$L$18:$L$1017,$B50,'Daily Log'!$M$18:$M$1017),0)","v":0},{"$f":"IFERROR($E50*SUMIF('Daily Log'!$O$18:$O$1017,$B50,'Daily Log'!$P$18:$P$1017),0)","v":0},{"$f":"IFERROR($E50*SUMIF('Daily Log'!$R$18:$R$1017,$B50,'Daily Log'!$S$18:$S$1017),0)","v":0},{"$f":"IFERROR($E50*SUMIF('Daily Log'!$U$18:$U$1017,$B50,'Daily Log'!$V$18:$V$1017),0)","v":0},{"$f":"IFERROR($E50*SUMIF('Daily Log'!#REF!,$B50,'Daily Log'!#REF!),0)","v":0},{"$f":"IFERROR($E50*SUMIF('Daily Log'!#REF!,$B50,'Daily Log'!#REF!),0)","v":0},{"$f":"IFERROR($E50*SUMIF('Daily Log'!#REF!,$B50,'Daily Log'!#REF!),0)","v":0},{"$f":"IFERROR($E50*SUMIF('Daily Log'!#REF!,$B50,'Daily Log'!#REF!),0)","v":0},{"$f":"IFERROR($E50*SUMIF('Daily Log'!#REF!,$B50,'Daily Log'!#REF!),0)","v":0}]
[null,"CA02 APPLE J",null,"SIDE ORDER-COLD BEVERAGE",1,0,{"$f":"IFERROR($E51*SUMIF('Daily Log'!#REF!,$B51,'Daily Log'!#REF!),0)","v":0},{"$f":"IFERROR($E51*SUMIF('Daily Log'!#REF!,$B51,'Daily Log'!#REF!),0)","v":0},{"$f":"IFERROR($E51*SUMIF('Daily Log'!#REF!,$B51,'Daily Log'!#REF!),0)","v":0},{"$f":"IFERROR($E51*SUMIF('Daily Log'!#REF!,$B51,'Daily Log'!#REF!),0)","v":0},{"$f":"IFERROR($E51*SUMIF('Daily Log'!#REF!,$B51,'Daily Log'!#REF!),0)","v":0},{"$f":"IFERROR($E51*SUMIF('Daily Log'!#REF!,$B51,'Daily Log'!#REF!),0)","v":0},{"$f":"IFERROR($E51*SUMIF('Daily Log'!#REF!,$B51,'Daily Log'!#REF!),0)","v":0},{"$f":"IFERROR($E51*SUMIF('Daily Log'!#REF!,$B51,'Daily Log'!#REF!),0)","v":0},{"$f":"IFERROR($E51*SUMIF('Daily Log'!#REF!,$B51,'Daily Log'!#REF!),0)","v":0},{"$f":"IFERROR($E51*SUMIF('Daily Log'!#REF!,$B51,'Daily Log'!#REF!),0)","v":0},{"$f":"IFERROR($E51*SUMIF('Daily Log'!#REF!,$B51,'Daily Log'!#REF!),0)","v":0},{"$f":"IFERROR($E51*SUMIF('Daily Log'!#REF!,$B51,'Daily Log'!#REF!),0)","v":0},{"$f":"IFERROR($E51*SUMIF('Daily Log'!#REF!,$B51,'Daily Log'!#REF!),0)","v":0},{"$f":"IFERROR($E51*SUMIF('Daily Log'!#REF!,$B51,'Daily Log'!#REF!),0)","v":0},{"$f":"IFERROR($E51*SUMIF('Daily Log'!#REF!,$B51,'Daily Log'!#REF!),0)","v":0},{"$f":"IFERROR($E51*SUMIF('Daily Log'!#REF!,$B51,'Daily Log'!#REF!),0)","v":0},{"$f":"IFERROR($E51*SUMIF('Daily Log'!#REF!,$B51,'Daily Log'!#REF!),0)","v":0},{"$f":"IFERROR($E51*SUMIF('Daily Log'!#REF!,$B51,'Daily Log'!#REF!),0)","v":0},{"$f":"IFERROR($E51*SUMIF('Daily Log'!#REF!,$B51,'Daily Log'!#REF!),0)","v":0},{"$f":"IFERROR($E51*SUMIF('Daily Log'!$C$18:$C$1017,$B51,'Daily Log'!$D$18:$D$1017),0)","v":0},{"$f":"IFERROR($E51*SUMIF('Daily Log'!$F$18:$F$1017,$B51,'Daily Log'!$G$18:$G$1017),0)","v":0},{"$f":"IFERROR($E51*SUMIF('Daily Log'!$I$18:$I$1017,$B51,'Daily Log'!$J$18:$J$1017),0)","v":0},{"$f":"IFERROR($E51*SUMIF('Daily Log'!$L$18:$L$1017,$B51,'Daily Log'!$M$18:$M$1017),0)","v":0},{"$f":"IFERROR($E51*SUMIF('Daily Log'!$O$18:$O$1017,$B51,'Daily Log'!$P$18:$P$1017),0)","v":0},{"$f":"IFERROR($E51*SUMIF('Daily Log'!$R$18:$R$1017,$B51,'Daily Log'!$S$18:$S$1017),0)","v":0},{"$f":"IFERROR($E51*SUMIF('Daily Log'!$U$18:$U$1017,$B51,'Daily Log'!$V$18:$V$1017),0)","v":0},{"$f":"IFERROR($E51*SUMIF('Daily Log'!#REF!,$B51,'Daily Log'!#REF!),0)","v":0},{"$f":"IFERROR($E51*SUMIF('Daily Log'!#REF!,$B51,'Daily Log'!#REF!),0)","v":0},{"$f":"IFERROR($E51*SUMIF('Daily Log'!#REF!,$B51,'Daily Log'!#REF!),0)","v":0},{"$f":"IFERROR($E51*SUMIF('Daily Log'!#REF!,$B51,'Daily Log'!#REF!),0)","v":0},{"$f":"IFERROR($E51*SUMIF('Daily Log'!#REF!,$B51,'Daily Log'!#REF!),0)","v":0}]
[null,"CA03 KIWI J",null,"SIDE ORDER-COLD BEVERAGE",1,0,{"$f":"IFERROR($E52*SUMIF('Daily Log'!#REF!,$B52,'Daily Log'!#REF!),0)","v":0},{"$f":"IFERROR($E52*SUMIF('Daily Log'!#REF!,$B52,'Daily Log'!#REF!),0)","v":0},{"$f":"IFERROR($E52*SUMIF('Daily Log'!#REF!,$B52,'Daily Log'!#REF!),0)","v":0},{"$f":"IFERROR($E52*SUMIF('Daily Log'!#REF!,$B52,'Daily Log'!#REF!),0)","v":0},{"$f":"IFERROR($E52*SUMIF('Daily Log'!#REF!,$B52,'Daily Log'!#REF!),0)","v":0},{"$f":"IFERROR($E52*SUMIF('Daily Log'!#REF!,$B52,'Daily Log'!#REF!),0)","v":0},{"$f":"IFERROR($E52*SUMIF('Daily Log'!#REF!,$B52,'Daily Log'!#REF!),0)","v":0},{"$f":"IFERROR($E52*SUMIF('Daily Log'!#REF!,$B52,'Daily Log'!#REF!),0)","v":0},{"$f":"IFERROR($E52*SUMIF('Daily Log'!#REF!,$B52,'Daily Log'!#REF!),0)","v":0},{"$f":"IFERROR($E52*SUMIF('Daily Log'!#REF!,$B52,'Daily Log'!#REF!),0)","v":0},{"$f":"IFERROR($E52*SUMIF('Daily Log'!#REF!,$B52,'Daily Log'!#REF!),0)","v":0},{"$f":"IFERROR($E52*SUMIF('Daily Log'!#REF!,$B52,'Daily Log'!#REF!),0)","v":0},{"$f":"IFERROR($E52*SUMIF('Daily Log'!#REF!,$B52,'Daily Log'!#REF!),0)","v":0},{"$f":"IFERROR($E52*SUMIF('Daily Log'!#REF!,$B52,'Daily Log'!#REF!),0)","v":0},{"$f":"IFERROR($E52*SUMIF('Daily Log'!#REF!,$B52,'Daily Log'!#REF!),0)","v":0},{"$f":"IFERROR($E52*SUMIF('Daily Log'!#REF!,$B52,'Daily Log'!#REF!),0)","v":0},{"$f":"IFERROR($E52*SUMIF('Daily Log'!#REF!,$B52,'Daily Log'!#REF!),0)","v":0},{"$f":"IFERROR($E52*SUMIF('Daily Log'!#REF!,$B52,'Daily Log'!#REF!),0)","v":0},{"$f":"IFERROR($E52*SUMIF('Daily Log'!#REF!,$B52,'Daily Log'!#REF!),0)","v":0},{"$f":"IFERROR($E52*SUMIF('Daily Log'!$C$18:$C$1017,$B52,'Daily Log'!$D$18:$D$1017),0)","v":0},{"$f":"IFERROR($E52*SUMIF('Daily Log'!$F$18:$F$1017,$B52,'Daily Log'!$G$18:$G$1017),0)","v":0},{"$f":"IFERROR($E52*SUMIF('Daily Log'!$I$18:$I$1017,$B52,'Daily Log'!$J$18:$J$1017),0)","v":0},{"$f":"IFERROR($E52*SUMIF('Daily Log'!$L$18:$L$1017,$B52,'Daily Log'!$M$18:$M$1017),0)","v":0},{"$f":"IFERROR($E52*SUMIF('Daily Log'!$O$18:$O$1017,$B52,'Daily Log'!$P$18:$P$1017),0)","v":0},{"$f":"IFERROR($E52*SUMIF('Daily Log'!$R$18:$R$1017,$B52,'Daily Log'!$S$18:$S$1017),0)","v":0},{"$f":"IFERROR($E52*SUMIF('Daily Log'!$U$18:$U$1017,$B52,'Daily Log'!$V$18:$V$1017),0)","v":0},{"$f":"IFERROR($E52*SUMIF('Daily Log'!#REF!,$B52,'Daily Log'!#REF!),0)","v":0},{"$f":"IFERROR($E52*SUMIF('Daily Log'!#REF!,$B52,'Daily Log'!#REF!),0)","v":0},{"$f":"IFERROR($E52*SUMIF('Daily Log'!#REF!,$B52,'Daily Log'!#REF!),0)","v":0},{"$f":"IFERROR($E52*SUMIF('Daily Log'!#REF!,$B52,'Daily Log'!#REF!),0)","v":0},{"$f":"IFERROR($E52*SUMIF('Daily Log'!#REF!,$B52,'Daily Log'!#REF!),0)","v":0}]
[null,"CA04 MANGO J",null,"SIDE ORDER-COLD BEVERAGE",1,1,{"$f":"IFERROR($E53*SUMIF('Daily Log'!#REF!,$B53,'Daily Log'!#REF!),0)","v":0},{"$f":"IFERROR($E53*SUMIF('Daily Log'!#REF!,$B53,'Daily Log'!#REF!),0)","v":0},{"$f":"IFERROR($E53*SUMIF('Daily Log'!#REF!,$B53,'Daily Log'!#REF!),0)","v":0},{"$f":"IFERROR($E53*SUMIF('Daily Log'!#REF!,$B53,'Daily Log'!#REF!),0)","v":0},{"$f":"IFERROR($E53*SUMIF('Daily Log'!#REF!,$B53,'Daily Log'!#REF!),0)","v":0},{"$f":"IFERROR($E53*SUMIF('Daily Log'!#REF!,$B53,'Daily Log'!#REF!),0)","v":0},{"$f":"IFERROR($E53*SUMIF('Daily Log'!#REF!,$B53,'Daily Log'!#REF!),0)","v":0},{"$f":"IFERROR($E53*SUMIF('Daily Log'!#REF!,$B53,'Daily Log'!#REF!),0)","v":0},{"$f":"IFERROR($E53*SUMIF('Daily Log'!#REF!,$B53,'Daily Log'!#REF!),0)","v":0},{"$f":"IFERROR($E53*SUMIF('Daily Log'!#REF!,$B53,'Daily Log'!#REF!),0)","v":0},{"$f":"IFERROR($E53*SUMIF('Daily Log'!#REF!,$B53,'Daily Log'!#REF!),0)","v":0},{"$f":"IFERROR($E53*SUMIF('Daily Log'!#REF!,$B53,'Daily Log'!#REF!),0)","v":0},{"$f":"IFERROR($E53*SUMIF('Daily Log'!#REF!,$B53,'Daily Log'!#REF!),0)","v":0},{"$f":"IFERROR($E53*SUMIF('Daily Log'!#REF!,$B53,'Daily Log'!#REF!),0)","v":0},{"$f":"IFERROR($E53*SUMIF('Daily Log'!#REF!,$B53,'Daily Log'!#REF!),0)","v":0},{"$f":"IFERROR($E53*SUMIF('Daily Log'!#REF!,$B53,'Daily Log'!#REF!),0)","v":0},{"$f":"IFERROR($E53*SUMIF('Daily Log'!#REF!,$B53,'Daily Log'!#REF!),0)","v":0},{"$f":"IFERROR($E53*SUMIF('Daily Log'!#REF!,$B53,'Daily Log'!#REF!),0)","v":0},{"$f":"IFERROR($E53*SUMIF('Daily Log'!#REF!,$B53,'Daily Log'!#REF!),0)","v":0},{"$f":"IFERROR($E53*SUMIF('Daily Log'!$C$18:$C$1017,$B53,'Daily Log'!$D$18:$D$1017),0)","v":0},{"$f":"IFERROR($E53*SUMIF('Daily Log'!$F$18:$F$1017,$B53,'Daily Log'!$G$18:$G$1017),0)","v":0},{"$f":"IFERROR($E53*SUMIF('Daily Log'!$I$18:$I$1017,$B53,'Daily Log'!$J$18:$J$1017),0)","v":0},{"$f":"IFERROR($E53*SUMIF('Daily Log'!$L$18:$L$1017,$B53,'Daily Log'!$M$18:$M$1017),0)","v":0},{"$f":"IFERROR($E53*SUMIF('Daily Log'!$O$18:$O$1017,$B53,'Daily Log'!$P$18:$P$1017),0)","v":0},{"$f":"IFERROR($E53*SUMIF('Daily Log'!$R$18:$R$1017,$B53,'Daily Log'!$S$18:$S$1017),0)","v":1},{"$f":"IFERROR($E53*SUMIF('Daily Log'!$U$18:$U$1017,$B53,'Daily Log'!$V$18:$V$1017),0)","v":0},{"$f":"IFERROR($E53*SUMIF('Daily Log'!#REF!,$B53,'Daily Log'!#REF!),0)","v":0},{"$f":"IFERROR($E53*SUMIF('Daily Log'!#REF!,$B53,'Daily Log'!#REF!),0)","v":0},{"$f":"IFERROR($E53*SUMIF('Daily Log'!#REF!,$B53,'Daily Log'!#REF!),0)","v":0},{"$f":"IFERROR($E53*SUMIF('Daily Log'!#REF!,$B53,'Daily Log'!#REF!),0)","v":0},{"$f":"IFERROR($E53*SUMIF('Daily Log'!#REF!,$B53,'Daily Log'!#REF!),0)","v":0}]
[null,"CA05 PASSION J",null,"SIDE ORDER-COLD BEVERAGE",1,0,{"$f":"IFERROR($E54*SUMIF('Daily Log'!#REF!,$B54,'Daily Log'!#REF!),0)","v":0},{"$f":"IFERROR($E54*SUMIF('Daily Log'!#REF!,$B54,'Daily Log'!#REF!),0)","v":0},{"$f":"IFERROR($E54*SUMIF('Daily Log'!#REF!,$B54,'Daily Log'!#REF!),0)","v":0},{"$f":"IFERROR($E54*SUMIF('Daily Log'!#REF!,$B54,'Daily Log'!#REF!),0)","v":0},{"$f":"IFERROR($E54*SUMIF('Daily Log'!#REF!,$B54,'Daily Log'!#REF!),0)","v":0},{"$f":"IFERROR($E54*SUMIF('Daily Log'!#REF!,$B54,'Daily Log'!#REF!),0)","v":0},{"$f":"IFERROR($E54*SUMIF('Daily Log'!#REF!,$B54,'Daily Log'!#REF!),0)","v":0},{"$f":"IFERROR($E54*SUMIF('Daily Log'!#REF!,$B54,'Daily Log'!#REF!),0)","v":0},{"$f":"IFERROR($E54*SUMIF('Daily Log'!#REF!,$B54,'Daily Log'!#REF!),0)","v":0},{"$f":"IFERROR($E54*SUMIF('Daily Log'!#REF!,$B54,'Daily Log'!#REF!),0)","v":0},{"$f":"IFERROR($E54*SUMIF('Daily Log'!#REF!,$B54,'Daily Log'!#REF!),0)","v":0},{"$f":"IFERROR($E54*SUMIF('Daily Log'!#REF!,$B54,'Daily Log'!#REF!),0)","v":0},{"$f":"IFERROR($E54*SUMIF('Daily Log'!#REF!,$B54,'Daily Log'!#REF!),0)","v":0},{"$f":"IFERROR($E54*SUMIF('Daily Log'!#REF!,$B54,'Daily Log'!#REF!),0)","v":0},{"$f":"IFERROR($E54*SUMIF('Daily Log'!#REF!,$B54,'Daily Log'!#REF!),0)","v":0},{"$f":"IFERROR($E54*SUMIF('Daily Log'!#REF!,$B54,'Daily Log'!#REF!),0)","v":0},{"$f":"IFERROR($E54*SUMIF('Daily Log'!#REF!,$B54,'Daily Log'!#REF!),0)","v":0},{"$f":"IFERROR($E54*SUMIF('Daily Log'!#REF!,$B54,'Daily Log'!#REF!),0)","v":0},{"$f":"IFERROR($E54*SUMIF('Daily Log'!#REF!,$B54,'Daily Log'!#REF!),0)","v":0},{"$f":"IFERROR($E54*SUMIF('Daily Log'!$C$18:$C$1017,$B54,'Daily Log'!$D$18:$D$1017),0)","v":0},{"$f":"IFERROR($E54*SUMIF('Daily Log'!$F$18:$F$1017,$B54,'Daily Log'!$G$18:$G$1017),0)","v":0},{"$f":"IFERROR($E54*SUMIF('Daily Log'!$I$18:$I$1017,$B54,'Daily Log'!$J$18:$J$1017),0)","v":0},{"$f":"IFERROR($E54*SUMIF('Daily Log'!$L$18:$L$1017,$B54,'Daily Log'!$M$18:$M$1017),0)","v":0},{"$f":"IFERROR($E54*SUMIF('Daily Log'!$O$18:$O$1017,$B54,'Daily Log'!$P$18:$P$1017),0)","v":0},{"$f":"IFERROR($E54*SUMIF('Daily Log'!$R$18:$R$1017,$B54,'Daily Log'!$S$18:$S$1017),0)","v":0},{"$f":"IFERROR($E54*SUMIF('Daily Log'!$U$18:$U$1017,$B54,'Daily Log'!$V$18:$V$1017),0)","v":0},{"$f":"IFERROR($E54*SUMIF('Daily Log'!#REF!,$B54,'Daily Log'!#REF!),0)","v":0},{"$f":"IFERROR($E54*SUMIF('Daily Log'!#REF!,$B54,'Daily Log'!#REF!),0)","v":0},{"$f":"IFERROR($E54*SUMIF('Daily Log'!#REF!,$B54,'Daily Log'!#REF!),0)","v":0},{"$f":"IFERROR($E54*SUMIF('Daily Log'!#REF!,$B54,'Daily Log'!#REF!),0)","v":0},{"$f":"IFERROR($E54*SUMIF('Daily Log'!#REF!,$B54,'Daily Log'!#REF!),0)","v":0}]
[null,"CA06 RIBENA J",null,"SIDE ORDER-COLD BEVERAGE",1,0,{"$f":"IFERROR($E55*SUMIF('Daily Log'!#REF!,$B55,'Daily Log'!#REF!),0)","v":0},{"$f":"IFERROR($E55*SUMIF('Daily Log'!#REF!,$B55,'Daily Log'!#REF!),0)","v":0},{"$f":"IFERROR($E55*SUMIF('Daily Log'!#REF!,$B55,'Daily Log'!#REF!),0)","v":0},{"$f":"IFERROR($E55*SUMIF('Daily Log'!#REF!,$B55,'Daily Log'!#REF!),0)","v":0},{"$f":"IFERROR($E55*SUMIF('Daily Log'!#REF!,$B55,'Daily Log'!#REF!),0)","v":0},{"$f":"IFERROR($E55*SUMIF('Daily Log'!#REF!,$B55,'Daily Log'!#REF!),0)","v":0},{"$f":"IFERROR($E55*SUMIF('Daily Log'!#REF!,$B55,'Daily Log'!#REF!),0)","v":0},{"$f":"IFERROR($E55*SUMIF('Daily Log'!#REF!,$B55,'Daily Log'!#REF!),0)","v":0},{"$f":"IFERROR($E55*SUMIF('Daily Log'!#REF!,$B55,'Daily Log'!#REF!),0)","v":0},{"$f":"IFERROR($E55*SUMIF('Daily Log'!#REF!,$B55,'Daily Log'!#REF!),0)","v":0},{"$f":"IFERROR($E55*SUMIF('Daily Log'!#REF!,$B55,'Daily Log'!#REF!),0)","v":0},{"$f":"IFERROR($E55*SUMIF('Daily Log'!#REF!,$B55,'Daily Log'!#REF!),0)","v":0},{"$f":"IFERROR($E55*SUMIF('Daily Log'!#REF!,$B55,'Daily Log'!#REF!),0)","v":0},{"$f":"IFERROR($E55*SUMIF('Daily Log'!#REF!,$B55,'Daily Log'!#REF!),0)","v":0},{"$f":"IFERROR($E55*SUMIF('Daily Log'!#REF!,$B55,'Daily Log'!#REF!),0)","v":0},{"$f":"IFERROR($E55*SUMIF('Daily Log'!#REF!,$B55,'Daily Log'!#REF!),0)","v":0},{"$f":"IFERROR($E55*SUMIF('Daily Log'!#REF!,$B55,'Daily Log'!#REF!),0)","v":0},{"$f":"IFERROR($E55*SUMIF('Daily Log'!#REF!,$B55,'Daily Log'!#REF!),0)","v":0},{"$f":"IFERROR($E55*SUMIF('Daily Log'!#REF!,$B55,'Daily Log'!#REF!),0)","v":0},{"$f":"IFERROR($E55*SUMIF('Daily Log'!$C$18:$C$1017,$B55,'Daily Log'!$D$18:$D$1017),0)","v":0},{"$f":"IFERROR($E55*SUMIF('Daily Log'!$F$18:$F$1017,$B55,'Daily Log'!$G$18:$G$1017),0)","v":0},{"$f":"IFERROR($E55*SUMIF('Daily Log'!$I$18:$I$1017,$B55,'Daily Log'!$J$18:$J$1017),0)","v":0},{"$f":"IFERROR($E55*SUMIF('Daily Log'!$L$18:$L$1017,$B55,'Daily Log'!$M$18:$M$1017),0)","v":0},{"$f":"IFERROR($E55*SUMIF('Daily Log'!$O$18:$O$1017,$B55,'Daily Log'!$P$18:$P$1017),0)","v":0},{"$f":"IFERROR($E55*SUMIF('Daily Log'!$R$18:$R$1017,$B55,'Daily Log'!$S$18:$S$1017),0)","v":0},{"$f":"IFERROR($E55*SUMIF('Daily Log'!$U$18:$U$1017,$B55,'Daily Log'!$V$18:$V$1017),0)","v":0},{"$f":"IFERROR($E55*SUMIF('Daily Log'!#REF!,$B55,'Daily Log'!#REF!),0)","v":0},{"$f":"IFERROR($E55*SUMIF('Daily Log'!#REF!,$B55,'Daily Log'!#REF!),0)","v":0},{"$f":"IFERROR($E55*SUMIF('Daily Log'!#REF!,$B55,'Daily Log'!#REF!),0)","v":0},{"$f":"IFERROR($E55*SUMIF('Daily Log'!#REF!,$B55,'Daily Log'!#REF!),0)","v":0},{"$f":"IFERROR($E55*SUMIF('Daily Log'!#REF!,$B55,'Daily Log'!#REF!),0)","v":0}]
[null,"CB01 GRAPE SO",null,"SIDE ORDER-COLD BEVERAGE",1,0,{"$f":"IFERROR($E56*SUMIF('Daily Log'!#REF!,$B56,'Daily Log'!#REF!),0)","v":0},{"$f":"IFERROR($E56*SUMIF('Daily Log'!#REF!,$B56,'Daily Log'!#REF!),0)","v":0},{"$f":"IFERROR($E56*SUMIF('Daily Log'!#REF!,$B56,'Daily Log'!#REF!),0)","v":0},{"$f":"IFERROR($E56*SUMIF('Daily Log'!#REF!,$B56,'Daily Log'!#REF!),0)","v":0},{"$f":"IFERROR($E56*SUMIF('Daily Log'!#REF!,$B56,'Daily Log'!#REF!),0)","v":0},{"$f":"IFERROR($E56*SUMIF('Daily Log'!#REF!,$B56,'Daily Log'!#REF!),0)","v":0},{"$f":"IFERROR($E56*SUMIF('Daily Log'!#REF!,$B56,'Daily Log'!#REF!),0)","v":0},{"$f":"IFERROR($E56*SUMIF('Daily Log'!#REF!,$B56,'Daily Log'!#REF!),0)","v":0},{"$f":"IFERROR($E56*SUMIF('Daily Log'!#REF!,$B56,'Daily Log'!#REF!),0)","v":0},{"$f":"IFERROR($E56*SUMIF('Daily Log'!#REF!,$B56,'Daily Log'!#REF!),0)","v":0},{"$f":"IFERROR($E56*SUMIF('Daily Log'!#REF!,$B56,'Daily Log'!#REF!),0)","v":0},{"$f":"IFERROR($E56*SUMIF('Daily Log'!#REF!,$B56,'Daily Log'!#REF!),0)","v":0},{"$f":"IFERROR($E56*SUMIF('Daily Log'!#REF!,$B56,'Daily Log'!#REF!),0)","v":0},{"$f":"IFERROR($E56*SUMIF('Daily Log'!#REF!,$B56,'Daily Log'!#REF!),0)","v":0},{"$f":"IFERROR($E56*SUMIF('Daily Log'!#REF!,$B56,'Daily Log'!#REF!),0)","v":0},{"$f":"IFERROR($E56*SUMIF('Daily Log'!#REF!,$B56,'Daily Log'!#REF!),0)","v":0},{"$f":"IFERROR($E56*SUMIF('Daily Log'!#REF!,$B56,'Daily Log'!#REF!),0)","v":0},{"$f":"IFERROR($E56*SUMIF('Daily Log'!#REF!,$B56,'Daily Log'!#REF!),0)","v":0},{"$f":"IFERROR($E56*SUMIF('Daily Log'!#REF!,$B56,'Daily Log'!#REF!),0)","v":0},{"$f":"IFERROR($E56*SUMIF('Daily Log'!$C$18:$C$1017,$B56,'Daily Log'!$D$18:$D$1017),0)","v":0},{"$f":"IFERROR($E56*SUMIF('Daily Log'!$F$18:$F$1017,$B56,'Daily Log'!$G$18:$G$1017),0)","v":0},{"$f":"IFERROR($E56*SUMIF('Daily Log'!$I$18:$I$1017,$B56,'Daily Log'!$J$18:$J$1017),0)","v":0},{"$f":"IFERROR($E56*SUMIF('Daily Log'!$L$18:$L$1017,$B56,'Daily Log'!$M$18:$M$1017),0)","v":0},{"$f":"IFERROR($E56*SUMIF('Daily Log'!$O$18:$O$1017,$B56,'Daily Log'!$P$18:$P$1017),0)","v":0},{"$f":"IFERROR($E56*SUMIF('Daily Log'!$R$18:$R$1017,$B56,'Daily Log'!$S$18:$S$1017),0)","v":0},{"$f":"IFERROR($E56*SUMIF('Daily Log'!$U$18:$U$1017,$B56,'Daily Log'!$V$18:$V$1017),0)","v":0},{"$f":"IFERROR($E56*SUMIF('Daily Log'!#REF!,$B56,'Daily Log'!#REF!),0)","v":0},{"$f":"IFERROR($E56*SUMIF('Daily Log'!#REF!,$B56,'Daily Log'!#REF!),0)","v":0},{"$f":"IFERROR($E56*SUMIF('Daily Log'!#REF!,$B56,'Daily Log'!#REF!),0)","v":0},{"$f":"IFERROR($E56*SUMIF('Daily Log'!#REF!,$B56,'Daily Log'!#REF!),0)","v":0},{"$f":"IFERROR($E56*SUMIF('Daily Log'!#REF!,$B56,'Daily Log'!#REF!),0)","v":0}]
[null,"CB02 APPLE SO",null,"SIDE ORDER-COLD BEVERAGE",1,0,{"$f":"IFERROR($E57*SUMIF('Daily Log'!#REF!,$B57,'Daily Log'!#REF!),0)","v":0},{"$f":"IFERROR($E57*SUMIF('Daily Log'!#REF!,$B57,'Daily Log'!#REF!),0)","v":0},{"$f":"IFERROR($E57*SUMIF('Daily Log'!#REF!,$B57,'Daily Log'!#REF!),0)","v":0},{"$f":"IFERROR($E57*SUMIF('Daily Log'!#REF!,$B57,'Daily Log'!#REF!),0)","v":0},{"$f":"IFERROR($E57*SUMIF('Daily Log'!#REF!,$B57,'Daily Log'!#REF!),0)","v":0},{"$f":"IFERROR($E57*SUMIF('Daily Log'!#REF!,$B57,'Daily Log'!#REF!),0)","v":0},{"$f":"IFERROR($E57*SUMIF('Daily Log'!#REF!,$B57,'Daily Log'!#REF!),0)","v":0},{"$f":"IFERROR($E57*SUMIF('Daily Log'!#REF!,$B57,'Daily Log'!#REF!),0)","v":0},{"$f":"IFERROR($E57*SUMIF('Daily Log'!#REF!,$B57,'Daily Log'!#REF!),0)","v":0},{"$f":"IFERROR($E57*SUMIF('Daily Log'!#REF!,$B57,'Daily Log'!#REF!),0)","v":0},{"$f":"IFERROR($E57*SUMIF('Daily Log'!#REF!,$B57,'Daily Log'!#REF!),0)","v":0},{"$f":"IFERROR($E57*SUMIF('Daily Log'!#REF!,$B57,'Daily Log'!#REF!),0)","v":0},{"$f":"IFERROR($E57*SUMIF('Daily Log'!#REF!,$B57,'Daily Log'!#REF!),0)","v":0},{"$f":"IFERROR($E57*SUMIF('Daily Log'!#REF!,$B57,'Daily Log'!#REF!),0)","v":0},{"$f":"IFERROR($E57*SUMIF('Daily Log'!#REF!,$B57,'Daily Log'!#REF!),0)","v":0},{"$f":"IFERROR($E57*SUMIF('Daily Log'!#REF!,$B57,'Daily Log'!#REF!),0)","v":0},{"$f":"IFERROR($E57*SUMIF('Daily Log'!#REF!,$B57,'Daily Log'!#REF!),0)","v":0},{"$f":"IFERROR($E57*SUMIF('Daily Log'!#REF!,$B57,'Daily Log'!#REF!),0)","v":0},{"$f":"IFERROR($E57*SUMIF('Daily Log'!#REF!,$B57,'Daily Log'!#REF!),0)","v":0},{"$f":"IFERROR($E57*SUMIF('Daily Log'!$C$18:$C$1017,$B57,'Daily Log'!$D$18:$D$1017),0)","v":0},{"$f":"IFERROR($E57*SUMIF('Daily Log'!$F$18:$F$1017,$B57,'Daily Log'!$G$18:$G$1017),0)","v":0},{"$f":"IFERROR($E57*SUMIF('Daily Log'!$I$18:$I$1017,$B57,'Daily Log'!$J$18:$J$1017),0)","v":0},{"$f":"IFERROR($E57*SUMIF('Daily Log'!$L$18:$L$1017,$B57,'Daily Log'!$M$18:$M$1017),0)","v":0},{"$f":"IFERROR($E57*SUMIF('Daily Log'!$O$18:$O$1017,$B57,'Daily Log'!$P$18:$P$1017),0)","v":0},{"$f":"IFERROR($E57*SUMIF('Daily Log'!$R$18:$R$1017,$B57,'Daily Log'!$S$18:$S$1017),0)","v":0},{"$f":"IFERROR($E57*SUMIF('Daily Log'!$U$18:$U$1017,$B57,'Daily Log'!$V$18:$V$1017),0)","v":0},{"$f":"IFERROR($E57*SUMIF('Daily Log'!#REF!,$B57,'Daily Log'!#REF!),0)","v":0},{"$f":"IFERROR($E57*SUMIF('Daily Log'!#REF!,$B57,'Daily Log'!#REF!),0)","v":0},{"$f":"IFERROR($E57*SUMIF('Daily Log'!#REF!,$B57,'Daily Log'!#REF!),0)","v":0},{"$f":"IFERROR($E57*SUMIF('Daily Log'!#REF!,$B57,'Daily Log'!#REF!),0)","v":0},{"$f":"IFERROR($E57*SUMIF('Daily Log'!#REF!,$B57,'Daily Log'!#REF!),0)","v":0}]
[null,"CB03 KIWI SO",null,"SIDE ORDER-COLD BEVERAGE",1,0,{"$f":"IFERROR($E58*SUMIF('Daily Log'!#REF!,$B58,'Daily Log'!#REF!),0)","v":0},{"$f":"IFERROR($E58*SUMIF('Daily Log'!#REF!,$B58,'Daily Log'!#REF!),0)","v":0},{"$f":"IFERROR($E58*SUMIF('Daily Log'!#REF!,$B58,'Daily Log'!#REF!),0)","v":0},{"$f":"IFERROR($E58*SUMIF('Daily Log'!#REF!,$B58,'Daily Log'!#REF!),0)","v":0},{"$f":"IFERROR($E58*SUMIF('Daily Log'!#REF!,$B58,'Daily Log'!#REF!),0)","v":0},{"$f":"IFERROR($E58*SUMIF('Daily Log'!#REF!,$B58,'Daily Log'!#REF!),0)","v":0},{"$f":"IFERROR($E58*SUMIF('Daily Log'!#REF!,$B58,'Daily Log'!#REF!),0)","v":0},{"$f":"IFERROR($E58*SUMIF('Daily Log'!#REF!,$B58,'Daily Log'!#REF!),0)","v":0},{"$f":"IFERROR($E58*SUMIF('Daily Log'!#REF!,$B58,'Daily Log'!#REF!),0)","v":0},{"$f":"IFERROR($E58*SUMIF('Daily Log'!#REF!,$B58,'Daily Log'!#REF!),0)","v":0},{"$f":"IFERROR($E58*SUMIF('Daily Log'!#REF!,$B58,'Daily Log'!#REF!),0)","v":0},{"$f":"IFERROR($E58*SUMIF('Daily Log'!#REF!,$B58,'Daily Log'!#REF!),0)","v":0},{"$f":"IFERROR($E58*SUMIF('Daily Log'!#REF!,$B58,'Daily Log'!#REF!),0)","v":0},{"$f":"IFERROR($E58*SUMIF('Daily Log'!#REF!,$B58,'Daily Log'!#REF!),0)","v":0},{"$f":"IFERROR($E58*SUMIF('Daily Log'!#REF!,$B58,'Daily Log'!#REF!),0)","v":0},{"$f":"IFERROR($E58*SUMIF('Daily Log'!#REF!,$B58,'Daily Log'!#REF!),0)","v":0},{"$f":"IFERROR($E58*SUMIF('Daily Log'!#REF!,$B58,'Daily Log'!#REF!),0)","v":0},{"$f":"IFERROR($E58*SUMIF('Daily Log'!#REF!,$B58,'Daily Log'!#REF!),0)","v":0},{"$f":"IFERROR($E58*SUMIF('Daily Log'!#REF!,$B58,'Daily Log'!#REF!),0)","v":0},{"$f":"IFERROR($E58*SUMIF('Daily Log'!$C$18:$C$1017,$B58,'Daily Log'!$D$18:$D$1017),0)","v":0},{"$f":"IFERROR($E58*SUMIF('Daily Log'!$F$18:$F$1017,$B58,'Daily Log'!$G$18:$G$1017),0)","v":0},{"$f":"IFERROR($E58*SUMIF('Daily Log'!$I$18:$I$1017,$B58,'Daily Log'!$J$18:$J$1017),0)","v":0},{"$f":"IFERROR($E58*SUMIF('Daily Log'!$L$18:$L$1017,$B58,'Daily Log'!$M$18:$M$1017),0)","v":0},{"$f":"IFERROR($E58*SUMIF('Daily Log'!$O$18:$O$1017,$B58,'Daily Log'!$P$18:$P$1017),0)","v":0},{"$f":"IFERROR($E58*SUMIF('Daily Log'!$R$18:$R$1017,$B58,'Daily Log'!$S$18:$S$1017),0)","v":0},{"$f":"IFERROR($E58*SUMIF('Daily Log'!$U$18:$U$1017,$B58,'Daily Log'!$V$18:$V$1017),0)","v":0},{"$f":"IFERROR($E58*SUMIF('Daily Log'!#REF!,$B58,'Daily Log'!#REF!),0)","v":0},{"$f":"IFERROR($E58*SUMIF('Daily Log'!#REF!,$B58,'Daily Log'!#REF!),0)","v":0},{"$f":"IFERROR($E58*SUMIF('Daily Log'!#REF!,$B58,'Daily Log'!#REF!),0)","v":0},{"$f":"IFERROR($E58*SUMIF('Daily Log'!#REF!,$B58,'Daily Log'!#REF!),0)","v":0},{"$f":"IFERROR($E58*SUMIF('Daily Log'!#REF!,$B58,'Daily Log'!#REF!),0)","v":0}]
[null,"CB04 MANGO SO",null,"SIDE ORDER-COLD BEVERAGE",1,0,{"$f":"IFERROR($E59*SUMIF('Daily Log'!#REF!,$B59,'Daily Log'!#REF!),0)","v":0},{"$f":"IFERROR($E59*SUMIF('Daily Log'!#REF!,$B59,'Daily Log'!#REF!),0)","v":0},{"$f":"IFERROR($E59*SUMIF('Daily Log'!#REF!,$B59,'Daily Log'!#REF!),0)","v":0},{"$f":"IFERROR($E59*SUMIF('Daily Log'!#REF!,$B59,'Daily Log'!#REF!),0)","v":0},{"$f":"IFERROR($E59*SUMIF('Daily Log'!#REF!,$B59,'Daily Log'!#REF!),0)","v":0},{"$f":"IFERROR($E59*SUMIF('Daily Log'!#REF!,$B59,'Daily Log'!#REF!),0)","v":0},{"$f":"IFERROR($E59*SUMIF('Daily Log'!#REF!,$B59,'Daily Log'!#REF!),0)","v":0},{"$f":"IFERROR($E59*SUMIF('Daily Log'!#REF!,$B59,'Daily Log'!#REF!),0)","v":0},{"$f":"IFERROR($E59*SUMIF('Daily Log'!#REF!,$B59,'Daily Log'!#REF!),0)","v":0},{"$f":"IFERROR($E59*SUMIF('Daily Log'!#REF!,$B59,'Daily Log'!#REF!),0)","v":0},{"$f":"IFERROR($E59*SUMIF('Daily Log'!#REF!,$B59,'Daily Log'!#REF!),0)","v":0},{"$f":"IFERROR($E59*SUMIF('Daily Log'!#REF!,$B59,'Daily Log'!#REF!),0)","v":0},{"$f":"IFERROR($E59*SUMIF('Daily Log'!#REF!,$B59,'Daily Log'!#REF!),0)","v":0},{"$f":"IFERROR($E59*SUMIF('Daily Log'!#REF!,$B59,'Daily Log'!#REF!),0)","v":0},{"$f":"IFERROR($E59*SUMIF('Daily Log'!#REF!,$B59,'Daily Log'!#REF!),0)","v":0},{"$f":"IFERROR($E59*SUMIF('Daily Log'!#REF!,$B59,'Daily Log'!#REF!),0)","v":0},{"$f":"IFERROR($E59*SUMIF('Daily Log'!#REF!,$B59,'Daily Log'!#REF!),0)","v":0},{"$f":"IFERROR($E59*SUMIF('Daily Log'!#REF!,$B59,'Daily Log'!#REF!),0)","v":0},{"$f":"IFERROR($E59*SUMIF('Daily Log'!#REF!,$B59,'Daily Log'!#REF!),0)","v":0},{"$f":"IFERROR($E59*SUMIF('Daily Log'!$C$18:$C$1017,$B59,'Daily Log'!$D$18:$D$1017),0)","v":0},{"$f":"IFERROR($E59*SUMIF('Daily Log'!$F$18:$F$1017,$B59,'Daily Log'!$G$18:$G$1017),0)","v":0},{"$f":"IFERROR($E59*SUMIF('Daily Log'!$I$18:$I$1017,$B59,'Daily Log'!$J$18:$J$1017),0)","v":0},{"$f":"IFERROR($E59*SUMIF('Daily Log'!$L$18:$L$1017,$B59,'Daily Log'!$M$18:$M$1017),0)","v":0},{"$f":"IFERROR($E59*SUMIF('Daily Log'!$O$18:$O$1017,$B59,'Daily Log'!$P$18:$P$1017),0)","v":0},{"$f":"IFERROR($E59*SUMIF('Daily Log'!$R$18:$R$1017,$B59,'Daily Log'!$S$18:$S$1017),0)","v":0},{"$f":"IFERROR($E59*SUMIF('Daily Log'!$U$18:$U$1017,$B59,'Daily Log'!$V$18:$V$1017),0)","v":0},{"$f":"IFERROR($E59*SUMIF('Daily Log'!#REF!,$B59,'Daily Log'!#REF!),0)","v":0},{"$f":"IFERROR($E59*SUMIF('Daily Log'!#REF!,$B59,'Daily Log'!#REF!),0)","v":0},{"$f":"IFERROR($E59*SUMIF('Daily Log'!#REF!,$B59,'Daily Log'!#REF!),0)","v":0},{"$f":"IFERROR($E59*SUMIF('Daily Log'!#REF!,$B59,'Daily Log'!#REF!),0)","v":0},{"$f":"IFERROR($E59*SUMIF('Daily Log'!#REF!,$B59,'Daily Log'!#REF!),0)","v":0}]
[null,"CB05 PASSION SO",null,"SIDE ORDER-COLD BEVERAGE",1,0,{"$f":"IFERROR($E60*SUMIF('Daily Log'!#REF!,$B60,'Daily Log'!#REF!),0)","v":0},{"$f":"IFERROR($E60*SUMIF('Daily Log'!#REF!,$B60,'Daily Log'!#REF!),0)","v":0},{"$f":"IFERROR($E60*SUMIF('Daily Log'!#REF!,$B60,'Daily Log'!#REF!),0)","v":0},{"$f":"IFERROR($E60*SUMIF('Daily Log'!#REF!,$B60,'Daily Log'!#REF!),0)","v":0},{"$f":"IFERROR($E60*SUMIF('Daily Log'!#REF!,$B60,'Daily Log'!#REF!),0)","v":0},{"$f":"IFERROR($E60*SUMIF('Daily Log'!#REF!,$B60,'Daily Log'!#REF!),0)","v":0},{"$f":"IFERROR($E60*SUMIF('Daily Log'!#REF!,$B60,'Daily Log'!#REF!),0)","v":0},{"$f":"IFERROR($E60*SUMIF('Daily Log'!#REF!,$B60,'Daily Log'!#REF!),0)","v":0},{"$f":"IFERROR($E60*SUMIF('Daily Log'!#REF!,$B60,'Daily Log'!#REF!),0)","v":0},{"$f":"IFERROR($E60*SUMIF('Daily Log'!#REF!,$B60,'Daily Log'!#REF!),0)","v":0},{"$f":"IFERROR($E60*SUMIF('Daily Log'!#REF!,$B60,'Daily Log'!#REF!),0)","v":0},{"$f":"IFERROR($E60*SUMIF('Daily Log'!#REF!,$B60,'Daily Log'!#REF!),0)","v":0},{"$f":"IFERROR($E60*SUMIF('Daily Log'!#REF!,$B60,'Daily Log'!#REF!),0)","v":0},{"$f":"IFERROR($E60*SUMIF('Daily Log'!#REF!,$B60,'Daily Log'!#REF!),0)","v":0},{"$f":"IFERROR($E60*SUMIF('Daily Log'!#REF!,$B60,'Daily Log'!#REF!),0)","v":0},{"$f":"IFERROR($E60*SUMIF('Daily Log'!#REF!,$B60,'Daily Log'!#REF!),0)","v":0},{"$f":"IFERROR($E60*SUMIF('Daily Log'!#REF!,$B60,'Daily Log'!#REF!),0)","v":0},{"$f":"IFERROR($E60*SUMIF('Daily Log'!#REF!,$B60,'Daily Log'!#REF!),0)","v":0},{"$f":"IFERROR($E60*SUMIF('Daily Log'!#REF!,$B60,'Daily Log'!#REF!),0)","v":0},{"$f":"IFERROR($E60*SUMIF('Daily Log'!$C$18:$C$1017,$B60,'Daily Log'!$D$18:$D$1017),0)","v":0},{"$f":"IFERROR($E60*SUMIF('Daily Log'!$F$18:$F$1017,$B60,'Daily Log'!$G$18:$G$1017),0)","v":0},{"$f":"IFERROR($E60*SUMIF('Daily Log'!$I$18:$I$1017,$B60,'Daily Log'!$J$18:$J$1017),0)","v":0},{"$f":"IFERROR($E60*SUMIF('Daily Log'!$L$18:$L$1017,$B60,'Daily Log'!$M$18:$M$1017),0)","v":0},{"$f":"IFERROR($E60*SUMIF('Daily Log'!$O$18:$O$1017,$B60,'Daily Log'!$P$18:$P$1017),0)","v":0},{"$f":"IFERROR($E60*SUMIF('Daily Log'!$R$18:$R$1017,$B60,'Daily Log'!$S$18:$S$1017),0)","v":0},{"$f":"IFERROR($E60*SUMIF('Daily Log'!$U$18:$U$1017,$B60,'Daily Log'!$V$18:$V$1017),0)","v":0},{"$f":"IFERROR($E60*SUMIF('Daily Log'!#REF!,$B60,'Daily Log'!#REF!),0)","v":0},{"$f":"IFERROR($E60*SUMIF('Daily Log'!#REF!,$B60,'Daily Log'!#REF!),0)","v":0},{"$f":"IFERROR($E60*SUMIF('Daily Log'!#REF!,$B60,'Daily Log'!#REF!),0)","v":0},{"$f":"IFERROR($E60*SUMIF('Daily Log'!#REF!,$B60,'Daily Log'!#REF!),0)","v":0},{"$f":"IFERROR($E60*SUMIF('Daily Log'!#REF!,$B60,'Daily Log'!#REF!),0)","v":0}]
[null,"CB06 RIBENA SO",null,"SIDE ORDER-COLD BEVERAGE",1,0,{"$f":"IFERROR($E61*SUMIF('Daily Log'!#REF!,$B61,'Daily Log'!#REF!),0)","v":0},{"$f":"IFERROR($E61*SUMIF('Daily Log'!#REF!,$B61,'Daily Log'!#REF!),0)","v":0},{"$f":"IFERROR($E61*SUMIF('Daily Log'!#REF!,$B61,'Daily Log'!#REF!),0)","v":0},{"$f":"IFERROR($E61*SUMIF('Daily Log'!#REF!,$B61,'Daily Log'!#REF!),0)","v":0},{"$f":"IFERROR($E61*SUMIF('Daily Log'!#REF!,$B61,'Daily Log'!#REF!),0)","v":0},{"$f":"IFERROR($E61*SUMIF('Daily Log'!#REF!,$B61,'Daily Log'!#REF!),0)","v":0},{"$f":"IFERROR($E61*SUMIF('Daily Log'!#REF!,$B61,'Daily Log'!#REF!),0)","v":0},{"$f":"IFERROR($E61*SUMIF('Daily Log'!#REF!,$B61,'Daily Log'!#REF!),0)","v":0},{"$f":"IFERROR($E61*SUMIF('Daily Log'!#REF!,$B61,'Daily Log'!#REF!),0)","v":0},{"$f":"IFERROR($E61*SUMIF('Daily Log'!#REF!,$B61,'Daily Log'!#REF!),0)","v":0},{"$f":"IFERROR($E61*SUMIF('Daily Log'!#REF!,$B61,'Daily Log'!#REF!),0)","v":0},{"$f":"IFERROR($E61*SUMIF('Daily Log'!#REF!,$B61,'Daily Log'!#REF!),0)","v":0},{"$f":"IFERROR($E61*SUMIF('Daily Log'!#REF!,$B61,'Daily Log'!#REF!),0)","v":0},{"$f":"IFERROR($E61*SUMIF('Daily Log'!#REF!,$B61,'Daily Log'!#REF!),0)","v":0},{"$f":"IFERROR($E61*SUMIF('Daily Log'!#REF!,$B61,'Daily Log'!#REF!),0)","v":0},{"$f":"IFERROR($E61*SUMIF('Daily Log'!#REF!,$B61,'Daily Log'!#REF!),0)","v":0},{"$f":"IFERROR($E61*SUMIF('Daily Log'!#REF!,$B61,'Daily Log'!#REF!),0)","v":0},{"$f":"IFERROR($E61*SUMIF('Daily Log'!#REF!,$B61,'Daily Log'!#REF!),0)","v":0},{"$f":"IFERROR($E61*SUMIF('Daily Log'!#REF!,$B61,'Daily Log'!#REF!),0)","v":0},{"$f":"IFERROR($E61*SUMIF('Daily Log'!$C$18:$C$1017,$B61,'Daily Log'!$D$18:$D$1017),0)","v":0},{"$f":"IFERROR($E61*SUMIF('Daily Log'!$F$18:$F$1017,$B61,'Daily Log'!$G$18:$G$1017),0)","v":0},{"$f":"IFERROR($E61*SUMIF('Daily Log'!$I$18:$I$1017,$B61,'Daily Log'!$J$18:$J$1017),0)","v":0},{"$f":"IFERROR($E61*SUMIF('Daily Log'!$L$18:$L$1017,$B61,'Daily Log'!$M$18:$M$1017),0)","v":0},{"$f":"IFERROR($E61*SUMIF('Daily Log'!$O$18:$O$1017,$B61,'Daily Log'!$P$18:$P$1017),0)","v":0},{"$f":"IFERROR($E61*SUMIF('Daily Log'!$R$18:$R$1017,$B61,'Daily Log'!$S$18:$S$1017),0)","v":0},{"$f":"IFERROR($E61*SUMIF('Daily Log'!$U$18:$U$1017,$B61,'Daily Log'!$V$18:$V$1017),0)","v":0},{"$f":"IFERROR($E61*SUMIF('Daily Log'!#REF!,$B61,'Daily Log'!#REF!),0)","v":0},{"$f":"IFERROR($E61*SUMIF('Daily Log'!#REF!,$B61,'Daily Log'!#REF!),0)","v":0},{"$f":"IFERROR($E61*SUMIF('Daily Log'!#REF!,$B61,'Daily Log'!#REF!),0)","v":0},{"$f":"IFERROR($E61*SUMIF('Daily Log'!#REF!,$B61,'Daily Log'!#REF!),0)","v":0},{"$f":"IFERROR($E61*SUMIF('Daily Log'!#REF!,$B61,'Daily Log'!#REF!),0)","v":0}]
[null,"CC01 GRAPE SM",null,"SIDE ORDER-COLD BEVERAGE",1,0,{"$f":"IFERROR($E62*SUMIF('Daily Log'!#REF!,$B62,'Daily Log'!#REF!),0)","v":0},{"$f":"IFERROR($E62*SUMIF('Daily Log'!#REF!,$B62,'Daily Log'!#REF!),0)","v":0},{"$f":"IFERROR($E62*SUMIF('Daily Log'!#REF!,$B62,'Daily Log'!#REF!),0)","v":0},{"$f":"IFERROR($E62*SUMIF('Daily Log'!#REF!,$B62,'Daily Log'!#REF!),0)","v":0},{"$f":"IFERROR($E62*SUMIF('Daily Log'!#REF!,$B62,'Daily Log'!#REF!),0)","v":0},{"$f":"IFERROR($E62*SUMIF('Daily Log'!#REF!,$B62,'Daily Log'!#REF!),0)","v":0},{"$f":"IFERROR($E62*SUMIF('Daily Log'!#REF!,$B62,'Daily Log'!#REF!),0)","v":0},{"$f":"IFERROR($E62*SUMIF('Daily Log'!#REF!,$B62,'Daily Log'!#REF!),0)","v":0},{"$f":"IFERROR($E62*SUMIF('Daily Log'!#REF!,$B62,'Daily Log'!#REF!),0)","v":0},{"$f":"IFERROR($E62*SUMIF('Daily Log'!#REF!,$B62,'Daily Log'!#REF!),0)","v":0},{"$f":"IFERROR($E62*SUMIF('Daily Log'!#REF!,$B62,'Daily Log'!#REF!),0)","v":0},{"$f":"IFERROR($E62*SUMIF('Daily Log'!#REF!,$B62,'Daily Log'!#REF!),0)","v":0},{"$f":"IFERROR($E62*SUMIF('Daily Log'!#REF!,$B62,'Daily Log'!#REF!),0)","v":0},{"$f":"IFERROR($E62*SUMIF('Daily Log'!#REF!,$B62,'Daily Log'!#REF!),0)","v":0},{"$f":"IFERROR($E62*SUMIF('Daily Log'!#REF!,$B62,'Daily Log'!#REF!),0)","v":0},{"$f":"IFERROR($E62*SUMIF('Daily Log'!#REF!,$B62,'Daily Log'!#REF!),0)","v":0},{"$f":"IFERROR($E62*SUMIF('Daily Log'!#REF!,$B62,'Daily Log'!#REF!),0)","v":0},{"$f":"IFERROR($E62*SUMIF('Daily Log'!#REF!,$B62,'Daily Log'!#REF!),0)","v":0},{"$f":"IFERROR($E62*SUMIF('Daily Log'!#REF!,$B62,'Daily Log'!#REF!),0)","v":0},{"$f":"IFERROR($E62*SUMIF('Daily Log'!$C$18:$C$1017,$B62,'Daily Log'!$D$18:$D$1017),0)","v":0},{"$f":"IFERROR($E62*SUMIF('Daily Log'!$F$18:$F$1017,$B62,'Daily Log'!$G$18:$G$1017),0)","v":0},{"$f":"IFERROR($E62*SUMIF('Daily Log'!$I$18:$I$1017,$B62,'Daily Log'!$J$18:$J$1017),0)","v":0},{"$f":"IFERROR($E62*SUMIF('Daily Log'!$L$18:$L$1017,$B62,'Daily Log'!$M$18:$M$1017),0)","v":0},{"$f":"IFERROR($E62*SUMIF('Daily Log'!$O$18:$O$1017,$B62,'Daily Log'!$P$18:$P$1017),0)","v":0},{"$f":"IFERROR($E62*SUMIF('Daily Log'!$R$18:$R$1017,$B62,'Daily Log'!$S$18:$S$1017),0)","v":0},{"$f":"IFERROR($E62*SUMIF('Daily Log'!$U$18:$U$1017,$B62,'Daily Log'!$V$18:$V$1017),0)","v":0},{"$f":"IFERROR($E62*SUMIF('Daily Log'!#REF!,$B62,'Daily Log'!#REF!),0)","v":0},{"$f":"IFERROR($E62*SUMIF('Daily Log'!#REF!,$B62,'Daily Log'!#REF!),0)","v":0},{"$f":"IFERROR($E62*SUMIF('Daily Log'!#REF!,$B62,'Daily Log'!#REF!),0)","v":0},{"$f":"IFERROR($E62*SUMIF('Daily Log'!#REF!,$B62,'Daily Log'!#REF!),0)","v":0},{"$f":"IFERROR($E62*SUMIF('Daily Log'!#REF!,$B62,'Daily Log'!#REF!),0)","v":0}]
[null,"CC02 APPLE SM",null,"SIDE ORDER-COLD BEVERAGE",1,0,{"$f":"IFERROR($E63*SUMIF('Daily Log'!#REF!,$B63,'Daily Log'!#REF!),0)","v":0},{"$f":"IFERROR($E63*SUMIF('Daily Log'!#REF!,$B63,'Daily Log'!#REF!),0)","v":0},{"$f":"IFERROR($E63*SUMIF('Daily Log'!#REF!,$B63,'Daily Log'!#REF!),0)","v":0},{"$f":"IFERROR($E63*SUMIF('Daily Log'!#REF!,$B63,'Daily Log'!#REF!),0)","v":0},{"$f":"IFERROR($E63*SUMIF('Daily Log'!#REF!,$B63,'Daily Log'!#REF!),0)","v":0},{"$f":"IFERROR($E63*SUMIF('Daily Log'!#REF!,$B63,'Daily Log'!#REF!),0)","v":0},{"$f":"IFERROR($E63*SUMIF('Daily Log'!#REF!,$B63,'Daily Log'!#REF!),0)","v":0},{"$f":"IFERROR($E63*SUMIF('Daily Log'!#REF!,$B63,'Daily Log'!#REF!),0)","v":0},{"$f":"IFERROR($E63*SUMIF('Daily Log'!#REF!,$B63,'Daily Log'!#REF!),0)","v":0},{"$f":"IFERROR($E63*SUMIF('Daily Log'!#REF!,$B63,'Daily Log'!#REF!),0)","v":0},{"$f":"IFERROR($E63*SUMIF('Daily Log'!#REF!,$B63,'Daily Log'!#REF!),0)","v":0},{"$f":"IFERROR($E63*SUMIF('Daily Log'!#REF!,$B63,'Daily Log'!#REF!),0)","v":0},{"$f":"IFERROR($E63*SUMIF('Daily Log'!#REF!,$B63,'Daily Log'!#REF!),0)","v":0},{"$f":"IFERROR($E63*SUMIF('Daily Log'!#REF!,$B63,'Daily Log'!#REF!),0)","v":0},{"$f":"IFERROR($E63*SUMIF('Daily Log'!#REF!,$B63,'Daily Log'!#REF!),0)","v":0},{"$f":"IFERROR($E63*SUMIF('Daily Log'!#REF!,$B63,'Daily Log'!#REF!),0)","v":0},{"$f":"IFERROR($E63*SUMIF('Daily Log'!#REF!,$B63,'Daily Log'!#REF!),0)","v":0},{"$f":"IFERROR($E63*SUMIF('Daily Log'!#REF!,$B63,'Daily Log'!#REF!),0)","v":0},{"$f":"IFERROR($E63*SUMIF('Daily Log'!#REF!,$B63,'Daily Log'!#REF!),0)","v":0},{"$f":"IFERROR($E63*SUMIF('Daily Log'!$C$18:$C$1017,$B63,'Daily Log'!$D$18:$D$1017),0)","v":0},{"$f":"IFERROR($E63*SUMIF('Daily Log'!$F$18:$F$1017,$B63,'Daily Log'!$G$18:$G$1017),0)","v":0},{"$f":"IFERROR($E63*SUMIF('Daily Log'!$I$18:$I$1017,$B63,'Daily Log'!$J$18:$J$1017),0)","v":0},{"$f":"IFERROR($E63*SUMIF('Daily Log'!$L$18:$L$1017,$B63,'Daily Log'!$M$18:$M$1017),0)","v":0},{"$f":"IFERROR($E63*SUMIF('Daily Log'!$O$18:$O$1017,$B63,'Daily Log'!$P$18:$P$1017),0)","v":0},{"$f":"IFERROR($E63*SUMIF('Daily Log'!$R$18:$R$1017,$B63,'Daily Log'!$S$18:$S$1017),0)","v":0},{"$f":"IFERROR($E63*SUMIF('Daily Log'!$U$18:$U$1017,$B63,'Daily Log'!$V$18:$V$1017),0)","v":0},{"$f":"IFERROR($E63*SUMIF('Daily Log'!#REF!,$B63,'Daily Log'!#REF!),0)","v":0},{"$f":"IFERROR($E63*SUMIF('Daily Log'!#REF!,$B63,'Daily Log'!#REF!),0)","v":0},{"$f":"IFERROR($E63*SUMIF('Daily Log'!#REF!,$B63,'Daily Log'!#REF!),0)","v":0},{"$f":"IFERROR($E63*SUMIF('Daily Log'!#REF!,$B63,'Daily Log'!#REF!),0)","v":0},{"$f":"IFERROR($E63*SUMIF('Daily Log'!#REF!,$B63,'Daily Log'!#REF!),0)","v":0}]
[null,"CC03 KIWI SM",null,"SIDE ORDER-COLD BEVERAGE",1,0,{"$f":"IFERROR($E64*SUMIF('Daily Log'!#REF!,$B64,'Daily Log'!#REF!),0)","v":0},{"$f":"IFERROR($E64*SUMIF('Daily Log'!#REF!,$B64,'Daily Log'!#REF!),0)","v":0},{"$f":"IFERROR($E64*SUMIF('Daily Log'!#REF!,$B64,'Daily Log'!#REF!),0)","v":0},{"$f":"IFERROR($E64*SUMIF('Daily Log'!#REF!,$B64,'Daily Log'!#REF!),0)","v":0},{"$f":"IFERROR($E64*SUMIF('Daily Log'!#REF!,$B64,'Daily Log'!#REF!),0)","v":0},{"$f":"IFERROR($E64*SUMIF('Daily Log'!#REF!,$B64,'Daily Log'!#REF!),0)","v":0},{"$f":"IFERROR($E64*SUMIF('Daily Log'!#REF!,$B64,'Daily Log'!#REF!),0)","v":0},{"$f":"IFERROR($E64*SUMIF('Daily Log'!#REF!,$B64,'Daily Log'!#REF!),0)","v":0},{"$f":"IFERROR($E64*SUMIF('Daily Log'!#REF!,$B64,'Daily Log'!#REF!),0)","v":0},{"$f":"IFERROR($E64*SUMIF('Daily Log'!#REF!,$B64,'Daily Log'!#REF!),0)","v":0},{"$f":"IFERROR($E64*SUMIF('Daily Log'!#REF!,$B64,'Daily Log'!#REF!),0)","v":0},{"$f":"IFERROR($E64*SUMIF('Daily Log'!#REF!,$B64,'Daily Log'!#REF!),0)","v":0},{"$f":"IFERROR($E64*SUMIF('Daily Log'!#REF!,$B64,'Daily Log'!#REF!),0)","v":0},{"$f":"IFERROR($E64*SUMIF('Daily Log'!#REF!,$B64,'Daily Log'!#REF!),0)","v":0},{"$f":"IFERROR($E64*SUMIF('Daily Log'!#REF!,$B64,'Daily Log'!#REF!),0)","v":0},{"$f":"IFERROR($E64*SUMIF('Daily Log'!#REF!,$B64,'Daily Log'!#REF!),0)","v":0},{"$f":"IFERROR($E64*SUMIF('Daily Log'!#REF!,$B64,'Daily Log'!#REF!),0)","v":0},{"$f":"IFERROR($E64*SUMIF('Daily Log'!#REF!,$B64,'Daily Log'!#REF!),0)","v":0},{"$f":"IFERROR($E64*SUMIF('Daily Log'!#REF!,$B64,'Daily Log'!#REF!),0)","v":0},{"$f":"IFERROR($E64*SUMIF('Daily Log'!$C$18:$C$1017,$B64,'Daily Log'!$D$18:$D$1017),0)","v":0},{"$f":"IFERROR($E64*SUMIF('Daily Log'!$F$18:$F$1017,$B64,'Daily Log'!$G$18:$G$1017),0)","v":0},{"$f":"IFERROR($E64*SUMIF('Daily Log'!$I$18:$I$1017,$B64,'Daily Log'!$J$18:$J$1017),0)","v":0},{"$f":"IFERROR($E64*SUMIF('Daily Log'!$L$18:$L$1017,$B64,'Daily Log'!$M$18:$M$1017),0)","v":0},{"$f":"IFERROR($E64*SUMIF('Daily Log'!$O$18:$O$1017,$B64,'Daily Log'!$P$18:$P$1017),0)","v":0},{"$f":"IFERROR($E64*SUMIF('Daily Log'!$R$18:$R$1017,$B64,'Daily Log'!$S$18:$S$1017),0)","v":0},{"$f":"IFERROR($E64*SUMIF('Daily Log'!$U$18:$U$1017,$B64,'Daily Log'!$V$18:$V$1017),0)","v":0},{"$f":"IFERROR($E64*SUMIF('Daily Log'!#REF!,$B64,'Daily Log'!#REF!),0)","v":0},{"$f":"IFERROR($E64*SUMIF('Daily Log'!#REF!,$B64,'Daily Log'!#REF!),0)","v":0},{"$f":"IFERROR($E64*SUMIF('Daily Log'!#REF!,$B64,'Daily Log'!#REF!),0)","v":0},{"$f":"IFERROR($E64*SUMIF('Daily Log'!#REF!,$B64,'Daily Log'!#REF!),0)","v":0},{"$f":"IFERROR($E64*SUMIF('Daily Log'!#REF!,$B64,'Daily Log'!#REF!),0)","v":0}]
[null,"CC04 MANGO SM",null,"SIDE ORDER-COLD BEVERAGE",1,1,{"$f":"IFERROR($E65*SUMIF('Daily Log'!#REF!,$B65,'Daily Log'!#REF!),0)","v":0},{"$f":"IFERROR($E65*SUMIF('Daily Log'!#REF!,$B65,'Daily Log'!#REF!),0)","v":0},{"$f":"IFERROR($E65*SUMIF('Daily Log'!#REF!,$B65,'Daily Log'!#REF!),0)","v":0},{"$f":"IFERROR($E65*SUMIF('Daily Log'!#REF!,$B65,'Daily Log'!#REF!),0)","v":0},{"$f":"IFERROR($E65*SUMIF('Daily Log'!#REF!,$B65,'Daily Log'!#REF!),0)","v":0},{"$f":"IFERROR($E65*SUMIF('Daily Log'!#REF!,$B65,'Daily Log'!#REF!),0)","v":0},{"$f":"IFERROR($E65*SUMIF('Daily Log'!#REF!,$B65,'Daily Log'!#REF!),0)","v":0},{"$f":"IFERROR($E65*SUMIF('Daily Log'!#REF!,$B65,'Daily Log'!#REF!),0)","v":0},{"$f":"IFERROR($E65*SUMIF('Daily Log'!#REF!,$B65,'Daily Log'!#REF!),0)","v":0},{"$f":"IFERROR($E65*SUMIF('Daily Log'!#REF!,$B65,'Daily Log'!#REF!),0)","v":0},{"$f":"IFERROR($E65*SUMIF('Daily Log'!#REF!,$B65,'Daily Log'!#REF!),0)","v":0},{"$f":"IFERROR($E65*SUMIF('Daily Log'!#REF!,$B65,'Daily Log'!#REF!),0)","v":0},{"$f":"IFERROR($E65*SUMIF('Daily Log'!#REF!,$B65,'Daily Log'!#REF!),0)","v":0},{"$f":"IFERROR($E65*SUMIF('Daily Log'!#REF!,$B65,'Daily Log'!#REF!),0)","v":0},{"$f":"IFERROR($E65*SUMIF('Daily Log'!#REF!,$B65,'Daily Log'!#REF!),0)","v":0},{"$f":"IFERROR($E65*SUMIF('Daily Log'!#REF!,$B65,'Daily Log'!#REF!),0)","v":0},{"$f":"IFERROR($E65*SUMIF('Daily Log'!#REF!,$B65,'Daily Log'!#REF!),0)","v":0},{"$f":"IFERROR($E65*SUMIF('Daily Log'!#REF!,$B65,'Daily Log'!#REF!),0)","v":0},{"$f":"IFERROR($E65*SUMIF('Daily Log'!#REF!,$B65,'Daily Log'!#REF!),0)","v":0},{"$f":"IFERROR($E65*SUMIF('Daily Log'!$C$18:$C$1017,$B65,'Daily Log'!$D$18:$D$1017),0)","v":0},{"$f":"IFERROR($E65*SUMIF('Daily Log'!$F$18:$F$1017,$B65,'Daily Log'!$G$18:$G$1017),0)","v":1},{"$f":"IFERROR($E65*SUMIF('Daily Log'!$I$18:$I$1017,$B65,'Daily Log'!$J$18:$J$1017),0)","v":0},{"$f":"IFERROR($E65*SUMIF('Daily Log'!$L$18:$L$1017,$B65,'Daily Log'!$M$18:$M$1017),0)","v":0},{"$f":"IFERROR($E65*SUMIF('Daily Log'!$O$18:$O$1017,$B65,'Daily Log'!$P$18:$P$1017),0)","v":0},{"$f":"IFERROR($E65*SUMIF('Daily Log'!$R$18:$R$1017,$B65,'Daily Log'!$S$18:$S$1017),0)","v":0},{"$f":"IFERROR($E65*SUMIF('Daily Log'!$U$18:$U$1017,$B65,'Daily Log'!$V$18:$V$1017),0)","v":0},{"$f":"IFERROR($E65*SUMIF('Daily Log'!#REF!,$B65,'Daily Log'!#REF!),0)","v":0},{"$f":"IFERROR($E65*SUMIF('Daily Log'!#REF!,$B65,'Daily Log'!#REF!),0)","v":0},{"$f":"IFERROR($E65*SUMIF('Daily Log'!#REF!,$B65,'Daily Log'!#REF!),0)","v":0},{"$f":"IFERROR($E65*SUMIF('Daily Log'!#REF!,$B65,'Daily Log'!#REF!),0)","v":0},{"$f":"IFERROR($E65*SUMIF('Daily Log'!#REF!,$B65,'Daily Log'!#REF!),0)","v":0}]
[null,"CC05 PASSION SM",null,"SIDE ORDER-COLD BEVERAGE",1,0,{"$f":"IFERROR($E66*SUMIF('Daily Log'!#REF!,$B66,'Daily Log'!#REF!),0)","v":0},{"$f":"IFERROR($E66*SUMIF('Daily Log'!#REF!,$B66,'Daily Log'!#REF!),0)","v":0},{"$f":"IFERROR($E66*SUMIF('Daily Log'!#REF!,$B66,'Daily Log'!#REF!),0)","v":0},{"$f":"IFERROR($E66*SUMIF('Daily Log'!#REF!,$B66,'Daily Log'!#REF!),0)","v":0},{"$f":"IFERROR($E66*SUMIF('Daily Log'!#REF!,$B66,'Daily Log'!#REF!),0)","v":0},{"$f":"IFERROR($E66*SUMIF('Daily Log'!#REF!,$B66,'Daily Log'!#REF!),0)","v":0},{"$f":"IFERROR($E66*SUMIF('Daily Log'!#REF!,$B66,'Daily Log'!#REF!),0)","v":0},{"$f":"IFERROR($E66*SUMIF('Daily Log'!#REF!,$B66,'Daily Log'!#REF!),0)","v":0},{"$f":"IFERROR($E66*SUMIF('Daily Log'!#REF!,$B66,'Daily Log'!#REF!),0)","v":0},{"$f":"IFERROR($E66*SUMIF('Daily Log'!#REF!,$B66,'Daily Log'!#REF!),0)","v":0},{"$f":"IFERROR($E66*SUMIF('Daily Log'!#REF!,$B66,'Daily Log'!#REF!),0)","v":0},{"$f":"IFERROR($E66*SUMIF('Daily Log'!#REF!,$B66,'Daily Log'!#REF!),0)","v":0},{"$f":"IFERROR($E66*SUMIF('Daily Log'!#REF!,$B66,'Daily Log'!#REF!),0)","v":0},{"$f":"IFERROR($E66*SUMIF('Daily Log'!#REF!,$B66,'Daily Log'!#REF!),0)","v":0},{"$f":"IFERROR($E66*SUMIF('Daily Log'!#REF!,$B66,'Daily Log'!#REF!),0)","v":0},{"$f":"IFERROR($E66*SUMIF('Daily Log'!#REF!,$B66,'Daily Log'!#REF!),0)","v":0},{"$f":"IFERROR($E66*SUMIF('Daily Log'!#REF!,$B66,'Daily Log'!#REF!),0)","v":0},{"$f":"IFERROR($E66*SUMIF('Daily Log'!#REF!,$B66,'Daily Log'!#REF!),0)","v":0},{"$f":"IFERROR($E66*SUMIF('Daily Log'!#REF!,$B66,'Daily Log'!#REF!),0)","v":0},{"$f":"IFERROR($E66*SUMIF('Daily Log'!$C$18:$C$1017,$B66,'Daily Log'!$D$18:$D$1017),0)","v":0},{"$f":"IFERROR($E66*SUMIF('Daily Log'!$F$18:$F$1017,$B66,'Daily Log'!$G$18:$G$1017),0)","v":0},{"$f":"IFERROR($E66*SUMIF('Daily Log'!$I$18:$I$1017,$B66,'Daily Log'!$J$18:$J$1017),0)","v":0},{"$f":"IFERROR($E66*SUMIF('Daily Log'!$L$18:$L$1017,$B66,'Daily Log'!$M$18:$M$1017),0)","v":0},{"$f":"IFERROR($E66*SUMIF('Daily Log'!$O$18:$O$1017,$B66,'Daily Log'!$P$18:$P$1017),0)","v":0},{"$f":"IFERROR($E66*SUMIF('Daily Log'!$R$18:$R$1017,$B66,'Daily Log'!$S$18:$S$1017),0)","v":0},{"$f":"IFERROR($E66*SUMIF('Daily Log'!$U$18:$U$1017,$B66,'Daily Log'!$V$18:$V$1017),0)","v":0},{"$f":"IFERROR($E66*SUMIF('Daily Log'!#REF!,$B66,'Daily Log'!#REF!),0)","v":0},{"$f":"IFERROR($E66*SUMIF('Daily Log'!#REF!,$B66,'Daily Log'!#REF!),0)","v":0},{"$f":"IFERROR($E66*SUMIF('Daily Log'!#REF!,$B66,'Daily Log'!#REF!),0)","v":0},{"$f":"IFERROR($E66*SUMIF('Daily Log'!#REF!,$B66,'Daily Log'!#REF!),0)","v":0},{"$f":"IFERROR($E66*SUMIF('Daily Log'!#REF!,$B66,'Daily Log'!#REF!),0)","v":0}]
[null,"CC06 RIBENA SM",null,"SIDE ORDER-COLD BEVERAGE",1,0,{"$f":"IFERROR($E67*SUMIF('Daily Log'!#REF!,$B67,'Daily Log'!#REF!),0)","v":0},{"$f":"IFERROR($E67*SUMIF('Daily Log'!#REF!,$B67,'Daily Log'!#REF!),0)","v":0},{"$f":"IFERROR($E67*SUMIF('Daily Log'!#REF!,$B67,'Daily Log'!#REF!),0)","v":0},{"$f":"IFERROR($E67*SUMIF('Daily Log'!#REF!,$B67,'Daily Log'!#REF!),0)","v":0},{"$f":"IFERROR($E67*SUMIF('Daily Log'!#REF!,$B67,'Daily Log'!#REF!),0)","v":0},{"$f":"IFERROR($E67*SUMIF('Daily Log'!#REF!,$B67,'Daily Log'!#REF!),0)","v":0},{"$f":"IFERROR($E67*SUMIF('Daily Log'!#REF!,$B67,'Daily Log'!#REF!),0)","v":0},{"$f":"IFERROR($E67*SUMIF('Daily Log'!#REF!,$B67,'Daily Log'!#REF!),0)","v":0},{"$f":"IFERROR($E67*SUMIF('Daily Log'!#REF!,$B67,'Daily Log'!#REF!),0)","v":0},{"$f":"IFERROR($E67*SUMIF('Daily Log'!#REF!,$B67,'Daily Log'!#REF!),0)","v":0},{"$f":"IFERROR($E67*SUMIF('Daily Log'!#REF!,$B67,'Daily Log'!#REF!),0)","v":0},{"$f":"IFERROR($E67*SUMIF('Daily Log'!#REF!,$B67,'Daily Log'!#REF!),0)","v":0},{"$f":"IFERROR($E67*SUMIF('Daily Log'!#REF!,$B67,'Daily Log'!#REF!),0)","v":0},{"$f":"IFERROR($E67*SUMIF('Daily Log'!#REF!,$B67,'Daily Log'!#REF!),0)","v":0},{"$f":"IFERROR($E67*SUMIF('Daily Log'!#REF!,$B67,'Daily Log'!#REF!),0)","v":0},{"$f":"IFERROR($E67*SUMIF('Daily Log'!#REF!,$B67,'Daily Log'!#REF!),0)","v":0},{"$f":"IFERROR($E67*SUMIF('Daily Log'!#REF!,$B67,'Daily Log'!#REF!),0)","v":0},{"$f":"IFERROR($E67*SUMIF('Daily Log'!#REF!,$B67,'Daily Log'!#REF!),0)","v":0},{"$f":"IFERROR($E67*SUMIF('Daily Log'!#REF!,$B67,'Daily Log'!#REF!),0)","v":0},{"$f":"IFERROR($E67*SUMIF('Daily Log'!$C$18:$C$1017,$B67,'Daily Log'!$D$18:$D$1017),0)","v":0},{"$f":"IFERROR($E67*SUMIF('Daily Log'!$F$18:$F$1017,$B67,'Daily Log'!$G$18:$G$1017),0)","v":0},{"$f":"IFERROR($E67*SUMIF('Daily Log'!$I$18:$I$1017,$B67,'Daily Log'!$J$18:$J$1017),0)","v":0},{"$f":"IFERROR($E67*SUMIF('Daily Log'!$L$18:$L$1017,$B67,'Daily Log'!$M$18:$M$1017),0)","v":0},{"$f":"IFERROR($E67*SUMIF('Daily Log'!$O$18:$O$1017,$B67,'Daily Log'!$P$18:$P$1017),0)","v":0},{"$f":"IFERROR($E67*SUMIF('Daily Log'!$R$18:$R$1017,$B67,'Daily Log'!$S$18:$S$1017),0)","v":0},{"$f":"IFERROR($E67*SUMIF('Daily Log'!$U$18:$U$1017,$B67,'Daily Log'!$V$18:$V$1017),0)","v":0},{"$f":"IFERROR($E67*SUMIF('Daily Log'!#REF!,$B67,'Daily Log'!#REF!),0)","v":0},{"$f":"IFERROR($E67*SUMIF('Daily Log'!#REF!,$B67,'Daily Log'!#REF!),0)","v":0},{"$f":"IFERROR($E67*SUMIF('Daily Log'!#REF!,$B67,'Daily Log'!#REF!),0)","v":0},{"$f":"IFERROR($E67*SUMIF('Daily Log'!#REF!,$B67,'Daily Log'!#REF!),0)","v":0},{"$f":"IFERROR($E67*SUMIF('Daily Log'!#REF!,$B67,'Daily Log'!#REF!),0)","v":0}]
[null,"CC07 CAPPUCINNO SM",null,"SIDE ORDER-COLD BEVERAGE",1,1,{"$f":"IFERROR($E68*SUMIF('Daily Log'!#REF!,$B68,'Daily Log'!#REF!),0)","v":0},{"$f":"IFERROR($E68*SUMIF('Daily Log'!#REF!,$B68,'Daily Log'!#REF!),0)","v":0},{"$f":"IFERROR($E68*SUMIF('Daily Log'!#REF!,$B68,'Daily Log'!#REF!),0)","v":0},{"$f":"IFERROR($E68*SUMIF('Daily Log'!#REF!,$B68,'Daily Log'!#REF!),0)","v":0},{"$f":"IFERROR($E68*SUMIF('Daily Log'!#REF!,$B68,'Daily Log'!#REF!),0)","v":0},{"$f":"IFERROR($E68*SUMIF('Daily Log'!#REF!,$B68,'Daily Log'!#REF!),0)","v":0},{"$f":"IFERROR($E68*SUMIF('Daily Log'!#REF!,$B68,'Daily Log'!#REF!),0)","v":0},{"$f":"IFERROR($E68*SUMIF('Daily Log'!#REF!,$B68,'Daily Log'!#REF!),0)","v":0},{"$f":"IFERROR($E68*SUMIF('Daily Log'!#REF!,$B68,'Daily Log'!#REF!),0)","v":0},{"$f":"IFERROR($E68*SUMIF('Daily Log'!#REF!,$B68,'Daily Log'!#REF!),0)","v":0},{"$f":"IFERROR($E68*SUMIF('Daily Log'!#REF!,$B68,'Daily Log'!#REF!),0)","v":0},{"$f":"IFERROR($E68*SUMIF('Daily Log'!#REF!,$B68,'Daily Log'!#REF!),0)","v":0},{"$f":"IFERROR($E68*SUMIF('Daily Log'!#REF!,$B68,'Daily Log'!#REF!),0)","v":0},{"$f":"IFERROR($E68*SUMIF('Daily Log'!#REF!,$B68,'Daily Log'!#REF!),0)","v":0},{"$f":"IFERROR($E68*SUMIF('Daily Log'!#REF!,$B68,'Daily Log'!#REF!),0)","v":0},{"$f":"IFERROR($E68*SUMIF('Daily Log'!#REF!,$B68,'Daily Log'!#REF!),0)","v":0},{"$f":"IFERROR($E68*SUMIF('Daily Log'!#REF!,$B68,'Daily Log'!#REF!),0)","v":0},{"$f":"IFERROR($E68*SUMIF('Daily Log'!#REF!,$B68,'Daily Log'!#REF!),0)","v":0},{"$f":"IFERROR($E68*SUMIF('Daily Log'!#REF!,$B68,'Daily Log'!#REF!),0)","v":0},{"$f":"IFERROR($E68*SUMIF('Daily Log'!$C$18:$C$1017,$B68,'Daily Log'!$D$18:$D$1017),0)","v":0},{"$f":"IFERROR($E68*SUMIF('Daily Log'!$F$18:$F$1017,$B68,'Daily Log'!$G$18:$G$1017),0)","v":1},{"$f":"IFERROR($E68*SUMIF('Daily Log'!$I$18:$I$1017,$B68,'Daily Log'!$J$18:$J$1017),0)","v":0},{"$f":"IFERROR($E68*SUMIF('Daily Log'!$L$18:$L$1017,$B68,'Daily Log'!$M$18:$M$1017),0)","v":0},{"$f":"IFERROR($E68*SUMIF('Daily Log'!$O$18:$O$1017,$B68,'Daily Log'!$P$18:$P$1017),0)","v":0},{"$f":"IFERROR($E68*SUMIF('Daily Log'!$R$18:$R$1017,$B68,'Daily Log'!$S$18:$S$1017),0)","v":0},{"$f":"IFERROR($E68*SUMIF('Daily Log'!$U$18:$U$1017,$B68,'Daily Log'!$V$18:$V$1017),0)","v":0},{"$f":"IFERROR($E68*SUMIF('Daily Log'!#REF!,$B68,'Daily Log'!#REF!),0)","v":0},{"$f":"IFERROR($E68*SUMIF('Daily Log'!#REF!,$B68,'Daily Log'!#REF!),0)","v":0},{"$f":"IFERROR($E68*SUMIF('Daily Log'!#REF!,$B68,'Daily Log'!#REF!),0)","v":0},{"$f":"IFERROR($E68*SUMIF('Daily Log'!#REF!,$B68,'Daily Log'!#REF!),0)","v":0},{"$f":"IFERROR($E68*SUMIF('Daily Log'!#REF!,$B68,'Daily Log'!#REF!),0)","v":0}]
[null,"CC08 CHOCOLATE SM",null,"SIDE ORDER-COLD BEVERAGE",1,2,{"$f":"IFERROR($E69*SUMIF('Daily Log'!#REF!,$B69,'Daily Log'!#REF!),0)","v":0},{"$f":"IFERROR($E69*SUMIF('Daily Log'!#REF!,$B69,'Daily Log'!#REF!),0)","v":0},{"$f":"IFERROR($E69*SUMIF('Daily Log'!#REF!,$B69,'Daily Log'!#REF!),0)","v":0},{"$f":"IFERROR($E69*SUMIF('Daily Log'!#REF!,$B69,'Daily Log'!#REF!),0)","v":0},{"$f":"IFERROR($E69*SUMIF('Daily Log'!#REF!,$B69,'Daily Log'!#REF!),0)","v":0},{"$f":"IFERROR($E69*SUMIF('Daily Log'!#REF!,$B69,'Daily Log'!#REF!),0)","v":0},{"$f":"IFERROR($E69*SUMIF('Daily Log'!#REF!,$B69,'Daily Log'!#REF!),0)","v":0},{"$f":"IFERROR($E69*SUMIF('Daily Log'!#REF!,$B69,'Daily Log'!#REF!),0)","v":0},{"$f":"IFERROR($E69*SUMIF('Daily Log'!#REF!,$B69,'Daily Log'!#REF!),0)","v":0},{"$f":"IFERROR($E69*SUMIF('Daily Log'!#REF!,$B69,'Daily Log'!#REF!),0)","v":0},{"$f":"IFERROR($E69*SUMIF('Daily Log'!#REF!,$B69,'Daily Log'!#REF!),0)","v":0},{"$f":"IFERROR($E69*SUMIF('Daily Log'!#REF!,$B69,'Daily Log'!#REF!),0)","v":0},{"$f":"IFERROR($E69*SUMIF('Daily Log'!#REF!,$B69,'Daily Log'!#REF!),0)","v":0},{"$f":"IFERROR($E69*SUMIF('Daily Log'!#REF!,$B69,'Daily Log'!#REF!),0)","v":0},{"$f":"IFERROR($E69*SUMIF('Daily Log'!#REF!,$B69,'Daily Log'!#REF!),0)","v":0},{"$f":"IFERROR($E69*SUMIF('Daily Log'!#REF!,$B69,'Daily Log'!#REF!),0)","v":0},{"$f":"IFERROR($E69*SUMIF('Daily Log'!#REF!,$B69,'Daily Log'!#REF!),0)","v":0},{"$f":"IFERROR($E69*SUMIF('Daily Log'!#REF!,$B69,'Daily Log'!#REF!),0)","v":0},{"$f":"IFERROR($E69*SUMIF('Daily Log'!#REF!,$B69,'Daily Log'!#REF!),0)","v":0},{"$f":"IFERROR($E69*SUMIF('Daily Log'!$C$18:$C$1017,$B69,'Daily Log'!$D$18:$D$1017),0)","v":0},{"$f":"IFERROR($E69*SUMIF('Daily Log'!$F$18:$F$1017,$B69,'Daily Log'!$G$18:$G$1017),0)","v":1},{"$f":"IFERROR($E69*SUMIF('Daily Log'!$I$18:$I$1017,$B69,'Daily Log'!$J$18:$J$1017),0)","v":0},{"$f":"IFERROR($E69*SUMIF('Daily Log'!$L$18:$L$1017,$B69,'Daily Log'!$M$18:$M$1017),0)","v":0},{"$f":"IFERROR($E69*SUMIF('Daily Log'!$O$18:$O$1017,$B69,'Daily Log'!$P$18:$P$1017),0)","v":1},{"$f":"IFERROR($E69*SUMIF('Daily Log'!$R$18:$R$1017,$B69,'Daily Log'!$S$18:$S$1017),0)","v":0},{"$f":"IFERROR($E69*SUMIF('Daily Log'!$U$18:$U$1017,$B69,'Daily Log'!$V$18:$V$1017),0)","v":0},{"$f":"IFERROR($E69*SUMIF('Daily Log'!#REF!,$B69,'Daily Log'!#REF!),0)","v":0},{"$f":"IFERROR($E69*SUMIF('Daily Log'!#REF!,$B69,'Daily Log'!#REF!),0)","v":0},{"$f":"IFERROR($E69*SUMIF('Daily Log'!#REF!,$B69,'Daily Log'!#REF!),0)","v":0},{"$f":"IFERROR($E69*SUMIF('Daily Log'!#REF!,$B69,'Daily Log'!#REF!),0)","v":0},{"$f":"IFERROR($E69*SUMIF('Daily Log'!#REF!,$B69,'Daily Log'!#REF!),0)","v":0}]
[null,"CC09 MOCHA SM",null,"SIDE ORDER-COLD BEVERAGE",1,0,{"$f":"IFERROR($E70*SUMIF('Daily Log'!#REF!,$B70,'Daily Log'!#REF!),0)","v":0},{"$f":"IFERROR($E70*SUMIF('Daily Log'!#REF!,$B70,'Daily Log'!#REF!),0)","v":0},{"$f":"IFERROR($E70*SUMIF('Daily Log'!#REF!,$B70,'Daily Log'!#REF!),0)","v":0},{"$f":"IFERROR($E70*SUMIF('Daily Log'!#REF!,$B70,'Daily Log'!#REF!),0)","v":0},{"$f":"IFERROR($E70*SUMIF('Daily Log'!#REF!,$B70,'Daily Log'!#REF!),0)","v":0},{"$f":"IFERROR($E70*SUMIF('Daily Log'!#REF!,$B70,'Daily Log'!#REF!),0)","v":0},{"$f":"IFERROR($E70*SUMIF('Daily Log'!#REF!,$B70,'Daily Log'!#REF!),0)","v":0},{"$f":"IFERROR($E70*SUMIF('Daily Log'!#REF!,$B70,'Daily Log'!#REF!),0)","v":0},{"$f":"IFERROR($E70*SUMIF('Daily Log'!#REF!,$B70,'Daily Log'!#REF!),0)","v":0},{"$f":"IFERROR($E70*SUMIF('Daily Log'!#REF!,$B70,'Daily Log'!#REF!),0)","v":0},{"$f":"IFERROR($E70*SUMIF('Daily Log'!#REF!,$B70,'Daily Log'!#REF!),0)","v":0},{"$f":"IFERROR($E70*SUMIF('Daily Log'!#REF!,$B70,'Daily Log'!#REF!),0)","v":0},{"$f":"IFERROR($E70*SUMIF('Daily Log'!#REF!,$B70,'Daily Log'!#REF!),0)","v":0},{"$f":"IFERROR($E70*SUMIF('Daily Log'!#REF!,$B70,'Daily Log'!#REF!),0)","v":0},{"$f":"IFERROR($E70*SUMIF('Daily Log'!#REF!,$B70,'Daily Log'!#REF!),0)","v":0},{"$f":"IFERROR($E70*SUMIF('Daily Log'!#REF!,$B70,'Daily Log'!#REF!),0)","v":0},{"$f":"IFERROR($E70*SUMIF('Daily Log'!#REF!,$B70,'Daily Log'!#REF!),0)","v":0},{"$f":"IFERROR($E70*SUMIF('Daily Log'!#REF!,$B70,'Daily Log'!#REF!),0)","v":0},{"$f":"IFERROR($E70*SUMIF('Daily Log'!#REF!,$B70,'Daily Log'!#REF!),0)","v":0},{"$f":"IFERROR($E70*SUMIF('Daily Log'!$C$18:$C$1017,$B70,'Daily Log'!$D$18:$D$1017),0)","v":0},{"$f":"IFERROR($E70*SUMIF('Daily Log'!$F$18:$F$1017,$B70,'Daily Log'!$G$18:$G$1017),0)","v":0},{"$f":"IFERROR($E70*SUMIF('Daily Log'!$I$18:$I$1017,$B70,'Daily Log'!$J$18:$J$1017),0)","v":0},{"$f":"IFERROR($E70*SUMIF('Daily Log'!$L$18:$L$1017,$B70,'Daily Log'!$M$18:$M$1017),0)","v":0},{"$f":"IFERROR($E70*SUMIF('Daily Log'!$O$18:$O$1017,$B70,'Daily Log'!$P$18:$P$1017),0)","v":0},{"$f":"IFERROR($E70*SUMIF('Daily Log'!$R$18:$R$1017,$B70,'Daily Log'!$S$18:$S$1017),0)","v":0},{"$f":"IFERROR($E70*SUMIF('Daily Log'!$U$18:$U$1017,$B70,'Daily Log'!$V$18:$V$1017),0)","v":0},{"$f":"IFERROR($E70*SUMIF('Daily Log'!#REF!,$B70,'Daily Log'!#REF!),0)","v":0},{"$f":"IFERROR($E70*SUMIF('Daily Log'!#REF!,$B70,'Daily Log'!#REF!),0)","v":0},{"$f":"IFERROR($E70*SUMIF('Daily Log'!#REF!,$B70,'Daily Log'!#REF!),0)","v":0},{"$f":"IFERROR($E70*SUMIF('Daily Log'!#REF!,$B70,'Daily Log'!#REF!),0)","v":0},{"$f":"IFERROR($E70*SUMIF('Daily Log'!#REF!,$B70,'Daily Log'!#REF!),0)","v":0}]
[null,"CD01 7 UP",null,"SIDE ORDER-COLD BEVERAGE",1,0,{"$f":"IFERROR($E71*SUMIF('Daily Log'!#REF!,$B71,'Daily Log'!#REF!),0)","v":0},{"$f":"IFERROR($E71*SUMIF('Daily Log'!#REF!,$B71,'Daily Log'!#REF!),0)","v":0},{"$f":"IFERROR($E71*SUMIF('Daily Log'!#REF!,$B71,'Daily Log'!#REF!),0)","v":0},{"$f":"IFERROR($E71*SUMIF('Daily Log'!#REF!,$B71,'Daily Log'!#REF!),0)","v":0},{"$f":"IFERROR($E71*SUMIF('Daily Log'!#REF!,$B71,'Daily Log'!#REF!),0)","v":0},{"$f":"IFERROR($E71*SUMIF('Daily Log'!#REF!,$B71,'Daily Log'!#REF!),0)","v":0},{"$f":"IFERROR($E71*SUMIF('Daily Log'!#REF!,$B71,'Daily Log'!#REF!),0)","v":0},{"$f":"IFERROR($E71*SUMIF('Daily Log'!#REF!,$B71,'Daily Log'!#REF!),0)","v":0},{"$f":"IFERROR($E71*SUMIF('Daily Log'!#REF!,$B71,'Daily Log'!#REF!),0)","v":0},{"$f":"IFERROR($E71*SUMIF('Daily Log'!#REF!,$B71,'Daily Log'!#REF!),0)","v":0},{"$f":"IFERROR($E71*SUMIF('Daily Log'!#REF!,$B71,'Daily Log'!#REF!),0)","v":0},{"$f":"IFERROR($E71*SUMIF('Daily Log'!#REF!,$B71,'Daily Log'!#REF!),0)","v":0},{"$f":"IFERROR($E71*SUMIF('Daily Log'!#REF!,$B71,'Daily Log'!#REF!),0)","v":0},{"$f":"IFERROR($E71*SUMIF('Daily Log'!#REF!,$B71,'Daily Log'!#REF!),0)","v":0},{"$f":"IFERROR($E71*SUMIF('Daily Log'!#REF!,$B71,'Daily Log'!#REF!),0)","v":0},{"$f":"IFERROR($E71*SUMIF('Daily Log'!#REF!,$B71,'Daily Log'!#REF!),0)","v":0},{"$f":"IFERROR($E71*SUMIF('Daily Log'!#REF!,$B71,'Daily Log'!#REF!),0)","v":0},{"$f":"IFERROR($E71*SUMIF('Daily Log'!#REF!,$B71,'Daily Log'!#REF!),0)","v":0},{"$f":"IFERROR($E71*SUMIF('Daily Log'!#REF!,$B71,'Daily Log'!#REF!),0)","v":0},{"$f":"IFERROR($E71*SUMIF('Daily Log'!$C$18:$C$1017,$B71,'Daily Log'!$D$18:$D$1017),0)","v":0},{"$f":"IFERROR($E71*SUMIF('Daily Log'!$F$18:$F$1017,$B71,'Daily Log'!$G$18:$G$1017),0)","v":0},{"$f":"IFERROR($E71*SUMIF('Daily Log'!$I$18:$I$1017,$B71,'Daily Log'!$J$18:$J$1017),0)","v":0},{"$f":"IFERROR($E71*SUMIF('Daily Log'!$L$18:$L$1017,$B71,'Daily Log'!$M$18:$M$1017),0)","v":0},{"$f":"IFERROR($E71*SUMIF('Daily Log'!$O$18:$O$1017,$B71,'Daily Log'!$P$18:$P$1017),0)","v":0},{"$f":"IFERROR($E71*SUMIF('Daily Log'!$R$18:$R$1017,$B71,'Daily Log'!$S$18:$S$1017),0)","v":0},{"$f":"IFERROR($E71*SUMIF('Daily Log'!$U$18:$U$1017,$B71,'Daily Log'!$V$18:$V$1017),0)","v":0},{"$f":"IFERROR($E71*SUMIF('Daily Log'!#REF!,$B71,'Daily Log'!#REF!),0)","v":0},{"$f":"IFERROR($E71*SUMIF('Daily Log'!#REF!,$B71,'Daily Log'!#REF!),0)","v":0},{"$f":"IFERROR($E71*SUMIF('Daily Log'!#REF!,$B71,'Daily Log'!#REF!),0)","v":0},{"$f":"IFERROR($E71*SUMIF('Daily Log'!#REF!,$B71,'Daily Log'!#REF!),0)","v":0},{"$f":"IFERROR($E71*SUMIF('Daily Log'!#REF!,$B71,'Daily Log'!#REF!),0)","v":0}]
[null,"CD02 7 UP REVIVE",null,"SIDE ORDER-COLD BEVERAGE",1,1,{"$f":"IFERROR($E72*SUMIF('Daily Log'!#REF!,$B72,'Daily Log'!#REF!),0)","v":0},{"$f":"IFERROR($E72*SUMIF('Daily Log'!#REF!,$B72,'Daily Log'!#REF!),0)","v":0},{"$f":"IFERROR($E72*SUMIF('Daily Log'!#REF!,$B72,'Daily Log'!#REF!),0)","v":0},{"$f":"IFERROR($E72*SUMIF('Daily Log'!#REF!,$B72,'Daily Log'!#REF!),0)","v":0},{"$f":"IFERROR($E72*SUMIF('Daily Log'!#REF!,$B72,'Daily Log'!#REF!),0)","v":0},{"$f":"IFERROR($E72*SUMIF('Daily Log'!#REF!,$B72,'Daily Log'!#REF!),0)","v":0},{"$f":"IFERROR($E72*SUMIF('Daily Log'!#REF!,$B72,'Daily Log'!#REF!),0)","v":0},{"$f":"IFERROR($E72*SUMIF('Daily Log'!#REF!,$B72,'Daily Log'!#REF!),0)","v":0},{"$f":"IFERROR($E72*SUMIF('Daily Log'!#REF!,$B72,'Daily Log'!#REF!),0)","v":0},{"$f":"IFERROR($E72*SUMIF('Daily Log'!#REF!,$B72,'Daily Log'!#REF!),0)","v":0},{"$f":"IFERROR($E72*SUMIF('Daily Log'!#REF!,$B72,'Daily Log'!#REF!),0)","v":0},{"$f":"IFERROR($E72*SUMIF('Daily Log'!#REF!,$B72,'Daily Log'!#REF!),0)","v":0},{"$f":"IFERROR($E72*SUMIF('Daily Log'!#REF!,$B72,'Daily Log'!#REF!),0)","v":0},{"$f":"IFERROR($E72*SUMIF('Daily Log'!#REF!,$B72,'Daily Log'!#REF!),0)","v":0},{"$f":"IFERROR($E72*SUMIF('Daily Log'!#REF!,$B72,'Daily Log'!#REF!),0)","v":0},{"$f":"IFERROR($E72*SUMIF('Daily Log'!#REF!,$B72,'Daily Log'!#REF!),0)","v":0},{"$f":"IFERROR($E72*SUMIF('Daily Log'!#REF!,$B72,'Daily Log'!#REF!),0)","v":0},{"$f":"IFERROR($E72*SUMIF('Daily Log'!#REF!,$B72,'Daily Log'!#REF!),0)","v":0},{"$f":"IFERROR($E72*SUMIF('Daily Log'!#REF!,$B72,'Daily Log'!#REF!),0)","v":0},{"$f":"IFERROR($E72*SUMIF('Daily Log'!$C$18:$C$1017,$B72,'Daily Log'!$D$18:$D$1017),0)","v":0},{"$f":"IFERROR($E72*SUMIF('Daily Log'!$F$18:$F$1017,$B72,'Daily Log'!$G$18:$G$1017),0)","v":0},{"$f":"IFERROR($E72*SUMIF('Daily Log'!$I$18:$I$1017,$B72,'Daily Log'!$J$18:$J$1017),0)","v":0},{"$f":"IFERROR($E72*SUMIF('Daily Log'!$L$18:$L$1017,$B72,'Daily Log'!$M$18:$M$1017),0)","v":0},{"$f":"IFERROR($E72*SUMIF('Daily Log'!$O$18:$O$1017,$B72,'Daily Log'!$P$18:$P$1017),0)","v":0},{"$f":"IFERROR($E72*SUMIF('Daily Log'!$R$18:$R$1017,$B72,'Daily Log'!$S$18:$S$1017),0)","v":1},{"$f":"IFERROR($E72*SUMIF('Daily Log'!$U$18:$U$1017,$B72,'Daily Log'!$V$18:$V$1017),0)","v":0},{"$f":"IFERROR($E72*SUMIF('Daily Log'!#REF!,$B72,'Daily Log'!#REF!),0)","v":0},{"$f":"IFERROR($E72*SUMIF('Daily Log'!#REF!,$B72,'Daily Log'!#REF!),0)","v":0},{"$f":"IFERROR($E72*SUMIF('Daily Log'!#REF!,$B72,'Daily Log'!#REF!),0)","v":0},{"$f":"IFERROR($E72*SUMIF('Daily Log'!#REF!,$B72,'Daily Log'!#REF!),0)","v":0},{"$f":"IFERROR($E72*SUMIF('Daily Log'!#REF!,$B72,'Daily Log'!#REF!),0)","v":0}]
[null,"CD03 PEPSI",null,"SIDE ORDER-COLD BEVERAGE",1,2,{"$f":"IFERROR($E73*SUMIF('Daily Log'!#REF!,$B73,'Daily Log'!#REF!),0)","v":0},{"$f":"IFERROR($E73*SUMIF('Daily Log'!#REF!,$B73,'Daily Log'!#REF!),0)","v":0},{"$f":"IFERROR($E73*SUMIF('Daily Log'!#REF!,$B73,'Daily Log'!#REF!),0)","v":0},{"$f":"IFERROR($E73*SUMIF('Daily Log'!#REF!,$B73,'Daily Log'!#REF!),0)","v":0},{"$f":"IFERROR($E73*SUMIF('Daily Log'!#REF!,$B73,'Daily Log'!#REF!),0)","v":0},{"$f":"IFERROR($E73*SUMIF('Daily Log'!#REF!,$B73,'Daily Log'!#REF!),0)","v":0},{"$f":"IFERROR($E73*SUMIF('Daily Log'!#REF!,$B73,'Daily Log'!#REF!),0)","v":0},{"$f":"IFERROR($E73*SUMIF('Daily Log'!#REF!,$B73,'Daily Log'!#REF!),0)","v":0},{"$f":"IFERROR($E73*SUMIF('Daily Log'!#REF!,$B73,'Daily Log'!#REF!),0)","v":0},{"$f":"IFERROR($E73*SUMIF('Daily Log'!#REF!,$B73,'Daily Log'!#REF!),0)","v":0},{"$f":"IFERROR($E73*SUMIF('Daily Log'!#REF!,$B73,'Daily Log'!#REF!),0)","v":0},{"$f":"IFERROR($E73*SUMIF('Daily Log'!#REF!,$B73,'Daily Log'!#REF!),0)","v":0},{"$f":"IFERROR($E73*SUMIF('Daily Log'!#REF!,$B73,'Daily Log'!#REF!),0)","v":0},{"$f":"IFERROR($E73*SUMIF('Daily Log'!#REF!,$B73,'Daily Log'!#REF!),0)","v":0},{"$f":"IFERROR($E73*SUMIF('Daily Log'!#REF!,$B73,'Daily Log'!#REF!),0)","v":0},{"$f":"IFERROR($E73*SUMIF('Daily Log'!#REF!,$B73,'Daily Log'!#REF!),0)","v":0},{"$f":"IFERROR($E73*SUMIF('Daily Log'!#REF!,$B73,'Daily Log'!#REF!),0)","v":0},{"$f":"IFERROR($E73*SUMIF('Daily Log'!#REF!,$B73,'Daily Log'!#REF!),0)","v":0},{"$f":"IFERROR($E73*SUMIF('Daily Log'!#REF!,$B73,'Daily Log'!#REF!),0)","v":0},{"$f":"IFERROR($E73*SUMIF('Daily Log'!$C$18:$C$1017,$B73,'Daily Log'!$D$18:$D$1017),0)","v":0},{"$f":"IFERROR($E73*SUMIF('Daily Log'!$F$18:$F$1017,$B73,'Daily Log'!$G$18:$G$1017),0)","v":0},{"$f":"IFERROR($E73*SUMIF('Daily Log'!$I$18:$I$1017,$B73,'Daily Log'!$J$18:$J$1017),0)","v":0},{"$f":"IFERROR($E73*SUMIF('Daily Log'!$L$18:$L$1017,$B73,'Daily Log'!$M$18:$M$1017),0)","v":0},{"$f":"IFERROR($E73*SUMIF('Daily Log'!$O$18:$O$1017,$B73,'Daily Log'!$P$18:$P$1017),0)","v":0},{"$f":"IFERROR($E73*SUMIF('Daily Log'!$R$18:$R$1017,$B73,'Daily Log'!$S$18:$S$1017),0)","v":1},{"$f":"IFERROR($E73*SUMIF('Daily Log'!$U$18:$U$1017,$B73,'Daily Log'!$V$18:$V$1017),0)","v":1},{"$f":"IFERROR($E73*SUMIF('Daily Log'!#REF!,$B73,'Daily Log'!#REF!),0)","v":0},{"$f":"IFERROR($E73*SUMIF('Daily Log'!#REF!,$B73,'Daily Log'!#REF!),0)","v":0},{"$f":"IFERROR($E73*SUMIF('Daily Log'!#REF!,$B73,'Daily Log'!#REF!),0)","v":0},{"$f":"IFERROR($E73*SUMIF('Daily Log'!#REF!,$B73,'Daily Log'!#REF!),0)","v":0},{"$f":"IFERROR($E73*SUMIF('Daily Log'!#REF!,$B73,'Daily Log'!#REF!),0)","v":0}]
[null,"CE01 MILO (C)",null,"SIDE ORDER-COLD BEVERAGE",1,0,{"$f":"IFERROR($E74*SUMIF('Daily Log'!#REF!,$B74,'Daily Log'!#REF!),0)","v":0},{"$f":"IFERROR($E74*SUMIF('Daily Log'!#REF!,$B74,'Daily Log'!#REF!),0)","v":0},{"$f":"IFERROR($E74*SUMIF('Daily Log'!#REF!,$B74,'Daily Log'!#REF!),0)","v":0},{"$f":"IFERROR($E74*SUMIF('Daily Log'!#REF!,$B74,'Daily Log'!#REF!),0)","v":0},{"$f":"IFERROR($E74*SUMIF('Daily Log'!#REF!,$B74,'Daily Log'!#REF!),0)","v":0},{"$f":"IFERROR($E74*SUMIF('Daily Log'!#REF!,$B74,'Daily Log'!#REF!),0)","v":0},{"$f":"IFERROR($E74*SUMIF('Daily Log'!#REF!,$B74,'Daily Log'!#REF!),0)","v":0},{"$f":"IFERROR($E74*SUMIF('Daily Log'!#REF!,$B74,'Daily Log'!#REF!),0)","v":0},{"$f":"IFERROR($E74*SUMIF('Daily Log'!#REF!,$B74,'Daily Log'!#REF!),0)","v":0},{"$f":"IFERROR($E74*SUMIF('Daily Log'!#REF!,$B74,'Daily Log'!#REF!),0)","v":0},{"$f":"IFERROR($E74*SUMIF('Daily Log'!#REF!,$B74,'Daily Log'!#REF!),0)","v":0},{"$f":"IFERROR($E74*SUMIF('Daily Log'!#REF!,$B74,'Daily Log'!#REF!),0)","v":0},{"$f":"IFERROR($E74*SUMIF('Daily Log'!#REF!,$B74,'Daily Log'!#REF!),0)","v":0},{"$f":"IFERROR($E74*SUMIF('Daily Log'!#REF!,$B74,'Daily Log'!#REF!),0)","v":0},{"$f":"IFERROR($E74*SUMIF('Daily Log'!#REF!,$B74,'Daily Log'!#REF!),0)","v":0},{"$f":"IFERROR($E74*SUMIF('Daily Log'!#REF!,$B74,'Daily Log'!#REF!),0)","v":0},{"$f":"IFERROR($E74*SUMIF('Daily Log'!#REF!,$B74,'Daily Log'!#REF!),0)","v":0},{"$f":"IFERROR($E74*SUMIF('Daily Log'!#REF!,$B74,'Daily Log'!#REF!),0)","v":0},{"$f":"IFERROR($E74*SUMIF('Daily Log'!#REF!,$B74,'Daily Log'!#REF!),0)","v":0},{"$f":"IFERROR($E74*SUMIF('Daily Log'!$C$18:$C$1017,$B74,'Daily Log'!$D$18:$D$1017),0)","v":0},{"$f":"IFERROR($E74*SUMIF('Daily Log'!$F$18:$F$1017,$B74,'Daily Log'!$G$18:$G$1017),0)","v":0},{"$f":"IFERROR($E74*SUMIF('Daily Log'!$I$18:$I$1017,$B74,'Daily Log'!$J$18:$J$1017),0)","v":0},{"$f":"IFERROR($E74*SUMIF('Daily Log'!$L$18:$L$1017,$B74,'Daily Log'!$M$18:$M$1017),0)","v":0},{"$f":"IFERROR($E74*SUMIF('Daily Log'!$O$18:$O$1017,$B74,'Daily Log'!$P$18:$P$1017),0)","v":0},{"$f":"IFERROR($E74*SUMIF('Daily Log'!$R$18:$R$1017,$B74,'Daily Log'!$S$18:$S$1017),0)","v":0},{"$f":"IFERROR($E74*SUMIF('Daily Log'!$U$18:$U$1017,$B74,'Daily Log'!$V$18:$V$1017),0)","v":0},{"$f":"IFERROR($E74*SUMIF('Daily Log'!#REF!,$B74,'Daily Log'!#REF!),0)","v":0},{"$f":"IFERROR($E74*SUMIF('Daily Log'!#REF!,$B74,'Daily Log'!#REF!),0)","v":0},{"$f":"IFERROR($E74*SUMIF('Daily Log'!#REF!,$B74,'Daily Log'!#REF!),0)","v":0},{"$f":"IFERROR($E74*SUMIF('Daily Log'!#REF!,$B74,'Daily Log'!#REF!),0)","v":0},{"$f":"IFERROR($E74*SUMIF('Daily Log'!#REF!,$B74,'Daily Log'!#REF!),0)","v":0}]
[null,"CE02 NESCAFE (C)",null,"SIDE ORDER-COLD BEVERAGE",1,0,{"$f":"IFERROR($E75*SUMIF('Daily Log'!#REF!,$B75,'Daily Log'!#REF!),0)","v":0},{"$f":"IFERROR($E75*SUMIF('Daily Log'!#REF!,$B75,'Daily Log'!#REF!),0)","v":0},{"$f":"IFERROR($E75*SUMIF('Daily Log'!#REF!,$B75,'Daily Log'!#REF!),0)","v":0},{"$f":"IFERROR($E75*SUMIF('Daily Log'!#REF!,$B75,'Daily Log'!#REF!),0)","v":0},{"$f":"IFERROR($E75*SUMIF('Daily Log'!#REF!,$B75,'Daily Log'!#REF!),0)","v":0},{"$f":"IFERROR($E75*SUMIF('Daily Log'!#REF!,$B75,'Daily Log'!#REF!),0)","v":0},{"$f":"IFERROR($E75*SUMIF('Daily Log'!#REF!,$B75,'Daily Log'!#REF!),0)","v":0},{"$f":"IFERROR($E75*SUMIF('Daily Log'!#REF!,$B75,'Daily Log'!#REF!),0)","v":0},{"$f":"IFERROR($E75*SUMIF('Daily Log'!#REF!,$B75,'Daily Log'!#REF!),0)","v":0},{"$f":"IFERROR($E75*SUMIF('Daily Log'!#REF!,$B75,'Daily Log'!#REF!),0)","v":0},{"$f":"IFERROR($E75*SUMIF('Daily Log'!#REF!,$B75,'Daily Log'!#REF!),0)","v":0},{"$f":"IFERROR($E75*SUMIF('Daily Log'!#REF!,$B75,'Daily Log'!#REF!),0)","v":0},{"$f":"IFERROR($E75*SUMIF('Daily Log'!#REF!,$B75,'Daily Log'!#REF!),0)","v":0},{"$f":"IFERROR($E75*SUMIF('Daily Log'!#REF!,$B75,'Daily Log'!#REF!),0)","v":0},{"$f":"IFERROR($E75*SUMIF('Daily Log'!#REF!,$B75,'Daily Log'!#REF!),0)","v":0},{"$f":"IFERROR($E75*SUMIF('Daily Log'!#REF!,$B75,'Daily Log'!#REF!),0)","v":0},{"$f":"IFERROR($E75*SUMIF('Daily Log'!#REF!,$B75,'Daily Log'!#REF!),0)","v":0},{"$f":"IFERROR($E75*SUMIF('Daily Log'!#REF!,$B75,'Daily Log'!#REF!),0)","v":0},{"$f":"IFERROR($E75*SUMIF('Daily Log'!#REF!,$B75,'Daily Log'!#REF!),0)","v":0},{"$f":"IFERROR($E75*SUMIF('Daily Log'!$C$18:$C$1017,$B75,'Daily Log'!$D$18:$D$1017),0)","v":0},{"$f":"IFERROR($E75*SUMIF('Daily Log'!$F$18:$F$1017,$B75,'Daily Log'!$G$18:$G$1017),0)","v":0},{"$f":"IFERROR($E75*SUMIF('Daily Log'!$I$18:$I$1017,$B75,'Daily Log'!$J$18:$J$1017),0)","v":0},{"$f":"IFERROR($E75*SUMIF('Daily Log'!$L$18:$L$1017,$B75,'Daily Log'!$M$18:$M$1017),0)","v":0},{"$f":"IFERROR($E75*SUMIF('Daily Log'!$O$18:$O$1017,$B75,'Daily Log'!$P$18:$P$1017),0)","v":0},{"$f":"IFERROR($E75*SUMIF('Daily Log'!$R$18:$R$1017,$B75,'Daily Log'!$S$18:$S$1017),0)","v":0},{"$f":"IFERROR($E75*SUMIF('Daily Log'!$U$18:$U$1017,$B75,'Daily Log'!$V$18:$V$1017),0)","v":0},{"$f":"IFERROR($E75*SUMIF('Daily Log'!#REF!,$B75,'Daily Log'!#REF!),0)","v":0},{"$f":"IFERROR($E75*SUMIF('Daily Log'!#REF!,$B75,'Daily Log'!#REF!),0)","v":0},{"$f":"IFERROR($E75*SUMIF('Daily Log'!#REF!,$B75,'Daily Log'!#REF!),0)","v":0},{"$f":"IFERROR($E75*SUMIF('Daily Log'!#REF!,$B75,'Daily Log'!#REF!),0)","v":0},{"$f":"IFERROR($E75*SUMIF('Daily Log'!#REF!,$B75,'Daily Log'!#REF!),0)","v":0}]
[null,"CE03 TEA (C)",null,"SIDE ORDER-COLD BEVERAGE",1,0,{"$f":"IFERROR($E76*SUMIF('Daily Log'!#REF!,$B76,'Daily Log'!#REF!),0)","v":0},{"$f":"IFERROR($E76*SUMIF('Daily Log'!#REF!,$B76,'Daily Log'!#REF!),0)","v":0},{"$f":"IFERROR($E76*SUMIF('Daily Log'!#REF!,$B76,'Daily Log'!#REF!),0)","v":0},{"$f":"IFERROR($E76*SUMIF('Daily Log'!#REF!,$B76,'Daily Log'!#REF!),0)","v":0},{"$f":"IFERROR($E76*SUMIF('Daily Log'!#REF!,$B76,'Daily Log'!#REF!),0)","v":0},{"$f":"IFERROR($E76*SUMIF('Daily Log'!#REF!,$B76,'Daily Log'!#REF!),0)","v":0},{"$f":"IFERROR($E76*SUMIF('Daily Log'!#REF!,$B76,'Daily Log'!#REF!),0)","v":0},{"$f":"IFERROR($E76*SUMIF('Daily Log'!#REF!,$B76,'Daily Log'!#REF!),0)","v":0},{"$f":"IFERROR($E76*SUMIF('Daily Log'!#REF!,$B76,'Daily Log'!#REF!),0)","v":0},{"$f":"IFERROR($E76*SUMIF('Daily Log'!#REF!,$B76,'Daily Log'!#REF!),0)","v":0},{"$f":"IFERROR($E76*SUMIF('Daily Log'!#REF!,$B76,'Daily Log'!#REF!),0)","v":0},{"$f":"IFERROR($E76*SUMIF('Daily Log'!#REF!,$B76,'Daily Log'!#REF!),0)","v":0},{"$f":"IFERROR($E76*SUMIF('Daily Log'!#REF!,$B76,'Daily Log'!#REF!),0)","v":0},{"$f":"IFERROR($E76*SUMIF('Daily Log'!#REF!,$B76,'Daily Log'!#REF!),0)","v":0},{"$f":"IFERROR($E76*SUMIF('Daily Log'!#REF!,$B76,'Daily Log'!#REF!),0)","v":0},{"$f":"IFERROR($E76*SUMIF('Daily Log'!#REF!,$B76,'Daily Log'!#REF!),0)","v":0},{"$f":"IFERROR($E76*SUMIF('Daily Log'!#REF!,$B76,'Daily Log'!#REF!),0)","v":0},{"$f":"IFERROR($E76*SUMIF('Daily Log'!#REF!,$B76,'Daily Log'!#REF!),0)","v":0},{"$f":"IFERROR($E76*SUMIF('Daily Log'!#REF!,$B76,'Daily Log'!#REF!),0)","v":0},{"$f":"IFERROR($E76*SUMIF('Daily Log'!$C$18:$C$1017,$B76,'Daily Log'!$D$18:$D$1017),0)","v":0},{"$f":"IFERROR($E76*SUMIF('Daily Log'!$F$18:$F$1017,$B76,'Daily Log'!$G$18:$G$1017),0)","v":0},{"$f":"IFERROR($E76*SUMIF('Daily Log'!$I$18:$I$1017,$B76,'Daily Log'!$J$18:$J$1017),0)","v":0},{"$f":"IFERROR($E76*SUMIF('Daily Log'!$L$18:$L$1017,$B76,'Daily Log'!$M$18:$M$1017),0)","v":0},{"$f":"IFERROR($E76*SUMIF('Daily Log'!$O$18:$O$1017,$B76,'Daily Log'!$P$18:$P$1017),0)","v":0},{"$f":"IFERROR($E76*SUMIF('Daily Log'!$R$18:$R$1017,$B76,'Daily Log'!$S$18:$S$1017),0)","v":0},{"$f":"IFERROR($E76*SUMIF('Daily Log'!$U$18:$U$1017,$B76,'Daily Log'!$V$18:$V$1017),0)","v":0},{"$f":"IFERROR($E76*SUMIF('Daily Log'!#REF!,$B76,'Daily Log'!#REF!),0)","v":0},{"$f":"IFERROR($E76*SUMIF('Daily Log'!#REF!,$B76,'Daily Log'!#REF!),0)","v":0},{"$f":"IFERROR($E76*SUMIF('Daily Log'!#REF!,$B76,'Daily Log'!#REF!),0)","v":0},{"$f":"IFERROR($E76*SUMIF('Daily Log'!#REF!,$B76,'Daily Log'!#REF!),0)","v":0},{"$f":"IFERROR($E76*SUMIF('Daily Log'!#REF!,$B76,'Daily Log'!#REF!),0)","v":0}]
[null,"CE04 LEMON TEA (C)",null,"SIDE ORDER-COLD BEVERAGE",1,0,{"$f":"IFERROR($E77*SUMIF('Daily Log'!#REF!,$B77,'Daily Log'!#REF!),0)","v":0},{"$f":"IFERROR($E77*SUMIF('Daily Log'!#REF!,$B77,'Daily Log'!#REF!),0)","v":0},{"$f":"IFERROR($E77*SUMIF('Daily Log'!#REF!,$B77,'Daily Log'!#REF!),0)","v":0},{"$f":"IFERROR($E77*SUMIF('Daily Log'!#REF!,$B77,'Daily Log'!#REF!),0)","v":0},{"$f":"IFERROR($E77*SUMIF('Daily Log'!#REF!,$B77,'Daily Log'!#REF!),0)","v":0},{"$f":"IFERROR($E77*SUMIF('Daily Log'!#REF!,$B77,'Daily Log'!#REF!),0)","v":0},{"$f":"IFERROR($E77*SUMIF('Daily Log'!#REF!,$B77,'Daily Log'!#REF!),0)","v":0},{"$f":"IFERROR($E77*SUMIF('Daily Log'!#REF!,$B77,'Daily Log'!#REF!),0)","v":0},{"$f":"IFERROR($E77*SUMIF('Daily Log'!#REF!,$B77,'Daily Log'!#REF!),0)","v":0},{"$f":"IFERROR($E77*SUMIF('Daily Log'!#REF!,$B77,'Daily Log'!#REF!),0)","v":0},{"$f":"IFERROR($E77*SUMIF('Daily Log'!#REF!,$B77,'Daily Log'!#REF!),0)","v":0},{"$f":"IFERROR($E77*SUMIF('Daily Log'!#REF!,$B77,'Daily Log'!#REF!),0)","v":0},{"$f":"IFERROR($E77*SUMIF('Daily Log'!#REF!,$B77,'Daily Log'!#REF!),0)","v":0},{"$f":"IFERROR($E77*SUMIF('Daily Log'!#REF!,$B77,'Daily Log'!#REF!),0)","v":0},{"$f":"IFERROR($E77*SUMIF('Daily Log'!#REF!,$B77,'Daily Log'!#REF!),0)","v":0},{"$f":"IFERROR($E77*SUMIF('Daily Log'!#REF!,$B77,'Daily Log'!#REF!),0)","v":0},{"$f":"IFERROR($E77*SUMIF('Daily Log'!#REF!,$B77,'Daily Log'!#REF!),0)","v":0},{"$f":"IFERROR($E77*SUMIF('Daily Log'!#REF!,$B77,'Daily Log'!#REF!),0)","v":0},{"$f":"IFERROR($E77*SUMIF('Daily Log'!#REF!,$B77,'Daily Log'!#REF!),0)","v":0},{"$f":"IFERROR($E77*SUMIF('Daily Log'!$C$18:$C$1017,$B77,'Daily Log'!$D$18:$D$1017),0)","v":0},{"$f":"IFERROR($E77*SUMIF('Daily Log'!$F$18:$F$1017,$B77,'Daily Log'!$G$18:$G$1017),0)","v":0},{"$f":"IFERROR($E77*SUMIF('Daily Log'!$I$18:$I$1017,$B77,'Daily Log'!$J$18:$J$1017),0)","v":0},{"$f":"IFERROR($E77*SUMIF('Daily Log'!$L$18:$L$1017,$B77,'Daily Log'!$M$18:$M$1017),0)","v":0},{"$f":"IFERROR($E77*SUMIF('Daily Log'!$O$18:$O$1017,$B77,'Daily Log'!$P$18:$P$1017),0)","v":0},{"$f":"IFERROR($E77*SUMIF('Daily Log'!$R$18:$R$1017,$B77,'Daily Log'!$S$18:$S$1017),0)","v":0},{"$f":"IFERROR($E77*SUMIF('Daily Log'!$U$18:$U$1017,$B77,'Daily Log'!$V$18:$V$1017),0)","v":0},{"$f":"IFERROR($E77*SUMIF('Daily Log'!#REF!,$B77,'Daily Log'!#REF!),0)","v":0},{"$f":"IFERROR($E77*SUMIF('Daily Log'!#REF!,$B77,'Daily Log'!#REF!),0)","v":0},{"$f":"IFERROR($E77*SUMIF('Daily Log'!#REF!,$B77,'Daily Log'!#REF!),0)","v":0},{"$f":"IFERROR($E77*SUMIF('Daily Log'!#REF!,$B77,'Daily Log'!#REF!),0)","v":0},{"$f":"IFERROR($E77*SUMIF('Daily Log'!#REF!,$B77,'Daily Log'!#REF!),0)","v":0}]
[null,"CE05 GRN TEA (C)",null,"SIDE ORDER-COLD BEVERAGE",1,0,{"$f":"IFERROR($E78*SUMIF('Daily Log'!#REF!,$B78,'Daily Log'!#REF!),0)","v":0},{"$f":"IFERROR($E78*SUMIF('Daily Log'!#REF!,$B78,'Daily Log'!#REF!),0)","v":0},{"$f":"IFERROR($E78*SUMIF('Daily Log'!#REF!,$B78,'Daily Log'!#REF!),0)","v":0},{"$f":"IFERROR($E78*SUMIF('Daily Log'!#REF!,$B78,'Daily Log'!#REF!),0)","v":0},{"$f":"IFERROR($E78*SUMIF('Daily Log'!#REF!,$B78,'Daily Log'!#REF!),0)","v":0},{"$f":"IFERROR($E78*SUMIF('Daily Log'!#REF!,$B78,'Daily Log'!#REF!),0)","v":0},{"$f":"IFERROR($E78*SUMIF('Daily Log'!#REF!,$B78,'Daily Log'!#REF!),0)","v":0},{"$f":"IFERROR($E78*SUMIF('Daily Log'!#REF!,$B78,'Daily Log'!#REF!),0)","v":0},{"$f":"IFERROR($E78*SUMIF('Daily Log'!#REF!,$B78,'Daily Log'!#REF!),0)","v":0},{"$f":"IFERROR($E78*SUMIF('Daily Log'!#REF!,$B78,'Daily Log'!#REF!),0)","v":0},{"$f":"IFERROR($E78*SUMIF('Daily Log'!#REF!,$B78,'Daily Log'!#REF!),0)","v":0},{"$f":"IFERROR($E78*SUMIF('Daily Log'!#REF!,$B78,'Daily Log'!#REF!),0)","v":0},{"$f":"IFERROR($E78*SUMIF('Daily Log'!#REF!,$B78,'Daily Log'!#REF!),0)","v":0},{"$f":"IFERROR($E78*SUMIF('Daily Log'!#REF!,$B78,'Daily Log'!#REF!),0)","v":0},{"$f":"IFERROR($E78*SUMIF('Daily Log'!#REF!,$B78,'Daily Log'!#REF!),0)","v":0},{"$f":"IFERROR($E78*SUMIF('Daily Log'!#REF!,$B78,'Daily Log'!#REF!),0)","v":0},{"$f":"IFERROR($E78*SUMIF('Daily Log'!#REF!,$B78,'Daily Log'!#REF!),0)","v":0},{"$f":"IFERROR($E78*SUMIF('Daily Log'!#REF!,$B78,'Daily Log'!#REF!),0)","v":0},{"$f":"IFERROR($E78*SUMIF('Daily Log'!#REF!,$B78,'Daily Log'!#REF!),0)","v":0},{"$f":"IFERROR($E78*SUMIF('Daily Log'!$C$18:$C$1017,$B78,'Daily Log'!$D$18:$D$1017),0)","v":0},{"$f":"IFERROR($E78*SUMIF('Daily Log'!$F$18:$F$1017,$B78,'Daily Log'!$G$18:$G$1017),0)","v":0},{"$f":"IFERROR($E78*SUMIF('Daily Log'!$I$18:$I$1017,$B78,'Daily Log'!$J$18:$J$1017),0)","v":0},{"$f":"IFERROR($E78*SUMIF('Daily Log'!$L$18:$L$1017,$B78,'Daily Log'!$M$18:$M$1017),0)","v":0},{"$f":"IFERROR($E78*SUMIF('Daily Log'!$O$18:$O$1017,$B78,'Daily Log'!$P$18:$P$1017),0)","v":0},{"$f":"IFERROR($E78*SUMIF('Daily Log'!$R$18:$R$1017,$B78,'Daily Log'!$S$18:$S$1017),0)","v":0},{"$f":"IFERROR($E78*SUMIF('Daily Log'!$U$18:$U$1017,$B78,'Daily Log'!$V$18:$V$1017),0)","v":0},{"$f":"IFERROR($E78*SUMIF('Daily Log'!#REF!,$B78,'Daily Log'!#REF!),0)","v":0},{"$f":"IFERROR($E78*SUMIF('Daily Log'!#REF!,$B78,'Daily Log'!#REF!),0)","v":0},{"$f":"IFERROR($E78*SUMIF('Daily Log'!#REF!,$B78,'Daily Log'!#REF!),0)","v":0},{"$f":"IFERROR($E78*SUMIF('Daily Log'!#REF!,$B78,'Daily Log'!#REF!),0)","v":0},{"$f":"IFERROR($E78*SUMIF('Daily Log'!#REF!,$B78,'Daily Log'!#REF!),0)","v":0}]
[null,"CE06 HNY GRN TEA (C)",null,"SIDE ORDER-COLD BEVERAGE",1,2,{"$f":"IFERROR($E79*SUMIF('Daily Log'!#REF!,$B79,'Daily Log'!#REF!),0)","v":0},{"$f":"IFERROR($E79*SUMIF('Daily Log'!#REF!,$B79,'Daily Log'!#REF!),0)","v":0},{"$f":"IFERROR($E79*SUMIF('Daily Log'!#REF!,$B79,'Daily Log'!#REF!),0)","v":0},{"$f":"IFERROR($E79*SUMIF('Daily Log'!#REF!,$B79,'Daily Log'!#REF!),0)","v":0},{"$f":"IFERROR($E79*SUMIF('Daily Log'!#REF!,$B79,'Daily Log'!#REF!),0)","v":0},{"$f":"IFERROR($E79*SUMIF('Daily Log'!#REF!,$B79,'Daily Log'!#REF!),0)","v":0},{"$f":"IFERROR($E79*SUMIF('Daily Log'!#REF!,$B79,'Daily Log'!#REF!),0)","v":0},{"$f":"IFERROR($E79*SUMIF('Daily Log'!#REF!,$B79,'Daily Log'!#REF!),0)","v":0},{"$f":"IFERROR($E79*SUMIF('Daily Log'!#REF!,$B79,'Daily Log'!#REF!),0)","v":0},{"$f":"IFERROR($E79*SUMIF('Daily Log'!#REF!,$B79,'Daily Log'!#REF!),0)","v":0},{"$f":"IFERROR($E79*SUMIF('Daily Log'!#REF!,$B79,'Daily Log'!#REF!),0)","v":0},{"$f":"IFERROR($E79*SUMIF('Daily Log'!#REF!,$B79,'Daily Log'!#REF!),0)","v":0},{"$f":"IFERROR($E79*SUMIF('Daily Log'!#REF!,$B79,'Daily Log'!#REF!),0)","v":0},{"$f":"IFERROR($E79*SUMIF('Daily Log'!#REF!,$B79,'Daily Log'!#REF!),0)","v":0},{"$f":"IFERROR($E79*SUMIF('Daily Log'!#REF!,$B79,'Daily Log'!#REF!),0)","v":0},{"$f":"IFERROR($E79*SUMIF('Daily Log'!#REF!,$B79,'Daily Log'!#REF!),0)","v":0},{"$f":"IFERROR($E79*SUMIF('Daily Log'!#REF!,$B79,'Daily Log'!#REF!),0)","v":0},{"$f":"IFERROR($E79*SUMIF('Daily Log'!#REF!,$B79,'Daily Log'!#REF!),0)","v":0},{"$f":"IFERROR($E79*SUMIF('Daily Log'!#REF!,$B79,'Daily Log'!#REF!),0)","v":0},{"$f":"IFERROR($E79*SUMIF('Daily Log'!$C$18:$C$1017,$B79,'Daily Log'!$D$18:$D$1017),0)","v":0},{"$f":"IFERROR($E79*SUMIF('Daily Log'!$F$18:$F$1017,$B79,'Daily Log'!$G$18:$G$1017),0)","v":0},{"$f":"IFERROR($E79*SUMIF('Daily Log'!$I$18:$I$1017,$B79,'Daily Log'!$J$18:$J$1017),0)","v":0},{"$f":"IFERROR($E79*SUMIF('Daily Log'!$L$18:$L$1017,$B79,'Daily Log'!$M$18:$M$1017),0)","v":0},{"$f":"IFERROR($E79*SUMIF('Daily Log'!$O$18:$O$1017,$B79,'Daily Log'!$P$18:$P$1017),0)","v":0},{"$f":"IFERROR($E79*SUMIF('Daily Log'!$R$18:$R$1017,$B79,'Daily Log'!$S$18:$S$1017),0)","v":2},{"$f":"IFERROR($E79*SUMIF('Daily Log'!$U$18:$U$1017,$B79,'Daily Log'!$V$18:$V$1017),0)","v":0},{"$f":"IFERROR($E79*SUMIF('Daily Log'!#REF!,$B79,'Daily Log'!#REF!),0)","v":0},{"$f":"IFERROR($E79*SUMIF('Daily Log'!#REF!,$B79,'Daily Log'!#REF!),0)","v":0},{"$f":"IFERROR($E79*SUMIF('Daily Log'!#REF!,$B79,'Daily Log'!#REF!),0)","v":0},{"$f":"IFERROR($E79*SUMIF('Daily Log'!#REF!,$B79,'Daily Log'!#REF!),0)","v":0},{"$f":"IFERROR($E79*SUMIF('Daily Log'!#REF!,$B79,'Daily Log'!#REF!),0)","v":0}]
[null,"CE07 HONEY (C)",null,"SIDE ORDER-COLD BEVERAGE",1,0,{"$f":"IFERROR($E80*SUMIF('Daily Log'!#REF!,$B80,'Daily Log'!#REF!),0)","v":0},{"$f":"IFERROR($E80*SUMIF('Daily Log'!#REF!,$B80,'Daily Log'!#REF!),0)","v":0},{"$f":"IFERROR($E80*SUMIF('Daily Log'!#REF!,$B80,'Daily Log'!#REF!),0)","v":0},{"$f":"IFERROR($E80*SUMIF('Daily Log'!#REF!,$B80,'Daily Log'!#REF!),0)","v":0},{"$f":"IFERROR($E80*SUMIF('Daily Log'!#REF!,$B80,'Daily Log'!#REF!),0)","v":0},{"$f":"IFERROR($E80*SUMIF('Daily Log'!#REF!,$B80,'Daily Log'!#REF!),0)","v":0},{"$f":"IFERROR($E80*SUMIF('Daily Log'!#REF!,$B80,'Daily Log'!#REF!),0)","v":0},{"$f":"IFERROR($E80*SUMIF('Daily Log'!#REF!,$B80,'Daily Log'!#REF!),0)","v":0},{"$f":"IFERROR($E80*SUMIF('Daily Log'!#REF!,$B80,'Daily Log'!#REF!),0)","v":0},{"$f":"IFERROR($E80*SUMIF('Daily Log'!#REF!,$B80,'Daily Log'!#REF!),0)","v":0},{"$f":"IFERROR($E80*SUMIF('Daily Log'!#REF!,$B80,'Daily Log'!#REF!),0)","v":0},{"$f":"IFERROR($E80*SUMIF('Daily Log'!#REF!,$B80,'Daily Log'!#REF!),0)","v":0},{"$f":"IFERROR($E80*SUMIF('Daily Log'!#REF!,$B80,'Daily Log'!#REF!),0)","v":0},{"$f":"IFERROR($E80*SUMIF('Daily Log'!#REF!,$B80,'Daily Log'!#REF!),0)","v":0},{"$f":"IFERROR($E80*SUMIF('Daily Log'!#REF!,$B80,'Daily Log'!#REF!),0)","v":0},{"$f":"IFERROR($E80*SUMIF('Daily Log'!#REF!,$B80,'Daily Log'!#REF!),0)","v":0},{"$f":"IFERROR($E80*SUMIF('Daily Log'!#REF!,$B80,'Daily Log'!#REF!),0)","v":0},{"$f":"IFERROR($E80*SUMIF('Daily Log'!#REF!,$B80,'Daily Log'!#REF!),0)","v":0},{"$f":"IFERROR($E80*SUMIF('Daily Log'!#REF!,$B80,'Daily Log'!#REF!),0)","v":0},{"$f":"IFERROR($E80*SUMIF('Daily Log'!$C$18:$C$1017,$B80,'Daily Log'!$D$18:$D$1017),0)","v":0},{"$f":"IFERROR($E80*SUMIF('Daily Log'!$F$18:$F$1017,$B80,'Daily Log'!$G$18:$G$1017),0)","v":0},{"$f":"IFERROR($E80*SUMIF('Daily Log'!$I$18:$I$1017,$B80,'Daily Log'!$J$18:$J$1017),0)","v":0},{"$f":"IFERROR($E80*SUMIF('Daily Log'!$L$18:$L$1017,$B80,'Daily Log'!$M$18:$M$1017),0)","v":0},{"$f":"IFERROR($E80*SUMIF('Daily Log'!$O$18:$O$1017,$B80,'Daily Log'!$P$18:$P$1017),0)","v":0},{"$f":"IFERROR($E80*SUMIF('Daily Log'!$R$18:$R$1017,$B80,'Daily Log'!$S$18:$S$1017),0)","v":0},{"$f":"IFERROR($E80*SUMIF('Daily Log'!$U$18:$U$1017,$B80,'Daily Log'!$V$18:$V$1017),0)","v":0},{"$f":"IFERROR($E80*SUMIF('Daily Log'!#REF!,$B80,'Daily Log'!#REF!),0)","v":0},{"$f":"IFERROR($E80*SUMIF('Daily Log'!#REF!,$B80,'Daily Log'!#REF!),0)","v":0},{"$f":"IFERROR($E80*SUMIF('Daily Log'!#REF!,$B80,'Daily Log'!#REF!),0)","v":0},{"$f":"IFERROR($E80*SUMIF('Daily Log'!#REF!,$B80,'Daily Log'!#REF!),0)","v":0},{"$f":"IFERROR($E80*SUMIF('Daily Log'!#REF!,$B80,'Daily Log'!#REF!),0)","v":0}]
[null,"CE08 LEMON HONEY (C)",null,"SIDE ORDER-COLD BEVERAGE",1,0,{"$f":"IFERROR($E81*SUMIF('Daily Log'!#REF!,$B81,'Daily Log'!#REF!),0)","v":0},{"$f":"IFERROR($E81*SUMIF('Daily Log'!#REF!,$B81,'Daily Log'!#REF!),0)","v":0},{"$f":"IFERROR($E81*SUMIF('Daily Log'!#REF!,$B81,'Daily Log'!#REF!),0)","v":0},{"$f":"IFERROR($E81*SUMIF('Daily Log'!#REF!,$B81,'Daily Log'!#REF!),0)","v":0},{"$f":"IFERROR($E81*SUMIF('Daily Log'!#REF!,$B81,'Daily Log'!#REF!),0)","v":0},{"$f":"IFERROR($E81*SUMIF('Daily Log'!#REF!,$B81,'Daily Log'!#REF!),0)","v":0},{"$f":"IFERROR($E81*SUMIF('Daily Log'!#REF!,$B81,'Daily Log'!#REF!),0)","v":0},{"$f":"IFERROR($E81*SUMIF('Daily Log'!#REF!,$B81,'Daily Log'!#REF!),0)","v":0},{"$f":"IFERROR($E81*SUMIF('Daily Log'!#REF!,$B81,'Daily Log'!#REF!),0)","v":0},{"$f":"IFERROR($E81*SUMIF('Daily Log'!#REF!,$B81,'Daily Log'!#REF!),0)","v":0},{"$f":"IFERROR($E81*SUMIF('Daily Log'!#REF!,$B81,'Daily Log'!#REF!),0)","v":0},{"$f":"IFERROR($E81*SUMIF('Daily Log'!#REF!,$B81,'Daily Log'!#REF!),0)","v":0},{"$f":"IFERROR($E81*SUMIF('Daily Log'!#REF!,$B81,'Daily Log'!#REF!),0)","v":0},{"$f":"IFERROR($E81*SUMIF('Daily Log'!#REF!,$B81,'Daily Log'!#REF!),0)","v":0},{"$f":"IFERROR($E81*SUMIF('Daily Log'!#REF!,$B81,'Daily Log'!#REF!),0)","v":0},{"$f":"IFERROR($E81*SUMIF('Daily Log'!#REF!,$B81,'Daily Log'!#REF!),0)","v":0},{"$f":"IFERROR($E81*SUMIF('Daily Log'!#REF!,$B81,'Daily Log'!#REF!),0)","v":0},{"$f":"IFERROR($E81*SUMIF('Daily Log'!#REF!,$B81,'Daily Log'!#REF!),0)","v":0},{"$f":"IFERROR($E81*SUMIF('Daily Log'!#REF!,$B81,'Daily Log'!#REF!),0)","v":0},{"$f":"IFERROR($E81*SUMIF('Daily Log'!$C$18:$C$1017,$B81,'Daily Log'!$D$18:$D$1017),0)","v":0},{"$f":"IFERROR($E81*SUMIF('Daily Log'!$F$18:$F$1017,$B81,'Daily Log'!$G$18:$G$1017),0)","v":0},{"$f":"IFERROR($E81*SUMIF('Daily Log'!$I$18:$I$1017,$B81,'Daily Log'!$J$18:$J$1017),0)","v":0},{"$f":"IFERROR($E81*SUMIF('Daily Log'!$L$18:$L$1017,$B81,'Daily Log'!$M$18:$M$1017),0)","v":0},{"$f":"IFERROR($E81*SUMIF('Daily Log'!$O$18:$O$1017,$B81,'Daily Log'!$P$18:$P$1017),0)","v":0},{"$f":"IFERROR($E81*SUMIF('Daily Log'!$R$18:$R$1017,$B81,'Daily Log'!$S$18:$S$1017),0)","v":0},{"$f":"IFERROR($E81*SUMIF('Daily Log'!$U$18:$U$1017,$B81,'Daily Log'!$V$18:$V$1017),0)","v":0},{"$f":"IFERROR($E81*SUMIF('Daily Log'!#REF!,$B81,'Daily Log'!#REF!),0)","v":0},{"$f":"IFERROR($E81*SUMIF('Daily Log'!#REF!,$B81,'Daily Log'!#REF!),0)","v":0},{"$f":"IFERROR($E81*SUMIF('Daily Log'!#REF!,$B81,'Daily Log'!#REF!),0)","v":0},{"$f":"IFERROR($E81*SUMIF('Daily Log'!#REF!,$B81,'Daily Log'!#REF!),0)","v":0},{"$f":"IFERROR($E81*SUMIF('Daily Log'!#REF!,$B81,'Daily Log'!#REF!),0)","v":0}]
[null,"CF01 MILO (H)",null,"SIDE ORDER-HOT BEVERAGE",1,0,{"$f":"IFERROR($E82*SUMIF('Daily Log'!#REF!,$B82,'Daily Log'!#REF!),0)","v":0},{"$f":"IFERROR($E82*SUMIF('Daily Log'!#REF!,$B82,'Daily Log'!#REF!),0)","v":0},{"$f":"IFERROR($E82*SUMIF('Daily Log'!#REF!,$B82,'Daily Log'!#REF!),0)","v":0},{"$f":"IFERROR($E82*SUMIF('Daily Log'!#REF!,$B82,'Daily Log'!#REF!),0)","v":0},{"$f":"IFERROR($E82*SUMIF('Daily Log'!#REF!,$B82,'Daily Log'!#REF!),0)","v":0},{"$f":"IFERROR($E82*SUMIF('Daily Log'!#REF!,$B82,'Daily Log'!#REF!),0)","v":0},{"$f":"IFERROR($E82*SUMIF('Daily Log'!#REF!,$B82,'Daily Log'!#REF!),0)","v":0},{"$f":"IFERROR($E82*SUMIF('Daily Log'!#REF!,$B82,'Daily Log'!#REF!),0)","v":0},{"$f":"IFERROR($E82*SUMIF('Daily Log'!#REF!,$B82,'Daily Log'!#REF!),0)","v":0},{"$f":"IFERROR($E82*SUMIF('Daily Log'!#REF!,$B82,'Daily Log'!#REF!),0)","v":0},{"$f":"IFERROR($E82*SUMIF('Daily Log'!#REF!,$B82,'Daily Log'!#REF!),0)","v":0},{"$f":"IFERROR($E82*SUMIF('Daily Log'!#REF!,$B82,'Daily Log'!#REF!),0)","v":0},{"$f":"IFERROR($E82*SUMIF('Daily Log'!#REF!,$B82,'Daily Log'!#REF!),0)","v":0},{"$f":"IFERROR($E82*SUMIF('Daily Log'!#REF!,$B82,'Daily Log'!#REF!),0)","v":0},{"$f":"IFERROR($E82*SUMIF('Daily Log'!#REF!,$B82,'Daily Log'!#REF!),0)","v":0},{"$f":"IFERROR($E82*SUMIF('Daily Log'!#REF!,$B82,'Daily Log'!#REF!),0)","v":0},{"$f":"IFERROR($E82*SUMIF('Daily Log'!#REF!,$B82,'Daily Log'!#REF!),0)","v":0},{"$f":"IFERROR($E82*SUMIF('Daily Log'!#REF!,$B82,'Daily Log'!#REF!),0)","v":0},{"$f":"IFERROR($E82*SUMIF('Daily Log'!#REF!,$B82,'Daily Log'!#REF!),0)","v":0},{"$f":"IFERROR($E82*SUMIF('Daily Log'!$C$18:$C$1017,$B82,'Daily Log'!$D$18:$D$1017),0)","v":0},{"$f":"IFERROR($E82*SUMIF('Daily Log'!$F$18:$F$1017,$B82,'Daily Log'!$G$18:$G$1017),0)","v":0},{"$f":"IFERROR($E82*SUMIF('Daily Log'!$I$18:$I$1017,$B82,'Daily Log'!$J$18:$J$1017),0)","v":0},{"$f":"IFERROR($E82*SUMIF('Daily Log'!$L$18:$L$1017,$B82,'Daily Log'!$M$18:$M$1017),0)","v":0},{"$f":"IFERROR($E82*SUMIF('Daily Log'!$O$18:$O$1017,$B82,'Daily Log'!$P$18:$P$1017),0)","v":0},{"$f":"IFERROR($E82*SUMIF('Daily Log'!$R$18:$R$1017,$B82,'Daily Log'!$S$18:$S$1017),0)","v":0},{"$f":"IFERROR($E82*SUMIF('Daily Log'!$U$18:$U$1017,$B82,'Daily Log'!$V$18:$V$1017),0)","v":0},{"$f":"IFERROR($E82*SUMIF('Daily Log'!#REF!,$B82,'Daily Log'!#REF!),0)","v":0},{"$f":"IFERROR($E82*SUMIF('Daily Log'!#REF!,$B82,'Daily Log'!#REF!),0)","v":0},{"$f":"IFERROR($E82*SUMIF('Daily Log'!#REF!,$B82,'Daily Log'!#REF!),0)","v":0},{"$f":"IFERROR($E82*SUMIF('Daily Log'!#REF!,$B82,'Daily Log'!#REF!),0)","v":0},{"$f":"IFERROR($E82*SUMIF('Daily Log'!#REF!,$B82,'Daily Log'!#REF!),0)","v":0}]
[null,"CF02 NESCAFE (H)",null,"SIDE ORDER-HOT BEVERAGE",1,0,{"$f":"IFERROR($E83*SUMIF('Daily Log'!#REF!,$B83,'Daily Log'!#REF!),0)","v":0},{"$f":"IFERROR($E83*SUMIF('Daily Log'!#REF!,$B83,'Daily Log'!#REF!),0)","v":0},{"$f":"IFERROR($E83*SUMIF('Daily Log'!#REF!,$B83,'Daily Log'!#REF!),0)","v":0},{"$f":"IFERROR($E83*SUMIF('Daily Log'!#REF!,$B83,'Daily Log'!#REF!),0)","v":0},{"$f":"IFERROR($E83*SUMIF('Daily Log'!#REF!,$B83,'Daily Log'!#REF!),0)","v":0},{"$f":"IFERROR($E83*SUMIF('Daily Log'!#REF!,$B83,'Daily Log'!#REF!),0)","v":0},{"$f":"IFERROR($E83*SUMIF('Daily Log'!#REF!,$B83,'Daily Log'!#REF!),0)","v":0},{"$f":"IFERROR($E83*SUMIF('Daily Log'!#REF!,$B83,'Daily Log'!#REF!),0)","v":0},{"$f":"IFERROR($E83*SUMIF('Daily Log'!#REF!,$B83,'Daily Log'!#REF!),0)","v":0},{"$f":"IFERROR($E83*SUMIF('Daily Log'!#REF!,$B83,'Daily Log'!#REF!),0)","v":0},{"$f":"IFERROR($E83*SUMIF('Daily Log'!#REF!,$B83,'Daily Log'!#REF!),0)","v":0},{"$f":"IFERROR($E83*SUMIF('Daily Log'!#REF!,$B83,'Daily Log'!#REF!),0)","v":0},{"$f":"IFERROR($E83*SUMIF('Daily Log'!#REF!,$B83,'Daily Log'!#REF!),0)","v":0},{"$f":"IFERROR($E83*SUMIF('Daily Log'!#REF!,$B83,'Daily Log'!#REF!),0)","v":0},{"$f":"IFERROR($E83*SUMIF('Daily Log'!#REF!,$B83,'Daily Log'!#REF!),0)","v":0},{"$f":"IFERROR($E83*SUMIF('Daily Log'!#REF!,$B83,'Daily Log'!#REF!),0)","v":0},{"$f":"IFERROR($E83*SUMIF('Daily Log'!#REF!,$B83,'Daily Log'!#REF!),0)","v":0},{"$f":"IFERROR($E83*SUMIF('Daily Log'!#REF!,$B83,'Daily Log'!#REF!),0)","v":0},{"$f":"IFERROR($E83*SUMIF('Daily Log'!#REF!,$B83,'Daily Log'!#REF!),0)","v":0},{"$f":"IFERROR($E83*SUMIF('Daily Log'!$C$18:$C$1017,$B83,'Daily Log'!$D$18:$D$1017),0)","v":0},{"$f":"IFERROR($E83*SUMIF('Daily Log'!$F$18:$F$1017,$B83,'Daily Log'!$G$18:$G$1017),0)","v":0},{"$f":"IFERROR($E83*SUMIF('Daily Log'!$I$18:$I$1017,$B83,'Daily Log'!$J$18:$J$1017),0)","v":0},{"$f":"IFERROR($E83*SUMIF('Daily Log'!$L$18:$L$1017,$B83,'Daily Log'!$M$18:$M$1017),0)","v":0},{"$f":"IFERROR($E83*SUMIF('Daily Log'!$O$18:$O$1017,$B83,'Daily Log'!$P$18:$P$1017),0)","v":0},{"$f":"IFERROR($E83*SUMIF('Daily Log'!$R$18:$R$1017,$B83,'Daily Log'!$S$18:$S$1017),0)","v":0},{"$f":"IFERROR($E83*SUMIF('Daily Log'!$U$18:$U$1017,$B83,'Daily Log'!$V$18:$V$1017),0)","v":0},{"$f":"IFERROR($E83*SUMIF('Daily Log'!#REF!,$B83,'Daily Log'!#REF!),0)","v":0},{"$f":"IFERROR($E83*SUMIF('Daily Log'!#REF!,$B83,'Daily Log'!#REF!),0)","v":0},{"$f":"IFERROR($E83*SUMIF('Daily Log'!#REF!,$B83,'Daily Log'!#REF!),0)","v":0},{"$f":"IFERROR($E83*SUMIF('Daily Log'!#REF!,$B83,'Daily Log'!#REF!),0)","v":0},{"$f":"IFERROR($E83*SUMIF('Daily Log'!#REF!,$B83,'Daily Log'!#REF!),0)","v":0}]
[null,"CF03 TEA (H)",null,"SIDE ORDER-HOT BEVERAGE",1,0,{"$f":"IFERROR($E84*SUMIF('Daily Log'!#REF!,$B84,'Daily Log'!#REF!),0)","v":0},{"$f":"IFERROR($E84*SUMIF('Daily Log'!#REF!,$B84,'Daily Log'!#REF!),0)","v":0},{"$f":"IFERROR($E84*SUMIF('Daily Log'!#REF!,$B84,'Daily Log'!#REF!),0)","v":0},{"$f":"IFERROR($E84*SUMIF('Daily Log'!#REF!,$B84,'Daily Log'!#REF!),0)","v":0},{"$f":"IFERROR($E84*SUMIF('Daily Log'!#REF!,$B84,'Daily Log'!#REF!),0)","v":0},{"$f":"IFERROR($E84*SUMIF('Daily Log'!#REF!,$B84,'Daily Log'!#REF!),0)","v":0},{"$f":"IFERROR($E84*SUMIF('Daily Log'!#REF!,$B84,'Daily Log'!#REF!),0)","v":0},{"$f":"IFERROR($E84*SUMIF('Daily Log'!#REF!,$B84,'Daily Log'!#REF!),0)","v":0},{"$f":"IFERROR($E84*SUMIF('Daily Log'!#REF!,$B84,'Daily Log'!#REF!),0)","v":0},{"$f":"IFERROR($E84*SUMIF('Daily Log'!#REF!,$B84,'Daily Log'!#REF!),0)","v":0},{"$f":"IFERROR($E84*SUMIF('Daily Log'!#REF!,$B84,'Daily Log'!#REF!),0)","v":0},{"$f":"IFERROR($E84*SUMIF('Daily Log'!#REF!,$B84,'Daily Log'!#REF!),0)","v":0},{"$f":"IFERROR($E84*SUMIF('Daily Log'!#REF!,$B84,'Daily Log'!#REF!),0)","v":0},{"$f":"IFERROR($E84*SUMIF('Daily Log'!#REF!,$B84,'Daily Log'!#REF!),0)","v":0},{"$f":"IFERROR($E84*SUMIF('Daily Log'!#REF!,$B84,'Daily Log'!#REF!),0)","v":0},{"$f":"IFERROR($E84*SUMIF('Daily Log'!#REF!,$B84,'Daily Log'!#REF!),0)","v":0},{"$f":"IFERROR($E84*SUMIF('Daily Log'!#REF!,$B84,'Daily Log'!#REF!),0)","v":0},{"$f":"IFERROR($E84*SUMIF('Daily Log'!#REF!,$B84,'Daily Log'!#REF!),0)","v":0},{"$f":"IFERROR($E84*SUMIF('Daily Log'!#REF!,$B84,'Daily Log'!#REF!),0)","v":0},{"$f":"IFERROR($E84*SUMIF('Daily Log'!$C$18:$C$1017,$B84,'Daily Log'!$D$18:$D$1017),0)","v":0},{"$f":"IFERROR($E84*SUMIF('Daily Log'!$F$18:$F$1017,$B84,'Daily Log'!$G$18:$G$1017),0)","v":0},{"$f":"IFERROR($E84*SUMIF('Daily Log'!$I$18:$I$1017,$B84,'Daily Log'!$J$18:$J$1017),0)","v":0},{"$f":"IFERROR($E84*SUMIF('Daily Log'!$L$18:$L$1017,$B84,'Daily Log'!$M$18:$M$1017),0)","v":0},{"$f":"IFERROR($E84*SUMIF('Daily Log'!$O$18:$O$1017,$B84,'Daily Log'!$P$18:$P$1017),0)","v":0},{"$f":"IFERROR($E84*SUMIF('Daily Log'!$R$18:$R$1017,$B84,'Daily Log'!$S$18:$S$1017),0)","v":0},{"$f":"IFERROR($E84*SUMIF('Daily Log'!$U$18:$U$1017,$B84,'Daily Log'!$V$18:$V$1017),0)","v":0},{"$f":"IFERROR($E84*SUMIF('Daily Log'!#REF!,$B84,'Daily Log'!#REF!),0)","v":0},{"$f":"IFERROR($E84*SUMIF('Daily Log'!#REF!,$B84,'Daily Log'!#REF!),0)","v":0},{"$f":"IFERROR($E84*SUMIF('Daily Log'!#REF!,$B84,'Daily Log'!#REF!),0)","v":0},{"$f":"IFERROR($E84*SUMIF('Daily Log'!#REF!,$B84,'Daily Log'!#REF!),0)","v":0},{"$f":"IFERROR($E84*SUMIF('Daily Log'!#REF!,$B84,'Daily Log'!#REF!),0)","v":0}]
[null,"CF04 LEMON TEA (H)",null,"SIDE ORDER-HOT BEVERAGE",1,0,{"$f":"IFERROR($E85*SUMIF('Daily Log'!#REF!,$B85,'Daily Log'!#REF!),0)","v":0},{"$f":"IFERROR($E85*SUMIF('Daily Log'!#REF!,$B85,'Daily Log'!#REF!),0)","v":0},{"$f":"IFERROR($E85*SUMIF('Daily Log'!#REF!,$B85,'Daily Log'!#REF!),0)","v":0},{"$f":"IFERROR($E85*SUMIF('Daily Log'!#REF!,$B85,'Daily Log'!#REF!),0)","v":0},{"$f":"IFERROR($E85*SUMIF('Daily Log'!#REF!,$B85,'Daily Log'!#REF!),0)","v":0},{"$f":"IFERROR($E85*SUMIF('Daily Log'!#REF!,$B85,'Daily Log'!#REF!),0)","v":0},{"$f":"IFERROR($E85*SUMIF('Daily Log'!#REF!,$B85,'Daily Log'!#REF!),0)","v":0},{"$f":"IFERROR($E85*SUMIF('Daily Log'!#REF!,$B85,'Daily Log'!#REF!),0)","v":0},{"$f":"IFERROR($E85*SUMIF('Daily Log'!#REF!,$B85,'Daily Log'!#REF!),0)","v":0},{"$f":"IFERROR($E85*SUMIF('Daily Log'!#REF!,$B85,'Daily Log'!#REF!),0)","v":0},{"$f":"IFERROR($E85*SUMIF('Daily Log'!#REF!,$B85,'Daily Log'!#REF!),0)","v":0},{"$f":"IFERROR($E85*SUMIF('Daily Log'!#REF!,$B85,'Daily Log'!#REF!),0)","v":0},{"$f":"IFERROR($E85*SUMIF('Daily Log'!#REF!,$B85,'Daily Log'!#REF!),0)","v":0},{"$f":"IFERROR($E85*SUMIF('Daily Log'!#REF!,$B85,'Daily Log'!#REF!),0)","v":0},{"$f":"IFERROR($E85*SUMIF('Daily Log'!#REF!,$B85,'Daily Log'!#REF!),0)","v":0},{"$f":"IFERROR($E85*SUMIF('Daily Log'!#REF!,$B85,'Daily Log'!#REF!),0)","v":0},{"$f":"IFERROR($E85*SUMIF('Daily Log'!#REF!,$B85,'Daily Log'!#REF!),0)","v":0},{"$f":"IFERROR($E85*SUMIF('Daily Log'!#REF!,$B85,'Daily Log'!#REF!),0)","v":0},{"$f":"IFERROR($E85*SUMIF('Daily Log'!#REF!,$B85,'Daily Log'!#REF!),0)","v":0},{"$f":"IFERROR($E85*SUMIF('Daily Log'!$C$18:$C$1017,$B85,'Daily Log'!$D$18:$D$1017),0)","v":0},{"$f":"IFERROR($E85*SUMIF('Daily Log'!$F$18:$F$1017,$B85,'Daily Log'!$G$18:$G$1017),0)","v":0},{"$f":"IFERROR($E85*SUMIF('Daily Log'!$I$18:$I$1017,$B85,'Daily Log'!$J$18:$J$1017),0)","v":0},{"$f":"IFERROR($E85*SUMIF('Daily Log'!$L$18:$L$1017,$B85,'Daily Log'!$M$18:$M$1017),0)","v":0},{"$f":"IFERROR($E85*SUMIF('Daily Log'!$O$18:$O$1017,$B85,'Daily Log'!$P$18:$P$1017),0)","v":0},{"$f":"IFERROR($E85*SUMIF('Daily Log'!$R$18:$R$1017,$B85,'Daily Log'!$S$18:$S$1017),0)","v":0},{"$f":"IFERROR($E85*SUMIF('Daily Log'!$U$18:$U$1017,$B85,'Daily Log'!$V$18:$V$1017),0)","v":0},{"$f":"IFERROR($E85*SUMIF('Daily Log'!#REF!,$B85,'Daily Log'!#REF!),0)","v":0},{"$f":"IFERROR($E85*SUMIF('Daily Log'!#REF!,$B85,'Daily Log'!#REF!),0)","v":0},{"$f":"IFERROR($E85*SUMIF('Daily Log'!#REF!,$B85,'Daily Log'!#REF!),0)","v":0},{"$f":"IFERROR($E85*SUMIF('Daily Log'!#REF!,$B85,'Daily Log'!#REF!),0)","v":0},{"$f":"IFERROR($E85*SUMIF('Daily Log'!#REF!,$B85,'Daily Log'!#REF!),0)","v":0}]
[null,"CF05 GRN TEA (H)",null,"SIDE ORDER-HOT BEVERAGE",1,1,{"$f":"IFERROR($E86*SUMIF('Daily Log'!#REF!,$B86,'Daily Log'!#REF!),0)","v":0},{"$f":"IFERROR($E86*SUMIF('Daily Log'!#REF!,$B86,'Daily Log'!#REF!),0)","v":0},{"$f":"IFERROR($E86*SUMIF('Daily Log'!#REF!,$B86,'Daily Log'!#REF!),0)","v":0},{"$f":"IFERROR($E86*SUMIF('Daily Log'!#REF!,$B86,'Daily Log'!#REF!),0)","v":0},{"$f":"IFERROR($E86*SUMIF('Daily Log'!#REF!,$B86,'Daily Log'!#REF!),0)","v":0},{"$f":"IFERROR($E86*SUMIF('Daily Log'!#REF!,$B86,'Daily Log'!#REF!),0)","v":0},{"$f":"IFERROR($E86*SUMIF('Daily Log'!#REF!,$B86,'Daily Log'!#REF!),0)","v":0},{"$f":"IFERROR($E86*SUMIF('Daily Log'!#REF!,$B86,'Daily Log'!#REF!),0)","v":0},{"$f":"IFERROR($E86*SUMIF('Daily Log'!#REF!,$B86,'Daily Log'!#REF!),0)","v":0},{"$f":"IFERROR($E86*SUMIF('Daily Log'!#REF!,$B86,'Daily Log'!#REF!),0)","v":0},{"$f":"IFERROR($E86*SUMIF('Daily Log'!#REF!,$B86,'Daily Log'!#REF!),0)","v":0},{"$f":"IFERROR($E86*SUMIF('Daily Log'!#REF!,$B86,'Daily Log'!#REF!),0)","v":0},{"$f":"IFERROR($E86*SUMIF('Daily Log'!#REF!,$B86,'Daily Log'!#REF!),0)","v":0},{"$f":"IFERROR($E86*SUMIF('Daily Log'!#REF!,$B86,'Daily Log'!#REF!),0)","v":0},{"$f":"IFERROR($E86*SUMIF('Daily Log'!#REF!,$B86,'Daily Log'!#REF!),0)","v":0},{"$f":"IFERROR($E86*SUMIF('Daily Log'!#REF!,$B86,'Daily Log'!#REF!),0)","v":0},{"$f":"IFERROR($E86*SUMIF('Daily Log'!#REF!,$B86,'Daily Log'!#REF!),0)","v":0},{"$f":"IFERROR($E86*SUMIF('Daily Log'!#REF!,$B86,'Daily Log'!#REF!),0)","v":0},{"$f":"IFERROR($E86*SUMIF('Daily Log'!#REF!,$B86,'Daily Log'!#REF!),0)","v":0},{"$f":"IFERROR($E86*SUMIF('Daily Log'!$C$18:$C$1017,$B86,'Daily Log'!$D$18:$D$1017),0)","v":0},{"$f":"IFERROR($E86*SUMIF('Daily Log'!$F$18:$F$1017,$B86,'Daily Log'!$G$18:$G$1017),0)","v":0},{"$f":"IFERROR($E86*SUMIF('Daily Log'!$I$18:$I$1017,$B86,'Daily Log'!$J$18:$J$1017),0)","v":0},{"$f":"IFERROR($E86*SUMIF('Daily Log'!$L$18:$L$1017,$B86,'Daily Log'!$M$18:$M$1017),0)","v":0},{"$f":"IFERROR($E86*SUMIF('Daily Log'!$O$18:$O$1017,$B86,'Daily Log'!$P$18:$P$1017),0)","v":1},{"$f":"IFERROR($E86*SUMIF('Daily Log'!$R$18:$R$1017,$B86,'Daily Log'!$S$18:$S$1017),0)","v":0},{"$f":"IFERROR($E86*SUMIF('Daily Log'!$U$18:$U$1017,$B86,'Daily Log'!$V$18:$V$1017),0)","v":0},{"$f":"IFERROR($E86*SUMIF('Daily Log'!#REF!,$B86,'Daily Log'!#REF!),0)","v":0},{"$f":"IFERROR($E86*SUMIF('Daily Log'!#REF!,$B86,'Daily Log'!#REF!),0)","v":0},{"$f":"IFERROR($E86*SUMIF('Daily Log'!#REF!,$B86,'Daily Log'!#REF!),0)","v":0},{"$f":"IFERROR($E86*SUMIF('Daily Log'!#REF!,$B86,'Daily Log'!#REF!),0)","v":0},{"$f":"IFERROR($E86*SUMIF('Daily Log'!#REF!,$B86,'Daily Log'!#REF!),0)","v":0}]
[null,"CF06 HNY GRN TEA (H)",null,"SIDE ORDER-HOT BEVERAGE",1,1,{"$f":"IFERROR($E87*SUMIF('Daily Log'!#REF!,$B87,'Daily Log'!#REF!),0)","v":0},{"$f":"IFERROR($E87*SUMIF('Daily Log'!#REF!,$B87,'Daily Log'!#REF!),0)","v":0},{"$f":"IFERROR($E87*SUMIF('Daily Log'!#REF!,$B87,'Daily Log'!#REF!),0)","v":0},{"$f":"IFERROR($E87*SUMIF('Daily Log'!#REF!,$B87,'Daily Log'!#REF!),0)","v":0},{"$f":"IFERROR($E87*SUMIF('Daily Log'!#REF!,$B87,'Daily Log'!#REF!),0)","v":0},{"$f":"IFERROR($E87*SUMIF('Daily Log'!#REF!,$B87,'Daily Log'!#REF!),0)","v":0},{"$f":"IFERROR($E87*SUMIF('Daily Log'!#REF!,$B87,'Daily Log'!#REF!),0)","v":0},{"$f":"IFERROR($E87*SUMIF('Daily Log'!#REF!,$B87,'Daily Log'!#REF!),0)","v":0},{"$f":"IFERROR($E87*SUMIF('Daily Log'!#REF!,$B87,'Daily Log'!#REF!),0)","v":0},{"$f":"IFERROR($E87*SUMIF('Daily Log'!#REF!,$B87,'Daily Log'!#REF!),0)","v":0},{"$f":"IFERROR($E87*SUMIF('Daily Log'!#REF!,$B87,'Daily Log'!#REF!),0)","v":0},{"$f":"IFERROR($E87*SUMIF('Daily Log'!#REF!,$B87,'Daily Log'!#REF!),0)","v":0},{"$f":"IFERROR($E87*SUMIF('Daily Log'!#REF!,$B87,'Daily Log'!#REF!),0)","v":0},{"$f":"IFERROR($E87*SUMIF('Daily Log'!#REF!,$B87,'Daily Log'!#REF!),0)","v":0},{"$f":"IFERROR($E87*SUMIF('Daily Log'!#REF!,$B87,'Daily Log'!#REF!),0)","v":0},{"$f":"IFERROR($E87*SUMIF('Daily Log'!#REF!,$B87,'Daily Log'!#REF!),0)","v":0},{"$f":"IFERROR($E87*SUMIF('Daily Log'!#REF!,$B87,'Daily Log'!#REF!),0)","v":0},{"$f":"IFERROR($E87*SUMIF('Daily Log'!#REF!,$B87,'Daily Log'!#REF!),0)","v":0},{"$f":"IFERROR($E87*SUMIF('Daily Log'!#REF!,$B87,'Daily Log'!#REF!),0)","v":0},{"$f":"IFERROR($E87*SUMIF('Daily Log'!$C$18:$C$1017,$B87,'Daily Log'!$D$18:$D$1017),0)","v":1},{"$f":"IFERROR($E87*SUMIF('Daily Log'!$F$18:$F$1017,$B87,'Daily Log'!$G$18:$G$1017),0)","v":0},{"$f":"IFERROR($E87*SUMIF('Daily Log'!$I$18:$I$1017,$B87,'Daily Log'!$J$18:$J$1017),0)","v":0},{"$f":"IFERROR($E87*SUMIF('Daily Log'!$L$18:$L$1017,$B87,'Daily Log'!$M$18:$M$1017),0)","v":0},{"$f":"IFERROR($E87*SUMIF('Daily Log'!$O$18:$O$1017,$B87,'Daily Log'!$P$18:$P$1017),0)","v":0},{"$f":"IFERROR($E87*SUMIF('Daily Log'!$R$18:$R$1017,$B87,'Daily Log'!$S$18:$S$1017),0)","v":0},{"$f":"IFERROR($E87*SUMIF('Daily Log'!$U$18:$U$1017,$B87,'Daily Log'!$V$18:$V$1017),0)","v":0},{"$f":"IFERROR($E87*SUMIF('Daily Log'!#REF!,$B87,'Daily Log'!#REF!),0)","v":0},{"$f":"IFERROR($E87*SUMIF('Daily Log'!#REF!,$B87,'Daily Log'!#REF!),0)","v":0},{"$f":"IFERROR($E87*SUMIF('Daily Log'!#REF!,$B87,'Daily Log'!#REF!),0)","v":0},{"$f":"IFERROR($E87*SUMIF('Daily Log'!#REF!,$B87,'Daily Log'!#REF!),0)","v":0},{"$f":"IFERROR($E87*SUMIF('Daily Log'!#REF!,$B87,'Daily Log'!#REF!),0)","v":0}]
[null,"CF07 HONEY (H)",null,"SIDE ORDER-HOT BEVERAGE",1,0,{"$f":"IFERROR($E88*SUMIF('Daily Log'!#REF!,$B88,'Daily Log'!#REF!),0)","v":0},{"$f":"IFERROR($E88*SUMIF('Daily Log'!#REF!,$B88,'Daily Log'!#REF!),0)","v":0},{"$f":"IFERROR($E88*SUMIF('Daily Log'!#REF!,$B88,'Daily Log'!#REF!),0)","v":0},{"$f":"IFERROR($E88*SUMIF('Daily Log'!#REF!,$B88,'Daily Log'!#REF!),0)","v":0},{"$f":"IFERROR($E88*SUMIF('Daily Log'!#REF!,$B88,'Daily Log'!#REF!),0)","v":0},{"$f":"IFERROR($E88*SUMIF('Daily Log'!#REF!,$B88,'Daily Log'!#REF!),0)","v":0},{"$f":"IFERROR($E88*SUMIF('Daily Log'!#REF!,$B88,'Daily Log'!#REF!),0)","v":0},{"$f":"IFERROR($E88*SUMIF('Daily Log'!#REF!,$B88,'Daily Log'!#REF!),0)","v":0},{"$f":"IFERROR($E88*SUMIF('Daily Log'!#REF!,$B88,'Daily Log'!#REF!),0)","v":0},{"$f":"IFERROR($E88*SUMIF('Daily Log'!#REF!,$B88,'Daily Log'!#REF!),0)","v":0},{"$f":"IFERROR($E88*SUMIF('Daily Log'!#REF!,$B88,'Daily Log'!#REF!),0)","v":0},{"$f":"IFERROR($E88*SUMIF('Daily Log'!#REF!,$B88,'Daily Log'!#REF!),0)","v":0},{"$f":"IFERROR($E88*SUMIF('Daily Log'!#REF!,$B88,'Daily Log'!#REF!),0)","v":0},{"$f":"IFERROR($E88*SUMIF('Daily Log'!#REF!,$B88,'Daily Log'!#REF!),0)","v":0},{"$f":"IFERROR($E88*SUMIF('Daily Log'!#REF!,$B88,'Daily Log'!#REF!),0)","v":0},{"$f":"IFERROR($E88*SUMIF('Daily Log'!#REF!,$B88,'Daily Log'!#REF!),0)","v":0},{"$f":"IFERROR($E88*SUMIF('Daily Log'!#REF!,$B88,'Daily Log'!#REF!),0)","v":0},{"$f":"IFERROR($E88*SUMIF('Daily Log'!#REF!,$B88,'Daily Log'!#REF!),0)","v":0},{"$f":"IFERROR($E88*SUMIF('Daily Log'!#REF!,$B88,'Daily Log'!#REF!),0)","v":0},{"$f":"IFERROR($E88*SUMIF('Daily Log'!$C$18:$C$1017,$B88,'Daily Log'!$D$18:$D$1017),0)","v":0},{"$f":"IFERROR($E88*SUMIF('Daily Log'!$F$18:$F$1017,$B88,'Daily Log'!$G$18:$G$1017),0)","v":0},{"$f":"IFERROR($E88*SUMIF('Daily Log'!$I$18:$I$1017,$B88,'Daily Log'!$J$18:$J$1017),0)","v":0},{"$f":"IFERROR($E88*SUMIF('Daily Log'!$L$18:$L$1017,$B88,'Daily Log'!$M$18:$M$1017),0)","v":0},{"$f":"IFERROR($E88*SUMIF('Daily Log'!$O$18:$O$1017,$B88,'Daily Log'!$P$18:$P$1017),0)","v":0},{"$f":"IFERROR($E88*SUMIF('Daily Log'!$R$18:$R$1017,$B88,'Daily Log'!$S$18:$S$1017),0)","v":0},{"$f":"IFERROR($E88*SUMIF('Daily Log'!$U$18:$U$1017,$B88,'Daily Log'!$V$18:$V$1017),0)","v":0},{"$f":"IFERROR($E88*SUMIF('Daily Log'!#REF!,$B88,'Daily Log'!#REF!),0)","v":0},{"$f":"IFERROR($E88*SUMIF('Daily Log'!#REF!,$B88,'Daily Log'!#REF!),0)","v":0},{"$f":"IFERROR($E88*SUMIF('Daily Log'!#REF!,$B88,'Daily Log'!#REF!),0)","v":0},{"$f":"IFERROR($E88*SUMIF('Daily Log'!#REF!,$B88,'Daily Log'!#REF!),0)","v":0},{"$f":"IFERROR($E88*SUMIF('Daily Log'!#REF!,$B88,'Daily Log'!#REF!),0)","v":0}]
[null,"CF08 LEMON HONEY (H)",null,"SIDE ORDER-HOT BEVERAGE",1,3,{"$f":"IFERROR($E89*SUMIF('Daily Log'!#REF!,$B89,'Daily Log'!#REF!),0)","v":0},{"$f":"IFERROR($E89*SUMIF('Daily Log'!#REF!,$B89,'Daily Log'!#REF!),0)","v":0},{"$f":"IFERROR($E89*SUMIF('Daily Log'!#REF!,$B89,'Daily Log'!#REF!),0)","v":0},{"$f":"IFERROR($E89*SUMIF('Daily Log'!#REF!,$B89,'Daily Log'!#REF!),0)","v":0},{"$f":"IFERROR($E89*SUMIF('Daily Log'!#REF!,$B89,'Daily Log'!#REF!),0)","v":0},{"$f":"IFERROR($E89*SUMIF('Daily Log'!#REF!,$B89,'Daily Log'!#REF!),0)","v":0},{"$f":"IFERROR($E89*SUMIF('Daily Log'!#REF!,$B89,'Daily Log'!#REF!),0)","v":0},{"$f":"IFERROR($E89*SUMIF('Daily Log'!#REF!,$B89,'Daily Log'!#REF!),0)","v":0},{"$f":"IFERROR($E89*SUMIF('Daily Log'!#REF!,$B89,'Daily Log'!#REF!),0)","v":0},{"$f":"IFERROR($E89*SUMIF('Daily Log'!#REF!,$B89,'Daily Log'!#REF!),0)","v":0},{"$f":"IFERROR($E89*SUMIF('Daily Log'!#REF!,$B89,'Daily Log'!#REF!),0)","v":0},{"$f":"IFERROR($E89*SUMIF('Daily Log'!#REF!,$B89,'Daily Log'!#REF!),0)","v":0},{"$f":"IFERROR($E89*SUMIF('Daily Log'!#REF!,$B89,'Daily Log'!#REF!),0)","v":0},{"$f":"IFERROR($E89*SUMIF('Daily Log'!#REF!,$B89,'Daily Log'!#REF!),0)","v":0},{"$f":"IFERROR($E89*SUMIF('Daily Log'!#REF!,$B89,'Daily Log'!#REF!),0)","v":0},{"$f":"IFERROR($E89*SUMIF('Daily Log'!#REF!,$B89,'Daily Log'!#REF!),0)","v":0},{"$f":"IFERROR($E89*SUMIF('Daily Log'!#REF!,$B89,'Daily Log'!#REF!),0)","v":0},{"$f":"IFERROR($E89*SUMIF('Daily Log'!#REF!,$B89,'Daily Log'!#REF!),0)","v":0},{"$f":"IFERROR($E89*SUMIF('Daily Log'!#REF!,$B89,'Daily Log'!#REF!),0)","v":0},{"$f":"IFERROR($E89*SUMIF('Daily Log'!$C$18:$C$1017,$B89,'Daily Log'!$D$18:$D$1017),0)","v":0},{"$f":"IFERROR($E89*SUMIF('Daily Log'!$F$18:$F$1017,$B89,'Daily Log'!$G$18:$G$1017),0)","v":0},{"$f":"IFERROR($E89*SUMIF('Daily Log'!$I$18:$I$1017,$B89,'Daily Log'!$J$18:$J$1017),0)","v":0},{"$f":"IFERROR($E89*SUMIF('Daily Log'!$L$18:$L$1017,$B89,'Daily Log'!$M$18:$M$1017),0)","v":0},{"$f":"IFERROR($E89*SUMIF('Daily Log'!$O$18:$O$1017,$B89,'Daily Log'!$P$18:$P$1017),0)","v":0},{"$f":"IFERROR($E89*SUMIF('Daily Log'!$R$18:$R$1017,$B89,'Daily Log'!$S$18:$S$1017),0)","v":3},{"$f":"IFERROR($E89*SUMIF('Daily Log'!$U$18:$U$1017,$B89,'Daily Log'!$V$18:$V$1017),0)","v":0},{"$f":"IFERROR($E89*SUMIF('Daily Log'!#REF!,$B89,'Daily Log'!#REF!),0)","v":0},{"$f":"IFERROR($E89*SUMIF('Daily Log'!#REF!,$B89,'Daily Log'!#REF!),0)","v":0},{"$f":"IFERROR($E89*SUMIF('Daily Log'!#REF!,$B89,'Daily Log'!#REF!),0)","v":0},{"$f":"IFERROR($E89*SUMIF('Daily Log'!#REF!,$B89,'Daily Log'!#REF!),0)","v":0},{"$f":"IFERROR($E89*SUMIF('Daily Log'!#REF!,$B89,'Daily Log'!#REF!),0)","v":0}]
[null,"CF09 CAPPUCCINO (H)",null,"SIDE ORDER-HOT BEVERAGE",1,0,{"$f":"IFERROR($E90*SUMIF('Daily Log'!#REF!,$B90,'Daily Log'!#REF!),0)","v":0},{"$f":"IFERROR($E90*SUMIF('Daily Log'!#REF!,$B90,'Daily Log'!#REF!),0)","v":0},{"$f":"IFERROR($E90*SUMIF('Daily Log'!#REF!,$B90,'Daily Log'!#REF!),0)","v":0},{"$f":"IFERROR($E90*SUMIF('Daily Log'!#REF!,$B90,'Daily Log'!#REF!),0)","v":0},{"$f":"IFERROR($E90*SUMIF('Daily Log'!#REF!,$B90,'Daily Log'!#REF!),0)","v":0},{"$f":"IFERROR($E90*SUMIF('Daily Log'!#REF!,$B90,'Daily Log'!#REF!),0)","v":0},{"$f":"IFERROR($E90*SUMIF('Daily Log'!#REF!,$B90,'Daily Log'!#REF!),0)","v":0},{"$f":"IFERROR($E90*SUMIF('Daily Log'!#REF!,$B90,'Daily Log'!#REF!),0)","v":0},{"$f":"IFERROR($E90*SUMIF('Daily Log'!#REF!,$B90,'Daily Log'!#REF!),0)","v":0},{"$f":"IFERROR($E90*SUMIF('Daily Log'!#REF!,$B90,'Daily Log'!#REF!),0)","v":0},{"$f":"IFERROR($E90*SUMIF('Daily Log'!#REF!,$B90,'Daily Log'!#REF!),0)","v":0},{"$f":"IFERROR($E90*SUMIF('Daily Log'!#REF!,$B90,'Daily Log'!#REF!),0)","v":0},{"$f":"IFERROR($E90*SUMIF('Daily Log'!#REF!,$B90,'Daily Log'!#REF!),0)","v":0},{"$f":"IFERROR($E90*SUMIF('Daily Log'!#REF!,$B90,'Daily Log'!#REF!),0)","v":0},{"$f":"IFERROR($E90*SUMIF('Daily Log'!#REF!,$B90,'Daily Log'!#REF!),0)","v":0},{"$f":"IFERROR($E90*SUMIF('Daily Log'!#REF!,$B90,'Daily Log'!#REF!),0)","v":0},{"$f":"IFERROR($E90*SUMIF('Daily Log'!#REF!,$B90,'Daily Log'!#REF!),0)","v":0},{"$f":"IFERROR($E90*SUMIF('Daily Log'!#REF!,$B90,'Daily Log'!#REF!),0)","v":0},{"$f":"IFERROR($E90*SUMIF('Daily Log'!#REF!,$B90,'Daily Log'!#REF!),0)","v":0},{"$f":"IFERROR($E90*SUMIF('Daily Log'!$C$18:$C$1017,$B90,'Daily Log'!$D$18:$D$1017),0)","v":0},{"$f":"IFERROR($E90*SUMIF('Daily Log'!$F$18:$F$1017,$B90,'Daily Log'!$G$18:$G$1017),0)","v":0},{"$f":"IFERROR($E90*SUMIF('Daily Log'!$I$18:$I$1017,$B90,'Daily Log'!$J$18:$J$1017),0)","v":0},{"$f":"IFERROR($E90*SUMIF('Daily Log'!$L$18:$L$1017,$B90,'Daily Log'!$M$18:$M$1017),0)","v":0},{"$f":"IFERROR($E90*SUMIF('Daily Log'!$O$18:$O$1017,$B90,'Daily Log'!$P$18:$P$1017),0)","v":0},{"$f":"IFERROR($E90*SUMIF('Daily Log'!$R$18:$R$1017,$B90,'Daily Log'!$S$18:$S$1017),0)","v":0},{"$f":"IFERROR($E90*SUMIF('Daily Log'!$U$18:$U$1017,$B90,'Daily Log'!$V$18:$V$1017),0)","v":0},{"$f":"IFERROR($E90*SUMIF('Daily Log'!#REF!,$B90,'Daily Log'!#REF!),0)","v":0},{"$f":"IFERROR($E90*SUMIF('Daily Log'!#REF!,$B90,'Daily Log'!#REF!),0)","v":0},{"$f":"IFERROR($E90*SUMIF('Daily Log'!#REF!,$B90,'Daily Log'!#REF!),0)","v":0},{"$f":"IFERROR($E90*SUMIF('Daily Log'!#REF!,$B90,'Daily Log'!#REF!),0)","v":0},{"$f":"IFERROR($E90*SUMIF('Daily Log'!#REF!,$B90,'Daily Log'!#REF!),0)","v":0}]
[null,"CF10 CHOCOLATE (H)",null,"SIDE ORDER-HOT BEVERAGE",1,1,{"$f":"IFERROR($E91*SUMIF('Daily Log'!#REF!,$B91,'Daily Log'!#REF!),0)","v":0},{"$f":"IFERROR($E91*SUMIF('Daily Log'!#REF!,$B91,'Daily Log'!#REF!),0)","v":0},{"$f":"IFERROR($E91*SUMIF('Daily Log'!#REF!,$B91,'Daily Log'!#REF!),0)","v":0},{"$f":"IFERROR($E91*SUMIF('Daily Log'!#REF!,$B91,'Daily Log'!#REF!),0)","v":0},{"$f":"IFERROR($E91*SUMIF('Daily Log'!#REF!,$B91,'Daily Log'!#REF!),0)","v":0},{"$f":"IFERROR($E91*SUMIF('Daily Log'!#REF!,$B91,'Daily Log'!#REF!),0)","v":0},{"$f":"IFERROR($E91*SUMIF('Daily Log'!#REF!,$B91,'Daily Log'!#REF!),0)","v":0},{"$f":"IFERROR($E91*SUMIF('Daily Log'!#REF!,$B91,'Daily Log'!#REF!),0)","v":0},{"$f":"IFERROR($E91*SUMIF('Daily Log'!#REF!,$B91,'Daily Log'!#REF!),0)","v":0},{"$f":"IFERROR($E91*SUMIF('Daily Log'!#REF!,$B91,'Daily Log'!#REF!),0)","v":0},{"$f":"IFERROR($E91*SUMIF('Daily Log'!#REF!,$B91,'Daily Log'!#REF!),0)","v":0},{"$f":"IFERROR($E91*SUMIF('Daily Log'!#REF!,$B91,'Daily Log'!#REF!),0)","v":0},{"$f":"IFERROR($E91*SUMIF('Daily Log'!#REF!,$B91,'Daily Log'!#REF!),0)","v":0},{"$f":"IFERROR($E91*SUMIF('Daily Log'!#REF!,$B91,'Daily Log'!#REF!),0)","v":0},{"$f":"IFERROR($E91*SUMIF('Daily Log'!#REF!,$B91,'Daily Log'!#REF!),0)","v":0},{"$f":"IFERROR($E91*SUMIF('Daily Log'!#REF!,$B91,'Daily Log'!#REF!),0)","v":0},{"$f":"IFERROR($E91*SUMIF('Daily Log'!#REF!,$B91,'Daily Log'!#REF!),0)","v":0},{"$f":"IFERROR($E91*SUMIF('Daily Log'!#REF!,$B91,'Daily Log'!#REF!),0)","v":0},{"$f":"IFERROR($E91*SUMIF('Daily Log'!#REF!,$B91,'Daily Log'!#REF!),0)","v":0},{"$f":"IFERROR($E91*SUMIF('Daily Log'!$C$18:$C$1017,$B91,'Daily Log'!$D$18:$D$1017),0)","v":0},{"$f":"IFERROR($E91*SUMIF('Daily Log'!$F$18:$F$1017,$B91,'Daily Log'!$G$18:$G$1017),0)","v":0},{"$f":"IFERROR($E91*SUMIF('Daily Log'!$I$18:$I$1017,$B91,'Daily Log'!$J$18:$J$1017),0)","v":0},{"$f":"IFERROR($E91*SUMIF('Daily Log'!$L$18:$L$1017,$B91,'Daily Log'!$M$18:$M$1017),0)","v":0},{"$f":"IFERROR($E91*SUMIF('Daily Log'!$O$18:$O$1017,$B91,'Daily Log'!$P$18:$P$1017),0)","v":0},{"$f":"IFERROR($E91*SUMIF('Daily Log'!$R$18:$R$1017,$B91,'Daily Log'!$S$18:$S$1017),0)","v":1},{"$f":"IFERROR($E91*SUMIF('Daily Log'!$U$18:$U$1017,$B91,'Daily Log'!$V$18:$V$1017),0)","v":0},{"$f":"IFERROR($E91*SUMIF('Daily Log'!#REF!,$B91,'Daily Log'!#REF!),0)","v":0},{"$f":"IFERROR($E91*SUMIF('Daily Log'!#REF!,$B91,'Daily Log'!#REF!),0)","v":0},{"$f":"IFERROR($E91*SUMIF('Daily Log'!#REF!,$B91,'Daily Log'!#REF!),0)","v":0},{"$f":"IFERROR($E91*SUMIF('Daily Log'!#REF!,$B91,'Daily Log'!#REF!),0)","v":0},{"$f":"IFERROR($E91*SUMIF('Daily Log'!#REF!,$B91,'Daily Log'!#REF!),0)","v":0}]
[null,"CF11 MOCHA (H)",null,"SIDE ORDER-HOT BEVERAGE",1,1,{"$f":"IFERROR($E92*SUMIF('Daily Log'!#REF!,$B92,'Daily Log'!#REF!),0)","v":0},{"$f":"IFERROR($E92*SUMIF('Daily Log'!#REF!,$B92,'Daily Log'!#REF!),0)","v":0},{"$f":"IFERROR($E92*SUMIF('Daily Log'!#REF!,$B92,'Daily Log'!#REF!),0)","v":0},{"$f":"IFERROR($E92*SUMIF('Daily Log'!#REF!,$B92,'Daily Log'!#REF!),0)","v":0},{"$f":"IFERROR($E92*SUMIF('Daily Log'!#REF!,$B92,'Daily Log'!#REF!),0)","v":0},{"$f":"IFERROR($E92*SUMIF('Daily Log'!#REF!,$B92,'Daily Log'!#REF!),0)","v":0},{"$f":"IFERROR($E92*SUMIF('Daily Log'!#REF!,$B92,'Daily Log'!#REF!),0)","v":0},{"$f":"IFERROR($E92*SUMIF('Daily Log'!#REF!,$B92,'Daily Log'!#REF!),0)","v":0},{"$f":"IFERROR($E92*SUMIF('Daily Log'!#REF!,$B92,'Daily Log'!#REF!),0)","v":0},{"$f":"IFERROR($E92*SUMIF('Daily Log'!#REF!,$B92,'Daily Log'!#REF!),0)","v":0},{"$f":"IFERROR($E92*SUMIF('Daily Log'!#REF!,$B92,'Daily Log'!#REF!),0)","v":0},{"$f":"IFERROR($E92*SUMIF('Daily Log'!#REF!,$B92,'Daily Log'!#REF!),0)","v":0},{"$f":"IFERROR($E92*SUMIF('Daily Log'!#REF!,$B92,'Daily Log'!#REF!),0)","v":0},{"$f":"IFERROR($E92*SUMIF('Daily Log'!#REF!,$B92,'Daily Log'!#REF!),0)","v":0},{"$f":"IFERROR($E92*SUMIF('Daily Log'!#REF!,$B92,'Daily Log'!#REF!),0)","v":0},{"$f":"IFERROR($E92*SUMIF('Daily Log'!#REF!,$B92,'Daily Log'!#REF!),0)","v":0},{"$f":"IFERROR($E92*SUMIF('Daily Log'!#REF!,$B92,'Daily Log'!#REF!),0)","v":0},{"$f":"IFERROR($E92*SUMIF('Daily Log'!#REF!,$B92,'Daily Log'!#REF!),0)","v":0},{"$f":"IFERROR($E92*SUMIF('Daily Log'!#REF!,$B92,'Daily Log'!#REF!),0)","v":0},{"$f":"IFERROR($E92*SUMIF('Daily Log'!$C$18:$C$1017,$B92,'Daily Log'!$D$18:$D$1017),0)","v":0},{"$f":"IFERROR($E92*SUMIF('Daily Log'!$F$18:$F$1017,$B92,'Daily Log'!$G$18:$G$1017),0)","v":0},{"$f":"IFERROR($E92*SUMIF('Daily Log'!$I$18:$I$1017,$B92,'Daily Log'!$J$18:$J$1017),0)","v":0},{"$f":"IFERROR($E92*SUMIF('Daily Log'!$L$18:$L$1017,$B92,'Daily Log'!$M$18:$M$1017),0)","v":0},{"$f":"IFERROR($E92*SUMIF('Daily Log'!$O$18:$O$1017,$B92,'Daily Log'!$P$18:$P$1017),0)","v":0},{"$f":"IFERROR($E92*SUMIF('Daily Log'!$R$18:$R$1017,$B92,'Daily Log'!$S$18:$S$1017),0)","v":0},{"$f":"IFERROR($E92*SUMIF('Daily Log'!$U$18:$U$1017,$B92,'Daily Log'!$V$18:$V$1017),0)","v":1},{"$f":"IFERROR($E92*SUMIF('Daily Log'!#REF!,$B92,'Daily Log'!#REF!),0)","v":0},{"$f":"IFERROR($E92*SUMIF('Daily Log'!#REF!,$B92,'Daily Log'!#REF!),0)","v":0},{"$f":"IFERROR($E92*SUMIF('Daily Log'!#REF!,$B92,'Daily Log'!#REF!),0)","v":0},{"$f":"IFERROR($E92*SUMIF('Daily Log'!#REF!,$B92,'Daily Log'!#REF!),0)","v":0},{"$f":"IFERROR($E92*SUMIF('Daily Log'!#REF!,$B92,'Daily Log'!#REF!),0)","v":0}]
[null,"CF12 CHAMOMILE (H)",null,"SIDE ORDER-HOT BEVERAGE",1,0,{"$f":"IFERROR($E93*SUMIF('Daily Log'!#REF!,$B93,'Daily Log'!#REF!),0)","v":0},{"$f":"IFERROR($E93*SUMIF('Daily Log'!#REF!,$B93,'Daily Log'!#REF!),0)","v":0},{"$f":"IFERROR($E93*SUMIF('Daily Log'!#REF!,$B93,'Daily Log'!#REF!),0)","v":0},{"$f":"IFERROR($E93*SUMIF('Daily Log'!#REF!,$B93,'Daily Log'!#REF!),0)","v":0},{"$f":"IFERROR($E93*SUMIF('Daily Log'!#REF!,$B93,'Daily Log'!#REF!),0)","v":0},{"$f":"IFERROR($E93*SUMIF('Daily Log'!#REF!,$B93,'Daily Log'!#REF!),0)","v":0},{"$f":"IFERROR($E93*SUMIF('Daily Log'!#REF!,$B93,'Daily Log'!#REF!),0)","v":0},{"$f":"IFERROR($E93*SUMIF('Daily Log'!#REF!,$B93,'Daily Log'!#REF!),0)","v":0},{"$f":"IFERROR($E93*SUMIF('Daily Log'!#REF!,$B93,'Daily Log'!#REF!),0)","v":0},{"$f":"IFERROR($E93*SUMIF('Daily Log'!#REF!,$B93,'Daily Log'!#REF!),0)","v":0},{"$f":"IFERROR($E93*SUMIF('Daily Log'!#REF!,$B93,'Daily Log'!#REF!),0)","v":0},{"$f":"IFERROR($E93*SUMIF('Daily Log'!#REF!,$B93,'Daily Log'!#REF!),0)","v":0},{"$f":"IFERROR($E93*SUMIF('Daily Log'!#REF!,$B93,'Daily Log'!#REF!),0)","v":0},{"$f":"IFERROR($E93*SUMIF('Daily Log'!#REF!,$B93,'Daily Log'!#REF!),0)","v":0},{"$f":"IFERROR($E93*SUMIF('Daily Log'!#REF!,$B93,'Daily Log'!#REF!),0)","v":0},{"$f":"IFERROR($E93*SUMIF('Daily Log'!#REF!,$B93,'Daily Log'!#REF!),0)","v":0},{"$f":"IFERROR($E93*SUMIF('Daily Log'!#REF!,$B93,'Daily Log'!#REF!),0)","v":0},{"$f":"IFERROR($E93*SUMIF('Daily Log'!#REF!,$B93,'Daily Log'!#REF!),0)","v":0},{"$f":"IFERROR($E93*SUMIF('Daily Log'!#REF!,$B93,'Daily Log'!#REF!),0)","v":0},{"$f":"IFERROR($E93*SUMIF('Daily Log'!$C$18:$C$1017,$B93,'Daily Log'!$D$18:$D$1017),0)","v":0},{"$f":"IFERROR($E93*SUMIF('Daily Log'!$F$18:$F$1017,$B93,'Daily Log'!$G$18:$G$1017),0)","v":0},{"$f":"IFERROR($E93*SUMIF('Daily Log'!$I$18:$I$1017,$B93,'Daily Log'!$J$18:$J$1017),0)","v":0},{"$f":"IFERROR($E93*SUMIF('Daily Log'!$L$18:$L$1017,$B93,'Daily Log'!$M$18:$M$1017),0)","v":0},{"$f":"IFERROR($E93*SUMIF('Daily Log'!$O$18:$O$1017,$B93,'Daily Log'!$P$18:$P$1017),0)","v":0},{"$f":"IFERROR($E93*SUMIF('Daily Log'!$R$18:$R$1017,$B93,'Daily Log'!$S$18:$S$1017),0)","v":0},{"$f":"IFERROR($E93*SUMIF('Daily Log'!$U$18:$U$1017,$B93,'Daily Log'!$V$18:$V$1017),0)","v":0},{"$f":"IFERROR($E93*SUMIF('Daily Log'!#REF!,$B93,'Daily Log'!#REF!),0)","v":0},{"$f":"IFERROR($E93*SUMIF('Daily Log'!#REF!,$B93,'Daily Log'!#REF!),0)","v":0},{"$f":"IFERROR($E93*SUMIF('Daily Log'!#REF!,$B93,'Daily Log'!#REF!),0)","v":0},{"$f":"IFERROR($E93*SUMIF('Daily Log'!#REF!,$B93,'Daily Log'!#REF!),0)","v":0},{"$f":"IFERROR($E93*SUMIF('Daily Log'!#REF!,$B93,'Daily Log'!#REF!),0)","v":0}]
[null,"CF13 DARJEELING (H)",null,"SIDE ORDER-HOT BEVERAGE",1,{"$f":"SUM($G94:$AK94)","v":0},{"$f":"IFERROR($E94*SUMIF('Daily Log'!#REF!,$B94,'Daily Log'!#REF!),0)","v":0},{"$f":"IFERROR($E94*SUMIF('Daily Log'!#REF!,$B94,'Daily Log'!#REF!),0)","v":0},{"$f":"IFERROR($E94*SUMIF('Daily Log'!#REF!,$B94,'Daily Log'!#REF!),0)","v":0},{"$f":"IFERROR($E94*SUMIF('Daily Log'!#REF!,$B94,'Daily Log'!#REF!),0)","v":0},{"$f":"IFERROR($E94*SUMIF('Daily Log'!#REF!,$B94,'Daily Log'!#REF!),0)","v":0},{"$f":"IFERROR($E94*SUMIF('Daily Log'!#REF!,$B94,'Daily Log'!#REF!),0)","v":0},{"$f":"IFERROR($E94*SUMIF('Daily Log'!#REF!,$B94,'Daily Log'!#REF!),0)","v":0},{"$f":"IFERROR($E94*SUMIF('Daily Log'!#REF!,$B94,'Daily Log'!#REF!),0)","v":0},{"$f":"IFERROR($E94*SUMIF('Daily Log'!#REF!,$B94,'Daily Log'!#REF!),0)","v":0},{"$f":"IFERROR($E94*SUMIF('Daily Log'!#REF!,$B94,'Daily Log'!#REF!),0)","v":0},{"$f":"IFERROR($E94*SUMIF('Daily Log'!#REF!,$B94,'Daily Log'!#REF!),0)","v":0},{"$f":"IFERROR($E94*SUMIF('Daily Log'!#REF!,$B94,'Daily Log'!#REF!),0)","v":0},{"$f":"IFERROR($E94*SUMIF('Daily Log'!#REF!,$B94,'Daily Log'!#REF!),0)","v":0},{"$f":"IFERROR($E94*SUMIF('Daily Log'!#REF!,$B94,'Daily Log'!#REF!),0)","v":0},{"$f":"IFERROR($E94*SUMIF('Daily Log'!#REF!,$B94,'Daily Log'!#REF!),0)","v":0},{"$f":"IFERROR($E94*SUMIF('Daily Log'!#REF!,$B94,'Daily Log'!#REF!),0)","v":0},{"$f":"IFERROR($E94*SUMIF('Daily Log'!#REF!,$B94,'Daily Log'!#REF!),0)","v":0},{"$f":"IFERROR($E94*SUMIF('Daily Log'!#REF!,$B94,'Daily Log'!#REF!),0)","v":0},{"$f":"IFERROR($E94*SUMIF('Daily Log'!#REF!,$B94,'Daily Log'!#REF!),0)","v":0},{"$f":"IFERROR($E94*SUMIF('Daily Log'!$C$18:$C$1017,$B94,'Daily Log'!$D$18:$D$1017),0)","v":0},{"$f":"IFERROR($E94*SUMIF('Daily Log'!$F$18:$F$1017,$B94,'Daily Log'!$G$18:$G$1017),0)","v":0},{"$f":"IFERROR($E94*SUMIF('Daily Log'!$I$18:$I$1017,$B94,'Daily Log'!$J$18:$J$1017),0)","v":0},{"$f":"IFERROR($E94*SUMIF('Daily Log'!$L$18:$L$1017,$B94,'Daily Log'!$M$18:$M$1017),0)","v":0},{"$f":"IFERROR($E94*SUMIF('Daily Log'!$O$18:$O$1017,$B94,'Daily Log'!$P$18:$P$1017),0)","v":0},{"$f":"IFERROR($E94*SUMIF('Daily Log'!$R$18:$R$1017,$B94,'Daily Log'!$S$18:$S$1017),0)","v":0},{"$f":"IFERROR($E94*SUMIF('Daily Log'!$U$18:$U$1017,$B94,'Daily Log'!$V$18:$V$1017),0)","v":0},{"$f":"IFERROR($E94*SUMIF('Daily Log'!#REF!,$B94,'Daily Log'!#REF!),0)","v":0},{"$f":"IFERROR($E94*SUMIF('Daily Log'!#REF!,$B94,'Daily Log'!#REF!),0)","v":0},{"$f":"IFERROR($E94*SUMIF('Daily Log'!#REF!,$B94,'Daily Log'!#REF!),0)","v":0},{"$f":"IFERROR($E94*SUMIF('Daily Log'!#REF!,$B94,'Daily Log'!#REF!),0)","v":0},{"$f":"IFERROR($E94*SUMIF('Daily Log'!#REF!,$B94,'Daily Log'!#REF!),0)","v":0}]
[null,"CF14 EARL GREY (H)",null,"SIDE ORDER-HOT BEVERAGE",1,0,{"$f":"IFERROR($E95*SUMIF('Daily Log'!#REF!,$B95,'Daily Log'!#REF!),0)","v":0},{"$f":"IFERROR($E95*SUMIF('Daily Log'!#REF!,$B95,'Daily Log'!#REF!),0)","v":0},{"$f":"IFERROR($E95*SUMIF('Daily Log'!#REF!,$B95,'Daily Log'!#REF!),0)","v":0},{"$f":"IFERROR($E95*SUMIF('Daily Log'!#REF!,$B95,'Daily Log'!#REF!),0)","v":0},{"$f":"IFERROR($E95*SUMIF('Daily Log'!#REF!,$B95,'Daily Log'!#REF!),0)","v":0},{"$f":"IFERROR($E95*SUMIF('Daily Log'!#REF!,$B95,'Daily Log'!#REF!),0)","v":0},{"$f":"IFERROR($E95*SUMIF('Daily Log'!#REF!,$B95,'Daily Log'!#REF!),0)","v":0},{"$f":"IFERROR($E95*SUMIF('Daily Log'!#REF!,$B95,'Daily Log'!#REF!),0)","v":0},{"$f":"IFERROR($E95*SUMIF('Daily Log'!#REF!,$B95,'Daily Log'!#REF!),0)","v":0},{"$f":"IFERROR($E95*SUMIF('Daily Log'!#REF!,$B95,'Daily Log'!#REF!),0)","v":0},{"$f":"IFERROR($E95*SUMIF('Daily Log'!#REF!,$B95,'Daily Log'!#REF!),0)","v":0},{"$f":"IFERROR($E95*SUMIF('Daily Log'!#REF!,$B95,'Daily Log'!#REF!),0)","v":0},{"$f":"IFERROR($E95*SUMIF('Daily Log'!#REF!,$B95,'Daily Log'!#REF!),0)","v":0},{"$f":"IFERROR($E95*SUMIF('Daily Log'!#REF!,$B95,'Daily Log'!#REF!),0)","v":0},{"$f":"IFERROR($E95*SUMIF('Daily Log'!#REF!,$B95,'Daily Log'!#REF!),0)","v":0},{"$f":"IFERROR($E95*SUMIF('Daily Log'!#REF!,$B95,'Daily Log'!#REF!),0)","v":0},{"$f":"IFERROR($E95*SUMIF('Daily Log'!#REF!,$B95,'Daily Log'!#REF!),0)","v":0},{"$f":"IFERROR($E95*SUMIF('Daily Log'!#REF!,$B95,'Daily Log'!#REF!),0)","v":0},{"$f":"IFERROR($E95*SUMIF('Daily Log'!#REF!,$B95,'Daily Log'!#REF!),0)","v":0},{"$f":"IFERROR($E95*SUMIF('Daily Log'!$C$18:$C$1017,$B95,'Daily Log'!$D$18:$D$1017),0)","v":0},{"$f":"IFERROR($E95*SUMIF('Daily Log'!$F$18:$F$1017,$B95,'Daily Log'!$G$18:$G$1017),0)","v":0},{"$f":"IFERROR($E95*SUMIF('Daily Log'!$I$18:$I$1017,$B95,'Daily Log'!$J$18:$J$1017),0)","v":0},{"$f":"IFERROR($E95*SUMIF('Daily Log'!$L$18:$L$1017,$B95,'Daily Log'!$M$18:$M$1017),0)","v":0},{"$f":"IFERROR($E95*SUMIF('Daily Log'!$O$18:$O$1017,$B95,'Daily Log'!$P$18:$P$1017),0)","v":0},{"$f":"IFERROR($E95*SUMIF('Daily Log'!$R$18:$R$1017,$B95,'Daily Log'!$S$18:$S$1017),0)","v":0},{"$f":"IFERROR($E95*SUMIF('Daily Log'!$U$18:$U$1017,$B95,'Daily Log'!$V$18:$V$1017),0)","v":0},{"$f":"IFERROR($E95*SUMIF('Daily Log'!#REF!,$B95,'Daily Log'!#REF!),0)","v":0},{"$f":"IFERROR($E95*SUMIF('Daily Log'!#REF!,$B95,'Daily Log'!#REF!),0)","v":0},{"$f":"IFERROR($E95*SUMIF('Daily Log'!#REF!,$B95,'Daily Log'!#REF!),0)","v":0},{"$f":"IFERROR($E95*SUMIF('Daily Log'!#REF!,$B95,'Daily Log'!#REF!),0)","v":0},{"$f":"IFERROR($E95*SUMIF('Daily Log'!#REF!,$B95,'Daily Log'!#REF!),0)","v":0}]
[null,"CG01 MINERAL WATER",null,"MIENRAL WATE R",1,13,{"$f":"IFERROR($E96*SUMIF('Daily Log'!#REF!,$B96,'Daily Log'!#REF!),0)","v":0},{"$f":"IFERROR($E96*SUMIF('Daily Log'!#REF!,$B96,'Daily Log'!#REF!),0)","v":0},{"$f":"IFERROR($E96*SUMIF('Daily Log'!#REF!,$B96,'Daily Log'!#REF!),0)","v":0},{"$f":"IFERROR($E96*SUMIF('Daily Log'!#REF!,$B96,'Daily Log'!#REF!),0)","v":0},{"$f":"IFERROR($E96*SUMIF('Daily Log'!#REF!,$B96,'Daily Log'!#REF!),0)","v":0},{"$f":"IFERROR($E96*SUMIF('Daily Log'!#REF!,$B96,'Daily Log'!#REF!),0)","v":0},{"$f":"IFERROR($E96*SUMIF('Daily Log'!#REF!,$B96,'Daily Log'!#REF!),0)","v":0},{"$f":"IFERROR($E96*SUMIF('Daily Log'!#REF!,$B96,'Daily Log'!#REF!),0)","v":0},{"$f":"IFERROR($E96*SUMIF('Daily Log'!#REF!,$B96,'Daily Log'!#REF!),0)","v":0},{"$f":"IFERROR($E96*SUMIF('Daily Log'!#REF!,$B96,'Daily Log'!#REF!),0)","v":0},{"$f":"IFERROR($E96*SUMIF('Daily Log'!#REF!,$B96,'Daily Log'!#REF!),0)","v":0},{"$f":"IFERROR($E96*SUMIF('Daily Log'!#REF!,$B96,'Daily Log'!#REF!),0)","v":0},{"$f":"IFERROR($E96*SUMIF('Daily Log'!#REF!,$B96,'Daily Log'!#REF!),0)","v":0},{"$f":"IFERROR($E96*SUMIF('Daily Log'!#REF!,$B96,'Daily Log'!#REF!),0)","v":0},{"$f":"IFERROR($E96*SUMIF('Daily Log'!#REF!,$B96,'Daily Log'!#REF!),0)","v":0},{"$f":"IFERROR($E96*SUMIF('Daily Log'!#REF!,$B96,'Daily Log'!#REF!),0)","v":0},{"$f":"IFERROR($E96*SUMIF('Daily Log'!#REF!,$B96,'Daily Log'!#REF!),0)","v":0},{"$f":"IFERROR($E96*SUMIF('Daily Log'!#REF!,$B96,'Daily Log'!#REF!),0)","v":0},{"$f":"IFERROR($E96*SUMIF('Daily Log'!#REF!,$B96,'Daily Log'!#REF!),0)","v":0},{"$f":"IFERROR($E96*SUMIF('Daily Log'!$C$18:$C$1017,$B96,'Daily Log'!$D$18:$D$1017),0)","v":0},{"$f":"IFERROR($E96*SUMIF('Daily Log'!$F$18:$F$1017,$B96,'Daily Log'!$G$18:$G$1017),0)","v":4},{"$f":"IFERROR($E96*SUMIF('Daily Log'!$I$18:$I$1017,$B96,'Daily Log'!$J$18:$J$1017),0)","v":5},{"$f":"IFERROR($E96*SUMIF('Daily Log'!$L$18:$L$1017,$B96,'Daily Log'!$M$18:$M$1017),0)","v":1},{"$f":"IFERROR($E96*SUMIF('Daily Log'!$O$18:$O$1017,$B96,'Daily Log'!$P$18:$P$1017),0)","v":1},{"$f":"IFERROR($E96*SUMIF('Daily Log'!$R$18:$R$1017,$B96,'Daily Log'!$S$18:$S$1017),0)","v":2},{"$f":"IFERROR($E96*SUMIF('Daily Log'!$U$18:$U$1017,$B96,'Daily Log'!$V$18:$V$1017),0)","v":0},{"$f":"IFERROR($E96*SUMIF('Daily Log'!#REF!,$B96,'Daily Log'!#REF!),0)","v":0},{"$f":"IFERROR($E96*SUMIF('Daily Log'!#REF!,$B96,'Daily Log'!#REF!),0)","v":0},{"$f":"IFERROR($E96*SUMIF('Daily Log'!#REF!,$B96,'Daily Log'!#REF!),0)","v":0},{"$f":"IFERROR($E96*SUMIF('Daily Log'!#REF!,$B96,'Daily Log'!#REF!),0)","v":0},{"$f":"IFERROR($E96*SUMIF('Daily Log'!#REF!,$B96,'Daily Log'!#REF!),0)","v":0}]
[null,"CH01 7 UP JUG",null,"(DRINKS) IN JUG ",1,0,{"$f":"IFERROR($E97*SUMIF('Daily Log'!#REF!,$B97,'Daily Log'!#REF!),0)","v":0},{"$f":"IFERROR($E97*SUMIF('Daily Log'!#REF!,$B97,'Daily Log'!#REF!),0)","v":0},{"$f":"IFERROR($E97*SUMIF('Daily Log'!#REF!,$B97,'Daily Log'!#REF!),0)","v":0},{"$f":"IFERROR($E97*SUMIF('Daily Log'!#REF!,$B97,'Daily Log'!#REF!),0)","v":0},{"$f":"IFERROR($E97*SUMIF('Daily Log'!#REF!,$B97,'Daily Log'!#REF!),0)","v":0},{"$f":"IFERROR($E97*SUMIF('Daily Log'!#REF!,$B97,'Daily Log'!#REF!),0)","v":0},{"$f":"IFERROR($E97*SUMIF('Daily Log'!#REF!,$B97,'Daily Log'!#REF!),0)","v":0},{"$f":"IFERROR($E97*SUMIF('Daily Log'!#REF!,$B97,'Daily Log'!#REF!),0)","v":0},{"$f":"IFERROR($E97*SUMIF('Daily Log'!#REF!,$B97,'Daily Log'!#REF!),0)","v":0},{"$f":"IFERROR($E97*SUMIF('Daily Log'!#REF!,$B97,'Daily Log'!#REF!),0)","v":0},{"$f":"IFERROR($E97*SUMIF('Daily Log'!#REF!,$B97,'Daily Log'!#REF!),0)","v":0},{"$f":"IFERROR($E97*SUMIF('Daily Log'!#REF!,$B97,'Daily Log'!#REF!),0)","v":0},{"$f":"IFERROR($E97*SUMIF('Daily Log'!#REF!,$B97,'Daily Log'!#REF!),0)","v":0},{"$f":"IFERROR($E97*SUMIF('Daily Log'!#REF!,$B97,'Daily Log'!#REF!),0)","v":0},{"$f":"IFERROR($E97*SUMIF('Daily Log'!#REF!,$B97,'Daily Log'!#REF!),0)","v":0},{"$f":"IFERROR($E97*SUMIF('Daily Log'!#REF!,$B97,'Daily Log'!#REF!),0)","v":0},{"$f":"IFERROR($E97*SUMIF('Daily Log'!#REF!,$B97,'Daily Log'!#REF!),0)","v":0},{"$f":"IFERROR($E97*SUMIF('Daily Log'!#REF!,$B97,'Daily Log'!#REF!),0)","v":0},{"$f":"IFERROR($E97*SUMIF('Daily Log'!#REF!,$B97,'Daily Log'!#REF!),0)","v":0},{"$f":"IFERROR($E97*SUMIF('Daily Log'!$C$18:$C$1017,$B97,'Daily Log'!$D$18:$D$1017),0)","v":0},{"$f":"IFERROR($E97*SUMIF('Daily Log'!$F$18:$F$1017,$B97,'Daily Log'!$G$18:$G$1017),0)","v":0},{"$f":"IFERROR($E97*SUMIF('Daily Log'!$I$18:$I$1017,$B97,'Daily Log'!$J$18:$J$1017),0)","v":0},{"$f":"IFERROR($E97*SUMIF('Daily Log'!$L$18:$L$1017,$B97,'Daily Log'!$M$18:$M$1017),0)","v":0},{"$f":"IFERROR($E97*SUMIF('Daily Log'!$O$18:$O$1017,$B97,'Daily Log'!$P$18:$P$1017),0)","v":0},{"$f":"IFERROR($E97*SUMIF('Daily Log'!$R$18:$R$1017,$B97,'Daily Log'!$S$18:$S$1017),0)","v":0},{"$f":"IFERROR($E97*SUMIF('Daily Log'!$U$18:$U$1017,$B97,'Daily Log'!$V$18:$V$1017),0)","v":0},{"$f":"IFERROR($E97*SUMIF('Daily Log'!#REF!,$B97,'Daily Log'!#REF!),0)","v":0},{"$f":"IFERROR($E97*SUMIF('Daily Log'!#REF!,$B97,'Daily Log'!#REF!),0)","v":0},{"$f":"IFERROR($E97*SUMIF('Daily Log'!#REF!,$B97,'Daily Log'!#REF!),0)","v":0},{"$f":"IFERROR($E97*SUMIF('Daily Log'!#REF!,$B97,'Daily Log'!#REF!),0)","v":0},{"$f":"IFERROR($E97*SUMIF('Daily Log'!#REF!,$B97,'Daily Log'!#REF!),0)","v":0}]
[null,"CH02 GRN TEA JUG",null,"(DRINKS) IN JUG ",1,0,{"$f":"IFERROR($E98*SUMIF('Daily Log'!#REF!,$B98,'Daily Log'!#REF!),0)","v":0},{"$f":"IFERROR($E98*SUMIF('Daily Log'!#REF!,$B98,'Daily Log'!#REF!),0)","v":0},{"$f":"IFERROR($E98*SUMIF('Daily Log'!#REF!,$B98,'Daily Log'!#REF!),0)","v":0},{"$f":"IFERROR($E98*SUMIF('Daily Log'!#REF!,$B98,'Daily Log'!#REF!),0)","v":0},{"$f":"IFERROR($E98*SUMIF('Daily Log'!#REF!,$B98,'Daily Log'!#REF!),0)","v":0},{"$f":"IFERROR($E98*SUMIF('Daily Log'!#REF!,$B98,'Daily Log'!#REF!),0)","v":0},{"$f":"IFERROR($E98*SUMIF('Daily Log'!#REF!,$B98,'Daily Log'!#REF!),0)","v":0},{"$f":"IFERROR($E98*SUMIF('Daily Log'!#REF!,$B98,'Daily Log'!#REF!),0)","v":0},{"$f":"IFERROR($E98*SUMIF('Daily Log'!#REF!,$B98,'Daily Log'!#REF!),0)","v":0},{"$f":"IFERROR($E98*SUMIF('Daily Log'!#REF!,$B98,'Daily Log'!#REF!),0)","v":0},{"$f":"IFERROR($E98*SUMIF('Daily Log'!#REF!,$B98,'Daily Log'!#REF!),0)","v":0},{"$f":"IFERROR($E98*SUMIF('Daily Log'!#REF!,$B98,'Daily Log'!#REF!),0)","v":0},{"$f":"IFERROR($E98*SUMIF('Daily Log'!#REF!,$B98,'Daily Log'!#REF!),0)","v":0},{"$f":"IFERROR($E98*SUMIF('Daily Log'!#REF!,$B98,'Daily Log'!#REF!),0)","v":0},{"$f":"IFERROR($E98*SUMIF('Daily Log'!#REF!,$B98,'Daily Log'!#REF!),0)","v":0},{"$f":"IFERROR($E98*SUMIF('Daily Log'!#REF!,$B98,'Daily Log'!#REF!),0)","v":0},{"$f":"IFERROR($E98*SUMIF('Daily Log'!#REF!,$B98,'Daily Log'!#REF!),0)","v":0},{"$f":"IFERROR($E98*SUMIF('Daily Log'!#REF!,$B98,'Daily Log'!#REF!),0)","v":0},{"$f":"IFERROR($E98*SUMIF('Daily Log'!#REF!,$B98,'Daily Log'!#REF!),0)","v":0},{"$f":"IFERROR($E98*SUMIF('Daily Log'!$C$18:$C$1017,$B98,'Daily Log'!$D$18:$D$1017),0)","v":0},{"$f":"IFERROR($E98*SUMIF('Daily Log'!$F$18:$F$1017,$B98,'Daily Log'!$G$18:$G$1017),0)","v":0},{"$f":"IFERROR($E98*SUMIF('Daily Log'!$I$18:$I$1017,$B98,'Daily Log'!$J$18:$J$1017),0)","v":0},{"$f":"IFERROR($E98*SUMIF('Daily Log'!$L$18:$L$1017,$B98,'Daily Log'!$M$18:$M$1017),0)","v":0},{"$f":"IFERROR($E98*SUMIF('Daily Log'!$O$18:$O$1017,$B98,'Daily Log'!$P$18:$P$1017),0)","v":0},{"$f":"IFERROR($E98*SUMIF('Daily Log'!$R$18:$R$1017,$B98,'Daily Log'!$S$18:$S$1017),0)","v":0},{"$f":"IFERROR($E98*SUMIF('Daily Log'!$U$18:$U$1017,$B98,'Daily Log'!$V$18:$V$1017),0)","v":0},{"$f":"IFERROR($E98*SUMIF('Daily Log'!#REF!,$B98,'Daily Log'!#REF!),0)","v":0},{"$f":"IFERROR($E98*SUMIF('Daily Log'!#REF!,$B98,'Daily Log'!#REF!),0)","v":0},{"$f":"IFERROR($E98*SUMIF('Daily Log'!#REF!,$B98,'Daily Log'!#REF!),0)","v":0},{"$f":"IFERROR($E98*SUMIF('Daily Log'!#REF!,$B98,'Daily Log'!#REF!),0)","v":0},{"$f":"IFERROR($E98*SUMIF('Daily Log'!#REF!,$B98,'Daily Log'!#REF!),0)","v":0}]
[null,"CH03 PEPSI JUG",null,"(DRINKS) IN JUG ",1,0,{"$f":"IFERROR($E99*SUMIF('Daily Log'!#REF!,$B99,'Daily Log'!#REF!),0)","v":0},{"$f":"IFERROR($E99*SUMIF('Daily Log'!#REF!,$B99,'Daily Log'!#REF!),0)","v":0},{"$f":"IFERROR($E99*SUMIF('Daily Log'!#REF!,$B99,'Daily Log'!#REF!),0)","v":0},{"$f":"IFERROR($E99*SUMIF('Daily Log'!#REF!,$B99,'Daily Log'!#REF!),0)","v":0},{"$f":"IFERROR($E99*SUMIF('Daily Log'!#REF!,$B99,'Daily Log'!#REF!),0)","v":0},{"$f":"IFERROR($E99*SUMIF('Daily Log'!#REF!,$B99,'Daily Log'!#REF!),0)","v":0},{"$f":"IFERROR($E99*SUMIF('Daily Log'!#REF!,$B99,'Daily Log'!#REF!),0)","v":0},{"$f":"IFERROR($E99*SUMIF('Daily Log'!#REF!,$B99,'Daily Log'!#REF!),0)","v":0},{"$f":"IFERROR($E99*SUMIF('Daily Log'!#REF!,$B99,'Daily Log'!#REF!),0)","v":0},{"$f":"IFERROR($E99*SUMIF('Daily Log'!#REF!,$B99,'Daily Log'!#REF!),0)","v":0},{"$f":"IFERROR($E99*SUMIF('Daily Log'!#REF!,$B99,'Daily Log'!#REF!),0)","v":0},{"$f":"IFERROR($E99*SUMIF('Daily Log'!#REF!,$B99,'Daily Log'!#REF!),0)","v":0},{"$f":"IFERROR($E99*SUMIF('Daily Log'!#REF!,$B99,'Daily Log'!#REF!),0)","v":0},{"$f":"IFERROR($E99*SUMIF('Daily Log'!#REF!,$B99,'Daily Log'!#REF!),0)","v":0},{"$f":"IFERROR($E99*SUMIF('Daily Log'!#REF!,$B99,'Daily Log'!#REF!),0)","v":0},{"$f":"IFERROR($E99*SUMIF('Daily Log'!#REF!,$B99,'Daily Log'!#REF!),0)","v":0},{"$f":"IFERROR($E99*SUMIF('Daily Log'!#REF!,$B99,'Daily Log'!#REF!),0)","v":0},{"$f":"IFERROR($E99*SUMIF('Daily Log'!#REF!,$B99,'Daily Log'!#REF!),0)","v":0},{"$f":"IFERROR($E99*SUMIF('Daily Log'!#REF!,$B99,'Daily Log'!#REF!),0)","v":0},{"$f":"IFERROR($E99*SUMIF('Daily Log'!$C$18:$C$1017,$B99,'Daily Log'!$D$18:$D$1017),0)","v":0},{"$f":"IFERROR($E99*SUMIF('Daily Log'!$F$18:$F$1017,$B99,'Daily Log'!$G$18:$G$1017),0)","v":0},{"$f":"IFERROR($E99*SUMIF('Daily Log'!$I$18:$I$1017,$B99,'Daily Log'!$J$18:$J$1017),0)","v":0},{"$f":"IFERROR($E99*SUMIF('Daily Log'!$L$18:$L$1017,$B99,'Daily Log'!$M$18:$M$1017),0)","v":0},{"$f":"IFERROR($E99*SUMIF('Daily Log'!$O$18:$O$1017,$B99,'Daily Log'!$P$18:$P$1017),0)","v":0},{"$f":"IFERROR($E99*SUMIF('Daily Log'!$R$18:$R$1017,$B99,'Daily Log'!$S$18:$S$1017),0)","v":0},{"$f":"IFERROR($E99*SUMIF('Daily Log'!$U$18:$U$1017,$B99,'Daily Log'!$V$18:$V$1017),0)","v":0},{"$f":"IFERROR($E99*SUMIF('Daily Log'!#REF!,$B99,'Daily Log'!#REF!),0)","v":0},{"$f":"IFERROR($E99*SUMIF('Daily Log'!#REF!,$B99,'Daily Log'!#REF!),0)","v":0},{"$f":"IFERROR($E99*SUMIF('Daily Log'!#REF!,$B99,'Daily Log'!#REF!),0)","v":0},{"$f":"IFERROR($E99*SUMIF('Daily Log'!#REF!,$B99,'Daily Log'!#REF!),0)","v":0},{"$f":"IFERROR($E99*SUMIF('Daily Log'!#REF!,$B99,'Daily Log'!#REF!),0)","v":0}]
[null,"CH04 RIBENA JUG",null,"(DRINKS) IN JUG ",1,0,{"$f":"IFERROR($E100*SUMIF('Daily Log'!#REF!,$B100,'Daily Log'!#REF!),0)","v":0},{"$f":"IFERROR($E100*SUMIF('Daily Log'!#REF!,$B100,'Daily Log'!#REF!),0)","v":0},{"$f":"IFERROR($E100*SUMIF('Daily Log'!#REF!,$B100,'Daily Log'!#REF!),0)","v":0},{"$f":"IFERROR($E100*SUMIF('Daily Log'!#REF!,$B100,'Daily Log'!#REF!),0)","v":0},{"$f":"IFERROR($E100*SUMIF('Daily Log'!#REF!,$B100,'Daily Log'!#REF!),0)","v":0},{"$f":"IFERROR($E100*SUMIF('Daily Log'!#REF!,$B100,'Daily Log'!#REF!),0)","v":0},{"$f":"IFERROR($E100*SUMIF('Daily Log'!#REF!,$B100,'Daily Log'!#REF!),0)","v":0},{"$f":"IFERROR($E100*SUMIF('Daily Log'!#REF!,$B100,'Daily Log'!#REF!),0)","v":0},{"$f":"IFERROR($E100*SUMIF('Daily Log'!#REF!,$B100,'Daily Log'!#REF!),0)","v":0},{"$f":"IFERROR($E100*SUMIF('Daily Log'!#REF!,$B100,'Daily Log'!#REF!),0)","v":0},{"$f":"IFERROR($E100*SUMIF('Daily Log'!#REF!,$B100,'Daily Log'!#REF!),0)","v":0},{"$f":"IFERROR($E100*SUMIF('Daily Log'!#REF!,$B100,'Daily Log'!#REF!),0)","v":0},{"$f":"IFERROR($E100*SUMIF('Daily Log'!#REF!,$B100,'Daily Log'!#REF!),0)","v":0},{"$f":"IFERROR($E100*SUMIF('Daily Log'!#REF!,$B100,'Daily Log'!#REF!),0)","v":0},{"$f":"IFERROR($E100*SUMIF('Daily Log'!#REF!,$B100,'Daily Log'!#REF!),0)","v":0},{"$f":"IFERROR($E100*SUMIF('Daily Log'!#REF!,$B100,'Daily Log'!#REF!),0)","v":0},{"$f":"IFERROR($E100*SUMIF('Daily Log'!#REF!,$B100,'Daily Log'!#REF!),0)","v":0},{"$f":"IFERROR($E100*SUMIF('Daily Log'!#REF!,$B100,'Daily Log'!#REF!),0)","v":0},{"$f":"IFERROR($E100*SUMIF('Daily Log'!#REF!,$B100,'Daily Log'!#REF!),0)","v":0},{"$f":"IFERROR($E100*SUMIF('Daily Log'!$C$18:$C$1017,$B100,'Daily Log'!$D$18:$D$1017),0)","v":0},{"$f":"IFERROR($E100*SUMIF('Daily Log'!$F$18:$F$1017,$B100,'Daily Log'!$G$18:$G$1017),0)","v":0},{"$f":"IFERROR($E100*SUMIF('Daily Log'!$I$18:$I$1017,$B100,'Daily Log'!$J$18:$J$1017),0)","v":0},{"$f":"IFERROR($E100*SUMIF('Daily Log'!$L$18:$L$1017,$B100,'Daily Log'!$M$18:$M$1017),0)","v":0},{"$f":"IFERROR($E100*SUMIF('Daily Log'!$O$18:$O$1017,$B100,'Daily Log'!$P$18:$P$1017),0)","v":0},{"$f":"IFERROR($E100*SUMIF('Daily Log'!$R$18:$R$1017,$B100,'Daily Log'!$S$18:$S$1017),0)","v":0},{"$f":"IFERROR($E100*SUMIF('Daily Log'!$U$18:$U$1017,$B100,'Daily Log'!$V$18:$V$1017),0)","v":0},{"$f":"IFERROR($E100*SUMIF('Daily Log'!#REF!,$B100,'Daily Log'!#REF!),0)","v":0},{"$f":"IFERROR($E100*SUMIF('Daily Log'!#REF!,$B100,'Daily Log'!#REF!),0)","v":0},{"$f":"IFERROR($E100*SUMIF('Daily Log'!#REF!,$B100,'Daily Log'!#REF!),0)","v":0},{"$f":"IFERROR($E100*SUMIF('Daily Log'!#REF!,$B100,'Daily Log'!#REF!),0)","v":0},{"$f":"IFERROR($E100*SUMIF('Daily Log'!#REF!,$B100,'Daily Log'!#REF!),0)","v":0}]
[null,"CH05 SODA JUG",null,"(DRINKS) IN JUG ",1,0,{"$f":"IFERROR($E101*SUMIF('Daily Log'!#REF!,$B101,'Daily Log'!#REF!),0)","v":0},{"$f":"IFERROR($E101*SUMIF('Daily Log'!#REF!,$B101,'Daily Log'!#REF!),0)","v":0},{"$f":"IFERROR($E101*SUMIF('Daily Log'!#REF!,$B101,'Daily Log'!#REF!),0)","v":0},{"$f":"IFERROR($E101*SUMIF('Daily Log'!#REF!,$B101,'Daily Log'!#REF!),0)","v":0},{"$f":"IFERROR($E101*SUMIF('Daily Log'!#REF!,$B101,'Daily Log'!#REF!),0)","v":0},{"$f":"IFERROR($E101*SUMIF('Daily Log'!#REF!,$B101,'Daily Log'!#REF!),0)","v":0},{"$f":"IFERROR($E101*SUMIF('Daily Log'!#REF!,$B101,'Daily Log'!#REF!),0)","v":0},{"$f":"IFERROR($E101*SUMIF('Daily Log'!#REF!,$B101,'Daily Log'!#REF!),0)","v":0},{"$f":"IFERROR($E101*SUMIF('Daily Log'!#REF!,$B101,'Daily Log'!#REF!),0)","v":0},{"$f":"IFERROR($E101*SUMIF('Daily Log'!#REF!,$B101,'Daily Log'!#REF!),0)","v":0},{"$f":"IFERROR($E101*SUMIF('Daily Log'!#REF!,$B101,'Daily Log'!#REF!),0)","v":0},{"$f":"IFERROR($E101*SUMIF('Daily Log'!#REF!,$B101,'Daily Log'!#REF!),0)","v":0},{"$f":"IFERROR($E101*SUMIF('Daily Log'!#REF!,$B101,'Daily Log'!#REF!),0)","v":0},{"$f":"IFERROR($E101*SUMIF('Daily Log'!#REF!,$B101,'Daily Log'!#REF!),0)","v":0},{"$f":"IFERROR($E101*SUMIF('Daily Log'!#REF!,$B101,'Daily Log'!#REF!),0)","v":0},{"$f":"IFERROR($E101*SUMIF('Daily Log'!#REF!,$B101,'Daily Log'!#REF!),0)","v":0},{"$f":"IFERROR($E101*SUMIF('Daily Log'!#REF!,$B101,'Daily Log'!#REF!),0)","v":0},{"$f":"IFERROR($E101*SUMIF('Daily Log'!#REF!,$B101,'Daily Log'!#REF!),0)","v":0},{"$f":"IFERROR($E101*SUMIF('Daily Log'!#REF!,$B101,'Daily Log'!#REF!),0)","v":0},{"$f":"IFERROR($E101*SUMIF('Daily Log'!$C$18:$C$1017,$B101,'Daily Log'!$D$18:$D$1017),0)","v":0},{"$f":"IFERROR($E101*SUMIF('Daily Log'!$F$18:$F$1017,$B101,'Daily Log'!$G$18:$G$1017),0)","v":0},{"$f":"IFERROR($E101*SUMIF('Daily Log'!$I$18:$I$1017,$B101,'Daily Log'!$J$18:$J$1017),0)","v":0},{"$f":"IFERROR($E101*SUMIF('Daily Log'!$L$18:$L$1017,$B101,'Daily Log'!$M$18:$M$1017),0)","v":0},{"$f":"IFERROR($E101*SUMIF('Daily Log'!$O$18:$O$1017,$B101,'Daily Log'!$P$18:$P$1017),0)","v":0},{"$f":"IFERROR($E101*SUMIF('Daily Log'!$R$18:$R$1017,$B101,'Daily Log'!$S$18:$S$1017),0)","v":0},{"$f":"IFERROR($E101*SUMIF('Daily Log'!$U$18:$U$1017,$B101,'Daily Log'!$V$18:$V$1017),0)","v":0},{"$f":"IFERROR($E101*SUMIF('Daily Log'!#REF!,$B101,'Daily Log'!#REF!),0)","v":0},{"$f":"IFERROR($E101*SUMIF('Daily Log'!#REF!,$B101,'Daily Log'!#REF!),0)","v":0},{"$f":"IFERROR($E101*SUMIF('Daily Log'!#REF!,$B101,'Daily Log'!#REF!),0)","v":0},{"$f":"IFERROR($E101*SUMIF('Daily Log'!#REF!,$B101,'Daily Log'!#REF!),0)","v":0},{"$f":"IFERROR($E101*SUMIF('Daily Log'!#REF!,$B101,'Daily Log'!#REF!),0)","v":0}]
[null,"CH06 WATER JUG",null,"(DRINKS) IN JUG ",1,0,{"$f":"IFERROR($E102*SUMIF('Daily Log'!#REF!,$B102,'Daily Log'!#REF!),0)","v":0},{"$f":"IFERROR($E102*SUMIF('Daily Log'!#REF!,$B102,'Daily Log'!#REF!),0)","v":0},{"$f":"IFERROR($E102*SUMIF('Daily Log'!#REF!,$B102,'Daily Log'!#REF!),0)","v":0},{"$f":"IFERROR($E102*SUMIF('Daily Log'!#REF!,$B102,'Daily Log'!#REF!),0)","v":0},{"$f":"IFERROR($E102*SUMIF('Daily Log'!#REF!,$B102,'Daily Log'!#REF!),0)","v":0},{"$f":"IFERROR($E102*SUMIF('Daily Log'!#REF!,$B102,'Daily Log'!#REF!),0)","v":0},{"$f":"IFERROR($E102*SUMIF('Daily Log'!#REF!,$B102,'Daily Log'!#REF!),0)","v":0},{"$f":"IFERROR($E102*SUMIF('Daily Log'!#REF!,$B102,'Daily Log'!#REF!),0)","v":0},{"$f":"IFERROR($E102*SUMIF('Daily Log'!#REF!,$B102,'Daily Log'!#REF!),0)","v":0},{"$f":"IFERROR($E102*SUMIF('Daily Log'!#REF!,$B102,'Daily Log'!#REF!),0)","v":0},{"$f":"IFERROR($E102*SUMIF('Daily Log'!#REF!,$B102,'Daily Log'!#REF!),0)","v":0},{"$f":"IFERROR($E102*SUMIF('Daily Log'!#REF!,$B102,'Daily Log'!#REF!),0)","v":0},{"$f":"IFERROR($E102*SUMIF('Daily Log'!#REF!,$B102,'Daily Log'!#REF!),0)","v":0},{"$f":"IFERROR($E102*SUMIF('Daily Log'!#REF!,$B102,'Daily Log'!#REF!),0)","v":0},{"$f":"IFERROR($E102*SUMIF('Daily Log'!#REF!,$B102,'Daily Log'!#REF!),0)","v":0},{"$f":"IFERROR($E102*SUMIF('Daily Log'!#REF!,$B102,'Daily Log'!#REF!),0)","v":0},{"$f":"IFERROR($E102*SUMIF('Daily Log'!#REF!,$B102,'Daily Log'!#REF!),0)","v":0},{"$f":"IFERROR($E102*SUMIF('Daily Log'!#REF!,$B102,'Daily Log'!#REF!),0)","v":0},{"$f":"IFERROR($E102*SUMIF('Daily Log'!#REF!,$B102,'Daily Log'!#REF!),0)","v":0},{"$f":"IFERROR($E102*SUMIF('Daily Log'!$C$18:$C$1017,$B102,'Daily Log'!$D$18:$D$1017),0)","v":0},{"$f":"IFERROR($E102*SUMIF('Daily Log'!$F$18:$F$1017,$B102,'Daily Log'!$G$18:$G$1017),0)","v":0},{"$f":"IFERROR($E102*SUMIF('Daily Log'!$I$18:$I$1017,$B102,'Daily Log'!$J$18:$J$1017),0)","v":0},{"$f":"IFERROR($E102*SUMIF('Daily Log'!$L$18:$L$1017,$B102,'Daily Log'!$M$18:$M$1017),0)","v":0},{"$f":"IFERROR($E102*SUMIF('Daily Log'!$O$18:$O$1017,$B102,'Daily Log'!$P$18:$P$1017),0)","v":0},{"$f":"IFERROR($E102*SUMIF('Daily Log'!$R$18:$R$1017,$B102,'Daily Log'!$S$18:$S$1017),0)","v":0},{"$f":"IFERROR($E102*SUMIF('Daily Log'!$U$18:$U$1017,$B102,'Daily Log'!$V$18:$V$1017),0)","v":0},{"$f":"IFERROR($E102*SUMIF('Daily Log'!#REF!,$B102,'Daily Log'!#REF!),0)","v":0},{"$f":"IFERROR($E102*SUMIF('Daily Log'!#REF!,$B102,'Daily Log'!#REF!),0)","v":0},{"$f":"IFERROR($E102*SUMIF('Daily Log'!#REF!,$B102,'Daily Log'!#REF!),0)","v":0},{"$f":"IFERROR($E102*SUMIF('Daily Log'!#REF!,$B102,'Daily Log'!#REF!),0)","v":0},{"$f":"IFERROR($E102*SUMIF('Daily Log'!#REF!,$B102,'Daily Log'!#REF!),0)","v":0}]
[null,"CI01 GRAPE J",null,"FFD-COLD BEVERAGE",1,96,{"$f":"IFERROR($E103*SUMIF('Daily Log'!#REF!,$B103,'Daily Log'!#REF!),0)","v":0},{"$f":"IFERROR($E103*SUMIF('Daily Log'!#REF!,$B103,'Daily Log'!#REF!),0)","v":0},{"$f":"IFERROR($E103*SUMIF('Daily Log'!#REF!,$B103,'Daily Log'!#REF!),0)","v":0},{"$f":"IFERROR($E103*SUMIF('Daily Log'!#REF!,$B103,'Daily Log'!#REF!),0)","v":0},{"$f":"IFERROR($E103*SUMIF('Daily Log'!#REF!,$B103,'Daily Log'!#REF!),0)","v":0},{"$f":"IFERROR($E103*SUMIF('Daily Log'!#REF!,$B103,'Daily Log'!#REF!),0)","v":0},{"$f":"IFERROR($E103*SUMIF('Daily Log'!#REF!,$B103,'Daily Log'!#REF!),0)","v":0},{"$f":"IFERROR($E103*SUMIF('Daily Log'!#REF!,$B103,'Daily Log'!#REF!),0)","v":0},{"$f":"IFERROR($E103*SUMIF('Daily Log'!#REF!,$B103,'Daily Log'!#REF!),0)","v":0},{"$f":"IFERROR($E103*SUMIF('Daily Log'!#REF!,$B103,'Daily Log'!#REF!),0)","v":0},{"$f":"IFERROR($E103*SUMIF('Daily Log'!#REF!,$B103,'Daily Log'!#REF!),0)","v":0},{"$f":"IFERROR($E103*SUMIF('Daily Log'!#REF!,$B103,'Daily Log'!#REF!),0)","v":0},{"$f":"IFERROR($E103*SUMIF('Daily Log'!#REF!,$B103,'Daily Log'!#REF!),0)","v":0},{"$f":"IFERROR($E103*SUMIF('Daily Log'!#REF!,$B103,'Daily Log'!#REF!),0)","v":0},{"$f":"IFERROR($E103*SUMIF('Daily Log'!#REF!,$B103,'Daily Log'!#REF!),0)","v":0},{"$f":"IFERROR($E103*SUMIF('Daily Log'!#REF!,$B103,'Daily Log'!#REF!),0)","v":0},{"$f":"IFERROR($E103*SUMIF('Daily Log'!#REF!,$B103,'Daily Log'!#REF!),0)","v":0},{"$f":"IFERROR($E103*SUMIF('Daily Log'!#REF!,$B103,'Daily Log'!#REF!),0)","v":0},{"$f":"IFERROR($E103*SUMIF('Daily Log'!#REF!,$B103,'Daily Log'!#REF!),0)","v":0},{"$f":"IFERROR($E103*SUMIF('Daily Log'!$C$18:$C$1017,$B103,'Daily Log'!$D$18:$D$1017),0)","v":12},{"$f":"IFERROR($E103*SUMIF('Daily Log'!$F$18:$F$1017,$B103,'Daily Log'!$G$18:$G$1017),0)","v":11},{"$f":"IFERROR($E103*SUMIF('Daily Log'!$I$18:$I$1017,$B103,'Daily Log'!$J$18:$J$1017),0)","v":11},{"$f":"IFERROR($E103*SUMIF('Daily Log'!$L$18:$L$1017,$B103,'Daily Log'!$M$18:$M$1017),0)","v":19},{"$f":"IFERROR($E103*SUMIF('Daily Log'!$O$18:$O$1017,$B103,'Daily Log'!$P$18:$P$1017),0)","v":14},{"$f":"IFERROR($E103*SUMIF('Daily Log'!$R$18:$R$1017,$B103,'Daily Log'!$S$18:$S$1017),0)","v":14},{"$f":"IFERROR($E103*SUMIF('Daily Log'!$U$18:$U$1017,$B103,'Daily Log'!$V$18:$V$1017),0)","v":15},{"$f":"IFERROR($E103*SUMIF('Daily Log'!#REF!,$B103,'Daily Log'!#REF!),0)","v":0},{"$f":"IFERROR($E103*SUMIF('Daily Log'!#REF!,$B103,'Daily Log'!#REF!),0)","v":0},{"$f":"IFERROR($E103*SUMIF('Daily Log'!#REF!,$B103,'Daily Log'!#REF!),0)","v":0},{"$f":"IFERROR($E103*SUMIF('Daily Log'!#REF!,$B103,'Daily Log'!#REF!),0)","v":0},{"$f":"IFERROR($E103*SUMIF('Daily Log'!#REF!,$B103,'Daily Log'!#REF!),0)","v":0}]
[null,"CI02 APPLE J",null,"FFD-COLD BEVERAGE",1,157,{"$f":"IFERROR($E104*SUMIF('Daily Log'!#REF!,$B104,'Daily Log'!#REF!),0)","v":0},{"$f":"IFERROR($E104*SUMIF('Daily Log'!#REF!,$B104,'Daily Log'!#REF!),0)","v":0},{"$f":"IFERROR($E104*SUMIF('Daily Log'!#REF!,$B104,'Daily Log'!#REF!),0)","v":0},{"$f":"IFERROR($E104*SUMIF('Daily Log'!#REF!,$B104,'Daily Log'!#REF!),0)","v":0},{"$f":"IFERROR($E104*SUMIF('Daily Log'!#REF!,$B104,'Daily Log'!#REF!),0)","v":0},{"$f":"IFERROR($E104*SUMIF('Daily Log'!#REF!,$B104,'Daily Log'!#REF!),0)","v":0},{"$f":"IFERROR($E104*SUMIF('Daily Log'!#REF!,$B104,'Daily Log'!#REF!),0)","v":0},{"$f":"IFERROR($E104*SUMIF('Daily Log'!#REF!,$B104,'Daily Log'!#REF!),0)","v":0},{"$f":"IFERROR($E104*SUMIF('Daily Log'!#REF!,$B104,'Daily Log'!#REF!),0)","v":0},{"$f":"IFERROR($E104*SUMIF('Daily Log'!#REF!,$B104,'Daily Log'!#REF!),0)","v":0},{"$f":"IFERROR($E104*SUMIF('Daily Log'!#REF!,$B104,'Daily Log'!#REF!),0)","v":0},{"$f":"IFERROR($E104*SUMIF('Daily Log'!#REF!,$B104,'Daily Log'!#REF!),0)","v":0},{"$f":"IFERROR($E104*SUMIF('Daily Log'!#REF!,$B104,'Daily Log'!#REF!),0)","v":0},{"$f":"IFERROR($E104*SUMIF('Daily Log'!#REF!,$B104,'Daily Log'!#REF!),0)","v":0},{"$f":"IFERROR($E104*SUMIF('Daily Log'!#REF!,$B104,'Daily Log'!#REF!),0)","v":0},{"$f":"IFERROR($E104*SUMIF('Daily Log'!#REF!,$B104,'Daily Log'!#REF!),0)","v":0},{"$f":"IFERROR($E104*SUMIF('Daily Log'!#REF!,$B104,'Daily Log'!#REF!),0)","v":0},{"$f":"IFERROR($E104*SUMIF('Daily Log'!#REF!,$B104,'Daily Log'!#REF!),0)","v":0},{"$f":"IFERROR($E104*SUMIF('Daily Log'!#REF!,$B104,'Daily Log'!#REF!),0)","v":0},{"$f":"IFERROR($E104*SUMIF('Daily Log'!$C$18:$C$1017,$B104,'Daily Log'!$D$18:$D$1017),0)","v":20},{"$f":"IFERROR($E104*SUMIF('Daily Log'!$F$18:$F$1017,$B104,'Daily Log'!$G$18:$G$1017),0)","v":16},{"$f":"IFERROR($E104*SUMIF('Daily Log'!$I$18:$I$1017,$B104,'Daily Log'!$J$18:$J$1017),0)","v":17},{"$f":"IFERROR($E104*SUMIF('Daily Log'!$L$18:$L$1017,$B104,'Daily Log'!$M$18:$M$1017),0)","v":27},{"$f":"IFERROR($E104*SUMIF('Daily Log'!$O$18:$O$1017,$B104,'Daily Log'!$P$18:$P$1017),0)","v":34},{"$f":"IFERROR($E104*SUMIF('Daily Log'!$R$18:$R$1017,$B104,'Daily Log'!$S$18:$S$1017),0)","v":27},{"$f":"IFERROR($E104*SUMIF('Daily Log'!$U$18:$U$1017,$B104,'Daily Log'!$V$18:$V$1017),0)","v":16},{"$f":"IFERROR($E104*SUMIF('Daily Log'!#REF!,$B104,'Daily Log'!#REF!),0)","v":0},{"$f":"IFERROR($E104*SUMIF('Daily Log'!#REF!,$B104,'Daily Log'!#REF!),0)","v":0},{"$f":"IFERROR($E104*SUMIF('Daily Log'!#REF!,$B104,'Daily Log'!#REF!),0)","v":0},{"$f":"IFERROR($E104*SUMIF('Daily Log'!#REF!,$B104,'Daily Log'!#REF!),0)","v":0},{"$f":"IFERROR($E104*SUMIF('Daily Log'!#REF!,$B104,'Daily Log'!#REF!),0)","v":0}]
[null,"CI03 KIWI J",null,"FFD-COLD BEVERAGE",1,0,{"$f":"IFERROR($E105*SUMIF('Daily Log'!#REF!,$B105,'Daily Log'!#REF!),0)","v":0},{"$f":"IFERROR($E105*SUMIF('Daily Log'!#REF!,$B105,'Daily Log'!#REF!),0)","v":0},{"$f":"IFERROR($E105*SUMIF('Daily Log'!#REF!,$B105,'Daily Log'!#REF!),0)","v":0},{"$f":"IFERROR($E105*SUMIF('Daily Log'!#REF!,$B105,'Daily Log'!#REF!),0)","v":0},{"$f":"IFERROR($E105*SUMIF('Daily Log'!#REF!,$B105,'Daily Log'!#REF!),0)","v":0},{"$f":"IFERROR($E105*SUMIF('Daily Log'!#REF!,$B105,'Daily Log'!#REF!),0)","v":0},{"$f":"IFERROR($E105*SUMIF('Daily Log'!#REF!,$B105,'Daily Log'!#REF!),0)","v":0},{"$f":"IFERROR($E105*SUMIF('Daily Log'!#REF!,$B105,'Daily Log'!#REF!),0)","v":0},{"$f":"IFERROR($E105*SUMIF('Daily Log'!#REF!,$B105,'Daily Log'!#REF!),0)","v":0},{"$f":"IFERROR($E105*SUMIF('Daily Log'!#REF!,$B105,'Daily Log'!#REF!),0)","v":0},{"$f":"IFERROR($E105*SUMIF('Daily Log'!#REF!,$B105,'Daily Log'!#REF!),0)","v":0},{"$f":"IFERROR($E105*SUMIF('Daily Log'!#REF!,$B105,'Daily Log'!#REF!),0)","v":0},{"$f":"IFERROR($E105*SUMIF('Daily Log'!#REF!,$B105,'Daily Log'!#REF!),0)","v":0},{"$f":"IFERROR($E105*SUMIF('Daily Log'!#REF!,$B105,'Daily Log'!#REF!),0)","v":0},{"$f":"IFERROR($E105*SUMIF('Daily Log'!#REF!,$B105,'Daily Log'!#REF!),0)","v":0},{"$f":"IFERROR($E105*SUMIF('Daily Log'!#REF!,$B105,'Daily Log'!#REF!),0)","v":0},{"$f":"IFERROR($E105*SUMIF('Daily Log'!#REF!,$B105,'Daily Log'!#REF!),0)","v":0},{"$f":"IFERROR($E105*SUMIF('Daily Log'!#REF!,$B105,'Daily Log'!#REF!),0)","v":0},{"$f":"IFERROR($E105*SUMIF('Daily Log'!#REF!,$B105,'Daily Log'!#REF!),0)","v":0},{"$f":"IFERROR($E105*SUMIF('Daily Log'!$C$18:$C$1017,$B105,'Daily Log'!$D$18:$D$1017),0)","v":0},{"$f":"IFERROR($E105*SUMIF('Daily Log'!$F$18:$F$1017,$B105,'Daily Log'!$G$18:$G$1017),0)","v":0},{"$f":"IFERROR($E105*SUMIF('Daily Log'!$I$18:$I$1017,$B105,'Daily Log'!$J$18:$J$1017),0)","v":0},{"$f":"IFERROR($E105*SUMIF('Daily Log'!$L$18:$L$1017,$B105,'Daily Log'!$M$18:$M$1017),0)","v":0},{"$f":"IFERROR($E105*SUMIF('Daily Log'!$O$18:$O$1017,$B105,'Daily Log'!$P$18:$P$1017),0)","v":0},{"$f":"IFERROR($E105*SUMIF('Daily Log'!$R$18:$R$1017,$B105,'Daily Log'!$S$18:$S$1017),0)","v":0},{"$f":"IFERROR($E105*SUMIF('Daily Log'!$U$18:$U$1017,$B105,'Daily Log'!$V$18:$V$1017),0)","v":0},{"$f":"IFERROR($E105*SUMIF('Daily Log'!#REF!,$B105,'Daily Log'!#REF!),0)","v":0},{"$f":"IFERROR($E105*SUMIF('Daily Log'!#REF!,$B105,'Daily Log'!#REF!),0)","v":0},{"$f":"IFERROR($E105*SUMIF('Daily Log'!#REF!,$B105,'Daily Log'!#REF!),0)","v":0},{"$f":"IFERROR($E105*SUMIF('Daily Log'!#REF!,$B105,'Daily Log'!#REF!),0)","v":0},{"$f":"IFERROR($E105*SUMIF('Daily Log'!#REF!,$B105,'Daily Log'!#REF!),0)","v":0}]
[null,"CI04 MANGO J",null,"FFD-COLD BEVERAGE",1,165,{"$f":"IFERROR($E106*SUMIF('Daily Log'!#REF!,$B106,'Daily Log'!#REF!),0)","v":0},{"$f":"IFERROR($E106*SUMIF('Daily Log'!#REF!,$B106,'Daily Log'!#REF!),0)","v":0},{"$f":"IFERROR($E106*SUMIF('Daily Log'!#REF!,$B106,'Daily Log'!#REF!),0)","v":0},{"$f":"IFERROR($E106*SUMIF('Daily Log'!#REF!,$B106,'Daily Log'!#REF!),0)","v":0},{"$f":"IFERROR($E106*SUMIF('Daily Log'!#REF!,$B106,'Daily Log'!#REF!),0)","v":0},{"$f":"IFERROR($E106*SUMIF('Daily Log'!#REF!,$B106,'Daily Log'!#REF!),0)","v":0},{"$f":"IFERROR($E106*SUMIF('Daily Log'!#REF!,$B106,'Daily Log'!#REF!),0)","v":0},{"$f":"IFERROR($E106*SUMIF('Daily Log'!#REF!,$B106,'Daily Log'!#REF!),0)","v":0},{"$f":"IFERROR($E106*SUMIF('Daily Log'!#REF!,$B106,'Daily Log'!#REF!),0)","v":0},{"$f":"IFERROR($E106*SUMIF('Daily Log'!#REF!,$B106,'Daily Log'!#REF!),0)","v":0},{"$f":"IFERROR($E106*SUMIF('Daily Log'!#REF!,$B106,'Daily Log'!#REF!),0)","v":0},{"$f":"IFERROR($E106*SUMIF('Daily Log'!#REF!,$B106,'Daily Log'!#REF!),0)","v":0},{"$f":"IFERROR($E106*SUMIF('Daily Log'!#REF!,$B106,'Daily Log'!#REF!),0)","v":0},{"$f":"IFERROR($E106*SUMIF('Daily Log'!#REF!,$B106,'Daily Log'!#REF!),0)","v":0},{"$f":"IFERROR($E106*SUMIF('Daily Log'!#REF!,$B106,'Daily Log'!#REF!),0)","v":0},{"$f":"IFERROR($E106*SUMIF('Daily Log'!#REF!,$B106,'Daily Log'!#REF!),0)","v":0},{"$f":"IFERROR($E106*SUMIF('Daily Log'!#REF!,$B106,'Daily Log'!#REF!),0)","v":0},{"$f":"IFERROR($E106*SUMIF('Daily Log'!#REF!,$B106,'Daily Log'!#REF!),0)","v":0},{"$f":"IFERROR($E106*SUMIF('Daily Log'!#REF!,$B106,'Daily Log'!#REF!),0)","v":0},{"$f":"IFERROR($E106*SUMIF('Daily Log'!$C$18:$C$1017,$B106,'Daily Log'!$D$18:$D$1017),0)","v":24},{"$f":"IFERROR($E106*SUMIF('Daily Log'!$F$18:$F$1017,$B106,'Daily Log'!$G$18:$G$1017),0)","v":18},{"$f":"IFERROR($E106*SUMIF('Daily Log'!$I$18:$I$1017,$B106,'Daily Log'!$J$18:$J$1017),0)","v":16},{"$f":"IFERROR($E106*SUMIF('Daily Log'!$L$18:$L$1017,$B106,'Daily Log'!$M$18:$M$1017),0)","v":32},{"$f":"IFERROR($E106*SUMIF('Daily Log'!$O$18:$O$1017,$B106,'Daily Log'!$P$18:$P$1017),0)","v":16},{"$f":"IFERROR($E106*SUMIF('Daily Log'!$R$18:$R$1017,$B106,'Daily Log'!$S$18:$S$1017),0)","v":33},{"$f":"IFERROR($E106*SUMIF('Daily Log'!$U$18:$U$1017,$B106,'Daily Log'!$V$18:$V$1017),0)","v":26},{"$f":"IFERROR($E106*SUMIF('Daily Log'!#REF!,$B106,'Daily Log'!#REF!),0)","v":0},{"$f":"IFERROR($E106*SUMIF('Daily Log'!#REF!,$B106,'Daily Log'!#REF!),0)","v":0},{"$f":"IFERROR($E106*SUMIF('Daily Log'!#REF!,$B106,'Daily Log'!#REF!),0)","v":0},{"$f":"IFERROR($E106*SUMIF('Daily Log'!#REF!,$B106,'Daily Log'!#REF!),0)","v":0},{"$f":"IFERROR($E106*SUMIF('Daily Log'!#REF!,$B106,'Daily Log'!#REF!),0)","v":0}]
[null,"CI05 PASSION J",null,"FFD-COLD BEVERAGE",1,219,{"$f":"IFERROR($E107*SUMIF('Daily Log'!#REF!,$B107,'Daily Log'!#REF!),0)","v":0},{"$f":"IFERROR($E107*SUMIF('Daily Log'!#REF!,$B107,'Daily Log'!#REF!),0)","v":0},{"$f":"IFERROR($E107*SUMIF('Daily Log'!#REF!,$B107,'Daily Log'!#REF!),0)","v":0},{"$f":"IFERROR($E107*SUMIF('Daily Log'!#REF!,$B107,'Daily Log'!#REF!),0)","v":0},{"$f":"IFERROR($E107*SUMIF('Daily Log'!#REF!,$B107,'Daily Log'!#REF!),0)","v":0},{"$f":"IFERROR($E107*SUMIF('Daily Log'!#REF!,$B107,'Daily Log'!#REF!),0)","v":0},{"$f":"IFERROR($E107*SUMIF('Daily Log'!#REF!,$B107,'Daily Log'!#REF!),0)","v":0},{"$f":"IFERROR($E107*SUMIF('Daily Log'!#REF!,$B107,'Daily Log'!#REF!),0)","v":0},{"$f":"IFERROR($E107*SUMIF('Daily Log'!#REF!,$B107,'Daily Log'!#REF!),0)","v":0},{"$f":"IFERROR($E107*SUMIF('Daily Log'!#REF!,$B107,'Daily Log'!#REF!),0)","v":0},{"$f":"IFERROR($E107*SUMIF('Daily Log'!#REF!,$B107,'Daily Log'!#REF!),0)","v":0},{"$f":"IFERROR($E107*SUMIF('Daily Log'!#REF!,$B107,'Daily Log'!#REF!),0)","v":0},{"$f":"IFERROR($E107*SUMIF('Daily Log'!#REF!,$B107,'Daily Log'!#REF!),0)","v":0},{"$f":"IFERROR($E107*SUMIF('Daily Log'!#REF!,$B107,'Daily Log'!#REF!),0)","v":0},{"$f":"IFERROR($E107*SUMIF('Daily Log'!#REF!,$B107,'Daily Log'!#REF!),0)","v":0},{"$f":"IFERROR($E107*SUMIF('Daily Log'!#REF!,$B107,'Daily Log'!#REF!),0)","v":0},{"$f":"IFERROR($E107*SUMIF('Daily Log'!#REF!,$B107,'Daily Log'!#REF!),0)","v":0},{"$f":"IFERROR($E107*SUMIF('Daily Log'!#REF!,$B107,'Daily Log'!#REF!),0)","v":0},{"$f":"IFERROR($E107*SUMIF('Daily Log'!#REF!,$B107,'Daily Log'!#REF!),0)","v":0},{"$f":"IFERROR($E107*SUMIF('Daily Log'!$C$18:$C$1017,$B107,'Daily Log'!$D$18:$D$1017),0)","v":3},{"$f":"IFERROR($E107*SUMIF('Daily Log'!$F$18:$F$1017,$B107,'Daily Log'!$G$18:$G$1017),0)","v":33},{"$f":"IFERROR($E107*SUMIF('Daily Log'!$I$18:$I$1017,$B107,'Daily Log'!$J$18:$J$1017),0)","v":25},{"$f":"IFERROR($E107*SUMIF('Daily Log'!$L$18:$L$1017,$B107,'Daily Log'!$M$18:$M$1017),0)","v":59},{"$f":"IFERROR($E107*SUMIF('Daily Log'!$O$18:$O$1017,$B107,'Daily Log'!$P$18:$P$1017),0)","v":35},{"$f":"IFERROR($E107*SUMIF('Daily Log'!$R$18:$R$1017,$B107,'Daily Log'!$S$18:$S$1017),0)","v":32},{"$f":"IFERROR($E107*SUMIF('Daily Log'!$U$18:$U$1017,$B107,'Daily Log'!$V$18:$V$1017),0)","v":32},{"$f":"IFERROR($E107*SUMIF('Daily Log'!#REF!,$B107,'Daily Log'!#REF!),0)","v":0},{"$f":"IFERROR($E107*SUMIF('Daily Log'!#REF!,$B107,'Daily Log'!#REF!),0)","v":0},{"$f":"IFERROR($E107*SUMIF('Daily Log'!#REF!,$B107,'Daily Log'!#REF!),0)","v":0},{"$f":"IFERROR($E107*SUMIF('Daily Log'!#REF!,$B107,'Daily Log'!#REF!),0)","v":0},{"$f":"IFERROR($E107*SUMIF('Daily Log'!#REF!,$B107,'Daily Log'!#REF!),0)","v":0}]
[null,"CI06 RIBENA J",null,"FFD-COLD BEVERAGE",1,381,{"$f":"IFERROR($E108*SUMIF('Daily Log'!#REF!,$B108,'Daily Log'!#REF!),0)","v":0},{"$f":"IFERROR($E108*SUMIF('Daily Log'!#REF!,$B108,'Daily Log'!#REF!),0)","v":0},{"$f":"IFERROR($E108*SUMIF('Daily Log'!#REF!,$B108,'Daily Log'!#REF!),0)","v":0},{"$f":"IFERROR($E108*SUMIF('Daily Log'!#REF!,$B108,'Daily Log'!#REF!),0)","v":0},{"$f":"IFERROR($E108*SUMIF('Daily Log'!#REF!,$B108,'Daily Log'!#REF!),0)","v":0},{"$f":"IFERROR($E108*SUMIF('Daily Log'!#REF!,$B108,'Daily Log'!#REF!),0)","v":0},{"$f":"IFERROR($E108*SUMIF('Daily Log'!#REF!,$B108,'Daily Log'!#REF!),0)","v":0},{"$f":"IFERROR($E108*SUMIF('Daily Log'!#REF!,$B108,'Daily Log'!#REF!),0)","v":0},{"$f":"IFERROR($E108*SUMIF('Daily Log'!#REF!,$B108,'Daily Log'!#REF!),0)","v":0},{"$f":"IFERROR($E108*SUMIF('Daily Log'!#REF!,$B108,'Daily Log'!#REF!),0)","v":0},{"$f":"IFERROR($E108*SUMIF('Daily Log'!#REF!,$B108,'Daily Log'!#REF!),0)","v":0},{"$f":"IFERROR($E108*SUMIF('Daily Log'!#REF!,$B108,'Daily Log'!#REF!),0)","v":0},{"$f":"IFERROR($E108*SUMIF('Daily Log'!#REF!,$B108,'Daily Log'!#REF!),0)","v":0},{"$f":"IFERROR($E108*SUMIF('Daily Log'!#REF!,$B108,'Daily Log'!#REF!),0)","v":0},{"$f":"IFERROR($E108*SUMIF('Daily Log'!#REF!,$B108,'Daily Log'!#REF!),0)","v":0},{"$f":"IFERROR($E108*SUMIF('Daily Log'!#REF!,$B108,'Daily Log'!#REF!),0)","v":0},{"$f":"IFERROR($E108*SUMIF('Daily Log'!#REF!,$B108,'Daily Log'!#REF!),0)","v":0},{"$f":"IFERROR($E108*SUMIF('Daily Log'!#REF!,$B108,'Daily Log'!#REF!),0)","v":0},{"$f":"IFERROR($E108*SUMIF('Daily Log'!#REF!,$B108,'Daily Log'!#REF!),0)","v":0},{"$f":"IFERROR($E108*SUMIF('Daily Log'!$C$18:$C$1017,$B108,'Daily Log'!$D$18:$D$1017),0)","v":45},{"$f":"IFERROR($E108*SUMIF('Daily Log'!$F$18:$F$1017,$B108,'Daily Log'!$G$18:$G$1017),0)","v":53},{"$f":"IFERROR($E108*SUMIF('Daily Log'!$I$18:$I$1017,$B108,'Daily Log'!$J$18:$J$1017),0)","v":42},{"$f":"IFERROR($E108*SUMIF('Daily Log'!$L$18:$L$1017,$B108,'Daily Log'!$M$18:$M$1017),0)","v":52},{"$f":"IFERROR($E108*SUMIF('Daily Log'!$O$18:$O$1017,$B108,'Daily Log'!$P$18:$P$1017),0)","v":69},{"$f":"IFERROR($E108*SUMIF('Daily Log'!$R$18:$R$1017,$B108,'Daily Log'!$S$18:$S$1017),0)","v":72},{"$f":"IFERROR($E108*SUMIF('Daily Log'!$U$18:$U$1017,$B108,'Daily Log'!$V$18:$V$1017),0)","v":48},{"$f":"IFERROR($E108*SUMIF('Daily Log'!#REF!,$B108,'Daily Log'!#REF!),0)","v":0},{"$f":"IFERROR($E108*SUMIF('Daily Log'!#REF!,$B108,'Daily Log'!#REF!),0)","v":0},{"$f":"IFERROR($E108*SUMIF('Daily Log'!#REF!,$B108,'Daily Log'!#REF!),0)","v":0},{"$f":"IFERROR($E108*SUMIF('Daily Log'!#REF!,$B108,'Daily Log'!#REF!),0)","v":0},{"$f":"IFERROR($E108*SUMIF('Daily Log'!#REF!,$B108,'Daily Log'!#REF!),0)","v":0}]
[null,"CJ01 GRAPE SO",null,"FFD-COLD BEVERAGE",1,1,{"$f":"IFERROR($E109*SUMIF('Daily Log'!#REF!,$B109,'Daily Log'!#REF!),0)","v":0},{"$f":"IFERROR($E109*SUMIF('Daily Log'!#REF!,$B109,'Daily Log'!#REF!),0)","v":0},{"$f":"IFERROR($E109*SUMIF('Daily Log'!#REF!,$B109,'Daily Log'!#REF!),0)","v":0},{"$f":"IFERROR($E109*SUMIF('Daily Log'!#REF!,$B109,'Daily Log'!#REF!),0)","v":0},{"$f":"IFERROR($E109*SUMIF('Daily Log'!#REF!,$B109,'Daily Log'!#REF!),0)","v":0},{"$f":"IFERROR($E109*SUMIF('Daily Log'!#REF!,$B109,'Daily Log'!#REF!),0)","v":0},{"$f":"IFERROR($E109*SUMIF('Daily Log'!#REF!,$B109,'Daily Log'!#REF!),0)","v":0},{"$f":"IFERROR($E109*SUMIF('Daily Log'!#REF!,$B109,'Daily Log'!#REF!),0)","v":0},{"$f":"IFERROR($E109*SUMIF('Daily Log'!#REF!,$B109,'Daily Log'!#REF!),0)","v":0},{"$f":"IFERROR($E109*SUMIF('Daily Log'!#REF!,$B109,'Daily Log'!#REF!),0)","v":0},{"$f":"IFERROR($E109*SUMIF('Daily Log'!#REF!,$B109,'Daily Log'!#REF!),0)","v":0},{"$f":"IFERROR($E109*SUMIF('Daily Log'!#REF!,$B109,'Daily Log'!#REF!),0)","v":0},{"$f":"IFERROR($E109*SUMIF('Daily Log'!#REF!,$B109,'Daily Log'!#REF!),0)","v":0},{"$f":"IFERROR($E109*SUMIF('Daily Log'!#REF!,$B109,'Daily Log'!#REF!),0)","v":0},{"$f":"IFERROR($E109*SUMIF('Daily Log'!#REF!,$B109,'Daily Log'!#REF!),0)","v":0},{"$f":"IFERROR($E109*SUMIF('Daily Log'!#REF!,$B109,'Daily Log'!#REF!),0)","v":0},{"$f":"IFERROR($E109*SUMIF('Daily Log'!#REF!,$B109,'Daily Log'!#REF!),0)","v":0},{"$f":"IFERROR($E109*SUMIF('Daily Log'!#REF!,$B109,'Daily Log'!#REF!),0)","v":0},{"$f":"IFERROR($E109*SUMIF('Daily Log'!#REF!,$B109,'Daily Log'!#REF!),0)","v":0},{"$f":"IFERROR($E109*SUMIF('Daily Log'!$C$18:$C$1017,$B109,'Daily Log'!$D$18:$D$1017),0)","v":0},{"$f":"IFERROR($E109*SUMIF('Daily Log'!$F$18:$F$1017,$B109,'Daily Log'!$G$18:$G$1017),0)","v":0},{"$f":"IFERROR($E109*SUMIF('Daily Log'!$I$18:$I$1017,$B109,'Daily Log'!$J$18:$J$1017),0)","v":0},{"$f":"IFERROR($E109*SUMIF('Daily Log'!$L$18:$L$1017,$B109,'Daily Log'!$M$18:$M$1017),0)","v":0},{"$f":"IFERROR($E109*SUMIF('Daily Log'!$O$18:$O$1017,$B109,'Daily Log'!$P$18:$P$1017),0)","v":0},{"$f":"IFERROR($E109*SUMIF('Daily Log'!$R$18:$R$1017,$B109,'Daily Log'!$S$18:$S$1017),0)","v":1},{"$f":"IFERROR($E109*SUMIF('Daily Log'!$U$18:$U$1017,$B109,'Daily Log'!$V$18:$V$1017),0)","v":0},{"$f":"IFERROR($E109*SUMIF('Daily Log'!#REF!,$B109,'Daily Log'!#REF!),0)","v":0},{"$f":"IFERROR($E109*SUMIF('Daily Log'!#REF!,$B109,'Daily Log'!#REF!),0)","v":0},{"$f":"IFERROR($E109*SUMIF('Daily Log'!#REF!,$B109,'Daily Log'!#REF!),0)","v":0},{"$f":"IFERROR($E109*SUMIF('Daily Log'!#REF!,$B109,'Daily Log'!#REF!),0)","v":0},{"$f":"IFERROR($E109*SUMIF('Daily Log'!#REF!,$B109,'Daily Log'!#REF!),0)","v":0}]
[null,"CJ02 APPLE SO",null,"FFD-COLD BEVERAGE",1,7,{"$f":"IFERROR($E110*SUMIF('Daily Log'!#REF!,$B110,'Daily Log'!#REF!),0)","v":0},{"$f":"IFERROR($E110*SUMIF('Daily Log'!#REF!,$B110,'Daily Log'!#REF!),0)","v":0},{"$f":"IFERROR($E110*SUMIF('Daily Log'!#REF!,$B110,'Daily Log'!#REF!),0)","v":0},{"$f":"IFERROR($E110*SUMIF('Daily Log'!#REF!,$B110,'Daily Log'!#REF!),0)","v":0},{"$f":"IFERROR($E110*SUMIF('Daily Log'!#REF!,$B110,'Daily Log'!#REF!),0)","v":0},{"$f":"IFERROR($E110*SUMIF('Daily Log'!#REF!,$B110,'Daily Log'!#REF!),0)","v":0},{"$f":"IFERROR($E110*SUMIF('Daily Log'!#REF!,$B110,'Daily Log'!#REF!),0)","v":0},{"$f":"IFERROR($E110*SUMIF('Daily Log'!#REF!,$B110,'Daily Log'!#REF!),0)","v":0},{"$f":"IFERROR($E110*SUMIF('Daily Log'!#REF!,$B110,'Daily Log'!#REF!),0)","v":0},{"$f":"IFERROR($E110*SUMIF('Daily Log'!#REF!,$B110,'Daily Log'!#REF!),0)","v":0},{"$f":"IFERROR($E110*SUMIF('Daily Log'!#REF!,$B110,'Daily Log'!#REF!),0)","v":0},{"$f":"IFERROR($E110*SUMIF('Daily Log'!#REF!,$B110,'Daily Log'!#REF!),0)","v":0},{"$f":"IFERROR($E110*SUMIF('Daily Log'!#REF!,$B110,'Daily Log'!#REF!),0)","v":0},{"$f":"IFERROR($E110*SUMIF('Daily Log'!#REF!,$B110,'Daily Log'!#REF!),0)","v":0},{"$f":"IFERROR($E110*SUMIF('Daily Log'!#REF!,$B110,'Daily Log'!#REF!),0)","v":0},{"$f":"IFERROR($E110*SUMIF('Daily Log'!#REF!,$B110,'Daily Log'!#REF!),0)","v":0},{"$f":"IFERROR($E110*SUMIF('Daily Log'!#REF!,$B110,'Daily Log'!#REF!),0)","v":0},{"$f":"IFERROR($E110*SUMIF('Daily Log'!#REF!,$B110,'Daily Log'!#REF!),0)","v":0},{"$f":"IFERROR($E110*SUMIF('Daily Log'!#REF!,$B110,'Daily Log'!#REF!),0)","v":0},{"$f":"IFERROR($E110*SUMIF('Daily Log'!$C$18:$C$1017,$B110,'Daily Log'!$D$18:$D$1017),0)","v":0},{"$f":"IFERROR($E110*SUMIF('Daily Log'!$F$18:$F$1017,$B110,'Daily Log'!$G$18:$G$1017),0)","v":0},{"$f":"IFERROR($E110*SUMIF('Daily Log'!$I$18:$I$1017,$B110,'Daily Log'!$J$18:$J$1017),0)","v":1},{"$f":"IFERROR($E110*SUMIF('Daily Log'!$L$18:$L$1017,$B110,'Daily Log'!$M$18:$M$1017),0)","v":6},{"$f":"IFERROR($E110*SUMIF('Daily Log'!$O$18:$O$1017,$B110,'Daily Log'!$P$18:$P$1017),0)","v":0},{"$f":"IFERROR($E110*SUMIF('Daily Log'!$R$18:$R$1017,$B110,'Daily Log'!$S$18:$S$1017),0)","v":0},{"$f":"IFERROR($E110*SUMIF('Daily Log'!$U$18:$U$1017,$B110,'Daily Log'!$V$18:$V$1017),0)","v":0},{"$f":"IFERROR($E110*SUMIF('Daily Log'!#REF!,$B110,'Daily Log'!#REF!),0)","v":0},{"$f":"IFERROR($E110*SUMIF('Daily Log'!#REF!,$B110,'Daily Log'!#REF!),0)","v":0},{"$f":"IFERROR($E110*SUMIF('Daily Log'!#REF!,$B110,'Daily Log'!#REF!),0)","v":0},{"$f":"IFERROR($E110*SUMIF('Daily Log'!#REF!,$B110,'Daily Log'!#REF!),0)","v":0},{"$f":"IFERROR($E110*SUMIF('Daily Log'!#REF!,$B110,'Daily Log'!#REF!),0)","v":0}]
[null,"CJ03 KIWI SO",null,"FFD-COLD BEVERAGE",1,0,{"$f":"IFERROR($E111*SUMIF('Daily Log'!#REF!,$B111,'Daily Log'!#REF!),0)","v":0},{"$f":"IFERROR($E111*SUMIF('Daily Log'!#REF!,$B111,'Daily Log'!#REF!),0)","v":0},{"$f":"IFERROR($E111*SUMIF('Daily Log'!#REF!,$B111,'Daily Log'!#REF!),0)","v":0},{"$f":"IFERROR($E111*SUMIF('Daily Log'!#REF!,$B111,'Daily Log'!#REF!),0)","v":0},{"$f":"IFERROR($E111*SUMIF('Daily Log'!#REF!,$B111,'Daily Log'!#REF!),0)","v":0},{"$f":"IFERROR($E111*SUMIF('Daily Log'!#REF!,$B111,'Daily Log'!#REF!),0)","v":0},{"$f":"IFERROR($E111*SUMIF('Daily Log'!#REF!,$B111,'Daily Log'!#REF!),0)","v":0},{"$f":"IFERROR($E111*SUMIF('Daily Log'!#REF!,$B111,'Daily Log'!#REF!),0)","v":0},{"$f":"IFERROR($E111*SUMIF('Daily Log'!#REF!,$B111,'Daily Log'!#REF!),0)","v":0},{"$f":"IFERROR($E111*SUMIF('Daily Log'!#REF!,$B111,'Daily Log'!#REF!),0)","v":0},{"$f":"IFERROR($E111*SUMIF('Daily Log'!#REF!,$B111,'Daily Log'!#REF!),0)","v":0},{"$f":"IFERROR($E111*SUMIF('Daily Log'!#REF!,$B111,'Daily Log'!#REF!),0)","v":0},{"$f":"IFERROR($E111*SUMIF('Daily Log'!#REF!,$B111,'Daily Log'!#REF!),0)","v":0},{"$f":"IFERROR($E111*SUMIF('Daily Log'!#REF!,$B111,'Daily Log'!#REF!),0)","v":0},{"$f":"IFERROR($E111*SUMIF('Daily Log'!#REF!,$B111,'Daily Log'!#REF!),0)","v":0},{"$f":"IFERROR($E111*SUMIF('Daily Log'!#REF!,$B111,'Daily Log'!#REF!),0)","v":0},{"$f":"IFERROR($E111*SUMIF('Daily Log'!#REF!,$B111,'Daily Log'!#REF!),0)","v":0},{"$f":"IFERROR($E111*SUMIF('Daily Log'!#REF!,$B111,'Daily Log'!#REF!),0)","v":0},{"$f":"IFERROR($E111*SUMIF('Daily Log'!#REF!,$B111,'Daily Log'!#REF!),0)","v":0},{"$f":"IFERROR($E111*SUMIF('Daily Log'!$C$18:$C$1017,$B111,'Daily Log'!$D$18:$D$1017),0)","v":0},{"$f":"IFERROR($E111*SUMIF('Daily Log'!$F$18:$F$1017,$B111,'Daily Log'!$G$18:$G$1017),0)","v":0},{"$f":"IFERROR($E111*SUMIF('Daily Log'!$I$18:$I$1017,$B111,'Daily Log'!$J$18:$J$1017),0)","v":0},{"$f":"IFERROR($E111*SUMIF('Daily Log'!$L$18:$L$1017,$B111,'Daily Log'!$M$18:$M$1017),0)","v":0},{"$f":"IFERROR($E111*SUMIF('Daily Log'!$O$18:$O$1017,$B111,'Daily Log'!$P$18:$P$1017),0)","v":0},{"$f":"IFERROR($E111*SUMIF('Daily Log'!$R$18:$R$1017,$B111,'Daily Log'!$S$18:$S$1017),0)","v":0},{"$f":"IFERROR($E111*SUMIF('Daily Log'!$U$18:$U$1017,$B111,'Daily Log'!$V$18:$V$1017),0)","v":0},{"$f":"IFERROR($E111*SUMIF('Daily Log'!#REF!,$B111,'Daily Log'!#REF!),0)","v":0},{"$f":"IFERROR($E111*SUMIF('Daily Log'!#REF!,$B111,'Daily Log'!#REF!),0)","v":0},{"$f":"IFERROR($E111*SUMIF('Daily Log'!#REF!,$B111,'Daily Log'!#REF!),0)","v":0},{"$f":"IFERROR($E111*SUMIF('Daily Log'!#REF!,$B111,'Daily Log'!#REF!),0)","v":0},{"$f":"IFERROR($E111*SUMIF('Daily Log'!#REF!,$B111,'Daily Log'!#REF!),0)","v":0}]
[null,"CJ04 MANGO SO",null,"FFD-COLD BEVERAGE",1,3,{"$f":"IFERROR($E112*SUMIF('Daily Log'!#REF!,$B112,'Daily Log'!#REF!),0)","v":0},{"$f":"IFERROR($E112*SUMIF('Daily Log'!#REF!,$B112,'Daily Log'!#REF!),0)","v":0},{"$f":"IFERROR($E112*SUMIF('Daily Log'!#REF!,$B112,'Daily Log'!#REF!),0)","v":0},{"$f":"IFERROR($E112*SUMIF('Daily Log'!#REF!,$B112,'Daily Log'!#REF!),0)","v":0},{"$f":"IFERROR($E112*SUMIF('Daily Log'!#REF!,$B112,'Daily Log'!#REF!),0)","v":0},{"$f":"IFERROR($E112*SUMIF('Daily Log'!#REF!,$B112,'Daily Log'!#REF!),0)","v":0},{"$f":"IFERROR($E112*SUMIF('Daily Log'!#REF!,$B112,'Daily Log'!#REF!),0)","v":0},{"$f":"IFERROR($E112*SUMIF('Daily Log'!#REF!,$B112,'Daily Log'!#REF!),0)","v":0},{"$f":"IFERROR($E112*SUMIF('Daily Log'!#REF!,$B112,'Daily Log'!#REF!),0)","v":0},{"$f":"IFERROR($E112*SUMIF('Daily Log'!#REF!,$B112,'Daily Log'!#REF!),0)","v":0},{"$f":"IFERROR($E112*SUMIF('Daily Log'!#REF!,$B112,'Daily Log'!#REF!),0)","v":0},{"$f":"IFERROR($E112*SUMIF('Daily Log'!#REF!,$B112,'Daily Log'!#REF!),0)","v":0},{"$f":"IFERROR($E112*SUMIF('Daily Log'!#REF!,$B112,'Daily Log'!#REF!),0)","v":0},{"$f":"IFERROR($E112*SUMIF('Daily Log'!#REF!,$B112,'Daily Log'!#REF!),0)","v":0},{"$f":"IFERROR($E112*SUMIF('Daily Log'!#REF!,$B112,'Daily Log'!#REF!),0)","v":0},{"$f":"IFERROR($E112*SUMIF('Daily Log'!#REF!,$B112,'Daily Log'!#REF!),0)","v":0},{"$f":"IFERROR($E112*SUMIF('Daily Log'!#REF!,$B112,'Daily Log'!#REF!),0)","v":0},{"$f":"IFERROR($E112*SUMIF('Daily Log'!#REF!,$B112,'Daily Log'!#REF!),0)","v":0},{"$f":"IFERROR($E112*SUMIF('Daily Log'!#REF!,$B112,'Daily Log'!#REF!),0)","v":0},{"$f":"IFERROR($E112*SUMIF('Daily Log'!$C$18:$C$1017,$B112,'Daily Log'!$D$18:$D$1017),0)","v":0},{"$f":"IFERROR($E112*SUMIF('Daily Log'!$F$18:$F$1017,$B112,'Daily Log'!$G$18:$G$1017),0)","v":3},{"$f":"IFERROR($E112*SUMIF('Daily Log'!$I$18:$I$1017,$B112,'Daily Log'!$J$18:$J$1017),0)","v":0},{"$f":"IFERROR($E112*SUMIF('Daily Log'!$L$18:$L$1017,$B112,'Daily Log'!$M$18:$M$1017),0)","v":0},{"$f":"IFERROR($E112*SUMIF('Daily Log'!$O$18:$O$1017,$B112,'Daily Log'!$P$18:$P$1017),0)","v":0},{"$f":"IFERROR($E112*SUMIF('Daily Log'!$R$18:$R$1017,$B112,'Daily Log'!$S$18:$S$1017),0)","v":0},{"$f":"IFERROR($E112*SUMIF('Daily Log'!$U$18:$U$1017,$B112,'Daily Log'!$V$18:$V$1017),0)","v":0},{"$f":"IFERROR($E112*SUMIF('Daily Log'!#REF!,$B112,'Daily Log'!#REF!),0)","v":0},{"$f":"IFERROR($E112*SUMIF('Daily Log'!#REF!,$B112,'Daily Log'!#REF!),0)","v":0},{"$f":"IFERROR($E112*SUMIF('Daily Log'!#REF!,$B112,'Daily Log'!#REF!),0)","v":0},{"$f":"IFERROR($E112*SUMIF('Daily Log'!#REF!,$B112,'Daily Log'!#REF!),0)","v":0},{"$f":"IFERROR($E112*SUMIF('Daily Log'!#REF!,$B112,'Daily Log'!#REF!),0)","v":0}]
[null,"CJ05 PASSION SO",null,"FFD-COLD BEVERAGE",1,5,{"$f":"IFERROR($E113*SUMIF('Daily Log'!#REF!,$B113,'Daily Log'!#REF!),0)","v":0},{"$f":"IFERROR($E113*SUMIF('Daily Log'!#REF!,$B113,'Daily Log'!#REF!),0)","v":0},{"$f":"IFERROR($E113*SUMIF('Daily Log'!#REF!,$B113,'Daily Log'!#REF!),0)","v":0},{"$f":"IFERROR($E113*SUMIF('Daily Log'!#REF!,$B113,'Daily Log'!#REF!),0)","v":0},{"$f":"IFERROR($E113*SUMIF('Daily Log'!#REF!,$B113,'Daily Log'!#REF!),0)","v":0},{"$f":"IFERROR($E113*SUMIF('Daily Log'!#REF!,$B113,'Daily Log'!#REF!),0)","v":0},{"$f":"IFERROR($E113*SUMIF('Daily Log'!#REF!,$B113,'Daily Log'!#REF!),0)","v":0},{"$f":"IFERROR($E113*SUMIF('Daily Log'!#REF!,$B113,'Daily Log'!#REF!),0)","v":0},{"$f":"IFERROR($E113*SUMIF('Daily Log'!#REF!,$B113,'Daily Log'!#REF!),0)","v":0},{"$f":"IFERROR($E113*SUMIF('Daily Log'!#REF!,$B113,'Daily Log'!#REF!),0)","v":0},{"$f":"IFERROR($E113*SUMIF('Daily Log'!#REF!,$B113,'Daily Log'!#REF!),0)","v":0},{"$f":"IFERROR($E113*SUMIF('Daily Log'!#REF!,$B113,'Daily Log'!#REF!),0)","v":0},{"$f":"IFERROR($E113*SUMIF('Daily Log'!#REF!,$B113,'Daily Log'!#REF!),0)","v":0},{"$f":"IFERROR($E113*SUMIF('Daily Log'!#REF!,$B113,'Daily Log'!#REF!),0)","v":0},{"$f":"IFERROR($E113*SUMIF('Daily Log'!#REF!,$B113,'Daily Log'!#REF!),0)","v":0},{"$f":"IFERROR($E113*SUMIF('Daily Log'!#REF!,$B113,'Daily Log'!#REF!),0)","v":0},{"$f":"IFERROR($E113*SUMIF('Daily Log'!#REF!,$B113,'Daily Log'!#REF!),0)","v":0},{"$f":"IFERROR($E113*SUMIF('Daily Log'!#REF!,$B113,'Daily Log'!#REF!),0)","v":0},{"$f":"IFERROR($E113*SUMIF('Daily Log'!#REF!,$B113,'Daily Log'!#REF!),0)","v":0},{"$f":"IFERROR($E113*SUMIF('Daily Log'!$C$18:$C$1017,$B113,'Daily Log'!$D$18:$D$1017),0)","v":0},{"$f":"IFERROR($E113*SUMIF('Daily Log'!$F$18:$F$1017,$B113,'Daily Log'!$G$18:$G$1017),0)","v":0},{"$f":"IFERROR($E113*SUMIF('Daily Log'!$I$18:$I$1017,$B113,'Daily Log'!$J$18:$J$1017),0)","v":1},{"$f":"IFERROR($E113*SUMIF('Daily Log'!$L$18:$L$1017,$B113,'Daily Log'!$M$18:$M$1017),0)","v":3},{"$f":"IFERROR($E113*SUMIF('Daily Log'!$O$18:$O$1017,$B113,'Daily Log'!$P$18:$P$1017),0)","v":0},{"$f":"IFERROR($E113*SUMIF('Daily Log'!$R$18:$R$1017,$B113,'Daily Log'!$S$18:$S$1017),0)","v":0},{"$f":"IFERROR($E113*SUMIF('Daily Log'!$U$18:$U$1017,$B113,'Daily Log'!$V$18:$V$1017),0)","v":1},{"$f":"IFERROR($E113*SUMIF('Daily Log'!#REF!,$B113,'Daily Log'!#REF!),0)","v":0},{"$f":"IFERROR($E113*SUMIF('Daily Log'!#REF!,$B113,'Daily Log'!#REF!),0)","v":0},{"$f":"IFERROR($E113*SUMIF('Daily Log'!#REF!,$B113,'Daily Log'!#REF!),0)","v":0},{"$f":"IFERROR($E113*SUMIF('Daily Log'!#REF!,$B113,'Daily Log'!#REF!),0)","v":0},{"$f":"IFERROR($E113*SUMIF('Daily Log'!#REF!,$B113,'Daily Log'!#REF!),0)","v":0}]
[null,"CJ06 RIBENA SO",null,"FFD-COLD BEVERAGE",1,18,{"$f":"IFERROR($E114*SUMIF('Daily Log'!#REF!,$B114,'Daily Log'!#REF!),0)","v":0},{"$f":"IFERROR($E114*SUMIF('Daily Log'!#REF!,$B114,'Daily Log'!#REF!),0)","v":0},{"$f":"IFERROR($E114*SUMIF('Daily Log'!#REF!,$B114,'Daily Log'!#REF!),0)","v":0},{"$f":"IFERROR($E114*SUMIF('Daily Log'!#REF!,$B114,'Daily Log'!#REF!),0)","v":0},{"$f":"IFERROR($E114*SUMIF('Daily Log'!#REF!,$B114,'Daily Log'!#REF!),0)","v":0},{"$f":"IFERROR($E114*SUMIF('Daily Log'!#REF!,$B114,'Daily Log'!#REF!),0)","v":0},{"$f":"IFERROR($E114*SUMIF('Daily Log'!#REF!,$B114,'Daily Log'!#REF!),0)","v":0},{"$f":"IFERROR($E114*SUMIF('Daily Log'!#REF!,$B114,'Daily Log'!#REF!),0)","v":0},{"$f":"IFERROR($E114*SUMIF('Daily Log'!#REF!,$B114,'Daily Log'!#REF!),0)","v":0},{"$f":"IFERROR($E114*SUMIF('Daily Log'!#REF!,$B114,'Daily Log'!#REF!),0)","v":0},{"$f":"IFERROR($E114*SUMIF('Daily Log'!#REF!,$B114,'Daily Log'!#REF!),0)","v":0},{"$f":"IFERROR($E114*SUMIF('Daily Log'!#REF!,$B114,'Daily Log'!#REF!),0)","v":0},{"$f":"IFERROR($E114*SUMIF('Daily Log'!#REF!,$B114,'Daily Log'!#REF!),0)","v":0},{"$f":"IFERROR($E114*SUMIF('Daily Log'!#REF!,$B114,'Daily Log'!#REF!),0)","v":0},{"$f":"IFERROR($E114*SUMIF('Daily Log'!#REF!,$B114,'Daily Log'!#REF!),0)","v":0},{"$f":"IFERROR($E114*SUMIF('Daily Log'!#REF!,$B114,'Daily Log'!#REF!),0)","v":0},{"$f":"IFERROR($E114*SUMIF('Daily Log'!#REF!,$B114,'Daily Log'!#REF!),0)","v":0},{"$f":"IFERROR($E114*SUMIF('Daily Log'!#REF!,$B114,'Daily Log'!#REF!),0)","v":0},{"$f":"IFERROR($E114*SUMIF('Daily Log'!#REF!,$B114,'Daily Log'!#REF!),0)","v":0},{"$f":"IFERROR($E114*SUMIF('Daily Log'!$C$18:$C$1017,$B114,'Daily Log'!$D$18:$D$1017),0)","v":0},{"$f":"IFERROR($E114*SUMIF('Daily Log'!$F$18:$F$1017,$B114,'Daily Log'!$G$18:$G$1017),0)","v":11},{"$f":"IFERROR($E114*SUMIF('Daily Log'!$I$18:$I$1017,$B114,'Daily Log'!$J$18:$J$1017),0)","v":1},{"$f":"IFERROR($E114*SUMIF('Daily Log'!$L$18:$L$1017,$B114,'Daily Log'!$M$18:$M$1017),0)","v":0},{"$f":"IFERROR($E114*SUMIF('Daily Log'!$O$18:$O$1017,$B114,'Daily Log'!$P$18:$P$1017),0)","v":0},{"$f":"IFERROR($E114*SUMIF('Daily Log'!$R$18:$R$1017,$B114,'Daily Log'!$S$18:$S$1017),0)","v":1},{"$f":"IFERROR($E114*SUMIF('Daily Log'!$U$18:$U$1017,$B114,'Daily Log'!$V$18:$V$1017),0)","v":5},{"$f":"IFERROR($E114*SUMIF('Daily Log'!#REF!,$B114,'Daily Log'!#REF!),0)","v":0},{"$f":"IFERROR($E114*SUMIF('Daily Log'!#REF!,$B114,'Daily Log'!#REF!),0)","v":0},{"$f":"IFERROR($E114*SUMIF('Daily Log'!#REF!,$B114,'Daily Log'!#REF!),0)","v":0},{"$f":"IFERROR($E114*SUMIF('Daily Log'!#REF!,$B114,'Daily Log'!#REF!),0)","v":0},{"$f":"IFERROR($E114*SUMIF('Daily Log'!#REF!,$B114,'Daily Log'!#REF!),0)","v":0}]
[null,"CL01 7 UP",null,"FFD-COLD BEVERAGE",1,124,{"$f":"IFERROR($E115*SUMIF('Daily Log'!#REF!,$B115,'Daily Log'!#REF!),0)","v":0},{"$f":"IFERROR($E115*SUMIF('Daily Log'!#REF!,$B115,'Daily Log'!#REF!),0)","v":0},{"$f":"IFERROR($E115*SUMIF('Daily Log'!#REF!,$B115,'Daily Log'!#REF!),0)","v":0},{"$f":"IFERROR($E115*SUMIF('Daily Log'!#REF!,$B115,'Daily Log'!#REF!),0)","v":0},{"$f":"IFERROR($E115*SUMIF('Daily Log'!#REF!,$B115,'Daily Log'!#REF!),0)","v":0},{"$f":"IFERROR($E115*SUMIF('Daily Log'!#REF!,$B115,'Daily Log'!#REF!),0)","v":0},{"$f":"IFERROR($E115*SUMIF('Daily Log'!#REF!,$B115,'Daily Log'!#REF!),0)","v":0},{"$f":"IFERROR($E115*SUMIF('Daily Log'!#REF!,$B115,'Daily Log'!#REF!),0)","v":0},{"$f":"IFERROR($E115*SUMIF('Daily Log'!#REF!,$B115,'Daily Log'!#REF!),0)","v":0},{"$f":"IFERROR($E115*SUMIF('Daily Log'!#REF!,$B115,'Daily Log'!#REF!),0)","v":0},{"$f":"IFERROR($E115*SUMIF('Daily Log'!#REF!,$B115,'Daily Log'!#REF!),0)","v":0},{"$f":"IFERROR($E115*SUMIF('Daily Log'!#REF!,$B115,'Daily Log'!#REF!),0)","v":0},{"$f":"IFERROR($E115*SUMIF('Daily Log'!#REF!,$B115,'Daily Log'!#REF!),0)","v":0},{"$f":"IFERROR($E115*SUMIF('Daily Log'!#REF!,$B115,'Daily Log'!#REF!),0)","v":0},{"$f":"IFERROR($E115*SUMIF('Daily Log'!#REF!,$B115,'Daily Log'!#REF!),0)","v":0},{"$f":"IFERROR($E115*SUMIF('Daily Log'!#REF!,$B115,'Daily Log'!#REF!),0)","v":0},{"$f":"IFERROR($E115*SUMIF('Daily Log'!#REF!,$B115,'Daily Log'!#REF!),0)","v":0},{"$f":"IFERROR($E115*SUMIF('Daily Log'!#REF!,$B115,'Daily Log'!#REF!),0)","v":0},{"$f":"IFERROR($E115*SUMIF('Daily Log'!#REF!,$B115,'Daily Log'!#REF!),0)","v":0},{"$f":"IFERROR($E115*SUMIF('Daily Log'!$C$18:$C$1017,$B115,'Daily Log'!$D$18:$D$1017),0)","v":7},{"$f":"IFERROR($E115*SUMIF('Daily Log'!$F$18:$F$1017,$B115,'Daily Log'!$G$18:$G$1017),0)","v":17},{"$f":"IFERROR($E115*SUMIF('Daily Log'!$I$18:$I$1017,$B115,'Daily Log'!$J$18:$J$1017),0)","v":17},{"$f":"IFERROR($E115*SUMIF('Daily Log'!$L$18:$L$1017,$B115,'Daily Log'!$M$18:$M$1017),0)","v":22},{"$f":"IFERROR($E115*SUMIF('Daily Log'!$O$18:$O$1017,$B115,'Daily Log'!$P$18:$P$1017),0)","v":32},{"$f":"IFERROR($E115*SUMIF('Daily Log'!$R$18:$R$1017,$B115,'Daily Log'!$S$18:$S$1017),0)","v":16},{"$f":"IFERROR($E115*SUMIF('Daily Log'!$U$18:$U$1017,$B115,'Daily Log'!$V$18:$V$1017),0)","v":13},{"$f":"IFERROR($E115*SUMIF('Daily Log'!#REF!,$B115,'Daily Log'!#REF!),0)","v":0},{"$f":"IFERROR($E115*SUMIF('Daily Log'!#REF!,$B115,'Daily Log'!#REF!),0)","v":0},{"$f":"IFERROR($E115*SUMIF('Daily Log'!#REF!,$B115,'Daily Log'!#REF!),0)","v":0},{"$f":"IFERROR($E115*SUMIF('Daily Log'!#REF!,$B115,'Daily Log'!#REF!),0)","v":0},{"$f":"IFERROR($E115*SUMIF('Daily Log'!#REF!,$B115,'Daily Log'!#REF!),0)","v":0}]
[null,"CL02 7 UP REVIVE",null,"FFD-COLD BEVERAGE",1,54,{"$f":"IFERROR($E116*SUMIF('Daily Log'!#REF!,$B116,'Daily Log'!#REF!),0)","v":0},{"$f":"IFERROR($E116*SUMIF('Daily Log'!#REF!,$B116,'Daily Log'!#REF!),0)","v":0},{"$f":"IFERROR($E116*SUMIF('Daily Log'!#REF!,$B116,'Daily Log'!#REF!),0)","v":0},{"$f":"IFERROR($E116*SUMIF('Daily Log'!#REF!,$B116,'Daily Log'!#REF!),0)","v":0},{"$f":"IFERROR($E116*SUMIF('Daily Log'!#REF!,$B116,'Daily Log'!#REF!),0)","v":0},{"$f":"IFERROR($E116*SUMIF('Daily Log'!#REF!,$B116,'Daily Log'!#REF!),0)","v":0},{"$f":"IFERROR($E116*SUMIF('Daily Log'!#REF!,$B116,'Daily Log'!#REF!),0)","v":0},{"$f":"IFERROR($E116*SUMIF('Daily Log'!#REF!,$B116,'Daily Log'!#REF!),0)","v":0},{"$f":"IFERROR($E116*SUMIF('Daily Log'!#REF!,$B116,'Daily Log'!#REF!),0)","v":0},{"$f":"IFERROR($E116*SUMIF('Daily Log'!#REF!,$B116,'Daily Log'!#REF!),0)","v":0},{"$f":"IFERROR($E116*SUMIF('Daily Log'!#REF!,$B116,'Daily Log'!#REF!),0)","v":0},{"$f":"IFERROR($E116*SUMIF('Daily Log'!#REF!,$B116,'Daily Log'!#REF!),0)","v":0},{"$f":"IFERROR($E116*SUMIF('Daily Log'!#REF!,$B116,'Daily Log'!#REF!),0)","v":0},{"$f":"IFERROR($E116*SUMIF('Daily Log'!#REF!,$B116,'Daily Log'!#REF!),0)","v":0},{"$f":"IFERROR($E116*SUMIF('Daily Log'!#REF!,$B116,'Daily Log'!#REF!),0)","v":0},{"$f":"IFERROR($E116*SUMIF('Daily Log'!#REF!,$B116,'Daily Log'!#REF!),0)","v":0},{"$f":"IFERROR($E116*SUMIF('Daily Log'!#REF!,$B116,'Daily Log'!#REF!),0)","v":0},{"$f":"IFERROR($E116*SUMIF('Daily Log'!#REF!,$B116,'Daily Log'!#REF!),0)","v":0},{"$f":"IFERROR($E116*SUMIF('Daily Log'!#REF!,$B116,'Daily Log'!#REF!),0)","v":0},{"$f":"IFERROR($E116*SUMIF('Daily Log'!$C$18:$C$1017,$B116,'Daily Log'!$D$18:$D$1017),0)","v":3},{"$f":"IFERROR($E116*SUMIF('Daily Log'!$F$18:$F$1017,$B116,'Daily Log'!$G$18:$G$1017),0)","v":6},{"$f":"IFERROR($E116*SUMIF('Daily Log'!$I$18:$I$1017,$B116,'Daily Log'!$J$18:$J$1017),0)","v":1},{"$f":"IFERROR($E116*SUMIF('Daily Log'!$L$18:$L$1017,$B116,'Daily Log'!$M$18:$M$1017),0)","v":12},{"$f":"IFERROR($E116*SUMIF('Daily Log'!$O$18:$O$1017,$B116,'Daily Log'!$P$18:$P$1017),0)","v":11},{"$f":"IFERROR($E116*SUMIF('Daily Log'!$R$18:$R$1017,$B116,'Daily Log'!$S$18:$S$1017),0)","v":6},{"$f":"IFERROR($E116*SUMIF('Daily Log'!$U$18:$U$1017,$B116,'Daily Log'!$V$18:$V$1017),0)","v":15},{"$f":"IFERROR($E116*SUMIF('Daily Log'!#REF!,$B116,'Daily Log'!#REF!),0)","v":0},{"$f":"IFERROR($E116*SUMIF('Daily Log'!#REF!,$B116,'Daily Log'!#REF!),0)","v":0},{"$f":"IFERROR($E116*SUMIF('Daily Log'!#REF!,$B116,'Daily Log'!#REF!),0)","v":0},{"$f":"IFERROR($E116*SUMIF('Daily Log'!#REF!,$B116,'Daily Log'!#REF!),0)","v":0},{"$f":"IFERROR($E116*SUMIF('Daily Log'!#REF!,$B116,'Daily Log'!#REF!),0)","v":0}]
[null,"CL03 PEPSI",null,"FFD-COLD BEVERAGE",1,609,{"$f":"IFERROR($E117*SUMIF('Daily Log'!#REF!,$B117,'Daily Log'!#REF!),0)","v":0},{"$f":"IFERROR($E117*SUMIF('Daily Log'!#REF!,$B117,'Daily Log'!#REF!),0)","v":0},{"$f":"IFERROR($E117*SUMIF('Daily Log'!#REF!,$B117,'Daily Log'!#REF!),0)","v":0},{"$f":"IFERROR($E117*SUMIF('Daily Log'!#REF!,$B117,'Daily Log'!#REF!),0)","v":0},{"$f":"IFERROR($E117*SUMIF('Daily Log'!#REF!,$B117,'Daily Log'!#REF!),0)","v":0},{"$f":"IFERROR($E117*SUMIF('Daily Log'!#REF!,$B117,'Daily Log'!#REF!),0)","v":0},{"$f":"IFERROR($E117*SUMIF('Daily Log'!#REF!,$B117,'Daily Log'!#REF!),0)","v":0},{"$f":"IFERROR($E117*SUMIF('Daily Log'!#REF!,$B117,'Daily Log'!#REF!),0)","v":0},{"$f":"IFERROR($E117*SUMIF('Daily Log'!#REF!,$B117,'Daily Log'!#REF!),0)","v":0},{"$f":"IFERROR($E117*SUMIF('Daily Log'!#REF!,$B117,'Daily Log'!#REF!),0)","v":0},{"$f":"IFERROR($E117*SUMIF('Daily Log'!#REF!,$B117,'Daily Log'!#REF!),0)","v":0},{"$f":"IFERROR($E117*SUMIF('Daily Log'!#REF!,$B117,'Daily Log'!#REF!),0)","v":0},{"$f":"IFERROR($E117*SUMIF('Daily Log'!#REF!,$B117,'Daily Log'!#REF!),0)","v":0},{"$f":"IFERROR($E117*SUMIF('Daily Log'!#REF!,$B117,'Daily Log'!#REF!),0)","v":0},{"$f":"IFERROR($E117*SUMIF('Daily Log'!#REF!,$B117,'Daily Log'!#REF!),0)","v":0},{"$f":"IFERROR($E117*SUMIF('Daily Log'!#REF!,$B117,'Daily Log'!#REF!),0)","v":0},{"$f":"IFERROR($E117*SUMIF('Daily Log'!#REF!,$B117,'Daily Log'!#REF!),0)","v":0},{"$f":"IFERROR($E117*SUMIF('Daily Log'!#REF!,$B117,'Daily Log'!#REF!),0)","v":0},{"$f":"IFERROR($E117*SUMIF('Daily Log'!#REF!,$B117,'Daily Log'!#REF!),0)","v":0},{"$f":"IFERROR($E117*SUMIF('Daily Log'!$C$18:$C$1017,$B117,'Daily Log'!$D$18:$D$1017),0)","v":95},{"$f":"IFERROR($E117*SUMIF('Daily Log'!$F$18:$F$1017,$B117,'Daily Log'!$G$18:$G$1017),0)","v":40},{"$f":"IFERROR($E117*SUMIF('Daily Log'!$I$18:$I$1017,$B117,'Daily Log'!$J$18:$J$1017),0)","v":90},{"$f":"IFERROR($E117*SUMIF('Daily Log'!$L$18:$L$1017,$B117,'Daily Log'!$M$18:$M$1017),0)","v":105},{"$f":"IFERROR($E117*SUMIF('Daily Log'!$O$18:$O$1017,$B117,'Daily Log'!$P$18:$P$1017),0)","v":97},{"$f":"IFERROR($E117*SUMIF('Daily Log'!$R$18:$R$1017,$B117,'Daily Log'!$S$18:$S$1017),0)","v":112},{"$f":"IFERROR($E117*SUMIF('Daily Log'!$U$18:$U$1017,$B117,'Daily Log'!$V$18:$V$1017),0)","v":70},{"$f":"IFERROR($E117*SUMIF('Daily Log'!#REF!,$B117,'Daily Log'!#REF!),0)","v":0},{"$f":"IFERROR($E117*SUMIF('Daily Log'!#REF!,$B117,'Daily Log'!#REF!),0)","v":0},{"$f":"IFERROR($E117*SUMIF('Daily Log'!#REF!,$B117,'Daily Log'!#REF!),0)","v":0},{"$f":"IFERROR($E117*SUMIF('Daily Log'!#REF!,$B117,'Daily Log'!#REF!),0)","v":0},{"$f":"IFERROR($E117*SUMIF('Daily Log'!#REF!,$B117,'Daily Log'!#REF!),0)","v":0}]
[null,"CM01 MILO (C)",null,"FFD-COLD BEVERAGE",1,250,{"$f":"IFERROR($E118*SUMIF('Daily Log'!#REF!,$B118,'Daily Log'!#REF!),0)","v":0},{"$f":"IFERROR($E118*SUMIF('Daily Log'!#REF!,$B118,'Daily Log'!#REF!),0)","v":0},{"$f":"IFERROR($E118*SUMIF('Daily Log'!#REF!,$B118,'Daily Log'!#REF!),0)","v":0},{"$f":"IFERROR($E118*SUMIF('Daily Log'!#REF!,$B118,'Daily Log'!#REF!),0)","v":0},{"$f":"IFERROR($E118*SUMIF('Daily Log'!#REF!,$B118,'Daily Log'!#REF!),0)","v":0},{"$f":"IFERROR($E118*SUMIF('Daily Log'!#REF!,$B118,'Daily Log'!#REF!),0)","v":0},{"$f":"IFERROR($E118*SUMIF('Daily Log'!#REF!,$B118,'Daily Log'!#REF!),0)","v":0},{"$f":"IFERROR($E118*SUMIF('Daily Log'!#REF!,$B118,'Daily Log'!#REF!),0)","v":0},{"$f":"IFERROR($E118*SUMIF('Daily Log'!#REF!,$B118,'Daily Log'!#REF!),0)","v":0},{"$f":"IFERROR($E118*SUMIF('Daily Log'!#REF!,$B118,'Daily Log'!#REF!),0)","v":0},{"$f":"IFERROR($E118*SUMIF('Daily Log'!#REF!,$B118,'Daily Log'!#REF!),0)","v":0},{"$f":"IFERROR($E118*SUMIF('Daily Log'!#REF!,$B118,'Daily Log'!#REF!),0)","v":0},{"$f":"IFERROR($E118*SUMIF('Daily Log'!#REF!,$B118,'Daily Log'!#REF!),0)","v":0},{"$f":"IFERROR($E118*SUMIF('Daily Log'!#REF!,$B118,'Daily Log'!#REF!),0)","v":0},{"$f":"IFERROR($E118*SUMIF('Daily Log'!#REF!,$B118,'Daily Log'!#REF!),0)","v":0},{"$f":"IFERROR($E118*SUMIF('Daily Log'!#REF!,$B118,'Daily Log'!#REF!),0)","v":0},{"$f":"IFERROR($E118*SUMIF('Daily Log'!#REF!,$B118,'Daily Log'!#REF!),0)","v":0},{"$f":"IFERROR($E118*SUMIF('Daily Log'!#REF!,$B118,'Daily Log'!#REF!),0)","v":0},{"$f":"IFERROR($E118*SUMIF('Daily Log'!#REF!,$B118,'Daily Log'!#REF!),0)","v":0},{"$f":"IFERROR($E118*SUMIF('Daily Log'!$C$18:$C$1017,$B118,'Daily Log'!$D$18:$D$1017),0)","v":33},{"$f":"IFERROR($E118*SUMIF('Daily Log'!$F$18:$F$1017,$B118,'Daily Log'!$G$18:$G$1017),0)","v":41},{"$f":"IFERROR($E118*SUMIF('Daily Log'!$I$18:$I$1017,$B118,'Daily Log'!$J$18:$J$1017),0)","v":36},{"$f":"IFERROR($E118*SUMIF('Daily Log'!$L$18:$L$1017,$B118,'Daily Log'!$M$18:$M$1017),0)","v":35},{"$f":"IFERROR($E118*SUMIF('Daily Log'!$O$18:$O$1017,$B118,'Daily Log'!$P$18:$P$1017),0)","v":27},{"$f":"IFERROR($E118*SUMIF('Daily Log'!$R$18:$R$1017,$B118,'Daily Log'!$S$18:$S$1017),0)","v":34},{"$f":"IFERROR($E118*SUMIF('Daily Log'!$U$18:$U$1017,$B118,'Daily Log'!$V$18:$V$1017),0)","v":44},{"$f":"IFERROR($E118*SUMIF('Daily Log'!#REF!,$B118,'Daily Log'!#REF!),0)","v":0},{"$f":"IFERROR($E118*SUMIF('Daily Log'!#REF!,$B118,'Daily Log'!#REF!),0)","v":0},{"$f":"IFERROR($E118*SUMIF('Daily Log'!#REF!,$B118,'Daily Log'!#REF!),0)","v":0},{"$f":"IFERROR($E118*SUMIF('Daily Log'!#REF!,$B118,'Daily Log'!#REF!),0)","v":0},{"$f":"IFERROR($E118*SUMIF('Daily Log'!#REF!,$B118,'Daily Log'!#REF!),0)","v":0}]
[null,"CM02 NESCAFE (C)",null,"FFD-COLD BEVERAGE",1,87,{"$f":"IFERROR($E119*SUMIF('Daily Log'!#REF!,$B119,'Daily Log'!#REF!),0)","v":0},{"$f":"IFERROR($E119*SUMIF('Daily Log'!#REF!,$B119,'Daily Log'!#REF!),0)","v":0},{"$f":"IFERROR($E119*SUMIF('Daily Log'!#REF!,$B119,'Daily Log'!#REF!),0)","v":0},{"$f":"IFERROR($E119*SUMIF('Daily Log'!#REF!,$B119,'Daily Log'!#REF!),0)","v":0},{"$f":"IFERROR($E119*SUMIF('Daily Log'!#REF!,$B119,'Daily Log'!#REF!),0)","v":0},{"$f":"IFERROR($E119*SUMIF('Daily Log'!#REF!,$B119,'Daily Log'!#REF!),0)","v":0},{"$f":"IFERROR($E119*SUMIF('Daily Log'!#REF!,$B119,'Daily Log'!#REF!),0)","v":0},{"$f":"IFERROR($E119*SUMIF('Daily Log'!#REF!,$B119,'Daily Log'!#REF!),0)","v":0},{"$f":"IFERROR($E119*SUMIF('Daily Log'!#REF!,$B119,'Daily Log'!#REF!),0)","v":0},{"$f":"IFERROR($E119*SUMIF('Daily Log'!#REF!,$B119,'Daily Log'!#REF!),0)","v":0},{"$f":"IFERROR($E119*SUMIF('Daily Log'!#REF!,$B119,'Daily Log'!#REF!),0)","v":0},{"$f":"IFERROR($E119*SUMIF('Daily Log'!#REF!,$B119,'Daily Log'!#REF!),0)","v":0},{"$f":"IFERROR($E119*SUMIF('Daily Log'!#REF!,$B119,'Daily Log'!#REF!),0)","v":0},{"$f":"IFERROR($E119*SUMIF('Daily Log'!#REF!,$B119,'Daily Log'!#REF!),0)","v":0},{"$f":"IFERROR($E119*SUMIF('Daily Log'!#REF!,$B119,'Daily Log'!#REF!),0)","v":0},{"$f":"IFERROR($E119*SUMIF('Daily Log'!#REF!,$B119,'Daily Log'!#REF!),0)","v":0},{"$f":"IFERROR($E119*SUMIF('Daily Log'!#REF!,$B119,'Daily Log'!#REF!),0)","v":0},{"$f":"IFERROR($E119*SUMIF('Daily Log'!#REF!,$B119,'Daily Log'!#REF!),0)","v":0},{"$f":"IFERROR($E119*SUMIF('Daily Log'!#REF!,$B119,'Daily Log'!#REF!),0)","v":0},{"$f":"IFERROR($E119*SUMIF('Daily Log'!$C$18:$C$1017,$B119,'Daily Log'!$D$18:$D$1017),0)","v":10},{"$f":"IFERROR($E119*SUMIF('Daily Log'!$F$18:$F$1017,$B119,'Daily Log'!$G$18:$G$1017),0)","v":13},{"$f":"IFERROR($E119*SUMIF('Daily Log'!$I$18:$I$1017,$B119,'Daily Log'!$J$18:$J$1017),0)","v":14},{"$f":"IFERROR($E119*SUMIF('Daily Log'!$L$18:$L$1017,$B119,'Daily Log'!$M$18:$M$1017),0)","v":11},{"$f":"IFERROR($E119*SUMIF('Daily Log'!$O$18:$O$1017,$B119,'Daily Log'!$P$18:$P$1017),0)","v":10},{"$f":"IFERROR($E119*SUMIF('Daily Log'!$R$18:$R$1017,$B119,'Daily Log'!$S$18:$S$1017),0)","v":13},{"$f":"IFERROR($E119*SUMIF('Daily Log'!$U$18:$U$1017,$B119,'Daily Log'!$V$18:$V$1017),0)","v":16},{"$f":"IFERROR($E119*SUMIF('Daily Log'!#REF!,$B119,'Daily Log'!#REF!),0)","v":0},{"$f":"IFERROR($E119*SUMIF('Daily Log'!#REF!,$B119,'Daily Log'!#REF!),0)","v":0},{"$f":"IFERROR($E119*SUMIF('Daily Log'!#REF!,$B119,'Daily Log'!#REF!),0)","v":0},{"$f":"IFERROR($E119*SUMIF('Daily Log'!#REF!,$B119,'Daily Log'!#REF!),0)","v":0},{"$f":"IFERROR($E119*SUMIF('Daily Log'!#REF!,$B119,'Daily Log'!#REF!),0)","v":0}]
[null,"CM03 TEA (C)",null,"FFD-COLD BEVERAGE",1,18,{"$f":"IFERROR($E120*SUMIF('Daily Log'!#REF!,$B120,'Daily Log'!#REF!),0)","v":0},{"$f":"IFERROR($E120*SUMIF('Daily Log'!#REF!,$B120,'Daily Log'!#REF!),0)","v":0},{"$f":"IFERROR($E120*SUMIF('Daily Log'!#REF!,$B120,'Daily Log'!#REF!),0)","v":0},{"$f":"IFERROR($E120*SUMIF('Daily Log'!#REF!,$B120,'Daily Log'!#REF!),0)","v":0},{"$f":"IFERROR($E120*SUMIF('Daily Log'!#REF!,$B120,'Daily Log'!#REF!),0)","v":0},{"$f":"IFERROR($E120*SUMIF('Daily Log'!#REF!,$B120,'Daily Log'!#REF!),0)","v":0},{"$f":"IFERROR($E120*SUMIF('Daily Log'!#REF!,$B120,'Daily Log'!#REF!),0)","v":0},{"$f":"IFERROR($E120*SUMIF('Daily Log'!#REF!,$B120,'Daily Log'!#REF!),0)","v":0},{"$f":"IFERROR($E120*SUMIF('Daily Log'!#REF!,$B120,'Daily Log'!#REF!),0)","v":0},{"$f":"IFERROR($E120*SUMIF('Daily Log'!#REF!,$B120,'Daily Log'!#REF!),0)","v":0},{"$f":"IFERROR($E120*SUMIF('Daily Log'!#REF!,$B120,'Daily Log'!#REF!),0)","v":0},{"$f":"IFERROR($E120*SUMIF('Daily Log'!#REF!,$B120,'Daily Log'!#REF!),0)","v":0},{"$f":"IFERROR($E120*SUMIF('Daily Log'!#REF!,$B120,'Daily Log'!#REF!),0)","v":0},{"$f":"IFERROR($E120*SUMIF('Daily Log'!#REF!,$B120,'Daily Log'!#REF!),0)","v":0},{"$f":"IFERROR($E120*SUMIF('Daily Log'!#REF!,$B120,'Daily Log'!#REF!),0)","v":0},{"$f":"IFERROR($E120*SUMIF('Daily Log'!#REF!,$B120,'Daily Log'!#REF!),0)","v":0},{"$f":"IFERROR($E120*SUMIF('Daily Log'!#REF!,$B120,'Daily Log'!#REF!),0)","v":0},{"$f":"IFERROR($E120*SUMIF('Daily Log'!#REF!,$B120,'Daily Log'!#REF!),0)","v":0},{"$f":"IFERROR($E120*SUMIF('Daily Log'!#REF!,$B120,'Daily Log'!#REF!),0)","v":0},{"$f":"IFERROR($E120*SUMIF('Daily Log'!$C$18:$C$1017,$B120,'Daily Log'!$D$18:$D$1017),0)","v":3},{"$f":"IFERROR($E120*SUMIF('Daily Log'!$F$18:$F$1017,$B120,'Daily Log'!$G$18:$G$1017),0)","v":0},{"$f":"IFERROR($E120*SUMIF('Daily Log'!$I$18:$I$1017,$B120,'Daily Log'!$J$18:$J$1017),0)","v":1},{"$f":"IFERROR($E120*SUMIF('Daily Log'!$L$18:$L$1017,$B120,'Daily Log'!$M$18:$M$1017),0)","v":5},{"$f":"IFERROR($E120*SUMIF('Daily Log'!$O$18:$O$1017,$B120,'Daily Log'!$P$18:$P$1017),0)","v":3},{"$f":"IFERROR($E120*SUMIF('Daily Log'!$R$18:$R$1017,$B120,'Daily Log'!$S$18:$S$1017),0)","v":3},{"$f":"IFERROR($E120*SUMIF('Daily Log'!$U$18:$U$1017,$B120,'Daily Log'!$V$18:$V$1017),0)","v":3},{"$f":"IFERROR($E120*SUMIF('Daily Log'!#REF!,$B120,'Daily Log'!#REF!),0)","v":0},{"$f":"IFERROR($E120*SUMIF('Daily Log'!#REF!,$B120,'Daily Log'!#REF!),0)","v":0},{"$f":"IFERROR($E120*SUMIF('Daily Log'!#REF!,$B120,'Daily Log'!#REF!),0)","v":0},{"$f":"IFERROR($E120*SUMIF('Daily Log'!#REF!,$B120,'Daily Log'!#REF!),0)","v":0},{"$f":"IFERROR($E120*SUMIF('Daily Log'!#REF!,$B120,'Daily Log'!#REF!),0)","v":0}]
[null,"CM04 LEMON TEA (C)",null,"FFD-COLD BEVERAGE",1,588,{"$f":"IFERROR($E121*SUMIF('Daily Log'!#REF!,$B121,'Daily Log'!#REF!),0)","v":0},{"$f":"IFERROR($E121*SUMIF('Daily Log'!#REF!,$B121,'Daily Log'!#REF!),0)","v":0},{"$f":"IFERROR($E121*SUMIF('Daily Log'!#REF!,$B121,'Daily Log'!#REF!),0)","v":0},{"$f":"IFERROR($E121*SUMIF('Daily Log'!#REF!,$B121,'Daily Log'!#REF!),0)","v":0},{"$f":"IFERROR($E121*SUMIF('Daily Log'!#REF!,$B121,'Daily Log'!#REF!),0)","v":0},{"$f":"IFERROR($E121*SUMIF('Daily Log'!#REF!,$B121,'Daily Log'!#REF!),0)","v":0},{"$f":"IFERROR($E121*SUMIF('Daily Log'!#REF!,$B121,'Daily Log'!#REF!),0)","v":0},{"$f":"IFERROR($E121*SUMIF('Daily Log'!#REF!,$B121,'Daily Log'!#REF!),0)","v":0},{"$f":"IFERROR($E121*SUMIF('Daily Log'!#REF!,$B121,'Daily Log'!#REF!),0)","v":0},{"$f":"IFERROR($E121*SUMIF('Daily Log'!#REF!,$B121,'Daily Log'!#REF!),0)","v":0},{"$f":"IFERROR($E121*SUMIF('Daily Log'!#REF!,$B121,'Daily Log'!#REF!),0)","v":0},{"$f":"IFERROR($E121*SUMIF('Daily Log'!#REF!,$B121,'Daily Log'!#REF!),0)","v":0},{"$f":"IFERROR($E121*SUMIF('Daily Log'!#REF!,$B121,'Daily Log'!#REF!),0)","v":0},{"$f":"IFERROR($E121*SUMIF('Daily Log'!#REF!,$B121,'Daily Log'!#REF!),0)","v":0},{"$f":"IFERROR($E121*SUMIF('Daily Log'!#REF!,$B121,'Daily Log'!#REF!),0)","v":0},{"$f":"IFERROR($E121*SUMIF('Daily Log'!#REF!,$B121,'Daily Log'!#REF!),0)","v":0},{"$f":"IFERROR($E121*SUMIF('Daily Log'!#REF!,$B121,'Daily Log'!#REF!),0)","v":0},{"$f":"IFERROR($E121*SUMIF('Daily Log'!#REF!,$B121,'Daily Log'!#REF!),0)","v":0},{"$f":"IFERROR($E121*SUMIF('Daily Log'!#REF!,$B121,'Daily Log'!#REF!),0)","v":0},{"$f":"IFERROR($E121*SUMIF('Daily Log'!$C$18:$C$1017,$B121,'Daily Log'!$D$18:$D$1017),0)","v":68},{"$f":"IFERROR($E121*SUMIF('Daily Log'!$F$18:$F$1017,$B121,'Daily Log'!$G$18:$G$1017),0)","v":63},{"$f":"IFERROR($E121*SUMIF('Daily Log'!$I$18:$I$1017,$B121,'Daily Log'!$J$18:$J$1017),0)","v":69},{"$f":"IFERROR($E121*SUMIF('Daily Log'!$L$18:$L$1017,$B121,'Daily Log'!$M$18:$M$1017),0)","v":119},{"$f":"IFERROR($E121*SUMIF('Daily Log'!$O$18:$O$1017,$B121,'Daily Log'!$P$18:$P$1017),0)","v":66},{"$f":"IFERROR($E121*SUMIF('Daily Log'!$R$18:$R$1017,$B121,'Daily Log'!$S$18:$S$1017),0)","v":114},{"$f":"IFERROR($E121*SUMIF('Daily Log'!$U$18:$U$1017,$B121,'Daily Log'!$V$18:$V$1017),0)","v":89},{"$f":"IFERROR($E121*SUMIF('Daily Log'!#REF!,$B121,'Daily Log'!#REF!),0)","v":0},{"$f":"IFERROR($E121*SUMIF('Daily Log'!#REF!,$B121,'Daily Log'!#REF!),0)","v":0},{"$f":"IFERROR($E121*SUMIF('Daily Log'!#REF!,$B121,'Daily Log'!#REF!),0)","v":0},{"$f":"IFERROR($E121*SUMIF('Daily Log'!#REF!,$B121,'Daily Log'!#REF!),0)","v":0},{"$f":"IFERROR($E121*SUMIF('Daily Log'!#REF!,$B121,'Daily Log'!#REF!),0)","v":0}]
[null,"CM05 GRN TEA (C)",null,"FFD-COLD BEVERAGE",1,406,{"$f":"IFERROR($E122*SUMIF('Daily Log'!#REF!,$B122,'Daily Log'!#REF!),0)","v":0},{"$f":"IFERROR($E122*SUMIF('Daily Log'!#REF!,$B122,'Daily Log'!#REF!),0)","v":0},{"$f":"IFERROR($E122*SUMIF('Daily Log'!#REF!,$B122,'Daily Log'!#REF!),0)","v":0},{"$f":"IFERROR($E122*SUMIF('Daily Log'!#REF!,$B122,'Daily Log'!#REF!),0)","v":0},{"$f":"IFERROR($E122*SUMIF('Daily Log'!#REF!,$B122,'Daily Log'!#REF!),0)","v":0},{"$f":"IFERROR($E122*SUMIF('Daily Log'!#REF!,$B122,'Daily Log'!#REF!),0)","v":0},{"$f":"IFERROR($E122*SUMIF('Daily Log'!#REF!,$B122,'Daily Log'!#REF!),0)","v":0},{"$f":"IFERROR($E122*SUMIF('Daily Log'!#REF!,$B122,'Daily Log'!#REF!),0)","v":0},{"$f":"IFERROR($E122*SUMIF('Daily Log'!#REF!,$B122,'Daily Log'!#REF!),0)","v":0},{"$f":"IFERROR($E122*SUMIF('Daily Log'!#REF!,$B122,'Daily Log'!#REF!),0)","v":0},{"$f":"IFERROR($E122*SUMIF('Daily Log'!#REF!,$B122,'Daily Log'!#REF!),0)","v":0},{"$f":"IFERROR($E122*SUMIF('Daily Log'!#REF!,$B122,'Daily Log'!#REF!),0)","v":0},{"$f":"IFERROR($E122*SUMIF('Daily Log'!#REF!,$B122,'Daily Log'!#REF!),0)","v":0},{"$f":"IFERROR($E122*SUMIF('Daily Log'!#REF!,$B122,'Daily Log'!#REF!),0)","v":0},{"$f":"IFERROR($E122*SUMIF('Daily Log'!#REF!,$B122,'Daily Log'!#REF!),0)","v":0},{"$f":"IFERROR($E122*SUMIF('Daily Log'!#REF!,$B122,'Daily Log'!#REF!),0)","v":0},{"$f":"IFERROR($E122*SUMIF('Daily Log'!#REF!,$B122,'Daily Log'!#REF!),0)","v":0},{"$f":"IFERROR($E122*SUMIF('Daily Log'!#REF!,$B122,'Daily Log'!#REF!),0)","v":0},{"$f":"IFERROR($E122*SUMIF('Daily Log'!#REF!,$B122,'Daily Log'!#REF!),0)","v":0},{"$f":"IFERROR($E122*SUMIF('Daily Log'!$C$18:$C$1017,$B122,'Daily Log'!$D$18:$D$1017),0)","v":64},{"$f":"IFERROR($E122*SUMIF('Daily Log'!$F$18:$F$1017,$B122,'Daily Log'!$G$18:$G$1017),0)","v":54},{"$f":"IFERROR($E122*SUMIF('Daily Log'!$I$18:$I$1017,$B122,'Daily Log'!$J$18:$J$1017),0)","v":37},{"$f":"IFERROR($E122*SUMIF('Daily Log'!$L$18:$L$1017,$B122,'Daily Log'!$M$18:$M$1017),0)","v":75},{"$f":"IFERROR($E122*SUMIF('Daily Log'!$O$18:$O$1017,$B122,'Daily Log'!$P$18:$P$1017),0)","v":54},{"$f":"IFERROR($E122*SUMIF('Daily Log'!$R$18:$R$1017,$B122,'Daily Log'!$S$18:$S$1017),0)","v":63},{"$f":"IFERROR($E122*SUMIF('Daily Log'!$U$18:$U$1017,$B122,'Daily Log'!$V$18:$V$1017),0)","v":59},{"$f":"IFERROR($E122*SUMIF('Daily Log'!#REF!,$B122,'Daily Log'!#REF!),0)","v":0},{"$f":"IFERROR($E122*SUMIF('Daily Log'!#REF!,$B122,'Daily Log'!#REF!),0)","v":0},{"$f":"IFERROR($E122*SUMIF('Daily Log'!#REF!,$B122,'Daily Log'!#REF!),0)","v":0},{"$f":"IFERROR($E122*SUMIF('Daily Log'!#REF!,$B122,'Daily Log'!#REF!),0)","v":0},{"$f":"IFERROR($E122*SUMIF('Daily Log'!#REF!,$B122,'Daily Log'!#REF!),0)","v":0}]
[null,"CM06 HNY GRN TEA (C)",null,"FFD-COLD BEVERAGE",1,667,{"$f":"IFERROR($E123*SUMIF('Daily Log'!#REF!,$B123,'Daily Log'!#REF!),0)","v":0},{"$f":"IFERROR($E123*SUMIF('Daily Log'!#REF!,$B123,'Daily Log'!#REF!),0)","v":0},{"$f":"IFERROR($E123*SUMIF('Daily Log'!#REF!,$B123,'Daily Log'!#REF!),0)","v":0},{"$f":"IFERROR($E123*SUMIF('Daily Log'!#REF!,$B123,'Daily Log'!#REF!),0)","v":0},{"$f":"IFERROR($E123*SUMIF('Daily Log'!#REF!,$B123,'Daily Log'!#REF!),0)","v":0},{"$f":"IFERROR($E123*SUMIF('Daily Log'!#REF!,$B123,'Daily Log'!#REF!),0)","v":0},{"$f":"IFERROR($E123*SUMIF('Daily Log'!#REF!,$B123,'Daily Log'!#REF!),0)","v":0},{"$f":"IFERROR($E123*SUMIF('Daily Log'!#REF!,$B123,'Daily Log'!#REF!),0)","v":0},{"$f":"IFERROR($E123*SUMIF('Daily Log'!#REF!,$B123,'Daily Log'!#REF!),0)","v":0},{"$f":"IFERROR($E123*SUMIF('Daily Log'!#REF!,$B123,'Daily Log'!#REF!),0)","v":0},{"$f":"IFERROR($E123*SUMIF('Daily Log'!#REF!,$B123,'Daily Log'!#REF!),0)","v":0},{"$f":"IFERROR($E123*SUMIF('Daily Log'!#REF!,$B123,'Daily Log'!#REF!),0)","v":0},{"$f":"IFERROR($E123*SUMIF('Daily Log'!#REF!,$B123,'Daily Log'!#REF!),0)","v":0},{"$f":"IFERROR($E123*SUMIF('Daily Log'!#REF!,$B123,'Daily Log'!#REF!),0)","v":0},{"$f":"IFERROR($E123*SUMIF('Daily Log'!#REF!,$B123,'Daily Log'!#REF!),0)","v":0},{"$f":"IFERROR($E123*SUMIF('Daily Log'!#REF!,$B123,'Daily Log'!#REF!),0)","v":0},{"$f":"IFERROR($E123*SUMIF('Daily Log'!#REF!,$B123,'Daily Log'!#REF!),0)","v":0},{"$f":"IFERROR($E123*SUMIF('Daily Log'!#REF!,$B123,'Daily Log'!#REF!),0)","v":0},{"$f":"IFERROR($E123*SUMIF('Daily Log'!#REF!,$B123,'Daily Log'!#REF!),0)","v":0},{"$f":"IFERROR($E123*SUMIF('Daily Log'!$C$18:$C$1017,$B123,'Daily Log'!$D$18:$D$1017),0)","v":93},{"$f":"IFERROR($E123*SUMIF('Daily Log'!$F$18:$F$1017,$B123,'Daily Log'!$G$18:$G$1017),0)","v":75},{"$f":"IFERROR($E123*SUMIF('Daily Log'!$I$18:$I$1017,$B123,'Daily Log'!$J$18:$J$1017),0)","v":58},{"$f":"IFERROR($E123*SUMIF('Daily Log'!$L$18:$L$1017,$B123,'Daily Log'!$M$18:$M$1017),0)","v":99},{"$f":"IFERROR($E123*SUMIF('Daily Log'!$O$18:$O$1017,$B123,'Daily Log'!$P$18:$P$1017),0)","v":107},{"$f":"IFERROR($E123*SUMIF('Daily Log'!$R$18:$R$1017,$B123,'Daily Log'!$S$18:$S$1017),0)","v":120},{"$f":"IFERROR($E123*SUMIF('Daily Log'!$U$18:$U$1017,$B123,'Daily Log'!$V$18:$V$1017),0)","v":115},{"$f":"IFERROR($E123*SUMIF('Daily Log'!#REF!,$B123,'Daily Log'!#REF!),0)","v":0},{"$f":"IFERROR($E123*SUMIF('Daily Log'!#REF!,$B123,'Daily Log'!#REF!),0)","v":0},{"$f":"IFERROR($E123*SUMIF('Daily Log'!#REF!,$B123,'Daily Log'!#REF!),0)","v":0},{"$f":"IFERROR($E123*SUMIF('Daily Log'!#REF!,$B123,'Daily Log'!#REF!),0)","v":0},{"$f":"IFERROR($E123*SUMIF('Daily Log'!#REF!,$B123,'Daily Log'!#REF!),0)","v":0}]
[null,"CM07 HONEY (C)",null,"FFD-COLD BEVERAGE",1,145,{"$f":"IFERROR($E124*SUMIF('Daily Log'!#REF!,$B124,'Daily Log'!#REF!),0)","v":0},{"$f":"IFERROR($E124*SUMIF('Daily Log'!#REF!,$B124,'Daily Log'!#REF!),0)","v":0},{"$f":"IFERROR($E124*SUMIF('Daily Log'!#REF!,$B124,'Daily Log'!#REF!),0)","v":0},{"$f":"IFERROR($E124*SUMIF('Daily Log'!#REF!,$B124,'Daily Log'!#REF!),0)","v":0},{"$f":"IFERROR($E124*SUMIF('Daily Log'!#REF!,$B124,'Daily Log'!#REF!),0)","v":0},{"$f":"IFERROR($E124*SUMIF('Daily Log'!#REF!,$B124,'Daily Log'!#REF!),0)","v":0},{"$f":"IFERROR($E124*SUMIF('Daily Log'!#REF!,$B124,'Daily Log'!#REF!),0)","v":0},{"$f":"IFERROR($E124*SUMIF('Daily Log'!#REF!,$B124,'Daily Log'!#REF!),0)","v":0},{"$f":"IFERROR($E124*SUMIF('Daily Log'!#REF!,$B124,'Daily Log'!#REF!),0)","v":0},{"$f":"IFERROR($E124*SUMIF('Daily Log'!#REF!,$B124,'Daily Log'!#REF!),0)","v":0},{"$f":"IFERROR($E124*SUMIF('Daily Log'!#REF!,$B124,'Daily Log'!#REF!),0)","v":0},{"$f":"IFERROR($E124*SUMIF('Daily Log'!#REF!,$B124,'Daily Log'!#REF!),0)","v":0},{"$f":"IFERROR($E124*SUMIF('Daily Log'!#REF!,$B124,'Daily Log'!#REF!),0)","v":0},{"$f":"IFERROR($E124*SUMIF('Daily Log'!#REF!,$B124,'Daily Log'!#REF!),0)","v":0},{"$f":"IFERROR($E124*SUMIF('Daily Log'!#REF!,$B124,'Daily Log'!#REF!),0)","v":0},{"$f":"IFERROR($E124*SUMIF('Daily Log'!#REF!,$B124,'Daily Log'!#REF!),0)","v":0},{"$f":"IFERROR($E124*SUMIF('Daily Log'!#REF!,$B124,'Daily Log'!#REF!),0)","v":0},{"$f":"IFERROR($E124*SUMIF('Daily Log'!#REF!,$B124,'Daily Log'!#REF!),0)","v":0},{"$f":"IFERROR($E124*SUMIF('Daily Log'!#REF!,$B124,'Daily Log'!#REF!),0)","v":0},{"$f":"IFERROR($E124*SUMIF('Daily Log'!$C$18:$C$1017,$B124,'Daily Log'!$D$18:$D$1017),0)","v":26},{"$f":"IFERROR($E124*SUMIF('Daily Log'!$F$18:$F$1017,$B124,'Daily Log'!$G$18:$G$1017),0)","v":12},{"$f":"IFERROR($E124*SUMIF('Daily Log'!$I$18:$I$1017,$B124,'Daily Log'!$J$18:$J$1017),0)","v":20},{"$f":"IFERROR($E124*SUMIF('Daily Log'!$L$18:$L$1017,$B124,'Daily Log'!$M$18:$M$1017),0)","v":24},{"$f":"IFERROR($E124*SUMIF('Daily Log'!$O$18:$O$1017,$B124,'Daily Log'!$P$18:$P$1017),0)","v":26},{"$f":"IFERROR($E124*SUMIF('Daily Log'!$R$18:$R$1017,$B124,'Daily Log'!$S$18:$S$1017),0)","v":26},{"$f":"IFERROR($E124*SUMIF('Daily Log'!$U$18:$U$1017,$B124,'Daily Log'!$V$18:$V$1017),0)","v":11},{"$f":"IFERROR($E124*SUMIF('Daily Log'!#REF!,$B124,'Daily Log'!#REF!),0)","v":0},{"$f":"IFERROR($E124*SUMIF('Daily Log'!#REF!,$B124,'Daily Log'!#REF!),0)","v":0},{"$f":"IFERROR($E124*SUMIF('Daily Log'!#REF!,$B124,'Daily Log'!#REF!),0)","v":0},{"$f":"IFERROR($E124*SUMIF('Daily Log'!#REF!,$B124,'Daily Log'!#REF!),0)","v":0},{"$f":"IFERROR($E124*SUMIF('Daily Log'!#REF!,$B124,'Daily Log'!#REF!),0)","v":0}]
[null,"CM08 LEMON HONEY (C)",null,"FFD-COLD BEVERAGE",1,1162,{"$f":"IFERROR($E125*SUMIF('Daily Log'!#REF!,$B125,'Daily Log'!#REF!),0)","v":0},{"$f":"IFERROR($E125*SUMIF('Daily Log'!#REF!,$B125,'Daily Log'!#REF!),0)","v":0},{"$f":"IFERROR($E125*SUMIF('Daily Log'!#REF!,$B125,'Daily Log'!#REF!),0)","v":0},{"$f":"IFERROR($E125*SUMIF('Daily Log'!#REF!,$B125,'Daily Log'!#REF!),0)","v":0},{"$f":"IFERROR($E125*SUMIF('Daily Log'!#REF!,$B125,'Daily Log'!#REF!),0)","v":0},{"$f":"IFERROR($E125*SUMIF('Daily Log'!#REF!,$B125,'Daily Log'!#REF!),0)","v":0},{"$f":"IFERROR($E125*SUMIF('Daily Log'!#REF!,$B125,'Daily Log'!#REF!),0)","v":0},{"$f":"IFERROR($E125*SUMIF('Daily Log'!#REF!,$B125,'Daily Log'!#REF!),0)","v":0},{"$f":"IFERROR($E125*SUMIF('Daily Log'!#REF!,$B125,'Daily Log'!#REF!),0)","v":0},{"$f":"IFERROR($E125*SUMIF('Daily Log'!#REF!,$B125,'Daily Log'!#REF!),0)","v":0},{"$f":"IFERROR($E125*SUMIF('Daily Log'!#REF!,$B125,'Daily Log'!#REF!),0)","v":0},{"$f":"IFERROR($E125*SUMIF('Daily Log'!#REF!,$B125,'Daily Log'!#REF!),0)","v":0},{"$f":"IFERROR($E125*SUMIF('Daily Log'!#REF!,$B125,'Daily Log'!#REF!),0)","v":0},{"$f":"IFERROR($E125*SUMIF('Daily Log'!#REF!,$B125,'Daily Log'!#REF!),0)","v":0},{"$f":"IFERROR($E125*SUMIF('Daily Log'!#REF!,$B125,'Daily Log'!#REF!),0)","v":0},{"$f":"IFERROR($E125*SUMIF('Daily Log'!#REF!,$B125,'Daily Log'!#REF!),0)","v":0},{"$f":"IFERROR($E125*SUMIF('Daily Log'!#REF!,$B125,'Daily Log'!#REF!),0)","v":0},{"$f":"IFERROR($E125*SUMIF('Daily Log'!#REF!,$B125,'Daily Log'!#REF!),0)","v":0},{"$f":"IFERROR($E125*SUMIF('Daily Log'!#REF!,$B125,'Daily Log'!#REF!),0)","v":0},{"$f":"IFERROR($E125*SUMIF('Daily Log'!$C$18:$C$1017,$B125,'Daily Log'!$D$18:$D$1017),0)","v":134},{"$f":"IFERROR($E125*SUMIF('Daily Log'!$F$18:$F$1017,$B125,'Daily Log'!$G$18:$G$1017),0)","v":136},{"$f":"IFERROR($E125*SUMIF('Daily Log'!$I$18:$I$1017,$B125,'Daily Log'!$J$18:$J$1017),0)","v":109},{"$f":"IFERROR($E125*SUMIF('Daily Log'!$L$18:$L$1017,$B125,'Daily Log'!$M$18:$M$1017),0)","v":191},{"$f":"IFERROR($E125*SUMIF('Daily Log'!$O$18:$O$1017,$B125,'Daily Log'!$P$18:$P$1017),0)","v":229},{"$f":"IFERROR($E125*SUMIF('Daily Log'!$R$18:$R$1017,$B125,'Daily Log'!$S$18:$S$1017),0)","v":170},{"$f":"IFERROR($E125*SUMIF('Daily Log'!$U$18:$U$1017,$B125,'Daily Log'!$V$18:$V$1017),0)","v":193},{"$f":"IFERROR($E125*SUMIF('Daily Log'!#REF!,$B125,'Daily Log'!#REF!),0)","v":0},{"$f":"IFERROR($E125*SUMIF('Daily Log'!#REF!,$B125,'Daily Log'!#REF!),0)","v":0},{"$f":"IFERROR($E125*SUMIF('Daily Log'!#REF!,$B125,'Daily Log'!#REF!),0)","v":0},{"$f":"IFERROR($E125*SUMIF('Daily Log'!#REF!,$B125,'Daily Log'!#REF!),0)","v":0},{"$f":"IFERROR($E125*SUMIF('Daily Log'!#REF!,$B125,'Daily Log'!#REF!),0)","v":0}]
[null,"CN01 MILO (H)",null,"FFD-HOT BEVERAGE",1,200,{"$f":"IFERROR($E126*SUMIF('Daily Log'!#REF!,$B126,'Daily Log'!#REF!),0)","v":0},{"$f":"IFERROR($E126*SUMIF('Daily Log'!#REF!,$B126,'Daily Log'!#REF!),0)","v":0},{"$f":"IFERROR($E126*SUMIF('Daily Log'!#REF!,$B126,'Daily Log'!#REF!),0)","v":0},{"$f":"IFERROR($E126*SUMIF('Daily Log'!#REF!,$B126,'Daily Log'!#REF!),0)","v":0},{"$f":"IFERROR($E126*SUMIF('Daily Log'!#REF!,$B126,'Daily Log'!#REF!),0)","v":0},{"$f":"IFERROR($E126*SUMIF('Daily Log'!#REF!,$B126,'Daily Log'!#REF!),0)","v":0},{"$f":"IFERROR($E126*SUMIF('Daily Log'!#REF!,$B126,'Daily Log'!#REF!),0)","v":0},{"$f":"IFERROR($E126*SUMIF('Daily Log'!#REF!,$B126,'Daily Log'!#REF!),0)","v":0},{"$f":"IFERROR($E126*SUMIF('Daily Log'!#REF!,$B126,'Daily Log'!#REF!),0)","v":0},{"$f":"IFERROR($E126*SUMIF('Daily Log'!#REF!,$B126,'Daily Log'!#REF!),0)","v":0},{"$f":"IFERROR($E126*SUMIF('Daily Log'!#REF!,$B126,'Daily Log'!#REF!),0)","v":0},{"$f":"IFERROR($E126*SUMIF('Daily Log'!#REF!,$B126,'Daily Log'!#REF!),0)","v":0},{"$f":"IFERROR($E126*SUMIF('Daily Log'!#REF!,$B126,'Daily Log'!#REF!),0)","v":0},{"$f":"IFERROR($E126*SUMIF('Daily Log'!#REF!,$B126,'Daily Log'!#REF!),0)","v":0},{"$f":"IFERROR($E126*SUMIF('Daily Log'!#REF!,$B126,'Daily Log'!#REF!),0)","v":0},{"$f":"IFERROR($E126*SUMIF('Daily Log'!#REF!,$B126,'Daily Log'!#REF!),0)","v":0},{"$f":"IFERROR($E126*SUMIF('Daily Log'!#REF!,$B126,'Daily Log'!#REF!),0)","v":0},{"$f":"IFERROR($E126*SUMIF('Daily Log'!#REF!,$B126,'Daily Log'!#REF!),0)","v":0},{"$f":"IFERROR($E126*SUMIF('Daily Log'!#REF!,$B126,'Daily Log'!#REF!),0)","v":0},{"$f":"IFERROR($E126*SUMIF('Daily Log'!$C$18:$C$1017,$B126,'Daily Log'!$D$18:$D$1017),0)","v":14},{"$f":"IFERROR($E126*SUMIF('Daily Log'!$F$18:$F$1017,$B126,'Daily Log'!$G$18:$G$1017),0)","v":27},{"$f":"IFERROR($E126*SUMIF('Daily Log'!$I$18:$I$1017,$B126,'Daily Log'!$J$18:$J$1017),0)","v":23},{"$f":"IFERROR($E126*SUMIF('Daily Log'!$L$18:$L$1017,$B126,'Daily Log'!$M$18:$M$1017),0)","v":36},{"$f":"IFERROR($E126*SUMIF('Daily Log'!$O$18:$O$1017,$B126,'Daily Log'!$P$18:$P$1017),0)","v":22},{"$f":"IFERROR($E126*SUMIF('Daily Log'!$R$18:$R$1017,$B126,'Daily Log'!$S$18:$S$1017),0)","v":46},{"$f":"IFERROR($E126*SUMIF('Daily Log'!$U$18:$U$1017,$B126,'Daily Log'!$V$18:$V$1017),0)","v":32},{"$f":"IFERROR($E126*SUMIF('Daily Log'!#REF!,$B126,'Daily Log'!#REF!),0)","v":0},{"$f":"IFERROR($E126*SUMIF('Daily Log'!#REF!,$B126,'Daily Log'!#REF!),0)","v":0},{"$f":"IFERROR($E126*SUMIF('Daily Log'!#REF!,$B126,'Daily Log'!#REF!),0)","v":0},{"$f":"IFERROR($E126*SUMIF('Daily Log'!#REF!,$B126,'Daily Log'!#REF!),0)","v":0},{"$f":"IFERROR($E126*SUMIF('Daily Log'!#REF!,$B126,'Daily Log'!#REF!),0)","v":0}]
[null,"CN02 NESCAFE (H)",null,"FFD-HOT BEVERAGE",1,86,{"$f":"IFERROR($E127*SUMIF('Daily Log'!#REF!,$B127,'Daily Log'!#REF!),0)","v":0},{"$f":"IFERROR($E127*SUMIF('Daily Log'!#REF!,$B127,'Daily Log'!#REF!),0)","v":0},{"$f":"IFERROR($E127*SUMIF('Daily Log'!#REF!,$B127,'Daily Log'!#REF!),0)","v":0},{"$f":"IFERROR($E127*SUMIF('Daily Log'!#REF!,$B127,'Daily Log'!#REF!),0)","v":0},{"$f":"IFERROR($E127*SUMIF('Daily Log'!#REF!,$B127,'Daily Log'!#REF!),0)","v":0},{"$f":"IFERROR($E127*SUMIF('Daily Log'!#REF!,$B127,'Daily Log'!#REF!),0)","v":0},{"$f":"IFERROR($E127*SUMIF('Daily Log'!#REF!,$B127,'Daily Log'!#REF!),0)","v":0},{"$f":"IFERROR($E127*SUMIF('Daily Log'!#REF!,$B127,'Daily Log'!#REF!),0)","v":0},{"$f":"IFERROR($E127*SUMIF('Daily Log'!#REF!,$B127,'Daily Log'!#REF!),0)","v":0},{"$f":"IFERROR($E127*SUMIF('Daily Log'!#REF!,$B127,'Daily Log'!#REF!),0)","v":0},{"$f":"IFERROR($E127*SUMIF('Daily Log'!#REF!,$B127,'Daily Log'!#REF!),0)","v":0},{"$f":"IFERROR($E127*SUMIF('Daily Log'!#REF!,$B127,'Daily Log'!#REF!),0)","v":0},{"$f":"IFERROR($E127*SUMIF('Daily Log'!#REF!,$B127,'Daily Log'!#REF!),0)","v":0},{"$f":"IFERROR($E127*SUMIF('Daily Log'!#REF!,$B127,'Daily Log'!#REF!),0)","v":0},{"$f":"IFERROR($E127*SUMIF('Daily Log'!#REF!,$B127,'Daily Log'!#REF!),0)","v":0},{"$f":"IFERROR($E127*SUMIF('Daily Log'!#REF!,$B127,'Daily Log'!#REF!),0)","v":0},{"$f":"IFERROR($E127*SUMIF('Daily Log'!#REF!,$B127,'Daily Log'!#REF!),0)","v":0},{"$f":"IFERROR($E127*SUMIF('Daily Log'!#REF!,$B127,'Daily Log'!#REF!),0)","v":0},{"$f":"IFERROR($E127*SUMIF('Daily Log'!#REF!,$B127,'Daily Log'!#REF!),0)","v":0},{"$f":"IFERROR($E127*SUMIF('Daily Log'!$C$18:$C$1017,$B127,'Daily Log'!$D$18:$D$1017),0)","v":5},{"$f":"IFERROR($E127*SUMIF('Daily Log'!$F$18:$F$1017,$B127,'Daily Log'!$G$18:$G$1017),0)","v":5},{"$f":"IFERROR($E127*SUMIF('Daily Log'!$I$18:$I$1017,$B127,'Daily Log'!$J$18:$J$1017),0)","v":12},{"$f":"IFERROR($E127*SUMIF('Daily Log'!$L$18:$L$1017,$B127,'Daily Log'!$M$18:$M$1017),0)","v":13},{"$f":"IFERROR($E127*SUMIF('Daily Log'!$O$18:$O$1017,$B127,'Daily Log'!$P$18:$P$1017),0)","v":12},{"$f":"IFERROR($E127*SUMIF('Daily Log'!$R$18:$R$1017,$B127,'Daily Log'!$S$18:$S$1017),0)","v":20},{"$f":"IFERROR($E127*SUMIF('Daily Log'!$U$18:$U$1017,$B127,'Daily Log'!$V$18:$V$1017),0)","v":19},{"$f":"IFERROR($E127*SUMIF('Daily Log'!#REF!,$B127,'Daily Log'!#REF!),0)","v":0},{"$f":"IFERROR($E127*SUMIF('Daily Log'!#REF!,$B127,'Daily Log'!#REF!),0)","v":0},{"$f":"IFERROR($E127*SUMIF('Daily Log'!#REF!,$B127,'Daily Log'!#REF!),0)","v":0},{"$f":"IFERROR($E127*SUMIF('Daily Log'!#REF!,$B127,'Daily Log'!#REF!),0)","v":0},{"$f":"IFERROR($E127*SUMIF('Daily Log'!#REF!,$B127,'Daily Log'!#REF!),0)","v":0}]
[null,"CN03 TEA (H)",null,"FFD-HOT BEVERAGE",1,22,{"$f":"IFERROR($E128*SUMIF('Daily Log'!#REF!,$B128,'Daily Log'!#REF!),0)","v":0},{"$f":"IFERROR($E128*SUMIF('Daily Log'!#REF!,$B128,'Daily Log'!#REF!),0)","v":0},{"$f":"IFERROR($E128*SUMIF('Daily Log'!#REF!,$B128,'Daily Log'!#REF!),0)","v":0},{"$f":"IFERROR($E128*SUMIF('Daily Log'!#REF!,$B128,'Daily Log'!#REF!),0)","v":0},{"$f":"IFERROR($E128*SUMIF('Daily Log'!#REF!,$B128,'Daily Log'!#REF!),0)","v":0},{"$f":"IFERROR($E128*SUMIF('Daily Log'!#REF!,$B128,'Daily Log'!#REF!),0)","v":0},{"$f":"IFERROR($E128*SUMIF('Daily Log'!#REF!,$B128,'Daily Log'!#REF!),0)","v":0},{"$f":"IFERROR($E128*SUMIF('Daily Log'!#REF!,$B128,'Daily Log'!#REF!),0)","v":0},{"$f":"IFERROR($E128*SUMIF('Daily Log'!#REF!,$B128,'Daily Log'!#REF!),0)","v":0},{"$f":"IFERROR($E128*SUMIF('Daily Log'!#REF!,$B128,'Daily Log'!#REF!),0)","v":0},{"$f":"IFERROR($E128*SUMIF('Daily Log'!#REF!,$B128,'Daily Log'!#REF!),0)","v":0},{"$f":"IFERROR($E128*SUMIF('Daily Log'!#REF!,$B128,'Daily Log'!#REF!),0)","v":0},{"$f":"IFERROR($E128*SUMIF('Daily Log'!#REF!,$B128,'Daily Log'!#REF!),0)","v":0},{"$f":"IFERROR($E128*SUMIF('Daily Log'!#REF!,$B128,'Daily Log'!#REF!),0)","v":0},{"$f":"IFERROR($E128*SUMIF('Daily Log'!#REF!,$B128,'Daily Log'!#REF!),0)","v":0},{"$f":"IFERROR($E128*SUMIF('Daily Log'!#REF!,$B128,'Daily Log'!#REF!),0)","v":0},{"$f":"IFERROR($E128*SUMIF('Daily Log'!#REF!,$B128,'Daily Log'!#REF!),0)","v":0},{"$f":"IFERROR($E128*SUMIF('Daily Log'!#REF!,$B128,'Daily Log'!#REF!),0)","v":0},{"$f":"IFERROR($E128*SUMIF('Daily Log'!#REF!,$B128,'Daily Log'!#REF!),0)","v":0},{"$f":"IFERROR($E128*SUMIF('Daily Log'!$C$18:$C$1017,$B128,'Daily Log'!$D$18:$D$1017),0)","v":1},{"$f":"IFERROR($E128*SUMIF('Daily Log'!$F$18:$F$1017,$B128,'Daily Log'!$G$18:$G$1017),0)","v":2},{"$f":"IFERROR($E128*SUMIF('Daily Log'!$I$18:$I$1017,$B128,'Daily Log'!$J$18:$J$1017),0)","v":1},{"$f":"IFERROR($E128*SUMIF('Daily Log'!$L$18:$L$1017,$B128,'Daily Log'!$M$18:$M$1017),0)","v":3},{"$f":"IFERROR($E128*SUMIF('Daily Log'!$O$18:$O$1017,$B128,'Daily Log'!$P$18:$P$1017),0)","v":6},{"$f":"IFERROR($E128*SUMIF('Daily Log'!$R$18:$R$1017,$B128,'Daily Log'!$S$18:$S$1017),0)","v":5},{"$f":"IFERROR($E128*SUMIF('Daily Log'!$U$18:$U$1017,$B128,'Daily Log'!$V$18:$V$1017),0)","v":4},{"$f":"IFERROR($E128*SUMIF('Daily Log'!#REF!,$B128,'Daily Log'!#REF!),0)","v":0},{"$f":"IFERROR($E128*SUMIF('Daily Log'!#REF!,$B128,'Daily Log'!#REF!),0)","v":0},{"$f":"IFERROR($E128*SUMIF('Daily Log'!#REF!,$B128,'Daily Log'!#REF!),0)","v":0},{"$f":"IFERROR($E128*SUMIF('Daily Log'!#REF!,$B128,'Daily Log'!#REF!),0)","v":0},{"$f":"IFERROR($E128*SUMIF('Daily Log'!#REF!,$B128,'Daily Log'!#REF!),0)","v":0}]
[null,"CN04 LEMON TEA (H)",null,"FFD-HOT BEVERAGE",1,79,{"$f":"IFERROR($E129*SUMIF('Daily Log'!#REF!,$B129,'Daily Log'!#REF!),0)","v":0},{"$f":"IFERROR($E129*SUMIF('Daily Log'!#REF!,$B129,'Daily Log'!#REF!),0)","v":0},{"$f":"IFERROR($E129*SUMIF('Daily Log'!#REF!,$B129,'Daily Log'!#REF!),0)","v":0},{"$f":"IFERROR($E129*SUMIF('Daily Log'!#REF!,$B129,'Daily Log'!#REF!),0)","v":0},{"$f":"IFERROR($E129*SUMIF('Daily Log'!#REF!,$B129,'Daily Log'!#REF!),0)","v":0},{"$f":"IFERROR($E129*SUMIF('Daily Log'!#REF!,$B129,'Daily Log'!#REF!),0)","v":0},{"$f":"IFERROR($E129*SUMIF('Daily Log'!#REF!,$B129,'Daily Log'!#REF!),0)","v":0},{"$f":"IFERROR($E129*SUMIF('Daily Log'!#REF!,$B129,'Daily Log'!#REF!),0)","v":0},{"$f":"IFERROR($E129*SUMIF('Daily Log'!#REF!,$B129,'Daily Log'!#REF!),0)","v":0},{"$f":"IFERROR($E129*SUMIF('Daily Log'!#REF!,$B129,'Daily Log'!#REF!),0)","v":0},{"$f":"IFERROR($E129*SUMIF('Daily Log'!#REF!,$B129,'Daily Log'!#REF!),0)","v":0},{"$f":"IFERROR($E129*SUMIF('Daily Log'!#REF!,$B129,'Daily Log'!#REF!),0)","v":0},{"$f":"IFERROR($E129*SUMIF('Daily Log'!#REF!,$B129,'Daily Log'!#REF!),0)","v":0},{"$f":"IFERROR($E129*SUMIF('Daily Log'!#REF!,$B129,'Daily Log'!#REF!),0)","v":0},{"$f":"IFERROR($E129*SUMIF('Daily Log'!#REF!,$B129,'Daily Log'!#REF!),0)","v":0},{"$f":"IFERROR($E129*SUMIF('Daily Log'!#REF!,$B129,'Daily Log'!#REF!),0)","v":0},{"$f":"IFERROR($E129*SUMIF('Daily Log'!#REF!,$B129,'Daily Log'!#REF!),0)","v":0},{"$f":"IFERROR($E129*SUMIF('Daily Log'!#REF!,$B129,'Daily Log'!#REF!),0)","v":0},{"$f":"IFERROR($E129*SUMIF('Daily Log'!#REF!,$B129,'Daily Log'!#REF!),0)","v":0},{"$f":"IFERROR($E129*SUMIF('Daily Log'!$C$18:$C$1017,$B129,'Daily Log'!$D$18:$D$1017),0)","v":5},{"$f":"IFERROR($E129*SUMIF('Daily Log'!$F$18:$F$1017,$B129,'Daily Log'!$G$18:$G$1017),0)","v":11},{"$f":"IFERROR($E129*SUMIF('Daily Log'!$I$18:$I$1017,$B129,'Daily Log'!$J$18:$J$1017),0)","v":1},{"$f":"IFERROR($E129*SUMIF('Daily Log'!$L$18:$L$1017,$B129,'Daily Log'!$M$18:$M$1017),0)","v":16},{"$f":"IFERROR($E129*SUMIF('Daily Log'!$O$18:$O$1017,$B129,'Daily Log'!$P$18:$P$1017),0)","v":11},{"$f":"IFERROR($E129*SUMIF('Daily Log'!$R$18:$R$1017,$B129,'Daily Log'!$S$18:$S$1017),0)","v":20},{"$f":"IFERROR($E129*SUMIF('Daily Log'!$U$18:$U$1017,$B129,'Daily Log'!$V$18:$V$1017),0)","v":15},{"$f":"IFERROR($E129*SUMIF('Daily Log'!#REF!,$B129,'Daily Log'!#REF!),0)","v":0},{"$f":"IFERROR($E129*SUMIF('Daily Log'!#REF!,$B129,'Daily Log'!#REF!),0)","v":0},{"$f":"IFERROR($E129*SUMIF('Daily Log'!#REF!,$B129,'Daily Log'!#REF!),0)","v":0},{"$f":"IFERROR($E129*SUMIF('Daily Log'!#REF!,$B129,'Daily Log'!#REF!),0)","v":0},{"$f":"IFERROR($E129*SUMIF('Daily Log'!#REF!,$B129,'Daily Log'!#REF!),0)","v":0}]
[null,"CN05 GRN TEA (H)",null,"FFD-HOT BEVERAGE",1,153,{"$f":"IFERROR($E130*SUMIF('Daily Log'!#REF!,$B130,'Daily Log'!#REF!),0)","v":0},{"$f":"IFERROR($E130*SUMIF('Daily Log'!#REF!,$B130,'Daily Log'!#REF!),0)","v":0},{"$f":"IFERROR($E130*SUMIF('Daily Log'!#REF!,$B130,'Daily Log'!#REF!),0)","v":0},{"$f":"IFERROR($E130*SUMIF('Daily Log'!#REF!,$B130,'Daily Log'!#REF!),0)","v":0},{"$f":"IFERROR($E130*SUMIF('Daily Log'!#REF!,$B130,'Daily Log'!#REF!),0)","v":0},{"$f":"IFERROR($E130*SUMIF('Daily Log'!#REF!,$B130,'Daily Log'!#REF!),0)","v":0},{"$f":"IFERROR($E130*SUMIF('Daily Log'!#REF!,$B130,'Daily Log'!#REF!),0)","v":0},{"$f":"IFERROR($E130*SUMIF('Daily Log'!#REF!,$B130,'Daily Log'!#REF!),0)","v":0},{"$f":"IFERROR($E130*SUMIF('Daily Log'!#REF!,$B130,'Daily Log'!#REF!),0)","v":0},{"$f":"IFERROR($E130*SUMIF('Daily Log'!#REF!,$B130,'Daily Log'!#REF!),0)","v":0},{"$f":"IFERROR($E130*SUMIF('Daily Log'!#REF!,$B130,'Daily Log'!#REF!),0)","v":0},{"$f":"IFERROR($E130*SUMIF('Daily Log'!#REF!,$B130,'Daily Log'!#REF!),0)","v":0},{"$f":"IFERROR($E130*SUMIF('Daily Log'!#REF!,$B130,'Daily Log'!#REF!),0)","v":0},{"$f":"IFERROR($E130*SUMIF('Daily Log'!#REF!,$B130,'Daily Log'!#REF!),0)","v":0},{"$f":"IFERROR($E130*SUMIF('Daily Log'!#REF!,$B130,'Daily Log'!#REF!),0)","v":0},{"$f":"IFERROR($E130*SUMIF('Daily Log'!#REF!,$B130,'Daily Log'!#REF!),0)","v":0},{"$f":"IFERROR($E130*SUMIF('Daily Log'!#REF!,$B130,'Daily Log'!#REF!),0)","v":0},{"$f":"IFERROR($E130*SUMIF('Daily Log'!#REF!,$B130,'Daily Log'!#REF!),0)","v":0},{"$f":"IFERROR($E130*SUMIF('Daily Log'!#REF!,$B130,'Daily Log'!#REF!),0)","v":0},{"$f":"IFERROR($E130*SUMIF('Daily Log'!$C$18:$C$1017,$B130,'Daily Log'!$D$18:$D$1017),0)","v":21},{"$f":"IFERROR($E130*SUMIF('Daily Log'!$F$18:$F$1017,$B130,'Daily Log'!$G$18:$G$1017),0)","v":24},{"$f":"IFERROR($E130*SUMIF('Daily Log'!$I$18:$I$1017,$B130,'Daily Log'!$J$18:$J$1017),0)","v":9},{"$f":"IFERROR($E130*SUMIF('Daily Log'!$L$18:$L$1017,$B130,'Daily Log'!$M$18:$M$1017),0)","v":16},{"$f":"IFERROR($E130*SUMIF('Daily Log'!$O$18:$O$1017,$B130,'Daily Log'!$P$18:$P$1017),0)","v":19},{"$f":"IFERROR($E130*SUMIF('Daily Log'!$R$18:$R$1017,$B130,'Daily Log'!$S$18:$S$1017),0)","v":37},{"$f":"IFERROR($E130*SUMIF('Daily Log'!$U$18:$U$1017,$B130,'Daily Log'!$V$18:$V$1017),0)","v":27},{"$f":"IFERROR($E130*SUMIF('Daily Log'!#REF!,$B130,'Daily Log'!#REF!),0)","v":0},{"$f":"IFERROR($E130*SUMIF('Daily Log'!#REF!,$B130,'Daily Log'!#REF!),0)","v":0},{"$f":"IFERROR($E130*SUMIF('Daily Log'!#REF!,$B130,'Daily Log'!#REF!),0)","v":0},{"$f":"IFERROR($E130*SUMIF('Daily Log'!#REF!,$B130,'Daily Log'!#REF!),0)","v":0},{"$f":"IFERROR($E130*SUMIF('Daily Log'!#REF!,$B130,'Daily Log'!#REF!),0)","v":0}]
[null,"CN06 HNY GRN TEA (H)",null,"FFD-HOT BEVERAGE",1,281,{"$f":"IFERROR($E131*SUMIF('Daily Log'!#REF!,$B131,'Daily Log'!#REF!),0)","v":0},{"$f":"IFERROR($E131*SUMIF('Daily Log'!#REF!,$B131,'Daily Log'!#REF!),0)","v":0},{"$f":"IFERROR($E131*SUMIF('Daily Log'!#REF!,$B131,'Daily Log'!#REF!),0)","v":0},{"$f":"IFERROR($E131*SUMIF('Daily Log'!#REF!,$B131,'Daily Log'!#REF!),0)","v":0},{"$f":"IFERROR($E131*SUMIF('Daily Log'!#REF!,$B131,'Daily Log'!#REF!),0)","v":0},{"$f":"IFERROR($E131*SUMIF('Daily Log'!#REF!,$B131,'Daily Log'!#REF!),0)","v":0},{"$f":"IFERROR($E131*SUMIF('Daily Log'!#REF!,$B131,'Daily Log'!#REF!),0)","v":0},{"$f":"IFERROR($E131*SUMIF('Daily Log'!#REF!,$B131,'Daily Log'!#REF!),0)","v":0},{"$f":"IFERROR($E131*SUMIF('Daily Log'!#REF!,$B131,'Daily Log'!#REF!),0)","v":0},{"$f":"IFERROR($E131*SUMIF('Daily Log'!#REF!,$B131,'Daily Log'!#REF!),0)","v":0},{"$f":"IFERROR($E131*SUMIF('Daily Log'!#REF!,$B131,'Daily Log'!#REF!),0)","v":0},{"$f":"IFERROR($E131*SUMIF('Daily Log'!#REF!,$B131,'Daily Log'!#REF!),0)","v":0},{"$f":"IFERROR($E131*SUMIF('Daily Log'!#REF!,$B131,'Daily Log'!#REF!),0)","v":0},{"$f":"IFERROR($E131*SUMIF('Daily Log'!#REF!,$B131,'Daily Log'!#REF!),0)","v":0},{"$f":"IFERROR($E131*SUMIF('Daily Log'!#REF!,$B131,'Daily Log'!#REF!),0)","v":0},{"$f":"IFERROR($E131*SUMIF('Daily Log'!#REF!,$B131,'Daily Log'!#REF!),0)","v":0},{"$f":"IFERROR($E131*SUMIF('Daily Log'!#REF!,$B131,'Daily Log'!#REF!),0)","v":0},{"$f":"IFERROR($E131*SUMIF('Daily Log'!#REF!,$B131,'Daily Log'!#REF!),0)","v":0},{"$f":"IFERROR($E131*SUMIF('Daily Log'!#REF!,$B131,'Daily Log'!#REF!),0)","v":0},{"$f":"IFERROR($E131*SUMIF('Daily Log'!$C$18:$C$1017,$B131,'Daily Log'!$D$18:$D$1017),0)","v":33},{"$f":"IFERROR($E131*SUMIF('Daily Log'!$F$18:$F$1017,$B131,'Daily Log'!$G$18:$G$1017),0)","v":29},{"$f":"IFERROR($E131*SUMIF('Daily Log'!$I$18:$I$1017,$B131,'Daily Log'!$J$18:$J$1017),0)","v":23},{"$f":"IFERROR($E131*SUMIF('Daily Log'!$L$18:$L$1017,$B131,'Daily Log'!$M$18:$M$1017),0)","v":54},{"$f":"IFERROR($E131*SUMIF('Daily Log'!$O$18:$O$1017,$B131,'Daily Log'!$P$18:$P$1017),0)","v":75},{"$f":"IFERROR($E131*SUMIF('Daily Log'!$R$18:$R$1017,$B131,'Daily Log'!$S$18:$S$1017),0)","v":42},{"$f":"IFERROR($E131*SUMIF('Daily Log'!$U$18:$U$1017,$B131,'Daily Log'!$V$18:$V$1017),0)","v":25},{"$f":"IFERROR($E131*SUMIF('Daily Log'!#REF!,$B131,'Daily Log'!#REF!),0)","v":0},{"$f":"IFERROR($E131*SUMIF('Daily Log'!#REF!,$B131,'Daily Log'!#REF!),0)","v":0},{"$f":"IFERROR($E131*SUMIF('Daily Log'!#REF!,$B131,'Daily Log'!#REF!),0)","v":0},{"$f":"IFERROR($E131*SUMIF('Daily Log'!#REF!,$B131,'Daily Log'!#REF!),0)","v":0},{"$f":"IFERROR($E131*SUMIF('Daily Log'!#REF!,$B131,'Daily Log'!#REF!),0)","v":0}]
[null,"CN07 HONEY (H)",null,"FFD-HOT BEVERAGE",1,139,{"$f":"IFERROR($E132*SUMIF('Daily Log'!#REF!,$B132,'Daily Log'!#REF!),0)","v":0},{"$f":"IFERROR($E132*SUMIF('Daily Log'!#REF!,$B132,'Daily Log'!#REF!),0)","v":0},{"$f":"IFERROR($E132*SUMIF('Daily Log'!#REF!,$B132,'Daily Log'!#REF!),0)","v":0},{"$f":"IFERROR($E132*SUMIF('Daily Log'!#REF!,$B132,'Daily Log'!#REF!),0)","v":0},{"$f":"IFERROR($E132*SUMIF('Daily Log'!#REF!,$B132,'Daily Log'!#REF!),0)","v":0},{"$f":"IFERROR($E132*SUMIF('Daily Log'!#REF!,$B132,'Daily Log'!#REF!),0)","v":0},{"$f":"IFERROR($E132*SUMIF('Daily Log'!#REF!,$B132,'Daily Log'!#REF!),0)","v":0},{"$f":"IFERROR($E132*SUMIF('Daily Log'!#REF!,$B132,'Daily Log'!#REF!),0)","v":0},{"$f":"IFERROR($E132*SUMIF('Daily Log'!#REF!,$B132,'Daily Log'!#REF!),0)","v":0},{"$f":"IFERROR($E132*SUMIF('Daily Log'!#REF!,$B132,'Daily Log'!#REF!),0)","v":0},{"$f":"IFERROR($E132*SUMIF('Daily Log'!#REF!,$B132,'Daily Log'!#REF!),0)","v":0},{"$f":"IFERROR($E132*SUMIF('Daily Log'!#REF!,$B132,'Daily Log'!#REF!),0)","v":0},{"$f":"IFERROR($E132*SUMIF('Daily Log'!#REF!,$B132,'Daily Log'!#REF!),0)","v":0},{"$f":"IFERROR($E132*SUMIF('Daily Log'!#REF!,$B132,'Daily Log'!#REF!),0)","v":0},{"$f":"IFERROR($E132*SUMIF('Daily Log'!#REF!,$B132,'Daily Log'!#REF!),0)","v":0},{"$f":"IFERROR($E132*SUMIF('Daily Log'!#REF!,$B132,'Daily Log'!#REF!),0)","v":0},{"$f":"IFERROR($E132*SUMIF('Daily Log'!#REF!,$B132,'Daily Log'!#REF!),0)","v":0},{"$f":"IFERROR($E132*SUMIF('Daily Log'!#REF!,$B132,'Daily Log'!#REF!),0)","v":0},{"$f":"IFERROR($E132*SUMIF('Daily Log'!#REF!,$B132,'Daily Log'!#REF!),0)","v":0},{"$f":"IFERROR($E132*SUMIF('Daily Log'!$C$18:$C$1017,$B132,'Daily Log'!$D$18:$D$1017),0)","v":10},{"$f":"IFERROR($E132*SUMIF('Daily Log'!$F$18:$F$1017,$B132,'Daily Log'!$G$18:$G$1017),0)","v":12},{"$f":"IFERROR($E132*SUMIF('Daily Log'!$I$18:$I$1017,$B132,'Daily Log'!$J$18:$J$1017),0)","v":19},{"$f":"IFERROR($E132*SUMIF('Daily Log'!$L$18:$L$1017,$B132,'Daily Log'!$M$18:$M$1017),0)","v":25},{"$f":"IFERROR($E132*SUMIF('Daily Log'!$O$18:$O$1017,$B132,'Daily Log'!$P$18:$P$1017),0)","v":24},{"$f":"IFERROR($E132*SUMIF('Daily Log'!$R$18:$R$1017,$B132,'Daily Log'!$S$18:$S$1017),0)","v":33},{"$f":"IFERROR($E132*SUMIF('Daily Log'!$U$18:$U$1017,$B132,'Daily Log'!$V$18:$V$1017),0)","v":16},{"$f":"IFERROR($E132*SUMIF('Daily Log'!#REF!,$B132,'Daily Log'!#REF!),0)","v":0},{"$f":"IFERROR($E132*SUMIF('Daily Log'!#REF!,$B132,'Daily Log'!#REF!),0)","v":0},{"$f":"IFERROR($E132*SUMIF('Daily Log'!#REF!,$B132,'Daily Log'!#REF!),0)","v":0},{"$f":"IFERROR($E132*SUMIF('Daily Log'!#REF!,$B132,'Daily Log'!#REF!),0)","v":0},{"$f":"IFERROR($E132*SUMIF('Daily Log'!#REF!,$B132,'Daily Log'!#REF!),0)","v":0}]
[null,"CN08 LEMON HONEY (H)",null,"FFD-HOT BEVERAGE",1,816,{"$f":"IFERROR($E133*SUMIF('Daily Log'!#REF!,$B133,'Daily Log'!#REF!),0)","v":0},{"$f":"IFERROR($E133*SUMIF('Daily Log'!#REF!,$B133,'Daily Log'!#REF!),0)","v":0},{"$f":"IFERROR($E133*SUMIF('Daily Log'!#REF!,$B133,'Daily Log'!#REF!),0)","v":0},{"$f":"IFERROR($E133*SUMIF('Daily Log'!#REF!,$B133,'Daily Log'!#REF!),0)","v":0},{"$f":"IFERROR($E133*SUMIF('Daily Log'!#REF!,$B133,'Daily Log'!#REF!),0)","v":0},{"$f":"IFERROR($E133*SUMIF('Daily Log'!#REF!,$B133,'Daily Log'!#REF!),0)","v":0},{"$f":"IFERROR($E133*SUMIF('Daily Log'!#REF!,$B133,'Daily Log'!#REF!),0)","v":0},{"$f":"IFERROR($E133*SUMIF('Daily Log'!#REF!,$B133,'Daily Log'!#REF!),0)","v":0},{"$f":"IFERROR($E133*SUMIF('Daily Log'!#REF!,$B133,'Daily Log'!#REF!),0)","v":0},{"$f":"IFERROR($E133*SUMIF('Daily Log'!#REF!,$B133,'Daily Log'!#REF!),0)","v":0},{"$f":"IFERROR($E133*SUMIF('Daily Log'!#REF!,$B133,'Daily Log'!#REF!),0)","v":0},{"$f":"IFERROR($E133*SUMIF('Daily Log'!#REF!,$B133,'Daily Log'!#REF!),0)","v":0},{"$f":"IFERROR($E133*SUMIF('Daily Log'!#REF!,$B133,'Daily Log'!#REF!),0)","v":0},{"$f":"IFERROR($E133*SUMIF('Daily Log'!#REF!,$B133,'Daily Log'!#REF!),0)","v":0},{"$f":"IFERROR($E133*SUMIF('Daily Log'!#REF!,$B133,'Daily Log'!#REF!),0)","v":0},{"$f":"IFERROR($E133*SUMIF('Daily Log'!#REF!,$B133,'Daily Log'!#REF!),0)","v":0},{"$f":"IFERROR($E133*SUMIF('Daily Log'!#REF!,$B133,'Daily Log'!#REF!),0)","v":0},{"$f":"IFERROR($E133*SUMIF('Daily Log'!#REF!,$B133,'Daily Log'!#REF!),0)","v":0},{"$f":"IFERROR($E133*SUMIF('Daily Log'!#REF!,$B133,'Daily Log'!#REF!),0)","v":0},{"$f":"IFERROR($E133*SUMIF('Daily Log'!$C$18:$C$1017,$B133,'Daily Log'!$D$18:$D$1017),0)","v":76},{"$f":"IFERROR($E133*SUMIF('Daily Log'!$F$18:$F$1017,$B133,'Daily Log'!$G$18:$G$1017),0)","v":113},{"$f":"IFERROR($E133*SUMIF('Daily Log'!$I$18:$I$1017,$B133,'Daily Log'!$J$18:$J$1017),0)","v":65},{"$f":"IFERROR($E133*SUMIF('Daily Log'!$L$18:$L$1017,$B133,'Daily Log'!$M$18:$M$1017),0)","v":127},{"$f":"IFERROR($E133*SUMIF('Daily Log'!$O$18:$O$1017,$B133,'Daily Log'!$P$18:$P$1017),0)","v":160},{"$f":"IFERROR($E133*SUMIF('Daily Log'!$R$18:$R$1017,$B133,'Daily Log'!$S$18:$S$1017),0)","v":163},{"$f":"IFERROR($E133*SUMIF('Daily Log'!$U$18:$U$1017,$B133,'Daily Log'!$V$18:$V$1017),0)","v":112},{"$f":"IFERROR($E133*SUMIF('Daily Log'!#REF!,$B133,'Daily Log'!#REF!),0)","v":0},{"$f":"IFERROR($E133*SUMIF('Daily Log'!#REF!,$B133,'Daily Log'!#REF!),0)","v":0},{"$f":"IFERROR($E133*SUMIF('Daily Log'!#REF!,$B133,'Daily Log'!#REF!),0)","v":0},{"$f":"IFERROR($E133*SUMIF('Daily Log'!#REF!,$B133,'Daily Log'!#REF!),0)","v":0},{"$f":"IFERROR($E133*SUMIF('Daily Log'!#REF!,$B133,'Daily Log'!#REF!),0)","v":0}]
[null,"CN12 CHAMOMILE (H)",null,"FFD-HOT BEVERAGE",1,61,{"$f":"IFERROR($E134*SUMIF('Daily Log'!#REF!,$B134,'Daily Log'!#REF!),0)","v":0},{"$f":"IFERROR($E134*SUMIF('Daily Log'!#REF!,$B134,'Daily Log'!#REF!),0)","v":0},{"$f":"IFERROR($E134*SUMIF('Daily Log'!#REF!,$B134,'Daily Log'!#REF!),0)","v":0},{"$f":"IFERROR($E134*SUMIF('Daily Log'!#REF!,$B134,'Daily Log'!#REF!),0)","v":0},{"$f":"IFERROR($E134*SUMIF('Daily Log'!#REF!,$B134,'Daily Log'!#REF!),0)","v":0},{"$f":"IFERROR($E134*SUMIF('Daily Log'!#REF!,$B134,'Daily Log'!#REF!),0)","v":0},{"$f":"IFERROR($E134*SUMIF('Daily Log'!#REF!,$B134,'Daily Log'!#REF!),0)","v":0},{"$f":"IFERROR($E134*SUMIF('Daily Log'!#REF!,$B134,'Daily Log'!#REF!),0)","v":0},{"$f":"IFERROR($E134*SUMIF('Daily Log'!#REF!,$B134,'Daily Log'!#REF!),0)","v":0},{"$f":"IFERROR($E134*SUMIF('Daily Log'!#REF!,$B134,'Daily Log'!#REF!),0)","v":0},{"$f":"IFERROR($E134*SUMIF('Daily Log'!#REF!,$B134,'Daily Log'!#REF!),0)","v":0},{"$f":"IFERROR($E134*SUMIF('Daily Log'!#REF!,$B134,'Daily Log'!#REF!),0)","v":0},{"$f":"IFERROR($E134*SUMIF('Daily Log'!#REF!,$B134,'Daily Log'!#REF!),0)","v":0},{"$f":"IFERROR($E134*SUMIF('Daily Log'!#REF!,$B134,'Daily Log'!#REF!),0)","v":0},{"$f":"IFERROR($E134*SUMIF('Daily Log'!#REF!,$B134,'Daily Log'!#REF!),0)","v":0},{"$f":"IFERROR($E134*SUMIF('Daily Log'!#REF!,$B134,'Daily Log'!#REF!),0)","v":0},{"$f":"IFERROR($E134*SUMIF('Daily Log'!#REF!,$B134,'Daily Log'!#REF!),0)","v":0},{"$f":"IFERROR($E134*SUMIF('Daily Log'!#REF!,$B134,'Daily Log'!#REF!),0)","v":0},{"$f":"IFERROR($E134*SUMIF('Daily Log'!#REF!,$B134,'Daily Log'!#REF!),0)","v":0},{"$f":"IFERROR($E134*SUMIF('Daily Log'!$C$18:$C$1017,$B134,'Daily Log'!$D$18:$D$1017),0)","v":3},{"$f":"IFERROR($E134*SUMIF('Daily Log'!$F$18:$F$1017,$B134,'Daily Log'!$G$18:$G$1017),0)","v":9},{"$f":"IFERROR($E134*SUMIF('Daily Log'!$I$18:$I$1017,$B134,'Daily Log'!$J$18:$J$1017),0)","v":2},{"$f":"IFERROR($E134*SUMIF('Daily Log'!$L$18:$L$1017,$B134,'Daily Log'!$M$18:$M$1017),0)","v":7},{"$f":"IFERROR($E134*SUMIF('Daily Log'!$O$18:$O$1017,$B134,'Daily Log'!$P$18:$P$1017),0)","v":13},{"$f":"IFERROR($E134*SUMIF('Daily Log'!$R$18:$R$1017,$B134,'Daily Log'!$S$18:$S$1017),0)","v":16},{"$f":"IFERROR($E134*SUMIF('Daily Log'!$U$18:$U$1017,$B134,'Daily Log'!$V$18:$V$1017),0)","v":11},{"$f":"IFERROR($E134*SUMIF('Daily Log'!#REF!,$B134,'Daily Log'!#REF!),0)","v":0},{"$f":"IFERROR($E134*SUMIF('Daily Log'!#REF!,$B134,'Daily Log'!#REF!),0)","v":0},{"$f":"IFERROR($E134*SUMIF('Daily Log'!#REF!,$B134,'Daily Log'!#REF!),0)","v":0},{"$f":"IFERROR($E134*SUMIF('Daily Log'!#REF!,$B134,'Daily Log'!#REF!),0)","v":0},{"$f":"IFERROR($E134*SUMIF('Daily Log'!#REF!,$B134,'Daily Log'!#REF!),0)","v":0}]
[null,"CN13 DARJEELING (H)",null,"FFD-HOT BEVERAGE",1,9,{"$f":"IFERROR($E135*SUMIF('Daily Log'!#REF!,$B135,'Daily Log'!#REF!),0)","v":0},{"$f":"IFERROR($E135*SUMIF('Daily Log'!#REF!,$B135,'Daily Log'!#REF!),0)","v":0},{"$f":"IFERROR($E135*SUMIF('Daily Log'!#REF!,$B135,'Daily Log'!#REF!),0)","v":0},{"$f":"IFERROR($E135*SUMIF('Daily Log'!#REF!,$B135,'Daily Log'!#REF!),0)","v":0},{"$f":"IFERROR($E135*SUMIF('Daily Log'!#REF!,$B135,'Daily Log'!#REF!),0)","v":0},{"$f":"IFERROR($E135*SUMIF('Daily Log'!#REF!,$B135,'Daily Log'!#REF!),0)","v":0},{"$f":"IFERROR($E135*SUMIF('Daily Log'!#REF!,$B135,'Daily Log'!#REF!),0)","v":0},{"$f":"IFERROR($E135*SUMIF('Daily Log'!#REF!,$B135,'Daily Log'!#REF!),0)","v":0},{"$f":"IFERROR($E135*SUMIF('Daily Log'!#REF!,$B135,'Daily Log'!#REF!),0)","v":0},{"$f":"IFERROR($E135*SUMIF('Daily Log'!#REF!,$B135,'Daily Log'!#REF!),0)","v":0},{"$f":"IFERROR($E135*SUMIF('Daily Log'!#REF!,$B135,'Daily Log'!#REF!),0)","v":0},{"$f":"IFERROR($E135*SUMIF('Daily Log'!#REF!,$B135,'Daily Log'!#REF!),0)","v":0},{"$f":"IFERROR($E135*SUMIF('Daily Log'!#REF!,$B135,'Daily Log'!#REF!),0)","v":0},{"$f":"IFERROR($E135*SUMIF('Daily Log'!#REF!,$B135,'Daily Log'!#REF!),0)","v":0},{"$f":"IFERROR($E135*SUMIF('Daily Log'!#REF!,$B135,'Daily Log'!#REF!),0)","v":0},{"$f":"IFERROR($E135*SUMIF('Daily Log'!#REF!,$B135,'Daily Log'!#REF!),0)","v":0},{"$f":"IFERROR($E135*SUMIF('Daily Log'!#REF!,$B135,'Daily Log'!#REF!),0)","v":0},{"$f":"IFERROR($E135*SUMIF('Daily Log'!#REF!,$B135,'Daily Log'!#REF!),0)","v":0},{"$f":"IFERROR($E135*SUMIF('Daily Log'!#REF!,$B135,'Daily Log'!#REF!),0)","v":0},{"$f":"IFERROR($E135*SUMIF('Daily Log'!$C$18:$C$1017,$B135,'Daily Log'!$D$18:$D$1017),0)","v":0},{"$f":"IFERROR($E135*SUMIF('Daily Log'!$F$18:$F$1017,$B135,'Daily Log'!$G$18:$G$1017),0)","v":1},{"$f":"IFERROR($E135*SUMIF('Daily Log'!$I$18:$I$1017,$B135,'Daily Log'!$J$18:$J$1017),0)","v":1},{"$f":"IFERROR($E135*SUMIF('Daily Log'!$L$18:$L$1017,$B135,'Daily Log'!$M$18:$M$1017),0)","v":1},{"$f":"IFERROR($E135*SUMIF('Daily Log'!$O$18:$O$1017,$B135,'Daily Log'!$P$18:$P$1017),0)","v":1},{"$f":"IFERROR($E135*SUMIF('Daily Log'!$R$18:$R$1017,$B135,'Daily Log'!$S$18:$S$1017),0)","v":1},{"$f":"IFERROR($E135*SUMIF('Daily Log'!$U$18:$U$1017,$B135,'Daily Log'!$V$18:$V$1017),0)","v":4},{"$f":"IFERROR($E135*SUMIF('Daily Log'!#REF!,$B135,'Daily Log'!#REF!),0)","v":0},{"$f":"IFERROR($E135*SUMIF('Daily Log'!#REF!,$B135,'Daily Log'!#REF!),0)","v":0},{"$f":"IFERROR($E135*SUMIF('Daily Log'!#REF!,$B135,'Daily Log'!#REF!),0)","v":0},{"$f":"IFERROR($E135*SUMIF('Daily Log'!#REF!,$B135,'Daily Log'!#REF!),0)","v":0},{"$f":"IFERROR($E135*SUMIF('Daily Log'!#REF!,$B135,'Daily Log'!#REF!),0)","v":0}]
[null,"CN14 EARL GREY (H)",null,"FFD-HOT BEVERAGE",1,23,{"$f":"IFERROR($E136*SUMIF('Daily Log'!#REF!,$B136,'Daily Log'!#REF!),0)","v":0},{"$f":"IFERROR($E136*SUMIF('Daily Log'!#REF!,$B136,'Daily Log'!#REF!),0)","v":0},{"$f":"IFERROR($E136*SUMIF('Daily Log'!#REF!,$B136,'Daily Log'!#REF!),0)","v":0},{"$f":"IFERROR($E136*SUMIF('Daily Log'!#REF!,$B136,'Daily Log'!#REF!),0)","v":0},{"$f":"IFERROR($E136*SUMIF('Daily Log'!#REF!,$B136,'Daily Log'!#REF!),0)","v":0},{"$f":"IFERROR($E136*SUMIF('Daily Log'!#REF!,$B136,'Daily Log'!#REF!),0)","v":0},{"$f":"IFERROR($E136*SUMIF('Daily Log'!#REF!,$B136,'Daily Log'!#REF!),0)","v":0},{"$f":"IFERROR($E136*SUMIF('Daily Log'!#REF!,$B136,'Daily Log'!#REF!),0)","v":0},{"$f":"IFERROR($E136*SUMIF('Daily Log'!#REF!,$B136,'Daily Log'!#REF!),0)","v":0},{"$f":"IFERROR($E136*SUMIF('Daily Log'!#REF!,$B136,'Daily Log'!#REF!),0)","v":0},{"$f":"IFERROR($E136*SUMIF('Daily Log'!#REF!,$B136,'Daily Log'!#REF!),0)","v":0},{"$f":"IFERROR($E136*SUMIF('Daily Log'!#REF!,$B136,'Daily Log'!#REF!),0)","v":0},{"$f":"IFERROR($E136*SUMIF('Daily Log'!#REF!,$B136,'Daily Log'!#REF!),0)","v":0},{"$f":"IFERROR($E136*SUMIF('Daily Log'!#REF!,$B136,'Daily Log'!#REF!),0)","v":0},{"$f":"IFERROR($E136*SUMIF('Daily Log'!#REF!,$B136,'Daily Log'!#REF!),0)","v":0},{"$f":"IFERROR($E136*SUMIF('Daily Log'!#REF!,$B136,'Daily Log'!#REF!),0)","v":0},{"$f":"IFERROR($E136*SUMIF('Daily Log'!#REF!,$B136,'Daily Log'!#REF!),0)","v":0},{"$f":"IFERROR($E136*SUMIF('Daily Log'!#REF!,$B136,'Daily Log'!#REF!),0)","v":0},{"$f":"IFERROR($E136*SUMIF('Daily Log'!#REF!,$B136,'Daily Log'!#REF!),0)","v":0},{"$f":"IFERROR($E136*SUMIF('Daily Log'!$C$18:$C$1017,$B136,'Daily Log'!$D$18:$D$1017),0)","v":2},{"$f":"IFERROR($E136*SUMIF('Daily Log'!$F$18:$F$1017,$B136,'Daily Log'!$G$18:$G$1017),0)","v":1},{"$f":"IFERROR($E136*SUMIF('Daily Log'!$I$18:$I$1017,$B136,'Daily Log'!$J$18:$J$1017),0)","v":5},{"$f":"IFERROR($E136*SUMIF('Daily Log'!$L$18:$L$1017,$B136,'Daily Log'!$M$18:$M$1017),0)","v":1},{"$f":"IFERROR($E136*SUMIF('Daily Log'!$O$18:$O$1017,$B136,'Daily Log'!$P$18:$P$1017),0)","v":12},{"$f":"IFERROR($E136*SUMIF('Daily Log'!$R$18:$R$1017,$B136,'Daily Log'!$S$18:$S$1017),0)","v":2},{"$f":"IFERROR($E136*SUMIF('Daily Log'!$U$18:$U$1017,$B136,'Daily Log'!$V$18:$V$1017),0)","v":0},{"$f":"IFERROR($E136*SUMIF('Daily Log'!#REF!,$B136,'Daily Log'!#REF!),0)","v":0},{"$f":"IFERROR($E136*SUMIF('Daily Log'!#REF!,$B136,'Daily Log'!#REF!),0)","v":0},{"$f":"IFERROR($E136*SUMIF('Daily Log'!#REF!,$B136,'Daily Log'!#REF!),0)","v":0},{"$f":"IFERROR($E136*SUMIF('Daily Log'!#REF!,$B136,'Daily Log'!#REF!),0)","v":0},{"$f":"IFERROR($E136*SUMIF('Daily Log'!#REF!,$B136,'Daily Log'!#REF!),0)","v":0}]
[null,"CO01 MINERAL WATER",null,"MINERAL WATER",1,0,{"$f":"IFERROR($E137*SUMIF('Daily Log'!#REF!,$B137,'Daily Log'!#REF!),0)","v":0},{"$f":"IFERROR($E137*SUMIF('Daily Log'!#REF!,$B137,'Daily Log'!#REF!),0)","v":0},{"$f":"IFERROR($E137*SUMIF('Daily Log'!#REF!,$B137,'Daily Log'!#REF!),0)","v":0},{"$f":"IFERROR($E137*SUMIF('Daily Log'!#REF!,$B137,'Daily Log'!#REF!),0)","v":0},{"$f":"IFERROR($E137*SUMIF('Daily Log'!#REF!,$B137,'Daily Log'!#REF!),0)","v":0},{"$f":"IFERROR($E137*SUMIF('Daily Log'!#REF!,$B137,'Daily Log'!#REF!),0)","v":0},{"$f":"IFERROR($E137*SUMIF('Daily Log'!#REF!,$B137,'Daily Log'!#REF!),0)","v":0},{"$f":"IFERROR($E137*SUMIF('Daily Log'!#REF!,$B137,'Daily Log'!#REF!),0)","v":0},{"$f":"IFERROR($E137*SUMIF('Daily Log'!#REF!,$B137,'Daily Log'!#REF!),0)","v":0},{"$f":"IFERROR($E137*SUMIF('Daily Log'!#REF!,$B137,'Daily Log'!#REF!),0)","v":0},{"$f":"IFERROR($E137*SUMIF('Daily Log'!#REF!,$B137,'Daily Log'!#REF!),0)","v":0},{"$f":"IFERROR($E137*SUMIF('Daily Log'!#REF!,$B137,'Daily Log'!#REF!),0)","v":0},{"$f":"IFERROR($E137*SUMIF('Daily Log'!#REF!,$B137,'Daily Log'!#REF!),0)","v":0},{"$f":"IFERROR($E137*SUMIF('Daily Log'!#REF!,$B137,'Daily Log'!#REF!),0)","v":0},{"$f":"IFERROR($E137*SUMIF('Daily Log'!#REF!,$B137,'Daily Log'!#REF!),0)","v":0},{"$f":"IFERROR($E137*SUMIF('Daily Log'!#REF!,$B137,'Daily Log'!#REF!),0)","v":0},{"$f":"IFERROR($E137*SUMIF('Daily Log'!#REF!,$B137,'Daily Log'!#REF!),0)","v":0},{"$f":"IFERROR($E137*SUMIF('Daily Log'!#REF!,$B137,'Daily Log'!#REF!),0)","v":0},{"$f":"IFERROR($E137*SUMIF('Daily Log'!#REF!,$B137,'Daily Log'!#REF!),0)","v":0},{"$f":"IFERROR($E137*SUMIF('Daily Log'!$C$18:$C$1017,$B137,'Daily Log'!$D$18:$D$1017),0)","v":0},{"$f":"IFERROR($E137*SUMIF('Daily Log'!$F$18:$F$1017,$B137,'Daily Log'!$G$18:$G$1017),0)","v":0},{"$f":"IFERROR($E137*SUMIF('Daily Log'!$I$18:$I$1017,$B137,'Daily Log'!$J$18:$J$1017),0)","v":0},{"$f":"IFERROR($E137*SUMIF('Daily Log'!$L$18:$L$1017,$B137,'Daily Log'!$M$18:$M$1017),0)","v":0},{"$f":"IFERROR($E137*SUMIF('Daily Log'!$O$18:$O$1017,$B137,'Daily Log'!$P$18:$P$1017),0)","v":0},{"$f":"IFERROR($E137*SUMIF('Daily Log'!$R$18:$R$1017,$B137,'Daily Log'!$S$18:$S$1017),0)","v":0},{"$f":"IFERROR($E137*SUMIF('Daily Log'!$U$18:$U$1017,$B137,'Daily Log'!$V$18:$V$1017),0)","v":0},{"$f":"IFERROR($E137*SUMIF('Daily Log'!#REF!,$B137,'Daily Log'!#REF!),0)","v":0},{"$f":"IFERROR($E137*SUMIF('Daily Log'!#REF!,$B137,'Daily Log'!#REF!),0)","v":0},{"$f":"IFERROR($E137*SUMIF('Daily Log'!#REF!,$B137,'Daily Log'!#REF!),0)","v":0},{"$f":"IFERROR($E137*SUMIF('Daily Log'!#REF!,$B137,'Daily Log'!#REF!),0)","v":0},{"$f":"IFERROR($E137*SUMIF('Daily Log'!#REF!,$B137,'Daily Log'!#REF!),0)","v":0}]
[null,"CO02 PLAIN WATER",null,"SKY JUICE",1,319,{"$f":"IFERROR($E138*SUMIF('Daily Log'!#REF!,$B138,'Daily Log'!#REF!),0)","v":0},{"$f":"IFERROR($E138*SUMIF('Daily Log'!#REF!,$B138,'Daily Log'!#REF!),0)","v":0},{"$f":"IFERROR($E138*SUMIF('Daily Log'!#REF!,$B138,'Daily Log'!#REF!),0)","v":0},{"$f":"IFERROR($E138*SUMIF('Daily Log'!#REF!,$B138,'Daily Log'!#REF!),0)","v":0},{"$f":"IFERROR($E138*SUMIF('Daily Log'!#REF!,$B138,'Daily Log'!#REF!),0)","v":0},{"$f":"IFERROR($E138*SUMIF('Daily Log'!#REF!,$B138,'Daily Log'!#REF!),0)","v":0},{"$f":"IFERROR($E138*SUMIF('Daily Log'!#REF!,$B138,'Daily Log'!#REF!),0)","v":0},{"$f":"IFERROR($E138*SUMIF('Daily Log'!#REF!,$B138,'Daily Log'!#REF!),0)","v":0},{"$f":"IFERROR($E138*SUMIF('Daily Log'!#REF!,$B138,'Daily Log'!#REF!),0)","v":0},{"$f":"IFERROR($E138*SUMIF('Daily Log'!#REF!,$B138,'Daily Log'!#REF!),0)","v":0},{"$f":"IFERROR($E138*SUMIF('Daily Log'!#REF!,$B138,'Daily Log'!#REF!),0)","v":0},{"$f":"IFERROR($E138*SUMIF('Daily Log'!#REF!,$B138,'Daily Log'!#REF!),0)","v":0},{"$f":"IFERROR($E138*SUMIF('Daily Log'!#REF!,$B138,'Daily Log'!#REF!),0)","v":0},{"$f":"IFERROR($E138*SUMIF('Daily Log'!#REF!,$B138,'Daily Log'!#REF!),0)","v":0},{"$f":"IFERROR($E138*SUMIF('Daily Log'!#REF!,$B138,'Daily Log'!#REF!),0)","v":0},{"$f":"IFERROR($E138*SUMIF('Daily Log'!#REF!,$B138,'Daily Log'!#REF!),0)","v":0},{"$f":"IFERROR($E138*SUMIF('Daily Log'!#REF!,$B138,'Daily Log'!#REF!),0)","v":0},{"$f":"IFERROR($E138*SUMIF('Daily Log'!#REF!,$B138,'Daily Log'!#REF!),0)","v":0},{"$f":"IFERROR($E138*SUMIF('Daily Log'!#REF!,$B138,'Daily Log'!#REF!),0)","v":0},{"$f":"IFERROR($E138*SUMIF('Daily Log'!$C$18:$C$1017,$B138,'Daily Log'!$D$18:$D$1017),0)","v":27},{"$f":"IFERROR($E138*SUMIF('Daily Log'!$F$18:$F$1017,$B138,'Daily Log'!$G$18:$G$1017),0)","v":35},{"$f":"IFERROR($E138*SUMIF('Daily Log'!$I$18:$I$1017,$B138,'Daily Log'!$J$18:$J$1017),0)","v":37},{"$f":"IFERROR($E138*SUMIF('Daily Log'!$L$18:$L$1017,$B138,'Daily Log'!$M$18:$M$1017),0)","v":61},{"$f":"IFERROR($E138*SUMIF('Daily Log'!$O$18:$O$1017,$B138,'Daily Log'!$P$18:$P$1017),0)","v":64},{"$f":"IFERROR($E138*SUMIF('Daily Log'!$R$18:$R$1017,$B138,'Daily Log'!$S$18:$S$1017),0)","v":54},{"$f":"IFERROR($E138*SUMIF('Daily Log'!$U$18:$U$1017,$B138,'Daily Log'!$V$18:$V$1017),0)","v":41},{"$f":"IFERROR($E138*SUMIF('Daily Log'!#REF!,$B138,'Daily Log'!#REF!),0)","v":0},{"$f":"IFERROR($E138*SUMIF('Daily Log'!#REF!,$B138,'Daily Log'!#REF!),0)","v":0},{"$f":"IFERROR($E138*SUMIF('Daily Log'!#REF!,$B138,'Daily Log'!#REF!),0)","v":0},{"$f":"IFERROR($E138*SUMIF('Daily Log'!#REF!,$B138,'Daily Log'!#REF!),0)","v":0},{"$f":"IFERROR($E138*SUMIF('Daily Log'!#REF!,$B138,'Daily Log'!#REF!),0)","v":0}]
[null,"DB01 1001:BP CKN CP",null,"SIDE ORDER-WESTERN CRUISE ",1,16,{"$f":"IFERROR($E139*SUMIF('Daily Log'!#REF!,$B139,'Daily Log'!#REF!),0)","v":0},{"$f":"IFERROR($E139*SUMIF('Daily Log'!#REF!,$B139,'Daily Log'!#REF!),0)","v":0},{"$f":"IFERROR($E139*SUMIF('Daily Log'!#REF!,$B139,'Daily Log'!#REF!),0)","v":0},{"$f":"IFERROR($E139*SUMIF('Daily Log'!#REF!,$B139,'Daily Log'!#REF!),0)","v":0},{"$f":"IFERROR($E139*SUMIF('Daily Log'!#REF!,$B139,'Daily Log'!#REF!),0)","v":0},{"$f":"IFERROR($E139*SUMIF('Daily Log'!#REF!,$B139,'Daily Log'!#REF!),0)","v":0},{"$f":"IFERROR($E139*SUMIF('Daily Log'!#REF!,$B139,'Daily Log'!#REF!),0)","v":0},{"$f":"IFERROR($E139*SUMIF('Daily Log'!#REF!,$B139,'Daily Log'!#REF!),0)","v":0},{"$f":"IFERROR($E139*SUMIF('Daily Log'!#REF!,$B139,'Daily Log'!#REF!),0)","v":0},{"$f":"IFERROR($E139*SUMIF('Daily Log'!#REF!,$B139,'Daily Log'!#REF!),0)","v":0},{"$f":"IFERROR($E139*SUMIF('Daily Log'!#REF!,$B139,'Daily Log'!#REF!),0)","v":0},{"$f":"IFERROR($E139*SUMIF('Daily Log'!#REF!,$B139,'Daily Log'!#REF!),0)","v":0},{"$f":"IFERROR($E139*SUMIF('Daily Log'!#REF!,$B139,'Daily Log'!#REF!),0)","v":0},{"$f":"IFERROR($E139*SUMIF('Daily Log'!#REF!,$B139,'Daily Log'!#REF!),0)","v":0},{"$f":"IFERROR($E139*SUMIF('Daily Log'!#REF!,$B139,'Daily Log'!#REF!),0)","v":0},{"$f":"IFERROR($E139*SUMIF('Daily Log'!#REF!,$B139,'Daily Log'!#REF!),0)","v":0},{"$f":"IFERROR($E139*SUMIF('Daily Log'!#REF!,$B139,'Daily Log'!#REF!),0)","v":0},{"$f":"IFERROR($E139*SUMIF('Daily Log'!#REF!,$B139,'Daily Log'!#REF!),0)","v":0},{"$f":"IFERROR($E139*SUMIF('Daily Log'!#REF!,$B139,'Daily Log'!#REF!),0)","v":0},{"$f":"IFERROR($E139*SUMIF('Daily Log'!$C$18:$C$1017,$B139,'Daily Log'!$D$18:$D$1017),0)","v":2},{"$f":"IFERROR($E139*SUMIF('Daily Log'!$F$18:$F$1017,$B139,'Daily Log'!$G$18:$G$1017),0)","v":4},{"$f":"IFERROR($E139*SUMIF('Daily Log'!$I$18:$I$1017,$B139,'Daily Log'!$J$18:$J$1017),0)","v":0},{"$f":"IFERROR($E139*SUMIF('Daily Log'!$L$18:$L$1017,$B139,'Daily Log'!$M$18:$M$1017),0)","v":2},{"$f":"IFERROR($E139*SUMIF('Daily Log'!$O$18:$O$1017,$B139,'Daily Log'!$P$18:$P$1017),0)","v":3},{"$f":"IFERROR($E139*SUMIF('Daily Log'!$R$18:$R$1017,$B139,'Daily Log'!$S$18:$S$1017),0)","v":3},{"$f":"IFERROR($E139*SUMIF('Daily Log'!$U$18:$U$1017,$B139,'Daily Log'!$V$18:$V$1017),0)","v":2},{"$f":"IFERROR($E139*SUMIF('Daily Log'!#REF!,$B139,'Daily Log'!#REF!),0)","v":0},{"$f":"IFERROR($E139*SUMIF('Daily Log'!#REF!,$B139,'Daily Log'!#REF!),0)","v":0},{"$f":"IFERROR($E139*SUMIF('Daily Log'!#REF!,$B139,'Daily Log'!#REF!),0)","v":0},{"$f":"IFERROR($E139*SUMIF('Daily Log'!#REF!,$B139,'Daily Log'!#REF!),0)","v":0},{"$f":"IFERROR($E139*SUMIF('Daily Log'!#REF!,$B139,'Daily Log'!#REF!),0)","v":0}]
[null,"DB02 1002:GVY CHK CP",null,"SIDE ORDER-WESTERN CRUISE ",1,3,{"$f":"IFERROR($E140*SUMIF('Daily Log'!#REF!,$B140,'Daily Log'!#REF!),0)","v":0},{"$f":"IFERROR($E140*SUMIF('Daily Log'!#REF!,$B140,'Daily Log'!#REF!),0)","v":0},{"$f":"IFERROR($E140*SUMIF('Daily Log'!#REF!,$B140,'Daily Log'!#REF!),0)","v":0},{"$f":"IFERROR($E140*SUMIF('Daily Log'!#REF!,$B140,'Daily Log'!#REF!),0)","v":0},{"$f":"IFERROR($E140*SUMIF('Daily Log'!#REF!,$B140,'Daily Log'!#REF!),0)","v":0},{"$f":"IFERROR($E140*SUMIF('Daily Log'!#REF!,$B140,'Daily Log'!#REF!),0)","v":0},{"$f":"IFERROR($E140*SUMIF('Daily Log'!#REF!,$B140,'Daily Log'!#REF!),0)","v":0},{"$f":"IFERROR($E140*SUMIF('Daily Log'!#REF!,$B140,'Daily Log'!#REF!),0)","v":0},{"$f":"IFERROR($E140*SUMIF('Daily Log'!#REF!,$B140,'Daily Log'!#REF!),0)","v":0},{"$f":"IFERROR($E140*SUMIF('Daily Log'!#REF!,$B140,'Daily Log'!#REF!),0)","v":0},{"$f":"IFERROR($E140*SUMIF('Daily Log'!#REF!,$B140,'Daily Log'!#REF!),0)","v":0},{"$f":"IFERROR($E140*SUMIF('Daily Log'!#REF!,$B140,'Daily Log'!#REF!),0)","v":0},{"$f":"IFERROR($E140*SUMIF('Daily Log'!#REF!,$B140,'Daily Log'!#REF!),0)","v":0},{"$f":"IFERROR($E140*SUMIF('Daily Log'!#REF!,$B140,'Daily Log'!#REF!),0)","v":0},{"$f":"IFERROR($E140*SUMIF('Daily Log'!#REF!,$B140,'Daily Log'!#REF!),0)","v":0},{"$f":"IFERROR($E140*SUMIF('Daily Log'!#REF!,$B140,'Daily Log'!#REF!),0)","v":0},{"$f":"IFERROR($E140*SUMIF('Daily Log'!#REF!,$B140,'Daily Log'!#REF!),0)","v":0},{"$f":"IFERROR($E140*SUMIF('Daily Log'!#REF!,$B140,'Daily Log'!#REF!),0)","v":0},{"$f":"IFERROR($E140*SUMIF('Daily Log'!#REF!,$B140,'Daily Log'!#REF!),0)","v":0},{"$f":"IFERROR($E140*SUMIF('Daily Log'!$C$18:$C$1017,$B140,'Daily Log'!$D$18:$D$1017),0)","v":0},{"$f":"IFERROR($E140*SUMIF('Daily Log'!$F$18:$F$1017,$B140,'Daily Log'!$G$18:$G$1017),0)","v":0},{"$f":"IFERROR($E140*SUMIF('Daily Log'!$I$18:$I$1017,$B140,'Daily Log'!$J$18:$J$1017),0)","v":0},{"$f":"IFERROR($E140*SUMIF('Daily Log'!$L$18:$L$1017,$B140,'Daily Log'!$M$18:$M$1017),0)","v":1},{"$f":"IFERROR($E140*SUMIF('Daily Log'!$O$18:$O$1017,$B140,'Daily Log'!$P$18:$P$1017),0)","v":1},{"$f":"IFERROR($E140*SUMIF('Daily Log'!$R$18:$R$1017,$B140,'Daily Log'!$S$18:$S$1017),0)","v":1},{"$f":"IFERROR($E140*SUMIF('Daily Log'!$U$18:$U$1017,$B140,'Daily Log'!$V$18:$V$1017),0)","v":0},{"$f":"IFERROR($E140*SUMIF('Daily Log'!#REF!,$B140,'Daily Log'!#REF!),0)","v":0},{"$f":"IFERROR($E140*SUMIF('Daily Log'!#REF!,$B140,'Daily Log'!#REF!),0)","v":0},{"$f":"IFERROR($E140*SUMIF('Daily Log'!#REF!,$B140,'Daily Log'!#REF!),0)","v":0},{"$f":"IFERROR($E140*SUMIF('Daily Log'!#REF!,$B140,'Daily Log'!#REF!),0)","v":0},{"$f":"IFERROR($E140*SUMIF('Daily Log'!#REF!,$B140,'Daily Log'!#REF!),0)","v":0}]
[null,"DB03 1003:MSR CKN CP",null,"SIDE ORDER-WESTERN CRUISE ",1,13,{"$f":"IFERROR($E141*SUMIF('Daily Log'!#REF!,$B141,'Daily Log'!#REF!),0)","v":0},{"$f":"IFERROR($E141*SUMIF('Daily Log'!#REF!,$B141,'Daily Log'!#REF!),0)","v":0},{"$f":"IFERROR($E141*SUMIF('Daily Log'!#REF!,$B141,'Daily Log'!#REF!),0)","v":0},{"$f":"IFERROR($E141*SUMIF('Daily Log'!#REF!,$B141,'Daily Log'!#REF!),0)","v":0},{"$f":"IFERROR($E141*SUMIF('Daily Log'!#REF!,$B141,'Daily Log'!#REF!),0)","v":0},{"$f":"IFERROR($E141*SUMIF('Daily Log'!#REF!,$B141,'Daily Log'!#REF!),0)","v":0},{"$f":"IFERROR($E141*SUMIF('Daily Log'!#REF!,$B141,'Daily Log'!#REF!),0)","v":0},{"$f":"IFERROR($E141*SUMIF('Daily Log'!#REF!,$B141,'Daily Log'!#REF!),0)","v":0},{"$f":"IFERROR($E141*SUMIF('Daily Log'!#REF!,$B141,'Daily Log'!#REF!),0)","v":0},{"$f":"IFERROR($E141*SUMIF('Daily Log'!#REF!,$B141,'Daily Log'!#REF!),0)","v":0},{"$f":"IFERROR($E141*SUMIF('Daily Log'!#REF!,$B141,'Daily Log'!#REF!),0)","v":0},{"$f":"IFERROR($E141*SUMIF('Daily Log'!#REF!,$B141,'Daily Log'!#REF!),0)","v":0},{"$f":"IFERROR($E141*SUMIF('Daily Log'!#REF!,$B141,'Daily Log'!#REF!),0)","v":0},{"$f":"IFERROR($E141*SUMIF('Daily Log'!#REF!,$B141,'Daily Log'!#REF!),0)","v":0},{"$f":"IFERROR($E141*SUMIF('Daily Log'!#REF!,$B141,'Daily Log'!#REF!),0)","v":0},{"$f":"IFERROR($E141*SUMIF('Daily Log'!#REF!,$B141,'Daily Log'!#REF!),0)","v":0},{"$f":"IFERROR($E141*SUMIF('Daily Log'!#REF!,$B141,'Daily Log'!#REF!),0)","v":0},{"$f":"IFERROR($E141*SUMIF('Daily Log'!#REF!,$B141,'Daily Log'!#REF!),0)","v":0},{"$f":"IFERROR($E141*SUMIF('Daily Log'!#REF!,$B141,'Daily Log'!#REF!),0)","v":0},{"$f":"IFERROR($E141*SUMIF('Daily Log'!$C$18:$C$1017,$B141,'Daily Log'!$D$18:$D$1017),0)","v":1},{"$f":"IFERROR($E141*SUMIF('Daily Log'!$F$18:$F$1017,$B141,'Daily Log'!$G$18:$G$1017),0)","v":4},{"$f":"IFERROR($E141*SUMIF('Daily Log'!$I$18:$I$1017,$B141,'Daily Log'!$J$18:$J$1017),0)","v":0},{"$f":"IFERROR($E141*SUMIF('Daily Log'!$L$18:$L$1017,$B141,'Daily Log'!$M$18:$M$1017),0)","v":3},{"$f":"IFERROR($E141*SUMIF('Daily Log'!$O$18:$O$1017,$B141,'Daily Log'!$P$18:$P$1017),0)","v":3},{"$f":"IFERROR($E141*SUMIF('Daily Log'!$R$18:$R$1017,$B141,'Daily Log'!$S$18:$S$1017),0)","v":2},{"$f":"IFERROR($E141*SUMIF('Daily Log'!$U$18:$U$1017,$B141,'Daily Log'!$V$18:$V$1017),0)","v":0},{"$f":"IFERROR($E141*SUMIF('Daily Log'!#REF!,$B141,'Daily Log'!#REF!),0)","v":0},{"$f":"IFERROR($E141*SUMIF('Daily Log'!#REF!,$B141,'Daily Log'!#REF!),0)","v":0},{"$f":"IFERROR($E141*SUMIF('Daily Log'!#REF!,$B141,'Daily Log'!#REF!),0)","v":0},{"$f":"IFERROR($E141*SUMIF('Daily Log'!#REF!,$B141,'Daily Log'!#REF!),0)","v":0},{"$f":"IFERROR($E141*SUMIF('Daily Log'!#REF!,$B141,'Daily Log'!#REF!),0)","v":0}]
[null,"DB04 1004:CKN MARY",null,"SIDE ORDER-WESTERN CRUISE ",1,5,{"$f":"IFERROR($E142*SUMIF('Daily Log'!#REF!,$B142,'Daily Log'!#REF!),0)","v":0},{"$f":"IFERROR($E142*SUMIF('Daily Log'!#REF!,$B142,'Daily Log'!#REF!),0)","v":0},{"$f":"IFERROR($E142*SUMIF('Daily Log'!#REF!,$B142,'Daily Log'!#REF!),0)","v":0},{"$f":"IFERROR($E142*SUMIF('Daily Log'!#REF!,$B142,'Daily Log'!#REF!),0)","v":0},{"$f":"IFERROR($E142*SUMIF('Daily Log'!#REF!,$B142,'Daily Log'!#REF!),0)","v":0},{"$f":"IFERROR($E142*SUMIF('Daily Log'!#REF!,$B142,'Daily Log'!#REF!),0)","v":0},{"$f":"IFERROR($E142*SUMIF('Daily Log'!#REF!,$B142,'Daily Log'!#REF!),0)","v":0},{"$f":"IFERROR($E142*SUMIF('Daily Log'!#REF!,$B142,'Daily Log'!#REF!),0)","v":0},{"$f":"IFERROR($E142*SUMIF('Daily Log'!#REF!,$B142,'Daily Log'!#REF!),0)","v":0},{"$f":"IFERROR($E142*SUMIF('Daily Log'!#REF!,$B142,'Daily Log'!#REF!),0)","v":0},{"$f":"IFERROR($E142*SUMIF('Daily Log'!#REF!,$B142,'Daily Log'!#REF!),0)","v":0},{"$f":"IFERROR($E142*SUMIF('Daily Log'!#REF!,$B142,'Daily Log'!#REF!),0)","v":0},{"$f":"IFERROR($E142*SUMIF('Daily Log'!#REF!,$B142,'Daily Log'!#REF!),0)","v":0},{"$f":"IFERROR($E142*SUMIF('Daily Log'!#REF!,$B142,'Daily Log'!#REF!),0)","v":0},{"$f":"IFERROR($E142*SUMIF('Daily Log'!#REF!,$B142,'Daily Log'!#REF!),0)","v":0},{"$f":"IFERROR($E142*SUMIF('Daily Log'!#REF!,$B142,'Daily Log'!#REF!),0)","v":0},{"$f":"IFERROR($E142*SUMIF('Daily Log'!#REF!,$B142,'Daily Log'!#REF!),0)","v":0},{"$f":"IFERROR($E142*SUMIF('Daily Log'!#REF!,$B142,'Daily Log'!#REF!),0)","v":0},{"$f":"IFERROR($E142*SUMIF('Daily Log'!#REF!,$B142,'Daily Log'!#REF!),0)","v":0},{"$f":"IFERROR($E142*SUMIF('Daily Log'!$C$18:$C$1017,$B142,'Daily Log'!$D$18:$D$1017),0)","v":0},{"$f":"IFERROR($E142*SUMIF('Daily Log'!$F$18:$F$1017,$B142,'Daily Log'!$G$18:$G$1017),0)","v":1},{"$f":"IFERROR($E142*SUMIF('Daily Log'!$I$18:$I$1017,$B142,'Daily Log'!$J$18:$J$1017),0)","v":1},{"$f":"IFERROR($E142*SUMIF('Daily Log'!$L$18:$L$1017,$B142,'Daily Log'!$M$18:$M$1017),0)","v":1},{"$f":"IFERROR($E142*SUMIF('Daily Log'!$O$18:$O$1017,$B142,'Daily Log'!$P$18:$P$1017),0)","v":0},{"$f":"IFERROR($E142*SUMIF('Daily Log'!$R$18:$R$1017,$B142,'Daily Log'!$S$18:$S$1017),0)","v":1},{"$f":"IFERROR($E142*SUMIF('Daily Log'!$U$18:$U$1017,$B142,'Daily Log'!$V$18:$V$1017),0)","v":1},{"$f":"IFERROR($E142*SUMIF('Daily Log'!#REF!,$B142,'Daily Log'!#REF!),0)","v":0},{"$f":"IFERROR($E142*SUMIF('Daily Log'!#REF!,$B142,'Daily Log'!#REF!),0)","v":0},{"$f":"IFERROR($E142*SUMIF('Daily Log'!#REF!,$B142,'Daily Log'!#REF!),0)","v":0},{"$f":"IFERROR($E142*SUMIF('Daily Log'!#REF!,$B142,'Daily Log'!#REF!),0)","v":0},{"$f":"IFERROR($E142*SUMIF('Daily Log'!#REF!,$B142,'Daily Log'!#REF!),0)","v":0}]
[null,"DB05 1005:FISH&CHIP",null,"SIDE ORDER-WESTERN CRUISE ",1,12,{"$f":"IFERROR($E143*SUMIF('Daily Log'!#REF!,$B143,'Daily Log'!#REF!),0)","v":0},{"$f":"IFERROR($E143*SUMIF('Daily Log'!#REF!,$B143,'Daily Log'!#REF!),0)","v":0},{"$f":"IFERROR($E143*SUMIF('Daily Log'!#REF!,$B143,'Daily Log'!#REF!),0)","v":0}," ",{"$f":"IFERROR($E143*SUMIF('Daily Log'!#REF!,$B143,'Daily Log'!#REF!),0)","v":0},{"$f":"IFERROR($E143*SUMIF('Daily Log'!#REF!,$B143,'Daily Log'!#REF!),0)","v":0},{"$f":"IFERROR($E143*SUMIF('Daily Log'!#REF!,$B143,'Daily Log'!#REF!),0)","v":0},{"$f":"IFERROR($E143*SUMIF('Daily Log'!#REF!,$B143,'Daily Log'!#REF!),0)","v":0},{"$f":"IFERROR($E143*SUMIF('Daily Log'!#REF!,$B143,'Daily Log'!#REF!),0)","v":0},{"$f":"IFERROR($E143*SUMIF('Daily Log'!#REF!,$B143,'Daily Log'!#REF!),0)","v":0},{"$f":"IFERROR($E143*SUMIF('Daily Log'!#REF!,$B143,'Daily Log'!#REF!),0)","v":0},{"$f":"IFERROR($E143*SUMIF('Daily Log'!#REF!,$B143,'Daily Log'!#REF!),0)","v":0},{"$f":"IFERROR($E143*SUMIF('Daily Log'!#REF!,$B143,'Daily Log'!#REF!),0)","v":0},{"$f":"IFERROR($E143*SUMIF('Daily Log'!#REF!,$B143,'Daily Log'!#REF!),0)","v":0},{"$f":"IFERROR($E143*SUMIF('Daily Log'!#REF!,$B143,'Daily Log'!#REF!),0)","v":0},{"$f":"IFERROR($E143*SUMIF('Daily Log'!#REF!,$B143,'Daily Log'!#REF!),0)","v":0},{"$f":"IFERROR($E143*SUMIF('Daily Log'!#REF!,$B143,'Daily Log'!#REF!),0)","v":0},{"$f":"IFERROR($E143*SUMIF('Daily Log'!#REF!,$B143,'Daily Log'!#REF!),0)","v":0},{"$f":"IFERROR($E143*SUMIF('Daily Log'!#REF!,$B143,'Daily Log'!#REF!),0)","v":0},{"$f":"IFERROR($E143*SUMIF('Daily Log'!$C$18:$C$1017,$B143,'Daily Log'!$D$18:$D$1017),0)","v":0},{"$f":"IFERROR($E143*SUMIF('Daily Log'!$F$18:$F$1017,$B143,'Daily Log'!$G$18:$G$1017),0)","v":1},{"$f":"IFERROR($E143*SUMIF('Daily Log'!$I$18:$I$1017,$B143,'Daily Log'!$J$18:$J$1017),0)","v":0},{"$f":"IFERROR($E143*SUMIF('Daily Log'!$L$18:$L$1017,$B143,'Daily Log'!$M$18:$M$1017),0)","v":3},{"$f":"IFERROR($E143*SUMIF('Daily Log'!$O$18:$O$1017,$B143,'Daily Log'!$P$18:$P$1017),0)","v":1},{"$f":"IFERROR($E143*SUMIF('Daily Log'!$R$18:$R$1017,$B143,'Daily Log'!$S$18:$S$1017),0)","v":3},{"$f":"IFERROR($E143*SUMIF('Daily Log'!$U$18:$U$1017,$B143,'Daily Log'!$V$18:$V$1017),0)","v":4},{"$f":"IFERROR($E143*SUMIF('Daily Log'!#REF!,$B143,'Daily Log'!#REF!),0)","v":0},{"$f":"IFERROR($E143*SUMIF('Daily Log'!#REF!,$B143,'Daily Log'!#REF!),0)","v":0},{"$f":"IFERROR($E143*SUMIF('Daily Log'!#REF!,$B143,'Daily Log'!#REF!),0)","v":0},{"$f":"IFERROR($E143*SUMIF('Daily Log'!#REF!,$B143,'Daily Log'!#REF!),0)","v":0},{"$f":"IFERROR($E143*SUMIF('Daily Log'!#REF!,$B143,'Daily Log'!#REF!),0)","v":0}]
[null,"DB06 1006:SPAGHETTI",null,"SIDE ORDER-WESTERN CRUISE ",1,16,{"$f":"IFERROR($E144*SUMIF('Daily Log'!#REF!,$B144,'Daily Log'!#REF!),0)","v":0},{"$f":"IFERROR($E144*SUMIF('Daily Log'!#REF!,$B144,'Daily Log'!#REF!),0)","v":0},{"$f":"IFERROR($E144*SUMIF('Daily Log'!#REF!,$B144,'Daily Log'!#REF!),0)","v":0}," ",{"$f":"IFERROR($E144*SUMIF('Daily Log'!#REF!,$B144,'Daily Log'!#REF!),0)","v":0},{"$f":"IFERROR($E144*SUMIF('Daily Log'!#REF!,$B144,'Daily Log'!#REF!),0)","v":0},{"$f":"IFERROR($E144*SUMIF('Daily Log'!#REF!,$B144,'Daily Log'!#REF!),0)","v":0},{"$f":"IFERROR($E144*SUMIF('Daily Log'!#REF!,$B144,'Daily Log'!#REF!),0)","v":0},{"$f":"IFERROR($E144*SUMIF('Daily Log'!#REF!,$B144,'Daily Log'!#REF!),0)","v":0},{"$f":"IFERROR($E144*SUMIF('Daily Log'!#REF!,$B144,'Daily Log'!#REF!),0)","v":0},{"$f":"IFERROR($E144*SUMIF('Daily Log'!#REF!,$B144,'Daily Log'!#REF!),0)","v":0},{"$f":"IFERROR($E144*SUMIF('Daily Log'!#REF!,$B144,'Daily Log'!#REF!),0)","v":0},{"$f":"IFERROR($E144*SUMIF('Daily Log'!#REF!,$B144,'Daily Log'!#REF!),0)","v":0},{"$f":"IFERROR($E144*SUMIF('Daily Log'!#REF!,$B144,'Daily Log'!#REF!),0)","v":0},{"$f":"IFERROR($E144*SUMIF('Daily Log'!#REF!,$B144,'Daily Log'!#REF!),0)","v":0},{"$f":"IFERROR($E144*SUMIF('Daily Log'!#REF!,$B144,'Daily Log'!#REF!),0)","v":0},{"$f":"IFERROR($E144*SUMIF('Daily Log'!#REF!,$B144,'Daily Log'!#REF!),0)","v":0},{"$f":"IFERROR($E144*SUMIF('Daily Log'!#REF!,$B144,'Daily Log'!#REF!),0)","v":0},{"$f":"IFERROR($E144*SUMIF('Daily Log'!#REF!,$B144,'Daily Log'!#REF!),0)","v":0},{"$f":"IFERROR($E144*SUMIF('Daily Log'!$C$18:$C$1017,$B144,'Daily Log'!$D$18:$D$1017),0)","v":1},{"$f":"IFERROR($E144*SUMIF('Daily Log'!$F$18:$F$1017,$B144,'Daily Log'!$G$18:$G$1017),0)","v":3},{"$f":"IFERROR($E144*SUMIF('Daily Log'!$I$18:$I$1017,$B144,'Daily Log'!$J$18:$J$1017),0)","v":3},{"$f":"IFERROR($E144*SUMIF('Daily Log'!$L$18:$L$1017,$B144,'Daily Log'!$M$18:$M$1017),0)","v":2},{"$f":"IFERROR($E144*SUMIF('Daily Log'!$O$18:$O$1017,$B144,'Daily Log'!$P$18:$P$1017),0)","v":2},{"$f":"IFERROR($E144*SUMIF('Daily Log'!$R$18:$R$1017,$B144,'Daily Log'!$S$18:$S$1017),0)","v":1},{"$f":"IFERROR($E144*SUMIF('Daily Log'!$U$18:$U$1017,$B144,'Daily Log'!$V$18:$V$1017),0)","v":4},{"$f":"IFERROR($E144*SUMIF('Daily Log'!#REF!,$B144,'Daily Log'!#REF!),0)","v":0},{"$f":"IFERROR($E144*SUMIF('Daily Log'!#REF!,$B144,'Daily Log'!#REF!),0)","v":0},{"$f":"IFERROR($E144*SUMIF('Daily Log'!#REF!,$B144,'Daily Log'!#REF!),0)","v":0},{"$f":"IFERROR($E144*SUMIF('Daily Log'!#REF!,$B144,'Daily Log'!#REF!),0)","v":0},{"$f":"IFERROR($E144*SUMIF('Daily Log'!#REF!,$B144,'Daily Log'!#REF!),0)","v":0}]
["","DB07 1007:CHK SALAD",null,"SIDE ORDER-WESTERN CRUISE ",1,8,{"$f":"IFERROR($E145*SUMIF('Daily Log'!#REF!,$B145,'Daily Log'!#REF!),0)","v":0},{"$f":"IFERROR($E145*SUMIF('Daily Log'!#REF!,$B145,'Daily Log'!#REF!),0)","v":0},{"$f":"IFERROR($E145*SUMIF('Daily Log'!#REF!,$B145,'Daily Log'!#REF!),0)","v":0}," ",{"$f":"IFERROR($E145*SUMIF('Daily Log'!#REF!,$B145,'Daily Log'!#REF!),0)","v":0},{"$f":"IFERROR($E145*SUMIF('Daily Log'!#REF!,$B145,'Daily Log'!#REF!),0)","v":0},{"$f":"IFERROR($E145*SUMIF('Daily Log'!#REF!,$B145,'Daily Log'!#REF!),0)","v":0},{"$f":"IFERROR($E145*SUMIF('Daily Log'!#REF!,$B145,'Daily Log'!#REF!),0)","v":0},{"$f":"IFERROR($E145*SUMIF('Daily Log'!#REF!,$B145,'Daily Log'!#REF!),0)","v":0},{"$f":"IFERROR($E145*SUMIF('Daily Log'!#REF!,$B145,'Daily Log'!#REF!),0)","v":0},{"$f":"IFERROR($E145*SUMIF('Daily Log'!#REF!,$B145,'Daily Log'!#REF!),0)","v":0},{"$f":"IFERROR($E145*SUMIF('Daily Log'!#REF!,$B145,'Daily Log'!#REF!),0)","v":0},{"$f":"IFERROR($E145*SUMIF('Daily Log'!#REF!,$B145,'Daily Log'!#REF!),0)","v":0},{"$f":"IFERROR($E145*SUMIF('Daily Log'!#REF!,$B145,'Daily Log'!#REF!),0)","v":0},{"$f":"IFERROR($E145*SUMIF('Daily Log'!#REF!,$B145,'Daily Log'!#REF!),0)","v":0},{"$f":"IFERROR($E145*SUMIF('Daily Log'!#REF!,$B145,'Daily Log'!#REF!),0)","v":0},{"$f":"IFERROR($E145*SUMIF('Daily Log'!#REF!,$B145,'Daily Log'!#REF!),0)","v":0},{"$f":"IFERROR($E145*SUMIF('Daily Log'!#REF!,$B145,'Daily Log'!#REF!),0)","v":0},{"$f":"IFERROR($E145*SUMIF('Daily Log'!#REF!,$B145,'Daily Log'!#REF!),0)","v":0},{"$f":"IFERROR($E145*SUMIF('Daily Log'!$C$18:$C$1017,$B145,'Daily Log'!$D$18:$D$1017),0)","v":1},{"$f":"IFERROR($E145*SUMIF('Daily Log'!$F$18:$F$1017,$B145,'Daily Log'!$G$18:$G$1017),0)","v":2},{"$f":"IFERROR($E145*SUMIF('Daily Log'!$I$18:$I$1017,$B145,'Daily Log'!$J$18:$J$1017),0)","v":0},{"$f":"IFERROR($E145*SUMIF('Daily Log'!$L$18:$L$1017,$B145,'Daily Log'!$M$18:$M$1017),0)","v":2},{"$f":"IFERROR($E145*SUMIF('Daily Log'!$O$18:$O$1017,$B145,'Daily Log'!$P$18:$P$1017),0)","v":1},{"$f":"IFERROR($E145*SUMIF('Daily Log'!$R$18:$R$1017,$B145,'Daily Log'!$S$18:$S$1017),0)","v":2},{"$f":"IFERROR($E145*SUMIF('Daily Log'!$U$18:$U$1017,$B145,'Daily Log'!$V$18:$V$1017),0)","v":0},{"$f":"IFERROR($E145*SUMIF('Daily Log'!#REF!,$B145,'Daily Log'!#REF!),0)","v":0},{"$f":"IFERROR($E145*SUMIF('Daily Log'!#REF!,$B145,'Daily Log'!#REF!),0)","v":0},{"$f":"IFERROR($E145*SUMIF('Daily Log'!#REF!,$B145,'Daily Log'!#REF!),0)","v":0},{"$f":"IFERROR($E145*SUMIF('Daily Log'!#REF!,$B145,'Daily Log'!#REF!),0)","v":0},{"$f":"IFERROR($E145*SUMIF('Daily Log'!#REF!,$B145,'Daily Log'!#REF!),0)","v":0}]
[null,"DC01 1101:THAI CHK",null,"SIDE ORDER-LOCAL DELIGHTS",1,29,{"$f":"IFERROR($E146*SUMIF('Daily Log'!#REF!,$B146,'Daily Log'!#REF!),0)","v":0},{"$f":"IFERROR($E146*SUMIF('Daily Log'!#REF!,$B146,'Daily Log'!#REF!),0)","v":0},{"$f":"IFERROR($E146*SUMIF('Daily Log'!#REF!,$B146,'Daily Log'!#REF!),0)","v":0}," ",{"$f":"IFERROR($E146*SUMIF('Daily Log'!#REF!,$B146,'Daily Log'!#REF!),0)","v":0},{"$f":"IFERROR($E146*SUMIF('Daily Log'!#REF!,$B146,'Daily Log'!#REF!),0)","v":0},{"$f":"IFERROR($E146*SUMIF('Daily Log'!#REF!,$B146,'Daily Log'!#REF!),0)","v":0},{"$f":"IFERROR($E146*SUMIF('Daily Log'!#REF!,$B146,'Daily Log'!#REF!),0)","v":0},{"$f":"IFERROR($E146*SUMIF('Daily Log'!#REF!,$B146,'Daily Log'!#REF!),0)","v":0},{"$f":"IFERROR($E146*SUMIF('Daily Log'!#REF!,$B146,'Daily Log'!#REF!),0)","v":0},{"$f":"IFERROR($E146*SUMIF('Daily Log'!#REF!,$B146,'Daily Log'!#REF!),0)","v":0},{"$f":"IFERROR($E146*SUMIF('Daily Log'!#REF!,$B146,'Daily Log'!#REF!),0)","v":0},{"$f":"IFERROR($E146*SUMIF('Daily Log'!#REF!,$B146,'Daily Log'!#REF!),0)","v":0},{"$f":"IFERROR($E146*SUMIF('Daily Log'!#REF!,$B146,'Daily Log'!#REF!),0)","v":0},{"$f":"IFERROR($E146*SUMIF('Daily Log'!#REF!,$B146,'Daily Log'!#REF!),0)","v":0},{"$f":"IFERROR($E146*SUMIF('Daily Log'!#REF!,$B146,'Daily Log'!#REF!),0)","v":0},{"$f":"IFERROR($E146*SUMIF('Daily Log'!#REF!,$B146,'Daily Log'!#REF!),0)","v":0},{"$f":"IFERROR($E146*SUMIF('Daily Log'!#REF!,$B146,'Daily Log'!#REF!),0)","v":0},{"$f":"IFERROR($E146*SUMIF('Daily Log'!#REF!,$B146,'Daily Log'!#REF!),0)","v":0},{"$f":"IFERROR($E146*SUMIF('Daily Log'!$C$18:$C$1017,$B146,'Daily Log'!$D$18:$D$1017),0)","v":3},{"$f":"IFERROR($E146*SUMIF('Daily Log'!$F$18:$F$1017,$B146,'Daily Log'!$G$18:$G$1017),0)","v":2},{"$f":"IFERROR($E146*SUMIF('Daily Log'!$I$18:$I$1017,$B146,'Daily Log'!$J$18:$J$1017),0)","v":8},{"$f":"IFERROR($E146*SUMIF('Daily Log'!$L$18:$L$1017,$B146,'Daily Log'!$M$18:$M$1017),0)","v":3},{"$f":"IFERROR($E146*SUMIF('Daily Log'!$O$18:$O$1017,$B146,'Daily Log'!$P$18:$P$1017),0)","v":5},{"$f":"IFERROR($E146*SUMIF('Daily Log'!$R$18:$R$1017,$B146,'Daily Log'!$S$18:$S$1017),0)","v":6},{"$f":"IFERROR($E146*SUMIF('Daily Log'!$U$18:$U$1017,$B146,'Daily Log'!$V$18:$V$1017),0)","v":2},{"$f":"IFERROR($E146*SUMIF('Daily Log'!#REF!,$B146,'Daily Log'!#REF!),0)","v":0},{"$f":"IFERROR($E146*SUMIF('Daily Log'!#REF!,$B146,'Daily Log'!#REF!),0)","v":0},{"$f":"IFERROR($E146*SUMIF('Daily Log'!#REF!,$B146,'Daily Log'!#REF!),0)","v":0},{"$f":"IFERROR($E146*SUMIF('Daily Log'!#REF!,$B146,'Daily Log'!#REF!),0)","v":0},{"$f":"IFERROR($E146*SUMIF('Daily Log'!#REF!,$B146,'Daily Log'!#REF!),0)","v":0}]
[null,"DC02 1102:MAMITE CHK",null,"SIDE ORDER-LOCAL DELIGHTS",1,19,{"$f":"IFERROR($E147*SUMIF('Daily Log'!#REF!,$B147,'Daily Log'!#REF!),0)","v":0},{"$f":"IFERROR($E147*SUMIF('Daily Log'!#REF!,$B147,'Daily Log'!#REF!),0)","v":0},{"$f":"IFERROR($E147*SUMIF('Daily Log'!#REF!,$B147,'Daily Log'!#REF!),0)","v":0}," ",{"$f":"IFERROR($E147*SUMIF('Daily Log'!#REF!,$B147,'Daily Log'!#REF!),0)","v":0},{"$f":"IFERROR($E147*SUMIF('Daily Log'!#REF!,$B147,'Daily Log'!#REF!),0)","v":0},{"$f":"IFERROR($E147*SUMIF('Daily Log'!#REF!,$B147,'Daily Log'!#REF!),0)","v":0},{"$f":"IFERROR($E147*SUMIF('Daily Log'!#REF!,$B147,'Daily Log'!#REF!),0)","v":0},{"$f":"IFERROR($E147*SUMIF('Daily Log'!#REF!,$B147,'Daily Log'!#REF!),0)","v":0},{"$f":"IFERROR($E147*SUMIF('Daily Log'!#REF!,$B147,'Daily Log'!#REF!),0)","v":0},{"$f":"IFERROR($E147*SUMIF('Daily Log'!#REF!,$B147,'Daily Log'!#REF!),0)","v":0},{"$f":"IFERROR($E147*SUMIF('Daily Log'!#REF!,$B147,'Daily Log'!#REF!),0)","v":0},{"$f":"IFERROR($E147*SUMIF('Daily Log'!#REF!,$B147,'Daily Log'!#REF!),0)","v":0},{"$f":"IFERROR($E147*SUMIF('Daily Log'!#REF!,$B147,'Daily Log'!#REF!),0)","v":0},{"$f":"IFERROR($E147*SUMIF('Daily Log'!#REF!,$B147,'Daily Log'!#REF!),0)","v":0},{"$f":"IFERROR($E147*SUMIF('Daily Log'!#REF!,$B147,'Daily Log'!#REF!),0)","v":0},{"$f":"IFERROR($E147*SUMIF('Daily Log'!#REF!,$B147,'Daily Log'!#REF!),0)","v":0},{"$f":"IFERROR($E147*SUMIF('Daily Log'!#REF!,$B147,'Daily Log'!#REF!),0)","v":0},{"$f":"IFERROR($E147*SUMIF('Daily Log'!#REF!,$B147,'Daily Log'!#REF!),0)","v":0},{"$f":"IFERROR($E147*SUMIF('Daily Log'!$C$18:$C$1017,$B147,'Daily Log'!$D$18:$D$1017),0)","v":4},{"$f":"IFERROR($E147*SUMIF('Daily Log'!$F$18:$F$1017,$B147,'Daily Log'!$G$18:$G$1017),0)","v":0},{"$f":"IFERROR($E147*SUMIF('Daily Log'!$I$18:$I$1017,$B147,'Daily Log'!$J$18:$J$1017),0)","v":0},{"$f":"IFERROR($E147*SUMIF('Daily Log'!$L$18:$L$1017,$B147,'Daily Log'!$M$18:$M$1017),0)","v":5},{"$f":"IFERROR($E147*SUMIF('Daily Log'!$O$18:$O$1017,$B147,'Daily Log'!$P$18:$P$1017),0)","v":3},{"$f":"IFERROR($E147*SUMIF('Daily Log'!$R$18:$R$1017,$B147,'Daily Log'!$S$18:$S$1017),0)","v":5},{"$f":"IFERROR($E147*SUMIF('Daily Log'!$U$18:$U$1017,$B147,'Daily Log'!$V$18:$V$1017),0)","v":2},{"$f":"IFERROR($E147*SUMIF('Daily Log'!#REF!,$B147,'Daily Log'!#REF!),0)","v":0},{"$f":"IFERROR($E147*SUMIF('Daily Log'!#REF!,$B147,'Daily Log'!#REF!),0)","v":0},{"$f":"IFERROR($E147*SUMIF('Daily Log'!#REF!,$B147,'Daily Log'!#REF!),0)","v":0},{"$f":"IFERROR($E147*SUMIF('Daily Log'!#REF!,$B147,'Daily Log'!#REF!),0)","v":0},{"$f":"IFERROR($E147*SUMIF('Daily Log'!#REF!,$B147,'Daily Log'!#REF!),0)","v":0}]
[null,"DC03 1103:KO PO CHK",null,"SIDE ORDER-LOCAL DELIGHTS",1,13,{"$f":"IFERROR($E148*SUMIF('Daily Log'!#REF!,$B148,'Daily Log'!#REF!),0)","v":0},{"$f":"IFERROR($E148*SUMIF('Daily Log'!#REF!,$B148,'Daily Log'!#REF!),0)","v":0},{"$f":"IFERROR($E148*SUMIF('Daily Log'!#REF!,$B148,'Daily Log'!#REF!),0)","v":0}," ",{"$f":"IFERROR($E148*SUMIF('Daily Log'!#REF!,$B148,'Daily Log'!#REF!),0)","v":0},{"$f":"IFERROR($E148*SUMIF('Daily Log'!#REF!,$B148,'Daily Log'!#REF!),0)","v":0},{"$f":"IFERROR($E148*SUMIF('Daily Log'!#REF!,$B148,'Daily Log'!#REF!),0)","v":0},{"$f":"IFERROR($E148*SUMIF('Daily Log'!#REF!,$B148,'Daily Log'!#REF!),0)","v":0},{"$f":"IFERROR($E148*SUMIF('Daily Log'!#REF!,$B148,'Daily Log'!#REF!),0)","v":0},{"$f":"IFERROR($E148*SUMIF('Daily Log'!#REF!,$B148,'Daily Log'!#REF!),0)","v":0},{"$f":"IFERROR($E148*SUMIF('Daily Log'!#REF!,$B148,'Daily Log'!#REF!),0)","v":0},{"$f":"IFERROR($E148*SUMIF('Daily Log'!#REF!,$B148,'Daily Log'!#REF!),0)","v":0},{"$f":"IFERROR($E148*SUMIF('Daily Log'!#REF!,$B148,'Daily Log'!#REF!),0)","v":0},{"$f":"IFERROR($E148*SUMIF('Daily Log'!#REF!,$B148,'Daily Log'!#REF!),0)","v":0},{"$f":"IFERROR($E148*SUMIF('Daily Log'!#REF!,$B148,'Daily Log'!#REF!),0)","v":0},{"$f":"IFERROR($E148*SUMIF('Daily Log'!#REF!,$B148,'Daily Log'!#REF!),0)","v":0},{"$f":"IFERROR($E148*SUMIF('Daily Log'!#REF!,$B148,'Daily Log'!#REF!),0)","v":0},{"$f":"IFERROR($E148*SUMIF('Daily Log'!#REF!,$B148,'Daily Log'!#REF!),0)","v":0},{"$f":"IFERROR($E148*SUMIF('Daily Log'!#REF!,$B148,'Daily Log'!#REF!),0)","v":0},{"$f":"IFERROR($E148*SUMIF('Daily Log'!$C$18:$C$1017,$B148,'Daily Log'!$D$18:$D$1017),0)","v":2},{"$f":"IFERROR($E148*SUMIF('Daily Log'!$F$18:$F$1017,$B148,'Daily Log'!$G$18:$G$1017),0)","v":4},{"$f":"IFERROR($E148*SUMIF('Daily Log'!$I$18:$I$1017,$B148,'Daily Log'!$J$18:$J$1017),0)","v":2},{"$f":"IFERROR($E148*SUMIF('Daily Log'!$L$18:$L$1017,$B148,'Daily Log'!$M$18:$M$1017),0)","v":0},{"$f":"IFERROR($E148*SUMIF('Daily Log'!$O$18:$O$1017,$B148,'Daily Log'!$P$18:$P$1017),0)","v":2},{"$f":"IFERROR($E148*SUMIF('Daily Log'!$R$18:$R$1017,$B148,'Daily Log'!$S$18:$S$1017),0)","v":3},{"$f":"IFERROR($E148*SUMIF('Daily Log'!$U$18:$U$1017,$B148,'Daily Log'!$V$18:$V$1017),0)","v":0},{"$f":"IFERROR($E148*SUMIF('Daily Log'!#REF!,$B148,'Daily Log'!#REF!),0)","v":0},{"$f":"IFERROR($E148*SUMIF('Daily Log'!#REF!,$B148,'Daily Log'!#REF!),0)","v":0},{"$f":"IFERROR($E148*SUMIF('Daily Log'!#REF!,$B148,'Daily Log'!#REF!),0)","v":0},{"$f":"IFERROR($E148*SUMIF('Daily Log'!#REF!,$B148,'Daily Log'!#REF!),0)","v":0},{"$f":"IFERROR($E148*SUMIF('Daily Log'!#REF!,$B148,'Daily Log'!#REF!),0)","v":0}]
[null,"DC04 1104:S&S CHK",null,"SIDE ORDER-LOCAL DELIGHTS",1,5,{"$f":"IFERROR($E149*SUMIF('Daily Log'!#REF!,$B149,'Daily Log'!#REF!),0)","v":0},{"$f":"IFERROR($E149*SUMIF('Daily Log'!#REF!,$B149,'Daily Log'!#REF!),0)","v":0},{"$f":"IFERROR($E149*SUMIF('Daily Log'!#REF!,$B149,'Daily Log'!#REF!),0)","v":0}," ",{"$f":"IFERROR($E149*SUMIF('Daily Log'!#REF!,$B149,'Daily Log'!#REF!),0)","v":0},{"$f":"IFERROR($E149*SUMIF('Daily Log'!#REF!,$B149,'Daily Log'!#REF!),0)","v":0},{"$f":"IFERROR($E149*SUMIF('Daily Log'!#REF!,$B149,'Daily Log'!#REF!),0)","v":0},{"$f":"IFERROR($E149*SUMIF('Daily Log'!#REF!,$B149,'Daily Log'!#REF!),0)","v":0},{"$f":"IFERROR($E149*SUMIF('Daily Log'!#REF!,$B149,'Daily Log'!#REF!),0)","v":0},{"$f":"IFERROR($E149*SUMIF('Daily Log'!#REF!,$B149,'Daily Log'!#REF!),0)","v":0},{"$f":"IFERROR($E149*SUMIF('Daily Log'!#REF!,$B149,'Daily Log'!#REF!),0)","v":0},{"$f":"IFERROR($E149*SUMIF('Daily Log'!#REF!,$B149,'Daily Log'!#REF!),0)","v":0},{"$f":"IFERROR($E149*SUMIF('Daily Log'!#REF!,$B149,'Daily Log'!#REF!),0)","v":0},{"$f":"IFERROR($E149*SUMIF('Daily Log'!#REF!,$B149,'Daily Log'!#REF!),0)","v":0},{"$f":"IFERROR($E149*SUMIF('Daily Log'!#REF!,$B149,'Daily Log'!#REF!),0)","v":0},{"$f":"IFERROR($E149*SUMIF('Daily Log'!#REF!,$B149,'Daily Log'!#REF!),0)","v":0},{"$f":"IFERROR($E149*SUMIF('Daily Log'!#REF!,$B149,'Daily Log'!#REF!),0)","v":0},{"$f":"IFERROR($E149*SUMIF('Daily Log'!#REF!,$B149,'Daily Log'!#REF!),0)","v":0},{"$f":"IFERROR($E149*SUMIF('Daily Log'!#REF!,$B149,'Daily Log'!#REF!),0)","v":0},{"$f":"IFERROR($E149*SUMIF('Daily Log'!$C$18:$C$1017,$B149,'Daily Log'!$D$18:$D$1017),0)","v":0},{"$f":"IFERROR($E149*SUMIF('Daily Log'!$F$18:$F$1017,$B149,'Daily Log'!$G$18:$G$1017),0)","v":0},{"$f":"IFERROR($E149*SUMIF('Daily Log'!$I$18:$I$1017,$B149,'Daily Log'!$J$18:$J$1017),0)","v":1},{"$f":"IFERROR($E149*SUMIF('Daily Log'!$L$18:$L$1017,$B149,'Daily Log'!$M$18:$M$1017),0)","v":3},{"$f":"IFERROR($E149*SUMIF('Daily Log'!$O$18:$O$1017,$B149,'Daily Log'!$P$18:$P$1017),0)","v":0},{"$f":"IFERROR($E149*SUMIF('Daily Log'!$R$18:$R$1017,$B149,'Daily Log'!$S$18:$S$1017),0)","v":1},{"$f":"IFERROR($E149*SUMIF('Daily Log'!$U$18:$U$1017,$B149,'Daily Log'!$V$18:$V$1017),0)","v":0},{"$f":"IFERROR($E149*SUMIF('Daily Log'!#REF!,$B149,'Daily Log'!#REF!),0)","v":0},{"$f":"IFERROR($E149*SUMIF('Daily Log'!#REF!,$B149,'Daily Log'!#REF!),0)","v":0},{"$f":"IFERROR($E149*SUMIF('Daily Log'!#REF!,$B149,'Daily Log'!#REF!),0)","v":0},{"$f":"IFERROR($E149*SUMIF('Daily Log'!#REF!,$B149,'Daily Log'!#REF!),0)","v":0},{"$f":"IFERROR($E149*SUMIF('Daily Log'!#REF!,$B149,'Daily Log'!#REF!),0)","v":0}]
[null,"DC05 1105:BUTTER CHK",null,"SIDE ORDER-LOCAL DELIGHTS",1,34,{"$f":"IFERROR($E150*SUMIF('Daily Log'!#REF!,$B150,'Daily Log'!#REF!),0)","v":0},{"$f":"IFERROR($E150*SUMIF('Daily Log'!#REF!,$B150,'Daily Log'!#REF!),0)","v":0},{"$f":"IFERROR($E150*SUMIF('Daily Log'!#REF!,$B150,'Daily Log'!#REF!),0)","v":0}," ",{"$f":"IFERROR($E150*SUMIF('Daily Log'!#REF!,$B150,'Daily Log'!#REF!),0)","v":0},{"$f":"IFERROR($E150*SUMIF('Daily Log'!#REF!,$B150,'Daily Log'!#REF!),0)","v":0},{"$f":"IFERROR($E150*SUMIF('Daily Log'!#REF!,$B150,'Daily Log'!#REF!),0)","v":0},{"$f":"IFERROR($E150*SUMIF('Daily Log'!#REF!,$B150,'Daily Log'!#REF!),0)","v":0},{"$f":"IFERROR($E150*SUMIF('Daily Log'!#REF!,$B150,'Daily Log'!#REF!),0)","v":0},{"$f":"IFERROR($E150*SUMIF('Daily Log'!#REF!,$B150,'Daily Log'!#REF!),0)","v":0},{"$f":"IFERROR($E150*SUMIF('Daily Log'!#REF!,$B150,'Daily Log'!#REF!),0)","v":0},{"$f":"IFERROR($E150*SUMIF('Daily Log'!#REF!,$B150,'Daily Log'!#REF!),0)","v":0},{"$f":"IFERROR($E150*SUMIF('Daily Log'!#REF!,$B150,'Daily Log'!#REF!),0)","v":0},{"$f":"IFERROR($E150*SUMIF('Daily Log'!#REF!,$B150,'Daily Log'!#REF!),0)","v":0},{"$f":"IFERROR($E150*SUMIF('Daily Log'!#REF!,$B150,'Daily Log'!#REF!),0)","v":0},{"$f":"IFERROR($E150*SUMIF('Daily Log'!#REF!,$B150,'Daily Log'!#REF!),0)","v":0},{"$f":"IFERROR($E150*SUMIF('Daily Log'!#REF!,$B150,'Daily Log'!#REF!),0)","v":0},{"$f":"IFERROR($E150*SUMIF('Daily Log'!#REF!,$B150,'Daily Log'!#REF!),0)","v":0},{"$f":"IFERROR($E150*SUMIF('Daily Log'!#REF!,$B150,'Daily Log'!#REF!),0)","v":0},{"$f":"IFERROR($E150*SUMIF('Daily Log'!$C$18:$C$1017,$B150,'Daily Log'!$D$18:$D$1017),0)","v":3},{"$f":"IFERROR($E150*SUMIF('Daily Log'!$F$18:$F$1017,$B150,'Daily Log'!$G$18:$G$1017),0)","v":8},{"$f":"IFERROR($E150*SUMIF('Daily Log'!$I$18:$I$1017,$B150,'Daily Log'!$J$18:$J$1017),0)","v":2},{"$f":"IFERROR($E150*SUMIF('Daily Log'!$L$18:$L$1017,$B150,'Daily Log'!$M$18:$M$1017),0)","v":3},{"$f":"IFERROR($E150*SUMIF('Daily Log'!$O$18:$O$1017,$B150,'Daily Log'!$P$18:$P$1017),0)","v":4},{"$f":"IFERROR($E150*SUMIF('Daily Log'!$R$18:$R$1017,$B150,'Daily Log'!$S$18:$S$1017),0)","v":9},{"$f":"IFERROR($E150*SUMIF('Daily Log'!$U$18:$U$1017,$B150,'Daily Log'!$V$18:$V$1017),0)","v":5},{"$f":"IFERROR($E150*SUMIF('Daily Log'!#REF!,$B150,'Daily Log'!#REF!),0)","v":0},{"$f":"IFERROR($E150*SUMIF('Daily Log'!#REF!,$B150,'Daily Log'!#REF!),0)","v":0},{"$f":"IFERROR($E150*SUMIF('Daily Log'!#REF!,$B150,'Daily Log'!#REF!),0)","v":0},{"$f":"IFERROR($E150*SUMIF('Daily Log'!#REF!,$B150,'Daily Log'!#REF!),0)","v":0},{"$f":"IFERROR($E150*SUMIF('Daily Log'!#REF!,$B150,'Daily Log'!#REF!),0)","v":0}]
[null,"DC06 1106:HK F.RICE",null,"SIDE ORDER-LOCAL DELIGHTS",1,14,{"$f":"IFERROR($E151*SUMIF('Daily Log'!#REF!,$B151,'Daily Log'!#REF!),0)","v":0},{"$f":"IFERROR($E151*SUMIF('Daily Log'!#REF!,$B151,'Daily Log'!#REF!),0)","v":0},{"$f":"IFERROR($E151*SUMIF('Daily Log'!#REF!,$B151,'Daily Log'!#REF!),0)","v":0}," ",{"$f":"IFERROR($E151*SUMIF('Daily Log'!#REF!,$B151,'Daily Log'!#REF!),0)","v":0},{"$f":"IFERROR($E151*SUMIF('Daily Log'!#REF!,$B151,'Daily Log'!#REF!),0)","v":0},{"$f":"IFERROR($E151*SUMIF('Daily Log'!#REF!,$B151,'Daily Log'!#REF!),0)","v":0},{"$f":"IFERROR($E151*SUMIF('Daily Log'!#REF!,$B151,'Daily Log'!#REF!),0)","v":0},{"$f":"IFERROR($E151*SUMIF('Daily Log'!#REF!,$B151,'Daily Log'!#REF!),0)","v":0},{"$f":"IFERROR($E151*SUMIF('Daily Log'!#REF!,$B151,'Daily Log'!#REF!),0)","v":0},{"$f":"IFERROR($E151*SUMIF('Daily Log'!#REF!,$B151,'Daily Log'!#REF!),0)","v":0},{"$f":"IFERROR($E151*SUMIF('Daily Log'!#REF!,$B151,'Daily Log'!#REF!),0)","v":0},{"$f":"IFERROR($E151*SUMIF('Daily Log'!#REF!,$B151,'Daily Log'!#REF!),0)","v":0},{"$f":"IFERROR($E151*SUMIF('Daily Log'!#REF!,$B151,'Daily Log'!#REF!),0)","v":0},{"$f":"IFERROR($E151*SUMIF('Daily Log'!#REF!,$B151,'Daily Log'!#REF!),0)","v":0},{"$f":"IFERROR($E151*SUMIF('Daily Log'!#REF!,$B151,'Daily Log'!#REF!),0)","v":0},{"$f":"IFERROR($E151*SUMIF('Daily Log'!#REF!,$B151,'Daily Log'!#REF!),0)","v":0},{"$f":"IFERROR($E151*SUMIF('Daily Log'!#REF!,$B151,'Daily Log'!#REF!),0)","v":0},{"$f":"IFERROR($E151*SUMIF('Daily Log'!#REF!,$B151,'Daily Log'!#REF!),0)","v":0},{"$f":"IFERROR($E151*SUMIF('Daily Log'!$C$18:$C$1017,$B151,'Daily Log'!$D$18:$D$1017),0)","v":2},{"$f":"IFERROR($E151*SUMIF('Daily Log'!$F$18:$F$1017,$B151,'Daily Log'!$G$18:$G$1017),0)","v":3},{"$f":"IFERROR($E151*SUMIF('Daily Log'!$I$18:$I$1017,$B151,'Daily Log'!$J$18:$J$1017),0)","v":2},{"$f":"IFERROR($E151*SUMIF('Daily Log'!$L$18:$L$1017,$B151,'Daily Log'!$M$18:$M$1017),0)","v":4},{"$f":"IFERROR($E151*SUMIF('Daily Log'!$O$18:$O$1017,$B151,'Daily Log'!$P$18:$P$1017),0)","v":1},{"$f":"IFERROR($E151*SUMIF('Daily Log'!$R$18:$R$1017,$B151,'Daily Log'!$S$18:$S$1017),0)","v":0},{"$f":"IFERROR($E151*SUMIF('Daily Log'!$U$18:$U$1017,$B151,'Daily Log'!$V$18:$V$1017),0)","v":2},{"$f":"IFERROR($E151*SUMIF('Daily Log'!#REF!,$B151,'Daily Log'!#REF!),0)","v":0},{"$f":"IFERROR($E151*SUMIF('Daily Log'!#REF!,$B151,'Daily Log'!#REF!),0)","v":0},{"$f":"IFERROR($E151*SUMIF('Daily Log'!#REF!,$B151,'Daily Log'!#REF!),0)","v":0},{"$f":"IFERROR($E151*SUMIF('Daily Log'!#REF!,$B151,'Daily Log'!#REF!),0)","v":0},{"$f":"IFERROR($E151*SUMIF('Daily Log'!#REF!,$B151,'Daily Log'!#REF!),0)","v":0}]
[null,"DC07 1107:SBL F.RICE",null,"SIDE ORDER-LOCAL DELIGHTS",1,22,{"$f":"IFERROR($E152*SUMIF('Daily Log'!#REF!,$B152,'Daily Log'!#REF!),0)","v":0},{"$f":"IFERROR($E152*SUMIF('Daily Log'!#REF!,$B152,'Daily Log'!#REF!),0)","v":0},{"$f":"IFERROR($E152*SUMIF('Daily Log'!#REF!,$B152,'Daily Log'!#REF!),0)","v":0}," ",{"$f":"IFERROR($E152*SUMIF('Daily Log'!#REF!,$B152,'Daily Log'!#REF!),0)","v":0},{"$f":"IFERROR($E152*SUMIF('Daily Log'!#REF!,$B152,'Daily Log'!#REF!),0)","v":0},{"$f":"IFERROR($E152*SUMIF('Daily Log'!#REF!,$B152,'Daily Log'!#REF!),0)","v":0},{"$f":"IFERROR($E152*SUMIF('Daily Log'!#REF!,$B152,'Daily Log'!#REF!),0)","v":0},{"$f":"IFERROR($E152*SUMIF('Daily Log'!#REF!,$B152,'Daily Log'!#REF!),0)","v":0},{"$f":"IFERROR($E152*SUMIF('Daily Log'!#REF!,$B152,'Daily Log'!#REF!),0)","v":0},{"$f":"IFERROR($E152*SUMIF('Daily Log'!#REF!,$B152,'Daily Log'!#REF!),0)","v":0},{"$f":"IFERROR($E152*SUMIF('Daily Log'!#REF!,$B152,'Daily Log'!#REF!),0)","v":0},{"$f":"IFERROR($E152*SUMIF('Daily Log'!#REF!,$B152,'Daily Log'!#REF!),0)","v":0},{"$f":"IFERROR($E152*SUMIF('Daily Log'!#REF!,$B152,'Daily Log'!#REF!),0)","v":0},{"$f":"IFERROR($E152*SUMIF('Daily Log'!#REF!,$B152,'Daily Log'!#REF!),0)","v":0},{"$f":"IFERROR($E152*SUMIF('Daily Log'!#REF!,$B152,'Daily Log'!#REF!),0)","v":0},{"$f":"IFERROR($E152*SUMIF('Daily Log'!#REF!,$B152,'Daily Log'!#REF!),0)","v":0},{"$f":"IFERROR($E152*SUMIF('Daily Log'!#REF!,$B152,'Daily Log'!#REF!),0)","v":0},{"$f":"IFERROR($E152*SUMIF('Daily Log'!#REF!,$B152,'Daily Log'!#REF!),0)","v":0},{"$f":"IFERROR($E152*SUMIF('Daily Log'!$C$18:$C$1017,$B152,'Daily Log'!$D$18:$D$1017),0)","v":5},{"$f":"IFERROR($E152*SUMIF('Daily Log'!$F$18:$F$1017,$B152,'Daily Log'!$G$18:$G$1017),0)","v":1},{"$f":"IFERROR($E152*SUMIF('Daily Log'!$I$18:$I$1017,$B152,'Daily Log'!$J$18:$J$1017),0)","v":2},{"$f":"IFERROR($E152*SUMIF('Daily Log'!$L$18:$L$1017,$B152,'Daily Log'!$M$18:$M$1017),0)","v":6},{"$f":"IFERROR($E152*SUMIF('Daily Log'!$O$18:$O$1017,$B152,'Daily Log'!$P$18:$P$1017),0)","v":2},{"$f":"IFERROR($E152*SUMIF('Daily Log'!$R$18:$R$1017,$B152,'Daily Log'!$S$18:$S$1017),0)","v":4},{"$f":"IFERROR($E152*SUMIF('Daily Log'!$U$18:$U$1017,$B152,'Daily Log'!$V$18:$V$1017),0)","v":2},{"$f":"IFERROR($E152*SUMIF('Daily Log'!#REF!,$B152,'Daily Log'!#REF!),0)","v":0},{"$f":"IFERROR($E152*SUMIF('Daily Log'!#REF!,$B152,'Daily Log'!#REF!),0)","v":0},{"$f":"IFERROR($E152*SUMIF('Daily Log'!#REF!,$B152,'Daily Log'!#REF!),0)","v":0},{"$f":"IFERROR($E152*SUMIF('Daily Log'!#REF!,$B152,'Daily Log'!#REF!),0)","v":0},{"$f":"IFERROR($E152*SUMIF('Daily Log'!#REF!,$B152,'Daily Log'!#REF!),0)","v":0}]
[null,"DC08 1108:SBL F.MEE",null,"SIDE ORDER-LOCAL DELIGHTS",1,5,{"$f":"IFERROR($E153*SUMIF('Daily Log'!#REF!,$B153,'Daily Log'!#REF!),0)","v":0},{"$f":"IFERROR($E153*SUMIF('Daily Log'!#REF!,$B153,'Daily Log'!#REF!),0)","v":0},{"$f":"IFERROR($E153*SUMIF('Daily Log'!#REF!,$B153,'Daily Log'!#REF!),0)","v":0}," ",{"$f":"IFERROR($E153*SUMIF('Daily Log'!#REF!,$B153,'Daily Log'!#REF!),0)","v":0},{"$f":"IFERROR($E153*SUMIF('Daily Log'!#REF!,$B153,'Daily Log'!#REF!),0)","v":0},{"$f":"IFERROR($E153*SUMIF('Daily Log'!#REF!,$B153,'Daily Log'!#REF!),0)","v":0},{"$f":"IFERROR($E153*SUMIF('Daily Log'!#REF!,$B153,'Daily Log'!#REF!),0)","v":0},{"$f":"IFERROR($E153*SUMIF('Daily Log'!#REF!,$B153,'Daily Log'!#REF!),0)","v":0},{"$f":"IFERROR($E153*SUMIF('Daily Log'!#REF!,$B153,'Daily Log'!#REF!),0)","v":0},{"$f":"IFERROR($E153*SUMIF('Daily Log'!#REF!,$B153,'Daily Log'!#REF!),0)","v":0},{"$f":"IFERROR($E153*SUMIF('Daily Log'!#REF!,$B153,'Daily Log'!#REF!),0)","v":0},{"$f":"IFERROR($E153*SUMIF('Daily Log'!#REF!,$B153,'Daily Log'!#REF!),0)","v":0},{"$f":"IFERROR($E153*SUMIF('Daily Log'!#REF!,$B153,'Daily Log'!#REF!),0)","v":0},{"$f":"IFERROR($E153*SUMIF('Daily Log'!#REF!,$B153,'Daily Log'!#REF!),0)","v":0},{"$f":"IFERROR($E153*SUMIF('Daily Log'!#REF!,$B153,'Daily Log'!#REF!),0)","v":0},{"$f":"IFERROR($E153*SUMIF('Daily Log'!#REF!,$B153,'Daily Log'!#REF!),0)","v":0},{"$f":"IFERROR($E153*SUMIF('Daily Log'!#REF!,$B153,'Daily Log'!#REF!),0)","v":0},{"$f":"IFERROR($E153*SUMIF('Daily Log'!#REF!,$B153,'Daily Log'!#REF!),0)","v":0},{"$f":"IFERROR($E153*SUMIF('Daily Log'!$C$18:$C$1017,$B153,'Daily Log'!$D$18:$D$1017),0)","v":0},{"$f":"IFERROR($E153*SUMIF('Daily Log'!$F$18:$F$1017,$B153,'Daily Log'!$G$18:$G$1017),0)","v":1},{"$f":"IFERROR($E153*SUMIF('Daily Log'!$I$18:$I$1017,$B153,'Daily Log'!$J$18:$J$1017),0)","v":0},{"$f":"IFERROR($E153*SUMIF('Daily Log'!$L$18:$L$1017,$B153,'Daily Log'!$M$18:$M$1017),0)","v":2},{"$f":"IFERROR($E153*SUMIF('Daily Log'!$O$18:$O$1017,$B153,'Daily Log'!$P$18:$P$1017),0)","v":0},{"$f":"IFERROR($E153*SUMIF('Daily Log'!$R$18:$R$1017,$B153,'Daily Log'!$S$18:$S$1017),0)","v":2},{"$f":"IFERROR($E153*SUMIF('Daily Log'!$U$18:$U$1017,$B153,'Daily Log'!$V$18:$V$1017),0)","v":0},{"$f":"IFERROR($E153*SUMIF('Daily Log'!#REF!,$B153,'Daily Log'!#REF!),0)","v":0},{"$f":"IFERROR($E153*SUMIF('Daily Log'!#REF!,$B153,'Daily Log'!#REF!),0)","v":0},{"$f":"IFERROR($E153*SUMIF('Daily Log'!#REF!,$B153,'Daily Log'!#REF!),0)","v":0},{"$f":"IFERROR($E153*SUMIF('Daily Log'!#REF!,$B153,'Daily Log'!#REF!),0)","v":0},{"$f":"IFERROR($E153*SUMIF('Daily Log'!#REF!,$B153,'Daily Log'!#REF!),0)","v":0}]
[null,"DC09 1109:BP UDON",null,"SIDE ORDER-LOCAL DELIGHTS",1,10,{"$f":"IFERROR($E154*SUMIF('Daily Log'!#REF!,$B154,'Daily Log'!#REF!),0)","v":0},{"$f":"IFERROR($E154*SUMIF('Daily Log'!#REF!,$B154,'Daily Log'!#REF!),0)","v":0},{"$f":"IFERROR($E154*SUMIF('Daily Log'!#REF!,$B154,'Daily Log'!#REF!),0)","v":0}," ",{"$f":"IFERROR($E154*SUMIF('Daily Log'!#REF!,$B154,'Daily Log'!#REF!),0)","v":0},{"$f":"IFERROR($E154*SUMIF('Daily Log'!#REF!,$B154,'Daily Log'!#REF!),0)","v":0},{"$f":"IFERROR($E154*SUMIF('Daily Log'!#REF!,$B154,'Daily Log'!#REF!),0)","v":0},{"$f":"IFERROR($E154*SUMIF('Daily Log'!#REF!,$B154,'Daily Log'!#REF!),0)","v":0},{"$f":"IFERROR($E154*SUMIF('Daily Log'!#REF!,$B154,'Daily Log'!#REF!),0)","v":0},{"$f":"IFERROR($E154*SUMIF('Daily Log'!#REF!,$B154,'Daily Log'!#REF!),0)","v":0},{"$f":"IFERROR($E154*SUMIF('Daily Log'!#REF!,$B154,'Daily Log'!#REF!),0)","v":0},{"$f":"IFERROR($E154*SUMIF('Daily Log'!#REF!,$B154,'Daily Log'!#REF!),0)","v":0},{"$f":"IFERROR($E154*SUMIF('Daily Log'!#REF!,$B154,'Daily Log'!#REF!),0)","v":0},{"$f":"IFERROR($E154*SUMIF('Daily Log'!#REF!,$B154,'Daily Log'!#REF!),0)","v":0},{"$f":"IFERROR($E154*SUMIF('Daily Log'!#REF!,$B154,'Daily Log'!#REF!),0)","v":0},{"$f":"IFERROR($E154*SUMIF('Daily Log'!#REF!,$B154,'Daily Log'!#REF!),0)","v":0},{"$f":"IFERROR($E154*SUMIF('Daily Log'!#REF!,$B154,'Daily Log'!#REF!),0)","v":0},{"$f":"IFERROR($E154*SUMIF('Daily Log'!#REF!,$B154,'Daily Log'!#REF!),0)","v":0},{"$f":"IFERROR($E154*SUMIF('Daily Log'!#REF!,$B154,'Daily Log'!#REF!),0)","v":0},{"$f":"IFERROR($E154*SUMIF('Daily Log'!$C$18:$C$1017,$B154,'Daily Log'!$D$18:$D$1017),0)","v":0},{"$f":"IFERROR($E154*SUMIF('Daily Log'!$F$18:$F$1017,$B154,'Daily Log'!$G$18:$G$1017),0)","v":3},{"$f":"IFERROR($E154*SUMIF('Daily Log'!$I$18:$I$1017,$B154,'Daily Log'!$J$18:$J$1017),0)","v":1},{"$f":"IFERROR($E154*SUMIF('Daily Log'!$L$18:$L$1017,$B154,'Daily Log'!$M$18:$M$1017),0)","v":2},{"$f":"IFERROR($E154*SUMIF('Daily Log'!$O$18:$O$1017,$B154,'Daily Log'!$P$18:$P$1017),0)","v":2},{"$f":"IFERROR($E154*SUMIF('Daily Log'!$R$18:$R$1017,$B154,'Daily Log'!$S$18:$S$1017),0)","v":1},{"$f":"IFERROR($E154*SUMIF('Daily Log'!$U$18:$U$1017,$B154,'Daily Log'!$V$18:$V$1017),0)","v":1},{"$f":"IFERROR($E154*SUMIF('Daily Log'!#REF!,$B154,'Daily Log'!#REF!),0)","v":0},{"$f":"IFERROR($E154*SUMIF('Daily Log'!#REF!,$B154,'Daily Log'!#REF!),0)","v":0},{"$f":"IFERROR($E154*SUMIF('Daily Log'!#REF!,$B154,'Daily Log'!#REF!),0)","v":0},{"$f":"IFERROR($E154*SUMIF('Daily Log'!#REF!,$B154,'Daily Log'!#REF!),0)","v":0},{"$f":"IFERROR($E154*SUMIF('Daily Log'!#REF!,$B154,'Daily Log'!#REF!),0)","v":0}]
[null,"DC10 1110:NISSIN",null,"SIDE ORDER-LOCAL DELIGHTS",1,16,{"$f":"IFERROR($E155*SUMIF('Daily Log'!#REF!,$B155,'Daily Log'!#REF!),0)","v":0},{"$f":"IFERROR($E155*SUMIF('Daily Log'!#REF!,$B155,'Daily Log'!#REF!),0)","v":0},{"$f":"IFERROR($E155*SUMIF('Daily Log'!#REF!,$B155,'Daily Log'!#REF!),0)","v":0}," ",{"$f":"IFERROR($E155*SUMIF('Daily Log'!#REF!,$B155,'Daily Log'!#REF!),0)","v":0},{"$f":"IFERROR($E155*SUMIF('Daily Log'!#REF!,$B155,'Daily Log'!#REF!),0)","v":0},{"$f":"IFERROR($E155*SUMIF('Daily Log'!#REF!,$B155,'Daily Log'!#REF!),0)","v":0},{"$f":"IFERROR($E155*SUMIF('Daily Log'!#REF!,$B155,'Daily Log'!#REF!),0)","v":0},{"$f":"IFERROR($E155*SUMIF('Daily Log'!#REF!,$B155,'Daily Log'!#REF!),0)","v":0},{"$f":"IFERROR($E155*SUMIF('Daily Log'!#REF!,$B155,'Daily Log'!#REF!),0)","v":0},{"$f":"IFERROR($E155*SUMIF('Daily Log'!#REF!,$B155,'Daily Log'!#REF!),0)","v":0},{"$f":"IFERROR($E155*SUMIF('Daily Log'!#REF!,$B155,'Daily Log'!#REF!),0)","v":0},{"$f":"IFERROR($E155*SUMIF('Daily Log'!#REF!,$B155,'Daily Log'!#REF!),0)","v":0},{"$f":"IFERROR($E155*SUMIF('Daily Log'!#REF!,$B155,'Daily Log'!#REF!),0)","v":0},{"$f":"IFERROR($E155*SUMIF('Daily Log'!#REF!,$B155,'Daily Log'!#REF!),0)","v":0},{"$f":"IFERROR($E155*SUMIF('Daily Log'!#REF!,$B155,'Daily Log'!#REF!),0)","v":0},{"$f":"IFERROR($E155*SUMIF('Daily Log'!#REF!,$B155,'Daily Log'!#REF!),0)","v":0},{"$f":"IFERROR($E155*SUMIF('Daily Log'!#REF!,$B155,'Daily Log'!#REF!),0)","v":0},{"$f":"IFERROR($E155*SUMIF('Daily Log'!#REF!,$B155,'Daily Log'!#REF!),0)","v":0},{"$f":"IFERROR($E155*SUMIF('Daily Log'!$C$18:$C$1017,$B155,'Daily Log'!$D$18:$D$1017),0)","v":2},{"$f":"IFERROR($E155*SUMIF('Daily Log'!$F$18:$F$1017,$B155,'Daily Log'!$G$18:$G$1017),0)","v":1},{"$f":"IFERROR($E155*SUMIF('Daily Log'!$I$18:$I$1017,$B155,'Daily Log'!$J$18:$J$1017),0)","v":0},{"$f":"IFERROR($E155*SUMIF('Daily Log'!$L$18:$L$1017,$B155,'Daily Log'!$M$18:$M$1017),0)","v":6},{"$f":"IFERROR($E155*SUMIF('Daily Log'!$O$18:$O$1017,$B155,'Daily Log'!$P$18:$P$1017),0)","v":2},{"$f":"IFERROR($E155*SUMIF('Daily Log'!$R$18:$R$1017,$B155,'Daily Log'!$S$18:$S$1017),0)","v":2},{"$f":"IFERROR($E155*SUMIF('Daily Log'!$U$18:$U$1017,$B155,'Daily Log'!$V$18:$V$1017),0)","v":3},{"$f":"IFERROR($E155*SUMIF('Daily Log'!#REF!,$B155,'Daily Log'!#REF!),0)","v":0},{"$f":"IFERROR($E155*SUMIF('Daily Log'!#REF!,$B155,'Daily Log'!#REF!),0)","v":0},{"$f":"IFERROR($E155*SUMIF('Daily Log'!#REF!,$B155,'Daily Log'!#REF!),0)","v":0},{"$f":"IFERROR($E155*SUMIF('Daily Log'!#REF!,$B155,'Daily Log'!#REF!),0)","v":0},{"$f":"IFERROR($E155*SUMIF('Daily Log'!#REF!,$B155,'Daily Log'!#REF!),0)","v":0}]
[null,"DC11 1111:VEG RICE",null,"SIDE ORDER-LOCAL DELIGHTS",1,1,{"$f":"IFERROR($E156*SUMIF('Daily Log'!#REF!,$B156,'Daily Log'!#REF!),0)","v":0},{"$f":"IFERROR($E156*SUMIF('Daily Log'!#REF!,$B156,'Daily Log'!#REF!),0)","v":0},{"$f":"IFERROR($E156*SUMIF('Daily Log'!#REF!,$B156,'Daily Log'!#REF!),0)","v":0}," ",{"$f":"IFERROR($E156*SUMIF('Daily Log'!#REF!,$B156,'Daily Log'!#REF!),0)","v":0},{"$f":"IFERROR($E156*SUMIF('Daily Log'!#REF!,$B156,'Daily Log'!#REF!),0)","v":0},{"$f":"IFERROR($E156*SUMIF('Daily Log'!#REF!,$B156,'Daily Log'!#REF!),0)","v":0},{"$f":"IFERROR($E156*SUMIF('Daily Log'!#REF!,$B156,'Daily Log'!#REF!),0)","v":0},{"$f":"IFERROR($E156*SUMIF('Daily Log'!#REF!,$B156,'Daily Log'!#REF!),0)","v":0},{"$f":"IFERROR($E156*SUMIF('Daily Log'!#REF!,$B156,'Daily Log'!#REF!),0)","v":0},{"$f":"IFERROR($E156*SUMIF('Daily Log'!#REF!,$B156,'Daily Log'!#REF!),0)","v":0},{"$f":"IFERROR($E156*SUMIF('Daily Log'!#REF!,$B156,'Daily Log'!#REF!),0)","v":0},{"$f":"IFERROR($E156*SUMIF('Daily Log'!#REF!,$B156,'Daily Log'!#REF!),0)","v":0},{"$f":"IFERROR($E156*SUMIF('Daily Log'!#REF!,$B156,'Daily Log'!#REF!),0)","v":0},{"$f":"IFERROR($E156*SUMIF('Daily Log'!#REF!,$B156,'Daily Log'!#REF!),0)","v":0},{"$f":"IFERROR($E156*SUMIF('Daily Log'!#REF!,$B156,'Daily Log'!#REF!),0)","v":0},{"$f":"IFERROR($E156*SUMIF('Daily Log'!#REF!,$B156,'Daily Log'!#REF!),0)","v":0},{"$f":"IFERROR($E156*SUMIF('Daily Log'!#REF!,$B156,'Daily Log'!#REF!),0)","v":0},{"$f":"IFERROR($E156*SUMIF('Daily Log'!#REF!,$B156,'Daily Log'!#REF!),0)","v":0},{"$f":"IFERROR($E156*SUMIF('Daily Log'!$C$18:$C$1017,$B156,'Daily Log'!$D$18:$D$1017),0)","v":0},{"$f":"IFERROR($E156*SUMIF('Daily Log'!$F$18:$F$1017,$B156,'Daily Log'!$G$18:$G$1017),0)","v":0},{"$f":"IFERROR($E156*SUMIF('Daily Log'!$I$18:$I$1017,$B156,'Daily Log'!$J$18:$J$1017),0)","v":0},{"$f":"IFERROR($E156*SUMIF('Daily Log'!$L$18:$L$1017,$B156,'Daily Log'!$M$18:$M$1017),0)","v":0},{"$f":"IFERROR($E156*SUMIF('Daily Log'!$O$18:$O$1017,$B156,'Daily Log'!$P$18:$P$1017),0)","v":1},{"$f":"IFERROR($E156*SUMIF('Daily Log'!$R$18:$R$1017,$B156,'Daily Log'!$S$18:$S$1017),0)","v":0},{"$f":"IFERROR($E156*SUMIF('Daily Log'!$U$18:$U$1017,$B156,'Daily Log'!$V$18:$V$1017),0)","v":0},{"$f":"IFERROR($E156*SUMIF('Daily Log'!#REF!,$B156,'Daily Log'!#REF!),0)","v":0},{"$f":"IFERROR($E156*SUMIF('Daily Log'!#REF!,$B156,'Daily Log'!#REF!),0)","v":0},{"$f":"IFERROR($E156*SUMIF('Daily Log'!#REF!,$B156,'Daily Log'!#REF!),0)","v":0},{"$f":"IFERROR($E156*SUMIF('Daily Log'!#REF!,$B156,'Daily Log'!#REF!),0)","v":0},{"$f":"IFERROR($E156*SUMIF('Daily Log'!#REF!,$B156,'Daily Log'!#REF!),0)","v":0}]
[null,"DC12 1112:NASI LEMAK",null,"SIDE ORDER-LOCAL DELIGHTS",1,9,{"$f":"IFERROR($E157*SUMIF('Daily Log'!#REF!,$B157,'Daily Log'!#REF!),0)","v":0},{"$f":"IFERROR($E157*SUMIF('Daily Log'!#REF!,$B157,'Daily Log'!#REF!),0)","v":0},{"$f":"IFERROR($E157*SUMIF('Daily Log'!#REF!,$B157,'Daily Log'!#REF!),0)","v":0}," ",{"$f":"IFERROR($E157*SUMIF('Daily Log'!#REF!,$B157,'Daily Log'!#REF!),0)","v":0},{"$f":"IFERROR($E157*SUMIF('Daily Log'!#REF!,$B157,'Daily Log'!#REF!),0)","v":0},{"$f":"IFERROR($E157*SUMIF('Daily Log'!#REF!,$B157,'Daily Log'!#REF!),0)","v":0},{"$f":"IFERROR($E157*SUMIF('Daily Log'!#REF!,$B157,'Daily Log'!#REF!),0)","v":0},{"$f":"IFERROR($E157*SUMIF('Daily Log'!#REF!,$B157,'Daily Log'!#REF!),0)","v":0},{"$f":"IFERROR($E157*SUMIF('Daily Log'!#REF!,$B157,'Daily Log'!#REF!),0)","v":0},{"$f":"IFERROR($E157*SUMIF('Daily Log'!#REF!,$B157,'Daily Log'!#REF!),0)","v":0},{"$f":"IFERROR($E157*SUMIF('Daily Log'!#REF!,$B157,'Daily Log'!#REF!),0)","v":0},{"$f":"IFERROR($E157*SUMIF('Daily Log'!#REF!,$B157,'Daily Log'!#REF!),0)","v":0},{"$f":"IFERROR($E157*SUMIF('Daily Log'!#REF!,$B157,'Daily Log'!#REF!),0)","v":0},{"$f":"IFERROR($E157*SUMIF('Daily Log'!#REF!,$B157,'Daily Log'!#REF!),0)","v":0},{"$f":"IFERROR($E157*SUMIF('Daily Log'!#REF!,$B157,'Daily Log'!#REF!),0)","v":0},{"$f":"IFERROR($E157*SUMIF('Daily Log'!#REF!,$B157,'Daily Log'!#REF!),0)","v":0},{"$f":"IFERROR($E157*SUMIF('Daily Log'!#REF!,$B157,'Daily Log'!#REF!),0)","v":0},{"$f":"IFERROR($E157*SUMIF('Daily Log'!#REF!,$B157,'Daily Log'!#REF!),0)","v":0},{"$f":"IFERROR($E157*SUMIF('Daily Log'!$C$18:$C$1017,$B157,'Daily Log'!$D$18:$D$1017),0)","v":0},{"$f":"IFERROR($E157*SUMIF('Daily Log'!$F$18:$F$1017,$B157,'Daily Log'!$G$18:$G$1017),0)","v":4},{"$f":"IFERROR($E157*SUMIF('Daily Log'!$I$18:$I$1017,$B157,'Daily Log'!$J$18:$J$1017),0)","v":0},{"$f":"IFERROR($E157*SUMIF('Daily Log'!$L$18:$L$1017,$B157,'Daily Log'!$M$18:$M$1017),0)","v":0},{"$f":"IFERROR($E157*SUMIF('Daily Log'!$O$18:$O$1017,$B157,'Daily Log'!$P$18:$P$1017),0)","v":1},{"$f":"IFERROR($E157*SUMIF('Daily Log'!$R$18:$R$1017,$B157,'Daily Log'!$S$18:$S$1017),0)","v":2},{"$f":"IFERROR($E157*SUMIF('Daily Log'!$U$18:$U$1017,$B157,'Daily Log'!$V$18:$V$1017),0)","v":2},{"$f":"IFERROR($E157*SUMIF('Daily Log'!#REF!,$B157,'Daily Log'!#REF!),0)","v":0},{"$f":"IFERROR($E157*SUMIF('Daily Log'!#REF!,$B157,'Daily Log'!#REF!),0)","v":0},{"$f":"IFERROR($E157*SUMIF('Daily Log'!#REF!,$B157,'Daily Log'!#REF!),0)","v":0},{"$f":"IFERROR($E157*SUMIF('Daily Log'!#REF!,$B157,'Daily Log'!#REF!),0)","v":0},{"$f":"IFERROR($E157*SUMIF('Daily Log'!#REF!,$B157,'Daily Log'!#REF!),0)","v":0}]
[null,"DC13 1113:KUEY TEOW",null,"SIDE ORDER-LOCAL DELIGHTS",1,{"$f":"SUM($G158:$AK158)","v":11},{"$f":"IFERROR($E158*SUMIF('Daily Log'!#REF!,$B158,'Daily Log'!#REF!),0)","v":0},{"$f":"IFERROR($E158*SUMIF('Daily Log'!#REF!,$B158,'Daily Log'!#REF!),0)","v":0},{"$f":"IFERROR($E158*SUMIF('Daily Log'!#REF!,$B158,'Daily Log'!#REF!),0)","v":0}," ",{"$f":"IFERROR($E158*SUMIF('Daily Log'!#REF!,$B158,'Daily Log'!#REF!),0)","v":0},{"$f":"IFERROR($E158*SUMIF('Daily Log'!#REF!,$B158,'Daily Log'!#REF!),0)","v":0},{"$f":"IFERROR($E158*SUMIF('Daily Log'!#REF!,$B158,'Daily Log'!#REF!),0)","v":0},{"$f":"IFERROR($E158*SUMIF('Daily Log'!#REF!,$B158,'Daily Log'!#REF!),0)","v":0},{"$f":"IFERROR($E158*SUMIF('Daily Log'!#REF!,$B158,'Daily Log'!#REF!),0)","v":0},{"$f":"IFERROR($E158*SUMIF('Daily Log'!#REF!,$B158,'Daily Log'!#REF!),0)","v":0},{"$f":"IFERROR($E158*SUMIF('Daily Log'!#REF!,$B158,'Daily Log'!#REF!),0)","v":0},{"$f":"IFERROR($E158*SUMIF('Daily Log'!#REF!,$B158,'Daily Log'!#REF!),0)","v":0},{"$f":"IFERROR($E158*SUMIF('Daily Log'!#REF!,$B158,'Daily Log'!#REF!),0)","v":0},{"$f":"IFERROR($E158*SUMIF('Daily Log'!#REF!,$B158,'Daily Log'!#REF!),0)","v":0},{"$f":"IFERROR($E158*SUMIF('Daily Log'!#REF!,$B158,'Daily Log'!#REF!),0)","v":0},{"$f":"IFERROR($E158*SUMIF('Daily Log'!#REF!,$B158,'Daily Log'!#REF!),0)","v":0},{"$f":"IFERROR($E158*SUMIF('Daily Log'!#REF!,$B158,'Daily Log'!#REF!),0)","v":0},{"$f":"IFERROR($E158*SUMIF('Daily Log'!#REF!,$B158,'Daily Log'!#REF!),0)","v":0},{"$f":"IFERROR($E158*SUMIF('Daily Log'!#REF!,$B158,'Daily Log'!#REF!),0)","v":0},{"$f":"IFERROR($E158*SUMIF('Daily Log'!$C$18:$C$1017,$B158,'Daily Log'!$D$18:$D$1017),0)","v":3},{"$f":"IFERROR($E158*SUMIF('Daily Log'!$F$18:$F$1017,$B158,'Daily Log'!$G$18:$G$1017),0)","v":1},{"$f":"IFERROR($E158*SUMIF('Daily Log'!$I$18:$I$1017,$B158,'Daily Log'!$J$18:$J$1017),0)","v":1},{"$f":"IFERROR($E158*SUMIF('Daily Log'!$L$18:$L$1017,$B158,'Daily Log'!$M$18:$M$1017),0)","v":4},{"$f":"IFERROR($E158*SUMIF('Daily Log'!$O$18:$O$1017,$B158,'Daily Log'!$P$18:$P$1017),0)","v":1},{"$f":"IFERROR($E158*SUMIF('Daily Log'!$R$18:$R$1017,$B158,'Daily Log'!$S$18:$S$1017),0)","v":0},{"$f":"IFERROR($E158*SUMIF('Daily Log'!$U$18:$U$1017,$B158,'Daily Log'!$V$18:$V$1017),0)","v":1},{"$f":"IFERROR($E158*SUMIF('Daily Log'!#REF!,$B158,'Daily Log'!#REF!),0)","v":0},{"$f":"IFERROR($E158*SUMIF('Daily Log'!#REF!,$B158,'Daily Log'!#REF!),0)","v":0},{"$f":"IFERROR($E158*SUMIF('Daily Log'!#REF!,$B158,'Daily Log'!#REF!),0)","v":0},{"$f":"IFERROR($E158*SUMIF('Daily Log'!#REF!,$B158,'Daily Log'!#REF!),0)","v":0},{"$f":"IFERROR($E158*SUMIF('Daily Log'!#REF!,$B158,'Daily Log'!#REF!),0)","v":0}]
[null,"DC14 1114:F.BALL MEE",null,"SIDE ORDER-LOCAL DELIGHTS",1,1,{"$f":"IFERROR($E159*SUMIF('Daily Log'!#REF!,$B159,'Daily Log'!#REF!),0)","v":0},{"$f":"IFERROR($E159*SUMIF('Daily Log'!#REF!,$B159,'Daily Log'!#REF!),0)","v":0},{"$f":"IFERROR($E159*SUMIF('Daily Log'!#REF!,$B159,'Daily Log'!#REF!),0)","v":0}," ",{"$f":"IFERROR($E159*SUMIF('Daily Log'!#REF!,$B159,'Daily Log'!#REF!),0)","v":0},{"$f":"IFERROR($E159*SUMIF('Daily Log'!#REF!,$B159,'Daily Log'!#REF!),0)","v":0},{"$f":"IFERROR($E159*SUMIF('Daily Log'!#REF!,$B159,'Daily Log'!#REF!),0)","v":0},{"$f":"IFERROR($E159*SUMIF('Daily Log'!#REF!,$B159,'Daily Log'!#REF!),0)","v":0},{"$f":"IFERROR($E159*SUMIF('Daily Log'!#REF!,$B159,'Daily Log'!#REF!),0)","v":0},{"$f":"IFERROR($E159*SUMIF('Daily Log'!#REF!,$B159,'Daily Log'!#REF!),0)","v":0},{"$f":"IFERROR($E159*SUMIF('Daily Log'!#REF!,$B159,'Daily Log'!#REF!),0)","v":0},{"$f":"IFERROR($E159*SUMIF('Daily Log'!#REF!,$B159,'Daily Log'!#REF!),0)","v":0},{"$f":"IFERROR($E159*SUMIF('Daily Log'!#REF!,$B159,'Daily Log'!#REF!),0)","v":0},{"$f":"IFERROR($E159*SUMIF('Daily Log'!#REF!,$B159,'Daily Log'!#REF!),0)","v":0},{"$f":"IFERROR($E159*SUMIF('Daily Log'!#REF!,$B159,'Daily Log'!#REF!),0)","v":0},{"$f":"IFERROR($E159*SUMIF('Daily Log'!#REF!,$B159,'Daily Log'!#REF!),0)","v":0},{"$f":"IFERROR($E159*SUMIF('Daily Log'!#REF!,$B159,'Daily Log'!#REF!),0)","v":0},{"$f":"IFERROR($E159*SUMIF('Daily Log'!#REF!,$B159,'Daily Log'!#REF!),0)","v":0},{"$f":"IFERROR($E159*SUMIF('Daily Log'!#REF!,$B159,'Daily Log'!#REF!),0)","v":0},{"$f":"IFERROR($E159*SUMIF('Daily Log'!$C$18:$C$1017,$B159,'Daily Log'!$D$18:$D$1017),0)","v":0},{"$f":"IFERROR($E159*SUMIF('Daily Log'!$F$18:$F$1017,$B159,'Daily Log'!$G$18:$G$1017),0)","v":0},{"$f":"IFERROR($E159*SUMIF('Daily Log'!$I$18:$I$1017,$B159,'Daily Log'!$J$18:$J$1017),0)","v":0},{"$f":"IFERROR($E159*SUMIF('Daily Log'!$L$18:$L$1017,$B159,'Daily Log'!$M$18:$M$1017),0)","v":1},{"$f":"IFERROR($E159*SUMIF('Daily Log'!$O$18:$O$1017,$B159,'Daily Log'!$P$18:$P$1017),0)","v":0},{"$f":"IFERROR($E159*SUMIF('Daily Log'!$R$18:$R$1017,$B159,'Daily Log'!$S$18:$S$1017),0)","v":0},{"$f":"IFERROR($E159*SUMIF('Daily Log'!$U$18:$U$1017,$B159,'Daily Log'!$V$18:$V$1017),0)","v":0},{"$f":"IFERROR($E159*SUMIF('Daily Log'!#REF!,$B159,'Daily Log'!#REF!),0)","v":0},{"$f":"IFERROR($E159*SUMIF('Daily Log'!#REF!,$B159,'Daily Log'!#REF!),0)","v":0},{"$f":"IFERROR($E159*SUMIF('Daily Log'!#REF!,$B159,'Daily Log'!#REF!),0)","v":0},{"$f":"IFERROR($E159*SUMIF('Daily Log'!#REF!,$B159,'Daily Log'!#REF!),0)","v":0},{"$f":"IFERROR($E159*SUMIF('Daily Log'!#REF!,$B159,'Daily Log'!#REF!),0)","v":0}]
[null,"DC15 1115:CHK NOODLE",null,"SIDE ORDER-LOCAL DELIGHTS",1,2,{"$f":"IFERROR($E160*SUMIF('Daily Log'!#REF!,$B160,'Daily Log'!#REF!),0)","v":0},{"$f":"IFERROR($E160*SUMIF('Daily Log'!#REF!,$B160,'Daily Log'!#REF!),0)","v":0},{"$f":"IFERROR($E160*SUMIF('Daily Log'!#REF!,$B160,'Daily Log'!#REF!),0)","v":0}," ",{"$f":"IFERROR($E160*SUMIF('Daily Log'!#REF!,$B160,'Daily Log'!#REF!),0)","v":0},{"$f":"IFERROR($E160*SUMIF('Daily Log'!#REF!,$B160,'Daily Log'!#REF!),0)","v":0},{"$f":"IFERROR($E160*SUMIF('Daily Log'!#REF!,$B160,'Daily Log'!#REF!),0)","v":0},{"$f":"IFERROR($E160*SUMIF('Daily Log'!#REF!,$B160,'Daily Log'!#REF!),0)","v":0},{"$f":"IFERROR($E160*SUMIF('Daily Log'!#REF!,$B160,'Daily Log'!#REF!),0)","v":0},{"$f":"IFERROR($E160*SUMIF('Daily Log'!#REF!,$B160,'Daily Log'!#REF!),0)","v":0},{"$f":"IFERROR($E160*SUMIF('Daily Log'!#REF!,$B160,'Daily Log'!#REF!),0)","v":0},{"$f":"IFERROR($E160*SUMIF('Daily Log'!#REF!,$B160,'Daily Log'!#REF!),0)","v":0},{"$f":"IFERROR($E160*SUMIF('Daily Log'!#REF!,$B160,'Daily Log'!#REF!),0)","v":0},{"$f":"IFERROR($E160*SUMIF('Daily Log'!#REF!,$B160,'Daily Log'!#REF!),0)","v":0},{"$f":"IFERROR($E160*SUMIF('Daily Log'!#REF!,$B160,'Daily Log'!#REF!),0)","v":0},{"$f":"IFERROR($E160*SUMIF('Daily Log'!#REF!,$B160,'Daily Log'!#REF!),0)","v":0},{"$f":"IFERROR($E160*SUMIF('Daily Log'!#REF!,$B160,'Daily Log'!#REF!),0)","v":0},{"$f":"IFERROR($E160*SUMIF('Daily Log'!#REF!,$B160,'Daily Log'!#REF!),0)","v":0},{"$f":"IFERROR($E160*SUMIF('Daily Log'!#REF!,$B160,'Daily Log'!#REF!),0)","v":0},{"$f":"IFERROR($E160*SUMIF('Daily Log'!$C$18:$C$1017,$B160,'Daily Log'!$D$18:$D$1017),0)","v":0},{"$f":"IFERROR($E160*SUMIF('Daily Log'!$F$18:$F$1017,$B160,'Daily Log'!$G$18:$G$1017),0)","v":0},{"$f":"IFERROR($E160*SUMIF('Daily Log'!$I$18:$I$1017,$B160,'Daily Log'!$J$18:$J$1017),0)","v":1},{"$f":"IFERROR($E160*SUMIF('Daily Log'!$L$18:$L$1017,$B160,'Daily Log'!$M$18:$M$1017),0)","v":1},{"$f":"IFERROR($E160*SUMIF('Daily Log'!$O$18:$O$1017,$B160,'Daily Log'!$P$18:$P$1017),0)","v":0},{"$f":"IFERROR($E160*SUMIF('Daily Log'!$R$18:$R$1017,$B160,'Daily Log'!$S$18:$S$1017),0)","v":0},{"$f":"IFERROR($E160*SUMIF('Daily Log'!$U$18:$U$1017,$B160,'Daily Log'!$V$18:$V$1017),0)","v":0},{"$f":"IFERROR($E160*SUMIF('Daily Log'!#REF!,$B160,'Daily Log'!#REF!),0)","v":0},{"$f":"IFERROR($E160*SUMIF('Daily Log'!#REF!,$B160,'Daily Log'!#REF!),0)","v":0},{"$f":"IFERROR($E160*SUMIF('Daily Log'!#REF!,$B160,'Daily Log'!#REF!),0)","v":0},{"$f":"IFERROR($E160*SUMIF('Daily Log'!#REF!,$B160,'Daily Log'!#REF!),0)","v":0},{"$f":"IFERROR($E160*SUMIF('Daily Log'!#REF!,$B160,'Daily Log'!#REF!),0)","v":0}]
[null,"DD01 1201:SFD STICK",null,"SIDE ORDER-APPETIZER",1,0,{"$f":"IFERROR($E161*SUMIF('Daily Log'!#REF!,$B161,'Daily Log'!#REF!),0)","v":0},{"$f":"IFERROR($E161*SUMIF('Daily Log'!#REF!,$B161,'Daily Log'!#REF!),0)","v":0},{"$f":"IFERROR($E161*SUMIF('Daily Log'!#REF!,$B161,'Daily Log'!#REF!),0)","v":0}," ",{"$f":"IFERROR($E161*SUMIF('Daily Log'!#REF!,$B161,'Daily Log'!#REF!),0)","v":0},{"$f":"IFERROR($E161*SUMIF('Daily Log'!#REF!,$B161,'Daily Log'!#REF!),0)","v":0},{"$f":"IFERROR($E161*SUMIF('Daily Log'!#REF!,$B161,'Daily Log'!#REF!),0)","v":0},{"$f":"IFERROR($E161*SUMIF('Daily Log'!#REF!,$B161,'Daily Log'!#REF!),0)","v":0},{"$f":"IFERROR($E161*SUMIF('Daily Log'!#REF!,$B161,'Daily Log'!#REF!),0)","v":0},{"$f":"IFERROR($E161*SUMIF('Daily Log'!#REF!,$B161,'Daily Log'!#REF!),0)","v":0},{"$f":"IFERROR($E161*SUMIF('Daily Log'!#REF!,$B161,'Daily Log'!#REF!),0)","v":0},{"$f":"IFERROR($E161*SUMIF('Daily Log'!#REF!,$B161,'Daily Log'!#REF!),0)","v":0},{"$f":"IFERROR($E161*SUMIF('Daily Log'!#REF!,$B161,'Daily Log'!#REF!),0)","v":0},{"$f":"IFERROR($E161*SUMIF('Daily Log'!#REF!,$B161,'Daily Log'!#REF!),0)","v":0},{"$f":"IFERROR($E161*SUMIF('Daily Log'!#REF!,$B161,'Daily Log'!#REF!),0)","v":0},{"$f":"IFERROR($E161*SUMIF('Daily Log'!#REF!,$B161,'Daily Log'!#REF!),0)","v":0},{"$f":"IFERROR($E161*SUMIF('Daily Log'!#REF!,$B161,'Daily Log'!#REF!),0)","v":0},{"$f":"IFERROR($E161*SUMIF('Daily Log'!#REF!,$B161,'Daily Log'!#REF!),0)","v":0},{"$f":"IFERROR($E161*SUMIF('Daily Log'!#REF!,$B161,'Daily Log'!#REF!),0)","v":0},{"$f":"IFERROR($E161*SUMIF('Daily Log'!$C$18:$C$1017,$B161,'Daily Log'!$D$18:$D$1017),0)","v":0},{"$f":"IFERROR($E161*SUMIF('Daily Log'!$F$18:$F$1017,$B161,'Daily Log'!$G$18:$G$1017),0)","v":0},{"$f":"IFERROR($E161*SUMIF('Daily Log'!$I$18:$I$1017,$B161,'Daily Log'!$J$18:$J$1017),0)","v":0},{"$f":"IFERROR($E161*SUMIF('Daily Log'!$L$18:$L$1017,$B161,'Daily Log'!$M$18:$M$1017),0)","v":0},{"$f":"IFERROR($E161*SUMIF('Daily Log'!$O$18:$O$1017,$B161,'Daily Log'!$P$18:$P$1017),0)","v":0},{"$f":"IFERROR($E161*SUMIF('Daily Log'!$R$18:$R$1017,$B161,'Daily Log'!$S$18:$S$1017),0)","v":0},{"$f":"IFERROR($E161*SUMIF('Daily Log'!$U$18:$U$1017,$B161,'Daily Log'!$V$18:$V$1017),0)","v":0},{"$f":"IFERROR($E161*SUMIF('Daily Log'!#REF!,$B161,'Daily Log'!#REF!),0)","v":0},{"$f":"IFERROR($E161*SUMIF('Daily Log'!#REF!,$B161,'Daily Log'!#REF!),0)","v":0},{"$f":"IFERROR($E161*SUMIF('Daily Log'!#REF!,$B161,'Daily Log'!#REF!),0)","v":0},{"$f":"IFERROR($E161*SUMIF('Daily Log'!#REF!,$B161,'Daily Log'!#REF!),0)","v":0},{"$f":"IFERROR($E161*SUMIF('Daily Log'!#REF!,$B161,'Daily Log'!#REF!),0)","v":0}]
[null,"DD02 1202:FREN FRIES",null,"SIDE ORDER-APPETIZER",1,11,{"$f":"IFERROR($E162*SUMIF('Daily Log'!#REF!,$B162,'Daily Log'!#REF!),0)","v":0},{"$f":"IFERROR($E162*SUMIF('Daily Log'!#REF!,$B162,'Daily Log'!#REF!),0)","v":0},{"$f":"IFERROR($E162*SUMIF('Daily Log'!#REF!,$B162,'Daily Log'!#REF!),0)","v":0}," ",{"$f":"IFERROR($E162*SUMIF('Daily Log'!#REF!,$B162,'Daily Log'!#REF!),0)","v":0},{"$f":"IFERROR($E162*SUMIF('Daily Log'!#REF!,$B162,'Daily Log'!#REF!),0)","v":0},{"$f":"IFERROR($E162*SUMIF('Daily Log'!#REF!,$B162,'Daily Log'!#REF!),0)","v":0},{"$f":"IFERROR($E162*SUMIF('Daily Log'!#REF!,$B162,'Daily Log'!#REF!),0)","v":0},{"$f":"IFERROR($E162*SUMIF('Daily Log'!#REF!,$B162,'Daily Log'!#REF!),0)","v":0},{"$f":"IFERROR($E162*SUMIF('Daily Log'!#REF!,$B162,'Daily Log'!#REF!),0)","v":0},{"$f":"IFERROR($E162*SUMIF('Daily Log'!#REF!,$B162,'Daily Log'!#REF!),0)","v":0},{"$f":"IFERROR($E162*SUMIF('Daily Log'!#REF!,$B162,'Daily Log'!#REF!),0)","v":0},{"$f":"IFERROR($E162*SUMIF('Daily Log'!#REF!,$B162,'Daily Log'!#REF!),0)","v":0},{"$f":"IFERROR($E162*SUMIF('Daily Log'!#REF!,$B162,'Daily Log'!#REF!),0)","v":0},{"$f":"IFERROR($E162*SUMIF('Daily Log'!#REF!,$B162,'Daily Log'!#REF!),0)","v":0},{"$f":"IFERROR($E162*SUMIF('Daily Log'!#REF!,$B162,'Daily Log'!#REF!),0)","v":0},{"$f":"IFERROR($E162*SUMIF('Daily Log'!#REF!,$B162,'Daily Log'!#REF!),0)","v":0},{"$f":"IFERROR($E162*SUMIF('Daily Log'!#REF!,$B162,'Daily Log'!#REF!),0)","v":0},{"$f":"IFERROR($E162*SUMIF('Daily Log'!#REF!,$B162,'Daily Log'!#REF!),0)","v":0},{"$f":"IFERROR($E162*SUMIF('Daily Log'!$C$18:$C$1017,$B162,'Daily Log'!$D$18:$D$1017),0)","v":0},{"$f":"IFERROR($E162*SUMIF('Daily Log'!$F$18:$F$1017,$B162,'Daily Log'!$G$18:$G$1017),0)","v":1},{"$f":"IFERROR($E162*SUMIF('Daily Log'!$I$18:$I$1017,$B162,'Daily Log'!$J$18:$J$1017),0)","v":0},{"$f":"IFERROR($E162*SUMIF('Daily Log'!$L$18:$L$1017,$B162,'Daily Log'!$M$18:$M$1017),0)","v":2},{"$f":"IFERROR($E162*SUMIF('Daily Log'!$O$18:$O$1017,$B162,'Daily Log'!$P$18:$P$1017),0)","v":3},{"$f":"IFERROR($E162*SUMIF('Daily Log'!$R$18:$R$1017,$B162,'Daily Log'!$S$18:$S$1017),0)","v":2},{"$f":"IFERROR($E162*SUMIF('Daily Log'!$U$18:$U$1017,$B162,'Daily Log'!$V$18:$V$1017),0)","v":3},{"$f":"IFERROR($E162*SUMIF('Daily Log'!#REF!,$B162,'Daily Log'!#REF!),0)","v":0},{"$f":"IFERROR($E162*SUMIF('Daily Log'!#REF!,$B162,'Daily Log'!#REF!),0)","v":0},{"$f":"IFERROR($E162*SUMIF('Daily Log'!#REF!,$B162,'Daily Log'!#REF!),0)","v":0},{"$f":"IFERROR($E162*SUMIF('Daily Log'!#REF!,$B162,'Daily Log'!#REF!),0)","v":0},{"$f":"IFERROR($E162*SUMIF('Daily Log'!#REF!,$B162,'Daily Log'!#REF!),0)","v":0}]
[null,"DD03 1203:GOLD MROOM",null,"SIDE ORDER-APPETIZER",1,5,{"$f":"IFERROR($E163*SUMIF('Daily Log'!#REF!,$B163,'Daily Log'!#REF!),0)","v":0},{"$f":"IFERROR($E163*SUMIF('Daily Log'!#REF!,$B163,'Daily Log'!#REF!),0)","v":0},{"$f":"IFERROR($E163*SUMIF('Daily Log'!#REF!,$B163,'Daily Log'!#REF!),0)","v":0}," ",{"$f":"IFERROR($E163*SUMIF('Daily Log'!#REF!,$B163,'Daily Log'!#REF!),0)","v":0},{"$f":"IFERROR($E163*SUMIF('Daily Log'!#REF!,$B163,'Daily Log'!#REF!),0)","v":0},{"$f":"IFERROR($E163*SUMIF('Daily Log'!#REF!,$B163,'Daily Log'!#REF!),0)","v":0},{"$f":"IFERROR($E163*SUMIF('Daily Log'!#REF!,$B163,'Daily Log'!#REF!),0)","v":0},{"$f":"IFERROR($E163*SUMIF('Daily Log'!#REF!,$B163,'Daily Log'!#REF!),0)","v":0},{"$f":"IFERROR($E163*SUMIF('Daily Log'!#REF!,$B163,'Daily Log'!#REF!),0)","v":0},{"$f":"IFERROR($E163*SUMIF('Daily Log'!#REF!,$B163,'Daily Log'!#REF!),0)","v":0},{"$f":"IFERROR($E163*SUMIF('Daily Log'!#REF!,$B163,'Daily Log'!#REF!),0)","v":0},{"$f":"IFERROR($E163*SUMIF('Daily Log'!#REF!,$B163,'Daily Log'!#REF!),0)","v":0},{"$f":"IFERROR($E163*SUMIF('Daily Log'!#REF!,$B163,'Daily Log'!#REF!),0)","v":0},{"$f":"IFERROR($E163*SUMIF('Daily Log'!#REF!,$B163,'Daily Log'!#REF!),0)","v":0},{"$f":"IFERROR($E163*SUMIF('Daily Log'!#REF!,$B163,'Daily Log'!#REF!),0)","v":0},{"$f":"IFERROR($E163*SUMIF('Daily Log'!#REF!,$B163,'Daily Log'!#REF!),0)","v":0},{"$f":"IFERROR($E163*SUMIF('Daily Log'!#REF!,$B163,'Daily Log'!#REF!),0)","v":0},{"$f":"IFERROR($E163*SUMIF('Daily Log'!#REF!,$B163,'Daily Log'!#REF!),0)","v":0},{"$f":"IFERROR($E163*SUMIF('Daily Log'!$C$18:$C$1017,$B163,'Daily Log'!$D$18:$D$1017),0)","v":0},{"$f":"IFERROR($E163*SUMIF('Daily Log'!$F$18:$F$1017,$B163,'Daily Log'!$G$18:$G$1017),0)","v":0},{"$f":"IFERROR($E163*SUMIF('Daily Log'!$I$18:$I$1017,$B163,'Daily Log'!$J$18:$J$1017),0)","v":0},{"$f":"IFERROR($E163*SUMIF('Daily Log'!$L$18:$L$1017,$B163,'Daily Log'!$M$18:$M$1017),0)","v":2},{"$f":"IFERROR($E163*SUMIF('Daily Log'!$O$18:$O$1017,$B163,'Daily Log'!$P$18:$P$1017),0)","v":2},{"$f":"IFERROR($E163*SUMIF('Daily Log'!$R$18:$R$1017,$B163,'Daily Log'!$S$18:$S$1017),0)","v":0},{"$f":"IFERROR($E163*SUMIF('Daily Log'!$U$18:$U$1017,$B163,'Daily Log'!$V$18:$V$1017),0)","v":1},{"$f":"IFERROR($E163*SUMIF('Daily Log'!#REF!,$B163,'Daily Log'!#REF!),0)","v":0},{"$f":"IFERROR($E163*SUMIF('Daily Log'!#REF!,$B163,'Daily Log'!#REF!),0)","v":0},{"$f":"IFERROR($E163*SUMIF('Daily Log'!#REF!,$B163,'Daily Log'!#REF!),0)","v":0},{"$f":"IFERROR($E163*SUMIF('Daily Log'!#REF!,$B163,'Daily Log'!#REF!),0)","v":0},{"$f":"IFERROR($E163*SUMIF('Daily Log'!#REF!,$B163,'Daily Log'!#REF!),0)","v":0}]
[null,"DD04 1204:FISHBALL",null,"SIDE ORDER-APPETIZER",1,6,{"$f":"IFERROR($E164*SUMIF('Daily Log'!#REF!,$B164,'Daily Log'!#REF!),0)","v":0},{"$f":"IFERROR($E164*SUMIF('Daily Log'!#REF!,$B164,'Daily Log'!#REF!),0)","v":0},{"$f":"IFERROR($E164*SUMIF('Daily Log'!#REF!,$B164,'Daily Log'!#REF!),0)","v":0}," ",{"$f":"IFERROR($E164*SUMIF('Daily Log'!#REF!,$B164,'Daily Log'!#REF!),0)","v":0},{"$f":"IFERROR($E164*SUMIF('Daily Log'!#REF!,$B164,'Daily Log'!#REF!),0)","v":0},{"$f":"IFERROR($E164*SUMIF('Daily Log'!#REF!,$B164,'Daily Log'!#REF!),0)","v":0},{"$f":"IFERROR($E164*SUMIF('Daily Log'!#REF!,$B164,'Daily Log'!#REF!),0)","v":0},{"$f":"IFERROR($E164*SUMIF('Daily Log'!#REF!,$B164,'Daily Log'!#REF!),0)","v":0},{"$f":"IFERROR($E164*SUMIF('Daily Log'!#REF!,$B164,'Daily Log'!#REF!),0)","v":0},{"$f":"IFERROR($E164*SUMIF('Daily Log'!#REF!,$B164,'Daily Log'!#REF!),0)","v":0},{"$f":"IFERROR($E164*SUMIF('Daily Log'!#REF!,$B164,'Daily Log'!#REF!),0)","v":0},{"$f":"IFERROR($E164*SUMIF('Daily Log'!#REF!,$B164,'Daily Log'!#REF!),0)","v":0},{"$f":"IFERROR($E164*SUMIF('Daily Log'!#REF!,$B164,'Daily Log'!#REF!),0)","v":0},{"$f":"IFERROR($E164*SUMIF('Daily Log'!#REF!,$B164,'Daily Log'!#REF!),0)","v":0},{"$f":"IFERROR($E164*SUMIF('Daily Log'!#REF!,$B164,'Daily Log'!#REF!),0)","v":0},{"$f":"IFERROR($E164*SUMIF('Daily Log'!#REF!,$B164,'Daily Log'!#REF!),0)","v":0},{"$f":"IFERROR($E164*SUMIF('Daily Log'!#REF!,$B164,'Daily Log'!#REF!),0)","v":0},{"$f":"IFERROR($E164*SUMIF('Daily Log'!#REF!,$B164,'Daily Log'!#REF!),0)","v":0},{"$f":"IFERROR($E164*SUMIF('Daily Log'!$C$18:$C$1017,$B164,'Daily Log'!$D$18:$D$1017),0)","v":0},{"$f":"IFERROR($E164*SUMIF('Daily Log'!$F$18:$F$1017,$B164,'Daily Log'!$G$18:$G$1017),0)","v":0},{"$f":"IFERROR($E164*SUMIF('Daily Log'!$I$18:$I$1017,$B164,'Daily Log'!$J$18:$J$1017),0)","v":0},{"$f":"IFERROR($E164*SUMIF('Daily Log'!$L$18:$L$1017,$B164,'Daily Log'!$M$18:$M$1017),0)","v":4},{"$f":"IFERROR($E164*SUMIF('Daily Log'!$O$18:$O$1017,$B164,'Daily Log'!$P$18:$P$1017),0)","v":0},{"$f":"IFERROR($E164*SUMIF('Daily Log'!$R$18:$R$1017,$B164,'Daily Log'!$S$18:$S$1017),0)","v":1},{"$f":"IFERROR($E164*SUMIF('Daily Log'!$U$18:$U$1017,$B164,'Daily Log'!$V$18:$V$1017),0)","v":1},{"$f":"IFERROR($E164*SUMIF('Daily Log'!#REF!,$B164,'Daily Log'!#REF!),0)","v":0},{"$f":"IFERROR($E164*SUMIF('Daily Log'!#REF!,$B164,'Daily Log'!#REF!),0)","v":0},{"$f":"IFERROR($E164*SUMIF('Daily Log'!#REF!,$B164,'Daily Log'!#REF!),0)","v":0},{"$f":"IFERROR($E164*SUMIF('Daily Log'!#REF!,$B164,'Daily Log'!#REF!),0)","v":0},{"$f":"IFERROR($E164*SUMIF('Daily Log'!#REF!,$B164,'Daily Log'!#REF!),0)","v":0}]
[null,"DD05 1205:RAINBOW RL",null,"SIDE ORDER-APPETIZER",1,0,{"$f":"IFERROR($E165*SUMIF('Daily Log'!#REF!,$B165,'Daily Log'!#REF!),0)","v":0},{"$f":"IFERROR($E165*SUMIF('Daily Log'!#REF!,$B165,'Daily Log'!#REF!),0)","v":0},{"$f":"IFERROR($E165*SUMIF('Daily Log'!#REF!,$B165,'Daily Log'!#REF!),0)","v":0}," ",{"$f":"IFERROR($E165*SUMIF('Daily Log'!#REF!,$B165,'Daily Log'!#REF!),0)","v":0},{"$f":"IFERROR($E165*SUMIF('Daily Log'!#REF!,$B165,'Daily Log'!#REF!),0)","v":0},{"$f":"IFERROR($E165*SUMIF('Daily Log'!#REF!,$B165,'Daily Log'!#REF!),0)","v":0},{"$f":"IFERROR($E165*SUMIF('Daily Log'!#REF!,$B165,'Daily Log'!#REF!),0)","v":0},{"$f":"IFERROR($E165*SUMIF('Daily Log'!#REF!,$B165,'Daily Log'!#REF!),0)","v":0},{"$f":"IFERROR($E165*SUMIF('Daily Log'!#REF!,$B165,'Daily Log'!#REF!),0)","v":0},{"$f":"IFERROR($E165*SUMIF('Daily Log'!#REF!,$B165,'Daily Log'!#REF!),0)","v":0},{"$f":"IFERROR($E165*SUMIF('Daily Log'!#REF!,$B165,'Daily Log'!#REF!),0)","v":0},{"$f":"IFERROR($E165*SUMIF('Daily Log'!#REF!,$B165,'Daily Log'!#REF!),0)","v":0},{"$f":"IFERROR($E165*SUMIF('Daily Log'!#REF!,$B165,'Daily Log'!#REF!),0)","v":0},{"$f":"IFERROR($E165*SUMIF('Daily Log'!#REF!,$B165,'Daily Log'!#REF!),0)","v":0},{"$f":"IFERROR($E165*SUMIF('Daily Log'!#REF!,$B165,'Daily Log'!#REF!),0)","v":0},{"$f":"IFERROR($E165*SUMIF('Daily Log'!#REF!,$B165,'Daily Log'!#REF!),0)","v":0},{"$f":"IFERROR($E165*SUMIF('Daily Log'!#REF!,$B165,'Daily Log'!#REF!),0)","v":0},{"$f":"IFERROR($E165*SUMIF('Daily Log'!#REF!,$B165,'Daily Log'!#REF!),0)","v":0},{"$f":"IFERROR($E165*SUMIF('Daily Log'!$C$18:$C$1017,$B165,'Daily Log'!$D$18:$D$1017),0)","v":0},{"$f":"IFERROR($E165*SUMIF('Daily Log'!$F$18:$F$1017,$B165,'Daily Log'!$G$18:$G$1017),0)","v":0},{"$f":"IFERROR($E165*SUMIF('Daily Log'!$I$18:$I$1017,$B165,'Daily Log'!$J$18:$J$1017),0)","v":0},{"$f":"IFERROR($E165*SUMIF('Daily Log'!$L$18:$L$1017,$B165,'Daily Log'!$M$18:$M$1017),0)","v":0},{"$f":"IFERROR($E165*SUMIF('Daily Log'!$O$18:$O$1017,$B165,'Daily Log'!$P$18:$P$1017),0)","v":0},{"$f":"IFERROR($E165*SUMIF('Daily Log'!$R$18:$R$1017,$B165,'Daily Log'!$S$18:$S$1017),0)","v":0},{"$f":"IFERROR($E165*SUMIF('Daily Log'!$U$18:$U$1017,$B165,'Daily Log'!$V$18:$V$1017),0)","v":0},{"$f":"IFERROR($E165*SUMIF('Daily Log'!#REF!,$B165,'Daily Log'!#REF!),0)","v":0},{"$f":"IFERROR($E165*SUMIF('Daily Log'!#REF!,$B165,'Daily Log'!#REF!),0)","v":0},{"$f":"IFERROR($E165*SUMIF('Daily Log'!#REF!,$B165,'Daily Log'!#REF!),0)","v":0},{"$f":"IFERROR($E165*SUMIF('Daily Log'!#REF!,$B165,'Daily Log'!#REF!),0)","v":0},{"$f":"IFERROR($E165*SUMIF('Daily Log'!#REF!,$B165,'Daily Log'!#REF!),0)","v":0}]
[null,"DD06 1206:SPRING RL",null,"SIDE ORDER-APPETIZER",1,4,{"$f":"IFERROR($E166*SUMIF('Daily Log'!#REF!,$B166,'Daily Log'!#REF!),0)","v":0},{"$f":"IFERROR($E166*SUMIF('Daily Log'!#REF!,$B166,'Daily Log'!#REF!),0)","v":0},{"$f":"IFERROR($E166*SUMIF('Daily Log'!#REF!,$B166,'Daily Log'!#REF!),0)","v":0}," ",{"$f":"IFERROR($E166*SUMIF('Daily Log'!#REF!,$B166,'Daily Log'!#REF!),0)","v":0},{"$f":"IFERROR($E166*SUMIF('Daily Log'!#REF!,$B166,'Daily Log'!#REF!),0)","v":0},{"$f":"IFERROR($E166*SUMIF('Daily Log'!#REF!,$B166,'Daily Log'!#REF!),0)","v":0},{"$f":"IFERROR($E166*SUMIF('Daily Log'!#REF!,$B166,'Daily Log'!#REF!),0)","v":0},{"$f":"IFERROR($E166*SUMIF('Daily Log'!#REF!,$B166,'Daily Log'!#REF!),0)","v":0},{"$f":"IFERROR($E166*SUMIF('Daily Log'!#REF!,$B166,'Daily Log'!#REF!),0)","v":0},{"$f":"IFERROR($E166*SUMIF('Daily Log'!#REF!,$B166,'Daily Log'!#REF!),0)","v":0},{"$f":"IFERROR($E166*SUMIF('Daily Log'!#REF!,$B166,'Daily Log'!#REF!),0)","v":0},{"$f":"IFERROR($E166*SUMIF('Daily Log'!#REF!,$B166,'Daily Log'!#REF!),0)","v":0},{"$f":"IFERROR($E166*SUMIF('Daily Log'!#REF!,$B166,'Daily Log'!#REF!),0)","v":0},{"$f":"IFERROR($E166*SUMIF('Daily Log'!#REF!,$B166,'Daily Log'!#REF!),0)","v":0},{"$f":"IFERROR($E166*SUMIF('Daily Log'!#REF!,$B166,'Daily Log'!#REF!),0)","v":0},{"$f":"IFERROR($E166*SUMIF('Daily Log'!#REF!,$B166,'Daily Log'!#REF!),0)","v":0},{"$f":"IFERROR($E166*SUMIF('Daily Log'!#REF!,$B166,'Daily Log'!#REF!),0)","v":0},{"$f":"IFERROR($E166*SUMIF('Daily Log'!#REF!,$B166,'Daily Log'!#REF!),0)","v":0},{"$f":"IFERROR($E166*SUMIF('Daily Log'!$C$18:$C$1017,$B166,'Daily Log'!$D$18:$D$1017),0)","v":0},{"$f":"IFERROR($E166*SUMIF('Daily Log'!$F$18:$F$1017,$B166,'Daily Log'!$G$18:$G$1017),0)","v":0},{"$f":"IFERROR($E166*SUMIF('Daily Log'!$I$18:$I$1017,$B166,'Daily Log'!$J$18:$J$1017),0)","v":0},{"$f":"IFERROR($E166*SUMIF('Daily Log'!$L$18:$L$1017,$B166,'Daily Log'!$M$18:$M$1017),0)","v":0},{"$f":"IFERROR($E166*SUMIF('Daily Log'!$O$18:$O$1017,$B166,'Daily Log'!$P$18:$P$1017),0)","v":1},{"$f":"IFERROR($E166*SUMIF('Daily Log'!$R$18:$R$1017,$B166,'Daily Log'!$S$18:$S$1017),0)","v":2},{"$f":"IFERROR($E166*SUMIF('Daily Log'!$U$18:$U$1017,$B166,'Daily Log'!$V$18:$V$1017),0)","v":1},{"$f":"IFERROR($E166*SUMIF('Daily Log'!#REF!,$B166,'Daily Log'!#REF!),0)","v":0},{"$f":"IFERROR($E166*SUMIF('Daily Log'!#REF!,$B166,'Daily Log'!#REF!),0)","v":0},{"$f":"IFERROR($E166*SUMIF('Daily Log'!#REF!,$B166,'Daily Log'!#REF!),0)","v":0},{"$f":"IFERROR($E166*SUMIF('Daily Log'!#REF!,$B166,'Daily Log'!#REF!),0)","v":0},{"$f":"IFERROR($E166*SUMIF('Daily Log'!#REF!,$B166,'Daily Log'!#REF!),0)","v":0}]
[null,"DD07 1207:SAUSAGE",null,"SIDE ORDER-APPETIZER",1,2,{"$f":"IFERROR($E167*SUMIF('Daily Log'!#REF!,$B167,'Daily Log'!#REF!),0)","v":0},{"$f":"IFERROR($E167*SUMIF('Daily Log'!#REF!,$B167,'Daily Log'!#REF!),0)","v":0},{"$f":"IFERROR($E167*SUMIF('Daily Log'!#REF!,$B167,'Daily Log'!#REF!),0)","v":0}," ",{"$f":"IFERROR($E167*SUMIF('Daily Log'!#REF!,$B167,'Daily Log'!#REF!),0)","v":0},{"$f":"IFERROR($E167*SUMIF('Daily Log'!#REF!,$B167,'Daily Log'!#REF!),0)","v":0},{"$f":"IFERROR($E167*SUMIF('Daily Log'!#REF!,$B167,'Daily Log'!#REF!),0)","v":0},{"$f":"IFERROR($E167*SUMIF('Daily Log'!#REF!,$B167,'Daily Log'!#REF!),0)","v":0},{"$f":"IFERROR($E167*SUMIF('Daily Log'!#REF!,$B167,'Daily Log'!#REF!),0)","v":0},{"$f":"IFERROR($E167*SUMIF('Daily Log'!#REF!,$B167,'Daily Log'!#REF!),0)","v":0},{"$f":"IFERROR($E167*SUMIF('Daily Log'!#REF!,$B167,'Daily Log'!#REF!),0)","v":0},{"$f":"IFERROR($E167*SUMIF('Daily Log'!#REF!,$B167,'Daily Log'!#REF!),0)","v":0},{"$f":"IFERROR($E167*SUMIF('Daily Log'!#REF!,$B167,'Daily Log'!#REF!),0)","v":0},{"$f":"IFERROR($E167*SUMIF('Daily Log'!#REF!,$B167,'Daily Log'!#REF!),0)","v":0},{"$f":"IFERROR($E167*SUMIF('Daily Log'!#REF!,$B167,'Daily Log'!#REF!),0)","v":0},{"$f":"IFERROR($E167*SUMIF('Daily Log'!#REF!,$B167,'Daily Log'!#REF!),0)","v":0},{"$f":"IFERROR($E167*SUMIF('Daily Log'!#REF!,$B167,'Daily Log'!#REF!),0)","v":0},{"$f":"IFERROR($E167*SUMIF('Daily Log'!#REF!,$B167,'Daily Log'!#REF!),0)","v":0},{"$f":"IFERROR($E167*SUMIF('Daily Log'!#REF!,$B167,'Daily Log'!#REF!),0)","v":0},{"$f":"IFERROR($E167*SUMIF('Daily Log'!$C$18:$C$1017,$B167,'Daily Log'!$D$18:$D$1017),0)","v":1},{"$f":"IFERROR($E167*SUMIF('Daily Log'!$F$18:$F$1017,$B167,'Daily Log'!$G$18:$G$1017),0)","v":0},{"$f":"IFERROR($E167*SUMIF('Daily Log'!$I$18:$I$1017,$B167,'Daily Log'!$J$18:$J$1017),0)","v":0},{"$f":"IFERROR($E167*SUMIF('Daily Log'!$L$18:$L$1017,$B167,'Daily Log'!$M$18:$M$1017),0)","v":0},{"$f":"IFERROR($E167*SUMIF('Daily Log'!$O$18:$O$1017,$B167,'Daily Log'!$P$18:$P$1017),0)","v":1},{"$f":"IFERROR($E167*SUMIF('Daily Log'!$R$18:$R$1017,$B167,'Daily Log'!$S$18:$S$1017),0)","v":0},{"$f":"IFERROR($E167*SUMIF('Daily Log'!$U$18:$U$1017,$B167,'Daily Log'!$V$18:$V$1017),0)","v":0},{"$f":"IFERROR($E167*SUMIF('Daily Log'!#REF!,$B167,'Daily Log'!#REF!),0)","v":0},{"$f":"IFERROR($E167*SUMIF('Daily Log'!#REF!,$B167,'Daily Log'!#REF!),0)","v":0},{"$f":"IFERROR($E167*SUMIF('Daily Log'!#REF!,$B167,'Daily Log'!#REF!),0)","v":0},{"$f":"IFERROR($E167*SUMIF('Daily Log'!#REF!,$B167,'Daily Log'!#REF!),0)","v":0},{"$f":"IFERROR($E167*SUMIF('Daily Log'!#REF!,$B167,'Daily Log'!#REF!),0)","v":0}]
[null,"DD08 1208:HOTDOG BUN",null,"SIDE ORDER-APPETIZER",1,0,{"$f":"IFERROR($E168*SUMIF('Daily Log'!#REF!,$B168,'Daily Log'!#REF!),0)","v":0},{"$f":"IFERROR($E168*SUMIF('Daily Log'!#REF!,$B168,'Daily Log'!#REF!),0)","v":0},{"$f":"IFERROR($E168*SUMIF('Daily Log'!#REF!,$B168,'Daily Log'!#REF!),0)","v":0}," ",{"$f":"IFERROR($E168*SUMIF('Daily Log'!#REF!,$B168,'Daily Log'!#REF!),0)","v":0},{"$f":"IFERROR($E168*SUMIF('Daily Log'!#REF!,$B168,'Daily Log'!#REF!),0)","v":0},{"$f":"IFERROR($E168*SUMIF('Daily Log'!#REF!,$B168,'Daily Log'!#REF!),0)","v":0},{"$f":"IFERROR($E168*SUMIF('Daily Log'!#REF!,$B168,'Daily Log'!#REF!),0)","v":0},{"$f":"IFERROR($E168*SUMIF('Daily Log'!#REF!,$B168,'Daily Log'!#REF!),0)","v":0},{"$f":"IFERROR($E168*SUMIF('Daily Log'!#REF!,$B168,'Daily Log'!#REF!),0)","v":0},{"$f":"IFERROR($E168*SUMIF('Daily Log'!#REF!,$B168,'Daily Log'!#REF!),0)","v":0},{"$f":"IFERROR($E168*SUMIF('Daily Log'!#REF!,$B168,'Daily Log'!#REF!),0)","v":0},{"$f":"IFERROR($E168*SUMIF('Daily Log'!#REF!,$B168,'Daily Log'!#REF!),0)","v":0},{"$f":"IFERROR($E168*SUMIF('Daily Log'!#REF!,$B168,'Daily Log'!#REF!),0)","v":0},{"$f":"IFERROR($E168*SUMIF('Daily Log'!#REF!,$B168,'Daily Log'!#REF!),0)","v":0},{"$f":"IFERROR($E168*SUMIF('Daily Log'!#REF!,$B168,'Daily Log'!#REF!),0)","v":0},{"$f":"IFERROR($E168*SUMIF('Daily Log'!#REF!,$B168,'Daily Log'!#REF!),0)","v":0},{"$f":"IFERROR($E168*SUMIF('Daily Log'!#REF!,$B168,'Daily Log'!#REF!),0)","v":0},{"$f":"IFERROR($E168*SUMIF('Daily Log'!#REF!,$B168,'Daily Log'!#REF!),0)","v":0},{"$f":"IFERROR($E168*SUMIF('Daily Log'!$C$18:$C$1017,$B168,'Daily Log'!$D$18:$D$1017),0)","v":0},{"$f":"IFERROR($E168*SUMIF('Daily Log'!$F$18:$F$1017,$B168,'Daily Log'!$G$18:$G$1017),0)","v":0},{"$f":"IFERROR($E168*SUMIF('Daily Log'!$I$18:$I$1017,$B168,'Daily Log'!$J$18:$J$1017),0)","v":0},{"$f":"IFERROR($E168*SUMIF('Daily Log'!$L$18:$L$1017,$B168,'Daily Log'!$M$18:$M$1017),0)","v":0},{"$f":"IFERROR($E168*SUMIF('Daily Log'!$O$18:$O$1017,$B168,'Daily Log'!$P$18:$P$1017),0)","v":0},{"$f":"IFERROR($E168*SUMIF('Daily Log'!$R$18:$R$1017,$B168,'Daily Log'!$S$18:$S$1017),0)","v":0},{"$f":"IFERROR($E168*SUMIF('Daily Log'!$U$18:$U$1017,$B168,'Daily Log'!$V$18:$V$1017),0)","v":0},{"$f":"IFERROR($E168*SUMIF('Daily Log'!#REF!,$B168,'Daily Log'!#REF!),0)","v":0},{"$f":"IFERROR($E168*SUMIF('Daily Log'!#REF!,$B168,'Daily Log'!#REF!),0)","v":0},{"$f":"IFERROR($E168*SUMIF('Daily Log'!#REF!,$B168,'Daily Log'!#REF!),0)","v":0},{"$f":"IFERROR($E168*SUMIF('Daily Log'!#REF!,$B168,'Daily Log'!#REF!),0)","v":0},{"$f":"IFERROR($E168*SUMIF('Daily Log'!#REF!,$B168,'Daily Log'!#REF!),0)","v":0}]
[null,"DD09 1209:SFD TOFU",null,"SIDE ORDER-APPETIZER",1,0,{"$f":"IFERROR($E169*SUMIF('Daily Log'!#REF!,$B169,'Daily Log'!#REF!),0)","v":0},{"$f":"IFERROR($E169*SUMIF('Daily Log'!#REF!,$B169,'Daily Log'!#REF!),0)","v":0},{"$f":"IFERROR($E169*SUMIF('Daily Log'!#REF!,$B169,'Daily Log'!#REF!),0)","v":0}," ",{"$f":"IFERROR($E169*SUMIF('Daily Log'!#REF!,$B169,'Daily Log'!#REF!),0)","v":0},{"$f":"IFERROR($E169*SUMIF('Daily Log'!#REF!,$B169,'Daily Log'!#REF!),0)","v":0},{"$f":"IFERROR($E169*SUMIF('Daily Log'!#REF!,$B169,'Daily Log'!#REF!),0)","v":0},{"$f":"IFERROR($E169*SUMIF('Daily Log'!#REF!,$B169,'Daily Log'!#REF!),0)","v":0},{"$f":"IFERROR($E169*SUMIF('Daily Log'!#REF!,$B169,'Daily Log'!#REF!),0)","v":0},{"$f":"IFERROR($E169*SUMIF('Daily Log'!#REF!,$B169,'Daily Log'!#REF!),0)","v":0},{"$f":"IFERROR($E169*SUMIF('Daily Log'!#REF!,$B169,'Daily Log'!#REF!),0)","v":0},{"$f":"IFERROR($E169*SUMIF('Daily Log'!#REF!,$B169,'Daily Log'!#REF!),0)","v":0},{"$f":"IFERROR($E169*SUMIF('Daily Log'!#REF!,$B169,'Daily Log'!#REF!),0)","v":0},{"$f":"IFERROR($E169*SUMIF('Daily Log'!#REF!,$B169,'Daily Log'!#REF!),0)","v":0},{"$f":"IFERROR($E169*SUMIF('Daily Log'!#REF!,$B169,'Daily Log'!#REF!),0)","v":0},{"$f":"IFERROR($E169*SUMIF('Daily Log'!#REF!,$B169,'Daily Log'!#REF!),0)","v":0},{"$f":"IFERROR($E169*SUMIF('Daily Log'!#REF!,$B169,'Daily Log'!#REF!),0)","v":0},{"$f":"IFERROR($E169*SUMIF('Daily Log'!#REF!,$B169,'Daily Log'!#REF!),0)","v":0},{"$f":"IFERROR($E169*SUMIF('Daily Log'!#REF!,$B169,'Daily Log'!#REF!),0)","v":0},{"$f":"IFERROR($E169*SUMIF('Daily Log'!$C$18:$C$1017,$B169,'Daily Log'!$D$18:$D$1017),0)","v":0},{"$f":"IFERROR($E169*SUMIF('Daily Log'!$F$18:$F$1017,$B169,'Daily Log'!$G$18:$G$1017),0)","v":0},{"$f":"IFERROR($E169*SUMIF('Daily Log'!$I$18:$I$1017,$B169,'Daily Log'!$J$18:$J$1017),0)","v":0},{"$f":"IFERROR($E169*SUMIF('Daily Log'!$L$18:$L$1017,$B169,'Daily Log'!$M$18:$M$1017),0)","v":0},{"$f":"IFERROR($E169*SUMIF('Daily Log'!$O$18:$O$1017,$B169,'Daily Log'!$P$18:$P$1017),0)","v":0},{"$f":"IFERROR($E169*SUMIF('Daily Log'!$R$18:$R$1017,$B169,'Daily Log'!$S$18:$S$1017),0)","v":0},{"$f":"IFERROR($E169*SUMIF('Daily Log'!$U$18:$U$1017,$B169,'Daily Log'!$V$18:$V$1017),0)","v":0},{"$f":"IFERROR($E169*SUMIF('Daily Log'!#REF!,$B169,'Daily Log'!#REF!),0)","v":0},{"$f":"IFERROR($E169*SUMIF('Daily Log'!#REF!,$B169,'Daily Log'!#REF!),0)","v":0},{"$f":"IFERROR($E169*SUMIF('Daily Log'!#REF!,$B169,'Daily Log'!#REF!),0)","v":0},{"$f":"IFERROR($E169*SUMIF('Daily Log'!#REF!,$B169,'Daily Log'!#REF!),0)","v":0},{"$f":"IFERROR($E169*SUMIF('Daily Log'!#REF!,$B169,'Daily Log'!#REF!),0)","v":0}]
[null,"DD10 1301:DUMPLING",null,"SIDE ORDER-APPETIZER",1,5,{"$f":"IFERROR($E170*SUMIF('Daily Log'!#REF!,$B170,'Daily Log'!#REF!),0)","v":0},{"$f":"IFERROR($E170*SUMIF('Daily Log'!#REF!,$B170,'Daily Log'!#REF!),0)","v":0},{"$f":"IFERROR($E170*SUMIF('Daily Log'!#REF!,$B170,'Daily Log'!#REF!),0)","v":0}," ",{"$f":"IFERROR($E170*SUMIF('Daily Log'!#REF!,$B170,'Daily Log'!#REF!),0)","v":0},{"$f":"IFERROR($E170*SUMIF('Daily Log'!#REF!,$B170,'Daily Log'!#REF!),0)","v":0},{"$f":"IFERROR($E170*SUMIF('Daily Log'!#REF!,$B170,'Daily Log'!#REF!),0)","v":0},{"$f":"IFERROR($E170*SUMIF('Daily Log'!#REF!,$B170,'Daily Log'!#REF!),0)","v":0},{"$f":"IFERROR($E170*SUMIF('Daily Log'!#REF!,$B170,'Daily Log'!#REF!),0)","v":0},{"$f":"IFERROR($E170*SUMIF('Daily Log'!#REF!,$B170,'Daily Log'!#REF!),0)","v":0},{"$f":"IFERROR($E170*SUMIF('Daily Log'!#REF!,$B170,'Daily Log'!#REF!),0)","v":0},{"$f":"IFERROR($E170*SUMIF('Daily Log'!#REF!,$B170,'Daily Log'!#REF!),0)","v":0},{"$f":"IFERROR($E170*SUMIF('Daily Log'!#REF!,$B170,'Daily Log'!#REF!),0)","v":0},{"$f":"IFERROR($E170*SUMIF('Daily Log'!#REF!,$B170,'Daily Log'!#REF!),0)","v":0},{"$f":"IFERROR($E170*SUMIF('Daily Log'!#REF!,$B170,'Daily Log'!#REF!),0)","v":0},{"$f":"IFERROR($E170*SUMIF('Daily Log'!#REF!,$B170,'Daily Log'!#REF!),0)","v":0},{"$f":"IFERROR($E170*SUMIF('Daily Log'!#REF!,$B170,'Daily Log'!#REF!),0)","v":0},{"$f":"IFERROR($E170*SUMIF('Daily Log'!#REF!,$B170,'Daily Log'!#REF!),0)","v":0},{"$f":"IFERROR($E170*SUMIF('Daily Log'!#REF!,$B170,'Daily Log'!#REF!),0)","v":0},{"$f":"IFERROR($E170*SUMIF('Daily Log'!$C$18:$C$1017,$B170,'Daily Log'!$D$18:$D$1017),0)","v":0},{"$f":"IFERROR($E170*SUMIF('Daily Log'!$F$18:$F$1017,$B170,'Daily Log'!$G$18:$G$1017),0)","v":0},{"$f":"IFERROR($E170*SUMIF('Daily Log'!$I$18:$I$1017,$B170,'Daily Log'!$J$18:$J$1017),0)","v":0},{"$f":"IFERROR($E170*SUMIF('Daily Log'!$L$18:$L$1017,$B170,'Daily Log'!$M$18:$M$1017),0)","v":1},{"$f":"IFERROR($E170*SUMIF('Daily Log'!$O$18:$O$1017,$B170,'Daily Log'!$P$18:$P$1017),0)","v":3},{"$f":"IFERROR($E170*SUMIF('Daily Log'!$R$18:$R$1017,$B170,'Daily Log'!$S$18:$S$1017),0)","v":1},{"$f":"IFERROR($E170*SUMIF('Daily Log'!$U$18:$U$1017,$B170,'Daily Log'!$V$18:$V$1017),0)","v":0},{"$f":"IFERROR($E170*SUMIF('Daily Log'!#REF!,$B170,'Daily Log'!#REF!),0)","v":0},{"$f":"IFERROR($E170*SUMIF('Daily Log'!#REF!,$B170,'Daily Log'!#REF!),0)","v":0},{"$f":"IFERROR($E170*SUMIF('Daily Log'!#REF!,$B170,'Daily Log'!#REF!),0)","v":0},{"$f":"IFERROR($E170*SUMIF('Daily Log'!#REF!,$B170,'Daily Log'!#REF!),0)","v":0},{"$f":"IFERROR($E170*SUMIF('Daily Log'!#REF!,$B170,'Daily Log'!#REF!),0)","v":0}]
[null,"DD11 1302:NUGGET",null,"SIDE ORDER-APPETIZER",1,7,{"$f":"IFERROR($E171*SUMIF('Daily Log'!#REF!,$B171,'Daily Log'!#REF!),0)","v":0},{"$f":"IFERROR($E171*SUMIF('Daily Log'!#REF!,$B171,'Daily Log'!#REF!),0)","v":0},{"$f":"IFERROR($E171*SUMIF('Daily Log'!#REF!,$B171,'Daily Log'!#REF!),0)","v":0}," ",{"$f":"IFERROR($E171*SUMIF('Daily Log'!#REF!,$B171,'Daily Log'!#REF!),0)","v":0},{"$f":"IFERROR($E171*SUMIF('Daily Log'!#REF!,$B171,'Daily Log'!#REF!),0)","v":0},{"$f":"IFERROR($E171*SUMIF('Daily Log'!#REF!,$B171,'Daily Log'!#REF!),0)","v":0},{"$f":"IFERROR($E171*SUMIF('Daily Log'!#REF!,$B171,'Daily Log'!#REF!),0)","v":0},{"$f":"IFERROR($E171*SUMIF('Daily Log'!#REF!,$B171,'Daily Log'!#REF!),0)","v":0},{"$f":"IFERROR($E171*SUMIF('Daily Log'!#REF!,$B171,'Daily Log'!#REF!),0)","v":0},{"$f":"IFERROR($E171*SUMIF('Daily Log'!#REF!,$B171,'Daily Log'!#REF!),0)","v":0},{"$f":"IFERROR($E171*SUMIF('Daily Log'!#REF!,$B171,'Daily Log'!#REF!),0)","v":0},{"$f":"IFERROR($E171*SUMIF('Daily Log'!#REF!,$B171,'Daily Log'!#REF!),0)","v":0},{"$f":"IFERROR($E171*SUMIF('Daily Log'!#REF!,$B171,'Daily Log'!#REF!),0)","v":0},{"$f":"IFERROR($E171*SUMIF('Daily Log'!#REF!,$B171,'Daily Log'!#REF!),0)","v":0},{"$f":"IFERROR($E171*SUMIF('Daily Log'!#REF!,$B171,'Daily Log'!#REF!),0)","v":0},{"$f":"IFERROR($E171*SUMIF('Daily Log'!#REF!,$B171,'Daily Log'!#REF!),0)","v":0},{"$f":"IFERROR($E171*SUMIF('Daily Log'!#REF!,$B171,'Daily Log'!#REF!),0)","v":0},{"$f":"IFERROR($E171*SUMIF('Daily Log'!#REF!,$B171,'Daily Log'!#REF!),0)","v":0},{"$f":"IFERROR($E171*SUMIF('Daily Log'!$C$18:$C$1017,$B171,'Daily Log'!$D$18:$D$1017),0)","v":1},{"$f":"IFERROR($E171*SUMIF('Daily Log'!$F$18:$F$1017,$B171,'Daily Log'!$G$18:$G$1017),0)","v":0},{"$f":"IFERROR($E171*SUMIF('Daily Log'!$I$18:$I$1017,$B171,'Daily Log'!$J$18:$J$1017),0)","v":1},{"$f":"IFERROR($E171*SUMIF('Daily Log'!$L$18:$L$1017,$B171,'Daily Log'!$M$18:$M$1017),0)","v":1},{"$f":"IFERROR($E171*SUMIF('Daily Log'!$O$18:$O$1017,$B171,'Daily Log'!$P$18:$P$1017),0)","v":1},{"$f":"IFERROR($E171*SUMIF('Daily Log'!$R$18:$R$1017,$B171,'Daily Log'!$S$18:$S$1017),0)","v":2},{"$f":"IFERROR($E171*SUMIF('Daily Log'!$U$18:$U$1017,$B171,'Daily Log'!$V$18:$V$1017),0)","v":1},{"$f":"IFERROR($E171*SUMIF('Daily Log'!#REF!,$B171,'Daily Log'!#REF!),0)","v":0},{"$f":"IFERROR($E171*SUMIF('Daily Log'!#REF!,$B171,'Daily Log'!#REF!),0)","v":0},{"$f":"IFERROR($E171*SUMIF('Daily Log'!#REF!,$B171,'Daily Log'!#REF!),0)","v":0},{"$f":"IFERROR($E171*SUMIF('Daily Log'!#REF!,$B171,'Daily Log'!#REF!),0)","v":0},{"$f":"IFERROR($E171*SUMIF('Daily Log'!#REF!,$B171,'Daily Log'!#REF!),0)","v":0}]
[null,"DD12 1303:CHK WING",null,"SIDE ORDER-APPETIZER",1,14,{"$f":"IFERROR($E172*SUMIF('Daily Log'!#REF!,$B172,'Daily Log'!#REF!),0)","v":0},{"$f":"IFERROR($E172*SUMIF('Daily Log'!#REF!,$B172,'Daily Log'!#REF!),0)","v":0},{"$f":"IFERROR($E172*SUMIF('Daily Log'!#REF!,$B172,'Daily Log'!#REF!),0)","v":0}," ",{"$f":"IFERROR($E172*SUMIF('Daily Log'!#REF!,$B172,'Daily Log'!#REF!),0)","v":0},{"$f":"IFERROR($E172*SUMIF('Daily Log'!#REF!,$B172,'Daily Log'!#REF!),0)","v":0},{"$f":"IFERROR($E172*SUMIF('Daily Log'!#REF!,$B172,'Daily Log'!#REF!),0)","v":0},{"$f":"IFERROR($E172*SUMIF('Daily Log'!#REF!,$B172,'Daily Log'!#REF!),0)","v":0},{"$f":"IFERROR($E172*SUMIF('Daily Log'!#REF!,$B172,'Daily Log'!#REF!),0)","v":0},{"$f":"IFERROR($E172*SUMIF('Daily Log'!#REF!,$B172,'Daily Log'!#REF!),0)","v":0},{"$f":"IFERROR($E172*SUMIF('Daily Log'!#REF!,$B172,'Daily Log'!#REF!),0)","v":0},{"$f":"IFERROR($E172*SUMIF('Daily Log'!#REF!,$B172,'Daily Log'!#REF!),0)","v":0},{"$f":"IFERROR($E172*SUMIF('Daily Log'!#REF!,$B172,'Daily Log'!#REF!),0)","v":0},{"$f":"IFERROR($E172*SUMIF('Daily Log'!#REF!,$B172,'Daily Log'!#REF!),0)","v":0},{"$f":"IFERROR($E172*SUMIF('Daily Log'!#REF!,$B172,'Daily Log'!#REF!),0)","v":0},{"$f":"IFERROR($E172*SUMIF('Daily Log'!#REF!,$B172,'Daily Log'!#REF!),0)","v":0},{"$f":"IFERROR($E172*SUMIF('Daily Log'!#REF!,$B172,'Daily Log'!#REF!),0)","v":0},{"$f":"IFERROR($E172*SUMIF('Daily Log'!#REF!,$B172,'Daily Log'!#REF!),0)","v":0},{"$f":"IFERROR($E172*SUMIF('Daily Log'!#REF!,$B172,'Daily Log'!#REF!),0)","v":0},{"$f":"IFERROR($E172*SUMIF('Daily Log'!$C$18:$C$1017,$B172,'Daily Log'!$D$18:$D$1017),0)","v":2},{"$f":"IFERROR($E172*SUMIF('Daily Log'!$F$18:$F$1017,$B172,'Daily Log'!$G$18:$G$1017),0)","v":2},{"$f":"IFERROR($E172*SUMIF('Daily Log'!$I$18:$I$1017,$B172,'Daily Log'!$J$18:$J$1017),0)","v":0},{"$f":"IFERROR($E172*SUMIF('Daily Log'!$L$18:$L$1017,$B172,'Daily Log'!$M$18:$M$1017),0)","v":3},{"$f":"IFERROR($E172*SUMIF('Daily Log'!$O$18:$O$1017,$B172,'Daily Log'!$P$18:$P$1017),0)","v":2},{"$f":"IFERROR($E172*SUMIF('Daily Log'!$R$18:$R$1017,$B172,'Daily Log'!$S$18:$S$1017),0)","v":3},{"$f":"IFERROR($E172*SUMIF('Daily Log'!$U$18:$U$1017,$B172,'Daily Log'!$V$18:$V$1017),0)","v":2},{"$f":"IFERROR($E172*SUMIF('Daily Log'!#REF!,$B172,'Daily Log'!#REF!),0)","v":0},{"$f":"IFERROR($E172*SUMIF('Daily Log'!#REF!,$B172,'Daily Log'!#REF!),0)","v":0},{"$f":"IFERROR($E172*SUMIF('Daily Log'!#REF!,$B172,'Daily Log'!#REF!),0)","v":0},{"$f":"IFERROR($E172*SUMIF('Daily Log'!#REF!,$B172,'Daily Log'!#REF!),0)","v":0},{"$f":"IFERROR($E172*SUMIF('Daily Log'!#REF!,$B172,'Daily Log'!#REF!),0)","v":0}]
[null,"DD13 1304:IKAN BILIS",null,"SIDE ORDER-APPETIZER",1,3,{"$f":"IFERROR($E173*SUMIF('Daily Log'!#REF!,$B173,'Daily Log'!#REF!),0)","v":0},{"$f":"IFERROR($E173*SUMIF('Daily Log'!#REF!,$B173,'Daily Log'!#REF!),0)","v":0},{"$f":"IFERROR($E173*SUMIF('Daily Log'!#REF!,$B173,'Daily Log'!#REF!),0)","v":0}," ",{"$f":"IFERROR($E173*SUMIF('Daily Log'!#REF!,$B173,'Daily Log'!#REF!),0)","v":0},{"$f":"IFERROR($E173*SUMIF('Daily Log'!#REF!,$B173,'Daily Log'!#REF!),0)","v":0},{"$f":"IFERROR($E173*SUMIF('Daily Log'!#REF!,$B173,'Daily Log'!#REF!),0)","v":0},{"$f":"IFERROR($E173*SUMIF('Daily Log'!#REF!,$B173,'Daily Log'!#REF!),0)","v":0},{"$f":"IFERROR($E173*SUMIF('Daily Log'!#REF!,$B173,'Daily Log'!#REF!),0)","v":0},{"$f":"IFERROR($E173*SUMIF('Daily Log'!#REF!,$B173,'Daily Log'!#REF!),0)","v":0},{"$f":"IFERROR($E173*SUMIF('Daily Log'!#REF!,$B173,'Daily Log'!#REF!),0)","v":0},{"$f":"IFERROR($E173*SUMIF('Daily Log'!#REF!,$B173,'Daily Log'!#REF!),0)","v":0},{"$f":"IFERROR($E173*SUMIF('Daily Log'!#REF!,$B173,'Daily Log'!#REF!),0)","v":0},{"$f":"IFERROR($E173*SUMIF('Daily Log'!#REF!,$B173,'Daily Log'!#REF!),0)","v":0},{"$f":"IFERROR($E173*SUMIF('Daily Log'!#REF!,$B173,'Daily Log'!#REF!),0)","v":0},{"$f":"IFERROR($E173*SUMIF('Daily Log'!#REF!,$B173,'Daily Log'!#REF!),0)","v":0},{"$f":"IFERROR($E173*SUMIF('Daily Log'!#REF!,$B173,'Daily Log'!#REF!),0)","v":0},{"$f":"IFERROR($E173*SUMIF('Daily Log'!#REF!,$B173,'Daily Log'!#REF!),0)","v":0},{"$f":"IFERROR($E173*SUMIF('Daily Log'!#REF!,$B173,'Daily Log'!#REF!),0)","v":0},{"$f":"IFERROR($E173*SUMIF('Daily Log'!$C$18:$C$1017,$B173,'Daily Log'!$D$18:$D$1017),0)","v":0},{"$f":"IFERROR($E173*SUMIF('Daily Log'!$F$18:$F$1017,$B173,'Daily Log'!$G$18:$G$1017),0)","v":1},{"$f":"IFERROR($E173*SUMIF('Daily Log'!$I$18:$I$1017,$B173,'Daily Log'!$J$18:$J$1017),0)","v":0},{"$f":"IFERROR($E173*SUMIF('Daily Log'!$L$18:$L$1017,$B173,'Daily Log'!$M$18:$M$1017),0)","v":1},{"$f":"IFERROR($E173*SUMIF('Daily Log'!$O$18:$O$1017,$B173,'Daily Log'!$P$18:$P$1017),0)","v":1},{"$f":"IFERROR($E173*SUMIF('Daily Log'!$R$18:$R$1017,$B173,'Daily Log'!$S$18:$S$1017),0)","v":0},{"$f":"IFERROR($E173*SUMIF('Daily Log'!$U$18:$U$1017,$B173,'Daily Log'!$V$18:$V$1017),0)","v":0},{"$f":"IFERROR($E173*SUMIF('Daily Log'!#REF!,$B173,'Daily Log'!#REF!),0)","v":0},{"$f":"IFERROR($E173*SUMIF('Daily Log'!#REF!,$B173,'Daily Log'!#REF!),0)","v":0},{"$f":"IFERROR($E173*SUMIF('Daily Log'!#REF!,$B173,'Daily Log'!#REF!),0)","v":0},{"$f":"IFERROR($E173*SUMIF('Daily Log'!#REF!,$B173,'Daily Log'!#REF!),0)","v":0},{"$f":"IFERROR($E173*SUMIF('Daily Log'!#REF!,$B173,'Daily Log'!#REF!),0)","v":0}]
[null,"DD14 1305:THAI RL",null,"SIDE ORDER-APPETIZER",1,3,{"$f":"IFERROR($E174*SUMIF('Daily Log'!#REF!,$B174,'Daily Log'!#REF!),0)","v":0},{"$f":"IFERROR($E174*SUMIF('Daily Log'!#REF!,$B174,'Daily Log'!#REF!),0)","v":0},{"$f":"IFERROR($E174*SUMIF('Daily Log'!#REF!,$B174,'Daily Log'!#REF!),0)","v":0}," ",{"$f":"IFERROR($E174*SUMIF('Daily Log'!#REF!,$B174,'Daily Log'!#REF!),0)","v":0},{"$f":"IFERROR($E174*SUMIF('Daily Log'!#REF!,$B174,'Daily Log'!#REF!),0)","v":0},{"$f":"IFERROR($E174*SUMIF('Daily Log'!#REF!,$B174,'Daily Log'!#REF!),0)","v":0},{"$f":"IFERROR($E174*SUMIF('Daily Log'!#REF!,$B174,'Daily Log'!#REF!),0)","v":0},{"$f":"IFERROR($E174*SUMIF('Daily Log'!#REF!,$B174,'Daily Log'!#REF!),0)","v":0},{"$f":"IFERROR($E174*SUMIF('Daily Log'!#REF!,$B174,'Daily Log'!#REF!),0)","v":0},{"$f":"IFERROR($E174*SUMIF('Daily Log'!#REF!,$B174,'Daily Log'!#REF!),0)","v":0},{"$f":"IFERROR($E174*SUMIF('Daily Log'!#REF!,$B174,'Daily Log'!#REF!),0)","v":0},{"$f":"IFERROR($E174*SUMIF('Daily Log'!#REF!,$B174,'Daily Log'!#REF!),0)","v":0},{"$f":"IFERROR($E174*SUMIF('Daily Log'!#REF!,$B174,'Daily Log'!#REF!),0)","v":0},{"$f":"IFERROR($E174*SUMIF('Daily Log'!#REF!,$B174,'Daily Log'!#REF!),0)","v":0},{"$f":"IFERROR($E174*SUMIF('Daily Log'!#REF!,$B174,'Daily Log'!#REF!),0)","v":0},{"$f":"IFERROR($E174*SUMIF('Daily Log'!#REF!,$B174,'Daily Log'!#REF!),0)","v":0},{"$f":"IFERROR($E174*SUMIF('Daily Log'!#REF!,$B174,'Daily Log'!#REF!),0)","v":0},{"$f":"IFERROR($E174*SUMIF('Daily Log'!#REF!,$B174,'Daily Log'!#REF!),0)","v":0},{"$f":"IFERROR($E174*SUMIF('Daily Log'!$C$18:$C$1017,$B174,'Daily Log'!$D$18:$D$1017),0)","v":0},{"$f":"IFERROR($E174*SUMIF('Daily Log'!$F$18:$F$1017,$B174,'Daily Log'!$G$18:$G$1017),0)","v":0},{"$f":"IFERROR($E174*SUMIF('Daily Log'!$I$18:$I$1017,$B174,'Daily Log'!$J$18:$J$1017),0)","v":1},{"$f":"IFERROR($E174*SUMIF('Daily Log'!$L$18:$L$1017,$B174,'Daily Log'!$M$18:$M$1017),0)","v":0},{"$f":"IFERROR($E174*SUMIF('Daily Log'!$O$18:$O$1017,$B174,'Daily Log'!$P$18:$P$1017),0)","v":0},{"$f":"IFERROR($E174*SUMIF('Daily Log'!$R$18:$R$1017,$B174,'Daily Log'!$S$18:$S$1017),0)","v":0},{"$f":"IFERROR($E174*SUMIF('Daily Log'!$U$18:$U$1017,$B174,'Daily Log'!$V$18:$V$1017),0)","v":2},{"$f":"IFERROR($E174*SUMIF('Daily Log'!#REF!,$B174,'Daily Log'!#REF!),0)","v":0},{"$f":"IFERROR($E174*SUMIF('Daily Log'!#REF!,$B174,'Daily Log'!#REF!),0)","v":0},{"$f":"IFERROR($E174*SUMIF('Daily Log'!#REF!,$B174,'Daily Log'!#REF!),0)","v":0},{"$f":"IFERROR($E174*SUMIF('Daily Log'!#REF!,$B174,'Daily Log'!#REF!),0)","v":0},{"$f":"IFERROR($E174*SUMIF('Daily Log'!#REF!,$B174,'Daily Log'!#REF!),0)","v":0}]
[null,"DD15 1306:SLVR FISH",null,"SIDE ORDER-APPETIZER",1,0,{"$f":"IFERROR($E175*SUMIF('Daily Log'!#REF!,$B175,'Daily Log'!#REF!),0)","v":0},{"$f":"IFERROR($E175*SUMIF('Daily Log'!#REF!,$B175,'Daily Log'!#REF!),0)","v":0},{"$f":"IFERROR($E175*SUMIF('Daily Log'!#REF!,$B175,'Daily Log'!#REF!),0)","v":0}," ",{"$f":"IFERROR($E175*SUMIF('Daily Log'!#REF!,$B175,'Daily Log'!#REF!),0)","v":0},{"$f":"IFERROR($E175*SUMIF('Daily Log'!#REF!,$B175,'Daily Log'!#REF!),0)","v":0},{"$f":"IFERROR($E175*SUMIF('Daily Log'!#REF!,$B175,'Daily Log'!#REF!),0)","v":0},{"$f":"IFERROR($E175*SUMIF('Daily Log'!#REF!,$B175,'Daily Log'!#REF!),0)","v":0},{"$f":"IFERROR($E175*SUMIF('Daily Log'!#REF!,$B175,'Daily Log'!#REF!),0)","v":0},{"$f":"IFERROR($E175*SUMIF('Daily Log'!#REF!,$B175,'Daily Log'!#REF!),0)","v":0},{"$f":"IFERROR($E175*SUMIF('Daily Log'!#REF!,$B175,'Daily Log'!#REF!),0)","v":0},{"$f":"IFERROR($E175*SUMIF('Daily Log'!#REF!,$B175,'Daily Log'!#REF!),0)","v":0},{"$f":"IFERROR($E175*SUMIF('Daily Log'!#REF!,$B175,'Daily Log'!#REF!),0)","v":0},{"$f":"IFERROR($E175*SUMIF('Daily Log'!#REF!,$B175,'Daily Log'!#REF!),0)","v":0},{"$f":"IFERROR($E175*SUMIF('Daily Log'!#REF!,$B175,'Daily Log'!#REF!),0)","v":0},{"$f":"IFERROR($E175*SUMIF('Daily Log'!#REF!,$B175,'Daily Log'!#REF!),0)","v":0},{"$f":"IFERROR($E175*SUMIF('Daily Log'!#REF!,$B175,'Daily Log'!#REF!),0)","v":0},{"$f":"IFERROR($E175*SUMIF('Daily Log'!#REF!,$B175,'Daily Log'!#REF!),0)","v":0},{"$f":"IFERROR($E175*SUMIF('Daily Log'!#REF!,$B175,'Daily Log'!#REF!),0)","v":0},{"$f":"IFERROR($E175*SUMIF('Daily Log'!$C$18:$C$1017,$B175,'Daily Log'!$D$18:$D$1017),0)","v":0},{"$f":"IFERROR($E175*SUMIF('Daily Log'!$F$18:$F$1017,$B175,'Daily Log'!$G$18:$G$1017),0)","v":0},{"$f":"IFERROR($E175*SUMIF('Daily Log'!$I$18:$I$1017,$B175,'Daily Log'!$J$18:$J$1017),0)","v":0},{"$f":"IFERROR($E175*SUMIF('Daily Log'!$L$18:$L$1017,$B175,'Daily Log'!$M$18:$M$1017),0)","v":0},{"$f":"IFERROR($E175*SUMIF('Daily Log'!$O$18:$O$1017,$B175,'Daily Log'!$P$18:$P$1017),0)","v":0},{"$f":"IFERROR($E175*SUMIF('Daily Log'!$R$18:$R$1017,$B175,'Daily Log'!$S$18:$S$1017),0)","v":0},{"$f":"IFERROR($E175*SUMIF('Daily Log'!$U$18:$U$1017,$B175,'Daily Log'!$V$18:$V$1017),0)","v":0},{"$f":"IFERROR($E175*SUMIF('Daily Log'!#REF!,$B175,'Daily Log'!#REF!),0)","v":0},{"$f":"IFERROR($E175*SUMIF('Daily Log'!#REF!,$B175,'Daily Log'!#REF!),0)","v":0},{"$f":"IFERROR($E175*SUMIF('Daily Log'!#REF!,$B175,'Daily Log'!#REF!),0)","v":0},{"$f":"IFERROR($E175*SUMIF('Daily Log'!#REF!,$B175,'Daily Log'!#REF!),0)","v":0},{"$f":"IFERROR($E175*SUMIF('Daily Log'!#REF!,$B175,'Daily Log'!#REF!),0)","v":0}]
[null,"DD16 McCain AlaCarte",null,"PLATTER",1,0,{"$f":"IFERROR($E176*SUMIF('Daily Log'!#REF!,$B176,'Daily Log'!#REF!),0)","v":0},{"$f":"IFERROR($E176*SUMIF('Daily Log'!#REF!,$B176,'Daily Log'!#REF!),0)","v":0},{"$f":"IFERROR($E176*SUMIF('Daily Log'!#REF!,$B176,'Daily Log'!#REF!),0)","v":0}," ",{"$f":"IFERROR($E176*SUMIF('Daily Log'!#REF!,$B176,'Daily Log'!#REF!),0)","v":0},{"$f":"IFERROR($E176*SUMIF('Daily Log'!#REF!,$B176,'Daily Log'!#REF!),0)","v":0},{"$f":"IFERROR($E176*SUMIF('Daily Log'!#REF!,$B176,'Daily Log'!#REF!),0)","v":0},{"$f":"IFERROR($E176*SUMIF('Daily Log'!#REF!,$B176,'Daily Log'!#REF!),0)","v":0},{"$f":"IFERROR($E176*SUMIF('Daily Log'!#REF!,$B176,'Daily Log'!#REF!),0)","v":0},{"$f":"IFERROR($E176*SUMIF('Daily Log'!#REF!,$B176,'Daily Log'!#REF!),0)","v":0},{"$f":"IFERROR($E176*SUMIF('Daily Log'!#REF!,$B176,'Daily Log'!#REF!),0)","v":0},{"$f":"IFERROR($E176*SUMIF('Daily Log'!#REF!,$B176,'Daily Log'!#REF!),0)","v":0},{"$f":"IFERROR($E176*SUMIF('Daily Log'!#REF!,$B176,'Daily Log'!#REF!),0)","v":0},{"$f":"IFERROR($E176*SUMIF('Daily Log'!#REF!,$B176,'Daily Log'!#REF!),0)","v":0},{"$f":"IFERROR($E176*SUMIF('Daily Log'!#REF!,$B176,'Daily Log'!#REF!),0)","v":0},{"$f":"IFERROR($E176*SUMIF('Daily Log'!#REF!,$B176,'Daily Log'!#REF!),0)","v":0},{"$f":"IFERROR($E176*SUMIF('Daily Log'!#REF!,$B176,'Daily Log'!#REF!),0)","v":0},{"$f":"IFERROR($E176*SUMIF('Daily Log'!#REF!,$B176,'Daily Log'!#REF!),0)","v":0},{"$f":"IFERROR($E176*SUMIF('Daily Log'!#REF!,$B176,'Daily Log'!#REF!),0)","v":0},{"$f":"IFERROR($E176*SUMIF('Daily Log'!$C$18:$C$1017,$B176,'Daily Log'!$D$18:$D$1017),0)","v":0},{"$f":"IFERROR($E176*SUMIF('Daily Log'!$F$18:$F$1017,$B176,'Daily Log'!$G$18:$G$1017),0)","v":0},{"$f":"IFERROR($E176*SUMIF('Daily Log'!$I$18:$I$1017,$B176,'Daily Log'!$J$18:$J$1017),0)","v":0},{"$f":"IFERROR($E176*SUMIF('Daily Log'!$L$18:$L$1017,$B176,'Daily Log'!$M$18:$M$1017),0)","v":0},{"$f":"IFERROR($E176*SUMIF('Daily Log'!$O$18:$O$1017,$B176,'Daily Log'!$P$18:$P$1017),0)","v":0},{"$f":"IFERROR($E176*SUMIF('Daily Log'!$R$18:$R$1017,$B176,'Daily Log'!$S$18:$S$1017),0)","v":0},{"$f":"IFERROR($E176*SUMIF('Daily Log'!$U$18:$U$1017,$B176,'Daily Log'!$V$18:$V$1017),0)","v":0},{"$f":"IFERROR($E176*SUMIF('Daily Log'!#REF!,$B176,'Daily Log'!#REF!),0)","v":0},{"$f":"IFERROR($E176*SUMIF('Daily Log'!#REF!,$B176,'Daily Log'!#REF!),0)","v":0},{"$f":"IFERROR($E176*SUMIF('Daily Log'!#REF!,$B176,'Daily Log'!#REF!),0)","v":0},{"$f":"IFERROR($E176*SUMIF('Daily Log'!#REF!,$B176,'Daily Log'!#REF!),0)","v":0},{"$f":"IFERROR($E176*SUMIF('Daily Log'!#REF!,$B176,'Daily Log'!#REF!),0)","v":0}]
[null,"DD17 McC Beer Platter",null,"PLATTER",1,0,{"$f":"IFERROR($E177*SUMIF('Daily Log'!#REF!,$B177,'Daily Log'!#REF!),0)","v":0},{"$f":"IFERROR($E177*SUMIF('Daily Log'!#REF!,$B177,'Daily Log'!#REF!),0)","v":0},{"$f":"IFERROR($E177*SUMIF('Daily Log'!#REF!,$B177,'Daily Log'!#REF!),0)","v":0}," ",{"$f":"IFERROR($E177*SUMIF('Daily Log'!#REF!,$B177,'Daily Log'!#REF!),0)","v":0},{"$f":"IFERROR($E177*SUMIF('Daily Log'!#REF!,$B177,'Daily Log'!#REF!),0)","v":0},{"$f":"IFERROR($E177*SUMIF('Daily Log'!#REF!,$B177,'Daily Log'!#REF!),0)","v":0},{"$f":"IFERROR($E177*SUMIF('Daily Log'!#REF!,$B177,'Daily Log'!#REF!),0)","v":0},{"$f":"IFERROR($E177*SUMIF('Daily Log'!#REF!,$B177,'Daily Log'!#REF!),0)","v":0},{"$f":"IFERROR($E177*SUMIF('Daily Log'!#REF!,$B177,'Daily Log'!#REF!),0)","v":0},{"$f":"IFERROR($E177*SUMIF('Daily Log'!#REF!,$B177,'Daily Log'!#REF!),0)","v":0},{"$f":"IFERROR($E177*SUMIF('Daily Log'!#REF!,$B177,'Daily Log'!#REF!),0)","v":0},{"$f":"IFERROR($E177*SUMIF('Daily Log'!#REF!,$B177,'Daily Log'!#REF!),0)","v":0},{"$f":"IFERROR($E177*SUMIF('Daily Log'!#REF!,$B177,'Daily Log'!#REF!),0)","v":0},{"$f":"IFERROR($E177*SUMIF('Daily Log'!#REF!,$B177,'Daily Log'!#REF!),0)","v":0},{"$f":"IFERROR($E177*SUMIF('Daily Log'!#REF!,$B177,'Daily Log'!#REF!),0)","v":0},{"$f":"IFERROR($E177*SUMIF('Daily Log'!#REF!,$B177,'Daily Log'!#REF!),0)","v":0},{"$f":"IFERROR($E177*SUMIF('Daily Log'!#REF!,$B177,'Daily Log'!#REF!),0)","v":0},{"$f":"IFERROR($E177*SUMIF('Daily Log'!#REF!,$B177,'Daily Log'!#REF!),0)","v":0},{"$f":"IFERROR($E177*SUMIF('Daily Log'!$C$18:$C$1017,$B177,'Daily Log'!$D$18:$D$1017),0)","v":0},{"$f":"IFERROR($E177*SUMIF('Daily Log'!$F$18:$F$1017,$B177,'Daily Log'!$G$18:$G$1017),0)","v":0},{"$f":"IFERROR($E177*SUMIF('Daily Log'!$I$18:$I$1017,$B177,'Daily Log'!$J$18:$J$1017),0)","v":0},{"$f":"IFERROR($E177*SUMIF('Daily Log'!$L$18:$L$1017,$B177,'Daily Log'!$M$18:$M$1017),0)","v":0},{"$f":"IFERROR($E177*SUMIF('Daily Log'!$O$18:$O$1017,$B177,'Daily Log'!$P$18:$P$1017),0)","v":0},{"$f":"IFERROR($E177*SUMIF('Daily Log'!$R$18:$R$1017,$B177,'Daily Log'!$S$18:$S$1017),0)","v":0},{"$f":"IFERROR($E177*SUMIF('Daily Log'!$U$18:$U$1017,$B177,'Daily Log'!$V$18:$V$1017),0)","v":0},{"$f":"IFERROR($E177*SUMIF('Daily Log'!#REF!,$B177,'Daily Log'!#REF!),0)","v":0},{"$f":"IFERROR($E177*SUMIF('Daily Log'!#REF!,$B177,'Daily Log'!#REF!),0)","v":0},{"$f":"IFERROR($E177*SUMIF('Daily Log'!#REF!,$B177,'Daily Log'!#REF!),0)","v":0},{"$f":"IFERROR($E177*SUMIF('Daily Log'!#REF!,$B177,'Daily Log'!#REF!),0)","v":0},{"$f":"IFERROR($E177*SUMIF('Daily Log'!#REF!,$B177,'Daily Log'!#REF!),0)","v":0}]
[null,"DD18 CNY LUNCH PLATER",null,"PLATTER",1,0,{"$f":"IFERROR($E178*SUMIF('Daily Log'!#REF!,$B178,'Daily Log'!#REF!),0)","v":0},{"$f":"IFERROR($E178*SUMIF('Daily Log'!#REF!,$B178,'Daily Log'!#REF!),0)","v":0},{"$f":"IFERROR($E178*SUMIF('Daily Log'!#REF!,$B178,'Daily Log'!#REF!),0)","v":0}," ",{"$f":"IFERROR($E178*SUMIF('Daily Log'!#REF!,$B178,'Daily Log'!#REF!),0)","v":0},{"$f":"IFERROR($E178*SUMIF('Daily Log'!#REF!,$B178,'Daily Log'!#REF!),0)","v":0},{"$f":"IFERROR($E178*SUMIF('Daily Log'!#REF!,$B178,'Daily Log'!#REF!),0)","v":0},{"$f":"IFERROR($E178*SUMIF('Daily Log'!#REF!,$B178,'Daily Log'!#REF!),0)","v":0},{"$f":"IFERROR($E178*SUMIF('Daily Log'!#REF!,$B178,'Daily Log'!#REF!),0)","v":0},{"$f":"IFERROR($E178*SUMIF('Daily Log'!#REF!,$B178,'Daily Log'!#REF!),0)","v":0},{"$f":"IFERROR($E178*SUMIF('Daily Log'!#REF!,$B178,'Daily Log'!#REF!),0)","v":0},{"$f":"IFERROR($E178*SUMIF('Daily Log'!#REF!,$B178,'Daily Log'!#REF!),0)","v":0},{"$f":"IFERROR($E178*SUMIF('Daily Log'!#REF!,$B178,'Daily Log'!#REF!),0)","v":0},{"$f":"IFERROR($E178*SUMIF('Daily Log'!#REF!,$B178,'Daily Log'!#REF!),0)","v":0},{"$f":"IFERROR($E178*SUMIF('Daily Log'!#REF!,$B178,'Daily Log'!#REF!),0)","v":0},{"$f":"IFERROR($E178*SUMIF('Daily Log'!#REF!,$B178,'Daily Log'!#REF!),0)","v":0},{"$f":"IFERROR($E178*SUMIF('Daily Log'!#REF!,$B178,'Daily Log'!#REF!),0)","v":0},{"$f":"IFERROR($E178*SUMIF('Daily Log'!#REF!,$B178,'Daily Log'!#REF!),0)","v":0},{"$f":"IFERROR($E178*SUMIF('Daily Log'!#REF!,$B178,'Daily Log'!#REF!),0)","v":0},{"$f":"IFERROR($E178*SUMIF('Daily Log'!$C$18:$C$1017,$B178,'Daily Log'!$D$18:$D$1017),0)","v":0},{"$f":"IFERROR($E178*SUMIF('Daily Log'!$F$18:$F$1017,$B178,'Daily Log'!$G$18:$G$1017),0)","v":0},{"$f":"IFERROR($E178*SUMIF('Daily Log'!$I$18:$I$1017,$B178,'Daily Log'!$J$18:$J$1017),0)","v":0},{"$f":"IFERROR($E178*SUMIF('Daily Log'!$L$18:$L$1017,$B178,'Daily Log'!$M$18:$M$1017),0)","v":0},{"$f":"IFERROR($E178*SUMIF('Daily Log'!$O$18:$O$1017,$B178,'Daily Log'!$P$18:$P$1017),0)","v":0},{"$f":"IFERROR($E178*SUMIF('Daily Log'!$R$18:$R$1017,$B178,'Daily Log'!$S$18:$S$1017),0)","v":0},{"$f":"IFERROR($E178*SUMIF('Daily Log'!$U$18:$U$1017,$B178,'Daily Log'!$V$18:$V$1017),0)","v":0},{"$f":"IFERROR($E178*SUMIF('Daily Log'!#REF!,$B178,'Daily Log'!#REF!),0)","v":0},{"$f":"IFERROR($E178*SUMIF('Daily Log'!#REF!,$B178,'Daily Log'!#REF!),0)","v":0},{"$f":"IFERROR($E178*SUMIF('Daily Log'!#REF!,$B178,'Daily Log'!#REF!),0)","v":0},{"$f":"IFERROR($E178*SUMIF('Daily Log'!#REF!,$B178,'Daily Log'!#REF!),0)","v":0},{"$f":"IFERROR($E178*SUMIF('Daily Log'!#REF!,$B178,'Daily Log'!#REF!),0)","v":0}]
[null,"DD19 CNY BEER PLATER",null,"PLATTER",1,1,{"$f":"IFERROR($E179*SUMIF('Daily Log'!#REF!,$B179,'Daily Log'!#REF!),0)","v":0},{"$f":"IFERROR($E179*SUMIF('Daily Log'!#REF!,$B179,'Daily Log'!#REF!),0)","v":0},{"$f":"IFERROR($E179*SUMIF('Daily Log'!#REF!,$B179,'Daily Log'!#REF!),0)","v":0}," ",{"$f":"IFERROR($E179*SUMIF('Daily Log'!#REF!,$B179,'Daily Log'!#REF!),0)","v":0},{"$f":"IFERROR($E179*SUMIF('Daily Log'!#REF!,$B179,'Daily Log'!#REF!),0)","v":0},{"$f":"IFERROR($E179*SUMIF('Daily Log'!#REF!,$B179,'Daily Log'!#REF!),0)","v":0},{"$f":"IFERROR($E179*SUMIF('Daily Log'!#REF!,$B179,'Daily Log'!#REF!),0)","v":0},{"$f":"IFERROR($E179*SUMIF('Daily Log'!#REF!,$B179,'Daily Log'!#REF!),0)","v":0},{"$f":"IFERROR($E179*SUMIF('Daily Log'!#REF!,$B179,'Daily Log'!#REF!),0)","v":0},{"$f":"IFERROR($E179*SUMIF('Daily Log'!#REF!,$B179,'Daily Log'!#REF!),0)","v":0},{"$f":"IFERROR($E179*SUMIF('Daily Log'!#REF!,$B179,'Daily Log'!#REF!),0)","v":0},{"$f":"IFERROR($E179*SUMIF('Daily Log'!#REF!,$B179,'Daily Log'!#REF!),0)","v":0},{"$f":"IFERROR($E179*SUMIF('Daily Log'!#REF!,$B179,'Daily Log'!#REF!),0)","v":0},{"$f":"IFERROR($E179*SUMIF('Daily Log'!#REF!,$B179,'Daily Log'!#REF!),0)","v":0},{"$f":"IFERROR($E179*SUMIF('Daily Log'!#REF!,$B179,'Daily Log'!#REF!),0)","v":0},{"$f":"IFERROR($E179*SUMIF('Daily Log'!#REF!,$B179,'Daily Log'!#REF!),0)","v":0},{"$f":"IFERROR($E179*SUMIF('Daily Log'!#REF!,$B179,'Daily Log'!#REF!),0)","v":0},{"$f":"IFERROR($E179*SUMIF('Daily Log'!#REF!,$B179,'Daily Log'!#REF!),0)","v":0},{"$f":"IFERROR($E179*SUMIF('Daily Log'!$C$18:$C$1017,$B179,'Daily Log'!$D$18:$D$1017),0)","v":0},{"$f":"IFERROR($E179*SUMIF('Daily Log'!$F$18:$F$1017,$B179,'Daily Log'!$G$18:$G$1017),0)","v":0},{"$f":"IFERROR($E179*SUMIF('Daily Log'!$I$18:$I$1017,$B179,'Daily Log'!$J$18:$J$1017),0)","v":0},{"$f":"IFERROR($E179*SUMIF('Daily Log'!$L$18:$L$1017,$B179,'Daily Log'!$M$18:$M$1017),0)","v":1},{"$f":"IFERROR($E179*SUMIF('Daily Log'!$O$18:$O$1017,$B179,'Daily Log'!$P$18:$P$1017),0)","v":0},{"$f":"IFERROR($E179*SUMIF('Daily Log'!$R$18:$R$1017,$B179,'Daily Log'!$S$18:$S$1017),0)","v":0},{"$f":"IFERROR($E179*SUMIF('Daily Log'!$U$18:$U$1017,$B179,'Daily Log'!$V$18:$V$1017),0)","v":0},{"$f":"IFERROR($E179*SUMIF('Daily Log'!#REF!,$B179,'Daily Log'!#REF!),0)","v":0},{"$f":"IFERROR($E179*SUMIF('Daily Log'!#REF!,$B179,'Daily Log'!#REF!),0)","v":0},{"$f":"IFERROR($E179*SUMIF('Daily Log'!#REF!,$B179,'Daily Log'!#REF!),0)","v":0},{"$f":"IFERROR($E179*SUMIF('Daily Log'!#REF!,$B179,'Daily Log'!#REF!),0)","v":0},{"$f":"IFERROR($E179*SUMIF('Daily Log'!#REF!,$B179,'Daily Log'!#REF!),0)","v":0}]
[null,"DD20 CNY ALA CARTE",null,"PLATTER",1,0,{"$f":"IFERROR($E180*SUMIF('Daily Log'!#REF!,$B180,'Daily Log'!#REF!),0)","v":0},{"$f":"IFERROR($E180*SUMIF('Daily Log'!#REF!,$B180,'Daily Log'!#REF!),0)","v":0},{"$f":"IFERROR($E180*SUMIF('Daily Log'!#REF!,$B180,'Daily Log'!#REF!),0)","v":0}," ",{"$f":"IFERROR($E180*SUMIF('Daily Log'!#REF!,$B180,'Daily Log'!#REF!),0)","v":0},{"$f":"IFERROR($E180*SUMIF('Daily Log'!#REF!,$B180,'Daily Log'!#REF!),0)","v":0},{"$f":"IFERROR($E180*SUMIF('Daily Log'!#REF!,$B180,'Daily Log'!#REF!),0)","v":0},{"$f":"IFERROR($E180*SUMIF('Daily Log'!#REF!,$B180,'Daily Log'!#REF!),0)","v":0},{"$f":"IFERROR($E180*SUMIF('Daily Log'!#REF!,$B180,'Daily Log'!#REF!),0)","v":0},{"$f":"IFERROR($E180*SUMIF('Daily Log'!#REF!,$B180,'Daily Log'!#REF!),0)","v":0},{"$f":"IFERROR($E180*SUMIF('Daily Log'!#REF!,$B180,'Daily Log'!#REF!),0)","v":0},{"$f":"IFERROR($E180*SUMIF('Daily Log'!#REF!,$B180,'Daily Log'!#REF!),0)","v":0},{"$f":"IFERROR($E180*SUMIF('Daily Log'!#REF!,$B180,'Daily Log'!#REF!),0)","v":0},{"$f":"IFERROR($E180*SUMIF('Daily Log'!#REF!,$B180,'Daily Log'!#REF!),0)","v":0},{"$f":"IFERROR($E180*SUMIF('Daily Log'!#REF!,$B180,'Daily Log'!#REF!),0)","v":0},{"$f":"IFERROR($E180*SUMIF('Daily Log'!#REF!,$B180,'Daily Log'!#REF!),0)","v":0},{"$f":"IFERROR($E180*SUMIF('Daily Log'!#REF!,$B180,'Daily Log'!#REF!),0)","v":0},{"$f":"IFERROR($E180*SUMIF('Daily Log'!#REF!,$B180,'Daily Log'!#REF!),0)","v":0},{"$f":"IFERROR($E180*SUMIF('Daily Log'!#REF!,$B180,'Daily Log'!#REF!),0)","v":0},{"$f":"IFERROR($E180*SUMIF('Daily Log'!$C$18:$C$1017,$B180,'Daily Log'!$D$18:$D$1017),0)","v":0},{"$f":"IFERROR($E180*SUMIF('Daily Log'!$F$18:$F$1017,$B180,'Daily Log'!$G$18:$G$1017),0)","v":0},{"$f":"IFERROR($E180*SUMIF('Daily Log'!$I$18:$I$1017,$B180,'Daily Log'!$J$18:$J$1017),0)","v":0},{"$f":"IFERROR($E180*SUMIF('Daily Log'!$L$18:$L$1017,$B180,'Daily Log'!$M$18:$M$1017),0)","v":0},{"$f":"IFERROR($E180*SUMIF('Daily Log'!$O$18:$O$1017,$B180,'Daily Log'!$P$18:$P$1017),0)","v":0},{"$f":"IFERROR($E180*SUMIF('Daily Log'!$R$18:$R$1017,$B180,'Daily Log'!$S$18:$S$1017),0)","v":0},{"$f":"IFERROR($E180*SUMIF('Daily Log'!$U$18:$U$1017,$B180,'Daily Log'!$V$18:$V$1017),0)","v":0},{"$f":"IFERROR($E180*SUMIF('Daily Log'!#REF!,$B180,'Daily Log'!#REF!),0)","v":0},{"$f":"IFERROR($E180*SUMIF('Daily Log'!#REF!,$B180,'Daily Log'!#REF!),0)","v":0},{"$f":"IFERROR($E180*SUMIF('Daily Log'!#REF!,$B180,'Daily Log'!#REF!),0)","v":0},{"$f":"IFERROR($E180*SUMIF('Daily Log'!#REF!,$B180,'Daily Log'!#REF!),0)","v":0},{"$f":"IFERROR($E180*SUMIF('Daily Log'!#REF!,$B180,'Daily Log'!#REF!),0)","v":0}]
[null,"DF01 ADD RICE",null,"SIDE ORDER-APPETIZER",1,7,{"$f":"IFERROR($E181*SUMIF('Daily Log'!#REF!,$B181,'Daily Log'!#REF!),0)","v":0},{"$f":"IFERROR($E181*SUMIF('Daily Log'!#REF!,$B181,'Daily Log'!#REF!),0)","v":0},{"$f":"IFERROR($E181*SUMIF('Daily Log'!#REF!,$B181,'Daily Log'!#REF!),0)","v":0}," ",{"$f":"IFERROR($E181*SUMIF('Daily Log'!#REF!,$B181,'Daily Log'!#REF!),0)","v":0},{"$f":"IFERROR($E181*SUMIF('Daily Log'!#REF!,$B181,'Daily Log'!#REF!),0)","v":0},{"$f":"IFERROR($E181*SUMIF('Daily Log'!#REF!,$B181,'Daily Log'!#REF!),0)","v":0},{"$f":"IFERROR($E181*SUMIF('Daily Log'!#REF!,$B181,'Daily Log'!#REF!),0)","v":0},{"$f":"IFERROR($E181*SUMIF('Daily Log'!#REF!,$B181,'Daily Log'!#REF!),0)","v":0},{"$f":"IFERROR($E181*SUMIF('Daily Log'!#REF!,$B181,'Daily Log'!#REF!),0)","v":0},{"$f":"IFERROR($E181*SUMIF('Daily Log'!#REF!,$B181,'Daily Log'!#REF!),0)","v":0},{"$f":"IFERROR($E181*SUMIF('Daily Log'!#REF!,$B181,'Daily Log'!#REF!),0)","v":0},{"$f":"IFERROR($E181*SUMIF('Daily Log'!#REF!,$B181,'Daily Log'!#REF!),0)","v":0},{"$f":"IFERROR($E181*SUMIF('Daily Log'!#REF!,$B181,'Daily Log'!#REF!),0)","v":0},{"$f":"IFERROR($E181*SUMIF('Daily Log'!#REF!,$B181,'Daily Log'!#REF!),0)","v":0},{"$f":"IFERROR($E181*SUMIF('Daily Log'!#REF!,$B181,'Daily Log'!#REF!),0)","v":0},{"$f":"IFERROR($E181*SUMIF('Daily Log'!#REF!,$B181,'Daily Log'!#REF!),0)","v":0},{"$f":"IFERROR($E181*SUMIF('Daily Log'!#REF!,$B181,'Daily Log'!#REF!),0)","v":0},{"$f":"IFERROR($E181*SUMIF('Daily Log'!#REF!,$B181,'Daily Log'!#REF!),0)","v":0},{"$f":"IFERROR($E181*SUMIF('Daily Log'!$C$18:$C$1017,$B181,'Daily Log'!$D$18:$D$1017),0)","v":0},{"$f":"IFERROR($E181*SUMIF('Daily Log'!$F$18:$F$1017,$B181,'Daily Log'!$G$18:$G$1017),0)","v":0},{"$f":"IFERROR($E181*SUMIF('Daily Log'!$I$18:$I$1017,$B181,'Daily Log'!$J$18:$J$1017),0)","v":2},{"$f":"IFERROR($E181*SUMIF('Daily Log'!$L$18:$L$1017,$B181,'Daily Log'!$M$18:$M$1017),0)","v":4},{"$f":"IFERROR($E181*SUMIF('Daily Log'!$O$18:$O$1017,$B181,'Daily Log'!$P$18:$P$1017),0)","v":0},{"$f":"IFERROR($E181*SUMIF('Daily Log'!$R$18:$R$1017,$B181,'Daily Log'!$S$18:$S$1017),0)","v":1},{"$f":"IFERROR($E181*SUMIF('Daily Log'!$U$18:$U$1017,$B181,'Daily Log'!$V$18:$V$1017),0)","v":0},{"$f":"IFERROR($E181*SUMIF('Daily Log'!#REF!,$B181,'Daily Log'!#REF!),0)","v":0},{"$f":"IFERROR($E181*SUMIF('Daily Log'!#REF!,$B181,'Daily Log'!#REF!),0)","v":0},{"$f":"IFERROR($E181*SUMIF('Daily Log'!#REF!,$B181,'Daily Log'!#REF!),0)","v":0},{"$f":"IFERROR($E181*SUMIF('Daily Log'!#REF!,$B181,'Daily Log'!#REF!),0)","v":0},{"$f":"IFERROR($E181*SUMIF('Daily Log'!#REF!,$B181,'Daily Log'!#REF!),0)","v":0}]
[null,"DF02 ADD F.EGG",null,"SIDE ORDER-APPETIZER",1,1,{"$f":"IFERROR($E182*SUMIF('Daily Log'!#REF!,$B182,'Daily Log'!#REF!),0)","v":0},{"$f":"IFERROR($E182*SUMIF('Daily Log'!#REF!,$B182,'Daily Log'!#REF!),0)","v":0},{"$f":"IFERROR($E182*SUMIF('Daily Log'!#REF!,$B182,'Daily Log'!#REF!),0)","v":0}," ",{"$f":"IFERROR($E182*SUMIF('Daily Log'!#REF!,$B182,'Daily Log'!#REF!),0)","v":0},{"$f":"IFERROR($E182*SUMIF('Daily Log'!#REF!,$B182,'Daily Log'!#REF!),0)","v":0},{"$f":"IFERROR($E182*SUMIF('Daily Log'!#REF!,$B182,'Daily Log'!#REF!),0)","v":0},{"$f":"IFERROR($E182*SUMIF('Daily Log'!#REF!,$B182,'Daily Log'!#REF!),0)","v":0},{"$f":"IFERROR($E182*SUMIF('Daily Log'!#REF!,$B182,'Daily Log'!#REF!),0)","v":0},{"$f":"IFERROR($E182*SUMIF('Daily Log'!#REF!,$B182,'Daily Log'!#REF!),0)","v":0},{"$f":"IFERROR($E182*SUMIF('Daily Log'!#REF!,$B182,'Daily Log'!#REF!),0)","v":0},{"$f":"IFERROR($E182*SUMIF('Daily Log'!#REF!,$B182,'Daily Log'!#REF!),0)","v":0},{"$f":"IFERROR($E182*SUMIF('Daily Log'!#REF!,$B182,'Daily Log'!#REF!),0)","v":0},{"$f":"IFERROR($E182*SUMIF('Daily Log'!#REF!,$B182,'Daily Log'!#REF!),0)","v":0},{"$f":"IFERROR($E182*SUMIF('Daily Log'!#REF!,$B182,'Daily Log'!#REF!),0)","v":0},{"$f":"IFERROR($E182*SUMIF('Daily Log'!#REF!,$B182,'Daily Log'!#REF!),0)","v":0},{"$f":"IFERROR($E182*SUMIF('Daily Log'!#REF!,$B182,'Daily Log'!#REF!),0)","v":0},{"$f":"IFERROR($E182*SUMIF('Daily Log'!#REF!,$B182,'Daily Log'!#REF!),0)","v":0},{"$f":"IFERROR($E182*SUMIF('Daily Log'!#REF!,$B182,'Daily Log'!#REF!),0)","v":0},{"$f":"IFERROR($E182*SUMIF('Daily Log'!$C$18:$C$1017,$B182,'Daily Log'!$D$18:$D$1017),0)","v":0},{"$f":"IFERROR($E182*SUMIF('Daily Log'!$F$18:$F$1017,$B182,'Daily Log'!$G$18:$G$1017),0)","v":0},{"$f":"IFERROR($E182*SUMIF('Daily Log'!$I$18:$I$1017,$B182,'Daily Log'!$J$18:$J$1017),0)","v":0},{"$f":"IFERROR($E182*SUMIF('Daily Log'!$L$18:$L$1017,$B182,'Daily Log'!$M$18:$M$1017),0)","v":0},{"$f":"IFERROR($E182*SUMIF('Daily Log'!$O$18:$O$1017,$B182,'Daily Log'!$P$18:$P$1017),0)","v":0},{"$f":"IFERROR($E182*SUMIF('Daily Log'!$R$18:$R$1017,$B182,'Daily Log'!$S$18:$S$1017),0)","v":1},{"$f":"IFERROR($E182*SUMIF('Daily Log'!$U$18:$U$1017,$B182,'Daily Log'!$V$18:$V$1017),0)","v":0},{"$f":"IFERROR($E182*SUMIF('Daily Log'!#REF!,$B182,'Daily Log'!#REF!),0)","v":0},{"$f":"IFERROR($E182*SUMIF('Daily Log'!#REF!,$B182,'Daily Log'!#REF!),0)","v":0},{"$f":"IFERROR($E182*SUMIF('Daily Log'!#REF!,$B182,'Daily Log'!#REF!),0)","v":0},{"$f":"IFERROR($E182*SUMIF('Daily Log'!#REF!,$B182,'Daily Log'!#REF!),0)","v":0},{"$f":"IFERROR($E182*SUMIF('Daily Log'!#REF!,$B182,'Daily Log'!#REF!),0)","v":0}]
[null,"DF03 ADD SAUCE 1000",null,"SAUCE",1,4,{"$f":"IFERROR($E183*SUMIF('Daily Log'!#REF!,$B183,'Daily Log'!#REF!),0)","v":0},{"$f":"IFERROR($E183*SUMIF('Daily Log'!#REF!,$B183,'Daily Log'!#REF!),0)","v":0},{"$f":"IFERROR($E183*SUMIF('Daily Log'!#REF!,$B183,'Daily Log'!#REF!),0)","v":0}," ",{"$f":"IFERROR($E183*SUMIF('Daily Log'!#REF!,$B183,'Daily Log'!#REF!),0)","v":0},{"$f":"IFERROR($E183*SUMIF('Daily Log'!#REF!,$B183,'Daily Log'!#REF!),0)","v":0},{"$f":"IFERROR($E183*SUMIF('Daily Log'!#REF!,$B183,'Daily Log'!#REF!),0)","v":0},{"$f":"IFERROR($E183*SUMIF('Daily Log'!#REF!,$B183,'Daily Log'!#REF!),0)","v":0},{"$f":"IFERROR($E183*SUMIF('Daily Log'!#REF!,$B183,'Daily Log'!#REF!),0)","v":0},{"$f":"IFERROR($E183*SUMIF('Daily Log'!#REF!,$B183,'Daily Log'!#REF!),0)","v":0},{"$f":"IFERROR($E183*SUMIF('Daily Log'!#REF!,$B183,'Daily Log'!#REF!),0)","v":0},{"$f":"IFERROR($E183*SUMIF('Daily Log'!#REF!,$B183,'Daily Log'!#REF!),0)","v":0},{"$f":"IFERROR($E183*SUMIF('Daily Log'!#REF!,$B183,'Daily Log'!#REF!),0)","v":0},{"$f":"IFERROR($E183*SUMIF('Daily Log'!#REF!,$B183,'Daily Log'!#REF!),0)","v":0},{"$f":"IFERROR($E183*SUMIF('Daily Log'!#REF!,$B183,'Daily Log'!#REF!),0)","v":0},{"$f":"IFERROR($E183*SUMIF('Daily Log'!#REF!,$B183,'Daily Log'!#REF!),0)","v":0},{"$f":"IFERROR($E183*SUMIF('Daily Log'!#REF!,$B183,'Daily Log'!#REF!),0)","v":0},{"$f":"IFERROR($E183*SUMIF('Daily Log'!#REF!,$B183,'Daily Log'!#REF!),0)","v":0},{"$f":"IFERROR($E183*SUMIF('Daily Log'!#REF!,$B183,'Daily Log'!#REF!),0)","v":0},{"$f":"IFERROR($E183*SUMIF('Daily Log'!$C$18:$C$1017,$B183,'Daily Log'!$D$18:$D$1017),0)","v":0},{"$f":"IFERROR($E183*SUMIF('Daily Log'!$F$18:$F$1017,$B183,'Daily Log'!$G$18:$G$1017),0)","v":0},{"$f":"IFERROR($E183*SUMIF('Daily Log'!$I$18:$I$1017,$B183,'Daily Log'!$J$18:$J$1017),0)","v":0},{"$f":"IFERROR($E183*SUMIF('Daily Log'!$L$18:$L$1017,$B183,'Daily Log'!$M$18:$M$1017),0)","v":1},{"$f":"IFERROR($E183*SUMIF('Daily Log'!$O$18:$O$1017,$B183,'Daily Log'!$P$18:$P$1017),0)","v":1},{"$f":"IFERROR($E183*SUMIF('Daily Log'!$R$18:$R$1017,$B183,'Daily Log'!$S$18:$S$1017),0)","v":0},{"$f":"IFERROR($E183*SUMIF('Daily Log'!$U$18:$U$1017,$B183,'Daily Log'!$V$18:$V$1017),0)","v":2},{"$f":"IFERROR($E183*SUMIF('Daily Log'!#REF!,$B183,'Daily Log'!#REF!),0)","v":0},{"$f":"IFERROR($E183*SUMIF('Daily Log'!#REF!,$B183,'Daily Log'!#REF!),0)","v":0},{"$f":"IFERROR($E183*SUMIF('Daily Log'!#REF!,$B183,'Daily Log'!#REF!),0)","v":0},{"$f":"IFERROR($E183*SUMIF('Daily Log'!#REF!,$B183,'Daily Log'!#REF!),0)","v":0},{"$f":"IFERROR($E183*SUMIF('Daily Log'!#REF!,$B183,'Daily Log'!#REF!),0)","v":0}]
[null,"DF04 ADD SAUCE BOLO",null,"SAUCE",1,0,{"$f":"IFERROR($E184*SUMIF('Daily Log'!#REF!,$B184,'Daily Log'!#REF!),0)","v":0},{"$f":"IFERROR($E184*SUMIF('Daily Log'!#REF!,$B184,'Daily Log'!#REF!),0)","v":0},{"$f":"IFERROR($E184*SUMIF('Daily Log'!#REF!,$B184,'Daily Log'!#REF!),0)","v":0}," ",{"$f":"IFERROR($E184*SUMIF('Daily Log'!#REF!,$B184,'Daily Log'!#REF!),0)","v":0},{"$f":"IFERROR($E184*SUMIF('Daily Log'!#REF!,$B184,'Daily Log'!#REF!),0)","v":0},{"$f":"IFERROR($E184*SUMIF('Daily Log'!#REF!,$B184,'Daily Log'!#REF!),0)","v":0},{"$f":"IFERROR($E184*SUMIF('Daily Log'!#REF!,$B184,'Daily Log'!#REF!),0)","v":0},{"$f":"IFERROR($E184*SUMIF('Daily Log'!#REF!,$B184,'Daily Log'!#REF!),0)","v":0},{"$f":"IFERROR($E184*SUMIF('Daily Log'!#REF!,$B184,'Daily Log'!#REF!),0)","v":0},{"$f":"IFERROR($E184*SUMIF('Daily Log'!#REF!,$B184,'Daily Log'!#REF!),0)","v":0},{"$f":"IFERROR($E184*SUMIF('Daily Log'!#REF!,$B184,'Daily Log'!#REF!),0)","v":0},{"$f":"IFERROR($E184*SUMIF('Daily Log'!#REF!,$B184,'Daily Log'!#REF!),0)","v":0},{"$f":"IFERROR($E184*SUMIF('Daily Log'!#REF!,$B184,'Daily Log'!#REF!),0)","v":0},{"$f":"IFERROR($E184*SUMIF('Daily Log'!#REF!,$B184,'Daily Log'!#REF!),0)","v":0},{"$f":"IFERROR($E184*SUMIF('Daily Log'!#REF!,$B184,'Daily Log'!#REF!),0)","v":0},{"$f":"IFERROR($E184*SUMIF('Daily Log'!#REF!,$B184,'Daily Log'!#REF!),0)","v":0},{"$f":"IFERROR($E184*SUMIF('Daily Log'!#REF!,$B184,'Daily Log'!#REF!),0)","v":0},{"$f":"IFERROR($E184*SUMIF('Daily Log'!#REF!,$B184,'Daily Log'!#REF!),0)","v":0},{"$f":"IFERROR($E184*SUMIF('Daily Log'!$C$18:$C$1017,$B184,'Daily Log'!$D$18:$D$1017),0)","v":0},{"$f":"IFERROR($E184*SUMIF('Daily Log'!$F$18:$F$1017,$B184,'Daily Log'!$G$18:$G$1017),0)","v":0},{"$f":"IFERROR($E184*SUMIF('Daily Log'!$I$18:$I$1017,$B184,'Daily Log'!$J$18:$J$1017),0)","v":0},{"$f":"IFERROR($E184*SUMIF('Daily Log'!$L$18:$L$1017,$B184,'Daily Log'!$M$18:$M$1017),0)","v":0},{"$f":"IFERROR($E184*SUMIF('Daily Log'!$O$18:$O$1017,$B184,'Daily Log'!$P$18:$P$1017),0)","v":0},{"$f":"IFERROR($E184*SUMIF('Daily Log'!$R$18:$R$1017,$B184,'Daily Log'!$S$18:$S$1017),0)","v":0},{"$f":"IFERROR($E184*SUMIF('Daily Log'!$U$18:$U$1017,$B184,'Daily Log'!$V$18:$V$1017),0)","v":0},{"$f":"IFERROR($E184*SUMIF('Daily Log'!#REF!,$B184,'Daily Log'!#REF!),0)","v":0},{"$f":"IFERROR($E184*SUMIF('Daily Log'!#REF!,$B184,'Daily Log'!#REF!),0)","v":0},{"$f":"IFERROR($E184*SUMIF('Daily Log'!#REF!,$B184,'Daily Log'!#REF!),0)","v":0},{"$f":"IFERROR($E184*SUMIF('Daily Log'!#REF!,$B184,'Daily Log'!#REF!),0)","v":0},{"$f":"IFERROR($E184*SUMIF('Daily Log'!#REF!,$B184,'Daily Log'!#REF!),0)","v":0}]
[null,"DF05 ADD SAUCE BP",null,"SAUCE",1,1,{"$f":"IFERROR($E185*SUMIF('Daily Log'!#REF!,$B185,'Daily Log'!#REF!),0)","v":0},{"$f":"IFERROR($E185*SUMIF('Daily Log'!#REF!,$B185,'Daily Log'!#REF!),0)","v":0},{"$f":"IFERROR($E185*SUMIF('Daily Log'!#REF!,$B185,'Daily Log'!#REF!),0)","v":0}," ",{"$f":"IFERROR($E185*SUMIF('Daily Log'!#REF!,$B185,'Daily Log'!#REF!),0)","v":0},{"$f":"IFERROR($E185*SUMIF('Daily Log'!#REF!,$B185,'Daily Log'!#REF!),0)","v":0},{"$f":"IFERROR($E185*SUMIF('Daily Log'!#REF!,$B185,'Daily Log'!#REF!),0)","v":0},{"$f":"IFERROR($E185*SUMIF('Daily Log'!#REF!,$B185,'Daily Log'!#REF!),0)","v":0},{"$f":"IFERROR($E185*SUMIF('Daily Log'!#REF!,$B185,'Daily Log'!#REF!),0)","v":0},{"$f":"IFERROR($E185*SUMIF('Daily Log'!#REF!,$B185,'Daily Log'!#REF!),0)","v":0},{"$f":"IFERROR($E185*SUMIF('Daily Log'!#REF!,$B185,'Daily Log'!#REF!),0)","v":0},{"$f":"IFERROR($E185*SUMIF('Daily Log'!#REF!,$B185,'Daily Log'!#REF!),0)","v":0},{"$f":"IFERROR($E185*SUMIF('Daily Log'!#REF!,$B185,'Daily Log'!#REF!),0)","v":0},{"$f":"IFERROR($E185*SUMIF('Daily Log'!#REF!,$B185,'Daily Log'!#REF!),0)","v":0},{"$f":"IFERROR($E185*SUMIF('Daily Log'!#REF!,$B185,'Daily Log'!#REF!),0)","v":0},{"$f":"IFERROR($E185*SUMIF('Daily Log'!#REF!,$B185,'Daily Log'!#REF!),0)","v":0},{"$f":"IFERROR($E185*SUMIF('Daily Log'!#REF!,$B185,'Daily Log'!#REF!),0)","v":0},{"$f":"IFERROR($E185*SUMIF('Daily Log'!#REF!,$B185,'Daily Log'!#REF!),0)","v":0},{"$f":"IFERROR($E185*SUMIF('Daily Log'!#REF!,$B185,'Daily Log'!#REF!),0)","v":0},{"$f":"IFERROR($E185*SUMIF('Daily Log'!$C$18:$C$1017,$B185,'Daily Log'!$D$18:$D$1017),0)","v":0},{"$f":"IFERROR($E185*SUMIF('Daily Log'!$F$18:$F$1017,$B185,'Daily Log'!$G$18:$G$1017),0)","v":1},{"$f":"IFERROR($E185*SUMIF('Daily Log'!$I$18:$I$1017,$B185,'Daily Log'!$J$18:$J$1017),0)","v":0},{"$f":"IFERROR($E185*SUMIF('Daily Log'!$L$18:$L$1017,$B185,'Daily Log'!$M$18:$M$1017),0)","v":0},{"$f":"IFERROR($E185*SUMIF('Daily Log'!$O$18:$O$1017,$B185,'Daily Log'!$P$18:$P$1017),0)","v":0},{"$f":"IFERROR($E185*SUMIF('Daily Log'!$R$18:$R$1017,$B185,'Daily Log'!$S$18:$S$1017),0)","v":0},{"$f":"IFERROR($E185*SUMIF('Daily Log'!$U$18:$U$1017,$B185,'Daily Log'!$V$18:$V$1017),0)","v":0},{"$f":"IFERROR($E185*SUMIF('Daily Log'!#REF!,$B185,'Daily Log'!#REF!),0)","v":0},{"$f":"IFERROR($E185*SUMIF('Daily Log'!#REF!,$B185,'Daily Log'!#REF!),0)","v":0},{"$f":"IFERROR($E185*SUMIF('Daily Log'!#REF!,$B185,'Daily Log'!#REF!),0)","v":0},{"$f":"IFERROR($E185*SUMIF('Daily Log'!#REF!,$B185,'Daily Log'!#REF!),0)","v":0},{"$f":"IFERROR($E185*SUMIF('Daily Log'!#REF!,$B185,'Daily Log'!#REF!),0)","v":0}]
[null,"DF06 ADD SAUCE BUTTER",null,"SAUCE",1,0,{"$f":"IFERROR($E186*SUMIF('Daily Log'!#REF!,$B186,'Daily Log'!#REF!),0)","v":0},{"$f":"IFERROR($E186*SUMIF('Daily Log'!#REF!,$B186,'Daily Log'!#REF!),0)","v":0},{"$f":"IFERROR($E186*SUMIF('Daily Log'!#REF!,$B186,'Daily Log'!#REF!),0)","v":0}," ",{"$f":"IFERROR($E186*SUMIF('Daily Log'!#REF!,$B186,'Daily Log'!#REF!),0)","v":0},{"$f":"IFERROR($E186*SUMIF('Daily Log'!#REF!,$B186,'Daily Log'!#REF!),0)","v":0},{"$f":"IFERROR($E186*SUMIF('Daily Log'!#REF!,$B186,'Daily Log'!#REF!),0)","v":0},{"$f":"IFERROR($E186*SUMIF('Daily Log'!#REF!,$B186,'Daily Log'!#REF!),0)","v":0},{"$f":"IFERROR($E186*SUMIF('Daily Log'!#REF!,$B186,'Daily Log'!#REF!),0)","v":0},{"$f":"IFERROR($E186*SUMIF('Daily Log'!#REF!,$B186,'Daily Log'!#REF!),0)","v":0},{"$f":"IFERROR($E186*SUMIF('Daily Log'!#REF!,$B186,'Daily Log'!#REF!),0)","v":0},{"$f":"IFERROR($E186*SUMIF('Daily Log'!#REF!,$B186,'Daily Log'!#REF!),0)","v":0},{"$f":"IFERROR($E186*SUMIF('Daily Log'!#REF!,$B186,'Daily Log'!#REF!),0)","v":0},{"$f":"IFERROR($E186*SUMIF('Daily Log'!#REF!,$B186,'Daily Log'!#REF!),0)","v":0},{"$f":"IFERROR($E186*SUMIF('Daily Log'!#REF!,$B186,'Daily Log'!#REF!),0)","v":0},{"$f":"IFERROR($E186*SUMIF('Daily Log'!#REF!,$B186,'Daily Log'!#REF!),0)","v":0},{"$f":"IFERROR($E186*SUMIF('Daily Log'!#REF!,$B186,'Daily Log'!#REF!),0)","v":0},{"$f":"IFERROR($E186*SUMIF('Daily Log'!#REF!,$B186,'Daily Log'!#REF!),0)","v":0},{"$f":"IFERROR($E186*SUMIF('Daily Log'!#REF!,$B186,'Daily Log'!#REF!),0)","v":0},{"$f":"IFERROR($E186*SUMIF('Daily Log'!$C$18:$C$1017,$B186,'Daily Log'!$D$18:$D$1017),0)","v":0},{"$f":"IFERROR($E186*SUMIF('Daily Log'!$F$18:$F$1017,$B186,'Daily Log'!$G$18:$G$1017),0)","v":0},{"$f":"IFERROR($E186*SUMIF('Daily Log'!$I$18:$I$1017,$B186,'Daily Log'!$J$18:$J$1017),0)","v":0},{"$f":"IFERROR($E186*SUMIF('Daily Log'!$L$18:$L$1017,$B186,'Daily Log'!$M$18:$M$1017),0)","v":0},{"$f":"IFERROR($E186*SUMIF('Daily Log'!$O$18:$O$1017,$B186,'Daily Log'!$P$18:$P$1017),0)","v":0},{"$f":"IFERROR($E186*SUMIF('Daily Log'!$R$18:$R$1017,$B186,'Daily Log'!$S$18:$S$1017),0)","v":0},{"$f":"IFERROR($E186*SUMIF('Daily Log'!$U$18:$U$1017,$B186,'Daily Log'!$V$18:$V$1017),0)","v":0},{"$f":"IFERROR($E186*SUMIF('Daily Log'!#REF!,$B186,'Daily Log'!#REF!),0)","v":0},{"$f":"IFERROR($E186*SUMIF('Daily Log'!#REF!,$B186,'Daily Log'!#REF!),0)","v":0},{"$f":"IFERROR($E186*SUMIF('Daily Log'!#REF!,$B186,'Daily Log'!#REF!),0)","v":0},{"$f":"IFERROR($E186*SUMIF('Daily Log'!#REF!,$B186,'Daily Log'!#REF!),0)","v":0},{"$f":"IFERROR($E186*SUMIF('Daily Log'!#REF!,$B186,'Daily Log'!#REF!),0)","v":0}]
[null,"DF07 ADD SAUCE C.PADI",null,"SAUCE",1,27,{"$f":"IFERROR($E187*SUMIF('Daily Log'!#REF!,$B187,'Daily Log'!#REF!),0)","v":0},{"$f":"IFERROR($E187*SUMIF('Daily Log'!#REF!,$B187,'Daily Log'!#REF!),0)","v":0},{"$f":"IFERROR($E187*SUMIF('Daily Log'!#REF!,$B187,'Daily Log'!#REF!),0)","v":0}," ",{"$f":"IFERROR($E187*SUMIF('Daily Log'!#REF!,$B187,'Daily Log'!#REF!),0)","v":0},{"$f":"IFERROR($E187*SUMIF('Daily Log'!#REF!,$B187,'Daily Log'!#REF!),0)","v":0},{"$f":"IFERROR($E187*SUMIF('Daily Log'!#REF!,$B187,'Daily Log'!#REF!),0)","v":0},{"$f":"IFERROR($E187*SUMIF('Daily Log'!#REF!,$B187,'Daily Log'!#REF!),0)","v":0},{"$f":"IFERROR($E187*SUMIF('Daily Log'!#REF!,$B187,'Daily Log'!#REF!),0)","v":0},{"$f":"IFERROR($E187*SUMIF('Daily Log'!#REF!,$B187,'Daily Log'!#REF!),0)","v":0},{"$f":"IFERROR($E187*SUMIF('Daily Log'!#REF!,$B187,'Daily Log'!#REF!),0)","v":0},{"$f":"IFERROR($E187*SUMIF('Daily Log'!#REF!,$B187,'Daily Log'!#REF!),0)","v":0},{"$f":"IFERROR($E187*SUMIF('Daily Log'!#REF!,$B187,'Daily Log'!#REF!),0)","v":0},{"$f":"IFERROR($E187*SUMIF('Daily Log'!#REF!,$B187,'Daily Log'!#REF!),0)","v":0},{"$f":"IFERROR($E187*SUMIF('Daily Log'!#REF!,$B187,'Daily Log'!#REF!),0)","v":0},{"$f":"IFERROR($E187*SUMIF('Daily Log'!#REF!,$B187,'Daily Log'!#REF!),0)","v":0},{"$f":"IFERROR($E187*SUMIF('Daily Log'!#REF!,$B187,'Daily Log'!#REF!),0)","v":0},{"$f":"IFERROR($E187*SUMIF('Daily Log'!#REF!,$B187,'Daily Log'!#REF!),0)","v":0},{"$f":"IFERROR($E187*SUMIF('Daily Log'!#REF!,$B187,'Daily Log'!#REF!),0)","v":0},{"$f":"IFERROR($E187*SUMIF('Daily Log'!$C$18:$C$1017,$B187,'Daily Log'!$D$18:$D$1017),0)","v":1},{"$f":"IFERROR($E187*SUMIF('Daily Log'!$F$18:$F$1017,$B187,'Daily Log'!$G$18:$G$1017),0)","v":0},{"$f":"IFERROR($E187*SUMIF('Daily Log'!$I$18:$I$1017,$B187,'Daily Log'!$J$18:$J$1017),0)","v":7},{"$f":"IFERROR($E187*SUMIF('Daily Log'!$L$18:$L$1017,$B187,'Daily Log'!$M$18:$M$1017),0)","v":8},{"$f":"IFERROR($E187*SUMIF('Daily Log'!$O$18:$O$1017,$B187,'Daily Log'!$P$18:$P$1017),0)","v":0},{"$f":"IFERROR($E187*SUMIF('Daily Log'!$R$18:$R$1017,$B187,'Daily Log'!$S$18:$S$1017),0)","v":4},{"$f":"IFERROR($E187*SUMIF('Daily Log'!$U$18:$U$1017,$B187,'Daily Log'!$V$18:$V$1017),0)","v":7},{"$f":"IFERROR($E187*SUMIF('Daily Log'!#REF!,$B187,'Daily Log'!#REF!),0)","v":0},{"$f":"IFERROR($E187*SUMIF('Daily Log'!#REF!,$B187,'Daily Log'!#REF!),0)","v":0},{"$f":"IFERROR($E187*SUMIF('Daily Log'!#REF!,$B187,'Daily Log'!#REF!),0)","v":0},{"$f":"IFERROR($E187*SUMIF('Daily Log'!#REF!,$B187,'Daily Log'!#REF!),0)","v":0},{"$f":"IFERROR($E187*SUMIF('Daily Log'!#REF!,$B187,'Daily Log'!#REF!),0)","v":0}]
[null,"DF08 ADD SAUCE GS",null,"SAUCE",1,0,{"$f":"IFERROR($E188*SUMIF('Daily Log'!#REF!,$B188,'Daily Log'!#REF!),0)","v":0},{"$f":"IFERROR($E188*SUMIF('Daily Log'!#REF!,$B188,'Daily Log'!#REF!),0)","v":0},{"$f":"IFERROR($E188*SUMIF('Daily Log'!#REF!,$B188,'Daily Log'!#REF!),0)","v":0}," ",{"$f":"IFERROR($E188*SUMIF('Daily Log'!#REF!,$B188,'Daily Log'!#REF!),0)","v":0},{"$f":"IFERROR($E188*SUMIF('Daily Log'!#REF!,$B188,'Daily Log'!#REF!),0)","v":0},{"$f":"IFERROR($E188*SUMIF('Daily Log'!#REF!,$B188,'Daily Log'!#REF!),0)","v":0},{"$f":"IFERROR($E188*SUMIF('Daily Log'!#REF!,$B188,'Daily Log'!#REF!),0)","v":0},{"$f":"IFERROR($E188*SUMIF('Daily Log'!#REF!,$B188,'Daily Log'!#REF!),0)","v":0},{"$f":"IFERROR($E188*SUMIF('Daily Log'!#REF!,$B188,'Daily Log'!#REF!),0)","v":0},{"$f":"IFERROR($E188*SUMIF('Daily Log'!#REF!,$B188,'Daily Log'!#REF!),0)","v":0},{"$f":"IFERROR($E188*SUMIF('Daily Log'!#REF!,$B188,'Daily Log'!#REF!),0)","v":0},{"$f":"IFERROR($E188*SUMIF('Daily Log'!#REF!,$B188,'Daily Log'!#REF!),0)","v":0},{"$f":"IFERROR($E188*SUMIF('Daily Log'!#REF!,$B188,'Daily Log'!#REF!),0)","v":0},{"$f":"IFERROR($E188*SUMIF('Daily Log'!#REF!,$B188,'Daily Log'!#REF!),0)","v":0},{"$f":"IFERROR($E188*SUMIF('Daily Log'!#REF!,$B188,'Daily Log'!#REF!),0)","v":0},{"$f":"IFERROR($E188*SUMIF('Daily Log'!#REF!,$B188,'Daily Log'!#REF!),0)","v":0},{"$f":"IFERROR($E188*SUMIF('Daily Log'!#REF!,$B188,'Daily Log'!#REF!),0)","v":0},{"$f":"IFERROR($E188*SUMIF('Daily Log'!#REF!,$B188,'Daily Log'!#REF!),0)","v":0},{"$f":"IFERROR($E188*SUMIF('Daily Log'!$C$18:$C$1017,$B188,'Daily Log'!$D$18:$D$1017),0)","v":0},{"$f":"IFERROR($E188*SUMIF('Daily Log'!$F$18:$F$1017,$B188,'Daily Log'!$G$18:$G$1017),0)","v":0},{"$f":"IFERROR($E188*SUMIF('Daily Log'!$I$18:$I$1017,$B188,'Daily Log'!$J$18:$J$1017),0)","v":0},{"$f":"IFERROR($E188*SUMIF('Daily Log'!$L$18:$L$1017,$B188,'Daily Log'!$M$18:$M$1017),0)","v":0},{"$f":"IFERROR($E188*SUMIF('Daily Log'!$O$18:$O$1017,$B188,'Daily Log'!$P$18:$P$1017),0)","v":0},{"$f":"IFERROR($E188*SUMIF('Daily Log'!$R$18:$R$1017,$B188,'Daily Log'!$S$18:$S$1017),0)","v":0},{"$f":"IFERROR($E188*SUMIF('Daily Log'!$U$18:$U$1017,$B188,'Daily Log'!$V$18:$V$1017),0)","v":0},{"$f":"IFERROR($E188*SUMIF('Daily Log'!#REF!,$B188,'Daily Log'!#REF!),0)","v":0},{"$f":"IFERROR($E188*SUMIF('Daily Log'!#REF!,$B188,'Daily Log'!#REF!),0)","v":0},{"$f":"IFERROR($E188*SUMIF('Daily Log'!#REF!,$B188,'Daily Log'!#REF!),0)","v":0},{"$f":"IFERROR($E188*SUMIF('Daily Log'!#REF!,$B188,'Daily Log'!#REF!),0)","v":0},{"$f":"IFERROR($E188*SUMIF('Daily Log'!#REF!,$B188,'Daily Log'!#REF!),0)","v":0}]
[null,"DF09 ADD SAUCE MAYO",null,"SAUCE",1,40,{"$f":"IFERROR($E189*SUMIF('Daily Log'!#REF!,$B189,'Daily Log'!#REF!),0)","v":0},{"$f":"IFERROR($E189*SUMIF('Daily Log'!#REF!,$B189,'Daily Log'!#REF!),0)","v":0},{"$f":"IFERROR($E189*SUMIF('Daily Log'!#REF!,$B189,'Daily Log'!#REF!),0)","v":0}," ",{"$f":"IFERROR($E189*SUMIF('Daily Log'!#REF!,$B189,'Daily Log'!#REF!),0)","v":0},{"$f":"IFERROR($E189*SUMIF('Daily Log'!#REF!,$B189,'Daily Log'!#REF!),0)","v":0},{"$f":"IFERROR($E189*SUMIF('Daily Log'!#REF!,$B189,'Daily Log'!#REF!),0)","v":0},{"$f":"IFERROR($E189*SUMIF('Daily Log'!#REF!,$B189,'Daily Log'!#REF!),0)","v":0},{"$f":"IFERROR($E189*SUMIF('Daily Log'!#REF!,$B189,'Daily Log'!#REF!),0)","v":0},{"$f":"IFERROR($E189*SUMIF('Daily Log'!#REF!,$B189,'Daily Log'!#REF!),0)","v":0},{"$f":"IFERROR($E189*SUMIF('Daily Log'!#REF!,$B189,'Daily Log'!#REF!),0)","v":0},{"$f":"IFERROR($E189*SUMIF('Daily Log'!#REF!,$B189,'Daily Log'!#REF!),0)","v":0},{"$f":"IFERROR($E189*SUMIF('Daily Log'!#REF!,$B189,'Daily Log'!#REF!),0)","v":0},{"$f":"IFERROR($E189*SUMIF('Daily Log'!#REF!,$B189,'Daily Log'!#REF!),0)","v":0},{"$f":"IFERROR($E189*SUMIF('Daily Log'!#REF!,$B189,'Daily Log'!#REF!),0)","v":0},{"$f":"IFERROR($E189*SUMIF('Daily Log'!#REF!,$B189,'Daily Log'!#REF!),0)","v":0},{"$f":"IFERROR($E189*SUMIF('Daily Log'!#REF!,$B189,'Daily Log'!#REF!),0)","v":0},{"$f":"IFERROR($E189*SUMIF('Daily Log'!#REF!,$B189,'Daily Log'!#REF!),0)","v":0},{"$f":"IFERROR($E189*SUMIF('Daily Log'!#REF!,$B189,'Daily Log'!#REF!),0)","v":0},{"$f":"IFERROR($E189*SUMIF('Daily Log'!$C$18:$C$1017,$B189,'Daily Log'!$D$18:$D$1017),0)","v":4},{"$f":"IFERROR($E189*SUMIF('Daily Log'!$F$18:$F$1017,$B189,'Daily Log'!$G$18:$G$1017),0)","v":3},{"$f":"IFERROR($E189*SUMIF('Daily Log'!$I$18:$I$1017,$B189,'Daily Log'!$J$18:$J$1017),0)","v":3},{"$f":"IFERROR($E189*SUMIF('Daily Log'!$L$18:$L$1017,$B189,'Daily Log'!$M$18:$M$1017),0)","v":2},{"$f":"IFERROR($E189*SUMIF('Daily Log'!$O$18:$O$1017,$B189,'Daily Log'!$P$18:$P$1017),0)","v":7},{"$f":"IFERROR($E189*SUMIF('Daily Log'!$R$18:$R$1017,$B189,'Daily Log'!$S$18:$S$1017),0)","v":12},{"$f":"IFERROR($E189*SUMIF('Daily Log'!$U$18:$U$1017,$B189,'Daily Log'!$V$18:$V$1017),0)","v":9},{"$f":"IFERROR($E189*SUMIF('Daily Log'!#REF!,$B189,'Daily Log'!#REF!),0)","v":0},{"$f":"IFERROR($E189*SUMIF('Daily Log'!#REF!,$B189,'Daily Log'!#REF!),0)","v":0},{"$f":"IFERROR($E189*SUMIF('Daily Log'!#REF!,$B189,'Daily Log'!#REF!),0)","v":0},{"$f":"IFERROR($E189*SUMIF('Daily Log'!#REF!,$B189,'Daily Log'!#REF!),0)","v":0},{"$f":"IFERROR($E189*SUMIF('Daily Log'!#REF!,$B189,'Daily Log'!#REF!),0)","v":0}]
[null,"DF10 ADD SAUCE MMITE",null,"SAUCE",1,0,{"$f":"IFERROR($E190*SUMIF('Daily Log'!#REF!,$B190,'Daily Log'!#REF!),0)","v":0},{"$f":"IFERROR($E190*SUMIF('Daily Log'!#REF!,$B190,'Daily Log'!#REF!),0)","v":0},{"$f":"IFERROR($E190*SUMIF('Daily Log'!#REF!,$B190,'Daily Log'!#REF!),0)","v":0}," ",{"$f":"IFERROR($E190*SUMIF('Daily Log'!#REF!,$B190,'Daily Log'!#REF!),0)","v":0},{"$f":"IFERROR($E190*SUMIF('Daily Log'!#REF!,$B190,'Daily Log'!#REF!),0)","v":0},{"$f":"IFERROR($E190*SUMIF('Daily Log'!#REF!,$B190,'Daily Log'!#REF!),0)","v":0},{"$f":"IFERROR($E190*SUMIF('Daily Log'!#REF!,$B190,'Daily Log'!#REF!),0)","v":0},{"$f":"IFERROR($E190*SUMIF('Daily Log'!#REF!,$B190,'Daily Log'!#REF!),0)","v":0},{"$f":"IFERROR($E190*SUMIF('Daily Log'!#REF!,$B190,'Daily Log'!#REF!),0)","v":0},{"$f":"IFERROR($E190*SUMIF('Daily Log'!#REF!,$B190,'Daily Log'!#REF!),0)","v":0},{"$f":"IFERROR($E190*SUMIF('Daily Log'!#REF!,$B190,'Daily Log'!#REF!),0)","v":0},{"$f":"IFERROR($E190*SUMIF('Daily Log'!#REF!,$B190,'Daily Log'!#REF!),0)","v":0},{"$f":"IFERROR($E190*SUMIF('Daily Log'!#REF!,$B190,'Daily Log'!#REF!),0)","v":0},{"$f":"IFERROR($E190*SUMIF('Daily Log'!#REF!,$B190,'Daily Log'!#REF!),0)","v":0},{"$f":"IFERROR($E190*SUMIF('Daily Log'!#REF!,$B190,'Daily Log'!#REF!),0)","v":0},{"$f":"IFERROR($E190*SUMIF('Daily Log'!#REF!,$B190,'Daily Log'!#REF!),0)","v":0},{"$f":"IFERROR($E190*SUMIF('Daily Log'!#REF!,$B190,'Daily Log'!#REF!),0)","v":0},{"$f":"IFERROR($E190*SUMIF('Daily Log'!#REF!,$B190,'Daily Log'!#REF!),0)","v":0},{"$f":"IFERROR($E190*SUMIF('Daily Log'!$C$18:$C$1017,$B190,'Daily Log'!$D$18:$D$1017),0)","v":0},{"$f":"IFERROR($E190*SUMIF('Daily Log'!$F$18:$F$1017,$B190,'Daily Log'!$G$18:$G$1017),0)","v":0},{"$f":"IFERROR($E190*SUMIF('Daily Log'!$I$18:$I$1017,$B190,'Daily Log'!$J$18:$J$1017),0)","v":0},{"$f":"IFERROR($E190*SUMIF('Daily Log'!$L$18:$L$1017,$B190,'Daily Log'!$M$18:$M$1017),0)","v":0},{"$f":"IFERROR($E190*SUMIF('Daily Log'!$O$18:$O$1017,$B190,'Daily Log'!$P$18:$P$1017),0)","v":0},{"$f":"IFERROR($E190*SUMIF('Daily Log'!$R$18:$R$1017,$B190,'Daily Log'!$S$18:$S$1017),0)","v":0},{"$f":"IFERROR($E190*SUMIF('Daily Log'!$U$18:$U$1017,$B190,'Daily Log'!$V$18:$V$1017),0)","v":0},{"$f":"IFERROR($E190*SUMIF('Daily Log'!#REF!,$B190,'Daily Log'!#REF!),0)","v":0},{"$f":"IFERROR($E190*SUMIF('Daily Log'!#REF!,$B190,'Daily Log'!#REF!),0)","v":0},{"$f":"IFERROR($E190*SUMIF('Daily Log'!#REF!,$B190,'Daily Log'!#REF!),0)","v":0},{"$f":"IFERROR($E190*SUMIF('Daily Log'!#REF!,$B190,'Daily Log'!#REF!),0)","v":0},{"$f":"IFERROR($E190*SUMIF('Daily Log'!#REF!,$B190,'Daily Log'!#REF!),0)","v":0}]
[null,"DF11 ADD SAUCE MR",null,"SAUCE",1,0,{"$f":"IFERROR($E191*SUMIF('Daily Log'!#REF!,$B191,'Daily Log'!#REF!),0)","v":0},{"$f":"IFERROR($E191*SUMIF('Daily Log'!#REF!,$B191,'Daily Log'!#REF!),0)","v":0},{"$f":"IFERROR($E191*SUMIF('Daily Log'!#REF!,$B191,'Daily Log'!#REF!),0)","v":0}," ",{"$f":"IFERROR($E191*SUMIF('Daily Log'!#REF!,$B191,'Daily Log'!#REF!),0)","v":0},{"$f":"IFERROR($E191*SUMIF('Daily Log'!#REF!,$B191,'Daily Log'!#REF!),0)","v":0},{"$f":"IFERROR($E191*SUMIF('Daily Log'!#REF!,$B191,'Daily Log'!#REF!),0)","v":0},{"$f":"IFERROR($E191*SUMIF('Daily Log'!#REF!,$B191,'Daily Log'!#REF!),0)","v":0},{"$f":"IFERROR($E191*SUMIF('Daily Log'!#REF!,$B191,'Daily Log'!#REF!),0)","v":0},{"$f":"IFERROR($E191*SUMIF('Daily Log'!#REF!,$B191,'Daily Log'!#REF!),0)","v":0},{"$f":"IFERROR($E191*SUMIF('Daily Log'!#REF!,$B191,'Daily Log'!#REF!),0)","v":0},{"$f":"IFERROR($E191*SUMIF('Daily Log'!#REF!,$B191,'Daily Log'!#REF!),0)","v":0},{"$f":"IFERROR($E191*SUMIF('Daily Log'!#REF!,$B191,'Daily Log'!#REF!),0)","v":0},{"$f":"IFERROR($E191*SUMIF('Daily Log'!#REF!,$B191,'Daily Log'!#REF!),0)","v":0},{"$f":"IFERROR($E191*SUMIF('Daily Log'!#REF!,$B191,'Daily Log'!#REF!),0)","v":0},{"$f":"IFERROR($E191*SUMIF('Daily Log'!#REF!,$B191,'Daily Log'!#REF!),0)","v":0},{"$f":"IFERROR($E191*SUMIF('Daily Log'!#REF!,$B191,'Daily Log'!#REF!),0)","v":0},{"$f":"IFERROR($E191*SUMIF('Daily Log'!#REF!,$B191,'Daily Log'!#REF!),0)","v":0},{"$f":"IFERROR($E191*SUMIF('Daily Log'!#REF!,$B191,'Daily Log'!#REF!),0)","v":0},{"$f":"IFERROR($E191*SUMIF('Daily Log'!$C$18:$C$1017,$B191,'Daily Log'!$D$18:$D$1017),0)","v":0},{"$f":"IFERROR($E191*SUMIF('Daily Log'!$F$18:$F$1017,$B191,'Daily Log'!$G$18:$G$1017),0)","v":0},{"$f":"IFERROR($E191*SUMIF('Daily Log'!$I$18:$I$1017,$B191,'Daily Log'!$J$18:$J$1017),0)","v":0},{"$f":"IFERROR($E191*SUMIF('Daily Log'!$L$18:$L$1017,$B191,'Daily Log'!$M$18:$M$1017),0)","v":0},{"$f":"IFERROR($E191*SUMIF('Daily Log'!$O$18:$O$1017,$B191,'Daily Log'!$P$18:$P$1017),0)","v":0},{"$f":"IFERROR($E191*SUMIF('Daily Log'!$R$18:$R$1017,$B191,'Daily Log'!$S$18:$S$1017),0)","v":0},{"$f":"IFERROR($E191*SUMIF('Daily Log'!$U$18:$U$1017,$B191,'Daily Log'!$V$18:$V$1017),0)","v":0},{"$f":"IFERROR($E191*SUMIF('Daily Log'!#REF!,$B191,'Daily Log'!#REF!),0)","v":0},{"$f":"IFERROR($E191*SUMIF('Daily Log'!#REF!,$B191,'Daily Log'!#REF!),0)","v":0},{"$f":"IFERROR($E191*SUMIF('Daily Log'!#REF!,$B191,'Daily Log'!#REF!),0)","v":0},{"$f":"IFERROR($E191*SUMIF('Daily Log'!#REF!,$B191,'Daily Log'!#REF!),0)","v":0},{"$f":"IFERROR($E191*SUMIF('Daily Log'!#REF!,$B191,'Daily Log'!#REF!),0)","v":0}]
[null,"DF12 ADD SAUCE SAMBAL",null,"SAUCE",1,4,{"$f":"IFERROR($E192*SUMIF('Daily Log'!#REF!,$B192,'Daily Log'!#REF!),0)","v":0},{"$f":"IFERROR($E192*SUMIF('Daily Log'!#REF!,$B192,'Daily Log'!#REF!),0)","v":0},{"$f":"IFERROR($E192*SUMIF('Daily Log'!#REF!,$B192,'Daily Log'!#REF!),0)","v":0}," ",{"$f":"IFERROR($E192*SUMIF('Daily Log'!#REF!,$B192,'Daily Log'!#REF!),0)","v":0},{"$f":"IFERROR($E192*SUMIF('Daily Log'!#REF!,$B192,'Daily Log'!#REF!),0)","v":0},{"$f":"IFERROR($E192*SUMIF('Daily Log'!#REF!,$B192,'Daily Log'!#REF!),0)","v":0},{"$f":"IFERROR($E192*SUMIF('Daily Log'!#REF!,$B192,'Daily Log'!#REF!),0)","v":0},{"$f":"IFERROR($E192*SUMIF('Daily Log'!#REF!,$B192,'Daily Log'!#REF!),0)","v":0},{"$f":"IFERROR($E192*SUMIF('Daily Log'!#REF!,$B192,'Daily Log'!#REF!),0)","v":0},{"$f":"IFERROR($E192*SUMIF('Daily Log'!#REF!,$B192,'Daily Log'!#REF!),0)","v":0},{"$f":"IFERROR($E192*SUMIF('Daily Log'!#REF!,$B192,'Daily Log'!#REF!),0)","v":0},{"$f":"IFERROR($E192*SUMIF('Daily Log'!#REF!,$B192,'Daily Log'!#REF!),0)","v":0},{"$f":"IFERROR($E192*SUMIF('Daily Log'!#REF!,$B192,'Daily Log'!#REF!),0)","v":0},{"$f":"IFERROR($E192*SUMIF('Daily Log'!#REF!,$B192,'Daily Log'!#REF!),0)","v":0},{"$f":"IFERROR($E192*SUMIF('Daily Log'!#REF!,$B192,'Daily Log'!#REF!),0)","v":0},{"$f":"IFERROR($E192*SUMIF('Daily Log'!#REF!,$B192,'Daily Log'!#REF!),0)","v":0},{"$f":"IFERROR($E192*SUMIF('Daily Log'!#REF!,$B192,'Daily Log'!#REF!),0)","v":0},{"$f":"IFERROR($E192*SUMIF('Daily Log'!#REF!,$B192,'Daily Log'!#REF!),0)","v":0},{"$f":"IFERROR($E192*SUMIF('Daily Log'!$C$18:$C$1017,$B192,'Daily Log'!$D$18:$D$1017),0)","v":0},{"$f":"IFERROR($E192*SUMIF('Daily Log'!$F$18:$F$1017,$B192,'Daily Log'!$G$18:$G$1017),0)","v":0},{"$f":"IFERROR($E192*SUMIF('Daily Log'!$I$18:$I$1017,$B192,'Daily Log'!$J$18:$J$1017),0)","v":3},{"$f":"IFERROR($E192*SUMIF('Daily Log'!$L$18:$L$1017,$B192,'Daily Log'!$M$18:$M$1017),0)","v":0},{"$f":"IFERROR($E192*SUMIF('Daily Log'!$O$18:$O$1017,$B192,'Daily Log'!$P$18:$P$1017),0)","v":0},{"$f":"IFERROR($E192*SUMIF('Daily Log'!$R$18:$R$1017,$B192,'Daily Log'!$S$18:$S$1017),0)","v":1},{"$f":"IFERROR($E192*SUMIF('Daily Log'!$U$18:$U$1017,$B192,'Daily Log'!$V$18:$V$1017),0)","v":0},{"$f":"IFERROR($E192*SUMIF('Daily Log'!#REF!,$B192,'Daily Log'!#REF!),0)","v":0},{"$f":"IFERROR($E192*SUMIF('Daily Log'!#REF!,$B192,'Daily Log'!#REF!),0)","v":0},{"$f":"IFERROR($E192*SUMIF('Daily Log'!#REF!,$B192,'Daily Log'!#REF!),0)","v":0},{"$f":"IFERROR($E192*SUMIF('Daily Log'!#REF!,$B192,'Daily Log'!#REF!),0)","v":0},{"$f":"IFERROR($E192*SUMIF('Daily Log'!#REF!,$B192,'Daily Log'!#REF!),0)","v":0}]
[null,"DF13 ADD SAUCE THAI",null,"SAUCE",1,1,{"$f":"IFERROR($E193*SUMIF('Daily Log'!#REF!,$B193,'Daily Log'!#REF!),0)","v":0},{"$f":"IFERROR($E193*SUMIF('Daily Log'!#REF!,$B193,'Daily Log'!#REF!),0)","v":0},{"$f":"IFERROR($E193*SUMIF('Daily Log'!#REF!,$B193,'Daily Log'!#REF!),0)","v":0}," ",{"$f":"IFERROR($E193*SUMIF('Daily Log'!#REF!,$B193,'Daily Log'!#REF!),0)","v":0},{"$f":"IFERROR($E193*SUMIF('Daily Log'!#REF!,$B193,'Daily Log'!#REF!),0)","v":0},{"$f":"IFERROR($E193*SUMIF('Daily Log'!#REF!,$B193,'Daily Log'!#REF!),0)","v":0},{"$f":"IFERROR($E193*SUMIF('Daily Log'!#REF!,$B193,'Daily Log'!#REF!),0)","v":0},{"$f":"IFERROR($E193*SUMIF('Daily Log'!#REF!,$B193,'Daily Log'!#REF!),0)","v":0},{"$f":"IFERROR($E193*SUMIF('Daily Log'!#REF!,$B193,'Daily Log'!#REF!),0)","v":0},{"$f":"IFERROR($E193*SUMIF('Daily Log'!#REF!,$B193,'Daily Log'!#REF!),0)","v":0},{"$f":"IFERROR($E193*SUMIF('Daily Log'!#REF!,$B193,'Daily Log'!#REF!),0)","v":0},{"$f":"IFERROR($E193*SUMIF('Daily Log'!#REF!,$B193,'Daily Log'!#REF!),0)","v":0},{"$f":"IFERROR($E193*SUMIF('Daily Log'!#REF!,$B193,'Daily Log'!#REF!),0)","v":0},{"$f":"IFERROR($E193*SUMIF('Daily Log'!#REF!,$B193,'Daily Log'!#REF!),0)","v":0},{"$f":"IFERROR($E193*SUMIF('Daily Log'!#REF!,$B193,'Daily Log'!#REF!),0)","v":0},{"$f":"IFERROR($E193*SUMIF('Daily Log'!#REF!,$B193,'Daily Log'!#REF!),0)","v":0},{"$f":"IFERROR($E193*SUMIF('Daily Log'!#REF!,$B193,'Daily Log'!#REF!),0)","v":0},{"$f":"IFERROR($E193*SUMIF('Daily Log'!#REF!,$B193,'Daily Log'!#REF!),0)","v":0},{"$f":"IFERROR($E193*SUMIF('Daily Log'!$C$18:$C$1017,$B193,'Daily Log'!$D$18:$D$1017),0)","v":1},{"$f":"IFERROR($E193*SUMIF('Daily Log'!$F$18:$F$1017,$B193,'Daily Log'!$G$18:$G$1017),0)","v":0},{"$f":"IFERROR($E193*SUMIF('Daily Log'!$I$18:$I$1017,$B193,'Daily Log'!$J$18:$J$1017),0)","v":0},{"$f":"IFERROR($E193*SUMIF('Daily Log'!$L$18:$L$1017,$B193,'Daily Log'!$M$18:$M$1017),0)","v":0},{"$f":"IFERROR($E193*SUMIF('Daily Log'!$O$18:$O$1017,$B193,'Daily Log'!$P$18:$P$1017),0)","v":0},{"$f":"IFERROR($E193*SUMIF('Daily Log'!$R$18:$R$1017,$B193,'Daily Log'!$S$18:$S$1017),0)","v":0},{"$f":"IFERROR($E193*SUMIF('Daily Log'!$U$18:$U$1017,$B193,'Daily Log'!$V$18:$V$1017),0)","v":0},{"$f":"IFERROR($E193*SUMIF('Daily Log'!#REF!,$B193,'Daily Log'!#REF!),0)","v":0},{"$f":"IFERROR($E193*SUMIF('Daily Log'!#REF!,$B193,'Daily Log'!#REF!),0)","v":0},{"$f":"IFERROR($E193*SUMIF('Daily Log'!#REF!,$B193,'Daily Log'!#REF!),0)","v":0},{"$f":"IFERROR($E193*SUMIF('Daily Log'!#REF!,$B193,'Daily Log'!#REF!),0)","v":0},{"$f":"IFERROR($E193*SUMIF('Daily Log'!#REF!,$B193,'Daily Log'!#REF!),0)","v":0}]
[null,"DF14 ADD SAUCE TOMATO",null,"SAUCE",1,17,{"$f":"IFERROR($E194*SUMIF('Daily Log'!#REF!,$B194,'Daily Log'!#REF!),0)","v":0},{"$f":"IFERROR($E194*SUMIF('Daily Log'!#REF!,$B194,'Daily Log'!#REF!),0)","v":0},{"$f":"IFERROR($E194*SUMIF('Daily Log'!#REF!,$B194,'Daily Log'!#REF!),0)","v":0}," ",{"$f":"IFERROR($E194*SUMIF('Daily Log'!#REF!,$B194,'Daily Log'!#REF!),0)","v":0},{"$f":"IFERROR($E194*SUMIF('Daily Log'!#REF!,$B194,'Daily Log'!#REF!),0)","v":0},{"$f":"IFERROR($E194*SUMIF('Daily Log'!#REF!,$B194,'Daily Log'!#REF!),0)","v":0},{"$f":"IFERROR($E194*SUMIF('Daily Log'!#REF!,$B194,'Daily Log'!#REF!),0)","v":0},{"$f":"IFERROR($E194*SUMIF('Daily Log'!#REF!,$B194,'Daily Log'!#REF!),0)","v":0},{"$f":"IFERROR($E194*SUMIF('Daily Log'!#REF!,$B194,'Daily Log'!#REF!),0)","v":0},{"$f":"IFERROR($E194*SUMIF('Daily Log'!#REF!,$B194,'Daily Log'!#REF!),0)","v":0},{"$f":"IFERROR($E194*SUMIF('Daily Log'!#REF!,$B194,'Daily Log'!#REF!),0)","v":0},{"$f":"IFERROR($E194*SUMIF('Daily Log'!#REF!,$B194,'Daily Log'!#REF!),0)","v":0},{"$f":"IFERROR($E194*SUMIF('Daily Log'!#REF!,$B194,'Daily Log'!#REF!),0)","v":0},{"$f":"IFERROR($E194*SUMIF('Daily Log'!#REF!,$B194,'Daily Log'!#REF!),0)","v":0},{"$f":"IFERROR($E194*SUMIF('Daily Log'!#REF!,$B194,'Daily Log'!#REF!),0)","v":0},{"$f":"IFERROR($E194*SUMIF('Daily Log'!#REF!,$B194,'Daily Log'!#REF!),0)","v":0},{"$f":"IFERROR($E194*SUMIF('Daily Log'!#REF!,$B194,'Daily Log'!#REF!),0)","v":0},{"$f":"IFERROR($E194*SUMIF('Daily Log'!#REF!,$B194,'Daily Log'!#REF!),0)","v":0},{"$f":"IFERROR($E194*SUMIF('Daily Log'!$C$18:$C$1017,$B194,'Daily Log'!$D$18:$D$1017),0)","v":4},{"$f":"IFERROR($E194*SUMIF('Daily Log'!$F$18:$F$1017,$B194,'Daily Log'!$G$18:$G$1017),0)","v":0},{"$f":"IFERROR($E194*SUMIF('Daily Log'!$I$18:$I$1017,$B194,'Daily Log'!$J$18:$J$1017),0)","v":1},{"$f":"IFERROR($E194*SUMIF('Daily Log'!$L$18:$L$1017,$B194,'Daily Log'!$M$18:$M$1017),0)","v":5},{"$f":"IFERROR($E194*SUMIF('Daily Log'!$O$18:$O$1017,$B194,'Daily Log'!$P$18:$P$1017),0)","v":1},{"$f":"IFERROR($E194*SUMIF('Daily Log'!$R$18:$R$1017,$B194,'Daily Log'!$S$18:$S$1017),0)","v":5},{"$f":"IFERROR($E194*SUMIF('Daily Log'!$U$18:$U$1017,$B194,'Daily Log'!$V$18:$V$1017),0)","v":1},{"$f":"IFERROR($E194*SUMIF('Daily Log'!#REF!,$B194,'Daily Log'!#REF!),0)","v":0},{"$f":"IFERROR($E194*SUMIF('Daily Log'!#REF!,$B194,'Daily Log'!#REF!),0)","v":0},{"$f":"IFERROR($E194*SUMIF('Daily Log'!#REF!,$B194,'Daily Log'!#REF!),0)","v":0},{"$f":"IFERROR($E194*SUMIF('Daily Log'!#REF!,$B194,'Daily Log'!#REF!),0)","v":0},{"$f":"IFERROR($E194*SUMIF('Daily Log'!#REF!,$B194,'Daily Log'!#REF!),0)","v":0}]
[null,"DF15 ADD TARTAR SAUCE",null,"SAUCE",1,6,{"$f":"IFERROR($E195*SUMIF('Daily Log'!#REF!,$B195,'Daily Log'!#REF!),0)","v":0},{"$f":"IFERROR($E195*SUMIF('Daily Log'!#REF!,$B195,'Daily Log'!#REF!),0)","v":0},{"$f":"IFERROR($E195*SUMIF('Daily Log'!#REF!,$B195,'Daily Log'!#REF!),0)","v":0}," ",{"$f":"IFERROR($E195*SUMIF('Daily Log'!#REF!,$B195,'Daily Log'!#REF!),0)","v":0},{"$f":"IFERROR($E195*SUMIF('Daily Log'!#REF!,$B195,'Daily Log'!#REF!),0)","v":0},{"$f":"IFERROR($E195*SUMIF('Daily Log'!#REF!,$B195,'Daily Log'!#REF!),0)","v":0},{"$f":"IFERROR($E195*SUMIF('Daily Log'!#REF!,$B195,'Daily Log'!#REF!),0)","v":0},{"$f":"IFERROR($E195*SUMIF('Daily Log'!#REF!,$B195,'Daily Log'!#REF!),0)","v":0},{"$f":"IFERROR($E195*SUMIF('Daily Log'!#REF!,$B195,'Daily Log'!#REF!),0)","v":0},{"$f":"IFERROR($E195*SUMIF('Daily Log'!#REF!,$B195,'Daily Log'!#REF!),0)","v":0},{"$f":"IFERROR($E195*SUMIF('Daily Log'!#REF!,$B195,'Daily Log'!#REF!),0)","v":0},{"$f":"IFERROR($E195*SUMIF('Daily Log'!#REF!,$B195,'Daily Log'!#REF!),0)","v":0},{"$f":"IFERROR($E195*SUMIF('Daily Log'!#REF!,$B195,'Daily Log'!#REF!),0)","v":0},{"$f":"IFERROR($E195*SUMIF('Daily Log'!#REF!,$B195,'Daily Log'!#REF!),0)","v":0},{"$f":"IFERROR($E195*SUMIF('Daily Log'!#REF!,$B195,'Daily Log'!#REF!),0)","v":0},{"$f":"IFERROR($E195*SUMIF('Daily Log'!#REF!,$B195,'Daily Log'!#REF!),0)","v":0},{"$f":"IFERROR($E195*SUMIF('Daily Log'!#REF!,$B195,'Daily Log'!#REF!),0)","v":0},{"$f":"IFERROR($E195*SUMIF('Daily Log'!#REF!,$B195,'Daily Log'!#REF!),0)","v":0},{"$f":"IFERROR($E195*SUMIF('Daily Log'!$C$18:$C$1017,$B195,'Daily Log'!$D$18:$D$1017),0)","v":0},{"$f":"IFERROR($E195*SUMIF('Daily Log'!$F$18:$F$1017,$B195,'Daily Log'!$G$18:$G$1017),0)","v":0},{"$f":"IFERROR($E195*SUMIF('Daily Log'!$I$18:$I$1017,$B195,'Daily Log'!$J$18:$J$1017),0)","v":0},{"$f":"IFERROR($E195*SUMIF('Daily Log'!$L$18:$L$1017,$B195,'Daily Log'!$M$18:$M$1017),0)","v":1},{"$f":"IFERROR($E195*SUMIF('Daily Log'!$O$18:$O$1017,$B195,'Daily Log'!$P$18:$P$1017),0)","v":1},{"$f":"IFERROR($E195*SUMIF('Daily Log'!$R$18:$R$1017,$B195,'Daily Log'!$S$18:$S$1017),0)","v":0},{"$f":"IFERROR($E195*SUMIF('Daily Log'!$U$18:$U$1017,$B195,'Daily Log'!$V$18:$V$1017),0)","v":4},{"$f":"IFERROR($E195*SUMIF('Daily Log'!#REF!,$B195,'Daily Log'!#REF!),0)","v":0},{"$f":"IFERROR($E195*SUMIF('Daily Log'!#REF!,$B195,'Daily Log'!#REF!),0)","v":0},{"$f":"IFERROR($E195*SUMIF('Daily Log'!#REF!,$B195,'Daily Log'!#REF!),0)","v":0},{"$f":"IFERROR($E195*SUMIF('Daily Log'!#REF!,$B195,'Daily Log'!#REF!),0)","v":0},{"$f":"IFERROR($E195*SUMIF('Daily Log'!#REF!,$B195,'Daily Log'!#REF!),0)","v":0}]
[null,"DF16 ADD SAUCE CHEESE",null,"SAUCE",1,0,{"$f":"IFERROR($E196*SUMIF('Daily Log'!#REF!,$B196,'Daily Log'!#REF!),0)","v":0},{"$f":"IFERROR($E196*SUMIF('Daily Log'!#REF!,$B196,'Daily Log'!#REF!),0)","v":0},{"$f":"IFERROR($E196*SUMIF('Daily Log'!#REF!,$B196,'Daily Log'!#REF!),0)","v":0}," ",{"$f":"IFERROR($E196*SUMIF('Daily Log'!#REF!,$B196,'Daily Log'!#REF!),0)","v":0},{"$f":"IFERROR($E196*SUMIF('Daily Log'!#REF!,$B196,'Daily Log'!#REF!),0)","v":0},{"$f":"IFERROR($E196*SUMIF('Daily Log'!#REF!,$B196,'Daily Log'!#REF!),0)","v":0},{"$f":"IFERROR($E196*SUMIF('Daily Log'!#REF!,$B196,'Daily Log'!#REF!),0)","v":0},{"$f":"IFERROR($E196*SUMIF('Daily Log'!#REF!,$B196,'Daily Log'!#REF!),0)","v":0},{"$f":"IFERROR($E196*SUMIF('Daily Log'!#REF!,$B196,'Daily Log'!#REF!),0)","v":0},{"$f":"IFERROR($E196*SUMIF('Daily Log'!#REF!,$B196,'Daily Log'!#REF!),0)","v":0},{"$f":"IFERROR($E196*SUMIF('Daily Log'!#REF!,$B196,'Daily Log'!#REF!),0)","v":0},{"$f":"IFERROR($E196*SUMIF('Daily Log'!#REF!,$B196,'Daily Log'!#REF!),0)","v":0},{"$f":"IFERROR($E196*SUMIF('Daily Log'!#REF!,$B196,'Daily Log'!#REF!),0)","v":0},{"$f":"IFERROR($E196*SUMIF('Daily Log'!#REF!,$B196,'Daily Log'!#REF!),0)","v":0},{"$f":"IFERROR($E196*SUMIF('Daily Log'!#REF!,$B196,'Daily Log'!#REF!),0)","v":0},{"$f":"IFERROR($E196*SUMIF('Daily Log'!#REF!,$B196,'Daily Log'!#REF!),0)","v":0},{"$f":"IFERROR($E196*SUMIF('Daily Log'!#REF!,$B196,'Daily Log'!#REF!),0)","v":0},{"$f":"IFERROR($E196*SUMIF('Daily Log'!#REF!,$B196,'Daily Log'!#REF!),0)","v":0},{"$f":"IFERROR($E196*SUMIF('Daily Log'!$C$18:$C$1017,$B196,'Daily Log'!$D$18:$D$1017),0)","v":0},{"$f":"IFERROR($E196*SUMIF('Daily Log'!$F$18:$F$1017,$B196,'Daily Log'!$G$18:$G$1017),0)","v":0},{"$f":"IFERROR($E196*SUMIF('Daily Log'!$I$18:$I$1017,$B196,'Daily Log'!$J$18:$J$1017),0)","v":0},{"$f":"IFERROR($E196*SUMIF('Daily Log'!$L$18:$L$1017,$B196,'Daily Log'!$M$18:$M$1017),0)","v":0},{"$f":"IFERROR($E196*SUMIF('Daily Log'!$O$18:$O$1017,$B196,'Daily Log'!$P$18:$P$1017),0)","v":0},{"$f":"IFERROR($E196*SUMIF('Daily Log'!$R$18:$R$1017,$B196,'Daily Log'!$S$18:$S$1017),0)","v":0},{"$f":"IFERROR($E196*SUMIF('Daily Log'!$U$18:$U$1017,$B196,'Daily Log'!$V$18:$V$1017),0)","v":0},{"$f":"IFERROR($E196*SUMIF('Daily Log'!#REF!,$B196,'Daily Log'!#REF!),0)","v":0},{"$f":"IFERROR($E196*SUMIF('Daily Log'!#REF!,$B196,'Daily Log'!#REF!),0)","v":0},{"$f":"IFERROR($E196*SUMIF('Daily Log'!#REF!,$B196,'Daily Log'!#REF!),0)","v":0},{"$f":"IFERROR($E196*SUMIF('Daily Log'!#REF!,$B196,'Daily Log'!#REF!),0)","v":0},{"$f":"IFERROR($E196*SUMIF('Daily Log'!#REF!,$B196,'Daily Log'!#REF!),0)","v":0}]
[null,"DG01 91001:BP CHK CP",null,"KLKD-WESTERN CRUISE ",1,106,{"$f":"IFERROR($E197*SUMIF('Daily Log'!#REF!,$B197,'Daily Log'!#REF!),0)","v":0},{"$f":"IFERROR($E197*SUMIF('Daily Log'!#REF!,$B197,'Daily Log'!#REF!),0)","v":0},{"$f":"IFERROR($E197*SUMIF('Daily Log'!#REF!,$B197,'Daily Log'!#REF!),0)","v":0}," ",{"$f":"IFERROR($E197*SUMIF('Daily Log'!#REF!,$B197,'Daily Log'!#REF!),0)","v":0},{"$f":"IFERROR($E197*SUMIF('Daily Log'!#REF!,$B197,'Daily Log'!#REF!),0)","v":0},{"$f":"IFERROR($E197*SUMIF('Daily Log'!#REF!,$B197,'Daily Log'!#REF!),0)","v":0},{"$f":"IFERROR($E197*SUMIF('Daily Log'!#REF!,$B197,'Daily Log'!#REF!),0)","v":0},{"$f":"IFERROR($E197*SUMIF('Daily Log'!#REF!,$B197,'Daily Log'!#REF!),0)","v":0},{"$f":"IFERROR($E197*SUMIF('Daily Log'!#REF!,$B197,'Daily Log'!#REF!),0)","v":0},{"$f":"IFERROR($E197*SUMIF('Daily Log'!#REF!,$B197,'Daily Log'!#REF!),0)","v":0},{"$f":"IFERROR($E197*SUMIF('Daily Log'!#REF!,$B197,'Daily Log'!#REF!),0)","v":0},{"$f":"IFERROR($E197*SUMIF('Daily Log'!#REF!,$B197,'Daily Log'!#REF!),0)","v":0},{"$f":"IFERROR($E197*SUMIF('Daily Log'!#REF!,$B197,'Daily Log'!#REF!),0)","v":0},{"$f":"IFERROR($E197*SUMIF('Daily Log'!#REF!,$B197,'Daily Log'!#REF!),0)","v":0},{"$f":"IFERROR($E197*SUMIF('Daily Log'!#REF!,$B197,'Daily Log'!#REF!),0)","v":0},{"$f":"IFERROR($E197*SUMIF('Daily Log'!#REF!,$B197,'Daily Log'!#REF!),0)","v":0},{"$f":"IFERROR($E197*SUMIF('Daily Log'!#REF!,$B197,'Daily Log'!#REF!),0)","v":0},{"$f":"IFERROR($E197*SUMIF('Daily Log'!#REF!,$B197,'Daily Log'!#REF!),0)","v":0},{"$f":"IFERROR($E197*SUMIF('Daily Log'!$C$18:$C$1017,$B197,'Daily Log'!$D$18:$D$1017),0)","v":11},{"$f":"IFERROR($E197*SUMIF('Daily Log'!$F$18:$F$1017,$B197,'Daily Log'!$G$18:$G$1017),0)","v":8},{"$f":"IFERROR($E197*SUMIF('Daily Log'!$I$18:$I$1017,$B197,'Daily Log'!$J$18:$J$1017),0)","v":4},{"$f":"IFERROR($E197*SUMIF('Daily Log'!$L$18:$L$1017,$B197,'Daily Log'!$M$18:$M$1017),0)","v":30},{"$f":"IFERROR($E197*SUMIF('Daily Log'!$O$18:$O$1017,$B197,'Daily Log'!$P$18:$P$1017),0)","v":9},{"$f":"IFERROR($E197*SUMIF('Daily Log'!$R$18:$R$1017,$B197,'Daily Log'!$S$18:$S$1017),0)","v":15},{"$f":"IFERROR($E197*SUMIF('Daily Log'!$U$18:$U$1017,$B197,'Daily Log'!$V$18:$V$1017),0)","v":29},{"$f":"IFERROR($E197*SUMIF('Daily Log'!#REF!,$B197,'Daily Log'!#REF!),0)","v":0},{"$f":"IFERROR($E197*SUMIF('Daily Log'!#REF!,$B197,'Daily Log'!#REF!),0)","v":0},{"$f":"IFERROR($E197*SUMIF('Daily Log'!#REF!,$B197,'Daily Log'!#REF!),0)","v":0},{"$f":"IFERROR($E197*SUMIF('Daily Log'!#REF!,$B197,'Daily Log'!#REF!),0)","v":0},{"$f":"IFERROR($E197*SUMIF('Daily Log'!#REF!,$B197,'Daily Log'!#REF!),0)","v":0}]
[null,"DG02 91002:GVY CHK CP",null,"KLKD-WESTERN CRUISE ",1,19,{"$f":"IFERROR($E198*SUMIF('Daily Log'!#REF!,$B198,'Daily Log'!#REF!),0)","v":0},{"$f":"IFERROR($E198*SUMIF('Daily Log'!#REF!,$B198,'Daily Log'!#REF!),0)","v":0},{"$f":"IFERROR($E198*SUMIF('Daily Log'!#REF!,$B198,'Daily Log'!#REF!),0)","v":0}," ",{"$f":"IFERROR($E198*SUMIF('Daily Log'!#REF!,$B198,'Daily Log'!#REF!),0)","v":0},{"$f":"IFERROR($E198*SUMIF('Daily Log'!#REF!,$B198,'Daily Log'!#REF!),0)","v":0},{"$f":"IFERROR($E198*SUMIF('Daily Log'!#REF!,$B198,'Daily Log'!#REF!),0)","v":0},{"$f":"IFERROR($E198*SUMIF('Daily Log'!#REF!,$B198,'Daily Log'!#REF!),0)","v":0},{"$f":"IFERROR($E198*SUMIF('Daily Log'!#REF!,$B198,'Daily Log'!#REF!),0)","v":0},{"$f":"IFERROR($E198*SUMIF('Daily Log'!#REF!,$B198,'Daily Log'!#REF!),0)","v":0},{"$f":"IFERROR($E198*SUMIF('Daily Log'!#REF!,$B198,'Daily Log'!#REF!),0)","v":0},{"$f":"IFERROR($E198*SUMIF('Daily Log'!#REF!,$B198,'Daily Log'!#REF!),0)","v":0},{"$f":"IFERROR($E198*SUMIF('Daily Log'!#REF!,$B198,'Daily Log'!#REF!),0)","v":0},{"$f":"IFERROR($E198*SUMIF('Daily Log'!#REF!,$B198,'Daily Log'!#REF!),0)","v":0},{"$f":"IFERROR($E198*SUMIF('Daily Log'!#REF!,$B198,'Daily Log'!#REF!),0)","v":0},{"$f":"IFERROR($E198*SUMIF('Daily Log'!#REF!,$B198,'Daily Log'!#REF!),0)","v":0},{"$f":"IFERROR($E198*SUMIF('Daily Log'!#REF!,$B198,'Daily Log'!#REF!),0)","v":0},{"$f":"IFERROR($E198*SUMIF('Daily Log'!#REF!,$B198,'Daily Log'!#REF!),0)","v":0},{"$f":"IFERROR($E198*SUMIF('Daily Log'!#REF!,$B198,'Daily Log'!#REF!),0)","v":0},{"$f":"IFERROR($E198*SUMIF('Daily Log'!$C$18:$C$1017,$B198,'Daily Log'!$D$18:$D$1017),0)","v":3},{"$f":"IFERROR($E198*SUMIF('Daily Log'!$F$18:$F$1017,$B198,'Daily Log'!$G$18:$G$1017),0)","v":0},{"$f":"IFERROR($E198*SUMIF('Daily Log'!$I$18:$I$1017,$B198,'Daily Log'!$J$18:$J$1017),0)","v":2},{"$f":"IFERROR($E198*SUMIF('Daily Log'!$L$18:$L$1017,$B198,'Daily Log'!$M$18:$M$1017),0)","v":6},{"$f":"IFERROR($E198*SUMIF('Daily Log'!$O$18:$O$1017,$B198,'Daily Log'!$P$18:$P$1017),0)","v":5},{"$f":"IFERROR($E198*SUMIF('Daily Log'!$R$18:$R$1017,$B198,'Daily Log'!$S$18:$S$1017),0)","v":1},{"$f":"IFERROR($E198*SUMIF('Daily Log'!$U$18:$U$1017,$B198,'Daily Log'!$V$18:$V$1017),0)","v":2},{"$f":"IFERROR($E198*SUMIF('Daily Log'!#REF!,$B198,'Daily Log'!#REF!),0)","v":0},{"$f":"IFERROR($E198*SUMIF('Daily Log'!#REF!,$B198,'Daily Log'!#REF!),0)","v":0},{"$f":"IFERROR($E198*SUMIF('Daily Log'!#REF!,$B198,'Daily Log'!#REF!),0)","v":0},{"$f":"IFERROR($E198*SUMIF('Daily Log'!#REF!,$B198,'Daily Log'!#REF!),0)","v":0},{"$f":"IFERROR($E198*SUMIF('Daily Log'!#REF!,$B198,'Daily Log'!#REF!),0)","v":0}]
[null,"DG03 91003:MSR CHK CP",null,"KLKD-WESTERN CRUISE ",1,98,{"$f":"IFERROR($E199*SUMIF('Daily Log'!#REF!,$B199,'Daily Log'!#REF!),0)","v":0},{"$f":"IFERROR($E199*SUMIF('Daily Log'!#REF!,$B199,'Daily Log'!#REF!),0)","v":0},{"$f":"IFERROR($E199*SUMIF('Daily Log'!#REF!,$B199,'Daily Log'!#REF!),0)","v":0}," ",{"$f":"IFERROR($E199*SUMIF('Daily Log'!#REF!,$B199,'Daily Log'!#REF!),0)","v":0},{"$f":"IFERROR($E199*SUMIF('Daily Log'!#REF!,$B199,'Daily Log'!#REF!),0)","v":0},{"$f":"IFERROR($E199*SUMIF('Daily Log'!#REF!,$B199,'Daily Log'!#REF!),0)","v":0},{"$f":"IFERROR($E199*SUMIF('Daily Log'!#REF!,$B199,'Daily Log'!#REF!),0)","v":0},{"$f":"IFERROR($E199*SUMIF('Daily Log'!#REF!,$B199,'Daily Log'!#REF!),0)","v":0},{"$f":"IFERROR($E199*SUMIF('Daily Log'!#REF!,$B199,'Daily Log'!#REF!),0)","v":0},{"$f":"IFERROR($E199*SUMIF('Daily Log'!#REF!,$B199,'Daily Log'!#REF!),0)","v":0},{"$f":"IFERROR($E199*SUMIF('Daily Log'!#REF!,$B199,'Daily Log'!#REF!),0)","v":0},{"$f":"IFERROR($E199*SUMIF('Daily Log'!#REF!,$B199,'Daily Log'!#REF!),0)","v":0},{"$f":"IFERROR($E199*SUMIF('Daily Log'!#REF!,$B199,'Daily Log'!#REF!),0)","v":0},{"$f":"IFERROR($E199*SUMIF('Daily Log'!#REF!,$B199,'Daily Log'!#REF!),0)","v":0},{"$f":"IFERROR($E199*SUMIF('Daily Log'!#REF!,$B199,'Daily Log'!#REF!),0)","v":0},{"$f":"IFERROR($E199*SUMIF('Daily Log'!#REF!,$B199,'Daily Log'!#REF!),0)","v":0},{"$f":"IFERROR($E199*SUMIF('Daily Log'!#REF!,$B199,'Daily Log'!#REF!),0)","v":0},{"$f":"IFERROR($E199*SUMIF('Daily Log'!#REF!,$B199,'Daily Log'!#REF!),0)","v":0},{"$f":"IFERROR($E199*SUMIF('Daily Log'!$C$18:$C$1017,$B199,'Daily Log'!$D$18:$D$1017),0)","v":10},{"$f":"IFERROR($E199*SUMIF('Daily Log'!$F$18:$F$1017,$B199,'Daily Log'!$G$18:$G$1017),0)","v":7},{"$f":"IFERROR($E199*SUMIF('Daily Log'!$I$18:$I$1017,$B199,'Daily Log'!$J$18:$J$1017),0)","v":7},{"$f":"IFERROR($E199*SUMIF('Daily Log'!$L$18:$L$1017,$B199,'Daily Log'!$M$18:$M$1017),0)","v":21},{"$f":"IFERROR($E199*SUMIF('Daily Log'!$O$18:$O$1017,$B199,'Daily Log'!$P$18:$P$1017),0)","v":18},{"$f":"IFERROR($E199*SUMIF('Daily Log'!$R$18:$R$1017,$B199,'Daily Log'!$S$18:$S$1017),0)","v":13},{"$f":"IFERROR($E199*SUMIF('Daily Log'!$U$18:$U$1017,$B199,'Daily Log'!$V$18:$V$1017),0)","v":22},{"$f":"IFERROR($E199*SUMIF('Daily Log'!#REF!,$B199,'Daily Log'!#REF!),0)","v":0},{"$f":"IFERROR($E199*SUMIF('Daily Log'!#REF!,$B199,'Daily Log'!#REF!),0)","v":0},{"$f":"IFERROR($E199*SUMIF('Daily Log'!#REF!,$B199,'Daily Log'!#REF!),0)","v":0},{"$f":"IFERROR($E199*SUMIF('Daily Log'!#REF!,$B199,'Daily Log'!#REF!),0)","v":0},{"$f":"IFERROR($E199*SUMIF('Daily Log'!#REF!,$B199,'Daily Log'!#REF!),0)","v":0}]
[null,"DG04 91004:CKN MARY",null,"KLKD-WESTERN CRUISE ",1,90,{"$f":"IFERROR($E200*SUMIF('Daily Log'!#REF!,$B200,'Daily Log'!#REF!),0)","v":0},{"$f":"IFERROR($E200*SUMIF('Daily Log'!#REF!,$B200,'Daily Log'!#REF!),0)","v":0},{"$f":"IFERROR($E200*SUMIF('Daily Log'!#REF!,$B200,'Daily Log'!#REF!),0)","v":0}," ",{"$f":"IFERROR($E200*SUMIF('Daily Log'!#REF!,$B200,'Daily Log'!#REF!),0)","v":0},{"$f":"IFERROR($E200*SUMIF('Daily Log'!#REF!,$B200,'Daily Log'!#REF!),0)","v":0},{"$f":"IFERROR($E200*SUMIF('Daily Log'!#REF!,$B200,'Daily Log'!#REF!),0)","v":0},{"$f":"IFERROR($E200*SUMIF('Daily Log'!#REF!,$B200,'Daily Log'!#REF!),0)","v":0},{"$f":"IFERROR($E200*SUMIF('Daily Log'!#REF!,$B200,'Daily Log'!#REF!),0)","v":0},{"$f":"IFERROR($E200*SUMIF('Daily Log'!#REF!,$B200,'Daily Log'!#REF!),0)","v":0},{"$f":"IFERROR($E200*SUMIF('Daily Log'!#REF!,$B200,'Daily Log'!#REF!),0)","v":0},{"$f":"IFERROR($E200*SUMIF('Daily Log'!#REF!,$B200,'Daily Log'!#REF!),0)","v":0},{"$f":"IFERROR($E200*SUMIF('Daily Log'!#REF!,$B200,'Daily Log'!#REF!),0)","v":0},{"$f":"IFERROR($E200*SUMIF('Daily Log'!#REF!,$B200,'Daily Log'!#REF!),0)","v":0},{"$f":"IFERROR($E200*SUMIF('Daily Log'!#REF!,$B200,'Daily Log'!#REF!),0)","v":0},{"$f":"IFERROR($E200*SUMIF('Daily Log'!#REF!,$B200,'Daily Log'!#REF!),0)","v":0},{"$f":"IFERROR($E200*SUMIF('Daily Log'!#REF!,$B200,'Daily Log'!#REF!),0)","v":0},{"$f":"IFERROR($E200*SUMIF('Daily Log'!#REF!,$B200,'Daily Log'!#REF!),0)","v":0},{"$f":"IFERROR($E200*SUMIF('Daily Log'!#REF!,$B200,'Daily Log'!#REF!),0)","v":0},{"$f":"IFERROR($E200*SUMIF('Daily Log'!$C$18:$C$1017,$B200,'Daily Log'!$D$18:$D$1017),0)","v":7},{"$f":"IFERROR($E200*SUMIF('Daily Log'!$F$18:$F$1017,$B200,'Daily Log'!$G$18:$G$1017),0)","v":3},{"$f":"IFERROR($E200*SUMIF('Daily Log'!$I$18:$I$1017,$B200,'Daily Log'!$J$18:$J$1017),0)","v":9},{"$f":"IFERROR($E200*SUMIF('Daily Log'!$L$18:$L$1017,$B200,'Daily Log'!$M$18:$M$1017),0)","v":19},{"$f":"IFERROR($E200*SUMIF('Daily Log'!$O$18:$O$1017,$B200,'Daily Log'!$P$18:$P$1017),0)","v":11},{"$f":"IFERROR($E200*SUMIF('Daily Log'!$R$18:$R$1017,$B200,'Daily Log'!$S$18:$S$1017),0)","v":17},{"$f":"IFERROR($E200*SUMIF('Daily Log'!$U$18:$U$1017,$B200,'Daily Log'!$V$18:$V$1017),0)","v":24},{"$f":"IFERROR($E200*SUMIF('Daily Log'!#REF!,$B200,'Daily Log'!#REF!),0)","v":0},{"$f":"IFERROR($E200*SUMIF('Daily Log'!#REF!,$B200,'Daily Log'!#REF!),0)","v":0},{"$f":"IFERROR($E200*SUMIF('Daily Log'!#REF!,$B200,'Daily Log'!#REF!),0)","v":0},{"$f":"IFERROR($E200*SUMIF('Daily Log'!#REF!,$B200,'Daily Log'!#REF!),0)","v":0},{"$f":"IFERROR($E200*SUMIF('Daily Log'!#REF!,$B200,'Daily Log'!#REF!),0)","v":0}]
[null,"DG05 91005:FISH&CHIP",null,"KLKD-WESTERN CRUISE ",1,120,{"$f":"IFERROR($E201*SUMIF('Daily Log'!#REF!,$B201,'Daily Log'!#REF!),0)","v":0},{"$f":"IFERROR($E201*SUMIF('Daily Log'!#REF!,$B201,'Daily Log'!#REF!),0)","v":0},{"$f":"IFERROR($E201*SUMIF('Daily Log'!#REF!,$B201,'Daily Log'!#REF!),0)","v":0}," ",{"$f":"IFERROR($E201*SUMIF('Daily Log'!#REF!,$B201,'Daily Log'!#REF!),0)","v":0},{"$f":"IFERROR($E201*SUMIF('Daily Log'!#REF!,$B201,'Daily Log'!#REF!),0)","v":0},{"$f":"IFERROR($E201*SUMIF('Daily Log'!#REF!,$B201,'Daily Log'!#REF!),0)","v":0},{"$f":"IFERROR($E201*SUMIF('Daily Log'!#REF!,$B201,'Daily Log'!#REF!),0)","v":0},{"$f":"IFERROR($E201*SUMIF('Daily Log'!#REF!,$B201,'Daily Log'!#REF!),0)","v":0},{"$f":"IFERROR($E201*SUMIF('Daily Log'!#REF!,$B201,'Daily Log'!#REF!),0)","v":0},{"$f":"IFERROR($E201*SUMIF('Daily Log'!#REF!,$B201,'Daily Log'!#REF!),0)","v":0},{"$f":"IFERROR($E201*SUMIF('Daily Log'!#REF!,$B201,'Daily Log'!#REF!),0)","v":0},{"$f":"IFERROR($E201*SUMIF('Daily Log'!#REF!,$B201,'Daily Log'!#REF!),0)","v":0},{"$f":"IFERROR($E201*SUMIF('Daily Log'!#REF!,$B201,'Daily Log'!#REF!),0)","v":0},{"$f":"IFERROR($E201*SUMIF('Daily Log'!#REF!,$B201,'Daily Log'!#REF!),0)","v":0},{"$f":"IFERROR($E201*SUMIF('Daily Log'!#REF!,$B201,'Daily Log'!#REF!),0)","v":0},{"$f":"IFERROR($E201*SUMIF('Daily Log'!#REF!,$B201,'Daily Log'!#REF!),0)","v":0},{"$f":"IFERROR($E201*SUMIF('Daily Log'!#REF!,$B201,'Daily Log'!#REF!),0)","v":0},{"$f":"IFERROR($E201*SUMIF('Daily Log'!#REF!,$B201,'Daily Log'!#REF!),0)","v":0},{"$f":"IFERROR($E201*SUMIF('Daily Log'!$C$18:$C$1017,$B201,'Daily Log'!$D$18:$D$1017),0)","v":8},{"$f":"IFERROR($E201*SUMIF('Daily Log'!$F$18:$F$1017,$B201,'Daily Log'!$G$18:$G$1017),0)","v":8},{"$f":"IFERROR($E201*SUMIF('Daily Log'!$I$18:$I$1017,$B201,'Daily Log'!$J$18:$J$1017),0)","v":8},{"$f":"IFERROR($E201*SUMIF('Daily Log'!$L$18:$L$1017,$B201,'Daily Log'!$M$18:$M$1017),0)","v":26},{"$f":"IFERROR($E201*SUMIF('Daily Log'!$O$18:$O$1017,$B201,'Daily Log'!$P$18:$P$1017),0)","v":29},{"$f":"IFERROR($E201*SUMIF('Daily Log'!$R$18:$R$1017,$B201,'Daily Log'!$S$18:$S$1017),0)","v":21},{"$f":"IFERROR($E201*SUMIF('Daily Log'!$U$18:$U$1017,$B201,'Daily Log'!$V$18:$V$1017),0)","v":20},{"$f":"IFERROR($E201*SUMIF('Daily Log'!#REF!,$B201,'Daily Log'!#REF!),0)","v":0},{"$f":"IFERROR($E201*SUMIF('Daily Log'!#REF!,$B201,'Daily Log'!#REF!),0)","v":0},{"$f":"IFERROR($E201*SUMIF('Daily Log'!#REF!,$B201,'Daily Log'!#REF!),0)","v":0},{"$f":"IFERROR($E201*SUMIF('Daily Log'!#REF!,$B201,'Daily Log'!#REF!),0)","v":0},{"$f":"IFERROR($E201*SUMIF('Daily Log'!#REF!,$B201,'Daily Log'!#REF!),0)","v":0}]
[null,"DG06 91006:SPAGHETTI",null,"KLKD-WESTERN CRUISE ",1,57,{"$f":"IFERROR($E202*SUMIF('Daily Log'!#REF!,$B202,'Daily Log'!#REF!),0)","v":0},{"$f":"IFERROR($E202*SUMIF('Daily Log'!#REF!,$B202,'Daily Log'!#REF!),0)","v":0},{"$f":"IFERROR($E202*SUMIF('Daily Log'!#REF!,$B202,'Daily Log'!#REF!),0)","v":0}," ",{"$f":"IFERROR($E202*SUMIF('Daily Log'!#REF!,$B202,'Daily Log'!#REF!),0)","v":0},{"$f":"IFERROR($E202*SUMIF('Daily Log'!#REF!,$B202,'Daily Log'!#REF!),0)","v":0},{"$f":"IFERROR($E202*SUMIF('Daily Log'!#REF!,$B202,'Daily Log'!#REF!),0)","v":0},{"$f":"IFERROR($E202*SUMIF('Daily Log'!#REF!,$B202,'Daily Log'!#REF!),0)","v":0},{"$f":"IFERROR($E202*SUMIF('Daily Log'!#REF!,$B202,'Daily Log'!#REF!),0)","v":0},{"$f":"IFERROR($E202*SUMIF('Daily Log'!#REF!,$B202,'Daily Log'!#REF!),0)","v":0},{"$f":"IFERROR($E202*SUMIF('Daily Log'!#REF!,$B202,'Daily Log'!#REF!),0)","v":0},{"$f":"IFERROR($E202*SUMIF('Daily Log'!#REF!,$B202,'Daily Log'!#REF!),0)","v":0},{"$f":"IFERROR($E202*SUMIF('Daily Log'!#REF!,$B202,'Daily Log'!#REF!),0)","v":0},{"$f":"IFERROR($E202*SUMIF('Daily Log'!#REF!,$B202,'Daily Log'!#REF!),0)","v":0},{"$f":"IFERROR($E202*SUMIF('Daily Log'!#REF!,$B202,'Daily Log'!#REF!),0)","v":0},{"$f":"IFERROR($E202*SUMIF('Daily Log'!#REF!,$B202,'Daily Log'!#REF!),0)","v":0},{"$f":"IFERROR($E202*SUMIF('Daily Log'!#REF!,$B202,'Daily Log'!#REF!),0)","v":0},{"$f":"IFERROR($E202*SUMIF('Daily Log'!#REF!,$B202,'Daily Log'!#REF!),0)","v":0},{"$f":"IFERROR($E202*SUMIF('Daily Log'!#REF!,$B202,'Daily Log'!#REF!),0)","v":0},{"$f":"IFERROR($E202*SUMIF('Daily Log'!$C$18:$C$1017,$B202,'Daily Log'!$D$18:$D$1017),0)","v":4},{"$f":"IFERROR($E202*SUMIF('Daily Log'!$F$18:$F$1017,$B202,'Daily Log'!$G$18:$G$1017),0)","v":4},{"$f":"IFERROR($E202*SUMIF('Daily Log'!$I$18:$I$1017,$B202,'Daily Log'!$J$18:$J$1017),0)","v":2},{"$f":"IFERROR($E202*SUMIF('Daily Log'!$L$18:$L$1017,$B202,'Daily Log'!$M$18:$M$1017),0)","v":12},{"$f":"IFERROR($E202*SUMIF('Daily Log'!$O$18:$O$1017,$B202,'Daily Log'!$P$18:$P$1017),0)","v":6},{"$f":"IFERROR($E202*SUMIF('Daily Log'!$R$18:$R$1017,$B202,'Daily Log'!$S$18:$S$1017),0)","v":15},{"$f":"IFERROR($E202*SUMIF('Daily Log'!$U$18:$U$1017,$B202,'Daily Log'!$V$18:$V$1017),0)","v":14},{"$f":"IFERROR($E202*SUMIF('Daily Log'!#REF!,$B202,'Daily Log'!#REF!),0)","v":0},{"$f":"IFERROR($E202*SUMIF('Daily Log'!#REF!,$B202,'Daily Log'!#REF!),0)","v":0},{"$f":"IFERROR($E202*SUMIF('Daily Log'!#REF!,$B202,'Daily Log'!#REF!),0)","v":0},{"$f":"IFERROR($E202*SUMIF('Daily Log'!#REF!,$B202,'Daily Log'!#REF!),0)","v":0},{"$f":"IFERROR($E202*SUMIF('Daily Log'!#REF!,$B202,'Daily Log'!#REF!),0)","v":0}]
[null,"DG07 91007:CHK SALAD",null,"KLKD-WESTERN CRUISE ",1,38,{"$f":"IFERROR($E203*SUMIF('Daily Log'!#REF!,$B203,'Daily Log'!#REF!),0)","v":0},{"$f":"IFERROR($E203*SUMIF('Daily Log'!#REF!,$B203,'Daily Log'!#REF!),0)","v":0},{"$f":"IFERROR($E203*SUMIF('Daily Log'!#REF!,$B203,'Daily Log'!#REF!),0)","v":0}," ",{"$f":"IFERROR($E203*SUMIF('Daily Log'!#REF!,$B203,'Daily Log'!#REF!),0)","v":0},{"$f":"IFERROR($E203*SUMIF('Daily Log'!#REF!,$B203,'Daily Log'!#REF!),0)","v":0},{"$f":"IFERROR($E203*SUMIF('Daily Log'!#REF!,$B203,'Daily Log'!#REF!),0)","v":0},{"$f":"IFERROR($E203*SUMIF('Daily Log'!#REF!,$B203,'Daily Log'!#REF!),0)","v":0},{"$f":"IFERROR($E203*SUMIF('Daily Log'!#REF!,$B203,'Daily Log'!#REF!),0)","v":0},{"$f":"IFERROR($E203*SUMIF('Daily Log'!#REF!,$B203,'Daily Log'!#REF!),0)","v":0},{"$f":"IFERROR($E203*SUMIF('Daily Log'!#REF!,$B203,'Daily Log'!#REF!),0)","v":0},{"$f":"IFERROR($E203*SUMIF('Daily Log'!#REF!,$B203,'Daily Log'!#REF!),0)","v":0},{"$f":"IFERROR($E203*SUMIF('Daily Log'!#REF!,$B203,'Daily Log'!#REF!),0)","v":0},{"$f":"IFERROR($E203*SUMIF('Daily Log'!#REF!,$B203,'Daily Log'!#REF!),0)","v":0},{"$f":"IFERROR($E203*SUMIF('Daily Log'!#REF!,$B203,'Daily Log'!#REF!),0)","v":0},{"$f":"IFERROR($E203*SUMIF('Daily Log'!#REF!,$B203,'Daily Log'!#REF!),0)","v":0},{"$f":"IFERROR($E203*SUMIF('Daily Log'!#REF!,$B203,'Daily Log'!#REF!),0)","v":0},{"$f":"IFERROR($E203*SUMIF('Daily Log'!#REF!,$B203,'Daily Log'!#REF!),0)","v":0},{"$f":"IFERROR($E203*SUMIF('Daily Log'!#REF!,$B203,'Daily Log'!#REF!),0)","v":0},{"$f":"IFERROR($E203*SUMIF('Daily Log'!$C$18:$C$1017,$B203,'Daily Log'!$D$18:$D$1017),0)","v":2},{"$f":"IFERROR($E203*SUMIF('Daily Log'!$F$18:$F$1017,$B203,'Daily Log'!$G$18:$G$1017),0)","v":0},{"$f":"IFERROR($E203*SUMIF('Daily Log'!$I$18:$I$1017,$B203,'Daily Log'!$J$18:$J$1017),0)","v":1},{"$f":"IFERROR($E203*SUMIF('Daily Log'!$L$18:$L$1017,$B203,'Daily Log'!$M$18:$M$1017),0)","v":10},{"$f":"IFERROR($E203*SUMIF('Daily Log'!$O$18:$O$1017,$B203,'Daily Log'!$P$18:$P$1017),0)","v":8},{"$f":"IFERROR($E203*SUMIF('Daily Log'!$R$18:$R$1017,$B203,'Daily Log'!$S$18:$S$1017),0)","v":4},{"$f":"IFERROR($E203*SUMIF('Daily Log'!$U$18:$U$1017,$B203,'Daily Log'!$V$18:$V$1017),0)","v":13},{"$f":"IFERROR($E203*SUMIF('Daily Log'!#REF!,$B203,'Daily Log'!#REF!),0)","v":0},{"$f":"IFERROR($E203*SUMIF('Daily Log'!#REF!,$B203,'Daily Log'!#REF!),0)","v":0},{"$f":"IFERROR($E203*SUMIF('Daily Log'!#REF!,$B203,'Daily Log'!#REF!),0)","v":0},{"$f":"IFERROR($E203*SUMIF('Daily Log'!#REF!,$B203,'Daily Log'!#REF!),0)","v":0},{"$f":"IFERROR($E203*SUMIF('Daily Log'!#REF!,$B203,'Daily Log'!#REF!),0)","v":0}]
[null,"DH01 91101:THAI CHK",null,"KLKD-LOCAL DELIGHTS",1,48,{"$f":"IFERROR($E204*SUMIF('Daily Log'!#REF!,$B204,'Daily Log'!#REF!),0)","v":0},{"$f":"IFERROR($E204*SUMIF('Daily Log'!#REF!,$B204,'Daily Log'!#REF!),0)","v":0},{"$f":"IFERROR($E204*SUMIF('Daily Log'!#REF!,$B204,'Daily Log'!#REF!),0)","v":0}," ",{"$f":"IFERROR($E204*SUMIF('Daily Log'!#REF!,$B204,'Daily Log'!#REF!),0)","v":0},{"$f":"IFERROR($E204*SUMIF('Daily Log'!#REF!,$B204,'Daily Log'!#REF!),0)","v":0},{"$f":"IFERROR($E204*SUMIF('Daily Log'!#REF!,$B204,'Daily Log'!#REF!),0)","v":0},{"$f":"IFERROR($E204*SUMIF('Daily Log'!#REF!,$B204,'Daily Log'!#REF!),0)","v":0},{"$f":"IFERROR($E204*SUMIF('Daily Log'!#REF!,$B204,'Daily Log'!#REF!),0)","v":0},{"$f":"IFERROR($E204*SUMIF('Daily Log'!#REF!,$B204,'Daily Log'!#REF!),0)","v":0},{"$f":"IFERROR($E204*SUMIF('Daily Log'!#REF!,$B204,'Daily Log'!#REF!),0)","v":0},{"$f":"IFERROR($E204*SUMIF('Daily Log'!#REF!,$B204,'Daily Log'!#REF!),0)","v":0},{"$f":"IFERROR($E204*SUMIF('Daily Log'!#REF!,$B204,'Daily Log'!#REF!),0)","v":0},{"$f":"IFERROR($E204*SUMIF('Daily Log'!#REF!,$B204,'Daily Log'!#REF!),0)","v":0},{"$f":"IFERROR($E204*SUMIF('Daily Log'!#REF!,$B204,'Daily Log'!#REF!),0)","v":0},{"$f":"IFERROR($E204*SUMIF('Daily Log'!#REF!,$B204,'Daily Log'!#REF!),0)","v":0},{"$f":"IFERROR($E204*SUMIF('Daily Log'!#REF!,$B204,'Daily Log'!#REF!),0)","v":0},{"$f":"IFERROR($E204*SUMIF('Daily Log'!#REF!,$B204,'Daily Log'!#REF!),0)","v":0},{"$f":"IFERROR($E204*SUMIF('Daily Log'!#REF!,$B204,'Daily Log'!#REF!),0)","v":0},{"$f":"IFERROR($E204*SUMIF('Daily Log'!$C$18:$C$1017,$B204,'Daily Log'!$D$18:$D$1017),0)","v":8},{"$f":"IFERROR($E204*SUMIF('Daily Log'!$F$18:$F$1017,$B204,'Daily Log'!$G$18:$G$1017),0)","v":5},{"$f":"IFERROR($E204*SUMIF('Daily Log'!$I$18:$I$1017,$B204,'Daily Log'!$J$18:$J$1017),0)","v":1},{"$f":"IFERROR($E204*SUMIF('Daily Log'!$L$18:$L$1017,$B204,'Daily Log'!$M$18:$M$1017),0)","v":13},{"$f":"IFERROR($E204*SUMIF('Daily Log'!$O$18:$O$1017,$B204,'Daily Log'!$P$18:$P$1017),0)","v":6},{"$f":"IFERROR($E204*SUMIF('Daily Log'!$R$18:$R$1017,$B204,'Daily Log'!$S$18:$S$1017),0)","v":9},{"$f":"IFERROR($E204*SUMIF('Daily Log'!$U$18:$U$1017,$B204,'Daily Log'!$V$18:$V$1017),0)","v":6},{"$f":"IFERROR($E204*SUMIF('Daily Log'!#REF!,$B204,'Daily Log'!#REF!),0)","v":0},{"$f":"IFERROR($E204*SUMIF('Daily Log'!#REF!,$B204,'Daily Log'!#REF!),0)","v":0},{"$f":"IFERROR($E204*SUMIF('Daily Log'!#REF!,$B204,'Daily Log'!#REF!),0)","v":0},{"$f":"IFERROR($E204*SUMIF('Daily Log'!#REF!,$B204,'Daily Log'!#REF!),0)","v":0},{"$f":"IFERROR($E204*SUMIF('Daily Log'!#REF!,$B204,'Daily Log'!#REF!),0)","v":0}]
[null,"DH02 91102:MAMITE CHK",null,"KLKD-LOCAL DELIGHTS",1,38,{"$f":"IFERROR($E205*SUMIF('Daily Log'!#REF!,$B205,'Daily Log'!#REF!),0)","v":0},{"$f":"IFERROR($E205*SUMIF('Daily Log'!#REF!,$B205,'Daily Log'!#REF!),0)","v":0},{"$f":"IFERROR($E205*SUMIF('Daily Log'!#REF!,$B205,'Daily Log'!#REF!),0)","v":0}," ",{"$f":"IFERROR($E205*SUMIF('Daily Log'!#REF!,$B205,'Daily Log'!#REF!),0)","v":0},{"$f":"IFERROR($E205*SUMIF('Daily Log'!#REF!,$B205,'Daily Log'!#REF!),0)","v":0},{"$f":"IFERROR($E205*SUMIF('Daily Log'!#REF!,$B205,'Daily Log'!#REF!),0)","v":0},{"$f":"IFERROR($E205*SUMIF('Daily Log'!#REF!,$B205,'Daily Log'!#REF!),0)","v":0},{"$f":"IFERROR($E205*SUMIF('Daily Log'!#REF!,$B205,'Daily Log'!#REF!),0)","v":0},{"$f":"IFERROR($E205*SUMIF('Daily Log'!#REF!,$B205,'Daily Log'!#REF!),0)","v":0},{"$f":"IFERROR($E205*SUMIF('Daily Log'!#REF!,$B205,'Daily Log'!#REF!),0)","v":0},{"$f":"IFERROR($E205*SUMIF('Daily Log'!#REF!,$B205,'Daily Log'!#REF!),0)","v":0},{"$f":"IFERROR($E205*SUMIF('Daily Log'!#REF!,$B205,'Daily Log'!#REF!),0)","v":0},{"$f":"IFERROR($E205*SUMIF('Daily Log'!#REF!,$B205,'Daily Log'!#REF!),0)","v":0},{"$f":"IFERROR($E205*SUMIF('Daily Log'!#REF!,$B205,'Daily Log'!#REF!),0)","v":0},{"$f":"IFERROR($E205*SUMIF('Daily Log'!#REF!,$B205,'Daily Log'!#REF!),0)","v":0},{"$f":"IFERROR($E205*SUMIF('Daily Log'!#REF!,$B205,'Daily Log'!#REF!),0)","v":0},{"$f":"IFERROR($E205*SUMIF('Daily Log'!#REF!,$B205,'Daily Log'!#REF!),0)","v":0},{"$f":"IFERROR($E205*SUMIF('Daily Log'!#REF!,$B205,'Daily Log'!#REF!),0)","v":0},{"$f":"IFERROR($E205*SUMIF('Daily Log'!$C$18:$C$1017,$B205,'Daily Log'!$D$18:$D$1017),0)","v":1},{"$f":"IFERROR($E205*SUMIF('Daily Log'!$F$18:$F$1017,$B205,'Daily Log'!$G$18:$G$1017),0)","v":3},{"$f":"IFERROR($E205*SUMIF('Daily Log'!$I$18:$I$1017,$B205,'Daily Log'!$J$18:$J$1017),0)","v":1},{"$f":"IFERROR($E205*SUMIF('Daily Log'!$L$18:$L$1017,$B205,'Daily Log'!$M$18:$M$1017),0)","v":8},{"$f":"IFERROR($E205*SUMIF('Daily Log'!$O$18:$O$1017,$B205,'Daily Log'!$P$18:$P$1017),0)","v":8},{"$f":"IFERROR($E205*SUMIF('Daily Log'!$R$18:$R$1017,$B205,'Daily Log'!$S$18:$S$1017),0)","v":8},{"$f":"IFERROR($E205*SUMIF('Daily Log'!$U$18:$U$1017,$B205,'Daily Log'!$V$18:$V$1017),0)","v":9},{"$f":"IFERROR($E205*SUMIF('Daily Log'!#REF!,$B205,'Daily Log'!#REF!),0)","v":0},{"$f":"IFERROR($E205*SUMIF('Daily Log'!#REF!,$B205,'Daily Log'!#REF!),0)","v":0},{"$f":"IFERROR($E205*SUMIF('Daily Log'!#REF!,$B205,'Daily Log'!#REF!),0)","v":0},{"$f":"IFERROR($E205*SUMIF('Daily Log'!#REF!,$B205,'Daily Log'!#REF!),0)","v":0},{"$f":"IFERROR($E205*SUMIF('Daily Log'!#REF!,$B205,'Daily Log'!#REF!),0)","v":0}]
[null,"DH03 91103:KO PO CHK",null,"KLKD-LOCAL DELIGHTS",1,30,{"$f":"IFERROR($E206*SUMIF('Daily Log'!#REF!,$B206,'Daily Log'!#REF!),0)","v":0},{"$f":"IFERROR($E206*SUMIF('Daily Log'!#REF!,$B206,'Daily Log'!#REF!),0)","v":0},{"$f":"IFERROR($E206*SUMIF('Daily Log'!#REF!,$B206,'Daily Log'!#REF!),0)","v":0}," ",{"$f":"IFERROR($E206*SUMIF('Daily Log'!#REF!,$B206,'Daily Log'!#REF!),0)","v":0},{"$f":"IFERROR($E206*SUMIF('Daily Log'!#REF!,$B206,'Daily Log'!#REF!),0)","v":0},{"$f":"IFERROR($E206*SUMIF('Daily Log'!#REF!,$B206,'Daily Log'!#REF!),0)","v":0},{"$f":"IFERROR($E206*SUMIF('Daily Log'!#REF!,$B206,'Daily Log'!#REF!),0)","v":0},{"$f":"IFERROR($E206*SUMIF('Daily Log'!#REF!,$B206,'Daily Log'!#REF!),0)","v":0},{"$f":"IFERROR($E206*SUMIF('Daily Log'!#REF!,$B206,'Daily Log'!#REF!),0)","v":0},{"$f":"IFERROR($E206*SUMIF('Daily Log'!#REF!,$B206,'Daily Log'!#REF!),0)","v":0},{"$f":"IFERROR($E206*SUMIF('Daily Log'!#REF!,$B206,'Daily Log'!#REF!),0)","v":0},{"$f":"IFERROR($E206*SUMIF('Daily Log'!#REF!,$B206,'Daily Log'!#REF!),0)","v":0},{"$f":"IFERROR($E206*SUMIF('Daily Log'!#REF!,$B206,'Daily Log'!#REF!),0)","v":0},{"$f":"IFERROR($E206*SUMIF('Daily Log'!#REF!,$B206,'Daily Log'!#REF!),0)","v":0},{"$f":"IFERROR($E206*SUMIF('Daily Log'!#REF!,$B206,'Daily Log'!#REF!),0)","v":0},{"$f":"IFERROR($E206*SUMIF('Daily Log'!#REF!,$B206,'Daily Log'!#REF!),0)","v":0},{"$f":"IFERROR($E206*SUMIF('Daily Log'!#REF!,$B206,'Daily Log'!#REF!),0)","v":0},{"$f":"IFERROR($E206*SUMIF('Daily Log'!#REF!,$B206,'Daily Log'!#REF!),0)","v":0},{"$f":"IFERROR($E206*SUMIF('Daily Log'!$C$18:$C$1017,$B206,'Daily Log'!$D$18:$D$1017),0)","v":2},{"$f":"IFERROR($E206*SUMIF('Daily Log'!$F$18:$F$1017,$B206,'Daily Log'!$G$18:$G$1017),0)","v":3},{"$f":"IFERROR($E206*SUMIF('Daily Log'!$I$18:$I$1017,$B206,'Daily Log'!$J$18:$J$1017),0)","v":3},{"$f":"IFERROR($E206*SUMIF('Daily Log'!$L$18:$L$1017,$B206,'Daily Log'!$M$18:$M$1017),0)","v":5},{"$f":"IFERROR($E206*SUMIF('Daily Log'!$O$18:$O$1017,$B206,'Daily Log'!$P$18:$P$1017),0)","v":8},{"$f":"IFERROR($E206*SUMIF('Daily Log'!$R$18:$R$1017,$B206,'Daily Log'!$S$18:$S$1017),0)","v":3},{"$f":"IFERROR($E206*SUMIF('Daily Log'!$U$18:$U$1017,$B206,'Daily Log'!$V$18:$V$1017),0)","v":6},{"$f":"IFERROR($E206*SUMIF('Daily Log'!#REF!,$B206,'Daily Log'!#REF!),0)","v":0},{"$f":"IFERROR($E206*SUMIF('Daily Log'!#REF!,$B206,'Daily Log'!#REF!),0)","v":0},{"$f":"IFERROR($E206*SUMIF('Daily Log'!#REF!,$B206,'Daily Log'!#REF!),0)","v":0},{"$f":"IFERROR($E206*SUMIF('Daily Log'!#REF!,$B206,'Daily Log'!#REF!),0)","v":0},{"$f":"IFERROR($E206*SUMIF('Daily Log'!#REF!,$B206,'Daily Log'!#REF!),0)","v":0}]
[null,"DH04 91104:S&S CHK",null,"KLKD-LOCAL DELIGHTS",1,18,{"$f":"IFERROR($E207*SUMIF('Daily Log'!#REF!,$B207,'Daily Log'!#REF!),0)","v":0},{"$f":"IFERROR($E207*SUMIF('Daily Log'!#REF!,$B207,'Daily Log'!#REF!),0)","v":0},{"$f":"IFERROR($E207*SUMIF('Daily Log'!#REF!,$B207,'Daily Log'!#REF!),0)","v":0}," ",{"$f":"IFERROR($E207*SUMIF('Daily Log'!#REF!,$B207,'Daily Log'!#REF!),0)","v":0},{"$f":"IFERROR($E207*SUMIF('Daily Log'!#REF!,$B207,'Daily Log'!#REF!),0)","v":0},{"$f":"IFERROR($E207*SUMIF('Daily Log'!#REF!,$B207,'Daily Log'!#REF!),0)","v":0},{"$f":"IFERROR($E207*SUMIF('Daily Log'!#REF!,$B207,'Daily Log'!#REF!),0)","v":0},{"$f":"IFERROR($E207*SUMIF('Daily Log'!#REF!,$B207,'Daily Log'!#REF!),0)","v":0},{"$f":"IFERROR($E207*SUMIF('Daily Log'!#REF!,$B207,'Daily Log'!#REF!),0)","v":0},{"$f":"IFERROR($E207*SUMIF('Daily Log'!#REF!,$B207,'Daily Log'!#REF!),0)","v":0},{"$f":"IFERROR($E207*SUMIF('Daily Log'!#REF!,$B207,'Daily Log'!#REF!),0)","v":0},{"$f":"IFERROR($E207*SUMIF('Daily Log'!#REF!,$B207,'Daily Log'!#REF!),0)","v":0},{"$f":"IFERROR($E207*SUMIF('Daily Log'!#REF!,$B207,'Daily Log'!#REF!),0)","v":0},{"$f":"IFERROR($E207*SUMIF('Daily Log'!#REF!,$B207,'Daily Log'!#REF!),0)","v":0},{"$f":"IFERROR($E207*SUMIF('Daily Log'!#REF!,$B207,'Daily Log'!#REF!),0)","v":0},{"$f":"IFERROR($E207*SUMIF('Daily Log'!#REF!,$B207,'Daily Log'!#REF!),0)","v":0},{"$f":"IFERROR($E207*SUMIF('Daily Log'!#REF!,$B207,'Daily Log'!#REF!),0)","v":0},{"$f":"IFERROR($E207*SUMIF('Daily Log'!#REF!,$B207,'Daily Log'!#REF!),0)","v":0},{"$f":"IFERROR($E207*SUMIF('Daily Log'!$C$18:$C$1017,$B207,'Daily Log'!$D$18:$D$1017),0)","v":3},{"$f":"IFERROR($E207*SUMIF('Daily Log'!$F$18:$F$1017,$B207,'Daily Log'!$G$18:$G$1017),0)","v":3},{"$f":"IFERROR($E207*SUMIF('Daily Log'!$I$18:$I$1017,$B207,'Daily Log'!$J$18:$J$1017),0)","v":4},{"$f":"IFERROR($E207*SUMIF('Daily Log'!$L$18:$L$1017,$B207,'Daily Log'!$M$18:$M$1017),0)","v":3},{"$f":"IFERROR($E207*SUMIF('Daily Log'!$O$18:$O$1017,$B207,'Daily Log'!$P$18:$P$1017),0)","v":2},{"$f":"IFERROR($E207*SUMIF('Daily Log'!$R$18:$R$1017,$B207,'Daily Log'!$S$18:$S$1017),0)","v":0},{"$f":"IFERROR($E207*SUMIF('Daily Log'!$U$18:$U$1017,$B207,'Daily Log'!$V$18:$V$1017),0)","v":3},{"$f":"IFERROR($E207*SUMIF('Daily Log'!#REF!,$B207,'Daily Log'!#REF!),0)","v":0},{"$f":"IFERROR($E207*SUMIF('Daily Log'!#REF!,$B207,'Daily Log'!#REF!),0)","v":0},{"$f":"IFERROR($E207*SUMIF('Daily Log'!#REF!,$B207,'Daily Log'!#REF!),0)","v":0},{"$f":"IFERROR($E207*SUMIF('Daily Log'!#REF!,$B207,'Daily Log'!#REF!),0)","v":0},{"$f":"IFERROR($E207*SUMIF('Daily Log'!#REF!,$B207,'Daily Log'!#REF!),0)","v":0}]
[null,"DH05 91105:BUTTER CHK",null,"KLKD-LOCAL DELIGHTS",1,77,{"$f":"IFERROR($E208*SUMIF('Daily Log'!#REF!,$B208,'Daily Log'!#REF!),0)","v":0},{"$f":"IFERROR($E208*SUMIF('Daily Log'!#REF!,$B208,'Daily Log'!#REF!),0)","v":0},{"$f":"IFERROR($E208*SUMIF('Daily Log'!#REF!,$B208,'Daily Log'!#REF!),0)","v":0}," ",{"$f":"IFERROR($E208*SUMIF('Daily Log'!#REF!,$B208,'Daily Log'!#REF!),0)","v":0},{"$f":"IFERROR($E208*SUMIF('Daily Log'!#REF!,$B208,'Daily Log'!#REF!),0)","v":0},{"$f":"IFERROR($E208*SUMIF('Daily Log'!#REF!,$B208,'Daily Log'!#REF!),0)","v":0},{"$f":"IFERROR($E208*SUMIF('Daily Log'!#REF!,$B208,'Daily Log'!#REF!),0)","v":0},{"$f":"IFERROR($E208*SUMIF('Daily Log'!#REF!,$B208,'Daily Log'!#REF!),0)","v":0},{"$f":"IFERROR($E208*SUMIF('Daily Log'!#REF!,$B208,'Daily Log'!#REF!),0)","v":0},{"$f":"IFERROR($E208*SUMIF('Daily Log'!#REF!,$B208,'Daily Log'!#REF!),0)","v":0},{"$f":"IFERROR($E208*SUMIF('Daily Log'!#REF!,$B208,'Daily Log'!#REF!),0)","v":0},{"$f":"IFERROR($E208*SUMIF('Daily Log'!#REF!,$B208,'Daily Log'!#REF!),0)","v":0},{"$f":"IFERROR($E208*SUMIF('Daily Log'!#REF!,$B208,'Daily Log'!#REF!),0)","v":0},{"$f":"IFERROR($E208*SUMIF('Daily Log'!#REF!,$B208,'Daily Log'!#REF!),0)","v":0},{"$f":"IFERROR($E208*SUMIF('Daily Log'!#REF!,$B208,'Daily Log'!#REF!),0)","v":0},{"$f":"IFERROR($E208*SUMIF('Daily Log'!#REF!,$B208,'Daily Log'!#REF!),0)","v":0},{"$f":"IFERROR($E208*SUMIF('Daily Log'!#REF!,$B208,'Daily Log'!#REF!),0)","v":0},{"$f":"IFERROR($E208*SUMIF('Daily Log'!#REF!,$B208,'Daily Log'!#REF!),0)","v":0},{"$f":"IFERROR($E208*SUMIF('Daily Log'!$C$18:$C$1017,$B208,'Daily Log'!$D$18:$D$1017),0)","v":7},{"$f":"IFERROR($E208*SUMIF('Daily Log'!$F$18:$F$1017,$B208,'Daily Log'!$G$18:$G$1017),0)","v":2},{"$f":"IFERROR($E208*SUMIF('Daily Log'!$I$18:$I$1017,$B208,'Daily Log'!$J$18:$J$1017),0)","v":5},{"$f":"IFERROR($E208*SUMIF('Daily Log'!$L$18:$L$1017,$B208,'Daily Log'!$M$18:$M$1017),0)","v":17},{"$f":"IFERROR($E208*SUMIF('Daily Log'!$O$18:$O$1017,$B208,'Daily Log'!$P$18:$P$1017),0)","v":21},{"$f":"IFERROR($E208*SUMIF('Daily Log'!$R$18:$R$1017,$B208,'Daily Log'!$S$18:$S$1017),0)","v":7},{"$f":"IFERROR($E208*SUMIF('Daily Log'!$U$18:$U$1017,$B208,'Daily Log'!$V$18:$V$1017),0)","v":18},{"$f":"IFERROR($E208*SUMIF('Daily Log'!#REF!,$B208,'Daily Log'!#REF!),0)","v":0},{"$f":"IFERROR($E208*SUMIF('Daily Log'!#REF!,$B208,'Daily Log'!#REF!),0)","v":0},{"$f":"IFERROR($E208*SUMIF('Daily Log'!#REF!,$B208,'Daily Log'!#REF!),0)","v":0},{"$f":"IFERROR($E208*SUMIF('Daily Log'!#REF!,$B208,'Daily Log'!#REF!),0)","v":0},{"$f":"IFERROR($E208*SUMIF('Daily Log'!#REF!,$B208,'Daily Log'!#REF!),0)","v":0}]
[null,"DH06 91106:HK F.RICE",null,"KLKD-LOCAL DELIGHTS",1,51,{"$f":"IFERROR($E209*SUMIF('Daily Log'!#REF!,$B209,'Daily Log'!#REF!),0)","v":0},{"$f":"IFERROR($E209*SUMIF('Daily Log'!#REF!,$B209,'Daily Log'!#REF!),0)","v":0},{"$f":"IFERROR($E209*SUMIF('Daily Log'!#REF!,$B209,'Daily Log'!#REF!),0)","v":0}," ",{"$f":"IFERROR($E209*SUMIF('Daily Log'!#REF!,$B209,'Daily Log'!#REF!),0)","v":0},{"$f":"IFERROR($E209*SUMIF('Daily Log'!#REF!,$B209,'Daily Log'!#REF!),0)","v":0},{"$f":"IFERROR($E209*SUMIF('Daily Log'!#REF!,$B209,'Daily Log'!#REF!),0)","v":0},{"$f":"IFERROR($E209*SUMIF('Daily Log'!#REF!,$B209,'Daily Log'!#REF!),0)","v":0},{"$f":"IFERROR($E209*SUMIF('Daily Log'!#REF!,$B209,'Daily Log'!#REF!),0)","v":0},{"$f":"IFERROR($E209*SUMIF('Daily Log'!#REF!,$B209,'Daily Log'!#REF!),0)","v":0},{"$f":"IFERROR($E209*SUMIF('Daily Log'!#REF!,$B209,'Daily Log'!#REF!),0)","v":0},{"$f":"IFERROR($E209*SUMIF('Daily Log'!#REF!,$B209,'Daily Log'!#REF!),0)","v":0},{"$f":"IFERROR($E209*SUMIF('Daily Log'!#REF!,$B209,'Daily Log'!#REF!),0)","v":0},{"$f":"IFERROR($E209*SUMIF('Daily Log'!#REF!,$B209,'Daily Log'!#REF!),0)","v":0},{"$f":"IFERROR($E209*SUMIF('Daily Log'!#REF!,$B209,'Daily Log'!#REF!),0)","v":0},{"$f":"IFERROR($E209*SUMIF('Daily Log'!#REF!,$B209,'Daily Log'!#REF!),0)","v":0},{"$f":"IFERROR($E209*SUMIF('Daily Log'!#REF!,$B209,'Daily Log'!#REF!),0)","v":0},{"$f":"IFERROR($E209*SUMIF('Daily Log'!#REF!,$B209,'Daily Log'!#REF!),0)","v":0},{"$f":"IFERROR($E209*SUMIF('Daily Log'!#REF!,$B209,'Daily Log'!#REF!),0)","v":0},{"$f":"IFERROR($E209*SUMIF('Daily Log'!$C$18:$C$1017,$B209,'Daily Log'!$D$18:$D$1017),0)","v":3},{"$f":"IFERROR($E209*SUMIF('Daily Log'!$F$18:$F$1017,$B209,'Daily Log'!$G$18:$G$1017),0)","v":4},{"$f":"IFERROR($E209*SUMIF('Daily Log'!$I$18:$I$1017,$B209,'Daily Log'!$J$18:$J$1017),0)","v":4},{"$f":"IFERROR($E209*SUMIF('Daily Log'!$L$18:$L$1017,$B209,'Daily Log'!$M$18:$M$1017),0)","v":10},{"$f":"IFERROR($E209*SUMIF('Daily Log'!$O$18:$O$1017,$B209,'Daily Log'!$P$18:$P$1017),0)","v":10},{"$f":"IFERROR($E209*SUMIF('Daily Log'!$R$18:$R$1017,$B209,'Daily Log'!$S$18:$S$1017),0)","v":10},{"$f":"IFERROR($E209*SUMIF('Daily Log'!$U$18:$U$1017,$B209,'Daily Log'!$V$18:$V$1017),0)","v":10},{"$f":"IFERROR($E209*SUMIF('Daily Log'!#REF!,$B209,'Daily Log'!#REF!),0)","v":0},{"$f":"IFERROR($E209*SUMIF('Daily Log'!#REF!,$B209,'Daily Log'!#REF!),0)","v":0},{"$f":"IFERROR($E209*SUMIF('Daily Log'!#REF!,$B209,'Daily Log'!#REF!),0)","v":0},{"$f":"IFERROR($E209*SUMIF('Daily Log'!#REF!,$B209,'Daily Log'!#REF!),0)","v":0},{"$f":"IFERROR($E209*SUMIF('Daily Log'!#REF!,$B209,'Daily Log'!#REF!),0)","v":0}]
[null,"DH07 91107:SBL F.RICE",null,"KLKD-LOCAL DELIGHTS",1,30,{"$f":"IFERROR($E210*SUMIF('Daily Log'!#REF!,$B210,'Daily Log'!#REF!),0)","v":0},{"$f":"IFERROR($E210*SUMIF('Daily Log'!#REF!,$B210,'Daily Log'!#REF!),0)","v":0},{"$f":"IFERROR($E210*SUMIF('Daily Log'!#REF!,$B210,'Daily Log'!#REF!),0)","v":0}," ",{"$f":"IFERROR($E210*SUMIF('Daily Log'!#REF!,$B210,'Daily Log'!#REF!),0)","v":0},{"$f":"IFERROR($E210*SUMIF('Daily Log'!#REF!,$B210,'Daily Log'!#REF!),0)","v":0},{"$f":"IFERROR($E210*SUMIF('Daily Log'!#REF!,$B210,'Daily Log'!#REF!),0)","v":0},{"$f":"IFERROR($E210*SUMIF('Daily Log'!#REF!,$B210,'Daily Log'!#REF!),0)","v":0},{"$f":"IFERROR($E210*SUMIF('Daily Log'!#REF!,$B210,'Daily Log'!#REF!),0)","v":0},{"$f":"IFERROR($E210*SUMIF('Daily Log'!#REF!,$B210,'Daily Log'!#REF!),0)","v":0},{"$f":"IFERROR($E210*SUMIF('Daily Log'!#REF!,$B210,'Daily Log'!#REF!),0)","v":0},{"$f":"IFERROR($E210*SUMIF('Daily Log'!#REF!,$B210,'Daily Log'!#REF!),0)","v":0},{"$f":"IFERROR($E210*SUMIF('Daily Log'!#REF!,$B210,'Daily Log'!#REF!),0)","v":0},{"$f":"IFERROR($E210*SUMIF('Daily Log'!#REF!,$B210,'Daily Log'!#REF!),0)","v":0},{"$f":"IFERROR($E210*SUMIF('Daily Log'!#REF!,$B210,'Daily Log'!#REF!),0)","v":0},{"$f":"IFERROR($E210*SUMIF('Daily Log'!#REF!,$B210,'Daily Log'!#REF!),0)","v":0},{"$f":"IFERROR($E210*SUMIF('Daily Log'!#REF!,$B210,'Daily Log'!#REF!),0)","v":0},{"$f":"IFERROR($E210*SUMIF('Daily Log'!#REF!,$B210,'Daily Log'!#REF!),0)","v":0},{"$f":"IFERROR($E210*SUMIF('Daily Log'!#REF!,$B210,'Daily Log'!#REF!),0)","v":0},{"$f":"IFERROR($E210*SUMIF('Daily Log'!$C$18:$C$1017,$B210,'Daily Log'!$D$18:$D$1017),0)","v":1},{"$f":"IFERROR($E210*SUMIF('Daily Log'!$F$18:$F$1017,$B210,'Daily Log'!$G$18:$G$1017),0)","v":7},{"$f":"IFERROR($E210*SUMIF('Daily Log'!$I$18:$I$1017,$B210,'Daily Log'!$J$18:$J$1017),0)","v":3},{"$f":"IFERROR($E210*SUMIF('Daily Log'!$L$18:$L$1017,$B210,'Daily Log'!$M$18:$M$1017),0)","v":7},{"$f":"IFERROR($E210*SUMIF('Daily Log'!$O$18:$O$1017,$B210,'Daily Log'!$P$18:$P$1017),0)","v":2},{"$f":"IFERROR($E210*SUMIF('Daily Log'!$R$18:$R$1017,$B210,'Daily Log'!$S$18:$S$1017),0)","v":7},{"$f":"IFERROR($E210*SUMIF('Daily Log'!$U$18:$U$1017,$B210,'Daily Log'!$V$18:$V$1017),0)","v":3},{"$f":"IFERROR($E210*SUMIF('Daily Log'!#REF!,$B210,'Daily Log'!#REF!),0)","v":0},{"$f":"IFERROR($E210*SUMIF('Daily Log'!#REF!,$B210,'Daily Log'!#REF!),0)","v":0},{"$f":"IFERROR($E210*SUMIF('Daily Log'!#REF!,$B210,'Daily Log'!#REF!),0)","v":0},{"$f":"IFERROR($E210*SUMIF('Daily Log'!#REF!,$B210,'Daily Log'!#REF!),0)","v":0},{"$f":"IFERROR($E210*SUMIF('Daily Log'!#REF!,$B210,'Daily Log'!#REF!),0)","v":0}]
[null,"DH08 91108:SBL F.MEE",null,"KLKD-LOCAL DELIGHTS",1,5,{"$f":"IFERROR($E211*SUMIF('Daily Log'!#REF!,$B211,'Daily Log'!#REF!),0)","v":0},{"$f":"IFERROR($E211*SUMIF('Daily Log'!#REF!,$B211,'Daily Log'!#REF!),0)","v":0},{"$f":"IFERROR($E211*SUMIF('Daily Log'!#REF!,$B211,'Daily Log'!#REF!),0)","v":0}," ",{"$f":"IFERROR($E211*SUMIF('Daily Log'!#REF!,$B211,'Daily Log'!#REF!),0)","v":0},{"$f":"IFERROR($E211*SUMIF('Daily Log'!#REF!,$B211,'Daily Log'!#REF!),0)","v":0},{"$f":"IFERROR($E211*SUMIF('Daily Log'!#REF!,$B211,'Daily Log'!#REF!),0)","v":0},{"$f":"IFERROR($E211*SUMIF('Daily Log'!#REF!,$B211,'Daily Log'!#REF!),0)","v":0},{"$f":"IFERROR($E211*SUMIF('Daily Log'!#REF!,$B211,'Daily Log'!#REF!),0)","v":0},{"$f":"IFERROR($E211*SUMIF('Daily Log'!#REF!,$B211,'Daily Log'!#REF!),0)","v":0},{"$f":"IFERROR($E211*SUMIF('Daily Log'!#REF!,$B211,'Daily Log'!#REF!),0)","v":0},{"$f":"IFERROR($E211*SUMIF('Daily Log'!#REF!,$B211,'Daily Log'!#REF!),0)","v":0},{"$f":"IFERROR($E211*SUMIF('Daily Log'!#REF!,$B211,'Daily Log'!#REF!),0)","v":0},{"$f":"IFERROR($E211*SUMIF('Daily Log'!#REF!,$B211,'Daily Log'!#REF!),0)","v":0},{"$f":"IFERROR($E211*SUMIF('Daily Log'!#REF!,$B211,'Daily Log'!#REF!),0)","v":0},{"$f":"IFERROR($E211*SUMIF('Daily Log'!#REF!,$B211,'Daily Log'!#REF!),0)","v":0},{"$f":"IFERROR($E211*SUMIF('Daily Log'!#REF!,$B211,'Daily Log'!#REF!),0)","v":0},{"$f":"IFERROR($E211*SUMIF('Daily Log'!#REF!,$B211,'Daily Log'!#REF!),0)","v":0},{"$f":"IFERROR($E211*SUMIF('Daily Log'!#REF!,$B211,'Daily Log'!#REF!),0)","v":0},{"$f":"IFERROR($E211*SUMIF('Daily Log'!$C$18:$C$1017,$B211,'Daily Log'!$D$18:$D$1017),0)","v":1},{"$f":"IFERROR($E211*SUMIF('Daily Log'!$F$18:$F$1017,$B211,'Daily Log'!$G$18:$G$1017),0)","v":2},{"$f":"IFERROR($E211*SUMIF('Daily Log'!$I$18:$I$1017,$B211,'Daily Log'!$J$18:$J$1017),0)","v":0},{"$f":"IFERROR($E211*SUMIF('Daily Log'!$L$18:$L$1017,$B211,'Daily Log'!$M$18:$M$1017),0)","v":0},{"$f":"IFERROR($E211*SUMIF('Daily Log'!$O$18:$O$1017,$B211,'Daily Log'!$P$18:$P$1017),0)","v":1},{"$f":"IFERROR($E211*SUMIF('Daily Log'!$R$18:$R$1017,$B211,'Daily Log'!$S$18:$S$1017),0)","v":1},{"$f":"IFERROR($E211*SUMIF('Daily Log'!$U$18:$U$1017,$B211,'Daily Log'!$V$18:$V$1017),0)","v":0},{"$f":"IFERROR($E211*SUMIF('Daily Log'!#REF!,$B211,'Daily Log'!#REF!),0)","v":0},{"$f":"IFERROR($E211*SUMIF('Daily Log'!#REF!,$B211,'Daily Log'!#REF!),0)","v":0},{"$f":"IFERROR($E211*SUMIF('Daily Log'!#REF!,$B211,'Daily Log'!#REF!),0)","v":0},{"$f":"IFERROR($E211*SUMIF('Daily Log'!#REF!,$B211,'Daily Log'!#REF!),0)","v":0},{"$f":"IFERROR($E211*SUMIF('Daily Log'!#REF!,$B211,'Daily Log'!#REF!),0)","v":0}]
[null,"DH09 91109:BP UDON",null,"KLKD-LOCAL DELIGHTS",1,20,{"$f":"IFERROR($E212*SUMIF('Daily Log'!#REF!,$B212,'Daily Log'!#REF!),0)","v":0},{"$f":"IFERROR($E212*SUMIF('Daily Log'!#REF!,$B212,'Daily Log'!#REF!),0)","v":0},{"$f":"IFERROR($E212*SUMIF('Daily Log'!#REF!,$B212,'Daily Log'!#REF!),0)","v":0}," ",{"$f":"IFERROR($E212*SUMIF('Daily Log'!#REF!,$B212,'Daily Log'!#REF!),0)","v":0},{"$f":"IFERROR($E212*SUMIF('Daily Log'!#REF!,$B212,'Daily Log'!#REF!),0)","v":0},{"$f":"IFERROR($E212*SUMIF('Daily Log'!#REF!,$B212,'Daily Log'!#REF!),0)","v":0},{"$f":"IFERROR($E212*SUMIF('Daily Log'!#REF!,$B212,'Daily Log'!#REF!),0)","v":0},{"$f":"IFERROR($E212*SUMIF('Daily Log'!#REF!,$B212,'Daily Log'!#REF!),0)","v":0},{"$f":"IFERROR($E212*SUMIF('Daily Log'!#REF!,$B212,'Daily Log'!#REF!),0)","v":0},{"$f":"IFERROR($E212*SUMIF('Daily Log'!#REF!,$B212,'Daily Log'!#REF!),0)","v":0},{"$f":"IFERROR($E212*SUMIF('Daily Log'!#REF!,$B212,'Daily Log'!#REF!),0)","v":0},{"$f":"IFERROR($E212*SUMIF('Daily Log'!#REF!,$B212,'Daily Log'!#REF!),0)","v":0},{"$f":"IFERROR($E212*SUMIF('Daily Log'!#REF!,$B212,'Daily Log'!#REF!),0)","v":0},{"$f":"IFERROR($E212*SUMIF('Daily Log'!#REF!,$B212,'Daily Log'!#REF!),0)","v":0},{"$f":"IFERROR($E212*SUMIF('Daily Log'!#REF!,$B212,'Daily Log'!#REF!),0)","v":0},{"$f":"IFERROR($E212*SUMIF('Daily Log'!#REF!,$B212,'Daily Log'!#REF!),0)","v":0},{"$f":"IFERROR($E212*SUMIF('Daily Log'!#REF!,$B212,'Daily Log'!#REF!),0)","v":0},{"$f":"IFERROR($E212*SUMIF('Daily Log'!#REF!,$B212,'Daily Log'!#REF!),0)","v":0},{"$f":"IFERROR($E212*SUMIF('Daily Log'!$C$18:$C$1017,$B212,'Daily Log'!$D$18:$D$1017),0)","v":2},{"$f":"IFERROR($E212*SUMIF('Daily Log'!$F$18:$F$1017,$B212,'Daily Log'!$G$18:$G$1017),0)","v":3},{"$f":"IFERROR($E212*SUMIF('Daily Log'!$I$18:$I$1017,$B212,'Daily Log'!$J$18:$J$1017),0)","v":2},{"$f":"IFERROR($E212*SUMIF('Daily Log'!$L$18:$L$1017,$B212,'Daily Log'!$M$18:$M$1017),0)","v":8},{"$f":"IFERROR($E212*SUMIF('Daily Log'!$O$18:$O$1017,$B212,'Daily Log'!$P$18:$P$1017),0)","v":1},{"$f":"IFERROR($E212*SUMIF('Daily Log'!$R$18:$R$1017,$B212,'Daily Log'!$S$18:$S$1017),0)","v":0},{"$f":"IFERROR($E212*SUMIF('Daily Log'!$U$18:$U$1017,$B212,'Daily Log'!$V$18:$V$1017),0)","v":4},{"$f":"IFERROR($E212*SUMIF('Daily Log'!#REF!,$B212,'Daily Log'!#REF!),0)","v":0},{"$f":"IFERROR($E212*SUMIF('Daily Log'!#REF!,$B212,'Daily Log'!#REF!),0)","v":0},{"$f":"IFERROR($E212*SUMIF('Daily Log'!#REF!,$B212,'Daily Log'!#REF!),0)","v":0},{"$f":"IFERROR($E212*SUMIF('Daily Log'!#REF!,$B212,'Daily Log'!#REF!),0)","v":0},{"$f":"IFERROR($E212*SUMIF('Daily Log'!#REF!,$B212,'Daily Log'!#REF!),0)","v":0}]
[null,"DH10 91110:NISSIN",null,"KLKD-LOCAL DELIGHTS",1,26,{"$f":"IFERROR($E213*SUMIF('Daily Log'!#REF!,$B213,'Daily Log'!#REF!),0)","v":0},{"$f":"IFERROR($E213*SUMIF('Daily Log'!#REF!,$B213,'Daily Log'!#REF!),0)","v":0},{"$f":"IFERROR($E213*SUMIF('Daily Log'!#REF!,$B213,'Daily Log'!#REF!),0)","v":0}," ",{"$f":"IFERROR($E213*SUMIF('Daily Log'!#REF!,$B213,'Daily Log'!#REF!),0)","v":0},{"$f":"IFERROR($E213*SUMIF('Daily Log'!#REF!,$B213,'Daily Log'!#REF!),0)","v":0},{"$f":"IFERROR($E213*SUMIF('Daily Log'!#REF!,$B213,'Daily Log'!#REF!),0)","v":0},{"$f":"IFERROR($E213*SUMIF('Daily Log'!#REF!,$B213,'Daily Log'!#REF!),0)","v":0},{"$f":"IFERROR($E213*SUMIF('Daily Log'!#REF!,$B213,'Daily Log'!#REF!),0)","v":0},{"$f":"IFERROR($E213*SUMIF('Daily Log'!#REF!,$B213,'Daily Log'!#REF!),0)","v":0},{"$f":"IFERROR($E213*SUMIF('Daily Log'!#REF!,$B213,'Daily Log'!#REF!),0)","v":0},{"$f":"IFERROR($E213*SUMIF('Daily Log'!#REF!,$B213,'Daily Log'!#REF!),0)","v":0},{"$f":"IFERROR($E213*SUMIF('Daily Log'!#REF!,$B213,'Daily Log'!#REF!),0)","v":0},{"$f":"IFERROR($E213*SUMIF('Daily Log'!#REF!,$B213,'Daily Log'!#REF!),0)","v":0},{"$f":"IFERROR($E213*SUMIF('Daily Log'!#REF!,$B213,'Daily Log'!#REF!),0)","v":0},{"$f":"IFERROR($E213*SUMIF('Daily Log'!#REF!,$B213,'Daily Log'!#REF!),0)","v":0},{"$f":"IFERROR($E213*SUMIF('Daily Log'!#REF!,$B213,'Daily Log'!#REF!),0)","v":0},{"$f":"IFERROR($E213*SUMIF('Daily Log'!#REF!,$B213,'Daily Log'!#REF!),0)","v":0},{"$f":"IFERROR($E213*SUMIF('Daily Log'!#REF!,$B213,'Daily Log'!#REF!),0)","v":0},{"$f":"IFERROR($E213*SUMIF('Daily Log'!$C$18:$C$1017,$B213,'Daily Log'!$D$18:$D$1017),0)","v":1},{"$f":"IFERROR($E213*SUMIF('Daily Log'!$F$18:$F$1017,$B213,'Daily Log'!$G$18:$G$1017),0)","v":3},{"$f":"IFERROR($E213*SUMIF('Daily Log'!$I$18:$I$1017,$B213,'Daily Log'!$J$18:$J$1017),0)","v":4},{"$f":"IFERROR($E213*SUMIF('Daily Log'!$L$18:$L$1017,$B213,'Daily Log'!$M$18:$M$1017),0)","v":3},{"$f":"IFERROR($E213*SUMIF('Daily Log'!$O$18:$O$1017,$B213,'Daily Log'!$P$18:$P$1017),0)","v":6},{"$f":"IFERROR($E213*SUMIF('Daily Log'!$R$18:$R$1017,$B213,'Daily Log'!$S$18:$S$1017),0)","v":5},{"$f":"IFERROR($E213*SUMIF('Daily Log'!$U$18:$U$1017,$B213,'Daily Log'!$V$18:$V$1017),0)","v":4},{"$f":"IFERROR($E213*SUMIF('Daily Log'!#REF!,$B213,'Daily Log'!#REF!),0)","v":0},{"$f":"IFERROR($E213*SUMIF('Daily Log'!#REF!,$B213,'Daily Log'!#REF!),0)","v":0},{"$f":"IFERROR($E213*SUMIF('Daily Log'!#REF!,$B213,'Daily Log'!#REF!),0)","v":0},{"$f":"IFERROR($E213*SUMIF('Daily Log'!#REF!,$B213,'Daily Log'!#REF!),0)","v":0},{"$f":"IFERROR($E213*SUMIF('Daily Log'!#REF!,$B213,'Daily Log'!#REF!),0)","v":0}]
[null,"DH11 91111:VEG RICE",null,"KLKD-LOCAL DELIGHTS",1,12,{"$f":"IFERROR($E214*SUMIF('Daily Log'!#REF!,$B214,'Daily Log'!#REF!),0)","v":0},{"$f":"IFERROR($E214*SUMIF('Daily Log'!#REF!,$B214,'Daily Log'!#REF!),0)","v":0},{"$f":"IFERROR($E214*SUMIF('Daily Log'!#REF!,$B214,'Daily Log'!#REF!),0)","v":0}," ",{"$f":"IFERROR($E214*SUMIF('Daily Log'!#REF!,$B214,'Daily Log'!#REF!),0)","v":0},{"$f":"IFERROR($E214*SUMIF('Daily Log'!#REF!,$B214,'Daily Log'!#REF!),0)","v":0},{"$f":"IFERROR($E214*SUMIF('Daily Log'!#REF!,$B214,'Daily Log'!#REF!),0)","v":0},{"$f":"IFERROR($E214*SUMIF('Daily Log'!#REF!,$B214,'Daily Log'!#REF!),0)","v":0},{"$f":"IFERROR($E214*SUMIF('Daily Log'!#REF!,$B214,'Daily Log'!#REF!),0)","v":0},{"$f":"IFERROR($E214*SUMIF('Daily Log'!#REF!,$B214,'Daily Log'!#REF!),0)","v":0},{"$f":"IFERROR($E214*SUMIF('Daily Log'!#REF!,$B214,'Daily Log'!#REF!),0)","v":0},{"$f":"IFERROR($E214*SUMIF('Daily Log'!#REF!,$B214,'Daily Log'!#REF!),0)","v":0},{"$f":"IFERROR($E214*SUMIF('Daily Log'!#REF!,$B214,'Daily Log'!#REF!),0)","v":0},{"$f":"IFERROR($E214*SUMIF('Daily Log'!#REF!,$B214,'Daily Log'!#REF!),0)","v":0},{"$f":"IFERROR($E214*SUMIF('Daily Log'!#REF!,$B214,'Daily Log'!#REF!),0)","v":0},{"$f":"IFERROR($E214*SUMIF('Daily Log'!#REF!,$B214,'Daily Log'!#REF!),0)","v":0},{"$f":"IFERROR($E214*SUMIF('Daily Log'!#REF!,$B214,'Daily Log'!#REF!),0)","v":0},{"$f":"IFERROR($E214*SUMIF('Daily Log'!#REF!,$B214,'Daily Log'!#REF!),0)","v":0},{"$f":"IFERROR($E214*SUMIF('Daily Log'!#REF!,$B214,'Daily Log'!#REF!),0)","v":0},{"$f":"IFERROR($E214*SUMIF('Daily Log'!$C$18:$C$1017,$B214,'Daily Log'!$D$18:$D$1017),0)","v":0},{"$f":"IFERROR($E214*SUMIF('Daily Log'!$F$18:$F$1017,$B214,'Daily Log'!$G$18:$G$1017),0)","v":1},{"$f":"IFERROR($E214*SUMIF('Daily Log'!$I$18:$I$1017,$B214,'Daily Log'!$J$18:$J$1017),0)","v":1},{"$f":"IFERROR($E214*SUMIF('Daily Log'!$L$18:$L$1017,$B214,'Daily Log'!$M$18:$M$1017),0)","v":4},{"$f":"IFERROR($E214*SUMIF('Daily Log'!$O$18:$O$1017,$B214,'Daily Log'!$P$18:$P$1017),0)","v":5},{"$f":"IFERROR($E214*SUMIF('Daily Log'!$R$18:$R$1017,$B214,'Daily Log'!$S$18:$S$1017),0)","v":1},{"$f":"IFERROR($E214*SUMIF('Daily Log'!$U$18:$U$1017,$B214,'Daily Log'!$V$18:$V$1017),0)","v":0},{"$f":"IFERROR($E214*SUMIF('Daily Log'!#REF!,$B214,'Daily Log'!#REF!),0)","v":0},{"$f":"IFERROR($E214*SUMIF('Daily Log'!#REF!,$B214,'Daily Log'!#REF!),0)","v":0},{"$f":"IFERROR($E214*SUMIF('Daily Log'!#REF!,$B214,'Daily Log'!#REF!),0)","v":0},{"$f":"IFERROR($E214*SUMIF('Daily Log'!#REF!,$B214,'Daily Log'!#REF!),0)","v":0},{"$f":"IFERROR($E214*SUMIF('Daily Log'!#REF!,$B214,'Daily Log'!#REF!),0)","v":0}]
[null,"DH12 91112:NASI LEMAK",null,"KLKD-LOCAL DELIGHTS",1,22,{"$f":"IFERROR($E215*SUMIF('Daily Log'!#REF!,$B215,'Daily Log'!#REF!),0)","v":0},{"$f":"IFERROR($E215*SUMIF('Daily Log'!#REF!,$B215,'Daily Log'!#REF!),0)","v":0},{"$f":"IFERROR($E215*SUMIF('Daily Log'!#REF!,$B215,'Daily Log'!#REF!),0)","v":0}," ",{"$f":"IFERROR($E215*SUMIF('Daily Log'!#REF!,$B215,'Daily Log'!#REF!),0)","v":0},{"$f":"IFERROR($E215*SUMIF('Daily Log'!#REF!,$B215,'Daily Log'!#REF!),0)","v":0},{"$f":"IFERROR($E215*SUMIF('Daily Log'!#REF!,$B215,'Daily Log'!#REF!),0)","v":0},{"$f":"IFERROR($E215*SUMIF('Daily Log'!#REF!,$B215,'Daily Log'!#REF!),0)","v":0},{"$f":"IFERROR($E215*SUMIF('Daily Log'!#REF!,$B215,'Daily Log'!#REF!),0)","v":0},{"$f":"IFERROR($E215*SUMIF('Daily Log'!#REF!,$B215,'Daily Log'!#REF!),0)","v":0},{"$f":"IFERROR($E215*SUMIF('Daily Log'!#REF!,$B215,'Daily Log'!#REF!),0)","v":0},{"$f":"IFERROR($E215*SUMIF('Daily Log'!#REF!,$B215,'Daily Log'!#REF!),0)","v":0},{"$f":"IFERROR($E215*SUMIF('Daily Log'!#REF!,$B215,'Daily Log'!#REF!),0)","v":0},{"$f":"IFERROR($E215*SUMIF('Daily Log'!#REF!,$B215,'Daily Log'!#REF!),0)","v":0},{"$f":"IFERROR($E215*SUMIF('Daily Log'!#REF!,$B215,'Daily Log'!#REF!),0)","v":0},{"$f":"IFERROR($E215*SUMIF('Daily Log'!#REF!,$B215,'Daily Log'!#REF!),0)","v":0},{"$f":"IFERROR($E215*SUMIF('Daily Log'!#REF!,$B215,'Daily Log'!#REF!),0)","v":0},{"$f":"IFERROR($E215*SUMIF('Daily Log'!#REF!,$B215,'Daily Log'!#REF!),0)","v":0},{"$f":"IFERROR($E215*SUMIF('Daily Log'!#REF!,$B215,'Daily Log'!#REF!),0)","v":0},{"$f":"IFERROR($E215*SUMIF('Daily Log'!$C$18:$C$1017,$B215,'Daily Log'!$D$18:$D$1017),0)","v":1},{"$f":"IFERROR($E215*SUMIF('Daily Log'!$F$18:$F$1017,$B215,'Daily Log'!$G$18:$G$1017),0)","v":1},{"$f":"IFERROR($E215*SUMIF('Daily Log'!$I$18:$I$1017,$B215,'Daily Log'!$J$18:$J$1017),0)","v":3},{"$f":"IFERROR($E215*SUMIF('Daily Log'!$L$18:$L$1017,$B215,'Daily Log'!$M$18:$M$1017),0)","v":5},{"$f":"IFERROR($E215*SUMIF('Daily Log'!$O$18:$O$1017,$B215,'Daily Log'!$P$18:$P$1017),0)","v":2},{"$f":"IFERROR($E215*SUMIF('Daily Log'!$R$18:$R$1017,$B215,'Daily Log'!$S$18:$S$1017),0)","v":1},{"$f":"IFERROR($E215*SUMIF('Daily Log'!$U$18:$U$1017,$B215,'Daily Log'!$V$18:$V$1017),0)","v":9},{"$f":"IFERROR($E215*SUMIF('Daily Log'!#REF!,$B215,'Daily Log'!#REF!),0)","v":0},{"$f":"IFERROR($E215*SUMIF('Daily Log'!#REF!,$B215,'Daily Log'!#REF!),0)","v":0},{"$f":"IFERROR($E215*SUMIF('Daily Log'!#REF!,$B215,'Daily Log'!#REF!),0)","v":0},{"$f":"IFERROR($E215*SUMIF('Daily Log'!#REF!,$B215,'Daily Log'!#REF!),0)","v":0},{"$f":"IFERROR($E215*SUMIF('Daily Log'!#REF!,$B215,'Daily Log'!#REF!),0)","v":0}]
[null,"DH13 91113:KUEY TEOW",null,"KLKD-LOCAL DELIGHTS",1,16,{"$f":"IFERROR($E216*SUMIF('Daily Log'!#REF!,$B216,'Daily Log'!#REF!),0)","v":0},{"$f":"IFERROR($E216*SUMIF('Daily Log'!#REF!,$B216,'Daily Log'!#REF!),0)","v":0},{"$f":"IFERROR($E216*SUMIF('Daily Log'!#REF!,$B216,'Daily Log'!#REF!),0)","v":0}," ",{"$f":"IFERROR($E216*SUMIF('Daily Log'!#REF!,$B216,'Daily Log'!#REF!),0)","v":0},{"$f":"IFERROR($E216*SUMIF('Daily Log'!#REF!,$B216,'Daily Log'!#REF!),0)","v":0},{"$f":"IFERROR($E216*SUMIF('Daily Log'!#REF!,$B216,'Daily Log'!#REF!),0)","v":0},{"$f":"IFERROR($E216*SUMIF('Daily Log'!#REF!,$B216,'Daily Log'!#REF!),0)","v":0},{"$f":"IFERROR($E216*SUMIF('Daily Log'!#REF!,$B216,'Daily Log'!#REF!),0)","v":0},{"$f":"IFERROR($E216*SUMIF('Daily Log'!#REF!,$B216,'Daily Log'!#REF!),0)","v":0},{"$f":"IFERROR($E216*SUMIF('Daily Log'!#REF!,$B216,'Daily Log'!#REF!),0)","v":0},{"$f":"IFERROR($E216*SUMIF('Daily Log'!#REF!,$B216,'Daily Log'!#REF!),0)","v":0},{"$f":"IFERROR($E216*SUMIF('Daily Log'!#REF!,$B216,'Daily Log'!#REF!),0)","v":0},{"$f":"IFERROR($E216*SUMIF('Daily Log'!#REF!,$B216,'Daily Log'!#REF!),0)","v":0},{"$f":"IFERROR($E216*SUMIF('Daily Log'!#REF!,$B216,'Daily Log'!#REF!),0)","v":0},{"$f":"IFERROR($E216*SUMIF('Daily Log'!#REF!,$B216,'Daily Log'!#REF!),0)","v":0},{"$f":"IFERROR($E216*SUMIF('Daily Log'!#REF!,$B216,'Daily Log'!#REF!),0)","v":0},{"$f":"IFERROR($E216*SUMIF('Daily Log'!#REF!,$B216,'Daily Log'!#REF!),0)","v":0},{"$f":"IFERROR($E216*SUMIF('Daily Log'!#REF!,$B216,'Daily Log'!#REF!),0)","v":0},{"$f":"IFERROR($E216*SUMIF('Daily Log'!$C$18:$C$1017,$B216,'Daily Log'!$D$18:$D$1017),0)","v":2},{"$f":"IFERROR($E216*SUMIF('Daily Log'!$F$18:$F$1017,$B216,'Daily Log'!$G$18:$G$1017),0)","v":1},{"$f":"IFERROR($E216*SUMIF('Daily Log'!$I$18:$I$1017,$B216,'Daily Log'!$J$18:$J$1017),0)","v":1},{"$f":"IFERROR($E216*SUMIF('Daily Log'!$L$18:$L$1017,$B216,'Daily Log'!$M$18:$M$1017),0)","v":1},{"$f":"IFERROR($E216*SUMIF('Daily Log'!$O$18:$O$1017,$B216,'Daily Log'!$P$18:$P$1017),0)","v":1},{"$f":"IFERROR($E216*SUMIF('Daily Log'!$R$18:$R$1017,$B216,'Daily Log'!$S$18:$S$1017),0)","v":3},{"$f":"IFERROR($E216*SUMIF('Daily Log'!$U$18:$U$1017,$B216,'Daily Log'!$V$18:$V$1017),0)","v":7},{"$f":"IFERROR($E216*SUMIF('Daily Log'!#REF!,$B216,'Daily Log'!#REF!),0)","v":0},{"$f":"IFERROR($E216*SUMIF('Daily Log'!#REF!,$B216,'Daily Log'!#REF!),0)","v":0},{"$f":"IFERROR($E216*SUMIF('Daily Log'!#REF!,$B216,'Daily Log'!#REF!),0)","v":0},{"$f":"IFERROR($E216*SUMIF('Daily Log'!#REF!,$B216,'Daily Log'!#REF!),0)","v":0},{"$f":"IFERROR($E216*SUMIF('Daily Log'!#REF!,$B216,'Daily Log'!#REF!),0)","v":0}]
[null,"DH14 91114:F.BALL MEE",null,"KLKD-LOCAL DELIGHTS",1,14,{"$f":"IFERROR($E217*SUMIF('Daily Log'!#REF!,$B217,'Daily Log'!#REF!),0)","v":0},{"$f":"IFERROR($E217*SUMIF('Daily Log'!#REF!,$B217,'Daily Log'!#REF!),0)","v":0},{"$f":"IFERROR($E217*SUMIF('Daily Log'!#REF!,$B217,'Daily Log'!#REF!),0)","v":0}," ",{"$f":"IFERROR($E217*SUMIF('Daily Log'!#REF!,$B217,'Daily Log'!#REF!),0)","v":0},{"$f":"IFERROR($E217*SUMIF('Daily Log'!#REF!,$B217,'Daily Log'!#REF!),0)","v":0},{"$f":"IFERROR($E217*SUMIF('Daily Log'!#REF!,$B217,'Daily Log'!#REF!),0)","v":0},{"$f":"IFERROR($E217*SUMIF('Daily Log'!#REF!,$B217,'Daily Log'!#REF!),0)","v":0},{"$f":"IFERROR($E217*SUMIF('Daily Log'!#REF!,$B217,'Daily Log'!#REF!),0)","v":0},{"$f":"IFERROR($E217*SUMIF('Daily Log'!#REF!,$B217,'Daily Log'!#REF!),0)","v":0},{"$f":"IFERROR($E217*SUMIF('Daily Log'!#REF!,$B217,'Daily Log'!#REF!),0)","v":0},{"$f":"IFERROR($E217*SUMIF('Daily Log'!#REF!,$B217,'Daily Log'!#REF!),0)","v":0},{"$f":"IFERROR($E217*SUMIF('Daily Log'!#REF!,$B217,'Daily Log'!#REF!),0)","v":0},{"$f":"IFERROR($E217*SUMIF('Daily Log'!#REF!,$B217,'Daily Log'!#REF!),0)","v":0},{"$f":"IFERROR($E217*SUMIF('Daily Log'!#REF!,$B217,'Daily Log'!#REF!),0)","v":0},{"$f":"IFERROR($E217*SUMIF('Daily Log'!#REF!,$B217,'Daily Log'!#REF!),0)","v":0},{"$f":"IFERROR($E217*SUMIF('Daily Log'!#REF!,$B217,'Daily Log'!#REF!),0)","v":0},{"$f":"IFERROR($E217*SUMIF('Daily Log'!#REF!,$B217,'Daily Log'!#REF!),0)","v":0},{"$f":"IFERROR($E217*SUMIF('Daily Log'!#REF!,$B217,'Daily Log'!#REF!),0)","v":0},{"$f":"IFERROR($E217*SUMIF('Daily Log'!$C$18:$C$1017,$B217,'Daily Log'!$D$18:$D$1017),0)","v":2},{"$f":"IFERROR($E217*SUMIF('Daily Log'!$F$18:$F$1017,$B217,'Daily Log'!$G$18:$G$1017),0)","v":0},{"$f":"IFERROR($E217*SUMIF('Daily Log'!$I$18:$I$1017,$B217,'Daily Log'!$J$18:$J$1017),0)","v":2},{"$f":"IFERROR($E217*SUMIF('Daily Log'!$L$18:$L$1017,$B217,'Daily Log'!$M$18:$M$1017),0)","v":4},{"$f":"IFERROR($E217*SUMIF('Daily Log'!$O$18:$O$1017,$B217,'Daily Log'!$P$18:$P$1017),0)","v":3},{"$f":"IFERROR($E217*SUMIF('Daily Log'!$R$18:$R$1017,$B217,'Daily Log'!$S$18:$S$1017),0)","v":1},{"$f":"IFERROR($E217*SUMIF('Daily Log'!$U$18:$U$1017,$B217,'Daily Log'!$V$18:$V$1017),0)","v":2},{"$f":"IFERROR($E217*SUMIF('Daily Log'!#REF!,$B217,'Daily Log'!#REF!),0)","v":0},{"$f":"IFERROR($E217*SUMIF('Daily Log'!#REF!,$B217,'Daily Log'!#REF!),0)","v":0},{"$f":"IFERROR($E217*SUMIF('Daily Log'!#REF!,$B217,'Daily Log'!#REF!),0)","v":0},{"$f":"IFERROR($E217*SUMIF('Daily Log'!#REF!,$B217,'Daily Log'!#REF!),0)","v":0},{"$f":"IFERROR($E217*SUMIF('Daily Log'!#REF!,$B217,'Daily Log'!#REF!),0)","v":0}]
[null,"DH15 91115:CHK NOODLE",null,"KLKD-LOCAL DELIGHTS",1,13,{"$f":"IFERROR($E218*SUMIF('Daily Log'!#REF!,$B218,'Daily Log'!#REF!),0)","v":0},{"$f":"IFERROR($E218*SUMIF('Daily Log'!#REF!,$B218,'Daily Log'!#REF!),0)","v":0},{"$f":"IFERROR($E218*SUMIF('Daily Log'!#REF!,$B218,'Daily Log'!#REF!),0)","v":0}," ",{"$f":"IFERROR($E218*SUMIF('Daily Log'!#REF!,$B218,'Daily Log'!#REF!),0)","v":0},{"$f":"IFERROR($E218*SUMIF('Daily Log'!#REF!,$B218,'Daily Log'!#REF!),0)","v":0},{"$f":"IFERROR($E218*SUMIF('Daily Log'!#REF!,$B218,'Daily Log'!#REF!),0)","v":0},{"$f":"IFERROR($E218*SUMIF('Daily Log'!#REF!,$B218,'Daily Log'!#REF!),0)","v":0},{"$f":"IFERROR($E218*SUMIF('Daily Log'!#REF!,$B218,'Daily Log'!#REF!),0)","v":0},{"$f":"IFERROR($E218*SUMIF('Daily Log'!#REF!,$B218,'Daily Log'!#REF!),0)","v":0},{"$f":"IFERROR($E218*SUMIF('Daily Log'!#REF!,$B218,'Daily Log'!#REF!),0)","v":0},{"$f":"IFERROR($E218*SUMIF('Daily Log'!#REF!,$B218,'Daily Log'!#REF!),0)","v":0},{"$f":"IFERROR($E218*SUMIF('Daily Log'!#REF!,$B218,'Daily Log'!#REF!),0)","v":0},{"$f":"IFERROR($E218*SUMIF('Daily Log'!#REF!,$B218,'Daily Log'!#REF!),0)","v":0},{"$f":"IFERROR($E218*SUMIF('Daily Log'!#REF!,$B218,'Daily Log'!#REF!),0)","v":0},{"$f":"IFERROR($E218*SUMIF('Daily Log'!#REF!,$B218,'Daily Log'!#REF!),0)","v":0},{"$f":"IFERROR($E218*SUMIF('Daily Log'!#REF!,$B218,'Daily Log'!#REF!),0)","v":0},{"$f":"IFERROR($E218*SUMIF('Daily Log'!#REF!,$B218,'Daily Log'!#REF!),0)","v":0},{"$f":"IFERROR($E218*SUMIF('Daily Log'!#REF!,$B218,'Daily Log'!#REF!),0)","v":0},{"$f":"IFERROR($E218*SUMIF('Daily Log'!$C$18:$C$1017,$B218,'Daily Log'!$D$18:$D$1017),0)","v":1},{"$f":"IFERROR($E218*SUMIF('Daily Log'!$F$18:$F$1017,$B218,'Daily Log'!$G$18:$G$1017),0)","v":1},{"$f":"IFERROR($E218*SUMIF('Daily Log'!$I$18:$I$1017,$B218,'Daily Log'!$J$18:$J$1017),0)","v":2},{"$f":"IFERROR($E218*SUMIF('Daily Log'!$L$18:$L$1017,$B218,'Daily Log'!$M$18:$M$1017),0)","v":2},{"$f":"IFERROR($E218*SUMIF('Daily Log'!$O$18:$O$1017,$B218,'Daily Log'!$P$18:$P$1017),0)","v":1},{"$f":"IFERROR($E218*SUMIF('Daily Log'!$R$18:$R$1017,$B218,'Daily Log'!$S$18:$S$1017),0)","v":4},{"$f":"IFERROR($E218*SUMIF('Daily Log'!$U$18:$U$1017,$B218,'Daily Log'!$V$18:$V$1017),0)","v":2},{"$f":"IFERROR($E218*SUMIF('Daily Log'!#REF!,$B218,'Daily Log'!#REF!),0)","v":0},{"$f":"IFERROR($E218*SUMIF('Daily Log'!#REF!,$B218,'Daily Log'!#REF!),0)","v":0},{"$f":"IFERROR($E218*SUMIF('Daily Log'!#REF!,$B218,'Daily Log'!#REF!),0)","v":0},{"$f":"IFERROR($E218*SUMIF('Daily Log'!#REF!,$B218,'Daily Log'!#REF!),0)","v":0},{"$f":"IFERROR($E218*SUMIF('Daily Log'!#REF!,$B218,'Daily Log'!#REF!),0)","v":0}]
[null,"DI01 91201:SFD STICK",null,"KLKD-APPETIZER",1,2,{"$f":"IFERROR($E219*SUMIF('Daily Log'!#REF!,$B219,'Daily Log'!#REF!),0)","v":0},{"$f":"IFERROR($E219*SUMIF('Daily Log'!#REF!,$B219,'Daily Log'!#REF!),0)","v":0},{"$f":"IFERROR($E219*SUMIF('Daily Log'!#REF!,$B219,'Daily Log'!#REF!),0)","v":0}," ",{"$f":"IFERROR($E219*SUMIF('Daily Log'!#REF!,$B219,'Daily Log'!#REF!),0)","v":0},{"$f":"IFERROR($E219*SUMIF('Daily Log'!#REF!,$B219,'Daily Log'!#REF!),0)","v":0},{"$f":"IFERROR($E219*SUMIF('Daily Log'!#REF!,$B219,'Daily Log'!#REF!),0)","v":0},{"$f":"IFERROR($E219*SUMIF('Daily Log'!#REF!,$B219,'Daily Log'!#REF!),0)","v":0},{"$f":"IFERROR($E219*SUMIF('Daily Log'!#REF!,$B219,'Daily Log'!#REF!),0)","v":0},{"$f":"IFERROR($E219*SUMIF('Daily Log'!#REF!,$B219,'Daily Log'!#REF!),0)","v":0},{"$f":"IFERROR($E219*SUMIF('Daily Log'!#REF!,$B219,'Daily Log'!#REF!),0)","v":0},{"$f":"IFERROR($E219*SUMIF('Daily Log'!#REF!,$B219,'Daily Log'!#REF!),0)","v":0},{"$f":"IFERROR($E219*SUMIF('Daily Log'!#REF!,$B219,'Daily Log'!#REF!),0)","v":0},{"$f":"IFERROR($E219*SUMIF('Daily Log'!#REF!,$B219,'Daily Log'!#REF!),0)","v":0},{"$f":"IFERROR($E219*SUMIF('Daily Log'!#REF!,$B219,'Daily Log'!#REF!),0)","v":0},{"$f":"IFERROR($E219*SUMIF('Daily Log'!#REF!,$B219,'Daily Log'!#REF!),0)","v":0},{"$f":"IFERROR($E219*SUMIF('Daily Log'!#REF!,$B219,'Daily Log'!#REF!),0)","v":0},{"$f":"IFERROR($E219*SUMIF('Daily Log'!#REF!,$B219,'Daily Log'!#REF!),0)","v":0},{"$f":"IFERROR($E219*SUMIF('Daily Log'!#REF!,$B219,'Daily Log'!#REF!),0)","v":0},{"$f":"IFERROR($E219*SUMIF('Daily Log'!$C$18:$C$1017,$B219,'Daily Log'!$D$18:$D$1017),0)","v":0},{"$f":"IFERROR($E219*SUMIF('Daily Log'!$F$18:$F$1017,$B219,'Daily Log'!$G$18:$G$1017),0)","v":0},{"$f":"IFERROR($E219*SUMIF('Daily Log'!$I$18:$I$1017,$B219,'Daily Log'!$J$18:$J$1017),0)","v":0},{"$f":"IFERROR($E219*SUMIF('Daily Log'!$L$18:$L$1017,$B219,'Daily Log'!$M$18:$M$1017),0)","v":0},{"$f":"IFERROR($E219*SUMIF('Daily Log'!$O$18:$O$1017,$B219,'Daily Log'!$P$18:$P$1017),0)","v":0},{"$f":"IFERROR($E219*SUMIF('Daily Log'!$R$18:$R$1017,$B219,'Daily Log'!$S$18:$S$1017),0)","v":2},{"$f":"IFERROR($E219*SUMIF('Daily Log'!$U$18:$U$1017,$B219,'Daily Log'!$V$18:$V$1017),0)","v":0},{"$f":"IFERROR($E219*SUMIF('Daily Log'!#REF!,$B219,'Daily Log'!#REF!),0)","v":0},{"$f":"IFERROR($E219*SUMIF('Daily Log'!#REF!,$B219,'Daily Log'!#REF!),0)","v":0},{"$f":"IFERROR($E219*SUMIF('Daily Log'!#REF!,$B219,'Daily Log'!#REF!),0)","v":0},{"$f":"IFERROR($E219*SUMIF('Daily Log'!#REF!,$B219,'Daily Log'!#REF!),0)","v":0},{"$f":"IFERROR($E219*SUMIF('Daily Log'!#REF!,$B219,'Daily Log'!#REF!),0)","v":0}]
[null,"DI02 91202:FREN FRIES",null,"KLKD-APPETIZER",1,15,{"$f":"IFERROR($E220*SUMIF('Daily Log'!#REF!,$B220,'Daily Log'!#REF!),0)","v":0},{"$f":"IFERROR($E220*SUMIF('Daily Log'!#REF!,$B220,'Daily Log'!#REF!),0)","v":0},{"$f":"IFERROR($E220*SUMIF('Daily Log'!#REF!,$B220,'Daily Log'!#REF!),0)","v":0}," ",{"$f":"IFERROR($E220*SUMIF('Daily Log'!#REF!,$B220,'Daily Log'!#REF!),0)","v":0},{"$f":"IFERROR($E220*SUMIF('Daily Log'!#REF!,$B220,'Daily Log'!#REF!),0)","v":0},{"$f":"IFERROR($E220*SUMIF('Daily Log'!#REF!,$B220,'Daily Log'!#REF!),0)","v":0},{"$f":"IFERROR($E220*SUMIF('Daily Log'!#REF!,$B220,'Daily Log'!#REF!),0)","v":0},{"$f":"IFERROR($E220*SUMIF('Daily Log'!#REF!,$B220,'Daily Log'!#REF!),0)","v":0},{"$f":"IFERROR($E220*SUMIF('Daily Log'!#REF!,$B220,'Daily Log'!#REF!),0)","v":0},{"$f":"IFERROR($E220*SUMIF('Daily Log'!#REF!,$B220,'Daily Log'!#REF!),0)","v":0},{"$f":"IFERROR($E220*SUMIF('Daily Log'!#REF!,$B220,'Daily Log'!#REF!),0)","v":0},{"$f":"IFERROR($E220*SUMIF('Daily Log'!#REF!,$B220,'Daily Log'!#REF!),0)","v":0},{"$f":"IFERROR($E220*SUMIF('Daily Log'!#REF!,$B220,'Daily Log'!#REF!),0)","v":0},{"$f":"IFERROR($E220*SUMIF('Daily Log'!#REF!,$B220,'Daily Log'!#REF!),0)","v":0},{"$f":"IFERROR($E220*SUMIF('Daily Log'!#REF!,$B220,'Daily Log'!#REF!),0)","v":0},{"$f":"IFERROR($E220*SUMIF('Daily Log'!#REF!,$B220,'Daily Log'!#REF!),0)","v":0},{"$f":"IFERROR($E220*SUMIF('Daily Log'!#REF!,$B220,'Daily Log'!#REF!),0)","v":0},{"$f":"IFERROR($E220*SUMIF('Daily Log'!#REF!,$B220,'Daily Log'!#REF!),0)","v":0},{"$f":"IFERROR($E220*SUMIF('Daily Log'!$C$18:$C$1017,$B220,'Daily Log'!$D$18:$D$1017),0)","v":1},{"$f":"IFERROR($E220*SUMIF('Daily Log'!$F$18:$F$1017,$B220,'Daily Log'!$G$18:$G$1017),0)","v":1},{"$f":"IFERROR($E220*SUMIF('Daily Log'!$I$18:$I$1017,$B220,'Daily Log'!$J$18:$J$1017),0)","v":0},{"$f":"IFERROR($E220*SUMIF('Daily Log'!$L$18:$L$1017,$B220,'Daily Log'!$M$18:$M$1017),0)","v":0},{"$f":"IFERROR($E220*SUMIF('Daily Log'!$O$18:$O$1017,$B220,'Daily Log'!$P$18:$P$1017),0)","v":8},{"$f":"IFERROR($E220*SUMIF('Daily Log'!$R$18:$R$1017,$B220,'Daily Log'!$S$18:$S$1017),0)","v":3},{"$f":"IFERROR($E220*SUMIF('Daily Log'!$U$18:$U$1017,$B220,'Daily Log'!$V$18:$V$1017),0)","v":2},{"$f":"IFERROR($E220*SUMIF('Daily Log'!#REF!,$B220,'Daily Log'!#REF!),0)","v":0},{"$f":"IFERROR($E220*SUMIF('Daily Log'!#REF!,$B220,'Daily Log'!#REF!),0)","v":0},{"$f":"IFERROR($E220*SUMIF('Daily Log'!#REF!,$B220,'Daily Log'!#REF!),0)","v":0},{"$f":"IFERROR($E220*SUMIF('Daily Log'!#REF!,$B220,'Daily Log'!#REF!),0)","v":0},{"$f":"IFERROR($E220*SUMIF('Daily Log'!#REF!,$B220,'Daily Log'!#REF!),0)","v":0}]
[null,"DI03 91203:GOLD MROOM",null,"KLKD-APPETIZER",1,3,{"$f":"IFERROR($E221*SUMIF('Daily Log'!#REF!,$B221,'Daily Log'!#REF!),0)","v":0},{"$f":"IFERROR($E221*SUMIF('Daily Log'!#REF!,$B221,'Daily Log'!#REF!),0)","v":0},{"$f":"IFERROR($E221*SUMIF('Daily Log'!#REF!,$B221,'Daily Log'!#REF!),0)","v":0}," ",{"$f":"IFERROR($E221*SUMIF('Daily Log'!#REF!,$B221,'Daily Log'!#REF!),0)","v":0},{"$f":"IFERROR($E221*SUMIF('Daily Log'!#REF!,$B221,'Daily Log'!#REF!),0)","v":0},{"$f":"IFERROR($E221*SUMIF('Daily Log'!#REF!,$B221,'Daily Log'!#REF!),0)","v":0},{"$f":"IFERROR($E221*SUMIF('Daily Log'!#REF!,$B221,'Daily Log'!#REF!),0)","v":0},{"$f":"IFERROR($E221*SUMIF('Daily Log'!#REF!,$B221,'Daily Log'!#REF!),0)","v":0},{"$f":"IFERROR($E221*SUMIF('Daily Log'!#REF!,$B221,'Daily Log'!#REF!),0)","v":0},{"$f":"IFERROR($E221*SUMIF('Daily Log'!#REF!,$B221,'Daily Log'!#REF!),0)","v":0},{"$f":"IFERROR($E221*SUMIF('Daily Log'!#REF!,$B221,'Daily Log'!#REF!),0)","v":0},{"$f":"IFERROR($E221*SUMIF('Daily Log'!#REF!,$B221,'Daily Log'!#REF!),0)","v":0},{"$f":"IFERROR($E221*SUMIF('Daily Log'!#REF!,$B221,'Daily Log'!#REF!),0)","v":0},{"$f":"IFERROR($E221*SUMIF('Daily Log'!#REF!,$B221,'Daily Log'!#REF!),0)","v":0},{"$f":"IFERROR($E221*SUMIF('Daily Log'!#REF!,$B221,'Daily Log'!#REF!),0)","v":0},{"$f":"IFERROR($E221*SUMIF('Daily Log'!#REF!,$B221,'Daily Log'!#REF!),0)","v":0},{"$f":"IFERROR($E221*SUMIF('Daily Log'!#REF!,$B221,'Daily Log'!#REF!),0)","v":0},{"$f":"IFERROR($E221*SUMIF('Daily Log'!#REF!,$B221,'Daily Log'!#REF!),0)","v":0},{"$f":"IFERROR($E221*SUMIF('Daily Log'!$C$18:$C$1017,$B221,'Daily Log'!$D$18:$D$1017),0)","v":0},{"$f":"IFERROR($E221*SUMIF('Daily Log'!$F$18:$F$1017,$B221,'Daily Log'!$G$18:$G$1017),0)","v":2},{"$f":"IFERROR($E221*SUMIF('Daily Log'!$I$18:$I$1017,$B221,'Daily Log'!$J$18:$J$1017),0)","v":0},{"$f":"IFERROR($E221*SUMIF('Daily Log'!$L$18:$L$1017,$B221,'Daily Log'!$M$18:$M$1017),0)","v":0},{"$f":"IFERROR($E221*SUMIF('Daily Log'!$O$18:$O$1017,$B221,'Daily Log'!$P$18:$P$1017),0)","v":0},{"$f":"IFERROR($E221*SUMIF('Daily Log'!$R$18:$R$1017,$B221,'Daily Log'!$S$18:$S$1017),0)","v":1},{"$f":"IFERROR($E221*SUMIF('Daily Log'!$U$18:$U$1017,$B221,'Daily Log'!$V$18:$V$1017),0)","v":0},{"$f":"IFERROR($E221*SUMIF('Daily Log'!#REF!,$B221,'Daily Log'!#REF!),0)","v":0},{"$f":"IFERROR($E221*SUMIF('Daily Log'!#REF!,$B221,'Daily Log'!#REF!),0)","v":0},{"$f":"IFERROR($E221*SUMIF('Daily Log'!#REF!,$B221,'Daily Log'!#REF!),0)","v":0},{"$f":"IFERROR($E221*SUMIF('Daily Log'!#REF!,$B221,'Daily Log'!#REF!),0)","v":0},{"$f":"IFERROR($E221*SUMIF('Daily Log'!#REF!,$B221,'Daily Log'!#REF!),0)","v":0}]
[null,"DI04 91204:FISHBALL",null,"KLKD-APPETIZER",1,{"$f":"SUM($G222:$AK222)","v":5},{"$f":"IFERROR($E222*SUMIF('Daily Log'!#REF!,$B222,'Daily Log'!#REF!),0)","v":0},{"$f":"IFERROR($E222*SUMIF('Daily Log'!#REF!,$B222,'Daily Log'!#REF!),0)","v":0},{"$f":"IFERROR($E222*SUMIF('Daily Log'!#REF!,$B222,'Daily Log'!#REF!),0)","v":0}," ",{"$f":"IFERROR($E222*SUMIF('Daily Log'!#REF!,$B222,'Daily Log'!#REF!),0)","v":0},{"$f":"IFERROR($E222*SUMIF('Daily Log'!#REF!,$B222,'Daily Log'!#REF!),0)","v":0},{"$f":"IFERROR($E222*SUMIF('Daily Log'!#REF!,$B222,'Daily Log'!#REF!),0)","v":0},{"$f":"IFERROR($E222*SUMIF('Daily Log'!#REF!,$B222,'Daily Log'!#REF!),0)","v":0},{"$f":"IFERROR($E222*SUMIF('Daily Log'!#REF!,$B222,'Daily Log'!#REF!),0)","v":0},{"$f":"IFERROR($E222*SUMIF('Daily Log'!#REF!,$B222,'Daily Log'!#REF!),0)","v":0},{"$f":"IFERROR($E222*SUMIF('Daily Log'!#REF!,$B222,'Daily Log'!#REF!),0)","v":0},{"$f":"IFERROR($E222*SUMIF('Daily Log'!#REF!,$B222,'Daily Log'!#REF!),0)","v":0},{"$f":"IFERROR($E222*SUMIF('Daily Log'!#REF!,$B222,'Daily Log'!#REF!),0)","v":0},{"$f":"IFERROR($E222*SUMIF('Daily Log'!#REF!,$B222,'Daily Log'!#REF!),0)","v":0},{"$f":"IFERROR($E222*SUMIF('Daily Log'!#REF!,$B222,'Daily Log'!#REF!),0)","v":0},{"$f":"IFERROR($E222*SUMIF('Daily Log'!#REF!,$B222,'Daily Log'!#REF!),0)","v":0},{"$f":"IFERROR($E222*SUMIF('Daily Log'!#REF!,$B222,'Daily Log'!#REF!),0)","v":0},{"$f":"IFERROR($E222*SUMIF('Daily Log'!#REF!,$B222,'Daily Log'!#REF!),0)","v":0},{"$f":"IFERROR($E222*SUMIF('Daily Log'!#REF!,$B222,'Daily Log'!#REF!),0)","v":0},{"$f":"IFERROR($E222*SUMIF('Daily Log'!$C$18:$C$1017,$B222,'Daily Log'!$D$18:$D$1017),0)","v":0},{"$f":"IFERROR($E222*SUMIF('Daily Log'!$F$18:$F$1017,$B222,'Daily Log'!$G$18:$G$1017),0)","v":0},{"$f":"IFERROR($E222*SUMIF('Daily Log'!$I$18:$I$1017,$B222,'Daily Log'!$J$18:$J$1017),0)","v":0},{"$f":"IFERROR($E222*SUMIF('Daily Log'!$L$18:$L$1017,$B222,'Daily Log'!$M$18:$M$1017),0)","v":0},{"$f":"IFERROR($E222*SUMIF('Daily Log'!$O$18:$O$1017,$B222,'Daily Log'!$P$18:$P$1017),0)","v":3},{"$f":"IFERROR($E222*SUMIF('Daily Log'!$R$18:$R$1017,$B222,'Daily Log'!$S$18:$S$1017),0)","v":0},{"$f":"IFERROR($E222*SUMIF('Daily Log'!$U$18:$U$1017,$B222,'Daily Log'!$V$18:$V$1017),0)","v":2},{"$f":"IFERROR($E222*SUMIF('Daily Log'!#REF!,$B222,'Daily Log'!#REF!),0)","v":0},{"$f":"IFERROR($E222*SUMIF('Daily Log'!#REF!,$B222,'Daily Log'!#REF!),0)","v":0},{"$f":"IFERROR($E222*SUMIF('Daily Log'!#REF!,$B222,'Daily Log'!#REF!),0)","v":0},{"$f":"IFERROR($E222*SUMIF('Daily Log'!#REF!,$B222,'Daily Log'!#REF!),0)","v":0},{"$f":"IFERROR($E222*SUMIF('Daily Log'!#REF!,$B222,'Daily Log'!#REF!),0)","v":0}]
[null,"DI05 91205:RAINBOW RL",null,"KLKD-APPETIZER",1,0,{"$f":"IFERROR($E223*SUMIF('Daily Log'!#REF!,$B223,'Daily Log'!#REF!),0)","v":0},{"$f":"IFERROR($E223*SUMIF('Daily Log'!#REF!,$B223,'Daily Log'!#REF!),0)","v":0},{"$f":"IFERROR($E223*SUMIF('Daily Log'!#REF!,$B223,'Daily Log'!#REF!),0)","v":0}," ",{"$f":"IFERROR($E223*SUMIF('Daily Log'!#REF!,$B223,'Daily Log'!#REF!),0)","v":0},{"$f":"IFERROR($E223*SUMIF('Daily Log'!#REF!,$B223,'Daily Log'!#REF!),0)","v":0},{"$f":"IFERROR($E223*SUMIF('Daily Log'!#REF!,$B223,'Daily Log'!#REF!),0)","v":0},{"$f":"IFERROR($E223*SUMIF('Daily Log'!#REF!,$B223,'Daily Log'!#REF!),0)","v":0},{"$f":"IFERROR($E223*SUMIF('Daily Log'!#REF!,$B223,'Daily Log'!#REF!),0)","v":0},{"$f":"IFERROR($E223*SUMIF('Daily Log'!#REF!,$B223,'Daily Log'!#REF!),0)","v":0},{"$f":"IFERROR($E223*SUMIF('Daily Log'!#REF!,$B223,'Daily Log'!#REF!),0)","v":0},{"$f":"IFERROR($E223*SUMIF('Daily Log'!#REF!,$B223,'Daily Log'!#REF!),0)","v":0},{"$f":"IFERROR($E223*SUMIF('Daily Log'!#REF!,$B223,'Daily Log'!#REF!),0)","v":0},{"$f":"IFERROR($E223*SUMIF('Daily Log'!#REF!,$B223,'Daily Log'!#REF!),0)","v":0},{"$f":"IFERROR($E223*SUMIF('Daily Log'!#REF!,$B223,'Daily Log'!#REF!),0)","v":0},{"$f":"IFERROR($E223*SUMIF('Daily Log'!#REF!,$B223,'Daily Log'!#REF!),0)","v":0},{"$f":"IFERROR($E223*SUMIF('Daily Log'!#REF!,$B223,'Daily Log'!#REF!),0)","v":0},{"$f":"IFERROR($E223*SUMIF('Daily Log'!#REF!,$B223,'Daily Log'!#REF!),0)","v":0},{"$f":"IFERROR($E223*SUMIF('Daily Log'!#REF!,$B223,'Daily Log'!#REF!),0)","v":0},{"$f":"IFERROR($E223*SUMIF('Daily Log'!$C$18:$C$1017,$B223,'Daily Log'!$D$18:$D$1017),0)","v":0},{"$f":"IFERROR($E223*SUMIF('Daily Log'!$F$18:$F$1017,$B223,'Daily Log'!$G$18:$G$1017),0)","v":0},{"$f":"IFERROR($E223*SUMIF('Daily Log'!$I$18:$I$1017,$B223,'Daily Log'!$J$18:$J$1017),0)","v":0},{"$f":"IFERROR($E223*SUMIF('Daily Log'!$L$18:$L$1017,$B223,'Daily Log'!$M$18:$M$1017),0)","v":0},{"$f":"IFERROR($E223*SUMIF('Daily Log'!$O$18:$O$1017,$B223,'Daily Log'!$P$18:$P$1017),0)","v":0},{"$f":"IFERROR($E223*SUMIF('Daily Log'!$R$18:$R$1017,$B223,'Daily Log'!$S$18:$S$1017),0)","v":0},{"$f":"IFERROR($E223*SUMIF('Daily Log'!$U$18:$U$1017,$B223,'Daily Log'!$V$18:$V$1017),0)","v":0},{"$f":"IFERROR($E223*SUMIF('Daily Log'!#REF!,$B223,'Daily Log'!#REF!),0)","v":0},{"$f":"IFERROR($E223*SUMIF('Daily Log'!#REF!,$B223,'Daily Log'!#REF!),0)","v":0},{"$f":"IFERROR($E223*SUMIF('Daily Log'!#REF!,$B223,'Daily Log'!#REF!),0)","v":0},{"$f":"IFERROR($E223*SUMIF('Daily Log'!#REF!,$B223,'Daily Log'!#REF!),0)","v":0},{"$f":"IFERROR($E223*SUMIF('Daily Log'!#REF!,$B223,'Daily Log'!#REF!),0)","v":0}]
[null,"DI06 91206:SPRING RL",null,"KLKD-APPETIZER",1,9,{"$f":"IFERROR($E224*SUMIF('Daily Log'!#REF!,$B224,'Daily Log'!#REF!),0)","v":0},{"$f":"IFERROR($E224*SUMIF('Daily Log'!#REF!,$B224,'Daily Log'!#REF!),0)","v":0},{"$f":"IFERROR($E224*SUMIF('Daily Log'!#REF!,$B224,'Daily Log'!#REF!),0)","v":0}," ",{"$f":"IFERROR($E224*SUMIF('Daily Log'!#REF!,$B224,'Daily Log'!#REF!),0)","v":0},{"$f":"IFERROR($E224*SUMIF('Daily Log'!#REF!,$B224,'Daily Log'!#REF!),0)","v":0},{"$f":"IFERROR($E224*SUMIF('Daily Log'!#REF!,$B224,'Daily Log'!#REF!),0)","v":0},{"$f":"IFERROR($E224*SUMIF('Daily Log'!#REF!,$B224,'Daily Log'!#REF!),0)","v":0},{"$f":"IFERROR($E224*SUMIF('Daily Log'!#REF!,$B224,'Daily Log'!#REF!),0)","v":0},{"$f":"IFERROR($E224*SUMIF('Daily Log'!#REF!,$B224,'Daily Log'!#REF!),0)","v":0},{"$f":"IFERROR($E224*SUMIF('Daily Log'!#REF!,$B224,'Daily Log'!#REF!),0)","v":0},{"$f":"IFERROR($E224*SUMIF('Daily Log'!#REF!,$B224,'Daily Log'!#REF!),0)","v":0},{"$f":"IFERROR($E224*SUMIF('Daily Log'!#REF!,$B224,'Daily Log'!#REF!),0)","v":0},{"$f":"IFERROR($E224*SUMIF('Daily Log'!#REF!,$B224,'Daily Log'!#REF!),0)","v":0},{"$f":"IFERROR($E224*SUMIF('Daily Log'!#REF!,$B224,'Daily Log'!#REF!),0)","v":0},{"$f":"IFERROR($E224*SUMIF('Daily Log'!#REF!,$B224,'Daily Log'!#REF!),0)","v":0},{"$f":"IFERROR($E224*SUMIF('Daily Log'!#REF!,$B224,'Daily Log'!#REF!),0)","v":0},{"$f":"IFERROR($E224*SUMIF('Daily Log'!#REF!,$B224,'Daily Log'!#REF!),0)","v":0},{"$f":"IFERROR($E224*SUMIF('Daily Log'!#REF!,$B224,'Daily Log'!#REF!),0)","v":0},{"$f":"IFERROR($E224*SUMIF('Daily Log'!$C$18:$C$1017,$B224,'Daily Log'!$D$18:$D$1017),0)","v":0},{"$f":"IFERROR($E224*SUMIF('Daily Log'!$F$18:$F$1017,$B224,'Daily Log'!$G$18:$G$1017),0)","v":0},{"$f":"IFERROR($E224*SUMIF('Daily Log'!$I$18:$I$1017,$B224,'Daily Log'!$J$18:$J$1017),0)","v":0},{"$f":"IFERROR($E224*SUMIF('Daily Log'!$L$18:$L$1017,$B224,'Daily Log'!$M$18:$M$1017),0)","v":0},{"$f":"IFERROR($E224*SUMIF('Daily Log'!$O$18:$O$1017,$B224,'Daily Log'!$P$18:$P$1017),0)","v":4},{"$f":"IFERROR($E224*SUMIF('Daily Log'!$R$18:$R$1017,$B224,'Daily Log'!$S$18:$S$1017),0)","v":1},{"$f":"IFERROR($E224*SUMIF('Daily Log'!$U$18:$U$1017,$B224,'Daily Log'!$V$18:$V$1017),0)","v":4},{"$f":"IFERROR($E224*SUMIF('Daily Log'!#REF!,$B224,'Daily Log'!#REF!),0)","v":0},{"$f":"IFERROR($E224*SUMIF('Daily Log'!#REF!,$B224,'Daily Log'!#REF!),0)","v":0},{"$f":"IFERROR($E224*SUMIF('Daily Log'!#REF!,$B224,'Daily Log'!#REF!),0)","v":0},{"$f":"IFERROR($E224*SUMIF('Daily Log'!#REF!,$B224,'Daily Log'!#REF!),0)","v":0},{"$f":"IFERROR($E224*SUMIF('Daily Log'!#REF!,$B224,'Daily Log'!#REF!),0)","v":0}]
[null,"DI07 91207:SAUSAGE",null,"KLKD-APPETIZER",1,6,{"$f":"IFERROR($E225*SUMIF('Daily Log'!#REF!,$B225,'Daily Log'!#REF!),0)","v":0},{"$f":"IFERROR($E225*SUMIF('Daily Log'!#REF!,$B225,'Daily Log'!#REF!),0)","v":0},{"$f":"IFERROR($E225*SUMIF('Daily Log'!#REF!,$B225,'Daily Log'!#REF!),0)","v":0}," ",{"$f":"IFERROR($E225*SUMIF('Daily Log'!#REF!,$B225,'Daily Log'!#REF!),0)","v":0},{"$f":"IFERROR($E225*SUMIF('Daily Log'!#REF!,$B225,'Daily Log'!#REF!),0)","v":0},{"$f":"IFERROR($E225*SUMIF('Daily Log'!#REF!,$B225,'Daily Log'!#REF!),0)","v":0},{"$f":"IFERROR($E225*SUMIF('Daily Log'!#REF!,$B225,'Daily Log'!#REF!),0)","v":0},{"$f":"IFERROR($E225*SUMIF('Daily Log'!#REF!,$B225,'Daily Log'!#REF!),0)","v":0},{"$f":"IFERROR($E225*SUMIF('Daily Log'!#REF!,$B225,'Daily Log'!#REF!),0)","v":0},{"$f":"IFERROR($E225*SUMIF('Daily Log'!#REF!,$B225,'Daily Log'!#REF!),0)","v":0},{"$f":"IFERROR($E225*SUMIF('Daily Log'!#REF!,$B225,'Daily Log'!#REF!),0)","v":0},{"$f":"IFERROR($E225*SUMIF('Daily Log'!#REF!,$B225,'Daily Log'!#REF!),0)","v":0},{"$f":"IFERROR($E225*SUMIF('Daily Log'!#REF!,$B225,'Daily Log'!#REF!),0)","v":0},{"$f":"IFERROR($E225*SUMIF('Daily Log'!#REF!,$B225,'Daily Log'!#REF!),0)","v":0},{"$f":"IFERROR($E225*SUMIF('Daily Log'!#REF!,$B225,'Daily Log'!#REF!),0)","v":0},{"$f":"IFERROR($E225*SUMIF('Daily Log'!#REF!,$B225,'Daily Log'!#REF!),0)","v":0},{"$f":"IFERROR($E225*SUMIF('Daily Log'!#REF!,$B225,'Daily Log'!#REF!),0)","v":0},{"$f":"IFERROR($E225*SUMIF('Daily Log'!#REF!,$B225,'Daily Log'!#REF!),0)","v":0},{"$f":"IFERROR($E225*SUMIF('Daily Log'!$C$18:$C$1017,$B225,'Daily Log'!$D$18:$D$1017),0)","v":1},{"$f":"IFERROR($E225*SUMIF('Daily Log'!$F$18:$F$1017,$B225,'Daily Log'!$G$18:$G$1017),0)","v":0},{"$f":"IFERROR($E225*SUMIF('Daily Log'!$I$18:$I$1017,$B225,'Daily Log'!$J$18:$J$1017),0)","v":0},{"$f":"IFERROR($E225*SUMIF('Daily Log'!$L$18:$L$1017,$B225,'Daily Log'!$M$18:$M$1017),0)","v":1},{"$f":"IFERROR($E225*SUMIF('Daily Log'!$O$18:$O$1017,$B225,'Daily Log'!$P$18:$P$1017),0)","v":3},{"$f":"IFERROR($E225*SUMIF('Daily Log'!$R$18:$R$1017,$B225,'Daily Log'!$S$18:$S$1017),0)","v":1},{"$f":"IFERROR($E225*SUMIF('Daily Log'!$U$18:$U$1017,$B225,'Daily Log'!$V$18:$V$1017),0)","v":0},{"$f":"IFERROR($E225*SUMIF('Daily Log'!#REF!,$B225,'Daily Log'!#REF!),0)","v":0},{"$f":"IFERROR($E225*SUMIF('Daily Log'!#REF!,$B225,'Daily Log'!#REF!),0)","v":0},{"$f":"IFERROR($E225*SUMIF('Daily Log'!#REF!,$B225,'Daily Log'!#REF!),0)","v":0},{"$f":"IFERROR($E225*SUMIF('Daily Log'!#REF!,$B225,'Daily Log'!#REF!),0)","v":0},{"$f":"IFERROR($E225*SUMIF('Daily Log'!#REF!,$B225,'Daily Log'!#REF!),0)","v":0}]
[null,"DI08 91208:HOTDOG BUN",null,"KLKD-APPETIZER",1,0,{"$f":"IFERROR($E226*SUMIF('Daily Log'!#REF!,$B226,'Daily Log'!#REF!),0)","v":0},{"$f":"IFERROR($E226*SUMIF('Daily Log'!#REF!,$B226,'Daily Log'!#REF!),0)","v":0},{"$f":"IFERROR($E226*SUMIF('Daily Log'!#REF!,$B226,'Daily Log'!#REF!),0)","v":0}," ",{"$f":"IFERROR($E226*SUMIF('Daily Log'!#REF!,$B226,'Daily Log'!#REF!),0)","v":0},{"$f":"IFERROR($E226*SUMIF('Daily Log'!#REF!,$B226,'Daily Log'!#REF!),0)","v":0},{"$f":"IFERROR($E226*SUMIF('Daily Log'!#REF!,$B226,'Daily Log'!#REF!),0)","v":0},{"$f":"IFERROR($E226*SUMIF('Daily Log'!#REF!,$B226,'Daily Log'!#REF!),0)","v":0},{"$f":"IFERROR($E226*SUMIF('Daily Log'!#REF!,$B226,'Daily Log'!#REF!),0)","v":0},{"$f":"IFERROR($E226*SUMIF('Daily Log'!#REF!,$B226,'Daily Log'!#REF!),0)","v":0},{"$f":"IFERROR($E226*SUMIF('Daily Log'!#REF!,$B226,'Daily Log'!#REF!),0)","v":0},{"$f":"IFERROR($E226*SUMIF('Daily Log'!#REF!,$B226,'Daily Log'!#REF!),0)","v":0},{"$f":"IFERROR($E226*SUMIF('Daily Log'!#REF!,$B226,'Daily Log'!#REF!),0)","v":0},{"$f":"IFERROR($E226*SUMIF('Daily Log'!#REF!,$B226,'Daily Log'!#REF!),0)","v":0},{"$f":"IFERROR($E226*SUMIF('Daily Log'!#REF!,$B226,'Daily Log'!#REF!),0)","v":0},{"$f":"IFERROR($E226*SUMIF('Daily Log'!#REF!,$B226,'Daily Log'!#REF!),0)","v":0},{"$f":"IFERROR($E226*SUMIF('Daily Log'!#REF!,$B226,'Daily Log'!#REF!),0)","v":0},{"$f":"IFERROR($E226*SUMIF('Daily Log'!#REF!,$B226,'Daily Log'!#REF!),0)","v":0},{"$f":"IFERROR($E226*SUMIF('Daily Log'!#REF!,$B226,'Daily Log'!#REF!),0)","v":0},{"$f":"IFERROR($E226*SUMIF('Daily Log'!$C$18:$C$1017,$B226,'Daily Log'!$D$18:$D$1017),0)","v":0},{"$f":"IFERROR($E226*SUMIF('Daily Log'!$F$18:$F$1017,$B226,'Daily Log'!$G$18:$G$1017),0)","v":0},{"$f":"IFERROR($E226*SUMIF('Daily Log'!$I$18:$I$1017,$B226,'Daily Log'!$J$18:$J$1017),0)","v":0},{"$f":"IFERROR($E226*SUMIF('Daily Log'!$L$18:$L$1017,$B226,'Daily Log'!$M$18:$M$1017),0)","v":0},{"$f":"IFERROR($E226*SUMIF('Daily Log'!$O$18:$O$1017,$B226,'Daily Log'!$P$18:$P$1017),0)","v":0},{"$f":"IFERROR($E226*SUMIF('Daily Log'!$R$18:$R$1017,$B226,'Daily Log'!$S$18:$S$1017),0)","v":0},{"$f":"IFERROR($E226*SUMIF('Daily Log'!$U$18:$U$1017,$B226,'Daily Log'!$V$18:$V$1017),0)","v":0},{"$f":"IFERROR($E226*SUMIF('Daily Log'!#REF!,$B226,'Daily Log'!#REF!),0)","v":0},{"$f":"IFERROR($E226*SUMIF('Daily Log'!#REF!,$B226,'Daily Log'!#REF!),0)","v":0},{"$f":"IFERROR($E226*SUMIF('Daily Log'!#REF!,$B226,'Daily Log'!#REF!),0)","v":0},{"$f":"IFERROR($E226*SUMIF('Daily Log'!#REF!,$B226,'Daily Log'!#REF!),0)","v":0},{"$f":"IFERROR($E226*SUMIF('Daily Log'!#REF!,$B226,'Daily Log'!#REF!),0)","v":0}]
[null,"DI09 91209:SFD TOFU",null,"KLKD-APPETIZER",1,0,{"$f":"IFERROR($E227*SUMIF('Daily Log'!#REF!,$B227,'Daily Log'!#REF!),0)","v":0},{"$f":"IFERROR($E227*SUMIF('Daily Log'!#REF!,$B227,'Daily Log'!#REF!),0)","v":0},{"$f":"IFERROR($E227*SUMIF('Daily Log'!#REF!,$B227,'Daily Log'!#REF!),0)","v":0}," ",{"$f":"IFERROR($E227*SUMIF('Daily Log'!#REF!,$B227,'Daily Log'!#REF!),0)","v":0},{"$f":"IFERROR($E227*SUMIF('Daily Log'!#REF!,$B227,'Daily Log'!#REF!),0)","v":0},{"$f":"IFERROR($E227*SUMIF('Daily Log'!#REF!,$B227,'Daily Log'!#REF!),0)","v":0},{"$f":"IFERROR($E227*SUMIF('Daily Log'!#REF!,$B227,'Daily Log'!#REF!),0)","v":0},{"$f":"IFERROR($E227*SUMIF('Daily Log'!#REF!,$B227,'Daily Log'!#REF!),0)","v":0},{"$f":"IFERROR($E227*SUMIF('Daily Log'!#REF!,$B227,'Daily Log'!#REF!),0)","v":0},{"$f":"IFERROR($E227*SUMIF('Daily Log'!#REF!,$B227,'Daily Log'!#REF!),0)","v":0},{"$f":"IFERROR($E227*SUMIF('Daily Log'!#REF!,$B227,'Daily Log'!#REF!),0)","v":0},{"$f":"IFERROR($E227*SUMIF('Daily Log'!#REF!,$B227,'Daily Log'!#REF!),0)","v":0},{"$f":"IFERROR($E227*SUMIF('Daily Log'!#REF!,$B227,'Daily Log'!#REF!),0)","v":0},{"$f":"IFERROR($E227*SUMIF('Daily Log'!#REF!,$B227,'Daily Log'!#REF!),0)","v":0},{"$f":"IFERROR($E227*SUMIF('Daily Log'!#REF!,$B227,'Daily Log'!#REF!),0)","v":0},{"$f":"IFERROR($E227*SUMIF('Daily Log'!#REF!,$B227,'Daily Log'!#REF!),0)","v":0},{"$f":"IFERROR($E227*SUMIF('Daily Log'!#REF!,$B227,'Daily Log'!#REF!),0)","v":0},{"$f":"IFERROR($E227*SUMIF('Daily Log'!#REF!,$B227,'Daily Log'!#REF!),0)","v":0},{"$f":"IFERROR($E227*SUMIF('Daily Log'!$C$18:$C$1017,$B227,'Daily Log'!$D$18:$D$1017),0)","v":0},{"$f":"IFERROR($E227*SUMIF('Daily Log'!$F$18:$F$1017,$B227,'Daily Log'!$G$18:$G$1017),0)","v":0},{"$f":"IFERROR($E227*SUMIF('Daily Log'!$I$18:$I$1017,$B227,'Daily Log'!$J$18:$J$1017),0)","v":0},{"$f":"IFERROR($E227*SUMIF('Daily Log'!$L$18:$L$1017,$B227,'Daily Log'!$M$18:$M$1017),0)","v":0},{"$f":"IFERROR($E227*SUMIF('Daily Log'!$O$18:$O$1017,$B227,'Daily Log'!$P$18:$P$1017),0)","v":0},{"$f":"IFERROR($E227*SUMIF('Daily Log'!$R$18:$R$1017,$B227,'Daily Log'!$S$18:$S$1017),0)","v":0},{"$f":"IFERROR($E227*SUMIF('Daily Log'!$U$18:$U$1017,$B227,'Daily Log'!$V$18:$V$1017),0)","v":0},{"$f":"IFERROR($E227*SUMIF('Daily Log'!#REF!,$B227,'Daily Log'!#REF!),0)","v":0},{"$f":"IFERROR($E227*SUMIF('Daily Log'!#REF!,$B227,'Daily Log'!#REF!),0)","v":0},{"$f":"IFERROR($E227*SUMIF('Daily Log'!#REF!,$B227,'Daily Log'!#REF!),0)","v":0},{"$f":"IFERROR($E227*SUMIF('Daily Log'!#REF!,$B227,'Daily Log'!#REF!),0)","v":0},{"$f":"IFERROR($E227*SUMIF('Daily Log'!#REF!,$B227,'Daily Log'!#REF!),0)","v":0}]
[null,"DI10 91301:DUMPLING",null,"KLKD-APPETIZER",1,10,{"$f":"IFERROR($E228*SUMIF('Daily Log'!#REF!,$B228,'Daily Log'!#REF!),0)","v":0},{"$f":"IFERROR($E228*SUMIF('Daily Log'!#REF!,$B228,'Daily Log'!#REF!),0)","v":0},{"$f":"IFERROR($E228*SUMIF('Daily Log'!#REF!,$B228,'Daily Log'!#REF!),0)","v":0}," ",{"$f":"IFERROR($E228*SUMIF('Daily Log'!#REF!,$B228,'Daily Log'!#REF!),0)","v":0},{"$f":"IFERROR($E228*SUMIF('Daily Log'!#REF!,$B228,'Daily Log'!#REF!),0)","v":0},{"$f":"IFERROR($E228*SUMIF('Daily Log'!#REF!,$B228,'Daily Log'!#REF!),0)","v":0},{"$f":"IFERROR($E228*SUMIF('Daily Log'!#REF!,$B228,'Daily Log'!#REF!),0)","v":0},{"$f":"IFERROR($E228*SUMIF('Daily Log'!#REF!,$B228,'Daily Log'!#REF!),0)","v":0},{"$f":"IFERROR($E228*SUMIF('Daily Log'!#REF!,$B228,'Daily Log'!#REF!),0)","v":0},{"$f":"IFERROR($E228*SUMIF('Daily Log'!#REF!,$B228,'Daily Log'!#REF!),0)","v":0},{"$f":"IFERROR($E228*SUMIF('Daily Log'!#REF!,$B228,'Daily Log'!#REF!),0)","v":0},{"$f":"IFERROR($E228*SUMIF('Daily Log'!#REF!,$B228,'Daily Log'!#REF!),0)","v":0},{"$f":"IFERROR($E228*SUMIF('Daily Log'!#REF!,$B228,'Daily Log'!#REF!),0)","v":0},{"$f":"IFERROR($E228*SUMIF('Daily Log'!#REF!,$B228,'Daily Log'!#REF!),0)","v":0},{"$f":"IFERROR($E228*SUMIF('Daily Log'!#REF!,$B228,'Daily Log'!#REF!),0)","v":0},{"$f":"IFERROR($E228*SUMIF('Daily Log'!#REF!,$B228,'Daily Log'!#REF!),0)","v":0},{"$f":"IFERROR($E228*SUMIF('Daily Log'!#REF!,$B228,'Daily Log'!#REF!),0)","v":0},{"$f":"IFERROR($E228*SUMIF('Daily Log'!#REF!,$B228,'Daily Log'!#REF!),0)","v":0},{"$f":"IFERROR($E228*SUMIF('Daily Log'!$C$18:$C$1017,$B228,'Daily Log'!$D$18:$D$1017),0)","v":0},{"$f":"IFERROR($E228*SUMIF('Daily Log'!$F$18:$F$1017,$B228,'Daily Log'!$G$18:$G$1017),0)","v":0},{"$f":"IFERROR($E228*SUMIF('Daily Log'!$I$18:$I$1017,$B228,'Daily Log'!$J$18:$J$1017),0)","v":0},{"$f":"IFERROR($E228*SUMIF('Daily Log'!$L$18:$L$1017,$B228,'Daily Log'!$M$18:$M$1017),0)","v":1},{"$f":"IFERROR($E228*SUMIF('Daily Log'!$O$18:$O$1017,$B228,'Daily Log'!$P$18:$P$1017),0)","v":4},{"$f":"IFERROR($E228*SUMIF('Daily Log'!$R$18:$R$1017,$B228,'Daily Log'!$S$18:$S$1017),0)","v":1},{"$f":"IFERROR($E228*SUMIF('Daily Log'!$U$18:$U$1017,$B228,'Daily Log'!$V$18:$V$1017),0)","v":4},{"$f":"IFERROR($E228*SUMIF('Daily Log'!#REF!,$B228,'Daily Log'!#REF!),0)","v":0},{"$f":"IFERROR($E228*SUMIF('Daily Log'!#REF!,$B228,'Daily Log'!#REF!),0)","v":0},{"$f":"IFERROR($E228*SUMIF('Daily Log'!#REF!,$B228,'Daily Log'!#REF!),0)","v":0},{"$f":"IFERROR($E228*SUMIF('Daily Log'!#REF!,$B228,'Daily Log'!#REF!),0)","v":0},{"$f":"IFERROR($E228*SUMIF('Daily Log'!#REF!,$B228,'Daily Log'!#REF!),0)","v":0}]
[null,"DI11 91302:NUGGET",null,"KLKD-APPETIZER",1,32,{"$f":"IFERROR($E229*SUMIF('Daily Log'!#REF!,$B229,'Daily Log'!#REF!),0)","v":0},{"$f":"IFERROR($E229*SUMIF('Daily Log'!#REF!,$B229,'Daily Log'!#REF!),0)","v":0},{"$f":"IFERROR($E229*SUMIF('Daily Log'!#REF!,$B229,'Daily Log'!#REF!),0)","v":0}," ",{"$f":"IFERROR($E229*SUMIF('Daily Log'!#REF!,$B229,'Daily Log'!#REF!),0)","v":0},{"$f":"IFERROR($E229*SUMIF('Daily Log'!#REF!,$B229,'Daily Log'!#REF!),0)","v":0},{"$f":"IFERROR($E229*SUMIF('Daily Log'!#REF!,$B229,'Daily Log'!#REF!),0)","v":0},{"$f":"IFERROR($E229*SUMIF('Daily Log'!#REF!,$B229,'Daily Log'!#REF!),0)","v":0},{"$f":"IFERROR($E229*SUMIF('Daily Log'!#REF!,$B229,'Daily Log'!#REF!),0)","v":0},{"$f":"IFERROR($E229*SUMIF('Daily Log'!#REF!,$B229,'Daily Log'!#REF!),0)","v":0},{"$f":"IFERROR($E229*SUMIF('Daily Log'!#REF!,$B229,'Daily Log'!#REF!),0)","v":0},{"$f":"IFERROR($E229*SUMIF('Daily Log'!#REF!,$B229,'Daily Log'!#REF!),0)","v":0},{"$f":"IFERROR($E229*SUMIF('Daily Log'!#REF!,$B229,'Daily Log'!#REF!),0)","v":0},{"$f":"IFERROR($E229*SUMIF('Daily Log'!#REF!,$B229,'Daily Log'!#REF!),0)","v":0},{"$f":"IFERROR($E229*SUMIF('Daily Log'!#REF!,$B229,'Daily Log'!#REF!),0)","v":0},{"$f":"IFERROR($E229*SUMIF('Daily Log'!#REF!,$B229,'Daily Log'!#REF!),0)","v":0},{"$f":"IFERROR($E229*SUMIF('Daily Log'!#REF!,$B229,'Daily Log'!#REF!),0)","v":0},{"$f":"IFERROR($E229*SUMIF('Daily Log'!#REF!,$B229,'Daily Log'!#REF!),0)","v":0},{"$f":"IFERROR($E229*SUMIF('Daily Log'!#REF!,$B229,'Daily Log'!#REF!),0)","v":0},{"$f":"IFERROR($E229*SUMIF('Daily Log'!$C$18:$C$1017,$B229,'Daily Log'!$D$18:$D$1017),0)","v":3},{"$f":"IFERROR($E229*SUMIF('Daily Log'!$F$18:$F$1017,$B229,'Daily Log'!$G$18:$G$1017),0)","v":1},{"$f":"IFERROR($E229*SUMIF('Daily Log'!$I$18:$I$1017,$B229,'Daily Log'!$J$18:$J$1017),0)","v":1},{"$f":"IFERROR($E229*SUMIF('Daily Log'!$L$18:$L$1017,$B229,'Daily Log'!$M$18:$M$1017),0)","v":5},{"$f":"IFERROR($E229*SUMIF('Daily Log'!$O$18:$O$1017,$B229,'Daily Log'!$P$18:$P$1017),0)","v":8},{"$f":"IFERROR($E229*SUMIF('Daily Log'!$R$18:$R$1017,$B229,'Daily Log'!$S$18:$S$1017),0)","v":7},{"$f":"IFERROR($E229*SUMIF('Daily Log'!$U$18:$U$1017,$B229,'Daily Log'!$V$18:$V$1017),0)","v":7},{"$f":"IFERROR($E229*SUMIF('Daily Log'!#REF!,$B229,'Daily Log'!#REF!),0)","v":0},{"$f":"IFERROR($E229*SUMIF('Daily Log'!#REF!,$B229,'Daily Log'!#REF!),0)","v":0},{"$f":"IFERROR($E229*SUMIF('Daily Log'!#REF!,$B229,'Daily Log'!#REF!),0)","v":0},{"$f":"IFERROR($E229*SUMIF('Daily Log'!#REF!,$B229,'Daily Log'!#REF!),0)","v":0},{"$f":"IFERROR($E229*SUMIF('Daily Log'!#REF!,$B229,'Daily Log'!#REF!),0)","v":0}]
[null,"DI12 91303:CHK WING",null,"KLKD-APPETIZER",1,27,{"$f":"IFERROR($E230*SUMIF('Daily Log'!#REF!,$B230,'Daily Log'!#REF!),0)","v":0},{"$f":"IFERROR($E230*SUMIF('Daily Log'!#REF!,$B230,'Daily Log'!#REF!),0)","v":0},{"$f":"IFERROR($E230*SUMIF('Daily Log'!#REF!,$B230,'Daily Log'!#REF!),0)","v":0}," ",{"$f":"IFERROR($E230*SUMIF('Daily Log'!#REF!,$B230,'Daily Log'!#REF!),0)","v":0},{"$f":"IFERROR($E230*SUMIF('Daily Log'!#REF!,$B230,'Daily Log'!#REF!),0)","v":0},{"$f":"IFERROR($E230*SUMIF('Daily Log'!#REF!,$B230,'Daily Log'!#REF!),0)","v":0},{"$f":"IFERROR($E230*SUMIF('Daily Log'!#REF!,$B230,'Daily Log'!#REF!),0)","v":0},{"$f":"IFERROR($E230*SUMIF('Daily Log'!#REF!,$B230,'Daily Log'!#REF!),0)","v":0},{"$f":"IFERROR($E230*SUMIF('Daily Log'!#REF!,$B230,'Daily Log'!#REF!),0)","v":0},{"$f":"IFERROR($E230*SUMIF('Daily Log'!#REF!,$B230,'Daily Log'!#REF!),0)","v":0},{"$f":"IFERROR($E230*SUMIF('Daily Log'!#REF!,$B230,'Daily Log'!#REF!),0)","v":0},{"$f":"IFERROR($E230*SUMIF('Daily Log'!#REF!,$B230,'Daily Log'!#REF!),0)","v":0},{"$f":"IFERROR($E230*SUMIF('Daily Log'!#REF!,$B230,'Daily Log'!#REF!),0)","v":0},{"$f":"IFERROR($E230*SUMIF('Daily Log'!#REF!,$B230,'Daily Log'!#REF!),0)","v":0},{"$f":"IFERROR($E230*SUMIF('Daily Log'!#REF!,$B230,'Daily Log'!#REF!),0)","v":0},{"$f":"IFERROR($E230*SUMIF('Daily Log'!#REF!,$B230,'Daily Log'!#REF!),0)","v":0},{"$f":"IFERROR($E230*SUMIF('Daily Log'!#REF!,$B230,'Daily Log'!#REF!),0)","v":0},{"$f":"IFERROR($E230*SUMIF('Daily Log'!#REF!,$B230,'Daily Log'!#REF!),0)","v":0},{"$f":"IFERROR($E230*SUMIF('Daily Log'!$C$18:$C$1017,$B230,'Daily Log'!$D$18:$D$1017),0)","v":3},{"$f":"IFERROR($E230*SUMIF('Daily Log'!$F$18:$F$1017,$B230,'Daily Log'!$G$18:$G$1017),0)","v":0},{"$f":"IFERROR($E230*SUMIF('Daily Log'!$I$18:$I$1017,$B230,'Daily Log'!$J$18:$J$1017),0)","v":3},{"$f":"IFERROR($E230*SUMIF('Daily Log'!$L$18:$L$1017,$B230,'Daily Log'!$M$18:$M$1017),0)","v":4},{"$f":"IFERROR($E230*SUMIF('Daily Log'!$O$18:$O$1017,$B230,'Daily Log'!$P$18:$P$1017),0)","v":7},{"$f":"IFERROR($E230*SUMIF('Daily Log'!$R$18:$R$1017,$B230,'Daily Log'!$S$18:$S$1017),0)","v":3},{"$f":"IFERROR($E230*SUMIF('Daily Log'!$U$18:$U$1017,$B230,'Daily Log'!$V$18:$V$1017),0)","v":7},{"$f":"IFERROR($E230*SUMIF('Daily Log'!#REF!,$B230,'Daily Log'!#REF!),0)","v":0},{"$f":"IFERROR($E230*SUMIF('Daily Log'!#REF!,$B230,'Daily Log'!#REF!),0)","v":0},{"$f":"IFERROR($E230*SUMIF('Daily Log'!#REF!,$B230,'Daily Log'!#REF!),0)","v":0},{"$f":"IFERROR($E230*SUMIF('Daily Log'!#REF!,$B230,'Daily Log'!#REF!),0)","v":0},{"$f":"IFERROR($E230*SUMIF('Daily Log'!#REF!,$B230,'Daily Log'!#REF!),0)","v":0}]
[null,"DI13 91304:IKAN BILIS",null,"KLKD-APPETIZER",1,3,{"$f":"IFERROR($E231*SUMIF('Daily Log'!#REF!,$B231,'Daily Log'!#REF!),0)","v":0},{"$f":"IFERROR($E231*SUMIF('Daily Log'!#REF!,$B231,'Daily Log'!#REF!),0)","v":0},{"$f":"IFERROR($E231*SUMIF('Daily Log'!#REF!,$B231,'Daily Log'!#REF!),0)","v":0}," ",{"$f":"IFERROR($E231*SUMIF('Daily Log'!#REF!,$B231,'Daily Log'!#REF!),0)","v":0},{"$f":"IFERROR($E231*SUMIF('Daily Log'!#REF!,$B231,'Daily Log'!#REF!),0)","v":0},{"$f":"IFERROR($E231*SUMIF('Daily Log'!#REF!,$B231,'Daily Log'!#REF!),0)","v":0},{"$f":"IFERROR($E231*SUMIF('Daily Log'!#REF!,$B231,'Daily Log'!#REF!),0)","v":0},{"$f":"IFERROR($E231*SUMIF('Daily Log'!#REF!,$B231,'Daily Log'!#REF!),0)","v":0},{"$f":"IFERROR($E231*SUMIF('Daily Log'!#REF!,$B231,'Daily Log'!#REF!),0)","v":0},{"$f":"IFERROR($E231*SUMIF('Daily Log'!#REF!,$B231,'Daily Log'!#REF!),0)","v":0},{"$f":"IFERROR($E231*SUMIF('Daily Log'!#REF!,$B231,'Daily Log'!#REF!),0)","v":0},{"$f":"IFERROR($E231*SUMIF('Daily Log'!#REF!,$B231,'Daily Log'!#REF!),0)","v":0},{"$f":"IFERROR($E231*SUMIF('Daily Log'!#REF!,$B231,'Daily Log'!#REF!),0)","v":0},{"$f":"IFERROR($E231*SUMIF('Daily Log'!#REF!,$B231,'Daily Log'!#REF!),0)","v":0},{"$f":"IFERROR($E231*SUMIF('Daily Log'!#REF!,$B231,'Daily Log'!#REF!),0)","v":0},{"$f":"IFERROR($E231*SUMIF('Daily Log'!#REF!,$B231,'Daily Log'!#REF!),0)","v":0},{"$f":"IFERROR($E231*SUMIF('Daily Log'!#REF!,$B231,'Daily Log'!#REF!),0)","v":0},{"$f":"IFERROR($E231*SUMIF('Daily Log'!#REF!,$B231,'Daily Log'!#REF!),0)","v":0},{"$f":"IFERROR($E231*SUMIF('Daily Log'!$C$18:$C$1017,$B231,'Daily Log'!$D$18:$D$1017),0)","v":0},{"$f":"IFERROR($E231*SUMIF('Daily Log'!$F$18:$F$1017,$B231,'Daily Log'!$G$18:$G$1017),0)","v":0},{"$f":"IFERROR($E231*SUMIF('Daily Log'!$I$18:$I$1017,$B231,'Daily Log'!$J$18:$J$1017),0)","v":0},{"$f":"IFERROR($E231*SUMIF('Daily Log'!$L$18:$L$1017,$B231,'Daily Log'!$M$18:$M$1017),0)","v":2},{"$f":"IFERROR($E231*SUMIF('Daily Log'!$O$18:$O$1017,$B231,'Daily Log'!$P$18:$P$1017),0)","v":1},{"$f":"IFERROR($E231*SUMIF('Daily Log'!$R$18:$R$1017,$B231,'Daily Log'!$S$18:$S$1017),0)","v":0},{"$f":"IFERROR($E231*SUMIF('Daily Log'!$U$18:$U$1017,$B231,'Daily Log'!$V$18:$V$1017),0)","v":0},{"$f":"IFERROR($E231*SUMIF('Daily Log'!#REF!,$B231,'Daily Log'!#REF!),0)","v":0},{"$f":"IFERROR($E231*SUMIF('Daily Log'!#REF!,$B231,'Daily Log'!#REF!),0)","v":0},{"$f":"IFERROR($E231*SUMIF('Daily Log'!#REF!,$B231,'Daily Log'!#REF!),0)","v":0},{"$f":"IFERROR($E231*SUMIF('Daily Log'!#REF!,$B231,'Daily Log'!#REF!),0)","v":0},{"$f":"IFERROR($E231*SUMIF('Daily Log'!#REF!,$B231,'Daily Log'!#REF!),0)","v":0}]
[null,"DI14 91305:THAI RL",null,"KLKD-APPETIZER",1,1,{"$f":"IFERROR($E232*SUMIF('Daily Log'!#REF!,$B232,'Daily Log'!#REF!),0)","v":0},{"$f":"IFERROR($E232*SUMIF('Daily Log'!#REF!,$B232,'Daily Log'!#REF!),0)","v":0},{"$f":"IFERROR($E232*SUMIF('Daily Log'!#REF!,$B232,'Daily Log'!#REF!),0)","v":0}," ",{"$f":"IFERROR($E232*SUMIF('Daily Log'!#REF!,$B232,'Daily Log'!#REF!),0)","v":0},{"$f":"IFERROR($E232*SUMIF('Daily Log'!#REF!,$B232,'Daily Log'!#REF!),0)","v":0},{"$f":"IFERROR($E232*SUMIF('Daily Log'!#REF!,$B232,'Daily Log'!#REF!),0)","v":0},{"$f":"IFERROR($E232*SUMIF('Daily Log'!#REF!,$B232,'Daily Log'!#REF!),0)","v":0},{"$f":"IFERROR($E232*SUMIF('Daily Log'!#REF!,$B232,'Daily Log'!#REF!),0)","v":0},{"$f":"IFERROR($E232*SUMIF('Daily Log'!#REF!,$B232,'Daily Log'!#REF!),0)","v":0},{"$f":"IFERROR($E232*SUMIF('Daily Log'!#REF!,$B232,'Daily Log'!#REF!),0)","v":0},{"$f":"IFERROR($E232*SUMIF('Daily Log'!#REF!,$B232,'Daily Log'!#REF!),0)","v":0},{"$f":"IFERROR($E232*SUMIF('Daily Log'!#REF!,$B232,'Daily Log'!#REF!),0)","v":0},{"$f":"IFERROR($E232*SUMIF('Daily Log'!#REF!,$B232,'Daily Log'!#REF!),0)","v":0},{"$f":"IFERROR($E232*SUMIF('Daily Log'!#REF!,$B232,'Daily Log'!#REF!),0)","v":0},{"$f":"IFERROR($E232*SUMIF('Daily Log'!#REF!,$B232,'Daily Log'!#REF!),0)","v":0},{"$f":"IFERROR($E232*SUMIF('Daily Log'!#REF!,$B232,'Daily Log'!#REF!),0)","v":0},{"$f":"IFERROR($E232*SUMIF('Daily Log'!#REF!,$B232,'Daily Log'!#REF!),0)","v":0},{"$f":"IFERROR($E232*SUMIF('Daily Log'!#REF!,$B232,'Daily Log'!#REF!),0)","v":0},{"$f":"IFERROR($E232*SUMIF('Daily Log'!$C$18:$C$1017,$B232,'Daily Log'!$D$18:$D$1017),0)","v":0},{"$f":"IFERROR($E232*SUMIF('Daily Log'!$F$18:$F$1017,$B232,'Daily Log'!$G$18:$G$1017),0)","v":0},{"$f":"IFERROR($E232*SUMIF('Daily Log'!$I$18:$I$1017,$B232,'Daily Log'!$J$18:$J$1017),0)","v":0},{"$f":"IFERROR($E232*SUMIF('Daily Log'!$L$18:$L$1017,$B232,'Daily Log'!$M$18:$M$1017),0)","v":1},{"$f":"IFERROR($E232*SUMIF('Daily Log'!$O$18:$O$1017,$B232,'Daily Log'!$P$18:$P$1017),0)","v":0},{"$f":"IFERROR($E232*SUMIF('Daily Log'!$R$18:$R$1017,$B232,'Daily Log'!$S$18:$S$1017),0)","v":0},{"$f":"IFERROR($E232*SUMIF('Daily Log'!$U$18:$U$1017,$B232,'Daily Log'!$V$18:$V$1017),0)","v":0},{"$f":"IFERROR($E232*SUMIF('Daily Log'!#REF!,$B232,'Daily Log'!#REF!),0)","v":0},{"$f":"IFERROR($E232*SUMIF('Daily Log'!#REF!,$B232,'Daily Log'!#REF!),0)","v":0},{"$f":"IFERROR($E232*SUMIF('Daily Log'!#REF!,$B232,'Daily Log'!#REF!),0)","v":0},{"$f":"IFERROR($E232*SUMIF('Daily Log'!#REF!,$B232,'Daily Log'!#REF!),0)","v":0},{"$f":"IFERROR($E232*SUMIF('Daily Log'!#REF!,$B232,'Daily Log'!#REF!),0)","v":0}]
[null,"DI15 91306:SLVR FISH",null,"KLKD-APPETIZER",1,0,{"$f":"IFERROR($E233*SUMIF('Daily Log'!#REF!,$B233,'Daily Log'!#REF!),0)","v":0},{"$f":"IFERROR($E233*SUMIF('Daily Log'!#REF!,$B233,'Daily Log'!#REF!),0)","v":0},{"$f":"IFERROR($E233*SUMIF('Daily Log'!#REF!,$B233,'Daily Log'!#REF!),0)","v":0}," ",{"$f":"IFERROR($E233*SUMIF('Daily Log'!#REF!,$B233,'Daily Log'!#REF!),0)","v":0},{"$f":"IFERROR($E233*SUMIF('Daily Log'!#REF!,$B233,'Daily Log'!#REF!),0)","v":0},{"$f":"IFERROR($E233*SUMIF('Daily Log'!#REF!,$B233,'Daily Log'!#REF!),0)","v":0},{"$f":"IFERROR($E233*SUMIF('Daily Log'!#REF!,$B233,'Daily Log'!#REF!),0)","v":0},{"$f":"IFERROR($E233*SUMIF('Daily Log'!#REF!,$B233,'Daily Log'!#REF!),0)","v":0},{"$f":"IFERROR($E233*SUMIF('Daily Log'!#REF!,$B233,'Daily Log'!#REF!),0)","v":0},{"$f":"IFERROR($E233*SUMIF('Daily Log'!#REF!,$B233,'Daily Log'!#REF!),0)","v":0},{"$f":"IFERROR($E233*SUMIF('Daily Log'!#REF!,$B233,'Daily Log'!#REF!),0)","v":0},{"$f":"IFERROR($E233*SUMIF('Daily Log'!#REF!,$B233,'Daily Log'!#REF!),0)","v":0},{"$f":"IFERROR($E233*SUMIF('Daily Log'!#REF!,$B233,'Daily Log'!#REF!),0)","v":0},{"$f":"IFERROR($E233*SUMIF('Daily Log'!#REF!,$B233,'Daily Log'!#REF!),0)","v":0},{"$f":"IFERROR($E233*SUMIF('Daily Log'!#REF!,$B233,'Daily Log'!#REF!),0)","v":0},{"$f":"IFERROR($E233*SUMIF('Daily Log'!#REF!,$B233,'Daily Log'!#REF!),0)","v":0},{"$f":"IFERROR($E233*SUMIF('Daily Log'!#REF!,$B233,'Daily Log'!#REF!),0)","v":0},{"$f":"IFERROR($E233*SUMIF('Daily Log'!#REF!,$B233,'Daily Log'!#REF!),0)","v":0},{"$f":"IFERROR($E233*SUMIF('Daily Log'!$C$18:$C$1017,$B233,'Daily Log'!$D$18:$D$1017),0)","v":0},{"$f":"IFERROR($E233*SUMIF('Daily Log'!$F$18:$F$1017,$B233,'Daily Log'!$G$18:$G$1017),0)","v":0},{"$f":"IFERROR($E233*SUMIF('Daily Log'!$I$18:$I$1017,$B233,'Daily Log'!$J$18:$J$1017),0)","v":0},{"$f":"IFERROR($E233*SUMIF('Daily Log'!$L$18:$L$1017,$B233,'Daily Log'!$M$18:$M$1017),0)","v":0},{"$f":"IFERROR($E233*SUMIF('Daily Log'!$O$18:$O$1017,$B233,'Daily Log'!$P$18:$P$1017),0)","v":0},{"$f":"IFERROR($E233*SUMIF('Daily Log'!$R$18:$R$1017,$B233,'Daily Log'!$S$18:$S$1017),0)","v":0},{"$f":"IFERROR($E233*SUMIF('Daily Log'!$U$18:$U$1017,$B233,'Daily Log'!$V$18:$V$1017),0)","v":0},{"$f":"IFERROR($E233*SUMIF('Daily Log'!#REF!,$B233,'Daily Log'!#REF!),0)","v":0},{"$f":"IFERROR($E233*SUMIF('Daily Log'!#REF!,$B233,'Daily Log'!#REF!),0)","v":0},{"$f":"IFERROR($E233*SUMIF('Daily Log'!#REF!,$B233,'Daily Log'!#REF!),0)","v":0},{"$f":"IFERROR($E233*SUMIF('Daily Log'!#REF!,$B233,'Daily Log'!#REF!),0)","v":0},{"$f":"IFERROR($E233*SUMIF('Daily Log'!#REF!,$B233,'Daily Log'!#REF!),0)","v":0}]
[null,"GA01 DUNHILL",null,"CIGARETTE",1,0,{"$f":"IFERROR($E234*SUMIF('Daily Log'!#REF!,$B234,'Daily Log'!#REF!),0)","v":0},{"$f":"IFERROR($E234*SUMIF('Daily Log'!#REF!,$B234,'Daily Log'!#REF!),0)","v":0},{"$f":"IFERROR($E234*SUMIF('Daily Log'!#REF!,$B234,'Daily Log'!#REF!),0)","v":0}," ",{"$f":"IFERROR($E234*SUMIF('Daily Log'!#REF!,$B234,'Daily Log'!#REF!),0)","v":0},{"$f":"IFERROR($E234*SUMIF('Daily Log'!#REF!,$B234,'Daily Log'!#REF!),0)","v":0},{"$f":"IFERROR($E234*SUMIF('Daily Log'!#REF!,$B234,'Daily Log'!#REF!),0)","v":0},{"$f":"IFERROR($E234*SUMIF('Daily Log'!#REF!,$B234,'Daily Log'!#REF!),0)","v":0},{"$f":"IFERROR($E234*SUMIF('Daily Log'!#REF!,$B234,'Daily Log'!#REF!),0)","v":0},{"$f":"IFERROR($E234*SUMIF('Daily Log'!#REF!,$B234,'Daily Log'!#REF!),0)","v":0},{"$f":"IFERROR($E234*SUMIF('Daily Log'!#REF!,$B234,'Daily Log'!#REF!),0)","v":0},{"$f":"IFERROR($E234*SUMIF('Daily Log'!#REF!,$B234,'Daily Log'!#REF!),0)","v":0},{"$f":"IFERROR($E234*SUMIF('Daily Log'!#REF!,$B234,'Daily Log'!#REF!),0)","v":0},{"$f":"IFERROR($E234*SUMIF('Daily Log'!#REF!,$B234,'Daily Log'!#REF!),0)","v":0},{"$f":"IFERROR($E234*SUMIF('Daily Log'!#REF!,$B234,'Daily Log'!#REF!),0)","v":0},{"$f":"IFERROR($E234*SUMIF('Daily Log'!#REF!,$B234,'Daily Log'!#REF!),0)","v":0},{"$f":"IFERROR($E234*SUMIF('Daily Log'!#REF!,$B234,'Daily Log'!#REF!),0)","v":0},{"$f":"IFERROR($E234*SUMIF('Daily Log'!#REF!,$B234,'Daily Log'!#REF!),0)","v":0},{"$f":"IFERROR($E234*SUMIF('Daily Log'!#REF!,$B234,'Daily Log'!#REF!),0)","v":0},{"$f":"IFERROR($E234*SUMIF('Daily Log'!$C$18:$C$1017,$B234,'Daily Log'!$D$18:$D$1017),0)","v":0},{"$f":"IFERROR($E234*SUMIF('Daily Log'!$F$18:$F$1017,$B234,'Daily Log'!$G$18:$G$1017),0)","v":0},{"$f":"IFERROR($E234*SUMIF('Daily Log'!$I$18:$I$1017,$B234,'Daily Log'!$J$18:$J$1017),0)","v":0},{"$f":"IFERROR($E234*SUMIF('Daily Log'!$L$18:$L$1017,$B234,'Daily Log'!$M$18:$M$1017),0)","v":0},{"$f":"IFERROR($E234*SUMIF('Daily Log'!$O$18:$O$1017,$B234,'Daily Log'!$P$18:$P$1017),0)","v":0},{"$f":"IFERROR($E234*SUMIF('Daily Log'!$R$18:$R$1017,$B234,'Daily Log'!$S$18:$S$1017),0)","v":0},{"$f":"IFERROR($E234*SUMIF('Daily Log'!$U$18:$U$1017,$B234,'Daily Log'!$V$18:$V$1017),0)","v":0},{"$f":"IFERROR($E234*SUMIF('Daily Log'!#REF!,$B234,'Daily Log'!#REF!),0)","v":0},{"$f":"IFERROR($E234*SUMIF('Daily Log'!#REF!,$B234,'Daily Log'!#REF!),0)","v":0},{"$f":"IFERROR($E234*SUMIF('Daily Log'!#REF!,$B234,'Daily Log'!#REF!),0)","v":0},{"$f":"IFERROR($E234*SUMIF('Daily Log'!#REF!,$B234,'Daily Log'!#REF!),0)","v":0},{"$f":"IFERROR($E234*SUMIF('Daily Log'!#REF!,$B234,'Daily Log'!#REF!),0)","v":0}]
[null,"GA02 KENT",null,"CIGARETTE",1,0,{"$f":"IFERROR($E235*SUMIF('Daily Log'!#REF!,$B235,'Daily Log'!#REF!),0)","v":0},{"$f":"IFERROR($E235*SUMIF('Daily Log'!#REF!,$B235,'Daily Log'!#REF!),0)","v":0},{"$f":"IFERROR($E235*SUMIF('Daily Log'!#REF!,$B235,'Daily Log'!#REF!),0)","v":0}," ",{"$f":"IFERROR($E235*SUMIF('Daily Log'!#REF!,$B235,'Daily Log'!#REF!),0)","v":0},{"$f":"IFERROR($E235*SUMIF('Daily Log'!#REF!,$B235,'Daily Log'!#REF!),0)","v":0},{"$f":"IFERROR($E235*SUMIF('Daily Log'!#REF!,$B235,'Daily Log'!#REF!),0)","v":0},{"$f":"IFERROR($E235*SUMIF('Daily Log'!#REF!,$B235,'Daily Log'!#REF!),0)","v":0},{"$f":"IFERROR($E235*SUMIF('Daily Log'!#REF!,$B235,'Daily Log'!#REF!),0)","v":0},{"$f":"IFERROR($E235*SUMIF('Daily Log'!#REF!,$B235,'Daily Log'!#REF!),0)","v":0},{"$f":"IFERROR($E235*SUMIF('Daily Log'!#REF!,$B235,'Daily Log'!#REF!),0)","v":0},{"$f":"IFERROR($E235*SUMIF('Daily Log'!#REF!,$B235,'Daily Log'!#REF!),0)","v":0},{"$f":"IFERROR($E235*SUMIF('Daily Log'!#REF!,$B235,'Daily Log'!#REF!),0)","v":0},{"$f":"IFERROR($E235*SUMIF('Daily Log'!#REF!,$B235,'Daily Log'!#REF!),0)","v":0},{"$f":"IFERROR($E235*SUMIF('Daily Log'!#REF!,$B235,'Daily Log'!#REF!),0)","v":0},{"$f":"IFERROR($E235*SUMIF('Daily Log'!#REF!,$B235,'Daily Log'!#REF!),0)","v":0},{"$f":"IFERROR($E235*SUMIF('Daily Log'!#REF!,$B235,'Daily Log'!#REF!),0)","v":0},{"$f":"IFERROR($E235*SUMIF('Daily Log'!#REF!,$B235,'Daily Log'!#REF!),0)","v":0},{"$f":"IFERROR($E235*SUMIF('Daily Log'!#REF!,$B235,'Daily Log'!#REF!),0)","v":0},{"$f":"IFERROR($E235*SUMIF('Daily Log'!$C$18:$C$1017,$B235,'Daily Log'!$D$18:$D$1017),0)","v":0},{"$f":"IFERROR($E235*SUMIF('Daily Log'!$F$18:$F$1017,$B235,'Daily Log'!$G$18:$G$1017),0)","v":0},{"$f":"IFERROR($E235*SUMIF('Daily Log'!$I$18:$I$1017,$B235,'Daily Log'!$J$18:$J$1017),0)","v":0},{"$f":"IFERROR($E235*SUMIF('Daily Log'!$L$18:$L$1017,$B235,'Daily Log'!$M$18:$M$1017),0)","v":0},{"$f":"IFERROR($E235*SUMIF('Daily Log'!$O$18:$O$1017,$B235,'Daily Log'!$P$18:$P$1017),0)","v":0},{"$f":"IFERROR($E235*SUMIF('Daily Log'!$R$18:$R$1017,$B235,'Daily Log'!$S$18:$S$1017),0)","v":0},{"$f":"IFERROR($E235*SUMIF('Daily Log'!$U$18:$U$1017,$B235,'Daily Log'!$V$18:$V$1017),0)","v":0},{"$f":"IFERROR($E235*SUMIF('Daily Log'!#REF!,$B235,'Daily Log'!#REF!),0)","v":0},{"$f":"IFERROR($E235*SUMIF('Daily Log'!#REF!,$B235,'Daily Log'!#REF!),0)","v":0},{"$f":"IFERROR($E235*SUMIF('Daily Log'!#REF!,$B235,'Daily Log'!#REF!),0)","v":0},{"$f":"IFERROR($E235*SUMIF('Daily Log'!#REF!,$B235,'Daily Log'!#REF!),0)","v":0},{"$f":"IFERROR($E235*SUMIF('Daily Log'!#REF!,$B235,'Daily Log'!#REF!),0)","v":0}]
[null,"GE01 DUNHILL",null,"CIGARETTE",1,15,{"$f":"IFERROR($E236*SUMIF('Daily Log'!#REF!,$B236,'Daily Log'!#REF!),0)","v":0},{"$f":"IFERROR($E236*SUMIF('Daily Log'!#REF!,$B236,'Daily Log'!#REF!),0)","v":0},{"$f":"IFERROR($E236*SUMIF('Daily Log'!#REF!,$B236,'Daily Log'!#REF!),0)","v":0}," ",{"$f":"IFERROR($E236*SUMIF('Daily Log'!#REF!,$B236,'Daily Log'!#REF!),0)","v":0},{"$f":"IFERROR($E236*SUMIF('Daily Log'!#REF!,$B236,'Daily Log'!#REF!),0)","v":0},{"$f":"IFERROR($E236*SUMIF('Daily Log'!#REF!,$B236,'Daily Log'!#REF!),0)","v":0},{"$f":"IFERROR($E236*SUMIF('Daily Log'!#REF!,$B236,'Daily Log'!#REF!),0)","v":0},{"$f":"IFERROR($E236*SUMIF('Daily Log'!#REF!,$B236,'Daily Log'!#REF!),0)","v":0},{"$f":"IFERROR($E236*SUMIF('Daily Log'!#REF!,$B236,'Daily Log'!#REF!),0)","v":0},{"$f":"IFERROR($E236*SUMIF('Daily Log'!#REF!,$B236,'Daily Log'!#REF!),0)","v":0},{"$f":"IFERROR($E236*SUMIF('Daily Log'!#REF!,$B236,'Daily Log'!#REF!),0)","v":0},{"$f":"IFERROR($E236*SUMIF('Daily Log'!#REF!,$B236,'Daily Log'!#REF!),0)","v":0},{"$f":"IFERROR($E236*SUMIF('Daily Log'!#REF!,$B236,'Daily Log'!#REF!),0)","v":0},{"$f":"IFERROR($E236*SUMIF('Daily Log'!#REF!,$B236,'Daily Log'!#REF!),0)","v":0},{"$f":"IFERROR($E236*SUMIF('Daily Log'!#REF!,$B236,'Daily Log'!#REF!),0)","v":0},{"$f":"IFERROR($E236*SUMIF('Daily Log'!#REF!,$B236,'Daily Log'!#REF!),0)","v":0},{"$f":"IFERROR($E236*SUMIF('Daily Log'!#REF!,$B236,'Daily Log'!#REF!),0)","v":0},{"$f":"IFERROR($E236*SUMIF('Daily Log'!#REF!,$B236,'Daily Log'!#REF!),0)","v":0},{"$f":"IFERROR($E236*SUMIF('Daily Log'!$C$18:$C$1017,$B236,'Daily Log'!$D$18:$D$1017),0)","v":3},{"$f":"IFERROR($E236*SUMIF('Daily Log'!$F$18:$F$1017,$B236,'Daily Log'!$G$18:$G$1017),0)","v":5},{"$f":"IFERROR($E236*SUMIF('Daily Log'!$I$18:$I$1017,$B236,'Daily Log'!$J$18:$J$1017),0)","v":0},{"$f":"IFERROR($E236*SUMIF('Daily Log'!$L$18:$L$1017,$B236,'Daily Log'!$M$18:$M$1017),0)","v":4},{"$f":"IFERROR($E236*SUMIF('Daily Log'!$O$18:$O$1017,$B236,'Daily Log'!$P$18:$P$1017),0)","v":3},{"$f":"IFERROR($E236*SUMIF('Daily Log'!$R$18:$R$1017,$B236,'Daily Log'!$S$18:$S$1017),0)","v":0},{"$f":"IFERROR($E236*SUMIF('Daily Log'!$U$18:$U$1017,$B236,'Daily Log'!$V$18:$V$1017),0)","v":0},{"$f":"IFERROR($E236*SUMIF('Daily Log'!#REF!,$B236,'Daily Log'!#REF!),0)","v":0},{"$f":"IFERROR($E236*SUMIF('Daily Log'!#REF!,$B236,'Daily Log'!#REF!),0)","v":0},{"$f":"IFERROR($E236*SUMIF('Daily Log'!#REF!,$B236,'Daily Log'!#REF!),0)","v":0},{"$f":"IFERROR($E236*SUMIF('Daily Log'!#REF!,$B236,'Daily Log'!#REF!),0)","v":0},{"$f":"IFERROR($E236*SUMIF('Daily Log'!#REF!,$B236,'Daily Log'!#REF!),0)","v":0}]
[null,"GE02 DUNHILL LITE",null,"CIGARETTE",1,7,{"$f":"IFERROR($E237*SUMIF('Daily Log'!#REF!,$B237,'Daily Log'!#REF!),0)","v":0},{"$f":"IFERROR($E237*SUMIF('Daily Log'!#REF!,$B237,'Daily Log'!#REF!),0)","v":0},{"$f":"IFERROR($E237*SUMIF('Daily Log'!#REF!,$B237,'Daily Log'!#REF!),0)","v":0}," ",{"$f":"IFERROR($E237*SUMIF('Daily Log'!#REF!,$B237,'Daily Log'!#REF!),0)","v":0},{"$f":"IFERROR($E237*SUMIF('Daily Log'!#REF!,$B237,'Daily Log'!#REF!),0)","v":0},{"$f":"IFERROR($E237*SUMIF('Daily Log'!#REF!,$B237,'Daily Log'!#REF!),0)","v":0},{"$f":"IFERROR($E237*SUMIF('Daily Log'!#REF!,$B237,'Daily Log'!#REF!),0)","v":0},{"$f":"IFERROR($E237*SUMIF('Daily Log'!#REF!,$B237,'Daily Log'!#REF!),0)","v":0},{"$f":"IFERROR($E237*SUMIF('Daily Log'!#REF!,$B237,'Daily Log'!#REF!),0)","v":0},{"$f":"IFERROR($E237*SUMIF('Daily Log'!#REF!,$B237,'Daily Log'!#REF!),0)","v":0},{"$f":"IFERROR($E237*SUMIF('Daily Log'!#REF!,$B237,'Daily Log'!#REF!),0)","v":0},{"$f":"IFERROR($E237*SUMIF('Daily Log'!#REF!,$B237,'Daily Log'!#REF!),0)","v":0},{"$f":"IFERROR($E237*SUMIF('Daily Log'!#REF!,$B237,'Daily Log'!#REF!),0)","v":0},{"$f":"IFERROR($E237*SUMIF('Daily Log'!#REF!,$B237,'Daily Log'!#REF!),0)","v":0},{"$f":"IFERROR($E237*SUMIF('Daily Log'!#REF!,$B237,'Daily Log'!#REF!),0)","v":0},{"$f":"IFERROR($E237*SUMIF('Daily Log'!#REF!,$B237,'Daily Log'!#REF!),0)","v":0},{"$f":"IFERROR($E237*SUMIF('Daily Log'!#REF!,$B237,'Daily Log'!#REF!),0)","v":0},{"$f":"IFERROR($E237*SUMIF('Daily Log'!#REF!,$B237,'Daily Log'!#REF!),0)","v":0},{"$f":"IFERROR($E237*SUMIF('Daily Log'!$C$18:$C$1017,$B237,'Daily Log'!$D$18:$D$1017),0)","v":1},{"$f":"IFERROR($E237*SUMIF('Daily Log'!$F$18:$F$1017,$B237,'Daily Log'!$G$18:$G$1017),0)","v":0},{"$f":"IFERROR($E237*SUMIF('Daily Log'!$I$18:$I$1017,$B237,'Daily Log'!$J$18:$J$1017),0)","v":3},{"$f":"IFERROR($E237*SUMIF('Daily Log'!$L$18:$L$1017,$B237,'Daily Log'!$M$18:$M$1017),0)","v":1},{"$f":"IFERROR($E237*SUMIF('Daily Log'!$O$18:$O$1017,$B237,'Daily Log'!$P$18:$P$1017),0)","v":1},{"$f":"IFERROR($E237*SUMIF('Daily Log'!$R$18:$R$1017,$B237,'Daily Log'!$S$18:$S$1017),0)","v":1},{"$f":"IFERROR($E237*SUMIF('Daily Log'!$U$18:$U$1017,$B237,'Daily Log'!$V$18:$V$1017),0)","v":0},{"$f":"IFERROR($E237*SUMIF('Daily Log'!#REF!,$B237,'Daily Log'!#REF!),0)","v":0},{"$f":"IFERROR($E237*SUMIF('Daily Log'!#REF!,$B237,'Daily Log'!#REF!),0)","v":0},{"$f":"IFERROR($E237*SUMIF('Daily Log'!#REF!,$B237,'Daily Log'!#REF!),0)","v":0},{"$f":"IFERROR($E237*SUMIF('Daily Log'!#REF!,$B237,'Daily Log'!#REF!),0)","v":0},{"$f":"IFERROR($E237*SUMIF('Daily Log'!#REF!,$B237,'Daily Log'!#REF!),0)","v":0}]
[null,"GE03 DUNHILL MT",null,"CIGARETTE",1,4,{"$f":"IFERROR($E238*SUMIF('Daily Log'!#REF!,$B238,'Daily Log'!#REF!),0)","v":0},{"$f":"IFERROR($E238*SUMIF('Daily Log'!#REF!,$B238,'Daily Log'!#REF!),0)","v":0},{"$f":"IFERROR($E238*SUMIF('Daily Log'!#REF!,$B238,'Daily Log'!#REF!),0)","v":0}," ",{"$f":"IFERROR($E238*SUMIF('Daily Log'!#REF!,$B238,'Daily Log'!#REF!),0)","v":0},{"$f":"IFERROR($E238*SUMIF('Daily Log'!#REF!,$B238,'Daily Log'!#REF!),0)","v":0},{"$f":"IFERROR($E238*SUMIF('Daily Log'!#REF!,$B238,'Daily Log'!#REF!),0)","v":0},{"$f":"IFERROR($E238*SUMIF('Daily Log'!#REF!,$B238,'Daily Log'!#REF!),0)","v":0},{"$f":"IFERROR($E238*SUMIF('Daily Log'!#REF!,$B238,'Daily Log'!#REF!),0)","v":0},{"$f":"IFERROR($E238*SUMIF('Daily Log'!#REF!,$B238,'Daily Log'!#REF!),0)","v":0},{"$f":"IFERROR($E238*SUMIF('Daily Log'!#REF!,$B238,'Daily Log'!#REF!),0)","v":0},{"$f":"IFERROR($E238*SUMIF('Daily Log'!#REF!,$B238,'Daily Log'!#REF!),0)","v":0},{"$f":"IFERROR($E238*SUMIF('Daily Log'!#REF!,$B238,'Daily Log'!#REF!),0)","v":0},{"$f":"IFERROR($E238*SUMIF('Daily Log'!#REF!,$B238,'Daily Log'!#REF!),0)","v":0},{"$f":"IFERROR($E238*SUMIF('Daily Log'!#REF!,$B238,'Daily Log'!#REF!),0)","v":0},{"$f":"IFERROR($E238*SUMIF('Daily Log'!#REF!,$B238,'Daily Log'!#REF!),0)","v":0},{"$f":"IFERROR($E238*SUMIF('Daily Log'!#REF!,$B238,'Daily Log'!#REF!),0)","v":0},{"$f":"IFERROR($E238*SUMIF('Daily Log'!#REF!,$B238,'Daily Log'!#REF!),0)","v":0},{"$f":"IFERROR($E238*SUMIF('Daily Log'!#REF!,$B238,'Daily Log'!#REF!),0)","v":0},{"$f":"IFERROR($E238*SUMIF('Daily Log'!$C$18:$C$1017,$B238,'Daily Log'!$D$18:$D$1017),0)","v":0},{"$f":"IFERROR($E238*SUMIF('Daily Log'!$F$18:$F$1017,$B238,'Daily Log'!$G$18:$G$1017),0)","v":1},{"$f":"IFERROR($E238*SUMIF('Daily Log'!$I$18:$I$1017,$B238,'Daily Log'!$J$18:$J$1017),0)","v":0},{"$f":"IFERROR($E238*SUMIF('Daily Log'!$L$18:$L$1017,$B238,'Daily Log'!$M$18:$M$1017),0)","v":0},{"$f":"IFERROR($E238*SUMIF('Daily Log'!$O$18:$O$1017,$B238,'Daily Log'!$P$18:$P$1017),0)","v":0},{"$f":"IFERROR($E238*SUMIF('Daily Log'!$R$18:$R$1017,$B238,'Daily Log'!$S$18:$S$1017),0)","v":2},{"$f":"IFERROR($E238*SUMIF('Daily Log'!$U$18:$U$1017,$B238,'Daily Log'!$V$18:$V$1017),0)","v":1},{"$f":"IFERROR($E238*SUMIF('Daily Log'!#REF!,$B238,'Daily Log'!#REF!),0)","v":0},{"$f":"IFERROR($E238*SUMIF('Daily Log'!#REF!,$B238,'Daily Log'!#REF!),0)","v":0},{"$f":"IFERROR($E238*SUMIF('Daily Log'!#REF!,$B238,'Daily Log'!#REF!),0)","v":0},{"$f":"IFERROR($E238*SUMIF('Daily Log'!#REF!,$B238,'Daily Log'!#REF!),0)","v":0},{"$f":"IFERROR($E238*SUMIF('Daily Log'!#REF!,$B238,'Daily Log'!#REF!),0)","v":0}]
[null,"GE04 DUNHILL MT LITE",null,"CIGARETTE",1,1,{"$f":"IFERROR($E239*SUMIF('Daily Log'!#REF!,$B239,'Daily Log'!#REF!),0)","v":0},{"$f":"IFERROR($E239*SUMIF('Daily Log'!#REF!,$B239,'Daily Log'!#REF!),0)","v":0},{"$f":"IFERROR($E239*SUMIF('Daily Log'!#REF!,$B239,'Daily Log'!#REF!),0)","v":0}," ",{"$f":"IFERROR($E239*SUMIF('Daily Log'!#REF!,$B239,'Daily Log'!#REF!),0)","v":0},{"$f":"IFERROR($E239*SUMIF('Daily Log'!#REF!,$B239,'Daily Log'!#REF!),0)","v":0},{"$f":"IFERROR($E239*SUMIF('Daily Log'!#REF!,$B239,'Daily Log'!#REF!),0)","v":0},{"$f":"IFERROR($E239*SUMIF('Daily Log'!#REF!,$B239,'Daily Log'!#REF!),0)","v":0},{"$f":"IFERROR($E239*SUMIF('Daily Log'!#REF!,$B239,'Daily Log'!#REF!),0)","v":0},{"$f":"IFERROR($E239*SUMIF('Daily Log'!#REF!,$B239,'Daily Log'!#REF!),0)","v":0},{"$f":"IFERROR($E239*SUMIF('Daily Log'!#REF!,$B239,'Daily Log'!#REF!),0)","v":0},{"$f":"IFERROR($E239*SUMIF('Daily Log'!#REF!,$B239,'Daily Log'!#REF!),0)","v":0},{"$f":"IFERROR($E239*SUMIF('Daily Log'!#REF!,$B239,'Daily Log'!#REF!),0)","v":0},{"$f":"IFERROR($E239*SUMIF('Daily Log'!#REF!,$B239,'Daily Log'!#REF!),0)","v":0},{"$f":"IFERROR($E239*SUMIF('Daily Log'!#REF!,$B239,'Daily Log'!#REF!),0)","v":0},{"$f":"IFERROR($E239*SUMIF('Daily Log'!#REF!,$B239,'Daily Log'!#REF!),0)","v":0},{"$f":"IFERROR($E239*SUMIF('Daily Log'!#REF!,$B239,'Daily Log'!#REF!),0)","v":0},{"$f":"IFERROR($E239*SUMIF('Daily Log'!#REF!,$B239,'Daily Log'!#REF!),0)","v":0},{"$f":"IFERROR($E239*SUMIF('Daily Log'!#REF!,$B239,'Daily Log'!#REF!),0)","v":0},{"$f":"IFERROR($E239*SUMIF('Daily Log'!$C$18:$C$1017,$B239,'Daily Log'!$D$18:$D$1017),0)","v":1},{"$f":"IFERROR($E239*SUMIF('Daily Log'!$F$18:$F$1017,$B239,'Daily Log'!$G$18:$G$1017),0)","v":0},{"$f":"IFERROR($E239*SUMIF('Daily Log'!$I$18:$I$1017,$B239,'Daily Log'!$J$18:$J$1017),0)","v":0},{"$f":"IFERROR($E239*SUMIF('Daily Log'!$L$18:$L$1017,$B239,'Daily Log'!$M$18:$M$1017),0)","v":0},{"$f":"IFERROR($E239*SUMIF('Daily Log'!$O$18:$O$1017,$B239,'Daily Log'!$P$18:$P$1017),0)","v":0},{"$f":"IFERROR($E239*SUMIF('Daily Log'!$R$18:$R$1017,$B239,'Daily Log'!$S$18:$S$1017),0)","v":0},{"$f":"IFERROR($E239*SUMIF('Daily Log'!$U$18:$U$1017,$B239,'Daily Log'!$V$18:$V$1017),0)","v":0},{"$f":"IFERROR($E239*SUMIF('Daily Log'!#REF!,$B239,'Daily Log'!#REF!),0)","v":0},{"$f":"IFERROR($E239*SUMIF('Daily Log'!#REF!,$B239,'Daily Log'!#REF!),0)","v":0},{"$f":"IFERROR($E239*SUMIF('Daily Log'!#REF!,$B239,'Daily Log'!#REF!),0)","v":0},{"$f":"IFERROR($E239*SUMIF('Daily Log'!#REF!,$B239,'Daily Log'!#REF!),0)","v":0},{"$f":"IFERROR($E239*SUMIF('Daily Log'!#REF!,$B239,'Daily Log'!#REF!),0)","v":0}]
[null,"GE05 DUNHILL BOOST",null,"CIGARETTE",1,3,{"$f":"IFERROR($E240*SUMIF('Daily Log'!#REF!,$B240,'Daily Log'!#REF!),0)","v":0},{"$f":"IFERROR($E240*SUMIF('Daily Log'!#REF!,$B240,'Daily Log'!#REF!),0)","v":0},{"$f":"IFERROR($E240*SUMIF('Daily Log'!#REF!,$B240,'Daily Log'!#REF!),0)","v":0}," ",{"$f":"IFERROR($E240*SUMIF('Daily Log'!#REF!,$B240,'Daily Log'!#REF!),0)","v":0},{"$f":"IFERROR($E240*SUMIF('Daily Log'!#REF!,$B240,'Daily Log'!#REF!),0)","v":0},{"$f":"IFERROR($E240*SUMIF('Daily Log'!#REF!,$B240,'Daily Log'!#REF!),0)","v":0},{"$f":"IFERROR($E240*SUMIF('Daily Log'!#REF!,$B240,'Daily Log'!#REF!),0)","v":0},{"$f":"IFERROR($E240*SUMIF('Daily Log'!#REF!,$B240,'Daily Log'!#REF!),0)","v":0},{"$f":"IFERROR($E240*SUMIF('Daily Log'!#REF!,$B240,'Daily Log'!#REF!),0)","v":0},{"$f":"IFERROR($E240*SUMIF('Daily Log'!#REF!,$B240,'Daily Log'!#REF!),0)","v":0},{"$f":"IFERROR($E240*SUMIF('Daily Log'!#REF!,$B240,'Daily Log'!#REF!),0)","v":0},{"$f":"IFERROR($E240*SUMIF('Daily Log'!#REF!,$B240,'Daily Log'!#REF!),0)","v":0},{"$f":"IFERROR($E240*SUMIF('Daily Log'!#REF!,$B240,'Daily Log'!#REF!),0)","v":0},{"$f":"IFERROR($E240*SUMIF('Daily Log'!#REF!,$B240,'Daily Log'!#REF!),0)","v":0},{"$f":"IFERROR($E240*SUMIF('Daily Log'!#REF!,$B240,'Daily Log'!#REF!),0)","v":0},{"$f":"IFERROR($E240*SUMIF('Daily Log'!#REF!,$B240,'Daily Log'!#REF!),0)","v":0},{"$f":"IFERROR($E240*SUMIF('Daily Log'!#REF!,$B240,'Daily Log'!#REF!),0)","v":0},{"$f":"IFERROR($E240*SUMIF('Daily Log'!#REF!,$B240,'Daily Log'!#REF!),0)","v":0},{"$f":"IFERROR($E240*SUMIF('Daily Log'!$C$18:$C$1017,$B240,'Daily Log'!$D$18:$D$1017),0)","v":0},{"$f":"IFERROR($E240*SUMIF('Daily Log'!$F$18:$F$1017,$B240,'Daily Log'!$G$18:$G$1017),0)","v":0},{"$f":"IFERROR($E240*SUMIF('Daily Log'!$I$18:$I$1017,$B240,'Daily Log'!$J$18:$J$1017),0)","v":0},{"$f":"IFERROR($E240*SUMIF('Daily Log'!$L$18:$L$1017,$B240,'Daily Log'!$M$18:$M$1017),0)","v":1},{"$f":"IFERROR($E240*SUMIF('Daily Log'!$O$18:$O$1017,$B240,'Daily Log'!$P$18:$P$1017),0)","v":0},{"$f":"IFERROR($E240*SUMIF('Daily Log'!$R$18:$R$1017,$B240,'Daily Log'!$S$18:$S$1017),0)","v":1},{"$f":"IFERROR($E240*SUMIF('Daily Log'!$U$18:$U$1017,$B240,'Daily Log'!$V$18:$V$1017),0)","v":1},{"$f":"IFERROR($E240*SUMIF('Daily Log'!#REF!,$B240,'Daily Log'!#REF!),0)","v":0},{"$f":"IFERROR($E240*SUMIF('Daily Log'!#REF!,$B240,'Daily Log'!#REF!),0)","v":0},{"$f":"IFERROR($E240*SUMIF('Daily Log'!#REF!,$B240,'Daily Log'!#REF!),0)","v":0},{"$f":"IFERROR($E240*SUMIF('Daily Log'!#REF!,$B240,'Daily Log'!#REF!),0)","v":0},{"$f":"IFERROR($E240*SUMIF('Daily Log'!#REF!,$B240,'Daily Log'!#REF!),0)","v":0}]
[null,"GE06 DUNHILL SWITCH",null,"CIGARETTE",1,3,{"$f":"IFERROR($E241*SUMIF('Daily Log'!#REF!,$B241,'Daily Log'!#REF!),0)","v":0},{"$f":"IFERROR($E241*SUMIF('Daily Log'!#REF!,$B241,'Daily Log'!#REF!),0)","v":0},{"$f":"IFERROR($E241*SUMIF('Daily Log'!#REF!,$B241,'Daily Log'!#REF!),0)","v":0}," ",{"$f":"IFERROR($E241*SUMIF('Daily Log'!#REF!,$B241,'Daily Log'!#REF!),0)","v":0},{"$f":"IFERROR($E241*SUMIF('Daily Log'!#REF!,$B241,'Daily Log'!#REF!),0)","v":0},{"$f":"IFERROR($E241*SUMIF('Daily Log'!#REF!,$B241,'Daily Log'!#REF!),0)","v":0},{"$f":"IFERROR($E241*SUMIF('Daily Log'!#REF!,$B241,'Daily Log'!#REF!),0)","v":0},{"$f":"IFERROR($E241*SUMIF('Daily Log'!#REF!,$B241,'Daily Log'!#REF!),0)","v":0},{"$f":"IFERROR($E241*SUMIF('Daily Log'!#REF!,$B241,'Daily Log'!#REF!),0)","v":0},{"$f":"IFERROR($E241*SUMIF('Daily Log'!#REF!,$B241,'Daily Log'!#REF!),0)","v":0},{"$f":"IFERROR($E241*SUMIF('Daily Log'!#REF!,$B241,'Daily Log'!#REF!),0)","v":0},{"$f":"IFERROR($E241*SUMIF('Daily Log'!#REF!,$B241,'Daily Log'!#REF!),0)","v":0},{"$f":"IFERROR($E241*SUMIF('Daily Log'!#REF!,$B241,'Daily Log'!#REF!),0)","v":0},{"$f":"IFERROR($E241*SUMIF('Daily Log'!#REF!,$B241,'Daily Log'!#REF!),0)","v":0},{"$f":"IFERROR($E241*SUMIF('Daily Log'!#REF!,$B241,'Daily Log'!#REF!),0)","v":0},{"$f":"IFERROR($E241*SUMIF('Daily Log'!#REF!,$B241,'Daily Log'!#REF!),0)","v":0},{"$f":"IFERROR($E241*SUMIF('Daily Log'!#REF!,$B241,'Daily Log'!#REF!),0)","v":0},{"$f":"IFERROR($E241*SUMIF('Daily Log'!#REF!,$B241,'Daily Log'!#REF!),0)","v":0},{"$f":"IFERROR($E241*SUMIF('Daily Log'!$C$18:$C$1017,$B241,'Daily Log'!$D$18:$D$1017),0)","v":0},{"$f":"IFERROR($E241*SUMIF('Daily Log'!$F$18:$F$1017,$B241,'Daily Log'!$G$18:$G$1017),0)","v":0},{"$f":"IFERROR($E241*SUMIF('Daily Log'!$I$18:$I$1017,$B241,'Daily Log'!$J$18:$J$1017),0)","v":0},{"$f":"IFERROR($E241*SUMIF('Daily Log'!$L$18:$L$1017,$B241,'Daily Log'!$M$18:$M$1017),0)","v":1},{"$f":"IFERROR($E241*SUMIF('Daily Log'!$O$18:$O$1017,$B241,'Daily Log'!$P$18:$P$1017),0)","v":1},{"$f":"IFERROR($E241*SUMIF('Daily Log'!$R$18:$R$1017,$B241,'Daily Log'!$S$18:$S$1017),0)","v":1},{"$f":"IFERROR($E241*SUMIF('Daily Log'!$U$18:$U$1017,$B241,'Daily Log'!$V$18:$V$1017),0)","v":0},{"$f":"IFERROR($E241*SUMIF('Daily Log'!#REF!,$B241,'Daily Log'!#REF!),0)","v":0},{"$f":"IFERROR($E241*SUMIF('Daily Log'!#REF!,$B241,'Daily Log'!#REF!),0)","v":0},{"$f":"IFERROR($E241*SUMIF('Daily Log'!#REF!,$B241,'Daily Log'!#REF!),0)","v":0},{"$f":"IFERROR($E241*SUMIF('Daily Log'!#REF!,$B241,'Daily Log'!#REF!),0)","v":0},{"$f":"IFERROR($E241*SUMIF('Daily Log'!#REF!,$B241,'Daily Log'!#REF!),0)","v":0}]
[null,"GE07 DUNHILL ICE",null,"CIGARETTE",1,7,{"$f":"IFERROR($E242*SUMIF('Daily Log'!#REF!,$B242,'Daily Log'!#REF!),0)","v":0},{"$f":"IFERROR($E242*SUMIF('Daily Log'!#REF!,$B242,'Daily Log'!#REF!),0)","v":0},{"$f":"IFERROR($E242*SUMIF('Daily Log'!#REF!,$B242,'Daily Log'!#REF!),0)","v":0}," ",{"$f":"IFERROR($E242*SUMIF('Daily Log'!#REF!,$B242,'Daily Log'!#REF!),0)","v":0},{"$f":"IFERROR($E242*SUMIF('Daily Log'!#REF!,$B242,'Daily Log'!#REF!),0)","v":0},{"$f":"IFERROR($E242*SUMIF('Daily Log'!#REF!,$B242,'Daily Log'!#REF!),0)","v":0},{"$f":"IFERROR($E242*SUMIF('Daily Log'!#REF!,$B242,'Daily Log'!#REF!),0)","v":0},{"$f":"IFERROR($E242*SUMIF('Daily Log'!#REF!,$B242,'Daily Log'!#REF!),0)","v":0},{"$f":"IFERROR($E242*SUMIF('Daily Log'!#REF!,$B242,'Daily Log'!#REF!),0)","v":0},{"$f":"IFERROR($E242*SUMIF('Daily Log'!#REF!,$B242,'Daily Log'!#REF!),0)","v":0},{"$f":"IFERROR($E242*SUMIF('Daily Log'!#REF!,$B242,'Daily Log'!#REF!),0)","v":0},{"$f":"IFERROR($E242*SUMIF('Daily Log'!#REF!,$B242,'Daily Log'!#REF!),0)","v":0},{"$f":"IFERROR($E242*SUMIF('Daily Log'!#REF!,$B242,'Daily Log'!#REF!),0)","v":0},{"$f":"IFERROR($E242*SUMIF('Daily Log'!#REF!,$B242,'Daily Log'!#REF!),0)","v":0},{"$f":"IFERROR($E242*SUMIF('Daily Log'!#REF!,$B242,'Daily Log'!#REF!),0)","v":0},{"$f":"IFERROR($E242*SUMIF('Daily Log'!#REF!,$B242,'Daily Log'!#REF!),0)","v":0},{"$f":"IFERROR($E242*SUMIF('Daily Log'!#REF!,$B242,'Daily Log'!#REF!),0)","v":0},{"$f":"IFERROR($E242*SUMIF('Daily Log'!#REF!,$B242,'Daily Log'!#REF!),0)","v":0},{"$f":"IFERROR($E242*SUMIF('Daily Log'!$C$18:$C$1017,$B242,'Daily Log'!$D$18:$D$1017),0)","v":1},{"$f":"IFERROR($E242*SUMIF('Daily Log'!$F$18:$F$1017,$B242,'Daily Log'!$G$18:$G$1017),0)","v":0},{"$f":"IFERROR($E242*SUMIF('Daily Log'!$I$18:$I$1017,$B242,'Daily Log'!$J$18:$J$1017),0)","v":1},{"$f":"IFERROR($E242*SUMIF('Daily Log'!$L$18:$L$1017,$B242,'Daily Log'!$M$18:$M$1017),0)","v":1},{"$f":"IFERROR($E242*SUMIF('Daily Log'!$O$18:$O$1017,$B242,'Daily Log'!$P$18:$P$1017),0)","v":2},{"$f":"IFERROR($E242*SUMIF('Daily Log'!$R$18:$R$1017,$B242,'Daily Log'!$S$18:$S$1017),0)","v":2},{"$f":"IFERROR($E242*SUMIF('Daily Log'!$U$18:$U$1017,$B242,'Daily Log'!$V$18:$V$1017),0)","v":0},{"$f":"IFERROR($E242*SUMIF('Daily Log'!#REF!,$B242,'Daily Log'!#REF!),0)","v":0},{"$f":"IFERROR($E242*SUMIF('Daily Log'!#REF!,$B242,'Daily Log'!#REF!),0)","v":0},{"$f":"IFERROR($E242*SUMIF('Daily Log'!#REF!,$B242,'Daily Log'!#REF!),0)","v":0},{"$f":"IFERROR($E242*SUMIF('Daily Log'!#REF!,$B242,'Daily Log'!#REF!),0)","v":0},{"$f":"IFERROR($E242*SUMIF('Daily Log'!#REF!,$B242,'Daily Log'!#REF!),0)","v":0}]
[null,"GF01 KENT ORIGINAL",null,"CIGARETTE",1,2,{"$f":"IFERROR($E243*SUMIF('Daily Log'!#REF!,$B243,'Daily Log'!#REF!),0)","v":0},{"$f":"IFERROR($E243*SUMIF('Daily Log'!#REF!,$B243,'Daily Log'!#REF!),0)","v":0},{"$f":"IFERROR($E243*SUMIF('Daily Log'!#REF!,$B243,'Daily Log'!#REF!),0)","v":0}," ",{"$f":"IFERROR($E243*SUMIF('Daily Log'!#REF!,$B243,'Daily Log'!#REF!),0)","v":0},{"$f":"IFERROR($E243*SUMIF('Daily Log'!#REF!,$B243,'Daily Log'!#REF!),0)","v":0},{"$f":"IFERROR($E243*SUMIF('Daily Log'!#REF!,$B243,'Daily Log'!#REF!),0)","v":0},{"$f":"IFERROR($E243*SUMIF('Daily Log'!#REF!,$B243,'Daily Log'!#REF!),0)","v":0},{"$f":"IFERROR($E243*SUMIF('Daily Log'!#REF!,$B243,'Daily Log'!#REF!),0)","v":0},{"$f":"IFERROR($E243*SUMIF('Daily Log'!#REF!,$B243,'Daily Log'!#REF!),0)","v":0},{"$f":"IFERROR($E243*SUMIF('Daily Log'!#REF!,$B243,'Daily Log'!#REF!),0)","v":0},{"$f":"IFERROR($E243*SUMIF('Daily Log'!#REF!,$B243,'Daily Log'!#REF!),0)","v":0},{"$f":"IFERROR($E243*SUMIF('Daily Log'!#REF!,$B243,'Daily Log'!#REF!),0)","v":0},{"$f":"IFERROR($E243*SUMIF('Daily Log'!#REF!,$B243,'Daily Log'!#REF!),0)","v":0},{"$f":"IFERROR($E243*SUMIF('Daily Log'!#REF!,$B243,'Daily Log'!#REF!),0)","v":0},{"$f":"IFERROR($E243*SUMIF('Daily Log'!#REF!,$B243,'Daily Log'!#REF!),0)","v":0},{"$f":"IFERROR($E243*SUMIF('Daily Log'!#REF!,$B243,'Daily Log'!#REF!),0)","v":0},{"$f":"IFERROR($E243*SUMIF('Daily Log'!#REF!,$B243,'Daily Log'!#REF!),0)","v":0},{"$f":"IFERROR($E243*SUMIF('Daily Log'!#REF!,$B243,'Daily Log'!#REF!),0)","v":0},{"$f":"IFERROR($E243*SUMIF('Daily Log'!$C$18:$C$1017,$B243,'Daily Log'!$D$18:$D$1017),0)","v":0},{"$f":"IFERROR($E243*SUMIF('Daily Log'!$F$18:$F$1017,$B243,'Daily Log'!$G$18:$G$1017),0)","v":1},{"$f":"IFERROR($E243*SUMIF('Daily Log'!$I$18:$I$1017,$B243,'Daily Log'!$J$18:$J$1017),0)","v":0},{"$f":"IFERROR($E243*SUMIF('Daily Log'!$L$18:$L$1017,$B243,'Daily Log'!$M$18:$M$1017),0)","v":0},{"$f":"IFERROR($E243*SUMIF('Daily Log'!$O$18:$O$1017,$B243,'Daily Log'!$P$18:$P$1017),0)","v":0},{"$f":"IFERROR($E243*SUMIF('Daily Log'!$R$18:$R$1017,$B243,'Daily Log'!$S$18:$S$1017),0)","v":0},{"$f":"IFERROR($E243*SUMIF('Daily Log'!$U$18:$U$1017,$B243,'Daily Log'!$V$18:$V$1017),0)","v":1},{"$f":"IFERROR($E243*SUMIF('Daily Log'!#REF!,$B243,'Daily Log'!#REF!),0)","v":0},{"$f":"IFERROR($E243*SUMIF('Daily Log'!#REF!,$B243,'Daily Log'!#REF!),0)","v":0},{"$f":"IFERROR($E243*SUMIF('Daily Log'!#REF!,$B243,'Daily Log'!#REF!),0)","v":0},{"$f":"IFERROR($E243*SUMIF('Daily Log'!#REF!,$B243,'Daily Log'!#REF!),0)","v":0},{"$f":"IFERROR($E243*SUMIF('Daily Log'!#REF!,$B243,'Daily Log'!#REF!),0)","v":0}]
[null,"GF02 KENT FUTURA",null,"CIGARETTE",1,0,{"$f":"IFERROR($E244*SUMIF('Daily Log'!#REF!,$B244,'Daily Log'!#REF!),0)","v":0},{"$f":"IFERROR($E244*SUMIF('Daily Log'!#REF!,$B244,'Daily Log'!#REF!),0)","v":0},{"$f":"IFERROR($E244*SUMIF('Daily Log'!#REF!,$B244,'Daily Log'!#REF!),0)","v":0}," ",{"$f":"IFERROR($E244*SUMIF('Daily Log'!#REF!,$B244,'Daily Log'!#REF!),0)","v":0},{"$f":"IFERROR($E244*SUMIF('Daily Log'!#REF!,$B244,'Daily Log'!#REF!),0)","v":0},{"$f":"IFERROR($E244*SUMIF('Daily Log'!#REF!,$B244,'Daily Log'!#REF!),0)","v":0},{"$f":"IFERROR($E244*SUMIF('Daily Log'!#REF!,$B244,'Daily Log'!#REF!),0)","v":0},{"$f":"IFERROR($E244*SUMIF('Daily Log'!#REF!,$B244,'Daily Log'!#REF!),0)","v":0},{"$f":"IFERROR($E244*SUMIF('Daily Log'!#REF!,$B244,'Daily Log'!#REF!),0)","v":0},{"$f":"IFERROR($E244*SUMIF('Daily Log'!#REF!,$B244,'Daily Log'!#REF!),0)","v":0},{"$f":"IFERROR($E244*SUMIF('Daily Log'!#REF!,$B244,'Daily Log'!#REF!),0)","v":0},{"$f":"IFERROR($E244*SUMIF('Daily Log'!#REF!,$B244,'Daily Log'!#REF!),0)","v":0},{"$f":"IFERROR($E244*SUMIF('Daily Log'!#REF!,$B244,'Daily Log'!#REF!),0)","v":0},{"$f":"IFERROR($E244*SUMIF('Daily Log'!#REF!,$B244,'Daily Log'!#REF!),0)","v":0},{"$f":"IFERROR($E244*SUMIF('Daily Log'!#REF!,$B244,'Daily Log'!#REF!),0)","v":0},{"$f":"IFERROR($E244*SUMIF('Daily Log'!#REF!,$B244,'Daily Log'!#REF!),0)","v":0},{"$f":"IFERROR($E244*SUMIF('Daily Log'!#REF!,$B244,'Daily Log'!#REF!),0)","v":0},{"$f":"IFERROR($E244*SUMIF('Daily Log'!#REF!,$B244,'Daily Log'!#REF!),0)","v":0},{"$f":"IFERROR($E244*SUMIF('Daily Log'!$C$18:$C$1017,$B244,'Daily Log'!$D$18:$D$1017),0)","v":0},{"$f":"IFERROR($E244*SUMIF('Daily Log'!$F$18:$F$1017,$B244,'Daily Log'!$G$18:$G$1017),0)","v":0},{"$f":"IFERROR($E244*SUMIF('Daily Log'!$I$18:$I$1017,$B244,'Daily Log'!$J$18:$J$1017),0)","v":0},{"$f":"IFERROR($E244*SUMIF('Daily Log'!$L$18:$L$1017,$B244,'Daily Log'!$M$18:$M$1017),0)","v":0},{"$f":"IFERROR($E244*SUMIF('Daily Log'!$O$18:$O$1017,$B244,'Daily Log'!$P$18:$P$1017),0)","v":0},{"$f":"IFERROR($E244*SUMIF('Daily Log'!$R$18:$R$1017,$B244,'Daily Log'!$S$18:$S$1017),0)","v":0},{"$f":"IFERROR($E244*SUMIF('Daily Log'!$U$18:$U$1017,$B244,'Daily Log'!$V$18:$V$1017),0)","v":0},{"$f":"IFERROR($E244*SUMIF('Daily Log'!#REF!,$B244,'Daily Log'!#REF!),0)","v":0},{"$f":"IFERROR($E244*SUMIF('Daily Log'!#REF!,$B244,'Daily Log'!#REF!),0)","v":0},{"$f":"IFERROR($E244*SUMIF('Daily Log'!#REF!,$B244,'Daily Log'!#REF!),0)","v":0},{"$f":"IFERROR($E244*SUMIF('Daily Log'!#REF!,$B244,'Daily Log'!#REF!),0)","v":0},{"$f":"IFERROR($E244*SUMIF('Daily Log'!#REF!,$B244,'Daily Log'!#REF!),0)","v":0}]
[null,"GF03 KENT MINTEK",null,"CIGARETTE",1,0,{"$f":"IFERROR($E245*SUMIF('Daily Log'!#REF!,$B245,'Daily Log'!#REF!),0)","v":0},{"$f":"IFERROR($E245*SUMIF('Daily Log'!#REF!,$B245,'Daily Log'!#REF!),0)","v":0},{"$f":"IFERROR($E245*SUMIF('Daily Log'!#REF!,$B245,'Daily Log'!#REF!),0)","v":0}," ",{"$f":"IFERROR($E245*SUMIF('Daily Log'!#REF!,$B245,'Daily Log'!#REF!),0)","v":0},{"$f":"IFERROR($E245*SUMIF('Daily Log'!#REF!,$B245,'Daily Log'!#REF!),0)","v":0},{"$f":"IFERROR($E245*SUMIF('Daily Log'!#REF!,$B245,'Daily Log'!#REF!),0)","v":0},{"$f":"IFERROR($E245*SUMIF('Daily Log'!#REF!,$B245,'Daily Log'!#REF!),0)","v":0},{"$f":"IFERROR($E245*SUMIF('Daily Log'!#REF!,$B245,'Daily Log'!#REF!),0)","v":0},{"$f":"IFERROR($E245*SUMIF('Daily Log'!#REF!,$B245,'Daily Log'!#REF!),0)","v":0},{"$f":"IFERROR($E245*SUMIF('Daily Log'!#REF!,$B245,'Daily Log'!#REF!),0)","v":0},{"$f":"IFERROR($E245*SUMIF('Daily Log'!#REF!,$B245,'Daily Log'!#REF!),0)","v":0},{"$f":"IFERROR($E245*SUMIF('Daily Log'!#REF!,$B245,'Daily Log'!#REF!),0)","v":0},{"$f":"IFERROR($E245*SUMIF('Daily Log'!#REF!,$B245,'Daily Log'!#REF!),0)","v":0},{"$f":"IFERROR($E245*SUMIF('Daily Log'!#REF!,$B245,'Daily Log'!#REF!),0)","v":0},{"$f":"IFERROR($E245*SUMIF('Daily Log'!#REF!,$B245,'Daily Log'!#REF!),0)","v":0},{"$f":"IFERROR($E245*SUMIF('Daily Log'!#REF!,$B245,'Daily Log'!#REF!),0)","v":0},{"$f":"IFERROR($E245*SUMIF('Daily Log'!#REF!,$B245,'Daily Log'!#REF!),0)","v":0},{"$f":"IFERROR($E245*SUMIF('Daily Log'!#REF!,$B245,'Daily Log'!#REF!),0)","v":0},{"$f":"IFERROR($E245*SUMIF('Daily Log'!$C$18:$C$1017,$B245,'Daily Log'!$D$18:$D$1017),0)","v":0},{"$f":"IFERROR($E245*SUMIF('Daily Log'!$F$18:$F$1017,$B245,'Daily Log'!$G$18:$G$1017),0)","v":0},{"$f":"IFERROR($E245*SUMIF('Daily Log'!$I$18:$I$1017,$B245,'Daily Log'!$J$18:$J$1017),0)","v":0},{"$f":"IFERROR($E245*SUMIF('Daily Log'!$L$18:$L$1017,$B245,'Daily Log'!$M$18:$M$1017),0)","v":0},{"$f":"IFERROR($E245*SUMIF('Daily Log'!$O$18:$O$1017,$B245,'Daily Log'!$P$18:$P$1017),0)","v":0},{"$f":"IFERROR($E245*SUMIF('Daily Log'!$R$18:$R$1017,$B245,'Daily Log'!$S$18:$S$1017),0)","v":0},{"$f":"IFERROR($E245*SUMIF('Daily Log'!$U$18:$U$1017,$B245,'Daily Log'!$V$18:$V$1017),0)","v":0},{"$f":"IFERROR($E245*SUMIF('Daily Log'!#REF!,$B245,'Daily Log'!#REF!),0)","v":0},{"$f":"IFERROR($E245*SUMIF('Daily Log'!#REF!,$B245,'Daily Log'!#REF!),0)","v":0},{"$f":"IFERROR($E245*SUMIF('Daily Log'!#REF!,$B245,'Daily Log'!#REF!),0)","v":0},{"$f":"IFERROR($E245*SUMIF('Daily Log'!#REF!,$B245,'Daily Log'!#REF!),0)","v":0},{"$f":"IFERROR($E245*SUMIF('Daily Log'!#REF!,$B245,'Daily Log'!#REF!),0)","v":0}]
[null,"GF04 KENT NEO",null,"CIGARETTE",1,1,{"$f":"IFERROR($E246*SUMIF('Daily Log'!#REF!,$B246,'Daily Log'!#REF!),0)","v":0},{"$f":"IFERROR($E246*SUMIF('Daily Log'!#REF!,$B246,'Daily Log'!#REF!),0)","v":0},{"$f":"IFERROR($E246*SUMIF('Daily Log'!#REF!,$B246,'Daily Log'!#REF!),0)","v":0}," ",{"$f":"IFERROR($E246*SUMIF('Daily Log'!#REF!,$B246,'Daily Log'!#REF!),0)","v":0},{"$f":"IFERROR($E246*SUMIF('Daily Log'!#REF!,$B246,'Daily Log'!#REF!),0)","v":0},{"$f":"IFERROR($E246*SUMIF('Daily Log'!#REF!,$B246,'Daily Log'!#REF!),0)","v":0},{"$f":"IFERROR($E246*SUMIF('Daily Log'!#REF!,$B246,'Daily Log'!#REF!),0)","v":0},{"$f":"IFERROR($E246*SUMIF('Daily Log'!#REF!,$B246,'Daily Log'!#REF!),0)","v":0},{"$f":"IFERROR($E246*SUMIF('Daily Log'!#REF!,$B246,'Daily Log'!#REF!),0)","v":0},{"$f":"IFERROR($E246*SUMIF('Daily Log'!#REF!,$B246,'Daily Log'!#REF!),0)","v":0},{"$f":"IFERROR($E246*SUMIF('Daily Log'!#REF!,$B246,'Daily Log'!#REF!),0)","v":0},{"$f":"IFERROR($E246*SUMIF('Daily Log'!#REF!,$B246,'Daily Log'!#REF!),0)","v":0},{"$f":"IFERROR($E246*SUMIF('Daily Log'!#REF!,$B246,'Daily Log'!#REF!),0)","v":0},{"$f":"IFERROR($E246*SUMIF('Daily Log'!#REF!,$B246,'Daily Log'!#REF!),0)","v":0},{"$f":"IFERROR($E246*SUMIF('Daily Log'!#REF!,$B246,'Daily Log'!#REF!),0)","v":0},{"$f":"IFERROR($E246*SUMIF('Daily Log'!#REF!,$B246,'Daily Log'!#REF!),0)","v":0},{"$f":"IFERROR($E246*SUMIF('Daily Log'!#REF!,$B246,'Daily Log'!#REF!),0)","v":0},{"$f":"IFERROR($E246*SUMIF('Daily Log'!#REF!,$B246,'Daily Log'!#REF!),0)","v":0},{"$f":"IFERROR($E246*SUMIF('Daily Log'!$C$18:$C$1017,$B246,'Daily Log'!$D$18:$D$1017),0)","v":0},{"$f":"IFERROR($E246*SUMIF('Daily Log'!$F$18:$F$1017,$B246,'Daily Log'!$G$18:$G$1017),0)","v":1},{"$f":"IFERROR($E246*SUMIF('Daily Log'!$I$18:$I$1017,$B246,'Daily Log'!$J$18:$J$1017),0)","v":0},{"$f":"IFERROR($E246*SUMIF('Daily Log'!$L$18:$L$1017,$B246,'Daily Log'!$M$18:$M$1017),0)","v":0},{"$f":"IFERROR($E246*SUMIF('Daily Log'!$O$18:$O$1017,$B246,'Daily Log'!$P$18:$P$1017),0)","v":0},{"$f":"IFERROR($E246*SUMIF('Daily Log'!$R$18:$R$1017,$B246,'Daily Log'!$S$18:$S$1017),0)","v":0},{"$f":"IFERROR($E246*SUMIF('Daily Log'!$U$18:$U$1017,$B246,'Daily Log'!$V$18:$V$1017),0)","v":0},{"$f":"IFERROR($E246*SUMIF('Daily Log'!#REF!,$B246,'Daily Log'!#REF!),0)","v":0},{"$f":"IFERROR($E246*SUMIF('Daily Log'!#REF!,$B246,'Daily Log'!#REF!),0)","v":0},{"$f":"IFERROR($E246*SUMIF('Daily Log'!#REF!,$B246,'Daily Log'!#REF!),0)","v":0},{"$f":"IFERROR($E246*SUMIF('Daily Log'!#REF!,$B246,'Daily Log'!#REF!),0)","v":0},{"$f":"IFERROR($E246*SUMIF('Daily Log'!#REF!,$B246,'Daily Log'!#REF!),0)","v":0}]
[null,"ZAB01 1201:SFD STICK",null,"COMBO-APPETIZER",1,0,{"$f":"IFERROR($E247*SUMIF('Daily Log'!#REF!,$B247,'Daily Log'!#REF!),0)","v":0},{"$f":"IFERROR($E247*SUMIF('Daily Log'!#REF!,$B247,'Daily Log'!#REF!),0)","v":0},{"$f":"IFERROR($E247*SUMIF('Daily Log'!#REF!,$B247,'Daily Log'!#REF!),0)","v":0}," ",{"$f":"IFERROR($E247*SUMIF('Daily Log'!#REF!,$B247,'Daily Log'!#REF!),0)","v":0},{"$f":"IFERROR($E247*SUMIF('Daily Log'!#REF!,$B247,'Daily Log'!#REF!),0)","v":0},{"$f":"IFERROR($E247*SUMIF('Daily Log'!#REF!,$B247,'Daily Log'!#REF!),0)","v":0},{"$f":"IFERROR($E247*SUMIF('Daily Log'!#REF!,$B247,'Daily Log'!#REF!),0)","v":0},{"$f":"IFERROR($E247*SUMIF('Daily Log'!#REF!,$B247,'Daily Log'!#REF!),0)","v":0},{"$f":"IFERROR($E247*SUMIF('Daily Log'!#REF!,$B247,'Daily Log'!#REF!),0)","v":0},{"$f":"IFERROR($E247*SUMIF('Daily Log'!#REF!,$B247,'Daily Log'!#REF!),0)","v":0},{"$f":"IFERROR($E247*SUMIF('Daily Log'!#REF!,$B247,'Daily Log'!#REF!),0)","v":0},{"$f":"IFERROR($E247*SUMIF('Daily Log'!#REF!,$B247,'Daily Log'!#REF!),0)","v":0},{"$f":"IFERROR($E247*SUMIF('Daily Log'!#REF!,$B247,'Daily Log'!#REF!),0)","v":0},{"$f":"IFERROR($E247*SUMIF('Daily Log'!#REF!,$B247,'Daily Log'!#REF!),0)","v":0},{"$f":"IFERROR($E247*SUMIF('Daily Log'!#REF!,$B247,'Daily Log'!#REF!),0)","v":0},{"$f":"IFERROR($E247*SUMIF('Daily Log'!#REF!,$B247,'Daily Log'!#REF!),0)","v":0},{"$f":"IFERROR($E247*SUMIF('Daily Log'!#REF!,$B247,'Daily Log'!#REF!),0)","v":0},{"$f":"IFERROR($E247*SUMIF('Daily Log'!#REF!,$B247,'Daily Log'!#REF!),0)","v":0},{"$f":"IFERROR($E247*SUMIF('Daily Log'!$C$18:$C$1017,$B247,'Daily Log'!$D$18:$D$1017),0)","v":0},{"$f":"IFERROR($E247*SUMIF('Daily Log'!$F$18:$F$1017,$B247,'Daily Log'!$G$18:$G$1017),0)","v":0},{"$f":"IFERROR($E247*SUMIF('Daily Log'!$I$18:$I$1017,$B247,'Daily Log'!$J$18:$J$1017),0)","v":0},{"$f":"IFERROR($E247*SUMIF('Daily Log'!$L$18:$L$1017,$B247,'Daily Log'!$M$18:$M$1017),0)","v":0},{"$f":"IFERROR($E247*SUMIF('Daily Log'!$O$18:$O$1017,$B247,'Daily Log'!$P$18:$P$1017),0)","v":0},{"$f":"IFERROR($E247*SUMIF('Daily Log'!$R$18:$R$1017,$B247,'Daily Log'!$S$18:$S$1017),0)","v":0},{"$f":"IFERROR($E247*SUMIF('Daily Log'!$U$18:$U$1017,$B247,'Daily Log'!$V$18:$V$1017),0)","v":0},{"$f":"IFERROR($E247*SUMIF('Daily Log'!#REF!,$B247,'Daily Log'!#REF!),0)","v":0},{"$f":"IFERROR($E247*SUMIF('Daily Log'!#REF!,$B247,'Daily Log'!#REF!),0)","v":0},{"$f":"IFERROR($E247*SUMIF('Daily Log'!#REF!,$B247,'Daily Log'!#REF!),0)","v":0},{"$f":"IFERROR($E247*SUMIF('Daily Log'!#REF!,$B247,'Daily Log'!#REF!),0)","v":0},{"$f":"IFERROR($E247*SUMIF('Daily Log'!#REF!,$B247,'Daily Log'!#REF!),0)","v":0}]
[null,"ZAB02 1202:FRIES",null,"COMBO-APPETIZER",1,0,{"$f":"IFERROR($E248*SUMIF('Daily Log'!#REF!,$B248,'Daily Log'!#REF!),0)","v":0},{"$f":"IFERROR($E248*SUMIF('Daily Log'!#REF!,$B248,'Daily Log'!#REF!),0)","v":0},{"$f":"IFERROR($E248*SUMIF('Daily Log'!#REF!,$B248,'Daily Log'!#REF!),0)","v":0}," ",{"$f":"IFERROR($E248*SUMIF('Daily Log'!#REF!,$B248,'Daily Log'!#REF!),0)","v":0},{"$f":"IFERROR($E248*SUMIF('Daily Log'!#REF!,$B248,'Daily Log'!#REF!),0)","v":0},{"$f":"IFERROR($E248*SUMIF('Daily Log'!#REF!,$B248,'Daily Log'!#REF!),0)","v":0},{"$f":"IFERROR($E248*SUMIF('Daily Log'!#REF!,$B248,'Daily Log'!#REF!),0)","v":0},{"$f":"IFERROR($E248*SUMIF('Daily Log'!#REF!,$B248,'Daily Log'!#REF!),0)","v":0},{"$f":"IFERROR($E248*SUMIF('Daily Log'!#REF!,$B248,'Daily Log'!#REF!),0)","v":0},{"$f":"IFERROR($E248*SUMIF('Daily Log'!#REF!,$B248,'Daily Log'!#REF!),0)","v":0},{"$f":"IFERROR($E248*SUMIF('Daily Log'!#REF!,$B248,'Daily Log'!#REF!),0)","v":0},{"$f":"IFERROR($E248*SUMIF('Daily Log'!#REF!,$B248,'Daily Log'!#REF!),0)","v":0},{"$f":"IFERROR($E248*SUMIF('Daily Log'!#REF!,$B248,'Daily Log'!#REF!),0)","v":0},{"$f":"IFERROR($E248*SUMIF('Daily Log'!#REF!,$B248,'Daily Log'!#REF!),0)","v":0},{"$f":"IFERROR($E248*SUMIF('Daily Log'!#REF!,$B248,'Daily Log'!#REF!),0)","v":0},{"$f":"IFERROR($E248*SUMIF('Daily Log'!#REF!,$B248,'Daily Log'!#REF!),0)","v":0},{"$f":"IFERROR($E248*SUMIF('Daily Log'!#REF!,$B248,'Daily Log'!#REF!),0)","v":0},{"$f":"IFERROR($E248*SUMIF('Daily Log'!#REF!,$B248,'Daily Log'!#REF!),0)","v":0},{"$f":"IFERROR($E248*SUMIF('Daily Log'!$C$18:$C$1017,$B248,'Daily Log'!$D$18:$D$1017),0)","v":0},{"$f":"IFERROR($E248*SUMIF('Daily Log'!$F$18:$F$1017,$B248,'Daily Log'!$G$18:$G$1017),0)","v":0},{"$f":"IFERROR($E248*SUMIF('Daily Log'!$I$18:$I$1017,$B248,'Daily Log'!$J$18:$J$1017),0)","v":0},{"$f":"IFERROR($E248*SUMIF('Daily Log'!$L$18:$L$1017,$B248,'Daily Log'!$M$18:$M$1017),0)","v":0},{"$f":"IFERROR($E248*SUMIF('Daily Log'!$O$18:$O$1017,$B248,'Daily Log'!$P$18:$P$1017),0)","v":0},{"$f":"IFERROR($E248*SUMIF('Daily Log'!$R$18:$R$1017,$B248,'Daily Log'!$S$18:$S$1017),0)","v":0},{"$f":"IFERROR($E248*SUMIF('Daily Log'!$U$18:$U$1017,$B248,'Daily Log'!$V$18:$V$1017),0)","v":0},{"$f":"IFERROR($E248*SUMIF('Daily Log'!#REF!,$B248,'Daily Log'!#REF!),0)","v":0},{"$f":"IFERROR($E248*SUMIF('Daily Log'!#REF!,$B248,'Daily Log'!#REF!),0)","v":0},{"$f":"IFERROR($E248*SUMIF('Daily Log'!#REF!,$B248,'Daily Log'!#REF!),0)","v":0},{"$f":"IFERROR($E248*SUMIF('Daily Log'!#REF!,$B248,'Daily Log'!#REF!),0)","v":0},{"$f":"IFERROR($E248*SUMIF('Daily Log'!#REF!,$B248,'Daily Log'!#REF!),0)","v":0}]
[null,"ZAB03 1203:GOLD MROOM",null,"COMBO-APPETIZER",1,0,{"$f":"IFERROR($E249*SUMIF('Daily Log'!#REF!,$B249,'Daily Log'!#REF!),0)","v":0},{"$f":"IFERROR($E249*SUMIF('Daily Log'!#REF!,$B249,'Daily Log'!#REF!),0)","v":0},{"$f":"IFERROR($E249*SUMIF('Daily Log'!#REF!,$B249,'Daily Log'!#REF!),0)","v":0}," ",{"$f":"IFERROR($E249*SUMIF('Daily Log'!#REF!,$B249,'Daily Log'!#REF!),0)","v":0},{"$f":"IFERROR($E249*SUMIF('Daily Log'!#REF!,$B249,'Daily Log'!#REF!),0)","v":0},{"$f":"IFERROR($E249*SUMIF('Daily Log'!#REF!,$B249,'Daily Log'!#REF!),0)","v":0},{"$f":"IFERROR($E249*SUMIF('Daily Log'!#REF!,$B249,'Daily Log'!#REF!),0)","v":0},{"$f":"IFERROR($E249*SUMIF('Daily Log'!#REF!,$B249,'Daily Log'!#REF!),0)","v":0},{"$f":"IFERROR($E249*SUMIF('Daily Log'!#REF!,$B249,'Daily Log'!#REF!),0)","v":0},{"$f":"IFERROR($E249*SUMIF('Daily Log'!#REF!,$B249,'Daily Log'!#REF!),0)","v":0},{"$f":"IFERROR($E249*SUMIF('Daily Log'!#REF!,$B249,'Daily Log'!#REF!),0)","v":0},{"$f":"IFERROR($E249*SUMIF('Daily Log'!#REF!,$B249,'Daily Log'!#REF!),0)","v":0},{"$f":"IFERROR($E249*SUMIF('Daily Log'!#REF!,$B249,'Daily Log'!#REF!),0)","v":0},{"$f":"IFERROR($E249*SUMIF('Daily Log'!#REF!,$B249,'Daily Log'!#REF!),0)","v":0},{"$f":"IFERROR($E249*SUMIF('Daily Log'!#REF!,$B249,'Daily Log'!#REF!),0)","v":0},{"$f":"IFERROR($E249*SUMIF('Daily Log'!#REF!,$B249,'Daily Log'!#REF!),0)","v":0},{"$f":"IFERROR($E249*SUMIF('Daily Log'!#REF!,$B249,'Daily Log'!#REF!),0)","v":0},{"$f":"IFERROR($E249*SUMIF('Daily Log'!#REF!,$B249,'Daily Log'!#REF!),0)","v":0},{"$f":"IFERROR($E249*SUMIF('Daily Log'!$C$18:$C$1017,$B249,'Daily Log'!$D$18:$D$1017),0)","v":0},{"$f":"IFERROR($E249*SUMIF('Daily Log'!$F$18:$F$1017,$B249,'Daily Log'!$G$18:$G$1017),0)","v":0},{"$f":"IFERROR($E249*SUMIF('Daily Log'!$I$18:$I$1017,$B249,'Daily Log'!$J$18:$J$1017),0)","v":0},{"$f":"IFERROR($E249*SUMIF('Daily Log'!$L$18:$L$1017,$B249,'Daily Log'!$M$18:$M$1017),0)","v":0},{"$f":"IFERROR($E249*SUMIF('Daily Log'!$O$18:$O$1017,$B249,'Daily Log'!$P$18:$P$1017),0)","v":0},{"$f":"IFERROR($E249*SUMIF('Daily Log'!$R$18:$R$1017,$B249,'Daily Log'!$S$18:$S$1017),0)","v":0},{"$f":"IFERROR($E249*SUMIF('Daily Log'!$U$18:$U$1017,$B249,'Daily Log'!$V$18:$V$1017),0)","v":0},{"$f":"IFERROR($E249*SUMIF('Daily Log'!#REF!,$B249,'Daily Log'!#REF!),0)","v":0},{"$f":"IFERROR($E249*SUMIF('Daily Log'!#REF!,$B249,'Daily Log'!#REF!),0)","v":0},{"$f":"IFERROR($E249*SUMIF('Daily Log'!#REF!,$B249,'Daily Log'!#REF!),0)","v":0},{"$f":"IFERROR($E249*SUMIF('Daily Log'!#REF!,$B249,'Daily Log'!#REF!),0)","v":0},{"$f":"IFERROR($E249*SUMIF('Daily Log'!#REF!,$B249,'Daily Log'!#REF!),0)","v":0}]
[null,"ZAB04 1204:F.BALL",null,"COMBO-APPETIZER",1,0,{"$f":"IFERROR($E250*SUMIF('Daily Log'!#REF!,$B250,'Daily Log'!#REF!),0)","v":0},{"$f":"IFERROR($E250*SUMIF('Daily Log'!#REF!,$B250,'Daily Log'!#REF!),0)","v":0},{"$f":"IFERROR($E250*SUMIF('Daily Log'!#REF!,$B250,'Daily Log'!#REF!),0)","v":0}," ",{"$f":"IFERROR($E250*SUMIF('Daily Log'!#REF!,$B250,'Daily Log'!#REF!),0)","v":0},{"$f":"IFERROR($E250*SUMIF('Daily Log'!#REF!,$B250,'Daily Log'!#REF!),0)","v":0},{"$f":"IFERROR($E250*SUMIF('Daily Log'!#REF!,$B250,'Daily Log'!#REF!),0)","v":0},{"$f":"IFERROR($E250*SUMIF('Daily Log'!#REF!,$B250,'Daily Log'!#REF!),0)","v":0},{"$f":"IFERROR($E250*SUMIF('Daily Log'!#REF!,$B250,'Daily Log'!#REF!),0)","v":0},{"$f":"IFERROR($E250*SUMIF('Daily Log'!#REF!,$B250,'Daily Log'!#REF!),0)","v":0},{"$f":"IFERROR($E250*SUMIF('Daily Log'!#REF!,$B250,'Daily Log'!#REF!),0)","v":0},{"$f":"IFERROR($E250*SUMIF('Daily Log'!#REF!,$B250,'Daily Log'!#REF!),0)","v":0},{"$f":"IFERROR($E250*SUMIF('Daily Log'!#REF!,$B250,'Daily Log'!#REF!),0)","v":0},{"$f":"IFERROR($E250*SUMIF('Daily Log'!#REF!,$B250,'Daily Log'!#REF!),0)","v":0},{"$f":"IFERROR($E250*SUMIF('Daily Log'!#REF!,$B250,'Daily Log'!#REF!),0)","v":0},{"$f":"IFERROR($E250*SUMIF('Daily Log'!#REF!,$B250,'Daily Log'!#REF!),0)","v":0},{"$f":"IFERROR($E250*SUMIF('Daily Log'!#REF!,$B250,'Daily Log'!#REF!),0)","v":0},{"$f":"IFERROR($E250*SUMIF('Daily Log'!#REF!,$B250,'Daily Log'!#REF!),0)","v":0},{"$f":"IFERROR($E250*SUMIF('Daily Log'!#REF!,$B250,'Daily Log'!#REF!),0)","v":0},{"$f":"IFERROR($E250*SUMIF('Daily Log'!$C$18:$C$1017,$B250,'Daily Log'!$D$18:$D$1017),0)","v":0},{"$f":"IFERROR($E250*SUMIF('Daily Log'!$F$18:$F$1017,$B250,'Daily Log'!$G$18:$G$1017),0)","v":0},{"$f":"IFERROR($E250*SUMIF('Daily Log'!$I$18:$I$1017,$B250,'Daily Log'!$J$18:$J$1017),0)","v":0},{"$f":"IFERROR($E250*SUMIF('Daily Log'!$L$18:$L$1017,$B250,'Daily Log'!$M$18:$M$1017),0)","v":0},{"$f":"IFERROR($E250*SUMIF('Daily Log'!$O$18:$O$1017,$B250,'Daily Log'!$P$18:$P$1017),0)","v":0},{"$f":"IFERROR($E250*SUMIF('Daily Log'!$R$18:$R$1017,$B250,'Daily Log'!$S$18:$S$1017),0)","v":0},{"$f":"IFERROR($E250*SUMIF('Daily Log'!$U$18:$U$1017,$B250,'Daily Log'!$V$18:$V$1017),0)","v":0},{"$f":"IFERROR($E250*SUMIF('Daily Log'!#REF!,$B250,'Daily Log'!#REF!),0)","v":0},{"$f":"IFERROR($E250*SUMIF('Daily Log'!#REF!,$B250,'Daily Log'!#REF!),0)","v":0},{"$f":"IFERROR($E250*SUMIF('Daily Log'!#REF!,$B250,'Daily Log'!#REF!),0)","v":0},{"$f":"IFERROR($E250*SUMIF('Daily Log'!#REF!,$B250,'Daily Log'!#REF!),0)","v":0},{"$f":"IFERROR($E250*SUMIF('Daily Log'!#REF!,$B250,'Daily Log'!#REF!),0)","v":0}]
[null,"ZAB05 1205:RAINBOW RL",null,"COMBO-APPETIZER",1,0,{"$f":"IFERROR($E251*SUMIF('Daily Log'!#REF!,$B251,'Daily Log'!#REF!),0)","v":0},{"$f":"IFERROR($E251*SUMIF('Daily Log'!#REF!,$B251,'Daily Log'!#REF!),0)","v":0},{"$f":"IFERROR($E251*SUMIF('Daily Log'!#REF!,$B251,'Daily Log'!#REF!),0)","v":0}," ",{"$f":"IFERROR($E251*SUMIF('Daily Log'!#REF!,$B251,'Daily Log'!#REF!),0)","v":0},{"$f":"IFERROR($E251*SUMIF('Daily Log'!#REF!,$B251,'Daily Log'!#REF!),0)","v":0},{"$f":"IFERROR($E251*SUMIF('Daily Log'!#REF!,$B251,'Daily Log'!#REF!),0)","v":0},{"$f":"IFERROR($E251*SUMIF('Daily Log'!#REF!,$B251,'Daily Log'!#REF!),0)","v":0},{"$f":"IFERROR($E251*SUMIF('Daily Log'!#REF!,$B251,'Daily Log'!#REF!),0)","v":0},{"$f":"IFERROR($E251*SUMIF('Daily Log'!#REF!,$B251,'Daily Log'!#REF!),0)","v":0},{"$f":"IFERROR($E251*SUMIF('Daily Log'!#REF!,$B251,'Daily Log'!#REF!),0)","v":0},{"$f":"IFERROR($E251*SUMIF('Daily Log'!#REF!,$B251,'Daily Log'!#REF!),0)","v":0},{"$f":"IFERROR($E251*SUMIF('Daily Log'!#REF!,$B251,'Daily Log'!#REF!),0)","v":0},{"$f":"IFERROR($E251*SUMIF('Daily Log'!#REF!,$B251,'Daily Log'!#REF!),0)","v":0},{"$f":"IFERROR($E251*SUMIF('Daily Log'!#REF!,$B251,'Daily Log'!#REF!),0)","v":0},{"$f":"IFERROR($E251*SUMIF('Daily Log'!#REF!,$B251,'Daily Log'!#REF!),0)","v":0},{"$f":"IFERROR($E251*SUMIF('Daily Log'!#REF!,$B251,'Daily Log'!#REF!),0)","v":0},{"$f":"IFERROR($E251*SUMIF('Daily Log'!#REF!,$B251,'Daily Log'!#REF!),0)","v":0},{"$f":"IFERROR($E251*SUMIF('Daily Log'!#REF!,$B251,'Daily Log'!#REF!),0)","v":0},{"$f":"IFERROR($E251*SUMIF('Daily Log'!$C$18:$C$1017,$B251,'Daily Log'!$D$18:$D$1017),0)","v":0},{"$f":"IFERROR($E251*SUMIF('Daily Log'!$F$18:$F$1017,$B251,'Daily Log'!$G$18:$G$1017),0)","v":0},{"$f":"IFERROR($E251*SUMIF('Daily Log'!$I$18:$I$1017,$B251,'Daily Log'!$J$18:$J$1017),0)","v":0},{"$f":"IFERROR($E251*SUMIF('Daily Log'!$L$18:$L$1017,$B251,'Daily Log'!$M$18:$M$1017),0)","v":0},{"$f":"IFERROR($E251*SUMIF('Daily Log'!$O$18:$O$1017,$B251,'Daily Log'!$P$18:$P$1017),0)","v":0},{"$f":"IFERROR($E251*SUMIF('Daily Log'!$R$18:$R$1017,$B251,'Daily Log'!$S$18:$S$1017),0)","v":0},{"$f":"IFERROR($E251*SUMIF('Daily Log'!$U$18:$U$1017,$B251,'Daily Log'!$V$18:$V$1017),0)","v":0},{"$f":"IFERROR($E251*SUMIF('Daily Log'!#REF!,$B251,'Daily Log'!#REF!),0)","v":0},{"$f":"IFERROR($E251*SUMIF('Daily Log'!#REF!,$B251,'Daily Log'!#REF!),0)","v":0},{"$f":"IFERROR($E251*SUMIF('Daily Log'!#REF!,$B251,'Daily Log'!#REF!),0)","v":0},{"$f":"IFERROR($E251*SUMIF('Daily Log'!#REF!,$B251,'Daily Log'!#REF!),0)","v":0},{"$f":"IFERROR($E251*SUMIF('Daily Log'!#REF!,$B251,'Daily Log'!#REF!),0)","v":0}]
[null,"ZAB06 1206:SPRING RL",null,"COMBO-APPETIZER",1,0,{"$f":"IFERROR($E252*SUMIF('Daily Log'!#REF!,$B252,'Daily Log'!#REF!),0)","v":0},{"$f":"IFERROR($E252*SUMIF('Daily Log'!#REF!,$B252,'Daily Log'!#REF!),0)","v":0},{"$f":"IFERROR($E252*SUMIF('Daily Log'!#REF!,$B252,'Daily Log'!#REF!),0)","v":0}," ",{"$f":"IFERROR($E252*SUMIF('Daily Log'!#REF!,$B252,'Daily Log'!#REF!),0)","v":0},{"$f":"IFERROR($E252*SUMIF('Daily Log'!#REF!,$B252,'Daily Log'!#REF!),0)","v":0},{"$f":"IFERROR($E252*SUMIF('Daily Log'!#REF!,$B252,'Daily Log'!#REF!),0)","v":0},{"$f":"IFERROR($E252*SUMIF('Daily Log'!#REF!,$B252,'Daily Log'!#REF!),0)","v":0},{"$f":"IFERROR($E252*SUMIF('Daily Log'!#REF!,$B252,'Daily Log'!#REF!),0)","v":0},{"$f":"IFERROR($E252*SUMIF('Daily Log'!#REF!,$B252,'Daily Log'!#REF!),0)","v":0},{"$f":"IFERROR($E252*SUMIF('Daily Log'!#REF!,$B252,'Daily Log'!#REF!),0)","v":0},{"$f":"IFERROR($E252*SUMIF('Daily Log'!#REF!,$B252,'Daily Log'!#REF!),0)","v":0},{"$f":"IFERROR($E252*SUMIF('Daily Log'!#REF!,$B252,'Daily Log'!#REF!),0)","v":0},{"$f":"IFERROR($E252*SUMIF('Daily Log'!#REF!,$B252,'Daily Log'!#REF!),0)","v":0},{"$f":"IFERROR($E252*SUMIF('Daily Log'!#REF!,$B252,'Daily Log'!#REF!),0)","v":0},{"$f":"IFERROR($E252*SUMIF('Daily Log'!#REF!,$B252,'Daily Log'!#REF!),0)","v":0},{"$f":"IFERROR($E252*SUMIF('Daily Log'!#REF!,$B252,'Daily Log'!#REF!),0)","v":0},{"$f":"IFERROR($E252*SUMIF('Daily Log'!#REF!,$B252,'Daily Log'!#REF!),0)","v":0},{"$f":"IFERROR($E252*SUMIF('Daily Log'!#REF!,$B252,'Daily Log'!#REF!),0)","v":0},{"$f":"IFERROR($E252*SUMIF('Daily Log'!$C$18:$C$1017,$B252,'Daily Log'!$D$18:$D$1017),0)","v":0},{"$f":"IFERROR($E252*SUMIF('Daily Log'!$F$18:$F$1017,$B252,'Daily Log'!$G$18:$G$1017),0)","v":0},{"$f":"IFERROR($E252*SUMIF('Daily Log'!$I$18:$I$1017,$B252,'Daily Log'!$J$18:$J$1017),0)","v":0},{"$f":"IFERROR($E252*SUMIF('Daily Log'!$L$18:$L$1017,$B252,'Daily Log'!$M$18:$M$1017),0)","v":0},{"$f":"IFERROR($E252*SUMIF('Daily Log'!$O$18:$O$1017,$B252,'Daily Log'!$P$18:$P$1017),0)","v":0},{"$f":"IFERROR($E252*SUMIF('Daily Log'!$R$18:$R$1017,$B252,'Daily Log'!$S$18:$S$1017),0)","v":0},{"$f":"IFERROR($E252*SUMIF('Daily Log'!$U$18:$U$1017,$B252,'Daily Log'!$V$18:$V$1017),0)","v":0},{"$f":"IFERROR($E252*SUMIF('Daily Log'!#REF!,$B252,'Daily Log'!#REF!),0)","v":0},{"$f":"IFERROR($E252*SUMIF('Daily Log'!#REF!,$B252,'Daily Log'!#REF!),0)","v":0},{"$f":"IFERROR($E252*SUMIF('Daily Log'!#REF!,$B252,'Daily Log'!#REF!),0)","v":0},{"$f":"IFERROR($E252*SUMIF('Daily Log'!#REF!,$B252,'Daily Log'!#REF!),0)","v":0},{"$f":"IFERROR($E252*SUMIF('Daily Log'!#REF!,$B252,'Daily Log'!#REF!),0)","v":0}]
[null,"ZAB07 1207:SAUSAGE",null,"COMBO-APPETIZER",1,0,{"$f":"IFERROR($E253*SUMIF('Daily Log'!#REF!,$B253,'Daily Log'!#REF!),0)","v":0},{"$f":"IFERROR($E253*SUMIF('Daily Log'!#REF!,$B253,'Daily Log'!#REF!),0)","v":0},{"$f":"IFERROR($E253*SUMIF('Daily Log'!#REF!,$B253,'Daily Log'!#REF!),0)","v":0}," ",{"$f":"IFERROR($E253*SUMIF('Daily Log'!#REF!,$B253,'Daily Log'!#REF!),0)","v":0},{"$f":"IFERROR($E253*SUMIF('Daily Log'!#REF!,$B253,'Daily Log'!#REF!),0)","v":0},{"$f":"IFERROR($E253*SUMIF('Daily Log'!#REF!,$B253,'Daily Log'!#REF!),0)","v":0},{"$f":"IFERROR($E253*SUMIF('Daily Log'!#REF!,$B253,'Daily Log'!#REF!),0)","v":0},{"$f":"IFERROR($E253*SUMIF('Daily Log'!#REF!,$B253,'Daily Log'!#REF!),0)","v":0},{"$f":"IFERROR($E253*SUMIF('Daily Log'!#REF!,$B253,'Daily Log'!#REF!),0)","v":0},{"$f":"IFERROR($E253*SUMIF('Daily Log'!#REF!,$B253,'Daily Log'!#REF!),0)","v":0},{"$f":"IFERROR($E253*SUMIF('Daily Log'!#REF!,$B253,'Daily Log'!#REF!),0)","v":0},{"$f":"IFERROR($E253*SUMIF('Daily Log'!#REF!,$B253,'Daily Log'!#REF!),0)","v":0},{"$f":"IFERROR($E253*SUMIF('Daily Log'!#REF!,$B253,'Daily Log'!#REF!),0)","v":0},{"$f":"IFERROR($E253*SUMIF('Daily Log'!#REF!,$B253,'Daily Log'!#REF!),0)","v":0},{"$f":"IFERROR($E253*SUMIF('Daily Log'!#REF!,$B253,'Daily Log'!#REF!),0)","v":0},{"$f":"IFERROR($E253*SUMIF('Daily Log'!#REF!,$B253,'Daily Log'!#REF!),0)","v":0},{"$f":"IFERROR($E253*SUMIF('Daily Log'!#REF!,$B253,'Daily Log'!#REF!),0)","v":0},{"$f":"IFERROR($E253*SUMIF('Daily Log'!#REF!,$B253,'Daily Log'!#REF!),0)","v":0},{"$f":"IFERROR($E253*SUMIF('Daily Log'!$C$18:$C$1017,$B253,'Daily Log'!$D$18:$D$1017),0)","v":0},{"$f":"IFERROR($E253*SUMIF('Daily Log'!$F$18:$F$1017,$B253,'Daily Log'!$G$18:$G$1017),0)","v":0},{"$f":"IFERROR($E253*SUMIF('Daily Log'!$I$18:$I$1017,$B253,'Daily Log'!$J$18:$J$1017),0)","v":0},{"$f":"IFERROR($E253*SUMIF('Daily Log'!$L$18:$L$1017,$B253,'Daily Log'!$M$18:$M$1017),0)","v":0},{"$f":"IFERROR($E253*SUMIF('Daily Log'!$O$18:$O$1017,$B253,'Daily Log'!$P$18:$P$1017),0)","v":0},{"$f":"IFERROR($E253*SUMIF('Daily Log'!$R$18:$R$1017,$B253,'Daily Log'!$S$18:$S$1017),0)","v":0},{"$f":"IFERROR($E253*SUMIF('Daily Log'!$U$18:$U$1017,$B253,'Daily Log'!$V$18:$V$1017),0)","v":0},{"$f":"IFERROR($E253*SUMIF('Daily Log'!#REF!,$B253,'Daily Log'!#REF!),0)","v":0},{"$f":"IFERROR($E253*SUMIF('Daily Log'!#REF!,$B253,'Daily Log'!#REF!),0)","v":0},{"$f":"IFERROR($E253*SUMIF('Daily Log'!#REF!,$B253,'Daily Log'!#REF!),0)","v":0},{"$f":"IFERROR($E253*SUMIF('Daily Log'!#REF!,$B253,'Daily Log'!#REF!),0)","v":0},{"$f":"IFERROR($E253*SUMIF('Daily Log'!#REF!,$B253,'Daily Log'!#REF!),0)","v":0}]
[null,"ZAC01 1301:DUMPLING",null,"COMBO-APPETIZER",1,0,{"$f":"IFERROR($E254*SUMIF('Daily Log'!#REF!,$B254,'Daily Log'!#REF!),0)","v":0},{"$f":"IFERROR($E254*SUMIF('Daily Log'!#REF!,$B254,'Daily Log'!#REF!),0)","v":0},{"$f":"IFERROR($E254*SUMIF('Daily Log'!#REF!,$B254,'Daily Log'!#REF!),0)","v":0}," ",{"$f":"IFERROR($E254*SUMIF('Daily Log'!#REF!,$B254,'Daily Log'!#REF!),0)","v":0},{"$f":"IFERROR($E254*SUMIF('Daily Log'!#REF!,$B254,'Daily Log'!#REF!),0)","v":0},{"$f":"IFERROR($E254*SUMIF('Daily Log'!#REF!,$B254,'Daily Log'!#REF!),0)","v":0},{"$f":"IFERROR($E254*SUMIF('Daily Log'!#REF!,$B254,'Daily Log'!#REF!),0)","v":0},{"$f":"IFERROR($E254*SUMIF('Daily Log'!#REF!,$B254,'Daily Log'!#REF!),0)","v":0},{"$f":"IFERROR($E254*SUMIF('Daily Log'!#REF!,$B254,'Daily Log'!#REF!),0)","v":0},{"$f":"IFERROR($E254*SUMIF('Daily Log'!#REF!,$B254,'Daily Log'!#REF!),0)","v":0},{"$f":"IFERROR($E254*SUMIF('Daily Log'!#REF!,$B254,'Daily Log'!#REF!),0)","v":0},{"$f":"IFERROR($E254*SUMIF('Daily Log'!#REF!,$B254,'Daily Log'!#REF!),0)","v":0},{"$f":"IFERROR($E254*SUMIF('Daily Log'!#REF!,$B254,'Daily Log'!#REF!),0)","v":0},{"$f":"IFERROR($E254*SUMIF('Daily Log'!#REF!,$B254,'Daily Log'!#REF!),0)","v":0},{"$f":"IFERROR($E254*SUMIF('Daily Log'!#REF!,$B254,'Daily Log'!#REF!),0)","v":0},{"$f":"IFERROR($E254*SUMIF('Daily Log'!#REF!,$B254,'Daily Log'!#REF!),0)","v":0},{"$f":"IFERROR($E254*SUMIF('Daily Log'!#REF!,$B254,'Daily Log'!#REF!),0)","v":0},{"$f":"IFERROR($E254*SUMIF('Daily Log'!#REF!,$B254,'Daily Log'!#REF!),0)","v":0},{"$f":"IFERROR($E254*SUMIF('Daily Log'!$C$18:$C$1017,$B254,'Daily Log'!$D$18:$D$1017),0)","v":0},{"$f":"IFERROR($E254*SUMIF('Daily Log'!$F$18:$F$1017,$B254,'Daily Log'!$G$18:$G$1017),0)","v":0},{"$f":"IFERROR($E254*SUMIF('Daily Log'!$I$18:$I$1017,$B254,'Daily Log'!$J$18:$J$1017),0)","v":0},{"$f":"IFERROR($E254*SUMIF('Daily Log'!$L$18:$L$1017,$B254,'Daily Log'!$M$18:$M$1017),0)","v":0},{"$f":"IFERROR($E254*SUMIF('Daily Log'!$O$18:$O$1017,$B254,'Daily Log'!$P$18:$P$1017),0)","v":0},{"$f":"IFERROR($E254*SUMIF('Daily Log'!$R$18:$R$1017,$B254,'Daily Log'!$S$18:$S$1017),0)","v":0},{"$f":"IFERROR($E254*SUMIF('Daily Log'!$U$18:$U$1017,$B254,'Daily Log'!$V$18:$V$1017),0)","v":0},{"$f":"IFERROR($E254*SUMIF('Daily Log'!#REF!,$B254,'Daily Log'!#REF!),0)","v":0},{"$f":"IFERROR($E254*SUMIF('Daily Log'!#REF!,$B254,'Daily Log'!#REF!),0)","v":0},{"$f":"IFERROR($E254*SUMIF('Daily Log'!#REF!,$B254,'Daily Log'!#REF!),0)","v":0},{"$f":"IFERROR($E254*SUMIF('Daily Log'!#REF!,$B254,'Daily Log'!#REF!),0)","v":0},{"$f":"IFERROR($E254*SUMIF('Daily Log'!#REF!,$B254,'Daily Log'!#REF!),0)","v":0}]
[null,"ZAC02 1302:NUGGET",null,"COMBO-APPETIZER",1,0,{"$f":"IFERROR($E255*SUMIF('Daily Log'!#REF!,$B255,'Daily Log'!#REF!),0)","v":0},{"$f":"IFERROR($E255*SUMIF('Daily Log'!#REF!,$B255,'Daily Log'!#REF!),0)","v":0},{"$f":"IFERROR($E255*SUMIF('Daily Log'!#REF!,$B255,'Daily Log'!#REF!),0)","v":0}," ",{"$f":"IFERROR($E255*SUMIF('Daily Log'!#REF!,$B255,'Daily Log'!#REF!),0)","v":0},{"$f":"IFERROR($E255*SUMIF('Daily Log'!#REF!,$B255,'Daily Log'!#REF!),0)","v":0},{"$f":"IFERROR($E255*SUMIF('Daily Log'!#REF!,$B255,'Daily Log'!#REF!),0)","v":0},{"$f":"IFERROR($E255*SUMIF('Daily Log'!#REF!,$B255,'Daily Log'!#REF!),0)","v":0},{"$f":"IFERROR($E255*SUMIF('Daily Log'!#REF!,$B255,'Daily Log'!#REF!),0)","v":0},{"$f":"IFERROR($E255*SUMIF('Daily Log'!#REF!,$B255,'Daily Log'!#REF!),0)","v":0},{"$f":"IFERROR($E255*SUMIF('Daily Log'!#REF!,$B255,'Daily Log'!#REF!),0)","v":0},{"$f":"IFERROR($E255*SUMIF('Daily Log'!#REF!,$B255,'Daily Log'!#REF!),0)","v":0},{"$f":"IFERROR($E255*SUMIF('Daily Log'!#REF!,$B255,'Daily Log'!#REF!),0)","v":0},{"$f":"IFERROR($E255*SUMIF('Daily Log'!#REF!,$B255,'Daily Log'!#REF!),0)","v":0},{"$f":"IFERROR($E255*SUMIF('Daily Log'!#REF!,$B255,'Daily Log'!#REF!),0)","v":0},{"$f":"IFERROR($E255*SUMIF('Daily Log'!#REF!,$B255,'Daily Log'!#REF!),0)","v":0},{"$f":"IFERROR($E255*SUMIF('Daily Log'!#REF!,$B255,'Daily Log'!#REF!),0)","v":0},{"$f":"IFERROR($E255*SUMIF('Daily Log'!#REF!,$B255,'Daily Log'!#REF!),0)","v":0},{"$f":"IFERROR($E255*SUMIF('Daily Log'!#REF!,$B255,'Daily Log'!#REF!),0)","v":0},{"$f":"IFERROR($E255*SUMIF('Daily Log'!$C$18:$C$1017,$B255,'Daily Log'!$D$18:$D$1017),0)","v":0},{"$f":"IFERROR($E255*SUMIF('Daily Log'!$F$18:$F$1017,$B255,'Daily Log'!$G$18:$G$1017),0)","v":0},{"$f":"IFERROR($E255*SUMIF('Daily Log'!$I$18:$I$1017,$B255,'Daily Log'!$J$18:$J$1017),0)","v":0},{"$f":"IFERROR($E255*SUMIF('Daily Log'!$L$18:$L$1017,$B255,'Daily Log'!$M$18:$M$1017),0)","v":0},{"$f":"IFERROR($E255*SUMIF('Daily Log'!$O$18:$O$1017,$B255,'Daily Log'!$P$18:$P$1017),0)","v":0},{"$f":"IFERROR($E255*SUMIF('Daily Log'!$R$18:$R$1017,$B255,'Daily Log'!$S$18:$S$1017),0)","v":0},{"$f":"IFERROR($E255*SUMIF('Daily Log'!$U$18:$U$1017,$B255,'Daily Log'!$V$18:$V$1017),0)","v":0},{"$f":"IFERROR($E255*SUMIF('Daily Log'!#REF!,$B255,'Daily Log'!#REF!),0)","v":0},{"$f":"IFERROR($E255*SUMIF('Daily Log'!#REF!,$B255,'Daily Log'!#REF!),0)","v":0},{"$f":"IFERROR($E255*SUMIF('Daily Log'!#REF!,$B255,'Daily Log'!#REF!),0)","v":0},{"$f":"IFERROR($E255*SUMIF('Daily Log'!#REF!,$B255,'Daily Log'!#REF!),0)","v":0},{"$f":"IFERROR($E255*SUMIF('Daily Log'!#REF!,$B255,'Daily Log'!#REF!),0)","v":0}]
[null,"ZAC03 1303:CHK WING",null,"COMBO-APPETIZER",1,0,{"$f":"IFERROR($E256*SUMIF('Daily Log'!#REF!,$B256,'Daily Log'!#REF!),0)","v":0},{"$f":"IFERROR($E256*SUMIF('Daily Log'!#REF!,$B256,'Daily Log'!#REF!),0)","v":0},{"$f":"IFERROR($E256*SUMIF('Daily Log'!#REF!,$B256,'Daily Log'!#REF!),0)","v":0}," ",{"$f":"IFERROR($E256*SUMIF('Daily Log'!#REF!,$B256,'Daily Log'!#REF!),0)","v":0},{"$f":"IFERROR($E256*SUMIF('Daily Log'!#REF!,$B256,'Daily Log'!#REF!),0)","v":0},{"$f":"IFERROR($E256*SUMIF('Daily Log'!#REF!,$B256,'Daily Log'!#REF!),0)","v":0},{"$f":"IFERROR($E256*SUMIF('Daily Log'!#REF!,$B256,'Daily Log'!#REF!),0)","v":0},{"$f":"IFERROR($E256*SUMIF('Daily Log'!#REF!,$B256,'Daily Log'!#REF!),0)","v":0},{"$f":"IFERROR($E256*SUMIF('Daily Log'!#REF!,$B256,'Daily Log'!#REF!),0)","v":0},{"$f":"IFERROR($E256*SUMIF('Daily Log'!#REF!,$B256,'Daily Log'!#REF!),0)","v":0},{"$f":"IFERROR($E256*SUMIF('Daily Log'!#REF!,$B256,'Daily Log'!#REF!),0)","v":0},{"$f":"IFERROR($E256*SUMIF('Daily Log'!#REF!,$B256,'Daily Log'!#REF!),0)","v":0},{"$f":"IFERROR($E256*SUMIF('Daily Log'!#REF!,$B256,'Daily Log'!#REF!),0)","v":0},{"$f":"IFERROR($E256*SUMIF('Daily Log'!#REF!,$B256,'Daily Log'!#REF!),0)","v":0},{"$f":"IFERROR($E256*SUMIF('Daily Log'!#REF!,$B256,'Daily Log'!#REF!),0)","v":0},{"$f":"IFERROR($E256*SUMIF('Daily Log'!#REF!,$B256,'Daily Log'!#REF!),0)","v":0},{"$f":"IFERROR($E256*SUMIF('Daily Log'!#REF!,$B256,'Daily Log'!#REF!),0)","v":0},{"$f":"IFERROR($E256*SUMIF('Daily Log'!#REF!,$B256,'Daily Log'!#REF!),0)","v":0},{"$f":"IFERROR($E256*SUMIF('Daily Log'!$C$18:$C$1017,$B256,'Daily Log'!$D$18:$D$1017),0)","v":0},{"$f":"IFERROR($E256*SUMIF('Daily Log'!$F$18:$F$1017,$B256,'Daily Log'!$G$18:$G$1017),0)","v":0},{"$f":"IFERROR($E256*SUMIF('Daily Log'!$I$18:$I$1017,$B256,'Daily Log'!$J$18:$J$1017),0)","v":0},{"$f":"IFERROR($E256*SUMIF('Daily Log'!$L$18:$L$1017,$B256,'Daily Log'!$M$18:$M$1017),0)","v":0},{"$f":"IFERROR($E256*SUMIF('Daily Log'!$O$18:$O$1017,$B256,'Daily Log'!$P$18:$P$1017),0)","v":0},{"$f":"IFERROR($E256*SUMIF('Daily Log'!$R$18:$R$1017,$B256,'Daily Log'!$S$18:$S$1017),0)","v":0},{"$f":"IFERROR($E256*SUMIF('Daily Log'!$U$18:$U$1017,$B256,'Daily Log'!$V$18:$V$1017),0)","v":0},{"$f":"IFERROR($E256*SUMIF('Daily Log'!#REF!,$B256,'Daily Log'!#REF!),0)","v":0},{"$f":"IFERROR($E256*SUMIF('Daily Log'!#REF!,$B256,'Daily Log'!#REF!),0)","v":0},{"$f":"IFERROR($E256*SUMIF('Daily Log'!#REF!,$B256,'Daily Log'!#REF!),0)","v":0},{"$f":"IFERROR($E256*SUMIF('Daily Log'!#REF!,$B256,'Daily Log'!#REF!),0)","v":0},{"$f":"IFERROR($E256*SUMIF('Daily Log'!#REF!,$B256,'Daily Log'!#REF!),0)","v":0}]
[null,"ZAC04 1304:IKAN BILIS",null,"COMBO-APPETIZER",1,0,{"$f":"IFERROR($E257*SUMIF('Daily Log'!#REF!,$B257,'Daily Log'!#REF!),0)","v":0},{"$f":"IFERROR($E257*SUMIF('Daily Log'!#REF!,$B257,'Daily Log'!#REF!),0)","v":0},{"$f":"IFERROR($E257*SUMIF('Daily Log'!#REF!,$B257,'Daily Log'!#REF!),0)","v":0}," ",{"$f":"IFERROR($E257*SUMIF('Daily Log'!#REF!,$B257,'Daily Log'!#REF!),0)","v":0},{"$f":"IFERROR($E257*SUMIF('Daily Log'!#REF!,$B257,'Daily Log'!#REF!),0)","v":0},{"$f":"IFERROR($E257*SUMIF('Daily Log'!#REF!,$B257,'Daily Log'!#REF!),0)","v":0},{"$f":"IFERROR($E257*SUMIF('Daily Log'!#REF!,$B257,'Daily Log'!#REF!),0)","v":0},{"$f":"IFERROR($E257*SUMIF('Daily Log'!#REF!,$B257,'Daily Log'!#REF!),0)","v":0},{"$f":"IFERROR($E257*SUMIF('Daily Log'!#REF!,$B257,'Daily Log'!#REF!),0)","v":0},{"$f":"IFERROR($E257*SUMIF('Daily Log'!#REF!,$B257,'Daily Log'!#REF!),0)","v":0},{"$f":"IFERROR($E257*SUMIF('Daily Log'!#REF!,$B257,'Daily Log'!#REF!),0)","v":0},{"$f":"IFERROR($E257*SUMIF('Daily Log'!#REF!,$B257,'Daily Log'!#REF!),0)","v":0},{"$f":"IFERROR($E257*SUMIF('Daily Log'!#REF!,$B257,'Daily Log'!#REF!),0)","v":0},{"$f":"IFERROR($E257*SUMIF('Daily Log'!#REF!,$B257,'Daily Log'!#REF!),0)","v":0},{"$f":"IFERROR($E257*SUMIF('Daily Log'!#REF!,$B257,'Daily Log'!#REF!),0)","v":0},{"$f":"IFERROR($E257*SUMIF('Daily Log'!#REF!,$B257,'Daily Log'!#REF!),0)","v":0},{"$f":"IFERROR($E257*SUMIF('Daily Log'!#REF!,$B257,'Daily Log'!#REF!),0)","v":0},{"$f":"IFERROR($E257*SUMIF('Daily Log'!#REF!,$B257,'Daily Log'!#REF!),0)","v":0},{"$f":"IFERROR($E257*SUMIF('Daily Log'!$C$18:$C$1017,$B257,'Daily Log'!$D$18:$D$1017),0)","v":0},{"$f":"IFERROR($E257*SUMIF('Daily Log'!$F$18:$F$1017,$B257,'Daily Log'!$G$18:$G$1017),0)","v":0},{"$f":"IFERROR($E257*SUMIF('Daily Log'!$I$18:$I$1017,$B257,'Daily Log'!$J$18:$J$1017),0)","v":0},{"$f":"IFERROR($E257*SUMIF('Daily Log'!$L$18:$L$1017,$B257,'Daily Log'!$M$18:$M$1017),0)","v":0},{"$f":"IFERROR($E257*SUMIF('Daily Log'!$O$18:$O$1017,$B257,'Daily Log'!$P$18:$P$1017),0)","v":0},{"$f":"IFERROR($E257*SUMIF('Daily Log'!$R$18:$R$1017,$B257,'Daily Log'!$S$18:$S$1017),0)","v":0},{"$f":"IFERROR($E257*SUMIF('Daily Log'!$U$18:$U$1017,$B257,'Daily Log'!$V$18:$V$1017),0)","v":0},{"$f":"IFERROR($E257*SUMIF('Daily Log'!#REF!,$B257,'Daily Log'!#REF!),0)","v":0},{"$f":"IFERROR($E257*SUMIF('Daily Log'!#REF!,$B257,'Daily Log'!#REF!),0)","v":0},{"$f":"IFERROR($E257*SUMIF('Daily Log'!#REF!,$B257,'Daily Log'!#REF!),0)","v":0},{"$f":"IFERROR($E257*SUMIF('Daily Log'!#REF!,$B257,'Daily Log'!#REF!),0)","v":0},{"$f":"IFERROR($E257*SUMIF('Daily Log'!#REF!,$B257,'Daily Log'!#REF!),0)","v":0}]
[null,"ZAC05 1305:THAI RL",null,"COMBO-APPETIZER",1,0,{"$f":"IFERROR($E258*SUMIF('Daily Log'!#REF!,$B258,'Daily Log'!#REF!),0)","v":0},{"$f":"IFERROR($E258*SUMIF('Daily Log'!#REF!,$B258,'Daily Log'!#REF!),0)","v":0},{"$f":"IFERROR($E258*SUMIF('Daily Log'!#REF!,$B258,'Daily Log'!#REF!),0)","v":0}," ",{"$f":"IFERROR($E258*SUMIF('Daily Log'!#REF!,$B258,'Daily Log'!#REF!),0)","v":0},{"$f":"IFERROR($E258*SUMIF('Daily Log'!#REF!,$B258,'Daily Log'!#REF!),0)","v":0},{"$f":"IFERROR($E258*SUMIF('Daily Log'!#REF!,$B258,'Daily Log'!#REF!),0)","v":0},{"$f":"IFERROR($E258*SUMIF('Daily Log'!#REF!,$B258,'Daily Log'!#REF!),0)","v":0},{"$f":"IFERROR($E258*SUMIF('Daily Log'!#REF!,$B258,'Daily Log'!#REF!),0)","v":0},{"$f":"IFERROR($E258*SUMIF('Daily Log'!#REF!,$B258,'Daily Log'!#REF!),0)","v":0},{"$f":"IFERROR($E258*SUMIF('Daily Log'!#REF!,$B258,'Daily Log'!#REF!),0)","v":0},{"$f":"IFERROR($E258*SUMIF('Daily Log'!#REF!,$B258,'Daily Log'!#REF!),0)","v":0},{"$f":"IFERROR($E258*SUMIF('Daily Log'!#REF!,$B258,'Daily Log'!#REF!),0)","v":0},{"$f":"IFERROR($E258*SUMIF('Daily Log'!#REF!,$B258,'Daily Log'!#REF!),0)","v":0},{"$f":"IFERROR($E258*SUMIF('Daily Log'!#REF!,$B258,'Daily Log'!#REF!),0)","v":0},{"$f":"IFERROR($E258*SUMIF('Daily Log'!#REF!,$B258,'Daily Log'!#REF!),0)","v":0},{"$f":"IFERROR($E258*SUMIF('Daily Log'!#REF!,$B258,'Daily Log'!#REF!),0)","v":0},{"$f":"IFERROR($E258*SUMIF('Daily Log'!#REF!,$B258,'Daily Log'!#REF!),0)","v":0},{"$f":"IFERROR($E258*SUMIF('Daily Log'!#REF!,$B258,'Daily Log'!#REF!),0)","v":0},{"$f":"IFERROR($E258*SUMIF('Daily Log'!$C$18:$C$1017,$B258,'Daily Log'!$D$18:$D$1017),0)","v":0},{"$f":"IFERROR($E258*SUMIF('Daily Log'!$F$18:$F$1017,$B258,'Daily Log'!$G$18:$G$1017),0)","v":0},{"$f":"IFERROR($E258*SUMIF('Daily Log'!$I$18:$I$1017,$B258,'Daily Log'!$J$18:$J$1017),0)","v":0},{"$f":"IFERROR($E258*SUMIF('Daily Log'!$L$18:$L$1017,$B258,'Daily Log'!$M$18:$M$1017),0)","v":0},{"$f":"IFERROR($E258*SUMIF('Daily Log'!$O$18:$O$1017,$B258,'Daily Log'!$P$18:$P$1017),0)","v":0},{"$f":"IFERROR($E258*SUMIF('Daily Log'!$R$18:$R$1017,$B258,'Daily Log'!$S$18:$S$1017),0)","v":0},{"$f":"IFERROR($E258*SUMIF('Daily Log'!$U$18:$U$1017,$B258,'Daily Log'!$V$18:$V$1017),0)","v":0},{"$f":"IFERROR($E258*SUMIF('Daily Log'!#REF!,$B258,'Daily Log'!#REF!),0)","v":0},{"$f":"IFERROR($E258*SUMIF('Daily Log'!#REF!,$B258,'Daily Log'!#REF!),0)","v":0},{"$f":"IFERROR($E258*SUMIF('Daily Log'!#REF!,$B258,'Daily Log'!#REF!),0)","v":0},{"$f":"IFERROR($E258*SUMIF('Daily Log'!#REF!,$B258,'Daily Log'!#REF!),0)","v":0},{"$f":"IFERROR($E258*SUMIF('Daily Log'!#REF!,$B258,'Daily Log'!#REF!),0)","v":0}]
[null,"DD19 CNY BEER PLATER",null,"PLATTER",1,1,{"$f":"IFERROR($E259*SUMIF('Daily Log'!#REF!,$B259,'Daily Log'!#REF!),0)","v":0},{"$f":"IFERROR($E259*SUMIF('Daily Log'!#REF!,$B259,'Daily Log'!#REF!),0)","v":0},{"$f":"IFERROR($E259*SUMIF('Daily Log'!#REF!,$B259,'Daily Log'!#REF!),0)","v":0}," ",{"$f":"IFERROR($E259*SUMIF('Daily Log'!#REF!,$B259,'Daily Log'!#REF!),0)","v":0},{"$f":"IFERROR($E259*SUMIF('Daily Log'!#REF!,$B259,'Daily Log'!#REF!),0)","v":0},{"$f":"IFERROR($E259*SUMIF('Daily Log'!#REF!,$B259,'Daily Log'!#REF!),0)","v":0},{"$f":"IFERROR($E259*SUMIF('Daily Log'!#REF!,$B259,'Daily Log'!#REF!),0)","v":0},{"$f":"IFERROR($E259*SUMIF('Daily Log'!#REF!,$B259,'Daily Log'!#REF!),0)","v":0},{"$f":"IFERROR($E259*SUMIF('Daily Log'!#REF!,$B259,'Daily Log'!#REF!),0)","v":0},{"$f":"IFERROR($E259*SUMIF('Daily Log'!#REF!,$B259,'Daily Log'!#REF!),0)","v":0},{"$f":"IFERROR($E259*SUMIF('Daily Log'!#REF!,$B259,'Daily Log'!#REF!),0)","v":0},{"$f":"IFERROR($E259*SUMIF('Daily Log'!#REF!,$B259,'Daily Log'!#REF!),0)","v":0},{"$f":"IFERROR($E259*SUMIF('Daily Log'!#REF!,$B259,'Daily Log'!#REF!),0)","v":0},{"$f":"IFERROR($E259*SUMIF('Daily Log'!#REF!,$B259,'Daily Log'!#REF!),0)","v":0},{"$f":"IFERROR($E259*SUMIF('Daily Log'!#REF!,$B259,'Daily Log'!#REF!),0)","v":0},{"$f":"IFERROR($E259*SUMIF('Daily Log'!#REF!,$B259,'Daily Log'!#REF!),0)","v":0},{"$f":"IFERROR($E259*SUMIF('Daily Log'!#REF!,$B259,'Daily Log'!#REF!),0)","v":0},{"$f":"IFERROR($E259*SUMIF('Daily Log'!#REF!,$B259,'Daily Log'!#REF!),0)","v":0},{"$f":"IFERROR($E259*SUMIF('Daily Log'!$C$18:$C$1017,$B259,'Daily Log'!$D$18:$D$1017),0)","v":0},{"$f":"IFERROR($E259*SUMIF('Daily Log'!$F$18:$F$1017,$B259,'Daily Log'!$G$18:$G$1017),0)","v":0},{"$f":"IFERROR($E259*SUMIF('Daily Log'!$I$18:$I$1017,$B259,'Daily Log'!$J$18:$J$1017),0)","v":0},{"$f":"IFERROR($E259*SUMIF('Daily Log'!$L$18:$L$1017,$B259,'Daily Log'!$M$18:$M$1017),0)","v":1},{"$f":"IFERROR($E259*SUMIF('Daily Log'!$O$18:$O$1017,$B259,'Daily Log'!$P$18:$P$1017),0)","v":0},{"$f":"IFERROR($E259*SUMIF('Daily Log'!$R$18:$R$1017,$B259,'Daily Log'!$S$18:$S$1017),0)","v":0},{"$f":"IFERROR($E259*SUMIF('Daily Log'!$U$18:$U$1017,$B259,'Daily Log'!$V$18:$V$1017),0)","v":0},{"$f":"IFERROR($E259*SUMIF('Daily Log'!#REF!,$B259,'Daily Log'!#REF!),0)","v":0},{"$f":"IFERROR($E259*SUMIF('Daily Log'!#REF!,$B259,'Daily Log'!#REF!),0)","v":0},{"$f":"IFERROR($E259*SUMIF('Daily Log'!#REF!,$B259,'Daily Log'!#REF!),0)","v":0},{"$f":"IFERROR($E259*SUMIF('Daily Log'!#REF!,$B259,'Daily Log'!#REF!),0)","v":0},{"$f":"IFERROR($E259*SUMIF('Daily Log'!#REF!,$B259,'Daily Log'!#REF!),0)","v":0}]
[null,"DD20 CNY ALA CARTE",null,"PLATTER",1,0,{"$f":"IFERROR($E260*SUMIF('Daily Log'!#REF!,$B260,'Daily Log'!#REF!),0)","v":0},{"$f":"IFERROR($E260*SUMIF('Daily Log'!#REF!,$B260,'Daily Log'!#REF!),0)","v":0},{"$f":"IFERROR($E260*SUMIF('Daily Log'!#REF!,$B260,'Daily Log'!#REF!),0)","v":0}," ",{"$f":"IFERROR($E260*SUMIF('Daily Log'!#REF!,$B260,'Daily Log'!#REF!),0)","v":0},{"$f":"IFERROR($E260*SUMIF('Daily Log'!#REF!,$B260,'Daily Log'!#REF!),0)","v":0},{"$f":"IFERROR($E260*SUMIF('Daily Log'!#REF!,$B260,'Daily Log'!#REF!),0)","v":0},{"$f":"IFERROR($E260*SUMIF('Daily Log'!#REF!,$B260,'Daily Log'!#REF!),0)","v":0},{"$f":"IFERROR($E260*SUMIF('Daily Log'!#REF!,$B260,'Daily Log'!#REF!),0)","v":0},{"$f":"IFERROR($E260*SUMIF('Daily Log'!#REF!,$B260,'Daily Log'!#REF!),0)","v":0},{"$f":"IFERROR($E260*SUMIF('Daily Log'!#REF!,$B260,'Daily Log'!#REF!),0)","v":0},{"$f":"IFERROR($E260*SUMIF('Daily Log'!#REF!,$B260,'Daily Log'!#REF!),0)","v":0},{"$f":"IFERROR($E260*SUMIF('Daily Log'!#REF!,$B260,'Daily Log'!#REF!),0)","v":0},{"$f":"IFERROR($E260*SUMIF('Daily Log'!#REF!,$B260,'Daily Log'!#REF!),0)","v":0},{"$f":"IFERROR($E260*SUMIF('Daily Log'!#REF!,$B260,'Daily Log'!#REF!),0)","v":0},{"$f":"IFERROR($E260*SUMIF('Daily Log'!#REF!,$B260,'Daily Log'!#REF!),0)","v":0},{"$f":"IFERROR($E260*SUMIF('Daily Log'!#REF!,$B260,'Daily Log'!#REF!),0)","v":0},{"$f":"IFERROR($E260*SUMIF('Daily Log'!#REF!,$B260,'Daily Log'!#REF!),0)","v":0},{"$f":"IFERROR($E260*SUMIF('Daily Log'!#REF!,$B260,'Daily Log'!#REF!),0)","v":0},{"$f":"IFERROR($E260*SUMIF('Daily Log'!$C$18:$C$1017,$B260,'Daily Log'!$D$18:$D$1017),0)","v":0},{"$f":"IFERROR($E260*SUMIF('Daily Log'!$F$18:$F$1017,$B260,'Daily Log'!$G$18:$G$1017),0)","v":0},{"$f":"IFERROR($E260*SUMIF('Daily Log'!$I$18:$I$1017,$B260,'Daily Log'!$J$18:$J$1017),0)","v":0},{"$f":"IFERROR($E260*SUMIF('Daily Log'!$L$18:$L$1017,$B260,'Daily Log'!$M$18:$M$1017),0)","v":0},{"$f":"IFERROR($E260*SUMIF('Daily Log'!$O$18:$O$1017,$B260,'Daily Log'!$P$18:$P$1017),0)","v":0},{"$f":"IFERROR($E260*SUMIF('Daily Log'!$R$18:$R$1017,$B260,'Daily Log'!$S$18:$S$1017),0)","v":0},{"$f":"IFERROR($E260*SUMIF('Daily Log'!$U$18:$U$1017,$B260,'Daily Log'!$V$18:$V$1017),0)","v":0},{"$f":"IFERROR($E260*SUMIF('Daily Log'!#REF!,$B260,'Daily Log'!#REF!),0)","v":0},{"$f":"IFERROR($E260*SUMIF('Daily Log'!#REF!,$B260,'Daily Log'!#REF!),0)","v":0},{"$f":"IFERROR($E260*SUMIF('Daily Log'!#REF!,$B260,'Daily Log'!#REF!),0)","v":0},{"$f":"IFERROR($E260*SUMIF('Daily Log'!#REF!,$B260,'Daily Log'!#REF!),0)","v":0},{"$f":"IFERROR($E260*SUMIF('Daily Log'!#REF!,$B260,'Daily Log'!#REF!),0)","v":0}]
[null,"ZAA01 GUINNESS EX BKT",null,"BEER",4,8,{"$f":"IFERROR($E261*SUMIF('Daily Log'!#REF!,$B261,'Daily Log'!#REF!),0)","v":0},{"$f":"IFERROR($E261*SUMIF('Daily Log'!#REF!,$B261,'Daily Log'!#REF!),0)","v":0},{"$f":"IFERROR($E261*SUMIF('Daily Log'!#REF!,$B261,'Daily Log'!#REF!),0)","v":0}," ",{"$f":"IFERROR($E261*SUMIF('Daily Log'!#REF!,$B261,'Daily Log'!#REF!),0)","v":0},{"$f":"IFERROR($E261*SUMIF('Daily Log'!#REF!,$B261,'Daily Log'!#REF!),0)","v":0},{"$f":"IFERROR($E261*SUMIF('Daily Log'!#REF!,$B261,'Daily Log'!#REF!),0)","v":0},{"$f":"IFERROR($E261*SUMIF('Daily Log'!#REF!,$B261,'Daily Log'!#REF!),0)","v":0},{"$f":"IFERROR($E261*SUMIF('Daily Log'!#REF!,$B261,'Daily Log'!#REF!),0)","v":0},{"$f":"IFERROR($E261*SUMIF('Daily Log'!#REF!,$B261,'Daily Log'!#REF!),0)","v":0},{"$f":"IFERROR($E261*SUMIF('Daily Log'!#REF!,$B261,'Daily Log'!#REF!),0)","v":0},{"$f":"IFERROR($E261*SUMIF('Daily Log'!#REF!,$B261,'Daily Log'!#REF!),0)","v":0},{"$f":"IFERROR($E261*SUMIF('Daily Log'!#REF!,$B261,'Daily Log'!#REF!),0)","v":0},{"$f":"IFERROR($E261*SUMIF('Daily Log'!#REF!,$B261,'Daily Log'!#REF!),0)","v":0},{"$f":"IFERROR($E261*SUMIF('Daily Log'!#REF!,$B261,'Daily Log'!#REF!),0)","v":0},{"$f":"IFERROR($E261*SUMIF('Daily Log'!#REF!,$B261,'Daily Log'!#REF!),0)","v":0},{"$f":"IFERROR($E261*SUMIF('Daily Log'!#REF!,$B261,'Daily Log'!#REF!),0)","v":0},{"$f":"IFERROR($E261*SUMIF('Daily Log'!#REF!,$B261,'Daily Log'!#REF!),0)","v":0},{"$f":"IFERROR($E261*SUMIF('Daily Log'!#REF!,$B261,'Daily Log'!#REF!),0)","v":0},{"$f":"IFERROR($E261*SUMIF('Daily Log'!$C$18:$C$1017,$B261,'Daily Log'!$D$18:$D$1017),0)","v":0},{"$f":"IFERROR($E261*SUMIF('Daily Log'!$F$18:$F$1017,$B261,'Daily Log'!$G$18:$G$1017),0)","v":0},{"$f":"IFERROR($E261*SUMIF('Daily Log'!$I$18:$I$1017,$B261,'Daily Log'!$J$18:$J$1017),0)","v":0},{"$f":"IFERROR($E261*SUMIF('Daily Log'!$L$18:$L$1017,$B261,'Daily Log'!$M$18:$M$1017),0)","v":4},{"$f":"IFERROR($E261*SUMIF('Daily Log'!$O$18:$O$1017,$B261,'Daily Log'!$P$18:$P$1017),0)","v":0},{"$f":"IFERROR($E261*SUMIF('Daily Log'!$R$18:$R$1017,$B261,'Daily Log'!$S$18:$S$1017),0)","v":0},{"$f":"IFERROR($E261*SUMIF('Daily Log'!$U$18:$U$1017,$B261,'Daily Log'!$V$18:$V$1017),0)","v":4},{"$f":"IFERROR($E261*SUMIF('Daily Log'!#REF!,$B261,'Daily Log'!#REF!),0)","v":0},{"$f":"IFERROR($E261*SUMIF('Daily Log'!#REF!,$B261,'Daily Log'!#REF!),0)","v":0},{"$f":"IFERROR($E261*SUMIF('Daily Log'!#REF!,$B261,'Daily Log'!#REF!),0)","v":0},{"$f":"IFERROR($E261*SUMIF('Daily Log'!#REF!,$B261,'Daily Log'!#REF!),0)","v":0},{"$f":"IFERROR($E261*SUMIF('Daily Log'!#REF!,$B261,'Daily Log'!#REF!),0)","v":0}]
[null,"AA01 K : REGULAR",null,null,null,0,{"$f":"IFERROR($E262*SUMIF('[1]Daily Log'!$B$18:$B$1017,$B262,'[1]Daily Log'!$C$18:$C$1017),0)","v":0},{"$f":"IFERROR($E262*SUMIF('[1]Daily Log'!$E$18:$E$1017,$B262,'[1]Daily Log'!$F$18:$F$1017),0)","v":0},{"$f":"IFERROR($E262*SUMIF('[1]Daily Log'!$H$18:$H$1017,$B262,'[1]Daily Log'!$I$18:$I$1017),0)","v":0}," ",{"$f":"IFERROR($E262*SUMIF('[1]Daily Log'!$N$18:$N$1017,$B262,'[1]Daily Log'!$O$18:$O$1017),0)","v":0},{"$f":"IFERROR($E262*SUMIF('[1]Daily Log'!$Q$18:$Q$1017,$B262,'[1]Daily Log'!$R$18:$R$1017),0)","v":0},{"$f":"IFERROR($E262*SUMIF('[1]Daily Log'!$T$18:$T$1017,$B262,'[1]Daily Log'!$U$18:$U$1017),0)","v":0},{"$f":"IFERROR($E262*SUMIF('[1]Daily Log'!$W$18:$W$1017,$B262,'[1]Daily Log'!$X$18:$X$1017),0)","v":0},{"$f":"IFERROR($E262*SUMIF('[1]Daily Log'!$Z$18:$Z$1017,$B262,'[1]Daily Log'!$AA$18:$AA$1017),0)","v":0},{"$f":"IFERROR($E262*SUMIF('[1]Daily Log'!$AC$18:$AC$1017,$B262,'[1]Daily Log'!$AD$18:$AD$1017),0)","v":0},{"$f":"IFERROR($E262*SUMIF('[1]Daily Log'!$AF$18:$AF$1017,$B262,'[1]Daily Log'!$AG$18:$AG$1017),0)","v":0},{"$f":"IFERROR($E262*SUMIF('[1]Daily Log'!$AI$18:$AI$1017,$B262,'[1]Daily Log'!$AJ$18:$AJ$1017),0)","v":0},{"$f":"IFERROR($E262*SUMIF('[1]Daily Log'!$AL$18:$AL$1017,$B262,'[1]Daily Log'!$AM$18:$AM$1017),0)","v":0},{"$f":"IFERROR($E262*SUMIF('[1]Daily Log'!$AO$18:$AO$1017,$B262,'[1]Daily Log'!$AP$18:$AP$1017),0)","v":0},{"$f":"IFERROR($E262*SUMIF('[1]Daily Log'!$AR$18:$AR$1017,$B262,'[1]Daily Log'!$AS$18:$AS$1017),0)","v":0},{"$f":"IFERROR($E262*SUMIF('[1]Daily Log'!$AU$18:$AU$1017,$B262,'[1]Daily Log'!$AV$18:$AV$1017),0)","v":0},{"$f":"IFERROR($E262*SUMIF('[1]Daily Log'!$AX$18:$AX$1017,$B262,'[1]Daily Log'!$AY$18:$AY$1017),0)","v":0},{"$f":"IFERROR($E262*SUMIF('[1]Daily Log'!$BA$18:$BA$1017,$B262,'[1]Daily Log'!$BB$18:$BB$1017),0)","v":0},{"$f":"IFERROR($E262*SUMIF('[1]Daily Log'!$BD$18:$BD$1017,$B262,'[1]Daily Log'!$BE$18:$BE$1017),0)","v":0},{"$f":"IFERROR($E262*SUMIF('[1]Daily Log'!$BG$18:$BG$1017,$B262,'[1]Daily Log'!$BH$18:$BH$1017),0)","v":0},{"$f":"IFERROR($E262*SUMIF('[1]Daily Log'!$BJ$18:$BJ$1017,$B262,'[1]Daily Log'!$BK$18:$BK$1017),0)","v":0},{"$f":"IFERROR($E262*SUMIF('[1]Daily Log'!$BM$18:$BM$1017,$B262,'[1]Daily Log'!$BN$18:$BN$1017),0)","v":0},{"$f":"IFERROR($E262*SUMIF('[1]Daily Log'!$BP$18:$BP$1017,$B262,'[1]Daily Log'!$BQ$18:$BQ$1017),0)","v":0},{"$f":"IFERROR($E262*SUMIF('[1]Daily Log'!$BS$18:$BS$1017,$B262,'[1]Daily Log'!$BT$18:$BT$1017),0)","v":0},{"$f":"IFERROR($E262*SUMIF('[1]Daily Log'!$BV$18:$BV$1017,$B262,'[1]Daily Log'!$BW$18:$BW$1017),0)","v":0},{"$f":"IFERROR($E262*SUMIF('[1]Daily Log'!$BY$18:$BY$1017,$B262,'[1]Daily Log'!$BZ$18:$BZ$1017),0)","v":0},{"$f":"IFERROR($E262*SUMIF('[1]Daily Log'!$CB$18:$CB$1017,$B262,'[1]Daily Log'!$CC$18:$CC$1017),0)","v":0},{"$f":"IFERROR($E262*SUMIF('[1]Daily Log'!$CE$18:$CE$1017,$B262,'[1]Daily Log'!$CF$18:$CF$1017),0)","v":0},{"$f":"IFERROR($E262*SUMIF('[1]Daily Log'!$CH$18:$CH$1017,$B262,'[1]Daily Log'!$CI$18:$CI$1017),0)","v":0},{"$f":"IFERROR($E262*SUMIF('[1]Daily Log'!$CK$18:$CK$1017,$B262,'[1]Daily Log'!$CL$18:$CL$1017),0)","v":0},{"$f":"IFERROR($E262*SUMIF('[1]Daily Log'!$CN$18:$CN$1017,$B262,'[1]Daily Log'!$CO$18:$CO$1017),0)","v":0}]
[null,"AA04 K-LUNCH",null,null,null,0,{"$f":"IFERROR($E263*SUMIF('[1]Daily Log'!$B$18:$B$1017,$B263,'[1]Daily Log'!$C$18:$C$1017),0)","v":0},{"$f":"IFERROR($E263*SUMIF('[1]Daily Log'!$E$18:$E$1017,$B263,'[1]Daily Log'!$F$18:$F$1017),0)","v":0},{"$f":"IFERROR($E263*SUMIF('[1]Daily Log'!$H$18:$H$1017,$B263,'[1]Daily Log'!$I$18:$I$1017),0)","v":0}," ",{"$f":"IFERROR($E263*SUMIF('[1]Daily Log'!$N$18:$N$1017,$B263,'[1]Daily Log'!$O$18:$O$1017),0)","v":0},{"$f":"IFERROR($E263*SUMIF('[1]Daily Log'!$Q$18:$Q$1017,$B263,'[1]Daily Log'!$R$18:$R$1017),0)","v":0},{"$f":"IFERROR($E263*SUMIF('[1]Daily Log'!$T$18:$T$1017,$B263,'[1]Daily Log'!$U$18:$U$1017),0)","v":0},{"$f":"IFERROR($E263*SUMIF('[1]Daily Log'!$W$18:$W$1017,$B263,'[1]Daily Log'!$X$18:$X$1017),0)","v":0},{"$f":"IFERROR($E263*SUMIF('[1]Daily Log'!$Z$18:$Z$1017,$B263,'[1]Daily Log'!$AA$18:$AA$1017),0)","v":0},{"$f":"IFERROR($E263*SUMIF('[1]Daily Log'!$AC$18:$AC$1017,$B263,'[1]Daily Log'!$AD$18:$AD$1017),0)","v":0},{"$f":"IFERROR($E263*SUMIF('[1]Daily Log'!$AF$18:$AF$1017,$B263,'[1]Daily Log'!$AG$18:$AG$1017),0)","v":0},{"$f":"IFERROR($E263*SUMIF('[1]Daily Log'!$AI$18:$AI$1017,$B263,'[1]Daily Log'!$AJ$18:$AJ$1017),0)","v":0},{"$f":"IFERROR($E263*SUMIF('[1]Daily Log'!$AL$18:$AL$1017,$B263,'[1]Daily Log'!$AM$18:$AM$1017),0)","v":0},{"$f":"IFERROR($E263*SUMIF('[1]Daily Log'!$AO$18:$AO$1017,$B263,'[1]Daily Log'!$AP$18:$AP$1017),0)","v":0},{"$f":"IFERROR($E263*SUMIF('[1]Daily Log'!$AR$18:$AR$1017,$B263,'[1]Daily Log'!$AS$18:$AS$1017),0)","v":0},{"$f":"IFERROR($E263*SUMIF('[1]Daily Log'!$AU$18:$AU$1017,$B263,'[1]Daily Log'!$AV$18:$AV$1017),0)","v":0},{"$f":"IFERROR($E263*SUMIF('[1]Daily Log'!$AX$18:$AX$1017,$B263,'[1]Daily Log'!$AY$18:$AY$1017),0)","v":0},{"$f":"IFERROR($E263*SUMIF('[1]Daily Log'!$BA$18:$BA$1017,$B263,'[1]Daily Log'!$BB$18:$BB$1017),0)","v":0},{"$f":"IFERROR($E263*SUMIF('[1]Daily Log'!$BD$18:$BD$1017,$B263,'[1]Daily Log'!$BE$18:$BE$1017),0)","v":0},{"$f":"IFERROR($E263*SUMIF('[1]Daily Log'!$BG$18:$BG$1017,$B263,'[1]Daily Log'!$BH$18:$BH$1017),0)","v":0},{"$f":"IFERROR($E263*SUMIF('[1]Daily Log'!$BJ$18:$BJ$1017,$B263,'[1]Daily Log'!$BK$18:$BK$1017),0)","v":0},{"$f":"IFERROR($E263*SUMIF('[1]Daily Log'!$BM$18:$BM$1017,$B263,'[1]Daily Log'!$BN$18:$BN$1017),0)","v":0},{"$f":"IFERROR($E263*SUMIF('[1]Daily Log'!$BP$18:$BP$1017,$B263,'[1]Daily Log'!$BQ$18:$BQ$1017),0)","v":0},{"$f":"IFERROR($E263*SUMIF('[1]Daily Log'!$BS$18:$BS$1017,$B263,'[1]Daily Log'!$BT$18:$BT$1017),0)","v":0},{"$f":"IFERROR($E263*SUMIF('[1]Daily Log'!$BV$18:$BV$1017,$B263,'[1]Daily Log'!$BW$18:$BW$1017),0)","v":0},{"$f":"IFERROR($E263*SUMIF('[1]Daily Log'!$BY$18:$BY$1017,$B263,'[1]Daily Log'!$BZ$18:$BZ$1017),0)","v":0},{"$f":"IFERROR($E263*SUMIF('[1]Daily Log'!$CB$18:$CB$1017,$B263,'[1]Daily Log'!$CC$18:$CC$1017),0)","v":0},{"$f":"IFERROR($E263*SUMIF('[1]Daily Log'!$CE$18:$CE$1017,$B263,'[1]Daily Log'!$CF$18:$CF$1017),0)","v":0},{"$f":"IFERROR($E263*SUMIF('[1]Daily Log'!$CH$18:$CH$1017,$B263,'[1]Daily Log'!$CI$18:$CI$1017),0)","v":0},{"$f":"IFERROR($E263*SUMIF('[1]Daily Log'!$CK$18:$CK$1017,$B263,'[1]Daily Log'!$CL$18:$CL$1017),0)","v":0},{"$f":"IFERROR($E263*SUMIF('[1]Daily Log'!$CN$18:$CN$1017,$B263,'[1]Daily Log'!$CO$18:$CO$1017),0)","v":0}]
[null,"AA05 K : CHILDREN",null,null,null,0,{"$f":"IFERROR($E264*SUMIF('[1]Daily Log'!$B$18:$B$1017,$B264,'[1]Daily Log'!$C$18:$C$1017),0)","v":0},{"$f":"IFERROR($E264*SUMIF('[1]Daily Log'!$E$18:$E$1017,$B264,'[1]Daily Log'!$F$18:$F$1017),0)","v":0},{"$f":"IFERROR($E264*SUMIF('[1]Daily Log'!$H$18:$H$1017,$B264,'[1]Daily Log'!$I$18:$I$1017),0)","v":0}," ",{"$f":"IFERROR($E264*SUMIF('[1]Daily Log'!$N$18:$N$1017,$B264,'[1]Daily Log'!$O$18:$O$1017),0)","v":0},{"$f":"IFERROR($E264*SUMIF('[1]Daily Log'!$Q$18:$Q$1017,$B264,'[1]Daily Log'!$R$18:$R$1017),0)","v":0},{"$f":"IFERROR($E264*SUMIF('[1]Daily Log'!$T$18:$T$1017,$B264,'[1]Daily Log'!$U$18:$U$1017),0)","v":0},{"$f":"IFERROR($E264*SUMIF('[1]Daily Log'!$W$18:$W$1017,$B264,'[1]Daily Log'!$X$18:$X$1017),0)","v":0},{"$f":"IFERROR($E264*SUMIF('[1]Daily Log'!$Z$18:$Z$1017,$B264,'[1]Daily Log'!$AA$18:$AA$1017),0)","v":0},{"$f":"IFERROR($E264*SUMIF('[1]Daily Log'!$AC$18:$AC$1017,$B264,'[1]Daily Log'!$AD$18:$AD$1017),0)","v":0},{"$f":"IFERROR($E264*SUMIF('[1]Daily Log'!$AF$18:$AF$1017,$B264,'[1]Daily Log'!$AG$18:$AG$1017),0)","v":0},{"$f":"IFERROR($E264*SUMIF('[1]Daily Log'!$AI$18:$AI$1017,$B264,'[1]Daily Log'!$AJ$18:$AJ$1017),0)","v":0},{"$f":"IFERROR($E264*SUMIF('[1]Daily Log'!$AL$18:$AL$1017,$B264,'[1]Daily Log'!$AM$18:$AM$1017),0)","v":0},{"$f":"IFERROR($E264*SUMIF('[1]Daily Log'!$AO$18:$AO$1017,$B264,'[1]Daily Log'!$AP$18:$AP$1017),0)","v":0},{"$f":"IFERROR($E264*SUMIF('[1]Daily Log'!$AR$18:$AR$1017,$B264,'[1]Daily Log'!$AS$18:$AS$1017),0)","v":0},{"$f":"IFERROR($E264*SUMIF('[1]Daily Log'!$AU$18:$AU$1017,$B264,'[1]Daily Log'!$AV$18:$AV$1017),0)","v":0},{"$f":"IFERROR($E264*SUMIF('[1]Daily Log'!$AX$18:$AX$1017,$B264,'[1]Daily Log'!$AY$18:$AY$1017),0)","v":0},{"$f":"IFERROR($E264*SUMIF('[1]Daily Log'!$BA$18:$BA$1017,$B264,'[1]Daily Log'!$BB$18:$BB$1017),0)","v":0},{"$f":"IFERROR($E264*SUMIF('[1]Daily Log'!$BD$18:$BD$1017,$B264,'[1]Daily Log'!$BE$18:$BE$1017),0)","v":0},{"$f":"IFERROR($E264*SUMIF('[1]Daily Log'!$BG$18:$BG$1017,$B264,'[1]Daily Log'!$BH$18:$BH$1017),0)","v":0},{"$f":"IFERROR($E264*SUMIF('[1]Daily Log'!$BJ$18:$BJ$1017,$B264,'[1]Daily Log'!$BK$18:$BK$1017),0)","v":0},{"$f":"IFERROR($E264*SUMIF('[1]Daily Log'!$BM$18:$BM$1017,$B264,'[1]Daily Log'!$BN$18:$BN$1017),0)","v":0},{"$f":"IFERROR($E264*SUMIF('[1]Daily Log'!$BP$18:$BP$1017,$B264,'[1]Daily Log'!$BQ$18:$BQ$1017),0)","v":0},{"$f":"IFERROR($E264*SUMIF('[1]Daily Log'!$BS$18:$BS$1017,$B264,'[1]Daily Log'!$BT$18:$BT$1017),0)","v":0},{"$f":"IFERROR($E264*SUMIF('[1]Daily Log'!$BV$18:$BV$1017,$B264,'[1]Daily Log'!$BW$18:$BW$1017),0)","v":0},{"$f":"IFERROR($E264*SUMIF('[1]Daily Log'!$BY$18:$BY$1017,$B264,'[1]Daily Log'!$BZ$18:$BZ$1017),0)","v":0},{"$f":"IFERROR($E264*SUMIF('[1]Daily Log'!$CB$18:$CB$1017,$B264,'[1]Daily Log'!$CC$18:$CC$1017),0)","v":0},{"$f":"IFERROR($E264*SUMIF('[1]Daily Log'!$CE$18:$CE$1017,$B264,'[1]Daily Log'!$CF$18:$CF$1017),0)","v":0},{"$f":"IFERROR($E264*SUMIF('[1]Daily Log'!$CH$18:$CH$1017,$B264,'[1]Daily Log'!$CI$18:$CI$1017),0)","v":0},{"$f":"IFERROR($E264*SUMIF('[1]Daily Log'!$CK$18:$CK$1017,$B264,'[1]Daily Log'!$CL$18:$CL$1017),0)","v":0},{"$f":"IFERROR($E264*SUMIF('[1]Daily Log'!$CN$18:$CN$1017,$B264,'[1]Daily Log'!$CO$18:$CO$1017),0)","v":0}]
[null,"AA06 K : MEMBER B'DAY",null,null,null,0,{"$f":"IFERROR($E265*SUMIF('[1]Daily Log'!$B$18:$B$1017,$B265,'[1]Daily Log'!$C$18:$C$1017),0)","v":0},{"$f":"IFERROR($E265*SUMIF('[1]Daily Log'!$E$18:$E$1017,$B265,'[1]Daily Log'!$F$18:$F$1017),0)","v":0},{"$f":"IFERROR($E265*SUMIF('[1]Daily Log'!$H$18:$H$1017,$B265,'[1]Daily Log'!$I$18:$I$1017),0)","v":0}," ",{"$f":"IFERROR($E265*SUMIF('[1]Daily Log'!$N$18:$N$1017,$B265,'[1]Daily Log'!$O$18:$O$1017),0)","v":0},{"$f":"IFERROR($E265*SUMIF('[1]Daily Log'!$Q$18:$Q$1017,$B265,'[1]Daily Log'!$R$18:$R$1017),0)","v":0},{"$f":"IFERROR($E265*SUMIF('[1]Daily Log'!$T$18:$T$1017,$B265,'[1]Daily Log'!$U$18:$U$1017),0)","v":0},{"$f":"IFERROR($E265*SUMIF('[1]Daily Log'!$W$18:$W$1017,$B265,'[1]Daily Log'!$X$18:$X$1017),0)","v":0},{"$f":"IFERROR($E265*SUMIF('[1]Daily Log'!$Z$18:$Z$1017,$B265,'[1]Daily Log'!$AA$18:$AA$1017),0)","v":0},{"$f":"IFERROR($E265*SUMIF('[1]Daily Log'!$AC$18:$AC$1017,$B265,'[1]Daily Log'!$AD$18:$AD$1017),0)","v":0},{"$f":"IFERROR($E265*SUMIF('[1]Daily Log'!$AF$18:$AF$1017,$B265,'[1]Daily Log'!$AG$18:$AG$1017),0)","v":0},{"$f":"IFERROR($E265*SUMIF('[1]Daily Log'!$AI$18:$AI$1017,$B265,'[1]Daily Log'!$AJ$18:$AJ$1017),0)","v":0},{"$f":"IFERROR($E265*SUMIF('[1]Daily Log'!$AL$18:$AL$1017,$B265,'[1]Daily Log'!$AM$18:$AM$1017),0)","v":0},{"$f":"IFERROR($E265*SUMIF('[1]Daily Log'!$AO$18:$AO$1017,$B265,'[1]Daily Log'!$AP$18:$AP$1017),0)","v":0},{"$f":"IFERROR($E265*SUMIF('[1]Daily Log'!$AR$18:$AR$1017,$B265,'[1]Daily Log'!$AS$18:$AS$1017),0)","v":0},{"$f":"IFERROR($E265*SUMIF('[1]Daily Log'!$AU$18:$AU$1017,$B265,'[1]Daily Log'!$AV$18:$AV$1017),0)","v":0},{"$f":"IFERROR($E265*SUMIF('[1]Daily Log'!$AX$18:$AX$1017,$B265,'[1]Daily Log'!$AY$18:$AY$1017),0)","v":0},{"$f":"IFERROR($E265*SUMIF('[1]Daily Log'!$BA$18:$BA$1017,$B265,'[1]Daily Log'!$BB$18:$BB$1017),0)","v":0},{"$f":"IFERROR($E265*SUMIF('[1]Daily Log'!$BD$18:$BD$1017,$B265,'[1]Daily Log'!$BE$18:$BE$1017),0)","v":0},{"$f":"IFERROR($E265*SUMIF('[1]Daily Log'!$BG$18:$BG$1017,$B265,'[1]Daily Log'!$BH$18:$BH$1017),0)","v":0},{"$f":"IFERROR($E265*SUMIF('[1]Daily Log'!$BJ$18:$BJ$1017,$B265,'[1]Daily Log'!$BK$18:$BK$1017),0)","v":0},{"$f":"IFERROR($E265*SUMIF('[1]Daily Log'!$BM$18:$BM$1017,$B265,'[1]Daily Log'!$BN$18:$BN$1017),0)","v":0},{"$f":"IFERROR($E265*SUMIF('[1]Daily Log'!$BP$18:$BP$1017,$B265,'[1]Daily Log'!$BQ$18:$BQ$1017),0)","v":0},{"$f":"IFERROR($E265*SUMIF('[1]Daily Log'!$BS$18:$BS$1017,$B265,'[1]Daily Log'!$BT$18:$BT$1017),0)","v":0},{"$f":"IFERROR($E265*SUMIF('[1]Daily Log'!$BV$18:$BV$1017,$B265,'[1]Daily Log'!$BW$18:$BW$1017),0)","v":0},{"$f":"IFERROR($E265*SUMIF('[1]Daily Log'!$BY$18:$BY$1017,$B265,'[1]Daily Log'!$BZ$18:$BZ$1017),0)","v":0},{"$f":"IFERROR($E265*SUMIF('[1]Daily Log'!$CB$18:$CB$1017,$B265,'[1]Daily Log'!$CC$18:$CC$1017),0)","v":0},{"$f":"IFERROR($E265*SUMIF('[1]Daily Log'!$CE$18:$CE$1017,$B265,'[1]Daily Log'!$CF$18:$CF$1017),0)","v":0},{"$f":"IFERROR($E265*SUMIF('[1]Daily Log'!$CH$18:$CH$1017,$B265,'[1]Daily Log'!$CI$18:$CI$1017),0)","v":0},{"$f":"IFERROR($E265*SUMIF('[1]Daily Log'!$CK$18:$CK$1017,$B265,'[1]Daily Log'!$CL$18:$CL$1017),0)","v":0},{"$f":"IFERROR($E265*SUMIF('[1]Daily Log'!$CN$18:$CN$1017,$B265,'[1]Daily Log'!$CO$18:$CO$1017),0)","v":0}]
[null,"AA07 K : STAFF B'DAY",null,null,null,0,{"$f":"IFERROR($E266*SUMIF('[1]Daily Log'!$B$18:$B$1017,$B266,'[1]Daily Log'!$C$18:$C$1017),0)","v":0},{"$f":"IFERROR($E266*SUMIF('[1]Daily Log'!$E$18:$E$1017,$B266,'[1]Daily Log'!$F$18:$F$1017),0)","v":0},{"$f":"IFERROR($E266*SUMIF('[1]Daily Log'!$H$18:$H$1017,$B266,'[1]Daily Log'!$I$18:$I$1017),0)","v":0}," ",{"$f":"IFERROR($E266*SUMIF('[1]Daily Log'!$N$18:$N$1017,$B266,'[1]Daily Log'!$O$18:$O$1017),0)","v":0},{"$f":"IFERROR($E266*SUMIF('[1]Daily Log'!$Q$18:$Q$1017,$B266,'[1]Daily Log'!$R$18:$R$1017),0)","v":0},{"$f":"IFERROR($E266*SUMIF('[1]Daily Log'!$T$18:$T$1017,$B266,'[1]Daily Log'!$U$18:$U$1017),0)","v":0},{"$f":"IFERROR($E266*SUMIF('[1]Daily Log'!$W$18:$W$1017,$B266,'[1]Daily Log'!$X$18:$X$1017),0)","v":0},{"$f":"IFERROR($E266*SUMIF('[1]Daily Log'!$Z$18:$Z$1017,$B266,'[1]Daily Log'!$AA$18:$AA$1017),0)","v":0},{"$f":"IFERROR($E266*SUMIF('[1]Daily Log'!$AC$18:$AC$1017,$B266,'[1]Daily Log'!$AD$18:$AD$1017),0)","v":0},{"$f":"IFERROR($E266*SUMIF('[1]Daily Log'!$AF$18:$AF$1017,$B266,'[1]Daily Log'!$AG$18:$AG$1017),0)","v":0},{"$f":"IFERROR($E266*SUMIF('[1]Daily Log'!$AI$18:$AI$1017,$B266,'[1]Daily Log'!$AJ$18:$AJ$1017),0)","v":0},{"$f":"IFERROR($E266*SUMIF('[1]Daily Log'!$AL$18:$AL$1017,$B266,'[1]Daily Log'!$AM$18:$AM$1017),0)","v":0},{"$f":"IFERROR($E266*SUMIF('[1]Daily Log'!$AO$18:$AO$1017,$B266,'[1]Daily Log'!$AP$18:$AP$1017),0)","v":0},{"$f":"IFERROR($E266*SUMIF('[1]Daily Log'!$AR$18:$AR$1017,$B266,'[1]Daily Log'!$AS$18:$AS$1017),0)","v":0},{"$f":"IFERROR($E266*SUMIF('[1]Daily Log'!$AU$18:$AU$1017,$B266,'[1]Daily Log'!$AV$18:$AV$1017),0)","v":0},{"$f":"IFERROR($E266*SUMIF('[1]Daily Log'!$AX$18:$AX$1017,$B266,'[1]Daily Log'!$AY$18:$AY$1017),0)","v":0},{"$f":"IFERROR($E266*SUMIF('[1]Daily Log'!$BA$18:$BA$1017,$B266,'[1]Daily Log'!$BB$18:$BB$1017),0)","v":0},{"$f":"IFERROR($E266*SUMIF('[1]Daily Log'!$BD$18:$BD$1017,$B266,'[1]Daily Log'!$BE$18:$BE$1017),0)","v":0},{"$f":"IFERROR($E266*SUMIF('[1]Daily Log'!$BG$18:$BG$1017,$B266,'[1]Daily Log'!$BH$18:$BH$1017),0)","v":0},{"$f":"IFERROR($E266*SUMIF('[1]Daily Log'!$BJ$18:$BJ$1017,$B266,'[1]Daily Log'!$BK$18:$BK$1017),0)","v":0},{"$f":"IFERROR($E266*SUMIF('[1]Daily Log'!$BM$18:$BM$1017,$B266,'[1]Daily Log'!$BN$18:$BN$1017),0)","v":0},{"$f":"IFERROR($E266*SUMIF('[1]Daily Log'!$BP$18:$BP$1017,$B266,'[1]Daily Log'!$BQ$18:$BQ$1017),0)","v":0},{"$f":"IFERROR($E266*SUMIF('[1]Daily Log'!$BS$18:$BS$1017,$B266,'[1]Daily Log'!$BT$18:$BT$1017),0)","v":0},{"$f":"IFERROR($E266*SUMIF('[1]Daily Log'!$BV$18:$BV$1017,$B266,'[1]Daily Log'!$BW$18:$BW$1017),0)","v":0},{"$f":"IFERROR($E266*SUMIF('[1]Daily Log'!$BY$18:$BY$1017,$B266,'[1]Daily Log'!$BZ$18:$BZ$1017),0)","v":0},{"$f":"IFERROR($E266*SUMIF('[1]Daily Log'!$CB$18:$CB$1017,$B266,'[1]Daily Log'!$CC$18:$CC$1017),0)","v":0},{"$f":"IFERROR($E266*SUMIF('[1]Daily Log'!$CE$18:$CE$1017,$B266,'[1]Daily Log'!$CF$18:$CF$1017),0)","v":0},{"$f":"IFERROR($E266*SUMIF('[1]Daily Log'!$CH$18:$CH$1017,$B266,'[1]Daily Log'!$CI$18:$CI$1017),0)","v":0},{"$f":"IFERROR($E266*SUMIF('[1]Daily Log'!$CK$18:$CK$1017,$B266,'[1]Daily Log'!$CL$18:$CL$1017),0)","v":0},{"$f":"IFERROR($E266*SUMIF('[1]Daily Log'!$CN$18:$CN$1017,$B266,'[1]Daily Log'!$CO$18:$CO$1017),0)","v":0}]
[null,"AA08 K : FOC HEAD",null,null,null,0,{"$f":"IFERROR($E267*SUMIF('[1]Daily Log'!$B$18:$B$1017,$B267,'[1]Daily Log'!$C$18:$C$1017),0)","v":0},{"$f":"IFERROR($E267*SUMIF('[1]Daily Log'!$E$18:$E$1017,$B267,'[1]Daily Log'!$F$18:$F$1017),0)","v":0},{"$f":"IFERROR($E267*SUMIF('[1]Daily Log'!$H$18:$H$1017,$B267,'[1]Daily Log'!$I$18:$I$1017),0)","v":0}," ",{"$f":"IFERROR($E267*SUMIF('[1]Daily Log'!$N$18:$N$1017,$B267,'[1]Daily Log'!$O$18:$O$1017),0)","v":0},{"$f":"IFERROR($E267*SUMIF('[1]Daily Log'!$Q$18:$Q$1017,$B267,'[1]Daily Log'!$R$18:$R$1017),0)","v":0},{"$f":"IFERROR($E267*SUMIF('[1]Daily Log'!$T$18:$T$1017,$B267,'[1]Daily Log'!$U$18:$U$1017),0)","v":0},{"$f":"IFERROR($E267*SUMIF('[1]Daily Log'!$W$18:$W$1017,$B267,'[1]Daily Log'!$X$18:$X$1017),0)","v":0},{"$f":"IFERROR($E267*SUMIF('[1]Daily Log'!$Z$18:$Z$1017,$B267,'[1]Daily Log'!$AA$18:$AA$1017),0)","v":0},{"$f":"IFERROR($E267*SUMIF('[1]Daily Log'!$AC$18:$AC$1017,$B267,'[1]Daily Log'!$AD$18:$AD$1017),0)","v":0},{"$f":"IFERROR($E267*SUMIF('[1]Daily Log'!$AF$18:$AF$1017,$B267,'[1]Daily Log'!$AG$18:$AG$1017),0)","v":0},{"$f":"IFERROR($E267*SUMIF('[1]Daily Log'!$AI$18:$AI$1017,$B267,'[1]Daily Log'!$AJ$18:$AJ$1017),0)","v":0},{"$f":"IFERROR($E267*SUMIF('[1]Daily Log'!$AL$18:$AL$1017,$B267,'[1]Daily Log'!$AM$18:$AM$1017),0)","v":0},{"$f":"IFERROR($E267*SUMIF('[1]Daily Log'!$AO$18:$AO$1017,$B267,'[1]Daily Log'!$AP$18:$AP$1017),0)","v":0},{"$f":"IFERROR($E267*SUMIF('[1]Daily Log'!$AR$18:$AR$1017,$B267,'[1]Daily Log'!$AS$18:$AS$1017),0)","v":0},{"$f":"IFERROR($E267*SUMIF('[1]Daily Log'!$AU$18:$AU$1017,$B267,'[1]Daily Log'!$AV$18:$AV$1017),0)","v":0},{"$f":"IFERROR($E267*SUMIF('[1]Daily Log'!$AX$18:$AX$1017,$B267,'[1]Daily Log'!$AY$18:$AY$1017),0)","v":0},{"$f":"IFERROR($E267*SUMIF('[1]Daily Log'!$BA$18:$BA$1017,$B267,'[1]Daily Log'!$BB$18:$BB$1017),0)","v":0},{"$f":"IFERROR($E267*SUMIF('[1]Daily Log'!$BD$18:$BD$1017,$B267,'[1]Daily Log'!$BE$18:$BE$1017),0)","v":0},{"$f":"IFERROR($E267*SUMIF('[1]Daily Log'!$BG$18:$BG$1017,$B267,'[1]Daily Log'!$BH$18:$BH$1017),0)","v":0},{"$f":"IFERROR($E267*SUMIF('[1]Daily Log'!$BJ$18:$BJ$1017,$B267,'[1]Daily Log'!$BK$18:$BK$1017),0)","v":0},{"$f":"IFERROR($E267*SUMIF('[1]Daily Log'!$BM$18:$BM$1017,$B267,'[1]Daily Log'!$BN$18:$BN$1017),0)","v":0},{"$f":"IFERROR($E267*SUMIF('[1]Daily Log'!$BP$18:$BP$1017,$B267,'[1]Daily Log'!$BQ$18:$BQ$1017),0)","v":0},{"$f":"IFERROR($E267*SUMIF('[1]Daily Log'!$BS$18:$BS$1017,$B267,'[1]Daily Log'!$BT$18:$BT$1017),0)","v":0},{"$f":"IFERROR($E267*SUMIF('[1]Daily Log'!$BV$18:$BV$1017,$B267,'[1]Daily Log'!$BW$18:$BW$1017),0)","v":0},{"$f":"IFERROR($E267*SUMIF('[1]Daily Log'!$BY$18:$BY$1017,$B267,'[1]Daily Log'!$BZ$18:$BZ$1017),0)","v":0},{"$f":"IFERROR($E267*SUMIF('[1]Daily Log'!$CB$18:$CB$1017,$B267,'[1]Daily Log'!$CC$18:$CC$1017),0)","v":0},{"$f":"IFERROR($E267*SUMIF('[1]Daily Log'!$CE$18:$CE$1017,$B267,'[1]Daily Log'!$CF$18:$CF$1017),0)","v":0},{"$f":"IFERROR($E267*SUMIF('[1]Daily Log'!$CH$18:$CH$1017,$B267,'[1]Daily Log'!$CI$18:$CI$1017),0)","v":0},{"$f":"IFERROR($E267*SUMIF('[1]Daily Log'!$CK$18:$CK$1017,$B267,'[1]Daily Log'!$CL$18:$CL$1017),0)","v":0},{"$f":"IFERROR($E267*SUMIF('[1]Daily Log'!$CN$18:$CN$1017,$B267,'[1]Daily Log'!$CO$18:$CO$1017),0)","v":0}]
[null,"AA16 K : XTD S ROOM",null,null,null,0,{"$f":"IFERROR($E268*SUMIF('[1]Daily Log'!$B$18:$B$1017,$B268,'[1]Daily Log'!$C$18:$C$1017),0)","v":0},{"$f":"IFERROR($E268*SUMIF('[1]Daily Log'!$E$18:$E$1017,$B268,'[1]Daily Log'!$F$18:$F$1017),0)","v":0},{"$f":"IFERROR($E268*SUMIF('[1]Daily Log'!$H$18:$H$1017,$B268,'[1]Daily Log'!$I$18:$I$1017),0)","v":0}," ",{"$f":"IFERROR($E268*SUMIF('[1]Daily Log'!$N$18:$N$1017,$B268,'[1]Daily Log'!$O$18:$O$1017),0)","v":0},{"$f":"IFERROR($E268*SUMIF('[1]Daily Log'!$Q$18:$Q$1017,$B268,'[1]Daily Log'!$R$18:$R$1017),0)","v":0},{"$f":"IFERROR($E268*SUMIF('[1]Daily Log'!$T$18:$T$1017,$B268,'[1]Daily Log'!$U$18:$U$1017),0)","v":0},{"$f":"IFERROR($E268*SUMIF('[1]Daily Log'!$W$18:$W$1017,$B268,'[1]Daily Log'!$X$18:$X$1017),0)","v":0},{"$f":"IFERROR($E268*SUMIF('[1]Daily Log'!$Z$18:$Z$1017,$B268,'[1]Daily Log'!$AA$18:$AA$1017),0)","v":0},{"$f":"IFERROR($E268*SUMIF('[1]Daily Log'!$AC$18:$AC$1017,$B268,'[1]Daily Log'!$AD$18:$AD$1017),0)","v":0},{"$f":"IFERROR($E268*SUMIF('[1]Daily Log'!$AF$18:$AF$1017,$B268,'[1]Daily Log'!$AG$18:$AG$1017),0)","v":0},{"$f":"IFERROR($E268*SUMIF('[1]Daily Log'!$AI$18:$AI$1017,$B268,'[1]Daily Log'!$AJ$18:$AJ$1017),0)","v":0},{"$f":"IFERROR($E268*SUMIF('[1]Daily Log'!$AL$18:$AL$1017,$B268,'[1]Daily Log'!$AM$18:$AM$1017),0)","v":0},{"$f":"IFERROR($E268*SUMIF('[1]Daily Log'!$AO$18:$AO$1017,$B268,'[1]Daily Log'!$AP$18:$AP$1017),0)","v":0},{"$f":"IFERROR($E268*SUMIF('[1]Daily Log'!$AR$18:$AR$1017,$B268,'[1]Daily Log'!$AS$18:$AS$1017),0)","v":0},{"$f":"IFERROR($E268*SUMIF('[1]Daily Log'!$AU$18:$AU$1017,$B268,'[1]Daily Log'!$AV$18:$AV$1017),0)","v":0},{"$f":"IFERROR($E268*SUMIF('[1]Daily Log'!$AX$18:$AX$1017,$B268,'[1]Daily Log'!$AY$18:$AY$1017),0)","v":0},{"$f":"IFERROR($E268*SUMIF('[1]Daily Log'!$BA$18:$BA$1017,$B268,'[1]Daily Log'!$BB$18:$BB$1017),0)","v":0},{"$f":"IFERROR($E268*SUMIF('[1]Daily Log'!$BD$18:$BD$1017,$B268,'[1]Daily Log'!$BE$18:$BE$1017),0)","v":0},{"$f":"IFERROR($E268*SUMIF('[1]Daily Log'!$BG$18:$BG$1017,$B268,'[1]Daily Log'!$BH$18:$BH$1017),0)","v":0},{"$f":"IFERROR($E268*SUMIF('[1]Daily Log'!$BJ$18:$BJ$1017,$B268,'[1]Daily Log'!$BK$18:$BK$1017),0)","v":0},{"$f":"IFERROR($E268*SUMIF('[1]Daily Log'!$BM$18:$BM$1017,$B268,'[1]Daily Log'!$BN$18:$BN$1017),0)","v":0},{"$f":"IFERROR($E268*SUMIF('[1]Daily Log'!$BP$18:$BP$1017,$B268,'[1]Daily Log'!$BQ$18:$BQ$1017),0)","v":0},{"$f":"IFERROR($E268*SUMIF('[1]Daily Log'!$BS$18:$BS$1017,$B268,'[1]Daily Log'!$BT$18:$BT$1017),0)","v":0},{"$f":"IFERROR($E268*SUMIF('[1]Daily Log'!$BV$18:$BV$1017,$B268,'[1]Daily Log'!$BW$18:$BW$1017),0)","v":0},{"$f":"IFERROR($E268*SUMIF('[1]Daily Log'!$BY$18:$BY$1017,$B268,'[1]Daily Log'!$BZ$18:$BZ$1017),0)","v":0},{"$f":"IFERROR($E268*SUMIF('[1]Daily Log'!$CB$18:$CB$1017,$B268,'[1]Daily Log'!$CC$18:$CC$1017),0)","v":0},{"$f":"IFERROR($E268*SUMIF('[1]Daily Log'!$CE$18:$CE$1017,$B268,'[1]Daily Log'!$CF$18:$CF$1017),0)","v":0},{"$f":"IFERROR($E268*SUMIF('[1]Daily Log'!$CH$18:$CH$1017,$B268,'[1]Daily Log'!$CI$18:$CI$1017),0)","v":0},{"$f":"IFERROR($E268*SUMIF('[1]Daily Log'!$CK$18:$CK$1017,$B268,'[1]Daily Log'!$CL$18:$CL$1017),0)","v":0},{"$f":"IFERROR($E268*SUMIF('[1]Daily Log'!$CN$18:$CN$1017,$B268,'[1]Daily Log'!$CO$18:$CO$1017),0)","v":0}]
[null,"AA17 K : XTD M ROOM",null,null,null,0,{"$f":"IFERROR($E269*SUMIF('[1]Daily Log'!$B$18:$B$1017,$B269,'[1]Daily Log'!$C$18:$C$1017),0)","v":0},{"$f":"IFERROR($E269*SUMIF('[1]Daily Log'!$E$18:$E$1017,$B269,'[1]Daily Log'!$F$18:$F$1017),0)","v":0},{"$f":"IFERROR($E269*SUMIF('[1]Daily Log'!$H$18:$H$1017,$B269,'[1]Daily Log'!$I$18:$I$1017),0)","v":0}," ",{"$f":"IFERROR($E269*SUMIF('[1]Daily Log'!$N$18:$N$1017,$B269,'[1]Daily Log'!$O$18:$O$1017),0)","v":0},{"$f":"IFERROR($E269*SUMIF('[1]Daily Log'!$Q$18:$Q$1017,$B269,'[1]Daily Log'!$R$18:$R$1017),0)","v":0},{"$f":"IFERROR($E269*SUMIF('[1]Daily Log'!$T$18:$T$1017,$B269,'[1]Daily Log'!$U$18:$U$1017),0)","v":0},{"$f":"IFERROR($E269*SUMIF('[1]Daily Log'!$W$18:$W$1017,$B269,'[1]Daily Log'!$X$18:$X$1017),0)","v":0},{"$f":"IFERROR($E269*SUMIF('[1]Daily Log'!$Z$18:$Z$1017,$B269,'[1]Daily Log'!$AA$18:$AA$1017),0)","v":0},{"$f":"IFERROR($E269*SUMIF('[1]Daily Log'!$AC$18:$AC$1017,$B269,'[1]Daily Log'!$AD$18:$AD$1017),0)","v":0},{"$f":"IFERROR($E269*SUMIF('[1]Daily Log'!$AF$18:$AF$1017,$B269,'[1]Daily Log'!$AG$18:$AG$1017),0)","v":0},{"$f":"IFERROR($E269*SUMIF('[1]Daily Log'!$AI$18:$AI$1017,$B269,'[1]Daily Log'!$AJ$18:$AJ$1017),0)","v":0},{"$f":"IFERROR($E269*SUMIF('[1]Daily Log'!$AL$18:$AL$1017,$B269,'[1]Daily Log'!$AM$18:$AM$1017),0)","v":0},{"$f":"IFERROR($E269*SUMIF('[1]Daily Log'!$AO$18:$AO$1017,$B269,'[1]Daily Log'!$AP$18:$AP$1017),0)","v":0},{"$f":"IFERROR($E269*SUMIF('[1]Daily Log'!$AR$18:$AR$1017,$B269,'[1]Daily Log'!$AS$18:$AS$1017),0)","v":0},{"$f":"IFERROR($E269*SUMIF('[1]Daily Log'!$AU$18:$AU$1017,$B269,'[1]Daily Log'!$AV$18:$AV$1017),0)","v":0},{"$f":"IFERROR($E269*SUMIF('[1]Daily Log'!$AX$18:$AX$1017,$B269,'[1]Daily Log'!$AY$18:$AY$1017),0)","v":0},{"$f":"IFERROR($E269*SUMIF('[1]Daily Log'!$BA$18:$BA$1017,$B269,'[1]Daily Log'!$BB$18:$BB$1017),0)","v":0},{"$f":"IFERROR($E269*SUMIF('[1]Daily Log'!$BD$18:$BD$1017,$B269,'[1]Daily Log'!$BE$18:$BE$1017),0)","v":0},{"$f":"IFERROR($E269*SUMIF('[1]Daily Log'!$BG$18:$BG$1017,$B269,'[1]Daily Log'!$BH$18:$BH$1017),0)","v":0},{"$f":"IFERROR($E269*SUMIF('[1]Daily Log'!$BJ$18:$BJ$1017,$B269,'[1]Daily Log'!$BK$18:$BK$1017),0)","v":0},{"$f":"IFERROR($E269*SUMIF('[1]Daily Log'!$BM$18:$BM$1017,$B269,'[1]Daily Log'!$BN$18:$BN$1017),0)","v":0},{"$f":"IFERROR($E269*SUMIF('[1]Daily Log'!$BP$18:$BP$1017,$B269,'[1]Daily Log'!$BQ$18:$BQ$1017),0)","v":0},{"$f":"IFERROR($E269*SUMIF('[1]Daily Log'!$BS$18:$BS$1017,$B269,'[1]Daily Log'!$BT$18:$BT$1017),0)","v":0},{"$f":"IFERROR($E269*SUMIF('[1]Daily Log'!$BV$18:$BV$1017,$B269,'[1]Daily Log'!$BW$18:$BW$1017),0)","v":0},{"$f":"IFERROR($E269*SUMIF('[1]Daily Log'!$BY$18:$BY$1017,$B269,'[1]Daily Log'!$BZ$18:$BZ$1017),0)","v":0},{"$f":"IFERROR($E269*SUMIF('[1]Daily Log'!$CB$18:$CB$1017,$B269,'[1]Daily Log'!$CC$18:$CC$1017),0)","v":0},{"$f":"IFERROR($E269*SUMIF('[1]Daily Log'!$CE$18:$CE$1017,$B269,'[1]Daily Log'!$CF$18:$CF$1017),0)","v":0},{"$f":"IFERROR($E269*SUMIF('[1]Daily Log'!$CH$18:$CH$1017,$B269,'[1]Daily Log'!$CI$18:$CI$1017),0)","v":0},{"$f":"IFERROR($E269*SUMIF('[1]Daily Log'!$CK$18:$CK$1017,$B269,'[1]Daily Log'!$CL$18:$CL$1017),0)","v":0},{"$f":"IFERROR($E269*SUMIF('[1]Daily Log'!$CN$18:$CN$1017,$B269,'[1]Daily Log'!$CO$18:$CO$1017),0)","v":0}]
[null,"AA26 K : XTD VIP ROOM",null,null,null,0,{"$f":"IFERROR($E270*SUMIF('[1]Daily Log'!$B$18:$B$1017,$B270,'[1]Daily Log'!$C$18:$C$1017),0)","v":0},{"$f":"IFERROR($E270*SUMIF('[1]Daily Log'!$E$18:$E$1017,$B270,'[1]Daily Log'!$F$18:$F$1017),0)","v":0},{"$f":"IFERROR($E270*SUMIF('[1]Daily Log'!$H$18:$H$1017,$B270,'[1]Daily Log'!$I$18:$I$1017),0)","v":0}," ",{"$f":"IFERROR($E270*SUMIF('[1]Daily Log'!$N$18:$N$1017,$B270,'[1]Daily Log'!$O$18:$O$1017),0)","v":0},{"$f":"IFERROR($E270*SUMIF('[1]Daily Log'!$Q$18:$Q$1017,$B270,'[1]Daily Log'!$R$18:$R$1017),0)","v":0},{"$f":"IFERROR($E270*SUMIF('[1]Daily Log'!$T$18:$T$1017,$B270,'[1]Daily Log'!$U$18:$U$1017),0)","v":0},{"$f":"IFERROR($E270*SUMIF('[1]Daily Log'!$W$18:$W$1017,$B270,'[1]Daily Log'!$X$18:$X$1017),0)","v":0},{"$f":"IFERROR($E270*SUMIF('[1]Daily Log'!$Z$18:$Z$1017,$B270,'[1]Daily Log'!$AA$18:$AA$1017),0)","v":0},{"$f":"IFERROR($E270*SUMIF('[1]Daily Log'!$AC$18:$AC$1017,$B270,'[1]Daily Log'!$AD$18:$AD$1017),0)","v":0},{"$f":"IFERROR($E270*SUMIF('[1]Daily Log'!$AF$18:$AF$1017,$B270,'[1]Daily Log'!$AG$18:$AG$1017),0)","v":0},{"$f":"IFERROR($E270*SUMIF('[1]Daily Log'!$AI$18:$AI$1017,$B270,'[1]Daily Log'!$AJ$18:$AJ$1017),0)","v":0},{"$f":"IFERROR($E270*SUMIF('[1]Daily Log'!$AL$18:$AL$1017,$B270,'[1]Daily Log'!$AM$18:$AM$1017),0)","v":0},{"$f":"IFERROR($E270*SUMIF('[1]Daily Log'!$AO$18:$AO$1017,$B270,'[1]Daily Log'!$AP$18:$AP$1017),0)","v":0},{"$f":"IFERROR($E270*SUMIF('[1]Daily Log'!$AR$18:$AR$1017,$B270,'[1]Daily Log'!$AS$18:$AS$1017),0)","v":0},{"$f":"IFERROR($E270*SUMIF('[1]Daily Log'!$AU$18:$AU$1017,$B270,'[1]Daily Log'!$AV$18:$AV$1017),0)","v":0},{"$f":"IFERROR($E270*SUMIF('[1]Daily Log'!$AX$18:$AX$1017,$B270,'[1]Daily Log'!$AY$18:$AY$1017),0)","v":0},{"$f":"IFERROR($E270*SUMIF('[1]Daily Log'!$BA$18:$BA$1017,$B270,'[1]Daily Log'!$BB$18:$BB$1017),0)","v":0},{"$f":"IFERROR($E270*SUMIF('[1]Daily Log'!$BD$18:$BD$1017,$B270,'[1]Daily Log'!$BE$18:$BE$1017),0)","v":0},{"$f":"IFERROR($E270*SUMIF('[1]Daily Log'!$BG$18:$BG$1017,$B270,'[1]Daily Log'!$BH$18:$BH$1017),0)","v":0},{"$f":"IFERROR($E270*SUMIF('[1]Daily Log'!$BJ$18:$BJ$1017,$B270,'[1]Daily Log'!$BK$18:$BK$1017),0)","v":0},{"$f":"IFERROR($E270*SUMIF('[1]Daily Log'!$BM$18:$BM$1017,$B270,'[1]Daily Log'!$BN$18:$BN$1017),0)","v":0},{"$f":"IFERROR($E270*SUMIF('[1]Daily Log'!$BP$18:$BP$1017,$B270,'[1]Daily Log'!$BQ$18:$BQ$1017),0)","v":0},{"$f":"IFERROR($E270*SUMIF('[1]Daily Log'!$BS$18:$BS$1017,$B270,'[1]Daily Log'!$BT$18:$BT$1017),0)","v":0},{"$f":"IFERROR($E270*SUMIF('[1]Daily Log'!$BV$18:$BV$1017,$B270,'[1]Daily Log'!$BW$18:$BW$1017),0)","v":0},{"$f":"IFERROR($E270*SUMIF('[1]Daily Log'!$BY$18:$BY$1017,$B270,'[1]Daily Log'!$BZ$18:$BZ$1017),0)","v":0},{"$f":"IFERROR($E270*SUMIF('[1]Daily Log'!$CB$18:$CB$1017,$B270,'[1]Daily Log'!$CC$18:$CC$1017),0)","v":0},{"$f":"IFERROR($E270*SUMIF('[1]Daily Log'!$CE$18:$CE$1017,$B270,'[1]Daily Log'!$CF$18:$CF$1017),0)","v":0},{"$f":"IFERROR($E270*SUMIF('[1]Daily Log'!$CH$18:$CH$1017,$B270,'[1]Daily Log'!$CI$18:$CI$1017),0)","v":0},{"$f":"IFERROR($E270*SUMIF('[1]Daily Log'!$CK$18:$CK$1017,$B270,'[1]Daily Log'!$CL$18:$CL$1017),0)","v":0},{"$f":"IFERROR($E270*SUMIF('[1]Daily Log'!$CN$18:$CN$1017,$B270,'[1]Daily Log'!$CO$18:$CO$1017),0)","v":0}]
[null,"AB01 H : REGULAR",null,null,null,0,{"$f":"IFERROR($E271*SUMIF('[1]Daily Log'!$B$18:$B$1017,$B271,'[1]Daily Log'!$C$18:$C$1017),0)","v":0},{"$f":"IFERROR($E271*SUMIF('[1]Daily Log'!$E$18:$E$1017,$B271,'[1]Daily Log'!$F$18:$F$1017),0)","v":0},{"$f":"IFERROR($E271*SUMIF('[1]Daily Log'!$H$18:$H$1017,$B271,'[1]Daily Log'!$I$18:$I$1017),0)","v":0}," ",{"$f":"IFERROR($E271*SUMIF('[1]Daily Log'!$N$18:$N$1017,$B271,'[1]Daily Log'!$O$18:$O$1017),0)","v":0},{"$f":"IFERROR($E271*SUMIF('[1]Daily Log'!$Q$18:$Q$1017,$B271,'[1]Daily Log'!$R$18:$R$1017),0)","v":0},{"$f":"IFERROR($E271*SUMIF('[1]Daily Log'!$T$18:$T$1017,$B271,'[1]Daily Log'!$U$18:$U$1017),0)","v":0},{"$f":"IFERROR($E271*SUMIF('[1]Daily Log'!$W$18:$W$1017,$B271,'[1]Daily Log'!$X$18:$X$1017),0)","v":0},{"$f":"IFERROR($E271*SUMIF('[1]Daily Log'!$Z$18:$Z$1017,$B271,'[1]Daily Log'!$AA$18:$AA$1017),0)","v":0},{"$f":"IFERROR($E271*SUMIF('[1]Daily Log'!$AC$18:$AC$1017,$B271,'[1]Daily Log'!$AD$18:$AD$1017),0)","v":0},{"$f":"IFERROR($E271*SUMIF('[1]Daily Log'!$AF$18:$AF$1017,$B271,'[1]Daily Log'!$AG$18:$AG$1017),0)","v":0},{"$f":"IFERROR($E271*SUMIF('[1]Daily Log'!$AI$18:$AI$1017,$B271,'[1]Daily Log'!$AJ$18:$AJ$1017),0)","v":0},{"$f":"IFERROR($E271*SUMIF('[1]Daily Log'!$AL$18:$AL$1017,$B271,'[1]Daily Log'!$AM$18:$AM$1017),0)","v":0},{"$f":"IFERROR($E271*SUMIF('[1]Daily Log'!$AO$18:$AO$1017,$B271,'[1]Daily Log'!$AP$18:$AP$1017),0)","v":0},{"$f":"IFERROR($E271*SUMIF('[1]Daily Log'!$AR$18:$AR$1017,$B271,'[1]Daily Log'!$AS$18:$AS$1017),0)","v":0},{"$f":"IFERROR($E271*SUMIF('[1]Daily Log'!$AU$18:$AU$1017,$B271,'[1]Daily Log'!$AV$18:$AV$1017),0)","v":0},{"$f":"IFERROR($E271*SUMIF('[1]Daily Log'!$AX$18:$AX$1017,$B271,'[1]Daily Log'!$AY$18:$AY$1017),0)","v":0},{"$f":"IFERROR($E271*SUMIF('[1]Daily Log'!$BA$18:$BA$1017,$B271,'[1]Daily Log'!$BB$18:$BB$1017),0)","v":0},{"$f":"IFERROR($E271*SUMIF('[1]Daily Log'!$BD$18:$BD$1017,$B271,'[1]Daily Log'!$BE$18:$BE$1017),0)","v":0},{"$f":"IFERROR($E271*SUMIF('[1]Daily Log'!$BG$18:$BG$1017,$B271,'[1]Daily Log'!$BH$18:$BH$1017),0)","v":0},{"$f":"IFERROR($E271*SUMIF('[1]Daily Log'!$BJ$18:$BJ$1017,$B271,'[1]Daily Log'!$BK$18:$BK$1017),0)","v":0},{"$f":"IFERROR($E271*SUMIF('[1]Daily Log'!$BM$18:$BM$1017,$B271,'[1]Daily Log'!$BN$18:$BN$1017),0)","v":0},{"$f":"IFERROR($E271*SUMIF('[1]Daily Log'!$BP$18:$BP$1017,$B271,'[1]Daily Log'!$BQ$18:$BQ$1017),0)","v":0},{"$f":"IFERROR($E271*SUMIF('[1]Daily Log'!$BS$18:$BS$1017,$B271,'[1]Daily Log'!$BT$18:$BT$1017),0)","v":0},{"$f":"IFERROR($E271*SUMIF('[1]Daily Log'!$BV$18:$BV$1017,$B271,'[1]Daily Log'!$BW$18:$BW$1017),0)","v":0},{"$f":"IFERROR($E271*SUMIF('[1]Daily Log'!$BY$18:$BY$1017,$B271,'[1]Daily Log'!$BZ$18:$BZ$1017),0)","v":0},{"$f":"IFERROR($E271*SUMIF('[1]Daily Log'!$CB$18:$CB$1017,$B271,'[1]Daily Log'!$CC$18:$CC$1017),0)","v":0},{"$f":"IFERROR($E271*SUMIF('[1]Daily Log'!$CE$18:$CE$1017,$B271,'[1]Daily Log'!$CF$18:$CF$1017),0)","v":0},{"$f":"IFERROR($E271*SUMIF('[1]Daily Log'!$CH$18:$CH$1017,$B271,'[1]Daily Log'!$CI$18:$CI$1017),0)","v":0},{"$f":"IFERROR($E271*SUMIF('[1]Daily Log'!$CK$18:$CK$1017,$B271,'[1]Daily Log'!$CL$18:$CL$1017),0)","v":0},{"$f":"IFERROR($E271*SUMIF('[1]Daily Log'!$CN$18:$CN$1017,$B271,'[1]Daily Log'!$CO$18:$CO$1017),0)","v":0}]
[null,"AB02 H : MEMBER",null,null,null,0,{"$f":"IFERROR($E272*SUMIF('[1]Daily Log'!$B$18:$B$1017,$B272,'[1]Daily Log'!$C$18:$C$1017),0)","v":0},{"$f":"IFERROR($E272*SUMIF('[1]Daily Log'!$E$18:$E$1017,$B272,'[1]Daily Log'!$F$18:$F$1017),0)","v":0},{"$f":"IFERROR($E272*SUMIF('[1]Daily Log'!$H$18:$H$1017,$B272,'[1]Daily Log'!$I$18:$I$1017),0)","v":0}," ",{"$f":"IFERROR($E272*SUMIF('[1]Daily Log'!$N$18:$N$1017,$B272,'[1]Daily Log'!$O$18:$O$1017),0)","v":0},{"$f":"IFERROR($E272*SUMIF('[1]Daily Log'!$Q$18:$Q$1017,$B272,'[1]Daily Log'!$R$18:$R$1017),0)","v":0},{"$f":"IFERROR($E272*SUMIF('[1]Daily Log'!$T$18:$T$1017,$B272,'[1]Daily Log'!$U$18:$U$1017),0)","v":0},{"$f":"IFERROR($E272*SUMIF('[1]Daily Log'!$W$18:$W$1017,$B272,'[1]Daily Log'!$X$18:$X$1017),0)","v":0},{"$f":"IFERROR($E272*SUMIF('[1]Daily Log'!$Z$18:$Z$1017,$B272,'[1]Daily Log'!$AA$18:$AA$1017),0)","v":0},{"$f":"IFERROR($E272*SUMIF('[1]Daily Log'!$AC$18:$AC$1017,$B272,'[1]Daily Log'!$AD$18:$AD$1017),0)","v":0},{"$f":"IFERROR($E272*SUMIF('[1]Daily Log'!$AF$18:$AF$1017,$B272,'[1]Daily Log'!$AG$18:$AG$1017),0)","v":0},{"$f":"IFERROR($E272*SUMIF('[1]Daily Log'!$AI$18:$AI$1017,$B272,'[1]Daily Log'!$AJ$18:$AJ$1017),0)","v":0},{"$f":"IFERROR($E272*SUMIF('[1]Daily Log'!$AL$18:$AL$1017,$B272,'[1]Daily Log'!$AM$18:$AM$1017),0)","v":0},{"$f":"IFERROR($E272*SUMIF('[1]Daily Log'!$AO$18:$AO$1017,$B272,'[1]Daily Log'!$AP$18:$AP$1017),0)","v":0},{"$f":"IFERROR($E272*SUMIF('[1]Daily Log'!$AR$18:$AR$1017,$B272,'[1]Daily Log'!$AS$18:$AS$1017),0)","v":0},{"$f":"IFERROR($E272*SUMIF('[1]Daily Log'!$AU$18:$AU$1017,$B272,'[1]Daily Log'!$AV$18:$AV$1017),0)","v":0},{"$f":"IFERROR($E272*SUMIF('[1]Daily Log'!$AX$18:$AX$1017,$B272,'[1]Daily Log'!$AY$18:$AY$1017),0)","v":0},{"$f":"IFERROR($E272*SUMIF('[1]Daily Log'!$BA$18:$BA$1017,$B272,'[1]Daily Log'!$BB$18:$BB$1017),0)","v":0},{"$f":"IFERROR($E272*SUMIF('[1]Daily Log'!$BD$18:$BD$1017,$B272,'[1]Daily Log'!$BE$18:$BE$1017),0)","v":0},{"$f":"IFERROR($E272*SUMIF('[1]Daily Log'!$BG$18:$BG$1017,$B272,'[1]Daily Log'!$BH$18:$BH$1017),0)","v":0},{"$f":"IFERROR($E272*SUMIF('[1]Daily Log'!$BJ$18:$BJ$1017,$B272,'[1]Daily Log'!$BK$18:$BK$1017),0)","v":0},{"$f":"IFERROR($E272*SUMIF('[1]Daily Log'!$BM$18:$BM$1017,$B272,'[1]Daily Log'!$BN$18:$BN$1017),0)","v":0},{"$f":"IFERROR($E272*SUMIF('[1]Daily Log'!$BP$18:$BP$1017,$B272,'[1]Daily Log'!$BQ$18:$BQ$1017),0)","v":0},{"$f":"IFERROR($E272*SUMIF('[1]Daily Log'!$BS$18:$BS$1017,$B272,'[1]Daily Log'!$BT$18:$BT$1017),0)","v":0},{"$f":"IFERROR($E272*SUMIF('[1]Daily Log'!$BV$18:$BV$1017,$B272,'[1]Daily Log'!$BW$18:$BW$1017),0)","v":0},{"$f":"IFERROR($E272*SUMIF('[1]Daily Log'!$BY$18:$BY$1017,$B272,'[1]Daily Log'!$BZ$18:$BZ$1017),0)","v":0},{"$f":"IFERROR($E272*SUMIF('[1]Daily Log'!$CB$18:$CB$1017,$B272,'[1]Daily Log'!$CC$18:$CC$1017),0)","v":0},{"$f":"IFERROR($E272*SUMIF('[1]Daily Log'!$CE$18:$CE$1017,$B272,'[1]Daily Log'!$CF$18:$CF$1017),0)","v":0},{"$f":"IFERROR($E272*SUMIF('[1]Daily Log'!$CH$18:$CH$1017,$B272,'[1]Daily Log'!$CI$18:$CI$1017),0)","v":0},{"$f":"IFERROR($E272*SUMIF('[1]Daily Log'!$CK$18:$CK$1017,$B272,'[1]Daily Log'!$CL$18:$CL$1017),0)","v":0},{"$f":"IFERROR($E272*SUMIF('[1]Daily Log'!$CN$18:$CN$1017,$B272,'[1]Daily Log'!$CO$18:$CO$1017),0)","v":0}]
[null,"AB03 H : MEMBER 30%",null,null,null,0,{"$f":"IFERROR($E273*SUMIF('[1]Daily Log'!$B$18:$B$1017,$B273,'[1]Daily Log'!$C$18:$C$1017),0)","v":0},{"$f":"IFERROR($E273*SUMIF('[1]Daily Log'!$E$18:$E$1017,$B273,'[1]Daily Log'!$F$18:$F$1017),0)","v":0},{"$f":"IFERROR($E273*SUMIF('[1]Daily Log'!$H$18:$H$1017,$B273,'[1]Daily Log'!$I$18:$I$1017),0)","v":0}," ",{"$f":"IFERROR($E273*SUMIF('[1]Daily Log'!$N$18:$N$1017,$B273,'[1]Daily Log'!$O$18:$O$1017),0)","v":0},{"$f":"IFERROR($E273*SUMIF('[1]Daily Log'!$Q$18:$Q$1017,$B273,'[1]Daily Log'!$R$18:$R$1017),0)","v":0},{"$f":"IFERROR($E273*SUMIF('[1]Daily Log'!$T$18:$T$1017,$B273,'[1]Daily Log'!$U$18:$U$1017),0)","v":0},{"$f":"IFERROR($E273*SUMIF('[1]Daily Log'!$W$18:$W$1017,$B273,'[1]Daily Log'!$X$18:$X$1017),0)","v":0},{"$f":"IFERROR($E273*SUMIF('[1]Daily Log'!$Z$18:$Z$1017,$B273,'[1]Daily Log'!$AA$18:$AA$1017),0)","v":0},{"$f":"IFERROR($E273*SUMIF('[1]Daily Log'!$AC$18:$AC$1017,$B273,'[1]Daily Log'!$AD$18:$AD$1017),0)","v":0},{"$f":"IFERROR($E273*SUMIF('[1]Daily Log'!$AF$18:$AF$1017,$B273,'[1]Daily Log'!$AG$18:$AG$1017),0)","v":0},{"$f":"IFERROR($E273*SUMIF('[1]Daily Log'!$AI$18:$AI$1017,$B273,'[1]Daily Log'!$AJ$18:$AJ$1017),0)","v":0},{"$f":"IFERROR($E273*SUMIF('[1]Daily Log'!$AL$18:$AL$1017,$B273,'[1]Daily Log'!$AM$18:$AM$1017),0)","v":0},{"$f":"IFERROR($E273*SUMIF('[1]Daily Log'!$AO$18:$AO$1017,$B273,'[1]Daily Log'!$AP$18:$AP$1017),0)","v":0},{"$f":"IFERROR($E273*SUMIF('[1]Daily Log'!$AR$18:$AR$1017,$B273,'[1]Daily Log'!$AS$18:$AS$1017),0)","v":0},{"$f":"IFERROR($E273*SUMIF('[1]Daily Log'!$AU$18:$AU$1017,$B273,'[1]Daily Log'!$AV$18:$AV$1017),0)","v":0},{"$f":"IFERROR($E273*SUMIF('[1]Daily Log'!$AX$18:$AX$1017,$B273,'[1]Daily Log'!$AY$18:$AY$1017),0)","v":0},{"$f":"IFERROR($E273*SUMIF('[1]Daily Log'!$BA$18:$BA$1017,$B273,'[1]Daily Log'!$BB$18:$BB$1017),0)","v":0},{"$f":"IFERROR($E273*SUMIF('[1]Daily Log'!$BD$18:$BD$1017,$B273,'[1]Daily Log'!$BE$18:$BE$1017),0)","v":0},{"$f":"IFERROR($E273*SUMIF('[1]Daily Log'!$BG$18:$BG$1017,$B273,'[1]Daily Log'!$BH$18:$BH$1017),0)","v":0},{"$f":"IFERROR($E273*SUMIF('[1]Daily Log'!$BJ$18:$BJ$1017,$B273,'[1]Daily Log'!$BK$18:$BK$1017),0)","v":0},{"$f":"IFERROR($E273*SUMIF('[1]Daily Log'!$BM$18:$BM$1017,$B273,'[1]Daily Log'!$BN$18:$BN$1017),0)","v":0},{"$f":"IFERROR($E273*SUMIF('[1]Daily Log'!$BP$18:$BP$1017,$B273,'[1]Daily Log'!$BQ$18:$BQ$1017),0)","v":0},{"$f":"IFERROR($E273*SUMIF('[1]Daily Log'!$BS$18:$BS$1017,$B273,'[1]Daily Log'!$BT$18:$BT$1017),0)","v":0},{"$f":"IFERROR($E273*SUMIF('[1]Daily Log'!$BV$18:$BV$1017,$B273,'[1]Daily Log'!$BW$18:$BW$1017),0)","v":0},{"$f":"IFERROR($E273*SUMIF('[1]Daily Log'!$BY$18:$BY$1017,$B273,'[1]Daily Log'!$BZ$18:$BZ$1017),0)","v":0},{"$f":"IFERROR($E273*SUMIF('[1]Daily Log'!$CB$18:$CB$1017,$B273,'[1]Daily Log'!$CC$18:$CC$1017),0)","v":0},{"$f":"IFERROR($E273*SUMIF('[1]Daily Log'!$CE$18:$CE$1017,$B273,'[1]Daily Log'!$CF$18:$CF$1017),0)","v":0},{"$f":"IFERROR($E273*SUMIF('[1]Daily Log'!$CH$18:$CH$1017,$B273,'[1]Daily Log'!$CI$18:$CI$1017),0)","v":0},{"$f":"IFERROR($E273*SUMIF('[1]Daily Log'!$CK$18:$CK$1017,$B273,'[1]Daily Log'!$CL$18:$CL$1017),0)","v":0},{"$f":"IFERROR($E273*SUMIF('[1]Daily Log'!$CN$18:$CN$1017,$B273,'[1]Daily Log'!$CO$18:$CO$1017),0)","v":0}]
[null,"AB05 H : STUDENT",null,null,null,0,{"$f":"IFERROR($E274*SUMIF('[1]Daily Log'!$B$18:$B$1017,$B274,'[1]Daily Log'!$C$18:$C$1017),0)","v":0},{"$f":"IFERROR($E274*SUMIF('[1]Daily Log'!$E$18:$E$1017,$B274,'[1]Daily Log'!$F$18:$F$1017),0)","v":0},{"$f":"IFERROR($E274*SUMIF('[1]Daily Log'!$H$18:$H$1017,$B274,'[1]Daily Log'!$I$18:$I$1017),0)","v":0}," ",{"$f":"IFERROR($E274*SUMIF('[1]Daily Log'!$N$18:$N$1017,$B274,'[1]Daily Log'!$O$18:$O$1017),0)","v":0},{"$f":"IFERROR($E274*SUMIF('[1]Daily Log'!$Q$18:$Q$1017,$B274,'[1]Daily Log'!$R$18:$R$1017),0)","v":0},{"$f":"IFERROR($E274*SUMIF('[1]Daily Log'!$T$18:$T$1017,$B274,'[1]Daily Log'!$U$18:$U$1017),0)","v":0},{"$f":"IFERROR($E274*SUMIF('[1]Daily Log'!$W$18:$W$1017,$B274,'[1]Daily Log'!$X$18:$X$1017),0)","v":0},{"$f":"IFERROR($E274*SUMIF('[1]Daily Log'!$Z$18:$Z$1017,$B274,'[1]Daily Log'!$AA$18:$AA$1017),0)","v":0},{"$f":"IFERROR($E274*SUMIF('[1]Daily Log'!$AC$18:$AC$1017,$B274,'[1]Daily Log'!$AD$18:$AD$1017),0)","v":0},{"$f":"IFERROR($E274*SUMIF('[1]Daily Log'!$AF$18:$AF$1017,$B274,'[1]Daily Log'!$AG$18:$AG$1017),0)","v":0},{"$f":"IFERROR($E274*SUMIF('[1]Daily Log'!$AI$18:$AI$1017,$B274,'[1]Daily Log'!$AJ$18:$AJ$1017),0)","v":0},{"$f":"IFERROR($E274*SUMIF('[1]Daily Log'!$AL$18:$AL$1017,$B274,'[1]Daily Log'!$AM$18:$AM$1017),0)","v":0},{"$f":"IFERROR($E274*SUMIF('[1]Daily Log'!$AO$18:$AO$1017,$B274,'[1]Daily Log'!$AP$18:$AP$1017),0)","v":0},{"$f":"IFERROR($E274*SUMIF('[1]Daily Log'!$AR$18:$AR$1017,$B274,'[1]Daily Log'!$AS$18:$AS$1017),0)","v":0},{"$f":"IFERROR($E274*SUMIF('[1]Daily Log'!$AU$18:$AU$1017,$B274,'[1]Daily Log'!$AV$18:$AV$1017),0)","v":0},{"$f":"IFERROR($E274*SUMIF('[1]Daily Log'!$AX$18:$AX$1017,$B274,'[1]Daily Log'!$AY$18:$AY$1017),0)","v":0},{"$f":"IFERROR($E274*SUMIF('[1]Daily Log'!$BA$18:$BA$1017,$B274,'[1]Daily Log'!$BB$18:$BB$1017),0)","v":0},{"$f":"IFERROR($E274*SUMIF('[1]Daily Log'!$BD$18:$BD$1017,$B274,'[1]Daily Log'!$BE$18:$BE$1017),0)","v":0},{"$f":"IFERROR($E274*SUMIF('[1]Daily Log'!$BG$18:$BG$1017,$B274,'[1]Daily Log'!$BH$18:$BH$1017),0)","v":0},{"$f":"IFERROR($E274*SUMIF('[1]Daily Log'!$BJ$18:$BJ$1017,$B274,'[1]Daily Log'!$BK$18:$BK$1017),0)","v":0},{"$f":"IFERROR($E274*SUMIF('[1]Daily Log'!$BM$18:$BM$1017,$B274,'[1]Daily Log'!$BN$18:$BN$1017),0)","v":0},{"$f":"IFERROR($E274*SUMIF('[1]Daily Log'!$BP$18:$BP$1017,$B274,'[1]Daily Log'!$BQ$18:$BQ$1017),0)","v":0},{"$f":"IFERROR($E274*SUMIF('[1]Daily Log'!$BS$18:$BS$1017,$B274,'[1]Daily Log'!$BT$18:$BT$1017),0)","v":0},{"$f":"IFERROR($E274*SUMIF('[1]Daily Log'!$BV$18:$BV$1017,$B274,'[1]Daily Log'!$BW$18:$BW$1017),0)","v":0},{"$f":"IFERROR($E274*SUMIF('[1]Daily Log'!$BY$18:$BY$1017,$B274,'[1]Daily Log'!$BZ$18:$BZ$1017),0)","v":0},{"$f":"IFERROR($E274*SUMIF('[1]Daily Log'!$CB$18:$CB$1017,$B274,'[1]Daily Log'!$CC$18:$CC$1017),0)","v":0},{"$f":"IFERROR($E274*SUMIF('[1]Daily Log'!$CE$18:$CE$1017,$B274,'[1]Daily Log'!$CF$18:$CF$1017),0)","v":0},{"$f":"IFERROR($E274*SUMIF('[1]Daily Log'!$CH$18:$CH$1017,$B274,'[1]Daily Log'!$CI$18:$CI$1017),0)","v":0},{"$f":"IFERROR($E274*SUMIF('[1]Daily Log'!$CK$18:$CK$1017,$B274,'[1]Daily Log'!$CL$18:$CL$1017),0)","v":0},{"$f":"IFERROR($E274*SUMIF('[1]Daily Log'!$CN$18:$CN$1017,$B274,'[1]Daily Log'!$CO$18:$CO$1017),0)","v":0}]
[null,"AB06 H : SENIOR",null,null,null,0,{"$f":"IFERROR($E275*SUMIF('[1]Daily Log'!$B$18:$B$1017,$B275,'[1]Daily Log'!$C$18:$C$1017),0)","v":0},{"$f":"IFERROR($E275*SUMIF('[1]Daily Log'!$E$18:$E$1017,$B275,'[1]Daily Log'!$F$18:$F$1017),0)","v":0},{"$f":"IFERROR($E275*SUMIF('[1]Daily Log'!$H$18:$H$1017,$B275,'[1]Daily Log'!$I$18:$I$1017),0)","v":0}," ",{"$f":"IFERROR($E275*SUMIF('[1]Daily Log'!$N$18:$N$1017,$B275,'[1]Daily Log'!$O$18:$O$1017),0)","v":0},{"$f":"IFERROR($E275*SUMIF('[1]Daily Log'!$Q$18:$Q$1017,$B275,'[1]Daily Log'!$R$18:$R$1017),0)","v":0},{"$f":"IFERROR($E275*SUMIF('[1]Daily Log'!$T$18:$T$1017,$B275,'[1]Daily Log'!$U$18:$U$1017),0)","v":0},{"$f":"IFERROR($E275*SUMIF('[1]Daily Log'!$W$18:$W$1017,$B275,'[1]Daily Log'!$X$18:$X$1017),0)","v":0},{"$f":"IFERROR($E275*SUMIF('[1]Daily Log'!$Z$18:$Z$1017,$B275,'[1]Daily Log'!$AA$18:$AA$1017),0)","v":0},{"$f":"IFERROR($E275*SUMIF('[1]Daily Log'!$AC$18:$AC$1017,$B275,'[1]Daily Log'!$AD$18:$AD$1017),0)","v":0},{"$f":"IFERROR($E275*SUMIF('[1]Daily Log'!$AF$18:$AF$1017,$B275,'[1]Daily Log'!$AG$18:$AG$1017),0)","v":0},{"$f":"IFERROR($E275*SUMIF('[1]Daily Log'!$AI$18:$AI$1017,$B275,'[1]Daily Log'!$AJ$18:$AJ$1017),0)","v":0},{"$f":"IFERROR($E275*SUMIF('[1]Daily Log'!$AL$18:$AL$1017,$B275,'[1]Daily Log'!$AM$18:$AM$1017),0)","v":0},{"$f":"IFERROR($E275*SUMIF('[1]Daily Log'!$AO$18:$AO$1017,$B275,'[1]Daily Log'!$AP$18:$AP$1017),0)","v":0},{"$f":"IFERROR($E275*SUMIF('[1]Daily Log'!$AR$18:$AR$1017,$B275,'[1]Daily Log'!$AS$18:$AS$1017),0)","v":0},{"$f":"IFERROR($E275*SUMIF('[1]Daily Log'!$AU$18:$AU$1017,$B275,'[1]Daily Log'!$AV$18:$AV$1017),0)","v":0},{"$f":"IFERROR($E275*SUMIF('[1]Daily Log'!$AX$18:$AX$1017,$B275,'[1]Daily Log'!$AY$18:$AY$1017),0)","v":0},{"$f":"IFERROR($E275*SUMIF('[1]Daily Log'!$BA$18:$BA$1017,$B275,'[1]Daily Log'!$BB$18:$BB$1017),0)","v":0},{"$f":"IFERROR($E275*SUMIF('[1]Daily Log'!$BD$18:$BD$1017,$B275,'[1]Daily Log'!$BE$18:$BE$1017),0)","v":0},{"$f":"IFERROR($E275*SUMIF('[1]Daily Log'!$BG$18:$BG$1017,$B275,'[1]Daily Log'!$BH$18:$BH$1017),0)","v":0},{"$f":"IFERROR($E275*SUMIF('[1]Daily Log'!$BJ$18:$BJ$1017,$B275,'[1]Daily Log'!$BK$18:$BK$1017),0)","v":0},{"$f":"IFERROR($E275*SUMIF('[1]Daily Log'!$BM$18:$BM$1017,$B275,'[1]Daily Log'!$BN$18:$BN$1017),0)","v":0},{"$f":"IFERROR($E275*SUMIF('[1]Daily Log'!$BP$18:$BP$1017,$B275,'[1]Daily Log'!$BQ$18:$BQ$1017),0)","v":0},{"$f":"IFERROR($E275*SUMIF('[1]Daily Log'!$BS$18:$BS$1017,$B275,'[1]Daily Log'!$BT$18:$BT$1017),0)","v":0},{"$f":"IFERROR($E275*SUMIF('[1]Daily Log'!$BV$18:$BV$1017,$B275,'[1]Daily Log'!$BW$18:$BW$1017),0)","v":0},{"$f":"IFERROR($E275*SUMIF('[1]Daily Log'!$BY$18:$BY$1017,$B275,'[1]Daily Log'!$BZ$18:$BZ$1017),0)","v":0},{"$f":"IFERROR($E275*SUMIF('[1]Daily Log'!$CB$18:$CB$1017,$B275,'[1]Daily Log'!$CC$18:$CC$1017),0)","v":0},{"$f":"IFERROR($E275*SUMIF('[1]Daily Log'!$CE$18:$CE$1017,$B275,'[1]Daily Log'!$CF$18:$CF$1017),0)","v":0},{"$f":"IFERROR($E275*SUMIF('[1]Daily Log'!$CH$18:$CH$1017,$B275,'[1]Daily Log'!$CI$18:$CI$1017),0)","v":0},{"$f":"IFERROR($E275*SUMIF('[1]Daily Log'!$CK$18:$CK$1017,$B275,'[1]Daily Log'!$CL$18:$CL$1017),0)","v":0},{"$f":"IFERROR($E275*SUMIF('[1]Daily Log'!$CN$18:$CN$1017,$B275,'[1]Daily Log'!$CO$18:$CO$1017),0)","v":0}]
[null,"AB07 H : CHILDREN",null,null,null,0,{"$f":"IFERROR($E276*SUMIF('[1]Daily Log'!$B$18:$B$1017,$B276,'[1]Daily Log'!$C$18:$C$1017),0)","v":0},{"$f":"IFERROR($E276*SUMIF('[1]Daily Log'!$E$18:$E$1017,$B276,'[1]Daily Log'!$F$18:$F$1017),0)","v":0},{"$f":"IFERROR($E276*SUMIF('[1]Daily Log'!$H$18:$H$1017,$B276,'[1]Daily Log'!$I$18:$I$1017),0)","v":0}," ",{"$f":"IFERROR($E276*SUMIF('[1]Daily Log'!$N$18:$N$1017,$B276,'[1]Daily Log'!$O$18:$O$1017),0)","v":0},{"$f":"IFERROR($E276*SUMIF('[1]Daily Log'!$Q$18:$Q$1017,$B276,'[1]Daily Log'!$R$18:$R$1017),0)","v":0},{"$f":"IFERROR($E276*SUMIF('[1]Daily Log'!$T$18:$T$1017,$B276,'[1]Daily Log'!$U$18:$U$1017),0)","v":0},{"$f":"IFERROR($E276*SUMIF('[1]Daily Log'!$W$18:$W$1017,$B276,'[1]Daily Log'!$X$18:$X$1017),0)","v":0},{"$f":"IFERROR($E276*SUMIF('[1]Daily Log'!$Z$18:$Z$1017,$B276,'[1]Daily Log'!$AA$18:$AA$1017),0)","v":0},{"$f":"IFERROR($E276*SUMIF('[1]Daily Log'!$AC$18:$AC$1017,$B276,'[1]Daily Log'!$AD$18:$AD$1017),0)","v":0},{"$f":"IFERROR($E276*SUMIF('[1]Daily Log'!$AF$18:$AF$1017,$B276,'[1]Daily Log'!$AG$18:$AG$1017),0)","v":0},{"$f":"IFERROR($E276*SUMIF('[1]Daily Log'!$AI$18:$AI$1017,$B276,'[1]Daily Log'!$AJ$18:$AJ$1017),0)","v":0},{"$f":"IFERROR($E276*SUMIF('[1]Daily Log'!$AL$18:$AL$1017,$B276,'[1]Daily Log'!$AM$18:$AM$1017),0)","v":0},{"$f":"IFERROR($E276*SUMIF('[1]Daily Log'!$AO$18:$AO$1017,$B276,'[1]Daily Log'!$AP$18:$AP$1017),0)","v":0},{"$f":"IFERROR($E276*SUMIF('[1]Daily Log'!$AR$18:$AR$1017,$B276,'[1]Daily Log'!$AS$18:$AS$1017),0)","v":0},{"$f":"IFERROR($E276*SUMIF('[1]Daily Log'!$AU$18:$AU$1017,$B276,'[1]Daily Log'!$AV$18:$AV$1017),0)","v":0},{"$f":"IFERROR($E276*SUMIF('[1]Daily Log'!$AX$18:$AX$1017,$B276,'[1]Daily Log'!$AY$18:$AY$1017),0)","v":0},{"$f":"IFERROR($E276*SUMIF('[1]Daily Log'!$BA$18:$BA$1017,$B276,'[1]Daily Log'!$BB$18:$BB$1017),0)","v":0},{"$f":"IFERROR($E276*SUMIF('[1]Daily Log'!$BD$18:$BD$1017,$B276,'[1]Daily Log'!$BE$18:$BE$1017),0)","v":0},{"$f":"IFERROR($E276*SUMIF('[1]Daily Log'!$BG$18:$BG$1017,$B276,'[1]Daily Log'!$BH$18:$BH$1017),0)","v":0},{"$f":"IFERROR($E276*SUMIF('[1]Daily Log'!$BJ$18:$BJ$1017,$B276,'[1]Daily Log'!$BK$18:$BK$1017),0)","v":0},{"$f":"IFERROR($E276*SUMIF('[1]Daily Log'!$BM$18:$BM$1017,$B276,'[1]Daily Log'!$BN$18:$BN$1017),0)","v":0},{"$f":"IFERROR($E276*SUMIF('[1]Daily Log'!$BP$18:$BP$1017,$B276,'[1]Daily Log'!$BQ$18:$BQ$1017),0)","v":0},{"$f":"IFERROR($E276*SUMIF('[1]Daily Log'!$BS$18:$BS$1017,$B276,'[1]Daily Log'!$BT$18:$BT$1017),0)","v":0},{"$f":"IFERROR($E276*SUMIF('[1]Daily Log'!$BV$18:$BV$1017,$B276,'[1]Daily Log'!$BW$18:$BW$1017),0)","v":0},{"$f":"IFERROR($E276*SUMIF('[1]Daily Log'!$BY$18:$BY$1017,$B276,'[1]Daily Log'!$BZ$18:$BZ$1017),0)","v":0},{"$f":"IFERROR($E276*SUMIF('[1]Daily Log'!$CB$18:$CB$1017,$B276,'[1]Daily Log'!$CC$18:$CC$1017),0)","v":0},{"$f":"IFERROR($E276*SUMIF('[1]Daily Log'!$CE$18:$CE$1017,$B276,'[1]Daily Log'!$CF$18:$CF$1017),0)","v":0},{"$f":"IFERROR($E276*SUMIF('[1]Daily Log'!$CH$18:$CH$1017,$B276,'[1]Daily Log'!$CI$18:$CI$1017),0)","v":0},{"$f":"IFERROR($E276*SUMIF('[1]Daily Log'!$CK$18:$CK$1017,$B276,'[1]Daily Log'!$CL$18:$CL$1017),0)","v":0},{"$f":"IFERROR($E276*SUMIF('[1]Daily Log'!$CN$18:$CN$1017,$B276,'[1]Daily Log'!$CO$18:$CO$1017),0)","v":0}]
[null,"AB08 H : MEMBER B'DAY",null,null,null,0,{"$f":"IFERROR($E277*SUMIF('[1]Daily Log'!$B$18:$B$1017,$B277,'[1]Daily Log'!$C$18:$C$1017),0)","v":0},{"$f":"IFERROR($E277*SUMIF('[1]Daily Log'!$E$18:$E$1017,$B277,'[1]Daily Log'!$F$18:$F$1017),0)","v":0},{"$f":"IFERROR($E277*SUMIF('[1]Daily Log'!$H$18:$H$1017,$B277,'[1]Daily Log'!$I$18:$I$1017),0)","v":0}," ",{"$f":"IFERROR($E277*SUMIF('[1]Daily Log'!$N$18:$N$1017,$B277,'[1]Daily Log'!$O$18:$O$1017),0)","v":0},{"$f":"IFERROR($E277*SUMIF('[1]Daily Log'!$Q$18:$Q$1017,$B277,'[1]Daily Log'!$R$18:$R$1017),0)","v":0},{"$f":"IFERROR($E277*SUMIF('[1]Daily Log'!$T$18:$T$1017,$B277,'[1]Daily Log'!$U$18:$U$1017),0)","v":0},{"$f":"IFERROR($E277*SUMIF('[1]Daily Log'!$W$18:$W$1017,$B277,'[1]Daily Log'!$X$18:$X$1017),0)","v":0},{"$f":"IFERROR($E277*SUMIF('[1]Daily Log'!$Z$18:$Z$1017,$B277,'[1]Daily Log'!$AA$18:$AA$1017),0)","v":0},{"$f":"IFERROR($E277*SUMIF('[1]Daily Log'!$AC$18:$AC$1017,$B277,'[1]Daily Log'!$AD$18:$AD$1017),0)","v":0},{"$f":"IFERROR($E277*SUMIF('[1]Daily Log'!$AF$18:$AF$1017,$B277,'[1]Daily Log'!$AG$18:$AG$1017),0)","v":0},{"$f":"IFERROR($E277*SUMIF('[1]Daily Log'!$AI$18:$AI$1017,$B277,'[1]Daily Log'!$AJ$18:$AJ$1017),0)","v":0},{"$f":"IFERROR($E277*SUMIF('[1]Daily Log'!$AL$18:$AL$1017,$B277,'[1]Daily Log'!$AM$18:$AM$1017),0)","v":0},{"$f":"IFERROR($E277*SUMIF('[1]Daily Log'!$AO$18:$AO$1017,$B277,'[1]Daily Log'!$AP$18:$AP$1017),0)","v":0},{"$f":"IFERROR($E277*SUMIF('[1]Daily Log'!$AR$18:$AR$1017,$B277,'[1]Daily Log'!$AS$18:$AS$1017),0)","v":0},{"$f":"IFERROR($E277*SUMIF('[1]Daily Log'!$AU$18:$AU$1017,$B277,'[1]Daily Log'!$AV$18:$AV$1017),0)","v":0},{"$f":"IFERROR($E277*SUMIF('[1]Daily Log'!$AX$18:$AX$1017,$B277,'[1]Daily Log'!$AY$18:$AY$1017),0)","v":0},{"$f":"IFERROR($E277*SUMIF('[1]Daily Log'!$BA$18:$BA$1017,$B277,'[1]Daily Log'!$BB$18:$BB$1017),0)","v":0},{"$f":"IFERROR($E277*SUMIF('[1]Daily Log'!$BD$18:$BD$1017,$B277,'[1]Daily Log'!$BE$18:$BE$1017),0)","v":0},{"$f":"IFERROR($E277*SUMIF('[1]Daily Log'!$BG$18:$BG$1017,$B277,'[1]Daily Log'!$BH$18:$BH$1017),0)","v":0},{"$f":"IFERROR($E277*SUMIF('[1]Daily Log'!$BJ$18:$BJ$1017,$B277,'[1]Daily Log'!$BK$18:$BK$1017),0)","v":0},{"$f":"IFERROR($E277*SUMIF('[1]Daily Log'!$BM$18:$BM$1017,$B277,'[1]Daily Log'!$BN$18:$BN$1017),0)","v":0},{"$f":"IFERROR($E277*SUMIF('[1]Daily Log'!$BP$18:$BP$1017,$B277,'[1]Daily Log'!$BQ$18:$BQ$1017),0)","v":0},{"$f":"IFERROR($E277*SUMIF('[1]Daily Log'!$BS$18:$BS$1017,$B277,'[1]Daily Log'!$BT$18:$BT$1017),0)","v":0},{"$f":"IFERROR($E277*SUMIF('[1]Daily Log'!$BV$18:$BV$1017,$B277,'[1]Daily Log'!$BW$18:$BW$1017),0)","v":0},{"$f":"IFERROR($E277*SUMIF('[1]Daily Log'!$BY$18:$BY$1017,$B277,'[1]Daily Log'!$BZ$18:$BZ$1017),0)","v":0},{"$f":"IFERROR($E277*SUMIF('[1]Daily Log'!$CB$18:$CB$1017,$B277,'[1]Daily Log'!$CC$18:$CC$1017),0)","v":0},{"$f":"IFERROR($E277*SUMIF('[1]Daily Log'!$CE$18:$CE$1017,$B277,'[1]Daily Log'!$CF$18:$CF$1017),0)","v":0},{"$f":"IFERROR($E277*SUMIF('[1]Daily Log'!$CH$18:$CH$1017,$B277,'[1]Daily Log'!$CI$18:$CI$1017),0)","v":0},{"$f":"IFERROR($E277*SUMIF('[1]Daily Log'!$CK$18:$CK$1017,$B277,'[1]Daily Log'!$CL$18:$CL$1017),0)","v":0},{"$f":"IFERROR($E277*SUMIF('[1]Daily Log'!$CN$18:$CN$1017,$B277,'[1]Daily Log'!$CO$18:$CO$1017),0)","v":0}]
[null,"AB10 H : FOC HEAD",null,null,null,0,{"$f":"IFERROR($E278*SUMIF('[1]Daily Log'!$B$18:$B$1017,$B278,'[1]Daily Log'!$C$18:$C$1017),0)","v":0},{"$f":"IFERROR($E278*SUMIF('[1]Daily Log'!$E$18:$E$1017,$B278,'[1]Daily Log'!$F$18:$F$1017),0)","v":0},{"$f":"IFERROR($E278*SUMIF('[1]Daily Log'!$H$18:$H$1017,$B278,'[1]Daily Log'!$I$18:$I$1017),0)","v":0}," ",{"$f":"IFERROR($E278*SUMIF('[1]Daily Log'!$N$18:$N$1017,$B278,'[1]Daily Log'!$O$18:$O$1017),0)","v":0},{"$f":"IFERROR($E278*SUMIF('[1]Daily Log'!$Q$18:$Q$1017,$B278,'[1]Daily Log'!$R$18:$R$1017),0)","v":0},{"$f":"IFERROR($E278*SUMIF('[1]Daily Log'!$T$18:$T$1017,$B278,'[1]Daily Log'!$U$18:$U$1017),0)","v":0},{"$f":"IFERROR($E278*SUMIF('[1]Daily Log'!$W$18:$W$1017,$B278,'[1]Daily Log'!$X$18:$X$1017),0)","v":0},{"$f":"IFERROR($E278*SUMIF('[1]Daily Log'!$Z$18:$Z$1017,$B278,'[1]Daily Log'!$AA$18:$AA$1017),0)","v":0},{"$f":"IFERROR($E278*SUMIF('[1]Daily Log'!$AC$18:$AC$1017,$B278,'[1]Daily Log'!$AD$18:$AD$1017),0)","v":0},{"$f":"IFERROR($E278*SUMIF('[1]Daily Log'!$AF$18:$AF$1017,$B278,'[1]Daily Log'!$AG$18:$AG$1017),0)","v":0},{"$f":"IFERROR($E278*SUMIF('[1]Daily Log'!$AI$18:$AI$1017,$B278,'[1]Daily Log'!$AJ$18:$AJ$1017),0)","v":0},{"$f":"IFERROR($E278*SUMIF('[1]Daily Log'!$AL$18:$AL$1017,$B278,'[1]Daily Log'!$AM$18:$AM$1017),0)","v":0},{"$f":"IFERROR($E278*SUMIF('[1]Daily Log'!$AO$18:$AO$1017,$B278,'[1]Daily Log'!$AP$18:$AP$1017),0)","v":0},{"$f":"IFERROR($E278*SUMIF('[1]Daily Log'!$AR$18:$AR$1017,$B278,'[1]Daily Log'!$AS$18:$AS$1017),0)","v":0},{"$f":"IFERROR($E278*SUMIF('[1]Daily Log'!$AU$18:$AU$1017,$B278,'[1]Daily Log'!$AV$18:$AV$1017),0)","v":0},{"$f":"IFERROR($E278*SUMIF('[1]Daily Log'!$AX$18:$AX$1017,$B278,'[1]Daily Log'!$AY$18:$AY$1017),0)","v":0},{"$f":"IFERROR($E278*SUMIF('[1]Daily Log'!$BA$18:$BA$1017,$B278,'[1]Daily Log'!$BB$18:$BB$1017),0)","v":0},{"$f":"IFERROR($E278*SUMIF('[1]Daily Log'!$BD$18:$BD$1017,$B278,'[1]Daily Log'!$BE$18:$BE$1017),0)","v":0},{"$f":"IFERROR($E278*SUMIF('[1]Daily Log'!$BG$18:$BG$1017,$B278,'[1]Daily Log'!$BH$18:$BH$1017),0)","v":0},{"$f":"IFERROR($E278*SUMIF('[1]Daily Log'!$BJ$18:$BJ$1017,$B278,'[1]Daily Log'!$BK$18:$BK$1017),0)","v":0},{"$f":"IFERROR($E278*SUMIF('[1]Daily Log'!$BM$18:$BM$1017,$B278,'[1]Daily Log'!$BN$18:$BN$1017),0)","v":0},{"$f":"IFERROR($E278*SUMIF('[1]Daily Log'!$BP$18:$BP$1017,$B278,'[1]Daily Log'!$BQ$18:$BQ$1017),0)","v":0},{"$f":"IFERROR($E278*SUMIF('[1]Daily Log'!$BS$18:$BS$1017,$B278,'[1]Daily Log'!$BT$18:$BT$1017),0)","v":0},{"$f":"IFERROR($E278*SUMIF('[1]Daily Log'!$BV$18:$BV$1017,$B278,'[1]Daily Log'!$BW$18:$BW$1017),0)","v":0},{"$f":"IFERROR($E278*SUMIF('[1]Daily Log'!$BY$18:$BY$1017,$B278,'[1]Daily Log'!$BZ$18:$BZ$1017),0)","v":0},{"$f":"IFERROR($E278*SUMIF('[1]Daily Log'!$CB$18:$CB$1017,$B278,'[1]Daily Log'!$CC$18:$CC$1017),0)","v":0},{"$f":"IFERROR($E278*SUMIF('[1]Daily Log'!$CE$18:$CE$1017,$B278,'[1]Daily Log'!$CF$18:$CF$1017),0)","v":0},{"$f":"IFERROR($E278*SUMIF('[1]Daily Log'!$CH$18:$CH$1017,$B278,'[1]Daily Log'!$CI$18:$CI$1017),0)","v":0},{"$f":"IFERROR($E278*SUMIF('[1]Daily Log'!$CK$18:$CK$1017,$B278,'[1]Daily Log'!$CL$18:$CL$1017),0)","v":0},{"$f":"IFERROR($E278*SUMIF('[1]Daily Log'!$CN$18:$CN$1017,$B278,'[1]Daily Log'!$CO$18:$CO$1017),0)","v":0}]
[null,"AB11 H : FREEHEAD (B)",null,null,null,0,{"$f":"IFERROR($E279*SUMIF('[1]Daily Log'!$B$18:$B$1017,$B279,'[1]Daily Log'!$C$18:$C$1017),0)","v":0},{"$f":"IFERROR($E279*SUMIF('[1]Daily Log'!$E$18:$E$1017,$B279,'[1]Daily Log'!$F$18:$F$1017),0)","v":0},{"$f":"IFERROR($E279*SUMIF('[1]Daily Log'!$H$18:$H$1017,$B279,'[1]Daily Log'!$I$18:$I$1017),0)","v":0}," ",{"$f":"IFERROR($E279*SUMIF('[1]Daily Log'!$N$18:$N$1017,$B279,'[1]Daily Log'!$O$18:$O$1017),0)","v":0},{"$f":"IFERROR($E279*SUMIF('[1]Daily Log'!$Q$18:$Q$1017,$B279,'[1]Daily Log'!$R$18:$R$1017),0)","v":0},{"$f":"IFERROR($E279*SUMIF('[1]Daily Log'!$T$18:$T$1017,$B279,'[1]Daily Log'!$U$18:$U$1017),0)","v":0},{"$f":"IFERROR($E279*SUMIF('[1]Daily Log'!$W$18:$W$1017,$B279,'[1]Daily Log'!$X$18:$X$1017),0)","v":0},{"$f":"IFERROR($E279*SUMIF('[1]Daily Log'!$Z$18:$Z$1017,$B279,'[1]Daily Log'!$AA$18:$AA$1017),0)","v":0},{"$f":"IFERROR($E279*SUMIF('[1]Daily Log'!$AC$18:$AC$1017,$B279,'[1]Daily Log'!$AD$18:$AD$1017),0)","v":0},{"$f":"IFERROR($E279*SUMIF('[1]Daily Log'!$AF$18:$AF$1017,$B279,'[1]Daily Log'!$AG$18:$AG$1017),0)","v":0},{"$f":"IFERROR($E279*SUMIF('[1]Daily Log'!$AI$18:$AI$1017,$B279,'[1]Daily Log'!$AJ$18:$AJ$1017),0)","v":0},{"$f":"IFERROR($E279*SUMIF('[1]Daily Log'!$AL$18:$AL$1017,$B279,'[1]Daily Log'!$AM$18:$AM$1017),0)","v":0},{"$f":"IFERROR($E279*SUMIF('[1]Daily Log'!$AO$18:$AO$1017,$B279,'[1]Daily Log'!$AP$18:$AP$1017),0)","v":0},{"$f":"IFERROR($E279*SUMIF('[1]Daily Log'!$AR$18:$AR$1017,$B279,'[1]Daily Log'!$AS$18:$AS$1017),0)","v":0},{"$f":"IFERROR($E279*SUMIF('[1]Daily Log'!$AU$18:$AU$1017,$B279,'[1]Daily Log'!$AV$18:$AV$1017),0)","v":0},{"$f":"IFERROR($E279*SUMIF('[1]Daily Log'!$AX$18:$AX$1017,$B279,'[1]Daily Log'!$AY$18:$AY$1017),0)","v":0},{"$f":"IFERROR($E279*SUMIF('[1]Daily Log'!$BA$18:$BA$1017,$B279,'[1]Daily Log'!$BB$18:$BB$1017),0)","v":0},{"$f":"IFERROR($E279*SUMIF('[1]Daily Log'!$BD$18:$BD$1017,$B279,'[1]Daily Log'!$BE$18:$BE$1017),0)","v":0},{"$f":"IFERROR($E279*SUMIF('[1]Daily Log'!$BG$18:$BG$1017,$B279,'[1]Daily Log'!$BH$18:$BH$1017),0)","v":0},{"$f":"IFERROR($E279*SUMIF('[1]Daily Log'!$BJ$18:$BJ$1017,$B279,'[1]Daily Log'!$BK$18:$BK$1017),0)","v":0},{"$f":"IFERROR($E279*SUMIF('[1]Daily Log'!$BM$18:$BM$1017,$B279,'[1]Daily Log'!$BN$18:$BN$1017),0)","v":0},{"$f":"IFERROR($E279*SUMIF('[1]Daily Log'!$BP$18:$BP$1017,$B279,'[1]Daily Log'!$BQ$18:$BQ$1017),0)","v":0},{"$f":"IFERROR($E279*SUMIF('[1]Daily Log'!$BS$18:$BS$1017,$B279,'[1]Daily Log'!$BT$18:$BT$1017),0)","v":0},{"$f":"IFERROR($E279*SUMIF('[1]Daily Log'!$BV$18:$BV$1017,$B279,'[1]Daily Log'!$BW$18:$BW$1017),0)","v":0},{"$f":"IFERROR($E279*SUMIF('[1]Daily Log'!$BY$18:$BY$1017,$B279,'[1]Daily Log'!$BZ$18:$BZ$1017),0)","v":0},{"$f":"IFERROR($E279*SUMIF('[1]Daily Log'!$CB$18:$CB$1017,$B279,'[1]Daily Log'!$CC$18:$CC$1017),0)","v":0},{"$f":"IFERROR($E279*SUMIF('[1]Daily Log'!$CE$18:$CE$1017,$B279,'[1]Daily Log'!$CF$18:$CF$1017),0)","v":0},{"$f":"IFERROR($E279*SUMIF('[1]Daily Log'!$CH$18:$CH$1017,$B279,'[1]Daily Log'!$CI$18:$CI$1017),0)","v":0},{"$f":"IFERROR($E279*SUMIF('[1]Daily Log'!$CK$18:$CK$1017,$B279,'[1]Daily Log'!$CL$18:$CL$1017),0)","v":0},{"$f":"IFERROR($E279*SUMIF('[1]Daily Log'!$CN$18:$CN$1017,$B279,'[1]Daily Log'!$CO$18:$CO$1017),0)","v":0}]
[null,"AB16 H : EVENT",null,null,null,0,{"$f":"IFERROR($E280*SUMIF('[1]Daily Log'!$B$18:$B$1017,$B280,'[1]Daily Log'!$C$18:$C$1017),0)","v":0},{"$f":"IFERROR($E280*SUMIF('[1]Daily Log'!$E$18:$E$1017,$B280,'[1]Daily Log'!$F$18:$F$1017),0)","v":0},{"$f":"IFERROR($E280*SUMIF('[1]Daily Log'!$H$18:$H$1017,$B280,'[1]Daily Log'!$I$18:$I$1017),0)","v":0}," ",{"$f":"IFERROR($E280*SUMIF('[1]Daily Log'!$N$18:$N$1017,$B280,'[1]Daily Log'!$O$18:$O$1017),0)","v":0},{"$f":"IFERROR($E280*SUMIF('[1]Daily Log'!$Q$18:$Q$1017,$B280,'[1]Daily Log'!$R$18:$R$1017),0)","v":0},{"$f":"IFERROR($E280*SUMIF('[1]Daily Log'!$T$18:$T$1017,$B280,'[1]Daily Log'!$U$18:$U$1017),0)","v":0},{"$f":"IFERROR($E280*SUMIF('[1]Daily Log'!$W$18:$W$1017,$B280,'[1]Daily Log'!$X$18:$X$1017),0)","v":0},{"$f":"IFERROR($E280*SUMIF('[1]Daily Log'!$Z$18:$Z$1017,$B280,'[1]Daily Log'!$AA$18:$AA$1017),0)","v":0},{"$f":"IFERROR($E280*SUMIF('[1]Daily Log'!$AC$18:$AC$1017,$B280,'[1]Daily Log'!$AD$18:$AD$1017),0)","v":0},{"$f":"IFERROR($E280*SUMIF('[1]Daily Log'!$AF$18:$AF$1017,$B280,'[1]Daily Log'!$AG$18:$AG$1017),0)","v":0},{"$f":"IFERROR($E280*SUMIF('[1]Daily Log'!$AI$18:$AI$1017,$B280,'[1]Daily Log'!$AJ$18:$AJ$1017),0)","v":0},{"$f":"IFERROR($E280*SUMIF('[1]Daily Log'!$AL$18:$AL$1017,$B280,'[1]Daily Log'!$AM$18:$AM$1017),0)","v":0},{"$f":"IFERROR($E280*SUMIF('[1]Daily Log'!$AO$18:$AO$1017,$B280,'[1]Daily Log'!$AP$18:$AP$1017),0)","v":0},{"$f":"IFERROR($E280*SUMIF('[1]Daily Log'!$AR$18:$AR$1017,$B280,'[1]Daily Log'!$AS$18:$AS$1017),0)","v":0},{"$f":"IFERROR($E280*SUMIF('[1]Daily Log'!$AU$18:$AU$1017,$B280,'[1]Daily Log'!$AV$18:$AV$1017),0)","v":0},{"$f":"IFERROR($E280*SUMIF('[1]Daily Log'!$AX$18:$AX$1017,$B280,'[1]Daily Log'!$AY$18:$AY$1017),0)","v":0},{"$f":"IFERROR($E280*SUMIF('[1]Daily Log'!$BA$18:$BA$1017,$B280,'[1]Daily Log'!$BB$18:$BB$1017),0)","v":0},{"$f":"IFERROR($E280*SUMIF('[1]Daily Log'!$BD$18:$BD$1017,$B280,'[1]Daily Log'!$BE$18:$BE$1017),0)","v":0},{"$f":"IFERROR($E280*SUMIF('[1]Daily Log'!$BG$18:$BG$1017,$B280,'[1]Daily Log'!$BH$18:$BH$1017),0)","v":0},{"$f":"IFERROR($E280*SUMIF('[1]Daily Log'!$BJ$18:$BJ$1017,$B280,'[1]Daily Log'!$BK$18:$BK$1017),0)","v":0},{"$f":"IFERROR($E280*SUMIF('[1]Daily Log'!$BM$18:$BM$1017,$B280,'[1]Daily Log'!$BN$18:$BN$1017),0)","v":0},{"$f":"IFERROR($E280*SUMIF('[1]Daily Log'!$BP$18:$BP$1017,$B280,'[1]Daily Log'!$BQ$18:$BQ$1017),0)","v":0},{"$f":"IFERROR($E280*SUMIF('[1]Daily Log'!$BS$18:$BS$1017,$B280,'[1]Daily Log'!$BT$18:$BT$1017),0)","v":0},{"$f":"IFERROR($E280*SUMIF('[1]Daily Log'!$BV$18:$BV$1017,$B280,'[1]Daily Log'!$BW$18:$BW$1017),0)","v":0},{"$f":"IFERROR($E280*SUMIF('[1]Daily Log'!$BY$18:$BY$1017,$B280,'[1]Daily Log'!$BZ$18:$BZ$1017),0)","v":0},{"$f":"IFERROR($E280*SUMIF('[1]Daily Log'!$CB$18:$CB$1017,$B280,'[1]Daily Log'!$CC$18:$CC$1017),0)","v":0},{"$f":"IFERROR($E280*SUMIF('[1]Daily Log'!$CE$18:$CE$1017,$B280,'[1]Daily Log'!$CF$18:$CF$1017),0)","v":0},{"$f":"IFERROR($E280*SUMIF('[1]Daily Log'!$CH$18:$CH$1017,$B280,'[1]Daily Log'!$CI$18:$CI$1017),0)","v":0},{"$f":"IFERROR($E280*SUMIF('[1]Daily Log'!$CK$18:$CK$1017,$B280,'[1]Daily Log'!$CL$18:$CL$1017),0)","v":0},{"$f":"IFERROR($E280*SUMIF('[1]Daily Log'!$CN$18:$CN$1017,$B280,'[1]Daily Log'!$CO$18:$CO$1017),0)","v":0}]
[null,"AB17 H : XTD S ROOM",null,null,null,0,{"$f":"IFERROR($E281*SUMIF('[1]Daily Log'!$B$18:$B$1017,$B281,'[1]Daily Log'!$C$18:$C$1017),0)","v":0},{"$f":"IFERROR($E281*SUMIF('[1]Daily Log'!$E$18:$E$1017,$B281,'[1]Daily Log'!$F$18:$F$1017),0)","v":0},{"$f":"IFERROR($E281*SUMIF('[1]Daily Log'!$H$18:$H$1017,$B281,'[1]Daily Log'!$I$18:$I$1017),0)","v":0}," ",{"$f":"IFERROR($E281*SUMIF('[1]Daily Log'!$N$18:$N$1017,$B281,'[1]Daily Log'!$O$18:$O$1017),0)","v":0},{"$f":"IFERROR($E281*SUMIF('[1]Daily Log'!$Q$18:$Q$1017,$B281,'[1]Daily Log'!$R$18:$R$1017),0)","v":0},{"$f":"IFERROR($E281*SUMIF('[1]Daily Log'!$T$18:$T$1017,$B281,'[1]Daily Log'!$U$18:$U$1017),0)","v":0},{"$f":"IFERROR($E281*SUMIF('[1]Daily Log'!$W$18:$W$1017,$B281,'[1]Daily Log'!$X$18:$X$1017),0)","v":0},{"$f":"IFERROR($E281*SUMIF('[1]Daily Log'!$Z$18:$Z$1017,$B281,'[1]Daily Log'!$AA$18:$AA$1017),0)","v":0},{"$f":"IFERROR($E281*SUMIF('[1]Daily Log'!$AC$18:$AC$1017,$B281,'[1]Daily Log'!$AD$18:$AD$1017),0)","v":0},{"$f":"IFERROR($E281*SUMIF('[1]Daily Log'!$AF$18:$AF$1017,$B281,'[1]Daily Log'!$AG$18:$AG$1017),0)","v":0},{"$f":"IFERROR($E281*SUMIF('[1]Daily Log'!$AI$18:$AI$1017,$B281,'[1]Daily Log'!$AJ$18:$AJ$1017),0)","v":0},{"$f":"IFERROR($E281*SUMIF('[1]Daily Log'!$AL$18:$AL$1017,$B281,'[1]Daily Log'!$AM$18:$AM$1017),0)","v":0},{"$f":"IFERROR($E281*SUMIF('[1]Daily Log'!$AO$18:$AO$1017,$B281,'[1]Daily Log'!$AP$18:$AP$1017),0)","v":0},{"$f":"IFERROR($E281*SUMIF('[1]Daily Log'!$AR$18:$AR$1017,$B281,'[1]Daily Log'!$AS$18:$AS$1017),0)","v":0},{"$f":"IFERROR($E281*SUMIF('[1]Daily Log'!$AU$18:$AU$1017,$B281,'[1]Daily Log'!$AV$18:$AV$1017),0)","v":0},{"$f":"IFERROR($E281*SUMIF('[1]Daily Log'!$AX$18:$AX$1017,$B281,'[1]Daily Log'!$AY$18:$AY$1017),0)","v":0},{"$f":"IFERROR($E281*SUMIF('[1]Daily Log'!$BA$18:$BA$1017,$B281,'[1]Daily Log'!$BB$18:$BB$1017),0)","v":0},{"$f":"IFERROR($E281*SUMIF('[1]Daily Log'!$BD$18:$BD$1017,$B281,'[1]Daily Log'!$BE$18:$BE$1017),0)","v":0},{"$f":"IFERROR($E281*SUMIF('[1]Daily Log'!$BG$18:$BG$1017,$B281,'[1]Daily Log'!$BH$18:$BH$1017),0)","v":0},{"$f":"IFERROR($E281*SUMIF('[1]Daily Log'!$BJ$18:$BJ$1017,$B281,'[1]Daily Log'!$BK$18:$BK$1017),0)","v":0},{"$f":"IFERROR($E281*SUMIF('[1]Daily Log'!$BM$18:$BM$1017,$B281,'[1]Daily Log'!$BN$18:$BN$1017),0)","v":0},{"$f":"IFERROR($E281*SUMIF('[1]Daily Log'!$BP$18:$BP$1017,$B281,'[1]Daily Log'!$BQ$18:$BQ$1017),0)","v":0},{"$f":"IFERROR($E281*SUMIF('[1]Daily Log'!$BS$18:$BS$1017,$B281,'[1]Daily Log'!$BT$18:$BT$1017),0)","v":0},{"$f":"IFERROR($E281*SUMIF('[1]Daily Log'!$BV$18:$BV$1017,$B281,'[1]Daily Log'!$BW$18:$BW$1017),0)","v":0},{"$f":"IFERROR($E281*SUMIF('[1]Daily Log'!$BY$18:$BY$1017,$B281,'[1]Daily Log'!$BZ$18:$BZ$1017),0)","v":0},{"$f":"IFERROR($E281*SUMIF('[1]Daily Log'!$CB$18:$CB$1017,$B281,'[1]Daily Log'!$CC$18:$CC$1017),0)","v":0},{"$f":"IFERROR($E281*SUMIF('[1]Daily Log'!$CE$18:$CE$1017,$B281,'[1]Daily Log'!$CF$18:$CF$1017),0)","v":0},{"$f":"IFERROR($E281*SUMIF('[1]Daily Log'!$CH$18:$CH$1017,$B281,'[1]Daily Log'!$CI$18:$CI$1017),0)","v":0},{"$f":"IFERROR($E281*SUMIF('[1]Daily Log'!$CK$18:$CK$1017,$B281,'[1]Daily Log'!$CL$18:$CL$1017),0)","v":0},{"$f":"IFERROR($E281*SUMIF('[1]Daily Log'!$CN$18:$CN$1017,$B281,'[1]Daily Log'!$CO$18:$CO$1017),0)","v":0}]
[null,"AB18 H : XTD M ROOM",null,null,null,0,{"$f":"IFERROR($E282*SUMIF('[1]Daily Log'!$B$18:$B$1017,$B282,'[1]Daily Log'!$C$18:$C$1017),0)","v":0},{"$f":"IFERROR($E282*SUMIF('[1]Daily Log'!$E$18:$E$1017,$B282,'[1]Daily Log'!$F$18:$F$1017),0)","v":0},{"$f":"IFERROR($E282*SUMIF('[1]Daily Log'!$H$18:$H$1017,$B282,'[1]Daily Log'!$I$18:$I$1017),0)","v":0}," ",{"$f":"IFERROR($E282*SUMIF('[1]Daily Log'!$N$18:$N$1017,$B282,'[1]Daily Log'!$O$18:$O$1017),0)","v":0},{"$f":"IFERROR($E282*SUMIF('[1]Daily Log'!$Q$18:$Q$1017,$B282,'[1]Daily Log'!$R$18:$R$1017),0)","v":0},{"$f":"IFERROR($E282*SUMIF('[1]Daily Log'!$T$18:$T$1017,$B282,'[1]Daily Log'!$U$18:$U$1017),0)","v":0},{"$f":"IFERROR($E282*SUMIF('[1]Daily Log'!$W$18:$W$1017,$B282,'[1]Daily Log'!$X$18:$X$1017),0)","v":0},{"$f":"IFERROR($E282*SUMIF('[1]Daily Log'!$Z$18:$Z$1017,$B282,'[1]Daily Log'!$AA$18:$AA$1017),0)","v":0},{"$f":"IFERROR($E282*SUMIF('[1]Daily Log'!$AC$18:$AC$1017,$B282,'[1]Daily Log'!$AD$18:$AD$1017),0)","v":0},{"$f":"IFERROR($E282*SUMIF('[1]Daily Log'!$AF$18:$AF$1017,$B282,'[1]Daily Log'!$AG$18:$AG$1017),0)","v":0},{"$f":"IFERROR($E282*SUMIF('[1]Daily Log'!$AI$18:$AI$1017,$B282,'[1]Daily Log'!$AJ$18:$AJ$1017),0)","v":0},{"$f":"IFERROR($E282*SUMIF('[1]Daily Log'!$AL$18:$AL$1017,$B282,'[1]Daily Log'!$AM$18:$AM$1017),0)","v":0},{"$f":"IFERROR($E282*SUMIF('[1]Daily Log'!$AO$18:$AO$1017,$B282,'[1]Daily Log'!$AP$18:$AP$1017),0)","v":0},{"$f":"IFERROR($E282*SUMIF('[1]Daily Log'!$AR$18:$AR$1017,$B282,'[1]Daily Log'!$AS$18:$AS$1017),0)","v":0},{"$f":"IFERROR($E282*SUMIF('[1]Daily Log'!$AU$18:$AU$1017,$B282,'[1]Daily Log'!$AV$18:$AV$1017),0)","v":0},{"$f":"IFERROR($E282*SUMIF('[1]Daily Log'!$AX$18:$AX$1017,$B282,'[1]Daily Log'!$AY$18:$AY$1017),0)","v":0},{"$f":"IFERROR($E282*SUMIF('[1]Daily Log'!$BA$18:$BA$1017,$B282,'[1]Daily Log'!$BB$18:$BB$1017),0)","v":0},{"$f":"IFERROR($E282*SUMIF('[1]Daily Log'!$BD$18:$BD$1017,$B282,'[1]Daily Log'!$BE$18:$BE$1017),0)","v":0},{"$f":"IFERROR($E282*SUMIF('[1]Daily Log'!$BG$18:$BG$1017,$B282,'[1]Daily Log'!$BH$18:$BH$1017),0)","v":0},{"$f":"IFERROR($E282*SUMIF('[1]Daily Log'!$BJ$18:$BJ$1017,$B282,'[1]Daily Log'!$BK$18:$BK$1017),0)","v":0},{"$f":"IFERROR($E282*SUMIF('[1]Daily Log'!$BM$18:$BM$1017,$B282,'[1]Daily Log'!$BN$18:$BN$1017),0)","v":0},{"$f":"IFERROR($E282*SUMIF('[1]Daily Log'!$BP$18:$BP$1017,$B282,'[1]Daily Log'!$BQ$18:$BQ$1017),0)","v":0},{"$f":"IFERROR($E282*SUMIF('[1]Daily Log'!$BS$18:$BS$1017,$B282,'[1]Daily Log'!$BT$18:$BT$1017),0)","v":0},{"$f":"IFERROR($E282*SUMIF('[1]Daily Log'!$BV$18:$BV$1017,$B282,'[1]Daily Log'!$BW$18:$BW$1017),0)","v":0},{"$f":"IFERROR($E282*SUMIF('[1]Daily Log'!$BY$18:$BY$1017,$B282,'[1]Daily Log'!$BZ$18:$BZ$1017),0)","v":0},{"$f":"IFERROR($E282*SUMIF('[1]Daily Log'!$CB$18:$CB$1017,$B282,'[1]Daily Log'!$CC$18:$CC$1017),0)","v":0},{"$f":"IFERROR($E282*SUMIF('[1]Daily Log'!$CE$18:$CE$1017,$B282,'[1]Daily Log'!$CF$18:$CF$1017),0)","v":0},{"$f":"IFERROR($E282*SUMIF('[1]Daily Log'!$CH$18:$CH$1017,$B282,'[1]Daily Log'!$CI$18:$CI$1017),0)","v":0},{"$f":"IFERROR($E282*SUMIF('[1]Daily Log'!$CK$18:$CK$1017,$B282,'[1]Daily Log'!$CL$18:$CL$1017),0)","v":0},{"$f":"IFERROR($E282*SUMIF('[1]Daily Log'!$CN$18:$CN$1017,$B282,'[1]Daily Log'!$CO$18:$CO$1017),0)","v":0}]
[null,"AB19 H : XTD B ROOM",null,null,null,0,{"$f":"IFERROR($E283*SUMIF('[1]Daily Log'!$B$18:$B$1017,$B283,'[1]Daily Log'!$C$18:$C$1017),0)","v":0},{"$f":"IFERROR($E283*SUMIF('[1]Daily Log'!$E$18:$E$1017,$B283,'[1]Daily Log'!$F$18:$F$1017),0)","v":0},{"$f":"IFERROR($E283*SUMIF('[1]Daily Log'!$H$18:$H$1017,$B283,'[1]Daily Log'!$I$18:$I$1017),0)","v":0}," ",{"$f":"IFERROR($E283*SUMIF('[1]Daily Log'!$N$18:$N$1017,$B283,'[1]Daily Log'!$O$18:$O$1017),0)","v":0},{"$f":"IFERROR($E283*SUMIF('[1]Daily Log'!$Q$18:$Q$1017,$B283,'[1]Daily Log'!$R$18:$R$1017),0)","v":0},{"$f":"IFERROR($E283*SUMIF('[1]Daily Log'!$T$18:$T$1017,$B283,'[1]Daily Log'!$U$18:$U$1017),0)","v":0},{"$f":"IFERROR($E283*SUMIF('[1]Daily Log'!$W$18:$W$1017,$B283,'[1]Daily Log'!$X$18:$X$1017),0)","v":0},{"$f":"IFERROR($E283*SUMIF('[1]Daily Log'!$Z$18:$Z$1017,$B283,'[1]Daily Log'!$AA$18:$AA$1017),0)","v":0},{"$f":"IFERROR($E283*SUMIF('[1]Daily Log'!$AC$18:$AC$1017,$B283,'[1]Daily Log'!$AD$18:$AD$1017),0)","v":0},{"$f":"IFERROR($E283*SUMIF('[1]Daily Log'!$AF$18:$AF$1017,$B283,'[1]Daily Log'!$AG$18:$AG$1017),0)","v":0},{"$f":"IFERROR($E283*SUMIF('[1]Daily Log'!$AI$18:$AI$1017,$B283,'[1]Daily Log'!$AJ$18:$AJ$1017),0)","v":0},{"$f":"IFERROR($E283*SUMIF('[1]Daily Log'!$AL$18:$AL$1017,$B283,'[1]Daily Log'!$AM$18:$AM$1017),0)","v":0},{"$f":"IFERROR($E283*SUMIF('[1]Daily Log'!$AO$18:$AO$1017,$B283,'[1]Daily Log'!$AP$18:$AP$1017),0)","v":0},{"$f":"IFERROR($E283*SUMIF('[1]Daily Log'!$AR$18:$AR$1017,$B283,'[1]Daily Log'!$AS$18:$AS$1017),0)","v":0},{"$f":"IFERROR($E283*SUMIF('[1]Daily Log'!$AU$18:$AU$1017,$B283,'[1]Daily Log'!$AV$18:$AV$1017),0)","v":0},{"$f":"IFERROR($E283*SUMIF('[1]Daily Log'!$AX$18:$AX$1017,$B283,'[1]Daily Log'!$AY$18:$AY$1017),0)","v":0},{"$f":"IFERROR($E283*SUMIF('[1]Daily Log'!$BA$18:$BA$1017,$B283,'[1]Daily Log'!$BB$18:$BB$1017),0)","v":0},{"$f":"IFERROR($E283*SUMIF('[1]Daily Log'!$BD$18:$BD$1017,$B283,'[1]Daily Log'!$BE$18:$BE$1017),0)","v":0},{"$f":"IFERROR($E283*SUMIF('[1]Daily Log'!$BG$18:$BG$1017,$B283,'[1]Daily Log'!$BH$18:$BH$1017),0)","v":0},{"$f":"IFERROR($E283*SUMIF('[1]Daily Log'!$BJ$18:$BJ$1017,$B283,'[1]Daily Log'!$BK$18:$BK$1017),0)","v":0},{"$f":"IFERROR($E283*SUMIF('[1]Daily Log'!$BM$18:$BM$1017,$B283,'[1]Daily Log'!$BN$18:$BN$1017),0)","v":0},{"$f":"IFERROR($E283*SUMIF('[1]Daily Log'!$BP$18:$BP$1017,$B283,'[1]Daily Log'!$BQ$18:$BQ$1017),0)","v":0},{"$f":"IFERROR($E283*SUMIF('[1]Daily Log'!$BS$18:$BS$1017,$B283,'[1]Daily Log'!$BT$18:$BT$1017),0)","v":0},{"$f":"IFERROR($E283*SUMIF('[1]Daily Log'!$BV$18:$BV$1017,$B283,'[1]Daily Log'!$BW$18:$BW$1017),0)","v":0},{"$f":"IFERROR($E283*SUMIF('[1]Daily Log'!$BY$18:$BY$1017,$B283,'[1]Daily Log'!$BZ$18:$BZ$1017),0)","v":0},{"$f":"IFERROR($E283*SUMIF('[1]Daily Log'!$CB$18:$CB$1017,$B283,'[1]Daily Log'!$CC$18:$CC$1017),0)","v":0},{"$f":"IFERROR($E283*SUMIF('[1]Daily Log'!$CE$18:$CE$1017,$B283,'[1]Daily Log'!$CF$18:$CF$1017),0)","v":0},{"$f":"IFERROR($E283*SUMIF('[1]Daily Log'!$CH$18:$CH$1017,$B283,'[1]Daily Log'!$CI$18:$CI$1017),0)","v":0},{"$f":"IFERROR($E283*SUMIF('[1]Daily Log'!$CK$18:$CK$1017,$B283,'[1]Daily Log'!$CL$18:$CL$1017),0)","v":0},{"$f":"IFERROR($E283*SUMIF('[1]Daily Log'!$CN$18:$CN$1017,$B283,'[1]Daily Log'!$CO$18:$CO$1017),0)","v":0}]
[null,"AB50 H : STUDENT MEM",null,null,null,0,{"$f":"IFERROR($E284*SUMIF('[1]Daily Log'!$B$18:$B$1017,$B284,'[1]Daily Log'!$C$18:$C$1017),0)","v":0},{"$f":"IFERROR($E284*SUMIF('[1]Daily Log'!$E$18:$E$1017,$B284,'[1]Daily Log'!$F$18:$F$1017),0)","v":0},{"$f":"IFERROR($E284*SUMIF('[1]Daily Log'!$H$18:$H$1017,$B284,'[1]Daily Log'!$I$18:$I$1017),0)","v":0}," ",{"$f":"IFERROR($E284*SUMIF('[1]Daily Log'!$N$18:$N$1017,$B284,'[1]Daily Log'!$O$18:$O$1017),0)","v":0},{"$f":"IFERROR($E284*SUMIF('[1]Daily Log'!$Q$18:$Q$1017,$B284,'[1]Daily Log'!$R$18:$R$1017),0)","v":0},{"$f":"IFERROR($E284*SUMIF('[1]Daily Log'!$T$18:$T$1017,$B284,'[1]Daily Log'!$U$18:$U$1017),0)","v":0},{"$f":"IFERROR($E284*SUMIF('[1]Daily Log'!$W$18:$W$1017,$B284,'[1]Daily Log'!$X$18:$X$1017),0)","v":0},{"$f":"IFERROR($E284*SUMIF('[1]Daily Log'!$Z$18:$Z$1017,$B284,'[1]Daily Log'!$AA$18:$AA$1017),0)","v":0},{"$f":"IFERROR($E284*SUMIF('[1]Daily Log'!$AC$18:$AC$1017,$B284,'[1]Daily Log'!$AD$18:$AD$1017),0)","v":0},{"$f":"IFERROR($E284*SUMIF('[1]Daily Log'!$AF$18:$AF$1017,$B284,'[1]Daily Log'!$AG$18:$AG$1017),0)","v":0},{"$f":"IFERROR($E284*SUMIF('[1]Daily Log'!$AI$18:$AI$1017,$B284,'[1]Daily Log'!$AJ$18:$AJ$1017),0)","v":0},{"$f":"IFERROR($E284*SUMIF('[1]Daily Log'!$AL$18:$AL$1017,$B284,'[1]Daily Log'!$AM$18:$AM$1017),0)","v":0},{"$f":"IFERROR($E284*SUMIF('[1]Daily Log'!$AO$18:$AO$1017,$B284,'[1]Daily Log'!$AP$18:$AP$1017),0)","v":0},{"$f":"IFERROR($E284*SUMIF('[1]Daily Log'!$AR$18:$AR$1017,$B284,'[1]Daily Log'!$AS$18:$AS$1017),0)","v":0},{"$f":"IFERROR($E284*SUMIF('[1]Daily Log'!$AU$18:$AU$1017,$B284,'[1]Daily Log'!$AV$18:$AV$1017),0)","v":0},{"$f":"IFERROR($E284*SUMIF('[1]Daily Log'!$AX$18:$AX$1017,$B284,'[1]Daily Log'!$AY$18:$AY$1017),0)","v":0},{"$f":"IFERROR($E284*SUMIF('[1]Daily Log'!$BA$18:$BA$1017,$B284,'[1]Daily Log'!$BB$18:$BB$1017),0)","v":0},{"$f":"IFERROR($E284*SUMIF('[1]Daily Log'!$BD$18:$BD$1017,$B284,'[1]Daily Log'!$BE$18:$BE$1017),0)","v":0},{"$f":"IFERROR($E284*SUMIF('[1]Daily Log'!$BG$18:$BG$1017,$B284,'[1]Daily Log'!$BH$18:$BH$1017),0)","v":0},{"$f":"IFERROR($E284*SUMIF('[1]Daily Log'!$BJ$18:$BJ$1017,$B284,'[1]Daily Log'!$BK$18:$BK$1017),0)","v":0},{"$f":"IFERROR($E284*SUMIF('[1]Daily Log'!$BM$18:$BM$1017,$B284,'[1]Daily Log'!$BN$18:$BN$1017),0)","v":0},{"$f":"IFERROR($E284*SUMIF('[1]Daily Log'!$BP$18:$BP$1017,$B284,'[1]Daily Log'!$BQ$18:$BQ$1017),0)","v":0},{"$f":"IFERROR($E284*SUMIF('[1]Daily Log'!$BS$18:$BS$1017,$B284,'[1]Daily Log'!$BT$18:$BT$1017),0)","v":0},{"$f":"IFERROR($E284*SUMIF('[1]Daily Log'!$BV$18:$BV$1017,$B284,'[1]Daily Log'!$BW$18:$BW$1017),0)","v":0},{"$f":"IFERROR($E284*SUMIF('[1]Daily Log'!$BY$18:$BY$1017,$B284,'[1]Daily Log'!$BZ$18:$BZ$1017),0)","v":0},{"$f":"IFERROR($E284*SUMIF('[1]Daily Log'!$CB$18:$CB$1017,$B284,'[1]Daily Log'!$CC$18:$CC$1017),0)","v":0},{"$f":"IFERROR($E284*SUMIF('[1]Daily Log'!$CE$18:$CE$1017,$B284,'[1]Daily Log'!$CF$18:$CF$1017),0)","v":0},{"$f":"IFERROR($E284*SUMIF('[1]Daily Log'!$CH$18:$CH$1017,$B284,'[1]Daily Log'!$CI$18:$CI$1017),0)","v":0},{"$f":"IFERROR($E284*SUMIF('[1]Daily Log'!$CK$18:$CK$1017,$B284,'[1]Daily Log'!$CL$18:$CL$1017),0)","v":0},{"$f":"IFERROR($E284*SUMIF('[1]Daily Log'!$CN$18:$CN$1017,$B284,'[1]Daily Log'!$CO$18:$CO$1017),0)","v":0}]
[null,"AB51 STUDENT FHC",null,null,null,0,{"$f":"IFERROR($E285*SUMIF('[1]Daily Log'!$B$18:$B$1017,$B285,'[1]Daily Log'!$C$18:$C$1017),0)","v":0},{"$f":"IFERROR($E285*SUMIF('[1]Daily Log'!$E$18:$E$1017,$B285,'[1]Daily Log'!$F$18:$F$1017),0)","v":0},{"$f":"IFERROR($E285*SUMIF('[1]Daily Log'!$H$18:$H$1017,$B285,'[1]Daily Log'!$I$18:$I$1017),0)","v":0}," ",{"$f":"IFERROR($E285*SUMIF('[1]Daily Log'!$N$18:$N$1017,$B285,'[1]Daily Log'!$O$18:$O$1017),0)","v":0},{"$f":"IFERROR($E285*SUMIF('[1]Daily Log'!$Q$18:$Q$1017,$B285,'[1]Daily Log'!$R$18:$R$1017),0)","v":0},{"$f":"IFERROR($E285*SUMIF('[1]Daily Log'!$T$18:$T$1017,$B285,'[1]Daily Log'!$U$18:$U$1017),0)","v":0},{"$f":"IFERROR($E285*SUMIF('[1]Daily Log'!$W$18:$W$1017,$B285,'[1]Daily Log'!$X$18:$X$1017),0)","v":0},{"$f":"IFERROR($E285*SUMIF('[1]Daily Log'!$Z$18:$Z$1017,$B285,'[1]Daily Log'!$AA$18:$AA$1017),0)","v":0},{"$f":"IFERROR($E285*SUMIF('[1]Daily Log'!$AC$18:$AC$1017,$B285,'[1]Daily Log'!$AD$18:$AD$1017),0)","v":0},{"$f":"IFERROR($E285*SUMIF('[1]Daily Log'!$AF$18:$AF$1017,$B285,'[1]Daily Log'!$AG$18:$AG$1017),0)","v":0},{"$f":"IFERROR($E285*SUMIF('[1]Daily Log'!$AI$18:$AI$1017,$B285,'[1]Daily Log'!$AJ$18:$AJ$1017),0)","v":0},{"$f":"IFERROR($E285*SUMIF('[1]Daily Log'!$AL$18:$AL$1017,$B285,'[1]Daily Log'!$AM$18:$AM$1017),0)","v":0},{"$f":"IFERROR($E285*SUMIF('[1]Daily Log'!$AO$18:$AO$1017,$B285,'[1]Daily Log'!$AP$18:$AP$1017),0)","v":0},{"$f":"IFERROR($E285*SUMIF('[1]Daily Log'!$AR$18:$AR$1017,$B285,'[1]Daily Log'!$AS$18:$AS$1017),0)","v":0},{"$f":"IFERROR($E285*SUMIF('[1]Daily Log'!$AU$18:$AU$1017,$B285,'[1]Daily Log'!$AV$18:$AV$1017),0)","v":0},{"$f":"IFERROR($E285*SUMIF('[1]Daily Log'!$AX$18:$AX$1017,$B285,'[1]Daily Log'!$AY$18:$AY$1017),0)","v":0},{"$f":"IFERROR($E285*SUMIF('[1]Daily Log'!$BA$18:$BA$1017,$B285,'[1]Daily Log'!$BB$18:$BB$1017),0)","v":0},{"$f":"IFERROR($E285*SUMIF('[1]Daily Log'!$BD$18:$BD$1017,$B285,'[1]Daily Log'!$BE$18:$BE$1017),0)","v":0},{"$f":"IFERROR($E285*SUMIF('[1]Daily Log'!$BG$18:$BG$1017,$B285,'[1]Daily Log'!$BH$18:$BH$1017),0)","v":0},{"$f":"IFERROR($E285*SUMIF('[1]Daily Log'!$BJ$18:$BJ$1017,$B285,'[1]Daily Log'!$BK$18:$BK$1017),0)","v":0},{"$f":"IFERROR($E285*SUMIF('[1]Daily Log'!$BM$18:$BM$1017,$B285,'[1]Daily Log'!$BN$18:$BN$1017),0)","v":0},{"$f":"IFERROR($E285*SUMIF('[1]Daily Log'!$BP$18:$BP$1017,$B285,'[1]Daily Log'!$BQ$18:$BQ$1017),0)","v":0},{"$f":"IFERROR($E285*SUMIF('[1]Daily Log'!$BS$18:$BS$1017,$B285,'[1]Daily Log'!$BT$18:$BT$1017),0)","v":0},{"$f":"IFERROR($E285*SUMIF('[1]Daily Log'!$BV$18:$BV$1017,$B285,'[1]Daily Log'!$BW$18:$BW$1017),0)","v":0},{"$f":"IFERROR($E285*SUMIF('[1]Daily Log'!$BY$18:$BY$1017,$B285,'[1]Daily Log'!$BZ$18:$BZ$1017),0)","v":0},{"$f":"IFERROR($E285*SUMIF('[1]Daily Log'!$CB$18:$CB$1017,$B285,'[1]Daily Log'!$CC$18:$CC$1017),0)","v":0},{"$f":"IFERROR($E285*SUMIF('[1]Daily Log'!$CE$18:$CE$1017,$B285,'[1]Daily Log'!$CF$18:$CF$1017),0)","v":0},{"$f":"IFERROR($E285*SUMIF('[1]Daily Log'!$CH$18:$CH$1017,$B285,'[1]Daily Log'!$CI$18:$CI$1017),0)","v":0},{"$f":"IFERROR($E285*SUMIF('[1]Daily Log'!$CK$18:$CK$1017,$B285,'[1]Daily Log'!$CL$18:$CL$1017),0)","v":0},{"$f":"IFERROR($E285*SUMIF('[1]Daily Log'!$CN$18:$CN$1017,$B285,'[1]Daily Log'!$CO$18:$CO$1017),0)","v":0}]
[null,"AC01 N : REGULAR",null,null,null,{"$f":"SUM($G286:$AK286)","v":0},{"$f":"IFERROR($E286*SUMIF('[1]Daily Log'!$B$18:$B$1017,$B286,'[1]Daily Log'!$C$18:$C$1017),0)","v":0},{"$f":"IFERROR($E286*SUMIF('[1]Daily Log'!$E$18:$E$1017,$B286,'[1]Daily Log'!$F$18:$F$1017),0)","v":0},{"$f":"IFERROR($E286*SUMIF('[1]Daily Log'!$H$18:$H$1017,$B286,'[1]Daily Log'!$I$18:$I$1017),0)","v":0}," ",{"$f":"IFERROR($E286*SUMIF('[1]Daily Log'!$N$18:$N$1017,$B286,'[1]Daily Log'!$O$18:$O$1017),0)","v":0},{"$f":"IFERROR($E286*SUMIF('[1]Daily Log'!$Q$18:$Q$1017,$B286,'[1]Daily Log'!$R$18:$R$1017),0)","v":0},{"$f":"IFERROR($E286*SUMIF('[1]Daily Log'!$T$18:$T$1017,$B286,'[1]Daily Log'!$U$18:$U$1017),0)","v":0},{"$f":"IFERROR($E286*SUMIF('[1]Daily Log'!$W$18:$W$1017,$B286,'[1]Daily Log'!$X$18:$X$1017),0)","v":0},{"$f":"IFERROR($E286*SUMIF('[1]Daily Log'!$Z$18:$Z$1017,$B286,'[1]Daily Log'!$AA$18:$AA$1017),0)","v":0},{"$f":"IFERROR($E286*SUMIF('[1]Daily Log'!$AC$18:$AC$1017,$B286,'[1]Daily Log'!$AD$18:$AD$1017),0)","v":0},{"$f":"IFERROR($E286*SUMIF('[1]Daily Log'!$AF$18:$AF$1017,$B286,'[1]Daily Log'!$AG$18:$AG$1017),0)","v":0},{"$f":"IFERROR($E286*SUMIF('[1]Daily Log'!$AI$18:$AI$1017,$B286,'[1]Daily Log'!$AJ$18:$AJ$1017),0)","v":0},{"$f":"IFERROR($E286*SUMIF('[1]Daily Log'!$AL$18:$AL$1017,$B286,'[1]Daily Log'!$AM$18:$AM$1017),0)","v":0},{"$f":"IFERROR($E286*SUMIF('[1]Daily Log'!$AO$18:$AO$1017,$B286,'[1]Daily Log'!$AP$18:$AP$1017),0)","v":0},{"$f":"IFERROR($E286*SUMIF('[1]Daily Log'!$AR$18:$AR$1017,$B286,'[1]Daily Log'!$AS$18:$AS$1017),0)","v":0},{"$f":"IFERROR($E286*SUMIF('[1]Daily Log'!$AU$18:$AU$1017,$B286,'[1]Daily Log'!$AV$18:$AV$1017),0)","v":0},{"$f":"IFERROR($E286*SUMIF('[1]Daily Log'!$AX$18:$AX$1017,$B286,'[1]Daily Log'!$AY$18:$AY$1017),0)","v":0},{"$f":"IFERROR($E286*SUMIF('[1]Daily Log'!$BA$18:$BA$1017,$B286,'[1]Daily Log'!$BB$18:$BB$1017),0)","v":0},{"$f":"IFERROR($E286*SUMIF('[1]Daily Log'!$BD$18:$BD$1017,$B286,'[1]Daily Log'!$BE$18:$BE$1017),0)","v":0},{"$f":"IFERROR($E286*SUMIF('[1]Daily Log'!$BG$18:$BG$1017,$B286,'[1]Daily Log'!$BH$18:$BH$1017),0)","v":0},{"$f":"IFERROR($E286*SUMIF('[1]Daily Log'!$BJ$18:$BJ$1017,$B286,'[1]Daily Log'!$BK$18:$BK$1017),0)","v":0},{"$f":"IFERROR($E286*SUMIF('[1]Daily Log'!$BM$18:$BM$1017,$B286,'[1]Daily Log'!$BN$18:$BN$1017),0)","v":0},{"$f":"IFERROR($E286*SUMIF('[1]Daily Log'!$BP$18:$BP$1017,$B286,'[1]Daily Log'!$BQ$18:$BQ$1017),0)","v":0},{"$f":"IFERROR($E286*SUMIF('[1]Daily Log'!$BS$18:$BS$1017,$B286,'[1]Daily Log'!$BT$18:$BT$1017),0)","v":0},{"$f":"IFERROR($E286*SUMIF('[1]Daily Log'!$BV$18:$BV$1017,$B286,'[1]Daily Log'!$BW$18:$BW$1017),0)","v":0},{"$f":"IFERROR($E286*SUMIF('[1]Daily Log'!$BY$18:$BY$1017,$B286,'[1]Daily Log'!$BZ$18:$BZ$1017),0)","v":0},{"$f":"IFERROR($E286*SUMIF('[1]Daily Log'!$CB$18:$CB$1017,$B286,'[1]Daily Log'!$CC$18:$CC$1017),0)","v":0},{"$f":"IFERROR($E286*SUMIF('[1]Daily Log'!$CE$18:$CE$1017,$B286,'[1]Daily Log'!$CF$18:$CF$1017),0)","v":0},{"$f":"IFERROR($E286*SUMIF('[1]Daily Log'!$CH$18:$CH$1017,$B286,'[1]Daily Log'!$CI$18:$CI$1017),0)","v":0},{"$f":"IFERROR($E286*SUMIF('[1]Daily Log'!$CK$18:$CK$1017,$B286,'[1]Daily Log'!$CL$18:$CL$1017),0)","v":0},{"$f":"IFERROR($E286*SUMIF('[1]Daily Log'!$CN$18:$CN$1017,$B286,'[1]Daily Log'!$CO$18:$CO$1017),0)","v":0}]
[null,"AC02 N : MEMBER",null,null,null,0,{"$f":"IFERROR($E287*SUMIF('[1]Daily Log'!$B$18:$B$1017,$B287,'[1]Daily Log'!$C$18:$C$1017),0)","v":0},{"$f":"IFERROR($E287*SUMIF('[1]Daily Log'!$E$18:$E$1017,$B287,'[1]Daily Log'!$F$18:$F$1017),0)","v":0},{"$f":"IFERROR($E287*SUMIF('[1]Daily Log'!$H$18:$H$1017,$B287,'[1]Daily Log'!$I$18:$I$1017),0)","v":0}," ",{"$f":"IFERROR($E287*SUMIF('[1]Daily Log'!$N$18:$N$1017,$B287,'[1]Daily Log'!$O$18:$O$1017),0)","v":0},{"$f":"IFERROR($E287*SUMIF('[1]Daily Log'!$Q$18:$Q$1017,$B287,'[1]Daily Log'!$R$18:$R$1017),0)","v":0},{"$f":"IFERROR($E287*SUMIF('[1]Daily Log'!$T$18:$T$1017,$B287,'[1]Daily Log'!$U$18:$U$1017),0)","v":0},{"$f":"IFERROR($E287*SUMIF('[1]Daily Log'!$W$18:$W$1017,$B287,'[1]Daily Log'!$X$18:$X$1017),0)","v":0},{"$f":"IFERROR($E287*SUMIF('[1]Daily Log'!$Z$18:$Z$1017,$B287,'[1]Daily Log'!$AA$18:$AA$1017),0)","v":0},{"$f":"IFERROR($E287*SUMIF('[1]Daily Log'!$AC$18:$AC$1017,$B287,'[1]Daily Log'!$AD$18:$AD$1017),0)","v":0},{"$f":"IFERROR($E287*SUMIF('[1]Daily Log'!$AF$18:$AF$1017,$B287,'[1]Daily Log'!$AG$18:$AG$1017),0)","v":0},{"$f":"IFERROR($E287*SUMIF('[1]Daily Log'!$AI$18:$AI$1017,$B287,'[1]Daily Log'!$AJ$18:$AJ$1017),0)","v":0},{"$f":"IFERROR($E287*SUMIF('[1]Daily Log'!$AL$18:$AL$1017,$B287,'[1]Daily Log'!$AM$18:$AM$1017),0)","v":0},{"$f":"IFERROR($E287*SUMIF('[1]Daily Log'!$AO$18:$AO$1017,$B287,'[1]Daily Log'!$AP$18:$AP$1017),0)","v":0},{"$f":"IFERROR($E287*SUMIF('[1]Daily Log'!$AR$18:$AR$1017,$B287,'[1]Daily Log'!$AS$18:$AS$1017),0)","v":0},{"$f":"IFERROR($E287*SUMIF('[1]Daily Log'!$AU$18:$AU$1017,$B287,'[1]Daily Log'!$AV$18:$AV$1017),0)","v":0},{"$f":"IFERROR($E287*SUMIF('[1]Daily Log'!$AX$18:$AX$1017,$B287,'[1]Daily Log'!$AY$18:$AY$1017),0)","v":0},{"$f":"IFERROR($E287*SUMIF('[1]Daily Log'!$BA$18:$BA$1017,$B287,'[1]Daily Log'!$BB$18:$BB$1017),0)","v":0},{"$f":"IFERROR($E287*SUMIF('[1]Daily Log'!$BD$18:$BD$1017,$B287,'[1]Daily Log'!$BE$18:$BE$1017),0)","v":0},{"$f":"IFERROR($E287*SUMIF('[1]Daily Log'!$BG$18:$BG$1017,$B287,'[1]Daily Log'!$BH$18:$BH$1017),0)","v":0},{"$f":"IFERROR($E287*SUMIF('[1]Daily Log'!$BJ$18:$BJ$1017,$B287,'[1]Daily Log'!$BK$18:$BK$1017),0)","v":0},{"$f":"IFERROR($E287*SUMIF('[1]Daily Log'!$BM$18:$BM$1017,$B287,'[1]Daily Log'!$BN$18:$BN$1017),0)","v":0},{"$f":"IFERROR($E287*SUMIF('[1]Daily Log'!$BP$18:$BP$1017,$B287,'[1]Daily Log'!$BQ$18:$BQ$1017),0)","v":0},{"$f":"IFERROR($E287*SUMIF('[1]Daily Log'!$BS$18:$BS$1017,$B287,'[1]Daily Log'!$BT$18:$BT$1017),0)","v":0},{"$f":"IFERROR($E287*SUMIF('[1]Daily Log'!$BV$18:$BV$1017,$B287,'[1]Daily Log'!$BW$18:$BW$1017),0)","v":0},{"$f":"IFERROR($E287*SUMIF('[1]Daily Log'!$BY$18:$BY$1017,$B287,'[1]Daily Log'!$BZ$18:$BZ$1017),0)","v":0},{"$f":"IFERROR($E287*SUMIF('[1]Daily Log'!$CB$18:$CB$1017,$B287,'[1]Daily Log'!$CC$18:$CC$1017),0)","v":0},{"$f":"IFERROR($E287*SUMIF('[1]Daily Log'!$CE$18:$CE$1017,$B287,'[1]Daily Log'!$CF$18:$CF$1017),0)","v":0},{"$f":"IFERROR($E287*SUMIF('[1]Daily Log'!$CH$18:$CH$1017,$B287,'[1]Daily Log'!$CI$18:$CI$1017),0)","v":0},{"$f":"IFERROR($E287*SUMIF('[1]Daily Log'!$CK$18:$CK$1017,$B287,'[1]Daily Log'!$CL$18:$CL$1017),0)","v":0},{"$f":"IFERROR($E287*SUMIF('[1]Daily Log'!$CN$18:$CN$1017,$B287,'[1]Daily Log'!$CO$18:$CO$1017),0)","v":0}]
[null,"AC03 N : MEMBER 30%",null,null,null,0,{"$f":"IFERROR($E288*SUMIF('[1]Daily Log'!$B$18:$B$1017,$B288,'[1]Daily Log'!$C$18:$C$1017),0)","v":0},{"$f":"IFERROR($E288*SUMIF('[1]Daily Log'!$E$18:$E$1017,$B288,'[1]Daily Log'!$F$18:$F$1017),0)","v":0},{"$f":"IFERROR($E288*SUMIF('[1]Daily Log'!$H$18:$H$1017,$B288,'[1]Daily Log'!$I$18:$I$1017),0)","v":0}," ",{"$f":"IFERROR($E288*SUMIF('[1]Daily Log'!$N$18:$N$1017,$B288,'[1]Daily Log'!$O$18:$O$1017),0)","v":0},{"$f":"IFERROR($E288*SUMIF('[1]Daily Log'!$Q$18:$Q$1017,$B288,'[1]Daily Log'!$R$18:$R$1017),0)","v":0},{"$f":"IFERROR($E288*SUMIF('[1]Daily Log'!$T$18:$T$1017,$B288,'[1]Daily Log'!$U$18:$U$1017),0)","v":0},{"$f":"IFERROR($E288*SUMIF('[1]Daily Log'!$W$18:$W$1017,$B288,'[1]Daily Log'!$X$18:$X$1017),0)","v":0},{"$f":"IFERROR($E288*SUMIF('[1]Daily Log'!$Z$18:$Z$1017,$B288,'[1]Daily Log'!$AA$18:$AA$1017),0)","v":0},{"$f":"IFERROR($E288*SUMIF('[1]Daily Log'!$AC$18:$AC$1017,$B288,'[1]Daily Log'!$AD$18:$AD$1017),0)","v":0},{"$f":"IFERROR($E288*SUMIF('[1]Daily Log'!$AF$18:$AF$1017,$B288,'[1]Daily Log'!$AG$18:$AG$1017),0)","v":0},{"$f":"IFERROR($E288*SUMIF('[1]Daily Log'!$AI$18:$AI$1017,$B288,'[1]Daily Log'!$AJ$18:$AJ$1017),0)","v":0},{"$f":"IFERROR($E288*SUMIF('[1]Daily Log'!$AL$18:$AL$1017,$B288,'[1]Daily Log'!$AM$18:$AM$1017),0)","v":0},{"$f":"IFERROR($E288*SUMIF('[1]Daily Log'!$AO$18:$AO$1017,$B288,'[1]Daily Log'!$AP$18:$AP$1017),0)","v":0},{"$f":"IFERROR($E288*SUMIF('[1]Daily Log'!$AR$18:$AR$1017,$B288,'[1]Daily Log'!$AS$18:$AS$1017),0)","v":0},{"$f":"IFERROR($E288*SUMIF('[1]Daily Log'!$AU$18:$AU$1017,$B288,'[1]Daily Log'!$AV$18:$AV$1017),0)","v":0},{"$f":"IFERROR($E288*SUMIF('[1]Daily Log'!$AX$18:$AX$1017,$B288,'[1]Daily Log'!$AY$18:$AY$1017),0)","v":0},{"$f":"IFERROR($E288*SUMIF('[1]Daily Log'!$BA$18:$BA$1017,$B288,'[1]Daily Log'!$BB$18:$BB$1017),0)","v":0},{"$f":"IFERROR($E288*SUMIF('[1]Daily Log'!$BD$18:$BD$1017,$B288,'[1]Daily Log'!$BE$18:$BE$1017),0)","v":0},{"$f":"IFERROR($E288*SUMIF('[1]Daily Log'!$BG$18:$BG$1017,$B288,'[1]Daily Log'!$BH$18:$BH$1017),0)","v":0},{"$f":"IFERROR($E288*SUMIF('[1]Daily Log'!$BJ$18:$BJ$1017,$B288,'[1]Daily Log'!$BK$18:$BK$1017),0)","v":0},{"$f":"IFERROR($E288*SUMIF('[1]Daily Log'!$BM$18:$BM$1017,$B288,'[1]Daily Log'!$BN$18:$BN$1017),0)","v":0},{"$f":"IFERROR($E288*SUMIF('[1]Daily Log'!$BP$18:$BP$1017,$B288,'[1]Daily Log'!$BQ$18:$BQ$1017),0)","v":0},{"$f":"IFERROR($E288*SUMIF('[1]Daily Log'!$BS$18:$BS$1017,$B288,'[1]Daily Log'!$BT$18:$BT$1017),0)","v":0},{"$f":"IFERROR($E288*SUMIF('[1]Daily Log'!$BV$18:$BV$1017,$B288,'[1]Daily Log'!$BW$18:$BW$1017),0)","v":0},{"$f":"IFERROR($E288*SUMIF('[1]Daily Log'!$BY$18:$BY$1017,$B288,'[1]Daily Log'!$BZ$18:$BZ$1017),0)","v":0},{"$f":"IFERROR($E288*SUMIF('[1]Daily Log'!$CB$18:$CB$1017,$B288,'[1]Daily Log'!$CC$18:$CC$1017),0)","v":0},{"$f":"IFERROR($E288*SUMIF('[1]Daily Log'!$CE$18:$CE$1017,$B288,'[1]Daily Log'!$CF$18:$CF$1017),0)","v":0},{"$f":"IFERROR($E288*SUMIF('[1]Daily Log'!$CH$18:$CH$1017,$B288,'[1]Daily Log'!$CI$18:$CI$1017),0)","v":0},{"$f":"IFERROR($E288*SUMIF('[1]Daily Log'!$CK$18:$CK$1017,$B288,'[1]Daily Log'!$CL$18:$CL$1017),0)","v":0},{"$f":"IFERROR($E288*SUMIF('[1]Daily Log'!$CN$18:$CN$1017,$B288,'[1]Daily Log'!$CO$18:$CO$1017),0)","v":0}]
[null,"AC05 K-DINNER",null,null,null,0,{"$f":"IFERROR($E289*SUMIF('[1]Daily Log'!$B$18:$B$1017,$B289,'[1]Daily Log'!$C$18:$C$1017),0)","v":0},{"$f":"IFERROR($E289*SUMIF('[1]Daily Log'!$E$18:$E$1017,$B289,'[1]Daily Log'!$F$18:$F$1017),0)","v":0},{"$f":"IFERROR($E289*SUMIF('[1]Daily Log'!$H$18:$H$1017,$B289,'[1]Daily Log'!$I$18:$I$1017),0)","v":0}," ",{"$f":"IFERROR($E289*SUMIF('[1]Daily Log'!$N$18:$N$1017,$B289,'[1]Daily Log'!$O$18:$O$1017),0)","v":0},{"$f":"IFERROR($E289*SUMIF('[1]Daily Log'!$Q$18:$Q$1017,$B289,'[1]Daily Log'!$R$18:$R$1017),0)","v":0},{"$f":"IFERROR($E289*SUMIF('[1]Daily Log'!$T$18:$T$1017,$B289,'[1]Daily Log'!$U$18:$U$1017),0)","v":0},{"$f":"IFERROR($E289*SUMIF('[1]Daily Log'!$W$18:$W$1017,$B289,'[1]Daily Log'!$X$18:$X$1017),0)","v":0},{"$f":"IFERROR($E289*SUMIF('[1]Daily Log'!$Z$18:$Z$1017,$B289,'[1]Daily Log'!$AA$18:$AA$1017),0)","v":0},{"$f":"IFERROR($E289*SUMIF('[1]Daily Log'!$AC$18:$AC$1017,$B289,'[1]Daily Log'!$AD$18:$AD$1017),0)","v":0},{"$f":"IFERROR($E289*SUMIF('[1]Daily Log'!$AF$18:$AF$1017,$B289,'[1]Daily Log'!$AG$18:$AG$1017),0)","v":0},{"$f":"IFERROR($E289*SUMIF('[1]Daily Log'!$AI$18:$AI$1017,$B289,'[1]Daily Log'!$AJ$18:$AJ$1017),0)","v":0},{"$f":"IFERROR($E289*SUMIF('[1]Daily Log'!$AL$18:$AL$1017,$B289,'[1]Daily Log'!$AM$18:$AM$1017),0)","v":0},{"$f":"IFERROR($E289*SUMIF('[1]Daily Log'!$AO$18:$AO$1017,$B289,'[1]Daily Log'!$AP$18:$AP$1017),0)","v":0},{"$f":"IFERROR($E289*SUMIF('[1]Daily Log'!$AR$18:$AR$1017,$B289,'[1]Daily Log'!$AS$18:$AS$1017),0)","v":0},{"$f":"IFERROR($E289*SUMIF('[1]Daily Log'!$AU$18:$AU$1017,$B289,'[1]Daily Log'!$AV$18:$AV$1017),0)","v":0},{"$f":"IFERROR($E289*SUMIF('[1]Daily Log'!$AX$18:$AX$1017,$B289,'[1]Daily Log'!$AY$18:$AY$1017),0)","v":0},{"$f":"IFERROR($E289*SUMIF('[1]Daily Log'!$BA$18:$BA$1017,$B289,'[1]Daily Log'!$BB$18:$BB$1017),0)","v":0},{"$f":"IFERROR($E289*SUMIF('[1]Daily Log'!$BD$18:$BD$1017,$B289,'[1]Daily Log'!$BE$18:$BE$1017),0)","v":0},{"$f":"IFERROR($E289*SUMIF('[1]Daily Log'!$BG$18:$BG$1017,$B289,'[1]Daily Log'!$BH$18:$BH$1017),0)","v":0},{"$f":"IFERROR($E289*SUMIF('[1]Daily Log'!$BJ$18:$BJ$1017,$B289,'[1]Daily Log'!$BK$18:$BK$1017),0)","v":0},{"$f":"IFERROR($E289*SUMIF('[1]Daily Log'!$BM$18:$BM$1017,$B289,'[1]Daily Log'!$BN$18:$BN$1017),0)","v":0},{"$f":"IFERROR($E289*SUMIF('[1]Daily Log'!$BP$18:$BP$1017,$B289,'[1]Daily Log'!$BQ$18:$BQ$1017),0)","v":0},{"$f":"IFERROR($E289*SUMIF('[1]Daily Log'!$BS$18:$BS$1017,$B289,'[1]Daily Log'!$BT$18:$BT$1017),0)","v":0},{"$f":"IFERROR($E289*SUMIF('[1]Daily Log'!$BV$18:$BV$1017,$B289,'[1]Daily Log'!$BW$18:$BW$1017),0)","v":0},{"$f":"IFERROR($E289*SUMIF('[1]Daily Log'!$BY$18:$BY$1017,$B289,'[1]Daily Log'!$BZ$18:$BZ$1017),0)","v":0},{"$f":"IFERROR($E289*SUMIF('[1]Daily Log'!$CB$18:$CB$1017,$B289,'[1]Daily Log'!$CC$18:$CC$1017),0)","v":0},{"$f":"IFERROR($E289*SUMIF('[1]Daily Log'!$CE$18:$CE$1017,$B289,'[1]Daily Log'!$CF$18:$CF$1017),0)","v":0},{"$f":"IFERROR($E289*SUMIF('[1]Daily Log'!$CH$18:$CH$1017,$B289,'[1]Daily Log'!$CI$18:$CI$1017),0)","v":0},{"$f":"IFERROR($E289*SUMIF('[1]Daily Log'!$CK$18:$CK$1017,$B289,'[1]Daily Log'!$CL$18:$CL$1017),0)","v":0},{"$f":"IFERROR($E289*SUMIF('[1]Daily Log'!$CN$18:$CN$1017,$B289,'[1]Daily Log'!$CO$18:$CO$1017),0)","v":0}]
[null,"AC06 N : CHILDREN",null,null,null,0,{"$f":"IFERROR($E290*SUMIF('[1]Daily Log'!$B$18:$B$1017,$B290,'[1]Daily Log'!$C$18:$C$1017),0)","v":0},{"$f":"IFERROR($E290*SUMIF('[1]Daily Log'!$E$18:$E$1017,$B290,'[1]Daily Log'!$F$18:$F$1017),0)","v":0},{"$f":"IFERROR($E290*SUMIF('[1]Daily Log'!$H$18:$H$1017,$B290,'[1]Daily Log'!$I$18:$I$1017),0)","v":0}," ",{"$f":"IFERROR($E290*SUMIF('[1]Daily Log'!$N$18:$N$1017,$B290,'[1]Daily Log'!$O$18:$O$1017),0)","v":0},{"$f":"IFERROR($E290*SUMIF('[1]Daily Log'!$Q$18:$Q$1017,$B290,'[1]Daily Log'!$R$18:$R$1017),0)","v":0},{"$f":"IFERROR($E290*SUMIF('[1]Daily Log'!$T$18:$T$1017,$B290,'[1]Daily Log'!$U$18:$U$1017),0)","v":0},{"$f":"IFERROR($E290*SUMIF('[1]Daily Log'!$W$18:$W$1017,$B290,'[1]Daily Log'!$X$18:$X$1017),0)","v":0},{"$f":"IFERROR($E290*SUMIF('[1]Daily Log'!$Z$18:$Z$1017,$B290,'[1]Daily Log'!$AA$18:$AA$1017),0)","v":0},{"$f":"IFERROR($E290*SUMIF('[1]Daily Log'!$AC$18:$AC$1017,$B290,'[1]Daily Log'!$AD$18:$AD$1017),0)","v":0},{"$f":"IFERROR($E290*SUMIF('[1]Daily Log'!$AF$18:$AF$1017,$B290,'[1]Daily Log'!$AG$18:$AG$1017),0)","v":0},{"$f":"IFERROR($E290*SUMIF('[1]Daily Log'!$AI$18:$AI$1017,$B290,'[1]Daily Log'!$AJ$18:$AJ$1017),0)","v":0},{"$f":"IFERROR($E290*SUMIF('[1]Daily Log'!$AL$18:$AL$1017,$B290,'[1]Daily Log'!$AM$18:$AM$1017),0)","v":0},{"$f":"IFERROR($E290*SUMIF('[1]Daily Log'!$AO$18:$AO$1017,$B290,'[1]Daily Log'!$AP$18:$AP$1017),0)","v":0},{"$f":"IFERROR($E290*SUMIF('[1]Daily Log'!$AR$18:$AR$1017,$B290,'[1]Daily Log'!$AS$18:$AS$1017),0)","v":0},{"$f":"IFERROR($E290*SUMIF('[1]Daily Log'!$AU$18:$AU$1017,$B290,'[1]Daily Log'!$AV$18:$AV$1017),0)","v":0},{"$f":"IFERROR($E290*SUMIF('[1]Daily Log'!$AX$18:$AX$1017,$B290,'[1]Daily Log'!$AY$18:$AY$1017),0)","v":0},{"$f":"IFERROR($E290*SUMIF('[1]Daily Log'!$BA$18:$BA$1017,$B290,'[1]Daily Log'!$BB$18:$BB$1017),0)","v":0},{"$f":"IFERROR($E290*SUMIF('[1]Daily Log'!$BD$18:$BD$1017,$B290,'[1]Daily Log'!$BE$18:$BE$1017),0)","v":0},{"$f":"IFERROR($E290*SUMIF('[1]Daily Log'!$BG$18:$BG$1017,$B290,'[1]Daily Log'!$BH$18:$BH$1017),0)","v":0},{"$f":"IFERROR($E290*SUMIF('[1]Daily Log'!$BJ$18:$BJ$1017,$B290,'[1]Daily Log'!$BK$18:$BK$1017),0)","v":0},{"$f":"IFERROR($E290*SUMIF('[1]Daily Log'!$BM$18:$BM$1017,$B290,'[1]Daily Log'!$BN$18:$BN$1017),0)","v":0},{"$f":"IFERROR($E290*SUMIF('[1]Daily Log'!$BP$18:$BP$1017,$B290,'[1]Daily Log'!$BQ$18:$BQ$1017),0)","v":0},{"$f":"IFERROR($E290*SUMIF('[1]Daily Log'!$BS$18:$BS$1017,$B290,'[1]Daily Log'!$BT$18:$BT$1017),0)","v":0},{"$f":"IFERROR($E290*SUMIF('[1]Daily Log'!$BV$18:$BV$1017,$B290,'[1]Daily Log'!$BW$18:$BW$1017),0)","v":0},{"$f":"IFERROR($E290*SUMIF('[1]Daily Log'!$BY$18:$BY$1017,$B290,'[1]Daily Log'!$BZ$18:$BZ$1017),0)","v":0},{"$f":"IFERROR($E290*SUMIF('[1]Daily Log'!$CB$18:$CB$1017,$B290,'[1]Daily Log'!$CC$18:$CC$1017),0)","v":0},{"$f":"IFERROR($E290*SUMIF('[1]Daily Log'!$CE$18:$CE$1017,$B290,'[1]Daily Log'!$CF$18:$CF$1017),0)","v":0},{"$f":"IFERROR($E290*SUMIF('[1]Daily Log'!$CH$18:$CH$1017,$B290,'[1]Daily Log'!$CI$18:$CI$1017),0)","v":0},{"$f":"IFERROR($E290*SUMIF('[1]Daily Log'!$CK$18:$CK$1017,$B290,'[1]Daily Log'!$CL$18:$CL$1017),0)","v":0},{"$f":"IFERROR($E290*SUMIF('[1]Daily Log'!$CN$18:$CN$1017,$B290,'[1]Daily Log'!$CO$18:$CO$1017),0)","v":0}]
[null,"AC07 N : MEMBER B'DAY",null,null,null,0,{"$f":"IFERROR($E291*SUMIF('[1]Daily Log'!$B$18:$B$1017,$B291,'[1]Daily Log'!$C$18:$C$1017),0)","v":0},{"$f":"IFERROR($E291*SUMIF('[1]Daily Log'!$E$18:$E$1017,$B291,'[1]Daily Log'!$F$18:$F$1017),0)","v":0},{"$f":"IFERROR($E291*SUMIF('[1]Daily Log'!$H$18:$H$1017,$B291,'[1]Daily Log'!$I$18:$I$1017),0)","v":0}," ",{"$f":"IFERROR($E291*SUMIF('[1]Daily Log'!$N$18:$N$1017,$B291,'[1]Daily Log'!$O$18:$O$1017),0)","v":0},{"$f":"IFERROR($E291*SUMIF('[1]Daily Log'!$Q$18:$Q$1017,$B291,'[1]Daily Log'!$R$18:$R$1017),0)","v":0},{"$f":"IFERROR($E291*SUMIF('[1]Daily Log'!$T$18:$T$1017,$B291,'[1]Daily Log'!$U$18:$U$1017),0)","v":0},{"$f":"IFERROR($E291*SUMIF('[1]Daily Log'!$W$18:$W$1017,$B291,'[1]Daily Log'!$X$18:$X$1017),0)","v":0},{"$f":"IFERROR($E291*SUMIF('[1]Daily Log'!$Z$18:$Z$1017,$B291,'[1]Daily Log'!$AA$18:$AA$1017),0)","v":0},{"$f":"IFERROR($E291*SUMIF('[1]Daily Log'!$AC$18:$AC$1017,$B291,'[1]Daily Log'!$AD$18:$AD$1017),0)","v":0},{"$f":"IFERROR($E291*SUMIF('[1]Daily Log'!$AF$18:$AF$1017,$B291,'[1]Daily Log'!$AG$18:$AG$1017),0)","v":0},{"$f":"IFERROR($E291*SUMIF('[1]Daily Log'!$AI$18:$AI$1017,$B291,'[1]Daily Log'!$AJ$18:$AJ$1017),0)","v":0},{"$f":"IFERROR($E291*SUMIF('[1]Daily Log'!$AL$18:$AL$1017,$B291,'[1]Daily Log'!$AM$18:$AM$1017),0)","v":0},{"$f":"IFERROR($E291*SUMIF('[1]Daily Log'!$AO$18:$AO$1017,$B291,'[1]Daily Log'!$AP$18:$AP$1017),0)","v":0},{"$f":"IFERROR($E291*SUMIF('[1]Daily Log'!$AR$18:$AR$1017,$B291,'[1]Daily Log'!$AS$18:$AS$1017),0)","v":0},{"$f":"IFERROR($E291*SUMIF('[1]Daily Log'!$AU$18:$AU$1017,$B291,'[1]Daily Log'!$AV$18:$AV$1017),0)","v":0},{"$f":"IFERROR($E291*SUMIF('[1]Daily Log'!$AX$18:$AX$1017,$B291,'[1]Daily Log'!$AY$18:$AY$1017),0)","v":0},{"$f":"IFERROR($E291*SUMIF('[1]Daily Log'!$BA$18:$BA$1017,$B291,'[1]Daily Log'!$BB$18:$BB$1017),0)","v":0},{"$f":"IFERROR($E291*SUMIF('[1]Daily Log'!$BD$18:$BD$1017,$B291,'[1]Daily Log'!$BE$18:$BE$1017),0)","v":0},{"$f":"IFERROR($E291*SUMIF('[1]Daily Log'!$BG$18:$BG$1017,$B291,'[1]Daily Log'!$BH$18:$BH$1017),0)","v":0},{"$f":"IFERROR($E291*SUMIF('[1]Daily Log'!$BJ$18:$BJ$1017,$B291,'[1]Daily Log'!$BK$18:$BK$1017),0)","v":0},{"$f":"IFERROR($E291*SUMIF('[1]Daily Log'!$BM$18:$BM$1017,$B291,'[1]Daily Log'!$BN$18:$BN$1017),0)","v":0},{"$f":"IFERROR($E291*SUMIF('[1]Daily Log'!$BP$18:$BP$1017,$B291,'[1]Daily Log'!$BQ$18:$BQ$1017),0)","v":0},{"$f":"IFERROR($E291*SUMIF('[1]Daily Log'!$BS$18:$BS$1017,$B291,'[1]Daily Log'!$BT$18:$BT$1017),0)","v":0},{"$f":"IFERROR($E291*SUMIF('[1]Daily Log'!$BV$18:$BV$1017,$B291,'[1]Daily Log'!$BW$18:$BW$1017),0)","v":0},{"$f":"IFERROR($E291*SUMIF('[1]Daily Log'!$BY$18:$BY$1017,$B291,'[1]Daily Log'!$BZ$18:$BZ$1017),0)","v":0},{"$f":"IFERROR($E291*SUMIF('[1]Daily Log'!$CB$18:$CB$1017,$B291,'[1]Daily Log'!$CC$18:$CC$1017),0)","v":0},{"$f":"IFERROR($E291*SUMIF('[1]Daily Log'!$CE$18:$CE$1017,$B291,'[1]Daily Log'!$CF$18:$CF$1017),0)","v":0},{"$f":"IFERROR($E291*SUMIF('[1]Daily Log'!$CH$18:$CH$1017,$B291,'[1]Daily Log'!$CI$18:$CI$1017),0)","v":0},{"$f":"IFERROR($E291*SUMIF('[1]Daily Log'!$CK$18:$CK$1017,$B291,'[1]Daily Log'!$CL$18:$CL$1017),0)","v":0},{"$f":"IFERROR($E291*SUMIF('[1]Daily Log'!$CN$18:$CN$1017,$B291,'[1]Daily Log'!$CO$18:$CO$1017),0)","v":0}]
[null,"AC08 N : STAFF B'DAY",null,null,null,0,{"$f":"IFERROR($E292*SUMIF('[1]Daily Log'!$B$18:$B$1017,$B292,'[1]Daily Log'!$C$18:$C$1017),0)","v":0},{"$f":"IFERROR($E292*SUMIF('[1]Daily Log'!$E$18:$E$1017,$B292,'[1]Daily Log'!$F$18:$F$1017),0)","v":0},{"$f":"IFERROR($E292*SUMIF('[1]Daily Log'!$H$18:$H$1017,$B292,'[1]Daily Log'!$I$18:$I$1017),0)","v":0}," ",{"$f":"IFERROR($E292*SUMIF('[1]Daily Log'!$N$18:$N$1017,$B292,'[1]Daily Log'!$O$18:$O$1017),0)","v":0},{"$f":"IFERROR($E292*SUMIF('[1]Daily Log'!$Q$18:$Q$1017,$B292,'[1]Daily Log'!$R$18:$R$1017),0)","v":0},{"$f":"IFERROR($E292*SUMIF('[1]Daily Log'!$T$18:$T$1017,$B292,'[1]Daily Log'!$U$18:$U$1017),0)","v":0},{"$f":"IFERROR($E292*SUMIF('[1]Daily Log'!$W$18:$W$1017,$B292,'[1]Daily Log'!$X$18:$X$1017),0)","v":0},{"$f":"IFERROR($E292*SUMIF('[1]Daily Log'!$Z$18:$Z$1017,$B292,'[1]Daily Log'!$AA$18:$AA$1017),0)","v":0},{"$f":"IFERROR($E292*SUMIF('[1]Daily Log'!$AC$18:$AC$1017,$B292,'[1]Daily Log'!$AD$18:$AD$1017),0)","v":0},{"$f":"IFERROR($E292*SUMIF('[1]Daily Log'!$AF$18:$AF$1017,$B292,'[1]Daily Log'!$AG$18:$AG$1017),0)","v":0},{"$f":"IFERROR($E292*SUMIF('[1]Daily Log'!$AI$18:$AI$1017,$B292,'[1]Daily Log'!$AJ$18:$AJ$1017),0)","v":0},{"$f":"IFERROR($E292*SUMIF('[1]Daily Log'!$AL$18:$AL$1017,$B292,'[1]Daily Log'!$AM$18:$AM$1017),0)","v":0},{"$f":"IFERROR($E292*SUMIF('[1]Daily Log'!$AO$18:$AO$1017,$B292,'[1]Daily Log'!$AP$18:$AP$1017),0)","v":0},{"$f":"IFERROR($E292*SUMIF('[1]Daily Log'!$AR$18:$AR$1017,$B292,'[1]Daily Log'!$AS$18:$AS$1017),0)","v":0},{"$f":"IFERROR($E292*SUMIF('[1]Daily Log'!$AU$18:$AU$1017,$B292,'[1]Daily Log'!$AV$18:$AV$1017),0)","v":0},{"$f":"IFERROR($E292*SUMIF('[1]Daily Log'!$AX$18:$AX$1017,$B292,'[1]Daily Log'!$AY$18:$AY$1017),0)","v":0},{"$f":"IFERROR($E292*SUMIF('[1]Daily Log'!$BA$18:$BA$1017,$B292,'[1]Daily Log'!$BB$18:$BB$1017),0)","v":0},{"$f":"IFERROR($E292*SUMIF('[1]Daily Log'!$BD$18:$BD$1017,$B292,'[1]Daily Log'!$BE$18:$BE$1017),0)","v":0},{"$f":"IFERROR($E292*SUMIF('[1]Daily Log'!$BG$18:$BG$1017,$B292,'[1]Daily Log'!$BH$18:$BH$1017),0)","v":0},{"$f":"IFERROR($E292*SUMIF('[1]Daily Log'!$BJ$18:$BJ$1017,$B292,'[1]Daily Log'!$BK$18:$BK$1017),0)","v":0},{"$f":"IFERROR($E292*SUMIF('[1]Daily Log'!$BM$18:$BM$1017,$B292,'[1]Daily Log'!$BN$18:$BN$1017),0)","v":0},{"$f":"IFERROR($E292*SUMIF('[1]Daily Log'!$BP$18:$BP$1017,$B292,'[1]Daily Log'!$BQ$18:$BQ$1017),0)","v":0},{"$f":"IFERROR($E292*SUMIF('[1]Daily Log'!$BS$18:$BS$1017,$B292,'[1]Daily Log'!$BT$18:$BT$1017),0)","v":0},{"$f":"IFERROR($E292*SUMIF('[1]Daily Log'!$BV$18:$BV$1017,$B292,'[1]Daily Log'!$BW$18:$BW$1017),0)","v":0},{"$f":"IFERROR($E292*SUMIF('[1]Daily Log'!$BY$18:$BY$1017,$B292,'[1]Daily Log'!$BZ$18:$BZ$1017),0)","v":0},{"$f":"IFERROR($E292*SUMIF('[1]Daily Log'!$CB$18:$CB$1017,$B292,'[1]Daily Log'!$CC$18:$CC$1017),0)","v":0},{"$f":"IFERROR($E292*SUMIF('[1]Daily Log'!$CE$18:$CE$1017,$B292,'[1]Daily Log'!$CF$18:$CF$1017),0)","v":0},{"$f":"IFERROR($E292*SUMIF('[1]Daily Log'!$CH$18:$CH$1017,$B292,'[1]Daily Log'!$CI$18:$CI$1017),0)","v":0},{"$f":"IFERROR($E292*SUMIF('[1]Daily Log'!$CK$18:$CK$1017,$B292,'[1]Daily Log'!$CL$18:$CL$1017),0)","v":0},{"$f":"IFERROR($E292*SUMIF('[1]Daily Log'!$CN$18:$CN$1017,$B292,'[1]Daily Log'!$CO$18:$CO$1017),0)","v":0}]
[null,"AC10 N : FREEHEAD (B)",null,null,null,0,{"$f":"IFERROR($E293*SUMIF('[1]Daily Log'!$B$18:$B$1017,$B293,'[1]Daily Log'!$C$18:$C$1017),0)","v":0},{"$f":"IFERROR($E293*SUMIF('[1]Daily Log'!$E$18:$E$1017,$B293,'[1]Daily Log'!$F$18:$F$1017),0)","v":0},{"$f":"IFERROR($E293*SUMIF('[1]Daily Log'!$H$18:$H$1017,$B293,'[1]Daily Log'!$I$18:$I$1017),0)","v":0}," ",{"$f":"IFERROR($E293*SUMIF('[1]Daily Log'!$N$18:$N$1017,$B293,'[1]Daily Log'!$O$18:$O$1017),0)","v":0},{"$f":"IFERROR($E293*SUMIF('[1]Daily Log'!$Q$18:$Q$1017,$B293,'[1]Daily Log'!$R$18:$R$1017),0)","v":0},{"$f":"IFERROR($E293*SUMIF('[1]Daily Log'!$T$18:$T$1017,$B293,'[1]Daily Log'!$U$18:$U$1017),0)","v":0},{"$f":"IFERROR($E293*SUMIF('[1]Daily Log'!$W$18:$W$1017,$B293,'[1]Daily Log'!$X$18:$X$1017),0)","v":0},{"$f":"IFERROR($E293*SUMIF('[1]Daily Log'!$Z$18:$Z$1017,$B293,'[1]Daily Log'!$AA$18:$AA$1017),0)","v":0},{"$f":"IFERROR($E293*SUMIF('[1]Daily Log'!$AC$18:$AC$1017,$B293,'[1]Daily Log'!$AD$18:$AD$1017),0)","v":0},{"$f":"IFERROR($E293*SUMIF('[1]Daily Log'!$AF$18:$AF$1017,$B293,'[1]Daily Log'!$AG$18:$AG$1017),0)","v":0},{"$f":"IFERROR($E293*SUMIF('[1]Daily Log'!$AI$18:$AI$1017,$B293,'[1]Daily Log'!$AJ$18:$AJ$1017),0)","v":0},{"$f":"IFERROR($E293*SUMIF('[1]Daily Log'!$AL$18:$AL$1017,$B293,'[1]Daily Log'!$AM$18:$AM$1017),0)","v":0},{"$f":"IFERROR($E293*SUMIF('[1]Daily Log'!$AO$18:$AO$1017,$B293,'[1]Daily Log'!$AP$18:$AP$1017),0)","v":0},{"$f":"IFERROR($E293*SUMIF('[1]Daily Log'!$AR$18:$AR$1017,$B293,'[1]Daily Log'!$AS$18:$AS$1017),0)","v":0},{"$f":"IFERROR($E293*SUMIF('[1]Daily Log'!$AU$18:$AU$1017,$B293,'[1]Daily Log'!$AV$18:$AV$1017),0)","v":0},{"$f":"IFERROR($E293*SUMIF('[1]Daily Log'!$AX$18:$AX$1017,$B293,'[1]Daily Log'!$AY$18:$AY$1017),0)","v":0},{"$f":"IFERROR($E293*SUMIF('[1]Daily Log'!$BA$18:$BA$1017,$B293,'[1]Daily Log'!$BB$18:$BB$1017),0)","v":0},{"$f":"IFERROR($E293*SUMIF('[1]Daily Log'!$BD$18:$BD$1017,$B293,'[1]Daily Log'!$BE$18:$BE$1017),0)","v":0},{"$f":"IFERROR($E293*SUMIF('[1]Daily Log'!$BG$18:$BG$1017,$B293,'[1]Daily Log'!$BH$18:$BH$1017),0)","v":0},{"$f":"IFERROR($E293*SUMIF('[1]Daily Log'!$BJ$18:$BJ$1017,$B293,'[1]Daily Log'!$BK$18:$BK$1017),0)","v":0},{"$f":"IFERROR($E293*SUMIF('[1]Daily Log'!$BM$18:$BM$1017,$B293,'[1]Daily Log'!$BN$18:$BN$1017),0)","v":0},{"$f":"IFERROR($E293*SUMIF('[1]Daily Log'!$BP$18:$BP$1017,$B293,'[1]Daily Log'!$BQ$18:$BQ$1017),0)","v":0},{"$f":"IFERROR($E293*SUMIF('[1]Daily Log'!$BS$18:$BS$1017,$B293,'[1]Daily Log'!$BT$18:$BT$1017),0)","v":0},{"$f":"IFERROR($E293*SUMIF('[1]Daily Log'!$BV$18:$BV$1017,$B293,'[1]Daily Log'!$BW$18:$BW$1017),0)","v":0},{"$f":"IFERROR($E293*SUMIF('[1]Daily Log'!$BY$18:$BY$1017,$B293,'[1]Daily Log'!$BZ$18:$BZ$1017),0)","v":0},{"$f":"IFERROR($E293*SUMIF('[1]Daily Log'!$CB$18:$CB$1017,$B293,'[1]Daily Log'!$CC$18:$CC$1017),0)","v":0},{"$f":"IFERROR($E293*SUMIF('[1]Daily Log'!$CE$18:$CE$1017,$B293,'[1]Daily Log'!$CF$18:$CF$1017),0)","v":0},{"$f":"IFERROR($E293*SUMIF('[1]Daily Log'!$CH$18:$CH$1017,$B293,'[1]Daily Log'!$CI$18:$CI$1017),0)","v":0},{"$f":"IFERROR($E293*SUMIF('[1]Daily Log'!$CK$18:$CK$1017,$B293,'[1]Daily Log'!$CL$18:$CL$1017),0)","v":0},{"$f":"IFERROR($E293*SUMIF('[1]Daily Log'!$CN$18:$CN$1017,$B293,'[1]Daily Log'!$CO$18:$CO$1017),0)","v":0}]
[null,"AC16 N : EVENT",null,null,null,0,{"$f":"IFERROR($E294*SUMIF('[1]Daily Log'!$B$18:$B$1017,$B294,'[1]Daily Log'!$C$18:$C$1017),0)","v":0},{"$f":"IFERROR($E294*SUMIF('[1]Daily Log'!$E$18:$E$1017,$B294,'[1]Daily Log'!$F$18:$F$1017),0)","v":0},{"$f":"IFERROR($E294*SUMIF('[1]Daily Log'!$H$18:$H$1017,$B294,'[1]Daily Log'!$I$18:$I$1017),0)","v":0}," ",{"$f":"IFERROR($E294*SUMIF('[1]Daily Log'!$N$18:$N$1017,$B294,'[1]Daily Log'!$O$18:$O$1017),0)","v":0},{"$f":"IFERROR($E294*SUMIF('[1]Daily Log'!$Q$18:$Q$1017,$B294,'[1]Daily Log'!$R$18:$R$1017),0)","v":0},{"$f":"IFERROR($E294*SUMIF('[1]Daily Log'!$T$18:$T$1017,$B294,'[1]Daily Log'!$U$18:$U$1017),0)","v":0},{"$f":"IFERROR($E294*SUMIF('[1]Daily Log'!$W$18:$W$1017,$B294,'[1]Daily Log'!$X$18:$X$1017),0)","v":0},{"$f":"IFERROR($E294*SUMIF('[1]Daily Log'!$Z$18:$Z$1017,$B294,'[1]Daily Log'!$AA$18:$AA$1017),0)","v":0},{"$f":"IFERROR($E294*SUMIF('[1]Daily Log'!$AC$18:$AC$1017,$B294,'[1]Daily Log'!$AD$18:$AD$1017),0)","v":0},{"$f":"IFERROR($E294*SUMIF('[1]Daily Log'!$AF$18:$AF$1017,$B294,'[1]Daily Log'!$AG$18:$AG$1017),0)","v":0},{"$f":"IFERROR($E294*SUMIF('[1]Daily Log'!$AI$18:$AI$1017,$B294,'[1]Daily Log'!$AJ$18:$AJ$1017),0)","v":0},{"$f":"IFERROR($E294*SUMIF('[1]Daily Log'!$AL$18:$AL$1017,$B294,'[1]Daily Log'!$AM$18:$AM$1017),0)","v":0},{"$f":"IFERROR($E294*SUMIF('[1]Daily Log'!$AO$18:$AO$1017,$B294,'[1]Daily Log'!$AP$18:$AP$1017),0)","v":0},{"$f":"IFERROR($E294*SUMIF('[1]Daily Log'!$AR$18:$AR$1017,$B294,'[1]Daily Log'!$AS$18:$AS$1017),0)","v":0},{"$f":"IFERROR($E294*SUMIF('[1]Daily Log'!$AU$18:$AU$1017,$B294,'[1]Daily Log'!$AV$18:$AV$1017),0)","v":0},{"$f":"IFERROR($E294*SUMIF('[1]Daily Log'!$AX$18:$AX$1017,$B294,'[1]Daily Log'!$AY$18:$AY$1017),0)","v":0},{"$f":"IFERROR($E294*SUMIF('[1]Daily Log'!$BA$18:$BA$1017,$B294,'[1]Daily Log'!$BB$18:$BB$1017),0)","v":0},{"$f":"IFERROR($E294*SUMIF('[1]Daily Log'!$BD$18:$BD$1017,$B294,'[1]Daily Log'!$BE$18:$BE$1017),0)","v":0},{"$f":"IFERROR($E294*SUMIF('[1]Daily Log'!$BG$18:$BG$1017,$B294,'[1]Daily Log'!$BH$18:$BH$1017),0)","v":0},{"$f":"IFERROR($E294*SUMIF('[1]Daily Log'!$BJ$18:$BJ$1017,$B294,'[1]Daily Log'!$BK$18:$BK$1017),0)","v":0},{"$f":"IFERROR($E294*SUMIF('[1]Daily Log'!$BM$18:$BM$1017,$B294,'[1]Daily Log'!$BN$18:$BN$1017),0)","v":0},{"$f":"IFERROR($E294*SUMIF('[1]Daily Log'!$BP$18:$BP$1017,$B294,'[1]Daily Log'!$BQ$18:$BQ$1017),0)","v":0},{"$f":"IFERROR($E294*SUMIF('[1]Daily Log'!$BS$18:$BS$1017,$B294,'[1]Daily Log'!$BT$18:$BT$1017),0)","v":0},{"$f":"IFERROR($E294*SUMIF('[1]Daily Log'!$BV$18:$BV$1017,$B294,'[1]Daily Log'!$BW$18:$BW$1017),0)","v":0},{"$f":"IFERROR($E294*SUMIF('[1]Daily Log'!$BY$18:$BY$1017,$B294,'[1]Daily Log'!$BZ$18:$BZ$1017),0)","v":0},{"$f":"IFERROR($E294*SUMIF('[1]Daily Log'!$CB$18:$CB$1017,$B294,'[1]Daily Log'!$CC$18:$CC$1017),0)","v":0},{"$f":"IFERROR($E294*SUMIF('[1]Daily Log'!$CE$18:$CE$1017,$B294,'[1]Daily Log'!$CF$18:$CF$1017),0)","v":0},{"$f":"IFERROR($E294*SUMIF('[1]Daily Log'!$CH$18:$CH$1017,$B294,'[1]Daily Log'!$CI$18:$CI$1017),0)","v":0},{"$f":"IFERROR($E294*SUMIF('[1]Daily Log'!$CK$18:$CK$1017,$B294,'[1]Daily Log'!$CL$18:$CL$1017),0)","v":0},{"$f":"IFERROR($E294*SUMIF('[1]Daily Log'!$CN$18:$CN$1017,$B294,'[1]Daily Log'!$CO$18:$CO$1017),0)","v":0}]
[null,"AC17 N : XTD S ROOM",null,null,null,0,{"$f":"IFERROR($E295*SUMIF('[1]Daily Log'!$B$18:$B$1017,$B295,'[1]Daily Log'!$C$18:$C$1017),0)","v":0},{"$f":"IFERROR($E295*SUMIF('[1]Daily Log'!$E$18:$E$1017,$B295,'[1]Daily Log'!$F$18:$F$1017),0)","v":0},{"$f":"IFERROR($E295*SUMIF('[1]Daily Log'!$H$18:$H$1017,$B295,'[1]Daily Log'!$I$18:$I$1017),0)","v":0}," ",{"$f":"IFERROR($E295*SUMIF('[1]Daily Log'!$N$18:$N$1017,$B295,'[1]Daily Log'!$O$18:$O$1017),0)","v":0},{"$f":"IFERROR($E295*SUMIF('[1]Daily Log'!$Q$18:$Q$1017,$B295,'[1]Daily Log'!$R$18:$R$1017),0)","v":0},{"$f":"IFERROR($E295*SUMIF('[1]Daily Log'!$T$18:$T$1017,$B295,'[1]Daily Log'!$U$18:$U$1017),0)","v":0},{"$f":"IFERROR($E295*SUMIF('[1]Daily Log'!$W$18:$W$1017,$B295,'[1]Daily Log'!$X$18:$X$1017),0)","v":0},{"$f":"IFERROR($E295*SUMIF('[1]Daily Log'!$Z$18:$Z$1017,$B295,'[1]Daily Log'!$AA$18:$AA$1017),0)","v":0},{"$f":"IFERROR($E295*SUMIF('[1]Daily Log'!$AC$18:$AC$1017,$B295,'[1]Daily Log'!$AD$18:$AD$1017),0)","v":0},{"$f":"IFERROR($E295*SUMIF('[1]Daily Log'!$AF$18:$AF$1017,$B295,'[1]Daily Log'!$AG$18:$AG$1017),0)","v":0},{"$f":"IFERROR($E295*SUMIF('[1]Daily Log'!$AI$18:$AI$1017,$B295,'[1]Daily Log'!$AJ$18:$AJ$1017),0)","v":0},{"$f":"IFERROR($E295*SUMIF('[1]Daily Log'!$AL$18:$AL$1017,$B295,'[1]Daily Log'!$AM$18:$AM$1017),0)","v":0},{"$f":"IFERROR($E295*SUMIF('[1]Daily Log'!$AO$18:$AO$1017,$B295,'[1]Daily Log'!$AP$18:$AP$1017),0)","v":0},{"$f":"IFERROR($E295*SUMIF('[1]Daily Log'!$AR$18:$AR$1017,$B295,'[1]Daily Log'!$AS$18:$AS$1017),0)","v":0},{"$f":"IFERROR($E295*SUMIF('[1]Daily Log'!$AU$18:$AU$1017,$B295,'[1]Daily Log'!$AV$18:$AV$1017),0)","v":0},{"$f":"IFERROR($E295*SUMIF('[1]Daily Log'!$AX$18:$AX$1017,$B295,'[1]Daily Log'!$AY$18:$AY$1017),0)","v":0},{"$f":"IFERROR($E295*SUMIF('[1]Daily Log'!$BA$18:$BA$1017,$B295,'[1]Daily Log'!$BB$18:$BB$1017),0)","v":0},{"$f":"IFERROR($E295*SUMIF('[1]Daily Log'!$BD$18:$BD$1017,$B295,'[1]Daily Log'!$BE$18:$BE$1017),0)","v":0},{"$f":"IFERROR($E295*SUMIF('[1]Daily Log'!$BG$18:$BG$1017,$B295,'[1]Daily Log'!$BH$18:$BH$1017),0)","v":0},{"$f":"IFERROR($E295*SUMIF('[1]Daily Log'!$BJ$18:$BJ$1017,$B295,'[1]Daily Log'!$BK$18:$BK$1017),0)","v":0},{"$f":"IFERROR($E295*SUMIF('[1]Daily Log'!$BM$18:$BM$1017,$B295,'[1]Daily Log'!$BN$18:$BN$1017),0)","v":0},{"$f":"IFERROR($E295*SUMIF('[1]Daily Log'!$BP$18:$BP$1017,$B295,'[1]Daily Log'!$BQ$18:$BQ$1017),0)","v":0},{"$f":"IFERROR($E295*SUMIF('[1]Daily Log'!$BS$18:$BS$1017,$B295,'[1]Daily Log'!$BT$18:$BT$1017),0)","v":0},{"$f":"IFERROR($E295*SUMIF('[1]Daily Log'!$BV$18:$BV$1017,$B295,'[1]Daily Log'!$BW$18:$BW$1017),0)","v":0},{"$f":"IFERROR($E295*SUMIF('[1]Daily Log'!$BY$18:$BY$1017,$B295,'[1]Daily Log'!$BZ$18:$BZ$1017),0)","v":0},{"$f":"IFERROR($E295*SUMIF('[1]Daily Log'!$CB$18:$CB$1017,$B295,'[1]Daily Log'!$CC$18:$CC$1017),0)","v":0},{"$f":"IFERROR($E295*SUMIF('[1]Daily Log'!$CE$18:$CE$1017,$B295,'[1]Daily Log'!$CF$18:$CF$1017),0)","v":0},{"$f":"IFERROR($E295*SUMIF('[1]Daily Log'!$CH$18:$CH$1017,$B295,'[1]Daily Log'!$CI$18:$CI$1017),0)","v":0},{"$f":"IFERROR($E295*SUMIF('[1]Daily Log'!$CK$18:$CK$1017,$B295,'[1]Daily Log'!$CL$18:$CL$1017),0)","v":0},{"$f":"IFERROR($E295*SUMIF('[1]Daily Log'!$CN$18:$CN$1017,$B295,'[1]Daily Log'!$CO$18:$CO$1017),0)","v":0}]
[null,"AC18 N : XTD M ROOM",null,null,null,0,{"$f":"IFERROR($E296*SUMIF('[1]Daily Log'!$B$18:$B$1017,$B296,'[1]Daily Log'!$C$18:$C$1017),0)","v":0},{"$f":"IFERROR($E296*SUMIF('[1]Daily Log'!$E$18:$E$1017,$B296,'[1]Daily Log'!$F$18:$F$1017),0)","v":0},{"$f":"IFERROR($E296*SUMIF('[1]Daily Log'!$H$18:$H$1017,$B296,'[1]Daily Log'!$I$18:$I$1017),0)","v":0}," ",{"$f":"IFERROR($E296*SUMIF('[1]Daily Log'!$N$18:$N$1017,$B296,'[1]Daily Log'!$O$18:$O$1017),0)","v":0},{"$f":"IFERROR($E296*SUMIF('[1]Daily Log'!$Q$18:$Q$1017,$B296,'[1]Daily Log'!$R$18:$R$1017),0)","v":0},{"$f":"IFERROR($E296*SUMIF('[1]Daily Log'!$T$18:$T$1017,$B296,'[1]Daily Log'!$U$18:$U$1017),0)","v":0},{"$f":"IFERROR($E296*SUMIF('[1]Daily Log'!$W$18:$W$1017,$B296,'[1]Daily Log'!$X$18:$X$1017),0)","v":0},{"$f":"IFERROR($E296*SUMIF('[1]Daily Log'!$Z$18:$Z$1017,$B296,'[1]Daily Log'!$AA$18:$AA$1017),0)","v":0},{"$f":"IFERROR($E296*SUMIF('[1]Daily Log'!$AC$18:$AC$1017,$B296,'[1]Daily Log'!$AD$18:$AD$1017),0)","v":0},{"$f":"IFERROR($E296*SUMIF('[1]Daily Log'!$AF$18:$AF$1017,$B296,'[1]Daily Log'!$AG$18:$AG$1017),0)","v":0},{"$f":"IFERROR($E296*SUMIF('[1]Daily Log'!$AI$18:$AI$1017,$B296,'[1]Daily Log'!$AJ$18:$AJ$1017),0)","v":0},{"$f":"IFERROR($E296*SUMIF('[1]Daily Log'!$AL$18:$AL$1017,$B296,'[1]Daily Log'!$AM$18:$AM$1017),0)","v":0},{"$f":"IFERROR($E296*SUMIF('[1]Daily Log'!$AO$18:$AO$1017,$B296,'[1]Daily Log'!$AP$18:$AP$1017),0)","v":0},{"$f":"IFERROR($E296*SUMIF('[1]Daily Log'!$AR$18:$AR$1017,$B296,'[1]Daily Log'!$AS$18:$AS$1017),0)","v":0},{"$f":"IFERROR($E296*SUMIF('[1]Daily Log'!$AU$18:$AU$1017,$B296,'[1]Daily Log'!$AV$18:$AV$1017),0)","v":0},{"$f":"IFERROR($E296*SUMIF('[1]Daily Log'!$AX$18:$AX$1017,$B296,'[1]Daily Log'!$AY$18:$AY$1017),0)","v":0},{"$f":"IFERROR($E296*SUMIF('[1]Daily Log'!$BA$18:$BA$1017,$B296,'[1]Daily Log'!$BB$18:$BB$1017),0)","v":0},{"$f":"IFERROR($E296*SUMIF('[1]Daily Log'!$BD$18:$BD$1017,$B296,'[1]Daily Log'!$BE$18:$BE$1017),0)","v":0},{"$f":"IFERROR($E296*SUMIF('[1]Daily Log'!$BG$18:$BG$1017,$B296,'[1]Daily Log'!$BH$18:$BH$1017),0)","v":0},{"$f":"IFERROR($E296*SUMIF('[1]Daily Log'!$BJ$18:$BJ$1017,$B296,'[1]Daily Log'!$BK$18:$BK$1017),0)","v":0},{"$f":"IFERROR($E296*SUMIF('[1]Daily Log'!$BM$18:$BM$1017,$B296,'[1]Daily Log'!$BN$18:$BN$1017),0)","v":0},{"$f":"IFERROR($E296*SUMIF('[1]Daily Log'!$BP$18:$BP$1017,$B296,'[1]Daily Log'!$BQ$18:$BQ$1017),0)","v":0},{"$f":"IFERROR($E296*SUMIF('[1]Daily Log'!$BS$18:$BS$1017,$B296,'[1]Daily Log'!$BT$18:$BT$1017),0)","v":0},{"$f":"IFERROR($E296*SUMIF('[1]Daily Log'!$BV$18:$BV$1017,$B296,'[1]Daily Log'!$BW$18:$BW$1017),0)","v":0},{"$f":"IFERROR($E296*SUMIF('[1]Daily Log'!$BY$18:$BY$1017,$B296,'[1]Daily Log'!$BZ$18:$BZ$1017),0)","v":0},{"$f":"IFERROR($E296*SUMIF('[1]Daily Log'!$CB$18:$CB$1017,$B296,'[1]Daily Log'!$CC$18:$CC$1017),0)","v":0},{"$f":"IFERROR($E296*SUMIF('[1]Daily Log'!$CE$18:$CE$1017,$B296,'[1]Daily Log'!$CF$18:$CF$1017),0)","v":0},{"$f":"IFERROR($E296*SUMIF('[1]Daily Log'!$CH$18:$CH$1017,$B296,'[1]Daily Log'!$CI$18:$CI$1017),0)","v":0},{"$f":"IFERROR($E296*SUMIF('[1]Daily Log'!$CK$18:$CK$1017,$B296,'[1]Daily Log'!$CL$18:$CL$1017),0)","v":0},{"$f":"IFERROR($E296*SUMIF('[1]Daily Log'!$CN$18:$CN$1017,$B296,'[1]Daily Log'!$CO$18:$CO$1017),0)","v":0}]
[null,"AC19 N : XTD B ROOM",null,null,null,0,{"$f":"IFERROR($E297*SUMIF('[1]Daily Log'!$B$18:$B$1017,$B297,'[1]Daily Log'!$C$18:$C$1017),0)","v":0},{"$f":"IFERROR($E297*SUMIF('[1]Daily Log'!$E$18:$E$1017,$B297,'[1]Daily Log'!$F$18:$F$1017),0)","v":0},{"$f":"IFERROR($E297*SUMIF('[1]Daily Log'!$H$18:$H$1017,$B297,'[1]Daily Log'!$I$18:$I$1017),0)","v":0}," ",{"$f":"IFERROR($E297*SUMIF('[1]Daily Log'!$N$18:$N$1017,$B297,'[1]Daily Log'!$O$18:$O$1017),0)","v":0},{"$f":"IFERROR($E297*SUMIF('[1]Daily Log'!$Q$18:$Q$1017,$B297,'[1]Daily Log'!$R$18:$R$1017),0)","v":0},{"$f":"IFERROR($E297*SUMIF('[1]Daily Log'!$T$18:$T$1017,$B297,'[1]Daily Log'!$U$18:$U$1017),0)","v":0},{"$f":"IFERROR($E297*SUMIF('[1]Daily Log'!$W$18:$W$1017,$B297,'[1]Daily Log'!$X$18:$X$1017),0)","v":0},{"$f":"IFERROR($E297*SUMIF('[1]Daily Log'!$Z$18:$Z$1017,$B297,'[1]Daily Log'!$AA$18:$AA$1017),0)","v":0},{"$f":"IFERROR($E297*SUMIF('[1]Daily Log'!$AC$18:$AC$1017,$B297,'[1]Daily Log'!$AD$18:$AD$1017),0)","v":0},{"$f":"IFERROR($E297*SUMIF('[1]Daily Log'!$AF$18:$AF$1017,$B297,'[1]Daily Log'!$AG$18:$AG$1017),0)","v":0},{"$f":"IFERROR($E297*SUMIF('[1]Daily Log'!$AI$18:$AI$1017,$B297,'[1]Daily Log'!$AJ$18:$AJ$1017),0)","v":0},{"$f":"IFERROR($E297*SUMIF('[1]Daily Log'!$AL$18:$AL$1017,$B297,'[1]Daily Log'!$AM$18:$AM$1017),0)","v":0},{"$f":"IFERROR($E297*SUMIF('[1]Daily Log'!$AO$18:$AO$1017,$B297,'[1]Daily Log'!$AP$18:$AP$1017),0)","v":0},{"$f":"IFERROR($E297*SUMIF('[1]Daily Log'!$AR$18:$AR$1017,$B297,'[1]Daily Log'!$AS$18:$AS$1017),0)","v":0},{"$f":"IFERROR($E297*SUMIF('[1]Daily Log'!$AU$18:$AU$1017,$B297,'[1]Daily Log'!$AV$18:$AV$1017),0)","v":0},{"$f":"IFERROR($E297*SUMIF('[1]Daily Log'!$AX$18:$AX$1017,$B297,'[1]Daily Log'!$AY$18:$AY$1017),0)","v":0},{"$f":"IFERROR($E297*SUMIF('[1]Daily Log'!$BA$18:$BA$1017,$B297,'[1]Daily Log'!$BB$18:$BB$1017),0)","v":0},{"$f":"IFERROR($E297*SUMIF('[1]Daily Log'!$BD$18:$BD$1017,$B297,'[1]Daily Log'!$BE$18:$BE$1017),0)","v":0},{"$f":"IFERROR($E297*SUMIF('[1]Daily Log'!$BG$18:$BG$1017,$B297,'[1]Daily Log'!$BH$18:$BH$1017),0)","v":0},{"$f":"IFERROR($E297*SUMIF('[1]Daily Log'!$BJ$18:$BJ$1017,$B297,'[1]Daily Log'!$BK$18:$BK$1017),0)","v":0},{"$f":"IFERROR($E297*SUMIF('[1]Daily Log'!$BM$18:$BM$1017,$B297,'[1]Daily Log'!$BN$18:$BN$1017),0)","v":0},{"$f":"IFERROR($E297*SUMIF('[1]Daily Log'!$BP$18:$BP$1017,$B297,'[1]Daily Log'!$BQ$18:$BQ$1017),0)","v":0},{"$f":"IFERROR($E297*SUMIF('[1]Daily Log'!$BS$18:$BS$1017,$B297,'[1]Daily Log'!$BT$18:$BT$1017),0)","v":0},{"$f":"IFERROR($E297*SUMIF('[1]Daily Log'!$BV$18:$BV$1017,$B297,'[1]Daily Log'!$BW$18:$BW$1017),0)","v":0},{"$f":"IFERROR($E297*SUMIF('[1]Daily Log'!$BY$18:$BY$1017,$B297,'[1]Daily Log'!$BZ$18:$BZ$1017),0)","v":0},{"$f":"IFERROR($E297*SUMIF('[1]Daily Log'!$CB$18:$CB$1017,$B297,'[1]Daily Log'!$CC$18:$CC$1017),0)","v":0},{"$f":"IFERROR($E297*SUMIF('[1]Daily Log'!$CE$18:$CE$1017,$B297,'[1]Daily Log'!$CF$18:$CF$1017),0)","v":0},{"$f":"IFERROR($E297*SUMIF('[1]Daily Log'!$CH$18:$CH$1017,$B297,'[1]Daily Log'!$CI$18:$CI$1017),0)","v":0},{"$f":"IFERROR($E297*SUMIF('[1]Daily Log'!$CK$18:$CK$1017,$B297,'[1]Daily Log'!$CL$18:$CL$1017),0)","v":0},{"$f":"IFERROR($E297*SUMIF('[1]Daily Log'!$CN$18:$CN$1017,$B297,'[1]Daily Log'!$CO$18:$CO$1017),0)","v":0}]
[null,"AC24 N : STUDENT",null,null,null,0,{"$f":"IFERROR($E298*SUMIF('[1]Daily Log'!$B$18:$B$1017,$B298,'[1]Daily Log'!$C$18:$C$1017),0)","v":0},{"$f":"IFERROR($E298*SUMIF('[1]Daily Log'!$E$18:$E$1017,$B298,'[1]Daily Log'!$F$18:$F$1017),0)","v":0},{"$f":"IFERROR($E298*SUMIF('[1]Daily Log'!$H$18:$H$1017,$B298,'[1]Daily Log'!$I$18:$I$1017),0)","v":0}," ",{"$f":"IFERROR($E298*SUMIF('[1]Daily Log'!$N$18:$N$1017,$B298,'[1]Daily Log'!$O$18:$O$1017),0)","v":0},{"$f":"IFERROR($E298*SUMIF('[1]Daily Log'!$Q$18:$Q$1017,$B298,'[1]Daily Log'!$R$18:$R$1017),0)","v":0},{"$f":"IFERROR($E298*SUMIF('[1]Daily Log'!$T$18:$T$1017,$B298,'[1]Daily Log'!$U$18:$U$1017),0)","v":0},{"$f":"IFERROR($E298*SUMIF('[1]Daily Log'!$W$18:$W$1017,$B298,'[1]Daily Log'!$X$18:$X$1017),0)","v":0},{"$f":"IFERROR($E298*SUMIF('[1]Daily Log'!$Z$18:$Z$1017,$B298,'[1]Daily Log'!$AA$18:$AA$1017),0)","v":0},{"$f":"IFERROR($E298*SUMIF('[1]Daily Log'!$AC$18:$AC$1017,$B298,'[1]Daily Log'!$AD$18:$AD$1017),0)","v":0},{"$f":"IFERROR($E298*SUMIF('[1]Daily Log'!$AF$18:$AF$1017,$B298,'[1]Daily Log'!$AG$18:$AG$1017),0)","v":0},{"$f":"IFERROR($E298*SUMIF('[1]Daily Log'!$AI$18:$AI$1017,$B298,'[1]Daily Log'!$AJ$18:$AJ$1017),0)","v":0},{"$f":"IFERROR($E298*SUMIF('[1]Daily Log'!$AL$18:$AL$1017,$B298,'[1]Daily Log'!$AM$18:$AM$1017),0)","v":0},{"$f":"IFERROR($E298*SUMIF('[1]Daily Log'!$AO$18:$AO$1017,$B298,'[1]Daily Log'!$AP$18:$AP$1017),0)","v":0},{"$f":"IFERROR($E298*SUMIF('[1]Daily Log'!$AR$18:$AR$1017,$B298,'[1]Daily Log'!$AS$18:$AS$1017),0)","v":0},{"$f":"IFERROR($E298*SUMIF('[1]Daily Log'!$AU$18:$AU$1017,$B298,'[1]Daily Log'!$AV$18:$AV$1017),0)","v":0},{"$f":"IFERROR($E298*SUMIF('[1]Daily Log'!$AX$18:$AX$1017,$B298,'[1]Daily Log'!$AY$18:$AY$1017),0)","v":0},{"$f":"IFERROR($E298*SUMIF('[1]Daily Log'!$BA$18:$BA$1017,$B298,'[1]Daily Log'!$BB$18:$BB$1017),0)","v":0},{"$f":"IFERROR($E298*SUMIF('[1]Daily Log'!$BD$18:$BD$1017,$B298,'[1]Daily Log'!$BE$18:$BE$1017),0)","v":0},{"$f":"IFERROR($E298*SUMIF('[1]Daily Log'!$BG$18:$BG$1017,$B298,'[1]Daily Log'!$BH$18:$BH$1017),0)","v":0},{"$f":"IFERROR($E298*SUMIF('[1]Daily Log'!$BJ$18:$BJ$1017,$B298,'[1]Daily Log'!$BK$18:$BK$1017),0)","v":0},{"$f":"IFERROR($E298*SUMIF('[1]Daily Log'!$BM$18:$BM$1017,$B298,'[1]Daily Log'!$BN$18:$BN$1017),0)","v":0},{"$f":"IFERROR($E298*SUMIF('[1]Daily Log'!$BP$18:$BP$1017,$B298,'[1]Daily Log'!$BQ$18:$BQ$1017),0)","v":0},{"$f":"IFERROR($E298*SUMIF('[1]Daily Log'!$BS$18:$BS$1017,$B298,'[1]Daily Log'!$BT$18:$BT$1017),0)","v":0},{"$f":"IFERROR($E298*SUMIF('[1]Daily Log'!$BV$18:$BV$1017,$B298,'[1]Daily Log'!$BW$18:$BW$1017),0)","v":0},{"$f":"IFERROR($E298*SUMIF('[1]Daily Log'!$BY$18:$BY$1017,$B298,'[1]Daily Log'!$BZ$18:$BZ$1017),0)","v":0},{"$f":"IFERROR($E298*SUMIF('[1]Daily Log'!$CB$18:$CB$1017,$B298,'[1]Daily Log'!$CC$18:$CC$1017),0)","v":0},{"$f":"IFERROR($E298*SUMIF('[1]Daily Log'!$CE$18:$CE$1017,$B298,'[1]Daily Log'!$CF$18:$CF$1017),0)","v":0},{"$f":"IFERROR($E298*SUMIF('[1]Daily Log'!$CH$18:$CH$1017,$B298,'[1]Daily Log'!$CI$18:$CI$1017),0)","v":0},{"$f":"IFERROR($E298*SUMIF('[1]Daily Log'!$CK$18:$CK$1017,$B298,'[1]Daily Log'!$CL$18:$CL$1017),0)","v":0},{"$f":"IFERROR($E298*SUMIF('[1]Daily Log'!$CN$18:$CN$1017,$B298,'[1]Daily Log'!$CO$18:$CO$1017),0)","v":0}]
[null,"AC28 N : XTD VIP ROOM",null,null,null,0,{"$f":"IFERROR($E299*SUMIF('[1]Daily Log'!$B$18:$B$1017,$B299,'[1]Daily Log'!$C$18:$C$1017),0)","v":0},{"$f":"IFERROR($E299*SUMIF('[1]Daily Log'!$E$18:$E$1017,$B299,'[1]Daily Log'!$F$18:$F$1017),0)","v":0},{"$f":"IFERROR($E299*SUMIF('[1]Daily Log'!$H$18:$H$1017,$B299,'[1]Daily Log'!$I$18:$I$1017),0)","v":0}," ",{"$f":"IFERROR($E299*SUMIF('[1]Daily Log'!$N$18:$N$1017,$B299,'[1]Daily Log'!$O$18:$O$1017),0)","v":0},{"$f":"IFERROR($E299*SUMIF('[1]Daily Log'!$Q$18:$Q$1017,$B299,'[1]Daily Log'!$R$18:$R$1017),0)","v":0},{"$f":"IFERROR($E299*SUMIF('[1]Daily Log'!$T$18:$T$1017,$B299,'[1]Daily Log'!$U$18:$U$1017),0)","v":0},{"$f":"IFERROR($E299*SUMIF('[1]Daily Log'!$W$18:$W$1017,$B299,'[1]Daily Log'!$X$18:$X$1017),0)","v":0},{"$f":"IFERROR($E299*SUMIF('[1]Daily Log'!$Z$18:$Z$1017,$B299,'[1]Daily Log'!$AA$18:$AA$1017),0)","v":0},{"$f":"IFERROR($E299*SUMIF('[1]Daily Log'!$AC$18:$AC$1017,$B299,'[1]Daily Log'!$AD$18:$AD$1017),0)","v":0},{"$f":"IFERROR($E299*SUMIF('[1]Daily Log'!$AF$18:$AF$1017,$B299,'[1]Daily Log'!$AG$18:$AG$1017),0)","v":0},{"$f":"IFERROR($E299*SUMIF('[1]Daily Log'!$AI$18:$AI$1017,$B299,'[1]Daily Log'!$AJ$18:$AJ$1017),0)","v":0},{"$f":"IFERROR($E299*SUMIF('[1]Daily Log'!$AL$18:$AL$1017,$B299,'[1]Daily Log'!$AM$18:$AM$1017),0)","v":0},{"$f":"IFERROR($E299*SUMIF('[1]Daily Log'!$AO$18:$AO$1017,$B299,'[1]Daily Log'!$AP$18:$AP$1017),0)","v":0},{"$f":"IFERROR($E299*SUMIF('[1]Daily Log'!$AR$18:$AR$1017,$B299,'[1]Daily Log'!$AS$18:$AS$1017),0)","v":0},{"$f":"IFERROR($E299*SUMIF('[1]Daily Log'!$AU$18:$AU$1017,$B299,'[1]Daily Log'!$AV$18:$AV$1017),0)","v":0},{"$f":"IFERROR($E299*SUMIF('[1]Daily Log'!$AX$18:$AX$1017,$B299,'[1]Daily Log'!$AY$18:$AY$1017),0)","v":0},{"$f":"IFERROR($E299*SUMIF('[1]Daily Log'!$BA$18:$BA$1017,$B299,'[1]Daily Log'!$BB$18:$BB$1017),0)","v":0},{"$f":"IFERROR($E299*SUMIF('[1]Daily Log'!$BD$18:$BD$1017,$B299,'[1]Daily Log'!$BE$18:$BE$1017),0)","v":0},{"$f":"IFERROR($E299*SUMIF('[1]Daily Log'!$BG$18:$BG$1017,$B299,'[1]Daily Log'!$BH$18:$BH$1017),0)","v":0},{"$f":"IFERROR($E299*SUMIF('[1]Daily Log'!$BJ$18:$BJ$1017,$B299,'[1]Daily Log'!$BK$18:$BK$1017),0)","v":0},{"$f":"IFERROR($E299*SUMIF('[1]Daily Log'!$BM$18:$BM$1017,$B299,'[1]Daily Log'!$BN$18:$BN$1017),0)","v":0},{"$f":"IFERROR($E299*SUMIF('[1]Daily Log'!$BP$18:$BP$1017,$B299,'[1]Daily Log'!$BQ$18:$BQ$1017),0)","v":0},{"$f":"IFERROR($E299*SUMIF('[1]Daily Log'!$BS$18:$BS$1017,$B299,'[1]Daily Log'!$BT$18:$BT$1017),0)","v":0},{"$f":"IFERROR($E299*SUMIF('[1]Daily Log'!$BV$18:$BV$1017,$B299,'[1]Daily Log'!$BW$18:$BW$1017),0)","v":0},{"$f":"IFERROR($E299*SUMIF('[1]Daily Log'!$BY$18:$BY$1017,$B299,'[1]Daily Log'!$BZ$18:$BZ$1017),0)","v":0},{"$f":"IFERROR($E299*SUMIF('[1]Daily Log'!$CB$18:$CB$1017,$B299,'[1]Daily Log'!$CC$18:$CC$1017),0)","v":0},{"$f":"IFERROR($E299*SUMIF('[1]Daily Log'!$CE$18:$CE$1017,$B299,'[1]Daily Log'!$CF$18:$CF$1017),0)","v":0},{"$f":"IFERROR($E299*SUMIF('[1]Daily Log'!$CH$18:$CH$1017,$B299,'[1]Daily Log'!$CI$18:$CI$1017),0)","v":0},{"$f":"IFERROR($E299*SUMIF('[1]Daily Log'!$CK$18:$CK$1017,$B299,'[1]Daily Log'!$CL$18:$CL$1017),0)","v":0},{"$f":"IFERROR($E299*SUMIF('[1]Daily Log'!$CN$18:$CN$1017,$B299,'[1]Daily Log'!$CO$18:$CO$1017),0)","v":0}]
[null,"AC29 N : 5.8",null,null,null,0,{"$f":"IFERROR($E300*SUMIF('[1]Daily Log'!$B$18:$B$1017,$B300,'[1]Daily Log'!$C$18:$C$1017),0)","v":0},{"$f":"IFERROR($E300*SUMIF('[1]Daily Log'!$E$18:$E$1017,$B300,'[1]Daily Log'!$F$18:$F$1017),0)","v":0},{"$f":"IFERROR($E300*SUMIF('[1]Daily Log'!$H$18:$H$1017,$B300,'[1]Daily Log'!$I$18:$I$1017),0)","v":0}," ",{"$f":"IFERROR($E300*SUMIF('[1]Daily Log'!$N$18:$N$1017,$B300,'[1]Daily Log'!$O$18:$O$1017),0)","v":0},{"$f":"IFERROR($E300*SUMIF('[1]Daily Log'!$Q$18:$Q$1017,$B300,'[1]Daily Log'!$R$18:$R$1017),0)","v":0},{"$f":"IFERROR($E300*SUMIF('[1]Daily Log'!$T$18:$T$1017,$B300,'[1]Daily Log'!$U$18:$U$1017),0)","v":0},{"$f":"IFERROR($E300*SUMIF('[1]Daily Log'!$W$18:$W$1017,$B300,'[1]Daily Log'!$X$18:$X$1017),0)","v":0},{"$f":"IFERROR($E300*SUMIF('[1]Daily Log'!$Z$18:$Z$1017,$B300,'[1]Daily Log'!$AA$18:$AA$1017),0)","v":0},{"$f":"IFERROR($E300*SUMIF('[1]Daily Log'!$AC$18:$AC$1017,$B300,'[1]Daily Log'!$AD$18:$AD$1017),0)","v":0},{"$f":"IFERROR($E300*SUMIF('[1]Daily Log'!$AF$18:$AF$1017,$B300,'[1]Daily Log'!$AG$18:$AG$1017),0)","v":0},{"$f":"IFERROR($E300*SUMIF('[1]Daily Log'!$AI$18:$AI$1017,$B300,'[1]Daily Log'!$AJ$18:$AJ$1017),0)","v":0},{"$f":"IFERROR($E300*SUMIF('[1]Daily Log'!$AL$18:$AL$1017,$B300,'[1]Daily Log'!$AM$18:$AM$1017),0)","v":0},{"$f":"IFERROR($E300*SUMIF('[1]Daily Log'!$AO$18:$AO$1017,$B300,'[1]Daily Log'!$AP$18:$AP$1017),0)","v":0},{"$f":"IFERROR($E300*SUMIF('[1]Daily Log'!$AR$18:$AR$1017,$B300,'[1]Daily Log'!$AS$18:$AS$1017),0)","v":0},{"$f":"IFERROR($E300*SUMIF('[1]Daily Log'!$AU$18:$AU$1017,$B300,'[1]Daily Log'!$AV$18:$AV$1017),0)","v":0},{"$f":"IFERROR($E300*SUMIF('[1]Daily Log'!$AX$18:$AX$1017,$B300,'[1]Daily Log'!$AY$18:$AY$1017),0)","v":0},{"$f":"IFERROR($E300*SUMIF('[1]Daily Log'!$BA$18:$BA$1017,$B300,'[1]Daily Log'!$BB$18:$BB$1017),0)","v":0},{"$f":"IFERROR($E300*SUMIF('[1]Daily Log'!$BD$18:$BD$1017,$B300,'[1]Daily Log'!$BE$18:$BE$1017),0)","v":0},{"$f":"IFERROR($E300*SUMIF('[1]Daily Log'!$BG$18:$BG$1017,$B300,'[1]Daily Log'!$BH$18:$BH$1017),0)","v":0},{"$f":"IFERROR($E300*SUMIF('[1]Daily Log'!$BJ$18:$BJ$1017,$B300,'[1]Daily Log'!$BK$18:$BK$1017),0)","v":0},{"$f":"IFERROR($E300*SUMIF('[1]Daily Log'!$BM$18:$BM$1017,$B300,'[1]Daily Log'!$BN$18:$BN$1017),0)","v":0},{"$f":"IFERROR($E300*SUMIF('[1]Daily Log'!$BP$18:$BP$1017,$B300,'[1]Daily Log'!$BQ$18:$BQ$1017),0)","v":0},{"$f":"IFERROR($E300*SUMIF('[1]Daily Log'!$BS$18:$BS$1017,$B300,'[1]Daily Log'!$BT$18:$BT$1017),0)","v":0},{"$f":"IFERROR($E300*SUMIF('[1]Daily Log'!$BV$18:$BV$1017,$B300,'[1]Daily Log'!$BW$18:$BW$1017),0)","v":0},{"$f":"IFERROR($E300*SUMIF('[1]Daily Log'!$BY$18:$BY$1017,$B300,'[1]Daily Log'!$BZ$18:$BZ$1017),0)","v":0},{"$f":"IFERROR($E300*SUMIF('[1]Daily Log'!$CB$18:$CB$1017,$B300,'[1]Daily Log'!$CC$18:$CC$1017),0)","v":0},{"$f":"IFERROR($E300*SUMIF('[1]Daily Log'!$CE$18:$CE$1017,$B300,'[1]Daily Log'!$CF$18:$CF$1017),0)","v":0},{"$f":"IFERROR($E300*SUMIF('[1]Daily Log'!$CH$18:$CH$1017,$B300,'[1]Daily Log'!$CI$18:$CI$1017),0)","v":0},{"$f":"IFERROR($E300*SUMIF('[1]Daily Log'!$CK$18:$CK$1017,$B300,'[1]Daily Log'!$CL$18:$CL$1017),0)","v":0},{"$f":"IFERROR($E300*SUMIF('[1]Daily Log'!$CN$18:$CN$1017,$B300,'[1]Daily Log'!$CO$18:$CO$1017),0)","v":0}]
[null,"AD01 M : REGULAR",null,null,null,0,{"$f":"IFERROR($E301*SUMIF('[1]Daily Log'!$B$18:$B$1017,$B301,'[1]Daily Log'!$C$18:$C$1017),0)","v":0},{"$f":"IFERROR($E301*SUMIF('[1]Daily Log'!$E$18:$E$1017,$B301,'[1]Daily Log'!$F$18:$F$1017),0)","v":0},{"$f":"IFERROR($E301*SUMIF('[1]Daily Log'!$H$18:$H$1017,$B301,'[1]Daily Log'!$I$18:$I$1017),0)","v":0}," ",{"$f":"IFERROR($E301*SUMIF('[1]Daily Log'!$N$18:$N$1017,$B301,'[1]Daily Log'!$O$18:$O$1017),0)","v":0},{"$f":"IFERROR($E301*SUMIF('[1]Daily Log'!$Q$18:$Q$1017,$B301,'[1]Daily Log'!$R$18:$R$1017),0)","v":0},{"$f":"IFERROR($E301*SUMIF('[1]Daily Log'!$T$18:$T$1017,$B301,'[1]Daily Log'!$U$18:$U$1017),0)","v":0},{"$f":"IFERROR($E301*SUMIF('[1]Daily Log'!$W$18:$W$1017,$B301,'[1]Daily Log'!$X$18:$X$1017),0)","v":0},{"$f":"IFERROR($E301*SUMIF('[1]Daily Log'!$Z$18:$Z$1017,$B301,'[1]Daily Log'!$AA$18:$AA$1017),0)","v":0},{"$f":"IFERROR($E301*SUMIF('[1]Daily Log'!$AC$18:$AC$1017,$B301,'[1]Daily Log'!$AD$18:$AD$1017),0)","v":0},{"$f":"IFERROR($E301*SUMIF('[1]Daily Log'!$AF$18:$AF$1017,$B301,'[1]Daily Log'!$AG$18:$AG$1017),0)","v":0},{"$f":"IFERROR($E301*SUMIF('[1]Daily Log'!$AI$18:$AI$1017,$B301,'[1]Daily Log'!$AJ$18:$AJ$1017),0)","v":0},{"$f":"IFERROR($E301*SUMIF('[1]Daily Log'!$AL$18:$AL$1017,$B301,'[1]Daily Log'!$AM$18:$AM$1017),0)","v":0},{"$f":"IFERROR($E301*SUMIF('[1]Daily Log'!$AO$18:$AO$1017,$B301,'[1]Daily Log'!$AP$18:$AP$1017),0)","v":0},{"$f":"IFERROR($E301*SUMIF('[1]Daily Log'!$AR$18:$AR$1017,$B301,'[1]Daily Log'!$AS$18:$AS$1017),0)","v":0},{"$f":"IFERROR($E301*SUMIF('[1]Daily Log'!$AU$18:$AU$1017,$B301,'[1]Daily Log'!$AV$18:$AV$1017),0)","v":0},{"$f":"IFERROR($E301*SUMIF('[1]Daily Log'!$AX$18:$AX$1017,$B301,'[1]Daily Log'!$AY$18:$AY$1017),0)","v":0},{"$f":"IFERROR($E301*SUMIF('[1]Daily Log'!$BA$18:$BA$1017,$B301,'[1]Daily Log'!$BB$18:$BB$1017),0)","v":0},{"$f":"IFERROR($E301*SUMIF('[1]Daily Log'!$BD$18:$BD$1017,$B301,'[1]Daily Log'!$BE$18:$BE$1017),0)","v":0},{"$f":"IFERROR($E301*SUMIF('[1]Daily Log'!$BG$18:$BG$1017,$B301,'[1]Daily Log'!$BH$18:$BH$1017),0)","v":0},{"$f":"IFERROR($E301*SUMIF('[1]Daily Log'!$BJ$18:$BJ$1017,$B301,'[1]Daily Log'!$BK$18:$BK$1017),0)","v":0},{"$f":"IFERROR($E301*SUMIF('[1]Daily Log'!$BM$18:$BM$1017,$B301,'[1]Daily Log'!$BN$18:$BN$1017),0)","v":0},{"$f":"IFERROR($E301*SUMIF('[1]Daily Log'!$BP$18:$BP$1017,$B301,'[1]Daily Log'!$BQ$18:$BQ$1017),0)","v":0},{"$f":"IFERROR($E301*SUMIF('[1]Daily Log'!$BS$18:$BS$1017,$B301,'[1]Daily Log'!$BT$18:$BT$1017),0)","v":0},{"$f":"IFERROR($E301*SUMIF('[1]Daily Log'!$BV$18:$BV$1017,$B301,'[1]Daily Log'!$BW$18:$BW$1017),0)","v":0},{"$f":"IFERROR($E301*SUMIF('[1]Daily Log'!$BY$18:$BY$1017,$B301,'[1]Daily Log'!$BZ$18:$BZ$1017),0)","v":0},{"$f":"IFERROR($E301*SUMIF('[1]Daily Log'!$CB$18:$CB$1017,$B301,'[1]Daily Log'!$CC$18:$CC$1017),0)","v":0},{"$f":"IFERROR($E301*SUMIF('[1]Daily Log'!$CE$18:$CE$1017,$B301,'[1]Daily Log'!$CF$18:$CF$1017),0)","v":0},{"$f":"IFERROR($E301*SUMIF('[1]Daily Log'!$CH$18:$CH$1017,$B301,'[1]Daily Log'!$CI$18:$CI$1017),0)","v":0},{"$f":"IFERROR($E301*SUMIF('[1]Daily Log'!$CK$18:$CK$1017,$B301,'[1]Daily Log'!$CL$18:$CL$1017),0)","v":0},{"$f":"IFERROR($E301*SUMIF('[1]Daily Log'!$CN$18:$CN$1017,$B301,'[1]Daily Log'!$CO$18:$CO$1017),0)","v":0}]
[null,"AD02 M : MEMBER",null,null,null,0,{"$f":"IFERROR($E302*SUMIF('[1]Daily Log'!$B$18:$B$1017,$B302,'[1]Daily Log'!$C$18:$C$1017),0)","v":0},{"$f":"IFERROR($E302*SUMIF('[1]Daily Log'!$E$18:$E$1017,$B302,'[1]Daily Log'!$F$18:$F$1017),0)","v":0},{"$f":"IFERROR($E302*SUMIF('[1]Daily Log'!$H$18:$H$1017,$B302,'[1]Daily Log'!$I$18:$I$1017),0)","v":0}," ",{"$f":"IFERROR($E302*SUMIF('[1]Daily Log'!$N$18:$N$1017,$B302,'[1]Daily Log'!$O$18:$O$1017),0)","v":0},{"$f":"IFERROR($E302*SUMIF('[1]Daily Log'!$Q$18:$Q$1017,$B302,'[1]Daily Log'!$R$18:$R$1017),0)","v":0},{"$f":"IFERROR($E302*SUMIF('[1]Daily Log'!$T$18:$T$1017,$B302,'[1]Daily Log'!$U$18:$U$1017),0)","v":0},{"$f":"IFERROR($E302*SUMIF('[1]Daily Log'!$W$18:$W$1017,$B302,'[1]Daily Log'!$X$18:$X$1017),0)","v":0},{"$f":"IFERROR($E302*SUMIF('[1]Daily Log'!$Z$18:$Z$1017,$B302,'[1]Daily Log'!$AA$18:$AA$1017),0)","v":0},{"$f":"IFERROR($E302*SUMIF('[1]Daily Log'!$AC$18:$AC$1017,$B302,'[1]Daily Log'!$AD$18:$AD$1017),0)","v":0},{"$f":"IFERROR($E302*SUMIF('[1]Daily Log'!$AF$18:$AF$1017,$B302,'[1]Daily Log'!$AG$18:$AG$1017),0)","v":0},{"$f":"IFERROR($E302*SUMIF('[1]Daily Log'!$AI$18:$AI$1017,$B302,'[1]Daily Log'!$AJ$18:$AJ$1017),0)","v":0},{"$f":"IFERROR($E302*SUMIF('[1]Daily Log'!$AL$18:$AL$1017,$B302,'[1]Daily Log'!$AM$18:$AM$1017),0)","v":0},{"$f":"IFERROR($E302*SUMIF('[1]Daily Log'!$AO$18:$AO$1017,$B302,'[1]Daily Log'!$AP$18:$AP$1017),0)","v":0},{"$f":"IFERROR($E302*SUMIF('[1]Daily Log'!$AR$18:$AR$1017,$B302,'[1]Daily Log'!$AS$18:$AS$1017),0)","v":0},{"$f":"IFERROR($E302*SUMIF('[1]Daily Log'!$AU$18:$AU$1017,$B302,'[1]Daily Log'!$AV$18:$AV$1017),0)","v":0},{"$f":"IFERROR($E302*SUMIF('[1]Daily Log'!$AX$18:$AX$1017,$B302,'[1]Daily Log'!$AY$18:$AY$1017),0)","v":0},{"$f":"IFERROR($E302*SUMIF('[1]Daily Log'!$BA$18:$BA$1017,$B302,'[1]Daily Log'!$BB$18:$BB$1017),0)","v":0},{"$f":"IFERROR($E302*SUMIF('[1]Daily Log'!$BD$18:$BD$1017,$B302,'[1]Daily Log'!$BE$18:$BE$1017),0)","v":0},{"$f":"IFERROR($E302*SUMIF('[1]Daily Log'!$BG$18:$BG$1017,$B302,'[1]Daily Log'!$BH$18:$BH$1017),0)","v":0},{"$f":"IFERROR($E302*SUMIF('[1]Daily Log'!$BJ$18:$BJ$1017,$B302,'[1]Daily Log'!$BK$18:$BK$1017),0)","v":0},{"$f":"IFERROR($E302*SUMIF('[1]Daily Log'!$BM$18:$BM$1017,$B302,'[1]Daily Log'!$BN$18:$BN$1017),0)","v":0},{"$f":"IFERROR($E302*SUMIF('[1]Daily Log'!$BP$18:$BP$1017,$B302,'[1]Daily Log'!$BQ$18:$BQ$1017),0)","v":0},{"$f":"IFERROR($E302*SUMIF('[1]Daily Log'!$BS$18:$BS$1017,$B302,'[1]Daily Log'!$BT$18:$BT$1017),0)","v":0},{"$f":"IFERROR($E302*SUMIF('[1]Daily Log'!$BV$18:$BV$1017,$B302,'[1]Daily Log'!$BW$18:$BW$1017),0)","v":0},{"$f":"IFERROR($E302*SUMIF('[1]Daily Log'!$BY$18:$BY$1017,$B302,'[1]Daily Log'!$BZ$18:$BZ$1017),0)","v":0},{"$f":"IFERROR($E302*SUMIF('[1]Daily Log'!$CB$18:$CB$1017,$B302,'[1]Daily Log'!$CC$18:$CC$1017),0)","v":0},{"$f":"IFERROR($E302*SUMIF('[1]Daily Log'!$CE$18:$CE$1017,$B302,'[1]Daily Log'!$CF$18:$CF$1017),0)","v":0},{"$f":"IFERROR($E302*SUMIF('[1]Daily Log'!$CH$18:$CH$1017,$B302,'[1]Daily Log'!$CI$18:$CI$1017),0)","v":0},{"$f":"IFERROR($E302*SUMIF('[1]Daily Log'!$CK$18:$CK$1017,$B302,'[1]Daily Log'!$CL$18:$CL$1017),0)","v":0},{"$f":"IFERROR($E302*SUMIF('[1]Daily Log'!$CN$18:$CN$1017,$B302,'[1]Daily Log'!$CO$18:$CO$1017),0)","v":0}]
[null,"AD03 M : MEMBER 30%",null,null,null,0,{"$f":"IFERROR($E303*SUMIF('[1]Daily Log'!$B$18:$B$1017,$B303,'[1]Daily Log'!$C$18:$C$1017),0)","v":0},{"$f":"IFERROR($E303*SUMIF('[1]Daily Log'!$E$18:$E$1017,$B303,'[1]Daily Log'!$F$18:$F$1017),0)","v":0},{"$f":"IFERROR($E303*SUMIF('[1]Daily Log'!$H$18:$H$1017,$B303,'[1]Daily Log'!$I$18:$I$1017),0)","v":0}," ",{"$f":"IFERROR($E303*SUMIF('[1]Daily Log'!$N$18:$N$1017,$B303,'[1]Daily Log'!$O$18:$O$1017),0)","v":0},{"$f":"IFERROR($E303*SUMIF('[1]Daily Log'!$Q$18:$Q$1017,$B303,'[1]Daily Log'!$R$18:$R$1017),0)","v":0},{"$f":"IFERROR($E303*SUMIF('[1]Daily Log'!$T$18:$T$1017,$B303,'[1]Daily Log'!$U$18:$U$1017),0)","v":0},{"$f":"IFERROR($E303*SUMIF('[1]Daily Log'!$W$18:$W$1017,$B303,'[1]Daily Log'!$X$18:$X$1017),0)","v":0},{"$f":"IFERROR($E303*SUMIF('[1]Daily Log'!$Z$18:$Z$1017,$B303,'[1]Daily Log'!$AA$18:$AA$1017),0)","v":0},{"$f":"IFERROR($E303*SUMIF('[1]Daily Log'!$AC$18:$AC$1017,$B303,'[1]Daily Log'!$AD$18:$AD$1017),0)","v":0},{"$f":"IFERROR($E303*SUMIF('[1]Daily Log'!$AF$18:$AF$1017,$B303,'[1]Daily Log'!$AG$18:$AG$1017),0)","v":0},{"$f":"IFERROR($E303*SUMIF('[1]Daily Log'!$AI$18:$AI$1017,$B303,'[1]Daily Log'!$AJ$18:$AJ$1017),0)","v":0},{"$f":"IFERROR($E303*SUMIF('[1]Daily Log'!$AL$18:$AL$1017,$B303,'[1]Daily Log'!$AM$18:$AM$1017),0)","v":0},{"$f":"IFERROR($E303*SUMIF('[1]Daily Log'!$AO$18:$AO$1017,$B303,'[1]Daily Log'!$AP$18:$AP$1017),0)","v":0},{"$f":"IFERROR($E303*SUMIF('[1]Daily Log'!$AR$18:$AR$1017,$B303,'[1]Daily Log'!$AS$18:$AS$1017),0)","v":0},{"$f":"IFERROR($E303*SUMIF('[1]Daily Log'!$AU$18:$AU$1017,$B303,'[1]Daily Log'!$AV$18:$AV$1017),0)","v":0},{"$f":"IFERROR($E303*SUMIF('[1]Daily Log'!$AX$18:$AX$1017,$B303,'[1]Daily Log'!$AY$18:$AY$1017),0)","v":0},{"$f":"IFERROR($E303*SUMIF('[1]Daily Log'!$BA$18:$BA$1017,$B303,'[1]Daily Log'!$BB$18:$BB$1017),0)","v":0},{"$f":"IFERROR($E303*SUMIF('[1]Daily Log'!$BD$18:$BD$1017,$B303,'[1]Daily Log'!$BE$18:$BE$1017),0)","v":0},{"$f":"IFERROR($E303*SUMIF('[1]Daily Log'!$BG$18:$BG$1017,$B303,'[1]Daily Log'!$BH$18:$BH$1017),0)","v":0},{"$f":"IFERROR($E303*SUMIF('[1]Daily Log'!$BJ$18:$BJ$1017,$B303,'[1]Daily Log'!$BK$18:$BK$1017),0)","v":0},{"$f":"IFERROR($E303*SUMIF('[1]Daily Log'!$BM$18:$BM$1017,$B303,'[1]Daily Log'!$BN$18:$BN$1017),0)","v":0},{"$f":"IFERROR($E303*SUMIF('[1]Daily Log'!$BP$18:$BP$1017,$B303,'[1]Daily Log'!$BQ$18:$BQ$1017),0)","v":0},{"$f":"IFERROR($E303*SUMIF('[1]Daily Log'!$BS$18:$BS$1017,$B303,'[1]Daily Log'!$BT$18:$BT$1017),0)","v":0},{"$f":"IFERROR($E303*SUMIF('[1]Daily Log'!$BV$18:$BV$1017,$B303,'[1]Daily Log'!$BW$18:$BW$1017),0)","v":0},{"$f":"IFERROR($E303*SUMIF('[1]Daily Log'!$BY$18:$BY$1017,$B303,'[1]Daily Log'!$BZ$18:$BZ$1017),0)","v":0},{"$f":"IFERROR($E303*SUMIF('[1]Daily Log'!$CB$18:$CB$1017,$B303,'[1]Daily Log'!$CC$18:$CC$1017),0)","v":0},{"$f":"IFERROR($E303*SUMIF('[1]Daily Log'!$CE$18:$CE$1017,$B303,'[1]Daily Log'!$CF$18:$CF$1017),0)","v":0},{"$f":"IFERROR($E303*SUMIF('[1]Daily Log'!$CH$18:$CH$1017,$B303,'[1]Daily Log'!$CI$18:$CI$1017),0)","v":0},{"$f":"IFERROR($E303*SUMIF('[1]Daily Log'!$CK$18:$CK$1017,$B303,'[1]Daily Log'!$CL$18:$CL$1017),0)","v":0},{"$f":"IFERROR($E303*SUMIF('[1]Daily Log'!$CN$18:$CN$1017,$B303,'[1]Daily Log'!$CO$18:$CO$1017),0)","v":0}]
[null,"AD05 M : LADIES",null,null,null,0,{"$f":"IFERROR($E304*SUMIF('[1]Daily Log'!$B$18:$B$1017,$B304,'[1]Daily Log'!$C$18:$C$1017),0)","v":0},{"$f":"IFERROR($E304*SUMIF('[1]Daily Log'!$E$18:$E$1017,$B304,'[1]Daily Log'!$F$18:$F$1017),0)","v":0},{"$f":"IFERROR($E304*SUMIF('[1]Daily Log'!$H$18:$H$1017,$B304,'[1]Daily Log'!$I$18:$I$1017),0)","v":0}," ",{"$f":"IFERROR($E304*SUMIF('[1]Daily Log'!$N$18:$N$1017,$B304,'[1]Daily Log'!$O$18:$O$1017),0)","v":0},{"$f":"IFERROR($E304*SUMIF('[1]Daily Log'!$Q$18:$Q$1017,$B304,'[1]Daily Log'!$R$18:$R$1017),0)","v":0},{"$f":"IFERROR($E304*SUMIF('[1]Daily Log'!$T$18:$T$1017,$B304,'[1]Daily Log'!$U$18:$U$1017),0)","v":0},{"$f":"IFERROR($E304*SUMIF('[1]Daily Log'!$W$18:$W$1017,$B304,'[1]Daily Log'!$X$18:$X$1017),0)","v":0},{"$f":"IFERROR($E304*SUMIF('[1]Daily Log'!$Z$18:$Z$1017,$B304,'[1]Daily Log'!$AA$18:$AA$1017),0)","v":0},{"$f":"IFERROR($E304*SUMIF('[1]Daily Log'!$AC$18:$AC$1017,$B304,'[1]Daily Log'!$AD$18:$AD$1017),0)","v":0},{"$f":"IFERROR($E304*SUMIF('[1]Daily Log'!$AF$18:$AF$1017,$B304,'[1]Daily Log'!$AG$18:$AG$1017),0)","v":0},{"$f":"IFERROR($E304*SUMIF('[1]Daily Log'!$AI$18:$AI$1017,$B304,'[1]Daily Log'!$AJ$18:$AJ$1017),0)","v":0},{"$f":"IFERROR($E304*SUMIF('[1]Daily Log'!$AL$18:$AL$1017,$B304,'[1]Daily Log'!$AM$18:$AM$1017),0)","v":0},{"$f":"IFERROR($E304*SUMIF('[1]Daily Log'!$AO$18:$AO$1017,$B304,'[1]Daily Log'!$AP$18:$AP$1017),0)","v":0},{"$f":"IFERROR($E304*SUMIF('[1]Daily Log'!$AR$18:$AR$1017,$B304,'[1]Daily Log'!$AS$18:$AS$1017),0)","v":0},{"$f":"IFERROR($E304*SUMIF('[1]Daily Log'!$AU$18:$AU$1017,$B304,'[1]Daily Log'!$AV$18:$AV$1017),0)","v":0},{"$f":"IFERROR($E304*SUMIF('[1]Daily Log'!$AX$18:$AX$1017,$B304,'[1]Daily Log'!$AY$18:$AY$1017),0)","v":0},{"$f":"IFERROR($E304*SUMIF('[1]Daily Log'!$BA$18:$BA$1017,$B304,'[1]Daily Log'!$BB$18:$BB$1017),0)","v":0},{"$f":"IFERROR($E304*SUMIF('[1]Daily Log'!$BD$18:$BD$1017,$B304,'[1]Daily Log'!$BE$18:$BE$1017),0)","v":0},{"$f":"IFERROR($E304*SUMIF('[1]Daily Log'!$BG$18:$BG$1017,$B304,'[1]Daily Log'!$BH$18:$BH$1017),0)","v":0},{"$f":"IFERROR($E304*SUMIF('[1]Daily Log'!$BJ$18:$BJ$1017,$B304,'[1]Daily Log'!$BK$18:$BK$1017),0)","v":0},{"$f":"IFERROR($E304*SUMIF('[1]Daily Log'!$BM$18:$BM$1017,$B304,'[1]Daily Log'!$BN$18:$BN$1017),0)","v":0},{"$f":"IFERROR($E304*SUMIF('[1]Daily Log'!$BP$18:$BP$1017,$B304,'[1]Daily Log'!$BQ$18:$BQ$1017),0)","v":0},{"$f":"IFERROR($E304*SUMIF('[1]Daily Log'!$BS$18:$BS$1017,$B304,'[1]Daily Log'!$BT$18:$BT$1017),0)","v":0},{"$f":"IFERROR($E304*SUMIF('[1]Daily Log'!$BV$18:$BV$1017,$B304,'[1]Daily Log'!$BW$18:$BW$1017),0)","v":0},{"$f":"IFERROR($E304*SUMIF('[1]Daily Log'!$BY$18:$BY$1017,$B304,'[1]Daily Log'!$BZ$18:$BZ$1017),0)","v":0},{"$f":"IFERROR($E304*SUMIF('[1]Daily Log'!$CB$18:$CB$1017,$B304,'[1]Daily Log'!$CC$18:$CC$1017),0)","v":0},{"$f":"IFERROR($E304*SUMIF('[1]Daily Log'!$CE$18:$CE$1017,$B304,'[1]Daily Log'!$CF$18:$CF$1017),0)","v":0},{"$f":"IFERROR($E304*SUMIF('[1]Daily Log'!$CH$18:$CH$1017,$B304,'[1]Daily Log'!$CI$18:$CI$1017),0)","v":0},{"$f":"IFERROR($E304*SUMIF('[1]Daily Log'!$CK$18:$CK$1017,$B304,'[1]Daily Log'!$CL$18:$CL$1017),0)","v":0},{"$f":"IFERROR($E304*SUMIF('[1]Daily Log'!$CN$18:$CN$1017,$B304,'[1]Daily Log'!$CO$18:$CO$1017),0)","v":0}]
[null,"AD06 M : CHILDREN",null,null,null,0,{"$f":"IFERROR($E305*SUMIF('[1]Daily Log'!$B$18:$B$1017,$B305,'[1]Daily Log'!$C$18:$C$1017),0)","v":0},{"$f":"IFERROR($E305*SUMIF('[1]Daily Log'!$E$18:$E$1017,$B305,'[1]Daily Log'!$F$18:$F$1017),0)","v":0},{"$f":"IFERROR($E305*SUMIF('[1]Daily Log'!$H$18:$H$1017,$B305,'[1]Daily Log'!$I$18:$I$1017),0)","v":0}," ",{"$f":"IFERROR($E305*SUMIF('[1]Daily Log'!$N$18:$N$1017,$B305,'[1]Daily Log'!$O$18:$O$1017),0)","v":0},{"$f":"IFERROR($E305*SUMIF('[1]Daily Log'!$Q$18:$Q$1017,$B305,'[1]Daily Log'!$R$18:$R$1017),0)","v":0},{"$f":"IFERROR($E305*SUMIF('[1]Daily Log'!$T$18:$T$1017,$B305,'[1]Daily Log'!$U$18:$U$1017),0)","v":0},{"$f":"IFERROR($E305*SUMIF('[1]Daily Log'!$W$18:$W$1017,$B305,'[1]Daily Log'!$X$18:$X$1017),0)","v":0},{"$f":"IFERROR($E305*SUMIF('[1]Daily Log'!$Z$18:$Z$1017,$B305,'[1]Daily Log'!$AA$18:$AA$1017),0)","v":0},{"$f":"IFERROR($E305*SUMIF('[1]Daily Log'!$AC$18:$AC$1017,$B305,'[1]Daily Log'!$AD$18:$AD$1017),0)","v":0},{"$f":"IFERROR($E305*SUMIF('[1]Daily Log'!$AF$18:$AF$1017,$B305,'[1]Daily Log'!$AG$18:$AG$1017),0)","v":0},{"$f":"IFERROR($E305*SUMIF('[1]Daily Log'!$AI$18:$AI$1017,$B305,'[1]Daily Log'!$AJ$18:$AJ$1017),0)","v":0},{"$f":"IFERROR($E305*SUMIF('[1]Daily Log'!$AL$18:$AL$1017,$B305,'[1]Daily Log'!$AM$18:$AM$1017),0)","v":0},{"$f":"IFERROR($E305*SUMIF('[1]Daily Log'!$AO$18:$AO$1017,$B305,'[1]Daily Log'!$AP$18:$AP$1017),0)","v":0},{"$f":"IFERROR($E305*SUMIF('[1]Daily Log'!$AR$18:$AR$1017,$B305,'[1]Daily Log'!$AS$18:$AS$1017),0)","v":0},{"$f":"IFERROR($E305*SUMIF('[1]Daily Log'!$AU$18:$AU$1017,$B305,'[1]Daily Log'!$AV$18:$AV$1017),0)","v":0},{"$f":"IFERROR($E305*SUMIF('[1]Daily Log'!$AX$18:$AX$1017,$B305,'[1]Daily Log'!$AY$18:$AY$1017),0)","v":0},{"$f":"IFERROR($E305*SUMIF('[1]Daily Log'!$BA$18:$BA$1017,$B305,'[1]Daily Log'!$BB$18:$BB$1017),0)","v":0},{"$f":"IFERROR($E305*SUMIF('[1]Daily Log'!$BD$18:$BD$1017,$B305,'[1]Daily Log'!$BE$18:$BE$1017),0)","v":0},{"$f":"IFERROR($E305*SUMIF('[1]Daily Log'!$BG$18:$BG$1017,$B305,'[1]Daily Log'!$BH$18:$BH$1017),0)","v":0},{"$f":"IFERROR($E305*SUMIF('[1]Daily Log'!$BJ$18:$BJ$1017,$B305,'[1]Daily Log'!$BK$18:$BK$1017),0)","v":0},{"$f":"IFERROR($E305*SUMIF('[1]Daily Log'!$BM$18:$BM$1017,$B305,'[1]Daily Log'!$BN$18:$BN$1017),0)","v":0},{"$f":"IFERROR($E305*SUMIF('[1]Daily Log'!$BP$18:$BP$1017,$B305,'[1]Daily Log'!$BQ$18:$BQ$1017),0)","v":0},{"$f":"IFERROR($E305*SUMIF('[1]Daily Log'!$BS$18:$BS$1017,$B305,'[1]Daily Log'!$BT$18:$BT$1017),0)","v":0},{"$f":"IFERROR($E305*SUMIF('[1]Daily Log'!$BV$18:$BV$1017,$B305,'[1]Daily Log'!$BW$18:$BW$1017),0)","v":0},{"$f":"IFERROR($E305*SUMIF('[1]Daily Log'!$BY$18:$BY$1017,$B305,'[1]Daily Log'!$BZ$18:$BZ$1017),0)","v":0},{"$f":"IFERROR($E305*SUMIF('[1]Daily Log'!$CB$18:$CB$1017,$B305,'[1]Daily Log'!$CC$18:$CC$1017),0)","v":0},{"$f":"IFERROR($E305*SUMIF('[1]Daily Log'!$CE$18:$CE$1017,$B305,'[1]Daily Log'!$CF$18:$CF$1017),0)","v":0},{"$f":"IFERROR($E305*SUMIF('[1]Daily Log'!$CH$18:$CH$1017,$B305,'[1]Daily Log'!$CI$18:$CI$1017),0)","v":0},{"$f":"IFERROR($E305*SUMIF('[1]Daily Log'!$CK$18:$CK$1017,$B305,'[1]Daily Log'!$CL$18:$CL$1017),0)","v":0},{"$f":"IFERROR($E305*SUMIF('[1]Daily Log'!$CN$18:$CN$1017,$B305,'[1]Daily Log'!$CO$18:$CO$1017),0)","v":0}]
[null,"AD07 M : MEMBER B'DAY",null,null,null,0,{"$f":"IFERROR($E306*SUMIF('[1]Daily Log'!$B$18:$B$1017,$B306,'[1]Daily Log'!$C$18:$C$1017),0)","v":0},{"$f":"IFERROR($E306*SUMIF('[1]Daily Log'!$E$18:$E$1017,$B306,'[1]Daily Log'!$F$18:$F$1017),0)","v":0},{"$f":"IFERROR($E306*SUMIF('[1]Daily Log'!$H$18:$H$1017,$B306,'[1]Daily Log'!$I$18:$I$1017),0)","v":0}," ",{"$f":"IFERROR($E306*SUMIF('[1]Daily Log'!$N$18:$N$1017,$B306,'[1]Daily Log'!$O$18:$O$1017),0)","v":0},{"$f":"IFERROR($E306*SUMIF('[1]Daily Log'!$Q$18:$Q$1017,$B306,'[1]Daily Log'!$R$18:$R$1017),0)","v":0},{"$f":"IFERROR($E306*SUMIF('[1]Daily Log'!$T$18:$T$1017,$B306,'[1]Daily Log'!$U$18:$U$1017),0)","v":0},{"$f":"IFERROR($E306*SUMIF('[1]Daily Log'!$W$18:$W$1017,$B306,'[1]Daily Log'!$X$18:$X$1017),0)","v":0},{"$f":"IFERROR($E306*SUMIF('[1]Daily Log'!$Z$18:$Z$1017,$B306,'[1]Daily Log'!$AA$18:$AA$1017),0)","v":0},{"$f":"IFERROR($E306*SUMIF('[1]Daily Log'!$AC$18:$AC$1017,$B306,'[1]Daily Log'!$AD$18:$AD$1017),0)","v":0},{"$f":"IFERROR($E306*SUMIF('[1]Daily Log'!$AF$18:$AF$1017,$B306,'[1]Daily Log'!$AG$18:$AG$1017),0)","v":0},{"$f":"IFERROR($E306*SUMIF('[1]Daily Log'!$AI$18:$AI$1017,$B306,'[1]Daily Log'!$AJ$18:$AJ$1017),0)","v":0},{"$f":"IFERROR($E306*SUMIF('[1]Daily Log'!$AL$18:$AL$1017,$B306,'[1]Daily Log'!$AM$18:$AM$1017),0)","v":0},{"$f":"IFERROR($E306*SUMIF('[1]Daily Log'!$AO$18:$AO$1017,$B306,'[1]Daily Log'!$AP$18:$AP$1017),0)","v":0},{"$f":"IFERROR($E306*SUMIF('[1]Daily Log'!$AR$18:$AR$1017,$B306,'[1]Daily Log'!$AS$18:$AS$1017),0)","v":0},{"$f":"IFERROR($E306*SUMIF('[1]Daily Log'!$AU$18:$AU$1017,$B306,'[1]Daily Log'!$AV$18:$AV$1017),0)","v":0},{"$f":"IFERROR($E306*SUMIF('[1]Daily Log'!$AX$18:$AX$1017,$B306,'[1]Daily Log'!$AY$18:$AY$1017),0)","v":0},{"$f":"IFERROR($E306*SUMIF('[1]Daily Log'!$BA$18:$BA$1017,$B306,'[1]Daily Log'!$BB$18:$BB$1017),0)","v":0},{"$f":"IFERROR($E306*SUMIF('[1]Daily Log'!$BD$18:$BD$1017,$B306,'[1]Daily Log'!$BE$18:$BE$1017),0)","v":0},{"$f":"IFERROR($E306*SUMIF('[1]Daily Log'!$BG$18:$BG$1017,$B306,'[1]Daily Log'!$BH$18:$BH$1017),0)","v":0},{"$f":"IFERROR($E306*SUMIF('[1]Daily Log'!$BJ$18:$BJ$1017,$B306,'[1]Daily Log'!$BK$18:$BK$1017),0)","v":0},{"$f":"IFERROR($E306*SUMIF('[1]Daily Log'!$BM$18:$BM$1017,$B306,'[1]Daily Log'!$BN$18:$BN$1017),0)","v":0},{"$f":"IFERROR($E306*SUMIF('[1]Daily Log'!$BP$18:$BP$1017,$B306,'[1]Daily Log'!$BQ$18:$BQ$1017),0)","v":0},{"$f":"IFERROR($E306*SUMIF('[1]Daily Log'!$BS$18:$BS$1017,$B306,'[1]Daily Log'!$BT$18:$BT$1017),0)","v":0},{"$f":"IFERROR($E306*SUMIF('[1]Daily Log'!$BV$18:$BV$1017,$B306,'[1]Daily Log'!$BW$18:$BW$1017),0)","v":0},{"$f":"IFERROR($E306*SUMIF('[1]Daily Log'!$BY$18:$BY$1017,$B306,'[1]Daily Log'!$BZ$18:$BZ$1017),0)","v":0},{"$f":"IFERROR($E306*SUMIF('[1]Daily Log'!$CB$18:$CB$1017,$B306,'[1]Daily Log'!$CC$18:$CC$1017),0)","v":0},{"$f":"IFERROR($E306*SUMIF('[1]Daily Log'!$CE$18:$CE$1017,$B306,'[1]Daily Log'!$CF$18:$CF$1017),0)","v":0},{"$f":"IFERROR($E306*SUMIF('[1]Daily Log'!$CH$18:$CH$1017,$B306,'[1]Daily Log'!$CI$18:$CI$1017),0)","v":0},{"$f":"IFERROR($E306*SUMIF('[1]Daily Log'!$CK$18:$CK$1017,$B306,'[1]Daily Log'!$CL$18:$CL$1017),0)","v":0},{"$f":"IFERROR($E306*SUMIF('[1]Daily Log'!$CN$18:$CN$1017,$B306,'[1]Daily Log'!$CO$18:$CO$1017),0)","v":0}]
[null,"AD08 M : STAFF B'DAY",null,null,null,0,{"$f":"IFERROR($E307*SUMIF('[1]Daily Log'!$B$18:$B$1017,$B307,'[1]Daily Log'!$C$18:$C$1017),0)","v":0},{"$f":"IFERROR($E307*SUMIF('[1]Daily Log'!$E$18:$E$1017,$B307,'[1]Daily Log'!$F$18:$F$1017),0)","v":0},{"$f":"IFERROR($E307*SUMIF('[1]Daily Log'!$H$18:$H$1017,$B307,'[1]Daily Log'!$I$18:$I$1017),0)","v":0}," ",{"$f":"IFERROR($E307*SUMIF('[1]Daily Log'!$N$18:$N$1017,$B307,'[1]Daily Log'!$O$18:$O$1017),0)","v":0},{"$f":"IFERROR($E307*SUMIF('[1]Daily Log'!$Q$18:$Q$1017,$B307,'[1]Daily Log'!$R$18:$R$1017),0)","v":0},{"$f":"IFERROR($E307*SUMIF('[1]Daily Log'!$T$18:$T$1017,$B307,'[1]Daily Log'!$U$18:$U$1017),0)","v":0},{"$f":"IFERROR($E307*SUMIF('[1]Daily Log'!$W$18:$W$1017,$B307,'[1]Daily Log'!$X$18:$X$1017),0)","v":0},{"$f":"IFERROR($E307*SUMIF('[1]Daily Log'!$Z$18:$Z$1017,$B307,'[1]Daily Log'!$AA$18:$AA$1017),0)","v":0},{"$f":"IFERROR($E307*SUMIF('[1]Daily Log'!$AC$18:$AC$1017,$B307,'[1]Daily Log'!$AD$18:$AD$1017),0)","v":0},{"$f":"IFERROR($E307*SUMIF('[1]Daily Log'!$AF$18:$AF$1017,$B307,'[1]Daily Log'!$AG$18:$AG$1017),0)","v":0},{"$f":"IFERROR($E307*SUMIF('[1]Daily Log'!$AI$18:$AI$1017,$B307,'[1]Daily Log'!$AJ$18:$AJ$1017),0)","v":0},{"$f":"IFERROR($E307*SUMIF('[1]Daily Log'!$AL$18:$AL$1017,$B307,'[1]Daily Log'!$AM$18:$AM$1017),0)","v":0},{"$f":"IFERROR($E307*SUMIF('[1]Daily Log'!$AO$18:$AO$1017,$B307,'[1]Daily Log'!$AP$18:$AP$1017),0)","v":0},{"$f":"IFERROR($E307*SUMIF('[1]Daily Log'!$AR$18:$AR$1017,$B307,'[1]Daily Log'!$AS$18:$AS$1017),0)","v":0},{"$f":"IFERROR($E307*SUMIF('[1]Daily Log'!$AU$18:$AU$1017,$B307,'[1]Daily Log'!$AV$18:$AV$1017),0)","v":0},{"$f":"IFERROR($E307*SUMIF('[1]Daily Log'!$AX$18:$AX$1017,$B307,'[1]Daily Log'!$AY$18:$AY$1017),0)","v":0},{"$f":"IFERROR($E307*SUMIF('[1]Daily Log'!$BA$18:$BA$1017,$B307,'[1]Daily Log'!$BB$18:$BB$1017),0)","v":0},{"$f":"IFERROR($E307*SUMIF('[1]Daily Log'!$BD$18:$BD$1017,$B307,'[1]Daily Log'!$BE$18:$BE$1017),0)","v":0},{"$f":"IFERROR($E307*SUMIF('[1]Daily Log'!$BG$18:$BG$1017,$B307,'[1]Daily Log'!$BH$18:$BH$1017),0)","v":0},{"$f":"IFERROR($E307*SUMIF('[1]Daily Log'!$BJ$18:$BJ$1017,$B307,'[1]Daily Log'!$BK$18:$BK$1017),0)","v":0},{"$f":"IFERROR($E307*SUMIF('[1]Daily Log'!$BM$18:$BM$1017,$B307,'[1]Daily Log'!$BN$18:$BN$1017),0)","v":0},{"$f":"IFERROR($E307*SUMIF('[1]Daily Log'!$BP$18:$BP$1017,$B307,'[1]Daily Log'!$BQ$18:$BQ$1017),0)","v":0},{"$f":"IFERROR($E307*SUMIF('[1]Daily Log'!$BS$18:$BS$1017,$B307,'[1]Daily Log'!$BT$18:$BT$1017),0)","v":0},{"$f":"IFERROR($E307*SUMIF('[1]Daily Log'!$BV$18:$BV$1017,$B307,'[1]Daily Log'!$BW$18:$BW$1017),0)","v":0},{"$f":"IFERROR($E307*SUMIF('[1]Daily Log'!$BY$18:$BY$1017,$B307,'[1]Daily Log'!$BZ$18:$BZ$1017),0)","v":0},{"$f":"IFERROR($E307*SUMIF('[1]Daily Log'!$CB$18:$CB$1017,$B307,'[1]Daily Log'!$CC$18:$CC$1017),0)","v":0},{"$f":"IFERROR($E307*SUMIF('[1]Daily Log'!$CE$18:$CE$1017,$B307,'[1]Daily Log'!$CF$18:$CF$1017),0)","v":0},{"$f":"IFERROR($E307*SUMIF('[1]Daily Log'!$CH$18:$CH$1017,$B307,'[1]Daily Log'!$CI$18:$CI$1017),0)","v":0},{"$f":"IFERROR($E307*SUMIF('[1]Daily Log'!$CK$18:$CK$1017,$B307,'[1]Daily Log'!$CL$18:$CL$1017),0)","v":0},{"$f":"IFERROR($E307*SUMIF('[1]Daily Log'!$CN$18:$CN$1017,$B307,'[1]Daily Log'!$CO$18:$CO$1017),0)","v":0}]
[null,"AD09 M : FREEHEAD (B)",null,null,null,0,{"$f":"IFERROR($E308*SUMIF('[1]Daily Log'!$B$18:$B$1017,$B308,'[1]Daily Log'!$C$18:$C$1017),0)","v":0},{"$f":"IFERROR($E308*SUMIF('[1]Daily Log'!$E$18:$E$1017,$B308,'[1]Daily Log'!$F$18:$F$1017),0)","v":0},{"$f":"IFERROR($E308*SUMIF('[1]Daily Log'!$H$18:$H$1017,$B308,'[1]Daily Log'!$I$18:$I$1017),0)","v":0}," ",{"$f":"IFERROR($E308*SUMIF('[1]Daily Log'!$N$18:$N$1017,$B308,'[1]Daily Log'!$O$18:$O$1017),0)","v":0},{"$f":"IFERROR($E308*SUMIF('[1]Daily Log'!$Q$18:$Q$1017,$B308,'[1]Daily Log'!$R$18:$R$1017),0)","v":0},{"$f":"IFERROR($E308*SUMIF('[1]Daily Log'!$T$18:$T$1017,$B308,'[1]Daily Log'!$U$18:$U$1017),0)","v":0},{"$f":"IFERROR($E308*SUMIF('[1]Daily Log'!$W$18:$W$1017,$B308,'[1]Daily Log'!$X$18:$X$1017),0)","v":0},{"$f":"IFERROR($E308*SUMIF('[1]Daily Log'!$Z$18:$Z$1017,$B308,'[1]Daily Log'!$AA$18:$AA$1017),0)","v":0},{"$f":"IFERROR($E308*SUMIF('[1]Daily Log'!$AC$18:$AC$1017,$B308,'[1]Daily Log'!$AD$18:$AD$1017),0)","v":0},{"$f":"IFERROR($E308*SUMIF('[1]Daily Log'!$AF$18:$AF$1017,$B308,'[1]Daily Log'!$AG$18:$AG$1017),0)","v":0},{"$f":"IFERROR($E308*SUMIF('[1]Daily Log'!$AI$18:$AI$1017,$B308,'[1]Daily Log'!$AJ$18:$AJ$1017),0)","v":0},{"$f":"IFERROR($E308*SUMIF('[1]Daily Log'!$AL$18:$AL$1017,$B308,'[1]Daily Log'!$AM$18:$AM$1017),0)","v":0},{"$f":"IFERROR($E308*SUMIF('[1]Daily Log'!$AO$18:$AO$1017,$B308,'[1]Daily Log'!$AP$18:$AP$1017),0)","v":0},{"$f":"IFERROR($E308*SUMIF('[1]Daily Log'!$AR$18:$AR$1017,$B308,'[1]Daily Log'!$AS$18:$AS$1017),0)","v":0},{"$f":"IFERROR($E308*SUMIF('[1]Daily Log'!$AU$18:$AU$1017,$B308,'[1]Daily Log'!$AV$18:$AV$1017),0)","v":0},{"$f":"IFERROR($E308*SUMIF('[1]Daily Log'!$AX$18:$AX$1017,$B308,'[1]Daily Log'!$AY$18:$AY$1017),0)","v":0},{"$f":"IFERROR($E308*SUMIF('[1]Daily Log'!$BA$18:$BA$1017,$B308,'[1]Daily Log'!$BB$18:$BB$1017),0)","v":0},{"$f":"IFERROR($E308*SUMIF('[1]Daily Log'!$BD$18:$BD$1017,$B308,'[1]Daily Log'!$BE$18:$BE$1017),0)","v":0},{"$f":"IFERROR($E308*SUMIF('[1]Daily Log'!$BG$18:$BG$1017,$B308,'[1]Daily Log'!$BH$18:$BH$1017),0)","v":0},{"$f":"IFERROR($E308*SUMIF('[1]Daily Log'!$BJ$18:$BJ$1017,$B308,'[1]Daily Log'!$BK$18:$BK$1017),0)","v":0},{"$f":"IFERROR($E308*SUMIF('[1]Daily Log'!$BM$18:$BM$1017,$B308,'[1]Daily Log'!$BN$18:$BN$1017),0)","v":0},{"$f":"IFERROR($E308*SUMIF('[1]Daily Log'!$BP$18:$BP$1017,$B308,'[1]Daily Log'!$BQ$18:$BQ$1017),0)","v":0},{"$f":"IFERROR($E308*SUMIF('[1]Daily Log'!$BS$18:$BS$1017,$B308,'[1]Daily Log'!$BT$18:$BT$1017),0)","v":0},{"$f":"IFERROR($E308*SUMIF('[1]Daily Log'!$BV$18:$BV$1017,$B308,'[1]Daily Log'!$BW$18:$BW$1017),0)","v":0},{"$f":"IFERROR($E308*SUMIF('[1]Daily Log'!$BY$18:$BY$1017,$B308,'[1]Daily Log'!$BZ$18:$BZ$1017),0)","v":0},{"$f":"IFERROR($E308*SUMIF('[1]Daily Log'!$CB$18:$CB$1017,$B308,'[1]Daily Log'!$CC$18:$CC$1017),0)","v":0},{"$f":"IFERROR($E308*SUMIF('[1]Daily Log'!$CE$18:$CE$1017,$B308,'[1]Daily Log'!$CF$18:$CF$1017),0)","v":0},{"$f":"IFERROR($E308*SUMIF('[1]Daily Log'!$CH$18:$CH$1017,$B308,'[1]Daily Log'!$CI$18:$CI$1017),0)","v":0},{"$f":"IFERROR($E308*SUMIF('[1]Daily Log'!$CK$18:$CK$1017,$B308,'[1]Daily Log'!$CL$18:$CL$1017),0)","v":0},{"$f":"IFERROR($E308*SUMIF('[1]Daily Log'!$CN$18:$CN$1017,$B308,'[1]Daily Log'!$CO$18:$CO$1017),0)","v":0}]
[null,"AD14 M : EVENT",null,null,null,0,{"$f":"IFERROR($E309*SUMIF('[1]Daily Log'!$B$18:$B$1017,$B309,'[1]Daily Log'!$C$18:$C$1017),0)","v":0},{"$f":"IFERROR($E309*SUMIF('[1]Daily Log'!$E$18:$E$1017,$B309,'[1]Daily Log'!$F$18:$F$1017),0)","v":0},{"$f":"IFERROR($E309*SUMIF('[1]Daily Log'!$H$18:$H$1017,$B309,'[1]Daily Log'!$I$18:$I$1017),0)","v":0}," ",{"$f":"IFERROR($E309*SUMIF('[1]Daily Log'!$N$18:$N$1017,$B309,'[1]Daily Log'!$O$18:$O$1017),0)","v":0},{"$f":"IFERROR($E309*SUMIF('[1]Daily Log'!$Q$18:$Q$1017,$B309,'[1]Daily Log'!$R$18:$R$1017),0)","v":0},{"$f":"IFERROR($E309*SUMIF('[1]Daily Log'!$T$18:$T$1017,$B309,'[1]Daily Log'!$U$18:$U$1017),0)","v":0},{"$f":"IFERROR($E309*SUMIF('[1]Daily Log'!$W$18:$W$1017,$B309,'[1]Daily Log'!$X$18:$X$1017),0)","v":0},{"$f":"IFERROR($E309*SUMIF('[1]Daily Log'!$Z$18:$Z$1017,$B309,'[1]Daily Log'!$AA$18:$AA$1017),0)","v":0},{"$f":"IFERROR($E309*SUMIF('[1]Daily Log'!$AC$18:$AC$1017,$B309,'[1]Daily Log'!$AD$18:$AD$1017),0)","v":0},{"$f":"IFERROR($E309*SUMIF('[1]Daily Log'!$AF$18:$AF$1017,$B309,'[1]Daily Log'!$AG$18:$AG$1017),0)","v":0},{"$f":"IFERROR($E309*SUMIF('[1]Daily Log'!$AI$18:$AI$1017,$B309,'[1]Daily Log'!$AJ$18:$AJ$1017),0)","v":0},{"$f":"IFERROR($E309*SUMIF('[1]Daily Log'!$AL$18:$AL$1017,$B309,'[1]Daily Log'!$AM$18:$AM$1017),0)","v":0},{"$f":"IFERROR($E309*SUMIF('[1]Daily Log'!$AO$18:$AO$1017,$B309,'[1]Daily Log'!$AP$18:$AP$1017),0)","v":0},{"$f":"IFERROR($E309*SUMIF('[1]Daily Log'!$AR$18:$AR$1017,$B309,'[1]Daily Log'!$AS$18:$AS$1017),0)","v":0},{"$f":"IFERROR($E309*SUMIF('[1]Daily Log'!$AU$18:$AU$1017,$B309,'[1]Daily Log'!$AV$18:$AV$1017),0)","v":0},{"$f":"IFERROR($E309*SUMIF('[1]Daily Log'!$AX$18:$AX$1017,$B309,'[1]Daily Log'!$AY$18:$AY$1017),0)","v":0},{"$f":"IFERROR($E309*SUMIF('[1]Daily Log'!$BA$18:$BA$1017,$B309,'[1]Daily Log'!$BB$18:$BB$1017),0)","v":0},{"$f":"IFERROR($E309*SUMIF('[1]Daily Log'!$BD$18:$BD$1017,$B309,'[1]Daily Log'!$BE$18:$BE$1017),0)","v":0},{"$f":"IFERROR($E309*SUMIF('[1]Daily Log'!$BG$18:$BG$1017,$B309,'[1]Daily Log'!$BH$18:$BH$1017),0)","v":0},{"$f":"IFERROR($E309*SUMIF('[1]Daily Log'!$BJ$18:$BJ$1017,$B309,'[1]Daily Log'!$BK$18:$BK$1017),0)","v":0},{"$f":"IFERROR($E309*SUMIF('[1]Daily Log'!$BM$18:$BM$1017,$B309,'[1]Daily Log'!$BN$18:$BN$1017),0)","v":0},{"$f":"IFERROR($E309*SUMIF('[1]Daily Log'!$BP$18:$BP$1017,$B309,'[1]Daily Log'!$BQ$18:$BQ$1017),0)","v":0},{"$f":"IFERROR($E309*SUMIF('[1]Daily Log'!$BS$18:$BS$1017,$B309,'[1]Daily Log'!$BT$18:$BT$1017),0)","v":0},{"$f":"IFERROR($E309*SUMIF('[1]Daily Log'!$BV$18:$BV$1017,$B309,'[1]Daily Log'!$BW$18:$BW$1017),0)","v":0},{"$f":"IFERROR($E309*SUMIF('[1]Daily Log'!$BY$18:$BY$1017,$B309,'[1]Daily Log'!$BZ$18:$BZ$1017),0)","v":0},{"$f":"IFERROR($E309*SUMIF('[1]Daily Log'!$CB$18:$CB$1017,$B309,'[1]Daily Log'!$CC$18:$CC$1017),0)","v":0},{"$f":"IFERROR($E309*SUMIF('[1]Daily Log'!$CE$18:$CE$1017,$B309,'[1]Daily Log'!$CF$18:$CF$1017),0)","v":0},{"$f":"IFERROR($E309*SUMIF('[1]Daily Log'!$CH$18:$CH$1017,$B309,'[1]Daily Log'!$CI$18:$CI$1017),0)","v":0},{"$f":"IFERROR($E309*SUMIF('[1]Daily Log'!$CK$18:$CK$1017,$B309,'[1]Daily Log'!$CL$18:$CL$1017),0)","v":0},{"$f":"IFERROR($E309*SUMIF('[1]Daily Log'!$CN$18:$CN$1017,$B309,'[1]Daily Log'!$CO$18:$CO$1017),0)","v":0}]
[null,"DE01 SET 990",null,null,null,0,{"$f":"IFERROR($E310*SUMIF('[1]Daily Log'!$B$18:$B$1017,$B310,'[1]Daily Log'!$C$18:$C$1017),0)","v":0},{"$f":"IFERROR($E310*SUMIF('[1]Daily Log'!$E$18:$E$1017,$B310,'[1]Daily Log'!$F$18:$F$1017),0)","v":0},{"$f":"IFERROR($E310*SUMIF('[1]Daily Log'!$H$18:$H$1017,$B310,'[1]Daily Log'!$I$18:$I$1017),0)","v":0}," ",{"$f":"IFERROR($E310*SUMIF('[1]Daily Log'!$N$18:$N$1017,$B310,'[1]Daily Log'!$O$18:$O$1017),0)","v":0},{"$f":"IFERROR($E310*SUMIF('[1]Daily Log'!$Q$18:$Q$1017,$B310,'[1]Daily Log'!$R$18:$R$1017),0)","v":0},{"$f":"IFERROR($E310*SUMIF('[1]Daily Log'!$T$18:$T$1017,$B310,'[1]Daily Log'!$U$18:$U$1017),0)","v":0},{"$f":"IFERROR($E310*SUMIF('[1]Daily Log'!$W$18:$W$1017,$B310,'[1]Daily Log'!$X$18:$X$1017),0)","v":0},{"$f":"IFERROR($E310*SUMIF('[1]Daily Log'!$Z$18:$Z$1017,$B310,'[1]Daily Log'!$AA$18:$AA$1017),0)","v":0},{"$f":"IFERROR($E310*SUMIF('[1]Daily Log'!$AC$18:$AC$1017,$B310,'[1]Daily Log'!$AD$18:$AD$1017),0)","v":0},{"$f":"IFERROR($E310*SUMIF('[1]Daily Log'!$AF$18:$AF$1017,$B310,'[1]Daily Log'!$AG$18:$AG$1017),0)","v":0},{"$f":"IFERROR($E310*SUMIF('[1]Daily Log'!$AI$18:$AI$1017,$B310,'[1]Daily Log'!$AJ$18:$AJ$1017),0)","v":0},{"$f":"IFERROR($E310*SUMIF('[1]Daily Log'!$AL$18:$AL$1017,$B310,'[1]Daily Log'!$AM$18:$AM$1017),0)","v":0},{"$f":"IFERROR($E310*SUMIF('[1]Daily Log'!$AO$18:$AO$1017,$B310,'[1]Daily Log'!$AP$18:$AP$1017),0)","v":0},{"$f":"IFERROR($E310*SUMIF('[1]Daily Log'!$AR$18:$AR$1017,$B310,'[1]Daily Log'!$AS$18:$AS$1017),0)","v":0},{"$f":"IFERROR($E310*SUMIF('[1]Daily Log'!$AU$18:$AU$1017,$B310,'[1]Daily Log'!$AV$18:$AV$1017),0)","v":0},{"$f":"IFERROR($E310*SUMIF('[1]Daily Log'!$AX$18:$AX$1017,$B310,'[1]Daily Log'!$AY$18:$AY$1017),0)","v":0},{"$f":"IFERROR($E310*SUMIF('[1]Daily Log'!$BA$18:$BA$1017,$B310,'[1]Daily Log'!$BB$18:$BB$1017),0)","v":0},{"$f":"IFERROR($E310*SUMIF('[1]Daily Log'!$BD$18:$BD$1017,$B310,'[1]Daily Log'!$BE$18:$BE$1017),0)","v":0},{"$f":"IFERROR($E310*SUMIF('[1]Daily Log'!$BG$18:$BG$1017,$B310,'[1]Daily Log'!$BH$18:$BH$1017),0)","v":0},{"$f":"IFERROR($E310*SUMIF('[1]Daily Log'!$BJ$18:$BJ$1017,$B310,'[1]Daily Log'!$BK$18:$BK$1017),0)","v":0},{"$f":"IFERROR($E310*SUMIF('[1]Daily Log'!$BM$18:$BM$1017,$B310,'[1]Daily Log'!$BN$18:$BN$1017),0)","v":0},{"$f":"IFERROR($E310*SUMIF('[1]Daily Log'!$BP$18:$BP$1017,$B310,'[1]Daily Log'!$BQ$18:$BQ$1017),0)","v":0},{"$f":"IFERROR($E310*SUMIF('[1]Daily Log'!$BS$18:$BS$1017,$B310,'[1]Daily Log'!$BT$18:$BT$1017),0)","v":0},{"$f":"IFERROR($E310*SUMIF('[1]Daily Log'!$BV$18:$BV$1017,$B310,'[1]Daily Log'!$BW$18:$BW$1017),0)","v":0},{"$f":"IFERROR($E310*SUMIF('[1]Daily Log'!$BY$18:$BY$1017,$B310,'[1]Daily Log'!$BZ$18:$BZ$1017),0)","v":0},{"$f":"IFERROR($E310*SUMIF('[1]Daily Log'!$CB$18:$CB$1017,$B310,'[1]Daily Log'!$CC$18:$CC$1017),0)","v":0},{"$f":"IFERROR($E310*SUMIF('[1]Daily Log'!$CE$18:$CE$1017,$B310,'[1]Daily Log'!$CF$18:$CF$1017),0)","v":0},{"$f":"IFERROR($E310*SUMIF('[1]Daily Log'!$CH$18:$CH$1017,$B310,'[1]Daily Log'!$CI$18:$CI$1017),0)","v":0},{"$f":"IFERROR($E310*SUMIF('[1]Daily Log'!$CK$18:$CK$1017,$B310,'[1]Daily Log'!$CL$18:$CL$1017),0)","v":0},{"$f":"IFERROR($E310*SUMIF('[1]Daily Log'!$CN$18:$CN$1017,$B310,'[1]Daily Log'!$CO$18:$CO$1017),0)","v":0}]
[null,"DE02 SET 1390",null,null,null,0,{"$f":"IFERROR($E311*SUMIF('[1]Daily Log'!$B$18:$B$1017,$B311,'[1]Daily Log'!$C$18:$C$1017),0)","v":0},{"$f":"IFERROR($E311*SUMIF('[1]Daily Log'!$E$18:$E$1017,$B311,'[1]Daily Log'!$F$18:$F$1017),0)","v":0},{"$f":"IFERROR($E311*SUMIF('[1]Daily Log'!$H$18:$H$1017,$B311,'[1]Daily Log'!$I$18:$I$1017),0)","v":0}," ",{"$f":"IFERROR($E311*SUMIF('[1]Daily Log'!$N$18:$N$1017,$B311,'[1]Daily Log'!$O$18:$O$1017),0)","v":0},{"$f":"IFERROR($E311*SUMIF('[1]Daily Log'!$Q$18:$Q$1017,$B311,'[1]Daily Log'!$R$18:$R$1017),0)","v":0},{"$f":"IFERROR($E311*SUMIF('[1]Daily Log'!$T$18:$T$1017,$B311,'[1]Daily Log'!$U$18:$U$1017),0)","v":0},{"$f":"IFERROR($E311*SUMIF('[1]Daily Log'!$W$18:$W$1017,$B311,'[1]Daily Log'!$X$18:$X$1017),0)","v":0},{"$f":"IFERROR($E311*SUMIF('[1]Daily Log'!$Z$18:$Z$1017,$B311,'[1]Daily Log'!$AA$18:$AA$1017),0)","v":0},{"$f":"IFERROR($E311*SUMIF('[1]Daily Log'!$AC$18:$AC$1017,$B311,'[1]Daily Log'!$AD$18:$AD$1017),0)","v":0},{"$f":"IFERROR($E311*SUMIF('[1]Daily Log'!$AF$18:$AF$1017,$B311,'[1]Daily Log'!$AG$18:$AG$1017),0)","v":0},{"$f":"IFERROR($E311*SUMIF('[1]Daily Log'!$AI$18:$AI$1017,$B311,'[1]Daily Log'!$AJ$18:$AJ$1017),0)","v":0},{"$f":"IFERROR($E311*SUMIF('[1]Daily Log'!$AL$18:$AL$1017,$B311,'[1]Daily Log'!$AM$18:$AM$1017),0)","v":0},{"$f":"IFERROR($E311*SUMIF('[1]Daily Log'!$AO$18:$AO$1017,$B311,'[1]Daily Log'!$AP$18:$AP$1017),0)","v":0},{"$f":"IFERROR($E311*SUMIF('[1]Daily Log'!$AR$18:$AR$1017,$B311,'[1]Daily Log'!$AS$18:$AS$1017),0)","v":0},{"$f":"IFERROR($E311*SUMIF('[1]Daily Log'!$AU$18:$AU$1017,$B311,'[1]Daily Log'!$AV$18:$AV$1017),0)","v":0},{"$f":"IFERROR($E311*SUMIF('[1]Daily Log'!$AX$18:$AX$1017,$B311,'[1]Daily Log'!$AY$18:$AY$1017),0)","v":0},{"$f":"IFERROR($E311*SUMIF('[1]Daily Log'!$BA$18:$BA$1017,$B311,'[1]Daily Log'!$BB$18:$BB$1017),0)","v":0},{"$f":"IFERROR($E311*SUMIF('[1]Daily Log'!$BD$18:$BD$1017,$B311,'[1]Daily Log'!$BE$18:$BE$1017),0)","v":0},{"$f":"IFERROR($E311*SUMIF('[1]Daily Log'!$BG$18:$BG$1017,$B311,'[1]Daily Log'!$BH$18:$BH$1017),0)","v":0},{"$f":"IFERROR($E311*SUMIF('[1]Daily Log'!$BJ$18:$BJ$1017,$B311,'[1]Daily Log'!$BK$18:$BK$1017),0)","v":0},{"$f":"IFERROR($E311*SUMIF('[1]Daily Log'!$BM$18:$BM$1017,$B311,'[1]Daily Log'!$BN$18:$BN$1017),0)","v":0},{"$f":"IFERROR($E311*SUMIF('[1]Daily Log'!$BP$18:$BP$1017,$B311,'[1]Daily Log'!$BQ$18:$BQ$1017),0)","v":0},{"$f":"IFERROR($E311*SUMIF('[1]Daily Log'!$BS$18:$BS$1017,$B311,'[1]Daily Log'!$BT$18:$BT$1017),0)","v":0},{"$f":"IFERROR($E311*SUMIF('[1]Daily Log'!$BV$18:$BV$1017,$B311,'[1]Daily Log'!$BW$18:$BW$1017),0)","v":0},{"$f":"IFERROR($E311*SUMIF('[1]Daily Log'!$BY$18:$BY$1017,$B311,'[1]Daily Log'!$BZ$18:$BZ$1017),0)","v":0},{"$f":"IFERROR($E311*SUMIF('[1]Daily Log'!$CB$18:$CB$1017,$B311,'[1]Daily Log'!$CC$18:$CC$1017),0)","v":0},{"$f":"IFERROR($E311*SUMIF('[1]Daily Log'!$CE$18:$CE$1017,$B311,'[1]Daily Log'!$CF$18:$CF$1017),0)","v":0},{"$f":"IFERROR($E311*SUMIF('[1]Daily Log'!$CH$18:$CH$1017,$B311,'[1]Daily Log'!$CI$18:$CI$1017),0)","v":0},{"$f":"IFERROR($E311*SUMIF('[1]Daily Log'!$CK$18:$CK$1017,$B311,'[1]Daily Log'!$CL$18:$CL$1017),0)","v":0},{"$f":"IFERROR($E311*SUMIF('[1]Daily Log'!$CN$18:$CN$1017,$B311,'[1]Daily Log'!$CO$18:$CO$1017),0)","v":0}]
[null,"DF17 CHRGE SAUCE",null,null,null,0,{"$f":"IFERROR($E312*SUMIF('[1]Daily Log'!$B$18:$B$1017,$B312,'[1]Daily Log'!$C$18:$C$1017),0)","v":0},{"$f":"IFERROR($E312*SUMIF('[1]Daily Log'!$E$18:$E$1017,$B312,'[1]Daily Log'!$F$18:$F$1017),0)","v":0},{"$f":"IFERROR($E312*SUMIF('[1]Daily Log'!$H$18:$H$1017,$B312,'[1]Daily Log'!$I$18:$I$1017),0)","v":0}," ",{"$f":"IFERROR($E312*SUMIF('[1]Daily Log'!$N$18:$N$1017,$B312,'[1]Daily Log'!$O$18:$O$1017),0)","v":0},{"$f":"IFERROR($E312*SUMIF('[1]Daily Log'!$Q$18:$Q$1017,$B312,'[1]Daily Log'!$R$18:$R$1017),0)","v":0},{"$f":"IFERROR($E312*SUMIF('[1]Daily Log'!$T$18:$T$1017,$B312,'[1]Daily Log'!$U$18:$U$1017),0)","v":0},{"$f":"IFERROR($E312*SUMIF('[1]Daily Log'!$W$18:$W$1017,$B312,'[1]Daily Log'!$X$18:$X$1017),0)","v":0},{"$f":"IFERROR($E312*SUMIF('[1]Daily Log'!$Z$18:$Z$1017,$B312,'[1]Daily Log'!$AA$18:$AA$1017),0)","v":0},{"$f":"IFERROR($E312*SUMIF('[1]Daily Log'!$AC$18:$AC$1017,$B312,'[1]Daily Log'!$AD$18:$AD$1017),0)","v":0},{"$f":"IFERROR($E312*SUMIF('[1]Daily Log'!$AF$18:$AF$1017,$B312,'[1]Daily Log'!$AG$18:$AG$1017),0)","v":0},{"$f":"IFERROR($E312*SUMIF('[1]Daily Log'!$AI$18:$AI$1017,$B312,'[1]Daily Log'!$AJ$18:$AJ$1017),0)","v":0},{"$f":"IFERROR($E312*SUMIF('[1]Daily Log'!$AL$18:$AL$1017,$B312,'[1]Daily Log'!$AM$18:$AM$1017),0)","v":0},{"$f":"IFERROR($E312*SUMIF('[1]Daily Log'!$AO$18:$AO$1017,$B312,'[1]Daily Log'!$AP$18:$AP$1017),0)","v":0},{"$f":"IFERROR($E312*SUMIF('[1]Daily Log'!$AR$18:$AR$1017,$B312,'[1]Daily Log'!$AS$18:$AS$1017),0)","v":0},{"$f":"IFERROR($E312*SUMIF('[1]Daily Log'!$AU$18:$AU$1017,$B312,'[1]Daily Log'!$AV$18:$AV$1017),0)","v":0},{"$f":"IFERROR($E312*SUMIF('[1]Daily Log'!$AX$18:$AX$1017,$B312,'[1]Daily Log'!$AY$18:$AY$1017),0)","v":0},{"$f":"IFERROR($E312*SUMIF('[1]Daily Log'!$BA$18:$BA$1017,$B312,'[1]Daily Log'!$BB$18:$BB$1017),0)","v":0},{"$f":"IFERROR($E312*SUMIF('[1]Daily Log'!$BD$18:$BD$1017,$B312,'[1]Daily Log'!$BE$18:$BE$1017),0)","v":0},{"$f":"IFERROR($E312*SUMIF('[1]Daily Log'!$BG$18:$BG$1017,$B312,'[1]Daily Log'!$BH$18:$BH$1017),0)","v":0},{"$f":"IFERROR($E312*SUMIF('[1]Daily Log'!$BJ$18:$BJ$1017,$B312,'[1]Daily Log'!$BK$18:$BK$1017),0)","v":0},{"$f":"IFERROR($E312*SUMIF('[1]Daily Log'!$BM$18:$BM$1017,$B312,'[1]Daily Log'!$BN$18:$BN$1017),0)","v":0},{"$f":"IFERROR($E312*SUMIF('[1]Daily Log'!$BP$18:$BP$1017,$B312,'[1]Daily Log'!$BQ$18:$BQ$1017),0)","v":0},{"$f":"IFERROR($E312*SUMIF('[1]Daily Log'!$BS$18:$BS$1017,$B312,'[1]Daily Log'!$BT$18:$BT$1017),0)","v":0},{"$f":"IFERROR($E312*SUMIF('[1]Daily Log'!$BV$18:$BV$1017,$B312,'[1]Daily Log'!$BW$18:$BW$1017),0)","v":0},{"$f":"IFERROR($E312*SUMIF('[1]Daily Log'!$BY$18:$BY$1017,$B312,'[1]Daily Log'!$BZ$18:$BZ$1017),0)","v":0},{"$f":"IFERROR($E312*SUMIF('[1]Daily Log'!$CB$18:$CB$1017,$B312,'[1]Daily Log'!$CC$18:$CC$1017),0)","v":0},{"$f":"IFERROR($E312*SUMIF('[1]Daily Log'!$CE$18:$CE$1017,$B312,'[1]Daily Log'!$CF$18:$CF$1017),0)","v":0},{"$f":"IFERROR($E312*SUMIF('[1]Daily Log'!$CH$18:$CH$1017,$B312,'[1]Daily Log'!$CI$18:$CI$1017),0)","v":0},{"$f":"IFERROR($E312*SUMIF('[1]Daily Log'!$CK$18:$CK$1017,$B312,'[1]Daily Log'!$CL$18:$CL$1017),0)","v":0},{"$f":"IFERROR($E312*SUMIF('[1]Daily Log'!$CN$18:$CN$1017,$B312,'[1]Daily Log'!$CO$18:$CO$1017),0)","v":0}]
[null,"EA01 TIDBITS",null,"TIDBITS",1,0,{"$f":"IFERROR($E313*SUMIF('[1]Daily Log'!$B$18:$B$1017,$B313,'[1]Daily Log'!$C$18:$C$1017),0)","v":0},{"$f":"IFERROR($E313*SUMIF('[1]Daily Log'!$E$18:$E$1017,$B313,'[1]Daily Log'!$F$18:$F$1017),0)","v":0},{"$f":"IFERROR($E313*SUMIF('[1]Daily Log'!$H$18:$H$1017,$B313,'[1]Daily Log'!$I$18:$I$1017),0)","v":0}," ",{"$f":"IFERROR($E313*SUMIF('[1]Daily Log'!$N$18:$N$1017,$B313,'[1]Daily Log'!$O$18:$O$1017),0)","v":0},{"$f":"IFERROR($E313*SUMIF('[1]Daily Log'!$Q$18:$Q$1017,$B313,'[1]Daily Log'!$R$18:$R$1017),0)","v":0},{"$f":"IFERROR($E313*SUMIF('[1]Daily Log'!$T$18:$T$1017,$B313,'[1]Daily Log'!$U$18:$U$1017),0)","v":0},{"$f":"IFERROR($E313*SUMIF('[1]Daily Log'!$W$18:$W$1017,$B313,'[1]Daily Log'!$X$18:$X$1017),0)","v":0},{"$f":"IFERROR($E313*SUMIF('[1]Daily Log'!$Z$18:$Z$1017,$B313,'[1]Daily Log'!$AA$18:$AA$1017),0)","v":0},{"$f":"IFERROR($E313*SUMIF('[1]Daily Log'!$AC$18:$AC$1017,$B313,'[1]Daily Log'!$AD$18:$AD$1017),0)","v":0},{"$f":"IFERROR($E313*SUMIF('[1]Daily Log'!$AF$18:$AF$1017,$B313,'[1]Daily Log'!$AG$18:$AG$1017),0)","v":0},{"$f":"IFERROR($E313*SUMIF('[1]Daily Log'!$AI$18:$AI$1017,$B313,'[1]Daily Log'!$AJ$18:$AJ$1017),0)","v":0},{"$f":"IFERROR($E313*SUMIF('[1]Daily Log'!$AL$18:$AL$1017,$B313,'[1]Daily Log'!$AM$18:$AM$1017),0)","v":0},{"$f":"IFERROR($E313*SUMIF('[1]Daily Log'!$AO$18:$AO$1017,$B313,'[1]Daily Log'!$AP$18:$AP$1017),0)","v":0},{"$f":"IFERROR($E313*SUMIF('[1]Daily Log'!$AR$18:$AR$1017,$B313,'[1]Daily Log'!$AS$18:$AS$1017),0)","v":0},{"$f":"IFERROR($E313*SUMIF('[1]Daily Log'!$AU$18:$AU$1017,$B313,'[1]Daily Log'!$AV$18:$AV$1017),0)","v":0},{"$f":"IFERROR($E313*SUMIF('[1]Daily Log'!$AX$18:$AX$1017,$B313,'[1]Daily Log'!$AY$18:$AY$1017),0)","v":0},{"$f":"IFERROR($E313*SUMIF('[1]Daily Log'!$BA$18:$BA$1017,$B313,'[1]Daily Log'!$BB$18:$BB$1017),0)","v":0},{"$f":"IFERROR($E313*SUMIF('[1]Daily Log'!$BD$18:$BD$1017,$B313,'[1]Daily Log'!$BE$18:$BE$1017),0)","v":0},{"$f":"IFERROR($E313*SUMIF('[1]Daily Log'!$BG$18:$BG$1017,$B313,'[1]Daily Log'!$BH$18:$BH$1017),0)","v":0},{"$f":"IFERROR($E313*SUMIF('[1]Daily Log'!$BJ$18:$BJ$1017,$B313,'[1]Daily Log'!$BK$18:$BK$1017),0)","v":0},{"$f":"IFERROR($E313*SUMIF('[1]Daily Log'!$BM$18:$BM$1017,$B313,'[1]Daily Log'!$BN$18:$BN$1017),0)","v":0},{"$f":"IFERROR($E313*SUMIF('[1]Daily Log'!$BP$18:$BP$1017,$B313,'[1]Daily Log'!$BQ$18:$BQ$1017),0)","v":0},{"$f":"IFERROR($E313*SUMIF('[1]Daily Log'!$BS$18:$BS$1017,$B313,'[1]Daily Log'!$BT$18:$BT$1017),0)","v":0},{"$f":"IFERROR($E313*SUMIF('[1]Daily Log'!$BV$18:$BV$1017,$B313,'[1]Daily Log'!$BW$18:$BW$1017),0)","v":0},{"$f":"IFERROR($E313*SUMIF('[1]Daily Log'!$BY$18:$BY$1017,$B313,'[1]Daily Log'!$BZ$18:$BZ$1017),0)","v":0},{"$f":"IFERROR($E313*SUMIF('[1]Daily Log'!$CB$18:$CB$1017,$B313,'[1]Daily Log'!$CC$18:$CC$1017),0)","v":0},{"$f":"IFERROR($E313*SUMIF('[1]Daily Log'!$CE$18:$CE$1017,$B313,'[1]Daily Log'!$CF$18:$CF$1017),0)","v":0},{"$f":"IFERROR($E313*SUMIF('[1]Daily Log'!$CH$18:$CH$1017,$B313,'[1]Daily Log'!$CI$18:$CI$1017),0)","v":0},{"$f":"IFERROR($E313*SUMIF('[1]Daily Log'!$CK$18:$CK$1017,$B313,'[1]Daily Log'!$CL$18:$CL$1017),0)","v":0},{"$f":"IFERROR($E313*SUMIF('[1]Daily Log'!$CN$18:$CN$1017,$B313,'[1]Daily Log'!$CO$18:$CO$1017),0)","v":0}]
[null,"FA07 Cus Cake",null,null,null,0,{"$f":"IFERROR($E314*SUMIF('[1]Daily Log'!$B$18:$B$1017,$B314,'[1]Daily Log'!$C$18:$C$1017),0)","v":0},{"$f":"IFERROR($E314*SUMIF('[1]Daily Log'!$E$18:$E$1017,$B314,'[1]Daily Log'!$F$18:$F$1017),0)","v":0},{"$f":"IFERROR($E314*SUMIF('[1]Daily Log'!$H$18:$H$1017,$B314,'[1]Daily Log'!$I$18:$I$1017),0)","v":0}," ",{"$f":"IFERROR($E314*SUMIF('[1]Daily Log'!$N$18:$N$1017,$B314,'[1]Daily Log'!$O$18:$O$1017),0)","v":0},{"$f":"IFERROR($E314*SUMIF('[1]Daily Log'!$Q$18:$Q$1017,$B314,'[1]Daily Log'!$R$18:$R$1017),0)","v":0},{"$f":"IFERROR($E314*SUMIF('[1]Daily Log'!$T$18:$T$1017,$B314,'[1]Daily Log'!$U$18:$U$1017),0)","v":0},{"$f":"IFERROR($E314*SUMIF('[1]Daily Log'!$W$18:$W$1017,$B314,'[1]Daily Log'!$X$18:$X$1017),0)","v":0},{"$f":"IFERROR($E314*SUMIF('[1]Daily Log'!$Z$18:$Z$1017,$B314,'[1]Daily Log'!$AA$18:$AA$1017),0)","v":0},{"$f":"IFERROR($E314*SUMIF('[1]Daily Log'!$AC$18:$AC$1017,$B314,'[1]Daily Log'!$AD$18:$AD$1017),0)","v":0},{"$f":"IFERROR($E314*SUMIF('[1]Daily Log'!$AF$18:$AF$1017,$B314,'[1]Daily Log'!$AG$18:$AG$1017),0)","v":0},{"$f":"IFERROR($E314*SUMIF('[1]Daily Log'!$AI$18:$AI$1017,$B314,'[1]Daily Log'!$AJ$18:$AJ$1017),0)","v":0},{"$f":"IFERROR($E314*SUMIF('[1]Daily Log'!$AL$18:$AL$1017,$B314,'[1]Daily Log'!$AM$18:$AM$1017),0)","v":0},{"$f":"IFERROR($E314*SUMIF('[1]Daily Log'!$AO$18:$AO$1017,$B314,'[1]Daily Log'!$AP$18:$AP$1017),0)","v":0},{"$f":"IFERROR($E314*SUMIF('[1]Daily Log'!$AR$18:$AR$1017,$B314,'[1]Daily Log'!$AS$18:$AS$1017),0)","v":0},{"$f":"IFERROR($E314*SUMIF('[1]Daily Log'!$AU$18:$AU$1017,$B314,'[1]Daily Log'!$AV$18:$AV$1017),0)","v":0},{"$f":"IFERROR($E314*SUMIF('[1]Daily Log'!$AX$18:$AX$1017,$B314,'[1]Daily Log'!$AY$18:$AY$1017),0)","v":0},{"$f":"IFERROR($E314*SUMIF('[1]Daily Log'!$BA$18:$BA$1017,$B314,'[1]Daily Log'!$BB$18:$BB$1017),0)","v":0},{"$f":"IFERROR($E314*SUMIF('[1]Daily Log'!$BD$18:$BD$1017,$B314,'[1]Daily Log'!$BE$18:$BE$1017),0)","v":0},{"$f":"IFERROR($E314*SUMIF('[1]Daily Log'!$BG$18:$BG$1017,$B314,'[1]Daily Log'!$BH$18:$BH$1017),0)","v":0},{"$f":"IFERROR($E314*SUMIF('[1]Daily Log'!$BJ$18:$BJ$1017,$B314,'[1]Daily Log'!$BK$18:$BK$1017),0)","v":0},{"$f":"IFERROR($E314*SUMIF('[1]Daily Log'!$BM$18:$BM$1017,$B314,'[1]Daily Log'!$BN$18:$BN$1017),0)","v":0},{"$f":"IFERROR($E314*SUMIF('[1]Daily Log'!$BP$18:$BP$1017,$B314,'[1]Daily Log'!$BQ$18:$BQ$1017),0)","v":0},{"$f":"IFERROR($E314*SUMIF('[1]Daily Log'!$BS$18:$BS$1017,$B314,'[1]Daily Log'!$BT$18:$BT$1017),0)","v":0},{"$f":"IFERROR($E314*SUMIF('[1]Daily Log'!$BV$18:$BV$1017,$B314,'[1]Daily Log'!$BW$18:$BW$1017),0)","v":0},{"$f":"IFERROR($E314*SUMIF('[1]Daily Log'!$BY$18:$BY$1017,$B314,'[1]Daily Log'!$BZ$18:$BZ$1017),0)","v":0},{"$f":"IFERROR($E314*SUMIF('[1]Daily Log'!$CB$18:$CB$1017,$B314,'[1]Daily Log'!$CC$18:$CC$1017),0)","v":0},{"$f":"IFERROR($E314*SUMIF('[1]Daily Log'!$CE$18:$CE$1017,$B314,'[1]Daily Log'!$CF$18:$CF$1017),0)","v":0},{"$f":"IFERROR($E314*SUMIF('[1]Daily Log'!$CH$18:$CH$1017,$B314,'[1]Daily Log'!$CI$18:$CI$1017),0)","v":0},{"$f":"IFERROR($E314*SUMIF('[1]Daily Log'!$CK$18:$CK$1017,$B314,'[1]Daily Log'!$CL$18:$CL$1017),0)","v":0},{"$f":"IFERROR($E314*SUMIF('[1]Daily Log'!$CN$18:$CN$1017,$B314,'[1]Daily Log'!$CO$18:$CO$1017),0)","v":0}]
[null,"GA09 LIGHTER",null,"LIGHTER",1,0,{"$f":"IFERROR($E315*SUMIF('[1]Daily Log'!$B$18:$B$1017,$B315,'[1]Daily Log'!$C$18:$C$1017),0)","v":0},{"$f":"IFERROR($E315*SUMIF('[1]Daily Log'!$E$18:$E$1017,$B315,'[1]Daily Log'!$F$18:$F$1017),0)","v":0},{"$f":"IFERROR($E315*SUMIF('[1]Daily Log'!$H$18:$H$1017,$B315,'[1]Daily Log'!$I$18:$I$1017),0)","v":0}," ",{"$f":"IFERROR($E315*SUMIF('[1]Daily Log'!$N$18:$N$1017,$B315,'[1]Daily Log'!$O$18:$O$1017),0)","v":0},{"$f":"IFERROR($E315*SUMIF('[1]Daily Log'!$Q$18:$Q$1017,$B315,'[1]Daily Log'!$R$18:$R$1017),0)","v":0},{"$f":"IFERROR($E315*SUMIF('[1]Daily Log'!$T$18:$T$1017,$B315,'[1]Daily Log'!$U$18:$U$1017),0)","v":0},{"$f":"IFERROR($E315*SUMIF('[1]Daily Log'!$W$18:$W$1017,$B315,'[1]Daily Log'!$X$18:$X$1017),0)","v":0},{"$f":"IFERROR($E315*SUMIF('[1]Daily Log'!$Z$18:$Z$1017,$B315,'[1]Daily Log'!$AA$18:$AA$1017),0)","v":0},{"$f":"IFERROR($E315*SUMIF('[1]Daily Log'!$AC$18:$AC$1017,$B315,'[1]Daily Log'!$AD$18:$AD$1017),0)","v":0},{"$f":"IFERROR($E315*SUMIF('[1]Daily Log'!$AF$18:$AF$1017,$B315,'[1]Daily Log'!$AG$18:$AG$1017),0)","v":0},{"$f":"IFERROR($E315*SUMIF('[1]Daily Log'!$AI$18:$AI$1017,$B315,'[1]Daily Log'!$AJ$18:$AJ$1017),0)","v":0},{"$f":"IFERROR($E315*SUMIF('[1]Daily Log'!$AL$18:$AL$1017,$B315,'[1]Daily Log'!$AM$18:$AM$1017),0)","v":0},{"$f":"IFERROR($E315*SUMIF('[1]Daily Log'!$AO$18:$AO$1017,$B315,'[1]Daily Log'!$AP$18:$AP$1017),0)","v":0},{"$f":"IFERROR($E315*SUMIF('[1]Daily Log'!$AR$18:$AR$1017,$B315,'[1]Daily Log'!$AS$18:$AS$1017),0)","v":0},{"$f":"IFERROR($E315*SUMIF('[1]Daily Log'!$AU$18:$AU$1017,$B315,'[1]Daily Log'!$AV$18:$AV$1017),0)","v":0},{"$f":"IFERROR($E315*SUMIF('[1]Daily Log'!$AX$18:$AX$1017,$B315,'[1]Daily Log'!$AY$18:$AY$1017),0)","v":0},{"$f":"IFERROR($E315*SUMIF('[1]Daily Log'!$BA$18:$BA$1017,$B315,'[1]Daily Log'!$BB$18:$BB$1017),0)","v":0},{"$f":"IFERROR($E315*SUMIF('[1]Daily Log'!$BD$18:$BD$1017,$B315,'[1]Daily Log'!$BE$18:$BE$1017),0)","v":0},{"$f":"IFERROR($E315*SUMIF('[1]Daily Log'!$BG$18:$BG$1017,$B315,'[1]Daily Log'!$BH$18:$BH$1017),0)","v":0},{"$f":"IFERROR($E315*SUMIF('[1]Daily Log'!$BJ$18:$BJ$1017,$B315,'[1]Daily Log'!$BK$18:$BK$1017),0)","v":0},{"$f":"IFERROR($E315*SUMIF('[1]Daily Log'!$BM$18:$BM$1017,$B315,'[1]Daily Log'!$BN$18:$BN$1017),0)","v":0},{"$f":"IFERROR($E315*SUMIF('[1]Daily Log'!$BP$18:$BP$1017,$B315,'[1]Daily Log'!$BQ$18:$BQ$1017),0)","v":0},{"$f":"IFERROR($E315*SUMIF('[1]Daily Log'!$BS$18:$BS$1017,$B315,'[1]Daily Log'!$BT$18:$BT$1017),0)","v":0},{"$f":"IFERROR($E315*SUMIF('[1]Daily Log'!$BV$18:$BV$1017,$B315,'[1]Daily Log'!$BW$18:$BW$1017),0)","v":0},{"$f":"IFERROR($E315*SUMIF('[1]Daily Log'!$BY$18:$BY$1017,$B315,'[1]Daily Log'!$BZ$18:$BZ$1017),0)","v":0},{"$f":"IFERROR($E315*SUMIF('[1]Daily Log'!$CB$18:$CB$1017,$B315,'[1]Daily Log'!$CC$18:$CC$1017),0)","v":0},{"$f":"IFERROR($E315*SUMIF('[1]Daily Log'!$CE$18:$CE$1017,$B315,'[1]Daily Log'!$CF$18:$CF$1017),0)","v":0},{"$f":"IFERROR($E315*SUMIF('[1]Daily Log'!$CH$18:$CH$1017,$B315,'[1]Daily Log'!$CI$18:$CI$1017),0)","v":0},{"$f":"IFERROR($E315*SUMIF('[1]Daily Log'!$CK$18:$CK$1017,$B315,'[1]Daily Log'!$CL$18:$CL$1017),0)","v":0},{"$f":"IFERROR($E315*SUMIF('[1]Daily Log'!$CN$18:$CN$1017,$B315,'[1]Daily Log'!$CO$18:$CO$1017),0)","v":0}]
[null,"GC01 CARD NEW",null,null,null,0,{"$f":"IFERROR($E316*SUMIF('[1]Daily Log'!$B$18:$B$1017,$B316,'[1]Daily Log'!$C$18:$C$1017),0)","v":0},{"$f":"IFERROR($E316*SUMIF('[1]Daily Log'!$E$18:$E$1017,$B316,'[1]Daily Log'!$F$18:$F$1017),0)","v":0},{"$f":"IFERROR($E316*SUMIF('[1]Daily Log'!$H$18:$H$1017,$B316,'[1]Daily Log'!$I$18:$I$1017),0)","v":0}," ",{"$f":"IFERROR($E316*SUMIF('[1]Daily Log'!$N$18:$N$1017,$B316,'[1]Daily Log'!$O$18:$O$1017),0)","v":0},{"$f":"IFERROR($E316*SUMIF('[1]Daily Log'!$Q$18:$Q$1017,$B316,'[1]Daily Log'!$R$18:$R$1017),0)","v":0},{"$f":"IFERROR($E316*SUMIF('[1]Daily Log'!$T$18:$T$1017,$B316,'[1]Daily Log'!$U$18:$U$1017),0)","v":0},{"$f":"IFERROR($E316*SUMIF('[1]Daily Log'!$W$18:$W$1017,$B316,'[1]Daily Log'!$X$18:$X$1017),0)","v":0},{"$f":"IFERROR($E316*SUMIF('[1]Daily Log'!$Z$18:$Z$1017,$B316,'[1]Daily Log'!$AA$18:$AA$1017),0)","v":0},{"$f":"IFERROR($E316*SUMIF('[1]Daily Log'!$AC$18:$AC$1017,$B316,'[1]Daily Log'!$AD$18:$AD$1017),0)","v":0},{"$f":"IFERROR($E316*SUMIF('[1]Daily Log'!$AF$18:$AF$1017,$B316,'[1]Daily Log'!$AG$18:$AG$1017),0)","v":0},{"$f":"IFERROR($E316*SUMIF('[1]Daily Log'!$AI$18:$AI$1017,$B316,'[1]Daily Log'!$AJ$18:$AJ$1017),0)","v":0},{"$f":"IFERROR($E316*SUMIF('[1]Daily Log'!$AL$18:$AL$1017,$B316,'[1]Daily Log'!$AM$18:$AM$1017),0)","v":0},{"$f":"IFERROR($E316*SUMIF('[1]Daily Log'!$AO$18:$AO$1017,$B316,'[1]Daily Log'!$AP$18:$AP$1017),0)","v":0},{"$f":"IFERROR($E316*SUMIF('[1]Daily Log'!$AR$18:$AR$1017,$B316,'[1]Daily Log'!$AS$18:$AS$1017),0)","v":0},{"$f":"IFERROR($E316*SUMIF('[1]Daily Log'!$AU$18:$AU$1017,$B316,'[1]Daily Log'!$AV$18:$AV$1017),0)","v":0},{"$f":"IFERROR($E316*SUMIF('[1]Daily Log'!$AX$18:$AX$1017,$B316,'[1]Daily Log'!$AY$18:$AY$1017),0)","v":0},{"$f":"IFERROR($E316*SUMIF('[1]Daily Log'!$BA$18:$BA$1017,$B316,'[1]Daily Log'!$BB$18:$BB$1017),0)","v":0},{"$f":"IFERROR($E316*SUMIF('[1]Daily Log'!$BD$18:$BD$1017,$B316,'[1]Daily Log'!$BE$18:$BE$1017),0)","v":0},{"$f":"IFERROR($E316*SUMIF('[1]Daily Log'!$BG$18:$BG$1017,$B316,'[1]Daily Log'!$BH$18:$BH$1017),0)","v":0},{"$f":"IFERROR($E316*SUMIF('[1]Daily Log'!$BJ$18:$BJ$1017,$B316,'[1]Daily Log'!$BK$18:$BK$1017),0)","v":0},{"$f":"IFERROR($E316*SUMIF('[1]Daily Log'!$BM$18:$BM$1017,$B316,'[1]Daily Log'!$BN$18:$BN$1017),0)","v":0},{"$f":"IFERROR($E316*SUMIF('[1]Daily Log'!$BP$18:$BP$1017,$B316,'[1]Daily Log'!$BQ$18:$BQ$1017),0)","v":0},{"$f":"IFERROR($E316*SUMIF('[1]Daily Log'!$BS$18:$BS$1017,$B316,'[1]Daily Log'!$BT$18:$BT$1017),0)","v":0},{"$f":"IFERROR($E316*SUMIF('[1]Daily Log'!$BV$18:$BV$1017,$B316,'[1]Daily Log'!$BW$18:$BW$1017),0)","v":0},{"$f":"IFERROR($E316*SUMIF('[1]Daily Log'!$BY$18:$BY$1017,$B316,'[1]Daily Log'!$BZ$18:$BZ$1017),0)","v":0},{"$f":"IFERROR($E316*SUMIF('[1]Daily Log'!$CB$18:$CB$1017,$B316,'[1]Daily Log'!$CC$18:$CC$1017),0)","v":0},{"$f":"IFERROR($E316*SUMIF('[1]Daily Log'!$CE$18:$CE$1017,$B316,'[1]Daily Log'!$CF$18:$CF$1017),0)","v":0},{"$f":"IFERROR($E316*SUMIF('[1]Daily Log'!$CH$18:$CH$1017,$B316,'[1]Daily Log'!$CI$18:$CI$1017),0)","v":0},{"$f":"IFERROR($E316*SUMIF('[1]Daily Log'!$CK$18:$CK$1017,$B316,'[1]Daily Log'!$CL$18:$CL$1017),0)","v":0},{"$f":"IFERROR($E316*SUMIF('[1]Daily Log'!$CN$18:$CN$1017,$B316,'[1]Daily Log'!$CO$18:$CO$1017),0)","v":0}]
[null,"GC02 CARD REPLACE",null,null,null,0,{"$f":"IFERROR($E317*SUMIF('[1]Daily Log'!$B$18:$B$1017,$B317,'[1]Daily Log'!$C$18:$C$1017),0)","v":0},{"$f":"IFERROR($E317*SUMIF('[1]Daily Log'!$E$18:$E$1017,$B317,'[1]Daily Log'!$F$18:$F$1017),0)","v":0},{"$f":"IFERROR($E317*SUMIF('[1]Daily Log'!$H$18:$H$1017,$B317,'[1]Daily Log'!$I$18:$I$1017),0)","v":0}," ",{"$f":"IFERROR($E317*SUMIF('[1]Daily Log'!$N$18:$N$1017,$B317,'[1]Daily Log'!$O$18:$O$1017),0)","v":0},{"$f":"IFERROR($E317*SUMIF('[1]Daily Log'!$Q$18:$Q$1017,$B317,'[1]Daily Log'!$R$18:$R$1017),0)","v":0},{"$f":"IFERROR($E317*SUMIF('[1]Daily Log'!$T$18:$T$1017,$B317,'[1]Daily Log'!$U$18:$U$1017),0)","v":0},{"$f":"IFERROR($E317*SUMIF('[1]Daily Log'!$W$18:$W$1017,$B317,'[1]Daily Log'!$X$18:$X$1017),0)","v":0},{"$f":"IFERROR($E317*SUMIF('[1]Daily Log'!$Z$18:$Z$1017,$B317,'[1]Daily Log'!$AA$18:$AA$1017),0)","v":0},{"$f":"IFERROR($E317*SUMIF('[1]Daily Log'!$AC$18:$AC$1017,$B317,'[1]Daily Log'!$AD$18:$AD$1017),0)","v":0},{"$f":"IFERROR($E317*SUMIF('[1]Daily Log'!$AF$18:$AF$1017,$B317,'[1]Daily Log'!$AG$18:$AG$1017),0)","v":0},{"$f":"IFERROR($E317*SUMIF('[1]Daily Log'!$AI$18:$AI$1017,$B317,'[1]Daily Log'!$AJ$18:$AJ$1017),0)","v":0},{"$f":"IFERROR($E317*SUMIF('[1]Daily Log'!$AL$18:$AL$1017,$B317,'[1]Daily Log'!$AM$18:$AM$1017),0)","v":0},{"$f":"IFERROR($E317*SUMIF('[1]Daily Log'!$AO$18:$AO$1017,$B317,'[1]Daily Log'!$AP$18:$AP$1017),0)","v":0},{"$f":"IFERROR($E317*SUMIF('[1]Daily Log'!$AR$18:$AR$1017,$B317,'[1]Daily Log'!$AS$18:$AS$1017),0)","v":0},{"$f":"IFERROR($E317*SUMIF('[1]Daily Log'!$AU$18:$AU$1017,$B317,'[1]Daily Log'!$AV$18:$AV$1017),0)","v":0},{"$f":"IFERROR($E317*SUMIF('[1]Daily Log'!$AX$18:$AX$1017,$B317,'[1]Daily Log'!$AY$18:$AY$1017),0)","v":0},{"$f":"IFERROR($E317*SUMIF('[1]Daily Log'!$BA$18:$BA$1017,$B317,'[1]Daily Log'!$BB$18:$BB$1017),0)","v":0},{"$f":"IFERROR($E317*SUMIF('[1]Daily Log'!$BD$18:$BD$1017,$B317,'[1]Daily Log'!$BE$18:$BE$1017),0)","v":0},{"$f":"IFERROR($E317*SUMIF('[1]Daily Log'!$BG$18:$BG$1017,$B317,'[1]Daily Log'!$BH$18:$BH$1017),0)","v":0},{"$f":"IFERROR($E317*SUMIF('[1]Daily Log'!$BJ$18:$BJ$1017,$B317,'[1]Daily Log'!$BK$18:$BK$1017),0)","v":0},{"$f":"IFERROR($E317*SUMIF('[1]Daily Log'!$BM$18:$BM$1017,$B317,'[1]Daily Log'!$BN$18:$BN$1017),0)","v":0},{"$f":"IFERROR($E317*SUMIF('[1]Daily Log'!$BP$18:$BP$1017,$B317,'[1]Daily Log'!$BQ$18:$BQ$1017),0)","v":0},{"$f":"IFERROR($E317*SUMIF('[1]Daily Log'!$BS$18:$BS$1017,$B317,'[1]Daily Log'!$BT$18:$BT$1017),0)","v":0},{"$f":"IFERROR($E317*SUMIF('[1]Daily Log'!$BV$18:$BV$1017,$B317,'[1]Daily Log'!$BW$18:$BW$1017),0)","v":0},{"$f":"IFERROR($E317*SUMIF('[1]Daily Log'!$BY$18:$BY$1017,$B317,'[1]Daily Log'!$BZ$18:$BZ$1017),0)","v":0},{"$f":"IFERROR($E317*SUMIF('[1]Daily Log'!$CB$18:$CB$1017,$B317,'[1]Daily Log'!$CC$18:$CC$1017),0)","v":0},{"$f":"IFERROR($E317*SUMIF('[1]Daily Log'!$CE$18:$CE$1017,$B317,'[1]Daily Log'!$CF$18:$CF$1017),0)","v":0},{"$f":"IFERROR($E317*SUMIF('[1]Daily Log'!$CH$18:$CH$1017,$B317,'[1]Daily Log'!$CI$18:$CI$1017),0)","v":0},{"$f":"IFERROR($E317*SUMIF('[1]Daily Log'!$CK$18:$CK$1017,$B317,'[1]Daily Log'!$CL$18:$CL$1017),0)","v":0},{"$f":"IFERROR($E317*SUMIF('[1]Daily Log'!$CN$18:$CN$1017,$B317,'[1]Daily Log'!$CO$18:$CO$1017),0)","v":0}]
[null,"GC03 STUDENT MEMBER",null,null,null,0,{"$f":"IFERROR($E318*SUMIF('[1]Daily Log'!$B$18:$B$1017,$B318,'[1]Daily Log'!$C$18:$C$1017),0)","v":0},{"$f":"IFERROR($E318*SUMIF('[1]Daily Log'!$E$18:$E$1017,$B318,'[1]Daily Log'!$F$18:$F$1017),0)","v":0},{"$f":"IFERROR($E318*SUMIF('[1]Daily Log'!$H$18:$H$1017,$B318,'[1]Daily Log'!$I$18:$I$1017),0)","v":0}," ",{"$f":"IFERROR($E318*SUMIF('[1]Daily Log'!$N$18:$N$1017,$B318,'[1]Daily Log'!$O$18:$O$1017),0)","v":0},{"$f":"IFERROR($E318*SUMIF('[1]Daily Log'!$Q$18:$Q$1017,$B318,'[1]Daily Log'!$R$18:$R$1017),0)","v":0},{"$f":"IFERROR($E318*SUMIF('[1]Daily Log'!$T$18:$T$1017,$B318,'[1]Daily Log'!$U$18:$U$1017),0)","v":0},{"$f":"IFERROR($E318*SUMIF('[1]Daily Log'!$W$18:$W$1017,$B318,'[1]Daily Log'!$X$18:$X$1017),0)","v":0},{"$f":"IFERROR($E318*SUMIF('[1]Daily Log'!$Z$18:$Z$1017,$B318,'[1]Daily Log'!$AA$18:$AA$1017),0)","v":0},{"$f":"IFERROR($E318*SUMIF('[1]Daily Log'!$AC$18:$AC$1017,$B318,'[1]Daily Log'!$AD$18:$AD$1017),0)","v":0},{"$f":"IFERROR($E318*SUMIF('[1]Daily Log'!$AF$18:$AF$1017,$B318,'[1]Daily Log'!$AG$18:$AG$1017),0)","v":0},{"$f":"IFERROR($E318*SUMIF('[1]Daily Log'!$AI$18:$AI$1017,$B318,'[1]Daily Log'!$AJ$18:$AJ$1017),0)","v":0},{"$f":"IFERROR($E318*SUMIF('[1]Daily Log'!$AL$18:$AL$1017,$B318,'[1]Daily Log'!$AM$18:$AM$1017),0)","v":0},{"$f":"IFERROR($E318*SUMIF('[1]Daily Log'!$AO$18:$AO$1017,$B318,'[1]Daily Log'!$AP$18:$AP$1017),0)","v":0},{"$f":"IFERROR($E318*SUMIF('[1]Daily Log'!$AR$18:$AR$1017,$B318,'[1]Daily Log'!$AS$18:$AS$1017),0)","v":0},{"$f":"IFERROR($E318*SUMIF('[1]Daily Log'!$AU$18:$AU$1017,$B318,'[1]Daily Log'!$AV$18:$AV$1017),0)","v":0},{"$f":"IFERROR($E318*SUMIF('[1]Daily Log'!$AX$18:$AX$1017,$B318,'[1]Daily Log'!$AY$18:$AY$1017),0)","v":0},{"$f":"IFERROR($E318*SUMIF('[1]Daily Log'!$BA$18:$BA$1017,$B318,'[1]Daily Log'!$BB$18:$BB$1017),0)","v":0},{"$f":"IFERROR($E318*SUMIF('[1]Daily Log'!$BD$18:$BD$1017,$B318,'[1]Daily Log'!$BE$18:$BE$1017),0)","v":0},{"$f":"IFERROR($E318*SUMIF('[1]Daily Log'!$BG$18:$BG$1017,$B318,'[1]Daily Log'!$BH$18:$BH$1017),0)","v":0},{"$f":"IFERROR($E318*SUMIF('[1]Daily Log'!$BJ$18:$BJ$1017,$B318,'[1]Daily Log'!$BK$18:$BK$1017),0)","v":0},{"$f":"IFERROR($E318*SUMIF('[1]Daily Log'!$BM$18:$BM$1017,$B318,'[1]Daily Log'!$BN$18:$BN$1017),0)","v":0},{"$f":"IFERROR($E318*SUMIF('[1]Daily Log'!$BP$18:$BP$1017,$B318,'[1]Daily Log'!$BQ$18:$BQ$1017),0)","v":0},{"$f":"IFERROR($E318*SUMIF('[1]Daily Log'!$BS$18:$BS$1017,$B318,'[1]Daily Log'!$BT$18:$BT$1017),0)","v":0},{"$f":"IFERROR($E318*SUMIF('[1]Daily Log'!$BV$18:$BV$1017,$B318,'[1]Daily Log'!$BW$18:$BW$1017),0)","v":0},{"$f":"IFERROR($E318*SUMIF('[1]Daily Log'!$BY$18:$BY$1017,$B318,'[1]Daily Log'!$BZ$18:$BZ$1017),0)","v":0},{"$f":"IFERROR($E318*SUMIF('[1]Daily Log'!$CB$18:$CB$1017,$B318,'[1]Daily Log'!$CC$18:$CC$1017),0)","v":0},{"$f":"IFERROR($E318*SUMIF('[1]Daily Log'!$CE$18:$CE$1017,$B318,'[1]Daily Log'!$CF$18:$CF$1017),0)","v":0},{"$f":"IFERROR($E318*SUMIF('[1]Daily Log'!$CH$18:$CH$1017,$B318,'[1]Daily Log'!$CI$18:$CI$1017),0)","v":0},{"$f":"IFERROR($E318*SUMIF('[1]Daily Log'!$CK$18:$CK$1017,$B318,'[1]Daily Log'!$CL$18:$CL$1017),0)","v":0},{"$f":"IFERROR($E318*SUMIF('[1]Daily Log'!$CN$18:$CN$1017,$B318,'[1]Daily Log'!$CO$18:$CO$1017),0)","v":0}]
[null,"GD02 MIC COVER 03",null,"MIC COVER",1,0,{"$f":"IFERROR($E319*SUMIF('[1]Daily Log'!$B$18:$B$1017,$B319,'[1]Daily Log'!$C$18:$C$1017),0)","v":0},{"$f":"IFERROR($E319*SUMIF('[1]Daily Log'!$E$18:$E$1017,$B319,'[1]Daily Log'!$F$18:$F$1017),0)","v":0},{"$f":"IFERROR($E319*SUMIF('[1]Daily Log'!$H$18:$H$1017,$B319,'[1]Daily Log'!$I$18:$I$1017),0)","v":0}," ",{"$f":"IFERROR($E319*SUMIF('[1]Daily Log'!$N$18:$N$1017,$B319,'[1]Daily Log'!$O$18:$O$1017),0)","v":0},{"$f":"IFERROR($E319*SUMIF('[1]Daily Log'!$Q$18:$Q$1017,$B319,'[1]Daily Log'!$R$18:$R$1017),0)","v":0},{"$f":"IFERROR($E319*SUMIF('[1]Daily Log'!$T$18:$T$1017,$B319,'[1]Daily Log'!$U$18:$U$1017),0)","v":0},{"$f":"IFERROR($E319*SUMIF('[1]Daily Log'!$W$18:$W$1017,$B319,'[1]Daily Log'!$X$18:$X$1017),0)","v":0},{"$f":"IFERROR($E319*SUMIF('[1]Daily Log'!$Z$18:$Z$1017,$B319,'[1]Daily Log'!$AA$18:$AA$1017),0)","v":0},{"$f":"IFERROR($E319*SUMIF('[1]Daily Log'!$AC$18:$AC$1017,$B319,'[1]Daily Log'!$AD$18:$AD$1017),0)","v":0},{"$f":"IFERROR($E319*SUMIF('[1]Daily Log'!$AF$18:$AF$1017,$B319,'[1]Daily Log'!$AG$18:$AG$1017),0)","v":0},{"$f":"IFERROR($E319*SUMIF('[1]Daily Log'!$AI$18:$AI$1017,$B319,'[1]Daily Log'!$AJ$18:$AJ$1017),0)","v":0},{"$f":"IFERROR($E319*SUMIF('[1]Daily Log'!$AL$18:$AL$1017,$B319,'[1]Daily Log'!$AM$18:$AM$1017),0)","v":0},{"$f":"IFERROR($E319*SUMIF('[1]Daily Log'!$AO$18:$AO$1017,$B319,'[1]Daily Log'!$AP$18:$AP$1017),0)","v":0},{"$f":"IFERROR($E319*SUMIF('[1]Daily Log'!$AR$18:$AR$1017,$B319,'[1]Daily Log'!$AS$18:$AS$1017),0)","v":0},{"$f":"IFERROR($E319*SUMIF('[1]Daily Log'!$AU$18:$AU$1017,$B319,'[1]Daily Log'!$AV$18:$AV$1017),0)","v":0},{"$f":"IFERROR($E319*SUMIF('[1]Daily Log'!$AX$18:$AX$1017,$B319,'[1]Daily Log'!$AY$18:$AY$1017),0)","v":0},{"$f":"IFERROR($E319*SUMIF('[1]Daily Log'!$BA$18:$BA$1017,$B319,'[1]Daily Log'!$BB$18:$BB$1017),0)","v":0},{"$f":"IFERROR($E319*SUMIF('[1]Daily Log'!$BD$18:$BD$1017,$B319,'[1]Daily Log'!$BE$18:$BE$1017),0)","v":0},{"$f":"IFERROR($E319*SUMIF('[1]Daily Log'!$BG$18:$BG$1017,$B319,'[1]Daily Log'!$BH$18:$BH$1017),0)","v":0},{"$f":"IFERROR($E319*SUMIF('[1]Daily Log'!$BJ$18:$BJ$1017,$B319,'[1]Daily Log'!$BK$18:$BK$1017),0)","v":0},{"$f":"IFERROR($E319*SUMIF('[1]Daily Log'!$BM$18:$BM$1017,$B319,'[1]Daily Log'!$BN$18:$BN$1017),0)","v":0},{"$f":"IFERROR($E319*SUMIF('[1]Daily Log'!$BP$18:$BP$1017,$B319,'[1]Daily Log'!$BQ$18:$BQ$1017),0)","v":0},{"$f":"IFERROR($E319*SUMIF('[1]Daily Log'!$BS$18:$BS$1017,$B319,'[1]Daily Log'!$BT$18:$BT$1017),0)","v":0},{"$f":"IFERROR($E319*SUMIF('[1]Daily Log'!$BV$18:$BV$1017,$B319,'[1]Daily Log'!$BW$18:$BW$1017),0)","v":0},{"$f":"IFERROR($E319*SUMIF('[1]Daily Log'!$BY$18:$BY$1017,$B319,'[1]Daily Log'!$BZ$18:$BZ$1017),0)","v":0},{"$f":"IFERROR($E319*SUMIF('[1]Daily Log'!$CB$18:$CB$1017,$B319,'[1]Daily Log'!$CC$18:$CC$1017),0)","v":0},{"$f":"IFERROR($E319*SUMIF('[1]Daily Log'!$CE$18:$CE$1017,$B319,'[1]Daily Log'!$CF$18:$CF$1017),0)","v":0},{"$f":"IFERROR($E319*SUMIF('[1]Daily Log'!$CH$18:$CH$1017,$B319,'[1]Daily Log'!$CI$18:$CI$1017),0)","v":0},{"$f":"IFERROR($E319*SUMIF('[1]Daily Log'!$CK$18:$CK$1017,$B319,'[1]Daily Log'!$CL$18:$CL$1017),0)","v":0},{"$f":"IFERROR($E319*SUMIF('[1]Daily Log'!$CN$18:$CN$1017,$B319,'[1]Daily Log'!$CO$18:$CO$1017),0)","v":0}]
[null,"ZAA02 HEINEKEN EX BKT",null,null,null,0,{"$f":"IFERROR($E320*SUMIF('[1]Daily Log'!$B$18:$B$1017,$B320,'[1]Daily Log'!$C$18:$C$1017),0)","v":0},{"$f":"IFERROR($E320*SUMIF('[1]Daily Log'!$E$18:$E$1017,$B320,'[1]Daily Log'!$F$18:$F$1017),0)","v":0},{"$f":"IFERROR($E320*SUMIF('[1]Daily Log'!$H$18:$H$1017,$B320,'[1]Daily Log'!$I$18:$I$1017),0)","v":0}," ",{"$f":"IFERROR($E320*SUMIF('[1]Daily Log'!$N$18:$N$1017,$B320,'[1]Daily Log'!$O$18:$O$1017),0)","v":0},{"$f":"IFERROR($E320*SUMIF('[1]Daily Log'!$Q$18:$Q$1017,$B320,'[1]Daily Log'!$R$18:$R$1017),0)","v":0},{"$f":"IFERROR($E320*SUMIF('[1]Daily Log'!$T$18:$T$1017,$B320,'[1]Daily Log'!$U$18:$U$1017),0)","v":0},{"$f":"IFERROR($E320*SUMIF('[1]Daily Log'!$W$18:$W$1017,$B320,'[1]Daily Log'!$X$18:$X$1017),0)","v":0},{"$f":"IFERROR($E320*SUMIF('[1]Daily Log'!$Z$18:$Z$1017,$B320,'[1]Daily Log'!$AA$18:$AA$1017),0)","v":0},{"$f":"IFERROR($E320*SUMIF('[1]Daily Log'!$AC$18:$AC$1017,$B320,'[1]Daily Log'!$AD$18:$AD$1017),0)","v":0},{"$f":"IFERROR($E320*SUMIF('[1]Daily Log'!$AF$18:$AF$1017,$B320,'[1]Daily Log'!$AG$18:$AG$1017),0)","v":0},{"$f":"IFERROR($E320*SUMIF('[1]Daily Log'!$AI$18:$AI$1017,$B320,'[1]Daily Log'!$AJ$18:$AJ$1017),0)","v":0},{"$f":"IFERROR($E320*SUMIF('[1]Daily Log'!$AL$18:$AL$1017,$B320,'[1]Daily Log'!$AM$18:$AM$1017),0)","v":0},{"$f":"IFERROR($E320*SUMIF('[1]Daily Log'!$AO$18:$AO$1017,$B320,'[1]Daily Log'!$AP$18:$AP$1017),0)","v":0},{"$f":"IFERROR($E320*SUMIF('[1]Daily Log'!$AR$18:$AR$1017,$B320,'[1]Daily Log'!$AS$18:$AS$1017),0)","v":0},{"$f":"IFERROR($E320*SUMIF('[1]Daily Log'!$AU$18:$AU$1017,$B320,'[1]Daily Log'!$AV$18:$AV$1017),0)","v":0},{"$f":"IFERROR($E320*SUMIF('[1]Daily Log'!$AX$18:$AX$1017,$B320,'[1]Daily Log'!$AY$18:$AY$1017),0)","v":0},{"$f":"IFERROR($E320*SUMIF('[1]Daily Log'!$BA$18:$BA$1017,$B320,'[1]Daily Log'!$BB$18:$BB$1017),0)","v":0},{"$f":"IFERROR($E320*SUMIF('[1]Daily Log'!$BD$18:$BD$1017,$B320,'[1]Daily Log'!$BE$18:$BE$1017),0)","v":0},{"$f":"IFERROR($E320*SUMIF('[1]Daily Log'!$BG$18:$BG$1017,$B320,'[1]Daily Log'!$BH$18:$BH$1017),0)","v":0},{"$f":"IFERROR($E320*SUMIF('[1]Daily Log'!$BJ$18:$BJ$1017,$B320,'[1]Daily Log'!$BK$18:$BK$1017),0)","v":0},{"$f":"IFERROR($E320*SUMIF('[1]Daily Log'!$BM$18:$BM$1017,$B320,'[1]Daily Log'!$BN$18:$BN$1017),0)","v":0},{"$f":"IFERROR($E320*SUMIF('[1]Daily Log'!$BP$18:$BP$1017,$B320,'[1]Daily Log'!$BQ$18:$BQ$1017),0)","v":0},{"$f":"IFERROR($E320*SUMIF('[1]Daily Log'!$BS$18:$BS$1017,$B320,'[1]Daily Log'!$BT$18:$BT$1017),0)","v":0},{"$f":"IFERROR($E320*SUMIF('[1]Daily Log'!$BV$18:$BV$1017,$B320,'[1]Daily Log'!$BW$18:$BW$1017),0)","v":0},{"$f":"IFERROR($E320*SUMIF('[1]Daily Log'!$BY$18:$BY$1017,$B320,'[1]Daily Log'!$BZ$18:$BZ$1017),0)","v":0},{"$f":"IFERROR($E320*SUMIF('[1]Daily Log'!$CB$18:$CB$1017,$B320,'[1]Daily Log'!$CC$18:$CC$1017),0)","v":0},{"$f":"IFERROR($E320*SUMIF('[1]Daily Log'!$CE$18:$CE$1017,$B320,'[1]Daily Log'!$CF$18:$CF$1017),0)","v":0},{"$f":"IFERROR($E320*SUMIF('[1]Daily Log'!$CH$18:$CH$1017,$B320,'[1]Daily Log'!$CI$18:$CI$1017),0)","v":0},{"$f":"IFERROR($E320*SUMIF('[1]Daily Log'!$CK$18:$CK$1017,$B320,'[1]Daily Log'!$CL$18:$CL$1017),0)","v":0},{"$f":"IFERROR($E320*SUMIF('[1]Daily Log'!$CN$18:$CN$1017,$B320,'[1]Daily Log'!$CO$18:$CO$1017),0)","v":0}]
[null,"ZAA03 McC Beer Platter",null,"BEER PLATTER",1,0,{"$f":"IFERROR($E321*SUMIF('[1]Daily Log'!$B$18:$B$1017,$B321,'[1]Daily Log'!$C$18:$C$1017),0)","v":0},{"$f":"IFERROR($E321*SUMIF('[1]Daily Log'!$E$18:$E$1017,$B321,'[1]Daily Log'!$F$18:$F$1017),0)","v":0},{"$f":"IFERROR($E321*SUMIF('[1]Daily Log'!$H$18:$H$1017,$B321,'[1]Daily Log'!$I$18:$I$1017),0)","v":0}," ",{"$f":"IFERROR($E321*SUMIF('[1]Daily Log'!$N$18:$N$1017,$B321,'[1]Daily Log'!$O$18:$O$1017),0)","v":0},{"$f":"IFERROR($E321*SUMIF('[1]Daily Log'!$Q$18:$Q$1017,$B321,'[1]Daily Log'!$R$18:$R$1017),0)","v":0},{"$f":"IFERROR($E321*SUMIF('[1]Daily Log'!$T$18:$T$1017,$B321,'[1]Daily Log'!$U$18:$U$1017),0)","v":0},{"$f":"IFERROR($E321*SUMIF('[1]Daily Log'!$W$18:$W$1017,$B321,'[1]Daily Log'!$X$18:$X$1017),0)","v":0},{"$f":"IFERROR($E321*SUMIF('[1]Daily Log'!$Z$18:$Z$1017,$B321,'[1]Daily Log'!$AA$18:$AA$1017),0)","v":0},{"$f":"IFERROR($E321*SUMIF('[1]Daily Log'!$AC$18:$AC$1017,$B321,'[1]Daily Log'!$AD$18:$AD$1017),0)","v":0},{"$f":"IFERROR($E321*SUMIF('[1]Daily Log'!$AF$18:$AF$1017,$B321,'[1]Daily Log'!$AG$18:$AG$1017),0)","v":0},{"$f":"IFERROR($E321*SUMIF('[1]Daily Log'!$AI$18:$AI$1017,$B321,'[1]Daily Log'!$AJ$18:$AJ$1017),0)","v":0},{"$f":"IFERROR($E321*SUMIF('[1]Daily Log'!$AL$18:$AL$1017,$B321,'[1]Daily Log'!$AM$18:$AM$1017),0)","v":0},{"$f":"IFERROR($E321*SUMIF('[1]Daily Log'!$AO$18:$AO$1017,$B321,'[1]Daily Log'!$AP$18:$AP$1017),0)","v":0},{"$f":"IFERROR($E321*SUMIF('[1]Daily Log'!$AR$18:$AR$1017,$B321,'[1]Daily Log'!$AS$18:$AS$1017),0)","v":0},{"$f":"IFERROR($E321*SUMIF('[1]Daily Log'!$AU$18:$AU$1017,$B321,'[1]Daily Log'!$AV$18:$AV$1017),0)","v":0},{"$f":"IFERROR($E321*SUMIF('[1]Daily Log'!$AX$18:$AX$1017,$B321,'[1]Daily Log'!$AY$18:$AY$1017),0)","v":0},{"$f":"IFERROR($E321*SUMIF('[1]Daily Log'!$BA$18:$BA$1017,$B321,'[1]Daily Log'!$BB$18:$BB$1017),0)","v":0},{"$f":"IFERROR($E321*SUMIF('[1]Daily Log'!$BD$18:$BD$1017,$B321,'[1]Daily Log'!$BE$18:$BE$1017),0)","v":0},{"$f":"IFERROR($E321*SUMIF('[1]Daily Log'!$BG$18:$BG$1017,$B321,'[1]Daily Log'!$BH$18:$BH$1017),0)","v":0},{"$f":"IFERROR($E321*SUMIF('[1]Daily Log'!$BJ$18:$BJ$1017,$B321,'[1]Daily Log'!$BK$18:$BK$1017),0)","v":0},{"$f":"IFERROR($E321*SUMIF('[1]Daily Log'!$BM$18:$BM$1017,$B321,'[1]Daily Log'!$BN$18:$BN$1017),0)","v":0},{"$f":"IFERROR($E321*SUMIF('[1]Daily Log'!$BP$18:$BP$1017,$B321,'[1]Daily Log'!$BQ$18:$BQ$1017),0)","v":0},{"$f":"IFERROR($E321*SUMIF('[1]Daily Log'!$BS$18:$BS$1017,$B321,'[1]Daily Log'!$BT$18:$BT$1017),0)","v":0},{"$f":"IFERROR($E321*SUMIF('[1]Daily Log'!$BV$18:$BV$1017,$B321,'[1]Daily Log'!$BW$18:$BW$1017),0)","v":0},{"$f":"IFERROR($E321*SUMIF('[1]Daily Log'!$BY$18:$BY$1017,$B321,'[1]Daily Log'!$BZ$18:$BZ$1017),0)","v":0},{"$f":"IFERROR($E321*SUMIF('[1]Daily Log'!$CB$18:$CB$1017,$B321,'[1]Daily Log'!$CC$18:$CC$1017),0)","v":0},{"$f":"IFERROR($E321*SUMIF('[1]Daily Log'!$CE$18:$CE$1017,$B321,'[1]Daily Log'!$CF$18:$CF$1017),0)","v":0},{"$f":"IFERROR($E321*SUMIF('[1]Daily Log'!$CH$18:$CH$1017,$B321,'[1]Daily Log'!$CI$18:$CI$1017),0)","v":0},{"$f":"IFERROR($E321*SUMIF('[1]Daily Log'!$CK$18:$CK$1017,$B321,'[1]Daily Log'!$CL$18:$CL$1017),0)","v":0},{"$f":"IFERROR($E321*SUMIF('[1]Daily Log'!$CN$18:$CN$1017,$B321,'[1]Daily Log'!$CO$18:$CO$1017),0)","v":0}]
[null,"ZAA04 TIDBITS",null,"TIDBITS",1,0,{"$f":"IFERROR($E322*SUMIF('[1]Daily Log'!$B$18:$B$1017,$B322,'[1]Daily Log'!$C$18:$C$1017),0)","v":0},{"$f":"IFERROR($E322*SUMIF('[1]Daily Log'!$E$18:$E$1017,$B322,'[1]Daily Log'!$F$18:$F$1017),0)","v":0},{"$f":"IFERROR($E322*SUMIF('[1]Daily Log'!$H$18:$H$1017,$B322,'[1]Daily Log'!$I$18:$I$1017),0)","v":0}," ",{"$f":"IFERROR($E322*SUMIF('[1]Daily Log'!$N$18:$N$1017,$B322,'[1]Daily Log'!$O$18:$O$1017),0)","v":0},{"$f":"IFERROR($E322*SUMIF('[1]Daily Log'!$Q$18:$Q$1017,$B322,'[1]Daily Log'!$R$18:$R$1017),0)","v":0},{"$f":"IFERROR($E322*SUMIF('[1]Daily Log'!$T$18:$T$1017,$B322,'[1]Daily Log'!$U$18:$U$1017),0)","v":0},{"$f":"IFERROR($E322*SUMIF('[1]Daily Log'!$W$18:$W$1017,$B322,'[1]Daily Log'!$X$18:$X$1017),0)","v":0},{"$f":"IFERROR($E322*SUMIF('[1]Daily Log'!$Z$18:$Z$1017,$B322,'[1]Daily Log'!$AA$18:$AA$1017),0)","v":0},{"$f":"IFERROR($E322*SUMIF('[1]Daily Log'!$AC$18:$AC$1017,$B322,'[1]Daily Log'!$AD$18:$AD$1017),0)","v":0},{"$f":"IFERROR($E322*SUMIF('[1]Daily Log'!$AF$18:$AF$1017,$B322,'[1]Daily Log'!$AG$18:$AG$1017),0)","v":0},{"$f":"IFERROR($E322*SUMIF('[1]Daily Log'!$AI$18:$AI$1017,$B322,'[1]Daily Log'!$AJ$18:$AJ$1017),0)","v":0},{"$f":"IFERROR($E322*SUMIF('[1]Daily Log'!$AL$18:$AL$1017,$B322,'[1]Daily Log'!$AM$18:$AM$1017),0)","v":0},{"$f":"IFERROR($E322*SUMIF('[1]Daily Log'!$AO$18:$AO$1017,$B322,'[1]Daily Log'!$AP$18:$AP$1017),0)","v":0},{"$f":"IFERROR($E322*SUMIF('[1]Daily Log'!$AR$18:$AR$1017,$B322,'[1]Daily Log'!$AS$18:$AS$1017),0)","v":0},{"$f":"IFERROR($E322*SUMIF('[1]Daily Log'!$AU$18:$AU$1017,$B322,'[1]Daily Log'!$AV$18:$AV$1017),0)","v":0},{"$f":"IFERROR($E322*SUMIF('[1]Daily Log'!$AX$18:$AX$1017,$B322,'[1]Daily Log'!$AY$18:$AY$1017),0)","v":0},{"$f":"IFERROR($E322*SUMIF('[1]Daily Log'!$BA$18:$BA$1017,$B322,'[1]Daily Log'!$BB$18:$BB$1017),0)","v":0},{"$f":"IFERROR($E322*SUMIF('[1]Daily Log'!$BD$18:$BD$1017,$B322,'[1]Daily Log'!$BE$18:$BE$1017),0)","v":0},{"$f":"IFERROR($E322*SUMIF('[1]Daily Log'!$BG$18:$BG$1017,$B322,'[1]Daily Log'!$BH$18:$BH$1017),0)","v":0},{"$f":"IFERROR($E322*SUMIF('[1]Daily Log'!$BJ$18:$BJ$1017,$B322,'[1]Daily Log'!$BK$18:$BK$1017),0)","v":0},{"$f":"IFERROR($E322*SUMIF('[1]Daily Log'!$BM$18:$BM$1017,$B322,'[1]Daily Log'!$BN$18:$BN$1017),0)","v":0},{"$f":"IFERROR($E322*SUMIF('[1]Daily Log'!$BP$18:$BP$1017,$B322,'[1]Daily Log'!$BQ$18:$BQ$1017),0)","v":0},{"$f":"IFERROR($E322*SUMIF('[1]Daily Log'!$BS$18:$BS$1017,$B322,'[1]Daily Log'!$BT$18:$BT$1017),0)","v":0},{"$f":"IFERROR($E322*SUMIF('[1]Daily Log'!$BV$18:$BV$1017,$B322,'[1]Daily Log'!$BW$18:$BW$1017),0)","v":0},{"$f":"IFERROR($E322*SUMIF('[1]Daily Log'!$BY$18:$BY$1017,$B322,'[1]Daily Log'!$BZ$18:$BZ$1017),0)","v":0},{"$f":"IFERROR($E322*SUMIF('[1]Daily Log'!$CB$18:$CB$1017,$B322,'[1]Daily Log'!$CC$18:$CC$1017),0)","v":0},{"$f":"IFERROR($E322*SUMIF('[1]Daily Log'!$CE$18:$CE$1017,$B322,'[1]Daily Log'!$CF$18:$CF$1017),0)","v":0},{"$f":"IFERROR($E322*SUMIF('[1]Daily Log'!$CH$18:$CH$1017,$B322,'[1]Daily Log'!$CI$18:$CI$1017),0)","v":0},{"$f":"IFERROR($E322*SUMIF('[1]Daily Log'!$CK$18:$CK$1017,$B322,'[1]Daily Log'!$CL$18:$CL$1017),0)","v":0},{"$f":"IFERROR($E322*SUMIF('[1]Daily Log'!$CN$18:$CN$1017,$B322,'[1]Daily Log'!$CO$18:$CO$1017),0)","v":0}]
[null,"ZAD01 COLD",null,null,1,0,{"$f":"IFERROR($E323*SUMIF('[1]Daily Log'!$B$18:$B$1017,$B323,'[1]Daily Log'!$C$18:$C$1017),0)","v":0},{"$f":"IFERROR($E323*SUMIF('[1]Daily Log'!$E$18:$E$1017,$B323,'[1]Daily Log'!$F$18:$F$1017),0)","v":0},{"$f":"IFERROR($E323*SUMIF('[1]Daily Log'!$H$18:$H$1017,$B323,'[1]Daily Log'!$I$18:$I$1017),0)","v":0}," ",{"$f":"IFERROR($E323*SUMIF('[1]Daily Log'!$N$18:$N$1017,$B323,'[1]Daily Log'!$O$18:$O$1017),0)","v":0},{"$f":"IFERROR($E323*SUMIF('[1]Daily Log'!$Q$18:$Q$1017,$B323,'[1]Daily Log'!$R$18:$R$1017),0)","v":0},{"$f":"IFERROR($E323*SUMIF('[1]Daily Log'!$T$18:$T$1017,$B323,'[1]Daily Log'!$U$18:$U$1017),0)","v":0},{"$f":"IFERROR($E323*SUMIF('[1]Daily Log'!$W$18:$W$1017,$B323,'[1]Daily Log'!$X$18:$X$1017),0)","v":0},{"$f":"IFERROR($E323*SUMIF('[1]Daily Log'!$Z$18:$Z$1017,$B323,'[1]Daily Log'!$AA$18:$AA$1017),0)","v":0},{"$f":"IFERROR($E323*SUMIF('[1]Daily Log'!$AC$18:$AC$1017,$B323,'[1]Daily Log'!$AD$18:$AD$1017),0)","v":0},{"$f":"IFERROR($E323*SUMIF('[1]Daily Log'!$AF$18:$AF$1017,$B323,'[1]Daily Log'!$AG$18:$AG$1017),0)","v":0},{"$f":"IFERROR($E323*SUMIF('[1]Daily Log'!$AI$18:$AI$1017,$B323,'[1]Daily Log'!$AJ$18:$AJ$1017),0)","v":0},{"$f":"IFERROR($E323*SUMIF('[1]Daily Log'!$AL$18:$AL$1017,$B323,'[1]Daily Log'!$AM$18:$AM$1017),0)","v":0},{"$f":"IFERROR($E323*SUMIF('[1]Daily Log'!$AO$18:$AO$1017,$B323,'[1]Daily Log'!$AP$18:$AP$1017),0)","v":0},{"$f":"IFERROR($E323*SUMIF('[1]Daily Log'!$AR$18:$AR$1017,$B323,'[1]Daily Log'!$AS$18:$AS$1017),0)","v":0},{"$f":"IFERROR($E323*SUMIF('[1]Daily Log'!$AU$18:$AU$1017,$B323,'[1]Daily Log'!$AV$18:$AV$1017),0)","v":0},{"$f":"IFERROR($E323*SUMIF('[1]Daily Log'!$AX$18:$AX$1017,$B323,'[1]Daily Log'!$AY$18:$AY$1017),0)","v":0},{"$f":"IFERROR($E323*SUMIF('[1]Daily Log'!$BA$18:$BA$1017,$B323,'[1]Daily Log'!$BB$18:$BB$1017),0)","v":0},{"$f":"IFERROR($E323*SUMIF('[1]Daily Log'!$BD$18:$BD$1017,$B323,'[1]Daily Log'!$BE$18:$BE$1017),0)","v":0},{"$f":"IFERROR($E323*SUMIF('[1]Daily Log'!$BG$18:$BG$1017,$B323,'[1]Daily Log'!$BH$18:$BH$1017),0)","v":0},{"$f":"IFERROR($E323*SUMIF('[1]Daily Log'!$BJ$18:$BJ$1017,$B323,'[1]Daily Log'!$BK$18:$BK$1017),0)","v":0},{"$f":"IFERROR($E323*SUMIF('[1]Daily Log'!$BM$18:$BM$1017,$B323,'[1]Daily Log'!$BN$18:$BN$1017),0)","v":0},{"$f":"IFERROR($E323*SUMIF('[1]Daily Log'!$BP$18:$BP$1017,$B323,'[1]Daily Log'!$BQ$18:$BQ$1017),0)","v":0},{"$f":"IFERROR($E323*SUMIF('[1]Daily Log'!$BS$18:$BS$1017,$B323,'[1]Daily Log'!$BT$18:$BT$1017),0)","v":0},{"$f":"IFERROR($E323*SUMIF('[1]Daily Log'!$BV$18:$BV$1017,$B323,'[1]Daily Log'!$BW$18:$BW$1017),0)","v":0},{"$f":"IFERROR($E323*SUMIF('[1]Daily Log'!$BY$18:$BY$1017,$B323,'[1]Daily Log'!$BZ$18:$BZ$1017),0)","v":0},{"$f":"IFERROR($E323*SUMIF('[1]Daily Log'!$CB$18:$CB$1017,$B323,'[1]Daily Log'!$CC$18:$CC$1017),0)","v":0},{"$f":"IFERROR($E323*SUMIF('[1]Daily Log'!$CE$18:$CE$1017,$B323,'[1]Daily Log'!$CF$18:$CF$1017),0)","v":0},{"$f":"IFERROR($E323*SUMIF('[1]Daily Log'!$CH$18:$CH$1017,$B323,'[1]Daily Log'!$CI$18:$CI$1017),0)","v":0},{"$f":"IFERROR($E323*SUMIF('[1]Daily Log'!$CK$18:$CK$1017,$B323,'[1]Daily Log'!$CL$18:$CL$1017),0)","v":0},{"$f":"IFERROR($E323*SUMIF('[1]Daily Log'!$CN$18:$CN$1017,$B323,'[1]Daily Log'!$CO$18:$CO$1017),0)","v":0}]
[null,"ZAD02 HOT",null,null,1,0,{"$f":"IFERROR($E324*SUMIF('[1]Daily Log'!$B$18:$B$1017,$B324,'[1]Daily Log'!$C$18:$C$1017),0)","v":0},{"$f":"IFERROR($E324*SUMIF('[1]Daily Log'!$E$18:$E$1017,$B324,'[1]Daily Log'!$F$18:$F$1017),0)","v":0},{"$f":"IFERROR($E324*SUMIF('[1]Daily Log'!$H$18:$H$1017,$B324,'[1]Daily Log'!$I$18:$I$1017),0)","v":0}," ",{"$f":"IFERROR($E324*SUMIF('[1]Daily Log'!$N$18:$N$1017,$B324,'[1]Daily Log'!$O$18:$O$1017),0)","v":0},{"$f":"IFERROR($E324*SUMIF('[1]Daily Log'!$Q$18:$Q$1017,$B324,'[1]Daily Log'!$R$18:$R$1017),0)","v":0},{"$f":"IFERROR($E324*SUMIF('[1]Daily Log'!$T$18:$T$1017,$B324,'[1]Daily Log'!$U$18:$U$1017),0)","v":0},{"$f":"IFERROR($E324*SUMIF('[1]Daily Log'!$W$18:$W$1017,$B324,'[1]Daily Log'!$X$18:$X$1017),0)","v":0},{"$f":"IFERROR($E324*SUMIF('[1]Daily Log'!$Z$18:$Z$1017,$B324,'[1]Daily Log'!$AA$18:$AA$1017),0)","v":0},{"$f":"IFERROR($E324*SUMIF('[1]Daily Log'!$AC$18:$AC$1017,$B324,'[1]Daily Log'!$AD$18:$AD$1017),0)","v":0},{"$f":"IFERROR($E324*SUMIF('[1]Daily Log'!$AF$18:$AF$1017,$B324,'[1]Daily Log'!$AG$18:$AG$1017),0)","v":0},{"$f":"IFERROR($E324*SUMIF('[1]Daily Log'!$AI$18:$AI$1017,$B324,'[1]Daily Log'!$AJ$18:$AJ$1017),0)","v":0},{"$f":"IFERROR($E324*SUMIF('[1]Daily Log'!$AL$18:$AL$1017,$B324,'[1]Daily Log'!$AM$18:$AM$1017),0)","v":0},{"$f":"IFERROR($E324*SUMIF('[1]Daily Log'!$AO$18:$AO$1017,$B324,'[1]Daily Log'!$AP$18:$AP$1017),0)","v":0},{"$f":"IFERROR($E324*SUMIF('[1]Daily Log'!$AR$18:$AR$1017,$B324,'[1]Daily Log'!$AS$18:$AS$1017),0)","v":0},{"$f":"IFERROR($E324*SUMIF('[1]Daily Log'!$AU$18:$AU$1017,$B324,'[1]Daily Log'!$AV$18:$AV$1017),0)","v":0},{"$f":"IFERROR($E324*SUMIF('[1]Daily Log'!$AX$18:$AX$1017,$B324,'[1]Daily Log'!$AY$18:$AY$1017),0)","v":0},{"$f":"IFERROR($E324*SUMIF('[1]Daily Log'!$BA$18:$BA$1017,$B324,'[1]Daily Log'!$BB$18:$BB$1017),0)","v":0},{"$f":"IFERROR($E324*SUMIF('[1]Daily Log'!$BD$18:$BD$1017,$B324,'[1]Daily Log'!$BE$18:$BE$1017),0)","v":0},{"$f":"IFERROR($E324*SUMIF('[1]Daily Log'!$BG$18:$BG$1017,$B324,'[1]Daily Log'!$BH$18:$BH$1017),0)","v":0},{"$f":"IFERROR($E324*SUMIF('[1]Daily Log'!$BJ$18:$BJ$1017,$B324,'[1]Daily Log'!$BK$18:$BK$1017),0)","v":0},{"$f":"IFERROR($E324*SUMIF('[1]Daily Log'!$BM$18:$BM$1017,$B324,'[1]Daily Log'!$BN$18:$BN$1017),0)","v":0},{"$f":"IFERROR($E324*SUMIF('[1]Daily Log'!$BP$18:$BP$1017,$B324,'[1]Daily Log'!$BQ$18:$BQ$1017),0)","v":0},{"$f":"IFERROR($E324*SUMIF('[1]Daily Log'!$BS$18:$BS$1017,$B324,'[1]Daily Log'!$BT$18:$BT$1017),0)","v":0},{"$f":"IFERROR($E324*SUMIF('[1]Daily Log'!$BV$18:$BV$1017,$B324,'[1]Daily Log'!$BW$18:$BW$1017),0)","v":0},{"$f":"IFERROR($E324*SUMIF('[1]Daily Log'!$BY$18:$BY$1017,$B324,'[1]Daily Log'!$BZ$18:$BZ$1017),0)","v":0},{"$f":"IFERROR($E324*SUMIF('[1]Daily Log'!$CB$18:$CB$1017,$B324,'[1]Daily Log'!$CC$18:$CC$1017),0)","v":0},{"$f":"IFERROR($E324*SUMIF('[1]Daily Log'!$CE$18:$CE$1017,$B324,'[1]Daily Log'!$CF$18:$CF$1017),0)","v":0},{"$f":"IFERROR($E324*SUMIF('[1]Daily Log'!$CH$18:$CH$1017,$B324,'[1]Daily Log'!$CI$18:$CI$1017),0)","v":0},{"$f":"IFERROR($E324*SUMIF('[1]Daily Log'!$CK$18:$CK$1017,$B324,'[1]Daily Log'!$CL$18:$CL$1017),0)","v":0},{"$f":"IFERROR($E324*SUMIF('[1]Daily Log'!$CN$18:$CN$1017,$B324,'[1]Daily Log'!$CO$18:$CO$1017),0)","v":0}]
[null,"ZAD03 WARM",null,null,1,0,{"$f":"IFERROR($E325*SUMIF('[1]Daily Log'!$B$18:$B$1017,$B325,'[1]Daily Log'!$C$18:$C$1017),0)","v":0},{"$f":"IFERROR($E325*SUMIF('[1]Daily Log'!$E$18:$E$1017,$B325,'[1]Daily Log'!$F$18:$F$1017),0)","v":0},{"$f":"IFERROR($E325*SUMIF('[1]Daily Log'!$H$18:$H$1017,$B325,'[1]Daily Log'!$I$18:$I$1017),0)","v":0}," ",{"$f":"IFERROR($E325*SUMIF('[1]Daily Log'!$N$18:$N$1017,$B325,'[1]Daily Log'!$O$18:$O$1017),0)","v":0},{"$f":"IFERROR($E325*SUMIF('[1]Daily Log'!$Q$18:$Q$1017,$B325,'[1]Daily Log'!$R$18:$R$1017),0)","v":0},{"$f":"IFERROR($E325*SUMIF('[1]Daily Log'!$T$18:$T$1017,$B325,'[1]Daily Log'!$U$18:$U$1017),0)","v":0},{"$f":"IFERROR($E325*SUMIF('[1]Daily Log'!$W$18:$W$1017,$B325,'[1]Daily Log'!$X$18:$X$1017),0)","v":0},{"$f":"IFERROR($E325*SUMIF('[1]Daily Log'!$Z$18:$Z$1017,$B325,'[1]Daily Log'!$AA$18:$AA$1017),0)","v":0},{"$f":"IFERROR($E325*SUMIF('[1]Daily Log'!$AC$18:$AC$1017,$B325,'[1]Daily Log'!$AD$18:$AD$1017),0)","v":0},{"$f":"IFERROR($E325*SUMIF('[1]Daily Log'!$AF$18:$AF$1017,$B325,'[1]Daily Log'!$AG$18:$AG$1017),0)","v":0},{"$f":"IFERROR($E325*SUMIF('[1]Daily Log'!$AI$18:$AI$1017,$B325,'[1]Daily Log'!$AJ$18:$AJ$1017),0)","v":0},{"$f":"IFERROR($E325*SUMIF('[1]Daily Log'!$AL$18:$AL$1017,$B325,'[1]Daily Log'!$AM$18:$AM$1017),0)","v":0},{"$f":"IFERROR($E325*SUMIF('[1]Daily Log'!$AO$18:$AO$1017,$B325,'[1]Daily Log'!$AP$18:$AP$1017),0)","v":0},{"$f":"IFERROR($E325*SUMIF('[1]Daily Log'!$AR$18:$AR$1017,$B325,'[1]Daily Log'!$AS$18:$AS$1017),0)","v":0},{"$f":"IFERROR($E325*SUMIF('[1]Daily Log'!$AU$18:$AU$1017,$B325,'[1]Daily Log'!$AV$18:$AV$1017),0)","v":0},{"$f":"IFERROR($E325*SUMIF('[1]Daily Log'!$AX$18:$AX$1017,$B325,'[1]Daily Log'!$AY$18:$AY$1017),0)","v":0},{"$f":"IFERROR($E325*SUMIF('[1]Daily Log'!$BA$18:$BA$1017,$B325,'[1]Daily Log'!$BB$18:$BB$1017),0)","v":0},{"$f":"IFERROR($E325*SUMIF('[1]Daily Log'!$BD$18:$BD$1017,$B325,'[1]Daily Log'!$BE$18:$BE$1017),0)","v":0},{"$f":"IFERROR($E325*SUMIF('[1]Daily Log'!$BG$18:$BG$1017,$B325,'[1]Daily Log'!$BH$18:$BH$1017),0)","v":0},{"$f":"IFERROR($E325*SUMIF('[1]Daily Log'!$BJ$18:$BJ$1017,$B325,'[1]Daily Log'!$BK$18:$BK$1017),0)","v":0},{"$f":"IFERROR($E325*SUMIF('[1]Daily Log'!$BM$18:$BM$1017,$B325,'[1]Daily Log'!$BN$18:$BN$1017),0)","v":0},{"$f":"IFERROR($E325*SUMIF('[1]Daily Log'!$BP$18:$BP$1017,$B325,'[1]Daily Log'!$BQ$18:$BQ$1017),0)","v":0},{"$f":"IFERROR($E325*SUMIF('[1]Daily Log'!$BS$18:$BS$1017,$B325,'[1]Daily Log'!$BT$18:$BT$1017),0)","v":0},{"$f":"IFERROR($E325*SUMIF('[1]Daily Log'!$BV$18:$BV$1017,$B325,'[1]Daily Log'!$BW$18:$BW$1017),0)","v":0},{"$f":"IFERROR($E325*SUMIF('[1]Daily Log'!$BY$18:$BY$1017,$B325,'[1]Daily Log'!$BZ$18:$BZ$1017),0)","v":0},{"$f":"IFERROR($E325*SUMIF('[1]Daily Log'!$CB$18:$CB$1017,$B325,'[1]Daily Log'!$CC$18:$CC$1017),0)","v":0},{"$f":"IFERROR($E325*SUMIF('[1]Daily Log'!$CE$18:$CE$1017,$B325,'[1]Daily Log'!$CF$18:$CF$1017),0)","v":0},{"$f":"IFERROR($E325*SUMIF('[1]Daily Log'!$CH$18:$CH$1017,$B325,'[1]Daily Log'!$CI$18:$CI$1017),0)","v":0},{"$f":"IFERROR($E325*SUMIF('[1]Daily Log'!$CK$18:$CK$1017,$B325,'[1]Daily Log'!$CL$18:$CL$1017),0)","v":0},{"$f":"IFERROR($E325*SUMIF('[1]Daily Log'!$CN$18:$CN$1017,$B325,'[1]Daily Log'!$CO$18:$CO$1017),0)","v":0}]
[null,"ZAD04 LESS ICE",null,null,1,0,{"$f":"IFERROR($E326*SUMIF('[1]Daily Log'!$B$18:$B$1017,$B326,'[1]Daily Log'!$C$18:$C$1017),0)","v":0},{"$f":"IFERROR($E326*SUMIF('[1]Daily Log'!$E$18:$E$1017,$B326,'[1]Daily Log'!$F$18:$F$1017),0)","v":0},{"$f":"IFERROR($E326*SUMIF('[1]Daily Log'!$H$18:$H$1017,$B326,'[1]Daily Log'!$I$18:$I$1017),0)","v":0}," ",{"$f":"IFERROR($E326*SUMIF('[1]Daily Log'!$N$18:$N$1017,$B326,'[1]Daily Log'!$O$18:$O$1017),0)","v":0},{"$f":"IFERROR($E326*SUMIF('[1]Daily Log'!$Q$18:$Q$1017,$B326,'[1]Daily Log'!$R$18:$R$1017),0)","v":0},{"$f":"IFERROR($E326*SUMIF('[1]Daily Log'!$T$18:$T$1017,$B326,'[1]Daily Log'!$U$18:$U$1017),0)","v":0},{"$f":"IFERROR($E326*SUMIF('[1]Daily Log'!$W$18:$W$1017,$B326,'[1]Daily Log'!$X$18:$X$1017),0)","v":0},{"$f":"IFERROR($E326*SUMIF('[1]Daily Log'!$Z$18:$Z$1017,$B326,'[1]Daily Log'!$AA$18:$AA$1017),0)","v":0},{"$f":"IFERROR($E326*SUMIF('[1]Daily Log'!$AC$18:$AC$1017,$B326,'[1]Daily Log'!$AD$18:$AD$1017),0)","v":0},{"$f":"IFERROR($E326*SUMIF('[1]Daily Log'!$AF$18:$AF$1017,$B326,'[1]Daily Log'!$AG$18:$AG$1017),0)","v":0},{"$f":"IFERROR($E326*SUMIF('[1]Daily Log'!$AI$18:$AI$1017,$B326,'[1]Daily Log'!$AJ$18:$AJ$1017),0)","v":0},{"$f":"IFERROR($E326*SUMIF('[1]Daily Log'!$AL$18:$AL$1017,$B326,'[1]Daily Log'!$AM$18:$AM$1017),0)","v":0},{"$f":"IFERROR($E326*SUMIF('[1]Daily Log'!$AO$18:$AO$1017,$B326,'[1]Daily Log'!$AP$18:$AP$1017),0)","v":0},{"$f":"IFERROR($E326*SUMIF('[1]Daily Log'!$AR$18:$AR$1017,$B326,'[1]Daily Log'!$AS$18:$AS$1017),0)","v":0},{"$f":"IFERROR($E326*SUMIF('[1]Daily Log'!$AU$18:$AU$1017,$B326,'[1]Daily Log'!$AV$18:$AV$1017),0)","v":0},{"$f":"IFERROR($E326*SUMIF('[1]Daily Log'!$AX$18:$AX$1017,$B326,'[1]Daily Log'!$AY$18:$AY$1017),0)","v":0},{"$f":"IFERROR($E326*SUMIF('[1]Daily Log'!$BA$18:$BA$1017,$B326,'[1]Daily Log'!$BB$18:$BB$1017),0)","v":0},{"$f":"IFERROR($E326*SUMIF('[1]Daily Log'!$BD$18:$BD$1017,$B326,'[1]Daily Log'!$BE$18:$BE$1017),0)","v":0},{"$f":"IFERROR($E326*SUMIF('[1]Daily Log'!$BG$18:$BG$1017,$B326,'[1]Daily Log'!$BH$18:$BH$1017),0)","v":0},{"$f":"IFERROR($E326*SUMIF('[1]Daily Log'!$BJ$18:$BJ$1017,$B326,'[1]Daily Log'!$BK$18:$BK$1017),0)","v":0},{"$f":"IFERROR($E326*SUMIF('[1]Daily Log'!$BM$18:$BM$1017,$B326,'[1]Daily Log'!$BN$18:$BN$1017),0)","v":0},{"$f":"IFERROR($E326*SUMIF('[1]Daily Log'!$BP$18:$BP$1017,$B326,'[1]Daily Log'!$BQ$18:$BQ$1017),0)","v":0},{"$f":"IFERROR($E326*SUMIF('[1]Daily Log'!$BS$18:$BS$1017,$B326,'[1]Daily Log'!$BT$18:$BT$1017),0)","v":0},{"$f":"IFERROR($E326*SUMIF('[1]Daily Log'!$BV$18:$BV$1017,$B326,'[1]Daily Log'!$BW$18:$BW$1017),0)","v":0},{"$f":"IFERROR($E326*SUMIF('[1]Daily Log'!$BY$18:$BY$1017,$B326,'[1]Daily Log'!$BZ$18:$BZ$1017),0)","v":0},{"$f":"IFERROR($E326*SUMIF('[1]Daily Log'!$CB$18:$CB$1017,$B326,'[1]Daily Log'!$CC$18:$CC$1017),0)","v":0},{"$f":"IFERROR($E326*SUMIF('[1]Daily Log'!$CE$18:$CE$1017,$B326,'[1]Daily Log'!$CF$18:$CF$1017),0)","v":0},{"$f":"IFERROR($E326*SUMIF('[1]Daily Log'!$CH$18:$CH$1017,$B326,'[1]Daily Log'!$CI$18:$CI$1017),0)","v":0},{"$f":"IFERROR($E326*SUMIF('[1]Daily Log'!$CK$18:$CK$1017,$B326,'[1]Daily Log'!$CL$18:$CL$1017),0)","v":0},{"$f":"IFERROR($E326*SUMIF('[1]Daily Log'!$CN$18:$CN$1017,$B326,'[1]Daily Log'!$CO$18:$CO$1017),0)","v":0}]
[null,"ZAD05 MORE ICE",null,null,1,0,{"$f":"IFERROR($E327*SUMIF('[1]Daily Log'!$B$18:$B$1017,$B327,'[1]Daily Log'!$C$18:$C$1017),0)","v":0},{"$f":"IFERROR($E327*SUMIF('[1]Daily Log'!$E$18:$E$1017,$B327,'[1]Daily Log'!$F$18:$F$1017),0)","v":0},{"$f":"IFERROR($E327*SUMIF('[1]Daily Log'!$H$18:$H$1017,$B327,'[1]Daily Log'!$I$18:$I$1017),0)","v":0}," ",{"$f":"IFERROR($E327*SUMIF('[1]Daily Log'!$N$18:$N$1017,$B327,'[1]Daily Log'!$O$18:$O$1017),0)","v":0},{"$f":"IFERROR($E327*SUMIF('[1]Daily Log'!$Q$18:$Q$1017,$B327,'[1]Daily Log'!$R$18:$R$1017),0)","v":0},{"$f":"IFERROR($E327*SUMIF('[1]Daily Log'!$T$18:$T$1017,$B327,'[1]Daily Log'!$U$18:$U$1017),0)","v":0},{"$f":"IFERROR($E327*SUMIF('[1]Daily Log'!$W$18:$W$1017,$B327,'[1]Daily Log'!$X$18:$X$1017),0)","v":0},{"$f":"IFERROR($E327*SUMIF('[1]Daily Log'!$Z$18:$Z$1017,$B327,'[1]Daily Log'!$AA$18:$AA$1017),0)","v":0},{"$f":"IFERROR($E327*SUMIF('[1]Daily Log'!$AC$18:$AC$1017,$B327,'[1]Daily Log'!$AD$18:$AD$1017),0)","v":0},{"$f":"IFERROR($E327*SUMIF('[1]Daily Log'!$AF$18:$AF$1017,$B327,'[1]Daily Log'!$AG$18:$AG$1017),0)","v":0},{"$f":"IFERROR($E327*SUMIF('[1]Daily Log'!$AI$18:$AI$1017,$B327,'[1]Daily Log'!$AJ$18:$AJ$1017),0)","v":0},{"$f":"IFERROR($E327*SUMIF('[1]Daily Log'!$AL$18:$AL$1017,$B327,'[1]Daily Log'!$AM$18:$AM$1017),0)","v":0},{"$f":"IFERROR($E327*SUMIF('[1]Daily Log'!$AO$18:$AO$1017,$B327,'[1]Daily Log'!$AP$18:$AP$1017),0)","v":0},{"$f":"IFERROR($E327*SUMIF('[1]Daily Log'!$AR$18:$AR$1017,$B327,'[1]Daily Log'!$AS$18:$AS$1017),0)","v":0},{"$f":"IFERROR($E327*SUMIF('[1]Daily Log'!$AU$18:$AU$1017,$B327,'[1]Daily Log'!$AV$18:$AV$1017),0)","v":0},{"$f":"IFERROR($E327*SUMIF('[1]Daily Log'!$AX$18:$AX$1017,$B327,'[1]Daily Log'!$AY$18:$AY$1017),0)","v":0},{"$f":"IFERROR($E327*SUMIF('[1]Daily Log'!$BA$18:$BA$1017,$B327,'[1]Daily Log'!$BB$18:$BB$1017),0)","v":0},{"$f":"IFERROR($E327*SUMIF('[1]Daily Log'!$BD$18:$BD$1017,$B327,'[1]Daily Log'!$BE$18:$BE$1017),0)","v":0},{"$f":"IFERROR($E327*SUMIF('[1]Daily Log'!$BG$18:$BG$1017,$B327,'[1]Daily Log'!$BH$18:$BH$1017),0)","v":0},{"$f":"IFERROR($E327*SUMIF('[1]Daily Log'!$BJ$18:$BJ$1017,$B327,'[1]Daily Log'!$BK$18:$BK$1017),0)","v":0},{"$f":"IFERROR($E327*SUMIF('[1]Daily Log'!$BM$18:$BM$1017,$B327,'[1]Daily Log'!$BN$18:$BN$1017),0)","v":0},{"$f":"IFERROR($E327*SUMIF('[1]Daily Log'!$BP$18:$BP$1017,$B327,'[1]Daily Log'!$BQ$18:$BQ$1017),0)","v":0},{"$f":"IFERROR($E327*SUMIF('[1]Daily Log'!$BS$18:$BS$1017,$B327,'[1]Daily Log'!$BT$18:$BT$1017),0)","v":0},{"$f":"IFERROR($E327*SUMIF('[1]Daily Log'!$BV$18:$BV$1017,$B327,'[1]Daily Log'!$BW$18:$BW$1017),0)","v":0},{"$f":"IFERROR($E327*SUMIF('[1]Daily Log'!$BY$18:$BY$1017,$B327,'[1]Daily Log'!$BZ$18:$BZ$1017),0)","v":0},{"$f":"IFERROR($E327*SUMIF('[1]Daily Log'!$CB$18:$CB$1017,$B327,'[1]Daily Log'!$CC$18:$CC$1017),0)","v":0},{"$f":"IFERROR($E327*SUMIF('[1]Daily Log'!$CE$18:$CE$1017,$B327,'[1]Daily Log'!$CF$18:$CF$1017),0)","v":0},{"$f":"IFERROR($E327*SUMIF('[1]Daily Log'!$CH$18:$CH$1017,$B327,'[1]Daily Log'!$CI$18:$CI$1017),0)","v":0},{"$f":"IFERROR($E327*SUMIF('[1]Daily Log'!$CK$18:$CK$1017,$B327,'[1]Daily Log'!$CL$18:$CL$1017),0)","v":0},{"$f":"IFERROR($E327*SUMIF('[1]Daily Log'!$CN$18:$CN$1017,$B327,'[1]Daily Log'!$CO$18:$CO$1017),0)","v":0}]
[null,"ZAD06 NO ICE",null,null,1,0,{"$f":"IFERROR($E328*SUMIF('[1]Daily Log'!$B$18:$B$1017,$B328,'[1]Daily Log'!$C$18:$C$1017),0)","v":0},{"$f":"IFERROR($E328*SUMIF('[1]Daily Log'!$E$18:$E$1017,$B328,'[1]Daily Log'!$F$18:$F$1017),0)","v":0},{"$f":"IFERROR($E328*SUMIF('[1]Daily Log'!$H$18:$H$1017,$B328,'[1]Daily Log'!$I$18:$I$1017),0)","v":0}," ",{"$f":"IFERROR($E328*SUMIF('[1]Daily Log'!$N$18:$N$1017,$B328,'[1]Daily Log'!$O$18:$O$1017),0)","v":0},{"$f":"IFERROR($E328*SUMIF('[1]Daily Log'!$Q$18:$Q$1017,$B328,'[1]Daily Log'!$R$18:$R$1017),0)","v":0},{"$f":"IFERROR($E328*SUMIF('[1]Daily Log'!$T$18:$T$1017,$B328,'[1]Daily Log'!$U$18:$U$1017),0)","v":0},{"$f":"IFERROR($E328*SUMIF('[1]Daily Log'!$W$18:$W$1017,$B328,'[1]Daily Log'!$X$18:$X$1017),0)","v":0},{"$f":"IFERROR($E328*SUMIF('[1]Daily Log'!$Z$18:$Z$1017,$B328,'[1]Daily Log'!$AA$18:$AA$1017),0)","v":0},{"$f":"IFERROR($E328*SUMIF('[1]Daily Log'!$AC$18:$AC$1017,$B328,'[1]Daily Log'!$AD$18:$AD$1017),0)","v":0},{"$f":"IFERROR($E328*SUMIF('[1]Daily Log'!$AF$18:$AF$1017,$B328,'[1]Daily Log'!$AG$18:$AG$1017),0)","v":0},{"$f":"IFERROR($E328*SUMIF('[1]Daily Log'!$AI$18:$AI$1017,$B328,'[1]Daily Log'!$AJ$18:$AJ$1017),0)","v":0},{"$f":"IFERROR($E328*SUMIF('[1]Daily Log'!$AL$18:$AL$1017,$B328,'[1]Daily Log'!$AM$18:$AM$1017),0)","v":0},{"$f":"IFERROR($E328*SUMIF('[1]Daily Log'!$AO$18:$AO$1017,$B328,'[1]Daily Log'!$AP$18:$AP$1017),0)","v":0},{"$f":"IFERROR($E328*SUMIF('[1]Daily Log'!$AR$18:$AR$1017,$B328,'[1]Daily Log'!$AS$18:$AS$1017),0)","v":0},{"$f":"IFERROR($E328*SUMIF('[1]Daily Log'!$AU$18:$AU$1017,$B328,'[1]Daily Log'!$AV$18:$AV$1017),0)","v":0},{"$f":"IFERROR($E328*SUMIF('[1]Daily Log'!$AX$18:$AX$1017,$B328,'[1]Daily Log'!$AY$18:$AY$1017),0)","v":0},{"$f":"IFERROR($E328*SUMIF('[1]Daily Log'!$BA$18:$BA$1017,$B328,'[1]Daily Log'!$BB$18:$BB$1017),0)","v":0},{"$f":"IFERROR($E328*SUMIF('[1]Daily Log'!$BD$18:$BD$1017,$B328,'[1]Daily Log'!$BE$18:$BE$1017),0)","v":0},{"$f":"IFERROR($E328*SUMIF('[1]Daily Log'!$BG$18:$BG$1017,$B328,'[1]Daily Log'!$BH$18:$BH$1017),0)","v":0},{"$f":"IFERROR($E328*SUMIF('[1]Daily Log'!$BJ$18:$BJ$1017,$B328,'[1]Daily Log'!$BK$18:$BK$1017),0)","v":0},{"$f":"IFERROR($E328*SUMIF('[1]Daily Log'!$BM$18:$BM$1017,$B328,'[1]Daily Log'!$BN$18:$BN$1017),0)","v":0},{"$f":"IFERROR($E328*SUMIF('[1]Daily Log'!$BP$18:$BP$1017,$B328,'[1]Daily Log'!$BQ$18:$BQ$1017),0)","v":0},{"$f":"IFERROR($E328*SUMIF('[1]Daily Log'!$BS$18:$BS$1017,$B328,'[1]Daily Log'!$BT$18:$BT$1017),0)","v":0},{"$f":"IFERROR($E328*SUMIF('[1]Daily Log'!$BV$18:$BV$1017,$B328,'[1]Daily Log'!$BW$18:$BW$1017),0)","v":0},{"$f":"IFERROR($E328*SUMIF('[1]Daily Log'!$BY$18:$BY$1017,$B328,'[1]Daily Log'!$BZ$18:$BZ$1017),0)","v":0},{"$f":"IFERROR($E328*SUMIF('[1]Daily Log'!$CB$18:$CB$1017,$B328,'[1]Daily Log'!$CC$18:$CC$1017),0)","v":0},{"$f":"IFERROR($E328*SUMIF('[1]Daily Log'!$CE$18:$CE$1017,$B328,'[1]Daily Log'!$CF$18:$CF$1017),0)","v":0},{"$f":"IFERROR($E328*SUMIF('[1]Daily Log'!$CH$18:$CH$1017,$B328,'[1]Daily Log'!$CI$18:$CI$1017),0)","v":0},{"$f":"IFERROR($E328*SUMIF('[1]Daily Log'!$CK$18:$CK$1017,$B328,'[1]Daily Log'!$CL$18:$CL$1017),0)","v":0},{"$f":"IFERROR($E328*SUMIF('[1]Daily Log'!$CN$18:$CN$1017,$B328,'[1]Daily Log'!$CO$18:$CO$1017),0)","v":0}]
[null,"ZAD07 LESS SWEET",null,null,1,0,{"$f":"IFERROR($E329*SUMIF('[1]Daily Log'!$B$18:$B$1017,$B329,'[1]Daily Log'!$C$18:$C$1017),0)","v":0},{"$f":"IFERROR($E329*SUMIF('[1]Daily Log'!$E$18:$E$1017,$B329,'[1]Daily Log'!$F$18:$F$1017),0)","v":0},{"$f":"IFERROR($E329*SUMIF('[1]Daily Log'!$H$18:$H$1017,$B329,'[1]Daily Log'!$I$18:$I$1017),0)","v":0}," ",{"$f":"IFERROR($E329*SUMIF('[1]Daily Log'!$N$18:$N$1017,$B329,'[1]Daily Log'!$O$18:$O$1017),0)","v":0},{"$f":"IFERROR($E329*SUMIF('[1]Daily Log'!$Q$18:$Q$1017,$B329,'[1]Daily Log'!$R$18:$R$1017),0)","v":0},{"$f":"IFERROR($E329*SUMIF('[1]Daily Log'!$T$18:$T$1017,$B329,'[1]Daily Log'!$U$18:$U$1017),0)","v":0},{"$f":"IFERROR($E329*SUMIF('[1]Daily Log'!$W$18:$W$1017,$B329,'[1]Daily Log'!$X$18:$X$1017),0)","v":0},{"$f":"IFERROR($E329*SUMIF('[1]Daily Log'!$Z$18:$Z$1017,$B329,'[1]Daily Log'!$AA$18:$AA$1017),0)","v":0},{"$f":"IFERROR($E329*SUMIF('[1]Daily Log'!$AC$18:$AC$1017,$B329,'[1]Daily Log'!$AD$18:$AD$1017),0)","v":0},{"$f":"IFERROR($E329*SUMIF('[1]Daily Log'!$AF$18:$AF$1017,$B329,'[1]Daily Log'!$AG$18:$AG$1017),0)","v":0},{"$f":"IFERROR($E329*SUMIF('[1]Daily Log'!$AI$18:$AI$1017,$B329,'[1]Daily Log'!$AJ$18:$AJ$1017),0)","v":0},{"$f":"IFERROR($E329*SUMIF('[1]Daily Log'!$AL$18:$AL$1017,$B329,'[1]Daily Log'!$AM$18:$AM$1017),0)","v":0},{"$f":"IFERROR($E329*SUMIF('[1]Daily Log'!$AO$18:$AO$1017,$B329,'[1]Daily Log'!$AP$18:$AP$1017),0)","v":0},{"$f":"IFERROR($E329*SUMIF('[1]Daily Log'!$AR$18:$AR$1017,$B329,'[1]Daily Log'!$AS$18:$AS$1017),0)","v":0},{"$f":"IFERROR($E329*SUMIF('[1]Daily Log'!$AU$18:$AU$1017,$B329,'[1]Daily Log'!$AV$18:$AV$1017),0)","v":0},{"$f":"IFERROR($E329*SUMIF('[1]Daily Log'!$AX$18:$AX$1017,$B329,'[1]Daily Log'!$AY$18:$AY$1017),0)","v":0},{"$f":"IFERROR($E329*SUMIF('[1]Daily Log'!$BA$18:$BA$1017,$B329,'[1]Daily Log'!$BB$18:$BB$1017),0)","v":0},{"$f":"IFERROR($E329*SUMIF('[1]Daily Log'!$BD$18:$BD$1017,$B329,'[1]Daily Log'!$BE$18:$BE$1017),0)","v":0},{"$f":"IFERROR($E329*SUMIF('[1]Daily Log'!$BG$18:$BG$1017,$B329,'[1]Daily Log'!$BH$18:$BH$1017),0)","v":0},{"$f":"IFERROR($E329*SUMIF('[1]Daily Log'!$BJ$18:$BJ$1017,$B329,'[1]Daily Log'!$BK$18:$BK$1017),0)","v":0},{"$f":"IFERROR($E329*SUMIF('[1]Daily Log'!$BM$18:$BM$1017,$B329,'[1]Daily Log'!$BN$18:$BN$1017),0)","v":0},{"$f":"IFERROR($E329*SUMIF('[1]Daily Log'!$BP$18:$BP$1017,$B329,'[1]Daily Log'!$BQ$18:$BQ$1017),0)","v":0},{"$f":"IFERROR($E329*SUMIF('[1]Daily Log'!$BS$18:$BS$1017,$B329,'[1]Daily Log'!$BT$18:$BT$1017),0)","v":0},{"$f":"IFERROR($E329*SUMIF('[1]Daily Log'!$BV$18:$BV$1017,$B329,'[1]Daily Log'!$BW$18:$BW$1017),0)","v":0},{"$f":"IFERROR($E329*SUMIF('[1]Daily Log'!$BY$18:$BY$1017,$B329,'[1]Daily Log'!$BZ$18:$BZ$1017),0)","v":0},{"$f":"IFERROR($E329*SUMIF('[1]Daily Log'!$CB$18:$CB$1017,$B329,'[1]Daily Log'!$CC$18:$CC$1017),0)","v":0},{"$f":"IFERROR($E329*SUMIF('[1]Daily Log'!$CE$18:$CE$1017,$B329,'[1]Daily Log'!$CF$18:$CF$1017),0)","v":0},{"$f":"IFERROR($E329*SUMIF('[1]Daily Log'!$CH$18:$CH$1017,$B329,'[1]Daily Log'!$CI$18:$CI$1017),0)","v":0},{"$f":"IFERROR($E329*SUMIF('[1]Daily Log'!$CK$18:$CK$1017,$B329,'[1]Daily Log'!$CL$18:$CL$1017),0)","v":0},{"$f":"IFERROR($E329*SUMIF('[1]Daily Log'!$CN$18:$CN$1017,$B329,'[1]Daily Log'!$CO$18:$CO$1017),0)","v":0}]
[null,"ZAD10 LESS SPICY",null,null,1,0,{"$f":"IFERROR($E330*SUMIF('[1]Daily Log'!$B$18:$B$1017,$B330,'[1]Daily Log'!$C$18:$C$1017),0)","v":0},{"$f":"IFERROR($E330*SUMIF('[1]Daily Log'!$E$18:$E$1017,$B330,'[1]Daily Log'!$F$18:$F$1017),0)","v":0},{"$f":"IFERROR($E330*SUMIF('[1]Daily Log'!$H$18:$H$1017,$B330,'[1]Daily Log'!$I$18:$I$1017),0)","v":0}," ",{"$f":"IFERROR($E330*SUMIF('[1]Daily Log'!$N$18:$N$1017,$B330,'[1]Daily Log'!$O$18:$O$1017),0)","v":0},{"$f":"IFERROR($E330*SUMIF('[1]Daily Log'!$Q$18:$Q$1017,$B330,'[1]Daily Log'!$R$18:$R$1017),0)","v":0},{"$f":"IFERROR($E330*SUMIF('[1]Daily Log'!$T$18:$T$1017,$B330,'[1]Daily Log'!$U$18:$U$1017),0)","v":0},{"$f":"IFERROR($E330*SUMIF('[1]Daily Log'!$W$18:$W$1017,$B330,'[1]Daily Log'!$X$18:$X$1017),0)","v":0},{"$f":"IFERROR($E330*SUMIF('[1]Daily Log'!$Z$18:$Z$1017,$B330,'[1]Daily Log'!$AA$18:$AA$1017),0)","v":0},{"$f":"IFERROR($E330*SUMIF('[1]Daily Log'!$AC$18:$AC$1017,$B330,'[1]Daily Log'!$AD$18:$AD$1017),0)","v":0},{"$f":"IFERROR($E330*SUMIF('[1]Daily Log'!$AF$18:$AF$1017,$B330,'[1]Daily Log'!$AG$18:$AG$1017),0)","v":0},{"$f":"IFERROR($E330*SUMIF('[1]Daily Log'!$AI$18:$AI$1017,$B330,'[1]Daily Log'!$AJ$18:$AJ$1017),0)","v":0},{"$f":"IFERROR($E330*SUMIF('[1]Daily Log'!$AL$18:$AL$1017,$B330,'[1]Daily Log'!$AM$18:$AM$1017),0)","v":0},{"$f":"IFERROR($E330*SUMIF('[1]Daily Log'!$AO$18:$AO$1017,$B330,'[1]Daily Log'!$AP$18:$AP$1017),0)","v":0},{"$f":"IFERROR($E330*SUMIF('[1]Daily Log'!$AR$18:$AR$1017,$B330,'[1]Daily Log'!$AS$18:$AS$1017),0)","v":0},{"$f":"IFERROR($E330*SUMIF('[1]Daily Log'!$AU$18:$AU$1017,$B330,'[1]Daily Log'!$AV$18:$AV$1017),0)","v":0},{"$f":"IFERROR($E330*SUMIF('[1]Daily Log'!$AX$18:$AX$1017,$B330,'[1]Daily Log'!$AY$18:$AY$1017),0)","v":0},{"$f":"IFERROR($E330*SUMIF('[1]Daily Log'!$BA$18:$BA$1017,$B330,'[1]Daily Log'!$BB$18:$BB$1017),0)","v":0},{"$f":"IFERROR($E330*SUMIF('[1]Daily Log'!$BD$18:$BD$1017,$B330,'[1]Daily Log'!$BE$18:$BE$1017),0)","v":0},{"$f":"IFERROR($E330*SUMIF('[1]Daily Log'!$BG$18:$BG$1017,$B330,'[1]Daily Log'!$BH$18:$BH$1017),0)","v":0},{"$f":"IFERROR($E330*SUMIF('[1]Daily Log'!$BJ$18:$BJ$1017,$B330,'[1]Daily Log'!$BK$18:$BK$1017),0)","v":0},{"$f":"IFERROR($E330*SUMIF('[1]Daily Log'!$BM$18:$BM$1017,$B330,'[1]Daily Log'!$BN$18:$BN$1017),0)","v":0},{"$f":"IFERROR($E330*SUMIF('[1]Daily Log'!$BP$18:$BP$1017,$B330,'[1]Daily Log'!$BQ$18:$BQ$1017),0)","v":0},{"$f":"IFERROR($E330*SUMIF('[1]Daily Log'!$BS$18:$BS$1017,$B330,'[1]Daily Log'!$BT$18:$BT$1017),0)","v":0},{"$f":"IFERROR($E330*SUMIF('[1]Daily Log'!$BV$18:$BV$1017,$B330,'[1]Daily Log'!$BW$18:$BW$1017),0)","v":0},{"$f":"IFERROR($E330*SUMIF('[1]Daily Log'!$BY$18:$BY$1017,$B330,'[1]Daily Log'!$BZ$18:$BZ$1017),0)","v":0},{"$f":"IFERROR($E330*SUMIF('[1]Daily Log'!$CB$18:$CB$1017,$B330,'[1]Daily Log'!$CC$18:$CC$1017),0)","v":0},{"$f":"IFERROR($E330*SUMIF('[1]Daily Log'!$CE$18:$CE$1017,$B330,'[1]Daily Log'!$CF$18:$CF$1017),0)","v":0},{"$f":"IFERROR($E330*SUMIF('[1]Daily Log'!$CH$18:$CH$1017,$B330,'[1]Daily Log'!$CI$18:$CI$1017),0)","v":0},{"$f":"IFERROR($E330*SUMIF('[1]Daily Log'!$CK$18:$CK$1017,$B330,'[1]Daily Log'!$CL$18:$CL$1017),0)","v":0},{"$f":"IFERROR($E330*SUMIF('[1]Daily Log'!$CN$18:$CN$1017,$B330,'[1]Daily Log'!$CO$18:$CO$1017),0)","v":0}]
[null,"ZAD11 MORE SPICY",null,null,1,0,{"$f":"IFERROR($E331*SUMIF('[1]Daily Log'!$B$18:$B$1017,$B331,'[1]Daily Log'!$C$18:$C$1017),0)","v":0},{"$f":"IFERROR($E331*SUMIF('[1]Daily Log'!$E$18:$E$1017,$B331,'[1]Daily Log'!$F$18:$F$1017),0)","v":0},{"$f":"IFERROR($E331*SUMIF('[1]Daily Log'!$H$18:$H$1017,$B331,'[1]Daily Log'!$I$18:$I$1017),0)","v":0}," ",{"$f":"IFERROR($E331*SUMIF('[1]Daily Log'!$N$18:$N$1017,$B331,'[1]Daily Log'!$O$18:$O$1017),0)","v":0},{"$f":"IFERROR($E331*SUMIF('[1]Daily Log'!$Q$18:$Q$1017,$B331,'[1]Daily Log'!$R$18:$R$1017),0)","v":0},{"$f":"IFERROR($E331*SUMIF('[1]Daily Log'!$T$18:$T$1017,$B331,'[1]Daily Log'!$U$18:$U$1017),0)","v":0},{"$f":"IFERROR($E331*SUMIF('[1]Daily Log'!$W$18:$W$1017,$B331,'[1]Daily Log'!$X$18:$X$1017),0)","v":0},{"$f":"IFERROR($E331*SUMIF('[1]Daily Log'!$Z$18:$Z$1017,$B331,'[1]Daily Log'!$AA$18:$AA$1017),0)","v":0},{"$f":"IFERROR($E331*SUMIF('[1]Daily Log'!$AC$18:$AC$1017,$B331,'[1]Daily Log'!$AD$18:$AD$1017),0)","v":0},{"$f":"IFERROR($E331*SUMIF('[1]Daily Log'!$AF$18:$AF$1017,$B331,'[1]Daily Log'!$AG$18:$AG$1017),0)","v":0},{"$f":"IFERROR($E331*SUMIF('[1]Daily Log'!$AI$18:$AI$1017,$B331,'[1]Daily Log'!$AJ$18:$AJ$1017),0)","v":0},{"$f":"IFERROR($E331*SUMIF('[1]Daily Log'!$AL$18:$AL$1017,$B331,'[1]Daily Log'!$AM$18:$AM$1017),0)","v":0},{"$f":"IFERROR($E331*SUMIF('[1]Daily Log'!$AO$18:$AO$1017,$B331,'[1]Daily Log'!$AP$18:$AP$1017),0)","v":0},{"$f":"IFERROR($E331*SUMIF('[1]Daily Log'!$AR$18:$AR$1017,$B331,'[1]Daily Log'!$AS$18:$AS$1017),0)","v":0},{"$f":"IFERROR($E331*SUMIF('[1]Daily Log'!$AU$18:$AU$1017,$B331,'[1]Daily Log'!$AV$18:$AV$1017),0)","v":0},{"$f":"IFERROR($E331*SUMIF('[1]Daily Log'!$AX$18:$AX$1017,$B331,'[1]Daily Log'!$AY$18:$AY$1017),0)","v":0},{"$f":"IFERROR($E331*SUMIF('[1]Daily Log'!$BA$18:$BA$1017,$B331,'[1]Daily Log'!$BB$18:$BB$1017),0)","v":0},{"$f":"IFERROR($E331*SUMIF('[1]Daily Log'!$BD$18:$BD$1017,$B331,'[1]Daily Log'!$BE$18:$BE$1017),0)","v":0},{"$f":"IFERROR($E331*SUMIF('[1]Daily Log'!$BG$18:$BG$1017,$B331,'[1]Daily Log'!$BH$18:$BH$1017),0)","v":0},{"$f":"IFERROR($E331*SUMIF('[1]Daily Log'!$BJ$18:$BJ$1017,$B331,'[1]Daily Log'!$BK$18:$BK$1017),0)","v":0},{"$f":"IFERROR($E331*SUMIF('[1]Daily Log'!$BM$18:$BM$1017,$B331,'[1]Daily Log'!$BN$18:$BN$1017),0)","v":0},{"$f":"IFERROR($E331*SUMIF('[1]Daily Log'!$BP$18:$BP$1017,$B331,'[1]Daily Log'!$BQ$18:$BQ$1017),0)","v":0},{"$f":"IFERROR($E331*SUMIF('[1]Daily Log'!$BS$18:$BS$1017,$B331,'[1]Daily Log'!$BT$18:$BT$1017),0)","v":0},{"$f":"IFERROR($E331*SUMIF('[1]Daily Log'!$BV$18:$BV$1017,$B331,'[1]Daily Log'!$BW$18:$BW$1017),0)","v":0},{"$f":"IFERROR($E331*SUMIF('[1]Daily Log'!$BY$18:$BY$1017,$B331,'[1]Daily Log'!$BZ$18:$BZ$1017),0)","v":0},{"$f":"IFERROR($E331*SUMIF('[1]Daily Log'!$CB$18:$CB$1017,$B331,'[1]Daily Log'!$CC$18:$CC$1017),0)","v":0},{"$f":"IFERROR($E331*SUMIF('[1]Daily Log'!$CE$18:$CE$1017,$B331,'[1]Daily Log'!$CF$18:$CF$1017),0)","v":0},{"$f":"IFERROR($E331*SUMIF('[1]Daily Log'!$CH$18:$CH$1017,$B331,'[1]Daily Log'!$CI$18:$CI$1017),0)","v":0},{"$f":"IFERROR($E331*SUMIF('[1]Daily Log'!$CK$18:$CK$1017,$B331,'[1]Daily Log'!$CL$18:$CL$1017),0)","v":0},{"$f":"IFERROR($E331*SUMIF('[1]Daily Log'!$CN$18:$CN$1017,$B331,'[1]Daily Log'!$CO$18:$CO$1017),0)","v":0}]
[null,"ZAD12 NO VEGGIE",null,null,1,0,{"$f":"IFERROR($E332*SUMIF('[1]Daily Log'!$B$18:$B$1017,$B332,'[1]Daily Log'!$C$18:$C$1017),0)","v":0},{"$f":"IFERROR($E332*SUMIF('[1]Daily Log'!$E$18:$E$1017,$B332,'[1]Daily Log'!$F$18:$F$1017),0)","v":0},{"$f":"IFERROR($E332*SUMIF('[1]Daily Log'!$H$18:$H$1017,$B332,'[1]Daily Log'!$I$18:$I$1017),0)","v":0}," ",{"$f":"IFERROR($E332*SUMIF('[1]Daily Log'!$N$18:$N$1017,$B332,'[1]Daily Log'!$O$18:$O$1017),0)","v":0},{"$f":"IFERROR($E332*SUMIF('[1]Daily Log'!$Q$18:$Q$1017,$B332,'[1]Daily Log'!$R$18:$R$1017),0)","v":0},{"$f":"IFERROR($E332*SUMIF('[1]Daily Log'!$T$18:$T$1017,$B332,'[1]Daily Log'!$U$18:$U$1017),0)","v":0},{"$f":"IFERROR($E332*SUMIF('[1]Daily Log'!$W$18:$W$1017,$B332,'[1]Daily Log'!$X$18:$X$1017),0)","v":0},{"$f":"IFERROR($E332*SUMIF('[1]Daily Log'!$Z$18:$Z$1017,$B332,'[1]Daily Log'!$AA$18:$AA$1017),0)","v":0},{"$f":"IFERROR($E332*SUMIF('[1]Daily Log'!$AC$18:$AC$1017,$B332,'[1]Daily Log'!$AD$18:$AD$1017),0)","v":0},{"$f":"IFERROR($E332*SUMIF('[1]Daily Log'!$AF$18:$AF$1017,$B332,'[1]Daily Log'!$AG$18:$AG$1017),0)","v":0},{"$f":"IFERROR($E332*SUMIF('[1]Daily Log'!$AI$18:$AI$1017,$B332,'[1]Daily Log'!$AJ$18:$AJ$1017),0)","v":0},{"$f":"IFERROR($E332*SUMIF('[1]Daily Log'!$AL$18:$AL$1017,$B332,'[1]Daily Log'!$AM$18:$AM$1017),0)","v":0},{"$f":"IFERROR($E332*SUMIF('[1]Daily Log'!$AO$18:$AO$1017,$B332,'[1]Daily Log'!$AP$18:$AP$1017),0)","v":0},{"$f":"IFERROR($E332*SUMIF('[1]Daily Log'!$AR$18:$AR$1017,$B332,'[1]Daily Log'!$AS$18:$AS$1017),0)","v":0},{"$f":"IFERROR($E332*SUMIF('[1]Daily Log'!$AU$18:$AU$1017,$B332,'[1]Daily Log'!$AV$18:$AV$1017),0)","v":0},{"$f":"IFERROR($E332*SUMIF('[1]Daily Log'!$AX$18:$AX$1017,$B332,'[1]Daily Log'!$AY$18:$AY$1017),0)","v":0},{"$f":"IFERROR($E332*SUMIF('[1]Daily Log'!$BA$18:$BA$1017,$B332,'[1]Daily Log'!$BB$18:$BB$1017),0)","v":0},{"$f":"IFERROR($E332*SUMIF('[1]Daily Log'!$BD$18:$BD$1017,$B332,'[1]Daily Log'!$BE$18:$BE$1017),0)","v":0},{"$f":"IFERROR($E332*SUMIF('[1]Daily Log'!$BG$18:$BG$1017,$B332,'[1]Daily Log'!$BH$18:$BH$1017),0)","v":0},{"$f":"IFERROR($E332*SUMIF('[1]Daily Log'!$BJ$18:$BJ$1017,$B332,'[1]Daily Log'!$BK$18:$BK$1017),0)","v":0},{"$f":"IFERROR($E332*SUMIF('[1]Daily Log'!$BM$18:$BM$1017,$B332,'[1]Daily Log'!$BN$18:$BN$1017),0)","v":0},{"$f":"IFERROR($E332*SUMIF('[1]Daily Log'!$BP$18:$BP$1017,$B332,'[1]Daily Log'!$BQ$18:$BQ$1017),0)","v":0},{"$f":"IFERROR($E332*SUMIF('[1]Daily Log'!$BS$18:$BS$1017,$B332,'[1]Daily Log'!$BT$18:$BT$1017),0)","v":0},{"$f":"IFERROR($E332*SUMIF('[1]Daily Log'!$BV$18:$BV$1017,$B332,'[1]Daily Log'!$BW$18:$BW$1017),0)","v":0},{"$f":"IFERROR($E332*SUMIF('[1]Daily Log'!$BY$18:$BY$1017,$B332,'[1]Daily Log'!$BZ$18:$BZ$1017),0)","v":0},{"$f":"IFERROR($E332*SUMIF('[1]Daily Log'!$CB$18:$CB$1017,$B332,'[1]Daily Log'!$CC$18:$CC$1017),0)","v":0},{"$f":"IFERROR($E332*SUMIF('[1]Daily Log'!$CE$18:$CE$1017,$B332,'[1]Daily Log'!$CF$18:$CF$1017),0)","v":0},{"$f":"IFERROR($E332*SUMIF('[1]Daily Log'!$CH$18:$CH$1017,$B332,'[1]Daily Log'!$CI$18:$CI$1017),0)","v":0},{"$f":"IFERROR($E332*SUMIF('[1]Daily Log'!$CK$18:$CK$1017,$B332,'[1]Daily Log'!$CL$18:$CL$1017),0)","v":0},{"$f":"IFERROR($E332*SUMIF('[1]Daily Log'!$CN$18:$CN$1017,$B332,'[1]Daily Log'!$CO$18:$CO$1017),0)","v":0}]
[null,"ZAD13 ADD LEMON",null,null,1,0,{"$f":"IFERROR($E333*SUMIF('[1]Daily Log'!$B$18:$B$1017,$B333,'[1]Daily Log'!$C$18:$C$1017),0)","v":0},{"$f":"IFERROR($E333*SUMIF('[1]Daily Log'!$E$18:$E$1017,$B333,'[1]Daily Log'!$F$18:$F$1017),0)","v":0},{"$f":"IFERROR($E333*SUMIF('[1]Daily Log'!$H$18:$H$1017,$B333,'[1]Daily Log'!$I$18:$I$1017),0)","v":0}," ",{"$f":"IFERROR($E333*SUMIF('[1]Daily Log'!$N$18:$N$1017,$B333,'[1]Daily Log'!$O$18:$O$1017),0)","v":0},{"$f":"IFERROR($E333*SUMIF('[1]Daily Log'!$Q$18:$Q$1017,$B333,'[1]Daily Log'!$R$18:$R$1017),0)","v":0},{"$f":"IFERROR($E333*SUMIF('[1]Daily Log'!$T$18:$T$1017,$B333,'[1]Daily Log'!$U$18:$U$1017),0)","v":0},{"$f":"IFERROR($E333*SUMIF('[1]Daily Log'!$W$18:$W$1017,$B333,'[1]Daily Log'!$X$18:$X$1017),0)","v":0},{"$f":"IFERROR($E333*SUMIF('[1]Daily Log'!$Z$18:$Z$1017,$B333,'[1]Daily Log'!$AA$18:$AA$1017),0)","v":0},{"$f":"IFERROR($E333*SUMIF('[1]Daily Log'!$AC$18:$AC$1017,$B333,'[1]Daily Log'!$AD$18:$AD$1017),0)","v":0},{"$f":"IFERROR($E333*SUMIF('[1]Daily Log'!$AF$18:$AF$1017,$B333,'[1]Daily Log'!$AG$18:$AG$1017),0)","v":0},{"$f":"IFERROR($E333*SUMIF('[1]Daily Log'!$AI$18:$AI$1017,$B333,'[1]Daily Log'!$AJ$18:$AJ$1017),0)","v":0},{"$f":"IFERROR($E333*SUMIF('[1]Daily Log'!$AL$18:$AL$1017,$B333,'[1]Daily Log'!$AM$18:$AM$1017),0)","v":0},{"$f":"IFERROR($E333*SUMIF('[1]Daily Log'!$AO$18:$AO$1017,$B333,'[1]Daily Log'!$AP$18:$AP$1017),0)","v":0},{"$f":"IFERROR($E333*SUMIF('[1]Daily Log'!$AR$18:$AR$1017,$B333,'[1]Daily Log'!$AS$18:$AS$1017),0)","v":0},{"$f":"IFERROR($E333*SUMIF('[1]Daily Log'!$AU$18:$AU$1017,$B333,'[1]Daily Log'!$AV$18:$AV$1017),0)","v":0},{"$f":"IFERROR($E333*SUMIF('[1]Daily Log'!$AX$18:$AX$1017,$B333,'[1]Daily Log'!$AY$18:$AY$1017),0)","v":0},{"$f":"IFERROR($E333*SUMIF('[1]Daily Log'!$BA$18:$BA$1017,$B333,'[1]Daily Log'!$BB$18:$BB$1017),0)","v":0},{"$f":"IFERROR($E333*SUMIF('[1]Daily Log'!$BD$18:$BD$1017,$B333,'[1]Daily Log'!$BE$18:$BE$1017),0)","v":0},{"$f":"IFERROR($E333*SUMIF('[1]Daily Log'!$BG$18:$BG$1017,$B333,'[1]Daily Log'!$BH$18:$BH$1017),0)","v":0},{"$f":"IFERROR($E333*SUMIF('[1]Daily Log'!$BJ$18:$BJ$1017,$B333,'[1]Daily Log'!$BK$18:$BK$1017),0)","v":0},{"$f":"IFERROR($E333*SUMIF('[1]Daily Log'!$BM$18:$BM$1017,$B333,'[1]Daily Log'!$BN$18:$BN$1017),0)","v":0},{"$f":"IFERROR($E333*SUMIF('[1]Daily Log'!$BP$18:$BP$1017,$B333,'[1]Daily Log'!$BQ$18:$BQ$1017),0)","v":0},{"$f":"IFERROR($E333*SUMIF('[1]Daily Log'!$BS$18:$BS$1017,$B333,'[1]Daily Log'!$BT$18:$BT$1017),0)","v":0},{"$f":"IFERROR($E333*SUMIF('[1]Daily Log'!$BV$18:$BV$1017,$B333,'[1]Daily Log'!$BW$18:$BW$1017),0)","v":0},{"$f":"IFERROR($E333*SUMIF('[1]Daily Log'!$BY$18:$BY$1017,$B333,'[1]Daily Log'!$BZ$18:$BZ$1017),0)","v":0},{"$f":"IFERROR($E333*SUMIF('[1]Daily Log'!$CB$18:$CB$1017,$B333,'[1]Daily Log'!$CC$18:$CC$1017),0)","v":0},{"$f":"IFERROR($E333*SUMIF('[1]Daily Log'!$CE$18:$CE$1017,$B333,'[1]Daily Log'!$CF$18:$CF$1017),0)","v":0},{"$f":"IFERROR($E333*SUMIF('[1]Daily Log'!$CH$18:$CH$1017,$B333,'[1]Daily Log'!$CI$18:$CI$1017),0)","v":0},{"$f":"IFERROR($E333*SUMIF('[1]Daily Log'!$CK$18:$CK$1017,$B333,'[1]Daily Log'!$CL$18:$CL$1017),0)","v":0},{"$f":"IFERROR($E333*SUMIF('[1]Daily Log'!$CN$18:$CN$1017,$B333,'[1]Daily Log'!$CO$18:$CO$1017),0)","v":0}]
[null,"ZAD14 MORE SWEET",null,null,1,0,{"$f":"IFERROR($E334*SUMIF('[1]Daily Log'!$B$18:$B$1017,$B334,'[1]Daily Log'!$C$18:$C$1017),0)","v":0},{"$f":"IFERROR($E334*SUMIF('[1]Daily Log'!$E$18:$E$1017,$B334,'[1]Daily Log'!$F$18:$F$1017),0)","v":0},{"$f":"IFERROR($E334*SUMIF('[1]Daily Log'!$H$18:$H$1017,$B334,'[1]Daily Log'!$I$18:$I$1017),0)","v":0}," ",{"$f":"IFERROR($E334*SUMIF('[1]Daily Log'!$N$18:$N$1017,$B334,'[1]Daily Log'!$O$18:$O$1017),0)","v":0},{"$f":"IFERROR($E334*SUMIF('[1]Daily Log'!$Q$18:$Q$1017,$B334,'[1]Daily Log'!$R$18:$R$1017),0)","v":0},{"$f":"IFERROR($E334*SUMIF('[1]Daily Log'!$T$18:$T$1017,$B334,'[1]Daily Log'!$U$18:$U$1017),0)","v":0},{"$f":"IFERROR($E334*SUMIF('[1]Daily Log'!$W$18:$W$1017,$B334,'[1]Daily Log'!$X$18:$X$1017),0)","v":0},{"$f":"IFERROR($E334*SUMIF('[1]Daily Log'!$Z$18:$Z$1017,$B334,'[1]Daily Log'!$AA$18:$AA$1017),0)","v":0},{"$f":"IFERROR($E334*SUMIF('[1]Daily Log'!$AC$18:$AC$1017,$B334,'[1]Daily Log'!$AD$18:$AD$1017),0)","v":0},{"$f":"IFERROR($E334*SUMIF('[1]Daily Log'!$AF$18:$AF$1017,$B334,'[1]Daily Log'!$AG$18:$AG$1017),0)","v":0},{"$f":"IFERROR($E334*SUMIF('[1]Daily Log'!$AI$18:$AI$1017,$B334,'[1]Daily Log'!$AJ$18:$AJ$1017),0)","v":0},{"$f":"IFERROR($E334*SUMIF('[1]Daily Log'!$AL$18:$AL$1017,$B334,'[1]Daily Log'!$AM$18:$AM$1017),0)","v":0},{"$f":"IFERROR($E334*SUMIF('[1]Daily Log'!$AO$18:$AO$1017,$B334,'[1]Daily Log'!$AP$18:$AP$1017),0)","v":0},{"$f":"IFERROR($E334*SUMIF('[1]Daily Log'!$AR$18:$AR$1017,$B334,'[1]Daily Log'!$AS$18:$AS$1017),0)","v":0},{"$f":"IFERROR($E334*SUMIF('[1]Daily Log'!$AU$18:$AU$1017,$B334,'[1]Daily Log'!$AV$18:$AV$1017),0)","v":0},{"$f":"IFERROR($E334*SUMIF('[1]Daily Log'!$AX$18:$AX$1017,$B334,'[1]Daily Log'!$AY$18:$AY$1017),0)","v":0},{"$f":"IFERROR($E334*SUMIF('[1]Daily Log'!$BA$18:$BA$1017,$B334,'[1]Daily Log'!$BB$18:$BB$1017),0)","v":0},{"$f":"IFERROR($E334*SUMIF('[1]Daily Log'!$BD$18:$BD$1017,$B334,'[1]Daily Log'!$BE$18:$BE$1017),0)","v":0},{"$f":"IFERROR($E334*SUMIF('[1]Daily Log'!$BG$18:$BG$1017,$B334,'[1]Daily Log'!$BH$18:$BH$1017),0)","v":0},{"$f":"IFERROR($E334*SUMIF('[1]Daily Log'!$BJ$18:$BJ$1017,$B334,'[1]Daily Log'!$BK$18:$BK$1017),0)","v":0},{"$f":"IFERROR($E334*SUMIF('[1]Daily Log'!$BM$18:$BM$1017,$B334,'[1]Daily Log'!$BN$18:$BN$1017),0)","v":0},{"$f":"IFERROR($E334*SUMIF('[1]Daily Log'!$BP$18:$BP$1017,$B334,'[1]Daily Log'!$BQ$18:$BQ$1017),0)","v":0},{"$f":"IFERROR($E334*SUMIF('[1]Daily Log'!$BS$18:$BS$1017,$B334,'[1]Daily Log'!$BT$18:$BT$1017),0)","v":0},{"$f":"IFERROR($E334*SUMIF('[1]Daily Log'!$BV$18:$BV$1017,$B334,'[1]Daily Log'!$BW$18:$BW$1017),0)","v":0},{"$f":"IFERROR($E334*SUMIF('[1]Daily Log'!$BY$18:$BY$1017,$B334,'[1]Daily Log'!$BZ$18:$BZ$1017),0)","v":0},{"$f":"IFERROR($E334*SUMIF('[1]Daily Log'!$CB$18:$CB$1017,$B334,'[1]Daily Log'!$CC$18:$CC$1017),0)","v":0},{"$f":"IFERROR($E334*SUMIF('[1]Daily Log'!$CE$18:$CE$1017,$B334,'[1]Daily Log'!$CF$18:$CF$1017),0)","v":0},{"$f":"IFERROR($E334*SUMIF('[1]Daily Log'!$CH$18:$CH$1017,$B334,'[1]Daily Log'!$CI$18:$CI$1017),0)","v":0},{"$f":"IFERROR($E334*SUMIF('[1]Daily Log'!$CK$18:$CK$1017,$B334,'[1]Daily Log'!$CL$18:$CL$1017),0)","v":0},{"$f":"IFERROR($E334*SUMIF('[1]Daily Log'!$CN$18:$CN$1017,$B334,'[1]Daily Log'!$CO$18:$CO$1017),0)","v":0}]
[null,"ZAD15 VEGGIE ONLY",null,null,1,0,{"$f":"IFERROR($E335*SUMIF('[1]Daily Log'!$B$18:$B$1017,$B335,'[1]Daily Log'!$C$18:$C$1017),0)","v":0},{"$f":"IFERROR($E335*SUMIF('[1]Daily Log'!$E$18:$E$1017,$B335,'[1]Daily Log'!$F$18:$F$1017),0)","v":0},{"$f":"IFERROR($E335*SUMIF('[1]Daily Log'!$H$18:$H$1017,$B335,'[1]Daily Log'!$I$18:$I$1017),0)","v":0}," ",{"$f":"IFERROR($E335*SUMIF('[1]Daily Log'!$N$18:$N$1017,$B335,'[1]Daily Log'!$O$18:$O$1017),0)","v":0},{"$f":"IFERROR($E335*SUMIF('[1]Daily Log'!$Q$18:$Q$1017,$B335,'[1]Daily Log'!$R$18:$R$1017),0)","v":0},{"$f":"IFERROR($E335*SUMIF('[1]Daily Log'!$T$18:$T$1017,$B335,'[1]Daily Log'!$U$18:$U$1017),0)","v":0},{"$f":"IFERROR($E335*SUMIF('[1]Daily Log'!$W$18:$W$1017,$B335,'[1]Daily Log'!$X$18:$X$1017),0)","v":0},{"$f":"IFERROR($E335*SUMIF('[1]Daily Log'!$Z$18:$Z$1017,$B335,'[1]Daily Log'!$AA$18:$AA$1017),0)","v":0},{"$f":"IFERROR($E335*SUMIF('[1]Daily Log'!$AC$18:$AC$1017,$B335,'[1]Daily Log'!$AD$18:$AD$1017),0)","v":0},{"$f":"IFERROR($E335*SUMIF('[1]Daily Log'!$AF$18:$AF$1017,$B335,'[1]Daily Log'!$AG$18:$AG$1017),0)","v":0},{"$f":"IFERROR($E335*SUMIF('[1]Daily Log'!$AI$18:$AI$1017,$B335,'[1]Daily Log'!$AJ$18:$AJ$1017),0)","v":0},{"$f":"IFERROR($E335*SUMIF('[1]Daily Log'!$AL$18:$AL$1017,$B335,'[1]Daily Log'!$AM$18:$AM$1017),0)","v":0},{"$f":"IFERROR($E335*SUMIF('[1]Daily Log'!$AO$18:$AO$1017,$B335,'[1]Daily Log'!$AP$18:$AP$1017),0)","v":0},{"$f":"IFERROR($E335*SUMIF('[1]Daily Log'!$AR$18:$AR$1017,$B335,'[1]Daily Log'!$AS$18:$AS$1017),0)","v":0},{"$f":"IFERROR($E335*SUMIF('[1]Daily Log'!$AU$18:$AU$1017,$B335,'[1]Daily Log'!$AV$18:$AV$1017),0)","v":0},{"$f":"IFERROR($E335*SUMIF('[1]Daily Log'!$AX$18:$AX$1017,$B335,'[1]Daily Log'!$AY$18:$AY$1017),0)","v":0},{"$f":"IFERROR($E335*SUMIF('[1]Daily Log'!$BA$18:$BA$1017,$B335,'[1]Daily Log'!$BB$18:$BB$1017),0)","v":0},{"$f":"IFERROR($E335*SUMIF('[1]Daily Log'!$BD$18:$BD$1017,$B335,'[1]Daily Log'!$BE$18:$BE$1017),0)","v":0},{"$f":"IFERROR($E335*SUMIF('[1]Daily Log'!$BG$18:$BG$1017,$B335,'[1]Daily Log'!$BH$18:$BH$1017),0)","v":0},{"$f":"IFERROR($E335*SUMIF('[1]Daily Log'!$BJ$18:$BJ$1017,$B335,'[1]Daily Log'!$BK$18:$BK$1017),0)","v":0},{"$f":"IFERROR($E335*SUMIF('[1]Daily Log'!$BM$18:$BM$1017,$B335,'[1]Daily Log'!$BN$18:$BN$1017),0)","v":0},{"$f":"IFERROR($E335*SUMIF('[1]Daily Log'!$BP$18:$BP$1017,$B335,'[1]Daily Log'!$BQ$18:$BQ$1017),0)","v":0},{"$f":"IFERROR($E335*SUMIF('[1]Daily Log'!$BS$18:$BS$1017,$B335,'[1]Daily Log'!$BT$18:$BT$1017),0)","v":0},{"$f":"IFERROR($E335*SUMIF('[1]Daily Log'!$BV$18:$BV$1017,$B335,'[1]Daily Log'!$BW$18:$BW$1017),0)","v":0},{"$f":"IFERROR($E335*SUMIF('[1]Daily Log'!$BY$18:$BY$1017,$B335,'[1]Daily Log'!$BZ$18:$BZ$1017),0)","v":0},{"$f":"IFERROR($E335*SUMIF('[1]Daily Log'!$CB$18:$CB$1017,$B335,'[1]Daily Log'!$CC$18:$CC$1017),0)","v":0},{"$f":"IFERROR($E335*SUMIF('[1]Daily Log'!$CE$18:$CE$1017,$B335,'[1]Daily Log'!$CF$18:$CF$1017),0)","v":0},{"$f":"IFERROR($E335*SUMIF('[1]Daily Log'!$CH$18:$CH$1017,$B335,'[1]Daily Log'!$CI$18:$CI$1017),0)","v":0},{"$f":"IFERROR($E335*SUMIF('[1]Daily Log'!$CK$18:$CK$1017,$B335,'[1]Daily Log'!$CL$18:$CL$1017),0)","v":0},{"$f":"IFERROR($E335*SUMIF('[1]Daily Log'!$CN$18:$CN$1017,$B335,'[1]Daily Log'!$CO$18:$CO$1017),0)","v":0}]
[null,"ZAD16 CUS ANGRY KAU2",null,null,1,0,{"$f":"IFERROR($E336*SUMIF('[1]Daily Log'!$B$18:$B$1017,$B336,'[1]Daily Log'!$C$18:$C$1017),0)","v":0},{"$f":"IFERROR($E336*SUMIF('[1]Daily Log'!$E$18:$E$1017,$B336,'[1]Daily Log'!$F$18:$F$1017),0)","v":0},{"$f":"IFERROR($E336*SUMIF('[1]Daily Log'!$H$18:$H$1017,$B336,'[1]Daily Log'!$I$18:$I$1017),0)","v":0}," ",{"$f":"IFERROR($E336*SUMIF('[1]Daily Log'!$N$18:$N$1017,$B336,'[1]Daily Log'!$O$18:$O$1017),0)","v":0},{"$f":"IFERROR($E336*SUMIF('[1]Daily Log'!$Q$18:$Q$1017,$B336,'[1]Daily Log'!$R$18:$R$1017),0)","v":0},{"$f":"IFERROR($E336*SUMIF('[1]Daily Log'!$T$18:$T$1017,$B336,'[1]Daily Log'!$U$18:$U$1017),0)","v":0},{"$f":"IFERROR($E336*SUMIF('[1]Daily Log'!$W$18:$W$1017,$B336,'[1]Daily Log'!$X$18:$X$1017),0)","v":0},{"$f":"IFERROR($E336*SUMIF('[1]Daily Log'!$Z$18:$Z$1017,$B336,'[1]Daily Log'!$AA$18:$AA$1017),0)","v":0},{"$f":"IFERROR($E336*SUMIF('[1]Daily Log'!$AC$18:$AC$1017,$B336,'[1]Daily Log'!$AD$18:$AD$1017),0)","v":0},{"$f":"IFERROR($E336*SUMIF('[1]Daily Log'!$AF$18:$AF$1017,$B336,'[1]Daily Log'!$AG$18:$AG$1017),0)","v":0},{"$f":"IFERROR($E336*SUMIF('[1]Daily Log'!$AI$18:$AI$1017,$B336,'[1]Daily Log'!$AJ$18:$AJ$1017),0)","v":0},{"$f":"IFERROR($E336*SUMIF('[1]Daily Log'!$AL$18:$AL$1017,$B336,'[1]Daily Log'!$AM$18:$AM$1017),0)","v":0},{"$f":"IFERROR($E336*SUMIF('[1]Daily Log'!$AO$18:$AO$1017,$B336,'[1]Daily Log'!$AP$18:$AP$1017),0)","v":0},{"$f":"IFERROR($E336*SUMIF('[1]Daily Log'!$AR$18:$AR$1017,$B336,'[1]Daily Log'!$AS$18:$AS$1017),0)","v":0},{"$f":"IFERROR($E336*SUMIF('[1]Daily Log'!$AU$18:$AU$1017,$B336,'[1]Daily Log'!$AV$18:$AV$1017),0)","v":0},{"$f":"IFERROR($E336*SUMIF('[1]Daily Log'!$AX$18:$AX$1017,$B336,'[1]Daily Log'!$AY$18:$AY$1017),0)","v":0},{"$f":"IFERROR($E336*SUMIF('[1]Daily Log'!$BA$18:$BA$1017,$B336,'[1]Daily Log'!$BB$18:$BB$1017),0)","v":0},{"$f":"IFERROR($E336*SUMIF('[1]Daily Log'!$BD$18:$BD$1017,$B336,'[1]Daily Log'!$BE$18:$BE$1017),0)","v":0},{"$f":"IFERROR($E336*SUMIF('[1]Daily Log'!$BG$18:$BG$1017,$B336,'[1]Daily Log'!$BH$18:$BH$1017),0)","v":0},{"$f":"IFERROR($E336*SUMIF('[1]Daily Log'!$BJ$18:$BJ$1017,$B336,'[1]Daily Log'!$BK$18:$BK$1017),0)","v":0},{"$f":"IFERROR($E336*SUMIF('[1]Daily Log'!$BM$18:$BM$1017,$B336,'[1]Daily Log'!$BN$18:$BN$1017),0)","v":0},{"$f":"IFERROR($E336*SUMIF('[1]Daily Log'!$BP$18:$BP$1017,$B336,'[1]Daily Log'!$BQ$18:$BQ$1017),0)","v":0},{"$f":"IFERROR($E336*SUMIF('[1]Daily Log'!$BS$18:$BS$1017,$B336,'[1]Daily Log'!$BT$18:$BT$1017),0)","v":0},{"$f":"IFERROR($E336*SUMIF('[1]Daily Log'!$BV$18:$BV$1017,$B336,'[1]Daily Log'!$BW$18:$BW$1017),0)","v":0},{"$f":"IFERROR($E336*SUMIF('[1]Daily Log'!$BY$18:$BY$1017,$B336,'[1]Daily Log'!$BZ$18:$BZ$1017),0)","v":0},{"$f":"IFERROR($E336*SUMIF('[1]Daily Log'!$CB$18:$CB$1017,$B336,'[1]Daily Log'!$CC$18:$CC$1017),0)","v":0},{"$f":"IFERROR($E336*SUMIF('[1]Daily Log'!$CE$18:$CE$1017,$B336,'[1]Daily Log'!$CF$18:$CF$1017),0)","v":0},{"$f":"IFERROR($E336*SUMIF('[1]Daily Log'!$CH$18:$CH$1017,$B336,'[1]Daily Log'!$CI$18:$CI$1017),0)","v":0},{"$f":"IFERROR($E336*SUMIF('[1]Daily Log'!$CK$18:$CK$1017,$B336,'[1]Daily Log'!$CL$18:$CL$1017),0)","v":0},{"$f":"IFERROR($E336*SUMIF('[1]Daily Log'!$CN$18:$CN$1017,$B336,'[1]Daily Log'!$CO$18:$CO$1017),0)","v":0}]
[null,"ZAD17 WITHOUT SUGAR",null,null,1,0,{"$f":"IFERROR($E337*SUMIF('[1]Daily Log'!$B$18:$B$1017,$B337,'[1]Daily Log'!$C$18:$C$1017),0)","v":0},{"$f":"IFERROR($E337*SUMIF('[1]Daily Log'!$E$18:$E$1017,$B337,'[1]Daily Log'!$F$18:$F$1017),0)","v":0},{"$f":"IFERROR($E337*SUMIF('[1]Daily Log'!$H$18:$H$1017,$B337,'[1]Daily Log'!$I$18:$I$1017),0)","v":0}," ",{"$f":"IFERROR($E337*SUMIF('[1]Daily Log'!$N$18:$N$1017,$B337,'[1]Daily Log'!$O$18:$O$1017),0)","v":0},{"$f":"IFERROR($E337*SUMIF('[1]Daily Log'!$Q$18:$Q$1017,$B337,'[1]Daily Log'!$R$18:$R$1017),0)","v":0},{"$f":"IFERROR($E337*SUMIF('[1]Daily Log'!$T$18:$T$1017,$B337,'[1]Daily Log'!$U$18:$U$1017),0)","v":0},{"$f":"IFERROR($E337*SUMIF('[1]Daily Log'!$W$18:$W$1017,$B337,'[1]Daily Log'!$X$18:$X$1017),0)","v":0},{"$f":"IFERROR($E337*SUMIF('[1]Daily Log'!$Z$18:$Z$1017,$B337,'[1]Daily Log'!$AA$18:$AA$1017),0)","v":0},{"$f":"IFERROR($E337*SUMIF('[1]Daily Log'!$AC$18:$AC$1017,$B337,'[1]Daily Log'!$AD$18:$AD$1017),0)","v":0},{"$f":"IFERROR($E337*SUMIF('[1]Daily Log'!$AF$18:$AF$1017,$B337,'[1]Daily Log'!$AG$18:$AG$1017),0)","v":0},{"$f":"IFERROR($E337*SUMIF('[1]Daily Log'!$AI$18:$AI$1017,$B337,'[1]Daily Log'!$AJ$18:$AJ$1017),0)","v":0},{"$f":"IFERROR($E337*SUMIF('[1]Daily Log'!$AL$18:$AL$1017,$B337,'[1]Daily Log'!$AM$18:$AM$1017),0)","v":0},{"$f":"IFERROR($E337*SUMIF('[1]Daily Log'!$AO$18:$AO$1017,$B337,'[1]Daily Log'!$AP$18:$AP$1017),0)","v":0},{"$f":"IFERROR($E337*SUMIF('[1]Daily Log'!$AR$18:$AR$1017,$B337,'[1]Daily Log'!$AS$18:$AS$1017),0)","v":0},{"$f":"IFERROR($E337*SUMIF('[1]Daily Log'!$AU$18:$AU$1017,$B337,'[1]Daily Log'!$AV$18:$AV$1017),0)","v":0},{"$f":"IFERROR($E337*SUMIF('[1]Daily Log'!$AX$18:$AX$1017,$B337,'[1]Daily Log'!$AY$18:$AY$1017),0)","v":0},{"$f":"IFERROR($E337*SUMIF('[1]Daily Log'!$BA$18:$BA$1017,$B337,'[1]Daily Log'!$BB$18:$BB$1017),0)","v":0},{"$f":"IFERROR($E337*SUMIF('[1]Daily Log'!$BD$18:$BD$1017,$B337,'[1]Daily Log'!$BE$18:$BE$1017),0)","v":0},{"$f":"IFERROR($E337*SUMIF('[1]Daily Log'!$BG$18:$BG$1017,$B337,'[1]Daily Log'!$BH$18:$BH$1017),0)","v":0},{"$f":"IFERROR($E337*SUMIF('[1]Daily Log'!$BJ$18:$BJ$1017,$B337,'[1]Daily Log'!$BK$18:$BK$1017),0)","v":0},{"$f":"IFERROR($E337*SUMIF('[1]Daily Log'!$BM$18:$BM$1017,$B337,'[1]Daily Log'!$BN$18:$BN$1017),0)","v":0},{"$f":"IFERROR($E337*SUMIF('[1]Daily Log'!$BP$18:$BP$1017,$B337,'[1]Daily Log'!$BQ$18:$BQ$1017),0)","v":0},{"$f":"IFERROR($E337*SUMIF('[1]Daily Log'!$BS$18:$BS$1017,$B337,'[1]Daily Log'!$BT$18:$BT$1017),0)","v":0},{"$f":"IFERROR($E337*SUMIF('[1]Daily Log'!$BV$18:$BV$1017,$B337,'[1]Daily Log'!$BW$18:$BW$1017),0)","v":0},{"$f":"IFERROR($E337*SUMIF('[1]Daily Log'!$BY$18:$BY$1017,$B337,'[1]Daily Log'!$BZ$18:$BZ$1017),0)","v":0},{"$f":"IFERROR($E337*SUMIF('[1]Daily Log'!$CB$18:$CB$1017,$B337,'[1]Daily Log'!$CC$18:$CC$1017),0)","v":0},{"$f":"IFERROR($E337*SUMIF('[1]Daily Log'!$CE$18:$CE$1017,$B337,'[1]Daily Log'!$CF$18:$CF$1017),0)","v":0},{"$f":"IFERROR($E337*SUMIF('[1]Daily Log'!$CH$18:$CH$1017,$B337,'[1]Daily Log'!$CI$18:$CI$1017),0)","v":0},{"$f":"IFERROR($E337*SUMIF('[1]Daily Log'!$CK$18:$CK$1017,$B337,'[1]Daily Log'!$CL$18:$CL$1017),0)","v":0},{"$f":"IFERROR($E337*SUMIF('[1]Daily Log'!$CN$18:$CN$1017,$B337,'[1]Daily Log'!$CO$18:$CO$1017),0)","v":0}]
[null,"ZAD18 KAU KAU",null,null,1,0,{"$f":"IFERROR($E338*SUMIF('[1]Daily Log'!$B$18:$B$1017,$B338,'[1]Daily Log'!$C$18:$C$1017),0)","v":0},{"$f":"IFERROR($E338*SUMIF('[1]Daily Log'!$E$18:$E$1017,$B338,'[1]Daily Log'!$F$18:$F$1017),0)","v":0},{"$f":"IFERROR($E338*SUMIF('[1]Daily Log'!$H$18:$H$1017,$B338,'[1]Daily Log'!$I$18:$I$1017),0)","v":0}," ",{"$f":"IFERROR($E338*SUMIF('[1]Daily Log'!$N$18:$N$1017,$B338,'[1]Daily Log'!$O$18:$O$1017),0)","v":0},{"$f":"IFERROR($E338*SUMIF('[1]Daily Log'!$Q$18:$Q$1017,$B338,'[1]Daily Log'!$R$18:$R$1017),0)","v":0},{"$f":"IFERROR($E338*SUMIF('[1]Daily Log'!$T$18:$T$1017,$B338,'[1]Daily Log'!$U$18:$U$1017),0)","v":0},{"$f":"IFERROR($E338*SUMIF('[1]Daily Log'!$W$18:$W$1017,$B338,'[1]Daily Log'!$X$18:$X$1017),0)","v":0},{"$f":"IFERROR($E338*SUMIF('[1]Daily Log'!$Z$18:$Z$1017,$B338,'[1]Daily Log'!$AA$18:$AA$1017),0)","v":0},{"$f":"IFERROR($E338*SUMIF('[1]Daily Log'!$AC$18:$AC$1017,$B338,'[1]Daily Log'!$AD$18:$AD$1017),0)","v":0},{"$f":"IFERROR($E338*SUMIF('[1]Daily Log'!$AF$18:$AF$1017,$B338,'[1]Daily Log'!$AG$18:$AG$1017),0)","v":0},{"$f":"IFERROR($E338*SUMIF('[1]Daily Log'!$AI$18:$AI$1017,$B338,'[1]Daily Log'!$AJ$18:$AJ$1017),0)","v":0},{"$f":"IFERROR($E338*SUMIF('[1]Daily Log'!$AL$18:$AL$1017,$B338,'[1]Daily Log'!$AM$18:$AM$1017),0)","v":0},{"$f":"IFERROR($E338*SUMIF('[1]Daily Log'!$AO$18:$AO$1017,$B338,'[1]Daily Log'!$AP$18:$AP$1017),0)","v":0},{"$f":"IFERROR($E338*SUMIF('[1]Daily Log'!$AR$18:$AR$1017,$B338,'[1]Daily Log'!$AS$18:$AS$1017),0)","v":0},{"$f":"IFERROR($E338*SUMIF('[1]Daily Log'!$AU$18:$AU$1017,$B338,'[1]Daily Log'!$AV$18:$AV$1017),0)","v":0},{"$f":"IFERROR($E338*SUMIF('[1]Daily Log'!$AX$18:$AX$1017,$B338,'[1]Daily Log'!$AY$18:$AY$1017),0)","v":0},{"$f":"IFERROR($E338*SUMIF('[1]Daily Log'!$BA$18:$BA$1017,$B338,'[1]Daily Log'!$BB$18:$BB$1017),0)","v":0},{"$f":"IFERROR($E338*SUMIF('[1]Daily Log'!$BD$18:$BD$1017,$B338,'[1]Daily Log'!$BE$18:$BE$1017),0)","v":0},{"$f":"IFERROR($E338*SUMIF('[1]Daily Log'!$BG$18:$BG$1017,$B338,'[1]Daily Log'!$BH$18:$BH$1017),0)","v":0},{"$f":"IFERROR($E338*SUMIF('[1]Daily Log'!$BJ$18:$BJ$1017,$B338,'[1]Daily Log'!$BK$18:$BK$1017),0)","v":0},{"$f":"IFERROR($E338*SUMIF('[1]Daily Log'!$BM$18:$BM$1017,$B338,'[1]Daily Log'!$BN$18:$BN$1017),0)","v":0},{"$f":"IFERROR($E338*SUMIF('[1]Daily Log'!$BP$18:$BP$1017,$B338,'[1]Daily Log'!$BQ$18:$BQ$1017),0)","v":0},{"$f":"IFERROR($E338*SUMIF('[1]Daily Log'!$BS$18:$BS$1017,$B338,'[1]Daily Log'!$BT$18:$BT$1017),0)","v":0},{"$f":"IFERROR($E338*SUMIF('[1]Daily Log'!$BV$18:$BV$1017,$B338,'[1]Daily Log'!$BW$18:$BW$1017),0)","v":0},{"$f":"IFERROR($E338*SUMIF('[1]Daily Log'!$BY$18:$BY$1017,$B338,'[1]Daily Log'!$BZ$18:$BZ$1017),0)","v":0},{"$f":"IFERROR($E338*SUMIF('[1]Daily Log'!$CB$18:$CB$1017,$B338,'[1]Daily Log'!$CC$18:$CC$1017),0)","v":0},{"$f":"IFERROR($E338*SUMIF('[1]Daily Log'!$CE$18:$CE$1017,$B338,'[1]Daily Log'!$CF$18:$CF$1017),0)","v":0},{"$f":"IFERROR($E338*SUMIF('[1]Daily Log'!$CH$18:$CH$1017,$B338,'[1]Daily Log'!$CI$18:$CI$1017),0)","v":0},{"$f":"IFERROR($E338*SUMIF('[1]Daily Log'!$CK$18:$CK$1017,$B338,'[1]Daily Log'!$CL$18:$CL$1017),0)","v":0},{"$f":"IFERROR($E338*SUMIF('[1]Daily Log'!$CN$18:$CN$1017,$B338,'[1]Daily Log'!$CO$18:$CO$1017),0)","v":0}]
[null,"ZAD19 JUG",null,null,1,0,{"$f":"IFERROR($E339*SUMIF('[1]Daily Log'!$B$18:$B$1017,$B339,'[1]Daily Log'!$C$18:$C$1017),0)","v":0},{"$f":"IFERROR($E339*SUMIF('[1]Daily Log'!$E$18:$E$1017,$B339,'[1]Daily Log'!$F$18:$F$1017),0)","v":0},{"$f":"IFERROR($E339*SUMIF('[1]Daily Log'!$H$18:$H$1017,$B339,'[1]Daily Log'!$I$18:$I$1017),0)","v":0}," ",{"$f":"IFERROR($E339*SUMIF('[1]Daily Log'!$N$18:$N$1017,$B339,'[1]Daily Log'!$O$18:$O$1017),0)","v":0},{"$f":"IFERROR($E339*SUMIF('[1]Daily Log'!$Q$18:$Q$1017,$B339,'[1]Daily Log'!$R$18:$R$1017),0)","v":0},{"$f":"IFERROR($E339*SUMIF('[1]Daily Log'!$T$18:$T$1017,$B339,'[1]Daily Log'!$U$18:$U$1017),0)","v":0},{"$f":"IFERROR($E339*SUMIF('[1]Daily Log'!$W$18:$W$1017,$B339,'[1]Daily Log'!$X$18:$X$1017),0)","v":0},{"$f":"IFERROR($E339*SUMIF('[1]Daily Log'!$Z$18:$Z$1017,$B339,'[1]Daily Log'!$AA$18:$AA$1017),0)","v":0},{"$f":"IFERROR($E339*SUMIF('[1]Daily Log'!$AC$18:$AC$1017,$B339,'[1]Daily Log'!$AD$18:$AD$1017),0)","v":0},{"$f":"IFERROR($E339*SUMIF('[1]Daily Log'!$AF$18:$AF$1017,$B339,'[1]Daily Log'!$AG$18:$AG$1017),0)","v":0},{"$f":"IFERROR($E339*SUMIF('[1]Daily Log'!$AI$18:$AI$1017,$B339,'[1]Daily Log'!$AJ$18:$AJ$1017),0)","v":0},{"$f":"IFERROR($E339*SUMIF('[1]Daily Log'!$AL$18:$AL$1017,$B339,'[1]Daily Log'!$AM$18:$AM$1017),0)","v":0},{"$f":"IFERROR($E339*SUMIF('[1]Daily Log'!$AO$18:$AO$1017,$B339,'[1]Daily Log'!$AP$18:$AP$1017),0)","v":0},{"$f":"IFERROR($E339*SUMIF('[1]Daily Log'!$AR$18:$AR$1017,$B339,'[1]Daily Log'!$AS$18:$AS$1017),0)","v":0},{"$f":"IFERROR($E339*SUMIF('[1]Daily Log'!$AU$18:$AU$1017,$B339,'[1]Daily Log'!$AV$18:$AV$1017),0)","v":0},{"$f":"IFERROR($E339*SUMIF('[1]Daily Log'!$AX$18:$AX$1017,$B339,'[1]Daily Log'!$AY$18:$AY$1017),0)","v":0},{"$f":"IFERROR($E339*SUMIF('[1]Daily Log'!$BA$18:$BA$1017,$B339,'[1]Daily Log'!$BB$18:$BB$1017),0)","v":0},{"$f":"IFERROR($E339*SUMIF('[1]Daily Log'!$BD$18:$BD$1017,$B339,'[1]Daily Log'!$BE$18:$BE$1017),0)","v":0},{"$f":"IFERROR($E339*SUMIF('[1]Daily Log'!$BG$18:$BG$1017,$B339,'[1]Daily Log'!$BH$18:$BH$1017),0)","v":0},{"$f":"IFERROR($E339*SUMIF('[1]Daily Log'!$BJ$18:$BJ$1017,$B339,'[1]Daily Log'!$BK$18:$BK$1017),0)","v":0},{"$f":"IFERROR($E339*SUMIF('[1]Daily Log'!$BM$18:$BM$1017,$B339,'[1]Daily Log'!$BN$18:$BN$1017),0)","v":0},{"$f":"IFERROR($E339*SUMIF('[1]Daily Log'!$BP$18:$BP$1017,$B339,'[1]Daily Log'!$BQ$18:$BQ$1017),0)","v":0},{"$f":"IFERROR($E339*SUMIF('[1]Daily Log'!$BS$18:$BS$1017,$B339,'[1]Daily Log'!$BT$18:$BT$1017),0)","v":0},{"$f":"IFERROR($E339*SUMIF('[1]Daily Log'!$BV$18:$BV$1017,$B339,'[1]Daily Log'!$BW$18:$BW$1017),0)","v":0},{"$f":"IFERROR($E339*SUMIF('[1]Daily Log'!$BY$18:$BY$1017,$B339,'[1]Daily Log'!$BZ$18:$BZ$1017),0)","v":0},{"$f":"IFERROR($E339*SUMIF('[1]Daily Log'!$CB$18:$CB$1017,$B339,'[1]Daily Log'!$CC$18:$CC$1017),0)","v":0},{"$f":"IFERROR($E339*SUMIF('[1]Daily Log'!$CE$18:$CE$1017,$B339,'[1]Daily Log'!$CF$18:$CF$1017),0)","v":0},{"$f":"IFERROR($E339*SUMIF('[1]Daily Log'!$CH$18:$CH$1017,$B339,'[1]Daily Log'!$CI$18:$CI$1017),0)","v":0},{"$f":"IFERROR($E339*SUMIF('[1]Daily Log'!$CK$18:$CK$1017,$B339,'[1]Daily Log'!$CL$18:$CL$1017),0)","v":0},{"$f":"IFERROR($E339*SUMIF('[1]Daily Log'!$CN$18:$CN$1017,$B339,'[1]Daily Log'!$CO$18:$CO$1017),0)","v":0}]
[null,"ZAD22 SAUCE BP",null,null,1,0,{"$f":"IFERROR($E340*SUMIF('[1]Daily Log'!$B$18:$B$1017,$B340,'[1]Daily Log'!$C$18:$C$1017),0)","v":0},{"$f":"IFERROR($E340*SUMIF('[1]Daily Log'!$E$18:$E$1017,$B340,'[1]Daily Log'!$F$18:$F$1017),0)","v":0},{"$f":"IFERROR($E340*SUMIF('[1]Daily Log'!$H$18:$H$1017,$B340,'[1]Daily Log'!$I$18:$I$1017),0)","v":0}," ",{"$f":"IFERROR($E340*SUMIF('[1]Daily Log'!$N$18:$N$1017,$B340,'[1]Daily Log'!$O$18:$O$1017),0)","v":0},{"$f":"IFERROR($E340*SUMIF('[1]Daily Log'!$Q$18:$Q$1017,$B340,'[1]Daily Log'!$R$18:$R$1017),0)","v":0},{"$f":"IFERROR($E340*SUMIF('[1]Daily Log'!$T$18:$T$1017,$B340,'[1]Daily Log'!$U$18:$U$1017),0)","v":0},{"$f":"IFERROR($E340*SUMIF('[1]Daily Log'!$W$18:$W$1017,$B340,'[1]Daily Log'!$X$18:$X$1017),0)","v":0},{"$f":"IFERROR($E340*SUMIF('[1]Daily Log'!$Z$18:$Z$1017,$B340,'[1]Daily Log'!$AA$18:$AA$1017),0)","v":0},{"$f":"IFERROR($E340*SUMIF('[1]Daily Log'!$AC$18:$AC$1017,$B340,'[1]Daily Log'!$AD$18:$AD$1017),0)","v":0},{"$f":"IFERROR($E340*SUMIF('[1]Daily Log'!$AF$18:$AF$1017,$B340,'[1]Daily Log'!$AG$18:$AG$1017),0)","v":0},{"$f":"IFERROR($E340*SUMIF('[1]Daily Log'!$AI$18:$AI$1017,$B340,'[1]Daily Log'!$AJ$18:$AJ$1017),0)","v":0},{"$f":"IFERROR($E340*SUMIF('[1]Daily Log'!$AL$18:$AL$1017,$B340,'[1]Daily Log'!$AM$18:$AM$1017),0)","v":0},{"$f":"IFERROR($E340*SUMIF('[1]Daily Log'!$AO$18:$AO$1017,$B340,'[1]Daily Log'!$AP$18:$AP$1017),0)","v":0},{"$f":"IFERROR($E340*SUMIF('[1]Daily Log'!$AR$18:$AR$1017,$B340,'[1]Daily Log'!$AS$18:$AS$1017),0)","v":0},{"$f":"IFERROR($E340*SUMIF('[1]Daily Log'!$AU$18:$AU$1017,$B340,'[1]Daily Log'!$AV$18:$AV$1017),0)","v":0},{"$f":"IFERROR($E340*SUMIF('[1]Daily Log'!$AX$18:$AX$1017,$B340,'[1]Daily Log'!$AY$18:$AY$1017),0)","v":0},{"$f":"IFERROR($E340*SUMIF('[1]Daily Log'!$BA$18:$BA$1017,$B340,'[1]Daily Log'!$BB$18:$BB$1017),0)","v":0},{"$f":"IFERROR($E340*SUMIF('[1]Daily Log'!$BD$18:$BD$1017,$B340,'[1]Daily Log'!$BE$18:$BE$1017),0)","v":0},{"$f":"IFERROR($E340*SUMIF('[1]Daily Log'!$BG$18:$BG$1017,$B340,'[1]Daily Log'!$BH$18:$BH$1017),0)","v":0},{"$f":"IFERROR($E340*SUMIF('[1]Daily Log'!$BJ$18:$BJ$1017,$B340,'[1]Daily Log'!$BK$18:$BK$1017),0)","v":0},{"$f":"IFERROR($E340*SUMIF('[1]Daily Log'!$BM$18:$BM$1017,$B340,'[1]Daily Log'!$BN$18:$BN$1017),0)","v":0},{"$f":"IFERROR($E340*SUMIF('[1]Daily Log'!$BP$18:$BP$1017,$B340,'[1]Daily Log'!$BQ$18:$BQ$1017),0)","v":0},{"$f":"IFERROR($E340*SUMIF('[1]Daily Log'!$BS$18:$BS$1017,$B340,'[1]Daily Log'!$BT$18:$BT$1017),0)","v":0},{"$f":"IFERROR($E340*SUMIF('[1]Daily Log'!$BV$18:$BV$1017,$B340,'[1]Daily Log'!$BW$18:$BW$1017),0)","v":0},{"$f":"IFERROR($E340*SUMIF('[1]Daily Log'!$BY$18:$BY$1017,$B340,'[1]Daily Log'!$BZ$18:$BZ$1017),0)","v":0},{"$f":"IFERROR($E340*SUMIF('[1]Daily Log'!$CB$18:$CB$1017,$B340,'[1]Daily Log'!$CC$18:$CC$1017),0)","v":0},{"$f":"IFERROR($E340*SUMIF('[1]Daily Log'!$CE$18:$CE$1017,$B340,'[1]Daily Log'!$CF$18:$CF$1017),0)","v":0},{"$f":"IFERROR($E340*SUMIF('[1]Daily Log'!$CH$18:$CH$1017,$B340,'[1]Daily Log'!$CI$18:$CI$1017),0)","v":0},{"$f":"IFERROR($E340*SUMIF('[1]Daily Log'!$CK$18:$CK$1017,$B340,'[1]Daily Log'!$CL$18:$CL$1017),0)","v":0},{"$f":"IFERROR($E340*SUMIF('[1]Daily Log'!$CN$18:$CN$1017,$B340,'[1]Daily Log'!$CO$18:$CO$1017),0)","v":0}]
[null,"ZAD23 SAUCE BUTTER",null,null,1,0,{"$f":"IFERROR($E341*SUMIF('[1]Daily Log'!$B$18:$B$1017,$B341,'[1]Daily Log'!$C$18:$C$1017),0)","v":0},{"$f":"IFERROR($E341*SUMIF('[1]Daily Log'!$E$18:$E$1017,$B341,'[1]Daily Log'!$F$18:$F$1017),0)","v":0},{"$f":"IFERROR($E341*SUMIF('[1]Daily Log'!$H$18:$H$1017,$B341,'[1]Daily Log'!$I$18:$I$1017),0)","v":0}," ",{"$f":"IFERROR($E341*SUMIF('[1]Daily Log'!$N$18:$N$1017,$B341,'[1]Daily Log'!$O$18:$O$1017),0)","v":0},{"$f":"IFERROR($E341*SUMIF('[1]Daily Log'!$Q$18:$Q$1017,$B341,'[1]Daily Log'!$R$18:$R$1017),0)","v":0},{"$f":"IFERROR($E341*SUMIF('[1]Daily Log'!$T$18:$T$1017,$B341,'[1]Daily Log'!$U$18:$U$1017),0)","v":0},{"$f":"IFERROR($E341*SUMIF('[1]Daily Log'!$W$18:$W$1017,$B341,'[1]Daily Log'!$X$18:$X$1017),0)","v":0},{"$f":"IFERROR($E341*SUMIF('[1]Daily Log'!$Z$18:$Z$1017,$B341,'[1]Daily Log'!$AA$18:$AA$1017),0)","v":0},{"$f":"IFERROR($E341*SUMIF('[1]Daily Log'!$AC$18:$AC$1017,$B341,'[1]Daily Log'!$AD$18:$AD$1017),0)","v":0},{"$f":"IFERROR($E341*SUMIF('[1]Daily Log'!$AF$18:$AF$1017,$B341,'[1]Daily Log'!$AG$18:$AG$1017),0)","v":0},{"$f":"IFERROR($E341*SUMIF('[1]Daily Log'!$AI$18:$AI$1017,$B341,'[1]Daily Log'!$AJ$18:$AJ$1017),0)","v":0},{"$f":"IFERROR($E341*SUMIF('[1]Daily Log'!$AL$18:$AL$1017,$B341,'[1]Daily Log'!$AM$18:$AM$1017),0)","v":0},{"$f":"IFERROR($E341*SUMIF('[1]Daily Log'!$AO$18:$AO$1017,$B341,'[1]Daily Log'!$AP$18:$AP$1017),0)","v":0},{"$f":"IFERROR($E341*SUMIF('[1]Daily Log'!$AR$18:$AR$1017,$B341,'[1]Daily Log'!$AS$18:$AS$1017),0)","v":0},{"$f":"IFERROR($E341*SUMIF('[1]Daily Log'!$AU$18:$AU$1017,$B341,'[1]Daily Log'!$AV$18:$AV$1017),0)","v":0},{"$f":"IFERROR($E341*SUMIF('[1]Daily Log'!$AX$18:$AX$1017,$B341,'[1]Daily Log'!$AY$18:$AY$1017),0)","v":0},{"$f":"IFERROR($E341*SUMIF('[1]Daily Log'!$BA$18:$BA$1017,$B341,'[1]Daily Log'!$BB$18:$BB$1017),0)","v":0},{"$f":"IFERROR($E341*SUMIF('[1]Daily Log'!$BD$18:$BD$1017,$B341,'[1]Daily Log'!$BE$18:$BE$1017),0)","v":0},{"$f":"IFERROR($E341*SUMIF('[1]Daily Log'!$BG$18:$BG$1017,$B341,'[1]Daily Log'!$BH$18:$BH$1017),0)","v":0},{"$f":"IFERROR($E341*SUMIF('[1]Daily Log'!$BJ$18:$BJ$1017,$B341,'[1]Daily Log'!$BK$18:$BK$1017),0)","v":0},{"$f":"IFERROR($E341*SUMIF('[1]Daily Log'!$BM$18:$BM$1017,$B341,'[1]Daily Log'!$BN$18:$BN$1017),0)","v":0},{"$f":"IFERROR($E341*SUMIF('[1]Daily Log'!$BP$18:$BP$1017,$B341,'[1]Daily Log'!$BQ$18:$BQ$1017),0)","v":0},{"$f":"IFERROR($E341*SUMIF('[1]Daily Log'!$BS$18:$BS$1017,$B341,'[1]Daily Log'!$BT$18:$BT$1017),0)","v":0},{"$f":"IFERROR($E341*SUMIF('[1]Daily Log'!$BV$18:$BV$1017,$B341,'[1]Daily Log'!$BW$18:$BW$1017),0)","v":0},{"$f":"IFERROR($E341*SUMIF('[1]Daily Log'!$BY$18:$BY$1017,$B341,'[1]Daily Log'!$BZ$18:$BZ$1017),0)","v":0},{"$f":"IFERROR($E341*SUMIF('[1]Daily Log'!$CB$18:$CB$1017,$B341,'[1]Daily Log'!$CC$18:$CC$1017),0)","v":0},{"$f":"IFERROR($E341*SUMIF('[1]Daily Log'!$CE$18:$CE$1017,$B341,'[1]Daily Log'!$CF$18:$CF$1017),0)","v":0},{"$f":"IFERROR($E341*SUMIF('[1]Daily Log'!$CH$18:$CH$1017,$B341,'[1]Daily Log'!$CI$18:$CI$1017),0)","v":0},{"$f":"IFERROR($E341*SUMIF('[1]Daily Log'!$CK$18:$CK$1017,$B341,'[1]Daily Log'!$CL$18:$CL$1017),0)","v":0},{"$f":"IFERROR($E341*SUMIF('[1]Daily Log'!$CN$18:$CN$1017,$B341,'[1]Daily Log'!$CO$18:$CO$1017),0)","v":0}]
[null,"ZAD24 CILLI PADI",null,null,1,0,{"$f":"IFERROR($E342*SUMIF('[1]Daily Log'!$B$18:$B$1017,$B342,'[1]Daily Log'!$C$18:$C$1017),0)","v":0},{"$f":"IFERROR($E342*SUMIF('[1]Daily Log'!$E$18:$E$1017,$B342,'[1]Daily Log'!$F$18:$F$1017),0)","v":0},{"$f":"IFERROR($E342*SUMIF('[1]Daily Log'!$H$18:$H$1017,$B342,'[1]Daily Log'!$I$18:$I$1017),0)","v":0}," ",{"$f":"IFERROR($E342*SUMIF('[1]Daily Log'!$N$18:$N$1017,$B342,'[1]Daily Log'!$O$18:$O$1017),0)","v":0},{"$f":"IFERROR($E342*SUMIF('[1]Daily Log'!$Q$18:$Q$1017,$B342,'[1]Daily Log'!$R$18:$R$1017),0)","v":0},{"$f":"IFERROR($E342*SUMIF('[1]Daily Log'!$T$18:$T$1017,$B342,'[1]Daily Log'!$U$18:$U$1017),0)","v":0},{"$f":"IFERROR($E342*SUMIF('[1]Daily Log'!$W$18:$W$1017,$B342,'[1]Daily Log'!$X$18:$X$1017),0)","v":0},{"$f":"IFERROR($E342*SUMIF('[1]Daily Log'!$Z$18:$Z$1017,$B342,'[1]Daily Log'!$AA$18:$AA$1017),0)","v":0},{"$f":"IFERROR($E342*SUMIF('[1]Daily Log'!$AC$18:$AC$1017,$B342,'[1]Daily Log'!$AD$18:$AD$1017),0)","v":0},{"$f":"IFERROR($E342*SUMIF('[1]Daily Log'!$AF$18:$AF$1017,$B342,'[1]Daily Log'!$AG$18:$AG$1017),0)","v":0},{"$f":"IFERROR($E342*SUMIF('[1]Daily Log'!$AI$18:$AI$1017,$B342,'[1]Daily Log'!$AJ$18:$AJ$1017),0)","v":0},{"$f":"IFERROR($E342*SUMIF('[1]Daily Log'!$AL$18:$AL$1017,$B342,'[1]Daily Log'!$AM$18:$AM$1017),0)","v":0},{"$f":"IFERROR($E342*SUMIF('[1]Daily Log'!$AO$18:$AO$1017,$B342,'[1]Daily Log'!$AP$18:$AP$1017),0)","v":0},{"$f":"IFERROR($E342*SUMIF('[1]Daily Log'!$AR$18:$AR$1017,$B342,'[1]Daily Log'!$AS$18:$AS$1017),0)","v":0},{"$f":"IFERROR($E342*SUMIF('[1]Daily Log'!$AU$18:$AU$1017,$B342,'[1]Daily Log'!$AV$18:$AV$1017),0)","v":0},{"$f":"IFERROR($E342*SUMIF('[1]Daily Log'!$AX$18:$AX$1017,$B342,'[1]Daily Log'!$AY$18:$AY$1017),0)","v":0},{"$f":"IFERROR($E342*SUMIF('[1]Daily Log'!$BA$18:$BA$1017,$B342,'[1]Daily Log'!$BB$18:$BB$1017),0)","v":0},{"$f":"IFERROR($E342*SUMIF('[1]Daily Log'!$BD$18:$BD$1017,$B342,'[1]Daily Log'!$BE$18:$BE$1017),0)","v":0},{"$f":"IFERROR($E342*SUMIF('[1]Daily Log'!$BG$18:$BG$1017,$B342,'[1]Daily Log'!$BH$18:$BH$1017),0)","v":0},{"$f":"IFERROR($E342*SUMIF('[1]Daily Log'!$BJ$18:$BJ$1017,$B342,'[1]Daily Log'!$BK$18:$BK$1017),0)","v":0},{"$f":"IFERROR($E342*SUMIF('[1]Daily Log'!$BM$18:$BM$1017,$B342,'[1]Daily Log'!$BN$18:$BN$1017),0)","v":0},{"$f":"IFERROR($E342*SUMIF('[1]Daily Log'!$BP$18:$BP$1017,$B342,'[1]Daily Log'!$BQ$18:$BQ$1017),0)","v":0},{"$f":"IFERROR($E342*SUMIF('[1]Daily Log'!$BS$18:$BS$1017,$B342,'[1]Daily Log'!$BT$18:$BT$1017),0)","v":0},{"$f":"IFERROR($E342*SUMIF('[1]Daily Log'!$BV$18:$BV$1017,$B342,'[1]Daily Log'!$BW$18:$BW$1017),0)","v":0},{"$f":"IFERROR($E342*SUMIF('[1]Daily Log'!$BY$18:$BY$1017,$B342,'[1]Daily Log'!$BZ$18:$BZ$1017),0)","v":0},{"$f":"IFERROR($E342*SUMIF('[1]Daily Log'!$CB$18:$CB$1017,$B342,'[1]Daily Log'!$CC$18:$CC$1017),0)","v":0},{"$f":"IFERROR($E342*SUMIF('[1]Daily Log'!$CE$18:$CE$1017,$B342,'[1]Daily Log'!$CF$18:$CF$1017),0)","v":0},{"$f":"IFERROR($E342*SUMIF('[1]Daily Log'!$CH$18:$CH$1017,$B342,'[1]Daily Log'!$CI$18:$CI$1017),0)","v":0},{"$f":"IFERROR($E342*SUMIF('[1]Daily Log'!$CK$18:$CK$1017,$B342,'[1]Daily Log'!$CL$18:$CL$1017),0)","v":0},{"$f":"IFERROR($E342*SUMIF('[1]Daily Log'!$CN$18:$CN$1017,$B342,'[1]Daily Log'!$CO$18:$CO$1017),0)","v":0}]
[null,"ZAD28 SAUCE MR",null,null,1,0,{"$f":"IFERROR($E343*SUMIF('[1]Daily Log'!$B$18:$B$1017,$B343,'[1]Daily Log'!$C$18:$C$1017),0)","v":0},{"$f":"IFERROR($E343*SUMIF('[1]Daily Log'!$E$18:$E$1017,$B343,'[1]Daily Log'!$F$18:$F$1017),0)","v":0},{"$f":"IFERROR($E343*SUMIF('[1]Daily Log'!$H$18:$H$1017,$B343,'[1]Daily Log'!$I$18:$I$1017),0)","v":0}," ",{"$f":"IFERROR($E343*SUMIF('[1]Daily Log'!$N$18:$N$1017,$B343,'[1]Daily Log'!$O$18:$O$1017),0)","v":0},{"$f":"IFERROR($E343*SUMIF('[1]Daily Log'!$Q$18:$Q$1017,$B343,'[1]Daily Log'!$R$18:$R$1017),0)","v":0},{"$f":"IFERROR($E343*SUMIF('[1]Daily Log'!$T$18:$T$1017,$B343,'[1]Daily Log'!$U$18:$U$1017),0)","v":0},{"$f":"IFERROR($E343*SUMIF('[1]Daily Log'!$W$18:$W$1017,$B343,'[1]Daily Log'!$X$18:$X$1017),0)","v":0},{"$f":"IFERROR($E343*SUMIF('[1]Daily Log'!$Z$18:$Z$1017,$B343,'[1]Daily Log'!$AA$18:$AA$1017),0)","v":0},{"$f":"IFERROR($E343*SUMIF('[1]Daily Log'!$AC$18:$AC$1017,$B343,'[1]Daily Log'!$AD$18:$AD$1017),0)","v":0},{"$f":"IFERROR($E343*SUMIF('[1]Daily Log'!$AF$18:$AF$1017,$B343,'[1]Daily Log'!$AG$18:$AG$1017),0)","v":0},{"$f":"IFERROR($E343*SUMIF('[1]Daily Log'!$AI$18:$AI$1017,$B343,'[1]Daily Log'!$AJ$18:$AJ$1017),0)","v":0},{"$f":"IFERROR($E343*SUMIF('[1]Daily Log'!$AL$18:$AL$1017,$B343,'[1]Daily Log'!$AM$18:$AM$1017),0)","v":0},{"$f":"IFERROR($E343*SUMIF('[1]Daily Log'!$AO$18:$AO$1017,$B343,'[1]Daily Log'!$AP$18:$AP$1017),0)","v":0},{"$f":"IFERROR($E343*SUMIF('[1]Daily Log'!$AR$18:$AR$1017,$B343,'[1]Daily Log'!$AS$18:$AS$1017),0)","v":0},{"$f":"IFERROR($E343*SUMIF('[1]Daily Log'!$AU$18:$AU$1017,$B343,'[1]Daily Log'!$AV$18:$AV$1017),0)","v":0},{"$f":"IFERROR($E343*SUMIF('[1]Daily Log'!$AX$18:$AX$1017,$B343,'[1]Daily Log'!$AY$18:$AY$1017),0)","v":0},{"$f":"IFERROR($E343*SUMIF('[1]Daily Log'!$BA$18:$BA$1017,$B343,'[1]Daily Log'!$BB$18:$BB$1017),0)","v":0},{"$f":"IFERROR($E343*SUMIF('[1]Daily Log'!$BD$18:$BD$1017,$B343,'[1]Daily Log'!$BE$18:$BE$1017),0)","v":0},{"$f":"IFERROR($E343*SUMIF('[1]Daily Log'!$BG$18:$BG$1017,$B343,'[1]Daily Log'!$BH$18:$BH$1017),0)","v":0},{"$f":"IFERROR($E343*SUMIF('[1]Daily Log'!$BJ$18:$BJ$1017,$B343,'[1]Daily Log'!$BK$18:$BK$1017),0)","v":0},{"$f":"IFERROR($E343*SUMIF('[1]Daily Log'!$BM$18:$BM$1017,$B343,'[1]Daily Log'!$BN$18:$BN$1017),0)","v":0},{"$f":"IFERROR($E343*SUMIF('[1]Daily Log'!$BP$18:$BP$1017,$B343,'[1]Daily Log'!$BQ$18:$BQ$1017),0)","v":0},{"$f":"IFERROR($E343*SUMIF('[1]Daily Log'!$BS$18:$BS$1017,$B343,'[1]Daily Log'!$BT$18:$BT$1017),0)","v":0},{"$f":"IFERROR($E343*SUMIF('[1]Daily Log'!$BV$18:$BV$1017,$B343,'[1]Daily Log'!$BW$18:$BW$1017),0)","v":0},{"$f":"IFERROR($E343*SUMIF('[1]Daily Log'!$BY$18:$BY$1017,$B343,'[1]Daily Log'!$BZ$18:$BZ$1017),0)","v":0},{"$f":"IFERROR($E343*SUMIF('[1]Daily Log'!$CB$18:$CB$1017,$B343,'[1]Daily Log'!$CC$18:$CC$1017),0)","v":0},{"$f":"IFERROR($E343*SUMIF('[1]Daily Log'!$CE$18:$CE$1017,$B343,'[1]Daily Log'!$CF$18:$CF$1017),0)","v":0},{"$f":"IFERROR($E343*SUMIF('[1]Daily Log'!$CH$18:$CH$1017,$B343,'[1]Daily Log'!$CI$18:$CI$1017),0)","v":0},{"$f":"IFERROR($E343*SUMIF('[1]Daily Log'!$CK$18:$CK$1017,$B343,'[1]Daily Log'!$CL$18:$CL$1017),0)","v":0},{"$f":"IFERROR($E343*SUMIF('[1]Daily Log'!$CN$18:$CN$1017,$B343,'[1]Daily Log'!$CO$18:$CO$1017),0)","v":0}]
[null,"ZAD29 SAUCE SAMBAL",null,null,1,0,{"$f":"IFERROR($E344*SUMIF('[1]Daily Log'!$B$18:$B$1017,$B344,'[1]Daily Log'!$C$18:$C$1017),0)","v":0},{"$f":"IFERROR($E344*SUMIF('[1]Daily Log'!$E$18:$E$1017,$B344,'[1]Daily Log'!$F$18:$F$1017),0)","v":0},{"$f":"IFERROR($E344*SUMIF('[1]Daily Log'!$H$18:$H$1017,$B344,'[1]Daily Log'!$I$18:$I$1017),0)","v":0}," ",{"$f":"IFERROR($E344*SUMIF('[1]Daily Log'!$N$18:$N$1017,$B344,'[1]Daily Log'!$O$18:$O$1017),0)","v":0},{"$f":"IFERROR($E344*SUMIF('[1]Daily Log'!$Q$18:$Q$1017,$B344,'[1]Daily Log'!$R$18:$R$1017),0)","v":0},{"$f":"IFERROR($E344*SUMIF('[1]Daily Log'!$T$18:$T$1017,$B344,'[1]Daily Log'!$U$18:$U$1017),0)","v":0},{"$f":"IFERROR($E344*SUMIF('[1]Daily Log'!$W$18:$W$1017,$B344,'[1]Daily Log'!$X$18:$X$1017),0)","v":0},{"$f":"IFERROR($E344*SUMIF('[1]Daily Log'!$Z$18:$Z$1017,$B344,'[1]Daily Log'!$AA$18:$AA$1017),0)","v":0},{"$f":"IFERROR($E344*SUMIF('[1]Daily Log'!$AC$18:$AC$1017,$B344,'[1]Daily Log'!$AD$18:$AD$1017),0)","v":0},{"$f":"IFERROR($E344*SUMIF('[1]Daily Log'!$AF$18:$AF$1017,$B344,'[1]Daily Log'!$AG$18:$AG$1017),0)","v":0},{"$f":"IFERROR($E344*SUMIF('[1]Daily Log'!$AI$18:$AI$1017,$B344,'[1]Daily Log'!$AJ$18:$AJ$1017),0)","v":0},{"$f":"IFERROR($E344*SUMIF('[1]Daily Log'!$AL$18:$AL$1017,$B344,'[1]Daily Log'!$AM$18:$AM$1017),0)","v":0},{"$f":"IFERROR($E344*SUMIF('[1]Daily Log'!$AO$18:$AO$1017,$B344,'[1]Daily Log'!$AP$18:$AP$1017),0)","v":0},{"$f":"IFERROR($E344*SUMIF('[1]Daily Log'!$AR$18:$AR$1017,$B344,'[1]Daily Log'!$AS$18:$AS$1017),0)","v":0},{"$f":"IFERROR($E344*SUMIF('[1]Daily Log'!$AU$18:$AU$1017,$B344,'[1]Daily Log'!$AV$18:$AV$1017),0)","v":0},{"$f":"IFERROR($E344*SUMIF('[1]Daily Log'!$AX$18:$AX$1017,$B344,'[1]Daily Log'!$AY$18:$AY$1017),0)","v":0},{"$f":"IFERROR($E344*SUMIF('[1]Daily Log'!$BA$18:$BA$1017,$B344,'[1]Daily Log'!$BB$18:$BB$1017),0)","v":0},{"$f":"IFERROR($E344*SUMIF('[1]Daily Log'!$BD$18:$BD$1017,$B344,'[1]Daily Log'!$BE$18:$BE$1017),0)","v":0},{"$f":"IFERROR($E344*SUMIF('[1]Daily Log'!$BG$18:$BG$1017,$B344,'[1]Daily Log'!$BH$18:$BH$1017),0)","v":0},{"$f":"IFERROR($E344*SUMIF('[1]Daily Log'!$BJ$18:$BJ$1017,$B344,'[1]Daily Log'!$BK$18:$BK$1017),0)","v":0},{"$f":"IFERROR($E344*SUMIF('[1]Daily Log'!$BM$18:$BM$1017,$B344,'[1]Daily Log'!$BN$18:$BN$1017),0)","v":0},{"$f":"IFERROR($E344*SUMIF('[1]Daily Log'!$BP$18:$BP$1017,$B344,'[1]Daily Log'!$BQ$18:$BQ$1017),0)","v":0},{"$f":"IFERROR($E344*SUMIF('[1]Daily Log'!$BS$18:$BS$1017,$B344,'[1]Daily Log'!$BT$18:$BT$1017),0)","v":0},{"$f":"IFERROR($E344*SUMIF('[1]Daily Log'!$BV$18:$BV$1017,$B344,'[1]Daily Log'!$BW$18:$BW$1017),0)","v":0},{"$f":"IFERROR($E344*SUMIF('[1]Daily Log'!$BY$18:$BY$1017,$B344,'[1]Daily Log'!$BZ$18:$BZ$1017),0)","v":0},{"$f":"IFERROR($E344*SUMIF('[1]Daily Log'!$CB$18:$CB$1017,$B344,'[1]Daily Log'!$CC$18:$CC$1017),0)","v":0},{"$f":"IFERROR($E344*SUMIF('[1]Daily Log'!$CE$18:$CE$1017,$B344,'[1]Daily Log'!$CF$18:$CF$1017),0)","v":0},{"$f":"IFERROR($E344*SUMIF('[1]Daily Log'!$CH$18:$CH$1017,$B344,'[1]Daily Log'!$CI$18:$CI$1017),0)","v":0},{"$f":"IFERROR($E344*SUMIF('[1]Daily Log'!$CK$18:$CK$1017,$B344,'[1]Daily Log'!$CL$18:$CL$1017),0)","v":0},{"$f":"IFERROR($E344*SUMIF('[1]Daily Log'!$CN$18:$CN$1017,$B344,'[1]Daily Log'!$CO$18:$CO$1017),0)","v":0}]
[null,"ZAD34 for Nasi Lemak",null,null,1,0,{"$f":"IFERROR($E345*SUMIF('[1]Daily Log'!$B$18:$B$1017,$B345,'[1]Daily Log'!$C$18:$C$1017),0)","v":0},{"$f":"IFERROR($E345*SUMIF('[1]Daily Log'!$E$18:$E$1017,$B345,'[1]Daily Log'!$F$18:$F$1017),0)","v":0},{"$f":"IFERROR($E345*SUMIF('[1]Daily Log'!$H$18:$H$1017,$B345,'[1]Daily Log'!$I$18:$I$1017),0)","v":0}," ",{"$f":"IFERROR($E345*SUMIF('[1]Daily Log'!$N$18:$N$1017,$B345,'[1]Daily Log'!$O$18:$O$1017),0)","v":0},{"$f":"IFERROR($E345*SUMIF('[1]Daily Log'!$Q$18:$Q$1017,$B345,'[1]Daily Log'!$R$18:$R$1017),0)","v":0},{"$f":"IFERROR($E345*SUMIF('[1]Daily Log'!$T$18:$T$1017,$B345,'[1]Daily Log'!$U$18:$U$1017),0)","v":0},{"$f":"IFERROR($E345*SUMIF('[1]Daily Log'!$W$18:$W$1017,$B345,'[1]Daily Log'!$X$18:$X$1017),0)","v":0},{"$f":"IFERROR($E345*SUMIF('[1]Daily Log'!$Z$18:$Z$1017,$B345,'[1]Daily Log'!$AA$18:$AA$1017),0)","v":0},{"$f":"IFERROR($E345*SUMIF('[1]Daily Log'!$AC$18:$AC$1017,$B345,'[1]Daily Log'!$AD$18:$AD$1017),0)","v":0},{"$f":"IFERROR($E345*SUMIF('[1]Daily Log'!$AF$18:$AF$1017,$B345,'[1]Daily Log'!$AG$18:$AG$1017),0)","v":0},{"$f":"IFERROR($E345*SUMIF('[1]Daily Log'!$AI$18:$AI$1017,$B345,'[1]Daily Log'!$AJ$18:$AJ$1017),0)","v":0},{"$f":"IFERROR($E345*SUMIF('[1]Daily Log'!$AL$18:$AL$1017,$B345,'[1]Daily Log'!$AM$18:$AM$1017),0)","v":0},{"$f":"IFERROR($E345*SUMIF('[1]Daily Log'!$AO$18:$AO$1017,$B345,'[1]Daily Log'!$AP$18:$AP$1017),0)","v":0},{"$f":"IFERROR($E345*SUMIF('[1]Daily Log'!$AR$18:$AR$1017,$B345,'[1]Daily Log'!$AS$18:$AS$1017),0)","v":0},{"$f":"IFERROR($E345*SUMIF('[1]Daily Log'!$AU$18:$AU$1017,$B345,'[1]Daily Log'!$AV$18:$AV$1017),0)","v":0},{"$f":"IFERROR($E345*SUMIF('[1]Daily Log'!$AX$18:$AX$1017,$B345,'[1]Daily Log'!$AY$18:$AY$1017),0)","v":0},{"$f":"IFERROR($E345*SUMIF('[1]Daily Log'!$BA$18:$BA$1017,$B345,'[1]Daily Log'!$BB$18:$BB$1017),0)","v":0},{"$f":"IFERROR($E345*SUMIF('[1]Daily Log'!$BD$18:$BD$1017,$B345,'[1]Daily Log'!$BE$18:$BE$1017),0)","v":0},{"$f":"IFERROR($E345*SUMIF('[1]Daily Log'!$BG$18:$BG$1017,$B345,'[1]Daily Log'!$BH$18:$BH$1017),0)","v":0},{"$f":"IFERROR($E345*SUMIF('[1]Daily Log'!$BJ$18:$BJ$1017,$B345,'[1]Daily Log'!$BK$18:$BK$1017),0)","v":0},{"$f":"IFERROR($E345*SUMIF('[1]Daily Log'!$BM$18:$BM$1017,$B345,'[1]Daily Log'!$BN$18:$BN$1017),0)","v":0},{"$f":"IFERROR($E345*SUMIF('[1]Daily Log'!$BP$18:$BP$1017,$B345,'[1]Daily Log'!$BQ$18:$BQ$1017),0)","v":0},{"$f":"IFERROR($E345*SUMIF('[1]Daily Log'!$BS$18:$BS$1017,$B345,'[1]Daily Log'!$BT$18:$BT$1017),0)","v":0},{"$f":"IFERROR($E345*SUMIF('[1]Daily Log'!$BV$18:$BV$1017,$B345,'[1]Daily Log'!$BW$18:$BW$1017),0)","v":0},{"$f":"IFERROR($E345*SUMIF('[1]Daily Log'!$BY$18:$BY$1017,$B345,'[1]Daily Log'!$BZ$18:$BZ$1017),0)","v":0},{"$f":"IFERROR($E345*SUMIF('[1]Daily Log'!$CB$18:$CB$1017,$B345,'[1]Daily Log'!$CC$18:$CC$1017),0)","v":0},{"$f":"IFERROR($E345*SUMIF('[1]Daily Log'!$CE$18:$CE$1017,$B345,'[1]Daily Log'!$CF$18:$CF$1017),0)","v":0},{"$f":"IFERROR($E345*SUMIF('[1]Daily Log'!$CH$18:$CH$1017,$B345,'[1]Daily Log'!$CI$18:$CI$1017),0)","v":0},{"$f":"IFERROR($E345*SUMIF('[1]Daily Log'!$CK$18:$CK$1017,$B345,'[1]Daily Log'!$CL$18:$CL$1017),0)","v":0},{"$f":"IFERROR($E345*SUMIF('[1]Daily Log'!$CN$18:$CN$1017,$B345,'[1]Daily Log'!$CO$18:$CO$1017),0)","v":0}]
[null,"ZAD35 Take Away",null,null,1,0,{"$f":"IFERROR($E346*SUMIF('[1]Daily Log'!$B$18:$B$1017,$B346,'[1]Daily Log'!$C$18:$C$1017),0)","v":0},{"$f":"IFERROR($E346*SUMIF('[1]Daily Log'!$E$18:$E$1017,$B346,'[1]Daily Log'!$F$18:$F$1017),0)","v":0},{"$f":"IFERROR($E346*SUMIF('[1]Daily Log'!$H$18:$H$1017,$B346,'[1]Daily Log'!$I$18:$I$1017),0)","v":0}," ",{"$f":"IFERROR($E346*SUMIF('[1]Daily Log'!$N$18:$N$1017,$B346,'[1]Daily Log'!$O$18:$O$1017),0)","v":0},{"$f":"IFERROR($E346*SUMIF('[1]Daily Log'!$Q$18:$Q$1017,$B346,'[1]Daily Log'!$R$18:$R$1017),0)","v":0},{"$f":"IFERROR($E346*SUMIF('[1]Daily Log'!$T$18:$T$1017,$B346,'[1]Daily Log'!$U$18:$U$1017),0)","v":0},{"$f":"IFERROR($E346*SUMIF('[1]Daily Log'!$W$18:$W$1017,$B346,'[1]Daily Log'!$X$18:$X$1017),0)","v":0},{"$f":"IFERROR($E346*SUMIF('[1]Daily Log'!$Z$18:$Z$1017,$B346,'[1]Daily Log'!$AA$18:$AA$1017),0)","v":0},{"$f":"IFERROR($E346*SUMIF('[1]Daily Log'!$AC$18:$AC$1017,$B346,'[1]Daily Log'!$AD$18:$AD$1017),0)","v":0},{"$f":"IFERROR($E346*SUMIF('[1]Daily Log'!$AF$18:$AF$1017,$B346,'[1]Daily Log'!$AG$18:$AG$1017),0)","v":0},{"$f":"IFERROR($E346*SUMIF('[1]Daily Log'!$AI$18:$AI$1017,$B346,'[1]Daily Log'!$AJ$18:$AJ$1017),0)","v":0},{"$f":"IFERROR($E346*SUMIF('[1]Daily Log'!$AL$18:$AL$1017,$B346,'[1]Daily Log'!$AM$18:$AM$1017),0)","v":0},{"$f":"IFERROR($E346*SUMIF('[1]Daily Log'!$AO$18:$AO$1017,$B346,'[1]Daily Log'!$AP$18:$AP$1017),0)","v":0},{"$f":"IFERROR($E346*SUMIF('[1]Daily Log'!$AR$18:$AR$1017,$B346,'[1]Daily Log'!$AS$18:$AS$1017),0)","v":0},{"$f":"IFERROR($E346*SUMIF('[1]Daily Log'!$AU$18:$AU$1017,$B346,'[1]Daily Log'!$AV$18:$AV$1017),0)","v":0},{"$f":"IFERROR($E346*SUMIF('[1]Daily Log'!$AX$18:$AX$1017,$B346,'[1]Daily Log'!$AY$18:$AY$1017),0)","v":0},{"$f":"IFERROR($E346*SUMIF('[1]Daily Log'!$BA$18:$BA$1017,$B346,'[1]Daily Log'!$BB$18:$BB$1017),0)","v":0},{"$f":"IFERROR($E346*SUMIF('[1]Daily Log'!$BD$18:$BD$1017,$B346,'[1]Daily Log'!$BE$18:$BE$1017),0)","v":0},{"$f":"IFERROR($E346*SUMIF('[1]Daily Log'!$BG$18:$BG$1017,$B346,'[1]Daily Log'!$BH$18:$BH$1017),0)","v":0},{"$f":"IFERROR($E346*SUMIF('[1]Daily Log'!$BJ$18:$BJ$1017,$B346,'[1]Daily Log'!$BK$18:$BK$1017),0)","v":0},{"$f":"IFERROR($E346*SUMIF('[1]Daily Log'!$BM$18:$BM$1017,$B346,'[1]Daily Log'!$BN$18:$BN$1017),0)","v":0},{"$f":"IFERROR($E346*SUMIF('[1]Daily Log'!$BP$18:$BP$1017,$B346,'[1]Daily Log'!$BQ$18:$BQ$1017),0)","v":0},{"$f":"IFERROR($E346*SUMIF('[1]Daily Log'!$BS$18:$BS$1017,$B346,'[1]Daily Log'!$BT$18:$BT$1017),0)","v":0},{"$f":"IFERROR($E346*SUMIF('[1]Daily Log'!$BV$18:$BV$1017,$B346,'[1]Daily Log'!$BW$18:$BW$1017),0)","v":0},{"$f":"IFERROR($E346*SUMIF('[1]Daily Log'!$BY$18:$BY$1017,$B346,'[1]Daily Log'!$BZ$18:$BZ$1017),0)","v":0},{"$f":"IFERROR($E346*SUMIF('[1]Daily Log'!$CB$18:$CB$1017,$B346,'[1]Daily Log'!$CC$18:$CC$1017),0)","v":0},{"$f":"IFERROR($E346*SUMIF('[1]Daily Log'!$CE$18:$CE$1017,$B346,'[1]Daily Log'!$CF$18:$CF$1017),0)","v":0},{"$f":"IFERROR($E346*SUMIF('[1]Daily Log'!$CH$18:$CH$1017,$B346,'[1]Daily Log'!$CI$18:$CI$1017),0)","v":0},{"$f":"IFERROR($E346*SUMIF('[1]Daily Log'!$CK$18:$CK$1017,$B346,'[1]Daily Log'!$CL$18:$CL$1017),0)","v":0},{"$f":"IFERROR($E346*SUMIF('[1]Daily Log'!$CN$18:$CN$1017,$B346,'[1]Daily Log'!$CO$18:$CO$1017),0)","v":0}]
[null,"ZAE01 GUI MEM EX BKT",null,null,1,0,{"$f":"IFERROR($E347*SUMIF('[1]Daily Log'!$B$18:$B$1017,$B347,'[1]Daily Log'!$C$18:$C$1017),0)","v":0},{"$f":"IFERROR($E347*SUMIF('[1]Daily Log'!$E$18:$E$1017,$B347,'[1]Daily Log'!$F$18:$F$1017),0)","v":0},{"$f":"IFERROR($E347*SUMIF('[1]Daily Log'!$H$18:$H$1017,$B347,'[1]Daily Log'!$I$18:$I$1017),0)","v":0}," ",{"$f":"IFERROR($E347*SUMIF('[1]Daily Log'!$N$18:$N$1017,$B347,'[1]Daily Log'!$O$18:$O$1017),0)","v":0},{"$f":"IFERROR($E347*SUMIF('[1]Daily Log'!$Q$18:$Q$1017,$B347,'[1]Daily Log'!$R$18:$R$1017),0)","v":0},{"$f":"IFERROR($E347*SUMIF('[1]Daily Log'!$T$18:$T$1017,$B347,'[1]Daily Log'!$U$18:$U$1017),0)","v":0},{"$f":"IFERROR($E347*SUMIF('[1]Daily Log'!$W$18:$W$1017,$B347,'[1]Daily Log'!$X$18:$X$1017),0)","v":0},{"$f":"IFERROR($E347*SUMIF('[1]Daily Log'!$Z$18:$Z$1017,$B347,'[1]Daily Log'!$AA$18:$AA$1017),0)","v":0},{"$f":"IFERROR($E347*SUMIF('[1]Daily Log'!$AC$18:$AC$1017,$B347,'[1]Daily Log'!$AD$18:$AD$1017),0)","v":0},{"$f":"IFERROR($E347*SUMIF('[1]Daily Log'!$AF$18:$AF$1017,$B347,'[1]Daily Log'!$AG$18:$AG$1017),0)","v":0},{"$f":"IFERROR($E347*SUMIF('[1]Daily Log'!$AI$18:$AI$1017,$B347,'[1]Daily Log'!$AJ$18:$AJ$1017),0)","v":0},{"$f":"IFERROR($E347*SUMIF('[1]Daily Log'!$AL$18:$AL$1017,$B347,'[1]Daily Log'!$AM$18:$AM$1017),0)","v":0},{"$f":"IFERROR($E347*SUMIF('[1]Daily Log'!$AO$18:$AO$1017,$B347,'[1]Daily Log'!$AP$18:$AP$1017),0)","v":0},{"$f":"IFERROR($E347*SUMIF('[1]Daily Log'!$AR$18:$AR$1017,$B347,'[1]Daily Log'!$AS$18:$AS$1017),0)","v":0},{"$f":"IFERROR($E347*SUMIF('[1]Daily Log'!$AU$18:$AU$1017,$B347,'[1]Daily Log'!$AV$18:$AV$1017),0)","v":0},{"$f":"IFERROR($E347*SUMIF('[1]Daily Log'!$AX$18:$AX$1017,$B347,'[1]Daily Log'!$AY$18:$AY$1017),0)","v":0},{"$f":"IFERROR($E347*SUMIF('[1]Daily Log'!$BA$18:$BA$1017,$B347,'[1]Daily Log'!$BB$18:$BB$1017),0)","v":0},{"$f":"IFERROR($E347*SUMIF('[1]Daily Log'!$BD$18:$BD$1017,$B347,'[1]Daily Log'!$BE$18:$BE$1017),0)","v":0},{"$f":"IFERROR($E347*SUMIF('[1]Daily Log'!$BG$18:$BG$1017,$B347,'[1]Daily Log'!$BH$18:$BH$1017),0)","v":0},{"$f":"IFERROR($E347*SUMIF('[1]Daily Log'!$BJ$18:$BJ$1017,$B347,'[1]Daily Log'!$BK$18:$BK$1017),0)","v":0},{"$f":"IFERROR($E347*SUMIF('[1]Daily Log'!$BM$18:$BM$1017,$B347,'[1]Daily Log'!$BN$18:$BN$1017),0)","v":0},{"$f":"IFERROR($E347*SUMIF('[1]Daily Log'!$BP$18:$BP$1017,$B347,'[1]Daily Log'!$BQ$18:$BQ$1017),0)","v":0},{"$f":"IFERROR($E347*SUMIF('[1]Daily Log'!$BS$18:$BS$1017,$B347,'[1]Daily Log'!$BT$18:$BT$1017),0)","v":0},{"$f":"IFERROR($E347*SUMIF('[1]Daily Log'!$BV$18:$BV$1017,$B347,'[1]Daily Log'!$BW$18:$BW$1017),0)","v":0},{"$f":"IFERROR($E347*SUMIF('[1]Daily Log'!$BY$18:$BY$1017,$B347,'[1]Daily Log'!$BZ$18:$BZ$1017),0)","v":0},{"$f":"IFERROR($E347*SUMIF('[1]Daily Log'!$CB$18:$CB$1017,$B347,'[1]Daily Log'!$CC$18:$CC$1017),0)","v":0},{"$f":"IFERROR($E347*SUMIF('[1]Daily Log'!$CE$18:$CE$1017,$B347,'[1]Daily Log'!$CF$18:$CF$1017),0)","v":0},{"$f":"IFERROR($E347*SUMIF('[1]Daily Log'!$CH$18:$CH$1017,$B347,'[1]Daily Log'!$CI$18:$CI$1017),0)","v":0},{"$f":"IFERROR($E347*SUMIF('[1]Daily Log'!$CK$18:$CK$1017,$B347,'[1]Daily Log'!$CL$18:$CL$1017),0)","v":0},{"$f":"IFERROR($E347*SUMIF('[1]Daily Log'!$CN$18:$CN$1017,$B347,'[1]Daily Log'!$CO$18:$CO$1017),0)","v":0}]
[null,"ZAE02 HEI MEM EX BKT",null,null,1,0,{"$f":"IFERROR($E348*SUMIF('[1]Daily Log'!$B$18:$B$1017,$B348,'[1]Daily Log'!$C$18:$C$1017),0)","v":0},{"$f":"IFERROR($E348*SUMIF('[1]Daily Log'!$E$18:$E$1017,$B348,'[1]Daily Log'!$F$18:$F$1017),0)","v":0},{"$f":"IFERROR($E348*SUMIF('[1]Daily Log'!$H$18:$H$1017,$B348,'[1]Daily Log'!$I$18:$I$1017),0)","v":0}," ",{"$f":"IFERROR($E348*SUMIF('[1]Daily Log'!$N$18:$N$1017,$B348,'[1]Daily Log'!$O$18:$O$1017),0)","v":0},{"$f":"IFERROR($E348*SUMIF('[1]Daily Log'!$Q$18:$Q$1017,$B348,'[1]Daily Log'!$R$18:$R$1017),0)","v":0},{"$f":"IFERROR($E348*SUMIF('[1]Daily Log'!$T$18:$T$1017,$B348,'[1]Daily Log'!$U$18:$U$1017),0)","v":0},{"$f":"IFERROR($E348*SUMIF('[1]Daily Log'!$W$18:$W$1017,$B348,'[1]Daily Log'!$X$18:$X$1017),0)","v":0},{"$f":"IFERROR($E348*SUMIF('[1]Daily Log'!$Z$18:$Z$1017,$B348,'[1]Daily Log'!$AA$18:$AA$1017),0)","v":0},{"$f":"IFERROR($E348*SUMIF('[1]Daily Log'!$AC$18:$AC$1017,$B348,'[1]Daily Log'!$AD$18:$AD$1017),0)","v":0},{"$f":"IFERROR($E348*SUMIF('[1]Daily Log'!$AF$18:$AF$1017,$B348,'[1]Daily Log'!$AG$18:$AG$1017),0)","v":0},{"$f":"IFERROR($E348*SUMIF('[1]Daily Log'!$AI$18:$AI$1017,$B348,'[1]Daily Log'!$AJ$18:$AJ$1017),0)","v":0},{"$f":"IFERROR($E348*SUMIF('[1]Daily Log'!$AL$18:$AL$1017,$B348,'[1]Daily Log'!$AM$18:$AM$1017),0)","v":0},{"$f":"IFERROR($E348*SUMIF('[1]Daily Log'!$AO$18:$AO$1017,$B348,'[1]Daily Log'!$AP$18:$AP$1017),0)","v":0},{"$f":"IFERROR($E348*SUMIF('[1]Daily Log'!$AR$18:$AR$1017,$B348,'[1]Daily Log'!$AS$18:$AS$1017),0)","v":0},{"$f":"IFERROR($E348*SUMIF('[1]Daily Log'!$AU$18:$AU$1017,$B348,'[1]Daily Log'!$AV$18:$AV$1017),0)","v":0},{"$f":"IFERROR($E348*SUMIF('[1]Daily Log'!$AX$18:$AX$1017,$B348,'[1]Daily Log'!$AY$18:$AY$1017),0)","v":0},{"$f":"IFERROR($E348*SUMIF('[1]Daily Log'!$BA$18:$BA$1017,$B348,'[1]Daily Log'!$BB$18:$BB$1017),0)","v":0},{"$f":"IFERROR($E348*SUMIF('[1]Daily Log'!$BD$18:$BD$1017,$B348,'[1]Daily Log'!$BE$18:$BE$1017),0)","v":0},{"$f":"IFERROR($E348*SUMIF('[1]Daily Log'!$BG$18:$BG$1017,$B348,'[1]Daily Log'!$BH$18:$BH$1017),0)","v":0},{"$f":"IFERROR($E348*SUMIF('[1]Daily Log'!$BJ$18:$BJ$1017,$B348,'[1]Daily Log'!$BK$18:$BK$1017),0)","v":0},{"$f":"IFERROR($E348*SUMIF('[1]Daily Log'!$BM$18:$BM$1017,$B348,'[1]Daily Log'!$BN$18:$BN$1017),0)","v":0},{"$f":"IFERROR($E348*SUMIF('[1]Daily Log'!$BP$18:$BP$1017,$B348,'[1]Daily Log'!$BQ$18:$BQ$1017),0)","v":0},{"$f":"IFERROR($E348*SUMIF('[1]Daily Log'!$BS$18:$BS$1017,$B348,'[1]Daily Log'!$BT$18:$BT$1017),0)","v":0},{"$f":"IFERROR($E348*SUMIF('[1]Daily Log'!$BV$18:$BV$1017,$B348,'[1]Daily Log'!$BW$18:$BW$1017),0)","v":0},{"$f":"IFERROR($E348*SUMIF('[1]Daily Log'!$BY$18:$BY$1017,$B348,'[1]Daily Log'!$BZ$18:$BZ$1017),0)","v":0},{"$f":"IFERROR($E348*SUMIF('[1]Daily Log'!$CB$18:$CB$1017,$B348,'[1]Daily Log'!$CC$18:$CC$1017),0)","v":0},{"$f":"IFERROR($E348*SUMIF('[1]Daily Log'!$CE$18:$CE$1017,$B348,'[1]Daily Log'!$CF$18:$CF$1017),0)","v":0},{"$f":"IFERROR($E348*SUMIF('[1]Daily Log'!$CH$18:$CH$1017,$B348,'[1]Daily Log'!$CI$18:$CI$1017),0)","v":0},{"$f":"IFERROR($E348*SUMIF('[1]Daily Log'!$CK$18:$CK$1017,$B348,'[1]Daily Log'!$CL$18:$CL$1017),0)","v":0},{"$f":"IFERROR($E348*SUMIF('[1]Daily Log'!$CN$18:$CN$1017,$B348,'[1]Daily Log'!$CO$18:$CO$1017),0)","v":0}]
[null,"ZAE04 TIBBITS",null,"TIDBITS",1,0,{"$f":"IFERROR($E349*SUMIF('[1]Daily Log'!$B$18:$B$1017,$B349,'[1]Daily Log'!$C$18:$C$1017),0)","v":0},{"$f":"IFERROR($E349*SUMIF('[1]Daily Log'!$E$18:$E$1017,$B349,'[1]Daily Log'!$F$18:$F$1017),0)","v":0},{"$f":"IFERROR($E349*SUMIF('[1]Daily Log'!$H$18:$H$1017,$B349,'[1]Daily Log'!$I$18:$I$1017),0)","v":0}," ",{"$f":"IFERROR($E349*SUMIF('[1]Daily Log'!$N$18:$N$1017,$B349,'[1]Daily Log'!$O$18:$O$1017),0)","v":0},{"$f":"IFERROR($E349*SUMIF('[1]Daily Log'!$Q$18:$Q$1017,$B349,'[1]Daily Log'!$R$18:$R$1017),0)","v":0},{"$f":"IFERROR($E349*SUMIF('[1]Daily Log'!$T$18:$T$1017,$B349,'[1]Daily Log'!$U$18:$U$1017),0)","v":0},{"$f":"IFERROR($E349*SUMIF('[1]Daily Log'!$W$18:$W$1017,$B349,'[1]Daily Log'!$X$18:$X$1017),0)","v":0},{"$f":"IFERROR($E349*SUMIF('[1]Daily Log'!$Z$18:$Z$1017,$B349,'[1]Daily Log'!$AA$18:$AA$1017),0)","v":0},{"$f":"IFERROR($E349*SUMIF('[1]Daily Log'!$AC$18:$AC$1017,$B349,'[1]Daily Log'!$AD$18:$AD$1017),0)","v":0},{"$f":"IFERROR($E349*SUMIF('[1]Daily Log'!$AF$18:$AF$1017,$B349,'[1]Daily Log'!$AG$18:$AG$1017),0)","v":0},{"$f":"IFERROR($E349*SUMIF('[1]Daily Log'!$AI$18:$AI$1017,$B349,'[1]Daily Log'!$AJ$18:$AJ$1017),0)","v":0},{"$f":"IFERROR($E349*SUMIF('[1]Daily Log'!$AL$18:$AL$1017,$B349,'[1]Daily Log'!$AM$18:$AM$1017),0)","v":0},{"$f":"IFERROR($E349*SUMIF('[1]Daily Log'!$AO$18:$AO$1017,$B349,'[1]Daily Log'!$AP$18:$AP$1017),0)","v":0},{"$f":"IFERROR($E349*SUMIF('[1]Daily Log'!$AR$18:$AR$1017,$B349,'[1]Daily Log'!$AS$18:$AS$1017),0)","v":0},{"$f":"IFERROR($E349*SUMIF('[1]Daily Log'!$AU$18:$AU$1017,$B349,'[1]Daily Log'!$AV$18:$AV$1017),0)","v":0},{"$f":"IFERROR($E349*SUMIF('[1]Daily Log'!$AX$18:$AX$1017,$B349,'[1]Daily Log'!$AY$18:$AY$1017),0)","v":0},{"$f":"IFERROR($E349*SUMIF('[1]Daily Log'!$BA$18:$BA$1017,$B349,'[1]Daily Log'!$BB$18:$BB$1017),0)","v":0},{"$f":"IFERROR($E349*SUMIF('[1]Daily Log'!$BD$18:$BD$1017,$B349,'[1]Daily Log'!$BE$18:$BE$1017),0)","v":0},{"$f":"IFERROR($E349*SUMIF('[1]Daily Log'!$BG$18:$BG$1017,$B349,'[1]Daily Log'!$BH$18:$BH$1017),0)","v":0},{"$f":"IFERROR($E349*SUMIF('[1]Daily Log'!$BJ$18:$BJ$1017,$B349,'[1]Daily Log'!$BK$18:$BK$1017),0)","v":0},{"$f":"IFERROR($E349*SUMIF('[1]Daily Log'!$BM$18:$BM$1017,$B349,'[1]Daily Log'!$BN$18:$BN$1017),0)","v":0},{"$f":"IFERROR($E349*SUMIF('[1]Daily Log'!$BP$18:$BP$1017,$B349,'[1]Daily Log'!$BQ$18:$BQ$1017),0)","v":0},{"$f":"IFERROR($E349*SUMIF('[1]Daily Log'!$BS$18:$BS$1017,$B349,'[1]Daily Log'!$BT$18:$BT$1017),0)","v":0},{"$f":"IFERROR($E349*SUMIF('[1]Daily Log'!$BV$18:$BV$1017,$B349,'[1]Daily Log'!$BW$18:$BW$1017),0)","v":0},{"$f":"IFERROR($E349*SUMIF('[1]Daily Log'!$BY$18:$BY$1017,$B349,'[1]Daily Log'!$BZ$18:$BZ$1017),0)","v":0},{"$f":"IFERROR($E349*SUMIF('[1]Daily Log'!$CB$18:$CB$1017,$B349,'[1]Daily Log'!$CC$18:$CC$1017),0)","v":0},{"$f":"IFERROR($E349*SUMIF('[1]Daily Log'!$CE$18:$CE$1017,$B349,'[1]Daily Log'!$CF$18:$CF$1017),0)","v":0},{"$f":"IFERROR($E349*SUMIF('[1]Daily Log'!$CH$18:$CH$1017,$B349,'[1]Daily Log'!$CI$18:$CI$1017),0)","v":0},{"$f":"IFERROR($E349*SUMIF('[1]Daily Log'!$CK$18:$CK$1017,$B349,'[1]Daily Log'!$CL$18:$CL$1017),0)","v":0},{"$f":"IFERROR($E349*SUMIF('[1]Daily Log'!$CN$18:$CN$1017,$B349,'[1]Daily Log'!$CO$18:$CO$1017),0)","v":0}]
[null,null,null,null,null,{"$f":"SUM($G350:$AK350)","v":0},{"$f":"IFERROR($E350*SUMIF('[1]Daily Log'!$B$18:$B$1017,$B350,'[1]Daily Log'!$C$18:$C$1017),0)","v":0},{"$f":"IFERROR($E350*SUMIF('[1]Daily Log'!$E$18:$E$1017,$B350,'[1]Daily Log'!$F$18:$F$1017),0)","v":0},{"$f":"IFERROR($E350*SUMIF('[1]Daily Log'!$H$18:$H$1017,$B350,'[1]Daily Log'!$I$18:$I$1017),0)","v":0}," ",{"$f":"IFERROR($E350*SUMIF('[1]Daily Log'!$N$18:$N$1017,$B350,'[1]Daily Log'!$O$18:$O$1017),0)","v":0},{"$f":"IFERROR($E350*SUMIF('[1]Daily Log'!$Q$18:$Q$1017,$B350,'[1]Daily Log'!$R$18:$R$1017),0)","v":0},{"$f":"IFERROR($E350*SUMIF('[1]Daily Log'!$T$18:$T$1017,$B350,'[1]Daily Log'!$U$18:$U$1017),0)","v":0},{"$f":"IFERROR($E350*SUMIF('[1]Daily Log'!$W$18:$W$1017,$B350,'[1]Daily Log'!$X$18:$X$1017),0)","v":0},{"$f":"IFERROR($E350*SUMIF('[1]Daily Log'!$Z$18:$Z$1017,$B350,'[1]Daily Log'!$AA$18:$AA$1017),0)","v":0},{"$f":"IFERROR($E350*SUMIF('[1]Daily Log'!$AC$18:$AC$1017,$B350,'[1]Daily Log'!$AD$18:$AD$1017),0)","v":0},{"$f":"IFERROR($E350*SUMIF('[1]Daily Log'!$AF$18:$AF$1017,$B350,'[1]Daily Log'!$AG$18:$AG$1017),0)","v":0},{"$f":"IFERROR($E350*SUMIF('[1]Daily Log'!$AI$18:$AI$1017,$B350,'[1]Daily Log'!$AJ$18:$AJ$1017),0)","v":0},{"$f":"IFERROR($E350*SUMIF('[1]Daily Log'!$AL$18:$AL$1017,$B350,'[1]Daily Log'!$AM$18:$AM$1017),0)","v":0},{"$f":"IFERROR($E350*SUMIF('[1]Daily Log'!$AO$18:$AO$1017,$B350,'[1]Daily Log'!$AP$18:$AP$1017),0)","v":0},{"$f":"IFERROR($E350*SUMIF('[1]Daily Log'!$AR$18:$AR$1017,$B350,'[1]Daily Log'!$AS$18:$AS$1017),0)","v":0},{"$f":"IFERROR($E350*SUMIF('[1]Daily Log'!$AU$18:$AU$1017,$B350,'[1]Daily Log'!$AV$18:$AV$1017),0)","v":0},{"$f":"IFERROR($E350*SUMIF('[1]Daily Log'!$AX$18:$AX$1017,$B350,'[1]Daily Log'!$AY$18:$AY$1017),0)","v":0},{"$f":"IFERROR($E350*SUMIF('[1]Daily Log'!$BA$18:$BA$1017,$B350,'[1]Daily Log'!$BB$18:$BB$1017),0)","v":0},{"$f":"IFERROR($E350*SUMIF('[1]Daily Log'!$BD$18:$BD$1017,$B350,'[1]Daily Log'!$BE$18:$BE$1017),0)","v":0},{"$f":"IFERROR($E350*SUMIF('[1]Daily Log'!$BG$18:$BG$1017,$B350,'[1]Daily Log'!$BH$18:$BH$1017),0)","v":0},{"$f":"IFERROR($E350*SUMIF('[1]Daily Log'!$BJ$18:$BJ$1017,$B350,'[1]Daily Log'!$BK$18:$BK$1017),0)","v":0},{"$f":"IFERROR($E350*SUMIF('[1]Daily Log'!$BM$18:$BM$1017,$B350,'[1]Daily Log'!$BN$18:$BN$1017),0)","v":0},{"$f":"IFERROR($E350*SUMIF('[1]Daily Log'!$BP$18:$BP$1017,$B350,'[1]Daily Log'!$BQ$18:$BQ$1017),0)","v":0},{"$f":"IFERROR($E350*SUMIF('[1]Daily Log'!$BS$18:$BS$1017,$B350,'[1]Daily Log'!$BT$18:$BT$1017),0)","v":0},{"$f":"IFERROR($E350*SUMIF('[1]Daily Log'!$BV$18:$BV$1017,$B350,'[1]Daily Log'!$BW$18:$BW$1017),0)","v":0},{"$f":"IFERROR($E350*SUMIF('[1]Daily Log'!$BY$18:$BY$1017,$B350,'[1]Daily Log'!$BZ$18:$BZ$1017),0)","v":0},{"$f":"IFERROR($E350*SUMIF('[1]Daily Log'!$CB$18:$CB$1017,$B350,'[1]Daily Log'!$CC$18:$CC$1017),0)","v":0},{"$f":"IFERROR($E350*SUMIF('[1]Daily Log'!$CE$18:$CE$1017,$B350,'[1]Daily Log'!$CF$18:$CF$1017),0)","v":0},{"$f":"IFERROR($E350*SUMIF('[1]Daily Log'!$CH$18:$CH$1017,$B350,'[1]Daily Log'!$CI$18:$CI$1017),0)","v":0},{"$f":"IFERROR($E350*SUMIF('[1]Daily Log'!$CK$18:$CK$1017,$B350,'[1]Daily Log'!$CL$18:$CL$1017),0)","v":0},{"$f":"IFERROR($E350*SUMIF('[1]Daily Log'!$CN$18:$CN$1017,$B350,'[1]Daily Log'!$CO$18:$CO$1017),0)","v":0}]
[null,null,null,null,null,0,{"$f":"IFERROR($E351*SUMIF('[1]Daily Log'!$B$18:$B$1017,$B351,'[1]Daily Log'!$C$18:$C$1017),0)","v":0},{"$f":"IFERROR($E351*SUMIF('[1]Daily Log'!$E$18:$E$1017,$B351,'[1]Daily Log'!$F$18:$F$1017),0)","v":0},{"$f":"IFERROR($E351*SUMIF('[1]Daily Log'!$H$18:$H$1017,$B351,'[1]Daily Log'!$I$18:$I$1017),0)","v":0}," ",{"$f":"IFERROR($E351*SUMIF('[1]Daily Log'!$N$18:$N$1017,$B351,'[1]Daily Log'!$O$18:$O$1017),0)","v":0},{"$f":"IFERROR($E351*SUMIF('[1]Daily Log'!$Q$18:$Q$1017,$B351,'[1]Daily Log'!$R$18:$R$1017),0)","v":0},{"$f":"IFERROR($E351*SUMIF('[1]Daily Log'!$T$18:$T$1017,$B351,'[1]Daily Log'!$U$18:$U$1017),0)","v":0},{"$f":"IFERROR($E351*SUMIF('[1]Daily Log'!$W$18:$W$1017,$B351,'[1]Daily Log'!$X$18:$X$1017),0)","v":0},{"$f":"IFERROR($E351*SUMIF('[1]Daily Log'!$Z$18:$Z$1017,$B351,'[1]Daily Log'!$AA$18:$AA$1017),0)","v":0},{"$f":"IFERROR($E351*SUMIF('[1]Daily Log'!$AC$18:$AC$1017,$B351,'[1]Daily Log'!$AD$18:$AD$1017),0)","v":0},{"$f":"IFERROR($E351*SUMIF('[1]Daily Log'!$AF$18:$AF$1017,$B351,'[1]Daily Log'!$AG$18:$AG$1017),0)","v":0},{"$f":"IFERROR($E351*SUMIF('[1]Daily Log'!$AI$18:$AI$1017,$B351,'[1]Daily Log'!$AJ$18:$AJ$1017),0)","v":0},{"$f":"IFERROR($E351*SUMIF('[1]Daily Log'!$AL$18:$AL$1017,$B351,'[1]Daily Log'!$AM$18:$AM$1017),0)","v":0},{"$f":"IFERROR($E351*SUMIF('[1]Daily Log'!$AO$18:$AO$1017,$B351,'[1]Daily Log'!$AP$18:$AP$1017),0)","v":0},{"$f":"IFERROR($E351*SUMIF('[1]Daily Log'!$AR$18:$AR$1017,$B351,'[1]Daily Log'!$AS$18:$AS$1017),0)","v":0},{"$f":"IFERROR($E351*SUMIF('[1]Daily Log'!$AU$18:$AU$1017,$B351,'[1]Daily Log'!$AV$18:$AV$1017),0)","v":0},{"$f":"IFERROR($E351*SUMIF('[1]Daily Log'!$AX$18:$AX$1017,$B351,'[1]Daily Log'!$AY$18:$AY$1017),0)","v":0},{"$f":"IFERROR($E351*SUMIF('[1]Daily Log'!$BA$18:$BA$1017,$B351,'[1]Daily Log'!$BB$18:$BB$1017),0)","v":0},{"$f":"IFERROR($E351*SUMIF('[1]Daily Log'!$BD$18:$BD$1017,$B351,'[1]Daily Log'!$BE$18:$BE$1017),0)","v":0},{"$f":"IFERROR($E351*SUMIF('[1]Daily Log'!$BG$18:$BG$1017,$B351,'[1]Daily Log'!$BH$18:$BH$1017),0)","v":0},{"$f":"IFERROR($E351*SUMIF('[1]Daily Log'!$BJ$18:$BJ$1017,$B351,'[1]Daily Log'!$BK$18:$BK$1017),0)","v":0},{"$f":"IFERROR($E351*SUMIF('[1]Daily Log'!$BM$18:$BM$1017,$B351,'[1]Daily Log'!$BN$18:$BN$1017),0)","v":0},{"$f":"IFERROR($E351*SUMIF('[1]Daily Log'!$BP$18:$BP$1017,$B351,'[1]Daily Log'!$BQ$18:$BQ$1017),0)","v":0},{"$f":"IFERROR($E351*SUMIF('[1]Daily Log'!$BS$18:$BS$1017,$B351,'[1]Daily Log'!$BT$18:$BT$1017),0)","v":0},{"$f":"IFERROR($E351*SUMIF('[1]Daily Log'!$BV$18:$BV$1017,$B351,'[1]Daily Log'!$BW$18:$BW$1017),0)","v":0},{"$f":"IFERROR($E351*SUMIF('[1]Daily Log'!$BY$18:$BY$1017,$B351,'[1]Daily Log'!$BZ$18:$BZ$1017),0)","v":0},{"$f":"IFERROR($E351*SUMIF('[1]Daily Log'!$CB$18:$CB$1017,$B351,'[1]Daily Log'!$CC$18:$CC$1017),0)","v":0},{"$f":"IFERROR($E351*SUMIF('[1]Daily Log'!$CE$18:$CE$1017,$B351,'[1]Daily Log'!$CF$18:$CF$1017),0)","v":0},{"$f":"IFERROR($E351*SUMIF('[1]Daily Log'!$CH$18:$CH$1017,$B351,'[1]Daily Log'!$CI$18:$CI$1017),0)","v":0},{"$f":"IFERROR($E351*SUMIF('[1]Daily Log'!$CK$18:$CK$1017,$B351,'[1]Daily Log'!$CL$18:$CL$1017),0)","v":0},{"$f":"IFERROR($E351*SUMIF('[1]Daily Log'!$CN$18:$CN$1017,$B351,'[1]Daily Log'!$CO$18:$CO$1017),0)","v":0}]
[null,null,null,null,null,0,{"$f":"IFERROR($E352*SUMIF('[1]Daily Log'!$B$18:$B$1017,$B352,'[1]Daily Log'!$C$18:$C$1017),0)","v":0},{"$f":"IFERROR($E352*SUMIF('[1]Daily Log'!$E$18:$E$1017,$B352,'[1]Daily Log'!$F$18:$F$1017),0)","v":0},{"$f":"IFERROR($E352*SUMIF('[1]Daily Log'!$H$18:$H$1017,$B352,'[1]Daily Log'!$I$18:$I$1017),0)","v":0}," ",{"$f":"IFERROR($E352*SUMIF('[1]Daily Log'!$N$18:$N$1017,$B352,'[1]Daily Log'!$O$18:$O$1017),0)","v":0},{"$f":"IFERROR($E352*SUMIF('[1]Daily Log'!$Q$18:$Q$1017,$B352,'[1]Daily Log'!$R$18:$R$1017),0)","v":0},{"$f":"IFERROR($E352*SUMIF('[1]Daily Log'!$T$18:$T$1017,$B352,'[1]Daily Log'!$U$18:$U$1017),0)","v":0},{"$f":"IFERROR($E352*SUMIF('[1]Daily Log'!$W$18:$W$1017,$B352,'[1]Daily Log'!$X$18:$X$1017),0)","v":0},{"$f":"IFERROR($E352*SUMIF('[1]Daily Log'!$Z$18:$Z$1017,$B352,'[1]Daily Log'!$AA$18:$AA$1017),0)","v":0},{"$f":"IFERROR($E352*SUMIF('[1]Daily Log'!$AC$18:$AC$1017,$B352,'[1]Daily Log'!$AD$18:$AD$1017),0)","v":0},{"$f":"IFERROR($E352*SUMIF('[1]Daily Log'!$AF$18:$AF$1017,$B352,'[1]Daily Log'!$AG$18:$AG$1017),0)","v":0},{"$f":"IFERROR($E352*SUMIF('[1]Daily Log'!$AI$18:$AI$1017,$B352,'[1]Daily Log'!$AJ$18:$AJ$1017),0)","v":0},{"$f":"IFERROR($E352*SUMIF('[1]Daily Log'!$AL$18:$AL$1017,$B352,'[1]Daily Log'!$AM$18:$AM$1017),0)","v":0},{"$f":"IFERROR($E352*SUMIF('[1]Daily Log'!$AO$18:$AO$1017,$B352,'[1]Daily Log'!$AP$18:$AP$1017),0)","v":0},{"$f":"IFERROR($E352*SUMIF('[1]Daily Log'!$AR$18:$AR$1017,$B352,'[1]Daily Log'!$AS$18:$AS$1017),0)","v":0},{"$f":"IFERROR($E352*SUMIF('[1]Daily Log'!$AU$18:$AU$1017,$B352,'[1]Daily Log'!$AV$18:$AV$1017),0)","v":0},{"$f":"IFERROR($E352*SUMIF('[1]Daily Log'!$AX$18:$AX$1017,$B352,'[1]Daily Log'!$AY$18:$AY$1017),0)","v":0},{"$f":"IFERROR($E352*SUMIF('[1]Daily Log'!$BA$18:$BA$1017,$B352,'[1]Daily Log'!$BB$18:$BB$1017),0)","v":0},{"$f":"IFERROR($E352*SUMIF('[1]Daily Log'!$BD$18:$BD$1017,$B352,'[1]Daily Log'!$BE$18:$BE$1017),0)","v":0},{"$f":"IFERROR($E352*SUMIF('[1]Daily Log'!$BG$18:$BG$1017,$B352,'[1]Daily Log'!$BH$18:$BH$1017),0)","v":0},{"$f":"IFERROR($E352*SUMIF('[1]Daily Log'!$BJ$18:$BJ$1017,$B352,'[1]Daily Log'!$BK$18:$BK$1017),0)","v":0},{"$f":"IFERROR($E352*SUMIF('[1]Daily Log'!$BM$18:$BM$1017,$B352,'[1]Daily Log'!$BN$18:$BN$1017),0)","v":0},{"$f":"IFERROR($E352*SUMIF('[1]Daily Log'!$BP$18:$BP$1017,$B352,'[1]Daily Log'!$BQ$18:$BQ$1017),0)","v":0},{"$f":"IFERROR($E352*SUMIF('[1]Daily Log'!$BS$18:$BS$1017,$B352,'[1]Daily Log'!$BT$18:$BT$1017),0)","v":0},{"$f":"IFERROR($E352*SUMIF('[1]Daily Log'!$BV$18:$BV$1017,$B352,'[1]Daily Log'!$BW$18:$BW$1017),0)","v":0},{"$f":"IFERROR($E352*SUMIF('[1]Daily Log'!$BY$18:$BY$1017,$B352,'[1]Daily Log'!$BZ$18:$BZ$1017),0)","v":0},{"$f":"IFERROR($E352*SUMIF('[1]Daily Log'!$CB$18:$CB$1017,$B352,'[1]Daily Log'!$CC$18:$CC$1017),0)","v":0},{"$f":"IFERROR($E352*SUMIF('[1]Daily Log'!$CE$18:$CE$1017,$B352,'[1]Daily Log'!$CF$18:$CF$1017),0)","v":0},{"$f":"IFERROR($E352*SUMIF('[1]Daily Log'!$CH$18:$CH$1017,$B352,'[1]Daily Log'!$CI$18:$CI$1017),0)","v":0},{"$f":"IFERROR($E352*SUMIF('[1]Daily Log'!$CK$18:$CK$1017,$B352,'[1]Daily Log'!$CL$18:$CL$1017),0)","v":0},{"$f":"IFERROR($E352*SUMIF('[1]Daily Log'!$CN$18:$CN$1017,$B352,'[1]Daily Log'!$CO$18:$CO$1017),0)","v":0}]
[null,null,null,null,null,0,{"$f":"IFERROR($E353*SUMIF('[1]Daily Log'!$B$18:$B$1017,$B353,'[1]Daily Log'!$C$18:$C$1017),0)","v":0},{"$f":"IFERROR($E353*SUMIF('[1]Daily Log'!$E$18:$E$1017,$B353,'[1]Daily Log'!$F$18:$F$1017),0)","v":0},{"$f":"IFERROR($E353*SUMIF('[1]Daily Log'!$H$18:$H$1017,$B353,'[1]Daily Log'!$I$18:$I$1017),0)","v":0}," ",{"$f":"IFERROR($E353*SUMIF('[1]Daily Log'!$N$18:$N$1017,$B353,'[1]Daily Log'!$O$18:$O$1017),0)","v":0},{"$f":"IFERROR($E353*SUMIF('[1]Daily Log'!$Q$18:$Q$1017,$B353,'[1]Daily Log'!$R$18:$R$1017),0)","v":0},{"$f":"IFERROR($E353*SUMIF('[1]Daily Log'!$T$18:$T$1017,$B353,'[1]Daily Log'!$U$18:$U$1017),0)","v":0},{"$f":"IFERROR($E353*SUMIF('[1]Daily Log'!$W$18:$W$1017,$B353,'[1]Daily Log'!$X$18:$X$1017),0)","v":0},{"$f":"IFERROR($E353*SUMIF('[1]Daily Log'!$Z$18:$Z$1017,$B353,'[1]Daily Log'!$AA$18:$AA$1017),0)","v":0},{"$f":"IFERROR($E353*SUMIF('[1]Daily Log'!$AC$18:$AC$1017,$B353,'[1]Daily Log'!$AD$18:$AD$1017),0)","v":0},{"$f":"IFERROR($E353*SUMIF('[1]Daily Log'!$AF$18:$AF$1017,$B353,'[1]Daily Log'!$AG$18:$AG$1017),0)","v":0},{"$f":"IFERROR($E353*SUMIF('[1]Daily Log'!$AI$18:$AI$1017,$B353,'[1]Daily Log'!$AJ$18:$AJ$1017),0)","v":0},{"$f":"IFERROR($E353*SUMIF('[1]Daily Log'!$AL$18:$AL$1017,$B353,'[1]Daily Log'!$AM$18:$AM$1017),0)","v":0},{"$f":"IFERROR($E353*SUMIF('[1]Daily Log'!$AO$18:$AO$1017,$B353,'[1]Daily Log'!$AP$18:$AP$1017),0)","v":0},{"$f":"IFERROR($E353*SUMIF('[1]Daily Log'!$AR$18:$AR$1017,$B353,'[1]Daily Log'!$AS$18:$AS$1017),0)","v":0},{"$f":"IFERROR($E353*SUMIF('[1]Daily Log'!$AU$18:$AU$1017,$B353,'[1]Daily Log'!$AV$18:$AV$1017),0)","v":0},{"$f":"IFERROR($E353*SUMIF('[1]Daily Log'!$AX$18:$AX$1017,$B353,'[1]Daily Log'!$AY$18:$AY$1017),0)","v":0},{"$f":"IFERROR($E353*SUMIF('[1]Daily Log'!$BA$18:$BA$1017,$B353,'[1]Daily Log'!$BB$18:$BB$1017),0)","v":0},{"$f":"IFERROR($E353*SUMIF('[1]Daily Log'!$BD$18:$BD$1017,$B353,'[1]Daily Log'!$BE$18:$BE$1017),0)","v":0},{"$f":"IFERROR($E353*SUMIF('[1]Daily Log'!$BG$18:$BG$1017,$B353,'[1]Daily Log'!$BH$18:$BH$1017),0)","v":0},{"$f":"IFERROR($E353*SUMIF('[1]Daily Log'!$BJ$18:$BJ$1017,$B353,'[1]Daily Log'!$BK$18:$BK$1017),0)","v":0},{"$f":"IFERROR($E353*SUMIF('[1]Daily Log'!$BM$18:$BM$1017,$B353,'[1]Daily Log'!$BN$18:$BN$1017),0)","v":0},{"$f":"IFERROR($E353*SUMIF('[1]Daily Log'!$BP$18:$BP$1017,$B353,'[1]Daily Log'!$BQ$18:$BQ$1017),0)","v":0},{"$f":"IFERROR($E353*SUMIF('[1]Daily Log'!$BS$18:$BS$1017,$B353,'[1]Daily Log'!$BT$18:$BT$1017),0)","v":0},{"$f":"IFERROR($E353*SUMIF('[1]Daily Log'!$BV$18:$BV$1017,$B353,'[1]Daily Log'!$BW$18:$BW$1017),0)","v":0},{"$f":"IFERROR($E353*SUMIF('[1]Daily Log'!$BY$18:$BY$1017,$B353,'[1]Daily Log'!$BZ$18:$BZ$1017),0)","v":0},{"$f":"IFERROR($E353*SUMIF('[1]Daily Log'!$CB$18:$CB$1017,$B353,'[1]Daily Log'!$CC$18:$CC$1017),0)","v":0},{"$f":"IFERROR($E353*SUMIF('[1]Daily Log'!$CE$18:$CE$1017,$B353,'[1]Daily Log'!$CF$18:$CF$1017),0)","v":0},{"$f":"IFERROR($E353*SUMIF('[1]Daily Log'!$CH$18:$CH$1017,$B353,'[1]Daily Log'!$CI$18:$CI$1017),0)","v":0},{"$f":"IFERROR($E353*SUMIF('[1]Daily Log'!$CK$18:$CK$1017,$B353,'[1]Daily Log'!$CL$18:$CL$1017),0)","v":0},{"$f":"IFERROR($E353*SUMIF('[1]Daily Log'!$CN$18:$CN$1017,$B353,'[1]Daily Log'!$CO$18:$CO$1017),0)","v":0}]
[null,null,null,null,null,0,{"$f":"IFERROR($E354*SUMIF('[1]Daily Log'!$B$18:$B$1017,$B354,'[1]Daily Log'!$C$18:$C$1017),0)","v":0},{"$f":"IFERROR($E354*SUMIF('[1]Daily Log'!$E$18:$E$1017,$B354,'[1]Daily Log'!$F$18:$F$1017),0)","v":0},{"$f":"IFERROR($E354*SUMIF('[1]Daily Log'!$H$18:$H$1017,$B354,'[1]Daily Log'!$I$18:$I$1017),0)","v":0}," ",{"$f":"IFERROR($E354*SUMIF('[1]Daily Log'!$N$18:$N$1017,$B354,'[1]Daily Log'!$O$18:$O$1017),0)","v":0},{"$f":"IFERROR($E354*SUMIF('[1]Daily Log'!$Q$18:$Q$1017,$B354,'[1]Daily Log'!$R$18:$R$1017),0)","v":0},{"$f":"IFERROR($E354*SUMIF('[1]Daily Log'!$T$18:$T$1017,$B354,'[1]Daily Log'!$U$18:$U$1017),0)","v":0},{"$f":"IFERROR($E354*SUMIF('[1]Daily Log'!$W$18:$W$1017,$B354,'[1]Daily Log'!$X$18:$X$1017),0)","v":0},{"$f":"IFERROR($E354*SUMIF('[1]Daily Log'!$Z$18:$Z$1017,$B354,'[1]Daily Log'!$AA$18:$AA$1017),0)","v":0},{"$f":"IFERROR($E354*SUMIF('[1]Daily Log'!$AC$18:$AC$1017,$B354,'[1]Daily Log'!$AD$18:$AD$1017),0)","v":0},{"$f":"IFERROR($E354*SUMIF('[1]Daily Log'!$AF$18:$AF$1017,$B354,'[1]Daily Log'!$AG$18:$AG$1017),0)","v":0},{"$f":"IFERROR($E354*SUMIF('[1]Daily Log'!$AI$18:$AI$1017,$B354,'[1]Daily Log'!$AJ$18:$AJ$1017),0)","v":0},{"$f":"IFERROR($E354*SUMIF('[1]Daily Log'!$AL$18:$AL$1017,$B354,'[1]Daily Log'!$AM$18:$AM$1017),0)","v":0},{"$f":"IFERROR($E354*SUMIF('[1]Daily Log'!$AO$18:$AO$1017,$B354,'[1]Daily Log'!$AP$18:$AP$1017),0)","v":0},{"$f":"IFERROR($E354*SUMIF('[1]Daily Log'!$AR$18:$AR$1017,$B354,'[1]Daily Log'!$AS$18:$AS$1017),0)","v":0},{"$f":"IFERROR($E354*SUMIF('[1]Daily Log'!$AU$18:$AU$1017,$B354,'[1]Daily Log'!$AV$18:$AV$1017),0)","v":0},{"$f":"IFERROR($E354*SUMIF('[1]Daily Log'!$AX$18:$AX$1017,$B354,'[1]Daily Log'!$AY$18:$AY$1017),0)","v":0},{"$f":"IFERROR($E354*SUMIF('[1]Daily Log'!$BA$18:$BA$1017,$B354,'[1]Daily Log'!$BB$18:$BB$1017),0)","v":0},{"$f":"IFERROR($E354*SUMIF('[1]Daily Log'!$BD$18:$BD$1017,$B354,'[1]Daily Log'!$BE$18:$BE$1017),0)","v":0},{"$f":"IFERROR($E354*SUMIF('[1]Daily Log'!$BG$18:$BG$1017,$B354,'[1]Daily Log'!$BH$18:$BH$1017),0)","v":0},{"$f":"IFERROR($E354*SUMIF('[1]Daily Log'!$BJ$18:$BJ$1017,$B354,'[1]Daily Log'!$BK$18:$BK$1017),0)","v":0},{"$f":"IFERROR($E354*SUMIF('[1]Daily Log'!$BM$18:$BM$1017,$B354,'[1]Daily Log'!$BN$18:$BN$1017),0)","v":0},{"$f":"IFERROR($E354*SUMIF('[1]Daily Log'!$BP$18:$BP$1017,$B354,'[1]Daily Log'!$BQ$18:$BQ$1017),0)","v":0},{"$f":"IFERROR($E354*SUMIF('[1]Daily Log'!$BS$18:$BS$1017,$B354,'[1]Daily Log'!$BT$18:$BT$1017),0)","v":0},{"$f":"IFERROR($E354*SUMIF('[1]Daily Log'!$BV$18:$BV$1017,$B354,'[1]Daily Log'!$BW$18:$BW$1017),0)","v":0},{"$f":"IFERROR($E354*SUMIF('[1]Daily Log'!$BY$18:$BY$1017,$B354,'[1]Daily Log'!$BZ$18:$BZ$1017),0)","v":0},{"$f":"IFERROR($E354*SUMIF('[1]Daily Log'!$CB$18:$CB$1017,$B354,'[1]Daily Log'!$CC$18:$CC$1017),0)","v":0},{"$f":"IFERROR($E354*SUMIF('[1]Daily Log'!$CE$18:$CE$1017,$B354,'[1]Daily Log'!$CF$18:$CF$1017),0)","v":0},{"$f":"IFERROR($E354*SUMIF('[1]Daily Log'!$CH$18:$CH$1017,$B354,'[1]Daily Log'!$CI$18:$CI$1017),0)","v":0},{"$f":"IFERROR($E354*SUMIF('[1]Daily Log'!$CK$18:$CK$1017,$B354,'[1]Daily Log'!$CL$18:$CL$1017),0)","v":0},{"$f":"IFERROR($E354*SUMIF('[1]Daily Log'!$CN$18:$CN$1017,$B354,'[1]Daily Log'!$CO$18:$CO$1017),0)","v":0}]
[null,null,null,null,null,0,{"$f":"IFERROR($E355*SUMIF('[1]Daily Log'!$B$18:$B$1017,$B355,'[1]Daily Log'!$C$18:$C$1017),0)","v":0},{"$f":"IFERROR($E355*SUMIF('[1]Daily Log'!$E$18:$E$1017,$B355,'[1]Daily Log'!$F$18:$F$1017),0)","v":0},{"$f":"IFERROR($E355*SUMIF('[1]Daily Log'!$H$18:$H$1017,$B355,'[1]Daily Log'!$I$18:$I$1017),0)","v":0}," ",{"$f":"IFERROR($E355*SUMIF('[1]Daily Log'!$N$18:$N$1017,$B355,'[1]Daily Log'!$O$18:$O$1017),0)","v":0},{"$f":"IFERROR($E355*SUMIF('[1]Daily Log'!$Q$18:$Q$1017,$B355,'[1]Daily Log'!$R$18:$R$1017),0)","v":0},{"$f":"IFERROR($E355*SUMIF('[1]Daily Log'!$T$18:$T$1017,$B355,'[1]Daily Log'!$U$18:$U$1017),0)","v":0},{"$f":"IFERROR($E355*SUMIF('[1]Daily Log'!$W$18:$W$1017,$B355,'[1]Daily Log'!$X$18:$X$1017),0)","v":0},{"$f":"IFERROR($E355*SUMIF('[1]Daily Log'!$Z$18:$Z$1017,$B355,'[1]Daily Log'!$AA$18:$AA$1017),0)","v":0},{"$f":"IFERROR($E355*SUMIF('[1]Daily Log'!$AC$18:$AC$1017,$B355,'[1]Daily Log'!$AD$18:$AD$1017),0)","v":0},{"$f":"IFERROR($E355*SUMIF('[1]Daily Log'!$AF$18:$AF$1017,$B355,'[1]Daily Log'!$AG$18:$AG$1017),0)","v":0},{"$f":"IFERROR($E355*SUMIF('[1]Daily Log'!$AI$18:$AI$1017,$B355,'[1]Daily Log'!$AJ$18:$AJ$1017),0)","v":0},{"$f":"IFERROR($E355*SUMIF('[1]Daily Log'!$AL$18:$AL$1017,$B355,'[1]Daily Log'!$AM$18:$AM$1017),0)","v":0},{"$f":"IFERROR($E355*SUMIF('[1]Daily Log'!$AO$18:$AO$1017,$B355,'[1]Daily Log'!$AP$18:$AP$1017),0)","v":0},{"$f":"IFERROR($E355*SUMIF('[1]Daily Log'!$AR$18:$AR$1017,$B355,'[1]Daily Log'!$AS$18:$AS$1017),0)","v":0},{"$f":"IFERROR($E355*SUMIF('[1]Daily Log'!$AU$18:$AU$1017,$B355,'[1]Daily Log'!$AV$18:$AV$1017),0)","v":0},{"$f":"IFERROR($E355*SUMIF('[1]Daily Log'!$AX$18:$AX$1017,$B355,'[1]Daily Log'!$AY$18:$AY$1017),0)","v":0},{"$f":"IFERROR($E355*SUMIF('[1]Daily Log'!$BA$18:$BA$1017,$B355,'[1]Daily Log'!$BB$18:$BB$1017),0)","v":0},{"$f":"IFERROR($E355*SUMIF('[1]Daily Log'!$BD$18:$BD$1017,$B355,'[1]Daily Log'!$BE$18:$BE$1017),0)","v":0},{"$f":"IFERROR($E355*SUMIF('[1]Daily Log'!$BG$18:$BG$1017,$B355,'[1]Daily Log'!$BH$18:$BH$1017),0)","v":0},{"$f":"IFERROR($E355*SUMIF('[1]Daily Log'!$BJ$18:$BJ$1017,$B355,'[1]Daily Log'!$BK$18:$BK$1017),0)","v":0},{"$f":"IFERROR($E355*SUMIF('[1]Daily Log'!$BM$18:$BM$1017,$B355,'[1]Daily Log'!$BN$18:$BN$1017),0)","v":0},{"$f":"IFERROR($E355*SUMIF('[1]Daily Log'!$BP$18:$BP$1017,$B355,'[1]Daily Log'!$BQ$18:$BQ$1017),0)","v":0},{"$f":"IFERROR($E355*SUMIF('[1]Daily Log'!$BS$18:$BS$1017,$B355,'[1]Daily Log'!$BT$18:$BT$1017),0)","v":0},{"$f":"IFERROR($E355*SUMIF('[1]Daily Log'!$BV$18:$BV$1017,$B355,'[1]Daily Log'!$BW$18:$BW$1017),0)","v":0},{"$f":"IFERROR($E355*SUMIF('[1]Daily Log'!$BY$18:$BY$1017,$B355,'[1]Daily Log'!$BZ$18:$BZ$1017),0)","v":0},{"$f":"IFERROR($E355*SUMIF('[1]Daily Log'!$CB$18:$CB$1017,$B355,'[1]Daily Log'!$CC$18:$CC$1017),0)","v":0},{"$f":"IFERROR($E355*SUMIF('[1]Daily Log'!$CE$18:$CE$1017,$B355,'[1]Daily Log'!$CF$18:$CF$1017),0)","v":0},{"$f":"IFERROR($E355*SUMIF('[1]Daily Log'!$CH$18:$CH$1017,$B355,'[1]Daily Log'!$CI$18:$CI$1017),0)","v":0},{"$f":"IFERROR($E355*SUMIF('[1]Daily Log'!$CK$18:$CK$1017,$B355,'[1]Daily Log'!$CL$18:$CL$1017),0)","v":0},{"$f":"IFERROR($E355*SUMIF('[1]Daily Log'!$CN$18:$CN$1017,$B355,'[1]Daily Log'!$CO$18:$CO$1017),0)","v":0}]
[null,null,null,null,null,0,{"$f":"IFERROR($E356*SUMIF('[1]Daily Log'!$B$18:$B$1017,$B356,'[1]Daily Log'!$C$18:$C$1017),0)","v":0},{"$f":"IFERROR($E356*SUMIF('[1]Daily Log'!$E$18:$E$1017,$B356,'[1]Daily Log'!$F$18:$F$1017),0)","v":0},{"$f":"IFERROR($E356*SUMIF('[1]Daily Log'!$H$18:$H$1017,$B356,'[1]Daily Log'!$I$18:$I$1017),0)","v":0}," ",{"$f":"IFERROR($E356*SUMIF('[1]Daily Log'!$N$18:$N$1017,$B356,'[1]Daily Log'!$O$18:$O$1017),0)","v":0},{"$f":"IFERROR($E356*SUMIF('[1]Daily Log'!$Q$18:$Q$1017,$B356,'[1]Daily Log'!$R$18:$R$1017),0)","v":0},{"$f":"IFERROR($E356*SUMIF('[1]Daily Log'!$T$18:$T$1017,$B356,'[1]Daily Log'!$U$18:$U$1017),0)","v":0},{"$f":"IFERROR($E356*SUMIF('[1]Daily Log'!$W$18:$W$1017,$B356,'[1]Daily Log'!$X$18:$X$1017),0)","v":0},{"$f":"IFERROR($E356*SUMIF('[1]Daily Log'!$Z$18:$Z$1017,$B356,'[1]Daily Log'!$AA$18:$AA$1017),0)","v":0},{"$f":"IFERROR($E356*SUMIF('[1]Daily Log'!$AC$18:$AC$1017,$B356,'[1]Daily Log'!$AD$18:$AD$1017),0)","v":0},{"$f":"IFERROR($E356*SUMIF('[1]Daily Log'!$AF$18:$AF$1017,$B356,'[1]Daily Log'!$AG$18:$AG$1017),0)","v":0},{"$f":"IFERROR($E356*SUMIF('[1]Daily Log'!$AI$18:$AI$1017,$B356,'[1]Daily Log'!$AJ$18:$AJ$1017),0)","v":0},{"$f":"IFERROR($E356*SUMIF('[1]Daily Log'!$AL$18:$AL$1017,$B356,'[1]Daily Log'!$AM$18:$AM$1017),0)","v":0},{"$f":"IFERROR($E356*SUMIF('[1]Daily Log'!$AO$18:$AO$1017,$B356,'[1]Daily Log'!$AP$18:$AP$1017),0)","v":0},{"$f":"IFERROR($E356*SUMIF('[1]Daily Log'!$AR$18:$AR$1017,$B356,'[1]Daily Log'!$AS$18:$AS$1017),0)","v":0},{"$f":"IFERROR($E356*SUMIF('[1]Daily Log'!$AU$18:$AU$1017,$B356,'[1]Daily Log'!$AV$18:$AV$1017),0)","v":0},{"$f":"IFERROR($E356*SUMIF('[1]Daily Log'!$AX$18:$AX$1017,$B356,'[1]Daily Log'!$AY$18:$AY$1017),0)","v":0},{"$f":"IFERROR($E356*SUMIF('[1]Daily Log'!$BA$18:$BA$1017,$B356,'[1]Daily Log'!$BB$18:$BB$1017),0)","v":0},{"$f":"IFERROR($E356*SUMIF('[1]Daily Log'!$BD$18:$BD$1017,$B356,'[1]Daily Log'!$BE$18:$BE$1017),0)","v":0},{"$f":"IFERROR($E356*SUMIF('[1]Daily Log'!$BG$18:$BG$1017,$B356,'[1]Daily Log'!$BH$18:$BH$1017),0)","v":0},{"$f":"IFERROR($E356*SUMIF('[1]Daily Log'!$BJ$18:$BJ$1017,$B356,'[1]Daily Log'!$BK$18:$BK$1017),0)","v":0},{"$f":"IFERROR($E356*SUMIF('[1]Daily Log'!$BM$18:$BM$1017,$B356,'[1]Daily Log'!$BN$18:$BN$1017),0)","v":0},{"$f":"IFERROR($E356*SUMIF('[1]Daily Log'!$BP$18:$BP$1017,$B356,'[1]Daily Log'!$BQ$18:$BQ$1017),0)","v":0},{"$f":"IFERROR($E356*SUMIF('[1]Daily Log'!$BS$18:$BS$1017,$B356,'[1]Daily Log'!$BT$18:$BT$1017),0)","v":0},{"$f":"IFERROR($E356*SUMIF('[1]Daily Log'!$BV$18:$BV$1017,$B356,'[1]Daily Log'!$BW$18:$BW$1017),0)","v":0},{"$f":"IFERROR($E356*SUMIF('[1]Daily Log'!$BY$18:$BY$1017,$B356,'[1]Daily Log'!$BZ$18:$BZ$1017),0)","v":0},{"$f":"IFERROR($E356*SUMIF('[1]Daily Log'!$CB$18:$CB$1017,$B356,'[1]Daily Log'!$CC$18:$CC$1017),0)","v":0},{"$f":"IFERROR($E356*SUMIF('[1]Daily Log'!$CE$18:$CE$1017,$B356,'[1]Daily Log'!$CF$18:$CF$1017),0)","v":0},{"$f":"IFERROR($E356*SUMIF('[1]Daily Log'!$CH$18:$CH$1017,$B356,'[1]Daily Log'!$CI$18:$CI$1017),0)","v":0},{"$f":"IFERROR($E356*SUMIF('[1]Daily Log'!$CK$18:$CK$1017,$B356,'[1]Daily Log'!$CL$18:$CL$1017),0)","v":0},{"$f":"IFERROR($E356*SUMIF('[1]Daily Log'!$CN$18:$CN$1017,$B356,'[1]Daily Log'!$CO$18:$CO$1017),0)","v":0}]
[null,null,null,null,null,0,{"$f":"IFERROR($E357*SUMIF('[1]Daily Log'!$B$18:$B$1017,$B357,'[1]Daily Log'!$C$18:$C$1017),0)","v":0},{"$f":"IFERROR($E357*SUMIF('[1]Daily Log'!$E$18:$E$1017,$B357,'[1]Daily Log'!$F$18:$F$1017),0)","v":0},{"$f":"IFERROR($E357*SUMIF('[1]Daily Log'!$H$18:$H$1017,$B357,'[1]Daily Log'!$I$18:$I$1017),0)","v":0}," ",{"$f":"IFERROR($E357*SUMIF('[1]Daily Log'!$N$18:$N$1017,$B357,'[1]Daily Log'!$O$18:$O$1017),0)","v":0},{"$f":"IFERROR($E357*SUMIF('[1]Daily Log'!$Q$18:$Q$1017,$B357,'[1]Daily Log'!$R$18:$R$1017),0)","v":0},{"$f":"IFERROR($E357*SUMIF('[1]Daily Log'!$T$18:$T$1017,$B357,'[1]Daily Log'!$U$18:$U$1017),0)","v":0},{"$f":"IFERROR($E357*SUMIF('[1]Daily Log'!$W$18:$W$1017,$B357,'[1]Daily Log'!$X$18:$X$1017),0)","v":0},{"$f":"IFERROR($E357*SUMIF('[1]Daily Log'!$Z$18:$Z$1017,$B357,'[1]Daily Log'!$AA$18:$AA$1017),0)","v":0},{"$f":"IFERROR($E357*SUMIF('[1]Daily Log'!$AC$18:$AC$1017,$B357,'[1]Daily Log'!$AD$18:$AD$1017),0)","v":0},{"$f":"IFERROR($E357*SUMIF('[1]Daily Log'!$AF$18:$AF$1017,$B357,'[1]Daily Log'!$AG$18:$AG$1017),0)","v":0},{"$f":"IFERROR($E357*SUMIF('[1]Daily Log'!$AI$18:$AI$1017,$B357,'[1]Daily Log'!$AJ$18:$AJ$1017),0)","v":0},{"$f":"IFERROR($E357*SUMIF('[1]Daily Log'!$AL$18:$AL$1017,$B357,'[1]Daily Log'!$AM$18:$AM$1017),0)","v":0},{"$f":"IFERROR($E357*SUMIF('[1]Daily Log'!$AO$18:$AO$1017,$B357,'[1]Daily Log'!$AP$18:$AP$1017),0)","v":0},{"$f":"IFERROR($E357*SUMIF('[1]Daily Log'!$AR$18:$AR$1017,$B357,'[1]Daily Log'!$AS$18:$AS$1017),0)","v":0},{"$f":"IFERROR($E357*SUMIF('[1]Daily Log'!$AU$18:$AU$1017,$B357,'[1]Daily Log'!$AV$18:$AV$1017),0)","v":0},{"$f":"IFERROR($E357*SUMIF('[1]Daily Log'!$AX$18:$AX$1017,$B357,'[1]Daily Log'!$AY$18:$AY$1017),0)","v":0},{"$f":"IFERROR($E357*SUMIF('[1]Daily Log'!$BA$18:$BA$1017,$B357,'[1]Daily Log'!$BB$18:$BB$1017),0)","v":0},{"$f":"IFERROR($E357*SUMIF('[1]Daily Log'!$BD$18:$BD$1017,$B357,'[1]Daily Log'!$BE$18:$BE$1017),0)","v":0},{"$f":"IFERROR($E357*SUMIF('[1]Daily Log'!$BG$18:$BG$1017,$B357,'[1]Daily Log'!$BH$18:$BH$1017),0)","v":0},{"$f":"IFERROR($E357*SUMIF('[1]Daily Log'!$BJ$18:$BJ$1017,$B357,'[1]Daily Log'!$BK$18:$BK$1017),0)","v":0},{"$f":"IFERROR($E357*SUMIF('[1]Daily Log'!$BM$18:$BM$1017,$B357,'[1]Daily Log'!$BN$18:$BN$1017),0)","v":0},{"$f":"IFERROR($E357*SUMIF('[1]Daily Log'!$BP$18:$BP$1017,$B357,'[1]Daily Log'!$BQ$18:$BQ$1017),0)","v":0},{"$f":"IFERROR($E357*SUMIF('[1]Daily Log'!$BS$18:$BS$1017,$B357,'[1]Daily Log'!$BT$18:$BT$1017),0)","v":0},{"$f":"IFERROR($E357*SUMIF('[1]Daily Log'!$BV$18:$BV$1017,$B357,'[1]Daily Log'!$BW$18:$BW$1017),0)","v":0},{"$f":"IFERROR($E357*SUMIF('[1]Daily Log'!$BY$18:$BY$1017,$B357,'[1]Daily Log'!$BZ$18:$BZ$1017),0)","v":0},{"$f":"IFERROR($E357*SUMIF('[1]Daily Log'!$CB$18:$CB$1017,$B357,'[1]Daily Log'!$CC$18:$CC$1017),0)","v":0},{"$f":"IFERROR($E357*SUMIF('[1]Daily Log'!$CE$18:$CE$1017,$B357,'[1]Daily Log'!$CF$18:$CF$1017),0)","v":0},{"$f":"IFERROR($E357*SUMIF('[1]Daily Log'!$CH$18:$CH$1017,$B357,'[1]Daily Log'!$CI$18:$CI$1017),0)","v":0},{"$f":"IFERROR($E357*SUMIF('[1]Daily Log'!$CK$18:$CK$1017,$B357,'[1]Daily Log'!$CL$18:$CL$1017),0)","v":0},{"$f":"IFERROR($E357*SUMIF('[1]Daily Log'!$CN$18:$CN$1017,$B357,'[1]Daily Log'!$CO$18:$CO$1017),0)","v":0}]
[null,null,null,null,null,0,{"$f":"IFERROR($E358*SUMIF('[1]Daily Log'!$B$18:$B$1017,$B358,'[1]Daily Log'!$C$18:$C$1017),0)","v":0},{"$f":"IFERROR($E358*SUMIF('[1]Daily Log'!$E$18:$E$1017,$B358,'[1]Daily Log'!$F$18:$F$1017),0)","v":0},{"$f":"IFERROR($E358*SUMIF('[1]Daily Log'!$H$18:$H$1017,$B358,'[1]Daily Log'!$I$18:$I$1017),0)","v":0}," ",{"$f":"IFERROR($E358*SUMIF('[1]Daily Log'!$N$18:$N$1017,$B358,'[1]Daily Log'!$O$18:$O$1017),0)","v":0},{"$f":"IFERROR($E358*SUMIF('[1]Daily Log'!$Q$18:$Q$1017,$B358,'[1]Daily Log'!$R$18:$R$1017),0)","v":0},{"$f":"IFERROR($E358*SUMIF('[1]Daily Log'!$T$18:$T$1017,$B358,'[1]Daily Log'!$U$18:$U$1017),0)","v":0},{"$f":"IFERROR($E358*SUMIF('[1]Daily Log'!$W$18:$W$1017,$B358,'[1]Daily Log'!$X$18:$X$1017),0)","v":0},{"$f":"IFERROR($E358*SUMIF('[1]Daily Log'!$Z$18:$Z$1017,$B358,'[1]Daily Log'!$AA$18:$AA$1017),0)","v":0},{"$f":"IFERROR($E358*SUMIF('[1]Daily Log'!$AC$18:$AC$1017,$B358,'[1]Daily Log'!$AD$18:$AD$1017),0)","v":0},{"$f":"IFERROR($E358*SUMIF('[1]Daily Log'!$AF$18:$AF$1017,$B358,'[1]Daily Log'!$AG$18:$AG$1017),0)","v":0},{"$f":"IFERROR($E358*SUMIF('[1]Daily Log'!$AI$18:$AI$1017,$B358,'[1]Daily Log'!$AJ$18:$AJ$1017),0)","v":0},{"$f":"IFERROR($E358*SUMIF('[1]Daily Log'!$AL$18:$AL$1017,$B358,'[1]Daily Log'!$AM$18:$AM$1017),0)","v":0},{"$f":"IFERROR($E358*SUMIF('[1]Daily Log'!$AO$18:$AO$1017,$B358,'[1]Daily Log'!$AP$18:$AP$1017),0)","v":0},{"$f":"IFERROR($E358*SUMIF('[1]Daily Log'!$AR$18:$AR$1017,$B358,'[1]Daily Log'!$AS$18:$AS$1017),0)","v":0},{"$f":"IFERROR($E358*SUMIF('[1]Daily Log'!$AU$18:$AU$1017,$B358,'[1]Daily Log'!$AV$18:$AV$1017),0)","v":0},{"$f":"IFERROR($E358*SUMIF('[1]Daily Log'!$AX$18:$AX$1017,$B358,'[1]Daily Log'!$AY$18:$AY$1017),0)","v":0},{"$f":"IFERROR($E358*SUMIF('[1]Daily Log'!$BA$18:$BA$1017,$B358,'[1]Daily Log'!$BB$18:$BB$1017),0)","v":0},{"$f":"IFERROR($E358*SUMIF('[1]Daily Log'!$BD$18:$BD$1017,$B358,'[1]Daily Log'!$BE$18:$BE$1017),0)","v":0},{"$f":"IFERROR($E358*SUMIF('[1]Daily Log'!$BG$18:$BG$1017,$B358,'[1]Daily Log'!$BH$18:$BH$1017),0)","v":0},{"$f":"IFERROR($E358*SUMIF('[1]Daily Log'!$BJ$18:$BJ$1017,$B358,'[1]Daily Log'!$BK$18:$BK$1017),0)","v":0},{"$f":"IFERROR($E358*SUMIF('[1]Daily Log'!$BM$18:$BM$1017,$B358,'[1]Daily Log'!$BN$18:$BN$1017),0)","v":0},{"$f":"IFERROR($E358*SUMIF('[1]Daily Log'!$BP$18:$BP$1017,$B358,'[1]Daily Log'!$BQ$18:$BQ$1017),0)","v":0},{"$f":"IFERROR($E358*SUMIF('[1]Daily Log'!$BS$18:$BS$1017,$B358,'[1]Daily Log'!$BT$18:$BT$1017),0)","v":0},{"$f":"IFERROR($E358*SUMIF('[1]Daily Log'!$BV$18:$BV$1017,$B358,'[1]Daily Log'!$BW$18:$BW$1017),0)","v":0},{"$f":"IFERROR($E358*SUMIF('[1]Daily Log'!$BY$18:$BY$1017,$B358,'[1]Daily Log'!$BZ$18:$BZ$1017),0)","v":0},{"$f":"IFERROR($E358*SUMIF('[1]Daily Log'!$CB$18:$CB$1017,$B358,'[1]Daily Log'!$CC$18:$CC$1017),0)","v":0},{"$f":"IFERROR($E358*SUMIF('[1]Daily Log'!$CE$18:$CE$1017,$B358,'[1]Daily Log'!$CF$18:$CF$1017),0)","v":0},{"$f":"IFERROR($E358*SUMIF('[1]Daily Log'!$CH$18:$CH$1017,$B358,'[1]Daily Log'!$CI$18:$CI$1017),0)","v":0},{"$f":"IFERROR($E358*SUMIF('[1]Daily Log'!$CK$18:$CK$1017,$B358,'[1]Daily Log'!$CL$18:$CL$1017),0)","v":0},{"$f":"IFERROR($E358*SUMIF('[1]Daily Log'!$CN$18:$CN$1017,$B358,'[1]Daily Log'!$CO$18:$CO$1017),0)","v":0}]
[null,null,null,null,null,{"$f":"SUM($G359:$AK359)","v":0},{"$f":"IFERROR($E359*SUMIF('Daily Log'!#REF!,$B359,'Daily Log'!#REF!),0)","v":0},{"$f":"IFERROR($E359*SUMIF('Daily Log'!#REF!,$B359,'Daily Log'!#REF!),0)","v":0},{"$f":"IFERROR($E359*SUMIF('Daily Log'!#REF!,$B359,'Daily Log'!#REF!),0)","v":0},{"$f":"IFERROR($E359*SUMIF('Daily Log'!#REF!,$B359,'Daily Log'!#REF!),0)","v":0},{"$f":"IFERROR($E359*SUMIF('Daily Log'!#REF!,$B359,'Daily Log'!#REF!),0)","v":0},{"$f":"IFERROR($E359*SUMIF('Daily Log'!#REF!,$B359,'Daily Log'!#REF!),0)","v":0},{"$f":"IFERROR($E359*SUMIF('Daily Log'!#REF!,$B359,'Daily Log'!#REF!),0)","v":0},{"$f":"IFERROR($E359*SUMIF('Daily Log'!#REF!,$B359,'Daily Log'!#REF!),0)","v":0},{"$f":"IFERROR($E359*SUMIF('Daily Log'!#REF!,$B359,'Daily Log'!#REF!),0)","v":0},{"$f":"IFERROR($E359*SUMIF('Daily Log'!#REF!,$B359,'Daily Log'!#REF!),0)","v":0},{"$f":"IFERROR($E359*SUMIF('Daily Log'!#REF!,$B359,'Daily Log'!#REF!),0)","v":0},{"$f":"IFERROR($E359*SUMIF('Daily Log'!#REF!,$B359,'Daily Log'!#REF!),0)","v":0},{"$f":"IFERROR($E359*SUMIF('Daily Log'!#REF!,$B359,'Daily Log'!#REF!),0)","v":0},{"$f":"IFERROR($E359*SUMIF('Daily Log'!#REF!,$B359,'Daily Log'!#REF!),0)","v":0},{"$f":"IFERROR($E359*SUMIF('Daily Log'!#REF!,$B359,'Daily Log'!#REF!),0)","v":0},{"$f":"IFERROR($E359*SUMIF('Daily Log'!#REF!,$B359,'Daily Log'!#REF!),0)","v":0},{"$f":"IFERROR($E359*SUMIF('Daily Log'!#REF!,$B359,'Daily Log'!#REF!),0)","v":0},{"$f":"IFERROR($E359*SUMIF('Daily Log'!#REF!,$B359,'Daily Log'!#REF!),0)","v":0},{"$f":"IFERROR($E359*SUMIF('Daily Log'!#REF!,$B359,'Daily Log'!#REF!),0)","v":0},{"$f":"IFERROR($E359*SUMIF('Daily Log'!$C$18:$C$1017,$B359,'Daily Log'!$D$18:$D$1017),0)","v":0},{"$f":"IFERROR($E359*SUMIF('Daily Log'!$F$18:$F$1017,$B359,'Daily Log'!$G$18:$G$1017),0)","v":0},{"$f":"IFERROR($E359*SUMIF('Daily Log'!$I$18:$I$1017,$B359,'Daily Log'!$J$18:$J$1017),0)","v":0},{"$f":"IFERROR($E359*SUMIF('Daily Log'!$L$18:$L$1017,$B359,'Daily Log'!$M$18:$M$1017),0)","v":0},{"$f":"IFERROR($E359*SUMIF('Daily Log'!$O$18:$O$1017,$B359,'Daily Log'!$P$18:$P$1017),0)","v":0},{"$f":"IFERROR($E359*SUMIF('Daily Log'!$R$18:$R$1017,$B359,'Daily Log'!$S$18:$S$1017),0)","v":0},{"$f":"IFERROR($E359*SUMIF('Daily Log'!$U$18:$U$1017,$B359,'Daily Log'!$V$18:$V$1017),0)","v":0},{"$f":"IFERROR($E359*SUMIF('Daily Log'!#REF!,$B359,'Daily Log'!#REF!),0)","v":0},{"$f":"IFERROR($E359*SUMIF('Daily Log'!#REF!,$B359,'Daily Log'!#REF!),0)","v":0},{"$f":"IFERROR($E359*SUMIF('Daily Log'!#REF!,$B359,'Daily Log'!#REF!),0)","v":0},{"$f":"IFERROR($E359*SUMIF('Daily Log'!#REF!,$B359,'Daily Log'!#REF!),0)","v":0},{"$f":"IFERROR($E359*SUMIF('Daily Log'!#REF!,$B359,'Daily Log'!#REF!),0)","v":0}]
[null,null,null,null,null,0,{"$f":"IFERROR($E360*SUMIF('Daily Log'!#REF!,$B360,'Daily Log'!#REF!),0)","v":0},{"$f":"IFERROR($E360*SUMIF('Daily Log'!#REF!,$B360,'Daily Log'!#REF!),0)","v":0},{"$f":"IFERROR($E360*SUMIF('Daily Log'!#REF!,$B360,'Daily Log'!#REF!),0)","v":0},{"$f":"IFERROR($E360*SUMIF('Daily Log'!#REF!,$B360,'Daily Log'!#REF!),0)","v":0},{"$f":"IFERROR($E360*SUMIF('Daily Log'!#REF!,$B360,'Daily Log'!#REF!),0)","v":0},{"$f":"IFERROR($E360*SUMIF('Daily Log'!#REF!,$B360,'Daily Log'!#REF!),0)","v":0},{"$f":"IFERROR($E360*SUMIF('Daily Log'!#REF!,$B360,'Daily Log'!#REF!),0)","v":0},{"$f":"IFERROR($E360*SUMIF('Daily Log'!#REF!,$B360,'Daily Log'!#REF!),0)","v":0},{"$f":"IFERROR($E360*SUMIF('Daily Log'!#REF!,$B360,'Daily Log'!#REF!),0)","v":0},{"$f":"IFERROR($E360*SUMIF('Daily Log'!#REF!,$B360,'Daily Log'!#REF!),0)","v":0},{"$f":"IFERROR($E360*SUMIF('Daily Log'!#REF!,$B360,'Daily Log'!#REF!),0)","v":0},{"$f":"IFERROR($E360*SUMIF('Daily Log'!#REF!,$B360,'Daily Log'!#REF!),0)","v":0},{"$f":"IFERROR($E360*SUMIF('Daily Log'!#REF!,$B360,'Daily Log'!#REF!),0)","v":0},{"$f":"IFERROR($E360*SUMIF('Daily Log'!#REF!,$B360,'Daily Log'!#REF!),0)","v":0},{"$f":"IFERROR($E360*SUMIF('Daily Log'!#REF!,$B360,'Daily Log'!#REF!),0)","v":0},{"$f":"IFERROR($E360*SUMIF('Daily Log'!#REF!,$B360,'Daily Log'!#REF!),0)","v":0},{"$f":"IFERROR($E360*SUMIF('Daily Log'!#REF!,$B360,'Daily Log'!#REF!),0)","v":0},{"$f":"IFERROR($E360*SUMIF('Daily Log'!#REF!,$B360,'Daily Log'!#REF!),0)","v":0},{"$f":"IFERROR($E360*SUMIF('Daily Log'!#REF!,$B360,'Daily Log'!#REF!),0)","v":0},{"$f":"IFERROR($E360*SUMIF('Daily Log'!$C$18:$C$1017,$B360,'Daily Log'!$D$18:$D$1017),0)","v":0},{"$f":"IFERROR($E360*SUMIF('Daily Log'!$F$18:$F$1017,$B360,'Daily Log'!$G$18:$G$1017),0)","v":0},{"$f":"IFERROR($E360*SUMIF('Daily Log'!$I$18:$I$1017,$B360,'Daily Log'!$J$18:$J$1017),0)","v":0},{"$f":"IFERROR($E360*SUMIF('Daily Log'!$L$18:$L$1017,$B360,'Daily Log'!$M$18:$M$1017),0)","v":0},{"$f":"IFERROR($E360*SUMIF('Daily Log'!$O$18:$O$1017,$B360,'Daily Log'!$P$18:$P$1017),0)","v":0},{"$f":"IFERROR($E360*SUMIF('Daily Log'!$R$18:$R$1017,$B360,'Daily Log'!$S$18:$S$1017),0)","v":0},{"$f":"IFERROR($E360*SUMIF('Daily Log'!$U$18:$U$1017,$B360,'Daily Log'!$V$18:$V$1017),0)","v":0},{"$f":"IFERROR($E360*SUMIF('Daily Log'!#REF!,$B360,'Daily Log'!#REF!),0)","v":0},{"$f":"IFERROR($E360*SUMIF('Daily Log'!#REF!,$B360,'Daily Log'!#REF!),0)","v":0},{"$f":"IFERROR($E360*SUMIF('Daily Log'!#REF!,$B360,'Daily Log'!#REF!),0)","v":0},{"$f":"IFERROR($E360*SUMIF('Daily Log'!#REF!,$B360,'Daily Log'!#REF!),0)","v":0},{"$f":"IFERROR($E360*SUMIF('Daily Log'!#REF!,$B360,'Daily Log'!#REF!),0)","v":0}]
[null,null,null,null,null,0,{"$f":"IFERROR($E361*SUMIF('Daily Log'!#REF!,$B361,'Daily Log'!#REF!),0)","v":0},{"$f":"IFERROR($E361*SUMIF('Daily Log'!#REF!,$B361,'Daily Log'!#REF!),0)","v":0},{"$f":"IFERROR($E361*SUMIF('Daily Log'!#REF!,$B361,'Daily Log'!#REF!),0)","v":0},{"$f":"IFERROR($E361*SUMIF('Daily Log'!#REF!,$B361,'Daily Log'!#REF!),0)","v":0},{"$f":"IFERROR($E361*SUMIF('Daily Log'!#REF!,$B361,'Daily Log'!#REF!),0)","v":0},{"$f":"IFERROR($E361*SUMIF('Daily Log'!#REF!,$B361,'Daily Log'!#REF!),0)","v":0},{"$f":"IFERROR($E361*SUMIF('Daily Log'!#REF!,$B361,'Daily Log'!#REF!),0)","v":0},{"$f":"IFERROR($E361*SUMIF('Daily Log'!#REF!,$B361,'Daily Log'!#REF!),0)","v":0},{"$f":"IFERROR($E361*SUMIF('Daily Log'!#REF!,$B361,'Daily Log'!#REF!),0)","v":0},{"$f":"IFERROR($E361*SUMIF('Daily Log'!#REF!,$B361,'Daily Log'!#REF!),0)","v":0},{"$f":"IFERROR($E361*SUMIF('Daily Log'!#REF!,$B361,'Daily Log'!#REF!),0)","v":0},{"$f":"IFERROR($E361*SUMIF('Daily Log'!#REF!,$B361,'Daily Log'!#REF!),0)","v":0},{"$f":"IFERROR($E361*SUMIF('Daily Log'!#REF!,$B361,'Daily Log'!#REF!),0)","v":0},{"$f":"IFERROR($E361*SUMIF('Daily Log'!#REF!,$B361,'Daily Log'!#REF!),0)","v":0},{"$f":"IFERROR($E361*SUMIF('Daily Log'!#REF!,$B361,'Daily Log'!#REF!),0)","v":0},{"$f":"IFERROR($E361*SUMIF('Daily Log'!#REF!,$B361,'Daily Log'!#REF!),0)","v":0},{"$f":"IFERROR($E361*SUMIF('Daily Log'!#REF!,$B361,'Daily Log'!#REF!),0)","v":0},{"$f":"IFERROR($E361*SUMIF('Daily Log'!#REF!,$B361,'Daily Log'!#REF!),0)","v":0},{"$f":"IFERROR($E361*SUMIF('Daily Log'!#REF!,$B361,'Daily Log'!#REF!),0)","v":0},{"$f":"IFERROR($E361*SUMIF('Daily Log'!$C$18:$C$1017,$B361,'Daily Log'!$D$18:$D$1017),0)","v":0},{"$f":"IFERROR($E361*SUMIF('Daily Log'!$F$18:$F$1017,$B361,'Daily Log'!$G$18:$G$1017),0)","v":0},{"$f":"IFERROR($E361*SUMIF('Daily Log'!$I$18:$I$1017,$B361,'Daily Log'!$J$18:$J$1017),0)","v":0},{"$f":"IFERROR($E361*SUMIF('Daily Log'!$L$18:$L$1017,$B361,'Daily Log'!$M$18:$M$1017),0)","v":0},{"$f":"IFERROR($E361*SUMIF('Daily Log'!$O$18:$O$1017,$B361,'Daily Log'!$P$18:$P$1017),0)","v":0},{"$f":"IFERROR($E361*SUMIF('Daily Log'!$R$18:$R$1017,$B361,'Daily Log'!$S$18:$S$1017),0)","v":0},{"$f":"IFERROR($E361*SUMIF('Daily Log'!$U$18:$U$1017,$B361,'Daily Log'!$V$18:$V$1017),0)","v":0},{"$f":"IFERROR($E361*SUMIF('Daily Log'!#REF!,$B361,'Daily Log'!#REF!),0)","v":0},{"$f":"IFERROR($E361*SUMIF('Daily Log'!#REF!,$B361,'Daily Log'!#REF!),0)","v":0},{"$f":"IFERROR($E361*SUMIF('Daily Log'!#REF!,$B361,'Daily Log'!#REF!),0)","v":0},{"$f":"IFERROR($E361*SUMIF('Daily Log'!#REF!,$B361,'Daily Log'!#REF!),0)","v":0},{"$f":"IFERROR($E361*SUMIF('Daily Log'!#REF!,$B361,'Daily Log'!#REF!),0)","v":0}]
[null,null,null,null,null,0,{"$f":"IFERROR($E362*SUMIF('Daily Log'!#REF!,$B362,'Daily Log'!#REF!),0)","v":0},{"$f":"IFERROR($E362*SUMIF('Daily Log'!#REF!,$B362,'Daily Log'!#REF!),0)","v":0},{"$f":"IFERROR($E362*SUMIF('Daily Log'!#REF!,$B362,'Daily Log'!#REF!),0)","v":0},{"$f":"IFERROR($E362*SUMIF('Daily Log'!#REF!,$B362,'Daily Log'!#REF!),0)","v":0},{"$f":"IFERROR($E362*SUMIF('Daily Log'!#REF!,$B362,'Daily Log'!#REF!),0)","v":0},{"$f":"IFERROR($E362*SUMIF('Daily Log'!#REF!,$B362,'Daily Log'!#REF!),0)","v":0},{"$f":"IFERROR($E362*SUMIF('Daily Log'!#REF!,$B362,'Daily Log'!#REF!),0)","v":0},{"$f":"IFERROR($E362*SUMIF('Daily Log'!#REF!,$B362,'Daily Log'!#REF!),0)","v":0},{"$f":"IFERROR($E362*SUMIF('Daily Log'!#REF!,$B362,'Daily Log'!#REF!),0)","v":0},{"$f":"IFERROR($E362*SUMIF('Daily Log'!#REF!,$B362,'Daily Log'!#REF!),0)","v":0},{"$f":"IFERROR($E362*SUMIF('Daily Log'!#REF!,$B362,'Daily Log'!#REF!),0)","v":0},{"$f":"IFERROR($E362*SUMIF('Daily Log'!#REF!,$B362,'Daily Log'!#REF!),0)","v":0},{"$f":"IFERROR($E362*SUMIF('Daily Log'!#REF!,$B362,'Daily Log'!#REF!),0)","v":0},{"$f":"IFERROR($E362*SUMIF('Daily Log'!#REF!,$B362,'Daily Log'!#REF!),0)","v":0},{"$f":"IFERROR($E362*SUMIF('Daily Log'!#REF!,$B362,'Daily Log'!#REF!),0)","v":0},{"$f":"IFERROR($E362*SUMIF('Daily Log'!#REF!,$B362,'Daily Log'!#REF!),0)","v":0},{"$f":"IFERROR($E362*SUMIF('Daily Log'!#REF!,$B362,'Daily Log'!#REF!),0)","v":0},{"$f":"IFERROR($E362*SUMIF('Daily Log'!#REF!,$B362,'Daily Log'!#REF!),0)","v":0},{"$f":"IFERROR($E362*SUMIF('Daily Log'!#REF!,$B362,'Daily Log'!#REF!),0)","v":0},{"$f":"IFERROR($E362*SUMIF('Daily Log'!$C$18:$C$1017,$B362,'Daily Log'!$D$18:$D$1017),0)","v":0},{"$f":"IFERROR($E362*SUMIF('Daily Log'!$F$18:$F$1017,$B362,'Daily Log'!$G$18:$G$1017),0)","v":0},{"$f":"IFERROR($E362*SUMIF('Daily Log'!$I$18:$I$1017,$B362,'Daily Log'!$J$18:$J$1017),0)","v":0},{"$f":"IFERROR($E362*SUMIF('Daily Log'!$L$18:$L$1017,$B362,'Daily Log'!$M$18:$M$1017),0)","v":0},{"$f":"IFERROR($E362*SUMIF('Daily Log'!$O$18:$O$1017,$B362,'Daily Log'!$P$18:$P$1017),0)","v":0},{"$f":"IFERROR($E362*SUMIF('Daily Log'!$R$18:$R$1017,$B362,'Daily Log'!$S$18:$S$1017),0)","v":0},{"$f":"IFERROR($E362*SUMIF('Daily Log'!$U$18:$U$1017,$B362,'Daily Log'!$V$18:$V$1017),0)","v":0},{"$f":"IFERROR($E362*SUMIF('Daily Log'!#REF!,$B362,'Daily Log'!#REF!),0)","v":0},{"$f":"IFERROR($E362*SUMIF('Daily Log'!#REF!,$B362,'Daily Log'!#REF!),0)","v":0},{"$f":"IFERROR($E362*SUMIF('Daily Log'!#REF!,$B362,'Daily Log'!#REF!),0)","v":0},{"$f":"IFERROR($E362*SUMIF('Daily Log'!#REF!,$B362,'Daily Log'!#REF!),0)","v":0},{"$f":"IFERROR($E362*SUMIF('Daily Log'!#REF!,$B362,'Daily Log'!#REF!),0)","v":0}]
[null,null,null,null,null,0,{"$f":"IFERROR($E363*SUMIF('Daily Log'!#REF!,$B363,'Daily Log'!#REF!),0)","v":0},{"$f":"IFERROR($E363*SUMIF('Daily Log'!#REF!,$B363,'Daily Log'!#REF!),0)","v":0},{"$f":"IFERROR($E363*SUMIF('Daily Log'!#REF!,$B363,'Daily Log'!#REF!),0)","v":0},{"$f":"IFERROR($E363*SUMIF('Daily Log'!#REF!,$B363,'Daily Log'!#REF!),0)","v":0},{"$f":"IFERROR($E363*SUMIF('Daily Log'!#REF!,$B363,'Daily Log'!#REF!),0)","v":0},{"$f":"IFERROR($E363*SUMIF('Daily Log'!#REF!,$B363,'Daily Log'!#REF!),0)","v":0},{"$f":"IFERROR($E363*SUMIF('Daily Log'!#REF!,$B363,'Daily Log'!#REF!),0)","v":0},{"$f":"IFERROR($E363*SUMIF('Daily Log'!#REF!,$B363,'Daily Log'!#REF!),0)","v":0},{"$f":"IFERROR($E363*SUMIF('Daily Log'!#REF!,$B363,'Daily Log'!#REF!),0)","v":0},{"$f":"IFERROR($E363*SUMIF('Daily Log'!#REF!,$B363,'Daily Log'!#REF!),0)","v":0},{"$f":"IFERROR($E363*SUMIF('Daily Log'!#REF!,$B363,'Daily Log'!#REF!),0)","v":0},{"$f":"IFERROR($E363*SUMIF('Daily Log'!#REF!,$B363,'Daily Log'!#REF!),0)","v":0},{"$f":"IFERROR($E363*SUMIF('Daily Log'!#REF!,$B363,'Daily Log'!#REF!),0)","v":0},{"$f":"IFERROR($E363*SUMIF('Daily Log'!#REF!,$B363,'Daily Log'!#REF!),0)","v":0},{"$f":"IFERROR($E363*SUMIF('Daily Log'!#REF!,$B363,'Daily Log'!#REF!),0)","v":0},{"$f":"IFERROR($E363*SUMIF('Daily Log'!#REF!,$B363,'Daily Log'!#REF!),0)","v":0},{"$f":"IFERROR($E363*SUMIF('Daily Log'!#REF!,$B363,'Daily Log'!#REF!),0)","v":0},{"$f":"IFERROR($E363*SUMIF('Daily Log'!#REF!,$B363,'Daily Log'!#REF!),0)","v":0},{"$f":"IFERROR($E363*SUMIF('Daily Log'!#REF!,$B363,'Daily Log'!#REF!),0)","v":0},{"$f":"IFERROR($E363*SUMIF('Daily Log'!$C$18:$C$1017,$B363,'Daily Log'!$D$18:$D$1017),0)","v":0},{"$f":"IFERROR($E363*SUMIF('Daily Log'!$F$18:$F$1017,$B363,'Daily Log'!$G$18:$G$1017),0)","v":0},{"$f":"IFERROR($E363*SUMIF('Daily Log'!$I$18:$I$1017,$B363,'Daily Log'!$J$18:$J$1017),0)","v":0},{"$f":"IFERROR($E363*SUMIF('Daily Log'!$L$18:$L$1017,$B363,'Daily Log'!$M$18:$M$1017),0)","v":0},{"$f":"IFERROR($E363*SUMIF('Daily Log'!$O$18:$O$1017,$B363,'Daily Log'!$P$18:$P$1017),0)","v":0},{"$f":"IFERROR($E363*SUMIF('Daily Log'!$R$18:$R$1017,$B363,'Daily Log'!$S$18:$S$1017),0)","v":0},{"$f":"IFERROR($E363*SUMIF('Daily Log'!$U$18:$U$1017,$B363,'Daily Log'!$V$18:$V$1017),0)","v":0},{"$f":"IFERROR($E363*SUMIF('Daily Log'!#REF!,$B363,'Daily Log'!#REF!),0)","v":0},{"$f":"IFERROR($E363*SUMIF('Daily Log'!#REF!,$B363,'Daily Log'!#REF!),0)","v":0},{"$f":"IFERROR($E363*SUMIF('Daily Log'!#REF!,$B363,'Daily Log'!#REF!),0)","v":0},{"$f":"IFERROR($E363*SUMIF('Daily Log'!#REF!,$B363,'Daily Log'!#REF!),0)","v":0},{"$f":"IFERROR($E363*SUMIF('Daily Log'!#REF!,$B363,'Daily Log'!#REF!),0)","v":0}]
[null,null,null,null,null,0,{"$f":"IFERROR($E364*SUMIF('Daily Log'!#REF!,$B364,'Daily Log'!#REF!),0)","v":0},{"$f":"IFERROR($E364*SUMIF('Daily Log'!#REF!,$B364,'Daily Log'!#REF!),0)","v":0},{"$f":"IFERROR($E364*SUMIF('Daily Log'!#REF!,$B364,'Daily Log'!#REF!),0)","v":0},{"$f":"IFERROR($E364*SUMIF('Daily Log'!#REF!,$B364,'Daily Log'!#REF!),0)","v":0},{"$f":"IFERROR($E364*SUMIF('Daily Log'!#REF!,$B364,'Daily Log'!#REF!),0)","v":0},{"$f":"IFERROR($E364*SUMIF('Daily Log'!#REF!,$B364,'Daily Log'!#REF!),0)","v":0},{"$f":"IFERROR($E364*SUMIF('Daily Log'!#REF!,$B364,'Daily Log'!#REF!),0)","v":0},{"$f":"IFERROR($E364*SUMIF('Daily Log'!#REF!,$B364,'Daily Log'!#REF!),0)","v":0},{"$f":"IFERROR($E364*SUMIF('Daily Log'!#REF!,$B364,'Daily Log'!#REF!),0)","v":0},{"$f":"IFERROR($E364*SUMIF('Daily Log'!#REF!,$B364,'Daily Log'!#REF!),0)","v":0},{"$f":"IFERROR($E364*SUMIF('Daily Log'!#REF!,$B364,'Daily Log'!#REF!),0)","v":0},{"$f":"IFERROR($E364*SUMIF('Daily Log'!#REF!,$B364,'Daily Log'!#REF!),0)","v":0},{"$f":"IFERROR($E364*SUMIF('Daily Log'!#REF!,$B364,'Daily Log'!#REF!),0)","v":0},{"$f":"IFERROR($E364*SUMIF('Daily Log'!#REF!,$B364,'Daily Log'!#REF!),0)","v":0},{"$f":"IFERROR($E364*SUMIF('Daily Log'!#REF!,$B364,'Daily Log'!#REF!),0)","v":0},{"$f":"IFERROR($E364*SUMIF('Daily Log'!#REF!,$B364,'Daily Log'!#REF!),0)","v":0},{"$f":"IFERROR($E364*SUMIF('Daily Log'!#REF!,$B364,'Daily Log'!#REF!),0)","v":0},{"$f":"IFERROR($E364*SUMIF('Daily Log'!#REF!,$B364,'Daily Log'!#REF!),0)","v":0},{"$f":"IFERROR($E364*SUMIF('Daily Log'!#REF!,$B364,'Daily Log'!#REF!),0)","v":0},{"$f":"IFERROR($E364*SUMIF('Daily Log'!$C$18:$C$1017,$B364,'Daily Log'!$D$18:$D$1017),0)","v":0},{"$f":"IFERROR($E364*SUMIF('Daily Log'!$F$18:$F$1017,$B364,'Daily Log'!$G$18:$G$1017),0)","v":0},{"$f":"IFERROR($E364*SUMIF('Daily Log'!$I$18:$I$1017,$B364,'Daily Log'!$J$18:$J$1017),0)","v":0},{"$f":"IFERROR($E364*SUMIF('Daily Log'!$L$18:$L$1017,$B364,'Daily Log'!$M$18:$M$1017),0)","v":0},{"$f":"IFERROR($E364*SUMIF('Daily Log'!$O$18:$O$1017,$B364,'Daily Log'!$P$18:$P$1017),0)","v":0},{"$f":"IFERROR($E364*SUMIF('Daily Log'!$R$18:$R$1017,$B364,'Daily Log'!$S$18:$S$1017),0)","v":0},{"$f":"IFERROR($E364*SUMIF('Daily Log'!$U$18:$U$1017,$B364,'Daily Log'!$V$18:$V$1017),0)","v":0},{"$f":"IFERROR($E364*SUMIF('Daily Log'!#REF!,$B364,'Daily Log'!#REF!),0)","v":0},{"$f":"IFERROR($E364*SUMIF('Daily Log'!#REF!,$B364,'Daily Log'!#REF!),0)","v":0},{"$f":"IFERROR($E364*SUMIF('Daily Log'!#REF!,$B364,'Daily Log'!#REF!),0)","v":0},{"$f":"IFERROR($E364*SUMIF('Daily Log'!#REF!,$B364,'Daily Log'!#REF!),0)","v":0},{"$f":"IFERROR($E364*SUMIF('Daily Log'!#REF!,$B364,'Daily Log'!#REF!),0)","v":0}]
[null,null,null,null,null,0,{"$f":"IFERROR($E365*SUMIF('Daily Log'!#REF!,$B365,'Daily Log'!#REF!),0)","v":0},{"$f":"IFERROR($E365*SUMIF('Daily Log'!#REF!,$B365,'Daily Log'!#REF!),0)","v":0},{"$f":"IFERROR($E365*SUMIF('Daily Log'!#REF!,$B365,'Daily Log'!#REF!),0)","v":0},{"$f":"IFERROR($E365*SUMIF('Daily Log'!#REF!,$B365,'Daily Log'!#REF!),0)","v":0},{"$f":"IFERROR($E365*SUMIF('Daily Log'!#REF!,$B365,'Daily Log'!#REF!),0)","v":0},{"$f":"IFERROR($E365*SUMIF('Daily Log'!#REF!,$B365,'Daily Log'!#REF!),0)","v":0},{"$f":"IFERROR($E365*SUMIF('Daily Log'!#REF!,$B365,'Daily Log'!#REF!),0)","v":0},{"$f":"IFERROR($E365*SUMIF('Daily Log'!#REF!,$B365,'Daily Log'!#REF!),0)","v":0},{"$f":"IFERROR($E365*SUMIF('Daily Log'!#REF!,$B365,'Daily Log'!#REF!),0)","v":0},{"$f":"IFERROR($E365*SUMIF('Daily Log'!#REF!,$B365,'Daily Log'!#REF!),0)","v":0},{"$f":"IFERROR($E365*SUMIF('Daily Log'!#REF!,$B365,'Daily Log'!#REF!),0)","v":0},{"$f":"IFERROR($E365*SUMIF('Daily Log'!#REF!,$B365,'Daily Log'!#REF!),0)","v":0},{"$f":"IFERROR($E365*SUMIF('Daily Log'!#REF!,$B365,'Daily Log'!#REF!),0)","v":0},{"$f":"IFERROR($E365*SUMIF('Daily Log'!#REF!,$B365,'Daily Log'!#REF!),0)","v":0},{"$f":"IFERROR($E365*SUMIF('Daily Log'!#REF!,$B365,'Daily Log'!#REF!),0)","v":0},{"$f":"IFERROR($E365*SUMIF('Daily Log'!#REF!,$B365,'Daily Log'!#REF!),0)","v":0},{"$f":"IFERROR($E365*SUMIF('Daily Log'!#REF!,$B365,'Daily Log'!#REF!),0)","v":0},{"$f":"IFERROR($E365*SUMIF('Daily Log'!#REF!,$B365,'Daily Log'!#REF!),0)","v":0},{"$f":"IFERROR($E365*SUMIF('Daily Log'!#REF!,$B365,'Daily Log'!#REF!),0)","v":0},{"$f":"IFERROR($E365*SUMIF('Daily Log'!$C$18:$C$1017,$B365,'Daily Log'!$D$18:$D$1017),0)","v":0},{"$f":"IFERROR($E365*SUMIF('Daily Log'!$F$18:$F$1017,$B365,'Daily Log'!$G$18:$G$1017),0)","v":0},{"$f":"IFERROR($E365*SUMIF('Daily Log'!$I$18:$I$1017,$B365,'Daily Log'!$J$18:$J$1017),0)","v":0},{"$f":"IFERROR($E365*SUMIF('Daily Log'!$L$18:$L$1017,$B365,'Daily Log'!$M$18:$M$1017),0)","v":0},{"$f":"IFERROR($E365*SUMIF('Daily Log'!$O$18:$O$1017,$B365,'Daily Log'!$P$18:$P$1017),0)","v":0},{"$f":"IFERROR($E365*SUMIF('Daily Log'!$R$18:$R$1017,$B365,'Daily Log'!$S$18:$S$1017),0)","v":0},{"$f":"IFERROR($E365*SUMIF('Daily Log'!$U$18:$U$1017,$B365,'Daily Log'!$V$18:$V$1017),0)","v":0},{"$f":"IFERROR($E365*SUMIF('Daily Log'!#REF!,$B365,'Daily Log'!#REF!),0)","v":0},{"$f":"IFERROR($E365*SUMIF('Daily Log'!#REF!,$B365,'Daily Log'!#REF!),0)","v":0},{"$f":"IFERROR($E365*SUMIF('Daily Log'!#REF!,$B365,'Daily Log'!#REF!),0)","v":0},{"$f":"IFERROR($E365*SUMIF('Daily Log'!#REF!,$B365,'Daily Log'!#REF!),0)","v":0},{"$f":"IFERROR($E365*SUMIF('Daily Log'!#REF!,$B365,'Daily Log'!#REF!),0)","v":0}]
[null,null,null,null,null,0,{"$f":"IFERROR($E366*SUMIF('Daily Log'!#REF!,$B366,'Daily Log'!#REF!),0)","v":0},{"$f":"IFERROR($E366*SUMIF('Daily Log'!#REF!,$B366,'Daily Log'!#REF!),0)","v":0},{"$f":"IFERROR($E366*SUMIF('Daily Log'!#REF!,$B366,'Daily Log'!#REF!),0)","v":0},{"$f":"IFERROR($E366*SUMIF('Daily Log'!#REF!,$B366,'Daily Log'!#REF!),0)","v":0},{"$f":"IFERROR($E366*SUMIF('Daily Log'!#REF!,$B366,'Daily Log'!#REF!),0)","v":0},{"$f":"IFERROR($E366*SUMIF('Daily Log'!#REF!,$B366,'Daily Log'!#REF!),0)","v":0},{"$f":"IFERROR($E366*SUMIF('Daily Log'!#REF!,$B366,'Daily Log'!#REF!),0)","v":0},{"$f":"IFERROR($E366*SUMIF('Daily Log'!#REF!,$B366,'Daily Log'!#REF!),0)","v":0},{"$f":"IFERROR($E366*SUMIF('Daily Log'!#REF!,$B366,'Daily Log'!#REF!),0)","v":0},{"$f":"IFERROR($E366*SUMIF('Daily Log'!#REF!,$B366,'Daily Log'!#REF!),0)","v":0},{"$f":"IFERROR($E366*SUMIF('Daily Log'!#REF!,$B366,'Daily Log'!#REF!),0)","v":0},{"$f":"IFERROR($E366*SUMIF('Daily Log'!#REF!,$B366,'Daily Log'!#REF!),0)","v":0},{"$f":"IFERROR($E366*SUMIF('Daily Log'!#REF!,$B366,'Daily Log'!#REF!),0)","v":0},{"$f":"IFERROR($E366*SUMIF('Daily Log'!#REF!,$B366,'Daily Log'!#REF!),0)","v":0},{"$f":"IFERROR($E366*SUMIF('Daily Log'!#REF!,$B366,'Daily Log'!#REF!),0)","v":0},{"$f":"IFERROR($E366*SUMIF('Daily Log'!#REF!,$B366,'Daily Log'!#REF!),0)","v":0},{"$f":"IFERROR($E366*SUMIF('Daily Log'!#REF!,$B366,'Daily Log'!#REF!),0)","v":0},{"$f":"IFERROR($E366*SUMIF('Daily Log'!#REF!,$B366,'Daily Log'!#REF!),0)","v":0},{"$f":"IFERROR($E366*SUMIF('Daily Log'!#REF!,$B366,'Daily Log'!#REF!),0)","v":0},{"$f":"IFERROR($E366*SUMIF('Daily Log'!$C$18:$C$1017,$B366,'Daily Log'!$D$18:$D$1017),0)","v":0},{"$f":"IFERROR($E366*SUMIF('Daily Log'!$F$18:$F$1017,$B366,'Daily Log'!$G$18:$G$1017),0)","v":0},{"$f":"IFERROR($E366*SUMIF('Daily Log'!$I$18:$I$1017,$B366,'Daily Log'!$J$18:$J$1017),0)","v":0},{"$f":"IFERROR($E366*SUMIF('Daily Log'!$L$18:$L$1017,$B366,'Daily Log'!$M$18:$M$1017),0)","v":0},{"$f":"IFERROR($E366*SUMIF('Daily Log'!$O$18:$O$1017,$B366,'Daily Log'!$P$18:$P$1017),0)","v":0},{"$f":"IFERROR($E366*SUMIF('Daily Log'!$R$18:$R$1017,$B366,'Daily Log'!$S$18:$S$1017),0)","v":0},{"$f":"IFERROR($E366*SUMIF('Daily Log'!$U$18:$U$1017,$B366,'Daily Log'!$V$18:$V$1017),0)","v":0},{"$f":"IFERROR($E366*SUMIF('Daily Log'!#REF!,$B366,'Daily Log'!#REF!),0)","v":0},{"$f":"IFERROR($E366*SUMIF('Daily Log'!#REF!,$B366,'Daily Log'!#REF!),0)","v":0},{"$f":"IFERROR($E366*SUMIF('Daily Log'!#REF!,$B366,'Daily Log'!#REF!),0)","v":0},{"$f":"IFERROR($E366*SUMIF('Daily Log'!#REF!,$B366,'Daily Log'!#REF!),0)","v":0},{"$f":"IFERROR($E366*SUMIF('Daily Log'!#REF!,$B366,'Daily Log'!#REF!),0)","v":0}]
[null,null,null,null,null,0,{"$f":"IFERROR($E367*SUMIF('Daily Log'!#REF!,$B367,'Daily Log'!#REF!),0)","v":0},{"$f":"IFERROR($E367*SUMIF('Daily Log'!#REF!,$B367,'Daily Log'!#REF!),0)","v":0},{"$f":"IFERROR($E367*SUMIF('Daily Log'!#REF!,$B367,'Daily Log'!#REF!),0)","v":0},{"$f":"IFERROR($E367*SUMIF('Daily Log'!#REF!,$B367,'Daily Log'!#REF!),0)","v":0},{"$f":"IFERROR($E367*SUMIF('Daily Log'!#REF!,$B367,'Daily Log'!#REF!),0)","v":0},{"$f":"IFERROR($E367*SUMIF('Daily Log'!#REF!,$B367,'Daily Log'!#REF!),0)","v":0},{"$f":"IFERROR($E367*SUMIF('Daily Log'!#REF!,$B367,'Daily Log'!#REF!),0)","v":0},{"$f":"IFERROR($E367*SUMIF('Daily Log'!#REF!,$B367,'Daily Log'!#REF!),0)","v":0},{"$f":"IFERROR($E367*SUMIF('Daily Log'!#REF!,$B367,'Daily Log'!#REF!),0)","v":0},{"$f":"IFERROR($E367*SUMIF('Daily Log'!#REF!,$B367,'Daily Log'!#REF!),0)","v":0},{"$f":"IFERROR($E367*SUMIF('Daily Log'!#REF!,$B367,'Daily Log'!#REF!),0)","v":0},{"$f":"IFERROR($E367*SUMIF('Daily Log'!#REF!,$B367,'Daily Log'!#REF!),0)","v":0},{"$f":"IFERROR($E367*SUMIF('Daily Log'!#REF!,$B367,'Daily Log'!#REF!),0)","v":0},{"$f":"IFERROR($E367*SUMIF('Daily Log'!#REF!,$B367,'Daily Log'!#REF!),0)","v":0},{"$f":"IFERROR($E367*SUMIF('Daily Log'!#REF!,$B367,'Daily Log'!#REF!),0)","v":0},{"$f":"IFERROR($E367*SUMIF('Daily Log'!#REF!,$B367,'Daily Log'!#REF!),0)","v":0},{"$f":"IFERROR($E367*SUMIF('Daily Log'!#REF!,$B367,'Daily Log'!#REF!),0)","v":0},{"$f":"IFERROR($E367*SUMIF('Daily Log'!#REF!,$B367,'Daily Log'!#REF!),0)","v":0},{"$f":"IFERROR($E367*SUMIF('Daily Log'!#REF!,$B367,'Daily Log'!#REF!),0)","v":0},{"$f":"IFERROR($E367*SUMIF('Daily Log'!$C$18:$C$1017,$B367,'Daily Log'!$D$18:$D$1017),0)","v":0},{"$f":"IFERROR($E367*SUMIF('Daily Log'!$F$18:$F$1017,$B367,'Daily Log'!$G$18:$G$1017),0)","v":0},{"$f":"IFERROR($E367*SUMIF('Daily Log'!$I$18:$I$1017,$B367,'Daily Log'!$J$18:$J$1017),0)","v":0},{"$f":"IFERROR($E367*SUMIF('Daily Log'!$L$18:$L$1017,$B367,'Daily Log'!$M$18:$M$1017),0)","v":0},{"$f":"IFERROR($E367*SUMIF('Daily Log'!$O$18:$O$1017,$B367,'Daily Log'!$P$18:$P$1017),0)","v":0},{"$f":"IFERROR($E367*SUMIF('Daily Log'!$R$18:$R$1017,$B367,'Daily Log'!$S$18:$S$1017),0)","v":0},{"$f":"IFERROR($E367*SUMIF('Daily Log'!$U$18:$U$1017,$B367,'Daily Log'!$V$18:$V$1017),0)","v":0},{"$f":"IFERROR($E367*SUMIF('Daily Log'!#REF!,$B367,'Daily Log'!#REF!),0)","v":0},{"$f":"IFERROR($E367*SUMIF('Daily Log'!#REF!,$B367,'Daily Log'!#REF!),0)","v":0},{"$f":"IFERROR($E367*SUMIF('Daily Log'!#REF!,$B367,'Daily Log'!#REF!),0)","v":0},{"$f":"IFERROR($E367*SUMIF('Daily Log'!#REF!,$B367,'Daily Log'!#REF!),0)","v":0},{"$f":"IFERROR($E367*SUMIF('Daily Log'!#REF!,$B367,'Daily Log'!#REF!),0)","v":0}]
[null,null,null,null,null,0,{"$f":"IFERROR($E368*SUMIF('Daily Log'!#REF!,$B368,'Daily Log'!#REF!),0)","v":0},{"$f":"IFERROR($E368*SUMIF('Daily Log'!#REF!,$B368,'Daily Log'!#REF!),0)","v":0},{"$f":"IFERROR($E368*SUMIF('Daily Log'!#REF!,$B368,'Daily Log'!#REF!),0)","v":0},{"$f":"IFERROR($E368*SUMIF('Daily Log'!#REF!,$B368,'Daily Log'!#REF!),0)","v":0},{"$f":"IFERROR($E368*SUMIF('Daily Log'!#REF!,$B368,'Daily Log'!#REF!),0)","v":0},{"$f":"IFERROR($E368*SUMIF('Daily Log'!#REF!,$B368,'Daily Log'!#REF!),0)","v":0},{"$f":"IFERROR($E368*SUMIF('Daily Log'!#REF!,$B368,'Daily Log'!#REF!),0)","v":0},{"$f":"IFERROR($E368*SUMIF('Daily Log'!#REF!,$B368,'Daily Log'!#REF!),0)","v":0},{"$f":"IFERROR($E368*SUMIF('Daily Log'!#REF!,$B368,'Daily Log'!#REF!),0)","v":0},{"$f":"IFERROR($E368*SUMIF('Daily Log'!#REF!,$B368,'Daily Log'!#REF!),0)","v":0},{"$f":"IFERROR($E368*SUMIF('Daily Log'!#REF!,$B368,'Daily Log'!#REF!),0)","v":0},{"$f":"IFERROR($E368*SUMIF('Daily Log'!#REF!,$B368,'Daily Log'!#REF!),0)","v":0},{"$f":"IFERROR($E368*SUMIF('Daily Log'!#REF!,$B368,'Daily Log'!#REF!),0)","v":0},{"$f":"IFERROR($E368*SUMIF('Daily Log'!#REF!,$B368,'Daily Log'!#REF!),0)","v":0},{"$f":"IFERROR($E368*SUMIF('Daily Log'!#REF!,$B368,'Daily Log'!#REF!),0)","v":0},{"$f":"IFERROR($E368*SUMIF('Daily Log'!#REF!,$B368,'Daily Log'!#REF!),0)","v":0},{"$f":"IFERROR($E368*SUMIF('Daily Log'!#REF!,$B368,'Daily Log'!#REF!),0)","v":0},{"$f":"IFERROR($E368*SUMIF('Daily Log'!#REF!,$B368,'Daily Log'!#REF!),0)","v":0},{"$f":"IFERROR($E368*SUMIF('Daily Log'!#REF!,$B368,'Daily Log'!#REF!),0)","v":0},{"$f":"IFERROR($E368*SUMIF('Daily Log'!$C$18:$C$1017,$B368,'Daily Log'!$D$18:$D$1017),0)","v":0},{"$f":"IFERROR($E368*SUMIF('Daily Log'!$F$18:$F$1017,$B368,'Daily Log'!$G$18:$G$1017),0)","v":0},{"$f":"IFERROR($E368*SUMIF('Daily Log'!$I$18:$I$1017,$B368,'Daily Log'!$J$18:$J$1017),0)","v":0},{"$f":"IFERROR($E368*SUMIF('Daily Log'!$L$18:$L$1017,$B368,'Daily Log'!$M$18:$M$1017),0)","v":0},{"$f":"IFERROR($E368*SUMIF('Daily Log'!$O$18:$O$1017,$B368,'Daily Log'!$P$18:$P$1017),0)","v":0},{"$f":"IFERROR($E368*SUMIF('Daily Log'!$R$18:$R$1017,$B368,'Daily Log'!$S$18:$S$1017),0)","v":0},{"$f":"IFERROR($E368*SUMIF('Daily Log'!$U$18:$U$1017,$B368,'Daily Log'!$V$18:$V$1017),0)","v":0},{"$f":"IFERROR($E368*SUMIF('Daily Log'!#REF!,$B368,'Daily Log'!#REF!),0)","v":0},{"$f":"IFERROR($E368*SUMIF('Daily Log'!#REF!,$B368,'Daily Log'!#REF!),0)","v":0},{"$f":"IFERROR($E368*SUMIF('Daily Log'!#REF!,$B368,'Daily Log'!#REF!),0)","v":0},{"$f":"IFERROR($E368*SUMIF('Daily Log'!#REF!,$B368,'Daily Log'!#REF!),0)","v":0},{"$f":"IFERROR($E368*SUMIF('Daily Log'!#REF!,$B368,'Daily Log'!#REF!),0)","v":0}]
[null,null,null,null,null,0,{"$f":"IFERROR($E369*SUMIF('Daily Log'!#REF!,$B369,'Daily Log'!#REF!),0)","v":0},{"$f":"IFERROR($E369*SUMIF('Daily Log'!#REF!,$B369,'Daily Log'!#REF!),0)","v":0},{"$f":"IFERROR($E369*SUMIF('Daily Log'!#REF!,$B369,'Daily Log'!#REF!),0)","v":0},{"$f":"IFERROR($E369*SUMIF('Daily Log'!#REF!,$B369,'Daily Log'!#REF!),0)","v":0},{"$f":"IFERROR($E369*SUMIF('Daily Log'!#REF!,$B369,'Daily Log'!#REF!),0)","v":0},{"$f":"IFERROR($E369*SUMIF('Daily Log'!#REF!,$B369,'Daily Log'!#REF!),0)","v":0},{"$f":"IFERROR($E369*SUMIF('Daily Log'!#REF!,$B369,'Daily Log'!#REF!),0)","v":0},{"$f":"IFERROR($E369*SUMIF('Daily Log'!#REF!,$B369,'Daily Log'!#REF!),0)","v":0},{"$f":"IFERROR($E369*SUMIF('Daily Log'!#REF!,$B369,'Daily Log'!#REF!),0)","v":0},{"$f":"IFERROR($E369*SUMIF('Daily Log'!#REF!,$B369,'Daily Log'!#REF!),0)","v":0},{"$f":"IFERROR($E369*SUMIF('Daily Log'!#REF!,$B369,'Daily Log'!#REF!),0)","v":0},{"$f":"IFERROR($E369*SUMIF('Daily Log'!#REF!,$B369,'Daily Log'!#REF!),0)","v":0},{"$f":"IFERROR($E369*SUMIF('Daily Log'!#REF!,$B369,'Daily Log'!#REF!),0)","v":0},{"$f":"IFERROR($E369*SUMIF('Daily Log'!#REF!,$B369,'Daily Log'!#REF!),0)","v":0},{"$f":"IFERROR($E369*SUMIF('Daily Log'!#REF!,$B369,'Daily Log'!#REF!),0)","v":0},{"$f":"IFERROR($E369*SUMIF('Daily Log'!#REF!,$B369,'Daily Log'!#REF!),0)","v":0},{"$f":"IFERROR($E369*SUMIF('Daily Log'!#REF!,$B369,'Daily Log'!#REF!),0)","v":0},{"$f":"IFERROR($E369*SUMIF('Daily Log'!#REF!,$B369,'Daily Log'!#REF!),0)","v":0},{"$f":"IFERROR($E369*SUMIF('Daily Log'!#REF!,$B369,'Daily Log'!#REF!),0)","v":0},{"$f":"IFERROR($E369*SUMIF('Daily Log'!$C$18:$C$1017,$B369,'Daily Log'!$D$18:$D$1017),0)","v":0},{"$f":"IFERROR($E369*SUMIF('Daily Log'!$F$18:$F$1017,$B369,'Daily Log'!$G$18:$G$1017),0)","v":0},{"$f":"IFERROR($E369*SUMIF('Daily Log'!$I$18:$I$1017,$B369,'Daily Log'!$J$18:$J$1017),0)","v":0},{"$f":"IFERROR($E369*SUMIF('Daily Log'!$L$18:$L$1017,$B369,'Daily Log'!$M$18:$M$1017),0)","v":0},{"$f":"IFERROR($E369*SUMIF('Daily Log'!$O$18:$O$1017,$B369,'Daily Log'!$P$18:$P$1017),0)","v":0},{"$f":"IFERROR($E369*SUMIF('Daily Log'!$R$18:$R$1017,$B369,'Daily Log'!$S$18:$S$1017),0)","v":0},{"$f":"IFERROR($E369*SUMIF('Daily Log'!$U$18:$U$1017,$B369,'Daily Log'!$V$18:$V$1017),0)","v":0},{"$f":"IFERROR($E369*SUMIF('Daily Log'!#REF!,$B369,'Daily Log'!#REF!),0)","v":0},{"$f":"IFERROR($E369*SUMIF('Daily Log'!#REF!,$B369,'Daily Log'!#REF!),0)","v":0},{"$f":"IFERROR($E369*SUMIF('Daily Log'!#REF!,$B369,'Daily Log'!#REF!),0)","v":0},{"$f":"IFERROR($E369*SUMIF('Daily Log'!#REF!,$B369,'Daily Log'!#REF!),0)","v":0},{"$f":"IFERROR($E369*SUMIF('Daily Log'!#REF!,$B369,'Daily Log'!#REF!),0)","v":0}]
[null,null,null,null,null,0,{"$f":"IFERROR($E370*SUMIF('Daily Log'!#REF!,$B370,'Daily Log'!#REF!),0)","v":0},{"$f":"IFERROR($E370*SUMIF('Daily Log'!#REF!,$B370,'Daily Log'!#REF!),0)","v":0},{"$f":"IFERROR($E370*SUMIF('Daily Log'!#REF!,$B370,'Daily Log'!#REF!),0)","v":0},{"$f":"IFERROR($E370*SUMIF('Daily Log'!#REF!,$B370,'Daily Log'!#REF!),0)","v":0},{"$f":"IFERROR($E370*SUMIF('Daily Log'!#REF!,$B370,'Daily Log'!#REF!),0)","v":0},{"$f":"IFERROR($E370*SUMIF('Daily Log'!#REF!,$B370,'Daily Log'!#REF!),0)","v":0},{"$f":"IFERROR($E370*SUMIF('Daily Log'!#REF!,$B370,'Daily Log'!#REF!),0)","v":0},{"$f":"IFERROR($E370*SUMIF('Daily Log'!#REF!,$B370,'Daily Log'!#REF!),0)","v":0},{"$f":"IFERROR($E370*SUMIF('Daily Log'!#REF!,$B370,'Daily Log'!#REF!),0)","v":0},{"$f":"IFERROR($E370*SUMIF('Daily Log'!#REF!,$B370,'Daily Log'!#REF!),0)","v":0},{"$f":"IFERROR($E370*SUMIF('Daily Log'!#REF!,$B370,'Daily Log'!#REF!),0)","v":0},{"$f":"IFERROR($E370*SUMIF('Daily Log'!#REF!,$B370,'Daily Log'!#REF!),0)","v":0},{"$f":"IFERROR($E370*SUMIF('Daily Log'!#REF!,$B370,'Daily Log'!#REF!),0)","v":0},{"$f":"IFERROR($E370*SUMIF('Daily Log'!#REF!,$B370,'Daily Log'!#REF!),0)","v":0},{"$f":"IFERROR($E370*SUMIF('Daily Log'!#REF!,$B370,'Daily Log'!#REF!),0)","v":0},{"$f":"IFERROR($E370*SUMIF('Daily Log'!#REF!,$B370,'Daily Log'!#REF!),0)","v":0},{"$f":"IFERROR($E370*SUMIF('Daily Log'!#REF!,$B370,'Daily Log'!#REF!),0)","v":0},{"$f":"IFERROR($E370*SUMIF('Daily Log'!#REF!,$B370,'Daily Log'!#REF!),0)","v":0},{"$f":"IFERROR($E370*SUMIF('Daily Log'!#REF!,$B370,'Daily Log'!#REF!),0)","v":0},{"$f":"IFERROR($E370*SUMIF('Daily Log'!$C$18:$C$1017,$B370,'Daily Log'!$D$18:$D$1017),0)","v":0},{"$f":"IFERROR($E370*SUMIF('Daily Log'!$F$18:$F$1017,$B370,'Daily Log'!$G$18:$G$1017),0)","v":0},{"$f":"IFERROR($E370*SUMIF('Daily Log'!$I$18:$I$1017,$B370,'Daily Log'!$J$18:$J$1017),0)","v":0},{"$f":"IFERROR($E370*SUMIF('Daily Log'!$L$18:$L$1017,$B370,'Daily Log'!$M$18:$M$1017),0)","v":0},{"$f":"IFERROR($E370*SUMIF('Daily Log'!$O$18:$O$1017,$B370,'Daily Log'!$P$18:$P$1017),0)","v":0},{"$f":"IFERROR($E370*SUMIF('Daily Log'!$R$18:$R$1017,$B370,'Daily Log'!$S$18:$S$1017),0)","v":0},{"$f":"IFERROR($E370*SUMIF('Daily Log'!$U$18:$U$1017,$B370,'Daily Log'!$V$18:$V$1017),0)","v":0},{"$f":"IFERROR($E370*SUMIF('Daily Log'!#REF!,$B370,'Daily Log'!#REF!),0)","v":0},{"$f":"IFERROR($E370*SUMIF('Daily Log'!#REF!,$B370,'Daily Log'!#REF!),0)","v":0},{"$f":"IFERROR($E370*SUMIF('Daily Log'!#REF!,$B370,'Daily Log'!#REF!),0)","v":0},{"$f":"IFERROR($E370*SUMIF('Daily Log'!#REF!,$B370,'Daily Log'!#REF!),0)","v":0},{"$f":"IFERROR($E370*SUMIF('Daily Log'!#REF!,$B370,'Daily Log'!#REF!),0)","v":0}]
[null,null,null,null,null,0,{"$f":"IFERROR($E371*SUMIF('Daily Log'!#REF!,$B371,'Daily Log'!#REF!),0)","v":0},{"$f":"IFERROR($E371*SUMIF('Daily Log'!#REF!,$B371,'Daily Log'!#REF!),0)","v":0},{"$f":"IFERROR($E371*SUMIF('Daily Log'!#REF!,$B371,'Daily Log'!#REF!),0)","v":0},{"$f":"IFERROR($E371*SUMIF('Daily Log'!#REF!,$B371,'Daily Log'!#REF!),0)","v":0},{"$f":"IFERROR($E371*SUMIF('Daily Log'!#REF!,$B371,'Daily Log'!#REF!),0)","v":0},{"$f":"IFERROR($E371*SUMIF('Daily Log'!#REF!,$B371,'Daily Log'!#REF!),0)","v":0},{"$f":"IFERROR($E371*SUMIF('Daily Log'!#REF!,$B371,'Daily Log'!#REF!),0)","v":0},{"$f":"IFERROR($E371*SUMIF('Daily Log'!#REF!,$B371,'Daily Log'!#REF!),0)","v":0},{"$f":"IFERROR($E371*SUMIF('Daily Log'!#REF!,$B371,'Daily Log'!#REF!),0)","v":0},{"$f":"IFERROR($E371*SUMIF('Daily Log'!#REF!,$B371,'Daily Log'!#REF!),0)","v":0},{"$f":"IFERROR($E371*SUMIF('Daily Log'!#REF!,$B371,'Daily Log'!#REF!),0)","v":0},{"$f":"IFERROR($E371*SUMIF('Daily Log'!#REF!,$B371,'Daily Log'!#REF!),0)","v":0},{"$f":"IFERROR($E371*SUMIF('Daily Log'!#REF!,$B371,'Daily Log'!#REF!),0)","v":0},{"$f":"IFERROR($E371*SUMIF('Daily Log'!#REF!,$B371,'Daily Log'!#REF!),0)","v":0},{"$f":"IFERROR($E371*SUMIF('Daily Log'!#REF!,$B371,'Daily Log'!#REF!),0)","v":0},{"$f":"IFERROR($E371*SUMIF('Daily Log'!#REF!,$B371,'Daily Log'!#REF!),0)","v":0},{"$f":"IFERROR($E371*SUMIF('Daily Log'!#REF!,$B371,'Daily Log'!#REF!),0)","v":0},{"$f":"IFERROR($E371*SUMIF('Daily Log'!#REF!,$B371,'Daily Log'!#REF!),0)","v":0},{"$f":"IFERROR($E371*SUMIF('Daily Log'!#REF!,$B371,'Daily Log'!#REF!),0)","v":0},{"$f":"IFERROR($E371*SUMIF('Daily Log'!$C$18:$C$1017,$B371,'Daily Log'!$D$18:$D$1017),0)","v":0},{"$f":"IFERROR($E371*SUMIF('Daily Log'!$F$18:$F$1017,$B371,'Daily Log'!$G$18:$G$1017),0)","v":0},{"$f":"IFERROR($E371*SUMIF('Daily Log'!$I$18:$I$1017,$B371,'Daily Log'!$J$18:$J$1017),0)","v":0},{"$f":"IFERROR($E371*SUMIF('Daily Log'!$L$18:$L$1017,$B371,'Daily Log'!$M$18:$M$1017),0)","v":0},{"$f":"IFERROR($E371*SUMIF('Daily Log'!$O$18:$O$1017,$B371,'Daily Log'!$P$18:$P$1017),0)","v":0},{"$f":"IFERROR($E371*SUMIF('Daily Log'!$R$18:$R$1017,$B371,'Daily Log'!$S$18:$S$1017),0)","v":0},{"$f":"IFERROR($E371*SUMIF('Daily Log'!$U$18:$U$1017,$B371,'Daily Log'!$V$18:$V$1017),0)","v":0},{"$f":"IFERROR($E371*SUMIF('Daily Log'!#REF!,$B371,'Daily Log'!#REF!),0)","v":0},{"$f":"IFERROR($E371*SUMIF('Daily Log'!#REF!,$B371,'Daily Log'!#REF!),0)","v":0},{"$f":"IFERROR($E371*SUMIF('Daily Log'!#REF!,$B371,'Daily Log'!#REF!),0)","v":0},{"$f":"IFERROR($E371*SUMIF('Daily Log'!#REF!,$B371,'Daily Log'!#REF!),0)","v":0},{"$f":"IFERROR($E371*SUMIF('Daily Log'!#REF!,$B371,'Daily Log'!#REF!),0)","v":0}]
[null,null,null,null,null,0,{"$f":"IFERROR($E372*SUMIF('Daily Log'!#REF!,$B372,'Daily Log'!#REF!),0)","v":0},{"$f":"IFERROR($E372*SUMIF('Daily Log'!#REF!,$B372,'Daily Log'!#REF!),0)","v":0},{"$f":"IFERROR($E372*SUMIF('Daily Log'!#REF!,$B372,'Daily Log'!#REF!),0)","v":0},{"$f":"IFERROR($E372*SUMIF('Daily Log'!#REF!,$B372,'Daily Log'!#REF!),0)","v":0},{"$f":"IFERROR($E372*SUMIF('Daily Log'!#REF!,$B372,'Daily Log'!#REF!),0)","v":0},{"$f":"IFERROR($E372*SUMIF('Daily Log'!#REF!,$B372,'Daily Log'!#REF!),0)","v":0},{"$f":"IFERROR($E372*SUMIF('Daily Log'!#REF!,$B372,'Daily Log'!#REF!),0)","v":0},{"$f":"IFERROR($E372*SUMIF('Daily Log'!#REF!,$B372,'Daily Log'!#REF!),0)","v":0},{"$f":"IFERROR($E372*SUMIF('Daily Log'!#REF!,$B372,'Daily Log'!#REF!),0)","v":0},{"$f":"IFERROR($E372*SUMIF('Daily Log'!#REF!,$B372,'Daily Log'!#REF!),0)","v":0},{"$f":"IFERROR($E372*SUMIF('Daily Log'!#REF!,$B372,'Daily Log'!#REF!),0)","v":0},{"$f":"IFERROR($E372*SUMIF('Daily Log'!#REF!,$B372,'Daily Log'!#REF!),0)","v":0},{"$f":"IFERROR($E372*SUMIF('Daily Log'!#REF!,$B372,'Daily Log'!#REF!),0)","v":0},{"$f":"IFERROR($E372*SUMIF('Daily Log'!#REF!,$B372,'Daily Log'!#REF!),0)","v":0},{"$f":"IFERROR($E372*SUMIF('Daily Log'!#REF!,$B372,'Daily Log'!#REF!),0)","v":0},{"$f":"IFERROR($E372*SUMIF('Daily Log'!#REF!,$B372,'Daily Log'!#REF!),0)","v":0},{"$f":"IFERROR($E372*SUMIF('Daily Log'!#REF!,$B372,'Daily Log'!#REF!),0)","v":0},{"$f":"IFERROR($E372*SUMIF('Daily Log'!#REF!,$B372,'Daily Log'!#REF!),0)","v":0},{"$f":"IFERROR($E372*SUMIF('Daily Log'!#REF!,$B372,'Daily Log'!#REF!),0)","v":0},{"$f":"IFERROR($E372*SUMIF('Daily Log'!$C$18:$C$1017,$B372,'Daily Log'!$D$18:$D$1017),0)","v":0},{"$f":"IFERROR($E372*SUMIF('Daily Log'!$F$18:$F$1017,$B372,'Daily Log'!$G$18:$G$1017),0)","v":0},{"$f":"IFERROR($E372*SUMIF('Daily Log'!$I$18:$I$1017,$B372,'Daily Log'!$J$18:$J$1017),0)","v":0},{"$f":"IFERROR($E372*SUMIF('Daily Log'!$L$18:$L$1017,$B372,'Daily Log'!$M$18:$M$1017),0)","v":0},{"$f":"IFERROR($E372*SUMIF('Daily Log'!$O$18:$O$1017,$B372,'Daily Log'!$P$18:$P$1017),0)","v":0},{"$f":"IFERROR($E372*SUMIF('Daily Log'!$R$18:$R$1017,$B372,'Daily Log'!$S$18:$S$1017),0)","v":0},{"$f":"IFERROR($E372*SUMIF('Daily Log'!$U$18:$U$1017,$B372,'Daily Log'!$V$18:$V$1017),0)","v":0},{"$f":"IFERROR($E372*SUMIF('Daily Log'!#REF!,$B372,'Daily Log'!#REF!),0)","v":0},{"$f":"IFERROR($E372*SUMIF('Daily Log'!#REF!,$B372,'Daily Log'!#REF!),0)","v":0},{"$f":"IFERROR($E372*SUMIF('Daily Log'!#REF!,$B372,'Daily Log'!#REF!),0)","v":0},{"$f":"IFERROR($E372*SUMIF('Daily Log'!#REF!,$B372,'Daily Log'!#REF!),0)","v":0},{"$f":"IFERROR($E372*SUMIF('Daily Log'!#REF!,$B372,'Daily Log'!#REF!),0)","v":0}]
[null,null,null,null,null,0,{"$f":"IFERROR($E373*SUMIF('Daily Log'!#REF!,$B373,'Daily Log'!#REF!),0)","v":0},{"$f":"IFERROR($E373*SUMIF('Daily Log'!#REF!,$B373,'Daily Log'!#REF!),0)","v":0},{"$f":"IFERROR($E373*SUMIF('Daily Log'!#REF!,$B373,'Daily Log'!#REF!),0)","v":0},{"$f":"IFERROR($E373*SUMIF('Daily Log'!#REF!,$B373,'Daily Log'!#REF!),0)","v":0},{"$f":"IFERROR($E373*SUMIF('Daily Log'!#REF!,$B373,'Daily Log'!#REF!),0)","v":0},{"$f":"IFERROR($E373*SUMIF('Daily Log'!#REF!,$B373,'Daily Log'!#REF!),0)","v":0},{"$f":"IFERROR($E373*SUMIF('Daily Log'!#REF!,$B373,'Daily Log'!#REF!),0)","v":0},{"$f":"IFERROR($E373*SUMIF('Daily Log'!#REF!,$B373,'Daily Log'!#REF!),0)","v":0},{"$f":"IFERROR($E373*SUMIF('Daily Log'!#REF!,$B373,'Daily Log'!#REF!),0)","v":0},{"$f":"IFERROR($E373*SUMIF('Daily Log'!#REF!,$B373,'Daily Log'!#REF!),0)","v":0},{"$f":"IFERROR($E373*SUMIF('Daily Log'!#REF!,$B373,'Daily Log'!#REF!),0)","v":0},{"$f":"IFERROR($E373*SUMIF('Daily Log'!#REF!,$B373,'Daily Log'!#REF!),0)","v":0},{"$f":"IFERROR($E373*SUMIF('Daily Log'!#REF!,$B373,'Daily Log'!#REF!),0)","v":0},{"$f":"IFERROR($E373*SUMIF('Daily Log'!#REF!,$B373,'Daily Log'!#REF!),0)","v":0},{"$f":"IFERROR($E373*SUMIF('Daily Log'!#REF!,$B373,'Daily Log'!#REF!),0)","v":0},{"$f":"IFERROR($E373*SUMIF('Daily Log'!#REF!,$B373,'Daily Log'!#REF!),0)","v":0},{"$f":"IFERROR($E373*SUMIF('Daily Log'!#REF!,$B373,'Daily Log'!#REF!),0)","v":0},{"$f":"IFERROR($E373*SUMIF('Daily Log'!#REF!,$B373,'Daily Log'!#REF!),0)","v":0},{"$f":"IFERROR($E373*SUMIF('Daily Log'!#REF!,$B373,'Daily Log'!#REF!),0)","v":0},{"$f":"IFERROR($E373*SUMIF('Daily Log'!$C$18:$C$1017,$B373,'Daily Log'!$D$18:$D$1017),0)","v":0},{"$f":"IFERROR($E373*SUMIF('Daily Log'!$F$18:$F$1017,$B373,'Daily Log'!$G$18:$G$1017),0)","v":0},{"$f":"IFERROR($E373*SUMIF('Daily Log'!$I$18:$I$1017,$B373,'Daily Log'!$J$18:$J$1017),0)","v":0},{"$f":"IFERROR($E373*SUMIF('Daily Log'!$L$18:$L$1017,$B373,'Daily Log'!$M$18:$M$1017),0)","v":0},{"$f":"IFERROR($E373*SUMIF('Daily Log'!$O$18:$O$1017,$B373,'Daily Log'!$P$18:$P$1017),0)","v":0},{"$f":"IFERROR($E373*SUMIF('Daily Log'!$R$18:$R$1017,$B373,'Daily Log'!$S$18:$S$1017),0)","v":0},{"$f":"IFERROR($E373*SUMIF('Daily Log'!$U$18:$U$1017,$B373,'Daily Log'!$V$18:$V$1017),0)","v":0},{"$f":"IFERROR($E373*SUMIF('Daily Log'!#REF!,$B373,'Daily Log'!#REF!),0)","v":0},{"$f":"IFERROR($E373*SUMIF('Daily Log'!#REF!,$B373,'Daily Log'!#REF!),0)","v":0},{"$f":"IFERROR($E373*SUMIF('Daily Log'!#REF!,$B373,'Daily Log'!#REF!),0)","v":0},{"$f":"IFERROR($E373*SUMIF('Daily Log'!#REF!,$B373,'Daily Log'!#REF!),0)","v":0},{"$f":"IFERROR($E373*SUMIF('Daily Log'!#REF!,$B373,'Daily Log'!#REF!),0)","v":0}]
[]
[null,"Copyright © 2013 by Oracle Symphony Sdn Bhd"]

{"sheet":"Daily Log","index":1,"n_rows":1017,"n_cols":27,"rows_kept":1017,"cut":false,"hidden":false,"merged":[[5,2,5,4],[7,2,7,4],[9,2,9,4]]}
[]
[]
[null,null,"DAILY LOG OF PRODUCT SALES"]
[]
[]
[null,"OUTLET",{"$f":"Summary!C6","v":"KDA"}]
[]
[null,"YEAR",{"$f":"Summary!C8","v":"2013"}]
[]
[null,"MONTH",{"$f":"Summary!C10","v":"MAY"}]
[]
[]
[]
[{"$f":"IFERROR(INDEX($AA$18:$AA$48,MAX($B$17:$X$17),1),\"\")","v":"BY"},null,{"$f":"\"DATE  \"&TEXT(Summary!Z27,\"DD / MM / YYYY\")","v":"DATE  20 / 05 / 2013"},null,null,{"$f":"\"DATE  \"&TEXT(Summary!AA27,\"DD / MM / YYYY\")","v":"DATE  21 / 05 / 2013"},null,null,{"$f":"\"DATE  \"&TEXT(Summary!AB27,\"DD / MM / YYYY\")","v":"DATE  22 / 05 / 2013"},null,null,{"$f":"\"DATE  \"&TEXT(Summary!AC27,\"DD / MM / YYYY\")","v":"DATE  23 / 05 / 2013"},null,null,{"$f":"\"DATE  \"&TEXT(Summary!AD27,\"DD / MM / YYYY\")","v":"DATE  24 / 05 / 2013"},null,null,{"$f":"\"DATE  \"&TEXT(Summary!AE27,\"DD / MM / YYYY\")","v":"DATE  25 / 05 / 2013"},null,null,{"$f":"\"DATE  \"&TEXT(Summary!AF27,\"DD / MM / YYYY\")","v":"DATE  26 / 05 / 2013"},null,null,null,null,"COLUMN"]
[]
[null,null,"PRODUCT","QUANTITY",null,"PRODUCT","QUANTITY",null,"PRODUCT","QUANTITY",null,"PRODUCT","QUANTITY",null,"PRODUCT","QUANTITY",null,"PRODUCT","QUANTITY",null,"PRODUCT","QUANTITY",null,null,null,"MONTH","COLUMN"]
[null,null,{"$f":"IF(C18<>\"\",20,0)","v":20},null,null,{"$f":"IF(F18<>\"\",21,0)","v":21},null,null,{"$f":"IF(I18<>\"\",22,0)","v":22},null,null,{"$f":"IF(L18<>\"\",23,0)","v":23},null,null,{"$f":"IF(O18<>\"\",24,0)","v":24},null,null,{"$f":"IF(R18<>\"\",25,0)","v":25},null,null,{"$f":"IF(U18<>\"\",26,0)","v":26}]
[{"$f":"IFERROR(IF(INDIRECT($A$14&ROW())<>\"\",COUNTIF([2]Summary!$B$30:$B$1029,INDIRECT($A$14&ROW())),\"\"),\"\")","v":""},null,"FA07 Cus Cake",1,null,"FA07 Cus Cake",1,null,"FA07 Cus Cake",1,null,"FA07 Cus Cake",10,null,"FA07 Cus Cake",4,null,"FA07 Cus Cake",5,null,"FA07 Cus Cake",1,null,null,null,1,"B"]
[{"$f":"IFERROR(IF(INDIRECT($A$14&ROW())<>\"\",COUNTIF([2]Summary!$B$30:$B$1029,INDIRECT($A$14&ROW())),\"\"),\"\")","v":""},null,"AA01 K : REGULAR",3,null,"AA04 K-LUNCH",18,null,"AA01 K : REGULAR",5,null,"AA01 K : REGULAR",2,null,"AA05 K : CHILDREN",6,null,"AA05 K : CHILDREN",5,null,"AA05 K : CHILDREN",3,null,null,null,2,"E"]
[{"$f":"IFERROR(IF(INDIRECT($A$14&ROW())<>\"\",COUNTIF([2]Summary!$B$30:$B$1029,INDIRECT($A$14&ROW())),\"\"),\"\")","v":""},null,"AA04 K-LUNCH",42,null,"AB03 H : MEMBER 30%",8,null,"AA07 K : STAFF B'DAY",1,null,"AA04 K-LUNCH",44,null,"AA17 K : XTD M ROOM",1,null,"AA04 K-LUNCH",74,null,"AA06 K : MEMBER B'DAY",1,null,null,null,3,"H"]
[{"$f":"IFERROR(IF(INDIRECT($A$14&ROW())<>\"\",COUNTIF([2]Summary!$B$30:$B$1029,INDIRECT($A$14&ROW())),\"\"),\"\")","v":""},null,"AB02 H : MEMBER",5,null,"AB01 H : REGULAR",20,null,"AA04 K-LUNCH",29,null,"AB07 H : CHILDREN",1,null,"AA04 K-LUNCH",65,null,"AB07 H : CHILDREN",1,null,"AA17 K : XTD M ROOM",2,null,null,null,4,"K"]
[{"$f":"IFERROR(IF(INDIRECT($A$14&ROW())<>\"\",COUNTIF([2]Summary!$B$30:$B$1029,INDIRECT($A$14&ROW())),\"\"),\"\")","v":""},null,"AB01 H : REGULAR",29,null,"AB06 H : SENIOR",2,null,"AB02 H : MEMBER",10,null,"AB11 H : FREEHEAD (B)",1,null,"AB07 H : CHILDREN",1,null,"AB16 H : EVENT",1,null,"AA26 K : XTD VIP ROOM",2,null,null,null,5,"N"]
[{"$f":"IFERROR(IF(INDIRECT($A$14&ROW())<>\"\",COUNTIF([2]Summary!$B$30:$B$1029,INDIRECT($A$14&ROW())),\"\"),\"\")","v":""},null,"AB05 H : STUDENT",40,null,"AB05 H : STUDENT",26,null,"AB01 H : REGULAR",31,null,"AB02 H : MEMBER",18,null,"AB11 H : FREEHEAD (B)",1,null,"AB02 H : MEMBER",33,null,"AA04 K-LUNCH",123,null,null,null,6,"Q"]
[{"$f":"IFERROR(IF(INDIRECT($A$14&ROW())<>\"\",COUNTIF([2]Summary!$B$30:$B$1029,INDIRECT($A$14&ROW())),\"\"),\"\")","v":""},null,"AC05 K-DINNER",47,null,"AC05 K-DINNER",55,null,"AB05 H : STUDENT",26,null,"AB08 H : MEMBER B'DAY",1,null,"AB02 H : MEMBER",27,null,"AB08 H : MEMBER B'DAY",1,null,"AB07 H : CHILDREN",2,null,null,null,7,"T"]
[{"$f":"IFERROR(IF(INDIRECT($A$14&ROW())<>\"\",COUNTIF([2]Summary!$B$30:$B$1029,INDIRECT($A$14&ROW())),\"\"),\"\")","v":""},null,"AC29 N : 5.8",71,null,"AC29 N : 5.8",93,null,"AB50 H : STUDENT MEM",1,null,"AB01 H : REGULAR",20,null,"AB01 H : REGULAR",114,null,"AB01 H : REGULAR",99,null,"AB11 H : FREEHEAD (B)",1,null,null,null,8,"W"]
[{"$f":"IFERROR(IF(INDIRECT($A$14&ROW())<>\"\",COUNTIF([2]Summary!$B$30:$B$1029,INDIRECT($A$14&ROW())),\"\"),\"\")","v":""},null,"AC10 N : FREEHEAD (B)",3,null,"AC06 N : CHILDREN",2,null,"AB18 H : XTD M ROOM",1,null,"AB05 H : STUDENT",39,null,"AB18 H : XTD M ROOM",1,null,"AB18 H : XTD M ROOM",1,null,"AB02 H : MEMBER",31,null,null,null,9,"Z"]
[{"$f":"IFERROR(IF(INDIRECT($A$14&ROW())<>\"\",COUNTIF([2]Summary!$B$30:$B$1029,INDIRECT($A$14&ROW())),\"\"),\"\")","v":""},null,"AC02 N : MEMBER",28,null,"AC10 N : FREEHEAD (B)",2,null,"AC05 K-DINNER",44,null,"AC05 K-DINNER",184,null,"AC05 K-DINNER",142,null,"AC05 K-DINNER",91,null,"AB01 H : REGULAR",133,null,null,null,10,"AC"]
[{"$f":"IFERROR(IF(INDIRECT($A$14&ROW())<>\"\",COUNTIF([2]Summary!$B$30:$B$1029,INDIRECT($A$14&ROW())),\"\"),\"\")","v":""},null,"AC07 N : MEMBER B'DAY",1,null,"AC02 N : MEMBER",null,null,"AC29 N : 5.8",76,null,"AC06 N : CHILDREN",5,null,"AC06 N : CHILDREN",6,null,"AC06 N : CHILDREN",1,null,"AB18 H : XTD M ROOM",1,null,null,null,11,"AF"]
[{"$f":"IFERROR(IF(INDIRECT($A$14&ROW())<>\"\",COUNTIF([2]Summary!$B$30:$B$1029,INDIRECT($A$14&ROW())),\"\"),\"\")","v":""},null,"AC01 N : REGULAR",91,null,"AC03 N : MEMBER 30%",60,null,"AC06 N : CHILDREN",1,null,"AC10 N : FREEHEAD (B)",2,null,"AC02 N : MEMBER",32,null,"AC02 N : MEMBER",48,null,"AC05 K-DINNER",112,null,null,null,12,"AI"]
[{"$f":"IFERROR(IF(INDIRECT($A$14&ROW())<>\"\",COUNTIF([2]Summary!$B$30:$B$1029,INDIRECT($A$14&ROW())),\"\"),\"\")","v":""},null,"AC18 N : XTD M ROOM",2,null,"AC07 N : MEMBER B'DAY",2,null,"AC10 N : FREEHEAD (B)",2,null,"AC02 N : MEMBER",57,null,"AC07 N : MEMBER B'DAY",1,null,"AC07 N : MEMBER B'DAY",1,null,"AC06 N : CHILDREN",5,null,null,null,13,"AL"]
[{"$f":"IFERROR(IF(INDIRECT($A$14&ROW())<>\"\",COUNTIF([2]Summary!$B$30:$B$1029,INDIRECT($A$14&ROW())),\"\"),\"\")","v":""},null,"AD05 M : LADIES",42,null,"AC01 N : REGULAR",85,null,"AC02 N : MEMBER",31,null,"AC07 N : MEMBER B'DAY",3,null,"AC01 N : REGULAR",204,null,"AC01 N : REGULAR",240,null,"AC10 N : FREEHEAD (B)",1,null,null,null,14,"AO"]
[{"$f":"IFERROR(IF(INDIRECT($A$14&ROW())<>\"\",COUNTIF([2]Summary!$B$30:$B$1029,INDIRECT($A$14&ROW())),\"\"),\"\")","v":""},null,"AD02 M : MEMBER",null,null,"AD05 M : LADIES",52,null,"AC07 N : MEMBER B'DAY",1,null,"AC01 N : REGULAR",168,null,"AC18 N : XTD M ROOM",4,null,"AC18 N : XTD M ROOM",7,null,"AC02 N : MEMBER",26,null,null,null,15,"AR"]
[{"$f":"IFERROR(IF(INDIRECT($A$14&ROW())<>\"\",COUNTIF([2]Summary!$B$30:$B$1029,INDIRECT($A$14&ROW())),\"\"),\"\")","v":""},null,"AD01 M : REGULAR",37,null,"AD03 M : MEMBER 30%",3,null,"AC01 N : REGULAR",106,null,"AC19 N : XTD B ROOM",2,null,"AC17 N : XTD S ROOM",2,null,"AC17 N : XTD S ROOM",4,null,"AC01 N : REGULAR",102,null,null,null,16,"AU"]
[{"$f":"IFERROR(IF(INDIRECT($A$14&ROW())<>\"\",COUNTIF([2]Summary!$B$30:$B$1029,INDIRECT($A$14&ROW())),\"\"),\"\")","v":""},null,"BA09 GUINNESS BKT",1,null,"AD07 M : MEMBER B'DAY",null,null,"AC08 N : STAFF B'DAY",1,null,"AC18 N : XTD M ROOM",8,null,"AD06 M : CHILDREN",1,null,"AC28 N : XTD VIP ROOM",1,null,"AC18 N : XTD M ROOM",3,null,null,null,17,"AX"]
[{"$f":"IFERROR(IF(INDIRECT($A$14&ROW())<>\"\",COUNTIF([2]Summary!$B$30:$B$1029,INDIRECT($A$14&ROW())),\"\"),\"\")","v":""},null,"BA12 HEINEKEN BKT",1,null,"AD01 M : REGULAR",27,null,"AC18 N : XTD M ROOM",4,null,"AC17 N : XTD S ROOM",2,null,"AD02 M : MEMBER",18,null,"AD02 M : MEMBER",14,null,"AD05 M : LADIES",38,null,null,null,18,"BA"]
[{"$f":"IFERROR(IF(INDIRECT($A$14&ROW())<>\"\",COUNTIF([2]Summary!$B$30:$B$1029,INDIRECT($A$14&ROW())),\"\"),\"\")","v":""},null,"BA11 HEINEKEN BTL",2,null,"BA12 HEINEKEN BKT",3,null,"AC17 N : XTD S ROOM",1,null,"AD02 M : MEMBER",27,null,"AD01 M : REGULAR",48,null,"AD01 M : REGULAR",65,null,"AD02 M : MEMBER",5,null,null,null,19,"BD"]
[{"$f":"IFERROR(IF(INDIRECT($A$14&ROW())<>\"\",COUNTIF([2]Summary!$B$30:$B$1029,INDIRECT($A$14&ROW())),\"\"),\"\")","v":""},null,"BA13 HEINEKEN RND",2,null,"BA11 HEINEKEN BTL",2,null,"AD05 M : LADIES",25,null,"AD01 M : REGULAR",55,null,"AD15 M : XTD S ROOM",1,null,"AD15 M : XTD S ROOM",2,null,"AD01 M : REGULAR",31,null,null,null,20,"BG"]
[{"$f":"IFERROR(IF(INDIRECT($A$14&ROW())<>\"\",COUNTIF([2]Summary!$B$30:$B$1029,INDIRECT($A$14&ROW())),\"\"),\"\")","v":""},null,"BA21 ICE BUCKET BIG",3,null,"BA13 HEINEKEN RND",3,null,"AD03 M : MEMBER 30%",null,null,"BA09 GUINNESS BKT",3,null,"BA10 GUINNESS RND",1,null,"BA09 GUINNESS BKT",1,null,"BA09 GUINNESS BKT",2,null,null,null,21,"BJ"]
[{"$f":"IFERROR(IF(INDIRECT($A$14&ROW())<>\"\",COUNTIF([2]Summary!$B$30:$B$1029,INDIRECT($A$14&ROW())),\"\"),\"\")","v":""},null,"BA04 N : 4BP",2,null,"BA06 M : 4BP",1,null,"AD01 M : REGULAR",17,null,"BA08 GUINNESS BTL",1,null,"BA12 HEINEKEN BKT",1,null,"BA13 HEINEKEN RND",3,null,"BA12 HEINEKEN BKT",2,null,null,null,22,"BM"]
[{"$f":"IFERROR(IF(INDIRECT($A$14&ROW())<>\"\",COUNTIF([2]Summary!$B$30:$B$1029,INDIRECT($A$14&ROW())),\"\"),\"\")","v":""},null,"BA15 TIGER BKT",3,null,"BA04 N : 4BP",2,null,"AD08 M : STAFF B'DAY",null,null,"BA02 H : 4BP",1,null,"BA12 HEINEKEN BKT",4,null,"BA06 M : 4BP",7,null,"BA12 HEINEKEN BKT",3,null,null,null,23,"BP"]
[{"$f":"IFERROR(IF(INDIRECT($A$14&ROW())<>\"\",COUNTIF([2]Summary!$B$30:$B$1029,INDIRECT($A$14&ROW())),\"\"),\"\")","v":""},null,"BA14 TIGER BTL",2,null,"BA15 TIGER BKT",8,null,"BA09 GUINNESS BKT",3,null,"BA12 HEINEKEN BKT",2,null,"BA06 M : 4BP",1,null,"BA04 N : 4BP",12,null,"BA11 HEINEKEN BTL",2,null,null,null,24,"BS"]
[{"$f":"IFERROR(IF(INDIRECT($A$14&ROW())<>\"\",COUNTIF([2]Summary!$B$30:$B$1029,INDIRECT($A$14&ROW())),\"\"),\"\")","v":""},null,"BA19 Tiger 2+1",5,null,"BA16 TIGER RND",3,null,"BA08 GUINNESS BTL",1,null,"BA13 HEINEKEN RND",2,null,"BA04 N : 4BP",10,null,"BA15 TIGER BKT",6,null,"BA13 HEINEKEN RND",1,null,null,null,25,"BV"]
[{"$f":"IFERROR(IF(INDIRECT($A$14&ROW())<>\"\",COUNTIF([2]Summary!$B$30:$B$1029,INDIRECT($A$14&ROW())),\"\"),\"\")","v":""},null,"CI02 APPLE J",20,null,"CI02 APPLE J",16,null,"BA02 H : 4BP",1,null,"BA21 ICE BUCKET BIG",2,null,"BA15 TIGER BKT",6,null,"BA16 TIGER RND",5,null,"BA21 ICE BUCKET BIG",1,null,null,null,26,"BY"]
[{"$f":"IFERROR(IF(INDIRECT($A$14&ROW())<>\"\",COUNTIF([2]Summary!$B$30:$B$1029,INDIRECT($A$14&ROW())),\"\"),\"\")","v":""},null,"CI01 GRAPE J",12,null,"CI01 GRAPE J",11,null,"BA12 HEINEKEN BKT",1,null,"BA06 M : 4BP",2,null,"BA14 TIGER BTL",2,null,"CI02 APPLE J",27,null,"BA04 N : 4BP",7,null,null,null,27,"CB"]
[{"$f":"IFERROR(IF(INDIRECT($A$14&ROW())<>\"\",COUNTIF([2]Summary!$B$30:$B$1029,INDIRECT($A$14&ROW())),\"\"),\"\")","v":""},null,"CI04 MANGO J",24,null,"CI04 MANGO J",18,null,"BA12 HEINEKEN BKT",2,null,"BA04 N : 4BP",8,null,"BA16 TIGER RND",9,null,"CI01 GRAPE J",14,null,"BA15 TIGER BKT",8,null,null,null,28,"CE"]
[{"$f":"IFERROR(IF(INDIRECT($A$14&ROW())<>\"\",COUNTIF([2]Summary!$B$30:$B$1029,INDIRECT($A$14&ROW())),\"\"),\"\")","v":""},null,"CI05 PASSION J",3,null,"CI05 PASSION J",33,null,"BA13 HEINEKEN RND",1,null,"BA15 TIGER BKT",4,null,"CI02 APPLE J",34,null,"CI04 MANGO J",33,null,"BA14 TIGER BTL",3,null,null,null,29,"CH"]
[{"$f":"IFERROR(IF(INDIRECT($A$14&ROW())<>\"\",COUNTIF([2]Summary!$B$30:$B$1029,INDIRECT($A$14&ROW())),\"\"),\"\")","v":""},null,"CI06 RIBENA J",45,null,"CI06 RIBENA J",53,null,"BA20 Heineken 3+1",8,null,"BA16 TIGER RND",1,null,"CI01 GRAPE J",14,null,"CA04 MANGO J",1,null,"BA16 TIGER RND",3,null,null,null,30,"CK"]
[{"$f":"IFERROR(IF(INDIRECT($A$14&ROW())<>\"\",COUNTIF([2]Summary!$B$30:$B$1029,INDIRECT($A$14&ROW())),\"\"),\"\")","v":""},null,"CA06 RIBENA J",null,null,"CJ04 MANGO SO",3,null,"BA21 ICE BUCKET BIG",4,null,"BA16 TIGER RND",3,null,"CI04 MANGO J",16,null,"CI05 PASSION J",32,null,"BA16 TIGER RND",3,null,null,null,31,"CN"]
[{"$f":"IFERROR(IF(INDIRECT($A$14&ROW())<>\"\",COUNTIF([2]Summary!$B$30:$B$1029,INDIRECT($A$14&ROW())),\"\"),\"\")","v":""},null,"CL01 7 UP",7,null,"CJ06 RIBENA SO",11,null,"BA04 N : 4BP",1,null,"CI02 APPLE J",27,null,"CI05 PASSION J",35,null,"CI06 RIBENA J",72,null,"CI02 APPLE J",16]
[{"$f":"IFERROR(IF(INDIRECT($A$14&ROW())<>\"\",COUNTIF([2]Summary!$B$30:$B$1029,INDIRECT($A$14&ROW())),\"\"),\"\")","v":""},null,"CL02 7 UP REVIVE",3,null,"CC07 CAPPUCINNO SM",1,null,"BA15 TIGER BKT",3,null,"CI01 GRAPE J",19,null,"CI06 RIBENA J",69,null,"CJ01 GRAPE SO",1,null,"CI01 GRAPE J",15]
[{"$f":"IFERROR(IF(INDIRECT($A$14&ROW())<>\"\",COUNTIF([2]Summary!$B$30:$B$1029,INDIRECT($A$14&ROW())),\"\"),\"\")","v":""},null,"CL03 PEPSI",95,null,"CC08 CHOCOLATE SM",1,null,"BA15 TIGER BKT",2,null,"CI04 MANGO J",32,null,"CC08 CHOCOLATE SM",1,null,"CJ06 RIBENA SO",1,null,"CI04 MANGO J",26]
[{"$f":"IFERROR(IF(INDIRECT($A$14&ROW())<>\"\",COUNTIF([2]Summary!$B$30:$B$1029,INDIRECT($A$14&ROW())),\"\"),\"\")","v":""},null,"CM05 GRN TEA (C)",64,null,"CC04 MANGO SM",1,null,"CI02 APPLE J",17,null,"CI05 PASSION J",59,null,"CL01 7 UP",32,null,"CL01 7 UP",16,null,"CI05 PASSION J",32]
[{"$f":"IFERROR(IF(INDIRECT($A$14&ROW())<>\"\",COUNTIF([2]Summary!$B$30:$B$1029,INDIRECT($A$14&ROW())),\"\"),\"\")","v":""},null,"CM06 HNY GRN TEA (C)",93,null,"CL01 7 UP",17,null,"CI01 GRAPE J",11,null,"CI06 RIBENA J",52,null,"CL02 7 UP REVIVE",11,null,"CL02 7 UP REVIVE",6,null,"CI06 RIBENA J",48]
[{"$f":"IFERROR(IF(INDIRECT($A$14&ROW())<>\"\",COUNTIF([2]Summary!$B$30:$B$1029,INDIRECT($A$14&ROW())),\"\"),\"\")","v":""},null,"CM07 HONEY (C)",26,null,"CL02 7 UP REVIVE",6,null,"CI04 MANGO J",16,null,"CJ02 APPLE SO",6,null,"CL03 PEPSI",97,null,"CD02 7 UP REVIVE",1,null,"CJ05 PASSION SO",1]
[{"$f":"IFERROR(IF(INDIRECT($A$14&ROW())<>\"\",COUNTIF([2]Summary!$B$30:$B$1029,INDIRECT($A$14&ROW())),\"\"),\"\")","v":""},null,"CM08 LEMON HONEY (C)",134,null,"CL03 PEPSI",40,null,"CI05 PASSION J",25,null,"CJ05 PASSION SO",3,null,"CM05 GRN TEA (C)",54,null,"CL03 PEPSI",112,null,"CJ06 RIBENA SO",5]
[{"$f":"IFERROR(IF(INDIRECT($A$14&ROW())<>\"\",COUNTIF([2]Summary!$B$30:$B$1029,INDIRECT($A$14&ROW())),\"\"),\"\")","v":""},null,"CM04 LEMON TEA (C)",68,null,"CM05 GRN TEA (C)",54,null,"CI06 RIBENA J",42,null,"CL01 7 UP",22,null,"CM06 HNY GRN TEA (C)",107,null,"CD03 PEPSI",1,null,"CL01 7 UP",13]
[{"$f":"IFERROR(IF(INDIRECT($A$14&ROW())<>\"\",COUNTIF([2]Summary!$B$30:$B$1029,INDIRECT($A$14&ROW())),\"\"),\"\")","v":""},null,"CM01 MILO (C)",33,null,"CM06 HNY GRN TEA (C)",75,null,"CJ02 APPLE SO",1,null,"CL02 7 UP REVIVE",12,null,"CM07 HONEY (C)",26,null,"CM05 GRN TEA (C)",63,null,"CL02 7 UP REVIVE",15]
[{"$f":"IFERROR(IF(INDIRECT($A$14&ROW())<>\"\",COUNTIF([2]Summary!$B$30:$B$1029,INDIRECT($A$14&ROW())),\"\"),\"\")","v":""},null,"CM02 NESCAFE (C)",10,null,"CM07 HONEY (C)",12,null,"CJ05 PASSION SO",1,null,"CL03 PEPSI",105,null,"CM08 LEMON HONEY (C)",229,null,"CM06 HNY GRN TEA (C)",120,null,"CL03 PEPSI",70]
[{"$f":"IFERROR(IF(INDIRECT($A$14&ROW())<>\"\",COUNTIF([2]Summary!$B$30:$B$1029,INDIRECT($A$14&ROW())),\"\"),\"\")","v":""},null,"CM03 TEA (C)",3,null,"CM08 LEMON HONEY (C)",136,null,"CJ06 RIBENA SO",1,null,"CM05 GRN TEA (C)",75,null,"CM04 LEMON TEA (C)",66,null,"CE06 HNY GRN TEA (C)",2,null,"CD03 PEPSI",1]
[{"$f":"IFERROR(IF(INDIRECT($A$14&ROW())<>\"\",COUNTIF([2]Summary!$B$30:$B$1029,INDIRECT($A$14&ROW())),\"\"),\"\")","v":""},null,"CN12 CHAMOMILE (H)",3,null,"CM04 LEMON TEA (C)",63,null,"CL01 7 UP",17,null,"CM06 HNY GRN TEA (C)",99,null,"CM01 MILO (C)",27,null,"CM07 HONEY (C)",26,null,"CM05 GRN TEA (C)",59]
[{"$f":"IFERROR(IF(INDIRECT($A$14&ROW())<>\"\",COUNTIF([2]Summary!$B$30:$B$1029,INDIRECT($A$14&ROW())),\"\"),\"\")","v":""},null,"CN14 EARL GREY (H)",2,null,"CM01 MILO (C)",41,null,"CL02 7 UP REVIVE",1,null,"CM07 HONEY (C)",24,null,"CM02 NESCAFE (C)",10,null,"CM08 LEMON HONEY (C)",170,null,"CM06 HNY GRN TEA (C)",115]
[{"$f":"IFERROR(IF(INDIRECT($A$14&ROW())<>\"\",COUNTIF([2]Summary!$B$30:$B$1029,INDIRECT($A$14&ROW())),\"\"),\"\")","v":""},null,"CN05 GRN TEA (H)",21,null,"CM02 NESCAFE (C)",13,null,"CL03 PEPSI",90,null,"CM08 LEMON HONEY (C)",191,null,"CM03 TEA (C)",3,null,"CM04 LEMON TEA (C)",114,null,"CM07 HONEY (C)",11]
[{"$f":"IFERROR(IF(INDIRECT($A$14&ROW())<>\"\",COUNTIF([2]Summary!$B$30:$B$1029,INDIRECT($A$14&ROW())),\"\"),\"\")","v":""},null,"CN06 HNY GRN TEA (H)",33,null,"CN12 CHAMOMILE (H)",9,null,"CM05 GRN TEA (C)",37,null,"CM04 LEMON TEA (C)",119,null,"CN12 CHAMOMILE (H)",13,null,"CM01 MILO (C)",34,null,"CM08 LEMON HONEY (C)",193]
[{"$f":"IFERROR(IF(INDIRECT($A$14&ROW())<>\"\",COUNTIF([2]Summary!$B$30:$B$1029,INDIRECT($A$14&ROW())),\"\"),\"\")","v":""},null,"CF06 HNY GRN TEA (H)",1,null,"CN13 DARJEELING (H)",1,null,"CM06 HNY GRN TEA (C)",58,null,"CM01 MILO (C)",35,null,"CN13 DARJEELING (H)",1,null,"CM02 NESCAFE (C)",13,null,"CE08 LEMON HONEY (C)"]
[{"$f":"IFERROR(IF(INDIRECT($A$14&ROW())<>\"\",COUNTIF([2]Summary!$B$30:$B$1029,INDIRECT($A$14&ROW())),\"\"),\"\")","v":""},null,"CN07 HONEY (H)",10,null,"CN14 EARL GREY (H)",1,null,"CM07 HONEY (C)",20,null,"CM02 NESCAFE (C)",11,null,"CN14 EARL GREY (H)",12,null,"CM03 TEA (C)",3,null,"CM04 LEMON TEA (C)",89]
[{"$f":"IFERROR(IF(INDIRECT($A$14&ROW())<>\"\",COUNTIF([2]Summary!$B$30:$B$1029,INDIRECT($A$14&ROW())),\"\"),\"\")","v":""},null,"CN08 LEMON HONEY (H)",76,null,"CN05 GRN TEA (H)",24,null,"CM08 LEMON HONEY (C)",109,null,"CM03 TEA (C)",5,null,"CN05 GRN TEA (H)",19,null,"CN12 CHAMOMILE (H)",16,null,"CM01 MILO (C)",44]
[{"$f":"IFERROR(IF(INDIRECT($A$14&ROW())<>\"\",COUNTIF([2]Summary!$B$30:$B$1029,INDIRECT($A$14&ROW())),\"\"),\"\")","v":""},null,"CN04 LEMON TEA (H)",5,null,"CN06 HNY GRN TEA (H)",29,null,"CM04 LEMON TEA (C)",69,null,"CN12 CHAMOMILE (H)",7,null,"CF05 GRN TEA (H)",1,null,"CF10 CHOCOLATE (H)",1,null,"CM02 NESCAFE (C)",16]
[{"$f":"IFERROR(IF(INDIRECT($A$14&ROW())<>\"\",COUNTIF([2]Summary!$B$30:$B$1029,INDIRECT($A$14&ROW())),\"\"),\"\")","v":""},null,"CN01 MILO (H)",14,null,"CN07 HONEY (H)",12,null,"CM01 MILO (C)",36,null,"CN13 DARJEELING (H)",1,null,"CN06 HNY GRN TEA (H)",75,null,"CN13 DARJEELING (H)",1,null,"CM03 TEA (C)",3]
[{"$f":"IFERROR(IF(INDIRECT($A$14&ROW())<>\"\",COUNTIF([2]Summary!$B$30:$B$1029,INDIRECT($A$14&ROW())),\"\"),\"\")","v":""},null,"CN02 NESCAFE (H)",5,null,"CN08 LEMON HONEY (H)",113,null,"CM02 NESCAFE (C)",14,null,"CN14 EARL GREY (H)",1,null,"CN07 HONEY (H)",24,null,"CN14 EARL GREY (H)",2,null,"CN12 CHAMOMILE (H)",11]
[{"$f":"IFERROR(IF(INDIRECT($A$14&ROW())<>\"\",COUNTIF([2]Summary!$B$30:$B$1029,INDIRECT($A$14&ROW())),\"\"),\"\")","v":""},null,"CN03 TEA (H)",1,null,"CN04 LEMON TEA (H)",11,null,"CM03 TEA (C)",1,null,"CN05 GRN TEA (H)",16,null,"CN08 LEMON HONEY (H)",160,null,"CN05 GRN TEA (H)",37,null,"CN13 DARJEELING (H)",4]
[{"$f":"IFERROR(IF(INDIRECT($A$14&ROW())<>\"\",COUNTIF([2]Summary!$B$30:$B$1029,INDIRECT($A$14&ROW())),\"\"),\"\")","v":""},null,"CO02 PLAIN WATER",27,null,"CN01 MILO (H)",27,null,"CN12 CHAMOMILE (H)",2,null,"CN06 HNY GRN TEA (H)",54,null,"CN04 LEMON TEA (H)",11,null,"CN06 HNY GRN TEA (H)",42,null,"CN05 GRN TEA (H)",27]
[{"$f":"IFERROR(IF(INDIRECT($A$14&ROW())<>\"\",COUNTIF([2]Summary!$B$30:$B$1029,INDIRECT($A$14&ROW())),\"\"),\"\")","v":""},null,"DB01 1001:BP CKN CP",2,null,"CN02 NESCAFE (H)",5,null,"CN13 DARJEELING (H)",1,null,"CN07 HONEY (H)",25,null,"CN01 MILO (H)",22,null,"CN07 HONEY (H)",33,null,"CN06 HNY GRN TEA (H)",25]
[{"$f":"IFERROR(IF(INDIRECT($A$14&ROW())<>\"\",COUNTIF([2]Summary!$B$30:$B$1029,INDIRECT($A$14&ROW())),\"\"),\"\")","v":""},null,"DB03 1003:MSR CKN CP",1,null,"CN03 TEA (H)",2,null,"CN14 EARL GREY (H)",5,null,"CN08 LEMON HONEY (H)",127,null,"CN02 NESCAFE (H)",12,null,"CN08 LEMON HONEY (H)",163,null,"CN07 HONEY (H)",16]
[{"$f":"IFERROR(IF(INDIRECT($A$14&ROW())<>\"\",COUNTIF([2]Summary!$B$30:$B$1029,INDIRECT($A$14&ROW())),\"\"),\"\")","v":""},null,"DB06 1006:SPAGHETTI",1,null,"CG01 MINERAL WATER",4,null,"CN05 GRN TEA (H)",9,null,"CN04 LEMON TEA (H)",16,null,"CN03 TEA (H)",6,null,"CF08 LEMON HONEY (H)",3,null,"CN08 LEMON HONEY (H)",112]
[{"$f":"IFERROR(IF(INDIRECT($A$14&ROW())<>\"\",COUNTIF([2]Summary!$B$30:$B$1029,INDIRECT($A$14&ROW())),\"\"),\"\")","v":""},null,"DB07 1007:CHK SALAD",1,null,"CO02 PLAIN WATER",35,null,"CN06 HNY GRN TEA (H)",23,null,"CN01 MILO (H)",36,null,"CG01 MINERAL WATER",1,null,"CN04 LEMON TEA (H)",20,null,"CN04 LEMON TEA (H)",15]
[{"$f":"IFERROR(IF(INDIRECT($A$14&ROW())<>\"\",COUNTIF([2]Summary!$B$30:$B$1029,INDIRECT($A$14&ROW())),\"\"),\"\")","v":""},null,"DG01 91001:BP CHK CP",11,null,"DB01 1001:BP CKN CP",4,null,"CN07 HONEY (H)",19,null,"CN02 NESCAFE (H)",13,null,"CO02 PLAIN WATER",64,null,"CN01 MILO (H)",46,null,"CN01 MILO (H)",32]
[{"$f":"IFERROR(IF(INDIRECT($A$14&ROW())<>\"\",COUNTIF([2]Summary!$B$30:$B$1029,INDIRECT($A$14&ROW())),\"\"),\"\")","v":""},null,"DG02 91002:GVY CHK CP",3,null,"DB03 1003:MSR CKN CP",4,null,"CN08 LEMON HONEY (H)",65,null,"CN03 TEA (H)",3,null,"DB01 1001:BP CKN CP",3,null,"CN02 NESCAFE (H)",20,null,"CF11 MOCHA (H)",1]
[{"$f":"IFERROR(IF(INDIRECT($A$14&ROW())<>\"\",COUNTIF([2]Summary!$B$30:$B$1029,INDIRECT($A$14&ROW())),\"\"),\"\")","v":""},null,"DG03 91003:MSR CHK CP",10,null,"DB04 1004:CKN MARY",1,null,"CN04 LEMON TEA (H)",1,null,"CG01 MINERAL WATER",1,null,"DB02 1002:GVY CHK CP",1,null,"CN03 TEA (H)",5,null,"CN02 NESCAFE (H)",19]
[{"$f":"IFERROR(IF(INDIRECT($A$14&ROW())<>\"\",COUNTIF([2]Summary!$B$30:$B$1029,INDIRECT($A$14&ROW())),\"\"),\"\")","v":""},null,"DG04 91004:CKN MARY",7,null,"DB05 1005:FISH&CHIP",1,null,"CN01 MILO (H)",23,null,"CO02 PLAIN WATER",61,null,"DB03 1003:MSR CKN CP",3,null,"CG01 MINERAL WATER",2,null,"CN03 TEA (H)",4]
[{"$f":"IFERROR(IF(INDIRECT($A$14&ROW())<>\"\",COUNTIF([2]Summary!$B$30:$B$1029,INDIRECT($A$14&ROW())),\"\"),\"\")","v":""},null,"DG05 91005:FISH&CHIP",8,null,"DB06 1006:SPAGHETTI",3,null,"CN02 NESCAFE (H)",12,null,"DB01 1001:BP CKN CP",2,null,"DB05 1005:FISH&CHIP",1,null,"CO02 PLAIN WATER",54,null,"CO02 PLAIN WATER",41]
[{"$f":"IFERROR(IF(INDIRECT($A$14&ROW())<>\"\",COUNTIF([2]Summary!$B$30:$B$1029,INDIRECT($A$14&ROW())),\"\"),\"\")","v":""},null,"DG06 91006:SPAGHETTI",4,null,"DB07 1007:CHK SALAD",2,null,"CN03 TEA (H)",1,null,"DB02 1002:GVY CHK CP",1,null,"DB06 1006:SPAGHETTI",2,null,"",null,null,"DB01 1001:BP CKN CP",2]
[{"$f":"IFERROR(IF(INDIRECT($A$14&ROW())<>\"\",COUNTIF([2]Summary!$B$30:$B$1029,INDIRECT($A$14&ROW())),\"\"),\"\")","v":""},null,"DG07 91007:CHK SALAD",2,null,"DG01 91001:BP CHK CP",8,null,"CG01 MINERAL WATER",5,null,"DB03 1003:MSR CKN CP",3,null,"DB07 1007:CHK SALAD",1,null,"DB01 1001:BP CKN CP",3,null,"DB04 1004:CKN MARY",1]
[{"$f":"IFERROR(IF(INDIRECT($A$14&ROW())<>\"\",COUNTIF([2]Summary!$B$30:$B$1029,INDIRECT($A$14&ROW())),\"\"),\"\")","v":""},null,"DC01 1101:THAI CHK",3,null,"DG03 91003:MSR CHK CP",7,null,"CO02 PLAIN WATER",37,null,"DB04 1004:CKN MARY",1,null,"DG01 91001:BP CHK CP",9,null,"DB02 1002:GVY CHK CP",1,null,"DB05 1005:FISH&CHIP",4]
[{"$f":"IFERROR(IF(INDIRECT($A$14&ROW())<>\"\",COUNTIF([2]Summary!$B$30:$B$1029,INDIRECT($A$14&ROW())),\"\"),\"\")","v":""},null,"DC02 1102:MAMITE CHK",4,null,"DG04 91004:CKN MARY",3,null,"DB04 1004:CKN MARY",1,null,"DB05 1005:FISH&CHIP",3,null,"DG02 91002:GVY CHK CP",5,null,"DB03 1003:MSR CKN CP",2,null,"DB06 1006:SPAGHETTI",4]
[{"$f":"IFERROR(IF(INDIRECT($A$14&ROW())<>\"\",COUNTIF([2]Summary!$B$30:$B$1029,INDIRECT($A$14&ROW())),\"\"),\"\")","v":""},null,"DC03 1103:KO PO CHK",2,null,"DG05 91005:FISH&CHIP",8,null,"DB06 1006:SPAGHETTI",3,null,"DB06 1006:SPAGHETTI",2,null,"DG03 91003:MSR CHK CP",18,null,"DB04 1004:CKN MARY",1,null,"DG01 91001:BP CHK CP",29]
[{"$f":"IFERROR(IF(INDIRECT($A$14&ROW())<>\"\",COUNTIF([2]Summary!$B$30:$B$1029,INDIRECT($A$14&ROW())),\"\"),\"\")","v":""},null,"DC05 1105:BUTTER CHK",3,null,"DG06 91006:SPAGHETTI",4,null,"DG01 91001:BP CHK CP",4,null,"DB07 1007:CHK SALAD",2,null,"DG04 91004:CKN MARY",11,null,"DB05 1005:FISH&CHIP",3,null,"DG02 91002:GVY CHK CP",2]
[{"$f":"IFERROR(IF(INDIRECT($A$14&ROW())<>\"\",COUNTIF([2]Summary!$B$30:$B$1029,INDIRECT($A$14&ROW())),\"\"),\"\")","v":""},null,"DC06 1106:HK F.RICE",2,null,"DC01 1101:THAI CHK",2,null,"DG02 91002:GVY CHK CP",2,null,"DG01 91001:BP CHK CP",30,null,"DG05 91005:FISH&CHIP",29,null,"DB06 1006:SPAGHETTI",1,null,"DG03 91003:MSR CHK CP",22]
[{"$f":"IFERROR(IF(INDIRECT($A$14&ROW())<>\"\",COUNTIF([2]Summary!$B$30:$B$1029,INDIRECT($A$14&ROW())),\"\"),\"\")","v":""},null,"DC07 1107:SBL F.RICE",5,null,"DC03 1103:KO PO CHK",4,null,"DG03 91003:MSR CHK CP",7,null,"DG02 91002:GVY CHK CP",6,null,"DG06 91006:SPAGHETTI",6,null,"DB07 1007:CHK SALAD",2,null,"DG04 91004:CKN MARY",24]
[{"$f":"IFERROR(IF(INDIRECT($A$14&ROW())<>\"\",COUNTIF([2]Summary!$B$30:$B$1029,INDIRECT($A$14&ROW())),\"\"),\"\")","v":""},null,"DC10 1110:NISSIN",2,null,"DC05 1105:BUTTER CHK",8,null,"DG04 91004:CKN MARY",9,null,"DG03 91003:MSR CHK CP",21,null,"DG07 91007:CHK SALAD",8,null,"DG01 91001:BP CHK CP",15,null,"DG05 91005:FISH&CHIP",20]
[{"$f":"IFERROR(IF(INDIRECT($A$14&ROW())<>\"\",COUNTIF([2]Summary!$B$30:$B$1029,INDIRECT($A$14&ROW())),\"\"),\"\")","v":""},null,"DC13 1113:KUEY TEOW",3,null,"DC06 1106:HK F.RICE",3,null,"DG05 91005:FISH&CHIP",8,null,"DG04 91004:CKN MARY",19,null,"DC01 1101:THAI CHK",5,null,"DG02 91002:GVY CHK CP",1,null,"DG06 91006:SPAGHETTI",14]
[{"$f":"IFERROR(IF(INDIRECT($A$14&ROW())<>\"\",COUNTIF([2]Summary!$B$30:$B$1029,INDIRECT($A$14&ROW())),\"\"),\"\")","v":""},null,"DH01 91101:THAI CHK",8,null,"DC07 1107:SBL F.RICE",1,null,"DG06 91006:SPAGHETTI",2,null,"DG05 91005:FISH&CHIP",26,null,"DC02 1102:MAMITE CHK",3,null,"DG03 91003:MSR CHK CP",13,null,"DG07 91007:CHK SALAD",13]
[{"$f":"IFERROR(IF(INDIRECT($A$14&ROW())<>\"\",COUNTIF([2]Summary!$B$30:$B$1029,INDIRECT($A$14&ROW())),\"\"),\"\")","v":""},null,"DH02 91102:MAMITE CHK",1,null,"DC08 1108:SBL F.MEE",1,null,"DG07 91007:CHK SALAD",1,null,"DG06 91006:SPAGHETTI",12,null,"DC03 1103:KO PO CHK",2,null,"DG04 91004:CKN MARY",17,null,"DC01 1101:THAI CHK",2]
[{"$f":"IFERROR(IF(INDIRECT($A$14&ROW())<>\"\",COUNTIF([2]Summary!$B$30:$B$1029,INDIRECT($A$14&ROW())),\"\"),\"\")","v":""},null,"DH03 91103:KO PO CHK",2,null,"DC09 1109:BP UDON",3,null,"DC01 1101:THAI CHK",8,null,"DG07 91007:CHK SALAD",10,null,"DC05 1105:BUTTER CHK",4,null,"DG05 91005:FISH&CHIP",21,null,"DC02 1102:MAMITE CHK",2]
[{"$f":"IFERROR(IF(INDIRECT($A$14&ROW())<>\"\",COUNTIF([2]Summary!$B$30:$B$1029,INDIRECT($A$14&ROW())),\"\"),\"\")","v":""},null,"DH04 91104:S&S CHK",3,null,"DC10 1110:NISSIN",1,null,"DC03 1103:KO PO CHK",2,null,"DC01 1101:THAI CHK",3,null,"DC06 1106:HK F.RICE",1,null,"DG06 91006:SPAGHETTI",15,null,"DC05 1105:BUTTER CHK",5]
[{"$f":"IFERROR(IF(INDIRECT($A$14&ROW())<>\"\",COUNTIF([2]Summary!$B$30:$B$1029,INDIRECT($A$14&ROW())),\"\"),\"\")","v":""},null,"DH05 91105:BUTTER CHK",7,null,"DC12 1112:NASI LEMAK",4,null,"DC04 1104:S&S CHK",1,null,"DC02 1102:MAMITE CHK",5,null,"DC07 1107:SBL F.RICE",2,null,"DG07 91007:CHK SALAD",4,null,"DC06 1106:HK F.RICE",2]
[{"$f":"IFERROR(IF(INDIRECT($A$14&ROW())<>\"\",COUNTIF([2]Summary!$B$30:$B$1029,INDIRECT($A$14&ROW())),\"\"),\"\")","v":""},null,"DH06 91106:HK F.RICE",3,null,"DC13 1113:KUEY TEOW",1,null,"DC05 1105:BUTTER CHK",2,null,"DC04 1104:S&S CHK",3,null,"DC09 1109:BP UDON",2,null,"DC01 1101:THAI CHK",6,null,"DC07 1107:SBL F.RICE",2]
[{"$f":"IFERROR(IF(INDIRECT($A$14&ROW())<>\"\",COUNTIF([2]Summary!$B$30:$B$1029,INDIRECT($A$14&ROW())),\"\"),\"\")","v":""},null,"DH07 91107:SBL F.RICE",1,null,"DH01 91101:THAI CHK",5,null,"DC06 1106:HK F.RICE",2,null,"DC05 1105:BUTTER CHK",3,null,"DC10 1110:NISSIN",2,null,"DC02 1102:MAMITE CHK",5,null,"DC09 1109:BP UDON",1]
[{"$f":"IFERROR(IF(INDIRECT($A$14&ROW())<>\"\",COUNTIF([2]Summary!$B$30:$B$1029,INDIRECT($A$14&ROW())),\"\"),\"\")","v":""},null,"DH08 91108:SBL F.MEE",1,null,"DH02 91102:MAMITE CHK",3,null,"DC07 1107:SBL F.RICE",2,null,"DC06 1106:HK F.RICE",4,null,"DC11 1111:VEG RICE",1,null,"DC03 1103:KO PO CHK",3,null,"DC10 1110:NISSIN",3]
[{"$f":"IFERROR(IF(INDIRECT($A$14&ROW())<>\"\",COUNTIF([2]Summary!$B$30:$B$1029,INDIRECT($A$14&ROW())),\"\"),\"\")","v":""},null,"DH09 91109:BP UDON",2,null,"DH03 91103:KO PO CHK",3,null,"DC09 1109:BP UDON",1,null,"DC07 1107:SBL F.RICE",6,null,"DC12 1112:NASI LEMAK",1,null,"DC04 1104:S&S CHK",1,null,"DC12 1112:NASI LEMAK",2]
[{"$f":"IFERROR(IF(INDIRECT($A$14&ROW())<>\"\",COUNTIF([2]Summary!$B$30:$B$1029,INDIRECT($A$14&ROW())),\"\"),\"\")","v":""},null,"DH10 91110:NISSIN",1,null,"DH04 91104:S&S CHK",3,null,"DC13 1113:KUEY TEOW",1,null,"DC08 1108:SBL F.MEE",2,null,"DC13 1113:KUEY TEOW",1,null,"DC05 1105:BUTTER CHK",9,null,"DC13 1113:KUEY TEOW",1]
[{"$f":"IFERROR(IF(INDIRECT($A$14&ROW())<>\"\",COUNTIF([2]Summary!$B$30:$B$1029,INDIRECT($A$14&ROW())),\"\"),\"\")","v":""},null,"DH12 91112:NASI LEMAK",1,null,"DH05 91105:BUTTER CHK",2,null,"DC15 1115:CHK NOODLE",1,null,"DC09 1109:BP UDON",2,null,"DH01 91101:THAI CHK",6,null,"DC07 1107:SBL F.RICE",4,null,"DH01 91101:THAI CHK",6]
[{"$f":"IFERROR(IF(INDIRECT($A$14&ROW())<>\"\",COUNTIF([2]Summary!$B$30:$B$1029,INDIRECT($A$14&ROW())),\"\"),\"\")","v":""},null,"DH13 91113:KUEY TEOW",2,null,"DH06 91106:HK F.RICE",4,null,"DH01 91101:THAI CHK",1,null,"DC10 1110:NISSIN",6,null,"DH02 91102:MAMITE CHK",8,null,"DC08 1108:SBL F.MEE",2,null,"DH02 91102:MAMITE CHK",9]
[{"$f":"IFERROR(IF(INDIRECT($A$14&ROW())<>\"\",COUNTIF([2]Summary!$B$30:$B$1029,INDIRECT($A$14&ROW())),\"\"),\"\")","v":""},null,"DH14 91114:F.BALL MEE",2,null,"DH07 91107:SBL F.RICE",7,null,"DH02 91102:MAMITE CHK",1,null,"DC13 1113:KUEY TEOW",4,null,"DH03 91103:KO PO CHK",8,null,"DC09 1109:BP UDON",1,null,"DH03 91103:KO PO CHK",6]
[{"$f":"IFERROR(IF(INDIRECT($A$14&ROW())<>\"\",COUNTIF([2]Summary!$B$30:$B$1029,INDIRECT($A$14&ROW())),\"\"),\"\")","v":""},null,"DH15 91115:CHK NOODLE",1,null,"DH08 91108:SBL F.MEE",2,null,"DH03 91103:KO PO CHK",3,null,"DC14 1114:F.BALL MEE",1,null,"DH04 91104:S&S CHK",2,null,"DC10 1110:NISSIN",2,null,"DH04 91104:S&S CHK",3]
[{"$f":"IFERROR(IF(INDIRECT($A$14&ROW())<>\"\",COUNTIF([2]Summary!$B$30:$B$1029,INDIRECT($A$14&ROW())),\"\"),\"\")","v":""},null,"DD07 1207:SAUSAGE",1,null,"DH09 91109:BP UDON",3,null,"DH04 91104:S&S CHK",4,null,"DC15 1115:CHK NOODLE",1,null,"DH05 91105:BUTTER CHK",21,null,"DC12 1112:NASI LEMAK",2,null,"DH05 91105:BUTTER CHK",18]
[{"$f":"IFERROR(IF(INDIRECT($A$14&ROW())<>\"\",COUNTIF([2]Summary!$B$30:$B$1029,INDIRECT($A$14&ROW())),\"\"),\"\")","v":""},null,"DD11 1302:NUGGET",1,null,"DH10 91110:NISSIN",3,null,"DH05 91105:BUTTER CHK",5,null,"DH01 91101:THAI CHK",13,null,"DH06 91106:HK F.RICE",10,null,"DH01 91101:THAI CHK",9,null,"DH06 91106:HK F.RICE",10]
[{"$f":"IFERROR(IF(INDIRECT($A$14&ROW())<>\"\",COUNTIF([2]Summary!$B$30:$B$1029,INDIRECT($A$14&ROW())),\"\"),\"\")","v":""},null,"DD12 1303:CHK WING",2,null,"DH11 91111:VEG RICE",1,null,"DH06 91106:HK F.RICE",4,null,"DH02 91102:MAMITE CHK",8,null,"DH07 91107:SBL F.RICE",2,null,"DH02 91102:MAMITE CHK",8,null,"DH07 91107:SBL F.RICE",3]
[{"$f":"IFERROR(IF(INDIRECT($A$14&ROW())<>\"\",COUNTIF([2]Summary!$B$30:$B$1029,INDIRECT($A$14&ROW())),\"\"),\"\")","v":""},null,"DI02 91202:FREN FRIES",1,null,"DH12 91112:NASI LEMAK",1,null,"DH07 91107:SBL F.RICE",3,null,"DH03 91103:KO PO CHK",5,null,"DH08 91108:SBL F.MEE",1,null,"DH03 91103:KO PO CHK",3,null,"DH09 91109:BP UDON",4]
[{"$f":"IFERROR(IF(INDIRECT($A$14&ROW())<>\"\",COUNTIF([2]Summary!$B$30:$B$1029,INDIRECT($A$14&ROW())),\"\"),\"\")","v":""},null,"DI07 91207:SAUSAGE",1,null,"DH13 91113:KUEY TEOW",1,null,"DH09 91109:BP UDON",2,null,"DH04 91104:S&S CHK",3,null,"DH09 91109:BP UDON",1,null,"DH05 91105:BUTTER CHK",7,null,"DH10 91110:NISSIN",4]
[{"$f":"IFERROR(IF(INDIRECT($A$14&ROW())<>\"\",COUNTIF([2]Summary!$B$30:$B$1029,INDIRECT($A$14&ROW())),\"\"),\"\")","v":""},null,"DI11 91302:NUGGET",3,null,"DH15 91115:CHK NOODLE",1,null,"DH10 91110:NISSIN",4,null,"DH05 91105:BUTTER CHK",17,null,"DH10 91110:NISSIN",6,null,"DH06 91106:HK F.RICE",10,null,"DH12 91112:NASI LEMAK",9]
[{"$f":"IFERROR(IF(INDIRECT($A$14&ROW())<>\"\",COUNTIF([2]Summary!$B$30:$B$1029,INDIRECT($A$14&ROW())),\"\"),\"\")","v":""},null,"DI12 91303:CHK WING",3,null,"DD02 1202:FREN FRIES",1,null,"DH11 91111:VEG RICE",1,null,"DH06 91106:HK F.RICE",10,null,"DH11 91111:VEG RICE",5,null,"DH07 91107:SBL F.RICE",7,null,"DH13 91113:KUEY TEOW",7]
[{"$f":"IFERROR(IF(INDIRECT($A$14&ROW())<>\"\",COUNTIF([2]Summary!$B$30:$B$1029,INDIRECT($A$14&ROW())),\"\"),\"\")","v":""},null,"DE02 SET 1390",4,null,"DD12 1303:CHK WING",2,null,"DH12 91112:NASI LEMAK",3,null,"DH07 91107:SBL F.RICE",7,null,"DH12 91112:NASI LEMAK",2,null,"DH08 91108:SBL F.MEE",1,null,"DH14 91114:F.BALL MEE",2]
[{"$f":"IFERROR(IF(INDIRECT($A$14&ROW())<>\"\",COUNTIF([2]Summary!$B$30:$B$1029,INDIRECT($A$14&ROW())),\"\"),\"\")","v":""},null,"DE01 SET 990",4,null,"DD13 1304:IKAN BILIS",1,null,"DH13 91113:KUEY TEOW",1,null,"DH09 91109:BP UDON",8,null,"DH13 91113:KUEY TEOW",1,null,"DH10 91110:NISSIN",5,null,"DH15 91115:CHK NOODLE",2]
[{"$f":"IFERROR(IF(INDIRECT($A$14&ROW())<>\"\",COUNTIF([2]Summary!$B$30:$B$1029,INDIRECT($A$14&ROW())),\"\"),\"\")","v":""},null,"DF07 ADD SAUCE C.PADI",1,null,"DI02 91202:FREN FRIES",1,null,"DH14 91114:F.BALL MEE",2,null,"DH10 91110:NISSIN",3,null,"DH14 91114:F.BALL MEE",3,null,"DH11 91111:VEG RICE",1,null,"DD02 1202:FREN FRIES",3]
[{"$f":"IFERROR(IF(INDIRECT($A$14&ROW())<>\"\",COUNTIF([2]Summary!$B$30:$B$1029,INDIRECT($A$14&ROW())),\"\"),\"\")","v":""},null,"DF09 ADD SAUCE MAYO",4,null,"DI03 91203:GOLD MROOM",2,null,"DH15 91115:CHK NOODLE",2,null,"DH11 91111:VEG RICE",4,null,"DH15 91115:CHK NOODLE",1,null,"DH12 91112:NASI LEMAK",1,null,"DD03 1203:GOLD MROOM",1]
[{"$f":"IFERROR(IF(INDIRECT($A$14&ROW())<>\"\",COUNTIF([2]Summary!$B$30:$B$1029,INDIRECT($A$14&ROW())),\"\"),\"\")","v":""},null,"DF13 ADD SAUCE THAI",1,null,"DI11 91302:NUGGET",1,null,"DD11 1302:NUGGET",1,null,"DH12 91112:NASI LEMAK",5,null,"DD02 1202:FREN FRIES",3,null,"DH13 91113:KUEY TEOW",3,null,"DD04 1204:FISHBALL",1]
[{"$f":"IFERROR(IF(INDIRECT($A$14&ROW())<>\"\",COUNTIF([2]Summary!$B$30:$B$1029,INDIRECT($A$14&ROW())),\"\"),\"\")","v":""},null,"DF14 ADD SAUCE TOMATO",4,null,"DE02 SET 1390",11,null,"DD14 1305:THAI RL",1,null,"DH13 91113:KUEY TEOW",1,null,"DD03 1203:GOLD MROOM",2,null,"DH14 91114:F.BALL MEE",1,null,"DD06 1206:SPRING RL",1]
[{"$f":"IFERROR(IF(INDIRECT($A$14&ROW())<>\"\",COUNTIF([2]Summary!$B$30:$B$1029,INDIRECT($A$14&ROW())),\"\"),\"\")","v":""},null,"DF17 CHRGE SAUCE",2,null,"DE01 SET 990",6,null,"DI11 91302:NUGGET",1,null,"DH14 91114:F.BALL MEE",4,null,"DD06 1206:SPRING RL",1,null,"DH15 91115:CHK NOODLE",4,null,"DD11 1302:NUGGET",1]
[{"$f":"IFERROR(IF(INDIRECT($A$14&ROW())<>\"\",COUNTIF([2]Summary!$B$30:$B$1029,INDIRECT($A$14&ROW())),\"\"),\"\")","v":""},null,"GC01 CARD NEW",2,null,"DF05 ADD SAUCE BP",1,null,"DI12 91303:CHK WING",3,null,"DH15 91115:CHK NOODLE",2,null,"DD07 1207:SAUSAGE",1,null,"DD02 1202:FREN FRIES",2,null,"DD12 1303:CHK WING",2]
[{"$f":"IFERROR(IF(INDIRECT($A$14&ROW())<>\"\",COUNTIF([2]Summary!$B$30:$B$1029,INDIRECT($A$14&ROW())),\"\"),\"\")","v":""},null,"GD02 MIC COVER 03",2,null,"DF09 ADD SAUCE MAYO",3,null,"DE02 SET 1390",7,null,"DD02 1202:FREN FRIES",2,null,"DD10 1301:DUMPLING",3,null,"DD04 1204:FISHBALL",1,null,"DD14 1305:THAI RL",2]
[{"$f":"IFERROR(IF(INDIRECT($A$14&ROW())<>\"\",COUNTIF([2]Summary!$B$30:$B$1029,INDIRECT($A$14&ROW())),\"\"),\"\")","v":""},null,"GE01 DUNHILL",3,null,"GC01 CARD NEW",1,null,"DE01 SET 990",6,null,"DD03 1203:GOLD MROOM",2,null,"DD11 1302:NUGGET",1,null,"DD06 1206:SPRING RL",2,null,"DI02 91202:FREN FRIES",2]
[{"$f":"IFERROR(IF(INDIRECT($A$14&ROW())<>\"\",COUNTIF([2]Summary!$B$30:$B$1029,INDIRECT($A$14&ROW())),\"\"),\"\")","v":""},null,"GE07 DUNHILL ICE",1,null,"GE01 DUNHILL",5,null,"DF01 ADD RICE",2,null,"DD04 1204:FISHBALL",4,null,"DD12 1303:CHK WING",2,null,"DD10 1301:DUMPLING",1,null,"DI04 91204:FISHBALL",2]
[{"$f":"IFERROR(IF(INDIRECT($A$14&ROW())<>\"\",COUNTIF([2]Summary!$B$30:$B$1029,INDIRECT($A$14&ROW())),\"\"),\"\")","v":""},null,"GE02 DUNHILL LITE",1,null,"GE03 DUNHILL MT",1,null,"DF07 ADD SAUCE C.PADI",7,null,"DD10 1301:DUMPLING",1,null,"DD13 1304:IKAN BILIS",1,null,"DD11 1302:NUGGET",2,null,"DI06 91206:SPRING RL",4]
[{"$f":"IFERROR(IF(INDIRECT($A$14&ROW())<>\"\",COUNTIF([2]Summary!$B$30:$B$1029,INDIRECT($A$14&ROW())),\"\"),\"\")","v":""},null,"GE04 DUNHILL MT LITE",1,null,"GF04 KENT NEO",1,null,"DF09 ADD SAUCE MAYO",3,null,"DD11 1302:NUGGET",1,null,"DI02 91202:FREN FRIES",8,null,"DD12 1303:CHK WING",3,null,"DI10 91301:DUMPLING",4]
[{"$f":"IFERROR(IF(INDIRECT($A$14&ROW())<>\"\",COUNTIF([2]Summary!$B$30:$B$1029,INDIRECT($A$14&ROW())),\"\"),\"\")","v":""},null,"GA09 LIGHTER",1,null,"GF01 KENT ORIGINAL",1,null,"DF12 ADD SAUCE SAMBAL",3,null,"DD12 1303:CHK WING",3,null,"DI04 91204:FISHBALL",3,null,"DI01 91201:SFD STICK",2,null,"DI11 91302:NUGGET",7]
[{"$f":"IFERROR(IF(INDIRECT($A$14&ROW())<>\"\",COUNTIF([2]Summary!$B$30:$B$1029,INDIRECT($A$14&ROW())),\"\"),\"\")","v":""},null,null,null,null,"GA09 LIGHTER",3,null,"DF14 ADD SAUCE TOMATO",1,null,"DD13 1304:IKAN BILIS",1,null,"DI06 91206:SPRING RL",4,null,"DI02 91202:FREN FRIES",3,null,"DI12 91303:CHK WING",7]
[{"$f":"IFERROR(IF(INDIRECT($A$14&ROW())<>\"\",COUNTIF([2]Summary!$B$30:$B$1029,INDIRECT($A$14&ROW())),\"\"),\"\")","v":""},null,null,null,null,null,null,null,"DF17 CHRGE SAUCE",1,null,"DI07 91207:SAUSAGE",1,null,"DI07 91207:SAUSAGE",3,null,"DI03 91203:GOLD MROOM",1,null,"DE02 SET 1390",6]
[{"$f":"IFERROR(IF(INDIRECT($A$14&ROW())<>\"\",COUNTIF([2]Summary!$B$30:$B$1029,INDIRECT($A$14&ROW())),\"\"),\"\")","v":""},null,null,null,null,null,null,null,"EA01 TIDBITS",2,null,"DI10 91301:DUMPLING",1,null,"DI10 91301:DUMPLING",4,null,"DI06 91206:SPRING RL",1,null,"DE01 SET 990",14]
[{"$f":"IFERROR(IF(INDIRECT($A$14&ROW())<>\"\",COUNTIF([2]Summary!$B$30:$B$1029,INDIRECT($A$14&ROW())),\"\"),\"\")","v":""},null,null,null,null,null,null,null,"GD02 MIC COVER 03",1,null,"DI11 91302:NUGGET",5,null,"DI11 91302:NUGGET",8,null,"DI07 91207:SAUSAGE",1,null,"DF03 ADD SAUCE 1000",2]
[{"$f":"IFERROR(IF(INDIRECT($A$14&ROW())<>\"\",COUNTIF([2]Summary!$B$30:$B$1029,INDIRECT($A$14&ROW())),\"\"),\"\")","v":""},null,null,null,null,null,null,null,"GE07 DUNHILL ICE",1,null,"DI12 91303:CHK WING",4,null,"DI12 91303:CHK WING",7,null,"DI10 91301:DUMPLING",1,null,"DF07 ADD SAUCE C.PADI",7]
[{"$f":"IFERROR(IF(INDIRECT($A$14&ROW())<>\"\",COUNTIF([2]Summary!$B$30:$B$1029,INDIRECT($A$14&ROW())),\"\"),\"\")","v":""},null,null,null,null,null,null,null,"GE02 DUNHILL LITE",3,null,"DI13 91304:IKAN BILIS",2,null,"DI13 91304:IKAN BILIS",1,null,"DI11 91302:NUGGET",7,null,"DF09 ADD SAUCE MAYO",9]
[{"$f":"IFERROR(IF(INDIRECT($A$14&ROW())<>\"\",COUNTIF([2]Summary!$B$30:$B$1029,INDIRECT($A$14&ROW())),\"\"),\"\")","v":""},null,null,null,null,null,null,null,"ZAA02 HEINEKEN EX BKT",1,null,"DI14 91305:THAI RL",1,null,"DE02 SET 1390",7,null,"DI12 91303:CHK WING",3,null,"DF14 ADD SAUCE TOMATO",1]
[{"$f":"IFERROR(IF(INDIRECT($A$14&ROW())<>\"\",COUNTIF([2]Summary!$B$30:$B$1029,INDIRECT($A$14&ROW())),\"\"),\"\")","v":""},null,null,null,null,null,null,null,"ZAD16 warm",1,null,"DD19 CNY BEER PLATER",1,null,"DE01 SET 990",11,null,"DE02 SET 1390",14,null,"DF15 ADD TARTAR SAUCE",4]
[{"$f":"IFERROR(IF(INDIRECT($A$14&ROW())<>\"\",COUNTIF([2]Summary!$B$30:$B$1029,INDIRECT($A$14&ROW())),\"\"),\"\")","v":""},null,null,null,null,null,null,null,null,null,null,"DE02 SET 1390",9,null,"DF03 ADD SAUCE 1000",1,null,"DE01 SET 990",19,null,"DF17 CHRGE SAUCE",2]
[{"$f":"IFERROR(IF(INDIRECT($A$14&ROW())<>\"\",COUNTIF([2]Summary!$B$30:$B$1029,INDIRECT($A$14&ROW())),\"\"),\"\")","v":""},null,null,null,null,null,null,null,null,null,null,"DE01 SET 990",5,null,"DF09 ADD SAUCE MAYO",7,null,"DF02 ADD F.EGG",1,null,"EA01 TIDBITS",5]
[{"$f":"IFERROR(IF(INDIRECT($A$14&ROW())<>\"\",COUNTIF([2]Summary!$B$30:$B$1029,INDIRECT($A$14&ROW())),\"\"),\"\")","v":""},null,null,null,null,null,null,null,null,null,null,"DF01 ADD RICE",4,null,"DF14 ADD SAUCE TOMATO",1,null,"DF01 ADD RICE",1,null,"GC01 CARD NEW",2]
[{"$f":"IFERROR(IF(INDIRECT($A$14&ROW())<>\"\",COUNTIF([2]Summary!$B$30:$B$1029,INDIRECT($A$14&ROW())),\"\"),\"\")","v":""},null,null,null,null,null,null,null,null,null,null,"DF03 ADD SAUCE 1000",1,null,"DF15 ADD TARTAR SAUCE",1,null,"DF07 ADD SAUCE C.PADI",4,null,"GC02 CARD REPLACE",2]
[{"$f":"IFERROR(IF(INDIRECT($A$14&ROW())<>\"\",COUNTIF([2]Summary!$B$30:$B$1029,INDIRECT($A$14&ROW())),\"\"),\"\")","v":""},null,null,null,null,null,null,null,null,null,null,"DF07 ADD SAUCE C.PADI",8,null,"GC01 CARD NEW",6,null,"DF09 ADD SAUCE MAYO",12,null,"GD02 MIC COVER 03",6]
[{"$f":"IFERROR(IF(INDIRECT($A$14&ROW())<>\"\",COUNTIF([2]Summary!$B$30:$B$1029,INDIRECT($A$14&ROW())),\"\"),\"\")","v":""},null,null,null,null,null,null,null,null,null,null,"DF09 ADD SAUCE MAYO",2,null,"GC03 STUDENT MEMBER",1,null,"DF12 ADD SAUCE SAMBAL",1,null,"GE05 DUNHILL BOOST",1]
[{"$f":"IFERROR(IF(INDIRECT($A$14&ROW())<>\"\",COUNTIF([2]Summary!$B$30:$B$1029,INDIRECT($A$14&ROW())),\"\"),\"\")","v":""},null,null,null,null,null,null,null,null,null,null,"DF14 ADD SAUCE TOMATO",5,null,"GD02 MIC COVER 03",2,null,"DF14 ADD SAUCE TOMATO",5,null,"GE02 DUNHILL LITE"]
[{"$f":"IFERROR(IF(INDIRECT($A$14&ROW())<>\"\",COUNTIF([2]Summary!$B$30:$B$1029,INDIRECT($A$14&ROW())),\"\"),\"\")","v":""},null,null,null,null,null,null,null,null,null,null,"DF15 ADD TARTAR SAUCE",1,null,"GE01 DUNHILL",3,null,"EA01 TIDBITS",1,null,"GE03 DUNHILL MT",1]
[{"$f":"IFERROR(IF(INDIRECT($A$14&ROW())<>\"\",COUNTIF([2]Summary!$B$30:$B$1029,INDIRECT($A$14&ROW())),\"\"),\"\")","v":""},null,null,null,null,null,null,null,null,null,null,"GC01 CARD NEW",4,null,"GE07 DUNHILL ICE",2,null,"GD02 MIC COVER 03",6,null,"GF01 KENT ORIGINAL",1]
[{"$f":"IFERROR(IF(INDIRECT($A$14&ROW())<>\"\",COUNTIF([2]Summary!$B$30:$B$1029,INDIRECT($A$14&ROW())),\"\"),\"\")","v":""},null,null,null,null,null,null,null,null,null,null,"GC02 CARD REPLACE",1,null,"GE02 DUNHILL LITE",1,null,"GE01 DUNHILL",null,null,"ZAD16 BP sause",1]
[{"$f":"IFERROR(IF(INDIRECT($A$14&ROW())<>\"\",COUNTIF([2]Summary!$B$30:$B$1029,INDIRECT($A$14&ROW())),\"\"),\"\")","v":""},null,null,null,null,null,null,null,null,null,null,"GE01 DUNHILL",4,null,"GE06 DUNHILL SWITCH",1,null,"GE05 DUNHILL BOOST",1,null,"ZAA01 GUINNESS EX BKT",1]
[{"$f":"IFERROR(IF(INDIRECT($A$14&ROW())<>\"\",COUNTIF([2]Summary!$B$30:$B$1029,INDIRECT($A$14&ROW())),\"\"),\"\")","v":""},null,null,null,null,null,null,null,null,null,null,"GE05 DUNHILL BOOST",1,null,"ZAA02 HEINEKEN EX BKT",1,null,"GE07 DUNHILL ICE",2,null,"ZAA02 HEINEKEN EX BKT",3]
[{"$f":"IFERROR(IF(INDIRECT($A$14&ROW())<>\"\",COUNTIF([2]Summary!$B$30:$B$1029,INDIRECT($A$14&ROW())),\"\"),\"\")","v":""},null,null,null,null,null,null,null,null,null,null,"GE07 DUNHILL ICE",1,null,"ZAD16 all warm",1,null,"GE02 DUNHILL LITE",1,null,"ZAD16 warm",1]
[{"$f":"IFERROR(IF(INDIRECT($A$14&ROW())<>\"\",COUNTIF([2]Summary!$B$30:$B$1029,INDIRECT($A$14&ROW())),\"\"),\"\")","v":""},null,null,null,null,null,null,null,null,null,null,"GE02 DUNHILL LITE",1,null,null,null,null,"GE03 DUNHILL MT",2]
[{"$f":"IFERROR(IF(INDIRECT($A$14&ROW())<>\"\",COUNTIF([2]Summary!$B$30:$B$1029,INDIRECT($A$14&ROW())),\"\"),\"\")","v":""},null,null,null,null,null,null,null,null,null,null,"GE06 DUNHILL SWITCH",1,null,null,null,null,"GE06 DUNHILL SWITCH",1]
[{"$f":"IFERROR(IF(INDIRECT($A$14&ROW())<>\"\",COUNTIF([2]Summary!$B$30:$B$1029,INDIRECT($A$14&ROW())),\"\"),\"\")","v":""},null,null,null,null,null,null,null,null,null,null,"GA09 LIGHTER",2,null,null,null,null,"GA09 LIGHTER",1]
[{"$f":"IFERROR(IF(INDIRECT($A$14&ROW())<>\"\",COUNTIF([2]Summary!$B$30:$B$1029,INDIRECT($A$14&ROW())),\"\"),\"\")","v":""},null,null,null,null,null,null,null,null,null,null,"ZAA01 GUINNESS EX BKT",1,null,null,null,null,"ZAA02 HEINEKEN EX BKT",9]
[{"$f":"IFERROR(IF(INDIRECT($A$14&ROW())<>\"\",COUNTIF([2]Summary!$B$30:$B$1029,INDIRECT($A$14&ROW())),\"\"),\"\")","v":""}]
[{"$f":"IFERROR(IF(INDIRECT($A$14&ROW())<>\"\",COUNTIF([2]Summary!$B$30:$B$1029,INDIRECT($A$14&ROW())),\"\"),\"\")","v":""}]
[{"$f":"IFERROR(IF(INDIRECT($A$14&ROW())<>\"\",COUNTIF([2]Summary!$B$30:$B$1029,INDIRECT($A$14&ROW())),\"\"),\"\")","v":""}]
[{"$f":"IFERROR(IF(INDIRECT($A$14&ROW())<>\"\",COUNTIF([2]Summary!$B$30:$B$1029,INDIRECT($A$14&ROW())),\"\"),\"\")","v":""}]
[{"$f":"IFERROR(IF(INDIRECT($A$14&ROW())<>\"\",COUNTIF([2]Summary!$B$30:$B$1029,INDIRECT($A$14&ROW())),\"\"),\"\")","v":""}]
[{"$f":"IFERROR(IF(INDIRECT($A$14&ROW())<>\"\",COUNTIF([2]Summary!$B$30:$B$1029,INDIRECT($A$14&ROW())),\"\"),\"\")","v":""}]
[{"$f":"IFERROR(IF(INDIRECT($A$14&ROW())<>\"\",COUNTIF([2]Summary!$B$30:$B$1029,INDIRECT($A$14&ROW())),\"\"),\"\")","v":""}]
[{"$f":"IFERROR(IF(INDIRECT($A$14&ROW())<>\"\",COUNTIF([2]Summary!$B$30:$B$1029,INDIRECT($A$14&ROW())),\"\"),\"\")","v":""}]
[{"$f":"IFERROR(IF(INDIRECT($A$14&ROW())<>\"\",COUNTIF([2]Summary!$B$30:$B$1029,INDIRECT($A$14&ROW())),\"\"),\"\")","v":""}]
[{"$f":"IFERROR(IF(INDIRECT($A$14&ROW())<>\"\",COUNTIF([2]Summary!$B$30:$B$1029,INDIRECT($A$14&ROW())),\"\"),\"\")","v":""}]
[{"$f":"IFERROR(IF(INDIRECT($A$14&ROW())<>\"\",COUNTIF([2]Summary!$B$30:$B$1029,INDIRECT($A$14&ROW())),\"\"),\"\")","v":""}]
[{"$f":"IFERROR(IF(INDIRECT($A$14&ROW())<>\"\",COUNTIF([2]Summary!$B$30:$B$1029,INDIRECT($A$14&ROW())),\"\"),\"\")","v":""}]
[{"$f":"IFERROR(IF(INDIRECT($A$14&ROW())<>\"\",COUNTIF([2]Summary!$B$30:$B$1029,INDIRECT($A$14&ROW())),\"\"),\"\")","v":""}]
[{"$f":"IFERROR(IF(INDIRECT($A$14&ROW())<>\"\",COUNTIF([2]Summary!$B$30:$B$1029,INDIRECT($A$14&ROW())),\"\"),\"\")","v":""}]
[{"$f":"IFERROR(IF(INDIRECT($A$14&ROW())<>\"\",COUNTIF([2]Summary!$B$30:$B$1029,INDIRECT($A$14&ROW())),\"\"),\"\")","v":""}]
[{"$f":"IFERROR(IF(INDIRECT($A$14&ROW())<>\"\",COUNTIF([2]Summary!$B$30:$B$1029,INDIRECT($A$14&ROW())),\"\"),\"\")","v":""}]
[{"$f":"IFERROR(IF(INDIRECT($A$14&ROW())<>\"\",COUNTIF([2]Summary!$B$30:$B$1029,INDIRECT($A$14&ROW())),\"\"),\"\")","v":""}]
[{"$f":"IFERROR(IF(INDIRECT($A$14&ROW())<>\"\",COUNTIF([2]Summary!$B$30:$B$1029,INDIRECT($A$14&ROW())),\"\"),\"\")","v":""}]
[{"$f":"IFERROR(IF(INDIRECT($A$14&ROW())<>\"\",COUNTIF([2]Summary!$B$30:$B$1029,INDIRECT($A$14&ROW())),\"\"),\"\")","v":""}]
[{"$f":"IFERROR(IF(INDIRECT($A$14&ROW())<>\"\",COUNTIF([2]Summary!$B$30:$B$1029,INDIRECT($A$14&ROW())),\"\"),\"\")","v":""}]
[{"$f":"IFERROR(IF(INDIRECT($A$14&ROW())<>\"\",COUNTIF([2]Summary!$B$30:$B$1029,INDIRECT($A$14&ROW())),\"\"),\"\")","v":""}]
[{"$f":"IFERROR(IF(INDIRECT($A$14&ROW())<>\"\",COUNTIF([2]Summary!$B$30:$B$1029,INDIRECT($A$14&ROW())),\"\"),\"\")","v":""}]
[{"$f":"IFERROR(IF(INDIRECT($A$14&ROW())<>\"\",COUNTIF([2]Summary!$B$30:$B$1029,INDIRECT($A$14&ROW())),\"\"),\"\")","v":""}]
[{"$f":"IFERROR(IF(INDIRECT($A$14&ROW())<>\"\",COUNTIF([2]Summary!$B$30:$B$1029,INDIRECT($A$14&ROW())),\"\"),\"\")","v":""}]
[{"$f":"IFERROR(IF(INDIRECT($A$14&ROW())<>\"\",COUNTIF([2]Summary!$B$30:$B$1029,INDIRECT($A$14&ROW())),\"\"),\"\")","v":""}]
[{"$f":"IFERROR(IF(INDIRECT($A$14&ROW())<>\"\",COUNTIF([2]Summary!$B$30:$B$1029,INDIRECT($A$14&ROW())),\"\"),\"\")","v":""}]
[{"$f":"IFERROR(IF(INDIRECT($A$14&ROW())<>\"\",COUNTIF([2]Summary!$B$30:$B$1029,INDIRECT($A$14&ROW())),\"\"),\"\")","v":""}]
[{"$f":"IFERROR(IF(INDIRECT($A$14&ROW())<>\"\",COUNTIF([2]Summary!$B$30:$B$1029,INDIRECT($A$14&ROW())),\"\"),\"\")","v":""}]
[{"$f":"IFERROR(IF(INDIRECT($A$14&ROW())<>\"\",COUNTIF([2]Summary!$B$30:$B$1029,INDIRECT($A$14&ROW())),\"\"),\"\")","v":""}]
[{"$f":"IFERROR(IF(INDIRECT($A$14&ROW())<>\"\",COUNTIF([2]Summary!$B$30:$B$1029,INDIRECT($A$14&ROW())),\"\"),\"\")","v":""}]
[{"$f":"IFERROR(IF(INDIRECT($A$14&ROW())<>\"\",COUNTIF([2]Summary!$B$30:$B$1029,INDIRECT($A$14&ROW())),\"\"),\"\")","v":""}]
[{"$f":"IFERROR(IF(INDIRECT($A$14&ROW())<>\"\",COUNTIF([2]Summary!$B$30:$B$1029,INDIRECT($A$14&ROW())),\"\"),\"\")","v":""}]
[{"$f":"IFERROR(IF(INDIRECT($A$14&ROW())<>\"\",COUNTIF([2]Summary!$B$30:$B$1029,INDIRECT($A$14&ROW())),\"\"),\"\")","v":""}]
[{"$f":"IFERROR(IF(INDIRECT($A$14&ROW())<>\"\",COUNTIF([2]Summary!$B$30:$B$1029,INDIRECT($A$14&ROW())),\"\"),\"\")","v":""}]
[{"$f":"IFERROR(IF(INDIRECT($A$14&ROW())<>\"\",COUNTIF([2]Summary!$B$30:$B$1029,INDIRECT($A$14&ROW())),\"\"),\"\")","v":""}]
[{"$f":"IFERROR(IF(INDIRECT($A$14&ROW())<>\"\",COUNTIF([2]Summary!$B$30:$B$1029,INDIRECT($A$14&ROW())),\"\"),\"\")","v":""}]
[{"$f":"IFERROR(IF(INDIRECT($A$14&ROW())<>\"\",COUNTIF([2]Summary!$B$30:$B$1029,INDIRECT($A$14&ROW())),\"\"),\"\")","v":""}]
[{"$f":"IFERROR(IF(INDIRECT($A$14&ROW())<>\"\",COUNTIF([2]Summary!$B$30:$B$1029,INDIRECT($A$14&ROW())),\"\"),\"\")","v":""}]
[{"$f":"IFERROR(IF(INDIRECT($A$14&ROW())<>\"\",COUNTIF([2]Summary!$B$30:$B$1029,INDIRECT($A$14&ROW())),\"\"),\"\")","v":""}]
[{"$f":"IFERROR(IF(INDIRECT($A$14&ROW())<>\"\",COUNTIF([2]Summary!$B$30:$B$1029,INDIRECT($A$14&ROW())),\"\"),\"\")","v":""}]
[{"$f":"IFERROR(IF(INDIRECT($A$14&ROW())<>\"\",COUNTIF([2]Summary!$B$30:$B$1029,INDIRECT($A$14&ROW())),\"\"),\"\")","v":""}]
[{"$f":"IFERROR(IF(INDIRECT($A$14&ROW())<>\"\",COUNTIF([2]Summary!$B$30:$B$1029,INDIRECT($A$14&ROW())),\"\"),\"\")","v":""}]
[{"$f":"IFERROR(IF(INDIRECT($A$14&ROW())<>\"\",COUNTIF([2]Summary!$B$30:$B$1029,INDIRECT($A$14&ROW())),\"\"),\"\")","v":""}]
[{"$f":"IFERROR(IF(INDIRECT($A$14&ROW())<>\"\",COUNTIF([2]Summary!$B$30:$B$1029,INDIRECT($A$14&ROW())),\"\"),\"\")","v":""}]
[{"$f":"IFERROR(IF(INDIRECT($A$14&ROW())<>\"\",COUNTIF([2]Summary!$B$30:$B$1029,INDIRECT($A$14&ROW())),\"\"),\"\")","v":""}]
[{"$f":"IFERROR(IF(INDIRECT($A$14&ROW())<>\"\",COUNTIF([2]Summary!$B$30:$B$1029,INDIRECT($A$14&ROW())),\"\"),\"\")","v":""}]
[{"$f":"IFERROR(IF(INDIRECT($A$14&ROW())<>\"\",COUNTIF([2]Summary!$B$30:$B$1029,INDIRECT($A$14&ROW())),\"\"),\"\")","v":""}]
[{"$f":"IFERROR(IF(INDIRECT($A$14&ROW())<>\"\",COUNTIF([2]Summary!$B$30:$B$1029,INDIRECT($A$14&ROW())),\"\"),\"\")","v":""}]
[{"$f":"IFERROR(IF(INDIRECT($A$14&ROW())<>\"\",COUNTIF([2]Summary!$B$30:$B$1029,INDIRECT($A$14&ROW())),\"\"),\"\")","v":""}]
[{"$f":"IFERROR(IF(INDIRECT($A$14&ROW())<>\"\",COUNTIF([2]Summary!$B$30:$B$1029,INDIRECT($A$14&ROW())),\"\"),\"\")","v":""}]
[{"$f":"IFERROR(IF(INDIRECT($A$14&ROW())<>\"\",COUNTIF([2]Summary!$B$30:$B$1029,INDIRECT($A$14&ROW())),\"\"),\"\")","v":""}]
[{"$f":"IFERROR(IF(INDIRECT($A$14&ROW())<>\"\",COUNTIF([2]Summary!$B$30:$B$1029,INDIRECT($A$14&ROW())),\"\"),\"\")","v":""}]
[{"$f":"IFERROR(IF(INDIRECT($A$14&ROW())<>\"\",COUNTIF([2]Summary!$B$30:$B$1029,INDIRECT($A$14&ROW())),\"\"),\"\")","v":""}]
[{"$f":"IFERROR(IF(INDIRECT($A$14&ROW())<>\"\",COUNTIF([2]Summary!$B$30:$B$1029,INDIRECT($A$14&ROW())),\"\"),\"\")","v":""}]
[{"$f":"IFERROR(IF(INDIRECT($A$14&ROW())<>\"\",COUNTIF([2]Summary!$B$30:$B$1029,INDIRECT($A$14&ROW())),\"\"),\"\")","v":""}]
[{"$f":"IFERROR(IF(INDIRECT($A$14&ROW())<>\"\",COUNTIF([2]Summary!$B$30:$B$1029,INDIRECT($A$14&ROW())),\"\"),\"\")","v":""}]
[{"$f":"IFERROR(IF(INDIRECT($A$14&ROW())<>\"\",COUNTIF([2]Summary!$B$30:$B$1029,INDIRECT($A$14&ROW())),\"\"),\"\")","v":""}]
[{"$f":"IFERROR(IF(INDIRECT($A$14&ROW())<>\"\",COUNTIF([2]Summary!$B$30:$B$1029,INDIRECT($A$14&ROW())),\"\"),\"\")","v":""}]
[{"$f":"IFERROR(IF(INDIRECT($A$14&ROW())<>\"\",COUNTIF([2]Summary!$B$30:$B$1029,INDIRECT($A$14&ROW())),\"\"),\"\")","v":""}]
[{"$f":"IFERROR(IF(INDIRECT($A$14&ROW())<>\"\",COUNTIF([2]Summary!$B$30:$B$1029,INDIRECT($A$14&ROW())),\"\"),\"\")","v":""}]
[{"$f":"IFERROR(IF(INDIRECT($A$14&ROW())<>\"\",COUNTIF([2]Summary!$B$30:$B$1029,INDIRECT($A$14&ROW())),\"\"),\"\")","v":""}]
[{"$f":"IFERROR(IF(INDIRECT($A$14&ROW())<>\"\",COUNTIF([2]Summary!$B$30:$B$1029,INDIRECT($A$14&ROW())),\"\"),\"\")","v":""}]
[{"$f":"IFERROR(IF(INDIRECT($A$14&ROW())<>\"\",COUNTIF([2]Summary!$B$30:$B$1029,INDIRECT($A$14&ROW())),\"\"),\"\")","v":""}]
[{"$f":"IFERROR(IF(INDIRECT($A$14&ROW())<>\"\",COUNTIF([2]Summary!$B$30:$B$1029,INDIRECT($A$14&ROW())),\"\"),\"\")","v":""}]
[{"$f":"IFERROR(IF(INDIRECT($A$14&ROW())<>\"\",COUNTIF([2]Summary!$B$30:$B$1029,INDIRECT($A$14&ROW())),\"\"),\"\")","v":""}]
[{"$f":"IFERROR(IF(INDIRECT($A$14&ROW())<>\"\",COUNTIF([2]Summary!$B$30:$B$1029,INDIRECT($A$14&ROW())),\"\"),\"\")","v":""}]
[{"$f":"IFERROR(IF(INDIRECT($A$14&ROW())<>\"\",COUNTIF([2]Summary!$B$30:$B$1029,INDIRECT($A$14&ROW())),\"\"),\"\")","v":""}]
[{"$f":"IFERROR(IF(INDIRECT($A$14&ROW())<>\"\",COUNTIF([2]Summary!$B$30:$B$1029,INDIRECT($A$14&ROW())),\"\"),\"\")","v":""}]
[{"$f":"IFERROR(IF(INDIRECT($A$14&ROW())<>\"\",COUNTIF([2]Summary!$B$30:$B$1029,INDIRECT($A$14&ROW())),\"\"),\"\")","v":""}]
[{"$f":"IFERROR(IF(INDIRECT($A$14&ROW())<>\"\",COUNTIF([2]Summary!$B$30:$B$1029,INDIRECT($A$14&ROW())),\"\"),\"\")","v":""}]
[{"$f":"IFERROR(IF(INDIRECT($A$14&ROW())<>\"\",COUNTIF([2]Summary!$B$30:$B$1029,INDIRECT($A$14&ROW())),\"\"),\"\")","v":""}]
[{"$f":"IFERROR(IF(INDIRECT($A$14&ROW())<>\"\",COUNTIF([2]Summary!$B$30:$B$1029,INDIRECT($A$14&ROW())),\"\"),\"\")","v":""}]
[{"$f":"IFERROR(IF(INDIRECT($A$14&ROW())<>\"\",COUNTIF([2]Summary!$B$30:$B$1029,INDIRECT($A$14&ROW())),\"\"),\"\")","v":""}]
[{"$f":"IFERROR(IF(INDIRECT($A$14&ROW())<>\"\",COUNTIF([2]Summary!$B$30:$B$1029,INDIRECT($A$14&ROW())),\"\"),\"\")","v":""}]
[{"$f":"IFERROR(IF(INDIRECT($A$14&ROW())<>\"\",COUNTIF([2]Summary!$B$30:$B$1029,INDIRECT($A$14&ROW())),\"\"),\"\")","v":""}]
[{"$f":"IFERROR(IF(INDIRECT($A$14&ROW())<>\"\",COUNTIF([2]Summary!$B$30:$B$1029,INDIRECT($A$14&ROW())),\"\"),\"\")","v":""}]
[{"$f":"IFERROR(IF(INDIRECT($A$14&ROW())<>\"\",COUNTIF([2]Summary!$B$30:$B$1029,INDIRECT($A$14&ROW())),\"\"),\"\")","v":""}]
[{"$f":"IFERROR(IF(INDIRECT($A$14&ROW())<>\"\",COUNTIF([2]Summary!$B$30:$B$1029,INDIRECT($A$14&ROW())),\"\"),\"\")","v":""}]
[{"$f":"IFERROR(IF(INDIRECT($A$14&ROW())<>\"\",COUNTIF([2]Summary!$B$30:$B$1029,INDIRECT($A$14&ROW())),\"\"),\"\")","v":""}]
[{"$f":"IFERROR(IF(INDIRECT($A$14&ROW())<>\"\",COUNTIF([2]Summary!$B$30:$B$1029,INDIRECT($A$14&ROW())),\"\"),\"\")","v":""}]
[{"$f":"IFERROR(IF(INDIRECT($A$14&ROW())<>\"\",COUNTIF([2]Summary!$B$30:$B$1029,INDIRECT($A$14&ROW())),\"\"),\"\")","v":""}]
[{"$f":"IFERROR(IF(INDIRECT($A$14&ROW())<>\"\",COUNTIF([2]Summary!$B$30:$B$1029,INDIRECT($A$14&ROW())),\"\"),\"\")","v":""}]
[{"$f":"IFERROR(IF(INDIRECT($A$14&ROW())<>\"\",COUNTIF([2]Summary!$B$30:$B$1029,INDIRECT($A$14&ROW())),\"\"),\"\")","v":""}]
[{"$f":"IFERROR(IF(INDIRECT($A$14&ROW())<>\"\",COUNTIF([2]Summary!$B$30:$B$1029,INDIRECT($A$14&ROW())),\"\"),\"\")","v":""}]
[{"$f":"IFERROR(IF(INDIRECT($A$14&ROW())<>\"\",COUNTIF([2]Summary!$B$30:$B$1029,INDIRECT($A$14&ROW())),\"\"),\"\")","v":""}]
[{"$f":"IFERROR(IF(INDIRECT($A$14&ROW())<>\"\",COUNTIF([2]Summary!$B$30:$B$1029,INDIRECT($A$14&ROW())),\"\"),\"\")","v":""}]
[{"$f":"IFERROR(IF(INDIRECT($A$14&ROW())<>\"\",COUNTIF([2]Summary!$B$30:$B$1029,INDIRECT($A$14&ROW())),\"\"),\"\")","v":""}]
[{"$f":"IFERROR(IF(INDIRECT($A$14&ROW())<>\"\",COUNTIF([2]Summary!$B$30:$B$1029,INDIRECT($A$14&ROW())),\"\"),\"\")","v":""}]
[{"$f":"IFERROR(IF(INDIRECT($A$14&ROW())<>\"\",COUNTIF([2]Summary!$B$30:$B$1029,INDIRECT($A$14&ROW())),\"\"),\"\")","v":""}]
[{"$f":"IFERROR(IF(INDIRECT($A$14&ROW())<>\"\",COUNTIF([2]Summary!$B$30:$B$1029,INDIRECT($A$14&ROW())),\"\"),\"\")","v":""}]
[{"$f":"IFERROR(IF(INDIRECT($A$14&ROW())<>\"\",COUNTIF([2]Summary!$B$30:$B$1029,INDIRECT($A$14&ROW())),\"\"),\"\")","v":""}]
[{"$f":"IFERROR(IF(INDIRECT($A$14&ROW())<>\"\",COUNTIF([2]Summary!$B$30:$B$1029,INDIRECT($A$14&ROW())),\"\"),\"\")","v":""}]
[{"$f":"IFERROR(IF(INDIRECT($A$14&ROW())<>\"\",COUNTIF([2]Summary!$B$30:$B$1029,INDIRECT($A$14&ROW())),\"\"),\"\")","v":""}]
[{"$f":"IFERROR(IF(INDIRECT($A$14&ROW())<>\"\",COUNTIF([2]Summary!$B$30:$B$1029,INDIRECT($A$14&ROW())),\"\"),\"\")","v":""}]
[{"$f":"IFERROR(IF(INDIRECT($A$14&ROW())<>\"\",COUNTIF([2]Summary!$B$30:$B$1029,INDIRECT($A$14&ROW())),\"\"),\"\")","v":""}]
[{"$f":"IFERROR(IF(INDIRECT($A$14&ROW())<>\"\",COUNTIF([2]Summary!$B$30:$B$1029,INDIRECT($A$14&ROW())),\"\"),\"\")","v":""}]
[{"$f":"IFERROR(IF(INDIRECT($A$14&ROW())<>\"\",COUNTIF([2]Summary!$B$30:$B$1029,INDIRECT($A$14&ROW())),\"\"),\"\")","v":""}]
[{"$f":"IFERROR(IF(INDIRECT($A$14&ROW())<>\"\",COUNTIF([2]Summary!$B$30:$B$1029,INDIRECT($A$14&ROW())),\"\"),\"\")","v":""}]
[{"$f":"IFERROR(IF(INDIRECT($A$14&ROW())<>\"\",COUNTIF([2]Summary!$B$30:$B$1029,INDIRECT($A$14&ROW())),\"\"),\"\")","v":""}]
[{"$f":"IFERROR(IF(INDIRECT($A$14&ROW())<>\"\",COUNTIF([2]Summary!$B$30:$B$1029,INDIRECT($A$14&ROW())),\"\"),\"\")","v":""}]
[{"$f":"IFERROR(IF(INDIRECT($A$14&ROW())<>\"\",COUNTIF([2]Summary!$B$30:$B$1029,INDIRECT($A$14&ROW())),\"\"),\"\")","v":""}]
[{"$f":"IFERROR(IF(INDIRECT($A$14&ROW())<>\"\",COUNTIF([2]Summary!$B$30:$B$1029,INDIRECT($A$14&ROW())),\"\"),\"\")","v":""}]
[{"$f":"IFERROR(IF(INDIRECT($A$14&ROW())<>\"\",COUNTIF([2]Summary!$B$30:$B$1029,INDIRECT($A$14&ROW())),\"\"),\"\")","v":""}]
[{"$f":"IFERROR(IF(INDIRECT($A$14&ROW())<>\"\",COUNTIF([2]Summary!$B$30:$B$1029,INDIRECT($A$14&ROW())),\"\"),\"\")","v":""}]
[{"$f":"IFERROR(IF(INDIRECT($A$14&ROW())<>\"\",COUNTIF([2]Summary!$B$30:$B$1029,INDIRECT($A$14&ROW())),\"\"),\"\")","v":""}]
[{"$f":"IFERROR(IF(INDIRECT($A$14&ROW())<>\"\",COUNTIF([2]Summary!$B$30:$B$1029,INDIRECT($A$14&ROW())),\"\"),\"\")","v":""}]
[{"$f":"IFERROR(IF(INDIRECT($A$14&ROW())<>\"\",COUNTIF([2]Summary!$B$30:$B$1029,INDIRECT($A$14&ROW())),\"\"),\"\")","v":""}]
[{"$f":"IFERROR(IF(INDIRECT($A$14&ROW())<>\"\",COUNTIF([2]Summary!$B$30:$B$1029,INDIRECT($A$14&ROW())),\"\"),\"\")","v":""}]
[{"$f":"IFERROR(IF(INDIRECT($A$14&ROW())<>\"\",COUNTIF([2]Summary!$B$30:$B$1029,INDIRECT($A$14&ROW())),\"\"),\"\")","v":""}]
[{"$f":"IFERROR(IF(INDIRECT($A$14&ROW())<>\"\",COUNTIF([2]Summary!$B$30:$B$1029,INDIRECT($A$14&ROW())),\"\"),\"\")","v":""}]
[{"$f":"IFERROR(IF(INDIRECT($A$14&ROW())<>\"\",COUNTIF([2]Summary!$B$30:$B$1029,INDIRECT($A$14&ROW())),\"\"),\"\")","v":""}]
[{"$f":"IFERROR(IF(INDIRECT($A$14&ROW())<>\"\",COUNTIF([2]Summary!$B$30:$B$1029,INDIRECT($A$14&ROW())),\"\"),\"\")","v":""}]
[{"$f":"IFERROR(IF(INDIRECT($A$14&ROW())<>\"\",COUNTIF([2]Summary!$B$30:$B$1029,INDIRECT($A$14&ROW())),\"\"),\"\")","v":""}]
[{"$f":"IFERROR(IF(INDIRECT($A$14&ROW())<>\"\",COUNTIF([2]Summary!$B$30:$B$1029,INDIRECT($A$14&ROW())),\"\"),\"\")","v":""}]
[{"$f":"IFERROR(IF(INDIRECT($A$14&ROW())<>\"\",COUNTIF([2]Summary!$B$30:$B$1029,INDIRECT($A$14&ROW())),\"\"),\"\")","v":""}]
[{"$f":"IFERROR(IF(INDIRECT($A$14&ROW())<>\"\",COUNTIF([2]Summary!$B$30:$B$1029,INDIRECT($A$14&ROW())),\"\"),\"\")","v":""}]
[{"$f":"IFERROR(IF(INDIRECT($A$14&ROW())<>\"\",COUNTIF([2]Summary!$B$30:$B$1029,INDIRECT($A$14&ROW())),\"\"),\"\")","v":""}]
[{"$f":"IFERROR(IF(INDIRECT($A$14&ROW())<>\"\",COUNTIF([2]Summary!$B$30:$B$1029,INDIRECT($A$14&ROW())),\"\"),\"\")","v":""}]
[{"$f":"IFERROR(IF(INDIRECT($A$14&ROW())<>\"\",COUNTIF([2]Summary!$B$30:$B$1029,INDIRECT($A$14&ROW())),\"\"),\"\")","v":""}]
[{"$f":"IFERROR(IF(INDIRECT($A$14&ROW())<>\"\",COUNTIF([2]Summary!$B$30:$B$1029,INDIRECT($A$14&ROW())),\"\"),\"\")","v":""}]
[{"$f":"IFERROR(IF(INDIRECT($A$14&ROW())<>\"\",COUNTIF([2]Summary!$B$30:$B$1029,INDIRECT($A$14&ROW())),\"\"),\"\")","v":""}]
[{"$f":"IFERROR(IF(INDIRECT($A$14&ROW())<>\"\",COUNTIF([2]Summary!$B$30:$B$1029,INDIRECT($A$14&ROW())),\"\"),\"\")","v":""}]
[{"$f":"IFERROR(IF(INDIRECT($A$14&ROW())<>\"\",COUNTIF([2]Summary!$B$30:$B$1029,INDIRECT($A$14&ROW())),\"\"),\"\")","v":""}]
[{"$f":"IFERROR(IF(INDIRECT($A$14&ROW())<>\"\",COUNTIF([2]Summary!$B$30:$B$1029,INDIRECT($A$14&ROW())),\"\"),\"\")","v":""}]
[{"$f":"IFERROR(IF(INDIRECT($A$14&ROW())<>\"\",COUNTIF([2]Summary!$B$30:$B$1029,INDIRECT($A$14&ROW())),\"\"),\"\")","v":""}]
[{"$f":"IFERROR(IF(INDIRECT($A$14&ROW())<>\"\",COUNTIF([2]Summary!$B$30:$B$1029,INDIRECT($A$14&ROW())),\"\"),\"\")","v":""}]
[{"$f":"IFERROR(IF(INDIRECT($A$14&ROW())<>\"\",COUNTIF([2]Summary!$B$30:$B$1029,INDIRECT($A$14&ROW())),\"\"),\"\")","v":""}]
[{"$f":"IFERROR(IF(INDIRECT($A$14&ROW())<>\"\",COUNTIF([2]Summary!$B$30:$B$1029,INDIRECT($A$14&ROW())),\"\"),\"\")","v":""}]
[{"$f":"IFERROR(IF(INDIRECT($A$14&ROW())<>\"\",COUNTIF([2]Summary!$B$30:$B$1029,INDIRECT($A$14&ROW())),\"\"),\"\")","v":""}]
[{"$f":"IFERROR(IF(INDIRECT($A$14&ROW())<>\"\",COUNTIF([2]Summary!$B$30:$B$1029,INDIRECT($A$14&ROW())),\"\"),\"\")","v":""}]
[{"$f":"IFERROR(IF(INDIRECT($A$14&ROW())<>\"\",COUNTIF([2]Summary!$B$30:$B$1029,INDIRECT($A$14&ROW())),\"\"),\"\")","v":""}]
[{"$f":"IFERROR(IF(INDIRECT($A$14&ROW())<>\"\",COUNTIF([2]Summary!$B$30:$B$1029,INDIRECT($A$14&ROW())),\"\"),\"\")","v":""}]
[{"$f":"IFERROR(IF(INDIRECT($A$14&ROW())<>\"\",COUNTIF([2]Summary!$B$30:$B$1029,INDIRECT($A$14&ROW())),\"\"),\"\")","v":""}]
[{"$f":"IFERROR(IF(INDIRECT($A$14&ROW())<>\"\",COUNTIF([2]Summary!$B$30:$B$1029,INDIRECT($A$14&ROW())),\"\"),\"\")","v":""}]
[{"$f":"IFERROR(IF(INDIRECT($A$14&ROW())<>\"\",COUNTIF([2]Summary!$B$30:$B$1029,INDIRECT($A$14&ROW())),\"\"),\"\")","v":""}]
[{"$f":"IFERROR(IF(INDIRECT($A$14&ROW())<>\"\",COUNTIF([2]Summary!$B$30:$B$1029,INDIRECT($A$14&ROW())),\"\"),\"\")","v":""}]
[{"$f":"IFERROR(IF(INDIRECT($A$14&ROW())<>\"\",COUNTIF([2]Summary!$B$30:$B$1029,INDIRECT($A$14&ROW())),\"\"),\"\")","v":""}]
[{"$f":"IFERROR(IF(INDIRECT($A$14&ROW())<>\"\",COUNTIF([2]Summary!$B$30:$B$1029,INDIRECT($A$14&ROW())),\"\"),\"\")","v":""}]
[{"$f":"IFERROR(IF(INDIRECT($A$14&ROW())<>\"\",COUNTIF([2]Summary!$B$30:$B$1029,INDIRECT($A$14&ROW())),\"\"),\"\")","v":""}]
[{"$f":"IFERROR(IF(INDIRECT($A$14&ROW())<>\"\",COUNTIF([2]Summary!$B$30:$B$1029,INDIRECT($A$14&ROW())),\"\"),\"\")","v":""}]
[{"$f":"IFERROR(IF(INDIRECT($A$14&ROW())<>\"\",COUNTIF([2]Summary!$B$30:$B$1029,INDIRECT($A$14&ROW())),\"\"),\"\")","v":""}]
[{"$f":"IFERROR(IF(INDIRECT($A$14&ROW())<>\"\",COUNTIF([2]Summary!$B$30:$B$1029,INDIRECT($A$14&ROW())),\"\"),\"\")","v":""}]
[{"$f":"IFERROR(IF(INDIRECT($A$14&ROW())<>\"\",COUNTIF([2]Summary!$B$30:$B$1029,INDIRECT($A$14&ROW())),\"\"),\"\")","v":""}]
[{"$f":"IFERROR(IF(INDIRECT($A$14&ROW())<>\"\",COUNTIF([2]Summary!$B$30:$B$1029,INDIRECT($A$14&ROW())),\"\"),\"\")","v":""}]
[{"$f":"IFERROR(IF(INDIRECT($A$14&ROW())<>\"\",COUNTIF([2]Summary!$B$30:$B$1029,INDIRECT($A$14&ROW())),\"\"),\"\")","v":""}]
[{"$f":"IFERROR(IF(INDIRECT($A$14&ROW())<>\"\",COUNTIF([2]Summary!$B$30:$B$1029,INDIRECT($A$14&ROW())),\"\"),\"\")","v":""}]
[{"$f":"IFERROR(IF(INDIRECT($A$14&ROW())<>\"\",COUNTIF([2]Summary!$B$30:$B$1029,INDIRECT($A$14&ROW())),\"\"),\"\")","v":""}]
[{"$f":"IFERROR(IF(INDIRECT($A$14&ROW())<>\"\",COUNTIF([2]Summary!$B$30:$B$1029,INDIRECT($A$14&ROW())),\"\"),\"\")","v":""}]
[{"$f":"IFERROR(IF(INDIRECT($A$14&ROW())<>\"\",COUNTIF([2]Summary!$B$30:$B$1029,INDIRECT($A$14&ROW())),\"\"),\"\")","v":""}]
[{"$f":"IFERROR(IF(INDIRECT($A$14&ROW())<>\"\",COUNTIF([2]Summary!$B$30:$B$1029,INDIRECT($A$14&ROW())),\"\"),\"\")","v":""}]
[{"$f":"IFERROR(IF(INDIRECT($A$14&ROW())<>\"\",COUNTIF([2]Summary!$B$30:$B$1029,INDIRECT($A$14&ROW())),\"\"),\"\")","v":""}]
[{"$f":"IFERROR(IF(INDIRECT($A$14&ROW())<>\"\",COUNTIF([2]Summary!$B$30:$B$1029,INDIRECT($A$14&ROW())),\"\"),\"\")","v":""}]
[{"$f":"IFERROR(IF(INDIRECT($A$14&ROW())<>\"\",COUNTIF([2]Summary!$B$30:$B$1029,INDIRECT($A$14&ROW())),\"\"),\"\")","v":""}]
[{"$f":"IFERROR(IF(INDIRECT($A$14&ROW())<>\"\",COUNTIF([2]Summary!$B$30:$B$1029,INDIRECT($A$14&ROW())),\"\"),\"\")","v":""}]
[{"$f":"IFERROR(IF(INDIRECT($A$14&ROW())<>\"\",COUNTIF([2]Summary!$B$30:$B$1029,INDIRECT($A$14&ROW())),\"\"),\"\")","v":""}]
[{"$f":"IFERROR(IF(INDIRECT($A$14&ROW())<>\"\",COUNTIF([2]Summary!$B$30:$B$1029,INDIRECT($A$14&ROW())),\"\"),\"\")","v":""}]
[{"$f":"IFERROR(IF(INDIRECT($A$14&ROW())<>\"\",COUNTIF([2]Summary!$B$30:$B$1029,INDIRECT($A$14&ROW())),\"\"),\"\")","v":""}]
[{"$f":"IFERROR(IF(INDIRECT($A$14&ROW())<>\"\",COUNTIF([2]Summary!$B$30:$B$1029,INDIRECT($A$14&ROW())),\"\"),\"\")","v":""}]
[{"$f":"IFERROR(IF(INDIRECT($A$14&ROW())<>\"\",COUNTIF([2]Summary!$B$30:$B$1029,INDIRECT($A$14&ROW())),\"\"),\"\")","v":""}]
[{"$f":"IFERROR(IF(INDIRECT($A$14&ROW())<>\"\",COUNTIF([2]Summary!$B$30:$B$1029,INDIRECT($A$14&ROW())),\"\"),\"\")","v":""}]
[{"$f":"IFERROR(IF(INDIRECT($A$14&ROW())<>\"\",COUNTIF([2]Summary!$B$30:$B$1029,INDIRECT($A$14&ROW())),\"\"),\"\")","v":""}]
[{"$f":"IFERROR(IF(INDIRECT($A$14&ROW())<>\"\",COUNTIF([2]Summary!$B$30:$B$1029,INDIRECT($A$14&ROW())),\"\"),\"\")","v":""}]
[{"$f":"IFERROR(IF(INDIRECT($A$14&ROW())<>\"\",COUNTIF([2]Summary!$B$30:$B$1029,INDIRECT($A$14&ROW())),\"\"),\"\")","v":""}]
[{"$f":"IFERROR(IF(INDIRECT($A$14&ROW())<>\"\",COUNTIF([2]Summary!$B$30:$B$1029,INDIRECT($A$14&ROW())),\"\"),\"\")","v":""}]
[{"$f":"IFERROR(IF(INDIRECT($A$14&ROW())<>\"\",COUNTIF([2]Summary!$B$30:$B$1029,INDIRECT($A$14&ROW())),\"\"),\"\")","v":""}]
[{"$f":"IFERROR(IF(INDIRECT($A$14&ROW())<>\"\",COUNTIF([2]Summary!$B$30:$B$1029,INDIRECT($A$14&ROW())),\"\"),\"\")","v":""}]
[{"$f":"IFERROR(IF(INDIRECT($A$14&ROW())<>\"\",COUNTIF([2]Summary!$B$30:$B$1029,INDIRECT($A$14&ROW())),\"\"),\"\")","v":""}]
[{"$f":"IFERROR(IF(INDIRECT($A$14&ROW())<>\"\",COUNTIF([2]Summary!$B$30:$B$1029,INDIRECT($A$14&ROW())),\"\"),\"\")","v":""}]
[{"$f":"IFERROR(IF(INDIRECT($A$14&ROW())<>\"\",COUNTIF([2]Summary!$B$30:$B$1029,INDIRECT($A$14&ROW())),\"\"),\"\")","v":""}]
[{"$f":"IFERROR(IF(INDIRECT($A$14&ROW())<>\"\",COUNTIF([2]Summary!$B$30:$B$1029,INDIRECT($A$14&ROW())),\"\"),\"\")","v":""}]
[{"$f":"IFERROR(IF(INDIRECT($A$14&ROW())<>\"\",COUNTIF([2]Summary!$B$30:$B$1029,INDIRECT($A$14&ROW())),\"\"),\"\")","v":""}]
[{"$f":"IFERROR(IF(INDIRECT($A$14&ROW())<>\"\",COUNTIF([2]Summary!$B$30:$B$1029,INDIRECT($A$14&ROW())),\"\"),\"\")","v":""}]
[{"$f":"IFERROR(IF(INDIRECT($A$14&ROW())<>\"\",COUNTIF([2]Summary!$B$30:$B$1029,INDIRECT($A$14&ROW())),\"\"),\"\")","v":""}]
[{"$f":"IFERROR(IF(INDIRECT($A$14&ROW())<>\"\",COUNTIF([2]Summary!$B$30:$B$1029,INDIRECT($A$14&ROW())),\"\"),\"\")","v":""}]
[{"$f":"IFERROR(IF(INDIRECT($A$14&ROW())<>\"\",COUNTIF([2]Summary!$B$30:$B$1029,INDIRECT($A$14&ROW())),\"\"),\"\")","v":""}]
[{"$f":"IFERROR(IF(INDIRECT($A$14&ROW())<>\"\",COUNTIF([2]Summary!$B$30:$B$1029,INDIRECT($A$14&ROW())),\"\"),\"\")","v":""}]
[{"$f":"IFERROR(IF(INDIRECT($A$14&ROW())<>\"\",COUNTIF([2]Summary!$B$30:$B$1029,INDIRECT($A$14&ROW())),\"\"),\"\")","v":""}]
[{"$f":"IFERROR(IF(INDIRECT($A$14&ROW())<>\"\",COUNTIF([2]Summary!$B$30:$B$1029,INDIRECT($A$14&ROW())),\"\"),\"\")","v":""}]
[{"$f":"IFERROR(IF(INDIRECT($A$14&ROW())<>\"\",COUNTIF([2]Summary!$B$30:$B$1029,INDIRECT($A$14&ROW())),\"\"),\"\")","v":""}]
[{"$f":"IFERROR(IF(INDIRECT($A$14&ROW())<>\"\",COUNTIF([2]Summary!$B$30:$B$1029,INDIRECT($A$14&ROW())),\"\"),\"\")","v":""}]
[{"$f":"IFERROR(IF(INDIRECT($A$14&ROW())<>\"\",COUNTIF([2]Summary!$B$30:$B$1029,INDIRECT($A$14&ROW())),\"\"),\"\")","v":""}]
[{"$f":"IFERROR(IF(INDIRECT($A$14&ROW())<>\"\",COUNTIF([2]Summary!$B$30:$B$1029,INDIRECT($A$14&ROW())),\"\"),\"\")","v":""}]
[{"$f":"IFERROR(IF(INDIRECT($A$14&ROW())<>\"\",COUNTIF([2]Summary!$B$30:$B$1029,INDIRECT($A$14&ROW())),\"\"),\"\")","v":""}]
[{"$f":"IFERROR(IF(INDIRECT($A$14&ROW())<>\"\",COUNTIF([2]Summary!$B$30:$B$1029,INDIRECT($A$14&ROW())),\"\"),\"\")","v":""}]
[{"$f":"IFERROR(IF(INDIRECT($A$14&ROW())<>\"\",COUNTIF([2]Summary!$B$30:$B$1029,INDIRECT($A$14&ROW())),\"\"),\"\")","v":""}]
[{"$f":"IFERROR(IF(INDIRECT($A$14&ROW())<>\"\",COUNTIF([2]Summary!$B$30:$B$1029,INDIRECT($A$14&ROW())),\"\"),\"\")","v":""}]
[{"$f":"IFERROR(IF(INDIRECT($A$14&ROW())<>\"\",COUNTIF([2]Summary!$B$30:$B$1029,INDIRECT($A$14&ROW())),\"\"),\"\")","v":""}]
[{"$f":"IFERROR(IF(INDIRECT($A$14&ROW())<>\"\",COUNTIF([2]Summary!$B$30:$B$1029,INDIRECT($A$14&ROW())),\"\"),\"\")","v":""}]
[{"$f":"IFERROR(IF(INDIRECT($A$14&ROW())<>\"\",COUNTIF([2]Summary!$B$30:$B$1029,INDIRECT($A$14&ROW())),\"\"),\"\")","v":""}]
[{"$f":"IFERROR(IF(INDIRECT($A$14&ROW())<>\"\",COUNTIF([2]Summary!$B$30:$B$1029,INDIRECT($A$14&ROW())),\"\"),\"\")","v":""}]
[{"$f":"IFERROR(IF(INDIRECT($A$14&ROW())<>\"\",COUNTIF([2]Summary!$B$30:$B$1029,INDIRECT($A$14&ROW())),\"\"),\"\")","v":""}]
[{"$f":"IFERROR(IF(INDIRECT($A$14&ROW())<>\"\",COUNTIF([2]Summary!$B$30:$B$1029,INDIRECT($A$14&ROW())),\"\"),\"\")","v":""}]
[{"$f":"IFERROR(IF(INDIRECT($A$14&ROW())<>\"\",COUNTIF([2]Summary!$B$30:$B$1029,INDIRECT($A$14&ROW())),\"\"),\"\")","v":""}]
[{"$f":"IFERROR(IF(INDIRECT($A$14&ROW())<>\"\",COUNTIF([2]Summary!$B$30:$B$1029,INDIRECT($A$14&ROW())),\"\"),\"\")","v":""}]
[{"$f":"IFERROR(IF(INDIRECT($A$14&ROW())<>\"\",COUNTIF([2]Summary!$B$30:$B$1029,INDIRECT($A$14&ROW())),\"\"),\"\")","v":""}]
[{"$f":"IFERROR(IF(INDIRECT($A$14&ROW())<>\"\",COUNTIF([2]Summary!$B$30:$B$1029,INDIRECT($A$14&ROW())),\"\"),\"\")","v":""}]
[{"$f":"IFERROR(IF(INDIRECT($A$14&ROW())<>\"\",COUNTIF([2]Summary!$B$30:$B$1029,INDIRECT($A$14&ROW())),\"\"),\"\")","v":""}]
[{"$f":"IFERROR(IF(INDIRECT($A$14&ROW())<>\"\",COUNTIF([2]Summary!$B$30:$B$1029,INDIRECT($A$14&ROW())),\"\"),\"\")","v":""}]
[{"$f":"IFERROR(IF(INDIRECT($A$14&ROW())<>\"\",COUNTIF([2]Summary!$B$30:$B$1029,INDIRECT($A$14&ROW())),\"\"),\"\")","v":""}]
[{"$f":"IFERROR(IF(INDIRECT($A$14&ROW())<>\"\",COUNTIF([2]Summary!$B$30:$B$1029,INDIRECT($A$14&ROW())),\"\"),\"\")","v":""}]
[{"$f":"IFERROR(IF(INDIRECT($A$14&ROW())<>\"\",COUNTIF([2]Summary!$B$30:$B$1029,INDIRECT($A$14&ROW())),\"\"),\"\")","v":""}]
[{"$f":"IFERROR(IF(INDIRECT($A$14&ROW())<>\"\",COUNTIF([2]Summary!$B$30:$B$1029,INDIRECT($A$14&ROW())),\"\"),\"\")","v":""}]
[{"$f":"IFERROR(IF(INDIRECT($A$14&ROW())<>\"\",COUNTIF([2]Summary!$B$30:$B$1029,INDIRECT($A$14&ROW())),\"\"),\"\")","v":""}]
[{"$f":"IFERROR(IF(INDIRECT($A$14&ROW())<>\"\",COUNTIF([2]Summary!$B$30:$B$1029,INDIRECT($A$14&ROW())),\"\"),\"\")","v":""}]
[{"$f":"IFERROR(IF(INDIRECT($A$14&ROW())<>\"\",COUNTIF([2]Summary!$B$30:$B$1029,INDIRECT($A$14&ROW())),\"\"),\"\")","v":""}]
[{"$f":"IFERROR(IF(INDIRECT($A$14&ROW())<>\"\",COUNTIF([2]Summary!$B$30:$B$1029,INDIRECT($A$14&ROW())),\"\"),\"\")","v":""}]
[{"$f":"IFERROR(IF(INDIRECT($A$14&ROW())<>\"\",COUNTIF([2]Summary!$B$30:$B$1029,INDIRECT($A$14&ROW())),\"\"),\"\")","v":""}]
[{"$f":"IFERROR(IF(INDIRECT($A$14&ROW())<>\"\",COUNTIF([2]Summary!$B$30:$B$1029,INDIRECT($A$14&ROW())),\"\"),\"\")","v":""}]
[{"$f":"IFERROR(IF(INDIRECT($A$14&ROW())<>\"\",COUNTIF([2]Summary!$B$30:$B$1029,INDIRECT($A$14&ROW())),\"\"),\"\")","v":""}]
[{"$f":"IFERROR(IF(INDIRECT($A$14&ROW())<>\"\",COUNTIF([2]Summary!$B$30:$B$1029,INDIRECT($A$14&ROW())),\"\"),\"\")","v":""}]
[{"$f":"IFERROR(IF(INDIRECT($A$14&ROW())<>\"\",COUNTIF([2]Summary!$B$30:$B$1029,INDIRECT($A$14&ROW())),\"\"),\"\")","v":""}]
[{"$f":"IFERROR(IF(INDIRECT($A$14&ROW())<>\"\",COUNTIF([2]Summary!$B$30:$B$1029,INDIRECT($A$14&ROW())),\"\"),\"\")","v":""}]
[{"$f":"IFERROR(IF(INDIRECT($A$14&ROW())<>\"\",COUNTIF([2]Summary!$B$30:$B$1029,INDIRECT($A$14&ROW())),\"\"),\"\")","v":""}]
[{"$f":"IFERROR(IF(INDIRECT($A$14&ROW())<>\"\",COUNTIF([2]Summary!$B$30:$B$1029,INDIRECT($A$14&ROW())),\"\"),\"\")","v":""}]
[{"$f":"IFERROR(IF(INDIRECT($A$14&ROW())<>\"\",COUNTIF([2]Summary!$B$30:$B$1029,INDIRECT($A$14&ROW())),\"\"),\"\")","v":""}]
[{"$f":"IFERROR(IF(INDIRECT($A$14&ROW())<>\"\",COUNTIF([2]Summary!$B$30:$B$1029,INDIRECT($A$14&ROW())),\"\"),\"\")","v":""}]
[{"$f":"IFERROR(IF(INDIRECT($A$14&ROW())<>\"\",COUNTIF([2]Summary!$B$30:$B$1029,INDIRECT($A$14&ROW())),\"\"),\"\")","v":""}]
[{"$f":"IFERROR(IF(INDIRECT($A$14&ROW())<>\"\",COUNTIF([2]Summary!$B$30:$B$1029,INDIRECT($A$14&ROW())),\"\"),\"\")","v":""}]
[{"$f":"IFERROR(IF(INDIRECT($A$14&ROW())<>\"\",COUNTIF([2]Summary!$B$30:$B$1029,INDIRECT($A$14&ROW())),\"\"),\"\")","v":""}]
[{"$f":"IFERROR(IF(INDIRECT($A$14&ROW())<>\"\",COUNTIF([2]Summary!$B$30:$B$1029,INDIRECT($A$14&ROW())),\"\"),\"\")","v":""}]
[{"$f":"IFERROR(IF(INDIRECT($A$14&ROW())<>\"\",COUNTIF([2]Summary!$B$30:$B$1029,INDIRECT($A$14&ROW())),\"\"),\"\")","v":""}]
[{"$f":"IFERROR(IF(INDIRECT($A$14&ROW())<>\"\",COUNTIF([2]Summary!$B$30:$B$1029,INDIRECT($A$14&ROW())),\"\"),\"\")","v":""}]
[{"$f":"IFERROR(IF(INDIRECT($A$14&ROW())<>\"\",COUNTIF([2]Summary!$B$30:$B$1029,INDIRECT($A$14&ROW())),\"\"),\"\")","v":""}]
[{"$f":"IFERROR(IF(INDIRECT($A$14&ROW())<>\"\",COUNTIF([2]Summary!$B$30:$B$1029,INDIRECT($A$14&ROW())),\"\"),\"\")","v":""}]
[{"$f":"IFERROR(IF(INDIRECT($A$14&ROW())<>\"\",COUNTIF([2]Summary!$B$30:$B$1029,INDIRECT($A$14&ROW())),\"\"),\"\")","v":""}]
[{"$f":"IFERROR(IF(INDIRECT($A$14&ROW())<>\"\",COUNTIF([2]Summary!$B$30:$B$1029,INDIRECT($A$14&ROW())),\"\"),\"\")","v":""}]
[{"$f":"IFERROR(IF(INDIRECT($A$14&ROW())<>\"\",COUNTIF([2]Summary!$B$30:$B$1029,INDIRECT($A$14&ROW())),\"\"),\"\")","v":""}]
[{"$f":"IFERROR(IF(INDIRECT($A$14&ROW())<>\"\",COUNTIF([2]Summary!$B$30:$B$1029,INDIRECT($A$14&ROW())),\"\"),\"\")","v":""}]
[{"$f":"IFERROR(IF(INDIRECT($A$14&ROW())<>\"\",COUNTIF([2]Summary!$B$30:$B$1029,INDIRECT($A$14&ROW())),\"\"),\"\")","v":""}]
[{"$f":"IFERROR(IF(INDIRECT($A$14&ROW())<>\"\",COUNTIF([2]Summary!$B$30:$B$1029,INDIRECT($A$14&ROW())),\"\"),\"\")","v":""}]
[{"$f":"IFERROR(IF(INDIRECT($A$14&ROW())<>\"\",COUNTIF([2]Summary!$B$30:$B$1029,INDIRECT($A$14&ROW())),\"\"),\"\")","v":""}]
[{"$f":"IFERROR(IF(INDIRECT($A$14&ROW())<>\"\",COUNTIF([2]Summary!$B$30:$B$1029,INDIRECT($A$14&ROW())),\"\"),\"\")","v":""}]
[{"$f":"IFERROR(IF(INDIRECT($A$14&ROW())<>\"\",COUNTIF([2]Summary!$B$30:$B$1029,INDIRECT($A$14&ROW())),\"\"),\"\")","v":""}]
[{"$f":"IFERROR(IF(INDIRECT($A$14&ROW())<>\"\",COUNTIF([2]Summary!$B$30:$B$1029,INDIRECT($A$14&ROW())),\"\"),\"\")","v":""}]
[{"$f":"IFERROR(IF(INDIRECT($A$14&ROW())<>\"\",COUNTIF([2]Summary!$B$30:$B$1029,INDIRECT($A$14&ROW())),\"\"),\"\")","v":""}]
[{"$f":"IFERROR(IF(INDIRECT($A$14&ROW())<>\"\",COUNTIF([2]Summary!$B$30:$B$1029,INDIRECT($A$14&ROW())),\"\"),\"\")","v":""}]
[{"$f":"IFERROR(IF(INDIRECT($A$14&ROW())<>\"\",COUNTIF([2]Summary!$B$30:$B$1029,INDIRECT($A$14&ROW())),\"\"),\"\")","v":""}]
[{"$f":"IFERROR(IF(INDIRECT($A$14&ROW())<>\"\",COUNTIF([2]Summary!$B$30:$B$1029,INDIRECT($A$14&ROW())),\"\"),\"\")","v":""}]
[{"$f":"IFERROR(IF(INDIRECT($A$14&ROW())<>\"\",COUNTIF([2]Summary!$B$30:$B$1029,INDIRECT($A$14&ROW())),\"\"),\"\")","v":""}]
[{"$f":"IFERROR(IF(INDIRECT($A$14&ROW())<>\"\",COUNTIF([2]Summary!$B$30:$B$1029,INDIRECT($A$14&ROW())),\"\"),\"\")","v":""}]
[{"$f":"IFERROR(IF(INDIRECT($A$14&ROW())<>\"\",COUNTIF([2]Summary!$B$30:$B$1029,INDIRECT($A$14&ROW())),\"\"),\"\")","v":""}]
[{"$f":"IFERROR(IF(INDIRECT($A$14&ROW())<>\"\",COUNTIF([2]Summary!$B$30:$B$1029,INDIRECT($A$14&ROW())),\"\"),\"\")","v":""}]
[{"$f":"IFERROR(IF(INDIRECT($A$14&ROW())<>\"\",COUNTIF([2]Summary!$B$30:$B$1029,INDIRECT($A$14&ROW())),\"\"),\"\")","v":""}]
[{"$f":"IFERROR(IF(INDIRECT($A$14&ROW())<>\"\",COUNTIF([2]Summary!$B$30:$B$1029,INDIRECT($A$14&ROW())),\"\"),\"\")","v":""}]
[{"$f":"IFERROR(IF(INDIRECT($A$14&ROW())<>\"\",COUNTIF([2]Summary!$B$30:$B$1029,INDIRECT($A$14&ROW())),\"\"),\"\")","v":""}]
[{"$f":"IFERROR(IF(INDIRECT($A$14&ROW())<>\"\",COUNTIF([2]Summary!$B$30:$B$1029,INDIRECT($A$14&ROW())),\"\"),\"\")","v":""}]
[{"$f":"IFERROR(IF(INDIRECT($A$14&ROW())<>\"\",COUNTIF([2]Summary!$B$30:$B$1029,INDIRECT($A$14&ROW())),\"\"),\"\")","v":""}]
[{"$f":"IFERROR(IF(INDIRECT($A$14&ROW())<>\"\",COUNTIF([2]Summary!$B$30:$B$1029,INDIRECT($A$14&ROW())),\"\"),\"\")","v":""}]
[{"$f":"IFERROR(IF(INDIRECT($A$14&ROW())<>\"\",COUNTIF([2]Summary!$B$30:$B$1029,INDIRECT($A$14&ROW())),\"\"),\"\")","v":""}]
[{"$f":"IFERROR(IF(INDIRECT($A$14&ROW())<>\"\",COUNTIF([2]Summary!$B$30:$B$1029,INDIRECT($A$14&ROW())),\"\"),\"\")","v":""}]
[{"$f":"IFERROR(IF(INDIRECT($A$14&ROW())<>\"\",COUNTIF([2]Summary!$B$30:$B$1029,INDIRECT($A$14&ROW())),\"\"),\"\")","v":""}]
[{"$f":"IFERROR(IF(INDIRECT($A$14&ROW())<>\"\",COUNTIF([2]Summary!$B$30:$B$1029,INDIRECT($A$14&ROW())),\"\"),\"\")","v":""}]
[{"$f":"IFERROR(IF(INDIRECT($A$14&ROW())<>\"\",COUNTIF([2]Summary!$B$30:$B$1029,INDIRECT($A$14&ROW())),\"\"),\"\")","v":""}]
[{"$f":"IFERROR(IF(INDIRECT($A$14&ROW())<>\"\",COUNTIF([2]Summary!$B$30:$B$1029,INDIRECT($A$14&ROW())),\"\"),\"\")","v":""}]
[{"$f":"IFERROR(IF(INDIRECT($A$14&ROW())<>\"\",COUNTIF([2]Summary!$B$30:$B$1029,INDIRECT($A$14&ROW())),\"\"),\"\")","v":""}]
[{"$f":"IFERROR(IF(INDIRECT($A$14&ROW())<>\"\",COUNTIF([2]Summary!$B$30:$B$1029,INDIRECT($A$14&ROW())),\"\"),\"\")","v":""}]
[{"$f":"IFERROR(IF(INDIRECT($A$14&ROW())<>\"\",COUNTIF([2]Summary!$B$30:$B$1029,INDIRECT($A$14&ROW())),\"\"),\"\")","v":""}]
[{"$f":"IFERROR(IF(INDIRECT($A$14&ROW())<>\"\",COUNTIF([2]Summary!$B$30:$B$1029,INDIRECT($A$14&ROW())),\"\"),\"\")","v":""}]
[{"$f":"IFERROR(IF(INDIRECT($A$14&ROW())<>\"\",COUNTIF([2]Summary!$B$30:$B$1029,INDIRECT($A$14&ROW())),\"\"),\"\")","v":""}]
[{"$f":"IFERROR(IF(INDIRECT($A$14&ROW())<>\"\",COUNTIF([2]Summary!$B$30:$B$1029,INDIRECT($A$14&ROW())),\"\"),\"\")","v":""}]
[{"$f":"IFERROR(IF(INDIRECT($A$14&ROW())<>\"\",COUNTIF([2]Summary!$B$30:$B$1029,INDIRECT($A$14&ROW())),\"\"),\"\")","v":""}]
[{"$f":"IFERROR(IF(INDIRECT($A$14&ROW())<>\"\",COUNTIF([2]Summary!$B$30:$B$1029,INDIRECT($A$14&ROW())),\"\"),\"\")","v":""}]
[{"$f":"IFERROR(IF(INDIRECT($A$14&ROW())<>\"\",COUNTIF([2]Summary!$B$30:$B$1029,INDIRECT($A$14&ROW())),\"\"),\"\")","v":""}]
[{"$f":"IFERROR(IF(INDIRECT($A$14&ROW())<>\"\",COUNTIF([2]Summary!$B$30:$B$1029,INDIRECT($A$14&ROW())),\"\"),\"\")","v":""}]
[{"$f":"IFERROR(IF(INDIRECT($A$14&ROW())<>\"\",COUNTIF([2]Summary!$B$30:$B$1029,INDIRECT($A$14&ROW())),\"\"),\"\")","v":""}]
[{"$f":"IFERROR(IF(INDIRECT($A$14&ROW())<>\"\",COUNTIF([2]Summary!$B$30:$B$1029,INDIRECT($A$14&ROW())),\"\"),\"\")","v":""}]
[{"$f":"IFERROR(IF(INDIRECT($A$14&ROW())<>\"\",COUNTIF([2]Summary!$B$30:$B$1029,INDIRECT($A$14&ROW())),\"\"),\"\")","v":""}]
[{"$f":"IFERROR(IF(INDIRECT($A$14&ROW())<>\"\",COUNTIF([2]Summary!$B$30:$B$1029,INDIRECT($A$14&ROW())),\"\"),\"\")","v":""}]
[{"$f":"IFERROR(IF(INDIRECT($A$14&ROW())<>\"\",COUNTIF([2]Summary!$B$30:$B$1029,INDIRECT($A$14&ROW())),\"\"),\"\")","v":""}]
[{"$f":"IFERROR(IF(INDIRECT($A$14&ROW())<>\"\",COUNTIF([2]Summary!$B$30:$B$1029,INDIRECT($A$14&ROW())),\"\"),\"\")","v":""}]
[{"$f":"IFERROR(IF(INDIRECT($A$14&ROW())<>\"\",COUNTIF([2]Summary!$B$30:$B$1029,INDIRECT($A$14&ROW())),\"\"),\"\")","v":""}]
[{"$f":"IFERROR(IF(INDIRECT($A$14&ROW())<>\"\",COUNTIF([2]Summary!$B$30:$B$1029,INDIRECT($A$14&ROW())),\"\"),\"\")","v":""}]
[{"$f":"IFERROR(IF(INDIRECT($A$14&ROW())<>\"\",COUNTIF([2]Summary!$B$30:$B$1029,INDIRECT($A$14&ROW())),\"\"),\"\")","v":""}]
[{"$f":"IFERROR(IF(INDIRECT($A$14&ROW())<>\"\",COUNTIF([2]Summary!$B$30:$B$1029,INDIRECT($A$14&ROW())),\"\"),\"\")","v":""}]
[{"$f":"IFERROR(IF(INDIRECT($A$14&ROW())<>\"\",COUNTIF([2]Summary!$B$30:$B$1029,INDIRECT($A$14&ROW())),\"\"),\"\")","v":""}]
[{"$f":"IFERROR(IF(INDIRECT($A$14&ROW())<>\"\",COUNTIF([2]Summary!$B$30:$B$1029,INDIRECT($A$14&ROW())),\"\"),\"\")","v":""}]
[{"$f":"IFERROR(IF(INDIRECT($A$14&ROW())<>\"\",COUNTIF([2]Summary!$B$30:$B$1029,INDIRECT($A$14&ROW())),\"\"),\"\")","v":""}]
[{"$f":"IFERROR(IF(INDIRECT($A$14&ROW())<>\"\",COUNTIF([2]Summary!$B$30:$B$1029,INDIRECT($A$14&ROW())),\"\"),\"\")","v":""}]
[{"$f":"IFERROR(IF(INDIRECT($A$14&ROW())<>\"\",COUNTIF([2]Summary!$B$30:$B$1029,INDIRECT($A$14&ROW())),\"\"),\"\")","v":""}]
[{"$f":"IFERROR(IF(INDIRECT($A$14&ROW())<>\"\",COUNTIF([2]Summary!$B$30:$B$1029,INDIRECT($A$14&ROW())),\"\"),\"\")","v":""}]
[{"$f":"IFERROR(IF(INDIRECT($A$14&ROW())<>\"\",COUNTIF([2]Summary!$B$30:$B$1029,INDIRECT($A$14&ROW())),\"\"),\"\")","v":""}]
[{"$f":"IFERROR(IF(INDIRECT($A$14&ROW())<>\"\",COUNTIF([2]Summary!$B$30:$B$1029,INDIRECT($A$14&ROW())),\"\"),\"\")","v":""}]
[{"$f":"IFERROR(IF(INDIRECT($A$14&ROW())<>\"\",COUNTIF([2]Summary!$B$30:$B$1029,INDIRECT($A$14&ROW())),\"\"),\"\")","v":""}]
[{"$f":"IFERROR(IF(INDIRECT($A$14&ROW())<>\"\",COUNTIF([2]Summary!$B$30:$B$1029,INDIRECT($A$14&ROW())),\"\"),\"\")","v":""}]
[{"$f":"IFERROR(IF(INDIRECT($A$14&ROW())<>\"\",COUNTIF([2]Summary!$B$30:$B$1029,INDIRECT($A$14&ROW())),\"\"),\"\")","v":""}]
[{"$f":"IFERROR(IF(INDIRECT($A$14&ROW())<>\"\",COUNTIF([2]Summary!$B$30:$B$1029,INDIRECT($A$14&ROW())),\"\"),\"\")","v":""}]
[{"$f":"IFERROR(IF(INDIRECT($A$14&ROW())<>\"\",COUNTIF([2]Summary!$B$30:$B$1029,INDIRECT($A$14&ROW())),\"\"),\"\")","v":""}]
[{"$f":"IFERROR(IF(INDIRECT($A$14&ROW())<>\"\",COUNTIF([2]Summary!$B$30:$B$1029,INDIRECT($A$14&ROW())),\"\"),\"\")","v":""}]
[{"$f":"IFERROR(IF(INDIRECT($A$14&ROW())<>\"\",COUNTIF([2]Summary!$B$30:$B$1029,INDIRECT($A$14&ROW())),\"\"),\"\")","v":""}]
[{"$f":"IFERROR(IF(INDIRECT($A$14&ROW())<>\"\",COUNTIF([2]Summary!$B$30:$B$1029,INDIRECT($A$14&ROW())),\"\"),\"\")","v":""}]
[{"$f":"IFERROR(IF(INDIRECT($A$14&ROW())<>\"\",COUNTIF([2]Summary!$B$30:$B$1029,INDIRECT($A$14&ROW())),\"\"),\"\")","v":""}]
[{"$f":"IFERROR(IF(INDIRECT($A$14&ROW())<>\"\",COUNTIF([2]Summary!$B$30:$B$1029,INDIRECT($A$14&ROW())),\"\"),\"\")","v":""}]
[{"$f":"IFERROR(IF(INDIRECT($A$14&ROW())<>\"\",COUNTIF([2]Summary!$B$30:$B$1029,INDIRECT($A$14&ROW())),\"\"),\"\")","v":""}]
[{"$f":"IFERROR(IF(INDIRECT($A$14&ROW())<>\"\",COUNTIF([2]Summary!$B$30:$B$1029,INDIRECT($A$14&ROW())),\"\"),\"\")","v":""}]
[{"$f":"IFERROR(IF(INDIRECT($A$14&ROW())<>\"\",COUNTIF([2]Summary!$B$30:$B$1029,INDIRECT($A$14&ROW())),\"\"),\"\")","v":""}]
[{"$f":"IFERROR(IF(INDIRECT($A$14&ROW())<>\"\",COUNTIF([2]Summary!$B$30:$B$1029,INDIRECT($A$14&ROW())),\"\"),\"\")","v":""}]
[{"$f":"IFERROR(IF(INDIRECT($A$14&ROW())<>\"\",COUNTIF([2]Summary!$B$30:$B$1029,INDIRECT($A$14&ROW())),\"\"),\"\")","v":""}]
[{"$f":"IFERROR(IF(INDIRECT($A$14&ROW())<>\"\",COUNTIF([2]Summary!$B$30:$B$1029,INDIRECT($A$14&ROW())),\"\"),\"\")","v":""}]
[{"$f":"IFERROR(IF(INDIRECT($A$14&ROW())<>\"\",COUNTIF([2]Summary!$B$30:$B$1029,INDIRECT($A$14&ROW())),\"\"),\"\")","v":""}]
[{"$f":"IFERROR(IF(INDIRECT($A$14&ROW())<>\"\",COUNTIF([2]Summary!$B$30:$B$1029,INDIRECT($A$14&ROW())),\"\"),\"\")","v":""}]
[{"$f":"IFERROR(IF(INDIRECT($A$14&ROW())<>\"\",COUNTIF([2]Summary!$B$30:$B$1029,INDIRECT($A$14&ROW())),\"\"),\"\")","v":""}]
[{"$f":"IFERROR(IF(INDIRECT($A$14&ROW())<>\"\",COUNTIF([2]Summary!$B$30:$B$1029,INDIRECT($A$14&ROW())),\"\"),\"\")","v":""}]
[{"$f":"IFERROR(IF(INDIRECT($A$14&ROW())<>\"\",COUNTIF([2]Summary!$B$30:$B$1029,INDIRECT($A$14&ROW())),\"\"),\"\")","v":""}]
[{"$f":"IFERROR(IF(INDIRECT($A$14&ROW())<>\"\",COUNTIF([2]Summary!$B$30:$B$1029,INDIRECT($A$14&ROW())),\"\"),\"\")","v":""}]
[{"$f":"IFERROR(IF(INDIRECT($A$14&ROW())<>\"\",COUNTIF([2]Summary!$B$30:$B$1029,INDIRECT($A$14&ROW())),\"\"),\"\")","v":""}]
[{"$f":"IFERROR(IF(INDIRECT($A$14&ROW())<>\"\",COUNTIF([2]Summary!$B$30:$B$1029,INDIRECT($A$14&ROW())),\"\"),\"\")","v":""}]
[{"$f":"IFERROR(IF(INDIRECT($A$14&ROW())<>\"\",COUNTIF([2]Summary!$B$30:$B$1029,INDIRECT($A$14&ROW())),\"\"),\"\")","v":""}]
[{"$f":"IFERROR(IF(INDIRECT($A$14&ROW())<>\"\",COUNTIF([2]Summary!$B$30:$B$1029,INDIRECT($A$14&ROW())),\"\"),\"\")","v":""}]
[{"$f":"IFERROR(IF(INDIRECT($A$14&ROW())<>\"\",COUNTIF([2]Summary!$B$30:$B$1029,INDIRECT($A$14&ROW())),\"\"),\"\")","v":""}]
[{"$f":"IFERROR(IF(INDIRECT($A$14&ROW())<>\"\",COUNTIF([2]Summary!$B$30:$B$1029,INDIRECT($A$14&ROW())),\"\"),\"\")","v":""}]
[{"$f":"IFERROR(IF(INDIRECT($A$14&ROW())<>\"\",COUNTIF([2]Summary!$B$30:$B$1029,INDIRECT($A$14&ROW())),\"\"),\"\")","v":""}]
[{"$f":"IFERROR(IF(INDIRECT($A$14&ROW())<>\"\",COUNTIF([2]Summary!$B$30:$B$1029,INDIRECT($A$14&ROW())),\"\"),\"\")","v":""}]
[{"$f":"IFERROR(IF(INDIRECT($A$14&ROW())<>\"\",COUNTIF([2]Summary!$B$30:$B$1029,INDIRECT($A$14&ROW())),\"\"),\"\")","v":""}]
[{"$f":"IFERROR(IF(INDIRECT($A$14&ROW())<>\"\",COUNTIF([2]Summary!$B$30:$B$1029,INDIRECT($A$14&ROW())),\"\"),\"\")","v":""}]
[{"$f":"IFERROR(IF(INDIRECT($A$14&ROW())<>\"\",COUNTIF([2]Summary!$B$30:$B$1029,INDIRECT($A$14&ROW())),\"\"),\"\")","v":""}]
[{"$f":"IFERROR(IF(INDIRECT($A$14&ROW())<>\"\",COUNTIF([2]Summary!$B$30:$B$1029,INDIRECT($A$14&ROW())),\"\"),\"\")","v":""}]
[{"$f":"IFERROR(IF(INDIRECT($A$14&ROW())<>\"\",COUNTIF([2]Summary!$B$30:$B$1029,INDIRECT($A$14&ROW())),\"\"),\"\")","v":""}]
[{"$f":"IFERROR(IF(INDIRECT($A$14&ROW())<>\"\",COUNTIF([2]Summary!$B$30:$B$1029,INDIRECT($A$14&ROW())),\"\"),\"\")","v":""}]
[{"$f":"IFERROR(IF(INDIRECT($A$14&ROW())<>\"\",COUNTIF([2]Summary!$B$30:$B$1029,INDIRECT($A$14&ROW())),\"\"),\"\")","v":""}]
[{"$f":"IFERROR(IF(INDIRECT($A$14&ROW())<>\"\",COUNTIF([2]Summary!$B$30:$B$1029,INDIRECT($A$14&ROW())),\"\"),\"\")","v":""}]
[{"$f":"IFERROR(IF(INDIRECT($A$14&ROW())<>\"\",COUNTIF([2]Summary!$B$30:$B$1029,INDIRECT($A$14&ROW())),\"\"),\"\")","v":""}]
[{"$f":"IFERROR(IF(INDIRECT($A$14&ROW())<>\"\",COUNTIF([2]Summary!$B$30:$B$1029,INDIRECT($A$14&ROW())),\"\"),\"\")","v":""}]
[{"$f":"IFERROR(IF(INDIRECT($A$14&ROW())<>\"\",COUNTIF([2]Summary!$B$30:$B$1029,INDIRECT($A$14&ROW())),\"\"),\"\")","v":""}]
[{"$f":"IFERROR(IF(INDIRECT($A$14&ROW())<>\"\",COUNTIF([2]Summary!$B$30:$B$1029,INDIRECT($A$14&ROW())),\"\"),\"\")","v":""}]
[{"$f":"IFERROR(IF(INDIRECT($A$14&ROW())<>\"\",COUNTIF([2]Summary!$B$30:$B$1029,INDIRECT($A$14&ROW())),\"\"),\"\")","v":""}]
[{"$f":"IFERROR(IF(INDIRECT($A$14&ROW())<>\"\",COUNTIF([2]Summary!$B$30:$B$1029,INDIRECT($A$14&ROW())),\"\"),\"\")","v":""}]
[{"$f":"IFERROR(IF(INDIRECT($A$14&ROW())<>\"\",COUNTIF([2]Summary!$B$30:$B$1029,INDIRECT($A$14&ROW())),\"\"),\"\")","v":""}]
[{"$f":"IFERROR(IF(INDIRECT($A$14&ROW())<>\"\",COUNTIF([2]Summary!$B$30:$B$1029,INDIRECT($A$14&ROW())),\"\"),\"\")","v":""}]
[{"$f":"IFERROR(IF(INDIRECT($A$14&ROW())<>\"\",COUNTIF([2]Summary!$B$30:$B$1029,INDIRECT($A$14&ROW())),\"\"),\"\")","v":""}]
[{"$f":"IFERROR(IF(INDIRECT($A$14&ROW())<>\"\",COUNTIF([2]Summary!$B$30:$B$1029,INDIRECT($A$14&ROW())),\"\"),\"\")","v":""}]
[{"$f":"IFERROR(IF(INDIRECT($A$14&ROW())<>\"\",COUNTIF([2]Summary!$B$30:$B$1029,INDIRECT($A$14&ROW())),\"\"),\"\")","v":""}]
[{"$f":"IFERROR(IF(INDIRECT($A$14&ROW())<>\"\",COUNTIF([2]Summary!$B$30:$B$1029,INDIRECT($A$14&ROW())),\"\"),\"\")","v":""}]
[{"$f":"IFERROR(IF(INDIRECT($A$14&ROW())<>\"\",COUNTIF([2]Summary!$B$30:$B$1029,INDIRECT($A$14&ROW())),\"\"),\"\")","v":""}]
[{"$f":"IFERROR(IF(INDIRECT($A$14&ROW())<>\"\",COUNTIF([2]Summary!$B$30:$B$1029,INDIRECT($A$14&ROW())),\"\"),\"\")","v":""}]
[{"$f":"IFERROR(IF(INDIRECT($A$14&ROW())<>\"\",COUNTIF([2]Summary!$B$30:$B$1029,INDIRECT($A$14&ROW())),\"\"),\"\")","v":""}]
[{"$f":"IFERROR(IF(INDIRECT($A$14&ROW())<>\"\",COUNTIF([2]Summary!$B$30:$B$1029,INDIRECT($A$14&ROW())),\"\"),\"\")","v":""}]
[{"$f":"IFERROR(IF(INDIRECT($A$14&ROW())<>\"\",COUNTIF([2]Summary!$B$30:$B$1029,INDIRECT($A$14&ROW())),\"\"),\"\")","v":""}]
[{"$f":"IFERROR(IF(INDIRECT($A$14&ROW())<>\"\",COUNTIF([2]Summary!$B$30:$B$1029,INDIRECT($A$14&ROW())),\"\"),\"\")","v":""}]
[{"$f":"IFERROR(IF(INDIRECT($A$14&ROW())<>\"\",COUNTIF([2]Summary!$B$30:$B$1029,INDIRECT($A$14&ROW())),\"\"),\"\")","v":""}]
[{"$f":"IFERROR(IF(INDIRECT($A$14&ROW())<>\"\",COUNTIF([2]Summary!$B$30:$B$1029,INDIRECT($A$14&ROW())),\"\"),\"\")","v":""}]
[{"$f":"IFERROR(IF(INDIRECT($A$14&ROW())<>\"\",COUNTIF([2]Summary!$B$30:$B$1029,INDIRECT($A$14&ROW())),\"\"),\"\")","v":""}]
[{"$f":"IFERROR(IF(INDIRECT($A$14&ROW())<>\"\",COUNTIF([2]Summary!$B$30:$B$1029,INDIRECT($A$14&ROW())),\"\"),\"\")","v":""}]
[{"$f":"IFERROR(IF(INDIRECT($A$14&ROW())<>\"\",COUNTIF([2]Summary!$B$30:$B$1029,INDIRECT($A$14&ROW())),\"\"),\"\")","v":""}]
[{"$f":"IFERROR(IF(INDIRECT($A$14&ROW())<>\"\",COUNTIF([2]Summary!$B$30:$B$1029,INDIRECT($A$14&ROW())),\"\"),\"\")","v":""}]
[{"$f":"IFERROR(IF(INDIRECT($A$14&ROW())<>\"\",COUNTIF([2]Summary!$B$30:$B$1029,INDIRECT($A$14&ROW())),\"\"),\"\")","v":""}]
[{"$f":"IFERROR(IF(INDIRECT($A$14&ROW())<>\"\",COUNTIF([2]Summary!$B$30:$B$1029,INDIRECT($A$14&ROW())),\"\"),\"\")","v":""}]
[{"$f":"IFERROR(IF(INDIRECT($A$14&ROW())<>\"\",COUNTIF([2]Summary!$B$30:$B$1029,INDIRECT($A$14&ROW())),\"\"),\"\")","v":""}]
[{"$f":"IFERROR(IF(INDIRECT($A$14&ROW())<>\"\",COUNTIF([2]Summary!$B$30:$B$1029,INDIRECT($A$14&ROW())),\"\"),\"\")","v":""}]
[{"$f":"IFERROR(IF(INDIRECT($A$14&ROW())<>\"\",COUNTIF([2]Summary!$B$30:$B$1029,INDIRECT($A$14&ROW())),\"\"),\"\")","v":""}]
[{"$f":"IFERROR(IF(INDIRECT($A$14&ROW())<>\"\",COUNTIF([2]Summary!$B$30:$B$1029,INDIRECT($A$14&ROW())),\"\"),\"\")","v":""}]
[{"$f":"IFERROR(IF(INDIRECT($A$14&ROW())<>\"\",COUNTIF([2]Summary!$B$30:$B$1029,INDIRECT($A$14&ROW())),\"\"),\"\")","v":""}]
[{"$f":"IFERROR(IF(INDIRECT($A$14&ROW())<>\"\",COUNTIF([2]Summary!$B$30:$B$1029,INDIRECT($A$14&ROW())),\"\"),\"\")","v":""}]
[{"$f":"IFERROR(IF(INDIRECT($A$14&ROW())<>\"\",COUNTIF([2]Summary!$B$30:$B$1029,INDIRECT($A$14&ROW())),\"\"),\"\")","v":""}]
[{"$f":"IFERROR(IF(INDIRECT($A$14&ROW())<>\"\",COUNTIF([2]Summary!$B$30:$B$1029,INDIRECT($A$14&ROW())),\"\"),\"\")","v":""}]
[{"$f":"IFERROR(IF(INDIRECT($A$14&ROW())<>\"\",COUNTIF([2]Summary!$B$30:$B$1029,INDIRECT($A$14&ROW())),\"\"),\"\")","v":""}]
[{"$f":"IFERROR(IF(INDIRECT($A$14&ROW())<>\"\",COUNTIF([2]Summary!$B$30:$B$1029,INDIRECT($A$14&ROW())),\"\"),\"\")","v":""}]
[{"$f":"IFERROR(IF(INDIRECT($A$14&ROW())<>\"\",COUNTIF([2]Summary!$B$30:$B$1029,INDIRECT($A$14&ROW())),\"\"),\"\")","v":""}]
[{"$f":"IFERROR(IF(INDIRECT($A$14&ROW())<>\"\",COUNTIF([2]Summary!$B$30:$B$1029,INDIRECT($A$14&ROW())),\"\"),\"\")","v":""}]
[{"$f":"IFERROR(IF(INDIRECT($A$14&ROW())<>\"\",COUNTIF([2]Summary!$B$30:$B$1029,INDIRECT($A$14&ROW())),\"\"),\"\")","v":""}]
[{"$f":"IFERROR(IF(INDIRECT($A$14&ROW())<>\"\",COUNTIF([2]Summary!$B$30:$B$1029,INDIRECT($A$14&ROW())),\"\"),\"\")","v":""}]
[{"$f":"IFERROR(IF(INDIRECT($A$14&ROW())<>\"\",COUNTIF([2]Summary!$B$30:$B$1029,INDIRECT($A$14&ROW())),\"\"),\"\")","v":""}]
[{"$f":"IFERROR(IF(INDIRECT($A$14&ROW())<>\"\",COUNTIF([2]Summary!$B$30:$B$1029,INDIRECT($A$14&ROW())),\"\"),\"\")","v":""}]
[{"$f":"IFERROR(IF(INDIRECT($A$14&ROW())<>\"\",COUNTIF([2]Summary!$B$30:$B$1029,INDIRECT($A$14&ROW())),\"\"),\"\")","v":""}]
[{"$f":"IFERROR(IF(INDIRECT($A$14&ROW())<>\"\",COUNTIF([2]Summary!$B$30:$B$1029,INDIRECT($A$14&ROW())),\"\"),\"\")","v":""}]
[{"$f":"IFERROR(IF(INDIRECT($A$14&ROW())<>\"\",COUNTIF([2]Summary!$B$30:$B$1029,INDIRECT($A$14&ROW())),\"\"),\"\")","v":""}]
[{"$f":"IFERROR(IF(INDIRECT($A$14&ROW())<>\"\",COUNTIF([2]Summary!$B$30:$B$1029,INDIRECT($A$14&ROW())),\"\"),\"\")","v":""}]
[{"$f":"IFERROR(IF(INDIRECT($A$14&ROW())<>\"\",COUNTIF([2]Summary!$B$30:$B$1029,INDIRECT($A$14&ROW())),\"\"),\"\")","v":""}]
[{"$f":"IFERROR(IF(INDIRECT($A$14&ROW())<>\"\",COUNTIF([2]Summary!$B$30:$B$1029,INDIRECT($A$14&ROW())),\"\"),\"\")","v":""}]
[{"$f":"IFERROR(IF(INDIRECT($A$14&ROW())<>\"\",COUNTIF([2]Summary!$B$30:$B$1029,INDIRECT($A$14&ROW())),\"\"),\"\")","v":""}]
[{"$f":"IFERROR(IF(INDIRECT($A$14&ROW())<>\"\",COUNTIF([2]Summary!$B$30:$B$1029,INDIRECT($A$14&ROW())),\"\"),\"\")","v":""}]
[{"$f":"IFERROR(IF(INDIRECT($A$14&ROW())<>\"\",COUNTIF([2]Summary!$B$30:$B$1029,INDIRECT($A$14&ROW())),\"\"),\"\")","v":""}]
[{"$f":"IFERROR(IF(INDIRECT($A$14&ROW())<>\"\",COUNTIF([2]Summary!$B$30:$B$1029,INDIRECT($A$14&ROW())),\"\"),\"\")","v":""}]
[{"$f":"IFERROR(IF(INDIRECT($A$14&ROW())<>\"\",COUNTIF([2]Summary!$B$30:$B$1029,INDIRECT($A$14&ROW())),\"\"),\"\")","v":""}]
[{"$f":"IFERROR(IF(INDIRECT($A$14&ROW())<>\"\",COUNTIF([2]Summary!$B$30:$B$1029,INDIRECT($A$14&ROW())),\"\"),\"\")","v":""}]
[{"$f":"IFERROR(IF(INDIRECT($A$14&ROW())<>\"\",COUNTIF([2]Summary!$B$30:$B$1029,INDIRECT($A$14&ROW())),\"\"),\"\")","v":""}]
[{"$f":"IFERROR(IF(INDIRECT($A$14&ROW())<>\"\",COUNTIF([2]Summary!$B$30:$B$1029,INDIRECT($A$14&ROW())),\"\"),\"\")","v":""}]
[{"$f":"IFERROR(IF(INDIRECT($A$14&ROW())<>\"\",COUNTIF([2]Summary!$B$30:$B$1029,INDIRECT($A$14&ROW())),\"\"),\"\")","v":""}]
[{"$f":"IFERROR(IF(INDIRECT($A$14&ROW())<>\"\",COUNTIF([2]Summary!$B$30:$B$1029,INDIRECT($A$14&ROW())),\"\"),\"\")","v":""}]
[{"$f":"IFERROR(IF(INDIRECT($A$14&ROW())<>\"\",COUNTIF([2]Summary!$B$30:$B$1029,INDIRECT($A$14&ROW())),\"\"),\"\")","v":""}]
[{"$f":"IFERROR(IF(INDIRECT($A$14&ROW())<>\"\",COUNTIF([2]Summary!$B$30:$B$1029,INDIRECT($A$14&ROW())),\"\"),\"\")","v":""}]
[{"$f":"IFERROR(IF(INDIRECT($A$14&ROW())<>\"\",COUNTIF([2]Summary!$B$30:$B$1029,INDIRECT($A$14&ROW())),\"\"),\"\")","v":""}]
[{"$f":"IFERROR(IF(INDIRECT($A$14&ROW())<>\"\",COUNTIF([2]Summary!$B$30:$B$1029,INDIRECT($A$14&ROW())),\"\"),\"\")","v":""}]
[{"$f":"IFERROR(IF(INDIRECT($A$14&ROW())<>\"\",COUNTIF([2]Summary!$B$30:$B$1029,INDIRECT($A$14&ROW())),\"\"),\"\")","v":""}]
[{"$f":"IFERROR(IF(INDIRECT($A$14&ROW())<>\"\",COUNTIF([2]Summary!$B$30:$B$1029,INDIRECT($A$14&ROW())),\"\"),\"\")","v":""}]
[{"$f":"IFERROR(IF(INDIRECT($A$14&ROW())<>\"\",COUNTIF([2]Summary!$B$30:$B$1029,INDIRECT($A$14&ROW())),\"\"),\"\")","v":""}]
[{"$f":"IFERROR(IF(INDIRECT($A$14&ROW())<>\"\",COUNTIF([2]Summary!$B$30:$B$1029,INDIRECT($A$14&ROW())),\"\"),\"\")","v":""}]
[{"$f":"IFERROR(IF(INDIRECT($A$14&ROW())<>\"\",COUNTIF([2]Summary!$B$30:$B$1029,INDIRECT($A$14&ROW())),\"\"),\"\")","v":""}]
[{"$f":"IFERROR(IF(INDIRECT($A$14&ROW())<>\"\",COUNTIF([2]Summary!$B$30:$B$1029,INDIRECT($A$14&ROW())),\"\"),\"\")","v":""}]
[{"$f":"IFERROR(IF(INDIRECT($A$14&ROW())<>\"\",COUNTIF([2]Summary!$B$30:$B$1029,INDIRECT($A$14&ROW())),\"\"),\"\")","v":""}]
[{"$f":"IFERROR(IF(INDIRECT($A$14&ROW())<>\"\",COUNTIF([2]Summary!$B$30:$B$1029,INDIRECT($A$14&ROW())),\"\"),\"\")","v":""}]
[{"$f":"IFERROR(IF(INDIRECT($A$14&ROW())<>\"\",COUNTIF([2]Summary!$B$30:$B$1029,INDIRECT($A$14&ROW())),\"\"),\"\")","v":""}]
[{"$f":"IFERROR(IF(INDIRECT($A$14&ROW())<>\"\",COUNTIF([2]Summary!$B$30:$B$1029,INDIRECT($A$14&ROW())),\"\"),\"\")","v":""}]
[{"$f":"IFERROR(IF(INDIRECT($A$14&ROW())<>\"\",COUNTIF([2]Summary!$B$30:$B$1029,INDIRECT($A$14&ROW())),\"\"),\"\")","v":""}]
[{"$f":"IFERROR(IF(INDIRECT($A$14&ROW())<>\"\",COUNTIF([2]Summary!$B$30:$B$1029,INDIRECT($A$14&ROW())),\"\"),\"\")","v":""}]
[{"$f":"IFERROR(IF(INDIRECT($A$14&ROW())<>\"\",COUNTIF([2]Summary!$B$30:$B$1029,INDIRECT($A$14&ROW())),\"\"),\"\")","v":""}]
[{"$f":"IFERROR(IF(INDIRECT($A$14&ROW())<>\"\",COUNTIF([2]Summary!$B$30:$B$1029,INDIRECT($A$14&ROW())),\"\"),\"\")","v":""}]
[{"$f":"IFERROR(IF(INDIRECT($A$14&ROW())<>\"\",COUNTIF([2]Summary!$B$30:$B$1029,INDIRECT($A$14&ROW())),\"\"),\"\")","v":""}]
[{"$f":"IFERROR(IF(INDIRECT($A$14&ROW())<>\"\",COUNTIF([2]Summary!$B$30:$B$1029,INDIRECT($A$14&ROW())),\"\"),\"\")","v":""}]
[{"$f":"IFERROR(IF(INDIRECT($A$14&ROW())<>\"\",COUNTIF([2]Summary!$B$30:$B$1029,INDIRECT($A$14&ROW())),\"\"),\"\")","v":""}]
[{"$f":"IFERROR(IF(INDIRECT($A$14&ROW())<>\"\",COUNTIF([2]Summary!$B$30:$B$1029,INDIRECT($A$14&ROW())),\"\"),\"\")","v":""}]
[{"$f":"IFERROR(IF(INDIRECT($A$14&ROW())<>\"\",COUNTIF([2]Summary!$B$30:$B$1029,INDIRECT($A$14&ROW())),\"\"),\"\")","v":""}]
[{"$f":"IFERROR(IF(INDIRECT($A$14&ROW())<>\"\",COUNTIF([2]Summary!$B$30:$B$1029,INDIRECT($A$14&ROW())),\"\"),\"\")","v":""}]
[{"$f":"IFERROR(IF(INDIRECT($A$14&ROW())<>\"\",COUNTIF([2]Summary!$B$30:$B$1029,INDIRECT($A$14&ROW())),\"\"),\"\")","v":""}]
[{"$f":"IFERROR(IF(INDIRECT($A$14&ROW())<>\"\",COUNTIF([2]Summary!$B$30:$B$1029,INDIRECT($A$14&ROW())),\"\"),\"\")","v":""}]
[{"$f":"IFERROR(IF(INDIRECT($A$14&ROW())<>\"\",COUNTIF([2]Summary!$B$30:$B$1029,INDIRECT($A$14&ROW())),\"\"),\"\")","v":""}]
[{"$f":"IFERROR(IF(INDIRECT($A$14&ROW())<>\"\",COUNTIF([2]Summary!$B$30:$B$1029,INDIRECT($A$14&ROW())),\"\"),\"\")","v":""}]
[{"$f":"IFERROR(IF(INDIRECT($A$14&ROW())<>\"\",COUNTIF([2]Summary!$B$30:$B$1029,INDIRECT($A$14&ROW())),\"\"),\"\")","v":""}]
[{"$f":"IFERROR(IF(INDIRECT($A$14&ROW())<>\"\",COUNTIF([2]Summary!$B$30:$B$1029,INDIRECT($A$14&ROW())),\"\"),\"\")","v":""}]
[{"$f":"IFERROR(IF(INDIRECT($A$14&ROW())<>\"\",COUNTIF([2]Summary!$B$30:$B$1029,INDIRECT($A$14&ROW())),\"\"),\"\")","v":""}]
[{"$f":"IFERROR(IF(INDIRECT($A$14&ROW())<>\"\",COUNTIF([2]Summary!$B$30:$B$1029,INDIRECT($A$14&ROW())),\"\"),\"\")","v":""}]
[{"$f":"IFERROR(IF(INDIRECT($A$14&ROW())<>\"\",COUNTIF([2]Summary!$B$30:$B$1029,INDIRECT($A$14&ROW())),\"\"),\"\")","v":""}]
[{"$f":"IFERROR(IF(INDIRECT($A$14&ROW())<>\"\",COUNTIF([2]Summary!$B$30:$B$1029,INDIRECT($A$14&ROW())),\"\"),\"\")","v":""}]
[{"$f":"IFERROR(IF(INDIRECT($A$14&ROW())<>\"\",COUNTIF([2]Summary!$B$30:$B$1029,INDIRECT($A$14&ROW())),\"\"),\"\")","v":""}]
[{"$f":"IFERROR(IF(INDIRECT($A$14&ROW())<>\"\",COUNTIF([2]Summary!$B$30:$B$1029,INDIRECT($A$14&ROW())),\"\"),\"\")","v":""}]
[{"$f":"IFERROR(IF(INDIRECT($A$14&ROW())<>\"\",COUNTIF([2]Summary!$B$30:$B$1029,INDIRECT($A$14&ROW())),\"\"),\"\")","v":""}]
[{"$f":"IFERROR(IF(INDIRECT($A$14&ROW())<>\"\",COUNTIF([2]Summary!$B$30:$B$1029,INDIRECT($A$14&ROW())),\"\"),\"\")","v":""}]
[{"$f":"IFERROR(IF(INDIRECT($A$14&ROW())<>\"\",COUNTIF([2]Summary!$B$30:$B$1029,INDIRECT($A$14&ROW())),\"\"),\"\")","v":""}]
[{"$f":"IFERROR(IF(INDIRECT($A$14&ROW())<>\"\",COUNTIF([2]Summary!$B$30:$B$1029,INDIRECT($A$14&ROW())),\"\"),\"\")","v":""}]
[{"$f":"IFERROR(IF(INDIRECT($A$14&ROW())<>\"\",COUNTIF([2]Summary!$B$30:$B$1029,INDIRECT($A$14&ROW())),\"\"),\"\")","v":""}]
[{"$f":"IFERROR(IF(INDIRECT($A$14&ROW())<>\"\",COUNTIF([2]Summary!$B$30:$B$1029,INDIRECT($A$14&ROW())),\"\"),\"\")","v":""}]
[{"$f":"IFERROR(IF(INDIRECT($A$14&ROW())<>\"\",COUNTIF([2]Summary!$B$30:$B$1029,INDIRECT($A$14&ROW())),\"\"),\"\")","v":""}]
[{"$f":"IFERROR(IF(INDIRECT($A$14&ROW())<>\"\",COUNTIF([2]Summary!$B$30:$B$1029,INDIRECT($A$14&ROW())),\"\"),\"\")","v":""}]
[{"$f":"IFERROR(IF(INDIRECT($A$14&ROW())<>\"\",COUNTIF([2]Summary!$B$30:$B$1029,INDIRECT($A$14&ROW())),\"\"),\"\")","v":""}]
[{"$f":"IFERROR(IF(INDIRECT($A$14&ROW())<>\"\",COUNTIF([2]Summary!$B$30:$B$1029,INDIRECT($A$14&ROW())),\"\"),\"\")","v":""}]
[{"$f":"IFERROR(IF(INDIRECT($A$14&ROW())<>\"\",COUNTIF([2]Summary!$B$30:$B$1029,INDIRECT($A$14&ROW())),\"\"),\"\")","v":""}]
[{"$f":"IFERROR(IF(INDIRECT($A$14&ROW())<>\"\",COUNTIF([2]Summary!$B$30:$B$1029,INDIRECT($A$14&ROW())),\"\"),\"\")","v":""}]
[{"$f":"IFERROR(IF(INDIRECT($A$14&ROW())<>\"\",COUNTIF([2]Summary!$B$30:$B$1029,INDIRECT($A$14&ROW())),\"\"),\"\")","v":""}]
[{"$f":"IFERROR(IF(INDIRECT($A$14&ROW())<>\"\",COUNTIF([2]Summary!$B$30:$B$1029,INDIRECT($A$14&ROW())),\"\"),\"\")","v":""}]
[{"$f":"IFERROR(IF(INDIRECT($A$14&ROW())<>\"\",COUNTIF([2]Summary!$B$30:$B$1029,INDIRECT($A$14&ROW())),\"\"),\"\")","v":""}]
[{"$f":"IFERROR(IF(INDIRECT($A$14&ROW())<>\"\",COUNTIF([2]Summary!$B$30:$B$1029,INDIRECT($A$14&ROW())),\"\"),\"\")","v":""}]
[{"$f":"IFERROR(IF(INDIRECT($A$14&ROW())<>\"\",COUNTIF([2]Summary!$B$30:$B$1029,INDIRECT($A$14&ROW())),\"\"),\"\")","v":""}]
[{"$f":"IFERROR(IF(INDIRECT($A$14&ROW())<>\"\",COUNTIF([2]Summary!$B$30:$B$1029,INDIRECT($A$14&ROW())),\"\"),\"\")","v":""}]
[{"$f":"IFERROR(IF(INDIRECT($A$14&ROW())<>\"\",COUNTIF([2]Summary!$B$30:$B$1029,INDIRECT($A$14&ROW())),\"\"),\"\")","v":""}]
[{"$f":"IFERROR(IF(INDIRECT($A$14&ROW())<>\"\",COUNTIF([2]Summary!$B$30:$B$1029,INDIRECT($A$14&ROW())),\"\"),\"\")","v":""}]
[{"$f":"IFERROR(IF(INDIRECT($A$14&ROW())<>\"\",COUNTIF([2]Summary!$B$30:$B$1029,INDIRECT($A$14&ROW())),\"\"),\"\")","v":""}]
[{"$f":"IFERROR(IF(INDIRECT($A$14&ROW())<>\"\",COUNTIF([2]Summary!$B$30:$B$1029,INDIRECT($A$14&ROW())),\"\"),\"\")","v":""}]
[{"$f":"IFERROR(IF(INDIRECT($A$14&ROW())<>\"\",COUNTIF([2]Summary!$B$30:$B$1029,INDIRECT($A$14&ROW())),\"\"),\"\")","v":""}]
[{"$f":"IFERROR(IF(INDIRECT($A$14&ROW())<>\"\",COUNTIF([2]Summary!$B$30:$B$1029,INDIRECT($A$14&ROW())),\"\"),\"\")","v":""}]
[{"$f":"IFERROR(IF(INDIRECT($A$14&ROW())<>\"\",COUNTIF([2]Summary!$B$30:$B$1029,INDIRECT($A$14&ROW())),\"\"),\"\")","v":""}]
[{"$f":"IFERROR(IF(INDIRECT($A$14&ROW())<>\"\",COUNTIF([2]Summary!$B$30:$B$1029,INDIRECT($A$14&ROW())),\"\"),\"\")","v":""}]
[{"$f":"IFERROR(IF(INDIRECT($A$14&ROW())<>\"\",COUNTIF([2]Summary!$B$30:$B$1029,INDIRECT($A$14&ROW())),\"\"),\"\")","v":""}]
[{"$f":"IFERROR(IF(INDIRECT($A$14&ROW())<>\"\",COUNTIF([2]Summary!$B$30:$B$1029,INDIRECT($A$14&ROW())),\"\"),\"\")","v":""}]
[{"$f":"IFERROR(IF(INDIRECT($A$14&ROW())<>\"\",COUNTIF([2]Summary!$B$30:$B$1029,INDIRECT($A$14&ROW())),\"\"),\"\")","v":""}]
[{"$f":"IFERROR(IF(INDIRECT($A$14&ROW())<>\"\",COUNTIF([2]Summary!$B$30:$B$1029,INDIRECT($A$14&ROW())),\"\"),\"\")","v":""}]
[{"$f":"IFERROR(IF(INDIRECT($A$14&ROW())<>\"\",COUNTIF([2]Summary!$B$30:$B$1029,INDIRECT($A$14&ROW())),\"\"),\"\")","v":""}]
[{"$f":"IFERROR(IF(INDIRECT($A$14&ROW())<>\"\",COUNTIF([2]Summary!$B$30:$B$1029,INDIRECT($A$14&ROW())),\"\"),\"\")","v":""}]
[{"$f":"IFERROR(IF(INDIRECT($A$14&ROW())<>\"\",COUNTIF([2]Summary!$B$30:$B$1029,INDIRECT($A$14&ROW())),\"\"),\"\")","v":""}]
[{"$f":"IFERROR(IF(INDIRECT($A$14&ROW())<>\"\",COUNTIF([2]Summary!$B$30:$B$1029,INDIRECT($A$14&ROW())),\"\"),\"\")","v":""}]
[{"$f":"IFERROR(IF(INDIRECT($A$14&ROW())<>\"\",COUNTIF([2]Summary!$B$30:$B$1029,INDIRECT($A$14&ROW())),\"\"),\"\")","v":""}]
[{"$f":"IFERROR(IF(INDIRECT($A$14&ROW())<>\"\",COUNTIF([2]Summary!$B$30:$B$1029,INDIRECT($A$14&ROW())),\"\"),\"\")","v":""}]
[{"$f":"IFERROR(IF(INDIRECT($A$14&ROW())<>\"\",COUNTIF([2]Summary!$B$30:$B$1029,INDIRECT($A$14&ROW())),\"\"),\"\")","v":""}]
[{"$f":"IFERROR(IF(INDIRECT($A$14&ROW())<>\"\",COUNTIF([2]Summary!$B$30:$B$1029,INDIRECT($A$14&ROW())),\"\"),\"\")","v":""}]
[{"$f":"IFERROR(IF(INDIRECT($A$14&ROW())<>\"\",COUNTIF([2]Summary!$B$30:$B$1029,INDIRECT($A$14&ROW())),\"\"),\"\")","v":""}]
[{"$f":"IFERROR(IF(INDIRECT($A$14&ROW())<>\"\",COUNTIF([2]Summary!$B$30:$B$1029,INDIRECT($A$14&ROW())),\"\"),\"\")","v":""}]
[{"$f":"IFERROR(IF(INDIRECT($A$14&ROW())<>\"\",COUNTIF([2]Summary!$B$30:$B$1029,INDIRECT($A$14&ROW())),\"\"),\"\")","v":""}]
[{"$f":"IFERROR(IF(INDIRECT($A$14&ROW())<>\"\",COUNTIF([2]Summary!$B$30:$B$1029,INDIRECT($A$14&ROW())),\"\"),\"\")","v":""}]
[{"$f":"IFERROR(IF(INDIRECT($A$14&ROW())<>\"\",COUNTIF([2]Summary!$B$30:$B$1029,INDIRECT($A$14&ROW())),\"\"),\"\")","v":""}]
[{"$f":"IFERROR(IF(INDIRECT($A$14&ROW())<>\"\",COUNTIF([2]Summary!$B$30:$B$1029,INDIRECT($A$14&ROW())),\"\"),\"\")","v":""}]
[{"$f":"IFERROR(IF(INDIRECT($A$14&ROW())<>\"\",COUNTIF([2]Summary!$B$30:$B$1029,INDIRECT($A$14&ROW())),\"\"),\"\")","v":""}]
[{"$f":"IFERROR(IF(INDIRECT($A$14&ROW())<>\"\",COUNTIF([2]Summary!$B$30:$B$1029,INDIRECT($A$14&ROW())),\"\"),\"\")","v":""}]
[{"$f":"IFERROR(IF(INDIRECT($A$14&ROW())<>\"\",COUNTIF([2]Summary!$B$30:$B$1029,INDIRECT($A$14&ROW())),\"\"),\"\")","v":""}]
[{"$f":"IFERROR(IF(INDIRECT($A$14&ROW())<>\"\",COUNTIF([2]Summary!$B$30:$B$1029,INDIRECT($A$14&ROW())),\"\"),\"\")","v":""}]
[{"$f":"IFERROR(IF(INDIRECT($A$14&ROW())<>\"\",COUNTIF([2]Summary!$B$30:$B$1029,INDIRECT($A$14&ROW())),\"\"),\"\")","v":""}]
[{"$f":"IFERROR(IF(INDIRECT($A$14&ROW())<>\"\",COUNTIF([2]Summary!$B$30:$B$1029,INDIRECT($A$14&ROW())),\"\"),\"\")","v":""}]
[{"$f":"IFERROR(IF(INDIRECT($A$14&ROW())<>\"\",COUNTIF([2]Summary!$B$30:$B$1029,INDIRECT($A$14&ROW())),\"\"),\"\")","v":""}]
[{"$f":"IFERROR(IF(INDIRECT($A$14&ROW())<>\"\",COUNTIF([2]Summary!$B$30:$B$1029,INDIRECT($A$14&ROW())),\"\"),\"\")","v":""}]
[{"$f":"IFERROR(IF(INDIRECT($A$14&ROW())<>\"\",COUNTIF([2]Summary!$B$30:$B$1029,INDIRECT($A$14&ROW())),\"\"),\"\")","v":""}]
[{"$f":"IFERROR(IF(INDIRECT($A$14&ROW())<>\"\",COUNTIF([2]Summary!$B$30:$B$1029,INDIRECT($A$14&ROW())),\"\"),\"\")","v":""}]
[{"$f":"IFERROR(IF(INDIRECT($A$14&ROW())<>\"\",COUNTIF([2]Summary!$B$30:$B$1029,INDIRECT($A$14&ROW())),\"\"),\"\")","v":""}]
[{"$f":"IFERROR(IF(INDIRECT($A$14&ROW())<>\"\",COUNTIF([2]Summary!$B$30:$B$1029,INDIRECT($A$14&ROW())),\"\"),\"\")","v":""}]
[{"$f":"IFERROR(IF(INDIRECT($A$14&ROW())<>\"\",COUNTIF([2]Summary!$B$30:$B$1029,INDIRECT($A$14&ROW())),\"\"),\"\")","v":""}]
[{"$f":"IFERROR(IF(INDIRECT($A$14&ROW())<>\"\",COUNTIF([2]Summary!$B$30:$B$1029,INDIRECT($A$14&ROW())),\"\"),\"\")","v":""}]
[{"$f":"IFERROR(IF(INDIRECT($A$14&ROW())<>\"\",COUNTIF([2]Summary!$B$30:$B$1029,INDIRECT($A$14&ROW())),\"\"),\"\")","v":""}]
[{"$f":"IFERROR(IF(INDIRECT($A$14&ROW())<>\"\",COUNTIF([2]Summary!$B$30:$B$1029,INDIRECT($A$14&ROW())),\"\"),\"\")","v":""}]
[{"$f":"IFERROR(IF(INDIRECT($A$14&ROW())<>\"\",COUNTIF([2]Summary!$B$30:$B$1029,INDIRECT($A$14&ROW())),\"\"),\"\")","v":""}]
[{"$f":"IFERROR(IF(INDIRECT($A$14&ROW())<>\"\",COUNTIF([2]Summary!$B$30:$B$1029,INDIRECT($A$14&ROW())),\"\"),\"\")","v":""}]
[{"$f":"IFERROR(IF(INDIRECT($A$14&ROW())<>\"\",COUNTIF([2]Summary!$B$30:$B$1029,INDIRECT($A$14&ROW())),\"\"),\"\")","v":""}]
[{"$f":"IFERROR(IF(INDIRECT($A$14&ROW())<>\"\",COUNTIF([2]Summary!$B$30:$B$1029,INDIRECT($A$14&ROW())),\"\"),\"\")","v":""}]
[{"$f":"IFERROR(IF(INDIRECT($A$14&ROW())<>\"\",COUNTIF([2]Summary!$B$30:$B$1029,INDIRECT($A$14&ROW())),\"\"),\"\")","v":""}]
[{"$f":"IFERROR(IF(INDIRECT($A$14&ROW())<>\"\",COUNTIF([2]Summary!$B$30:$B$1029,INDIRECT($A$14&ROW())),\"\"),\"\")","v":""}]
[{"$f":"IFERROR(IF(INDIRECT($A$14&ROW())<>\"\",COUNTIF([2]Summary!$B$30:$B$1029,INDIRECT($A$14&ROW())),\"\"),\"\")","v":""}]
[{"$f":"IFERROR(IF(INDIRECT($A$14&ROW())<>\"\",COUNTIF([2]Summary!$B$30:$B$1029,INDIRECT($A$14&ROW())),\"\"),\"\")","v":""}]
[{"$f":"IFERROR(IF(INDIRECT($A$14&ROW())<>\"\",COUNTIF([2]Summary!$B$30:$B$1029,INDIRECT($A$14&ROW())),\"\"),\"\")","v":""}]
[{"$f":"IFERROR(IF(INDIRECT($A$14&ROW())<>\"\",COUNTIF([2]Summary!$B$30:$B$1029,INDIRECT($A$14&ROW())),\"\"),\"\")","v":""}]
[{"$f":"IFERROR(IF(INDIRECT($A$14&ROW())<>\"\",COUNTIF([2]Summary!$B$30:$B$1029,INDIRECT($A$14&ROW())),\"\"),\"\")","v":""}]
[{"$f":"IFERROR(IF(INDIRECT($A$14&ROW())<>\"\",COUNTIF([2]Summary!$B$30:$B$1029,INDIRECT($A$14&ROW())),\"\"),\"\")","v":""}]
[{"$f":"IFERROR(IF(INDIRECT($A$14&ROW())<>\"\",COUNTIF([2]Summary!$B$30:$B$1029,INDIRECT($A$14&ROW())),\"\"),\"\")","v":""}]
[{"$f":"IFERROR(IF(INDIRECT($A$14&ROW())<>\"\",COUNTIF([2]Summary!$B$30:$B$1029,INDIRECT($A$14&ROW())),\"\"),\"\")","v":""}]
[{"$f":"IFERROR(IF(INDIRECT($A$14&ROW())<>\"\",COUNTIF([2]Summary!$B$30:$B$1029,INDIRECT($A$14&ROW())),\"\"),\"\")","v":""}]
[{"$f":"IFERROR(IF(INDIRECT($A$14&ROW())<>\"\",COUNTIF([2]Summary!$B$30:$B$1029,INDIRECT($A$14&ROW())),\"\"),\"\")","v":""}]
[{"$f":"IFERROR(IF(INDIRECT($A$14&ROW())<>\"\",COUNTIF([2]Summary!$B$30:$B$1029,INDIRECT($A$14&ROW())),\"\"),\"\")","v":""}]
[{"$f":"IFERROR(IF(INDIRECT($A$14&ROW())<>\"\",COUNTIF([2]Summary!$B$30:$B$1029,INDIRECT($A$14&ROW())),\"\"),\"\")","v":""}]
[{"$f":"IFERROR(IF(INDIRECT($A$14&ROW())<>\"\",COUNTIF([2]Summary!$B$30:$B$1029,INDIRECT($A$14&ROW())),\"\"),\"\")","v":""}]
[{"$f":"IFERROR(IF(INDIRECT($A$14&ROW())<>\"\",COUNTIF([2]Summary!$B$30:$B$1029,INDIRECT($A$14&ROW())),\"\"),\"\")","v":""}]
[{"$f":"IFERROR(IF(INDIRECT($A$14&ROW())<>\"\",COUNTIF([2]Summary!$B$30:$B$1029,INDIRECT($A$14&ROW())),\"\"),\"\")","v":""}]
[{"$f":"IFERROR(IF(INDIRECT($A$14&ROW())<>\"\",COUNTIF([2]Summary!$B$30:$B$1029,INDIRECT($A$14&ROW())),\"\"),\"\")","v":""}]
[{"$f":"IFERROR(IF(INDIRECT($A$14&ROW())<>\"\",COUNTIF([2]Summary!$B$30:$B$1029,INDIRECT($A$14&ROW())),\"\"),\"\")","v":""}]
[{"$f":"IFERROR(IF(INDIRECT($A$14&ROW())<>\"\",COUNTIF([2]Summary!$B$30:$B$1029,INDIRECT($A$14&ROW())),\"\"),\"\")","v":""}]
[{"$f":"IFERROR(IF(INDIRECT($A$14&ROW())<>\"\",COUNTIF([2]Summary!$B$30:$B$1029,INDIRECT($A$14&ROW())),\"\"),\"\")","v":""}]
[{"$f":"IFERROR(IF(INDIRECT($A$14&ROW())<>\"\",COUNTIF([2]Summary!$B$30:$B$1029,INDIRECT($A$14&ROW())),\"\"),\"\")","v":""}]
[{"$f":"IFERROR(IF(INDIRECT($A$14&ROW())<>\"\",COUNTIF([2]Summary!$B$30:$B$1029,INDIRECT($A$14&ROW())),\"\"),\"\")","v":""}]
[{"$f":"IFERROR(IF(INDIRECT($A$14&ROW())<>\"\",COUNTIF([2]Summary!$B$30:$B$1029,INDIRECT($A$14&ROW())),\"\"),\"\")","v":""}]
[{"$f":"IFERROR(IF(INDIRECT($A$14&ROW())<>\"\",COUNTIF([2]Summary!$B$30:$B$1029,INDIRECT($A$14&ROW())),\"\"),\"\")","v":""}]
[{"$f":"IFERROR(IF(INDIRECT($A$14&ROW())<>\"\",COUNTIF([2]Summary!$B$30:$B$1029,INDIRECT($A$14&ROW())),\"\"),\"\")","v":""}]
[{"$f":"IFERROR(IF(INDIRECT($A$14&ROW())<>\"\",COUNTIF([2]Summary!$B$30:$B$1029,INDIRECT($A$14&ROW())),\"\"),\"\")","v":""}]
[{"$f":"IFERROR(IF(INDIRECT($A$14&ROW())<>\"\",COUNTIF([2]Summary!$B$30:$B$1029,INDIRECT($A$14&ROW())),\"\"),\"\")","v":""}]
[{"$f":"IFERROR(IF(INDIRECT($A$14&ROW())<>\"\",COUNTIF([2]Summary!$B$30:$B$1029,INDIRECT($A$14&ROW())),\"\"),\"\")","v":""}]
[{"$f":"IFERROR(IF(INDIRECT($A$14&ROW())<>\"\",COUNTIF([2]Summary!$B$30:$B$1029,INDIRECT($A$14&ROW())),\"\"),\"\")","v":""}]
[{"$f":"IFERROR(IF(INDIRECT($A$14&ROW())<>\"\",COUNTIF([2]Summary!$B$30:$B$1029,INDIRECT($A$14&ROW())),\"\"),\"\")","v":""}]
[{"$f":"IFERROR(IF(INDIRECT($A$14&ROW())<>\"\",COUNTIF([2]Summary!$B$30:$B$1029,INDIRECT($A$14&ROW())),\"\"),\"\")","v":""}]
[{"$f":"IFERROR(IF(INDIRECT($A$14&ROW())<>\"\",COUNTIF([2]Summary!$B$30:$B$1029,INDIRECT($A$14&ROW())),\"\"),\"\")","v":""}]
[{"$f":"IFERROR(IF(INDIRECT($A$14&ROW())<>\"\",COUNTIF([2]Summary!$B$30:$B$1029,INDIRECT($A$14&ROW())),\"\"),\"\")","v":""}]
[{"$f":"IFERROR(IF(INDIRECT($A$14&ROW())<>\"\",COUNTIF([2]Summary!$B$30:$B$1029,INDIRECT($A$14&ROW())),\"\"),\"\")","v":""}]
[{"$f":"IFERROR(IF(INDIRECT($A$14&ROW())<>\"\",COUNTIF([2]Summary!$B$30:$B$1029,INDIRECT($A$14&ROW())),\"\"),\"\")","v":""}]
[{"$f":"IFERROR(IF(INDIRECT($A$14&ROW())<>\"\",COUNTIF([2]Summary!$B$30:$B$1029,INDIRECT($A$14&ROW())),\"\"),\"\")","v":""}]
[{"$f":"IFERROR(IF(INDIRECT($A$14&ROW())<>\"\",COUNTIF([2]Summary!$B$30:$B$1029,INDIRECT($A$14&ROW())),\"\"),\"\")","v":""}]
[{"$f":"IFERROR(IF(INDIRECT($A$14&ROW())<>\"\",COUNTIF([2]Summary!$B$30:$B$1029,INDIRECT($A$14&ROW())),\"\"),\"\")","v":""}]
[{"$f":"IFERROR(IF(INDIRECT($A$14&ROW())<>\"\",COUNTIF([2]Summary!$B$30:$B$1029,INDIRECT($A$14&ROW())),\"\"),\"\")","v":""}]
[{"$f":"IFERROR(IF(INDIRECT($A$14&ROW())<>\"\",COUNTIF([2]Summary!$B$30:$B$1029,INDIRECT($A$14&ROW())),\"\"),\"\")","v":""}]
[{"$f":"IFERROR(IF(INDIRECT($A$14&ROW())<>\"\",COUNTIF([2]Summary!$B$30:$B$1029,INDIRECT($A$14&ROW())),\"\"),\"\")","v":""}]
[{"$f":"IFERROR(IF(INDIRECT($A$14&ROW())<>\"\",COUNTIF([2]Summary!$B$30:$B$1029,INDIRECT($A$14&ROW())),\"\"),\"\")","v":""}]
[{"$f":"IFERROR(IF(INDIRECT($A$14&ROW())<>\"\",COUNTIF([2]Summary!$B$30:$B$1029,INDIRECT($A$14&ROW())),\"\"),\"\")","v":""}]
[{"$f":"IFERROR(IF(INDIRECT($A$14&ROW())<>\"\",COUNTIF([2]Summary!$B$30:$B$1029,INDIRECT($A$14&ROW())),\"\"),\"\")","v":""}]
[{"$f":"IFERROR(IF(INDIRECT($A$14&ROW())<>\"\",COUNTIF([2]Summary!$B$30:$B$1029,INDIRECT($A$14&ROW())),\"\"),\"\")","v":""}]
[{"$f":"IFERROR(IF(INDIRECT($A$14&ROW())<>\"\",COUNTIF([2]Summary!$B$30:$B$1029,INDIRECT($A$14&ROW())),\"\"),\"\")","v":""}]
[{"$f":"IFERROR(IF(INDIRECT($A$14&ROW())<>\"\",COUNTIF([2]Summary!$B$30:$B$1029,INDIRECT($A$14&ROW())),\"\"),\"\")","v":""}]
[{"$f":"IFERROR(IF(INDIRECT($A$14&ROW())<>\"\",COUNTIF([2]Summary!$B$30:$B$1029,INDIRECT($A$14&ROW())),\"\"),\"\")","v":""}]
[{"$f":"IFERROR(IF(INDIRECT($A$14&ROW())<>\"\",COUNTIF([2]Summary!$B$30:$B$1029,INDIRECT($A$14&ROW())),\"\"),\"\")","v":""}]
[{"$f":"IFERROR(IF(INDIRECT($A$14&ROW())<>\"\",COUNTIF([2]Summary!$B$30:$B$1029,INDIRECT($A$14&ROW())),\"\"),\"\")","v":""}]
[{"$f":"IFERROR(IF(INDIRECT($A$14&ROW())<>\"\",COUNTIF([2]Summary!$B$30:$B$1029,INDIRECT($A$14&ROW())),\"\"),\"\")","v":""}]
[{"$f":"IFERROR(IF(INDIRECT($A$14&ROW())<>\"\",COUNTIF([2]Summary!$B$30:$B$1029,INDIRECT($A$14&ROW())),\"\"),\"\")","v":""}]
[{"$f":"IFERROR(IF(INDIRECT($A$14&ROW())<>\"\",COUNTIF([2]Summary!$B$30:$B$1029,INDIRECT($A$14&ROW())),\"\"),\"\")","v":""}]
[{"$f":"IFERROR(IF(INDIRECT($A$14&ROW())<>\"\",COUNTIF([2]Summary!$B$30:$B$1029,INDIRECT($A$14&ROW())),\"\"),\"\")","v":""}]
[{"$f":"IFERROR(IF(INDIRECT($A$14&ROW())<>\"\",COUNTIF([2]Summary!$B$30:$B$1029,INDIRECT($A$14&ROW())),\"\"),\"\")","v":""}]
[{"$f":"IFERROR(IF(INDIRECT($A$14&ROW())<>\"\",COUNTIF([2]Summary!$B$30:$B$1029,INDIRECT($A$14&ROW())),\"\"),\"\")","v":""}]
[{"$f":"IFERROR(IF(INDIRECT($A$14&ROW())<>\"\",COUNTIF([2]Summary!$B$30:$B$1029,INDIRECT($A$14&ROW())),\"\"),\"\")","v":""}]
[{"$f":"IFERROR(IF(INDIRECT($A$14&ROW())<>\"\",COUNTIF([2]Summary!$B$30:$B$1029,INDIRECT($A$14&ROW())),\"\"),\"\")","v":""}]
[{"$f":"IFERROR(IF(INDIRECT($A$14&ROW())<>\"\",COUNTIF([2]Summary!$B$30:$B$1029,INDIRECT($A$14&ROW())),\"\"),\"\")","v":""}]
[{"$f":"IFERROR(IF(INDIRECT($A$14&ROW())<>\"\",COUNTIF([2]Summary!$B$30:$B$1029,INDIRECT($A$14&ROW())),\"\"),\"\")","v":""}]
[{"$f":"IFERROR(IF(INDIRECT($A$14&ROW())<>\"\",COUNTIF([2]Summary!$B$30:$B$1029,INDIRECT($A$14&ROW())),\"\"),\"\")","v":""}]
[{"$f":"IFERROR(IF(INDIRECT($A$14&ROW())<>\"\",COUNTIF([2]Summary!$B$30:$B$1029,INDIRECT($A$14&ROW())),\"\"),\"\")","v":""}]
[{"$f":"IFERROR(IF(INDIRECT($A$14&ROW())<>\"\",COUNTIF([2]Summary!$B$30:$B$1029,INDIRECT($A$14&ROW())),\"\"),\"\")","v":""}]
[{"$f":"IFERROR(IF(INDIRECT($A$14&ROW())<>\"\",COUNTIF([2]Summary!$B$30:$B$1029,INDIRECT($A$14&ROW())),\"\"),\"\")","v":""}]
[{"$f":"IFERROR(IF(INDIRECT($A$14&ROW())<>\"\",COUNTIF([2]Summary!$B$30:$B$1029,INDIRECT($A$14&ROW())),\"\"),\"\")","v":""}]
[{"$f":"IFERROR(IF(INDIRECT($A$14&ROW())<>\"\",COUNTIF([2]Summary!$B$30:$B$1029,INDIRECT($A$14&ROW())),\"\"),\"\")","v":""}]
[{"$f":"IFERROR(IF(INDIRECT($A$14&ROW())<>\"\",COUNTIF([2]Summary!$B$30:$B$1029,INDIRECT($A$14&ROW())),\"\"),\"\")","v":""}]
[{"$f":"IFERROR(IF(INDIRECT($A$14&ROW())<>\"\",COUNTIF([2]Summary!$B$30:$B$1029,INDIRECT($A$14&ROW())),\"\"),\"\")","v":""}]
[{"$f":"IFERROR(IF(INDIRECT($A$14&ROW())<>\"\",COUNTIF([2]Summary!$B$30:$B$1029,INDIRECT($A$14&ROW())),\"\"),\"\")","v":""}]
[{"$f":"IFERROR(IF(INDIRECT($A$14&ROW())<>\"\",COUNTIF([2]Summary!$B$30:$B$1029,INDIRECT($A$14&ROW())),\"\"),\"\")","v":""}]
[{"$f":"IFERROR(IF(INDIRECT($A$14&ROW())<>\"\",COUNTIF([2]Summary!$B$30:$B$1029,INDIRECT($A$14&ROW())),\"\"),\"\")","v":""}]
[{"$f":"IFERROR(IF(INDIRECT($A$14&ROW())<>\"\",COUNTIF([2]Summary!$B$30:$B$1029,INDIRECT($A$14&ROW())),\"\"),\"\")","v":""}]
[{"$f":"IFERROR(IF(INDIRECT($A$14&ROW())<>\"\",COUNTIF([2]Summary!$B$30:$B$1029,INDIRECT($A$14&ROW())),\"\"),\"\")","v":""}]
[{"$f":"IFERROR(IF(INDIRECT($A$14&ROW())<>\"\",COUNTIF([2]Summary!$B$30:$B$1029,INDIRECT($A$14&ROW())),\"\"),\"\")","v":""}]
[{"$f":"IFERROR(IF(INDIRECT($A$14&ROW())<>\"\",COUNTIF([2]Summary!$B$30:$B$1029,INDIRECT($A$14&ROW())),\"\"),\"\")","v":""}]
[{"$f":"IFERROR(IF(INDIRECT($A$14&ROW())<>\"\",COUNTIF([2]Summary!$B$30:$B$1029,INDIRECT($A$14&ROW())),\"\"),\"\")","v":""}]
[{"$f":"IFERROR(IF(INDIRECT($A$14&ROW())<>\"\",COUNTIF([2]Summary!$B$30:$B$1029,INDIRECT($A$14&ROW())),\"\"),\"\")","v":""}]
[{"$f":"IFERROR(IF(INDIRECT($A$14&ROW())<>\"\",COUNTIF([2]Summary!$B$30:$B$1029,INDIRECT($A$14&ROW())),\"\"),\"\")","v":""}]
[{"$f":"IFERROR(IF(INDIRECT($A$14&ROW())<>\"\",COUNTIF([2]Summary!$B$30:$B$1029,INDIRECT($A$14&ROW())),\"\"),\"\")","v":""}]
[{"$f":"IFERROR(IF(INDIRECT($A$14&ROW())<>\"\",COUNTIF([2]Summary!$B$30:$B$1029,INDIRECT($A$14&ROW())),\"\"),\"\")","v":""}]
[{"$f":"IFERROR(IF(INDIRECT($A$14&ROW())<>\"\",COUNTIF([2]Summary!$B$30:$B$1029,INDIRECT($A$14&ROW())),\"\"),\"\")","v":""}]
[{"$f":"IFERROR(IF(INDIRECT($A$14&ROW())<>\"\",COUNTIF([2]Summary!$B$30:$B$1029,INDIRECT($A$14&ROW())),\"\"),\"\")","v":""}]
[{"$f":"IFERROR(IF(INDIRECT($A$14&ROW())<>\"\",COUNTIF([2]Summary!$B$30:$B$1029,INDIRECT($A$14&ROW())),\"\"),\"\")","v":""}]
[{"$f":"IFERROR(IF(INDIRECT($A$14&ROW())<>\"\",COUNTIF([2]Summary!$B$30:$B$1029,INDIRECT($A$14&ROW())),\"\"),\"\")","v":""}]
[{"$f":"IFERROR(IF(INDIRECT($A$14&ROW())<>\"\",COUNTIF([2]Summary!$B$30:$B$1029,INDIRECT($A$14&ROW())),\"\"),\"\")","v":""}]
[{"$f":"IFERROR(IF(INDIRECT($A$14&ROW())<>\"\",COUNTIF([2]Summary!$B$30:$B$1029,INDIRECT($A$14&ROW())),\"\"),\"\")","v":""}]
[{"$f":"IFERROR(IF(INDIRECT($A$14&ROW())<>\"\",COUNTIF([2]Summary!$B$30:$B$1029,INDIRECT($A$14&ROW())),\"\"),\"\")","v":""}]
[{"$f":"IFERROR(IF(INDIRECT($A$14&ROW())<>\"\",COUNTIF([2]Summary!$B$30:$B$1029,INDIRECT($A$14&ROW())),\"\"),\"\")","v":""}]
[{"$f":"IFERROR(IF(INDIRECT($A$14&ROW())<>\"\",COUNTIF([2]Summary!$B$30:$B$1029,INDIRECT($A$14&ROW())),\"\"),\"\")","v":""}]
[{"$f":"IFERROR(IF(INDIRECT($A$14&ROW())<>\"\",COUNTIF([2]Summary!$B$30:$B$1029,INDIRECT($A$14&ROW())),\"\"),\"\")","v":""}]
[{"$f":"IFERROR(IF(INDIRECT($A$14&ROW())<>\"\",COUNTIF([2]Summary!$B$30:$B$1029,INDIRECT($A$14&ROW())),\"\"),\"\")","v":""}]
[{"$f":"IFERROR(IF(INDIRECT($A$14&ROW())<>\"\",COUNTIF([2]Summary!$B$30:$B$1029,INDIRECT($A$14&ROW())),\"\"),\"\")","v":""}]
[{"$f":"IFERROR(IF(INDIRECT($A$14&ROW())<>\"\",COUNTIF([2]Summary!$B$30:$B$1029,INDIRECT($A$14&ROW())),\"\"),\"\")","v":""}]
[{"$f":"IFERROR(IF(INDIRECT($A$14&ROW())<>\"\",COUNTIF([2]Summary!$B$30:$B$1029,INDIRECT($A$14&ROW())),\"\"),\"\")","v":""}]
[{"$f":"IFERROR(IF(INDIRECT($A$14&ROW())<>\"\",COUNTIF([2]Summary!$B$30:$B$1029,INDIRECT($A$14&ROW())),\"\"),\"\")","v":""}]
[{"$f":"IFERROR(IF(INDIRECT($A$14&ROW())<>\"\",COUNTIF([2]Summary!$B$30:$B$1029,INDIRECT($A$14&ROW())),\"\"),\"\")","v":""}]
[{"$f":"IFERROR(IF(INDIRECT($A$14&ROW())<>\"\",COUNTIF([2]Summary!$B$30:$B$1029,INDIRECT($A$14&ROW())),\"\"),\"\")","v":""}]
[{"$f":"IFERROR(IF(INDIRECT($A$14&ROW())<>\"\",COUNTIF([2]Summary!$B$30:$B$1029,INDIRECT($A$14&ROW())),\"\"),\"\")","v":""}]
[{"$f":"IFERROR(IF(INDIRECT($A$14&ROW())<>\"\",COUNTIF([2]Summary!$B$30:$B$1029,INDIRECT($A$14&ROW())),\"\"),\"\")","v":""}]
[{"$f":"IFERROR(IF(INDIRECT($A$14&ROW())<>\"\",COUNTIF([2]Summary!$B$30:$B$1029,INDIRECT($A$14&ROW())),\"\"),\"\")","v":""}]
[{"$f":"IFERROR(IF(INDIRECT($A$14&ROW())<>\"\",COUNTIF([2]Summary!$B$30:$B$1029,INDIRECT($A$14&ROW())),\"\"),\"\")","v":""}]
[{"$f":"IFERROR(IF(INDIRECT($A$14&ROW())<>\"\",COUNTIF([2]Summary!$B$30:$B$1029,INDIRECT($A$14&ROW())),\"\"),\"\")","v":""}]
[{"$f":"IFERROR(IF(INDIRECT($A$14&ROW())<>\"\",COUNTIF([2]Summary!$B$30:$B$1029,INDIRECT($A$14&ROW())),\"\"),\"\")","v":""}]
[{"$f":"IFERROR(IF(INDIRECT($A$14&ROW())<>\"\",COUNTIF([2]Summary!$B$30:$B$1029,INDIRECT($A$14&ROW())),\"\"),\"\")","v":""}]
[{"$f":"IFERROR(IF(INDIRECT($A$14&ROW())<>\"\",COUNTIF([2]Summary!$B$30:$B$1029,INDIRECT($A$14&ROW())),\"\"),\"\")","v":""}]
[{"$f":"IFERROR(IF(INDIRECT($A$14&ROW())<>\"\",COUNTIF([2]Summary!$B$30:$B$1029,INDIRECT($A$14&ROW())),\"\"),\"\")","v":""}]
[{"$f":"IFERROR(IF(INDIRECT($A$14&ROW())<>\"\",COUNTIF([2]Summary!$B$30:$B$1029,INDIRECT($A$14&ROW())),\"\"),\"\")","v":""}]
[{"$f":"IFERROR(IF(INDIRECT($A$14&ROW())<>\"\",COUNTIF([2]Summary!$B$30:$B$1029,INDIRECT($A$14&ROW())),\"\"),\"\")","v":""}]
[{"$f":"IFERROR(IF(INDIRECT($A$14&ROW())<>\"\",COUNTIF([2]Summary!$B$30:$B$1029,INDIRECT($A$14&ROW())),\"\"),\"\")","v":""}]
[{"$f":"IFERROR(IF(INDIRECT($A$14&ROW())<>\"\",COUNTIF([2]Summary!$B$30:$B$1029,INDIRECT($A$14&ROW())),\"\"),\"\")","v":""}]
[{"$f":"IFERROR(IF(INDIRECT($A$14&ROW())<>\"\",COUNTIF([2]Summary!$B$30:$B$1029,INDIRECT($A$14&ROW())),\"\"),\"\")","v":""}]
[{"$f":"IFERROR(IF(INDIRECT($A$14&ROW())<>\"\",COUNTIF([2]Summary!$B$30:$B$1029,INDIRECT($A$14&ROW())),\"\"),\"\")","v":""}]
[{"$f":"IFERROR(IF(INDIRECT($A$14&ROW())<>\"\",COUNTIF([2]Summary!$B$30:$B$1029,INDIRECT($A$14&ROW())),\"\"),\"\")","v":""}]
[{"$f":"IFERROR(IF(INDIRECT($A$14&ROW())<>\"\",COUNTIF([2]Summary!$B$30:$B$1029,INDIRECT($A$14&ROW())),\"\"),\"\")","v":""}]
[{"$f":"IFERROR(IF(INDIRECT($A$14&ROW())<>\"\",COUNTIF([2]Summary!$B$30:$B$1029,INDIRECT($A$14&ROW())),\"\"),\"\")","v":""}]
[{"$f":"IFERROR(IF(INDIRECT($A$14&ROW())<>\"\",COUNTIF([2]Summary!$B$30:$B$1029,INDIRECT($A$14&ROW())),\"\"),\"\")","v":""}]
[{"$f":"IFERROR(IF(INDIRECT($A$14&ROW())<>\"\",COUNTIF([2]Summary!$B$30:$B$1029,INDIRECT($A$14&ROW())),\"\"),\"\")","v":""}]
[{"$f":"IFERROR(IF(INDIRECT($A$14&ROW())<>\"\",COUNTIF([2]Summary!$B$30:$B$1029,INDIRECT($A$14&ROW())),\"\"),\"\")","v":""}]
[{"$f":"IFERROR(IF(INDIRECT($A$14&ROW())<>\"\",COUNTIF([2]Summary!$B$30:$B$1029,INDIRECT($A$14&ROW())),\"\"),\"\")","v":""}]
[{"$f":"IFERROR(IF(INDIRECT($A$14&ROW())<>\"\",COUNTIF([2]Summary!$B$30:$B$1029,INDIRECT($A$14&ROW())),\"\"),\"\")","v":""}]
[{"$f":"IFERROR(IF(INDIRECT($A$14&ROW())<>\"\",COUNTIF([2]Summary!$B$30:$B$1029,INDIRECT($A$14&ROW())),\"\"),\"\")","v":""}]
[{"$f":"IFERROR(IF(INDIRECT($A$14&ROW())<>\"\",COUNTIF([2]Summary!$B$30:$B$1029,INDIRECT($A$14&ROW())),\"\"),\"\")","v":""}]
[{"$f":"IFERROR(IF(INDIRECT($A$14&ROW())<>\"\",COUNTIF([2]Summary!$B$30:$B$1029,INDIRECT($A$14&ROW())),\"\"),\"\")","v":""}]
[{"$f":"IFERROR(IF(INDIRECT($A$14&ROW())<>\"\",COUNTIF([2]Summary!$B$30:$B$1029,INDIRECT($A$14&ROW())),\"\"),\"\")","v":""}]
[{"$f":"IFERROR(IF(INDIRECT($A$14&ROW())<>\"\",COUNTIF([2]Summary!$B$30:$B$1029,INDIRECT($A$14&ROW())),\"\"),\"\")","v":""}]
[{"$f":"IFERROR(IF(INDIRECT($A$14&ROW())<>\"\",COUNTIF([2]Summary!$B$30:$B$1029,INDIRECT($A$14&ROW())),\"\"),\"\")","v":""}]
[{"$f":"IFERROR(IF(INDIRECT($A$14&ROW())<>\"\",COUNTIF([2]Summary!$B$30:$B$1029,INDIRECT($A$14&ROW())),\"\"),\"\")","v":""}]
[{"$f":"IFERROR(IF(INDIRECT($A$14&ROW())<>\"\",COUNTIF([2]Summary!$B$30:$B$1029,INDIRECT($A$14&ROW())),\"\"),\"\")","v":""}]
[{"$f":"IFERROR(IF(INDIRECT($A$14&ROW())<>\"\",COUNTIF([2]Summary!$B$30:$B$1029,INDIRECT($A$14&ROW())),\"\"),\"\")","v":""}]
[{"$f":"IFERROR(IF(INDIRECT($A$14&ROW())<>\"\",COUNTIF([2]Summary!$B$30:$B$1029,INDIRECT($A$14&ROW())),\"\"),\"\")","v":""}]
[{"$f":"IFERROR(IF(INDIRECT($A$14&ROW())<>\"\",COUNTIF([2]Summary!$B$30:$B$1029,INDIRECT($A$14&ROW())),\"\"),\"\")","v":""}]
[{"$f":"IFERROR(IF(INDIRECT($A$14&ROW())<>\"\",COUNTIF([2]Summary!$B$30:$B$1029,INDIRECT($A$14&ROW())),\"\"),\"\")","v":""}]
[{"$f":"IFERROR(IF(INDIRECT($A$14&ROW())<>\"\",COUNTIF([2]Summary!$B$30:$B$1029,INDIRECT($A$14&ROW())),\"\"),\"\")","v":""}]
[{"$f":"IFERROR(IF(INDIRECT($A$14&ROW())<>\"\",COUNTIF([2]Summary!$B$30:$B$1029,INDIRECT($A$14&ROW())),\"\"),\"\")","v":""}]
[{"$f":"IFERROR(IF(INDIRECT($A$14&ROW())<>\"\",COUNTIF([2]Summary!$B$30:$B$1029,INDIRECT($A$14&ROW())),\"\"),\"\")","v":""}]
[{"$f":"IFERROR(IF(INDIRECT($A$14&ROW())<>\"\",COUNTIF([2]Summary!$B$30:$B$1029,INDIRECT($A$14&ROW())),\"\"),\"\")","v":""}]
[{"$f":"IFERROR(IF(INDIRECT($A$14&ROW())<>\"\",COUNTIF([2]Summary!$B$30:$B$1029,INDIRECT($A$14&ROW())),\"\"),\"\")","v":""}]
[{"$f":"IFERROR(IF(INDIRECT($A$14&ROW())<>\"\",COUNTIF([2]Summary!$B$30:$B$1029,INDIRECT($A$14&ROW())),\"\"),\"\")","v":""}]
[{"$f":"IFERROR(IF(INDIRECT($A$14&ROW())<>\"\",COUNTIF([2]Summary!$B$30:$B$1029,INDIRECT($A$14&ROW())),\"\"),\"\")","v":""}]
[{"$f":"IFERROR(IF(INDIRECT($A$14&ROW())<>\"\",COUNTIF([2]Summary!$B$30:$B$1029,INDIRECT($A$14&ROW())),\"\"),\"\")","v":""}]
[{"$f":"IFERROR(IF(INDIRECT($A$14&ROW())<>\"\",COUNTIF([2]Summary!$B$30:$B$1029,INDIRECT($A$14&ROW())),\"\"),\"\")","v":""}]
[{"$f":"IFERROR(IF(INDIRECT($A$14&ROW())<>\"\",COUNTIF([2]Summary!$B$30:$B$1029,INDIRECT($A$14&ROW())),\"\"),\"\")","v":""}]
[{"$f":"IFERROR(IF(INDIRECT($A$14&ROW())<>\"\",COUNTIF([2]Summary!$B$30:$B$1029,INDIRECT($A$14&ROW())),\"\"),\"\")","v":""}]
[{"$f":"IFERROR(IF(INDIRECT($A$14&ROW())<>\"\",COUNTIF([2]Summary!$B$30:$B$1029,INDIRECT($A$14&ROW())),\"\"),\"\")","v":""}]
[{"$f":"IFERROR(IF(INDIRECT($A$14&ROW())<>\"\",COUNTIF([2]Summary!$B$30:$B$1029,INDIRECT($A$14&ROW())),\"\"),\"\")","v":""}]
[{"$f":"IFERROR(IF(INDIRECT($A$14&ROW())<>\"\",COUNTIF([2]Summary!$B$30:$B$1029,INDIRECT($A$14&ROW())),\"\"),\"\")","v":""}]
[{"$f":"IFERROR(IF(INDIRECT($A$14&ROW())<>\"\",COUNTIF([2]Summary!$B$30:$B$1029,INDIRECT($A$14&ROW())),\"\"),\"\")","v":""}]
[{"$f":"IFERROR(IF(INDIRECT($A$14&ROW())<>\"\",COUNTIF([2]Summary!$B$30:$B$1029,INDIRECT($A$14&ROW())),\"\"),\"\")","v":""}]
[{"$f":"IFERROR(IF(INDIRECT($A$14&ROW())<>\"\",COUNTIF([2]Summary!$B$30:$B$1029,INDIRECT($A$14&ROW())),\"\"),\"\")","v":""}]
[{"$f":"IFERROR(IF(INDIRECT($A$14&ROW())<>\"\",COUNTIF([2]Summary!$B$30:$B$1029,INDIRECT($A$14&ROW())),\"\"),\"\")","v":""}]
[{"$f":"IFERROR(IF(INDIRECT($A$14&ROW())<>\"\",COUNTIF([2]Summary!$B$30:$B$1029,INDIRECT($A$14&ROW())),\"\"),\"\")","v":""}]
[{"$f":"IFERROR(IF(INDIRECT($A$14&ROW())<>\"\",COUNTIF([2]Summary!$B$30:$B$1029,INDIRECT($A$14&ROW())),\"\"),\"\")","v":""}]
[{"$f":"IFERROR(IF(INDIRECT($A$14&ROW())<>\"\",COUNTIF([2]Summary!$B$30:$B$1029,INDIRECT($A$14&ROW())),\"\"),\"\")","v":""}]
[{"$f":"IFERROR(IF(INDIRECT($A$14&ROW())<>\"\",COUNTIF([2]Summary!$B$30:$B$1029,INDIRECT($A$14&ROW())),\"\"),\"\")","v":""}]
[{"$f":"IFERROR(IF(INDIRECT($A$14&ROW())<>\"\",COUNTIF([2]Summary!$B$30:$B$1029,INDIRECT($A$14&ROW())),\"\"),\"\")","v":""}]
[{"$f":"IFERROR(IF(INDIRECT($A$14&ROW())<>\"\",COUNTIF([2]Summary!$B$30:$B$1029,INDIRECT($A$14&ROW())),\"\"),\"\")","v":""}]
[{"$f":"IFERROR(IF(INDIRECT($A$14&ROW())<>\"\",COUNTIF([2]Summary!$B$30:$B$1029,INDIRECT($A$14&ROW())),\"\"),\"\")","v":""}]
[{"$f":"IFERROR(IF(INDIRECT($A$14&ROW())<>\"\",COUNTIF([2]Summary!$B$30:$B$1029,INDIRECT($A$14&ROW())),\"\"),\"\")","v":""}]
[{"$f":"IFERROR(IF(INDIRECT($A$14&ROW())<>\"\",COUNTIF([2]Summary!$B$30:$B$1029,INDIRECT($A$14&ROW())),\"\"),\"\")","v":""}]
[{"$f":"IFERROR(IF(INDIRECT($A$14&ROW())<>\"\",COUNTIF([2]Summary!$B$30:$B$1029,INDIRECT($A$14&ROW())),\"\"),\"\")","v":""}]
[{"$f":"IFERROR(IF(INDIRECT($A$14&ROW())<>\"\",COUNTIF([2]Summary!$B$30:$B$1029,INDIRECT($A$14&ROW())),\"\"),\"\")","v":""}]
[{"$f":"IFERROR(IF(INDIRECT($A$14&ROW())<>\"\",COUNTIF([2]Summary!$B$30:$B$1029,INDIRECT($A$14&ROW())),\"\"),\"\")","v":""}]
[{"$f":"IFERROR(IF(INDIRECT($A$14&ROW())<>\"\",COUNTIF([2]Summary!$B$30:$B$1029,INDIRECT($A$14&ROW())),\"\"),\"\")","v":""}]
[{"$f":"IFERROR(IF(INDIRECT($A$14&ROW())<>\"\",COUNTIF([2]Summary!$B$30:$B$1029,INDIRECT($A$14&ROW())),\"\"),\"\")","v":""}]
[{"$f":"IFERROR(IF(INDIRECT($A$14&ROW())<>\"\",COUNTIF([2]Summary!$B$30:$B$1029,INDIRECT($A$14&ROW())),\"\"),\"\")","v":""}]
[{"$f":"IFERROR(IF(INDIRECT($A$14&ROW())<>\"\",COUNTIF([2]Summary!$B$30:$B$1029,INDIRECT($A$14&ROW())),\"\"),\"\")","v":""}]
[{"$f":"IFERROR(IF(INDIRECT($A$14&ROW())<>\"\",COUNTIF([2]Summary!$B$30:$B$1029,INDIRECT($A$14&ROW())),\"\"),\"\")","v":""}]
[{"$f":"IFERROR(IF(INDIRECT($A$14&ROW())<>\"\",COUNTIF([2]Summary!$B$30:$B$1029,INDIRECT($A$14&ROW())),\"\"),\"\")","v":""}]
[{"$f":"IFERROR(IF(INDIRECT($A$14&ROW())<>\"\",COUNTIF([2]Summary!$B$30:$B$1029,INDIRECT($A$14&ROW())),\"\"),\"\")","v":""}]
[{"$f":"IFERROR(IF(INDIRECT($A$14&ROW())<>\"\",COUNTIF([2]Summary!$B$30:$B$1029,INDIRECT($A$14&ROW())),\"\"),\"\")","v":""}]
[{"$f":"IFERROR(IF(INDIRECT($A$14&ROW())<>\"\",COUNTIF([2]Summary!$B$30:$B$1029,INDIRECT($A$14&ROW())),\"\"),\"\")","v":""}]
[{"$f":"IFERROR(IF(INDIRECT($A$14&ROW())<>\"\",COUNTIF([2]Summary!$B$30:$B$1029,INDIRECT($A$14&ROW())),\"\"),\"\")","v":""}]
[{"$f":"IFERROR(IF(INDIRECT($A$14&ROW())<>\"\",COUNTIF([2]Summary!$B$30:$B$1029,INDIRECT($A$14&ROW())),\"\"),\"\")","v":""}]
[{"$f":"IFERROR(IF(INDIRECT($A$14&ROW())<>\"\",COUNTIF([2]Summary!$B$30:$B$1029,INDIRECT($A$14&ROW())),\"\"),\"\")","v":""}]
[{"$f":"IFERROR(IF(INDIRECT($A$14&ROW())<>\"\",COUNTIF([2]Summary!$B$30:$B$1029,INDIRECT($A$14&ROW())),\"\"),\"\")","v":""}]
[{"$f":"IFERROR(IF(INDIRECT($A$14&ROW())<>\"\",COUNTIF([2]Summary!$B$30:$B$1029,INDIRECT($A$14&ROW())),\"\"),\"\")","v":""}]
[{"$f":"IFERROR(IF(INDIRECT($A$14&ROW())<>\"\",COUNTIF([2]Summary!$B$30:$B$1029,INDIRECT($A$14&ROW())),\"\"),\"\")","v":""}]
[{"$f":"IFERROR(IF(INDIRECT($A$14&ROW())<>\"\",COUNTIF([2]Summary!$B$30:$B$1029,INDIRECT($A$14&ROW())),\"\"),\"\")","v":""}]
[{"$f":"IFERROR(IF(INDIRECT($A$14&ROW())<>\"\",COUNTIF([2]Summary!$B$30:$B$1029,INDIRECT($A$14&ROW())),\"\"),\"\")","v":""}]
[{"$f":"IFERROR(IF(INDIRECT($A$14&ROW())<>\"\",COUNTIF([2]Summary!$B$30:$B$1029,INDIRECT($A$14&ROW())),\"\"),\"\")","v":""}]
[{"$f":"IFERROR(IF(INDIRECT($A$14&ROW())<>\"\",COUNTIF([2]Summary!$B$30:$B$1029,INDIRECT($A$14&ROW())),\"\"),\"\")","v":""}]
[{"$f":"IFERROR(IF(INDIRECT($A$14&ROW())<>\"\",COUNTIF([2]Summary!$B$30:$B$1029,INDIRECT($A$14&ROW())),\"\"),\"\")","v":""}]
[{"$f":"IFERROR(IF(INDIRECT($A$14&ROW())<>\"\",COUNTIF([2]Summary!$B$30:$B$1029,INDIRECT($A$14&ROW())),\"\"),\"\")","v":""}]
[{"$f":"IFERROR(IF(INDIRECT($A$14&ROW())<>\"\",COUNTIF([2]Summary!$B$30:$B$1029,INDIRECT($A$14&ROW())),\"\"),\"\")","v":""}]
[{"$f":"IFERROR(IF(INDIRECT($A$14&ROW())<>\"\",COUNTIF([2]Summary!$B$30:$B$1029,INDIRECT($A$14&ROW())),\"\"),\"\")","v":""}]
[{"$f":"IFERROR(IF(INDIRECT($A$14&ROW())<>\"\",COUNTIF([2]Summary!$B$30:$B$1029,INDIRECT($A$14&ROW())),\"\"),\"\")","v":""}]
[{"$f":"IFERROR(IF(INDIRECT($A$14&ROW())<>\"\",COUNTIF([2]Summary!$B$30:$B$1029,INDIRECT($A$14&ROW())),\"\"),\"\")","v":""}]
[{"$f":"IFERROR(IF(INDIRECT($A$14&ROW())<>\"\",COUNTIF([2]Summary!$B$30:$B$1029,INDIRECT($A$14&ROW())),\"\"),\"\")","v":""}]
[{"$f":"IFERROR(IF(INDIRECT($A$14&ROW())<>\"\",COUNTIF([2]Summary!$B$30:$B$1029,INDIRECT($A$14&ROW())),\"\"),\"\")","v":""}]
[{"$f":"IFERROR(IF(INDIRECT($A$14&ROW())<>\"\",COUNTIF([2]Summary!$B$30:$B$1029,INDIRECT($A$14&ROW())),\"\"),\"\")","v":""}]
[{"$f":"IFERROR(IF(INDIRECT($A$14&ROW())<>\"\",COUNTIF([2]Summary!$B$30:$B$1029,INDIRECT($A$14&ROW())),\"\"),\"\")","v":""}]
[{"$f":"IFERROR(IF(INDIRECT($A$14&ROW())<>\"\",COUNTIF([2]Summary!$B$30:$B$1029,INDIRECT($A$14&ROW())),\"\"),\"\")","v":""}]
[{"$f":"IFERROR(IF(INDIRECT($A$14&ROW())<>\"\",COUNTIF([2]Summary!$B$30:$B$1029,INDIRECT($A$14&ROW())),\"\"),\"\")","v":""}]
[{"$f":"IFERROR(IF(INDIRECT($A$14&ROW())<>\"\",COUNTIF([2]Summary!$B$30:$B$1029,INDIRECT($A$14&ROW())),\"\"),\"\")","v":""}]
[{"$f":"IFERROR(IF(INDIRECT($A$14&ROW())<>\"\",COUNTIF([2]Summary!$B$30:$B$1029,INDIRECT($A$14&ROW())),\"\"),\"\")","v":""}]
[{"$f":"IFERROR(IF(INDIRECT($A$14&ROW())<>\"\",COUNTIF([2]Summary!$B$30:$B$1029,INDIRECT($A$14&ROW())),\"\"),\"\")","v":""}]
[{"$f":"IFERROR(IF(INDIRECT($A$14&ROW())<>\"\",COUNTIF([2]Summary!$B$30:$B$1029,INDIRECT($A$14&ROW())),\"\"),\"\")","v":""}]
[{"$f":"IFERROR(IF(INDIRECT($A$14&ROW())<>\"\",COUNTIF([2]Summary!$B$30:$B$1029,INDIRECT($A$14&ROW())),\"\"),\"\")","v":""}]
[{"$f":"IFERROR(IF(INDIRECT($A$14&ROW())<>\"\",COUNTIF([2]Summary!$B$30:$B$1029,INDIRECT($A$14&ROW())),\"\"),\"\")","v":""}]
[{"$f":"IFERROR(IF(INDIRECT($A$14&ROW())<>\"\",COUNTIF([2]Summary!$B$30:$B$1029,INDIRECT($A$14&ROW())),\"\"),\"\")","v":""}]
[{"$f":"IFERROR(IF(INDIRECT($A$14&ROW())<>\"\",COUNTIF([2]Summary!$B$30:$B$1029,INDIRECT($A$14&ROW())),\"\"),\"\")","v":""}]
[{"$f":"IFERROR(IF(INDIRECT($A$14&ROW())<>\"\",COUNTIF([2]Summary!$B$30:$B$1029,INDIRECT($A$14&ROW())),\"\"),\"\")","v":""}]
[{"$f":"IFERROR(IF(INDIRECT($A$14&ROW())<>\"\",COUNTIF([2]Summary!$B$30:$B$1029,INDIRECT($A$14&ROW())),\"\"),\"\")","v":""}]
[{"$f":"IFERROR(IF(INDIRECT($A$14&ROW())<>\"\",COUNTIF([2]Summary!$B$30:$B$1029,INDIRECT($A$14&ROW())),\"\"),\"\")","v":""}]
[{"$f":"IFERROR(IF(INDIRECT($A$14&ROW())<>\"\",COUNTIF([2]Summary!$B$30:$B$1029,INDIRECT($A$14&ROW())),\"\"),\"\")","v":""}]
[{"$f":"IFERROR(IF(INDIRECT($A$14&ROW())<>\"\",COUNTIF([2]Summary!$B$30:$B$1029,INDIRECT($A$14&ROW())),\"\"),\"\")","v":""}]
[{"$f":"IFERROR(IF(INDIRECT($A$14&ROW())<>\"\",COUNTIF([2]Summary!$B$30:$B$1029,INDIRECT($A$14&ROW())),\"\"),\"\")","v":""}]
[{"$f":"IFERROR(IF(INDIRECT($A$14&ROW())<>\"\",COUNTIF([2]Summary!$B$30:$B$1029,INDIRECT($A$14&ROW())),\"\"),\"\")","v":""}]
[{"$f":"IFERROR(IF(INDIRECT($A$14&ROW())<>\"\",COUNTIF([2]Summary!$B$30:$B$1029,INDIRECT($A$14&ROW())),\"\"),\"\")","v":""}]
[{"$f":"IFERROR(IF(INDIRECT($A$14&ROW())<>\"\",COUNTIF([2]Summary!$B$30:$B$1029,INDIRECT($A$14&ROW())),\"\"),\"\")","v":""}]
[{"$f":"IFERROR(IF(INDIRECT($A$14&ROW())<>\"\",COUNTIF([2]Summary!$B$30:$B$1029,INDIRECT($A$14&ROW())),\"\"),\"\")","v":""}]
[{"$f":"IFERROR(IF(INDIRECT($A$14&ROW())<>\"\",COUNTIF([2]Summary!$B$30:$B$1029,INDIRECT($A$14&ROW())),\"\"),\"\")","v":""}]
[{"$f":"IFERROR(IF(INDIRECT($A$14&ROW())<>\"\",COUNTIF([2]Summary!$B$30:$B$1029,INDIRECT($A$14&ROW())),\"\"),\"\")","v":""}]
[{"$f":"IFERROR(IF(INDIRECT($A$14&ROW())<>\"\",COUNTIF([2]Summary!$B$30:$B$1029,INDIRECT($A$14&ROW())),\"\"),\"\")","v":""}]
[{"$f":"IFERROR(IF(INDIRECT($A$14&ROW())<>\"\",COUNTIF([2]Summary!$B$30:$B$1029,INDIRECT($A$14&ROW())),\"\"),\"\")","v":""}]
[{"$f":"IFERROR(IF(INDIRECT($A$14&ROW())<>\"\",COUNTIF([2]Summary!$B$30:$B$1029,INDIRECT($A$14&ROW())),\"\"),\"\")","v":""}]
[{"$f":"IFERROR(IF(INDIRECT($A$14&ROW())<>\"\",COUNTIF([2]Summary!$B$30:$B$1029,INDIRECT($A$14&ROW())),\"\"),\"\")","v":""}]
[{"$f":"IFERROR(IF(INDIRECT($A$14&ROW())<>\"\",COUNTIF([2]Summary!$B$30:$B$1029,INDIRECT($A$14&ROW())),\"\"),\"\")","v":""}]
[{"$f":"IFERROR(IF(INDIRECT($A$14&ROW())<>\"\",COUNTIF([2]Summary!$B$30:$B$1029,INDIRECT($A$14&ROW())),\"\"),\"\")","v":""}]
[{"$f":"IFERROR(IF(INDIRECT($A$14&ROW())<>\"\",COUNTIF([2]Summary!$B$30:$B$1029,INDIRECT($A$14&ROW())),\"\"),\"\")","v":""}]
[{"$f":"IFERROR(IF(INDIRECT($A$14&ROW())<>\"\",COUNTIF([2]Summary!$B$30:$B$1029,INDIRECT($A$14&ROW())),\"\"),\"\")","v":""}]
[{"$f":"IFERROR(IF(INDIRECT($A$14&ROW())<>\"\",COUNTIF([2]Summary!$B$30:$B$1029,INDIRECT($A$14&ROW())),\"\"),\"\")","v":""}]
[{"$f":"IFERROR(IF(INDIRECT($A$14&ROW())<>\"\",COUNTIF([2]Summary!$B$30:$B$1029,INDIRECT($A$14&ROW())),\"\"),\"\")","v":""}]
[{"$f":"IFERROR(IF(INDIRECT($A$14&ROW())<>\"\",COUNTIF([2]Summary!$B$30:$B$1029,INDIRECT($A$14&ROW())),\"\"),\"\")","v":""}]
[{"$f":"IFERROR(IF(INDIRECT($A$14&ROW())<>\"\",COUNTIF([2]Summary!$B$30:$B$1029,INDIRECT($A$14&ROW())),\"\"),\"\")","v":""}]
[{"$f":"IFERROR(IF(INDIRECT($A$14&ROW())<>\"\",COUNTIF([2]Summary!$B$30:$B$1029,INDIRECT($A$14&ROW())),\"\"),\"\")","v":""}]
[{"$f":"IFERROR(IF(INDIRECT($A$14&ROW())<>\"\",COUNTIF([2]Summary!$B$30:$B$1029,INDIRECT($A$14&ROW())),\"\"),\"\")","v":""}]
[{"$f":"IFERROR(IF(INDIRECT($A$14&ROW())<>\"\",COUNTIF([2]Summary!$B$30:$B$1029,INDIRECT($A$14&ROW())),\"\"),\"\")","v":""}]
[{"$f":"IFERROR(IF(INDIRECT($A$14&ROW())<>\"\",COUNTIF([2]Summary!$B$30:$B$1029,INDIRECT($A$14&ROW())),\"\"),\"\")","v":""}]
[{"$f":"IFERROR(IF(INDIRECT($A$14&ROW())<>\"\",COUNTIF([2]Summary!$B$30:$B$1029,INDIRECT($A$14&ROW())),\"\"),\"\")","v":""}]
[{"$f":"IFERROR(IF(INDIRECT($A$14&ROW())<>\"\",COUNTIF([2]Summary!$B$30:$B$1029,INDIRECT($A$14&ROW())),\"\"),\"\")","v":""}]
[{"$f":"IFERROR(IF(INDIRECT($A$14&ROW())<>\"\",COUNTIF([2]Summary!$B$30:$B$1029,INDIRECT($A$14&ROW())),\"\"),\"\")","v":""}]
[{"$f":"IFERROR(IF(INDIRECT($A$14&ROW())<>\"\",COUNTIF([2]Summary!$B$30:$B$1029,INDIRECT($A$14&ROW())),\"\"),\"\")","v":""}]
[{"$f":"IFERROR(IF(INDIRECT($A$14&ROW())<>\"\",COUNTIF([2]Summary!$B$30:$B$1029,INDIRECT($A$14&ROW())),\"\"),\"\")","v":""}]
[{"$f":"IFERROR(IF(INDIRECT($A$14&ROW())<>\"\",COUNTIF([2]Summary!$B$30:$B$1029,INDIRECT($A$14&ROW())),\"\"),\"\")","v":""}]
[{"$f":"IFERROR(IF(INDIRECT($A$14&ROW())<>\"\",COUNTIF([2]Summary!$B$30:$B$1029,INDIRECT($A$14&ROW())),\"\"),\"\")","v":""}]
[{"$f":"IFERROR(IF(INDIRECT($A$14&ROW())<>\"\",COUNTIF([2]Summary!$B$30:$B$1029,INDIRECT($A$14&ROW())),\"\"),\"\")","v":""}]
[{"$f":"IFERROR(IF(INDIRECT($A$14&ROW())<>\"\",COUNTIF([2]Summary!$B$30:$B$1029,INDIRECT($A$14&ROW())),\"\"),\"\")","v":""}]
[{"$f":"IFERROR(IF(INDIRECT($A$14&ROW())<>\"\",COUNTIF([2]Summary!$B$30:$B$1029,INDIRECT($A$14&ROW())),\"\"),\"\")","v":""}]
[{"$f":"IFERROR(IF(INDIRECT($A$14&ROW())<>\"\",COUNTIF([2]Summary!$B$30:$B$1029,INDIRECT($A$14&ROW())),\"\"),\"\")","v":""}]
[{"$f":"IFERROR(IF(INDIRECT($A$14&ROW())<>\"\",COUNTIF([2]Summary!$B$30:$B$1029,INDIRECT($A$14&ROW())),\"\"),\"\")","v":""}]
[{"$f":"IFERROR(IF(INDIRECT($A$14&ROW())<>\"\",COUNTIF([2]Summary!$B$30:$B$1029,INDIRECT($A$14&ROW())),\"\"),\"\")","v":""}]
[{"$f":"IFERROR(IF(INDIRECT($A$14&ROW())<>\"\",COUNTIF([2]Summary!$B$30:$B$1029,INDIRECT($A$14&ROW())),\"\"),\"\")","v":""}]
[{"$f":"IFERROR(IF(INDIRECT($A$14&ROW())<>\"\",COUNTIF([2]Summary!$B$30:$B$1029,INDIRECT($A$14&ROW())),\"\"),\"\")","v":""}]
[{"$f":"IFERROR(IF(INDIRECT($A$14&ROW())<>\"\",COUNTIF([2]Summary!$B$30:$B$1029,INDIRECT($A$14&ROW())),\"\"),\"\")","v":""}]
[{"$f":"IFERROR(IF(INDIRECT($A$14&ROW())<>\"\",COUNTIF([2]Summary!$B$30:$B$1029,INDIRECT($A$14&ROW())),\"\"),\"\")","v":""}]
[{"$f":"IFERROR(IF(INDIRECT($A$14&ROW())<>\"\",COUNTIF([2]Summary!$B$30:$B$1029,INDIRECT($A$14&ROW())),\"\"),\"\")","v":""}]
[{"$f":"IFERROR(IF(INDIRECT($A$14&ROW())<>\"\",COUNTIF([2]Summary!$B$30:$B$1029,INDIRECT($A$14&ROW())),\"\"),\"\")","v":""}]
[{"$f":"IFERROR(IF(INDIRECT($A$14&ROW())<>\"\",COUNTIF([2]Summary!$B$30:$B$1029,INDIRECT($A$14&ROW())),\"\"),\"\")","v":""}]
[{"$f":"IFERROR(IF(INDIRECT($A$14&ROW())<>\"\",COUNTIF([2]Summary!$B$30:$B$1029,INDIRECT($A$14&ROW())),\"\"),\"\")","v":""}]
[{"$f":"IFERROR(IF(INDIRECT($A$14&ROW())<>\"\",COUNTIF([2]Summary!$B$30:$B$1029,INDIRECT($A$14&ROW())),\"\"),\"\")","v":""}]
[{"$f":"IFERROR(IF(INDIRECT($A$14&ROW())<>\"\",COUNTIF([2]Summary!$B$30:$B$1029,INDIRECT($A$14&ROW())),\"\"),\"\")","v":""}]
[{"$f":"IFERROR(IF(INDIRECT($A$14&ROW())<>\"\",COUNTIF([2]Summary!$B$30:$B$1029,INDIRECT($A$14&ROW())),\"\"),\"\")","v":""}]
[{"$f":"IFERROR(IF(INDIRECT($A$14&ROW())<>\"\",COUNTIF([2]Summary!$B$30:$B$1029,INDIRECT($A$14&ROW())),\"\"),\"\")","v":""}]
[{"$f":"IFERROR(IF(INDIRECT($A$14&ROW())<>\"\",COUNTIF([2]Summary!$B$30:$B$1029,INDIRECT($A$14&ROW())),\"\"),\"\")","v":""}]
[{"$f":"IFERROR(IF(INDIRECT($A$14&ROW())<>\"\",COUNTIF([2]Summary!$B$30:$B$1029,INDIRECT($A$14&ROW())),\"\"),\"\")","v":""}]
[{"$f":"IFERROR(IF(INDIRECT($A$14&ROW())<>\"\",COUNTIF([2]Summary!$B$30:$B$1029,INDIRECT($A$14&ROW())),\"\"),\"\")","v":""}]
[{"$f":"IFERROR(IF(INDIRECT($A$14&ROW())<>\"\",COUNTIF([2]Summary!$B$30:$B$1029,INDIRECT($A$14&ROW())),\"\"),\"\")","v":""}]
[{"$f":"IFERROR(IF(INDIRECT($A$14&ROW())<>\"\",COUNTIF([2]Summary!$B$30:$B$1029,INDIRECT($A$14&ROW())),\"\"),\"\")","v":""}]
[{"$f":"IFERROR(IF(INDIRECT($A$14&ROW())<>\"\",COUNTIF([2]Summary!$B$30:$B$1029,INDIRECT($A$14&ROW())),\"\"),\"\")","v":""}]
[{"$f":"IFERROR(IF(INDIRECT($A$14&ROW())<>\"\",COUNTIF([2]Summary!$B$30:$B$1029,INDIRECT($A$14&ROW())),\"\"),\"\")","v":""}]
[{"$f":"IFERROR(IF(INDIRECT($A$14&ROW())<>\"\",COUNTIF([2]Summary!$B$30:$B$1029,INDIRECT($A$14&ROW())),\"\"),\"\")","v":""}]
[{"$f":"IFERROR(IF(INDIRECT($A$14&ROW())<>\"\",COUNTIF([2]Summary!$B$30:$B$1029,INDIRECT($A$14&ROW())),\"\"),\"\")","v":""}]
[{"$f":"IFERROR(IF(INDIRECT($A$14&ROW())<>\"\",COUNTIF([2]Summary!$B$30:$B$1029,INDIRECT($A$14&ROW())),\"\"),\"\")","v":""}]
[{"$f":"IFERROR(IF(INDIRECT($A$14&ROW())<>\"\",COUNTIF([2]Summary!$B$30:$B$1029,INDIRECT($A$14&ROW())),\"\"),\"\")","v":""}]
[{"$f":"IFERROR(IF(INDIRECT($A$14&ROW())<>\"\",COUNTIF([2]Summary!$B$30:$B$1029,INDIRECT($A$14&ROW())),\"\"),\"\")","v":""}]
[{"$f":"IFERROR(IF(INDIRECT($A$14&ROW())<>\"\",COUNTIF([2]Summary!$B$30:$B$1029,INDIRECT($A$14&ROW())),\"\"),\"\")","v":""}]
[{"$f":"IFERROR(IF(INDIRECT($A$14&ROW())<>\"\",COUNTIF([2]Summary!$B$30:$B$1029,INDIRECT($A$14&ROW())),\"\"),\"\")","v":""}]
[{"$f":"IFERROR(IF(INDIRECT($A$14&ROW())<>\"\",COUNTIF([2]Summary!$B$30:$B$1029,INDIRECT($A$14&ROW())),\"\"),\"\")","v":""}]
[{"$f":"IFERROR(IF(INDIRECT($A$14&ROW())<>\"\",COUNTIF([2]Summary!$B$30:$B$1029,INDIRECT($A$14&ROW())),\"\"),\"\")","v":""}]
[{"$f":"IFERROR(IF(INDIRECT($A$14&ROW())<>\"\",COUNTIF([2]Summary!$B$30:$B$1029,INDIRECT($A$14&ROW())),\"\"),\"\")","v":""}]
[{"$f":"IFERROR(IF(INDIRECT($A$14&ROW())<>\"\",COUNTIF([2]Summary!$B$30:$B$1029,INDIRECT($A$14&ROW())),\"\"),\"\")","v":""}]
[{"$f":"IFERROR(IF(INDIRECT($A$14&ROW())<>\"\",COUNTIF([2]Summary!$B$30:$B$1029,INDIRECT($A$14&ROW())),\"\"),\"\")","v":""}]
[{"$f":"IFERROR(IF(INDIRECT($A$14&ROW())<>\"\",COUNTIF([2]Summary!$B$30:$B$1029,INDIRECT($A$14&ROW())),\"\"),\"\")","v":""}]
[{"$f":"IFERROR(IF(INDIRECT($A$14&ROW())<>\"\",COUNTIF([2]Summary!$B$30:$B$1029,INDIRECT($A$14&ROW())),\"\"),\"\")","v":""}]
[{"$f":"IFERROR(IF(INDIRECT($A$14&ROW())<>\"\",COUNTIF([2]Summary!$B$30:$B$1029,INDIRECT($A$14&ROW())),\"\"),\"\")","v":""}]
[{"$f":"IFERROR(IF(INDIRECT($A$14&ROW())<>\"\",COUNTIF([2]Summary!$B$30:$B$1029,INDIRECT($A$14&ROW())),\"\"),\"\")","v":""}]
[{"$f":"IFERROR(IF(INDIRECT($A$14&ROW())<>\"\",COUNTIF([2]Summary!$B$30:$B$1029,INDIRECT($A$14&ROW())),\"\"),\"\")","v":""}]
[{"$f":"IFERROR(IF(INDIRECT($A$14&ROW())<>\"\",COUNTIF([2]Summary!$B$30:$B$1029,INDIRECT($A$14&ROW())),\"\"),\"\")","v":""}]
[{"$f":"IFERROR(IF(INDIRECT($A$14&ROW())<>\"\",COUNTIF([2]Summary!$B$30:$B$1029,INDIRECT($A$14&ROW())),\"\"),\"\")","v":""}]
[{"$f":"IFERROR(IF(INDIRECT($A$14&ROW())<>\"\",COUNTIF([2]Summary!$B$30:$B$1029,INDIRECT($A$14&ROW())),\"\"),\"\")","v":""}]
[{"$f":"IFERROR(IF(INDIRECT($A$14&ROW())<>\"\",COUNTIF([2]Summary!$B$30:$B$1029,INDIRECT($A$14&ROW())),\"\"),\"\")","v":""}]
[{"$f":"IFERROR(IF(INDIRECT($A$14&ROW())<>\"\",COUNTIF([2]Summary!$B$30:$B$1029,INDIRECT($A$14&ROW())),\"\"),\"\")","v":""}]
[{"$f":"IFERROR(IF(INDIRECT($A$14&ROW())<>\"\",COUNTIF([2]Summary!$B$30:$B$1029,INDIRECT($A$14&ROW())),\"\"),\"\")","v":""}]
[{"$f":"IFERROR(IF(INDIRECT($A$14&ROW())<>\"\",COUNTIF([2]Summary!$B$30:$B$1029,INDIRECT($A$14&ROW())),\"\"),\"\")","v":""}]
[{"$f":"IFERROR(IF(INDIRECT($A$14&ROW())<>\"\",COUNTIF([2]Summary!$B$30:$B$1029,INDIRECT($A$14&ROW())),\"\"),\"\")","v":""}]
[{"$f":"IFERROR(IF(INDIRECT($A$14&ROW())<>\"\",COUNTIF([2]Summary!$B$30:$B$1029,INDIRECT($A$14&ROW())),\"\"),\"\")","v":""}]
[{"$f":"IFERROR(IF(INDIRECT($A$14&ROW())<>\"\",COUNTIF([2]Summary!$B$30:$B$1029,INDIRECT($A$14&ROW())),\"\"),\"\")","v":""}]
[{"$f":"IFERROR(IF(INDIRECT($A$14&ROW())<>\"\",COUNTIF([2]Summary!$B$30:$B$1029,INDIRECT($A$14&ROW())),\"\"),\"\")","v":""}]
[{"$f":"IFERROR(IF(INDIRECT($A$14&ROW())<>\"\",COUNTIF([2]Summary!$B$30:$B$1029,INDIRECT($A$14&ROW())),\"\"),\"\")","v":""}]
[{"$f":"IFERROR(IF(INDIRECT($A$14&ROW())<>\"\",COUNTIF([2]Summary!$B$30:$B$1029,INDIRECT($A$14&ROW())),\"\"),\"\")","v":""}]
[{"$f":"IFERROR(IF(INDIRECT($A$14&ROW())<>\"\",COUNTIF([2]Summary!$B$30:$B$1029,INDIRECT($A$14&ROW())),\"\"),\"\")","v":""}]
[{"$f":"IFERROR(IF(INDIRECT($A$14&ROW())<>\"\",COUNTIF([2]Summary!$B$30:$B$1029,INDIRECT($A$14&ROW())),\"\"),\"\")","v":""}]
[{"$f":"IFERROR(IF(INDIRECT($A$14&ROW())<>\"\",COUNTIF([2]Summary!$B$30:$B$1029,INDIRECT($A$14&ROW())),\"\"),\"\")","v":""}]
[{"$f":"IFERROR(IF(INDIRECT($A$14&ROW())<>\"\",COUNTIF([2]Summary!$B$30:$B$1029,INDIRECT($A$14&ROW())),\"\"),\"\")","v":""}]
[{"$f":"IFERROR(IF(INDIRECT($A$14&ROW())<>\"\",COUNTIF([2]Summary!$B$30:$B$1029,INDIRECT($A$14&ROW())),\"\"),\"\")","v":""}]
[{"$f":"IFERROR(IF(INDIRECT($A$14&ROW())<>\"\",COUNTIF([2]Summary!$B$30:$B$1029,INDIRECT($A$14&ROW())),\"\"),\"\")","v":""}]
[{"$f":"IFERROR(IF(INDIRECT($A$14&ROW())<>\"\",COUNTIF([2]Summary!$B$30:$B$1029,INDIRECT($A$14&ROW())),\"\"),\"\")","v":""}]
[{"$f":"IFERROR(IF(INDIRECT($A$14&ROW())<>\"\",COUNTIF([2]Summary!$B$30:$B$1029,INDIRECT($A$14&ROW())),\"\"),\"\")","v":""}]
[{"$f":"IFERROR(IF(INDIRECT($A$14&ROW())<>\"\",COUNTIF([2]Summary!$B$30:$B$1029,INDIRECT($A$14&ROW())),\"\"),\"\")","v":""}]
[{"$f":"IFERROR(IF(INDIRECT($A$14&ROW())<>\"\",COUNTIF([2]Summary!$B$30:$B$1029,INDIRECT($A$14&ROW())),\"\"),\"\")","v":""}]
[{"$f":"IFERROR(IF(INDIRECT($A$14&ROW())<>\"\",COUNTIF([2]Summary!$B$30:$B$1029,INDIRECT($A$14&ROW())),\"\"),\"\")","v":""}]
[{"$f":"IFERROR(IF(INDIRECT($A$14&ROW())<>\"\",COUNTIF([2]Summary!$B$30:$B$1029,INDIRECT($A$14&ROW())),\"\"),\"\")","v":""}]
[{"$f":"IFERROR(IF(INDIRECT($A$14&ROW())<>\"\",COUNTIF([2]Summary!$B$30:$B$1029,INDIRECT($A$14&ROW())),\"\"),\"\")","v":""}]
[{"$f":"IFERROR(IF(INDIRECT($A$14&ROW())<>\"\",COUNTIF([2]Summary!$B$30:$B$1029,INDIRECT($A$14&ROW())),\"\"),\"\")","v":""}]
[{"$f":"IFERROR(IF(INDIRECT($A$14&ROW())<>\"\",COUNTIF([2]Summary!$B$30:$B$1029,INDIRECT($A$14&ROW())),\"\"),\"\")","v":""}]
[{"$f":"IFERROR(IF(INDIRECT($A$14&ROW())<>\"\",COUNTIF([2]Summary!$B$30:$B$1029,INDIRECT($A$14&ROW())),\"\"),\"\")","v":""}]
[{"$f":"IFERROR(IF(INDIRECT($A$14&ROW())<>\"\",COUNTIF([2]Summary!$B$30:$B$1029,INDIRECT($A$14&ROW())),\"\"),\"\")","v":""}]
[{"$f":"IFERROR(IF(INDIRECT($A$14&ROW())<>\"\",COUNTIF([2]Summary!$B$30:$B$1029,INDIRECT($A$14&ROW())),\"\"),\"\")","v":""}]
[{"$f":"IFERROR(IF(INDIRECT($A$14&ROW())<>\"\",COUNTIF([2]Summary!$B$30:$B$1029,INDIRECT($A$14&ROW())),\"\"),\"\")","v":""}]
[{"$f":"IFERROR(IF(INDIRECT($A$14&ROW())<>\"\",COUNTIF([2]Summary!$B$30:$B$1029,INDIRECT($A$14&ROW())),\"\"),\"\")","v":""}]
[{"$f":"IFERROR(IF(INDIRECT($A$14&ROW())<>\"\",COUNTIF([2]Summary!$B$30:$B$1029,INDIRECT($A$14&ROW())),\"\"),\"\")","v":""}]
[{"$f":"IFERROR(IF(INDIRECT($A$14&ROW())<>\"\",COUNTIF([2]Summary!$B$30:$B$1029,INDIRECT($A$14&ROW())),\"\"),\"\")","v":""}]
[{"$f":"IFERROR(IF(INDIRECT($A$14&ROW())<>\"\",COUNTIF([2]Summary!$B$30:$B$1029,INDIRECT($A$14&ROW())),\"\"),\"\")","v":""}]
[{"$f":"IFERROR(IF(INDIRECT($A$14&ROW())<>\"\",COUNTIF([2]Summary!$B$30:$B$1029,INDIRECT($A$14&ROW())),\"\"),\"\")","v":""}]
[{"$f":"IFERROR(IF(INDIRECT($A$14&ROW())<>\"\",COUNTIF([2]Summary!$B$30:$B$1029,INDIRECT($A$14&ROW())),\"\"),\"\")","v":""}]
[{"$f":"IFERROR(IF(INDIRECT($A$14&ROW())<>\"\",COUNTIF([2]Summary!$B$30:$B$1029,INDIRECT($A$14&ROW())),\"\"),\"\")","v":""}]
[{"$f":"IFERROR(IF(INDIRECT($A$14&ROW())<>\"\",COUNTIF([2]Summary!$B$30:$B$1029,INDIRECT($A$14&ROW())),\"\"),\"\")","v":""}]
[{"$f":"IFERROR(IF(INDIRECT($A$14&ROW())<>\"\",COUNTIF([2]Summary!$B$30:$B$1029,INDIRECT($A$14&ROW())),\"\"),\"\")","v":""}]
[{"$f":"IFERROR(IF(INDIRECT($A$14&ROW())<>\"\",COUNTIF([2]Summary!$B$30:$B$1029,INDIRECT($A$14&ROW())),\"\"),\"\")","v":""}]
[{"$f":"IFERROR(IF(INDIRECT($A$14&ROW())<>\"\",COUNTIF([2]Summary!$B$30:$B$1029,INDIRECT($A$14&ROW())),\"\"),\"\")","v":""}]
[{"$f":"IFERROR(IF(INDIRECT($A$14&ROW())<>\"\",COUNTIF([2]Summary!$B$30:$B$1029,INDIRECT($A$14&ROW())),\"\"),\"\")","v":""}]
[{"$f":"IFERROR(IF(INDIRECT($A$14&ROW())<>\"\",COUNTIF([2]Summary!$B$30:$B$1029,INDIRECT($A$14&ROW())),\"\"),\"\")","v":""}]
[{"$f":"IFERROR(IF(INDIRECT($A$14&ROW())<>\"\",COUNTIF([2]Summary!$B$30:$B$1029,INDIRECT($A$14&ROW())),\"\"),\"\")","v":""}]
[{"$f":"IFERROR(IF(INDIRECT($A$14&ROW())<>\"\",COUNTIF([2]Summary!$B$30:$B$1029,INDIRECT($A$14&ROW())),\"\"),\"\")","v":""}]
[{"$f":"IFERROR(IF(INDIRECT($A$14&ROW())<>\"\",COUNTIF([2]Summary!$B$30:$B$1029,INDIRECT($A$14&ROW())),\"\"),\"\")","v":""}]
[{"$f":"IFERROR(IF(INDIRECT($A$14&ROW())<>\"\",COUNTIF([2]Summary!$B$30:$B$1029,INDIRECT($A$14&ROW())),\"\"),\"\")","v":""}]
[{"$f":"IFERROR(IF(INDIRECT($A$14&ROW())<>\"\",COUNTIF([2]Summary!$B$30:$B$1029,INDIRECT($A$14&ROW())),\"\"),\"\")","v":""}]
[{"$f":"IFERROR(IF(INDIRECT($A$14&ROW())<>\"\",COUNTIF([2]Summary!$B$30:$B$1029,INDIRECT($A$14&ROW())),\"\"),\"\")","v":""}]
[{"$f":"IFERROR(IF(INDIRECT($A$14&ROW())<>\"\",COUNTIF([2]Summary!$B$30:$B$1029,INDIRECT($A$14&ROW())),\"\"),\"\")","v":""}]
[{"$f":"IFERROR(IF(INDIRECT($A$14&ROW())<>\"\",COUNTIF([2]Summary!$B$30:$B$1029,INDIRECT($A$14&ROW())),\"\"),\"\")","v":""}]
[{"$f":"IFERROR(IF(INDIRECT($A$14&ROW())<>\"\",COUNTIF([2]Summary!$B$30:$B$1029,INDIRECT($A$14&ROW())),\"\"),\"\")","v":""}]
[{"$f":"IFERROR(IF(INDIRECT($A$14&ROW())<>\"\",COUNTIF([2]Summary!$B$30:$B$1029,INDIRECT($A$14&ROW())),\"\"),\"\")","v":""}]
[{"$f":"IFERROR(IF(INDIRECT($A$14&ROW())<>\"\",COUNTIF([2]Summary!$B$30:$B$1029,INDIRECT($A$14&ROW())),\"\"),\"\")","v":""}]
[{"$f":"IFERROR(IF(INDIRECT($A$14&ROW())<>\"\",COUNTIF([2]Summary!$B$30:$B$1029,INDIRECT($A$14&ROW())),\"\"),\"\")","v":""}]
[{"$f":"IFERROR(IF(INDIRECT($A$14&ROW())<>\"\",COUNTIF([2]Summary!$B$30:$B$1029,INDIRECT($A$14&ROW())),\"\"),\"\")","v":""}]
[{"$f":"IFERROR(IF(INDIRECT($A$14&ROW())<>\"\",COUNTIF([2]Summary!$B$30:$B$1029,INDIRECT($A$14&ROW())),\"\"),\"\")","v":""}]
[{"$f":"IFERROR(IF(INDIRECT($A$14&ROW())<>\"\",COUNTIF([2]Summary!$B$30:$B$1029,INDIRECT($A$14&ROW())),\"\"),\"\")","v":""}]
[{"$f":"IFERROR(IF(INDIRECT($A$14&ROW())<>\"\",COUNTIF([2]Summary!$B$30:$B$1029,INDIRECT($A$14&ROW())),\"\"),\"\")","v":""}]
[{"$f":"IFERROR(IF(INDIRECT($A$14&ROW())<>\"\",COUNTIF([2]Summary!$B$30:$B$1029,INDIRECT($A$14&ROW())),\"\"),\"\")","v":""}]
[{"$f":"IFERROR(IF(INDIRECT($A$14&ROW())<>\"\",COUNTIF([2]Summary!$B$30:$B$1029,INDIRECT($A$14&ROW())),\"\"),\"\")","v":""}]
[{"$f":"IFERROR(IF(INDIRECT($A$14&ROW())<>\"\",COUNTIF([2]Summary!$B$30:$B$1029,INDIRECT($A$14&ROW())),\"\"),\"\")","v":""}]
[{"$f":"IFERROR(IF(INDIRECT($A$14&ROW())<>\"\",COUNTIF([2]Summary!$B$30:$B$1029,INDIRECT($A$14&ROW())),\"\"),\"\")","v":""}]
[{"$f":"IFERROR(IF(INDIRECT($A$14&ROW())<>\"\",COUNTIF([2]Summary!$B$30:$B$1029,INDIRECT($A$14&ROW())),\"\"),\"\")","v":""}]
[{"$f":"IFERROR(IF(INDIRECT($A$14&ROW())<>\"\",COUNTIF([2]Summary!$B$30:$B$1029,INDIRECT($A$14&ROW())),\"\"),\"\")","v":""}]
[{"$f":"IFERROR(IF(INDIRECT($A$14&ROW())<>\"\",COUNTIF([2]Summary!$B$30:$B$1029,INDIRECT($A$14&ROW())),\"\"),\"\")","v":""}]
[{"$f":"IFERROR(IF(INDIRECT($A$14&ROW())<>\"\",COUNTIF([2]Summary!$B$30:$B$1029,INDIRECT($A$14&ROW())),\"\"),\"\")","v":""}]
[{"$f":"IFERROR(IF(INDIRECT($A$14&ROW())<>\"\",COUNTIF([2]Summary!$B$30:$B$1029,INDIRECT($A$14&ROW())),\"\"),\"\")","v":""}]
[{"$f":"IFERROR(IF(INDIRECT($A$14&ROW())<>\"\",COUNTIF([2]Summary!$B$30:$B$1029,INDIRECT($A$14&ROW())),\"\"),\"\")","v":""}]
[{"$f":"IFERROR(IF(INDIRECT($A$14&ROW())<>\"\",COUNTIF([2]Summary!$B$30:$B$1029,INDIRECT($A$14&ROW())),\"\"),\"\")","v":""}]
[{"$f":"IFERROR(IF(INDIRECT($A$14&ROW())<>\"\",COUNTIF([2]Summary!$B$30:$B$1029,INDIRECT($A$14&ROW())),\"\"),\"\")","v":""}]
[{"$f":"IFERROR(IF(INDIRECT($A$14&ROW())<>\"\",COUNTIF([2]Summary!$B$30:$B$1029,INDIRECT($A$14&ROW())),\"\"),\"\")","v":""}]
[{"$f":"IFERROR(IF(INDIRECT($A$14&ROW())<>\"\",COUNTIF([2]Summary!$B$30:$B$1029,INDIRECT($A$14&ROW())),\"\"),\"\")","v":""}]
[{"$f":"IFERROR(IF(INDIRECT($A$14&ROW())<>\"\",COUNTIF([2]Summary!$B$30:$B$1029,INDIRECT($A$14&ROW())),\"\"),\"\")","v":""}]
[{"$f":"IFERROR(IF(INDIRECT($A$14&ROW())<>\"\",COUNTIF([2]Summary!$B$30:$B$1029,INDIRECT($A$14&ROW())),\"\"),\"\")","v":""}]
[{"$f":"IFERROR(IF(INDIRECT($A$14&ROW())<>\"\",COUNTIF([2]Summary!$B$30:$B$1029,INDIRECT($A$14&ROW())),\"\"),\"\")","v":""}]
[{"$f":"IFERROR(IF(INDIRECT($A$14&ROW())<>\"\",COUNTIF([2]Summary!$B$30:$B$1029,INDIRECT($A$14&ROW())),\"\"),\"\")","v":""}]
[{"$f":"IFERROR(IF(INDIRECT($A$14&ROW())<>\"\",COUNTIF([2]Summary!$B$30:$B$1029,INDIRECT($A$14&ROW())),\"\"),\"\")","v":""}]
[{"$f":"IFERROR(IF(INDIRECT($A$14&ROW())<>\"\",COUNTIF([2]Summary!$B$30:$B$1029,INDIRECT($A$14&ROW())),\"\"),\"\")","v":""}]
[{"$f":"IFERROR(IF(INDIRECT($A$14&ROW())<>\"\",COUNTIF([2]Summary!$B$30:$B$1029,INDIRECT($A$14&ROW())),\"\"),\"\")","v":""}]
[{"$f":"IFERROR(IF(INDIRECT($A$14&ROW())<>\"\",COUNTIF([2]Summary!$B$30:$B$1029,INDIRECT($A$14&ROW())),\"\"),\"\")","v":""}]
[{"$f":"IFERROR(IF(INDIRECT($A$14&ROW())<>\"\",COUNTIF([2]Summary!$B$30:$B$1029,INDIRECT($A$14&ROW())),\"\"),\"\")","v":""}]
[{"$f":"IFERROR(IF(INDIRECT($A$14&ROW())<>\"\",COUNTIF([2]Summary!$B$30:$B$1029,INDIRECT($A$14&ROW())),\"\"),\"\")","v":""}]
[{"$f":"IFERROR(IF(INDIRECT($A$14&ROW())<>\"\",COUNTIF([2]Summary!$B$30:$B$1029,INDIRECT($A$14&ROW())),\"\"),\"\")","v":""}]
[{"$f":"IFERROR(IF(INDIRECT($A$14&ROW())<>\"\",COUNTIF([2]Summary!$B$30:$B$1029,INDIRECT($A$14&ROW())),\"\"),\"\")","v":""}]
[{"$f":"IFERROR(IF(INDIRECT($A$14&ROW())<>\"\",COUNTIF([2]Summary!$B$30:$B$1029,INDIRECT($A$14&ROW())),\"\"),\"\")","v":""}]
[{"$f":"IFERROR(IF(INDIRECT($A$14&ROW())<>\"\",COUNTIF([2]Summary!$B$30:$B$1029,INDIRECT($A$14&ROW())),\"\"),\"\")","v":""}]
[{"$f":"IFERROR(IF(INDIRECT($A$14&ROW())<>\"\",COUNTIF([2]Summary!$B$30:$B$1029,INDIRECT($A$14&ROW())),\"\"),\"\")","v":""}]
[{"$f":"IFERROR(IF(INDIRECT($A$14&ROW())<>\"\",COUNTIF([2]Summary!$B$30:$B$1029,INDIRECT($A$14&ROW())),\"\"),\"\")","v":""}]
[{"$f":"IFERROR(IF(INDIRECT($A$14&ROW())<>\"\",COUNTIF([2]Summary!$B$30:$B$1029,INDIRECT($A$14&ROW())),\"\"),\"\")","v":""}]
[{"$f":"IFERROR(IF(INDIRECT($A$14&ROW())<>\"\",COUNTIF([2]Summary!$B$30:$B$1029,INDIRECT($A$14&ROW())),\"\"),\"\")","v":""}]
[{"$f":"IFERROR(IF(INDIRECT($A$14&ROW())<>\"\",COUNTIF([2]Summary!$B$30:$B$1029,INDIRECT($A$14&ROW())),\"\"),\"\")","v":""}]
[{"$f":"IFERROR(IF(INDIRECT($A$14&ROW())<>\"\",COUNTIF([2]Summary!$B$30:$B$1029,INDIRECT($A$14&ROW())),\"\"),\"\")","v":""}]
[{"$f":"IFERROR(IF(INDIRECT($A$14&ROW())<>\"\",COUNTIF([2]Summary!$B$30:$B$1029,INDIRECT($A$14&ROW())),\"\"),\"\")","v":""}]
[{"$f":"IFERROR(IF(INDIRECT($A$14&ROW())<>\"\",COUNTIF([2]Summary!$B$30:$B$1029,INDIRECT($A$14&ROW())),\"\"),\"\")","v":""}]
[{"$f":"IFERROR(IF(INDIRECT($A$14&ROW())<>\"\",COUNTIF([2]Summary!$B$30:$B$1029,INDIRECT($A$14&ROW())),\"\"),\"\")","v":""}]
[{"$f":"IFERROR(IF(INDIRECT($A$14&ROW())<>\"\",COUNTIF([2]Summary!$B$30:$B$1029,INDIRECT($A$14&ROW())),\"\"),\"\")","v":""}]
[{"$f":"IFERROR(IF(INDIRECT($A$14&ROW())<>\"\",COUNTIF([2]Summary!$B$30:$B$1029,INDIRECT($A$14&ROW())),\"\"),\"\")","v":""}]
[{"$f":"IFERROR(IF(INDIRECT($A$14&ROW())<>\"\",COUNTIF([2]Summary!$B$30:$B$1029,INDIRECT($A$14&ROW())),\"\"),\"\")","v":""}]
[{"$f":"IFERROR(IF(INDIRECT($A$14&ROW())<>\"\",COUNTIF([2]Summary!$B$30:$B$1029,INDIRECT($A$14&ROW())),\"\"),\"\")","v":""}]
[{"$f":"IFERROR(IF(INDIRECT($A$14&ROW())<>\"\",COUNTIF([2]Summary!$B$30:$B$1029,INDIRECT($A$14&ROW())),\"\"),\"\")","v":""}]
[{"$f":"IFERROR(IF(INDIRECT($A$14&ROW())<>\"\",COUNTIF([2]Summary!$B$30:$B$1029,INDIRECT($A$14&ROW())),\"\"),\"\")","v":""}]
[{"$f":"IFERROR(IF(INDIRECT($A$14&ROW())<>\"\",COUNTIF([2]Summary!$B$30:$B$1029,INDIRECT($A$14&ROW())),\"\"),\"\")","v":""}]
[{"$f":"IFERROR(IF(INDIRECT($A$14&ROW())<>\"\",COUNTIF([2]Summary!$B$30:$B$1029,INDIRECT($A$14&ROW())),\"\"),\"\")","v":""}]
[{"$f":"IFERROR(IF(INDIRECT($A$14&ROW())<>\"\",COUNTIF([2]Summary!$B$30:$B$1029,INDIRECT($A$14&ROW())),\"\"),\"\")","v":""}]
[{"$f":"IFERROR(IF(INDIRECT($A$14&ROW())<>\"\",COUNTIF([2]Summary!$B$30:$B$1029,INDIRECT($A$14&ROW())),\"\"),\"\")","v":""}]
[{"$f":"IFERROR(IF(INDIRECT($A$14&ROW())<>\"\",COUNTIF([2]Summary!$B$30:$B$1029,INDIRECT($A$14&ROW())),\"\"),\"\")","v":""}]
[{"$f":"IFERROR(IF(INDIRECT($A$14&ROW())<>\"\",COUNTIF([2]Summary!$B$30:$B$1029,INDIRECT($A$14&ROW())),\"\"),\"\")","v":""}]

{"sheet":"STOCK ANALYSIS","index":2,"n_rows":53,"n_cols":18,"rows_kept":53,"cut":false,"hidden":false,"merged":[]}
["MONTHLY KITCHEN STOCK ANALYSIS "]
[]
[{"$f":"+'K-LUNCH & K DINNER'!A3","v":"Outlet :"},{"$f":"+'K-LUNCH & K DINNER'!B3","v":"KDA OUTLET"}]
[{"$f":"+'K-LUNCH & K DINNER'!A4","v":"Month :"},{"$f":"+'K-LUNCH & K DINNER'!B4","v":"2013-05-01"}]
["Date from 20 to 26"]
["PART (A)  :  USAGE -MAIN COURSE & SNACK FOOD MATERIAL "]
[null,null,null,null,null,null,null,null,null,null,null,null,"(A)","(B)","(B) -(A)"]
["NO","MATERIAL ","UOM","UNIT COST","O/S","PURCHASE","USAGE IN SALES","USAGE IN SALES","USAGE IN ","WASTAGE","STAFF FOOD","TOTAL USAGE","BOOK INVENTORY ","PHYSICAL C/S","DIFFERENCE ","DIFFERENCE ","STOCK DIFFERENCE  OVER USAGE","PURCHASE OVER USAGE"]
[null,null,null,"RM",null,null,"K LUNCH / K DINNER ","SIDE ORDER /FOC ","PARTY ",null,null,null,null,null,null,"RM ","%","%"]
[]
[null,"MAIN COURSE MATERIAL"]
[1,"CHICKEN CHOP (MARINATED)","PCS",3.34,3185,382,{"$f":"SUMIF('K-LUNCH & K DINNER'!$H$9:$H$46,B12,'K-LUNCH & K DINNER'!$J$9:$J$46)","v":503.26},{"$f":"SUMIF('SIDE ORDER & FOC'!$Q$11:$Q$85,B12,'SIDE ORDER & FOC'!$S$11:$S$85)","v":113},null,null,2,{"$f":"SUM(G12:K12)","v":618.26},{"$f":"+E12+F12-G12-H12-I12-J12-K12","v":2948.74},2315,{"$f":"+N12-M12","v":-633.73999999999978},{"$f":"+O12*D12","v":-2116.6915999999992},{"$f":"+O12/L12","v":-1.0250380098987477},{"$f":"+F12/L12","v":0.61786303496910688}]
[{"$f":"+A14+1","v":3},"CHICKEN WING  (MARINATED)","PCS",1.17,511,271,{"$f":"SUMIF('K-LUNCH & K DINNER'!$H$9:$H$46,B13,'K-LUNCH & K DINNER'!$J$9:$J$46)","v":81},{"$f":"SUMIF('SIDE ORDER & FOC'!$Q$11:$Q$85,B13,'SIDE ORDER & FOC'!$S$11:$S$85)","v":42},null,null,null,{"$f":"SUM(G13:K13)","v":123},{"$f":"+E13+F13-G13-H13-I13-J13-K13","v":659},832,{"$f":"+N13-M13","v":173},{"$f":"+O13*D13","v":202.41},{"$f":"+O13/L13","v":1.4065040650406504},{"$f":"+F13/L13","v":2.2032520325203251}]
[{"$f":"+A12+1","v":2},"CHICKEN WINGS (NON -MARINATED)","PCS",1.17,191,60,{"$f":"SUMIF('K-LUNCH & K DINNER'!$H$9:$H$46,B14,'K-LUNCH & K DINNER'!$J$9:$J$46)","v":22},{"$f":"SUMIF('SIDE ORDER & FOC'!$Q$11:$Q$85,B14,'SIDE ORDER & FOC'!$S$11:$S$85)","v":13},null,2,null,{"$f":"SUM(G14:K14)","v":37},{"$f":"+E14+F14-G14-H14-I14-J14-K14","v":214},337,{"$f":"+N14-M14","v":123},{"$f":"+O14*D14","v":143.91},{"$f":"+O14/L14","v":3.3243243243243241},{"$f":"+F14/L14","v":1.6216216216216217}]
[{"$f":"+A26+1","v":4},"DORY FISH FILLET ","PCS",2.4500000000000002,1201,110,{"$f":"SUMIF('K-LUNCH & K DINNER'!$H$9:$H$46,B15,'K-LUNCH & K DINNER'!$J$9:$J$46)","v":120},{"$f":"SUMIF('SIDE ORDER & FOC'!$Q$11:$Q$85,B15,'SIDE ORDER & FOC'!$S$11:$S$85)","v":12},null,null,null,{"$f":"SUM(G15:K15)","v":132},{"$f":"+E15+F15-G15-H15-I15-J15-K15","v":1179},873,{"$f":"+N15-M15","v":-306},{"$f":"+O15*D15","v":-749.7},{"$f":"+O15/L15","v":-2.3181818181818183},{"$f":"+F15/L15","v":0.83333333333333337}]
[]
[null,"MCCAIN PRODUCTS"]
[1,"MCCAIN ONION RING","PCS",0.16,null,null,{"$f":"SUMIF('K-LUNCH & K DINNER'!$H$9:$H$46,B18,'K-LUNCH & K DINNER'!$J$9:$J$46)","v":0},{"$f":"SUMIF('SIDE ORDER & FOC'!$Q$11:$Q$85,B18,'SIDE ORDER & FOC'!$S$11:$S$85)","v":8},null,null,null,{"$f":"SUM(G18:K18)","v":8},{"$f":"+E18+F18-G18-H18-I18-J18-K18","v":-8},null,{"$f":"+N18-M18","v":8},{"$f":"+O18*D18","v":1.28},{"$f":"+O18/L18","v":1},{"$f":"+F18/L18","v":0}]
[2,"MCCAIN SMILES","PCS",0.13,null,null,{"$f":"SUMIF('K-LUNCH & K DINNER'!$H$9:$H$46,B19,'K-LUNCH & K DINNER'!$J$9:$J$46)","v":0},{"$f":"SUMIF('SIDE ORDER & FOC'!$Q$11:$Q$85,B19,'SIDE ORDER & FOC'!$S$11:$S$85)","v":0},null,null,null,0,{"$f":"+E19+F19-G19-H19-I19-J19-K19","v":0},null,{"$f":"+N19-M19","v":0},{"$f":"+O19*D19","v":0},{"$f":"+O19/L19","v":{"$error":"#DIV/0!"}},{"$f":"+F19/L19","v":{"$error":"#DIV/0!"}}]
[3,"MCCAIN VERSITOT","PCS",0.06,null,null,{"$f":"SUMIF('K-LUNCH & K DINNER'!$H$9:$H$46,B20,'K-LUNCH & K DINNER'!$J$9:$J$46)","v":0},{"$f":"SUMIF('SIDE ORDER & FOC'!$Q$11:$Q$85,B20,'SIDE ORDER & FOC'!$S$11:$S$85)","v":0},null,null,null,0,{"$f":"+E20+F20-G20-H20-I20-J20-K20","v":0},null,{"$f":"+N20-M20","v":0},{"$f":"+O20*D20","v":0},{"$f":"+O20/L20","v":{"$error":"#DIV/0!"}},{"$f":"+F20/L20","v":{"$error":"#DIV/0!"}}]
[4,"MCCAIN SPIRAL FRIES","KG",7.87,null,null,{"$f":"SUMIF('K-LUNCH & K DINNER'!$H$9:$H$46,B21,'K-LUNCH & K DINNER'!$J$9:$J$46)","v":0},{"$f":"SUMIF('SIDE ORDER & FOC'!$Q$11:$Q$85,B21,'SIDE ORDER & FOC'!$S$11:$S$85)","v":0},null,null,null,0,{"$f":"+E21+F21-G21-H21-I21-J21-K21","v":0},null,{"$f":"+N21-M21","v":0},{"$f":"+O21*D21","v":0},{"$error":"#DIV/0!"},{"$f":"+F21/L21","v":{"$error":"#DIV/0!"}}]
[]
[null,"FROZEN FOODS"]
[1,"CHICKEN NUGGET","PCS",0.26,576,360,{"$f":"SUMIF('K-LUNCH & K DINNER'!$H$9:$H$46,B24,'K-LUNCH & K DINNER'!$J$9:$J$46)","v":256},{"$f":"SUMIF('SIDE ORDER & FOC'!$Q$11:$Q$85,B24,'SIDE ORDER & FOC'!$S$11:$S$85)","v":56},null,null,null,{"$f":"SUM(G24:K24)","v":312},{"$f":"+E24+F24-G24-H24-I24-J24-K24","v":624},null,{"$f":"+N24-M24","v":-624},{"$f":"+O24*D24","v":-162.24},{"$f":"+O24/L24","v":-2},{"$f":"+F24/L24","v":1.1538461538461537}]
[{"$f":"+A24+1","v":2},"CHICKEN SAUSAGE ","PCS",0.23,320,320,{"$f":"SUMIF('K-LUNCH & K DINNER'!$H$9:$H$46,B25,'K-LUNCH & K DINNER'!$J$9:$J$46)","v":63},{"$f":"SUMIF('SIDE ORDER & FOC'!$Q$11:$Q$85,B25,'SIDE ORDER & FOC'!$S$11:$S$85)","v":32},null,null,null,95,545,null,-545,-125.35000000000001,-5.7368421052631575,3.3684210526315788]
[{"$f":"+A25+1","v":3},"DUMPLING ","PCS",0.65,180,60,{"$f":"SUMIF('K-LUNCH & K DINNER'!$H$9:$H$46,B26,'K-LUNCH & K DINNER'!$J$9:$J$46)","v":60},{"$f":"SUMIF('SIDE ORDER & FOC'!$Q$11:$Q$85,B26,'SIDE ORDER & FOC'!$S$11:$S$85)","v":30},null,null,null,90,150,null,-150,-97.5,-1.6666666666666667,0.66666666666666663]
[4,"FISH BALL (BIG)","PCS",0.24,120,40,{"$f":"SUMIF('K-LUNCH & K DINNER'!$H$9:$H$46,B27,'K-LUNCH & K DINNER'!$J$9:$J$46)","v":30},{"$f":"SUMIF('SIDE ORDER & FOC'!$Q$11:$Q$85,B27,'SIDE ORDER & FOC'!$S$11:$S$85)","v":36},null,null,null,66,94,null,-94,-22.56,-1.4242424242424243,0.60606060606060608]
[5,"FISH BALL (SMALL)","PCS",0.1,null,100,{"$f":"SUMIF('K-LUNCH & K DINNER'!$H$9:$H$46,B28,'K-LUNCH & K DINNER'!$J$9:$J$46)","v":70},{"$f":"SUMIF('SIDE ORDER & FOC'!$Q$11:$Q$85,B28,'SIDE ORDER & FOC'!$S$11:$S$85)","v":5},null,null,null,75,25,null,-25,-2.5,-0.33333333333333331,1.3333333333333333]
[6,"RAINBOW ROLL","PCS",2.02,10,null,{"$f":"SUMIF('K-LUNCH & K DINNER'!$H$9:$H$46,B29,'K-LUNCH & K DINNER'!$J$9:$J$46)","v":0},{"$f":"SUMIF('SIDE ORDER & FOC'!$Q$11:$Q$85,B29,'SIDE ORDER & FOC'!$S$11:$S$85)","v":0},null,null,null,0,10,null,-10,-20.2,{"$error":"#DIV/0!"},{"$error":"#DIV/0!"}]
[7,"SALMON BALL","PCS",0.27,30,null,{"$f":"SUMIF('K-LUNCH & K DINNER'!$H$9:$H$46,B30,'K-LUNCH & K DINNER'!$J$9:$J$46)","v":4},{"$f":"SUMIF('SIDE ORDER & FOC'!$Q$11:$Q$85,B30,'SIDE ORDER & FOC'!$S$11:$S$85)","v":0},null,null,null,4,26,null,-26,-7.0200000000000005,-6.5,0]
[8,"SEAFOOD TOFU ","PCS",0.33,null,null,{"$f":"SUMIF('K-LUNCH & K DINNER'!$H$9:$H$46,B31,'K-LUNCH & K DINNER'!$J$9:$J$46)","v":4},{"$f":"SUMIF('SIDE ORDER & FOC'!$Q$11:$Q$85,B31,'SIDE ORDER & FOC'!$S$11:$S$85)","v":0},null,null,null,4,-4,null,4,1.32,1,0]
[9,"SOTONG BALL","PCS",0.17,50,null,{"$f":"SUMIF('K-LUNCH & K DINNER'!$H$9:$H$46,B32,'K-LUNCH & K DINNER'!$J$9:$J$46)","v":4},{"$f":"SUMIF('SIDE ORDER & FOC'!$Q$11:$Q$85,B32,'SIDE ORDER & FOC'!$S$11:$S$85)","v":0},null,null,null,4,46,null,-46,-7.82,-11.5,0]
[10,"SPRING ROLL","PCS",0.27,220,200,{"$f":"SUMIF('K-LUNCH & K DINNER'!$H$9:$H$46,B33,'K-LUNCH & K DINNER'!$J$9:$J$46)","v":72},{"$f":"SUMIF('SIDE ORDER & FOC'!$Q$11:$Q$85,B33,'SIDE ORDER & FOC'!$S$11:$S$85)","v":32},null,null,null,104,316,null,-316,-85.320000000000007,-3.0384615384615383,1.9230769230769231]
[11,"THAI ROLL ","PCS",0.45,null,75,{"$f":"SUMIF('K-LUNCH & K DINNER'!$H$9:$H$46,B34,'K-LUNCH & K DINNER'!$J$9:$J$46)","v":7},{"$f":"SUMIF('SIDE ORDER & FOC'!$Q$11:$Q$85,B34,'SIDE ORDER & FOC'!$S$11:$S$85)","v":0},null,null,null,7,68,null,-68,-30.6,-9.7142857142857135,10.714285714285714]
[]
[]
[null,"G.TOTAL ",null,null,null,null,null,null,null,null,null,null,null,null,null,{"$f":"SUM(P11:P36)","v":-3078.5815999999991}]
[]
[null,null,null,null,null,null,null,null,null,null,null,null,"(A)","(B)","(B) -(A)"]
["NO","MATERIAL ","UOM","UNIT COST","O/S","PURCHASE","USAGE IN SALES",null,null,"WASTAGE","STAFF FOOD","TOTAL USAGE","BOOK INVENTORY ","PHYSICAL C/S","DIFFERENCE ","DIFFERENCE ","STOCK DIFFERENCE  OVER USAGE","PURCHASE OVER USAGE"]
[null,null,null,"RM (KG)","KG","KG","KG",null,null,"KG","KG",null,"KG","KG","KG","RM ","%","%"]
[]
[1,"MUSHROOM SAUCE","KG",6.78,2.6,7.7,{"$f":"SUMIF('SAUCE USAGE'!$J$10:$J$63,B43,'SAUCE USAGE'!$L$10:$L$77)/1000","v":9.99},null,null,null,null,{"$f":"SUM(G43:K43)","v":9.99},{"$f":"+E43+F43-G43","v":0.3100000000000005},2.8,{"$f":"+N43-M43","v":2.4899999999999993},{"$f":"+O43*A43","v":2.4899999999999993},{"$f":"+O43/L43","v":0.24924924924924918},{"$f":"+F43/L43","v":0.77077077077077072}]
[{"$f":"+A43+1","v":2},"BLACK PEPPER SAUCE","KG",3.01,3.1,7.5,{"$f":"SUMIF('SAUCE USAGE'!$J$10:$J$63,B44,'SAUCE USAGE'!$L$10:$L$77)/1000","v":11.06},null,null,null,null,11.06,-0.46000000000000085,1.4,{"$f":"+N44-M44","v":1.8600000000000008},{"$f":"+O44*A44","v":3.7200000000000015},0.16817359855334546,0.67811934900542492]
[{"$f":"+A44+1","v":3},"SWEET & SOUR SAUCE","KG",1.88,3.4,0,{"$f":"SUMIF('SAUCE USAGE'!$J$10:$J$63,B45,'SAUCE USAGE'!$L$10:$L$77)/1000","v":4.5999999999999996},null,null,null,null,4.5999999999999996,-1.1999999999999997,0.8,1.9999999999999998,{"$f":"+O45*D45","v":3.7599999999999993},0.43478260869565216,0]
[4,"MARMITE SAUCE ","KG",2,2.8,4.3,{"$f":"SUMIF('SAUCE USAGE'!$J$10:$J$63,B46,'SAUCE USAGE'!$L$10:$L$77)/1000","v":4.5599999999999996},null,null,null,null,4.5599999999999996,2.54,2.7,0.16000000000000014,{"$f":"+O46*D46","v":0.32000000000000028},3.5087719298245647E-2,0.94298245614035092]
[5,"SAMBAL (FRIED)SAUCE","KG",9.0660000000000007,6.7,0,{"$f":"SUMIF('SAUCE USAGE'!$J$10:$J$63,B47,'SAUCE USAGE'!$L$10:$L$77)/1000","v":4.4400000000000004},null,null,null,null,4.4400000000000004,2.2599999999999998,2.4,0.14000000000000012,{"$f":"+O47*D47","v":1.2692400000000013},3.1531531531531556E-2,0]
[6,"GRAVY SAUCE","KG",3.3,0.9,1.6,{"$f":"SUMIF('SAUCE USAGE'!$J$10:$J$63,B48,'SAUCE USAGE'!$L$10:$L$77)/1000","v":1.98},null,null,null,null,1.98,0.52,0.2,-0.32,{"$f":"+O48*A48","v":-1.92},-0.16161616161616163,0.80808080808080818]
[7,"BOLOGNESE SAUCE","KG",11.35,12.5,0,{"$f":"SUMIF('SAUCE USAGE'!$J$10:$J$63,B49,'SAUCE USAGE'!$L$10:$L$77)/1000","v":10.95},null,null,null,null,10.95,1.5500000000000007,7,5.4499999999999993,{"$f":"+O49*A49","v":38.149999999999991},0.49771689497716892,0]
[8,"BLACK PEPPER SAUCE (UDON)","KG",3.88,3.2,4.2,{"$f":"SUMIF('SAUCE USAGE'!$J$10:$J$63,B50,'SAUCE USAGE'!$L$10:$L$77)/1000","v":2.1},null,null,null,null,2.1,5.3000000000000007,3.6,-1.7000000000000006,{"$f":"+O50*A50","v":-13.600000000000005},-0.80952380952380976,2]
[]
[]
[null,"G.TOTAL ",null,null,null,null,null,null,null,null,null,null,null,null,null,{"$f":"SUM(P43:P52)","v":34.189239999999984}]

{"sheet":"K-LUNCH & K DINNER","index":3,"n_rows":47,"n_cols":10,"rows_kept":47,"cut":false,"hidden":false,"merged":[[46,0,46,2],[0,0,0,4],[5,8,5,9]]}
["MONTHLY SALES FOOD RECORD ( K LUNCH & K DINNER)"]
[]
["Outlet :","KDA OUTLET"]
["Month :","2013-05-01"]
[]
[null,null,null,"K-LUNCH & K DINNER","TOTAL COST ",null,null,null,"USAGE"]
["NO","MENU ITEM","Cost","Sales",null,null,null,"MATERIAL  USED","PORTION","TOTAL"]
[null,null,"RM","Q","RM",null,null,"Q","Q","Q"]
[]
[1,"DH01 91101:THAI CHK",3.29,{"$f":"VLOOKUP(B10,Summary!$B$30:$AK$286,5,FALSE)","v":48},{"$f":"+D10*C10","v":157.92000000000002},null,null,"CHICKEN CHOP (MARINATED)",0.66,{"$f":"+I10*D10","v":31.68}]
[{"$f":"+A10+1","v":2},"DH02 91102:MAMITE CHK",3.02,{"$f":"VLOOKUP(B11,Summary!$B$30:$AK$286,5,FALSE)","v":38},{"$f":"+D11*C11","v":114.76},null,null,"CHICKEN CHOP (MARINATED)",0.66,25.080000000000002]
[{"$f":"+A11+1","v":3},"DH03 91103:KO PO CHK",3.45,{"$f":"VLOOKUP(B12,Summary!$B$30:$AK$286,5,FALSE)","v":30},103.5,null,null,"CHICKEN CHOP (MARINATED)",0.66,19.8]
[4,"DH04 91104:S&S CHK",3.45,{"$f":"VLOOKUP(B13,Summary!$B$30:$AK$286,5,FALSE)","v":18},62.1,null,null,"CHICKEN CHOP (MARINATED)",0.66,11.88]
[5,"DH05 91105:BUTTER CHK",3.32,{"$f":"VLOOKUP(B14,Summary!$B$30:$AK$286,5,FALSE)","v":77},255.64,null,null,"CHICKEN CHOP (MARINATED)",0.66,50.82]
[6,"DH06 91106:HK F.RICE",3.16,{"$f":"VLOOKUP(B15,Summary!$B$30:$AK$286,5,FALSE)","v":51},161.16,null,null,null,null,0]
[7,"DH07 91107:SBL F.RICE",2.41,{"$f":"VLOOKUP(B16,Summary!$B$30:$AK$286,5,FALSE)","v":30},72.300000000000011,null,null,null,null,0]
[8,"DH08 91108:SBL F.MEE",2.8,{"$f":"VLOOKUP(B17,Summary!$B$30:$AK$286,5,FALSE)","v":5},14,null,null,null,null,0]
[9,"DH09 91109:BP UDON",2.08,{"$f":"VLOOKUP(B18,Summary!$B$30:$AK$286,5,FALSE)","v":20},41.6,null,null,null,null,0]
[10,"DH10 91110:NISSIN",2.3199999999999998,{"$f":"VLOOKUP(B19,Summary!$B$30:$AK$286,5,FALSE)","v":26},60.319999999999993,null,null,"CHICKEN SAUSAGE ",1.5,39]
[11,"DH11 91111:VEG RICE",1.6,{"$f":"VLOOKUP(B20,Summary!$B$30:$AK$286,5,FALSE)","v":12},19.200000000000003,null,null,null,null,0]
[12,"DH12 91112:NASI LEMAK",3.56,{"$f":"VLOOKUP(B21,Summary!$B$30:$AK$286,5,FALSE)","v":22},78.320000000000007,null,null,"CHICKEN WINGS (NON -MARINATED)",1,22]
[13,"DH13 91113:KUEY TEOW",3.16,{"$f":"VLOOKUP(B22,Summary!$B$30:$AK$286,5,FALSE)","v":16},50.56,null,null,null,null,0]
[14,"DH14 91114:F.BALL MEE",2.59,{"$f":"VLOOKUP(B23,Summary!$B$30:$AK$286,5,FALSE)","v":14},36.26,null,null,"FISH BALL (SMALL)",5,70]
[15,"DH15 91115:CHK NOODLE",4.71,{"$f":"VLOOKUP(B24,Summary!$B$30:$AK$286,5,FALSE)","v":13},61.23,null,null,"CHICKEN CHOP (MARINATED)",1,13]
[16,"DG01 91001:BP CHK CP",4.41,{"$f":"VLOOKUP(B25,Summary!$B$30:$AK$286,5,FALSE)","v":106},467.46000000000004,null,null,"CHICKEN CHOP (MARINATED)",1,106]
[{"$f":"+A25+1","v":17},"DG02 91002:GVY CHK CP",4.43,{"$f":"VLOOKUP(B26,Summary!$B$30:$AK$286,5,FALSE)","v":19},84.169999999999987,null,null,"CHICKEN CHOP (MARINATED)",1,19]
[18,"DG03 91003:MSR CHK CP",4.75,{"$f":"VLOOKUP(B27,Summary!$B$30:$AK$286,5,FALSE)","v":98},465.5,null,null,"CHICKEN CHOP (MARINATED)",1,98]
[19,"DG04 91004:CKN MARY",5.98,{"$f":"VLOOKUP(B28,Summary!$B$30:$AK$286,5,FALSE)","v":90},538.20000000000005,null,null,"CHICKEN CHOP (MARINATED)",1,90]
[20,"DG05 91005:FISH&CHIP",4.29,{"$f":"VLOOKUP(B29,Summary!$B$30:$AK$286,5,FALSE)","v":120},514.79999999999995,null,null,"DORY FISH FILLET ",1,120]
[21,"DG06 91006:SPAGHETTI",2.1,{"$f":"VLOOKUP(B30,Summary!$B$30:$AK$286,5,FALSE)","v":57},119.7]
[22,"DG07 91007:CHK SALAD",4.9400000000000004,{"$f":"VLOOKUP(B31,Summary!$B$30:$AK$286,5,FALSE)","v":38},187.72000000000003,null,null,"CHICKEN CHOP (MARINATED)",1,{"$f":"+I31*D31","v":38}]
[23,"DI01 91201:SFD STICK",2,{"$f":"VLOOKUP(B32,Summary!$B$30:$AK$286,5,FALSE)","v":2},4,null,null,"SOTONG BALL",2,{"$f":"+I32*$D$32","v":4}]
[null,null,null,null,null,null,null,"SALMON BALL",2,{"$f":"+I33*$D$32","v":4}]
[null,null,null,null,null,null,null,"SEAFOOD TOFU ",2,{"$f":"+I34*$D$32","v":4}]
[24,"DI02 91202:FREN FRIES",1.76,{"$f":"VLOOKUP(B35,Summary!$B$30:$AK$286,5,FALSE)","v":15},26.4,null,null,null,null,{"$f":"+I35*D35","v":0}]
[25,"DI03 91203:GOLD MROOM",2.15,{"$f":"VLOOKUP(B36,Summary!$B$30:$AK$286,5,FALSE)","v":3},6.4499999999999993,null,null,null,null,0]
[26,"DI04 91204:FISHBALL",1.56,{"$f":"VLOOKUP(B37,Summary!$B$30:$AK$286,5,FALSE)","v":5},7.8000000000000007,null,null,"FISH BALL (BIG)",6,30]
[27,"DI05 91205:RAINBOW RL",2.5,{"$f":"VLOOKUP(B38,Summary!$B$30:$AK$286,5,FALSE)","v":0},0,null,null,"RAINBOW ROLL",1,0]
[28,"DI06 91206:SPRING RL",2.67,{"$f":"VLOOKUP(B39,Summary!$B$30:$AK$286,5,FALSE)","v":9},24.03,null,null,"SPRING ROLL",8,72]
[29,"DI07 91207:SAUSAGE",1.24,{"$f":"VLOOKUP(B40,Summary!$B$30:$AK$286,5,FALSE)","v":6},7.4399999999999995,null,null,"CHICKEN SAUSAGE ",4,24]
[30,"DI10 91301:DUMPLING",4.5,{"$f":"VLOOKUP(B41,Summary!$B$30:$AK$286,5,FALSE)","v":10},45,null,null,"DUMPLING ",6,60]
[31,"DI11 91302:NUGGET",2.4300000000000002,{"$f":"VLOOKUP(B42,Summary!$B$30:$AK$286,5,FALSE)","v":32},77.760000000000005,null,null,"CHICKEN NUGGET",8,256]
[32,"DI12 91303:CHK WING",3.97,{"$f":"VLOOKUP(B43,Summary!$B$30:$AK$286,5,FALSE)","v":27},107.19000000000001,null,null,"CHICKEN WING  (MARINATED)",3,81]
[33,"DI13 91304:IKAN BILIS",2.1800000000000002,{"$f":"VLOOKUP(B44,Summary!$B$30:$AK$286,5,FALSE)","v":3},6.5400000000000009,null,null,null,null,0]
[34,"DI14 91305:THAI RL",3.61,{"$f":"VLOOKUP(B45,Summary!$B$30:$AK$286,5,FALSE)","v":1},3.61,null,null,"THAI ROLL ",7,7]
[]
["Total Sales / COST",null,null,{"$f":"SUM(D10:D45)","v":1061},{"$f":"SUM(E10:E46)","v":3982.6400000000008}]

{"sheet":"SIDE ORDER & FOC","index":4,"n_rows":86,"n_cols":19,"rows_kept":86,"cut":false,"hidden":false,"merged":[[100,9,100,11],[101,9,101,11],[51,11,51,12],[51,13,51,14],[51,16,51,18],[85,0,85,2],[96,0,96,2],[7,16,7,18],[7,13,7,14],[7,3,7,4],[7,6,7,7],[7,8,7,9],[50,3,50,4],[50,6,50,7],[50,8,50,9],[51,3,51,4],[51,6,51,7],[51,8,51,9],[0,0,0,12],[7,11,7,12],[6,3,6,4],[6,6,6,7],[6,8,6,9]]}
["MONTHLY SALES FOOD RECORD ( SIDE ORDER & FOC )"]
[]
[{"$f":"+'[3]K-LUNCH & K DINNER'!A3","v":"Outlet :"},{"$f":"+'K-LUNCH & K DINNER'!B3","v":"KDA OUTLET"}]
[{"$f":"+'[3]K-LUNCH & K DINNER'!A4","v":"Month :"},{"$f":"+'K-LUNCH & K DINNER'!B4","v":"2013-05-01"}]
[]
["  ASIAN CRUISE / WESTERN CRUISE / APPETIZER "]
[null,null,null,"(A)",null,null,"(B)",null,"(A) - (B)"]
[null,null,null,"SIDE ORDER                 (INCLUDING FOC)",null,null,"FOC",null,"SIDE ORDER                        (NETT SALES)",null,null,"SIDE ORDER                        (NETT COST)",null,"FOC (COST)",null,null,"USAGE"]
["NO","MENU ITEM","S/P","Sales","TOTAL",null,"Sales","TOTAL","Sales","TOTAL",null,"COST","TOTAL","COST","TOTAL",null,"MATERIAL ","RECIPE","TOTAL"]
[null,null,"RM","Q","RM",null,"Q","RM","Q","RM",null,"RM","RM","RM","RM",null,"Q","Q","Q"]
[1,"DF01 ADD RICE",1,{"$f":"VLOOKUP(B11,Summary!$B$30:$AJ$400,5,FALSE)","v":7},{"$f":"D11*C11","v":7},null,{"$f":"+'DAILY FOC'!BO9","v":0},{"$f":"G11*C11","v":0},{"$f":"+D11-G11","v":7},{"$f":"+I11*C11","v":7},null,0.5,{"$f":"+L11*I11","v":3.5},{"$f":"+L11","v":0.5},{"$f":"+N11*G11","v":0}]
[{"$f":"+A11+1","v":2},"DF02 ADD F.EGG",1.5,{"$f":"VLOOKUP(B12,Summary!$B$30:$AJ$400,5,FALSE)","v":1},{"$f":"D12*C12","v":1.5},null,{"$f":"+'DAILY FOC'!BO10","v":0},0,1,1.5,null,0.34,{"$f":"+L12*I12","v":0.34},0.34,{"$f":"+N12*G12","v":0}]
[{"$f":"+A12+1","v":3},"DC01 1101:THAI CHK",9.9,{"$f":"VLOOKUP(B13,Summary!$B$30:$AJ$400,5,FALSE)","v":29},287.10000000000002,null,{"$f":"+'DAILY FOC'!BO11","v":0},0,29,287.10000000000002,null,{"$f":"+'[3]K-LUNCH & K DINNER'!C10:C33","v":3.45},100.05000000000001,{"$f":"+L13","v":3.45},0,null,"CHICKEN CHOP (MARINATED)",0.66,{"$f":"+R13*D13","v":19.14}]
[4,"DC02 1102:MAMITE CHK",9.9,{"$f":"VLOOKUP(B14,Summary!$B$30:$AJ$400,5,FALSE)","v":19},188.1,null,{"$f":"+'DAILY FOC'!BO12","v":0},0,19,188.1,null,{"$f":"+'[3]K-LUNCH & K DINNER'!C11:C34","v":3.32},63.08,{"$f":"+L14","v":3.32},0,null,"CHICKEN CHOP (MARINATED)",0.66,{"$f":"+R14*D14","v":12.540000000000001}]
[5,"DC03 1103:KO PO CHK",9.9,{"$f":"VLOOKUP(B15,Summary!$B$30:$AJ$400,5,FALSE)","v":13},128.70000000000002,null,{"$f":"+'DAILY FOC'!BO13","v":0},0,0,0,null,{"$f":"+'[3]K-LUNCH & K DINNER'!C12:C35","v":3.16},0,3.16,0,null,"CHICKEN CHOP (MARINATED)",0.66,8.58]
[6,"DC04 1104:S&S CHK",9.9,{"$f":"VLOOKUP(B16,Summary!$B$30:$AJ$400,5,FALSE)","v":5},49.5,null,{"$f":"+'DAILY FOC'!BO14","v":0},0,5,49.5,null,{"$f":"+'[3]K-LUNCH & K DINNER'!C13:C36","v":2.41},12.05,2.41,0,null,"CHICKEN CHOP (MARINATED)",0.66,3.3000000000000003]
[7,"DC05 1105:BUTTER CHK",9.9,{"$f":"VLOOKUP(B17,Summary!$B$30:$AJ$400,5,FALSE)","v":34},336.6,null,{"$f":"+'DAILY FOC'!BO15","v":0},0,34,336.6,null,{"$f":"+'[3]K-LUNCH & K DINNER'!C14:C37","v":2.8},95.199999999999989,2.8,0,null,"CHICKEN CHOP (MARINATED)",0.66,22.44]
[8,"DC06 1106:HK F.RICE",9.9,{"$f":"VLOOKUP(B18,Summary!$B$30:$AJ$400,5,FALSE)","v":14},138.6,null,{"$f":"+'DAILY FOC'!BO16","v":0},0,14,138.6,null,{"$f":"+'[3]K-LUNCH & K DINNER'!C15:C38","v":2.08},29.12,2.08,0]
[9,"DC07 1107:SBL F.RICE",9.9,{"$f":"VLOOKUP(B19,Summary!$B$30:$AJ$400,5,FALSE)","v":22},217.8,null,{"$f":"+'DAILY FOC'!BO17","v":0},0,22,217.8,null,{"$f":"+'[3]K-LUNCH & K DINNER'!C16:C39","v":2.3199999999999998},51.04,2.3199999999999998,0]
[10,"DC08 1108:SBL F.MEE",9.9,{"$f":"VLOOKUP(B20,Summary!$B$30:$AJ$400,5,FALSE)","v":5},49.5,null,{"$f":"+'DAILY FOC'!BO18","v":0},0,0,0,null,{"$f":"+'[3]K-LUNCH & K DINNER'!C17:C40","v":1.6},0,1.6,0]
[11,"DC09 1109:BP UDON",9.9,{"$f":"VLOOKUP(B21,Summary!$B$30:$AJ$400,5,FALSE)","v":10},99,null,{"$f":"+'DAILY FOC'!BO19","v":0},0,0,0,null,{"$f":"+'[3]K-LUNCH & K DINNER'!C18:C41","v":3.56},0,3.56,0]
[12,"DC10 1110:NISSIN",9.9,{"$f":"VLOOKUP(B22,Summary!$B$30:$AJ$400,5,FALSE)","v":16},158.4,null,{"$f":"+'DAILY FOC'!BO20","v":0},0,16,158.4,null,{"$f":"+'[3]K-LUNCH & K DINNER'!C19:C42","v":3.16},50.56,3.16,0,null,"CHICKEN SAUSAGE ",1.5,{"$f":"+R22*D22","v":24}]
[13,"DC11 1111:VEG RICE",9.9,{"$f":"VLOOKUP(B23,Summary!$B$30:$AJ$400,5,FALSE)","v":1},9.9,null,{"$f":"+'DAILY FOC'!BO21","v":0},0,0,0,null,{"$f":"+'[3]K-LUNCH & K DINNER'!C20:C43","v":2.59},0,2.59,0,null,null,null,{"$f":"+R23*M23","v":0}]
[14,"DC12 1112:NASI LEMAK",9.9,{"$f":"VLOOKUP(B24,Summary!$B$30:$AJ$400,5,FALSE)","v":9},89.100000000000009,null,{"$f":"+'DAILY FOC'!BO22","v":0},0,0,0,null,{"$f":"+'[3]K-LUNCH & K DINNER'!C21:C44","v":4.71},0,4.71,0,null,"CHICKEN WINGS (NON -MARINATED)",1,9]
[15,"DC13 1113:KUEY TEOW",9.9,{"$f":"VLOOKUP(B25,Summary!$B$30:$AJ$400,5,FALSE)","v":11},108.9,null,{"$f":"+'DAILY FOC'!BO23","v":0},0,11,108.9,null,{"$f":"+'[3]K-LUNCH & K DINNER'!C22:C45","v":3.54},38.94,3.54,0]
[16,"DC14 1114:F.BALL MEE",9.9,{"$f":"VLOOKUP(B26,Summary!$B$30:$AJ$400,5,FALSE)","v":1},9.9,null,{"$f":"+'DAILY FOC'!BO24","v":0},0,1,9.9,null,{"$f":"+'[3]K-LUNCH & K DINNER'!C23:C46","v":4.41},4.41,4.41,0,null,"FISH BALL (SMALL)",5,5]
[17,"DC15 1115:CHK NOODLE",9.9,{"$f":"VLOOKUP(B27,Summary!$B$30:$AJ$400,5,FALSE)","v":2},19.8,null,{"$f":"+'DAILY FOC'!BO25","v":0},0,2,19.8,null,{"$f":"+'[3]K-LUNCH & K DINNER'!C24:C47","v":4.43},8.86,4.43,0,null,"CHICKEN CHOP (MARINATED)",1,2]
[18,"DB01 1001:BP CKN CP",12.9,{"$f":"VLOOKUP(B28,Summary!$B$30:$AJ$400,5,FALSE)","v":16},206.4,null,{"$f":"+'DAILY FOC'!BO26","v":0},0,16,206.4,null,{"$f":"+'[3]K-LUNCH & K DINNER'!C26:C49","v":4.75},76,4.75,0,null,"CHICKEN CHOP (MARINATED)",1,16]
[19,"DB02 1002:GVY CHK CP",12.9,{"$f":"VLOOKUP(B29,Summary!$B$30:$AJ$400,5,FALSE)","v":3},38.700000000000003,null,{"$f":"+'DAILY FOC'!BO27","v":0},0,3,38.700000000000003,null,{"$f":"+'[3]K-LUNCH & K DINNER'!C27:C50","v":5.98},17.940000000000001,5.98,0,null,"CHICKEN CHOP (MARINATED)",1,3]
[20,"DB03 1003:MSR CKN CP",12.9,{"$f":"VLOOKUP(B30,Summary!$B$30:$AJ$400,5,FALSE)","v":13},167.70000000000002,null,{"$f":"+'DAILY FOC'!BO28","v":4},51.6,9,116.10000000000001,null,{"$f":"+'[3]K-LUNCH & K DINNER'!C28:C51","v":4.29},38.61,4.29,17.16,null,"CHICKEN CHOP (MARINATED)",1,13]
[21,"DB04 1004:CKN MARY",12.9,{"$f":"VLOOKUP(B31,Summary!$B$30:$AJ$400,5,FALSE)","v":5},64.5,null,{"$f":"+'DAILY FOC'!BO29","v":0},0,5,64.5,null,{"$f":"+'[3]K-LUNCH & K DINNER'!C29:C52","v":2.1},10.5,2.1,0,null,"CHICKEN CHOP (MARINATED)",1,5]
[22,"DB05 1005:FISH&CHIP",12.9,{"$f":"VLOOKUP(B32,Summary!$B$30:$AJ$400,5,FALSE)","v":12},154.80000000000001,null,{"$f":"+'DAILY FOC'!BO30","v":0},0,12,154.80000000000001,null,{"$f":"+'[3]K-LUNCH & K DINNER'!C30:C53","v":4.9400000000000004},59.28,4.9400000000000004,0,null,"DORY FISH FILLET ",1,12]
[23,"DB06 1006:SPAGHETTI",12.9,{"$f":"VLOOKUP(B33,Summary!$B$30:$AJ$400,5,FALSE)","v":16},206.4,null,{"$f":"+'DAILY FOC'!BO31","v":0},0,16,206.4,null,{"$f":"+'[3]K-LUNCH & K DINNER'!C31:C54","v":2},32,2,0]
[24,"DB07 1007:CHK SALAD",12.9,{"$f":"VLOOKUP(B34,Summary!$B$30:$AJ$400,5,FALSE)","v":8},103.2,null,{"$f":"+'DAILY FOC'!BO32","v":0},0,8,103.2,null,{"$f":"+'[3]K-LUNCH & K DINNER'!C32:C55","v":0},0,0,0,null,"CHICKEN CHOP (MARINATED)",1,8]
[25,"DD01 1201:SFD STICK",5.9,{"$f":"VLOOKUP(B35,Summary!$B$30:$AJ$400,5,FALSE)","v":0},{"$f":"D35*C35","v":0},null,{"$f":"+'DAILY FOC'!BO33","v":0},0,1,{"$f":"+I35*C35","v":5.9},null,{"$f":"+'[3]K-LUNCH & K DINNER'!C33:C56","v":0},0,{"$f":"+L35","v":0},0,null,"SOTONG BALL",2,{"$f":"+R35*$D$35","v":0}]
[null,null,null,null,null,null,null,null,null,null,null,null,null,null,null,null,"SALMON BALL",2,{"$f":"+R36*$D$35","v":0}]
[null,null,null,null,null,null,null,null,null,null,null,null,null,null,null,null,"SEAFOOD TOFU ",2,0]
[{"$f":"+A35+1","v":26},"DD02 1202:FREN FRIES",5.9,{"$f":"VLOOKUP(B38,Summary!$B$30:$AJ$400,5,FALSE)","v":11},{"$f":"D38*C38","v":64.900000000000006},null,{"$f":"+'DAILY FOC'!BO36","v":0},{"$f":"G38*C38","v":0},{"$f":"+D38-G38","v":11},{"$f":"+I38*C38","v":64.900000000000006},null,{"$f":"+'[3]K-LUNCH & K DINNER'!C36","v":1.76},19.36,{"$f":"+L38","v":1.76},0]
[{"$f":"+A38+1","v":27},"DD03 1203:GOLD MROOM",5.9,{"$f":"VLOOKUP(B39,Summary!$B$30:$AJ$400,5,FALSE)","v":5},29.5,null,{"$f":"+'DAILY FOC'!BO37","v":0},0,5,{"$f":"+I39*C39","v":29.5},null,{"$f":"+'[3]K-LUNCH & K DINNER'!C37","v":2.15},10.75,2.15,0,null,null,null,{"$f":"+R39*D39","v":0}]
[28,"DD04 1204:FISHBALL",5.9,{"$f":"VLOOKUP(B40,Summary!$B$30:$AJ$400,5,FALSE)","v":6},35.400000000000006,null,{"$f":"+'DAILY FOC'!BO38","v":1},5.9,5,29.5,null,{"$f":"+'[3]K-LUNCH & K DINNER'!C38","v":1.56},7.8000000000000007,1.56,1.56,null,"FISH BALL (BIG)",6,{"$f":"+R40*D40","v":36}]
[29,"DD05 1205:RAINBOW RL",5.9,{"$f":"VLOOKUP(B41,Summary!$B$30:$AJ$400,5,FALSE)","v":0},0,null,{"$f":"+'DAILY FOC'!BO39","v":0},0,0,0,null,{"$f":"+'[3]K-LUNCH & K DINNER'!C39","v":2.5},0,2.5,0,null,"RAINBOW ROLL",1,0]
[30,"DD06 1206:SPRING RL",5.9,{"$f":"VLOOKUP(B42,Summary!$B$30:$AJ$400,5,FALSE)","v":4},23.6,null,{"$f":"+'DAILY FOC'!BO40","v":0},{"$f":"G42*C42","v":0},4,{"$f":"+I42*C42","v":23.6},null,{"$f":"+'[3]K-LUNCH & K DINNER'!C40","v":2.67},10.68,2.67,0,null,"SPRING ROLL",8,32]
[31,"DD07 1207:SAUSAGE",5.9,{"$f":"VLOOKUP(B43,Summary!$B$30:$AJ$400,5,FALSE)","v":2},11.8,null,{"$f":"+'DAILY FOC'!BO41","v":0},0,2,11.8,null,{"$f":"+'[3]K-LUNCH & K DINNER'!C41","v":1.24},2.48,1.24,0,null,"CHICKEN SAUSAGE ",4,8]
[32,"DD10 1301:DUMPLING",5.9,{"$f":"VLOOKUP(B44,Summary!$B$30:$AJ$400,5,FALSE)","v":5},29.5,null,{"$f":"+'DAILY FOC'!BO42","v":3},17.700000000000003,0,0,null,{"$f":"+'[3]K-LUNCH & K DINNER'!C44","v":4.5},0,4.5,13.5,null,"DUMPLING ",6,30]
[33,"DD11 1302:NUGGET",7.9,{"$f":"VLOOKUP(B45,Summary!$B$30:$AJ$400,5,FALSE)","v":7},55.300000000000004,null,{"$f":"+'DAILY FOC'!BO43","v":0},0,7,55.300000000000004,null,{"$f":"+'[3]K-LUNCH & K DINNER'!C45","v":2.4300000000000002},17.010000000000002,2.4300000000000002,0,null,"CHICKEN NUGGET",8,56]
[34,"DD12 1303:CHK WING",7.9,{"$f":"VLOOKUP(B46,Summary!$B$30:$AJ$400,5,FALSE)","v":14},110.60000000000001,null,{"$f":"+'DAILY FOC'!BO44","v":0},0,14,110.60000000000001,null,{"$f":"+'[3]K-LUNCH & K DINNER'!C46","v":3.97},55.580000000000005,3.97,0,null,"CHICKEN WING  (MARINATED)",3,42]
[35,"DD13 1304:IKAN BILIS",7.9,{"$f":"VLOOKUP(B47,Summary!$B$30:$AJ$400,5,FALSE)","v":3},23.700000000000003,null,{"$f":"+'DAILY FOC'!BO45","v":0},0,3,23.700000000000003,null,{"$f":"+'[3]K-LUNCH & K DINNER'!C47","v":2.1800000000000002},6.5400000000000009,2.1800000000000002,0,null,null,null,{"$f":"+R47*D47","v":0}]
[36,"DD14 1305:THAI RL",7.9,{"$f":"VLOOKUP(B48,Summary!$B$30:$AJ$400,5,FALSE)","v":3},23.700000000000003,null,{"$f":"+'DAILY FOC'!BO46","v":0},0,3,23.700000000000003,null,{"$f":"+'[3]K-LUNCH & K DINNER'!C48","v":3.61},10.83,3.61,0,null,"THAI ROLL",7,{"$f":"+R48*D48","v":21}]
[37,"DD15 1306:SLVR FISH",7.9,{"$f":"VLOOKUP(B49,Summary!$B$30:$AJ$400,5,FALSE)","v":0},0,null,{"$f":"+'DAILY FOC'!BO47","v":0},0,0,0,null,{"$f":"+'[3]K-LUNCH & K DINNER'!C49","v":0},0,0,0,null,null,null,0]
[null,null,null,null,null,null,null,null,null,null,null,null,null,null,null,null,null,null,0]
[null,null,null,"(A)",null,null,"(B)",null,"(A) - (B)"]
[null,null,null,"SIDE ORDER                 (INCLUDING FOC)",null,null,"FOC",null,"SIDE ORDER                        (NETT SALES)",null,null,"SIDE ORDER                        (NETT COST)",null,"FOC (COST)",null,null,"USAGE"]
["NO","MENU ITEM","S/P","Sales","TOTAL",null,"Sales","TOTAL","Sales","TOTAL",null,"COST","TOTAL","COST","TOTAL",null,"MATERIAL ","RECIPE","TOTAL"]
[null,null,"RM","Q","RM",null,"Q","RM","Q","RM",null,"RM","RM","RM","RM",null,"Q","Q","Q"]
[]
[null,"COMBO SET"]
[1,"ZAB01 1201:SFD STICK",4.95,{"$f":"VLOOKUP(B57,Summary!$B$30:$AJ$400,5,FALSE)","v":0},{"$f":"D57*C57","v":0},null,null,null,{"$f":"+D57-G57","v":0},{"$f":"+I57*C57","v":0},null,{"$f":"+L35","v":0},{"$f":"+L57*I57","v":0},{"$f":"+L57","v":0},{"$f":"+N57*G57","v":0},null,"SOTONG BALL",2,{"$f":"+R57*$D$57","v":0}]
[null,null,null,null,null,null,null,null,null,null,null,null,null,null,null,null,"SALMON BALL",2,{"$f":"+R58*$D$57","v":0}]
[null,null,null,null,null,null,null,null,null,null,null,null,null,null,null,null,"SEAFOOD TOFU ",2,0]
[{"$f":"+A57+1","v":2},"ZAB02 1202:FRIES",4.95,{"$f":"VLOOKUP(B60,Summary!$B$30:$AJ$400,5,FALSE)","v":0},{"$f":"D60*C60","v":0},null,null,null,{"$f":"+D60-G60","v":0},{"$f":"+I60*C60","v":0},null,{"$f":"+L38","v":1.76},{"$f":"+L60*I60","v":0},{"$f":"+L60","v":1.76},{"$f":"+N60*G60","v":0}]
[{"$f":"+A60+1","v":3},"ZAB03 1203:GOLD MROOM",4.95,{"$f":"VLOOKUP(B61,Summary!$B$30:$AJ$400,5,FALSE)","v":0},0,null,null,null,0,0,null,2.15,0,2.15,0]
[{"$f":"+A61+1","v":4},"ZAB04 1204:F.BALL",4.95,{"$f":"VLOOKUP(B62,Summary!$B$30:$AJ$400,5,FALSE)","v":0},0,null,null,null,0,0,null,1.56,0,1.56,0,null,"FISH BALL (BIG)",6,{"$f":"+R62*D62","v":0}]
[5,"ZAB05 1205:RAINBOW RL",4.95,{"$f":"VLOOKUP(B63,Summary!$B$30:$AJ$400,5,FALSE)","v":0},{"$f":"D63*C63","v":0},null,null,null,{"$f":"+D63-G63","v":0},{"$f":"+I63*C63","v":0},null,2.5,{"$f":"+L63*I63","v":0},{"$f":"+L63","v":2.5},{"$f":"+N63*G63","v":0},null,"RAINBOW ROLL",1,{"$f":"+R63*D63","v":0}]
[6,"ZAB06 1206:SPRING RL",4.95,{"$f":"VLOOKUP(B64,Summary!$B$30:$AJ$400,5,FALSE)","v":0},0,null,null,null,0,0,null,{"$f":"+L41","v":2.5},0,2.5,0,null,"SPRING ROLL",8,{"$f":"+R64*D64","v":0}]
[7,"ZAB07 1207:SAUSAGE",4.95,{"$f":"VLOOKUP(B65,Summary!$B$30:$AJ$400,5,FALSE)","v":0},0,null,null,null,0,0,null,{"$f":"+L42","v":2.67},0,2.67,0,null,"CHICKEN SAUSAGE ",4,0]
[8,"ZAC01 1301:DUMPLING",6.95,{"$f":"VLOOKUP(B66,Summary!$B$30:$AJ$400,5,FALSE)","v":0},{"$f":"D66*C66","v":0},null,null,null,{"$f":"+D66-G66","v":0},{"$f":"+I66*C66","v":0},null,{"$f":"+L43","v":1.24},{"$f":"+L66*I66","v":0},{"$f":"+L66","v":1.24},{"$f":"+N66*G66","v":0},null,"DUMPLING",6,0]
[9,"ZAC02 1302:NUGGET",6.95,{"$f":"VLOOKUP(B67,Summary!$B$30:$AJ$400,5,FALSE)","v":0},0,null,null,null,0,0,null,{"$f":"+L43","v":1.24},0,1.24,0,null,"CHICKEN NUGGET",8,0]
[10,"ZAC03 1303:CHK WING",6.95,{"$f":"VLOOKUP(B68,Summary!$B$30:$AJ$400,5,FALSE)","v":0},0,null,null,null,0,0,null,{"$f":"+L46","v":3.97},0,3.97,0,null,"CHICKEN WING  (MARINATED)",3,0]
[11,"ZAC04 1304:IKAN BILIS",6.95,{"$f":"VLOOKUP(B69,Summary!$B$30:$AJ$400,5,FALSE)","v":0},0,null,null,null,0,0,null,{"$f":"+L47","v":2.1800000000000002},0,2.1800000000000002,0]
[12,"ZAC05 1305:THAI RL",6.95,{"$f":"VLOOKUP(B70,Summary!$B$30:$AJ$400,5,FALSE)","v":0},0,null,null,null,0,0,null,{"$f":"+'[3]K-LUNCH & K DINNER'!C48","v":3.61},0,3.61,0,null,"THAI ROLL ",7,{"$f":"+R70*D70","v":0}]
[]
[null,"PLATTER"]
[1,"DD19 CNY BEER PLATER",16.899999999999999,{"$f":"VLOOKUP(B73,Summary!$B$30:$AJ$309,5,FALSE)","v":1},{"$f":"D73*C73","v":16.899999999999999},null,null,null,{"$f":"+D73-G73","v":1},{"$f":"+I73*C73","v":16.899999999999999},null,4.5999999999999996,{"$f":"+L73*I73","v":4.5999999999999996},{"$f":"+L73","v":4.5999999999999996},{"$f":"+N73*G73","v":0},null,"CHICKEN WINGS (NON -MARINATED)",4,{"$f":"+R73*$D$73","v":4}]
[null,null,null,null,null,null,null,null,null,null,null,null,null,null,null,null,"MCCAIN ONION RING",8,{"$f":"+R74*$D$73","v":8}]
[2,"DD20 CNY ALA CARTE",12.9,{"$f":"VLOOKUP(B75,Summary!$B$30:$AJ$309,5,FALSE)","v":0},{"$f":"D75*C75","v":0},null,null,null,{"$f":"+D75-G75","v":0},{"$f":"+I75*C75","v":0},null,4.5999999999999996,{"$f":"+L75*I75","v":0},{"$f":"+L75","v":4.5999999999999996},{"$f":"+N75*G75","v":0},null,"CHICKEN WINGS (NON -MARINATED)",4,{"$f":"+R75*$D$75","v":0}]
[null,null,null,null,null,null,null,null,null,null,null,null,null,null,null,null,"MCCAIN ONION RING",8,{"$f":"+R76*$D$75","v":0}]
[3,"DD16 McCain AlaCarte",null,{"$f":"VLOOKUP(B77,Summary!$B$30:$AJ$309,5,FALSE)","v":0},{"$f":"D77*C77","v":0},null,null,null,{"$f":"+D77-G77","v":0},{"$f":"+I77*C77","v":0},null,4.5999999999999996,{"$f":"+L77*I77","v":0},{"$f":"+L77","v":4.5999999999999996},{"$f":"+N77*G77","v":0},null,"MCCAIN VERSITOT",8,{"$f":"+R77*$D$77","v":0}]
[null,null,null,null,null,null,null,null,null,null,null,null,null,null,null,null,"MCCAIN SMILES",6,{"$f":"+R78*$D$77","v":0}]
[null,null,null,null,null,null,null,null,null,null,null,null,null,null,null,null,"MCCAIN ONION RING",8,{"$f":"+R79*$D$77","v":0}]
[null,null,null,null,null,null,null,null,null,null,null,null,null,null,null,null,"MCCAIN SPIRAL FRIES",0.12,{"$f":"+R80*$D$77","v":0}]
[4,"DD17 McC Beer Platter",null,{"$f":"VLOOKUP(B81,Summary!$B$30:$AJ$309,5,FALSE)","v":0},0,null,null,null,0,0,null,4.5999999999999996,{"$f":"+L81*I81","v":0},4.5999999999999996,0,null,"MCCAIN VERSITOT",8,{"$f":"+R81*$D$81","v":0}]
[null,null,null,null,null,null,null,null,null,null,null,null,null,null,null,null,"MCCAIN SMILES",6,{"$f":"+R82*$D$81","v":0}]
[null,null,null,null,null,null,null,null,null,null,null,null,null,null,null,null,"MCCAIN ONION RING",8,{"$f":"+R83*$D$77","v":0}]
[null,null,null,null,null,null,null,null,null,null,null,null,null,null,null,null,"MCCAIN SPIRAL FRIES",0.12,{"$f":"+R84*$D$77","v":0}]
[]
["Total Sales / COST",null,null,{"$f":"SUM(D11:D85)","v":333},{"$f":"SUM(E11:E85)","v":3266},null,{"$f":"SUM(G11:G85)","v":8},{"$f":"SUM(H11:H85)","v":75.2},{"$f":"SUM(I11:I85)","v":286},{"$f":"SUM(J11:J85)","v":2808.7000000000003},null,null,{"$f":"SUM(M11:M85)","v":837.11000000000013},null,{"$f":"SUM(O11:O85)","v":32.22}]

{"sheet":"SAUCE USAGE","index":5,"n_rows":61,"n_cols":13,"rows_kept":61,"cut":false,"hidden":false,"merged":[[6,9,6,11]]}
["MONTHLY SERVINGS: SAUCE "]
[]
[{"$f":"+'K-LUNCH & K DINNER'!A3","v":"Outlet :"},{"$f":"+'K-LUNCH & K DINNER'!B3","v":"KDA OUTLET"}]
[{"$f":"+'K-LUNCH & K DINNER'!A4","v":"Month :"},{"$f":"+'K-LUNCH & K DINNER'!B4","v":"2013-05-01"}]
[]
[]
[null,null,null,"FROM SYSTEM ",null,null,"FROM SYSTEM ",null,null,"USAGE"]
["NO","Item","COST","SERVINGS",null,"Item","SERVINGS","TOTAL ",null,"MATERIAL ","RECIPE","TOTAL","TOTAL COST"]
[null,null,"RM","Q",null,null,"Q","Q",null,"Q","GRAM","GRAM ","RM"]
[null,"KLKD",null,null,null,"SIDE ORDER"]
[1,"DH01 91101:THAI CHK",{"$f":"0.27/38","v":7.1052631578947369E-3},{"$f":"VLOOKUP(B11,Summary!$B$30:$AK$376,5,FALSE)","v":48},null,"DC01 1101:THAI CHK",{"$f":"VLOOKUP(F11,Summary!$B$30:$AK$376,5,FALSE)","v":29},{"$f":"+G11+D11","v":77},null,"THAI SAUCE",75,{"$f":"+K11*H11","v":5775},{"$f":"+L11*C11","v":41.032894736842103}]
[{"$f":"+A11+1","v":2},"DH02 91102:MAMITE CHK",2E-3,{"$f":"VLOOKUP(B12,Summary!$B$30:$AK$376,5,FALSE)","v":38},null,"DC02 1102:MAMITE CHK",{"$f":"VLOOKUP(F12,Summary!$B$30:$AK$376,5,FALSE)","v":19},{"$f":"+G12+D12","v":57},null,"MARMITE SAUCE ",80,{"$f":"+K12*H12","v":4560},{"$f":"+L12*C12","v":9.120000000000001}]
[{"$f":"+A12+1","v":3},"DH03 91103:KO PO CHK",1.5E-3,{"$f":"VLOOKUP(B13,Summary!$B$30:$AK$376,5,FALSE)","v":30},null,"DC03 1103:KO PO CHK",{"$f":"VLOOKUP(F13,Summary!$B$30:$AK$376,5,FALSE)","v":13},43,null,"KONG PO SAUCE",180,7740,11.61]
[4,"DH04 91104:S&S CHK",{"$f":"0.38/200","v":1.9E-3},{"$f":"VLOOKUP(B14,Summary!$B$30:$AK$376,5,FALSE)","v":18},null,"DC04 1104:S&S CHK",{"$f":"VLOOKUP(F14,Summary!$B$30:$AK$376,5,FALSE)","v":5},23,null,"SWEET & SOUR SAUCE",200,4600,8.74]
[5,"DH05 91105:BUTTER CHK",5.8999999999999999E-3,{"$f":"VLOOKUP(B15,Summary!$B$30:$AK$376,5,FALSE)","v":77},null,"DC05 1105:BUTTER CHK",{"$f":"VLOOKUP(F15,Summary!$B$30:$AK$376,5,FALSE)","v":34},111,null,"BUTTER CREAM SAUCE",75,{"$f":"+K15*H15","v":8325},49.1175]
[6,"DH06 91106:HK F.RICE",{"$f":"0.28/30","v":9.3333333333333341E-3},{"$f":"VLOOKUP(B16,Summary!$B$30:$AK$376,5,FALSE)","v":51},null,"DC06 1106:HK F.RICE",{"$f":"VLOOKUP(F16,Summary!$B$30:$AK$376,5,FALSE)","v":14},65,null,null,null,{"$f":"+K16*H16","v":0},0]
[7,"DH07 91107:SBL F.RICE",9.1000000000000004E-3,{"$f":"VLOOKUP(B17,Summary!$B$30:$AK$376,5,FALSE)","v":30},null,"DC07 1107:SBL F.RICE",{"$f":"VLOOKUP(F17,Summary!$B$30:$AK$376,5,FALSE)","v":22},52,null,"SAMBAL (FRIED)SAUCE",30,1560,14.196000000000002]
[8,"DH08 91108:SBL F.MEE",9.1000000000000004E-3,{"$f":"VLOOKUP(B18,Summary!$B$30:$AK$376,5,FALSE)","v":5},null,"DC08 1108:SBL F.MEE",{"$f":"VLOOKUP(F18,Summary!$B$30:$AK$376,5,FALSE)","v":5},10,null,"SAMBAL (FRIED)SAUCE",30,{"$f":"+K18*H18","v":300},2.73]
[9,"DH09 91109:BP UDON",3.8999999999999998E-3,{"$f":"VLOOKUP(B19,Summary!$B$30:$AK$376,5,FALSE)","v":20},null,"DC09 1109:BP UDON",{"$f":"VLOOKUP(F19,Summary!$B$30:$AK$376,5,FALSE)","v":10},30,null,"BLACK PEPPER SAUCE (UDON)",70,{"$f":"+K19*H19","v":2100},8.19]
[10,"DH10 91110:NISSIN",{"$f":"0.7/80","v":8.7499999999999991E-3},{"$f":"VLOOKUP(B20,Summary!$B$30:$AK$376,5,FALSE)","v":26},null,"DC10 1110:NISSIN",{"$f":"VLOOKUP(F20,Summary!$B$30:$AK$376,5,FALSE)","v":16},42,null,null,null,{"$f":"+K20*H20","v":0},0]
[{"$f":"+A20+1","v":11},"DH11 91111:VEG RICE",{"$f":"0.28/90","v":3.1111111111111114E-3},{"$f":"VLOOKUP(B21,Summary!$B$30:$AK$376,5,FALSE)","v":12},null,"DC11 1111:VEG RICE",{"$f":"VLOOKUP(F21,Summary!$B$30:$AK$376,5,FALSE)","v":1},13,null,null,null,0,0]
[{"$f":"+A21+1","v":12},"DH12 91112:NASI LEMAK",7.4000000000000003E-3,{"$f":"VLOOKUP(B22,Summary!$B$30:$AK$376,5,FALSE)","v":22},null,"DC12 1112:NASI LEMAK",{"$f":"VLOOKUP(F22,Summary!$B$30:$AK$376,5,FALSE)","v":9},31,null,"SAMBAL SAUCE (NASI)",110,3410,25.234000000000002]
[13,"DH13 91113:KUEY TEOW",9.1000000000000004E-3,{"$f":"VLOOKUP(B23,Summary!$B$30:$AK$376,5,FALSE)","v":16},null,"DC13 1113:KUEY TEOW",{"$f":"VLOOKUP(F23,Summary!$B$30:$AK$376,5,FALSE)","v":11},27,null,"SAMBAL (FRIED)SAUCE",30,810,{"$f":"+L23*C23","v":7.3710000000000004}]
[14,"DH14 91114:F.BALL MEE",{"$f":"0.75/130","v":5.7692307692307696E-3},{"$f":"VLOOKUP(B24,Summary!$B$30:$AK$376,5,FALSE)","v":14},null,"DC14 1114:F.BALL MEE",{"$f":"VLOOKUP(F24,Summary!$B$30:$AK$376,5,FALSE)","v":1},15,null,null,null,0,0]
[{"$f":"+A24+1","v":15},"DH15 91115:CHK NOODLE",1.5E-3,{"$f":"VLOOKUP(B25,Summary!$B$30:$AK$376,5,FALSE)","v":13},null,"DC15 1115:CHK NOODLE",{"$f":"VLOOKUP(F25,Summary!$B$30:$AK$376,5,FALSE)","v":2},15,null,"DRY NOODLE SAUCE",25,375,0.5625]
[16,"DG01 91001:BP CHK CP",3.0000000000000001E-3,{"$f":"VLOOKUP(B26,Summary!$B$30:$AK$376,5,FALSE)","v":106},null,"DB01 1001:BP CKN CP",{"$f":"VLOOKUP(F26,Summary!$B$30:$AK$376,5,FALSE)","v":16},{"$f":"+G26+D26","v":122},null,"BLACK PEPPER SAUCE",90,{"$f":"+K26*H26","v":10980},32.94]
[17,"DG02 91002:GVY CHK CP",3.3E-3,{"$f":"VLOOKUP(B27,Summary!$B$30:$AK$376,5,FALSE)","v":19},null,"DB02 1002:GVY CHK CP",{"$f":"VLOOKUP(F27,Summary!$B$30:$AK$376,5,FALSE)","v":3},22,null,"GRAVY SAUCE",90,{"$f":"+K27*H27","v":1980},6.5339999999999998]
[18,"DG03 91003:MSR CHK CP",6.7999999999999996E-3,{"$f":"VLOOKUP(B28,Summary!$B$30:$AK$376,5,FALSE)","v":98},null,"DB03 1003:MSR CKN CP",{"$f":"VLOOKUP(F28,Summary!$B$30:$AK$376,5,FALSE)","v":13},111,null,"MUSHROOM SAUCE",90,9990,67.932000000000002]
[19,"DG04 91004:CKN MARY",{"$f":"0.27/38","v":7.1052631578947369E-3},{"$f":"VLOOKUP(B29,Summary!$B$30:$AK$376,5,FALSE)","v":90},null,"DB04 1004:CKN MARY",{"$f":"VLOOKUP(F29,Summary!$B$30:$AK$376,5,FALSE)","v":5},95,null,"DRESSING THOUSAND ISLAND",30,{"$f":"+K29*H29","v":2850},20.25]
[null,null,null,null,null,null,null,null,null,"DRESSING COLESLAW",130,{"$f":"+K30*$H$29","v":12350},0]
[{"$f":"+A29+1","v":20},"DG05 91005:FISH&CHIP",1.24E-2,{"$f":"VLOOKUP(B31,Summary!$B$30:$AK$376,5,FALSE)","v":120},null,"DB05 1005:FISH&CHIP",{"$f":"VLOOKUP(F31,Summary!$B$30:$AK$376,5,FALSE)","v":12},132,null,"TARTAR SAUCE",30,3960,49.103999999999999]
[21,"DG06 91006:SPAGHETTI",1.14E-2,{"$f":"VLOOKUP(B32,Summary!$B$30:$AK$376,5,FALSE)","v":57},null,"DB06 1006:SPAGHETTI",{"$f":"VLOOKUP(F32,Summary!$B$30:$AK$376,5,FALSE)","v":16},73,null,"BOLOGNESE SAUCE",150,10950,124.83]
[22,"DG07 91007:CHK SALAD",{"$f":"0.7/65","v":1.0769230769230769E-2},{"$f":"VLOOKUP(B33,Summary!$B$30:$AK$376,5,FALSE)","v":38},null,"DB07 1007:CHK SALAD",{"$f":"VLOOKUP(F33,Summary!$B$30:$AK$376,5,FALSE)","v":8},46,null,"DRESSING THOUSAND ISLAND",65,2990,32.199999999999996]
[23,"DI01 91201:SFD STICK",{"$f":"0.27/38","v":7.1052631578947369E-3},{"$f":"VLOOKUP(B34,Summary!$B$30:$AK$376,5,FALSE)","v":2},null,"DD01 1201:SFD STICK",{"$f":"VLOOKUP(F34,Summary!$B$30:$AK$376,5,FALSE)","v":0},2,null,"THAI SAUCE",38,76,0.54]
[24,"DI02 91202:FREN FRIES",{"$f":"0.13/30","v":4.3333333333333331E-3},{"$f":"VLOOKUP(B35,Summary!$B$30:$AK$376,5,FALSE)","v":15},null,"DD02 1202:FREN FRIES",{"$f":"VLOOKUP(F35,Summary!$B$30:$AK$376,5,FALSE)","v":11},26,null,"SAUCE CHILLI (KIMBALL)",30,780,3.38]
[25,"DI03 91203:GOLD MROOM",{"$f":"0.28/30","v":9.3333333333333341E-3},{"$f":"VLOOKUP(B36,Summary!$B$30:$AK$376,5,FALSE)","v":3},null,"DD03 1203:GOLD MROOM",{"$f":"VLOOKUP(F36,Summary!$B$30:$AK$376,5,FALSE)","v":5},8,null,null,null,0,0]
[26,"DI04 91204:FISHBALL",4.3E-3,{"$f":"VLOOKUP(B37,Summary!$B$30:$AK$376,5,FALSE)","v":5},null,"DD04 1204:FISHBALL",{"$f":"VLOOKUP(F37,Summary!$B$30:$AK$376,5,FALSE)","v":6},11,null,"SAUCE CHILLI (KIMBALL)",30,{"$f":"+K37*H37","v":330},{"$f":"+L37*C37","v":1.419}]
[27,"DI05 91205:RAINBOW RL",1.24E-2,{"$f":"VLOOKUP(B38,Summary!$B$30:$AK$376,5,FALSE)","v":0},null,"DD05 1205:RAINBOW RL",{"$f":"VLOOKUP(F38,Summary!$B$30:$AK$376,5,FALSE)","v":0},0,null,"TARTAR SAUCE",38,0,0]
[28,"DI06 91206:SPRING RL",1.24E-2,{"$f":"VLOOKUP(B39,Summary!$B$30:$AK$376,5,FALSE)","v":9},null,"DD06 1206:SPRING RL",{"$f":"VLOOKUP(F39,Summary!$B$30:$AK$376,5,FALSE)","v":4},13,null,"TARTAR SAUCE",30,{"$f":"+K39*H39","v":390},{"$f":"+L39*C39","v":4.8359999999999994}]
[29,"DI07 91207:SAUSAGE",{"$f":"0.32/30","v":1.0666666666666666E-2},{"$f":"VLOOKUP(B40,Summary!$B$30:$AK$376,5,FALSE)","v":6},null,"DD07 1207:SAUSAGE",{"$f":"VLOOKUP(F40,Summary!$B$30:$AK$376,5,FALSE)","v":2},8,null,"SAUCE CHILLI (KIMBALL)",30,240,2.56]
[30,"DI10 91301:DUMPLING",{"$f":"0.2/30","v":6.6666666666666671E-3},{"$f":"VLOOKUP(B41,Summary!$B$30:$AK$376,5,FALSE)","v":10},null,"DD10 1301:DUMPLING",{"$f":"VLOOKUP(F41,Summary!$B$30:$AK$376,5,FALSE)","v":5},15,null,null,null,0,0]
[31,"DI11 91302:NUGGET",{"$f":"0.2/30","v":6.6666666666666671E-3},{"$f":"VLOOKUP(B42,Summary!$B$30:$AK$376,5,FALSE)","v":32},null,"DD11 1302:NUGGET",{"$f":"VLOOKUP(F42,Summary!$B$30:$AK$376,5,FALSE)","v":7},39,null,"SAUCE CHILLI (KIMBALL)",30,1170,7.8000000000000007]
[32,"DI12 91303:CHK WING",{"$f":"0.2/30","v":6.6666666666666671E-3},{"$f":"VLOOKUP(B43,Summary!$B$30:$AK$376,5,FALSE)","v":27},null,"DD12 1303:CHK WING",{"$f":"VLOOKUP(F43,Summary!$B$30:$AK$376,5,FALSE)","v":14},41,null,"THAI SAUCE",38,1558,10.386666666666667]
[33,"DI13 91304:IKAN BILIS",9.1000000000000004E-3,{"$f":"VLOOKUP(B44,Summary!$B$30:$AK$376,5,FALSE)","v":3},null,"DD13 1304:IKAN BILIS",{"$f":"VLOOKUP(F44,Summary!$B$30:$AK$376,5,FALSE)","v":3},6,null,"SAMBAL (FRIED)SAUCE",30,1770,16.106999999999999]
[34,"DI14 91305:THAI RL",{"$f":"0.2/30","v":6.6666666666666671E-3},{"$f":"VLOOKUP(B45,Summary!$B$30:$AK$376,5,FALSE)","v":1},null,"DD14 1305:THAI RL",{"$f":"VLOOKUP(F45,Summary!$B$30:$AK$376,5,FALSE)","v":3},4,null,"THAI SAUCE",38,{"$f":"+K45*H45","v":152},{"$f":"+L45*C45","v":1.0133333333333334}]
[null,null,null,null,null,null,null,0,null,null,null,0,0]
[null,"REQUEST BY CUSTOMERS",null,null,null,null,null,null,null,"ALL PORTION DECREASED BY 10 GRAM"]
[1,"DF03 ADD SAUCE 1000",1.0800000000000001E-2,{"$f":"VLOOKUP(B48,Summary!$B$30:$AK$376,5,FALSE)","v":4},null,null,null,4,null,"DRESSING THOUSAND ISLAND",55,{"$f":"+K48*H48","v":220},{"$f":"+L48*C48","v":2.3760000000000003}]
[{"$f":"+A48+1","v":2},"DF04 ADD SAUCE BOLO",1.14E-2,{"$f":"VLOOKUP(B49,Summary!$B$30:$AK$376,5,FALSE)","v":0},null,null,null,0,null,"BOLOGNESE SAUCE",140,0,{"$f":"+L49*C49","v":0}]
[{"$f":"+A49+1","v":3},"DF05 ADD SAUCE BP",3.0000000000000001E-3,{"$f":"VLOOKUP(B50,Summary!$B$30:$AK$376,5,FALSE)","v":1},null,null,null,1,null,"BLACK PEPPER SAUCE",80,{"$f":"+K50*H50","v":80},0.24]
[4,"DF06 ADD SAUCE BUTTER",5.8999999999999999E-3,{"$f":"VLOOKUP(B51,Summary!$B$30:$AK$376,5,FALSE)","v":0},null,null,null,0,null,"BUTTER CREAM SAUCE",65,0,{"$f":"+L51*C51","v":0}]
[5,"DF07 ADD SAUCE C.PADI",{"$f":"0.13/30","v":4.3333333333333331E-3},{"$f":"VLOOKUP(B52,Summary!$B$30:$AK$376,5,FALSE)","v":27},null,null,null,27,null,"SAUCE CHILLI (KIMBALL)",20,540,2.34]
[6,"DF08 ADD SAUCE GS",3.3E-3,{"$f":"VLOOKUP(B53,Summary!$B$30:$AK$376,5,FALSE)","v":0},null,null,null,0,null,"GRAVY SAUCE",80,0,0]
[7,"DF09 ADD SAUCE MAYO",6.3E-3,{"$f":"VLOOKUP(B54,Summary!$B$30:$AK$376,5,FALSE)","v":40},null,null,null,40,null,"MAYONNAISE",70,2800,17.64]
[8,"DF10 ADD SAUCE MMITE",2E-3,{"$f":"VLOOKUP(B55,Summary!$B$30:$AK$376,5,FALSE)","v":0},null,null,null,0,null,"MARMITE SAUCE ",70,0,0]
[9,"DF11 ADD SAUCE MR",6.7999999999999996E-3,{"$f":"VLOOKUP(B56,Summary!$B$30:$AK$376,5,FALSE)","v":0},null,null,null,0,null,"MUSHROOM SAUCE",80,0,0]
[10,"DF12 ADD SAUCE SAMBAL",8.2500000000000004E-3,{"$f":"VLOOKUP(B57,Summary!$B$30:$AK$376,5,FALSE)","v":4},null,null,null,4,null,"SAMBAL SAUCE (NASI)",110,440,3.6300000000000003]
[11,"DF13 ADD SAUCE THAI",{"$f":"0.27/38","v":7.1052631578947369E-3},{"$f":"VLOOKUP(B58,Summary!$B$30:$AK$376,5,FALSE)","v":1},null,null,null,1,null,"THAI SAUCE",65,65,0.46184210526315789]
[12,"DF14 ADD SAUCE TOMATO",3.5000000000000001E-3,{"$f":"VLOOKUP(B59,Summary!$B$30:$AK$376,5,FALSE)","v":17},null,null,null,17,null,"TOMATO SAUCE ( KIMBALL )",20,340,{"$f":"+L59*C59","v":1.19}]
[13,"DF15 ADD TARTAR SAUCE",1.24E-2,{"$f":"VLOOKUP(B60,Summary!$B$30:$AK$376,5,FALSE)","v":6},null,null,null,6,null,"TARTAR SAUCE",28,168,2.0831999999999997]
[14,"DF16 ADD SAUCE CHEESE",null,{"$f":"VLOOKUP(B61,Summary!$B$30:$AK$376,5,FALSE)","v":0},null,null,null,null,null,"NACHO CHEESE DIP ",70,0,0]

{"sheet":"DAILY FOC","index":6,"n_rows":49,"n_cols":69,"rows_kept":49,"cut":false,"hidden":false,"merged":[[6,41,6,42],[6,57,6,58],[6,59,6,60],[6,61,6,62],[6,63,6,64],[6,45,6,46],[6,47,6,48],[6,49,6,50],[6,51,6,52],[6,53,6,54],[6,55,6,56],[6,31,6,32],[6,33,6,34],[6,35,6,36],[6,37,6,38],[6,39,6,40],[0,0,0,67],[6,3,6,4],[6,5,6,6],[6,7,6,8],[6,9,6,10],[6,11,6,12],[6,13,6,14],[6,15,6,16],[6,17,6,18],[6,19,6,20],[6,43,6,44],[6,21,6,22],[6,23,6,24],[6,25,6,26],[6,27,6,28],[6,29,6,30]]}
["MONTHLY SALES FOOD RECORD ( FOC)"]
[]
[{"$f":"+'[3]K-LUNCH & K DINNER'!A3","v":"Outlet :"},{"$f":"+'K-LUNCH & K DINNER'!B3","v":"KDA OUTLET"}]
[{"$f":"+'[3]K-LUNCH & K DINNER'!A4","v":"Month :"},{"$f":"+'K-LUNCH & K DINNER'!B4","v":"2013-05-01"}]
[]
[]
["CODE","Item","S/P",1,null,{"$f":"+D7+1","v":2},null,{"$f":"+F7+1","v":3},null,{"$f":"+H7+1","v":4},null,{"$f":"+J7+1","v":5},null,{"$f":"+L7+1","v":6},null,{"$f":"+N7+1","v":7},null,{"$f":"+P7+1","v":8},null,{"$f":"+R7+1","v":9},null,{"$f":"+T7+1","v":10},null,{"$f":"+V7+1","v":11},null,{"$f":"+X7+1","v":12},null,{"$f":"+Z7+1","v":13},null,{"$f":"+AB7+1","v":14},null,{"$f":"+AD7+1","v":15},null,{"$f":"+AF7+1","v":16},null,{"$f":"+AH7+1","v":17},null,{"$f":"+AJ7+1","v":18},null,{"$f":"+AL7+1","v":19},null,{"$f":"+AN7+1","v":20},null,{"$f":"+AP7+1","v":21},null,{"$f":"+AR7+1","v":22},null,{"$f":"+AT7+1","v":23},null,{"$f":"+AV7+1","v":24},null,{"$f":"+AX7+1","v":25},null,{"$f":"+AZ7+1","v":26},null,{"$f":"+BB7+1","v":27},null,{"$f":"+BD7+1","v":28},null,{"$f":"+BF7+1","v":29},null,{"$f":"+BH7+1","v":30},null,{"$f":"+BJ7+1","v":31},null,null,"TOTAL","TOTAL","%"]
[null,null,"RM","Q","RM","Q","RM","Q","RM","Q","RM","Q","RM","Q","RM","Q","RM","Q","RM","Q","RM","Q","RM","Q","RM","Q","RM","Q","RM","Q","RM","Q","RM","Q","RM","Q","RM","Q","RM","Q","RM","Q","RM","Q","RM","Q","RM","Q","RM","Q","RM","Q","RM","Q","RM","Q","RM","Q","RM","Q","RM","Q","RM","Q","RM",null,"Q","RM"]
["DF 01","Plain Rice",1,0,{"$f":"D9*C9","v":0},0,{"$f":"F9*C9","v":0},0,{"$f":"H9*C9","v":0},0,{"$f":"J9*C9","v":0},0,{"$f":"L9*C9","v":0},0,{"$f":"N9*C9","v":0},0,{"$f":"P9*C9","v":0},0,{"$f":"R9*C9","v":0},0,{"$f":"T9*C9","v":0},0,{"$f":"V9*C9","v":0},0,{"$f":"X9*C9","v":0},0,{"$f":"Z9*C9","v":0},0,{"$f":"AB9*C9","v":0},0,{"$f":"AD9*C9","v":0},0,{"$f":"AF9*C9","v":0},0,{"$f":"AH9*C9","v":0},0,{"$f":"AJ9*C9","v":0},0,{"$f":"AL9*C9","v":0},0,{"$f":"AN9*C9","v":0},0,{"$f":"AP9*C9","v":0},0,{"$f":"AR9*C9","v":0},0,{"$f":"AT9*C9","v":0},0,{"$f":"AV9*C9","v":0},0,{"$f":"AX9*C9","v":0},0,{"$f":"AZ9*C9","v":0},0,{"$f":"BB9*C9","v":0},0,{"$f":"BD9*C9","v":0},0,{"$f":"BF9*C9","v":0},0,{"$f":"BH9*C9","v":0},0,{"$f":"BJ9*C9","v":0},0,{"$f":"BL9*C9","v":0},null,{"$f":"D9+F9+H9+J9+L9+N9+P9+R9+T9+V9+X9+Z9+AB9+AD9+AF9+AH9+AJ9+AL9+AN9+AP9+AR9+AT9+AV9+AX9+AZ9+BB9+BD9+BF9+BH9+BJ9+BL9","v":0},{"$f":"BO9*C9","v":0}]
["DF 02","Egg",1.5,0,0,0,0,0,0,0,0,0,0,0,0,0,0,0,0,0,0,0,0,0,0,0,0,0,0,0,0,0,0,0,0,0,0,0,0,0,0,0,0,0,0,0,0,0,0,0,0,0,0,0,0,0,0,0,0,0,0,0,0,0,0,null,0,0]
[1101,"Thai Ckn Chop",9.9,0,{"$f":"D11*C11","v":0},0,{"$f":"F11*C11","v":0},0,{"$f":"H11*C11","v":0},0,{"$f":"J11*C11","v":0},0,{"$f":"L11*C11","v":0},0,{"$f":"N11*C11","v":0},0,{"$f":"P11*C11","v":0},0,{"$f":"R11*C11","v":0},0,{"$f":"T11*C11","v":0},0,{"$f":"V11*C11","v":0},0,{"$f":"X11*C11","v":0},0,{"$f":"Z11*C11","v":0},0,{"$f":"AB11*C11","v":0},0,{"$f":"AD11*C11","v":0},0,{"$f":"AF11*C11","v":0},0,{"$f":"AH11*C11","v":0},0,{"$f":"AJ11*C11","v":0},0,{"$f":"AL11*C11","v":0},0,{"$f":"AN11*C11","v":0},0,{"$f":"AP11*C11","v":0},0,{"$f":"AR11*C11","v":0},0,{"$f":"AT11*C11","v":0},0,{"$f":"AV11*C11","v":0},0,{"$f":"AX11*C11","v":0},0,{"$f":"AZ11*C11","v":0},0,{"$f":"BB11*C11","v":0},0,{"$f":"BD11*C11","v":0},0,{"$f":"BF11*C11","v":0},0,{"$f":"BH11*C11","v":0},0,{"$f":"BJ11*C11","v":0},0,{"$f":"BL11*C11","v":0},null,{"$f":"D11+F11+H11+J11+L11+N11+P11+R11+T11+V11+X11+Z11+AB11+AD11+AF11+AH11+AJ11+AL11+AN11+AP11+AR11+AT11+AV11+AX11+AZ11+BB11+BD11+BF11+BH11+BJ11+BL11","v":0},{"$f":"BO11*C11","v":0}]
[1102,"Marmite Ckn Chop",9.9,0,0,0,0,0,0,0,0,0,0,0,0,0,0,0,0,0,0,0,0,0,0,0,0,0,0,0,0,0,0,0,0,0,0,0,0,0,0,0,0,0,0,0,0,0,0,0,0,0,0,0,0,0,0,0,0,0,0,0,0,0,0,null,0,0]
[1103,"Kong Po Ckn Chop",9.9,0,0,0,0,0,0,0,0,0,0,0,0,0,0,0,0,0,0,0,0,0,0,0,0,0,0,0,0,0,0,0,0,0,0,0,0,0,0,0,0,0,0,0,0,0,0,0,0,0,0,0,0,0,0,0,0,0,0,0,0,0,0,null,0,0]
[1104,"S/Sour Ckn Chop",9.9,0,0,0,0,0,0,0,0,0,0,0,0,0,0,0,0,0,0,0,0,0,0,0,0,0,0,0,0,0,0,0,0,0,0,0,0,0,0,0,0,0,0,0,0,0,0,0,0,0,0,0,0,0,0,0,0,0,0,0,0,0,0,null,0,0]
[1105,"Butter Ckn Chop",9.9,0,0,0,0,0,0,0,0,0,0,0,0,0,0,0,0,0,0,0,0,0,0,0,0,0,0,0,0,0,0,0,0,0,0,0,0,0,0,0,0,0,0,0,0,0,0,0,0,0,0,0,0,0,0,0,0,0,0,0,0,0,0,null,0,0]
[1106,"HK Prawn F/Rice",9.9,0,0,0,0,0,0,0,0,0,0,0,0,0,0,0,0,0,0,0,0,0,0,0,0,0,0,0,0,0,0,0,0,0,0,0,0,0,0,0,0,0,0,0,0,0,0,0,0,0,0,0,0,0,0,0,0,0,0,0,0,0,0,null,0,0]
[1107,"Sambal F/Rice",9.9,0,0,0,0,0,0,0,0,0,0,0,0,0,0,0,0,0,0,0,0,0,0,0,0,0,0,0,0,0,0,0,0,0,0,0,0,0,0,0,0,0,0,0,0,0,0,0,0,0,0,0,0,0,0,0,0,0,0,0,0,0,0,null,0,0]
[1108,"Sambal F/Mee",9.9,0,0,0,0,0,0,0,0,0,0,0,0,0,0,0,0,0,0,0,0,0,0,0,0,0,0,0,0,0,0,0,0,0,0,0,0,0,0,0,0,0,0,0,0,0,0,0,0,0,0,0,0,0,0,0,0,0,0,0,0,0,0,null,0,0]
[1109,"B/Pepper Udon Noodle",9.9,0,0,0,0,0,0,0,0,0,0,0,0,0,0,0,0,0,0,0,0,0,0,0,0,0,0,0,0,0,0,0,0,0,0,0,0,0,0,0,0,0,0,0,0,0,0,0,0,0,0,0,0,0,0,0,0,0,0,0,0,0,0,null,0,0]
[1110,"Nissin Noodle Soup",9.9,0,0,0,0,0,0,0,0,0,0,0,0,0,0,0,0,0,0,0,0,0,0,0,0,0,0,0,0,0,0,0,0,0,0,0,0,0,0,0,0,0,0,0,0,0,0,0,0,0,0,0,0,0,0,0,0,0,0,0,0,0,0,null,0,0]
[1111,"Fried Mix Vegetable W/Rice",9.9,0,0,0,0,0,0,0,0,0,0,0,0,0,0,0,0,0,0,0,0,0,0,0,0,0,0,0,0,0,0,0,0,0,0,0,0,0,0,0,0,0,0,0,0,0,0,0,0,0,0,0,0,0,0,0,0,0,0,0,0,0,0,null,0,0]
[1112,"Nasi Lemak W/F Ckn Wing",9.9,0,0,0,0,0,0,0,0,0,0,0,0,0,0,0,0,0,0,0,0,0,0,0,0,0,0,0,0,0,0,0,0,0,0,0,0,0,0,0,0,0,0,0,0,0,0,0,0,0,0,0,0,0,0,0,0,0,0,0,0,0,0,null,0,0]
[1113,"H & S F/Kuey Teow",9.9,0,0,0,0,0,0,0,0,0,0,0,0,0,0,0,0,0,0,0,0,0,0,0,0,0,0,0,0,0,0,0,0,0,0,0,0,0,0,0,0,0,0,0,0,0,0,0,0,0,0,0,0,0,0,0,0,0,0,0,0,0,0,null,0,0]
[1114,"Seaweed Fishball Noodle Soup",9.9,0,0,0,0,0,0,0,0,0,0,0,0,0,0,0,0,0,0,0,0,0,0,0,0,0,0,0,0,0,0,0,0,0,0,0,0,0,0,0,0,0,0,0,0,0,0,0,0,0,0,0,0,0,0,0,0,0,0,0,0,0,0,null,0,0]
[1115,"Braised Noodle W/Chicken Chop",9.9,0,0,0,0,0,0,0,0,0,0,0,0,0,0,0,0,0,0,0,0,0,0,0,0,0,0,0,0,0,0,0,0,0,0,0,0,0,0,0,0,0,0,0,0,0,0,0,0,0,0,0,0,0,0,0,0,0,0,0,0,0,0,null,0,0]
[1001,"Black Pepper Chicken Chop",12.9,0,0,0,0,0,0,0,0,0,0,0,0,0,0,0,0,0,0,0,0,0,0,0,0,0,0,0,0,0,0,0,0,0,0,0,0,0,0,0,0,0,0,0,0,0,0,0,0,0,0,0,0,0,0,0,0,0,0,0,0,0,0,null,0,0]
[1002,"Gravy Chicken Chop",12.9,0,0,0,0,0,0,0,0,0,0,0,0,0,0,0,0,0,0,0,0,0,0,0,0,0,0,0,0,0,0,0,0,0,0,0,0,0,0,0,0,0,0,0,0,0,0,0,0,0,0,0,0,0,0,0,0,0,0,0,0,0,0,null,0,0]
[1003,"Mushroom Chicken Chop",12.9,0,0,0,0,0,0,0,0,0,0,0,0,0,0,0,0,0,0,0,0,0,0,0,0,0,0,0,0,0,0,0,0,0,0,0,0,0,0,0,0,2,25.8,0,0,0,0,1,12.9,1,12.9,0,0,0,0,0,0,0,0,0,0,0,0,null,4,51.6]
[1004,"Chicken Maryland",12.9,0,0,0,0,0,0,0,0,0,0,0,0,0,0,0,0,0,0,0,0,0,0,0,0,0,0,0,0,0,0,0,0,0,0,0,0,0,0,0,0,0,0,0,0,0,0,0,0,0,0,0,0,0,0,0,0,0,0,0,0,0,0,null,0,0]
[1005,"Fish & chip",12.9,0,0,0,0,0,0,0,0,0,0,0,0,0,0,0,0,0,0,0,0,0,0,0,0,0,0,0,0,0,0,0,0,0,0,0,0,0,0,0,0,0,0,0,0,0,0,0,0,0,0,0,0,0,0,0,0,0,0,0,0,0,0,null,0,0]
[1006,"Spaghetti Bolognese",12.9,0,0,0,0,0,0,0,0,0,0,0,0,0,0,0,0,0,0,0,0,0,0,0,0,0,0,0,0,0,0,0,0,0,0,0,0,0,0,0,0,0,0,0,0,0,0,0,0,0,0,0,0,0,0,0,0,0,0,0,0,0,0,null,0,0]
[1007,"Chicken Chop Salad",12.9,0,0,0,0,0,0,0,0,0,0,0,0,0,0,0,0,0,0,0,0,0,0,0,0,0,0,0,0,0,0,0,0,0,0,0,0,0,0,0,0,0,0,0,0,0,0,0,0,0,0,0,0,0,0,0,0,0,0,0,0,0,0,null,0,0]
[1201,"Seafood Stick",5.9,0,0,0,0,0,0,0,0,0,0,0,0,0,0,0,0,0,0,0,0,0,0,0,0,0,0,0,0,0,0,0,0,0,0,0,0,0,0,0,0,0,0,0,0,0,0,0,0,0,0,0,0,0,0,0,0,0,0,0,0,0,0,null,0,0]
[1202,"French Fries",5.9,0,0,0,0,0,0,0,0,0,0,0,0,0,0,0,0,0,0,0,0,0,0,0,0,0,0,0,0,0,0,0,0,0,0,0,0,0,0,0,0,0,0,0,0,0,0,0,0,0,0,0,0,0,0,0,0,0,0,0,0,0,0,null,0,0]
[1203,"S/Pepper Golden Mushroom",5.9,0,0,0,0,0,0,0,0,0,0,0,0,0,0,0,0,0,0,0,0,0,0,0,0,0,0,0,0,0,0,0,0,0,0,0,0,0,0,0,0,0,0,0,0,0,0,0,0,0,0,0,0,0,0,0,0,0,0,0,0,0,0,null,0,0]
[1204,"Fried Fish Ball",5.9,0,0,0,0,0,0,0,0,0,0,0,0,0,0,0,0,0,0,0,0,0,0,0,0,0,0,0,0,0,0,0,0,0,0,0,0,0,0,0,0,0,0,0,0,0,0,0,0,0,0,0,0,0,0,0,0,0,0,0,0,0,0,null,0,0]
[1205,"Rainbow Roll",5.9,0,0,0,0,0,0,0,0,0,0,0,0,0,0,0,0,0,0,0,0,0,0,0,0,0,0,0,0,0,0,0,0,0,0,0,0,0,0,0,0,0,0,0,0,0,0,0,0,0,0,0,0,0,0,0,0,0,0,0,0,0,0,null,0,0]
[1206,"Spring Roll",5.9,0,0,0,0,0,0,0,0,0,0,0,0,0,0,0,0,0,0,0,0,0,0,0,0,0,0,0,0,0,0,0,0,0,0,1,5.9,0,0,0,0,0,0,0,0,0,0,0,0,0,0,0,0,0,0,0,0,0,0,0,0,0,0,null,1,5.9]
[1207,"Crispy Ckn Sausage",5.9,0,0,0,0,0,0,0,0,0,0,0,0,0,0,0,0,0,0,0,0,0,0,0,0,0,0,0,0,0,0,0,0,0,0,0,0,0,0,0,0,0,0,0,0,0,0,0,0,0,0,0,0,0,0,0,0,0,0,0,0,0,0,null,0,0]
[1301,"Shanghai Guo Tie",7.9,0,0,0,0,0,0,0,0,0,0,0,0,0,0,0,0,0,0,0,0,0,0,0,0,0,0,0,0,0,0,0,0,0,0,0,0,0,0,0,0,0,0,0,0,0,0,0,0,0,0,0,0,0,0,0,0,0,0,0,0,0,0,null,0,0]
[1302,"Chicken Nugget",7.9,0,0,0,0,0,0,0,0,0,0,0,0,0,0,0,0,0,0,0,0,0,0,0,0,0,0,0,0,0,0,0,0,0,0,0,0,0,0,0,0,0,0,0,0,0,0,0,0,0,0,0,0,0,0,0,0,0,0,0,0,0,0,null,0,0]
[1303,"Ckn Wing",7.9,0,0,0,0,0,0,0,0,0,0,0,0,0,0,0,0,0,0,0,0,0,0,0,0,0,0,0,0,0,0,0,0,0,0,0,0,0,0,0,0,2,15.8,0,0,0,0,1,7.9,0,0,0,0,0,0,0,0,0,0,0,0,0,0,null,3,23.700000000000003]
[1304,"Hot & Spicy Achiovice",7.9,0,0,0,0,0,0,0,0,0,0,0,0,0,0,0,0,0,0,0,0,0,0,0,0,0,0,0,0,0,0,0,0,0,0,0,0,0,0,0,0,0,0,0,0,0,0,0,0,0,0,0,0,0,0,0,0,0,0,0,0,0,0,null,0,0]
[1305,"Crispy Thai Roll",7.9,0,0,0,0,0,0,0,0,0,0,0,0,0,0,0,0,0,0,0,0,0,0,0,0,0,0,0,0,0,0,0,0,0,0,0,0,0,0,0,0,0,0,0,0,0,0,0,0,0,0,0,0,0,0,0,0,0,0,0,0,0,0,null,0,0]
[1306,"S/Pepper Silver Fish",7.9,0,0,0,0,0,0,0,0,0,0,0,0,0,0,0,0,0,0,0,0,0,0,0,0,0,0,0,0,0,0,0,0,0,0,0,0,0,0,0,0,0,0,0,0,0,0,0,0,0,0,0,0,0,0,0,0,0,0,0,0,0,0,null,0,0]
[null,"McCain AlaCarte",16.899999999999999,0,0,0,0,0,0,0,0,0,0,0,0,0,0,0,0,0,0,0,0,0,0,0,0,0,0,0,0,0,0,0,0,0,0,0,0,0,0,0,0,0,0,0,0,0,0,0,0,0,0,0,0,0,0,0,0,0,0,0,0,0,0,null,0,0]
[null,"McCain Beer Platter",12.9,0,0,0,0,0,0,0,0,0,0,0,0,0,0,0,0,0,0,0,0,0,0,0,0,0,0,0,0,0,0,0,0,0,0,0,0,0,0,0,0,0,0,0,0,0,0,0,0,0,0,0,0,0,0,0,0,0,0,0,0,0,0,null,0,0]
[]
[null,"Total Foc","-",{"$f":"SUM(D9:D47)","v":0},{"$f":"SUM(E9:E47)","v":0},0,0,0,0,0,0,0,0,0,0,0,0,0,0,0,0,0,0,0,0,0,0,0,0,0,0,0,0,0,0,0,0,1,5.9,0,0,{"$f":"SUM(AP9:AP47)","v":0},0,4,41.6,0,0,0,0,2,20.8,1,12.9,0,0,0,0,0,0,0,0,0,0,0,0,null,{"$f":"SUM(BO9:BO47)","v":8},{"$f":"SUM(BP9:BP48)","v":81.2}]