{"text_format":"1","workbook":"xlsx","n_sheets":7,"sheets":["Summary","Daily Log","STOCK ANALYSIS","K-LUNCH & K DINNER","SIDE ORDER & FOC","SAUCE USAGE","DAILY FOC"],"not_rendered":{"charts":0,"images":1,"macros":0,"external_links":3,"defined_names":10,"comments":0,"pivot_tables":0},"unopened":[],"bounds":{"document_bytes":16777216,"sheet_cells":100000,"rows_first":2000,"rows_last":500,"rows_between":2000,"halvings":0,"cell_chars":16384,"cell_head_chars":4096},"cells_cut":0,"cells_raw":0,"read":"whole","date_system":"1900"}

{"sheet":"Summary","index":0,"n_rows":425,"n_cols":37,"rows_kept":425,"cut":false,"hidden":false,"merged":[[5,2,5,3],[7,2,7,3],[9,2,9,3],[28,1,28,2]]}
[]
[]
[null,null,"SUMMARY OF PRODUCT SALES IN MONTH"]
[]
[]
[null,"OUTLET",{"$f":"MID(CELL(\"FILENAME\",$A$1),FIND(\"[\",CELL(\"FILENAME\",$A$1))+1,3)","v":"SBA"}]
[]
[null,"YEAR",{"$f":"MID(CELL(\"FILENAME\",$A$1),FIND(\"[\",CELL(\"FILENAME\",$A$1))+4,4)","v":"2013"}]
[]
[null,"MONTH",{"$f":"INDEX($C$12:$C$23,MID(CELL(\"FILENAME\",$A$1),FIND(\"[\",CELL(\"FILENAME\",$A$1))+8,2),1)","v":"MAY"}]
[]
[null,"MONTH","JANUARY"]
[null,null,"FEBRUARY"]
[null,null,"MARCH"]
[null,null,"APRIL"]
[null,null,"MAY"]
[null,null,"JUNE"]
[null,null,"JULY"]
[null,null,"AUGUST"]
[null,null,"SEPTEMBER"]
[null,null,"OCTOBER"]
[null,null,"NOVEMBER"]
[null,null,"DECEMBER"]
[]
[]
[null,"PRODUCT",null,"CATEGORY","QTY","QUANTITIES SOLD IN MONTH"]
[null,null,null,null,"PER","TOTAL",{"$f":"DATE(C8,MID(CELL(\"FILENAME\",$A$1),FIND(\"[\",CELL(\"FILENAME\",$A$1))+8,2),1)","v":"2013-05-01"},{"$f":"IFERROR(IF(MONTH(G27+1)<=MONTH($G$27),G27+1,\"\"),\"\")","v":"2013-05-02"},{"$f":"IFERROR(IF(MONTH(H27+1)<=MONTH($G$27),H27+1,\"\"),\"\")","v":"2013-05-03"},"2013-05-04","2013-05-05","2013-05-06","2013-05-07","2013-05-08","2013-05-09","2013-05-10","2013-05-11","2013-05-12","2013-05-13","2013-05-14","2013-05-15","2013-05-16","2013-05-17","2013-05-18","2013-05-19","2013-05-20","2013-05-21","2013-05-22","2013-05-23","2013-05-24","2013-05-25","2013-05-26","2013-05-27","2013-05-28","2013-05-29","2013-05-30","2013-05-31"]
[null,null,null,null,"ITEM"]
[]
[null,"AA01 K : REGULAR",null,null,null,{"$f":"SUM($G30:$AK30)","v":0},{"$f":"IFERROR($E30*SUMIF('Daily Log'!$B$18:$B$1017,$B30,'Daily Log'!$C$18:$C$1017),0)","v":0},{"$f":"IFERROR($E30*SUMIF('Daily Log'!$E$18:$E$1017,$B30,'Daily Log'!$F$18:$F$1017),0)","v":0},{"$f":"IFERROR($E30*SUMIF('Daily Log'!$H$18:$H$1017,$B30,'Daily Log'!$I$18:$I$1017),0)","v":0},{"$f":"IFERROR($E30*SUMIF('Daily Log'!$K$18:$K$1017,$B30,'Daily Log'!$L$18:$L$1017),0)","v":0},{"$f":"IFERROR($E30*SUMIF('Daily Log'!$N$18:$N$1017,$B30,'Daily Log'!$O$18:$O$1017),0)","v":0},{"$f":"IFERROR($E30*SUMIF('Daily Log'!#REF!,$B30,'Daily Log'!#REF!),0)","v":0},{"$f":"IFERROR($E30*SUMIF('Daily Log'!#REF!,$B30,'Daily Log'!#REF!),0)","v":0},{"$f":"IFERROR($E30*SUMIF('Daily Log'!#REF!,$B30,'Daily Log'!#REF!),0)","v":0},{"$f":"IFERROR($E30*SUMIF('Daily Log'!#REF!,$B30,'Daily Log'!#REF!),0)","v":0},{"$f":"IFERROR($E30*SUMIF('Daily Log'!#REF!,$B30,'Daily Log'!#REF!),0)","v":0},{"$f":"IFERROR($E30*SUMIF('Daily Log'!#REF!,$B30,'Daily Log'!#REF!),0)","v":0},{"$f":"IFERROR($E30*SUMIF('Daily Log'!#REF!,$B30,'Daily Log'!#REF!),0)","v":0},{"$f":"IFERROR($E30*SUMIF('Daily Log'!#REF!,$B30,'Daily Log'!#REF!),0)","v":0},{"$f":"IFERROR($E30*SUMIF('Daily Log'!#REF!,$B30,'Daily Log'!#REF!),0)","v":0},{"$f":"IFERROR($E30*SUMIF('Daily Log'!#REF!,$B30,'Daily Log'!#REF!),0)","v":0},{"$f":"IFERROR($E30*SUMIF('Daily Log'!#REF!,$B30,'Daily Log'!#REF!),0)","v":0},{"$f":"IFERROR($E30*SUMIF('Daily Log'!#REF!,$B30,'Daily Log'!#REF!),0)","v":0},{"$f":"IFERROR($E30*SUMIF('Daily Log'!#REF!,$B30,'Daily Log'!#REF!),0)","v":0},{"$f":"IFERROR($E30*SUMIF('Daily Log'!#REF!,$B30,'Daily Log'!#REF!),0)","v":0},{"$f":"IFERROR($E30*SUMIF('Daily Log'!#REF!,$B30,'Daily Log'!#REF!),0)","v":0},{"$f":"IFERROR($E30*SUMIF('Daily Log'!#REF!,$B30,'Daily Log'!#REF!),0)","v":0},{"$f":"IFERROR($E30*SUMIF('Daily Log'!#REF!,$B30,'Daily Log'!#REF!),0)","v":0},{"$f":"IFERROR($E30*SUMIF('Daily Log'!#REF!,$B30,'Daily Log'!#REF!),0)","v":0},{"$f":"IFERROR($E30*SUMIF('Daily Log'!#REF!,$B30,'Daily Log'!#REF!),0)","v":0},{"$f":"IFERROR($E30*SUMIF('Daily Log'!#REF!,$B30,'Daily Log'!#REF!),0)","v":0},{"$f":"IFERROR($E30*SUMIF('Daily Log'!#REF!,$B30,'Daily Log'!#REF!),0)","v":0},{"$f":"IFERROR($E30*SUMIF('Daily Log'!#REF!,$B30,'Daily Log'!#REF!),0)","v":0},{"$f":"IFERROR($E30*SUMIF('Daily Log'!#REF!,$B30,'Daily Log'!#REF!),0)","v":0},{"$f":"IFERROR($E30*SUMIF('Daily Log'!#REF!,$B30,'Daily Log'!#REF!),0)","v":0},{"$f":"IFERROR($E30*SUMIF('Daily Log'!#REF!,$B30,'Daily Log'!#REF!),0)","v":0},{"$f":"IFERROR($E30*SUMIF('Daily Log'!#REF!,$B30,'Daily Log'!#REF!),0)","v":0}]
[null,"AA02 K : MEMBER",null,null,null,0,{"$f":"IFERROR($E31*SUMIF('Daily Log'!$B$18:$B$1017,$B31,'Daily Log'!$C$18:$C$1017),0)","v":0},{"$f":"IFERROR($E31*SUMIF('Daily Log'!$E$18:$E$1017,$B31,'Daily Log'!$F$18:$F$1017),0)","v":0},{"$f":"IFERROR($E31*SUMIF('Daily Log'!$H$18:$H$1017,$B31,'Daily Log'!$I$18:$I$1017),0)","v":0},{"$f":"IFERROR($E31*SUMIF('Daily Log'!$K$18:$K$1017,$B31,'Daily Log'!$L$18:$L$1017),0)","v":0},{"$f":"IFERROR($E31*SUMIF('Daily Log'!$N$18:$N$1017,$B31,'Daily Log'!$O$18:$O$1017),0)","v":0},{"$f":"IFERROR($E31*SUMIF('Daily Log'!#REF!,$B31,'Daily Log'!#REF!),0)","v":0},{"$f":"IFERROR($E31*SUMIF('Daily Log'!#REF!,$B31,'Daily Log'!#REF!),0)","v":0},{"$f":"IFERROR($E31*SUMIF('Daily Log'!#REF!,$B31,'Daily Log'!#REF!),0)","v":0},{"$f":"IFERROR($E31*SUMIF('Daily Log'!#REF!,$B31,'Daily Log'!#REF!),0)","v":0},{"$f":"IFERROR($E31*SUMIF('Daily Log'!#REF!,$B31,'Daily Log'!#REF!),0)","v":0},{"$f":"IFERROR($E31*SUMIF('Daily Log'!#REF!,$B31,'Daily Log'!#REF!),0)","v":0},{"$f":"IFERROR($E31*SUMIF('Daily Log'!#REF!,$B31,'Daily Log'!#REF!),0)","v":0},{"$f":"IFERROR($E31*SUMIF('Daily Log'!#REF!,$B31,'Daily Log'!#REF!),0)","v":0},{"$f":"IFERROR($E31*SUMIF('Daily Log'!#REF!,$B31,'Daily Log'!#REF!),0)","v":0},{"$f":"IFERROR($E31*SUMIF('Daily Log'!#REF!,$B31,'Daily Log'!#REF!),0)","v":0},{"$f":"IFERROR($E31*SUMIF('Daily Log'!#REF!,$B31,'Daily Log'!#REF!),0)","v":0},{"$f":"IFERROR($E31*SUMIF('Daily Log'!#REF!,$B31,'Daily Log'!#REF!),0)","v":0},{"$f":"IFERROR($E31*SUMIF('Daily Log'!#REF!,$B31,'Daily Log'!#REF!),0)","v":0},{"$f":"IFERROR($E31*SUMIF('Daily Log'!#REF!,$B31,'Daily Log'!#REF!),0)","v":0},{"$f":"IFERROR($E31*SUMIF('Daily Log'!#REF!,$B31,'Daily Log'!#REF!),0)","v":0},{"$f":"IFERROR($E31*SUMIF('Daily Log'!#REF!,$B31,'Daily Log'!#REF!),0)","v":0},{"$f":"IFERROR($E31*SUMIF('Daily Log'!#REF!,$B31,'Daily Log'!#REF!),0)","v":0},{"$f":"IFERROR($E31*SUMIF('Daily Log'!#REF!,$B31,'Daily Log'!#REF!),0)","v":0},{"$f":"IFERROR($E31*SUMIF('Daily Log'!#REF!,$B31,'Daily Log'!#REF!),0)","v":0},{"$f":"IFERROR($E31*SUMIF('Daily Log'!#REF!,$B31,'Daily Log'!#REF!),0)","v":0},{"$f":"IFERROR($E31*SUMIF('Daily Log'!#REF!,$B31,'Daily Log'!#REF!),0)","v":0},{"$f":"IFERROR($E31*SUMIF('Daily Log'!#REF!,$B31,'Daily Log'!#REF!),0)","v":0},{"$f":"IFERROR($E31*SUMIF('Daily Log'!#REF!,$B31,'Daily Log'!#REF!),0)","v":0},{"$f":"IFERROR($E31*SUMIF('Daily Log'!#REF!,$B31,'Daily Log'!#REF!),0)","v":0},{"$f":"IFERROR($E31*SUMIF('Daily Log'!#REF!,$B31,'Daily Log'!#REF!),0)","v":0},{"$f":"IFERROR($E31*SUMIF('Daily Log'!#REF!,$B31,'Daily Log'!#REF!),0)","v":0}]
[null,"AA03 K : CARI MEMBER",null,null,null,0,{"$f":"IFERROR($E32*SUMIF('Daily Log'!$B$18:$B$1017,$B32,'Daily Log'!$C$18:$C$1017),0)","v":0},{"$f":"IFERROR($E32*SUMIF('Daily Log'!$E$18:$E$1017,$B32,'Daily Log'!$F$18:$F$1017),0)","v":0},{"$f":"IFERROR($E32*SUMIF('Daily Log'!$H$18:$H$1017,$B32,'Daily Log'!$I$18:$I$1017),0)","v":0},{"$f":"IFERROR($E32*SUMIF('Daily Log'!$K$18:$K$1017,$B32,'Daily Log'!$L$18:$L$1017),0)","v":0},{"$f":"IFERROR($E32*SUMIF('Daily Log'!$N$18:$N$1017,$B32,'Daily Log'!$O$18:$O$1017),0)","v":0},{"$f":"IFERROR($E32*SUMIF('Daily Log'!#REF!,$B32,'Daily Log'!#REF!),0)","v":0},{"$f":"IFERROR($E32*SUMIF('Daily Log'!#REF!,$B32,'Daily Log'!#REF!),0)","v":0},{"$f":"IFERROR($E32*SUMIF('Daily Log'!#REF!,$B32,'Daily Log'!#REF!),0)","v":0},{"$f":"IFERROR($E32*SUMIF('Daily Log'!#REF!,$B32,'Daily Log'!#REF!),0)","v":0},{"$f":"IFERROR($E32*SUMIF('Daily Log'!#REF!,$B32,'Daily Log'!#REF!),0)","v":0},{"$f":"IFERROR($E32*SUMIF('Daily Log'!#REF!,$B32,'Daily Log'!#REF!),0)","v":0},{"$f":"IFERROR($E32*SUMIF('Daily Log'!#REF!,$B32,'Daily Log'!#REF!),0)","v":0},{"$f":"IFERROR($E32*SUMIF('Daily Log'!#REF!,$B32,'Daily Log'!#REF!),0)","v":0},{"$f":"IFERROR($E32*SUMIF('Daily Log'!#REF!,$B32,'Daily Log'!#REF!),0)","v":0},{"$f":"IFERROR($E32*SUMIF('Daily Log'!#REF!,$B32,'Daily Log'!#REF!),0)","v":0},{"$f":"IFERROR($E32*SUMIF('Daily Log'!#REF!,$B32,'Daily Log'!#REF!),0)","v":0},{"$f":"IFERROR($E32*SUMIF('Daily Log'!#REF!,$B32,'Daily Log'!#REF!),0)","v":0},{"$f":"IFERROR($E32*SUMIF('Daily Log'!#REF!,$B32,'Daily Log'!#REF!),0)","v":0},{"$f":"IFERROR($E32*SUMIF('Daily Log'!#REF!,$B32,'Daily Log'!#REF!),0)","v":0},{"$f":"IFERROR($E32*SUMIF('Daily Log'!#REF!,$B32,'Daily Log'!#REF!),0)","v":0},{"$f":"IFERROR($E32*SUMIF('Daily Log'!#REF!,$B32,'Daily Log'!#REF!),0)","v":0},{"$f":"IFERROR($E32*SUMIF('Daily Log'!#REF!,$B32,'Daily Log'!#REF!),0)","v":0},{"$f":"IFERROR($E32*SUMIF('Daily Log'!#REF!,$B32,'Daily Log'!#REF!),0)","v":0},{"$f":"IFERROR($E32*SUMIF('Daily Log'!#REF!,$B32,'Daily Log'!#REF!),0)","v":0},{"$f":"IFERROR($E32*SUMIF('Daily Log'!#REF!,$B32,'Daily Log'!#REF!),0)","v":0},{"$f":"IFERROR($E32*SUMIF('Daily Log'!#REF!,$B32,'Daily Log'!#REF!),0)","v":0},{"$f":"IFERROR($E32*SUMIF('Daily Log'!#REF!,$B32,'Daily Log'!#REF!),0)","v":0},{"$f":"IFERROR($E32*SUMIF('Daily Log'!#REF!,$B32,'Daily Log'!#REF!),0)","v":0},{"$f":"IFERROR($E32*SUMIF('Daily Log'!#REF!,$B32,'Daily Log'!#REF!),0)","v":0},{"$f":"IFERROR($E32*SUMIF('Daily Log'!#REF!,$B32,'Daily Log'!#REF!),0)","v":0},{"$f":"IFERROR($E32*SUMIF('Daily Log'!#REF!,$B32,'Daily Log'!#REF!),0)","v":0}]
[null,"AA04 K-LUNCH",null,null,null,0,{"$f":"IFERROR($E33*SUMIF('Daily Log'!$B$18:$B$1017,$B33,'Daily Log'!$C$18:$C$1017),0)","v":0},{"$f":"IFERROR($E33*SUMIF('Daily Log'!$E$18:$E$1017,$B33,'Daily Log'!$F$18:$F$1017),0)","v":0},{"$f":"IFERROR($E33*SUMIF('Daily Log'!$H$18:$H$1017,$B33,'Daily Log'!$I$18:$I$1017),0)","v":0},{"$f":"IFERROR($E33*SUMIF('Daily Log'!$K$18:$K$1017,$B33,'Daily Log'!$L$18:$L$1017),0)","v":0},{"$f":"IFERROR($E33*SUMIF('Daily Log'!$N$18:$N$1017,$B33,'Daily Log'!$O$18:$O$1017),0)","v":0},{"$f":"IFERROR($E33*SUMIF('Daily Log'!#REF!,$B33,'Daily Log'!#REF!),0)","v":0},{"$f":"IFERROR($E33*SUMIF('Daily Log'!#REF!,$B33,'Daily Log'!#REF!),0)","v":0},{"$f":"IFERROR($E33*SUMIF('Daily Log'!#REF!,$B33,'Daily Log'!#REF!),0)","v":0},{"$f":"IFERROR($E33*SUMIF('Daily Log'!#REF!,$B33,'Daily Log'!#REF!),0)","v":0},{"$f":"IFERROR($E33*SUMIF('Daily Log'!#REF!,$B33,'Daily Log'!#REF!),0)","v":0},{"$f":"IFERROR($E33*SUMIF('Daily Log'!#REF!,$B33,'Daily Log'!#REF!),0)","v":0},{"$f":"IFERROR($E33*SUMIF('Daily Log'!#REF!,$B33,'Daily Log'!#REF!),0)","v":0},{"$f":"IFERROR($E33*SUMIF('Daily Log'!#REF!,$B33,'Daily Log'!#REF!),0)","v":0},{"$f":"IFERROR($E33*SUMIF('Daily Log'!#REF!,$B33,'Daily Log'!#REF!),0)","v":0},{"$f":"IFERROR($E33*SUMIF('Daily Log'!#REF!,$B33,'Daily Log'!#REF!),0)","v":0},{"$f":"IFERROR($E33*SUMIF('Daily Log'!#REF!,$B33,'Daily Log'!#REF!),0)","v":0},{"$f":"IFERROR($E33*SUMIF('Daily Log'!#REF!,$B33,'Daily Log'!#REF!),0)","v":0},{"$f":"IFERROR($E33*SUMIF('Daily Log'!#REF!,$B33,'Daily Log'!#REF!),0)","v":0},{"$f":"IFERROR($E33*SUMIF('Daily Log'!#REF!,$B33,'Daily Log'!#REF!),0)","v":0},{"$f":"IFERROR($E33*SUMIF('Daily Log'!#REF!,$B33,'Daily Log'!#REF!),0)","v":0},{"$f":"IFERROR($E33*SUMIF('Daily Log'!#REF!,$B33,'Daily Log'!#REF!),0)","v":0},{"$f":"IFERROR($E33*SUMIF('Daily Log'!#REF!,$B33,'Daily Log'!#REF!),0)","v":0},{"$f":"IFERROR($E33*SUMIF('Daily Log'!#REF!,$B33,'Daily Log'!#REF!),0)","v":0},{"$f":"IFERROR($E33*SUMIF('Daily Log'!#REF!,$B33,'Daily Log'!#REF!),0)","v":0},{"$f":"IFERROR($E33*SUMIF('Daily Log'!#REF!,$B33,'Daily Log'!#REF!),0)","v":0},{"$f":"IFERROR($E33*SUMIF('Daily Log'!#REF!,$B33,'Daily Log'!#REF!),0)","v":0},{"$f":"IFERROR($E33*SUMIF('Daily Log'!#REF!,$B33,'Daily Log'!#REF!),0)","v":0},{"$f":"IFERROR($E33*SUMIF('Daily Log'!#REF!,$B33,'Daily Log'!#REF!),0)","v":0},{"$f":"IFERROR($E33*SUMIF('Daily Log'!#REF!,$B33,'Daily Log'!#REF!),0)","v":0},{"$f":"IFERROR($E33*SUMIF('Daily Log'!#REF!,$B33,'Daily Log'!#REF!),0)","v":0},{"$f":"IFERROR($E33*SUMIF('Daily Log'!#REF!,$B33,'Daily Log'!#REF!),0)","v":0}]
[null,"AA05 K : CHILDREN",null,null,null,0,{"$f":"IFERROR($E34*SUMIF('Daily Log'!$B$18:$B$1017,$B34,'Daily Log'!$C$18:$C$1017),0)","v":0},{"$f":"IFERROR($E34*SUMIF('Daily Log'!$E$18:$E$1017,$B34,'Daily Log'!$F$18:$F$1017),0)","v":0},{"$f":"IFERROR($E34*SUMIF('Daily Log'!$H$18:$H$1017,$B34,'Daily Log'!$I$18:$I$1017),0)","v":0},{"$f":"IFERROR($E34*SUMIF('Daily Log'!$K$18:$K$1017,$B34,'Daily Log'!$L$18:$L$1017),0)","v":0},{"$f":"IFERROR($E34*SUMIF('Daily Log'!$N$18:$N$1017,$B34,'Daily Log'!$O$18:$O$1017),0)","v":0},{"$f":"IFERROR($E34*SUMIF('Daily Log'!#REF!,$B34,'Daily Log'!#REF!),0)","v":0},{"$f":"IFERROR($E34*SUMIF('Daily Log'!#REF!,$B34,'Daily Log'!#REF!),0)","v":0},{"$f":"IFERROR($E34*SUMIF('Daily Log'!#REF!,$B34,'Daily Log'!#REF!),0)","v":0},{"$f":"IFERROR($E34*SUMIF('Daily Log'!#REF!,$B34,'Daily Log'!#REF!),0)","v":0},{"$f":"IFERROR($E34*SUMIF('Daily Log'!#REF!,$B34,'Daily Log'!#REF!),0)","v":0},{"$f":"IFERROR($E34*SUMIF('Daily Log'!#REF!,$B34,'Daily Log'!#REF!),0)","v":0},{"$f":"IFERROR($E34*SUMIF('Daily Log'!#REF!,$B34,'Daily Log'!#REF!),0)","v":0},{"$f":"IFERROR($E34*SUMIF('Daily Log'!#REF!,$B34,'Daily Log'!#REF!),0)","v":0},{"$f":"IFERROR($E34*SUMIF('Daily Log'!#REF!,$B34,'Daily Log'!#REF!),0)","v":0},{"$f":"IFERROR($E34*SUMIF('Daily Log'!#REF!,$B34,'Daily Log'!#REF!),0)","v":0},{"$f":"IFERROR($E34*SUMIF('Daily Log'!#REF!,$B34,'Daily Log'!#REF!),0)","v":0},{"$f":"IFERROR($E34*SUMIF('Daily Log'!#REF!,$B34,'Daily Log'!#REF!),0)","v":0},{"$f":"IFERROR($E34*SUMIF('Daily Log'!#REF!,$B34,'Daily Log'!#REF!),0)","v":0},{"$f":"IFERROR($E34*SUMIF('Daily Log'!#REF!,$B34,'Daily Log'!#REF!),0)","v":0},{"$f":"IFERROR($E34*SUMIF('Daily Log'!#REF!,$B34,'Daily Log'!#REF!),0)","v":0},{"$f":"IFERROR($E34*SUMIF('Daily Log'!#REF!,$B34,'Daily Log'!#REF!),0)","v":0},{"$f":"IFERROR($E34*SUMIF('Daily Log'!#REF!,$B34,'Daily Log'!#REF!),0)","v":0},{"$f":"IFERROR($E34*SUMIF('Daily Log'!#REF!,$B34,'Daily Log'!#REF!),0)","v":0},{"$f":"IFERROR($E34*SUMIF('Daily Log'!#REF!,$B34,'Daily Log'!#REF!),0)","v":0},{"$f":"IFERROR($E34*SUMIF('Daily Log'!#REF!,$B34,'Daily Log'!#REF!),0)","v":0},{"$f":"IFERROR($E34*SUMIF('Daily Log'!#REF!,$B34,'Daily Log'!#REF!),0)","v":0},{"$f":"IFERROR($E34*SUMIF('Daily Log'!#REF!,$B34,'Daily Log'!#REF!),0)","v":0},{"$f":"IFERROR($E34*SUMIF('Daily Log'!#REF!,$B34,'Daily Log'!#REF!),0)","v":0},{"$f":"IFERROR($E34*SUMIF('Daily Log'!#REF!,$B34,'Daily Log'!#REF!),0)","v":0},{"$f":"IFERROR($E34*SUMIF('Daily Log'!#REF!,$B34,'Daily Log'!#REF!),0)","v":0},{"$f":"IFERROR($E34*SUMIF('Daily Log'!#REF!,$B34,'Daily Log'!#REF!),0)","v":0}]
[null,"AA06 K : MEMBER B'DAY",null,null,null,0,{"$f":"IFERROR($E35*SUMIF('Daily Log'!$B$18:$B$1017,$B35,'Daily Log'!$C$18:$C$1017),0)","v":0},{"$f":"IFERROR($E35*SUMIF('Daily Log'!$E$18:$E$1017,$B35,'Daily Log'!$F$18:$F$1017),0)","v":0},{"$f":"IFERROR($E35*SUMIF('Daily Log'!$H$18:$H$1017,$B35,'Daily Log'!$I$18:$I$1017),0)","v":0},{"$f":"IFERROR($E35*SUMIF('Daily Log'!$K$18:$K$1017,$B35,'Daily Log'!$L$18:$L$1017),0)","v":0},{"$f":"IFERROR($E35*SUMIF('Daily Log'!$N$18:$N$1017,$B35,'Daily Log'!$O$18:$O$1017),0)","v":0},{"$f":"IFERROR($E35*SUMIF('Daily Log'!#REF!,$B35,'Daily Log'!#REF!),0)","v":0},{"$f":"IFERROR($E35*SUMIF('Daily Log'!#REF!,$B35,'Daily Log'!#REF!),0)","v":0},{"$f":"IFERROR($E35*SUMIF('Daily Log'!#REF!,$B35,'Daily Log'!#REF!),0)","v":0},{"$f":"IFERROR($E35*SUMIF('Daily Log'!#REF!,$B35,'Daily Log'!#REF!),0)","v":0},{"$f":"IFERROR($E35*SUMIF('Daily Log'!#REF!,$B35,'Daily Log'!#REF!),0)","v":0},{"$f":"IFERROR($E35*SUMIF('Daily Log'!#REF!,$B35,'Daily Log'!#REF!),0)","v":0},{"$f":"IFERROR($E35*SUMIF('Daily Log'!#REF!,$B35,'Daily Log'!#REF!),0)","v":0},{"$f":"IFERROR($E35*SUMIF('Daily Log'!#REF!,$B35,'Daily Log'!#REF!),0)","v":0},{"$f":"IFERROR($E35*SUMIF('Daily Log'!#REF!,$B35,'Daily Log'!#REF!),0)","v":0},{"$f":"IFERROR($E35*SUMIF('Daily Log'!#REF!,$B35,'Daily Log'!#REF!),0)","v":0},{"$f":"IFERROR($E35*SUMIF('Daily Log'!#REF!,$B35,'Daily Log'!#REF!),0)","v":0},{"$f":"IFERROR($E35*SUMIF('Daily Log'!#REF!,$B35,'Daily Log'!#REF!),0)","v":0},{"$f":"IFERROR($E35*SUMIF('Daily Log'!#REF!,$B35,'Daily Log'!#REF!),0)","v":0},{"$f":"IFERROR($E35*SUMIF('Daily Log'!#REF!,$B35,'Daily Log'!#REF!),0)","v":0},{"$f":"IFERROR($E35*SUMIF('Daily Log'!#REF!,$B35,'Daily Log'!#REF!),0)","v":0},{"$f":"IFERROR($E35*SUMIF('Daily Log'!#REF!,$B35,'Daily Log'!#REF!),0)","v":0},{"$f":"IFERROR($E35*SUMIF('Daily Log'!#REF!,$B35,'Daily Log'!#REF!),0)","v":0},{"$f":"IFERROR($E35*SUMIF('Daily Log'!#REF!,$B35,'Daily Log'!#REF!),0)","v":0},{"$f":"IFERROR($E35*SUMIF('Daily Log'!#REF!,$B35,'Daily Log'!#REF!),0)","v":0},{"$f":"IFERROR($E35*SUMIF('Daily Log'!#REF!,$B35,'Daily Log'!#REF!),0)","v":0},{"$f":"IFERROR($E35*SUMIF('Daily Log'!#REF!,$B35,'Daily Log'!#REF!),0)","v":0},{"$f":"IFERROR($E35*SUMIF('Daily Log'!#REF!,$B35,'Daily Log'!#REF!),0)","v":0},{"$f":"IFERROR($E35*SUMIF('Daily Log'!#REF!,$B35,'Daily Log'!#REF!),0)","v":0},{"$f":"IFERROR($E35*SUMIF('Daily Log'!#REF!,$B35,'Daily Log'!#REF!),0)","v":0},{"$f":"IFERROR($E35*SUMIF('Daily Log'!#REF!,$B35,'Daily Log'!#REF!),0)","v":0},{"$f":"IFERROR($E35*SUMIF('Daily Log'!#REF!,$B35,'Daily Log'!#REF!),0)","v":0}]
[null,"AA07 K : STAFF B'DAY",null,null,null,0,{"$f":"IFERROR($E36*SUMIF('Daily Log'!$B$18:$B$1017,$B36,'Daily Log'!$C$18:$C$1017),0)","v":0},{"$f":"IFERROR($E36*SUMIF('Daily Log'!$E$18:$E$1017,$B36,'Daily Log'!$F$18:$F$1017),0)","v":0},{"$f":"IFERROR($E36*SUMIF('Daily Log'!$H$18:$H$1017,$B36,'Daily Log'!$I$18:$I$1017),0)","v":0},{"$f":"IFERROR($E36*SUMIF('Daily Log'!$K$18:$K$1017,$B36,'Daily Log'!$L$18:$L$1017),0)","v":0},{"$f":"IFERROR($E36*SUMIF('Daily Log'!$N$18:$N$1017,$B36,'Daily Log'!$O$18:$O$1017),0)","v":0},{"$f":"IFERROR($E36*SUMIF('Daily Log'!#REF!,$B36,'Daily Log'!#REF!),0)","v":0},{"$f":"IFERROR($E36*SUMIF('Daily Log'!#REF!,$B36,'Daily Log'!#REF!),0)","v":0},{"$f":"IFERROR($E36*SUMIF('Daily Log'!#REF!,$B36,'Daily Log'!#REF!),0)","v":0},{"$f":"IFERROR($E36*SUMIF('Daily Log'!#REF!,$B36,'Daily Log'!#REF!),0)","v":0},{"$f":"IFERROR($E36*SUMIF('Daily Log'!#REF!,$B36,'Daily Log'!#REF!),0)","v":0},{"$f":"IFERROR($E36*SUMIF('Daily Log'!#REF!,$B36,'Daily Log'!#REF!),0)","v":0},{"$f":"IFERROR($E36*SUMIF('Daily Log'!#REF!,$B36,'Daily Log'!#REF!),0)","v":0},{"$f":"IFERROR($E36*SUMIF('Daily Log'!#REF!,$B36,'Daily Log'!#REF!),0)","v":0},{"$f":"IFERROR($E36*SUMIF('Daily Log'!#REF!,$B36,'Daily Log'!#REF!),0)","v":0},{"$f":"IFERROR($E36*SUMIF('Daily Log'!#REF!,$B36,'Daily Log'!#REF!),0)","v":0},{"$f":"IFERROR($E36*SUMIF('Daily Log'!#REF!,$B36,'Daily Log'!#REF!),0)","v":0},{"$f":"IFERROR($E36*SUMIF('Daily Log'!#REF!,$B36,'Daily Log'!#REF!),0)","v":0},{"$f":"IFERROR($E36*SUMIF('Daily Log'!#REF!,$B36,'Daily Log'!#REF!),0)","v":0},{"$f":"IFERROR($E36*SUMIF('Daily Log'!#REF!,$B36,'Daily Log'!#REF!),0)","v":0},{"$f":"IFERROR($E36*SUMIF('Daily Log'!#REF!,$B36,'Daily Log'!#REF!),0)","v":0},{"$f":"IFERROR($E36*SUMIF('Daily Log'!#REF!,$B36,'Daily Log'!#REF!),0)","v":0},{"$f":"IFERROR($E36*SUMIF('Daily Log'!#REF!,$B36,'Daily Log'!#REF!),0)","v":0},{"$f":"IFERROR($E36*SUMIF('Daily Log'!#REF!,$B36,'Daily Log'!#REF!),0)","v":0},{"$f":"IFERROR($E36*SUMIF('Daily Log'!#REF!,$B36,'Daily Log'!#REF!),0)","v":0},{"$f":"IFERROR($E36*SUMIF('Daily Log'!#REF!,$B36,'Daily Log'!#REF!),0)","v":0},{"$f":"IFERROR($E36*SUMIF('Daily Log'!#REF!,$B36,'Daily Log'!#REF!),0)","v":0},{"$f":"IFERROR($E36*SUMIF('Daily Log'!#REF!,$B36,'Daily Log'!#REF!),0)","v":0},{"$f":"IFERROR($E36*SUMIF('Daily Log'!#REF!,$B36,'Daily Log'!#REF!),0)","v":0},{"$f":"IFERROR($E36*SUMIF('Daily Log'!#REF!,$B36,'Daily Log'!#REF!),0)","v":0},{"$f":"IFERROR($E36*SUMIF('Daily Log'!#REF!,$B36,'Daily Log'!#REF!),0)","v":0},{"$f":"IFERROR($E36*SUMIF('Daily Log'!#REF!,$B36,'Daily Log'!#REF!),0)","v":0}]
[null,"AA08 K : FOC HEAD",null,null,null,0,{"$f":"IFERROR($E37*SUMIF('Daily Log'!$B$18:$B$1017,$B37,'Daily Log'!$C$18:$C$1017),0)","v":0},{"$f":"IFERROR($E37*SUMIF('Daily Log'!$E$18:$E$1017,$B37,'Daily Log'!$F$18:$F$1017),0)","v":0},{"$f":"IFERROR($E37*SUMIF('Daily Log'!$H$18:$H$1017,$B37,'Daily Log'!$I$18:$I$1017),0)","v":0},{"$f":"IFERROR($E37*SUMIF('Daily Log'!$K$18:$K$1017,$B37,'Daily Log'!$L$18:$L$1017),0)","v":0},{"$f":"IFERROR($E37*SUMIF('Daily Log'!$N$18:$N$1017,$B37,'Daily Log'!$O$18:$O$1017),0)","v":0},{"$f":"IFERROR($E37*SUMIF('Daily Log'!#REF!,$B37,'Daily Log'!#REF!),0)","v":0},{"$f":"IFERROR($E37*SUMIF('Daily Log'!#REF!,$B37,'Daily Log'!#REF!),0)","v":0},{"$f":"IFERROR($E37*SUMIF('Daily Log'!#REF!,$B37,'Daily Log'!#REF!),0)","v":0},{"$f":"IFERROR($E37*SUMIF('Daily Log'!#REF!,$B37,'Daily Log'!#REF!),0)","v":0},{"$f":"IFERROR($E37*SUMIF('Daily Log'!#REF!,$B37,'Daily Log'!#REF!),0)","v":0},{"$f":"IFERROR($E37*SUMIF('Daily Log'!#REF!,$B37,'Daily Log'!#REF!),0)","v":0},{"$f":"IFERROR($E37*SUMIF('Daily Log'!#REF!,$B37,'Daily Log'!#REF!),0)","v":0},{"$f":"IFERROR($E37*SUMIF('Daily Log'!#REF!,$B37,'Daily Log'!#REF!),0)","v":0},{"$f":"IFERROR($E37*SUMIF('Daily Log'!#REF!,$B37,'Daily Log'!#REF!),0)","v":0},{"$f":"IFERROR($E37*SUMIF('Daily Log'!#REF!,$B37,'Daily Log'!#REF!),0)","v":0},{"$f":"IFERROR($E37*SUMIF('Daily Log'!#REF!,$B37,'Daily Log'!#REF!),0)","v":0},{"$f":"IFERROR($E37*SUMIF('Daily Log'!#REF!,$B37,'Daily Log'!#REF!),0)","v":0},{"$f":"IFERROR($E37*SUMIF('Daily Log'!#REF!,$B37,'Daily Log'!#REF!),0)","v":0},{"$f":"IFERROR($E37*SUMIF('Daily Log'!#REF!,$B37,'Daily Log'!#REF!),0)","v":0},{"$f":"IFERROR($E37*SUMIF('Daily Log'!#REF!,$B37,'Daily Log'!#REF!),0)","v":0},{"$f":"IFERROR($E37*SUMIF('Daily Log'!#REF!,$B37,'Daily Log'!#REF!),0)","v":0},{"$f":"IFERROR($E37*SUMIF('Daily Log'!#REF!,$B37,'Daily Log'!#REF!),0)","v":0},{"$f":"IFERROR($E37*SUMIF('Daily Log'!#REF!,$B37,'Daily Log'!#REF!),0)","v":0},{"$f":"IFERROR($E37*SUMIF('Daily Log'!#REF!,$B37,'Daily Log'!#REF!),0)","v":0},{"$f":"IFERROR($E37*SUMIF('Daily Log'!#REF!,$B37,'Daily Log'!#REF!),0)","v":0},{"$f":"IFERROR($E37*SUMIF('Daily Log'!#REF!,$B37,'Daily Log'!#REF!),0)","v":0},{"$f":"IFERROR($E37*SUMIF('Daily Log'!#REF!,$B37,'Daily Log'!#REF!),0)","v":0},{"$f":"IFERROR($E37*SUMIF('Daily Log'!#REF!,$B37,'Daily Log'!#REF!),0)","v":0},{"$f":"IFERROR($E37*SUMIF('Daily Log'!#REF!,$B37,'Daily Log'!#REF!),0)","v":0},{"$f":"IFERROR($E37*SUMIF('Daily Log'!#REF!,$B37,'Daily Log'!#REF!),0)","v":0},{"$f":"IFERROR($E37*SUMIF('Daily Log'!#REF!,$B37,'Daily Log'!#REF!),0)","v":0}]
[null,"AA09 K : FREEHEAD (B)",null,null,null,0,{"$f":"IFERROR($E38*SUMIF('Daily Log'!$B$18:$B$1017,$B38,'Daily Log'!$C$18:$C$1017),0)","v":0},{"$f":"IFERROR($E38*SUMIF('Daily Log'!$E$18:$E$1017,$B38,'Daily Log'!$F$18:$F$1017),0)","v":0},{"$f":"IFERROR($E38*SUMIF('Daily Log'!$H$18:$H$1017,$B38,'Daily Log'!$I$18:$I$1017),0)","v":0},{"$f":"IFERROR($E38*SUMIF('Daily Log'!$K$18:$K$1017,$B38,'Daily Log'!$L$18:$L$1017),0)","v":0},{"$f":"IFERROR($E38*SUMIF('Daily Log'!$N$18:$N$1017,$B38,'Daily Log'!$O$18:$O$1017),0)","v":0},{"$f":"IFERROR($E38*SUMIF('Daily Log'!#REF!,$B38,'Daily Log'!#REF!),0)","v":0},{"$f":"IFERROR($E38*SUMIF('Daily Log'!#REF!,$B38,'Daily Log'!#REF!),0)","v":0},{"$f":"IFERROR($E38*SUMIF('Daily Log'!#REF!,$B38,'Daily Log'!#REF!),0)","v":0},{"$f":"IFERROR($E38*SUMIF('Daily Log'!#REF!,$B38,'Daily Log'!#REF!),0)","v":0},{"$f":"IFERROR($E38*SUMIF('Daily Log'!#REF!,$B38,'Daily Log'!#REF!),0)","v":0},{"$f":"IFERROR($E38*SUMIF('Daily Log'!#REF!,$B38,'Daily Log'!#REF!),0)","v":0},{"$f":"IFERROR($E38*SUMIF('Daily Log'!#REF!,$B38,'Daily Log'!#REF!),0)","v":0},{"$f":"IFERROR($E38*SUMIF('Daily Log'!#REF!,$B38,'Daily Log'!#REF!),0)","v":0},{"$f":"IFERROR($E38*SUMIF('Daily Log'!#REF!,$B38,'Daily Log'!#REF!),0)","v":0},{"$f":"IFERROR($E38*SUMIF('Daily Log'!#REF!,$B38,'Daily Log'!#REF!),0)","v":0},{"$f":"IFERROR($E38*SUMIF('Daily Log'!#REF!,$B38,'Daily Log'!#REF!),0)","v":0},{"$f":"IFERROR($E38*SUMIF('Daily Log'!#REF!,$B38,'Daily Log'!#REF!),0)","v":0},{"$f":"IFERROR($E38*SUMIF('Daily Log'!#REF!,$B38,'Daily Log'!#REF!),0)","v":0},{"$f":"IFERROR($E38*SUMIF('Daily Log'!#REF!,$B38,'Daily Log'!#REF!),0)","v":0},{"$f":"IFERROR($E38*SUMIF('Daily Log'!#REF!,$B38,'Daily Log'!#REF!),0)","v":0},{"$f":"IFERROR($E38*SUMIF('Daily Log'!#REF!,$B38,'Daily Log'!#REF!),0)","v":0},{"$f":"IFERROR($E38*SUMIF('Daily Log'!#REF!,$B38,'Daily Log'!#REF!),0)","v":0},{"$f":"IFERROR($E38*SUMIF('Daily Log'!#REF!,$B38,'Daily Log'!#REF!),0)","v":0},{"$f":"IFERROR($E38*SUMIF('Daily Log'!#REF!,$B38,'Daily Log'!#REF!),0)","v":0},{"$f":"IFERROR($E38*SUMIF('Daily Log'!#REF!,$B38,'Daily Log'!#REF!),0)","v":0},{"$f":"IFERROR($E38*SUMIF('Daily Log'!#REF!,$B38,'Daily Log'!#REF!),0)","v":0},{"$f":"IFERROR($E38*SUMIF('Daily Log'!#REF!,$B38,'Daily Log'!#REF!),0)","v":0},{"$f":"IFERROR($E38*SUMIF('Daily Log'!#REF!,$B38,'Daily Log'!#REF!),0)","v":0},{"$f":"IFERROR($E38*SUMIF('Daily Log'!#REF!,$B38,'Daily Log'!#REF!),0)","v":0},{"$f":"IFERROR($E38*SUMIF('Daily Log'!#REF!,$B38,'Daily Log'!#REF!),0)","v":0},{"$f":"IFERROR($E38*SUMIF('Daily Log'!#REF!,$B38,'Daily Log'!#REF!),0)","v":0}]
[null,"AA10 Father",null,null,null,0,{"$f":"IFERROR($E39*SUMIF('Daily Log'!$B$18:$B$1017,$B39,'Daily Log'!$C$18:$C$1017),0)","v":0},{"$f":"IFERROR($E39*SUMIF('Daily Log'!$E$18:$E$1017,$B39,'Daily Log'!$F$18:$F$1017),0)","v":0},{"$f":"IFERROR($E39*SUMIF('Daily Log'!$H$18:$H$1017,$B39,'Daily Log'!$I$18:$I$1017),0)","v":0},{"$f":"IFERROR($E39*SUMIF('Daily Log'!$K$18:$K$1017,$B39,'Daily Log'!$L$18:$L$1017),0)","v":0},{"$f":"IFERROR($E39*SUMIF('Daily Log'!$N$18:$N$1017,$B39,'Daily Log'!$O$18:$O$1017),0)","v":0},{"$f":"IFERROR($E39*SUMIF('Daily Log'!#REF!,$B39,'Daily Log'!#REF!),0)","v":0},{"$f":"IFERROR($E39*SUMIF('Daily Log'!#REF!,$B39,'Daily Log'!#REF!),0)","v":0},{"$f":"IFERROR($E39*SUMIF('Daily Log'!#REF!,$B39,'Daily Log'!#REF!),0)","v":0},{"$f":"IFERROR($E39*SUMIF('Daily Log'!#REF!,$B39,'Daily Log'!#REF!),0)","v":0},{"$f":"IFERROR($E39*SUMIF('Daily Log'!#REF!,$B39,'Daily Log'!#REF!),0)","v":0},{"$f":"IFERROR($E39*SUMIF('Daily Log'!#REF!,$B39,'Daily Log'!#REF!),0)","v":0},{"$f":"IFERROR($E39*SUMIF('Daily Log'!#REF!,$B39,'Daily Log'!#REF!),0)","v":0},{"$f":"IFERROR($E39*SUMIF('Daily Log'!#REF!,$B39,'Daily Log'!#REF!),0)","v":0},{"$f":"IFERROR($E39*SUMIF('Daily Log'!#REF!,$B39,'Daily Log'!#REF!),0)","v":0},{"$f":"IFERROR($E39*SUMIF('Daily Log'!#REF!,$B39,'Daily Log'!#REF!),0)","v":0},{"$f":"IFERROR($E39*SUMIF('Daily Log'!#REF!,$B39,'Daily Log'!#REF!),0)","v":0},{"$f":"IFERROR($E39*SUMIF('Daily Log'!#REF!,$B39,'Daily Log'!#REF!),0)","v":0},{"$f":"IFERROR($E39*SUMIF('Daily Log'!#REF!,$B39,'Daily Log'!#REF!),0)","v":0},{"$f":"IFERROR($E39*SUMIF('Daily Log'!#REF!,$B39,'Daily Log'!#REF!),0)","v":0},{"$f":"IFERROR($E39*SUMIF('Daily Log'!#REF!,$B39,'Daily Log'!#REF!),0)","v":0},{"$f":"IFERROR($E39*SUMIF('Daily Log'!#REF!,$B39,'Daily Log'!#REF!),0)","v":0},{"$f":"IFERROR($E39*SUMIF('Daily Log'!#REF!,$B39,'Daily Log'!#REF!),0)","v":0},{"$f":"IFERROR($E39*SUMIF('Daily Log'!#REF!,$B39,'Daily Log'!#REF!),0)","v":0},{"$f":"IFERROR($E39*SUMIF('Daily Log'!#REF!,$B39,'Daily Log'!#REF!),0)","v":0},{"$f":"IFERROR($E39*SUMIF('Daily Log'!#REF!,$B39,'Daily Log'!#REF!),0)","v":0},{"$f":"IFERROR($E39*SUMIF('Daily Log'!#REF!,$B39,'Daily Log'!#REF!),0)","v":0},{"$f":"IFERROR($E39*SUMIF('Daily Log'!#REF!,$B39,'Daily Log'!#REF!),0)","v":0},{"$f":"IFERROR($E39*SUMIF('Daily Log'!#REF!,$B39,'Daily Log'!#REF!),0)","v":0},{"$f":"IFERROR($E39*SUMIF('Daily Log'!#REF!,$B39,'Daily Log'!#REF!),0)","v":0},{"$f":"IFERROR($E39*SUMIF('Daily Log'!#REF!,$B39,'Daily Log'!#REF!),0)","v":0},{"$f":"IFERROR($E39*SUMIF('Daily Log'!#REF!,$B39,'Daily Log'!#REF!),0)","v":0}]
[null,"AA11 K : FREEHEAD (R)",null,null,null,0,{"$f":"IFERROR($E40*SUMIF('Daily Log'!$B$18:$B$1017,$B40,'Daily Log'!$C$18:$C$1017),0)","v":0},{"$f":"IFERROR($E40*SUMIF('Daily Log'!$E$18:$E$1017,$B40,'Daily Log'!$F$18:$F$1017),0)","v":0},{"$f":"IFERROR($E40*SUMIF('Daily Log'!$H$18:$H$1017,$B40,'Daily Log'!$I$18:$I$1017),0)","v":0},{"$f":"IFERROR($E40*SUMIF('Daily Log'!$K$18:$K$1017,$B40,'Daily Log'!$L$18:$L$1017),0)","v":0},{"$f":"IFERROR($E40*SUMIF('Daily Log'!$N$18:$N$1017,$B40,'Daily Log'!$O$18:$O$1017),0)","v":0},{"$f":"IFERROR($E40*SUMIF('Daily Log'!#REF!,$B40,'Daily Log'!#REF!),0)","v":0},{"$f":"IFERROR($E40*SUMIF('Daily Log'!#REF!,$B40,'Daily Log'!#REF!),0)","v":0},{"$f":"IFERROR($E40*SUMIF('Daily Log'!#REF!,$B40,'Daily Log'!#REF!),0)","v":0},{"$f":"IFERROR($E40*SUMIF('Daily Log'!#REF!,$B40,'Daily Log'!#REF!),0)","v":0},{"$f":"IFERROR($E40*SUMIF('Daily Log'!#REF!,$B40,'Daily Log'!#REF!),0)","v":0},{"$f":"IFERROR($E40*SUMIF('Daily Log'!#REF!,$B40,'Daily Log'!#REF!),0)","v":0},{"$f":"IFERROR($E40*SUMIF('Daily Log'!#REF!,$B40,'Daily Log'!#REF!),0)","v":0},{"$f":"IFERROR($E40*SUMIF('Daily Log'!#REF!,$B40,'Daily Log'!#REF!),0)","v":0},{"$f":"IFERROR($E40*SUMIF('Daily Log'!#REF!,$B40,'Daily Log'!#REF!),0)","v":0},{"$f":"IFERROR($E40*SUMIF('Daily Log'!#REF!,$B40,'Daily Log'!#REF!),0)","v":0},{"$f":"IFERROR($E40*SUMIF('Daily Log'!#REF!,$B40,'Daily Log'!#REF!),0)","v":0},{"$f":"IFERROR($E40*SUMIF('Daily Log'!#REF!,$B40,'Daily Log'!#REF!),0)","v":0},{"$f":"IFERROR($E40*SUMIF('Daily Log'!#REF!,$B40,'Daily Log'!#REF!),0)","v":0},{"$f":"IFERROR($E40*SUMIF('Daily Log'!#REF!,$B40,'Daily Log'!#REF!),0)","v":0},{"$f":"IFERROR($E40*SUMIF('Daily Log'!#REF!,$B40,'Daily Log'!#REF!),0)","v":0},{"$f":"IFERROR($E40*SUMIF('Daily Log'!#REF!,$B40,'Daily Log'!#REF!),0)","v":0},{"$f":"IFERROR($E40*SUMIF('Daily Log'!#REF!,$B40,'Daily Log'!#REF!),0)","v":0},{"$f":"IFERROR($E40*SUMIF('Daily Log'!#REF!,$B40,'Daily Log'!#REF!),0)","v":0},{"$f":"IFERROR($E40*SUMIF('Daily Log'!#REF!,$B40,'Daily Log'!#REF!),0)","v":0},{"$f":"IFERROR($E40*SUMIF('Daily Log'!#REF!,$B40,'Daily Log'!#REF!),0)","v":0},{"$f":"IFERROR($E40*SUMIF('Daily Log'!#REF!,$B40,'Daily Log'!#REF!),0)","v":0},{"$f":"IFERROR($E40*SUMIF('Daily Log'!#REF!,$B40,'Daily Log'!#REF!),0)","v":0},{"$f":"IFERROR($E40*SUMIF('Daily Log'!#REF!,$B40,'Daily Log'!#REF!),0)","v":0},{"$f":"IFERROR($E40*SUMIF('Daily Log'!#REF!,$B40,'Daily Log'!#REF!),0)","v":0},{"$f":"IFERROR($E40*SUMIF('Daily Log'!#REF!,$B40,'Daily Log'!#REF!),0)","v":0},{"$f":"IFERROR($E40*SUMIF('Daily Log'!#REF!,$B40,'Daily Log'!#REF!),0)","v":0}]
[null,"AA12 K : 3+1",null,null,null,0,{"$f":"IFERROR($E41*SUMIF('Daily Log'!$B$18:$B$1017,$B41,'Daily Log'!$C$18:$C$1017),0)","v":0},{"$f":"IFERROR($E41*SUMIF('Daily Log'!$E$18:$E$1017,$B41,'Daily Log'!$F$18:$F$1017),0)","v":0},{"$f":"IFERROR($E41*SUMIF('Daily Log'!$H$18:$H$1017,$B41,'Daily Log'!$I$18:$I$1017),0)","v":0},{"$f":"IFERROR($E41*SUMIF('Daily Log'!$K$18:$K$1017,$B41,'Daily Log'!$L$18:$L$1017),0)","v":0},{"$f":"IFERROR($E41*SUMIF('Daily Log'!$N$18:$N$1017,$B41,'Daily Log'!$O$18:$O$1017),0)","v":0},{"$f":"IFERROR($E41*SUMIF('Daily Log'!#REF!,$B41,'Daily Log'!#REF!),0)","v":0},{"$f":"IFERROR($E41*SUMIF('Daily Log'!#REF!,$B41,'Daily Log'!#REF!),0)","v":0},{"$f":"IFERROR($E41*SUMIF('Daily Log'!#REF!,$B41,'Daily Log'!#REF!),0)","v":0},{"$f":"IFERROR($E41*SUMIF('Daily Log'!#REF!,$B41,'Daily Log'!#REF!),0)","v":0},{"$f":"IFERROR($E41*SUMIF('Daily Log'!#REF!,$B41,'Daily Log'!#REF!),0)","v":0},{"$f":"IFERROR($E41*SUMIF('Daily Log'!#REF!,$B41,'Daily Log'!#REF!),0)","v":0},{"$f":"IFERROR($E41*SUMIF('Daily Log'!#REF!,$B41,'Daily Log'!#REF!),0)","v":0},{"$f":"IFERROR($E41*SUMIF('Daily Log'!#REF!,$B41,'Daily Log'!#REF!),0)","v":0},{"$f":"IFERROR($E41*SUMIF('Daily Log'!#REF!,$B41,'Daily Log'!#REF!),0)","v":0},{"$f":"IFERROR($E41*SUMIF('Daily Log'!#REF!,$B41,'Daily Log'!#REF!),0)","v":0},{"$f":"IFERROR($E41*SUMIF('Daily Log'!#REF!,$B41,'Daily Log'!#REF!),0)","v":0},{"$f":"IFERROR($E41*SUMIF('Daily Log'!#REF!,$B41,'Daily Log'!#REF!),0)","v":0},{"$f":"IFERROR($E41*SUMIF('Daily Log'!#REF!,$B41,'Daily Log'!#REF!),0)","v":0},{"$f":"IFERROR($E41*SUMIF('Daily Log'!#REF!,$B41,'Daily Log'!#REF!),0)","v":0},{"$f":"IFERROR($E41*SUMIF('Daily Log'!#REF!,$B41,'Daily Log'!#REF!),0)","v":0},{"$f":"IFERROR($E41*SUMIF('Daily Log'!#REF!,$B41,'Daily Log'!#REF!),0)","v":0},{"$f":"IFERROR($E41*SUMIF('Daily Log'!#REF!,$B41,'Daily Log'!#REF!),0)","v":0},{"$f":"IFERROR($E41*SUMIF('Daily Log'!#REF!,$B41,'Daily Log'!#REF!),0)","v":0},{"$f":"IFERROR($E41*SUMIF('Daily Log'!#REF!,$B41,'Daily Log'!#REF!),0)","v":0},{"$f":"IFERROR($E41*SUMIF('Daily Log'!#REF!,$B41,'Daily Log'!#REF!),0)","v":0},{"$f":"IFERROR($E41*SUMIF('Daily Log'!#REF!,$B41,'Daily Log'!#REF!),0)","v":0},{"$f":"IFERROR($E41*SUMIF('Daily Log'!#REF!,$B41,'Daily Log'!#REF!),0)","v":0},{"$f":"IFERROR($E41*SUMIF('Daily Log'!#REF!,$B41,'Daily Log'!#REF!),0)","v":0},{"$f":"IFERROR($E41*SUMIF('Daily Log'!#REF!,$B41,'Daily Log'!#REF!),0)","v":0},{"$f":"IFERROR($E41*SUMIF('Daily Log'!#REF!,$B41,'Daily Log'!#REF!),0)","v":0},{"$f":"IFERROR($E41*SUMIF('Daily Log'!#REF!,$B41,'Daily Log'!#REF!),0)","v":0}]
[null,"AA13 K : PROMOTION",null,null,null,0,{"$f":"IFERROR($E42*SUMIF('Daily Log'!$B$18:$B$1017,$B42,'Daily Log'!$C$18:$C$1017),0)","v":0},{"$f":"IFERROR($E42*SUMIF('Daily Log'!$E$18:$E$1017,$B42,'Daily Log'!$F$18:$F$1017),0)","v":0},{"$f":"IFERROR($E42*SUMIF('Daily Log'!$H$18:$H$1017,$B42,'Daily Log'!$I$18:$I$1017),0)","v":0},{"$f":"IFERROR($E42*SUMIF('Daily Log'!$K$18:$K$1017,$B42,'Daily Log'!$L$18:$L$1017),0)","v":0},{"$f":"IFERROR($E42*SUMIF('Daily Log'!$N$18:$N$1017,$B42,'Daily Log'!$O$18:$O$1017),0)","v":0},{"$f":"IFERROR($E42*SUMIF('Daily Log'!#REF!,$B42,'Daily Log'!#REF!),0)","v":0},{"$f":"IFERROR($E42*SUMIF('Daily Log'!#REF!,$B42,'Daily Log'!#REF!),0)","v":0},{"$f":"IFERROR($E42*SUMIF('Daily Log'!#REF!,$B42,'Daily Log'!#REF!),0)","v":0},{"$f":"IFERROR($E42*SUMIF('Daily Log'!#REF!,$B42,'Daily Log'!#REF!),0)","v":0},{"$f":"IFERROR($E42*SUMIF('Daily Log'!#REF!,$B42,'Daily Log'!#REF!),0)","v":0},{"$f":"IFERROR($E42*SUMIF('Daily Log'!#REF!,$B42,'Daily Log'!#REF!),0)","v":0},{"$f":"IFERROR($E42*SUMIF('Daily Log'!#REF!,$B42,'Daily Log'!#REF!),0)","v":0},{"$f":"IFERROR($E42*SUMIF('Daily Log'!#REF!,$B42,'Daily Log'!#REF!),0)","v":0},{"$f":"IFERROR($E42*SUMIF('Daily Log'!#REF!,$B42,'Daily Log'!#REF!),0)","v":0},{"$f":"IFERROR($E42*SUMIF('Daily Log'!#REF!,$B42,'Daily Log'!#REF!),0)","v":0},{"$f":"IFERROR($E42*SUMIF('Daily Log'!#REF!,$B42,'Daily Log'!#REF!),0)","v":0},{"$f":"IFERROR($E42*SUMIF('Daily Log'!#REF!,$B42,'Daily Log'!#REF!),0)","v":0},{"$f":"IFERROR($E42*SUMIF('Daily Log'!#REF!,$B42,'Daily Log'!#REF!),0)","v":0},{"$f":"IFERROR($E42*SUMIF('Daily Log'!#REF!,$B42,'Daily Log'!#REF!),0)","v":0},{"$f":"IFERROR($E42*SUMIF('Daily Log'!#REF!,$B42,'Daily Log'!#REF!),0)","v":0},{"$f":"IFERROR($E42*SUMIF('Daily Log'!#REF!,$B42,'Daily Log'!#REF!),0)","v":0},{"$f":"IFERROR($E42*SUMIF('Daily Log'!#REF!,$B42,'Daily Log'!#REF!),0)","v":0},{"$f":"IFERROR($E42*SUMIF('Daily Log'!#REF!,$B42,'Daily Log'!#REF!),0)","v":0},{"$f":"IFERROR($E42*SUMIF('Daily Log'!#REF!,$B42,'Daily Log'!#REF!),0)","v":0},{"$f":"IFERROR($E42*SUMIF('Daily Log'!#REF!,$B42,'Daily Log'!#REF!),0)","v":0},{"$f":"IFERROR($E42*SUMIF('Daily Log'!#REF!,$B42,'Daily Log'!#REF!),0)","v":0},{"$f":"IFERROR($E42*SUMIF('Daily Log'!#REF!,$B42,'Daily Log'!#REF!),0)","v":0},{"$f":"IFERROR($E42*SUMIF('Daily Log'!#REF!,$B42,'Daily Log'!#REF!),0)","v":0},{"$f":"IFERROR($E42*SUMIF('Daily Log'!#REF!,$B42,'Daily Log'!#REF!),0)","v":0},{"$f":"IFERROR($E42*SUMIF('Daily Log'!#REF!,$B42,'Daily Log'!#REF!),0)","v":0},{"$f":"IFERROR($E42*SUMIF('Daily Log'!#REF!,$B42,'Daily Log'!#REF!),0)","v":0}]
[null,"AA14 K : PROMO+MEAL",null,null,null,0,{"$f":"IFERROR($E43*SUMIF('Daily Log'!$B$18:$B$1017,$B43,'Daily Log'!$C$18:$C$1017),0)","v":0},{"$f":"IFERROR($E43*SUMIF('Daily Log'!$E$18:$E$1017,$B43,'Daily Log'!$F$18:$F$1017),0)","v":0},{"$f":"IFERROR($E43*SUMIF('Daily Log'!$H$18:$H$1017,$B43,'Daily Log'!$I$18:$I$1017),0)","v":0},{"$f":"IFERROR($E43*SUMIF('Daily Log'!$K$18:$K$1017,$B43,'Daily Log'!$L$18:$L$1017),0)","v":0},{"$f":"IFERROR($E43*SUMIF('Daily Log'!$N$18:$N$1017,$B43,'Daily Log'!$O$18:$O$1017),0)","v":0},{"$f":"IFERROR($E43*SUMIF('Daily Log'!#REF!,$B43,'Daily Log'!#REF!),0)","v":0},{"$f":"IFERROR($E43*SUMIF('Daily Log'!#REF!,$B43,'Daily Log'!#REF!),0)","v":0},{"$f":"IFERROR($E43*SUMIF('Daily Log'!#REF!,$B43,'Daily Log'!#REF!),0)","v":0},{"$f":"IFERROR($E43*SUMIF('Daily Log'!#REF!,$B43,'Daily Log'!#REF!),0)","v":0},{"$f":"IFERROR($E43*SUMIF('Daily Log'!#REF!,$B43,'Daily Log'!#REF!),0)","v":0},{"$f":"IFERROR($E43*SUMIF('Daily Log'!#REF!,$B43,'Daily Log'!#REF!),0)","v":0},{"$f":"IFERROR($E43*SUMIF('Daily Log'!#REF!,$B43,'Daily Log'!#REF!),0)","v":0},{"$f":"IFERROR($E43*SUMIF('Daily Log'!#REF!,$B43,'Daily Log'!#REF!),0)","v":0},{"$f":"IFERROR($E43*SUMIF('Daily Log'!#REF!,$B43,'Daily Log'!#REF!),0)","v":0},{"$f":"IFERROR($E43*SUMIF('Daily Log'!#REF!,$B43,'Daily Log'!#REF!),0)","v":0},{"$f":"IFERROR($E43*SUMIF('Daily Log'!#REF!,$B43,'Daily Log'!#REF!),0)","v":0},{"$f":"IFERROR($E43*SUMIF('Daily Log'!#REF!,$B43,'Daily Log'!#REF!),0)","v":0},{"$f":"IFERROR($E43*SUMIF('Daily Log'!#REF!,$B43,'Daily Log'!#REF!),0)","v":0},{"$f":"IFERROR($E43*SUMIF('Daily Log'!#REF!,$B43,'Daily Log'!#REF!),0)","v":0},{"$f":"IFERROR($E43*SUMIF('Daily Log'!#REF!,$B43,'Daily Log'!#REF!),0)","v":0},{"$f":"IFERROR($E43*SUMIF('Daily Log'!#REF!,$B43,'Daily Log'!#REF!),0)","v":0},{"$f":"IFERROR($E43*SUMIF('Daily Log'!#REF!,$B43,'Daily Log'!#REF!),0)","v":0},{"$f":"IFERROR($E43*SUMIF('Daily Log'!#REF!,$B43,'Daily Log'!#REF!),0)","v":0},{"$f":"IFERROR($E43*SUMIF('Daily Log'!#REF!,$B43,'Daily Log'!#REF!),0)","v":0},{"$f":"IFERROR($E43*SUMIF('Daily Log'!#REF!,$B43,'Daily Log'!#REF!),0)","v":0},{"$f":"IFERROR($E43*SUMIF('Daily Log'!#REF!,$B43,'Daily Log'!#REF!),0)","v":0},{"$f":"IFERROR($E43*SUMIF('Daily Log'!#REF!,$B43,'Daily Log'!#REF!),0)","v":0},{"$f":"IFERROR($E43*SUMIF('Daily Log'!#REF!,$B43,'Daily Log'!#REF!),0)","v":0},{"$f":"IFERROR($E43*SUMIF('Daily Log'!#REF!,$B43,'Daily Log'!#REF!),0)","v":0},{"$f":"IFERROR($E43*SUMIF('Daily Log'!#REF!,$B43,'Daily Log'!#REF!),0)","v":0},{"$f":"IFERROR($E43*SUMIF('Daily Log'!#REF!,$B43,'Daily Log'!#REF!),0)","v":0}]
[null,"AA15 K : EVENT",null,null,null,0,{"$f":"IFERROR($E44*SUMIF('Daily Log'!$B$18:$B$1017,$B44,'Daily Log'!$C$18:$C$1017),0)","v":0},{"$f":"IFERROR($E44*SUMIF('Daily Log'!$E$18:$E$1017,$B44,'Daily Log'!$F$18:$F$1017),0)","v":0},{"$f":"IFERROR($E44*SUMIF('Daily Log'!$H$18:$H$1017,$B44,'Daily Log'!$I$18:$I$1017),0)","v":0},{"$f":"IFERROR($E44*SUMIF('Daily Log'!$K$18:$K$1017,$B44,'Daily Log'!$L$18:$L$1017),0)","v":0},{"$f":"IFERROR($E44*SUMIF('Daily Log'!$N$18:$N$1017,$B44,'Daily Log'!$O$18:$O$1017),0)","v":0},{"$f":"IFERROR($E44*SUMIF('Daily Log'!#REF!,$B44,'Daily Log'!#REF!),0)","v":0},{"$f":"IFERROR($E44*SUMIF('Daily Log'!#REF!,$B44,'Daily Log'!#REF!),0)","v":0},{"$f":"IFERROR($E44*SUMIF('Daily Log'!#REF!,$B44,'Daily Log'!#REF!),0)","v":0},{"$f":"IFERROR($E44*SUMIF('Daily Log'!#REF!,$B44,'Daily Log'!#REF!),0)","v":0},{"$f":"IFERROR($E44*SUMIF('Daily Log'!#REF!,$B44,'Daily Log'!#REF!),0)","v":0},{"$f":"IFERROR($E44*SUMIF('Daily Log'!#REF!,$B44,'Daily Log'!#REF!),0)","v":0},{"$f":"IFERROR($E44*SUMIF('Daily Log'!#REF!,$B44,'Daily Log'!#REF!),0)","v":0},{"$f":"IFERROR($E44*SUMIF('Daily Log'!#REF!,$B44,'Daily Log'!#REF!),0)","v":0},{"$f":"IFERROR($E44*SUMIF('Daily Log'!#REF!,$B44,'Daily Log'!#REF!),0)","v":0},{"$f":"IFERROR($E44*SUMIF('Daily Log'!#REF!,$B44,'Daily Log'!#REF!),0)","v":0},{"$f":"IFERROR($E44*SUMIF('Daily Log'!#REF!,$B44,'Daily Log'!#REF!),0)","v":0},{"$f":"IFERROR($E44*SUMIF('Daily Log'!#REF!,$B44,'Daily Log'!#REF!),0)","v":0},{"$f":"IFERROR($E44*SUMIF('Daily Log'!#REF!,$B44,'Daily Log'!#REF!),0)","v":0},{"$f":"IFERROR($E44*SUMIF('Daily Log'!#REF!,$B44,'Daily Log'!#REF!),0)","v":0},{"$f":"IFERROR($E44*SUMIF('Daily Log'!#REF!,$B44,'Daily Log'!#REF!),0)","v":0},{"$f":"IFERROR($E44*SUMIF('Daily Log'!#REF!,$B44,'Daily Log'!#REF!),0)","v":0},{"$f":"IFERROR($E44*SUMIF('Daily Log'!#REF!,$B44,'Daily Log'!#REF!),0)","v":0},{"$f":"IFERROR($E44*SUMIF('Daily Log'!#REF!,$B44,'Daily Log'!#REF!),0)","v":0},{"$f":"IFERROR($E44*SUMIF('Daily Log'!#REF!,$B44,'Daily Log'!#REF!),0)","v":0},{"$f":"IFERROR($E44*SUMIF('Daily Log'!#REF!,$B44,'Daily Log'!#REF!),0)","v":0},{"$f":"IFERROR($E44*SUMIF('Daily Log'!#REF!,$B44,'Daily Log'!#REF!),0)","v":0},{"$f":"IFERROR($E44*SUMIF('Daily Log'!#REF!,$B44,'Daily Log'!#REF!),0)","v":0},{"$f":"IFERROR($E44*SUMIF('Daily Log'!#REF!,$B44,'Daily Log'!#REF!),0)","v":0},{"$f":"IFERROR($E44*SUMIF('Daily Log'!#REF!,$B44,'Daily Log'!#REF!),0)","v":0},{"$f":"IFERROR($E44*SUMIF('Daily Log'!#REF!,$B44,'Daily Log'!#REF!),0)","v":0},{"$f":"IFERROR($E44*SUMIF('Daily Log'!#REF!,$B44,'Daily Log'!#REF!),0)","v":0}]
[null,"AA16 K : XTD S ROOM",null,null,null,0,{"$f":"IFERROR($E45*SUMIF('Daily Log'!$B$18:$B$1017,$B45,'Daily Log'!$C$18:$C$1017),0)","v":0},{"$f":"IFERROR($E45*SUMIF('Daily Log'!$E$18:$E$1017,$B45,'Daily Log'!$F$18:$F$1017),0)","v":0},{"$f":"IFERROR($E45*SUMIF('Daily Log'!$H$18:$H$1017,$B45,'Daily Log'!$I$18:$I$1017),0)","v":0},{"$f":"IFERROR($E45*SUMIF('Daily Log'!$K$18:$K$1017,$B45,'Daily Log'!$L$18:$L$1017),0)","v":0},{"$f":"IFERROR($E45*SUMIF('Daily Log'!$N$18:$N$1017,$B45,'Daily Log'!$O$18:$O$1017),0)","v":0},{"$f":"IFERROR($E45*SUMIF('Daily Log'!#REF!,$B45,'Daily Log'!#REF!),0)","v":0},{"$f":"IFERROR($E45*SUMIF('Daily Log'!#REF!,$B45,'Daily Log'!#REF!),0)","v":0},{"$f":"IFERROR($E45*SUMIF('Daily Log'!#REF!,$B45,'Daily Log'!#REF!),0)","v":0},{"$f":"IFERROR($E45*SUMIF('Daily Log'!#REF!,$B45,'Daily Log'!#REF!),0)","v":0},{"$f":"IFERROR($E45*SUMIF('Daily Log'!#REF!,$B45,'Daily Log'!#REF!),0)","v":0},{"$f":"IFERROR($E45*SUMIF('Daily Log'!#REF!,$B45,'Daily Log'!#REF!),0)","v":0},{"$f":"IFERROR($E45*SUMIF('Daily Log'!#REF!,$B45,'Daily Log'!#REF!),0)","v":0},{"$f":"IFERROR($E45*SUMIF('Daily Log'!#REF!,$B45,'Daily Log'!#REF!),0)","v":0},{"$f":"IFERROR($E45*SUMIF('Daily Log'!#REF!,$B45,'Daily Log'!#REF!),0)","v":0},{"$f":"IFERROR($E45*SUMIF('Daily Log'!#REF!,$B45,'Daily Log'!#REF!),0)","v":0},{"$f":"IFERROR($E45*SUMIF('Daily Log'!#REF!,$B45,'Daily Log'!#REF!),0)","v":0},{"$f":"IFERROR($E45*SUMIF('Daily Log'!#REF!,$B45,'Daily Log'!#REF!),0)","v":0},{"$f":"IFERROR($E45*SUMIF('Daily Log'!#REF!,$B45,'Daily Log'!#REF!),0)","v":0},{"$f":"IFERROR($E45*SUMIF('Daily Log'!#REF!,$B45,'Daily Log'!#REF!),0)","v":0},{"$f":"IFERROR($E45*SUMIF('Daily Log'!#REF!,$B45,'Daily Log'!#REF!),0)","v":0},{"$f":"IFERROR($E45*SUMIF('Daily Log'!#REF!,$B45,'Daily Log'!#REF!),0)","v":0},{"$f":"IFERROR($E45*SUMIF('Daily Log'!#REF!,$B45,'Daily Log'!#REF!),0)","v":0},{"$f":"IFERROR($E45*SUMIF('Daily Log'!#REF!,$B45,'Daily Log'!#REF!),0)","v":0},{"$f":"IFERROR($E45*SUMIF('Daily Log'!#REF!,$B45,'Daily Log'!#REF!),0)","v":0},{"$f":"IFERROR($E45*SUMIF('Daily Log'!#REF!,$B45,'Daily Log'!#REF!),0)","v":0},{"$f":"IFERROR($E45*SUMIF('Daily Log'!#REF!,$B45,'Daily Log'!#REF!),0)","v":0},{"$f":"IFERROR($E45*SUMIF('Daily Log'!#REF!,$B45,'Daily Log'!#REF!),0)","v":0},{"$f":"IFERROR($E45*SUMIF('Daily Log'!#REF!,$B45,'Daily Log'!#REF!),0)","v":0},{"$f":"IFERROR($E45*SUMIF('Daily Log'!#REF!,$B45,'Daily Log'!#REF!),0)","v":0},{"$f":"IFERROR($E45*SUMIF('Daily Log'!#REF!,$B45,'Daily Log'!#REF!),0)","v":0},{"$f":"IFERROR($E45*SUMIF('Daily Log'!#REF!,$B45,'Daily Log'!#REF!),0)","v":0}]
[null,"AA17 K : XTD M ROOM",null,null,null,0,{"$f":"IFERROR($E46*SUMIF('Daily Log'!$B$18:$B$1017,$B46,'Daily Log'!$C$18:$C$1017),0)","v":0},{"$f":"IFERROR($E46*SUMIF('Daily Log'!$E$18:$E$1017,$B46,'Daily Log'!$F$18:$F$1017),0)","v":0},{"$f":"IFERROR($E46*SUMIF('Daily Log'!$H$18:$H$1017,$B46,'Daily Log'!$I$18:$I$1017),0)","v":0},{"$f":"IFERROR($E46*SUMIF('Daily Log'!$K$18:$K$1017,$B46,'Daily Log'!$L$18:$L$1017),0)","v":0},{"$f":"IFERROR($E46*SUMIF('Daily Log'!$N$18:$N$1017,$B46,'Daily Log'!$O$18:$O$1017),0)","v":0},{"$f":"IFERROR($E46*SUMIF('Daily Log'!#REF!,$B46,'Daily Log'!#REF!),0)","v":0},{"$f":"IFERROR($E46*SUMIF('Daily Log'!#REF!,$B46,'Daily Log'!#REF!),0)","v":0},{"$f":"IFERROR($E46*SUMIF('Daily Log'!#REF!,$B46,'Daily Log'!#REF!),0)","v":0},{"$f":"IFERROR($E46*SUMIF('Daily Log'!#REF!,$B46,'Daily Log'!#REF!),0)","v":0},{"$f":"IFERROR($E46*SUMIF('Daily Log'!#REF!,$B46,'Daily Log'!#REF!),0)","v":0},{"$f":"IFERROR($E46*SUMIF('Daily Log'!#REF!,$B46,'Daily Log'!#REF!),0)","v":0},{"$f":"IFERROR($E46*SUMIF('Daily Log'!#REF!,$B46,'Daily Log'!#REF!),0)","v":0},{"$f":"IFERROR($E46*SUMIF('Daily Log'!#REF!,$B46,'Daily Log'!#REF!),0)","v":0},{"$f":"IFERROR($E46*SUMIF('Daily Log'!#REF!,$B46,'Daily Log'!#REF!),0)","v":0},{"$f":"IFERROR($E46*SUMIF('Daily Log'!#REF!,$B46,'Daily Log'!#REF!),0)","v":0},{"$f":"IFERROR($E46*SUMIF('Daily Log'!#REF!,$B46,'Daily Log'!#REF!),0)","v":0},{"$f":"IFERROR($E46*SUMIF('Daily Log'!#REF!,$B46,'Daily Log'!#REF!),0)","v":0},{"$f":"IFERROR($E46*SUMIF('Daily Log'!#REF!,$B46,'Daily Log'!#REF!),0)","v":0},{"$f":"IFERROR($E46*SUMIF('Daily Log'!#REF!,$B46,'Daily Log'!#REF!),0)","v":0},{"$f":"IFERROR($E46*SUMIF('Daily Log'!#REF!,$B46,'Daily Log'!#REF!),0)","v":0},{"$f":"IFERROR($E46*SUMIF('Daily Log'!#REF!,$B46,'Daily Log'!#REF!),0)","v":0},{"$f":"IFERROR($E46*SUMIF('Daily Log'!#REF!,$B46,'Daily Log'!#REF!),0)","v":0},{"$f":"IFERROR($E46*SUMIF('Daily Log'!#REF!,$B46,'Daily Log'!#REF!),0)","v":0},{"$f":"IFERROR($E46*SUMIF('Daily Log'!#REF!,$B46,'Daily Log'!#REF!),0)","v":0},{"$f":"IFERROR($E46*SUMIF('Daily Log'!#REF!,$B46,'Daily Log'!#REF!),0)","v":0},{"$f":"IFERROR($E46*SUMIF('Daily Log'!#REF!,$B46,'Daily Log'!#REF!),0)","v":0},{"$f":"IFERROR($E46*SUMIF('Daily Log'!#REF!,$B46,'Daily Log'!#REF!),0)","v":0},{"$f":"IFERROR($E46*SUMIF('Daily Log'!#REF!,$B46,'Daily Log'!#REF!),0)","v":0},{"$f":"IFERROR($E46*SUMIF('Daily Log'!#REF!,$B46,'Daily Log'!#REF!),0)","v":0},{"$f":"IFERROR($E46*SUMIF('Daily Log'!#REF!,$B46,'Daily Log'!#REF!),0)","v":0},{"$f":"IFERROR($E46*SUMIF('Daily Log'!#REF!,$B46,'Daily Log'!#REF!),0)","v":0}]
[null,"AA18 K : XTD B ROOM",null,null,null,0,{"$f":"IFERROR($E47*SUMIF('Daily Log'!$B$18:$B$1017,$B47,'Daily Log'!$C$18:$C$1017),0)","v":0},{"$f":"IFERROR($E47*SUMIF('Daily Log'!$E$18:$E$1017,$B47,'Daily Log'!$F$18:$F$1017),0)","v":0},{"$f":"IFERROR($E47*SUMIF('Daily Log'!$H$18:$H$1017,$B47,'Daily Log'!$I$18:$I$1017),0)","v":0},{"$f":"IFERROR($E47*SUMIF('Daily Log'!$K$18:$K$1017,$B47,'Daily Log'!$L$18:$L$1017),0)","v":0},{"$f":"IFERROR($E47*SUMIF('Daily Log'!$N$18:$N$1017,$B47,'Daily Log'!$O$18:$O$1017),0)","v":0},{"$f":"IFERROR($E47*SUMIF('Daily Log'!#REF!,$B47,'Daily Log'!#REF!),0)","v":0},{"$f":"IFERROR($E47*SUMIF('Daily Log'!#REF!,$B47,'Daily Log'!#REF!),0)","v":0},{"$f":"IFERROR($E47*SUMIF('Daily Log'!#REF!,$B47,'Daily Log'!#REF!),0)","v":0},{"$f":"IFERROR($E47*SUMIF('Daily Log'!#REF!,$B47,'Daily Log'!#REF!),0)","v":0},{"$f":"IFERROR($E47*SUMIF('Daily Log'!#REF!,$B47,'Daily Log'!#REF!),0)","v":0},{"$f":"IFERROR($E47*SUMIF('Daily Log'!#REF!,$B47,'Daily Log'!#REF!),0)","v":0},{"$f":"IFERROR($E47*SUMIF('Daily Log'!#REF!,$B47,'Daily Log'!#REF!),0)","v":0},{"$f":"IFERROR($E47*SUMIF('Daily Log'!#REF!,$B47,'Daily Log'!#REF!),0)","v":0},{"$f":"IFERROR($E47*SUMIF('Daily Log'!#REF!,$B47,'Daily Log'!#REF!),0)","v":0},{"$f":"IFERROR($E47*SUMIF('Daily Log'!#REF!,$B47,'Daily Log'!#REF!),0)","v":0},{"$f":"IFERROR($E47*SUMIF('Daily Log'!#REF!,$B47,'Daily Log'!#REF!),0)","v":0},{"$f":"IFERROR($E47*SUMIF('Daily Log'!#REF!,$B47,'Daily Log'!#REF!),0)","v":0},{"$f":"IFERROR($E47*SUMIF('Daily Log'!#REF!,$B47,'Daily Log'!#REF!),0)","v":0},{"$f":"IFERROR($E47*SUMIF('Daily Log'!#REF!,$B47,'Daily Log'!#REF!),0)","v":0},{"$f":"IFERROR($E47*SUMIF('Daily Log'!#REF!,$B47,'Daily Log'!#REF!),0)","v":0},{"$f":"IFERROR($E47*SUMIF('Daily Log'!#REF!,$B47,'Daily Log'!#REF!),0)","v":0},{"$f":"IFERROR($E47*SUMIF('Daily Log'!#REF!,$B47,'Daily Log'!#REF!),0)","v":0},{"$f":"IFERROR($E47*SUMIF('Daily Log'!#REF!,$B47,'Daily Log'!#REF!),0)","v":0},{"$f":"IFERROR($E47*SUMIF('Daily Log'!#REF!,$B47,'Daily Log'!#REF!),0)","v":0},{"$f":"IFERROR($E47*SUMIF('Daily Log'!#REF!,$B47,'Daily Log'!#REF!),0)","v":0},{"$f":"IFERROR($E47*SUMIF('Daily Log'!#REF!,$B47,'Daily Log'!#REF!),0)","v":0},{"$f":"IFERROR($E47*SUMIF('Daily Log'!#REF!,$B47,'Daily Log'!#REF!),0)","v":0},{"$f":"IFERROR($E47*SUMIF('Daily Log'!#REF!,$B47,'Daily Log'!#REF!),0)","v":0},{"$f":"IFERROR($E47*SUMIF('Daily Log'!#REF!,$B47,'Daily Log'!#REF!),0)","v":0},{"$f":"IFERROR($E47*SUMIF('Daily Log'!#REF!,$B47,'Daily Log'!#REF!),0)","v":0},{"$f":"IFERROR($E47*SUMIF('Daily Log'!#REF!,$B47,'Daily Log'!#REF!),0)","v":0}]
[null,"AA19 K : FOC HOUR",null,null,null,0,{"$f":"IFERROR($E48*SUMIF('Daily Log'!$B$18:$B$1017,$B48,'Daily Log'!$C$18:$C$1017),0)","v":0},{"$f":"IFERROR($E48*SUMIF('Daily Log'!$E$18:$E$1017,$B48,'Daily Log'!$F$18:$F$1017),0)","v":0},{"$f":"IFERROR($E48*SUMIF('Daily Log'!$H$18:$H$1017,$B48,'Daily Log'!$I$18:$I$1017),0)","v":0},{"$f":"IFERROR($E48*SUMIF('Daily Log'!$K$18:$K$1017,$B48,'Daily Log'!$L$18:$L$1017),0)","v":0},{"$f":"IFERROR($E48*SUMIF('Daily Log'!$N$18:$N$1017,$B48,'Daily Log'!$O$18:$O$1017),0)","v":0},{"$f":"IFERROR($E48*SUMIF('Daily Log'!#REF!,$B48,'Daily Log'!#REF!),0)","v":0},{"$f":"IFERROR($E48*SUMIF('Daily Log'!#REF!,$B48,'Daily Log'!#REF!),0)","v":0},{"$f":"IFERROR($E48*SUMIF('Daily Log'!#REF!,$B48,'Daily Log'!#REF!),0)","v":0},{"$f":"IFERROR($E48*SUMIF('Daily Log'!#REF!,$B48,'Daily Log'!#REF!),0)","v":0},{"$f":"IFERROR($E48*SUMIF('Daily Log'!#REF!,$B48,'Daily Log'!#REF!),0)","v":0},{"$f":"IFERROR($E48*SUMIF('Daily Log'!#REF!,$B48,'Daily Log'!#REF!),0)","v":0},{"$f":"IFERROR($E48*SUMIF('Daily Log'!#REF!,$B48,'Daily Log'!#REF!),0)","v":0},{"$f":"IFERROR($E48*SUMIF('Daily Log'!#REF!,$B48,'Daily Log'!#REF!),0)","v":0},{"$f":"IFERROR($E48*SUMIF('Daily Log'!#REF!,$B48,'Daily Log'!#REF!),0)","v":0},{"$f":"IFERROR($E48*SUMIF('Daily Log'!#REF!,$B48,'Daily Log'!#REF!),0)","v":0},{"$f":"IFERROR($E48*SUMIF('Daily Log'!#REF!,$B48,'Daily Log'!#REF!),0)","v":0},{"$f":"IFERROR($E48*SUMIF('Daily Log'!#REF!,$B48,'Daily Log'!#REF!),0)","v":0},{"$f":"IFERROR($E48*SUMIF('Daily Log'!#REF!,$B48,'Daily Log'!#REF!),0)","v":0},{"$f":"IFERROR($E48*SUMIF('Daily Log'!#REF!,$B48,'Daily Log'!#REF!),0)","v":0},{"$f":"IFERROR($E48*SUMIF('Daily Log'!#REF!,$B48,'Daily Log'!#REF!),0)","v":0},{"$f":"IFERROR($E48*SUMIF('Daily Log'!#REF!,$B48,'Daily Log'!#REF!),0)","v":0},{"$f":"IFERROR($E48*SUMIF('Daily Log'!#REF!,$B48,'Daily Log'!#REF!),0)","v":0},{"$f":"IFERROR($E48*SUMIF('Daily Log'!#REF!,$B48,'Daily Log'!#REF!),0)","v":0},{"$f":"IFERROR($E48*SUMIF('Daily Log'!#REF!,$B48,'Daily Log'!#REF!),0)","v":0},{"$f":"IFERROR($E48*SUMIF('Daily Log'!#REF!,$B48,'Daily Log'!#REF!),0)","v":0},{"$f":"IFERROR($E48*SUMIF('Daily Log'!#REF!,$B48,'Daily Log'!#REF!),0)","v":0},{"$f":"IFERROR($E48*SUMIF('Daily Log'!#REF!,$B48,'Daily Log'!#REF!),0)","v":0},{"$f":"IFERROR($E48*SUMIF('Daily Log'!#REF!,$B48,'Daily Log'!#REF!),0)","v":0},{"$f":"IFERROR($E48*SUMIF('Daily Log'!#REF!,$B48,'Daily Log'!#REF!),0)","v":0},{"$f":"IFERROR($E48*SUMIF('Daily Log'!#REF!,$B48,'Daily Log'!#REF!),0)","v":0},{"$f":"IFERROR($E48*SUMIF('Daily Log'!#REF!,$B48,'Daily Log'!#REF!),0)","v":0}]
[null,"AA20 K : GROUPON",null,null,null,0,{"$f":"IFERROR($E49*SUMIF('Daily Log'!$B$18:$B$1017,$B49,'Daily Log'!$C$18:$C$1017),0)","v":0},{"$f":"IFERROR($E49*SUMIF('Daily Log'!$E$18:$E$1017,$B49,'Daily Log'!$F$18:$F$1017),0)","v":0},{"$f":"IFERROR($E49*SUMIF('Daily Log'!$H$18:$H$1017,$B49,'Daily Log'!$I$18:$I$1017),0)","v":0},{"$f":"IFERROR($E49*SUMIF('Daily Log'!$K$18:$K$1017,$B49,'Daily Log'!$L$18:$L$1017),0)","v":0},{"$f":"IFERROR($E49*SUMIF('Daily Log'!$N$18:$N$1017,$B49,'Daily Log'!$O$18:$O$1017),0)","v":0},{"$f":"IFERROR($E49*SUMIF('Daily Log'!#REF!,$B49,'Daily Log'!#REF!),0)","v":0},{"$f":"IFERROR($E49*SUMIF('Daily Log'!#REF!,$B49,'Daily Log'!#REF!),0)","v":0},{"$f":"IFERROR($E49*SUMIF('Daily Log'!#REF!,$B49,'Daily Log'!#REF!),0)","v":0},{"$f":"IFERROR($E49*SUMIF('Daily Log'!#REF!,$B49,'Daily Log'!#REF!),0)","v":0},{"$f":"IFERROR($E49*SUMIF('Daily Log'!#REF!,$B49,'Daily Log'!#REF!),0)","v":0},{"$f":"IFERROR($E49*SUMIF('Daily Log'!#REF!,$B49,'Daily Log'!#REF!),0)","v":0},{"$f":"IFERROR($E49*SUMIF('Daily Log'!#REF!,$B49,'Daily Log'!#REF!),0)","v":0},{"$f":"IFERROR($E49*SUMIF('Daily Log'!#REF!,$B49,'Daily Log'!#REF!),0)","v":0},{"$f":"IFERROR($E49*SUMIF('Daily Log'!#REF!,$B49,'Daily Log'!#REF!),0)","v":0},{"$f":"IFERROR($E49*SUMIF('Daily Log'!#REF!,$B49,'Daily Log'!#REF!),0)","v":0},{"$f":"IFERROR($E49*SUMIF('Daily Log'!#REF!,$B49,'Daily Log'!#REF!),0)","v":0},{"$f":"IFERROR($E49*SUMIF('Daily Log'!#REF!,$B49,'Daily Log'!#REF!),0)","v":0},{"$f":"IFERROR($E49*SUMIF('Daily Log'!#REF!,$B49,'Daily Log'!#REF!),0)","v":0},{"$f":"IFERROR($E49*SUMIF('Daily Log'!#REF!,$B49,'Daily Log'!#REF!),0)","v":0},{"$f":"IFERROR($E49*SUMIF('Daily Log'!#REF!,$B49,'Daily Log'!#REF!),0)","v":0},{"$f":"IFERROR($E49*SUMIF('Daily Log'!#REF!,$B49,'Daily Log'!#REF!),0)","v":0},{"$f":"IFERROR($E49*SUMIF('Daily Log'!#REF!,$B49,'Daily Log'!#REF!),0)","v":0},{"$f":"IFERROR($E49*SUMIF('Daily Log'!#REF!,$B49,'Daily Log'!#REF!),0)","v":0},{"$f":"IFERROR($E49*SUMIF('Daily Log'!#REF!,$B49,'Daily Log'!#REF!),0)","v":0},{"$f":"IFERROR($E49*SUMIF('Daily Log'!#REF!,$B49,'Daily Log'!#REF!),0)","v":0},{"$f":"IFERROR($E49*SUMIF('Daily Log'!#REF!,$B49,'Daily Log'!#REF!),0)","v":0},{"$f":"IFERROR($E49*SUMIF('Daily Log'!#REF!,$B49,'Daily Log'!#REF!),0)","v":0},{"$f":"IFERROR($E49*SUMIF('Daily Log'!#REF!,$B49,'Daily Log'!#REF!),0)","v":0},{"$f":"IFERROR($E49*SUMIF('Daily Log'!#REF!,$B49,'Daily Log'!#REF!),0)","v":0},{"$f":"IFERROR($E49*SUMIF('Daily Log'!#REF!,$B49,'Daily Log'!#REF!),0)","v":0},{"$f":"IFERROR($E49*SUMIF('Daily Log'!#REF!,$B49,'Daily Log'!#REF!),0)","v":0}]
[null,"AA22 K : One FM 208",null,null,null,0,{"$f":"IFERROR($E50*SUMIF('Daily Log'!$B$18:$B$1017,$B50,'Daily Log'!$C$18:$C$1017),0)","v":0},{"$f":"IFERROR($E50*SUMIF('Daily Log'!$E$18:$E$1017,$B50,'Daily Log'!$F$18:$F$1017),0)","v":0},{"$f":"IFERROR($E50*SUMIF('Daily Log'!$H$18:$H$1017,$B50,'Daily Log'!$I$18:$I$1017),0)","v":0},{"$f":"IFERROR($E50*SUMIF('Daily Log'!$K$18:$K$1017,$B50,'Daily Log'!$L$18:$L$1017),0)","v":0},{"$f":"IFERROR($E50*SUMIF('Daily Log'!$N$18:$N$1017,$B50,'Daily Log'!$O$18:$O$1017),0)","v":0},{"$f":"IFERROR($E50*SUMIF('Daily Log'!#REF!,$B50,'Daily Log'!#REF!),0)","v":0},{"$f":"IFERROR($E50*SUMIF('Daily Log'!#REF!,$B50,'Daily Log'!#REF!),0)","v":0},{"$f":"IFERROR($E50*SUMIF('Daily Log'!#REF!,$B50,'Daily Log'!#REF!),0)","v":0},{"$f":"IFERROR($E50*SUMIF('Daily Log'!#REF!,$B50,'Daily Log'!#REF!),0)","v":0},{"$f":"IFERROR($E50*SUMIF('Daily Log'!#REF!,$B50,'Daily Log'!#REF!),0)","v":0},{"$f":"IFERROR($E50*SUMIF('Daily Log'!#REF!,$B50,'Daily Log'!#REF!),0)","v":0},{"$f":"IFERROR($E50*SUMIF('Daily Log'!#REF!,$B50,'Daily Log'!#REF!),0)","v":0},{"$f":"IFERROR($E50*SUMIF('Daily Log'!#REF!,$B50,'Daily Log'!#REF!),0)","v":0},{"$f":"IFERROR($E50*SUMIF('Daily Log'!#REF!,$B50,'Daily Log'!#REF!),0)","v":0},{"$f":"IFERROR($E50*SUMIF('Daily Log'!#REF!,$B50,'Daily Log'!#REF!),0)","v":0},{"$f":"IFERROR($E50*SUMIF('Daily Log'!#REF!,$B50,'Daily Log'!#REF!),0)","v":0},{"$f":"IFERROR($E50*SUMIF('Daily Log'!#REF!,$B50,'Daily Log'!#REF!),0)","v":0},{"$f":"IFERROR($E50*SUMIF('Daily Log'!#REF!,$B50,'Daily Log'!#REF!),0)","v":0},{"$f":"IFERROR($E50*SUMIF('Daily Log'!#REF!,$B50,'Daily Log'!#REF!),0)","v":0},{"$f":"IFERROR($E50*SUMIF('Daily Log'!#REF!,$B50,'Daily Log'!#REF!),0)","v":0},{"$f":"IFERROR($E50*SUMIF('Daily Log'!#REF!,$B50,'Daily Log'!#REF!),0)","v":0},{"$f":"IFERROR($E50*SUMIF('Daily Log'!#REF!,$B50,'Daily Log'!#REF!),0)","v":0},{"$f":"IFERROR($E50*SUMIF('Daily Log'!#REF!,$B50,'Daily Log'!#REF!),0)","v":0},{"$f":"IFERROR($E50*SUMIF('Daily Log'!#REF!,$B50,'Daily Log'!#REF!),0)","v":0},{"$f":"IFERROR($E50*SUMIF('Daily Log'!#REF!,$B50,'Daily Log'!#REF!),0)","v":0},{"$f":"IFERROR($E50*SUMIF('Daily Log'!#REF!,$B50,'Daily Log'!#REF!),0)","v":0},{"$f":"IFERROR($E50*SUMIF('Daily Log'!#REF!,$B50,'Daily Log'!#REF!),0)","v":0},{"$f":"IFERROR($E50*SUMIF('Daily Log'!#REF!,$B50,'Daily Log'!#REF!),0)","v":0},{"$f":"IFERROR($E50*SUMIF('Daily Log'!#REF!,$B50,'Daily Log'!#REF!),0)","v":0},{"$f":"IFERROR($E50*SUMIF('Daily Log'!#REF!,$B50,'Daily Log'!#REF!),0)","v":0},{"$f":"IFERROR($E50*SUMIF('Daily Log'!#REF!,$B50,'Daily Log'!#REF!),0)","v":0}]
[null,"AA23 K:Student Mem",null,null,null,0,{"$f":"IFERROR($E51*SUMIF('Daily Log'!$B$18:$B$1017,$B51,'Daily Log'!$C$18:$C$1017),0)","v":0},{"$f":"IFERROR($E51*SUMIF('Daily Log'!$E$18:$E$1017,$B51,'Daily Log'!$F$18:$F$1017),0)","v":0},{"$f":"IFERROR($E51*SUMIF('Daily Log'!$H$18:$H$1017,$B51,'Daily Log'!$I$18:$I$1017),0)","v":0},{"$f":"IFERROR($E51*SUMIF('Daily Log'!$K$18:$K$1017,$B51,'Daily Log'!$L$18:$L$1017),0)","v":0},{"$f":"IFERROR($E51*SUMIF('Daily Log'!$N$18:$N$1017,$B51,'Daily Log'!$O$18:$O$1017),0)","v":0},{"$f":"IFERROR($E51*SUMIF('Daily Log'!#REF!,$B51,'Daily Log'!#REF!),0)","v":0},{"$f":"IFERROR($E51*SUMIF('Daily Log'!#REF!,$B51,'Daily Log'!#REF!),0)","v":0},{"$f":"IFERROR($E51*SUMIF('Daily Log'!#REF!,$B51,'Daily Log'!#REF!),0)","v":0},{"$f":"IFERROR($E51*SUMIF('Daily Log'!#REF!,$B51,'Daily Log'!#REF!),0)","v":0},{"$f":"IFERROR($E51*SUMIF('Daily Log'!#REF!,$B51,'Daily Log'!#REF!),0)","v":0},{"$f":"IFERROR($E51*SUMIF('Daily Log'!#REF!,$B51,'Daily Log'!#REF!),0)","v":0},{"$f":"IFERROR($E51*SUMIF('Daily Log'!#REF!,$B51,'Daily Log'!#REF!),0)","v":0},{"$f":"IFERROR($E51*SUMIF('Daily Log'!#REF!,$B51,'Daily Log'!#REF!),0)","v":0},{"$f":"IFERROR($E51*SUMIF('Daily Log'!#REF!,$B51,'Daily Log'!#REF!),0)","v":0},{"$f":"IFERROR($E51*SUMIF('Daily Log'!#REF!,$B51,'Daily Log'!#REF!),0)","v":0},{"$f":"IFERROR($E51*SUMIF('Daily Log'!#REF!,$B51,'Daily Log'!#REF!),0)","v":0},{"$f":"IFERROR($E51*SUMIF('Daily Log'!#REF!,$B51,'Daily Log'!#REF!),0)","v":0},{"$f":"IFERROR($E51*SUMIF('Daily Log'!#REF!,$B51,'Daily Log'!#REF!),0)","v":0},{"$f":"IFERROR($E51*SUMIF('Daily Log'!#REF!,$B51,'Daily Log'!#REF!),0)","v":0},{"$f":"IFERROR($E51*SUMIF('Daily Log'!#REF!,$B51,'Daily Log'!#REF!),0)","v":0},{"$f":"IFERROR($E51*SUMIF('Daily Log'!#REF!,$B51,'Daily Log'!#REF!),0)","v":0},{"$f":"IFERROR($E51*SUMIF('Daily Log'!#REF!,$B51,'Daily Log'!#REF!),0)","v":0},{"$f":"IFERROR($E51*SUMIF('Daily Log'!#REF!,$B51,'Daily Log'!#REF!),0)","v":0},{"$f":"IFERROR($E51*SUMIF('Daily Log'!#REF!,$B51,'Daily Log'!#REF!),0)","v":0},{"$f":"IFERROR($E51*SUMIF('Daily Log'!#REF!,$B51,'Daily Log'!#REF!),0)","v":0},{"$f":"IFERROR($E51*SUMIF('Daily Log'!#REF!,$B51,'Daily Log'!#REF!),0)","v":0},{"$f":"IFERROR($E51*SUMIF('Daily Log'!#REF!,$B51,'Daily Log'!#REF!),0)","v":0},{"$f":"IFERROR($E51*SUMIF('Daily Log'!#REF!,$B51,'Daily Log'!#REF!),0)","v":0},{"$f":"IFERROR($E51*SUMIF('Daily Log'!#REF!,$B51,'Daily Log'!#REF!),0)","v":0},{"$f":"IFERROR($E51*SUMIF('Daily Log'!#REF!,$B51,'Daily Log'!#REF!),0)","v":0},{"$f":"IFERROR($E51*SUMIF('Daily Log'!#REF!,$B51,'Daily Log'!#REF!),0)","v":0}]
[null,"AA25 K : iGOT DIS 3+1",null,null,null,0,{"$f":"IFERROR($E52*SUMIF('Daily Log'!$B$18:$B$1017,$B52,'Daily Log'!$C$18:$C$1017),0)","v":0},{"$f":"IFERROR($E52*SUMIF('Daily Log'!$E$18:$E$1017,$B52,'Daily Log'!$F$18:$F$1017),0)","v":0},{"$f":"IFERROR($E52*SUMIF('Daily Log'!$H$18:$H$1017,$B52,'Daily Log'!$I$18:$I$1017),0)","v":0},{"$f":"IFERROR($E52*SUMIF('Daily Log'!$K$18:$K$1017,$B52,'Daily Log'!$L$18:$L$1017),0)","v":0},{"$f":"IFERROR($E52*SUMIF('Daily Log'!$N$18:$N$1017,$B52,'Daily Log'!$O$18:$O$1017),0)","v":0},{"$f":"IFERROR($E52*SUMIF('Daily Log'!#REF!,$B52,'Daily Log'!#REF!),0)","v":0},{"$f":"IFERROR($E52*SUMIF('Daily Log'!#REF!,$B52,'Daily Log'!#REF!),0)","v":0},{"$f":"IFERROR($E52*SUMIF('Daily Log'!#REF!,$B52,'Daily Log'!#REF!),0)","v":0},{"$f":"IFERROR($E52*SUMIF('Daily Log'!#REF!,$B52,'Daily Log'!#REF!),0)","v":0},{"$f":"IFERROR($E52*SUMIF('Daily Log'!#REF!,$B52,'Daily Log'!#REF!),0)","v":0},{"$f":"IFERROR($E52*SUMIF('Daily Log'!#REF!,$B52,'Daily Log'!#REF!),0)","v":0},{"$f":"IFERROR($E52*SUMIF('Daily Log'!#REF!,$B52,'Daily Log'!#REF!),0)","v":0},{"$f":"IFERROR($E52*SUMIF('Daily Log'!#REF!,$B52,'Daily Log'!#REF!),0)","v":0},{"$f":"IFERROR($E52*SUMIF('Daily Log'!#REF!,$B52,'Daily Log'!#REF!),0)","v":0},{"$f":"IFERROR($E52*SUMIF('Daily Log'!#REF!,$B52,'Daily Log'!#REF!),0)","v":0},{"$f":"IFERROR($E52*SUMIF('Daily Log'!#REF!,$B52,'Daily Log'!#REF!),0)","v":0},{"$f":"IFERROR($E52*SUMIF('Daily Log'!#REF!,$B52,'Daily Log'!#REF!),0)","v":0},{"$f":"IFERROR($E52*SUMIF('Daily Log'!#REF!,$B52,'Daily Log'!#REF!),0)","v":0},{"$f":"IFERROR($E52*SUMIF('Daily Log'!#REF!,$B52,'Daily Log'!#REF!),0)","v":0},{"$f":"IFERROR($E52*SUMIF('Daily Log'!#REF!,$B52,'Daily Log'!#REF!),0)","v":0},{"$f":"IFERROR($E52*SUMIF('Daily Log'!#REF!,$B52,'Daily Log'!#REF!),0)","v":0},{"$f":"IFERROR($E52*SUMIF('Daily Log'!#REF!,$B52,'Daily Log'!#REF!),0)","v":0},{"$f":"IFERROR($E52*SUMIF('Daily Log'!#REF!,$B52,'Daily Log'!#REF!),0)","v":0},{"$f":"IFERROR($E52*SUMIF('Daily Log'!#REF!,$B52,'Daily Log'!#REF!),0)","v":0},{"$f":"IFERROR($E52*SUMIF('Daily Log'!#REF!,$B52,'Daily Log'!#REF!),0)","v":0},{"$f":"IFERROR($E52*SUMIF('Daily Log'!#REF!,$B52,'Daily Log'!#REF!),0)","v":0},{"$f":"IFERROR($E52*SUMIF('Daily Log'!#REF!,$B52,'Daily Log'!#REF!),0)","v":0},{"$f":"IFERROR($E52*SUMIF('Daily Log'!#REF!,$B52,'Daily Log'!#REF!),0)","v":0},{"$f":"IFERROR($E52*SUMIF('Daily Log'!#REF!,$B52,'Daily Log'!#REF!),0)","v":0},{"$f":"IFERROR($E52*SUMIF('Daily Log'!#REF!,$B52,'Daily Log'!#REF!),0)","v":0},{"$f":"IFERROR($E52*SUMIF('Daily Log'!#REF!,$B52,'Daily Log'!#REF!),0)","v":0}]
[null,"AB01 H : REGULAR",null,null,null,0,{"$f":"IFERROR($E53*SUMIF('Daily Log'!$B$18:$B$1017,$B53,'Daily Log'!$C$18:$C$1017),0)","v":0},{"$f":"IFERROR($E53*SUMIF('Daily Log'!$E$18:$E$1017,$B53,'Daily Log'!$F$18:$F$1017),0)","v":0},{"$f":"IFERROR($E53*SUMIF('Daily Log'!$H$18:$H$1017,$B53,'Daily Log'!$I$18:$I$1017),0)","v":0},{"$f":"IFERROR($E53*SUMIF('Daily Log'!$K$18:$K$1017,$B53,'Daily Log'!$L$18:$L$1017),0)","v":0},{"$f":"IFERROR($E53*SUMIF('Daily Log'!$N$18:$N$1017,$B53,'Daily Log'!$O$18:$O$1017),0)","v":0},{"$f":"IFERROR($E53*SUMIF('Daily Log'!#REF!,$B53,'Daily Log'!#REF!),0)","v":0},{"$f":"IFERROR($E53*SUMIF('Daily Log'!#REF!,$B53,'Daily Log'!#REF!),0)","v":0},{"$f":"IFERROR($E53*SUMIF('Daily Log'!#REF!,$B53,'Daily Log'!#REF!),0)","v":0},{"$f":"IFERROR($E53*SUMIF('Daily Log'!#REF!,$B53,'Daily Log'!#REF!),0)","v":0},{"$f":"IFERROR($E53*SUMIF('Daily Log'!#REF!,$B53,'Daily Log'!#REF!),0)","v":0},{"$f":"IFERROR($E53*SUMIF('Daily Log'!#REF!,$B53,'Daily Log'!#REF!),0)","v":0},{"$f":"IFERROR($E53*SUMIF('Daily Log'!#REF!,$B53,'Daily Log'!#REF!),0)","v":0},{"$f":"IFERROR($E53*SUMIF('Daily Log'!#REF!,$B53,'Daily Log'!#REF!),0)","v":0},{"$f":"IFERROR($E53*SUMIF('Daily Log'!#REF!,$B53,'Daily Log'!#REF!),0)","v":0},{"$f":"IFERROR($E53*SUMIF('Daily Log'!#REF!,$B53,'Daily Log'!#REF!),0)","v":0},{"$f":"IFERROR($E53*SUMIF('Daily Log'!#REF!,$B53,'Daily Log'!#REF!),0)","v":0},{"$f":"IFERROR($E53*SUMIF('Daily Log'!#REF!,$B53,'Daily Log'!#REF!),0)","v":0},{"$f":"IFERROR($E53*SUMIF('Daily Log'!#REF!,$B53,'Daily Log'!#REF!),0)","v":0},{"$f":"IFERROR($E53*SUMIF('Daily Log'!#REF!,$B53,'Daily Log'!#REF!),0)","v":0},{"$f":"IFERROR($E53*SUMIF('Daily Log'!#REF!,$B53,'Daily Log'!#REF!),0)","v":0},{"$f":"IFERROR($E53*SUMIF('Daily Log'!#REF!,$B53,'Daily Log'!#REF!),0)","v":0},{"$f":"IFERROR($E53*SUMIF('Daily Log'!#REF!,$B53,'Daily Log'!#REF!),0)","v":0},{"$f":"IFERROR($E53*SUMIF('Daily Log'!#REF!,$B53,'Daily Log'!#REF!),0)","v":0},{"$f":"IFERROR($E53*SUMIF('Daily Log'!#REF!,$B53,'Daily Log'!#REF!),0)","v":0},{"$f":"IFERROR($E53*SUMIF('Daily Log'!#REF!,$B53,'Daily Log'!#REF!),0)","v":0},{"$f":"IFERROR($E53*SUMIF('Daily Log'!#REF!,$B53,'Daily Log'!#REF!),0)","v":0},{"$f":"IFERROR($E53*SUMIF('Daily Log'!#REF!,$B53,'Daily Log'!#REF!),0)","v":0},{"$f":"IFERROR($E53*SUMIF('Daily Log'!#REF!,$B53,'Daily Log'!#REF!),0)","v":0},{"$f":"IFERROR($E53*SUMIF('Daily Log'!#REF!,$B53,'Daily Log'!#REF!),0)","v":0},{"$f":"IFERROR($E53*SUMIF('Daily Log'!#REF!,$B53,'Daily Log'!#REF!),0)","v":0},{"$f":"IFERROR($E53*SUMIF('Daily Log'!#REF!,$B53,'Daily Log'!#REF!),0)","v":0}]
[null,"AB02 H : MEMBER",null,null,null,0,{"$f":"IFERROR($E54*SUMIF('Daily Log'!$B$18:$B$1017,$B54,'Daily Log'!$C$18:$C$1017),0)","v":0},{"$f":"IFERROR($E54*SUMIF('Daily Log'!$E$18:$E$1017,$B54,'Daily Log'!$F$18:$F$1017),0)","v":0},{"$f":"IFERROR($E54*SUMIF('Daily Log'!$H$18:$H$1017,$B54,'Daily Log'!$I$18:$I$1017),0)","v":0},{"$f":"IFERROR($E54*SUMIF('Daily Log'!$K$18:$K$1017,$B54,'Daily Log'!$L$18:$L$1017),0)","v":0},{"$f":"IFERROR($E54*SUMIF('Daily Log'!$N$18:$N$1017,$B54,'Daily Log'!$O$18:$O$1017),0)","v":0},{"$f":"IFERROR($E54*SUMIF('Daily Log'!#REF!,$B54,'Daily Log'!#REF!),0)","v":0},{"$f":"IFERROR($E54*SUMIF('Daily Log'!#REF!,$B54,'Daily Log'!#REF!),0)","v":0},{"$f":"IFERROR($E54*SUMIF('Daily Log'!#REF!,$B54,'Daily Log'!#REF!),0)","v":0},{"$f":"IFERROR($E54*SUMIF('Daily Log'!#REF!,$B54,'Daily Log'!#REF!),0)","v":0},{"$f":"IFERROR($E54*SUMIF('Daily Log'!#REF!,$B54,'Daily Log'!#REF!),0)","v":0},{"$f":"IFERROR($E54*SUMIF('Daily Log'!#REF!,$B54,'Daily Log'!#REF!),0)","v":0},{"$f":"IFERROR($E54*SUMIF('Daily Log'!#REF!,$B54,'Daily Log'!#REF!),0)","v":0},{"$f":"IFERROR($E54*SUMIF('Daily Log'!#REF!,$B54,'Daily Log'!#REF!),0)","v":0},{"$f":"IFERROR($E54*SUMIF('Daily Log'!#REF!,$B54,'Daily Log'!#REF!),0)","v":0},{"$f":"IFERROR($E54*SUMIF('Daily Log'!#REF!,$B54,'Daily Log'!#REF!),0)","v":0},{"$f":"IFERROR($E54*SUMIF('Daily Log'!#REF!,$B54,'Daily Log'!#REF!),0)","v":0},{"$f":"IFERROR($E54*SUMIF('Daily Log'!#REF!,$B54,'Daily Log'!#REF!),0)","v":0},{"$f":"IFERROR($E54*SUMIF('Daily Log'!#REF!,$B54,'Daily Log'!#REF!),0)","v":0},{"$f":"IFERROR($E54*SUMIF('Daily Log'!#REF!,$B54,'Daily Log'!#REF!),0)","v":0},{"$f":"IFERROR($E54*SUMIF('Daily Log'!#REF!,$B54,'Daily Log'!#REF!),0)","v":0},{"$f":"IFERROR($E54*SUMIF('Daily Log'!#REF!,$B54,'Daily Log'!#REF!),0)","v":0},{"$f":"IFERROR($E54*SUMIF('Daily Log'!#REF!,$B54,'Daily Log'!#REF!),0)","v":0},{"$f":"IFERROR($E54*SUMIF('Daily Log'!#REF!,$B54,'Daily Log'!#REF!),0)","v":0},{"$f":"IFERROR($E54*SUMIF('Daily Log'!#REF!,$B54,'Daily Log'!#REF!),0)","v":0},{"$f":"IFERROR($E54*SUMIF('Daily Log'!#REF!,$B54,'Daily Log'!#REF!),0)","v":0},{"$f":"IFERROR($E54*SUMIF('Daily Log'!#REF!,$B54,'Daily Log'!#REF!),0)","v":0},{"$f":"IFERROR($E54*SUMIF('Daily Log'!#REF!,$B54,'Daily Log'!#REF!),0)","v":0},{"$f":"IFERROR($E54*SUMIF('Daily Log'!#REF!,$B54,'Daily Log'!#REF!),0)","v":0},{"$f":"IFERROR($E54*SUMIF('Daily Log'!#REF!,$B54,'Daily Log'!#REF!),0)","v":0},{"$f":"IFERROR($E54*SUMIF('Daily Log'!#REF!,$B54,'Daily Log'!#REF!),0)","v":0},{"$f":"IFERROR($E54*SUMIF('Daily Log'!#REF!,$B54,'Daily Log'!#REF!),0)","v":0}]
[null,"AB03 H : MEMBER 30%",null,null,null,0,{"$f":"IFERROR($E55*SUMIF('Daily Log'!$B$18:$B$1017,$B55,'Daily Log'!$C$18:$C$1017),0)","v":0},{"$f":"IFERROR($E55*SUMIF('Daily Log'!$E$18:$E$1017,$B55,'Daily Log'!$F$18:$F$1017),0)","v":0},{"$f":"IFERROR($E55*SUMIF('Daily Log'!$H$18:$H$1017,$B55,'Daily Log'!$I$18:$I$1017),0)","v":0},{"$f":"IFERROR($E55*SUMIF('Daily Log'!$K$18:$K$1017,$B55,'Daily Log'!$L$18:$L$1017),0)","v":0},{"$f":"IFERROR($E55*SUMIF('Daily Log'!$N$18:$N$1017,$B55,'Daily Log'!$O$18:$O$1017),0)","v":0},{"$f":"IFERROR($E55*SUMIF('Daily Log'!#REF!,$B55,'Daily Log'!#REF!),0)","v":0},{"$f":"IFERROR($E55*SUMIF('Daily Log'!#REF!,$B55,'Daily Log'!#REF!),0)","v":0},{"$f":"IFERROR($E55*SUMIF('Daily Log'!#REF!,$B55,'Daily Log'!#REF!),0)","v":0},{"$f":"IFERROR($E55*SUMIF('Daily Log'!#REF!,$B55,'Daily Log'!#REF!),0)","v":0},{"$f":"IFERROR($E55*SUMIF('Daily Log'!#REF!,$B55,'Daily Log'!#REF!),0)","v":0},{"$f":"IFERROR($E55*SUMIF('Daily Log'!#REF!,$B55,'Daily Log'!#REF!),0)","v":0},{"$f":"IFERROR($E55*SUMIF('Daily Log'!#REF!,$B55,'Daily Log'!#REF!),0)","v":0},{"$f":"IFERROR($E55*SUMIF('Daily Log'!#REF!,$B55,'Daily Log'!#REF!),0)","v":0},{"$f":"IFERROR($E55*SUMIF('Daily Log'!#REF!,$B55,'Daily Log'!#REF!),0)","v":0},{"$f":"IFERROR($E55*SUMIF('Daily Log'!#REF!,$B55,'Daily Log'!#REF!),0)","v":0},{"$f":"IFERROR($E55*SUMIF('Daily Log'!#REF!,$B55,'Daily Log'!#REF!),0)","v":0},{"$f":"IFERROR($E55*SUMIF('Daily Log'!#REF!,$B55,'Daily Log'!#REF!),0)","v":0},{"$f":"IFERROR($E55*SUMIF('Daily Log'!#REF!,$B55,'Daily Log'!#REF!),0)","v":0},{"$f":"IFERROR($E55*SUMIF('Daily Log'!#REF!,$B55,'Daily Log'!#REF!),0)","v":0},{"$f":"IFERROR($E55*SUMIF('Daily Log'!#REF!,$B55,'Daily Log'!#REF!),0)","v":0},{"$f":"IFERROR($E55*SUMIF('Daily Log'!#REF!,$B55,'Daily Log'!#REF!),0)","v":0},{"$f":"IFERROR($E55*SUMIF('Daily Log'!#REF!,$B55,'Daily Log'!#REF!),0)","v":0},{"$f":"IFERROR($E55*SUMIF('Daily Log'!#REF!,$B55,'Daily Log'!#REF!),0)","v":0},{"$f":"IFERROR($E55*SUMIF('Daily Log'!#REF!,$B55,'Daily Log'!#REF!),0)","v":0},{"$f":"IFERROR($E55*SUMIF('Daily Log'!#REF!,$B55,'Daily Log'!#REF!),0)","v":0},{"$f":"IFERROR($E55*SUMIF('Daily Log'!#REF!,$B55,'Daily Log'!#REF!),0)","v":0},{"$f":"IFERROR($E55*SUMIF('Daily Log'!#REF!,$B55,'Daily Log'!#REF!),0)","v":0},{"$f":"IFERROR($E55*SUMIF('Daily Log'!#REF!,$B55,'Daily Log'!#REF!),0)","v":0},{"$f":"IFERROR($E55*SUMIF('Daily Log'!#REF!,$B55,'Daily Log'!#REF!),0)","v":0},{"$f":"IFERROR($E55*SUMIF('Daily Log'!#REF!,$B55,'Daily Log'!#REF!),0)","v":0},{"$f":"IFERROR($E55*SUMIF('Daily Log'!#REF!,$B55,'Daily Log'!#REF!),0)","v":0}]
[null,"AB04 H : CARI MEMBER",null,null,null,0,{"$f":"IFERROR($E56*SUMIF('Daily Log'!$B$18:$B$1017,$B56,'Daily Log'!$C$18:$C$1017),0)","v":0},{"$f":"IFERROR($E56*SUMIF('Daily Log'!$E$18:$E$1017,$B56,'Daily Log'!$F$18:$F$1017),0)","v":0},{"$f":"IFERROR($E56*SUMIF('Daily Log'!$H$18:$H$1017,$B56,'Daily Log'!$I$18:$I$1017),0)","v":0},{"$f":"IFERROR($E56*SUMIF('Daily Log'!$K$18:$K$1017,$B56,'Daily Log'!$L$18:$L$1017),0)","v":0},{"$f":"IFERROR($E56*SUMIF('Daily Log'!$N$18:$N$1017,$B56,'Daily Log'!$O$18:$O$1017),0)","v":0},{"$f":"IFERROR($E56*SUMIF('Daily Log'!#REF!,$B56,'Daily Log'!#REF!),0)","v":0},{"$f":"IFERROR($E56*SUMIF('Daily Log'!#REF!,$B56,'Daily Log'!#REF!),0)","v":0},{"$f":"IFERROR($E56*SUMIF('Daily Log'!#REF!,$B56,'Daily Log'!#REF!),0)","v":0},{"$f":"IFERROR($E56*SUMIF('Daily Log'!#REF!,$B56,'Daily Log'!#REF!),0)","v":0},{"$f":"IFERROR($E56*SUMIF('Daily Log'!#REF!,$B56,'Daily Log'!#REF!),0)","v":0},{"$f":"IFERROR($E56*SUMIF('Daily Log'!#REF!,$B56,'Daily Log'!#REF!),0)","v":0},{"$f":"IFERROR($E56*SUMIF('Daily Log'!#REF!,$B56,'Daily Log'!#REF!),0)","v":0},{"$f":"IFERROR($E56*SUMIF('Daily Log'!#REF!,$B56,'Daily Log'!#REF!),0)","v":0},{"$f":"IFERROR($E56*SUMIF('Daily Log'!#REF!,$B56,'Daily Log'!#REF!),0)","v":0},{"$f":"IFERROR($E56*SUMIF('Daily Log'!#REF!,$B56,'Daily Log'!#REF!),0)","v":0},{"$f":"IFERROR($E56*SUMIF('Daily Log'!#REF!,$B56,'Daily Log'!#REF!),0)","v":0},{"$f":"IFERROR($E56*SUMIF('Daily Log'!#REF!,$B56,'Daily Log'!#REF!),0)","v":0},{"$f":"IFERROR($E56*SUMIF('Daily Log'!#REF!,$B56,'Daily Log'!#REF!),0)","v":0},{"$f":"IFERROR($E56*SUMIF('Daily Log'!#REF!,$B56,'Daily Log'!#REF!),0)","v":0},{"$f":"IFERROR($E56*SUMIF('Daily Log'!#REF!,$B56,'Daily Log'!#REF!),0)","v":0},{"$f":"IFERROR($E56*SUMIF('Daily Log'!#REF!,$B56,'Daily Log'!#REF!),0)","v":0},{"$f":"IFERROR($E56*SUMIF('Daily Log'!#REF!,$B56,'Daily Log'!#REF!),0)","v":0},{"$f":"IFERROR($E56*SUMIF('Daily Log'!#REF!,$B56,'Daily Log'!#REF!),0)","v":0},{"$f":"IFERROR($E56*SUMIF('Daily Log'!#REF!,$B56,'Daily Log'!#REF!),0)","v":0},{"$f":"IFERROR($E56*SUMIF('Daily Log'!#REF!,$B56,'Daily Log'!#REF!),0)","v":0},{"$f":"IFERROR($E56*SUMIF('Daily Log'!#REF!,$B56,'Daily Log'!#REF!),0)","v":0},{"$f":"IFERROR($E56*SUMIF('Daily Log'!#REF!,$B56,'Daily Log'!#REF!),0)","v":0},{"$f":"IFERROR($E56*SUMIF('Daily Log'!#REF!,$B56,'Daily Log'!#REF!),0)","v":0},{"$f":"IFERROR($E56*SUMIF('Daily Log'!#REF!,$B56,'Daily Log'!#REF!),0)","v":0},{"$f":"IFERROR($E56*SUMIF('Daily Log'!#REF!,$B56,'Daily Log'!#REF!),0)","v":0},{"$f":"IFERROR($E56*SUMIF('Daily Log'!#REF!,$B56,'Daily Log'!#REF!),0)","v":0}]
[null,"AB05 H : STUDENT",null,null,null,0,{"$f":"IFERROR($E57*SUMIF('Daily Log'!$B$18:$B$1017,$B57,'Daily Log'!$C$18:$C$1017),0)","v":0},{"$f":"IFERROR($E57*SUMIF('Daily Log'!$E$18:$E$1017,$B57,'Daily Log'!$F$18:$F$1017),0)","v":0},{"$f":"IFERROR($E57*SUMIF('Daily Log'!$H$18:$H$1017,$B57,'Daily Log'!$I$18:$I$1017),0)","v":0},{"$f":"IFERROR($E57*SUMIF('Daily Log'!$K$18:$K$1017,$B57,'Daily Log'!$L$18:$L$1017),0)","v":0},{"$f":"IFERROR($E57*SUMIF('Daily Log'!$N$18:$N$1017,$B57,'Daily Log'!$O$18:$O$1017),0)","v":0},{"$f":"IFERROR($E57*SUMIF('Daily Log'!#REF!,$B57,'Daily Log'!#REF!),0)","v":0},{"$f":"IFERROR($E57*SUMIF('Daily Log'!#REF!,$B57,'Daily Log'!#REF!),0)","v":0},{"$f":"IFERROR($E57*SUMIF('Daily Log'!#REF!,$B57,'Daily Log'!#REF!),0)","v":0},{"$f":"IFERROR($E57*SUMIF('Daily Log'!#REF!,$B57,'Daily Log'!#REF!),0)","v":0},{"$f":"IFERROR($E57*SUMIF('Daily Log'!#REF!,$B57,'Daily Log'!#REF!),0)","v":0},{"$f":"IFERROR($E57*SUMIF('Daily Log'!#REF!,$B57,'Daily Log'!#REF!),0)","v":0},{"$f":"IFERROR($E57*SUMIF('Daily Log'!#REF!,$B57,'Daily Log'!#REF!),0)","v":0},{"$f":"IFERROR($E57*SUMIF('Daily Log'!#REF!,$B57,'Daily Log'!#REF!),0)","v":0},{"$f":"IFERROR($E57*SUMIF('Daily Log'!#REF!,$B57,'Daily Log'!#REF!),0)","v":0},{"$f":"IFERROR($E57*SUMIF('Daily Log'!#REF!,$B57,'Daily Log'!#REF!),0)","v":0},{"$f":"IFERROR($E57*SUMIF('Daily Log'!#REF!,$B57,'Daily Log'!#REF!),0)","v":0},{"$f":"IFERROR($E57*SUMIF('Daily Log'!#REF!,$B57,'Daily Log'!#REF!),0)","v":0},{"$f":"IFERROR($E57*SUMIF('Daily Log'!#REF!,$B57,'Daily Log'!#REF!),0)","v":0},{"$f":"IFERROR($E57*SUMIF('Daily Log'!#REF!,$B57,'Daily Log'!#REF!),0)","v":0},{"$f":"IFERROR($E57*SUMIF('Daily Log'!#REF!,$B57,'Daily Log'!#REF!),0)","v":0},{"$f":"IFERROR($E57*SUMIF('Daily Log'!#REF!,$B57,'Daily Log'!#REF!),0)","v":0},{"$f":"IFERROR($E57*SUMIF('Daily Log'!#REF!,$B57,'Daily Log'!#REF!),0)","v":0},{"$f":"IFERROR($E57*SUMIF('Daily Log'!#REF!,$B57,'Daily Log'!#REF!),0)","v":0},{"$f":"IFERROR($E57*SUMIF('Daily Log'!#REF!,$B57,'Daily Log'!#REF!),0)","v":0},{"$f":"IFERROR($E57*SUMIF('Daily Log'!#REF!,$B57,'Daily Log'!#REF!),0)","v":0},{"$f":"IFERROR($E57*SUMIF('Daily Log'!#REF!,$B57,'Daily Log'!#REF!),0)","v":0},{"$f":"IFERROR($E57*SUMIF('Daily Log'!#REF!,$B57,'Daily Log'!#REF!),0)","v":0},{"$f":"IFERROR($E57*SUMIF('Daily Log'!#REF!,$B57,'Daily Log'!#REF!),0)","v":0},{"$f":"IFERROR($E57*SUMIF('Daily Log'!#REF!,$B57,'Daily Log'!#REF!),0)","v":0},{"$f":"IFERROR($E57*SUMIF('Daily Log'!#REF!,$B57,'Daily Log'!#REF!),0)","v":0},{"$f":"IFERROR($E57*SUMIF('Daily Log'!#REF!,$B57,'Daily Log'!#REF!),0)","v":0}]
[null,"AB06 H : SENIOR",null,null,null,0,{"$f":"IFERROR($E58*SUMIF('Daily Log'!$B$18:$B$1017,$B58,'Daily Log'!$C$18:$C$1017),0)","v":0},{"$f":"IFERROR($E58*SUMIF('Daily Log'!$E$18:$E$1017,$B58,'Daily Log'!$F$18:$F$1017),0)","v":0},{"$f":"IFERROR($E58*SUMIF('Daily Log'!$H$18:$H$1017,$B58,'Daily Log'!$I$18:$I$1017),0)","v":0},{"$f":"IFERROR($E58*SUMIF('Daily Log'!$K$18:$K$1017,$B58,'Daily Log'!$L$18:$L$1017),0)","v":0},{"$f":"IFERROR($E58*SUMIF('Daily Log'!$N$18:$N$1017,$B58,'Daily Log'!$O$18:$O$1017),0)","v":0},{"$f":"IFERROR($E58*SUMIF('Daily Log'!#REF!,$B58,'Daily Log'!#REF!),0)","v":0},{"$f":"IFERROR($E58*SUMIF('Daily Log'!#REF!,$B58,'Daily Log'!#REF!),0)","v":0},{"$f":"IFERROR($E58*SUMIF('Daily Log'!#REF!,$B58,'Daily Log'!#REF!),0)","v":0},{"$f":"IFERROR($E58*SUMIF('Daily Log'!#REF!,$B58,'Daily Log'!#REF!),0)","v":0},{"$f":"IFERROR($E58*SUMIF('Daily Log'!#REF!,$B58,'Daily Log'!#REF!),0)","v":0},{"$f":"IFERROR($E58*SUMIF('Daily Log'!#REF!,$B58,'Daily Log'!#REF!),0)","v":0},{"$f":"IFERROR($E58*SUMIF('Daily Log'!#REF!,$B58,'Daily Log'!#REF!),0)","v":0},{"$f":"IFERROR($E58*SUMIF('Daily Log'!#REF!,$B58,'Daily Log'!#REF!),0)","v":0},{"$f":"IFERROR($E58*SUMIF('Daily Log'!#REF!,$B58,'Daily Log'!#REF!),0)","v":0},{"$f":"IFERROR($E58*SUMIF('Daily Log'!#REF!,$B58,'Daily Log'!#REF!),0)","v":0},{"$f":"IFERROR($E58*SUMIF('Daily Log'!#REF!,$B58,'Daily Log'!#REF!),0)","v":0},{"$f":"IFERROR($E58*SUMIF('Daily Log'!#REF!,$B58,'Daily Log'!#REF!),0)","v":0},{"$f":"IFERROR($E58*SUMIF('Daily Log'!#REF!,$B58,'Daily Log'!#REF!),0)","v":0},{"$f":"IFERROR($E58*SUMIF('Daily Log'!#REF!,$B58,'Daily Log'!#REF!),0)","v":0},{"$f":"IFERROR($E58*SUMIF('Daily Log'!#REF!,$B58,'Daily Log'!#REF!),0)","v":0},{"$f":"IFERROR($E58*SUMIF('Daily Log'!#REF!,$B58,'Daily Log'!#REF!),0)","v":0},{"$f":"IFERROR($E58*SUMIF('Daily Log'!#REF!,$B58,'Daily Log'!#REF!),0)","v":0},{"$f":"IFERROR($E58*SUMIF('Daily Log'!#REF!,$B58,'Daily Log'!#REF!),0)","v":0},{"$f":"IFERROR($E58*SUMIF('Daily Log'!#REF!,$B58,'Daily Log'!#REF!),0)","v":0},{"$f":"IFERROR($E58*SUMIF('Daily Log'!#REF!,$B58,'Daily Log'!#REF!),0)","v":0},{"$f":"IFERROR($E58*SUMIF('Daily Log'!#REF!,$B58,'Daily Log'!#REF!),0)","v":0},{"$f":"IFERROR($E58*SUMIF('Daily Log'!#REF!,$B58,'Daily Log'!#REF!),0)","v":0},{"$f":"IFERROR($E58*SUMIF('Daily Log'!#REF!,$B58,'Daily Log'!#REF!),0)","v":0},{"$f":"IFERROR($E58*SUMIF('Daily Log'!#REF!,$B58,'Daily Log'!#REF!),0)","v":0},{"$f":"IFERROR($E58*SUMIF('Daily Log'!#REF!,$B58,'Daily Log'!#REF!),0)","v":0},{"$f":"IFERROR($E58*SUMIF('Daily Log'!#REF!,$B58,'Daily Log'!#REF!),0)","v":0}]
[null,"AB07 H : CHILDREN",null,null,null,0,{"$f":"IFERROR($E59*SUMIF('Daily Log'!$B$18:$B$1017,$B59,'Daily Log'!$C$18:$C$1017),0)","v":0},{"$f":"IFERROR($E59*SUMIF('Daily Log'!$E$18:$E$1017,$B59,'Daily Log'!$F$18:$F$1017),0)","v":0},{"$f":"IFERROR($E59*SUMIF('Daily Log'!$H$18:$H$1017,$B59,'Daily Log'!$I$18:$I$1017),0)","v":0},{"$f":"IFERROR($E59*SUMIF('Daily Log'!$K$18:$K$1017,$B59,'Daily Log'!$L$18:$L$1017),0)","v":0},{"$f":"IFERROR($E59*SUMIF('Daily Log'!$N$18:$N$1017,$B59,'Daily Log'!$O$18:$O$1017),0)","v":0},{"$f":"IFERROR($E59*SUMIF('Daily Log'!#REF!,$B59,'Daily Log'!#REF!),0)","v":0},{"$f":"IFERROR($E59*SUMIF('Daily Log'!#REF!,$B59,'Daily Log'!#REF!),0)","v":0},{"$f":"IFERROR($E59*SUMIF('Daily Log'!#REF!,$B59,'Daily Log'!#REF!),0)","v":0},{"$f":"IFERROR($E59*SUMIF('Daily Log'!#REF!,$B59,'Daily Log'!#REF!),0)","v":0},{"$f":"IFERROR($E59*SUMIF('Daily Log'!#REF!,$B59,'Daily Log'!#REF!),0)","v":0},{"$f":"IFERROR($E59*SUMIF('Daily Log'!#REF!,$B59,'Daily Log'!#REF!),0)","v":0},{"$f":"IFERROR($E59*SUMIF('Daily Log'!#REF!,$B59,'Daily Log'!#REF!),0)","v":0},{"$f":"IFERROR($E59*SUMIF('Daily Log'!#REF!,$B59,'Daily Log'!#REF!),0)","v":0},{"$f":"IFERROR($E59*SUMIF('Daily Log'!#REF!,$B59,'Daily Log'!#REF!),0)","v":0},{"$f":"IFERROR($E59*SUMIF('Daily Log'!#REF!,$B59,'Daily Log'!#REF!),0)","v":0},{"$f":"IFERROR($E59*SUMIF('Daily Log'!#REF!,$B59,'Daily Log'!#REF!),0)","v":0},{"$f":"IFERROR($E59*SUMIF('Daily Log'!#REF!,$B59,'Daily Log'!#REF!),0)","v":0},{"$f":"IFERROR($E59*SUMIF('Daily Log'!#REF!,$B59,'Daily Log'!#REF!),0)","v":0},{"$f":"IFERROR($E59*SUMIF('Daily Log'!#REF!,$B59,'Daily Log'!#REF!),0)","v":0},{"$f":"IFERROR($E59*SUMIF('Daily Log'!#REF!,$B59,'Daily Log'!#REF!),0)","v":0},{"$f":"IFERROR($E59*SUMIF('Daily Log'!#REF!,$B59,'Daily Log'!#REF!),0)","v":0},{"$f":"IFERROR($E59*SUMIF('Daily Log'!#REF!,$B59,'Daily Log'!#REF!),0)","v":0},{"$f":"IFERROR($E59*SUMIF('Daily Log'!#REF!,$B59,'Daily Log'!#REF!),0)","v":0},{"$f":"IFERROR($E59*SUMIF('Daily Log'!#REF!,$B59,'Daily Log'!#REF!),0)","v":0},{"$f":"IFERROR($E59*SUMIF('Daily Log'!#REF!,$B59,'Daily Log'!#REF!),0)","v":0},{"$f":"IFERROR($E59*SUMIF('Daily Log'!#REF!,$B59,'Daily Log'!#REF!),0)","v":0},{"$f":"IFERROR($E59*SUMIF('Daily Log'!#REF!,$B59,'Daily Log'!#REF!),0)","v":0},{"$f":"IFERROR($E59*SUMIF('Daily Log'!#REF!,$B59,'Daily Log'!#REF!),0)","v":0},{"$f":"IFERROR($E59*SUMIF('Daily Log'!#REF!,$B59,'Daily Log'!#REF!),0)","v":0},{"$f":"IFERROR($E59*SUMIF('Daily Log'!#REF!,$B59,'Daily Log'!#REF!),0)","v":0},{"$f":"IFERROR($E59*SUMIF('Daily Log'!#REF!,$B59,'Daily Log'!#REF!),0)","v":0}]
[null,"AB08 H : MEMBER B'DAY",null,null,null,0,{"$f":"IFERROR($E60*SUMIF('Daily Log'!$B$18:$B$1017,$B60,'Daily Log'!$C$18:$C$1017),0)","v":0},{"$f":"IFERROR($E60*SUMIF('Daily Log'!$E$18:$E$1017,$B60,'Daily Log'!$F$18:$F$1017),0)","v":0},{"$f":"IFERROR($E60*SUMIF('Daily Log'!$H$18:$H$1017,$B60,'Daily Log'!$I$18:$I$1017),0)","v":0},{"$f":"IFERROR($E60*SUMIF('Daily Log'!$K$18:$K$1017,$B60,'Daily Log'!$L$18:$L$1017),0)","v":0},{"$f":"IFERROR($E60*SUMIF('Daily Log'!$N$18:$N$1017,$B60,'Daily Log'!$O$18:$O$1017),0)","v":0},{"$f":"IFERROR($E60*SUMIF('Daily Log'!#REF!,$B60,'Daily Log'!#REF!),0)","v":0},{"$f":"IFERROR($E60*SUMIF('Daily Log'!#REF!,$B60,'Daily Log'!#REF!),0)","v":0},{"$f":"IFERROR($E60*SUMIF('Daily Log'!#REF!,$B60,'Daily Log'!#REF!),0)","v":0},{"$f":"IFERROR($E60*SUMIF('Daily Log'!#REF!,$B60,'Daily Log'!#REF!),0)","v":0},{"$f":"IFERROR($E60*SUMIF('Daily Log'!#REF!,$B60,'Daily Log'!#REF!),0)","v":0},{"$f":"IFERROR($E60*SUMIF('Daily Log'!#REF!,$B60,'Daily Log'!#REF!),0)","v":0},{"$f":"IFERROR($E60*SUMIF('Daily Log'!#REF!,$B60,'Daily Log'!#REF!),0)","v":0},{"$f":"IFERROR($E60*SUMIF('Daily Log'!#REF!,$B60,'Daily Log'!#REF!),0)","v":0},{"$f":"IFERROR($E60*SUMIF('Daily Log'!#REF!,$B60,'Daily Log'!#REF!),0)","v":0},{"$f":"IFERROR($E60*SUMIF('Daily Log'!#REF!,$B60,'Daily Log'!#REF!),0)","v":0},{"$f":"IFERROR($E60*SUMIF('Daily Log'!#REF!,$B60,'Daily Log'!#REF!),0)","v":0},{"$f":"IFERROR($E60*SUMIF('Daily Log'!#REF!,$B60,'Daily Log'!#REF!),0)","v":0},{"$f":"IFERROR($E60*SUMIF('Daily Log'!#REF!,$B60,'Daily Log'!#REF!),0)","v":0},{"$f":"IFERROR($E60*SUMIF('Daily Log'!#REF!,$B60,'Daily Log'!#REF!),0)","v":0},{"$f":"IFERROR($E60*SUMIF('Daily Log'!#REF!,$B60,'Daily Log'!#REF!),0)","v":0},{"$f":"IFERROR($E60*SUMIF('Daily Log'!#REF!,$B60,'Daily Log'!#REF!),0)","v":0},{"$f":"IFERROR($E60*SUMIF('Daily Log'!#REF!,$B60,'Daily Log'!#REF!),0)","v":0},{"$f":"IFERROR($E60*SUMIF('Daily Log'!#REF!,$B60,'Daily Log'!#REF!),0)","v":0},{"$f":"IFERROR($E60*SUMIF('Daily Log'!#REF!,$B60,'Daily Log'!#REF!),0)","v":0},{"$f":"IFERROR($E60*SUMIF('Daily Log'!#REF!,$B60,'Daily Log'!#REF!),0)","v":0},{"$f":"IFERROR($E60*SUMIF('Daily Log'!#REF!,$B60,'Daily Log'!#REF!),0)","v":0},{"$f":"IFERROR($E60*SUMIF('Daily Log'!#REF!,$B60,'Daily Log'!#REF!),0)","v":0},{"$f":"IFERROR($E60*SUMIF('Daily Log'!#REF!,$B60,'Daily Log'!#REF!),0)","v":0},{"$f":"IFERROR($E60*SUMIF('Daily Log'!#REF!,$B60,'Daily Log'!#REF!),0)","v":0},{"$f":"IFERROR($E60*SUMIF('Daily Log'!#REF!,$B60,'Daily Log'!#REF!),0)","v":0},{"$f":"IFERROR($E60*SUMIF('Daily Log'!#REF!,$B60,'Daily Log'!#REF!),0)","v":0}]
[null,"AB09 H : STAFF B'DAY",null,null,null,0,{"$f":"IFERROR($E61*SUMIF('Daily Log'!$B$18:$B$1017,$B61,'Daily Log'!$C$18:$C$1017),0)","v":0},{"$f":"IFERROR($E61*SUMIF('Daily Log'!$E$18:$E$1017,$B61,'Daily Log'!$F$18:$F$1017),0)","v":0},{"$f":"IFERROR($E61*SUMIF('Daily Log'!$H$18:$H$1017,$B61,'Daily Log'!$I$18:$I$1017),0)","v":0},{"$f":"IFERROR($E61*SUMIF('Daily Log'!$K$18:$K$1017,$B61,'Daily Log'!$L$18:$L$1017),0)","v":0},{"$f":"IFERROR($E61*SUMIF('Daily Log'!$N$18:$N$1017,$B61,'Daily Log'!$O$18:$O$1017),0)","v":0},{"$f":"IFERROR($E61*SUMIF('Daily Log'!#REF!,$B61,'Daily Log'!#REF!),0)","v":0},{"$f":"IFERROR($E61*SUMIF('Daily Log'!#REF!,$B61,'Daily Log'!#REF!),0)","v":0},{"$f":"IFERROR($E61*SUMIF('Daily Log'!#REF!,$B61,'Daily Log'!#REF!),0)","v":0},{"$f":"IFERROR($E61*SUMIF('Daily Log'!#REF!,$B61,'Daily Log'!#REF!),0)","v":0},{"$f":"IFERROR($E61*SUMIF('Daily Log'!#REF!,$B61,'Daily Log'!#REF!),0)","v":0},{"$f":"IFERROR($E61*SUMIF('Daily Log'!#REF!,$B61,'Daily Log'!#REF!),0)","v":0},{"$f":"IFERROR($E61*SUMIF('Daily Log'!#REF!,$B61,'Daily Log'!#REF!),0)","v":0},{"$f":"IFERROR($E61*SUMIF('Daily Log'!#REF!,$B61,'Daily Log'!#REF!),0)","v":0},{"$f":"IFERROR($E61*SUMIF('Daily Log'!#REF!,$B61,'Daily Log'!#REF!),0)","v":0},{"$f":"IFERROR($E61*SUMIF('Daily Log'!#REF!,$B61,'Daily Log'!#REF!),0)","v":0},{"$f":"IFERROR($E61*SUMIF('Daily Log'!#REF!,$B61,'Daily Log'!#REF!),0)","v":0},{"$f":"IFERROR($E61*SUMIF('Daily Log'!#REF!,$B61,'Daily Log'!#REF!),0)","v":0},{"$f":"IFERROR($E61*SUMIF('Daily Log'!#REF!,$B61,'Daily Log'!#REF!),0)","v":0},{"$f":"IFERROR($E61*SUMIF('Daily Log'!#REF!,$B61,'Daily Log'!#REF!),0)","v":0},{"$f":"IFERROR($E61*SUMIF('Daily Log'!#REF!,$B61,'Daily Log'!#REF!),0)","v":0},{"$f":"IFERROR($E61*SUMIF('Daily Log'!#REF!,$B61,'Daily Log'!#REF!),0)","v":0},{"$f":"IFERROR($E61*SUMIF('Daily Log'!#REF!,$B61,'Daily Log'!#REF!),0)","v":0},{"$f":"IFERROR($E61*SUMIF('Daily Log'!#REF!,$B61,'Daily Log'!#REF!),0)","v":0},{"$f":"IFERROR($E61*SUMIF('Daily Log'!#REF!,$B61,'Daily Log'!#REF!),0)","v":0},{"$f":"IFERROR($E61*SUMIF('Daily Log'!#REF!,$B61,'Daily Log'!#REF!),0)","v":0},{"$f":"IFERROR($E61*SUMIF('Daily Log'!#REF!,$B61,'Daily Log'!#REF!),0)","v":0},{"$f":"IFERROR($E61*SUMIF('Daily Log'!#REF!,$B61,'Daily Log'!#REF!),0)","v":0},{"$f":"IFERROR($E61*SUMIF('Daily Log'!#REF!,$B61,'Daily Log'!#REF!),0)","v":0},{"$f":"IFERROR($E61*SUMIF('Daily Log'!#REF!,$B61,'Daily Log'!#REF!),0)","v":0},{"$f":"IFERROR($E61*SUMIF('Daily Log'!#REF!,$B61,'Daily Log'!#REF!),0)","v":0},{"$f":"IFERROR($E61*SUMIF('Daily Log'!#REF!,$B61,'Daily Log'!#REF!),0)","v":0}]
[null,"AB10 H : FOC HEAD",null,null,null,0,{"$f":"IFERROR($E62*SUMIF('Daily Log'!$B$18:$B$1017,$B62,'Daily Log'!$C$18:$C$1017),0)","v":0},{"$f":"IFERROR($E62*SUMIF('Daily Log'!$E$18:$E$1017,$B62,'Daily Log'!$F$18:$F$1017),0)","v":0},{"$f":"IFERROR($E62*SUMIF('Daily Log'!$H$18:$H$1017,$B62,'Daily Log'!$I$18:$I$1017),0)","v":0},{"$f":"IFERROR($E62*SUMIF('Daily Log'!$K$18:$K$1017,$B62,'Daily Log'!$L$18:$L$1017),0)","v":0},{"$f":"IFERROR($E62*SUMIF('Daily Log'!$N$18:$N$1017,$B62,'Daily Log'!$O$18:$O$1017),0)","v":0},{"$f":"IFERROR($E62*SUMIF('Daily Log'!#REF!,$B62,'Daily Log'!#REF!),0)","v":0},{"$f":"IFERROR($E62*SUMIF('Daily Log'!#REF!,$B62,'Daily Log'!#REF!),0)","v":0},{"$f":"IFERROR($E62*SUMIF('Daily Log'!#REF!,$B62,'Daily Log'!#REF!),0)","v":0},{"$f":"IFERROR($E62*SUMIF('Daily Log'!#REF!,$B62,'Daily Log'!#REF!),0)","v":0},{"$f":"IFERROR($E62*SUMIF('Daily Log'!#REF!,$B62,'Daily Log'!#REF!),0)","v":0},{"$f":"IFERROR($E62*SUMIF('Daily Log'!#REF!,$B62,'Daily Log'!#REF!),0)","v":0},{"$f":"IFERROR($E62*SUMIF('Daily Log'!#REF!,$B62,'Daily Log'!#REF!),0)","v":0},{"$f":"IFERROR($E62*SUMIF('Daily Log'!#REF!,$B62,'Daily Log'!#REF!),0)","v":0},{"$f":"IFERROR($E62*SUMIF('Daily Log'!#REF!,$B62,'Daily Log'!#REF!),0)","v":0},{"$f":"IFERROR($E62*SUMIF('Daily Log'!#REF!,$B62,'Daily Log'!#REF!),0)","v":0},{"$f":"IFERROR($E62*SUMIF('Daily Log'!#REF!,$B62,'Daily Log'!#REF!),0)","v":0},{"$f":"IFERROR($E62*SUMIF('Daily Log'!#REF!,$B62,'Daily Log'!#REF!),0)","v":0},{"$f":"IFERROR($E62*SUMIF('Daily Log'!#REF!,$B62,'Daily Log'!#REF!),0)","v":0},{"$f":"IFERROR($E62*SUMIF('Daily Log'!#REF!,$B62,'Daily Log'!#REF!),0)","v":0},{"$f":"IFERROR($E62*SUMIF('Daily Log'!#REF!,$B62,'Daily Log'!#REF!),0)","v":0},{"$f":"IFERROR($E62*SUMIF('Daily Log'!#REF!,$B62,'Daily Log'!#REF!),0)","v":0},{"$f":"IFERROR($E62*SUMIF('Daily Log'!#REF!,$B62,'Daily Log'!#REF!),0)","v":0},{"$f":"IFERROR($E62*SUMIF('Daily Log'!#REF!,$B62,'Daily Log'!#REF!),0)","v":0},{"$f":"IFERROR($E62*SUMIF('Daily Log'!#REF!,$B62,'Daily Log'!#REF!),0)","v":0},{"$f":"IFERROR($E62*SUMIF('Daily Log'!#REF!,$B62,'Daily Log'!#REF!),0)","v":0},{"$f":"IFERROR($E62*SUMIF('Daily Log'!#REF!,$B62,'Daily Log'!#REF!),0)","v":0},{"$f":"IFERROR($E62*SUMIF('Daily Log'!#REF!,$B62,'Daily Log'!#REF!),0)","v":0},{"$f":"IFERROR($E62*SUMIF('Daily Log'!#REF!,$B62,'Daily Log'!#REF!),0)","v":0},{"$f":"IFERROR($E62*SUMIF('Daily Log'!#REF!,$B62,'Daily Log'!#REF!),0)","v":0},{"$f":"IFERROR($E62*SUMIF('Daily Log'!#REF!,$B62,'Daily Log'!#REF!),0)","v":0},{"$f":"IFERROR($E62*SUMIF('Daily Log'!#REF!,$B62,'Daily Log'!#REF!),0)","v":0}]
[null,"AB11 H : FREEHEAD (B)",null,null,null,0,{"$f":"IFERROR($E63*SUMIF('Daily Log'!$B$18:$B$1017,$B63,'Daily Log'!$C$18:$C$1017),0)","v":0},{"$f":"IFERROR($E63*SUMIF('Daily Log'!$E$18:$E$1017,$B63,'Daily Log'!$F$18:$F$1017),0)","v":0},{"$f":"IFERROR($E63*SUMIF('Daily Log'!$H$18:$H$1017,$B63,'Daily Log'!$I$18:$I$1017),0)","v":0},{"$f":"IFERROR($E63*SUMIF('Daily Log'!$K$18:$K$1017,$B63,'Daily Log'!$L$18:$L$1017),0)","v":0},{"$f":"IFERROR($E63*SUMIF('Daily Log'!$N$18:$N$1017,$B63,'Daily Log'!$O$18:$O$1017),0)","v":0},{"$f":"IFERROR($E63*SUMIF('Daily Log'!#REF!,$B63,'Daily Log'!#REF!),0)","v":0},{"$f":"IFERROR($E63*SUMIF('Daily Log'!#REF!,$B63,'Daily Log'!#REF!),0)","v":0},{"$f":"IFERROR($E63*SUMIF('Daily Log'!#REF!,$B63,'Daily Log'!#REF!),0)","v":0},{"$f":"IFERROR($E63*SUMIF('Daily Log'!#REF!,$B63,'Daily Log'!#REF!),0)","v":0},{"$f":"IFERROR($E63*SUMIF('Daily Log'!#REF!,$B63,'Daily Log'!#REF!),0)","v":0},{"$f":"IFERROR($E63*SUMIF('Daily Log'!#REF!,$B63,'Daily Log'!#REF!),0)","v":0},{"$f":"IFERROR($E63*SUMIF('Daily Log'!#REF!,$B63,'Daily Log'!#REF!),0)","v":0},{"$f":"IFERROR($E63*SUMIF('Daily Log'!#REF!,$B63,'Daily Log'!#REF!),0)","v":0},{"$f":"IFERROR($E63*SUMIF('Daily Log'!#REF!,$B63,'Daily Log'!#REF!),0)","v":0},{"$f":"IFERROR($E63*SUMIF('Daily Log'!#REF!,$B63,'Daily Log'!#REF!),0)","v":0},{"$f":"IFERROR($E63*SUMIF('Daily Log'!#REF!,$B63,'Daily Log'!#REF!),0)","v":0},{"$f":"IFERROR($E63*SUMIF('Daily Log'!#REF!,$B63,'Daily Log'!#REF!),0)","v":0},{"$f":"IFERROR($E63*SUMIF('Daily Log'!#REF!,$B63,'Daily Log'!#REF!),0)","v":0},{"$f":"IFERROR($E63*SUMIF('Daily Log'!#REF!,$B63,'Daily Log'!#REF!),0)","v":0},{"$f":"IFERROR($E63*SUMIF('Daily Log'!#REF!,$B63,'Daily Log'!#REF!),0)","v":0},{"$f":"IFERROR($E63*SUMIF('Daily Log'!#REF!,$B63,'Daily Log'!#REF!),0)","v":0},{"$f":"IFERROR($E63*SUMIF('Daily Log'!#REF!,$B63,'Daily Log'!#REF!),0)","v":0},{"$f":"IFERROR($E63*SUMIF('Daily Log'!#REF!,$B63,'Daily Log'!#REF!),0)","v":0},{"$f":"IFERROR($E63*SUMIF('Daily Log'!#REF!,$B63,'Daily Log'!#REF!),0)","v":0},{"$f":"IFERROR($E63*SUMIF('Daily Log'!#REF!,$B63,'Daily Log'!#REF!),0)","v":0},{"$f":"IFERROR($E63*SUMIF('Daily Log'!#REF!,$B63,'Daily Log'!#REF!),0)","v":0},{"$f":"IFERROR($E63*SUMIF('Daily Log'!#REF!,$B63,'Daily Log'!#REF!),0)","v":0},{"$f":"IFERROR($E63*SUMIF('Daily Log'!#REF!,$B63,'Daily Log'!#REF!),0)","v":0},{"$f":"IFERROR($E63*SUMIF('Daily Log'!#REF!,$B63,'Daily Log'!#REF!),0)","v":0},{"$f":"IFERROR($E63*SUMIF('Daily Log'!#REF!,$B63,'Daily Log'!#REF!),0)","v":0},{"$f":"IFERROR($E63*SUMIF('Daily Log'!#REF!,$B63,'Daily Log'!#REF!),0)","v":0}]
[null,"AB12 Father",null,null,null,0,{"$f":"IFERROR($E64*SUMIF('Daily Log'!$B$18:$B$1017,$B64,'Daily Log'!$C$18:$C$1017),0)","v":0},{"$f":"IFERROR($E64*SUMIF('Daily Log'!$E$18:$E$1017,$B64,'Daily Log'!$F$18:$F$1017),0)","v":0},{"$f":"IFERROR($E64*SUMIF('Daily Log'!$H$18:$H$1017,$B64,'Daily Log'!$I$18:$I$1017),0)","v":0},{"$f":"IFERROR($E64*SUMIF('Daily Log'!$K$18:$K$1017,$B64,'Daily Log'!$L$18:$L$1017),0)","v":0},{"$f":"IFERROR($E64*SUMIF('Daily Log'!$N$18:$N$1017,$B64,'Daily Log'!$O$18:$O$1017),0)","v":0},{"$f":"IFERROR($E64*SUMIF('Daily Log'!#REF!,$B64,'Daily Log'!#REF!),0)","v":0},{"$f":"IFERROR($E64*SUMIF('Daily Log'!#REF!,$B64,'Daily Log'!#REF!),0)","v":0},{"$f":"IFERROR($E64*SUMIF('Daily Log'!#REF!,$B64,'Daily Log'!#REF!),0)","v":0},{"$f":"IFERROR($E64*SUMIF('Daily Log'!#REF!,$B64,'Daily Log'!#REF!),0)","v":0},{"$f":"IFERROR($E64*SUMIF('Daily Log'!#REF!,$B64,'Daily Log'!#REF!),0)","v":0},{"$f":"IFERROR($E64*SUMIF('Daily Log'!#REF!,$B64,'Daily Log'!#REF!),0)","v":0},{"$f":"IFERROR($E64*SUMIF('Daily Log'!#REF!,$B64,'Daily Log'!#REF!),0)","v":0},{"$f":"IFERROR($E64*SUMIF('Daily Log'!#REF!,$B64,'Daily Log'!#REF!),0)","v":0},{"$f":"IFERROR($E64*SUMIF('Daily Log'!#REF!,$B64,'Daily Log'!#REF!),0)","v":0},{"$f":"IFERROR($E64*SUMIF('Daily Log'!#REF!,$B64,'Daily Log'!#REF!),0)","v":0},{"$f":"IFERROR($E64*SUMIF('Daily Log'!#REF!,$B64,'Daily Log'!#REF!),0)","v":0},{"$f":"IFERROR($E64*SUMIF('Daily Log'!#REF!,$B64,'Daily Log'!#REF!),0)","v":0},{"$f":"IFERROR($E64*SUMIF('Daily Log'!#REF!,$B64,'Daily Log'!#REF!),0)","v":0},{"$f":"IFERROR($E64*SUMIF('Daily Log'!#REF!,$B64,'Daily Log'!#REF!),0)","v":0},{"$f":"IFERROR($E64*SUMIF('Daily Log'!#REF!,$B64,'Daily Log'!#REF!),0)","v":0},{"$f":"IFERROR($E64*SUMIF('Daily Log'!#REF!,$B64,'Daily Log'!#REF!),0)","v":0},{"$f":"IFERROR($E64*SUMIF('Daily Log'!#REF!,$B64,'Daily Log'!#REF!),0)","v":0},{"$f":"IFERROR($E64*SUMIF('Daily Log'!#REF!,$B64,'Daily Log'!#REF!),0)","v":0},{"$f":"IFERROR($E64*SUMIF('Daily Log'!#REF!,$B64,'Daily Log'!#REF!),0)","v":0},{"$f":"IFERROR($E64*SUMIF('Daily Log'!#REF!,$B64,'Daily Log'!#REF!),0)","v":0},{"$f":"IFERROR($E64*SUMIF('Daily Log'!#REF!,$B64,'Daily Log'!#REF!),0)","v":0},{"$f":"IFERROR($E64*SUMIF('Daily Log'!#REF!,$B64,'Daily Log'!#REF!),0)","v":0},{"$f":"IFERROR($E64*SUMIF('Daily Log'!#REF!,$B64,'Daily Log'!#REF!),0)","v":0},{"$f":"IFERROR($E64*SUMIF('Daily Log'!#REF!,$B64,'Daily Log'!#REF!),0)","v":0},{"$f":"IFERROR($E64*SUMIF('Daily Log'!#REF!,$B64,'Daily Log'!#REF!),0)","v":0},{"$f":"IFERROR($E64*SUMIF('Daily Log'!#REF!,$B64,'Daily Log'!#REF!),0)","v":0}]
[null,"AB13 H : FREEHEAD (R)",null,null,null,0,{"$f":"IFERROR($E65*SUMIF('Daily Log'!$B$18:$B$1017,$B65,'Daily Log'!$C$18:$C$1017),0)","v":0},{"$f":"IFERROR($E65*SUMIF('Daily Log'!$E$18:$E$1017,$B65,'Daily Log'!$F$18:$F$1017),0)","v":0},{"$f":"IFERROR($E65*SUMIF('Daily Log'!$H$18:$H$1017,$B65,'Daily Log'!$I$18:$I$1017),0)","v":0},{"$f":"IFERROR($E65*SUMIF('Daily Log'!$K$18:$K$1017,$B65,'Daily Log'!$L$18:$L$1017),0)","v":0},{"$f":"IFERROR($E65*SUMIF('Daily Log'!$N$18:$N$1017,$B65,'Daily Log'!$O$18:$O$1017),0)","v":0},{"$f":"IFERROR($E65*SUMIF('Daily Log'!#REF!,$B65,'Daily Log'!#REF!),0)","v":0},{"$f":"IFERROR($E65*SUMIF('Daily Log'!#REF!,$B65,'Daily Log'!#REF!),0)","v":0},{"$f":"IFERROR($E65*SUMIF('Daily Log'!#REF!,$B65,'Daily Log'!#REF!),0)","v":0},{"$f":"IFERROR($E65*SUMIF('Daily Log'!#REF!,$B65,'Daily Log'!#REF!),0)","v":0},{"$f":"IFERROR($E65*SUMIF('Daily Log'!#REF!,$B65,'Daily Log'!#REF!),0)","v":0},{"$f":"IFERROR($E65*SUMIF('Daily Log'!#REF!,$B65,'Daily Log'!#REF!),0)","v":0},{"$f":"IFERROR($E65*SUMIF('Daily Log'!#REF!,$B65,'Daily Log'!#REF!),0)","v":0},{"$f":"IFERROR($E65*SUMIF('Daily Log'!#REF!,$B65,'Daily Log'!#REF!),0)","v":0},{"$f":"IFERROR($E65*SUMIF('Daily Log'!#REF!,$B65,'Daily Log'!#REF!),0)","v":0},{"$f":"IFERROR($E65*SUMIF('Daily Log'!#REF!,$B65,'Daily Log'!#REF!),0)","v":0},{"$f":"IFERROR($E65*SUMIF('Daily Log'!#REF!,$B65,'Daily Log'!#REF!),0)","v":0},{"$f":"IFERROR($E65*SUMIF('Daily Log'!#REF!,$B65,'Daily Log'!#REF!),0)","v":0},{"$f":"IFERROR($E65*SUMIF('Daily Log'!#REF!,$B65,'Daily Log'!#REF!),0)","v":0},{"$f":"IFERROR($E65*SUMIF('Daily Log'!#REF!,$B65,'Daily Log'!#REF!),0)","v":0},{"$f":"IFERROR($E65*SUMIF('Daily Log'!#REF!,$B65,'Daily Log'!#REF!),0)","v":0},{"$f":"IFERROR($E65*SUMIF('Daily Log'!#REF!,$B65,'Daily Log'!#REF!),0)","v":0},{"$f":"IFERROR($E65*SUMIF('Daily Log'!#REF!,$B65,'Daily Log'!#REF!),0)","v":0},{"$f":"IFERROR($E65*SUMIF('Daily Log'!#REF!,$B65,'Daily Log'!#REF!),0)","v":0},{"$f":"IFERROR($E65*SUMIF('Daily Log'!#REF!,$B65,'Daily Log'!#REF!),0)","v":0},{"$f":"IFERROR($E65*SUMIF('Daily Log'!#REF!,$B65,'Daily Log'!#REF!),0)","v":0},{"$f":"IFERROR($E65*SUMIF('Daily Log'!#REF!,$B65,'Daily Log'!#REF!),0)","v":0},{"$f":"IFERROR($E65*SUMIF('Daily Log'!#REF!,$B65,'Daily Log'!#REF!),0)","v":0},{"$f":"IFERROR($E65*SUMIF('Daily Log'!#REF!,$B65,'Daily Log'!#REF!),0)","v":0},{"$f":"IFERROR($E65*SUMIF('Daily Log'!#REF!,$B65,'Daily Log'!#REF!),0)","v":0},{"$f":"IFERROR($E65*SUMIF('Daily Log'!#REF!,$B65,'Daily Log'!#REF!),0)","v":0},{"$f":"IFERROR($E65*SUMIF('Daily Log'!#REF!,$B65,'Daily Log'!#REF!),0)","v":0}]
[null,"AB14 H : 3+1",null,null,null,0,{"$f":"IFERROR($E66*SUMIF('Daily Log'!$B$18:$B$1017,$B66,'Daily Log'!$C$18:$C$1017),0)","v":0},{"$f":"IFERROR($E66*SUMIF('Daily Log'!$E$18:$E$1017,$B66,'Daily Log'!$F$18:$F$1017),0)","v":0},{"$f":"IFERROR($E66*SUMIF('Daily Log'!$H$18:$H$1017,$B66,'Daily Log'!$I$18:$I$1017),0)","v":0},{"$f":"IFERROR($E66*SUMIF('Daily Log'!$K$18:$K$1017,$B66,'Daily Log'!$L$18:$L$1017),0)","v":0},{"$f":"IFERROR($E66*SUMIF('Daily Log'!$N$18:$N$1017,$B66,'Daily Log'!$O$18:$O$1017),0)","v":0},{"$f":"IFERROR($E66*SUMIF('Daily Log'!#REF!,$B66,'Daily Log'!#REF!),0)","v":0},{"$f":"IFERROR($E66*SUMIF('Daily Log'!#REF!,$B66,'Daily Log'!#REF!),0)","v":0},{"$f":"IFERROR($E66*SUMIF('Daily Log'!#REF!,$B66,'Daily Log'!#REF!),0)","v":0},{"$f":"IFERROR($E66*SUMIF('Daily Log'!#REF!,$B66,'Daily Log'!#REF!),0)","v":0},{"$f":"IFERROR($E66*SUMIF('Daily Log'!#REF!,$B66,'Daily Log'!#REF!),0)","v":0},{"$f":"IFERROR($E66*SUMIF('Daily Log'!#REF!,$B66,'Daily Log'!#REF!),0)","v":0},{"$f":"IFERROR($E66*SUMIF('Daily Log'!#REF!,$B66,'Daily Log'!#REF!),0)","v":0},{"$f":"IFERROR($E66*SUMIF('Daily Log'!#REF!,$B66,'Daily Log'!#REF!),0)","v":0},{"$f":"IFERROR($E66*SUMIF('Daily Log'!#REF!,$B66,'Daily Log'!#REF!),0)","v":0},{"$f":"IFERROR($E66*SUMIF('Daily Log'!#REF!,$B66,'Daily Log'!#REF!),0)","v":0},{"$f":"IFERROR($E66*SUMIF('Daily Log'!#REF!,$B66,'Daily Log'!#REF!),0)","v":0},{"$f":"IFERROR($E66*SUMIF('Daily Log'!#REF!,$B66,'Daily Log'!#REF!),0)","v":0},{"$f":"IFERROR($E66*SUMIF('Daily Log'!#REF!,$B66,'Daily Log'!#REF!),0)","v":0},{"$f":"IFERROR($E66*SUMIF('Daily Log'!#REF!,$B66,'Daily Log'!#REF!),0)","v":0},{"$f":"IFERROR($E66*SUMIF('Daily Log'!#REF!,$B66,'Daily Log'!#REF!),0)","v":0},{"$f":"IFERROR($E66*SUMIF('Daily Log'!#REF!,$B66,'Daily Log'!#REF!),0)","v":0},{"$f":"IFERROR($E66*SUMIF('Daily Log'!#REF!,$B66,'Daily Log'!#REF!),0)","v":0},{"$f":"IFERROR($E66*SUMIF('Daily Log'!#REF!,$B66,'Daily Log'!#REF!),0)","v":0},{"$f":"IFERROR($E66*SUMIF('Daily Log'!#REF!,$B66,'Daily Log'!#REF!),0)","v":0},{"$f":"IFERROR($E66*SUMIF('Daily Log'!#REF!,$B66,'Daily Log'!#REF!),0)","v":0},{"$f":"IFERROR($E66*SUMIF('Daily Log'!#REF!,$B66,'Daily Log'!#REF!),0)","v":0},{"$f":"IFERROR($E66*SUMIF('Daily Log'!#REF!,$B66,'Daily Log'!#REF!),0)","v":0},{"$f":"IFERROR($E66*SUMIF('Daily Log'!#REF!,$B66,'Daily Log'!#REF!),0)","v":0},{"$f":"IFERROR($E66*SUMIF('Daily Log'!#REF!,$B66,'Daily Log'!#REF!),0)","v":0},{"$f":"IFERROR($E66*SUMIF('Daily Log'!#REF!,$B66,'Daily Log'!#REF!),0)","v":0},{"$f":"IFERROR($E66*SUMIF('Daily Log'!#REF!,$B66,'Daily Log'!#REF!),0)","v":0}]
[null,"AB15 H : PROMOTION",null,null,null,0,{"$f":"IFERROR($E67*SUMIF('Daily Log'!$B$18:$B$1017,$B67,'Daily Log'!$C$18:$C$1017),0)","v":0},{"$f":"IFERROR($E67*SUMIF('Daily Log'!$E$18:$E$1017,$B67,'Daily Log'!$F$18:$F$1017),0)","v":0},{"$f":"IFERROR($E67*SUMIF('Daily Log'!$H$18:$H$1017,$B67,'Daily Log'!$I$18:$I$1017),0)","v":0},{"$f":"IFERROR($E67*SUMIF('Daily Log'!$K$18:$K$1017,$B67,'Daily Log'!$L$18:$L$1017),0)","v":0},{"$f":"IFERROR($E67*SUMIF('Daily Log'!$N$18:$N$1017,$B67,'Daily Log'!$O$18:$O$1017),0)","v":0},{"$f":"IFERROR($E67*SUMIF('Daily Log'!#REF!,$B67,'Daily Log'!#REF!),0)","v":0},{"$f":"IFERROR($E67*SUMIF('Daily Log'!#REF!,$B67,'Daily Log'!#REF!),0)","v":0},{"$f":"IFERROR($E67*SUMIF('Daily Log'!#REF!,$B67,'Daily Log'!#REF!),0)","v":0},{"$f":"IFERROR($E67*SUMIF('Daily Log'!#REF!,$B67,'Daily Log'!#REF!),0)","v":0},{"$f":"IFERROR($E67*SUMIF('Daily Log'!#REF!,$B67,'Daily Log'!#REF!),0)","v":0},{"$f":"IFERROR($E67*SUMIF('Daily Log'!#REF!,$B67,'Daily Log'!#REF!),0)","v":0},{"$f":"IFERROR($E67*SUMIF('Daily Log'!#REF!,$B67,'Daily Log'!#REF!),0)","v":0},{"$f":"IFERROR($E67*SUMIF('Daily Log'!#REF!,$B67,'Daily Log'!#REF!),0)","v":0},{"$f":"IFERROR($E67*SUMIF('Daily Log'!#REF!,$B67,'Daily Log'!#REF!),0)","v":0},{"$f":"IFERROR($E67*SUMIF('Daily Log'!#REF!,$B67,'Daily Log'!#REF!),0)","v":0},{"$f":"IFERROR($E67*SUMIF('Daily Log'!#REF!,$B67,'Daily Log'!#REF!),0)","v":0},{"$f":"IFERROR($E67*SUMIF('Daily Log'!#REF!,$B67,'Daily Log'!#REF!),0)","v":0},{"$f":"IFERROR($E67*SUMIF('Daily Log'!#REF!,$B67,'Daily Log'!#REF!),0)","v":0},{"$f":"IFERROR($E67*SUMIF('Daily Log'!#REF!,$B67,'Daily Log'!#REF!),0)","v":0},{"$f":"IFERROR($E67*SUMIF('Daily Log'!#REF!,$B67,'Daily Log'!#REF!),0)","v":0},{"$f":"IFERROR($E67*SUMIF('Daily Log'!#REF!,$B67,'Daily Log'!#REF!),0)","v":0},{"$f":"IFERROR($E67*SUMIF('Daily Log'!#REF!,$B67,'Daily Log'!#REF!),0)","v":0},{"$f":"IFERROR($E67*SUMIF('Daily Log'!#REF!,$B67,'Daily Log'!#REF!),0)","v":0},{"$f":"IFERROR($E67*SUMIF('Daily Log'!#REF!,$B67,'Daily Log'!#REF!),0)","v":0},{"$f":"IFERROR($E67*SUMIF('Daily Log'!#REF!,$B67,'Daily Log'!#REF!),0)","v":0},{"$f":"IFERROR($E67*SUMIF('Daily Log'!#REF!,$B67,'Daily Log'!#REF!),0)","v":0},{"$f":"IFERROR($E67*SUMIF('Daily Log'!#REF!,$B67,'Daily Log'!#REF!),0)","v":0},{"$f":"IFERROR($E67*SUMIF('Daily Log'!#REF!,$B67,'Daily Log'!#REF!),0)","v":0},{"$f":"IFERROR($E67*SUMIF('Daily Log'!#REF!,$B67,'Daily Log'!#REF!),0)","v":0},{"$f":"IFERROR($E67*SUMIF('Daily Log'!#REF!,$B67,'Daily Log'!#REF!),0)","v":0},{"$f":"IFERROR($E67*SUMIF('Daily Log'!#REF!,$B67,'Daily Log'!#REF!),0)","v":0}]
[null,"AB16 H : EVENT",null,null,null,0,{"$f":"IFERROR($E68*SUMIF('Daily Log'!$B$18:$B$1017,$B68,'Daily Log'!$C$18:$C$1017),0)","v":0},{"$f":"IFERROR($E68*SUMIF('Daily Log'!$E$18:$E$1017,$B68,'Daily Log'!$F$18:$F$1017),0)","v":0},{"$f":"IFERROR($E68*SUMIF('Daily Log'!$H$18:$H$1017,$B68,'Daily Log'!$I$18:$I$1017),0)","v":0},{"$f":"IFERROR($E68*SUMIF('Daily Log'!$K$18:$K$1017,$B68,'Daily Log'!$L$18:$L$1017),0)","v":0},{"$f":"IFERROR($E68*SUMIF('Daily Log'!$N$18:$N$1017,$B68,'Daily Log'!$O$18:$O$1017),0)","v":0},{"$f":"IFERROR($E68*SUMIF('Daily Log'!#REF!,$B68,'Daily Log'!#REF!),0)","v":0},{"$f":"IFERROR($E68*SUMIF('Daily Log'!#REF!,$B68,'Daily Log'!#REF!),0)","v":0},{"$f":"IFERROR($E68*SUMIF('Daily Log'!#REF!,$B68,'Daily Log'!#REF!),0)","v":0},{"$f":"IFERROR($E68*SUMIF('Daily Log'!#REF!,$B68,'Daily Log'!#REF!),0)","v":0},{"$f":"IFERROR($E68*SUMIF('Daily Log'!#REF!,$B68,'Daily Log'!#REF!),0)","v":0},{"$f":"IFERROR($E68*SUMIF('Daily Log'!#REF!,$B68,'Daily Log'!#REF!),0)","v":0},{"$f":"IFERROR($E68*SUMIF('Daily Log'!#REF!,$B68,'Daily Log'!#REF!),0)","v":0},{"$f":"IFERROR($E68*SUMIF('Daily Log'!#REF!,$B68,'Daily Log'!#REF!),0)","v":0},{"$f":"IFERROR($E68*SUMIF('Daily Log'!#REF!,$B68,'Daily Log'!#REF!),0)","v":0},{"$f":"IFERROR($E68*SUMIF('Daily Log'!#REF!,$B68,'Daily Log'!#REF!),0)","v":0},{"$f":"IFERROR($E68*SUMIF('Daily Log'!#REF!,$B68,'Daily Log'!#REF!),0)","v":0},{"$f":"IFERROR($E68*SUMIF('Daily Log'!#REF!,$B68,'Daily Log'!#REF!),0)","v":0},{"$f":"IFERROR($E68*SUMIF('Daily Log'!#REF!,$B68,'Daily Log'!#REF!),0)","v":0},{"$f":"IFERROR($E68*SUMIF('Daily Log'!#REF!,$B68,'Daily Log'!#REF!),0)","v":0},{"$f":"IFERROR($E68*SUMIF('Daily Log'!#REF!,$B68,'Daily Log'!#REF!),0)","v":0},{"$f":"IFERROR($E68*SUMIF('Daily Log'!#REF!,$B68,'Daily Log'!#REF!),0)","v":0},{"$f":"IFERROR($E68*SUMIF('Daily Log'!#REF!,$B68,'Daily Log'!#REF!),0)","v":0},{"$f":"IFERROR($E68*SUMIF('Daily Log'!#REF!,$B68,'Daily Log'!#REF!),0)","v":0},{"$f":"IFERROR($E68*SUMIF('Daily Log'!#REF!,$B68,'Daily Log'!#REF!),0)","v":0},{"$f":"IFERROR($E68*SUMIF('Daily Log'!#REF!,$B68,'Daily Log'!#REF!),0)","v":0},{"$f":"IFERROR($E68*SUMIF('Daily Log'!#REF!,$B68,'Daily Log'!#REF!),0)","v":0},{"$f":"IFERROR($E68*SUMIF('Daily Log'!#REF!,$B68,'Daily Log'!#REF!),0)","v":0},{"$f":"IFERROR($E68*SUMIF('Daily Log'!#REF!,$B68,'Daily Log'!#REF!),0)","v":0},{"$f":"IFERROR($E68*SUMIF('Daily Log'!#REF!,$B68,'Daily Log'!#REF!),0)","v":0},{"$f":"IFERROR($E68*SUMIF('Daily Log'!#REF!,$B68,'Daily Log'!#REF!),0)","v":0},{"$f":"IFERROR($E68*SUMIF('Daily Log'!#REF!,$B68,'Daily Log'!#REF!),0)","v":0}]
[null,"AB17 H : XTD S ROOM",null,null,null,0,{"$f":"IFERROR($E69*SUMIF('Daily Log'!$B$18:$B$1017,$B69,'Daily Log'!$C$18:$C$1017),0)","v":0},{"$f":"IFERROR($E69*SUMIF('Daily Log'!$E$18:$E$1017,$B69,'Daily Log'!$F$18:$F$1017),0)","v":0},{"$f":"IFERROR($E69*SUMIF('Daily Log'!$H$18:$H$1017,$B69,'Daily Log'!$I$18:$I$1017),0)","v":0},{"$f":"IFERROR($E69*SUMIF('Daily Log'!$K$18:$K$1017,$B69,'Daily Log'!$L$18:$L$1017),0)","v":0},{"$f":"IFERROR($E69*SUMIF('Daily Log'!$N$18:$N$1017,$B69,'Daily Log'!$O$18:$O$1017),0)","v":0},{"$f":"IFERROR($E69*SUMIF('Daily Log'!#REF!,$B69,'Daily Log'!#REF!),0)","v":0},{"$f":"IFERROR($E69*SUMIF('Daily Log'!#REF!,$B69,'Daily Log'!#REF!),0)","v":0},{"$f":"IFERROR($E69*SUMIF('Daily Log'!#REF!,$B69,'Daily Log'!#REF!),0)","v":0},{"$f":"IFERROR($E69*SUMIF('Daily Log'!#REF!,$B69,'Daily Log'!#REF!),0)","v":0},{"$f":"IFERROR($E69*SUMIF('Daily Log'!#REF!,$B69,'Daily Log'!#REF!),0)","v":0},{"$f":"IFERROR($E69*SUMIF('Daily Log'!#REF!,$B69,'Daily Log'!#REF!),0)","v":0},{"$f":"IFERROR($E69*SUMIF('Daily Log'!#REF!,$B69,'Daily Log'!#REF!),0)","v":0},{"$f":"IFERROR($E69*SUMIF('Daily Log'!#REF!,$B69,'Daily Log'!#REF!),0)","v":0},{"$f":"IFERROR($E69*SUMIF('Daily Log'!#REF!,$B69,'Daily Log'!#REF!),0)","v":0},{"$f":"IFERROR($E69*SUMIF('Daily Log'!#REF!,$B69,'Daily Log'!#REF!),0)","v":0},{"$f":"IFERROR($E69*SUMIF('Daily Log'!#REF!,$B69,'Daily Log'!#REF!),0)","v":0},{"$f":"IFERROR($E69*SUMIF('Daily Log'!#REF!,$B69,'Daily Log'!#REF!),0)","v":0},{"$f":"IFERROR($E69*SUMIF('Daily Log'!#REF!,$B69,'Daily Log'!#REF!),0)","v":0},{"$f":"IFERROR($E69*SUMIF('Daily Log'!#REF!,$B69,'Daily Log'!#REF!),0)","v":0},{"$f":"IFERROR($E69*SUMIF('Daily Log'!#REF!,$B69,'Daily Log'!#REF!),0)","v":0},{"$f":"IFERROR($E69*SUMIF('Daily Log'!#REF!,$B69,'Daily Log'!#REF!),0)","v":0},{"$f":"IFERROR($E69*SUMIF('Daily Log'!#REF!,$B69,'Daily Log'!#REF!),0)","v":0},{"$f":"IFERROR($E69*SUMIF('Daily Log'!#REF!,$B69,'Daily Log'!#REF!),0)","v":0},{"$f":"IFERROR($E69*SUMIF('Daily Log'!#REF!,$B69,'Daily Log'!#REF!),0)","v":0},{"$f":"IFERROR($E69*SUMIF('Daily Log'!#REF!,$B69,'Daily Log'!#REF!),0)","v":0},{"$f":"IFERROR($E69*SUMIF('Daily Log'!#REF!,$B69,'Daily Log'!#REF!),0)","v":0},{"$f":"IFERROR($E69*SUMIF('Daily Log'!#REF!,$B69,'Daily Log'!#REF!),0)","v":0},{"$f":"IFERROR($E69*SUMIF('Daily Log'!#REF!,$B69,'Daily Log'!#REF!),0)","v":0},{"$f":"IFERROR($E69*SUMIF('Daily Log'!#REF!,$B69,'Daily Log'!#REF!),0)","v":0},{"$f":"IFERROR($E69*SUMIF('Daily Log'!#REF!,$B69,'Daily Log'!#REF!),0)","v":0},{"$f":"IFERROR($E69*SUMIF('Daily Log'!#REF!,$B69,'Daily Log'!#REF!),0)","v":0}]
[null,"AB18 H : XTD M ROOM",null,null,null,0,{"$f":"IFERROR($E70*SUMIF('Daily Log'!$B$18:$B$1017,$B70,'Daily Log'!$C$18:$C$1017),0)","v":0},{"$f":"IFERROR($E70*SUMIF('Daily Log'!$E$18:$E$1017,$B70,'Daily Log'!$F$18:$F$1017),0)","v":0},{"$f":"IFERROR($E70*SUMIF('Daily Log'!$H$18:$H$1017,$B70,'Daily Log'!$I$18:$I$1017),0)","v":0},{"$f":"IFERROR($E70*SUMIF('Daily Log'!$K$18:$K$1017,$B70,'Daily Log'!$L$18:$L$1017),0)","v":0},{"$f":"IFERROR($E70*SUMIF('Daily Log'!$N$18:$N$1017,$B70,'Daily Log'!$O$18:$O$1017),0)","v":0},{"$f":"IFERROR($E70*SUMIF('Daily Log'!#REF!,$B70,'Daily Log'!#REF!),0)","v":0},{"$f":"IFERROR($E70*SUMIF('Daily Log'!#REF!,$B70,'Daily Log'!#REF!),0)","v":0},{"$f":"IFERROR($E70*SUMIF('Daily Log'!#REF!,$B70,'Daily Log'!#REF!),0)","v":0},{"$f":"IFERROR($E70*SUMIF('Daily Log'!#REF!,$B70,'Daily Log'!#REF!),0)","v":0},{"$f":"IFERROR($E70*SUMIF('Daily Log'!#REF!,$B70,'Daily Log'!#REF!),0)","v":0},{"$f":"IFERROR($E70*SUMIF('Daily Log'!#REF!,$B70,'Daily Log'!#REF!),0)","v":0},{"$f":"IFERROR($E70*SUMIF('Daily Log'!#REF!,$B70,'Daily Log'!#REF!),0)","v":0},{"$f":"IFERROR($E70*SUMIF('Daily Log'!#REF!,$B70,'Daily Log'!#REF!),0)","v":0},{"$f":"IFERROR($E70*SUMIF('Daily Log'!#REF!,$B70,'Daily Log'!#REF!),0)","v":0},{"$f":"IFERROR($E70*SUMIF('Daily Log'!#REF!,$B70,'Daily Log'!#REF!),0)","v":0},{"$f":"IFERROR($E70*SUMIF('Daily Log'!#REF!,$B70,'Daily Log'!#REF!),0)","v":0},{"$f":"IFERROR($E70*SUMIF('Daily Log'!#REF!,$B70,'Daily Log'!#REF!),0)","v":0},{"$f":"IFERROR($E70*SUMIF('Daily Log'!#REF!,$B70,'Daily Log'!#REF!),0)","v":0},{"$f":"IFERROR($E70*SUMIF('Daily Log'!#REF!,$B70,'Daily Log'!#REF!),0)","v":0},{"$f":"IFERROR($E70*SUMIF('Daily Log'!#REF!,$B70,'Daily Log'!#REF!),0)","v":0},{"$f":"IFERROR($E70*SUMIF('Daily Log'!#REF!,$B70,'Daily Log'!#REF!),0)","v":0},{"$f":"IFERROR($E70*SUMIF('Daily Log'!#REF!,$B70,'Daily Log'!#REF!),0)","v":0},{"$f":"IFERROR($E70*SUMIF('Daily Log'!#REF!,$B70,'Daily Log'!#REF!),0)","v":0},{"$f":"IFERROR($E70*SUMIF('Daily Log'!#REF!,$B70,'Daily Log'!#REF!),0)","v":0},{"$f":"IFERROR($E70*SUMIF('Daily Log'!#REF!,$B70,'Daily Log'!#REF!),0)","v":0},{"$f":"IFERROR($E70*SUMIF('Daily Log'!#REF!,$B70,'Daily Log'!#REF!),0)","v":0},{"$f":"IFERROR($E70*SUMIF('Daily Log'!#REF!,$B70,'Daily Log'!#REF!),0)","v":0},{"$f":"IFERROR($E70*SUMIF('Daily Log'!#REF!,$B70,'Daily Log'!#REF!),0)","v":0},{"$f":"IFERROR($E70*SUMIF('Daily Log'!#REF!,$B70,'Daily Log'!#REF!),0)","v":0},{"$f":"IFERROR($E70*SUMIF('Daily Log'!#REF!,$B70,'Daily Log'!#REF!),0)","v":0},{"$f":"IFERROR($E70*SUMIF('Daily Log'!#REF!,$B70,'Daily Log'!#REF!),0)","v":0}]
[null,"AB19 H : XTD B ROOM",null,null,null,0,{"$f":"IFERROR($E71*SUMIF('Daily Log'!$B$18:$B$1017,$B71,'Daily Log'!$C$18:$C$1017),0)","v":0},{"$f":"IFERROR($E71*SUMIF('Daily Log'!$E$18:$E$1017,$B71,'Daily Log'!$F$18:$F$1017),0)","v":0},{"$f":"IFERROR($E71*SUMIF('Daily Log'!$H$18:$H$1017,$B71,'Daily Log'!$I$18:$I$1017),0)","v":0},{"$f":"IFERROR($E71*SUMIF('Daily Log'!$K$18:$K$1017,$B71,'Daily Log'!$L$18:$L$1017),0)","v":0},{"$f":"IFERROR($E71*SUMIF('Daily Log'!$N$18:$N$1017,$B71,'Daily Log'!$O$18:$O$1017),0)","v":0},{"$f":"IFERROR($E71*SUMIF('Daily Log'!#REF!,$B71,'Daily Log'!#REF!),0)","v":0},{"$f":"IFERROR($E71*SUMIF('Daily Log'!#REF!,$B71,'Daily Log'!#REF!),0)","v":0},{"$f":"IFERROR($E71*SUMIF('Daily Log'!#REF!,$B71,'Daily Log'!#REF!),0)","v":0},{"$f":"IFERROR($E71*SUMIF('Daily Log'!#REF!,$B71,'Daily Log'!#REF!),0)","v":0},{"$f":"IFERROR($E71*SUMIF('Daily Log'!#REF!,$B71,'Daily Log'!#REF!),0)","v":0},{"$f":"IFERROR($E71*SUMIF('Daily Log'!#REF!,$B71,'Daily Log'!#REF!),0)","v":0},{"$f":"IFERROR($E71*SUMIF('Daily Log'!#REF!,$B71,'Daily Log'!#REF!),0)","v":0},{"$f":"IFERROR($E71*SUMIF('Daily Log'!#REF!,$B71,'Daily Log'!#REF!),0)","v":0},{"$f":"IFERROR($E71*SUMIF('Daily Log'!#REF!,$B71,'Daily Log'!#REF!),0)","v":0},{"$f":"IFERROR($E71*SUMIF('Daily Log'!#REF!,$B71,'Daily Log'!#REF!),0)","v":0},{"$f":"IFERROR($E71*SUMIF('Daily Log'!#REF!,$B71,'Daily Log'!#REF!),0)","v":0},{"$f":"IFERROR($E71*SUMIF('Daily Log'!#REF!,$B71,'Daily Log'!#REF!),0)","v":0},{"$f":"IFERROR($E71*SUMIF('Daily Log'!#REF!,$B71,'Daily Log'!#REF!),0)","v":0},{"$f":"IFERROR($E71*SUMIF('Daily Log'!#REF!,$B71,'Daily Log'!#REF!),0)","v":0},{"$f":"IFERROR($E71*SUMIF('Daily Log'!#REF!,$B71,'Daily Log'!#REF!),0)","v":0},{"$f":"IFERROR($E71*SUMIF('Daily Log'!#REF!,$B71,'Daily Log'!#REF!),0)","v":0},{"$f":"IFERROR($E71*SUMIF('Daily Log'!#REF!,$B71,'Daily Log'!#REF!),0)","v":0},{"$f":"IFERROR($E71*SUMIF('Daily Log'!#REF!,$B71,'Daily Log'!#REF!),0)","v":0},{"$f":"IFERROR($E71*SUMIF('Daily Log'!#REF!,$B71,'Daily Log'!#REF!),0)","v":0},{"$f":"IFERROR($E71*SUMIF('Daily Log'!#REF!,$B71,'Daily Log'!#REF!),0)","v":0},{"$f":"IFERROR($E71*SUMIF('Daily Log'!#REF!,$B71,'Daily Log'!#REF!),0)","v":0},{"$f":"IFERROR($E71*SUMIF('Daily Log'!#REF!,$B71,'Daily Log'!#REF!),0)","v":0},{"$f":"IFERROR($E71*SUMIF('Daily Log'!#REF!,$B71,'Daily Log'!#REF!),0)","v":0},{"$f":"IFERROR($E71*SUMIF('Daily Log'!#REF!,$B71,'Daily Log'!#REF!),0)","v":0},{"$f":"IFERROR($E71*SUMIF('Daily Log'!#REF!,$B71,'Daily Log'!#REF!),0)","v":0},{"$f":"IFERROR($E71*SUMIF('Daily Log'!#REF!,$B71,'Daily Log'!#REF!),0)","v":0}]
[null,"AB20 H : FOC HOUR",null,null,null,0,{"$f":"IFERROR($E72*SUMIF('Daily Log'!$B$18:$B$1017,$B72,'Daily Log'!$C$18:$C$1017),0)","v":0},{"$f":"IFERROR($E72*SUMIF('Daily Log'!$E$18:$E$1017,$B72,'Daily Log'!$F$18:$F$1017),0)","v":0},{"$f":"IFERROR($E72*SUMIF('Daily Log'!$H$18:$H$1017,$B72,'Daily Log'!$I$18:$I$1017),0)","v":0},{"$f":"IFERROR($E72*SUMIF('Daily Log'!$K$18:$K$1017,$B72,'Daily Log'!$L$18:$L$1017),0)","v":0},{"$f":"IFERROR($E72*SUMIF('Daily Log'!$N$18:$N$1017,$B72,'Daily Log'!$O$18:$O$1017),0)","v":0},{"$f":"IFERROR($E72*SUMIF('Daily Log'!#REF!,$B72,'Daily Log'!#REF!),0)","v":0},{"$f":"IFERROR($E72*SUMIF('Daily Log'!#REF!,$B72,'Daily Log'!#REF!),0)","v":0},{"$f":"IFERROR($E72*SUMIF('Daily Log'!#REF!,$B72,'Daily Log'!#REF!),0)","v":0},{"$f":"IFERROR($E72*SUMIF('Daily Log'!#REF!,$B72,'Daily Log'!#REF!),0)","v":0},{"$f":"IFERROR($E72*SUMIF('Daily Log'!#REF!,$B72,'Daily Log'!#REF!),0)","v":0},{"$f":"IFERROR($E72*SUMIF('Daily Log'!#REF!,$B72,'Daily Log'!#REF!),0)","v":0},{"$f":"IFERROR($E72*SUMIF('Daily Log'!#REF!,$B72,'Daily Log'!#REF!),0)","v":0},{"$f":"IFERROR($E72*SUMIF('Daily Log'!#REF!,$B72,'Daily Log'!#REF!),0)","v":0},{"$f":"IFERROR($E72*SUMIF('Daily Log'!#REF!,$B72,'Daily Log'!#REF!),0)","v":0},{"$f":"IFERROR($E72*SUMIF('Daily Log'!#REF!,$B72,'Daily Log'!#REF!),0)","v":0},{"$f":"IFERROR($E72*SUMIF('Daily Log'!#REF!,$B72,'Daily Log'!#REF!),0)","v":0},{"$f":"IFERROR($E72*SUMIF('Daily Log'!#REF!,$B72,'Daily Log'!#REF!),0)","v":0},{"$f":"IFERROR($E72*SUMIF('Daily Log'!#REF!,$B72,'Daily Log'!#REF!),0)","v":0},{"$f":"IFERROR($E72*SUMIF('Daily Log'!#REF!,$B72,'Daily Log'!#REF!),0)","v":0},{"$f":"IFERROR($E72*SUMIF('Daily Log'!#REF!,$B72,'Daily Log'!#REF!),0)","v":0},{"$f":"IFERROR($E72*SUMIF('Daily Log'!#REF!,$B72,'Daily Log'!#REF!),0)","v":0},{"$f":"IFERROR($E72*SUMIF('Daily Log'!#REF!,$B72,'Daily Log'!#REF!),0)","v":0},{"$f":"IFERROR($E72*SUMIF('Daily Log'!#REF!,$B72,'Daily Log'!#REF!),0)","v":0},{"$f":"IFERROR($E72*SUMIF('Daily Log'!#REF!,$B72,'Daily Log'!#REF!),0)","v":0},{"$f":"IFERROR($E72*SUMIF('Daily Log'!#REF!,$B72,'Daily Log'!#REF!),0)","v":0},{"$f":"IFERROR($E72*SUMIF('Daily Log'!#REF!,$B72,'Daily Log'!#REF!),0)","v":0},{"$f":"IFERROR($E72*SUMIF('Daily Log'!#REF!,$B72,'Daily Log'!#REF!),0)","v":0},{"$f":"IFERROR($E72*SUMIF('Daily Log'!#REF!,$B72,'Daily Log'!#REF!),0)","v":0},{"$f":"IFERROR($E72*SUMIF('Daily Log'!#REF!,$B72,'Daily Log'!#REF!),0)","v":0},{"$f":"IFERROR($E72*SUMIF('Daily Log'!#REF!,$B72,'Daily Log'!#REF!),0)","v":0},{"$f":"IFERROR($E72*SUMIF('Daily Log'!#REF!,$B72,'Daily Log'!#REF!),0)","v":0}]
[null,"AB41 N : REGULAR",null,null,null,0,{"$f":"IFERROR($E73*SUMIF('Daily Log'!$B$18:$B$1017,$B73,'Daily Log'!$C$18:$C$1017),0)","v":0},{"$f":"IFERROR($E73*SUMIF('Daily Log'!$E$18:$E$1017,$B73,'Daily Log'!$F$18:$F$1017),0)","v":0},{"$f":"IFERROR($E73*SUMIF('Daily Log'!$H$18:$H$1017,$B73,'Daily Log'!$I$18:$I$1017),0)","v":0},{"$f":"IFERROR($E73*SUMIF('Daily Log'!$K$18:$K$1017,$B73,'Daily Log'!$L$18:$L$1017),0)","v":0},{"$f":"IFERROR($E73*SUMIF('Daily Log'!$N$18:$N$1017,$B73,'Daily Log'!$O$18:$O$1017),0)","v":0},{"$f":"IFERROR($E73*SUMIF('Daily Log'!#REF!,$B73,'Daily Log'!#REF!),0)","v":0},{"$f":"IFERROR($E73*SUMIF('Daily Log'!#REF!,$B73,'Daily Log'!#REF!),0)","v":0},{"$f":"IFERROR($E73*SUMIF('Daily Log'!#REF!,$B73,'Daily Log'!#REF!),0)","v":0},{"$f":"IFERROR($E73*SUMIF('Daily Log'!#REF!,$B73,'Daily Log'!#REF!),0)","v":0},{"$f":"IFERROR($E73*SUMIF('Daily Log'!#REF!,$B73,'Daily Log'!#REF!),0)","v":0},{"$f":"IFERROR($E73*SUMIF('Daily Log'!#REF!,$B73,'Daily Log'!#REF!),0)","v":0},{"$f":"IFERROR($E73*SUMIF('Daily Log'!#REF!,$B73,'Daily Log'!#REF!),0)","v":0},{"$f":"IFERROR($E73*SUMIF('Daily Log'!#REF!,$B73,'Daily Log'!#REF!),0)","v":0},{"$f":"IFERROR($E73*SUMIF('Daily Log'!#REF!,$B73,'Daily Log'!#REF!),0)","v":0},{"$f":"IFERROR($E73*SUMIF('Daily Log'!#REF!,$B73,'Daily Log'!#REF!),0)","v":0},{"$f":"IFERROR($E73*SUMIF('Daily Log'!#REF!,$B73,'Daily Log'!#REF!),0)","v":0},{"$f":"IFERROR($E73*SUMIF('Daily Log'!#REF!,$B73,'Daily Log'!#REF!),0)","v":0},{"$f":"IFERROR($E73*SUMIF('Daily Log'!#REF!,$B73,'Daily Log'!#REF!),0)","v":0},{"$f":"IFERROR($E73*SUMIF('Daily Log'!#REF!,$B73,'Daily Log'!#REF!),0)","v":0},{"$f":"IFERROR($E73*SUMIF('Daily Log'!#REF!,$B73,'Daily Log'!#REF!),0)","v":0},{"$f":"IFERROR($E73*SUMIF('Daily Log'!#REF!,$B73,'Daily Log'!#REF!),0)","v":0},{"$f":"IFERROR($E73*SUMIF('Daily Log'!#REF!,$B73,'Daily Log'!#REF!),0)","v":0},{"$f":"IFERROR($E73*SUMIF('Daily Log'!#REF!,$B73,'Daily Log'!#REF!),0)","v":0},{"$f":"IFERROR($E73*SUMIF('Daily Log'!#REF!,$B73,'Daily Log'!#REF!),0)","v":0},{"$f":"IFERROR($E73*SUMIF('Daily Log'!#REF!,$B73,'Daily Log'!#REF!),0)","v":0},{"$f":"IFERROR($E73*SUMIF('Daily Log'!#REF!,$B73,'Daily Log'!#REF!),0)","v":0},{"$f":"IFERROR($E73*SUMIF('Daily Log'!#REF!,$B73,'Daily Log'!#REF!),0)","v":0},{"$f":"IFERROR($E73*SUMIF('Daily Log'!#REF!,$B73,'Daily Log'!#REF!),0)","v":0},{"$f":"IFERROR($E73*SUMIF('Daily Log'!#REF!,$B73,'Daily Log'!#REF!),0)","v":0},{"$f":"IFERROR($E73*SUMIF('Daily Log'!#REF!,$B73,'Daily Log'!#REF!),0)","v":0},{"$f":"IFERROR($E73*SUMIF('Daily Log'!#REF!,$B73,'Daily Log'!#REF!),0)","v":0}]
[null,"AB42 N : MEMBER",null,null,null,0,{"$f":"IFERROR($E74*SUMIF('Daily Log'!$B$18:$B$1017,$B74,'Daily Log'!$C$18:$C$1017),0)","v":0},{"$f":"IFERROR($E74*SUMIF('Daily Log'!$E$18:$E$1017,$B74,'Daily Log'!$F$18:$F$1017),0)","v":0},{"$f":"IFERROR($E74*SUMIF('Daily Log'!$H$18:$H$1017,$B74,'Daily Log'!$I$18:$I$1017),0)","v":0},{"$f":"IFERROR($E74*SUMIF('Daily Log'!$K$18:$K$1017,$B74,'Daily Log'!$L$18:$L$1017),0)","v":0},{"$f":"IFERROR($E74*SUMIF('Daily Log'!$N$18:$N$1017,$B74,'Daily Log'!$O$18:$O$1017),0)","v":0},{"$f":"IFERROR($E74*SUMIF('Daily Log'!#REF!,$B74,'Daily Log'!#REF!),0)","v":0},{"$f":"IFERROR($E74*SUMIF('Daily Log'!#REF!,$B74,'Daily Log'!#REF!),0)","v":0},{"$f":"IFERROR($E74*SUMIF('Daily Log'!#REF!,$B74,'Daily Log'!#REF!),0)","v":0},{"$f":"IFERROR($E74*SUMIF('Daily Log'!#REF!,$B74,'Daily Log'!#REF!),0)","v":0},{"$f":"IFERROR($E74*SUMIF('Daily Log'!#REF!,$B74,'Daily Log'!#REF!),0)","v":0},{"$f":"IFERROR($E74*SUMIF('Daily Log'!#REF!,$B74,'Daily Log'!#REF!),0)","v":0},{"$f":"IFERROR($E74*SUMIF('Daily Log'!#REF!,$B74,'Daily Log'!#REF!),0)","v":0},{"$f":"IFERROR($E74*SUMIF('Daily Log'!#REF!,$B74,'Daily Log'!#REF!),0)","v":0},{"$f":"IFERROR($E74*SUMIF('Daily Log'!#REF!,$B74,'Daily Log'!#REF!),0)","v":0},{"$f":"IFERROR($E74*SUMIF('Daily Log'!#REF!,$B74,'Daily Log'!#REF!),0)","v":0},{"$f":"IFERROR($E74*SUMIF('Daily Log'!#REF!,$B74,'Daily Log'!#REF!),0)","v":0},{"$f":"IFERROR($E74*SUMIF('Daily Log'!#REF!,$B74,'Daily Log'!#REF!),0)","v":0},{"$f":"IFERROR($E74*SUMIF('Daily Log'!#REF!,$B74,'Daily Log'!#REF!),0)","v":0},{"$f":"IFERROR($E74*SUMIF('Daily Log'!#REF!,$B74,'Daily Log'!#REF!),0)","v":0},{"$f":"IFERROR($E74*SUMIF('Daily Log'!#REF!,$B74,'Daily Log'!#REF!),0)","v":0},{"$f":"IFERROR($E74*SUMIF('Daily Log'!#REF!,$B74,'Daily Log'!#REF!),0)","v":0},{"$f":"IFERROR($E74*SUMIF('Daily Log'!#REF!,$B74,'Daily Log'!#REF!),0)","v":0},{"$f":"IFERROR($E74*SUMIF('Daily Log'!#REF!,$B74,'Daily Log'!#REF!),0)","v":0},{"$f":"IFERROR($E74*SUMIF('Daily Log'!#REF!,$B74,'Daily Log'!#REF!),0)","v":0},{"$f":"IFERROR($E74*SUMIF('Daily Log'!#REF!,$B74,'Daily Log'!#REF!),0)","v":0},{"$f":"IFERROR($E74*SUMIF('Daily Log'!#REF!,$B74,'Daily Log'!#REF!),0)","v":0},{"$f":"IFERROR($E74*SUMIF('Daily Log'!#REF!,$B74,'Daily Log'!#REF!),0)","v":0},{"$f":"IFERROR($E74*SUMIF('Daily Log'!#REF!,$B74,'Daily Log'!#REF!),0)","v":0},{"$f":"IFERROR($E74*SUMIF('Daily Log'!#REF!,$B74,'Daily Log'!#REF!),0)","v":0},{"$f":"IFERROR($E74*SUMIF('Daily Log'!#REF!,$B74,'Daily Log'!#REF!),0)","v":0},{"$f":"IFERROR($E74*SUMIF('Daily Log'!#REF!,$B74,'Daily Log'!#REF!),0)","v":0}]
[null,"AB43 N : MEMBER 30%",null,null,null,0,{"$f":"IFERROR($E75*SUMIF('Daily Log'!$B$18:$B$1017,$B75,'Daily Log'!$C$18:$C$1017),0)","v":0},{"$f":"IFERROR($E75*SUMIF('Daily Log'!$E$18:$E$1017,$B75,'Daily Log'!$F$18:$F$1017),0)","v":0},{"$f":"IFERROR($E75*SUMIF('Daily Log'!$H$18:$H$1017,$B75,'Daily Log'!$I$18:$I$1017),0)","v":0},{"$f":"IFERROR($E75*SUMIF('Daily Log'!$K$18:$K$1017,$B75,'Daily Log'!$L$18:$L$1017),0)","v":0},{"$f":"IFERROR($E75*SUMIF('Daily Log'!$N$18:$N$1017,$B75,'Daily Log'!$O$18:$O$1017),0)","v":0},{"$f":"IFERROR($E75*SUMIF('Daily Log'!#REF!,$B75,'Daily Log'!#REF!),0)","v":0},{"$f":"IFERROR($E75*SUMIF('Daily Log'!#REF!,$B75,'Daily Log'!#REF!),0)","v":0},{"$f":"IFERROR($E75*SUMIF('Daily Log'!#REF!,$B75,'Daily Log'!#REF!),0)","v":0},{"$f":"IFERROR($E75*SUMIF('Daily Log'!#REF!,$B75,'Daily Log'!#REF!),0)","v":0},{"$f":"IFERROR($E75*SUMIF('Daily Log'!#REF!,$B75,'Daily Log'!#REF!),0)","v":0},{"$f":"IFERROR($E75*SUMIF('Daily Log'!#REF!,$B75,'Daily Log'!#REF!),0)","v":0},{"$f":"IFERROR($E75*SUMIF('Daily Log'!#REF!,$B75,'Daily Log'!#REF!),0)","v":0},{"$f":"IFERROR($E75*SUMIF('Daily Log'!#REF!,$B75,'Daily Log'!#REF!),0)","v":0},{"$f":"IFERROR($E75*SUMIF('Daily Log'!#REF!,$B75,'Daily Log'!#REF!),0)","v":0},{"$f":"IFERROR($E75*SUMIF('Daily Log'!#REF!,$B75,'Daily Log'!#REF!),0)","v":0},{"$f":"IFERROR($E75*SUMIF('Daily Log'!#REF!,$B75,'Daily Log'!#REF!),0)","v":0},{"$f":"IFERROR($E75*SUMIF('Daily Log'!#REF!,$B75,'Daily Log'!#REF!),0)","v":0},{"$f":"IFERROR($E75*SUMIF('Daily Log'!#REF!,$B75,'Daily Log'!#REF!),0)","v":0},{"$f":"IFERROR($E75*SUMIF('Daily Log'!#REF!,$B75,'Daily Log'!#REF!),0)","v":0},{"$f":"IFERROR($E75*SUMIF('Daily Log'!#REF!,$B75,'Daily Log'!#REF!),0)","v":0},{"$f":"IFERROR($E75*SUMIF('Daily Log'!#REF!,$B75,'Daily Log'!#REF!),0)","v":0},{"$f":"IFERROR($E75*SUMIF('Daily Log'!#REF!,$B75,'Daily Log'!#REF!),0)","v":0},{"$f":"IFERROR($E75*SUMIF('Daily Log'!#REF!,$B75,'Daily Log'!#REF!),0)","v":0},{"$f":"IFERROR($E75*SUMIF('Daily Log'!#REF!,$B75,'Daily Log'!#REF!),0)","v":0},{"$f":"IFERROR($E75*SUMIF('Daily Log'!#REF!,$B75,'Daily Log'!#REF!),0)","v":0},{"$f":"IFERROR($E75*SUMIF('Daily Log'!#REF!,$B75,'Daily Log'!#REF!),0)","v":0},{"$f":"IFERROR($E75*SUMIF('Daily Log'!#REF!,$B75,'Daily Log'!#REF!),0)","v":0},{"$f":"IFERROR($E75*SUMIF('Daily Log'!#REF!,$B75,'Daily Log'!#REF!),0)","v":0},{"$f":"IFERROR($E75*SUMIF('Daily Log'!#REF!,$B75,'Daily Log'!#REF!),0)","v":0},{"$f":"IFERROR($E75*SUMIF('Daily Log'!#REF!,$B75,'Daily Log'!#REF!),0)","v":0},{"$f":"IFERROR($E75*SUMIF('Daily Log'!#REF!,$B75,'Daily Log'!#REF!),0)","v":0}]
[null,"AB44 N : CARI MEMBER",null,null,null,0,{"$f":"IFERROR($E76*SUMIF('Daily Log'!$B$18:$B$1017,$B76,'Daily Log'!$C$18:$C$1017),0)","v":0},{"$f":"IFERROR($E76*SUMIF('Daily Log'!$E$18:$E$1017,$B76,'Daily Log'!$F$18:$F$1017),0)","v":0},{"$f":"IFERROR($E76*SUMIF('Daily Log'!$H$18:$H$1017,$B76,'Daily Log'!$I$18:$I$1017),0)","v":0},{"$f":"IFERROR($E76*SUMIF('Daily Log'!$K$18:$K$1017,$B76,'Daily Log'!$L$18:$L$1017),0)","v":0},{"$f":"IFERROR($E76*SUMIF('Daily Log'!$N$18:$N$1017,$B76,'Daily Log'!$O$18:$O$1017),0)","v":0},{"$f":"IFERROR($E76*SUMIF('Daily Log'!#REF!,$B76,'Daily Log'!#REF!),0)","v":0},{"$f":"IFERROR($E76*SUMIF('Daily Log'!#REF!,$B76,'Daily Log'!#REF!),0)","v":0},{"$f":"IFERROR($E76*SUMIF('Daily Log'!#REF!,$B76,'Daily Log'!#REF!),0)","v":0},{"$f":"IFERROR($E76*SUMIF('Daily Log'!#REF!,$B76,'Daily Log'!#REF!),0)","v":0},{"$f":"IFERROR($E76*SUMIF('Daily Log'!#REF!,$B76,'Daily Log'!#REF!),0)","v":0},{"$f":"IFERROR($E76*SUMIF('Daily Log'!#REF!,$B76,'Daily Log'!#REF!),0)","v":0},{"$f":"IFERROR($E76*SUMIF('Daily Log'!#REF!,$B76,'Daily Log'!#REF!),0)","v":0},{"$f":"IFERROR($E76*SUMIF('Daily Log'!#REF!,$B76,'Daily Log'!#REF!),0)","v":0},{"$f":"IFERROR($E76*SUMIF('Daily Log'!#REF!,$B76,'Daily Log'!#REF!),0)","v":0},{"$f":"IFERROR($E76*SUMIF('Daily Log'!#REF!,$B76,'Daily Log'!#REF!),0)","v":0},{"$f":"IFERROR($E76*SUMIF('Daily Log'!#REF!,$B76,'Daily Log'!#REF!),0)","v":0},{"$f":"IFERROR($E76*SUMIF('Daily Log'!#REF!,$B76,'Daily Log'!#REF!),0)","v":0},{"$f":"IFERROR($E76*SUMIF('Daily Log'!#REF!,$B76,'Daily Log'!#REF!),0)","v":0},{"$f":"IFERROR($E76*SUMIF('Daily Log'!#REF!,$B76,'Daily Log'!#REF!),0)","v":0},{"$f":"IFERROR($E76*SUMIF('Daily Log'!#REF!,$B76,'Daily Log'!#REF!),0)","v":0},{"$f":"IFERROR($E76*SUMIF('Daily Log'!#REF!,$B76,'Daily Log'!#REF!),0)","v":0},{"$f":"IFERROR($E76*SUMIF('Daily Log'!#REF!,$B76,'Daily Log'!#REF!),0)","v":0},{"$f":"IFERROR($E76*SUMIF('Daily Log'!#REF!,$B76,'Daily Log'!#REF!),0)","v":0},{"$f":"IFERROR($E76*SUMIF('Daily Log'!#REF!,$B76,'Daily Log'!#REF!),0)","v":0},{"$f":"IFERROR($E76*SUMIF('Daily Log'!#REF!,$B76,'Daily Log'!#REF!),0)","v":0},{"$f":"IFERROR($E76*SUMIF('Daily Log'!#REF!,$B76,'Daily Log'!#REF!),0)","v":0},{"$f":"IFERROR($E76*SUMIF('Daily Log'!#REF!,$B76,'Daily Log'!#REF!),0)","v":0},{"$f":"IFERROR($E76*SUMIF('Daily Log'!#REF!,$B76,'Daily Log'!#REF!),0)","v":0},{"$f":"IFERROR($E76*SUMIF('Daily Log'!#REF!,$B76,'Daily Log'!#REF!),0)","v":0},{"$f":"IFERROR($E76*SUMIF('Daily Log'!#REF!,$B76,'Daily Log'!#REF!),0)","v":0},{"$f":"IFERROR($E76*SUMIF('Daily Log'!#REF!,$B76,'Daily Log'!#REF!),0)","v":0}]
[null,"AB45 K-DINNER",null,null,null,0,{"$f":"IFERROR($E77*SUMIF('Daily Log'!$B$18:$B$1017,$B77,'Daily Log'!$C$18:$C$1017),0)","v":0},{"$f":"IFERROR($E77*SUMIF('Daily Log'!$E$18:$E$1017,$B77,'Daily Log'!$F$18:$F$1017),0)","v":0},{"$f":"IFERROR($E77*SUMIF('Daily Log'!$H$18:$H$1017,$B77,'Daily Log'!$I$18:$I$1017),0)","v":0},{"$f":"IFERROR($E77*SUMIF('Daily Log'!$K$18:$K$1017,$B77,'Daily Log'!$L$18:$L$1017),0)","v":0},{"$f":"IFERROR($E77*SUMIF('Daily Log'!$N$18:$N$1017,$B77,'Daily Log'!$O$18:$O$1017),0)","v":0},{"$f":"IFERROR($E77*SUMIF('Daily Log'!#REF!,$B77,'Daily Log'!#REF!),0)","v":0},{"$f":"IFERROR($E77*SUMIF('Daily Log'!#REF!,$B77,'Daily Log'!#REF!),0)","v":0},{"$f":"IFERROR($E77*SUMIF('Daily Log'!#REF!,$B77,'Daily Log'!#REF!),0)","v":0},{"$f":"IFERROR($E77*SUMIF('Daily Log'!#REF!,$B77,'Daily Log'!#REF!),0)","v":0},{"$f":"IFERROR($E77*SUMIF('Daily Log'!#REF!,$B77,'Daily Log'!#REF!),0)","v":0},{"$f":"IFERROR($E77*SUMIF('Daily Log'!#REF!,$B77,'Daily Log'!#REF!),0)","v":0},{"$f":"IFERROR($E77*SUMIF('Daily Log'!#REF!,$B77,'Daily Log'!#REF!),0)","v":0},{"$f":"IFERROR($E77*SUMIF('Daily Log'!#REF!,$B77,'Daily Log'!#REF!),0)","v":0},{"$f":"IFERROR($E77*SUMIF('Daily Log'!#REF!,$B77,'Daily Log'!#REF!),0)","v":0},{"$f":"IFERROR($E77*SUMIF('Daily Log'!#REF!,$B77,'Daily Log'!#REF!),0)","v":0},{"$f":"IFERROR($E77*SUMIF('Daily Log'!#REF!,$B77,'Daily Log'!#REF!),0)","v":0},{"$f":"IFERROR($E77*SUMIF('Daily Log'!#REF!,$B77,'Daily Log'!#REF!),0)","v":0},{"$f":"IFERROR($E77*SUMIF('Daily Log'!#REF!,$B77,'Daily Log'!#REF!),0)","v":0},{"$f":"IFERROR($E77*SUMIF('Daily Log'!#REF!,$B77,'Daily Log'!#REF!),0)","v":0},{"$f":"IFERROR($E77*SUMIF('Daily Log'!#REF!,$B77,'Daily Log'!#REF!),0)","v":0},{"$f":"IFERROR($E77*SUMIF('Daily Log'!#REF!,$B77,'Daily Log'!#REF!),0)","v":0},{"$f":"IFERROR($E77*SUMIF('Daily Log'!#REF!,$B77,'Daily Log'!#REF!),0)","v":0},{"$f":"IFERROR($E77*SUMIF('Daily Log'!#REF!,$B77,'Daily Log'!#REF!),0)","v":0},{"$f":"IFERROR($E77*SUMIF('Daily Log'!#REF!,$B77,'Daily Log'!#REF!),0)","v":0},{"$f":"IFERROR($E77*SUMIF('Daily Log'!#REF!,$B77,'Daily Log'!#REF!),0)","v":0},{"$f":"IFERROR($E77*SUMIF('Daily Log'!#REF!,$B77,'Daily Log'!#REF!),0)","v":0},{"$f":"IFERROR($E77*SUMIF('Daily Log'!#REF!,$B77,'Daily Log'!#REF!),0)","v":0},{"$f":"IFERROR($E77*SUMIF('Daily Log'!#REF!,$B77,'Daily Log'!#REF!),0)","v":0},{"$f":"IFERROR($E77*SUMIF('Daily Log'!#REF!,$B77,'Daily Log'!#REF!),0)","v":0},{"$f":"IFERROR($E77*SUMIF('Daily Log'!#REF!,$B77,'Daily Log'!#REF!),0)","v":0},{"$f":"IFERROR($E77*SUMIF('Daily Log'!#REF!,$B77,'Daily Log'!#REF!),0)","v":0}]
[null,"AB46 H : Student",null,null,null,0,{"$f":"IFERROR($E78*SUMIF('Daily Log'!$B$18:$B$1017,$B78,'Daily Log'!$C$18:$C$1017),0)","v":0},{"$f":"IFERROR($E78*SUMIF('Daily Log'!$E$18:$E$1017,$B78,'Daily Log'!$F$18:$F$1017),0)","v":0},{"$f":"IFERROR($E78*SUMIF('Daily Log'!$H$18:$H$1017,$B78,'Daily Log'!$I$18:$I$1017),0)","v":0},{"$f":"IFERROR($E78*SUMIF('Daily Log'!$K$18:$K$1017,$B78,'Daily Log'!$L$18:$L$1017),0)","v":0},{"$f":"IFERROR($E78*SUMIF('Daily Log'!$N$18:$N$1017,$B78,'Daily Log'!$O$18:$O$1017),0)","v":0},{"$f":"IFERROR($E78*SUMIF('Daily Log'!#REF!,$B78,'Daily Log'!#REF!),0)","v":0},{"$f":"IFERROR($E78*SUMIF('Daily Log'!#REF!,$B78,'Daily Log'!#REF!),0)","v":0},{"$f":"IFERROR($E78*SUMIF('Daily Log'!#REF!,$B78,'Daily Log'!#REF!),0)","v":0},{"$f":"IFERROR($E78*SUMIF('Daily Log'!#REF!,$B78,'Daily Log'!#REF!),0)","v":0},{"$f":"IFERROR($E78*SUMIF('Daily Log'!#REF!,$B78,'Daily Log'!#REF!),0)","v":0},{"$f":"IFERROR($E78*SUMIF('Daily Log'!#REF!,$B78,'Daily Log'!#REF!),0)","v":0},{"$f":"IFERROR($E78*SUMIF('Daily Log'!#REF!,$B78,'Daily Log'!#REF!),0)","v":0},{"$f":"IFERROR($E78*SUMIF('Daily Log'!#REF!,$B78,'Daily Log'!#REF!),0)","v":0},{"$f":"IFERROR($E78*SUMIF('Daily Log'!#REF!,$B78,'Daily Log'!#REF!),0)","v":0},{"$f":"IFERROR($E78*SUMIF('Daily Log'!#REF!,$B78,'Daily Log'!#REF!),0)","v":0},{"$f":"IFERROR($E78*SUMIF('Daily Log'!#REF!,$B78,'Daily Log'!#REF!),0)","v":0},{"$f":"IFERROR($E78*SUMIF('Daily Log'!#REF!,$B78,'Daily Log'!#REF!),0)","v":0},{"$f":"IFERROR($E78*SUMIF('Daily Log'!#REF!,$B78,'Daily Log'!#REF!),0)","v":0},{"$f":"IFERROR($E78*SUMIF('Daily Log'!#REF!,$B78,'Daily Log'!#REF!),0)","v":0},{"$f":"IFERROR($E78*SUMIF('Daily Log'!#REF!,$B78,'Daily Log'!#REF!),0)","v":0},{"$f":"IFERROR($E78*SUMIF('Daily Log'!#REF!,$B78,'Daily Log'!#REF!),0)","v":0},{"$f":"IFERROR($E78*SUMIF('Daily Log'!#REF!,$B78,'Daily Log'!#REF!),0)","v":0},{"$f":"IFERROR($E78*SUMIF('Daily Log'!#REF!,$B78,'Daily Log'!#REF!),0)","v":0},{"$f":"IFERROR($E78*SUMIF('Daily Log'!#REF!,$B78,'Daily Log'!#REF!),0)","v":0},{"$f":"IFERROR($E78*SUMIF('Daily Log'!#REF!,$B78,'Daily Log'!#REF!),0)","v":0},{"$f":"IFERROR($E78*SUMIF('Daily Log'!#REF!,$B78,'Daily Log'!#REF!),0)","v":0},{"$f":"IFERROR($E78*SUMIF('Daily Log'!#REF!,$B78,'Daily Log'!#REF!),0)","v":0},{"$f":"IFERROR($E78*SUMIF('Daily Log'!#REF!,$B78,'Daily Log'!#REF!),0)","v":0},{"$f":"IFERROR($E78*SUMIF('Daily Log'!#REF!,$B78,'Daily Log'!#REF!),0)","v":0},{"$f":"IFERROR($E78*SUMIF('Daily Log'!#REF!,$B78,'Daily Log'!#REF!),0)","v":0},{"$f":"IFERROR($E78*SUMIF('Daily Log'!#REF!,$B78,'Daily Log'!#REF!),0)","v":0}]
[null,"AB47 H : GROUPON",null,null,null,0,{"$f":"IFERROR($E79*SUMIF('Daily Log'!$B$18:$B$1017,$B79,'Daily Log'!$C$18:$C$1017),0)","v":0},{"$f":"IFERROR($E79*SUMIF('Daily Log'!$E$18:$E$1017,$B79,'Daily Log'!$F$18:$F$1017),0)","v":0},{"$f":"IFERROR($E79*SUMIF('Daily Log'!$H$18:$H$1017,$B79,'Daily Log'!$I$18:$I$1017),0)","v":0},{"$f":"IFERROR($E79*SUMIF('Daily Log'!$K$18:$K$1017,$B79,'Daily Log'!$L$18:$L$1017),0)","v":0},{"$f":"IFERROR($E79*SUMIF('Daily Log'!$N$18:$N$1017,$B79,'Daily Log'!$O$18:$O$1017),0)","v":0},{"$f":"IFERROR($E79*SUMIF('Daily Log'!#REF!,$B79,'Daily Log'!#REF!),0)","v":0},{"$f":"IFERROR($E79*SUMIF('Daily Log'!#REF!,$B79,'Daily Log'!#REF!),0)","v":0},{"$f":"IFERROR($E79*SUMIF('Daily Log'!#REF!,$B79,'Daily Log'!#REF!),0)","v":0},{"$f":"IFERROR($E79*SUMIF('Daily Log'!#REF!,$B79,'Daily Log'!#REF!),0)","v":0},{"$f":"IFERROR($E79*SUMIF('Daily Log'!#REF!,$B79,'Daily Log'!#REF!),0)","v":0},{"$f":"IFERROR($E79*SUMIF('Daily Log'!#REF!,$B79,'Daily Log'!#REF!),0)","v":0},{"$f":"IFERROR($E79*SUMIF('Daily Log'!#REF!,$B79,'Daily Log'!#REF!),0)","v":0},{"$f":"IFERROR($E79*SUMIF('Daily Log'!#REF!,$B79,'Daily Log'!#REF!),0)","v":0},{"$f":"IFERROR($E79*SUMIF('Daily Log'!#REF!,$B79,'Daily Log'!#REF!),0)","v":0},{"$f":"IFERROR($E79*SUMIF('Daily Log'!#REF!,$B79,'Daily Log'!#REF!),0)","v":0},{"$f":"IFERROR($E79*SUMIF('Daily Log'!#REF!,$B79,'Daily Log'!#REF!),0)","v":0},{"$f":"IFERROR($E79*SUMIF('Daily Log'!#REF!,$B79,'Daily Log'!#REF!),0)","v":0},{"$f":"IFERROR($E79*SUMIF('Daily Log'!#REF!,$B79,'Daily Log'!#REF!),0)","v":0},{"$f":"IFERROR($E79*SUMIF('Daily Log'!#REF!,$B79,'Daily Log'!#REF!),0)","v":0},{"$f":"IFERROR($E79*SUMIF('Daily Log'!#REF!,$B79,'Daily Log'!#REF!),0)","v":0},{"$f":"IFERROR($E79*SUMIF('Daily Log'!#REF!,$B79,'Daily Log'!#REF!),0)","v":0},{"$f":"IFERROR($E79*SUMIF('Daily Log'!#REF!,$B79,'Daily Log'!#REF!),0)","v":0},{"$f":"IFERROR($E79*SUMIF('Daily Log'!#REF!,$B79,'Daily Log'!#REF!),0)","v":0},{"$f":"IFERROR($E79*SUMIF('Daily Log'!#REF!,$B79,'Daily Log'!#REF!),0)","v":0},{"$f":"IFERROR($E79*SUMIF('Daily Log'!#REF!,$B79,'Daily Log'!#REF!),0)","v":0},{"$f":"IFERROR($E79*SUMIF('Daily Log'!#REF!,$B79,'Daily Log'!#REF!),0)","v":0},{"$f":"IFERROR($E79*SUMIF('Daily Log'!#REF!,$B79,'Daily Log'!#REF!),0)","v":0},{"$f":"IFERROR($E79*SUMIF('Daily Log'!#REF!,$B79,'Daily Log'!#REF!),0)","v":0},{"$f":"IFERROR($E79*SUMIF('Daily Log'!#REF!,$B79,'Daily Log'!#REF!),0)","v":0},{"$f":"IFERROR($E79*SUMIF('Daily Log'!#REF!,$B79,'Daily Log'!#REF!),0)","v":0},{"$f":"IFERROR($E79*SUMIF('Daily Log'!#REF!,$B79,'Daily Log'!#REF!),0)","v":0}]
[null,"AB49 H : One FM 208",null,null,null,0,{"$f":"IFERROR($E80*SUMIF('Daily Log'!$B$18:$B$1017,$B80,'Daily Log'!$C$18:$C$1017),0)","v":0},{"$f":"IFERROR($E80*SUMIF('Daily Log'!$E$18:$E$1017,$B80,'Daily Log'!$F$18:$F$1017),0)","v":0},{"$f":"IFERROR($E80*SUMIF('Daily Log'!$H$18:$H$1017,$B80,'Daily Log'!$I$18:$I$1017),0)","v":0},{"$f":"IFERROR($E80*SUMIF('Daily Log'!$K$18:$K$1017,$B80,'Daily Log'!$L$18:$L$1017),0)","v":0},{"$f":"IFERROR($E80*SUMIF('Daily Log'!$N$18:$N$1017,$B80,'Daily Log'!$O$18:$O$1017),0)","v":0},{"$f":"IFERROR($E80*SUMIF('Daily Log'!#REF!,$B80,'Daily Log'!#REF!),0)","v":0},{"$f":"IFERROR($E80*SUMIF('Daily Log'!#REF!,$B80,'Daily Log'!#REF!),0)","v":0},{"$f":"IFERROR($E80*SUMIF('Daily Log'!#REF!,$B80,'Daily Log'!#REF!),0)","v":0},{"$f":"IFERROR($E80*SUMIF('Daily Log'!#REF!,$B80,'Daily Log'!#REF!),0)","v":0},{"$f":"IFERROR($E80*SUMIF('Daily Log'!#REF!,$B80,'Daily Log'!#REF!),0)","v":0},{"$f":"IFERROR($E80*SUMIF('Daily Log'!#REF!,$B80,'Daily Log'!#REF!),0)","v":0},{"$f":"IFERROR($E80*SUMIF('Daily Log'!#REF!,$B80,'Daily Log'!#REF!),0)","v":0},{"$f":"IFERROR($E80*SUMIF('Daily Log'!#REF!,$B80,'Daily Log'!#REF!),0)","v":0},{"$f":"IFERROR($E80*SUMIF('Daily Log'!#REF!,$B80,'Daily Log'!#REF!),0)","v":0},{"$f":"IFERROR($E80*SUMIF('Daily Log'!#REF!,$B80,'Daily Log'!#REF!),0)","v":0},{"$f":"IFERROR($E80*SUMIF('Daily Log'!#REF!,$B80,'Daily Log'!#REF!),0)","v":0},{"$f":"IFERROR($E80*SUMIF('Daily Log'!#REF!,$B80,'Daily Log'!#REF!),0)","v":0},{"$f":"IFERROR($E80*SUMIF('Daily Log'!#REF!,$B80,'Daily Log'!#REF!),0)","v":0},{"$f":"IFERROR($E80*SUMIF('Daily Log'!#REF!,$B80,'Daily Log'!#REF!),0)","v":0},{"$f":"IFERROR($E80*SUMIF('Daily Log'!#REF!,$B80,'Daily Log'!#REF!),0)","v":0},{"$f":"IFERROR($E80*SUMIF('Daily Log'!#REF!,$B80,'Daily Log'!#REF!),0)","v":0},{"$f":"IFERROR($E80*SUMIF('Daily Log'!#REF!,$B80,'Daily Log'!#REF!),0)","v":0},{"$f":"IFERROR($E80*SUMIF('Daily Log'!#REF!,$B80,'Daily Log'!#REF!),0)","v":0},{"$f":"IFERROR($E80*SUMIF('Daily Log'!#REF!,$B80,'Daily Log'!#REF!),0)","v":0},{"$f":"IFERROR($E80*SUMIF('Daily Log'!#REF!,$B80,'Daily Log'!#REF!),0)","v":0},{"$f":"IFERROR($E80*SUMIF('Daily Log'!#REF!,$B80,'Daily Log'!#REF!),0)","v":0},{"$f":"IFERROR($E80*SUMIF('Daily Log'!#REF!,$B80,'Daily Log'!#REF!),0)","v":0},{"$f":"IFERROR($E80*SUMIF('Daily Log'!#REF!,$B80,'Daily Log'!#REF!),0)","v":0},{"$f":"IFERROR($E80*SUMIF('Daily Log'!#REF!,$B80,'Daily Log'!#REF!),0)","v":0},{"$f":"IFERROR($E80*SUMIF('Daily Log'!#REF!,$B80,'Daily Log'!#REF!),0)","v":0},{"$f":"IFERROR($E80*SUMIF('Daily Log'!#REF!,$B80,'Daily Log'!#REF!),0)","v":0}]
[null,"AB50 H:Student Mem",null,null,null,0,{"$f":"IFERROR($E81*SUMIF('Daily Log'!$B$18:$B$1017,$B81,'Daily Log'!$C$18:$C$1017),0)","v":0},{"$f":"IFERROR($E81*SUMIF('Daily Log'!$E$18:$E$1017,$B81,'Daily Log'!$F$18:$F$1017),0)","v":0},{"$f":"IFERROR($E81*SUMIF('Daily Log'!$H$18:$H$1017,$B81,'Daily Log'!$I$18:$I$1017),0)","v":0},{"$f":"IFERROR($E81*SUMIF('Daily Log'!$K$18:$K$1017,$B81,'Daily Log'!$L$18:$L$1017),0)","v":0},{"$f":"IFERROR($E81*SUMIF('Daily Log'!$N$18:$N$1017,$B81,'Daily Log'!$O$18:$O$1017),0)","v":0},{"$f":"IFERROR($E81*SUMIF('Daily Log'!#REF!,$B81,'Daily Log'!#REF!),0)","v":0},{"$f":"IFERROR($E81*SUMIF('Daily Log'!#REF!,$B81,'Daily Log'!#REF!),0)","v":0},{"$f":"IFERROR($E81*SUMIF('Daily Log'!#REF!,$B81,'Daily Log'!#REF!),0)","v":0},{"$f":"IFERROR($E81*SUMIF('Daily Log'!#REF!,$B81,'Daily Log'!#REF!),0)","v":0},{"$f":"IFERROR($E81*SUMIF('Daily Log'!#REF!,$B81,'Daily Log'!#REF!),0)","v":0},{"$f":"IFERROR($E81*SUMIF('Daily Log'!#REF!,$B81,'Daily Log'!#REF!),0)","v":0},{"$f":"IFERROR($E81*SUMIF('Daily Log'!#REF!,$B81,'Daily Log'!#REF!),0)","v":0},{"$f":"IFERROR($E81*SUMIF('Daily Log'!#REF!,$B81,'Daily Log'!#REF!),0)","v":0},{"$f":"IFERROR($E81*SUMIF('Daily Log'!#REF!,$B81,'Daily Log'!#REF!),0)","v":0},{"$f":"IFERROR($E81*SUMIF('Daily Log'!#REF!,$B81,'Daily Log'!#REF!),0)","v":0},{"$f":"IFERROR($E81*SUMIF('Daily Log'!#REF!,$B81,'Daily Log'!#REF!),0)","v":0},{"$f":"IFERROR($E81*SUMIF('Daily Log'!#REF!,$B81,'Daily Log'!#REF!),0)","v":0},{"$f":"IFERROR($E81*SUMIF('Daily Log'!#REF!,$B81,'Daily Log'!#REF!),0)","v":0},{"$f":"IFERROR($E81*SUMIF('Daily Log'!#REF!,$B81,'Daily Log'!#REF!),0)","v":0},{"$f":"IFERROR($E81*SUMIF('Daily Log'!#REF!,$B81,'Daily Log'!#REF!),0)","v":0},{"$f":"IFERROR($E81*SUMIF('Daily Log'!#REF!,$B81,'Daily Log'!#REF!),0)","v":0},{"$f":"IFERROR($E81*SUMIF('Daily Log'!#REF!,$B81,'Daily Log'!#REF!),0)","v":0},{"$f":"IFERROR($E81*SUMIF('Daily Log'!#REF!,$B81,'Daily Log'!#REF!),0)","v":0},{"$f":"IFERROR($E81*SUMIF('Daily Log'!#REF!,$B81,'Daily Log'!#REF!),0)","v":0},{"$f":"IFERROR($E81*SUMIF('Daily Log'!#REF!,$B81,'Daily Log'!#REF!),0)","v":0},{"$f":"IFERROR($E81*SUMIF('Daily Log'!#REF!,$B81,'Daily Log'!#REF!),0)","v":0},{"$f":"IFERROR($E81*SUMIF('Daily Log'!#REF!,$B81,'Daily Log'!#REF!),0)","v":0},{"$f":"IFERROR($E81*SUMIF('Daily Log'!#REF!,$B81,'Daily Log'!#REF!),0)","v":0},{"$f":"IFERROR($E81*SUMIF('Daily Log'!#REF!,$B81,'Daily Log'!#REF!),0)","v":0},{"$f":"IFERROR($E81*SUMIF('Daily Log'!#REF!,$B81,'Daily Log'!#REF!),0)","v":0},{"$f":"IFERROR($E81*SUMIF('Daily Log'!#REF!,$B81,'Daily Log'!#REF!),0)","v":0}]
[null,"AC01 N : REGULAR",null,null,null,0,{"$f":"IFERROR($E82*SUMIF('Daily Log'!$B$18:$B$1017,$B82,'Daily Log'!$C$18:$C$1017),0)","v":0},{"$f":"IFERROR($E82*SUMIF('Daily Log'!$E$18:$E$1017,$B82,'Daily Log'!$F$18:$F$1017),0)","v":0},{"$f":"IFERROR($E82*SUMIF('Daily Log'!$H$18:$H$1017,$B82,'Daily Log'!$I$18:$I$1017),0)","v":0},{"$f":"IFERROR($E82*SUMIF('Daily Log'!$K$18:$K$1017,$B82,'Daily Log'!$L$18:$L$1017),0)","v":0},{"$f":"IFERROR($E82*SUMIF('Daily Log'!$N$18:$N$1017,$B82,'Daily Log'!$O$18:$O$1017),0)","v":0},{"$f":"IFERROR($E82*SUMIF('Daily Log'!#REF!,$B82,'Daily Log'!#REF!),0)","v":0},{"$f":"IFERROR($E82*SUMIF('Daily Log'!#REF!,$B82,'Daily Log'!#REF!),0)","v":0},{"$f":"IFERROR($E82*SUMIF('Daily Log'!#REF!,$B82,'Daily Log'!#REF!),0)","v":0},{"$f":"IFERROR($E82*SUMIF('Daily Log'!#REF!,$B82,'Daily Log'!#REF!),0)","v":0},{"$f":"IFERROR($E82*SUMIF('Daily Log'!#REF!,$B82,'Daily Log'!#REF!),0)","v":0},{"$f":"IFERROR($E82*SUMIF('Daily Log'!#REF!,$B82,'Daily Log'!#REF!),0)","v":0},{"$f":"IFERROR($E82*SUMIF('Daily Log'!#REF!,$B82,'Daily Log'!#REF!),0)","v":0},{"$f":"IFERROR($E82*SUMIF('Daily Log'!#REF!,$B82,'Daily Log'!#REF!),0)","v":0},{"$f":"IFERROR($E82*SUMIF('Daily Log'!#REF!,$B82,'Daily Log'!#REF!),0)","v":0},{"$f":"IFERROR($E82*SUMIF('Daily Log'!#REF!,$B82,'Daily Log'!#REF!),0)","v":0},{"$f":"IFERROR($E82*SUMIF('Daily Log'!#REF!,$B82,'Daily Log'!#REF!),0)","v":0},{"$f":"IFERROR($E82*SUMIF('Daily Log'!#REF!,$B82,'Daily Log'!#REF!),0)","v":0},{"$f":"IFERROR($E82*SUMIF('Daily Log'!#REF!,$B82,'Daily Log'!#REF!),0)","v":0},{"$f":"IFERROR($E82*SUMIF('Daily Log'!#REF!,$B82,'Daily Log'!#REF!),0)","v":0},{"$f":"IFERROR($E82*SUMIF('Daily Log'!#REF!,$B82,'Daily Log'!#REF!),0)","v":0},{"$f":"IFERROR($E82*SUMIF('Daily Log'!#REF!,$B82,'Daily Log'!#REF!),0)","v":0},{"$f":"IFERROR($E82*SUMIF('Daily Log'!#REF!,$B82,'Daily Log'!#REF!),0)","v":0},{"$f":"IFERROR($E82*SUMIF('Daily Log'!#REF!,$B82,'Daily Log'!#REF!),0)","v":0},{"$f":"IFERROR($E82*SUMIF('Daily Log'!#REF!,$B82,'Daily Log'!#REF!),0)","v":0},{"$f":"IFERROR($E82*SUMIF('Daily Log'!#REF!,$B82,'Daily Log'!#REF!),0)","v":0},{"$f":"IFERROR($E82*SUMIF('Daily Log'!#REF!,$B82,'Daily Log'!#REF!),0)","v":0},{"$f":"IFERROR($E82*SUMIF('Daily Log'!#REF!,$B82,'Daily Log'!#REF!),0)","v":0},{"$f":"IFERROR($E82*SUMIF('Daily Log'!#REF!,$B82,'Daily Log'!#REF!),0)","v":0},{"$f":"IFERROR($E82*SUMIF('Daily Log'!#REF!,$B82,'Daily Log'!#REF!),0)","v":0},{"$f":"IFERROR($E82*SUMIF('Daily Log'!#REF!,$B82,'Daily Log'!#REF!),0)","v":0},{"$f":"IFERROR($E82*SUMIF('Daily Log'!#REF!,$B82,'Daily Log'!#REF!),0)","v":0}]
[null,"AC02 N : MEMBER",null,null,null,0,{"$f":"IFERROR($E83*SUMIF('Daily Log'!$B$18:$B$1017,$B83,'Daily Log'!$C$18:$C$1017),0)","v":0},{"$f":"IFERROR($E83*SUMIF('Daily Log'!$E$18:$E$1017,$B83,'Daily Log'!$F$18:$F$1017),0)","v":0},{"$f":"IFERROR($E83*SUMIF('Daily Log'!$H$18:$H$1017,$B83,'Daily Log'!$I$18:$I$1017),0)","v":0},{"$f":"IFERROR($E83*SUMIF('Daily Log'!$K$18:$K$1017,$B83,'Daily Log'!$L$18:$L$1017),0)","v":0},{"$f":"IFERROR($E83*SUMIF('Daily Log'!$N$18:$N$1017,$B83,'Daily Log'!$O$18:$O$1017),0)","v":0},{"$f":"IFERROR($E83*SUMIF('Daily Log'!#REF!,$B83,'Daily Log'!#REF!),0)","v":0},{"$f":"IFERROR($E83*SUMIF('Daily Log'!#REF!,$B83,'Daily Log'!#REF!),0)","v":0},{"$f":"IFERROR($E83*SUMIF('Daily Log'!#REF!,$B83,'Daily Log'!#REF!),0)","v":0},{"$f":"IFERROR($E83*SUMIF('Daily Log'!#REF!,$B83,'Daily Log'!#REF!),0)","v":0},{"$f":"IFERROR($E83*SUMIF('Daily Log'!#REF!,$B83,'Daily Log'!#REF!),0)","v":0},{"$f":"IFERROR($E83*SUMIF('Daily Log'!#REF!,$B83,'Daily Log'!#REF!),0)","v":0},{"$f":"IFERROR($E83*SUMIF('Daily Log'!#REF!,$B83,'Daily Log'!#REF!),0)","v":0},{"$f":"IFERROR($E83*SUMIF('Daily Log'!#REF!,$B83,'Daily Log'!#REF!),0)","v":0},{"$f":"IFERROR($E83*SUMIF('Daily Log'!#REF!,$B83,'Daily Log'!#REF!),0)","v":0},{"$f":"IFERROR($E83*SUMIF('Daily Log'!#REF!,$B83,'Daily Log'!#REF!),0)","v":0},{"$f":"IFERROR($E83*SUMIF('Daily Log'!#REF!,$B83,'Daily Log'!#REF!),0)","v":0},{"$f":"IFERROR($E83*SUMIF('Daily Log'!#REF!,$B83,'Daily Log'!#REF!),0)","v":0},{"$f":"IFERROR($E83*SUMIF('Daily Log'!#REF!,$B83,'Daily Log'!#REF!),0)","v":0},{"$f":"IFERROR($E83*SUMIF('Daily Log'!#REF!,$B83,'Daily Log'!#REF!),0)","v":0},{"$f":"IFERROR($E83*SUMIF('Daily Log'!#REF!,$B83,'Daily Log'!#REF!),0)","v":0},{"$f":"IFERROR($E83*SUMIF('Daily Log'!#REF!,$B83,'Daily Log'!#REF!),0)","v":0},{"$f":"IFERROR($E83*SUMIF('Daily Log'!#REF!,$B83,'Daily Log'!#REF!),0)","v":0},{"$f":"IFERROR($E83*SUMIF('Daily Log'!#REF!,$B83,'Daily Log'!#REF!),0)","v":0},{"$f":"IFERROR($E83*SUMIF('Daily Log'!#REF!,$B83,'Daily Log'!#REF!),0)","v":0},{"$f":"IFERROR($E83*SUMIF('Daily Log'!#REF!,$B83,'Daily Log'!#REF!),0)","v":0},{"$f":"IFERROR($E83*SUMIF('Daily Log'!#REF!,$B83,'Daily Log'!#REF!),0)","v":0},{"$f":"IFERROR($E83*SUMIF('Daily Log'!#REF!,$B83,'Daily Log'!#REF!),0)","v":0},{"$f":"IFERROR($E83*SUMIF('Daily Log'!#REF!,$B83,'Daily Log'!#REF!),0)","v":0},{"$f":"IFERROR($E83*SUMIF('Daily Log'!#REF!,$B83,'Daily Log'!#REF!),0)","v":0},{"$f":"IFERROR($E83*SUMIF('Daily Log'!#REF!,$B83,'Daily Log'!#REF!),0)","v":0},{"$f":"IFERROR($E83*SUMIF('Daily Log'!#REF!,$B83,'Daily Log'!#REF!),0)","v":0}]
[null,"AC03 N : MEMBER 30%",null,null,null,0,{"$f":"IFERROR($E84*SUMIF('Daily Log'!$B$18:$B$1017,$B84,'Daily Log'!$C$18:$C$1017),0)","v":0},{"$f":"IFERROR($E84*SUMIF('Daily Log'!$E$18:$E$1017,$B84,'Daily Log'!$F$18:$F$1017),0)","v":0},{"$f":"IFERROR($E84*SUMIF('Daily Log'!$H$18:$H$1017,$B84,'Daily Log'!$I$18:$I$1017),0)","v":0},{"$f":"IFERROR($E84*SUMIF('Daily Log'!$K$18:$K$1017,$B84,'Daily Log'!$L$18:$L$1017),0)","v":0},{"$f":"IFERROR($E84*SUMIF('Daily Log'!$N$18:$N$1017,$B84,'Daily Log'!$O$18:$O$1017),0)","v":0},{"$f":"IFERROR($E84*SUMIF('Daily Log'!#REF!,$B84,'Daily Log'!#REF!),0)","v":0},{"$f":"IFERROR($E84*SUMIF('Daily Log'!#REF!,$B84,'Daily Log'!#REF!),0)","v":0},{"$f":"IFERROR($E84*SUMIF('Daily Log'!#REF!,$B84,'Daily Log'!#REF!),0)","v":0},{"$f":"IFERROR($E84*SUMIF('Daily Log'!#REF!,$B84,'Daily Log'!#REF!),0)","v":0},{"$f":"IFERROR($E84*SUMIF('Daily Log'!#REF!,$B84,'Daily Log'!#REF!),0)","v":0},{"$f":"IFERROR($E84*SUMIF('Daily Log'!#REF!,$B84,'Daily Log'!#REF!),0)","v":0},{"$f":"IFERROR($E84*SUMIF('Daily Log'!#REF!,$B84,'Daily Log'!#REF!),0)","v":0},{"$f":"IFERROR($E84*SUMIF('Daily Log'!#REF!,$B84,'Daily Log'!#REF!),0)","v":0},{"$f":"IFERROR($E84*SUMIF('Daily Log'!#REF!,$B84,'Daily Log'!#REF!),0)","v":0},{"$f":"IFERROR($E84*SUMIF('Daily Log'!#REF!,$B84,'Daily Log'!#REF!),0)","v":0},{"$f":"IFERROR($E84*SUMIF('Daily Log'!#REF!,$B84,'Daily Log'!#REF!),0)","v":0},{"$f":"IFERROR($E84*SUMIF('Daily Log'!#REF!,$B84,'Daily Log'!#REF!),0)","v":0},{"$f":"IFERROR($E84*SUMIF('Daily Log'!#REF!,$B84,'Daily Log'!#REF!),0)","v":0},{"$f":"IFERROR($E84*SUMIF('Daily Log'!#REF!,$B84,'Daily Log'!#REF!),0)","v":0},{"$f":"IFERROR($E84*SUMIF('Daily Log'!#REF!,$B84,'Daily Log'!#REF!),0)","v":0},{"$f":"IFERROR($E84*SUMIF('Daily Log'!#REF!,$B84,'Daily Log'!#REF!),0)","v":0},{"$f":"IFERROR($E84*SUMIF('Daily Log'!#REF!,$B84,'Daily Log'!#REF!),0)","v":0},{"$f":"IFERROR($E84*SUMIF('Daily Log'!#REF!,$B84,'Daily Log'!#REF!),0)","v":0},{"$f":"IFERROR($E84*SUMIF('Daily Log'!#REF!,$B84,'Daily Log'!#REF!),0)","v":0},{"$f":"IFERROR($E84*SUMIF('Daily Log'!#REF!,$B84,'Daily Log'!#REF!),0)","v":0},{"$f":"IFERROR($E84*SUMIF('Daily Log'!#REF!,$B84,'Daily Log'!#REF!),0)","v":0},{"$f":"IFERROR($E84*SUMIF('Daily Log'!#REF!,$B84,'Daily Log'!#REF!),0)","v":0},{"$f":"IFERROR($E84*SUMIF('Daily Log'!#REF!,$B84,'Daily Log'!#REF!),0)","v":0},{"$f":"IFERROR($E84*SUMIF('Daily Log'!#REF!,$B84,'Daily Log'!#REF!),0)","v":0},{"$f":"IFERROR($E84*SUMIF('Daily Log'!#REF!,$B84,'Daily Log'!#REF!),0)","v":0},{"$f":"IFERROR($E84*SUMIF('Daily Log'!#REF!,$B84,'Daily Log'!#REF!),0)","v":0}]
[null,"AC04 N : CARI MEMBER",null,null,null,0,{"$f":"IFERROR($E85*SUMIF('Daily Log'!$B$18:$B$1017,$B85,'Daily Log'!$C$18:$C$1017),0)","v":0},{"$f":"IFERROR($E85*SUMIF('Daily Log'!$E$18:$E$1017,$B85,'Daily Log'!$F$18:$F$1017),0)","v":0},{"$f":"IFERROR($E85*SUMIF('Daily Log'!$H$18:$H$1017,$B85,'Daily Log'!$I$18:$I$1017),0)","v":0},{"$f":"IFERROR($E85*SUMIF('Daily Log'!$K$18:$K$1017,$B85,'Daily Log'!$L$18:$L$1017),0)","v":0},{"$f":"IFERROR($E85*SUMIF('Daily Log'!$N$18:$N$1017,$B85,'Daily Log'!$O$18:$O$1017),0)","v":0},{"$f":"IFERROR($E85*SUMIF('Daily Log'!#REF!,$B85,'Daily Log'!#REF!),0)","v":0},{"$f":"IFERROR($E85*SUMIF('Daily Log'!#REF!,$B85,'Daily Log'!#REF!),0)","v":0},{"$f":"IFERROR($E85*SUMIF('Daily Log'!#REF!,$B85,'Daily Log'!#REF!),0)","v":0},{"$f":"IFERROR($E85*SUMIF('Daily Log'!#REF!,$B85,'Daily Log'!#REF!),0)","v":0},{"$f":"IFERROR($E85*SUMIF('Daily Log'!#REF!,$B85,'Daily Log'!#REF!),0)","v":0},{"$f":"IFERROR($E85*SUMIF('Daily Log'!#REF!,$B85,'Daily Log'!#REF!),0)","v":0},{"$f":"IFERROR($E85*SUMIF('Daily Log'!#REF!,$B85,'Daily Log'!#REF!),0)","v":0},{"$f":"IFERROR($E85*SUMIF('Daily Log'!#REF!,$B85,'Daily Log'!#REF!),0)","v":0},{"$f":"IFERROR($E85*SUMIF('Daily Log'!#REF!,$B85,'Daily Log'!#REF!),0)","v":0},{"$f":"IFERROR($E85*SUMIF('Daily Log'!#REF!,$B85,'Daily Log'!#REF!),0)","v":0},{"$f":"IFERROR($E85*SUMIF('Daily Log'!#REF!,$B85,'Daily Log'!#REF!),0)","v":0},{"$f":"IFERROR($E85*SUMIF('Daily Log'!#REF!,$B85,'Daily Log'!#REF!),0)","v":0},{"$f":"IFERROR($E85*SUMIF('Daily Log'!#REF!,$B85,'Daily Log'!#REF!),0)","v":0},{"$f":"IFERROR($E85*SUMIF('Daily Log'!#REF!,$B85,'Daily Log'!#REF!),0)","v":0},{"$f":"IFERROR($E85*SUMIF('Daily Log'!#REF!,$B85,'Daily Log'!#REF!),0)","v":0},{"$f":"IFERROR($E85*SUMIF('Daily Log'!#REF!,$B85,'Daily Log'!#REF!),0)","v":0},{"$f":"IFERROR($E85*SUMIF('Daily Log'!#REF!,$B85,'Daily Log'!#REF!),0)","v":0},{"$f":"IFERROR($E85*SUMIF('Daily Log'!#REF!,$B85,'Daily Log'!#REF!),0)","v":0},{"$f":"IFERROR($E85*SUMIF('Daily Log'!#REF!,$B85,'Daily Log'!#REF!),0)","v":0},{"$f":"IFERROR($E85*SUMIF('Daily Log'!#REF!,$B85,'Daily Log'!#REF!),0)","v":0},{"$f":"IFERROR($E85*SUMIF('Daily Log'!#REF!,$B85,'Daily Log'!#REF!),0)","v":0},{"$f":"IFERROR($E85*SUMIF('Daily Log'!#REF!,$B85,'Daily Log'!#REF!),0)","v":0},{"$f":"IFERROR($E85*SUMIF('Daily Log'!#REF!,$B85,'Daily Log'!#REF!),0)","v":0},{"$f":"IFERROR($E85*SUMIF('Daily Log'!#REF!,$B85,'Daily Log'!#REF!),0)","v":0},{"$f":"IFERROR($E85*SUMIF('Daily Log'!#REF!,$B85,'Daily Log'!#REF!),0)","v":0},{"$f":"IFERROR($E85*SUMIF('Daily Log'!#REF!,$B85,'Daily Log'!#REF!),0)","v":0}]
[null,"AC05 K-DINNER",null,null,null,0,{"$f":"IFERROR($E86*SUMIF('Daily Log'!$B$18:$B$1017,$B86,'Daily Log'!$C$18:$C$1017),0)","v":0},{"$f":"IFERROR($E86*SUMIF('Daily Log'!$E$18:$E$1017,$B86,'Daily Log'!$F$18:$F$1017),0)","v":0},{"$f":"IFERROR($E86*SUMIF('Daily Log'!$H$18:$H$1017,$B86,'Daily Log'!$I$18:$I$1017),0)","v":0},{"$f":"IFERROR($E86*SUMIF('Daily Log'!$K$18:$K$1017,$B86,'Daily Log'!$L$18:$L$1017),0)","v":0},{"$f":"IFERROR($E86*SUMIF('Daily Log'!$N$18:$N$1017,$B86,'Daily Log'!$O$18:$O$1017),0)","v":0},{"$f":"IFERROR($E86*SUMIF('Daily Log'!#REF!,$B86,'Daily Log'!#REF!),0)","v":0},{"$f":"IFERROR($E86*SUMIF('Daily Log'!#REF!,$B86,'Daily Log'!#REF!),0)","v":0},{"$f":"IFERROR($E86*SUMIF('Daily Log'!#REF!,$B86,'Daily Log'!#REF!),0)","v":0},{"$f":"IFERROR($E86*SUMIF('Daily Log'!#REF!,$B86,'Daily Log'!#REF!),0)","v":0},{"$f":"IFERROR($E86*SUMIF('Daily Log'!#REF!,$B86,'Daily Log'!#REF!),0)","v":0},{"$f":"IFERROR($E86*SUMIF('Daily Log'!#REF!,$B86,'Daily Log'!#REF!),0)","v":0},{"$f":"IFERROR($E86*SUMIF('Daily Log'!#REF!,$B86,'Daily Log'!#REF!),0)","v":0},{"$f":"IFERROR($E86*SUMIF('Daily Log'!#REF!,$B86,'Daily Log'!#REF!),0)","v":0},{"$f":"IFERROR($E86*SUMIF('Daily Log'!#REF!,$B86,'Daily Log'!#REF!),0)","v":0},{"$f":"IFERROR($E86*SUMIF('Daily Log'!#REF!,$B86,'Daily Log'!#REF!),0)","v":0},{"$f":"IFERROR($E86*SUMIF('Daily Log'!#REF!,$B86,'Daily Log'!#REF!),0)","v":0},{"$f":"IFERROR($E86*SUMIF('Daily Log'!#REF!,$B86,'Daily Log'!#REF!),0)","v":0},{"$f":"IFERROR($E86*SUMIF('Daily Log'!#REF!,$B86,'Daily Log'!#REF!),0)","v":0},{"$f":"IFERROR($E86*SUMIF('Daily Log'!#REF!,$B86,'Daily Log'!#REF!),0)","v":0},{"$f":"IFERROR($E86*SUMIF('Daily Log'!#REF!,$B86,'Daily Log'!#REF!),0)","v":0},{"$f":"IFERROR($E86*SUMIF('Daily Log'!#REF!,$B86,'Daily Log'!#REF!),0)","v":0},{"$f":"IFERROR($E86*SUMIF('Daily Log'!#REF!,$B86,'Daily Log'!#REF!),0)","v":0},{"$f":"IFERROR($E86*SUMIF('Daily Log'!#REF!,$B86,'Daily Log'!#REF!),0)","v":0},{"$f":"IFERROR($E86*SUMIF('Daily Log'!#REF!,$B86,'Daily Log'!#REF!),0)","v":0},{"$f":"IFERROR($E86*SUMIF('Daily Log'!#REF!,$B86,'Daily Log'!#REF!),0)","v":0},{"$f":"IFERROR($E86*SUMIF('Daily Log'!#REF!,$B86,'Daily Log'!#REF!),0)","v":0},{"$f":"IFERROR($E86*SUMIF('Daily Log'!#REF!,$B86,'Daily Log'!#REF!),0)","v":0},{"$f":"IFERROR($E86*SUMIF('Daily Log'!#REF!,$B86,'Daily Log'!#REF!),0)","v":0},{"$f":"IFERROR($E86*SUMIF('Daily Log'!#REF!,$B86,'Daily Log'!#REF!),0)","v":0},{"$f":"IFERROR($E86*SUMIF('Daily Log'!#REF!,$B86,'Daily Log'!#REF!),0)","v":0},{"$f":"IFERROR($E86*SUMIF('Daily Log'!#REF!,$B86,'Daily Log'!#REF!),0)","v":0}]
[null,"AC06 N : CHILDREN",null,null,null,0,{"$f":"IFERROR($E87*SUMIF('Daily Log'!$B$18:$B$1017,$B87,'Daily Log'!$C$18:$C$1017),0)","v":0},{"$f":"IFERROR($E87*SUMIF('Daily Log'!$E$18:$E$1017,$B87,'Daily Log'!$F$18:$F$1017),0)","v":0},{"$f":"IFERROR($E87*SUMIF('Daily Log'!$H$18:$H$1017,$B87,'Daily Log'!$I$18:$I$1017),0)","v":0},{"$f":"IFERROR($E87*SUMIF('Daily Log'!$K$18:$K$1017,$B87,'Daily Log'!$L$18:$L$1017),0)","v":0},{"$f":"IFERROR($E87*SUMIF('Daily Log'!$N$18:$N$1017,$B87,'Daily Log'!$O$18:$O$1017),0)","v":0},{"$f":"IFERROR($E87*SUMIF('Daily Log'!#REF!,$B87,'Daily Log'!#REF!),0)","v":0},{"$f":"IFERROR($E87*SUMIF('Daily Log'!#REF!,$B87,'Daily Log'!#REF!),0)","v":0},{"$f":"IFERROR($E87*SUMIF('Daily Log'!#REF!,$B87,'Daily Log'!#REF!),0)","v":0},{"$f":"IFERROR($E87*SUMIF('Daily Log'!#REF!,$B87,'Daily Log'!#REF!),0)","v":0},{"$f":"IFERROR($E87*SUMIF('Daily Log'!#REF!,$B87,'Daily Log'!#REF!),0)","v":0},{"$f":"IFERROR($E87*SUMIF('Daily Log'!#REF!,$B87,'Daily Log'!#REF!),0)","v":0},{"$f":"IFERROR($E87*SUMIF('Daily Log'!#REF!,$B87,'Daily Log'!#REF!),0)","v":0},{"$f":"IFERROR($E87*SUMIF('Daily Log'!#REF!,$B87,'Daily Log'!#REF!),0)","v":0},{"$f":"IFERROR($E87*SUMIF('Daily Log'!#REF!,$B87,'Daily Log'!#REF!),0)","v":0},{"$f":"IFERROR($E87*SUMIF('Daily Log'!#REF!,$B87,'Daily Log'!#REF!),0)","v":0},{"$f":"IFERROR($E87*SUMIF('Daily Log'!#REF!,$B87,'Daily Log'!#REF!),0)","v":0},{"$f":"IFERROR($E87*SUMIF('Daily Log'!#REF!,$B87,'Daily Log'!#REF!),0)","v":0},{"$f":"IFERROR($E87*SUMIF('Daily Log'!#REF!,$B87,'Daily Log'!#REF!),0)","v":0},{"$f":"IFERROR($E87*SUMIF('Daily Log'!#REF!,$B87,'Daily Log'!#REF!),0)","v":0},{"$f":"IFERROR($E87*SUMIF('Daily Log'!#REF!,$B87,'Daily Log'!#REF!),0)","v":0},{"$f":"IFERROR($E87*SUMIF('Daily Log'!#REF!,$B87,'Daily Log'!#REF!),0)","v":0},{"$f":"IFERROR($E87*SUMIF('Daily Log'!#REF!,$B87,'Daily Log'!#REF!),0)","v":0},{"$f":"IFERROR($E87*SUMIF('Daily Log'!#REF!,$B87,'Daily Log'!#REF!),0)","v":0},{"$f":"IFERROR($E87*SUMIF('Daily Log'!#REF!,$B87,'Daily Log'!#REF!),0)","v":0},{"$f":"IFERROR($E87*SUMIF('Daily Log'!#REF!,$B87,'Daily Log'!#REF!),0)","v":0},{"$f":"IFERROR($E87*SUMIF('Daily Log'!#REF!,$B87,'Daily Log'!#REF!),0)","v":0},{"$f":"IFERROR($E87*SUMIF('Daily Log'!#REF!,$B87,'Daily Log'!#REF!),0)","v":0},{"$f":"IFERROR($E87*SUMIF('Daily Log'!#REF!,$B87,'Daily Log'!#REF!),0)","v":0},{"$f":"IFERROR($E87*SUMIF('Daily Log'!#REF!,$B87,'Daily Log'!#REF!),0)","v":0},{"$f":"IFERROR($E87*SUMIF('Daily Log'!#REF!,$B87,'Daily Log'!#REF!),0)","v":0},{"$f":"IFERROR($E87*SUMIF('Daily Log'!#REF!,$B87,'Daily Log'!#REF!),0)","v":0}]
[null,"AC07 N : MEMBER B'DAY",null,null,null,0,{"$f":"IFERROR($E88*SUMIF('Daily Log'!$B$18:$B$1017,$B88,'Daily Log'!$C$18:$C$1017),0)","v":0},{"$f":"IFERROR($E88*SUMIF('Daily Log'!$E$18:$E$1017,$B88,'Daily Log'!$F$18:$F$1017),0)","v":0},{"$f":"IFERROR($E88*SUMIF('Daily Log'!$H$18:$H$1017,$B88,'Daily Log'!$I$18:$I$1017),0)","v":0},{"$f":"IFERROR($E88*SUMIF('Daily Log'!$K$18:$K$1017,$B88,'Daily Log'!$L$18:$L$1017),0)","v":0},{"$f":"IFERROR($E88*SUMIF('Daily Log'!$N$18:$N$1017,$B88,'Daily Log'!$O$18:$O$1017),0)","v":0},{"$f":"IFERROR($E88*SUMIF('Daily Log'!#REF!,$B88,'Daily Log'!#REF!),0)","v":0},{"$f":"IFERROR($E88*SUMIF('Daily Log'!#REF!,$B88,'Daily Log'!#REF!),0)","v":0},{"$f":"IFERROR($E88*SUMIF('Daily Log'!#REF!,$B88,'Daily Log'!#REF!),0)","v":0},{"$f":"IFERROR($E88*SUMIF('Daily Log'!#REF!,$B88,'Daily Log'!#REF!),0)","v":0},{"$f":"IFERROR($E88*SUMIF('Daily Log'!#REF!,$B88,'Daily Log'!#REF!),0)","v":0},{"$f":"IFERROR($E88*SUMIF('Daily Log'!#REF!,$B88,'Daily Log'!#REF!),0)","v":0},{"$f":"IFERROR($E88*SUMIF('Daily Log'!#REF!,$B88,'Daily Log'!#REF!),0)","v":0},{"$f":"IFERROR($E88*SUMIF('Daily Log'!#REF!,$B88,'Daily Log'!#REF!),0)","v":0},{"$f":"IFERROR($E88*SUMIF('Daily Log'!#REF!,$B88,'Daily Log'!#REF!),0)","v":0},{"$f":"IFERROR($E88*SUMIF('Daily Log'!#REF!,$B88,'Daily Log'!#REF!),0)","v":0},{"$f":"IFERROR($E88*SUMIF('Daily Log'!#REF!,$B88,'Daily Log'!#REF!),0)","v":0},{"$f":"IFERROR($E88*SUMIF('Daily Log'!#REF!,$B88,'Daily Log'!#REF!),0)","v":0},{"$f":"IFERROR($E88*SUMIF('Daily Log'!#REF!,$B88,'Daily Log'!#REF!),0)","v":0},{"$f":"IFERROR($E88*SUMIF('Daily Log'!#REF!,$B88,'Daily Log'!#REF!),0)","v":0},{"$f":"IFERROR($E88*SUMIF('Daily Log'!#REF!,$B88,'Daily Log'!#REF!),0)","v":0},{"$f":"IFERROR($E88*SUMIF('Daily Log'!#REF!,$B88,'Daily Log'!#REF!),0)","v":0},{"$f":"IFERROR($E88*SUMIF('Daily Log'!#REF!,$B88,'Daily Log'!#REF!),0)","v":0},{"$f":"IFERROR($E88*SUMIF('Daily Log'!#REF!,$B88,'Daily Log'!#REF!),0)","v":0},{"$f":"IFERROR($E88*SUMIF('Daily Log'!#REF!,$B88,'Daily Log'!#REF!),0)","v":0},{"$f":"IFERROR($E88*SUMIF('Daily Log'!#REF!,$B88,'Daily Log'!#REF!),0)","v":0},{"$f":"IFERROR($E88*SUMIF('Daily Log'!#REF!,$B88,'Daily Log'!#REF!),0)","v":0},{"$f":"IFERROR($E88*SUMIF('Daily Log'!#REF!,$B88,'Daily Log'!#REF!),0)","v":0},{"$f":"IFERROR($E88*SUMIF('Daily Log'!#REF!,$B88,'Daily Log'!#REF!),0)","v":0},{"$f":"IFERROR($E88*SUMIF('Daily Log'!#REF!,$B88,'Daily Log'!#REF!),0)","v":0},{"$f":"IFERROR($E88*SUMIF('Daily Log'!#REF!,$B88,'Daily Log'!#REF!),0)","v":0},{"$f":"IFERROR($E88*SUMIF('Daily Log'!#REF!,$B88,'Daily Log'!#REF!),0)","v":0}]
[null,"AC08 N : STAFF B'DAY",null,null,null,0,{"$f":"IFERROR($E89*SUMIF('Daily Log'!$B$18:$B$1017,$B89,'Daily Log'!$C$18:$C$1017),0)","v":0},{"$f":"IFERROR($E89*SUMIF('Daily Log'!$E$18:$E$1017,$B89,'Daily Log'!$F$18:$F$1017),0)","v":0},{"$f":"IFERROR($E89*SUMIF('Daily Log'!$H$18:$H$1017,$B89,'Daily Log'!$I$18:$I$1017),0)","v":0},{"$f":"IFERROR($E89*SUMIF('Daily Log'!$K$18:$K$1017,$B89,'Daily Log'!$L$18:$L$1017),0)","v":0},{"$f":"IFERROR($E89*SUMIF('Daily Log'!$N$18:$N$1017,$B89,'Daily Log'!$O$18:$O$1017),0)","v":0},{"$f":"IFERROR($E89*SUMIF('Daily Log'!#REF!,$B89,'Daily Log'!#REF!),0)","v":0},{"$f":"IFERROR($E89*SUMIF('Daily Log'!#REF!,$B89,'Daily Log'!#REF!),0)","v":0},{"$f":"IFERROR($E89*SUMIF('Daily Log'!#REF!,$B89,'Daily Log'!#REF!),0)","v":0},{"$f":"IFERROR($E89*SUMIF('Daily Log'!#REF!,$B89,'Daily Log'!#REF!),0)","v":0},{"$f":"IFERROR($E89*SUMIF('Daily Log'!#REF!,$B89,'Daily Log'!#REF!),0)","v":0},{"$f":"IFERROR($E89*SUMIF('Daily Log'!#REF!,$B89,'Daily Log'!#REF!),0)","v":0},{"$f":"IFERROR($E89*SUMIF('Daily Log'!#REF!,$B89,'Daily Log'!#REF!),0)","v":0},{"$f":"IFERROR($E89*SUMIF('Daily Log'!#REF!,$B89,'Daily Log'!#REF!),0)","v":0},{"$f":"IFERROR($E89*SUMIF('Daily Log'!#REF!,$B89,'Daily Log'!#REF!),0)","v":0},{"$f":"IFERROR($E89*SUMIF('Daily Log'!#REF!,$B89,'Daily Log'!#REF!),0)","v":0},{"$f":"IFERROR($E89*SUMIF('Daily Log'!#REF!,$B89,'Daily Log'!#REF!),0)","v":0},{"$f":"IFERROR($E89*SUMIF('Daily Log'!#REF!,$B89,'Daily Log'!#REF!),0)","v":0},{"$f":"IFERROR($E89*SUMIF('Daily Log'!#REF!,$B89,'Daily Log'!#REF!),0)","v":0},{"$f":"IFERROR($E89*SUMIF('Daily Log'!#REF!,$B89,'Daily Log'!#REF!),0)","v":0},{"$f":"IFERROR($E89*SUMIF('Daily Log'!#REF!,$B89,'Daily Log'!#REF!),0)","v":0},{"$f":"IFERROR($E89*SUMIF('Daily Log'!#REF!,$B89,'Daily Log'!#REF!),0)","v":0},{"$f":"IFERROR($E89*SUMIF('Daily Log'!#REF!,$B89,'Daily Log'!#REF!),0)","v":0},{"$f":"IFERROR($E89*SUMIF('Daily Log'!#REF!,$B89,'Daily Log'!#REF!),0)","v":0},{"$f":"IFERROR($E89*SUMIF('Daily Log'!#REF!,$B89,'Daily Log'!#REF!),0)","v":0},{"$f":"IFERROR($E89*SUMIF('Daily Log'!#REF!,$B89,'Daily Log'!#REF!),0)","v":0},{"$f":"IFERROR($E89*SUMIF('Daily Log'!#REF!,$B89,'Daily Log'!#REF!),0)","v":0},{"$f":"IFERROR($E89*SUMIF('Daily Log'!#REF!,$B89,'Daily Log'!#REF!),0)","v":0},{"$f":"IFERROR($E89*SUMIF('Daily Log'!#REF!,$B89,'Daily Log'!#REF!),0)","v":0},{"$f":"IFERROR($E89*SUMIF('Daily Log'!#REF!,$B89,'Daily Log'!#REF!),0)","v":0},{"$f":"IFERROR($E89*SUMIF('Daily Log'!#REF!,$B89,'Daily Log'!#REF!),0)","v":0},{"$f":"IFERROR($E89*SUMIF('Daily Log'!#REF!,$B89,'Daily Log'!#REF!),0)","v":0}]
[null,"AC09 N : FOC HEAD",null,null,null,0,{"$f":"IFERROR($E90*SUMIF('Daily Log'!$B$18:$B$1017,$B90,'Daily Log'!$C$18:$C$1017),0)","v":0},{"$f":"IFERROR($E90*SUMIF('Daily Log'!$E$18:$E$1017,$B90,'Daily Log'!$F$18:$F$1017),0)","v":0},{"$f":"IFERROR($E90*SUMIF('Daily Log'!$H$18:$H$1017,$B90,'Daily Log'!$I$18:$I$1017),0)","v":0},{"$f":"IFERROR($E90*SUMIF('Daily Log'!$K$18:$K$1017,$B90,'Daily Log'!$L$18:$L$1017),0)","v":0},{"$f":"IFERROR($E90*SUMIF('Daily Log'!$N$18:$N$1017,$B90,'Daily Log'!$O$18:$O$1017),0)","v":0},{"$f":"IFERROR($E90*SUMIF('Daily Log'!#REF!,$B90,'Daily Log'!#REF!),0)","v":0},{"$f":"IFERROR($E90*SUMIF('Daily Log'!#REF!,$B90,'Daily Log'!#REF!),0)","v":0},{"$f":"IFERROR($E90*SUMIF('Daily Log'!#REF!,$B90,'Daily Log'!#REF!),0)","v":0},{"$f":"IFERROR($E90*SUMIF('Daily Log'!#REF!,$B90,'Daily Log'!#REF!),0)","v":0},{"$f":"IFERROR($E90*SUMIF('Daily Log'!#REF!,$B90,'Daily Log'!#REF!),0)","v":0},{"$f":"IFERROR($E90*SUMIF('Daily Log'!#REF!,$B90,'Daily Log'!#REF!),0)","v":0},{"$f":"IFERROR($E90*SUMIF('Daily Log'!#REF!,$B90,'Daily Log'!#REF!),0)","v":0},{"$f":"IFERROR($E90*SUMIF('Daily Log'!#REF!,$B90,'Daily Log'!#REF!),0)","v":0},{"$f":"IFERROR($E90*SUMIF('Daily Log'!#REF!,$B90,'Daily Log'!#REF!),0)","v":0},{"$f":"IFERROR($E90*SUMIF('Daily Log'!#REF!,$B90,'Daily Log'!#REF!),0)","v":0},{"$f":"IFERROR($E90*SUMIF('Daily Log'!#REF!,$B90,'Daily Log'!#REF!),0)","v":0},{"$f":"IFERROR($E90*SUMIF('Daily Log'!#REF!,$B90,'Daily Log'!#REF!),0)","v":0},{"$f":"IFERROR($E90*SUMIF('Daily Log'!#REF!,$B90,'Daily Log'!#REF!),0)","v":0},{"$f":"IFERROR($E90*SUMIF('Daily Log'!#REF!,$B90,'Daily Log'!#REF!),0)","v":0},{"$f":"IFERROR($E90*SUMIF('Daily Log'!#REF!,$B90,'Daily Log'!#REF!),0)","v":0},{"$f":"IFERROR($E90*SUMIF('Daily Log'!#REF!,$B90,'Daily Log'!#REF!),0)","v":0},{"$f":"IFERROR($E90*SUMIF('Daily Log'!#REF!,$B90,'Daily Log'!#REF!),0)","v":0},{"$f":"IFERROR($E90*SUMIF('Daily Log'!#REF!,$B90,'Daily Log'!#REF!),0)","v":0},{"$f":"IFERROR($E90*SUMIF('Daily Log'!#REF!,$B90,'Daily Log'!#REF!),0)","v":0},{"$f":"IFERROR($E90*SUMIF('Daily Log'!#REF!,$B90,'Daily Log'!#REF!),0)","v":0},{"$f":"IFERROR($E90*SUMIF('Daily Log'!#REF!,$B90,'Daily Log'!#REF!),0)","v":0},{"$f":"IFERROR($E90*SUMIF('Daily Log'!#REF!,$B90,'Daily Log'!#REF!),0)","v":0},{"$f":"IFERROR($E90*SUMIF('Daily Log'!#REF!,$B90,'Daily Log'!#REF!),0)","v":0},{"$f":"IFERROR($E90*SUMIF('Daily Log'!#REF!,$B90,'Daily Log'!#REF!),0)","v":0},{"$f":"IFERROR($E90*SUMIF('Daily Log'!#REF!,$B90,'Daily Log'!#REF!),0)","v":0},{"$f":"IFERROR($E90*SUMIF('Daily Log'!#REF!,$B90,'Daily Log'!#REF!),0)","v":0}]
[null,"AC10 N : FREEHEAD (B)",null,null,null,0,{"$f":"IFERROR($E91*SUMIF('Daily Log'!$B$18:$B$1017,$B91,'Daily Log'!$C$18:$C$1017),0)","v":0},{"$f":"IFERROR($E91*SUMIF('Daily Log'!$E$18:$E$1017,$B91,'Daily Log'!$F$18:$F$1017),0)","v":0},{"$f":"IFERROR($E91*SUMIF('Daily Log'!$H$18:$H$1017,$B91,'Daily Log'!$I$18:$I$1017),0)","v":0},{"$f":"IFERROR($E91*SUMIF('Daily Log'!$K$18:$K$1017,$B91,'Daily Log'!$L$18:$L$1017),0)","v":0},{"$f":"IFERROR($E91*SUMIF('Daily Log'!$N$18:$N$1017,$B91,'Daily Log'!$O$18:$O$1017),0)","v":0},{"$f":"IFERROR($E91*SUMIF('Daily Log'!#REF!,$B91,'Daily Log'!#REF!),0)","v":0},{"$f":"IFERROR($E91*SUMIF('Daily Log'!#REF!,$B91,'Daily Log'!#REF!),0)","v":0},{"$f":"IFERROR($E91*SUMIF('Daily Log'!#REF!,$B91,'Daily Log'!#REF!),0)","v":0},{"$f":"IFERROR($E91*SUMIF('Daily Log'!#REF!,$B91,'Daily Log'!#REF!),0)","v":0},{"$f":"IFERROR($E91*SUMIF('Daily Log'!#REF!,$B91,'Daily Log'!#REF!),0)","v":0},{"$f":"IFERROR($E91*SUMIF('Daily Log'!#REF!,$B91,'Daily Log'!#REF!),0)","v":0},{"$f":"IFERROR($E91*SUMIF('Daily Log'!#REF!,$B91,'Daily Log'!#REF!),0)","v":0},{"$f":"IFERROR($E91*SUMIF('Daily Log'!#REF!,$B91,'Daily Log'!#REF!),0)","v":0},{"$f":"IFERROR($E91*SUMIF('Daily Log'!#REF!,$B91,'Daily Log'!#REF!),0)","v":0},{"$f":"IFERROR($E91*SUMIF('Daily Log'!#REF!,$B91,'Daily Log'!#REF!),0)","v":0},{"$f":"IFERROR($E91*SUMIF('Daily Log'!#REF!,$B91,'Daily Log'!#REF!),0)","v":0},{"$f":"IFERROR($E91*SUMIF('Daily Log'!#REF!,$B91,'Daily Log'!#REF!),0)","v":0},{"$f":"IFERROR($E91*SUMIF('Daily Log'!#REF!,$B91,'Daily Log'!#REF!),0)","v":0},{"$f":"IFERROR($E91*SUMIF('Daily Log'!#REF!,$B91,'Daily Log'!#REF!),0)","v":0},{"$f":"IFERROR($E91*SUMIF('Daily Log'!#REF!,$B91,'Daily Log'!#REF!),0)","v":0},{"$f":"IFERROR($E91*SUMIF('Daily Log'!#REF!,$B91,'Daily Log'!#REF!),0)","v":0},{"$f":"IFERROR($E91*SUMIF('Daily Log'!#REF!,$B91,'Daily Log'!#REF!),0)","v":0},{"$f":"IFERROR($E91*SUMIF('Daily Log'!#REF!,$B91,'Daily Log'!#REF!),0)","v":0},{"$f":"IFERROR($E91*SUMIF('Daily Log'!#REF!,$B91,'Daily Log'!#REF!),0)","v":0},{"$f":"IFERROR($E91*SUMIF('Daily Log'!#REF!,$B91,'Daily Log'!#REF!),0)","v":0},{"$f":"IFERROR($E91*SUMIF('Daily Log'!#REF!,$B91,'Daily Log'!#REF!),0)","v":0},{"$f":"IFERROR($E91*SUMIF('Daily Log'!#REF!,$B91,'Daily Log'!#REF!),0)","v":0},{"$f":"IFERROR($E91*SUMIF('Daily Log'!#REF!,$B91,'Daily Log'!#REF!),0)","v":0},{"$f":"IFERROR($E91*SUMIF('Daily Log'!#REF!,$B91,'Daily Log'!#REF!),0)","v":0},{"$f":"IFERROR($E91*SUMIF('Daily Log'!#REF!,$B91,'Daily Log'!#REF!),0)","v":0},{"$f":"IFERROR($E91*SUMIF('Daily Log'!#REF!,$B91,'Daily Log'!#REF!),0)","v":0}]
[null,"AC11 Father",null,null,null,0,{"$f":"IFERROR($E92*SUMIF('Daily Log'!$B$18:$B$1017,$B92,'Daily Log'!$C$18:$C$1017),0)","v":0},{"$f":"IFERROR($E92*SUMIF('Daily Log'!$E$18:$E$1017,$B92,'Daily Log'!$F$18:$F$1017),0)","v":0},{"$f":"IFERROR($E92*SUMIF('Daily Log'!$H$18:$H$1017,$B92,'Daily Log'!$I$18:$I$1017),0)","v":0},{"$f":"IFERROR($E92*SUMIF('Daily Log'!$K$18:$K$1017,$B92,'Daily Log'!$L$18:$L$1017),0)","v":0},{"$f":"IFERROR($E92*SUMIF('Daily Log'!$N$18:$N$1017,$B92,'Daily Log'!$O$18:$O$1017),0)","v":0},{"$f":"IFERROR($E92*SUMIF('Daily Log'!#REF!,$B92,'Daily Log'!#REF!),0)","v":0},{"$f":"IFERROR($E92*SUMIF('Daily Log'!#REF!,$B92,'Daily Log'!#REF!),0)","v":0},{"$f":"IFERROR($E92*SUMIF('Daily Log'!#REF!,$B92,'Daily Log'!#REF!),0)","v":0},{"$f":"IFERROR($E92*SUMIF('Daily Log'!#REF!,$B92,'Daily Log'!#REF!),0)","v":0},{"$f":"IFERROR($E92*SUMIF('Daily Log'!#REF!,$B92,'Daily Log'!#REF!),0)","v":0},{"$f":"IFERROR($E92*SUMIF('Daily Log'!#REF!,$B92,'Daily Log'!#REF!),0)","v":0},{"$f":"IFERROR($E92*SUMIF('Daily Log'!#REF!,$B92,'Daily Log'!#REF!),0)","v":0},{"$f":"IFERROR($E92*SUMIF('Daily Log'!#REF!,$B92,'Daily Log'!#REF!),0)","v":0},{"$f":"IFERROR($E92*SUMIF('Daily Log'!#REF!,$B92,'Daily Log'!#REF!),0)","v":0},{"$f":"IFERROR($E92*SUMIF('Daily Log'!#REF!,$B92,'Daily Log'!#REF!),0)","v":0},{"$f":"IFERROR($E92*SUMIF('Daily Log'!#REF!,$B92,'Daily Log'!#REF!),0)","v":0},{"$f":"IFERROR($E92*SUMIF('Daily Log'!#REF!,$B92,'Daily Log'!#REF!),0)","v":0},{"$f":"IFERROR($E92*SUMIF('Daily Log'!#REF!,$B92,'Daily Log'!#REF!),0)","v":0},{"$f":"IFERROR($E92*SUMIF('Daily Log'!#REF!,$B92,'Daily Log'!#REF!),0)","v":0},{"$f":"IFERROR($E92*SUMIF('Daily Log'!#REF!,$B92,'Daily Log'!#REF!),0)","v":0},{"$f":"IFERROR($E92*SUMIF('Daily Log'!#REF!,$B92,'Daily Log'!#REF!),0)","v":0},{"$f":"IFERROR($E92*SUMIF('Daily Log'!#REF!,$B92,'Daily Log'!#REF!),0)","v":0},{"$f":"IFERROR($E92*SUMIF('Daily Log'!#REF!,$B92,'Daily Log'!#REF!),0)","v":0},{"$f":"IFERROR($E92*SUMIF('Daily Log'!#REF!,$B92,'Daily Log'!#REF!),0)","v":0},{"$f":"IFERROR($E92*SUMIF('Daily Log'!#REF!,$B92,'Daily Log'!#REF!),0)","v":0},{"$f":"IFERROR($E92*SUMIF('Daily Log'!#REF!,$B92,'Daily Log'!#REF!),0)","v":0},{"$f":"IFERROR($E92*SUMIF('Daily Log'!#REF!,$B92,'Daily Log'!#REF!),0)","v":0},{"$f":"IFERROR($E92*SUMIF('Daily Log'!#REF!,$B92,'Daily Log'!#REF!),0)","v":0},{"$f":"IFERROR($E92*SUMIF('Daily Log'!#REF!,$B92,'Daily Log'!#REF!),0)","v":0},{"$f":"IFERROR($E92*SUMIF('Daily Log'!#REF!,$B92,'Daily Log'!#REF!),0)","v":0},{"$f":"IFERROR($E92*SUMIF('Daily Log'!#REF!,$B92,'Daily Log'!#REF!),0)","v":0}]
[null,"AC12 N : FREEHEAD (R)",null,null,null,0,{"$f":"IFERROR($E93*SUMIF('Daily Log'!$B$18:$B$1017,$B93,'Daily Log'!$C$18:$C$1017),0)","v":0},{"$f":"IFERROR($E93*SUMIF('Daily Log'!$E$18:$E$1017,$B93,'Daily Log'!$F$18:$F$1017),0)","v":0},{"$f":"IFERROR($E93*SUMIF('Daily Log'!$H$18:$H$1017,$B93,'Daily Log'!$I$18:$I$1017),0)","v":0},{"$f":"IFERROR($E93*SUMIF('Daily Log'!$K$18:$K$1017,$B93,'Daily Log'!$L$18:$L$1017),0)","v":0},{"$f":"IFERROR($E93*SUMIF('Daily Log'!$N$18:$N$1017,$B93,'Daily Log'!$O$18:$O$1017),0)","v":0},{"$f":"IFERROR($E93*SUMIF('Daily Log'!#REF!,$B93,'Daily Log'!#REF!),0)","v":0},{"$f":"IFERROR($E93*SUMIF('Daily Log'!#REF!,$B93,'Daily Log'!#REF!),0)","v":0},{"$f":"IFERROR($E93*SUMIF('Daily Log'!#REF!,$B93,'Daily Log'!#REF!),0)","v":0},{"$f":"IFERROR($E93*SUMIF('Daily Log'!#REF!,$B93,'Daily Log'!#REF!),0)","v":0},{"$f":"IFERROR($E93*SUMIF('Daily Log'!#REF!,$B93,'Daily Log'!#REF!),0)","v":0},{"$f":"IFERROR($E93*SUMIF('Daily Log'!#REF!,$B93,'Daily Log'!#REF!),0)","v":0},{"$f":"IFERROR($E93*SUMIF('Daily Log'!#REF!,$B93,'Daily Log'!#REF!),0)","v":0},{"$f":"IFERROR($E93*SUMIF('Daily Log'!#REF!,$B93,'Daily Log'!#REF!),0)","v":0},{"$f":"IFERROR($E93*SUMIF('Daily Log'!#REF!,$B93,'Daily Log'!#REF!),0)","v":0},{"$f":"IFERROR($E93*SUMIF('Daily Log'!#REF!,$B93,'Daily Log'!#REF!),0)","v":0},{"$f":"IFERROR($E93*SUMIF('Daily Log'!#REF!,$B93,'Daily Log'!#REF!),0)","v":0},{"$f":"IFERROR($E93*SUMIF('Daily Log'!#REF!,$B93,'Daily Log'!#REF!),0)","v":0},{"$f":"IFERROR($E93*SUMIF('Daily Log'!#REF!,$B93,'Daily Log'!#REF!),0)","v":0},{"$f":"IFERROR($E93*SUMIF('Daily Log'!#REF!,$B93,'Daily Log'!#REF!),0)","v":0},{"$f":"IFERROR($E93*SUMIF('Daily Log'!#REF!,$B93,'Daily Log'!#REF!),0)","v":0},{"$f":"IFERROR($E93*SUMIF('Daily Log'!#REF!,$B93,'Daily Log'!#REF!),0)","v":0},{"$f":"IFERROR($E93*SUMIF('Daily Log'!#REF!,$B93,'Daily Log'!#REF!),0)","v":0},{"$f":"IFERROR($E93*SUMIF('Daily Log'!#REF!,$B93,'Daily Log'!#REF!),0)","v":0},{"$f":"IFERROR($E93*SUMIF('Daily Log'!#REF!,$B93,'Daily Log'!#REF!),0)","v":0},{"$f":"IFERROR($E93*SUMIF('Daily Log'!#REF!,$B93,'Daily Log'!#REF!),0)","v":0},{"$f":"IFERROR($E93*SUMIF('Daily Log'!#REF!,$B93,'Daily Log'!#REF!),0)","v":0},{"$f":"IFERROR($E93*SUMIF('Daily Log'!#REF!,$B93,'Daily Log'!#REF!),0)","v":0},{"$f":"IFERROR($E93*SUMIF('Daily Log'!#REF!,$B93,'Daily Log'!#REF!),0)","v":0},{"$f":"IFERROR($E93*SUMIF('Daily Log'!#REF!,$B93,'Daily Log'!#REF!),0)","v":0},{"$f":"IFERROR($E93*SUMIF('Daily Log'!#REF!,$B93,'Daily Log'!#REF!),0)","v":0},{"$f":"IFERROR($E93*SUMIF('Daily Log'!#REF!,$B93,'Daily Log'!#REF!),0)","v":0}]
[null,"AC13 N : 3+1",null,null,null,{"$f":"SUM($G94:$AK94)","v":0},{"$f":"IFERROR($E94*SUMIF('Daily Log'!$B$18:$B$1017,$B94,'Daily Log'!$C$18:$C$1017),0)","v":0},{"$f":"IFERROR($E94*SUMIF('Daily Log'!$E$18:$E$1017,$B94,'Daily Log'!$F$18:$F$1017),0)","v":0},{"$f":"IFERROR($E94*SUMIF('Daily Log'!$H$18:$H$1017,$B94,'Daily Log'!$I$18:$I$1017),0)","v":0},{"$f":"IFERROR($E94*SUMIF('Daily Log'!$K$18:$K$1017,$B94,'Daily Log'!$L$18:$L$1017),0)","v":0},{"$f":"IFERROR($E94*SUMIF('Daily Log'!$N$18:$N$1017,$B94,'Daily Log'!$O$18:$O$1017),0)","v":0},{"$f":"IFERROR($E94*SUMIF('Daily Log'!#REF!,$B94,'Daily Log'!#REF!),0)","v":0},{"$f":"IFERROR($E94*SUMIF('Daily Log'!#REF!,$B94,'Daily Log'!#REF!),0)","v":0},{"$f":"IFERROR($E94*SUMIF('Daily Log'!#REF!,$B94,'Daily Log'!#REF!),0)","v":0},{"$f":"IFERROR($E94*SUMIF('Daily Log'!#REF!,$B94,'Daily Log'!#REF!),0)","v":0},{"$f":"IFERROR($E94*SUMIF('Daily Log'!#REF!,$B94,'Daily Log'!#REF!),0)","v":0},{"$f":"IFERROR($E94*SUMIF('Daily Log'!#REF!,$B94,'Daily Log'!#REF!),0)","v":0},{"$f":"IFERROR($E94*SUMIF('Daily Log'!#REF!,$B94,'Daily Log'!#REF!),0)","v":0},{"$f":"IFERROR($E94*SUMIF('Daily Log'!#REF!,$B94,'Daily Log'!#REF!),0)","v":0},{"$f":"IFERROR($E94*SUMIF('Daily Log'!#REF!,$B94,'Daily Log'!#REF!),0)","v":0},{"$f":"IFERROR($E94*SUMIF('Daily Log'!#REF!,$B94,'Daily Log'!#REF!),0)","v":0},{"$f":"IFERROR($E94*SUMIF('Daily Log'!#REF!,$B94,'Daily Log'!#REF!),0)","v":0},{"$f":"IFERROR($E94*SUMIF('Daily Log'!#REF!,$B94,'Daily Log'!#REF!),0)","v":0},{"$f":"IFERROR($E94*SUMIF('Daily Log'!#REF!,$B94,'Daily Log'!#REF!),0)","v":0},{"$f":"IFERROR($E94*SUMIF('Daily Log'!#REF!,$B94,'Daily Log'!#REF!),0)","v":0},{"$f":"IFERROR($E94*SUMIF('Daily Log'!#REF!,$B94,'Daily Log'!#REF!),0)","v":0},{"$f":"IFERROR($E94*SUMIF('Daily Log'!#REF!,$B94,'Daily Log'!#REF!),0)","v":0},{"$f":"IFERROR($E94*SUMIF('Daily Log'!#REF!,$B94,'Daily Log'!#REF!),0)","v":0},{"$f":"IFERROR($E94*SUMIF('Daily Log'!#REF!,$B94,'Daily Log'!#REF!),0)","v":0},{"$f":"IFERROR($E94*SUMIF('Daily Log'!#REF!,$B94,'Daily Log'!#REF!),0)","v":0},{"$f":"IFERROR($E94*SUMIF('Daily Log'!#REF!,$B94,'Daily Log'!#REF!),0)","v":0},{"$f":"IFERROR($E94*SUMIF('Daily Log'!#REF!,$B94,'Daily Log'!#REF!),0)","v":0},{"$f":"IFERROR($E94*SUMIF('Daily Log'!#REF!,$B94,'Daily Log'!#REF!),0)","v":0},{"$f":"IFERROR($E94*SUMIF('Daily Log'!#REF!,$B94,'Daily Log'!#REF!),0)","v":0},{"$f":"IFERROR($E94*SUMIF('Daily Log'!#REF!,$B94,'Daily Log'!#REF!),0)","v":0},{"$f":"IFERROR($E94*SUMIF('Daily Log'!#REF!,$B94,'Daily Log'!#REF!),0)","v":0},{"$f":"IFERROR($E94*SUMIF('Daily Log'!#REF!,$B94,'Daily Log'!#REF!),0)","v":0}]
[null,"AC14 N : PROMOTION",null,null,null,0,{"$f":"IFERROR($E95*SUMIF('Daily Log'!$B$18:$B$1017,$B95,'Daily Log'!$C$18:$C$1017),0)","v":0},{"$f":"IFERROR($E95*SUMIF('Daily Log'!$E$18:$E$1017,$B95,'Daily Log'!$F$18:$F$1017),0)","v":0},{"$f":"IFERROR($E95*SUMIF('Daily Log'!$H$18:$H$1017,$B95,'Daily Log'!$I$18:$I$1017),0)","v":0},{"$f":"IFERROR($E95*SUMIF('Daily Log'!$K$18:$K$1017,$B95,'Daily Log'!$L$18:$L$1017),0)","v":0},{"$f":"IFERROR($E95*SUMIF('Daily Log'!$N$18:$N$1017,$B95,'Daily Log'!$O$18:$O$1017),0)","v":0},{"$f":"IFERROR($E95*SUMIF('Daily Log'!#REF!,$B95,'Daily Log'!#REF!),0)","v":0},{"$f":"IFERROR($E95*SUMIF('Daily Log'!#REF!,$B95,'Daily Log'!#REF!),0)","v":0},{"$f":"IFERROR($E95*SUMIF('Daily Log'!#REF!,$B95,'Daily Log'!#REF!),0)","v":0},{"$f":"IFERROR($E95*SUMIF('Daily Log'!#REF!,$B95,'Daily Log'!#REF!),0)","v":0},{"$f":"IFERROR($E95*SUMIF('Daily Log'!#REF!,$B95,'Daily Log'!#REF!),0)","v":0},{"$f":"IFERROR($E95*SUMIF('Daily Log'!#REF!,$B95,'Daily Log'!#REF!),0)","v":0},{"$f":"IFERROR($E95*SUMIF('Daily Log'!#REF!,$B95,'Daily Log'!#REF!),0)","v":0},{"$f":"IFERROR($E95*SUMIF('Daily Log'!#REF!,$B95,'Daily Log'!#REF!),0)","v":0},{"$f":"IFERROR($E95*SUMIF('Daily Log'!#REF!,$B95,'Daily Log'!#REF!),0)","v":0},{"$f":"IFERROR($E95*SUMIF('Daily Log'!#REF!,$B95,'Daily Log'!#REF!),0)","v":0},{"$f":"IFERROR($E95*SUMIF('Daily Log'!#REF!,$B95,'Daily Log'!#REF!),0)","v":0},{"$f":"IFERROR($E95*SUMIF('Daily Log'!#REF!,$B95,'Daily Log'!#REF!),0)","v":0},{"$f":"IFERROR($E95*SUMIF('Daily Log'!#REF!,$B95,'Daily Log'!#REF!),0)","v":0},{"$f":"IFERROR($E95*SUMIF('Daily Log'!#REF!,$B95,'Daily Log'!#REF!),0)","v":0},{"$f":"IFERROR($E95*SUMIF('Daily Log'!#REF!,$B95,'Daily Log'!#REF!),0)","v":0},{"$f":"IFERROR($E95*SUMIF('Daily Log'!#REF!,$B95,'Daily Log'!#REF!),0)","v":0},{"$f":"IFERROR($E95*SUMIF('Daily Log'!#REF!,$B95,'Daily Log'!#REF!),0)","v":0},{"$f":"IFERROR($E95*SUMIF('Daily Log'!#REF!,$B95,'Daily Log'!#REF!),0)","v":0},{"$f":"IFERROR($E95*SUMIF('Daily Log'!#REF!,$B95,'Daily Log'!#REF!),0)","v":0},{"$f":"IFERROR($E95*SUMIF('Daily Log'!#REF!,$B95,'Daily Log'!#REF!),0)","v":0},{"$f":"IFERROR($E95*SUMIF('Daily Log'!#REF!,$B95,'Daily Log'!#REF!),0)","v":0},{"$f":"IFERROR($E95*SUMIF('Daily Log'!#REF!,$B95,'Daily Log'!#REF!),0)","v":0},{"$f":"IFERROR($E95*SUMIF('Daily Log'!#REF!,$B95,'Daily Log'!#REF!),0)","v":0},{"$f":"IFERROR($E95*SUMIF('Daily Log'!#REF!,$B95,'Daily Log'!#REF!),0)","v":0},{"$f":"IFERROR($E95*SUMIF('Daily Log'!#REF!,$B95,'Daily Log'!#REF!),0)","v":0},{"$f":"IFERROR($E95*SUMIF('Daily Log'!#REF!,$B95,'Daily Log'!#REF!),0)","v":0}]
[null,"AC15 N : PROMO+MEAL",null,null,null,0,{"$f":"IFERROR($E96*SUMIF('Daily Log'!$B$18:$B$1017,$B96,'Daily Log'!$C$18:$C$1017),0)","v":0},{"$f":"IFERROR($E96*SUMIF('Daily Log'!$E$18:$E$1017,$B96,'Daily Log'!$F$18:$F$1017),0)","v":0},{"$f":"IFERROR($E96*SUMIF('Daily Log'!$H$18:$H$1017,$B96,'Daily Log'!$I$18:$I$1017),0)","v":0},{"$f":"IFERROR($E96*SUMIF('Daily Log'!$K$18:$K$1017,$B96,'Daily Log'!$L$18:$L$1017),0)","v":0},{"$f":"IFERROR($E96*SUMIF('Daily Log'!$N$18:$N$1017,$B96,'Daily Log'!$O$18:$O$1017),0)","v":0},{"$f":"IFERROR($E96*SUMIF('Daily Log'!#REF!,$B96,'Daily Log'!#REF!),0)","v":0},{"$f":"IFERROR($E96*SUMIF('Daily Log'!#REF!,$B96,'Daily Log'!#REF!),0)","v":0},{"$f":"IFERROR($E96*SUMIF('Daily Log'!#REF!,$B96,'Daily Log'!#REF!),0)","v":0},{"$f":"IFERROR($E96*SUMIF('Daily Log'!#REF!,$B96,'Daily Log'!#REF!),0)","v":0},{"$f":"IFERROR($E96*SUMIF('Daily Log'!#REF!,$B96,'Daily Log'!#REF!),0)","v":0},{"$f":"IFERROR($E96*SUMIF('Daily Log'!#REF!,$B96,'Daily Log'!#REF!),0)","v":0},{"$f":"IFERROR($E96*SUMIF('Daily Log'!#REF!,$B96,'Daily Log'!#REF!),0)","v":0},{"$f":"IFERROR($E96*SUMIF('Daily Log'!#REF!,$B96,'Daily Log'!#REF!),0)","v":0},{"$f":"IFERROR($E96*SUMIF('Daily Log'!#REF!,$B96,'Daily Log'!#REF!),0)","v":0},{"$f":"IFERROR($E96*SUMIF('Daily Log'!#REF!,$B96,'Daily Log'!#REF!),0)","v":0},{"$f":"IFERROR($E96*SUMIF('Daily Log'!#REF!,$B96,'Daily Log'!#REF!),0)","v":0},{"$f":"IFERROR($E96*SUMIF('Daily Log'!#REF!,$B96,'Daily Log'!#REF!),0)","v":0},{"$f":"IFERROR($E96*SUMIF('Daily Log'!#REF!,$B96,'Daily Log'!#REF!),0)","v":0},{"$f":"IFERROR($E96*SUMIF('Daily Log'!#REF!,$B96,'Daily Log'!#REF!),0)","v":0},{"$f":"IFERROR($E96*SUMIF('Daily Log'!#REF!,$B96,'Daily Log'!#REF!),0)","v":0},{"$f":"IFERROR($E96*SUMIF('Daily Log'!#REF!,$B96,'Daily Log'!#REF!),0)","v":0},{"$f":"IFERROR($E96*SUMIF('Daily Log'!#REF!,$B96,'Daily Log'!#REF!),0)","v":0},{"$f":"IFERROR($E96*SUMIF('Daily Log'!#REF!,$B96,'Daily Log'!#REF!),0)","v":0},{"$f":"IFERROR($E96*SUMIF('Daily Log'!#REF!,$B96,'Daily Log'!#REF!),0)","v":0},{"$f":"IFERROR($E96*SUMIF('Daily Log'!#REF!,$B96,'Daily Log'!#REF!),0)","v":0},{"$f":"IFERROR($E96*SUMIF('Daily Log'!#REF!,$B96,'Daily Log'!#REF!),0)","v":0},{"$f":"IFERROR($E96*SUMIF('Daily Log'!#REF!,$B96,'Daily Log'!#REF!),0)","v":0},{"$f":"IFERROR($E96*SUMIF('Daily Log'!#REF!,$B96,'Daily Log'!#REF!),0)","v":0},{"$f":"IFERROR($E96*SUMIF('Daily Log'!#REF!,$B96,'Daily Log'!#REF!),0)","v":0},{"$f":"IFERROR($E96*SUMIF('Daily Log'!#REF!,$B96,'Daily Log'!#REF!),0)","v":0},{"$f":"IFERROR($E96*SUMIF('Daily Log'!#REF!,$B96,'Daily Log'!#REF!),0)","v":0}]
[null,"AC16 N : EVENT",null,null,null,0,{"$f":"IFERROR($E97*SUMIF('Daily Log'!$B$18:$B$1017,$B97,'Daily Log'!$C$18:$C$1017),0)","v":0},{"$f":"IFERROR($E97*SUMIF('Daily Log'!$E$18:$E$1017,$B97,'Daily Log'!$F$18:$F$1017),0)","v":0},{"$f":"IFERROR($E97*SUMIF('Daily Log'!$H$18:$H$1017,$B97,'Daily Log'!$I$18:$I$1017),0)","v":0},{"$f":"IFERROR($E97*SUMIF('Daily Log'!$K$18:$K$1017,$B97,'Daily Log'!$L$18:$L$1017),0)","v":0},{"$f":"IFERROR($E97*SUMIF('Daily Log'!$N$18:$N$1017,$B97,'Daily Log'!$O$18:$O$1017),0)","v":0},{"$f":"IFERROR($E97*SUMIF('Daily Log'!#REF!,$B97,'Daily Log'!#REF!),0)","v":0},{"$f":"IFERROR($E97*SUMIF('Daily Log'!#REF!,$B97,'Daily Log'!#REF!),0)","v":0},{"$f":"IFERROR($E97*SUMIF('Daily Log'!#REF!,$B97,'Daily Log'!#REF!),0)","v":0},{"$f":"IFERROR($E97*SUMIF('Daily Log'!#REF!,$B97,'Daily Log'!#REF!),0)","v":0},{"$f":"IFERROR($E97*SUMIF('Daily Log'!#REF!,$B97,'Daily Log'!#REF!),0)","v":0},{"$f":"IFERROR($E97*SUMIF('Daily Log'!#REF!,$B97,'Daily Log'!#REF!),0)","v":0},{"$f":"IFERROR($E97*SUMIF('Daily Log'!#REF!,$B97,'Daily Log'!#REF!),0)","v":0},{"$f":"IFERROR($E97*SUMIF('Daily Log'!#REF!,$B97,'Daily Log'!#REF!),0)","v":0},{"$f":"IFERROR($E97*SUMIF('Daily Log'!#REF!,$B97,'Daily Log'!#REF!),0)","v":0},{"$f":"IFERROR($E97*SUMIF('Daily Log'!#REF!,$B97,'Daily Log'!#REF!),0)","v":0},{"$f":"IFERROR($E97*SUMIF('Daily Log'!#REF!,$B97,'Daily Log'!#REF!),0)","v":0},{"$f":"IFERROR($E97*SUMIF('Daily Log'!#REF!,$B97,'Daily Log'!#REF!),0)","v":0},{"$f":"IFERROR($E97*SUMIF('Daily Log'!#REF!,$B97,'Daily Log'!#REF!),0)","v":0},{"$f":"IFERROR($E97*SUMIF('Daily Log'!#REF!,$B97,'Daily Log'!#REF!),0)","v":0},{"$f":"IFERROR($E97*SUMIF('Daily Log'!#REF!,$B97,'Daily Log'!#REF!),0)","v":0},{"$f":"IFERROR($E97*SUMIF('Daily Log'!#REF!,$B97,'Daily Log'!#REF!),0)","v":0},{"$f":"IFERROR($E97*SUMIF('Daily Log'!#REF!,$B97,'Daily Log'!#REF!),0)","v":0},{"$f":"IFERROR($E97*SUMIF('Daily Log'!#REF!,$B97,'Daily Log'!#REF!),0)","v":0},{"$f":"IFERROR($E97*SUMIF('Daily Log'!#REF!,$B97,'Daily Log'!#REF!),0)","v":0},{"$f":"IFERROR($E97*SUMIF('Daily Log'!#REF!,$B97,'Daily Log'!#REF!),0)","v":0},{"$f":"IFERROR($E97*SUMIF('Daily Log'!#REF!,$B97,'Daily Log'!#REF!),0)","v":0},{"$f":"IFERROR($E97*SUMIF('Daily Log'!#REF!,$B97,'Daily Log'!#REF!),0)","v":0},{"$f":"IFERROR($E97*SUMIF('Daily Log'!#REF!,$B97,'Daily Log'!#REF!),0)","v":0},{"$f":"IFERROR($E97*SUMIF('Daily Log'!#REF!,$B97,'Daily Log'!#REF!),0)","v":0},{"$f":"IFERROR($E97*SUMIF('Daily Log'!#REF!,$B97,'Daily Log'!#REF!),0)","v":0},{"$f":"IFERROR($E97*SUMIF('Daily Log'!#REF!,$B97,'Daily Log'!#REF!),0)","v":0}]
[null,"AC17 N : XTD S ROOM",null,null,null,0,{"$f":"IFERROR($E98*SUMIF('Daily Log'!$B$18:$B$1017,$B98,'Daily Log'!$C$18:$C$1017),0)","v":0},{"$f":"IFERROR($E98*SUMIF('Daily Log'!$E$18:$E$1017,$B98,'Daily Log'!$F$18:$F$1017),0)","v":0},{"$f":"IFERROR($E98*SUMIF('Daily Log'!$H$18:$H$1017,$B98,'Daily Log'!$I$18:$I$1017),0)","v":0},{"$f":"IFERROR($E98*SUMIF('Daily Log'!$K$18:$K$1017,$B98,'Daily Log'!$L$18:$L$1017),0)","v":0},{"$f":"IFERROR($E98*SUMIF('Daily Log'!$N$18:$N$1017,$B98,'Daily Log'!$O$18:$O$1017),0)","v":0},{"$f":"IFERROR($E98*SUMIF('Daily Log'!#REF!,$B98,'Daily Log'!#REF!),0)","v":0},{"$f":"IFERROR($E98*SUMIF('Daily Log'!#REF!,$B98,'Daily Log'!#REF!),0)","v":0},{"$f":"IFERROR($E98*SUMIF('Daily Log'!#REF!,$B98,'Daily Log'!#REF!),0)","v":0},{"$f":"IFERROR($E98*SUMIF('Daily Log'!#REF!,$B98,'Daily Log'!#REF!),0)","v":0},{"$f":"IFERROR($E98*SUMIF('Daily Log'!#REF!,$B98,'Daily Log'!#REF!),0)","v":0},{"$f":"IFERROR($E98*SUMIF('Daily Log'!#REF!,$B98,'Daily Log'!#REF!),0)","v":0},{"$f":"IFERROR($E98*SUMIF('Daily Log'!#REF!,$B98,'Daily Log'!#REF!),0)","v":0},{"$f":"IFERROR($E98*SUMIF('Daily Log'!#REF!,$B98,'Daily Log'!#REF!),0)","v":0},{"$f":"IFERROR($E98*SUMIF('Daily Log'!#REF!,$B98,'Daily Log'!#REF!),0)","v":0},{"$f":"IFERROR($E98*SUMIF('Daily Log'!#REF!,$B98,'Daily Log'!#REF!),0)","v":0},{"$f":"IFERROR($E98*SUMIF('Daily Log'!#REF!,$B98,'Daily Log'!#REF!),0)","v":0},{"$f":"IFERROR($E98*SUMIF('Daily Log'!#REF!,$B98,'Daily Log'!#REF!),0)","v":0},{"$f":"IFERROR($E98*SUMIF('Daily Log'!#REF!,$B98,'Daily Log'!#REF!),0)","v":0},{"$f":"IFERROR($E98*SUMIF('Daily Log'!#REF!,$B98,'Daily Log'!#REF!),0)","v":0},{"$f":"IFERROR($E98*SUMIF('Daily Log'!#REF!,$B98,'Daily Log'!#REF!),0)","v":0},{"$f":"IFERROR($E98*SUMIF('Daily Log'!#REF!,$B98,'Daily Log'!#REF!),0)","v":0},{"$f":"IFERROR($E98*SUMIF('Daily Log'!#REF!,$B98,'Daily Log'!#REF!),0)","v":0},{"$f":"IFERROR($E98*SUMIF('Daily Log'!#REF!,$B98,'Daily Log'!#REF!),0)","v":0},{"$f":"IFERROR($E98*SUMIF('Daily Log'!#REF!,$B98,'Daily Log'!#REF!),0)","v":0},{"$f":"IFERROR($E98*SUMIF('Daily Log'!#REF!,$B98,'Daily Log'!#REF!),0)","v":0},{"$f":"IFERROR($E98*SUMIF('Daily Log'!#REF!,$B98,'Daily Log'!#REF!),0)","v":0},{"$f":"IFERROR($E98*SUMIF('Daily Log'!#REF!,$B98,'Daily Log'!#REF!),0)","v":0},{"$f":"IFERROR($E98*SUMIF('Daily Log'!#REF!,$B98,'Daily Log'!#REF!),0)","v":0},{"$f":"IFERROR($E98*SUMIF('Daily Log'!#REF!,$B98,'Daily Log'!#REF!),0)","v":0},{"$f":"IFERROR($E98*SUMIF('Daily Log'!#REF!,$B98,'Daily Log'!#REF!),0)","v":0},{"$f":"IFERROR($E98*SUMIF('Daily Log'!#REF!,$B98,'Daily Log'!#REF!),0)","v":0}]
[null,"AC18 N : XTD M ROOM",null,null,null,0,{"$f":"IFERROR($E99*SUMIF('Daily Log'!$B$18:$B$1017,$B99,'Daily Log'!$C$18:$C$1017),0)","v":0},{"$f":"IFERROR($E99*SUMIF('Daily Log'!$E$18:$E$1017,$B99,'Daily Log'!$F$18:$F$1017),0)","v":0},{"$f":"IFERROR($E99*SUMIF('Daily Log'!$H$18:$H$1017,$B99,'Daily Log'!$I$18:$I$1017),0)","v":0},{"$f":"IFERROR($E99*SUMIF('Daily Log'!$K$18:$K$1017,$B99,'Daily Log'!$L$18:$L$1017),0)","v":0},{"$f":"IFERROR($E99*SUMIF('Daily Log'!$N$18:$N$1017,$B99,'Daily Log'!$O$18:$O$1017),0)","v":0},{"$f":"IFERROR($E99*SUMIF('Daily Log'!#REF!,$B99,'Daily Log'!#REF!),0)","v":0},{"$f":"IFERROR($E99*SUMIF('Daily Log'!#REF!,$B99,'Daily Log'!#REF!),0)","v":0},{"$f":"IFERROR($E99*SUMIF('Daily Log'!#REF!,$B99,'Daily Log'!#REF!),0)","v":0},{"$f":"IFERROR($E99*SUMIF('Daily Log'!#REF!,$B99,'Daily Log'!#REF!),0)","v":0},{"$f":"IFERROR($E99*SUMIF('Daily Log'!#REF!,$B99,'Daily Log'!#REF!),0)","v":0},{"$f":"IFERROR($E99*SUMIF('Daily Log'!#REF!,$B99,'Daily Log'!#REF!),0)","v":0},{"$f":"IFERROR($E99*SUMIF('Daily Log'!#REF!,$B99,'Daily Log'!#REF!),0)","v":0},{"$f":"IFERROR($E99*SUMIF('Daily Log'!#REF!,$B99,'Daily Log'!#REF!),0)","v":0},{"$f":"IFERROR($E99*SUMIF('Daily Log'!#REF!,$B99,'Daily Log'!#REF!),0)","v":0},{"$f":"IFERROR($E99*SUMIF('Daily Log'!#REF!,$B99,'Daily Log'!#REF!),0)","v":0},{"$f":"IFERROR($E99*SUMIF('Daily Log'!#REF!,$B99,'Daily Log'!#REF!),0)","v":0},{"$f":"IFERROR($E99*SUMIF('Daily Log'!#REF!,$B99,'Daily Log'!#REF!),0)","v":0},{"$f":"IFERROR($E99*SUMIF('Daily Log'!#REF!,$B99,'Daily Log'!#REF!),0)","v":0},{"$f":"IFERROR($E99*SUMIF('Daily Log'!#REF!,$B99,'Daily Log'!#REF!),0)","v":0},{"$f":"IFERROR($E99*SUMIF('Daily Log'!#REF!,$B99,'Daily Log'!#REF!),0)","v":0},{"$f":"IFERROR($E99*SUMIF('Daily Log'!#REF!,$B99,'Daily Log'!#REF!),0)","v":0},{"$f":"IFERROR($E99*SUMIF('Daily Log'!#REF!,$B99,'Daily Log'!#REF!),0)","v":0},{"$f":"IFERROR($E99*SUMIF('Daily Log'!#REF!,$B99,'Daily Log'!#REF!),0)","v":0},{"$f":"IFERROR($E99*SUMIF('Daily Log'!#REF!,$B99,'Daily Log'!#REF!),0)","v":0},{"$f":"IFERROR($E99*SUMIF('Daily Log'!#REF!,$B99,'Daily Log'!#REF!),0)","v":0},{"$f":"IFERROR($E99*SUMIF('Daily Log'!#REF!,$B99,'Daily Log'!#REF!),0)","v":0},{"$f":"IFERROR($E99*SUMIF('Daily Log'!#REF!,$B99,'Daily Log'!#REF!),0)","v":0},{"$f":"IFERROR($E99*SUMIF('Daily Log'!#REF!,$B99,'Daily Log'!#REF!),0)","v":0},{"$f":"IFERROR($E99*SUMIF('Daily Log'!#REF!,$B99,'Daily Log'!#REF!),0)","v":0},{"$f":"IFERROR($E99*SUMIF('Daily Log'!#REF!,$B99,'Daily Log'!#REF!),0)","v":0},{"$f":"IFERROR($E99*SUMIF('Daily Log'!#REF!,$B99,'Daily Log'!#REF!),0)","v":0}]
[null,"AC19 N : XTD B ROOM",null,null,null,0,{"$f":"IFERROR($E100*SUMIF('Daily Log'!$B$18:$B$1017,$B100,'Daily Log'!$C$18:$C$1017),0)","v":0},{"$f":"IFERROR($E100*SUMIF('Daily Log'!$E$18:$E$1017,$B100,'Daily Log'!$F$18:$F$1017),0)","v":0},{"$f":"IFERROR($E100*SUMIF('Daily Log'!$H$18:$H$1017,$B100,'Daily Log'!$I$18:$I$1017),0)","v":0},{"$f":"IFERROR($E100*SUMIF('Daily Log'!$K$18:$K$1017,$B100,'Daily Log'!$L$18:$L$1017),0)","v":0},{"$f":"IFERROR($E100*SUMIF('Daily Log'!$N$18:$N$1017,$B100,'Daily Log'!$O$18:$O$1017),0)","v":0},{"$f":"IFERROR($E100*SUMIF('Daily Log'!#REF!,$B100,'Daily Log'!#REF!),0)","v":0},{"$f":"IFERROR($E100*SUMIF('Daily Log'!#REF!,$B100,'Daily Log'!#REF!),0)","v":0},{"$f":"IFERROR($E100*SUMIF('Daily Log'!#REF!,$B100,'Daily Log'!#REF!),0)","v":0},{"$f":"IFERROR($E100*SUMIF('Daily Log'!#REF!,$B100,'Daily Log'!#REF!),0)","v":0},{"$f":"IFERROR($E100*SUMIF('Daily Log'!#REF!,$B100,'Daily Log'!#REF!),0)","v":0},{"$f":"IFERROR($E100*SUMIF('Daily Log'!#REF!,$B100,'Daily Log'!#REF!),0)","v":0},{"$f":"IFERROR($E100*SUMIF('Daily Log'!#REF!,$B100,'Daily Log'!#REF!),0)","v":0},{"$f":"IFERROR($E100*SUMIF('Daily Log'!#REF!,$B100,'Daily Log'!#REF!),0)","v":0},{"$f":"IFERROR($E100*SUMIF('Daily Log'!#REF!,$B100,'Daily Log'!#REF!),0)","v":0},{"$f":"IFERROR($E100*SUMIF('Daily Log'!#REF!,$B100,'Daily Log'!#REF!),0)","v":0},{"$f":"IFERROR($E100*SUMIF('Daily Log'!#REF!,$B100,'Daily Log'!#REF!),0)","v":0},{"$f":"IFERROR($E100*SUMIF('Daily Log'!#REF!,$B100,'Daily Log'!#REF!),0)","v":0},{"$f":"IFERROR($E100*SUMIF('Daily Log'!#REF!,$B100,'Daily Log'!#REF!),0)","v":0},{"$f":"IFERROR($E100*SUMIF('Daily Log'!#REF!,$B100,'Daily Log'!#REF!),0)","v":0},{"$f":"IFERROR($E100*SUMIF('Daily Log'!#REF!,$B100,'Daily Log'!#REF!),0)","v":0},{"$f":"IFERROR($E100*SUMIF('Daily Log'!#REF!,$B100,'Daily Log'!#REF!),0)","v":0},{"$f":"IFERROR($E100*SUMIF('Daily Log'!#REF!,$B100,'Daily Log'!#REF!),0)","v":0},{"$f":"IFERROR($E100*SUMIF('Daily Log'!#REF!,$B100,'Daily Log'!#REF!),0)","v":0},{"$f":"IFERROR($E100*SUMIF('Daily Log'!#REF!,$B100,'Daily Log'!#REF!),0)","v":0},{"$f":"IFERROR($E100*SUMIF('Daily Log'!#REF!,$B100,'Daily Log'!#REF!),0)","v":0},{"$f":"IFERROR($E100*SUMIF('Daily Log'!#REF!,$B100,'Daily Log'!#REF!),0)","v":0},{"$f":"IFERROR($E100*SUMIF('Daily Log'!#REF!,$B100,'Daily Log'!#REF!),0)","v":0},{"$f":"IFERROR($E100*SUMIF('Daily Log'!#REF!,$B100,'Daily Log'!#REF!),0)","v":0},{"$f":"IFERROR($E100*SUMIF('Daily Log'!#REF!,$B100,'Daily Log'!#REF!),0)","v":0},{"$f":"IFERROR($E100*SUMIF('Daily Log'!#REF!,$B100,'Daily Log'!#REF!),0)","v":0},{"$f":"IFERROR($E100*SUMIF('Daily Log'!#REF!,$B100,'Daily Log'!#REF!),0)","v":0}]
[null,"AC20 N : FREE HOUR",null,null,null,0,{"$f":"IFERROR($E101*SUMIF('Daily Log'!$B$18:$B$1017,$B101,'Daily Log'!$C$18:$C$1017),0)","v":0},{"$f":"IFERROR($E101*SUMIF('Daily Log'!$E$18:$E$1017,$B101,'Daily Log'!$F$18:$F$1017),0)","v":0},{"$f":"IFERROR($E101*SUMIF('Daily Log'!$H$18:$H$1017,$B101,'Daily Log'!$I$18:$I$1017),0)","v":0},{"$f":"IFERROR($E101*SUMIF('Daily Log'!$K$18:$K$1017,$B101,'Daily Log'!$L$18:$L$1017),0)","v":0},{"$f":"IFERROR($E101*SUMIF('Daily Log'!$N$18:$N$1017,$B101,'Daily Log'!$O$18:$O$1017),0)","v":0},{"$f":"IFERROR($E101*SUMIF('Daily Log'!#REF!,$B101,'Daily Log'!#REF!),0)","v":0},{"$f":"IFERROR($E101*SUMIF('Daily Log'!#REF!,$B101,'Daily Log'!#REF!),0)","v":0},{"$f":"IFERROR($E101*SUMIF('Daily Log'!#REF!,$B101,'Daily Log'!#REF!),0)","v":0},{"$f":"IFERROR($E101*SUMIF('Daily Log'!#REF!,$B101,'Daily Log'!#REF!),0)","v":0},{"$f":"IFERROR($E101*SUMIF('Daily Log'!#REF!,$B101,'Daily Log'!#REF!),0)","v":0},{"$f":"IFERROR($E101*SUMIF('Daily Log'!#REF!,$B101,'Daily Log'!#REF!),0)","v":0},{"$f":"IFERROR($E101*SUMIF('Daily Log'!#REF!,$B101,'Daily Log'!#REF!),0)","v":0},{"$f":"IFERROR($E101*SUMIF('Daily Log'!#REF!,$B101,'Daily Log'!#REF!),0)","v":0},{"$f":"IFERROR($E101*SUMIF('Daily Log'!#REF!,$B101,'Daily Log'!#REF!),0)","v":0},{"$f":"IFERROR($E101*SUMIF('Daily Log'!#REF!,$B101,'Daily Log'!#REF!),0)","v":0},{"$f":"IFERROR($E101*SUMIF('Daily Log'!#REF!,$B101,'Daily Log'!#REF!),0)","v":0},{"$f":"IFERROR($E101*SUMIF('Daily Log'!#REF!,$B101,'Daily Log'!#REF!),0)","v":0},{"$f":"IFERROR($E101*SUMIF('Daily Log'!#REF!,$B101,'Daily Log'!#REF!),0)","v":0},{"$f":"IFERROR($E101*SUMIF('Daily Log'!#REF!,$B101,'Daily Log'!#REF!),0)","v":0},{"$f":"IFERROR($E101*SUMIF('Daily Log'!#REF!,$B101,'Daily Log'!#REF!),0)","v":0},{"$f":"IFERROR($E101*SUMIF('Daily Log'!#REF!,$B101,'Daily Log'!#REF!),0)","v":0},{"$f":"IFERROR($E101*SUMIF('Daily Log'!#REF!,$B101,'Daily Log'!#REF!),0)","v":0},{"$f":"IFERROR($E101*SUMIF('Daily Log'!#REF!,$B101,'Daily Log'!#REF!),0)","v":0},{"$f":"IFERROR($E101*SUMIF('Daily Log'!#REF!,$B101,'Daily Log'!#REF!),0)","v":0},{"$f":"IFERROR($E101*SUMIF('Daily Log'!#REF!,$B101,'Daily Log'!#REF!),0)","v":0},{"$f":"IFERROR($E101*SUMIF('Daily Log'!#REF!,$B101,'Daily Log'!#REF!),0)","v":0},{"$f":"IFERROR($E101*SUMIF('Daily Log'!#REF!,$B101,'Daily Log'!#REF!),0)","v":0},{"$f":"IFERROR($E101*SUMIF('Daily Log'!#REF!,$B101,'Daily Log'!#REF!),0)","v":0},{"$f":"IFERROR($E101*SUMIF('Daily Log'!#REF!,$B101,'Daily Log'!#REF!),0)","v":0},{"$f":"IFERROR($E101*SUMIF('Daily Log'!#REF!,$B101,'Daily Log'!#REF!),0)","v":0},{"$f":"IFERROR($E101*SUMIF('Daily Log'!#REF!,$B101,'Daily Log'!#REF!),0)","v":0}]
[null,"AC21 N : GROUPON",null,null,null,0,{"$f":"IFERROR($E102*SUMIF('Daily Log'!$B$18:$B$1017,$B102,'Daily Log'!$C$18:$C$1017),0)","v":0},{"$f":"IFERROR($E102*SUMIF('Daily Log'!$E$18:$E$1017,$B102,'Daily Log'!$F$18:$F$1017),0)","v":0},{"$f":"IFERROR($E102*SUMIF('Daily Log'!$H$18:$H$1017,$B102,'Daily Log'!$I$18:$I$1017),0)","v":0},{"$f":"IFERROR($E102*SUMIF('Daily Log'!$K$18:$K$1017,$B102,'Daily Log'!$L$18:$L$1017),0)","v":0},{"$f":"IFERROR($E102*SUMIF('Daily Log'!$N$18:$N$1017,$B102,'Daily Log'!$O$18:$O$1017),0)","v":0},{"$f":"IFERROR($E102*SUMIF('Daily Log'!#REF!,$B102,'Daily Log'!#REF!),0)","v":0},{"$f":"IFERROR($E102*SUMIF('Daily Log'!#REF!,$B102,'Daily Log'!#REF!),0)","v":0},{"$f":"IFERROR($E102*SUMIF('Daily Log'!#REF!,$B102,'Daily Log'!#REF!),0)","v":0},{"$f":"IFERROR($E102*SUMIF('Daily Log'!#REF!,$B102,'Daily Log'!#REF!),0)","v":0},{"$f":"IFERROR($E102*SUMIF('Daily Log'!#REF!,$B102,'Daily Log'!#REF!),0)","v":0},{"$f":"IFERROR($E102*SUMIF('Daily Log'!#REF!,$B102,'Daily Log'!#REF!),0)","v":0},{"$f":"IFERROR($E102*SUMIF('Daily Log'!#REF!,$B102,'Daily Log'!#REF!),0)","v":0},{"$f":"IFERROR($E102*SUMIF('Daily Log'!#REF!,$B102,'Daily Log'!#REF!),0)","v":0},{"$f":"IFERROR($E102*SUMIF('Daily Log'!#REF!,$B102,'Daily Log'!#REF!),0)","v":0},{"$f":"IFERROR($E102*SUMIF('Daily Log'!#REF!,$B102,'Daily Log'!#REF!),0)","v":0},{"$f":"IFERROR($E102*SUMIF('Daily Log'!#REF!,$B102,'Daily Log'!#REF!),0)","v":0},{"$f":"IFERROR($E102*SUMIF('Daily Log'!#REF!,$B102,'Daily Log'!#REF!),0)","v":0},{"$f":"IFERROR($E102*SUMIF('Daily Log'!#REF!,$B102,'Daily Log'!#REF!),0)","v":0},{"$f":"IFERROR($E102*SUMIF('Daily Log'!#REF!,$B102,'Daily Log'!#REF!),0)","v":0},{"$f":"IFERROR($E102*SUMIF('Daily Log'!#REF!,$B102,'Daily Log'!#REF!),0)","v":0},{"$f":"IFERROR($E102*SUMIF('Daily Log'!#REF!,$B102,'Daily Log'!#REF!),0)","v":0},{"$f":"IFERROR($E102*SUMIF('Daily Log'!#REF!,$B102,'Daily Log'!#REF!),0)","v":0},{"$f":"IFERROR($E102*SUMIF('Daily Log'!#REF!,$B102,'Daily Log'!#REF!),0)","v":0},{"$f":"IFERROR($E102*SUMIF('Daily Log'!#REF!,$B102,'Daily Log'!#REF!),0)","v":0},{"$f":"IFERROR($E102*SUMIF('Daily Log'!#REF!,$B102,'Daily Log'!#REF!),0)","v":0},{"$f":"IFERROR($E102*SUMIF('Daily Log'!#REF!,$B102,'Daily Log'!#REF!),0)","v":0},{"$f":"IFERROR($E102*SUMIF('Daily Log'!#REF!,$B102,'Daily Log'!#REF!),0)","v":0},{"$f":"IFERROR($E102*SUMIF('Daily Log'!#REF!,$B102,'Daily Log'!#REF!),0)","v":0},{"$f":"IFERROR($E102*SUMIF('Daily Log'!#REF!,$B102,'Daily Log'!#REF!),0)","v":0},{"$f":"IFERROR($E102*SUMIF('Daily Log'!#REF!,$B102,'Daily Log'!#REF!),0)","v":0},{"$f":"IFERROR($E102*SUMIF('Daily Log'!#REF!,$B102,'Daily Log'!#REF!),0)","v":0}]
[null,"AC23 N : One FM 208",null,null,null,0,{"$f":"IFERROR($E103*SUMIF('Daily Log'!$B$18:$B$1017,$B103,'Daily Log'!$C$18:$C$1017),0)","v":0},{"$f":"IFERROR($E103*SUMIF('Daily Log'!$E$18:$E$1017,$B103,'Daily Log'!$F$18:$F$1017),0)","v":0},{"$f":"IFERROR($E103*SUMIF('Daily Log'!$H$18:$H$1017,$B103,'Daily Log'!$I$18:$I$1017),0)","v":0},{"$f":"IFERROR($E103*SUMIF('Daily Log'!$K$18:$K$1017,$B103,'Daily Log'!$L$18:$L$1017),0)","v":0},{"$f":"IFERROR($E103*SUMIF('Daily Log'!$N$18:$N$1017,$B103,'Daily Log'!$O$18:$O$1017),0)","v":0},{"$f":"IFERROR($E103*SUMIF('Daily Log'!#REF!,$B103,'Daily Log'!#REF!),0)","v":0},{"$f":"IFERROR($E103*SUMIF('Daily Log'!#REF!,$B103,'Daily Log'!#REF!),0)","v":0},{"$f":"IFERROR($E103*SUMIF('Daily Log'!#REF!,$B103,'Daily Log'!#REF!),0)","v":0},{"$f":"IFERROR($E103*SUMIF('Daily Log'!#REF!,$B103,'Daily Log'!#REF!),0)","v":0},{"$f":"IFERROR($E103*SUMIF('Daily Log'!#REF!,$B103,'Daily Log'!#REF!),0)","v":0},{"$f":"IFERROR($E103*SUMIF('Daily Log'!#REF!,$B103,'Daily Log'!#REF!),0)","v":0},{"$f":"IFERROR($E103*SUMIF('Daily Log'!#REF!,$B103,'Daily Log'!#REF!),0)","v":0},{"$f":"IFERROR($E103*SUMIF('Daily Log'!#REF!,$B103,'Daily Log'!#REF!),0)","v":0},{"$f":"IFERROR($E103*SUMIF('Daily Log'!#REF!,$B103,'Daily Log'!#REF!),0)","v":0},{"$f":"IFERROR($E103*SUMIF('Daily Log'!#REF!,$B103,'Daily Log'!#REF!),0)","v":0},{"$f":"IFERROR($E103*SUMIF('Daily Log'!#REF!,$B103,'Daily Log'!#REF!),0)","v":0},{"$f":"IFERROR($E103*SUMIF('Daily Log'!#REF!,$B103,'Daily Log'!#REF!),0)","v":0},{"$f":"IFERROR($E103*SUMIF('Daily Log'!#REF!,$B103,'Daily Log'!#REF!),0)","v":0},{"$f":"IFERROR($E103*SUMIF('Daily Log'!#REF!,$B103,'Daily Log'!#REF!),0)","v":0},{"$f":"IFERROR($E103*SUMIF('Daily Log'!#REF!,$B103,'Daily Log'!#REF!),0)","v":0},{"$f":"IFERROR($E103*SUMIF('Daily Log'!#REF!,$B103,'Daily Log'!#REF!),0)","v":0},{"$f":"IFERROR($E103*SUMIF('Daily Log'!#REF!,$B103,'Daily Log'!#REF!),0)","v":0},{"$f":"IFERROR($E103*SUMIF('Daily Log'!#REF!,$B103,'Daily Log'!#REF!),0)","v":0},{"$f":"IFERROR($E103*SUMIF('Daily Log'!#REF!,$B103,'Daily Log'!#REF!),0)","v":0},{"$f":"IFERROR($E103*SUMIF('Daily Log'!#REF!,$B103,'Daily Log'!#REF!),0)","v":0},{"$f":"IFERROR($E103*SUMIF('Daily Log'!#REF!,$B103,'Daily Log'!#REF!),0)","v":0},{"$f":"IFERROR($E103*SUMIF('Daily Log'!#REF!,$B103,'Daily Log'!#REF!),0)","v":0},{"$f":"IFERROR($E103*SUMIF('Daily Log'!#REF!,$B103,'Daily Log'!#REF!),0)","v":0},{"$f":"IFERROR($E103*SUMIF('Daily Log'!#REF!,$B103,'Daily Log'!#REF!),0)","v":0},{"$f":"IFERROR($E103*SUMIF('Daily Log'!#REF!,$B103,'Daily Log'!#REF!),0)","v":0},{"$f":"IFERROR($E103*SUMIF('Daily Log'!#REF!,$B103,'Daily Log'!#REF!),0)","v":0}]
[null,"AC24 N:Student Mem",null,null,null,0,{"$f":"IFERROR($E104*SUMIF('Daily Log'!$B$18:$B$1017,$B104,'Daily Log'!$C$18:$C$1017),0)","v":0},{"$f":"IFERROR($E104*SUMIF('Daily Log'!$E$18:$E$1017,$B104,'Daily Log'!$F$18:$F$1017),0)","v":0},{"$f":"IFERROR($E104*SUMIF('Daily Log'!$H$18:$H$1017,$B104,'Daily Log'!$I$18:$I$1017),0)","v":0},{"$f":"IFERROR($E104*SUMIF('Daily Log'!$K$18:$K$1017,$B104,'Daily Log'!$L$18:$L$1017),0)","v":0},{"$f":"IFERROR($E104*SUMIF('Daily Log'!$N$18:$N$1017,$B104,'Daily Log'!$O$18:$O$1017),0)","v":0},{"$f":"IFERROR($E104*SUMIF('Daily Log'!#REF!,$B104,'Daily Log'!#REF!),0)","v":0},{"$f":"IFERROR($E104*SUMIF('Daily Log'!#REF!,$B104,'Daily Log'!#REF!),0)","v":0},{"$f":"IFERROR($E104*SUMIF('Daily Log'!#REF!,$B104,'Daily Log'!#REF!),0)","v":0},{"$f":"IFERROR($E104*SUMIF('Daily Log'!#REF!,$B104,'Daily Log'!#REF!),0)","v":0},{"$f":"IFERROR($E104*SUMIF('Daily Log'!#REF!,$B104,'Daily Log'!#REF!),0)","v":0},{"$f":"IFERROR($E104*SUMIF('Daily Log'!#REF!,$B104,'Daily Log'!#REF!),0)","v":0},{"$f":"IFERROR($E104*SUMIF('Daily Log'!#REF!,$B104,'Daily Log'!#REF!),0)","v":0},{"$f":"IFERROR($E104*SUMIF('Daily Log'!#REF!,$B104,'Daily Log'!#REF!),0)","v":0},{"$f":"IFERROR($E104*SUMIF('Daily Log'!#REF!,$B104,'Daily Log'!#REF!),0)","v":0},{"$f":"IFERROR($E104*SUMIF('Daily Log'!#REF!,$B104,'Daily Log'!#REF!),0)","v":0},{"$f":"IFERROR($E104*SUMIF('Daily Log'!#REF!,$B104,'Daily Log'!#REF!),0)","v":0},{"$f":"IFERROR($E104*SUMIF('Daily Log'!#REF!,$B104,'Daily Log'!#REF!),0)","v":0},{"$f":"IFERROR($E104*SUMIF('Daily Log'!#REF!,$B104,'Daily Log'!#REF!),0)","v":0},{"$f":"IFERROR($E104*SUMIF('Daily Log'!#REF!,$B104,'Daily Log'!#REF!),0)","v":0},{"$f":"IFERROR($E104*SUMIF('Daily Log'!#REF!,$B104,'Daily Log'!#REF!),0)","v":0},{"$f":"IFERROR($E104*SUMIF('Daily Log'!#REF!,$B104,'Daily Log'!#REF!),0)","v":0},{"$f":"IFERROR($E104*SUMIF('Daily Log'!#REF!,$B104,'Daily Log'!#REF!),0)","v":0},{"$f":"IFERROR($E104*SUMIF('Daily Log'!#REF!,$B104,'Daily Log'!#REF!),0)","v":0},{"$f":"IFERROR($E104*SUMIF('Daily Log'!#REF!,$B104,'Daily Log'!#REF!),0)","v":0},{"$f":"IFERROR($E104*SUMIF('Daily Log'!#REF!,$B104,'Daily Log'!#REF!),0)","v":0},{"$f":"IFERROR($E104*SUMIF('Daily Log'!#REF!,$B104,'Daily Log'!#REF!),0)","v":0},{"$f":"IFERROR($E104*SUMIF('Daily Log'!#REF!,$B104,'Daily Log'!#REF!),0)","v":0},{"$f":"IFERROR($E104*SUMIF('Daily Log'!#REF!,$B104,'Daily Log'!#REF!),0)","v":0},{"$f":"IFERROR($E104*SUMIF('Daily Log'!#REF!,$B104,'Daily Log'!#REF!),0)","v":0},{"$f":"IFERROR($E104*SUMIF('Daily Log'!#REF!,$B104,'Daily Log'!#REF!),0)","v":0},{"$f":"IFERROR($E104*SUMIF('Daily Log'!#REF!,$B104,'Daily Log'!#REF!),0)","v":0}]
[null,"AC27 N : iGOT DIS 3+1",null,null,null,0,{"$f":"IFERROR($E105*SUMIF('Daily Log'!$B$18:$B$1017,$B105,'Daily Log'!$C$18:$C$1017),0)","v":0},{"$f":"IFERROR($E105*SUMIF('Daily Log'!$E$18:$E$1017,$B105,'Daily Log'!$F$18:$F$1017),0)","v":0},{"$f":"IFERROR($E105*SUMIF('Daily Log'!$H$18:$H$1017,$B105,'Daily Log'!$I$18:$I$1017),0)","v":0},{"$f":"IFERROR($E105*SUMIF('Daily Log'!$K$18:$K$1017,$B105,'Daily Log'!$L$18:$L$1017),0)","v":0},{"$f":"IFERROR($E105*SUMIF('Daily Log'!$N$18:$N$1017,$B105,'Daily Log'!$O$18:$O$1017),0)","v":0},{"$f":"IFERROR($E105*SUMIF('Daily Log'!#REF!,$B105,'Daily Log'!#REF!),0)","v":0},{"$f":"IFERROR($E105*SUMIF('Daily Log'!#REF!,$B105,'Daily Log'!#REF!),0)","v":0},{"$f":"IFERROR($E105*SUMIF('Daily Log'!#REF!,$B105,'Daily Log'!#REF!),0)","v":0},{"$f":"IFERROR($E105*SUMIF('Daily Log'!#REF!,$B105,'Daily Log'!#REF!),0)","v":0},{"$f":"IFERROR($E105*SUMIF('Daily Log'!#REF!,$B105,'Daily Log'!#REF!),0)","v":0},{"$f":"IFERROR($E105*SUMIF('Daily Log'!#REF!,$B105,'Daily Log'!#REF!),0)","v":0},{"$f":"IFERROR($E105*SUMIF('Daily Log'!#REF!,$B105,'Daily Log'!#REF!),0)","v":0},{"$f":"IFERROR($E105*SUMIF('Daily Log'!#REF!,$B105,'Daily Log'!#REF!),0)","v":0},{"$f":"IFERROR($E105*SUMIF('Daily Log'!#REF!,$B105,'Daily Log'!#REF!),0)","v":0},{"$f":"IFERROR($E105*SUMIF('Daily Log'!#REF!,$B105,'Daily Log'!#REF!),0)","v":0},{"$f":"IFERROR($E105*SUMIF('Daily Log'!#REF!,$B105,'Daily Log'!#REF!),0)","v":0},{"$f":"IFERROR($E105*SUMIF('Daily Log'!#REF!,$B105,'Daily Log'!#REF!),0)","v":0},{"$f":"IFERROR($E105*SUMIF('Daily Log'!#REF!,$B105,'Daily Log'!#REF!),0)","v":0},{"$f":"IFERROR($E105*SUMIF('Daily Log'!#REF!,$B105,'Daily Log'!#REF!),0)","v":0},{"$f":"IFERROR($E105*SUMIF('Daily Log'!#REF!,$B105,'Daily Log'!#REF!),0)","v":0},{"$f":"IFERROR($E105*SUMIF('Daily Log'!#REF!,$B105,'Daily Log'!#REF!),0)","v":0},{"$f":"IFERROR($E105*SUMIF('Daily Log'!#REF!,$B105,'Daily Log'!#REF!),0)","v":0},{"$f":"IFERROR($E105*SUMIF('Daily Log'!#REF!,$B105,'Daily Log'!#REF!),0)","v":0},{"$f":"IFERROR($E105*SUMIF('Daily Log'!#REF!,$B105,'Daily Log'!#REF!),0)","v":0},{"$f":"IFERROR($E105*SUMIF('Daily Log'!#REF!,$B105,'Daily Log'!#REF!),0)","v":0},{"$f":"IFERROR($E105*SUMIF('Daily Log'!#REF!,$B105,'Daily Log'!#REF!),0)","v":0},{"$f":"IFERROR($E105*SUMIF('Daily Log'!#REF!,$B105,'Daily Log'!#REF!),0)","v":0},{"$f":"IFERROR($E105*SUMIF('Daily Log'!#REF!,$B105,'Daily Log'!#REF!),0)","v":0},{"$f":"IFERROR($E105*SUMIF('Daily Log'!#REF!,$B105,'Daily Log'!#REF!),0)","v":0},{"$f":"IFERROR($E105*SUMIF('Daily Log'!#REF!,$B105,'Daily Log'!#REF!),0)","v":0},{"$f":"IFERROR($E105*SUMIF('Daily Log'!#REF!,$B105,'Daily Log'!#REF!),0)","v":0}]
[null,"AC28 N: Student Diner",null,null,null,0,{"$f":"IFERROR($E106*SUMIF('Daily Log'!$B$18:$B$1017,$B106,'Daily Log'!$C$18:$C$1017),0)","v":0},{"$f":"IFERROR($E106*SUMIF('Daily Log'!$E$18:$E$1017,$B106,'Daily Log'!$F$18:$F$1017),0)","v":0},{"$f":"IFERROR($E106*SUMIF('Daily Log'!$H$18:$H$1017,$B106,'Daily Log'!$I$18:$I$1017),0)","v":0},{"$f":"IFERROR($E106*SUMIF('Daily Log'!$K$18:$K$1017,$B106,'Daily Log'!$L$18:$L$1017),0)","v":0},{"$f":"IFERROR($E106*SUMIF('Daily Log'!$N$18:$N$1017,$B106,'Daily Log'!$O$18:$O$1017),0)","v":0},{"$f":"IFERROR($E106*SUMIF('Daily Log'!#REF!,$B106,'Daily Log'!#REF!),0)","v":0},{"$f":"IFERROR($E106*SUMIF('Daily Log'!#REF!,$B106,'Daily Log'!#REF!),0)","v":0},{"$f":"IFERROR($E106*SUMIF('Daily Log'!#REF!,$B106,'Daily Log'!#REF!),0)","v":0},{"$f":"IFERROR($E106*SUMIF('Daily Log'!#REF!,$B106,'Daily Log'!#REF!),0)","v":0},{"$f":"IFERROR($E106*SUMIF('Daily Log'!#REF!,$B106,'Daily Log'!#REF!),0)","v":0},{"$f":"IFERROR($E106*SUMIF('Daily Log'!#REF!,$B106,'Daily Log'!#REF!),0)","v":0},{"$f":"IFERROR($E106*SUMIF('Daily Log'!#REF!,$B106,'Daily Log'!#REF!),0)","v":0},{"$f":"IFERROR($E106*SUMIF('Daily Log'!#REF!,$B106,'Daily Log'!#REF!),0)","v":0},{"$f":"IFERROR($E106*SUMIF('Daily Log'!#REF!,$B106,'Daily Log'!#REF!),0)","v":0},{"$f":"IFERROR($E106*SUMIF('Daily Log'!#REF!,$B106,'Daily Log'!#REF!),0)","v":0},{"$f":"IFERROR($E106*SUMIF('Daily Log'!#REF!,$B106,'Daily Log'!#REF!),0)","v":0},{"$f":"IFERROR($E106*SUMIF('Daily Log'!#REF!,$B106,'Daily Log'!#REF!),0)","v":0},{"$f":"IFERROR($E106*SUMIF('Daily Log'!#REF!,$B106,'Daily Log'!#REF!),0)","v":0},{"$f":"IFERROR($E106*SUMIF('Daily Log'!#REF!,$B106,'Daily Log'!#REF!),0)","v":0},{"$f":"IFERROR($E106*SUMIF('Daily Log'!#REF!,$B106,'Daily Log'!#REF!),0)","v":0},{"$f":"IFERROR($E106*SUMIF('Daily Log'!#REF!,$B106,'Daily Log'!#REF!),0)","v":0},{"$f":"IFERROR($E106*SUMIF('Daily Log'!#REF!,$B106,'Daily Log'!#REF!),0)","v":0},{"$f":"IFERROR($E106*SUMIF('Daily Log'!#REF!,$B106,'Daily Log'!#REF!),0)","v":0},{"$f":"IFERROR($E106*SUMIF('Daily Log'!#REF!,$B106,'Daily Log'!#REF!),0)","v":0},{"$f":"IFERROR($E106*SUMIF('Daily Log'!#REF!,$B106,'Daily Log'!#REF!),0)","v":0},{"$f":"IFERROR($E106*SUMIF('Daily Log'!#REF!,$B106,'Daily Log'!#REF!),0)","v":0},{"$f":"IFERROR($E106*SUMIF('Daily Log'!#REF!,$B106,'Daily Log'!#REF!),0)","v":0},{"$f":"IFERROR($E106*SUMIF('Daily Log'!#REF!,$B106,'Daily Log'!#REF!),0)","v":0},{"$f":"IFERROR($E106*SUMIF('Daily Log'!#REF!,$B106,'Daily Log'!#REF!),0)","v":0},{"$f":"IFERROR($E106*SUMIF('Daily Log'!#REF!,$B106,'Daily Log'!#REF!),0)","v":0},{"$f":"IFERROR($E106*SUMIF('Daily Log'!#REF!,$B106,'Daily Log'!#REF!),0)","v":0}]
[null,"AD01 M : REGULAR",null,null,null,0,{"$f":"IFERROR($E107*SUMIF('Daily Log'!$B$18:$B$1017,$B107,'Daily Log'!$C$18:$C$1017),0)","v":0},{"$f":"IFERROR($E107*SUMIF('Daily Log'!$E$18:$E$1017,$B107,'Daily Log'!$F$18:$F$1017),0)","v":0},{"$f":"IFERROR($E107*SUMIF('Daily Log'!$H$18:$H$1017,$B107,'Daily Log'!$I$18:$I$1017),0)","v":0},{"$f":"IFERROR($E107*SUMIF('Daily Log'!$K$18:$K$1017,$B107,'Daily Log'!$L$18:$L$1017),0)","v":0},{"$f":"IFERROR($E107*SUMIF('Daily Log'!$N$18:$N$1017,$B107,'Daily Log'!$O$18:$O$1017),0)","v":0},{"$f":"IFERROR($E107*SUMIF('Daily Log'!#REF!,$B107,'Daily Log'!#REF!),0)","v":0},{"$f":"IFERROR($E107*SUMIF('Daily Log'!#REF!,$B107,'Daily Log'!#REF!),0)","v":0},{"$f":"IFERROR($E107*SUMIF('Daily Log'!#REF!,$B107,'Daily Log'!#REF!),0)","v":0},{"$f":"IFERROR($E107*SUMIF('Daily Log'!#REF!,$B107,'Daily Log'!#REF!),0)","v":0},{"$f":"IFERROR($E107*SUMIF('Daily Log'!#REF!,$B107,'Daily Log'!#REF!),0)","v":0},{"$f":"IFERROR($E107*SUMIF('Daily Log'!#REF!,$B107,'Daily Log'!#REF!),0)","v":0},{"$f":"IFERROR($E107*SUMIF('Daily Log'!#REF!,$B107,'Daily Log'!#REF!),0)","v":0},{"$f":"IFERROR($E107*SUMIF('Daily Log'!#REF!,$B107,'Daily Log'!#REF!),0)","v":0},{"$f":"IFERROR($E107*SUMIF('Daily Log'!#REF!,$B107,'Daily Log'!#REF!),0)","v":0},{"$f":"IFERROR($E107*SUMIF('Daily Log'!#REF!,$B107,'Daily Log'!#REF!),0)","v":0},{"$f":"IFERROR($E107*SUMIF('Daily Log'!#REF!,$B107,'Daily Log'!#REF!),0)","v":0},{"$f":"IFERROR($E107*SUMIF('Daily Log'!#REF!,$B107,'Daily Log'!#REF!),0)","v":0},{"$f":"IFERROR($E107*SUMIF('Daily Log'!#REF!,$B107,'Daily Log'!#REF!),0)","v":0},{"$f":"IFERROR($E107*SUMIF('Daily Log'!#REF!,$B107,'Daily Log'!#REF!),0)","v":0},{"$f":"IFERROR($E107*SUMIF('Daily Log'!#REF!,$B107,'Daily Log'!#REF!),0)","v":0},{"$f":"IFERROR($E107*SUMIF('Daily Log'!#REF!,$B107,'Daily Log'!#REF!),0)","v":0},{"$f":"IFERROR($E107*SUMIF('Daily Log'!#REF!,$B107,'Daily Log'!#REF!),0)","v":0},{"$f":"IFERROR($E107*SUMIF('Daily Log'!#REF!,$B107,'Daily Log'!#REF!),0)","v":0},{"$f":"IFERROR($E107*SUMIF('Daily Log'!#REF!,$B107,'Daily Log'!#REF!),0)","v":0},{"$f":"IFERROR($E107*SUMIF('Daily Log'!#REF!,$B107,'Daily Log'!#REF!),0)","v":0},{"$f":"IFERROR($E107*SUMIF('Daily Log'!#REF!,$B107,'Daily Log'!#REF!),0)","v":0},{"$f":"IFERROR($E107*SUMIF('Daily Log'!#REF!,$B107,'Daily Log'!#REF!),0)","v":0},{"$f":"IFERROR($E107*SUMIF('Daily Log'!#REF!,$B107,'Daily Log'!#REF!),0)","v":0},{"$f":"IFERROR($E107*SUMIF('Daily Log'!#REF!,$B107,'Daily Log'!#REF!),0)","v":0},{"$f":"IFERROR($E107*SUMIF('Daily Log'!#REF!,$B107,'Daily Log'!#REF!),0)","v":0},{"$f":"IFERROR($E107*SUMIF('Daily Log'!#REF!,$B107,'Daily Log'!#REF!),0)","v":0}]
[null,"AD02 M : MEMBER",null,null,null,0,{"$f":"IFERROR($E108*SUMIF('Daily Log'!$B$18:$B$1017,$B108,'Daily Log'!$C$18:$C$1017),0)","v":0},{"$f":"IFERROR($E108*SUMIF('Daily Log'!$E$18:$E$1017,$B108,'Daily Log'!$F$18:$F$1017),0)","v":0},{"$f":"IFERROR($E108*SUMIF('Daily Log'!$H$18:$H$1017,$B108,'Daily Log'!$I$18:$I$1017),0)","v":0},{"$f":"IFERROR($E108*SUMIF('Daily Log'!$K$18:$K$1017,$B108,'Daily Log'!$L$18:$L$1017),0)","v":0},{"$f":"IFERROR($E108*SUMIF('Daily Log'!$N$18:$N$1017,$B108,'Daily Log'!$O$18:$O$1017),0)","v":0},{"$f":"IFERROR($E108*SUMIF('Daily Log'!#REF!,$B108,'Daily Log'!#REF!),0)","v":0},{"$f":"IFERROR($E108*SUMIF('Daily Log'!#REF!,$B108,'Daily Log'!#REF!),0)","v":0},{"$f":"IFERROR($E108*SUMIF('Daily Log'!#REF!,$B108,'Daily Log'!#REF!),0)","v":0},{"$f":"IFERROR($E108*SUMIF('Daily Log'!#REF!,$B108,'Daily Log'!#REF!),0)","v":0},{"$f":"IFERROR($E108*SUMIF('Daily Log'!#REF!,$B108,'Daily Log'!#REF!),0)","v":0},{"$f":"IFERROR($E108*SUMIF('Daily Log'!#REF!,$B108,'Daily Log'!#REF!),0)","v":0},{"$f":"IFERROR($E108*SUMIF('Daily Log'!#REF!,$B108,'Daily Log'!#REF!),0)","v":0},{"$f":"IFERROR($E108*SUMIF('Daily Log'!#REF!,$B108,'Daily Log'!#REF!),0)","v":0},{"$f":"IFERROR($E108*SUMIF('Daily Log'!#REF!,$B108,'Daily Log'!#REF!),0)","v":0},{"$f":"IFERROR($E108*SUMIF('Daily Log'!#REF!,$B108,'Daily Log'!#REF!),0)","v":0},{"$f":"IFERROR($E108*SUMIF('Daily Log'!#REF!,$B108,'Daily Log'!#REF!),0)","v":0},{"$f":"IFERROR($E108*SUMIF('Daily Log'!#REF!,$B108,'Daily Log'!#REF!),0)","v":0},{"$f":"IFERROR($E108*SUMIF('Daily Log'!#REF!,$B108,'Daily Log'!#REF!),0)","v":0},{"$f":"IFERROR($E108*SUMIF('Daily Log'!#REF!,$B108,'Daily Log'!#REF!),0)","v":0},{"$f":"IFERROR($E108*SUMIF('Daily Log'!#REF!,$B108,'Daily Log'!#REF!),0)","v":0},{"$f":"IFERROR($E108*SUMIF('Daily Log'!#REF!,$B108,'Daily Log'!#REF!),0)","v":0},{"$f":"IFERROR($E108*SUMIF('Daily Log'!#REF!,$B108,'Daily Log'!#REF!),0)","v":0},{"$f":"IFERROR($E108*SUMIF('Daily Log'!#REF!,$B108,'Daily Log'!#REF!),0)","v":0},{"$f":"IFERROR($E108*SUMIF('Daily Log'!#REF!,$B108,'Daily Log'!#REF!),0)","v":0},{"$f":"IFERROR($E108*SUMIF('Daily Log'!#REF!,$B108,'Daily Log'!#REF!),0)","v":0},{"$f":"IFERROR($E108*SUMIF('Daily Log'!#REF!,$B108,'Daily Log'!#REF!),0)","v":0},{"$f":"IFERROR($E108*SUMIF('Daily Log'!#REF!,$B108,'Daily Log'!#REF!),0)","v":0},{"$f":"IFERROR($E108*SUMIF('Daily Log'!#REF!,$B108,'Daily Log'!#REF!),0)","v":0},{"$f":"IFERROR($E108*SUMIF('Daily Log'!#REF!,$B108,'Daily Log'!#REF!),0)","v":0},{"$f":"IFERROR($E108*SUMIF('Daily Log'!#REF!,$B108,'Daily Log'!#REF!),0)","v":0},{"$f":"IFERROR($E108*SUMIF('Daily Log'!#REF!,$B108,'Daily Log'!#REF!),0)","v":0}]
[null,"AD03 M : MEMBER 30%",null,null,null,0,{"$f":"IFERROR($E109*SUMIF('Daily Log'!$B$18:$B$1017,$B109,'Daily Log'!$C$18:$C$1017),0)","v":0},{"$f":"IFERROR($E109*SUMIF('Daily Log'!$E$18:$E$1017,$B109,'Daily Log'!$F$18:$F$1017),0)","v":0},{"$f":"IFERROR($E109*SUMIF('Daily Log'!$H$18:$H$1017,$B109,'Daily Log'!$I$18:$I$1017),0)","v":0},{"$f":"IFERROR($E109*SUMIF('Daily Log'!$K$18:$K$1017,$B109,'Daily Log'!$L$18:$L$1017),0)","v":0},{"$f":"IFERROR($E109*SUMIF('Daily Log'!$N$18:$N$1017,$B109,'Daily Log'!$O$18:$O$1017),0)","v":0},{"$f":"IFERROR($E109*SUMIF('Daily Log'!#REF!,$B109,'Daily Log'!#REF!),0)","v":0},{"$f":"IFERROR($E109*SUMIF('Daily Log'!#REF!,$B109,'Daily Log'!#REF!),0)","v":0},{"$f":"IFERROR($E109*SUMIF('Daily Log'!#REF!,$B109,'Daily Log'!#REF!),0)","v":0},{"$f":"IFERROR($E109*SUMIF('Daily Log'!#REF!,$B109,'Daily Log'!#REF!),0)","v":0},{"$f":"IFERROR($E109*SUMIF('Daily Log'!#REF!,$B109,'Daily Log'!#REF!),0)","v":0},{"$f":"IFERROR($E109*SUMIF('Daily Log'!#REF!,$B109,'Daily Log'!#REF!),0)","v":0},{"$f":"IFERROR($E109*SUMIF('Daily Log'!#REF!,$B109,'Daily Log'!#REF!),0)","v":0},{"$f":"IFERROR($E109*SUMIF('Daily Log'!#REF!,$B109,'Daily Log'!#REF!),0)","v":0},{"$f":"IFERROR($E109*SUMIF('Daily Log'!#REF!,$B109,'Daily Log'!#REF!),0)","v":0},{"$f":"IFERROR($E109*SUMIF('Daily Log'!#REF!,$B109,'Daily Log'!#REF!),0)","v":0},{"$f":"IFERROR($E109*SUMIF('Daily Log'!#REF!,$B109,'Daily Log'!#REF!),0)","v":0},{"$f":"IFERROR($E109*SUMIF('Daily Log'!#REF!,$B109,'Daily Log'!#REF!),0)","v":0},{"$f":"IFERROR($E109*SUMIF('Daily Log'!#REF!,$B109,'Daily Log'!#REF!),0)","v":0},{"$f":"IFERROR($E109*SUMIF('Daily Log'!#REF!,$B109,'Daily Log'!#REF!),0)","v":0},{"$f":"IFERROR($E109*SUMIF('Daily Log'!#REF!,$B109,'Daily Log'!#REF!),0)","v":0},{"$f":"IFERROR($E109*SUMIF('Daily Log'!#REF!,$B109,'Daily Log'!#REF!),0)","v":0},{"$f":"IFERROR($E109*SUMIF('Daily Log'!#REF!,$B109,'Daily Log'!#REF!),0)","v":0},{"$f":"IFERROR($E109*SUMIF('Daily Log'!#REF!,$B109,'Daily Log'!#REF!),0)","v":0},{"$f":"IFERROR($E109*SUMIF('Daily Log'!#REF!,$B109,'Daily Log'!#REF!),0)","v":0},{"$f":"IFERROR($E109*SUMIF('Daily Log'!#REF!,$B109,'Daily Log'!#REF!),0)","v":0},{"$f":"IFERROR($E109*SUMIF('Daily Log'!#REF!,$B109,'Daily Log'!#REF!),0)","v":0},{"$f":"IFERROR($E109*SUMIF('Daily Log'!#REF!,$B109,'Daily Log'!#REF!),0)","v":0},{"$f":"IFERROR($E109*SUMIF('Daily Log'!#REF!,$B109,'Daily Log'!#REF!),0)","v":0},{"$f":"IFERROR($E109*SUMIF('Daily Log'!#REF!,$B109,'Daily Log'!#REF!),0)","v":0},{"$f":"IFERROR($E109*SUMIF('Daily Log'!#REF!,$B109,'Daily Log'!#REF!),0)","v":0},{"$f":"IFERROR($E109*SUMIF('Daily Log'!#REF!,$B109,'Daily Log'!#REF!),0)","v":0}]
[null,"AD04 M : CARI MEMBER",null,null,null,0,{"$f":"IFERROR($E110*SUMIF('Daily Log'!$B$18:$B$1017,$B110,'Daily Log'!$C$18:$C$1017),0)","v":0},{"$f":"IFERROR($E110*SUMIF('Daily Log'!$E$18:$E$1017,$B110,'Daily Log'!$F$18:$F$1017),0)","v":0},{"$f":"IFERROR($E110*SUMIF('Daily Log'!$H$18:$H$1017,$B110,'Daily Log'!$I$18:$I$1017),0)","v":0},{"$f":"IFERROR($E110*SUMIF('Daily Log'!$K$18:$K$1017,$B110,'Daily Log'!$L$18:$L$1017),0)","v":0},{"$f":"IFERROR($E110*SUMIF('Daily Log'!$N$18:$N$1017,$B110,'Daily Log'!$O$18:$O$1017),0)","v":0},{"$f":"IFERROR($E110*SUMIF('Daily Log'!#REF!,$B110,'Daily Log'!#REF!),0)","v":0},{"$f":"IFERROR($E110*SUMIF('Daily Log'!#REF!,$B110,'Daily Log'!#REF!),0)","v":0},{"$f":"IFERROR($E110*SUMIF('Daily Log'!#REF!,$B110,'Daily Log'!#REF!),0)","v":0},{"$f":"IFERROR($E110*SUMIF('Daily Log'!#REF!,$B110,'Daily Log'!#REF!),0)","v":0},{"$f":"IFERROR($E110*SUMIF('Daily Log'!#REF!,$B110,'Daily Log'!#REF!),0)","v":0},{"$f":"IFERROR($E110*SUMIF('Daily Log'!#REF!,$B110,'Daily Log'!#REF!),0)","v":0},{"$f":"IFERROR($E110*SUMIF('Daily Log'!#REF!,$B110,'Daily Log'!#REF!),0)","v":0},{"$f":"IFERROR($E110*SUMIF('Daily Log'!#REF!,$B110,'Daily Log'!#REF!),0)","v":0},{"$f":"IFERROR($E110*SUMIF('Daily Log'!#REF!,$B110,'Daily Log'!#REF!),0)","v":0},{"$f":"IFERROR($E110*SUMIF('Daily Log'!#REF!,$B110,'Daily Log'!#REF!),0)","v":0},{"$f":"IFERROR($E110*SUMIF('Daily Log'!#REF!,$B110,'Daily Log'!#REF!),0)","v":0},{"$f":"IFERROR($E110*SUMIF('Daily Log'!#REF!,$B110,'Daily Log'!#REF!),0)","v":0},{"$f":"IFERROR($E110*SUMIF('Daily Log'!#REF!,$B110,'Daily Log'!#REF!),0)","v":0},{"$f":"IFERROR($E110*SUMIF('Daily Log'!#REF!,$B110,'Daily Log'!#REF!),0)","v":0},{"$f":"IFERROR($E110*SUMIF('Daily Log'!#REF!,$B110,'Daily Log'!#REF!),0)","v":0},{"$f":"IFERROR($E110*SUMIF('Daily Log'!#REF!,$B110,'Daily Log'!#REF!),0)","v":0},{"$f":"IFERROR($E110*SUMIF('Daily Log'!#REF!,$B110,'Daily Log'!#REF!),0)","v":0},{"$f":"IFERROR($E110*SUMIF('Daily Log'!#REF!,$B110,'Daily Log'!#REF!),0)","v":0},{"$f":"IFERROR($E110*SUMIF('Daily Log'!#REF!,$B110,'Daily Log'!#REF!),0)","v":0},{"$f":"IFERROR($E110*SUMIF('Daily Log'!#REF!,$B110,'Daily Log'!#REF!),0)","v":0},{"$f":"IFERROR($E110*SUMIF('Daily Log'!#REF!,$B110,'Daily Log'!#REF!),0)","v":0},{"$f":"IFERROR($E110*SUMIF('Daily Log'!#REF!,$B110,'Daily Log'!#REF!),0)","v":0},{"$f":"IFERROR($E110*SUMIF('Daily Log'!#REF!,$B110,'Daily Log'!#REF!),0)","v":0},{"$f":"IFERROR($E110*SUMIF('Daily Log'!#REF!,$B110,'Daily Log'!#REF!),0)","v":0},{"$f":"IFERROR($E110*SUMIF('Daily Log'!#REF!,$B110,'Daily Log'!#REF!),0)","v":0},{"$f":"IFERROR($E110*SUMIF('Daily Log'!#REF!,$B110,'Daily Log'!#REF!),0)","v":0}]
[null,"AD05 M : LADIES",null,null,null,0,{"$f":"IFERROR($E111*SUMIF('Daily Log'!$B$18:$B$1017,$B111,'Daily Log'!$C$18:$C$1017),0)","v":0},{"$f":"IFERROR($E111*SUMIF('Daily Log'!$E$18:$E$1017,$B111,'Daily Log'!$F$18:$F$1017),0)","v":0},{"$f":"IFERROR($E111*SUMIF('Daily Log'!$H$18:$H$1017,$B111,'Daily Log'!$I$18:$I$1017),0)","v":0},{"$f":"IFERROR($E111*SUMIF('Daily Log'!$K$18:$K$1017,$B111,'Daily Log'!$L$18:$L$1017),0)","v":0},{"$f":"IFERROR($E111*SUMIF('Daily Log'!$N$18:$N$1017,$B111,'Daily Log'!$O$18:$O$1017),0)","v":0},{"$f":"IFERROR($E111*SUMIF('Daily Log'!#REF!,$B111,'Daily Log'!#REF!),0)","v":0},{"$f":"IFERROR($E111*SUMIF('Daily Log'!#REF!,$B111,'Daily Log'!#REF!),0)","v":0},{"$f":"IFERROR($E111*SUMIF('Daily Log'!#REF!,$B111,'Daily Log'!#REF!),0)","v":0},{"$f":"IFERROR($E111*SUMIF('Daily Log'!#REF!,$B111,'Daily Log'!#REF!),0)","v":0},{"$f":"IFERROR($E111*SUMIF('Daily Log'!#REF!,$B111,'Daily Log'!#REF!),0)","v":0},{"$f":"IFERROR($E111*SUMIF('Daily Log'!#REF!,$B111,'Daily Log'!#REF!),0)","v":0},{"$f":"IFERROR($E111*SUMIF('Daily Log'!#REF!,$B111,'Daily Log'!#REF!),0)","v":0},{"$f":"IFERROR($E111*SUMIF('Daily Log'!#REF!,$B111,'Daily Log'!#REF!),0)","v":0},{"$f":"IFERROR($E111*SUMIF('Daily Log'!#REF!,$B111,'Daily Log'!#REF!),0)","v":0},{"$f":"IFERROR($E111*SUMIF('Daily Log'!#REF!,$B111,'Daily Log'!#REF!),0)","v":0},{"$f":"IFERROR($E111*SUMIF('Daily Log'!#REF!,$B111,'Daily Log'!#REF!),0)","v":0},{"$f":"IFERROR($E111*SUMIF('Daily Log'!#REF!,$B111,'Daily Log'!#REF!),0)","v":0},{"$f":"IFERROR($E111*SUMIF('Daily Log'!#REF!,$B111,'Daily Log'!#REF!),0)","v":0},{"$f":"IFERROR($E111*SUMIF('Daily Log'!#REF!,$B111,'Daily Log'!#REF!),0)","v":0},{"$f":"IFERROR($E111*SUMIF('Daily Log'!#REF!,$B111,'Daily Log'!#REF!),0)","v":0},{"$f":"IFERROR($E111*SUMIF('Daily Log'!#REF!,$B111,'Daily Log'!#REF!),0)","v":0},{"$f":"IFERROR($E111*SUMIF('Daily Log'!#REF!,$B111,'Daily Log'!#REF!),0)","v":0},{"$f":"IFERROR($E111*SUMIF('Daily Log'!#REF!,$B111,'Daily Log'!#REF!),0)","v":0},{"$f":"IFERROR($E111*SUMIF('Daily Log'!#REF!,$B111,'Daily Log'!#REF!),0)","v":0},{"$f":"IFERROR($E111*SUMIF('Daily Log'!#REF!,$B111,'Daily Log'!#REF!),0)","v":0},{"$f":"IFERROR($E111*SUMIF('Daily Log'!#REF!,$B111,'Daily Log'!#REF!),0)","v":0},{"$f":"IFERROR($E111*SUMIF('Daily Log'!#REF!,$B111,'Daily Log'!#REF!),0)","v":0},{"$f":"IFERROR($E111*SUMIF('Daily Log'!#REF!,$B111,'Daily Log'!#REF!),0)","v":0},{"$f":"IFERROR($E111*SUMIF('Daily Log'!#REF!,$B111,'Daily Log'!#REF!),0)","v":0},{"$f":"IFERROR($E111*SUMIF('Daily Log'!#REF!,$B111,'Daily Log'!#REF!),0)","v":0},{"$f":"IFERROR($E111*SUMIF('Daily Log'!#REF!,$B111,'Daily Log'!#REF!),0)","v":0}]
[null,"AD06 M : CHILDREN",null,null,null,0,{"$f":"IFERROR($E112*SUMIF('Daily Log'!$B$18:$B$1017,$B112,'Daily Log'!$C$18:$C$1017),0)","v":0},{"$f":"IFERROR($E112*SUMIF('Daily Log'!$E$18:$E$1017,$B112,'Daily Log'!$F$18:$F$1017),0)","v":0},{"$f":"IFERROR($E112*SUMIF('Daily Log'!$H$18:$H$1017,$B112,'Daily Log'!$I$18:$I$1017),0)","v":0},{"$f":"IFERROR($E112*SUMIF('Daily Log'!$K$18:$K$1017,$B112,'Daily Log'!$L$18:$L$1017),0)","v":0},{"$f":"IFERROR($E112*SUMIF('Daily Log'!$N$18:$N$1017,$B112,'Daily Log'!$O$18:$O$1017),0)","v":0},{"$f":"IFERROR($E112*SUMIF('Daily Log'!#REF!,$B112,'Daily Log'!#REF!),0)","v":0},{"$f":"IFERROR($E112*SUMIF('Daily Log'!#REF!,$B112,'Daily Log'!#REF!),0)","v":0},{"$f":"IFERROR($E112*SUMIF('Daily Log'!#REF!,$B112,'Daily Log'!#REF!),0)","v":0},{"$f":"IFERROR($E112*SUMIF('Daily Log'!#REF!,$B112,'Daily Log'!#REF!),0)","v":0},{"$f":"IFERROR($E112*SUMIF('Daily Log'!#REF!,$B112,'Daily Log'!#REF!),0)","v":0},{"$f":"IFERROR($E112*SUMIF('Daily Log'!#REF!,$B112,'Daily Log'!#REF!),0)","v":0},{"$f":"IFERROR($E112*SUMIF('Daily Log'!#REF!,$B112,'Daily Log'!#REF!),0)","v":0},{"$f":"IFERROR($E112*SUMIF('Daily Log'!#REF!,$B112,'Daily Log'!#REF!),0)","v":0},{"$f":"IFERROR($E112*SUMIF('Daily Log'!#REF!,$B112,'Daily Log'!#REF!),0)","v":0},{"$f":"IFERROR($E112*SUMIF('Daily Log'!#REF!,$B112,'Daily Log'!#REF!),0)","v":0},{"$f":"IFERROR($E112*SUMIF('Daily Log'!#REF!,$B112,'Daily Log'!#REF!),0)","v":0},{"$f":"IFERROR($E112*SUMIF('Daily Log'!#REF!,$B112,'Daily Log'!#REF!),0)","v":0},{"$f":"IFERROR($E112*SUMIF('Daily Log'!#REF!,$B112,'Daily Log'!#REF!),0)","v":0},{"$f":"IFERROR($E112*SUMIF('Daily Log'!#REF!,$B112,'Daily Log'!#REF!),0)","v":0},{"$f":"IFERROR($E112*SUMIF('Daily Log'!#REF!,$B112,'Daily Log'!#REF!),0)","v":0},{"$f":"IFERROR($E112*SUMIF('Daily Log'!#REF!,$B112,'Daily Log'!#REF!),0)","v":0},{"$f":"IFERROR($E112*SUMIF('Daily Log'!#REF!,$B112,'Daily Log'!#REF!),0)","v":0},{"$f":"IFERROR($E112*SUMIF('Daily Log'!#REF!,$B112,'Daily Log'!#REF!),0)","v":0},{"$f":"IFERROR($E112*SUMIF('Daily Log'!#REF!,$B112,'Daily Log'!#REF!),0)","v":0},{"$f":"IFERROR($E112*SUMIF('Daily Log'!#REF!,$B112,'Daily Log'!#REF!),0)","v":0},{"$f":"IFERROR($E112*SUMIF('Daily Log'!#REF!,$B112,'Daily Log'!#REF!),0)","v":0},{"$f":"IFERROR($E112*SUMIF('Daily Log'!#REF!,$B112,'Daily Log'!#REF!),0)","v":0},{"$f":"IFERROR($E112*SUMIF('Daily Log'!#REF!,$B112,'Daily Log'!#REF!),0)","v":0},{"$f":"IFERROR($E112*SUMIF('Daily Log'!#REF!,$B112,'Daily Log'!#REF!),0)","v":0},{"$f":"IFERROR($E112*SUMIF('Daily Log'!#REF!,$B112,'Daily Log'!#REF!),0)","v":0},{"$f":"IFERROR($E112*SUMIF('Daily Log'!#REF!,$B112,'Daily Log'!#REF!),0)","v":0}]
[null,"AD07 M : MEMBER B'DAY",null,null,null,0,{"$f":"IFERROR($E113*SUMIF('Daily Log'!$B$18:$B$1017,$B113,'Daily Log'!$C$18:$C$1017),0)","v":0},{"$f":"IFERROR($E113*SUMIF('Daily Log'!$E$18:$E$1017,$B113,'Daily Log'!$F$18:$F$1017),0)","v":0},{"$f":"IFERROR($E113*SUMIF('Daily Log'!$H$18:$H$1017,$B113,'Daily Log'!$I$18:$I$1017),0)","v":0},{"$f":"IFERROR($E113*SUMIF('Daily Log'!$K$18:$K$1017,$B113,'Daily Log'!$L$18:$L$1017),0)","v":0},{"$f":"IFERROR($E113*SUMIF('Daily Log'!$N$18:$N$1017,$B113,'Daily Log'!$O$18:$O$1017),0)","v":0},{"$f":"IFERROR($E113*SUMIF('Daily Log'!#REF!,$B113,'Daily Log'!#REF!),0)","v":0},{"$f":"IFERROR($E113*SUMIF('Daily Log'!#REF!,$B113,'Daily Log'!#REF!),0)","v":0},{"$f":"IFERROR($E113*SUMIF('Daily Log'!#REF!,$B113,'Daily Log'!#REF!),0)","v":0},{"$f":"IFERROR($E113*SUMIF('Daily Log'!#REF!,$B113,'Daily Log'!#REF!),0)","v":0},{"$f":"IFERROR($E113*SUMIF('Daily Log'!#REF!,$B113,'Daily Log'!#REF!),0)","v":0},{"$f":"IFERROR($E113*SUMIF('Daily Log'!#REF!,$B113,'Daily Log'!#REF!),0)","v":0},{"$f":"IFERROR($E113*SUMIF('Daily Log'!#REF!,$B113,'Daily Log'!#REF!),0)","v":0},{"$f":"IFERROR($E113*SUMIF('Daily Log'!#REF!,$B113,'Daily Log'!#REF!),0)","v":0},{"$f":"IFERROR($E113*SUMIF('Daily Log'!#REF!,$B113,'Daily Log'!#REF!),0)","v":0},{"$f":"IFERROR($E113*SUMIF('Daily Log'!#REF!,$B113,'Daily Log'!#REF!),0)","v":0},{"$f":"IFERROR($E113*SUMIF('Daily Log'!#REF!,$B113,'Daily Log'!#REF!),0)","v":0},{"$f":"IFERROR($E113*SUMIF('Daily Log'!#REF!,$B113,'Daily Log'!#REF!),0)","v":0},{"$f":"IFERROR($E113*SUMIF('Daily Log'!#REF!,$B113,'Daily Log'!#REF!),0)","v":0},{"$f":"IFERROR($E113*SUMIF('Daily Log'!#REF!,$B113,'Daily Log'!#REF!),0)","v":0},{"$f":"IFERROR($E113*SUMIF('Daily Log'!#REF!,$B113,'Daily Log'!#REF!),0)","v":0},{"$f":"IFERROR($E113*SUMIF('Daily Log'!#REF!,$B113,'Daily Log'!#REF!),0)","v":0},{"$f":"IFERROR($E113*SUMIF('Daily Log'!#REF!,$B113,'Daily Log'!#REF!),0)","v":0},{"$f":"IFERROR($E113*SUMIF('Daily Log'!#REF!,$B113,'Daily Log'!#REF!),0)","v":0},{"$f":"IFERROR($E113*SUMIF('Daily Log'!#REF!,$B113,'Daily Log'!#REF!),0)","v":0},{"$f":"IFERROR($E113*SUMIF('Daily Log'!#REF!,$B113,'Daily Log'!#REF!),0)","v":0},{"$f":"IFERROR($E113*SUMIF('Daily Log'!#REF!,$B113,'Daily Log'!#REF!),0)","v":0},{"$f":"IFERROR($E113*SUMIF('Daily Log'!#REF!,$B113,'Daily Log'!#REF!),0)","v":0},{"$f":"IFERROR($E113*SUMIF('Daily Log'!#REF!,$B113,'Daily Log'!#REF!),0)","v":0},{"$f":"IFERROR($E113*SUMIF('Daily Log'!#REF!,$B113,'Daily Log'!#REF!),0)","v":0},{"$f":"IFERROR($E113*SUMIF('Daily Log'!#REF!,$B113,'Daily Log'!#REF!),0)","v":0},{"$f":"IFERROR($E113*SUMIF('Daily Log'!#REF!,$B113,'Daily Log'!#REF!),0)","v":0}]
[null,"AD08 M : STAFF B'DAY",null,null,null,0,{"$f":"IFERROR($E114*SUMIF('Daily Log'!$B$18:$B$1017,$B114,'Daily Log'!$C$18:$C$1017),0)","v":0},{"$f":"IFERROR($E114*SUMIF('Daily Log'!$E$18:$E$1017,$B114,'Daily Log'!$F$18:$F$1017),0)","v":0},{"$f":"IFERROR($E114*SUMIF('Daily Log'!$H$18:$H$1017,$B114,'Daily Log'!$I$18:$I$1017),0)","v":0},{"$f":"IFERROR($E114*SUMIF('Daily Log'!$K$18:$K$1017,$B114,'Daily Log'!$L$18:$L$1017),0)","v":0},{"$f":"IFERROR($E114*SUMIF('Daily Log'!$N$18:$N$1017,$B114,'Daily Log'!$O$18:$O$1017),0)","v":0},{"$f":"IFERROR($E114*SUMIF('Daily Log'!#REF!,$B114,'Daily Log'!#REF!),0)","v":0},{"$f":"IFERROR($E114*SUMIF('Daily Log'!#REF!,$B114,'Daily Log'!#REF!),0)","v":0},{"$f":"IFERROR($E114*SUMIF('Daily Log'!#REF!,$B114,'Daily Log'!#REF!),0)","v":0},{"$f":"IFERROR($E114*SUMIF('Daily Log'!#REF!,$B114,'Daily Log'!#REF!),0)","v":0},{"$f":"IFERROR($E114*SUMIF('Daily Log'!#REF!,$B114,'Daily Log'!#REF!),0)","v":0},{"$f":"IFERROR($E114*SUMIF('Daily Log'!#REF!,$B114,'Daily Log'!#REF!),0)","v":0},{"$f":"IFERROR($E114*SUMIF('Daily Log'!#REF!,$B114,'Daily Log'!#REF!),0)","v":0},{"$f":"IFERROR($E114*SUMIF('Daily Log'!#REF!,$B114,'Daily Log'!#REF!),0)","v":0},{"$f":"IFERROR($E114*SUMIF('Daily Log'!#REF!,$B114,'Daily Log'!#REF!),0)","v":0},{"$f":"IFERROR($E114*SUMIF('Daily Log'!#REF!,$B114,'Daily Log'!#REF!),0)","v":0},{"$f":"IFERROR($E114*SUMIF('Daily Log'!#REF!,$B114,'Daily Log'!#REF!),0)","v":0},{"$f":"IFERROR($E114*SUMIF('Daily Log'!#REF!,$B114,'Daily Log'!#REF!),0)","v":0},{"$f":"IFERROR($E114*SUMIF('Daily Log'!#REF!,$B114,'Daily Log'!#REF!),0)","v":0},{"$f":"IFERROR($E114*SUMIF('Daily Log'!#REF!,$B114,'Daily Log'!#REF!),0)","v":0},{"$f":"IFERROR($E114*SUMIF('Daily Log'!#REF!,$B114,'Daily Log'!#REF!),0)","v":0},{"$f":"IFERROR($E114*SUMIF('Daily Log'!#REF!,$B114,'Daily Log'!#REF!),0)","v":0},{"$f":"IFERROR($E114*SUMIF('Daily Log'!#REF!,$B114,'Daily Log'!#REF!),0)","v":0},{"$f":"IFERROR($E114*SUMIF('Daily Log'!#REF!,$B114,'Daily Log'!#REF!),0)","v":0},{"$f":"IFERROR($E114*SUMIF('Daily Log'!#REF!,$B114,'Daily Log'!#REF!),0)","v":0},{"$f":"IFERROR($E114*SUMIF('Daily Log'!#REF!,$B114,'Daily Log'!#REF!),0)","v":0},{"$f":"IFERROR($E114*SUMIF('Daily Log'!#REF!,$B114,'Daily Log'!#REF!),0)","v":0},{"$f":"IFERROR($E114*SUMIF('Daily Log'!#REF!,$B114,'Daily Log'!#REF!),0)","v":0},{"$f":"IFERROR($E114*SUMIF('Daily Log'!#REF!,$B114,'Daily Log'!#REF!),0)","v":0},{"$f":"IFERROR($E114*SUMIF('Daily Log'!#REF!,$B114,'Daily Log'!#REF!),0)","v":0},{"$f":"IFERROR($E114*SUMIF('Daily Log'!#REF!,$B114,'Daily Log'!#REF!),0)","v":0},{"$f":"IFERROR($E114*SUMIF('Daily Log'!#REF!,$B114,'Daily Log'!#REF!),0)","v":0}]
[null,"AD09 M : FREEHEAD (B)",null,null,null,0,{"$f":"IFERROR($E115*SUMIF('Daily Log'!$B$18:$B$1017,$B115,'Daily Log'!$C$18:$C$1017),0)","v":0},{"$f":"IFERROR($E115*SUMIF('Daily Log'!$E$18:$E$1017,$B115,'Daily Log'!$F$18:$F$1017),0)","v":0},{"$f":"IFERROR($E115*SUMIF('Daily Log'!$H$18:$H$1017,$B115,'Daily Log'!$I$18:$I$1017),0)","v":0},{"$f":"IFERROR($E115*SUMIF('Daily Log'!$K$18:$K$1017,$B115,'Daily Log'!$L$18:$L$1017),0)","v":0},{"$f":"IFERROR($E115*SUMIF('Daily Log'!$N$18:$N$1017,$B115,'Daily Log'!$O$18:$O$1017),0)","v":0},{"$f":"IFERROR($E115*SUMIF('Daily Log'!#REF!,$B115,'Daily Log'!#REF!),0)","v":0},{"$f":"IFERROR($E115*SUMIF('Daily Log'!#REF!,$B115,'Daily Log'!#REF!),0)","v":0},{"$f":"IFERROR($E115*SUMIF('Daily Log'!#REF!,$B115,'Daily Log'!#REF!),0)","v":0},{"$f":"IFERROR($E115*SUMIF('Daily Log'!#REF!,$B115,'Daily Log'!#REF!),0)","v":0},{"$f":"IFERROR($E115*SUMIF('Daily Log'!#REF!,$B115,'Daily Log'!#REF!),0)","v":0},{"$f":"IFERROR($E115*SUMIF('Daily Log'!#REF!,$B115,'Daily Log'!#REF!),0)","v":0},{"$f":"IFERROR($E115*SUMIF('Daily Log'!#REF!,$B115,'Daily Log'!#REF!),0)","v":0},{"$f":"IFERROR($E115*SUMIF('Daily Log'!#REF!,$B115,'Daily Log'!#REF!),0)","v":0},{"$f":"IFERROR($E115*SUMIF('Daily Log'!#REF!,$B115,'Daily Log'!#REF!),0)","v":0},{"$f":"IFERROR($E115*SUMIF('Daily Log'!#REF!,$B115,'Daily Log'!#REF!),0)","v":0},{"$f":"IFERROR($E115*SUMIF('Daily Log'!#REF!,$B115,'Daily Log'!#REF!),0)","v":0},{"$f":"IFERROR($E115*SUMIF('Daily Log'!#REF!,$B115,'Daily Log'!#REF!),0)","v":0},{"$f":"IFERROR($E115*SUMIF('Daily Log'!#REF!,$B115,'Daily Log'!#REF!),0)","v":0},{"$f":"IFERROR($E115*SUMIF('Daily Log'!#REF!,$B115,'Daily Log'!#REF!),0)","v":0},{"$f":"IFERROR($E115*SUMIF('Daily Log'!#REF!,$B115,'Daily Log'!#REF!),0)","v":0},{"$f":"IFERROR($E115*SUMIF('Daily Log'!#REF!,$B115,'Daily Log'!#REF!),0)","v":0},{"$f":"IFERROR($E115*SUMIF('Daily Log'!#REF!,$B115,'Daily Log'!#REF!),0)","v":0},{"$f":"IFERROR($E115*SUMIF('Daily Log'!#REF!,$B115,'Daily Log'!#REF!),0)","v":0},{"$f":"IFERROR($E115*SUMIF('Daily Log'!#REF!,$B115,'Daily Log'!#REF!),0)","v":0},{"$f":"IFERROR($E115*SUMIF('Daily Log'!#REF!,$B115,'Daily Log'!#REF!),0)","v":0},{"$f":"IFERROR($E115*SUMIF('Daily Log'!#REF!,$B115,'Daily Log'!#REF!),0)","v":0},{"$f":"IFERROR($E115*SUMIF('Daily Log'!#REF!,$B115,'Daily Log'!#REF!),0)","v":0},{"$f":"IFERROR($E115*SUMIF('Daily Log'!#REF!,$B115,'Daily Log'!#REF!),0)","v":0},{"$f":"IFERROR($E115*SUMIF('Daily Log'!#REF!,$B115,'Daily Log'!#REF!),0)","v":0},{"$f":"IFERROR($E115*SUMIF('Daily Log'!#REF!,$B115,'Daily Log'!#REF!),0)","v":0},{"$f":"IFERROR($E115*SUMIF('Daily Log'!#REF!,$B115,'Daily Log'!#REF!),0)","v":0}]
[null,"AD10 Father",null,null,null,0,{"$f":"IFERROR($E116*SUMIF('Daily Log'!$B$18:$B$1017,$B116,'Daily Log'!$C$18:$C$1017),0)","v":0},{"$f":"IFERROR($E116*SUMIF('Daily Log'!$E$18:$E$1017,$B116,'Daily Log'!$F$18:$F$1017),0)","v":0},{"$f":"IFERROR($E116*SUMIF('Daily Log'!$H$18:$H$1017,$B116,'Daily Log'!$I$18:$I$1017),0)","v":0},{"$f":"IFERROR($E116*SUMIF('Daily Log'!$K$18:$K$1017,$B116,'Daily Log'!$L$18:$L$1017),0)","v":0},{"$f":"IFERROR($E116*SUMIF('Daily Log'!$N$18:$N$1017,$B116,'Daily Log'!$O$18:$O$1017),0)","v":0},{"$f":"IFERROR($E116*SUMIF('Daily Log'!#REF!,$B116,'Daily Log'!#REF!),0)","v":0},{"$f":"IFERROR($E116*SUMIF('Daily Log'!#REF!,$B116,'Daily Log'!#REF!),0)","v":0},{"$f":"IFERROR($E116*SUMIF('Daily Log'!#REF!,$B116,'Daily Log'!#REF!),0)","v":0},{"$f":"IFERROR($E116*SUMIF('Daily Log'!#REF!,$B116,'Daily Log'!#REF!),0)","v":0},{"$f":"IFERROR($E116*SUMIF('Daily Log'!#REF!,$B116,'Daily Log'!#REF!),0)","v":0},{"$f":"IFERROR($E116*SUMIF('Daily Log'!#REF!,$B116,'Daily Log'!#REF!),0)","v":0},{"$f":"IFERROR($E116*SUMIF('Daily Log'!#REF!,$B116,'Daily Log'!#REF!),0)","v":0},{"$f":"IFERROR($E116*SUMIF('Daily Log'!#REF!,$B116,'Daily Log'!#REF!),0)","v":0},{"$f":"IFERROR($E116*SUMIF('Daily Log'!#REF!,$B116,'Daily Log'!#REF!),0)","v":0},{"$f":"IFERROR($E116*SUMIF('Daily Log'!#REF!,$B116,'Daily Log'!#REF!),0)","v":0},{"$f":"IFERROR($E116*SUMIF('Daily Log'!#REF!,$B116,'Daily Log'!#REF!),0)","v":0},{"$f":"IFERROR($E116*SUMIF('Daily Log'!#REF!,$B116,'Daily Log'!#REF!),0)","v":0},{"$f":"IFERROR($E116*SUMIF('Daily Log'!#REF!,$B116,'Daily Log'!#REF!),0)","v":0},{"$f":"IFERROR($E116*SUMIF('Daily Log'!#REF!,$B116,'Daily Log'!#REF!),0)","v":0},{"$f":"IFERROR($E116*SUMIF('Daily Log'!#REF!,$B116,'Daily Log'!#REF!),0)","v":0},{"$f":"IFERROR($E116*SUMIF('Daily Log'!#REF!,$B116,'Daily Log'!#REF!),0)","v":0},{"$f":"IFERROR($E116*SUMIF('Daily Log'!#REF!,$B116,'Daily Log'!#REF!),0)","v":0},{"$f":"IFERROR($E116*SUMIF('Daily Log'!#REF!,$B116,'Daily Log'!#REF!),0)","v":0},{"$f":"IFERROR($E116*SUMIF('Daily Log'!#REF!,$B116,'Daily Log'!#REF!),0)","v":0},{"$f":"IFERROR($E116*SUMIF('Daily Log'!#REF!,$B116,'Daily Log'!#REF!),0)","v":0},{"$f":"IFERROR($E116*SUMIF('Daily Log'!#REF!,$B116,'Daily Log'!#REF!),0)","v":0},{"$f":"IFERROR($E116*SUMIF('Daily Log'!#REF!,$B116,'Daily Log'!#REF!),0)","v":0},{"$f":"IFERROR($E116*SUMIF('Daily Log'!#REF!,$B116,'Daily Log'!#REF!),0)","v":0},{"$f":"IFERROR($E116*SUMIF('Daily Log'!#REF!,$B116,'Daily Log'!#REF!),0)","v":0},{"$f":"IFERROR($E116*SUMIF('Daily Log'!#REF!,$B116,'Daily Log'!#REF!),0)","v":0},{"$f":"IFERROR($E116*SUMIF('Daily Log'!#REF!,$B116,'Daily Log'!#REF!),0)","v":0}]
[null,"AD11 M : FREEHEAD (R)",null,null,null,0,{"$f":"IFERROR($E117*SUMIF('Daily Log'!$B$18:$B$1017,$B117,'Daily Log'!$C$18:$C$1017),0)","v":0},{"$f":"IFERROR($E117*SUMIF('Daily Log'!$E$18:$E$1017,$B117,'Daily Log'!$F$18:$F$1017),0)","v":0},{"$f":"IFERROR($E117*SUMIF('Daily Log'!$H$18:$H$1017,$B117,'Daily Log'!$I$18:$I$1017),0)","v":0},{"$f":"IFERROR($E117*SUMIF('Daily Log'!$K$18:$K$1017,$B117,'Daily Log'!$L$18:$L$1017),0)","v":0},{"$f":"IFERROR($E117*SUMIF('Daily Log'!$N$18:$N$1017,$B117,'Daily Log'!$O$18:$O$1017),0)","v":0},{"$f":"IFERROR($E117*SUMIF('Daily Log'!#REF!,$B117,'Daily Log'!#REF!),0)","v":0},{"$f":"IFERROR($E117*SUMIF('Daily Log'!#REF!,$B117,'Daily Log'!#REF!),0)","v":0},{"$f":"IFERROR($E117*SUMIF('Daily Log'!#REF!,$B117,'Daily Log'!#REF!),0)","v":0},{"$f":"IFERROR($E117*SUMIF('Daily Log'!#REF!,$B117,'Daily Log'!#REF!),0)","v":0},{"$f":"IFERROR($E117*SUMIF('Daily Log'!#REF!,$B117,'Daily Log'!#REF!),0)","v":0},{"$f":"IFERROR($E117*SUMIF('Daily Log'!#REF!,$B117,'Daily Log'!#REF!),0)","v":0},{"$f":"IFERROR($E117*SUMIF('Daily Log'!#REF!,$B117,'Daily Log'!#REF!),0)","v":0},{"$f":"IFERROR($E117*SUMIF('Daily Log'!#REF!,$B117,'Daily Log'!#REF!),0)","v":0},{"$f":"IFERROR($E117*SUMIF('Daily Log'!#REF!,$B117,'Daily Log'!#REF!),0)","v":0},{"$f":"IFERROR($E117*SUMIF('Daily Log'!#REF!,$B117,'Daily Log'!#REF!),0)","v":0},{"$f":"IFERROR($E117*SUMIF('Daily Log'!#REF!,$B117,'Daily Log'!#REF!),0)","v":0},{"$f":"IFERROR($E117*SUMIF('Daily Log'!#REF!,$B117,'Daily Log'!#REF!),0)","v":0},{"$f":"IFERROR($E117*SUMIF('Daily Log'!#REF!,$B117,'Daily Log'!#REF!),0)","v":0},{"$f":"IFERROR($E117*SUMIF('Daily Log'!#REF!,$B117,'Daily Log'!#REF!),0)","v":0},{"$f":"IFERROR($E117*SUMIF('Daily Log'!#REF!,$B117,'Daily Log'!#REF!),0)","v":0},{"$f":"IFERROR($E117*SUMIF('Daily Log'!#REF!,$B117,'Daily Log'!#REF!),0)","v":0},{"$f":"IFERROR($E117*SUMIF('Daily Log'!#REF!,$B117,'Daily Log'!#REF!),0)","v":0},{"$f":"IFERROR($E117*SUMIF('Daily Log'!#REF!,$B117,'Daily Log'!#REF!),0)","v":0},{"$f":"IFERROR($E117*SUMIF('Daily Log'!#REF!,$B117,'Daily Log'!#REF!),0)","v":0},{"$f":"IFERROR($E117*SUMIF('Daily Log'!#REF!,$B117,'Daily Log'!#REF!),0)","v":0},{"$f":"IFERROR($E117*SUMIF('Daily Log'!#REF!,$B117,'Daily Log'!#REF!),0)","v":0},{"$f":"IFERROR($E117*SUMIF('Daily Log'!#REF!,$B117,'Daily Log'!#REF!),0)","v":0},{"$f":"IFERROR($E117*SUMIF('Daily Log'!#REF!,$B117,'Daily Log'!#REF!),0)","v":0},{"$f":"IFERROR($E117*SUMIF('Daily Log'!#REF!,$B117,'Daily Log'!#REF!),0)","v":0},{"$f":"IFERROR($E117*SUMIF('Daily Log'!#REF!,$B117,'Daily Log'!#REF!),0)","v":0},{"$f":"IFERROR($E117*SUMIF('Daily Log'!#REF!,$B117,'Daily Log'!#REF!),0)","v":0}]
[null,"AD12 M : 3+1",null,null,null,0,{"$f":"IFERROR($E118*SUMIF('Daily Log'!$B$18:$B$1017,$B118,'Daily Log'!$C$18:$C$1017),0)","v":0},{"$f":"IFERROR($E118*SUMIF('Daily Log'!$E$18:$E$1017,$B118,'Daily Log'!$F$18:$F$1017),0)","v":0},{"$f":"IFERROR($E118*SUMIF('Daily Log'!$H$18:$H$1017,$B118,'Daily Log'!$I$18:$I$1017),0)","v":0},{"$f":"IFERROR($E118*SUMIF('Daily Log'!$K$18:$K$1017,$B118,'Daily Log'!$L$18:$L$1017),0)","v":0},{"$f":"IFERROR($E118*SUMIF('Daily Log'!$N$18:$N$1017,$B118,'Daily Log'!$O$18:$O$1017),0)","v":0},{"$f":"IFERROR($E118*SUMIF('Daily Log'!#REF!,$B118,'Daily Log'!#REF!),0)","v":0},{"$f":"IFERROR($E118*SUMIF('Daily Log'!#REF!,$B118,'Daily Log'!#REF!),0)","v":0},{"$f":"IFERROR($E118*SUMIF('Daily Log'!#REF!,$B118,'Daily Log'!#REF!),0)","v":0},{"$f":"IFERROR($E118*SUMIF('Daily Log'!#REF!,$B118,'Daily Log'!#REF!),0)","v":0},{"$f":"IFERROR($E118*SUMIF('Daily Log'!#REF!,$B118,'Daily Log'!#REF!),0)","v":0},{"$f":"IFERROR($E118*SUMIF('Daily Log'!#REF!,$B118,'Daily Log'!#REF!),0)","v":0},{"$f":"IFERROR($E118*SUMIF('Daily Log'!#REF!,$B118,'Daily Log'!#REF!),0)","v":0},{"$f":"IFERROR($E118*SUMIF('Daily Log'!#REF!,$B118,'Daily Log'!#REF!),0)","v":0},{"$f":"IFERROR($E118*SUMIF('Daily Log'!#REF!,$B118,'Daily Log'!#REF!),0)","v":0},{"$f":"IFERROR($E118*SUMIF('Daily Log'!#REF!,$B118,'Daily Log'!#REF!),0)","v":0},{"$f":"IFERROR($E118*SUMIF('Daily Log'!#REF!,$B118,'Daily Log'!#REF!),0)","v":0},{"$f":"IFERROR($E118*SUMIF('Daily Log'!#REF!,$B118,'Daily Log'!#REF!),0)","v":0},{"$f":"IFERROR($E118*SUMIF('Daily Log'!#REF!,$B118,'Daily Log'!#REF!),0)","v":0},{"$f":"IFERROR($E118*SUMIF('Daily Log'!#REF!,$B118,'Daily Log'!#REF!),0)","v":0},{"$f":"IFERROR($E118*SUMIF('Daily Log'!#REF!,$B118,'Daily Log'!#REF!),0)","v":0},{"$f":"IFERROR($E118*SUMIF('Daily Log'!#REF!,$B118,'Daily Log'!#REF!),0)","v":0},{"$f":"IFERROR($E118*SUMIF('Daily Log'!#REF!,$B118,'Daily Log'!#REF!),0)","v":0},{"$f":"IFERROR($E118*SUMIF('Daily Log'!#REF!,$B118,'Daily Log'!#REF!),0)","v":0},{"$f":"IFERROR($E118*SUMIF('Daily Log'!#REF!,$B118,'Daily Log'!#REF!),0)","v":0},{"$f":"IFERROR($E118*SUMIF('Daily Log'!#REF!,$B118,'Daily Log'!#REF!),0)","v":0},{"$f":"IFERROR($E118*SUMIF('Daily Log'!#REF!,$B118,'Daily Log'!#REF!),0)","v":0},{"$f":"IFERROR($E118*SUMIF('Daily Log'!#REF!,$B118,'Daily Log'!#REF!),0)","v":0},{"$f":"IFERROR($E118*SUMIF('Daily Log'!#REF!,$B118,'Daily Log'!#REF!),0)","v":0},{"$f":"IFERROR($E118*SUMIF('Daily Log'!#REF!,$B118,'Daily Log'!#REF!),0)","v":0},{"$f":"IFERROR($E118*SUMIF('Daily Log'!#REF!,$B118,'Daily Log'!#REF!),0)","v":0},{"$f":"IFERROR($E118*SUMIF('Daily Log'!#REF!,$B118,'Daily Log'!#REF!),0)","v":0}]
[null,"AD13 M : PROMOTION",null,null,null,0,{"$f":"IFERROR($E119*SUMIF('Daily Log'!$B$18:$B$1017,$B119,'Daily Log'!$C$18:$C$1017),0)","v":0},{"$f":"IFERROR($E119*SUMIF('Daily Log'!$E$18:$E$1017,$B119,'Daily Log'!$F$18:$F$1017),0)","v":0},{"$f":"IFERROR($E119*SUMIF('Daily Log'!$H$18:$H$1017,$B119,'Daily Log'!$I$18:$I$1017),0)","v":0},{"$f":"IFERROR($E119*SUMIF('Daily Log'!$K$18:$K$1017,$B119,'Daily Log'!$L$18:$L$1017),0)","v":0},{"$f":"IFERROR($E119*SUMIF('Daily Log'!$N$18:$N$1017,$B119,'Daily Log'!$O$18:$O$1017),0)","v":0},{"$f":"IFERROR($E119*SUMIF('Daily Log'!#REF!,$B119,'Daily Log'!#REF!),0)","v":0},{"$f":"IFERROR($E119*SUMIF('Daily Log'!#REF!,$B119,'Daily Log'!#REF!),0)","v":0},{"$f":"IFERROR($E119*SUMIF('Daily Log'!#REF!,$B119,'Daily Log'!#REF!),0)","v":0},{"$f":"IFERROR($E119*SUMIF('Daily Log'!#REF!,$B119,'Daily Log'!#REF!),0)","v":0},{"$f":"IFERROR($E119*SUMIF('Daily Log'!#REF!,$B119,'Daily Log'!#REF!),0)","v":0},{"$f":"IFERROR($E119*SUMIF('Daily Log'!#REF!,$B119,'Daily Log'!#REF!),0)","v":0},{"$f":"IFERROR($E119*SUMIF('Daily Log'!#REF!,$B119,'Daily Log'!#REF!),0)","v":0},{"$f":"IFERROR($E119*SUMIF('Daily Log'!#REF!,$B119,'Daily Log'!#REF!),0)","v":0},{"$f":"IFERROR($E119*SUMIF('Daily Log'!#REF!,$B119,'Daily Log'!#REF!),0)","v":0},{"$f":"IFERROR($E119*SUMIF('Daily Log'!#REF!,$B119,'Daily Log'!#REF!),0)","v":0},{"$f":"IFERROR($E119*SUMIF('Daily Log'!#REF!,$B119,'Daily Log'!#REF!),0)","v":0},{"$f":"IFERROR($E119*SUMIF('Daily Log'!#REF!,$B119,'Daily Log'!#REF!),0)","v":0},{"$f":"IFERROR($E119*SUMIF('Daily Log'!#REF!,$B119,'Daily Log'!#REF!),0)","v":0},{"$f":"IFERROR($E119*SUMIF('Daily Log'!#REF!,$B119,'Daily Log'!#REF!),0)","v":0},{"$f":"IFERROR($E119*SUMIF('Daily Log'!#REF!,$B119,'Daily Log'!#REF!),0)","v":0},{"$f":"IFERROR($E119*SUMIF('Daily Log'!#REF!,$B119,'Daily Log'!#REF!),0)","v":0},{"$f":"IFERROR($E119*SUMIF('Daily Log'!#REF!,$B119,'Daily Log'!#REF!),0)","v":0},{"$f":"IFERROR($E119*SUMIF('Daily Log'!#REF!,$B119,'Daily Log'!#REF!),0)","v":0},{"$f":"IFERROR($E119*SUMIF('Daily Log'!#REF!,$B119,'Daily Log'!#REF!),0)","v":0},{"$f":"IFERROR($E119*SUMIF('Daily Log'!#REF!,$B119,'Daily Log'!#REF!),0)","v":0},{"$f":"IFERROR($E119*SUMIF('Daily Log'!#REF!,$B119,'Daily Log'!#REF!),0)","v":0},{"$f":"IFERROR($E119*SUMIF('Daily Log'!#REF!,$B119,'Daily Log'!#REF!),0)","v":0},{"$f":"IFERROR($E119*SUMIF('Daily Log'!#REF!,$B119,'Daily Log'!#REF!),0)","v":0},{"$f":"IFERROR($E119*SUMIF('Daily Log'!#REF!,$B119,'Daily Log'!#REF!),0)","v":0},{"$f":"IFERROR($E119*SUMIF('Daily Log'!#REF!,$B119,'Daily Log'!#REF!),0)","v":0},{"$f":"IFERROR($E119*SUMIF('Daily Log'!#REF!,$B119,'Daily Log'!#REF!),0)","v":0}]
[null,"AD14 M : EVENT",null,null,null,0,{"$f":"IFERROR($E120*SUMIF('Daily Log'!$B$18:$B$1017,$B120,'Daily Log'!$C$18:$C$1017),0)","v":0},{"$f":"IFERROR($E120*SUMIF('Daily Log'!$E$18:$E$1017,$B120,'Daily Log'!$F$18:$F$1017),0)","v":0},{"$f":"IFERROR($E120*SUMIF('Daily Log'!$H$18:$H$1017,$B120,'Daily Log'!$I$18:$I$1017),0)","v":0},{"$f":"IFERROR($E120*SUMIF('Daily Log'!$K$18:$K$1017,$B120,'Daily Log'!$L$18:$L$1017),0)","v":0},{"$f":"IFERROR($E120*SUMIF('Daily Log'!$N$18:$N$1017,$B120,'Daily Log'!$O$18:$O$1017),0)","v":0},{"$f":"IFERROR($E120*SUMIF('Daily Log'!#REF!,$B120,'Daily Log'!#REF!),0)","v":0},{"$f":"IFERROR($E120*SUMIF('Daily Log'!#REF!,$B120,'Daily Log'!#REF!),0)","v":0},{"$f":"IFERROR($E120*SUMIF('Daily Log'!#REF!,$B120,'Daily Log'!#REF!),0)","v":0},{"$f":"IFERROR($E120*SUMIF('Daily Log'!#REF!,$B120,'Daily Log'!#REF!),0)","v":0},{"$f":"IFERROR($E120*SUMIF('Daily Log'!#REF!,$B120,'Daily Log'!#REF!),0)","v":0},{"$f":"IFERROR($E120*SUMIF('Daily Log'!#REF!,$B120,'Daily Log'!#REF!),0)","v":0},{"$f":"IFERROR($E120*SUMIF('Daily Log'!#REF!,$B120,'Daily Log'!#REF!),0)","v":0},{"$f":"IFERROR($E120*SUMIF('Daily Log'!#REF!,$B120,'Daily Log'!#REF!),0)","v":0},{"$f":"IFERROR($E120*SUMIF('Daily Log'!#REF!,$B120,'Daily Log'!#REF!),0)","v":0},{"$f":"IFERROR($E120*SUMIF('Daily Log'!#REF!,$B120,'Daily Log'!#REF!),0)","v":0},{"$f":"IFERROR($E120*SUMIF('Daily Log'!#REF!,$B120,'Daily Log'!#REF!),0)","v":0},{"$f":"IFERROR($E120*SUMIF('Daily Log'!#REF!,$B120,'Daily Log'!#REF!),0)","v":0},{"$f":"IFERROR($E120*SUMIF('Daily Log'!#REF!,$B120,'Daily Log'!#REF!),0)","v":0},{"$f":"IFERROR($E120*SUMIF('Daily Log'!#REF!,$B120,'Daily Log'!#REF!),0)","v":0},{"$f":"IFERROR($E120*SUMIF('Daily Log'!#REF!,$B120,'Daily Log'!#REF!),0)","v":0},{"$f":"IFERROR($E120*SUMIF('Daily Log'!#REF!,$B120,'Daily Log'!#REF!),0)","v":0},{"$f":"IFERROR($E120*SUMIF('Daily Log'!#REF!,$B120,'Daily Log'!#REF!),0)","v":0},{"$f":"IFERROR($E120*SUMIF('Daily Log'!#REF!,$B120,'Daily Log'!#REF!),0)","v":0},{"$f":"IFERROR($E120*SUMIF('Daily Log'!#REF!,$B120,'Daily Log'!#REF!),0)","v":0},{"$f":"IFERROR($E120*SUMIF('Daily Log'!#REF!,$B120,'Daily Log'!#REF!),0)","v":0},{"$f":"IFERROR($E120*SUMIF('Daily Log'!#REF!,$B120,'Daily Log'!#REF!),0)","v":0},{"$f":"IFERROR($E120*SUMIF('Daily Log'!#REF!,$B120,'Daily Log'!#REF!),0)","v":0},{"$f":"IFERROR($E120*SUMIF('Daily Log'!#REF!,$B120,'Daily Log'!#REF!),0)","v":0},{"$f":"IFERROR($E120*SUMIF('Daily Log'!#REF!,$B120,'Daily Log'!#REF!),0)","v":0},{"$f":"IFERROR($E120*SUMIF('Daily Log'!#REF!,$B120,'Daily Log'!#REF!),0)","v":0},{"$f":"IFERROR($E120*SUMIF('Daily Log'!#REF!,$B120,'Daily Log'!#REF!),0)","v":0}]
[null,"AD15 M : XTD S ROOM",null,null,null,0,{"$f":"IFERROR($E121*SUMIF('Daily Log'!$B$18:$B$1017,$B121,'Daily Log'!$C$18:$C$1017),0)","v":0},{"$f":"IFERROR($E121*SUMIF('Daily Log'!$E$18:$E$1017,$B121,'Daily Log'!$F$18:$F$1017),0)","v":0},{"$f":"IFERROR($E121*SUMIF('Daily Log'!$H$18:$H$1017,$B121,'Daily Log'!$I$18:$I$1017),0)","v":0},{"$f":"IFERROR($E121*SUMIF('Daily Log'!$K$18:$K$1017,$B121,'Daily Log'!$L$18:$L$1017),0)","v":0},{"$f":"IFERROR($E121*SUMIF('Daily Log'!$N$18:$N$1017,$B121,'Daily Log'!$O$18:$O$1017),0)","v":0},{"$f":"IFERROR($E121*SUMIF('Daily Log'!#REF!,$B121,'Daily Log'!#REF!),0)","v":0},{"$f":"IFERROR($E121*SUMIF('Daily Log'!#REF!,$B121,'Daily Log'!#REF!),0)","v":0},{"$f":"IFERROR($E121*SUMIF('Daily Log'!#REF!,$B121,'Daily Log'!#REF!),0)","v":0},{"$f":"IFERROR($E121*SUMIF('Daily Log'!#REF!,$B121,'Daily Log'!#REF!),0)","v":0},{"$f":"IFERROR($E121*SUMIF('Daily Log'!#REF!,$B121,'Daily Log'!#REF!),0)","v":0},{"$f":"IFERROR($E121*SUMIF('Daily Log'!#REF!,$B121,'Daily Log'!#REF!),0)","v":0},{"$f":"IFERROR($E121*SUMIF('Daily Log'!#REF!,$B121,'Daily Log'!#REF!),0)","v":0},{"$f":"IFERROR($E121*SUMIF('Daily Log'!#REF!,$B121,'Daily Log'!#REF!),0)","v":0},{"$f":"IFERROR($E121*SUMIF('Daily Log'!#REF!,$B121,'Daily Log'!#REF!),0)","v":0},{"$f":"IFERROR($E121*SUMIF('Daily Log'!#REF!,$B121,'Daily Log'!#REF!),0)","v":0},{"$f":"IFERROR($E121*SUMIF('Daily Log'!#REF!,$B121,'Daily Log'!#REF!),0)","v":0},{"$f":"IFERROR($E121*SUMIF('Daily Log'!#REF!,$B121,'Daily Log'!#REF!),0)","v":0},{"$f":"IFERROR($E121*SUMIF('Daily Log'!#REF!,$B121,'Daily Log'!#REF!),0)","v":0},{"$f":"IFERROR($E121*SUMIF('Daily Log'!#REF!,$B121,'Daily Log'!#REF!),0)","v":0},{"$f":"IFERROR($E121*SUMIF('Daily Log'!#REF!,$B121,'Daily Log'!#REF!),0)","v":0},{"$f":"IFERROR($E121*SUMIF('Daily Log'!#REF!,$B121,'Daily Log'!#REF!),0)","v":0},{"$f":"IFERROR($E121*SUMIF('Daily Log'!#REF!,$B121,'Daily Log'!#REF!),0)","v":0},{"$f":"IFERROR($E121*SUMIF('Daily Log'!#REF!,$B121,'Daily Log'!#REF!),0)","v":0},{"$f":"IFERROR($E121*SUMIF('Daily Log'!#REF!,$B121,'Daily Log'!#REF!),0)","v":0},{"$f":"IFERROR($E121*SUMIF('Daily Log'!#REF!,$B121,'Daily Log'!#REF!),0)","v":0},{"$f":"IFERROR($E121*SUMIF('Daily Log'!#REF!,$B121,'Daily Log'!#REF!),0)","v":0},{"$f":"IFERROR($E121*SUMIF('Daily Log'!#REF!,$B121,'Daily Log'!#REF!),0)","v":0},{"$f":"IFERROR($E121*SUMIF('Daily Log'!#REF!,$B121,'Daily Log'!#REF!),0)","v":0},{"$f":"IFERROR($E121*SUMIF('Daily Log'!#REF!,$B121,'Daily Log'!#REF!),0)","v":0},{"$f":"IFERROR($E121*SUMIF('Daily Log'!#REF!,$B121,'Daily Log'!#REF!),0)","v":0},{"$f":"IFERROR($E121*SUMIF('Daily Log'!#REF!,$B121,'Daily Log'!#REF!),0)","v":0}]
[null,"AD16 M : XTD M ROOM",null,null,null,0,{"$f":"IFERROR($E122*SUMIF('Daily Log'!$B$18:$B$1017,$B122,'Daily Log'!$C$18:$C$1017),0)","v":0},{"$f":"IFERROR($E122*SUMIF('Daily Log'!$E$18:$E$1017,$B122,'Daily Log'!$F$18:$F$1017),0)","v":0},{"$f":"IFERROR($E122*SUMIF('Daily Log'!$H$18:$H$1017,$B122,'Daily Log'!$I$18:$I$1017),0)","v":0},{"$f":"IFERROR($E122*SUMIF('Daily Log'!$K$18:$K$1017,$B122,'Daily Log'!$L$18:$L$1017),0)","v":0},{"$f":"IFERROR($E122*SUMIF('Daily Log'!$N$18:$N$1017,$B122,'Daily Log'!$O$18:$O$1017),0)","v":0},{"$f":"IFERROR($E122*SUMIF('Daily Log'!#REF!,$B122,'Daily Log'!#REF!),0)","v":0},{"$f":"IFERROR($E122*SUMIF('Daily Log'!#REF!,$B122,'Daily Log'!#REF!),0)","v":0},{"$f":"IFERROR($E122*SUMIF('Daily Log'!#REF!,$B122,'Daily Log'!#REF!),0)","v":0},{"$f":"IFERROR($E122*SUMIF('Daily Log'!#REF!,$B122,'Daily Log'!#REF!),0)","v":0},{"$f":"IFERROR($E122*SUMIF('Daily Log'!#REF!,$B122,'Daily Log'!#REF!),0)","v":0},{"$f":"IFERROR($E122*SUMIF('Daily Log'!#REF!,$B122,'Daily Log'!#REF!),0)","v":0},{"$f":"IFERROR($E122*SUMIF('Daily Log'!#REF!,$B122,'Daily Log'!#REF!),0)","v":0},{"$f":"IFERROR($E122*SUMIF('Daily Log'!#REF!,$B122,'Daily Log'!#REF!),0)","v":0},{"$f":"IFERROR($E122*SUMIF('Daily Log'!#REF!,$B122,'Daily Log'!#REF!),0)","v":0},{"$f":"IFERROR($E122*SUMIF('Daily Log'!#REF!,$B122,'Daily Log'!#REF!),0)","v":0},{"$f":"IFERROR($E122*SUMIF('Daily Log'!#REF!,$B122,'Daily Log'!#REF!),0)","v":0},{"$f":"IFERROR($E122*SUMIF('Daily Log'!#REF!,$B122,'Daily Log'!#REF!),0)","v":0},{"$f":"IFERROR($E122*SUMIF('Daily Log'!#REF!,$B122,'Daily Log'!#REF!),0)","v":0},{"$f":"IFERROR($E122*SUMIF('Daily Log'!#REF!,$B122,'Daily Log'!#REF!),0)","v":0},{"$f":"IFERROR($E122*SUMIF('Daily Log'!#REF!,$B122,'Daily Log'!#REF!),0)","v":0},{"$f":"IFERROR($E122*SUMIF('Daily Log'!#REF!,$B122,'Daily Log'!#REF!),0)","v":0},{"$f":"IFERROR($E122*SUMIF('Daily Log'!#REF!,$B122,'Daily Log'!#REF!),0)","v":0},{"$f":"IFERROR($E122*SUMIF('Daily Log'!#REF!,$B122,'Daily Log'!#REF!),0)","v":0},{"$f":"IFERROR($E122*SUMIF('Daily Log'!#REF!,$B122,'Daily Log'!#REF!),0)","v":0},{"$f":"IFERROR($E122*SUMIF('Daily Log'!#REF!,$B122,'Daily Log'!#REF!),0)","v":0},{"$f":"IFERROR($E122*SUMIF('Daily Log'!#REF!,$B122,'Daily Log'!#REF!),0)","v":0},{"$f":"IFERROR($E122*SUMIF('Daily Log'!#REF!,$B122,'Daily Log'!#REF!),0)","v":0},{"$f":"IFERROR($E122*SUMIF('Daily Log'!#REF!,$B122,'Daily Log'!#REF!),0)","v":0},{"$f":"IFERROR($E122*SUMIF('Daily Log'!#REF!,$B122,'Daily Log'!#REF!),0)","v":0},{"$f":"IFERROR($E122*SUMIF('Daily Log'!#REF!,$B122,'Daily Log'!#REF!),0)","v":0},{"$f":"IFERROR($E122*SUMIF('Daily Log'!#REF!,$B122,'Daily Log'!#REF!),0)","v":0}]
[null,"AD17 M : XTD B ROOM",null,null,null,0,{"$f":"IFERROR($E123*SUMIF('Daily Log'!$B$18:$B$1017,$B123,'Daily Log'!$C$18:$C$1017),0)","v":0},{"$f":"IFERROR($E123*SUMIF('Daily Log'!$E$18:$E$1017,$B123,'Daily Log'!$F$18:$F$1017),0)","v":0},{"$f":"IFERROR($E123*SUMIF('Daily Log'!$H$18:$H$1017,$B123,'Daily Log'!$I$18:$I$1017),0)","v":0},{"$f":"IFERROR($E123*SUMIF('Daily Log'!$K$18:$K$1017,$B123,'Daily Log'!$L$18:$L$1017),0)","v":0},{"$f":"IFERROR($E123*SUMIF('Daily Log'!$N$18:$N$1017,$B123,'Daily Log'!$O$18:$O$1017),0)","v":0},{"$f":"IFERROR($E123*SUMIF('Daily Log'!#REF!,$B123,'Daily Log'!#REF!),0)","v":0},{"$f":"IFERROR($E123*SUMIF('Daily Log'!#REF!,$B123,'Daily Log'!#REF!),0)","v":0},{"$f":"IFERROR($E123*SUMIF('Daily Log'!#REF!,$B123,'Daily Log'!#REF!),0)","v":0},{"$f":"IFERROR($E123*SUMIF('Daily Log'!#REF!,$B123,'Daily Log'!#REF!),0)","v":0},{"$f":"IFERROR($E123*SUMIF('Daily Log'!#REF!,$B123,'Daily Log'!#REF!),0)","v":0},{"$f":"IFERROR($E123*SUMIF('Daily Log'!#REF!,$B123,'Daily Log'!#REF!),0)","v":0},{"$f":"IFERROR($E123*SUMIF('Daily Log'!#REF!,$B123,'Daily Log'!#REF!),0)","v":0},{"$f":"IFERROR($E123*SUMIF('Daily Log'!#REF!,$B123,'Daily Log'!#REF!),0)","v":0},{"$f":"IFERROR($E123*SUMIF('Daily Log'!#REF!,$B123,'Daily Log'!#REF!),0)","v":0},{"$f":"IFERROR($E123*SUMIF('Daily Log'!#REF!,$B123,'Daily Log'!#REF!),0)","v":0},{"$f":"IFERROR($E123*SUMIF('Daily Log'!#REF!,$B123,'Daily Log'!#REF!),0)","v":0},{"$f":"IFERROR($E123*SUMIF('Daily Log'!#REF!,$B123,'Daily Log'!#REF!),0)","v":0},{"$f":"IFERROR($E123*SUMIF('Daily Log'!#REF!,$B123,'Daily Log'!#REF!),0)","v":0},{"$f":"IFERROR($E123*SUMIF('Daily Log'!#REF!,$B123,'Daily Log'!#REF!),0)","v":0},{"$f":"IFERROR($E123*SUMIF('Daily Log'!#REF!,$B123,'Daily Log'!#REF!),0)","v":0},{"$f":"IFERROR($E123*SUMIF('Daily Log'!#REF!,$B123,'Daily Log'!#REF!),0)","v":0},{"$f":"IFERROR($E123*SUMIF('Daily Log'!#REF!,$B123,'Daily Log'!#REF!),0)","v":0},{"$f":"IFERROR($E123*SUMIF('Daily Log'!#REF!,$B123,'Daily Log'!#REF!),0)","v":0},{"$f":"IFERROR($E123*SUMIF('Daily Log'!#REF!,$B123,'Daily Log'!#REF!),0)","v":0},{"$f":"IFERROR($E123*SUMIF('Daily Log'!#REF!,$B123,'Daily Log'!#REF!),0)","v":0},{"$f":"IFERROR($E123*SUMIF('Daily Log'!#REF!,$B123,'Daily Log'!#REF!),0)","v":0},{"$f":"IFERROR($E123*SUMIF('Daily Log'!#REF!,$B123,'Daily Log'!#REF!),0)","v":0},{"$f":"IFERROR($E123*SUMIF('Daily Log'!#REF!,$B123,'Daily Log'!#REF!),0)","v":0},{"$f":"IFERROR($E123*SUMIF('Daily Log'!#REF!,$B123,'Daily Log'!#REF!),0)","v":0},{"$f":"IFERROR($E123*SUMIF('Daily Log'!#REF!,$B123,'Daily Log'!#REF!),0)","v":0},{"$f":"IFERROR($E123*SUMIF('Daily Log'!#REF!,$B123,'Daily Log'!#REF!),0)","v":0}]
[null,"AD18 M : FOC HOUR",null,null,null,0,{"$f":"IFERROR($E124*SUMIF('Daily Log'!$B$18:$B$1017,$B124,'Daily Log'!$C$18:$C$1017),0)","v":0},{"$f":"IFERROR($E124*SUMIF('Daily Log'!$E$18:$E$1017,$B124,'Daily Log'!$F$18:$F$1017),0)","v":0},{"$f":"IFERROR($E124*SUMIF('Daily Log'!$H$18:$H$1017,$B124,'Daily Log'!$I$18:$I$1017),0)","v":0},{"$f":"IFERROR($E124*SUMIF('Daily Log'!$K$18:$K$1017,$B124,'Daily Log'!$L$18:$L$1017),0)","v":0},{"$f":"IFERROR($E124*SUMIF('Daily Log'!$N$18:$N$1017,$B124,'Daily Log'!$O$18:$O$1017),0)","v":0},{"$f":"IFERROR($E124*SUMIF('Daily Log'!#REF!,$B124,'Daily Log'!#REF!),0)","v":0},{"$f":"IFERROR($E124*SUMIF('Daily Log'!#REF!,$B124,'Daily Log'!#REF!),0)","v":0},{"$f":"IFERROR($E124*SUMIF('Daily Log'!#REF!,$B124,'Daily Log'!#REF!),0)","v":0},{"$f":"IFERROR($E124*SUMIF('Daily Log'!#REF!,$B124,'Daily Log'!#REF!),0)","v":0},{"$f":"IFERROR($E124*SUMIF('Daily Log'!#REF!,$B124,'Daily Log'!#REF!),0)","v":0},{"$f":"IFERROR($E124*SUMIF('Daily Log'!#REF!,$B124,'Daily Log'!#REF!),0)","v":0},{"$f":"IFERROR($E124*SUMIF('Daily Log'!#REF!,$B124,'Daily Log'!#REF!),0)","v":0},{"$f":"IFERROR($E124*SUMIF('Daily Log'!#REF!,$B124,'Daily Log'!#REF!),0)","v":0},{"$f":"IFERROR($E124*SUMIF('Daily Log'!#REF!,$B124,'Daily Log'!#REF!),0)","v":0},{"$f":"IFERROR($E124*SUMIF('Daily Log'!#REF!,$B124,'Daily Log'!#REF!),0)","v":0},{"$f":"IFERROR($E124*SUMIF('Daily Log'!#REF!,$B124,'Daily Log'!#REF!),0)","v":0},{"$f":"IFERROR($E124*SUMIF('Daily Log'!#REF!,$B124,'Daily Log'!#REF!),0)","v":0},{"$f":"IFERROR($E124*SUMIF('Daily Log'!#REF!,$B124,'Daily Log'!#REF!),0)","v":0},{"$f":"IFERROR($E124*SUMIF('Daily Log'!#REF!,$B124,'Daily Log'!#REF!),0)","v":0},{"$f":"IFERROR($E124*SUMIF('Daily Log'!#REF!,$B124,'Daily Log'!#REF!),0)","v":0},{"$f":"IFERROR($E124*SUMIF('Daily Log'!#REF!,$B124,'Daily Log'!#REF!),0)","v":0},{"$f":"IFERROR($E124*SUMIF('Daily Log'!#REF!,$B124,'Daily Log'!#REF!),0)","v":0},{"$f":"IFERROR($E124*SUMIF('Daily Log'!#REF!,$B124,'Daily Log'!#REF!),0)","v":0},{"$f":"IFERROR($E124*SUMIF('Daily Log'!#REF!,$B124,'Daily Log'!#REF!),0)","v":0},{"$f":"IFERROR($E124*SUMIF('Daily Log'!#REF!,$B124,'Daily Log'!#REF!),0)","v":0},{"$f":"IFERROR($E124*SUMIF('Daily Log'!#REF!,$B124,'Daily Log'!#REF!),0)","v":0},{"$f":"IFERROR($E124*SUMIF('Daily Log'!#REF!,$B124,'Daily Log'!#REF!),0)","v":0},{"$f":"IFERROR($E124*SUMIF('Daily Log'!#REF!,$B124,'Daily Log'!#REF!),0)","v":0},{"$f":"IFERROR($E124*SUMIF('Daily Log'!#REF!,$B124,'Daily Log'!#REF!),0)","v":0},{"$f":"IFERROR($E124*SUMIF('Daily Log'!#REF!,$B124,'Daily Log'!#REF!),0)","v":0},{"$f":"IFERROR($E124*SUMIF('Daily Log'!#REF!,$B124,'Daily Log'!#REF!),0)","v":0}]
[null,"AD19 M : GROUPON",null,null,null,0,{"$f":"IFERROR($E125*SUMIF('Daily Log'!$B$18:$B$1017,$B125,'Daily Log'!$C$18:$C$1017),0)","v":0},{"$f":"IFERROR($E125*SUMIF('Daily Log'!$E$18:$E$1017,$B125,'Daily Log'!$F$18:$F$1017),0)","v":0},{"$f":"IFERROR($E125*SUMIF('Daily Log'!$H$18:$H$1017,$B125,'Daily Log'!$I$18:$I$1017),0)","v":0},{"$f":"IFERROR($E125*SUMIF('Daily Log'!$K$18:$K$1017,$B125,'Daily Log'!$L$18:$L$1017),0)","v":0},{"$f":"IFERROR($E125*SUMIF('Daily Log'!$N$18:$N$1017,$B125,'Daily Log'!$O$18:$O$1017),0)","v":0},{"$f":"IFERROR($E125*SUMIF('Daily Log'!#REF!,$B125,'Daily Log'!#REF!),0)","v":0},{"$f":"IFERROR($E125*SUMIF('Daily Log'!#REF!,$B125,'Daily Log'!#REF!),0)","v":0},{"$f":"IFERROR($E125*SUMIF('Daily Log'!#REF!,$B125,'Daily Log'!#REF!),0)","v":0},{"$f":"IFERROR($E125*SUMIF('Daily Log'!#REF!,$B125,'Daily Log'!#REF!),0)","v":0},{"$f":"IFERROR($E125*SUMIF('Daily Log'!#REF!,$B125,'Daily Log'!#REF!),0)","v":0},{"$f":"IFERROR($E125*SUMIF('Daily Log'!#REF!,$B125,'Daily Log'!#REF!),0)","v":0},{"$f":"IFERROR($E125*SUMIF('Daily Log'!#REF!,$B125,'Daily Log'!#REF!),0)","v":0},{"$f":"IFERROR($E125*SUMIF('Daily Log'!#REF!,$B125,'Daily Log'!#REF!),0)","v":0},{"$f":"IFERROR($E125*SUMIF('Daily Log'!#REF!,$B125,'Daily Log'!#REF!),0)","v":0},{"$f":"IFERROR($E125*SUMIF('Daily Log'!#REF!,$B125,'Daily Log'!#REF!),0)","v":0},{"$f":"IFERROR($E125*SUMIF('Daily Log'!#REF!,$B125,'Daily Log'!#REF!),0)","v":0},{"$f":"IFERROR($E125*SUMIF('Daily Log'!#REF!,$B125,'Daily Log'!#REF!),0)","v":0},{"$f":"IFERROR($E125*SUMIF('Daily Log'!#REF!,$B125,'Daily Log'!#REF!),0)","v":0},{"$f":"IFERROR($E125*SUMIF('Daily Log'!#REF!,$B125,'Daily Log'!#REF!),0)","v":0},{"$f":"IFERROR($E125*SUMIF('Daily Log'!#REF!,$B125,'Daily Log'!#REF!),0)","v":0},{"$f":"IFERROR($E125*SUMIF('Daily Log'!#REF!,$B125,'Daily Log'!#REF!),0)","v":0},{"$f":"IFERROR($E125*SUMIF('Daily Log'!#REF!,$B125,'Daily Log'!#REF!),0)","v":0},{"$f":"IFERROR($E125*SUMIF('Daily Log'!#REF!,$B125,'Daily Log'!#REF!),0)","v":0},{"$f":"IFERROR($E125*SUMIF('Daily Log'!#REF!,$B125,'Daily Log'!#REF!),0)","v":0},{"$f":"IFERROR($E125*SUMIF('Daily Log'!#REF!,$B125,'Daily Log'!#REF!),0)","v":0},{"$f":"IFERROR($E125*SUMIF('Daily Log'!#REF!,$B125,'Daily Log'!#REF!),0)","v":0},{"$f":"IFERROR($E125*SUMIF('Daily Log'!#REF!,$B125,'Daily Log'!#REF!),0)","v":0},{"$f":"IFERROR($E125*SUMIF('Daily Log'!#REF!,$B125,'Daily Log'!#REF!),0)","v":0},{"$f":"IFERROR($E125*SUMIF('Daily Log'!#REF!,$B125,'Daily Log'!#REF!),0)","v":0},{"$f":"IFERROR($E125*SUMIF('Daily Log'!#REF!,$B125,'Daily Log'!#REF!),0)","v":0},{"$f":"IFERROR($E125*SUMIF('Daily Log'!#REF!,$B125,'Daily Log'!#REF!),0)","v":0}]
[null,"AD21 M : One FM 208",null,null,null,0,{"$f":"IFERROR($E126*SUMIF('Daily Log'!$B$18:$B$1017,$B126,'Daily Log'!$C$18:$C$1017),0)","v":0},{"$f":"IFERROR($E126*SUMIF('Daily Log'!$E$18:$E$1017,$B126,'Daily Log'!$F$18:$F$1017),0)","v":0},{"$f":"IFERROR($E126*SUMIF('Daily Log'!$H$18:$H$1017,$B126,'Daily Log'!$I$18:$I$1017),0)","v":0},{"$f":"IFERROR($E126*SUMIF('Daily Log'!$K$18:$K$1017,$B126,'Daily Log'!$L$18:$L$1017),0)","v":0},{"$f":"IFERROR($E126*SUMIF('Daily Log'!$N$18:$N$1017,$B126,'Daily Log'!$O$18:$O$1017),0)","v":0},{"$f":"IFERROR($E126*SUMIF('Daily Log'!#REF!,$B126,'Daily Log'!#REF!),0)","v":0},{"$f":"IFERROR($E126*SUMIF('Daily Log'!#REF!,$B126,'Daily Log'!#REF!),0)","v":0},{"$f":"IFERROR($E126*SUMIF('Daily Log'!#REF!,$B126,'Daily Log'!#REF!),0)","v":0},{"$f":"IFERROR($E126*SUMIF('Daily Log'!#REF!,$B126,'Daily Log'!#REF!),0)","v":0},{"$f":"IFERROR($E126*SUMIF('Daily Log'!#REF!,$B126,'Daily Log'!#REF!),0)","v":0},{"$f":"IFERROR($E126*SUMIF('Daily Log'!#REF!,$B126,'Daily Log'!#REF!),0)","v":0},{"$f":"IFERROR($E126*SUMIF('Daily Log'!#REF!,$B126,'Daily Log'!#REF!),0)","v":0},{"$f":"IFERROR($E126*SUMIF('Daily Log'!#REF!,$B126,'Daily Log'!#REF!),0)","v":0},{"$f":"IFERROR($E126*SUMIF('Daily Log'!#REF!,$B126,'Daily Log'!#REF!),0)","v":0},{"$f":"IFERROR($E126*SUMIF('Daily Log'!#REF!,$B126,'Daily Log'!#REF!),0)","v":0},{"$f":"IFERROR($E126*SUMIF('Daily Log'!#REF!,$B126,'Daily Log'!#REF!),0)","v":0},{"$f":"IFERROR($E126*SUMIF('Daily Log'!#REF!,$B126,'Daily Log'!#REF!),0)","v":0},{"$f":"IFERROR($E126*SUMIF('Daily Log'!#REF!,$B126,'Daily Log'!#REF!),0)","v":0},{"$f":"IFERROR($E126*SUMIF('Daily Log'!#REF!,$B126,'Daily Log'!#REF!),0)","v":0},{"$f":"IFERROR($E126*SUMIF('Daily Log'!#REF!,$B126,'Daily Log'!#REF!),0)","v":0},{"$f":"IFERROR($E126*SUMIF('Daily Log'!#REF!,$B126,'Daily Log'!#REF!),0)","v":0},{"$f":"IFERROR($E126*SUMIF('Daily Log'!#REF!,$B126,'Daily Log'!#REF!),0)","v":0},{"$f":"IFERROR($E126*SUMIF('Daily Log'!#REF!,$B126,'Daily Log'!#REF!),0)","v":0},{"$f":"IFERROR($E126*SUMIF('Daily Log'!#REF!,$B126,'Daily Log'!#REF!),0)","v":0},{"$f":"IFERROR($E126*SUMIF('Daily Log'!#REF!,$B126,'Daily Log'!#REF!),0)","v":0},{"$f":"IFERROR($E126*SUMIF('Daily Log'!#REF!,$B126,'Daily Log'!#REF!),0)","v":0},{"$f":"IFERROR($E126*SUMIF('Daily Log'!#REF!,$B126,'Daily Log'!#REF!),0)","v":0},{"$f":"IFERROR($E126*SUMIF('Daily Log'!#REF!,$B126,'Daily Log'!#REF!),0)","v":0},{"$f":"IFERROR($E126*SUMIF('Daily Log'!#REF!,$B126,'Daily Log'!#REF!),0)","v":0},{"$f":"IFERROR($E126*SUMIF('Daily Log'!#REF!,$B126,'Daily Log'!#REF!),0)","v":0},{"$f":"IFERROR($E126*SUMIF('Daily Log'!#REF!,$B126,'Daily Log'!#REF!),0)","v":0}]
[null,"AD22 M:Student Mem",null,null,null,0,{"$f":"IFERROR($E127*SUMIF('Daily Log'!$B$18:$B$1017,$B127,'Daily Log'!$C$18:$C$1017),0)","v":0},{"$f":"IFERROR($E127*SUMIF('Daily Log'!$E$18:$E$1017,$B127,'Daily Log'!$F$18:$F$1017),0)","v":0},{"$f":"IFERROR($E127*SUMIF('Daily Log'!$H$18:$H$1017,$B127,'Daily Log'!$I$18:$I$1017),0)","v":0},{"$f":"IFERROR($E127*SUMIF('Daily Log'!$K$18:$K$1017,$B127,'Daily Log'!$L$18:$L$1017),0)","v":0},{"$f":"IFERROR($E127*SUMIF('Daily Log'!$N$18:$N$1017,$B127,'Daily Log'!$O$18:$O$1017),0)","v":0},{"$f":"IFERROR($E127*SUMIF('Daily Log'!#REF!,$B127,'Daily Log'!#REF!),0)","v":0},{"$f":"IFERROR($E127*SUMIF('Daily Log'!#REF!,$B127,'Daily Log'!#REF!),0)","v":0},{"$f":"IFERROR($E127*SUMIF('Daily Log'!#REF!,$B127,'Daily Log'!#REF!),0)","v":0},{"$f":"IFERROR($E127*SUMIF('Daily Log'!#REF!,$B127,'Daily Log'!#REF!),0)","v":0},{"$f":"IFERROR($E127*SUMIF('Daily Log'!#REF!,$B127,'Daily Log'!#REF!),0)","v":0},{"$f":"IFERROR($E127*SUMIF('Daily Log'!#REF!,$B127,'Daily Log'!#REF!),0)","v":0},{"$f":"IFERROR($E127*SUMIF('Daily Log'!#REF!,$B127,'Daily Log'!#REF!),0)","v":0},{"$f":"IFERROR($E127*SUMIF('Daily Log'!#REF!,$B127,'Daily Log'!#REF!),0)","v":0},{"$f":"IFERROR($E127*SUMIF('Daily Log'!#REF!,$B127,'Daily Log'!#REF!),0)","v":0},{"$f":"IFERROR($E127*SUMIF('Daily Log'!#REF!,$B127,'Daily Log'!#REF!),0)","v":0},{"$f":"IFERROR($E127*SUMIF('Daily Log'!#REF!,$B127,'Daily Log'!#REF!),0)","v":0},{"$f":"IFERROR($E127*SUMIF('Daily Log'!#REF!,$B127,'Daily Log'!#REF!),0)","v":0},{"$f":"IFERROR($E127*SUMIF('Daily Log'!#REF!,$B127,'Daily Log'!#REF!),0)","v":0},{"$f":"IFERROR($E127*SUMIF('Daily Log'!#REF!,$B127,'Daily Log'!#REF!),0)","v":0},{"$f":"IFERROR($E127*SUMIF('Daily Log'!#REF!,$B127,'Daily Log'!#REF!),0)","v":0},{"$f":"IFERROR($E127*SUMIF('Daily Log'!#REF!,$B127,'Daily Log'!#REF!),0)","v":0},{"$f":"IFERROR($E127*SUMIF('Daily Log'!#REF!,$B127,'Daily Log'!#REF!),0)","v":0},{"$f":"IFERROR($E127*SUMIF('Daily Log'!#REF!,$B127,'Daily Log'!#REF!),0)","v":0},{"$f":"IFERROR($E127*SUMIF('Daily Log'!#REF!,$B127,'Daily Log'!#REF!),0)","v":0},{"$f":"IFERROR($E127*SUMIF('Daily Log'!#REF!,$B127,'Daily Log'!#REF!),0)","v":0},{"$f":"IFERROR($E127*SUMIF('Daily Log'!#REF!,$B127,'Daily Log'!#REF!),0)","v":0},{"$f":"IFERROR($E127*SUMIF('Daily Log'!#REF!,$B127,'Daily Log'!#REF!),0)","v":0},{"$f":"IFERROR($E127*SUMIF('Daily Log'!#REF!,$B127,'Daily Log'!#REF!),0)","v":0},{"$f":"IFERROR($E127*SUMIF('Daily Log'!#REF!,$B127,'Daily Log'!#REF!),0)","v":0},{"$f":"IFERROR($E127*SUMIF('Daily Log'!#REF!,$B127,'Daily Log'!#REF!),0)","v":0},{"$f":"IFERROR($E127*SUMIF('Daily Log'!#REF!,$B127,'Daily Log'!#REF!),0)","v":0}]
[null,"AD24 M : iGOT DIS 3+1",null,null,null,0,{"$f":"IFERROR($E128*SUMIF('Daily Log'!$B$18:$B$1017,$B128,'Daily Log'!$C$18:$C$1017),0)","v":0},{"$f":"IFERROR($E128*SUMIF('Daily Log'!$E$18:$E$1017,$B128,'Daily Log'!$F$18:$F$1017),0)","v":0},{"$f":"IFERROR($E128*SUMIF('Daily Log'!$H$18:$H$1017,$B128,'Daily Log'!$I$18:$I$1017),0)","v":0},{"$f":"IFERROR($E128*SUMIF('Daily Log'!$K$18:$K$1017,$B128,'Daily Log'!$L$18:$L$1017),0)","v":0},{"$f":"IFERROR($E128*SUMIF('Daily Log'!$N$18:$N$1017,$B128,'Daily Log'!$O$18:$O$1017),0)","v":0},{"$f":"IFERROR($E128*SUMIF('Daily Log'!#REF!,$B128,'Daily Log'!#REF!),0)","v":0},{"$f":"IFERROR($E128*SUMIF('Daily Log'!#REF!,$B128,'Daily Log'!#REF!),0)","v":0},{"$f":"IFERROR($E128*SUMIF('Daily Log'!#REF!,$B128,'Daily Log'!#REF!),0)","v":0},{"$f":"IFERROR($E128*SUMIF('Daily Log'!#REF!,$B128,'Daily Log'!#REF!),0)","v":0},{"$f":"IFERROR($E128*SUMIF('Daily Log'!#REF!,$B128,'Daily Log'!#REF!),0)","v":0},{"$f":"IFERROR($E128*SUMIF('Daily Log'!#REF!,$B128,'Daily Log'!#REF!),0)","v":0},{"$f":"IFERROR($E128*SUMIF('Daily Log'!#REF!,$B128,'Daily Log'!#REF!),0)","v":0},{"$f":"IFERROR($E128*SUMIF('Daily Log'!#REF!,$B128,'Daily Log'!#REF!),0)","v":0},{"$f":"IFERROR($E128*SUMIF('Daily Log'!#REF!,$B128,'Daily Log'!#REF!),0)","v":0},{"$f":"IFERROR($E128*SUMIF('Daily Log'!#REF!,$B128,'Daily Log'!#REF!),0)","v":0},{"$f":"IFERROR($E128*SUMIF('Daily Log'!#REF!,$B128,'Daily Log'!#REF!),0)","v":0},{"$f":"IFERROR($E128*SUMIF('Daily Log'!#REF!,$B128,'Daily Log'!#REF!),0)","v":0},{"$f":"IFERROR($E128*SUMIF('Daily Log'!#REF!,$B128,'Daily Log'!#REF!),0)","v":0},{"$f":"IFERROR($E128*SUMIF('Daily Log'!#REF!,$B128,'Daily Log'!#REF!),0)","v":0},{"$f":"IFERROR($E128*SUMIF('Daily Log'!#REF!,$B128,'Daily Log'!#REF!),0)","v":0},{"$f":"IFERROR($E128*SUMIF('Daily Log'!#REF!,$B128,'Daily Log'!#REF!),0)","v":0},{"$f":"IFERROR($E128*SUMIF('Daily Log'!#REF!,$B128,'Daily Log'!#REF!),0)","v":0},{"$f":"IFERROR($E128*SUMIF('Daily Log'!#REF!,$B128,'Daily Log'!#REF!),0)","v":0},{"$f":"IFERROR($E128*SUMIF('Daily Log'!#REF!,$B128,'Daily Log'!#REF!),0)","v":0},{"$f":"IFERROR($E128*SUMIF('Daily Log'!#REF!,$B128,'Daily Log'!#REF!),0)","v":0},{"$f":"IFERROR($E128*SUMIF('Daily Log'!#REF!,$B128,'Daily Log'!#REF!),0)","v":0},{"$f":"IFERROR($E128*SUMIF('Daily Log'!#REF!,$B128,'Daily Log'!#REF!),0)","v":0},{"$f":"IFERROR($E128*SUMIF('Daily Log'!#REF!,$B128,'Daily Log'!#REF!),0)","v":0},{"$f":"IFERROR($E128*SUMIF('Daily Log'!#REF!,$B128,'Daily Log'!#REF!),0)","v":0},{"$f":"IFERROR($E128*SUMIF('Daily Log'!#REF!,$B128,'Daily Log'!#REF!),0)","v":0},{"$f":"IFERROR($E128*SUMIF('Daily Log'!#REF!,$B128,'Daily Log'!#REF!),0)","v":0}]
[null,"AE01 EVE 4HRS SPECIAL",null,null,null,0,{"$f":"IFERROR($E129*SUMIF('Daily Log'!$B$18:$B$1017,$B129,'Daily Log'!$C$18:$C$1017),0)","v":0},{"$f":"IFERROR($E129*SUMIF('Daily Log'!$E$18:$E$1017,$B129,'Daily Log'!$F$18:$F$1017),0)","v":0},{"$f":"IFERROR($E129*SUMIF('Daily Log'!$H$18:$H$1017,$B129,'Daily Log'!$I$18:$I$1017),0)","v":0},{"$f":"IFERROR($E129*SUMIF('Daily Log'!$K$18:$K$1017,$B129,'Daily Log'!$L$18:$L$1017),0)","v":0},{"$f":"IFERROR($E129*SUMIF('Daily Log'!$N$18:$N$1017,$B129,'Daily Log'!$O$18:$O$1017),0)","v":0},{"$f":"IFERROR($E129*SUMIF('Daily Log'!#REF!,$B129,'Daily Log'!#REF!),0)","v":0},{"$f":"IFERROR($E129*SUMIF('Daily Log'!#REF!,$B129,'Daily Log'!#REF!),0)","v":0},{"$f":"IFERROR($E129*SUMIF('Daily Log'!#REF!,$B129,'Daily Log'!#REF!),0)","v":0},{"$f":"IFERROR($E129*SUMIF('Daily Log'!#REF!,$B129,'Daily Log'!#REF!),0)","v":0},{"$f":"IFERROR($E129*SUMIF('Daily Log'!#REF!,$B129,'Daily Log'!#REF!),0)","v":0},{"$f":"IFERROR($E129*SUMIF('Daily Log'!#REF!,$B129,'Daily Log'!#REF!),0)","v":0},{"$f":"IFERROR($E129*SUMIF('Daily Log'!#REF!,$B129,'Daily Log'!#REF!),0)","v":0},{"$f":"IFERROR($E129*SUMIF('Daily Log'!#REF!,$B129,'Daily Log'!#REF!),0)","v":0},{"$f":"IFERROR($E129*SUMIF('Daily Log'!#REF!,$B129,'Daily Log'!#REF!),0)","v":0},{"$f":"IFERROR($E129*SUMIF('Daily Log'!#REF!,$B129,'Daily Log'!#REF!),0)","v":0},{"$f":"IFERROR($E129*SUMIF('Daily Log'!#REF!,$B129,'Daily Log'!#REF!),0)","v":0},{"$f":"IFERROR($E129*SUMIF('Daily Log'!#REF!,$B129,'Daily Log'!#REF!),0)","v":0},{"$f":"IFERROR($E129*SUMIF('Daily Log'!#REF!,$B129,'Daily Log'!#REF!),0)","v":0},{"$f":"IFERROR($E129*SUMIF('Daily Log'!#REF!,$B129,'Daily Log'!#REF!),0)","v":0},{"$f":"IFERROR($E129*SUMIF('Daily Log'!#REF!,$B129,'Daily Log'!#REF!),0)","v":0},{"$f":"IFERROR($E129*SUMIF('Daily Log'!#REF!,$B129,'Daily Log'!#REF!),0)","v":0},{"$f":"IFERROR($E129*SUMIF('Daily Log'!#REF!,$B129,'Daily Log'!#REF!),0)","v":0},{"$f":"IFERROR($E129*SUMIF('Daily Log'!#REF!,$B129,'Daily Log'!#REF!),0)","v":0},{"$f":"IFERROR($E129*SUMIF('Daily Log'!#REF!,$B129,'Daily Log'!#REF!),0)","v":0},{"$f":"IFERROR($E129*SUMIF('Daily Log'!#REF!,$B129,'Daily Log'!#REF!),0)","v":0},{"$f":"IFERROR($E129*SUMIF('Daily Log'!#REF!,$B129,'Daily Log'!#REF!),0)","v":0},{"$f":"IFERROR($E129*SUMIF('Daily Log'!#REF!,$B129,'Daily Log'!#REF!),0)","v":0},{"$f":"IFERROR($E129*SUMIF('Daily Log'!#REF!,$B129,'Daily Log'!#REF!),0)","v":0},{"$f":"IFERROR($E129*SUMIF('Daily Log'!#REF!,$B129,'Daily Log'!#REF!),0)","v":0},{"$f":"IFERROR($E129*SUMIF('Daily Log'!#REF!,$B129,'Daily Log'!#REF!),0)","v":0},{"$f":"IFERROR($E129*SUMIF('Daily Log'!#REF!,$B129,'Daily Log'!#REF!),0)","v":0}]
[null,"AE02 EVE 4HRS MEMBER",null,null,null,0,{"$f":"IFERROR($E130*SUMIF('Daily Log'!$B$18:$B$1017,$B130,'Daily Log'!$C$18:$C$1017),0)","v":0},{"$f":"IFERROR($E130*SUMIF('Daily Log'!$E$18:$E$1017,$B130,'Daily Log'!$F$18:$F$1017),0)","v":0},{"$f":"IFERROR($E130*SUMIF('Daily Log'!$H$18:$H$1017,$B130,'Daily Log'!$I$18:$I$1017),0)","v":0},{"$f":"IFERROR($E130*SUMIF('Daily Log'!$K$18:$K$1017,$B130,'Daily Log'!$L$18:$L$1017),0)","v":0},{"$f":"IFERROR($E130*SUMIF('Daily Log'!$N$18:$N$1017,$B130,'Daily Log'!$O$18:$O$1017),0)","v":0},{"$f":"IFERROR($E130*SUMIF('Daily Log'!#REF!,$B130,'Daily Log'!#REF!),0)","v":0},{"$f":"IFERROR($E130*SUMIF('Daily Log'!#REF!,$B130,'Daily Log'!#REF!),0)","v":0},{"$f":"IFERROR($E130*SUMIF('Daily Log'!#REF!,$B130,'Daily Log'!#REF!),0)","v":0},{"$f":"IFERROR($E130*SUMIF('Daily Log'!#REF!,$B130,'Daily Log'!#REF!),0)","v":0},{"$f":"IFERROR($E130*SUMIF('Daily Log'!#REF!,$B130,'Daily Log'!#REF!),0)","v":0},{"$f":"IFERROR($E130*SUMIF('Daily Log'!#REF!,$B130,'Daily Log'!#REF!),0)","v":0},{"$f":"IFERROR($E130*SUMIF('Daily Log'!#REF!,$B130,'Daily Log'!#REF!),0)","v":0},{"$f":"IFERROR($E130*SUMIF('Daily Log'!#REF!,$B130,'Daily Log'!#REF!),0)","v":0},{"$f":"IFERROR($E130*SUMIF('Daily Log'!#REF!,$B130,'Daily Log'!#REF!),0)","v":0},{"$f":"IFERROR($E130*SUMIF('Daily Log'!#REF!,$B130,'Daily Log'!#REF!),0)","v":0},{"$f":"IFERROR($E130*SUMIF('Daily Log'!#REF!,$B130,'Daily Log'!#REF!),0)","v":0},{"$f":"IFERROR($E130*SUMIF('Daily Log'!#REF!,$B130,'Daily Log'!#REF!),0)","v":0},{"$f":"IFERROR($E130*SUMIF('Daily Log'!#REF!,$B130,'Daily Log'!#REF!),0)","v":0},{"$f":"IFERROR($E130*SUMIF('Daily Log'!#REF!,$B130,'Daily Log'!#REF!),0)","v":0},{"$f":"IFERROR($E130*SUMIF('Daily Log'!#REF!,$B130,'Daily Log'!#REF!),0)","v":0},{"$f":"IFERROR($E130*SUMIF('Daily Log'!#REF!,$B130,'Daily Log'!#REF!),0)","v":0},{"$f":"IFERROR($E130*SUMIF('Daily Log'!#REF!,$B130,'Daily Log'!#REF!),0)","v":0},{"$f":"IFERROR($E130*SUMIF('Daily Log'!#REF!,$B130,'Daily Log'!#REF!),0)","v":0},{"$f":"IFERROR($E130*SUMIF('Daily Log'!#REF!,$B130,'Daily Log'!#REF!),0)","v":0},{"$f":"IFERROR($E130*SUMIF('Daily Log'!#REF!,$B130,'Daily Log'!#REF!),0)","v":0},{"$f":"IFERROR($E130*SUMIF('Daily Log'!#REF!,$B130,'Daily Log'!#REF!),0)","v":0},{"$f":"IFERROR($E130*SUMIF('Daily Log'!#REF!,$B130,'Daily Log'!#REF!),0)","v":0},{"$f":"IFERROR($E130*SUMIF('Daily Log'!#REF!,$B130,'Daily Log'!#REF!),0)","v":0},{"$f":"IFERROR($E130*SUMIF('Daily Log'!#REF!,$B130,'Daily Log'!#REF!),0)","v":0},{"$f":"IFERROR($E130*SUMIF('Daily Log'!#REF!,$B130,'Daily Log'!#REF!),0)","v":0},{"$f":"IFERROR($E130*SUMIF('Daily Log'!#REF!,$B130,'Daily Log'!#REF!),0)","v":0}]
[null,"AE03 EVE 2HRS SPECIAL",null,null,null,0,{"$f":"IFERROR($E131*SUMIF('Daily Log'!$B$18:$B$1017,$B131,'Daily Log'!$C$18:$C$1017),0)","v":0},{"$f":"IFERROR($E131*SUMIF('Daily Log'!$E$18:$E$1017,$B131,'Daily Log'!$F$18:$F$1017),0)","v":0},{"$f":"IFERROR($E131*SUMIF('Daily Log'!$H$18:$H$1017,$B131,'Daily Log'!$I$18:$I$1017),0)","v":0},{"$f":"IFERROR($E131*SUMIF('Daily Log'!$K$18:$K$1017,$B131,'Daily Log'!$L$18:$L$1017),0)","v":0},{"$f":"IFERROR($E131*SUMIF('Daily Log'!$N$18:$N$1017,$B131,'Daily Log'!$O$18:$O$1017),0)","v":0},{"$f":"IFERROR($E131*SUMIF('Daily Log'!#REF!,$B131,'Daily Log'!#REF!),0)","v":0},{"$f":"IFERROR($E131*SUMIF('Daily Log'!#REF!,$B131,'Daily Log'!#REF!),0)","v":0},{"$f":"IFERROR($E131*SUMIF('Daily Log'!#REF!,$B131,'Daily Log'!#REF!),0)","v":0},{"$f":"IFERROR($E131*SUMIF('Daily Log'!#REF!,$B131,'Daily Log'!#REF!),0)","v":0},{"$f":"IFERROR($E131*SUMIF('Daily Log'!#REF!,$B131,'Daily Log'!#REF!),0)","v":0},{"$f":"IFERROR($E131*SUMIF('Daily Log'!#REF!,$B131,'Daily Log'!#REF!),0)","v":0},{"$f":"IFERROR($E131*SUMIF('Daily Log'!#REF!,$B131,'Daily Log'!#REF!),0)","v":0},{"$f":"IFERROR($E131*SUMIF('Daily Log'!#REF!,$B131,'Daily Log'!#REF!),0)","v":0},{"$f":"IFERROR($E131*SUMIF('Daily Log'!#REF!,$B131,'Daily Log'!#REF!),0)","v":0},{"$f":"IFERROR($E131*SUMIF('Daily Log'!#REF!,$B131,'Daily Log'!#REF!),0)","v":0},{"$f":"IFERROR($E131*SUMIF('Daily Log'!#REF!,$B131,'Daily Log'!#REF!),0)","v":0},{"$f":"IFERROR($E131*SUMIF('Daily Log'!#REF!,$B131,'Daily Log'!#REF!),0)","v":0},{"$f":"IFERROR($E131*SUMIF('Daily Log'!#REF!,$B131,'Daily Log'!#REF!),0)","v":0},{"$f":"IFERROR($E131*SUMIF('Daily Log'!#REF!,$B131,'Daily Log'!#REF!),0)","v":0},{"$f":"IFERROR($E131*SUMIF('Daily Log'!#REF!,$B131,'Daily Log'!#REF!),0)","v":0},{"$f":"IFERROR($E131*SUMIF('Daily Log'!#REF!,$B131,'Daily Log'!#REF!),0)","v":0},{"$f":"IFERROR($E131*SUMIF('Daily Log'!#REF!,$B131,'Daily Log'!#REF!),0)","v":0},{"$f":"IFERROR($E131*SUMIF('Daily Log'!#REF!,$B131,'Daily Log'!#REF!),0)","v":0},{"$f":"IFERROR($E131*SUMIF('Daily Log'!#REF!,$B131,'Daily Log'!#REF!),0)","v":0},{"$f":"IFERROR($E131*SUMIF('Daily Log'!#REF!,$B131,'Daily Log'!#REF!),0)","v":0},{"$f":"IFERROR($E131*SUMIF('Daily Log'!#REF!,$B131,'Daily Log'!#REF!),0)","v":0},{"$f":"IFERROR($E131*SUMIF('Daily Log'!#REF!,$B131,'Daily Log'!#REF!),0)","v":0},{"$f":"IFERROR($E131*SUMIF('Daily Log'!#REF!,$B131,'Daily Log'!#REF!),0)","v":0},{"$f":"IFERROR($E131*SUMIF('Daily Log'!#REF!,$B131,'Daily Log'!#REF!),0)","v":0},{"$f":"IFERROR($E131*SUMIF('Daily Log'!#REF!,$B131,'Daily Log'!#REF!),0)","v":0},{"$f":"IFERROR($E131*SUMIF('Daily Log'!#REF!,$B131,'Daily Log'!#REF!),0)","v":0}]
[null,"AE04 EVE 2HRS MEMBER",null,null,null,0,{"$f":"IFERROR($E132*SUMIF('Daily Log'!$B$18:$B$1017,$B132,'Daily Log'!$C$18:$C$1017),0)","v":0},{"$f":"IFERROR($E132*SUMIF('Daily Log'!$E$18:$E$1017,$B132,'Daily Log'!$F$18:$F$1017),0)","v":0},{"$f":"IFERROR($E132*SUMIF('Daily Log'!$H$18:$H$1017,$B132,'Daily Log'!$I$18:$I$1017),0)","v":0},{"$f":"IFERROR($E132*SUMIF('Daily Log'!$K$18:$K$1017,$B132,'Daily Log'!$L$18:$L$1017),0)","v":0},{"$f":"IFERROR($E132*SUMIF('Daily Log'!$N$18:$N$1017,$B132,'Daily Log'!$O$18:$O$1017),0)","v":0},{"$f":"IFERROR($E132*SUMIF('Daily Log'!#REF!,$B132,'Daily Log'!#REF!),0)","v":0},{"$f":"IFERROR($E132*SUMIF('Daily Log'!#REF!,$B132,'Daily Log'!#REF!),0)","v":0},{"$f":"IFERROR($E132*SUMIF('Daily Log'!#REF!,$B132,'Daily Log'!#REF!),0)","v":0},{"$f":"IFERROR($E132*SUMIF('Daily Log'!#REF!,$B132,'Daily Log'!#REF!),0)","v":0},{"$f":"IFERROR($E132*SUMIF('Daily Log'!#REF!,$B132,'Daily Log'!#REF!),0)","v":0},{"$f":"IFERROR($E132*SUMIF('Daily Log'!#REF!,$B132,'Daily Log'!#REF!),0)","v":0},{"$f":"IFERROR($E132*SUMIF('Daily Log'!#REF!,$B132,'Daily Log'!#REF!),0)","v":0},{"$f":"IFERROR($E132*SUMIF('Daily Log'!#REF!,$B132,'Daily Log'!#REF!),0)","v":0},{"$f":"IFERROR($E132*SUMIF('Daily Log'!#REF!,$B132,'Daily Log'!#REF!),0)","v":0},{"$f":"IFERROR($E132*SUMIF('Daily Log'!#REF!,$B132,'Daily Log'!#REF!),0)","v":0},{"$f":"IFERROR($E132*SUMIF('Daily Log'!#REF!,$B132,'Daily Log'!#REF!),0)","v":0},{"$f":"IFERROR($E132*SUMIF('Daily Log'!#REF!,$B132,'Daily Log'!#REF!),0)","v":0},{"$f":"IFERROR($E132*SUMIF('Daily Log'!#REF!,$B132,'Daily Log'!#REF!),0)","v":0},{"$f":"IFERROR($E132*SUMIF('Daily Log'!#REF!,$B132,'Daily Log'!#REF!),0)","v":0},{"$f":"IFERROR($E132*SUMIF('Daily Log'!#REF!,$B132,'Daily Log'!#REF!),0)","v":0},{"$f":"IFERROR($E132*SUMIF('Daily Log'!#REF!,$B132,'Daily Log'!#REF!),0)","v":0},{"$f":"IFERROR($E132*SUMIF('Daily Log'!#REF!,$B132,'Daily Log'!#REF!),0)","v":0},{"$f":"IFERROR($E132*SUMIF('Daily Log'!#REF!,$B132,'Daily Log'!#REF!),0)","v":0},{"$f":"IFERROR($E132*SUMIF('Daily Log'!#REF!,$B132,'Daily Log'!#REF!),0)","v":0},{"$f":"IFERROR($E132*SUMIF('Daily Log'!#REF!,$B132,'Daily Log'!#REF!),0)","v":0},{"$f":"IFERROR($E132*SUMIF('Daily Log'!#REF!,$B132,'Daily Log'!#REF!),0)","v":0},{"$f":"IFERROR($E132*SUMIF('Daily Log'!#REF!,$B132,'Daily Log'!#REF!),0)","v":0},{"$f":"IFERROR($E132*SUMIF('Daily Log'!#REF!,$B132,'Daily Log'!#REF!),0)","v":0},{"$f":"IFERROR($E132*SUMIF('Daily Log'!#REF!,$B132,'Daily Log'!#REF!),0)","v":0},{"$f":"IFERROR($E132*SUMIF('Daily Log'!#REF!,$B132,'Daily Log'!#REF!),0)","v":0},{"$f":"IFERROR($E132*SUMIF('Daily Log'!#REF!,$B132,'Daily Log'!#REF!),0)","v":0}]
[null,"AE05 COUNTDOWN 1P",null,null,null,0,{"$f":"IFERROR($E133*SUMIF('Daily Log'!$B$18:$B$1017,$B133,'Daily Log'!$C$18:$C$1017),0)","v":0},{"$f":"IFERROR($E133*SUMIF('Daily Log'!$E$18:$E$1017,$B133,'Daily Log'!$F$18:$F$1017),0)","v":0},{"$f":"IFERROR($E133*SUMIF('Daily Log'!$H$18:$H$1017,$B133,'Daily Log'!$I$18:$I$1017),0)","v":0},{"$f":"IFERROR($E133*SUMIF('Daily Log'!$K$18:$K$1017,$B133,'Daily Log'!$L$18:$L$1017),0)","v":0},{"$f":"IFERROR($E133*SUMIF('Daily Log'!$N$18:$N$1017,$B133,'Daily Log'!$O$18:$O$1017),0)","v":0},{"$f":"IFERROR($E133*SUMIF('Daily Log'!#REF!,$B133,'Daily Log'!#REF!),0)","v":0},{"$f":"IFERROR($E133*SUMIF('Daily Log'!#REF!,$B133,'Daily Log'!#REF!),0)","v":0},{"$f":"IFERROR($E133*SUMIF('Daily Log'!#REF!,$B133,'Daily Log'!#REF!),0)","v":0},{"$f":"IFERROR($E133*SUMIF('Daily Log'!#REF!,$B133,'Daily Log'!#REF!),0)","v":0},{"$f":"IFERROR($E133*SUMIF('Daily Log'!#REF!,$B133,'Daily Log'!#REF!),0)","v":0},{"$f":"IFERROR($E133*SUMIF('Daily Log'!#REF!,$B133,'Daily Log'!#REF!),0)","v":0},{"$f":"IFERROR($E133*SUMIF('Daily Log'!#REF!,$B133,'Daily Log'!#REF!),0)","v":0},{"$f":"IFERROR($E133*SUMIF('Daily Log'!#REF!,$B133,'Daily Log'!#REF!),0)","v":0},{"$f":"IFERROR($E133*SUMIF('Daily Log'!#REF!,$B133,'Daily Log'!#REF!),0)","v":0},{"$f":"IFERROR($E133*SUMIF('Daily Log'!#REF!,$B133,'Daily Log'!#REF!),0)","v":0},{"$f":"IFERROR($E133*SUMIF('Daily Log'!#REF!,$B133,'Daily Log'!#REF!),0)","v":0},{"$f":"IFERROR($E133*SUMIF('Daily Log'!#REF!,$B133,'Daily Log'!#REF!),0)","v":0},{"$f":"IFERROR($E133*SUMIF('Daily Log'!#REF!,$B133,'Daily Log'!#REF!),0)","v":0},{"$f":"IFERROR($E133*SUMIF('Daily Log'!#REF!,$B133,'Daily Log'!#REF!),0)","v":0},{"$f":"IFERROR($E133*SUMIF('Daily Log'!#REF!,$B133,'Daily Log'!#REF!),0)","v":0},{"$f":"IFERROR($E133*SUMIF('Daily Log'!#REF!,$B133,'Daily Log'!#REF!),0)","v":0},{"$f":"IFERROR($E133*SUMIF('Daily Log'!#REF!,$B133,'Daily Log'!#REF!),0)","v":0},{"$f":"IFERROR($E133*SUMIF('Daily Log'!#REF!,$B133,'Daily Log'!#REF!),0)","v":0},{"$f":"IFERROR($E133*SUMIF('Daily Log'!#REF!,$B133,'Daily Log'!#REF!),0)","v":0},{"$f":"IFERROR($E133*SUMIF('Daily Log'!#REF!,$B133,'Daily Log'!#REF!),0)","v":0},{"$f":"IFERROR($E133*SUMIF('Daily Log'!#REF!,$B133,'Daily Log'!#REF!),0)","v":0},{"$f":"IFERROR($E133*SUMIF('Daily Log'!#REF!,$B133,'Daily Log'!#REF!),0)","v":0},{"$f":"IFERROR($E133*SUMIF('Daily Log'!#REF!,$B133,'Daily Log'!#REF!),0)","v":0},{"$f":"IFERROR($E133*SUMIF('Daily Log'!#REF!,$B133,'Daily Log'!#REF!),0)","v":0},{"$f":"IFERROR($E133*SUMIF('Daily Log'!#REF!,$B133,'Daily Log'!#REF!),0)","v":0},{"$f":"IFERROR($E133*SUMIF('Daily Log'!#REF!,$B133,'Daily Log'!#REF!),0)","v":0}]
[null,"AE06 COUNTDOWN MEMBER",null,null,null,0,{"$f":"IFERROR($E134*SUMIF('Daily Log'!$B$18:$B$1017,$B134,'Daily Log'!$C$18:$C$1017),0)","v":0},{"$f":"IFERROR($E134*SUMIF('Daily Log'!$E$18:$E$1017,$B134,'Daily Log'!$F$18:$F$1017),0)","v":0},{"$f":"IFERROR($E134*SUMIF('Daily Log'!$H$18:$H$1017,$B134,'Daily Log'!$I$18:$I$1017),0)","v":0},{"$f":"IFERROR($E134*SUMIF('Daily Log'!$K$18:$K$1017,$B134,'Daily Log'!$L$18:$L$1017),0)","v":0},{"$f":"IFERROR($E134*SUMIF('Daily Log'!$N$18:$N$1017,$B134,'Daily Log'!$O$18:$O$1017),0)","v":0},{"$f":"IFERROR($E134*SUMIF('Daily Log'!#REF!,$B134,'Daily Log'!#REF!),0)","v":0},{"$f":"IFERROR($E134*SUMIF('Daily Log'!#REF!,$B134,'Daily Log'!#REF!),0)","v":0},{"$f":"IFERROR($E134*SUMIF('Daily Log'!#REF!,$B134,'Daily Log'!#REF!),0)","v":0},{"$f":"IFERROR($E134*SUMIF('Daily Log'!#REF!,$B134,'Daily Log'!#REF!),0)","v":0},{"$f":"IFERROR($E134*SUMIF('Daily Log'!#REF!,$B134,'Daily Log'!#REF!),0)","v":0},{"$f":"IFERROR($E134*SUMIF('Daily Log'!#REF!,$B134,'Daily Log'!#REF!),0)","v":0},{"$f":"IFERROR($E134*SUMIF('Daily Log'!#REF!,$B134,'Daily Log'!#REF!),0)","v":0},{"$f":"IFERROR($E134*SUMIF('Daily Log'!#REF!,$B134,'Daily Log'!#REF!),0)","v":0},{"$f":"IFERROR($E134*SUMIF('Daily Log'!#REF!,$B134,'Daily Log'!#REF!),0)","v":0},{"$f":"IFERROR($E134*SUMIF('Daily Log'!#REF!,$B134,'Daily Log'!#REF!),0)","v":0},{"$f":"IFERROR($E134*SUMIF('Daily Log'!#REF!,$B134,'Daily Log'!#REF!),0)","v":0},{"$f":"IFERROR($E134*SUMIF('Daily Log'!#REF!,$B134,'Daily Log'!#REF!),0)","v":0},{"$f":"IFERROR($E134*SUMIF('Daily Log'!#REF!,$B134,'Daily Log'!#REF!),0)","v":0},{"$f":"IFERROR($E134*SUMIF('Daily Log'!#REF!,$B134,'Daily Log'!#REF!),0)","v":0},{"$f":"IFERROR($E134*SUMIF('Daily Log'!#REF!,$B134,'Daily Log'!#REF!),0)","v":0},{"$f":"IFERROR($E134*SUMIF('Daily Log'!#REF!,$B134,'Daily Log'!#REF!),0)","v":0},{"$f":"IFERROR($E134*SUMIF('Daily Log'!#REF!,$B134,'Daily Log'!#REF!),0)","v":0},{"$f":"IFERROR($E134*SUMIF('Daily Log'!#REF!,$B134,'Daily Log'!#REF!),0)","v":0},{"$f":"IFERROR($E134*SUMIF('Daily Log'!#REF!,$B134,'Daily Log'!#REF!),0)","v":0},{"$f":"IFERROR($E134*SUMIF('Daily Log'!#REF!,$B134,'Daily Log'!#REF!),0)","v":0},{"$f":"IFERROR($E134*SUMIF('Daily Log'!#REF!,$B134,'Daily Log'!#REF!),0)","v":0},{"$f":"IFERROR($E134*SUMIF('Daily Log'!#REF!,$B134,'Daily Log'!#REF!),0)","v":0},{"$f":"IFERROR($E134*SUMIF('Daily Log'!#REF!,$B134,'Daily Log'!#REF!),0)","v":0},{"$f":"IFERROR($E134*SUMIF('Daily Log'!#REF!,$B134,'Daily Log'!#REF!),0)","v":0},{"$f":"IFERROR($E134*SUMIF('Daily Log'!#REF!,$B134,'Daily Log'!#REF!),0)","v":0},{"$f":"IFERROR($E134*SUMIF('Daily Log'!#REF!,$B134,'Daily Log'!#REF!),0)","v":0}]
[null,"AE07 4P NORM PACKAGE",null,null,null,0,{"$f":"IFERROR($E135*SUMIF('Daily Log'!$B$18:$B$1017,$B135,'Daily Log'!$C$18:$C$1017),0)","v":0},{"$f":"IFERROR($E135*SUMIF('Daily Log'!$E$18:$E$1017,$B135,'Daily Log'!$F$18:$F$1017),0)","v":0},{"$f":"IFERROR($E135*SUMIF('Daily Log'!$H$18:$H$1017,$B135,'Daily Log'!$I$18:$I$1017),0)","v":0},{"$f":"IFERROR($E135*SUMIF('Daily Log'!$K$18:$K$1017,$B135,'Daily Log'!$L$18:$L$1017),0)","v":0},{"$f":"IFERROR($E135*SUMIF('Daily Log'!$N$18:$N$1017,$B135,'Daily Log'!$O$18:$O$1017),0)","v":0},{"$f":"IFERROR($E135*SUMIF('Daily Log'!#REF!,$B135,'Daily Log'!#REF!),0)","v":0},{"$f":"IFERROR($E135*SUMIF('Daily Log'!#REF!,$B135,'Daily Log'!#REF!),0)","v":0},{"$f":"IFERROR($E135*SUMIF('Daily Log'!#REF!,$B135,'Daily Log'!#REF!),0)","v":0},{"$f":"IFERROR($E135*SUMIF('Daily Log'!#REF!,$B135,'Daily Log'!#REF!),0)","v":0},{"$f":"IFERROR($E135*SUMIF('Daily Log'!#REF!,$B135,'Daily Log'!#REF!),0)","v":0},{"$f":"IFERROR($E135*SUMIF('Daily Log'!#REF!,$B135,'Daily Log'!#REF!),0)","v":0},{"$f":"IFERROR($E135*SUMIF('Daily Log'!#REF!,$B135,'Daily Log'!#REF!),0)","v":0},{"$f":"IFERROR($E135*SUMIF('Daily Log'!#REF!,$B135,'Daily Log'!#REF!),0)","v":0},{"$f":"IFERROR($E135*SUMIF('Daily Log'!#REF!,$B135,'Daily Log'!#REF!),0)","v":0},{"$f":"IFERROR($E135*SUMIF('Daily Log'!#REF!,$B135,'Daily Log'!#REF!),0)","v":0},{"$f":"IFERROR($E135*SUMIF('Daily Log'!#REF!,$B135,'Daily Log'!#REF!),0)","v":0},{"$f":"IFERROR($E135*SUMIF('Daily Log'!#REF!,$B135,'Daily Log'!#REF!),0)","v":0},{"$f":"IFERROR($E135*SUMIF('Daily Log'!#REF!,$B135,'Daily Log'!#REF!),0)","v":0},{"$f":"IFERROR($E135*SUMIF('Daily Log'!#REF!,$B135,'Daily Log'!#REF!),0)","v":0},{"$f":"IFERROR($E135*SUMIF('Daily Log'!#REF!,$B135,'Daily Log'!#REF!),0)","v":0},{"$f":"IFERROR($E135*SUMIF('Daily Log'!#REF!,$B135,'Daily Log'!#REF!),0)","v":0},{"$f":"IFERROR($E135*SUMIF('Daily Log'!#REF!,$B135,'Daily Log'!#REF!),0)","v":0},{"$f":"IFERROR($E135*SUMIF('Daily Log'!#REF!,$B135,'Daily Log'!#REF!),0)","v":0},{"$f":"IFERROR($E135*SUMIF('Daily Log'!#REF!,$B135,'Daily Log'!#REF!),0)","v":0},{"$f":"IFERROR($E135*SUMIF('Daily Log'!#REF!,$B135,'Daily Log'!#REF!),0)","v":0},{"$f":"IFERROR($E135*SUMIF('Daily Log'!#REF!,$B135,'Daily Log'!#REF!),0)","v":0},{"$f":"IFERROR($E135*SUMIF('Daily Log'!#REF!,$B135,'Daily Log'!#REF!),0)","v":0},{"$f":"IFERROR($E135*SUMIF('Daily Log'!#REF!,$B135,'Daily Log'!#REF!),0)","v":0},{"$f":"IFERROR($E135*SUMIF('Daily Log'!#REF!,$B135,'Daily Log'!#REF!),0)","v":0},{"$f":"IFERROR($E135*SUMIF('Daily Log'!#REF!,$B135,'Daily Log'!#REF!),0)","v":0},{"$f":"IFERROR($E135*SUMIF('Daily Log'!#REF!,$B135,'Daily Log'!#REF!),0)","v":0}]
[null,"AE08 4P BEER PACKAGE",null,null,null,0,{"$f":"IFERROR($E136*SUMIF('Daily Log'!$B$18:$B$1017,$B136,'Daily Log'!$C$18:$C$1017),0)","v":0},{"$f":"IFERROR($E136*SUMIF('Daily Log'!$E$18:$E$1017,$B136,'Daily Log'!$F$18:$F$1017),0)","v":0},{"$f":"IFERROR($E136*SUMIF('Daily Log'!$H$18:$H$1017,$B136,'Daily Log'!$I$18:$I$1017),0)","v":0},{"$f":"IFERROR($E136*SUMIF('Daily Log'!$K$18:$K$1017,$B136,'Daily Log'!$L$18:$L$1017),0)","v":0},{"$f":"IFERROR($E136*SUMIF('Daily Log'!$N$18:$N$1017,$B136,'Daily Log'!$O$18:$O$1017),0)","v":0},{"$f":"IFERROR($E136*SUMIF('Daily Log'!#REF!,$B136,'Daily Log'!#REF!),0)","v":0},{"$f":"IFERROR($E136*SUMIF('Daily Log'!#REF!,$B136,'Daily Log'!#REF!),0)","v":0},{"$f":"IFERROR($E136*SUMIF('Daily Log'!#REF!,$B136,'Daily Log'!#REF!),0)","v":0},{"$f":"IFERROR($E136*SUMIF('Daily Log'!#REF!,$B136,'Daily Log'!#REF!),0)","v":0},{"$f":"IFERROR($E136*SUMIF('Daily Log'!#REF!,$B136,'Daily Log'!#REF!),0)","v":0},{"$f":"IFERROR($E136*SUMIF('Daily Log'!#REF!,$B136,'Daily Log'!#REF!),0)","v":0},{"$f":"IFERROR($E136*SUMIF('Daily Log'!#REF!,$B136,'Daily Log'!#REF!),0)","v":0},{"$f":"IFERROR($E136*SUMIF('Daily Log'!#REF!,$B136,'Daily Log'!#REF!),0)","v":0},{"$f":"IFERROR($E136*SUMIF('Daily Log'!#REF!,$B136,'Daily Log'!#REF!),0)","v":0},{"$f":"IFERROR($E136*SUMIF('Daily Log'!#REF!,$B136,'Daily Log'!#REF!),0)","v":0},{"$f":"IFERROR($E136*SUMIF('Daily Log'!#REF!,$B136,'Daily Log'!#REF!),0)","v":0},{"$f":"IFERROR($E136*SUMIF('Daily Log'!#REF!,$B136,'Daily Log'!#REF!),0)","v":0},{"$f":"IFERROR($E136*SUMIF('Daily Log'!#REF!,$B136,'Daily Log'!#REF!),0)","v":0},{"$f":"IFERROR($E136*SUMIF('Daily Log'!#REF!,$B136,'Daily Log'!#REF!),0)","v":0},{"$f":"IFERROR($E136*SUMIF('Daily Log'!#REF!,$B136,'Daily Log'!#REF!),0)","v":0},{"$f":"IFERROR($E136*SUMIF('Daily Log'!#REF!,$B136,'Daily Log'!#REF!),0)","v":0},{"$f":"IFERROR($E136*SUMIF('Daily Log'!#REF!,$B136,'Daily Log'!#REF!),0)","v":0},{"$f":"IFERROR($E136*SUMIF('Daily Log'!#REF!,$B136,'Daily Log'!#REF!),0)","v":0},{"$f":"IFERROR($E136*SUMIF('Daily Log'!#REF!,$B136,'Daily Log'!#REF!),0)","v":0},{"$f":"IFERROR($E136*SUMIF('Daily Log'!#REF!,$B136,'Daily Log'!#REF!),0)","v":0},{"$f":"IFERROR($E136*SUMIF('Daily Log'!#REF!,$B136,'Daily Log'!#REF!),0)","v":0},{"$f":"IFERROR($E136*SUMIF('Daily Log'!#REF!,$B136,'Daily Log'!#REF!),0)","v":0},{"$f":"IFERROR($E136*SUMIF('Daily Log'!#REF!,$B136,'Daily Log'!#REF!),0)","v":0},{"$f":"IFERROR($E136*SUMIF('Daily Log'!#REF!,$B136,'Daily Log'!#REF!),0)","v":0},{"$f":"IFERROR($E136*SUMIF('Daily Log'!#REF!,$B136,'Daily Log'!#REF!),0)","v":0},{"$f":"IFERROR($E136*SUMIF('Daily Log'!#REF!,$B136,'Daily Log'!#REF!),0)","v":0}]
[null,"AE09 PACKAGE ADD-ON",null,null,null,0,{"$f":"IFERROR($E137*SUMIF('Daily Log'!$B$18:$B$1017,$B137,'Daily Log'!$C$18:$C$1017),0)","v":0},{"$f":"IFERROR($E137*SUMIF('Daily Log'!$E$18:$E$1017,$B137,'Daily Log'!$F$18:$F$1017),0)","v":0},{"$f":"IFERROR($E137*SUMIF('Daily Log'!$H$18:$H$1017,$B137,'Daily Log'!$I$18:$I$1017),0)","v":0},{"$f":"IFERROR($E137*SUMIF('Daily Log'!$K$18:$K$1017,$B137,'Daily Log'!$L$18:$L$1017),0)","v":0},{"$f":"IFERROR($E137*SUMIF('Daily Log'!$N$18:$N$1017,$B137,'Daily Log'!$O$18:$O$1017),0)","v":0},{"$f":"IFERROR($E137*SUMIF('Daily Log'!#REF!,$B137,'Daily Log'!#REF!),0)","v":0},{"$f":"IFERROR($E137*SUMIF('Daily Log'!#REF!,$B137,'Daily Log'!#REF!),0)","v":0},{"$f":"IFERROR($E137*SUMIF('Daily Log'!#REF!,$B137,'Daily Log'!#REF!),0)","v":0},{"$f":"IFERROR($E137*SUMIF('Daily Log'!#REF!,$B137,'Daily Log'!#REF!),0)","v":0},{"$f":"IFERROR($E137*SUMIF('Daily Log'!#REF!,$B137,'Daily Log'!#REF!),0)","v":0},{"$f":"IFERROR($E137*SUMIF('Daily Log'!#REF!,$B137,'Daily Log'!#REF!),0)","v":0},{"$f":"IFERROR($E137*SUMIF('Daily Log'!#REF!,$B137,'Daily Log'!#REF!),0)","v":0},{"$f":"IFERROR($E137*SUMIF('Daily Log'!#REF!,$B137,'Daily Log'!#REF!),0)","v":0},{"$f":"IFERROR($E137*SUMIF('Daily Log'!#REF!,$B137,'Daily Log'!#REF!),0)","v":0},{"$f":"IFERROR($E137*SUMIF('Daily Log'!#REF!,$B137,'Daily Log'!#REF!),0)","v":0},{"$f":"IFERROR($E137*SUMIF('Daily Log'!#REF!,$B137,'Daily Log'!#REF!),0)","v":0},{"$f":"IFERROR($E137*SUMIF('Daily Log'!#REF!,$B137,'Daily Log'!#REF!),0)","v":0},{"$f":"IFERROR($E137*SUMIF('Daily Log'!#REF!,$B137,'Daily Log'!#REF!),0)","v":0},{"$f":"IFERROR($E137*SUMIF('Daily Log'!#REF!,$B137,'Daily Log'!#REF!),0)","v":0},{"$f":"IFERROR($E137*SUMIF('Daily Log'!#REF!,$B137,'Daily Log'!#REF!),0)","v":0},{"$f":"IFERROR($E137*SUMIF('Daily Log'!#REF!,$B137,'Daily Log'!#REF!),0)","v":0},{"$f":"IFERROR($E137*SUMIF('Daily Log'!#REF!,$B137,'Daily Log'!#REF!),0)","v":0},{"$f":"IFERROR($E137*SUMIF('Daily Log'!#REF!,$B137,'Daily Log'!#REF!),0)","v":0},{"$f":"IFERROR($E137*SUMIF('Daily Log'!#REF!,$B137,'Daily Log'!#REF!),0)","v":0},{"$f":"IFERROR($E137*SUMIF('Daily Log'!#REF!,$B137,'Daily Log'!#REF!),0)","v":0},{"$f":"IFERROR($E137*SUMIF('Daily Log'!#REF!,$B137,'Daily Log'!#REF!),0)","v":0},{"$f":"IFERROR($E137*SUMIF('Daily Log'!#REF!,$B137,'Daily Log'!#REF!),0)","v":0},{"$f":"IFERROR($E137*SUMIF('Daily Log'!#REF!,$B137,'Daily Log'!#REF!),0)","v":0},{"$f":"IFERROR($E137*SUMIF('Daily Log'!#REF!,$B137,'Daily Log'!#REF!),0)","v":0},{"$f":"IFERROR($E137*SUMIF('Daily Log'!#REF!,$B137,'Daily Log'!#REF!),0)","v":0},{"$f":"IFERROR($E137*SUMIF('Daily Log'!#REF!,$B137,'Daily Log'!#REF!),0)","v":0}]
[null,"AE10 ADD-ON MEMBER",null,null,null,0,{"$f":"IFERROR($E138*SUMIF('Daily Log'!$B$18:$B$1017,$B138,'Daily Log'!$C$18:$C$1017),0)","v":0},{"$f":"IFERROR($E138*SUMIF('Daily Log'!$E$18:$E$1017,$B138,'Daily Log'!$F$18:$F$1017),0)","v":0},{"$f":"IFERROR($E138*SUMIF('Daily Log'!$H$18:$H$1017,$B138,'Daily Log'!$I$18:$I$1017),0)","v":0},{"$f":"IFERROR($E138*SUMIF('Daily Log'!$K$18:$K$1017,$B138,'Daily Log'!$L$18:$L$1017),0)","v":0},{"$f":"IFERROR($E138*SUMIF('Daily Log'!$N$18:$N$1017,$B138,'Daily Log'!$O$18:$O$1017),0)","v":0},{"$f":"IFERROR($E138*SUMIF('Daily Log'!#REF!,$B138,'Daily Log'!#REF!),0)","v":0},{"$f":"IFERROR($E138*SUMIF('Daily Log'!#REF!,$B138,'Daily Log'!#REF!),0)","v":0},{"$f":"IFERROR($E138*SUMIF('Daily Log'!#REF!,$B138,'Daily Log'!#REF!),0)","v":0},{"$f":"IFERROR($E138*SUMIF('Daily Log'!#REF!,$B138,'Daily Log'!#REF!),0)","v":0},{"$f":"IFERROR($E138*SUMIF('Daily Log'!#REF!,$B138,'Daily Log'!#REF!),0)","v":0},{"$f":"IFERROR($E138*SUMIF('Daily Log'!#REF!,$B138,'Daily Log'!#REF!),0)","v":0},{"$f":"IFERROR($E138*SUMIF('Daily Log'!#REF!,$B138,'Daily Log'!#REF!),0)","v":0},{"$f":"IFERROR($E138*SUMIF('Daily Log'!#REF!,$B138,'Daily Log'!#REF!),0)","v":0},{"$f":"IFERROR($E138*SUMIF('Daily Log'!#REF!,$B138,'Daily Log'!#REF!),0)","v":0},{"$f":"IFERROR($E138*SUMIF('Daily Log'!#REF!,$B138,'Daily Log'!#REF!),0)","v":0},{"$f":"IFERROR($E138*SUMIF('Daily Log'!#REF!,$B138,'Daily Log'!#REF!),0)","v":0},{"$f":"IFERROR($E138*SUMIF('Daily Log'!#REF!,$B138,'Daily Log'!#REF!),0)","v":0},{"$f":"IFERROR($E138*SUMIF('Daily Log'!#REF!,$B138,'Daily Log'!#REF!),0)","v":0},{"$f":"IFERROR($E138*SUMIF('Daily Log'!#REF!,$B138,'Daily Log'!#REF!),0)","v":0},{"$f":"IFERROR($E138*SUMIF('Daily Log'!#REF!,$B138,'Daily Log'!#REF!),0)","v":0},{"$f":"IFERROR($E138*SUMIF('Daily Log'!#REF!,$B138,'Daily Log'!#REF!),0)","v":0},{"$f":"IFERROR($E138*SUMIF('Daily Log'!#REF!,$B138,'Daily Log'!#REF!),0)","v":0},{"$f":"IFERROR($E138*SUMIF('Daily Log'!#REF!,$B138,'Daily Log'!#REF!),0)","v":0},{"$f":"IFERROR($E138*SUMIF('Daily Log'!#REF!,$B138,'Daily Log'!#REF!),0)","v":0},{"$f":"IFERROR($E138*SUMIF('Daily Log'!#REF!,$B138,'Daily Log'!#REF!),0)","v":0},{"$f":"IFERROR($E138*SUMIF('Daily Log'!#REF!,$B138,'Daily Log'!#REF!),0)","v":0},{"$f":"IFERROR($E138*SUMIF('Daily Log'!#REF!,$B138,'Daily Log'!#REF!),0)","v":0},{"$f":"IFERROR($E138*SUMIF('Daily Log'!#REF!,$B138,'Daily Log'!#REF!),0)","v":0},{"$f":"IFERROR($E138*SUMIF('Daily Log'!#REF!,$B138,'Daily Log'!#REF!),0)","v":0},{"$f":"IFERROR($E138*SUMIF('Daily Log'!#REF!,$B138,'Daily Log'!#REF!),0)","v":0},{"$f":"IFERROR($E138*SUMIF('Daily Log'!#REF!,$B138,'Daily Log'!#REF!),0)","v":0}]
[null,"AE11 SMALL ROOM",null,null,null,0,{"$f":"IFERROR($E139*SUMIF('Daily Log'!$B$18:$B$1017,$B139,'Daily Log'!$C$18:$C$1017),0)","v":0},{"$f":"IFERROR($E139*SUMIF('Daily Log'!$E$18:$E$1017,$B139,'Daily Log'!$F$18:$F$1017),0)","v":0},{"$f":"IFERROR($E139*SUMIF('Daily Log'!$H$18:$H$1017,$B139,'Daily Log'!$I$18:$I$1017),0)","v":0},{"$f":"IFERROR($E139*SUMIF('Daily Log'!$K$18:$K$1017,$B139,'Daily Log'!$L$18:$L$1017),0)","v":0},{"$f":"IFERROR($E139*SUMIF('Daily Log'!$N$18:$N$1017,$B139,'Daily Log'!$O$18:$O$1017),0)","v":0},{"$f":"IFERROR($E139*SUMIF('Daily Log'!#REF!,$B139,'Daily Log'!#REF!),0)","v":0},{"$f":"IFERROR($E139*SUMIF('Daily Log'!#REF!,$B139,'Daily Log'!#REF!),0)","v":0},{"$f":"IFERROR($E139*SUMIF('Daily Log'!#REF!,$B139,'Daily Log'!#REF!),0)","v":0},{"$f":"IFERROR($E139*SUMIF('Daily Log'!#REF!,$B139,'Daily Log'!#REF!),0)","v":0},{"$f":"IFERROR($E139*SUMIF('Daily Log'!#REF!,$B139,'Daily Log'!#REF!),0)","v":0},{"$f":"IFERROR($E139*SUMIF('Daily Log'!#REF!,$B139,'Daily Log'!#REF!),0)","v":0},{"$f":"IFERROR($E139*SUMIF('Daily Log'!#REF!,$B139,'Daily Log'!#REF!),0)","v":0},{"$f":"IFERROR($E139*SUMIF('Daily Log'!#REF!,$B139,'Daily Log'!#REF!),0)","v":0},{"$f":"IFERROR($E139*SUMIF('Daily Log'!#REF!,$B139,'Daily Log'!#REF!),0)","v":0},{"$f":"IFERROR($E139*SUMIF('Daily Log'!#REF!,$B139,'Daily Log'!#REF!),0)","v":0},{"$f":"IFERROR($E139*SUMIF('Daily Log'!#REF!,$B139,'Daily Log'!#REF!),0)","v":0},{"$f":"IFERROR($E139*SUMIF('Daily Log'!#REF!,$B139,'Daily Log'!#REF!),0)","v":0},{"$f":"IFERROR($E139*SUMIF('Daily Log'!#REF!,$B139,'Daily Log'!#REF!),0)","v":0},{"$f":"IFERROR($E139*SUMIF('Daily Log'!#REF!,$B139,'Daily Log'!#REF!),0)","v":0},{"$f":"IFERROR($E139*SUMIF('Daily Log'!#REF!,$B139,'Daily Log'!#REF!),0)","v":0},{"$f":"IFERROR($E139*SUMIF('Daily Log'!#REF!,$B139,'Daily Log'!#REF!),0)","v":0},{"$f":"IFERROR($E139*SUMIF('Daily Log'!#REF!,$B139,'Daily Log'!#REF!),0)","v":0},{"$f":"IFERROR($E139*SUMIF('Daily Log'!#REF!,$B139,'Daily Log'!#REF!),0)","v":0},{"$f":"IFERROR($E139*SUMIF('Daily Log'!#REF!,$B139,'Daily Log'!#REF!),0)","v":0},{"$f":"IFERROR($E139*SUMIF('Daily Log'!#REF!,$B139,'Daily Log'!#REF!),0)","v":0},{"$f":"IFERROR($E139*SUMIF('Daily Log'!#REF!,$B139,'Daily Log'!#REF!),0)","v":0},{"$f":"IFERROR($E139*SUMIF('Daily Log'!#REF!,$B139,'Daily Log'!#REF!),0)","v":0},{"$f":"IFERROR($E139*SUMIF('Daily Log'!#REF!,$B139,'Daily Log'!#REF!),0)","v":0},{"$f":"IFERROR($E139*SUMIF('Daily Log'!#REF!,$B139,'Daily Log'!#REF!),0)","v":0},{"$f":"IFERROR($E139*SUMIF('Daily Log'!#REF!,$B139,'Daily Log'!#REF!),0)","v":0},{"$f":"IFERROR($E139*SUMIF('Daily Log'!#REF!,$B139,'Daily Log'!#REF!),0)","v":0}]
[null,"AE12 MEDIUM ROOM",null,null,null,0,{"$f":"IFERROR($E140*SUMIF('Daily Log'!$B$18:$B$1017,$B140,'Daily Log'!$C$18:$C$1017),0)","v":0},{"$f":"IFERROR($E140*SUMIF('Daily Log'!$E$18:$E$1017,$B140,'Daily Log'!$F$18:$F$1017),0)","v":0},{"$f":"IFERROR($E140*SUMIF('Daily Log'!$H$18:$H$1017,$B140,'Daily Log'!$I$18:$I$1017),0)","v":0},{"$f":"IFERROR($E140*SUMIF('Daily Log'!$K$18:$K$1017,$B140,'Daily Log'!$L$18:$L$1017),0)","v":0},{"$f":"IFERROR($E140*SUMIF('Daily Log'!$N$18:$N$1017,$B140,'Daily Log'!$O$18:$O$1017),0)","v":0},{"$f":"IFERROR($E140*SUMIF('Daily Log'!#REF!,$B140,'Daily Log'!#REF!),0)","v":0},{"$f":"IFERROR($E140*SUMIF('Daily Log'!#REF!,$B140,'Daily Log'!#REF!),0)","v":0},{"$f":"IFERROR($E140*SUMIF('Daily Log'!#REF!,$B140,'Daily Log'!#REF!),0)","v":0},{"$f":"IFERROR($E140*SUMIF('Daily Log'!#REF!,$B140,'Daily Log'!#REF!),0)","v":0},{"$f":"IFERROR($E140*SUMIF('Daily Log'!#REF!,$B140,'Daily Log'!#REF!),0)","v":0},{"$f":"IFERROR($E140*SUMIF('Daily Log'!#REF!,$B140,'Daily Log'!#REF!),0)","v":0},{"$f":"IFERROR($E140*SUMIF('Daily Log'!#REF!,$B140,'Daily Log'!#REF!),0)","v":0},{"$f":"IFERROR($E140*SUMIF('Daily Log'!#REF!,$B140,'Daily Log'!#REF!),0)","v":0},{"$f":"IFERROR($E140*SUMIF('Daily Log'!#REF!,$B140,'Daily Log'!#REF!),0)","v":0},{"$f":"IFERROR($E140*SUMIF('Daily Log'!#REF!,$B140,'Daily Log'!#REF!),0)","v":0},{"$f":"IFERROR($E140*SUMIF('Daily Log'!#REF!,$B140,'Daily Log'!#REF!),0)","v":0},{"$f":"IFERROR($E140*SUMIF('Daily Log'!#REF!,$B140,'Daily Log'!#REF!),0)","v":0},{"$f":"IFERROR($E140*SUMIF('Daily Log'!#REF!,$B140,'Daily Log'!#REF!),0)","v":0},{"$f":"IFERROR($E140*SUMIF('Daily Log'!#REF!,$B140,'Daily Log'!#REF!),0)","v":0},{"$f":"IFERROR($E140*SUMIF('Daily Log'!#REF!,$B140,'Daily Log'!#REF!),0)","v":0},{"$f":"IFERROR($E140*SUMIF('Daily Log'!#REF!,$B140,'Daily Log'!#REF!),0)","v":0},{"$f":"IFERROR($E140*SUMIF('Daily Log'!#REF!,$B140,'Daily Log'!#REF!),0)","v":0},{"$f":"IFERROR($E140*SUMIF('Daily Log'!#REF!,$B140,'Daily Log'!#REF!),0)","v":0},{"$f":"IFERROR($E140*SUMIF('Daily Log'!#REF!,$B140,'Daily Log'!#REF!),0)","v":0},{"$f":"IFERROR($E140*SUMIF('Daily Log'!#REF!,$B140,'Daily Log'!#REF!),0)","v":0},{"$f":"IFERROR($E140*SUMIF('Daily Log'!#REF!,$B140,'Daily Log'!#REF!),0)","v":0},{"$f":"IFERROR($E140*SUMIF('Daily Log'!#REF!,$B140,'Daily Log'!#REF!),0)","v":0},{"$f":"IFERROR($E140*SUMIF('Daily Log'!#REF!,$B140,'Daily Log'!#REF!),0)","v":0},{"$f":"IFERROR($E140*SUMIF('Daily Log'!#REF!,$B140,'Daily Log'!#REF!),0)","v":0},{"$f":"IFERROR($E140*SUMIF('Daily Log'!#REF!,$B140,'Daily Log'!#REF!),0)","v":0},{"$f":"IFERROR($E140*SUMIF('Daily Log'!#REF!,$B140,'Daily Log'!#REF!),0)","v":0}]
[null,"AE13 M.BIG ROOM",null,null,null,0,{"$f":"IFERROR($E141*SUMIF('Daily Log'!$B$18:$B$1017,$B141,'Daily Log'!$C$18:$C$1017),0)","v":0},{"$f":"IFERROR($E141*SUMIF('Daily Log'!$E$18:$E$1017,$B141,'Daily Log'!$F$18:$F$1017),0)","v":0},{"$f":"IFERROR($E141*SUMIF('Daily Log'!$H$18:$H$1017,$B141,'Daily Log'!$I$18:$I$1017),0)","v":0},{"$f":"IFERROR($E141*SUMIF('Daily Log'!$K$18:$K$1017,$B141,'Daily Log'!$L$18:$L$1017),0)","v":0},{"$f":"IFERROR($E141*SUMIF('Daily Log'!$N$18:$N$1017,$B141,'Daily Log'!$O$18:$O$1017),0)","v":0},{"$f":"IFERROR($E141*SUMIF('Daily Log'!#REF!,$B141,'Daily Log'!#REF!),0)","v":0},{"$f":"IFERROR($E141*SUMIF('Daily Log'!#REF!,$B141,'Daily Log'!#REF!),0)","v":0},{"$f":"IFERROR($E141*SUMIF('Daily Log'!#REF!,$B141,'Daily Log'!#REF!),0)","v":0},{"$f":"IFERROR($E141*SUMIF('Daily Log'!#REF!,$B141,'Daily Log'!#REF!),0)","v":0},{"$f":"IFERROR($E141*SUMIF('Daily Log'!#REF!,$B141,'Daily Log'!#REF!),0)","v":0},{"$f":"IFERROR($E141*SUMIF('Daily Log'!#REF!,$B141,'Daily Log'!#REF!),0)","v":0},{"$f":"IFERROR($E141*SUMIF('Daily Log'!#REF!,$B141,'Daily Log'!#REF!),0)","v":0},{"$f":"IFERROR($E141*SUMIF('Daily Log'!#REF!,$B141,'Daily Log'!#REF!),0)","v":0},{"$f":"IFERROR($E141*SUMIF('Daily Log'!#REF!,$B141,'Daily Log'!#REF!),0)","v":0},{"$f":"IFERROR($E141*SUMIF('Daily Log'!#REF!,$B141,'Daily Log'!#REF!),0)","v":0},{"$f":"IFERROR($E141*SUMIF('Daily Log'!#REF!,$B141,'Daily Log'!#REF!),0)","v":0},{"$f":"IFERROR($E141*SUMIF('Daily Log'!#REF!,$B141,'Daily Log'!#REF!),0)","v":0},{"$f":"IFERROR($E141*SUMIF('Daily Log'!#REF!,$B141,'Daily Log'!#REF!),0)","v":0},{"$f":"IFERROR($E141*SUMIF('Daily Log'!#REF!,$B141,'Daily Log'!#REF!),0)","v":0},{"$f":"IFERROR($E141*SUMIF('Daily Log'!#REF!,$B141,'Daily Log'!#REF!),0)","v":0},{"$f":"IFERROR($E141*SUMIF('Daily Log'!#REF!,$B141,'Daily Log'!#REF!),0)","v":0},{"$f":"IFERROR($E141*SUMIF('Daily Log'!#REF!,$B141,'Daily Log'!#REF!),0)","v":0},{"$f":"IFERROR($E141*SUMIF('Daily Log'!#REF!,$B141,'Daily Log'!#REF!),0)","v":0},{"$f":"IFERROR($E141*SUMIF('Daily Log'!#REF!,$B141,'Daily Log'!#REF!),0)","v":0},{"$f":"IFERROR($E141*SUMIF('Daily Log'!#REF!,$B141,'Daily Log'!#REF!),0)","v":0},{"$f":"IFERROR($E141*SUMIF('Daily Log'!#REF!,$B141,'Daily Log'!#REF!),0)","v":0},{"$f":"IFERROR($E141*SUMIF('Daily Log'!#REF!,$B141,'Daily Log'!#REF!),0)","v":0},{"$f":"IFERROR($E141*SUMIF('Daily Log'!#REF!,$B141,'Daily Log'!#REF!),0)","v":0},{"$f":"IFERROR($E141*SUMIF('Daily Log'!#REF!,$B141,'Daily Log'!#REF!),0)","v":0},{"$f":"IFERROR($E141*SUMIF('Daily Log'!#REF!,$B141,'Daily Log'!#REF!),0)","v":0},{"$f":"IFERROR($E141*SUMIF('Daily Log'!#REF!,$B141,'Daily Log'!#REF!),0)","v":0}]
[null,"AE14 BIG ROOM",null,null,null,0,{"$f":"IFERROR($E142*SUMIF('Daily Log'!$B$18:$B$1017,$B142,'Daily Log'!$C$18:$C$1017),0)","v":0},{"$f":"IFERROR($E142*SUMIF('Daily Log'!$E$18:$E$1017,$B142,'Daily Log'!$F$18:$F$1017),0)","v":0},{"$f":"IFERROR($E142*SUMIF('Daily Log'!$H$18:$H$1017,$B142,'Daily Log'!$I$18:$I$1017),0)","v":0},{"$f":"IFERROR($E142*SUMIF('Daily Log'!$K$18:$K$1017,$B142,'Daily Log'!$L$18:$L$1017),0)","v":0},{"$f":"IFERROR($E142*SUMIF('Daily Log'!$N$18:$N$1017,$B142,'Daily Log'!$O$18:$O$1017),0)","v":0},{"$f":"IFERROR($E142*SUMIF('Daily Log'!#REF!,$B142,'Daily Log'!#REF!),0)","v":0},{"$f":"IFERROR($E142*SUMIF('Daily Log'!#REF!,$B142,'Daily Log'!#REF!),0)","v":0},{"$f":"IFERROR($E142*SUMIF('Daily Log'!#REF!,$B142,'Daily Log'!#REF!),0)","v":0},{"$f":"IFERROR($E142*SUMIF('Daily Log'!#REF!,$B142,'Daily Log'!#REF!),0)","v":0},{"$f":"IFERROR($E142*SUMIF('Daily Log'!#REF!,$B142,'Daily Log'!#REF!),0)","v":0},{"$f":"IFERROR($E142*SUMIF('Daily Log'!#REF!,$B142,'Daily Log'!#REF!),0)","v":0},{"$f":"IFERROR($E142*SUMIF('Daily Log'!#REF!,$B142,'Daily Log'!#REF!),0)","v":0},{"$f":"IFERROR($E142*SUMIF('Daily Log'!#REF!,$B142,'Daily Log'!#REF!),0)","v":0},{"$f":"IFERROR($E142*SUMIF('Daily Log'!#REF!,$B142,'Daily Log'!#REF!),0)","v":0},{"$f":"IFERROR($E142*SUMIF('Daily Log'!#REF!,$B142,'Daily Log'!#REF!),0)","v":0},{"$f":"IFERROR($E142*SUMIF('Daily Log'!#REF!,$B142,'Daily Log'!#REF!),0)","v":0},{"$f":"IFERROR($E142*SUMIF('Daily Log'!#REF!,$B142,'Daily Log'!#REF!),0)","v":0},{"$f":"IFERROR($E142*SUMIF('Daily Log'!#REF!,$B142,'Daily Log'!#REF!),0)","v":0},{"$f":"IFERROR($E142*SUMIF('Daily Log'!#REF!,$B142,'Daily Log'!#REF!),0)","v":0},{"$f":"IFERROR($E142*SUMIF('Daily Log'!#REF!,$B142,'Daily Log'!#REF!),0)","v":0},{"$f":"IFERROR($E142*SUMIF('Daily Log'!#REF!,$B142,'Daily Log'!#REF!),0)","v":0},{"$f":"IFERROR($E142*SUMIF('Daily Log'!#REF!,$B142,'Daily Log'!#REF!),0)","v":0},{"$f":"IFERROR($E142*SUMIF('Daily Log'!#REF!,$B142,'Daily Log'!#REF!),0)","v":0},{"$f":"IFERROR($E142*SUMIF('Daily Log'!#REF!,$B142,'Daily Log'!#REF!),0)","v":0},{"$f":"IFERROR($E142*SUMIF('Daily Log'!#REF!,$B142,'Daily Log'!#REF!),0)","v":0},{"$f":"IFERROR($E142*SUMIF('Daily Log'!#REF!,$B142,'Daily Log'!#REF!),0)","v":0},{"$f":"IFERROR($E142*SUMIF('Daily Log'!#REF!,$B142,'Daily Log'!#REF!),0)","v":0},{"$f":"IFERROR($E142*SUMIF('Daily Log'!#REF!,$B142,'Daily Log'!#REF!),0)","v":0},{"$f":"IFERROR($E142*SUMIF('Daily Log'!#REF!,$B142,'Daily Log'!#REF!),0)","v":0},{"$f":"IFERROR($E142*SUMIF('Daily Log'!#REF!,$B142,'Daily Log'!#REF!),0)","v":0},{"$f":"IFERROR($E142*SUMIF('Daily Log'!#REF!,$B142,'Daily Log'!#REF!),0)","v":0}]
[null,"AE15 VIP ROOM",null,null,null,0,{"$f":"IFERROR($E143*SUMIF('Daily Log'!$B$18:$B$1017,$B143,'Daily Log'!$C$18:$C$1017),0)","v":0},{"$f":"IFERROR($E143*SUMIF('Daily Log'!$E$18:$E$1017,$B143,'Daily Log'!$F$18:$F$1017),0)","v":0},{"$f":"IFERROR($E143*SUMIF('Daily Log'!$H$18:$H$1017,$B143,'Daily Log'!$I$18:$I$1017),0)","v":0},{"$f":"IFERROR($E143*SUMIF('Daily Log'!$K$18:$K$1017,$B143,'Daily Log'!$L$18:$L$1017),0)","v":0},{"$f":"IFERROR($E143*SUMIF('Daily Log'!$N$18:$N$1017,$B143,'Daily Log'!$O$18:$O$1017),0)","v":0},{"$f":"IFERROR($E143*SUMIF('Daily Log'!#REF!,$B143,'Daily Log'!#REF!),0)","v":0},{"$f":"IFERROR($E143*SUMIF('Daily Log'!#REF!,$B143,'Daily Log'!#REF!),0)","v":0},{"$f":"IFERROR($E143*SUMIF('Daily Log'!#REF!,$B143,'Daily Log'!#REF!),0)","v":0},{"$f":"IFERROR($E143*SUMIF('Daily Log'!#REF!,$B143,'Daily Log'!#REF!),0)","v":0},{"$f":"IFERROR($E143*SUMIF('Daily Log'!#REF!,$B143,'Daily Log'!#REF!),0)","v":0},{"$f":"IFERROR($E143*SUMIF('Daily Log'!#REF!,$B143,'Daily Log'!#REF!),0)","v":0},{"$f":"IFERROR($E143*SUMIF('Daily Log'!#REF!,$B143,'Daily Log'!#REF!),0)","v":0},{"$f":"IFERROR($E143*SUMIF('Daily Log'!#REF!,$B143,'Daily Log'!#REF!),0)","v":0},{"$f":"IFERROR($E143*SUMIF('Daily Log'!#REF!,$B143,'Daily Log'!#REF!),0)","v":0},{"$f":"IFERROR($E143*SUMIF('Daily Log'!#REF!,$B143,'Daily Log'!#REF!),0)","v":0},{"$f":"IFERROR($E143*SUMIF('Daily Log'!#REF!,$B143,'Daily Log'!#REF!),0)","v":0},{"$f":"IFERROR($E143*SUMIF('Daily Log'!#REF!,$B143,'Daily Log'!#REF!),0)","v":0},{"$f":"IFERROR($E143*SUMIF('Daily Log'!#REF!,$B143,'Daily Log'!#REF!),0)","v":0},{"$f":"IFERROR($E143*SUMIF('Daily Log'!#REF!,$B143,'Daily Log'!#REF!),0)","v":0},{"$f":"IFERROR($E143*SUMIF('Daily Log'!#REF!,$B143,'Daily Log'!#REF!),0)","v":0},{"$f":"IFERROR($E143*SUMIF('Daily Log'!#REF!,$B143,'Daily Log'!#REF!),0)","v":0},{"$f":"IFERROR($E143*SUMIF('Daily Log'!#REF!,$B143,'Daily Log'!#REF!),0)","v":0},{"$f":"IFERROR($E143*SUMIF('Daily Log'!#REF!,$B143,'Daily Log'!#REF!),0)","v":0},{"$f":"IFERROR($E143*SUMIF('Daily Log'!#REF!,$B143,'Daily Log'!#REF!),0)","v":0},{"$f":"IFERROR($E143*SUMIF('Daily Log'!#REF!,$B143,'Daily Log'!#REF!),0)","v":0},{"$f":"IFERROR($E143*SUMIF('Daily Log'!#REF!,$B143,'Daily Log'!#REF!),0)","v":0},{"$f":"IFERROR($E143*SUMIF('Daily Log'!#REF!,$B143,'Daily Log'!#REF!),0)","v":0},{"$f":"IFERROR($E143*SUMIF('Daily Log'!#REF!,$B143,'Daily Log'!#REF!),0)","v":0},{"$f":"IFERROR($E143*SUMIF('Daily Log'!#REF!,$B143,'Daily Log'!#REF!),0)","v":0},{"$f":"IFERROR($E143*SUMIF('Daily Log'!#REF!,$B143,'Daily Log'!#REF!),0)","v":0},{"$f":"IFERROR($E143*SUMIF('Daily Log'!#REF!,$B143,'Daily Log'!#REF!),0)","v":0}]
[null,"AE16 VVIP ROOM",null,null,null,0,{"$f":"IFERROR($E144*SUMIF('Daily Log'!$B$18:$B$1017,$B144,'Daily Log'!$C$18:$C$1017),0)","v":0},{"$f":"IFERROR($E144*SUMIF('Daily Log'!$E$18:$E$1017,$B144,'Daily Log'!$F$18:$F$1017),0)","v":0},{"$f":"IFERROR($E144*SUMIF('Daily Log'!$H$18:$H$1017,$B144,'Daily Log'!$I$18:$I$1017),0)","v":0},{"$f":"IFERROR($E144*SUMIF('Daily Log'!$K$18:$K$1017,$B144,'Daily Log'!$L$18:$L$1017),0)","v":0},{"$f":"IFERROR($E144*SUMIF('Daily Log'!$N$18:$N$1017,$B144,'Daily Log'!$O$18:$O$1017),0)","v":0},{"$f":"IFERROR($E144*SUMIF('Daily Log'!#REF!,$B144,'Daily Log'!#REF!),0)","v":0},{"$f":"IFERROR($E144*SUMIF('Daily Log'!#REF!,$B144,'Daily Log'!#REF!),0)","v":0},{"$f":"IFERROR($E144*SUMIF('Daily Log'!#REF!,$B144,'Daily Log'!#REF!),0)","v":0},{"$f":"IFERROR($E144*SUMIF('Daily Log'!#REF!,$B144,'Daily Log'!#REF!),0)","v":0},{"$f":"IFERROR($E144*SUMIF('Daily Log'!#REF!,$B144,'Daily Log'!#REF!),0)","v":0},{"$f":"IFERROR($E144*SUMIF('Daily Log'!#REF!,$B144,'Daily Log'!#REF!),0)","v":0},{"$f":"IFERROR($E144*SUMIF('Daily Log'!#REF!,$B144,'Daily Log'!#REF!),0)","v":0},{"$f":"IFERROR($E144*SUMIF('Daily Log'!#REF!,$B144,'Daily Log'!#REF!),0)","v":0},{"$f":"IFERROR($E144*SUMIF('Daily Log'!#REF!,$B144,'Daily Log'!#REF!),0)","v":0},{"$f":"IFERROR($E144*SUMIF('Daily Log'!#REF!,$B144,'Daily Log'!#REF!),0)","v":0},{"$f":"IFERROR($E144*SUMIF('Daily Log'!#REF!,$B144,'Daily Log'!#REF!),0)","v":0},{"$f":"IFERROR($E144*SUMIF('Daily Log'!#REF!,$B144,'Daily Log'!#REF!),0)","v":0},{"$f":"IFERROR($E144*SUMIF('Daily Log'!#REF!,$B144,'Daily Log'!#REF!),0)","v":0},{"$f":"IFERROR($E144*SUMIF('Daily Log'!#REF!,$B144,'Daily Log'!#REF!),0)","v":0},{"$f":"IFERROR($E144*SUMIF('Daily Log'!#REF!,$B144,'Daily Log'!#REF!),0)","v":0},{"$f":"IFERROR($E144*SUMIF('Daily Log'!#REF!,$B144,'Daily Log'!#REF!),0)","v":0},{"$f":"IFERROR($E144*SUMIF('Daily Log'!#REF!,$B144,'Daily Log'!#REF!),0)","v":0},{"$f":"IFERROR($E144*SUMIF('Daily Log'!#REF!,$B144,'Daily Log'!#REF!),0)","v":0},{"$f":"IFERROR($E144*SUMIF('Daily Log'!#REF!,$B144,'Daily Log'!#REF!),0)","v":0},{"$f":"IFERROR($E144*SUMIF('Daily Log'!#REF!,$B144,'Daily Log'!#REF!),0)","v":0},{"$f":"IFERROR($E144*SUMIF('Daily Log'!#REF!,$B144,'Daily Log'!#REF!),0)","v":0},{"$f":"IFERROR($E144*SUMIF('Daily Log'!#REF!,$B144,'Daily Log'!#REF!),0)","v":0},{"$f":"IFERROR($E144*SUMIF('Daily Log'!#REF!,$B144,'Daily Log'!#REF!),0)","v":0},{"$f":"IFERROR($E144*SUMIF('Daily Log'!#REF!,$B144,'Daily Log'!#REF!),0)","v":0},{"$f":"IFERROR($E144*SUMIF('Daily Log'!#REF!,$B144,'Daily Log'!#REF!),0)","v":0},{"$f":"IFERROR($E144*SUMIF('Daily Log'!#REF!,$B144,'Daily Log'!#REF!),0)","v":0}]
["","AE17 S.ROOM MEM",null,null,null,0,{"$f":"IFERROR($E145*SUMIF('Daily Log'!$B$18:$B$1017,$B145,'Daily Log'!$C$18:$C$1017),0)","v":0},{"$f":"IFERROR($E145*SUMIF('Daily Log'!$E$18:$E$1017,$B145,'Daily Log'!$F$18:$F$1017),0)","v":0},{"$f":"IFERROR($E145*SUMIF('Daily Log'!$H$18:$H$1017,$B145,'Daily Log'!$I$18:$I$1017),0)","v":0},{"$f":"IFERROR($E145*SUMIF('Daily Log'!$K$18:$K$1017,$B145,'Daily Log'!$L$18:$L$1017),0)","v":0},{"$f":"IFERROR($E145*SUMIF('Daily Log'!$N$18:$N$1017,$B145,'Daily Log'!$O$18:$O$1017),0)","v":0},{"$f":"IFERROR($E145*SUMIF('Daily Log'!#REF!,$B145,'Daily Log'!#REF!),0)","v":0},{"$f":"IFERROR($E145*SUMIF('Daily Log'!#REF!,$B145,'Daily Log'!#REF!),0)","v":0},{"$f":"IFERROR($E145*SUMIF('Daily Log'!#REF!,$B145,'Daily Log'!#REF!),0)","v":0},{"$f":"IFERROR($E145*SUMIF('Daily Log'!#REF!,$B145,'Daily Log'!#REF!),0)","v":0},{"$f":"IFERROR($E145*SUMIF('Daily Log'!#REF!,$B145,'Daily Log'!#REF!),0)","v":0},{"$f":"IFERROR($E145*SUMIF('Daily Log'!#REF!,$B145,'Daily Log'!#REF!),0)","v":0},{"$f":"IFERROR($E145*SUMIF('Daily Log'!#REF!,$B145,'Daily Log'!#REF!),0)","v":0},{"$f":"IFERROR($E145*SUMIF('Daily Log'!#REF!,$B145,'Daily Log'!#REF!),0)","v":0},{"$f":"IFERROR($E145*SUMIF('Daily Log'!#REF!,$B145,'Daily Log'!#REF!),0)","v":0},{"$f":"IFERROR($E145*SUMIF('Daily Log'!#REF!,$B145,'Daily Log'!#REF!),0)","v":0},{"$f":"IFERROR($E145*SUMIF('Daily Log'!#REF!,$B145,'Daily Log'!#REF!),0)","v":0},{"$f":"IFERROR($E145*SUMIF('Daily Log'!#REF!,$B145,'Daily Log'!#REF!),0)","v":0},{"$f":"IFERROR($E145*SUMIF('Daily Log'!#REF!,$B145,'Daily Log'!#REF!),0)","v":0},{"$f":"IFERROR($E145*SUMIF('Daily Log'!#REF!,$B145,'Daily Log'!#REF!),0)","v":0},{"$f":"IFERROR($E145*SUMIF('Daily Log'!#REF!,$B145,'Daily Log'!#REF!),0)","v":0},{"$f":"IFERROR($E145*SUMIF('Daily Log'!#REF!,$B145,'Daily Log'!#REF!),0)","v":0},{"$f":"IFERROR($E145*SUMIF('Daily Log'!#REF!,$B145,'Daily Log'!#REF!),0)","v":0},{"$f":"IFERROR($E145*SUMIF('Daily Log'!#REF!,$B145,'Daily Log'!#REF!),0)","v":0},{"$f":"IFERROR($E145*SUMIF('Daily Log'!#REF!,$B145,'Daily Log'!#REF!),0)","v":0},{"$f":"IFERROR($E145*SUMIF('Daily Log'!#REF!,$B145,'Daily Log'!#REF!),0)","v":0},{"$f":"IFERROR($E145*SUMIF('Daily Log'!#REF!,$B145,'Daily Log'!#REF!),0)","v":0},{"$f":"IFERROR($E145*SUMIF('Daily Log'!#REF!,$B145,'Daily Log'!#REF!),0)","v":0},{"$f":"IFERROR($E145*SUMIF('Daily Log'!#REF!,$B145,'Daily Log'!#REF!),0)","v":0},{"$f":"IFERROR($E145*SUMIF('Daily Log'!#REF!,$B145,'Daily Log'!#REF!),0)","v":0},{"$f":"IFERROR($E145*SUMIF('Daily Log'!#REF!,$B145,'Daily Log'!#REF!),0)","v":0},{"$f":"IFERROR($E145*SUMIF('Daily Log'!#REF!,$B145,'Daily Log'!#REF!),0)","v":0}]
[null,"AE18 M.ROOM MEM",null,null,null,0,{"$f":"IFERROR($E146*SUMIF('Daily Log'!$B$18:$B$1017,$B146,'Daily Log'!$C$18:$C$1017),0)","v":0},{"$f":"IFERROR($E146*SUMIF('Daily Log'!$E$18:$E$1017,$B146,'Daily Log'!$F$18:$F$1017),0)","v":0},{"$f":"IFERROR($E146*SUMIF('Daily Log'!$H$18:$H$1017,$B146,'Daily Log'!$I$18:$I$1017),0)","v":0},{"$f":"IFERROR($E146*SUMIF('Daily Log'!$K$18:$K$1017,$B146,'Daily Log'!$L$18:$L$1017),0)","v":0},{"$f":"IFERROR($E146*SUMIF('Daily Log'!$N$18:$N$1017,$B146,'Daily Log'!$O$18:$O$1017),0)","v":0},{"$f":"IFERROR($E146*SUMIF('Daily Log'!#REF!,$B146,'Daily Log'!#REF!),0)","v":0},{"$f":"IFERROR($E146*SUMIF('Daily Log'!#REF!,$B146,'Daily Log'!#REF!),0)","v":0},{"$f":"IFERROR($E146*SUMIF('Daily Log'!#REF!,$B146,'Daily Log'!#REF!),0)","v":0},{"$f":"IFERROR($E146*SUMIF('Daily Log'!#REF!,$B146,'Daily Log'!#REF!),0)","v":0},{"$f":"IFERROR($E146*SUMIF('Daily Log'!#REF!,$B146,'Daily Log'!#REF!),0)","v":0},{"$f":"IFERROR($E146*SUMIF('Daily Log'!#REF!,$B146,'Daily Log'!#REF!),0)","v":0},{"$f":"IFERROR($E146*SUMIF('Daily Log'!#REF!,$B146,'Daily Log'!#REF!),0)","v":0},{"$f":"IFERROR($E146*SUMIF('Daily Log'!#REF!,$B146,'Daily Log'!#REF!),0)","v":0},{"$f":"IFERROR($E146*SUMIF('Daily Log'!#REF!,$B146,'Daily Log'!#REF!),0)","v":0},{"$f":"IFERROR($E146*SUMIF('Daily Log'!#REF!,$B146,'Daily Log'!#REF!),0)","v":0},{"$f":"IFERROR($E146*SUMIF('Daily Log'!#REF!,$B146,'Daily Log'!#REF!),0)","v":0},{"$f":"IFERROR($E146*SUMIF('Daily Log'!#REF!,$B146,'Daily Log'!#REF!),0)","v":0},{"$f":"IFERROR($E146*SUMIF('Daily Log'!#REF!,$B146,'Daily Log'!#REF!),0)","v":0},{"$f":"IFERROR($E146*SUMIF('Daily Log'!#REF!,$B146,'Daily Log'!#REF!),0)","v":0},{"$f":"IFERROR($E146*SUMIF('Daily Log'!#REF!,$B146,'Daily Log'!#REF!),0)","v":0},{"$f":"IFERROR($E146*SUMIF('Daily Log'!#REF!,$B146,'Daily Log'!#REF!),0)","v":0},{"$f":"IFERROR($E146*SUMIF('Daily Log'!#REF!,$B146,'Daily Log'!#REF!),0)","v":0},{"$f":"IFERROR($E146*SUMIF('Daily Log'!#REF!,$B146,'Daily Log'!#REF!),0)","v":0},{"$f":"IFERROR($E146*SUMIF('Daily Log'!#REF!,$B146,'Daily Log'!#REF!),0)","v":0},{"$f":"IFERROR($E146*SUMIF('Daily Log'!#REF!,$B146,'Daily Log'!#REF!),0)","v":0},{"$f":"IFERROR($E146*SUMIF('Daily Log'!#REF!,$B146,'Daily Log'!#REF!),0)","v":0},{"$f":"IFERROR($E146*SUMIF('Daily Log'!#REF!,$B146,'Daily Log'!#REF!),0)","v":0},{"$f":"IFERROR($E146*SUMIF('Daily Log'!#REF!,$B146,'Daily Log'!#REF!),0)","v":0},{"$f":"IFERROR($E146*SUMIF('Daily Log'!#REF!,$B146,'Daily Log'!#REF!),0)","v":0},{"$f":"IFERROR($E146*SUMIF('Daily Log'!#REF!,$B146,'Daily Log'!#REF!),0)","v":0},{"$f":"IFERROR($E146*SUMIF('Daily Log'!#REF!,$B146,'Daily Log'!#REF!),0)","v":0}]
[null,"AE19 M BIG ROOM MEM",null,null,null,0,{"$f":"IFERROR($E147*SUMIF('Daily Log'!$B$18:$B$1017,$B147,'Daily Log'!$C$18:$C$1017),0)","v":0},{"$f":"IFERROR($E147*SUMIF('Daily Log'!$E$18:$E$1017,$B147,'Daily Log'!$F$18:$F$1017),0)","v":0},{"$f":"IFERROR($E147*SUMIF('Daily Log'!$H$18:$H$1017,$B147,'Daily Log'!$I$18:$I$1017),0)","v":0},{"$f":"IFERROR($E147*SUMIF('Daily Log'!$K$18:$K$1017,$B147,'Daily Log'!$L$18:$L$1017),0)","v":0},{"$f":"IFERROR($E147*SUMIF('Daily Log'!$N$18:$N$1017,$B147,'Daily Log'!$O$18:$O$1017),0)","v":0},{"$f":"IFERROR($E147*SUMIF('Daily Log'!#REF!,$B147,'Daily Log'!#REF!),0)","v":0},{"$f":"IFERROR($E147*SUMIF('Daily Log'!#REF!,$B147,'Daily Log'!#REF!),0)","v":0},{"$f":"IFERROR($E147*SUMIF('Daily Log'!#REF!,$B147,'Daily Log'!#REF!),0)","v":0},{"$f":"IFERROR($E147*SUMIF('Daily Log'!#REF!,$B147,'Daily Log'!#REF!),0)","v":0},{"$f":"IFERROR($E147*SUMIF('Daily Log'!#REF!,$B147,'Daily Log'!#REF!),0)","v":0},{"$f":"IFERROR($E147*SUMIF('Daily Log'!#REF!,$B147,'Daily Log'!#REF!),0)","v":0},{"$f":"IFERROR($E147*SUMIF('Daily Log'!#REF!,$B147,'Daily Log'!#REF!),0)","v":0},{"$f":"IFERROR($E147*SUMIF('Daily Log'!#REF!,$B147,'Daily Log'!#REF!),0)","v":0},{"$f":"IFERROR($E147*SUMIF('Daily Log'!#REF!,$B147,'Daily Log'!#REF!),0)","v":0},{"$f":"IFERROR($E147*SUMIF('Daily Log'!#REF!,$B147,'Daily Log'!#REF!),0)","v":0},{"$f":"IFERROR($E147*SUMIF('Daily Log'!#REF!,$B147,'Daily Log'!#REF!),0)","v":0},{"$f":"IFERROR($E147*SUMIF('Daily Log'!#REF!,$B147,'Daily Log'!#REF!),0)","v":0},{"$f":"IFERROR($E147*SUMIF('Daily Log'!#REF!,$B147,'Daily Log'!#REF!),0)","v":0},{"$f":"IFERROR($E147*SUMIF('Daily Log'!#REF!,$B147,'Daily Log'!#REF!),0)","v":0},{"$f":"IFERROR($E147*SUMIF('Daily Log'!#REF!,$B147,'Daily Log'!#REF!),0)","v":0},{"$f":"IFERROR($E147*SUMIF('Daily Log'!#REF!,$B147,'Daily Log'!#REF!),0)","v":0},{"$f":"IFERROR($E147*SUMIF('Daily Log'!#REF!,$B147,'Daily Log'!#REF!),0)","v":0},{"$f":"IFERROR($E147*SUMIF('Daily Log'!#REF!,$B147,'Daily Log'!#REF!),0)","v":0},{"$f":"IFERROR($E147*SUMIF('Daily Log'!#REF!,$B147,'Daily Log'!#REF!),0)","v":0},{"$f":"IFERROR($E147*SUMIF('Daily Log'!#REF!,$B147,'Daily Log'!#REF!),0)","v":0},{"$f":"IFERROR($E147*SUMIF('Daily Log'!#REF!,$B147,'Daily Log'!#REF!),0)","v":0},{"$f":"IFERROR($E147*SUMIF('Daily Log'!#REF!,$B147,'Daily Log'!#REF!),0)","v":0},{"$f":"IFERROR($E147*SUMIF('Daily Log'!#REF!,$B147,'Daily Log'!#REF!),0)","v":0},{"$f":"IFERROR($E147*SUMIF('Daily Log'!#REF!,$B147,'Daily Log'!#REF!),0)","v":0},{"$f":"IFERROR($E147*SUMIF('Daily Log'!#REF!,$B147,'Daily Log'!#REF!),0)","v":0},{"$f":"IFERROR($E147*SUMIF('Daily Log'!#REF!,$B147,'Daily Log'!#REF!),0)","v":0}]
[null,"AE20 BIG ROOM MEM",null,null,null,0,{"$f":"IFERROR($E148*SUMIF('Daily Log'!$B$18:$B$1017,$B148,'Daily Log'!$C$18:$C$1017),0)","v":0},{"$f":"IFERROR($E148*SUMIF('Daily Log'!$E$18:$E$1017,$B148,'Daily Log'!$F$18:$F$1017),0)","v":0},{"$f":"IFERROR($E148*SUMIF('Daily Log'!$H$18:$H$1017,$B148,'Daily Log'!$I$18:$I$1017),0)","v":0},{"$f":"IFERROR($E148*SUMIF('Daily Log'!$K$18:$K$1017,$B148,'Daily Log'!$L$18:$L$1017),0)","v":0},{"$f":"IFERROR($E148*SUMIF('Daily Log'!$N$18:$N$1017,$B148,'Daily Log'!$O$18:$O$1017),0)","v":0},{"$f":"IFERROR($E148*SUMIF('Daily Log'!#REF!,$B148,'Daily Log'!#REF!),0)","v":0},{"$f":"IFERROR($E148*SUMIF('Daily Log'!#REF!,$B148,'Daily Log'!#REF!),0)","v":0},{"$f":"IFERROR($E148*SUMIF('Daily Log'!#REF!,$B148,'Daily Log'!#REF!),0)","v":0},{"$f":"IFERROR($E148*SUMIF('Daily Log'!#REF!,$B148,'Daily Log'!#REF!),0)","v":0},{"$f":"IFERROR($E148*SUMIF('Daily Log'!#REF!,$B148,'Daily Log'!#REF!),0)","v":0},{"$f":"IFERROR($E148*SUMIF('Daily Log'!#REF!,$B148,'Daily Log'!#REF!),0)","v":0},{"$f":"IFERROR($E148*SUMIF('Daily Log'!#REF!,$B148,'Daily Log'!#REF!),0)","v":0},{"$f":"IFERROR($E148*SUMIF('Daily Log'!#REF!,$B148,'Daily Log'!#REF!),0)","v":0},{"$f":"IFERROR($E148*SUMIF('Daily Log'!#REF!,$B148,'Daily Log'!#REF!),0)","v":0},{"$f":"IFERROR($E148*SUMIF('Daily Log'!#REF!,$B148,'Daily Log'!#REF!),0)","v":0},{"$f":"IFERROR($E148*SUMIF('Daily Log'!#REF!,$B148,'Daily Log'!#REF!),0)","v":0},{"$f":"IFERROR($E148*SUMIF('Daily Log'!#REF!,$B148,'Daily Log'!#REF!),0)","v":0},{"$f":"IFERROR($E148*SUMIF('Daily Log'!#REF!,$B148,'Daily Log'!#REF!),0)","v":0},{"$f":"IFERROR($E148*SUMIF('Daily Log'!#REF!,$B148,'Daily Log'!#REF!),0)","v":0},{"$f":"IFERROR($E148*SUMIF('Daily Log'!#REF!,$B148,'Daily Log'!#REF!),0)","v":0},{"$f":"IFERROR($E148*SUMIF('Daily Log'!#REF!,$B148,'Daily Log'!#REF!),0)","v":0},{"$f":"IFERROR($E148*SUMIF('Daily Log'!#REF!,$B148,'Daily Log'!#REF!),0)","v":0},{"$f":"IFERROR($E148*SUMIF('Daily Log'!#REF!,$B148,'Daily Log'!#REF!),0)","v":0},{"$f":"IFERROR($E148*SUMIF('Daily Log'!#REF!,$B148,'Daily Log'!#REF!),0)","v":0},{"$f":"IFERROR($E148*SUMIF('Daily Log'!#REF!,$B148,'Daily Log'!#REF!),0)","v":0},{"$f":"IFERROR($E148*SUMIF('Daily Log'!#REF!,$B148,'Daily Log'!#REF!),0)","v":0},{"$f":"IFERROR($E148*SUMIF('Daily Log'!#REF!,$B148,'Daily Log'!#REF!),0)","v":0},{"$f":"IFERROR($E148*SUMIF('Daily Log'!#REF!,$B148,'Daily Log'!#REF!),0)","v":0},{"$f":"IFERROR($E148*SUMIF('Daily Log'!#REF!,$B148,'Daily Log'!#REF!),0)","v":0},{"$f":"IFERROR($E148*SUMIF('Daily Log'!#REF!,$B148,'Daily Log'!#REF!),0)","v":0},{"$f":"IFERROR($E148*SUMIF('Daily Log'!#REF!,$B148,'Daily Log'!#REF!),0)","v":0}]
[null,"AE21 VIP ROOM MEM",null,null,null,0,{"$f":"IFERROR($E149*SUMIF('Daily Log'!$B$18:$B$1017,$B149,'Daily Log'!$C$18:$C$1017),0)","v":0},{"$f":"IFERROR($E149*SUMIF('Daily Log'!$E$18:$E$1017,$B149,'Daily Log'!$F$18:$F$1017),0)","v":0},{"$f":"IFERROR($E149*SUMIF('Daily Log'!$H$18:$H$1017,$B149,'Daily Log'!$I$18:$I$1017),0)","v":0},{"$f":"IFERROR($E149*SUMIF('Daily Log'!$K$18:$K$1017,$B149,'Daily Log'!$L$18:$L$1017),0)","v":0},{"$f":"IFERROR($E149*SUMIF('Daily Log'!$N$18:$N$1017,$B149,'Daily Log'!$O$18:$O$1017),0)","v":0},{"$f":"IFERROR($E149*SUMIF('Daily Log'!#REF!,$B149,'Daily Log'!#REF!),0)","v":0},{"$f":"IFERROR($E149*SUMIF('Daily Log'!#REF!,$B149,'Daily Log'!#REF!),0)","v":0},{"$f":"IFERROR($E149*SUMIF('Daily Log'!#REF!,$B149,'Daily Log'!#REF!),0)","v":0},{"$f":"IFERROR($E149*SUMIF('Daily Log'!#REF!,$B149,'Daily Log'!#REF!),0)","v":0},{"$f":"IFERROR($E149*SUMIF('Daily Log'!#REF!,$B149,'Daily Log'!#REF!),0)","v":0},{"$f":"IFERROR($E149*SUMIF('Daily Log'!#REF!,$B149,'Daily Log'!#REF!),0)","v":0},{"$f":"IFERROR($E149*SUMIF('Daily Log'!#REF!,$B149,'Daily Log'!#REF!),0)","v":0},{"$f":"IFERROR($E149*SUMIF('Daily Log'!#REF!,$B149,'Daily Log'!#REF!),0)","v":0},{"$f":"IFERROR($E149*SUMIF('Daily Log'!#REF!,$B149,'Daily Log'!#REF!),0)","v":0},{"$f":"IFERROR($E149*SUMIF('Daily Log'!#REF!,$B149,'Daily Log'!#REF!),0)","v":0},{"$f":"IFERROR($E149*SUMIF('Daily Log'!#REF!,$B149,'Daily Log'!#REF!),0)","v":0},{"$f":"IFERROR($E149*SUMIF('Daily Log'!#REF!,$B149,'Daily Log'!#REF!),0)","v":0},{"$f":"IFERROR($E149*SUMIF('Daily Log'!#REF!,$B149,'Daily Log'!#REF!),0)","v":0},{"$f":"IFERROR($E149*SUMIF('Daily Log'!#REF!,$B149,'Daily Log'!#REF!),0)","v":0},{"$f":"IFERROR($E149*SUMIF('Daily Log'!#REF!,$B149,'Daily Log'!#REF!),0)","v":0},{"$f":"IFERROR($E149*SUMIF('Daily Log'!#REF!,$B149,'Daily Log'!#REF!),0)","v":0},{"$f":"IFERROR($E149*SUMIF('Daily Log'!#REF!,$B149,'Daily Log'!#REF!),0)","v":0},{"$f":"IFERROR($E149*SUMIF('Daily Log'!#REF!,$B149,'Daily Log'!#REF!),0)","v":0},{"$f":"IFERROR($E149*SUMIF('Daily Log'!#REF!,$B149,'Daily Log'!#REF!),0)","v":0},{"$f":"IFERROR($E149*SUMIF('Daily Log'!#REF!,$B149,'Daily Log'!#REF!),0)","v":0},{"$f":"IFERROR($E149*SUMIF('Daily Log'!#REF!,$B149,'Daily Log'!#REF!),0)","v":0},{"$f":"IFERROR($E149*SUMIF('Daily Log'!#REF!,$B149,'Daily Log'!#REF!),0)","v":0},{"$f":"IFERROR($E149*SUMIF('Daily Log'!#REF!,$B149,'Daily Log'!#REF!),0)","v":0},{"$f":"IFERROR($E149*SUMIF('Daily Log'!#REF!,$B149,'Daily Log'!#REF!),0)","v":0},{"$f":"IFERROR($E149*SUMIF('Daily Log'!#REF!,$B149,'Daily Log'!#REF!),0)","v":0},{"$f":"IFERROR($E149*SUMIF('Daily Log'!#REF!,$B149,'Daily Log'!#REF!),0)","v":0}]
[null,"AE22 VVIP ROOM MEM",null,null,null,0,{"$f":"IFERROR($E150*SUMIF('Daily Log'!$B$18:$B$1017,$B150,'Daily Log'!$C$18:$C$1017),0)","v":0},{"$f":"IFERROR($E150*SUMIF('Daily Log'!$E$18:$E$1017,$B150,'Daily Log'!$F$18:$F$1017),0)","v":0},{"$f":"IFERROR($E150*SUMIF('Daily Log'!$H$18:$H$1017,$B150,'Daily Log'!$I$18:$I$1017),0)","v":0},{"$f":"IFERROR($E150*SUMIF('Daily Log'!$K$18:$K$1017,$B150,'Daily Log'!$L$18:$L$1017),0)","v":0},{"$f":"IFERROR($E150*SUMIF('Daily Log'!$N$18:$N$1017,$B150,'Daily Log'!$O$18:$O$1017),0)","v":0},{"$f":"IFERROR($E150*SUMIF('Daily Log'!#REF!,$B150,'Daily Log'!#REF!),0)","v":0},{"$f":"IFERROR($E150*SUMIF('Daily Log'!#REF!,$B150,'Daily Log'!#REF!),0)","v":0},{"$f":"IFERROR($E150*SUMIF('Daily Log'!#REF!,$B150,'Daily Log'!#REF!),0)","v":0},{"$f":"IFERROR($E150*SUMIF('Daily Log'!#REF!,$B150,'Daily Log'!#REF!),0)","v":0},{"$f":"IFERROR($E150*SUMIF('Daily Log'!#REF!,$B150,'Daily Log'!#REF!),0)","v":0},{"$f":"IFERROR($E150*SUMIF('Daily Log'!#REF!,$B150,'Daily Log'!#REF!),0)","v":0},{"$f":"IFERROR($E150*SUMIF('Daily Log'!#REF!,$B150,'Daily Log'!#REF!),0)","v":0},{"$f":"IFERROR($E150*SUMIF('Daily Log'!#REF!,$B150,'Daily Log'!#REF!),0)","v":0},{"$f":"IFERROR($E150*SUMIF('Daily Log'!#REF!,$B150,'Daily Log'!#REF!),0)","v":0},{"$f":"IFERROR($E150*SUMIF('Daily Log'!#REF!,$B150,'Daily Log'!#REF!),0)","v":0},{"$f":"IFERROR($E150*SUMIF('Daily Log'!#REF!,$B150,'Daily Log'!#REF!),0)","v":0},{"$f":"IFERROR($E150*SUMIF('Daily Log'!#REF!,$B150,'Daily Log'!#REF!),0)","v":0},{"$f":"IFERROR($E150*SUMIF('Daily Log'!#REF!,$B150,'Daily Log'!#REF!),0)","v":0},{"$f":"IFERROR($E150*SUMIF('Daily Log'!#REF!,$B150,'Daily Log'!#REF!),0)","v":0},{"$f":"IFERROR($E150*SUMIF('Daily Log'!#REF!,$B150,'Daily Log'!#REF!),0)","v":0},{"$f":"IFERROR($E150*SUMIF('Daily Log'!#REF!,$B150,'Daily Log'!#REF!),0)","v":0},{"$f":"IFERROR($E150*SUMIF('Daily Log'!#REF!,$B150,'Daily Log'!#REF!),0)","v":0},{"$f":"IFERROR($E150*SUMIF('Daily Log'!#REF!,$B150,'Daily Log'!#REF!),0)","v":0},{"$f":"IFERROR($E150*SUMIF('Daily Log'!#REF!,$B150,'Daily Log'!#REF!),0)","v":0},{"$f":"IFERROR($E150*SUMIF('Daily Log'!#REF!,$B150,'Daily Log'!#REF!),0)","v":0},{"$f":"IFERROR($E150*SUMIF('Daily Log'!#REF!,$B150,'Daily Log'!#REF!),0)","v":0},{"$f":"IFERROR($E150*SUMIF('Daily Log'!#REF!,$B150,'Daily Log'!#REF!),0)","v":0},{"$f":"IFERROR($E150*SUMIF('Daily Log'!#REF!,$B150,'Daily Log'!#REF!),0)","v":0},{"$f":"IFERROR($E150*SUMIF('Daily Log'!#REF!,$B150,'Daily Log'!#REF!),0)","v":0},{"$f":"IFERROR($E150*SUMIF('Daily Log'!#REF!,$B150,'Daily Log'!#REF!),0)","v":0},{"$f":"IFERROR($E150*SUMIF('Daily Log'!#REF!,$B150,'Daily Log'!#REF!),0)","v":0}]
[null,"AE23 CNY HEAD CHARGE",null,null,null,0,{"$f":"IFERROR($E151*SUMIF('Daily Log'!$B$18:$B$1017,$B151,'Daily Log'!$C$18:$C$1017),0)","v":0},{"$f":"IFERROR($E151*SUMIF('Daily Log'!$E$18:$E$1017,$B151,'Daily Log'!$F$18:$F$1017),0)","v":0},{"$f":"IFERROR($E151*SUMIF('Daily Log'!$H$18:$H$1017,$B151,'Daily Log'!$I$18:$I$1017),0)","v":0},{"$f":"IFERROR($E151*SUMIF('Daily Log'!$K$18:$K$1017,$B151,'Daily Log'!$L$18:$L$1017),0)","v":0},{"$f":"IFERROR($E151*SUMIF('Daily Log'!$N$18:$N$1017,$B151,'Daily Log'!$O$18:$O$1017),0)","v":0},{"$f":"IFERROR($E151*SUMIF('Daily Log'!#REF!,$B151,'Daily Log'!#REF!),0)","v":0},{"$f":"IFERROR($E151*SUMIF('Daily Log'!#REF!,$B151,'Daily Log'!#REF!),0)","v":0},{"$f":"IFERROR($E151*SUMIF('Daily Log'!#REF!,$B151,'Daily Log'!#REF!),0)","v":0},{"$f":"IFERROR($E151*SUMIF('Daily Log'!#REF!,$B151,'Daily Log'!#REF!),0)","v":0},{"$f":"IFERROR($E151*SUMIF('Daily Log'!#REF!,$B151,'Daily Log'!#REF!),0)","v":0},{"$f":"IFERROR($E151*SUMIF('Daily Log'!#REF!,$B151,'Daily Log'!#REF!),0)","v":0},{"$f":"IFERROR($E151*SUMIF('Daily Log'!#REF!,$B151,'Daily Log'!#REF!),0)","v":0},{"$f":"IFERROR($E151*SUMIF('Daily Log'!#REF!,$B151,'Daily Log'!#REF!),0)","v":0},{"$f":"IFERROR($E151*SUMIF('Daily Log'!#REF!,$B151,'Daily Log'!#REF!),0)","v":0},{"$f":"IFERROR($E151*SUMIF('Daily Log'!#REF!,$B151,'Daily Log'!#REF!),0)","v":0},{"$f":"IFERROR($E151*SUMIF('Daily Log'!#REF!,$B151,'Daily Log'!#REF!),0)","v":0},{"$f":"IFERROR($E151*SUMIF('Daily Log'!#REF!,$B151,'Daily Log'!#REF!),0)","v":0},{"$f":"IFERROR($E151*SUMIF('Daily Log'!#REF!,$B151,'Daily Log'!#REF!),0)","v":0},{"$f":"IFERROR($E151*SUMIF('Daily Log'!#REF!,$B151,'Daily Log'!#REF!),0)","v":0},{"$f":"IFERROR($E151*SUMIF('Daily Log'!#REF!,$B151,'Daily Log'!#REF!),0)","v":0},{"$f":"IFERROR($E151*SUMIF('Daily Log'!#REF!,$B151,'Daily Log'!#REF!),0)","v":0},{"$f":"IFERROR($E151*SUMIF('Daily Log'!#REF!,$B151,'Daily Log'!#REF!),0)","v":0},{"$f":"IFERROR($E151*SUMIF('Daily Log'!#REF!,$B151,'Daily Log'!#REF!),0)","v":0},{"$f":"IFERROR($E151*SUMIF('Daily Log'!#REF!,$B151,'Daily Log'!#REF!),0)","v":0},{"$f":"IFERROR($E151*SUMIF('Daily Log'!#REF!,$B151,'Daily Log'!#REF!),0)","v":0},{"$f":"IFERROR($E151*SUMIF('Daily Log'!#REF!,$B151,'Daily Log'!#REF!),0)","v":0},{"$f":"IFERROR($E151*SUMIF('Daily Log'!#REF!,$B151,'Daily Log'!#REF!),0)","v":0},{"$f":"IFERROR($E151*SUMIF('Daily Log'!#REF!,$B151,'Daily Log'!#REF!),0)","v":0},{"$f":"IFERROR($E151*SUMIF('Daily Log'!#REF!,$B151,'Daily Log'!#REF!),0)","v":0},{"$f":"IFERROR($E151*SUMIF('Daily Log'!#REF!,$B151,'Daily Log'!#REF!),0)","v":0},{"$f":"IFERROR($E151*SUMIF('Daily Log'!#REF!,$B151,'Daily Log'!#REF!),0)","v":0}]
[null,"AE24 CNY HEAD MEM",null,null,null,0,{"$f":"IFERROR($E152*SUMIF('Daily Log'!$B$18:$B$1017,$B152,'Daily Log'!$C$18:$C$1017),0)","v":0},{"$f":"IFERROR($E152*SUMIF('Daily Log'!$E$18:$E$1017,$B152,'Daily Log'!$F$18:$F$1017),0)","v":0},{"$f":"IFERROR($E152*SUMIF('Daily Log'!$H$18:$H$1017,$B152,'Daily Log'!$I$18:$I$1017),0)","v":0},{"$f":"IFERROR($E152*SUMIF('Daily Log'!$K$18:$K$1017,$B152,'Daily Log'!$L$18:$L$1017),0)","v":0},{"$f":"IFERROR($E152*SUMIF('Daily Log'!$N$18:$N$1017,$B152,'Daily Log'!$O$18:$O$1017),0)","v":0},{"$f":"IFERROR($E152*SUMIF('Daily Log'!#REF!,$B152,'Daily Log'!#REF!),0)","v":0},{"$f":"IFERROR($E152*SUMIF('Daily Log'!#REF!,$B152,'Daily Log'!#REF!),0)","v":0},{"$f":"IFERROR($E152*SUMIF('Daily Log'!#REF!,$B152,'Daily Log'!#REF!),0)","v":0},{"$f":"IFERROR($E152*SUMIF('Daily Log'!#REF!,$B152,'Daily Log'!#REF!),0)","v":0},{"$f":"IFERROR($E152*SUMIF('Daily Log'!#REF!,$B152,'Daily Log'!#REF!),0)","v":0},{"$f":"IFERROR($E152*SUMIF('Daily Log'!#REF!,$B152,'Daily Log'!#REF!),0)","v":0},{"$f":"IFERROR($E152*SUMIF('Daily Log'!#REF!,$B152,'Daily Log'!#REF!),0)","v":0},{"$f":"IFERROR($E152*SUMIF('Daily Log'!#REF!,$B152,'Daily Log'!#REF!),0)","v":0},{"$f":"IFERROR($E152*SUMIF('Daily Log'!#REF!,$B152,'Daily Log'!#REF!),0)","v":0},{"$f":"IFERROR($E152*SUMIF('Daily Log'!#REF!,$B152,'Daily Log'!#REF!),0)","v":0},{"$f":"IFERROR($E152*SUMIF('Daily Log'!#REF!,$B152,'Daily Log'!#REF!),0)","v":0},{"$f":"IFERROR($E152*SUMIF('Daily Log'!#REF!,$B152,'Daily Log'!#REF!),0)","v":0},{"$f":"IFERROR($E152*SUMIF('Daily Log'!#REF!,$B152,'Daily Log'!#REF!),0)","v":0},{"$f":"IFERROR($E152*SUMIF('Daily Log'!#REF!,$B152,'Daily Log'!#REF!),0)","v":0},{"$f":"IFERROR($E152*SUMIF('Daily Log'!#REF!,$B152,'Daily Log'!#REF!),0)","v":0},{"$f":"IFERROR($E152*SUMIF('Daily Log'!#REF!,$B152,'Daily Log'!#REF!),0)","v":0},{"$f":"IFERROR($E152*SUMIF('Daily Log'!#REF!,$B152,'Daily Log'!#REF!),0)","v":0},{"$f":"IFERROR($E152*SUMIF('Daily Log'!#REF!,$B152,'Daily Log'!#REF!),0)","v":0},{"$f":"IFERROR($E152*SUMIF('Daily Log'!#REF!,$B152,'Daily Log'!#REF!),0)","v":0},{"$f":"IFERROR($E152*SUMIF('Daily Log'!#REF!,$B152,'Daily Log'!#REF!),0)","v":0},{"$f":"IFERROR($E152*SUMIF('Daily Log'!#REF!,$B152,'Daily Log'!#REF!),0)","v":0},{"$f":"IFERROR($E152*SUMIF('Daily Log'!#REF!,$B152,'Daily Log'!#REF!),0)","v":0},{"$f":"IFERROR($E152*SUMIF('Daily Log'!#REF!,$B152,'Daily Log'!#REF!),0)","v":0},{"$f":"IFERROR($E152*SUMIF('Daily Log'!#REF!,$B152,'Daily Log'!#REF!),0)","v":0},{"$f":"IFERROR($E152*SUMIF('Daily Log'!#REF!,$B152,'Daily Log'!#REF!),0)","v":0},{"$f":"IFERROR($E152*SUMIF('Daily Log'!#REF!,$B152,'Daily Log'!#REF!),0)","v":0}]
[null,"AE25 CNY LUNCH PLATER",null,null,null,0,{"$f":"IFERROR($E153*SUMIF('Daily Log'!$B$18:$B$1017,$B153,'Daily Log'!$C$18:$C$1017),0)","v":0},{"$f":"IFERROR($E153*SUMIF('Daily Log'!$E$18:$E$1017,$B153,'Daily Log'!$F$18:$F$1017),0)","v":0},{"$f":"IFERROR($E153*SUMIF('Daily Log'!$H$18:$H$1017,$B153,'Daily Log'!$I$18:$I$1017),0)","v":0},{"$f":"IFERROR($E153*SUMIF('Daily Log'!$K$18:$K$1017,$B153,'Daily Log'!$L$18:$L$1017),0)","v":0},{"$f":"IFERROR($E153*SUMIF('Daily Log'!$N$18:$N$1017,$B153,'Daily Log'!$O$18:$O$1017),0)","v":0},{"$f":"IFERROR($E153*SUMIF('Daily Log'!#REF!,$B153,'Daily Log'!#REF!),0)","v":0},{"$f":"IFERROR($E153*SUMIF('Daily Log'!#REF!,$B153,'Daily Log'!#REF!),0)","v":0},{"$f":"IFERROR($E153*SUMIF('Daily Log'!#REF!,$B153,'Daily Log'!#REF!),0)","v":0},{"$f":"IFERROR($E153*SUMIF('Daily Log'!#REF!,$B153,'Daily Log'!#REF!),0)","v":0},{"$f":"IFERROR($E153*SUMIF('Daily Log'!#REF!,$B153,'Daily Log'!#REF!),0)","v":0},{"$f":"IFERROR($E153*SUMIF('Daily Log'!#REF!,$B153,'Daily Log'!#REF!),0)","v":0},{"$f":"IFERROR($E153*SUMIF('Daily Log'!#REF!,$B153,'Daily Log'!#REF!),0)","v":0},{"$f":"IFERROR($E153*SUMIF('Daily Log'!#REF!,$B153,'Daily Log'!#REF!),0)","v":0},{"$f":"IFERROR($E153*SUMIF('Daily Log'!#REF!,$B153,'Daily Log'!#REF!),0)","v":0},{"$f":"IFERROR($E153*SUMIF('Daily Log'!#REF!,$B153,'Daily Log'!#REF!),0)","v":0},{"$f":"IFERROR($E153*SUMIF('Daily Log'!#REF!,$B153,'Daily Log'!#REF!),0)","v":0},{"$f":"IFERROR($E153*SUMIF('Daily Log'!#REF!,$B153,'Daily Log'!#REF!),0)","v":0},{"$f":"IFERROR($E153*SUMIF('Daily Log'!#REF!,$B153,'Daily Log'!#REF!),0)","v":0},{"$f":"IFERROR($E153*SUMIF('Daily Log'!#REF!,$B153,'Daily Log'!#REF!),0)","v":0},{"$f":"IFERROR($E153*SUMIF('Daily Log'!#REF!,$B153,'Daily Log'!#REF!),0)","v":0},{"$f":"IFERROR($E153*SUMIF('Daily Log'!#REF!,$B153,'Daily Log'!#REF!),0)","v":0},{"$f":"IFERROR($E153*SUMIF('Daily Log'!#REF!,$B153,'Daily Log'!#REF!),0)","v":0},{"$f":"IFERROR($E153*SUMIF('Daily Log'!#REF!,$B153,'Daily Log'!#REF!),0)","v":0},{"$f":"IFERROR($E153*SUMIF('Daily Log'!#REF!,$B153,'Daily Log'!#REF!),0)","v":0},{"$f":"IFERROR($E153*SUMIF('Daily Log'!#REF!,$B153,'Daily Log'!#REF!),0)","v":0},{"$f":"IFERROR($E153*SUMIF('Daily Log'!#REF!,$B153,'Daily Log'!#REF!),0)","v":0},{"$f":"IFERROR($E153*SUMIF('Daily Log'!#REF!,$B153,'Daily Log'!#REF!),0)","v":0},{"$f":"IFERROR($E153*SUMIF('Daily Log'!#REF!,$B153,'Daily Log'!#REF!),0)","v":0},{"$f":"IFERROR($E153*SUMIF('Daily Log'!#REF!,$B153,'Daily Log'!#REF!),0)","v":0},{"$f":"IFERROR($E153*SUMIF('Daily Log'!#REF!,$B153,'Daily Log'!#REF!),0)","v":0},{"$f":"IFERROR($E153*SUMIF('Daily Log'!#REF!,$B153,'Daily Log'!#REF!),0)","v":0}]
[null,"AE26 CNY BEER PLATER",null,null,null,0,{"$f":"IFERROR($E154*SUMIF('Daily Log'!$B$18:$B$1017,$B154,'Daily Log'!$C$18:$C$1017),0)","v":0},{"$f":"IFERROR($E154*SUMIF('Daily Log'!$E$18:$E$1017,$B154,'Daily Log'!$F$18:$F$1017),0)","v":0},{"$f":"IFERROR($E154*SUMIF('Daily Log'!$H$18:$H$1017,$B154,'Daily Log'!$I$18:$I$1017),0)","v":0},{"$f":"IFERROR($E154*SUMIF('Daily Log'!$K$18:$K$1017,$B154,'Daily Log'!$L$18:$L$1017),0)","v":0},{"$f":"IFERROR($E154*SUMIF('Daily Log'!$N$18:$N$1017,$B154,'Daily Log'!$O$18:$O$1017),0)","v":0},{"$f":"IFERROR($E154*SUMIF('Daily Log'!#REF!,$B154,'Daily Log'!#REF!),0)","v":0},{"$f":"IFERROR($E154*SUMIF('Daily Log'!#REF!,$B154,'Daily Log'!#REF!),0)","v":0},{"$f":"IFERROR($E154*SUMIF('Daily Log'!#REF!,$B154,'Daily Log'!#REF!),0)","v":0},{"$f":"IFERROR($E154*SUMIF('Daily Log'!#REF!,$B154,'Daily Log'!#REF!),0)","v":0},{"$f":"IFERROR($E154*SUMIF('Daily Log'!#REF!,$B154,'Daily Log'!#REF!),0)","v":0},{"$f":"IFERROR($E154*SUMIF('Daily Log'!#REF!,$B154,'Daily Log'!#REF!),0)","v":0},{"$f":"IFERROR($E154*SUMIF('Daily Log'!#REF!,$B154,'Daily Log'!#REF!),0)","v":0},{"$f":"IFERROR($E154*SUMIF('Daily Log'!#REF!,$B154,'Daily Log'!#REF!),0)","v":0},{"$f":"IFERROR($E154*SUMIF('Daily Log'!#REF!,$B154,'Daily Log'!#REF!),0)","v":0},{"$f":"IFERROR($E154*SUMIF('Daily Log'!#REF!,$B154,'Daily Log'!#REF!),0)","v":0},{"$f":"IFERROR($E154*SUMIF('Daily Log'!#REF!,$B154,'Daily Log'!#REF!),0)","v":0},{"$f":"IFERROR($E154*SUMIF('Daily Log'!#REF!,$B154,'Daily Log'!#REF!),0)","v":0},{"$f":"IFERROR($E154*SUMIF('Daily Log'!#REF!,$B154,'Daily Log'!#REF!),0)","v":0},{"$f":"IFERROR($E154*SUMIF('Daily Log'!#REF!,$B154,'Daily Log'!#REF!),0)","v":0},{"$f":"IFERROR($E154*SUMIF('Daily Log'!#REF!,$B154,'Daily Log'!#REF!),0)","v":0},{"$f":"IFERROR($E154*SUMIF('Daily Log'!#REF!,$B154,'Daily Log'!#REF!),0)","v":0},{"$f":"IFERROR($E154*SUMIF('Daily Log'!#REF!,$B154,'Daily Log'!#REF!),0)","v":0},{"$f":"IFERROR($E154*SUMIF('Daily Log'!#REF!,$B154,'Daily Log'!#REF!),0)","v":0},{"$f":"IFERROR($E154*SUMIF('Daily Log'!#REF!,$B154,'Daily Log'!#REF!),0)","v":0},{"$f":"IFERROR($E154*SUMIF('Daily Log'!#REF!,$B154,'Daily Log'!#REF!),0)","v":0},{"$f":"IFERROR($E154*SUMIF('Daily Log'!#REF!,$B154,'Daily Log'!#REF!),0)","v":0},{"$f":"IFERROR($E154*SUMIF('Daily Log'!#REF!,$B154,'Daily Log'!#REF!),0)","v":0},{"$f":"IFERROR($E154*SUMIF('Daily Log'!#REF!,$B154,'Daily Log'!#REF!),0)","v":0},{"$f":"IFERROR($E154*SUMIF('Daily Log'!#REF!,$B154,'Daily Log'!#REF!),0)","v":0},{"$f":"IFERROR($E154*SUMIF('Daily Log'!#REF!,$B154,'Daily Log'!#REF!),0)","v":0},{"$f":"IFERROR($E154*SUMIF('Daily Log'!#REF!,$B154,'Daily Log'!#REF!),0)","v":0}]
[null,"AE28 S. XTD ROOM",null,null,null,0,{"$f":"IFERROR($E155*SUMIF('Daily Log'!$B$18:$B$1017,$B155,'Daily Log'!$C$18:$C$1017),0)","v":0},{"$f":"IFERROR($E155*SUMIF('Daily Log'!$E$18:$E$1017,$B155,'Daily Log'!$F$18:$F$1017),0)","v":0},{"$f":"IFERROR($E155*SUMIF('Daily Log'!$H$18:$H$1017,$B155,'Daily Log'!$I$18:$I$1017),0)","v":0},{"$f":"IFERROR($E155*SUMIF('Daily Log'!$K$18:$K$1017,$B155,'Daily Log'!$L$18:$L$1017),0)","v":0},{"$f":"IFERROR($E155*SUMIF('Daily Log'!$N$18:$N$1017,$B155,'Daily Log'!$O$18:$O$1017),0)","v":0},{"$f":"IFERROR($E155*SUMIF('Daily Log'!#REF!,$B155,'Daily Log'!#REF!),0)","v":0},{"$f":"IFERROR($E155*SUMIF('Daily Log'!#REF!,$B155,'Daily Log'!#REF!),0)","v":0},{"$f":"IFERROR($E155*SUMIF('Daily Log'!#REF!,$B155,'Daily Log'!#REF!),0)","v":0},{"$f":"IFERROR($E155*SUMIF('Daily Log'!#REF!,$B155,'Daily Log'!#REF!),0)","v":0},{"$f":"IFERROR($E155*SUMIF('Daily Log'!#REF!,$B155,'Daily Log'!#REF!),0)","v":0},{"$f":"IFERROR($E155*SUMIF('Daily Log'!#REF!,$B155,'Daily Log'!#REF!),0)","v":0},{"$f":"IFERROR($E155*SUMIF('Daily Log'!#REF!,$B155,'Daily Log'!#REF!),0)","v":0},{"$f":"IFERROR($E155*SUMIF('Daily Log'!#REF!,$B155,'Daily Log'!#REF!),0)","v":0},{"$f":"IFERROR($E155*SUMIF('Daily Log'!#REF!,$B155,'Daily Log'!#REF!),0)","v":0},{"$f":"IFERROR($E155*SUMIF('Daily Log'!#REF!,$B155,'Daily Log'!#REF!),0)","v":0},{"$f":"IFERROR($E155*SUMIF('Daily Log'!#REF!,$B155,'Daily Log'!#REF!),0)","v":0},{"$f":"IFERROR($E155*SUMIF('Daily Log'!#REF!,$B155,'Daily Log'!#REF!),0)","v":0},{"$f":"IFERROR($E155*SUMIF('Daily Log'!#REF!,$B155,'Daily Log'!#REF!),0)","v":0},{"$f":"IFERROR($E155*SUMIF('Daily Log'!#REF!,$B155,'Daily Log'!#REF!),0)","v":0},{"$f":"IFERROR($E155*SUMIF('Daily Log'!#REF!,$B155,'Daily Log'!#REF!),0)","v":0},{"$f":"IFERROR($E155*SUMIF('Daily Log'!#REF!,$B155,'Daily Log'!#REF!),0)","v":0},{"$f":"IFERROR($E155*SUMIF('Daily Log'!#REF!,$B155,'Daily Log'!#REF!),0)","v":0},{"$f":"IFERROR($E155*SUMIF('Daily Log'!#REF!,$B155,'Daily Log'!#REF!),0)","v":0},{"$f":"IFERROR($E155*SUMIF('Daily Log'!#REF!,$B155,'Daily Log'!#REF!),0)","v":0},{"$f":"IFERROR($E155*SUMIF('Daily Log'!#REF!,$B155,'Daily Log'!#REF!),0)","v":0},{"$f":"IFERROR($E155*SUMIF('Daily Log'!#REF!,$B155,'Daily Log'!#REF!),0)","v":0},{"$f":"IFERROR($E155*SUMIF('Daily Log'!#REF!,$B155,'Daily Log'!#REF!),0)","v":0},{"$f":"IFERROR($E155*SUMIF('Daily Log'!#REF!,$B155,'Daily Log'!#REF!),0)","v":0},{"$f":"IFERROR($E155*SUMIF('Daily Log'!#REF!,$B155,'Daily Log'!#REF!),0)","v":0},{"$f":"IFERROR($E155*SUMIF('Daily Log'!#REF!,$B155,'Daily Log'!#REF!),0)","v":0},{"$f":"IFERROR($E155*SUMIF('Daily Log'!#REF!,$B155,'Daily Log'!#REF!),0)","v":0}]
[null,"AE29 M. XTD ROOM",null,null,null,0,{"$f":"IFERROR($E156*SUMIF('Daily Log'!$B$18:$B$1017,$B156,'Daily Log'!$C$18:$C$1017),0)","v":0},{"$f":"IFERROR($E156*SUMIF('Daily Log'!$E$18:$E$1017,$B156,'Daily Log'!$F$18:$F$1017),0)","v":0},{"$f":"IFERROR($E156*SUMIF('Daily Log'!$H$18:$H$1017,$B156,'Daily Log'!$I$18:$I$1017),0)","v":0},{"$f":"IFERROR($E156*SUMIF('Daily Log'!$K$18:$K$1017,$B156,'Daily Log'!$L$18:$L$1017),0)","v":0},{"$f":"IFERROR($E156*SUMIF('Daily Log'!$N$18:$N$1017,$B156,'Daily Log'!$O$18:$O$1017),0)","v":0},{"$f":"IFERROR($E156*SUMIF('Daily Log'!#REF!,$B156,'Daily Log'!#REF!),0)","v":0},{"$f":"IFERROR($E156*SUMIF('Daily Log'!#REF!,$B156,'Daily Log'!#REF!),0)","v":0},{"$f":"IFERROR($E156*SUMIF('Daily Log'!#REF!,$B156,'Daily Log'!#REF!),0)","v":0},{"$f":"IFERROR($E156*SUMIF('Daily Log'!#REF!,$B156,'Daily Log'!#REF!),0)","v":0},{"$f":"IFERROR($E156*SUMIF('Daily Log'!#REF!,$B156,'Daily Log'!#REF!),0)","v":0},{"$f":"IFERROR($E156*SUMIF('Daily Log'!#REF!,$B156,'Daily Log'!#REF!),0)","v":0},{"$f":"IFERROR($E156*SUMIF('Daily Log'!#REF!,$B156,'Daily Log'!#REF!),0)","v":0},{"$f":"IFERROR($E156*SUMIF('Daily Log'!#REF!,$B156,'Daily Log'!#REF!),0)","v":0},{"$f":"IFERROR($E156*SUMIF('Daily Log'!#REF!,$B156,'Daily Log'!#REF!),0)","v":0},{"$f":"IFERROR($E156*SUMIF('Daily Log'!#REF!,$B156,'Daily Log'!#REF!),0)","v":0},{"$f":"IFERROR($E156*SUMIF('Daily Log'!#REF!,$B156,'Daily Log'!#REF!),0)","v":0},{"$f":"IFERROR($E156*SUMIF('Daily Log'!#REF!,$B156,'Daily Log'!#REF!),0)","v":0},{"$f":"IFERROR($E156*SUMIF('Daily Log'!#REF!,$B156,'Daily Log'!#REF!),0)","v":0},{"$f":"IFERROR($E156*SUMIF('Daily Log'!#REF!,$B156,'Daily Log'!#REF!),0)","v":0},{"$f":"IFERROR($E156*SUMIF('Daily Log'!#REF!,$B156,'Daily Log'!#REF!),0)","v":0},{"$f":"IFERROR($E156*SUMIF('Daily Log'!#REF!,$B156,'Daily Log'!#REF!),0)","v":0},{"$f":"IFERROR($E156*SUMIF('Daily Log'!#REF!,$B156,'Daily Log'!#REF!),0)","v":0},{"$f":"IFERROR($E156*SUMIF('Daily Log'!#REF!,$B156,'Daily Log'!#REF!),0)","v":0},{"$f":"IFERROR($E156*SUMIF('Daily Log'!#REF!,$B156,'Daily Log'!#REF!),0)","v":0},{"$f":"IFERROR($E156*SUMIF('Daily Log'!#REF!,$B156,'Daily Log'!#REF!),0)","v":0},{"$f":"IFERROR($E156*SUMIF('Daily Log'!#REF!,$B156,'Daily Log'!#REF!),0)","v":0},{"$f":"IFERROR($E156*SUMIF('Daily Log'!#REF!,$B156,'Daily Log'!#REF!),0)","v":0},{"$f":"IFERROR($E156*SUMIF('Daily Log'!#REF!,$B156,'Daily Log'!#REF!),0)","v":0},{"$f":"IFERROR($E156*SUMIF('Daily Log'!#REF!,$B156,'Daily Log'!#REF!),0)","v":0},{"$f":"IFERROR($E156*SUMIF('Daily Log'!#REF!,$B156,'Daily Log'!#REF!),0)","v":0},{"$f":"IFERROR($E156*SUMIF('Daily Log'!#REF!,$B156,'Daily Log'!#REF!),0)","v":0}]
[null,"AE30 M.BIG XTD ROOM",null,null,null,0,{"$f":"IFERROR($E157*SUMIF('Daily Log'!$B$18:$B$1017,$B157,'Daily Log'!$C$18:$C$1017),0)","v":0},{"$f":"IFERROR($E157*SUMIF('Daily Log'!$E$18:$E$1017,$B157,'Daily Log'!$F$18:$F$1017),0)","v":0},{"$f":"IFERROR($E157*SUMIF('Daily Log'!$H$18:$H$1017,$B157,'Daily Log'!$I$18:$I$1017),0)","v":0},{"$f":"IFERROR($E157*SUMIF('Daily Log'!$K$18:$K$1017,$B157,'Daily Log'!$L$18:$L$1017),0)","v":0},{"$f":"IFERROR($E157*SUMIF('Daily Log'!$N$18:$N$1017,$B157,'Daily Log'!$O$18:$O$1017),0)","v":0},{"$f":"IFERROR($E157*SUMIF('Daily Log'!#REF!,$B157,'Daily Log'!#REF!),0)","v":0},{"$f":"IFERROR($E157*SUMIF('Daily Log'!#REF!,$B157,'Daily Log'!#REF!),0)","v":0},{"$f":"IFERROR($E157*SUMIF('Daily Log'!#REF!,$B157,'Daily Log'!#REF!),0)","v":0},{"$f":"IFERROR($E157*SUMIF('Daily Log'!#REF!,$B157,'Daily Log'!#REF!),0)","v":0},{"$f":"IFERROR($E157*SUMIF('Daily Log'!#REF!,$B157,'Daily Log'!#REF!),0)","v":0},{"$f":"IFERROR($E157*SUMIF('Daily Log'!#REF!,$B157,'Daily Log'!#REF!),0)","v":0},{"$f":"IFERROR($E157*SUMIF('Daily Log'!#REF!,$B157,'Daily Log'!#REF!),0)","v":0},{"$f":"IFERROR($E157*SUMIF('Daily Log'!#REF!,$B157,'Daily Log'!#REF!),0)","v":0},{"$f":"IFERROR($E157*SUMIF('Daily Log'!#REF!,$B157,'Daily Log'!#REF!),0)","v":0},{"$f":"IFERROR($E157*SUMIF('Daily Log'!#REF!,$B157,'Daily Log'!#REF!),0)","v":0},{"$f":"IFERROR($E157*SUMIF('Daily Log'!#REF!,$B157,'Daily Log'!#REF!),0)","v":0},{"$f":"IFERROR($E157*SUMIF('Daily Log'!#REF!,$B157,'Daily Log'!#REF!),0)","v":0},{"$f":"IFERROR($E157*SUMIF('Daily Log'!#REF!,$B157,'Daily Log'!#REF!),0)","v":0},{"$f":"IFERROR($E157*SUMIF('Daily Log'!#REF!,$B157,'Daily Log'!#REF!),0)","v":0},{"$f":"IFERROR($E157*SUMIF('Daily Log'!#REF!,$B157,'Daily Log'!#REF!),0)","v":0},{"$f":"IFERROR($E157*SUMIF('Daily Log'!#REF!,$B157,'Daily Log'!#REF!),0)","v":0},{"$f":"IFERROR($E157*SUMIF('Daily Log'!#REF!,$B157,'Daily Log'!#REF!),0)","v":0},{"$f":"IFERROR($E157*SUMIF('Daily Log'!#REF!,$B157,'Daily Log'!#REF!),0)","v":0},{"$f":"IFERROR($E157*SUMIF('Daily Log'!#REF!,$B157,'Daily Log'!#REF!),0)","v":0},{"$f":"IFERROR($E157*SUMIF('Daily Log'!#REF!,$B157,'Daily Log'!#REF!),0)","v":0},{"$f":"IFERROR($E157*SUMIF('Daily Log'!#REF!,$B157,'Daily Log'!#REF!),0)","v":0},{"$f":"IFERROR($E157*SUMIF('Daily Log'!#REF!,$B157,'Daily Log'!#REF!),0)","v":0},{"$f":"IFERROR($E157*SUMIF('Daily Log'!#REF!,$B157,'Daily Log'!#REF!),0)","v":0},{"$f":"IFERROR($E157*SUMIF('Daily Log'!#REF!,$B157,'Daily Log'!#REF!),0)","v":0},{"$f":"IFERROR($E157*SUMIF('Daily Log'!#REF!,$B157,'Daily Log'!#REF!),0)","v":0},{"$f":"IFERROR($E157*SUMIF('Daily Log'!#REF!,$B157,'Daily Log'!#REF!),0)","v":0}]
[null,"AE31 BIG XTD ROOM",null,null,null,{"$f":"SUM($G158:$AK158)","v":0},{"$f":"IFERROR($E158*SUMIF('Daily Log'!$B$18:$B$1017,$B158,'Daily Log'!$C$18:$C$1017),0)","v":0},{"$f":"IFERROR($E158*SUMIF('Daily Log'!$E$18:$E$1017,$B158,'Daily Log'!$F$18:$F$1017),0)","v":0},{"$f":"IFERROR($E158*SUMIF('Daily Log'!$H$18:$H$1017,$B158,'Daily Log'!$I$18:$I$1017),0)","v":0},{"$f":"IFERROR($E158*SUMIF('Daily Log'!$K$18:$K$1017,$B158,'Daily Log'!$L$18:$L$1017),0)","v":0},{"$f":"IFERROR($E158*SUMIF('Daily Log'!$N$18:$N$1017,$B158,'Daily Log'!$O$18:$O$1017),0)","v":0},{"$f":"IFERROR($E158*SUMIF('Daily Log'!#REF!,$B158,'Daily Log'!#REF!),0)","v":0},{"$f":"IFERROR($E158*SUMIF('Daily Log'!#REF!,$B158,'Daily Log'!#REF!),0)","v":0},{"$f":"IFERROR($E158*SUMIF('Daily Log'!#REF!,$B158,'Daily Log'!#REF!),0)","v":0},{"$f":"IFERROR($E158*SUMIF('Daily Log'!#REF!,$B158,'Daily Log'!#REF!),0)","v":0},{"$f":"IFERROR($E158*SUMIF('Daily Log'!#REF!,$B158,'Daily Log'!#REF!),0)","v":0},{"$f":"IFERROR($E158*SUMIF('Daily Log'!#REF!,$B158,'Daily Log'!#REF!),0)","v":0},{"$f":"IFERROR($E158*SUMIF('Daily Log'!#REF!,$B158,'Daily Log'!#REF!),0)","v":0},{"$f":"IFERROR($E158*SUMIF('Daily Log'!#REF!,$B158,'Daily Log'!#REF!),0)","v":0},{"$f":"IFERROR($E158*SUMIF('Daily Log'!#REF!,$B158,'Daily Log'!#REF!),0)","v":0},{"$f":"IFERROR($E158*SUMIF('Daily Log'!#REF!,$B158,'Daily Log'!#REF!),0)","v":0},{"$f":"IFERROR($E158*SUMIF('Daily Log'!#REF!,$B158,'Daily Log'!#REF!),0)","v":0},{"$f":"IFERROR($E158*SUMIF('Daily Log'!#REF!,$B158,'Daily Log'!#REF!),0)","v":0},{"$f":"IFERROR($E158*SUMIF('Daily Log'!#REF!,$B158,'Daily Log'!#REF!),0)","v":0},{"$f":"IFERROR($E158*SUMIF('Daily Log'!#REF!,$B158,'Daily Log'!#REF!),0)","v":0},{"$f":"IFERROR($E158*SUMIF('Daily Log'!#REF!,$B158,'Daily Log'!#REF!),0)","v":0},{"$f":"IFERROR($E158*SUMIF('Daily Log'!#REF!,$B158,'Daily Log'!#REF!),0)","v":0},{"$f":"IFERROR($E158*SUMIF('Daily Log'!#REF!,$B158,'Daily Log'!#REF!),0)","v":0},{"$f":"IFERROR($E158*SUMIF('Daily Log'!#REF!,$B158,'Daily Log'!#REF!),0)","v":0},{"$f":"IFERROR($E158*SUMIF('Daily Log'!#REF!,$B158,'Daily Log'!#REF!),0)","v":0},{"$f":"IFERROR($E158*SUMIF('Daily Log'!#REF!,$B158,'Daily Log'!#REF!),0)","v":0},{"$f":"IFERROR($E158*SUMIF('Daily Log'!#REF!,$B158,'Daily Log'!#REF!),0)","v":0},{"$f":"IFERROR($E158*SUMIF('Daily Log'!#REF!,$B158,'Daily Log'!#REF!),0)","v":0},{"$f":"IFERROR($E158*SUMIF('Daily Log'!#REF!,$B158,'Daily Log'!#REF!),0)","v":0},{"$f":"IFERROR($E158*SUMIF('Daily Log'!#REF!,$B158,'Daily Log'!#REF!),0)","v":0},{"$f":"IFERROR($E158*SUMIF('Daily Log'!#REF!,$B158,'Daily Log'!#REF!),0)","v":0},{"$f":"IFERROR($E158*SUMIF('Daily Log'!#REF!,$B158,'Daily Log'!#REF!),0)","v":0}]
[null,"AE32 VIP XTD ROOM",null,null,null,0,{"$f":"IFERROR($E159*SUMIF('Daily Log'!$B$18:$B$1017,$B159,'Daily Log'!$C$18:$C$1017),0)","v":0},{"$f":"IFERROR($E159*SUMIF('Daily Log'!$E$18:$E$1017,$B159,'Daily Log'!$F$18:$F$1017),0)","v":0},{"$f":"IFERROR($E159*SUMIF('Daily Log'!$H$18:$H$1017,$B159,'Daily Log'!$I$18:$I$1017),0)","v":0},{"$f":"IFERROR($E159*SUMIF('Daily Log'!$K$18:$K$1017,$B159,'Daily Log'!$L$18:$L$1017),0)","v":0},{"$f":"IFERROR($E159*SUMIF('Daily Log'!$N$18:$N$1017,$B159,'Daily Log'!$O$18:$O$1017),0)","v":0},{"$f":"IFERROR($E159*SUMIF('Daily Log'!#REF!,$B159,'Daily Log'!#REF!),0)","v":0},{"$f":"IFERROR($E159*SUMIF('Daily Log'!#REF!,$B159,'Daily Log'!#REF!),0)","v":0},{"$f":"IFERROR($E159*SUMIF('Daily Log'!#REF!,$B159,'Daily Log'!#REF!),0)","v":0},{"$f":"IFERROR($E159*SUMIF('Daily Log'!#REF!,$B159,'Daily Log'!#REF!),0)","v":0},{"$f":"IFERROR($E159*SUMIF('Daily Log'!#REF!,$B159,'Daily Log'!#REF!),0)","v":0},{"$f":"IFERROR($E159*SUMIF('Daily Log'!#REF!,$B159,'Daily Log'!#REF!),0)","v":0},{"$f":"IFERROR($E159*SUMIF('Daily Log'!#REF!,$B159,'Daily Log'!#REF!),0)","v":0},{"$f":"IFERROR($E159*SUMIF('Daily Log'!#REF!,$B159,'Daily Log'!#REF!),0)","v":0},{"$f":"IFERROR($E159*SUMIF('Daily Log'!#REF!,$B159,'Daily Log'!#REF!),0)","v":0},{"$f":"IFERROR($E159*SUMIF('Daily Log'!#REF!,$B159,'Daily Log'!#REF!),0)","v":0},{"$f":"IFERROR($E159*SUMIF('Daily Log'!#REF!,$B159,'Daily Log'!#REF!),0)","v":0},{"$f":"IFERROR($E159*SUMIF('Daily Log'!#REF!,$B159,'Daily Log'!#REF!),0)","v":0},{"$f":"IFERROR($E159*SUMIF('Daily Log'!#REF!,$B159,'Daily Log'!#REF!),0)","v":0},{"$f":"IFERROR($E159*SUMIF('Daily Log'!#REF!,$B159,'Daily Log'!#REF!),0)","v":0},{"$f":"IFERROR($E159*SUMIF('Daily Log'!#REF!,$B159,'Daily Log'!#REF!),0)","v":0},{"$f":"IFERROR($E159*SUMIF('Daily Log'!#REF!,$B159,'Daily Log'!#REF!),0)","v":0},{"$f":"IFERROR($E159*SUMIF('Daily Log'!#REF!,$B159,'Daily Log'!#REF!),0)","v":0},{"$f":"IFERROR($E159*SUMIF('Daily Log'!#REF!,$B159,'Daily Log'!#REF!),0)","v":0},{"$f":"IFERROR($E159*SUMIF('Daily Log'!#REF!,$B159,'Daily Log'!#REF!),0)","v":0},{"$f":"IFERROR($E159*SUMIF('Daily Log'!#REF!,$B159,'Daily Log'!#REF!),0)","v":0},{"$f":"IFERROR($E159*SUMIF('Daily Log'!#REF!,$B159,'Daily Log'!#REF!),0)","v":0},{"$f":"IFERROR($E159*SUMIF('Daily Log'!#REF!,$B159,'Daily Log'!#REF!),0)","v":0},{"$f":"IFERROR($E159*SUMIF('Daily Log'!#REF!,$B159,'Daily Log'!#REF!),0)","v":0},{"$f":"IFERROR($E159*SUMIF('Daily Log'!#REF!,$B159,'Daily Log'!#REF!),0)","v":0},{"$f":"IFERROR($E159*SUMIF('Daily Log'!#REF!,$B159,'Daily Log'!#REF!),0)","v":0},{"$f":"IFERROR($E159*SUMIF('Daily Log'!#REF!,$B159,'Daily Log'!#REF!),0)","v":0}]
[null,"BA01 K : 4BP",null,"BEER",12,0,{"$f":"IFERROR($E160*SUMIF('Daily Log'!$B$18:$B$1017,$B160,'Daily Log'!$C$18:$C$1017),0)","v":0},{"$f":"IFERROR($E160*SUMIF('Daily Log'!$E$18:$E$1017,$B160,'Daily Log'!$F$18:$F$1017),0)","v":0},{"$f":"IFERROR($E160*SUMIF('Daily Log'!$H$18:$H$1017,$B160,'Daily Log'!$I$18:$I$1017),0)","v":0},{"$f":"IFERROR($E160*SUMIF('Daily Log'!$K$18:$K$1017,$B160,'Daily Log'!$L$18:$L$1017),0)","v":0},{"$f":"IFERROR($E160*SUMIF('Daily Log'!$N$18:$N$1017,$B160,'Daily Log'!$O$18:$O$1017),0)","v":0},{"$f":"IFERROR($E160*SUMIF('Daily Log'!#REF!,$B160,'Daily Log'!#REF!),0)","v":0},{"$f":"IFERROR($E160*SUMIF('Daily Log'!#REF!,$B160,'Daily Log'!#REF!),0)","v":0},{"$f":"IFERROR($E160*SUMIF('Daily Log'!#REF!,$B160,'Daily Log'!#REF!),0)","v":0},{"$f":"IFERROR($E160*SUMIF('Daily Log'!#REF!,$B160,'Daily Log'!#REF!),0)","v":0},{"$f":"IFERROR($E160*SUMIF('Daily Log'!#REF!,$B160,'Daily Log'!#REF!),0)","v":0},{"$f":"IFERROR($E160*SUMIF('Daily Log'!#REF!,$B160,'Daily Log'!#REF!),0)","v":0},{"$f":"IFERROR($E160*SUMIF('Daily Log'!#REF!,$B160,'Daily Log'!#REF!),0)","v":0},{"$f":"IFERROR($E160*SUMIF('Daily Log'!#REF!,$B160,'Daily Log'!#REF!),0)","v":0},{"$f":"IFERROR($E160*SUMIF('Daily Log'!#REF!,$B160,'Daily Log'!#REF!),0)","v":0},{"$f":"IFERROR($E160*SUMIF('Daily Log'!#REF!,$B160,'Daily Log'!#REF!),0)","v":0},{"$f":"IFERROR($E160*SUMIF('Daily Log'!#REF!,$B160,'Daily Log'!#REF!),0)","v":0},{"$f":"IFERROR($E160*SUMIF('Daily Log'!#REF!,$B160,'Daily Log'!#REF!),0)","v":0},{"$f":"IFERROR($E160*SUMIF('Daily Log'!#REF!,$B160,'Daily Log'!#REF!),0)","v":0},{"$f":"IFERROR($E160*SUMIF('Daily Log'!#REF!,$B160,'Daily Log'!#REF!),0)","v":0},{"$f":"IFERROR($E160*SUMIF('Daily Log'!#REF!,$B160,'Daily Log'!#REF!),0)","v":0},{"$f":"IFERROR($E160*SUMIF('Daily Log'!#REF!,$B160,'Daily Log'!#REF!),0)","v":0},{"$f":"IFERROR($E160*SUMIF('Daily Log'!#REF!,$B160,'Daily Log'!#REF!),0)","v":0},{"$f":"IFERROR($E160*SUMIF('Daily Log'!#REF!,$B160,'Daily Log'!#REF!),0)","v":0},{"$f":"IFERROR($E160*SUMIF('Daily Log'!#REF!,$B160,'Daily Log'!#REF!),0)","v":0},{"$f":"IFERROR($E160*SUMIF('Daily Log'!#REF!,$B160,'Daily Log'!#REF!),0)","v":0},{"$f":"IFERROR($E160*SUMIF('Daily Log'!#REF!,$B160,'Daily Log'!#REF!),0)","v":0},{"$f":"IFERROR($E160*SUMIF('Daily Log'!#REF!,$B160,'Daily Log'!#REF!),0)","v":0},{"$f":"IFERROR($E160*SUMIF('Daily Log'!#REF!,$B160,'Daily Log'!#REF!),0)","v":0},{"$f":"IFERROR($E160*SUMIF('Daily Log'!#REF!,$B160,'Daily Log'!#REF!),0)","v":0},{"$f":"IFERROR($E160*SUMIF('Daily Log'!#REF!,$B160,'Daily Log'!#REF!),0)","v":0},{"$f":"IFERROR($E160*SUMIF('Daily Log'!#REF!,$B160,'Daily Log'!#REF!),0)","v":0}]
[null,"BA02 H : 4BP",null,"BEER",12,12,{"$f":"IFERROR($E161*SUMIF('Daily Log'!$B$18:$B$1017,$B161,'Daily Log'!$C$18:$C$1017),0)","v":0},{"$f":"IFERROR($E161*SUMIF('Daily Log'!$E$18:$E$1017,$B161,'Daily Log'!$F$18:$F$1017),0)","v":0},{"$f":"IFERROR($E161*SUMIF('Daily Log'!$H$18:$H$1017,$B161,'Daily Log'!$I$18:$I$1017),0)","v":0},{"$f":"IFERROR($E161*SUMIF('Daily Log'!$K$18:$K$1017,$B161,'Daily Log'!$L$18:$L$1017),0)","v":12},{"$f":"IFERROR($E161*SUMIF('Daily Log'!$N$18:$N$1017,$B161,'Daily Log'!$O$18:$O$1017),0)","v":0},{"$f":"IFERROR($E161*SUMIF('Daily Log'!#REF!,$B161,'Daily Log'!#REF!),0)","v":0},{"$f":"IFERROR($E161*SUMIF('Daily Log'!#REF!,$B161,'Daily Log'!#REF!),0)","v":0},{"$f":"IFERROR($E161*SUMIF('Daily Log'!#REF!,$B161,'Daily Log'!#REF!),0)","v":0},{"$f":"IFERROR($E161*SUMIF('Daily Log'!#REF!,$B161,'Daily Log'!#REF!),0)","v":0},{"$f":"IFERROR($E161*SUMIF('Daily Log'!#REF!,$B161,'Daily Log'!#REF!),0)","v":0},{"$f":"IFERROR($E161*SUMIF('Daily Log'!#REF!,$B161,'Daily Log'!#REF!),0)","v":0},{"$f":"IFERROR($E161*SUMIF('Daily Log'!#REF!,$B161,'Daily Log'!#REF!),0)","v":0},{"$f":"IFERROR($E161*SUMIF('Daily Log'!#REF!,$B161,'Daily Log'!#REF!),0)","v":0},{"$f":"IFERROR($E161*SUMIF('Daily Log'!#REF!,$B161,'Daily Log'!#REF!),0)","v":0},{"$f":"IFERROR($E161*SUMIF('Daily Log'!#REF!,$B161,'Daily Log'!#REF!),0)","v":0},{"$f":"IFERROR($E161*SUMIF('Daily Log'!#REF!,$B161,'Daily Log'!#REF!),0)","v":0},{"$f":"IFERROR($E161*SUMIF('Daily Log'!#REF!,$B161,'Daily Log'!#REF!),0)","v":0},{"$f":"IFERROR($E161*SUMIF('Daily Log'!#REF!,$B161,'Daily Log'!#REF!),0)","v":0},{"$f":"IFERROR($E161*SUMIF('Daily Log'!#REF!,$B161,'Daily Log'!#REF!),0)","v":0},{"$f":"IFERROR($E161*SUMIF('Daily Log'!#REF!,$B161,'Daily Log'!#REF!),0)","v":0},{"$f":"IFERROR($E161*SUMIF('Daily Log'!#REF!,$B161,'Daily Log'!#REF!),0)","v":0},{"$f":"IFERROR($E161*SUMIF('Daily Log'!#REF!,$B161,'Daily Log'!#REF!),0)","v":0},{"$f":"IFERROR($E161*SUMIF('Daily Log'!#REF!,$B161,'Daily Log'!#REF!),0)","v":0},{"$f":"IFERROR($E161*SUMIF('Daily Log'!#REF!,$B161,'Daily Log'!#REF!),0)","v":0},{"$f":"IFERROR($E161*SUMIF('Daily Log'!#REF!,$B161,'Daily Log'!#REF!),0)","v":0},{"$f":"IFERROR($E161*SUMIF('Daily Log'!#REF!,$B161,'Daily Log'!#REF!),0)","v":0},{"$f":"IFERROR($E161*SUMIF('Daily Log'!#REF!,$B161,'Daily Log'!#REF!),0)","v":0},{"$f":"IFERROR($E161*SUMIF('Daily Log'!#REF!,$B161,'Daily Log'!#REF!),0)","v":0},{"$f":"IFERROR($E161*SUMIF('Daily Log'!#REF!,$B161,'Daily Log'!#REF!),0)","v":0},{"$f":"IFERROR($E161*SUMIF('Daily Log'!#REF!,$B161,'Daily Log'!#REF!),0)","v":0},{"$f":"IFERROR($E161*SUMIF('Daily Log'!#REF!,$B161,'Daily Log'!#REF!),0)","v":0}]
[null,"BA03 H : 4BP MEMBER",null,"BEER",12,0,{"$f":"IFERROR($E162*SUMIF('Daily Log'!$B$18:$B$1017,$B162,'Daily Log'!$C$18:$C$1017),0)","v":0},{"$f":"IFERROR($E162*SUMIF('Daily Log'!$E$18:$E$1017,$B162,'Daily Log'!$F$18:$F$1017),0)","v":0},{"$f":"IFERROR($E162*SUMIF('Daily Log'!$H$18:$H$1017,$B162,'Daily Log'!$I$18:$I$1017),0)","v":0},{"$f":"IFERROR($E162*SUMIF('Daily Log'!$K$18:$K$1017,$B162,'Daily Log'!$L$18:$L$1017),0)","v":0},{"$f":"IFERROR($E162*SUMIF('Daily Log'!$N$18:$N$1017,$B162,'Daily Log'!$O$18:$O$1017),0)","v":0},{"$f":"IFERROR($E162*SUMIF('Daily Log'!#REF!,$B162,'Daily Log'!#REF!),0)","v":0},{"$f":"IFERROR($E162*SUMIF('Daily Log'!#REF!,$B162,'Daily Log'!#REF!),0)","v":0},{"$f":"IFERROR($E162*SUMIF('Daily Log'!#REF!,$B162,'Daily Log'!#REF!),0)","v":0},{"$f":"IFERROR($E162*SUMIF('Daily Log'!#REF!,$B162,'Daily Log'!#REF!),0)","v":0},{"$f":"IFERROR($E162*SUMIF('Daily Log'!#REF!,$B162,'Daily Log'!#REF!),0)","v":0},{"$f":"IFERROR($E162*SUMIF('Daily Log'!#REF!,$B162,'Daily Log'!#REF!),0)","v":0},{"$f":"IFERROR($E162*SUMIF('Daily Log'!#REF!,$B162,'Daily Log'!#REF!),0)","v":0},{"$f":"IFERROR($E162*SUMIF('Daily Log'!#REF!,$B162,'Daily Log'!#REF!),0)","v":0},{"$f":"IFERROR($E162*SUMIF('Daily Log'!#REF!,$B162,'Daily Log'!#REF!),0)","v":0},{"$f":"IFERROR($E162*SUMIF('Daily Log'!#REF!,$B162,'Daily Log'!#REF!),0)","v":0},{"$f":"IFERROR($E162*SUMIF('Daily Log'!#REF!,$B162,'Daily Log'!#REF!),0)","v":0},{"$f":"IFERROR($E162*SUMIF('Daily Log'!#REF!,$B162,'Daily Log'!#REF!),0)","v":0},{"$f":"IFERROR($E162*SUMIF('Daily Log'!#REF!,$B162,'Daily Log'!#REF!),0)","v":0},{"$f":"IFERROR($E162*SUMIF('Daily Log'!#REF!,$B162,'Daily Log'!#REF!),0)","v":0},{"$f":"IFERROR($E162*SUMIF('Daily Log'!#REF!,$B162,'Daily Log'!#REF!),0)","v":0},{"$f":"IFERROR($E162*SUMIF('Daily Log'!#REF!,$B162,'Daily Log'!#REF!),0)","v":0},{"$f":"IFERROR($E162*SUMIF('Daily Log'!#REF!,$B162,'Daily Log'!#REF!),0)","v":0},{"$f":"IFERROR($E162*SUMIF('Daily Log'!#REF!,$B162,'Daily Log'!#REF!),0)","v":0},{"$f":"IFERROR($E162*SUMIF('Daily Log'!#REF!,$B162,'Daily Log'!#REF!),0)","v":0},{"$f":"IFERROR($E162*SUMIF('Daily Log'!#REF!,$B162,'Daily Log'!#REF!),0)","v":0},{"$f":"IFERROR($E162*SUMIF('Daily Log'!#REF!,$B162,'Daily Log'!#REF!),0)","v":0},{"$f":"IFERROR($E162*SUMIF('Daily Log'!#REF!,$B162,'Daily Log'!#REF!),0)","v":0},{"$f":"IFERROR($E162*SUMIF('Daily Log'!#REF!,$B162,'Daily Log'!#REF!),0)","v":0},{"$f":"IFERROR($E162*SUMIF('Daily Log'!#REF!,$B162,'Daily Log'!#REF!),0)","v":0},{"$f":"IFERROR($E162*SUMIF('Daily Log'!#REF!,$B162,'Daily Log'!#REF!),0)","v":0},{"$f":"IFERROR($E162*SUMIF('Daily Log'!#REF!,$B162,'Daily Log'!#REF!),0)","v":0}]
[null,"BA04 N : 4BP",null,"BEER",12,216,{"$f":"IFERROR($E163*SUMIF('Daily Log'!$B$18:$B$1017,$B163,'Daily Log'!$C$18:$C$1017),0)","v":60},{"$f":"IFERROR($E163*SUMIF('Daily Log'!$E$18:$E$1017,$B163,'Daily Log'!$F$18:$F$1017),0)","v":36},{"$f":"IFERROR($E163*SUMIF('Daily Log'!$H$18:$H$1017,$B163,'Daily Log'!$I$18:$I$1017),0)","v":84},{"$f":"IFERROR($E163*SUMIF('Daily Log'!$K$18:$K$1017,$B163,'Daily Log'!$L$18:$L$1017),0)","v":36},{"$f":"IFERROR($E163*SUMIF('Daily Log'!$N$18:$N$1017,$B163,'Daily Log'!$O$18:$O$1017),0)","v":0},{"$f":"IFERROR($E163*SUMIF('Daily Log'!#REF!,$B163,'Daily Log'!#REF!),0)","v":0},{"$f":"IFERROR($E163*SUMIF('Daily Log'!#REF!,$B163,'Daily Log'!#REF!),0)","v":0},{"$f":"IFERROR($E163*SUMIF('Daily Log'!#REF!,$B163,'Daily Log'!#REF!),0)","v":0},{"$f":"IFERROR($E163*SUMIF('Daily Log'!#REF!,$B163,'Daily Log'!#REF!),0)","v":0},{"$f":"IFERROR($E163*SUMIF('Daily Log'!#REF!,$B163,'Daily Log'!#REF!),0)","v":0},{"$f":"IFERROR($E163*SUMIF('Daily Log'!#REF!,$B163,'Daily Log'!#REF!),0)","v":0},{"$f":"IFERROR($E163*SUMIF('Daily Log'!#REF!,$B163,'Daily Log'!#REF!),0)","v":0},{"$f":"IFERROR($E163*SUMIF('Daily Log'!#REF!,$B163,'Daily Log'!#REF!),0)","v":0},{"$f":"IFERROR($E163*SUMIF('Daily Log'!#REF!,$B163,'Daily Log'!#REF!),0)","v":0},{"$f":"IFERROR($E163*SUMIF('Daily Log'!#REF!,$B163,'Daily Log'!#REF!),0)","v":0},{"$f":"IFERROR($E163*SUMIF('Daily Log'!#REF!,$B163,'Daily Log'!#REF!),0)","v":0},{"$f":"IFERROR($E163*SUMIF('Daily Log'!#REF!,$B163,'Daily Log'!#REF!),0)","v":0},{"$f":"IFERROR($E163*SUMIF('Daily Log'!#REF!,$B163,'Daily Log'!#REF!),0)","v":0},{"$f":"IFERROR($E163*SUMIF('Daily Log'!#REF!,$B163,'Daily Log'!#REF!),0)","v":0},{"$f":"IFERROR($E163*SUMIF('Daily Log'!#REF!,$B163,'Daily Log'!#REF!),0)","v":0},{"$f":"IFERROR($E163*SUMIF('Daily Log'!#REF!,$B163,'Daily Log'!#REF!),0)","v":0},{"$f":"IFERROR($E163*SUMIF('Daily Log'!#REF!,$B163,'Daily Log'!#REF!),0)","v":0},{"$f":"IFERROR($E163*SUMIF('Daily Log'!#REF!,$B163,'Daily Log'!#REF!),0)","v":0},{"$f":"IFERROR($E163*SUMIF('Daily Log'!#REF!,$B163,'Daily Log'!#REF!),0)","v":0},{"$f":"IFERROR($E163*SUMIF('Daily Log'!#REF!,$B163,'Daily Log'!#REF!),0)","v":0},{"$f":"IFERROR($E163*SUMIF('Daily Log'!#REF!,$B163,'Daily Log'!#REF!),0)","v":0},{"$f":"IFERROR($E163*SUMIF('Daily Log'!#REF!,$B163,'Daily Log'!#REF!),0)","v":0},{"$f":"IFERROR($E163*SUMIF('Daily Log'!#REF!,$B163,'Daily Log'!#REF!),0)","v":0},{"$f":"IFERROR($E163*SUMIF('Daily Log'!#REF!,$B163,'Daily Log'!#REF!),0)","v":0},{"$f":"IFERROR($E163*SUMIF('Daily Log'!#REF!,$B163,'Daily Log'!#REF!),0)","v":0},{"$f":"IFERROR($E163*SUMIF('Daily Log'!#REF!,$B163,'Daily Log'!#REF!),0)","v":0}]
[null,"BA05 N : 4BP MEMBER",null,"BEER",12,0,{"$f":"IFERROR($E164*SUMIF('Daily Log'!$B$18:$B$1017,$B164,'Daily Log'!$C$18:$C$1017),0)","v":0},{"$f":"IFERROR($E164*SUMIF('Daily Log'!$E$18:$E$1017,$B164,'Daily Log'!$F$18:$F$1017),0)","v":0},{"$f":"IFERROR($E164*SUMIF('Daily Log'!$H$18:$H$1017,$B164,'Daily Log'!$I$18:$I$1017),0)","v":0},{"$f":"IFERROR($E164*SUMIF('Daily Log'!$K$18:$K$1017,$B164,'Daily Log'!$L$18:$L$1017),0)","v":0},{"$f":"IFERROR($E164*SUMIF('Daily Log'!$N$18:$N$1017,$B164,'Daily Log'!$O$18:$O$1017),0)","v":0},{"$f":"IFERROR($E164*SUMIF('Daily Log'!#REF!,$B164,'Daily Log'!#REF!),0)","v":0},{"$f":"IFERROR($E164*SUMIF('Daily Log'!#REF!,$B164,'Daily Log'!#REF!),0)","v":0},{"$f":"IFERROR($E164*SUMIF('Daily Log'!#REF!,$B164,'Daily Log'!#REF!),0)","v":0},{"$f":"IFERROR($E164*SUMIF('Daily Log'!#REF!,$B164,'Daily Log'!#REF!),0)","v":0},{"$f":"IFERROR($E164*SUMIF('Daily Log'!#REF!,$B164,'Daily Log'!#REF!),0)","v":0},{"$f":"IFERROR($E164*SUMIF('Daily Log'!#REF!,$B164,'Daily Log'!#REF!),0)","v":0},{"$f":"IFERROR($E164*SUMIF('Daily Log'!#REF!,$B164,'Daily Log'!#REF!),0)","v":0},{"$f":"IFERROR($E164*SUMIF('Daily Log'!#REF!,$B164,'Daily Log'!#REF!),0)","v":0},{"$f":"IFERROR($E164*SUMIF('Daily Log'!#REF!,$B164,'Daily Log'!#REF!),0)","v":0},{"$f":"IFERROR($E164*SUMIF('Daily Log'!#REF!,$B164,'Daily Log'!#REF!),0)","v":0},{"$f":"IFERROR($E164*SUMIF('Daily Log'!#REF!,$B164,'Daily Log'!#REF!),0)","v":0},{"$f":"IFERROR($E164*SUMIF('Daily Log'!#REF!,$B164,'Daily Log'!#REF!),0)","v":0},{"$f":"IFERROR($E164*SUMIF('Daily Log'!#REF!,$B164,'Daily Log'!#REF!),0)","v":0},{"$f":"IFERROR($E164*SUMIF('Daily Log'!#REF!,$B164,'Daily Log'!#REF!),0)","v":0},{"$f":"IFERROR($E164*SUMIF('Daily Log'!#REF!,$B164,'Daily Log'!#REF!),0)","v":0},{"$f":"IFERROR($E164*SUMIF('Daily Log'!#REF!,$B164,'Daily Log'!#REF!),0)","v":0},{"$f":"IFERROR($E164*SUMIF('Daily Log'!#REF!,$B164,'Daily Log'!#REF!),0)","v":0},{"$f":"IFERROR($E164*SUMIF('Daily Log'!#REF!,$B164,'Daily Log'!#REF!),0)","v":0},{"$f":"IFERROR($E164*SUMIF('Daily Log'!#REF!,$B164,'Daily Log'!#REF!),0)","v":0},{"$f":"IFERROR($E164*SUMIF('Daily Log'!#REF!,$B164,'Daily Log'!#REF!),0)","v":0},{"$f":"IFERROR($E164*SUMIF('Daily Log'!#REF!,$B164,'Daily Log'!#REF!),0)","v":0},{"$f":"IFERROR($E164*SUMIF('Daily Log'!#REF!,$B164,'Daily Log'!#REF!),0)","v":0},{"$f":"IFERROR($E164*SUMIF('Daily Log'!#REF!,$B164,'Daily Log'!#REF!),0)","v":0},{"$f":"IFERROR($E164*SUMIF('Daily Log'!#REF!,$B164,'Daily Log'!#REF!),0)","v":0},{"$f":"IFERROR($E164*SUMIF('Daily Log'!#REF!,$B164,'Daily Log'!#REF!),0)","v":0},{"$f":"IFERROR($E164*SUMIF('Daily Log'!#REF!,$B164,'Daily Log'!#REF!),0)","v":0}]
[null,"BA06 M : 4BP",null,"BEER",12,24,{"$f":"IFERROR($E165*SUMIF('Daily Log'!$B$18:$B$1017,$B165,'Daily Log'!$C$18:$C$1017),0)","v":0},{"$f":"IFERROR($E165*SUMIF('Daily Log'!$E$18:$E$1017,$B165,'Daily Log'!$F$18:$F$1017),0)","v":12},{"$f":"IFERROR($E165*SUMIF('Daily Log'!$H$18:$H$1017,$B165,'Daily Log'!$I$18:$I$1017),0)","v":12},{"$f":"IFERROR($E165*SUMIF('Daily Log'!$K$18:$K$1017,$B165,'Daily Log'!$L$18:$L$1017),0)","v":0},{"$f":"IFERROR($E165*SUMIF('Daily Log'!$N$18:$N$1017,$B165,'Daily Log'!$O$18:$O$1017),0)","v":0},{"$f":"IFERROR($E165*SUMIF('Daily Log'!#REF!,$B165,'Daily Log'!#REF!),0)","v":0},{"$f":"IFERROR($E165*SUMIF('Daily Log'!#REF!,$B165,'Daily Log'!#REF!),0)","v":0},{"$f":"IFERROR($E165*SUMIF('Daily Log'!#REF!,$B165,'Daily Log'!#REF!),0)","v":0},{"$f":"IFERROR($E165*SUMIF('Daily Log'!#REF!,$B165,'Daily Log'!#REF!),0)","v":0},{"$f":"IFERROR($E165*SUMIF('Daily Log'!#REF!,$B165,'Daily Log'!#REF!),0)","v":0},{"$f":"IFERROR($E165*SUMIF('Daily Log'!#REF!,$B165,'Daily Log'!#REF!),0)","v":0},{"$f":"IFERROR($E165*SUMIF('Daily Log'!#REF!,$B165,'Daily Log'!#REF!),0)","v":0},{"$f":"IFERROR($E165*SUMIF('Daily Log'!#REF!,$B165,'Daily Log'!#REF!),0)","v":0},{"$f":"IFERROR($E165*SUMIF('Daily Log'!#REF!,$B165,'Daily Log'!#REF!),0)","v":0},{"$f":"IFERROR($E165*SUMIF('Daily Log'!#REF!,$B165,'Daily Log'!#REF!),0)","v":0},{"$f":"IFERROR($E165*SUMIF('Daily Log'!#REF!,$B165,'Daily Log'!#REF!),0)","v":0},{"$f":"IFERROR($E165*SUMIF('Daily Log'!#REF!,$B165,'Daily Log'!#REF!),0)","v":0},{"$f":"IFERROR($E165*SUMIF('Daily Log'!#REF!,$B165,'Daily Log'!#REF!),0)","v":0},{"$f":"IFERROR($E165*SUMIF('Daily Log'!#REF!,$B165,'Daily Log'!#REF!),0)","v":0},{"$f":"IFERROR($E165*SUMIF('Daily Log'!#REF!,$B165,'Daily Log'!#REF!),0)","v":0},{"$f":"IFERROR($E165*SUMIF('Daily Log'!#REF!,$B165,'Daily Log'!#REF!),0)","v":0},{"$f":"IFERROR($E165*SUMIF('Daily Log'!#REF!,$B165,'Daily Log'!#REF!),0)","v":0},{"$f":"IFERROR($E165*SUMIF('Daily Log'!#REF!,$B165,'Daily Log'!#REF!),0)","v":0},{"$f":"IFERROR($E165*SUMIF('Daily Log'!#REF!,$B165,'Daily Log'!#REF!),0)","v":0},{"$f":"IFERROR($E165*SUMIF('Daily Log'!#REF!,$B165,'Daily Log'!#REF!),0)","v":0},{"$f":"IFERROR($E165*SUMIF('Daily Log'!#REF!,$B165,'Daily Log'!#REF!),0)","v":0},{"$f":"IFERROR($E165*SUMIF('Daily Log'!#REF!,$B165,'Daily Log'!#REF!),0)","v":0},{"$f":"IFERROR($E165*SUMIF('Daily Log'!#REF!,$B165,'Daily Log'!#REF!),0)","v":0},{"$f":"IFERROR($E165*SUMIF('Daily Log'!#REF!,$B165,'Daily Log'!#REF!),0)","v":0},{"$f":"IFERROR($E165*SUMIF('Daily Log'!#REF!,$B165,'Daily Log'!#REF!),0)","v":0},{"$f":"IFERROR($E165*SUMIF('Daily Log'!#REF!,$B165,'Daily Log'!#REF!),0)","v":0}]
[null,"BA07 M : 4BP MEMBER",null,"BEER",12,0,{"$f":"IFERROR($E166*SUMIF('Daily Log'!$B$18:$B$1017,$B166,'Daily Log'!$C$18:$C$1017),0)","v":0},{"$f":"IFERROR($E166*SUMIF('Daily Log'!$E$18:$E$1017,$B166,'Daily Log'!$F$18:$F$1017),0)","v":0},{"$f":"IFERROR($E166*SUMIF('Daily Log'!$H$18:$H$1017,$B166,'Daily Log'!$I$18:$I$1017),0)","v":0},{"$f":"IFERROR($E166*SUMIF('Daily Log'!$K$18:$K$1017,$B166,'Daily Log'!$L$18:$L$1017),0)","v":0},{"$f":"IFERROR($E166*SUMIF('Daily Log'!$N$18:$N$1017,$B166,'Daily Log'!$O$18:$O$1017),0)","v":0},{"$f":"IFERROR($E166*SUMIF('Daily Log'!#REF!,$B166,'Daily Log'!#REF!),0)","v":0},{"$f":"IFERROR($E166*SUMIF('Daily Log'!#REF!,$B166,'Daily Log'!#REF!),0)","v":0},{"$f":"IFERROR($E166*SUMIF('Daily Log'!#REF!,$B166,'Daily Log'!#REF!),0)","v":0},{"$f":"IFERROR($E166*SUMIF('Daily Log'!#REF!,$B166,'Daily Log'!#REF!),0)","v":0},{"$f":"IFERROR($E166*SUMIF('Daily Log'!#REF!,$B166,'Daily Log'!#REF!),0)","v":0},{"$f":"IFERROR($E166*SUMIF('Daily Log'!#REF!,$B166,'Daily Log'!#REF!),0)","v":0},{"$f":"IFERROR($E166*SUMIF('Daily Log'!#REF!,$B166,'Daily Log'!#REF!),0)","v":0},{"$f":"IFERROR($E166*SUMIF('Daily Log'!#REF!,$B166,'Daily Log'!#REF!),0)","v":0},{"$f":"IFERROR($E166*SUMIF('Daily Log'!#REF!,$B166,'Daily Log'!#REF!),0)","v":0},{"$f":"IFERROR($E166*SUMIF('Daily Log'!#REF!,$B166,'Daily Log'!#REF!),0)","v":0},{"$f":"IFERROR($E166*SUMIF('Daily Log'!#REF!,$B166,'Daily Log'!#REF!),0)","v":0},{"$f":"IFERROR($E166*SUMIF('Daily Log'!#REF!,$B166,'Daily Log'!#REF!),0)","v":0},{"$f":"IFERROR($E166*SUMIF('Daily Log'!#REF!,$B166,'Daily Log'!#REF!),0)","v":0},{"$f":"IFERROR($E166*SUMIF('Daily Log'!#REF!,$B166,'Daily Log'!#REF!),0)","v":0},{"$f":"IFERROR($E166*SUMIF('Daily Log'!#REF!,$B166,'Daily Log'!#REF!),0)","v":0},{"$f":"IFERROR($E166*SUMIF('Daily Log'!#REF!,$B166,'Daily Log'!#REF!),0)","v":0},{"$f":"IFERROR($E166*SUMIF('Daily Log'!#REF!,$B166,'Daily Log'!#REF!),0)","v":0},{"$f":"IFERROR($E166*SUMIF('Daily Log'!#REF!,$B166,'Daily Log'!#REF!),0)","v":0},{"$f":"IFERROR($E166*SUMIF('Daily Log'!#REF!,$B166,'Daily Log'!#REF!),0)","v":0},{"$f":"IFERROR($E166*SUMIF('Daily Log'!#REF!,$B166,'Daily Log'!#REF!),0)","v":0},{"$f":"IFERROR($E166*SUMIF('Daily Log'!#REF!,$B166,'Daily Log'!#REF!),0)","v":0},{"$f":"IFERROR($E166*SUMIF('Daily Log'!#REF!,$B166,'Daily Log'!#REF!),0)","v":0},{"$f":"IFERROR($E166*SUMIF('Daily Log'!#REF!,$B166,'Daily Log'!#REF!),0)","v":0},{"$f":"IFERROR($E166*SUMIF('Daily Log'!#REF!,$B166,'Daily Log'!#REF!),0)","v":0},{"$f":"IFERROR($E166*SUMIF('Daily Log'!#REF!,$B166,'Daily Log'!#REF!),0)","v":0},{"$f":"IFERROR($E166*SUMIF('Daily Log'!#REF!,$B166,'Daily Log'!#REF!),0)","v":0}]
[null,"BA08 GUINNESS BTL",null,"BEER ",1,7,{"$f":"IFERROR($E167*SUMIF('Daily Log'!$B$18:$B$1017,$B167,'Daily Log'!$C$18:$C$1017),0)","v":2},{"$f":"IFERROR($E167*SUMIF('Daily Log'!$E$18:$E$1017,$B167,'Daily Log'!$F$18:$F$1017),0)","v":2},{"$f":"IFERROR($E167*SUMIF('Daily Log'!$H$18:$H$1017,$B167,'Daily Log'!$I$18:$I$1017),0)","v":1},{"$f":"IFERROR($E167*SUMIF('Daily Log'!$K$18:$K$1017,$B167,'Daily Log'!$L$18:$L$1017),0)","v":2},{"$f":"IFERROR($E167*SUMIF('Daily Log'!$N$18:$N$1017,$B167,'Daily Log'!$O$18:$O$1017),0)","v":0},{"$f":"IFERROR($E167*SUMIF('Daily Log'!#REF!,$B167,'Daily Log'!#REF!),0)","v":0},{"$f":"IFERROR($E167*SUMIF('Daily Log'!#REF!,$B167,'Daily Log'!#REF!),0)","v":0},{"$f":"IFERROR($E167*SUMIF('Daily Log'!#REF!,$B167,'Daily Log'!#REF!),0)","v":0},{"$f":"IFERROR($E167*SUMIF('Daily Log'!#REF!,$B167,'Daily Log'!#REF!),0)","v":0},{"$f":"IFERROR($E167*SUMIF('Daily Log'!#REF!,$B167,'Daily Log'!#REF!),0)","v":0},{"$f":"IFERROR($E167*SUMIF('Daily Log'!#REF!,$B167,'Daily Log'!#REF!),0)","v":0},{"$f":"IFERROR($E167*SUMIF('Daily Log'!#REF!,$B167,'Daily Log'!#REF!),0)","v":0},{"$f":"IFERROR($E167*SUMIF('Daily Log'!#REF!,$B167,'Daily Log'!#REF!),0)","v":0},{"$f":"IFERROR($E167*SUMIF('Daily Log'!#REF!,$B167,'Daily Log'!#REF!),0)","v":0},{"$f":"IFERROR($E167*SUMIF('Daily Log'!#REF!,$B167,'Daily Log'!#REF!),0)","v":0},{"$f":"IFERROR($E167*SUMIF('Daily Log'!#REF!,$B167,'Daily Log'!#REF!),0)","v":0},{"$f":"IFERROR($E167*SUMIF('Daily Log'!#REF!,$B167,'Daily Log'!#REF!),0)","v":0},{"$f":"IFERROR($E167*SUMIF('Daily Log'!#REF!,$B167,'Daily Log'!#REF!),0)","v":0},{"$f":"IFERROR($E167*SUMIF('Daily Log'!#REF!,$B167,'Daily Log'!#REF!),0)","v":0},{"$f":"IFERROR($E167*SUMIF('Daily Log'!#REF!,$B167,'Daily Log'!#REF!),0)","v":0},{"$f":"IFERROR($E167*SUMIF('Daily Log'!#REF!,$B167,'Daily Log'!#REF!),0)","v":0},{"$f":"IFERROR($E167*SUMIF('Daily Log'!#REF!,$B167,'Daily Log'!#REF!),0)","v":0},{"$f":"IFERROR($E167*SUMIF('Daily Log'!#REF!,$B167,'Daily Log'!#REF!),0)","v":0},{"$f":"IFERROR($E167*SUMIF('Daily Log'!#REF!,$B167,'Daily Log'!#REF!),0)","v":0},{"$f":"IFERROR($E167*SUMIF('Daily Log'!#REF!,$B167,'Daily Log'!#REF!),0)","v":0},{"$f":"IFERROR($E167*SUMIF('Daily Log'!#REF!,$B167,'Daily Log'!#REF!),0)","v":0},{"$f":"IFERROR($E167*SUMIF('Daily Log'!#REF!,$B167,'Daily Log'!#REF!),0)","v":0},{"$f":"IFERROR($E167*SUMIF('Daily Log'!#REF!,$B167,'Daily Log'!#REF!),0)","v":0},{"$f":"IFERROR($E167*SUMIF('Daily Log'!#REF!,$B167,'Daily Log'!#REF!),0)","v":0},{"$f":"IFERROR($E167*SUMIF('Daily Log'!#REF!,$B167,'Daily Log'!#REF!),0)","v":0},{"$f":"IFERROR($E167*SUMIF('Daily Log'!#REF!,$B167,'Daily Log'!#REF!),0)","v":0}]
[null,"BA09 GUINNESS BKT",null,"BEER ",4,16,{"$f":"IFERROR($E168*SUMIF('Daily Log'!$B$18:$B$1017,$B168,'Daily Log'!$C$18:$C$1017),0)","v":8},{"$f":"IFERROR($E168*SUMIF('Daily Log'!$E$18:$E$1017,$B168,'Daily Log'!$F$18:$F$1017),0)","v":0},{"$f":"IFERROR($E168*SUMIF('Daily Log'!$H$18:$H$1017,$B168,'Daily Log'!$I$18:$I$1017),0)","v":0},{"$f":"IFERROR($E168*SUMIF('Daily Log'!$K$18:$K$1017,$B168,'Daily Log'!$L$18:$L$1017),0)","v":4},{"$f":"IFERROR($E168*SUMIF('Daily Log'!$N$18:$N$1017,$B168,'Daily Log'!$O$18:$O$1017),0)","v":4},{"$f":"IFERROR($E168*SUMIF('Daily Log'!#REF!,$B168,'Daily Log'!#REF!),0)","v":0},{"$f":"IFERROR($E168*SUMIF('Daily Log'!#REF!,$B168,'Daily Log'!#REF!),0)","v":0},{"$f":"IFERROR($E168*SUMIF('Daily Log'!#REF!,$B168,'Daily Log'!#REF!),0)","v":0},{"$f":"IFERROR($E168*SUMIF('Daily Log'!#REF!,$B168,'Daily Log'!#REF!),0)","v":0},{"$f":"IFERROR($E168*SUMIF('Daily Log'!#REF!,$B168,'Daily Log'!#REF!),0)","v":0},{"$f":"IFERROR($E168*SUMIF('Daily Log'!#REF!,$B168,'Daily Log'!#REF!),0)","v":0},{"$f":"IFERROR($E168*SUMIF('Daily Log'!#REF!,$B168,'Daily Log'!#REF!),0)","v":0},{"$f":"IFERROR($E168*SUMIF('Daily Log'!#REF!,$B168,'Daily Log'!#REF!),0)","v":0},{"$f":"IFERROR($E168*SUMIF('Daily Log'!#REF!,$B168,'Daily Log'!#REF!),0)","v":0},{"$f":"IFERROR($E168*SUMIF('Daily Log'!#REF!,$B168,'Daily Log'!#REF!),0)","v":0},{"$f":"IFERROR($E168*SUMIF('Daily Log'!#REF!,$B168,'Daily Log'!#REF!),0)","v":0},{"$f":"IFERROR($E168*SUMIF('Daily Log'!#REF!,$B168,'Daily Log'!#REF!),0)","v":0},{"$f":"IFERROR($E168*SUMIF('Daily Log'!#REF!,$B168,'Daily Log'!#REF!),0)","v":0},{"$f":"IFERROR($E168*SUMIF('Daily Log'!#REF!,$B168,'Daily Log'!#REF!),0)","v":0},{"$f":"IFERROR($E168*SUMIF('Daily Log'!#REF!,$B168,'Daily Log'!#REF!),0)","v":0},{"$f":"IFERROR($E168*SUMIF('Daily Log'!#REF!,$B168,'Daily Log'!#REF!),0)","v":0},{"$f":"IFERROR($E168*SUMIF('Daily Log'!#REF!,$B168,'Daily Log'!#REF!),0)","v":0},{"$f":"IFERROR($E168*SUMIF('Daily Log'!#REF!,$B168,'Daily Log'!#REF!),0)","v":0},{"$f":"IFERROR($E168*SUMIF('Daily Log'!#REF!,$B168,'Daily Log'!#REF!),0)","v":0},{"$f":"IFERROR($E168*SUMIF('Daily Log'!#REF!,$B168,'Daily Log'!#REF!),0)","v":0},{"$f":"IFERROR($E168*SUMIF('Daily Log'!#REF!,$B168,'Daily Log'!#REF!),0)","v":0},{"$f":"IFERROR($E168*SUMIF('Daily Log'!#REF!,$B168,'Daily Log'!#REF!),0)","v":0},{"$f":"IFERROR($E168*SUMIF('Daily Log'!#REF!,$B168,'Daily Log'!#REF!),0)","v":0},{"$f":"IFERROR($E168*SUMIF('Daily Log'!#REF!,$B168,'Daily Log'!#REF!),0)","v":0},{"$f":"IFERROR($E168*SUMIF('Daily Log'!#REF!,$B168,'Daily Log'!#REF!),0)","v":0},{"$f":"IFERROR($E168*SUMIF('Daily Log'!#REF!,$B168,'Daily Log'!#REF!),0)","v":0}]
[null,"BA10 GUINNESS RND",null,"BEER ",12,0,{"$f":"IFERROR($E169*SUMIF('Daily Log'!$B$18:$B$1017,$B169,'Daily Log'!$C$18:$C$1017),0)","v":0},{"$f":"IFERROR($E169*SUMIF('Daily Log'!$E$18:$E$1017,$B169,'Daily Log'!$F$18:$F$1017),0)","v":0},{"$f":"IFERROR($E169*SUMIF('Daily Log'!$H$18:$H$1017,$B169,'Daily Log'!$I$18:$I$1017),0)","v":0},{"$f":"IFERROR($E169*SUMIF('Daily Log'!$K$18:$K$1017,$B169,'Daily Log'!$L$18:$L$1017),0)","v":0},{"$f":"IFERROR($E169*SUMIF('Daily Log'!$N$18:$N$1017,$B169,'Daily Log'!$O$18:$O$1017),0)","v":0},{"$f":"IFERROR($E169*SUMIF('Daily Log'!#REF!,$B169,'Daily Log'!#REF!),0)","v":0},{"$f":"IFERROR($E169*SUMIF('Daily Log'!#REF!,$B169,'Daily Log'!#REF!),0)","v":0},{"$f":"IFERROR($E169*SUMIF('Daily Log'!#REF!,$B169,'Daily Log'!#REF!),0)","v":0},{"$f":"IFERROR($E169*SUMIF('Daily Log'!#REF!,$B169,'Daily Log'!#REF!),0)","v":0},{"$f":"IFERROR($E169*SUMIF('Daily Log'!#REF!,$B169,'Daily Log'!#REF!),0)","v":0},{"$f":"IFERROR($E169*SUMIF('Daily Log'!#REF!,$B169,'Daily Log'!#REF!),0)","v":0},{"$f":"IFERROR($E169*SUMIF('Daily Log'!#REF!,$B169,'Daily Log'!#REF!),0)","v":0},{"$f":"IFERROR($E169*SUMIF('Daily Log'!#REF!,$B169,'Daily Log'!#REF!),0)","v":0},{"$f":"IFERROR($E169*SUMIF('Daily Log'!#REF!,$B169,'Daily Log'!#REF!),0)","v":0},{"$f":"IFERROR($E169*SUMIF('Daily Log'!#REF!,$B169,'Daily Log'!#REF!),0)","v":0},{"$f":"IFERROR($E169*SUMIF('Daily Log'!#REF!,$B169,'Daily Log'!#REF!),0)","v":0},{"$f":"IFERROR($E169*SUMIF('Daily Log'!#REF!,$B169,'Daily Log'!#REF!),0)","v":0},{"$f":"IFERROR($E169*SUMIF('Daily Log'!#REF!,$B169,'Daily Log'!#REF!),0)","v":0},{"$f":"IFERROR($E169*SUMIF('Daily Log'!#REF!,$B169,'Daily Log'!#REF!),0)","v":0},{"$f":"IFERROR($E169*SUMIF('Daily Log'!#REF!,$B169,'Daily Log'!#REF!),0)","v":0},{"$f":"IFERROR($E169*SUMIF('Daily Log'!#REF!,$B169,'Daily Log'!#REF!),0)","v":0},{"$f":"IFERROR($E169*SUMIF('Daily Log'!#REF!,$B169,'Daily Log'!#REF!),0)","v":0},{"$f":"IFERROR($E169*SUMIF('Daily Log'!#REF!,$B169,'Daily Log'!#REF!),0)","v":0},{"$f":"IFERROR($E169*SUMIF('Daily Log'!#REF!,$B169,'Daily Log'!#REF!),0)","v":0},{"$f":"IFERROR($E169*SUMIF('Daily Log'!#REF!,$B169,'Daily Log'!#REF!),0)","v":0},{"$f":"IFERROR($E169*SUMIF('Daily Log'!#REF!,$B169,'Daily Log'!#REF!),0)","v":0},{"$f":"IFERROR($E169*SUMIF('Daily Log'!#REF!,$B169,'Daily Log'!#REF!),0)","v":0},{"$f":"IFERROR($E169*SUMIF('Daily Log'!#REF!,$B169,'Daily Log'!#REF!),0)","v":0},{"$f":"IFERROR($E169*SUMIF('Daily Log'!#REF!,$B169,'Daily Log'!#REF!),0)","v":0},{"$f":"IFERROR($E169*SUMIF('Daily Log'!#REF!,$B169,'Daily Log'!#REF!),0)","v":0},{"$f":"IFERROR($E169*SUMIF('Daily Log'!#REF!,$B169,'Daily Log'!#REF!),0)","v":0}]
[null,"BA11 HEINEKEN BTL",null,"BEER ",1,3,{"$f":"IFERROR($E170*SUMIF('Daily Log'!$B$18:$B$1017,$B170,'Daily Log'!$C$18:$C$1017),0)","v":3},{"$f":"IFERROR($E170*SUMIF('Daily Log'!$E$18:$E$1017,$B170,'Daily Log'!$F$18:$F$1017),0)","v":0},{"$f":"IFERROR($E170*SUMIF('Daily Log'!$H$18:$H$1017,$B170,'Daily Log'!$I$18:$I$1017),0)","v":0},{"$f":"IFERROR($E170*SUMIF('Daily Log'!$K$18:$K$1017,$B170,'Daily Log'!$L$18:$L$1017),0)","v":0},{"$f":"IFERROR($E170*SUMIF('Daily Log'!$N$18:$N$1017,$B170,'Daily Log'!$O$18:$O$1017),0)","v":0},{"$f":"IFERROR($E170*SUMIF('Daily Log'!#REF!,$B170,'Daily Log'!#REF!),0)","v":0},{"$f":"IFERROR($E170*SUMIF('Daily Log'!#REF!,$B170,'Daily Log'!#REF!),0)","v":0},{"$f":"IFERROR($E170*SUMIF('Daily Log'!#REF!,$B170,'Daily Log'!#REF!),0)","v":0},{"$f":"IFERROR($E170*SUMIF('Daily Log'!#REF!,$B170,'Daily Log'!#REF!),0)","v":0},{"$f":"IFERROR($E170*SUMIF('Daily Log'!#REF!,$B170,'Daily Log'!#REF!),0)","v":0},{"$f":"IFERROR($E170*SUMIF('Daily Log'!#REF!,$B170,'Daily Log'!#REF!),0)","v":0},{"$f":"IFERROR($E170*SUMIF('Daily Log'!#REF!,$B170,'Daily Log'!#REF!),0)","v":0},{"$f":"IFERROR($E170*SUMIF('Daily Log'!#REF!,$B170,'Daily Log'!#REF!),0)","v":0},{"$f":"IFERROR($E170*SUMIF('Daily Log'!#REF!,$B170,'Daily Log'!#REF!),0)","v":0},{"$f":"IFERROR($E170*SUMIF('Daily Log'!#REF!,$B170,'Daily Log'!#REF!),0)","v":0},{"$f":"IFERROR($E170*SUMIF('Daily Log'!#REF!,$B170,'Daily Log'!#REF!),0)","v":0},{"$f":"IFERROR($E170*SUMIF('Daily Log'!#REF!,$B170,'Daily Log'!#REF!),0)","v":0},{"$f":"IFERROR($E170*SUMIF('Daily Log'!#REF!,$B170,'Daily Log'!#REF!),0)","v":0},{"$f":"IFERROR($E170*SUMIF('Daily Log'!#REF!,$B170,'Daily Log'!#REF!),0)","v":0},{"$f":"IFERROR($E170*SUMIF('Daily Log'!#REF!,$B170,'Daily Log'!#REF!),0)","v":0},{"$f":"IFERROR($E170*SUMIF('Daily Log'!#REF!,$B170,'Daily Log'!#REF!),0)","v":0},{"$f":"IFERROR($E170*SUMIF('Daily Log'!#REF!,$B170,'Daily Log'!#REF!),0)","v":0},{"$f":"IFERROR($E170*SUMIF('Daily Log'!#REF!,$B170,'Daily Log'!#REF!),0)","v":0},{"$f":"IFERROR($E170*SUMIF('Daily Log'!#REF!,$B170,'Daily Log'!#REF!),0)","v":0},{"$f":"IFERROR($E170*SUMIF('Daily Log'!#REF!,$B170,'Daily Log'!#REF!),0)","v":0},{"$f":"IFERROR($E170*SUMIF('Daily Log'!#REF!,$B170,'Daily Log'!#REF!),0)","v":0},{"$f":"IFERROR($E170*SUMIF('Daily Log'!#REF!,$B170,'Daily Log'!#REF!),0)","v":0},{"$f":"IFERROR($E170*SUMIF('Daily Log'!#REF!,$B170,'Daily Log'!#REF!),0)","v":0},{"$f":"IFERROR($E170*SUMIF('Daily Log'!#REF!,$B170,'Daily Log'!#REF!),0)","v":0},{"$f":"IFERROR($E170*SUMIF('Daily Log'!#REF!,$B170,'Daily Log'!#REF!),0)","v":0},{"$f":"IFERROR($E170*SUMIF('Daily Log'!#REF!,$B170,'Daily Log'!#REF!),0)","v":0}]
[null,"BA12 HEINEKEN BKT",null,"BEER ",4,84,{"$f":"IFERROR($E171*SUMIF('Daily Log'!$B$18:$B$1017,$B171,'Daily Log'!$C$18:$C$1017),0)","v":4},{"$f":"IFERROR($E171*SUMIF('Daily Log'!$E$18:$E$1017,$B171,'Daily Log'!$F$18:$F$1017),0)","v":0},{"$f":"IFERROR($E171*SUMIF('Daily Log'!$H$18:$H$1017,$B171,'Daily Log'!$I$18:$I$1017),0)","v":60},{"$f":"IFERROR($E171*SUMIF('Daily Log'!$K$18:$K$1017,$B171,'Daily Log'!$L$18:$L$1017),0)","v":20},{"$f":"IFERROR($E171*SUMIF('Daily Log'!$N$18:$N$1017,$B171,'Daily Log'!$O$18:$O$1017),0)","v":0},{"$f":"IFERROR($E171*SUMIF('Daily Log'!#REF!,$B171,'Daily Log'!#REF!),0)","v":0},{"$f":"IFERROR($E171*SUMIF('Daily Log'!#REF!,$B171,'Daily Log'!#REF!),0)","v":0},{"$f":"IFERROR($E171*SUMIF('Daily Log'!#REF!,$B171,'Daily Log'!#REF!),0)","v":0},{"$f":"IFERROR($E171*SUMIF('Daily Log'!#REF!,$B171,'Daily Log'!#REF!),0)","v":0},{"$f":"IFERROR($E171*SUMIF('Daily Log'!#REF!,$B171,'Daily Log'!#REF!),0)","v":0},{"$f":"IFERROR($E171*SUMIF('Daily Log'!#REF!,$B171,'Daily Log'!#REF!),0)","v":0},{"$f":"IFERROR($E171*SUMIF('Daily Log'!#REF!,$B171,'Daily Log'!#REF!),0)","v":0},{"$f":"IFERROR($E171*SUMIF('Daily Log'!#REF!,$B171,'Daily Log'!#REF!),0)","v":0},{"$f":"IFERROR($E171*SUMIF('Daily Log'!#REF!,$B171,'Daily Log'!#REF!),0)","v":0},{"$f":"IFERROR($E171*SUMIF('Daily Log'!#REF!,$B171,'Daily Log'!#REF!),0)","v":0},{"$f":"IFERROR($E171*SUMIF('Daily Log'!#REF!,$B171,'Daily Log'!#REF!),0)","v":0},{"$f":"IFERROR($E171*SUMIF('Daily Log'!#REF!,$B171,'Daily Log'!#REF!),0)","v":0},{"$f":"IFERROR($E171*SUMIF('Daily Log'!#REF!,$B171,'Daily Log'!#REF!),0)","v":0},{"$f":"IFERROR($E171*SUMIF('Daily Log'!#REF!,$B171,'Daily Log'!#REF!),0)","v":0},{"$f":"IFERROR($E171*SUMIF('Daily Log'!#REF!,$B171,'Daily Log'!#REF!),0)","v":0},{"$f":"IFERROR($E171*SUMIF('Daily Log'!#REF!,$B171,'Daily Log'!#REF!),0)","v":0},{"$f":"IFERROR($E171*SUMIF('Daily Log'!#REF!,$B171,'Daily Log'!#REF!),0)","v":0},{"$f":"IFERROR($E171*SUMIF('Daily Log'!#REF!,$B171,'Daily Log'!#REF!),0)","v":0},{"$f":"IFERROR($E171*SUMIF('Daily Log'!#REF!,$B171,'Daily Log'!#REF!),0)","v":0},{"$f":"IFERROR($E171*SUMIF('Daily Log'!#REF!,$B171,'Daily Log'!#REF!),0)","v":0},{"$f":"IFERROR($E171*SUMIF('Daily Log'!#REF!,$B171,'Daily Log'!#REF!),0)","v":0},{"$f":"IFERROR($E171*SUMIF('Daily Log'!#REF!,$B171,'Daily Log'!#REF!),0)","v":0},{"$f":"IFERROR($E171*SUMIF('Daily Log'!#REF!,$B171,'Daily Log'!#REF!),0)","v":0},{"$f":"IFERROR($E171*SUMIF('Daily Log'!#REF!,$B171,'Daily Log'!#REF!),0)","v":0},{"$f":"IFERROR($E171*SUMIF('Daily Log'!#REF!,$B171,'Daily Log'!#REF!),0)","v":0},{"$f":"IFERROR($E171*SUMIF('Daily Log'!#REF!,$B171,'Daily Log'!#REF!),0)","v":0}]
[null,"BA13 HEINEKEN RND",null,"BEER ",12,60,{"$f":"IFERROR($E172*SUMIF('Daily Log'!$B$18:$B$1017,$B172,'Daily Log'!$C$18:$C$1017),0)","v":0},{"$f":"IFERROR($E172*SUMIF('Daily Log'!$E$18:$E$1017,$B172,'Daily Log'!$F$18:$F$1017),0)","v":48},{"$f":"IFERROR($E172*SUMIF('Daily Log'!$H$18:$H$1017,$B172,'Daily Log'!$I$18:$I$1017),0)","v":12},{"$f":"IFERROR($E172*SUMIF('Daily Log'!$K$18:$K$1017,$B172,'Daily Log'!$L$18:$L$1017),0)","v":0},{"$f":"IFERROR($E172*SUMIF('Daily Log'!$N$18:$N$1017,$B172,'Daily Log'!$O$18:$O$1017),0)","v":0},{"$f":"IFERROR($E172*SUMIF('Daily Log'!#REF!,$B172,'Daily Log'!#REF!),0)","v":0},{"$f":"IFERROR($E172*SUMIF('Daily Log'!#REF!,$B172,'Daily Log'!#REF!),0)","v":0},{"$f":"IFERROR($E172*SUMIF('Daily Log'!#REF!,$B172,'Daily Log'!#REF!),0)","v":0},{"$f":"IFERROR($E172*SUMIF('Daily Log'!#REF!,$B172,'Daily Log'!#REF!),0)","v":0},{"$f":"IFERROR($E172*SUMIF('Daily Log'!#REF!,$B172,'Daily Log'!#REF!),0)","v":0},{"$f":"IFERROR($E172*SUMIF('Daily Log'!#REF!,$B172,'Daily Log'!#REF!),0)","v":0},{"$f":"IFERROR($E172*SUMIF('Daily Log'!#REF!,$B172,'Daily Log'!#REF!),0)","v":0},{"$f":"IFERROR($E172*SUMIF('Daily Log'!#REF!,$B172,'Daily Log'!#REF!),0)","v":0},{"$f":"IFERROR($E172*SUMIF('Daily Log'!#REF!,$B172,'Daily Log'!#REF!),0)","v":0},{"$f":"IFERROR($E172*SUMIF('Daily Log'!#REF!,$B172,'Daily Log'!#REF!),0)","v":0},{"$f":"IFERROR($E172*SUMIF('Daily Log'!#REF!,$B172,'Daily Log'!#REF!),0)","v":0},{"$f":"IFERROR($E172*SUMIF('Daily Log'!#REF!,$B172,'Daily Log'!#REF!),0)","v":0},{"$f":"IFERROR($E172*SUMIF('Daily Log'!#REF!,$B172,'Daily Log'!#REF!),0)","v":0},{"$f":"IFERROR($E172*SUMIF('Daily Log'!#REF!,$B172,'Daily Log'!#REF!),0)","v":0},{"$f":"IFERROR($E172*SUMIF('Daily Log'!#REF!,$B172,'Daily Log'!#REF!),0)","v":0},{"$f":"IFERROR($E172*SUMIF('Daily Log'!#REF!,$B172,'Daily Log'!#REF!),0)","v":0},{"$f":"IFERROR($E172*SUMIF('Daily Log'!#REF!,$B172,'Daily Log'!#REF!),0)","v":0},{"$f":"IFERROR($E172*SUMIF('Daily Log'!#REF!,$B172,'Daily Log'!#REF!),0)","v":0},{"$f":"IFERROR($E172*SUMIF('Daily Log'!#REF!,$B172,'Daily Log'!#REF!),0)","v":0},{"$f":"IFERROR($E172*SUMIF('Daily Log'!#REF!,$B172,'Daily Log'!#REF!),0)","v":0},{"$f":"IFERROR($E172*SUMIF('Daily Log'!#REF!,$B172,'Daily Log'!#REF!),0)","v":0},{"$f":"IFERROR($E172*SUMIF('Daily Log'!#REF!,$B172,'Daily Log'!#REF!),0)","v":0},{"$f":"IFERROR($E172*SUMIF('Daily Log'!#REF!,$B172,'Daily Log'!#REF!),0)","v":0},{"$f":"IFERROR($E172*SUMIF('Daily Log'!#REF!,$B172,'Daily Log'!#REF!),0)","v":0},{"$f":"IFERROR($E172*SUMIF('Daily Log'!#REF!,$B172,'Daily Log'!#REF!),0)","v":0},{"$f":"IFERROR($E172*SUMIF('Daily Log'!#REF!,$B172,'Daily Log'!#REF!),0)","v":0}]
[null,"BA14 TIGER BTL",null,"BEER ",1,5,{"$f":"IFERROR($E173*SUMIF('Daily Log'!$B$18:$B$1017,$B173,'Daily Log'!$C$18:$C$1017),0)","v":2},{"$f":"IFERROR($E173*SUMIF('Daily Log'!$E$18:$E$1017,$B173,'Daily Log'!$F$18:$F$1017),0)","v":1},{"$f":"IFERROR($E173*SUMIF('Daily Log'!$H$18:$H$1017,$B173,'Daily Log'!$I$18:$I$1017),0)","v":2},{"$f":"IFERROR($E173*SUMIF('Daily Log'!$K$18:$K$1017,$B173,'Daily Log'!$L$18:$L$1017),0)","v":0},{"$f":"IFERROR($E173*SUMIF('Daily Log'!$N$18:$N$1017,$B173,'Daily Log'!$O$18:$O$1017),0)","v":0},{"$f":"IFERROR($E173*SUMIF('Daily Log'!#REF!,$B173,'Daily Log'!#REF!),0)","v":0},{"$f":"IFERROR($E173*SUMIF('Daily Log'!#REF!,$B173,'Daily Log'!#REF!),0)","v":0},{"$f":"IFERROR($E173*SUMIF('Daily Log'!#REF!,$B173,'Daily Log'!#REF!),0)","v":0},{"$f":"IFERROR($E173*SUMIF('Daily Log'!#REF!,$B173,'Daily Log'!#REF!),0)","v":0},{"$f":"IFERROR($E173*SUMIF('Daily Log'!#REF!,$B173,'Daily Log'!#REF!),0)","v":0},{"$f":"IFERROR($E173*SUMIF('Daily Log'!#REF!,$B173,'Daily Log'!#REF!),0)","v":0},{"$f":"IFERROR($E173*SUMIF('Daily Log'!#REF!,$B173,'Daily Log'!#REF!),0)","v":0},{"$f":"IFERROR($E173*SUMIF('Daily Log'!#REF!,$B173,'Daily Log'!#REF!),0)","v":0},{"$f":"IFERROR($E173*SUMIF('Daily Log'!#REF!,$B173,'Daily Log'!#REF!),0)","v":0},{"$f":"IFERROR($E173*SUMIF('Daily Log'!#REF!,$B173,'Daily Log'!#REF!),0)","v":0},{"$f":"IFERROR($E173*SUMIF('Daily Log'!#REF!,$B173,'Daily Log'!#REF!),0)","v":0},{"$f":"IFERROR($E173*SUMIF('Daily Log'!#REF!,$B173,'Daily Log'!#REF!),0)","v":0},{"$f":"IFERROR($E173*SUMIF('Daily Log'!#REF!,$B173,'Daily Log'!#REF!),0)","v":0},{"$f":"IFERROR($E173*SUMIF('Daily Log'!#REF!,$B173,'Daily Log'!#REF!),0)","v":0},{"$f":"IFERROR($E173*SUMIF('Daily Log'!#REF!,$B173,'Daily Log'!#REF!),0)","v":0},{"$f":"IFERROR($E173*SUMIF('Daily Log'!#REF!,$B173,'Daily Log'!#REF!),0)","v":0},{"$f":"IFERROR($E173*SUMIF('Daily Log'!#REF!,$B173,'Daily Log'!#REF!),0)","v":0},{"$f":"IFERROR($E173*SUMIF('Daily Log'!#REF!,$B173,'Daily Log'!#REF!),0)","v":0},{"$f":"IFERROR($E173*SUMIF('Daily Log'!#REF!,$B173,'Daily Log'!#REF!),0)","v":0},{"$f":"IFERROR($E173*SUMIF('Daily Log'!#REF!,$B173,'Daily Log'!#REF!),0)","v":0},{"$f":"IFERROR($E173*SUMIF('Daily Log'!#REF!,$B173,'Daily Log'!#REF!),0)","v":0},{"$f":"IFERROR($E173*SUMIF('Daily Log'!#REF!,$B173,'Daily Log'!#REF!),0)","v":0},{"$f":"IFERROR($E173*SUMIF('Daily Log'!#REF!,$B173,'Daily Log'!#REF!),0)","v":0},{"$f":"IFERROR($E173*SUMIF('Daily Log'!#REF!,$B173,'Daily Log'!#REF!),0)","v":0},{"$f":"IFERROR($E173*SUMIF('Daily Log'!#REF!,$B173,'Daily Log'!#REF!),0)","v":0},{"$f":"IFERROR($E173*SUMIF('Daily Log'!#REF!,$B173,'Daily Log'!#REF!),0)","v":0}]
[null,"BA15 TIGER BKT",null,"BEER ",4,88,{"$f":"IFERROR($E174*SUMIF('Daily Log'!$B$18:$B$1017,$B174,'Daily Log'!$C$18:$C$1017),0)","v":8},{"$f":"IFERROR($E174*SUMIF('Daily Log'!$E$18:$E$1017,$B174,'Daily Log'!$F$18:$F$1017),0)","v":4},{"$f":"IFERROR($E174*SUMIF('Daily Log'!$H$18:$H$1017,$B174,'Daily Log'!$I$18:$I$1017),0)","v":28},{"$f":"IFERROR($E174*SUMIF('Daily Log'!$K$18:$K$1017,$B174,'Daily Log'!$L$18:$L$1017),0)","v":48},{"$f":"IFERROR($E174*SUMIF('Daily Log'!$N$18:$N$1017,$B174,'Daily Log'!$O$18:$O$1017),0)","v":0},{"$f":"IFERROR($E174*SUMIF('Daily Log'!#REF!,$B174,'Daily Log'!#REF!),0)","v":0},{"$f":"IFERROR($E174*SUMIF('Daily Log'!#REF!,$B174,'Daily Log'!#REF!),0)","v":0},{"$f":"IFERROR($E174*SUMIF('Daily Log'!#REF!,$B174,'Daily Log'!#REF!),0)","v":0},{"$f":"IFERROR($E174*SUMIF('Daily Log'!#REF!,$B174,'Daily Log'!#REF!),0)","v":0},{"$f":"IFERROR($E174*SUMIF('Daily Log'!#REF!,$B174,'Daily Log'!#REF!),0)","v":0},{"$f":"IFERROR($E174*SUMIF('Daily Log'!#REF!,$B174,'Daily Log'!#REF!),0)","v":0},{"$f":"IFERROR($E174*SUMIF('Daily Log'!#REF!,$B174,'Daily Log'!#REF!),0)","v":0},{"$f":"IFERROR($E174*SUMIF('Daily Log'!#REF!,$B174,'Daily Log'!#REF!),0)","v":0},{"$f":"IFERROR($E174*SUMIF('Daily Log'!#REF!,$B174,'Daily Log'!#REF!),0)","v":0},{"$f":"IFERROR($E174*SUMIF('Daily Log'!#REF!,$B174,'Daily Log'!#REF!),0)","v":0},{"$f":"IFERROR($E174*SUMIF('Daily Log'!#REF!,$B174,'Daily Log'!#REF!),0)","v":0},{"$f":"IFERROR($E174*SUMIF('Daily Log'!#REF!,$B174,'Daily Log'!#REF!),0)","v":0},{"$f":"IFERROR($E174*SUMIF('Daily Log'!#REF!,$B174,'Daily Log'!#REF!),0)","v":0},{"$f":"IFERROR($E174*SUMIF('Daily Log'!#REF!,$B174,'Daily Log'!#REF!),0)","v":0},{"$f":"IFERROR($E174*SUMIF('Daily Log'!#REF!,$B174,'Daily Log'!#REF!),0)","v":0},{"$f":"IFERROR($E174*SUMIF('Daily Log'!#REF!,$B174,'Daily Log'!#REF!),0)","v":0},{"$f":"IFERROR($E174*SUMIF('Daily Log'!#REF!,$B174,'Daily Log'!#REF!),0)","v":0},{"$f":"IFERROR($E174*SUMIF('Daily Log'!#REF!,$B174,'Daily Log'!#REF!),0)","v":0},{"$f":"IFERROR($E174*SUMIF('Daily Log'!#REF!,$B174,'Daily Log'!#REF!),0)","v":0},{"$f":"IFERROR($E174*SUMIF('Daily Log'!#REF!,$B174,'Daily Log'!#REF!),0)","v":0},{"$f":"IFERROR($E174*SUMIF('Daily Log'!#REF!,$B174,'Daily Log'!#REF!),0)","v":0},{"$f":"IFERROR($E174*SUMIF('Daily Log'!#REF!,$B174,'Daily Log'!#REF!),0)","v":0},{"$f":"IFERROR($E174*SUMIF('Daily Log'!#REF!,$B174,'Daily Log'!#REF!),0)","v":0},{"$f":"IFERROR($E174*SUMIF('Daily Log'!#REF!,$B174,'Daily Log'!#REF!),0)","v":0},{"$f":"IFERROR($E174*SUMIF('Daily Log'!#REF!,$B174,'Daily Log'!#REF!),0)","v":0},{"$f":"IFERROR($E174*SUMIF('Daily Log'!#REF!,$B174,'Daily Log'!#REF!),0)","v":0}]
[null,"BA16 TIGER RND",null,"BEER ",12,192,{"$f":"IFERROR($E175*SUMIF('Daily Log'!$B$18:$B$1017,$B175,'Daily Log'!$C$18:$C$1017),0)","v":36},{"$f":"IFERROR($E175*SUMIF('Daily Log'!$E$18:$E$1017,$B175,'Daily Log'!$F$18:$F$1017),0)","v":12},{"$f":"IFERROR($E175*SUMIF('Daily Log'!$H$18:$H$1017,$B175,'Daily Log'!$I$18:$I$1017),0)","v":60},{"$f":"IFERROR($E175*SUMIF('Daily Log'!$K$18:$K$1017,$B175,'Daily Log'!$L$18:$L$1017),0)","v":36},{"$f":"IFERROR($E175*SUMIF('Daily Log'!$N$18:$N$1017,$B175,'Daily Log'!$O$18:$O$1017),0)","v":48},{"$f":"IFERROR($E175*SUMIF('Daily Log'!#REF!,$B175,'Daily Log'!#REF!),0)","v":0},{"$f":"IFERROR($E175*SUMIF('Daily Log'!#REF!,$B175,'Daily Log'!#REF!),0)","v":0},{"$f":"IFERROR($E175*SUMIF('Daily Log'!#REF!,$B175,'Daily Log'!#REF!),0)","v":0},{"$f":"IFERROR($E175*SUMIF('Daily Log'!#REF!,$B175,'Daily Log'!#REF!),0)","v":0},{"$f":"IFERROR($E175*SUMIF('Daily Log'!#REF!,$B175,'Daily Log'!#REF!),0)","v":0},{"$f":"IFERROR($E175*SUMIF('Daily Log'!#REF!,$B175,'Daily Log'!#REF!),0)","v":0},{"$f":"IFERROR($E175*SUMIF('Daily Log'!#REF!,$B175,'Daily Log'!#REF!),0)","v":0},{"$f":"IFERROR($E175*SUMIF('Daily Log'!#REF!,$B175,'Daily Log'!#REF!),0)","v":0},{"$f":"IFERROR($E175*SUMIF('Daily Log'!#REF!,$B175,'Daily Log'!#REF!),0)","v":0},{"$f":"IFERROR($E175*SUMIF('Daily Log'!#REF!,$B175,'Daily Log'!#REF!),0)","v":0},{"$f":"IFERROR($E175*SUMIF('Daily Log'!#REF!,$B175,'Daily Log'!#REF!),0)","v":0},{"$f":"IFERROR($E175*SUMIF('Daily Log'!#REF!,$B175,'Daily Log'!#REF!),0)","v":0},{"$f":"IFERROR($E175*SUMIF('Daily Log'!#REF!,$B175,'Daily Log'!#REF!),0)","v":0},{"$f":"IFERROR($E175*SUMIF('Daily Log'!#REF!,$B175,'Daily Log'!#REF!),0)","v":0},{"$f":"IFERROR($E175*SUMIF('Daily Log'!#REF!,$B175,'Daily Log'!#REF!),0)","v":0},{"$f":"IFERROR($E175*SUMIF('Daily Log'!#REF!,$B175,'Daily Log'!#REF!),0)","v":0},{"$f":"IFERROR($E175*SUMIF('Daily Log'!#REF!,$B175,'Daily Log'!#REF!),0)","v":0},{"$f":"IFERROR($E175*SUMIF('Daily Log'!#REF!,$B175,'Daily Log'!#REF!),0)","v":0},{"$f":"IFERROR($E175*SUMIF('Daily Log'!#REF!,$B175,'Daily Log'!#REF!),0)","v":0},{"$f":"IFERROR($E175*SUMIF('Daily Log'!#REF!,$B175,'Daily Log'!#REF!),0)","v":0},{"$f":"IFERROR($E175*SUMIF('Daily Log'!#REF!,$B175,'Daily Log'!#REF!),0)","v":0},{"$f":"IFERROR($E175*SUMIF('Daily Log'!#REF!,$B175,'Daily Log'!#REF!),0)","v":0},{"$f":"IFERROR($E175*SUMIF('Daily Log'!#REF!,$B175,'Daily Log'!#REF!),0)","v":0},{"$f":"IFERROR($E175*SUMIF('Daily Log'!#REF!,$B175,'Daily Log'!#REF!),0)","v":0},{"$f":"IFERROR($E175*SUMIF('Daily Log'!#REF!,$B175,'Daily Log'!#REF!),0)","v":0},{"$f":"IFERROR($E175*SUMIF('Daily Log'!#REF!,$B175,'Daily Log'!#REF!),0)","v":0}]
[null,"BA17 TIGER 3+1",null,"BEER ",12,0,{"$f":"IFERROR($E176*SUMIF('Daily Log'!$B$18:$B$1017,$B176,'Daily Log'!$C$18:$C$1017),0)","v":0},{"$f":"IFERROR($E176*SUMIF('Daily Log'!$E$18:$E$1017,$B176,'Daily Log'!$F$18:$F$1017),0)","v":0},{"$f":"IFERROR($E176*SUMIF('Daily Log'!$H$18:$H$1017,$B176,'Daily Log'!$I$18:$I$1017),0)","v":0},{"$f":"IFERROR($E176*SUMIF('Daily Log'!$K$18:$K$1017,$B176,'Daily Log'!$L$18:$L$1017),0)","v":0},{"$f":"IFERROR($E176*SUMIF('Daily Log'!$N$18:$N$1017,$B176,'Daily Log'!$O$18:$O$1017),0)","v":0},{"$f":"IFERROR($E176*SUMIF('Daily Log'!#REF!,$B176,'Daily Log'!#REF!),0)","v":0},{"$f":"IFERROR($E176*SUMIF('Daily Log'!#REF!,$B176,'Daily Log'!#REF!),0)","v":0},{"$f":"IFERROR($E176*SUMIF('Daily Log'!#REF!,$B176,'Daily Log'!#REF!),0)","v":0},{"$f":"IFERROR($E176*SUMIF('Daily Log'!#REF!,$B176,'Daily Log'!#REF!),0)","v":0},{"$f":"IFERROR($E176*SUMIF('Daily Log'!#REF!,$B176,'Daily Log'!#REF!),0)","v":0},{"$f":"IFERROR($E176*SUMIF('Daily Log'!#REF!,$B176,'Daily Log'!#REF!),0)","v":0},{"$f":"IFERROR($E176*SUMIF('Daily Log'!#REF!,$B176,'Daily Log'!#REF!),0)","v":0},{"$f":"IFERROR($E176*SUMIF('Daily Log'!#REF!,$B176,'Daily Log'!#REF!),0)","v":0},{"$f":"IFERROR($E176*SUMIF('Daily Log'!#REF!,$B176,'Daily Log'!#REF!),0)","v":0},{"$f":"IFERROR($E176*SUMIF('Daily Log'!#REF!,$B176,'Daily Log'!#REF!),0)","v":0},{"$f":"IFERROR($E176*SUMIF('Daily Log'!#REF!,$B176,'Daily Log'!#REF!),0)","v":0},{"$f":"IFERROR($E176*SUMIF('Daily Log'!#REF!,$B176,'Daily Log'!#REF!),0)","v":0},{"$f":"IFERROR($E176*SUMIF('Daily Log'!#REF!,$B176,'Daily Log'!#REF!),0)","v":0},{"$f":"IFERROR($E176*SUMIF('Daily Log'!#REF!,$B176,'Daily Log'!#REF!),0)","v":0},{"$f":"IFERROR($E176*SUMIF('Daily Log'!#REF!,$B176,'Daily Log'!#REF!),0)","v":0},{"$f":"IFERROR($E176*SUMIF('Daily Log'!#REF!,$B176,'Daily Log'!#REF!),0)","v":0},{"$f":"IFERROR($E176*SUMIF('Daily Log'!#REF!,$B176,'Daily Log'!#REF!),0)","v":0},{"$f":"IFERROR($E176*SUMIF('Daily Log'!#REF!,$B176,'Daily Log'!#REF!),0)","v":0},{"$f":"IFERROR($E176*SUMIF('Daily Log'!#REF!,$B176,'Daily Log'!#REF!),0)","v":0},{"$f":"IFERROR($E176*SUMIF('Daily Log'!#REF!,$B176,'Daily Log'!#REF!),0)","v":0},{"$f":"IFERROR($E176*SUMIF('Daily Log'!#REF!,$B176,'Daily Log'!#REF!),0)","v":0},{"$f":"IFERROR($E176*SUMIF('Daily Log'!#REF!,$B176,'Daily Log'!#REF!),0)","v":0},{"$f":"IFERROR($E176*SUMIF('Daily Log'!#REF!,$B176,'Daily Log'!#REF!),0)","v":0},{"$f":"IFERROR($E176*SUMIF('Daily Log'!#REF!,$B176,'Daily Log'!#REF!),0)","v":0},{"$f":"IFERROR($E176*SUMIF('Daily Log'!#REF!,$B176,'Daily Log'!#REF!),0)","v":0},{"$f":"IFERROR($E176*SUMIF('Daily Log'!#REF!,$B176,'Daily Log'!#REF!),0)","v":0}]
[null,"BA18 BP+MEAL",null,"BEER ",null,0,{"$f":"IFERROR($E177*SUMIF('Daily Log'!$B$18:$B$1017,$B177,'Daily Log'!$C$18:$C$1017),0)","v":0},{"$f":"IFERROR($E177*SUMIF('Daily Log'!$E$18:$E$1017,$B177,'Daily Log'!$F$18:$F$1017),0)","v":0},{"$f":"IFERROR($E177*SUMIF('Daily Log'!$H$18:$H$1017,$B177,'Daily Log'!$I$18:$I$1017),0)","v":0},{"$f":"IFERROR($E177*SUMIF('Daily Log'!$K$18:$K$1017,$B177,'Daily Log'!$L$18:$L$1017),0)","v":0},{"$f":"IFERROR($E177*SUMIF('Daily Log'!$N$18:$N$1017,$B177,'Daily Log'!$O$18:$O$1017),0)","v":0},{"$f":"IFERROR($E177*SUMIF('Daily Log'!#REF!,$B177,'Daily Log'!#REF!),0)","v":0},{"$f":"IFERROR($E177*SUMIF('Daily Log'!#REF!,$B177,'Daily Log'!#REF!),0)","v":0},{"$f":"IFERROR($E177*SUMIF('Daily Log'!#REF!,$B177,'Daily Log'!#REF!),0)","v":0},{"$f":"IFERROR($E177*SUMIF('Daily Log'!#REF!,$B177,'Daily Log'!#REF!),0)","v":0},{"$f":"IFERROR($E177*SUMIF('Daily Log'!#REF!,$B177,'Daily Log'!#REF!),0)","v":0},{"$f":"IFERROR($E177*SUMIF('Daily Log'!#REF!,$B177,'Daily Log'!#REF!),0)","v":0},{"$f":"IFERROR($E177*SUMIF('Daily Log'!#REF!,$B177,'Daily Log'!#REF!),0)","v":0},{"$f":"IFERROR($E177*SUMIF('Daily Log'!#REF!,$B177,'Daily Log'!#REF!),0)","v":0},{"$f":"IFERROR($E177*SUMIF('Daily Log'!#REF!,$B177,'Daily Log'!#REF!),0)","v":0},{"$f":"IFERROR($E177*SUMIF('Daily Log'!#REF!,$B177,'Daily Log'!#REF!),0)","v":0},{"$f":"IFERROR($E177*SUMIF('Daily Log'!#REF!,$B177,'Daily Log'!#REF!),0)","v":0},{"$f":"IFERROR($E177*SUMIF('Daily Log'!#REF!,$B177,'Daily Log'!#REF!),0)","v":0},{"$f":"IFERROR($E177*SUMIF('Daily Log'!#REF!,$B177,'Daily Log'!#REF!),0)","v":0},{"$f":"IFERROR($E177*SUMIF('Daily Log'!#REF!,$B177,'Daily Log'!#REF!),0)","v":0},{"$f":"IFERROR($E177*SUMIF('Daily Log'!#REF!,$B177,'Daily Log'!#REF!),0)","v":0},{"$f":"IFERROR($E177*SUMIF('Daily Log'!#REF!,$B177,'Daily Log'!#REF!),0)","v":0},{"$f":"IFERROR($E177*SUMIF('Daily Log'!#REF!,$B177,'Daily Log'!#REF!),0)","v":0},{"$f":"IFERROR($E177*SUMIF('Daily Log'!#REF!,$B177,'Daily Log'!#REF!),0)","v":0},{"$f":"IFERROR($E177*SUMIF('Daily Log'!#REF!,$B177,'Daily Log'!#REF!),0)","v":0},{"$f":"IFERROR($E177*SUMIF('Daily Log'!#REF!,$B177,'Daily Log'!#REF!),0)","v":0},{"$f":"IFERROR($E177*SUMIF('Daily Log'!#REF!,$B177,'Daily Log'!#REF!),0)","v":0},{"$f":"IFERROR($E177*SUMIF('Daily Log'!#REF!,$B177,'Daily Log'!#REF!),0)","v":0},{"$f":"IFERROR($E177*SUMIF('Daily Log'!#REF!,$B177,'Daily Log'!#REF!),0)","v":0},{"$f":"IFERROR($E177*SUMIF('Daily Log'!#REF!,$B177,'Daily Log'!#REF!),0)","v":0},{"$f":"IFERROR($E177*SUMIF('Daily Log'!#REF!,$B177,'Daily Log'!#REF!),0)","v":0},{"$f":"IFERROR($E177*SUMIF('Daily Log'!#REF!,$B177,'Daily Log'!#REF!),0)","v":0}]
[null,"BA19 Tiger 2+1",null,"BEER ",12,0,{"$f":"IFERROR($E178*SUMIF('Daily Log'!$B$18:$B$1017,$B178,'Daily Log'!$C$18:$C$1017),0)","v":0},{"$f":"IFERROR($E178*SUMIF('Daily Log'!$E$18:$E$1017,$B178,'Daily Log'!$F$18:$F$1017),0)","v":0},{"$f":"IFERROR($E178*SUMIF('Daily Log'!$H$18:$H$1017,$B178,'Daily Log'!$I$18:$I$1017),0)","v":0},{"$f":"IFERROR($E178*SUMIF('Daily Log'!$K$18:$K$1017,$B178,'Daily Log'!$L$18:$L$1017),0)","v":0},{"$f":"IFERROR($E178*SUMIF('Daily Log'!$N$18:$N$1017,$B178,'Daily Log'!$O$18:$O$1017),0)","v":0},{"$f":"IFERROR($E178*SUMIF('Daily Log'!#REF!,$B178,'Daily Log'!#REF!),0)","v":0},{"$f":"IFERROR($E178*SUMIF('Daily Log'!#REF!,$B178,'Daily Log'!#REF!),0)","v":0},{"$f":"IFERROR($E178*SUMIF('Daily Log'!#REF!,$B178,'Daily Log'!#REF!),0)","v":0},{"$f":"IFERROR($E178*SUMIF('Daily Log'!#REF!,$B178,'Daily Log'!#REF!),0)","v":0},{"$f":"IFERROR($E178*SUMIF('Daily Log'!#REF!,$B178,'Daily Log'!#REF!),0)","v":0},{"$f":"IFERROR($E178*SUMIF('Daily Log'!#REF!,$B178,'Daily Log'!#REF!),0)","v":0},{"$f":"IFERROR($E178*SUMIF('Daily Log'!#REF!,$B178,'Daily Log'!#REF!),0)","v":0},{"$f":"IFERROR($E178*SUMIF('Daily Log'!#REF!,$B178,'Daily Log'!#REF!),0)","v":0},{"$f":"IFERROR($E178*SUMIF('Daily Log'!#REF!,$B178,'Daily Log'!#REF!),0)","v":0},{"$f":"IFERROR($E178*SUMIF('Daily Log'!#REF!,$B178,'Daily Log'!#REF!),0)","v":0},{"$f":"IFERROR($E178*SUMIF('Daily Log'!#REF!,$B178,'Daily Log'!#REF!),0)","v":0},{"$f":"IFERROR($E178*SUMIF('Daily Log'!#REF!,$B178,'Daily Log'!#REF!),0)","v":0},{"$f":"IFERROR($E178*SUMIF('Daily Log'!#REF!,$B178,'Daily Log'!#REF!),0)","v":0},{"$f":"IFERROR($E178*SUMIF('Daily Log'!#REF!,$B178,'Daily Log'!#REF!),0)","v":0},{"$f":"IFERROR($E178*SUMIF('Daily Log'!#REF!,$B178,'Daily Log'!#REF!),0)","v":0},{"$f":"IFERROR($E178*SUMIF('Daily Log'!#REF!,$B178,'Daily Log'!#REF!),0)","v":0},{"$f":"IFERROR($E178*SUMIF('Daily Log'!#REF!,$B178,'Daily Log'!#REF!),0)","v":0},{"$f":"IFERROR($E178*SUMIF('Daily Log'!#REF!,$B178,'Daily Log'!#REF!),0)","v":0},{"$f":"IFERROR($E178*SUMIF('Daily Log'!#REF!,$B178,'Daily Log'!#REF!),0)","v":0},{"$f":"IFERROR($E178*SUMIF('Daily Log'!#REF!,$B178,'Daily Log'!#REF!),0)","v":0},{"$f":"IFERROR($E178*SUMIF('Daily Log'!#REF!,$B178,'Daily Log'!#REF!),0)","v":0},{"$f":"IFERROR($E178*SUMIF('Daily Log'!#REF!,$B178,'Daily Log'!#REF!),0)","v":0},{"$f":"IFERROR($E178*SUMIF('Daily Log'!#REF!,$B178,'Daily Log'!#REF!),0)","v":0},{"$f":"IFERROR($E178*SUMIF('Daily Log'!#REF!,$B178,'Daily Log'!#REF!),0)","v":0},{"$f":"IFERROR($E178*SUMIF('Daily Log'!#REF!,$B178,'Daily Log'!#REF!),0)","v":0},{"$f":"IFERROR($E178*SUMIF('Daily Log'!#REF!,$B178,'Daily Log'!#REF!),0)","v":0}]
[null,"BA20 Heineken 3+1",null,"BEER ",16,16,{"$f":"IFERROR($E179*SUMIF('Daily Log'!$B$18:$B$1017,$B179,'Daily Log'!$C$18:$C$1017),0)","v":16},{"$f":"IFERROR($E179*SUMIF('Daily Log'!$E$18:$E$1017,$B179,'Daily Log'!$F$18:$F$1017),0)","v":0},{"$f":"IFERROR($E179*SUMIF('Daily Log'!$H$18:$H$1017,$B179,'Daily Log'!$I$18:$I$1017),0)","v":0},{"$f":"IFERROR($E179*SUMIF('Daily Log'!$K$18:$K$1017,$B179,'Daily Log'!$L$18:$L$1017),0)","v":0},{"$f":"IFERROR($E179*SUMIF('Daily Log'!$N$18:$N$1017,$B179,'Daily Log'!$O$18:$O$1017),0)","v":0},{"$f":"IFERROR($E179*SUMIF('Daily Log'!#REF!,$B179,'Daily Log'!#REF!),0)","v":0},{"$f":"IFERROR($E179*SUMIF('Daily Log'!#REF!,$B179,'Daily Log'!#REF!),0)","v":0},{"$f":"IFERROR($E179*SUMIF('Daily Log'!#REF!,$B179,'Daily Log'!#REF!),0)","v":0},{"$f":"IFERROR($E179*SUMIF('Daily Log'!#REF!,$B179,'Daily Log'!#REF!),0)","v":0},{"$f":"IFERROR($E179*SUMIF('Daily Log'!#REF!,$B179,'Daily Log'!#REF!),0)","v":0},{"$f":"IFERROR($E179*SUMIF('Daily Log'!#REF!,$B179,'Daily Log'!#REF!),0)","v":0},{"$f":"IFERROR($E179*SUMIF('Daily Log'!#REF!,$B179,'Daily Log'!#REF!),0)","v":0},{"$f":"IFERROR($E179*SUMIF('Daily Log'!#REF!,$B179,'Daily Log'!#REF!),0)","v":0},{"$f":"IFERROR($E179*SUMIF('Daily Log'!#REF!,$B179,'Daily Log'!#REF!),0)","v":0},{"$f":"IFERROR($E179*SUMIF('Daily Log'!#REF!,$B179,'Daily Log'!#REF!),0)","v":0},{"$f":"IFERROR($E179*SUMIF('Daily Log'!#REF!,$B179,'Daily Log'!#REF!),0)","v":0},{"$f":"IFERROR($E179*SUMIF('Daily Log'!#REF!,$B179,'Daily Log'!#REF!),0)","v":0},{"$f":"IFERROR($E179*SUMIF('Daily Log'!#REF!,$B179,'Daily Log'!#REF!),0)","v":0},{"$f":"IFERROR($E179*SUMIF('Daily Log'!#REF!,$B179,'Daily Log'!#REF!),0)","v":0},{"$f":"IFERROR($E179*SUMIF('Daily Log'!#REF!,$B179,'Daily Log'!#REF!),0)","v":0},{"$f":"IFERROR($E179*SUMIF('Daily Log'!#REF!,$B179,'Daily Log'!#REF!),0)","v":0},{"$f":"IFERROR($E179*SUMIF('Daily Log'!#REF!,$B179,'Daily Log'!#REF!),0)","v":0},{"$f":"IFERROR($E179*SUMIF('Daily Log'!#REF!,$B179,'Daily Log'!#REF!),0)","v":0},{"$f":"IFERROR($E179*SUMIF('Daily Log'!#REF!,$B179,'Daily Log'!#REF!),0)","v":0},{"$f":"IFERROR($E179*SUMIF('Daily Log'!#REF!,$B179,'Daily Log'!#REF!),0)","v":0},{"$f":"IFERROR($E179*SUMIF('Daily Log'!#REF!,$B179,'Daily Log'!#REF!),0)","v":0},{"$f":"IFERROR($E179*SUMIF('Daily Log'!#REF!,$B179,'Daily Log'!#REF!),0)","v":0},{"$f":"IFERROR($E179*SUMIF('Daily Log'!#REF!,$B179,'Daily Log'!#REF!),0)","v":0},{"$f":"IFERROR($E179*SUMIF('Daily Log'!#REF!,$B179,'Daily Log'!#REF!),0)","v":0},{"$f":"IFERROR($E179*SUMIF('Daily Log'!#REF!,$B179,'Daily Log'!#REF!),0)","v":0},{"$f":"IFERROR($E179*SUMIF('Daily Log'!#REF!,$B179,'Daily Log'!#REF!),0)","v":0}]
[null,"CA01 GRAPE J",null,"SIDE ORDER-COLD BEVERAGE",1,0,{"$f":"IFERROR($E180*SUMIF('Daily Log'!$B$18:$B$1017,$B180,'Daily Log'!$C$18:$C$1017),0)","v":0},{"$f":"IFERROR($E180*SUMIF('Daily Log'!$E$18:$E$1017,$B180,'Daily Log'!$F$18:$F$1017),0)","v":0},{"$f":"IFERROR($E180*SUMIF('Daily Log'!$H$18:$H$1017,$B180,'Daily Log'!$I$18:$I$1017),0)","v":0},{"$f":"IFERROR($E180*SUMIF('Daily Log'!$K$18:$K$1017,$B180,'Daily Log'!$L$18:$L$1017),0)","v":0},{"$f":"IFERROR($E180*SUMIF('Daily Log'!$N$18:$N$1017,$B180,'Daily Log'!$O$18:$O$1017),0)","v":0},{"$f":"IFERROR($E180*SUMIF('Daily Log'!#REF!,$B180,'Daily Log'!#REF!),0)","v":0},{"$f":"IFERROR($E180*SUMIF('Daily Log'!#REF!,$B180,'Daily Log'!#REF!),0)","v":0},{"$f":"IFERROR($E180*SUMIF('Daily Log'!#REF!,$B180,'Daily Log'!#REF!),0)","v":0},{"$f":"IFERROR($E180*SUMIF('Daily Log'!#REF!,$B180,'Daily Log'!#REF!),0)","v":0},{"$f":"IFERROR($E180*SUMIF('Daily Log'!#REF!,$B180,'Daily Log'!#REF!),0)","v":0},{"$f":"IFERROR($E180*SUMIF('Daily Log'!#REF!,$B180,'Daily Log'!#REF!),0)","v":0},{"$f":"IFERROR($E180*SUMIF('Daily Log'!#REF!,$B180,'Daily Log'!#REF!),0)","v":0},{"$f":"IFERROR($E180*SUMIF('Daily Log'!#REF!,$B180,'Daily Log'!#REF!),0)","v":0},{"$f":"IFERROR($E180*SUMIF('Daily Log'!#REF!,$B180,'Daily Log'!#REF!),0)","v":0},{"$f":"IFERROR($E180*SUMIF('Daily Log'!#REF!,$B180,'Daily Log'!#REF!),0)","v":0},{"$f":"IFERROR($E180*SUMIF('Daily Log'!#REF!,$B180,'Daily Log'!#REF!),0)","v":0},{"$f":"IFERROR($E180*SUMIF('Daily Log'!#REF!,$B180,'Daily Log'!#REF!),0)","v":0},{"$f":"IFERROR($E180*SUMIF('Daily Log'!#REF!,$B180,'Daily Log'!#REF!),0)","v":0},{"$f":"IFERROR($E180*SUMIF('Daily Log'!#REF!,$B180,'Daily Log'!#REF!),0)","v":0},{"$f":"IFERROR($E180*SUMIF('Daily Log'!#REF!,$B180,'Daily Log'!#REF!),0)","v":0},{"$f":"IFERROR($E180*SUMIF('Daily Log'!#REF!,$B180,'Daily Log'!#REF!),0)","v":0},{"$f":"IFERROR($E180*SUMIF('Daily Log'!#REF!,$B180,'Daily Log'!#REF!),0)","v":0},{"$f":"IFERROR($E180*SUMIF('Daily Log'!#REF!,$B180,'Daily Log'!#REF!),0)","v":0},{"$f":"IFERROR($E180*SUMIF('Daily Log'!#REF!,$B180,'Daily Log'!#REF!),0)","v":0},{"$f":"IFERROR($E180*SUMIF('Daily Log'!#REF!,$B180,'Daily Log'!#REF!),0)","v":0},{"$f":"IFERROR($E180*SUMIF('Daily Log'!#REF!,$B180,'Daily Log'!#REF!),0)","v":0},{"$f":"IFERROR($E180*SUMIF('Daily Log'!#REF!,$B180,'Daily Log'!#REF!),0)","v":0},{"$f":"IFERROR($E180*SUMIF('Daily Log'!#REF!,$B180,'Daily Log'!#REF!),0)","v":0},{"$f":"IFERROR($E180*SUMIF('Daily Log'!#REF!,$B180,'Daily Log'!#REF!),0)","v":0},{"$f":"IFERROR($E180*SUMIF('Daily Log'!#REF!,$B180,'Daily Log'!#REF!),0)","v":0},{"$f":"IFERROR($E180*SUMIF('Daily Log'!#REF!,$B180,'Daily Log'!#REF!),0)","v":0}]
[null,"CA02 APPLE J",null,"SIDE ORDER-COLD BEVERAGE",1,1,{"$f":"IFERROR($E181*SUMIF('Daily Log'!$B$18:$B$1017,$B181,'Daily Log'!$C$18:$C$1017),0)","v":1},{"$f":"IFERROR($E181*SUMIF('Daily Log'!$E$18:$E$1017,$B181,'Daily Log'!$F$18:$F$1017),0)","v":0},{"$f":"IFERROR($E181*SUMIF('Daily Log'!$H$18:$H$1017,$B181,'Daily Log'!$I$18:$I$1017),0)","v":0},{"$f":"IFERROR($E181*SUMIF('Daily Log'!$K$18:$K$1017,$B181,'Daily Log'!$L$18:$L$1017),0)","v":0},{"$f":"IFERROR($E181*SUMIF('Daily Log'!$N$18:$N$1017,$B181,'Daily Log'!$O$18:$O$1017),0)","v":0},{"$f":"IFERROR($E181*SUMIF('Daily Log'!#REF!,$B181,'Daily Log'!#REF!),0)","v":0},{"$f":"IFERROR($E181*SUMIF('Daily Log'!#REF!,$B181,'Daily Log'!#REF!),0)","v":0},{"$f":"IFERROR($E181*SUMIF('Daily Log'!#REF!,$B181,'Daily Log'!#REF!),0)","v":0},{"$f":"IFERROR($E181*SUMIF('Daily Log'!#REF!,$B181,'Daily Log'!#REF!),0)","v":0},{"$f":"IFERROR($E181*SUMIF('Daily Log'!#REF!,$B181,'Daily Log'!#REF!),0)","v":0},{"$f":"IFERROR($E181*SUMIF('Daily Log'!#REF!,$B181,'Daily Log'!#REF!),0)","v":0},{"$f":"IFERROR($E181*SUMIF('Daily Log'!#REF!,$B181,'Daily Log'!#REF!),0)","v":0},{"$f":"IFERROR($E181*SUMIF('Daily Log'!#REF!,$B181,'Daily Log'!#REF!),0)","v":0},{"$f":"IFERROR($E181*SUMIF('Daily Log'!#REF!,$B181,'Daily Log'!#REF!),0)","v":0},{"$f":"IFERROR($E181*SUMIF('Daily Log'!#REF!,$B181,'Daily Log'!#REF!),0)","v":0},{"$f":"IFERROR($E181*SUMIF('Daily Log'!#REF!,$B181,'Daily Log'!#REF!),0)","v":0},{"$f":"IFERROR($E181*SUMIF('Daily Log'!#REF!,$B181,'Daily Log'!#REF!),0)","v":0},{"$f":"IFERROR($E181*SUMIF('Daily Log'!#REF!,$B181,'Daily Log'!#REF!),0)","v":0},{"$f":"IFERROR($E181*SUMIF('Daily Log'!#REF!,$B181,'Daily Log'!#REF!),0)","v":0},{"$f":"IFERROR($E181*SUMIF('Daily Log'!#REF!,$B181,'Daily Log'!#REF!),0)","v":0},{"$f":"IFERROR($E181*SUMIF('Daily Log'!#REF!,$B181,'Daily Log'!#REF!),0)","v":0},{"$f":"IFERROR($E181*SUMIF('Daily Log'!#REF!,$B181,'Daily Log'!#REF!),0)","v":0},{"$f":"IFERROR($E181*SUMIF('Daily Log'!#REF!,$B181,'Daily Log'!#REF!),0)","v":0},{"$f":"IFERROR($E181*SUMIF('Daily Log'!#REF!,$B181,'Daily Log'!#REF!),0)","v":0},{"$f":"IFERROR($E181*SUMIF('Daily Log'!#REF!,$B181,'Daily Log'!#REF!),0)","v":0},{"$f":"IFERROR($E181*SUMIF('Daily Log'!#REF!,$B181,'Daily Log'!#REF!),0)","v":0},{"$f":"IFERROR($E181*SUMIF('Daily Log'!#REF!,$B181,'Daily Log'!#REF!),0)","v":0},{"$f":"IFERROR($E181*SUMIF('Daily Log'!#REF!,$B181,'Daily Log'!#REF!),0)","v":0},{"$f":"IFERROR($E181*SUMIF('Daily Log'!#REF!,$B181,'Daily Log'!#REF!),0)","v":0},{"$f":"IFERROR($E181*SUMIF('Daily Log'!#REF!,$B181,'Daily Log'!#REF!),0)","v":0},{"$f":"IFERROR($E181*SUMIF('Daily Log'!#REF!,$B181,'Daily Log'!#REF!),0)","v":0}]
[null,"CA03 KIWI J",null,"SIDE ORDER-COLD BEVERAGE",1,0,{"$f":"IFERROR($E182*SUMIF('Daily Log'!$B$18:$B$1017,$B182,'Daily Log'!$C$18:$C$1017),0)","v":0},{"$f":"IFERROR($E182*SUMIF('Daily Log'!$E$18:$E$1017,$B182,'Daily Log'!$F$18:$F$1017),0)","v":0},{"$f":"IFERROR($E182*SUMIF('Daily Log'!$H$18:$H$1017,$B182,'Daily Log'!$I$18:$I$1017),0)","v":0},{"$f":"IFERROR($E182*SUMIF('Daily Log'!$K$18:$K$1017,$B182,'Daily Log'!$L$18:$L$1017),0)","v":0},{"$f":"IFERROR($E182*SUMIF('Daily Log'!$N$18:$N$1017,$B182,'Daily Log'!$O$18:$O$1017),0)","v":0},{"$f":"IFERROR($E182*SUMIF('Daily Log'!#REF!,$B182,'Daily Log'!#REF!),0)","v":0},{"$f":"IFERROR($E182*SUMIF('Daily Log'!#REF!,$B182,'Daily Log'!#REF!),0)","v":0},{"$f":"IFERROR($E182*SUMIF('Daily Log'!#REF!,$B182,'Daily Log'!#REF!),0)","v":0},{"$f":"IFERROR($E182*SUMIF('Daily Log'!#REF!,$B182,'Daily Log'!#REF!),0)","v":0},{"$f":"IFERROR($E182*SUMIF('Daily Log'!#REF!,$B182,'Daily Log'!#REF!),0)","v":0},{"$f":"IFERROR($E182*SUMIF('Daily Log'!#REF!,$B182,'Daily Log'!#REF!),0)","v":0},{"$f":"IFERROR($E182*SUMIF('Daily Log'!#REF!,$B182,'Daily Log'!#REF!),0)","v":0},{"$f":"IFERROR($E182*SUMIF('Daily Log'!#REF!,$B182,'Daily Log'!#REF!),0)","v":0},{"$f":"IFERROR($E182*SUMIF('Daily Log'!#REF!,$B182,'Daily Log'!#REF!),0)","v":0},{"$f":"IFERROR($E182*SUMIF('Daily Log'!#REF!,$B182,'Daily Log'!#REF!),0)","v":0},{"$f":"IFERROR($E182*SUMIF('Daily Log'!#REF!,$B182,'Daily Log'!#REF!),0)","v":0},{"$f":"IFERROR($E182*SUMIF('Daily Log'!#REF!,$B182,'Daily Log'!#REF!),0)","v":0},{"$f":"IFERROR($E182*SUMIF('Daily Log'!#REF!,$B182,'Daily Log'!#REF!),0)","v":0},{"$f":"IFERROR($E182*SUMIF('Daily Log'!#REF!,$B182,'Daily Log'!#REF!),0)","v":0},{"$f":"IFERROR($E182*SUMIF('Daily Log'!#REF!,$B182,'Daily Log'!#REF!),0)","v":0},{"$f":"IFERROR($E182*SUMIF('Daily Log'!#REF!,$B182,'Daily Log'!#REF!),0)","v":0},{"$f":"IFERROR($E182*SUMIF('Daily Log'!#REF!,$B182,'Daily Log'!#REF!),0)","v":0},{"$f":"IFERROR($E182*SUMIF('Daily Log'!#REF!,$B182,'Daily Log'!#REF!),0)","v":0},{"$f":"IFERROR($E182*SUMIF('Daily Log'!#REF!,$B182,'Daily Log'!#REF!),0)","v":0},{"$f":"IFERROR($E182*SUMIF('Daily Log'!#REF!,$B182,'Daily Log'!#REF!),0)","v":0},{"$f":"IFERROR($E182*SUMIF('Daily Log'!#REF!,$B182,'Daily Log'!#REF!),0)","v":0},{"$f":"IFERROR($E182*SUMIF('Daily Log'!#REF!,$B182,'Daily Log'!#REF!),0)","v":0},{"$f":"IFERROR($E182*SUMIF('Daily Log'!#REF!,$B182,'Daily Log'!#REF!),0)","v":0},{"$f":"IFERROR($E182*SUMIF('Daily Log'!#REF!,$B182,'Daily Log'!#REF!),0)","v":0},{"$f":"IFERROR($E182*SUMIF('Daily Log'!#REF!,$B182,'Daily Log'!#REF!),0)","v":0},{"$f":"IFERROR($E182*SUMIF('Daily Log'!#REF!,$B182,'Daily Log'!#REF!),0)","v":0}]
[null,"CA04 MANGO J",null,"SIDE ORDER-COLD BEVERAGE",1,0,{"$f":"IFERROR($E183*SUMIF('Daily Log'!$B$18:$B$1017,$B183,'Daily Log'!$C$18:$C$1017),0)","v":0},{"$f":"IFERROR($E183*SUMIF('Daily Log'!$E$18:$E$1017,$B183,'Daily Log'!$F$18:$F$1017),0)","v":0},{"$f":"IFERROR($E183*SUMIF('Daily Log'!$H$18:$H$1017,$B183,'Daily Log'!$I$18:$I$1017),0)","v":0},{"$f":"IFERROR($E183*SUMIF('Daily Log'!$K$18:$K$1017,$B183,'Daily Log'!$L$18:$L$1017),0)","v":0},{"$f":"IFERROR($E183*SUMIF('Daily Log'!$N$18:$N$1017,$B183,'Daily Log'!$O$18:$O$1017),0)","v":0},{"$f":"IFERROR($E183*SUMIF('Daily Log'!#REF!,$B183,'Daily Log'!#REF!),0)","v":0},{"$f":"IFERROR($E183*SUMIF('Daily Log'!#REF!,$B183,'Daily Log'!#REF!),0)","v":0},{"$f":"IFERROR($E183*SUMIF('Daily Log'!#REF!,$B183,'Daily Log'!#REF!),0)","v":0},{"$f":"IFERROR($E183*SUMIF('Daily Log'!#REF!,$B183,'Daily Log'!#REF!),0)","v":0},{"$f":"IFERROR($E183*SUMIF('Daily Log'!#REF!,$B183,'Daily Log'!#REF!),0)","v":0},{"$f":"IFERROR($E183*SUMIF('Daily Log'!#REF!,$B183,'Daily Log'!#REF!),0)","v":0},{"$f":"IFERROR($E183*SUMIF('Daily Log'!#REF!,$B183,'Daily Log'!#REF!),0)","v":0},{"$f":"IFERROR($E183*SUMIF('Daily Log'!#REF!,$B183,'Daily Log'!#REF!),0)","v":0},{"$f":"IFERROR($E183*SUMIF('Daily Log'!#REF!,$B183,'Daily Log'!#REF!),0)","v":0},{"$f":"IFERROR($E183*SUMIF('Daily Log'!#REF!,$B183,'Daily Log'!#REF!),0)","v":0},{"$f":"IFERROR($E183*SUMIF('Daily Log'!#REF!,$B183,'Daily Log'!#REF!),0)","v":0},{"$f":"IFERROR($E183*SUMIF('Daily Log'!#REF!,$B183,'Daily Log'!#REF!),0)","v":0},{"$f":"IFERROR($E183*SUMIF('Daily Log'!#REF!,$B183,'Daily Log'!#REF!),0)","v":0},{"$f":"IFERROR($E183*SUMIF('Daily Log'!#REF!,$B183,'Daily Log'!#REF!),0)","v":0},{"$f":"IFERROR($E183*SUMIF('Daily Log'!#REF!,$B183,'Daily Log'!#REF!),0)","v":0},{"$f":"IFERROR($E183*SUMIF('Daily Log'!#REF!,$B183,'Daily Log'!#REF!),0)","v":0},{"$f":"IFERROR($E183*SUMIF('Daily Log'!#REF!,$B183,'Daily Log'!#REF!),0)","v":0},{"$f":"IFERROR($E183*SUMIF('Daily Log'!#REF!,$B183,'Daily Log'!#REF!),0)","v":0},{"$f":"IFERROR($E183*SUMIF('Daily Log'!#REF!,$B183,'Daily Log'!#REF!),0)","v":0},{"$f":"IFERROR($E183*SUMIF('Daily Log'!#REF!,$B183,'Daily Log'!#REF!),0)","v":0},{"$f":"IFERROR($E183*SUMIF('Daily Log'!#REF!,$B183,'Daily Log'!#REF!),0)","v":0},{"$f":"IFERROR($E183*SUMIF('Daily Log'!#REF!,$B183,'Daily Log'!#REF!),0)","v":0},{"$f":"IFERROR($E183*SUMIF('Daily Log'!#REF!,$B183,'Daily Log'!#REF!),0)","v":0},{"$f":"IFERROR($E183*SUMIF('Daily Log'!#REF!,$B183,'Daily Log'!#REF!),0)","v":0},{"$f":"IFERROR($E183*SUMIF('Daily Log'!#REF!,$B183,'Daily Log'!#REF!),0)","v":0},{"$f":"IFERROR($E183*SUMIF('Daily Log'!#REF!,$B183,'Daily Log'!#REF!),0)","v":0}]
[null,"CA05 PASSION J",null,"SIDE ORDER-COLD BEVERAGE",1,0,{"$f":"IFERROR($E184*SUMIF('Daily Log'!$B$18:$B$1017,$B184,'Daily Log'!$C$18:$C$1017),0)","v":0},{"$f":"IFERROR($E184*SUMIF('Daily Log'!$E$18:$E$1017,$B184,'Daily Log'!$F$18:$F$1017),0)","v":0},{"$f":"IFERROR($E184*SUMIF('Daily Log'!$H$18:$H$1017,$B184,'Daily Log'!$I$18:$I$1017),0)","v":0},{"$f":"IFERROR($E184*SUMIF('Daily Log'!$K$18:$K$1017,$B184,'Daily Log'!$L$18:$L$1017),0)","v":0},{"$f":"IFERROR($E184*SUMIF('Daily Log'!$N$18:$N$1017,$B184,'Daily Log'!$O$18:$O$1017),0)","v":0},{"$f":"IFERROR($E184*SUMIF('Daily Log'!#REF!,$B184,'Daily Log'!#REF!),0)","v":0},{"$f":"IFERROR($E184*SUMIF('Daily Log'!#REF!,$B184,'Daily Log'!#REF!),0)","v":0},{"$f":"IFERROR($E184*SUMIF('Daily Log'!#REF!,$B184,'Daily Log'!#REF!),0)","v":0},{"$f":"IFERROR($E184*SUMIF('Daily Log'!#REF!,$B184,'Daily Log'!#REF!),0)","v":0},{"$f":"IFERROR($E184*SUMIF('Daily Log'!#REF!,$B184,'Daily Log'!#REF!),0)","v":0},{"$f":"IFERROR($E184*SUMIF('Daily Log'!#REF!,$B184,'Daily Log'!#REF!),0)","v":0},{"$f":"IFERROR($E184*SUMIF('Daily Log'!#REF!,$B184,'Daily Log'!#REF!),0)","v":0},{"$f":"IFERROR($E184*SUMIF('Daily Log'!#REF!,$B184,'Daily Log'!#REF!),0)","v":0},{"$f":"IFERROR($E184*SUMIF('Daily Log'!#REF!,$B184,'Daily Log'!#REF!),0)","v":0},{"$f":"IFERROR($E184*SUMIF('Daily Log'!#REF!,$B184,'Daily Log'!#REF!),0)","v":0},{"$f":"IFERROR($E184*SUMIF('Daily Log'!#REF!,$B184,'Daily Log'!#REF!),0)","v":0},{"$f":"IFERROR($E184*SUMIF('Daily Log'!#REF!,$B184,'Daily Log'!#REF!),0)","v":0},{"$f":"IFERROR($E184*SUMIF('Daily Log'!#REF!,$B184,'Daily Log'!#REF!),0)","v":0},{"$f":"IFERROR($E184*SUMIF('Daily Log'!#REF!,$B184,'Daily Log'!#REF!),0)","v":0},{"$f":"IFERROR($E184*SUMIF('Daily Log'!#REF!,$B184,'Daily Log'!#REF!),0)","v":0},{"$f":"IFERROR($E184*SUMIF('Daily Log'!#REF!,$B184,'Daily Log'!#REF!),0)","v":0},{"$f":"IFERROR($E184*SUMIF('Daily Log'!#REF!,$B184,'Daily Log'!#REF!),0)","v":0},{"$f":"IFERROR($E184*SUMIF('Daily Log'!#REF!,$B184,'Daily Log'!#REF!),0)","v":0},{"$f":"IFERROR($E184*SUMIF('Daily Log'!#REF!,$B184,'Daily Log'!#REF!),0)","v":0},{"$f":"IFERROR($E184*SUMIF('Daily Log'!#REF!,$B184,'Daily Log'!#REF!),0)","v":0},{"$f":"IFERROR($E184*SUMIF('Daily Log'!#REF!,$B184,'Daily Log'!#REF!),0)","v":0},{"$f":"IFERROR($E184*SUMIF('Daily Log'!#REF!,$B184,'Daily Log'!#REF!),0)","v":0},{"$f":"IFERROR($E184*SUMIF('Daily Log'!#REF!,$B184,'Daily Log'!#REF!),0)","v":0},{"$f":"IFERROR($E184*SUMIF('Daily Log'!#REF!,$B184,'Daily Log'!#REF!),0)","v":0},{"$f":"IFERROR($E184*SUMIF('Daily Log'!#REF!,$B184,'Daily Log'!#REF!),0)","v":0},{"$f":"IFERROR($E184*SUMIF('Daily Log'!#REF!,$B184,'Daily Log'!#REF!),0)","v":0}]
[null,"CA06 RIBENA J",null,"SIDE ORDER-COLD BEVERAGE",1,0,{"$f":"IFERROR($E185*SUMIF('Daily Log'!$B$18:$B$1017,$B185,'Daily Log'!$C$18:$C$1017),0)","v":0},{"$f":"IFERROR($E185*SUMIF('Daily Log'!$E$18:$E$1017,$B185,'Daily Log'!$F$18:$F$1017),0)","v":0},{"$f":"IFERROR($E185*SUMIF('Daily Log'!$H$18:$H$1017,$B185,'Daily Log'!$I$18:$I$1017),0)","v":0},{"$f":"IFERROR($E185*SUMIF('Daily Log'!$K$18:$K$1017,$B185,'Daily Log'!$L$18:$L$1017),0)","v":0},{"$f":"IFERROR($E185*SUMIF('Daily Log'!$N$18:$N$1017,$B185,'Daily Log'!$O$18:$O$1017),0)","v":0},{"$f":"IFERROR($E185*SUMIF('Daily Log'!#REF!,$B185,'Daily Log'!#REF!),0)","v":0},{"$f":"IFERROR($E185*SUMIF('Daily Log'!#REF!,$B185,'Daily Log'!#REF!),0)","v":0},{"$f":"IFERROR($E185*SUMIF('Daily Log'!#REF!,$B185,'Daily Log'!#REF!),0)","v":0},{"$f":"IFERROR($E185*SUMIF('Daily Log'!#REF!,$B185,'Daily Log'!#REF!),0)","v":0},{"$f":"IFERROR($E185*SUMIF('Daily Log'!#REF!,$B185,'Daily Log'!#REF!),0)","v":0},{"$f":"IFERROR($E185*SUMIF('Daily Log'!#REF!,$B185,'Daily Log'!#REF!),0)","v":0},{"$f":"IFERROR($E185*SUMIF('Daily Log'!#REF!,$B185,'Daily Log'!#REF!),0)","v":0},{"$f":"IFERROR($E185*SUMIF('Daily Log'!#REF!,$B185,'Daily Log'!#REF!),0)","v":0},{"$f":"IFERROR($E185*SUMIF('Daily Log'!#REF!,$B185,'Daily Log'!#REF!),0)","v":0},{"$f":"IFERROR($E185*SUMIF('Daily Log'!#REF!,$B185,'Daily Log'!#REF!),0)","v":0},{"$f":"IFERROR($E185*SUMIF('Daily Log'!#REF!,$B185,'Daily Log'!#REF!),0)","v":0},{"$f":"IFERROR($E185*SUMIF('Daily Log'!#REF!,$B185,'Daily Log'!#REF!),0)","v":0},{"$f":"IFERROR($E185*SUMIF('Daily Log'!#REF!,$B185,'Daily Log'!#REF!),0)","v":0},{"$f":"IFERROR($E185*SUMIF('Daily Log'!#REF!,$B185,'Daily Log'!#REF!),0)","v":0},{"$f":"IFERROR($E185*SUMIF('Daily Log'!#REF!,$B185,'Daily Log'!#REF!),0)","v":0},{"$f":"IFERROR($E185*SUMIF('Daily Log'!#REF!,$B185,'Daily Log'!#REF!),0)","v":0},{"$f":"IFERROR($E185*SUMIF('Daily Log'!#REF!,$B185,'Daily Log'!#REF!),0)","v":0},{"$f":"IFERROR($E185*SUMIF('Daily Log'!#REF!,$B185,'Daily Log'!#REF!),0)","v":0},{"$f":"IFERROR($E185*SUMIF('Daily Log'!#REF!,$B185,'Daily Log'!#REF!),0)","v":0},{"$f":"IFERROR($E185*SUMIF('Daily Log'!#REF!,$B185,'Daily Log'!#REF!),0)","v":0},{"$f":"IFERROR($E185*SUMIF('Daily Log'!#REF!,$B185,'Daily Log'!#REF!),0)","v":0},{"$f":"IFERROR($E185*SUMIF('Daily Log'!#REF!,$B185,'Daily Log'!#REF!),0)","v":0},{"$f":"IFERROR($E185*SUMIF('Daily Log'!#REF!,$B185,'Daily Log'!#REF!),0)","v":0},{"$f":"IFERROR($E185*SUMIF('Daily Log'!#REF!,$B185,'Daily Log'!#REF!),0)","v":0},{"$f":"IFERROR($E185*SUMIF('Daily Log'!#REF!,$B185,'Daily Log'!#REF!),0)","v":0},{"$f":"IFERROR($E185*SUMIF('Daily Log'!#REF!,$B185,'Daily Log'!#REF!),0)","v":0}]
[null,"CB01 GRAPE SO",null,"SIDE ORDER-COLD BEVERAGE",1,0,{"$f":"IFERROR($E186*SUMIF('Daily Log'!$B$18:$B$1017,$B186,'Daily Log'!$C$18:$C$1017),0)","v":0},{"$f":"IFERROR($E186*SUMIF('Daily Log'!$E$18:$E$1017,$B186,'Daily Log'!$F$18:$F$1017),0)","v":0},{"$f":"IFERROR($E186*SUMIF('Daily Log'!$H$18:$H$1017,$B186,'Daily Log'!$I$18:$I$1017),0)","v":0},{"$f":"IFERROR($E186*SUMIF('Daily Log'!$K$18:$K$1017,$B186,'Daily Log'!$L$18:$L$1017),0)","v":0},{"$f":"IFERROR($E186*SUMIF('Daily Log'!$N$18:$N$1017,$B186,'Daily Log'!$O$18:$O$1017),0)","v":0},{"$f":"IFERROR($E186*SUMIF('Daily Log'!#REF!,$B186,'Daily Log'!#REF!),0)","v":0},{"$f":"IFERROR($E186*SUMIF('Daily Log'!#REF!,$B186,'Daily Log'!#REF!),0)","v":0},{"$f":"IFERROR($E186*SUMIF('Daily Log'!#REF!,$B186,'Daily Log'!#REF!),0)","v":0},{"$f":"IFERROR($E186*SUMIF('Daily Log'!#REF!,$B186,'Daily Log'!#REF!),0)","v":0},{"$f":"IFERROR($E186*SUMIF('Daily Log'!#REF!,$B186,'Daily Log'!#REF!),0)","v":0},{"$f":"IFERROR($E186*SUMIF('Daily Log'!#REF!,$B186,'Daily Log'!#REF!),0)","v":0},{"$f":"IFERROR($E186*SUMIF('Daily Log'!#REF!,$B186,'Daily Log'!#REF!),0)","v":0},{"$f":"IFERROR($E186*SUMIF('Daily Log'!#REF!,$B186,'Daily Log'!#REF!),0)","v":0},{"$f":"IFERROR($E186*SUMIF('Daily Log'!#REF!,$B186,'Daily Log'!#REF!),0)","v":0},{"$f":"IFERROR($E186*SUMIF('Daily Log'!#REF!,$B186,'Daily Log'!#REF!),0)","v":0},{"$f":"IFERROR($E186*SUMIF('Daily Log'!#REF!,$B186,'Daily Log'!#REF!),0)","v":0},{"$f":"IFERROR($E186*SUMIF('Daily Log'!#REF!,$B186,'Daily Log'!#REF!),0)","v":0},{"$f":"IFERROR($E186*SUMIF('Daily Log'!#REF!,$B186,'Daily Log'!#REF!),0)","v":0},{"$f":"IFERROR($E186*SUMIF('Daily Log'!#REF!,$B186,'Daily Log'!#REF!),0)","v":0},{"$f":"IFERROR($E186*SUMIF('Daily Log'!#REF!,$B186,'Daily Log'!#REF!),0)","v":0},{"$f":"IFERROR($E186*SUMIF('Daily Log'!#REF!,$B186,'Daily Log'!#REF!),0)","v":0},{"$f":"IFERROR($E186*SUMIF('Daily Log'!#REF!,$B186,'Daily Log'!#REF!),0)","v":0},{"$f":"IFERROR($E186*SUMIF('Daily Log'!#REF!,$B186,'Daily Log'!#REF!),0)","v":0},{"$f":"IFERROR($E186*SUMIF('Daily Log'!#REF!,$B186,'Daily Log'!#REF!),0)","v":0},{"$f":"IFERROR($E186*SUMIF('Daily Log'!#REF!,$B186,'Daily Log'!#REF!),0)","v":0},{"$f":"IFERROR($E186*SUMIF('Daily Log'!#REF!,$B186,'Daily Log'!#REF!),0)","v":0},{"$f":"IFERROR($E186*SUMIF('Daily Log'!#REF!,$B186,'Daily Log'!#REF!),0)","v":0},{"$f":"IFERROR($E186*SUMIF('Daily Log'!#REF!,$B186,'Daily Log'!#REF!),0)","v":0},{"$f":"IFERROR($E186*SUMIF('Daily Log'!#REF!,$B186,'Daily Log'!#REF!),0)","v":0},{"$f":"IFERROR($E186*SUMIF('Daily Log'!#REF!,$B186,'Daily Log'!#REF!),0)","v":0},{"$f":"IFERROR($E186*SUMIF('Daily Log'!#REF!,$B186,'Daily Log'!#REF!),0)","v":0}]
[null,"CB02 APPLE SO",null,"SIDE ORDER-COLD BEVERAGE",1,0,{"$f":"IFERROR($E187*SUMIF('Daily Log'!$B$18:$B$1017,$B187,'Daily Log'!$C$18:$C$1017),0)","v":0},{"$f":"IFERROR($E187*SUMIF('Daily Log'!$E$18:$E$1017,$B187,'Daily Log'!$F$18:$F$1017),0)","v":0},{"$f":"IFERROR($E187*SUMIF('Daily Log'!$H$18:$H$1017,$B187,'Daily Log'!$I$18:$I$1017),0)","v":0},{"$f":"IFERROR($E187*SUMIF('Daily Log'!$K$18:$K$1017,$B187,'Daily Log'!$L$18:$L$1017),0)","v":0},{"$f":"IFERROR($E187*SUMIF('Daily Log'!$N$18:$N$1017,$B187,'Daily Log'!$O$18:$O$1017),0)","v":0},{"$f":"IFERROR($E187*SUMIF('Daily Log'!#REF!,$B187,'Daily Log'!#REF!),0)","v":0},{"$f":"IFERROR($E187*SUMIF('Daily Log'!#REF!,$B187,'Daily Log'!#REF!),0)","v":0},{"$f":"IFERROR($E187*SUMIF('Daily Log'!#REF!,$B187,'Daily Log'!#REF!),0)","v":0},{"$f":"IFERROR($E187*SUMIF('Daily Log'!#REF!,$B187,'Daily Log'!#REF!),0)","v":0},{"$f":"IFERROR($E187*SUMIF('Daily Log'!#REF!,$B187,'Daily Log'!#REF!),0)","v":0},{"$f":"IFERROR($E187*SUMIF('Daily Log'!#REF!,$B187,'Daily Log'!#REF!),0)","v":0},{"$f":"IFERROR($E187*SUMIF('Daily Log'!#REF!,$B187,'Daily Log'!#REF!),0)","v":0},{"$f":"IFERROR($E187*SUMIF('Daily Log'!#REF!,$B187,'Daily Log'!#REF!),0)","v":0},{"$f":"IFERROR($E187*SUMIF('Daily Log'!#REF!,$B187,'Daily Log'!#REF!),0)","v":0},{"$f":"IFERROR($E187*SUMIF('Daily Log'!#REF!,$B187,'Daily Log'!#REF!),0)","v":0},{"$f":"IFERROR($E187*SUMIF('Daily Log'!#REF!,$B187,'Daily Log'!#REF!),0)","v":0},{"$f":"IFERROR($E187*SUMIF('Daily Log'!#REF!,$B187,'Daily Log'!#REF!),0)","v":0},{"$f":"IFERROR($E187*SUMIF('Daily Log'!#REF!,$B187,'Daily Log'!#REF!),0)","v":0},{"$f":"IFERROR($E187*SUMIF('Daily Log'!#REF!,$B187,'Daily Log'!#REF!),0)","v":0},{"$f":"IFERROR($E187*SUMIF('Daily Log'!#REF!,$B187,'Daily Log'!#REF!),0)","v":0},{"$f":"IFERROR($E187*SUMIF('Daily Log'!#REF!,$B187,'Daily Log'!#REF!),0)","v":0},{"$f":"IFERROR($E187*SUMIF('Daily Log'!#REF!,$B187,'Daily Log'!#REF!),0)","v":0},{"$f":"IFERROR($E187*SUMIF('Daily Log'!#REF!,$B187,'Daily Log'!#REF!),0)","v":0},{"$f":"IFERROR($E187*SUMIF('Daily Log'!#REF!,$B187,'Daily Log'!#REF!),0)","v":0},{"$f":"IFERROR($E187*SUMIF('Daily Log'!#REF!,$B187,'Daily Log'!#REF!),0)","v":0},{"$f":"IFERROR($E187*SUMIF('Daily Log'!#REF!,$B187,'Daily Log'!#REF!),0)","v":0},{"$f":"IFERROR($E187*SUMIF('Daily Log'!#REF!,$B187,'Daily Log'!#REF!),0)","v":0},{"$f":"IFERROR($E187*SUMIF('Daily Log'!#REF!,$B187,'Daily Log'!#REF!),0)","v":0},{"$f":"IFERROR($E187*SUMIF('Daily Log'!#REF!,$B187,'Daily Log'!#REF!),0)","v":0},{"$f":"IFERROR($E187*SUMIF('Daily Log'!#REF!,$B187,'Daily Log'!#REF!),0)","v":0},{"$f":"IFERROR($E187*SUMIF('Daily Log'!#REF!,$B187,'Daily Log'!#REF!),0)","v":0}]
[null,"CB03 KIWI SO",null,"SIDE ORDER-COLD BEVERAGE",1,0,{"$f":"IFERROR($E188*SUMIF('Daily Log'!$B$18:$B$1017,$B188,'Daily Log'!$C$18:$C$1017),0)","v":0},{"$f":"IFERROR($E188*SUMIF('Daily Log'!$E$18:$E$1017,$B188,'Daily Log'!$F$18:$F$1017),0)","v":0},{"$f":"IFERROR($E188*SUMIF('Daily Log'!$H$18:$H$1017,$B188,'Daily Log'!$I$18:$I$1017),0)","v":0},{"$f":"IFERROR($E188*SUMIF('Daily Log'!$K$18:$K$1017,$B188,'Daily Log'!$L$18:$L$1017),0)","v":0},{"$f":"IFERROR($E188*SUMIF('Daily Log'!$N$18:$N$1017,$B188,'Daily Log'!$O$18:$O$1017),0)","v":0},{"$f":"IFERROR($E188*SUMIF('Daily Log'!#REF!,$B188,'Daily Log'!#REF!),0)","v":0},{"$f":"IFERROR($E188*SUMIF('Daily Log'!#REF!,$B188,'Daily Log'!#REF!),0)","v":0},{"$f":"IFERROR($E188*SUMIF('Daily Log'!#REF!,$B188,'Daily Log'!#REF!),0)","v":0},{"$f":"IFERROR($E188*SUMIF('Daily Log'!#REF!,$B188,'Daily Log'!#REF!),0)","v":0},{"$f":"IFERROR($E188*SUMIF('Daily Log'!#REF!,$B188,'Daily Log'!#REF!),0)","v":0},{"$f":"IFERROR($E188*SUMIF('Daily Log'!#REF!,$B188,'Daily Log'!#REF!),0)","v":0},{"$f":"IFERROR($E188*SUMIF('Daily Log'!#REF!,$B188,'Daily Log'!#REF!),0)","v":0},{"$f":"IFERROR($E188*SUMIF('Daily Log'!#REF!,$B188,'Daily Log'!#REF!),0)","v":0},{"$f":"IFERROR($E188*SUMIF('Daily Log'!#REF!,$B188,'Daily Log'!#REF!),0)","v":0},{"$f":"IFERROR($E188*SUMIF('Daily Log'!#REF!,$B188,'Daily Log'!#REF!),0)","v":0},{"$f":"IFERROR($E188*SUMIF('Daily Log'!#REF!,$B188,'Daily Log'!#REF!),0)","v":0},{"$f":"IFERROR($E188*SUMIF('Daily Log'!#REF!,$B188,'Daily Log'!#REF!),0)","v":0},{"$f":"IFERROR($E188*SUMIF('Daily Log'!#REF!,$B188,'Daily Log'!#REF!),0)","v":0},{"$f":"IFERROR($E188*SUMIF('Daily Log'!#REF!,$B188,'Daily Log'!#REF!),0)","v":0},{"$f":"IFERROR($E188*SUMIF('Daily Log'!#REF!,$B188,'Daily Log'!#REF!),0)","v":0},{"$f":"IFERROR($E188*SUMIF('Daily Log'!#REF!,$B188,'Daily Log'!#REF!),0)","v":0},{"$f":"IFERROR($E188*SUMIF('Daily Log'!#REF!,$B188,'Daily Log'!#REF!),0)","v":0},{"$f":"IFERROR($E188*SUMIF('Daily Log'!#REF!,$B188,'Daily Log'!#REF!),0)","v":0},{"$f":"IFERROR($E188*SUMIF('Daily Log'!#REF!,$B188,'Daily Log'!#REF!),0)","v":0},{"$f":"IFERROR($E188*SUMIF('Daily Log'!#REF!,$B188,'Daily Log'!#REF!),0)","v":0},{"$f":"IFERROR($E188*SUMIF('Daily Log'!#REF!,$B188,'Daily Log'!#REF!),0)","v":0},{"$f":"IFERROR($E188*SUMIF('Daily Log'!#REF!,$B188,'Daily Log'!#REF!),0)","v":0},{"$f":"IFERROR($E188*SUMIF('Daily Log'!#REF!,$B188,'Daily Log'!#REF!),0)","v":0},{"$f":"IFERROR($E188*SUMIF('Daily Log'!#REF!,$B188,'Daily Log'!#REF!),0)","v":0},{"$f":"IFERROR($E188*SUMIF('Daily Log'!#REF!,$B188,'Daily Log'!#REF!),0)","v":0},{"$f":"IFERROR($E188*SUMIF('Daily Log'!#REF!,$B188,'Daily Log'!#REF!),0)","v":0}]
[null,"CB04 MANGO SO",null,"SIDE ORDER-COLD BEVERAGE",1,0,{"$f":"IFERROR($E189*SUMIF('Daily Log'!$B$18:$B$1017,$B189,'Daily Log'!$C$18:$C$1017),0)","v":0},{"$f":"IFERROR($E189*SUMIF('Daily Log'!$E$18:$E$1017,$B189,'Daily Log'!$F$18:$F$1017),0)","v":0},{"$f":"IFERROR($E189*SUMIF('Daily Log'!$H$18:$H$1017,$B189,'Daily Log'!$I$18:$I$1017),0)","v":0},{"$f":"IFERROR($E189*SUMIF('Daily Log'!$K$18:$K$1017,$B189,'Daily Log'!$L$18:$L$1017),0)","v":0},{"$f":"IFERROR($E189*SUMIF('Daily Log'!$N$18:$N$1017,$B189,'Daily Log'!$O$18:$O$1017),0)","v":0},{"$f":"IFERROR($E189*SUMIF('Daily Log'!#REF!,$B189,'Daily Log'!#REF!),0)","v":0},{"$f":"IFERROR($E189*SUMIF('Daily Log'!#REF!,$B189,'Daily Log'!#REF!),0)","v":0},{"$f":"IFERROR($E189*SUMIF('Daily Log'!#REF!,$B189,'Daily Log'!#REF!),0)","v":0},{"$f":"IFERROR($E189*SUMIF('Daily Log'!#REF!,$B189,'Daily Log'!#REF!),0)","v":0},{"$f":"IFERROR($E189*SUMIF('Daily Log'!#REF!,$B189,'Daily Log'!#REF!),0)","v":0},{"$f":"IFERROR($E189*SUMIF('Daily Log'!#REF!,$B189,'Daily Log'!#REF!),0)","v":0},{"$f":"IFERROR($E189*SUMIF('Daily Log'!#REF!,$B189,'Daily Log'!#REF!),0)","v":0},{"$f":"IFERROR($E189*SUMIF('Daily Log'!#REF!,$B189,'Daily Log'!#REF!),0)","v":0},{"$f":"IFERROR($E189*SUMIF('Daily Log'!#REF!,$B189,'Daily Log'!#REF!),0)","v":0},{"$f":"IFERROR($E189*SUMIF('Daily Log'!#REF!,$B189,'Daily Log'!#REF!),0)","v":0},{"$f":"IFERROR($E189*SUMIF('Daily Log'!#REF!,$B189,'Daily Log'!#REF!),0)","v":0},{"$f":"IFERROR($E189*SUMIF('Daily Log'!#REF!,$B189,'Daily Log'!#REF!),0)","v":0},{"$f":"IFERROR($E189*SUMIF('Daily Log'!#REF!,$B189,'Daily Log'!#REF!),0)","v":0},{"$f":"IFERROR($E189*SUMIF('Daily Log'!#REF!,$B189,'Daily Log'!#REF!),0)","v":0},{"$f":"IFERROR($E189*SUMIF('Daily Log'!#REF!,$B189,'Daily Log'!#REF!),0)","v":0},{"$f":"IFERROR($E189*SUMIF('Daily Log'!#REF!,$B189,'Daily Log'!#REF!),0)","v":0},{"$f":"IFERROR($E189*SUMIF('Daily Log'!#REF!,$B189,'Daily Log'!#REF!),0)","v":0},{"$f":"IFERROR($E189*SUMIF('Daily Log'!#REF!,$B189,'Daily Log'!#REF!),0)","v":0},{"$f":"IFERROR($E189*SUMIF('Daily Log'!#REF!,$B189,'Daily Log'!#REF!),0)","v":0},{"$f":"IFERROR($E189*SUMIF('Daily Log'!#REF!,$B189,'Daily Log'!#REF!),0)","v":0},{"$f":"IFERROR($E189*SUMIF('Daily Log'!#REF!,$B189,'Daily Log'!#REF!),0)","v":0},{"$f":"IFERROR($E189*SUMIF('Daily Log'!#REF!,$B189,'Daily Log'!#REF!),0)","v":0},{"$f":"IFERROR($E189*SUMIF('Daily Log'!#REF!,$B189,'Daily Log'!#REF!),0)","v":0},{"$f":"IFERROR($E189*SUMIF('Daily Log'!#REF!,$B189,'Daily Log'!#REF!),0)","v":0},{"$f":"IFERROR($E189*SUMIF('Daily Log'!#REF!,$B189,'Daily Log'!#REF!),0)","v":0},{"$f":"IFERROR($E189*SUMIF('Daily Log'!#REF!,$B189,'Daily Log'!#REF!),0)","v":0}]
[null,"CB05 PASSION SO",null,"SIDE ORDER-COLD BEVERAGE",1,0,{"$f":"IFERROR($E190*SUMIF('Daily Log'!$B$18:$B$1017,$B190,'Daily Log'!$C$18:$C$1017),0)","v":0},{"$f":"IFERROR($E190*SUMIF('Daily Log'!$E$18:$E$1017,$B190,'Daily Log'!$F$18:$F$1017),0)","v":0},{"$f":"IFERROR($E190*SUMIF('Daily Log'!$H$18:$H$1017,$B190,'Daily Log'!$I$18:$I$1017),0)","v":0},{"$f":"IFERROR($E190*SUMIF('Daily Log'!$K$18:$K$1017,$B190,'Daily Log'!$L$18:$L$1017),0)","v":0},{"$f":"IFERROR($E190*SUMIF('Daily Log'!$N$18:$N$1017,$B190,'Daily Log'!$O$18:$O$1017),0)","v":0},{"$f":"IFERROR($E190*SUMIF('Daily Log'!#REF!,$B190,'Daily Log'!#REF!),0)","v":0},{"$f":"IFERROR($E190*SUMIF('Daily Log'!#REF!,$B190,'Daily Log'!#REF!),0)","v":0},{"$f":"IFERROR($E190*SUMIF('Daily Log'!#REF!,$B190,'Daily Log'!#REF!),0)","v":0},{"$f":"IFERROR($E190*SUMIF('Daily Log'!#REF!,$B190,'Daily Log'!#REF!),0)","v":0},{"$f":"IFERROR($E190*SUMIF('Daily Log'!#REF!,$B190,'Daily Log'!#REF!),0)","v":0},{"$f":"IFERROR($E190*SUMIF('Daily Log'!#REF!,$B190,'Daily Log'!#REF!),0)","v":0},{"$f":"IFERROR($E190*SUMIF('Daily Log'!#REF!,$B190,'Daily Log'!#REF!),0)","v":0},{"$f":"IFERROR($E190*SUMIF('Daily Log'!#REF!,$B190,'Daily Log'!#REF!),0)","v":0},{"$f":"IFERROR($E190*SUMIF('Daily Log'!#REF!,$B190,'Daily Log'!#REF!),0)","v":0},{"$f":"IFERROR($E190*SUMIF('Daily Log'!#REF!,$B190,'Daily Log'!#REF!),0)","v":0},{"$f":"IFERROR($E190*SUMIF('Daily Log'!#REF!,$B190,'Daily Log'!#REF!),0)","v":0},{"$f":"IFERROR($E190*SUMIF('Daily Log'!#REF!,$B190,'Daily Log'!#REF!),0)","v":0},{"$f":"IFERROR($E190*SUMIF('Daily Log'!#REF!,$B190,'Daily Log'!#REF!),0)","v":0},{"$f":"IFERROR($E190*SUMIF('Daily Log'!#REF!,$B190,'Daily Log'!#REF!),0)","v":0},{"$f":"IFERROR($E190*SUMIF('Daily Log'!#REF!,$B190,'Daily Log'!#REF!),0)","v":0},{"$f":"IFERROR($E190*SUMIF('Daily Log'!#REF!,$B190,'Daily Log'!#REF!),0)","v":0},{"$f":"IFERROR($E190*SUMIF('Daily Log'!#REF!,$B190,'Daily Log'!#REF!),0)","v":0},{"$f":"IFERROR($E190*SUMIF('Daily Log'!#REF!,$B190,'Daily Log'!#REF!),0)","v":0},{"$f":"IFERROR($E190*SUMIF('Daily Log'!#REF!,$B190,'Daily Log'!#REF!),0)","v":0},{"$f":"IFERROR($E190*SUMIF('Daily Log'!#REF!,$B190,'Daily Log'!#REF!),0)","v":0},{"$f":"IFERROR($E190*SUMIF('Daily Log'!#REF!,$B190,'Daily Log'!#REF!),0)","v":0},{"$f":"IFERROR($E190*SUMIF('Daily Log'!#REF!,$B190,'Daily Log'!#REF!),0)","v":0},{"$f":"IFERROR($E190*SUMIF('Daily Log'!#REF!,$B190,'Daily Log'!#REF!),0)","v":0},{"$f":"IFERROR($E190*SUMIF('Daily Log'!#REF!,$B190,'Daily Log'!#REF!),0)","v":0},{"$f":"IFERROR($E190*SUMIF('Daily Log'!#REF!,$B190,'Daily Log'!#REF!),0)","v":0},{"$f":"IFERROR($E190*SUMIF('Daily Log'!#REF!,$B190,'Daily Log'!#REF!),0)","v":0}]
[null,"CB06 RIBENA SO",null,"SIDE ORDER-COLD BEVERAGE",1,0,{"$f":"IFERROR($E191*SUMIF('Daily Log'!$B$18:$B$1017,$B191,'Daily Log'!$C$18:$C$1017),0)","v":0},{"$f":"IFERROR($E191*SUMIF('Daily Log'!$E$18:$E$1017,$B191,'Daily Log'!$F$18:$F$1017),0)","v":0},{"$f":"IFERROR($E191*SUMIF('Daily Log'!$H$18:$H$1017,$B191,'Daily Log'!$I$18:$I$1017),0)","v":0},{"$f":"IFERROR($E191*SUMIF('Daily Log'!$K$18:$K$1017,$B191,'Daily Log'!$L$18:$L$1017),0)","v":0},{"$f":"IFERROR($E191*SUMIF('Daily Log'!$N$18:$N$1017,$B191,'Daily Log'!$O$18:$O$1017),0)","v":0},{"$f":"IFERROR($E191*SUMIF('Daily Log'!#REF!,$B191,'Daily Log'!#REF!),0)","v":0},{"$f":"IFERROR($E191*SUMIF('Daily Log'!#REF!,$B191,'Daily Log'!#REF!),0)","v":0},{"$f":"IFERROR($E191*SUMIF('Daily Log'!#REF!,$B191,'Daily Log'!#REF!),0)","v":0},{"$f":"IFERROR($E191*SUMIF('Daily Log'!#REF!,$B191,'Daily Log'!#REF!),0)","v":0},{"$f":"IFERROR($E191*SUMIF('Daily Log'!#REF!,$B191,'Daily Log'!#REF!),0)","v":0},{"$f":"IFERROR($E191*SUMIF('Daily Log'!#REF!,$B191,'Daily Log'!#REF!),0)","v":0},{"$f":"IFERROR($E191*SUMIF('Daily Log'!#REF!,$B191,'Daily Log'!#REF!),0)","v":0},{"$f":"IFERROR($E191*SUMIF('Daily Log'!#REF!,$B191,'Daily Log'!#REF!),0)","v":0},{"$f":"IFERROR($E191*SUMIF('Daily Log'!#REF!,$B191,'Daily Log'!#REF!),0)","v":0},{"$f":"IFERROR($E191*SUMIF('Daily Log'!#REF!,$B191,'Daily Log'!#REF!),0)","v":0},{"$f":"IFERROR($E191*SUMIF('Daily Log'!#REF!,$B191,'Daily Log'!#REF!),0)","v":0},{"$f":"IFERROR($E191*SUMIF('Daily Log'!#REF!,$B191,'Daily Log'!#REF!),0)","v":0},{"$f":"IFERROR($E191*SUMIF('Daily Log'!#REF!,$B191,'Daily Log'!#REF!),0)","v":0},{"$f":"IFERROR($E191*SUMIF('Daily Log'!#REF!,$B191,'Daily Log'!#REF!),0)","v":0},{"$f":"IFERROR($E191*SUMIF('Daily Log'!#REF!,$B191,'Daily Log'!#REF!),0)","v":0},{"$f":"IFERROR($E191*SUMIF('Daily Log'!#REF!,$B191,'Daily Log'!#REF!),0)","v":0},{"$f":"IFERROR($E191*SUMIF('Daily Log'!#REF!,$B191,'Daily Log'!#REF!),0)","v":0},{"$f":"IFERROR($E191*SUMIF('Daily Log'!#REF!,$B191,'Daily Log'!#REF!),0)","v":0},{"$f":"IFERROR($E191*SUMIF('Daily Log'!#REF!,$B191,'Daily Log'!#REF!),0)","v":0},{"$f":"IFERROR($E191*SUMIF('Daily Log'!#REF!,$B191,'Daily Log'!#REF!),0)","v":0},{"$f":"IFERROR($E191*SUMIF('Daily Log'!#REF!,$B191,'Daily Log'!#REF!),0)","v":0},{"$f":"IFERROR($E191*SUMIF('Daily Log'!#REF!,$B191,'Daily Log'!#REF!),0)","v":0},{"$f":"IFERROR($E191*SUMIF('Daily Log'!#REF!,$B191,'Daily Log'!#REF!),0)","v":0},{"$f":"IFERROR($E191*SUMIF('Daily Log'!#REF!,$B191,'Daily Log'!#REF!),0)","v":0},{"$f":"IFERROR($E191*SUMIF('Daily Log'!#REF!,$B191,'Daily Log'!#REF!),0)","v":0},{"$f":"IFERROR($E191*SUMIF('Daily Log'!#REF!,$B191,'Daily Log'!#REF!),0)","v":0}]
[null,"CC01 GRAPE SM",null,"SIDE ORDER-COLD BEVERAGE",1,0,{"$f":"IFERROR($E192*SUMIF('Daily Log'!$B$18:$B$1017,$B192,'Daily Log'!$C$18:$C$1017),0)","v":0},{"$f":"IFERROR($E192*SUMIF('Daily Log'!$E$18:$E$1017,$B192,'Daily Log'!$F$18:$F$1017),0)","v":0},{"$f":"IFERROR($E192*SUMIF('Daily Log'!$H$18:$H$1017,$B192,'Daily Log'!$I$18:$I$1017),0)","v":0},{"$f":"IFERROR($E192*SUMIF('Daily Log'!$K$18:$K$1017,$B192,'Daily Log'!$L$18:$L$1017),0)","v":0},{"$f":"IFERROR($E192*SUMIF('Daily Log'!$N$18:$N$1017,$B192,'Daily Log'!$O$18:$O$1017),0)","v":0},{"$f":"IFERROR($E192*SUMIF('Daily Log'!#REF!,$B192,'Daily Log'!#REF!),0)","v":0},{"$f":"IFERROR($E192*SUMIF('Daily Log'!#REF!,$B192,'Daily Log'!#REF!),0)","v":0},{"$f":"IFERROR($E192*SUMIF('Daily Log'!#REF!,$B192,'Daily Log'!#REF!),0)","v":0},{"$f":"IFERROR($E192*SUMIF('Daily Log'!#REF!,$B192,'Daily Log'!#REF!),0)","v":0},{"$f":"IFERROR($E192*SUMIF('Daily Log'!#REF!,$B192,'Daily Log'!#REF!),0)","v":0},{"$f":"IFERROR($E192*SUMIF('Daily Log'!#REF!,$B192,'Daily Log'!#REF!),0)","v":0},{"$f":"IFERROR($E192*SUMIF('Daily Log'!#REF!,$B192,'Daily Log'!#REF!),0)","v":0},{"$f":"IFERROR($E192*SUMIF('Daily Log'!#REF!,$B192,'Daily Log'!#REF!),0)","v":0},{"$f":"IFERROR($E192*SUMIF('Daily Log'!#REF!,$B192,'Daily Log'!#REF!),0)","v":0},{"$f":"IFERROR($E192*SUMIF('Daily Log'!#REF!,$B192,'Daily Log'!#REF!),0)","v":0},{"$f":"IFERROR($E192*SUMIF('Daily Log'!#REF!,$B192,'Daily Log'!#REF!),0)","v":0},{"$f":"IFERROR($E192*SUMIF('Daily Log'!#REF!,$B192,'Daily Log'!#REF!),0)","v":0},{"$f":"IFERROR($E192*SUMIF('Daily Log'!#REF!,$B192,'Daily Log'!#REF!),0)","v":0},{"$f":"IFERROR($E192*SUMIF('Daily Log'!#REF!,$B192,'Daily Log'!#REF!),0)","v":0},{"$f":"IFERROR($E192*SUMIF('Daily Log'!#REF!,$B192,'Daily Log'!#REF!),0)","v":0},{"$f":"IFERROR($E192*SUMIF('Daily Log'!#REF!,$B192,'Daily Log'!#REF!),0)","v":0},{"$f":"IFERROR($E192*SUMIF('Daily Log'!#REF!,$B192,'Daily Log'!#REF!),0)","v":0},{"$f":"IFERROR($E192*SUMIF('Daily Log'!#REF!,$B192,'Daily Log'!#REF!),0)","v":0},{"$f":"IFERROR($E192*SUMIF('Daily Log'!#REF!,$B192,'Daily Log'!#REF!),0)","v":0},{"$f":"IFERROR($E192*SUMIF('Daily Log'!#REF!,$B192,'Daily Log'!#REF!),0)","v":0},{"$f":"IFERROR($E192*SUMIF('Daily Log'!#REF!,$B192,'Daily Log'!#REF!),0)","v":0},{"$f":"IFERROR($E192*SUMIF('Daily Log'!#REF!,$B192,'Daily Log'!#REF!),0)","v":0},{"$f":"IFERROR($E192*SUMIF('Daily Log'!#REF!,$B192,'Daily Log'!#REF!),0)","v":0},{"$f":"IFERROR($E192*SUMIF('Daily Log'!#REF!,$B192,'Daily Log'!#REF!),0)","v":0},{"$f":"IFERROR($E192*SUMIF('Daily Log'!#REF!,$B192,'Daily Log'!#REF!),0)","v":0},{"$f":"IFERROR($E192*SUMIF('Daily Log'!#REF!,$B192,'Daily Log'!#REF!),0)","v":0}]
[null,"CC02 APPLE SM",null,"SIDE ORDER-COLD BEVERAGE",1,0,{"$f":"IFERROR($E193*SUMIF('Daily Log'!$B$18:$B$1017,$B193,'Daily Log'!$C$18:$C$1017),0)","v":0},{"$f":"IFERROR($E193*SUMIF('Daily Log'!$E$18:$E$1017,$B193,'Daily Log'!$F$18:$F$1017),0)","v":0},{"$f":"IFERROR($E193*SUMIF('Daily Log'!$H$18:$H$1017,$B193,'Daily Log'!$I$18:$I$1017),0)","v":0},{"$f":"IFERROR($E193*SUMIF('Daily Log'!$K$18:$K$1017,$B193,'Daily Log'!$L$18:$L$1017),0)","v":0},{"$f":"IFERROR($E193*SUMIF('Daily Log'!$N$18:$N$1017,$B193,'Daily Log'!$O$18:$O$1017),0)","v":0},{"$f":"IFERROR($E193*SUMIF('Daily Log'!#REF!,$B193,'Daily Log'!#REF!),0)","v":0},{"$f":"IFERROR($E193*SUMIF('Daily Log'!#REF!,$B193,'Daily Log'!#REF!),0)","v":0},{"$f":"IFERROR($E193*SUMIF('Daily Log'!#REF!,$B193,'Daily Log'!#REF!),0)","v":0},{"$f":"IFERROR($E193*SUMIF('Daily Log'!#REF!,$B193,'Daily Log'!#REF!),0)","v":0},{"$f":"IFERROR($E193*SUMIF('Daily Log'!#REF!,$B193,'Daily Log'!#REF!),0)","v":0},{"$f":"IFERROR($E193*SUMIF('Daily Log'!#REF!,$B193,'Daily Log'!#REF!),0)","v":0},{"$f":"IFERROR($E193*SUMIF('Daily Log'!#REF!,$B193,'Daily Log'!#REF!),0)","v":0},{"$f":"IFERROR($E193*SUMIF('Daily Log'!#REF!,$B193,'Daily Log'!#REF!),0)","v":0},{"$f":"IFERROR($E193*SUMIF('Daily Log'!#REF!,$B193,'Daily Log'!#REF!),0)","v":0},{"$f":"IFERROR($E193*SUMIF('Daily Log'!#REF!,$B193,'Daily Log'!#REF!),0)","v":0},{"$f":"IFERROR($E193*SUMIF('Daily Log'!#REF!,$B193,'Daily Log'!#REF!),0)","v":0},{"$f":"IFERROR($E193*SUMIF('Daily Log'!#REF!,$B193,'Daily Log'!#REF!),0)","v":0},{"$f":"IFERROR($E193*SUMIF('Daily Log'!#REF!,$B193,'Daily Log'!#REF!),0)","v":0},{"$f":"IFERROR($E193*SUMIF('Daily Log'!#REF!,$B193,'Daily Log'!#REF!),0)","v":0},{"$f":"IFERROR($E193*SUMIF('Daily Log'!#REF!,$B193,'Daily Log'!#REF!),0)","v":0},{"$f":"IFERROR($E193*SUMIF('Daily Log'!#REF!,$B193,'Daily Log'!#REF!),0)","v":0},{"$f":"IFERROR($E193*SUMIF('Daily Log'!#REF!,$B193,'Daily Log'!#REF!),0)","v":0},{"$f":"IFERROR($E193*SUMIF('Daily Log'!#REF!,$B193,'Daily Log'!#REF!),0)","v":0},{"$f":"IFERROR($E193*SUMIF('Daily Log'!#REF!,$B193,'Daily Log'!#REF!),0)","v":0},{"$f":"IFERROR($E193*SUMIF('Daily Log'!#REF!,$B193,'Daily Log'!#REF!),0)","v":0},{"$f":"IFERROR($E193*SUMIF('Daily Log'!#REF!,$B193,'Daily Log'!#REF!),0)","v":0},{"$f":"IFERROR($E193*SUMIF('Daily Log'!#REF!,$B193,'Daily Log'!#REF!),0)","v":0},{"$f":"IFERROR($E193*SUMIF('Daily Log'!#REF!,$B193,'Daily Log'!#REF!),0)","v":0},{"$f":"IFERROR($E193*SUMIF('Daily Log'!#REF!,$B193,'Daily Log'!#REF!),0)","v":0},{"$f":"IFERROR($E193*SUMIF('Daily Log'!#REF!,$B193,'Daily Log'!#REF!),0)","v":0},{"$f":"IFERROR($E193*SUMIF('Daily Log'!#REF!,$B193,'Daily Log'!#REF!),0)","v":0}]
[null,"CC03 KIWI SM",null,"SIDE ORDER-COLD BEVERAGE",1,0,{"$f":"IFERROR($E194*SUMIF('Daily Log'!$B$18:$B$1017,$B194,'Daily Log'!$C$18:$C$1017),0)","v":0},{"$f":"IFERROR($E194*SUMIF('Daily Log'!$E$18:$E$1017,$B194,'Daily Log'!$F$18:$F$1017),0)","v":0},{"$f":"IFERROR($E194*SUMIF('Daily Log'!$H$18:$H$1017,$B194,'Daily Log'!$I$18:$I$1017),0)","v":0},{"$f":"IFERROR($E194*SUMIF('Daily Log'!$K$18:$K$1017,$B194,'Daily Log'!$L$18:$L$1017),0)","v":0},{"$f":"IFERROR($E194*SUMIF('Daily Log'!$N$18:$N$1017,$B194,'Daily Log'!$O$18:$O$1017),0)","v":0},{"$f":"IFERROR($E194*SUMIF('Daily Log'!#REF!,$B194,'Daily Log'!#REF!),0)","v":0},{"$f":"IFERROR($E194*SUMIF('Daily Log'!#REF!,$B194,'Daily Log'!#REF!),0)","v":0},{"$f":"IFERROR($E194*SUMIF('Daily Log'!#REF!,$B194,'Daily Log'!#REF!),0)","v":0},{"$f":"IFERROR($E194*SUMIF('Daily Log'!#REF!,$B194,'Daily Log'!#REF!),0)","v":0},{"$f":"IFERROR($E194*SUMIF('Daily Log'!#REF!,$B194,'Daily Log'!#REF!),0)","v":0},{"$f":"IFERROR($E194*SUMIF('Daily Log'!#REF!,$B194,'Daily Log'!#REF!),0)","v":0},{"$f":"IFERROR($E194*SUMIF('Daily Log'!#REF!,$B194,'Daily Log'!#REF!),0)","v":0},{"$f":"IFERROR($E194*SUMIF('Daily Log'!#REF!,$B194,'Daily Log'!#REF!),0)","v":0},{"$f":"IFERROR($E194*SUMIF('Daily Log'!#REF!,$B194,'Daily Log'!#REF!),0)","v":0},{"$f":"IFERROR($E194*SUMIF('Daily Log'!#REF!,$B194,'Daily Log'!#REF!),0)","v":0},{"$f":"IFERROR($E194*SUMIF('Daily Log'!#REF!,$B194,'Daily Log'!#REF!),0)","v":0},{"$f":"IFERROR($E194*SUMIF('Daily Log'!#REF!,$B194,'Daily Log'!#REF!),0)","v":0},{"$f":"IFERROR($E194*SUMIF('Daily Log'!#REF!,$B194,'Daily Log'!#REF!),0)","v":0},{"$f":"IFERROR($E194*SUMIF('Daily Log'!#REF!,$B194,'Daily Log'!#REF!),0)","v":0},{"$f":"IFERROR($E194*SUMIF('Daily Log'!#REF!,$B194,'Daily Log'!#REF!),0)","v":0},{"$f":"IFERROR($E194*SUMIF('Daily Log'!#REF!,$B194,'Daily Log'!#REF!),0)","v":0},{"$f":"IFERROR($E194*SUMIF('Daily Log'!#REF!,$B194,'Daily Log'!#REF!),0)","v":0},{"$f":"IFERROR($E194*SUMIF('Daily Log'!#REF!,$B194,'Daily Log'!#REF!),0)","v":0},{"$f":"IFERROR($E194*SUMIF('Daily Log'!#REF!,$B194,'Daily Log'!#REF!),0)","v":0},{"$f":"IFERROR($E194*SUMIF('Daily Log'!#REF!,$B194,'Daily Log'!#REF!),0)","v":0},{"$f":"IFERROR($E194*SUMIF('Daily Log'!#REF!,$B194,'Daily Log'!#REF!),0)","v":0},{"$f":"IFERROR($E194*SUMIF('Daily Log'!#REF!,$B194,'Daily Log'!#REF!),0)","v":0},{"$f":"IFERROR($E194*SUMIF('Daily Log'!#REF!,$B194,'Daily Log'!#REF!),0)","v":0},{"$f":"IFERROR($E194*SUMIF('Daily Log'!#REF!,$B194,'Daily Log'!#REF!),0)","v":0},{"$f":"IFERROR($E194*SUMIF('Daily Log'!#REF!,$B194,'Daily Log'!#REF!),0)","v":0},{"$f":"IFERROR($E194*SUMIF('Daily Log'!#REF!,$B194,'Daily Log'!#REF!),0)","v":0}]
[null,"CC04 MANGO SM",null,"SIDE ORDER-COLD BEVERAGE",1,0,{"$f":"IFERROR($E195*SUMIF('Daily Log'!$B$18:$B$1017,$B195,'Daily Log'!$C$18:$C$1017),0)","v":0},{"$f":"IFERROR($E195*SUMIF('Daily Log'!$E$18:$E$1017,$B195,'Daily Log'!$F$18:$F$1017),0)","v":0},{"$f":"IFERROR($E195*SUMIF('Daily Log'!$H$18:$H$1017,$B195,'Daily Log'!$I$18:$I$1017),0)","v":0},{"$f":"IFERROR($E195*SUMIF('Daily Log'!$K$18:$K$1017,$B195,'Daily Log'!$L$18:$L$1017),0)","v":0},{"$f":"IFERROR($E195*SUMIF('Daily Log'!$N$18:$N$1017,$B195,'Daily Log'!$O$18:$O$1017),0)","v":0},{"$f":"IFERROR($E195*SUMIF('Daily Log'!#REF!,$B195,'Daily Log'!#REF!),0)","v":0},{"$f":"IFERROR($E195*SUMIF('Daily Log'!#REF!,$B195,'Daily Log'!#REF!),0)","v":0},{"$f":"IFERROR($E195*SUMIF('Daily Log'!#REF!,$B195,'Daily Log'!#REF!),0)","v":0},{"$f":"IFERROR($E195*SUMIF('Daily Log'!#REF!,$B195,'Daily Log'!#REF!),0)","v":0},{"$f":"IFERROR($E195*SUMIF('Daily Log'!#REF!,$B195,'Daily Log'!#REF!),0)","v":0},{"$f":"IFERROR($E195*SUMIF('Daily Log'!#REF!,$B195,'Daily Log'!#REF!),0)","v":0},{"$f":"IFERROR($E195*SUMIF('Daily Log'!#REF!,$B195,'Daily Log'!#REF!),0)","v":0},{"$f":"IFERROR($E195*SUMIF('Daily Log'!#REF!,$B195,'Daily Log'!#REF!),0)","v":0},{"$f":"IFERROR($E195*SUMIF('Daily Log'!#REF!,$B195,'Daily Log'!#REF!),0)","v":0},{"$f":"IFERROR($E195*SUMIF('Daily Log'!#REF!,$B195,'Daily Log'!#REF!),0)","v":0},{"$f":"IFERROR($E195*SUMIF('Daily Log'!#REF!,$B195,'Daily Log'!#REF!),0)","v":0},{"$f":"IFERROR($E195*SUMIF('Daily Log'!#REF!,$B195,'Daily Log'!#REF!),0)","v":0},{"$f":"IFERROR($E195*SUMIF('Daily Log'!#REF!,$B195,'Daily Log'!#REF!),0)","v":0},{"$f":"IFERROR($E195*SUMIF('Daily Log'!#REF!,$B195,'Daily Log'!#REF!),0)","v":0},{"$f":"IFERROR($E195*SUMIF('Daily Log'!#REF!,$B195,'Daily Log'!#REF!),0)","v":0},{"$f":"IFERROR($E195*SUMIF('Daily Log'!#REF!,$B195,'Daily Log'!#REF!),0)","v":0},{"$f":"IFERROR($E195*SUMIF('Daily Log'!#REF!,$B195,'Daily Log'!#REF!),0)","v":0},{"$f":"IFERROR($E195*SUMIF('Daily Log'!#REF!,$B195,'Daily Log'!#REF!),0)","v":0},{"$f":"IFERROR($E195*SUMIF('Daily Log'!#REF!,$B195,'Daily Log'!#REF!),0)","v":0},{"$f":"IFERROR($E195*SUMIF('Daily Log'!#REF!,$B195,'Daily Log'!#REF!),0)","v":0},{"$f":"IFERROR($E195*SUMIF('Daily Log'!#REF!,$B195,'Daily Log'!#REF!),0)","v":0},{"$f":"IFERROR($E195*SUMIF('Daily Log'!#REF!,$B195,'Daily Log'!#REF!),0)","v":0},{"$f":"IFERROR($E195*SUMIF('Daily Log'!#REF!,$B195,'Daily Log'!#REF!),0)","v":0},{"$f":"IFERROR($E195*SUMIF('Daily Log'!#REF!,$B195,'Daily Log'!#REF!),0)","v":0},{"$f":"IFERROR($E195*SUMIF('Daily Log'!#REF!,$B195,'Daily Log'!#REF!),0)","v":0},{"$f":"IFERROR($E195*SUMIF('Daily Log'!#REF!,$B195,'Daily Log'!#REF!),0)","v":0}]
[null,"CC05 PASSION SM",null,"SIDE ORDER-COLD BEVERAGE",1,0,{"$f":"IFERROR($E196*SUMIF('Daily Log'!$B$18:$B$1017,$B196,'Daily Log'!$C$18:$C$1017),0)","v":0},{"$f":"IFERROR($E196*SUMIF('Daily Log'!$E$18:$E$1017,$B196,'Daily Log'!$F$18:$F$1017),0)","v":0},{"$f":"IFERROR($E196*SUMIF('Daily Log'!$H$18:$H$1017,$B196,'Daily Log'!$I$18:$I$1017),0)","v":0},{"$f":"IFERROR($E196*SUMIF('Daily Log'!$K$18:$K$1017,$B196,'Daily Log'!$L$18:$L$1017),0)","v":0},{"$f":"IFERROR($E196*SUMIF('Daily Log'!$N$18:$N$1017,$B196,'Daily Log'!$O$18:$O$1017),0)","v":0},{"$f":"IFERROR($E196*SUMIF('Daily Log'!#REF!,$B196,'Daily Log'!#REF!),0)","v":0},{"$f":"IFERROR($E196*SUMIF('Daily Log'!#REF!,$B196,'Daily Log'!#REF!),0)","v":0},{"$f":"IFERROR($E196*SUMIF('Daily Log'!#REF!,$B196,'Daily Log'!#REF!),0)","v":0},{"$f":"IFERROR($E196*SUMIF('Daily Log'!#REF!,$B196,'Daily Log'!#REF!),0)","v":0},{"$f":"IFERROR($E196*SUMIF('Daily Log'!#REF!,$B196,'Daily Log'!#REF!),0)","v":0},{"$f":"IFERROR($E196*SUMIF('Daily Log'!#REF!,$B196,'Daily Log'!#REF!),0)","v":0},{"$f":"IFERROR($E196*SUMIF('Daily Log'!#REF!,$B196,'Daily Log'!#REF!),0)","v":0},{"$f":"IFERROR($E196*SUMIF('Daily Log'!#REF!,$B196,'Daily Log'!#REF!),0)","v":0},{"$f":"IFERROR($E196*SUMIF('Daily Log'!#REF!,$B196,'Daily Log'!#REF!),0)","v":0},{"$f":"IFERROR($E196*SUMIF('Daily Log'!#REF!,$B196,'Daily Log'!#REF!),0)","v":0},{"$f":"IFERROR($E196*SUMIF('Daily Log'!#REF!,$B196,'Daily Log'!#REF!),0)","v":0},{"$f":"IFERROR($E196*SUMIF('Daily Log'!#REF!,$B196,'Daily Log'!#REF!),0)","v":0},{"$f":"IFERROR($E196*SUMIF('Daily Log'!#REF!,$B196,'Daily Log'!#REF!),0)","v":0},{"$f":"IFERROR($E196*SUMIF('Daily Log'!#REF!,$B196,'Daily Log'!#REF!),0)","v":0},{"$f":"IFERROR($E196*SUMIF('Daily Log'!#REF!,$B196,'Daily Log'!#REF!),0)","v":0},{"$f":"IFERROR($E196*SUMIF('Daily Log'!#REF!,$B196,'Daily Log'!#REF!),0)","v":0},{"$f":"IFERROR($E196*SUMIF('Daily Log'!#REF!,$B196,'Daily Log'!#REF!),0)","v":0},{"$f":"IFERROR($E196*SUMIF('Daily Log'!#REF!,$B196,'Daily Log'!#REF!),0)","v":0},{"$f":"IFERROR($E196*SUMIF('Daily Log'!#REF!,$B196,'Daily Log'!#REF!),0)","v":0},{"$f":"IFERROR($E196*SUMIF('Daily Log'!#REF!,$B196,'Daily Log'!#REF!),0)","v":0},{"$f":"IFERROR($E196*SUMIF('Daily Log'!#REF!,$B196,'Daily Log'!#REF!),0)","v":0},{"$f":"IFERROR($E196*SUMIF('Daily Log'!#REF!,$B196,'Daily Log'!#REF!),0)","v":0},{"$f":"IFERROR($E196*SUMIF('Daily Log'!#REF!,$B196,'Daily Log'!#REF!),0)","v":0},{"$f":"IFERROR($E196*SUMIF('Daily Log'!#REF!,$B196,'Daily Log'!#REF!),0)","v":0},{"$f":"IFERROR($E196*SUMIF('Daily Log'!#REF!,$B196,'Daily Log'!#REF!),0)","v":0},{"$f":"IFERROR($E196*SUMIF('Daily Log'!#REF!,$B196,'Daily Log'!#REF!),0)","v":0}]
[null,"CC06 RIBENA SM",null,"SIDE ORDER-COLD BEVERAGE",1,0,{"$f":"IFERROR($E197*SUMIF('Daily Log'!$B$18:$B$1017,$B197,'Daily Log'!$C$18:$C$1017),0)","v":0},{"$f":"IFERROR($E197*SUMIF('Daily Log'!$E$18:$E$1017,$B197,'Daily Log'!$F$18:$F$1017),0)","v":0},{"$f":"IFERROR($E197*SUMIF('Daily Log'!$H$18:$H$1017,$B197,'Daily Log'!$I$18:$I$1017),0)","v":0},{"$f":"IFERROR($E197*SUMIF('Daily Log'!$K$18:$K$1017,$B197,'Daily Log'!$L$18:$L$1017),0)","v":0},{"$f":"IFERROR($E197*SUMIF('Daily Log'!$N$18:$N$1017,$B197,'Daily Log'!$O$18:$O$1017),0)","v":0},{"$f":"IFERROR($E197*SUMIF('Daily Log'!#REF!,$B197,'Daily Log'!#REF!),0)","v":0},{"$f":"IFERROR($E197*SUMIF('Daily Log'!#REF!,$B197,'Daily Log'!#REF!),0)","v":0},{"$f":"IFERROR($E197*SUMIF('Daily Log'!#REF!,$B197,'Daily Log'!#REF!),0)","v":0},{"$f":"IFERROR($E197*SUMIF('Daily Log'!#REF!,$B197,'Daily Log'!#REF!),0)","v":0},{"$f":"IFERROR($E197*SUMIF('Daily Log'!#REF!,$B197,'Daily Log'!#REF!),0)","v":0},{"$f":"IFERROR($E197*SUMIF('Daily Log'!#REF!,$B197,'Daily Log'!#REF!),0)","v":0},{"$f":"IFERROR($E197*SUMIF('Daily Log'!#REF!,$B197,'Daily Log'!#REF!),0)","v":0},{"$f":"IFERROR($E197*SUMIF('Daily Log'!#REF!,$B197,'Daily Log'!#REF!),0)","v":0},{"$f":"IFERROR($E197*SUMIF('Daily Log'!#REF!,$B197,'Daily Log'!#REF!),0)","v":0},{"$f":"IFERROR($E197*SUMIF('Daily Log'!#REF!,$B197,'Daily Log'!#REF!),0)","v":0},{"$f":"IFERROR($E197*SUMIF('Daily Log'!#REF!,$B197,'Daily Log'!#REF!),0)","v":0},{"$f":"IFERROR($E197*SUMIF('Daily Log'!#REF!,$B197,'Daily Log'!#REF!),0)","v":0},{"$f":"IFERROR($E197*SUMIF('Daily Log'!#REF!,$B197,'Daily Log'!#REF!),0)","v":0},{"$f":"IFERROR($E197*SUMIF('Daily Log'!#REF!,$B197,'Daily Log'!#REF!),0)","v":0},{"$f":"IFERROR($E197*SUMIF('Daily Log'!#REF!,$B197,'Daily Log'!#REF!),0)","v":0},{"$f":"IFERROR($E197*SUMIF('Daily Log'!#REF!,$B197,'Daily Log'!#REF!),0)","v":0},{"$f":"IFERROR($E197*SUMIF('Daily Log'!#REF!,$B197,'Daily Log'!#REF!),0)","v":0},{"$f":"IFERROR($E197*SUMIF('Daily Log'!#REF!,$B197,'Daily Log'!#REF!),0)","v":0},{"$f":"IFERROR($E197*SUMIF('Daily Log'!#REF!,$B197,'Daily Log'!#REF!),0)","v":0},{"$f":"IFERROR($E197*SUMIF('Daily Log'!#REF!,$B197,'Daily Log'!#REF!),0)","v":0},{"$f":"IFERROR($E197*SUMIF('Daily Log'!#REF!,$B197,'Daily Log'!#REF!),0)","v":0},{"$f":"IFERROR($E197*SUMIF('Daily Log'!#REF!,$B197,'Daily Log'!#REF!),0)","v":0},{"$f":"IFERROR($E197*SUMIF('Daily Log'!#REF!,$B197,'Daily Log'!#REF!),0)","v":0},{"$f":"IFERROR($E197*SUMIF('Daily Log'!#REF!,$B197,'Daily Log'!#REF!),0)","v":0},{"$f":"IFERROR($E197*SUMIF('Daily Log'!#REF!,$B197,'Daily Log'!#REF!),0)","v":0},{"$f":"IFERROR($E197*SUMIF('Daily Log'!#REF!,$B197,'Daily Log'!#REF!),0)","v":0}]
[null,"CC07 CAPPUCINNO SM",null,"SIDE ORDER-COLD BEVERAGE",1,1,{"$f":"IFERROR($E198*SUMIF('Daily Log'!$B$18:$B$1017,$B198,'Daily Log'!$C$18:$C$1017),0)","v":1},{"$f":"IFERROR($E198*SUMIF('Daily Log'!$E$18:$E$1017,$B198,'Daily Log'!$F$18:$F$1017),0)","v":0},{"$f":"IFERROR($E198*SUMIF('Daily Log'!$H$18:$H$1017,$B198,'Daily Log'!$I$18:$I$1017),0)","v":0},{"$f":"IFERROR($E198*SUMIF('Daily Log'!$K$18:$K$1017,$B198,'Daily Log'!$L$18:$L$1017),0)","v":0},{"$f":"IFERROR($E198*SUMIF('Daily Log'!$N$18:$N$1017,$B198,'Daily Log'!$O$18:$O$1017),0)","v":0},{"$f":"IFERROR($E198*SUMIF('Daily Log'!#REF!,$B198,'Daily Log'!#REF!),0)","v":0},{"$f":"IFERROR($E198*SUMIF('Daily Log'!#REF!,$B198,'Daily Log'!#REF!),0)","v":0},{"$f":"IFERROR($E198*SUMIF('Daily Log'!#REF!,$B198,'Daily Log'!#REF!),0)","v":0},{"$f":"IFERROR($E198*SUMIF('Daily Log'!#REF!,$B198,'Daily Log'!#REF!),0)","v":0},{"$f":"IFERROR($E198*SUMIF('Daily Log'!#REF!,$B198,'Daily Log'!#REF!),0)","v":0},{"$f":"IFERROR($E198*SUMIF('Daily Log'!#REF!,$B198,'Daily Log'!#REF!),0)","v":0},{"$f":"IFERROR($E198*SUMIF('Daily Log'!#REF!,$B198,'Daily Log'!#REF!),0)","v":0},{"$f":"IFERROR($E198*SUMIF('Daily Log'!#REF!,$B198,'Daily Log'!#REF!),0)","v":0},{"$f":"IFERROR($E198*SUMIF('Daily Log'!#REF!,$B198,'Daily Log'!#REF!),0)","v":0},{"$f":"IFERROR($E198*SUMIF('Daily Log'!#REF!,$B198,'Daily Log'!#REF!),0)","v":0},{"$f":"IFERROR($E198*SUMIF('Daily Log'!#REF!,$B198,'Daily Log'!#REF!),0)","v":0},{"$f":"IFERROR($E198*SUMIF('Daily Log'!#REF!,$B198,'Daily Log'!#REF!),0)","v":0},{"$f":"IFERROR($E198*SUMIF('Daily Log'!#REF!,$B198,'Daily Log'!#REF!),0)","v":0},{"$f":"IFERROR($E198*SUMIF('Daily Log'!#REF!,$B198,'Daily Log'!#REF!),0)","v":0},{"$f":"IFERROR($E198*SUMIF('Daily Log'!#REF!,$B198,'Daily Log'!#REF!),0)","v":0},{"$f":"IFERROR($E198*SUMIF('Daily Log'!#REF!,$B198,'Daily Log'!#REF!),0)","v":0},{"$f":"IFERROR($E198*SUMIF('Daily Log'!#REF!,$B198,'Daily Log'!#REF!),0)","v":0},{"$f":"IFERROR($E198*SUMIF('Daily Log'!#REF!,$B198,'Daily Log'!#REF!),0)","v":0},{"$f":"IFERROR($E198*SUMIF('Daily Log'!#REF!,$B198,'Daily Log'!#REF!),0)","v":0},{"$f":"IFERROR($E198*SUMIF('Daily Log'!#REF!,$B198,'Daily Log'!#REF!),0)","v":0},{"$f":"IFERROR($E198*SUMIF('Daily Log'!#REF!,$B198,'Daily Log'!#REF!),0)","v":0},{"$f":"IFERROR($E198*SUMIF('Daily Log'!#REF!,$B198,'Daily Log'!#REF!),0)","v":0},{"$f":"IFERROR($E198*SUMIF('Daily Log'!#REF!,$B198,'Daily Log'!#REF!),0)","v":0},{"$f":"IFERROR($E198*SUMIF('Daily Log'!#REF!,$B198,'Daily Log'!#REF!),0)","v":0},{"$f":"IFERROR($E198*SUMIF('Daily Log'!#REF!,$B198,'Daily Log'!#REF!),0)","v":0},{"$f":"IFERROR($E198*SUMIF('Daily Log'!#REF!,$B198,'Daily Log'!#REF!),0)","v":0}]
[null,"CC08 CHOCOLATE SM",null,"SIDE ORDER-COLD BEVERAGE",1,0,{"$f":"IFERROR($E199*SUMIF('Daily Log'!$B$18:$B$1017,$B199,'Daily Log'!$C$18:$C$1017),0)","v":0},{"$f":"IFERROR($E199*SUMIF('Daily Log'!$E$18:$E$1017,$B199,'Daily Log'!$F$18:$F$1017),0)","v":0},{"$f":"IFERROR($E199*SUMIF('Daily Log'!$H$18:$H$1017,$B199,'Daily Log'!$I$18:$I$1017),0)","v":0},{"$f":"IFERROR($E199*SUMIF('Daily Log'!$K$18:$K$1017,$B199,'Daily Log'!$L$18:$L$1017),0)","v":0},{"$f":"IFERROR($E199*SUMIF('Daily Log'!$N$18:$N$1017,$B199,'Daily Log'!$O$18:$O$1017),0)","v":0},{"$f":"IFERROR($E199*SUMIF('Daily Log'!#REF!,$B199,'Daily Log'!#REF!),0)","v":0},{"$f":"IFERROR($E199*SUMIF('Daily Log'!#REF!,$B199,'Daily Log'!#REF!),0)","v":0},{"$f":"IFERROR($E199*SUMIF('Daily Log'!#REF!,$B199,'Daily Log'!#REF!),0)","v":0},{"$f":"IFERROR($E199*SUMIF('Daily Log'!#REF!,$B199,'Daily Log'!#REF!),0)","v":0},{"$f":"IFERROR($E199*SUMIF('Daily Log'!#REF!,$B199,'Daily Log'!#REF!),0)","v":0},{"$f":"IFERROR($E199*SUMIF('Daily Log'!#REF!,$B199,'Daily Log'!#REF!),0)","v":0},{"$f":"IFERROR($E199*SUMIF('Daily Log'!#REF!,$B199,'Daily Log'!#REF!),0)","v":0},{"$f":"IFERROR($E199*SUMIF('Daily Log'!#REF!,$B199,'Daily Log'!#REF!),0)","v":0},{"$f":"IFERROR($E199*SUMIF('Daily Log'!#REF!,$B199,'Daily Log'!#REF!),0)","v":0},{"$f":"IFERROR($E199*SUMIF('Daily Log'!#REF!,$B199,'Daily Log'!#REF!),0)","v":0},{"$f":"IFERROR($E199*SUMIF('Daily Log'!#REF!,$B199,'Daily Log'!#REF!),0)","v":0},{"$f":"IFERROR($E199*SUMIF('Daily Log'!#REF!,$B199,'Daily Log'!#REF!),0)","v":0},{"$f":"IFERROR($E199*SUMIF('Daily Log'!#REF!,$B199,'Daily Log'!#REF!),0)","v":0},{"$f":"IFERROR($E199*SUMIF('Daily Log'!#REF!,$B199,'Daily Log'!#REF!),0)","v":0},{"$f":"IFERROR($E199*SUMIF('Daily Log'!#REF!,$B199,'Daily Log'!#REF!),0)","v":0},{"$f":"IFERROR($E199*SUMIF('Daily Log'!#REF!,$B199,'Daily Log'!#REF!),0)","v":0},{"$f":"IFERROR($E199*SUMIF('Daily Log'!#REF!,$B199,'Daily Log'!#REF!),0)","v":0},{"$f":"IFERROR($E199*SUMIF('Daily Log'!#REF!,$B199,'Daily Log'!#REF!),0)","v":0},{"$f":"IFERROR($E199*SUMIF('Daily Log'!#REF!,$B199,'Daily Log'!#REF!),0)","v":0},{"$f":"IFERROR($E199*SUMIF('Daily Log'!#REF!,$B199,'Daily Log'!#REF!),0)","v":0},{"$f":"IFERROR($E199*SUMIF('Daily Log'!#REF!,$B199,'Daily Log'!#REF!),0)","v":0},{"$f":"IFERROR($E199*SUMIF('Daily Log'!#REF!,$B199,'Daily Log'!#REF!),0)","v":0},{"$f":"IFERROR($E199*SUMIF('Daily Log'!#REF!,$B199,'Daily Log'!#REF!),0)","v":0},{"$f":"IFERROR($E199*SUMIF('Daily Log'!#REF!,$B199,'Daily Log'!#REF!),0)","v":0},{"$f":"IFERROR($E199*SUMIF('Daily Log'!#REF!,$B199,'Daily Log'!#REF!),0)","v":0},{"$f":"IFERROR($E199*SUMIF('Daily Log'!#REF!,$B199,'Daily Log'!#REF!),0)","v":0}]
[null,"CC09 MOCHA SM",null,"SIDE ORDER-COLD BEVERAGE",1,0,{"$f":"IFERROR($E200*SUMIF('Daily Log'!$B$18:$B$1017,$B200,'Daily Log'!$C$18:$C$1017),0)","v":0},{"$f":"IFERROR($E200*SUMIF('Daily Log'!$E$18:$E$1017,$B200,'Daily Log'!$F$18:$F$1017),0)","v":0},{"$f":"IFERROR($E200*SUMIF('Daily Log'!$H$18:$H$1017,$B200,'Daily Log'!$I$18:$I$1017),0)","v":0},{"$f":"IFERROR($E200*SUMIF('Daily Log'!$K$18:$K$1017,$B200,'Daily Log'!$L$18:$L$1017),0)","v":0},{"$f":"IFERROR($E200*SUMIF('Daily Log'!$N$18:$N$1017,$B200,'Daily Log'!$O$18:$O$1017),0)","v":0},{"$f":"IFERROR($E200*SUMIF('Daily Log'!#REF!,$B200,'Daily Log'!#REF!),0)","v":0},{"$f":"IFERROR($E200*SUMIF('Daily Log'!#REF!,$B200,'Daily Log'!#REF!),0)","v":0},{"$f":"IFERROR($E200*SUMIF('Daily Log'!#REF!,$B200,'Daily Log'!#REF!),0)","v":0},{"$f":"IFERROR($E200*SUMIF('Daily Log'!#REF!,$B200,'Daily Log'!#REF!),0)","v":0},{"$f":"IFERROR($E200*SUMIF('Daily Log'!#REF!,$B200,'Daily Log'!#REF!),0)","v":0},{"$f":"IFERROR($E200*SUMIF('Daily Log'!#REF!,$B200,'Daily Log'!#REF!),0)","v":0},{"$f":"IFERROR($E200*SUMIF('Daily Log'!#REF!,$B200,'Daily Log'!#REF!),0)","v":0},{"$f":"IFERROR($E200*SUMIF('Daily Log'!#REF!,$B200,'Daily Log'!#REF!),0)","v":0},{"$f":"IFERROR($E200*SUMIF('Daily Log'!#REF!,$B200,'Daily Log'!#REF!),0)","v":0},{"$f":"IFERROR($E200*SUMIF('Daily Log'!#REF!,$B200,'Daily Log'!#REF!),0)","v":0},{"$f":"IFERROR($E200*SUMIF('Daily Log'!#REF!,$B200,'Daily Log'!#REF!),0)","v":0},{"$f":"IFERROR($E200*SUMIF('Daily Log'!#REF!,$B200,'Daily Log'!#REF!),0)","v":0},{"$f":"IFERROR($E200*SUMIF('Daily Log'!#REF!,$B200,'Daily Log'!#REF!),0)","v":0},{"$f":"IFERROR($E200*SUMIF('Daily Log'!#REF!,$B200,'Daily Log'!#REF!),0)","v":0},{"$f":"IFERROR($E200*SUMIF('Daily Log'!#REF!,$B200,'Daily Log'!#REF!),0)","v":0},{"$f":"IFERROR($E200*SUMIF('Daily Log'!#REF!,$B200,'Daily Log'!#REF!),0)","v":0},{"$f":"IFERROR($E200*SUMIF('Daily Log'!#REF!,$B200,'Daily Log'!#REF!),0)","v":0},{"$f":"IFERROR($E200*SUMIF('Daily Log'!#REF!,$B200,'Daily Log'!#REF!),0)","v":0},{"$f":"IFERROR($E200*SUMIF('Daily Log'!#REF!,$B200,'Daily Log'!#REF!),0)","v":0},{"$f":"IFERROR($E200*SUMIF('Daily Log'!#REF!,$B200,'Daily Log'!#REF!),0)","v":0},{"$f":"IFERROR($E200*SUMIF('Daily Log'!#REF!,$B200,'Daily Log'!#REF!),0)","v":0},{"$f":"IFERROR($E200*SUMIF('Daily Log'!#REF!,$B200,'Daily Log'!#REF!),0)","v":0},{"$f":"IFERROR($E200*SUMIF('Daily Log'!#REF!,$B200,'Daily Log'!#REF!),0)","v":0},{"$f":"IFERROR($E200*SUMIF('Daily Log'!#REF!,$B200,'Daily Log'!#REF!),0)","v":0},{"$f":"IFERROR($E200*SUMIF('Daily Log'!#REF!,$B200,'Daily Log'!#REF!),0)","v":0},{"$f":"IFERROR($E200*SUMIF('Daily Log'!#REF!,$B200,'Daily Log'!#REF!),0)","v":0}]
[null,"CD01 7 UP",null,"SIDE ORDER-SOFT DRINK",1,0,{"$f":"IFERROR($E201*SUMIF('Daily Log'!$B$18:$B$1017,$B201,'Daily Log'!$C$18:$C$1017),0)","v":0},{"$f":"IFERROR($E201*SUMIF('Daily Log'!$E$18:$E$1017,$B201,'Daily Log'!$F$18:$F$1017),0)","v":0},{"$f":"IFERROR($E201*SUMIF('Daily Log'!$H$18:$H$1017,$B201,'Daily Log'!$I$18:$I$1017),0)","v":0},{"$f":"IFERROR($E201*SUMIF('Daily Log'!$K$18:$K$1017,$B201,'Daily Log'!$L$18:$L$1017),0)","v":0},{"$f":"IFERROR($E201*SUMIF('Daily Log'!$N$18:$N$1017,$B201,'Daily Log'!$O$18:$O$1017),0)","v":0},{"$f":"IFERROR($E201*SUMIF('Daily Log'!#REF!,$B201,'Daily Log'!#REF!),0)","v":0},{"$f":"IFERROR($E201*SUMIF('Daily Log'!#REF!,$B201,'Daily Log'!#REF!),0)","v":0},{"$f":"IFERROR($E201*SUMIF('Daily Log'!#REF!,$B201,'Daily Log'!#REF!),0)","v":0},{"$f":"IFERROR($E201*SUMIF('Daily Log'!#REF!,$B201,'Daily Log'!#REF!),0)","v":0},{"$f":"IFERROR($E201*SUMIF('Daily Log'!#REF!,$B201,'Daily Log'!#REF!),0)","v":0},{"$f":"IFERROR($E201*SUMIF('Daily Log'!#REF!,$B201,'Daily Log'!#REF!),0)","v":0},{"$f":"IFERROR($E201*SUMIF('Daily Log'!#REF!,$B201,'Daily Log'!#REF!),0)","v":0},{"$f":"IFERROR($E201*SUMIF('Daily Log'!#REF!,$B201,'Daily Log'!#REF!),0)","v":0},{"$f":"IFERROR($E201*SUMIF('Daily Log'!#REF!,$B201,'Daily Log'!#REF!),0)","v":0},{"$f":"IFERROR($E201*SUMIF('Daily Log'!#REF!,$B201,'Daily Log'!#REF!),0)","v":0},{"$f":"IFERROR($E201*SUMIF('Daily Log'!#REF!,$B201,'Daily Log'!#REF!),0)","v":0},{"$f":"IFERROR($E201*SUMIF('Daily Log'!#REF!,$B201,'Daily Log'!#REF!),0)","v":0},{"$f":"IFERROR($E201*SUMIF('Daily Log'!#REF!,$B201,'Daily Log'!#REF!),0)","v":0},{"$f":"IFERROR($E201*SUMIF('Daily Log'!#REF!,$B201,'Daily Log'!#REF!),0)","v":0},{"$f":"IFERROR($E201*SUMIF('Daily Log'!#REF!,$B201,'Daily Log'!#REF!),0)","v":0},{"$f":"IFERROR($E201*SUMIF('Daily Log'!#REF!,$B201,'Daily Log'!#REF!),0)","v":0},{"$f":"IFERROR($E201*SUMIF('Daily Log'!#REF!,$B201,'Daily Log'!#REF!),0)","v":0},{"$f":"IFERROR($E201*SUMIF('Daily Log'!#REF!,$B201,'Daily Log'!#REF!),0)","v":0},{"$f":"IFERROR($E201*SUMIF('Daily Log'!#REF!,$B201,'Daily Log'!#REF!),0)","v":0},{"$f":"IFERROR($E201*SUMIF('Daily Log'!#REF!,$B201,'Daily Log'!#REF!),0)","v":0},{"$f":"IFERROR($E201*SUMIF('Daily Log'!#REF!,$B201,'Daily Log'!#REF!),0)","v":0},{"$f":"IFERROR($E201*SUMIF('Daily Log'!#REF!,$B201,'Daily Log'!#REF!),0)","v":0},{"$f":"IFERROR($E201*SUMIF('Daily Log'!#REF!,$B201,'Daily Log'!#REF!),0)","v":0},{"$f":"IFERROR($E201*SUMIF('Daily Log'!#REF!,$B201,'Daily Log'!#REF!),0)","v":0},{"$f":"IFERROR($E201*SUMIF('Daily Log'!#REF!,$B201,'Daily Log'!#REF!),0)","v":0},{"$f":"IFERROR($E201*SUMIF('Daily Log'!#REF!,$B201,'Daily Log'!#REF!),0)","v":0}]
[null,"CD02 7 UP REVIVE",null,"SIDE ORDER-SOFT DRINK",1,0,{"$f":"IFERROR($E202*SUMIF('Daily Log'!$B$18:$B$1017,$B202,'Daily Log'!$C$18:$C$1017),0)","v":0},{"$f":"IFERROR($E202*SUMIF('Daily Log'!$E$18:$E$1017,$B202,'Daily Log'!$F$18:$F$1017),0)","v":0},{"$f":"IFERROR($E202*SUMIF('Daily Log'!$H$18:$H$1017,$B202,'Daily Log'!$I$18:$I$1017),0)","v":0},{"$f":"IFERROR($E202*SUMIF('Daily Log'!$K$18:$K$1017,$B202,'Daily Log'!$L$18:$L$1017),0)","v":0},{"$f":"IFERROR($E202*SUMIF('Daily Log'!$N$18:$N$1017,$B202,'Daily Log'!$O$18:$O$1017),0)","v":0},{"$f":"IFERROR($E202*SUMIF('Daily Log'!#REF!,$B202,'Daily Log'!#REF!),0)","v":0},{"$f":"IFERROR($E202*SUMIF('Daily Log'!#REF!,$B202,'Daily Log'!#REF!),0)","v":0},{"$f":"IFERROR($E202*SUMIF('Daily Log'!#REF!,$B202,'Daily Log'!#REF!),0)","v":0},{"$f":"IFERROR($E202*SUMIF('Daily Log'!#REF!,$B202,'Daily Log'!#REF!),0)","v":0},{"$f":"IFERROR($E202*SUMIF('Daily Log'!#REF!,$B202,'Daily Log'!#REF!),0)","v":0},{"$f":"IFERROR($E202*SUMIF('Daily Log'!#REF!,$B202,'Daily Log'!#REF!),0)","v":0},{"$f":"IFERROR($E202*SUMIF('Daily Log'!#REF!,$B202,'Daily Log'!#REF!),0)","v":0},{"$f":"IFERROR($E202*SUMIF('Daily Log'!#REF!,$B202,'Daily Log'!#REF!),0)","v":0},{"$f":"IFERROR($E202*SUMIF('Daily Log'!#REF!,$B202,'Daily Log'!#REF!),0)","v":0},{"$f":"IFERROR($E202*SUMIF('Daily Log'!#REF!,$B202,'Daily Log'!#REF!),0)","v":0},{"$f":"IFERROR($E202*SUMIF('Daily Log'!#REF!,$B202,'Daily Log'!#REF!),0)","v":0},{"$f":"IFERROR($E202*SUMIF('Daily Log'!#REF!,$B202,'Daily Log'!#REF!),0)","v":0},{"$f":"IFERROR($E202*SUMIF('Daily Log'!#REF!,$B202,'Daily Log'!#REF!),0)","v":0},{"$f":"IFERROR($E202*SUMIF('Daily Log'!#REF!,$B202,'Daily Log'!#REF!),0)","v":0},{"$f":"IFERROR($E202*SUMIF('Daily Log'!#REF!,$B202,'Daily Log'!#REF!),0)","v":0},{"$f":"IFERROR($E202*SUMIF('Daily Log'!#REF!,$B202,'Daily Log'!#REF!),0)","v":0},{"$f":"IFERROR($E202*SUMIF('Daily Log'!#REF!,$B202,'Daily Log'!#REF!),0)","v":0},{"$f":"IFERROR($E202*SUMIF('Daily Log'!#REF!,$B202,'Daily Log'!#REF!),0)","v":0},{"$f":"IFERROR($E202*SUMIF('Daily Log'!#REF!,$B202,'Daily Log'!#REF!),0)","v":0},{"$f":"IFERROR($E202*SUMIF('Daily Log'!#REF!,$B202,'Daily Log'!#REF!),0)","v":0},{"$f":"IFERROR($E202*SUMIF('Daily Log'!#REF!,$B202,'Daily Log'!#REF!),0)","v":0},{"$f":"IFERROR($E202*SUMIF('Daily Log'!#REF!,$B202,'Daily Log'!#REF!),0)","v":0},{"$f":"IFERROR($E202*SUMIF('Daily Log'!#REF!,$B202,'Daily Log'!#REF!),0)","v":0},{"$f":"IFERROR($E202*SUMIF('Daily Log'!#REF!,$B202,'Daily Log'!#REF!),0)","v":0},{"$f":"IFERROR($E202*SUMIF('Daily Log'!#REF!,$B202,'Daily Log'!#REF!),0)","v":0},{"$f":"IFERROR($E202*SUMIF('Daily Log'!#REF!,$B202,'Daily Log'!#REF!),0)","v":0}]
[null,"CD03 PEPSI",null,"SIDE ORDER-SOFT DRINK",1,0,{"$f":"IFERROR($E203*SUMIF('Daily Log'!$B$18:$B$1017,$B203,'Daily Log'!$C$18:$C$1017),0)","v":0},{"$f":"IFERROR($E203*SUMIF('Daily Log'!$E$18:$E$1017,$B203,'Daily Log'!$F$18:$F$1017),0)","v":0},{"$f":"IFERROR($E203*SUMIF('Daily Log'!$H$18:$H$1017,$B203,'Daily Log'!$I$18:$I$1017),0)","v":0},{"$f":"IFERROR($E203*SUMIF('Daily Log'!$K$18:$K$1017,$B203,'Daily Log'!$L$18:$L$1017),0)","v":0},{"$f":"IFERROR($E203*SUMIF('Daily Log'!$N$18:$N$1017,$B203,'Daily Log'!$O$18:$O$1017),0)","v":0},{"$f":"IFERROR($E203*SUMIF('Daily Log'!#REF!,$B203,'Daily Log'!#REF!),0)","v":0},{"$f":"IFERROR($E203*SUMIF('Daily Log'!#REF!,$B203,'Daily Log'!#REF!),0)","v":0},{"$f":"IFERROR($E203*SUMIF('Daily Log'!#REF!,$B203,'Daily Log'!#REF!),0)","v":0},{"$f":"IFERROR($E203*SUMIF('Daily Log'!#REF!,$B203,'Daily Log'!#REF!),0)","v":0},{"$f":"IFERROR($E203*SUMIF('Daily Log'!#REF!,$B203,'Daily Log'!#REF!),0)","v":0},{"$f":"IFERROR($E203*SUMIF('Daily Log'!#REF!,$B203,'Daily Log'!#REF!),0)","v":0},{"$f":"IFERROR($E203*SUMIF('Daily Log'!#REF!,$B203,'Daily Log'!#REF!),0)","v":0},{"$f":"IFERROR($E203*SUMIF('Daily Log'!#REF!,$B203,'Daily Log'!#REF!),0)","v":0},{"$f":"IFERROR($E203*SUMIF('Daily Log'!#REF!,$B203,'Daily Log'!#REF!),0)","v":0},{"$f":"IFERROR($E203*SUMIF('Daily Log'!#REF!,$B203,'Daily Log'!#REF!),0)","v":0},{"$f":"IFERROR($E203*SUMIF('Daily Log'!#REF!,$B203,'Daily Log'!#REF!),0)","v":0},{"$f":"IFERROR($E203*SUMIF('Daily Log'!#REF!,$B203,'Daily Log'!#REF!),0)","v":0},{"$f":"IFERROR($E203*SUMIF('Daily Log'!#REF!,$B203,'Daily Log'!#REF!),0)","v":0},{"$f":"IFERROR($E203*SUMIF('Daily Log'!#REF!,$B203,'Daily Log'!#REF!),0)","v":0},{"$f":"IFERROR($E203*SUMIF('Daily Log'!#REF!,$B203,'Daily Log'!#REF!),0)","v":0},{"$f":"IFERROR($E203*SUMIF('Daily Log'!#REF!,$B203,'Daily Log'!#REF!),0)","v":0},{"$f":"IFERROR($E203*SUMIF('Daily Log'!#REF!,$B203,'Daily Log'!#REF!),0)","v":0},{"$f":"IFERROR($E203*SUMIF('Daily Log'!#REF!,$B203,'Daily Log'!#REF!),0)","v":0},{"$f":"IFERROR($E203*SUMIF('Daily Log'!#REF!,$B203,'Daily Log'!#REF!),0)","v":0},{"$f":"IFERROR($E203*SUMIF('Daily Log'!#REF!,$B203,'Daily Log'!#REF!),0)","v":0},{"$f":"IFERROR($E203*SUMIF('Daily Log'!#REF!,$B203,'Daily Log'!#REF!),0)","v":0},{"$f":"IFERROR($E203*SUMIF('Daily Log'!#REF!,$B203,'Daily Log'!#REF!),0)","v":0},{"$f":"IFERROR($E203*SUMIF('Daily Log'!#REF!,$B203,'Daily Log'!#REF!),0)","v":0},{"$f":"IFERROR($E203*SUMIF('Daily Log'!#REF!,$B203,'Daily Log'!#REF!),0)","v":0},{"$f":"IFERROR($E203*SUMIF('Daily Log'!#REF!,$B203,'Daily Log'!#REF!),0)","v":0},{"$f":"IFERROR($E203*SUMIF('Daily Log'!#REF!,$B203,'Daily Log'!#REF!),0)","v":0}]
[null,"CE01 MILO (C)",null,"SIDE ORDER-COLD BEVERAGE",1,1,{"$f":"IFERROR($E204*SUMIF('Daily Log'!$B$18:$B$1017,$B204,'Daily Log'!$C$18:$C$1017),0)","v":1},{"$f":"IFERROR($E204*SUMIF('Daily Log'!$E$18:$E$1017,$B204,'Daily Log'!$F$18:$F$1017),0)","v":0},{"$f":"IFERROR($E204*SUMIF('Daily Log'!$H$18:$H$1017,$B204,'Daily Log'!$I$18:$I$1017),0)","v":0},{"$f":"IFERROR($E204*SUMIF('Daily Log'!$K$18:$K$1017,$B204,'Daily Log'!$L$18:$L$1017),0)","v":0},{"$f":"IFERROR($E204*SUMIF('Daily Log'!$N$18:$N$1017,$B204,'Daily Log'!$O$18:$O$1017),0)","v":0},{"$f":"IFERROR($E204*SUMIF('Daily Log'!#REF!,$B204,'Daily Log'!#REF!),0)","v":0},{"$f":"IFERROR($E204*SUMIF('Daily Log'!#REF!,$B204,'Daily Log'!#REF!),0)","v":0},{"$f":"IFERROR($E204*SUMIF('Daily Log'!#REF!,$B204,'Daily Log'!#REF!),0)","v":0},{"$f":"IFERROR($E204*SUMIF('Daily Log'!#REF!,$B204,'Daily Log'!#REF!),0)","v":0},{"$f":"IFERROR($E204*SUMIF('Daily Log'!#REF!,$B204,'Daily Log'!#REF!),0)","v":0},{"$f":"IFERROR($E204*SUMIF('Daily Log'!#REF!,$B204,'Daily Log'!#REF!),0)","v":0},{"$f":"IFERROR($E204*SUMIF('Daily Log'!#REF!,$B204,'Daily Log'!#REF!),0)","v":0},{"$f":"IFERROR($E204*SUMIF('Daily Log'!#REF!,$B204,'Daily Log'!#REF!),0)","v":0},{"$f":"IFERROR($E204*SUMIF('Daily Log'!#REF!,$B204,'Daily Log'!#REF!),0)","v":0},{"$f":"IFERROR($E204*SUMIF('Daily Log'!#REF!,$B204,'Daily Log'!#REF!),0)","v":0},{"$f":"IFERROR($E204*SUMIF('Daily Log'!#REF!,$B204,'Daily Log'!#REF!),0)","v":0},{"$f":"IFERROR($E204*SUMIF('Daily Log'!#REF!,$B204,'Daily Log'!#REF!),0)","v":0},{"$f":"IFERROR($E204*SUMIF('Daily Log'!#REF!,$B204,'Daily Log'!#REF!),0)","v":0},{"$f":"IFERROR($E204*SUMIF('Daily Log'!#REF!,$B204,'Daily Log'!#REF!),0)","v":0},{"$f":"IFERROR($E204*SUMIF('Daily Log'!#REF!,$B204,'Daily Log'!#REF!),0)","v":0},{"$f":"IFERROR($E204*SUMIF('Daily Log'!#REF!,$B204,'Daily Log'!#REF!),0)","v":0},{"$f":"IFERROR($E204*SUMIF('Daily Log'!#REF!,$B204,'Daily Log'!#REF!),0)","v":0},{"$f":"IFERROR($E204*SUMIF('Daily Log'!#REF!,$B204,'Daily Log'!#REF!),0)","v":0},{"$f":"IFERROR($E204*SUMIF('Daily Log'!#REF!,$B204,'Daily Log'!#REF!),0)","v":0},{"$f":"IFERROR($E204*SUMIF('Daily Log'!#REF!,$B204,'Daily Log'!#REF!),0)","v":0},{"$f":"IFERROR($E204*SUMIF('Daily Log'!#REF!,$B204,'Daily Log'!#REF!),0)","v":0},{"$f":"IFERROR($E204*SUMIF('Daily Log'!#REF!,$B204,'Daily Log'!#REF!),0)","v":0},{"$f":"IFERROR($E204*SUMIF('Daily Log'!#REF!,$B204,'Daily Log'!#REF!),0)","v":0},{"$f":"IFERROR($E204*SUMIF('Daily Log'!#REF!,$B204,'Daily Log'!#REF!),0)","v":0},{"$f":"IFERROR($E204*SUMIF('Daily Log'!#REF!,$B204,'Daily Log'!#REF!),0)","v":0},{"$f":"IFERROR($E204*SUMIF('Daily Log'!#REF!,$B204,'Daily Log'!#REF!),0)","v":0}]
[null,"CE02 NESCAFE (C)",null,"SIDE ORDER-COLD BEVERAGE",1,0,{"$f":"IFERROR($E205*SUMIF('Daily Log'!$B$18:$B$1017,$B205,'Daily Log'!$C$18:$C$1017),0)","v":0},{"$f":"IFERROR($E205*SUMIF('Daily Log'!$E$18:$E$1017,$B205,'Daily Log'!$F$18:$F$1017),0)","v":0},{"$f":"IFERROR($E205*SUMIF('Daily Log'!$H$18:$H$1017,$B205,'Daily Log'!$I$18:$I$1017),0)","v":0},{"$f":"IFERROR($E205*SUMIF('Daily Log'!$K$18:$K$1017,$B205,'Daily Log'!$L$18:$L$1017),0)","v":0},{"$f":"IFERROR($E205*SUMIF('Daily Log'!$N$18:$N$1017,$B205,'Daily Log'!$O$18:$O$1017),0)","v":0},{"$f":"IFERROR($E205*SUMIF('Daily Log'!#REF!,$B205,'Daily Log'!#REF!),0)","v":0},{"$f":"IFERROR($E205*SUMIF('Daily Log'!#REF!,$B205,'Daily Log'!#REF!),0)","v":0},{"$f":"IFERROR($E205*SUMIF('Daily Log'!#REF!,$B205,'Daily Log'!#REF!),0)","v":0},{"$f":"IFERROR($E205*SUMIF('Daily Log'!#REF!,$B205,'Daily Log'!#REF!),0)","v":0},{"$f":"IFERROR($E205*SUMIF('Daily Log'!#REF!,$B205,'Daily Log'!#REF!),0)","v":0},{"$f":"IFERROR($E205*SUMIF('Daily Log'!#REF!,$B205,'Daily Log'!#REF!),0)","v":0},{"$f":"IFERROR($E205*SUMIF('Daily Log'!#REF!,$B205,'Daily Log'!#REF!),0)","v":0},{"$f":"IFERROR($E205*SUMIF('Daily Log'!#REF!,$B205,'Daily Log'!#REF!),0)","v":0},{"$f":"IFERROR($E205*SUMIF('Daily Log'!#REF!,$B205,'Daily Log'!#REF!),0)","v":0},{"$f":"IFERROR($E205*SUMIF('Daily Log'!#REF!,$B205,'Daily Log'!#REF!),0)","v":0},{"$f":"IFERROR($E205*SUMIF('Daily Log'!#REF!,$B205,'Daily Log'!#REF!),0)","v":0},{"$f":"IFERROR($E205*SUMIF('Daily Log'!#REF!,$B205,'Daily Log'!#REF!),0)","v":0},{"$f":"IFERROR($E205*SUMIF('Daily Log'!#REF!,$B205,'Daily Log'!#REF!),0)","v":0},{"$f":"IFERROR($E205*SUMIF('Daily Log'!#REF!,$B205,'Daily Log'!#REF!),0)","v":0},{"$f":"IFERROR($E205*SUMIF('Daily Log'!#REF!,$B205,'Daily Log'!#REF!),0)","v":0},{"$f":"IFERROR($E205*SUMIF('Daily Log'!#REF!,$B205,'Daily Log'!#REF!),0)","v":0},{"$f":"IFERROR($E205*SUMIF('Daily Log'!#REF!,$B205,'Daily Log'!#REF!),0)","v":0},{"$f":"IFERROR($E205*SUMIF('Daily Log'!#REF!,$B205,'Daily Log'!#REF!),0)","v":0},{"$f":"IFERROR($E205*SUMIF('Daily Log'!#REF!,$B205,'Daily Log'!#REF!),0)","v":0},{"$f":"IFERROR($E205*SUMIF('Daily Log'!#REF!,$B205,'Daily Log'!#REF!),0)","v":0},{"$f":"IFERROR($E205*SUMIF('Daily Log'!#REF!,$B205,'Daily Log'!#REF!),0)","v":0},{"$f":"IFERROR($E205*SUMIF('Daily Log'!#REF!,$B205,'Daily Log'!#REF!),0)","v":0},{"$f":"IFERROR($E205*SUMIF('Daily Log'!#REF!,$B205,'Daily Log'!#REF!),0)","v":0},{"$f":"IFERROR($E205*SUMIF('Daily Log'!#REF!,$B205,'Daily Log'!#REF!),0)","v":0},{"$f":"IFERROR($E205*SUMIF('Daily Log'!#REF!,$B205,'Daily Log'!#REF!),0)","v":0},{"$f":"IFERROR($E205*SUMIF('Daily Log'!#REF!,$B205,'Daily Log'!#REF!),0)","v":0}]
[null,"CE03 TEA (C)",null,"SIDE ORDER-COLD BEVERAGE",1,{"$f":"SUM($G206:$AK206)","v":0},{"$f":"IFERROR($E206*SUMIF('Daily Log'!$B$18:$B$1017,$B206,'Daily Log'!$C$18:$C$1017),0)","v":0},{"$f":"IFERROR($E206*SUMIF('Daily Log'!$E$18:$E$1017,$B206,'Daily Log'!$F$18:$F$1017),0)","v":0},{"$f":"IFERROR($E206*SUMIF('Daily Log'!$H$18:$H$1017,$B206,'Daily Log'!$I$18:$I$1017),0)","v":0},{"$f":"IFERROR($E206*SUMIF('Daily Log'!$K$18:$K$1017,$B206,'Daily Log'!$L$18:$L$1017),0)","v":0},{"$f":"IFERROR($E206*SUMIF('Daily Log'!$N$18:$N$1017,$B206,'Daily Log'!$O$18:$O$1017),0)","v":0},{"$f":"IFERROR($E206*SUMIF('Daily Log'!#REF!,$B206,'Daily Log'!#REF!),0)","v":0},{"$f":"IFERROR($E206*SUMIF('Daily Log'!#REF!,$B206,'Daily Log'!#REF!),0)","v":0},{"$f":"IFERROR($E206*SUMIF('Daily Log'!#REF!,$B206,'Daily Log'!#REF!),0)","v":0},{"$f":"IFERROR($E206*SUMIF('Daily Log'!#REF!,$B206,'Daily Log'!#REF!),0)","v":0},{"$f":"IFERROR($E206*SUMIF('Daily Log'!#REF!,$B206,'Daily Log'!#REF!),0)","v":0},{"$f":"IFERROR($E206*SUMIF('Daily Log'!#REF!,$B206,'Daily Log'!#REF!),0)","v":0},{"$f":"IFERROR($E206*SUMIF('Daily Log'!#REF!,$B206,'Daily Log'!#REF!),0)","v":0},{"$f":"IFERROR($E206*SUMIF('Daily Log'!#REF!,$B206,'Daily Log'!#REF!),0)","v":0},{"$f":"IFERROR($E206*SUMIF('Daily Log'!#REF!,$B206,'Daily Log'!#REF!),0)","v":0},{"$f":"IFERROR($E206*SUMIF('Daily Log'!#REF!,$B206,'Daily Log'!#REF!),0)","v":0},{"$f":"IFERROR($E206*SUMIF('Daily Log'!#REF!,$B206,'Daily Log'!#REF!),0)","v":0},{"$f":"IFERROR($E206*SUMIF('Daily Log'!#REF!,$B206,'Daily Log'!#REF!),0)","v":0},{"$f":"IFERROR($E206*SUMIF('Daily Log'!#REF!,$B206,'Daily Log'!#REF!),0)","v":0},{"$f":"IFERROR($E206*SUMIF('Daily Log'!#REF!,$B206,'Daily Log'!#REF!),0)","v":0},{"$f":"IFERROR($E206*SUMIF('Daily Log'!#REF!,$B206,'Daily Log'!#REF!),0)","v":0},{"$f":"IFERROR($E206*SUMIF('Daily Log'!#REF!,$B206,'Daily Log'!#REF!),0)","v":0},{"$f":"IFERROR($E206*SUMIF('Daily Log'!#REF!,$B206,'Daily Log'!#REF!),0)","v":0},{"$f":"IFERROR($E206*SUMIF('Daily Log'!#REF!,$B206,'Daily Log'!#REF!),0)","v":0},{"$f":"IFERROR($E206*SUMIF('Daily Log'!#REF!,$B206,'Daily Log'!#REF!),0)","v":0},{"$f":"IFERROR($E206*SUMIF('Daily Log'!#REF!,$B206,'Daily Log'!#REF!),0)","v":0},{"$f":"IFERROR($E206*SUMIF('Daily Log'!#REF!,$B206,'Daily Log'!#REF!),0)","v":0},{"$f":"IFERROR($E206*SUMIF('Daily Log'!#REF!,$B206,'Daily Log'!#REF!),0)","v":0},{"$f":"IFERROR($E206*SUMIF('Daily Log'!#REF!,$B206,'Daily Log'!#REF!),0)","v":0},{"$f":"IFERROR($E206*SUMIF('Daily Log'!#REF!,$B206,'Daily Log'!#REF!),0)","v":0},{"$f":"IFERROR($E206*SUMIF('Daily Log'!#REF!,$B206,'Daily Log'!#REF!),0)","v":0},{"$f":"IFERROR($E206*SUMIF('Daily Log'!#REF!,$B206,'Daily Log'!#REF!),0)","v":0}]
[null,"CE04 LEMON TEA (C)",null,"SIDE ORDER-COLD BEVERAGE",1,0,{"$f":"IFERROR($E207*SUMIF('Daily Log'!$B$18:$B$1017,$B207,'Daily Log'!$C$18:$C$1017),0)","v":0},{"$f":"IFERROR($E207*SUMIF('Daily Log'!$E$18:$E$1017,$B207,'Daily Log'!$F$18:$F$1017),0)","v":0},{"$f":"IFERROR($E207*SUMIF('Daily Log'!$H$18:$H$1017,$B207,'Daily Log'!$I$18:$I$1017),0)","v":0},{"$f":"IFERROR($E207*SUMIF('Daily Log'!$K$18:$K$1017,$B207,'Daily Log'!$L$18:$L$1017),0)","v":0},{"$f":"IFERROR($E207*SUMIF('Daily Log'!$N$18:$N$1017,$B207,'Daily Log'!$O$18:$O$1017),0)","v":0},{"$f":"IFERROR($E207*SUMIF('Daily Log'!#REF!,$B207,'Daily Log'!#REF!),0)","v":0},{"$f":"IFERROR($E207*SUMIF('Daily Log'!#REF!,$B207,'Daily Log'!#REF!),0)","v":0},{"$f":"IFERROR($E207*SUMIF('Daily Log'!#REF!,$B207,'Daily Log'!#REF!),0)","v":0},{"$f":"IFERROR($E207*SUMIF('Daily Log'!#REF!,$B207,'Daily Log'!#REF!),0)","v":0},{"$f":"IFERROR($E207*SUMIF('Daily Log'!#REF!,$B207,'Daily Log'!#REF!),0)","v":0},{"$f":"IFERROR($E207*SUMIF('Daily Log'!#REF!,$B207,'Daily Log'!#REF!),0)","v":0},{"$f":"IFERROR($E207*SUMIF('Daily Log'!#REF!,$B207,'Daily Log'!#REF!),0)","v":0},{"$f":"IFERROR($E207*SUMIF('Daily Log'!#REF!,$B207,'Daily Log'!#REF!),0)","v":0},{"$f":"IFERROR($E207*SUMIF('Daily Log'!#REF!,$B207,'Daily Log'!#REF!),0)","v":0},{"$f":"IFERROR($E207*SUMIF('Daily Log'!#REF!,$B207,'Daily Log'!#REF!),0)","v":0},{"$f":"IFERROR($E207*SUMIF('Daily Log'!#REF!,$B207,'Daily Log'!#REF!),0)","v":0},{"$f":"IFERROR($E207*SUMIF('Daily Log'!#REF!,$B207,'Daily Log'!#REF!),0)","v":0},{"$f":"IFERROR($E207*SUMIF('Daily Log'!#REF!,$B207,'Daily Log'!#REF!),0)","v":0},{"$f":"IFERROR($E207*SUMIF('Daily Log'!#REF!,$B207,'Daily Log'!#REF!),0)","v":0},{"$f":"IFERROR($E207*SUMIF('Daily Log'!#REF!,$B207,'Daily Log'!#REF!),0)","v":0},{"$f":"IFERROR($E207*SUMIF('Daily Log'!#REF!,$B207,'Daily Log'!#REF!),0)","v":0},{"$f":"IFERROR($E207*SUMIF('Daily Log'!#REF!,$B207,'Daily Log'!#REF!),0)","v":0},{"$f":"IFERROR($E207*SUMIF('Daily Log'!#REF!,$B207,'Daily Log'!#REF!),0)","v":0},{"$f":"IFERROR($E207*SUMIF('Daily Log'!#REF!,$B207,'Daily Log'!#REF!),0)","v":0},{"$f":"IFERROR($E207*SUMIF('Daily Log'!#REF!,$B207,'Daily Log'!#REF!),0)","v":0},{"$f":"IFERROR($E207*SUMIF('Daily Log'!#REF!,$B207,'Daily Log'!#REF!),0)","v":0},{"$f":"IFERROR($E207*SUMIF('Daily Log'!#REF!,$B207,'Daily Log'!#REF!),0)","v":0},{"$f":"IFERROR($E207*SUMIF('Daily Log'!#REF!,$B207,'Daily Log'!#REF!),0)","v":0},{"$f":"IFERROR($E207*SUMIF('Daily Log'!#REF!,$B207,'Daily Log'!#REF!),0)","v":0},{"$f":"IFERROR($E207*SUMIF('Daily Log'!#REF!,$B207,'Daily Log'!#REF!),0)","v":0},{"$f":"IFERROR($E207*SUMIF('Daily Log'!#REF!,$B207,'Daily Log'!#REF!),0)","v":0}]
[null,"CE05 GRN TEA (C)",null,"SIDE ORDER-COLD BEVERAGE",1,0,{"$f":"IFERROR($E208*SUMIF('Daily Log'!$B$18:$B$1017,$B208,'Daily Log'!$C$18:$C$1017),0)","v":0},{"$f":"IFERROR($E208*SUMIF('Daily Log'!$E$18:$E$1017,$B208,'Daily Log'!$F$18:$F$1017),0)","v":0},{"$f":"IFERROR($E208*SUMIF('Daily Log'!$H$18:$H$1017,$B208,'Daily Log'!$I$18:$I$1017),0)","v":0},{"$f":"IFERROR($E208*SUMIF('Daily Log'!$K$18:$K$1017,$B208,'Daily Log'!$L$18:$L$1017),0)","v":0},{"$f":"IFERROR($E208*SUMIF('Daily Log'!$N$18:$N$1017,$B208,'Daily Log'!$O$18:$O$1017),0)","v":0},{"$f":"IFERROR($E208*SUMIF('Daily Log'!#REF!,$B208,'Daily Log'!#REF!),0)","v":0},{"$f":"IFERROR($E208*SUMIF('Daily Log'!#REF!,$B208,'Daily Log'!#REF!),0)","v":0},{"$f":"IFERROR($E208*SUMIF('Daily Log'!#REF!,$B208,'Daily Log'!#REF!),0)","v":0},{"$f":"IFERROR($E208*SUMIF('Daily Log'!#REF!,$B208,'Daily Log'!#REF!),0)","v":0},{"$f":"IFERROR($E208*SUMIF('Daily Log'!#REF!,$B208,'Daily Log'!#REF!),0)","v":0},{"$f":"IFERROR($E208*SUMIF('Daily Log'!#REF!,$B208,'Daily Log'!#REF!),0)","v":0},{"$f":"IFERROR($E208*SUMIF('Daily Log'!#REF!,$B208,'Daily Log'!#REF!),0)","v":0},{"$f":"IFERROR($E208*SUMIF('Daily Log'!#REF!,$B208,'Daily Log'!#REF!),0)","v":0},{"$f":"IFERROR($E208*SUMIF('Daily Log'!#REF!,$B208,'Daily Log'!#REF!),0)","v":0},{"$f":"IFERROR($E208*SUMIF('Daily Log'!#REF!,$B208,'Daily Log'!#REF!),0)","v":0},{"$f":"IFERROR($E208*SUMIF('Daily Log'!#REF!,$B208,'Daily Log'!#REF!),0)","v":0},{"$f":"IFERROR($E208*SUMIF('Daily Log'!#REF!,$B208,'Daily Log'!#REF!),0)","v":0},{"$f":"IFERROR($E208*SUMIF('Daily Log'!#REF!,$B208,'Daily Log'!#REF!),0)","v":0},{"$f":"IFERROR($E208*SUMIF('Daily Log'!#REF!,$B208,'Daily Log'!#REF!),0)","v":0},{"$f":"IFERROR($E208*SUMIF('Daily Log'!#REF!,$B208,'Daily Log'!#REF!),0)","v":0},{"$f":"IFERROR($E208*SUMIF('Daily Log'!#REF!,$B208,'Daily Log'!#REF!),0)","v":0},{"$f":"IFERROR($E208*SUMIF('Daily Log'!#REF!,$B208,'Daily Log'!#REF!),0)","v":0},{"$f":"IFERROR($E208*SUMIF('Daily Log'!#REF!,$B208,'Daily Log'!#REF!),0)","v":0},{"$f":"IFERROR($E208*SUMIF('Daily Log'!#REF!,$B208,'Daily Log'!#REF!),0)","v":0},{"$f":"IFERROR($E208*SUMIF('Daily Log'!#REF!,$B208,'Daily Log'!#REF!),0)","v":0},{"$f":"IFERROR($E208*SUMIF('Daily Log'!#REF!,$B208,'Daily Log'!#REF!),0)","v":0},{"$f":"IFERROR($E208*SUMIF('Daily Log'!#REF!,$B208,'Daily Log'!#REF!),0)","v":0},{"$f":"IFERROR($E208*SUMIF('Daily Log'!#REF!,$B208,'Daily Log'!#REF!),0)","v":0},{"$f":"IFERROR($E208*SUMIF('Daily Log'!#REF!,$B208,'Daily Log'!#REF!),0)","v":0},{"$f":"IFERROR($E208*SUMIF('Daily Log'!#REF!,$B208,'Daily Log'!#REF!),0)","v":0},{"$f":"IFERROR($E208*SUMIF('Daily Log'!#REF!,$B208,'Daily Log'!#REF!),0)","v":0}]
[null,"CE06 HNY GRN TEA (C)",null,"SIDE ORDER-COLD BEVERAGE",1,0,{"$f":"IFERROR($E209*SUMIF('Daily Log'!$B$18:$B$1017,$B209,'Daily Log'!$C$18:$C$1017),0)","v":0},{"$f":"IFERROR($E209*SUMIF('Daily Log'!$E$18:$E$1017,$B209,'Daily Log'!$F$18:$F$1017),0)","v":0},{"$f":"IFERROR($E209*SUMIF('Daily Log'!$H$18:$H$1017,$B209,'Daily Log'!$I$18:$I$1017),0)","v":0},{"$f":"IFERROR($E209*SUMIF('Daily Log'!$K$18:$K$1017,$B209,'Daily Log'!$L$18:$L$1017),0)","v":0},{"$f":"IFERROR($E209*SUMIF('Daily Log'!$N$18:$N$1017,$B209,'Daily Log'!$O$18:$O$1017),0)","v":0},{"$f":"IFERROR($E209*SUMIF('Daily Log'!#REF!,$B209,'Daily Log'!#REF!),0)","v":0},{"$f":"IFERROR($E209*SUMIF('Daily Log'!#REF!,$B209,'Daily Log'!#REF!),0)","v":0},{"$f":"IFERROR($E209*SUMIF('Daily Log'!#REF!,$B209,'Daily Log'!#REF!),0)","v":0},{"$f":"IFERROR($E209*SUMIF('Daily Log'!#REF!,$B209,'Daily Log'!#REF!),0)","v":0},{"$f":"IFERROR($E209*SUMIF('Daily Log'!#REF!,$B209,'Daily Log'!#REF!),0)","v":0},{"$f":"IFERROR($E209*SUMIF('Daily Log'!#REF!,$B209,'Daily Log'!#REF!),0)","v":0},{"$f":"IFERROR($E209*SUMIF('Daily Log'!#REF!,$B209,'Daily Log'!#REF!),0)","v":0},{"$f":"IFERROR($E209*SUMIF('Daily Log'!#REF!,$B209,'Daily Log'!#REF!),0)","v":0},{"$f":"IFERROR($E209*SUMIF('Daily Log'!#REF!,$B209,'Daily Log'!#REF!),0)","v":0},{"$f":"IFERROR($E209*SUMIF('Daily Log'!#REF!,$B209,'Daily Log'!#REF!),0)","v":0},{"$f":"IFERROR($E209*SUMIF('Daily Log'!#REF!,$B209,'Daily Log'!#REF!),0)","v":0},{"$f":"IFERROR($E209*SUMIF('Daily Log'!#REF!,$B209,'Daily Log'!#REF!),0)","v":0},{"$f":"IFERROR($E209*SUMIF('Daily Log'!#REF!,$B209,'Daily Log'!#REF!),0)","v":0},{"$f":"IFERROR($E209*SUMIF('Daily Log'!#REF!,$B209,'Daily Log'!#REF!),0)","v":0},{"$f":"IFERROR($E209*SUMIF('Daily Log'!#REF!,$B209,'Daily Log'!#REF!),0)","v":0},{"$f":"IFERROR($E209*SUMIF('Daily Log'!#REF!,$B209,'Daily Log'!#REF!),0)","v":0},{"$f":"IFERROR($E209*SUMIF('Daily Log'!#REF!,$B209,'Daily Log'!#REF!),0)","v":0},{"$f":"IFERROR($E209*SUMIF('Daily Log'!#REF!,$B209,'Daily Log'!#REF!),0)","v":0},{"$f":"IFERROR($E209*SUMIF('Daily Log'!#REF!,$B209,'Daily Log'!#REF!),0)","v":0},{"$f":"IFERROR($E209*SUMIF('Daily Log'!#REF!,$B209,'Daily Log'!#REF!),0)","v":0},{"$f":"IFERROR($E209*SUMIF('Daily Log'!#REF!,$B209,'Daily Log'!#REF!),0)","v":0},{"$f":"IFERROR($E209*SUMIF('Daily Log'!#REF!,$B209,'Daily Log'!#REF!),0)","v":0},{"$f":"IFERROR($E209*SUMIF('Daily Log'!#REF!,$B209,'Daily Log'!#REF!),0)","v":0},{"$f":"IFERROR($E209*SUMIF('Daily Log'!#REF!,$B209,'Daily Log'!#REF!),0)","v":0},{"$f":"IFERROR($E209*SUMIF('Daily Log'!#REF!,$B209,'Daily Log'!#REF!),0)","v":0},{"$f":"IFERROR($E209*SUMIF('Daily Log'!#REF!,$B209,'Daily Log'!#REF!),0)","v":0}]
[null,"CE07 HONEY (C)",null,"SIDE ORDER-COLD BEVERAGE",1,0,{"$f":"IFERROR($E210*SUMIF('Daily Log'!$B$18:$B$1017,$B210,'Daily Log'!$C$18:$C$1017),0)","v":0},{"$f":"IFERROR($E210*SUMIF('Daily Log'!$E$18:$E$1017,$B210,'Daily Log'!$F$18:$F$1017),0)","v":0},{"$f":"IFERROR($E210*SUMIF('Daily Log'!$H$18:$H$1017,$B210,'Daily Log'!$I$18:$I$1017),0)","v":0},{"$f":"IFERROR($E210*SUMIF('Daily Log'!$K$18:$K$1017,$B210,'Daily Log'!$L$18:$L$1017),0)","v":0},{"$f":"IFERROR($E210*SUMIF('Daily Log'!$N$18:$N$1017,$B210,'Daily Log'!$O$18:$O$1017),0)","v":0},{"$f":"IFERROR($E210*SUMIF('Daily Log'!#REF!,$B210,'Daily Log'!#REF!),0)","v":0},{"$f":"IFERROR($E210*SUMIF('Daily Log'!#REF!,$B210,'Daily Log'!#REF!),0)","v":0},{"$f":"IFERROR($E210*SUMIF('Daily Log'!#REF!,$B210,'Daily Log'!#REF!),0)","v":0},{"$f":"IFERROR($E210*SUMIF('Daily Log'!#REF!,$B210,'Daily Log'!#REF!),0)","v":0},{"$f":"IFERROR($E210*SUMIF('Daily Log'!#REF!,$B210,'Daily Log'!#REF!),0)","v":0},{"$f":"IFERROR($E210*SUMIF('Daily Log'!#REF!,$B210,'Daily Log'!#REF!),0)","v":0},{"$f":"IFERROR($E210*SUMIF('Daily Log'!#REF!,$B210,'Daily Log'!#REF!),0)","v":0},{"$f":"IFERROR($E210*SUMIF('Daily Log'!#REF!,$B210,'Daily Log'!#REF!),0)","v":0},{"$f":"IFERROR($E210*SUMIF('Daily Log'!#REF!,$B210,'Daily Log'!#REF!),0)","v":0},{"$f":"IFERROR($E210*SUMIF('Daily Log'!#REF!,$B210,'Daily Log'!#REF!),0)","v":0},{"$f":"IFERROR($E210*SUMIF('Daily Log'!#REF!,$B210,'Daily Log'!#REF!),0)","v":0},{"$f":"IFERROR($E210*SUMIF('Daily Log'!#REF!,$B210,'Daily Log'!#REF!),0)","v":0},{"$f":"IFERROR($E210*SUMIF('Daily Log'!#REF!,$B210,'Daily Log'!#REF!),0)","v":0},{"$f":"IFERROR($E210*SUMIF('Daily Log'!#REF!,$B210,'Daily Log'!#REF!),0)","v":0},{"$f":"IFERROR($E210*SUMIF('Daily Log'!#REF!,$B210,'Daily Log'!#REF!),0)","v":0},{"$f":"IFERROR($E210*SUMIF('Daily Log'!#REF!,$B210,'Daily Log'!#REF!),0)","v":0},{"$f":"IFERROR($E210*SUMIF('Daily Log'!#REF!,$B210,'Daily Log'!#REF!),0)","v":0},{"$f":"IFERROR($E210*SUMIF('Daily Log'!#REF!,$B210,'Daily Log'!#REF!),0)","v":0},{"$f":"IFERROR($E210*SUMIF('Daily Log'!#REF!,$B210,'Daily Log'!#REF!),0)","v":0},{"$f":"IFERROR($E210*SUMIF('Daily Log'!#REF!,$B210,'Daily Log'!#REF!),0)","v":0},{"$f":"IFERROR($E210*SUMIF('Daily Log'!#REF!,$B210,'Daily Log'!#REF!),0)","v":0},{"$f":"IFERROR($E210*SUMIF('Daily Log'!#REF!,$B210,'Daily Log'!#REF!),0)","v":0},{"$f":"IFERROR($E210*SUMIF('Daily Log'!#REF!,$B210,'Daily Log'!#REF!),0)","v":0},{"$f":"IFERROR($E210*SUMIF('Daily Log'!#REF!,$B210,'Daily Log'!#REF!),0)","v":0},{"$f":"IFERROR($E210*SUMIF('Daily Log'!#REF!,$B210,'Daily Log'!#REF!),0)","v":0},{"$f":"IFERROR($E210*SUMIF('Daily Log'!#REF!,$B210,'Daily Log'!#REF!),0)","v":0}]
[null,"CE08 LEMON HONEY (C)",null,"SIDE ORDER-COLD BEVERAGE",1,0,{"$f":"IFERROR($E211*SUMIF('Daily Log'!$B$18:$B$1017,$B211,'Daily Log'!$C$18:$C$1017),0)","v":0},{"$f":"IFERROR($E211*SUMIF('Daily Log'!$E$18:$E$1017,$B211,'Daily Log'!$F$18:$F$1017),0)","v":0},{"$f":"IFERROR($E211*SUMIF('Daily Log'!$H$18:$H$1017,$B211,'Daily Log'!$I$18:$I$1017),0)","v":0},{"$f":"IFERROR($E211*SUMIF('Daily Log'!$K$18:$K$1017,$B211,'Daily Log'!$L$18:$L$1017),0)","v":0},{"$f":"IFERROR($E211*SUMIF('Daily Log'!$N$18:$N$1017,$B211,'Daily Log'!$O$18:$O$1017),0)","v":0},{"$f":"IFERROR($E211*SUMIF('Daily Log'!#REF!,$B211,'Daily Log'!#REF!),0)","v":0},{"$f":"IFERROR($E211*SUMIF('Daily Log'!#REF!,$B211,'Daily Log'!#REF!),0)","v":0},{"$f":"IFERROR($E211*SUMIF('Daily Log'!#REF!,$B211,'Daily Log'!#REF!),0)","v":0},{"$f":"IFERROR($E211*SUMIF('Daily Log'!#REF!,$B211,'Daily Log'!#REF!),0)","v":0},{"$f":"IFERROR($E211*SUMIF('Daily Log'!#REF!,$B211,'Daily Log'!#REF!),0)","v":0},{"$f":"IFERROR($E211*SUMIF('Daily Log'!#REF!,$B211,'Daily Log'!#REF!),0)","v":0},{"$f":"IFERROR($E211*SUMIF('Daily Log'!#REF!,$B211,'Daily Log'!#REF!),0)","v":0},{"$f":"IFERROR($E211*SUMIF('Daily Log'!#REF!,$B211,'Daily Log'!#REF!),0)","v":0},{"$f":"IFERROR($E211*SUMIF('Daily Log'!#REF!,$B211,'Daily Log'!#REF!),0)","v":0},{"$f":"IFERROR($E211*SUMIF('Daily Log'!#REF!,$B211,'Daily Log'!#REF!),0)","v":0},{"$f":"IFERROR($E211*SUMIF('Daily Log'!#REF!,$B211,'Daily Log'!#REF!),0)","v":0},{"$f":"IFERROR($E211*SUMIF('Daily Log'!#REF!,$B211,'Daily Log'!#REF!),0)","v":0},{"$f":"IFERROR($E211*SUMIF('Daily Log'!#REF!,$B211,'Daily Log'!#REF!),0)","v":0},{"$f":"IFERROR($E211*SUMIF('Daily Log'!#REF!,$B211,'Daily Log'!#REF!),0)","v":0},{"$f":"IFERROR($E211*SUMIF('Daily Log'!#REF!,$B211,'Daily Log'!#REF!),0)","v":0},{"$f":"IFERROR($E211*SUMIF('Daily Log'!#REF!,$B211,'Daily Log'!#REF!),0)","v":0},{"$f":"IFERROR($E211*SUMIF('Daily Log'!#REF!,$B211,'Daily Log'!#REF!),0)","v":0},{"$f":"IFERROR($E211*SUMIF('Daily Log'!#REF!,$B211,'Daily Log'!#REF!),0)","v":0},{"$f":"IFERROR($E211*SUMIF('Daily Log'!#REF!,$B211,'Daily Log'!#REF!),0)","v":0},{"$f":"IFERROR($E211*SUMIF('Daily Log'!#REF!,$B211,'Daily Log'!#REF!),0)","v":0},{"$f":"IFERROR($E211*SUMIF('Daily Log'!#REF!,$B211,'Daily Log'!#REF!),0)","v":0},{"$f":"IFERROR($E211*SUMIF('Daily Log'!#REF!,$B211,'Daily Log'!#REF!),0)","v":0},{"$f":"IFERROR($E211*SUMIF('Daily Log'!#REF!,$B211,'Daily Log'!#REF!),0)","v":0},{"$f":"IFERROR($E211*SUMIF('Daily Log'!#REF!,$B211,'Daily Log'!#REF!),0)","v":0},{"$f":"IFERROR($E211*SUMIF('Daily Log'!#REF!,$B211,'Daily Log'!#REF!),0)","v":0},{"$f":"IFERROR($E211*SUMIF('Daily Log'!#REF!,$B211,'Daily Log'!#REF!),0)","v":0}]
[null,"CF01 MILO (H)",null,"SIDE ORDER-COLD BEVERAGE",1,0,{"$f":"IFERROR($E212*SUMIF('Daily Log'!$B$18:$B$1017,$B212,'Daily Log'!$C$18:$C$1017),0)","v":0},{"$f":"IFERROR($E212*SUMIF('Daily Log'!$E$18:$E$1017,$B212,'Daily Log'!$F$18:$F$1017),0)","v":0},{"$f":"IFERROR($E212*SUMIF('Daily Log'!$H$18:$H$1017,$B212,'Daily Log'!$I$18:$I$1017),0)","v":0},{"$f":"IFERROR($E212*SUMIF('Daily Log'!$K$18:$K$1017,$B212,'Daily Log'!$L$18:$L$1017),0)","v":0},{"$f":"IFERROR($E212*SUMIF('Daily Log'!$N$18:$N$1017,$B212,'Daily Log'!$O$18:$O$1017),0)","v":0},{"$f":"IFERROR($E212*SUMIF('Daily Log'!#REF!,$B212,'Daily Log'!#REF!),0)","v":0},{"$f":"IFERROR($E212*SUMIF('Daily Log'!#REF!,$B212,'Daily Log'!#REF!),0)","v":0},{"$f":"IFERROR($E212*SUMIF('Daily Log'!#REF!,$B212,'Daily Log'!#REF!),0)","v":0},{"$f":"IFERROR($E212*SUMIF('Daily Log'!#REF!,$B212,'Daily Log'!#REF!),0)","v":0},{"$f":"IFERROR($E212*SUMIF('Daily Log'!#REF!,$B212,'Daily Log'!#REF!),0)","v":0},{"$f":"IFERROR($E212*SUMIF('Daily Log'!#REF!,$B212,'Daily Log'!#REF!),0)","v":0},{"$f":"IFERROR($E212*SUMIF('Daily Log'!#REF!,$B212,'Daily Log'!#REF!),0)","v":0},{"$f":"IFERROR($E212*SUMIF('Daily Log'!#REF!,$B212,'Daily Log'!#REF!),0)","v":0},{"$f":"IFERROR($E212*SUMIF('Daily Log'!#REF!,$B212,'Daily Log'!#REF!),0)","v":0},{"$f":"IFERROR($E212*SUMIF('Daily Log'!#REF!,$B212,'Daily Log'!#REF!),0)","v":0},{"$f":"IFERROR($E212*SUMIF('Daily Log'!#REF!,$B212,'Daily Log'!#REF!),0)","v":0},{"$f":"IFERROR($E212*SUMIF('Daily Log'!#REF!,$B212,'Daily Log'!#REF!),0)","v":0},{"$f":"IFERROR($E212*SUMIF('Daily Log'!#REF!,$B212,'Daily Log'!#REF!),0)","v":0},{"$f":"IFERROR($E212*SUMIF('Daily Log'!#REF!,$B212,'Daily Log'!#REF!),0)","v":0},{"$f":"IFERROR($E212*SUMIF('Daily Log'!#REF!,$B212,'Daily Log'!#REF!),0)","v":0},{"$f":"IFERROR($E212*SUMIF('Daily Log'!#REF!,$B212,'Daily Log'!#REF!),0)","v":0},{"$f":"IFERROR($E212*SUMIF('Daily Log'!#REF!,$B212,'Daily Log'!#REF!),0)","v":0},{"$f":"IFERROR($E212*SUMIF('Daily Log'!#REF!,$B212,'Daily Log'!#REF!),0)","v":0},{"$f":"IFERROR($E212*SUMIF('Daily Log'!#REF!,$B212,'Daily Log'!#REF!),0)","v":0},{"$f":"IFERROR($E212*SUMIF('Daily Log'!#REF!,$B212,'Daily Log'!#REF!),0)","v":0},{"$f":"IFERROR($E212*SUMIF('Daily Log'!#REF!,$B212,'Daily Log'!#REF!),0)","v":0},{"$f":"IFERROR($E212*SUMIF('Daily Log'!#REF!,$B212,'Daily Log'!#REF!),0)","v":0},{"$f":"IFERROR($E212*SUMIF('Daily Log'!#REF!,$B212,'Daily Log'!#REF!),0)","v":0},{"$f":"IFERROR($E212*SUMIF('Daily Log'!#REF!,$B212,'Daily Log'!#REF!),0)","v":0},{"$f":"IFERROR($E212*SUMIF('Daily Log'!#REF!,$B212,'Daily Log'!#REF!),0)","v":0},{"$f":"IFERROR($E212*SUMIF('Daily Log'!#REF!,$B212,'Daily Log'!#REF!),0)","v":0}]
[null,"CF02 NESCAFE (H)",null,"SIDE ORDER-HOT BEVERAGE",1,0,{"$f":"IFERROR($E213*SUMIF('Daily Log'!$B$18:$B$1017,$B213,'Daily Log'!$C$18:$C$1017),0)","v":0},{"$f":"IFERROR($E213*SUMIF('Daily Log'!$E$18:$E$1017,$B213,'Daily Log'!$F$18:$F$1017),0)","v":0},{"$f":"IFERROR($E213*SUMIF('Daily Log'!$H$18:$H$1017,$B213,'Daily Log'!$I$18:$I$1017),0)","v":0},{"$f":"IFERROR($E213*SUMIF('Daily Log'!$K$18:$K$1017,$B213,'Daily Log'!$L$18:$L$1017),0)","v":0},{"$f":"IFERROR($E213*SUMIF('Daily Log'!$N$18:$N$1017,$B213,'Daily Log'!$O$18:$O$1017),0)","v":0},{"$f":"IFERROR($E213*SUMIF('Daily Log'!#REF!,$B213,'Daily Log'!#REF!),0)","v":0},{"$f":"IFERROR($E213*SUMIF('Daily Log'!#REF!,$B213,'Daily Log'!#REF!),0)","v":0},{"$f":"IFERROR($E213*SUMIF('Daily Log'!#REF!,$B213,'Daily Log'!#REF!),0)","v":0},{"$f":"IFERROR($E213*SUMIF('Daily Log'!#REF!,$B213,'Daily Log'!#REF!),0)","v":0},{"$f":"IFERROR($E213*SUMIF('Daily Log'!#REF!,$B213,'Daily Log'!#REF!),0)","v":0},{"$f":"IFERROR($E213*SUMIF('Daily Log'!#REF!,$B213,'Daily Log'!#REF!),0)","v":0},{"$f":"IFERROR($E213*SUMIF('Daily Log'!#REF!,$B213,'Daily Log'!#REF!),0)","v":0},{"$f":"IFERROR($E213*SUMIF('Daily Log'!#REF!,$B213,'Daily Log'!#REF!),0)","v":0},{"$f":"IFERROR($E213*SUMIF('Daily Log'!#REF!,$B213,'Daily Log'!#REF!),0)","v":0},{"$f":"IFERROR($E213*SUMIF('Daily Log'!#REF!,$B213,'Daily Log'!#REF!),0)","v":0},{"$f":"IFERROR($E213*SUMIF('Daily Log'!#REF!,$B213,'Daily Log'!#REF!),0)","v":0},{"$f":"IFERROR($E213*SUMIF('Daily Log'!#REF!,$B213,'Daily Log'!#REF!),0)","v":0},{"$f":"IFERROR($E213*SUMIF('Daily Log'!#REF!,$B213,'Daily Log'!#REF!),0)","v":0},{"$f":"IFERROR($E213*SUMIF('Daily Log'!#REF!,$B213,'Daily Log'!#REF!),0)","v":0},{"$f":"IFERROR($E213*SUMIF('Daily Log'!#REF!,$B213,'Daily Log'!#REF!),0)","v":0},{"$f":"IFERROR($E213*SUMIF('Daily Log'!#REF!,$B213,'Daily Log'!#REF!),0)","v":0},{"$f":"IFERROR($E213*SUMIF('Daily Log'!#REF!,$B213,'Daily Log'!#REF!),0)","v":0},{"$f":"IFERROR($E213*SUMIF('Daily Log'!#REF!,$B213,'Daily Log'!#REF!),0)","v":0},{"$f":"IFERROR($E213*SUMIF('Daily Log'!#REF!,$B213,'Daily Log'!#REF!),0)","v":0},{"$f":"IFERROR($E213*SUMIF('Daily Log'!#REF!,$B213,'Daily Log'!#REF!),0)","v":0},{"$f":"IFERROR($E213*SUMIF('Daily Log'!#REF!,$B213,'Daily Log'!#REF!),0)","v":0},{"$f":"IFERROR($E213*SUMIF('Daily Log'!#REF!,$B213,'Daily Log'!#REF!),0)","v":0},{"$f":"IFERROR($E213*SUMIF('Daily Log'!#REF!,$B213,'Daily Log'!#REF!),0)","v":0},{"$f":"IFERROR($E213*SUMIF('Daily Log'!#REF!,$B213,'Daily Log'!#REF!),0)","v":0},{"$f":"IFERROR($E213*SUMIF('Daily Log'!#REF!,$B213,'Daily Log'!#REF!),0)","v":0},{"$f":"IFERROR($E213*SUMIF('Daily Log'!#REF!,$B213,'Daily Log'!#REF!),0)","v":0}]
[null,"CF03 TEA (H)",null,"SIDE ORDER-HOT BEVERAGE",1,0,{"$f":"IFERROR($E214*SUMIF('Daily Log'!$B$18:$B$1017,$B214,'Daily Log'!$C$18:$C$1017),0)","v":0},{"$f":"IFERROR($E214*SUMIF('Daily Log'!$E$18:$E$1017,$B214,'Daily Log'!$F$18:$F$1017),0)","v":0},{"$f":"IFERROR($E214*SUMIF('Daily Log'!$H$18:$H$1017,$B214,'Daily Log'!$I$18:$I$1017),0)","v":0},{"$f":"IFERROR($E214*SUMIF('Daily Log'!$K$18:$K$1017,$B214,'Daily Log'!$L$18:$L$1017),0)","v":0},{"$f":"IFERROR($E214*SUMIF('Daily Log'!$N$18:$N$1017,$B214,'Daily Log'!$O$18:$O$1017),0)","v":0},{"$f":"IFERROR($E214*SUMIF('Daily Log'!#REF!,$B214,'Daily Log'!#REF!),0)","v":0},{"$f":"IFERROR($E214*SUMIF('Daily Log'!#REF!,$B214,'Daily Log'!#REF!),0)","v":0},{"$f":"IFERROR($E214*SUMIF('Daily Log'!#REF!,$B214,'Daily Log'!#REF!),0)","v":0},{"$f":"IFERROR($E214*SUMIF('Daily Log'!#REF!,$B214,'Daily Log'!#REF!),0)","v":0},{"$f":"IFERROR($E214*SUMIF('Daily Log'!#REF!,$B214,'Daily Log'!#REF!),0)","v":0},{"$f":"IFERROR($E214*SUMIF('Daily Log'!#REF!,$B214,'Daily Log'!#REF!),0)","v":0},{"$f":"IFERROR($E214*SUMIF('Daily Log'!#REF!,$B214,'Daily Log'!#REF!),0)","v":0},{"$f":"IFERROR($E214*SUMIF('Daily Log'!#REF!,$B214,'Daily Log'!#REF!),0)","v":0},{"$f":"IFERROR($E214*SUMIF('Daily Log'!#REF!,$B214,'Daily Log'!#REF!),0)","v":0},{"$f":"IFERROR($E214*SUMIF('Daily Log'!#REF!,$B214,'Daily Log'!#REF!),0)","v":0},{"$f":"IFERROR($E214*SUMIF('Daily Log'!#REF!,$B214,'Daily Log'!#REF!),0)","v":0},{"$f":"IFERROR($E214*SUMIF('Daily Log'!#REF!,$B214,'Daily Log'!#REF!),0)","v":0},{"$f":"IFERROR($E214*SUMIF('Daily Log'!#REF!,$B214,'Daily Log'!#REF!),0)","v":0},{"$f":"IFERROR($E214*SUMIF('Daily Log'!#REF!,$B214,'Daily Log'!#REF!),0)","v":0},{"$f":"IFERROR($E214*SUMIF('Daily Log'!#REF!,$B214,'Daily Log'!#REF!),0)","v":0},{"$f":"IFERROR($E214*SUMIF('Daily Log'!#REF!,$B214,'Daily Log'!#REF!),0)","v":0},{"$f":"IFERROR($E214*SUMIF('Daily Log'!#REF!,$B214,'Daily Log'!#REF!),0)","v":0},{"$f":"IFERROR($E214*SUMIF('Daily Log'!#REF!,$B214,'Daily Log'!#REF!),0)","v":0},{"$f":"IFERROR($E214*SUMIF('Daily Log'!#REF!,$B214,'Daily Log'!#REF!),0)","v":0},{"$f":"IFERROR($E214*SUMIF('Daily Log'!#REF!,$B214,'Daily Log'!#REF!),0)","v":0},{"$f":"IFERROR($E214*SUMIF('Daily Log'!#REF!,$B214,'Daily Log'!#REF!),0)","v":0},{"$f":"IFERROR($E214*SUMIF('Daily Log'!#REF!,$B214,'Daily Log'!#REF!),0)","v":0},{"$f":"IFERROR($E214*SUMIF('Daily Log'!#REF!,$B214,'Daily Log'!#REF!),0)","v":0},{"$f":"IFERROR($E214*SUMIF('Daily Log'!#REF!,$B214,'Daily Log'!#REF!),0)","v":0},{"$f":"IFERROR($E214*SUMIF('Daily Log'!#REF!,$B214,'Daily Log'!#REF!),0)","v":0},{"$f":"IFERROR($E214*SUMIF('Daily Log'!#REF!,$B214,'Daily Log'!#REF!),0)","v":0}]
[null,"CF04 LEMON TEA (H)",null,"SIDE ORDER-HOT BEVERAGE",1,0,{"$f":"IFERROR($E215*SUMIF('Daily Log'!$B$18:$B$1017,$B215,'Daily Log'!$C$18:$C$1017),0)","v":0},{"$f":"IFERROR($E215*SUMIF('Daily Log'!$E$18:$E$1017,$B215,'Daily Log'!$F$18:$F$1017),0)","v":0},{"$f":"IFERROR($E215*SUMIF('Daily Log'!$H$18:$H$1017,$B215,'Daily Log'!$I$18:$I$1017),0)","v":0},{"$f":"IFERROR($E215*SUMIF('Daily Log'!$K$18:$K$1017,$B215,'Daily Log'!$L$18:$L$1017),0)","v":0},{"$f":"IFERROR($E215*SUMIF('Daily Log'!$N$18:$N$1017,$B215,'Daily Log'!$O$18:$O$1017),0)","v":0},{"$f":"IFERROR($E215*SUMIF('Daily Log'!#REF!,$B215,'Daily Log'!#REF!),0)","v":0},{"$f":"IFERROR($E215*SUMIF('Daily Log'!#REF!,$B215,'Daily Log'!#REF!),0)","v":0},{"$f":"IFERROR($E215*SUMIF('Daily Log'!#REF!,$B215,'Daily Log'!#REF!),0)","v":0},{"$f":"IFERROR($E215*SUMIF('Daily Log'!#REF!,$B215,'Daily Log'!#REF!),0)","v":0},{"$f":"IFERROR($E215*SUMIF('Daily Log'!#REF!,$B215,'Daily Log'!#REF!),0)","v":0},{"$f":"IFERROR($E215*SUMIF('Daily Log'!#REF!,$B215,'Daily Log'!#REF!),0)","v":0},{"$f":"IFERROR($E215*SUMIF('Daily Log'!#REF!,$B215,'Daily Log'!#REF!),0)","v":0},{"$f":"IFERROR($E215*SUMIF('Daily Log'!#REF!,$B215,'Daily Log'!#REF!),0)","v":0},{"$f":"IFERROR($E215*SUMIF('Daily Log'!#REF!,$B215,'Daily Log'!#REF!),0)","v":0},{"$f":"IFERROR($E215*SUMIF('Daily Log'!#REF!,$B215,'Daily Log'!#REF!),0)","v":0},{"$f":"IFERROR($E215*SUMIF('Daily Log'!#REF!,$B215,'Daily Log'!#REF!),0)","v":0},{"$f":"IFERROR($E215*SUMIF('Daily Log'!#REF!,$B215,'Daily Log'!#REF!),0)","v":0},{"$f":"IFERROR($E215*SUMIF('Daily Log'!#REF!,$B215,'Daily Log'!#REF!),0)","v":0},{"$f":"IFERROR($E215*SUMIF('Daily Log'!#REF!,$B215,'Daily Log'!#REF!),0)","v":0},{"$f":"IFERROR($E215*SUMIF('Daily Log'!#REF!,$B215,'Daily Log'!#REF!),0)","v":0},{"$f":"IFERROR($E215*SUMIF('Daily Log'!#REF!,$B215,'Daily Log'!#REF!),0)","v":0},{"$f":"IFERROR($E215*SUMIF('Daily Log'!#REF!,$B215,'Daily Log'!#REF!),0)","v":0},{"$f":"IFERROR($E215*SUMIF('Daily Log'!#REF!,$B215,'Daily Log'!#REF!),0)","v":0},{"$f":"IFERROR($E215*SUMIF('Daily Log'!#REF!,$B215,'Daily Log'!#REF!),0)","v":0},{"$f":"IFERROR($E215*SUMIF('Daily Log'!#REF!,$B215,'Daily Log'!#REF!),0)","v":0},{"$f":"IFERROR($E215*SUMIF('Daily Log'!#REF!,$B215,'Daily Log'!#REF!),0)","v":0},{"$f":"IFERROR($E215*SUMIF('Daily Log'!#REF!,$B215,'Daily Log'!#REF!),0)","v":0},{"$f":"IFERROR($E215*SUMIF('Daily Log'!#REF!,$B215,'Daily Log'!#REF!),0)","v":0},{"$f":"IFERROR($E215*SUMIF('Daily Log'!#REF!,$B215,'Daily Log'!#REF!),0)","v":0},{"$f":"IFERROR($E215*SUMIF('Daily Log'!#REF!,$B215,'Daily Log'!#REF!),0)","v":0},{"$f":"IFERROR($E215*SUMIF('Daily Log'!#REF!,$B215,'Daily Log'!#REF!),0)","v":0}]
[null,"CF05 GRN TEA (H)",null,"SIDE ORDER-HOT BEVERAGE",1,0,{"$f":"IFERROR($E216*SUMIF('Daily Log'!$B$18:$B$1017,$B216,'Daily Log'!$C$18:$C$1017),0)","v":0},{"$f":"IFERROR($E216*SUMIF('Daily Log'!$E$18:$E$1017,$B216,'Daily Log'!$F$18:$F$1017),0)","v":0},{"$f":"IFERROR($E216*SUMIF('Daily Log'!$H$18:$H$1017,$B216,'Daily Log'!$I$18:$I$1017),0)","v":0},{"$f":"IFERROR($E216*SUMIF('Daily Log'!$K$18:$K$1017,$B216,'Daily Log'!$L$18:$L$1017),0)","v":0},{"$f":"IFERROR($E216*SUMIF('Daily Log'!$N$18:$N$1017,$B216,'Daily Log'!$O$18:$O$1017),0)","v":0},{"$f":"IFERROR($E216*SUMIF('Daily Log'!#REF!,$B216,'Daily Log'!#REF!),0)","v":0},{"$f":"IFERROR($E216*SUMIF('Daily Log'!#REF!,$B216,'Daily Log'!#REF!),0)","v":0},{"$f":"IFERROR($E216*SUMIF('Daily Log'!#REF!,$B216,'Daily Log'!#REF!),0)","v":0},{"$f":"IFERROR($E216*SUMIF('Daily Log'!#REF!,$B216,'Daily Log'!#REF!),0)","v":0},{"$f":"IFERROR($E216*SUMIF('Daily Log'!#REF!,$B216,'Daily Log'!#REF!),0)","v":0},{"$f":"IFERROR($E216*SUMIF('Daily Log'!#REF!,$B216,'Daily Log'!#REF!),0)","v":0},{"$f":"IFERROR($E216*SUMIF('Daily Log'!#REF!,$B216,'Daily Log'!#REF!),0)","v":0},{"$f":"IFERROR($E216*SUMIF('Daily Log'!#REF!,$B216,'Daily Log'!#REF!),0)","v":0},{"$f":"IFERROR($E216*SUMIF('Daily Log'!#REF!,$B216,'Daily Log'!#REF!),0)","v":0},{"$f":"IFERROR($E216*SUMIF('Daily Log'!#REF!,$B216,'Daily Log'!#REF!),0)","v":0},{"$f":"IFERROR($E216*SUMIF('Daily Log'!#REF!,$B216,'Daily Log'!#REF!),0)","v":0},{"$f":"IFERROR($E216*SUMIF('Daily Log'!#REF!,$B216,'Daily Log'!#REF!),0)","v":0},{"$f":"IFERROR($E216*SUMIF('Daily Log'!#REF!,$B216,'Daily Log'!#REF!),0)","v":0},{"$f":"IFERROR($E216*SUMIF('Daily Log'!#REF!,$B216,'Daily Log'!#REF!),0)","v":0},{"$f":"IFERROR($E216*SUMIF('Daily Log'!#REF!,$B216,'Daily Log'!#REF!),0)","v":0},{"$f":"IFERROR($E216*SUMIF('Daily Log'!#REF!,$B216,'Daily Log'!#REF!),0)","v":0},{"$f":"IFERROR($E216*SUMIF('Daily Log'!#REF!,$B216,'Daily Log'!#REF!),0)","v":0},{"$f":"IFERROR($E216*SUMIF('Daily Log'!#REF!,$B216,'Daily Log'!#REF!),0)","v":0},{"$f":"IFERROR($E216*SUMIF('Daily Log'!#REF!,$B216,'Daily Log'!#REF!),0)","v":0},{"$f":"IFERROR($E216*SUMIF('Daily Log'!#REF!,$B216,'Daily Log'!#REF!),0)","v":0},{"$f":"IFERROR($E216*SUMIF('Daily Log'!#REF!,$B216,'Daily Log'!#REF!),0)","v":0},{"$f":"IFERROR($E216*SUMIF('Daily Log'!#REF!,$B216,'Daily Log'!#REF!),0)","v":0},{"$f":"IFERROR($E216*SUMIF('Daily Log'!#REF!,$B216,'Daily Log'!#REF!),0)","v":0},{"$f":"IFERROR($E216*SUMIF('Daily Log'!#REF!,$B216,'Daily Log'!#REF!),0)","v":0},{"$f":"IFERROR($E216*SUMIF('Daily Log'!#REF!,$B216,'Daily Log'!#REF!),0)","v":0},{"$f":"IFERROR($E216*SUMIF('Daily Log'!#REF!,$B216,'Daily Log'!#REF!),0)","v":0}]
[null,"CF06 HNY GRN TEA (H)",null,"SIDE ORDER-HOT BEVERAGE",1,0,{"$f":"IFERROR($E217*SUMIF('Daily Log'!$B$18:$B$1017,$B217,'Daily Log'!$C$18:$C$1017),0)","v":0},{"$f":"IFERROR($E217*SUMIF('Daily Log'!$E$18:$E$1017,$B217,'Daily Log'!$F$18:$F$1017),0)","v":0},{"$f":"IFERROR($E217*SUMIF('Daily Log'!$H$18:$H$1017,$B217,'Daily Log'!$I$18:$I$1017),0)","v":0},{"$f":"IFERROR($E217*SUMIF('Daily Log'!$K$18:$K$1017,$B217,'Daily Log'!$L$18:$L$1017),0)","v":0},{"$f":"IFERROR($E217*SUMIF('Daily Log'!$N$18:$N$1017,$B217,'Daily Log'!$O$18:$O$1017),0)","v":0},{"$f":"IFERROR($E217*SUMIF('Daily Log'!#REF!,$B217,'Daily Log'!#REF!),0)","v":0},{"$f":"IFERROR($E217*SUMIF('Daily Log'!#REF!,$B217,'Daily Log'!#REF!),0)","v":0},{"$f":"IFERROR($E217*SUMIF('Daily Log'!#REF!,$B217,'Daily Log'!#REF!),0)","v":0},{"$f":"IFERROR($E217*SUMIF('Daily Log'!#REF!,$B217,'Daily Log'!#REF!),0)","v":0},{"$f":"IFERROR($E217*SUMIF('Daily Log'!#REF!,$B217,'Daily Log'!#REF!),0)","v":0},{"$f":"IFERROR($E217*SUMIF('Daily Log'!#REF!,$B217,'Daily Log'!#REF!),0)","v":0},{"$f":"IFERROR($E217*SUMIF('Daily Log'!#REF!,$B217,'Daily Log'!#REF!),0)","v":0},{"$f":"IFERROR($E217*SUMIF('Daily Log'!#REF!,$B217,'Daily Log'!#REF!),0)","v":0},{"$f":"IFERROR($E217*SUMIF('Daily Log'!#REF!,$B217,'Daily Log'!#REF!),0)","v":0},{"$f":"IFERROR($E217*SUMIF('Daily Log'!#REF!,$B217,'Daily Log'!#REF!),0)","v":0},{"$f":"IFERROR($E217*SUMIF('Daily Log'!#REF!,$B217,'Daily Log'!#REF!),0)","v":0},{"$f":"IFERROR($E217*SUMIF('Daily Log'!#REF!,$B217,'Daily Log'!#REF!),0)","v":0},{"$f":"IFERROR($E217*SUMIF('Daily Log'!#REF!,$B217,'Daily Log'!#REF!),0)","v":0},{"$f":"IFERROR($E217*SUMIF('Daily Log'!#REF!,$B217,'Daily Log'!#REF!),0)","v":0},{"$f":"IFERROR($E217*SUMIF('Daily Log'!#REF!,$B217,'Daily Log'!#REF!),0)","v":0},{"$f":"IFERROR($E217*SUMIF('Daily Log'!#REF!,$B217,'Daily Log'!#REF!),0)","v":0},{"$f":"IFERROR($E217*SUMIF('Daily Log'!#REF!,$B217,'Daily Log'!#REF!),0)","v":0},{"$f":"IFERROR($E217*SUMIF('Daily Log'!#REF!,$B217,'Daily Log'!#REF!),0)","v":0},{"$f":"IFERROR($E217*SUMIF('Daily Log'!#REF!,$B217,'Daily Log'!#REF!),0)","v":0},{"$f":"IFERROR($E217*SUMIF('Daily Log'!#REF!,$B217,'Daily Log'!#REF!),0)","v":0},{"$f":"IFERROR($E217*SUMIF('Daily Log'!#REF!,$B217,'Daily Log'!#REF!),0)","v":0},{"$f":"IFERROR($E217*SUMIF('Daily Log'!#REF!,$B217,'Daily Log'!#REF!),0)","v":0},{"$f":"IFERROR($E217*SUMIF('Daily Log'!#REF!,$B217,'Daily Log'!#REF!),0)","v":0},{"$f":"IFERROR($E217*SUMIF('Daily Log'!#REF!,$B217,'Daily Log'!#REF!),0)","v":0},{"$f":"IFERROR($E217*SUMIF('Daily Log'!#REF!,$B217,'Daily Log'!#REF!),0)","v":0},{"$f":"IFERROR($E217*SUMIF('Daily Log'!#REF!,$B217,'Daily Log'!#REF!),0)","v":0}]
[null,"CF07 HONEY (H)",null,"SIDE ORDER-HOT BEVERAGE",1,0,{"$f":"IFERROR($E218*SUMIF('Daily Log'!$B$18:$B$1017,$B218,'Daily Log'!$C$18:$C$1017),0)","v":0},{"$f":"IFERROR($E218*SUMIF('Daily Log'!$E$18:$E$1017,$B218,'Daily Log'!$F$18:$F$1017),0)","v":0},{"$f":"IFERROR($E218*SUMIF('Daily Log'!$H$18:$H$1017,$B218,'Daily Log'!$I$18:$I$1017),0)","v":0},{"$f":"IFERROR($E218*SUMIF('Daily Log'!$K$18:$K$1017,$B218,'Daily Log'!$L$18:$L$1017),0)","v":0},{"$f":"IFERROR($E218*SUMIF('Daily Log'!$N$18:$N$1017,$B218,'Daily Log'!$O$18:$O$1017),0)","v":0},{"$f":"IFERROR($E218*SUMIF('Daily Log'!#REF!,$B218,'Daily Log'!#REF!),0)","v":0},{"$f":"IFERROR($E218*SUMIF('Daily Log'!#REF!,$B218,'Daily Log'!#REF!),0)","v":0},{"$f":"IFERROR($E218*SUMIF('Daily Log'!#REF!,$B218,'Daily Log'!#REF!),0)","v":0},{"$f":"IFERROR($E218*SUMIF('Daily Log'!#REF!,$B218,'Daily Log'!#REF!),0)","v":0},{"$f":"IFERROR($E218*SUMIF('Daily Log'!#REF!,$B218,'Daily Log'!#REF!),0)","v":0},{"$f":"IFERROR($E218*SUMIF('Daily Log'!#REF!,$B218,'Daily Log'!#REF!),0)","v":0},{"$f":"IFERROR($E218*SUMIF('Daily Log'!#REF!,$B218,'Daily Log'!#REF!),0)","v":0},{"$f":"IFERROR($E218*SUMIF('Daily Log'!#REF!,$B218,'Daily Log'!#REF!),0)","v":0},{"$f":"IFERROR($E218*SUMIF('Daily Log'!#REF!,$B218,'Daily Log'!#REF!),0)","v":0},{"$f":"IFERROR($E218*SUMIF('Daily Log'!#REF!,$B218,'Daily Log'!#REF!),0)","v":0},{"$f":"IFERROR($E218*SUMIF('Daily Log'!#REF!,$B218,'Daily Log'!#REF!),0)","v":0},{"$f":"IFERROR($E218*SUMIF('Daily Log'!#REF!,$B218,'Daily Log'!#REF!),0)","v":0},{"$f":"IFERROR($E218*SUMIF('Daily Log'!#REF!,$B218,'Daily Log'!#REF!),0)","v":0},{"$f":"IFERROR($E218*SUMIF('Daily Log'!#REF!,$B218,'Daily Log'!#REF!),0)","v":0},{"$f":"IFERROR($E218*SUMIF('Daily Log'!#REF!,$B218,'Daily Log'!#REF!),0)","v":0},{"$f":"IFERROR($E218*SUMIF('Daily Log'!#REF!,$B218,'Daily Log'!#REF!),0)","v":0},{"$f":"IFERROR($E218*SUMIF('Daily Log'!#REF!,$B218,'Daily Log'!#REF!),0)","v":0},{"$f":"IFERROR($E218*SUMIF('Daily Log'!#REF!,$B218,'Daily Log'!#REF!),0)","v":0},{"$f":"IFERROR($E218*SUMIF('Daily Log'!#REF!,$B218,'Daily Log'!#REF!),0)","v":0},{"$f":"IFERROR($E218*SUMIF('Daily Log'!#REF!,$B218,'Daily Log'!#REF!),0)","v":0},{"$f":"IFERROR($E218*SUMIF('Daily Log'!#REF!,$B218,'Daily Log'!#REF!),0)","v":0},{"$f":"IFERROR($E218*SUMIF('Daily Log'!#REF!,$B218,'Daily Log'!#REF!),0)","v":0},{"$f":"IFERROR($E218*SUMIF('Daily Log'!#REF!,$B218,'Daily Log'!#REF!),0)","v":0},{"$f":"IFERROR($E218*SUMIF('Daily Log'!#REF!,$B218,'Daily Log'!#REF!),0)","v":0},{"$f":"IFERROR($E218*SUMIF('Daily Log'!#REF!,$B218,'Daily Log'!#REF!),0)","v":0},{"$f":"IFERROR($E218*SUMIF('Daily Log'!#REF!,$B218,'Daily Log'!#REF!),0)","v":0}]
[null,"CF08 LEMON HONEY (H)",null,"SIDE ORDER-HOT BEVERAGE",1,1,{"$f":"IFERROR($E219*SUMIF('Daily Log'!$B$18:$B$1017,$B219,'Daily Log'!$C$18:$C$1017),0)","v":0},{"$f":"IFERROR($E219*SUMIF('Daily Log'!$E$18:$E$1017,$B219,'Daily Log'!$F$18:$F$1017),0)","v":0},{"$f":"IFERROR($E219*SUMIF('Daily Log'!$H$18:$H$1017,$B219,'Daily Log'!$I$18:$I$1017),0)","v":0},{"$f":"IFERROR($E219*SUMIF('Daily Log'!$K$18:$K$1017,$B219,'Daily Log'!$L$18:$L$1017),0)","v":1},{"$f":"IFERROR($E219*SUMIF('Daily Log'!$N$18:$N$1017,$B219,'Daily Log'!$O$18:$O$1017),0)","v":0},{"$f":"IFERROR($E219*SUMIF('Daily Log'!#REF!,$B219,'Daily Log'!#REF!),0)","v":0},{"$f":"IFERROR($E219*SUMIF('Daily Log'!#REF!,$B219,'Daily Log'!#REF!),0)","v":0},{"$f":"IFERROR($E219*SUMIF('Daily Log'!#REF!,$B219,'Daily Log'!#REF!),0)","v":0},{"$f":"IFERROR($E219*SUMIF('Daily Log'!#REF!,$B219,'Daily Log'!#REF!),0)","v":0},{"$f":"IFERROR($E219*SUMIF('Daily Log'!#REF!,$B219,'Daily Log'!#REF!),0)","v":0},{"$f":"IFERROR($E219*SUMIF('Daily Log'!#REF!,$B219,'Daily Log'!#REF!),0)","v":0},{"$f":"IFERROR($E219*SUMIF('Daily Log'!#REF!,$B219,'Daily Log'!#REF!),0)","v":0},{"$f":"IFERROR($E219*SUMIF('Daily Log'!#REF!,$B219,'Daily Log'!#REF!),0)","v":0},{"$f":"IFERROR($E219*SUMIF('Daily Log'!#REF!,$B219,'Daily Log'!#REF!),0)","v":0},{"$f":"IFERROR($E219*SUMIF('Daily Log'!#REF!,$B219,'Daily Log'!#REF!),0)","v":0},{"$f":"IFERROR($E219*SUMIF('Daily Log'!#REF!,$B219,'Daily Log'!#REF!),0)","v":0},{"$f":"IFERROR($E219*SUMIF('Daily Log'!#REF!,$B219,'Daily Log'!#REF!),0)","v":0},{"$f":"IFERROR($E219*SUMIF('Daily Log'!#REF!,$B219,'Daily Log'!#REF!),0)","v":0},{"$f":"IFERROR($E219*SUMIF('Daily Log'!#REF!,$B219,'Daily Log'!#REF!),0)","v":0},{"$f":"IFERROR($E219*SUMIF('Daily Log'!#REF!,$B219,'Daily Log'!#REF!),0)","v":0},{"$f":"IFERROR($E219*SUMIF('Daily Log'!#REF!,$B219,'Daily Log'!#REF!),0)","v":0},{"$f":"IFERROR($E219*SUMIF('Daily Log'!#REF!,$B219,'Daily Log'!#REF!),0)","v":0},{"$f":"IFERROR($E219*SUMIF('Daily Log'!#REF!,$B219,'Daily Log'!#REF!),0)","v":0},{"$f":"IFERROR($E219*SUMIF('Daily Log'!#REF!,$B219,'Daily Log'!#REF!),0)","v":0},{"$f":"IFERROR($E219*SUMIF('Daily Log'!#REF!,$B219,'Daily Log'!#REF!),0)","v":0},{"$f":"IFERROR($E219*SUMIF('Daily Log'!#REF!,$B219,'Daily Log'!#REF!),0)","v":0},{"$f":"IFERROR($E219*SUMIF('Daily Log'!#REF!,$B219,'Daily Log'!#REF!),0)","v":0},{"$f":"IFERROR($E219*SUMIF('Daily Log'!#REF!,$B219,'Daily Log'!#REF!),0)","v":0},{"$f":"IFERROR($E219*SUMIF('Daily Log'!#REF!,$B219,'Daily Log'!#REF!),0)","v":0},{"$f":"IFERROR($E219*SUMIF('Daily Log'!#REF!,$B219,'Daily Log'!#REF!),0)","v":0},{"$f":"IFERROR($E219*SUMIF('Daily Log'!#REF!,$B219,'Daily Log'!#REF!),0)","v":0}]
[null,"CF09 CAPPUCCINO (H)",null,"SIDE ORDER-HOT BEVERAGE",1,0,{"$f":"IFERROR($E220*SUMIF('Daily Log'!$B$18:$B$1017,$B220,'Daily Log'!$C$18:$C$1017),0)","v":0},{"$f":"IFERROR($E220*SUMIF('Daily Log'!$E$18:$E$1017,$B220,'Daily Log'!$F$18:$F$1017),0)","v":0},{"$f":"IFERROR($E220*SUMIF('Daily Log'!$H$18:$H$1017,$B220,'Daily Log'!$I$18:$I$1017),0)","v":0},{"$f":"IFERROR($E220*SUMIF('Daily Log'!$K$18:$K$1017,$B220,'Daily Log'!$L$18:$L$1017),0)","v":0},{"$f":"IFERROR($E220*SUMIF('Daily Log'!$N$18:$N$1017,$B220,'Daily Log'!$O$18:$O$1017),0)","v":0},{"$f":"IFERROR($E220*SUMIF('Daily Log'!#REF!,$B220,'Daily Log'!#REF!),0)","v":0},{"$f":"IFERROR($E220*SUMIF('Daily Log'!#REF!,$B220,'Daily Log'!#REF!),0)","v":0},{"$f":"IFERROR($E220*SUMIF('Daily Log'!#REF!,$B220,'Daily Log'!#REF!),0)","v":0},{"$f":"IFERROR($E220*SUMIF('Daily Log'!#REF!,$B220,'Daily Log'!#REF!),0)","v":0},{"$f":"IFERROR($E220*SUMIF('Daily Log'!#REF!,$B220,'Daily Log'!#REF!),0)","v":0},{"$f":"IFERROR($E220*SUMIF('Daily Log'!#REF!,$B220,'Daily Log'!#REF!),0)","v":0},{"$f":"IFERROR($E220*SUMIF('Daily Log'!#REF!,$B220,'Daily Log'!#REF!),0)","v":0},{"$f":"IFERROR($E220*SUMIF('Daily Log'!#REF!,$B220,'Daily Log'!#REF!),0)","v":0},{"$f":"IFERROR($E220*SUMIF('Daily Log'!#REF!,$B220,'Daily Log'!#REF!),0)","v":0},{"$f":"IFERROR($E220*SUMIF('Daily Log'!#REF!,$B220,'Daily Log'!#REF!),0)","v":0},{"$f":"IFERROR($E220*SUMIF('Daily Log'!#REF!,$B220,'Daily Log'!#REF!),0)","v":0},{"$f":"IFERROR($E220*SUMIF('Daily Log'!#REF!,$B220,'Daily Log'!#REF!),0)","v":0},{"$f":"IFERROR($E220*SUMIF('Daily Log'!#REF!,$B220,'Daily Log'!#REF!),0)","v":0},{"$f":"IFERROR($E220*SUMIF('Daily Log'!#REF!,$B220,'Daily Log'!#REF!),0)","v":0},{"$f":"IFERROR($E220*SUMIF('Daily Log'!#REF!,$B220,'Daily Log'!#REF!),0)","v":0},{"$f":"IFERROR($E220*SUMIF('Daily Log'!#REF!,$B220,'Daily Log'!#REF!),0)","v":0},{"$f":"IFERROR($E220*SUMIF('Daily Log'!#REF!,$B220,'Daily Log'!#REF!),0)","v":0},{"$f":"IFERROR($E220*SUMIF('Daily Log'!#REF!,$B220,'Daily Log'!#REF!),0)","v":0},{"$f":"IFERROR($E220*SUMIF('Daily Log'!#REF!,$B220,'Daily Log'!#REF!),0)","v":0},{"$f":"IFERROR($E220*SUMIF('Daily Log'!#REF!,$B220,'Daily Log'!#REF!),0)","v":0},{"$f":"IFERROR($E220*SUMIF('Daily Log'!#REF!,$B220,'Daily Log'!#REF!),0)","v":0},{"$f":"IFERROR($E220*SUMIF('Daily Log'!#REF!,$B220,'Daily Log'!#REF!),0)","v":0},{"$f":"IFERROR($E220*SUMIF('Daily Log'!#REF!,$B220,'Daily Log'!#REF!),0)","v":0},{"$f":"IFERROR($E220*SUMIF('Daily Log'!#REF!,$B220,'Daily Log'!#REF!),0)","v":0},{"$f":"IFERROR($E220*SUMIF('Daily Log'!#REF!,$B220,'Daily Log'!#REF!),0)","v":0},{"$f":"IFERROR($E220*SUMIF('Daily Log'!#REF!,$B220,'Daily Log'!#REF!),0)","v":0}]
[null,"CF10 CHOCOLATE (H)",null,"SIDE ORDER-HOT BEVERAGE",1,0,{"$f":"IFERROR($E221*SUMIF('Daily Log'!$B$18:$B$1017,$B221,'Daily Log'!$C$18:$C$1017),0)","v":0},{"$f":"IFERROR($E221*SUMIF('Daily Log'!$E$18:$E$1017,$B221,'Daily Log'!$F$18:$F$1017),0)","v":0},{"$f":"IFERROR($E221*SUMIF('Daily Log'!$H$18:$H$1017,$B221,'Daily Log'!$I$18:$I$1017),0)","v":0},{"$f":"IFERROR($E221*SUMIF('Daily Log'!$K$18:$K$1017,$B221,'Daily Log'!$L$18:$L$1017),0)","v":0},{"$f":"IFERROR($E221*SUMIF('Daily Log'!$N$18:$N$1017,$B221,'Daily Log'!$O$18:$O$1017),0)","v":0},{"$f":"IFERROR($E221*SUMIF('Daily Log'!#REF!,$B221,'Daily Log'!#REF!),0)","v":0},{"$f":"IFERROR($E221*SUMIF('Daily Log'!#REF!,$B221,'Daily Log'!#REF!),0)","v":0},{"$f":"IFERROR($E221*SUMIF('Daily Log'!#REF!,$B221,'Daily Log'!#REF!),0)","v":0},{"$f":"IFERROR($E221*SUMIF('Daily Log'!#REF!,$B221,'Daily Log'!#REF!),0)","v":0},{"$f":"IFERROR($E221*SUMIF('Daily Log'!#REF!,$B221,'Daily Log'!#REF!),0)","v":0},{"$f":"IFERROR($E221*SUMIF('Daily Log'!#REF!,$B221,'Daily Log'!#REF!),0)","v":0},{"$f":"IFERROR($E221*SUMIF('Daily Log'!#REF!,$B221,'Daily Log'!#REF!),0)","v":0},{"$f":"IFERROR($E221*SUMIF('Daily Log'!#REF!,$B221,'Daily Log'!#REF!),0)","v":0},{"$f":"IFERROR($E221*SUMIF('Daily Log'!#REF!,$B221,'Daily Log'!#REF!),0)","v":0},{"$f":"IFERROR($E221*SUMIF('Daily Log'!#REF!,$B221,'Daily Log'!#REF!),0)","v":0},{"$f":"IFERROR($E221*SUMIF('Daily Log'!#REF!,$B221,'Daily Log'!#REF!),0)","v":0},{"$f":"IFERROR($E221*SUMIF('Daily Log'!#REF!,$B221,'Daily Log'!#REF!),0)","v":0},{"$f":"IFERROR($E221*SUMIF('Daily Log'!#REF!,$B221,'Daily Log'!#REF!),0)","v":0},{"$f":"IFERROR($E221*SUMIF('Daily Log'!#REF!,$B221,'Daily Log'!#REF!),0)","v":0},{"$f":"IFERROR($E221*SUMIF('Daily Log'!#REF!,$B221,'Daily Log'!#REF!),0)","v":0},{"$f":"IFERROR($E221*SUMIF('Daily Log'!#REF!,$B221,'Daily Log'!#REF!),0)","v":0},{"$f":"IFERROR($E221*SUMIF('Daily Log'!#REF!,$B221,'Daily Log'!#REF!),0)","v":0},{"$f":"IFERROR($E221*SUMIF('Daily Log'!#REF!,$B221,'Daily Log'!#REF!),0)","v":0},{"$f":"IFERROR($E221*SUMIF('Daily Log'!#REF!,$B221,'Daily Log'!#REF!),0)","v":0},{"$f":"IFERROR($E221*SUMIF('Daily Log'!#REF!,$B221,'Daily Log'!#REF!),0)","v":0},{"$f":"IFERROR($E221*SUMIF('Daily Log'!#REF!,$B221,'Daily Log'!#REF!),0)","v":0},{"$f":"IFERROR($E221*SUMIF('Daily Log'!#REF!,$B221,'Daily Log'!#REF!),0)","v":0},{"$f":"IFERROR($E221*SUMIF('Daily Log'!#REF!,$B221,'Daily Log'!#REF!),0)","v":0},{"$f":"IFERROR($E221*SUMIF('Daily Log'!#REF!,$B221,'Daily Log'!#REF!),0)","v":0},{"$f":"IFERROR($E221*SUMIF('Daily Log'!#REF!,$B221,'Daily Log'!#REF!),0)","v":0},{"$f":"IFERROR($E221*SUMIF('Daily Log'!#REF!,$B221,'Daily Log'!#REF!),0)","v":0}]
[null,"CF11 MOCHA (H)",null,"SIDE ORDER-HOT BEVERAGE",1,0,{"$f":"IFERROR($E222*SUMIF('Daily Log'!$B$18:$B$1017,$B222,'Daily Log'!$C$18:$C$1017),0)","v":0},{"$f":"IFERROR($E222*SUMIF('Daily Log'!$E$18:$E$1017,$B222,'Daily Log'!$F$18:$F$1017),0)","v":0},{"$f":"IFERROR($E222*SUMIF('Daily Log'!$H$18:$H$1017,$B222,'Daily Log'!$I$18:$I$1017),0)","v":0},{"$f":"IFERROR($E222*SUMIF('Daily Log'!$K$18:$K$1017,$B222,'Daily Log'!$L$18:$L$1017),0)","v":0},{"$f":"IFERROR($E222*SUMIF('Daily Log'!$N$18:$N$1017,$B222,'Daily Log'!$O$18:$O$1017),0)","v":0},{"$f":"IFERROR($E222*SUMIF('Daily Log'!#REF!,$B222,'Daily Log'!#REF!),0)","v":0},{"$f":"IFERROR($E222*SUMIF('Daily Log'!#REF!,$B222,'Daily Log'!#REF!),0)","v":0},{"$f":"IFERROR($E222*SUMIF('Daily Log'!#REF!,$B222,'Daily Log'!#REF!),0)","v":0},{"$f":"IFERROR($E222*SUMIF('Daily Log'!#REF!,$B222,'Daily Log'!#REF!),0)","v":0},{"$f":"IFERROR($E222*SUMIF('Daily Log'!#REF!,$B222,'Daily Log'!#REF!),0)","v":0},{"$f":"IFERROR($E222*SUMIF('Daily Log'!#REF!,$B222,'Daily Log'!#REF!),0)","v":0},{"$f":"IFERROR($E222*SUMIF('Daily Log'!#REF!,$B222,'Daily Log'!#REF!),0)","v":0},{"$f":"IFERROR($E222*SUMIF('Daily Log'!#REF!,$B222,'Daily Log'!#REF!),0)","v":0},{"$f":"IFERROR($E222*SUMIF('Daily Log'!#REF!,$B222,'Daily Log'!#REF!),0)","v":0},{"$f":"IFERROR($E222*SUMIF('Daily Log'!#REF!,$B222,'Daily Log'!#REF!),0)","v":0},{"$f":"IFERROR($E222*SUMIF('Daily Log'!#REF!,$B222,'Daily Log'!#REF!),0)","v":0},{"$f":"IFERROR($E222*SUMIF('Daily Log'!#REF!,$B222,'Daily Log'!#REF!),0)","v":0},{"$f":"IFERROR($E222*SUMIF('Daily Log'!#REF!,$B222,'Daily Log'!#REF!),0)","v":0},{"$f":"IFERROR($E222*SUMIF('Daily Log'!#REF!,$B222,'Daily Log'!#REF!),0)","v":0},{"$f":"IFERROR($E222*SUMIF('Daily Log'!#REF!,$B222,'Daily Log'!#REF!),0)","v":0},{"$f":"IFERROR($E222*SUMIF('Daily Log'!#REF!,$B222,'Daily Log'!#REF!),0)","v":0},{"$f":"IFERROR($E222*SUMIF('Daily Log'!#REF!,$B222,'Daily Log'!#REF!),0)","v":0},{"$f":"IFERROR($E222*SUMIF('Daily Log'!#REF!,$B222,'Daily Log'!#REF!),0)","v":0},{"$f":"IFERROR($E222*SUMIF('Daily Log'!#REF!,$B222,'Daily Log'!#REF!),0)","v":0},{"$f":"IFERROR($E222*SUMIF('Daily Log'!#REF!,$B222,'Daily Log'!#REF!),0)","v":0},{"$f":"IFERROR($E222*SUMIF('Daily Log'!#REF!,$B222,'Daily Log'!#REF!),0)","v":0},{"$f":"IFERROR($E222*SUMIF('Daily Log'!#REF!,$B222,'Daily Log'!#REF!),0)","v":0},{"$f":"IFERROR($E222*SUMIF('Daily Log'!#REF!,$B222,'Daily Log'!#REF!),0)","v":0},{"$f":"IFERROR($E222*SUMIF('Daily Log'!#REF!,$B222,'Daily Log'!#REF!),0)","v":0},{"$f":"IFERROR($E222*SUMIF('Daily Log'!#REF!,$B222,'Daily Log'!#REF!),0)","v":0},{"$f":"IFERROR($E222*SUMIF('Daily Log'!#REF!,$B222,'Daily Log'!#REF!),0)","v":0}]
[null,"CF12 CHAMOMILE (H)",null,"SIDE ORDER-HOT BEVERAGE",1,0,{"$f":"IFERROR($E223*SUMIF('Daily Log'!$B$18:$B$1017,$B223,'Daily Log'!$C$18:$C$1017),0)","v":0},{"$f":"IFERROR($E223*SUMIF('Daily Log'!$E$18:$E$1017,$B223,'Daily Log'!$F$18:$F$1017),0)","v":0},{"$f":"IFERROR($E223*SUMIF('Daily Log'!$H$18:$H$1017,$B223,'Daily Log'!$I$18:$I$1017),0)","v":0},{"$f":"IFERROR($E223*SUMIF('Daily Log'!$K$18:$K$1017,$B223,'Daily Log'!$L$18:$L$1017),0)","v":0},{"$f":"IFERROR($E223*SUMIF('Daily Log'!$N$18:$N$1017,$B223,'Daily Log'!$O$18:$O$1017),0)","v":0},{"$f":"IFERROR($E223*SUMIF('Daily Log'!#REF!,$B223,'Daily Log'!#REF!),0)","v":0},{"$f":"IFERROR($E223*SUMIF('Daily Log'!#REF!,$B223,'Daily Log'!#REF!),0)","v":0},{"$f":"IFERROR($E223*SUMIF('Daily Log'!#REF!,$B223,'Daily Log'!#REF!),0)","v":0},{"$f":"IFERROR($E223*SUMIF('Daily Log'!#REF!,$B223,'Daily Log'!#REF!),0)","v":0},{"$f":"IFERROR($E223*SUMIF('Daily Log'!#REF!,$B223,'Daily Log'!#REF!),0)","v":0},{"$f":"IFERROR($E223*SUMIF('Daily Log'!#REF!,$B223,'Daily Log'!#REF!),0)","v":0},{"$f":"IFERROR($E223*SUMIF('Daily Log'!#REF!,$B223,'Daily Log'!#REF!),0)","v":0},{"$f":"IFERROR($E223*SUMIF('Daily Log'!#REF!,$B223,'Daily Log'!#REF!),0)","v":0},{"$f":"IFERROR($E223*SUMIF('Daily Log'!#REF!,$B223,'Daily Log'!#REF!),0)","v":0},{"$f":"IFERROR($E223*SUMIF('Daily Log'!#REF!,$B223,'Daily Log'!#REF!),0)","v":0},{"$f":"IFERROR($E223*SUMIF('Daily Log'!#REF!,$B223,'Daily Log'!#REF!),0)","v":0},{"$f":"IFERROR($E223*SUMIF('Daily Log'!#REF!,$B223,'Daily Log'!#REF!),0)","v":0},{"$f":"IFERROR($E223*SUMIF('Daily Log'!#REF!,$B223,'Daily Log'!#REF!),0)","v":0},{"$f":"IFERROR($E223*SUMIF('Daily Log'!#REF!,$B223,'Daily Log'!#REF!),0)","v":0},{"$f":"IFERROR($E223*SUMIF('Daily Log'!#REF!,$B223,'Daily Log'!#REF!),0)","v":0},{"$f":"IFERROR($E223*SUMIF('Daily Log'!#REF!,$B223,'Daily Log'!#REF!),0)","v":0},{"$f":"IFERROR($E223*SUMIF('Daily Log'!#REF!,$B223,'Daily Log'!#REF!),0)","v":0},{"$f":"IFERROR($E223*SUMIF('Daily Log'!#REF!,$B223,'Daily Log'!#REF!),0)","v":0},{"$f":"IFERROR($E223*SUMIF('Daily Log'!#REF!,$B223,'Daily Log'!#REF!),0)","v":0},{"$f":"IFERROR($E223*SUMIF('Daily Log'!#REF!,$B223,'Daily Log'!#REF!),0)","v":0},{"$f":"IFERROR($E223*SUMIF('Daily Log'!#REF!,$B223,'Daily Log'!#REF!),0)","v":0},{"$f":"IFERROR($E223*SUMIF('Daily Log'!#REF!,$B223,'Daily Log'!#REF!),0)","v":0},{"$f":"IFERROR($E223*SUMIF('Daily Log'!#REF!,$B223,'Daily Log'!#REF!),0)","v":0},{"$f":"IFERROR($E223*SUMIF('Daily Log'!#REF!,$B223,'Daily Log'!#REF!),0)","v":0},{"$f":"IFERROR($E223*SUMIF('Daily Log'!#REF!,$B223,'Daily Log'!#REF!),0)","v":0},{"$f":"IFERROR($E223*SUMIF('Daily Log'!#REF!,$B223,'Daily Log'!#REF!),0)","v":0}]
[null,"CF13 DARJEELING (H)",null,"SIDE ORDER-HOT BEVERAGE",1,0,{"$f":"IFERROR($E224*SUMIF('Daily Log'!$B$18:$B$1017,$B224,'Daily Log'!$C$18:$C$1017),0)","v":0},{"$f":"IFERROR($E224*SUMIF('Daily Log'!$E$18:$E$1017,$B224,'Daily Log'!$F$18:$F$1017),0)","v":0},{"$f":"IFERROR($E224*SUMIF('Daily Log'!$H$18:$H$1017,$B224,'Daily Log'!$I$18:$I$1017),0)","v":0},{"$f":"IFERROR($E224*SUMIF('Daily Log'!$K$18:$K$1017,$B224,'Daily Log'!$L$18:$L$1017),0)","v":0},{"$f":"IFERROR($E224*SUMIF('Daily Log'!$N$18:$N$1017,$B224,'Daily Log'!$O$18:$O$1017),0)","v":0},{"$f":"IFERROR($E224*SUMIF('Daily Log'!#REF!,$B224,'Daily Log'!#REF!),0)","v":0},{"$f":"IFERROR($E224*SUMIF('Daily Log'!#REF!,$B224,'Daily Log'!#REF!),0)","v":0},{"$f":"IFERROR($E224*SUMIF('Daily Log'!#REF!,$B224,'Daily Log'!#REF!),0)","v":0},{"$f":"IFERROR($E224*SUMIF('Daily Log'!#REF!,$B224,'Daily Log'!#REF!),0)","v":0},{"$f":"IFERROR($E224*SUMIF('Daily Log'!#REF!,$B224,'Daily Log'!#REF!),0)","v":0},{"$f":"IFERROR($E224*SUMIF('Daily Log'!#REF!,$B224,'Daily Log'!#REF!),0)","v":0},{"$f":"IFERROR($E224*SUMIF('Daily Log'!#REF!,$B224,'Daily Log'!#REF!),0)","v":0},{"$f":"IFERROR($E224*SUMIF('Daily Log'!#REF!,$B224,'Daily Log'!#REF!),0)","v":0},{"$f":"IFERROR($E224*SUMIF('Daily Log'!#REF!,$B224,'Daily Log'!#REF!),0)","v":0},{"$f":"IFERROR($E224*SUMIF('Daily Log'!#REF!,$B224,'Daily Log'!#REF!),0)","v":0},{"$f":"IFERROR($E224*SUMIF('Daily Log'!#REF!,$B224,'Daily Log'!#REF!),0)","v":0},{"$f":"IFERROR($E224*SUMIF('Daily Log'!#REF!,$B224,'Daily Log'!#REF!),0)","v":0},{"$f":"IFERROR($E224*SUMIF('Daily Log'!#REF!,$B224,'Daily Log'!#REF!),0)","v":0},{"$f":"IFERROR($E224*SUMIF('Daily Log'!#REF!,$B224,'Daily Log'!#REF!),0)","v":0},{"$f":"IFERROR($E224*SUMIF('Daily Log'!#REF!,$B224,'Daily Log'!#REF!),0)","v":0},{"$f":"IFERROR($E224*SUMIF('Daily Log'!#REF!,$B224,'Daily Log'!#REF!),0)","v":0},{"$f":"IFERROR($E224*SUMIF('Daily Log'!#REF!,$B224,'Daily Log'!#REF!),0)","v":0},{"$f":"IFERROR($E224*SUMIF('Daily Log'!#REF!,$B224,'Daily Log'!#REF!),0)","v":0},{"$f":"IFERROR($E224*SUMIF('Daily Log'!#REF!,$B224,'Daily Log'!#REF!),0)","v":0},{"$f":"IFERROR($E224*SUMIF('Daily Log'!#REF!,$B224,'Daily Log'!#REF!),0)","v":0},{"$f":"IFERROR($E224*SUMIF('Daily Log'!#REF!,$B224,'Daily Log'!#REF!),0)","v":0},{"$f":"IFERROR($E224*SUMIF('Daily Log'!#REF!,$B224,'Daily Log'!#REF!),0)","v":0},{"$f":"IFERROR($E224*SUMIF('Daily Log'!#REF!,$B224,'Daily Log'!#REF!),0)","v":0},{"$f":"IFERROR($E224*SUMIF('Daily Log'!#REF!,$B224,'Daily Log'!#REF!),0)","v":0},{"$f":"IFERROR($E224*SUMIF('Daily Log'!#REF!,$B224,'Daily Log'!#REF!),0)","v":0},{"$f":"IFERROR($E224*SUMIF('Daily Log'!#REF!,$B224,'Daily Log'!#REF!),0)","v":0}]
[null,"CF14 EARL GREY (H)",null,"SIDE ORDER-HOT BEVERAGE",1,0,{"$f":"IFERROR($E225*SUMIF('Daily Log'!$B$18:$B$1017,$B225,'Daily Log'!$C$18:$C$1017),0)","v":0},{"$f":"IFERROR($E225*SUMIF('Daily Log'!$E$18:$E$1017,$B225,'Daily Log'!$F$18:$F$1017),0)","v":0},{"$f":"IFERROR($E225*SUMIF('Daily Log'!$H$18:$H$1017,$B225,'Daily Log'!$I$18:$I$1017),0)","v":0},{"$f":"IFERROR($E225*SUMIF('Daily Log'!$K$18:$K$1017,$B225,'Daily Log'!$L$18:$L$1017),0)","v":0},{"$f":"IFERROR($E225*SUMIF('Daily Log'!$N$18:$N$1017,$B225,'Daily Log'!$O$18:$O$1017),0)","v":0},{"$f":"IFERROR($E225*SUMIF('Daily Log'!#REF!,$B225,'Daily Log'!#REF!),0)","v":0},{"$f":"IFERROR($E225*SUMIF('Daily Log'!#REF!,$B225,'Daily Log'!#REF!),0)","v":0},{"$f":"IFERROR($E225*SUMIF('Daily Log'!#REF!,$B225,'Daily Log'!#REF!),0)","v":0},{"$f":"IFERROR($E225*SUMIF('Daily Log'!#REF!,$B225,'Daily Log'!#REF!),0)","v":0},{"$f":"IFERROR($E225*SUMIF('Daily Log'!#REF!,$B225,'Daily Log'!#REF!),0)","v":0},{"$f":"IFERROR($E225*SUMIF('Daily Log'!#REF!,$B225,'Daily Log'!#REF!),0)","v":0},{"$f":"IFERROR($E225*SUMIF('Daily Log'!#REF!,$B225,'Daily Log'!#REF!),0)","v":0},{"$f":"IFERROR($E225*SUMIF('Daily Log'!#REF!,$B225,'Daily Log'!#REF!),0)","v":0},{"$f":"IFERROR($E225*SUMIF('Daily Log'!#REF!,$B225,'Daily Log'!#REF!),0)","v":0},{"$f":"IFERROR($E225*SUMIF('Daily Log'!#REF!,$B225,'Daily Log'!#REF!),0)","v":0},{"$f":"IFERROR($E225*SUMIF('Daily Log'!#REF!,$B225,'Daily Log'!#REF!),0)","v":0},{"$f":"IFERROR($E225*SUMIF('Daily Log'!#REF!,$B225,'Daily Log'!#REF!),0)","v":0},{"$f":"IFERROR($E225*SUMIF('Daily Log'!#REF!,$B225,'Daily Log'!#REF!),0)","v":0},{"$f":"IFERROR($E225*SUMIF('Daily Log'!#REF!,$B225,'Daily Log'!#REF!),0)","v":0},{"$f":"IFERROR($E225*SUMIF('Daily Log'!#REF!,$B225,'Daily Log'!#REF!),0)","v":0},{"$f":"IFERROR($E225*SUMIF('Daily Log'!#REF!,$B225,'Daily Log'!#REF!),0)","v":0},{"$f":"IFERROR($E225*SUMIF('Daily Log'!#REF!,$B225,'Daily Log'!#REF!),0)","v":0},{"$f":"IFERROR($E225*SUMIF('Daily Log'!#REF!,$B225,'Daily Log'!#REF!),0)","v":0},{"$f":"IFERROR($E225*SUMIF('Daily Log'!#REF!,$B225,'Daily Log'!#REF!),0)","v":0},{"$f":"IFERROR($E225*SUMIF('Daily Log'!#REF!,$B225,'Daily Log'!#REF!),0)","v":0},{"$f":"IFERROR($E225*SUMIF('Daily Log'!#REF!,$B225,'Daily Log'!#REF!),0)","v":0},{"$f":"IFERROR($E225*SUMIF('Daily Log'!#REF!,$B225,'Daily Log'!#REF!),0)","v":0},{"$f":"IFERROR($E225*SUMIF('Daily Log'!#REF!,$B225,'Daily Log'!#REF!),0)","v":0},{"$f":"IFERROR($E225*SUMIF('Daily Log'!#REF!,$B225,'Daily Log'!#REF!),0)","v":0},{"$f":"IFERROR($E225*SUMIF('Daily Log'!#REF!,$B225,'Daily Log'!#REF!),0)","v":0},{"$f":"IFERROR($E225*SUMIF('Daily Log'!#REF!,$B225,'Daily Log'!#REF!),0)","v":0}]
[null,"CG01 MINERAL WATER",null,null,1,0,{"$f":"IFERROR($E226*SUMIF('Daily Log'!$B$18:$B$1017,$B226,'Daily Log'!$C$18:$C$1017),0)","v":0},{"$f":"IFERROR($E226*SUMIF('Daily Log'!$E$18:$E$1017,$B226,'Daily Log'!$F$18:$F$1017),0)","v":0},{"$f":"IFERROR($E226*SUMIF('Daily Log'!$H$18:$H$1017,$B226,'Daily Log'!$I$18:$I$1017),0)","v":0},{"$f":"IFERROR($E226*SUMIF('Daily Log'!$K$18:$K$1017,$B226,'Daily Log'!$L$18:$L$1017),0)","v":0},{"$f":"IFERROR($E226*SUMIF('Daily Log'!$N$18:$N$1017,$B226,'Daily Log'!$O$18:$O$1017),0)","v":0},{"$f":"IFERROR($E226*SUMIF('Daily Log'!#REF!,$B226,'Daily Log'!#REF!),0)","v":0},{"$f":"IFERROR($E226*SUMIF('Daily Log'!#REF!,$B226,'Daily Log'!#REF!),0)","v":0},{"$f":"IFERROR($E226*SUMIF('Daily Log'!#REF!,$B226,'Daily Log'!#REF!),0)","v":0},{"$f":"IFERROR($E226*SUMIF('Daily Log'!#REF!,$B226,'Daily Log'!#REF!),0)","v":0},{"$f":"IFERROR($E226*SUMIF('Daily Log'!#REF!,$B226,'Daily Log'!#REF!),0)","v":0},{"$f":"IFERROR($E226*SUMIF('Daily Log'!#REF!,$B226,'Daily Log'!#REF!),0)","v":0},{"$f":"IFERROR($E226*SUMIF('Daily Log'!#REF!,$B226,'Daily Log'!#REF!),0)","v":0},{"$f":"IFERROR($E226*SUMIF('Daily Log'!#REF!,$B226,'Daily Log'!#REF!),0)","v":0},{"$f":"IFERROR($E226*SUMIF('Daily Log'!#REF!,$B226,'Daily Log'!#REF!),0)","v":0},{"$f":"IFERROR($E226*SUMIF('Daily Log'!#REF!,$B226,'Daily Log'!#REF!),0)","v":0},{"$f":"IFERROR($E226*SUMIF('Daily Log'!#REF!,$B226,'Daily Log'!#REF!),0)","v":0},{"$f":"IFERROR($E226*SUMIF('Daily Log'!#REF!,$B226,'Daily Log'!#REF!),0)","v":0},{"$f":"IFERROR($E226*SUMIF('Daily Log'!#REF!,$B226,'Daily Log'!#REF!),0)","v":0},{"$f":"IFERROR($E226*SUMIF('Daily Log'!#REF!,$B226,'Daily Log'!#REF!),0)","v":0},{"$f":"IFERROR($E226*SUMIF('Daily Log'!#REF!,$B226,'Daily Log'!#REF!),0)","v":0},{"$f":"IFERROR($E226*SUMIF('Daily Log'!#REF!,$B226,'Daily Log'!#REF!),0)","v":0},{"$f":"IFERROR($E226*SUMIF('Daily Log'!#REF!,$B226,'Daily Log'!#REF!),0)","v":0},{"$f":"IFERROR($E226*SUMIF('Daily Log'!#REF!,$B226,'Daily Log'!#REF!),0)","v":0},{"$f":"IFERROR($E226*SUMIF('Daily Log'!#REF!,$B226,'Daily Log'!#REF!),0)","v":0},{"$f":"IFERROR($E226*SUMIF('Daily Log'!#REF!,$B226,'Daily Log'!#REF!),0)","v":0},{"$f":"IFERROR($E226*SUMIF('Daily Log'!#REF!,$B226,'Daily Log'!#REF!),0)","v":0},{"$f":"IFERROR($E226*SUMIF('Daily Log'!#REF!,$B226,'Daily Log'!#REF!),0)","v":0},{"$f":"IFERROR($E226*SUMIF('Daily Log'!#REF!,$B226,'Daily Log'!#REF!),0)","v":0},{"$f":"IFERROR($E226*SUMIF('Daily Log'!#REF!,$B226,'Daily Log'!#REF!),0)","v":0},{"$f":"IFERROR($E226*SUMIF('Daily Log'!#REF!,$B226,'Daily Log'!#REF!),0)","v":0},{"$f":"IFERROR($E226*SUMIF('Daily Log'!#REF!,$B226,'Daily Log'!#REF!),0)","v":0}]
[null,"CH01 7 UP JUG",null,null,1,0,{"$f":"IFERROR($E227*SUMIF('Daily Log'!$B$18:$B$1017,$B227,'Daily Log'!$C$18:$C$1017),0)","v":0},{"$f":"IFERROR($E227*SUMIF('Daily Log'!$E$18:$E$1017,$B227,'Daily Log'!$F$18:$F$1017),0)","v":0},{"$f":"IFERROR($E227*SUMIF('Daily Log'!$H$18:$H$1017,$B227,'Daily Log'!$I$18:$I$1017),0)","v":0},{"$f":"IFERROR($E227*SUMIF('Daily Log'!$K$18:$K$1017,$B227,'Daily Log'!$L$18:$L$1017),0)","v":0},{"$f":"IFERROR($E227*SUMIF('Daily Log'!$N$18:$N$1017,$B227,'Daily Log'!$O$18:$O$1017),0)","v":0},{"$f":"IFERROR($E227*SUMIF('Daily Log'!#REF!,$B227,'Daily Log'!#REF!),0)","v":0},{"$f":"IFERROR($E227*SUMIF('Daily Log'!#REF!,$B227,'Daily Log'!#REF!),0)","v":0},{"$f":"IFERROR($E227*SUMIF('Daily Log'!#REF!,$B227,'Daily Log'!#REF!),0)","v":0},{"$f":"IFERROR($E227*SUMIF('Daily Log'!#REF!,$B227,'Daily Log'!#REF!),0)","v":0},{"$f":"IFERROR($E227*SUMIF('Daily Log'!#REF!,$B227,'Daily Log'!#REF!),0)","v":0},{"$f":"IFERROR($E227*SUMIF('Daily Log'!#REF!,$B227,'Daily Log'!#REF!),0)","v":0},{"$f":"IFERROR($E227*SUMIF('Daily Log'!#REF!,$B227,'Daily Log'!#REF!),0)","v":0},{"$f":"IFERROR($E227*SUMIF('Daily Log'!#REF!,$B227,'Daily Log'!#REF!),0)","v":0},{"$f":"IFERROR($E227*SUMIF('Daily Log'!#REF!,$B227,'Daily Log'!#REF!),0)","v":0},{"$f":"IFERROR($E227*SUMIF('Daily Log'!#REF!,$B227,'Daily Log'!#REF!),0)","v":0},{"$f":"IFERROR($E227*SUMIF('Daily Log'!#REF!,$B227,'Daily Log'!#REF!),0)","v":0},{"$f":"IFERROR($E227*SUMIF('Daily Log'!#REF!,$B227,'Daily Log'!#REF!),0)","v":0},{"$f":"IFERROR($E227*SUMIF('Daily Log'!#REF!,$B227,'Daily Log'!#REF!),0)","v":0},{"$f":"IFERROR($E227*SUMIF('Daily Log'!#REF!,$B227,'Daily Log'!#REF!),0)","v":0},{"$f":"IFERROR($E227*SUMIF('Daily Log'!#REF!,$B227,'Daily Log'!#REF!),0)","v":0},{"$f":"IFERROR($E227*SUMIF('Daily Log'!#REF!,$B227,'Daily Log'!#REF!),0)","v":0},{"$f":"IFERROR($E227*SUMIF('Daily Log'!#REF!,$B227,'Daily Log'!#REF!),0)","v":0},{"$f":"IFERROR($E227*SUMIF('Daily Log'!#REF!,$B227,'Daily Log'!#REF!),0)","v":0},{"$f":"IFERROR($E227*SUMIF('Daily Log'!#REF!,$B227,'Daily Log'!#REF!),0)","v":0},{"$f":"IFERROR($E227*SUMIF('Daily Log'!#REF!,$B227,'Daily Log'!#REF!),0)","v":0},{"$f":"IFERROR($E227*SUMIF('Daily Log'!#REF!,$B227,'Daily Log'!#REF!),0)","v":0},{"$f":"IFERROR($E227*SUMIF('Daily Log'!#REF!,$B227,'Daily Log'!#REF!),0)","v":0},{"$f":"IFERROR($E227*SUMIF('Daily Log'!#REF!,$B227,'Daily Log'!#REF!),0)","v":0},{"$f":"IFERROR($E227*SUMIF('Daily Log'!#REF!,$B227,'Daily Log'!#REF!),0)","v":0},{"$f":"IFERROR($E227*SUMIF('Daily Log'!#REF!,$B227,'Daily Log'!#REF!),0)","v":0},{"$f":"IFERROR($E227*SUMIF('Daily Log'!#REF!,$B227,'Daily Log'!#REF!),0)","v":0}]
[null,"CH02 GRN TEA JUG",null,"DRINKS (IN JUG)",1,0,{"$f":"IFERROR($E228*SUMIF('Daily Log'!$B$18:$B$1017,$B228,'Daily Log'!$C$18:$C$1017),0)","v":0},{"$f":"IFERROR($E228*SUMIF('Daily Log'!$E$18:$E$1017,$B228,'Daily Log'!$F$18:$F$1017),0)","v":0},{"$f":"IFERROR($E228*SUMIF('Daily Log'!$H$18:$H$1017,$B228,'Daily Log'!$I$18:$I$1017),0)","v":0},{"$f":"IFERROR($E228*SUMIF('Daily Log'!$K$18:$K$1017,$B228,'Daily Log'!$L$18:$L$1017),0)","v":0},{"$f":"IFERROR($E228*SUMIF('Daily Log'!$N$18:$N$1017,$B228,'Daily Log'!$O$18:$O$1017),0)","v":0},{"$f":"IFERROR($E228*SUMIF('Daily Log'!#REF!,$B228,'Daily Log'!#REF!),0)","v":0},{"$f":"IFERROR($E228*SUMIF('Daily Log'!#REF!,$B228,'Daily Log'!#REF!),0)","v":0},{"$f":"IFERROR($E228*SUMIF('Daily Log'!#REF!,$B228,'Daily Log'!#REF!),0)","v":0},{"$f":"IFERROR($E228*SUMIF('Daily Log'!#REF!,$B228,'Daily Log'!#REF!),0)","v":0},{"$f":"IFERROR($E228*SUMIF('Daily Log'!#REF!,$B228,'Daily Log'!#REF!),0)","v":0},{"$f":"IFERROR($E228*SUMIF('Daily Log'!#REF!,$B228,'Daily Log'!#REF!),0)","v":0},{"$f":"IFERROR($E228*SUMIF('Daily Log'!#REF!,$B228,'Daily Log'!#REF!),0)","v":0},{"$f":"IFERROR($E228*SUMIF('Daily Log'!#REF!,$B228,'Daily Log'!#REF!),0)","v":0},{"$f":"IFERROR($E228*SUMIF('Daily Log'!#REF!,$B228,'Daily Log'!#REF!),0)","v":0},{"$f":"IFERROR($E228*SUMIF('Daily Log'!#REF!,$B228,'Daily Log'!#REF!),0)","v":0},{"$f":"IFERROR($E228*SUMIF('Daily Log'!#REF!,$B228,'Daily Log'!#REF!),0)","v":0},{"$f":"IFERROR($E228*SUMIF('Daily Log'!#REF!,$B228,'Daily Log'!#REF!),0)","v":0},{"$f":"IFERROR($E228*SUMIF('Daily Log'!#REF!,$B228,'Daily Log'!#REF!),0)","v":0},{"$f":"IFERROR($E228*SUMIF('Daily Log'!#REF!,$B228,'Daily Log'!#REF!),0)","v":0},{"$f":"IFERROR($E228*SUMIF('Daily Log'!#REF!,$B228,'Daily Log'!#REF!),0)","v":0},{"$f":"IFERROR($E228*SUMIF('Daily Log'!#REF!,$B228,'Daily Log'!#REF!),0)","v":0},{"$f":"IFERROR($E228*SUMIF('Daily Log'!#REF!,$B228,'Daily Log'!#REF!),0)","v":0},{"$f":"IFERROR($E228*SUMIF('Daily Log'!#REF!,$B228,'Daily Log'!#REF!),0)","v":0},{"$f":"IFERROR($E228*SUMIF('Daily Log'!#REF!,$B228,'Daily Log'!#REF!),0)","v":0},{"$f":"IFERROR($E228*SUMIF('Daily Log'!#REF!,$B228,'Daily Log'!#REF!),0)","v":0},{"$f":"IFERROR($E228*SUMIF('Daily Log'!#REF!,$B228,'Daily Log'!#REF!),0)","v":0},{"$f":"IFERROR($E228*SUMIF('Daily Log'!#REF!,$B228,'Daily Log'!#REF!),0)","v":0},{"$f":"IFERROR($E228*SUMIF('Daily Log'!#REF!,$B228,'Daily Log'!#REF!),0)","v":0},{"$f":"IFERROR($E228*SUMIF('Daily Log'!#REF!,$B228,'Daily Log'!#REF!),0)","v":0},{"$f":"IFERROR($E228*SUMIF('Daily Log'!#REF!,$B228,'Daily Log'!#REF!),0)","v":0},{"$f":"IFERROR($E228*SUMIF('Daily Log'!#REF!,$B228,'Daily Log'!#REF!),0)","v":0}]
[null,"CH03 PEPSI JUG",null,"DRINKS (IN JUG)",1,0,{"$f":"IFERROR($E229*SUMIF('Daily Log'!$B$18:$B$1017,$B229,'Daily Log'!$C$18:$C$1017),0)","v":0},{"$f":"IFERROR($E229*SUMIF('Daily Log'!$E$18:$E$1017,$B229,'Daily Log'!$F$18:$F$1017),0)","v":0},{"$f":"IFERROR($E229*SUMIF('Daily Log'!$H$18:$H$1017,$B229,'Daily Log'!$I$18:$I$1017),0)","v":0},{"$f":"IFERROR($E229*SUMIF('Daily Log'!$K$18:$K$1017,$B229,'Daily Log'!$L$18:$L$1017),0)","v":0},{"$f":"IFERROR($E229*SUMIF('Daily Log'!$N$18:$N$1017,$B229,'Daily Log'!$O$18:$O$1017),0)","v":0},{"$f":"IFERROR($E229*SUMIF('Daily Log'!#REF!,$B229,'Daily Log'!#REF!),0)","v":0},{"$f":"IFERROR($E229*SUMIF('Daily Log'!#REF!,$B229,'Daily Log'!#REF!),0)","v":0},{"$f":"IFERROR($E229*SUMIF('Daily Log'!#REF!,$B229,'Daily Log'!#REF!),0)","v":0},{"$f":"IFERROR($E229*SUMIF('Daily Log'!#REF!,$B229,'Daily Log'!#REF!),0)","v":0},{"$f":"IFERROR($E229*SUMIF('Daily Log'!#REF!,$B229,'Daily Log'!#REF!),0)","v":0},{"$f":"IFERROR($E229*SUMIF('Daily Log'!#REF!,$B229,'Daily Log'!#REF!),0)","v":0},{"$f":"IFERROR($E229*SUMIF('Daily Log'!#REF!,$B229,'Daily Log'!#REF!),0)","v":0},{"$f":"IFERROR($E229*SUMIF('Daily Log'!#REF!,$B229,'Daily Log'!#REF!),0)","v":0},{"$f":"IFERROR($E229*SUMIF('Daily Log'!#REF!,$B229,'Daily Log'!#REF!),0)","v":0},{"$f":"IFERROR($E229*SUMIF('Daily Log'!#REF!,$B229,'Daily Log'!#REF!),0)","v":0},{"$f":"IFERROR($E229*SUMIF('Daily Log'!#REF!,$B229,'Daily Log'!#REF!),0)","v":0},{"$f":"IFERROR($E229*SUMIF('Daily Log'!#REF!,$B229,'Daily Log'!#REF!),0)","v":0},{"$f":"IFERROR($E229*SUMIF('Daily Log'!#REF!,$B229,'Daily Log'!#REF!),0)","v":0},{"$f":"IFERROR($E229*SUMIF('Daily Log'!#REF!,$B229,'Daily Log'!#REF!),0)","v":0},{"$f":"IFERROR($E229*SUMIF('Daily Log'!#REF!,$B229,'Daily Log'!#REF!),0)","v":0},{"$f":"IFERROR($E229*SUMIF('Daily Log'!#REF!,$B229,'Daily Log'!#REF!),0)","v":0},{"$f":"IFERROR($E229*SUMIF('Daily Log'!#REF!,$B229,'Daily Log'!#REF!),0)","v":0},{"$f":"IFERROR($E229*SUMIF('Daily Log'!#REF!,$B229,'Daily Log'!#REF!),0)","v":0},{"$f":"IFERROR($E229*SUMIF('Daily Log'!#REF!,$B229,'Daily Log'!#REF!),0)","v":0},{"$f":"IFERROR($E229*SUMIF('Daily Log'!#REF!,$B229,'Daily Log'!#REF!),0)","v":0},{"$f":"IFERROR($E229*SUMIF('Daily Log'!#REF!,$B229,'Daily Log'!#REF!),0)","v":0},{"$f":"IFERROR($E229*SUMIF('Daily Log'!#REF!,$B229,'Daily Log'!#REF!),0)","v":0},{"$f":"IFERROR($E229*SUMIF('Daily Log'!#REF!,$B229,'Daily Log'!#REF!),0)","v":0},{"$f":"IFERROR($E229*SUMIF('Daily Log'!#REF!,$B229,'Daily Log'!#REF!),0)","v":0},{"$f":"IFERROR($E229*SUMIF('Daily Log'!#REF!,$B229,'Daily Log'!#REF!),0)","v":0},{"$f":"IFERROR($E229*SUMIF('Daily Log'!#REF!,$B229,'Daily Log'!#REF!),0)","v":0}]
[null,"CH04 RIBENA JUG",null,"DRINKS (IN JUG)",1,0,{"$f":"IFERROR($E230*SUMIF('Daily Log'!$B$18:$B$1017,$B230,'Daily Log'!$C$18:$C$1017),0)","v":0},{"$f":"IFERROR($E230*SUMIF('Daily Log'!$E$18:$E$1017,$B230,'Daily Log'!$F$18:$F$1017),0)","v":0},{"$f":"IFERROR($E230*SUMIF('Daily Log'!$H$18:$H$1017,$B230,'Daily Log'!$I$18:$I$1017),0)","v":0},{"$f":"IFERROR($E230*SUMIF('Daily Log'!$K$18:$K$1017,$B230,'Daily Log'!$L$18:$L$1017),0)","v":0},{"$f":"IFERROR($E230*SUMIF('Daily Log'!$N$18:$N$1017,$B230,'Daily Log'!$O$18:$O$1017),0)","v":0},{"$f":"IFERROR($E230*SUMIF('Daily Log'!#REF!,$B230,'Daily Log'!#REF!),0)","v":0},{"$f":"IFERROR($E230*SUMIF('Daily Log'!#REF!,$B230,'Daily Log'!#REF!),0)","v":0},{"$f":"IFERROR($E230*SUMIF('Daily Log'!#REF!,$B230,'Daily Log'!#REF!),0)","v":0},{"$f":"IFERROR($E230*SUMIF('Daily Log'!#REF!,$B230,'Daily Log'!#REF!),0)","v":0},{"$f":"IFERROR($E230*SUMIF('Daily Log'!#REF!,$B230,'Daily Log'!#REF!),0)","v":0},{"$f":"IFERROR($E230*SUMIF('Daily Log'!#REF!,$B230,'Daily Log'!#REF!),0)","v":0},{"$f":"IFERROR($E230*SUMIF('Daily Log'!#REF!,$B230,'Daily Log'!#REF!),0)","v":0},{"$f":"IFERROR($E230*SUMIF('Daily Log'!#REF!,$B230,'Daily Log'!#REF!),0)","v":0},{"$f":"IFERROR($E230*SUMIF('Daily Log'!#REF!,$B230,'Daily Log'!#REF!),0)","v":0},{"$f":"IFERROR($E230*SUMIF('Daily Log'!#REF!,$B230,'Daily Log'!#REF!),0)","v":0},{"$f":"IFERROR($E230*SUMIF('Daily Log'!#REF!,$B230,'Daily Log'!#REF!),0)","v":0},{"$f":"IFERROR($E230*SUMIF('Daily Log'!#REF!,$B230,'Daily Log'!#REF!),0)","v":0},{"$f":"IFERROR($E230*SUMIF('Daily Log'!#REF!,$B230,'Daily Log'!#REF!),0)","v":0},{"$f":"IFERROR($E230*SUMIF('Daily Log'!#REF!,$B230,'Daily Log'!#REF!),0)","v":0},{"$f":"IFERROR($E230*SUMIF('Daily Log'!#REF!,$B230,'Daily Log'!#REF!),0)","v":0},{"$f":"IFERROR($E230*SUMIF('Daily Log'!#REF!,$B230,'Daily Log'!#REF!),0)","v":0},{"$f":"IFERROR($E230*SUMIF('Daily Log'!#REF!,$B230,'Daily Log'!#REF!),0)","v":0},{"$f":"IFERROR($E230*SUMIF('Daily Log'!#REF!,$B230,'Daily Log'!#REF!),0)","v":0},{"$f":"IFERROR($E230*SUMIF('Daily Log'!#REF!,$B230,'Daily Log'!#REF!),0)","v":0},{"$f":"IFERROR($E230*SUMIF('Daily Log'!#REF!,$B230,'Daily Log'!#REF!),0)","v":0},{"$f":"IFERROR($E230*SUMIF('Daily Log'!#REF!,$B230,'Daily Log'!#REF!),0)","v":0},{"$f":"IFERROR($E230*SUMIF('Daily Log'!#REF!,$B230,'Daily Log'!#REF!),0)","v":0},{"$f":"IFERROR($E230*SUMIF('Daily Log'!#REF!,$B230,'Daily Log'!#REF!),0)","v":0},{"$f":"IFERROR($E230*SUMIF('Daily Log'!#REF!,$B230,'Daily Log'!#REF!),0)","v":0},{"$f":"IFERROR($E230*SUMIF('Daily Log'!#REF!,$B230,'Daily Log'!#REF!),0)","v":0},{"$f":"IFERROR($E230*SUMIF('Daily Log'!#REF!,$B230,'Daily Log'!#REF!),0)","v":0}]
[null,"CH05 SODA JUG",null,"DRINKS (IN JUG)",1,0,{"$f":"IFERROR($E231*SUMIF('Daily Log'!$B$18:$B$1017,$B231,'Daily Log'!$C$18:$C$1017),0)","v":0},{"$f":"IFERROR($E231*SUMIF('Daily Log'!$E$18:$E$1017,$B231,'Daily Log'!$F$18:$F$1017),0)","v":0},{"$f":"IFERROR($E231*SUMIF('Daily Log'!$H$18:$H$1017,$B231,'Daily Log'!$I$18:$I$1017),0)","v":0},{"$f":"IFERROR($E231*SUMIF('Daily Log'!$K$18:$K$1017,$B231,'Daily Log'!$L$18:$L$1017),0)","v":0},{"$f":"IFERROR($E231*SUMIF('Daily Log'!$N$18:$N$1017,$B231,'Daily Log'!$O$18:$O$1017),0)","v":0},{"$f":"IFERROR($E231*SUMIF('Daily Log'!#REF!,$B231,'Daily Log'!#REF!),0)","v":0},{"$f":"IFERROR($E231*SUMIF('Daily Log'!#REF!,$B231,'Daily Log'!#REF!),0)","v":0},{"$f":"IFERROR($E231*SUMIF('Daily Log'!#REF!,$B231,'Daily Log'!#REF!),0)","v":0},{"$f":"IFERROR($E231*SUMIF('Daily Log'!#REF!,$B231,'Daily Log'!#REF!),0)","v":0},{"$f":"IFERROR($E231*SUMIF('Daily Log'!#REF!,$B231,'Daily Log'!#REF!),0)","v":0},{"$f":"IFERROR($E231*SUMIF('Daily Log'!#REF!,$B231,'Daily Log'!#REF!),0)","v":0},{"$f":"IFERROR($E231*SUMIF('Daily Log'!#REF!,$B231,'Daily Log'!#REF!),0)","v":0},{"$f":"IFERROR($E231*SUMIF('Daily Log'!#REF!,$B231,'Daily Log'!#REF!),0)","v":0},{"$f":"IFERROR($E231*SUMIF('Daily Log'!#REF!,$B231,'Daily Log'!#REF!),0)","v":0},{"$f":"IFERROR($E231*SUMIF('Daily Log'!#REF!,$B231,'Daily Log'!#REF!),0)","v":0},{"$f":"IFERROR($E231*SUMIF('Daily Log'!#REF!,$B231,'Daily Log'!#REF!),0)","v":0},{"$f":"IFERROR($E231*SUMIF('Daily Log'!#REF!,$B231,'Daily Log'!#REF!),0)","v":0},{"$f":"IFERROR($E231*SUMIF('Daily Log'!#REF!,$B231,'Daily Log'!#REF!),0)","v":0},{"$f":"IFERROR($E231*SUMIF('Daily Log'!#REF!,$B231,'Daily Log'!#REF!),0)","v":0},{"$f":"IFERROR($E231*SUMIF('Daily Log'!#REF!,$B231,'Daily Log'!#REF!),0)","v":0},{"$f":"IFERROR($E231*SUMIF('Daily Log'!#REF!,$B231,'Daily Log'!#REF!),0)","v":0},{"$f":"IFERROR($E231*SUMIF('Daily Log'!#REF!,$B231,'Daily Log'!#REF!),0)","v":0},{"$f":"IFERROR($E231*SUMIF('Daily Log'!#REF!,$B231,'Daily Log'!#REF!),0)","v":0},{"$f":"IFERROR($E231*SUMIF('Daily Log'!#REF!,$B231,'Daily Log'!#REF!),0)","v":0},{"$f":"IFERROR($E231*SUMIF('Daily Log'!#REF!,$B231,'Daily Log'!#REF!),0)","v":0},{"$f":"IFERROR($E231*SUMIF('Daily Log'!#REF!,$B231,'Daily Log'!#REF!),0)","v":0},{"$f":"IFERROR($E231*SUMIF('Daily Log'!#REF!,$B231,'Daily Log'!#REF!),0)","v":0},{"$f":"IFERROR($E231*SUMIF('Daily Log'!#REF!,$B231,'Daily Log'!#REF!),0)","v":0},{"$f":"IFERROR($E231*SUMIF('Daily Log'!#REF!,$B231,'Daily Log'!#REF!),0)","v":0},{"$f":"IFERROR($E231*SUMIF('Daily Log'!#REF!,$B231,'Daily Log'!#REF!),0)","v":0},{"$f":"IFERROR($E231*SUMIF('Daily Log'!#REF!,$B231,'Daily Log'!#REF!),0)","v":0}]
[null,"CH06 WATER JUG",null,"DRINKS (IN JUG)",1,0,{"$f":"IFERROR($E232*SUMIF('Daily Log'!$B$18:$B$1017,$B232,'Daily Log'!$C$18:$C$1017),0)","v":0},{"$f":"IFERROR($E232*SUMIF('Daily Log'!$E$18:$E$1017,$B232,'Daily Log'!$F$18:$F$1017),0)","v":0},{"$f":"IFERROR($E232*SUMIF('Daily Log'!$H$18:$H$1017,$B232,'Daily Log'!$I$18:$I$1017),0)","v":0},{"$f":"IFERROR($E232*SUMIF('Daily Log'!$K$18:$K$1017,$B232,'Daily Log'!$L$18:$L$1017),0)","v":0},{"$f":"IFERROR($E232*SUMIF('Daily Log'!$N$18:$N$1017,$B232,'Daily Log'!$O$18:$O$1017),0)","v":0},{"$f":"IFERROR($E232*SUMIF('Daily Log'!#REF!,$B232,'Daily Log'!#REF!),0)","v":0},{"$f":"IFERROR($E232*SUMIF('Daily Log'!#REF!,$B232,'Daily Log'!#REF!),0)","v":0},{"$f":"IFERROR($E232*SUMIF('Daily Log'!#REF!,$B232,'Daily Log'!#REF!),0)","v":0},{"$f":"IFERROR($E232*SUMIF('Daily Log'!#REF!,$B232,'Daily Log'!#REF!),0)","v":0},{"$f":"IFERROR($E232*SUMIF('Daily Log'!#REF!,$B232,'Daily Log'!#REF!),0)","v":0},{"$f":"IFERROR($E232*SUMIF('Daily Log'!#REF!,$B232,'Daily Log'!#REF!),0)","v":0},{"$f":"IFERROR($E232*SUMIF('Daily Log'!#REF!,$B232,'Daily Log'!#REF!),0)","v":0},{"$f":"IFERROR($E232*SUMIF('Daily Log'!#REF!,$B232,'Daily Log'!#REF!),0)","v":0},{"$f":"IFERROR($E232*SUMIF('Daily Log'!#REF!,$B232,'Daily Log'!#REF!),0)","v":0},{"$f":"IFERROR($E232*SUMIF('Daily Log'!#REF!,$B232,'Daily Log'!#REF!),0)","v":0},{"$f":"IFERROR($E232*SUMIF('Daily Log'!#REF!,$B232,'Daily Log'!#REF!),0)","v":0},{"$f":"IFERROR($E232*SUMIF('Daily Log'!#REF!,$B232,'Daily Log'!#REF!),0)","v":0},{"$f":"IFERROR($E232*SUMIF('Daily Log'!#REF!,$B232,'Daily Log'!#REF!),0)","v":0},{"$f":"IFERROR($E232*SUMIF('Daily Log'!#REF!,$B232,'Daily Log'!#REF!),0)","v":0},{"$f":"IFERROR($E232*SUMIF('Daily Log'!#REF!,$B232,'Daily Log'!#REF!),0)","v":0},{"$f":"IFERROR($E232*SUMIF('Daily Log'!#REF!,$B232,'Daily Log'!#REF!),0)","v":0},{"$f":"IFERROR($E232*SUMIF('Daily Log'!#REF!,$B232,'Daily Log'!#REF!),0)","v":0},{"$f":"IFERROR($E232*SUMIF('Daily Log'!#REF!,$B232,'Daily Log'!#REF!),0)","v":0},{"$f":"IFERROR($E232*SUMIF('Daily Log'!#REF!,$B232,'Daily Log'!#REF!),0)","v":0},{"$f":"IFERROR($E232*SUMIF('Daily Log'!#REF!,$B232,'Daily Log'!#REF!),0)","v":0},{"$f":"IFERROR($E232*SUMIF('Daily Log'!#REF!,$B232,'Daily Log'!#REF!),0)","v":0},{"$f":"IFERROR($E232*SUMIF('Daily Log'!#REF!,$B232,'Daily Log'!#REF!),0)","v":0},{"$f":"IFERROR($E232*SUMIF('Daily Log'!#REF!,$B232,'Daily Log'!#REF!),0)","v":0},{"$f":"IFERROR($E232*SUMIF('Daily Log'!#REF!,$B232,'Daily Log'!#REF!),0)","v":0},{"$f":"IFERROR($E232*SUMIF('Daily Log'!#REF!,$B232,'Daily Log'!#REF!),0)","v":0},{"$f":"IFERROR($E232*SUMIF('Daily Log'!#REF!,$B232,'Daily Log'!#REF!),0)","v":0}]
[null,"CI01 GRAPE J",null,"FFD-COLD BEVERAGE",1,90,{"$f":"IFERROR($E233*SUMIF('Daily Log'!$B$18:$B$1017,$B233,'Daily Log'!$C$18:$C$1017),0)","v":28},{"$f":"IFERROR($E233*SUMIF('Daily Log'!$E$18:$E$1017,$B233,'Daily Log'!$F$18:$F$1017),0)","v":22},{"$f":"IFERROR($E233*SUMIF('Daily Log'!$H$18:$H$1017,$B233,'Daily Log'!$I$18:$I$1017),0)","v":14},{"$f":"IFERROR($E233*SUMIF('Daily Log'!$K$18:$K$1017,$B233,'Daily Log'!$L$18:$L$1017),0)","v":23},{"$f":"IFERROR($E233*SUMIF('Daily Log'!$N$18:$N$1017,$B233,'Daily Log'!$O$18:$O$1017),0)","v":3},{"$f":"IFERROR($E233*SUMIF('Daily Log'!#REF!,$B233,'Daily Log'!#REF!),0)","v":0},{"$f":"IFERROR($E233*SUMIF('Daily Log'!#REF!,$B233,'Daily Log'!#REF!),0)","v":0},{"$f":"IFERROR($E233*SUMIF('Daily Log'!#REF!,$B233,'Daily Log'!#REF!),0)","v":0},{"$f":"IFERROR($E233*SUMIF('Daily Log'!#REF!,$B233,'Daily Log'!#REF!),0)","v":0},{"$f":"IFERROR($E233*SUMIF('Daily Log'!#REF!,$B233,'Daily Log'!#REF!),0)","v":0},{"$f":"IFERROR($E233*SUMIF('Daily Log'!#REF!,$B233,'Daily Log'!#REF!),0)","v":0},{"$f":"IFERROR($E233*SUMIF('Daily Log'!#REF!,$B233,'Daily Log'!#REF!),0)","v":0},{"$f":"IFERROR($E233*SUMIF('Daily Log'!#REF!,$B233,'Daily Log'!#REF!),0)","v":0},{"$f":"IFERROR($E233*SUMIF('Daily Log'!#REF!,$B233,'Daily Log'!#REF!),0)","v":0},{"$f":"IFERROR($E233*SUMIF('Daily Log'!#REF!,$B233,'Daily Log'!#REF!),0)","v":0},{"$f":"IFERROR($E233*SUMIF('Daily Log'!#REF!,$B233,'Daily Log'!#REF!),0)","v":0},{"$f":"IFERROR($E233*SUMIF('Daily Log'!#REF!,$B233,'Daily Log'!#REF!),0)","v":0},{"$f":"IFERROR($E233*SUMIF('Daily Log'!#REF!,$B233,'Daily Log'!#REF!),0)","v":0},{"$f":"IFERROR($E233*SUMIF('Daily Log'!#REF!,$B233,'Daily Log'!#REF!),0)","v":0},{"$f":"IFERROR($E233*SUMIF('Daily Log'!#REF!,$B233,'Daily Log'!#REF!),0)","v":0},{"$f":"IFERROR($E233*SUMIF('Daily Log'!#REF!,$B233,'Daily Log'!#REF!),0)","v":0},{"$f":"IFERROR($E233*SUMIF('Daily Log'!#REF!,$B233,'Daily Log'!#REF!),0)","v":0},{"$f":"IFERROR($E233*SUMIF('Daily Log'!#REF!,$B233,'Daily Log'!#REF!),0)","v":0},{"$f":"IFERROR($E233*SUMIF('Daily Log'!#REF!,$B233,'Daily Log'!#REF!),0)","v":0},{"$f":"IFERROR($E233*SUMIF('Daily Log'!#REF!,$B233,'Daily Log'!#REF!),0)","v":0},{"$f":"IFERROR($E233*SUMIF('Daily Log'!#REF!,$B233,'Daily Log'!#REF!),0)","v":0},{"$f":"IFERROR($E233*SUMIF('Daily Log'!#REF!,$B233,'Daily Log'!#REF!),0)","v":0},{"$f":"IFERROR($E233*SUMIF('Daily Log'!#REF!,$B233,'Daily Log'!#REF!),0)","v":0},{"$f":"IFERROR($E233*SUMIF('Daily Log'!#REF!,$B233,'Daily Log'!#REF!),0)","v":0},{"$f":"IFERROR($E233*SUMIF('Daily Log'!#REF!,$B233,'Daily Log'!#REF!),0)","v":0},{"$f":"IFERROR($E233*SUMIF('Daily Log'!#REF!,$B233,'Daily Log'!#REF!),0)","v":0}]
[null,"CI02 APPLE J",null,"FFD-COLD BEVERAGE",1,119,{"$f":"IFERROR($E234*SUMIF('Daily Log'!$B$18:$B$1017,$B234,'Daily Log'!$C$18:$C$1017),0)","v":29},{"$f":"IFERROR($E234*SUMIF('Daily Log'!$E$18:$E$1017,$B234,'Daily Log'!$F$18:$F$1017),0)","v":21},{"$f":"IFERROR($E234*SUMIF('Daily Log'!$H$18:$H$1017,$B234,'Daily Log'!$I$18:$I$1017),0)","v":26},{"$f":"IFERROR($E234*SUMIF('Daily Log'!$K$18:$K$1017,$B234,'Daily Log'!$L$18:$L$1017),0)","v":34},{"$f":"IFERROR($E234*SUMIF('Daily Log'!$N$18:$N$1017,$B234,'Daily Log'!$O$18:$O$1017),0)","v":9},{"$f":"IFERROR($E234*SUMIF('Daily Log'!#REF!,$B234,'Daily Log'!#REF!),0)","v":0},{"$f":"IFERROR($E234*SUMIF('Daily Log'!#REF!,$B234,'Daily Log'!#REF!),0)","v":0},{"$f":"IFERROR($E234*SUMIF('Daily Log'!#REF!,$B234,'Daily Log'!#REF!),0)","v":0},{"$f":"IFERROR($E234*SUMIF('Daily Log'!#REF!,$B234,'Daily Log'!#REF!),0)","v":0},{"$f":"IFERROR($E234*SUMIF('Daily Log'!#REF!,$B234,'Daily Log'!#REF!),0)","v":0},{"$f":"IFERROR($E234*SUMIF('Daily Log'!#REF!,$B234,'Daily Log'!#REF!),0)","v":0},{"$f":"IFERROR($E234*SUMIF('Daily Log'!#REF!,$B234,'Daily Log'!#REF!),0)","v":0},{"$f":"IFERROR($E234*SUMIF('Daily Log'!#REF!,$B234,'Daily Log'!#REF!),0)","v":0},{"$f":"IFERROR($E234*SUMIF('Daily Log'!#REF!,$B234,'Daily Log'!#REF!),0)","v":0},{"$f":"IFERROR($E234*SUMIF('Daily Log'!#REF!,$B234,'Daily Log'!#REF!),0)","v":0},{"$f":"IFERROR($E234*SUMIF('Daily Log'!#REF!,$B234,'Daily Log'!#REF!),0)","v":0},{"$f":"IFERROR($E234*SUMIF('Daily Log'!#REF!,$B234,'Daily Log'!#REF!),0)","v":0},{"$f":"IFERROR($E234*SUMIF('Daily Log'!#REF!,$B234,'Daily Log'!#REF!),0)","v":0},{"$f":"IFERROR($E234*SUMIF('Daily Log'!#REF!,$B234,'Daily Log'!#REF!),0)","v":0},{"$f":"IFERROR($E234*SUMIF('Daily Log'!#REF!,$B234,'Daily Log'!#REF!),0)","v":0},{"$f":"IFERROR($E234*SUMIF('Daily Log'!#REF!,$B234,'Daily Log'!#REF!),0)","v":0},{"$f":"IFERROR($E234*SUMIF('Daily Log'!#REF!,$B234,'Daily Log'!#REF!),0)","v":0},{"$f":"IFERROR($E234*SUMIF('Daily Log'!#REF!,$B234,'Daily Log'!#REF!),0)","v":0},{"$f":"IFERROR($E234*SUMIF('Daily Log'!#REF!,$B234,'Daily Log'!#REF!),0)","v":0},{"$f":"IFERROR($E234*SUMIF('Daily Log'!#REF!,$B234,'Daily Log'!#REF!),0)","v":0},{"$f":"IFERROR($E234*SUMIF('Daily Log'!#REF!,$B234,'Daily Log'!#REF!),0)","v":0},{"$f":"IFERROR($E234*SUMIF('Daily Log'!#REF!,$B234,'Daily Log'!#REF!),0)","v":0},{"$f":"IFERROR($E234*SUMIF('Daily Log'!#REF!,$B234,'Daily Log'!#REF!),0)","v":0},{"$f":"IFERROR($E234*SUMIF('Daily Log'!#REF!,$B234,'Daily Log'!#REF!),0)","v":0},{"$f":"IFERROR($E234*SUMIF('Daily Log'!#REF!,$B234,'Daily Log'!#REF!),0)","v":0},{"$f":"IFERROR($E234*SUMIF('Daily Log'!#REF!,$B234,'Daily Log'!#REF!),0)","v":0}]
[null,"CI03 KIWI J",null,"FFD-COLD BEVERAGE",1,0,{"$f":"IFERROR($E235*SUMIF('Daily Log'!$B$18:$B$1017,$B235,'Daily Log'!$C$18:$C$1017),0)","v":0},{"$f":"IFERROR($E235*SUMIF('Daily Log'!$E$18:$E$1017,$B235,'Daily Log'!$F$18:$F$1017),0)","v":0},{"$f":"IFERROR($E235*SUMIF('Daily Log'!$H$18:$H$1017,$B235,'Daily Log'!$I$18:$I$1017),0)","v":0},{"$f":"IFERROR($E235*SUMIF('Daily Log'!$K$18:$K$1017,$B235,'Daily Log'!$L$18:$L$1017),0)","v":0},{"$f":"IFERROR($E235*SUMIF('Daily Log'!$N$18:$N$1017,$B235,'Daily Log'!$O$18:$O$1017),0)","v":0},{"$f":"IFERROR($E235*SUMIF('Daily Log'!#REF!,$B235,'Daily Log'!#REF!),0)","v":0},{"$f":"IFERROR($E235*SUMIF('Daily Log'!#REF!,$B235,'Daily Log'!#REF!),0)","v":0},{"$f":"IFERROR($E235*SUMIF('Daily Log'!#REF!,$B235,'Daily Log'!#REF!),0)","v":0},{"$f":"IFERROR($E235*SUMIF('Daily Log'!#REF!,$B235,'Daily Log'!#REF!),0)","v":0},{"$f":"IFERROR($E235*SUMIF('Daily Log'!#REF!,$B235,'Daily Log'!#REF!),0)","v":0},{"$f":"IFERROR($E235*SUMIF('Daily Log'!#REF!,$B235,'Daily Log'!#REF!),0)","v":0},{"$f":"IFERROR($E235*SUMIF('Daily Log'!#REF!,$B235,'Daily Log'!#REF!),0)","v":0},{"$f":"IFERROR($E235*SUMIF('Daily Log'!#REF!,$B235,'Daily Log'!#REF!),0)","v":0},{"$f":"IFERROR($E235*SUMIF('Daily Log'!#REF!,$B235,'Daily Log'!#REF!),0)","v":0},{"$f":"IFERROR($E235*SUMIF('Daily Log'!#REF!,$B235,'Daily Log'!#REF!),0)","v":0},{"$f":"IFERROR($E235*SUMIF('Daily Log'!#REF!,$B235,'Daily Log'!#REF!),0)","v":0},{"$f":"IFERROR($E235*SUMIF('Daily Log'!#REF!,$B235,'Daily Log'!#REF!),0)","v":0},{"$f":"IFERROR($E235*SUMIF('Daily Log'!#REF!,$B235,'Daily Log'!#REF!),0)","v":0},{"$f":"IFERROR($E235*SUMIF('Daily Log'!#REF!,$B235,'Daily Log'!#REF!),0)","v":0},{"$f":"IFERROR($E235*SUMIF('Daily Log'!#REF!,$B235,'Daily Log'!#REF!),0)","v":0},{"$f":"IFERROR($E235*SUMIF('Daily Log'!#REF!,$B235,'Daily Log'!#REF!),0)","v":0},{"$f":"IFERROR($E235*SUMIF('Daily Log'!#REF!,$B235,'Daily Log'!#REF!),0)","v":0},{"$f":"IFERROR($E235*SUMIF('Daily Log'!#REF!,$B235,'Daily Log'!#REF!),0)","v":0},{"$f":"IFERROR($E235*SUMIF('Daily Log'!#REF!,$B235,'Daily Log'!#REF!),0)","v":0},{"$f":"IFERROR($E235*SUMIF('Daily Log'!#REF!,$B235,'Daily Log'!#REF!),0)","v":0},{"$f":"IFERROR($E235*SUMIF('Daily Log'!#REF!,$B235,'Daily Log'!#REF!),0)","v":0},{"$f":"IFERROR($E235*SUMIF('Daily Log'!#REF!,$B235,'Daily Log'!#REF!),0)","v":0},{"$f":"IFERROR($E235*SUMIF('Daily Log'!#REF!,$B235,'Daily Log'!#REF!),0)","v":0},{"$f":"IFERROR($E235*SUMIF('Daily Log'!#REF!,$B235,'Daily Log'!#REF!),0)","v":0},{"$f":"IFERROR($E235*SUMIF('Daily Log'!#REF!,$B235,'Daily Log'!#REF!),0)","v":0},{"$f":"IFERROR($E235*SUMIF('Daily Log'!#REF!,$B235,'Daily Log'!#REF!),0)","v":0}]
[null,"CI04 MANGO J",null,"FFD-COLD BEVERAGE",1,124,{"$f":"IFERROR($E236*SUMIF('Daily Log'!$B$18:$B$1017,$B236,'Daily Log'!$C$18:$C$1017),0)","v":29},{"$f":"IFERROR($E236*SUMIF('Daily Log'!$E$18:$E$1017,$B236,'Daily Log'!$F$18:$F$1017),0)","v":27},{"$f":"IFERROR($E236*SUMIF('Daily Log'!$H$18:$H$1017,$B236,'Daily Log'!$I$18:$I$1017),0)","v":29},{"$f":"IFERROR($E236*SUMIF('Daily Log'!$K$18:$K$1017,$B236,'Daily Log'!$L$18:$L$1017),0)","v":26},{"$f":"IFERROR($E236*SUMIF('Daily Log'!$N$18:$N$1017,$B236,'Daily Log'!$O$18:$O$1017),0)","v":13},{"$f":"IFERROR($E236*SUMIF('Daily Log'!#REF!,$B236,'Daily Log'!#REF!),0)","v":0},{"$f":"IFERROR($E236*SUMIF('Daily Log'!#REF!,$B236,'Daily Log'!#REF!),0)","v":0},{"$f":"IFERROR($E236*SUMIF('Daily Log'!#REF!,$B236,'Daily Log'!#REF!),0)","v":0},{"$f":"IFERROR($E236*SUMIF('Daily Log'!#REF!,$B236,'Daily Log'!#REF!),0)","v":0},{"$f":"IFERROR($E236*SUMIF('Daily Log'!#REF!,$B236,'Daily Log'!#REF!),0)","v":0},{"$f":"IFERROR($E236*SUMIF('Daily Log'!#REF!,$B236,'Daily Log'!#REF!),0)","v":0},{"$f":"IFERROR($E236*SUMIF('Daily Log'!#REF!,$B236,'Daily Log'!#REF!),0)","v":0},{"$f":"IFERROR($E236*SUMIF('Daily Log'!#REF!,$B236,'Daily Log'!#REF!),0)","v":0},{"$f":"IFERROR($E236*SUMIF('Daily Log'!#REF!,$B236,'Daily Log'!#REF!),0)","v":0},{"$f":"IFERROR($E236*SUMIF('Daily Log'!#REF!,$B236,'Daily Log'!#REF!),0)","v":0},{"$f":"IFERROR($E236*SUMIF('Daily Log'!#REF!,$B236,'Daily Log'!#REF!),0)","v":0},{"$f":"IFERROR($E236*SUMIF('Daily Log'!#REF!,$B236,'Daily Log'!#REF!),0)","v":0},{"$f":"IFERROR($E236*SUMIF('Daily Log'!#REF!,$B236,'Daily Log'!#REF!),0)","v":0},{"$f":"IFERROR($E236*SUMIF('Daily Log'!#REF!,$B236,'Daily Log'!#REF!),0)","v":0},{"$f":"IFERROR($E236*SUMIF('Daily Log'!#REF!,$B236,'Daily Log'!#REF!),0)","v":0},{"$f":"IFERROR($E236*SUMIF('Daily Log'!#REF!,$B236,'Daily Log'!#REF!),0)","v":0},{"$f":"IFERROR($E236*SUMIF('Daily Log'!#REF!,$B236,'Daily Log'!#REF!),0)","v":0},{"$f":"IFERROR($E236*SUMIF('Daily Log'!#REF!,$B236,'Daily Log'!#REF!),0)","v":0},{"$f":"IFERROR($E236*SUMIF('Daily Log'!#REF!,$B236,'Daily Log'!#REF!),0)","v":0},{"$f":"IFERROR($E236*SUMIF('Daily Log'!#REF!,$B236,'Daily Log'!#REF!),0)","v":0},{"$f":"IFERROR($E236*SUMIF('Daily Log'!#REF!,$B236,'Daily Log'!#REF!),0)","v":0},{"$f":"IFERROR($E236*SUMIF('Daily Log'!#REF!,$B236,'Daily Log'!#REF!),0)","v":0},{"$f":"IFERROR($E236*SUMIF('Daily Log'!#REF!,$B236,'Daily Log'!#REF!),0)","v":0},{"$f":"IFERROR($E236*SUMIF('Daily Log'!#REF!,$B236,'Daily Log'!#REF!),0)","v":0},{"$f":"IFERROR($E236*SUMIF('Daily Log'!#REF!,$B236,'Daily Log'!#REF!),0)","v":0},{"$f":"IFERROR($E236*SUMIF('Daily Log'!#REF!,$B236,'Daily Log'!#REF!),0)","v":0}]
[null,"CI05 PASSION J",null,"FFD-COLD BEVERAGE",1,181,{"$f":"IFERROR($E237*SUMIF('Daily Log'!$B$18:$B$1017,$B237,'Daily Log'!$C$18:$C$1017),0)","v":40},{"$f":"IFERROR($E237*SUMIF('Daily Log'!$E$18:$E$1017,$B237,'Daily Log'!$F$18:$F$1017),0)","v":42},{"$f":"IFERROR($E237*SUMIF('Daily Log'!$H$18:$H$1017,$B237,'Daily Log'!$I$18:$I$1017),0)","v":47},{"$f":"IFERROR($E237*SUMIF('Daily Log'!$K$18:$K$1017,$B237,'Daily Log'!$L$18:$L$1017),0)","v":31},{"$f":"IFERROR($E237*SUMIF('Daily Log'!$N$18:$N$1017,$B237,'Daily Log'!$O$18:$O$1017),0)","v":21},{"$f":"IFERROR($E237*SUMIF('Daily Log'!#REF!,$B237,'Daily Log'!#REF!),0)","v":0},{"$f":"IFERROR($E237*SUMIF('Daily Log'!#REF!,$B237,'Daily Log'!#REF!),0)","v":0},{"$f":"IFERROR($E237*SUMIF('Daily Log'!#REF!,$B237,'Daily Log'!#REF!),0)","v":0},{"$f":"IFERROR($E237*SUMIF('Daily Log'!#REF!,$B237,'Daily Log'!#REF!),0)","v":0},{"$f":"IFERROR($E237*SUMIF('Daily Log'!#REF!,$B237,'Daily Log'!#REF!),0)","v":0},{"$f":"IFERROR($E237*SUMIF('Daily Log'!#REF!,$B237,'Daily Log'!#REF!),0)","v":0},{"$f":"IFERROR($E237*SUMIF('Daily Log'!#REF!,$B237,'Daily Log'!#REF!),0)","v":0},{"$f":"IFERROR($E237*SUMIF('Daily Log'!#REF!,$B237,'Daily Log'!#REF!),0)","v":0},{"$f":"IFERROR($E237*SUMIF('Daily Log'!#REF!,$B237,'Daily Log'!#REF!),0)","v":0},{"$f":"IFERROR($E237*SUMIF('Daily Log'!#REF!,$B237,'Daily Log'!#REF!),0)","v":0},{"$f":"IFERROR($E237*SUMIF('Daily Log'!#REF!,$B237,'Daily Log'!#REF!),0)","v":0},{"$f":"IFERROR($E237*SUMIF('Daily Log'!#REF!,$B237,'Daily Log'!#REF!),0)","v":0},{"$f":"IFERROR($E237*SUMIF('Daily Log'!#REF!,$B237,'Daily Log'!#REF!),0)","v":0},{"$f":"IFERROR($E237*SUMIF('Daily Log'!#REF!,$B237,'Daily Log'!#REF!),0)","v":0},{"$f":"IFERROR($E237*SUMIF('Daily Log'!#REF!,$B237,'Daily Log'!#REF!),0)","v":0},{"$f":"IFERROR($E237*SUMIF('Daily Log'!#REF!,$B237,'Daily Log'!#REF!),0)","v":0},{"$f":"IFERROR($E237*SUMIF('Daily Log'!#REF!,$B237,'Daily Log'!#REF!),0)","v":0},{"$f":"IFERROR($E237*SUMIF('Daily Log'!#REF!,$B237,'Daily Log'!#REF!),0)","v":0},{"$f":"IFERROR($E237*SUMIF('Daily Log'!#REF!,$B237,'Daily Log'!#REF!),0)","v":0},{"$f":"IFERROR($E237*SUMIF('Daily Log'!#REF!,$B237,'Daily Log'!#REF!),0)","v":0},{"$f":"IFERROR($E237*SUMIF('Daily Log'!#REF!,$B237,'Daily Log'!#REF!),0)","v":0},{"$f":"IFERROR($E237*SUMIF('Daily Log'!#REF!,$B237,'Daily Log'!#REF!),0)","v":0},{"$f":"IFERROR($E237*SUMIF('Daily Log'!#REF!,$B237,'Daily Log'!#REF!),0)","v":0},{"$f":"IFERROR($E237*SUMIF('Daily Log'!#REF!,$B237,'Daily Log'!#REF!),0)","v":0},{"$f":"IFERROR($E237*SUMIF('Daily Log'!#REF!,$B237,'Daily Log'!#REF!),0)","v":0},{"$f":"IFERROR($E237*SUMIF('Daily Log'!#REF!,$B237,'Daily Log'!#REF!),0)","v":0}]
[null,"CI06 RIBENA J",null,"FFD-COLD BEVERAGE",1,301,{"$f":"IFERROR($E238*SUMIF('Daily Log'!$B$18:$B$1017,$B238,'Daily Log'!$C$18:$C$1017),0)","v":68},{"$f":"IFERROR($E238*SUMIF('Daily Log'!$E$18:$E$1017,$B238,'Daily Log'!$F$18:$F$1017),0)","v":62},{"$f":"IFERROR($E238*SUMIF('Daily Log'!$H$18:$H$1017,$B238,'Daily Log'!$I$18:$I$1017),0)","v":71},{"$f":"IFERROR($E238*SUMIF('Daily Log'!$K$18:$K$1017,$B238,'Daily Log'!$L$18:$L$1017),0)","v":67},{"$f":"IFERROR($E238*SUMIF('Daily Log'!$N$18:$N$1017,$B238,'Daily Log'!$O$18:$O$1017),0)","v":33},{"$f":"IFERROR($E238*SUMIF('Daily Log'!#REF!,$B238,'Daily Log'!#REF!),0)","v":0},{"$f":"IFERROR($E238*SUMIF('Daily Log'!#REF!,$B238,'Daily Log'!#REF!),0)","v":0},{"$f":"IFERROR($E238*SUMIF('Daily Log'!#REF!,$B238,'Daily Log'!#REF!),0)","v":0},{"$f":"IFERROR($E238*SUMIF('Daily Log'!#REF!,$B238,'Daily Log'!#REF!),0)","v":0},{"$f":"IFERROR($E238*SUMIF('Daily Log'!#REF!,$B238,'Daily Log'!#REF!),0)","v":0},{"$f":"IFERROR($E238*SUMIF('Daily Log'!#REF!,$B238,'Daily Log'!#REF!),0)","v":0},{"$f":"IFERROR($E238*SUMIF('Daily Log'!#REF!,$B238,'Daily Log'!#REF!),0)","v":0},{"$f":"IFERROR($E238*SUMIF('Daily Log'!#REF!,$B238,'Daily Log'!#REF!),0)","v":0},{"$f":"IFERROR($E238*SUMIF('Daily Log'!#REF!,$B238,'Daily Log'!#REF!),0)","v":0},{"$f":"IFERROR($E238*SUMIF('Daily Log'!#REF!,$B238,'Daily Log'!#REF!),0)","v":0},{"$f":"IFERROR($E238*SUMIF('Daily Log'!#REF!,$B238,'Daily Log'!#REF!),0)","v":0},{"$f":"IFERROR($E238*SUMIF('Daily Log'!#REF!,$B238,'Daily Log'!#REF!),0)","v":0},{"$f":"IFERROR($E238*SUMIF('Daily Log'!#REF!,$B238,'Daily Log'!#REF!),0)","v":0},{"$f":"IFERROR($E238*SUMIF('Daily Log'!#REF!,$B238,'Daily Log'!#REF!),0)","v":0},{"$f":"IFERROR($E238*SUMIF('Daily Log'!#REF!,$B238,'Daily Log'!#REF!),0)","v":0},{"$f":"IFERROR($E238*SUMIF('Daily Log'!#REF!,$B238,'Daily Log'!#REF!),0)","v":0},{"$f":"IFERROR($E238*SUMIF('Daily Log'!#REF!,$B238,'Daily Log'!#REF!),0)","v":0},{"$f":"IFERROR($E238*SUMIF('Daily Log'!#REF!,$B238,'Daily Log'!#REF!),0)","v":0},{"$f":"IFERROR($E238*SUMIF('Daily Log'!#REF!,$B238,'Daily Log'!#REF!),0)","v":0},{"$f":"IFERROR($E238*SUMIF('Daily Log'!#REF!,$B238,'Daily Log'!#REF!),0)","v":0},{"$f":"IFERROR($E238*SUMIF('Daily Log'!#REF!,$B238,'Daily Log'!#REF!),0)","v":0},{"$f":"IFERROR($E238*SUMIF('Daily Log'!#REF!,$B238,'Daily Log'!#REF!),0)","v":0},{"$f":"IFERROR($E238*SUMIF('Daily Log'!#REF!,$B238,'Daily Log'!#REF!),0)","v":0},{"$f":"IFERROR($E238*SUMIF('Daily Log'!#REF!,$B238,'Daily Log'!#REF!),0)","v":0},{"$f":"IFERROR($E238*SUMIF('Daily Log'!#REF!,$B238,'Daily Log'!#REF!),0)","v":0},{"$f":"IFERROR($E238*SUMIF('Daily Log'!#REF!,$B238,'Daily Log'!#REF!),0)","v":0}]
[null,"CJ01 GRAPE SO",null,"FFD-COLD BEVERAGE",1,2,{"$f":"IFERROR($E239*SUMIF('Daily Log'!$B$18:$B$1017,$B239,'Daily Log'!$C$18:$C$1017),0)","v":1},{"$f":"IFERROR($E239*SUMIF('Daily Log'!$E$18:$E$1017,$B239,'Daily Log'!$F$18:$F$1017),0)","v":0},{"$f":"IFERROR($E239*SUMIF('Daily Log'!$H$18:$H$1017,$B239,'Daily Log'!$I$18:$I$1017),0)","v":0},{"$f":"IFERROR($E239*SUMIF('Daily Log'!$K$18:$K$1017,$B239,'Daily Log'!$L$18:$L$1017),0)","v":1},{"$f":"IFERROR($E239*SUMIF('Daily Log'!$N$18:$N$1017,$B239,'Daily Log'!$O$18:$O$1017),0)","v":0},{"$f":"IFERROR($E239*SUMIF('Daily Log'!#REF!,$B239,'Daily Log'!#REF!),0)","v":0},{"$f":"IFERROR($E239*SUMIF('Daily Log'!#REF!,$B239,'Daily Log'!#REF!),0)","v":0},{"$f":"IFERROR($E239*SUMIF('Daily Log'!#REF!,$B239,'Daily Log'!#REF!),0)","v":0},{"$f":"IFERROR($E239*SUMIF('Daily Log'!#REF!,$B239,'Daily Log'!#REF!),0)","v":0},{"$f":"IFERROR($E239*SUMIF('Daily Log'!#REF!,$B239,'Daily Log'!#REF!),0)","v":0},{"$f":"IFERROR($E239*SUMIF('Daily Log'!#REF!,$B239,'Daily Log'!#REF!),0)","v":0},{"$f":"IFERROR($E239*SUMIF('Daily Log'!#REF!,$B239,'Daily Log'!#REF!),0)","v":0},{"$f":"IFERROR($E239*SUMIF('Daily Log'!#REF!,$B239,'Daily Log'!#REF!),0)","v":0},{"$f":"IFERROR($E239*SUMIF('Daily Log'!#REF!,$B239,'Daily Log'!#REF!),0)","v":0},{"$f":"IFERROR($E239*SUMIF('Daily Log'!#REF!,$B239,'Daily Log'!#REF!),0)","v":0},{"$f":"IFERROR($E239*SUMIF('Daily Log'!#REF!,$B239,'Daily Log'!#REF!),0)","v":0},{"$f":"IFERROR($E239*SUMIF('Daily Log'!#REF!,$B239,'Daily Log'!#REF!),0)","v":0},{"$f":"IFERROR($E239*SUMIF('Daily Log'!#REF!,$B239,'Daily Log'!#REF!),0)","v":0},{"$f":"IFERROR($E239*SUMIF('Daily Log'!#REF!,$B239,'Daily Log'!#REF!),0)","v":0},{"$f":"IFERROR($E239*SUMIF('Daily Log'!#REF!,$B239,'Daily Log'!#REF!),0)","v":0},{"$f":"IFERROR($E239*SUMIF('Daily Log'!#REF!,$B239,'Daily Log'!#REF!),0)","v":0},{"$f":"IFERROR($E239*SUMIF('Daily Log'!#REF!,$B239,'Daily Log'!#REF!),0)","v":0},{"$f":"IFERROR($E239*SUMIF('Daily Log'!#REF!,$B239,'Daily Log'!#REF!),0)","v":0},{"$f":"IFERROR($E239*SUMIF('Daily Log'!#REF!,$B239,'Daily Log'!#REF!),0)","v":0},{"$f":"IFERROR($E239*SUMIF('Daily Log'!#REF!,$B239,'Daily Log'!#REF!),0)","v":0},{"$f":"IFERROR($E239*SUMIF('Daily Log'!#REF!,$B239,'Daily Log'!#REF!),0)","v":0},{"$f":"IFERROR($E239*SUMIF('Daily Log'!#REF!,$B239,'Daily Log'!#REF!),0)","v":0},{"$f":"IFERROR($E239*SUMIF('Daily Log'!#REF!,$B239,'Daily Log'!#REF!),0)","v":0},{"$f":"IFERROR($E239*SUMIF('Daily Log'!#REF!,$B239,'Daily Log'!#REF!),0)","v":0},{"$f":"IFERROR($E239*SUMIF('Daily Log'!#REF!,$B239,'Daily Log'!#REF!),0)","v":0},{"$f":"IFERROR($E239*SUMIF('Daily Log'!#REF!,$B239,'Daily Log'!#REF!),0)","v":0}]
[null,"CJ02 APPLE SO",null,"FFD-COLD BEVERAGE",1,4,{"$f":"IFERROR($E240*SUMIF('Daily Log'!$B$18:$B$1017,$B240,'Daily Log'!$C$18:$C$1017),0)","v":1},{"$f":"IFERROR($E240*SUMIF('Daily Log'!$E$18:$E$1017,$B240,'Daily Log'!$F$18:$F$1017),0)","v":0},{"$f":"IFERROR($E240*SUMIF('Daily Log'!$H$18:$H$1017,$B240,'Daily Log'!$I$18:$I$1017),0)","v":1},{"$f":"IFERROR($E240*SUMIF('Daily Log'!$K$18:$K$1017,$B240,'Daily Log'!$L$18:$L$1017),0)","v":2},{"$f":"IFERROR($E240*SUMIF('Daily Log'!$N$18:$N$1017,$B240,'Daily Log'!$O$18:$O$1017),0)","v":0},{"$f":"IFERROR($E240*SUMIF('Daily Log'!#REF!,$B240,'Daily Log'!#REF!),0)","v":0},{"$f":"IFERROR($E240*SUMIF('Daily Log'!#REF!,$B240,'Daily Log'!#REF!),0)","v":0},{"$f":"IFERROR($E240*SUMIF('Daily Log'!#REF!,$B240,'Daily Log'!#REF!),0)","v":0},{"$f":"IFERROR($E240*SUMIF('Daily Log'!#REF!,$B240,'Daily Log'!#REF!),0)","v":0},{"$f":"IFERROR($E240*SUMIF('Daily Log'!#REF!,$B240,'Daily Log'!#REF!),0)","v":0},{"$f":"IFERROR($E240*SUMIF('Daily Log'!#REF!,$B240,'Daily Log'!#REF!),0)","v":0},{"$f":"IFERROR($E240*SUMIF('Daily Log'!#REF!,$B240,'Daily Log'!#REF!),0)","v":0},{"$f":"IFERROR($E240*SUMIF('Daily Log'!#REF!,$B240,'Daily Log'!#REF!),0)","v":0},{"$f":"IFERROR($E240*SUMIF('Daily Log'!#REF!,$B240,'Daily Log'!#REF!),0)","v":0},{"$f":"IFERROR($E240*SUMIF('Daily Log'!#REF!,$B240,'Daily Log'!#REF!),0)","v":0},{"$f":"IFERROR($E240*SUMIF('Daily Log'!#REF!,$B240,'Daily Log'!#REF!),0)","v":0},{"$f":"IFERROR($E240*SUMIF('Daily Log'!#REF!,$B240,'Daily Log'!#REF!),0)","v":0},{"$f":"IFERROR($E240*SUMIF('Daily Log'!#REF!,$B240,'Daily Log'!#REF!),0)","v":0},{"$f":"IFERROR($E240*SUMIF('Daily Log'!#REF!,$B240,'Daily Log'!#REF!),0)","v":0},{"$f":"IFERROR($E240*SUMIF('Daily Log'!#REF!,$B240,'Daily Log'!#REF!),0)","v":0},{"$f":"IFERROR($E240*SUMIF('Daily Log'!#REF!,$B240,'Daily Log'!#REF!),0)","v":0},{"$f":"IFERROR($E240*SUMIF('Daily Log'!#REF!,$B240,'Daily Log'!#REF!),0)","v":0},{"$f":"IFERROR($E240*SUMIF('Daily Log'!#REF!,$B240,'Daily Log'!#REF!),0)","v":0},{"$f":"IFERROR($E240*SUMIF('Daily Log'!#REF!,$B240,'Daily Log'!#REF!),0)","v":0},{"$f":"IFERROR($E240*SUMIF('Daily Log'!#REF!,$B240,'Daily Log'!#REF!),0)","v":0},{"$f":"IFERROR($E240*SUMIF('Daily Log'!#REF!,$B240,'Daily Log'!#REF!),0)","v":0},{"$f":"IFERROR($E240*SUMIF('Daily Log'!#REF!,$B240,'Daily Log'!#REF!),0)","v":0},{"$f":"IFERROR($E240*SUMIF('Daily Log'!#REF!,$B240,'Daily Log'!#REF!),0)","v":0},{"$f":"IFERROR($E240*SUMIF('Daily Log'!#REF!,$B240,'Daily Log'!#REF!),0)","v":0},{"$f":"IFERROR($E240*SUMIF('Daily Log'!#REF!,$B240,'Daily Log'!#REF!),0)","v":0},{"$f":"IFERROR($E240*SUMIF('Daily Log'!#REF!,$B240,'Daily Log'!#REF!),0)","v":0}]
[null,"CJ03 KIWI SO",null,"FFD-COLD BEVERAGE",1,0,{"$f":"IFERROR($E241*SUMIF('Daily Log'!$B$18:$B$1017,$B241,'Daily Log'!$C$18:$C$1017),0)","v":0},{"$f":"IFERROR($E241*SUMIF('Daily Log'!$E$18:$E$1017,$B241,'Daily Log'!$F$18:$F$1017),0)","v":0},{"$f":"IFERROR($E241*SUMIF('Daily Log'!$H$18:$H$1017,$B241,'Daily Log'!$I$18:$I$1017),0)","v":0},{"$f":"IFERROR($E241*SUMIF('Daily Log'!$K$18:$K$1017,$B241,'Daily Log'!$L$18:$L$1017),0)","v":0},{"$f":"IFERROR($E241*SUMIF('Daily Log'!$N$18:$N$1017,$B241,'Daily Log'!$O$18:$O$1017),0)","v":0},{"$f":"IFERROR($E241*SUMIF('Daily Log'!#REF!,$B241,'Daily Log'!#REF!),0)","v":0},{"$f":"IFERROR($E241*SUMIF('Daily Log'!#REF!,$B241,'Daily Log'!#REF!),0)","v":0},{"$f":"IFERROR($E241*SUMIF('Daily Log'!#REF!,$B241,'Daily Log'!#REF!),0)","v":0},{"$f":"IFERROR($E241*SUMIF('Daily Log'!#REF!,$B241,'Daily Log'!#REF!),0)","v":0},{"$f":"IFERROR($E241*SUMIF('Daily Log'!#REF!,$B241,'Daily Log'!#REF!),0)","v":0},{"$f":"IFERROR($E241*SUMIF('Daily Log'!#REF!,$B241,'Daily Log'!#REF!),0)","v":0},{"$f":"IFERROR($E241*SUMIF('Daily Log'!#REF!,$B241,'Daily Log'!#REF!),0)","v":0},{"$f":"IFERROR($E241*SUMIF('Daily Log'!#REF!,$B241,'Daily Log'!#REF!),0)","v":0},{"$f":"IFERROR($E241*SUMIF('Daily Log'!#REF!,$B241,'Daily Log'!#REF!),0)","v":0},{"$f":"IFERROR($E241*SUMIF('Daily Log'!#REF!,$B241,'Daily Log'!#REF!),0)","v":0},{"$f":"IFERROR($E241*SUMIF('Daily Log'!#REF!,$B241,'Daily Log'!#REF!),0)","v":0},{"$f":"IFERROR($E241*SUMIF('Daily Log'!#REF!,$B241,'Daily Log'!#REF!),0)","v":0},{"$f":"IFERROR($E241*SUMIF('Daily Log'!#REF!,$B241,'Daily Log'!#REF!),0)","v":0},{"$f":"IFERROR($E241*SUMIF('Daily Log'!#REF!,$B241,'Daily Log'!#REF!),0)","v":0},{"$f":"IFERROR($E241*SUMIF('Daily Log'!#REF!,$B241,'Daily Log'!#REF!),0)","v":0},{"$f":"IFERROR($E241*SUMIF('Daily Log'!#REF!,$B241,'Daily Log'!#REF!),0)","v":0},{"$f":"IFERROR($E241*SUMIF('Daily Log'!#REF!,$B241,'Daily Log'!#REF!),0)","v":0},{"$f":"IFERROR($E241*SUMIF('Daily Log'!#REF!,$B241,'Daily Log'!#REF!),0)","v":0},{"$f":"IFERROR($E241*SUMIF('Daily Log'!#REF!,$B241,'Daily Log'!#REF!),0)","v":0},{"$f":"IFERROR($E241*SUMIF('Daily Log'!#REF!,$B241,'Daily Log'!#REF!),0)","v":0},{"$f":"IFERROR($E241*SUMIF('Daily Log'!#REF!,$B241,'Daily Log'!#REF!),0)","v":0},{"$f":"IFERROR($E241*SUMIF('Daily Log'!#REF!,$B241,'Daily Log'!#REF!),0)","v":0},{"$f":"IFERROR($E241*SUMIF('Daily Log'!#REF!,$B241,'Daily Log'!#REF!),0)","v":0},{"$f":"IFERROR($E241*SUMIF('Daily Log'!#REF!,$B241,'Daily Log'!#REF!),0)","v":0},{"$f":"IFERROR($E241*SUMIF('Daily Log'!#REF!,$B241,'Daily Log'!#REF!),0)","v":0},{"$f":"IFERROR($E241*SUMIF('Daily Log'!#REF!,$B241,'Daily Log'!#REF!),0)","v":0}]
[null,"CJ04 MANGO SO",null,"FFD-COLD BEVERAGE",1,2,{"$f":"IFERROR($E242*SUMIF('Daily Log'!$B$18:$B$1017,$B242,'Daily Log'!$C$18:$C$1017),0)","v":2},{"$f":"IFERROR($E242*SUMIF('Daily Log'!$E$18:$E$1017,$B242,'Daily Log'!$F$18:$F$1017),0)","v":0},{"$f":"IFERROR($E242*SUMIF('Daily Log'!$H$18:$H$1017,$B242,'Daily Log'!$I$18:$I$1017),0)","v":0},{"$f":"IFERROR($E242*SUMIF('Daily Log'!$K$18:$K$1017,$B242,'Daily Log'!$L$18:$L$1017),0)","v":0},{"$f":"IFERROR($E242*SUMIF('Daily Log'!$N$18:$N$1017,$B242,'Daily Log'!$O$18:$O$1017),0)","v":0},{"$f":"IFERROR($E242*SUMIF('Daily Log'!#REF!,$B242,'Daily Log'!#REF!),0)","v":0},{"$f":"IFERROR($E242*SUMIF('Daily Log'!#REF!,$B242,'Daily Log'!#REF!),0)","v":0},{"$f":"IFERROR($E242*SUMIF('Daily Log'!#REF!,$B242,'Daily Log'!#REF!),0)","v":0},{"$f":"IFERROR($E242*SUMIF('Daily Log'!#REF!,$B242,'Daily Log'!#REF!),0)","v":0},{"$f":"IFERROR($E242*SUMIF('Daily Log'!#REF!,$B242,'Daily Log'!#REF!),0)","v":0},{"$f":"IFERROR($E242*SUMIF('Daily Log'!#REF!,$B242,'Daily Log'!#REF!),0)","v":0},{"$f":"IFERROR($E242*SUMIF('Daily Log'!#REF!,$B242,'Daily Log'!#REF!),0)","v":0},{"$f":"IFERROR($E242*SUMIF('Daily Log'!#REF!,$B242,'Daily Log'!#REF!),0)","v":0},{"$f":"IFERROR($E242*SUMIF('Daily Log'!#REF!,$B242,'Daily Log'!#REF!),0)","v":0},{"$f":"IFERROR($E242*SUMIF('Daily Log'!#REF!,$B242,'Daily Log'!#REF!),0)","v":0},{"$f":"IFERROR($E242*SUMIF('Daily Log'!#REF!,$B242,'Daily Log'!#REF!),0)","v":0},{"$f":"IFERROR($E242*SUMIF('Daily Log'!#REF!,$B242,'Daily Log'!#REF!),0)","v":0},{"$f":"IFERROR($E242*SUMIF('Daily Log'!#REF!,$B242,'Daily Log'!#REF!),0)","v":0},{"$f":"IFERROR($E242*SUMIF('Daily Log'!#REF!,$B242,'Daily Log'!#REF!),0)","v":0},{"$f":"IFERROR($E242*SUMIF('Daily Log'!#REF!,$B242,'Daily Log'!#REF!),0)","v":0},{"$f":"IFERROR($E242*SUMIF('Daily Log'!#REF!,$B242,'Daily Log'!#REF!),0)","v":0},{"$f":"IFERROR($E242*SUMIF('Daily Log'!#REF!,$B242,'Daily Log'!#REF!),0)","v":0},{"$f":"IFERROR($E242*SUMIF('Daily Log'!#REF!,$B242,'Daily Log'!#REF!),0)","v":0},{"$f":"IFERROR($E242*SUMIF('Daily Log'!#REF!,$B242,'Daily Log'!#REF!),0)","v":0},{"$f":"IFERROR($E242*SUMIF('Daily Log'!#REF!,$B242,'Daily Log'!#REF!),0)","v":0},{"$f":"IFERROR($E242*SUMIF('Daily Log'!#REF!,$B242,'Daily Log'!#REF!),0)","v":0},{"$f":"IFERROR($E242*SUMIF('Daily Log'!#REF!,$B242,'Daily Log'!#REF!),0)","v":0},{"$f":"IFERROR($E242*SUMIF('Daily Log'!#REF!,$B242,'Daily Log'!#REF!),0)","v":0},{"$f":"IFERROR($E242*SUMIF('Daily Log'!#REF!,$B242,'Daily Log'!#REF!),0)","v":0},{"$f":"IFERROR($E242*SUMIF('Daily Log'!#REF!,$B242,'Daily Log'!#REF!),0)","v":0},{"$f":"IFERROR($E242*SUMIF('Daily Log'!#REF!,$B242,'Daily Log'!#REF!),0)","v":0}]
[null,"CJ05 PASSION SO",null,"FFD-COLD BEVERAGE",1,7,{"$f":"IFERROR($E243*SUMIF('Daily Log'!$B$18:$B$1017,$B243,'Daily Log'!$C$18:$C$1017),0)","v":2},{"$f":"IFERROR($E243*SUMIF('Daily Log'!$E$18:$E$1017,$B243,'Daily Log'!$F$18:$F$1017),0)","v":3},{"$f":"IFERROR($E243*SUMIF('Daily Log'!$H$18:$H$1017,$B243,'Daily Log'!$I$18:$I$1017),0)","v":0},{"$f":"IFERROR($E243*SUMIF('Daily Log'!$K$18:$K$1017,$B243,'Daily Log'!$L$18:$L$1017),0)","v":2},{"$f":"IFERROR($E243*SUMIF('Daily Log'!$N$18:$N$1017,$B243,'Daily Log'!$O$18:$O$1017),0)","v":0},{"$f":"IFERROR($E243*SUMIF('Daily Log'!#REF!,$B243,'Daily Log'!#REF!),0)","v":0},{"$f":"IFERROR($E243*SUMIF('Daily Log'!#REF!,$B243,'Daily Log'!#REF!),0)","v":0},{"$f":"IFERROR($E243*SUMIF('Daily Log'!#REF!,$B243,'Daily Log'!#REF!),0)","v":0},{"$f":"IFERROR($E243*SUMIF('Daily Log'!#REF!,$B243,'Daily Log'!#REF!),0)","v":0},{"$f":"IFERROR($E243*SUMIF('Daily Log'!#REF!,$B243,'Daily Log'!#REF!),0)","v":0},{"$f":"IFERROR($E243*SUMIF('Daily Log'!#REF!,$B243,'Daily Log'!#REF!),0)","v":0},{"$f":"IFERROR($E243*SUMIF('Daily Log'!#REF!,$B243,'Daily Log'!#REF!),0)","v":0},{"$f":"IFERROR($E243*SUMIF('Daily Log'!#REF!,$B243,'Daily Log'!#REF!),0)","v":0},{"$f":"IFERROR($E243*SUMIF('Daily Log'!#REF!,$B243,'Daily Log'!#REF!),0)","v":0},{"$f":"IFERROR($E243*SUMIF('Daily Log'!#REF!,$B243,'Daily Log'!#REF!),0)","v":0},{"$f":"IFERROR($E243*SUMIF('Daily Log'!#REF!,$B243,'Daily Log'!#REF!),0)","v":0},{"$f":"IFERROR($E243*SUMIF('Daily Log'!#REF!,$B243,'Daily Log'!#REF!),0)","v":0},{"$f":"IFERROR($E243*SUMIF('Daily Log'!#REF!,$B243,'Daily Log'!#REF!),0)","v":0},{"$f":"IFERROR($E243*SUMIF('Daily Log'!#REF!,$B243,'Daily Log'!#REF!),0)","v":0},{"$f":"IFERROR($E243*SUMIF('Daily Log'!#REF!,$B243,'Daily Log'!#REF!),0)","v":0},{"$f":"IFERROR($E243*SUMIF('Daily Log'!#REF!,$B243,'Daily Log'!#REF!),0)","v":0},{"$f":"IFERROR($E243*SUMIF('Daily Log'!#REF!,$B243,'Daily Log'!#REF!),0)","v":0},{"$f":"IFERROR($E243*SUMIF('Daily Log'!#REF!,$B243,'Daily Log'!#REF!),0)","v":0},{"$f":"IFERROR($E243*SUMIF('Daily Log'!#REF!,$B243,'Daily Log'!#REF!),0)","v":0},{"$f":"IFERROR($E243*SUMIF('Daily Log'!#REF!,$B243,'Daily Log'!#REF!),0)","v":0},{"$f":"IFERROR($E243*SUMIF('Daily Log'!#REF!,$B243,'Daily Log'!#REF!),0)","v":0},{"$f":"IFERROR($E243*SUMIF('Daily Log'!#REF!,$B243,'Daily Log'!#REF!),0)","v":0},{"$f":"IFERROR($E243*SUMIF('Daily Log'!#REF!,$B243,'Daily Log'!#REF!),0)","v":0},{"$f":"IFERROR($E243*SUMIF('Daily Log'!#REF!,$B243,'Daily Log'!#REF!),0)","v":0},{"$f":"IFERROR($E243*SUMIF('Daily Log'!#REF!,$B243,'Daily Log'!#REF!),0)","v":0},{"$f":"IFERROR($E243*SUMIF('Daily Log'!#REF!,$B243,'Daily Log'!#REF!),0)","v":0}]
[null,"CJ06 RIBENA SO",null,"FFD-COLD BEVERAGE",1,4,{"$f":"IFERROR($E244*SUMIF('Daily Log'!$B$18:$B$1017,$B244,'Daily Log'!$C$18:$C$1017),0)","v":1},{"$f":"IFERROR($E244*SUMIF('Daily Log'!$E$18:$E$1017,$B244,'Daily Log'!$F$18:$F$1017),0)","v":1},{"$f":"IFERROR($E244*SUMIF('Daily Log'!$H$18:$H$1017,$B244,'Daily Log'!$I$18:$I$1017),0)","v":1},{"$f":"IFERROR($E244*SUMIF('Daily Log'!$K$18:$K$1017,$B244,'Daily Log'!$L$18:$L$1017),0)","v":1},{"$f":"IFERROR($E244*SUMIF('Daily Log'!$N$18:$N$1017,$B244,'Daily Log'!$O$18:$O$1017),0)","v":0},{"$f":"IFERROR($E244*SUMIF('Daily Log'!#REF!,$B244,'Daily Log'!#REF!),0)","v":0},{"$f":"IFERROR($E244*SUMIF('Daily Log'!#REF!,$B244,'Daily Log'!#REF!),0)","v":0},{"$f":"IFERROR($E244*SUMIF('Daily Log'!#REF!,$B244,'Daily Log'!#REF!),0)","v":0},{"$f":"IFERROR($E244*SUMIF('Daily Log'!#REF!,$B244,'Daily Log'!#REF!),0)","v":0},{"$f":"IFERROR($E244*SUMIF('Daily Log'!#REF!,$B244,'Daily Log'!#REF!),0)","v":0},{"$f":"IFERROR($E244*SUMIF('Daily Log'!#REF!,$B244,'Daily Log'!#REF!),0)","v":0},{"$f":"IFERROR($E244*SUMIF('Daily Log'!#REF!,$B244,'Daily Log'!#REF!),0)","v":0},{"$f":"IFERROR($E244*SUMIF('Daily Log'!#REF!,$B244,'Daily Log'!#REF!),0)","v":0},{"$f":"IFERROR($E244*SUMIF('Daily Log'!#REF!,$B244,'Daily Log'!#REF!),0)","v":0},{"$f":"IFERROR($E244*SUMIF('Daily Log'!#REF!,$B244,'Daily Log'!#REF!),0)","v":0},{"$f":"IFERROR($E244*SUMIF('Daily Log'!#REF!,$B244,'Daily Log'!#REF!),0)","v":0},{"$f":"IFERROR($E244*SUMIF('Daily Log'!#REF!,$B244,'Daily Log'!#REF!),0)","v":0},{"$f":"IFERROR($E244*SUMIF('Daily Log'!#REF!,$B244,'Daily Log'!#REF!),0)","v":0},{"$f":"IFERROR($E244*SUMIF('Daily Log'!#REF!,$B244,'Daily Log'!#REF!),0)","v":0},{"$f":"IFERROR($E244*SUMIF('Daily Log'!#REF!,$B244,'Daily Log'!#REF!),0)","v":0},{"$f":"IFERROR($E244*SUMIF('Daily Log'!#REF!,$B244,'Daily Log'!#REF!),0)","v":0},{"$f":"IFERROR($E244*SUMIF('Daily Log'!#REF!,$B244,'Daily Log'!#REF!),0)","v":0},{"$f":"IFERROR($E244*SUMIF('Daily Log'!#REF!,$B244,'Daily Log'!#REF!),0)","v":0},{"$f":"IFERROR($E244*SUMIF('Daily Log'!#REF!,$B244,'Daily Log'!#REF!),0)","v":0},{"$f":"IFERROR($E244*SUMIF('Daily Log'!#REF!,$B244,'Daily Log'!#REF!),0)","v":0},{"$f":"IFERROR($E244*SUMIF('Daily Log'!#REF!,$B244,'Daily Log'!#REF!),0)","v":0},{"$f":"IFERROR($E244*SUMIF('Daily Log'!#REF!,$B244,'Daily Log'!#REF!),0)","v":0},{"$f":"IFERROR($E244*SUMIF('Daily Log'!#REF!,$B244,'Daily Log'!#REF!),0)","v":0},{"$f":"IFERROR($E244*SUMIF('Daily Log'!#REF!,$B244,'Daily Log'!#REF!),0)","v":0},{"$f":"IFERROR($E244*SUMIF('Daily Log'!#REF!,$B244,'Daily Log'!#REF!),0)","v":0},{"$f":"IFERROR($E244*SUMIF('Daily Log'!#REF!,$B244,'Daily Log'!#REF!),0)","v":0}]
[null,"CL01 7 UP",null,"FFD-SOFT DRINK",1,80,{"$f":"IFERROR($E245*SUMIF('Daily Log'!$B$18:$B$1017,$B245,'Daily Log'!$C$18:$C$1017),0)","v":17},{"$f":"IFERROR($E245*SUMIF('Daily Log'!$E$18:$E$1017,$B245,'Daily Log'!$F$18:$F$1017),0)","v":17},{"$f":"IFERROR($E245*SUMIF('Daily Log'!$H$18:$H$1017,$B245,'Daily Log'!$I$18:$I$1017),0)","v":25},{"$f":"IFERROR($E245*SUMIF('Daily Log'!$K$18:$K$1017,$B245,'Daily Log'!$L$18:$L$1017),0)","v":8},{"$f":"IFERROR($E245*SUMIF('Daily Log'!$N$18:$N$1017,$B245,'Daily Log'!$O$18:$O$1017),0)","v":13},{"$f":"IFERROR($E245*SUMIF('Daily Log'!#REF!,$B245,'Daily Log'!#REF!),0)","v":0},{"$f":"IFERROR($E245*SUMIF('Daily Log'!#REF!,$B245,'Daily Log'!#REF!),0)","v":0},{"$f":"IFERROR($E245*SUMIF('Daily Log'!#REF!,$B245,'Daily Log'!#REF!),0)","v":0},{"$f":"IFERROR($E245*SUMIF('Daily Log'!#REF!,$B245,'Daily Log'!#REF!),0)","v":0},{"$f":"IFERROR($E245*SUMIF('Daily Log'!#REF!,$B245,'Daily Log'!#REF!),0)","v":0},{"$f":"IFERROR($E245*SUMIF('Daily Log'!#REF!,$B245,'Daily Log'!#REF!),0)","v":0},{"$f":"IFERROR($E245*SUMIF('Daily Log'!#REF!,$B245,'Daily Log'!#REF!),0)","v":0},{"$f":"IFERROR($E245*SUMIF('Daily Log'!#REF!,$B245,'Daily Log'!#REF!),0)","v":0},{"$f":"IFERROR($E245*SUMIF('Daily Log'!#REF!,$B245,'Daily Log'!#REF!),0)","v":0},{"$f":"IFERROR($E245*SUMIF('Daily Log'!#REF!,$B245,'Daily Log'!#REF!),0)","v":0},{"$f":"IFERROR($E245*SUMIF('Daily Log'!#REF!,$B245,'Daily Log'!#REF!),0)","v":0},{"$f":"IFERROR($E245*SUMIF('Daily Log'!#REF!,$B245,'Daily Log'!#REF!),0)","v":0},{"$f":"IFERROR($E245*SUMIF('Daily Log'!#REF!,$B245,'Daily Log'!#REF!),0)","v":0},{"$f":"IFERROR($E245*SUMIF('Daily Log'!#REF!,$B245,'Daily Log'!#REF!),0)","v":0},{"$f":"IFERROR($E245*SUMIF('Daily Log'!#REF!,$B245,'Daily Log'!#REF!),0)","v":0},{"$f":"IFERROR($E245*SUMIF('Daily Log'!#REF!,$B245,'Daily Log'!#REF!),0)","v":0},{"$f":"IFERROR($E245*SUMIF('Daily Log'!#REF!,$B245,'Daily Log'!#REF!),0)","v":0},{"$f":"IFERROR($E245*SUMIF('Daily Log'!#REF!,$B245,'Daily Log'!#REF!),0)","v":0},{"$f":"IFERROR($E245*SUMIF('Daily Log'!#REF!,$B245,'Daily Log'!#REF!),0)","v":0},{"$f":"IFERROR($E245*SUMIF('Daily Log'!#REF!,$B245,'Daily Log'!#REF!),0)","v":0},{"$f":"IFERROR($E245*SUMIF('Daily Log'!#REF!,$B245,'Daily Log'!#REF!),0)","v":0},{"$f":"IFERROR($E245*SUMIF('Daily Log'!#REF!,$B245,'Daily Log'!#REF!),0)","v":0},{"$f":"IFERROR($E245*SUMIF('Daily Log'!#REF!,$B245,'Daily Log'!#REF!),0)","v":0},{"$f":"IFERROR($E245*SUMIF('Daily Log'!#REF!,$B245,'Daily Log'!#REF!),0)","v":0},{"$f":"IFERROR($E245*SUMIF('Daily Log'!#REF!,$B245,'Daily Log'!#REF!),0)","v":0},{"$f":"IFERROR($E245*SUMIF('Daily Log'!#REF!,$B245,'Daily Log'!#REF!),0)","v":0}]
[null,"CL02 7 UP REVIVE",null,"FFD-SOFT DRINK",1,21,{"$f":"IFERROR($E246*SUMIF('Daily Log'!$B$18:$B$1017,$B246,'Daily Log'!$C$18:$C$1017),0)","v":7},{"$f":"IFERROR($E246*SUMIF('Daily Log'!$E$18:$E$1017,$B246,'Daily Log'!$F$18:$F$1017),0)","v":4},{"$f":"IFERROR($E246*SUMIF('Daily Log'!$H$18:$H$1017,$B246,'Daily Log'!$I$18:$I$1017),0)","v":3},{"$f":"IFERROR($E246*SUMIF('Daily Log'!$K$18:$K$1017,$B246,'Daily Log'!$L$18:$L$1017),0)","v":7},{"$f":"IFERROR($E246*SUMIF('Daily Log'!$N$18:$N$1017,$B246,'Daily Log'!$O$18:$O$1017),0)","v":0},{"$f":"IFERROR($E246*SUMIF('Daily Log'!#REF!,$B246,'Daily Log'!#REF!),0)","v":0},{"$f":"IFERROR($E246*SUMIF('Daily Log'!#REF!,$B246,'Daily Log'!#REF!),0)","v":0},{"$f":"IFERROR($E246*SUMIF('Daily Log'!#REF!,$B246,'Daily Log'!#REF!),0)","v":0},{"$f":"IFERROR($E246*SUMIF('Daily Log'!#REF!,$B246,'Daily Log'!#REF!),0)","v":0},{"$f":"IFERROR($E246*SUMIF('Daily Log'!#REF!,$B246,'Daily Log'!#REF!),0)","v":0},{"$f":"IFERROR($E246*SUMIF('Daily Log'!#REF!,$B246,'Daily Log'!#REF!),0)","v":0},{"$f":"IFERROR($E246*SUMIF('Daily Log'!#REF!,$B246,'Daily Log'!#REF!),0)","v":0},{"$f":"IFERROR($E246*SUMIF('Daily Log'!#REF!,$B246,'Daily Log'!#REF!),0)","v":0},{"$f":"IFERROR($E246*SUMIF('Daily Log'!#REF!,$B246,'Daily Log'!#REF!),0)","v":0},{"$f":"IFERROR($E246*SUMIF('Daily Log'!#REF!,$B246,'Daily Log'!#REF!),0)","v":0},{"$f":"IFERROR($E246*SUMIF('Daily Log'!#REF!,$B246,'Daily Log'!#REF!),0)","v":0},{"$f":"IFERROR($E246*SUMIF('Daily Log'!#REF!,$B246,'Daily Log'!#REF!),0)","v":0},{"$f":"IFERROR($E246*SUMIF('Daily Log'!#REF!,$B246,'Daily Log'!#REF!),0)","v":0},{"$f":"IFERROR($E246*SUMIF('Daily Log'!#REF!,$B246,'Daily Log'!#REF!),0)","v":0},{"$f":"IFERROR($E246*SUMIF('Daily Log'!#REF!,$B246,'Daily Log'!#REF!),0)","v":0},{"$f":"IFERROR($E246*SUMIF('Daily Log'!#REF!,$B246,'Daily Log'!#REF!),0)","v":0},{"$f":"IFERROR($E246*SUMIF('Daily Log'!#REF!,$B246,'Daily Log'!#REF!),0)","v":0},{"$f":"IFERROR($E246*SUMIF('Daily Log'!#REF!,$B246,'Daily Log'!#REF!),0)","v":0},{"$f":"IFERROR($E246*SUMIF('Daily Log'!#REF!,$B246,'Daily Log'!#REF!),0)","v":0},{"$f":"IFERROR($E246*SUMIF('Daily Log'!#REF!,$B246,'Daily Log'!#REF!),0)","v":0},{"$f":"IFERROR($E246*SUMIF('Daily Log'!#REF!,$B246,'Daily Log'!#REF!),0)","v":0},{"$f":"IFERROR($E246*SUMIF('Daily Log'!#REF!,$B246,'Daily Log'!#REF!),0)","v":0},{"$f":"IFERROR($E246*SUMIF('Daily Log'!#REF!,$B246,'Daily Log'!#REF!),0)","v":0},{"$f":"IFERROR($E246*SUMIF('Daily Log'!#REF!,$B246,'Daily Log'!#REF!),0)","v":0},{"$f":"IFERROR($E246*SUMIF('Daily Log'!#REF!,$B246,'Daily Log'!#REF!),0)","v":0},{"$f":"IFERROR($E246*SUMIF('Daily Log'!#REF!,$B246,'Daily Log'!#REF!),0)","v":0}]
[null,"CL03 PEPSI",null,"FFD-SOFT DRINK",1,223,{"$f":"IFERROR($E247*SUMIF('Daily Log'!$B$18:$B$1017,$B247,'Daily Log'!$C$18:$C$1017),0)","v":48},{"$f":"IFERROR($E247*SUMIF('Daily Log'!$E$18:$E$1017,$B247,'Daily Log'!$F$18:$F$1017),0)","v":40},{"$f":"IFERROR($E247*SUMIF('Daily Log'!$H$18:$H$1017,$B247,'Daily Log'!$I$18:$I$1017),0)","v":59},{"$f":"IFERROR($E247*SUMIF('Daily Log'!$K$18:$K$1017,$B247,'Daily Log'!$L$18:$L$1017),0)","v":58},{"$f":"IFERROR($E247*SUMIF('Daily Log'!$N$18:$N$1017,$B247,'Daily Log'!$O$18:$O$1017),0)","v":18},{"$f":"IFERROR($E247*SUMIF('Daily Log'!#REF!,$B247,'Daily Log'!#REF!),0)","v":0},{"$f":"IFERROR($E247*SUMIF('Daily Log'!#REF!,$B247,'Daily Log'!#REF!),0)","v":0},{"$f":"IFERROR($E247*SUMIF('Daily Log'!#REF!,$B247,'Daily Log'!#REF!),0)","v":0},{"$f":"IFERROR($E247*SUMIF('Daily Log'!#REF!,$B247,'Daily Log'!#REF!),0)","v":0},{"$f":"IFERROR($E247*SUMIF('Daily Log'!#REF!,$B247,'Daily Log'!#REF!),0)","v":0},{"$f":"IFERROR($E247*SUMIF('Daily Log'!#REF!,$B247,'Daily Log'!#REF!),0)","v":0},{"$f":"IFERROR($E247*SUMIF('Daily Log'!#REF!,$B247,'Daily Log'!#REF!),0)","v":0},{"$f":"IFERROR($E247*SUMIF('Daily Log'!#REF!,$B247,'Daily Log'!#REF!),0)","v":0},{"$f":"IFERROR($E247*SUMIF('Daily Log'!#REF!,$B247,'Daily Log'!#REF!),0)","v":0},{"$f":"IFERROR($E247*SUMIF('Daily Log'!#REF!,$B247,'Daily Log'!#REF!),0)","v":0},{"$f":"IFERROR($E247*SUMIF('Daily Log'!#REF!,$B247,'Daily Log'!#REF!),0)","v":0},{"$f":"IFERROR($E247*SUMIF('Daily Log'!#REF!,$B247,'Daily Log'!#REF!),0)","v":0},{"$f":"IFERROR($E247*SUMIF('Daily Log'!#REF!,$B247,'Daily Log'!#REF!),0)","v":0},{"$f":"IFERROR($E247*SUMIF('Daily Log'!#REF!,$B247,'Daily Log'!#REF!),0)","v":0},{"$f":"IFERROR($E247*SUMIF('Daily Log'!#REF!,$B247,'Daily Log'!#REF!),0)","v":0},{"$f":"IFERROR($E247*SUMIF('Daily Log'!#REF!,$B247,'Daily Log'!#REF!),0)","v":0},{"$f":"IFERROR($E247*SUMIF('Daily Log'!#REF!,$B247,'Daily Log'!#REF!),0)","v":0},{"$f":"IFERROR($E247*SUMIF('Daily Log'!#REF!,$B247,'Daily Log'!#REF!),0)","v":0},{"$f":"IFERROR($E247*SUMIF('Daily Log'!#REF!,$B247,'Daily Log'!#REF!),0)","v":0},{"$f":"IFERROR($E247*SUMIF('Daily Log'!#REF!,$B247,'Daily Log'!#REF!),0)","v":0},{"$f":"IFERROR($E247*SUMIF('Daily Log'!#REF!,$B247,'Daily Log'!#REF!),0)","v":0},{"$f":"IFERROR($E247*SUMIF('Daily Log'!#REF!,$B247,'Daily Log'!#REF!),0)","v":0},{"$f":"IFERROR($E247*SUMIF('Daily Log'!#REF!,$B247,'Daily Log'!#REF!),0)","v":0},{"$f":"IFERROR($E247*SUMIF('Daily Log'!#REF!,$B247,'Daily Log'!#REF!),0)","v":0},{"$f":"IFERROR($E247*SUMIF('Daily Log'!#REF!,$B247,'Daily Log'!#REF!),0)","v":0},{"$f":"IFERROR($E247*SUMIF('Daily Log'!#REF!,$B247,'Daily Log'!#REF!),0)","v":0}]
[null,"CM01 MILO (C)",null,"FFD-COLD BEVERAGE",1,259,{"$f":"IFERROR($E248*SUMIF('Daily Log'!$B$18:$B$1017,$B248,'Daily Log'!$C$18:$C$1017),0)","v":54},{"$f":"IFERROR($E248*SUMIF('Daily Log'!$E$18:$E$1017,$B248,'Daily Log'!$F$18:$F$1017),0)","v":60},{"$f":"IFERROR($E248*SUMIF('Daily Log'!$H$18:$H$1017,$B248,'Daily Log'!$I$18:$I$1017),0)","v":71},{"$f":"IFERROR($E248*SUMIF('Daily Log'!$K$18:$K$1017,$B248,'Daily Log'!$L$18:$L$1017),0)","v":56},{"$f":"IFERROR($E248*SUMIF('Daily Log'!$N$18:$N$1017,$B248,'Daily Log'!$O$18:$O$1017),0)","v":18},{"$f":"IFERROR($E248*SUMIF('Daily Log'!#REF!,$B248,'Daily Log'!#REF!),0)","v":0},{"$f":"IFERROR($E248*SUMIF('Daily Log'!#REF!,$B248,'Daily Log'!#REF!),0)","v":0},{"$f":"IFERROR($E248*SUMIF('Daily Log'!#REF!,$B248,'Daily Log'!#REF!),0)","v":0},{"$f":"IFERROR($E248*SUMIF('Daily Log'!#REF!,$B248,'Daily Log'!#REF!),0)","v":0},{"$f":"IFERROR($E248*SUMIF('Daily Log'!#REF!,$B248,'Daily Log'!#REF!),0)","v":0},{"$f":"IFERROR($E248*SUMIF('Daily Log'!#REF!,$B248,'Daily Log'!#REF!),0)","v":0},{"$f":"IFERROR($E248*SUMIF('Daily Log'!#REF!,$B248,'Daily Log'!#REF!),0)","v":0},{"$f":"IFERROR($E248*SUMIF('Daily Log'!#REF!,$B248,'Daily Log'!#REF!),0)","v":0},{"$f":"IFERROR($E248*SUMIF('Daily Log'!#REF!,$B248,'Daily Log'!#REF!),0)","v":0},{"$f":"IFERROR($E248*SUMIF('Daily Log'!#REF!,$B248,'Daily Log'!#REF!),0)","v":0},{"$f":"IFERROR($E248*SUMIF('Daily Log'!#REF!,$B248,'Daily Log'!#REF!),0)","v":0},{"$f":"IFERROR($E248*SUMIF('Daily Log'!#REF!,$B248,'Daily Log'!#REF!),0)","v":0},{"$f":"IFERROR($E248*SUMIF('Daily Log'!#REF!,$B248,'Daily Log'!#REF!),0)","v":0},{"$f":"IFERROR($E248*SUMIF('Daily Log'!#REF!,$B248,'Daily Log'!#REF!),0)","v":0},{"$f":"IFERROR($E248*SUMIF('Daily Log'!#REF!,$B248,'Daily Log'!#REF!),0)","v":0},{"$f":"IFERROR($E248*SUMIF('Daily Log'!#REF!,$B248,'Daily Log'!#REF!),0)","v":0},{"$f":"IFERROR($E248*SUMIF('Daily Log'!#REF!,$B248,'Daily Log'!#REF!),0)","v":0},{"$f":"IFERROR($E248*SUMIF('Daily Log'!#REF!,$B248,'Daily Log'!#REF!),0)","v":0},{"$f":"IFERROR($E248*SUMIF('Daily Log'!#REF!,$B248,'Daily Log'!#REF!),0)","v":0},{"$f":"IFERROR($E248*SUMIF('Daily Log'!#REF!,$B248,'Daily Log'!#REF!),0)","v":0},{"$f":"IFERROR($E248*SUMIF('Daily Log'!#REF!,$B248,'Daily Log'!#REF!),0)","v":0},{"$f":"IFERROR($E248*SUMIF('Daily Log'!#REF!,$B248,'Daily Log'!#REF!),0)","v":0},{"$f":"IFERROR($E248*SUMIF('Daily Log'!#REF!,$B248,'Daily Log'!#REF!),0)","v":0},{"$f":"IFERROR($E248*SUMIF('Daily Log'!#REF!,$B248,'Daily Log'!#REF!),0)","v":0},{"$f":"IFERROR($E248*SUMIF('Daily Log'!#REF!,$B248,'Daily Log'!#REF!),0)","v":0},{"$f":"IFERROR($E248*SUMIF('Daily Log'!#REF!,$B248,'Daily Log'!#REF!),0)","v":0}]
[null,"CM02 NESCAFE (C)",null,"FFD-COLD BEVERAGE",1,62,{"$f":"IFERROR($E249*SUMIF('Daily Log'!$B$18:$B$1017,$B249,'Daily Log'!$C$18:$C$1017),0)","v":18},{"$f":"IFERROR($E249*SUMIF('Daily Log'!$E$18:$E$1017,$B249,'Daily Log'!$F$18:$F$1017),0)","v":15},{"$f":"IFERROR($E249*SUMIF('Daily Log'!$H$18:$H$1017,$B249,'Daily Log'!$I$18:$I$1017),0)","v":10},{"$f":"IFERROR($E249*SUMIF('Daily Log'!$K$18:$K$1017,$B249,'Daily Log'!$L$18:$L$1017),0)","v":10},{"$f":"IFERROR($E249*SUMIF('Daily Log'!$N$18:$N$1017,$B249,'Daily Log'!$O$18:$O$1017),0)","v":9},{"$f":"IFERROR($E249*SUMIF('Daily Log'!#REF!,$B249,'Daily Log'!#REF!),0)","v":0},{"$f":"IFERROR($E249*SUMIF('Daily Log'!#REF!,$B249,'Daily Log'!#REF!),0)","v":0},{"$f":"IFERROR($E249*SUMIF('Daily Log'!#REF!,$B249,'Daily Log'!#REF!),0)","v":0},{"$f":"IFERROR($E249*SUMIF('Daily Log'!#REF!,$B249,'Daily Log'!#REF!),0)","v":0},{"$f":"IFERROR($E249*SUMIF('Daily Log'!#REF!,$B249,'Daily Log'!#REF!),0)","v":0},{"$f":"IFERROR($E249*SUMIF('Daily Log'!#REF!,$B249,'Daily Log'!#REF!),0)","v":0},{"$f":"IFERROR($E249*SUMIF('Daily Log'!#REF!,$B249,'Daily Log'!#REF!),0)","v":0},{"$f":"IFERROR($E249*SUMIF('Daily Log'!#REF!,$B249,'Daily Log'!#REF!),0)","v":0},{"$f":"IFERROR($E249*SUMIF('Daily Log'!#REF!,$B249,'Daily Log'!#REF!),0)","v":0},{"$f":"IFERROR($E249*SUMIF('Daily Log'!#REF!,$B249,'Daily Log'!#REF!),0)","v":0},{"$f":"IFERROR($E249*SUMIF('Daily Log'!#REF!,$B249,'Daily Log'!#REF!),0)","v":0},{"$f":"IFERROR($E249*SUMIF('Daily Log'!#REF!,$B249,'Daily Log'!#REF!),0)","v":0},{"$f":"IFERROR($E249*SUMIF('Daily Log'!#REF!,$B249,'Daily Log'!#REF!),0)","v":0},{"$f":"IFERROR($E249*SUMIF('Daily Log'!#REF!,$B249,'Daily Log'!#REF!),0)","v":0},{"$f":"IFERROR($E249*SUMIF('Daily Log'!#REF!,$B249,'Daily Log'!#REF!),0)","v":0},{"$f":"IFERROR($E249*SUMIF('Daily Log'!#REF!,$B249,'Daily Log'!#REF!),0)","v":0},{"$f":"IFERROR($E249*SUMIF('Daily Log'!#REF!,$B249,'Daily Log'!#REF!),0)","v":0},{"$f":"IFERROR($E249*SUMIF('Daily Log'!#REF!,$B249,'Daily Log'!#REF!),0)","v":0},{"$f":"IFERROR($E249*SUMIF('Daily Log'!#REF!,$B249,'Daily Log'!#REF!),0)","v":0},{"$f":"IFERROR($E249*SUMIF('Daily Log'!#REF!,$B249,'Daily Log'!#REF!),0)","v":0},{"$f":"IFERROR($E249*SUMIF('Daily Log'!#REF!,$B249,'Daily Log'!#REF!),0)","v":0},{"$f":"IFERROR($E249*SUMIF('Daily Log'!#REF!,$B249,'Daily Log'!#REF!),0)","v":0},{"$f":"IFERROR($E249*SUMIF('Daily Log'!#REF!,$B249,'Daily Log'!#REF!),0)","v":0},{"$f":"IFERROR($E249*SUMIF('Daily Log'!#REF!,$B249,'Daily Log'!#REF!),0)","v":0},{"$f":"IFERROR($E249*SUMIF('Daily Log'!#REF!,$B249,'Daily Log'!#REF!),0)","v":0},{"$f":"IFERROR($E249*SUMIF('Daily Log'!#REF!,$B249,'Daily Log'!#REF!),0)","v":0}]
[null,"CM03 TEA (C)",null,"FFD-COLD BEVERAGE",1,27,{"$f":"IFERROR($E250*SUMIF('Daily Log'!$B$18:$B$1017,$B250,'Daily Log'!$C$18:$C$1017),0)","v":3},{"$f":"IFERROR($E250*SUMIF('Daily Log'!$E$18:$E$1017,$B250,'Daily Log'!$F$18:$F$1017),0)","v":8},{"$f":"IFERROR($E250*SUMIF('Daily Log'!$H$18:$H$1017,$B250,'Daily Log'!$I$18:$I$1017),0)","v":7},{"$f":"IFERROR($E250*SUMIF('Daily Log'!$K$18:$K$1017,$B250,'Daily Log'!$L$18:$L$1017),0)","v":4},{"$f":"IFERROR($E250*SUMIF('Daily Log'!$N$18:$N$1017,$B250,'Daily Log'!$O$18:$O$1017),0)","v":5},{"$f":"IFERROR($E250*SUMIF('Daily Log'!#REF!,$B250,'Daily Log'!#REF!),0)","v":0},{"$f":"IFERROR($E250*SUMIF('Daily Log'!#REF!,$B250,'Daily Log'!#REF!),0)","v":0},{"$f":"IFERROR($E250*SUMIF('Daily Log'!#REF!,$B250,'Daily Log'!#REF!),0)","v":0},{"$f":"IFERROR($E250*SUMIF('Daily Log'!#REF!,$B250,'Daily Log'!#REF!),0)","v":0},{"$f":"IFERROR($E250*SUMIF('Daily Log'!#REF!,$B250,'Daily Log'!#REF!),0)","v":0},{"$f":"IFERROR($E250*SUMIF('Daily Log'!#REF!,$B250,'Daily Log'!#REF!),0)","v":0},{"$f":"IFERROR($E250*SUMIF('Daily Log'!#REF!,$B250,'Daily Log'!#REF!),0)","v":0},{"$f":"IFERROR($E250*SUMIF('Daily Log'!#REF!,$B250,'Daily Log'!#REF!),0)","v":0},{"$f":"IFERROR($E250*SUMIF('Daily Log'!#REF!,$B250,'Daily Log'!#REF!),0)","v":0},{"$f":"IFERROR($E250*SUMIF('Daily Log'!#REF!,$B250,'Daily Log'!#REF!),0)","v":0},{"$f":"IFERROR($E250*SUMIF('Daily Log'!#REF!,$B250,'Daily Log'!#REF!),0)","v":0},{"$f":"IFERROR($E250*SUMIF('Daily Log'!#REF!,$B250,'Daily Log'!#REF!),0)","v":0},{"$f":"IFERROR($E250*SUMIF('Daily Log'!#REF!,$B250,'Daily Log'!#REF!),0)","v":0},{"$f":"IFERROR($E250*SUMIF('Daily Log'!#REF!,$B250,'Daily Log'!#REF!),0)","v":0},{"$f":"IFERROR($E250*SUMIF('Daily Log'!#REF!,$B250,'Daily Log'!#REF!),0)","v":0},{"$f":"IFERROR($E250*SUMIF('Daily Log'!#REF!,$B250,'Daily Log'!#REF!),0)","v":0},{"$f":"IFERROR($E250*SUMIF('Daily Log'!#REF!,$B250,'Daily Log'!#REF!),0)","v":0},{"$f":"IFERROR($E250*SUMIF('Daily Log'!#REF!,$B250,'Daily Log'!#REF!),0)","v":0},{"$f":"IFERROR($E250*SUMIF('Daily Log'!#REF!,$B250,'Daily Log'!#REF!),0)","v":0},{"$f":"IFERROR($E250*SUMIF('Daily Log'!#REF!,$B250,'Daily Log'!#REF!),0)","v":0},{"$f":"IFERROR($E250*SUMIF('Daily Log'!#REF!,$B250,'Daily Log'!#REF!),0)","v":0},{"$f":"IFERROR($E250*SUMIF('Daily Log'!#REF!,$B250,'Daily Log'!#REF!),0)","v":0},{"$f":"IFERROR($E250*SUMIF('Daily Log'!#REF!,$B250,'Daily Log'!#REF!),0)","v":0},{"$f":"IFERROR($E250*SUMIF('Daily Log'!#REF!,$B250,'Daily Log'!#REF!),0)","v":0},{"$f":"IFERROR($E250*SUMIF('Daily Log'!#REF!,$B250,'Daily Log'!#REF!),0)","v":0},{"$f":"IFERROR($E250*SUMIF('Daily Log'!#REF!,$B250,'Daily Log'!#REF!),0)","v":0}]
[null,"CM04 LEMON TEA (C)",null,"FFD-COLD BEVERAGE",1,299,{"$f":"IFERROR($E251*SUMIF('Daily Log'!$B$18:$B$1017,$B251,'Daily Log'!$C$18:$C$1017),0)","v":71},{"$f":"IFERROR($E251*SUMIF('Daily Log'!$E$18:$E$1017,$B251,'Daily Log'!$F$18:$F$1017),0)","v":61},{"$f":"IFERROR($E251*SUMIF('Daily Log'!$H$18:$H$1017,$B251,'Daily Log'!$I$18:$I$1017),0)","v":65},{"$f":"IFERROR($E251*SUMIF('Daily Log'!$K$18:$K$1017,$B251,'Daily Log'!$L$18:$L$1017),0)","v":84},{"$f":"IFERROR($E251*SUMIF('Daily Log'!$N$18:$N$1017,$B251,'Daily Log'!$O$18:$O$1017),0)","v":18},{"$f":"IFERROR($E251*SUMIF('Daily Log'!#REF!,$B251,'Daily Log'!#REF!),0)","v":0},{"$f":"IFERROR($E251*SUMIF('Daily Log'!#REF!,$B251,'Daily Log'!#REF!),0)","v":0},{"$f":"IFERROR($E251*SUMIF('Daily Log'!#REF!,$B251,'Daily Log'!#REF!),0)","v":0},{"$f":"IFERROR($E251*SUMIF('Daily Log'!#REF!,$B251,'Daily Log'!#REF!),0)","v":0},{"$f":"IFERROR($E251*SUMIF('Daily Log'!#REF!,$B251,'Daily Log'!#REF!),0)","v":0},{"$f":"IFERROR($E251*SUMIF('Daily Log'!#REF!,$B251,'Daily Log'!#REF!),0)","v":0},{"$f":"IFERROR($E251*SUMIF('Daily Log'!#REF!,$B251,'Daily Log'!#REF!),0)","v":0},{"$f":"IFERROR($E251*SUMIF('Daily Log'!#REF!,$B251,'Daily Log'!#REF!),0)","v":0},{"$f":"IFERROR($E251*SUMIF('Daily Log'!#REF!,$B251,'Daily Log'!#REF!),0)","v":0},{"$f":"IFERROR($E251*SUMIF('Daily Log'!#REF!,$B251,'Daily Log'!#REF!),0)","v":0},{"$f":"IFERROR($E251*SUMIF('Daily Log'!#REF!,$B251,'Daily Log'!#REF!),0)","v":0},{"$f":"IFERROR($E251*SUMIF('Daily Log'!#REF!,$B251,'Daily Log'!#REF!),0)","v":0},{"$f":"IFERROR($E251*SUMIF('Daily Log'!#REF!,$B251,'Daily Log'!#REF!),0)","v":0},{"$f":"IFERROR($E251*SUMIF('Daily Log'!#REF!,$B251,'Daily Log'!#REF!),0)","v":0},{"$f":"IFERROR($E251*SUMIF('Daily Log'!#REF!,$B251,'Daily Log'!#REF!),0)","v":0},{"$f":"IFERROR($E251*SUMIF('Daily Log'!#REF!,$B251,'Daily Log'!#REF!),0)","v":0},{"$f":"IFERROR($E251*SUMIF('Daily Log'!#REF!,$B251,'Daily Log'!#REF!),0)","v":0},{"$f":"IFERROR($E251*SUMIF('Daily Log'!#REF!,$B251,'Daily Log'!#REF!),0)","v":0},{"$f":"IFERROR($E251*SUMIF('Daily Log'!#REF!,$B251,'Daily Log'!#REF!),0)","v":0},{"$f":"IFERROR($E251*SUMIF('Daily Log'!#REF!,$B251,'Daily Log'!#REF!),0)","v":0},{"$f":"IFERROR($E251*SUMIF('Daily Log'!#REF!,$B251,'Daily Log'!#REF!),0)","v":0},{"$f":"IFERROR($E251*SUMIF('Daily Log'!#REF!,$B251,'Daily Log'!#REF!),0)","v":0},{"$f":"IFERROR($E251*SUMIF('Daily Log'!#REF!,$B251,'Daily Log'!#REF!),0)","v":0},{"$f":"IFERROR($E251*SUMIF('Daily Log'!#REF!,$B251,'Daily Log'!#REF!),0)","v":0},{"$f":"IFERROR($E251*SUMIF('Daily Log'!#REF!,$B251,'Daily Log'!#REF!),0)","v":0},{"$f":"IFERROR($E251*SUMIF('Daily Log'!#REF!,$B251,'Daily Log'!#REF!),0)","v":0}]
[null,"CM05 GRN TEA (C)",null,"FFD-COLD BEVERAGE",1,267,{"$f":"IFERROR($E252*SUMIF('Daily Log'!$B$18:$B$1017,$B252,'Daily Log'!$C$18:$C$1017),0)","v":87},{"$f":"IFERROR($E252*SUMIF('Daily Log'!$E$18:$E$1017,$B252,'Daily Log'!$F$18:$F$1017),0)","v":44},{"$f":"IFERROR($E252*SUMIF('Daily Log'!$H$18:$H$1017,$B252,'Daily Log'!$I$18:$I$1017),0)","v":80},{"$f":"IFERROR($E252*SUMIF('Daily Log'!$K$18:$K$1017,$B252,'Daily Log'!$L$18:$L$1017),0)","v":34},{"$f":"IFERROR($E252*SUMIF('Daily Log'!$N$18:$N$1017,$B252,'Daily Log'!$O$18:$O$1017),0)","v":22},{"$f":"IFERROR($E252*SUMIF('Daily Log'!#REF!,$B252,'Daily Log'!#REF!),0)","v":0},{"$f":"IFERROR($E252*SUMIF('Daily Log'!#REF!,$B252,'Daily Log'!#REF!),0)","v":0},{"$f":"IFERROR($E252*SUMIF('Daily Log'!#REF!,$B252,'Daily Log'!#REF!),0)","v":0},{"$f":"IFERROR($E252*SUMIF('Daily Log'!#REF!,$B252,'Daily Log'!#REF!),0)","v":0},{"$f":"IFERROR($E252*SUMIF('Daily Log'!#REF!,$B252,'Daily Log'!#REF!),0)","v":0},{"$f":"IFERROR($E252*SUMIF('Daily Log'!#REF!,$B252,'Daily Log'!#REF!),0)","v":0},{"$f":"IFERROR($E252*SUMIF('Daily Log'!#REF!,$B252,'Daily Log'!#REF!),0)","v":0},{"$f":"IFERROR($E252*SUMIF('Daily Log'!#REF!,$B252,'Daily Log'!#REF!),0)","v":0},{"$f":"IFERROR($E252*SUMIF('Daily Log'!#REF!,$B252,'Daily Log'!#REF!),0)","v":0},{"$f":"IFERROR($E252*SUMIF('Daily Log'!#REF!,$B252,'Daily Log'!#REF!),0)","v":0},{"$f":"IFERROR($E252*SUMIF('Daily Log'!#REF!,$B252,'Daily Log'!#REF!),0)","v":0},{"$f":"IFERROR($E252*SUMIF('Daily Log'!#REF!,$B252,'Daily Log'!#REF!),0)","v":0},{"$f":"IFERROR($E252*SUMIF('Daily Log'!#REF!,$B252,'Daily Log'!#REF!),0)","v":0},{"$f":"IFERROR($E252*SUMIF('Daily Log'!#REF!,$B252,'Daily Log'!#REF!),0)","v":0},{"$f":"IFERROR($E252*SUMIF('Daily Log'!#REF!,$B252,'Daily Log'!#REF!),0)","v":0},{"$f":"IFERROR($E252*SUMIF('Daily Log'!#REF!,$B252,'Daily Log'!#REF!),0)","v":0},{"$f":"IFERROR($E252*SUMIF('Daily Log'!#REF!,$B252,'Daily Log'!#REF!),0)","v":0},{"$f":"IFERROR($E252*SUMIF('Daily Log'!#REF!,$B252,'Daily Log'!#REF!),0)","v":0},{"$f":"IFERROR($E252*SUMIF('Daily Log'!#REF!,$B252,'Daily Log'!#REF!),0)","v":0},{"$f":"IFERROR($E252*SUMIF('Daily Log'!#REF!,$B252,'Daily Log'!#REF!),0)","v":0},{"$f":"IFERROR($E252*SUMIF('Daily Log'!#REF!,$B252,'Daily Log'!#REF!),0)","v":0},{"$f":"IFERROR($E252*SUMIF('Daily Log'!#REF!,$B252,'Daily Log'!#REF!),0)","v":0},{"$f":"IFERROR($E252*SUMIF('Daily Log'!#REF!,$B252,'Daily Log'!#REF!),0)","v":0},{"$f":"IFERROR($E252*SUMIF('Daily Log'!#REF!,$B252,'Daily Log'!#REF!),0)","v":0},{"$f":"IFERROR($E252*SUMIF('Daily Log'!#REF!,$B252,'Daily Log'!#REF!),0)","v":0},{"$f":"IFERROR($E252*SUMIF('Daily Log'!#REF!,$B252,'Daily Log'!#REF!),0)","v":0}]
[null,"CM06 HNY GRN TEA (C)",null,"FFD-COLD BEVERAGE",1,379,{"$f":"IFERROR($E253*SUMIF('Daily Log'!$B$18:$B$1017,$B253,'Daily Log'!$C$18:$C$1017),0)","v":122},{"$f":"IFERROR($E253*SUMIF('Daily Log'!$E$18:$E$1017,$B253,'Daily Log'!$F$18:$F$1017),0)","v":57},{"$f":"IFERROR($E253*SUMIF('Daily Log'!$H$18:$H$1017,$B253,'Daily Log'!$I$18:$I$1017),0)","v":100},{"$f":"IFERROR($E253*SUMIF('Daily Log'!$K$18:$K$1017,$B253,'Daily Log'!$L$18:$L$1017),0)","v":86},{"$f":"IFERROR($E253*SUMIF('Daily Log'!$N$18:$N$1017,$B253,'Daily Log'!$O$18:$O$1017),0)","v":14},{"$f":"IFERROR($E253*SUMIF('Daily Log'!#REF!,$B253,'Daily Log'!#REF!),0)","v":0},{"$f":"IFERROR($E253*SUMIF('Daily Log'!#REF!,$B253,'Daily Log'!#REF!),0)","v":0},{"$f":"IFERROR($E253*SUMIF('Daily Log'!#REF!,$B253,'Daily Log'!#REF!),0)","v":0},{"$f":"IFERROR($E253*SUMIF('Daily Log'!#REF!,$B253,'Daily Log'!#REF!),0)","v":0},{"$f":"IFERROR($E253*SUMIF('Daily Log'!#REF!,$B253,'Daily Log'!#REF!),0)","v":0},{"$f":"IFERROR($E253*SUMIF('Daily Log'!#REF!,$B253,'Daily Log'!#REF!),0)","v":0},{"$f":"IFERROR($E253*SUMIF('Daily Log'!#REF!,$B253,'Daily Log'!#REF!),0)","v":0},{"$f":"IFERROR($E253*SUMIF('Daily Log'!#REF!,$B253,'Daily Log'!#REF!),0)","v":0},{"$f":"IFERROR($E253*SUMIF('Daily Log'!#REF!,$B253,'Daily Log'!#REF!),0)","v":0},{"$f":"IFERROR($E253*SUMIF('Daily Log'!#REF!,$B253,'Daily Log'!#REF!),0)","v":0},{"$f":"IFERROR($E253*SUMIF('Daily Log'!#REF!,$B253,'Daily Log'!#REF!),0)","v":0},{"$f":"IFERROR($E253*SUMIF('Daily Log'!#REF!,$B253,'Daily Log'!#REF!),0)","v":0},{"$f":"IFERROR($E253*SUMIF('Daily Log'!#REF!,$B253,'Daily Log'!#REF!),0)","v":0},{"$f":"IFERROR($E253*SUMIF('Daily Log'!#REF!,$B253,'Daily Log'!#REF!),0)","v":0},{"$f":"IFERROR($E253*SUMIF('Daily Log'!#REF!,$B253,'Daily Log'!#REF!),0)","v":0},{"$f":"IFERROR($E253*SUMIF('Daily Log'!#REF!,$B253,'Daily Log'!#REF!),0)","v":0},{"$f":"IFERROR($E253*SUMIF('Daily Log'!#REF!,$B253,'Daily Log'!#REF!),0)","v":0},{"$f":"IFERROR($E253*SUMIF('Daily Log'!#REF!,$B253,'Daily Log'!#REF!),0)","v":0},{"$f":"IFERROR($E253*SUMIF('Daily Log'!#REF!,$B253,'Daily Log'!#REF!),0)","v":0},{"$f":"IFERROR($E253*SUMIF('Daily Log'!#REF!,$B253,'Daily Log'!#REF!),0)","v":0},{"$f":"IFERROR($E253*SUMIF('Daily Log'!#REF!,$B253,'Daily Log'!#REF!),0)","v":0},{"$f":"IFERROR($E253*SUMIF('Daily Log'!#REF!,$B253,'Daily Log'!#REF!),0)","v":0},{"$f":"IFERROR($E253*SUMIF('Daily Log'!#REF!,$B253,'Daily Log'!#REF!),0)","v":0},{"$f":"IFERROR($E253*SUMIF('Daily Log'!#REF!,$B253,'Daily Log'!#REF!),0)","v":0},{"$f":"IFERROR($E253*SUMIF('Daily Log'!#REF!,$B253,'Daily Log'!#REF!),0)","v":0},{"$f":"IFERROR($E253*SUMIF('Daily Log'!#REF!,$B253,'Daily Log'!#REF!),0)","v":0}]
[null,"CM07 HONEY (C)",null,"FFD-COLD BEVERAGE",1,91,{"$f":"IFERROR($E254*SUMIF('Daily Log'!$B$18:$B$1017,$B254,'Daily Log'!$C$18:$C$1017),0)","v":23},{"$f":"IFERROR($E254*SUMIF('Daily Log'!$E$18:$E$1017,$B254,'Daily Log'!$F$18:$F$1017),0)","v":16},{"$f":"IFERROR($E254*SUMIF('Daily Log'!$H$18:$H$1017,$B254,'Daily Log'!$I$18:$I$1017),0)","v":33},{"$f":"IFERROR($E254*SUMIF('Daily Log'!$K$18:$K$1017,$B254,'Daily Log'!$L$18:$L$1017),0)","v":16},{"$f":"IFERROR($E254*SUMIF('Daily Log'!$N$18:$N$1017,$B254,'Daily Log'!$O$18:$O$1017),0)","v":3},{"$f":"IFERROR($E254*SUMIF('Daily Log'!#REF!,$B254,'Daily Log'!#REF!),0)","v":0},{"$f":"IFERROR($E254*SUMIF('Daily Log'!#REF!,$B254,'Daily Log'!#REF!),0)","v":0},{"$f":"IFERROR($E254*SUMIF('Daily Log'!#REF!,$B254,'Daily Log'!#REF!),0)","v":0},{"$f":"IFERROR($E254*SUMIF('Daily Log'!#REF!,$B254,'Daily Log'!#REF!),0)","v":0},{"$f":"IFERROR($E254*SUMIF('Daily Log'!#REF!,$B254,'Daily Log'!#REF!),0)","v":0},{"$f":"IFERROR($E254*SUMIF('Daily Log'!#REF!,$B254,'Daily Log'!#REF!),0)","v":0},{"$f":"IFERROR($E254*SUMIF('Daily Log'!#REF!,$B254,'Daily Log'!#REF!),0)","v":0},{"$f":"IFERROR($E254*SUMIF('Daily Log'!#REF!,$B254,'Daily Log'!#REF!),0)","v":0},{"$f":"IFERROR($E254*SUMIF('Daily Log'!#REF!,$B254,'Daily Log'!#REF!),0)","v":0},{"$f":"IFERROR($E254*SUMIF('Daily Log'!#REF!,$B254,'Daily Log'!#REF!),0)","v":0},{"$f":"IFERROR($E254*SUMIF('Daily Log'!#REF!,$B254,'Daily Log'!#REF!),0)","v":0},{"$f":"IFERROR($E254*SUMIF('Daily Log'!#REF!,$B254,'Daily Log'!#REF!),0)","v":0},{"$f":"IFERROR($E254*SUMIF('Daily Log'!#REF!,$B254,'Daily Log'!#REF!),0)","v":0},{"$f":"IFERROR($E254*SUMIF('Daily Log'!#REF!,$B254,'Daily Log'!#REF!),0)","v":0},{"$f":"IFERROR($E254*SUMIF('Daily Log'!#REF!,$B254,'Daily Log'!#REF!),0)","v":0},{"$f":"IFERROR($E254*SUMIF('Daily Log'!#REF!,$B254,'Daily Log'!#REF!),0)","v":0},{"$f":"IFERROR($E254*SUMIF('Daily Log'!#REF!,$B254,'Daily Log'!#REF!),0)","v":0},{"$f":"IFERROR($E254*SUMIF('Daily Log'!#REF!,$B254,'Daily Log'!#REF!),0)","v":0},{"$f":"IFERROR($E254*SUMIF('Daily Log'!#REF!,$B254,'Daily Log'!#REF!),0)","v":0},{"$f":"IFERROR($E254*SUMIF('Daily Log'!#REF!,$B254,'Daily Log'!#REF!),0)","v":0},{"$f":"IFERROR($E254*SUMIF('Daily Log'!#REF!,$B254,'Daily Log'!#REF!),0)","v":0},{"$f":"IFERROR($E254*SUMIF('Daily Log'!#REF!,$B254,'Daily Log'!#REF!),0)","v":0},{"$f":"IFERROR($E254*SUMIF('Daily Log'!#REF!,$B254,'Daily Log'!#REF!),0)","v":0},{"$f":"IFERROR($E254*SUMIF('Daily Log'!#REF!,$B254,'Daily Log'!#REF!),0)","v":0},{"$f":"IFERROR($E254*SUMIF('Daily Log'!#REF!,$B254,'Daily Log'!#REF!),0)","v":0},{"$f":"IFERROR($E254*SUMIF('Daily Log'!#REF!,$B254,'Daily Log'!#REF!),0)","v":0}]
[null,"CM08 LEMON HONEY (C)",null,"FFD-COLD BEVERAGE",1,694,{"$f":"IFERROR($E255*SUMIF('Daily Log'!$B$18:$B$1017,$B255,'Daily Log'!$C$18:$C$1017),0)","v":169},{"$f":"IFERROR($E255*SUMIF('Daily Log'!$E$18:$E$1017,$B255,'Daily Log'!$F$18:$F$1017),0)","v":145},{"$f":"IFERROR($E255*SUMIF('Daily Log'!$H$18:$H$1017,$B255,'Daily Log'!$I$18:$I$1017),0)","v":219},{"$f":"IFERROR($E255*SUMIF('Daily Log'!$K$18:$K$1017,$B255,'Daily Log'!$L$18:$L$1017),0)","v":122},{"$f":"IFERROR($E255*SUMIF('Daily Log'!$N$18:$N$1017,$B255,'Daily Log'!$O$18:$O$1017),0)","v":39},{"$f":"IFERROR($E255*SUMIF('Daily Log'!#REF!,$B255,'Daily Log'!#REF!),0)","v":0},{"$f":"IFERROR($E255*SUMIF('Daily Log'!#REF!,$B255,'Daily Log'!#REF!),0)","v":0},{"$f":"IFERROR($E255*SUMIF('Daily Log'!#REF!,$B255,'Daily Log'!#REF!),0)","v":0},{"$f":"IFERROR($E255*SUMIF('Daily Log'!#REF!,$B255,'Daily Log'!#REF!),0)","v":0},{"$f":"IFERROR($E255*SUMIF('Daily Log'!#REF!,$B255,'Daily Log'!#REF!),0)","v":0},{"$f":"IFERROR($E255*SUMIF('Daily Log'!#REF!,$B255,'Daily Log'!#REF!),0)","v":0},{"$f":"IFERROR($E255*SUMIF('Daily Log'!#REF!,$B255,'Daily Log'!#REF!),0)","v":0},{"$f":"IFERROR($E255*SUMIF('Daily Log'!#REF!,$B255,'Daily Log'!#REF!),0)","v":0},{"$f":"IFERROR($E255*SUMIF('Daily Log'!#REF!,$B255,'Daily Log'!#REF!),0)","v":0},{"$f":"IFERROR($E255*SUMIF('Daily Log'!#REF!,$B255,'Daily Log'!#REF!),0)","v":0},{"$f":"IFERROR($E255*SUMIF('Daily Log'!#REF!,$B255,'Daily Log'!#REF!),0)","v":0},{"$f":"IFERROR($E255*SUMIF('Daily Log'!#REF!,$B255,'Daily Log'!#REF!),0)","v":0},{"$f":"IFERROR($E255*SUMIF('Daily Log'!#REF!,$B255,'Daily Log'!#REF!),0)","v":0},{"$f":"IFERROR($E255*SUMIF('Daily Log'!#REF!,$B255,'Daily Log'!#REF!),0)","v":0},{"$f":"IFERROR($E255*SUMIF('Daily Log'!#REF!,$B255,'Daily Log'!#REF!),0)","v":0},{"$f":"IFERROR($E255*SUMIF('Daily Log'!#REF!,$B255,'Daily Log'!#REF!),0)","v":0},{"$f":"IFERROR($E255*SUMIF('Daily Log'!#REF!,$B255,'Daily Log'!#REF!),0)","v":0},{"$f":"IFERROR($E255*SUMIF('Daily Log'!#REF!,$B255,'Daily Log'!#REF!),0)","v":0},{"$f":"IFERROR($E255*SUMIF('Daily Log'!#REF!,$B255,'Daily Log'!#REF!),0)","v":0},{"$f":"IFERROR($E255*SUMIF('Daily Log'!#REF!,$B255,'Daily Log'!#REF!),0)","v":0},{"$f":"IFERROR($E255*SUMIF('Daily Log'!#REF!,$B255,'Daily Log'!#REF!),0)","v":0},{"$f":"IFERROR($E255*SUMIF('Daily Log'!#REF!,$B255,'Daily Log'!#REF!),0)","v":0},{"$f":"IFERROR($E255*SUMIF('Daily Log'!#REF!,$B255,'Daily Log'!#REF!),0)","v":0},{"$f":"IFERROR($E255*SUMIF('Daily Log'!#REF!,$B255,'Daily Log'!#REF!),0)","v":0},{"$f":"IFERROR($E255*SUMIF('Daily Log'!#REF!,$B255,'Daily Log'!#REF!),0)","v":0},{"$f":"IFERROR($E255*SUMIF('Daily Log'!#REF!,$B255,'Daily Log'!#REF!),0)","v":0}]
[null,"CN01 MILO (H)",null,"FFD-HOT BEVERAGE",1,155,{"$f":"IFERROR($E256*SUMIF('Daily Log'!$B$18:$B$1017,$B256,'Daily Log'!$C$18:$C$1017),0)","v":38},{"$f":"IFERROR($E256*SUMIF('Daily Log'!$E$18:$E$1017,$B256,'Daily Log'!$F$18:$F$1017),0)","v":28},{"$f":"IFERROR($E256*SUMIF('Daily Log'!$H$18:$H$1017,$B256,'Daily Log'!$I$18:$I$1017),0)","v":42},{"$f":"IFERROR($E256*SUMIF('Daily Log'!$K$18:$K$1017,$B256,'Daily Log'!$L$18:$L$1017),0)","v":36},{"$f":"IFERROR($E256*SUMIF('Daily Log'!$N$18:$N$1017,$B256,'Daily Log'!$O$18:$O$1017),0)","v":11},{"$f":"IFERROR($E256*SUMIF('Daily Log'!#REF!,$B256,'Daily Log'!#REF!),0)","v":0},{"$f":"IFERROR($E256*SUMIF('Daily Log'!#REF!,$B256,'Daily Log'!#REF!),0)","v":0},{"$f":"IFERROR($E256*SUMIF('Daily Log'!#REF!,$B256,'Daily Log'!#REF!),0)","v":0},{"$f":"IFERROR($E256*SUMIF('Daily Log'!#REF!,$B256,'Daily Log'!#REF!),0)","v":0},{"$f":"IFERROR($E256*SUMIF('Daily Log'!#REF!,$B256,'Daily Log'!#REF!),0)","v":0},{"$f":"IFERROR($E256*SUMIF('Daily Log'!#REF!,$B256,'Daily Log'!#REF!),0)","v":0},{"$f":"IFERROR($E256*SUMIF('Daily Log'!#REF!,$B256,'Daily Log'!#REF!),0)","v":0},{"$f":"IFERROR($E256*SUMIF('Daily Log'!#REF!,$B256,'Daily Log'!#REF!),0)","v":0},{"$f":"IFERROR($E256*SUMIF('Daily Log'!#REF!,$B256,'Daily Log'!#REF!),0)","v":0},{"$f":"IFERROR($E256*SUMIF('Daily Log'!#REF!,$B256,'Daily Log'!#REF!),0)","v":0},{"$f":"IFERROR($E256*SUMIF('Daily Log'!#REF!,$B256,'Daily Log'!#REF!),0)","v":0},{"$f":"IFERROR($E256*SUMIF('Daily Log'!#REF!,$B256,'Daily Log'!#REF!),0)","v":0},{"$f":"IFERROR($E256*SUMIF('Daily Log'!#REF!,$B256,'Daily Log'!#REF!),0)","v":0},{"$f":"IFERROR($E256*SUMIF('Daily Log'!#REF!,$B256,'Daily Log'!#REF!),0)","v":0},{"$f":"IFERROR($E256*SUMIF('Daily Log'!#REF!,$B256,'Daily Log'!#REF!),0)","v":0},{"$f":"IFERROR($E256*SUMIF('Daily Log'!#REF!,$B256,'Daily Log'!#REF!),0)","v":0},{"$f":"IFERROR($E256*SUMIF('Daily Log'!#REF!,$B256,'Daily Log'!#REF!),0)","v":0},{"$f":"IFERROR($E256*SUMIF('Daily Log'!#REF!,$B256,'Daily Log'!#REF!),0)","v":0},{"$f":"IFERROR($E256*SUMIF('Daily Log'!#REF!,$B256,'Daily Log'!#REF!),0)","v":0},{"$f":"IFERROR($E256*SUMIF('Daily Log'!#REF!,$B256,'Daily Log'!#REF!),0)","v":0},{"$f":"IFERROR($E256*SUMIF('Daily Log'!#REF!,$B256,'Daily Log'!#REF!),0)","v":0},{"$f":"IFERROR($E256*SUMIF('Daily Log'!#REF!,$B256,'Daily Log'!#REF!),0)","v":0},{"$f":"IFERROR($E256*SUMIF('Daily Log'!#REF!,$B256,'Daily Log'!#REF!),0)","v":0},{"$f":"IFERROR($E256*SUMIF('Daily Log'!#REF!,$B256,'Daily Log'!#REF!),0)","v":0},{"$f":"IFERROR($E256*SUMIF('Daily Log'!#REF!,$B256,'Daily Log'!#REF!),0)","v":0},{"$f":"IFERROR($E256*SUMIF('Daily Log'!#REF!,$B256,'Daily Log'!#REF!),0)","v":0}]
[null,"CN02 NESCAFE (H)",null,"FFD-HOT BEVERAGE",1,56,{"$f":"IFERROR($E257*SUMIF('Daily Log'!$B$18:$B$1017,$B257,'Daily Log'!$C$18:$C$1017),0)","v":17},{"$f":"IFERROR($E257*SUMIF('Daily Log'!$E$18:$E$1017,$B257,'Daily Log'!$F$18:$F$1017),0)","v":12},{"$f":"IFERROR($E257*SUMIF('Daily Log'!$H$18:$H$1017,$B257,'Daily Log'!$I$18:$I$1017),0)","v":14},{"$f":"IFERROR($E257*SUMIF('Daily Log'!$K$18:$K$1017,$B257,'Daily Log'!$L$18:$L$1017),0)","v":11},{"$f":"IFERROR($E257*SUMIF('Daily Log'!$N$18:$N$1017,$B257,'Daily Log'!$O$18:$O$1017),0)","v":2},{"$f":"IFERROR($E257*SUMIF('Daily Log'!#REF!,$B257,'Daily Log'!#REF!),0)","v":0},{"$f":"IFERROR($E257*SUMIF('Daily Log'!#REF!,$B257,'Daily Log'!#REF!),0)","v":0},{"$f":"IFERROR($E257*SUMIF('Daily Log'!#REF!,$B257,'Daily Log'!#REF!),0)","v":0},{"$f":"IFERROR($E257*SUMIF('Daily Log'!#REF!,$B257,'Daily Log'!#REF!),0)","v":0},{"$f":"IFERROR($E257*SUMIF('Daily Log'!#REF!,$B257,'Daily Log'!#REF!),0)","v":0},{"$f":"IFERROR($E257*SUMIF('Daily Log'!#REF!,$B257,'Daily Log'!#REF!),0)","v":0},{"$f":"IFERROR($E257*SUMIF('Daily Log'!#REF!,$B257,'Daily Log'!#REF!),0)","v":0},{"$f":"IFERROR($E257*SUMIF('Daily Log'!#REF!,$B257,'Daily Log'!#REF!),0)","v":0},{"$f":"IFERROR($E257*SUMIF('Daily Log'!#REF!,$B257,'Daily Log'!#REF!),0)","v":0},{"$f":"IFERROR($E257*SUMIF('Daily Log'!#REF!,$B257,'Daily Log'!#REF!),0)","v":0},{"$f":"IFERROR($E257*SUMIF('Daily Log'!#REF!,$B257,'Daily Log'!#REF!),0)","v":0},{"$f":"IFERROR($E257*SUMIF('Daily Log'!#REF!,$B257,'Daily Log'!#REF!),0)","v":0},{"$f":"IFERROR($E257*SUMIF('Daily Log'!#REF!,$B257,'Daily Log'!#REF!),0)","v":0},{"$f":"IFERROR($E257*SUMIF('Daily Log'!#REF!,$B257,'Daily Log'!#REF!),0)","v":0},{"$f":"IFERROR($E257*SUMIF('Daily Log'!#REF!,$B257,'Daily Log'!#REF!),0)","v":0},{"$f":"IFERROR($E257*SUMIF('Daily Log'!#REF!,$B257,'Daily Log'!#REF!),0)","v":0},{"$f":"IFERROR($E257*SUMIF('Daily Log'!#REF!,$B257,'Daily Log'!#REF!),0)","v":0},{"$f":"IFERROR($E257*SUMIF('Daily Log'!#REF!,$B257,'Daily Log'!#REF!),0)","v":0},{"$f":"IFERROR($E257*SUMIF('Daily Log'!#REF!,$B257,'Daily Log'!#REF!),0)","v":0},{"$f":"IFERROR($E257*SUMIF('Daily Log'!#REF!,$B257,'Daily Log'!#REF!),0)","v":0},{"$f":"IFERROR($E257*SUMIF('Daily Log'!#REF!,$B257,'Daily Log'!#REF!),0)","v":0},{"$f":"IFERROR($E257*SUMIF('Daily Log'!#REF!,$B257,'Daily Log'!#REF!),0)","v":0},{"$f":"IFERROR($E257*SUMIF('Daily Log'!#REF!,$B257,'Daily Log'!#REF!),0)","v":0},{"$f":"IFERROR($E257*SUMIF('Daily Log'!#REF!,$B257,'Daily Log'!#REF!),0)","v":0},{"$f":"IFERROR($E257*SUMIF('Daily Log'!#REF!,$B257,'Daily Log'!#REF!),0)","v":0},{"$f":"IFERROR($E257*SUMIF('Daily Log'!#REF!,$B257,'Daily Log'!#REF!),0)","v":0}]
[null,"CN03 TEA (H)",null,"FFD-HOT BEVERAGE",1,26,{"$f":"IFERROR($E258*SUMIF('Daily Log'!$B$18:$B$1017,$B258,'Daily Log'!$C$18:$C$1017),0)","v":9},{"$f":"IFERROR($E258*SUMIF('Daily Log'!$E$18:$E$1017,$B258,'Daily Log'!$F$18:$F$1017),0)","v":2},{"$f":"IFERROR($E258*SUMIF('Daily Log'!$H$18:$H$1017,$B258,'Daily Log'!$I$18:$I$1017),0)","v":3},{"$f":"IFERROR($E258*SUMIF('Daily Log'!$K$18:$K$1017,$B258,'Daily Log'!$L$18:$L$1017),0)","v":9},{"$f":"IFERROR($E258*SUMIF('Daily Log'!$N$18:$N$1017,$B258,'Daily Log'!$O$18:$O$1017),0)","v":3},{"$f":"IFERROR($E258*SUMIF('Daily Log'!#REF!,$B258,'Daily Log'!#REF!),0)","v":0},{"$f":"IFERROR($E258*SUMIF('Daily Log'!#REF!,$B258,'Daily Log'!#REF!),0)","v":0},{"$f":"IFERROR($E258*SUMIF('Daily Log'!#REF!,$B258,'Daily Log'!#REF!),0)","v":0},{"$f":"IFERROR($E258*SUMIF('Daily Log'!#REF!,$B258,'Daily Log'!#REF!),0)","v":0},{"$f":"IFERROR($E258*SUMIF('Daily Log'!#REF!,$B258,'Daily Log'!#REF!),0)","v":0},{"$f":"IFERROR($E258*SUMIF('Daily Log'!#REF!,$B258,'Daily Log'!#REF!),0)","v":0},{"$f":"IFERROR($E258*SUMIF('Daily Log'!#REF!,$B258,'Daily Log'!#REF!),0)","v":0},{"$f":"IFERROR($E258*SUMIF('Daily Log'!#REF!,$B258,'Daily Log'!#REF!),0)","v":0},{"$f":"IFERROR($E258*SUMIF('Daily Log'!#REF!,$B258,'Daily Log'!#REF!),0)","v":0},{"$f":"IFERROR($E258*SUMIF('Daily Log'!#REF!,$B258,'Daily Log'!#REF!),0)","v":0},{"$f":"IFERROR($E258*SUMIF('Daily Log'!#REF!,$B258,'Daily Log'!#REF!),0)","v":0},{"$f":"IFERROR($E258*SUMIF('Daily Log'!#REF!,$B258,'Daily Log'!#REF!),0)","v":0},{"$f":"IFERROR($E258*SUMIF('Daily Log'!#REF!,$B258,'Daily Log'!#REF!),0)","v":0},{"$f":"IFERROR($E258*SUMIF('Daily Log'!#REF!,$B258,'Daily Log'!#REF!),0)","v":0},{"$f":"IFERROR($E258*SUMIF('Daily Log'!#REF!,$B258,'Daily Log'!#REF!),0)","v":0},{"$f":"IFERROR($E258*SUMIF('Daily Log'!#REF!,$B258,'Daily Log'!#REF!),0)","v":0},{"$f":"IFERROR($E258*SUMIF('Daily Log'!#REF!,$B258,'Daily Log'!#REF!),0)","v":0},{"$f":"IFERROR($E258*SUMIF('Daily Log'!#REF!,$B258,'Daily Log'!#REF!),0)","v":0},{"$f":"IFERROR($E258*SUMIF('Daily Log'!#REF!,$B258,'Daily Log'!#REF!),0)","v":0},{"$f":"IFERROR($E258*SUMIF('Daily Log'!#REF!,$B258,'Daily Log'!#REF!),0)","v":0},{"$f":"IFERROR($E258*SUMIF('Daily Log'!#REF!,$B258,'Daily Log'!#REF!),0)","v":0},{"$f":"IFERROR($E258*SUMIF('Daily Log'!#REF!,$B258,'Daily Log'!#REF!),0)","v":0},{"$f":"IFERROR($E258*SUMIF('Daily Log'!#REF!,$B258,'Daily Log'!#REF!),0)","v":0},{"$f":"IFERROR($E258*SUMIF('Daily Log'!#REF!,$B258,'Daily Log'!#REF!),0)","v":0},{"$f":"IFERROR($E258*SUMIF('Daily Log'!#REF!,$B258,'Daily Log'!#REF!),0)","v":0},{"$f":"IFERROR($E258*SUMIF('Daily Log'!#REF!,$B258,'Daily Log'!#REF!),0)","v":0}]
[null,"CN04 LEMON TEA (H)",null,"FFD-HOT BEVERAGE",1,33,{"$f":"IFERROR($E259*SUMIF('Daily Log'!$B$18:$B$1017,$B259,'Daily Log'!$C$18:$C$1017),0)","v":1},{"$f":"IFERROR($E259*SUMIF('Daily Log'!$E$18:$E$1017,$B259,'Daily Log'!$F$18:$F$1017),0)","v":5},{"$f":"IFERROR($E259*SUMIF('Daily Log'!$H$18:$H$1017,$B259,'Daily Log'!$I$18:$I$1017),0)","v":11},{"$f":"IFERROR($E259*SUMIF('Daily Log'!$K$18:$K$1017,$B259,'Daily Log'!$L$18:$L$1017),0)","v":10},{"$f":"IFERROR($E259*SUMIF('Daily Log'!$N$18:$N$1017,$B259,'Daily Log'!$O$18:$O$1017),0)","v":6},{"$f":"IFERROR($E259*SUMIF('Daily Log'!#REF!,$B259,'Daily Log'!#REF!),0)","v":0},{"$f":"IFERROR($E259*SUMIF('Daily Log'!#REF!,$B259,'Daily Log'!#REF!),0)","v":0},{"$f":"IFERROR($E259*SUMIF('Daily Log'!#REF!,$B259,'Daily Log'!#REF!),0)","v":0},{"$f":"IFERROR($E259*SUMIF('Daily Log'!#REF!,$B259,'Daily Log'!#REF!),0)","v":0},{"$f":"IFERROR($E259*SUMIF('Daily Log'!#REF!,$B259,'Daily Log'!#REF!),0)","v":0},{"$f":"IFERROR($E259*SUMIF('Daily Log'!#REF!,$B259,'Daily Log'!#REF!),0)","v":0},{"$f":"IFERROR($E259*SUMIF('Daily Log'!#REF!,$B259,'Daily Log'!#REF!),0)","v":0},{"$f":"IFERROR($E259*SUMIF('Daily Log'!#REF!,$B259,'Daily Log'!#REF!),0)","v":0},{"$f":"IFERROR($E259*SUMIF('Daily Log'!#REF!,$B259,'Daily Log'!#REF!),0)","v":0},{"$f":"IFERROR($E259*SUMIF('Daily Log'!#REF!,$B259,'Daily Log'!#REF!),0)","v":0},{"$f":"IFERROR($E259*SUMIF('Daily Log'!#REF!,$B259,'Daily Log'!#REF!),0)","v":0},{"$f":"IFERROR($E259*SUMIF('Daily Log'!#REF!,$B259,'Daily Log'!#REF!),0)","v":0},{"$f":"IFERROR($E259*SUMIF('Daily Log'!#REF!,$B259,'Daily Log'!#REF!),0)","v":0},{"$f":"IFERROR($E259*SUMIF('Daily Log'!#REF!,$B259,'Daily Log'!#REF!),0)","v":0},{"$f":"IFERROR($E259*SUMIF('Daily Log'!#REF!,$B259,'Daily Log'!#REF!),0)","v":0},{"$f":"IFERROR($E259*SUMIF('Daily Log'!#REF!,$B259,'Daily Log'!#REF!),0)","v":0},{"$f":"IFERROR($E259*SUMIF('Daily Log'!#REF!,$B259,'Daily Log'!#REF!),0)","v":0},{"$f":"IFERROR($E259*SUMIF('Daily Log'!#REF!,$B259,'Daily Log'!#REF!),0)","v":0},{"$f":"IFERROR($E259*SUMIF('Daily Log'!#REF!,$B259,'Daily Log'!#REF!),0)","v":0},{"$f":"IFERROR($E259*SUMIF('Daily Log'!#REF!,$B259,'Daily Log'!#REF!),0)","v":0},{"$f":"IFERROR($E259*SUMIF('Daily Log'!#REF!,$B259,'Daily Log'!#REF!),0)","v":0},{"$f":"IFERROR($E259*SUMIF('Daily Log'!#REF!,$B259,'Daily Log'!#REF!),0)","v":0},{"$f":"IFERROR($E259*SUMIF('Daily Log'!#REF!,$B259,'Daily Log'!#REF!),0)","v":0},{"$f":"IFERROR($E259*SUMIF('Daily Log'!#REF!,$B259,'Daily Log'!#REF!),0)","v":0},{"$f":"IFERROR($E259*SUMIF('Daily Log'!#REF!,$B259,'Daily Log'!#REF!),0)","v":0},{"$f":"IFERROR($E259*SUMIF('Daily Log'!#REF!,$B259,'Daily Log'!#REF!),0)","v":0}]
[null,"CN05 GRN TEA (H)",null,"FFD-HOT BEVERAGE",1,126,{"$f":"IFERROR($E260*SUMIF('Daily Log'!$B$18:$B$1017,$B260,'Daily Log'!$C$18:$C$1017),0)","v":31},{"$f":"IFERROR($E260*SUMIF('Daily Log'!$E$18:$E$1017,$B260,'Daily Log'!$F$18:$F$1017),0)","v":28},{"$f":"IFERROR($E260*SUMIF('Daily Log'!$H$18:$H$1017,$B260,'Daily Log'!$I$18:$I$1017),0)","v":34},{"$f":"IFERROR($E260*SUMIF('Daily Log'!$K$18:$K$1017,$B260,'Daily Log'!$L$18:$L$1017),0)","v":22},{"$f":"IFERROR($E260*SUMIF('Daily Log'!$N$18:$N$1017,$B260,'Daily Log'!$O$18:$O$1017),0)","v":11},{"$f":"IFERROR($E260*SUMIF('Daily Log'!#REF!,$B260,'Daily Log'!#REF!),0)","v":0},{"$f":"IFERROR($E260*SUMIF('Daily Log'!#REF!,$B260,'Daily Log'!#REF!),0)","v":0},{"$f":"IFERROR($E260*SUMIF('Daily Log'!#REF!,$B260,'Daily Log'!#REF!),0)","v":0},{"$f":"IFERROR($E260*SUMIF('Daily Log'!#REF!,$B260,'Daily Log'!#REF!),0)","v":0},{"$f":"IFERROR($E260*SUMIF('Daily Log'!#REF!,$B260,'Daily Log'!#REF!),0)","v":0},{"$f":"IFERROR($E260*SUMIF('Daily Log'!#REF!,$B260,'Daily Log'!#REF!),0)","v":0},{"$f":"IFERROR($E260*SUMIF('Daily Log'!#REF!,$B260,'Daily Log'!#REF!),0)","v":0},{"$f":"IFERROR($E260*SUMIF('Daily Log'!#REF!,$B260,'Daily Log'!#REF!),0)","v":0},{"$f":"IFERROR($E260*SUMIF('Daily Log'!#REF!,$B260,'Daily Log'!#REF!),0)","v":0},{"$f":"IFERROR($E260*SUMIF('Daily Log'!#REF!,$B260,'Daily Log'!#REF!),0)","v":0},{"$f":"IFERROR($E260*SUMIF('Daily Log'!#REF!,$B260,'Daily Log'!#REF!),0)","v":0},{"$f":"IFERROR($E260*SUMIF('Daily Log'!#REF!,$B260,'Daily Log'!#REF!),0)","v":0},{"$f":"IFERROR($E260*SUMIF('Daily Log'!#REF!,$B260,'Daily Log'!#REF!),0)","v":0},{"$f":"IFERROR($E260*SUMIF('Daily Log'!#REF!,$B260,'Daily Log'!#REF!),0)","v":0},{"$f":"IFERROR($E260*SUMIF('Daily Log'!#REF!,$B260,'Daily Log'!#REF!),0)","v":0},{"$f":"IFERROR($E260*SUMIF('Daily Log'!#REF!,$B260,'Daily Log'!#REF!),0)","v":0},{"$f":"IFERROR($E260*SUMIF('Daily Log'!#REF!,$B260,'Daily Log'!#REF!),0)","v":0},{"$f":"IFERROR($E260*SUMIF('Daily Log'!#REF!,$B260,'Daily Log'!#REF!),0)","v":0},{"$f":"IFERROR($E260*SUMIF('Daily Log'!#REF!,$B260,'Daily Log'!#REF!),0)","v":0},{"$f":"IFERROR($E260*SUMIF('Daily Log'!#REF!,$B260,'Daily Log'!#REF!),0)","v":0},{"$f":"IFERROR($E260*SUMIF('Daily Log'!#REF!,$B260,'Daily Log'!#REF!),0)","v":0},{"$f":"IFERROR($E260*SUMIF('Daily Log'!#REF!,$B260,'Daily Log'!#REF!),0)","v":0},{"$f":"IFERROR($E260*SUMIF('Daily Log'!#REF!,$B260,'Daily Log'!#REF!),0)","v":0},{"$f":"IFERROR($E260*SUMIF('Daily Log'!#REF!,$B260,'Daily Log'!#REF!),0)","v":0},{"$f":"IFERROR($E260*SUMIF('Daily Log'!#REF!,$B260,'Daily Log'!#REF!),0)","v":0},{"$f":"IFERROR($E260*SUMIF('Daily Log'!#REF!,$B260,'Daily Log'!#REF!),0)","v":0}]
[null,"CN06 HNY GRN TEA (H)",null,"FFD-HOT BEVERAGE",1,201,{"$f":"IFERROR($E261*SUMIF('Daily Log'!$B$18:$B$1017,$B261,'Daily Log'!$C$18:$C$1017),0)","v":58},{"$f":"IFERROR($E261*SUMIF('Daily Log'!$E$18:$E$1017,$B261,'Daily Log'!$F$18:$F$1017),0)","v":20},{"$f":"IFERROR($E261*SUMIF('Daily Log'!$H$18:$H$1017,$B261,'Daily Log'!$I$18:$I$1017),0)","v":68},{"$f":"IFERROR($E261*SUMIF('Daily Log'!$K$18:$K$1017,$B261,'Daily Log'!$L$18:$L$1017),0)","v":36},{"$f":"IFERROR($E261*SUMIF('Daily Log'!$N$18:$N$1017,$B261,'Daily Log'!$O$18:$O$1017),0)","v":19},{"$f":"IFERROR($E261*SUMIF('Daily Log'!#REF!,$B261,'Daily Log'!#REF!),0)","v":0},{"$f":"IFERROR($E261*SUMIF('Daily Log'!#REF!,$B261,'Daily Log'!#REF!),0)","v":0},{"$f":"IFERROR($E261*SUMIF('Daily Log'!#REF!,$B261,'Daily Log'!#REF!),0)","v":0},{"$f":"IFERROR($E261*SUMIF('Daily Log'!#REF!,$B261,'Daily Log'!#REF!),0)","v":0},{"$f":"IFERROR($E261*SUMIF('Daily Log'!#REF!,$B261,'Daily Log'!#REF!),0)","v":0},{"$f":"IFERROR($E261*SUMIF('Daily Log'!#REF!,$B261,'Daily Log'!#REF!),0)","v":0},{"$f":"IFERROR($E261*SUMIF('Daily Log'!#REF!,$B261,'Daily Log'!#REF!),0)","v":0},{"$f":"IFERROR($E261*SUMIF('Daily Log'!#REF!,$B261,'Daily Log'!#REF!),0)","v":0},{"$f":"IFERROR($E261*SUMIF('Daily Log'!#REF!,$B261,'Daily Log'!#REF!),0)","v":0},{"$f":"IFERROR($E261*SUMIF('Daily Log'!#REF!,$B261,'Daily Log'!#REF!),0)","v":0},{"$f":"IFERROR($E261*SUMIF('Daily Log'!#REF!,$B261,'Daily Log'!#REF!),0)","v":0},{"$f":"IFERROR($E261*SUMIF('Daily Log'!#REF!,$B261,'Daily Log'!#REF!),0)","v":0},{"$f":"IFERROR($E261*SUMIF('Daily Log'!#REF!,$B261,'Daily Log'!#REF!),0)","v":0},{"$f":"IFERROR($E261*SUMIF('Daily Log'!#REF!,$B261,'Daily Log'!#REF!),0)","v":0},{"$f":"IFERROR($E261*SUMIF('Daily Log'!#REF!,$B261,'Daily Log'!#REF!),0)","v":0},{"$f":"IFERROR($E261*SUMIF('Daily Log'!#REF!,$B261,'Daily Log'!#REF!),0)","v":0},{"$f":"IFERROR($E261*SUMIF('Daily Log'!#REF!,$B261,'Daily Log'!#REF!),0)","v":0},{"$f":"IFERROR($E261*SUMIF('Daily Log'!#REF!,$B261,'Daily Log'!#REF!),0)","v":0},{"$f":"IFERROR($E261*SUMIF('Daily Log'!#REF!,$B261,'Daily Log'!#REF!),0)","v":0},{"$f":"IFERROR($E261*SUMIF('Daily Log'!#REF!,$B261,'Daily Log'!#REF!),0)","v":0},{"$f":"IFERROR($E261*SUMIF('Daily Log'!#REF!,$B261,'Daily Log'!#REF!),0)","v":0},{"$f":"IFERROR($E261*SUMIF('Daily Log'!#REF!,$B261,'Daily Log'!#REF!),0)","v":0},{"$f":"IFERROR($E261*SUMIF('Daily Log'!#REF!,$B261,'Daily Log'!#REF!),0)","v":0},{"$f":"IFERROR($E261*SUMIF('Daily Log'!#REF!,$B261,'Daily Log'!#REF!),0)","v":0},{"$f":"IFERROR($E261*SUMIF('Daily Log'!#REF!,$B261,'Daily Log'!#REF!),0)","v":0},{"$f":"IFERROR($E261*SUMIF('Daily Log'!#REF!,$B261,'Daily Log'!#REF!),0)","v":0}]
[null,"CN07 HONEY (H)",null,"FFD-HOT BEVERAGE",1,74,{"$f":"IFERROR($E262*SUMIF('Daily Log'!$B$18:$B$1017,$B262,'Daily Log'!$C$18:$C$1017),0)","v":15},{"$f":"IFERROR($E262*SUMIF('Daily Log'!$E$18:$E$1017,$B262,'Daily Log'!$F$18:$F$1017),0)","v":12},{"$f":"IFERROR($E262*SUMIF('Daily Log'!$H$18:$H$1017,$B262,'Daily Log'!$I$18:$I$1017),0)","v":35},{"$f":"IFERROR($E262*SUMIF('Daily Log'!$K$18:$K$1017,$B262,'Daily Log'!$L$18:$L$1017),0)","v":11},{"$f":"IFERROR($E262*SUMIF('Daily Log'!$N$18:$N$1017,$B262,'Daily Log'!$O$18:$O$1017),0)","v":1},{"$f":"IFERROR($E262*SUMIF('Daily Log'!#REF!,$B262,'Daily Log'!#REF!),0)","v":0},{"$f":"IFERROR($E262*SUMIF('Daily Log'!#REF!,$B262,'Daily Log'!#REF!),0)","v":0},{"$f":"IFERROR($E262*SUMIF('Daily Log'!#REF!,$B262,'Daily Log'!#REF!),0)","v":0},{"$f":"IFERROR($E262*SUMIF('Daily Log'!#REF!,$B262,'Daily Log'!#REF!),0)","v":0},{"$f":"IFERROR($E262*SUMIF('Daily Log'!#REF!,$B262,'Daily Log'!#REF!),0)","v":0},{"$f":"IFERROR($E262*SUMIF('Daily Log'!#REF!,$B262,'Daily Log'!#REF!),0)","v":0},{"$f":"IFERROR($E262*SUMIF('Daily Log'!#REF!,$B262,'Daily Log'!#REF!),0)","v":0},{"$f":"IFERROR($E262*SUMIF('Daily Log'!#REF!,$B262,'Daily Log'!#REF!),0)","v":0},{"$f":"IFERROR($E262*SUMIF('Daily Log'!#REF!,$B262,'Daily Log'!#REF!),0)","v":0},{"$f":"IFERROR($E262*SUMIF('Daily Log'!#REF!,$B262,'Daily Log'!#REF!),0)","v":0},{"$f":"IFERROR($E262*SUMIF('Daily Log'!#REF!,$B262,'Daily Log'!#REF!),0)","v":0},{"$f":"IFERROR($E262*SUMIF('Daily Log'!#REF!,$B262,'Daily Log'!#REF!),0)","v":0},{"$f":"IFERROR($E262*SUMIF('Daily Log'!#REF!,$B262,'Daily Log'!#REF!),0)","v":0},{"$f":"IFERROR($E262*SUMIF('Daily Log'!#REF!,$B262,'Daily Log'!#REF!),0)","v":0},{"$f":"IFERROR($E262*SUMIF('Daily Log'!#REF!,$B262,'Daily Log'!#REF!),0)","v":0},{"$f":"IFERROR($E262*SUMIF('Daily Log'!#REF!,$B262,'Daily Log'!#REF!),0)","v":0},{"$f":"IFERROR($E262*SUMIF('Daily Log'!#REF!,$B262,'Daily Log'!#REF!),0)","v":0},{"$f":"IFERROR($E262*SUMIF('Daily Log'!#REF!,$B262,'Daily Log'!#REF!),0)","v":0},{"$f":"IFERROR($E262*SUMIF('Daily Log'!#REF!,$B262,'Daily Log'!#REF!),0)","v":0},{"$f":"IFERROR($E262*SUMIF('Daily Log'!#REF!,$B262,'Daily Log'!#REF!),0)","v":0},{"$f":"IFERROR($E262*SUMIF('Daily Log'!#REF!,$B262,'Daily Log'!#REF!),0)","v":0},{"$f":"IFERROR($E262*SUMIF('Daily Log'!#REF!,$B262,'Daily Log'!#REF!),0)","v":0},{"$f":"IFERROR($E262*SUMIF('Daily Log'!#REF!,$B262,'Daily Log'!#REF!),0)","v":0},{"$f":"IFERROR($E262*SUMIF('Daily Log'!#REF!,$B262,'Daily Log'!#REF!),0)","v":0},{"$f":"IFERROR($E262*SUMIF('Daily Log'!#REF!,$B262,'Daily Log'!#REF!),0)","v":0},{"$f":"IFERROR($E262*SUMIF('Daily Log'!#REF!,$B262,'Daily Log'!#REF!),0)","v":0}]
[null,"CN08 LEMON HONEY (H)",null,"FFD-HOT BEVERAGE",1,484,{"$f":"IFERROR($E263*SUMIF('Daily Log'!$B$18:$B$1017,$B263,'Daily Log'!$C$18:$C$1017),0)","v":119},{"$f":"IFERROR($E263*SUMIF('Daily Log'!$E$18:$E$1017,$B263,'Daily Log'!$F$18:$F$1017),0)","v":105},{"$f":"IFERROR($E263*SUMIF('Daily Log'!$H$18:$H$1017,$B263,'Daily Log'!$I$18:$I$1017),0)","v":151},{"$f":"IFERROR($E263*SUMIF('Daily Log'!$K$18:$K$1017,$B263,'Daily Log'!$L$18:$L$1017),0)","v":92},{"$f":"IFERROR($E263*SUMIF('Daily Log'!$N$18:$N$1017,$B263,'Daily Log'!$O$18:$O$1017),0)","v":17},{"$f":"IFERROR($E263*SUMIF('Daily Log'!#REF!,$B263,'Daily Log'!#REF!),0)","v":0},{"$f":"IFERROR($E263*SUMIF('Daily Log'!#REF!,$B263,'Daily Log'!#REF!),0)","v":0},{"$f":"IFERROR($E263*SUMIF('Daily Log'!#REF!,$B263,'Daily Log'!#REF!),0)","v":0},{"$f":"IFERROR($E263*SUMIF('Daily Log'!#REF!,$B263,'Daily Log'!#REF!),0)","v":0},{"$f":"IFERROR($E263*SUMIF('Daily Log'!#REF!,$B263,'Daily Log'!#REF!),0)","v":0},{"$f":"IFERROR($E263*SUMIF('Daily Log'!#REF!,$B263,'Daily Log'!#REF!),0)","v":0},{"$f":"IFERROR($E263*SUMIF('Daily Log'!#REF!,$B263,'Daily Log'!#REF!),0)","v":0},{"$f":"IFERROR($E263*SUMIF('Daily Log'!#REF!,$B263,'Daily Log'!#REF!),0)","v":0},{"$f":"IFERROR($E263*SUMIF('Daily Log'!#REF!,$B263,'Daily Log'!#REF!),0)","v":0},{"$f":"IFERROR($E263*SUMIF('Daily Log'!#REF!,$B263,'Daily Log'!#REF!),0)","v":0},{"$f":"IFERROR($E263*SUMIF('Daily Log'!#REF!,$B263,'Daily Log'!#REF!),0)","v":0},{"$f":"IFERROR($E263*SUMIF('Daily Log'!#REF!,$B263,'Daily Log'!#REF!),0)","v":0},{"$f":"IFERROR($E263*SUMIF('Daily Log'!#REF!,$B263,'Daily Log'!#REF!),0)","v":0},{"$f":"IFERROR($E263*SUMIF('Daily Log'!#REF!,$B263,'Daily Log'!#REF!),0)","v":0},{"$f":"IFERROR($E263*SUMIF('Daily Log'!#REF!,$B263,'Daily Log'!#REF!),0)","v":0},{"$f":"IFERROR($E263*SUMIF('Daily Log'!#REF!,$B263,'Daily Log'!#REF!),0)","v":0},{"$f":"IFERROR($E263*SUMIF('Daily Log'!#REF!,$B263,'Daily Log'!#REF!),0)","v":0},{"$f":"IFERROR($E263*SUMIF('Daily Log'!#REF!,$B263,'Daily Log'!#REF!),0)","v":0},{"$f":"IFERROR($E263*SUMIF('Daily Log'!#REF!,$B263,'Daily Log'!#REF!),0)","v":0},{"$f":"IFERROR($E263*SUMIF('Daily Log'!#REF!,$B263,'Daily Log'!#REF!),0)","v":0},{"$f":"IFERROR($E263*SUMIF('Daily Log'!#REF!,$B263,'Daily Log'!#REF!),0)","v":0},{"$f":"IFERROR($E263*SUMIF('Daily Log'!#REF!,$B263,'Daily Log'!#REF!),0)","v":0},{"$f":"IFERROR($E263*SUMIF('Daily Log'!#REF!,$B263,'Daily Log'!#REF!),0)","v":0},{"$f":"IFERROR($E263*SUMIF('Daily Log'!#REF!,$B263,'Daily Log'!#REF!),0)","v":0},{"$f":"IFERROR($E263*SUMIF('Daily Log'!#REF!,$B263,'Daily Log'!#REF!),0)","v":0},{"$f":"IFERROR($E263*SUMIF('Daily Log'!#REF!,$B263,'Daily Log'!#REF!),0)","v":0}]
[null,"CN12 CHAMOMILE (H)",null,"FFD-HOT BEVERAGE",1,27,{"$f":"IFERROR($E264*SUMIF('Daily Log'!$B$18:$B$1017,$B264,'Daily Log'!$C$18:$C$1017),0)","v":5},{"$f":"IFERROR($E264*SUMIF('Daily Log'!$E$18:$E$1017,$B264,'Daily Log'!$F$18:$F$1017),0)","v":3},{"$f":"IFERROR($E264*SUMIF('Daily Log'!$H$18:$H$1017,$B264,'Daily Log'!$I$18:$I$1017),0)","v":8},{"$f":"IFERROR($E264*SUMIF('Daily Log'!$K$18:$K$1017,$B264,'Daily Log'!$L$18:$L$1017),0)","v":9},{"$f":"IFERROR($E264*SUMIF('Daily Log'!$N$18:$N$1017,$B264,'Daily Log'!$O$18:$O$1017),0)","v":2},{"$f":"IFERROR($E264*SUMIF('Daily Log'!#REF!,$B264,'Daily Log'!#REF!),0)","v":0},{"$f":"IFERROR($E264*SUMIF('Daily Log'!#REF!,$B264,'Daily Log'!#REF!),0)","v":0},{"$f":"IFERROR($E264*SUMIF('Daily Log'!#REF!,$B264,'Daily Log'!#REF!),0)","v":0},{"$f":"IFERROR($E264*SUMIF('Daily Log'!#REF!,$B264,'Daily Log'!#REF!),0)","v":0},{"$f":"IFERROR($E264*SUMIF('Daily Log'!#REF!,$B264,'Daily Log'!#REF!),0)","v":0},{"$f":"IFERROR($E264*SUMIF('Daily Log'!#REF!,$B264,'Daily Log'!#REF!),0)","v":0},{"$f":"IFERROR($E264*SUMIF('Daily Log'!#REF!,$B264,'Daily Log'!#REF!),0)","v":0},{"$f":"IFERROR($E264*SUMIF('Daily Log'!#REF!,$B264,'Daily Log'!#REF!),0)","v":0},{"$f":"IFERROR($E264*SUMIF('Daily Log'!#REF!,$B264,'Daily Log'!#REF!),0)","v":0},{"$f":"IFERROR($E264*SUMIF('Daily Log'!#REF!,$B264,'Daily Log'!#REF!),0)","v":0},{"$f":"IFERROR($E264*SUMIF('Daily Log'!#REF!,$B264,'Daily Log'!#REF!),0)","v":0},{"$f":"IFERROR($E264*SUMIF('Daily Log'!#REF!,$B264,'Daily Log'!#REF!),0)","v":0},{"$f":"IFERROR($E264*SUMIF('Daily Log'!#REF!,$B264,'Daily Log'!#REF!),0)","v":0},{"$f":"IFERROR($E264*SUMIF('Daily Log'!#REF!,$B264,'Daily Log'!#REF!),0)","v":0},{"$f":"IFERROR($E264*SUMIF('Daily Log'!#REF!,$B264,'Daily Log'!#REF!),0)","v":0},{"$f":"IFERROR($E264*SUMIF('Daily Log'!#REF!,$B264,'Daily Log'!#REF!),0)","v":0},{"$f":"IFERROR($E264*SUMIF('Daily Log'!#REF!,$B264,'Daily Log'!#REF!),0)","v":0},{"$f":"IFERROR($E264*SUMIF('Daily Log'!#REF!,$B264,'Daily Log'!#REF!),0)","v":0},{"$f":"IFERROR($E264*SUMIF('Daily Log'!#REF!,$B264,'Daily Log'!#REF!),0)","v":0},{"$f":"IFERROR($E264*SUMIF('Daily Log'!#REF!,$B264,'Daily Log'!#REF!),0)","v":0},{"$f":"IFERROR($E264*SUMIF('Daily Log'!#REF!,$B264,'Daily Log'!#REF!),0)","v":0},{"$f":"IFERROR($E264*SUMIF('Daily Log'!#REF!,$B264,'Daily Log'!#REF!),0)","v":0},{"$f":"IFERROR($E264*SUMIF('Daily Log'!#REF!,$B264,'Daily Log'!#REF!),0)","v":0},{"$f":"IFERROR($E264*SUMIF('Daily Log'!#REF!,$B264,'Daily Log'!#REF!),0)","v":0},{"$f":"IFERROR($E264*SUMIF('Daily Log'!#REF!,$B264,'Daily Log'!#REF!),0)","v":0},{"$f":"IFERROR($E264*SUMIF('Daily Log'!#REF!,$B264,'Daily Log'!#REF!),0)","v":0}]
[null,"CN13 DARJEELING (H)",null,"FFD-HOT BEVERAGE",1,9,{"$f":"IFERROR($E265*SUMIF('Daily Log'!$B$18:$B$1017,$B265,'Daily Log'!$C$18:$C$1017),0)","v":2},{"$f":"IFERROR($E265*SUMIF('Daily Log'!$E$18:$E$1017,$B265,'Daily Log'!$F$18:$F$1017),0)","v":4},{"$f":"IFERROR($E265*SUMIF('Daily Log'!$H$18:$H$1017,$B265,'Daily Log'!$I$18:$I$1017),0)","v":2},{"$f":"IFERROR($E265*SUMIF('Daily Log'!$K$18:$K$1017,$B265,'Daily Log'!$L$18:$L$1017),0)","v":1},{"$f":"IFERROR($E265*SUMIF('Daily Log'!$N$18:$N$1017,$B265,'Daily Log'!$O$18:$O$1017),0)","v":0},{"$f":"IFERROR($E265*SUMIF('Daily Log'!#REF!,$B265,'Daily Log'!#REF!),0)","v":0},{"$f":"IFERROR($E265*SUMIF('Daily Log'!#REF!,$B265,'Daily Log'!#REF!),0)","v":0},{"$f":"IFERROR($E265*SUMIF('Daily Log'!#REF!,$B265,'Daily Log'!#REF!),0)","v":0},{"$f":"IFERROR($E265*SUMIF('Daily Log'!#REF!,$B265,'Daily Log'!#REF!),0)","v":0},{"$f":"IFERROR($E265*SUMIF('Daily Log'!#REF!,$B265,'Daily Log'!#REF!),0)","v":0},{"$f":"IFERROR($E265*SUMIF('Daily Log'!#REF!,$B265,'Daily Log'!#REF!),0)","v":0},{"$f":"IFERROR($E265*SUMIF('Daily Log'!#REF!,$B265,'Daily Log'!#REF!),0)","v":0},{"$f":"IFERROR($E265*SUMIF('Daily Log'!#REF!,$B265,'Daily Log'!#REF!),0)","v":0},{"$f":"IFERROR($E265*SUMIF('Daily Log'!#REF!,$B265,'Daily Log'!#REF!),0)","v":0},{"$f":"IFERROR($E265*SUMIF('Daily Log'!#REF!,$B265,'Daily Log'!#REF!),0)","v":0},{"$f":"IFERROR($E265*SUMIF('Daily Log'!#REF!,$B265,'Daily Log'!#REF!),0)","v":0},{"$f":"IFERROR($E265*SUMIF('Daily Log'!#REF!,$B265,'Daily Log'!#REF!),0)","v":0},{"$f":"IFERROR($E265*SUMIF('Daily Log'!#REF!,$B265,'Daily Log'!#REF!),0)","v":0},{"$f":"IFERROR($E265*SUMIF('Daily Log'!#REF!,$B265,'Daily Log'!#REF!),0)","v":0},{"$f":"IFERROR($E265*SUMIF('Daily Log'!#REF!,$B265,'Daily Log'!#REF!),0)","v":0},{"$f":"IFERROR($E265*SUMIF('Daily Log'!#REF!,$B265,'Daily Log'!#REF!),0)","v":0},{"$f":"IFERROR($E265*SUMIF('Daily Log'!#REF!,$B265,'Daily Log'!#REF!),0)","v":0},{"$f":"IFERROR($E265*SUMIF('Daily Log'!#REF!,$B265,'Daily Log'!#REF!),0)","v":0},{"$f":"IFERROR($E265*SUMIF('Daily Log'!#REF!,$B265,'Daily Log'!#REF!),0)","v":0},{"$f":"IFERROR($E265*SUMIF('Daily Log'!#REF!,$B265,'Daily Log'!#REF!),0)","v":0},{"$f":"IFERROR($E265*SUMIF('Daily Log'!#REF!,$B265,'Daily Log'!#REF!),0)","v":0},{"$f":"IFERROR($E265*SUMIF('Daily Log'!#REF!,$B265,'Daily Log'!#REF!),0)","v":0},{"$f":"IFERROR($E265*SUMIF('Daily Log'!#REF!,$B265,'Daily Log'!#REF!),0)","v":0},{"$f":"IFERROR($E265*SUMIF('Daily Log'!#REF!,$B265,'Daily Log'!#REF!),0)","v":0},{"$f":"IFERROR($E265*SUMIF('Daily Log'!#REF!,$B265,'Daily Log'!#REF!),0)","v":0},{"$f":"IFERROR($E265*SUMIF('Daily Log'!#REF!,$B265,'Daily Log'!#REF!),0)","v":0}]
[null,"CN14 EARL GREY (H)",null,"FFD-HOT BEVERAGE",1,10,{"$f":"IFERROR($E266*SUMIF('Daily Log'!$B$18:$B$1017,$B266,'Daily Log'!$C$18:$C$1017),0)","v":4},{"$f":"IFERROR($E266*SUMIF('Daily Log'!$E$18:$E$1017,$B266,'Daily Log'!$F$18:$F$1017),0)","v":3},{"$f":"IFERROR($E266*SUMIF('Daily Log'!$H$18:$H$1017,$B266,'Daily Log'!$I$18:$I$1017),0)","v":1},{"$f":"IFERROR($E266*SUMIF('Daily Log'!$K$18:$K$1017,$B266,'Daily Log'!$L$18:$L$1017),0)","v":2},{"$f":"IFERROR($E266*SUMIF('Daily Log'!$N$18:$N$1017,$B266,'Daily Log'!$O$18:$O$1017),0)","v":0},{"$f":"IFERROR($E266*SUMIF('Daily Log'!#REF!,$B266,'Daily Log'!#REF!),0)","v":0},{"$f":"IFERROR($E266*SUMIF('Daily Log'!#REF!,$B266,'Daily Log'!#REF!),0)","v":0},{"$f":"IFERROR($E266*SUMIF('Daily Log'!#REF!,$B266,'Daily Log'!#REF!),0)","v":0},{"$f":"IFERROR($E266*SUMIF('Daily Log'!#REF!,$B266,'Daily Log'!#REF!),0)","v":0},{"$f":"IFERROR($E266*SUMIF('Daily Log'!#REF!,$B266,'Daily Log'!#REF!),0)","v":0},{"$f":"IFERROR($E266*SUMIF('Daily Log'!#REF!,$B266,'Daily Log'!#REF!),0)","v":0},{"$f":"IFERROR($E266*SUMIF('Daily Log'!#REF!,$B266,'Daily Log'!#REF!),0)","v":0},{"$f":"IFERROR($E266*SUMIF('Daily Log'!#REF!,$B266,'Daily Log'!#REF!),0)","v":0},{"$f":"IFERROR($E266*SUMIF('Daily Log'!#REF!,$B266,'Daily Log'!#REF!),0)","v":0},{"$f":"IFERROR($E266*SUMIF('Daily Log'!#REF!,$B266,'Daily Log'!#REF!),0)","v":0},{"$f":"IFERROR($E266*SUMIF('Daily Log'!#REF!,$B266,'Daily Log'!#REF!),0)","v":0},{"$f":"IFERROR($E266*SUMIF('Daily Log'!#REF!,$B266,'Daily Log'!#REF!),0)","v":0},{"$f":"IFERROR($E266*SUMIF('Daily Log'!#REF!,$B266,'Daily Log'!#REF!),0)","v":0},{"$f":"IFERROR($E266*SUMIF('Daily Log'!#REF!,$B266,'Daily Log'!#REF!),0)","v":0},{"$f":"IFERROR($E266*SUMIF('Daily Log'!#REF!,$B266,'Daily Log'!#REF!),0)","v":0},{"$f":"IFERROR($E266*SUMIF('Daily Log'!#REF!,$B266,'Daily Log'!#REF!),0)","v":0},{"$f":"IFERROR($E266*SUMIF('Daily Log'!#REF!,$B266,'Daily Log'!#REF!),0)","v":0},{"$f":"IFERROR($E266*SUMIF('Daily Log'!#REF!,$B266,'Daily Log'!#REF!),0)","v":0},{"$f":"IFERROR($E266*SUMIF('Daily Log'!#REF!,$B266,'Daily Log'!#REF!),0)","v":0},{"$f":"IFERROR($E266*SUMIF('Daily Log'!#REF!,$B266,'Daily Log'!#REF!),0)","v":0},{"$f":"IFERROR($E266*SUMIF('Daily Log'!#REF!,$B266,'Daily Log'!#REF!),0)","v":0},{"$f":"IFERROR($E266*SUMIF('Daily Log'!#REF!,$B266,'Daily Log'!#REF!),0)","v":0},{"$f":"IFERROR($E266*SUMIF('Daily Log'!#REF!,$B266,'Daily Log'!#REF!),0)","v":0},{"$f":"IFERROR($E266*SUMIF('Daily Log'!#REF!,$B266,'Daily Log'!#REF!),0)","v":0},{"$f":"IFERROR($E266*SUMIF('Daily Log'!#REF!,$B266,'Daily Log'!#REF!),0)","v":0},{"$f":"IFERROR($E266*SUMIF('Daily Log'!#REF!,$B266,'Daily Log'!#REF!),0)","v":0}]
[null,"CO01 MINERAL WATER",null,"SKY JUICE",1,0,{"$f":"IFERROR($E267*SUMIF('Daily Log'!$B$18:$B$1017,$B267,'Daily Log'!$C$18:$C$1017),0)","v":0},{"$f":"IFERROR($E267*SUMIF('Daily Log'!$E$18:$E$1017,$B267,'Daily Log'!$F$18:$F$1017),0)","v":0},{"$f":"IFERROR($E267*SUMIF('Daily Log'!$H$18:$H$1017,$B267,'Daily Log'!$I$18:$I$1017),0)","v":0},{"$f":"IFERROR($E267*SUMIF('Daily Log'!$K$18:$K$1017,$B267,'Daily Log'!$L$18:$L$1017),0)","v":0},{"$f":"IFERROR($E267*SUMIF('Daily Log'!$N$18:$N$1017,$B267,'Daily Log'!$O$18:$O$1017),0)","v":0},{"$f":"IFERROR($E267*SUMIF('Daily Log'!#REF!,$B267,'Daily Log'!#REF!),0)","v":0},{"$f":"IFERROR($E267*SUMIF('Daily Log'!#REF!,$B267,'Daily Log'!#REF!),0)","v":0},{"$f":"IFERROR($E267*SUMIF('Daily Log'!#REF!,$B267,'Daily Log'!#REF!),0)","v":0},{"$f":"IFERROR($E267*SUMIF('Daily Log'!#REF!,$B267,'Daily Log'!#REF!),0)","v":0},{"$f":"IFERROR($E267*SUMIF('Daily Log'!#REF!,$B267,'Daily Log'!#REF!),0)","v":0},{"$f":"IFERROR($E267*SUMIF('Daily Log'!#REF!,$B267,'Daily Log'!#REF!),0)","v":0},{"$f":"IFERROR($E267*SUMIF('Daily Log'!#REF!,$B267,'Daily Log'!#REF!),0)","v":0},{"$f":"IFERROR($E267*SUMIF('Daily Log'!#REF!,$B267,'Daily Log'!#REF!),0)","v":0},{"$f":"IFERROR($E267*SUMIF('Daily Log'!#REF!,$B267,'Daily Log'!#REF!),0)","v":0},{"$f":"IFERROR($E267*SUMIF('Daily Log'!#REF!,$B267,'Daily Log'!#REF!),0)","v":0},{"$f":"IFERROR($E267*SUMIF('Daily Log'!#REF!,$B267,'Daily Log'!#REF!),0)","v":0},{"$f":"IFERROR($E267*SUMIF('Daily Log'!#REF!,$B267,'Daily Log'!#REF!),0)","v":0},{"$f":"IFERROR($E267*SUMIF('Daily Log'!#REF!,$B267,'Daily Log'!#REF!),0)","v":0},{"$f":"IFERROR($E267*SUMIF('Daily Log'!#REF!,$B267,'Daily Log'!#REF!),0)","v":0},{"$f":"IFERROR($E267*SUMIF('Daily Log'!#REF!,$B267,'Daily Log'!#REF!),0)","v":0},{"$f":"IFERROR($E267*SUMIF('Daily Log'!#REF!,$B267,'Daily Log'!#REF!),0)","v":0},{"$f":"IFERROR($E267*SUMIF('Daily Log'!#REF!,$B267,'Daily Log'!#REF!),0)","v":0},{"$f":"IFERROR($E267*SUMIF('Daily Log'!#REF!,$B267,'Daily Log'!#REF!),0)","v":0},{"$f":"IFERROR($E267*SUMIF('Daily Log'!#REF!,$B267,'Daily Log'!#REF!),0)","v":0},{"$f":"IFERROR($E267*SUMIF('Daily Log'!#REF!,$B267,'Daily Log'!#REF!),0)","v":0},{"$f":"IFERROR($E267*SUMIF('Daily Log'!#REF!,$B267,'Daily Log'!#REF!),0)","v":0},{"$f":"IFERROR($E267*SUMIF('Daily Log'!#REF!,$B267,'Daily Log'!#REF!),0)","v":0},{"$f":"IFERROR($E267*SUMIF('Daily Log'!#REF!,$B267,'Daily Log'!#REF!),0)","v":0},{"$f":"IFERROR($E267*SUMIF('Daily Log'!#REF!,$B267,'Daily Log'!#REF!),0)","v":0},{"$f":"IFERROR($E267*SUMIF('Daily Log'!#REF!,$B267,'Daily Log'!#REF!),0)","v":0},{"$f":"IFERROR($E267*SUMIF('Daily Log'!#REF!,$B267,'Daily Log'!#REF!),0)","v":0}]
[null,"DB01 1001:BP CKN CP",null,"SIDE ORDER-WESTERN CRUISE",1,15,{"$f":"IFERROR($E268*SUMIF('Daily Log'!$B$18:$B$1017,$B268,'Daily Log'!$C$18:$C$1017),0)","v":4},{"$f":"IFERROR($E268*SUMIF('Daily Log'!$E$18:$E$1017,$B268,'Daily Log'!$F$18:$F$1017),0)","v":5},{"$f":"IFERROR($E268*SUMIF('Daily Log'!$H$18:$H$1017,$B268,'Daily Log'!$I$18:$I$1017),0)","v":2},{"$f":"IFERROR($E268*SUMIF('Daily Log'!$K$18:$K$1017,$B268,'Daily Log'!$L$18:$L$1017),0)","v":1},{"$f":"IFERROR($E268*SUMIF('Daily Log'!$N$18:$N$1017,$B268,'Daily Log'!$O$18:$O$1017),0)","v":3},{"$f":"IFERROR($E268*SUMIF('Daily Log'!#REF!,$B268,'Daily Log'!#REF!),0)","v":0},{"$f":"IFERROR($E268*SUMIF('Daily Log'!#REF!,$B268,'Daily Log'!#REF!),0)","v":0},{"$f":"IFERROR($E268*SUMIF('Daily Log'!#REF!,$B268,'Daily Log'!#REF!),0)","v":0},{"$f":"IFERROR($E268*SUMIF('Daily Log'!#REF!,$B268,'Daily Log'!#REF!),0)","v":0},{"$f":"IFERROR($E268*SUMIF('Daily Log'!#REF!,$B268,'Daily Log'!#REF!),0)","v":0},{"$f":"IFERROR($E268*SUMIF('Daily Log'!#REF!,$B268,'Daily Log'!#REF!),0)","v":0},{"$f":"IFERROR($E268*SUMIF('Daily Log'!#REF!,$B268,'Daily Log'!#REF!),0)","v":0},{"$f":"IFERROR($E268*SUMIF('Daily Log'!#REF!,$B268,'Daily Log'!#REF!),0)","v":0},{"$f":"IFERROR($E268*SUMIF('Daily Log'!#REF!,$B268,'Daily Log'!#REF!),0)","v":0},{"$f":"IFERROR($E268*SUMIF('Daily Log'!#REF!,$B268,'Daily Log'!#REF!),0)","v":0},{"$f":"IFERROR($E268*SUMIF('Daily Log'!#REF!,$B268,'Daily Log'!#REF!),0)","v":0},{"$f":"IFERROR($E268*SUMIF('Daily Log'!#REF!,$B268,'Daily Log'!#REF!),0)","v":0},{"$f":"IFERROR($E268*SUMIF('Daily Log'!#REF!,$B268,'Daily Log'!#REF!),0)","v":0},{"$f":"IFERROR($E268*SUMIF('Daily Log'!#REF!,$B268,'Daily Log'!#REF!),0)","v":0},{"$f":"IFERROR($E268*SUMIF('Daily Log'!#REF!,$B268,'Daily Log'!#REF!),0)","v":0},{"$f":"IFERROR($E268*SUMIF('Daily Log'!#REF!,$B268,'Daily Log'!#REF!),0)","v":0},{"$f":"IFERROR($E268*SUMIF('Daily Log'!#REF!,$B268,'Daily Log'!#REF!),0)","v":0},{"$f":"IFERROR($E268*SUMIF('Daily Log'!#REF!,$B268,'Daily Log'!#REF!),0)","v":0},{"$f":"IFERROR($E268*SUMIF('Daily Log'!#REF!,$B268,'Daily Log'!#REF!),0)","v":0},{"$f":"IFERROR($E268*SUMIF('Daily Log'!#REF!,$B268,'Daily Log'!#REF!),0)","v":0},{"$f":"IFERROR($E268*SUMIF('Daily Log'!#REF!,$B268,'Daily Log'!#REF!),0)","v":0},{"$f":"IFERROR($E268*SUMIF('Daily Log'!#REF!,$B268,'Daily Log'!#REF!),0)","v":0},{"$f":"IFERROR($E268*SUMIF('Daily Log'!#REF!,$B268,'Daily Log'!#REF!),0)","v":0},{"$f":"IFERROR($E268*SUMIF('Daily Log'!#REF!,$B268,'Daily Log'!#REF!),0)","v":0},{"$f":"IFERROR($E268*SUMIF('Daily Log'!#REF!,$B268,'Daily Log'!#REF!),0)","v":0},{"$f":"IFERROR($E268*SUMIF('Daily Log'!#REF!,$B268,'Daily Log'!#REF!),0)","v":0}]
[null,"DB02 1002:GVY CHK CP",null,"SIDE ORDER-WESTERN CRUISE",1,3,{"$f":"IFERROR($E269*SUMIF('Daily Log'!$B$18:$B$1017,$B269,'Daily Log'!$C$18:$C$1017),0)","v":0},{"$f":"IFERROR($E269*SUMIF('Daily Log'!$E$18:$E$1017,$B269,'Daily Log'!$F$18:$F$1017),0)","v":0},{"$f":"IFERROR($E269*SUMIF('Daily Log'!$H$18:$H$1017,$B269,'Daily Log'!$I$18:$I$1017),0)","v":3},{"$f":"IFERROR($E269*SUMIF('Daily Log'!$K$18:$K$1017,$B269,'Daily Log'!$L$18:$L$1017),0)","v":0},{"$f":"IFERROR($E269*SUMIF('Daily Log'!$N$18:$N$1017,$B269,'Daily Log'!$O$18:$O$1017),0)","v":0},{"$f":"IFERROR($E269*SUMIF('Daily Log'!#REF!,$B269,'Daily Log'!#REF!),0)","v":0},{"$f":"IFERROR($E269*SUMIF('Daily Log'!#REF!,$B269,'Daily Log'!#REF!),0)","v":0},{"$f":"IFERROR($E269*SUMIF('Daily Log'!#REF!,$B269,'Daily Log'!#REF!),0)","v":0},{"$f":"IFERROR($E269*SUMIF('Daily Log'!#REF!,$B269,'Daily Log'!#REF!),0)","v":0},{"$f":"IFERROR($E269*SUMIF('Daily Log'!#REF!,$B269,'Daily Log'!#REF!),0)","v":0},{"$f":"IFERROR($E269*SUMIF('Daily Log'!#REF!,$B269,'Daily Log'!#REF!),0)","v":0},{"$f":"IFERROR($E269*SUMIF('Daily Log'!#REF!,$B269,'Daily Log'!#REF!),0)","v":0},{"$f":"IFERROR($E269*SUMIF('Daily Log'!#REF!,$B269,'Daily Log'!#REF!),0)","v":0},{"$f":"IFERROR($E269*SUMIF('Daily Log'!#REF!,$B269,'Daily Log'!#REF!),0)","v":0},{"$f":"IFERROR($E269*SUMIF('Daily Log'!#REF!,$B269,'Daily Log'!#REF!),0)","v":0},{"$f":"IFERROR($E269*SUMIF('Daily Log'!#REF!,$B269,'Daily Log'!#REF!),0)","v":0},{"$f":"IFERROR($E269*SUMIF('Daily Log'!#REF!,$B269,'Daily Log'!#REF!),0)","v":0},{"$f":"IFERROR($E269*SUMIF('Daily Log'!#REF!,$B269,'Daily Log'!#REF!),0)","v":0},{"$f":"IFERROR($E269*SUMIF('Daily Log'!#REF!,$B269,'Daily Log'!#REF!),0)","v":0},{"$f":"IFERROR($E269*SUMIF('Daily Log'!#REF!,$B269,'Daily Log'!#REF!),0)","v":0},{"$f":"IFERROR($E269*SUMIF('Daily Log'!#REF!,$B269,'Daily Log'!#REF!),0)","v":0},{"$f":"IFERROR($E269*SUMIF('Daily Log'!#REF!,$B269,'Daily Log'!#REF!),0)","v":0},{"$f":"IFERROR($E269*SUMIF('Daily Log'!#REF!,$B269,'Daily Log'!#REF!),0)","v":0},{"$f":"IFERROR($E269*SUMIF('Daily Log'!#REF!,$B269,'Daily Log'!#REF!),0)","v":0},{"$f":"IFERROR($E269*SUMIF('Daily Log'!#REF!,$B269,'Daily Log'!#REF!),0)","v":0},{"$f":"IFERROR($E269*SUMIF('Daily Log'!#REF!,$B269,'Daily Log'!#REF!),0)","v":0},{"$f":"IFERROR($E269*SUMIF('Daily Log'!#REF!,$B269,'Daily Log'!#REF!),0)","v":0},{"$f":"IFERROR($E269*SUMIF('Daily Log'!#REF!,$B269,'Daily Log'!#REF!),0)","v":0},{"$f":"IFERROR($E269*SUMIF('Daily Log'!#REF!,$B269,'Daily Log'!#REF!),0)","v":0},{"$f":"IFERROR($E269*SUMIF('Daily Log'!#REF!,$B269,'Daily Log'!#REF!),0)","v":0},{"$f":"IFERROR($E269*SUMIF('Daily Log'!#REF!,$B269,'Daily Log'!#REF!),0)","v":0}]
[null,"DB03 1003:MSR CKN CP",null,"SIDE ORDER-WESTERN CRUISE",1,{"$f":"SUM($G270:$AK270)","v":1},{"$f":"IFERROR($E270*SUMIF('Daily Log'!$B$18:$B$1017,$B270,'Daily Log'!$C$18:$C$1017),0)","v":0},{"$f":"IFERROR($E270*SUMIF('Daily Log'!$E$18:$E$1017,$B270,'Daily Log'!$F$18:$F$1017),0)","v":0},{"$f":"IFERROR($E270*SUMIF('Daily Log'!$H$18:$H$1017,$B270,'Daily Log'!$I$18:$I$1017),0)","v":0},{"$f":"IFERROR($E270*SUMIF('Daily Log'!$K$18:$K$1017,$B270,'Daily Log'!$L$18:$L$1017),0)","v":0},{"$f":"IFERROR($E270*SUMIF('Daily Log'!$N$18:$N$1017,$B270,'Daily Log'!$O$18:$O$1017),0)","v":1},{"$f":"IFERROR($E270*SUMIF('Daily Log'!#REF!,$B270,'Daily Log'!#REF!),0)","v":0},{"$f":"IFERROR($E270*SUMIF('Daily Log'!#REF!,$B270,'Daily Log'!#REF!),0)","v":0},{"$f":"IFERROR($E270*SUMIF('Daily Log'!#REF!,$B270,'Daily Log'!#REF!),0)","v":0},{"$f":"IFERROR($E270*SUMIF('Daily Log'!#REF!,$B270,'Daily Log'!#REF!),0)","v":0},{"$f":"IFERROR($E270*SUMIF('Daily Log'!#REF!,$B270,'Daily Log'!#REF!),0)","v":0},{"$f":"IFERROR($E270*SUMIF('Daily Log'!#REF!,$B270,'Daily Log'!#REF!),0)","v":0},{"$f":"IFERROR($E270*SUMIF('Daily Log'!#REF!,$B270,'Daily Log'!#REF!),0)","v":0},{"$f":"IFERROR($E270*SUMIF('Daily Log'!#REF!,$B270,'Daily Log'!#REF!),0)","v":0},{"$f":"IFERROR($E270*SUMIF('Daily Log'!#REF!,$B270,'Daily Log'!#REF!),0)","v":0},{"$f":"IFERROR($E270*SUMIF('Daily Log'!#REF!,$B270,'Daily Log'!#REF!),0)","v":0},{"$f":"IFERROR($E270*SUMIF('Daily Log'!#REF!,$B270,'Daily Log'!#REF!),0)","v":0},{"$f":"IFERROR($E270*SUMIF('Daily Log'!#REF!,$B270,'Daily Log'!#REF!),0)","v":0},{"$f":"IFERROR($E270*SUMIF('Daily Log'!#REF!,$B270,'Daily Log'!#REF!),0)","v":0},{"$f":"IFERROR($E270*SUMIF('Daily Log'!#REF!,$B270,'Daily Log'!#REF!),0)","v":0},{"$f":"IFERROR($E270*SUMIF('Daily Log'!#REF!,$B270,'Daily Log'!#REF!),0)","v":0},{"$f":"IFERROR($E270*SUMIF('Daily Log'!#REF!,$B270,'Daily Log'!#REF!),0)","v":0},{"$f":"IFERROR($E270*SUMIF('Daily Log'!#REF!,$B270,'Daily Log'!#REF!),0)","v":0},{"$f":"IFERROR($E270*SUMIF('Daily Log'!#REF!,$B270,'Daily Log'!#REF!),0)","v":0},{"$f":"IFERROR($E270*SUMIF('Daily Log'!#REF!,$B270,'Daily Log'!#REF!),0)","v":0},{"$f":"IFERROR($E270*SUMIF('Daily Log'!#REF!,$B270,'Daily Log'!#REF!),0)","v":0},{"$f":"IFERROR($E270*SUMIF('Daily Log'!#REF!,$B270,'Daily Log'!#REF!),0)","v":0},{"$f":"IFERROR($E270*SUMIF('Daily Log'!#REF!,$B270,'Daily Log'!#REF!),0)","v":0},{"$f":"IFERROR($E270*SUMIF('Daily Log'!#REF!,$B270,'Daily Log'!#REF!),0)","v":0},{"$f":"IFERROR($E270*SUMIF('Daily Log'!#REF!,$B270,'Daily Log'!#REF!),0)","v":0},{"$f":"IFERROR($E270*SUMIF('Daily Log'!#REF!,$B270,'Daily Log'!#REF!),0)","v":0},{"$f":"IFERROR($E270*SUMIF('Daily Log'!#REF!,$B270,'Daily Log'!#REF!),0)","v":0}]
[null,"DB04 1004:CKN MARY",null,"SIDE ORDER-WESTERN CRUISE",1,5,{"$f":"IFERROR($E271*SUMIF('Daily Log'!$B$18:$B$1017,$B271,'Daily Log'!$C$18:$C$1017),0)","v":0},{"$f":"IFERROR($E271*SUMIF('Daily Log'!$E$18:$E$1017,$B271,'Daily Log'!$F$18:$F$1017),0)","v":2},{"$f":"IFERROR($E271*SUMIF('Daily Log'!$H$18:$H$1017,$B271,'Daily Log'!$I$18:$I$1017),0)","v":1},{"$f":"IFERROR($E271*SUMIF('Daily Log'!$K$18:$K$1017,$B271,'Daily Log'!$L$18:$L$1017),0)","v":2},{"$f":"IFERROR($E271*SUMIF('Daily Log'!$N$18:$N$1017,$B271,'Daily Log'!$O$18:$O$1017),0)","v":0},{"$f":"IFERROR($E271*SUMIF('Daily Log'!#REF!,$B271,'Daily Log'!#REF!),0)","v":0},{"$f":"IFERROR($E271*SUMIF('Daily Log'!#REF!,$B271,'Daily Log'!#REF!),0)","v":0},{"$f":"IFERROR($E271*SUMIF('Daily Log'!#REF!,$B271,'Daily Log'!#REF!),0)","v":0},{"$f":"IFERROR($E271*SUMIF('Daily Log'!#REF!,$B271,'Daily Log'!#REF!),0)","v":0},{"$f":"IFERROR($E271*SUMIF('Daily Log'!#REF!,$B271,'Daily Log'!#REF!),0)","v":0},{"$f":"IFERROR($E271*SUMIF('Daily Log'!#REF!,$B271,'Daily Log'!#REF!),0)","v":0},{"$f":"IFERROR($E271*SUMIF('Daily Log'!#REF!,$B271,'Daily Log'!#REF!),0)","v":0},{"$f":"IFERROR($E271*SUMIF('Daily Log'!#REF!,$B271,'Daily Log'!#REF!),0)","v":0},{"$f":"IFERROR($E271*SUMIF('Daily Log'!#REF!,$B271,'Daily Log'!#REF!),0)","v":0},{"$f":"IFERROR($E271*SUMIF('Daily Log'!#REF!,$B271,'Daily Log'!#REF!),0)","v":0},{"$f":"IFERROR($E271*SUMIF('Daily Log'!#REF!,$B271,'Daily Log'!#REF!),0)","v":0},{"$f":"IFERROR($E271*SUMIF('Daily Log'!#REF!,$B271,'Daily Log'!#REF!),0)","v":0},{"$f":"IFERROR($E271*SUMIF('Daily Log'!#REF!,$B271,'Daily Log'!#REF!),0)","v":0},{"$f":"IFERROR($E271*SUMIF('Daily Log'!#REF!,$B271,'Daily Log'!#REF!),0)","v":0},{"$f":"IFERROR($E271*SUMIF('Daily Log'!#REF!,$B271,'Daily Log'!#REF!),0)","v":0},{"$f":"IFERROR($E271*SUMIF('Daily Log'!#REF!,$B271,'Daily Log'!#REF!),0)","v":0},{"$f":"IFERROR($E271*SUMIF('Daily Log'!#REF!,$B271,'Daily Log'!#REF!),0)","v":0},{"$f":"IFERROR($E271*SUMIF('Daily Log'!#REF!,$B271,'Daily Log'!#REF!),0)","v":0},{"$f":"IFERROR($E271*SUMIF('Daily Log'!#REF!,$B271,'Daily Log'!#REF!),0)","v":0},{"$f":"IFERROR($E271*SUMIF('Daily Log'!#REF!,$B271,'Daily Log'!#REF!),0)","v":0},{"$f":"IFERROR($E271*SUMIF('Daily Log'!#REF!,$B271,'Daily Log'!#REF!),0)","v":0},{"$f":"IFERROR($E271*SUMIF('Daily Log'!#REF!,$B271,'Daily Log'!#REF!),0)","v":0},{"$f":"IFERROR($E271*SUMIF('Daily Log'!#REF!,$B271,'Daily Log'!#REF!),0)","v":0},{"$f":"IFERROR($E271*SUMIF('Daily Log'!#REF!,$B271,'Daily Log'!#REF!),0)","v":0},{"$f":"IFERROR($E271*SUMIF('Daily Log'!#REF!,$B271,'Daily Log'!#REF!),0)","v":0},{"$f":"IFERROR($E271*SUMIF('Daily Log'!#REF!,$B271,'Daily Log'!#REF!),0)","v":0}]
[null,"DB05 1005:FISH&CHIP",null,"SIDE ORDER-WESTERN CRUISE",1,15,{"$f":"IFERROR($E272*SUMIF('Daily Log'!$B$18:$B$1017,$B272,'Daily Log'!$C$18:$C$1017),0)","v":1},{"$f":"IFERROR($E272*SUMIF('Daily Log'!$E$18:$E$1017,$B272,'Daily Log'!$F$18:$F$1017),0)","v":4},{"$f":"IFERROR($E272*SUMIF('Daily Log'!$H$18:$H$1017,$B272,'Daily Log'!$I$18:$I$1017),0)","v":3},{"$f":"IFERROR($E272*SUMIF('Daily Log'!$K$18:$K$1017,$B272,'Daily Log'!$L$18:$L$1017),0)","v":6},{"$f":"IFERROR($E272*SUMIF('Daily Log'!$N$18:$N$1017,$B272,'Daily Log'!$O$18:$O$1017),0)","v":1},{"$f":"IFERROR($E272*SUMIF('Daily Log'!#REF!,$B272,'Daily Log'!#REF!),0)","v":0},{"$f":"IFERROR($E272*SUMIF('Daily Log'!#REF!,$B272,'Daily Log'!#REF!),0)","v":0},{"$f":"IFERROR($E272*SUMIF('Daily Log'!#REF!,$B272,'Daily Log'!#REF!),0)","v":0},{"$f":"IFERROR($E272*SUMIF('Daily Log'!#REF!,$B272,'Daily Log'!#REF!),0)","v":0},{"$f":"IFERROR($E272*SUMIF('Daily Log'!#REF!,$B272,'Daily Log'!#REF!),0)","v":0},{"$f":"IFERROR($E272*SUMIF('Daily Log'!#REF!,$B272,'Daily Log'!#REF!),0)","v":0},{"$f":"IFERROR($E272*SUMIF('Daily Log'!#REF!,$B272,'Daily Log'!#REF!),0)","v":0},{"$f":"IFERROR($E272*SUMIF('Daily Log'!#REF!,$B272,'Daily Log'!#REF!),0)","v":0},{"$f":"IFERROR($E272*SUMIF('Daily Log'!#REF!,$B272,'Daily Log'!#REF!),0)","v":0},{"$f":"IFERROR($E272*SUMIF('Daily Log'!#REF!,$B272,'Daily Log'!#REF!),0)","v":0},{"$f":"IFERROR($E272*SUMIF('Daily Log'!#REF!,$B272,'Daily Log'!#REF!),0)","v":0},{"$f":"IFERROR($E272*SUMIF('Daily Log'!#REF!,$B272,'Daily Log'!#REF!),0)","v":0},{"$f":"IFERROR($E272*SUMIF('Daily Log'!#REF!,$B272,'Daily Log'!#REF!),0)","v":0},{"$f":"IFERROR($E272*SUMIF('Daily Log'!#REF!,$B272,'Daily Log'!#REF!),0)","v":0},{"$f":"IFERROR($E272*SUMIF('Daily Log'!#REF!,$B272,'Daily Log'!#REF!),0)","v":0},{"$f":"IFERROR($E272*SUMIF('Daily Log'!#REF!,$B272,'Daily Log'!#REF!),0)","v":0},{"$f":"IFERROR($E272*SUMIF('Daily Log'!#REF!,$B272,'Daily Log'!#REF!),0)","v":0},{"$f":"IFERROR($E272*SUMIF('Daily Log'!#REF!,$B272,'Daily Log'!#REF!),0)","v":0},{"$f":"IFERROR($E272*SUMIF('Daily Log'!#REF!,$B272,'Daily Log'!#REF!),0)","v":0},{"$f":"IFERROR($E272*SUMIF('Daily Log'!#REF!,$B272,'Daily Log'!#REF!),0)","v":0},{"$f":"IFERROR($E272*SUMIF('Daily Log'!#REF!,$B272,'Daily Log'!#REF!),0)","v":0},{"$f":"IFERROR($E272*SUMIF('Daily Log'!#REF!,$B272,'Daily Log'!#REF!),0)","v":0},{"$f":"IFERROR($E272*SUMIF('Daily Log'!#REF!,$B272,'Daily Log'!#REF!),0)","v":0},{"$f":"IFERROR($E272*SUMIF('Daily Log'!#REF!,$B272,'Daily Log'!#REF!),0)","v":0},{"$f":"IFERROR($E272*SUMIF('Daily Log'!#REF!,$B272,'Daily Log'!#REF!),0)","v":0},{"$f":"IFERROR($E272*SUMIF('Daily Log'!#REF!,$B272,'Daily Log'!#REF!),0)","v":0}]
[null,"DB06 1006:SPAGHETTI",null,"SIDE ORDER-WESTERN CRUISE",1,3,{"$f":"IFERROR($E273*SUMIF('Daily Log'!$B$18:$B$1017,$B273,'Daily Log'!$C$18:$C$1017),0)","v":1},{"$f":"IFERROR($E273*SUMIF('Daily Log'!$E$18:$E$1017,$B273,'Daily Log'!$F$18:$F$1017),0)","v":0},{"$f":"IFERROR($E273*SUMIF('Daily Log'!$H$18:$H$1017,$B273,'Daily Log'!$I$18:$I$1017),0)","v":1},{"$f":"IFERROR($E273*SUMIF('Daily Log'!$K$18:$K$1017,$B273,'Daily Log'!$L$18:$L$1017),0)","v":1},{"$f":"IFERROR($E273*SUMIF('Daily Log'!$N$18:$N$1017,$B273,'Daily Log'!$O$18:$O$1017),0)","v":0},{"$f":"IFERROR($E273*SUMIF('Daily Log'!#REF!,$B273,'Daily Log'!#REF!),0)","v":0},{"$f":"IFERROR($E273*SUMIF('Daily Log'!#REF!,$B273,'Daily Log'!#REF!),0)","v":0},{"$f":"IFERROR($E273*SUMIF('Daily Log'!#REF!,$B273,'Daily Log'!#REF!),0)","v":0},{"$f":"IFERROR($E273*SUMIF('Daily Log'!#REF!,$B273,'Daily Log'!#REF!),0)","v":0},{"$f":"IFERROR($E273*SUMIF('Daily Log'!#REF!,$B273,'Daily Log'!#REF!),0)","v":0},{"$f":"IFERROR($E273*SUMIF('Daily Log'!#REF!,$B273,'Daily Log'!#REF!),0)","v":0},{"$f":"IFERROR($E273*SUMIF('Daily Log'!#REF!,$B273,'Daily Log'!#REF!),0)","v":0},{"$f":"IFERROR($E273*SUMIF('Daily Log'!#REF!,$B273,'Daily Log'!#REF!),0)","v":0},{"$f":"IFERROR($E273*SUMIF('Daily Log'!#REF!,$B273,'Daily Log'!#REF!),0)","v":0},{"$f":"IFERROR($E273*SUMIF('Daily Log'!#REF!,$B273,'Daily Log'!#REF!),0)","v":0},{"$f":"IFERROR($E273*SUMIF('Daily Log'!#REF!,$B273,'Daily Log'!#REF!),0)","v":0},{"$f":"IFERROR($E273*SUMIF('Daily Log'!#REF!,$B273,'Daily Log'!#REF!),0)","v":0},{"$f":"IFERROR($E273*SUMIF('Daily Log'!#REF!,$B273,'Daily Log'!#REF!),0)","v":0},{"$f":"IFERROR($E273*SUMIF('Daily Log'!#REF!,$B273,'Daily Log'!#REF!),0)","v":0},{"$f":"IFERROR($E273*SUMIF('Daily Log'!#REF!,$B273,'Daily Log'!#REF!),0)","v":0},{"$f":"IFERROR($E273*SUMIF('Daily Log'!#REF!,$B273,'Daily Log'!#REF!),0)","v":0},{"$f":"IFERROR($E273*SUMIF('Daily Log'!#REF!,$B273,'Daily Log'!#REF!),0)","v":0},{"$f":"IFERROR($E273*SUMIF('Daily Log'!#REF!,$B273,'Daily Log'!#REF!),0)","v":0},{"$f":"IFERROR($E273*SUMIF('Daily Log'!#REF!,$B273,'Daily Log'!#REF!),0)","v":0},{"$f":"IFERROR($E273*SUMIF('Daily Log'!#REF!,$B273,'Daily Log'!#REF!),0)","v":0},{"$f":"IFERROR($E273*SUMIF('Daily Log'!#REF!,$B273,'Daily Log'!#REF!),0)","v":0},{"$f":"IFERROR($E273*SUMIF('Daily Log'!#REF!,$B273,'Daily Log'!#REF!),0)","v":0},{"$f":"IFERROR($E273*SUMIF('Daily Log'!#REF!,$B273,'Daily Log'!#REF!),0)","v":0},{"$f":"IFERROR($E273*SUMIF('Daily Log'!#REF!,$B273,'Daily Log'!#REF!),0)","v":0},{"$f":"IFERROR($E273*SUMIF('Daily Log'!#REF!,$B273,'Daily Log'!#REF!),0)","v":0},{"$f":"IFERROR($E273*SUMIF('Daily Log'!#REF!,$B273,'Daily Log'!#REF!),0)","v":0}]
[null,"DB07 1007:CHK SALAD",null,"SIDE ORDER-WESTERN CRUISE",1,1,{"$f":"IFERROR($E274*SUMIF('Daily Log'!$B$18:$B$1017,$B274,'Daily Log'!$C$18:$C$1017),0)","v":1},{"$f":"IFERROR($E274*SUMIF('Daily Log'!$E$18:$E$1017,$B274,'Daily Log'!$F$18:$F$1017),0)","v":0},{"$f":"IFERROR($E274*SUMIF('Daily Log'!$H$18:$H$1017,$B274,'Daily Log'!$I$18:$I$1017),0)","v":0},{"$f":"IFERROR($E274*SUMIF('Daily Log'!$K$18:$K$1017,$B274,'Daily Log'!$L$18:$L$1017),0)","v":0},{"$f":"IFERROR($E274*SUMIF('Daily Log'!$N$18:$N$1017,$B274,'Daily Log'!$O$18:$O$1017),0)","v":0},{"$f":"IFERROR($E274*SUMIF('Daily Log'!#REF!,$B274,'Daily Log'!#REF!),0)","v":0},{"$f":"IFERROR($E274*SUMIF('Daily Log'!#REF!,$B274,'Daily Log'!#REF!),0)","v":0},{"$f":"IFERROR($E274*SUMIF('Daily Log'!#REF!,$B274,'Daily Log'!#REF!),0)","v":0},{"$f":"IFERROR($E274*SUMIF('Daily Log'!#REF!,$B274,'Daily Log'!#REF!),0)","v":0},{"$f":"IFERROR($E274*SUMIF('Daily Log'!#REF!,$B274,'Daily Log'!#REF!),0)","v":0},{"$f":"IFERROR($E274*SUMIF('Daily Log'!#REF!,$B274,'Daily Log'!#REF!),0)","v":0},{"$f":"IFERROR($E274*SUMIF('Daily Log'!#REF!,$B274,'Daily Log'!#REF!),0)","v":0},{"$f":"IFERROR($E274*SUMIF('Daily Log'!#REF!,$B274,'Daily Log'!#REF!),0)","v":0},{"$f":"IFERROR($E274*SUMIF('Daily Log'!#REF!,$B274,'Daily Log'!#REF!),0)","v":0},{"$f":"IFERROR($E274*SUMIF('Daily Log'!#REF!,$B274,'Daily Log'!#REF!),0)","v":0},{"$f":"IFERROR($E274*SUMIF('Daily Log'!#REF!,$B274,'Daily Log'!#REF!),0)","v":0},{"$f":"IFERROR($E274*SUMIF('Daily Log'!#REF!,$B274,'Daily Log'!#REF!),0)","v":0},{"$f":"IFERROR($E274*SUMIF('Daily Log'!#REF!,$B274,'Daily Log'!#REF!),0)","v":0},{"$f":"IFERROR($E274*SUMIF('Daily Log'!#REF!,$B274,'Daily Log'!#REF!),0)","v":0},{"$f":"IFERROR($E274*SUMIF('Daily Log'!#REF!,$B274,'Daily Log'!#REF!),0)","v":0},{"$f":"IFERROR($E274*SUMIF('Daily Log'!#REF!,$B274,'Daily Log'!#REF!),0)","v":0},{"$f":"IFERROR($E274*SUMIF('Daily Log'!#REF!,$B274,'Daily Log'!#REF!),0)","v":0},{"$f":"IFERROR($E274*SUMIF('Daily Log'!#REF!,$B274,'Daily Log'!#REF!),0)","v":0},{"$f":"IFERROR($E274*SUMIF('Daily Log'!#REF!,$B274,'Daily Log'!#REF!),0)","v":0},{"$f":"IFERROR($E274*SUMIF('Daily Log'!#REF!,$B274,'Daily Log'!#REF!),0)","v":0},{"$f":"IFERROR($E274*SUMIF('Daily Log'!#REF!,$B274,'Daily Log'!#REF!),0)","v":0},{"$f":"IFERROR($E274*SUMIF('Daily Log'!#REF!,$B274,'Daily Log'!#REF!),0)","v":0},{"$f":"IFERROR($E274*SUMIF('Daily Log'!#REF!,$B274,'Daily Log'!#REF!),0)","v":0},{"$f":"IFERROR($E274*SUMIF('Daily Log'!#REF!,$B274,'Daily Log'!#REF!),0)","v":0},{"$f":"IFERROR($E274*SUMIF('Daily Log'!#REF!,$B274,'Daily Log'!#REF!),0)","v":0},{"$f":"IFERROR($E274*SUMIF('Daily Log'!#REF!,$B274,'Daily Log'!#REF!),0)","v":0}]
[null,"DC01 1101:THAI CHK",null,"SIDE ORDER-LOCAL DELIGHTS",1,20,{"$f":"IFERROR($E275*SUMIF('Daily Log'!$B$18:$B$1017,$B275,'Daily Log'!$C$18:$C$1017),0)","v":7},{"$f":"IFERROR($E275*SUMIF('Daily Log'!$E$18:$E$1017,$B275,'Daily Log'!$F$18:$F$1017),0)","v":6},{"$f":"IFERROR($E275*SUMIF('Daily Log'!$H$18:$H$1017,$B275,'Daily Log'!$I$18:$I$1017),0)","v":2},{"$f":"IFERROR($E275*SUMIF('Daily Log'!$K$18:$K$1017,$B275,'Daily Log'!$L$18:$L$1017),0)","v":4},{"$f":"IFERROR($E275*SUMIF('Daily Log'!$N$18:$N$1017,$B275,'Daily Log'!$O$18:$O$1017),0)","v":1},{"$f":"IFERROR($E275*SUMIF('Daily Log'!#REF!,$B275,'Daily Log'!#REF!),0)","v":0},{"$f":"IFERROR($E275*SUMIF('Daily Log'!#REF!,$B275,'Daily Log'!#REF!),0)","v":0},{"$f":"IFERROR($E275*SUMIF('Daily Log'!#REF!,$B275,'Daily Log'!#REF!),0)","v":0},{"$f":"IFERROR($E275*SUMIF('Daily Log'!#REF!,$B275,'Daily Log'!#REF!),0)","v":0},{"$f":"IFERROR($E275*SUMIF('Daily Log'!#REF!,$B275,'Daily Log'!#REF!),0)","v":0},{"$f":"IFERROR($E275*SUMIF('Daily Log'!#REF!,$B275,'Daily Log'!#REF!),0)","v":0},{"$f":"IFERROR($E275*SUMIF('Daily Log'!#REF!,$B275,'Daily Log'!#REF!),0)","v":0},{"$f":"IFERROR($E275*SUMIF('Daily Log'!#REF!,$B275,'Daily Log'!#REF!),0)","v":0},{"$f":"IFERROR($E275*SUMIF('Daily Log'!#REF!,$B275,'Daily Log'!#REF!),0)","v":0},{"$f":"IFERROR($E275*SUMIF('Daily Log'!#REF!,$B275,'Daily Log'!#REF!),0)","v":0},{"$f":"IFERROR($E275*SUMIF('Daily Log'!#REF!,$B275,'Daily Log'!#REF!),0)","v":0},{"$f":"IFERROR($E275*SUMIF('Daily Log'!#REF!,$B275,'Daily Log'!#REF!),0)","v":0},{"$f":"IFERROR($E275*SUMIF('Daily Log'!#REF!,$B275,'Daily Log'!#REF!),0)","v":0},{"$f":"IFERROR($E275*SUMIF('Daily Log'!#REF!,$B275,'Daily Log'!#REF!),0)","v":0},{"$f":"IFERROR($E275*SUMIF('Daily Log'!#REF!,$B275,'Daily Log'!#REF!),0)","v":0},{"$f":"IFERROR($E275*SUMIF('Daily Log'!#REF!,$B275,'Daily Log'!#REF!),0)","v":0},{"$f":"IFERROR($E275*SUMIF('Daily Log'!#REF!,$B275,'Daily Log'!#REF!),0)","v":0},{"$f":"IFERROR($E275*SUMIF('Daily Log'!#REF!,$B275,'Daily Log'!#REF!),0)","v":0},{"$f":"IFERROR($E275*SUMIF('Daily Log'!#REF!,$B275,'Daily Log'!#REF!),0)","v":0},{"$f":"IFERROR($E275*SUMIF('Daily Log'!#REF!,$B275,'Daily Log'!#REF!),0)","v":0},{"$f":"IFERROR($E275*SUMIF('Daily Log'!#REF!,$B275,'Daily Log'!#REF!),0)","v":0},{"$f":"IFERROR($E275*SUMIF('Daily Log'!#REF!,$B275,'Daily Log'!#REF!),0)","v":0},{"$f":"IFERROR($E275*SUMIF('Daily Log'!#REF!,$B275,'Daily Log'!#REF!),0)","v":0},{"$f":"IFERROR($E275*SUMIF('Daily Log'!#REF!,$B275,'Daily Log'!#REF!),0)","v":0},{"$f":"IFERROR($E275*SUMIF('Daily Log'!#REF!,$B275,'Daily Log'!#REF!),0)","v":0},{"$f":"IFERROR($E275*SUMIF('Daily Log'!#REF!,$B275,'Daily Log'!#REF!),0)","v":0}]
[null,"DC02 1102:MAMITE CHK",null,"SIDE ORDER-LOCAL DELIGHTS",1,16,{"$f":"IFERROR($E276*SUMIF('Daily Log'!$B$18:$B$1017,$B276,'Daily Log'!$C$18:$C$1017),0)","v":3},{"$f":"IFERROR($E276*SUMIF('Daily Log'!$E$18:$E$1017,$B276,'Daily Log'!$F$18:$F$1017),0)","v":6},{"$f":"IFERROR($E276*SUMIF('Daily Log'!$H$18:$H$1017,$B276,'Daily Log'!$I$18:$I$1017),0)","v":4},{"$f":"IFERROR($E276*SUMIF('Daily Log'!$K$18:$K$1017,$B276,'Daily Log'!$L$18:$L$1017),0)","v":2},{"$f":"IFERROR($E276*SUMIF('Daily Log'!$N$18:$N$1017,$B276,'Daily Log'!$O$18:$O$1017),0)","v":1},{"$f":"IFERROR($E276*SUMIF('Daily Log'!#REF!,$B276,'Daily Log'!#REF!),0)","v":0},{"$f":"IFERROR($E276*SUMIF('Daily Log'!#REF!,$B276,'Daily Log'!#REF!),0)","v":0},{"$f":"IFERROR($E276*SUMIF('Daily Log'!#REF!,$B276,'Daily Log'!#REF!),0)","v":0},{"$f":"IFERROR($E276*SUMIF('Daily Log'!#REF!,$B276,'Daily Log'!#REF!),0)","v":0},{"$f":"IFERROR($E276*SUMIF('Daily Log'!#REF!,$B276,'Daily Log'!#REF!),0)","v":0},{"$f":"IFERROR($E276*SUMIF('Daily Log'!#REF!,$B276,'Daily Log'!#REF!),0)","v":0},{"$f":"IFERROR($E276*SUMIF('Daily Log'!#REF!,$B276,'Daily Log'!#REF!),0)","v":0},{"$f":"IFERROR($E276*SUMIF('Daily Log'!#REF!,$B276,'Daily Log'!#REF!),0)","v":0},{"$f":"IFERROR($E276*SUMIF('Daily Log'!#REF!,$B276,'Daily Log'!#REF!),0)","v":0},{"$f":"IFERROR($E276*SUMIF('Daily Log'!#REF!,$B276,'Daily Log'!#REF!),0)","v":0},{"$f":"IFERROR($E276*SUMIF('Daily Log'!#REF!,$B276,'Daily Log'!#REF!),0)","v":0},{"$f":"IFERROR($E276*SUMIF('Daily Log'!#REF!,$B276,'Daily Log'!#REF!),0)","v":0},{"$f":"IFERROR($E276*SUMIF('Daily Log'!#REF!,$B276,'Daily Log'!#REF!),0)","v":0},{"$f":"IFERROR($E276*SUMIF('Daily Log'!#REF!,$B276,'Daily Log'!#REF!),0)","v":0},{"$f":"IFERROR($E276*SUMIF('Daily Log'!#REF!,$B276,'Daily Log'!#REF!),0)","v":0},{"$f":"IFERROR($E276*SUMIF('Daily Log'!#REF!,$B276,'Daily Log'!#REF!),0)","v":0},{"$f":"IFERROR($E276*SUMIF('Daily Log'!#REF!,$B276,'Daily Log'!#REF!),0)","v":0},{"$f":"IFERROR($E276*SUMIF('Daily Log'!#REF!,$B276,'Daily Log'!#REF!),0)","v":0},{"$f":"IFERROR($E276*SUMIF('Daily Log'!#REF!,$B276,'Daily Log'!#REF!),0)","v":0},{"$f":"IFERROR($E276*SUMIF('Daily Log'!#REF!,$B276,'Daily Log'!#REF!),0)","v":0},{"$f":"IFERROR($E276*SUMIF('Daily Log'!#REF!,$B276,'Daily Log'!#REF!),0)","v":0},{"$f":"IFERROR($E276*SUMIF('Daily Log'!#REF!,$B276,'Daily Log'!#REF!),0)","v":0},{"$f":"IFERROR($E276*SUMIF('Daily Log'!#REF!,$B276,'Daily Log'!#REF!),0)","v":0},{"$f":"IFERROR($E276*SUMIF('Daily Log'!#REF!,$B276,'Daily Log'!#REF!),0)","v":0},{"$f":"IFERROR($E276*SUMIF('Daily Log'!#REF!,$B276,'Daily Log'!#REF!),0)","v":0},{"$f":"IFERROR($E276*SUMIF('Daily Log'!#REF!,$B276,'Daily Log'!#REF!),0)","v":0}]
[null,"DC03 1103:KO PO CHK",null,"SIDE ORDER-LOCAL DELIGHTS",1,4,{"$f":"IFERROR($E277*SUMIF('Daily Log'!$B$18:$B$1017,$B277,'Daily Log'!$C$18:$C$1017),0)","v":1},{"$f":"IFERROR($E277*SUMIF('Daily Log'!$E$18:$E$1017,$B277,'Daily Log'!$F$18:$F$1017),0)","v":1},{"$f":"IFERROR($E277*SUMIF('Daily Log'!$H$18:$H$1017,$B277,'Daily Log'!$I$18:$I$1017),0)","v":2},{"$f":"IFERROR($E277*SUMIF('Daily Log'!$K$18:$K$1017,$B277,'Daily Log'!$L$18:$L$1017),0)","v":0},{"$f":"IFERROR($E277*SUMIF('Daily Log'!$N$18:$N$1017,$B277,'Daily Log'!$O$18:$O$1017),0)","v":0},{"$f":"IFERROR($E277*SUMIF('Daily Log'!#REF!,$B277,'Daily Log'!#REF!),0)","v":0},{"$f":"IFERROR($E277*SUMIF('Daily Log'!#REF!,$B277,'Daily Log'!#REF!),0)","v":0},{"$f":"IFERROR($E277*SUMIF('Daily Log'!#REF!,$B277,'Daily Log'!#REF!),0)","v":0},{"$f":"IFERROR($E277*SUMIF('Daily Log'!#REF!,$B277,'Daily Log'!#REF!),0)","v":0},{"$f":"IFERROR($E277*SUMIF('Daily Log'!#REF!,$B277,'Daily Log'!#REF!),0)","v":0},{"$f":"IFERROR($E277*SUMIF('Daily Log'!#REF!,$B277,'Daily Log'!#REF!),0)","v":0},{"$f":"IFERROR($E277*SUMIF('Daily Log'!#REF!,$B277,'Daily Log'!#REF!),0)","v":0},{"$f":"IFERROR($E277*SUMIF('Daily Log'!#REF!,$B277,'Daily Log'!#REF!),0)","v":0},{"$f":"IFERROR($E277*SUMIF('Daily Log'!#REF!,$B277,'Daily Log'!#REF!),0)","v":0},{"$f":"IFERROR($E277*SUMIF('Daily Log'!#REF!,$B277,'Daily Log'!#REF!),0)","v":0},{"$f":"IFERROR($E277*SUMIF('Daily Log'!#REF!,$B277,'Daily Log'!#REF!),0)","v":0},{"$f":"IFERROR($E277*SUMIF('Daily Log'!#REF!,$B277,'Daily Log'!#REF!),0)","v":0},{"$f":"IFERROR($E277*SUMIF('Daily Log'!#REF!,$B277,'Daily Log'!#REF!),0)","v":0},{"$f":"IFERROR($E277*SUMIF('Daily Log'!#REF!,$B277,'Daily Log'!#REF!),0)","v":0},{"$f":"IFERROR($E277*SUMIF('Daily Log'!#REF!,$B277,'Daily Log'!#REF!),0)","v":0},{"$f":"IFERROR($E277*SUMIF('Daily Log'!#REF!,$B277,'Daily Log'!#REF!),0)","v":0},{"$f":"IFERROR($E277*SUMIF('Daily Log'!#REF!,$B277,'Daily Log'!#REF!),0)","v":0},{"$f":"IFERROR($E277*SUMIF('Daily Log'!#REF!,$B277,'Daily Log'!#REF!),0)","v":0},{"$f":"IFERROR($E277*SUMIF('Daily Log'!#REF!,$B277,'Daily Log'!#REF!),0)","v":0},{"$f":"IFERROR($E277*SUMIF('Daily Log'!#REF!,$B277,'Daily Log'!#REF!),0)","v":0},{"$f":"IFERROR($E277*SUMIF('Daily Log'!#REF!,$B277,'Daily Log'!#REF!),0)","v":0},{"$f":"IFERROR($E277*SUMIF('Daily Log'!#REF!,$B277,'Daily Log'!#REF!),0)","v":0},{"$f":"IFERROR($E277*SUMIF('Daily Log'!#REF!,$B277,'Daily Log'!#REF!),0)","v":0},{"$f":"IFERROR($E277*SUMIF('Daily Log'!#REF!,$B277,'Daily Log'!#REF!),0)","v":0},{"$f":"IFERROR($E277*SUMIF('Daily Log'!#REF!,$B277,'Daily Log'!#REF!),0)","v":0},{"$f":"IFERROR($E277*SUMIF('Daily Log'!#REF!,$B277,'Daily Log'!#REF!),0)","v":0}]
[null,"DC04 1104:S&S CHK",null,"SIDE ORDER-LOCAL DELIGHTS",1,1,{"$f":"IFERROR($E278*SUMIF('Daily Log'!$B$18:$B$1017,$B278,'Daily Log'!$C$18:$C$1017),0)","v":1},{"$f":"IFERROR($E278*SUMIF('Daily Log'!$E$18:$E$1017,$B278,'Daily Log'!$F$18:$F$1017),0)","v":0},{"$f":"IFERROR($E278*SUMIF('Daily Log'!$H$18:$H$1017,$B278,'Daily Log'!$I$18:$I$1017),0)","v":0},{"$f":"IFERROR($E278*SUMIF('Daily Log'!$K$18:$K$1017,$B278,'Daily Log'!$L$18:$L$1017),0)","v":0},{"$f":"IFERROR($E278*SUMIF('Daily Log'!$N$18:$N$1017,$B278,'Daily Log'!$O$18:$O$1017),0)","v":0},{"$f":"IFERROR($E278*SUMIF('Daily Log'!#REF!,$B278,'Daily Log'!#REF!),0)","v":0},{"$f":"IFERROR($E278*SUMIF('Daily Log'!#REF!,$B278,'Daily Log'!#REF!),0)","v":0},{"$f":"IFERROR($E278*SUMIF('Daily Log'!#REF!,$B278,'Daily Log'!#REF!),0)","v":0},{"$f":"IFERROR($E278*SUMIF('Daily Log'!#REF!,$B278,'Daily Log'!#REF!),0)","v":0},{"$f":"IFERROR($E278*SUMIF('Daily Log'!#REF!,$B278,'Daily Log'!#REF!),0)","v":0},{"$f":"IFERROR($E278*SUMIF('Daily Log'!#REF!,$B278,'Daily Log'!#REF!),0)","v":0},{"$f":"IFERROR($E278*SUMIF('Daily Log'!#REF!,$B278,'Daily Log'!#REF!),0)","v":0},{"$f":"IFERROR($E278*SUMIF('Daily Log'!#REF!,$B278,'Daily Log'!#REF!),0)","v":0},{"$f":"IFERROR($E278*SUMIF('Daily Log'!#REF!,$B278,'Daily Log'!#REF!),0)","v":0},{"$f":"IFERROR($E278*SUMIF('Daily Log'!#REF!,$B278,'Daily Log'!#REF!),0)","v":0},{"$f":"IFERROR($E278*SUMIF('Daily Log'!#REF!,$B278,'Daily Log'!#REF!),0)","v":0},{"$f":"IFERROR($E278*SUMIF('Daily Log'!#REF!,$B278,'Daily Log'!#REF!),0)","v":0},{"$f":"IFERROR($E278*SUMIF('Daily Log'!#REF!,$B278,'Daily Log'!#REF!),0)","v":0},{"$f":"IFERROR($E278*SUMIF('Daily Log'!#REF!,$B278,'Daily Log'!#REF!),0)","v":0},{"$f":"IFERROR($E278*SUMIF('Daily Log'!#REF!,$B278,'Daily Log'!#REF!),0)","v":0},{"$f":"IFERROR($E278*SUMIF('Daily Log'!#REF!,$B278,'Daily Log'!#REF!),0)","v":0},{"$f":"IFERROR($E278*SUMIF('Daily Log'!#REF!,$B278,'Daily Log'!#REF!),0)","v":0},{"$f":"IFERROR($E278*SUMIF('Daily Log'!#REF!,$B278,'Daily Log'!#REF!),0)","v":0},{"$f":"IFERROR($E278*SUMIF('Daily Log'!#REF!,$B278,'Daily Log'!#REF!),0)","v":0},{"$f":"IFERROR($E278*SUMIF('Daily Log'!#REF!,$B278,'Daily Log'!#REF!),0)","v":0},{"$f":"IFERROR($E278*SUMIF('Daily Log'!#REF!,$B278,'Daily Log'!#REF!),0)","v":0},{"$f":"IFERROR($E278*SUMIF('Daily Log'!#REF!,$B278,'Daily Log'!#REF!),0)","v":0},{"$f":"IFERROR($E278*SUMIF('Daily Log'!#REF!,$B278,'Daily Log'!#REF!),0)","v":0},{"$f":"IFERROR($E278*SUMIF('Daily Log'!#REF!,$B278,'Daily Log'!#REF!),0)","v":0},{"$f":"IFERROR($E278*SUMIF('Daily Log'!#REF!,$B278,'Daily Log'!#REF!),0)","v":0},{"$f":"IFERROR($E278*SUMIF('Daily Log'!#REF!,$B278,'Daily Log'!#REF!),0)","v":0}]
[null,"DC05 1105:BUTTER CHK",null,"SIDE ORDER-LOCAL DELIGHTS",1,20,{"$f":"IFERROR($E279*SUMIF('Daily Log'!$B$18:$B$1017,$B279,'Daily Log'!$C$18:$C$1017),0)","v":4},{"$f":"IFERROR($E279*SUMIF('Daily Log'!$E$18:$E$1017,$B279,'Daily Log'!$F$18:$F$1017),0)","v":4},{"$f":"IFERROR($E279*SUMIF('Daily Log'!$H$18:$H$1017,$B279,'Daily Log'!$I$18:$I$1017),0)","v":5},{"$f":"IFERROR($E279*SUMIF('Daily Log'!$K$18:$K$1017,$B279,'Daily Log'!$L$18:$L$1017),0)","v":6},{"$f":"IFERROR($E279*SUMIF('Daily Log'!$N$18:$N$1017,$B279,'Daily Log'!$O$18:$O$1017),0)","v":1},{"$f":"IFERROR($E279*SUMIF('Daily Log'!#REF!,$B279,'Daily Log'!#REF!),0)","v":0},{"$f":"IFERROR($E279*SUMIF('Daily Log'!#REF!,$B279,'Daily Log'!#REF!),0)","v":0},{"$f":"IFERROR($E279*SUMIF('Daily Log'!#REF!,$B279,'Daily Log'!#REF!),0)","v":0},{"$f":"IFERROR($E279*SUMIF('Daily Log'!#REF!,$B279,'Daily Log'!#REF!),0)","v":0},{"$f":"IFERROR($E279*SUMIF('Daily Log'!#REF!,$B279,'Daily Log'!#REF!),0)","v":0},{"$f":"IFERROR($E279*SUMIF('Daily Log'!#REF!,$B279,'Daily Log'!#REF!),0)","v":0},{"$f":"IFERROR($E279*SUMIF('Daily Log'!#REF!,$B279,'Daily Log'!#REF!),0)","v":0},{"$f":"IFERROR($E279*SUMIF('Daily Log'!#REF!,$B279,'Daily Log'!#REF!),0)","v":0},{"$f":"IFERROR($E279*SUMIF('Daily Log'!#REF!,$B279,'Daily Log'!#REF!),0)","v":0},{"$f":"IFERROR($E279*SUMIF('Daily Log'!#REF!,$B279,'Daily Log'!#REF!),0)","v":0},{"$f":"IFERROR($E279*SUMIF('Daily Log'!#REF!,$B279,'Daily Log'!#REF!),0)","v":0},{"$f":"IFERROR($E279*SUMIF('Daily Log'!#REF!,$B279,'Daily Log'!#REF!),0)","v":0},{"$f":"IFERROR($E279*SUMIF('Daily Log'!#REF!,$B279,'Daily Log'!#REF!),0)","v":0},{"$f":"IFERROR($E279*SUMIF('Daily Log'!#REF!,$B279,'Daily Log'!#REF!),0)","v":0},{"$f":"IFERROR($E279*SUMIF('Daily Log'!#REF!,$B279,'Daily Log'!#REF!),0)","v":0},{"$f":"IFERROR($E279*SUMIF('Daily Log'!#REF!,$B279,'Daily Log'!#REF!),0)","v":0},{"$f":"IFERROR($E279*SUMIF('Daily Log'!#REF!,$B279,'Daily Log'!#REF!),0)","v":0},{"$f":"IFERROR($E279*SUMIF('Daily Log'!#REF!,$B279,'Daily Log'!#REF!),0)","v":0},{"$f":"IFERROR($E279*SUMIF('Daily Log'!#REF!,$B279,'Daily Log'!#REF!),0)","v":0},{"$f":"IFERROR($E279*SUMIF('Daily Log'!#REF!,$B279,'Daily Log'!#REF!),0)","v":0},{"$f":"IFERROR($E279*SUMIF('Daily Log'!#REF!,$B279,'Daily Log'!#REF!),0)","v":0},{"$f":"IFERROR($E279*SUMIF('Daily Log'!#REF!,$B279,'Daily Log'!#REF!),0)","v":0},{"$f":"IFERROR($E279*SUMIF('Daily Log'!#REF!,$B279,'Daily Log'!#REF!),0)","v":0},{"$f":"IFERROR($E279*SUMIF('Daily Log'!#REF!,$B279,'Daily Log'!#REF!),0)","v":0},{"$f":"IFERROR($E279*SUMIF('Daily Log'!#REF!,$B279,'Daily Log'!#REF!),0)","v":0},{"$f":"IFERROR($E279*SUMIF('Daily Log'!#REF!,$B279,'Daily Log'!#REF!),0)","v":0}]
[null,"DC06 1106:HK F.RICE",null,"SIDE ORDER-LOCAL DELIGHTS",1,8,{"$f":"IFERROR($E280*SUMIF('Daily Log'!$B$18:$B$1017,$B280,'Daily Log'!$C$18:$C$1017),0)","v":0},{"$f":"IFERROR($E280*SUMIF('Daily Log'!$E$18:$E$1017,$B280,'Daily Log'!$F$18:$F$1017),0)","v":2},{"$f":"IFERROR($E280*SUMIF('Daily Log'!$H$18:$H$1017,$B280,'Daily Log'!$I$18:$I$1017),0)","v":0},{"$f":"IFERROR($E280*SUMIF('Daily Log'!$K$18:$K$1017,$B280,'Daily Log'!$L$18:$L$1017),0)","v":5},{"$f":"IFERROR($E280*SUMIF('Daily Log'!$N$18:$N$1017,$B280,'Daily Log'!$O$18:$O$1017),0)","v":1},{"$f":"IFERROR($E280*SUMIF('Daily Log'!#REF!,$B280,'Daily Log'!#REF!),0)","v":0},{"$f":"IFERROR($E280*SUMIF('Daily Log'!#REF!,$B280,'Daily Log'!#REF!),0)","v":0},{"$f":"IFERROR($E280*SUMIF('Daily Log'!#REF!,$B280,'Daily Log'!#REF!),0)","v":0},{"$f":"IFERROR($E280*SUMIF('Daily Log'!#REF!,$B280,'Daily Log'!#REF!),0)","v":0},{"$f":"IFERROR($E280*SUMIF('Daily Log'!#REF!,$B280,'Daily Log'!#REF!),0)","v":0},{"$f":"IFERROR($E280*SUMIF('Daily Log'!#REF!,$B280,'Daily Log'!#REF!),0)","v":0},{"$f":"IFERROR($E280*SUMIF('Daily Log'!#REF!,$B280,'Daily Log'!#REF!),0)","v":0},{"$f":"IFERROR($E280*SUMIF('Daily Log'!#REF!,$B280,'Daily Log'!#REF!),0)","v":0},{"$f":"IFERROR($E280*SUMIF('Daily Log'!#REF!,$B280,'Daily Log'!#REF!),0)","v":0},{"$f":"IFERROR($E280*SUMIF('Daily Log'!#REF!,$B280,'Daily Log'!#REF!),0)","v":0},{"$f":"IFERROR($E280*SUMIF('Daily Log'!#REF!,$B280,'Daily Log'!#REF!),0)","v":0},{"$f":"IFERROR($E280*SUMIF('Daily Log'!#REF!,$B280,'Daily Log'!#REF!),0)","v":0},{"$f":"IFERROR($E280*SUMIF('Daily Log'!#REF!,$B280,'Daily Log'!#REF!),0)","v":0},{"$f":"IFERROR($E280*SUMIF('Daily Log'!#REF!,$B280,'Daily Log'!#REF!),0)","v":0},{"$f":"IFERROR($E280*SUMIF('Daily Log'!#REF!,$B280,'Daily Log'!#REF!),0)","v":0},{"$f":"IFERROR($E280*SUMIF('Daily Log'!#REF!,$B280,'Daily Log'!#REF!),0)","v":0},{"$f":"IFERROR($E280*SUMIF('Daily Log'!#REF!,$B280,'Daily Log'!#REF!),0)","v":0},{"$f":"IFERROR($E280*SUMIF('Daily Log'!#REF!,$B280,'Daily Log'!#REF!),0)","v":0},{"$f":"IFERROR($E280*SUMIF('Daily Log'!#REF!,$B280,'Daily Log'!#REF!),0)","v":0},{"$f":"IFERROR($E280*SUMIF('Daily Log'!#REF!,$B280,'Daily Log'!#REF!),0)","v":0},{"$f":"IFERROR($E280*SUMIF('Daily Log'!#REF!,$B280,'Daily Log'!#REF!),0)","v":0},{"$f":"IFERROR($E280*SUMIF('Daily Log'!#REF!,$B280,'Daily Log'!#REF!),0)","v":0},{"$f":"IFERROR($E280*SUMIF('Daily Log'!#REF!,$B280,'Daily Log'!#REF!),0)","v":0},{"$f":"IFERROR($E280*SUMIF('Daily Log'!#REF!,$B280,'Daily Log'!#REF!),0)","v":0},{"$f":"IFERROR($E280*SUMIF('Daily Log'!#REF!,$B280,'Daily Log'!#REF!),0)","v":0},{"$f":"IFERROR($E280*SUMIF('Daily Log'!#REF!,$B280,'Daily Log'!#REF!),0)","v":0}]
[null,"DC07 1107:SBL F.RICE",null,"SIDE ORDER-LOCAL DELIGHTS",1,16,{"$f":"IFERROR($E281*SUMIF('Daily Log'!$B$18:$B$1017,$B281,'Daily Log'!$C$18:$C$1017),0)","v":4},{"$f":"IFERROR($E281*SUMIF('Daily Log'!$E$18:$E$1017,$B281,'Daily Log'!$F$18:$F$1017),0)","v":2},{"$f":"IFERROR($E281*SUMIF('Daily Log'!$H$18:$H$1017,$B281,'Daily Log'!$I$18:$I$1017),0)","v":7},{"$f":"IFERROR($E281*SUMIF('Daily Log'!$K$18:$K$1017,$B281,'Daily Log'!$L$18:$L$1017),0)","v":1},{"$f":"IFERROR($E281*SUMIF('Daily Log'!$N$18:$N$1017,$B281,'Daily Log'!$O$18:$O$1017),0)","v":2},{"$f":"IFERROR($E281*SUMIF('Daily Log'!#REF!,$B281,'Daily Log'!#REF!),0)","v":0},{"$f":"IFERROR($E281*SUMIF('Daily Log'!#REF!,$B281,'Daily Log'!#REF!),0)","v":0},{"$f":"IFERROR($E281*SUMIF('Daily Log'!#REF!,$B281,'Daily Log'!#REF!),0)","v":0},{"$f":"IFERROR($E281*SUMIF('Daily Log'!#REF!,$B281,'Daily Log'!#REF!),0)","v":0},{"$f":"IFERROR($E281*SUMIF('Daily Log'!#REF!,$B281,'Daily Log'!#REF!),0)","v":0},{"$f":"IFERROR($E281*SUMIF('Daily Log'!#REF!,$B281,'Daily Log'!#REF!),0)","v":0},{"$f":"IFERROR($E281*SUMIF('Daily Log'!#REF!,$B281,'Daily Log'!#REF!),0)","v":0},{"$f":"IFERROR($E281*SUMIF('Daily Log'!#REF!,$B281,'Daily Log'!#REF!),0)","v":0},{"$f":"IFERROR($E281*SUMIF('Daily Log'!#REF!,$B281,'Daily Log'!#REF!),0)","v":0},{"$f":"IFERROR($E281*SUMIF('Daily Log'!#REF!,$B281,'Daily Log'!#REF!),0)","v":0},{"$f":"IFERROR($E281*SUMIF('Daily Log'!#REF!,$B281,'Daily Log'!#REF!),0)","v":0},{"$f":"IFERROR($E281*SUMIF('Daily Log'!#REF!,$B281,'Daily Log'!#REF!),0)","v":0},{"$f":"IFERROR($E281*SUMIF('Daily Log'!#REF!,$B281,'Daily Log'!#REF!),0)","v":0},{"$f":"IFERROR($E281*SUMIF('Daily Log'!#REF!,$B281,'Daily Log'!#REF!),0)","v":0},{"$f":"IFERROR($E281*SUMIF('Daily Log'!#REF!,$B281,'Daily Log'!#REF!),0)","v":0},{"$f":"IFERROR($E281*SUMIF('Daily Log'!#REF!,$B281,'Daily Log'!#REF!),0)","v":0},{"$f":"IFERROR($E281*SUMIF('Daily Log'!#REF!,$B281,'Daily Log'!#REF!),0)","v":0},{"$f":"IFERROR($E281*SUMIF('Daily Log'!#REF!,$B281,'Daily Log'!#REF!),0)","v":0},{"$f":"IFERROR($E281*SUMIF('Daily Log'!#REF!,$B281,'Daily Log'!#REF!),0)","v":0},{"$f":"IFERROR($E281*SUMIF('Daily Log'!#REF!,$B281,'Daily Log'!#REF!),0)","v":0},{"$f":"IFERROR($E281*SUMIF('Daily Log'!#REF!,$B281,'Daily Log'!#REF!),0)","v":0},{"$f":"IFERROR($E281*SUMIF('Daily Log'!#REF!,$B281,'Daily Log'!#REF!),0)","v":0},{"$f":"IFERROR($E281*SUMIF('Daily Log'!#REF!,$B281,'Daily Log'!#REF!),0)","v":0},{"$f":"IFERROR($E281*SUMIF('Daily Log'!#REF!,$B281,'Daily Log'!#REF!),0)","v":0},{"$f":"IFERROR($E281*SUMIF('Daily Log'!#REF!,$B281,'Daily Log'!#REF!),0)","v":0},{"$f":"IFERROR($E281*SUMIF('Daily Log'!#REF!,$B281,'Daily Log'!#REF!),0)","v":0}]
[null,"DC08 1108:SBL F.MEE",null,"SIDE ORDER-LOCAL DELIGHTS",1,0,{"$f":"IFERROR($E282*SUMIF('Daily Log'!$B$18:$B$1017,$B282,'Daily Log'!$C$18:$C$1017),0)","v":0},{"$f":"IFERROR($E282*SUMIF('Daily Log'!$E$18:$E$1017,$B282,'Daily Log'!$F$18:$F$1017),0)","v":0},{"$f":"IFERROR($E282*SUMIF('Daily Log'!$H$18:$H$1017,$B282,'Daily Log'!$I$18:$I$1017),0)","v":0},{"$f":"IFERROR($E282*SUMIF('Daily Log'!$K$18:$K$1017,$B282,'Daily Log'!$L$18:$L$1017),0)","v":0},{"$f":"IFERROR($E282*SUMIF('Daily Log'!$N$18:$N$1017,$B282,'Daily Log'!$O$18:$O$1017),0)","v":0},{"$f":"IFERROR($E282*SUMIF('Daily Log'!#REF!,$B282,'Daily Log'!#REF!),0)","v":0},{"$f":"IFERROR($E282*SUMIF('Daily Log'!#REF!,$B282,'Daily Log'!#REF!),0)","v":0},{"$f":"IFERROR($E282*SUMIF('Daily Log'!#REF!,$B282,'Daily Log'!#REF!),0)","v":0},{"$f":"IFERROR($E282*SUMIF('Daily Log'!#REF!,$B282,'Daily Log'!#REF!),0)","v":0},{"$f":"IFERROR($E282*SUMIF('Daily Log'!#REF!,$B282,'Daily Log'!#REF!),0)","v":0},{"$f":"IFERROR($E282*SUMIF('Daily Log'!#REF!,$B282,'Daily Log'!#REF!),0)","v":0},{"$f":"IFERROR($E282*SUMIF('Daily Log'!#REF!,$B282,'Daily Log'!#REF!),0)","v":0},{"$f":"IFERROR($E282*SUMIF('Daily Log'!#REF!,$B282,'Daily Log'!#REF!),0)","v":0},{"$f":"IFERROR($E282*SUMIF('Daily Log'!#REF!,$B282,'Daily Log'!#REF!),0)","v":0},{"$f":"IFERROR($E282*SUMIF('Daily Log'!#REF!,$B282,'Daily Log'!#REF!),0)","v":0},{"$f":"IFERROR($E282*SUMIF('Daily Log'!#REF!,$B282,'Daily Log'!#REF!),0)","v":0},{"$f":"IFERROR($E282*SUMIF('Daily Log'!#REF!,$B282,'Daily Log'!#REF!),0)","v":0},{"$f":"IFERROR($E282*SUMIF('Daily Log'!#REF!,$B282,'Daily Log'!#REF!),0)","v":0},{"$f":"IFERROR($E282*SUMIF('Daily Log'!#REF!,$B282,'Daily Log'!#REF!),0)","v":0},{"$f":"IFERROR($E282*SUMIF('Daily Log'!#REF!,$B282,'Daily Log'!#REF!),0)","v":0},{"$f":"IFERROR($E282*SUMIF('Daily Log'!#REF!,$B282,'Daily Log'!#REF!),0)","v":0},{"$f":"IFERROR($E282*SUMIF('Daily Log'!#REF!,$B282,'Daily Log'!#REF!),0)","v":0},{"$f":"IFERROR($E282*SUMIF('Daily Log'!#REF!,$B282,'Daily Log'!#REF!),0)","v":0},{"$f":"IFERROR($E282*SUMIF('Daily Log'!#REF!,$B282,'Daily Log'!#REF!),0)","v":0},{"$f":"IFERROR($E282*SUMIF('Daily Log'!#REF!,$B282,'Daily Log'!#REF!),0)","v":0},{"$f":"IFERROR($E282*SUMIF('Daily Log'!#REF!,$B282,'Daily Log'!#REF!),0)","v":0},{"$f":"IFERROR($E282*SUMIF('Daily Log'!#REF!,$B282,'Daily Log'!#REF!),0)","v":0},{"$f":"IFERROR($E282*SUMIF('Daily Log'!#REF!,$B282,'Daily Log'!#REF!),0)","v":0},{"$f":"IFERROR($E282*SUMIF('Daily Log'!#REF!,$B282,'Daily Log'!#REF!),0)","v":0},{"$f":"IFERROR($E282*SUMIF('Daily Log'!#REF!,$B282,'Daily Log'!#REF!),0)","v":0},{"$f":"IFERROR($E282*SUMIF('Daily Log'!#REF!,$B282,'Daily Log'!#REF!),0)","v":0}]
[null,"DC09 1109:BP UDON",null,"SIDE ORDER-LOCAL DELIGHTS",1,3,{"$f":"IFERROR($E283*SUMIF('Daily Log'!$B$18:$B$1017,$B283,'Daily Log'!$C$18:$C$1017),0)","v":1},{"$f":"IFERROR($E283*SUMIF('Daily Log'!$E$18:$E$1017,$B283,'Daily Log'!$F$18:$F$1017),0)","v":1},{"$f":"IFERROR($E283*SUMIF('Daily Log'!$H$18:$H$1017,$B283,'Daily Log'!$I$18:$I$1017),0)","v":1},{"$f":"IFERROR($E283*SUMIF('Daily Log'!$K$18:$K$1017,$B283,'Daily Log'!$L$18:$L$1017),0)","v":0},{"$f":"IFERROR($E283*SUMIF('Daily Log'!$N$18:$N$1017,$B283,'Daily Log'!$O$18:$O$1017),0)","v":0},{"$f":"IFERROR($E283*SUMIF('Daily Log'!#REF!,$B283,'Daily Log'!#REF!),0)","v":0},{"$f":"IFERROR($E283*SUMIF('Daily Log'!#REF!,$B283,'Daily Log'!#REF!),0)","v":0},{"$f":"IFERROR($E283*SUMIF('Daily Log'!#REF!,$B283,'Daily Log'!#REF!),0)","v":0},{"$f":"IFERROR($E283*SUMIF('Daily Log'!#REF!,$B283,'Daily Log'!#REF!),0)","v":0},{"$f":"IFERROR($E283*SUMIF('Daily Log'!#REF!,$B283,'Daily Log'!#REF!),0)","v":0},{"$f":"IFERROR($E283*SUMIF('Daily Log'!#REF!,$B283,'Daily Log'!#REF!),0)","v":0},{"$f":"IFERROR($E283*SUMIF('Daily Log'!#REF!,$B283,'Daily Log'!#REF!),0)","v":0},{"$f":"IFERROR($E283*SUMIF('Daily Log'!#REF!,$B283,'Daily Log'!#REF!),0)","v":0},{"$f":"IFERROR($E283*SUMIF('Daily Log'!#REF!,$B283,'Daily Log'!#REF!),0)","v":0},{"$f":"IFERROR($E283*SUMIF('Daily Log'!#REF!,$B283,'Daily Log'!#REF!),0)","v":0},{"$f":"IFERROR($E283*SUMIF('Daily Log'!#REF!,$B283,'Daily Log'!#REF!),0)","v":0},{"$f":"IFERROR($E283*SUMIF('Daily Log'!#REF!,$B283,'Daily Log'!#REF!),0)","v":0},{"$f":"IFERROR($E283*SUMIF('Daily Log'!#REF!,$B283,'Daily Log'!#REF!),0)","v":0},{"$f":"IFERROR($E283*SUMIF('Daily Log'!#REF!,$B283,'Daily Log'!#REF!),0)","v":0},{"$f":"IFERROR($E283*SUMIF('Daily Log'!#REF!,$B283,'Daily Log'!#REF!),0)","v":0},{"$f":"IFERROR($E283*SUMIF('Daily Log'!#REF!,$B283,'Daily Log'!#REF!),0)","v":0},{"$f":"IFERROR($E283*SUMIF('Daily Log'!#REF!,$B283,'Daily Log'!#REF!),0)","v":0},{"$f":"IFERROR($E283*SUMIF('Daily Log'!#REF!,$B283,'Daily Log'!#REF!),0)","v":0},{"$f":"IFERROR($E283*SUMIF('Daily Log'!#REF!,$B283,'Daily Log'!#REF!),0)","v":0},{"$f":"IFERROR($E283*SUMIF('Daily Log'!#REF!,$B283,'Daily Log'!#REF!),0)","v":0},{"$f":"IFERROR($E283*SUMIF('Daily Log'!#REF!,$B283,'Daily Log'!#REF!),0)","v":0},{"$f":"IFERROR($E283*SUMIF('Daily Log'!#REF!,$B283,'Daily Log'!#REF!),0)","v":0},{"$f":"IFERROR($E283*SUMIF('Daily Log'!#REF!,$B283,'Daily Log'!#REF!),0)","v":0},{"$f":"IFERROR($E283*SUMIF('Daily Log'!#REF!,$B283,'Daily Log'!#REF!),0)","v":0},{"$f":"IFERROR($E283*SUMIF('Daily Log'!#REF!,$B283,'Daily Log'!#REF!),0)","v":0},{"$f":"IFERROR($E283*SUMIF('Daily Log'!#REF!,$B283,'Daily Log'!#REF!),0)","v":0}]
[null,"DC10 1110:NISSIN",null,"SIDE ORDER-LOCAL DELIGHTS",1,7,{"$f":"IFERROR($E284*SUMIF('Daily Log'!$B$18:$B$1017,$B284,'Daily Log'!$C$18:$C$1017),0)","v":2},{"$f":"IFERROR($E284*SUMIF('Daily Log'!$E$18:$E$1017,$B284,'Daily Log'!$F$18:$F$1017),0)","v":1},{"$f":"IFERROR($E284*SUMIF('Daily Log'!$H$18:$H$1017,$B284,'Daily Log'!$I$18:$I$1017),0)","v":4},{"$f":"IFERROR($E284*SUMIF('Daily Log'!$K$18:$K$1017,$B284,'Daily Log'!$L$18:$L$1017),0)","v":0},{"$f":"IFERROR($E284*SUMIF('Daily Log'!$N$18:$N$1017,$B284,'Daily Log'!$O$18:$O$1017),0)","v":0},{"$f":"IFERROR($E284*SUMIF('Daily Log'!#REF!,$B284,'Daily Log'!#REF!),0)","v":0},{"$f":"IFERROR($E284*SUMIF('Daily Log'!#REF!,$B284,'Daily Log'!#REF!),0)","v":0},{"$f":"IFERROR($E284*SUMIF('Daily Log'!#REF!,$B284,'Daily Log'!#REF!),0)","v":0},{"$f":"IFERROR($E284*SUMIF('Daily Log'!#REF!,$B284,'Daily Log'!#REF!),0)","v":0},{"$f":"IFERROR($E284*SUMIF('Daily Log'!#REF!,$B284,'Daily Log'!#REF!),0)","v":0},{"$f":"IFERROR($E284*SUMIF('Daily Log'!#REF!,$B284,'Daily Log'!#REF!),0)","v":0},{"$f":"IFERROR($E284*SUMIF('Daily Log'!#REF!,$B284,'Daily Log'!#REF!),0)","v":0},{"$f":"IFERROR($E284*SUMIF('Daily Log'!#REF!,$B284,'Daily Log'!#REF!),0)","v":0},{"$f":"IFERROR($E284*SUMIF('Daily Log'!#REF!,$B284,'Daily Log'!#REF!),0)","v":0},{"$f":"IFERROR($E284*SUMIF('Daily Log'!#REF!,$B284,'Daily Log'!#REF!),0)","v":0},{"$f":"IFERROR($E284*SUMIF('Daily Log'!#REF!,$B284,'Daily Log'!#REF!),0)","v":0},{"$f":"IFERROR($E284*SUMIF('Daily Log'!#REF!,$B284,'Daily Log'!#REF!),0)","v":0},{"$f":"IFERROR($E284*SUMIF('Daily Log'!#REF!,$B284,'Daily Log'!#REF!),0)","v":0},{"$f":"IFERROR($E284*SUMIF('Daily Log'!#REF!,$B284,'Daily Log'!#REF!),0)","v":0},{"$f":"IFERROR($E284*SUMIF('Daily Log'!#REF!,$B284,'Daily Log'!#REF!),0)","v":0},{"$f":"IFERROR($E284*SUMIF('Daily Log'!#REF!,$B284,'Daily Log'!#REF!),0)","v":0},{"$f":"IFERROR($E284*SUMIF('Daily Log'!#REF!,$B284,'Daily Log'!#REF!),0)","v":0},{"$f":"IFERROR($E284*SUMIF('Daily Log'!#REF!,$B284,'Daily Log'!#REF!),0)","v":0},{"$f":"IFERROR($E284*SUMIF('Daily Log'!#REF!,$B284,'Daily Log'!#REF!),0)","v":0},{"$f":"IFERROR($E284*SUMIF('Daily Log'!#REF!,$B284,'Daily Log'!#REF!),0)","v":0},{"$f":"IFERROR($E284*SUMIF('Daily Log'!#REF!,$B284,'Daily Log'!#REF!),0)","v":0},{"$f":"IFERROR($E284*SUMIF('Daily Log'!#REF!,$B284,'Daily Log'!#REF!),0)","v":0},{"$f":"IFERROR($E284*SUMIF('Daily Log'!#REF!,$B284,'Daily Log'!#REF!),0)","v":0},{"$f":"IFERROR($E284*SUMIF('Daily Log'!#REF!,$B284,'Daily Log'!#REF!),0)","v":0},{"$f":"IFERROR($E284*SUMIF('Daily Log'!#REF!,$B284,'Daily Log'!#REF!),0)","v":0},{"$f":"IFERROR($E284*SUMIF('Daily Log'!#REF!,$B284,'Daily Log'!#REF!),0)","v":0}]
[null,"DC11 1111:VEG RICE",null,"SIDE ORDER-LOCAL DELIGHTS",1,0,{"$f":"IFERROR($E285*SUMIF('Daily Log'!$B$18:$B$1017,$B285,'Daily Log'!$C$18:$C$1017),0)","v":0},{"$f":"IFERROR($E285*SUMIF('Daily Log'!$E$18:$E$1017,$B285,'Daily Log'!$F$18:$F$1017),0)","v":0},{"$f":"IFERROR($E285*SUMIF('Daily Log'!$H$18:$H$1017,$B285,'Daily Log'!$I$18:$I$1017),0)","v":0},{"$f":"IFERROR($E285*SUMIF('Daily Log'!$K$18:$K$1017,$B285,'Daily Log'!$L$18:$L$1017),0)","v":0},{"$f":"IFERROR($E285*SUMIF('Daily Log'!$N$18:$N$1017,$B285,'Daily Log'!$O$18:$O$1017),0)","v":0},{"$f":"IFERROR($E285*SUMIF('Daily Log'!#REF!,$B285,'Daily Log'!#REF!),0)","v":0},{"$f":"IFERROR($E285*SUMIF('Daily Log'!#REF!,$B285,'Daily Log'!#REF!),0)","v":0},{"$f":"IFERROR($E285*SUMIF('Daily Log'!#REF!,$B285,'Daily Log'!#REF!),0)","v":0},{"$f":"IFERROR($E285*SUMIF('Daily Log'!#REF!,$B285,'Daily Log'!#REF!),0)","v":0},{"$f":"IFERROR($E285*SUMIF('Daily Log'!#REF!,$B285,'Daily Log'!#REF!),0)","v":0},{"$f":"IFERROR($E285*SUMIF('Daily Log'!#REF!,$B285,'Daily Log'!#REF!),0)","v":0},{"$f":"IFERROR($E285*SUMIF('Daily Log'!#REF!,$B285,'Daily Log'!#REF!),0)","v":0},{"$f":"IFERROR($E285*SUMIF('Daily Log'!#REF!,$B285,'Daily Log'!#REF!),0)","v":0},{"$f":"IFERROR($E285*SUMIF('Daily Log'!#REF!,$B285,'Daily Log'!#REF!),0)","v":0},{"$f":"IFERROR($E285*SUMIF('Daily Log'!#REF!,$B285,'Daily Log'!#REF!),0)","v":0},{"$f":"IFERROR($E285*SUMIF('Daily Log'!#REF!,$B285,'Daily Log'!#REF!),0)","v":0},{"$f":"IFERROR($E285*SUMIF('Daily Log'!#REF!,$B285,'Daily Log'!#REF!),0)","v":0},{"$f":"IFERROR($E285*SUMIF('Daily Log'!#REF!,$B285,'Daily Log'!#REF!),0)","v":0},{"$f":"IFERROR($E285*SUMIF('Daily Log'!#REF!,$B285,'Daily Log'!#REF!),0)","v":0},{"$f":"IFERROR($E285*SUMIF('Daily Log'!#REF!,$B285,'Daily Log'!#REF!),0)","v":0},{"$f":"IFERROR($E285*SUMIF('Daily Log'!#REF!,$B285,'Daily Log'!#REF!),0)","v":0},{"$f":"IFERROR($E285*SUMIF('Daily Log'!#REF!,$B285,'Daily Log'!#REF!),0)","v":0},{"$f":"IFERROR($E285*SUMIF('Daily Log'!#REF!,$B285,'Daily Log'!#REF!),0)","v":0},{"$f":"IFERROR($E285*SUMIF('Daily Log'!#REF!,$B285,'Daily Log'!#REF!),0)","v":0},{"$f":"IFERROR($E285*SUMIF('Daily Log'!#REF!,$B285,'Daily Log'!#REF!),0)","v":0},{"$f":"IFERROR($E285*SUMIF('Daily Log'!#REF!,$B285,'Daily Log'!#REF!),0)","v":0},{"$f":"IFERROR($E285*SUMIF('Daily Log'!#REF!,$B285,'Daily Log'!#REF!),0)","v":0},{"$f":"IFERROR($E285*SUMIF('Daily Log'!#REF!,$B285,'Daily Log'!#REF!),0)","v":0},{"$f":"IFERROR($E285*SUMIF('Daily Log'!#REF!,$B285,'Daily Log'!#REF!),0)","v":0},{"$f":"IFERROR($E285*SUMIF('Daily Log'!#REF!,$B285,'Daily Log'!#REF!),0)","v":0},{"$f":"IFERROR($E285*SUMIF('Daily Log'!#REF!,$B285,'Daily Log'!#REF!),0)","v":0}]
[null,"DC12 1112:NASI LEMAK",null,"SIDE ORDER-LOCAL DELIGHTS",1,4,{"$f":"IFERROR($E286*SUMIF('Daily Log'!$B$18:$B$1017,$B286,'Daily Log'!$C$18:$C$1017),0)","v":1},{"$f":"IFERROR($E286*SUMIF('Daily Log'!$E$18:$E$1017,$B286,'Daily Log'!$F$18:$F$1017),0)","v":1},{"$f":"IFERROR($E286*SUMIF('Daily Log'!$H$18:$H$1017,$B286,'Daily Log'!$I$18:$I$1017),0)","v":0},{"$f":"IFERROR($E286*SUMIF('Daily Log'!$K$18:$K$1017,$B286,'Daily Log'!$L$18:$L$1017),0)","v":2},{"$f":"IFERROR($E286*SUMIF('Daily Log'!$N$18:$N$1017,$B286,'Daily Log'!$O$18:$O$1017),0)","v":0},{"$f":"IFERROR($E286*SUMIF('Daily Log'!#REF!,$B286,'Daily Log'!#REF!),0)","v":0},{"$f":"IFERROR($E286*SUMIF('Daily Log'!#REF!,$B286,'Daily Log'!#REF!),0)","v":0},{"$f":"IFERROR($E286*SUMIF('Daily Log'!#REF!,$B286,'Daily Log'!#REF!),0)","v":0},{"$f":"IFERROR($E286*SUMIF('Daily Log'!#REF!,$B286,'Daily Log'!#REF!),0)","v":0},{"$f":"IFERROR($E286*SUMIF('Daily Log'!#REF!,$B286,'Daily Log'!#REF!),0)","v":0},{"$f":"IFERROR($E286*SUMIF('Daily Log'!#REF!,$B286,'Daily Log'!#REF!),0)","v":0},{"$f":"IFERROR($E286*SUMIF('Daily Log'!#REF!,$B286,'Daily Log'!#REF!),0)","v":0},{"$f":"IFERROR($E286*SUMIF('Daily Log'!#REF!,$B286,'Daily Log'!#REF!),0)","v":0},{"$f":"IFERROR($E286*SUMIF('Daily Log'!#REF!,$B286,'Daily Log'!#REF!),0)","v":0},{"$f":"IFERROR($E286*SUMIF('Daily Log'!#REF!,$B286,'Daily Log'!#REF!),0)","v":0},{"$f":"IFERROR($E286*SUMIF('Daily Log'!#REF!,$B286,'Daily Log'!#REF!),0)","v":0},{"$f":"IFERROR($E286*SUMIF('Daily Log'!#REF!,$B286,'Daily Log'!#REF!),0)","v":0},{"$f":"IFERROR($E286*SUMIF('Daily Log'!#REF!,$B286,'Daily Log'!#REF!),0)","v":0},{"$f":"IFERROR($E286*SUMIF('Daily Log'!#REF!,$B286,'Daily Log'!#REF!),0)","v":0},{"$f":"IFERROR($E286*SUMIF('Daily Log'!#REF!,$B286,'Daily Log'!#REF!),0)","v":0},{"$f":"IFERROR($E286*SUMIF('Daily Log'!#REF!,$B286,'Daily Log'!#REF!),0)","v":0},{"$f":"IFERROR($E286*SUMIF('Daily Log'!#REF!,$B286,'Daily Log'!#REF!),0)","v":0},{"$f":"IFERROR($E286*SUMIF('Daily Log'!#REF!,$B286,'Daily Log'!#REF!),0)","v":0},{"$f":"IFERROR($E286*SUMIF('Daily Log'!#REF!,$B286,'Daily Log'!#REF!),0)","v":0},{"$f":"IFERROR($E286*SUMIF('Daily Log'!#REF!,$B286,'Daily Log'!#REF!),0)","v":0},{"$f":"IFERROR($E286*SUMIF('Daily Log'!#REF!,$B286,'Daily Log'!#REF!),0)","v":0},{"$f":"IFERROR($E286*SUMIF('Daily Log'!#REF!,$B286,'Daily Log'!#REF!),0)","v":0},{"$f":"IFERROR($E286*SUMIF('Daily Log'!#REF!,$B286,'Daily Log'!#REF!),0)","v":0},{"$f":"IFERROR($E286*SUMIF('Daily Log'!#REF!,$B286,'Daily Log'!#REF!),0)","v":0},{"$f":"IFERROR($E286*SUMIF('Daily Log'!#REF!,$B286,'Daily Log'!#REF!),0)","v":0},{"$f":"IFERROR($E286*SUMIF('Daily Log'!#REF!,$B286,'Daily Log'!#REF!),0)","v":0}]
[null,"DC13 1113:KUEY TEOW",null,"SIDE ORDER-LOCAL DELIGHTS",1,8,{"$f":"IFERROR($E287*SUMIF('Daily Log'!$B$18:$B$1017,$B287,'Daily Log'!$C$18:$C$1017),0)","v":0},{"$f":"IFERROR($E287*SUMIF('Daily Log'!$E$18:$E$1017,$B287,'Daily Log'!$F$18:$F$1017),0)","v":1},{"$f":"IFERROR($E287*SUMIF('Daily Log'!$H$18:$H$1017,$B287,'Daily Log'!$I$18:$I$1017),0)","v":1},{"$f":"IFERROR($E287*SUMIF('Daily Log'!$K$18:$K$1017,$B287,'Daily Log'!$L$18:$L$1017),0)","v":6},{"$f":"IFERROR($E287*SUMIF('Daily Log'!$N$18:$N$1017,$B287,'Daily Log'!$O$18:$O$1017),0)","v":0},{"$f":"IFERROR($E287*SUMIF('Daily Log'!#REF!,$B287,'Daily Log'!#REF!),0)","v":0},{"$f":"IFERROR($E287*SUMIF('Daily Log'!#REF!,$B287,'Daily Log'!#REF!),0)","v":0},{"$f":"IFERROR($E287*SUMIF('Daily Log'!#REF!,$B287,'Daily Log'!#REF!),0)","v":0},{"$f":"IFERROR($E287*SUMIF('Daily Log'!#REF!,$B287,'Daily Log'!#REF!),0)","v":0},{"$f":"IFERROR($E287*SUMIF('Daily Log'!#REF!,$B287,'Daily Log'!#REF!),0)","v":0},{"$f":"IFERROR($E287*SUMIF('Daily Log'!#REF!,$B287,'Daily Log'!#REF!),0)","v":0},{"$f":"IFERROR($E287*SUMIF('Daily Log'!#REF!,$B287,'Daily Log'!#REF!),0)","v":0},{"$f":"IFERROR($E287*SUMIF('Daily Log'!#REF!,$B287,'Daily Log'!#REF!),0)","v":0},{"$f":"IFERROR($E287*SUMIF('Daily Log'!#REF!,$B287,'Daily Log'!#REF!),0)","v":0},{"$f":"IFERROR($E287*SUMIF('Daily Log'!#REF!,$B287,'Daily Log'!#REF!),0)","v":0},{"$f":"IFERROR($E287*SUMIF('Daily Log'!#REF!,$B287,'Daily Log'!#REF!),0)","v":0},{"$f":"IFERROR($E287*SUMIF('Daily Log'!#REF!,$B287,'Daily Log'!#REF!),0)","v":0},{"$f":"IFERROR($E287*SUMIF('Daily Log'!#REF!,$B287,'Daily Log'!#REF!),0)","v":0},{"$f":"IFERROR($E287*SUMIF('Daily Log'!#REF!,$B287,'Daily Log'!#REF!),0)","v":0},{"$f":"IFERROR($E287*SUMIF('Daily Log'!#REF!,$B287,'Daily Log'!#REF!),0)","v":0},{"$f":"IFERROR($E287*SUMIF('Daily Log'!#REF!,$B287,'Daily Log'!#REF!),0)","v":0},{"$f":"IFERROR($E287*SUMIF('Daily Log'!#REF!,$B287,'Daily Log'!#REF!),0)","v":0},{"$f":"IFERROR($E287*SUMIF('Daily Log'!#REF!,$B287,'Daily Log'!#REF!),0)","v":0},{"$f":"IFERROR($E287*SUMIF('Daily Log'!#REF!,$B287,'Daily Log'!#REF!),0)","v":0},{"$f":"IFERROR($E287*SUMIF('Daily Log'!#REF!,$B287,'Daily Log'!#REF!),0)","v":0},{"$f":"IFERROR($E287*SUMIF('Daily Log'!#REF!,$B287,'Daily Log'!#REF!),0)","v":0},{"$f":"IFERROR($E287*SUMIF('Daily Log'!#REF!,$B287,'Daily Log'!#REF!),0)","v":0},{"$f":"IFERROR($E287*SUMIF('Daily Log'!#REF!,$B287,'Daily Log'!#REF!),0)","v":0},{"$f":"IFERROR($E287*SUMIF('Daily Log'!#REF!,$B287,'Daily Log'!#REF!),0)","v":0},{"$f":"IFERROR($E287*SUMIF('Daily Log'!#REF!,$B287,'Daily Log'!#REF!),0)","v":0},{"$f":"IFERROR($E287*SUMIF('Daily Log'!#REF!,$B287,'Daily Log'!#REF!),0)","v":0}]
[null,"DC14 1114:F.BALL MEE",null,"SIDE ORDER-LOCAL DELIGHTS",1,1,{"$f":"IFERROR($E288*SUMIF('Daily Log'!$B$18:$B$1017,$B288,'Daily Log'!$C$18:$C$1017),0)","v":0},{"$f":"IFERROR($E288*SUMIF('Daily Log'!$E$18:$E$1017,$B288,'Daily Log'!$F$18:$F$1017),0)","v":1},{"$f":"IFERROR($E288*SUMIF('Daily Log'!$H$18:$H$1017,$B288,'Daily Log'!$I$18:$I$1017),0)","v":0},{"$f":"IFERROR($E288*SUMIF('Daily Log'!$K$18:$K$1017,$B288,'Daily Log'!$L$18:$L$1017),0)","v":0},{"$f":"IFERROR($E288*SUMIF('Daily Log'!$N$18:$N$1017,$B288,'Daily Log'!$O$18:$O$1017),0)","v":0},{"$f":"IFERROR($E288*SUMIF('Daily Log'!#REF!,$B288,'Daily Log'!#REF!),0)","v":0},{"$f":"IFERROR($E288*SUMIF('Daily Log'!#REF!,$B288,'Daily Log'!#REF!),0)","v":0},{"$f":"IFERROR($E288*SUMIF('Daily Log'!#REF!,$B288,'Daily Log'!#REF!),0)","v":0},{"$f":"IFERROR($E288*SUMIF('Daily Log'!#REF!,$B288,'Daily Log'!#REF!),0)","v":0},{"$f":"IFERROR($E288*SUMIF('Daily Log'!#REF!,$B288,'Daily Log'!#REF!),0)","v":0},{"$f":"IFERROR($E288*SUMIF('Daily Log'!#REF!,$B288,'Daily Log'!#REF!),0)","v":0},{"$f":"IFERROR($E288*SUMIF('Daily Log'!#REF!,$B288,'Daily Log'!#REF!),0)","v":0},{"$f":"IFERROR($E288*SUMIF('Daily Log'!#REF!,$B288,'Daily Log'!#REF!),0)","v":0},{"$f":"IFERROR($E288*SUMIF('Daily Log'!#REF!,$B288,'Daily Log'!#REF!),0)","v":0},{"$f":"IFERROR($E288*SUMIF('Daily Log'!#REF!,$B288,'Daily Log'!#REF!),0)","v":0},{"$f":"IFERROR($E288*SUMIF('Daily Log'!#REF!,$B288,'Daily Log'!#REF!),0)","v":0},{"$f":"IFERROR($E288*SUMIF('Daily Log'!#REF!,$B288,'Daily Log'!#REF!),0)","v":0},{"$f":"IFERROR($E288*SUMIF('Daily Log'!#REF!,$B288,'Daily Log'!#REF!),0)","v":0},{"$f":"IFERROR($E288*SUMIF('Daily Log'!#REF!,$B288,'Daily Log'!#REF!),0)","v":0},{"$f":"IFERROR($E288*SUMIF('Daily Log'!#REF!,$B288,'Daily Log'!#REF!),0)","v":0},{"$f":"IFERROR($E288*SUMIF('Daily Log'!#REF!,$B288,'Daily Log'!#REF!),0)","v":0},{"$f":"IFERROR($E288*SUMIF('Daily Log'!#REF!,$B288,'Daily Log'!#REF!),0)","v":0},{"$f":"IFERROR($E288*SUMIF('Daily Log'!#REF!,$B288,'Daily Log'!#REF!),0)","v":0},{"$f":"IFERROR($E288*SUMIF('Daily Log'!#REF!,$B288,'Daily Log'!#REF!),0)","v":0},{"$f":"IFERROR($E288*SUMIF('Daily Log'!#REF!,$B288,'Daily Log'!#REF!),0)","v":0},{"$f":"IFERROR($E288*SUMIF('Daily Log'!#REF!,$B288,'Daily Log'!#REF!),0)","v":0},{"$f":"IFERROR($E288*SUMIF('Daily Log'!#REF!,$B288,'Daily Log'!#REF!),0)","v":0},{"$f":"IFERROR($E288*SUMIF('Daily Log'!#REF!,$B288,'Daily Log'!#REF!),0)","v":0},{"$f":"IFERROR($E288*SUMIF('Daily Log'!#REF!,$B288,'Daily Log'!#REF!),0)","v":0},{"$f":"IFERROR($E288*SUMIF('Daily Log'!#REF!,$B288,'Daily Log'!#REF!),0)","v":0},{"$f":"IFERROR($E288*SUMIF('Daily Log'!#REF!,$B288,'Daily Log'!#REF!),0)","v":0}]
[null,"DC15 1115:CHK NOODLE",null,"SIDE ORDER-LOCAL DELIGHTS",1,5,{"$f":"IFERROR($E289*SUMIF('Daily Log'!$B$18:$B$1017,$B289,'Daily Log'!$C$18:$C$1017),0)","v":2},{"$f":"IFERROR($E289*SUMIF('Daily Log'!$E$18:$E$1017,$B289,'Daily Log'!$F$18:$F$1017),0)","v":0},{"$f":"IFERROR($E289*SUMIF('Daily Log'!$H$18:$H$1017,$B289,'Daily Log'!$I$18:$I$1017),0)","v":2},{"$f":"IFERROR($E289*SUMIF('Daily Log'!$K$18:$K$1017,$B289,'Daily Log'!$L$18:$L$1017),0)","v":0},{"$f":"IFERROR($E289*SUMIF('Daily Log'!$N$18:$N$1017,$B289,'Daily Log'!$O$18:$O$1017),0)","v":1},{"$f":"IFERROR($E289*SUMIF('Daily Log'!#REF!,$B289,'Daily Log'!#REF!),0)","v":0},{"$f":"IFERROR($E289*SUMIF('Daily Log'!#REF!,$B289,'Daily Log'!#REF!),0)","v":0},{"$f":"IFERROR($E289*SUMIF('Daily Log'!#REF!,$B289,'Daily Log'!#REF!),0)","v":0},{"$f":"IFERROR($E289*SUMIF('Daily Log'!#REF!,$B289,'Daily Log'!#REF!),0)","v":0},{"$f":"IFERROR($E289*SUMIF('Daily Log'!#REF!,$B289,'Daily Log'!#REF!),0)","v":0},{"$f":"IFERROR($E289*SUMIF('Daily Log'!#REF!,$B289,'Daily Log'!#REF!),0)","v":0},{"$f":"IFERROR($E289*SUMIF('Daily Log'!#REF!,$B289,'Daily Log'!#REF!),0)","v":0},{"$f":"IFERROR($E289*SUMIF('Daily Log'!#REF!,$B289,'Daily Log'!#REF!),0)","v":0},{"$f":"IFERROR($E289*SUMIF('Daily Log'!#REF!,$B289,'Daily Log'!#REF!),0)","v":0},{"$f":"IFERROR($E289*SUMIF('Daily Log'!#REF!,$B289,'Daily Log'!#REF!),0)","v":0},{"$f":"IFERROR($E289*SUMIF('Daily Log'!#REF!,$B289,'Daily Log'!#REF!),0)","v":0},{"$f":"IFERROR($E289*SUMIF('Daily Log'!#REF!,$B289,'Daily Log'!#REF!),0)","v":0},{"$f":"IFERROR($E289*SUMIF('Daily Log'!#REF!,$B289,'Daily Log'!#REF!),0)","v":0},{"$f":"IFERROR($E289*SUMIF('Daily Log'!#REF!,$B289,'Daily Log'!#REF!),0)","v":0},{"$f":"IFERROR($E289*SUMIF('Daily Log'!#REF!,$B289,'Daily Log'!#REF!),0)","v":0},{"$f":"IFERROR($E289*SUMIF('Daily Log'!#REF!,$B289,'Daily Log'!#REF!),0)","v":0},{"$f":"IFERROR($E289*SUMIF('Daily Log'!#REF!,$B289,'Daily Log'!#REF!),0)","v":0},{"$f":"IFERROR($E289*SUMIF('Daily Log'!#REF!,$B289,'Daily Log'!#REF!),0)","v":0},{"$f":"IFERROR($E289*SUMIF('Daily Log'!#REF!,$B289,'Daily Log'!#REF!),0)","v":0},{"$f":"IFERROR($E289*SUMIF('Daily Log'!#REF!,$B289,'Daily Log'!#REF!),0)","v":0},{"$f":"IFERROR($E289*SUMIF('Daily Log'!#REF!,$B289,'Daily Log'!#REF!),0)","v":0},{"$f":"IFERROR($E289*SUMIF('Daily Log'!#REF!,$B289,'Daily Log'!#REF!),0)","v":0},{"$f":"IFERROR($E289*SUMIF('Daily Log'!#REF!,$B289,'Daily Log'!#REF!),0)","v":0},{"$f":"IFERROR($E289*SUMIF('Daily Log'!#REF!,$B289,'Daily Log'!#REF!),0)","v":0},{"$f":"IFERROR($E289*SUMIF('Daily Log'!#REF!,$B289,'Daily Log'!#REF!),0)","v":0},{"$f":"IFERROR($E289*SUMIF('Daily Log'!#REF!,$B289,'Daily Log'!#REF!),0)","v":0}]
[null,"DD01 1201:SFD STICK",null,"SIDE ORDER-APPETIZER",1,0,{"$f":"IFERROR($E290*SUMIF('Daily Log'!$B$18:$B$1017,$B290,'Daily Log'!$C$18:$C$1017),0)","v":0},{"$f":"IFERROR($E290*SUMIF('Daily Log'!$E$18:$E$1017,$B290,'Daily Log'!$F$18:$F$1017),0)","v":0},{"$f":"IFERROR($E290*SUMIF('Daily Log'!$H$18:$H$1017,$B290,'Daily Log'!$I$18:$I$1017),0)","v":0},{"$f":"IFERROR($E290*SUMIF('Daily Log'!$K$18:$K$1017,$B290,'Daily Log'!$L$18:$L$1017),0)","v":0},{"$f":"IFERROR($E290*SUMIF('Daily Log'!$N$18:$N$1017,$B290,'Daily Log'!$O$18:$O$1017),0)","v":0},{"$f":"IFERROR($E290*SUMIF('Daily Log'!#REF!,$B290,'Daily Log'!#REF!),0)","v":0},{"$f":"IFERROR($E290*SUMIF('Daily Log'!#REF!,$B290,'Daily Log'!#REF!),0)","v":0},{"$f":"IFERROR($E290*SUMIF('Daily Log'!#REF!,$B290,'Daily Log'!#REF!),0)","v":0},{"$f":"IFERROR($E290*SUMIF('Daily Log'!#REF!,$B290,'Daily Log'!#REF!),0)","v":0},{"$f":"IFERROR($E290*SUMIF('Daily Log'!#REF!,$B290,'Daily Log'!#REF!),0)","v":0},{"$f":"IFERROR($E290*SUMIF('Daily Log'!#REF!,$B290,'Daily Log'!#REF!),0)","v":0},{"$f":"IFERROR($E290*SUMIF('Daily Log'!#REF!,$B290,'Daily Log'!#REF!),0)","v":0},{"$f":"IFERROR($E290*SUMIF('Daily Log'!#REF!,$B290,'Daily Log'!#REF!),0)","v":0},{"$f":"IFERROR($E290*SUMIF('Daily Log'!#REF!,$B290,'Daily Log'!#REF!),0)","v":0},{"$f":"IFERROR($E290*SUMIF('Daily Log'!#REF!,$B290,'Daily Log'!#REF!),0)","v":0},{"$f":"IFERROR($E290*SUMIF('Daily Log'!#REF!,$B290,'Daily Log'!#REF!),0)","v":0},{"$f":"IFERROR($E290*SUMIF('Daily Log'!#REF!,$B290,'Daily Log'!#REF!),0)","v":0},{"$f":"IFERROR($E290*SUMIF('Daily Log'!#REF!,$B290,'Daily Log'!#REF!),0)","v":0},{"$f":"IFERROR($E290*SUMIF('Daily Log'!#REF!,$B290,'Daily Log'!#REF!),0)","v":0},{"$f":"IFERROR($E290*SUMIF('Daily Log'!#REF!,$B290,'Daily Log'!#REF!),0)","v":0},{"$f":"IFERROR($E290*SUMIF('Daily Log'!#REF!,$B290,'Daily Log'!#REF!),0)","v":0},{"$f":"IFERROR($E290*SUMIF('Daily Log'!#REF!,$B290,'Daily Log'!#REF!),0)","v":0},{"$f":"IFERROR($E290*SUMIF('Daily Log'!#REF!,$B290,'Daily Log'!#REF!),0)","v":0},{"$f":"IFERROR($E290*SUMIF('Daily Log'!#REF!,$B290,'Daily Log'!#REF!),0)","v":0},{"$f":"IFERROR($E290*SUMIF('Daily Log'!#REF!,$B290,'Daily Log'!#REF!),0)","v":0},{"$f":"IFERROR($E290*SUMIF('Daily Log'!#REF!,$B290,'Daily Log'!#REF!),0)","v":0},{"$f":"IFERROR($E290*SUMIF('Daily Log'!#REF!,$B290,'Daily Log'!#REF!),0)","v":0},{"$f":"IFERROR($E290*SUMIF('Daily Log'!#REF!,$B290,'Daily Log'!#REF!),0)","v":0},{"$f":"IFERROR($E290*SUMIF('Daily Log'!#REF!,$B290,'Daily Log'!#REF!),0)","v":0},{"$f":"IFERROR($E290*SUMIF('Daily Log'!#REF!,$B290,'Daily Log'!#REF!),0)","v":0},{"$f":"IFERROR($E290*SUMIF('Daily Log'!#REF!,$B290,'Daily Log'!#REF!),0)","v":0}]
[null,"DD02 1202:FREN FRIES",null,"SIDE ORDER-APPETIZER",1,10,{"$f":"IFERROR($E291*SUMIF('Daily Log'!$B$18:$B$1017,$B291,'Daily Log'!$C$18:$C$1017),0)","v":2},{"$f":"IFERROR($E291*SUMIF('Daily Log'!$E$18:$E$1017,$B291,'Daily Log'!$F$18:$F$1017),0)","v":3},{"$f":"IFERROR($E291*SUMIF('Daily Log'!$H$18:$H$1017,$B291,'Daily Log'!$I$18:$I$1017),0)","v":4},{"$f":"IFERROR($E291*SUMIF('Daily Log'!$K$18:$K$1017,$B291,'Daily Log'!$L$18:$L$1017),0)","v":1},{"$f":"IFERROR($E291*SUMIF('Daily Log'!$N$18:$N$1017,$B291,'Daily Log'!$O$18:$O$1017),0)","v":0},{"$f":"IFERROR($E291*SUMIF('Daily Log'!#REF!,$B291,'Daily Log'!#REF!),0)","v":0},{"$f":"IFERROR($E291*SUMIF('Daily Log'!#REF!,$B291,'Daily Log'!#REF!),0)","v":0},{"$f":"IFERROR($E291*SUMIF('Daily Log'!#REF!,$B291,'Daily Log'!#REF!),0)","v":0},{"$f":"IFERROR($E291*SUMIF('Daily Log'!#REF!,$B291,'Daily Log'!#REF!),0)","v":0},{"$f":"IFERROR($E291*SUMIF('Daily Log'!#REF!,$B291,'Daily Log'!#REF!),0)","v":0},{"$f":"IFERROR($E291*SUMIF('Daily Log'!#REF!,$B291,'Daily Log'!#REF!),0)","v":0},{"$f":"IFERROR($E291*SUMIF('Daily Log'!#REF!,$B291,'Daily Log'!#REF!),0)","v":0},{"$f":"IFERROR($E291*SUMIF('Daily Log'!#REF!,$B291,'Daily Log'!#REF!),0)","v":0},{"$f":"IFERROR($E291*SUMIF('Daily Log'!#REF!,$B291,'Daily Log'!#REF!),0)","v":0},{"$f":"IFERROR($E291*SUMIF('Daily Log'!#REF!,$B291,'Daily Log'!#REF!),0)","v":0},{"$f":"IFERROR($E291*SUMIF('Daily Log'!#REF!,$B291,'Daily Log'!#REF!),0)","v":0},{"$f":"IFERROR($E291*SUMIF('Daily Log'!#REF!,$B291,'Daily Log'!#REF!),0)","v":0},{"$f":"IFERROR($E291*SUMIF('Daily Log'!#REF!,$B291,'Daily Log'!#REF!),0)","v":0},{"$f":"IFERROR($E291*SUMIF('Daily Log'!#REF!,$B291,'Daily Log'!#REF!),0)","v":0},{"$f":"IFERROR($E291*SUMIF('Daily Log'!#REF!,$B291,'Daily Log'!#REF!),0)","v":0},{"$f":"IFERROR($E291*SUMIF('Daily Log'!#REF!,$B291,'Daily Log'!#REF!),0)","v":0},{"$f":"IFERROR($E291*SUMIF('Daily Log'!#REF!,$B291,'Daily Log'!#REF!),0)","v":0},{"$f":"IFERROR($E291*SUMIF('Daily Log'!#REF!,$B291,'Daily Log'!#REF!),0)","v":0},{"$f":"IFERROR($E291*SUMIF('Daily Log'!#REF!,$B291,'Daily Log'!#REF!),0)","v":0},{"$f":"IFERROR($E291*SUMIF('Daily Log'!#REF!,$B291,'Daily Log'!#REF!),0)","v":0},{"$f":"IFERROR($E291*SUMIF('Daily Log'!#REF!,$B291,'Daily Log'!#REF!),0)","v":0},{"$f":"IFERROR($E291*SUMIF('Daily Log'!#REF!,$B291,'Daily Log'!#REF!),0)","v":0},{"$f":"IFERROR($E291*SUMIF('Daily Log'!#REF!,$B291,'Daily Log'!#REF!),0)","v":0},{"$f":"IFERROR($E291*SUMIF('Daily Log'!#REF!,$B291,'Daily Log'!#REF!),0)","v":0},{"$f":"IFERROR($E291*SUMIF('Daily Log'!#REF!,$B291,'Daily Log'!#REF!),0)","v":0},{"$f":"IFERROR($E291*SUMIF('Daily Log'!#REF!,$B291,'Daily Log'!#REF!),0)","v":0}]
[null,"DD03 1203:GOLD MROOM",null,"SIDE ORDER-APPETIZER",1,1,{"$f":"IFERROR($E292*SUMIF('Daily Log'!$B$18:$B$1017,$B292,'Daily Log'!$C$18:$C$1017),0)","v":1},{"$f":"IFERROR($E292*SUMIF('Daily Log'!$E$18:$E$1017,$B292,'Daily Log'!$F$18:$F$1017),0)","v":0},{"$f":"IFERROR($E292*SUMIF('Daily Log'!$H$18:$H$1017,$B292,'Daily Log'!$I$18:$I$1017),0)","v":0},{"$f":"IFERROR($E292*SUMIF('Daily Log'!$K$18:$K$1017,$B292,'Daily Log'!$L$18:$L$1017),0)","v":0},{"$f":"IFERROR($E292*SUMIF('Daily Log'!$N$18:$N$1017,$B292,'Daily Log'!$O$18:$O$1017),0)","v":0},{"$f":"IFERROR($E292*SUMIF('Daily Log'!#REF!,$B292,'Daily Log'!#REF!),0)","v":0},{"$f":"IFERROR($E292*SUMIF('Daily Log'!#REF!,$B292,'Daily Log'!#REF!),0)","v":0},{"$f":"IFERROR($E292*SUMIF('Daily Log'!#REF!,$B292,'Daily Log'!#REF!),0)","v":0},{"$f":"IFERROR($E292*SUMIF('Daily Log'!#REF!,$B292,'Daily Log'!#REF!),0)","v":0},{"$f":"IFERROR($E292*SUMIF('Daily Log'!#REF!,$B292,'Daily Log'!#REF!),0)","v":0},{"$f":"IFERROR($E292*SUMIF('Daily Log'!#REF!,$B292,'Daily Log'!#REF!),0)","v":0},{"$f":"IFERROR($E292*SUMIF('Daily Log'!#REF!,$B292,'Daily Log'!#REF!),0)","v":0},{"$f":"IFERROR($E292*SUMIF('Daily Log'!#REF!,$B292,'Daily Log'!#REF!),0)","v":0},{"$f":"IFERROR($E292*SUMIF('Daily Log'!#REF!,$B292,'Daily Log'!#REF!),0)","v":0},{"$f":"IFERROR($E292*SUMIF('Daily Log'!#REF!,$B292,'Daily Log'!#REF!),0)","v":0},{"$f":"IFERROR($E292*SUMIF('Daily Log'!#REF!,$B292,'Daily Log'!#REF!),0)","v":0},{"$f":"IFERROR($E292*SUMIF('Daily Log'!#REF!,$B292,'Daily Log'!#REF!),0)","v":0},{"$f":"IFERROR($E292*SUMIF('Daily Log'!#REF!,$B292,'Daily Log'!#REF!),0)","v":0},{"$f":"IFERROR($E292*SUMIF('Daily Log'!#REF!,$B292,'Daily Log'!#REF!),0)","v":0},{"$f":"IFERROR($E292*SUMIF('Daily Log'!#REF!,$B292,'Daily Log'!#REF!),0)","v":0},{"$f":"IFERROR($E292*SUMIF('Daily Log'!#REF!,$B292,'Daily Log'!#REF!),0)","v":0},{"$f":"IFERROR($E292*SUMIF('Daily Log'!#REF!,$B292,'Daily Log'!#REF!),0)","v":0},{"$f":"IFERROR($E292*SUMIF('Daily Log'!#REF!,$B292,'Daily Log'!#REF!),0)","v":0},{"$f":"IFERROR($E292*SUMIF('Daily Log'!#REF!,$B292,'Daily Log'!#REF!),0)","v":0},{"$f":"IFERROR($E292*SUMIF('Daily Log'!#REF!,$B292,'Daily Log'!#REF!),0)","v":0},{"$f":"IFERROR($E292*SUMIF('Daily Log'!#REF!,$B292,'Daily Log'!#REF!),0)","v":0},{"$f":"IFERROR($E292*SUMIF('Daily Log'!#REF!,$B292,'Daily Log'!#REF!),0)","v":0},{"$f":"IFERROR($E292*SUMIF('Daily Log'!#REF!,$B292,'Daily Log'!#REF!),0)","v":0},{"$f":"IFERROR($E292*SUMIF('Daily Log'!#REF!,$B292,'Daily Log'!#REF!),0)","v":0},{"$f":"IFERROR($E292*SUMIF('Daily Log'!#REF!,$B292,'Daily Log'!#REF!),0)","v":0},{"$f":"IFERROR($E292*SUMIF('Daily Log'!#REF!,$B292,'Daily Log'!#REF!),0)","v":0}]
[null,"DD04 1204:FISHBALL",null,"SIDE ORDER-APPETIZER",1,1,{"$f":"IFERROR($E293*SUMIF('Daily Log'!$B$18:$B$1017,$B293,'Daily Log'!$C$18:$C$1017),0)","v":1},{"$f":"IFERROR($E293*SUMIF('Daily Log'!$E$18:$E$1017,$B293,'Daily Log'!$F$18:$F$1017),0)","v":0},{"$f":"IFERROR($E293*SUMIF('Daily Log'!$H$18:$H$1017,$B293,'Daily Log'!$I$18:$I$1017),0)","v":0},{"$f":"IFERROR($E293*SUMIF('Daily Log'!$K$18:$K$1017,$B293,'Daily Log'!$L$18:$L$1017),0)","v":0},{"$f":"IFERROR($E293*SUMIF('Daily Log'!$N$18:$N$1017,$B293,'Daily Log'!$O$18:$O$1017),0)","v":0},{"$f":"IFERROR($E293*SUMIF('Daily Log'!#REF!,$B293,'Daily Log'!#REF!),0)","v":0},{"$f":"IFERROR($E293*SUMIF('Daily Log'!#REF!,$B293,'Daily Log'!#REF!),0)","v":0},{"$f":"IFERROR($E293*SUMIF('Daily Log'!#REF!,$B293,'Daily Log'!#REF!),0)","v":0},{"$f":"IFERROR($E293*SUMIF('Daily Log'!#REF!,$B293,'Daily Log'!#REF!),0)","v":0},{"$f":"IFERROR($E293*SUMIF('Daily Log'!#REF!,$B293,'Daily Log'!#REF!),0)","v":0},{"$f":"IFERROR($E293*SUMIF('Daily Log'!#REF!,$B293,'Daily Log'!#REF!),0)","v":0},{"$f":"IFERROR($E293*SUMIF('Daily Log'!#REF!,$B293,'Daily Log'!#REF!),0)","v":0},{"$f":"IFERROR($E293*SUMIF('Daily Log'!#REF!,$B293,'Daily Log'!#REF!),0)","v":0},{"$f":"IFERROR($E293*SUMIF('Daily Log'!#REF!,$B293,'Daily Log'!#REF!),0)","v":0},{"$f":"IFERROR($E293*SUMIF('Daily Log'!#REF!,$B293,'Daily Log'!#REF!),0)","v":0},{"$f":"IFERROR($E293*SUMIF('Daily Log'!#REF!,$B293,'Daily Log'!#REF!),0)","v":0},{"$f":"IFERROR($E293*SUMIF('Daily Log'!#REF!,$B293,'Daily Log'!#REF!),0)","v":0},{"$f":"IFERROR($E293*SUMIF('Daily Log'!#REF!,$B293,'Daily Log'!#REF!),0)","v":0},{"$f":"IFERROR($E293*SUMIF('Daily Log'!#REF!,$B293,'Daily Log'!#REF!),0)","v":0},{"$f":"IFERROR($E293*SUMIF('Daily Log'!#REF!,$B293,'Daily Log'!#REF!),0)","v":0},{"$f":"IFERROR($E293*SUMIF('Daily Log'!#REF!,$B293,'Daily Log'!#REF!),0)","v":0},{"$f":"IFERROR($E293*SUMIF('Daily Log'!#REF!,$B293,'Daily Log'!#REF!),0)","v":0},{"$f":"IFERROR($E293*SUMIF('Daily Log'!#REF!,$B293,'Daily Log'!#REF!),0)","v":0},{"$f":"IFERROR($E293*SUMIF('Daily Log'!#REF!,$B293,'Daily Log'!#REF!),0)","v":0},{"$f":"IFERROR($E293*SUMIF('Daily Log'!#REF!,$B293,'Daily Log'!#REF!),0)","v":0},{"$f":"IFERROR($E293*SUMIF('Daily Log'!#REF!,$B293,'Daily Log'!#REF!),0)","v":0},{"$f":"IFERROR($E293*SUMIF('Daily Log'!#REF!,$B293,'Daily Log'!#REF!),0)","v":0},{"$f":"IFERROR($E293*SUMIF('Daily Log'!#REF!,$B293,'Daily Log'!#REF!),0)","v":0},{"$f":"IFERROR($E293*SUMIF('Daily Log'!#REF!,$B293,'Daily Log'!#REF!),0)","v":0},{"$f":"IFERROR($E293*SUMIF('Daily Log'!#REF!,$B293,'Daily Log'!#REF!),0)","v":0},{"$f":"IFERROR($E293*SUMIF('Daily Log'!#REF!,$B293,'Daily Log'!#REF!),0)","v":0}]
[null,"DD05 1205:RAINBOW RL",null,"SIDE ORDER-APPETIZER",1,1,{"$f":"IFERROR($E294*SUMIF('Daily Log'!$B$18:$B$1017,$B294,'Daily Log'!$C$18:$C$1017),0)","v":0},{"$f":"IFERROR($E294*SUMIF('Daily Log'!$E$18:$E$1017,$B294,'Daily Log'!$F$18:$F$1017),0)","v":1},{"$f":"IFERROR($E294*SUMIF('Daily Log'!$H$18:$H$1017,$B294,'Daily Log'!$I$18:$I$1017),0)","v":0},{"$f":"IFERROR($E294*SUMIF('Daily Log'!$K$18:$K$1017,$B294,'Daily Log'!$L$18:$L$1017),0)","v":0},{"$f":"IFERROR($E294*SUMIF('Daily Log'!$N$18:$N$1017,$B294,'Daily Log'!$O$18:$O$1017),0)","v":0},{"$f":"IFERROR($E294*SUMIF('Daily Log'!#REF!,$B294,'Daily Log'!#REF!),0)","v":0},{"$f":"IFERROR($E294*SUMIF('Daily Log'!#REF!,$B294,'Daily Log'!#REF!),0)","v":0},{"$f":"IFERROR($E294*SUMIF('Daily Log'!#REF!,$B294,'Daily Log'!#REF!),0)","v":0},{"$f":"IFERROR($E294*SUMIF('Daily Log'!#REF!,$B294,'Daily Log'!#REF!),0)","v":0},{"$f":"IFERROR($E294*SUMIF('Daily Log'!#REF!,$B294,'Daily Log'!#REF!),0)","v":0},{"$f":"IFERROR($E294*SUMIF('Daily Log'!#REF!,$B294,'Daily Log'!#REF!),0)","v":0},{"$f":"IFERROR($E294*SUMIF('Daily Log'!#REF!,$B294,'Daily Log'!#REF!),0)","v":0},{"$f":"IFERROR($E294*SUMIF('Daily Log'!#REF!,$B294,'Daily Log'!#REF!),0)","v":0},{"$f":"IFERROR($E294*SUMIF('Daily Log'!#REF!,$B294,'Daily Log'!#REF!),0)","v":0},{"$f":"IFERROR($E294*SUMIF('Daily Log'!#REF!,$B294,'Daily Log'!#REF!),0)","v":0},{"$f":"IFERROR($E294*SUMIF('Daily Log'!#REF!,$B294,'Daily Log'!#REF!),0)","v":0},{"$f":"IFERROR($E294*SUMIF('Daily Log'!#REF!,$B294,'Daily Log'!#REF!),0)","v":0},{"$f":"IFERROR($E294*SUMIF('Daily Log'!#REF!,$B294,'Daily Log'!#REF!),0)","v":0},{"$f":"IFERROR($E294*SUMIF('Daily Log'!#REF!,$B294,'Daily Log'!#REF!),0)","v":0},{"$f":"IFERROR($E294*SUMIF('Daily Log'!#REF!,$B294,'Daily Log'!#REF!),0)","v":0},{"$f":"IFERROR($E294*SUMIF('Daily Log'!#REF!,$B294,'Daily Log'!#REF!),0)","v":0},{"$f":"IFERROR($E294*SUMIF('Daily Log'!#REF!,$B294,'Daily Log'!#REF!),0)","v":0},{"$f":"IFERROR($E294*SUMIF('Daily Log'!#REF!,$B294,'Daily Log'!#REF!),0)","v":0},{"$f":"IFERROR($E294*SUMIF('Daily Log'!#REF!,$B294,'Daily Log'!#REF!),0)","v":0},{"$f":"IFERROR($E294*SUMIF('Daily Log'!#REF!,$B294,'Daily Log'!#REF!),0)","v":0},{"$f":"IFERROR($E294*SUMIF('Daily Log'!#REF!,$B294,'Daily Log'!#REF!),0)","v":0},{"$f":"IFERROR($E294*SUMIF('Daily Log'!#REF!,$B294,'Daily Log'!#REF!),0)","v":0},{"$f":"IFERROR($E294*SUMIF('Daily Log'!#REF!,$B294,'Daily Log'!#REF!),0)","v":0},{"$f":"IFERROR($E294*SUMIF('Daily Log'!#REF!,$B294,'Daily Log'!#REF!),0)","v":0},{"$f":"IFERROR($E294*SUMIF('Daily Log'!#REF!,$B294,'Daily Log'!#REF!),0)","v":0},{"$f":"IFERROR($E294*SUMIF('Daily Log'!#REF!,$B294,'Daily Log'!#REF!),0)","v":0}]
[null,"DD06 1206:SPRING RL",null,"SIDE ORDER-APPETIZER",1,3,{"$f":"IFERROR($E295*SUMIF('Daily Log'!$B$18:$B$1017,$B295,'Daily Log'!$C$18:$C$1017),0)","v":1},{"$f":"IFERROR($E295*SUMIF('Daily Log'!$E$18:$E$1017,$B295,'Daily Log'!$F$18:$F$1017),0)","v":0},{"$f":"IFERROR($E295*SUMIF('Daily Log'!$H$18:$H$1017,$B295,'Daily Log'!$I$18:$I$1017),0)","v":1},{"$f":"IFERROR($E295*SUMIF('Daily Log'!$K$18:$K$1017,$B295,'Daily Log'!$L$18:$L$1017),0)","v":1},{"$f":"IFERROR($E295*SUMIF('Daily Log'!$N$18:$N$1017,$B295,'Daily Log'!$O$18:$O$1017),0)","v":0},{"$f":"IFERROR($E295*SUMIF('Daily Log'!#REF!,$B295,'Daily Log'!#REF!),0)","v":0},{"$f":"IFERROR($E295*SUMIF('Daily Log'!#REF!,$B295,'Daily Log'!#REF!),0)","v":0},{"$f":"IFERROR($E295*SUMIF('Daily Log'!#REF!,$B295,'Daily Log'!#REF!),0)","v":0},{"$f":"IFERROR($E295*SUMIF('Daily Log'!#REF!,$B295,'Daily Log'!#REF!),0)","v":0},{"$f":"IFERROR($E295*SUMIF('Daily Log'!#REF!,$B295,'Daily Log'!#REF!),0)","v":0},{"$f":"IFERROR($E295*SUMIF('Daily Log'!#REF!,$B295,'Daily Log'!#REF!),0)","v":0},{"$f":"IFERROR($E295*SUMIF('Daily Log'!#REF!,$B295,'Daily Log'!#REF!),0)","v":0},{"$f":"IFERROR($E295*SUMIF('Daily Log'!#REF!,$B295,'Daily Log'!#REF!),0)","v":0},{"$f":"IFERROR($E295*SUMIF('Daily Log'!#REF!,$B295,'Daily Log'!#REF!),0)","v":0},{"$f":"IFERROR($E295*SUMIF('Daily Log'!#REF!,$B295,'Daily Log'!#REF!),0)","v":0},{"$f":"IFERROR($E295*SUMIF('Daily Log'!#REF!,$B295,'Daily Log'!#REF!),0)","v":0},{"$f":"IFERROR($E295*SUMIF('Daily Log'!#REF!,$B295,'Daily Log'!#REF!),0)","v":0},{"$f":"IFERROR($E295*SUMIF('Daily Log'!#REF!,$B295,'Daily Log'!#REF!),0)","v":0},{"$f":"IFERROR($E295*SUMIF('Daily Log'!#REF!,$B295,'Daily Log'!#REF!),0)","v":0},{"$f":"IFERROR($E295*SUMIF('Daily Log'!#REF!,$B295,'Daily Log'!#REF!),0)","v":0},{"$f":"IFERROR($E295*SUMIF('Daily Log'!#REF!,$B295,'Daily Log'!#REF!),0)","v":0},{"$f":"IFERROR($E295*SUMIF('Daily Log'!#REF!,$B295,'Daily Log'!#REF!),0)","v":0},{"$f":"IFERROR($E295*SUMIF('Daily Log'!#REF!,$B295,'Daily Log'!#REF!),0)","v":0},{"$f":"IFERROR($E295*SUMIF('Daily Log'!#REF!,$B295,'Daily Log'!#REF!),0)","v":0},{"$f":"IFERROR($E295*SUMIF('Daily Log'!#REF!,$B295,'Daily Log'!#REF!),0)","v":0},{"$f":"IFERROR($E295*SUMIF('Daily Log'!#REF!,$B295,'Daily Log'!#REF!),0)","v":0},{"$f":"IFERROR($E295*SUMIF('Daily Log'!#REF!,$B295,'Daily Log'!#REF!),0)","v":0},{"$f":"IFERROR($E295*SUMIF('Daily Log'!#REF!,$B295,'Daily Log'!#REF!),0)","v":0},{"$f":"IFERROR($E295*SUMIF('Daily Log'!#REF!,$B295,'Daily Log'!#REF!),0)","v":0},{"$f":"IFERROR($E295*SUMIF('Daily Log'!#REF!,$B295,'Daily Log'!#REF!),0)","v":0},{"$f":"IFERROR($E295*SUMIF('Daily Log'!#REF!,$B295,'Daily Log'!#REF!),0)","v":0}]
[null,"DD07 1207:SAUSAGE",null,"SIDE ORDER-APPETIZER",1,1,{"$f":"IFERROR($E296*SUMIF('Daily Log'!$B$18:$B$1017,$B296,'Daily Log'!$C$18:$C$1017),0)","v":0},{"$f":"IFERROR($E296*SUMIF('Daily Log'!$E$18:$E$1017,$B296,'Daily Log'!$F$18:$F$1017),0)","v":0},{"$f":"IFERROR($E296*SUMIF('Daily Log'!$H$18:$H$1017,$B296,'Daily Log'!$I$18:$I$1017),0)","v":1},{"$f":"IFERROR($E296*SUMIF('Daily Log'!$K$18:$K$1017,$B296,'Daily Log'!$L$18:$L$1017),0)","v":0},{"$f":"IFERROR($E296*SUMIF('Daily Log'!$N$18:$N$1017,$B296,'Daily Log'!$O$18:$O$1017),0)","v":0},{"$f":"IFERROR($E296*SUMIF('Daily Log'!#REF!,$B296,'Daily Log'!#REF!),0)","v":0},{"$f":"IFERROR($E296*SUMIF('Daily Log'!#REF!,$B296,'Daily Log'!#REF!),0)","v":0},{"$f":"IFERROR($E296*SUMIF('Daily Log'!#REF!,$B296,'Daily Log'!#REF!),0)","v":0},{"$f":"IFERROR($E296*SUMIF('Daily Log'!#REF!,$B296,'Daily Log'!#REF!),0)","v":0},{"$f":"IFERROR($E296*SUMIF('Daily Log'!#REF!,$B296,'Daily Log'!#REF!),0)","v":0},{"$f":"IFERROR($E296*SUMIF('Daily Log'!#REF!,$B296,'Daily Log'!#REF!),0)","v":0},{"$f":"IFERROR($E296*SUMIF('Daily Log'!#REF!,$B296,'Daily Log'!#REF!),0)","v":0},{"$f":"IFERROR($E296*SUMIF('Daily Log'!#REF!,$B296,'Daily Log'!#REF!),0)","v":0},{"$f":"IFERROR($E296*SUMIF('Daily Log'!#REF!,$B296,'Daily Log'!#REF!),0)","v":0},{"$f":"IFERROR($E296*SUMIF('Daily Log'!#REF!,$B296,'Daily Log'!#REF!),0)","v":0},{"$f":"IFERROR($E296*SUMIF('Daily Log'!#REF!,$B296,'Daily Log'!#REF!),0)","v":0},{"$f":"IFERROR($E296*SUMIF('Daily Log'!#REF!,$B296,'Daily Log'!#REF!),0)","v":0},{"$f":"IFERROR($E296*SUMIF('Daily Log'!#REF!,$B296,'Daily Log'!#REF!),0)","v":0},{"$f":"IFERROR($E296*SUMIF('Daily Log'!#REF!,$B296,'Daily Log'!#REF!),0)","v":0},{"$f":"IFERROR($E296*SUMIF('Daily Log'!#REF!,$B296,'Daily Log'!#REF!),0)","v":0},{"$f":"IFERROR($E296*SUMIF('Daily Log'!#REF!,$B296,'Daily Log'!#REF!),0)","v":0},{"$f":"IFERROR($E296*SUMIF('Daily Log'!#REF!,$B296,'Daily Log'!#REF!),0)","v":0},{"$f":"IFERROR($E296*SUMIF('Daily Log'!#REF!,$B296,'Daily Log'!#REF!),0)","v":0},{"$f":"IFERROR($E296*SUMIF('Daily Log'!#REF!,$B296,'Daily Log'!#REF!),0)","v":0},{"$f":"IFERROR($E296*SUMIF('Daily Log'!#REF!,$B296,'Daily Log'!#REF!),0)","v":0},{"$f":"IFERROR($E296*SUMIF('Daily Log'!#REF!,$B296,'Daily Log'!#REF!),0)","v":0},{"$f":"IFERROR($E296*SUMIF('Daily Log'!#REF!,$B296,'Daily Log'!#REF!),0)","v":0},{"$f":"IFERROR($E296*SUMIF('Daily Log'!#REF!,$B296,'Daily Log'!#REF!),0)","v":0},{"$f":"IFERROR($E296*SUMIF('Daily Log'!#REF!,$B296,'Daily Log'!#REF!),0)","v":0},{"$f":"IFERROR($E296*SUMIF('Daily Log'!#REF!,$B296,'Daily Log'!#REF!),0)","v":0},{"$f":"IFERROR($E296*SUMIF('Daily Log'!#REF!,$B296,'Daily Log'!#REF!),0)","v":0}]
[null,"DD08 1208:HOTDOG BUN",null,"SIDE ORDER-APPETIZER",1,0,{"$f":"IFERROR($E297*SUMIF('Daily Log'!$B$18:$B$1017,$B297,'Daily Log'!$C$18:$C$1017),0)","v":0},{"$f":"IFERROR($E297*SUMIF('Daily Log'!$E$18:$E$1017,$B297,'Daily Log'!$F$18:$F$1017),0)","v":0},{"$f":"IFERROR($E297*SUMIF('Daily Log'!$H$18:$H$1017,$B297,'Daily Log'!$I$18:$I$1017),0)","v":0},{"$f":"IFERROR($E297*SUMIF('Daily Log'!$K$18:$K$1017,$B297,'Daily Log'!$L$18:$L$1017),0)","v":0},{"$f":"IFERROR($E297*SUMIF('Daily Log'!$N$18:$N$1017,$B297,'Daily Log'!$O$18:$O$1017),0)","v":0},{"$f":"IFERROR($E297*SUMIF('Daily Log'!#REF!,$B297,'Daily Log'!#REF!),0)","v":0},{"$f":"IFERROR($E297*SUMIF('Daily Log'!#REF!,$B297,'Daily Log'!#REF!),0)","v":0},{"$f":"IFERROR($E297*SUMIF('Daily Log'!#REF!,$B297,'Daily Log'!#REF!),0)","v":0},{"$f":"IFERROR($E297*SUMIF('Daily Log'!#REF!,$B297,'Daily Log'!#REF!),0)","v":0},{"$f":"IFERROR($E297*SUMIF('Daily Log'!#REF!,$B297,'Daily Log'!#REF!),0)","v":0},{"$f":"IFERROR($E297*SUMIF('Daily Log'!#REF!,$B297,'Daily Log'!#REF!),0)","v":0},{"$f":"IFERROR($E297*SUMIF('Daily Log'!#REF!,$B297,'Daily Log'!#REF!),0)","v":0},{"$f":"IFERROR($E297*SUMIF('Daily Log'!#REF!,$B297,'Daily Log'!#REF!),0)","v":0},{"$f":"IFERROR($E297*SUMIF('Daily Log'!#REF!,$B297,'Daily Log'!#REF!),0)","v":0},{"$f":"IFERROR($E297*SUMIF('Daily Log'!#REF!,$B297,'Daily Log'!#REF!),0)","v":0},{"$f":"IFERROR($E297*SUMIF('Daily Log'!#REF!,$B297,'Daily Log'!#REF!),0)","v":0},{"$f":"IFERROR($E297*SUMIF('Daily Log'!#REF!,$B297,'Daily Log'!#REF!),0)","v":0},{"$f":"IFERROR($E297*SUMIF('Daily Log'!#REF!,$B297,'Daily Log'!#REF!),0)","v":0},{"$f":"IFERROR($E297*SUMIF('Daily Log'!#REF!,$B297,'Daily Log'!#REF!),0)","v":0},{"$f":"IFERROR($E297*SUMIF('Daily Log'!#REF!,$B297,'Daily Log'!#REF!),0)","v":0},{"$f":"IFERROR($E297*SUMIF('Daily Log'!#REF!,$B297,'Daily Log'!#REF!),0)","v":0},{"$f":"IFERROR($E297*SUMIF('Daily Log'!#REF!,$B297,'Daily Log'!#REF!),0)","v":0},{"$f":"IFERROR($E297*SUMIF('Daily Log'!#REF!,$B297,'Daily Log'!#REF!),0)","v":0},{"$f":"IFERROR($E297*SUMIF('Daily Log'!#REF!,$B297,'Daily Log'!#REF!),0)","v":0},{"$f":"IFERROR($E297*SUMIF('Daily Log'!#REF!,$B297,'Daily Log'!#REF!),0)","v":0},{"$f":"IFERROR($E297*SUMIF('Daily Log'!#REF!,$B297,'Daily Log'!#REF!),0)","v":0},{"$f":"IFERROR($E297*SUMIF('Daily Log'!#REF!,$B297,'Daily Log'!#REF!),0)","v":0},{"$f":"IFERROR($E297*SUMIF('Daily Log'!#REF!,$B297,'Daily Log'!#REF!),0)","v":0},{"$f":"IFERROR($E297*SUMIF('Daily Log'!#REF!,$B297,'Daily Log'!#REF!),0)","v":0},{"$f":"IFERROR($E297*SUMIF('Daily Log'!#REF!,$B297,'Daily Log'!#REF!),0)","v":0},{"$f":"IFERROR($E297*SUMIF('Daily Log'!#REF!,$B297,'Daily Log'!#REF!),0)","v":0}]
[null,"DD09 1209:SFD TOFU",null,"SIDE ORDER-APPETIZER",1,0,{"$f":"IFERROR($E298*SUMIF('Daily Log'!$B$18:$B$1017,$B298,'Daily Log'!$C$18:$C$1017),0)","v":0},{"$f":"IFERROR($E298*SUMIF('Daily Log'!$E$18:$E$1017,$B298,'Daily Log'!$F$18:$F$1017),0)","v":0},{"$f":"IFERROR($E298*SUMIF('Daily Log'!$H$18:$H$1017,$B298,'Daily Log'!$I$18:$I$1017),0)","v":0},{"$f":"IFERROR($E298*SUMIF('Daily Log'!$K$18:$K$1017,$B298,'Daily Log'!$L$18:$L$1017),0)","v":0},{"$f":"IFERROR($E298*SUMIF('Daily Log'!$N$18:$N$1017,$B298,'Daily Log'!$O$18:$O$1017),0)","v":0},{"$f":"IFERROR($E298*SUMIF('Daily Log'!#REF!,$B298,'Daily Log'!#REF!),0)","v":0},{"$f":"IFERROR($E298*SUMIF('Daily Log'!#REF!,$B298,'Daily Log'!#REF!),0)","v":0},{"$f":"IFERROR($E298*SUMIF('Daily Log'!#REF!,$B298,'Daily Log'!#REF!),0)","v":0},{"$f":"IFERROR($E298*SUMIF('Daily Log'!#REF!,$B298,'Daily Log'!#REF!),0)","v":0},{"$f":"IFERROR($E298*SUMIF('Daily Log'!#REF!,$B298,'Daily Log'!#REF!),0)","v":0},{"$f":"IFERROR($E298*SUMIF('Daily Log'!#REF!,$B298,'Daily Log'!#REF!),0)","v":0},{"$f":"IFERROR($E298*SUMIF('Daily Log'!#REF!,$B298,'Daily Log'!#REF!),0)","v":0},{"$f":"IFERROR($E298*SUMIF('Daily Log'!#REF!,$B298,'Daily Log'!#REF!),0)","v":0},{"$f":"IFERROR($E298*SUMIF('Daily Log'!#REF!,$B298,'Daily Log'!#REF!),0)","v":0},{"$f":"IFERROR($E298*SUMIF('Daily Log'!#REF!,$B298,'Daily Log'!#REF!),0)","v":0},{"$f":"IFERROR($E298*SUMIF('Daily Log'!#REF!,$B298,'Daily Log'!#REF!),0)","v":0},{"$f":"IFERROR($E298*SUMIF('Daily Log'!#REF!,$B298,'Daily Log'!#REF!),0)","v":0},{"$f":"IFERROR($E298*SUMIF('Daily Log'!#REF!,$B298,'Daily Log'!#REF!),0)","v":0},{"$f":"IFERROR($E298*SUMIF('Daily Log'!#REF!,$B298,'Daily Log'!#REF!),0)","v":0},{"$f":"IFERROR($E298*SUMIF('Daily Log'!#REF!,$B298,'Daily Log'!#REF!),0)","v":0},{"$f":"IFERROR($E298*SUMIF('Daily Log'!#REF!,$B298,'Daily Log'!#REF!),0)","v":0},{"$f":"IFERROR($E298*SUMIF('Daily Log'!#REF!,$B298,'Daily Log'!#REF!),0)","v":0},{"$f":"IFERROR($E298*SUMIF('Daily Log'!#REF!,$B298,'Daily Log'!#REF!),0)","v":0},{"$f":"IFERROR($E298*SUMIF('Daily Log'!#REF!,$B298,'Daily Log'!#REF!),0)","v":0},{"$f":"IFERROR($E298*SUMIF('Daily Log'!#REF!,$B298,'Daily Log'!#REF!),0)","v":0},{"$f":"IFERROR($E298*SUMIF('Daily Log'!#REF!,$B298,'Daily Log'!#REF!),0)","v":0},{"$f":"IFERROR($E298*SUMIF('Daily Log'!#REF!,$B298,'Daily Log'!#REF!),0)","v":0},{"$f":"IFERROR($E298*SUMIF('Daily Log'!#REF!,$B298,'Daily Log'!#REF!),0)","v":0},{"$f":"IFERROR($E298*SUMIF('Daily Log'!#REF!,$B298,'Daily Log'!#REF!),0)","v":0},{"$f":"IFERROR($E298*SUMIF('Daily Log'!#REF!,$B298,'Daily Log'!#REF!),0)","v":0},{"$f":"IFERROR($E298*SUMIF('Daily Log'!#REF!,$B298,'Daily Log'!#REF!),0)","v":0}]
[null,"DD10 1301:DUMPLING",null,"SIDE ORDER-APPETIZER",1,0,{"$f":"IFERROR($E299*SUMIF('Daily Log'!$B$18:$B$1017,$B299,'Daily Log'!$C$18:$C$1017),0)","v":0},{"$f":"IFERROR($E299*SUMIF('Daily Log'!$E$18:$E$1017,$B299,'Daily Log'!$F$18:$F$1017),0)","v":0},{"$f":"IFERROR($E299*SUMIF('Daily Log'!$H$18:$H$1017,$B299,'Daily Log'!$I$18:$I$1017),0)","v":0},{"$f":"IFERROR($E299*SUMIF('Daily Log'!$K$18:$K$1017,$B299,'Daily Log'!$L$18:$L$1017),0)","v":0},{"$f":"IFERROR($E299*SUMIF('Daily Log'!$N$18:$N$1017,$B299,'Daily Log'!$O$18:$O$1017),0)","v":0},{"$f":"IFERROR($E299*SUMIF('Daily Log'!#REF!,$B299,'Daily Log'!#REF!),0)","v":0},{"$f":"IFERROR($E299*SUMIF('Daily Log'!#REF!,$B299,'Daily Log'!#REF!),0)","v":0},{"$f":"IFERROR($E299*SUMIF('Daily Log'!#REF!,$B299,'Daily Log'!#REF!),0)","v":0},{"$f":"IFERROR($E299*SUMIF('Daily Log'!#REF!,$B299,'Daily Log'!#REF!),0)","v":0},{"$f":"IFERROR($E299*SUMIF('Daily Log'!#REF!,$B299,'Daily Log'!#REF!),0)","v":0},{"$f":"IFERROR($E299*SUMIF('Daily Log'!#REF!,$B299,'Daily Log'!#REF!),0)","v":0},{"$f":"IFERROR($E299*SUMIF('Daily Log'!#REF!,$B299,'Daily Log'!#REF!),0)","v":0},{"$f":"IFERROR($E299*SUMIF('Daily Log'!#REF!,$B299,'Daily Log'!#REF!),0)","v":0},{"$f":"IFERROR($E299*SUMIF('Daily Log'!#REF!,$B299,'Daily Log'!#REF!),0)","v":0},{"$f":"IFERROR($E299*SUMIF('Daily Log'!#REF!,$B299,'Daily Log'!#REF!),0)","v":0},{"$f":"IFERROR($E299*SUMIF('Daily Log'!#REF!,$B299,'Daily Log'!#REF!),0)","v":0},{"$f":"IFERROR($E299*SUMIF('Daily Log'!#REF!,$B299,'Daily Log'!#REF!),0)","v":0},{"$f":"IFERROR($E299*SUMIF('Daily Log'!#REF!,$B299,'Daily Log'!#REF!),0)","v":0},{"$f":"IFERROR($E299*SUMIF('Daily Log'!#REF!,$B299,'Daily Log'!#REF!),0)","v":0},{"$f":"IFERROR($E299*SUMIF('Daily Log'!#REF!,$B299,'Daily Log'!#REF!),0)","v":0},{"$f":"IFERROR($E299*SUMIF('Daily Log'!#REF!,$B299,'Daily Log'!#REF!),0)","v":0},{"$f":"IFERROR($E299*SUMIF('Daily Log'!#REF!,$B299,'Daily Log'!#REF!),0)","v":0},{"$f":"IFERROR($E299*SUMIF('Daily Log'!#REF!,$B299,'Daily Log'!#REF!),0)","v":0},{"$f":"IFERROR($E299*SUMIF('Daily Log'!#REF!,$B299,'Daily Log'!#REF!),0)","v":0},{"$f":"IFERROR($E299*SUMIF('Daily Log'!#REF!,$B299,'Daily Log'!#REF!),0)","v":0},{"$f":"IFERROR($E299*SUMIF('Daily Log'!#REF!,$B299,'Daily Log'!#REF!),0)","v":0},{"$f":"IFERROR($E299*SUMIF('Daily Log'!#REF!,$B299,'Daily Log'!#REF!),0)","v":0},{"$f":"IFERROR($E299*SUMIF('Daily Log'!#REF!,$B299,'Daily Log'!#REF!),0)","v":0},{"$f":"IFERROR($E299*SUMIF('Daily Log'!#REF!,$B299,'Daily Log'!#REF!),0)","v":0},{"$f":"IFERROR($E299*SUMIF('Daily Log'!#REF!,$B299,'Daily Log'!#REF!),0)","v":0},{"$f":"IFERROR($E299*SUMIF('Daily Log'!#REF!,$B299,'Daily Log'!#REF!),0)","v":0}]
[null,"DD11 1302:NUGGET",null,"SIDE ORDER-APPETIZER",1,3,{"$f":"IFERROR($E300*SUMIF('Daily Log'!$B$18:$B$1017,$B300,'Daily Log'!$C$18:$C$1017),0)","v":0},{"$f":"IFERROR($E300*SUMIF('Daily Log'!$E$18:$E$1017,$B300,'Daily Log'!$F$18:$F$1017),0)","v":2},{"$f":"IFERROR($E300*SUMIF('Daily Log'!$H$18:$H$1017,$B300,'Daily Log'!$I$18:$I$1017),0)","v":0},{"$f":"IFERROR($E300*SUMIF('Daily Log'!$K$18:$K$1017,$B300,'Daily Log'!$L$18:$L$1017),0)","v":1},{"$f":"IFERROR($E300*SUMIF('Daily Log'!$N$18:$N$1017,$B300,'Daily Log'!$O$18:$O$1017),0)","v":0},{"$f":"IFERROR($E300*SUMIF('Daily Log'!#REF!,$B300,'Daily Log'!#REF!),0)","v":0},{"$f":"IFERROR($E300*SUMIF('Daily Log'!#REF!,$B300,'Daily Log'!#REF!),0)","v":0},{"$f":"IFERROR($E300*SUMIF('Daily Log'!#REF!,$B300,'Daily Log'!#REF!),0)","v":0},{"$f":"IFERROR($E300*SUMIF('Daily Log'!#REF!,$B300,'Daily Log'!#REF!),0)","v":0},{"$f":"IFERROR($E300*SUMIF('Daily Log'!#REF!,$B300,'Daily Log'!#REF!),0)","v":0},{"$f":"IFERROR($E300*SUMIF('Daily Log'!#REF!,$B300,'Daily Log'!#REF!),0)","v":0},{"$f":"IFERROR($E300*SUMIF('Daily Log'!#REF!,$B300,'Daily Log'!#REF!),0)","v":0},{"$f":"IFERROR($E300*SUMIF('Daily Log'!#REF!,$B300,'Daily Log'!#REF!),0)","v":0},{"$f":"IFERROR($E300*SUMIF('Daily Log'!#REF!,$B300,'Daily Log'!#REF!),0)","v":0},{"$f":"IFERROR($E300*SUMIF('Daily Log'!#REF!,$B300,'Daily Log'!#REF!),0)","v":0},{"$f":"IFERROR($E300*SUMIF('Daily Log'!#REF!,$B300,'Daily Log'!#REF!),0)","v":0},{"$f":"IFERROR($E300*SUMIF('Daily Log'!#REF!,$B300,'Daily Log'!#REF!),0)","v":0},{"$f":"IFERROR($E300*SUMIF('Daily Log'!#REF!,$B300,'Daily Log'!#REF!),0)","v":0},{"$f":"IFERROR($E300*SUMIF('Daily Log'!#REF!,$B300,'Daily Log'!#REF!),0)","v":0},{"$f":"IFERROR($E300*SUMIF('Daily Log'!#REF!,$B300,'Daily Log'!#REF!),0)","v":0},{"$f":"IFERROR($E300*SUMIF('Daily Log'!#REF!,$B300,'Daily Log'!#REF!),0)","v":0},{"$f":"IFERROR($E300*SUMIF('Daily Log'!#REF!,$B300,'Daily Log'!#REF!),0)","v":0},{"$f":"IFERROR($E300*SUMIF('Daily Log'!#REF!,$B300,'Daily Log'!#REF!),0)","v":0},{"$f":"IFERROR($E300*SUMIF('Daily Log'!#REF!,$B300,'Daily Log'!#REF!),0)","v":0},{"$f":"IFERROR($E300*SUMIF('Daily Log'!#REF!,$B300,'Daily Log'!#REF!),0)","v":0},{"$f":"IFERROR($E300*SUMIF('Daily Log'!#REF!,$B300,'Daily Log'!#REF!),0)","v":0},{"$f":"IFERROR($E300*SUMIF('Daily Log'!#REF!,$B300,'Daily Log'!#REF!),0)","v":0},{"$f":"IFERROR($E300*SUMIF('Daily Log'!#REF!,$B300,'Daily Log'!#REF!),0)","v":0},{"$f":"IFERROR($E300*SUMIF('Daily Log'!#REF!,$B300,'Daily Log'!#REF!),0)","v":0},{"$f":"IFERROR($E300*SUMIF('Daily Log'!#REF!,$B300,'Daily Log'!#REF!),0)","v":0},{"$f":"IFERROR($E300*SUMIF('Daily Log'!#REF!,$B300,'Daily Log'!#REF!),0)","v":0}]
[null,"DD12 1303:CHK WING",null,"SIDE ORDER-APPETIZER",1,9,{"$f":"IFERROR($E301*SUMIF('Daily Log'!$B$18:$B$1017,$B301,'Daily Log'!$C$18:$C$1017),0)","v":4},{"$f":"IFERROR($E301*SUMIF('Daily Log'!$E$18:$E$1017,$B301,'Daily Log'!$F$18:$F$1017),0)","v":3},{"$f":"IFERROR($E301*SUMIF('Daily Log'!$H$18:$H$1017,$B301,'Daily Log'!$I$18:$I$1017),0)","v":1},{"$f":"IFERROR($E301*SUMIF('Daily Log'!$K$18:$K$1017,$B301,'Daily Log'!$L$18:$L$1017),0)","v":1},{"$f":"IFERROR($E301*SUMIF('Daily Log'!$N$18:$N$1017,$B301,'Daily Log'!$O$18:$O$1017),0)","v":0},{"$f":"IFERROR($E301*SUMIF('Daily Log'!#REF!,$B301,'Daily Log'!#REF!),0)","v":0},{"$f":"IFERROR($E301*SUMIF('Daily Log'!#REF!,$B301,'Daily Log'!#REF!),0)","v":0},{"$f":"IFERROR($E301*SUMIF('Daily Log'!#REF!,$B301,'Daily Log'!#REF!),0)","v":0},{"$f":"IFERROR($E301*SUMIF('Daily Log'!#REF!,$B301,'Daily Log'!#REF!),0)","v":0},{"$f":"IFERROR($E301*SUMIF('Daily Log'!#REF!,$B301,'Daily Log'!#REF!),0)","v":0},{"$f":"IFERROR($E301*SUMIF('Daily Log'!#REF!,$B301,'Daily Log'!#REF!),0)","v":0},{"$f":"IFERROR($E301*SUMIF('Daily Log'!#REF!,$B301,'Daily Log'!#REF!),0)","v":0},{"$f":"IFERROR($E301*SUMIF('Daily Log'!#REF!,$B301,'Daily Log'!#REF!),0)","v":0},{"$f":"IFERROR($E301*SUMIF('Daily Log'!#REF!,$B301,'Daily Log'!#REF!),0)","v":0},{"$f":"IFERROR($E301*SUMIF('Daily Log'!#REF!,$B301,'Daily Log'!#REF!),0)","v":0},{"$f":"IFERROR($E301*SUMIF('Daily Log'!#REF!,$B301,'Daily Log'!#REF!),0)","v":0},{"$f":"IFERROR($E301*SUMIF('Daily Log'!#REF!,$B301,'Daily Log'!#REF!),0)","v":0},{"$f":"IFERROR($E301*SUMIF('Daily Log'!#REF!,$B301,'Daily Log'!#REF!),0)","v":0},{"$f":"IFERROR($E301*SUMIF('Daily Log'!#REF!,$B301,'Daily Log'!#REF!),0)","v":0},{"$f":"IFERROR($E301*SUMIF('Daily Log'!#REF!,$B301,'Daily Log'!#REF!),0)","v":0},{"$f":"IFERROR($E301*SUMIF('Daily Log'!#REF!,$B301,'Daily Log'!#REF!),0)","v":0},{"$f":"IFERROR($E301*SUMIF('Daily Log'!#REF!,$B301,'Daily Log'!#REF!),0)","v":0},{"$f":"IFERROR($E301*SUMIF('Daily Log'!#REF!,$B301,'Daily Log'!#REF!),0)","v":0},{"$f":"IFERROR($E301*SUMIF('Daily Log'!#REF!,$B301,'Daily Log'!#REF!),0)","v":0},{"$f":"IFERROR($E301*SUMIF('Daily Log'!#REF!,$B301,'Daily Log'!#REF!),0)","v":0},{"$f":"IFERROR($E301*SUMIF('Daily Log'!#REF!,$B301,'Daily Log'!#REF!),0)","v":0},{"$f":"IFERROR($E301*SUMIF('Daily Log'!#REF!,$B301,'Daily Log'!#REF!),0)","v":0},{"$f":"IFERROR($E301*SUMIF('Daily Log'!#REF!,$B301,'Daily Log'!#REF!),0)","v":0},{"$f":"IFERROR($E301*SUMIF('Daily Log'!#REF!,$B301,'Daily Log'!#REF!),0)","v":0},{"$f":"IFERROR($E301*SUMIF('Daily Log'!#REF!,$B301,'Daily Log'!#REF!),0)","v":0},{"$f":"IFERROR($E301*SUMIF('Daily Log'!#REF!,$B301,'Daily Log'!#REF!),0)","v":0}]
[null,"DD13 1304:IKAN BILIS",null,"SIDE ORDER-APPETIZER",1,1,{"$f":"IFERROR($E302*SUMIF('Daily Log'!$B$18:$B$1017,$B302,'Daily Log'!$C$18:$C$1017),0)","v":1},{"$f":"IFERROR($E302*SUMIF('Daily Log'!$E$18:$E$1017,$B302,'Daily Log'!$F$18:$F$1017),0)","v":0},{"$f":"IFERROR($E302*SUMIF('Daily Log'!$H$18:$H$1017,$B302,'Daily Log'!$I$18:$I$1017),0)","v":0},{"$f":"IFERROR($E302*SUMIF('Daily Log'!$K$18:$K$1017,$B302,'Daily Log'!$L$18:$L$1017),0)","v":0},{"$f":"IFERROR($E302*SUMIF('Daily Log'!$N$18:$N$1017,$B302,'Daily Log'!$O$18:$O$1017),0)","v":0},{"$f":"IFERROR($E302*SUMIF('Daily Log'!#REF!,$B302,'Daily Log'!#REF!),0)","v":0},{"$f":"IFERROR($E302*SUMIF('Daily Log'!#REF!,$B302,'Daily Log'!#REF!),0)","v":0},{"$f":"IFERROR($E302*SUMIF('Daily Log'!#REF!,$B302,'Daily Log'!#REF!),0)","v":0},{"$f":"IFERROR($E302*SUMIF('Daily Log'!#REF!,$B302,'Daily Log'!#REF!),0)","v":0},{"$f":"IFERROR($E302*SUMIF('Daily Log'!#REF!,$B302,'Daily Log'!#REF!),0)","v":0},{"$f":"IFERROR($E302*SUMIF('Daily Log'!#REF!,$B302,'Daily Log'!#REF!),0)","v":0},{"$f":"IFERROR($E302*SUMIF('Daily Log'!#REF!,$B302,'Daily Log'!#REF!),0)","v":0},{"$f":"IFERROR($E302*SUMIF('Daily Log'!#REF!,$B302,'Daily Log'!#REF!),0)","v":0},{"$f":"IFERROR($E302*SUMIF('Daily Log'!#REF!,$B302,'Daily Log'!#REF!),0)","v":0},{"$f":"IFERROR($E302*SUMIF('Daily Log'!#REF!,$B302,'Daily Log'!#REF!),0)","v":0},{"$f":"IFERROR($E302*SUMIF('Daily Log'!#REF!,$B302,'Daily Log'!#REF!),0)","v":0},{"$f":"IFERROR($E302*SUMIF('Daily Log'!#REF!,$B302,'Daily Log'!#REF!),0)","v":0},{"$f":"IFERROR($E302*SUMIF('Daily Log'!#REF!,$B302,'Daily Log'!#REF!),0)","v":0},{"$f":"IFERROR($E302*SUMIF('Daily Log'!#REF!,$B302,'Daily Log'!#REF!),0)","v":0},{"$f":"IFERROR($E302*SUMIF('Daily Log'!#REF!,$B302,'Daily Log'!#REF!),0)","v":0},{"$f":"IFERROR($E302*SUMIF('Daily Log'!#REF!,$B302,'Daily Log'!#REF!),0)","v":0},{"$f":"IFERROR($E302*SUMIF('Daily Log'!#REF!,$B302,'Daily Log'!#REF!),0)","v":0},{"$f":"IFERROR($E302*SUMIF('Daily Log'!#REF!,$B302,'Daily Log'!#REF!),0)","v":0},{"$f":"IFERROR($E302*SUMIF('Daily Log'!#REF!,$B302,'Daily Log'!#REF!),0)","v":0},{"$f":"IFERROR($E302*SUMIF('Daily Log'!#REF!,$B302,'Daily Log'!#REF!),0)","v":0},{"$f":"IFERROR($E302*SUMIF('Daily Log'!#REF!,$B302,'Daily Log'!#REF!),0)","v":0},{"$f":"IFERROR($E302*SUMIF('Daily Log'!#REF!,$B302,'Daily Log'!#REF!),0)","v":0},{"$f":"IFERROR($E302*SUMIF('Daily Log'!#REF!,$B302,'Daily Log'!#REF!),0)","v":0},{"$f":"IFERROR($E302*SUMIF('Daily Log'!#REF!,$B302,'Daily Log'!#REF!),0)","v":0},{"$f":"IFERROR($E302*SUMIF('Daily Log'!#REF!,$B302,'Daily Log'!#REF!),0)","v":0},{"$f":"IFERROR($E302*SUMIF('Daily Log'!#REF!,$B302,'Daily Log'!#REF!),0)","v":0}]
[null,"DD14 1305:THAI RL",null,"SIDE ORDER-APPETIZER",1,0,{"$f":"IFERROR($E303*SUMIF('Daily Log'!$B$18:$B$1017,$B303,'Daily Log'!$C$18:$C$1017),0)","v":0},{"$f":"IFERROR($E303*SUMIF('Daily Log'!$E$18:$E$1017,$B303,'Daily Log'!$F$18:$F$1017),0)","v":0},{"$f":"IFERROR($E303*SUMIF('Daily Log'!$H$18:$H$1017,$B303,'Daily Log'!$I$18:$I$1017),0)","v":0},{"$f":"IFERROR($E303*SUMIF('Daily Log'!$K$18:$K$1017,$B303,'Daily Log'!$L$18:$L$1017),0)","v":0},{"$f":"IFERROR($E303*SUMIF('Daily Log'!$N$18:$N$1017,$B303,'Daily Log'!$O$18:$O$1017),0)","v":0},{"$f":"IFERROR($E303*SUMIF('Daily Log'!#REF!,$B303,'Daily Log'!#REF!),0)","v":0},{"$f":"IFERROR($E303*SUMIF('Daily Log'!#REF!,$B303,'Daily Log'!#REF!),0)","v":0},{"$f":"IFERROR($E303*SUMIF('Daily Log'!#REF!,$B303,'Daily Log'!#REF!),0)","v":0},{"$f":"IFERROR($E303*SUMIF('Daily Log'!#REF!,$B303,'Daily Log'!#REF!),0)","v":0},{"$f":"IFERROR($E303*SUMIF('Daily Log'!#REF!,$B303,'Daily Log'!#REF!),0)","v":0},{"$f":"IFERROR($E303*SUMIF('Daily Log'!#REF!,$B303,'Daily Log'!#REF!),0)","v":0},{"$f":"IFERROR($E303*SUMIF('Daily Log'!#REF!,$B303,'Daily Log'!#REF!),0)","v":0},{"$f":"IFERROR($E303*SUMIF('Daily Log'!#REF!,$B303,'Daily Log'!#REF!),0)","v":0},{"$f":"IFERROR($E303*SUMIF('Daily Log'!#REF!,$B303,'Daily Log'!#REF!),0)","v":0},{"$f":"IFERROR($E303*SUMIF('Daily Log'!#REF!,$B303,'Daily Log'!#REF!),0)","v":0},{"$f":"IFERROR($E303*SUMIF('Daily Log'!#REF!,$B303,'Daily Log'!#REF!),0)","v":0},{"$f":"IFERROR($E303*SUMIF('Daily Log'!#REF!,$B303,'Daily Log'!#REF!),0)","v":0},{"$f":"IFERROR($E303*SUMIF('Daily Log'!#REF!,$B303,'Daily Log'!#REF!),0)","v":0},{"$f":"IFERROR($E303*SUMIF('Daily Log'!#REF!,$B303,'Daily Log'!#REF!),0)","v":0},{"$f":"IFERROR($E303*SUMIF('Daily Log'!#REF!,$B303,'Daily Log'!#REF!),0)","v":0},{"$f":"IFERROR($E303*SUMIF('Daily Log'!#REF!,$B303,'Daily Log'!#REF!),0)","v":0},{"$f":"IFERROR($E303*SUMIF('Daily Log'!#REF!,$B303,'Daily Log'!#REF!),0)","v":0},{"$f":"IFERROR($E303*SUMIF('Daily Log'!#REF!,$B303,'Daily Log'!#REF!),0)","v":0},{"$f":"IFERROR($E303*SUMIF('Daily Log'!#REF!,$B303,'Daily Log'!#REF!),0)","v":0},{"$f":"IFERROR($E303*SUMIF('Daily Log'!#REF!,$B303,'Daily Log'!#REF!),0)","v":0},{"$f":"IFERROR($E303*SUMIF('Daily Log'!#REF!,$B303,'Daily Log'!#REF!),0)","v":0},{"$f":"IFERROR($E303*SUMIF('Daily Log'!#REF!,$B303,'Daily Log'!#REF!),0)","v":0},{"$f":"IFERROR($E303*SUMIF('Daily Log'!#REF!,$B303,'Daily Log'!#REF!),0)","v":0},{"$f":"IFERROR($E303*SUMIF('Daily Log'!#REF!,$B303,'Daily Log'!#REF!),0)","v":0},{"$f":"IFERROR($E303*SUMIF('Daily Log'!#REF!,$B303,'Daily Log'!#REF!),0)","v":0},{"$f":"IFERROR($E303*SUMIF('Daily Log'!#REF!,$B303,'Daily Log'!#REF!),0)","v":0}]
[null,"DD15 1306:SLVR FISH",null,"SIDE ORDER-APPETIZER",1,0,{"$f":"IFERROR($E304*SUMIF('Daily Log'!$B$18:$B$1017,$B304,'Daily Log'!$C$18:$C$1017),0)","v":0},{"$f":"IFERROR($E304*SUMIF('Daily Log'!$E$18:$E$1017,$B304,'Daily Log'!$F$18:$F$1017),0)","v":0},{"$f":"IFERROR($E304*SUMIF('Daily Log'!$H$18:$H$1017,$B304,'Daily Log'!$I$18:$I$1017),0)","v":0},{"$f":"IFERROR($E304*SUMIF('Daily Log'!$K$18:$K$1017,$B304,'Daily Log'!$L$18:$L$1017),0)","v":0},{"$f":"IFERROR($E304*SUMIF('Daily Log'!$N$18:$N$1017,$B304,'Daily Log'!$O$18:$O$1017),0)","v":0},{"$f":"IFERROR($E304*SUMIF('Daily Log'!#REF!,$B304,'Daily Log'!#REF!),0)","v":0},{"$f":"IFERROR($E304*SUMIF('Daily Log'!#REF!,$B304,'Daily Log'!#REF!),0)","v":0},{"$f":"IFERROR($E304*SUMIF('Daily Log'!#REF!,$B304,'Daily Log'!#REF!),0)","v":0},{"$f":"IFERROR($E304*SUMIF('Daily Log'!#REF!,$B304,'Daily Log'!#REF!),0)","v":0},{"$f":"IFERROR($E304*SUMIF('Daily Log'!#REF!,$B304,'Daily Log'!#REF!),0)","v":0},{"$f":"IFERROR($E304*SUMIF('Daily Log'!#REF!,$B304,'Daily Log'!#REF!),0)","v":0},{"$f":"IFERROR($E304*SUMIF('Daily Log'!#REF!,$B304,'Daily Log'!#REF!),0)","v":0},{"$f":"IFERROR($E304*SUMIF('Daily Log'!#REF!,$B304,'Daily Log'!#REF!),0)","v":0},{"$f":"IFERROR($E304*SUMIF('Daily Log'!#REF!,$B304,'Daily Log'!#REF!),0)","v":0},{"$f":"IFERROR($E304*SUMIF('Daily Log'!#REF!,$B304,'Daily Log'!#REF!),0)","v":0},{"$f":"IFERROR($E304*SUMIF('Daily Log'!#REF!,$B304,'Daily Log'!#REF!),0)","v":0},{"$f":"IFERROR($E304*SUMIF('Daily Log'!#REF!,$B304,'Daily Log'!#REF!),0)","v":0},{"$f":"IFERROR($E304*SUMIF('Daily Log'!#REF!,$B304,'Daily Log'!#REF!),0)","v":0},{"$f":"IFERROR($E304*SUMIF('Daily Log'!#REF!,$B304,'Daily Log'!#REF!),0)","v":0},{"$f":"IFERROR($E304*SUMIF('Daily Log'!#REF!,$B304,'Daily Log'!#REF!),0)","v":0},{"$f":"IFERROR($E304*SUMIF('Daily Log'!#REF!,$B304,'Daily Log'!#REF!),0)","v":0},{"$f":"IFERROR($E304*SUMIF('Daily Log'!#REF!,$B304,'Daily Log'!#REF!),0)","v":0},{"$f":"IFERROR($E304*SUMIF('Daily Log'!#REF!,$B304,'Daily Log'!#REF!),0)","v":0},{"$f":"IFERROR($E304*SUMIF('Daily Log'!#REF!,$B304,'Daily Log'!#REF!),0)","v":0},{"$f":"IFERROR($E304*SUMIF('Daily Log'!#REF!,$B304,'Daily Log'!#REF!),0)","v":0},{"$f":"IFERROR($E304*SUMIF('Daily Log'!#REF!,$B304,'Daily Log'!#REF!),0)","v":0},{"$f":"IFERROR($E304*SUMIF('Daily Log'!#REF!,$B304,'Daily Log'!#REF!),0)","v":0},{"$f":"IFERROR($E304*SUMIF('Daily Log'!#REF!,$B304,'Daily Log'!#REF!),0)","v":0},{"$f":"IFERROR($E304*SUMIF('Daily Log'!#REF!,$B304,'Daily Log'!#REF!),0)","v":0},{"$f":"IFERROR($E304*SUMIF('Daily Log'!#REF!,$B304,'Daily Log'!#REF!),0)","v":0},{"$f":"IFERROR($E304*SUMIF('Daily Log'!#REF!,$B304,'Daily Log'!#REF!),0)","v":0}]
[null,"DD16 McCain AlaCarte",null,"PLATTER",1,11,{"$f":"IFERROR($E305*SUMIF('Daily Log'!$B$18:$B$1017,$B305,'Daily Log'!$C$18:$C$1017),0)","v":4},{"$f":"IFERROR($E305*SUMIF('Daily Log'!$E$18:$E$1017,$B305,'Daily Log'!$F$18:$F$1017),0)","v":1},{"$f":"IFERROR($E305*SUMIF('Daily Log'!$H$18:$H$1017,$B305,'Daily Log'!$I$18:$I$1017),0)","v":2},{"$f":"IFERROR($E305*SUMIF('Daily Log'!$K$18:$K$1017,$B305,'Daily Log'!$L$18:$L$1017),0)","v":3},{"$f":"IFERROR($E305*SUMIF('Daily Log'!$N$18:$N$1017,$B305,'Daily Log'!$O$18:$O$1017),0)","v":1},{"$f":"IFERROR($E305*SUMIF('Daily Log'!#REF!,$B305,'Daily Log'!#REF!),0)","v":0},{"$f":"IFERROR($E305*SUMIF('Daily Log'!#REF!,$B305,'Daily Log'!#REF!),0)","v":0},{"$f":"IFERROR($E305*SUMIF('Daily Log'!#REF!,$B305,'Daily Log'!#REF!),0)","v":0},{"$f":"IFERROR($E305*SUMIF('Daily Log'!#REF!,$B305,'Daily Log'!#REF!),0)","v":0},{"$f":"IFERROR($E305*SUMIF('Daily Log'!#REF!,$B305,'Daily Log'!#REF!),0)","v":0},{"$f":"IFERROR($E305*SUMIF('Daily Log'!#REF!,$B305,'Daily Log'!#REF!),0)","v":0},{"$f":"IFERROR($E305*SUMIF('Daily Log'!#REF!,$B305,'Daily Log'!#REF!),0)","v":0},{"$f":"IFERROR($E305*SUMIF('Daily Log'!#REF!,$B305,'Daily Log'!#REF!),0)","v":0},{"$f":"IFERROR($E305*SUMIF('Daily Log'!#REF!,$B305,'Daily Log'!#REF!),0)","v":0},{"$f":"IFERROR($E305*SUMIF('Daily Log'!#REF!,$B305,'Daily Log'!#REF!),0)","v":0},{"$f":"IFERROR($E305*SUMIF('Daily Log'!#REF!,$B305,'Daily Log'!#REF!),0)","v":0},{"$f":"IFERROR($E305*SUMIF('Daily Log'!#REF!,$B305,'Daily Log'!#REF!),0)","v":0},{"$f":"IFERROR($E305*SUMIF('Daily Log'!#REF!,$B305,'Daily Log'!#REF!),0)","v":0},{"$f":"IFERROR($E305*SUMIF('Daily Log'!#REF!,$B305,'Daily Log'!#REF!),0)","v":0},{"$f":"IFERROR($E305*SUMIF('Daily Log'!#REF!,$B305,'Daily Log'!#REF!),0)","v":0},{"$f":"IFERROR($E305*SUMIF('Daily Log'!#REF!,$B305,'Daily Log'!#REF!),0)","v":0},{"$f":"IFERROR($E305*SUMIF('Daily Log'!#REF!,$B305,'Daily Log'!#REF!),0)","v":0},{"$f":"IFERROR($E305*SUMIF('Daily Log'!#REF!,$B305,'Daily Log'!#REF!),0)","v":0},{"$f":"IFERROR($E305*SUMIF('Daily Log'!#REF!,$B305,'Daily Log'!#REF!),0)","v":0},{"$f":"IFERROR($E305*SUMIF('Daily Log'!#REF!,$B305,'Daily Log'!#REF!),0)","v":0},{"$f":"IFERROR($E305*SUMIF('Daily Log'!#REF!,$B305,'Daily Log'!#REF!),0)","v":0},{"$f":"IFERROR($E305*SUMIF('Daily Log'!#REF!,$B305,'Daily Log'!#REF!),0)","v":0},{"$f":"IFERROR($E305*SUMIF('Daily Log'!#REF!,$B305,'Daily Log'!#REF!),0)","v":0},{"$f":"IFERROR($E305*SUMIF('Daily Log'!#REF!,$B305,'Daily Log'!#REF!),0)","v":0},{"$f":"IFERROR($E305*SUMIF('Daily Log'!#REF!,$B305,'Daily Log'!#REF!),0)","v":0},{"$f":"IFERROR($E305*SUMIF('Daily Log'!#REF!,$B305,'Daily Log'!#REF!),0)","v":0}]
[null,"DD17 McCain Beer",null,"PLATTER",1,2,{"$f":"IFERROR($E306*SUMIF('Daily Log'!$B$18:$B$1017,$B306,'Daily Log'!$C$18:$C$1017),0)","v":0},{"$f":"IFERROR($E306*SUMIF('Daily Log'!$E$18:$E$1017,$B306,'Daily Log'!$F$18:$F$1017),0)","v":0},{"$f":"IFERROR($E306*SUMIF('Daily Log'!$H$18:$H$1017,$B306,'Daily Log'!$I$18:$I$1017),0)","v":1},{"$f":"IFERROR($E306*SUMIF('Daily Log'!$K$18:$K$1017,$B306,'Daily Log'!$L$18:$L$1017),0)","v":1},{"$f":"IFERROR($E306*SUMIF('Daily Log'!$N$18:$N$1017,$B306,'Daily Log'!$O$18:$O$1017),0)","v":0},{"$f":"IFERROR($E306*SUMIF('Daily Log'!#REF!,$B306,'Daily Log'!#REF!),0)","v":0},{"$f":"IFERROR($E306*SUMIF('Daily Log'!#REF!,$B306,'Daily Log'!#REF!),0)","v":0},{"$f":"IFERROR($E306*SUMIF('Daily Log'!#REF!,$B306,'Daily Log'!#REF!),0)","v":0},{"$f":"IFERROR($E306*SUMIF('Daily Log'!#REF!,$B306,'Daily Log'!#REF!),0)","v":0},{"$f":"IFERROR($E306*SUMIF('Daily Log'!#REF!,$B306,'Daily Log'!#REF!),0)","v":0},{"$f":"IFERROR($E306*SUMIF('Daily Log'!#REF!,$B306,'Daily Log'!#REF!),0)","v":0},{"$f":"IFERROR($E306*SUMIF('Daily Log'!#REF!,$B306,'Daily Log'!#REF!),0)","v":0},{"$f":"IFERROR($E306*SUMIF('Daily Log'!#REF!,$B306,'Daily Log'!#REF!),0)","v":0},{"$f":"IFERROR($E306*SUMIF('Daily Log'!#REF!,$B306,'Daily Log'!#REF!),0)","v":0},{"$f":"IFERROR($E306*SUMIF('Daily Log'!#REF!,$B306,'Daily Log'!#REF!),0)","v":0},{"$f":"IFERROR($E306*SUMIF('Daily Log'!#REF!,$B306,'Daily Log'!#REF!),0)","v":0},{"$f":"IFERROR($E306*SUMIF('Daily Log'!#REF!,$B306,'Daily Log'!#REF!),0)","v":0},{"$f":"IFERROR($E306*SUMIF('Daily Log'!#REF!,$B306,'Daily Log'!#REF!),0)","v":0},{"$f":"IFERROR($E306*SUMIF('Daily Log'!#REF!,$B306,'Daily Log'!#REF!),0)","v":0},{"$f":"IFERROR($E306*SUMIF('Daily Log'!#REF!,$B306,'Daily Log'!#REF!),0)","v":0},{"$f":"IFERROR($E306*SUMIF('Daily Log'!#REF!,$B306,'Daily Log'!#REF!),0)","v":0},{"$f":"IFERROR($E306*SUMIF('Daily Log'!#REF!,$B306,'Daily Log'!#REF!),0)","v":0},{"$f":"IFERROR($E306*SUMIF('Daily Log'!#REF!,$B306,'Daily Log'!#REF!),0)","v":0},{"$f":"IFERROR($E306*SUMIF('Daily Log'!#REF!,$B306,'Daily Log'!#REF!),0)","v":0},{"$f":"IFERROR($E306*SUMIF('Daily Log'!#REF!,$B306,'Daily Log'!#REF!),0)","v":0},{"$f":"IFERROR($E306*SUMIF('Daily Log'!#REF!,$B306,'Daily Log'!#REF!),0)","v":0},{"$f":"IFERROR($E306*SUMIF('Daily Log'!#REF!,$B306,'Daily Log'!#REF!),0)","v":0},{"$f":"IFERROR($E306*SUMIF('Daily Log'!#REF!,$B306,'Daily Log'!#REF!),0)","v":0},{"$f":"IFERROR($E306*SUMIF('Daily Log'!#REF!,$B306,'Daily Log'!#REF!),0)","v":0},{"$f":"IFERROR($E306*SUMIF('Daily Log'!#REF!,$B306,'Daily Log'!#REF!),0)","v":0},{"$f":"IFERROR($E306*SUMIF('Daily Log'!#REF!,$B306,'Daily Log'!#REF!),0)","v":0}]
[null,"DE01 SET 990",null,"COMBO",1,24,{"$f":"IFERROR($E307*SUMIF('Daily Log'!$B$18:$B$1017,$B307,'Daily Log'!$C$18:$C$1017),0)","v":6},{"$f":"IFERROR($E307*SUMIF('Daily Log'!$E$18:$E$1017,$B307,'Daily Log'!$F$18:$F$1017),0)","v":5},{"$f":"IFERROR($E307*SUMIF('Daily Log'!$H$18:$H$1017,$B307,'Daily Log'!$I$18:$I$1017),0)","v":6},{"$f":"IFERROR($E307*SUMIF('Daily Log'!$K$18:$K$1017,$B307,'Daily Log'!$L$18:$L$1017),0)","v":5},{"$f":"IFERROR($E307*SUMIF('Daily Log'!$N$18:$N$1017,$B307,'Daily Log'!$O$18:$O$1017),0)","v":2},{"$f":"IFERROR($E307*SUMIF('Daily Log'!#REF!,$B307,'Daily Log'!#REF!),0)","v":0},{"$f":"IFERROR($E307*SUMIF('Daily Log'!#REF!,$B307,'Daily Log'!#REF!),0)","v":0},{"$f":"IFERROR($E307*SUMIF('Daily Log'!#REF!,$B307,'Daily Log'!#REF!),0)","v":0},{"$f":"IFERROR($E307*SUMIF('Daily Log'!#REF!,$B307,'Daily Log'!#REF!),0)","v":0},{"$f":"IFERROR($E307*SUMIF('Daily Log'!#REF!,$B307,'Daily Log'!#REF!),0)","v":0},{"$f":"IFERROR($E307*SUMIF('Daily Log'!#REF!,$B307,'Daily Log'!#REF!),0)","v":0},{"$f":"IFERROR($E307*SUMIF('Daily Log'!#REF!,$B307,'Daily Log'!#REF!),0)","v":0},{"$f":"IFERROR($E307*SUMIF('Daily Log'!#REF!,$B307,'Daily Log'!#REF!),0)","v":0},{"$f":"IFERROR($E307*SUMIF('Daily Log'!#REF!,$B307,'Daily Log'!#REF!),0)","v":0},{"$f":"IFERROR($E307*SUMIF('Daily Log'!#REF!,$B307,'Daily Log'!#REF!),0)","v":0},{"$f":"IFERROR($E307*SUMIF('Daily Log'!#REF!,$B307,'Daily Log'!#REF!),0)","v":0},{"$f":"IFERROR($E307*SUMIF('Daily Log'!#REF!,$B307,'Daily Log'!#REF!),0)","v":0},{"$f":"IFERROR($E307*SUMIF('Daily Log'!#REF!,$B307,'Daily Log'!#REF!),0)","v":0},{"$f":"IFERROR($E307*SUMIF('Daily Log'!#REF!,$B307,'Daily Log'!#REF!),0)","v":0},{"$f":"IFERROR($E307*SUMIF('Daily Log'!#REF!,$B307,'Daily Log'!#REF!),0)","v":0},{"$f":"IFERROR($E307*SUMIF('Daily Log'!#REF!,$B307,'Daily Log'!#REF!),0)","v":0},{"$f":"IFERROR($E307*SUMIF('Daily Log'!#REF!,$B307,'Daily Log'!#REF!),0)","v":0},{"$f":"IFERROR($E307*SUMIF('Daily Log'!#REF!,$B307,'Daily Log'!#REF!),0)","v":0},{"$f":"IFERROR($E307*SUMIF('Daily Log'!#REF!,$B307,'Daily Log'!#REF!),0)","v":0},{"$f":"IFERROR($E307*SUMIF('Daily Log'!#REF!,$B307,'Daily Log'!#REF!),0)","v":0},{"$f":"IFERROR($E307*SUMIF('Daily Log'!#REF!,$B307,'Daily Log'!#REF!),0)","v":0},{"$f":"IFERROR($E307*SUMIF('Daily Log'!#REF!,$B307,'Daily Log'!#REF!),0)","v":0},{"$f":"IFERROR($E307*SUMIF('Daily Log'!#REF!,$B307,'Daily Log'!#REF!),0)","v":0},{"$f":"IFERROR($E307*SUMIF('Daily Log'!#REF!,$B307,'Daily Log'!#REF!),0)","v":0},{"$f":"IFERROR($E307*SUMIF('Daily Log'!#REF!,$B307,'Daily Log'!#REF!),0)","v":0},{"$f":"IFERROR($E307*SUMIF('Daily Log'!#REF!,$B307,'Daily Log'!#REF!),0)","v":0}]
[null,"DF01 ADD RICE",null,"SIDE ORDER",1,4,{"$f":"IFERROR($E308*SUMIF('Daily Log'!$B$18:$B$1017,$B308,'Daily Log'!$C$18:$C$1017),0)","v":1},{"$f":"IFERROR($E308*SUMIF('Daily Log'!$E$18:$E$1017,$B308,'Daily Log'!$F$18:$F$1017),0)","v":1},{"$f":"IFERROR($E308*SUMIF('Daily Log'!$H$18:$H$1017,$B308,'Daily Log'!$I$18:$I$1017),0)","v":2},{"$f":"IFERROR($E308*SUMIF('Daily Log'!$K$18:$K$1017,$B308,'Daily Log'!$L$18:$L$1017),0)","v":0},{"$f":"IFERROR($E308*SUMIF('Daily Log'!$N$18:$N$1017,$B308,'Daily Log'!$O$18:$O$1017),0)","v":0},{"$f":"IFERROR($E308*SUMIF('Daily Log'!#REF!,$B308,'Daily Log'!#REF!),0)","v":0},{"$f":"IFERROR($E308*SUMIF('Daily Log'!#REF!,$B308,'Daily Log'!#REF!),0)","v":0},{"$f":"IFERROR($E308*SUMIF('Daily Log'!#REF!,$B308,'Daily Log'!#REF!),0)","v":0},{"$f":"IFERROR($E308*SUMIF('Daily Log'!#REF!,$B308,'Daily Log'!#REF!),0)","v":0},{"$f":"IFERROR($E308*SUMIF('Daily Log'!#REF!,$B308,'Daily Log'!#REF!),0)","v":0},{"$f":"IFERROR($E308*SUMIF('Daily Log'!#REF!,$B308,'Daily Log'!#REF!),0)","v":0},{"$f":"IFERROR($E308*SUMIF('Daily Log'!#REF!,$B308,'Daily Log'!#REF!),0)","v":0},{"$f":"IFERROR($E308*SUMIF('Daily Log'!#REF!,$B308,'Daily Log'!#REF!),0)","v":0},{"$f":"IFERROR($E308*SUMIF('Daily Log'!#REF!,$B308,'Daily Log'!#REF!),0)","v":0},{"$f":"IFERROR($E308*SUMIF('Daily Log'!#REF!,$B308,'Daily Log'!#REF!),0)","v":0},{"$f":"IFERROR($E308*SUMIF('Daily Log'!#REF!,$B308,'Daily Log'!#REF!),0)","v":0},{"$f":"IFERROR($E308*SUMIF('Daily Log'!#REF!,$B308,'Daily Log'!#REF!),0)","v":0},{"$f":"IFERROR($E308*SUMIF('Daily Log'!#REF!,$B308,'Daily Log'!#REF!),0)","v":0},{"$f":"IFERROR($E308*SUMIF('Daily Log'!#REF!,$B308,'Daily Log'!#REF!),0)","v":0},{"$f":"IFERROR($E308*SUMIF('Daily Log'!#REF!,$B308,'Daily Log'!#REF!),0)","v":0},{"$f":"IFERROR($E308*SUMIF('Daily Log'!#REF!,$B308,'Daily Log'!#REF!),0)","v":0},{"$f":"IFERROR($E308*SUMIF('Daily Log'!#REF!,$B308,'Daily Log'!#REF!),0)","v":0},{"$f":"IFERROR($E308*SUMIF('Daily Log'!#REF!,$B308,'Daily Log'!#REF!),0)","v":0},{"$f":"IFERROR($E308*SUMIF('Daily Log'!#REF!,$B308,'Daily Log'!#REF!),0)","v":0},{"$f":"IFERROR($E308*SUMIF('Daily Log'!#REF!,$B308,'Daily Log'!#REF!),0)","v":0},{"$f":"IFERROR($E308*SUMIF('Daily Log'!#REF!,$B308,'Daily Log'!#REF!),0)","v":0},{"$f":"IFERROR($E308*SUMIF('Daily Log'!#REF!,$B308,'Daily Log'!#REF!),0)","v":0},{"$f":"IFERROR($E308*SUMIF('Daily Log'!#REF!,$B308,'Daily Log'!#REF!),0)","v":0},{"$f":"IFERROR($E308*SUMIF('Daily Log'!#REF!,$B308,'Daily Log'!#REF!),0)","v":0},{"$f":"IFERROR($E308*SUMIF('Daily Log'!#REF!,$B308,'Daily Log'!#REF!),0)","v":0},{"$f":"IFERROR($E308*SUMIF('Daily Log'!#REF!,$B308,'Daily Log'!#REF!),0)","v":0}]
[null,"DF02 ADD F.EGG",null,"SIDE ORDER",1,1,{"$f":"IFERROR($E309*SUMIF('Daily Log'!$B$18:$B$1017,$B309,'Daily Log'!$C$18:$C$1017),0)","v":0},{"$f":"IFERROR($E309*SUMIF('Daily Log'!$E$18:$E$1017,$B309,'Daily Log'!$F$18:$F$1017),0)","v":1},{"$f":"IFERROR($E309*SUMIF('Daily Log'!$H$18:$H$1017,$B309,'Daily Log'!$I$18:$I$1017),0)","v":0},{"$f":"IFERROR($E309*SUMIF('Daily Log'!$K$18:$K$1017,$B309,'Daily Log'!$L$18:$L$1017),0)","v":0},{"$f":"IFERROR($E309*SUMIF('Daily Log'!$N$18:$N$1017,$B309,'Daily Log'!$O$18:$O$1017),0)","v":0},{"$f":"IFERROR($E309*SUMIF('Daily Log'!#REF!,$B309,'Daily Log'!#REF!),0)","v":0},{"$f":"IFERROR($E309*SUMIF('Daily Log'!#REF!,$B309,'Daily Log'!#REF!),0)","v":0},{"$f":"IFERROR($E309*SUMIF('Daily Log'!#REF!,$B309,'Daily Log'!#REF!),0)","v":0},{"$f":"IFERROR($E309*SUMIF('Daily Log'!#REF!,$B309,'Daily Log'!#REF!),0)","v":0},{"$f":"IFERROR($E309*SUMIF('Daily Log'!#REF!,$B309,'Daily Log'!#REF!),0)","v":0},{"$f":"IFERROR($E309*SUMIF('Daily Log'!#REF!,$B309,'Daily Log'!#REF!),0)","v":0},{"$f":"IFERROR($E309*SUMIF('Daily Log'!#REF!,$B309,'Daily Log'!#REF!),0)","v":0},{"$f":"IFERROR($E309*SUMIF('Daily Log'!#REF!,$B309,'Daily Log'!#REF!),0)","v":0},{"$f":"IFERROR($E309*SUMIF('Daily Log'!#REF!,$B309,'Daily Log'!#REF!),0)","v":0},{"$f":"IFERROR($E309*SUMIF('Daily Log'!#REF!,$B309,'Daily Log'!#REF!),0)","v":0},{"$f":"IFERROR($E309*SUMIF('Daily Log'!#REF!,$B309,'Daily Log'!#REF!),0)","v":0},{"$f":"IFERROR($E309*SUMIF('Daily Log'!#REF!,$B309,'Daily Log'!#REF!),0)","v":0},{"$f":"IFERROR($E309*SUMIF('Daily Log'!#REF!,$B309,'Daily Log'!#REF!),0)","v":0},{"$f":"IFERROR($E309*SUMIF('Daily Log'!#REF!,$B309,'Daily Log'!#REF!),0)","v":0},{"$f":"IFERROR($E309*SUMIF('Daily Log'!#REF!,$B309,'Daily Log'!#REF!),0)","v":0},{"$f":"IFERROR($E309*SUMIF('Daily Log'!#REF!,$B309,'Daily Log'!#REF!),0)","v":0},{"$f":"IFERROR($E309*SUMIF('Daily Log'!#REF!,$B309,'Daily Log'!#REF!),0)","v":0},{"$f":"IFERROR($E309*SUMIF('Daily Log'!#REF!,$B309,'Daily Log'!#REF!),0)","v":0},{"$f":"IFERROR($E309*SUMIF('Daily Log'!#REF!,$B309,'Daily Log'!#REF!),0)","v":0},{"$f":"IFERROR($E309*SUMIF('Daily Log'!#REF!,$B309,'Daily Log'!#REF!),0)","v":0},{"$f":"IFERROR($E309*SUMIF('Daily Log'!#REF!,$B309,'Daily Log'!#REF!),0)","v":0},{"$f":"IFERROR($E309*SUMIF('Daily Log'!#REF!,$B309,'Daily Log'!#REF!),0)","v":0},{"$f":"IFERROR($E309*SUMIF('Daily Log'!#REF!,$B309,'Daily Log'!#REF!),0)","v":0},{"$f":"IFERROR($E309*SUMIF('Daily Log'!#REF!,$B309,'Daily Log'!#REF!),0)","v":0},{"$f":"IFERROR($E309*SUMIF('Daily Log'!#REF!,$B309,'Daily Log'!#REF!),0)","v":0},{"$f":"IFERROR($E309*SUMIF('Daily Log'!#REF!,$B309,'Daily Log'!#REF!),0)","v":0}]
[null,"DF03 ADD SAUCE 1000",null,"SAUCE",1,3,{"$f":"IFERROR($E310*SUMIF('Daily Log'!$B$18:$B$1017,$B310,'Daily Log'!$C$18:$C$1017),0)","v":1},{"$f":"IFERROR($E310*SUMIF('Daily Log'!$E$18:$E$1017,$B310,'Daily Log'!$F$18:$F$1017),0)","v":0},{"$f":"IFERROR($E310*SUMIF('Daily Log'!$H$18:$H$1017,$B310,'Daily Log'!$I$18:$I$1017),0)","v":0},{"$f":"IFERROR($E310*SUMIF('Daily Log'!$K$18:$K$1017,$B310,'Daily Log'!$L$18:$L$1017),0)","v":2},{"$f":"IFERROR($E310*SUMIF('Daily Log'!$N$18:$N$1017,$B310,'Daily Log'!$O$18:$O$1017),0)","v":0},{"$f":"IFERROR($E310*SUMIF('Daily Log'!#REF!,$B310,'Daily Log'!#REF!),0)","v":0},{"$f":"IFERROR($E310*SUMIF('Daily Log'!#REF!,$B310,'Daily Log'!#REF!),0)","v":0},{"$f":"IFERROR($E310*SUMIF('Daily Log'!#REF!,$B310,'Daily Log'!#REF!),0)","v":0},{"$f":"IFERROR($E310*SUMIF('Daily Log'!#REF!,$B310,'Daily Log'!#REF!),0)","v":0},{"$f":"IFERROR($E310*SUMIF('Daily Log'!#REF!,$B310,'Daily Log'!#REF!),0)","v":0},{"$f":"IFERROR($E310*SUMIF('Daily Log'!#REF!,$B310,'Daily Log'!#REF!),0)","v":0},{"$f":"IFERROR($E310*SUMIF('Daily Log'!#REF!,$B310,'Daily Log'!#REF!),0)","v":0},{"$f":"IFERROR($E310*SUMIF('Daily Log'!#REF!,$B310,'Daily Log'!#REF!),0)","v":0},{"$f":"IFERROR($E310*SUMIF('Daily Log'!#REF!,$B310,'Daily Log'!#REF!),0)","v":0},{"$f":"IFERROR($E310*SUMIF('Daily Log'!#REF!,$B310,'Daily Log'!#REF!),0)","v":0},{"$f":"IFERROR($E310*SUMIF('Daily Log'!#REF!,$B310,'Daily Log'!#REF!),0)","v":0},{"$f":"IFERROR($E310*SUMIF('Daily Log'!#REF!,$B310,'Daily Log'!#REF!),0)","v":0},{"$f":"IFERROR($E310*SUMIF('Daily Log'!#REF!,$B310,'Daily Log'!#REF!),0)","v":0},{"$f":"IFERROR($E310*SUMIF('Daily Log'!#REF!,$B310,'Daily Log'!#REF!),0)","v":0},{"$f":"IFERROR($E310*SUMIF('Daily Log'!#REF!,$B310,'Daily Log'!#REF!),0)","v":0},{"$f":"IFERROR($E310*SUMIF('Daily Log'!#REF!,$B310,'Daily Log'!#REF!),0)","v":0},{"$f":"IFERROR($E310*SUMIF('Daily Log'!#REF!,$B310,'Daily Log'!#REF!),0)","v":0},{"$f":"IFERROR($E310*SUMIF('Daily Log'!#REF!,$B310,'Daily Log'!#REF!),0)","v":0},{"$f":"IFERROR($E310*SUMIF('Daily Log'!#REF!,$B310,'Daily Log'!#REF!),0)","v":0},{"$f":"IFERROR($E310*SUMIF('Daily Log'!#REF!,$B310,'Daily Log'!#REF!),0)","v":0},{"$f":"IFERROR($E310*SUMIF('Daily Log'!#REF!,$B310,'Daily Log'!#REF!),0)","v":0},{"$f":"IFERROR($E310*SUMIF('Daily Log'!#REF!,$B310,'Daily Log'!#REF!),0)","v":0},{"$f":"IFERROR($E310*SUMIF('Daily Log'!#REF!,$B310,'Daily Log'!#REF!),0)","v":0},{"$f":"IFERROR($E310*SUMIF('Daily Log'!#REF!,$B310,'Daily Log'!#REF!),0)","v":0},{"$f":"IFERROR($E310*SUMIF('Daily Log'!#REF!,$B310,'Daily Log'!#REF!),0)","v":0},{"$f":"IFERROR($E310*SUMIF('Daily Log'!#REF!,$B310,'Daily Log'!#REF!),0)","v":0}]
[null,"DF04 ADD SAUCE BOLO",null,"SAUCE",1,0,{"$f":"IFERROR($E311*SUMIF('Daily Log'!$B$18:$B$1017,$B311,'Daily Log'!$C$18:$C$1017),0)","v":0},{"$f":"IFERROR($E311*SUMIF('Daily Log'!$E$18:$E$1017,$B311,'Daily Log'!$F$18:$F$1017),0)","v":0},{"$f":"IFERROR($E311*SUMIF('Daily Log'!$H$18:$H$1017,$B311,'Daily Log'!$I$18:$I$1017),0)","v":0},{"$f":"IFERROR($E311*SUMIF('Daily Log'!$K$18:$K$1017,$B311,'Daily Log'!$L$18:$L$1017),0)","v":0},{"$f":"IFERROR($E311*SUMIF('Daily Log'!$N$18:$N$1017,$B311,'Daily Log'!$O$18:$O$1017),0)","v":0},{"$f":"IFERROR($E311*SUMIF('Daily Log'!#REF!,$B311,'Daily Log'!#REF!),0)","v":0},{"$f":"IFERROR($E311*SUMIF('Daily Log'!#REF!,$B311,'Daily Log'!#REF!),0)","v":0},{"$f":"IFERROR($E311*SUMIF('Daily Log'!#REF!,$B311,'Daily Log'!#REF!),0)","v":0},{"$f":"IFERROR($E311*SUMIF('Daily Log'!#REF!,$B311,'Daily Log'!#REF!),0)","v":0},{"$f":"IFERROR($E311*SUMIF('Daily Log'!#REF!,$B311,'Daily Log'!#REF!),0)","v":0},{"$f":"IFERROR($E311*SUMIF('Daily Log'!#REF!,$B311,'Daily Log'!#REF!),0)","v":0},{"$f":"IFERROR($E311*SUMIF('Daily Log'!#REF!,$B311,'Daily Log'!#REF!),0)","v":0},{"$f":"IFERROR($E311*SUMIF('Daily Log'!#REF!,$B311,'Daily Log'!#REF!),0)","v":0},{"$f":"IFERROR($E311*SUMIF('Daily Log'!#REF!,$B311,'Daily Log'!#REF!),0)","v":0},{"$f":"IFERROR($E311*SUMIF('Daily Log'!#REF!,$B311,'Daily Log'!#REF!),0)","v":0},{"$f":"IFERROR($E311*SUMIF('Daily Log'!#REF!,$B311,'Daily Log'!#REF!),0)","v":0},{"$f":"IFERROR($E311*SUMIF('Daily Log'!#REF!,$B311,'Daily Log'!#REF!),0)","v":0},{"$f":"IFERROR($E311*SUMIF('Daily Log'!#REF!,$B311,'Daily Log'!#REF!),0)","v":0},{"$f":"IFERROR($E311*SUMIF('Daily Log'!#REF!,$B311,'Daily Log'!#REF!),0)","v":0},{"$f":"IFERROR($E311*SUMIF('Daily Log'!#REF!,$B311,'Daily Log'!#REF!),0)","v":0},{"$f":"IFERROR($E311*SUMIF('Daily Log'!#REF!,$B311,'Daily Log'!#REF!),0)","v":0},{"$f":"IFERROR($E311*SUMIF('Daily Log'!#REF!,$B311,'Daily Log'!#REF!),0)","v":0},{"$f":"IFERROR($E311*SUMIF('Daily Log'!#REF!,$B311,'Daily Log'!#REF!),0)","v":0},{"$f":"IFERROR($E311*SUMIF('Daily Log'!#REF!,$B311,'Daily Log'!#REF!),0)","v":0},{"$f":"IFERROR($E311*SUMIF('Daily Log'!#REF!,$B311,'Daily Log'!#REF!),0)","v":0},{"$f":"IFERROR($E311*SUMIF('Daily Log'!#REF!,$B311,'Daily Log'!#REF!),0)","v":0},{"$f":"IFERROR($E311*SUMIF('Daily Log'!#REF!,$B311,'Daily Log'!#REF!),0)","v":0},{"$f":"IFERROR($E311*SUMIF('Daily Log'!#REF!,$B311,'Daily Log'!#REF!),0)","v":0},{"$f":"IFERROR($E311*SUMIF('Daily Log'!#REF!,$B311,'Daily Log'!#REF!),0)","v":0},{"$f":"IFERROR($E311*SUMIF('Daily Log'!#REF!,$B311,'Daily Log'!#REF!),0)","v":0},{"$f":"IFERROR($E311*SUMIF('Daily Log'!#REF!,$B311,'Daily Log'!#REF!),0)","v":0}]
[null,"DF05 ADD SAUCE BP",null,"SAUCE",1,2,{"$f":"IFERROR($E312*SUMIF('Daily Log'!$B$18:$B$1017,$B312,'Daily Log'!$C$18:$C$1017),0)","v":1},{"$f":"IFERROR($E312*SUMIF('Daily Log'!$E$18:$E$1017,$B312,'Daily Log'!$F$18:$F$1017),0)","v":0},{"$f":"IFERROR($E312*SUMIF('Daily Log'!$H$18:$H$1017,$B312,'Daily Log'!$I$18:$I$1017),0)","v":1},{"$f":"IFERROR($E312*SUMIF('Daily Log'!$K$18:$K$1017,$B312,'Daily Log'!$L$18:$L$1017),0)","v":0},{"$f":"IFERROR($E312*SUMIF('Daily Log'!$N$18:$N$1017,$B312,'Daily Log'!$O$18:$O$1017),0)","v":0},{"$f":"IFERROR($E312*SUMIF('Daily Log'!#REF!,$B312,'Daily Log'!#REF!),0)","v":0},{"$f":"IFERROR($E312*SUMIF('Daily Log'!#REF!,$B312,'Daily Log'!#REF!),0)","v":0},{"$f":"IFERROR($E312*SUMIF('Daily Log'!#REF!,$B312,'Daily Log'!#REF!),0)","v":0},{"$f":"IFERROR($E312*SUMIF('Daily Log'!#REF!,$B312,'Daily Log'!#REF!),0)","v":0},{"$f":"IFERROR($E312*SUMIF('Daily Log'!#REF!,$B312,'Daily Log'!#REF!),0)","v":0},{"$f":"IFERROR($E312*SUMIF('Daily Log'!#REF!,$B312,'Daily Log'!#REF!),0)","v":0},{"$f":"IFERROR($E312*SUMIF('Daily Log'!#REF!,$B312,'Daily Log'!#REF!),0)","v":0},{"$f":"IFERROR($E312*SUMIF('Daily Log'!#REF!,$B312,'Daily Log'!#REF!),0)","v":0},{"$f":"IFERROR($E312*SUMIF('Daily Log'!#REF!,$B312,'Daily Log'!#REF!),0)","v":0},{"$f":"IFERROR($E312*SUMIF('Daily Log'!#REF!,$B312,'Daily Log'!#REF!),0)","v":0},{"$f":"IFERROR($E312*SUMIF('Daily Log'!#REF!,$B312,'Daily Log'!#REF!),0)","v":0},{"$f":"IFERROR($E312*SUMIF('Daily Log'!#REF!,$B312,'Daily Log'!#REF!),0)","v":0},{"$f":"IFERROR($E312*SUMIF('Daily Log'!#REF!,$B312,'Daily Log'!#REF!),0)","v":0},{"$f":"IFERROR($E312*SUMIF('Daily Log'!#REF!,$B312,'Daily Log'!#REF!),0)","v":0},{"$f":"IFERROR($E312*SUMIF('Daily Log'!#REF!,$B312,'Daily Log'!#REF!),0)","v":0},{"$f":"IFERROR($E312*SUMIF('Daily Log'!#REF!,$B312,'Daily Log'!#REF!),0)","v":0},{"$f":"IFERROR($E312*SUMIF('Daily Log'!#REF!,$B312,'Daily Log'!#REF!),0)","v":0},{"$f":"IFERROR($E312*SUMIF('Daily Log'!#REF!,$B312,'Daily Log'!#REF!),0)","v":0},{"$f":"IFERROR($E312*SUMIF('Daily Log'!#REF!,$B312,'Daily Log'!#REF!),0)","v":0},{"$f":"IFERROR($E312*SUMIF('Daily Log'!#REF!,$B312,'Daily Log'!#REF!),0)","v":0},{"$f":"IFERROR($E312*SUMIF('Daily Log'!#REF!,$B312,'Daily Log'!#REF!),0)","v":0},{"$f":"IFERROR($E312*SUMIF('Daily Log'!#REF!,$B312,'Daily Log'!#REF!),0)","v":0},{"$f":"IFERROR($E312*SUMIF('Daily Log'!#REF!,$B312,'Daily Log'!#REF!),0)","v":0},{"$f":"IFERROR($E312*SUMIF('Daily Log'!#REF!,$B312,'Daily Log'!#REF!),0)","v":0},{"$f":"IFERROR($E312*SUMIF('Daily Log'!#REF!,$B312,'Daily Log'!#REF!),0)","v":0},{"$f":"IFERROR($E312*SUMIF('Daily Log'!#REF!,$B312,'Daily Log'!#REF!),0)","v":0}]
[null,"DF06 ADD SAUCE BUTTER",null,"SAUCE",1,1,{"$f":"IFERROR($E313*SUMIF('Daily Log'!$B$18:$B$1017,$B313,'Daily Log'!$C$18:$C$1017),0)","v":1},{"$f":"IFERROR($E313*SUMIF('Daily Log'!$E$18:$E$1017,$B313,'Daily Log'!$F$18:$F$1017),0)","v":0},{"$f":"IFERROR($E313*SUMIF('Daily Log'!$H$18:$H$1017,$B313,'Daily Log'!$I$18:$I$1017),0)","v":0},{"$f":"IFERROR($E313*SUMIF('Daily Log'!$K$18:$K$1017,$B313,'Daily Log'!$L$18:$L$1017),0)","v":0},{"$f":"IFERROR($E313*SUMIF('Daily Log'!$N$18:$N$1017,$B313,'Daily Log'!$O$18:$O$1017),0)","v":0},{"$f":"IFERROR($E313*SUMIF('Daily Log'!#REF!,$B313,'Daily Log'!#REF!),0)","v":0},{"$f":"IFERROR($E313*SUMIF('Daily Log'!#REF!,$B313,'Daily Log'!#REF!),0)","v":0},{"$f":"IFERROR($E313*SUMIF('Daily Log'!#REF!,$B313,'Daily Log'!#REF!),0)","v":0},{"$f":"IFERROR($E313*SUMIF('Daily Log'!#REF!,$B313,'Daily Log'!#REF!),0)","v":0},{"$f":"IFERROR($E313*SUMIF('Daily Log'!#REF!,$B313,'Daily Log'!#REF!),0)","v":0},{"$f":"IFERROR($E313*SUMIF('Daily Log'!#REF!,$B313,'Daily Log'!#REF!),0)","v":0},{"$f":"IFERROR($E313*SUMIF('Daily Log'!#REF!,$B313,'Daily Log'!#REF!),0)","v":0},{"$f":"IFERROR($E313*SUMIF('Daily Log'!#REF!,$B313,'Daily Log'!#REF!),0)","v":0},{"$f":"IFERROR($E313*SUMIF('Daily Log'!#REF!,$B313,'Daily Log'!#REF!),0)","v":0},{"$f":"IFERROR($E313*SUMIF('Daily Log'!#REF!,$B313,'Daily Log'!#REF!),0)","v":0},{"$f":"IFERROR($E313*SUMIF('Daily Log'!#REF!,$B313,'Daily Log'!#REF!),0)","v":0},{"$f":"IFERROR($E313*SUMIF('Daily Log'!#REF!,$B313,'Daily Log'!#REF!),0)","v":0},{"$f":"IFERROR($E313*SUMIF('Daily Log'!#REF!,$B313,'Daily Log'!#REF!),0)","v":0},{"$f":"IFERROR($E313*SUMIF('Daily Log'!#REF!,$B313,'Daily Log'!#REF!),0)","v":0},{"$f":"IFERROR($E313*SUMIF('Daily Log'!#REF!,$B313,'Daily Log'!#REF!),0)","v":0},{"$f":"IFERROR($E313*SUMIF('Daily Log'!#REF!,$B313,'Daily Log'!#REF!),0)","v":0},{"$f":"IFERROR($E313*SUMIF('Daily Log'!#REF!,$B313,'Daily Log'!#REF!),0)","v":0},{"$f":"IFERROR($E313*SUMIF('Daily Log'!#REF!,$B313,'Daily Log'!#REF!),0)","v":0},{"$f":"IFERROR($E313*SUMIF('Daily Log'!#REF!,$B313,'Daily Log'!#REF!),0)","v":0},{"$f":"IFERROR($E313*SUMIF('Daily Log'!#REF!,$B313,'Daily Log'!#REF!),0)","v":0},{"$f":"IFERROR($E313*SUMIF('Daily Log'!#REF!,$B313,'Daily Log'!#REF!),0)","v":0},{"$f":"IFERROR($E313*SUMIF('Daily Log'!#REF!,$B313,'Daily Log'!#REF!),0)","v":0},{"$f":"IFERROR($E313*SUMIF('Daily Log'!#REF!,$B313,'Daily Log'!#REF!),0)","v":0},{"$f":"IFERROR($E313*SUMIF('Daily Log'!#REF!,$B313,'Daily Log'!#REF!),0)","v":0},{"$f":"IFERROR($E313*SUMIF('Daily Log'!#REF!,$B313,'Daily Log'!#REF!),0)","v":0},{"$f":"IFERROR($E313*SUMIF('Daily Log'!#REF!,$B313,'Daily Log'!#REF!),0)","v":0}]
[null,"DF07 ADD SAUCE C.PADI",null,"SAUCE",1,14,{"$f":"IFERROR($E314*SUMIF('Daily Log'!$B$18:$B$1017,$B314,'Daily Log'!$C$18:$C$1017),0)","v":1},{"$f":"IFERROR($E314*SUMIF('Daily Log'!$E$18:$E$1017,$B314,'Daily Log'!$F$18:$F$1017),0)","v":7},{"$f":"IFERROR($E314*SUMIF('Daily Log'!$H$18:$H$1017,$B314,'Daily Log'!$I$18:$I$1017),0)","v":2},{"$f":"IFERROR($E314*SUMIF('Daily Log'!$K$18:$K$1017,$B314,'Daily Log'!$L$18:$L$1017),0)","v":4},{"$f":"IFERROR($E314*SUMIF('Daily Log'!$N$18:$N$1017,$B314,'Daily Log'!$O$18:$O$1017),0)","v":0},{"$f":"IFERROR($E314*SUMIF('Daily Log'!#REF!,$B314,'Daily Log'!#REF!),0)","v":0},{"$f":"IFERROR($E314*SUMIF('Daily Log'!#REF!,$B314,'Daily Log'!#REF!),0)","v":0},{"$f":"IFERROR($E314*SUMIF('Daily Log'!#REF!,$B314,'Daily Log'!#REF!),0)","v":0},{"$f":"IFERROR($E314*SUMIF('Daily Log'!#REF!,$B314,'Daily Log'!#REF!),0)","v":0},{"$f":"IFERROR($E314*SUMIF('Daily Log'!#REF!,$B314,'Daily Log'!#REF!),0)","v":0},{"$f":"IFERROR($E314*SUMIF('Daily Log'!#REF!,$B314,'Daily Log'!#REF!),0)","v":0},{"$f":"IFERROR($E314*SUMIF('Daily Log'!#REF!,$B314,'Daily Log'!#REF!),0)","v":0},{"$f":"IFERROR($E314*SUMIF('Daily Log'!#REF!,$B314,'Daily Log'!#REF!),0)","v":0},{"$f":"IFERROR($E314*SUMIF('Daily Log'!#REF!,$B314,'Daily Log'!#REF!),0)","v":0},{"$f":"IFERROR($E314*SUMIF('Daily Log'!#REF!,$B314,'Daily Log'!#REF!),0)","v":0},{"$f":"IFERROR($E314*SUMIF('Daily Log'!#REF!,$B314,'Daily Log'!#REF!),0)","v":0},{"$f":"IFERROR($E314*SUMIF('Daily Log'!#REF!,$B314,'Daily Log'!#REF!),0)","v":0},{"$f":"IFERROR($E314*SUMIF('Daily Log'!#REF!,$B314,'Daily Log'!#REF!),0)","v":0},{"$f":"IFERROR($E314*SUMIF('Daily Log'!#REF!,$B314,'Daily Log'!#REF!),0)","v":0},{"$f":"IFERROR($E314*SUMIF('Daily Log'!#REF!,$B314,'Daily Log'!#REF!),0)","v":0},{"$f":"IFERROR($E314*SUMIF('Daily Log'!#REF!,$B314,'Daily Log'!#REF!),0)","v":0},{"$f":"IFERROR($E314*SUMIF('Daily Log'!#REF!,$B314,'Daily Log'!#REF!),0)","v":0},{"$f":"IFERROR($E314*SUMIF('Daily Log'!#REF!,$B314,'Daily Log'!#REF!),0)","v":0},{"$f":"IFERROR($E314*SUMIF('Daily Log'!#REF!,$B314,'Daily Log'!#REF!),0)","v":0},{"$f":"IFERROR($E314*SUMIF('Daily Log'!#REF!,$B314,'Daily Log'!#REF!),0)","v":0},{"$f":"IFERROR($E314*SUMIF('Daily Log'!#REF!,$B314,'Daily Log'!#REF!),0)","v":0},{"$f":"IFERROR($E314*SUMIF('Daily Log'!#REF!,$B314,'Daily Log'!#REF!),0)","v":0},{"$f":"IFERROR($E314*SUMIF('Daily Log'!#REF!,$B314,'Daily Log'!#REF!),0)","v":0},{"$f":"IFERROR($E314*SUMIF('Daily Log'!#REF!,$B314,'Daily Log'!#REF!),0)","v":0},{"$f":"IFERROR($E314*SUMIF('Daily Log'!#REF!,$B314,'Daily Log'!#REF!),0)","v":0},{"$f":"IFERROR($E314*SUMIF('Daily Log'!#REF!,$B314,'Daily Log'!#REF!),0)","v":0}]
[null,"DF08 ADD SAUCE GS",null,"SAUCE",1,0,{"$f":"IFERROR($E315*SUMIF('Daily Log'!$B$18:$B$1017,$B315,'Daily Log'!$C$18:$C$1017),0)","v":0},{"$f":"IFERROR($E315*SUMIF('Daily Log'!$E$18:$E$1017,$B315,'Daily Log'!$F$18:$F$1017),0)","v":0},{"$f":"IFERROR($E315*SUMIF('Daily Log'!$H$18:$H$1017,$B315,'Daily Log'!$I$18:$I$1017),0)","v":0},{"$f":"IFERROR($E315*SUMIF('Daily Log'!$K$18:$K$1017,$B315,'Daily Log'!$L$18:$L$1017),0)","v":0},{"$f":"IFERROR($E315*SUMIF('Daily Log'!$N$18:$N$1017,$B315,'Daily Log'!$O$18:$O$1017),0)","v":0},{"$f":"IFERROR($E315*SUMIF('Daily Log'!#REF!,$B315,'Daily Log'!#REF!),0)","v":0},{"$f":"IFERROR($E315*SUMIF('Daily Log'!#REF!,$B315,'Daily Log'!#REF!),0)","v":0},{"$f":"IFERROR($E315*SUMIF('Daily Log'!#REF!,$B315,'Daily Log'!#REF!),0)","v":0},{"$f":"IFERROR($E315*SUMIF('Daily Log'!#REF!,$B315,'Daily Log'!#REF!),0)","v":0},{"$f":"IFERROR($E315*SUMIF('Daily Log'!#REF!,$B315,'Daily Log'!#REF!),0)","v":0},{"$f":"IFERROR($E315*SUMIF('Daily Log'!#REF!,$B315,'Daily Log'!#REF!),0)","v":0},{"$f":"IFERROR($E315*SUMIF('Daily Log'!#REF!,$B315,'Daily Log'!#REF!),0)","v":0},{"$f":"IFERROR($E315*SUMIF('Daily Log'!#REF!,$B315,'Daily Log'!#REF!),0)","v":0},{"$f":"IFERROR($E315*SUMIF('Daily Log'!#REF!,$B315,'Daily Log'!#REF!),0)","v":0},{"$f":"IFERROR($E315*SUMIF('Daily Log'!#REF!,$B315,'Daily Log'!#REF!),0)","v":0},{"$f":"IFERROR($E315*SUMIF('Daily Log'!#REF!,$B315,'Daily Log'!#REF!),0)","v":0},{"$f":"IFERROR($E315*SUMIF('Daily Log'!#REF!,$B315,'Daily Log'!#REF!),0)","v":0},{"$f":"IFERROR($E315*SUMIF('Daily Log'!#REF!,$B315,'Daily Log'!#REF!),0)","v":0},{"$f":"IFERROR($E315*SUMIF('Daily Log'!#REF!,$B315,'Daily Log'!#REF!),0)","v":0},{"$f":"IFERROR($E315*SUMIF('Daily Log'!#REF!,$B315,'Daily Log'!#REF!),0)","v":0},{"$f":"IFERROR($E315*SUMIF('Daily Log'!#REF!,$B315,'Daily Log'!#REF!),0)","v":0},{"$f":"IFERROR($E315*SUMIF('Daily Log'!#REF!,$B315,'Daily Log'!#REF!),0)","v":0},{"$f":"IFERROR($E315*SUMIF('Daily Log'!#REF!,$B315,'Daily Log'!#REF!),0)","v":0},{"$f":"IFERROR($E315*SUMIF('Daily Log'!#REF!,$B315,'Daily Log'!#REF!),0)","v":0},{"$f":"IFERROR($E315*SUMIF('Daily Log'!#REF!,$B315,'Daily Log'!#REF!),0)","v":0},{"$f":"IFERROR($E315*SUMIF('Daily Log'!#REF!,$B315,'Daily Log'!#REF!),0)","v":0},{"$f":"IFERROR($E315*SUMIF('Daily Log'!#REF!,$B315,'Daily Log'!#REF!),0)","v":0},{"$f":"IFERROR($E315*SUMIF('Daily Log'!#REF!,$B315,'Daily Log'!#REF!),0)","v":0},{"$f":"IFERROR($E315*SUMIF('Daily Log'!#REF!,$B315,'Daily Log'!#REF!),0)","v":0},{"$f":"IFERROR($E315*SUMIF('Daily Log'!#REF!,$B315,'Daily Log'!#REF!),0)","v":0},{"$f":"IFERROR($E315*SUMIF('Daily Log'!#REF!,$B315,'Daily Log'!#REF!),0)","v":0}]
[null,"DF09 ADD SAUCE MAYO",null,"SAUCE",1,12,{"$f":"IFERROR($E316*SUMIF('Daily Log'!$B$18:$B$1017,$B316,'Daily Log'!$C$18:$C$1017),0)","v":3},{"$f":"IFERROR($E316*SUMIF('Daily Log'!$E$18:$E$1017,$B316,'Daily Log'!$F$18:$F$1017),0)","v":2},{"$f":"IFERROR($E316*SUMIF('Daily Log'!$H$18:$H$1017,$B316,'Daily Log'!$I$18:$I$1017),0)","v":2},{"$f":"IFERROR($E316*SUMIF('Daily Log'!$K$18:$K$1017,$B316,'Daily Log'!$L$18:$L$1017),0)","v":4},{"$f":"IFERROR($E316*SUMIF('Daily Log'!$N$18:$N$1017,$B316,'Daily Log'!$O$18:$O$1017),0)","v":1},{"$f":"IFERROR($E316*SUMIF('Daily Log'!#REF!,$B316,'Daily Log'!#REF!),0)","v":0},{"$f":"IFERROR($E316*SUMIF('Daily Log'!#REF!,$B316,'Daily Log'!#REF!),0)","v":0},{"$f":"IFERROR($E316*SUMIF('Daily Log'!#REF!,$B316,'Daily Log'!#REF!),0)","v":0},{"$f":"IFERROR($E316*SUMIF('Daily Log'!#REF!,$B316,'Daily Log'!#REF!),0)","v":0},{"$f":"IFERROR($E316*SUMIF('Daily Log'!#REF!,$B316,'Daily Log'!#REF!),0)","v":0},{"$f":"IFERROR($E316*SUMIF('Daily Log'!#REF!,$B316,'Daily Log'!#REF!),0)","v":0},{"$f":"IFERROR($E316*SUMIF('Daily Log'!#REF!,$B316,'Daily Log'!#REF!),0)","v":0},{"$f":"IFERROR($E316*SUMIF('Daily Log'!#REF!,$B316,'Daily Log'!#REF!),0)","v":0},{"$f":"IFERROR($E316*SUMIF('Daily Log'!#REF!,$B316,'Daily Log'!#REF!),0)","v":0},{"$f":"IFERROR($E316*SUMIF('Daily Log'!#REF!,$B316,'Daily Log'!#REF!),0)","v":0},{"$f":"IFERROR($E316*SUMIF('Daily Log'!#REF!,$B316,'Daily Log'!#REF!),0)","v":0},{"$f":"IFERROR($E316*SUMIF('Daily Log'!#REF!,$B316,'Daily Log'!#REF!),0)","v":0},{"$f":"IFERROR($E316*SUMIF('Daily Log'!#REF!,$B316,'Daily Log'!#REF!),0)","v":0},{"$f":"IFERROR($E316*SUMIF('Daily Log'!#REF!,$B316,'Daily Log'!#REF!),0)","v":0},{"$f":"IFERROR($E316*SUMIF('Daily Log'!#REF!,$B316,'Daily Log'!#REF!),0)","v":0},{"$f":"IFERROR($E316*SUMIF('Daily Log'!#REF!,$B316,'Daily Log'!#REF!),0)","v":0},{"$f":"IFERROR($E316*SUMIF('Daily Log'!#REF!,$B316,'Daily Log'!#REF!),0)","v":0},{"$f":"IFERROR($E316*SUMIF('Daily Log'!#REF!,$B316,'Daily Log'!#REF!),0)","v":0},{"$f":"IFERROR($E316*SUMIF('Daily Log'!#REF!,$B316,'Daily Log'!#REF!),0)","v":0},{"$f":"IFERROR($E316*SUMIF('Daily Log'!#REF!,$B316,'Daily Log'!#REF!),0)","v":0},{"$f":"IFERROR($E316*SUMIF('Daily Log'!#REF!,$B316,'Daily Log'!#REF!),0)","v":0},{"$f":"IFERROR($E316*SUMIF('Daily Log'!#REF!,$B316,'Daily Log'!#REF!),0)","v":0},{"$f":"IFERROR($E316*SUMIF('Daily Log'!#REF!,$B316,'Daily Log'!#REF!),0)","v":0},{"$f":"IFERROR($E316*SUMIF('Daily Log'!#REF!,$B316,'Daily Log'!#REF!),0)","v":0},{"$f":"IFERROR($E316*SUMIF('Daily Log'!#REF!,$B316,'Daily Log'!#REF!),0)","v":0},{"$f":"IFERROR($E316*SUMIF('Daily Log'!#REF!,$B316,'Daily Log'!#REF!),0)","v":0}]
[null,"DF10 ADD SAUCE MMITE",null,"SAUCE",1,0,{"$f":"IFERROR($E317*SUMIF('Daily Log'!$B$18:$B$1017,$B317,'Daily Log'!$C$18:$C$1017),0)","v":0},{"$f":"IFERROR($E317*SUMIF('Daily Log'!$E$18:$E$1017,$B317,'Daily Log'!$F$18:$F$1017),0)","v":0},{"$f":"IFERROR($E317*SUMIF('Daily Log'!$H$18:$H$1017,$B317,'Daily Log'!$I$18:$I$1017),0)","v":0},{"$f":"IFERROR($E317*SUMIF('Daily Log'!$K$18:$K$1017,$B317,'Daily Log'!$L$18:$L$1017),0)","v":0},{"$f":"IFERROR($E317*SUMIF('Daily Log'!$N$18:$N$1017,$B317,'Daily Log'!$O$18:$O$1017),0)","v":0},{"$f":"IFERROR($E317*SUMIF('Daily Log'!#REF!,$B317,'Daily Log'!#REF!),0)","v":0},{"$f":"IFERROR($E317*SUMIF('Daily Log'!#REF!,$B317,'Daily Log'!#REF!),0)","v":0},{"$f":"IFERROR($E317*SUMIF('Daily Log'!#REF!,$B317,'Daily Log'!#REF!),0)","v":0},{"$f":"IFERROR($E317*SUMIF('Daily Log'!#REF!,$B317,'Daily Log'!#REF!),0)","v":0},{"$f":"IFERROR($E317*SUMIF('Daily Log'!#REF!,$B317,'Daily Log'!#REF!),0)","v":0},{"$f":"IFERROR($E317*SUMIF('Daily Log'!#REF!,$B317,'Daily Log'!#REF!),0)","v":0},{"$f":"IFERROR($E317*SUMIF('Daily Log'!#REF!,$B317,'Daily Log'!#REF!),0)","v":0},{"$f":"IFERROR($E317*SUMIF('Daily Log'!#REF!,$B317,'Daily Log'!#REF!),0)","v":0},{"$f":"IFERROR($E317*SUMIF('Daily Log'!#REF!,$B317,'Daily Log'!#REF!),0)","v":0},{"$f":"IFERROR($E317*SUMIF('Daily Log'!#REF!,$B317,'Daily Log'!#REF!),0)","v":0},{"$f":"IFERROR($E317*SUMIF('Daily Log'!#REF!,$B317,'Daily Log'!#REF!),0)","v":0},{"$f":"IFERROR($E317*SUMIF('Daily Log'!#REF!,$B317,'Daily Log'!#REF!),0)","v":0},{"$f":"IFERROR($E317*SUMIF('Daily Log'!#REF!,$B317,'Daily Log'!#REF!),0)","v":0},{"$f":"IFERROR($E317*SUMIF('Daily Log'!#REF!,$B317,'Daily Log'!#REF!),0)","v":0},{"$f":"IFERROR($E317*SUMIF('Daily Log'!#REF!,$B317,'Daily Log'!#REF!),0)","v":0},{"$f":"IFERROR($E317*SUMIF('Daily Log'!#REF!,$B317,'Daily Log'!#REF!),0)","v":0},{"$f":"IFERROR($E317*SUMIF('Daily Log'!#REF!,$B317,'Daily Log'!#REF!),0)","v":0},{"$f":"IFERROR($E317*SUMIF('Daily Log'!#REF!,$B317,'Daily Log'!#REF!),0)","v":0},{"$f":"IFERROR($E317*SUMIF('Daily Log'!#REF!,$B317,'Daily Log'!#REF!),0)","v":0},{"$f":"IFERROR($E317*SUMIF('Daily Log'!#REF!,$B317,'Daily Log'!#REF!),0)","v":0},{"$f":"IFERROR($E317*SUMIF('Daily Log'!#REF!,$B317,'Daily Log'!#REF!),0)","v":0},{"$f":"IFERROR($E317*SUMIF('Daily Log'!#REF!,$B317,'Daily Log'!#REF!),0)","v":0},{"$f":"IFERROR($E317*SUMIF('Daily Log'!#REF!,$B317,'Daily Log'!#REF!),0)","v":0},{"$f":"IFERROR($E317*SUMIF('Daily Log'!#REF!,$B317,'Daily Log'!#REF!),0)","v":0},{"$f":"IFERROR($E317*SUMIF('Daily Log'!#REF!,$B317,'Daily Log'!#REF!),0)","v":0},{"$f":"IFERROR($E317*SUMIF('Daily Log'!#REF!,$B317,'Daily Log'!#REF!),0)","v":0}]
[null,"DF11 ADD SAUCE MR",null,"SAUCE",1,1,{"$f":"IFERROR($E318*SUMIF('Daily Log'!$B$18:$B$1017,$B318,'Daily Log'!$C$18:$C$1017),0)","v":0},{"$f":"IFERROR($E318*SUMIF('Daily Log'!$E$18:$E$1017,$B318,'Daily Log'!$F$18:$F$1017),0)","v":1},{"$f":"IFERROR($E318*SUMIF('Daily Log'!$H$18:$H$1017,$B318,'Daily Log'!$I$18:$I$1017),0)","v":0},{"$f":"IFERROR($E318*SUMIF('Daily Log'!$K$18:$K$1017,$B318,'Daily Log'!$L$18:$L$1017),0)","v":0},{"$f":"IFERROR($E318*SUMIF('Daily Log'!$N$18:$N$1017,$B318,'Daily Log'!$O$18:$O$1017),0)","v":0},{"$f":"IFERROR($E318*SUMIF('Daily Log'!#REF!,$B318,'Daily Log'!#REF!),0)","v":0},{"$f":"IFERROR($E318*SUMIF('Daily Log'!#REF!,$B318,'Daily Log'!#REF!),0)","v":0},{"$f":"IFERROR($E318*SUMIF('Daily Log'!#REF!,$B318,'Daily Log'!#REF!),0)","v":0},{"$f":"IFERROR($E318*SUMIF('Daily Log'!#REF!,$B318,'Daily Log'!#REF!),0)","v":0},{"$f":"IFERROR($E318*SUMIF('Daily Log'!#REF!,$B318,'Daily Log'!#REF!),0)","v":0},{"$f":"IFERROR($E318*SUMIF('Daily Log'!#REF!,$B318,'Daily Log'!#REF!),0)","v":0},{"$f":"IFERROR($E318*SUMIF('Daily Log'!#REF!,$B318,'Daily Log'!#REF!),0)","v":0},{"$f":"IFERROR($E318*SUMIF('Daily Log'!#REF!,$B318,'Daily Log'!#REF!),0)","v":0},{"$f":"IFERROR($E318*SUMIF('Daily Log'!#REF!,$B318,'Daily Log'!#REF!),0)","v":0},{"$f":"IFERROR($E318*SUMIF('Daily Log'!#REF!,$B318,'Daily Log'!#REF!),0)","v":0},{"$f":"IFERROR($E318*SUMIF('Daily Log'!#REF!,$B318,'Daily Log'!#REF!),0)","v":0},{"$f":"IFERROR($E318*SUMIF('Daily Log'!#REF!,$B318,'Daily Log'!#REF!),0)","v":0},{"$f":"IFERROR($E318*SUMIF('Daily Log'!#REF!,$B318,'Daily Log'!#REF!),0)","v":0},{"$f":"IFERROR($E318*SUMIF('Daily Log'!#REF!,$B318,'Daily Log'!#REF!),0)","v":0},{"$f":"IFERROR($E318*SUMIF('Daily Log'!#REF!,$B318,'Daily Log'!#REF!),0)","v":0},{"$f":"IFERROR($E318*SUMIF('Daily Log'!#REF!,$B318,'Daily Log'!#REF!),0)","v":0},{"$f":"IFERROR($E318*SUMIF('Daily Log'!#REF!,$B318,'Daily Log'!#REF!),0)","v":0},{"$f":"IFERROR($E318*SUMIF('Daily Log'!#REF!,$B318,'Daily Log'!#REF!),0)","v":0},{"$f":"IFERROR($E318*SUMIF('Daily Log'!#REF!,$B318,'Daily Log'!#REF!),0)","v":0},{"$f":"IFERROR($E318*SUMIF('Daily Log'!#REF!,$B318,'Daily Log'!#REF!),0)","v":0},{"$f":"IFERROR($E318*SUMIF('Daily Log'!#REF!,$B318,'Daily Log'!#REF!),0)","v":0},{"$f":"IFERROR($E318*SUMIF('Daily Log'!#REF!,$B318,'Daily Log'!#REF!),0)","v":0},{"$f":"IFERROR($E318*SUMIF('Daily Log'!#REF!,$B318,'Daily Log'!#REF!),0)","v":0},{"$f":"IFERROR($E318*SUMIF('Daily Log'!#REF!,$B318,'Daily Log'!#REF!),0)","v":0},{"$f":"IFERROR($E318*SUMIF('Daily Log'!#REF!,$B318,'Daily Log'!#REF!),0)","v":0},{"$f":"IFERROR($E318*SUMIF('Daily Log'!#REF!,$B318,'Daily Log'!#REF!),0)","v":0}]
[null,"DF12 ADD SAUCE SAMBAL",null,"SAUCE",1,4,{"$f":"IFERROR($E319*SUMIF('Daily Log'!$B$18:$B$1017,$B319,'Daily Log'!$C$18:$C$1017),0)","v":2},{"$f":"IFERROR($E319*SUMIF('Daily Log'!$E$18:$E$1017,$B319,'Daily Log'!$F$18:$F$1017),0)","v":1},{"$f":"IFERROR($E319*SUMIF('Daily Log'!$H$18:$H$1017,$B319,'Daily Log'!$I$18:$I$1017),0)","v":1},{"$f":"IFERROR($E319*SUMIF('Daily Log'!$K$18:$K$1017,$B319,'Daily Log'!$L$18:$L$1017),0)","v":0},{"$f":"IFERROR($E319*SUMIF('Daily Log'!$N$18:$N$1017,$B319,'Daily Log'!$O$18:$O$1017),0)","v":0},{"$f":"IFERROR($E319*SUMIF('Daily Log'!#REF!,$B319,'Daily Log'!#REF!),0)","v":0},{"$f":"IFERROR($E319*SUMIF('Daily Log'!#REF!,$B319,'Daily Log'!#REF!),0)","v":0},{"$f":"IFERROR($E319*SUMIF('Daily Log'!#REF!,$B319,'Daily Log'!#REF!),0)","v":0},{"$f":"IFERROR($E319*SUMIF('Daily Log'!#REF!,$B319,'Daily Log'!#REF!),0)","v":0},{"$f":"IFERROR($E319*SUMIF('Daily Log'!#REF!,$B319,'Daily Log'!#REF!),0)","v":0},{"$f":"IFERROR($E319*SUMIF('Daily Log'!#REF!,$B319,'Daily Log'!#REF!),0)","v":0},{"$f":"IFERROR($E319*SUMIF('Daily Log'!#REF!,$B319,'Daily Log'!#REF!),0)","v":0},{"$f":"IFERROR($E319*SUMIF('Daily Log'!#REF!,$B319,'Daily Log'!#REF!),0)","v":0},{"$f":"IFERROR($E319*SUMIF('Daily Log'!#REF!,$B319,'Daily Log'!#REF!),0)","v":0},{"$f":"IFERROR($E319*SUMIF('Daily Log'!#REF!,$B319,'Daily Log'!#REF!),0)","v":0},{"$f":"IFERROR($E319*SUMIF('Daily Log'!#REF!,$B319,'Daily Log'!#REF!),0)","v":0},{"$f":"IFERROR($E319*SUMIF('Daily Log'!#REF!,$B319,'Daily Log'!#REF!),0)","v":0},{"$f":"IFERROR($E319*SUMIF('Daily Log'!#REF!,$B319,'Daily Log'!#REF!),0)","v":0},{"$f":"IFERROR($E319*SUMIF('Daily Log'!#REF!,$B319,'Daily Log'!#REF!),0)","v":0},{"$f":"IFERROR($E319*SUMIF('Daily Log'!#REF!,$B319,'Daily Log'!#REF!),0)","v":0},{"$f":"IFERROR($E319*SUMIF('Daily Log'!#REF!,$B319,'Daily Log'!#REF!),0)","v":0},{"$f":"IFERROR($E319*SUMIF('Daily Log'!#REF!,$B319,'Daily Log'!#REF!),0)","v":0},{"$f":"IFERROR($E319*SUMIF('Daily Log'!#REF!,$B319,'Daily Log'!#REF!),0)","v":0},{"$f":"IFERROR($E319*SUMIF('Daily Log'!#REF!,$B319,'Daily Log'!#REF!),0)","v":0},{"$f":"IFERROR($E319*SUMIF('Daily Log'!#REF!,$B319,'Daily Log'!#REF!),0)","v":0},{"$f":"IFERROR($E319*SUMIF('Daily Log'!#REF!,$B319,'Daily Log'!#REF!),0)","v":0},{"$f":"IFERROR($E319*SUMIF('Daily Log'!#REF!,$B319,'Daily Log'!#REF!),0)","v":0},{"$f":"IFERROR($E319*SUMIF('Daily Log'!#REF!,$B319,'Daily Log'!#REF!),0)","v":0},{"$f":"IFERROR($E319*SUMIF('Daily Log'!#REF!,$B319,'Daily Log'!#REF!),0)","v":0},{"$f":"IFERROR($E319*SUMIF('Daily Log'!#REF!,$B319,'Daily Log'!#REF!),0)","v":0},{"$f":"IFERROR($E319*SUMIF('Daily Log'!#REF!,$B319,'Daily Log'!#REF!),0)","v":0}]
[null,"DF13 ADD SAUCE THAI",null,"SAUCE",1,0,{"$f":"IFERROR($E320*SUMIF('Daily Log'!$B$18:$B$1017,$B320,'Daily Log'!$C$18:$C$1017),0)","v":0},{"$f":"IFERROR($E320*SUMIF('Daily Log'!$E$18:$E$1017,$B320,'Daily Log'!$F$18:$F$1017),0)","v":0},{"$f":"IFERROR($E320*SUMIF('Daily Log'!$H$18:$H$1017,$B320,'Daily Log'!$I$18:$I$1017),0)","v":0},{"$f":"IFERROR($E320*SUMIF('Daily Log'!$K$18:$K$1017,$B320,'Daily Log'!$L$18:$L$1017),0)","v":0},{"$f":"IFERROR($E320*SUMIF('Daily Log'!$N$18:$N$1017,$B320,'Daily Log'!$O$18:$O$1017),0)","v":0},{"$f":"IFERROR($E320*SUMIF('Daily Log'!#REF!,$B320,'Daily Log'!#REF!),0)","v":0},{"$f":"IFERROR($E320*SUMIF('Daily Log'!#REF!,$B320,'Daily Log'!#REF!),0)","v":0},{"$f":"IFERROR($E320*SUMIF('Daily Log'!#REF!,$B320,'Daily Log'!#REF!),0)","v":0},{"$f":"IFERROR($E320*SUMIF('Daily Log'!#REF!,$B320,'Daily Log'!#REF!),0)","v":0},{"$f":"IFERROR($E320*SUMIF('Daily Log'!#REF!,$B320,'Daily Log'!#REF!),0)","v":0},{"$f":"IFERROR($E320*SUMIF('Daily Log'!#REF!,$B320,'Daily Log'!#REF!),0)","v":0},{"$f":"IFERROR($E320*SUMIF('Daily Log'!#REF!,$B320,'Daily Log'!#REF!),0)","v":0},{"$f":"IFERROR($E320*SUMIF('Daily Log'!#REF!,$B320,'Daily Log'!#REF!),0)","v":0},{"$f":"IFERROR($E320*SUMIF('Daily Log'!#REF!,$B320,'Daily Log'!#REF!),0)","v":0},{"$f":"IFERROR($E320*SUMIF('Daily Log'!#REF!,$B320,'Daily Log'!#REF!),0)","v":0},{"$f":"IFERROR($E320*SUMIF('Daily Log'!#REF!,$B320,'Daily Log'!#REF!),0)","v":0},{"$f":"IFERROR($E320*SUMIF('Daily Log'!#REF!,$B320,'Daily Log'!#REF!),0)","v":0},{"$f":"IFERROR($E320*SUMIF('Daily Log'!#REF!,$B320,'Daily Log'!#REF!),0)","v":0},{"$f":"IFERROR($E320*SUMIF('Daily Log'!#REF!,$B320,'Daily Log'!#REF!),0)","v":0},{"$f":"IFERROR($E320*SUMIF('Daily Log'!#REF!,$B320,'Daily Log'!#REF!),0)","v":0},{"$f":"IFERROR($E320*SUMIF('Daily Log'!#REF!,$B320,'Daily Log'!#REF!),0)","v":0},{"$f":"IFERROR($E320*SUMIF('Daily Log'!#REF!,$B320,'Daily Log'!#REF!),0)","v":0},{"$f":"IFERROR($E320*SUMIF('Daily Log'!#REF!,$B320,'Daily Log'!#REF!),0)","v":0},{"$f":"IFERROR($E320*SUMIF('Daily Log'!#REF!,$B320,'Daily Log'!#REF!),0)","v":0},{"$f":"IFERROR($E320*SUMIF('Daily Log'!#REF!,$B320,'Daily Log'!#REF!),0)","v":0},{"$f":"IFERROR($E320*SUMIF('Daily Log'!#REF!,$B320,'Daily Log'!#REF!),0)","v":0},{"$f":"IFERROR($E320*SUMIF('Daily Log'!#REF!,$B320,'Daily Log'!#REF!),0)","v":0},{"$f":"IFERROR($E320*SUMIF('Daily Log'!#REF!,$B320,'Daily Log'!#REF!),0)","v":0},{"$f":"IFERROR($E320*SUMIF('Daily Log'!#REF!,$B320,'Daily Log'!#REF!),0)","v":0},{"$f":"IFERROR($E320*SUMIF('Daily Log'!#REF!,$B320,'Daily Log'!#REF!),0)","v":0},{"$f":"IFERROR($E320*SUMIF('Daily Log'!#REF!,$B320,'Daily Log'!#REF!),0)","v":0}]
[null,"DF14 ADD SAUCE TOMATO",null,"SAUCE",1,6,{"$f":"IFERROR($E321*SUMIF('Daily Log'!$B$18:$B$1017,$B321,'Daily Log'!$C$18:$C$1017),0)","v":3},{"$f":"IFERROR($E321*SUMIF('Daily Log'!$E$18:$E$1017,$B321,'Daily Log'!$F$18:$F$1017),0)","v":0},{"$f":"IFERROR($E321*SUMIF('Daily Log'!$H$18:$H$1017,$B321,'Daily Log'!$I$18:$I$1017),0)","v":1},{"$f":"IFERROR($E321*SUMIF('Daily Log'!$K$18:$K$1017,$B321,'Daily Log'!$L$18:$L$1017),0)","v":2},{"$f":"IFERROR($E321*SUMIF('Daily Log'!$N$18:$N$1017,$B321,'Daily Log'!$O$18:$O$1017),0)","v":0},{"$f":"IFERROR($E321*SUMIF('Daily Log'!#REF!,$B321,'Daily Log'!#REF!),0)","v":0},{"$f":"IFERROR($E321*SUMIF('Daily Log'!#REF!,$B321,'Daily Log'!#REF!),0)","v":0},{"$f":"IFERROR($E321*SUMIF('Daily Log'!#REF!,$B321,'Daily Log'!#REF!),0)","v":0},{"$f":"IFERROR($E321*SUMIF('Daily Log'!#REF!,$B321,'Daily Log'!#REF!),0)","v":0},{"$f":"IFERROR($E321*SUMIF('Daily Log'!#REF!,$B321,'Daily Log'!#REF!),0)","v":0},{"$f":"IFERROR($E321*SUMIF('Daily Log'!#REF!,$B321,'Daily Log'!#REF!),0)","v":0},{"$f":"IFERROR($E321*SUMIF('Daily Log'!#REF!,$B321,'Daily Log'!#REF!),0)","v":0},{"$f":"IFERROR($E321*SUMIF('Daily Log'!#REF!,$B321,'Daily Log'!#REF!),0)","v":0},{"$f":"IFERROR($E321*SUMIF('Daily Log'!#REF!,$B321,'Daily Log'!#REF!),0)","v":0},{"$f":"IFERROR($E321*SUMIF('Daily Log'!#REF!,$B321,'Daily Log'!#REF!),0)","v":0},{"$f":"IFERROR($E321*SUMIF('Daily Log'!#REF!,$B321,'Daily Log'!#REF!),0)","v":0},{"$f":"IFERROR($E321*SUMIF('Daily Log'!#REF!,$B321,'Daily Log'!#REF!),0)","v":0},{"$f":"IFERROR($E321*SUMIF('Daily Log'!#REF!,$B321,'Daily Log'!#REF!),0)","v":0},{"$f":"IFERROR($E321*SUMIF('Daily Log'!#REF!,$B321,'Daily Log'!#REF!),0)","v":0},{"$f":"IFERROR($E321*SUMIF('Daily Log'!#REF!,$B321,'Daily Log'!#REF!),0)","v":0},{"$f":"IFERROR($E321*SUMIF('Daily Log'!#REF!,$B321,'Daily Log'!#REF!),0)","v":0},{"$f":"IFERROR($E321*SUMIF('Daily Log'!#REF!,$B321,'Daily Log'!#REF!),0)","v":0},{"$f":"IFERROR($E321*SUMIF('Daily Log'!#REF!,$B321,'Daily Log'!#REF!),0)","v":0},{"$f":"IFERROR($E321*SUMIF('Daily Log'!#REF!,$B321,'Daily Log'!#REF!),0)","v":0},{"$f":"IFERROR($E321*SUMIF('Daily Log'!#REF!,$B321,'Daily Log'!#REF!),0)","v":0},{"$f":"IFERROR($E321*SUMIF('Daily Log'!#REF!,$B321,'Daily Log'!#REF!),0)","v":0},{"$f":"IFERROR($E321*SUMIF('Daily Log'!#REF!,$B321,'Daily Log'!#REF!),0)","v":0},{"$f":"IFERROR($E321*SUMIF('Daily Log'!#REF!,$B321,'Daily Log'!#REF!),0)","v":0},{"$f":"IFERROR($E321*SUMIF('Daily Log'!#REF!,$B321,'Daily Log'!#REF!),0)","v":0},{"$f":"IFERROR($E321*SUMIF('Daily Log'!#REF!,$B321,'Daily Log'!#REF!),0)","v":0},{"$f":"IFERROR($E321*SUMIF('Daily Log'!#REF!,$B321,'Daily Log'!#REF!),0)","v":0}]
[null,"DF15 ADD TATA SAUCE",null,"SAUCE",1,8,{"$f":"IFERROR($E322*SUMIF('Daily Log'!$B$18:$B$1017,$B322,'Daily Log'!$C$18:$C$1017),0)","v":3},{"$f":"IFERROR($E322*SUMIF('Daily Log'!$E$18:$E$1017,$B322,'Daily Log'!$F$18:$F$1017),0)","v":0},{"$f":"IFERROR($E322*SUMIF('Daily Log'!$H$18:$H$1017,$B322,'Daily Log'!$I$18:$I$1017),0)","v":4},{"$f":"IFERROR($E322*SUMIF('Daily Log'!$K$18:$K$1017,$B322,'Daily Log'!$L$18:$L$1017),0)","v":1},{"$f":"IFERROR($E322*SUMIF('Daily Log'!$N$18:$N$1017,$B322,'Daily Log'!$O$18:$O$1017),0)","v":0},{"$f":"IFERROR($E322*SUMIF('Daily Log'!#REF!,$B322,'Daily Log'!#REF!),0)","v":0},{"$f":"IFERROR($E322*SUMIF('Daily Log'!#REF!,$B322,'Daily Log'!#REF!),0)","v":0},{"$f":"IFERROR($E322*SUMIF('Daily Log'!#REF!,$B322,'Daily Log'!#REF!),0)","v":0},{"$f":"IFERROR($E322*SUMIF('Daily Log'!#REF!,$B322,'Daily Log'!#REF!),0)","v":0},{"$f":"IFERROR($E322*SUMIF('Daily Log'!#REF!,$B322,'Daily Log'!#REF!),0)","v":0},{"$f":"IFERROR($E322*SUMIF('Daily Log'!#REF!,$B322,'Daily Log'!#REF!),0)","v":0},{"$f":"IFERROR($E322*SUMIF('Daily Log'!#REF!,$B322,'Daily Log'!#REF!),0)","v":0},{"$f":"IFERROR($E322*SUMIF('Daily Log'!#REF!,$B322,'Daily Log'!#REF!),0)","v":0},{"$f":"IFERROR($E322*SUMIF('Daily Log'!#REF!,$B322,'Daily Log'!#REF!),0)","v":0},{"$f":"IFERROR($E322*SUMIF('Daily Log'!#REF!,$B322,'Daily Log'!#REF!),0)","v":0},{"$f":"IFERROR($E322*SUMIF('Daily Log'!#REF!,$B322,'Daily Log'!#REF!),0)","v":0},{"$f":"IFERROR($E322*SUMIF('Daily Log'!#REF!,$B322,'Daily Log'!#REF!),0)","v":0},{"$f":"IFERROR($E322*SUMIF('Daily Log'!#REF!,$B322,'Daily Log'!#REF!),0)","v":0},{"$f":"IFERROR($E322*SUMIF('Daily Log'!#REF!,$B322,'Daily Log'!#REF!),0)","v":0},{"$f":"IFERROR($E322*SUMIF('Daily Log'!#REF!,$B322,'Daily Log'!#REF!),0)","v":0},{"$f":"IFERROR($E322*SUMIF('Daily Log'!#REF!,$B322,'Daily Log'!#REF!),0)","v":0},{"$f":"IFERROR($E322*SUMIF('Daily Log'!#REF!,$B322,'Daily Log'!#REF!),0)","v":0},{"$f":"IFERROR($E322*SUMIF('Daily Log'!#REF!,$B322,'Daily Log'!#REF!),0)","v":0},{"$f":"IFERROR($E322*SUMIF('Daily Log'!#REF!,$B322,'Daily Log'!#REF!),0)","v":0},{"$f":"IFERROR($E322*SUMIF('Daily Log'!#REF!,$B322,'Daily Log'!#REF!),0)","v":0},{"$f":"IFERROR($E322*SUMIF('Daily Log'!#REF!,$B322,'Daily Log'!#REF!),0)","v":0},{"$f":"IFERROR($E322*SUMIF('Daily Log'!#REF!,$B322,'Daily Log'!#REF!),0)","v":0},{"$f":"IFERROR($E322*SUMIF('Daily Log'!#REF!,$B322,'Daily Log'!#REF!),0)","v":0},{"$f":"IFERROR($E322*SUMIF('Daily Log'!#REF!,$B322,'Daily Log'!#REF!),0)","v":0},{"$f":"IFERROR($E322*SUMIF('Daily Log'!#REF!,$B322,'Daily Log'!#REF!),0)","v":0},{"$f":"IFERROR($E322*SUMIF('Daily Log'!#REF!,$B322,'Daily Log'!#REF!),0)","v":0}]
[null,"DF16 ADD SAUCE CHEES",null,"SAUCE",1,1,{"$f":"IFERROR($E323*SUMIF('Daily Log'!$B$18:$B$1017,$B323,'Daily Log'!$C$18:$C$1017),0)","v":0},{"$f":"IFERROR($E323*SUMIF('Daily Log'!$E$18:$E$1017,$B323,'Daily Log'!$F$18:$F$1017),0)","v":0},{"$f":"IFERROR($E323*SUMIF('Daily Log'!$H$18:$H$1017,$B323,'Daily Log'!$I$18:$I$1017),0)","v":0},{"$f":"IFERROR($E323*SUMIF('Daily Log'!$K$18:$K$1017,$B323,'Daily Log'!$L$18:$L$1017),0)","v":1},{"$f":"IFERROR($E323*SUMIF('Daily Log'!$N$18:$N$1017,$B323,'Daily Log'!$O$18:$O$1017),0)","v":0},{"$f":"IFERROR($E323*SUMIF('Daily Log'!#REF!,$B323,'Daily Log'!#REF!),0)","v":0},{"$f":"IFERROR($E323*SUMIF('Daily Log'!#REF!,$B323,'Daily Log'!#REF!),0)","v":0},{"$f":"IFERROR($E323*SUMIF('Daily Log'!#REF!,$B323,'Daily Log'!#REF!),0)","v":0},{"$f":"IFERROR($E323*SUMIF('Daily Log'!#REF!,$B323,'Daily Log'!#REF!),0)","v":0},{"$f":"IFERROR($E323*SUMIF('Daily Log'!#REF!,$B323,'Daily Log'!#REF!),0)","v":0},{"$f":"IFERROR($E323*SUMIF('Daily Log'!#REF!,$B323,'Daily Log'!#REF!),0)","v":0},{"$f":"IFERROR($E323*SUMIF('Daily Log'!#REF!,$B323,'Daily Log'!#REF!),0)","v":0},{"$f":"IFERROR($E323*SUMIF('Daily Log'!#REF!,$B323,'Daily Log'!#REF!),0)","v":0},{"$f":"IFERROR($E323*SUMIF('Daily Log'!#REF!,$B323,'Daily Log'!#REF!),0)","v":0},{"$f":"IFERROR($E323*SUMIF('Daily Log'!#REF!,$B323,'Daily Log'!#REF!),0)","v":0},{"$f":"IFERROR($E323*SUMIF('Daily Log'!#REF!,$B323,'Daily Log'!#REF!),0)","v":0},{"$f":"IFERROR($E323*SUMIF('Daily Log'!#REF!,$B323,'Daily Log'!#REF!),0)","v":0},{"$f":"IFERROR($E323*SUMIF('Daily Log'!#REF!,$B323,'Daily Log'!#REF!),0)","v":0},{"$f":"IFERROR($E323*SUMIF('Daily Log'!#REF!,$B323,'Daily Log'!#REF!),0)","v":0},{"$f":"IFERROR($E323*SUMIF('Daily Log'!#REF!,$B323,'Daily Log'!#REF!),0)","v":0},{"$f":"IFERROR($E323*SUMIF('Daily Log'!#REF!,$B323,'Daily Log'!#REF!),0)","v":0},{"$f":"IFERROR($E323*SUMIF('Daily Log'!#REF!,$B323,'Daily Log'!#REF!),0)","v":0},{"$f":"IFERROR($E323*SUMIF('Daily Log'!#REF!,$B323,'Daily Log'!#REF!),0)","v":0},{"$f":"IFERROR($E323*SUMIF('Daily Log'!#REF!,$B323,'Daily Log'!#REF!),0)","v":0},{"$f":"IFERROR($E323*SUMIF('Daily Log'!#REF!,$B323,'Daily Log'!#REF!),0)","v":0},{"$f":"IFERROR($E323*SUMIF('Daily Log'!#REF!,$B323,'Daily Log'!#REF!),0)","v":0},{"$f":"IFERROR($E323*SUMIF('Daily Log'!#REF!,$B323,'Daily Log'!#REF!),0)","v":0},{"$f":"IFERROR($E323*SUMIF('Daily Log'!#REF!,$B323,'Daily Log'!#REF!),0)","v":0},{"$f":"IFERROR($E323*SUMIF('Daily Log'!#REF!,$B323,'Daily Log'!#REF!),0)","v":0},{"$f":"IFERROR($E323*SUMIF('Daily Log'!#REF!,$B323,'Daily Log'!#REF!),0)","v":0},{"$f":"IFERROR($E323*SUMIF('Daily Log'!#REF!,$B323,'Daily Log'!#REF!),0)","v":0}]
[null,"DG01 91001:BP CHK CP",null,"KLKD-WESTERN CRUISE",1,68,{"$f":"IFERROR($E324*SUMIF('Daily Log'!$B$18:$B$1017,$B324,'Daily Log'!$C$18:$C$1017),0)","v":24},{"$f":"IFERROR($E324*SUMIF('Daily Log'!$E$18:$E$1017,$B324,'Daily Log'!$F$18:$F$1017),0)","v":8},{"$f":"IFERROR($E324*SUMIF('Daily Log'!$H$18:$H$1017,$B324,'Daily Log'!$I$18:$I$1017),0)","v":21},{"$f":"IFERROR($E324*SUMIF('Daily Log'!$K$18:$K$1017,$B324,'Daily Log'!$L$18:$L$1017),0)","v":12},{"$f":"IFERROR($E324*SUMIF('Daily Log'!$N$18:$N$1017,$B324,'Daily Log'!$O$18:$O$1017),0)","v":3},{"$f":"IFERROR($E324*SUMIF('Daily Log'!#REF!,$B324,'Daily Log'!#REF!),0)","v":0},{"$f":"IFERROR($E324*SUMIF('Daily Log'!#REF!,$B324,'Daily Log'!#REF!),0)","v":0},{"$f":"IFERROR($E324*SUMIF('Daily Log'!#REF!,$B324,'Daily Log'!#REF!),0)","v":0},{"$f":"IFERROR($E324*SUMIF('Daily Log'!#REF!,$B324,'Daily Log'!#REF!),0)","v":0},{"$f":"IFERROR($E324*SUMIF('Daily Log'!#REF!,$B324,'Daily Log'!#REF!),0)","v":0},{"$f":"IFERROR($E324*SUMIF('Daily Log'!#REF!,$B324,'Daily Log'!#REF!),0)","v":0},{"$f":"IFERROR($E324*SUMIF('Daily Log'!#REF!,$B324,'Daily Log'!#REF!),0)","v":0},{"$f":"IFERROR($E324*SUMIF('Daily Log'!#REF!,$B324,'Daily Log'!#REF!),0)","v":0},{"$f":"IFERROR($E324*SUMIF('Daily Log'!#REF!,$B324,'Daily Log'!#REF!),0)","v":0},{"$f":"IFERROR($E324*SUMIF('Daily Log'!#REF!,$B324,'Daily Log'!#REF!),0)","v":0},{"$f":"IFERROR($E324*SUMIF('Daily Log'!#REF!,$B324,'Daily Log'!#REF!),0)","v":0},{"$f":"IFERROR($E324*SUMIF('Daily Log'!#REF!,$B324,'Daily Log'!#REF!),0)","v":0},{"$f":"IFERROR($E324*SUMIF('Daily Log'!#REF!,$B324,'Daily Log'!#REF!),0)","v":0},{"$f":"IFERROR($E324*SUMIF('Daily Log'!#REF!,$B324,'Daily Log'!#REF!),0)","v":0},{"$f":"IFERROR($E324*SUMIF('Daily Log'!#REF!,$B324,'Daily Log'!#REF!),0)","v":0},{"$f":"IFERROR($E324*SUMIF('Daily Log'!#REF!,$B324,'Daily Log'!#REF!),0)","v":0},{"$f":"IFERROR($E324*SUMIF('Daily Log'!#REF!,$B324,'Daily Log'!#REF!),0)","v":0},{"$f":"IFERROR($E324*SUMIF('Daily Log'!#REF!,$B324,'Daily Log'!#REF!),0)","v":0},{"$f":"IFERROR($E324*SUMIF('Daily Log'!#REF!,$B324,'Daily Log'!#REF!),0)","v":0},{"$f":"IFERROR($E324*SUMIF('Daily Log'!#REF!,$B324,'Daily Log'!#REF!),0)","v":0},{"$f":"IFERROR($E324*SUMIF('Daily Log'!#REF!,$B324,'Daily Log'!#REF!),0)","v":0},{"$f":"IFERROR($E324*SUMIF('Daily Log'!#REF!,$B324,'Daily Log'!#REF!),0)","v":0},{"$f":"IFERROR($E324*SUMIF('Daily Log'!#REF!,$B324,'Daily Log'!#REF!),0)","v":0},{"$f":"IFERROR($E324*SUMIF('Daily Log'!#REF!,$B324,'Daily Log'!#REF!),0)","v":0},{"$f":"IFERROR($E324*SUMIF('Daily Log'!#REF!,$B324,'Daily Log'!#REF!),0)","v":0},{"$f":"IFERROR($E324*SUMIF('Daily Log'!#REF!,$B324,'Daily Log'!#REF!),0)","v":0}]
[null,"DG02 91002:GVY CHK CP",null,"KLKD-WESTERN CRUISE",1,17,{"$f":"IFERROR($E325*SUMIF('Daily Log'!$B$18:$B$1017,$B325,'Daily Log'!$C$18:$C$1017),0)","v":10},{"$f":"IFERROR($E325*SUMIF('Daily Log'!$E$18:$E$1017,$B325,'Daily Log'!$F$18:$F$1017),0)","v":1},{"$f":"IFERROR($E325*SUMIF('Daily Log'!$H$18:$H$1017,$B325,'Daily Log'!$I$18:$I$1017),0)","v":5},{"$f":"IFERROR($E325*SUMIF('Daily Log'!$K$18:$K$1017,$B325,'Daily Log'!$L$18:$L$1017),0)","v":0},{"$f":"IFERROR($E325*SUMIF('Daily Log'!$N$18:$N$1017,$B325,'Daily Log'!$O$18:$O$1017),0)","v":1},{"$f":"IFERROR($E325*SUMIF('Daily Log'!#REF!,$B325,'Daily Log'!#REF!),0)","v":0},{"$f":"IFERROR($E325*SUMIF('Daily Log'!#REF!,$B325,'Daily Log'!#REF!),0)","v":0},{"$f":"IFERROR($E325*SUMIF('Daily Log'!#REF!,$B325,'Daily Log'!#REF!),0)","v":0},{"$f":"IFERROR($E325*SUMIF('Daily Log'!#REF!,$B325,'Daily Log'!#REF!),0)","v":0},{"$f":"IFERROR($E325*SUMIF('Daily Log'!#REF!,$B325,'Daily Log'!#REF!),0)","v":0},{"$f":"IFERROR($E325*SUMIF('Daily Log'!#REF!,$B325,'Daily Log'!#REF!),0)","v":0},{"$f":"IFERROR($E325*SUMIF('Daily Log'!#REF!,$B325,'Daily Log'!#REF!),0)","v":0},{"$f":"IFERROR($E325*SUMIF('Daily Log'!#REF!,$B325,'Daily Log'!#REF!),0)","v":0},{"$f":"IFERROR($E325*SUMIF('Daily Log'!#REF!,$B325,'Daily Log'!#REF!),0)","v":0},{"$f":"IFERROR($E325*SUMIF('Daily Log'!#REF!,$B325,'Daily Log'!#REF!),0)","v":0},{"$f":"IFERROR($E325*SUMIF('Daily Log'!#REF!,$B325,'Daily Log'!#REF!),0)","v":0},{"$f":"IFERROR($E325*SUMIF('Daily Log'!#REF!,$B325,'Daily Log'!#REF!),0)","v":0},{"$f":"IFERROR($E325*SUMIF('Daily Log'!#REF!,$B325,'Daily Log'!#REF!),0)","v":0},{"$f":"IFERROR($E325*SUMIF('Daily Log'!#REF!,$B325,'Daily Log'!#REF!),0)","v":0},{"$f":"IFERROR($E325*SUMIF('Daily Log'!#REF!,$B325,'Daily Log'!#REF!),0)","v":0},{"$f":"IFERROR($E325*SUMIF('Daily Log'!#REF!,$B325,'Daily Log'!#REF!),0)","v":0},{"$f":"IFERROR($E325*SUMIF('Daily Log'!#REF!,$B325,'Daily Log'!#REF!),0)","v":0},{"$f":"IFERROR($E325*SUMIF('Daily Log'!#REF!,$B325,'Daily Log'!#REF!),0)","v":0},{"$f":"IFERROR($E325*SUMIF('Daily Log'!#REF!,$B325,'Daily Log'!#REF!),0)","v":0},{"$f":"IFERROR($E325*SUMIF('Daily Log'!#REF!,$B325,'Daily Log'!#REF!),0)","v":0},{"$f":"IFERROR($E325*SUMIF('Daily Log'!#REF!,$B325,'Daily Log'!#REF!),0)","v":0},{"$f":"IFERROR($E325*SUMIF('Daily Log'!#REF!,$B325,'Daily Log'!#REF!),0)","v":0},{"$f":"IFERROR($E325*SUMIF('Daily Log'!#REF!,$B325,'Daily Log'!#REF!),0)","v":0},{"$f":"IFERROR($E325*SUMIF('Daily Log'!#REF!,$B325,'Daily Log'!#REF!),0)","v":0},{"$f":"IFERROR($E325*SUMIF('Daily Log'!#REF!,$B325,'Daily Log'!#REF!),0)","v":0},{"$f":"IFERROR($E325*SUMIF('Daily Log'!#REF!,$B325,'Daily Log'!#REF!),0)","v":0}]
[null,"DG03 91003:MSR CHK CP",null,"KLKD-WESTERN CRUISE",1,83,{"$f":"IFERROR($E326*SUMIF('Daily Log'!$B$18:$B$1017,$B326,'Daily Log'!$C$18:$C$1017),0)","v":33},{"$f":"IFERROR($E326*SUMIF('Daily Log'!$E$18:$E$1017,$B326,'Daily Log'!$F$18:$F$1017),0)","v":15},{"$f":"IFERROR($E326*SUMIF('Daily Log'!$H$18:$H$1017,$B326,'Daily Log'!$I$18:$I$1017),0)","v":18},{"$f":"IFERROR($E326*SUMIF('Daily Log'!$K$18:$K$1017,$B326,'Daily Log'!$L$18:$L$1017),0)","v":12},{"$f":"IFERROR($E326*SUMIF('Daily Log'!$N$18:$N$1017,$B326,'Daily Log'!$O$18:$O$1017),0)","v":5},{"$f":"IFERROR($E326*SUMIF('Daily Log'!#REF!,$B326,'Daily Log'!#REF!),0)","v":0},{"$f":"IFERROR($E326*SUMIF('Daily Log'!#REF!,$B326,'Daily Log'!#REF!),0)","v":0},{"$f":"IFERROR($E326*SUMIF('Daily Log'!#REF!,$B326,'Daily Log'!#REF!),0)","v":0},{"$f":"IFERROR($E326*SUMIF('Daily Log'!#REF!,$B326,'Daily Log'!#REF!),0)","v":0},{"$f":"IFERROR($E326*SUMIF('Daily Log'!#REF!,$B326,'Daily Log'!#REF!),0)","v":0},{"$f":"IFERROR($E326*SUMIF('Daily Log'!#REF!,$B326,'Daily Log'!#REF!),0)","v":0},{"$f":"IFERROR($E326*SUMIF('Daily Log'!#REF!,$B326,'Daily Log'!#REF!),0)","v":0},{"$f":"IFERROR($E326*SUMIF('Daily Log'!#REF!,$B326,'Daily Log'!#REF!),0)","v":0},{"$f":"IFERROR($E326*SUMIF('Daily Log'!#REF!,$B326,'Daily Log'!#REF!),0)","v":0},{"$f":"IFERROR($E326*SUMIF('Daily Log'!#REF!,$B326,'Daily Log'!#REF!),0)","v":0},{"$f":"IFERROR($E326*SUMIF('Daily Log'!#REF!,$B326,'Daily Log'!#REF!),0)","v":0},{"$f":"IFERROR($E326*SUMIF('Daily Log'!#REF!,$B326,'Daily Log'!#REF!),0)","v":0},{"$f":"IFERROR($E326*SUMIF('Daily Log'!#REF!,$B326,'Daily Log'!#REF!),0)","v":0},{"$f":"IFERROR($E326*SUMIF('Daily Log'!#REF!,$B326,'Daily Log'!#REF!),0)","v":0},{"$f":"IFERROR($E326*SUMIF('Daily Log'!#REF!,$B326,'Daily Log'!#REF!),0)","v":0},{"$f":"IFERROR($E326*SUMIF('Daily Log'!#REF!,$B326,'Daily Log'!#REF!),0)","v":0},{"$f":"IFERROR($E326*SUMIF('Daily Log'!#REF!,$B326,'Daily Log'!#REF!),0)","v":0},{"$f":"IFERROR($E326*SUMIF('Daily Log'!#REF!,$B326,'Daily Log'!#REF!),0)","v":0},{"$f":"IFERROR($E326*SUMIF('Daily Log'!#REF!,$B326,'Daily Log'!#REF!),0)","v":0},{"$f":"IFERROR($E326*SUMIF('Daily Log'!#REF!,$B326,'Daily Log'!#REF!),0)","v":0},{"$f":"IFERROR($E326*SUMIF('Daily Log'!#REF!,$B326,'Daily Log'!#REF!),0)","v":0},{"$f":"IFERROR($E326*SUMIF('Daily Log'!#REF!,$B326,'Daily Log'!#REF!),0)","v":0},{"$f":"IFERROR($E326*SUMIF('Daily Log'!#REF!,$B326,'Daily Log'!#REF!),0)","v":0},{"$f":"IFERROR($E326*SUMIF('Daily Log'!#REF!,$B326,'Daily Log'!#REF!),0)","v":0},{"$f":"IFERROR($E326*SUMIF('Daily Log'!#REF!,$B326,'Daily Log'!#REF!),0)","v":0},{"$f":"IFERROR($E326*SUMIF('Daily Log'!#REF!,$B326,'Daily Log'!#REF!),0)","v":0}]
[null,"DG04 91004:CKN MARY",null,"KLKD-WESTERN CRUISE",1,50,{"$f":"IFERROR($E327*SUMIF('Daily Log'!$B$18:$B$1017,$B327,'Daily Log'!$C$18:$C$1017),0)","v":15},{"$f":"IFERROR($E327*SUMIF('Daily Log'!$E$18:$E$1017,$B327,'Daily Log'!$F$18:$F$1017),0)","v":13},{"$f":"IFERROR($E327*SUMIF('Daily Log'!$H$18:$H$1017,$B327,'Daily Log'!$I$18:$I$1017),0)","v":4},{"$f":"IFERROR($E327*SUMIF('Daily Log'!$K$18:$K$1017,$B327,'Daily Log'!$L$18:$L$1017),0)","v":14},{"$f":"IFERROR($E327*SUMIF('Daily Log'!$N$18:$N$1017,$B327,'Daily Log'!$O$18:$O$1017),0)","v":4},{"$f":"IFERROR($E327*SUMIF('Daily Log'!#REF!,$B327,'Daily Log'!#REF!),0)","v":0},{"$f":"IFERROR($E327*SUMIF('Daily Log'!#REF!,$B327,'Daily Log'!#REF!),0)","v":0},{"$f":"IFERROR($E327*SUMIF('Daily Log'!#REF!,$B327,'Daily Log'!#REF!),0)","v":0},{"$f":"IFERROR($E327*SUMIF('Daily Log'!#REF!,$B327,'Daily Log'!#REF!),0)","v":0},{"$f":"IFERROR($E327*SUMIF('Daily Log'!#REF!,$B327,'Daily Log'!#REF!),0)","v":0},{"$f":"IFERROR($E327*SUMIF('Daily Log'!#REF!,$B327,'Daily Log'!#REF!),0)","v":0},{"$f":"IFERROR($E327*SUMIF('Daily Log'!#REF!,$B327,'Daily Log'!#REF!),0)","v":0},{"$f":"IFERROR($E327*SUMIF('Daily Log'!#REF!,$B327,'Daily Log'!#REF!),0)","v":0},{"$f":"IFERROR($E327*SUMIF('Daily Log'!#REF!,$B327,'Daily Log'!#REF!),0)","v":0},{"$f":"IFERROR($E327*SUMIF('Daily Log'!#REF!,$B327,'Daily Log'!#REF!),0)","v":0},{"$f":"IFERROR($E327*SUMIF('Daily Log'!#REF!,$B327,'Daily Log'!#REF!),0)","v":0},{"$f":"IFERROR($E327*SUMIF('Daily Log'!#REF!,$B327,'Daily Log'!#REF!),0)","v":0},{"$f":"IFERROR($E327*SUMIF('Daily Log'!#REF!,$B327,'Daily Log'!#REF!),0)","v":0},{"$f":"IFERROR($E327*SUMIF('Daily Log'!#REF!,$B327,'Daily Log'!#REF!),0)","v":0},{"$f":"IFERROR($E327*SUMIF('Daily Log'!#REF!,$B327,'Daily Log'!#REF!),0)","v":0},{"$f":"IFERROR($E327*SUMIF('Daily Log'!#REF!,$B327,'Daily Log'!#REF!),0)","v":0},{"$f":"IFERROR($E327*SUMIF('Daily Log'!#REF!,$B327,'Daily Log'!#REF!),0)","v":0},{"$f":"IFERROR($E327*SUMIF('Daily Log'!#REF!,$B327,'Daily Log'!#REF!),0)","v":0},{"$f":"IFERROR($E327*SUMIF('Daily Log'!#REF!,$B327,'Daily Log'!#REF!),0)","v":0},{"$f":"IFERROR($E327*SUMIF('Daily Log'!#REF!,$B327,'Daily Log'!#REF!),0)","v":0},{"$f":"IFERROR($E327*SUMIF('Daily Log'!#REF!,$B327,'Daily Log'!#REF!),0)","v":0},{"$f":"IFERROR($E327*SUMIF('Daily Log'!#REF!,$B327,'Daily Log'!#REF!),0)","v":0},{"$f":"IFERROR($E327*SUMIF('Daily Log'!#REF!,$B327,'Daily Log'!#REF!),0)","v":0},{"$f":"IFERROR($E327*SUMIF('Daily Log'!#REF!,$B327,'Daily Log'!#REF!),0)","v":0},{"$f":"IFERROR($E327*SUMIF('Daily Log'!#REF!,$B327,'Daily Log'!#REF!),0)","v":0},{"$f":"IFERROR($E327*SUMIF('Daily Log'!#REF!,$B327,'Daily Log'!#REF!),0)","v":0}]
[null,"DG05 91005:FISH&CHIP",null,"KLKD-WESTERN CRUISE",1,89,{"$f":"IFERROR($E328*SUMIF('Daily Log'!$B$18:$B$1017,$B328,'Daily Log'!$C$18:$C$1017),0)","v":40},{"$f":"IFERROR($E328*SUMIF('Daily Log'!$E$18:$E$1017,$B328,'Daily Log'!$F$18:$F$1017),0)","v":10},{"$f":"IFERROR($E328*SUMIF('Daily Log'!$H$18:$H$1017,$B328,'Daily Log'!$I$18:$I$1017),0)","v":22},{"$f":"IFERROR($E328*SUMIF('Daily Log'!$K$18:$K$1017,$B328,'Daily Log'!$L$18:$L$1017),0)","v":12},{"$f":"IFERROR($E328*SUMIF('Daily Log'!$N$18:$N$1017,$B328,'Daily Log'!$O$18:$O$1017),0)","v":5},{"$f":"IFERROR($E328*SUMIF('Daily Log'!#REF!,$B328,'Daily Log'!#REF!),0)","v":0},{"$f":"IFERROR($E328*SUMIF('Daily Log'!#REF!,$B328,'Daily Log'!#REF!),0)","v":0},{"$f":"IFERROR($E328*SUMIF('Daily Log'!#REF!,$B328,'Daily Log'!#REF!),0)","v":0},{"$f":"IFERROR($E328*SUMIF('Daily Log'!#REF!,$B328,'Daily Log'!#REF!),0)","v":0},{"$f":"IFERROR($E328*SUMIF('Daily Log'!#REF!,$B328,'Daily Log'!#REF!),0)","v":0},{"$f":"IFERROR($E328*SUMIF('Daily Log'!#REF!,$B328,'Daily Log'!#REF!),0)","v":0},{"$f":"IFERROR($E328*SUMIF('Daily Log'!#REF!,$B328,'Daily Log'!#REF!),0)","v":0},{"$f":"IFERROR($E328*SUMIF('Daily Log'!#REF!,$B328,'Daily Log'!#REF!),0)","v":0},{"$f":"IFERROR($E328*SUMIF('Daily Log'!#REF!,$B328,'Daily Log'!#REF!),0)","v":0},{"$f":"IFERROR($E328*SUMIF('Daily Log'!#REF!,$B328,'Daily Log'!#REF!),0)","v":0},{"$f":"IFERROR($E328*SUMIF('Daily Log'!#REF!,$B328,'Daily Log'!#REF!),0)","v":0},{"$f":"IFERROR($E328*SUMIF('Daily Log'!#REF!,$B328,'Daily Log'!#REF!),0)","v":0},{"$f":"IFERROR($E328*SUMIF('Daily Log'!#REF!,$B328,'Daily Log'!#REF!),0)","v":0},{"$f":"IFERROR($E328*SUMIF('Daily Log'!#REF!,$B328,'Daily Log'!#REF!),0)","v":0},{"$f":"IFERROR($E328*SUMIF('Daily Log'!#REF!,$B328,'Daily Log'!#REF!),0)","v":0},{"$f":"IFERROR($E328*SUMIF('Daily Log'!#REF!,$B328,'Daily Log'!#REF!),0)","v":0},{"$f":"IFERROR($E328*SUMIF('Daily Log'!#REF!,$B328,'Daily Log'!#REF!),0)","v":0},{"$f":"IFERROR($E328*SUMIF('Daily Log'!#REF!,$B328,'Daily Log'!#REF!),0)","v":0},{"$f":"IFERROR($E328*SUMIF('Daily Log'!#REF!,$B328,'Daily Log'!#REF!),0)","v":0},{"$f":"IFERROR($E328*SUMIF('Daily Log'!#REF!,$B328,'Daily Log'!#REF!),0)","v":0},{"$f":"IFERROR($E328*SUMIF('Daily Log'!#REF!,$B328,'Daily Log'!#REF!),0)","v":0},{"$f":"IFERROR($E328*SUMIF('Daily Log'!#REF!,$B328,'Daily Log'!#REF!),0)","v":0},{"$f":"IFERROR($E328*SUMIF('Daily Log'!#REF!,$B328,'Daily Log'!#REF!),0)","v":0},{"$f":"IFERROR($E328*SUMIF('Daily Log'!#REF!,$B328,'Daily Log'!#REF!),0)","v":0},{"$f":"IFERROR($E328*SUMIF('Daily Log'!#REF!,$B328,'Daily Log'!#REF!),0)","v":0},{"$f":"IFERROR($E328*SUMIF('Daily Log'!#REF!,$B328,'Daily Log'!#REF!),0)","v":0}]
[null,"DG06 91006:SPAGHETTI",null,"KLKD-WESTERN CRUISE",1,36,{"$f":"IFERROR($E329*SUMIF('Daily Log'!$B$18:$B$1017,$B329,'Daily Log'!$C$18:$C$1017),0)","v":14},{"$f":"IFERROR($E329*SUMIF('Daily Log'!$E$18:$E$1017,$B329,'Daily Log'!$F$18:$F$1017),0)","v":6},{"$f":"IFERROR($E329*SUMIF('Daily Log'!$H$18:$H$1017,$B329,'Daily Log'!$I$18:$I$1017),0)","v":5},{"$f":"IFERROR($E329*SUMIF('Daily Log'!$K$18:$K$1017,$B329,'Daily Log'!$L$18:$L$1017),0)","v":9},{"$f":"IFERROR($E329*SUMIF('Daily Log'!$N$18:$N$1017,$B329,'Daily Log'!$O$18:$O$1017),0)","v":2},{"$f":"IFERROR($E329*SUMIF('Daily Log'!#REF!,$B329,'Daily Log'!#REF!),0)","v":0},{"$f":"IFERROR($E329*SUMIF('Daily Log'!#REF!,$B329,'Daily Log'!#REF!),0)","v":0},{"$f":"IFERROR($E329*SUMIF('Daily Log'!#REF!,$B329,'Daily Log'!#REF!),0)","v":0},{"$f":"IFERROR($E329*SUMIF('Daily Log'!#REF!,$B329,'Daily Log'!#REF!),0)","v":0},{"$f":"IFERROR($E329*SUMIF('Daily Log'!#REF!,$B329,'Daily Log'!#REF!),0)","v":0},{"$f":"IFERROR($E329*SUMIF('Daily Log'!#REF!,$B329,'Daily Log'!#REF!),0)","v":0},{"$f":"IFERROR($E329*SUMIF('Daily Log'!#REF!,$B329,'Daily Log'!#REF!),0)","v":0},{"$f":"IFERROR($E329*SUMIF('Daily Log'!#REF!,$B329,'Daily Log'!#REF!),0)","v":0},{"$f":"IFERROR($E329*SUMIF('Daily Log'!#REF!,$B329,'Daily Log'!#REF!),0)","v":0},{"$f":"IFERROR($E329*SUMIF('Daily Log'!#REF!,$B329,'Daily Log'!#REF!),0)","v":0},{"$f":"IFERROR($E329*SUMIF('Daily Log'!#REF!,$B329,'Daily Log'!#REF!),0)","v":0},{"$f":"IFERROR($E329*SUMIF('Daily Log'!#REF!,$B329,'Daily Log'!#REF!),0)","v":0},{"$f":"IFERROR($E329*SUMIF('Daily Log'!#REF!,$B329,'Daily Log'!#REF!),0)","v":0},{"$f":"IFERROR($E329*SUMIF('Daily Log'!#REF!,$B329,'Daily Log'!#REF!),0)","v":0},{"$f":"IFERROR($E329*SUMIF('Daily Log'!#REF!,$B329,'Daily Log'!#REF!),0)","v":0},{"$f":"IFERROR($E329*SUMIF('Daily Log'!#REF!,$B329,'Daily Log'!#REF!),0)","v":0},{"$f":"IFERROR($E329*SUMIF('Daily Log'!#REF!,$B329,'Daily Log'!#REF!),0)","v":0},{"$f":"IFERROR($E329*SUMIF('Daily Log'!#REF!,$B329,'Daily Log'!#REF!),0)","v":0},{"$f":"IFERROR($E329*SUMIF('Daily Log'!#REF!,$B329,'Daily Log'!#REF!),0)","v":0},{"$f":"IFERROR($E329*SUMIF('Daily Log'!#REF!,$B329,'Daily Log'!#REF!),0)","v":0},{"$f":"IFERROR($E329*SUMIF('Daily Log'!#REF!,$B329,'Daily Log'!#REF!),0)","v":0},{"$f":"IFERROR($E329*SUMIF('Daily Log'!#REF!,$B329,'Daily Log'!#REF!),0)","v":0},{"$f":"IFERROR($E329*SUMIF('Daily Log'!#REF!,$B329,'Daily Log'!#REF!),0)","v":0},{"$f":"IFERROR($E329*SUMIF('Daily Log'!#REF!,$B329,'Daily Log'!#REF!),0)","v":0},{"$f":"IFERROR($E329*SUMIF('Daily Log'!#REF!,$B329,'Daily Log'!#REF!),0)","v":0},{"$f":"IFERROR($E329*SUMIF('Daily Log'!#REF!,$B329,'Daily Log'!#REF!),0)","v":0}]
[null,"DG07 91007:CHK SALAD",null,"KLKD-WESTERN CRUISE",1,20,{"$f":"IFERROR($E330*SUMIF('Daily Log'!$B$18:$B$1017,$B330,'Daily Log'!$C$18:$C$1017),0)","v":7},{"$f":"IFERROR($E330*SUMIF('Daily Log'!$E$18:$E$1017,$B330,'Daily Log'!$F$18:$F$1017),0)","v":9},{"$f":"IFERROR($E330*SUMIF('Daily Log'!$H$18:$H$1017,$B330,'Daily Log'!$I$18:$I$1017),0)","v":1},{"$f":"IFERROR($E330*SUMIF('Daily Log'!$K$18:$K$1017,$B330,'Daily Log'!$L$18:$L$1017),0)","v":1},{"$f":"IFERROR($E330*SUMIF('Daily Log'!$N$18:$N$1017,$B330,'Daily Log'!$O$18:$O$1017),0)","v":2},{"$f":"IFERROR($E330*SUMIF('Daily Log'!#REF!,$B330,'Daily Log'!#REF!),0)","v":0},{"$f":"IFERROR($E330*SUMIF('Daily Log'!#REF!,$B330,'Daily Log'!#REF!),0)","v":0},{"$f":"IFERROR($E330*SUMIF('Daily Log'!#REF!,$B330,'Daily Log'!#REF!),0)","v":0},{"$f":"IFERROR($E330*SUMIF('Daily Log'!#REF!,$B330,'Daily Log'!#REF!),0)","v":0},{"$f":"IFERROR($E330*SUMIF('Daily Log'!#REF!,$B330,'Daily Log'!#REF!),0)","v":0},{"$f":"IFERROR($E330*SUMIF('Daily Log'!#REF!,$B330,'Daily Log'!#REF!),0)","v":0},{"$f":"IFERROR($E330*SUMIF('Daily Log'!#REF!,$B330,'Daily Log'!#REF!),0)","v":0},{"$f":"IFERROR($E330*SUMIF('Daily Log'!#REF!,$B330,'Daily Log'!#REF!),0)","v":0},{"$f":"IFERROR($E330*SUMIF('Daily Log'!#REF!,$B330,'Daily Log'!#REF!),0)","v":0},{"$f":"IFERROR($E330*SUMIF('Daily Log'!#REF!,$B330,'Daily Log'!#REF!),0)","v":0},{"$f":"IFERROR($E330*SUMIF('Daily Log'!#REF!,$B330,'Daily Log'!#REF!),0)","v":0},{"$f":"IFERROR($E330*SUMIF('Daily Log'!#REF!,$B330,'Daily Log'!#REF!),0)","v":0},{"$f":"IFERROR($E330*SUMIF('Daily Log'!#REF!,$B330,'Daily Log'!#REF!),0)","v":0},{"$f":"IFERROR($E330*SUMIF('Daily Log'!#REF!,$B330,'Daily Log'!#REF!),0)","v":0},{"$f":"IFERROR($E330*SUMIF('Daily Log'!#REF!,$B330,'Daily Log'!#REF!),0)","v":0},{"$f":"IFERROR($E330*SUMIF('Daily Log'!#REF!,$B330,'Daily Log'!#REF!),0)","v":0},{"$f":"IFERROR($E330*SUMIF('Daily Log'!#REF!,$B330,'Daily Log'!#REF!),0)","v":0},{"$f":"IFERROR($E330*SUMIF('Daily Log'!#REF!,$B330,'Daily Log'!#REF!),0)","v":0},{"$f":"IFERROR($E330*SUMIF('Daily Log'!#REF!,$B330,'Daily Log'!#REF!),0)","v":0},{"$f":"IFERROR($E330*SUMIF('Daily Log'!#REF!,$B330,'Daily Log'!#REF!),0)","v":0},{"$f":"IFERROR($E330*SUMIF('Daily Log'!#REF!,$B330,'Daily Log'!#REF!),0)","v":0},{"$f":"IFERROR($E330*SUMIF('Daily Log'!#REF!,$B330,'Daily Log'!#REF!),0)","v":0},{"$f":"IFERROR($E330*SUMIF('Daily Log'!#REF!,$B330,'Daily Log'!#REF!),0)","v":0},{"$f":"IFERROR($E330*SUMIF('Daily Log'!#REF!,$B330,'Daily Log'!#REF!),0)","v":0},{"$f":"IFERROR($E330*SUMIF('Daily Log'!#REF!,$B330,'Daily Log'!#REF!),0)","v":0},{"$f":"IFERROR($E330*SUMIF('Daily Log'!#REF!,$B330,'Daily Log'!#REF!),0)","v":0}]
[null,"DH01 91101:THAI CHK",null,"KLKD-LOCAL DELIGHTS",1,25,{"$f":"IFERROR($E331*SUMIF('Daily Log'!$B$18:$B$1017,$B331,'Daily Log'!$C$18:$C$1017),0)","v":8},{"$f":"IFERROR($E331*SUMIF('Daily Log'!$E$18:$E$1017,$B331,'Daily Log'!$F$18:$F$1017),0)","v":6},{"$f":"IFERROR($E331*SUMIF('Daily Log'!$H$18:$H$1017,$B331,'Daily Log'!$I$18:$I$1017),0)","v":5},{"$f":"IFERROR($E331*SUMIF('Daily Log'!$K$18:$K$1017,$B331,'Daily Log'!$L$18:$L$1017),0)","v":3},{"$f":"IFERROR($E331*SUMIF('Daily Log'!$N$18:$N$1017,$B331,'Daily Log'!$O$18:$O$1017),0)","v":3},{"$f":"IFERROR($E331*SUMIF('Daily Log'!#REF!,$B331,'Daily Log'!#REF!),0)","v":0},{"$f":"IFERROR($E331*SUMIF('Daily Log'!#REF!,$B331,'Daily Log'!#REF!),0)","v":0},{"$f":"IFERROR($E331*SUMIF('Daily Log'!#REF!,$B331,'Daily Log'!#REF!),0)","v":0},{"$f":"IFERROR($E331*SUMIF('Daily Log'!#REF!,$B331,'Daily Log'!#REF!),0)","v":0},{"$f":"IFERROR($E331*SUMIF('Daily Log'!#REF!,$B331,'Daily Log'!#REF!),0)","v":0},{"$f":"IFERROR($E331*SUMIF('Daily Log'!#REF!,$B331,'Daily Log'!#REF!),0)","v":0},{"$f":"IFERROR($E331*SUMIF('Daily Log'!#REF!,$B331,'Daily Log'!#REF!),0)","v":0},{"$f":"IFERROR($E331*SUMIF('Daily Log'!#REF!,$B331,'Daily Log'!#REF!),0)","v":0},{"$f":"IFERROR($E331*SUMIF('Daily Log'!#REF!,$B331,'Daily Log'!#REF!),0)","v":0},{"$f":"IFERROR($E331*SUMIF('Daily Log'!#REF!,$B331,'Daily Log'!#REF!),0)","v":0},{"$f":"IFERROR($E331*SUMIF('Daily Log'!#REF!,$B331,'Daily Log'!#REF!),0)","v":0},{"$f":"IFERROR($E331*SUMIF('Daily Log'!#REF!,$B331,'Daily Log'!#REF!),0)","v":0},{"$f":"IFERROR($E331*SUMIF('Daily Log'!#REF!,$B331,'Daily Log'!#REF!),0)","v":0},{"$f":"IFERROR($E331*SUMIF('Daily Log'!#REF!,$B331,'Daily Log'!#REF!),0)","v":0},{"$f":"IFERROR($E331*SUMIF('Daily Log'!#REF!,$B331,'Daily Log'!#REF!),0)","v":0},{"$f":"IFERROR($E331*SUMIF('Daily Log'!#REF!,$B331,'Daily Log'!#REF!),0)","v":0},{"$f":"IFERROR($E331*SUMIF('Daily Log'!#REF!,$B331,'Daily Log'!#REF!),0)","v":0},{"$f":"IFERROR($E331*SUMIF('Daily Log'!#REF!,$B331,'Daily Log'!#REF!),0)","v":0},{"$f":"IFERROR($E331*SUMIF('Daily Log'!#REF!,$B331,'Daily Log'!#REF!),0)","v":0},{"$f":"IFERROR($E331*SUMIF('Daily Log'!#REF!,$B331,'Daily Log'!#REF!),0)","v":0},{"$f":"IFERROR($E331*SUMIF('Daily Log'!#REF!,$B331,'Daily Log'!#REF!),0)","v":0},{"$f":"IFERROR($E331*SUMIF('Daily Log'!#REF!,$B331,'Daily Log'!#REF!),0)","v":0},{"$f":"IFERROR($E331*SUMIF('Daily Log'!#REF!,$B331,'Daily Log'!#REF!),0)","v":0},{"$f":"IFERROR($E331*SUMIF('Daily Log'!#REF!,$B331,'Daily Log'!#REF!),0)","v":0},{"$f":"IFERROR($E331*SUMIF('Daily Log'!#REF!,$B331,'Daily Log'!#REF!),0)","v":0},{"$f":"IFERROR($E331*SUMIF('Daily Log'!#REF!,$B331,'Daily Log'!#REF!),0)","v":0}]
[null,"DH02 91102:MAMITE CHK",null,"KLKD-LOCAL DELIGHTS",1,32,{"$f":"IFERROR($E332*SUMIF('Daily Log'!$B$18:$B$1017,$B332,'Daily Log'!$C$18:$C$1017),0)","v":13},{"$f":"IFERROR($E332*SUMIF('Daily Log'!$E$18:$E$1017,$B332,'Daily Log'!$F$18:$F$1017),0)","v":2},{"$f":"IFERROR($E332*SUMIF('Daily Log'!$H$18:$H$1017,$B332,'Daily Log'!$I$18:$I$1017),0)","v":6},{"$f":"IFERROR($E332*SUMIF('Daily Log'!$K$18:$K$1017,$B332,'Daily Log'!$L$18:$L$1017),0)","v":7},{"$f":"IFERROR($E332*SUMIF('Daily Log'!$N$18:$N$1017,$B332,'Daily Log'!$O$18:$O$1017),0)","v":4},{"$f":"IFERROR($E332*SUMIF('Daily Log'!#REF!,$B332,'Daily Log'!#REF!),0)","v":0},{"$f":"IFERROR($E332*SUMIF('Daily Log'!#REF!,$B332,'Daily Log'!#REF!),0)","v":0},{"$f":"IFERROR($E332*SUMIF('Daily Log'!#REF!,$B332,'Daily Log'!#REF!),0)","v":0},{"$f":"IFERROR($E332*SUMIF('Daily Log'!#REF!,$B332,'Daily Log'!#REF!),0)","v":0},{"$f":"IFERROR($E332*SUMIF('Daily Log'!#REF!,$B332,'Daily Log'!#REF!),0)","v":0},{"$f":"IFERROR($E332*SUMIF('Daily Log'!#REF!,$B332,'Daily Log'!#REF!),0)","v":0},{"$f":"IFERROR($E332*SUMIF('Daily Log'!#REF!,$B332,'Daily Log'!#REF!),0)","v":0},{"$f":"IFERROR($E332*SUMIF('Daily Log'!#REF!,$B332,'Daily Log'!#REF!),0)","v":0},{"$f":"IFERROR($E332*SUMIF('Daily Log'!#REF!,$B332,'Daily Log'!#REF!),0)","v":0},{"$f":"IFERROR($E332*SUMIF('Daily Log'!#REF!,$B332,'Daily Log'!#REF!),0)","v":0},{"$f":"IFERROR($E332*SUMIF('Daily Log'!#REF!,$B332,'Daily Log'!#REF!),0)","v":0},{"$f":"IFERROR($E332*SUMIF('Daily Log'!#REF!,$B332,'Daily Log'!#REF!),0)","v":0},{"$f":"IFERROR($E332*SUMIF('Daily Log'!#REF!,$B332,'Daily Log'!#REF!),0)","v":0},{"$f":"IFERROR($E332*SUMIF('Daily Log'!#REF!,$B332,'Daily Log'!#REF!),0)","v":0},{"$f":"IFERROR($E332*SUMIF('Daily Log'!#REF!,$B332,'Daily Log'!#REF!),0)","v":0},{"$f":"IFERROR($E332*SUMIF('Daily Log'!#REF!,$B332,'Daily Log'!#REF!),0)","v":0},{"$f":"IFERROR($E332*SUMIF('Daily Log'!#REF!,$B332,'Daily Log'!#REF!),0)","v":0},{"$f":"IFERROR($E332*SUMIF('Daily Log'!#REF!,$B332,'Daily Log'!#REF!),0)","v":0},{"$f":"IFERROR($E332*SUMIF('Daily Log'!#REF!,$B332,'Daily Log'!#REF!),0)","v":0},{"$f":"IFERROR($E332*SUMIF('Daily Log'!#REF!,$B332,'Daily Log'!#REF!),0)","v":0},{"$f":"IFERROR($E332*SUMIF('Daily Log'!#REF!,$B332,'Daily Log'!#REF!),0)","v":0},{"$f":"IFERROR($E332*SUMIF('Daily Log'!#REF!,$B332,'Daily Log'!#REF!),0)","v":0},{"$f":"IFERROR($E332*SUMIF('Daily Log'!#REF!,$B332,'Daily Log'!#REF!),0)","v":0},{"$f":"IFERROR($E332*SUMIF('Daily Log'!#REF!,$B332,'Daily Log'!#REF!),0)","v":0},{"$f":"IFERROR($E332*SUMIF('Daily Log'!#REF!,$B332,'Daily Log'!#REF!),0)","v":0},{"$f":"IFERROR($E332*SUMIF('Daily Log'!#REF!,$B332,'Daily Log'!#REF!),0)","v":0}]
[null,"DH03 91103:KO PO CHK",null,"KLKD-LOCAL DELIGHTS",1,10,{"$f":"IFERROR($E333*SUMIF('Daily Log'!$B$18:$B$1017,$B333,'Daily Log'!$C$18:$C$1017),0)","v":4},{"$f":"IFERROR($E333*SUMIF('Daily Log'!$E$18:$E$1017,$B333,'Daily Log'!$F$18:$F$1017),0)","v":2},{"$f":"IFERROR($E333*SUMIF('Daily Log'!$H$18:$H$1017,$B333,'Daily Log'!$I$18:$I$1017),0)","v":0},{"$f":"IFERROR($E333*SUMIF('Daily Log'!$K$18:$K$1017,$B333,'Daily Log'!$L$18:$L$1017),0)","v":2},{"$f":"IFERROR($E333*SUMIF('Daily Log'!$N$18:$N$1017,$B333,'Daily Log'!$O$18:$O$1017),0)","v":2},{"$f":"IFERROR($E333*SUMIF('Daily Log'!#REF!,$B333,'Daily Log'!#REF!),0)","v":0},{"$f":"IFERROR($E333*SUMIF('Daily Log'!#REF!,$B333,'Daily Log'!#REF!),0)","v":0},{"$f":"IFERROR($E333*SUMIF('Daily Log'!#REF!,$B333,'Daily Log'!#REF!),0)","v":0},{"$f":"IFERROR($E333*SUMIF('Daily Log'!#REF!,$B333,'Daily Log'!#REF!),0)","v":0},{"$f":"IFERROR($E333*SUMIF('Daily Log'!#REF!,$B333,'Daily Log'!#REF!),0)","v":0},{"$f":"IFERROR($E333*SUMIF('Daily Log'!#REF!,$B333,'Daily Log'!#REF!),0)","v":0},{"$f":"IFERROR($E333*SUMIF('Daily Log'!#REF!,$B333,'Daily Log'!#REF!),0)","v":0},{"$f":"IFERROR($E333*SUMIF('Daily Log'!#REF!,$B333,'Daily Log'!#REF!),0)","v":0},{"$f":"IFERROR($E333*SUMIF('Daily Log'!#REF!,$B333,'Daily Log'!#REF!),0)","v":0},{"$f":"IFERROR($E333*SUMIF('Daily Log'!#REF!,$B333,'Daily Log'!#REF!),0)","v":0},{"$f":"IFERROR($E333*SUMIF('Daily Log'!#REF!,$B333,'Daily Log'!#REF!),0)","v":0},{"$f":"IFERROR($E333*SUMIF('Daily Log'!#REF!,$B333,'Daily Log'!#REF!),0)","v":0},{"$f":"IFERROR($E333*SUMIF('Daily Log'!#REF!,$B333,'Daily Log'!#REF!),0)","v":0},{"$f":"IFERROR($E333*SUMIF('Daily Log'!#REF!,$B333,'Daily Log'!#REF!),0)","v":0},{"$f":"IFERROR($E333*SUMIF('Daily Log'!#REF!,$B333,'Daily Log'!#REF!),0)","v":0},{"$f":"IFERROR($E333*SUMIF('Daily Log'!#REF!,$B333,'Daily Log'!#REF!),0)","v":0},{"$f":"IFERROR($E333*SUMIF('Daily Log'!#REF!,$B333,'Daily Log'!#REF!),0)","v":0},{"$f":"IFERROR($E333*SUMIF('Daily Log'!#REF!,$B333,'Daily Log'!#REF!),0)","v":0},{"$f":"IFERROR($E333*SUMIF('Daily Log'!#REF!,$B333,'Daily Log'!#REF!),0)","v":0},{"$f":"IFERROR($E333*SUMIF('Daily Log'!#REF!,$B333,'Daily Log'!#REF!),0)","v":0},{"$f":"IFERROR($E333*SUMIF('Daily Log'!#REF!,$B333,'Daily Log'!#REF!),0)","v":0},{"$f":"IFERROR($E333*SUMIF('Daily Log'!#REF!,$B333,'Daily Log'!#REF!),0)","v":0},{"$f":"IFERROR($E333*SUMIF('Daily Log'!#REF!,$B333,'Daily Log'!#REF!),0)","v":0},{"$f":"IFERROR($E333*SUMIF('Daily Log'!#REF!,$B333,'Daily Log'!#REF!),0)","v":0},{"$f":"IFERROR($E333*SUMIF('Daily Log'!#REF!,$B333,'Daily Log'!#REF!),0)","v":0},{"$f":"IFERROR($E333*SUMIF('Daily Log'!#REF!,$B333,'Daily Log'!#REF!),0)","v":0}]
[null,"DH04 91104:S&S CHK",null,"KLKD-LOCAL DELIGHTS",1,{"$f":"SUM($G334:$AK334)","v":14},{"$f":"IFERROR($E334*SUMIF('Daily Log'!$B$18:$B$1017,$B334,'Daily Log'!$C$18:$C$1017),0)","v":8},{"$f":"IFERROR($E334*SUMIF('Daily Log'!$E$18:$E$1017,$B334,'Daily Log'!$F$18:$F$1017),0)","v":1},{"$f":"IFERROR($E334*SUMIF('Daily Log'!$H$18:$H$1017,$B334,'Daily Log'!$I$18:$I$1017),0)","v":2},{"$f":"IFERROR($E334*SUMIF('Daily Log'!$K$18:$K$1017,$B334,'Daily Log'!$L$18:$L$1017),0)","v":3},{"$f":"IFERROR($E334*SUMIF('Daily Log'!$N$18:$N$1017,$B334,'Daily Log'!$O$18:$O$1017),0)","v":0},{"$f":"IFERROR($E334*SUMIF('Daily Log'!#REF!,$B334,'Daily Log'!#REF!),0)","v":0},{"$f":"IFERROR($E334*SUMIF('Daily Log'!#REF!,$B334,'Daily Log'!#REF!),0)","v":0},{"$f":"IFERROR($E334*SUMIF('Daily Log'!#REF!,$B334,'Daily Log'!#REF!),0)","v":0},{"$f":"IFERROR($E334*SUMIF('Daily Log'!#REF!,$B334,'Daily Log'!#REF!),0)","v":0},{"$f":"IFERROR($E334*SUMIF('Daily Log'!#REF!,$B334,'Daily Log'!#REF!),0)","v":0},{"$f":"IFERROR($E334*SUMIF('Daily Log'!#REF!,$B334,'Daily Log'!#REF!),0)","v":0},{"$f":"IFERROR($E334*SUMIF('Daily Log'!#REF!,$B334,'Daily Log'!#REF!),0)","v":0},{"$f":"IFERROR($E334*SUMIF('Daily Log'!#REF!,$B334,'Daily Log'!#REF!),0)","v":0},{"$f":"IFERROR($E334*SUMIF('Daily Log'!#REF!,$B334,'Daily Log'!#REF!),0)","v":0},{"$f":"IFERROR($E334*SUMIF('Daily Log'!#REF!,$B334,'Daily Log'!#REF!),0)","v":0},{"$f":"IFERROR($E334*SUMIF('Daily Log'!#REF!,$B334,'Daily Log'!#REF!),0)","v":0},{"$f":"IFERROR($E334*SUMIF('Daily Log'!#REF!,$B334,'Daily Log'!#REF!),0)","v":0},{"$f":"IFERROR($E334*SUMIF('Daily Log'!#REF!,$B334,'Daily Log'!#REF!),0)","v":0},{"$f":"IFERROR($E334*SUMIF('Daily Log'!#REF!,$B334,'Daily Log'!#REF!),0)","v":0},{"$f":"IFERROR($E334*SUMIF('Daily Log'!#REF!,$B334,'Daily Log'!#REF!),0)","v":0},{"$f":"IFERROR($E334*SUMIF('Daily Log'!#REF!,$B334,'Daily Log'!#REF!),0)","v":0},{"$f":"IFERROR($E334*SUMIF('Daily Log'!#REF!,$B334,'Daily Log'!#REF!),0)","v":0},{"$f":"IFERROR($E334*SUMIF('Daily Log'!#REF!,$B334,'Daily Log'!#REF!),0)","v":0},{"$f":"IFERROR($E334*SUMIF('Daily Log'!#REF!,$B334,'Daily Log'!#REF!),0)","v":0},{"$f":"IFERROR($E334*SUMIF('Daily Log'!#REF!,$B334,'Daily Log'!#REF!),0)","v":0},{"$f":"IFERROR($E334*SUMIF('Daily Log'!#REF!,$B334,'Daily Log'!#REF!),0)","v":0},{"$f":"IFERROR($E334*SUMIF('Daily Log'!#REF!,$B334,'Daily Log'!#REF!),0)","v":0},{"$f":"IFERROR($E334*SUMIF('Daily Log'!#REF!,$B334,'Daily Log'!#REF!),0)","v":0},{"$f":"IFERROR($E334*SUMIF('Daily Log'!#REF!,$B334,'Daily Log'!#REF!),0)","v":0},{"$f":"IFERROR($E334*SUMIF('Daily Log'!#REF!,$B334,'Daily Log'!#REF!),0)","v":0},{"$f":"IFERROR($E334*SUMIF('Daily Log'!#REF!,$B334,'Daily Log'!#REF!),0)","v":0}]
[null,"DH05 91105:BUTTER CHK",null,"KLKD-LOCAL DELIGHTS",1,54,{"$f":"IFERROR($E335*SUMIF('Daily Log'!$B$18:$B$1017,$B335,'Daily Log'!$C$18:$C$1017),0)","v":17},{"$f":"IFERROR($E335*SUMIF('Daily Log'!$E$18:$E$1017,$B335,'Daily Log'!$F$18:$F$1017),0)","v":8},{"$f":"IFERROR($E335*SUMIF('Daily Log'!$H$18:$H$1017,$B335,'Daily Log'!$I$18:$I$1017),0)","v":14},{"$f":"IFERROR($E335*SUMIF('Daily Log'!$K$18:$K$1017,$B335,'Daily Log'!$L$18:$L$1017),0)","v":10},{"$f":"IFERROR($E335*SUMIF('Daily Log'!$N$18:$N$1017,$B335,'Daily Log'!$O$18:$O$1017),0)","v":5},{"$f":"IFERROR($E335*SUMIF('Daily Log'!#REF!,$B335,'Daily Log'!#REF!),0)","v":0},{"$f":"IFERROR($E335*SUMIF('Daily Log'!#REF!,$B335,'Daily Log'!#REF!),0)","v":0},{"$f":"IFERROR($E335*SUMIF('Daily Log'!#REF!,$B335,'Daily Log'!#REF!),0)","v":0},{"$f":"IFERROR($E335*SUMIF('Daily Log'!#REF!,$B335,'Daily Log'!#REF!),0)","v":0},{"$f":"IFERROR($E335*SUMIF('Daily Log'!#REF!,$B335,'Daily Log'!#REF!),0)","v":0},{"$f":"IFERROR($E335*SUMIF('Daily Log'!#REF!,$B335,'Daily Log'!#REF!),0)","v":0},{"$f":"IFERROR($E335*SUMIF('Daily Log'!#REF!,$B335,'Daily Log'!#REF!),0)","v":0},{"$f":"IFERROR($E335*SUMIF('Daily Log'!#REF!,$B335,'Daily Log'!#REF!),0)","v":0},{"$f":"IFERROR($E335*SUMIF('Daily Log'!#REF!,$B335,'Daily Log'!#REF!),0)","v":0},{"$f":"IFERROR($E335*SUMIF('Daily Log'!#REF!,$B335,'Daily Log'!#REF!),0)","v":0},{"$f":"IFERROR($E335*SUMIF('Daily Log'!#REF!,$B335,'Daily Log'!#REF!),0)","v":0},{"$f":"IFERROR($E335*SUMIF('Daily Log'!#REF!,$B335,'Daily Log'!#REF!),0)","v":0},{"$f":"IFERROR($E335*SUMIF('Daily Log'!#REF!,$B335,'Daily Log'!#REF!),0)","v":0},{"$f":"IFERROR($E335*SUMIF('Daily Log'!#REF!,$B335,'Daily Log'!#REF!),0)","v":0},{"$f":"IFERROR($E335*SUMIF('Daily Log'!#REF!,$B335,'Daily Log'!#REF!),0)","v":0},{"$f":"IFERROR($E335*SUMIF('Daily Log'!#REF!,$B335,'Daily Log'!#REF!),0)","v":0},{"$f":"IFERROR($E335*SUMIF('Daily Log'!#REF!,$B335,'Daily Log'!#REF!),0)","v":0},{"$f":"IFERROR($E335*SUMIF('Daily Log'!#REF!,$B335,'Daily Log'!#REF!),0)","v":0},{"$f":"IFERROR($E335*SUMIF('Daily Log'!#REF!,$B335,'Daily Log'!#REF!),0)","v":0},{"$f":"IFERROR($E335*SUMIF('Daily Log'!#REF!,$B335,'Daily Log'!#REF!),0)","v":0},{"$f":"IFERROR($E335*SUMIF('Daily Log'!#REF!,$B335,'Daily Log'!#REF!),0)","v":0},{"$f":"IFERROR($E335*SUMIF('Daily Log'!#REF!,$B335,'Daily Log'!#REF!),0)","v":0},{"$f":"IFERROR($E335*SUMIF('Daily Log'!#REF!,$B335,'Daily Log'!#REF!),0)","v":0},{"$f":"IFERROR($E335*SUMIF('Daily Log'!#REF!,$B335,'Daily Log'!#REF!),0)","v":0},{"$f":"IFERROR($E335*SUMIF('Daily Log'!#REF!,$B335,'Daily Log'!#REF!),0)","v":0},{"$f":"IFERROR($E335*SUMIF('Daily Log'!#REF!,$B335,'Daily Log'!#REF!),0)","v":0}]
[null,"DH06 91106:HK F.RICE",null,"KLKD-LOCAL DELIGHTS",1,27,{"$f":"IFERROR($E336*SUMIF('Daily Log'!$B$18:$B$1017,$B336,'Daily Log'!$C$18:$C$1017),0)","v":8},{"$f":"IFERROR($E336*SUMIF('Daily Log'!$E$18:$E$1017,$B336,'Daily Log'!$F$18:$F$1017),0)","v":8},{"$f":"IFERROR($E336*SUMIF('Daily Log'!$H$18:$H$1017,$B336,'Daily Log'!$I$18:$I$1017),0)","v":8},{"$f":"IFERROR($E336*SUMIF('Daily Log'!$K$18:$K$1017,$B336,'Daily Log'!$L$18:$L$1017),0)","v":2},{"$f":"IFERROR($E336*SUMIF('Daily Log'!$N$18:$N$1017,$B336,'Daily Log'!$O$18:$O$1017),0)","v":1},{"$f":"IFERROR($E336*SUMIF('Daily Log'!#REF!,$B336,'Daily Log'!#REF!),0)","v":0},{"$f":"IFERROR($E336*SUMIF('Daily Log'!#REF!,$B336,'Daily Log'!#REF!),0)","v":0},{"$f":"IFERROR($E336*SUMIF('Daily Log'!#REF!,$B336,'Daily Log'!#REF!),0)","v":0},{"$f":"IFERROR($E336*SUMIF('Daily Log'!#REF!,$B336,'Daily Log'!#REF!),0)","v":0},{"$f":"IFERROR($E336*SUMIF('Daily Log'!#REF!,$B336,'Daily Log'!#REF!),0)","v":0},{"$f":"IFERROR($E336*SUMIF('Daily Log'!#REF!,$B336,'Daily Log'!#REF!),0)","v":0},{"$f":"IFERROR($E336*SUMIF('Daily Log'!#REF!,$B336,'Daily Log'!#REF!),0)","v":0},{"$f":"IFERROR($E336*SUMIF('Daily Log'!#REF!,$B336,'Daily Log'!#REF!),0)","v":0},{"$f":"IFERROR($E336*SUMIF('Daily Log'!#REF!,$B336,'Daily Log'!#REF!),0)","v":0},{"$f":"IFERROR($E336*SUMIF('Daily Log'!#REF!,$B336,'Daily Log'!#REF!),0)","v":0},{"$f":"IFERROR($E336*SUMIF('Daily Log'!#REF!,$B336,'Daily Log'!#REF!),0)","v":0},{"$f":"IFERROR($E336*SUMIF('Daily Log'!#REF!,$B336,'Daily Log'!#REF!),0)","v":0},{"$f":"IFERROR($E336*SUMIF('Daily Log'!#REF!,$B336,'Daily Log'!#REF!),0)","v":0},{"$f":"IFERROR($E336*SUMIF('Daily Log'!#REF!,$B336,'Daily Log'!#REF!),0)","v":0},{"$f":"IFERROR($E336*SUMIF('Daily Log'!#REF!,$B336,'Daily Log'!#REF!),0)","v":0},{"$f":"IFERROR($E336*SUMIF('Daily Log'!#REF!,$B336,'Daily Log'!#REF!),0)","v":0},{"$f":"IFERROR($E336*SUMIF('Daily Log'!#REF!,$B336,'Daily Log'!#REF!),0)","v":0},{"$f":"IFERROR($E336*SUMIF('Daily Log'!#REF!,$B336,'Daily Log'!#REF!),0)","v":0},{"$f":"IFERROR($E336*SUMIF('Daily Log'!#REF!,$B336,'Daily Log'!#REF!),0)","v":0},{"$f":"IFERROR($E336*SUMIF('Daily Log'!#REF!,$B336,'Daily Log'!#REF!),0)","v":0},{"$f":"IFERROR($E336*SUMIF('Daily Log'!#REF!,$B336,'Daily Log'!#REF!),0)","v":0},{"$f":"IFERROR($E336*SUMIF('Daily Log'!#REF!,$B336,'Daily Log'!#REF!),0)","v":0},{"$f":"IFERROR($E336*SUMIF('Daily Log'!#REF!,$B336,'Daily Log'!#REF!),0)","v":0},{"$f":"IFERROR($E336*SUMIF('Daily Log'!#REF!,$B336,'Daily Log'!#REF!),0)","v":0},{"$f":"IFERROR($E336*SUMIF('Daily Log'!#REF!,$B336,'Daily Log'!#REF!),0)","v":0},{"$f":"IFERROR($E336*SUMIF('Daily Log'!#REF!,$B336,'Daily Log'!#REF!),0)","v":0}]
[null,"DH07 91107:SBL F.RICE",null,"KLKD-LOCAL DELIGHTS",1,18,{"$f":"IFERROR($E337*SUMIF('Daily Log'!$B$18:$B$1017,$B337,'Daily Log'!$C$18:$C$1017),0)","v":9},{"$f":"IFERROR($E337*SUMIF('Daily Log'!$E$18:$E$1017,$B337,'Daily Log'!$F$18:$F$1017),0)","v":1},{"$f":"IFERROR($E337*SUMIF('Daily Log'!$H$18:$H$1017,$B337,'Daily Log'!$I$18:$I$1017),0)","v":5},{"$f":"IFERROR($E337*SUMIF('Daily Log'!$K$18:$K$1017,$B337,'Daily Log'!$L$18:$L$1017),0)","v":3},{"$f":"IFERROR($E337*SUMIF('Daily Log'!$N$18:$N$1017,$B337,'Daily Log'!$O$18:$O$1017),0)","v":0},{"$f":"IFERROR($E337*SUMIF('Daily Log'!#REF!,$B337,'Daily Log'!#REF!),0)","v":0},{"$f":"IFERROR($E337*SUMIF('Daily Log'!#REF!,$B337,'Daily Log'!#REF!),0)","v":0},{"$f":"IFERROR($E337*SUMIF('Daily Log'!#REF!,$B337,'Daily Log'!#REF!),0)","v":0},{"$f":"IFERROR($E337*SUMIF('Daily Log'!#REF!,$B337,'Daily Log'!#REF!),0)","v":0},{"$f":"IFERROR($E337*SUMIF('Daily Log'!#REF!,$B337,'Daily Log'!#REF!),0)","v":0},{"$f":"IFERROR($E337*SUMIF('Daily Log'!#REF!,$B337,'Daily Log'!#REF!),0)","v":0},{"$f":"IFERROR($E337*SUMIF('Daily Log'!#REF!,$B337,'Daily Log'!#REF!),0)","v":0},{"$f":"IFERROR($E337*SUMIF('Daily Log'!#REF!,$B337,'Daily Log'!#REF!),0)","v":0},{"$f":"IFERROR($E337*SUMIF('Daily Log'!#REF!,$B337,'Daily Log'!#REF!),0)","v":0},{"$f":"IFERROR($E337*SUMIF('Daily Log'!#REF!,$B337,'Daily Log'!#REF!),0)","v":0},{"$f":"IFERROR($E337*SUMIF('Daily Log'!#REF!,$B337,'Daily Log'!#REF!),0)","v":0},{"$f":"IFERROR($E337*SUMIF('Daily Log'!#REF!,$B337,'Daily Log'!#REF!),0)","v":0},{"$f":"IFERROR($E337*SUMIF('Daily Log'!#REF!,$B337,'Daily Log'!#REF!),0)","v":0},{"$f":"IFERROR($E337*SUMIF('Daily Log'!#REF!,$B337,'Daily Log'!#REF!),0)","v":0},{"$f":"IFERROR($E337*SUMIF('Daily Log'!#REF!,$B337,'Daily Log'!#REF!),0)","v":0},{"$f":"IFERROR($E337*SUMIF('Daily Log'!#REF!,$B337,'Daily Log'!#REF!),0)","v":0},{"$f":"IFERROR($E337*SUMIF('Daily Log'!#REF!,$B337,'Daily Log'!#REF!),0)","v":0},{"$f":"IFERROR($E337*SUMIF('Daily Log'!#REF!,$B337,'Daily Log'!#REF!),0)","v":0},{"$f":"IFERROR($E337*SUMIF('Daily Log'!#REF!,$B337,'Daily Log'!#REF!),0)","v":0},{"$f":"IFERROR($E337*SUMIF('Daily Log'!#REF!,$B337,'Daily Log'!#REF!),0)","v":0},{"$f":"IFERROR($E337*SUMIF('Daily Log'!#REF!,$B337,'Daily Log'!#REF!),0)","v":0},{"$f":"IFERROR($E337*SUMIF('Daily Log'!#REF!,$B337,'Daily Log'!#REF!),0)","v":0},{"$f":"IFERROR($E337*SUMIF('Daily Log'!#REF!,$B337,'Daily Log'!#REF!),0)","v":0},{"$f":"IFERROR($E337*SUMIF('Daily Log'!#REF!,$B337,'Daily Log'!#REF!),0)","v":0},{"$f":"IFERROR($E337*SUMIF('Daily Log'!#REF!,$B337,'Daily Log'!#REF!),0)","v":0},{"$f":"IFERROR($E337*SUMIF('Daily Log'!#REF!,$B337,'Daily Log'!#REF!),0)","v":0}]
[null,"DH08 91108:SBL F.MEE",null,"KLKD-LOCAL DELIGHTS",1,4,{"$f":"IFERROR($E338*SUMIF('Daily Log'!$B$18:$B$1017,$B338,'Daily Log'!$C$18:$C$1017),0)","v":2},{"$f":"IFERROR($E338*SUMIF('Daily Log'!$E$18:$E$1017,$B338,'Daily Log'!$F$18:$F$1017),0)","v":0},{"$f":"IFERROR($E338*SUMIF('Daily Log'!$H$18:$H$1017,$B338,'Daily Log'!$I$18:$I$1017),0)","v":1},{"$f":"IFERROR($E338*SUMIF('Daily Log'!$K$18:$K$1017,$B338,'Daily Log'!$L$18:$L$1017),0)","v":0},{"$f":"IFERROR($E338*SUMIF('Daily Log'!$N$18:$N$1017,$B338,'Daily Log'!$O$18:$O$1017),0)","v":1},{"$f":"IFERROR($E338*SUMIF('Daily Log'!#REF!,$B338,'Daily Log'!#REF!),0)","v":0},{"$f":"IFERROR($E338*SUMIF('Daily Log'!#REF!,$B338,'Daily Log'!#REF!),0)","v":0},{"$f":"IFERROR($E338*SUMIF('Daily Log'!#REF!,$B338,'Daily Log'!#REF!),0)","v":0},{"$f":"IFERROR($E338*SUMIF('Daily Log'!#REF!,$B338,'Daily Log'!#REF!),0)","v":0},{"$f":"IFERROR($E338*SUMIF('Daily Log'!#REF!,$B338,'Daily Log'!#REF!),0)","v":0},{"$f":"IFERROR($E338*SUMIF('Daily Log'!#REF!,$B338,'Daily Log'!#REF!),0)","v":0},{"$f":"IFERROR($E338*SUMIF('Daily Log'!#REF!,$B338,'Daily Log'!#REF!),0)","v":0},{"$f":"IFERROR($E338*SUMIF('Daily Log'!#REF!,$B338,'Daily Log'!#REF!),0)","v":0},{"$f":"IFERROR($E338*SUMIF('Daily Log'!#REF!,$B338,'Daily Log'!#REF!),0)","v":0},{"$f":"IFERROR($E338*SUMIF('Daily Log'!#REF!,$B338,'Daily Log'!#REF!),0)","v":0},{"$f":"IFERROR($E338*SUMIF('Daily Log'!#REF!,$B338,'Daily Log'!#REF!),0)","v":0},{"$f":"IFERROR($E338*SUMIF('Daily Log'!#REF!,$B338,'Daily Log'!#REF!),0)","v":0},{"$f":"IFERROR($E338*SUMIF('Daily Log'!#REF!,$B338,'Daily Log'!#REF!),0)","v":0},{"$f":"IFERROR($E338*SUMIF('Daily Log'!#REF!,$B338,'Daily Log'!#REF!),0)","v":0},{"$f":"IFERROR($E338*SUMIF('Daily Log'!#REF!,$B338,'Daily Log'!#REF!),0)","v":0},{"$f":"IFERROR($E338*SUMIF('Daily Log'!#REF!,$B338,'Daily Log'!#REF!),0)","v":0},{"$f":"IFERROR($E338*SUMIF('Daily Log'!#REF!,$B338,'Daily Log'!#REF!),0)","v":0},{"$f":"IFERROR($E338*SUMIF('Daily Log'!#REF!,$B338,'Daily Log'!#REF!),0)","v":0},{"$f":"IFERROR($E338*SUMIF('Daily Log'!#REF!,$B338,'Daily Log'!#REF!),0)","v":0},{"$f":"IFERROR($E338*SUMIF('Daily Log'!#REF!,$B338,'Daily Log'!#REF!),0)","v":0},{"$f":"IFERROR($E338*SUMIF('Daily Log'!#REF!,$B338,'Daily Log'!#REF!),0)","v":0},{"$f":"IFERROR($E338*SUMIF('Daily Log'!#REF!,$B338,'Daily Log'!#REF!),0)","v":0},{"$f":"IFERROR($E338*SUMIF('Daily Log'!#REF!,$B338,'Daily Log'!#REF!),0)","v":0},{"$f":"IFERROR($E338*SUMIF('Daily Log'!#REF!,$B338,'Daily Log'!#REF!),0)","v":0},{"$f":"IFERROR($E338*SUMIF('Daily Log'!#REF!,$B338,'Daily Log'!#REF!),0)","v":0},{"$f":"IFERROR($E338*SUMIF('Daily Log'!#REF!,$B338,'Daily Log'!#REF!),0)","v":0}]
[null,"DH09 91109:BP UDON",null,"KLKD-LOCAL DELIGHTS",1,14,{"$f":"IFERROR($E339*SUMIF('Daily Log'!$B$18:$B$1017,$B339,'Daily Log'!$C$18:$C$1017),0)","v":6},{"$f":"IFERROR($E339*SUMIF('Daily Log'!$E$18:$E$1017,$B339,'Daily Log'!$F$18:$F$1017),0)","v":2},{"$f":"IFERROR($E339*SUMIF('Daily Log'!$H$18:$H$1017,$B339,'Daily Log'!$I$18:$I$1017),0)","v":2},{"$f":"IFERROR($E339*SUMIF('Daily Log'!$K$18:$K$1017,$B339,'Daily Log'!$L$18:$L$1017),0)","v":4},{"$f":"IFERROR($E339*SUMIF('Daily Log'!$N$18:$N$1017,$B339,'Daily Log'!$O$18:$O$1017),0)","v":0},{"$f":"IFERROR($E339*SUMIF('Daily Log'!#REF!,$B339,'Daily Log'!#REF!),0)","v":0},{"$f":"IFERROR($E339*SUMIF('Daily Log'!#REF!,$B339,'Daily Log'!#REF!),0)","v":0},{"$f":"IFERROR($E339*SUMIF('Daily Log'!#REF!,$B339,'Daily Log'!#REF!),0)","v":0},{"$f":"IFERROR($E339*SUMIF('Daily Log'!#REF!,$B339,'Daily Log'!#REF!),0)","v":0},{"$f":"IFERROR($E339*SUMIF('Daily Log'!#REF!,$B339,'Daily Log'!#REF!),0)","v":0},{"$f":"IFERROR($E339*SUMIF('Daily Log'!#REF!,$B339,'Daily Log'!#REF!),0)","v":0},{"$f":"IFERROR($E339*SUMIF('Daily Log'!#REF!,$B339,'Daily Log'!#REF!),0)","v":0},{"$f":"IFERROR($E339*SUMIF('Daily Log'!#REF!,$B339,'Daily Log'!#REF!),0)","v":0},{"$f":"IFERROR($E339*SUMIF('Daily Log'!#REF!,$B339,'Daily Log'!#REF!),0)","v":0},{"$f":"IFERROR($E339*SUMIF('Daily Log'!#REF!,$B339,'Daily Log'!#REF!),0)","v":0},{"$f":"IFERROR($E339*SUMIF('Daily Log'!#REF!,$B339,'Daily Log'!#REF!),0)","v":0},{"$f":"IFERROR($E339*SUMIF('Daily Log'!#REF!,$B339,'Daily Log'!#REF!),0)","v":0},{"$f":"IFERROR($E339*SUMIF('Daily Log'!#REF!,$B339,'Daily Log'!#REF!),0)","v":0},{"$f":"IFERROR($E339*SUMIF('Daily Log'!#REF!,$B339,'Daily Log'!#REF!),0)","v":0},{"$f":"IFERROR($E339*SUMIF('Daily Log'!#REF!,$B339,'Daily Log'!#REF!),0)","v":0},{"$f":"IFERROR($E339*SUMIF('Daily Log'!#REF!,$B339,'Daily Log'!#REF!),0)","v":0},{"$f":"IFERROR($E339*SUMIF('Daily Log'!#REF!,$B339,'Daily Log'!#REF!),0)","v":0},{"$f":"IFERROR($E339*SUMIF('Daily Log'!#REF!,$B339,'Daily Log'!#REF!),0)","v":0},{"$f":"IFERROR($E339*SUMIF('Daily Log'!#REF!,$B339,'Daily Log'!#REF!),0)","v":0},{"$f":"IFERROR($E339*SUMIF('Daily Log'!#REF!,$B339,'Daily Log'!#REF!),0)","v":0},{"$f":"IFERROR($E339*SUMIF('Daily Log'!#REF!,$B339,'Daily Log'!#REF!),0)","v":0},{"$f":"IFERROR($E339*SUMIF('Daily Log'!#REF!,$B339,'Daily Log'!#REF!),0)","v":0},{"$f":"IFERROR($E339*SUMIF('Daily Log'!#REF!,$B339,'Daily Log'!#REF!),0)","v":0},{"$f":"IFERROR($E339*SUMIF('Daily Log'!#REF!,$B339,'Daily Log'!#REF!),0)","v":0},{"$f":"IFERROR($E339*SUMIF('Daily Log'!#REF!,$B339,'Daily Log'!#REF!),0)","v":0},{"$f":"IFERROR($E339*SUMIF('Daily Log'!#REF!,$B339,'Daily Log'!#REF!),0)","v":0}]
[null,"DH10 91110:NISSIN",null,"KLKD-LOCAL DELIGHTS",1,7,{"$f":"IFERROR($E340*SUMIF('Daily Log'!$B$18:$B$1017,$B340,'Daily Log'!$C$18:$C$1017),0)","v":1},{"$f":"IFERROR($E340*SUMIF('Daily Log'!$E$18:$E$1017,$B340,'Daily Log'!$F$18:$F$1017),0)","v":1},{"$f":"IFERROR($E340*SUMIF('Daily Log'!$H$18:$H$1017,$B340,'Daily Log'!$I$18:$I$1017),0)","v":5},{"$f":"IFERROR($E340*SUMIF('Daily Log'!$K$18:$K$1017,$B340,'Daily Log'!$L$18:$L$1017),0)","v":0},{"$f":"IFERROR($E340*SUMIF('Daily Log'!$N$18:$N$1017,$B340,'Daily Log'!$O$18:$O$1017),0)","v":0},{"$f":"IFERROR($E340*SUMIF('Daily Log'!#REF!,$B340,'Daily Log'!#REF!),0)","v":0},{"$f":"IFERROR($E340*SUMIF('Daily Log'!#REF!,$B340,'Daily Log'!#REF!),0)","v":0},{"$f":"IFERROR($E340*SUMIF('Daily Log'!#REF!,$B340,'Daily Log'!#REF!),0)","v":0},{"$f":"IFERROR($E340*SUMIF('Daily Log'!#REF!,$B340,'Daily Log'!#REF!),0)","v":0},{"$f":"IFERROR($E340*SUMIF('Daily Log'!#REF!,$B340,'Daily Log'!#REF!),0)","v":0},{"$f":"IFERROR($E340*SUMIF('Daily Log'!#REF!,$B340,'Daily Log'!#REF!),0)","v":0},{"$f":"IFERROR($E340*SUMIF('Daily Log'!#REF!,$B340,'Daily Log'!#REF!),0)","v":0},{"$f":"IFERROR($E340*SUMIF('Daily Log'!#REF!,$B340,'Daily Log'!#REF!),0)","v":0},{"$f":"IFERROR($E340*SUMIF('Daily Log'!#REF!,$B340,'Daily Log'!#REF!),0)","v":0},{"$f":"IFERROR($E340*SUMIF('Daily Log'!#REF!,$B340,'Daily Log'!#REF!),0)","v":0},{"$f":"IFERROR($E340*SUMIF('Daily Log'!#REF!,$B340,'Daily Log'!#REF!),0)","v":0},{"$f":"IFERROR($E340*SUMIF('Daily Log'!#REF!,$B340,'Daily Log'!#REF!),0)","v":0},{"$f":"IFERROR($E340*SUMIF('Daily Log'!#REF!,$B340,'Daily Log'!#REF!),0)","v":0},{"$f":"IFERROR($E340*SUMIF('Daily Log'!#REF!,$B340,'Daily Log'!#REF!),0)","v":0},{"$f":"IFERROR($E340*SUMIF('Daily Log'!#REF!,$B340,'Daily Log'!#REF!),0)","v":0},{"$f":"IFERROR($E340*SUMIF('Daily Log'!#REF!,$B340,'Daily Log'!#REF!),0)","v":0},{"$f":"IFERROR($E340*SUMIF('Daily Log'!#REF!,$B340,'Daily Log'!#REF!),0)","v":0},{"$f":"IFERROR($E340*SUMIF('Daily Log'!#REF!,$B340,'Daily Log'!#REF!),0)","v":0},{"$f":"IFERROR($E340*SUMIF('Daily Log'!#REF!,$B340,'Daily Log'!#REF!),0)","v":0},{"$f":"IFERROR($E340*SUMIF('Daily Log'!#REF!,$B340,'Daily Log'!#REF!),0)","v":0},{"$f":"IFERROR($E340*SUMIF('Daily Log'!#REF!,$B340,'Daily Log'!#REF!),0)","v":0},{"$f":"IFERROR($E340*SUMIF('Daily Log'!#REF!,$B340,'Daily Log'!#REF!),0)","v":0},{"$f":"IFERROR($E340*SUMIF('Daily Log'!#REF!,$B340,'Daily Log'!#REF!),0)","v":0},{"$f":"IFERROR($E340*SUMIF('Daily Log'!#REF!,$B340,'Daily Log'!#REF!),0)","v":0},{"$f":"IFERROR($E340*SUMIF('Daily Log'!#REF!,$B340,'Daily Log'!#REF!),0)","v":0},{"$f":"IFERROR($E340*SUMIF('Daily Log'!#REF!,$B340,'Daily Log'!#REF!),0)","v":0}]
[null,"DH11 91111:VEG RICE",null,"KLKD-LOCAL DELIGHTS",1,5,{"$f":"IFERROR($E341*SUMIF('Daily Log'!$B$18:$B$1017,$B341,'Daily Log'!$C$18:$C$1017),0)","v":1},{"$f":"IFERROR($E341*SUMIF('Daily Log'!$E$18:$E$1017,$B341,'Daily Log'!$F$18:$F$1017),0)","v":0},{"$f":"IFERROR($E341*SUMIF('Daily Log'!$H$18:$H$1017,$B341,'Daily Log'!$I$18:$I$1017),0)","v":4},{"$f":"IFERROR($E341*SUMIF('Daily Log'!$K$18:$K$1017,$B341,'Daily Log'!$L$18:$L$1017),0)","v":0},{"$f":"IFERROR($E341*SUMIF('Daily Log'!$N$18:$N$1017,$B341,'Daily Log'!$O$18:$O$1017),0)","v":0},{"$f":"IFERROR($E341*SUMIF('Daily Log'!#REF!,$B341,'Daily Log'!#REF!),0)","v":0},{"$f":"IFERROR($E341*SUMIF('Daily Log'!#REF!,$B341,'Daily Log'!#REF!),0)","v":0},{"$f":"IFERROR($E341*SUMIF('Daily Log'!#REF!,$B341,'Daily Log'!#REF!),0)","v":0},{"$f":"IFERROR($E341*SUMIF('Daily Log'!#REF!,$B341,'Daily Log'!#REF!),0)","v":0},{"$f":"IFERROR($E341*SUMIF('Daily Log'!#REF!,$B341,'Daily Log'!#REF!),0)","v":0},{"$f":"IFERROR($E341*SUMIF('Daily Log'!#REF!,$B341,'Daily Log'!#REF!),0)","v":0},{"$f":"IFERROR($E341*SUMIF('Daily Log'!#REF!,$B341,'Daily Log'!#REF!),0)","v":0},{"$f":"IFERROR($E341*SUMIF('Daily Log'!#REF!,$B341,'Daily Log'!#REF!),0)","v":0},{"$f":"IFERROR($E341*SUMIF('Daily Log'!#REF!,$B341,'Daily Log'!#REF!),0)","v":0},{"$f":"IFERROR($E341*SUMIF('Daily Log'!#REF!,$B341,'Daily Log'!#REF!),0)","v":0},{"$f":"IFERROR($E341*SUMIF('Daily Log'!#REF!,$B341,'Daily Log'!#REF!),0)","v":0},{"$f":"IFERROR($E341*SUMIF('Daily Log'!#REF!,$B341,'Daily Log'!#REF!),0)","v":0},{"$f":"IFERROR($E341*SUMIF('Daily Log'!#REF!,$B341,'Daily Log'!#REF!),0)","v":0},{"$f":"IFERROR($E341*SUMIF('Daily Log'!#REF!,$B341,'Daily Log'!#REF!),0)","v":0},{"$f":"IFERROR($E341*SUMIF('Daily Log'!#REF!,$B341,'Daily Log'!#REF!),0)","v":0},{"$f":"IFERROR($E341*SUMIF('Daily Log'!#REF!,$B341,'Daily Log'!#REF!),0)","v":0},{"$f":"IFERROR($E341*SUMIF('Daily Log'!#REF!,$B341,'Daily Log'!#REF!),0)","v":0},{"$f":"IFERROR($E341*SUMIF('Daily Log'!#REF!,$B341,'Daily Log'!#REF!),0)","v":0},{"$f":"IFERROR($E341*SUMIF('Daily Log'!#REF!,$B341,'Daily Log'!#REF!),0)","v":0},{"$f":"IFERROR($E341*SUMIF('Daily Log'!#REF!,$B341,'Daily Log'!#REF!),0)","v":0},{"$f":"IFERROR($E341*SUMIF('Daily Log'!#REF!,$B341,'Daily Log'!#REF!),0)","v":0},{"$f":"IFERROR($E341*SUMIF('Daily Log'!#REF!,$B341,'Daily Log'!#REF!),0)","v":0},{"$f":"IFERROR($E341*SUMIF('Daily Log'!#REF!,$B341,'Daily Log'!#REF!),0)","v":0},{"$f":"IFERROR($E341*SUMIF('Daily Log'!#REF!,$B341,'Daily Log'!#REF!),0)","v":0},{"$f":"IFERROR($E341*SUMIF('Daily Log'!#REF!,$B341,'Daily Log'!#REF!),0)","v":0},{"$f":"IFERROR($E341*SUMIF('Daily Log'!#REF!,$B341,'Daily Log'!#REF!),0)","v":0}]
[null,"DH12 91112:NASI LEMAK",null,"KLKD-LOCAL DELIGHTS",1,20,{"$f":"IFERROR($E342*SUMIF('Daily Log'!$B$18:$B$1017,$B342,'Daily Log'!$C$18:$C$1017),0)","v":10},{"$f":"IFERROR($E342*SUMIF('Daily Log'!$E$18:$E$1017,$B342,'Daily Log'!$F$18:$F$1017),0)","v":1},{"$f":"IFERROR($E342*SUMIF('Daily Log'!$H$18:$H$1017,$B342,'Daily Log'!$I$18:$I$1017),0)","v":6},{"$f":"IFERROR($E342*SUMIF('Daily Log'!$K$18:$K$1017,$B342,'Daily Log'!$L$18:$L$1017),0)","v":3},{"$f":"IFERROR($E342*SUMIF('Daily Log'!$N$18:$N$1017,$B342,'Daily Log'!$O$18:$O$1017),0)","v":0},{"$f":"IFERROR($E342*SUMIF('Daily Log'!#REF!,$B342,'Daily Log'!#REF!),0)","v":0},{"$f":"IFERROR($E342*SUMIF('Daily Log'!#REF!,$B342,'Daily Log'!#REF!),0)","v":0},{"$f":"IFERROR($E342*SUMIF('Daily Log'!#REF!,$B342,'Daily Log'!#REF!),0)","v":0},{"$f":"IFERROR($E342*SUMIF('Daily Log'!#REF!,$B342,'Daily Log'!#REF!),0)","v":0},{"$f":"IFERROR($E342*SUMIF('Daily Log'!#REF!,$B342,'Daily Log'!#REF!),0)","v":0},{"$f":"IFERROR($E342*SUMIF('Daily Log'!#REF!,$B342,'Daily Log'!#REF!),0)","v":0},{"$f":"IFERROR($E342*SUMIF('Daily Log'!#REF!,$B342,'Daily Log'!#REF!),0)","v":0},{"$f":"IFERROR($E342*SUMIF('Daily Log'!#REF!,$B342,'Daily Log'!#REF!),0)","v":0},{"$f":"IFERROR($E342*SUMIF('Daily Log'!#REF!,$B342,'Daily Log'!#REF!),0)","v":0},{"$f":"IFERROR($E342*SUMIF('Daily Log'!#REF!,$B342,'Daily Log'!#REF!),0)","v":0},{"$f":"IFERROR($E342*SUMIF('Daily Log'!#REF!,$B342,'Daily Log'!#REF!),0)","v":0},{"$f":"IFERROR($E342*SUMIF('Daily Log'!#REF!,$B342,'Daily Log'!#REF!),0)","v":0},{"$f":"IFERROR($E342*SUMIF('Daily Log'!#REF!,$B342,'Daily Log'!#REF!),0)","v":0},{"$f":"IFERROR($E342*SUMIF('Daily Log'!#REF!,$B342,'Daily Log'!#REF!),0)","v":0},{"$f":"IFERROR($E342*SUMIF('Daily Log'!#REF!,$B342,'Daily Log'!#REF!),0)","v":0},{"$f":"IFERROR($E342*SUMIF('Daily Log'!#REF!,$B342,'Daily Log'!#REF!),0)","v":0},{"$f":"IFERROR($E342*SUMIF('Daily Log'!#REF!,$B342,'Daily Log'!#REF!),0)","v":0},{"$f":"IFERROR($E342*SUMIF('Daily Log'!#REF!,$B342,'Daily Log'!#REF!),0)","v":0},{"$f":"IFERROR($E342*SUMIF('Daily Log'!#REF!,$B342,'Daily Log'!#REF!),0)","v":0},{"$f":"IFERROR($E342*SUMIF('Daily Log'!#REF!,$B342,'Daily Log'!#REF!),0)","v":0},{"$f":"IFERROR($E342*SUMIF('Daily Log'!#REF!,$B342,'Daily Log'!#REF!),0)","v":0},{"$f":"IFERROR($E342*SUMIF('Daily Log'!#REF!,$B342,'Daily Log'!#REF!),0)","v":0},{"$f":"IFERROR($E342*SUMIF('Daily Log'!#REF!,$B342,'Daily Log'!#REF!),0)","v":0},{"$f":"IFERROR($E342*SUMIF('Daily Log'!#REF!,$B342,'Daily Log'!#REF!),0)","v":0},{"$f":"IFERROR($E342*SUMIF('Daily Log'!#REF!,$B342,'Daily Log'!#REF!),0)","v":0},{"$f":"IFERROR($E342*SUMIF('Daily Log'!#REF!,$B342,'Daily Log'!#REF!),0)","v":0}]
[null,"DH13 91113:KUEY TEOW",null,"KLKD-LOCAL DELIGHTS",1,20,{"$f":"IFERROR($E343*SUMIF('Daily Log'!$B$18:$B$1017,$B343,'Daily Log'!$C$18:$C$1017),0)","v":8},{"$f":"IFERROR($E343*SUMIF('Daily Log'!$E$18:$E$1017,$B343,'Daily Log'!$F$18:$F$1017),0)","v":3},{"$f":"IFERROR($E343*SUMIF('Daily Log'!$H$18:$H$1017,$B343,'Daily Log'!$I$18:$I$1017),0)","v":7},{"$f":"IFERROR($E343*SUMIF('Daily Log'!$K$18:$K$1017,$B343,'Daily Log'!$L$18:$L$1017),0)","v":2},{"$f":"IFERROR($E343*SUMIF('Daily Log'!$N$18:$N$1017,$B343,'Daily Log'!$O$18:$O$1017),0)","v":0},{"$f":"IFERROR($E343*SUMIF('Daily Log'!#REF!,$B343,'Daily Log'!#REF!),0)","v":0},{"$f":"IFERROR($E343*SUMIF('Daily Log'!#REF!,$B343,'Daily Log'!#REF!),0)","v":0},{"$f":"IFERROR($E343*SUMIF('Daily Log'!#REF!,$B343,'Daily Log'!#REF!),0)","v":0},{"$f":"IFERROR($E343*SUMIF('Daily Log'!#REF!,$B343,'Daily Log'!#REF!),0)","v":0},{"$f":"IFERROR($E343*SUMIF('Daily Log'!#REF!,$B343,'Daily Log'!#REF!),0)","v":0},{"$f":"IFERROR($E343*SUMIF('Daily Log'!#REF!,$B343,'Daily Log'!#REF!),0)","v":0},{"$f":"IFERROR($E343*SUMIF('Daily Log'!#REF!,$B343,'Daily Log'!#REF!),0)","v":0},{"$f":"IFERROR($E343*SUMIF('Daily Log'!#REF!,$B343,'Daily Log'!#REF!),0)","v":0},{"$f":"IFERROR($E343*SUMIF('Daily Log'!#REF!,$B343,'Daily Log'!#REF!),0)","v":0},{"$f":"IFERROR($E343*SUMIF('Daily Log'!#REF!,$B343,'Daily Log'!#REF!),0)","v":0},{"$f":"IFERROR($E343*SUMIF('Daily Log'!#REF!,$B343,'Daily Log'!#REF!),0)","v":0},{"$f":"IFERROR($E343*SUMIF('Daily Log'!#REF!,$B343,'Daily Log'!#REF!),0)","v":0},{"$f":"IFERROR($E343*SUMIF('Daily Log'!#REF!,$B343,'Daily Log'!#REF!),0)","v":0},{"$f":"IFERROR($E343*SUMIF('Daily Log'!#REF!,$B343,'Daily Log'!#REF!),0)","v":0},{"$f":"IFERROR($E343*SUMIF('Daily Log'!#REF!,$B343,'Daily Log'!#REF!),0)","v":0},{"$f":"IFERROR($E343*SUMIF('Daily Log'!#REF!,$B343,'Daily Log'!#REF!),0)","v":0},{"$f":"IFERROR($E343*SUMIF('Daily Log'!#REF!,$B343,'Daily Log'!#REF!),0)","v":0},{"$f":"IFERROR($E343*SUMIF('Daily Log'!#REF!,$B343,'Daily Log'!#REF!),0)","v":0},{"$f":"IFERROR($E343*SUMIF('Daily Log'!#REF!,$B343,'Daily Log'!#REF!),0)","v":0},{"$f":"IFERROR($E343*SUMIF('Daily Log'!#REF!,$B343,'Daily Log'!#REF!),0)","v":0},{"$f":"IFERROR($E343*SUMIF('Daily Log'!#REF!,$B343,'Daily Log'!#REF!),0)","v":0},{"$f":"IFERROR($E343*SUMIF('Daily Log'!#REF!,$B343,'Daily Log'!#REF!),0)","v":0},{"$f":"IFERROR($E343*SUMIF('Daily Log'!#REF!,$B343,'Daily Log'!#REF!),0)","v":0},{"$f":"IFERROR($E343*SUMIF('Daily Log'!#REF!,$B343,'Daily Log'!#REF!),0)","v":0},{"$f":"IFERROR($E343*SUMIF('Daily Log'!#REF!,$B343,'Daily Log'!#REF!),0)","v":0},{"$f":"IFERROR($E343*SUMIF('Daily Log'!#REF!,$B343,'Daily Log'!#REF!),0)","v":0}]
[null,"DH14 91114:F.BALL MEE",null,"KLKD-LOCAL DELIGHTS",1,9,{"$f":"IFERROR($E344*SUMIF('Daily Log'!$B$18:$B$1017,$B344,'Daily Log'!$C$18:$C$1017),0)","v":4},{"$f":"IFERROR($E344*SUMIF('Daily Log'!$E$18:$E$1017,$B344,'Daily Log'!$F$18:$F$1017),0)","v":1},{"$f":"IFERROR($E344*SUMIF('Daily Log'!$H$18:$H$1017,$B344,'Daily Log'!$I$18:$I$1017),0)","v":1},{"$f":"IFERROR($E344*SUMIF('Daily Log'!$K$18:$K$1017,$B344,'Daily Log'!$L$18:$L$1017),0)","v":2},{"$f":"IFERROR($E344*SUMIF('Daily Log'!$N$18:$N$1017,$B344,'Daily Log'!$O$18:$O$1017),0)","v":1},{"$f":"IFERROR($E344*SUMIF('Daily Log'!#REF!,$B344,'Daily Log'!#REF!),0)","v":0},{"$f":"IFERROR($E344*SUMIF('Daily Log'!#REF!,$B344,'Daily Log'!#REF!),0)","v":0},{"$f":"IFERROR($E344*SUMIF('Daily Log'!#REF!,$B344,'Daily Log'!#REF!),0)","v":0},{"$f":"IFERROR($E344*SUMIF('Daily Log'!#REF!,$B344,'Daily Log'!#REF!),0)","v":0},{"$f":"IFERROR($E344*SUMIF('Daily Log'!#REF!,$B344,'Daily Log'!#REF!),0)","v":0},{"$f":"IFERROR($E344*SUMIF('Daily Log'!#REF!,$B344,'Daily Log'!#REF!),0)","v":0},{"$f":"IFERROR($E344*SUMIF('Daily Log'!#REF!,$B344,'Daily Log'!#REF!),0)","v":0},{"$f":"IFERROR($E344*SUMIF('Daily Log'!#REF!,$B344,'Daily Log'!#REF!),0)","v":0},{"$f":"IFERROR($E344*SUMIF('Daily Log'!#REF!,$B344,'Daily Log'!#REF!),0)","v":0},{"$f":"IFERROR($E344*SUMIF('Daily Log'!#REF!,$B344,'Daily Log'!#REF!),0)","v":0},{"$f":"IFERROR($E344*SUMIF('Daily Log'!#REF!,$B344,'Daily Log'!#REF!),0)","v":0},{"$f":"IFERROR($E344*SUMIF('Daily Log'!#REF!,$B344,'Daily Log'!#REF!),0)","v":0},{"$f":"IFERROR($E344*SUMIF('Daily Log'!#REF!,$B344,'Daily Log'!#REF!),0)","v":0},{"$f":"IFERROR($E344*SUMIF('Daily Log'!#REF!,$B344,'Daily Log'!#REF!),0)","v":0},{"$f":"IFERROR($E344*SUMIF('Daily Log'!#REF!,$B344,'Daily Log'!#REF!),0)","v":0},{"$f":"IFERROR($E344*SUMIF('Daily Log'!#REF!,$B344,'Daily Log'!#REF!),0)","v":0},{"$f":"IFERROR($E344*SUMIF('Daily Log'!#REF!,$B344,'Daily Log'!#REF!),0)","v":0},{"$f":"IFERROR($E344*SUMIF('Daily Log'!#REF!,$B344,'Daily Log'!#REF!),0)","v":0},{"$f":"IFERROR($E344*SUMIF('Daily Log'!#REF!,$B344,'Daily Log'!#REF!),0)","v":0},{"$f":"IFERROR($E344*SUMIF('Daily Log'!#REF!,$B344,'Daily Log'!#REF!),0)","v":0},{"$f":"IFERROR($E344*SUMIF('Daily Log'!#REF!,$B344,'Daily Log'!#REF!),0)","v":0},{"$f":"IFERROR($E344*SUMIF('Daily Log'!#REF!,$B344,'Daily Log'!#REF!),0)","v":0},{"$f":"IFERROR($E344*SUMIF('Daily Log'!#REF!,$B344,'Daily Log'!#REF!),0)","v":0},{"$f":"IFERROR($E344*SUMIF('Daily Log'!#REF!,$B344,'Daily Log'!#REF!),0)","v":0},{"$f":"IFERROR($E344*SUMIF('Daily Log'!#REF!,$B344,'Daily Log'!#REF!),0)","v":0},{"$f":"IFERROR($E344*SUMIF('Daily Log'!#REF!,$B344,'Daily Log'!#REF!),0)","v":0}]
[null,"DH15 91115:CHK NOODLE",null,"KLKD-LOCAL DELIGHTS",1,12,{"$f":"IFERROR($E345*SUMIF('Daily Log'!$B$18:$B$1017,$B345,'Daily Log'!$C$18:$C$1017),0)","v":6},{"$f":"IFERROR($E345*SUMIF('Daily Log'!$E$18:$E$1017,$B345,'Daily Log'!$F$18:$F$1017),0)","v":1},{"$f":"IFERROR($E345*SUMIF('Daily Log'!$H$18:$H$1017,$B345,'Daily Log'!$I$18:$I$1017),0)","v":2},{"$f":"IFERROR($E345*SUMIF('Daily Log'!$K$18:$K$1017,$B345,'Daily Log'!$L$18:$L$1017),0)","v":2},{"$f":"IFERROR($E345*SUMIF('Daily Log'!$N$18:$N$1017,$B345,'Daily Log'!$O$18:$O$1017),0)","v":1},{"$f":"IFERROR($E345*SUMIF('Daily Log'!#REF!,$B345,'Daily Log'!#REF!),0)","v":0},{"$f":"IFERROR($E345*SUMIF('Daily Log'!#REF!,$B345,'Daily Log'!#REF!),0)","v":0},{"$f":"IFERROR($E345*SUMIF('Daily Log'!#REF!,$B345,'Daily Log'!#REF!),0)","v":0},{"$f":"IFERROR($E345*SUMIF('Daily Log'!#REF!,$B345,'Daily Log'!#REF!),0)","v":0},{"$f":"IFERROR($E345*SUMIF('Daily Log'!#REF!,$B345,'Daily Log'!#REF!),0)","v":0},{"$f":"IFERROR($E345*SUMIF('Daily Log'!#REF!,$B345,'Daily Log'!#REF!),0)","v":0},{"$f":"IFERROR($E345*SUMIF('Daily Log'!#REF!,$B345,'Daily Log'!#REF!),0)","v":0},{"$f":"IFERROR($E345*SUMIF('Daily Log'!#REF!,$B345,'Daily Log'!#REF!),0)","v":0},{"$f":"IFERROR($E345*SUMIF('Daily Log'!#REF!,$B345,'Daily Log'!#REF!),0)","v":0},{"$f":"IFERROR($E345*SUMIF('Daily Log'!#REF!,$B345,'Daily Log'!#REF!),0)","v":0},{"$f":"IFERROR($E345*SUMIF('Daily Log'!#REF!,$B345,'Daily Log'!#REF!),0)","v":0},{"$f":"IFERROR($E345*SUMIF('Daily Log'!#REF!,$B345,'Daily Log'!#REF!),0)","v":0},{"$f":"IFERROR($E345*SUMIF('Daily Log'!#REF!,$B345,'Daily Log'!#REF!),0)","v":0},{"$f":"IFERROR($E345*SUMIF('Daily Log'!#REF!,$B345,'Daily Log'!#REF!),0)","v":0},{"$f":"IFERROR($E345*SUMIF('Daily Log'!#REF!,$B345,'Daily Log'!#REF!),0)","v":0},{"$f":"IFERROR($E345*SUMIF('Daily Log'!#REF!,$B345,'Daily Log'!#REF!),0)","v":0},{"$f":"IFERROR($E345*SUMIF('Daily Log'!#REF!,$B345,'Daily Log'!#REF!),0)","v":0},{"$f":"IFERROR($E345*SUMIF('Daily Log'!#REF!,$B345,'Daily Log'!#REF!),0)","v":0},{"$f":"IFERROR($E345*SUMIF('Daily Log'!#REF!,$B345,'Daily Log'!#REF!),0)","v":0},{"$f":"IFERROR($E345*SUMIF('Daily Log'!#REF!,$B345,'Daily Log'!#REF!),0)","v":0},{"$f":"IFERROR($E345*SUMIF('Daily Log'!#REF!,$B345,'Daily Log'!#REF!),0)","v":0},{"$f":"IFERROR($E345*SUMIF('Daily Log'!#REF!,$B345,'Daily Log'!#REF!),0)","v":0},{"$f":"IFERROR($E345*SUMIF('Daily Log'!#REF!,$B345,'Daily Log'!#REF!),0)","v":0},{"$f":"IFERROR($E345*SUMIF('Daily Log'!#REF!,$B345,'Daily Log'!#REF!),0)","v":0},{"$f":"IFERROR($E345*SUMIF('Daily Log'!#REF!,$B345,'Daily Log'!#REF!),0)","v":0},{"$f":"IFERROR($E345*SUMIF('Daily Log'!#REF!,$B345,'Daily Log'!#REF!),0)","v":0}]
[null,"DI01 91201:SFD STICK",null,"KLKD-APPETIZER",1,2,{"$f":"IFERROR($E346*SUMIF('Daily Log'!$B$18:$B$1017,$B346,'Daily Log'!$C$18:$C$1017),0)","v":0},{"$f":"IFERROR($E346*SUMIF('Daily Log'!$E$18:$E$1017,$B346,'Daily Log'!$F$18:$F$1017),0)","v":0},{"$f":"IFERROR($E346*SUMIF('Daily Log'!$H$18:$H$1017,$B346,'Daily Log'!$I$18:$I$1017),0)","v":1},{"$f":"IFERROR($E346*SUMIF('Daily Log'!$K$18:$K$1017,$B346,'Daily Log'!$L$18:$L$1017),0)","v":0},{"$f":"IFERROR($E346*SUMIF('Daily Log'!$N$18:$N$1017,$B346,'Daily Log'!$O$18:$O$1017),0)","v":1},{"$f":"IFERROR($E346*SUMIF('Daily Log'!#REF!,$B346,'Daily Log'!#REF!),0)","v":0},{"$f":"IFERROR($E346*SUMIF('Daily Log'!#REF!,$B346,'Daily Log'!#REF!),0)","v":0},{"$f":"IFERROR($E346*SUMIF('Daily Log'!#REF!,$B346,'Daily Log'!#REF!),0)","v":0},{"$f":"IFERROR($E346*SUMIF('Daily Log'!#REF!,$B346,'Daily Log'!#REF!),0)","v":0},{"$f":"IFERROR($E346*SUMIF('Daily Log'!#REF!,$B346,'Daily Log'!#REF!),0)","v":0},{"$f":"IFERROR($E346*SUMIF('Daily Log'!#REF!,$B346,'Daily Log'!#REF!),0)","v":0},{"$f":"IFERROR($E346*SUMIF('Daily Log'!#REF!,$B346,'Daily Log'!#REF!),0)","v":0},{"$f":"IFERROR($E346*SUMIF('Daily Log'!#REF!,$B346,'Daily Log'!#REF!),0)","v":0},{"$f":"IFERROR($E346*SUMIF('Daily Log'!#REF!,$B346,'Daily Log'!#REF!),0)","v":0},{"$f":"IFERROR($E346*SUMIF('Daily Log'!#REF!,$B346,'Daily Log'!#REF!),0)","v":0},{"$f":"IFERROR($E346*SUMIF('Daily Log'!#REF!,$B346,'Daily Log'!#REF!),0)","v":0},{"$f":"IFERROR($E346*SUMIF('Daily Log'!#REF!,$B346,'Daily Log'!#REF!),0)","v":0},{"$f":"IFERROR($E346*SUMIF('Daily Log'!#REF!,$B346,'Daily Log'!#REF!),0)","v":0},{"$f":"IFERROR($E346*SUMIF('Daily Log'!#REF!,$B346,'Daily Log'!#REF!),0)","v":0},{"$f":"IFERROR($E346*SUMIF('Daily Log'!#REF!,$B346,'Daily Log'!#REF!),0)","v":0},{"$f":"IFERROR($E346*SUMIF('Daily Log'!#REF!,$B346,'Daily Log'!#REF!),0)","v":0},{"$f":"IFERROR($E346*SUMIF('Daily Log'!#REF!,$B346,'Daily Log'!#REF!),0)","v":0},{"$f":"IFERROR($E346*SUMIF('Daily Log'!#REF!,$B346,'Daily Log'!#REF!),0)","v":0},{"$f":"IFERROR($E346*SUMIF('Daily Log'!#REF!,$B346,'Daily Log'!#REF!),0)","v":0},{"$f":"IFERROR($E346*SUMIF('Daily Log'!#REF!,$B346,'Daily Log'!#REF!),0)","v":0},{"$f":"IFERROR($E346*SUMIF('Daily Log'!#REF!,$B346,'Daily Log'!#REF!),0)","v":0},{"$f":"IFERROR($E346*SUMIF('Daily Log'!#REF!,$B346,'Daily Log'!#REF!),0)","v":0},{"$f":"IFERROR($E346*SUMIF('Daily Log'!#REF!,$B346,'Daily Log'!#REF!),0)","v":0},{"$f":"IFERROR($E346*SUMIF('Daily Log'!#REF!,$B346,'Daily Log'!#REF!),0)","v":0},{"$f":"IFERROR($E346*SUMIF('Daily Log'!#REF!,$B346,'Daily Log'!#REF!),0)","v":0},{"$f":"IFERROR($E346*SUMIF('Daily Log'!#REF!,$B346,'Daily Log'!#REF!),0)","v":0}]
[null,"DI02 91202:FREN FRIES",null,"KLKD-APPETIZER",1,5,{"$f":"IFERROR($E347*SUMIF('Daily Log'!$B$18:$B$1017,$B347,'Daily Log'!$C$18:$C$1017),0)","v":2},{"$f":"IFERROR($E347*SUMIF('Daily Log'!$E$18:$E$1017,$B347,'Daily Log'!$F$18:$F$1017),0)","v":1},{"$f":"IFERROR($E347*SUMIF('Daily Log'!$H$18:$H$1017,$B347,'Daily Log'!$I$18:$I$1017),0)","v":1},{"$f":"IFERROR($E347*SUMIF('Daily Log'!$K$18:$K$1017,$B347,'Daily Log'!$L$18:$L$1017),0)","v":1},{"$f":"IFERROR($E347*SUMIF('Daily Log'!$N$18:$N$1017,$B347,'Daily Log'!$O$18:$O$1017),0)","v":0},{"$f":"IFERROR($E347*SUMIF('Daily Log'!#REF!,$B347,'Daily Log'!#REF!),0)","v":0},{"$f":"IFERROR($E347*SUMIF('Daily Log'!#REF!,$B347,'Daily Log'!#REF!),0)","v":0},{"$f":"IFERROR($E347*SUMIF('Daily Log'!#REF!,$B347,'Daily Log'!#REF!),0)","v":0},{"$f":"IFERROR($E347*SUMIF('Daily Log'!#REF!,$B347,'Daily Log'!#REF!),0)","v":0},{"$f":"IFERROR($E347*SUMIF('Daily Log'!#REF!,$B347,'Daily Log'!#REF!),0)","v":0},{"$f":"IFERROR($E347*SUMIF('Daily Log'!#REF!,$B347,'Daily Log'!#REF!),0)","v":0},{"$f":"IFERROR($E347*SUMIF('Daily Log'!#REF!,$B347,'Daily Log'!#REF!),0)","v":0},{"$f":"IFERROR($E347*SUMIF('Daily Log'!#REF!,$B347,'Daily Log'!#REF!),0)","v":0},{"$f":"IFERROR($E347*SUMIF('Daily Log'!#REF!,$B347,'Daily Log'!#REF!),0)","v":0},{"$f":"IFERROR($E347*SUMIF('Daily Log'!#REF!,$B347,'Daily Log'!#REF!),0)","v":0},{"$f":"IFERROR($E347*SUMIF('Daily Log'!#REF!,$B347,'Daily Log'!#REF!),0)","v":0},{"$f":"IFERROR($E347*SUMIF('Daily Log'!#REF!,$B347,'Daily Log'!#REF!),0)","v":0},{"$f":"IFERROR($E347*SUMIF('Daily Log'!#REF!,$B347,'Daily Log'!#REF!),0)","v":0},{"$f":"IFERROR($E347*SUMIF('Daily Log'!#REF!,$B347,'Daily Log'!#REF!),0)","v":0},{"$f":"IFERROR($E347*SUMIF('Daily Log'!#REF!,$B347,'Daily Log'!#REF!),0)","v":0},{"$f":"IFERROR($E347*SUMIF('Daily Log'!#REF!,$B347,'Daily Log'!#REF!),0)","v":0},{"$f":"IFERROR($E347*SUMIF('Daily Log'!#REF!,$B347,'Daily Log'!#REF!),0)","v":0},{"$f":"IFERROR($E347*SUMIF('Daily Log'!#REF!,$B347,'Daily Log'!#REF!),0)","v":0},{"$f":"IFERROR($E347*SUMIF('Daily Log'!#REF!,$B347,'Daily Log'!#REF!),0)","v":0},{"$f":"IFERROR($E347*SUMIF('Daily Log'!#REF!,$B347,'Daily Log'!#REF!),0)","v":0},{"$f":"IFERROR($E347*SUMIF('Daily Log'!#REF!,$B347,'Daily Log'!#REF!),0)","v":0},{"$f":"IFERROR($E347*SUMIF('Daily Log'!#REF!,$B347,'Daily Log'!#REF!),0)","v":0},{"$f":"IFERROR($E347*SUMIF('Daily Log'!#REF!,$B347,'Daily Log'!#REF!),0)","v":0},{"$f":"IFERROR($E347*SUMIF('Daily Log'!#REF!,$B347,'Daily Log'!#REF!),0)","v":0},{"$f":"IFERROR($E347*SUMIF('Daily Log'!#REF!,$B347,'Daily Log'!#REF!),0)","v":0},{"$f":"IFERROR($E347*SUMIF('Daily Log'!#REF!,$B347,'Daily Log'!#REF!),0)","v":0}]
[null,"DI03 91203:GOLD MROOM",null,"KLKD-APPETIZER",1,4,{"$f":"IFERROR($E348*SUMIF('Daily Log'!$B$18:$B$1017,$B348,'Daily Log'!$C$18:$C$1017),0)","v":1},{"$f":"IFERROR($E348*SUMIF('Daily Log'!$E$18:$E$1017,$B348,'Daily Log'!$F$18:$F$1017),0)","v":0},{"$f":"IFERROR($E348*SUMIF('Daily Log'!$H$18:$H$1017,$B348,'Daily Log'!$I$18:$I$1017),0)","v":1},{"$f":"IFERROR($E348*SUMIF('Daily Log'!$K$18:$K$1017,$B348,'Daily Log'!$L$18:$L$1017),0)","v":2},{"$f":"IFERROR($E348*SUMIF('Daily Log'!$N$18:$N$1017,$B348,'Daily Log'!$O$18:$O$1017),0)","v":0},{"$f":"IFERROR($E348*SUMIF('Daily Log'!#REF!,$B348,'Daily Log'!#REF!),0)","v":0},{"$f":"IFERROR($E348*SUMIF('Daily Log'!#REF!,$B348,'Daily Log'!#REF!),0)","v":0},{"$f":"IFERROR($E348*SUMIF('Daily Log'!#REF!,$B348,'Daily Log'!#REF!),0)","v":0},{"$f":"IFERROR($E348*SUMIF('Daily Log'!#REF!,$B348,'Daily Log'!#REF!),0)","v":0},{"$f":"IFERROR($E348*SUMIF('Daily Log'!#REF!,$B348,'Daily Log'!#REF!),0)","v":0},{"$f":"IFERROR($E348*SUMIF('Daily Log'!#REF!,$B348,'Daily Log'!#REF!),0)","v":0},{"$f":"IFERROR($E348*SUMIF('Daily Log'!#REF!,$B348,'Daily Log'!#REF!),0)","v":0},{"$f":"IFERROR($E348*SUMIF('Daily Log'!#REF!,$B348,'Daily Log'!#REF!),0)","v":0},{"$f":"IFERROR($E348*SUMIF('Daily Log'!#REF!,$B348,'Daily Log'!#REF!),0)","v":0},{"$f":"IFERROR($E348*SUMIF('Daily Log'!#REF!,$B348,'Daily Log'!#REF!),0)","v":0},{"$f":"IFERROR($E348*SUMIF('Daily Log'!#REF!,$B348,'Daily Log'!#REF!),0)","v":0},{"$f":"IFERROR($E348*SUMIF('Daily Log'!#REF!,$B348,'Daily Log'!#REF!),0)","v":0},{"$f":"IFERROR($E348*SUMIF('Daily Log'!#REF!,$B348,'Daily Log'!#REF!),0)","v":0},{"$f":"IFERROR($E348*SUMIF('Daily Log'!#REF!,$B348,'Daily Log'!#REF!),0)","v":0},{"$f":"IFERROR($E348*SUMIF('Daily Log'!#REF!,$B348,'Daily Log'!#REF!),0)","v":0},{"$f":"IFERROR($E348*SUMIF('Daily Log'!#REF!,$B348,'Daily Log'!#REF!),0)","v":0},{"$f":"IFERROR($E348*SUMIF('Daily Log'!#REF!,$B348,'Daily Log'!#REF!),0)","v":0},{"$f":"IFERROR($E348*SUMIF('Daily Log'!#REF!,$B348,'Daily Log'!#REF!),0)","v":0},{"$f":"IFERROR($E348*SUMIF('Daily Log'!#REF!,$B348,'Daily Log'!#REF!),0)","v":0},{"$f":"IFERROR($E348*SUMIF('Daily Log'!#REF!,$B348,'Daily Log'!#REF!),0)","v":0},{"$f":"IFERROR($E348*SUMIF('Daily Log'!#REF!,$B348,'Daily Log'!#REF!),0)","v":0},{"$f":"IFERROR($E348*SUMIF('Daily Log'!#REF!,$B348,'Daily Log'!#REF!),0)","v":0},{"$f":"IFERROR($E348*SUMIF('Daily Log'!#REF!,$B348,'Daily Log'!#REF!),0)","v":0},{"$f":"IFERROR($E348*SUMIF('Daily Log'!#REF!,$B348,'Daily Log'!#REF!),0)","v":0},{"$f":"IFERROR($E348*SUMIF('Daily Log'!#REF!,$B348,'Daily Log'!#REF!),0)","v":0},{"$f":"IFERROR($E348*SUMIF('Daily Log'!#REF!,$B348,'Daily Log'!#REF!),0)","v":0}]
[null,"DI04 91204:FISHBALL",null,"KLKD-APPETIZER",1,0,{"$f":"IFERROR($E349*SUMIF('Daily Log'!$B$18:$B$1017,$B349,'Daily Log'!$C$18:$C$1017),0)","v":0},{"$f":"IFERROR($E349*SUMIF('Daily Log'!$E$18:$E$1017,$B349,'Daily Log'!$F$18:$F$1017),0)","v":0},{"$f":"IFERROR($E349*SUMIF('Daily Log'!$H$18:$H$1017,$B349,'Daily Log'!$I$18:$I$1017),0)","v":0},{"$f":"IFERROR($E349*SUMIF('Daily Log'!$K$18:$K$1017,$B349,'Daily Log'!$L$18:$L$1017),0)","v":0},{"$f":"IFERROR($E349*SUMIF('Daily Log'!$N$18:$N$1017,$B349,'Daily Log'!$O$18:$O$1017),0)","v":0},{"$f":"IFERROR($E349*SUMIF('Daily Log'!#REF!,$B349,'Daily Log'!#REF!),0)","v":0},{"$f":"IFERROR($E349*SUMIF('Daily Log'!#REF!,$B349,'Daily Log'!#REF!),0)","v":0},{"$f":"IFERROR($E349*SUMIF('Daily Log'!#REF!,$B349,'Daily Log'!#REF!),0)","v":0},{"$f":"IFERROR($E349*SUMIF('Daily Log'!#REF!,$B349,'Daily Log'!#REF!),0)","v":0},{"$f":"IFERROR($E349*SUMIF('Daily Log'!#REF!,$B349,'Daily Log'!#REF!),0)","v":0},{"$f":"IFERROR($E349*SUMIF('Daily Log'!#REF!,$B349,'Daily Log'!#REF!),0)","v":0},{"$f":"IFERROR($E349*SUMIF('Daily Log'!#REF!,$B349,'Daily Log'!#REF!),0)","v":0},{"$f":"IFERROR($E349*SUMIF('Daily Log'!#REF!,$B349,'Daily Log'!#REF!),0)","v":0},{"$f":"IFERROR($E349*SUMIF('Daily Log'!#REF!,$B349,'Daily Log'!#REF!),0)","v":0},{"$f":"IFERROR($E349*SUMIF('Daily Log'!#REF!,$B349,'Daily Log'!#REF!),0)","v":0},{"$f":"IFERROR($E349*SUMIF('Daily Log'!#REF!,$B349,'Daily Log'!#REF!),0)","v":0},{"$f":"IFERROR($E349*SUMIF('Daily Log'!#REF!,$B349,'Daily Log'!#REF!),0)","v":0},{"$f":"IFERROR($E349*SUMIF('Daily Log'!#REF!,$B349,'Daily Log'!#REF!),0)","v":0},{"$f":"IFERROR($E349*SUMIF('Daily Log'!#REF!,$B349,'Daily Log'!#REF!),0)","v":0},{"$f":"IFERROR($E349*SUMIF('Daily Log'!#REF!,$B349,'Daily Log'!#REF!),0)","v":0},{"$f":"IFERROR($E349*SUMIF('Daily Log'!#REF!,$B349,'Daily Log'!#REF!),0)","v":0},{"$f":"IFERROR($E349*SUMIF('Daily Log'!#REF!,$B349,'Daily Log'!#REF!),0)","v":0},{"$f":"IFERROR($E349*SUMIF('Daily Log'!#REF!,$B349,'Daily Log'!#REF!),0)","v":0},{"$f":"IFERROR($E349*SUMIF('Daily Log'!#REF!,$B349,'Daily Log'!#REF!),0)","v":0},{"$f":"IFERROR($E349*SUMIF('Daily Log'!#REF!,$B349,'Daily Log'!#REF!),0)","v":0},{"$f":"IFERROR($E349*SUMIF('Daily Log'!#REF!,$B349,'Daily Log'!#REF!),0)","v":0},{"$f":"IFERROR($E349*SUMIF('Daily Log'!#REF!,$B349,'Daily Log'!#REF!),0)","v":0},{"$f":"IFERROR($E349*SUMIF('Daily Log'!#REF!,$B349,'Daily Log'!#REF!),0)","v":0},{"$f":"IFERROR($E349*SUMIF('Daily Log'!#REF!,$B349,'Daily Log'!#REF!),0)","v":0},{"$f":"IFERROR($E349*SUMIF('Daily Log'!#REF!,$B349,'Daily Log'!#REF!),0)","v":0},{"$f":"IFERROR($E349*SUMIF('Daily Log'!#REF!,$B349,'Daily Log'!#REF!),0)","v":0}]
[null,"DI05 91205:RAINBOW RL",null,"KLKD-APPETIZER",1,0,{"$f":"IFERROR($E350*SUMIF('Daily Log'!$B$18:$B$1017,$B350,'Daily Log'!$C$18:$C$1017),0)","v":0},{"$f":"IFERROR($E350*SUMIF('Daily Log'!$E$18:$E$1017,$B350,'Daily Log'!$F$18:$F$1017),0)","v":0},{"$f":"IFERROR($E350*SUMIF('Daily Log'!$H$18:$H$1017,$B350,'Daily Log'!$I$18:$I$1017),0)","v":0},{"$f":"IFERROR($E350*SUMIF('Daily Log'!$K$18:$K$1017,$B350,'Daily Log'!$L$18:$L$1017),0)","v":0},{"$f":"IFERROR($E350*SUMIF('Daily Log'!$N$18:$N$1017,$B350,'Daily Log'!$O$18:$O$1017),0)","v":0},{"$f":"IFERROR($E350*SUMIF('Daily Log'!#REF!,$B350,'Daily Log'!#REF!),0)","v":0},{"$f":"IFERROR($E350*SUMIF('Daily Log'!#REF!,$B350,'Daily Log'!#REF!),0)","v":0},{"$f":"IFERROR($E350*SUMIF('Daily Log'!#REF!,$B350,'Daily Log'!#REF!),0)","v":0},{"$f":"IFERROR($E350*SUMIF('Daily Log'!#REF!,$B350,'Daily Log'!#REF!),0)","v":0},{"$f":"IFERROR($E350*SUMIF('Daily Log'!#REF!,$B350,'Daily Log'!#REF!),0)","v":0},{"$f":"IFERROR($E350*SUMIF('Daily Log'!#REF!,$B350,'Daily Log'!#REF!),0)","v":0},{"$f":"IFERROR($E350*SUMIF('Daily Log'!#REF!,$B350,'Daily Log'!#REF!),0)","v":0},{"$f":"IFERROR($E350*SUMIF('Daily Log'!#REF!,$B350,'Daily Log'!#REF!),0)","v":0},{"$f":"IFERROR($E350*SUMIF('Daily Log'!#REF!,$B350,'Daily Log'!#REF!),0)","v":0},{"$f":"IFERROR($E350*SUMIF('Daily Log'!#REF!,$B350,'Daily Log'!#REF!),0)","v":0},{"$f":"IFERROR($E350*SUMIF('Daily Log'!#REF!,$B350,'Daily Log'!#REF!),0)","v":0},{"$f":"IFERROR($E350*SUMIF('Daily Log'!#REF!,$B350,'Daily Log'!#REF!),0)","v":0},{"$f":"IFERROR($E350*SUMIF('Daily Log'!#REF!,$B350,'Daily Log'!#REF!),0)","v":0},{"$f":"IFERROR($E350*SUMIF('Daily Log'!#REF!,$B350,'Daily Log'!#REF!),0)","v":0},{"$f":"IFERROR($E350*SUMIF('Daily Log'!#REF!,$B350,'Daily Log'!#REF!),0)","v":0},{"$f":"IFERROR($E350*SUMIF('Daily Log'!#REF!,$B350,'Daily Log'!#REF!),0)","v":0},{"$f":"IFERROR($E350*SUMIF('Daily Log'!#REF!,$B350,'Daily Log'!#REF!),0)","v":0},{"$f":"IFERROR($E350*SUMIF('Daily Log'!#REF!,$B350,'Daily Log'!#REF!),0)","v":0},{"$f":"IFERROR($E350*SUMIF('Daily Log'!#REF!,$B350,'Daily Log'!#REF!),0)","v":0},{"$f":"IFERROR($E350*SUMIF('Daily Log'!#REF!,$B350,'Daily Log'!#REF!),0)","v":0},{"$f":"IFERROR($E350*SUMIF('Daily Log'!#REF!,$B350,'Daily Log'!#REF!),0)","v":0},{"$f":"IFERROR($E350*SUMIF('Daily Log'!#REF!,$B350,'Daily Log'!#REF!),0)","v":0},{"$f":"IFERROR($E350*SUMIF('Daily Log'!#REF!,$B350,'Daily Log'!#REF!),0)","v":0},{"$f":"IFERROR($E350*SUMIF('Daily Log'!#REF!,$B350,'Daily Log'!#REF!),0)","v":0},{"$f":"IFERROR($E350*SUMIF('Daily Log'!#REF!,$B350,'Daily Log'!#REF!),0)","v":0},{"$f":"IFERROR($E350*SUMIF('Daily Log'!#REF!,$B350,'Daily Log'!#REF!),0)","v":0}]
[null,"DI06 91206:SPRING RL",null,"KLKD-APPETIZER",1,4,{"$f":"IFERROR($E351*SUMIF('Daily Log'!$B$18:$B$1017,$B351,'Daily Log'!$C$18:$C$1017),0)","v":2},{"$f":"IFERROR($E351*SUMIF('Daily Log'!$E$18:$E$1017,$B351,'Daily Log'!$F$18:$F$1017),0)","v":0},{"$f":"IFERROR($E351*SUMIF('Daily Log'!$H$18:$H$1017,$B351,'Daily Log'!$I$18:$I$1017),0)","v":0},{"$f":"IFERROR($E351*SUMIF('Daily Log'!$K$18:$K$1017,$B351,'Daily Log'!$L$18:$L$1017),0)","v":2},{"$f":"IFERROR($E351*SUMIF('Daily Log'!$N$18:$N$1017,$B351,'Daily Log'!$O$18:$O$1017),0)","v":0},{"$f":"IFERROR($E351*SUMIF('Daily Log'!#REF!,$B351,'Daily Log'!#REF!),0)","v":0},{"$f":"IFERROR($E351*SUMIF('Daily Log'!#REF!,$B351,'Daily Log'!#REF!),0)","v":0},{"$f":"IFERROR($E351*SUMIF('Daily Log'!#REF!,$B351,'Daily Log'!#REF!),0)","v":0},{"$f":"IFERROR($E351*SUMIF('Daily Log'!#REF!,$B351,'Daily Log'!#REF!),0)","v":0},{"$f":"IFERROR($E351*SUMIF('Daily Log'!#REF!,$B351,'Daily Log'!#REF!),0)","v":0},{"$f":"IFERROR($E351*SUMIF('Daily Log'!#REF!,$B351,'Daily Log'!#REF!),0)","v":0},{"$f":"IFERROR($E351*SUMIF('Daily Log'!#REF!,$B351,'Daily Log'!#REF!),0)","v":0},{"$f":"IFERROR($E351*SUMIF('Daily Log'!#REF!,$B351,'Daily Log'!#REF!),0)","v":0},{"$f":"IFERROR($E351*SUMIF('Daily Log'!#REF!,$B351,'Daily Log'!#REF!),0)","v":0},{"$f":"IFERROR($E351*SUMIF('Daily Log'!#REF!,$B351,'Daily Log'!#REF!),0)","v":0},{"$f":"IFERROR($E351*SUMIF('Daily Log'!#REF!,$B351,'Daily Log'!#REF!),0)","v":0},{"$f":"IFERROR($E351*SUMIF('Daily Log'!#REF!,$B351,'Daily Log'!#REF!),0)","v":0},{"$f":"IFERROR($E351*SUMIF('Daily Log'!#REF!,$B351,'Daily Log'!#REF!),0)","v":0},{"$f":"IFERROR($E351*SUMIF('Daily Log'!#REF!,$B351,'Daily Log'!#REF!),0)","v":0},{"$f":"IFERROR($E351*SUMIF('Daily Log'!#REF!,$B351,'Daily Log'!#REF!),0)","v":0},{"$f":"IFERROR($E351*SUMIF('Daily Log'!#REF!,$B351,'Daily Log'!#REF!),0)","v":0},{"$f":"IFERROR($E351*SUMIF('Daily Log'!#REF!,$B351,'Daily Log'!#REF!),0)","v":0},{"$f":"IFERROR($E351*SUMIF('Daily Log'!#REF!,$B351,'Daily Log'!#REF!),0)","v":0},{"$f":"IFERROR($E351*SUMIF('Daily Log'!#REF!,$B351,'Daily Log'!#REF!),0)","v":0},{"$f":"IFERROR($E351*SUMIF('Daily Log'!#REF!,$B351,'Daily Log'!#REF!),0)","v":0},{"$f":"IFERROR($E351*SUMIF('Daily Log'!#REF!,$B351,'Daily Log'!#REF!),0)","v":0},{"$f":"IFERROR($E351*SUMIF('Daily Log'!#REF!,$B351,'Daily Log'!#REF!),0)","v":0},{"$f":"IFERROR($E351*SUMIF('Daily Log'!#REF!,$B351,'Daily Log'!#REF!),0)","v":0},{"$f":"IFERROR($E351*SUMIF('Daily Log'!#REF!,$B351,'Daily Log'!#REF!),0)","v":0},{"$f":"IFERROR($E351*SUMIF('Daily Log'!#REF!,$B351,'Daily Log'!#REF!),0)","v":0},{"$f":"IFERROR($E351*SUMIF('Daily Log'!#REF!,$B351,'Daily Log'!#REF!),0)","v":0}]
[null,"DI07 91207:SAUSAGE",null,"KLKD-APPETIZER",1,2,{"$f":"IFERROR($E352*SUMIF('Daily Log'!$B$18:$B$1017,$B352,'Daily Log'!$C$18:$C$1017),0)","v":2},{"$f":"IFERROR($E352*SUMIF('Daily Log'!$E$18:$E$1017,$B352,'Daily Log'!$F$18:$F$1017),0)","v":0},{"$f":"IFERROR($E352*SUMIF('Daily Log'!$H$18:$H$1017,$B352,'Daily Log'!$I$18:$I$1017),0)","v":0},{"$f":"IFERROR($E352*SUMIF('Daily Log'!$K$18:$K$1017,$B352,'Daily Log'!$L$18:$L$1017),0)","v":0},{"$f":"IFERROR($E352*SUMIF('Daily Log'!$N$18:$N$1017,$B352,'Daily Log'!$O$18:$O$1017),0)","v":0},{"$f":"IFERROR($E352*SUMIF('Daily Log'!#REF!,$B352,'Daily Log'!#REF!),0)","v":0},{"$f":"IFERROR($E352*SUMIF('Daily Log'!#REF!,$B352,'Daily Log'!#REF!),0)","v":0},{"$f":"IFERROR($E352*SUMIF('Daily Log'!#REF!,$B352,'Daily Log'!#REF!),0)","v":0},{"$f":"IFERROR($E352*SUMIF('Daily Log'!#REF!,$B352,'Daily Log'!#REF!),0)","v":0},{"$f":"IFERROR($E352*SUMIF('Daily Log'!#REF!,$B352,'Daily Log'!#REF!),0)","v":0},{"$f":"IFERROR($E352*SUMIF('Daily Log'!#REF!,$B352,'Daily Log'!#REF!),0)","v":0},{"$f":"IFERROR($E352*SUMIF('Daily Log'!#REF!,$B352,'Daily Log'!#REF!),0)","v":0},{"$f":"IFERROR($E352*SUMIF('Daily Log'!#REF!,$B352,'Daily Log'!#REF!),0)","v":0},{"$f":"IFERROR($E352*SUMIF('Daily Log'!#REF!,$B352,'Daily Log'!#REF!),0)","v":0},{"$f":"IFERROR($E352*SUMIF('Daily Log'!#REF!,$B352,'Daily Log'!#REF!),0)","v":0},{"$f":"IFERROR($E352*SUMIF('Daily Log'!#REF!,$B352,'Daily Log'!#REF!),0)","v":0},{"$f":"IFERROR($E352*SUMIF('Daily Log'!#REF!,$B352,'Daily Log'!#REF!),0)","v":0},{"$f":"IFERROR($E352*SUMIF('Daily Log'!#REF!,$B352,'Daily Log'!#REF!),0)","v":0},{"$f":"IFERROR($E352*SUMIF('Daily Log'!#REF!,$B352,'Daily Log'!#REF!),0)","v":0},{"$f":"IFERROR($E352*SUMIF('Daily Log'!#REF!,$B352,'Daily Log'!#REF!),0)","v":0},{"$f":"IFERROR($E352*SUMIF('Daily Log'!#REF!,$B352,'Daily Log'!#REF!),0)","v":0},{"$f":"IFERROR($E352*SUMIF('Daily Log'!#REF!,$B352,'Daily Log'!#REF!),0)","v":0},{"$f":"IFERROR($E352*SUMIF('Daily Log'!#REF!,$B352,'Daily Log'!#REF!),0)","v":0},{"$f":"IFERROR($E352*SUMIF('Daily Log'!#REF!,$B352,'Daily Log'!#REF!),0)","v":0},{"$f":"IFERROR($E352*SUMIF('Daily Log'!#REF!,$B352,'Daily Log'!#REF!),0)","v":0},{"$f":"IFERROR($E352*SUMIF('Daily Log'!#REF!,$B352,'Daily Log'!#REF!),0)","v":0},{"$f":"IFERROR($E352*SUMIF('Daily Log'!#REF!,$B352,'Daily Log'!#REF!),0)","v":0},{"$f":"IFERROR($E352*SUMIF('Daily Log'!#REF!,$B352,'Daily Log'!#REF!),0)","v":0},{"$f":"IFERROR($E352*SUMIF('Daily Log'!#REF!,$B352,'Daily Log'!#REF!),0)","v":0},{"$f":"IFERROR($E352*SUMIF('Daily Log'!#REF!,$B352,'Daily Log'!#REF!),0)","v":0},{"$f":"IFERROR($E352*SUMIF('Daily Log'!#REF!,$B352,'Daily Log'!#REF!),0)","v":0}]
[null,"DI08 91208:HOTDOG BUN",null,"KLKD-APPETIZER",1,0,{"$f":"IFERROR($E353*SUMIF('Daily Log'!$B$18:$B$1017,$B353,'Daily Log'!$C$18:$C$1017),0)","v":0},{"$f":"IFERROR($E353*SUMIF('Daily Log'!$E$18:$E$1017,$B353,'Daily Log'!$F$18:$F$1017),0)","v":0},{"$f":"IFERROR($E353*SUMIF('Daily Log'!$H$18:$H$1017,$B353,'Daily Log'!$I$18:$I$1017),0)","v":0},{"$f":"IFERROR($E353*SUMIF('Daily Log'!$K$18:$K$1017,$B353,'Daily Log'!$L$18:$L$1017),0)","v":0},{"$f":"IFERROR($E353*SUMIF('Daily Log'!$N$18:$N$1017,$B353,'Daily Log'!$O$18:$O$1017),0)","v":0},{"$f":"IFERROR($E353*SUMIF('Daily Log'!#REF!,$B353,'Daily Log'!#REF!),0)","v":0},{"$f":"IFERROR($E353*SUMIF('Daily Log'!#REF!,$B353,'Daily Log'!#REF!),0)","v":0},{"$f":"IFERROR($E353*SUMIF('Daily Log'!#REF!,$B353,'Daily Log'!#REF!),0)","v":0},{"$f":"IFERROR($E353*SUMIF('Daily Log'!#REF!,$B353,'Daily Log'!#REF!),0)","v":0},{"$f":"IFERROR($E353*SUMIF('Daily Log'!#REF!,$B353,'Daily Log'!#REF!),0)","v":0},{"$f":"IFERROR($E353*SUMIF('Daily Log'!#REF!,$B353,'Daily Log'!#REF!),0)","v":0},{"$f":"IFERROR($E353*SUMIF('Daily Log'!#REF!,$B353,'Daily Log'!#REF!),0)","v":0},{"$f":"IFERROR($E353*SUMIF('Daily Log'!#REF!,$B353,'Daily Log'!#REF!),0)","v":0},{"$f":"IFERROR($E353*SUMIF('Daily Log'!#REF!,$B353,'Daily Log'!#REF!),0)","v":0},{"$f":"IFERROR($E353*SUMIF('Daily Log'!#REF!,$B353,'Daily Log'!#REF!),0)","v":0},{"$f":"IFERROR($E353*SUMIF('Daily Log'!#REF!,$B353,'Daily Log'!#REF!),0)","v":0},{"$f":"IFERROR($E353*SUMIF('Daily Log'!#REF!,$B353,'Daily Log'!#REF!),0)","v":0},{"$f":"IFERROR($E353*SUMIF('Daily Log'!#REF!,$B353,'Daily Log'!#REF!),0)","v":0},{"$f":"IFERROR($E353*SUMIF('Daily Log'!#REF!,$B353,'Daily Log'!#REF!),0)","v":0},{"$f":"IFERROR($E353*SUMIF('Daily Log'!#REF!,$B353,'Daily Log'!#REF!),0)","v":0},{"$f":"IFERROR($E353*SUMIF('Daily Log'!#REF!,$B353,'Daily Log'!#REF!),0)","v":0},{"$f":"IFERROR($E353*SUMIF('Daily Log'!#REF!,$B353,'Daily Log'!#REF!),0)","v":0},{"$f":"IFERROR($E353*SUMIF('Daily Log'!#REF!,$B353,'Daily Log'!#REF!),0)","v":0},{"$f":"IFERROR($E353*SUMIF('Daily Log'!#REF!,$B353,'Daily Log'!#REF!),0)","v":0},{"$f":"IFERROR($E353*SUMIF('Daily Log'!#REF!,$B353,'Daily Log'!#REF!),0)","v":0},{"$f":"IFERROR($E353*SUMIF('Daily Log'!#REF!,$B353,'Daily Log'!#REF!),0)","v":0},{"$f":"IFERROR($E353*SUMIF('Daily Log'!#REF!,$B353,'Daily Log'!#REF!),0)","v":0},{"$f":"IFERROR($E353*SUMIF('Daily Log'!#REF!,$B353,'Daily Log'!#REF!),0)","v":0},{"$f":"IFERROR($E353*SUMIF('Daily Log'!#REF!,$B353,'Daily Log'!#REF!),0)","v":0},{"$f":"IFERROR($E353*SUMIF('Daily Log'!#REF!,$B353,'Daily Log'!#REF!),0)","v":0},{"$f":"IFERROR($E353*SUMIF('Daily Log'!#REF!,$B353,'Daily Log'!#REF!),0)","v":0}]
[null,"DI09 91209:SFD TOFU",null,"KLKD-APPETIZER",1,0,{"$f":"IFERROR($E354*SUMIF('Daily Log'!$B$18:$B$1017,$B354,'Daily Log'!$C$18:$C$1017),0)","v":0},{"$f":"IFERROR($E354*SUMIF('Daily Log'!$E$18:$E$1017,$B354,'Daily Log'!$F$18:$F$1017),0)","v":0},{"$f":"IFERROR($E354*SUMIF('Daily Log'!$H$18:$H$1017,$B354,'Daily Log'!$I$18:$I$1017),0)","v":0},{"$f":"IFERROR($E354*SUMIF('Daily Log'!$K$18:$K$1017,$B354,'Daily Log'!$L$18:$L$1017),0)","v":0},{"$f":"IFERROR($E354*SUMIF('Daily Log'!$N$18:$N$1017,$B354,'Daily Log'!$O$18:$O$1017),0)","v":0},{"$f":"IFERROR($E354*SUMIF('Daily Log'!#REF!,$B354,'Daily Log'!#REF!),0)","v":0},{"$f":"IFERROR($E354*SUMIF('Daily Log'!#REF!,$B354,'Daily Log'!#REF!),0)","v":0},{"$f":"IFERROR($E354*SUMIF('Daily Log'!#REF!,$B354,'Daily Log'!#REF!),0)","v":0},{"$f":"IFERROR($E354*SUMIF('Daily Log'!#REF!,$B354,'Daily Log'!#REF!),0)","v":0},{"$f":"IFERROR($E354*SUMIF('Daily Log'!#REF!,$B354,'Daily Log'!#REF!),0)","v":0},{"$f":"IFERROR($E354*SUMIF('Daily Log'!#REF!,$B354,'Daily Log'!#REF!),0)","v":0},{"$f":"IFERROR($E354*SUMIF('Daily Log'!#REF!,$B354,'Daily Log'!#REF!),0)","v":0},{"$f":"IFERROR($E354*SUMIF('Daily Log'!#REF!,$B354,'Daily Log'!#REF!),0)","v":0},{"$f":"IFERROR($E354*SUMIF('Daily Log'!#REF!,$B354,'Daily Log'!#REF!),0)","v":0},{"$f":"IFERROR($E354*SUMIF('Daily Log'!#REF!,$B354,'Daily Log'!#REF!),0)","v":0},{"$f":"IFERROR($E354*SUMIF('Daily Log'!#REF!,$B354,'Daily Log'!#REF!),0)","v":0},{"$f":"IFERROR($E354*SUMIF('Daily Log'!#REF!,$B354,'Daily Log'!#REF!),0)","v":0},{"$f":"IFERROR($E354*SUMIF('Daily Log'!#REF!,$B354,'Daily Log'!#REF!),0)","v":0},{"$f":"IFERROR($E354*SUMIF('Daily Log'!#REF!,$B354,'Daily Log'!#REF!),0)","v":0},{"$f":"IFERROR($E354*SUMIF('Daily Log'!#REF!,$B354,'Daily Log'!#REF!),0)","v":0},{"$f":"IFERROR($E354*SUMIF('Daily Log'!#REF!,$B354,'Daily Log'!#REF!),0)","v":0},{"$f":"IFERROR($E354*SUMIF('Daily Log'!#REF!,$B354,'Daily Log'!#REF!),0)","v":0},{"$f":"IFERROR($E354*SUMIF('Daily Log'!#REF!,$B354,'Daily Log'!#REF!),0)","v":0},{"$f":"IFERROR($E354*SUMIF('Daily Log'!#REF!,$B354,'Daily Log'!#REF!),0)","v":0},{"$f":"IFERROR($E354*SUMIF('Daily Log'!#REF!,$B354,'Daily Log'!#REF!),0)","v":0},{"$f":"IFERROR($E354*SUMIF('Daily Log'!#REF!,$B354,'Daily Log'!#REF!),0)","v":0},{"$f":"IFERROR($E354*SUMIF('Daily Log'!#REF!,$B354,'Daily Log'!#REF!),0)","v":0},{"$f":"IFERROR($E354*SUMIF('Daily Log'!#REF!,$B354,'Daily Log'!#REF!),0)","v":0},{"$f":"IFERROR($E354*SUMIF('Daily Log'!#REF!,$B354,'Daily Log'!#REF!),0)","v":0},{"$f":"IFERROR($E354*SUMIF('Daily Log'!#REF!,$B354,'Daily Log'!#REF!),0)","v":0},{"$f":"IFERROR($E354*SUMIF('Daily Log'!#REF!,$B354,'Daily Log'!#REF!),0)","v":0}]
[null,"DI10 91301:DUMPLING",null,"KLKD-APPETIZER",1,6,{"$f":"IFERROR($E355*SUMIF('Daily Log'!$B$18:$B$1017,$B355,'Daily Log'!$C$18:$C$1017),0)","v":2},{"$f":"IFERROR($E355*SUMIF('Daily Log'!$E$18:$E$1017,$B355,'Daily Log'!$F$18:$F$1017),0)","v":1},{"$f":"IFERROR($E355*SUMIF('Daily Log'!$H$18:$H$1017,$B355,'Daily Log'!$I$18:$I$1017),0)","v":0},{"$f":"IFERROR($E355*SUMIF('Daily Log'!$K$18:$K$1017,$B355,'Daily Log'!$L$18:$L$1017),0)","v":2},{"$f":"IFERROR($E355*SUMIF('Daily Log'!$N$18:$N$1017,$B355,'Daily Log'!$O$18:$O$1017),0)","v":1},{"$f":"IFERROR($E355*SUMIF('Daily Log'!#REF!,$B355,'Daily Log'!#REF!),0)","v":0},{"$f":"IFERROR($E355*SUMIF('Daily Log'!#REF!,$B355,'Daily Log'!#REF!),0)","v":0},{"$f":"IFERROR($E355*SUMIF('Daily Log'!#REF!,$B355,'Daily Log'!#REF!),0)","v":0},{"$f":"IFERROR($E355*SUMIF('Daily Log'!#REF!,$B355,'Daily Log'!#REF!),0)","v":0},{"$f":"IFERROR($E355*SUMIF('Daily Log'!#REF!,$B355,'Daily Log'!#REF!),0)","v":0},{"$f":"IFERROR($E355*SUMIF('Daily Log'!#REF!,$B355,'Daily Log'!#REF!),0)","v":0},{"$f":"IFERROR($E355*SUMIF('Daily Log'!#REF!,$B355,'Daily Log'!#REF!),0)","v":0},{"$f":"IFERROR($E355*SUMIF('Daily Log'!#REF!,$B355,'Daily Log'!#REF!),0)","v":0},{"$f":"IFERROR($E355*SUMIF('Daily Log'!#REF!,$B355,'Daily Log'!#REF!),0)","v":0},{"$f":"IFERROR($E355*SUMIF('Daily Log'!#REF!,$B355,'Daily Log'!#REF!),0)","v":0},{"$f":"IFERROR($E355*SUMIF('Daily Log'!#REF!,$B355,'Daily Log'!#REF!),0)","v":0},{"$f":"IFERROR($E355*SUMIF('Daily Log'!#REF!,$B355,'Daily Log'!#REF!),0)","v":0},{"$f":"IFERROR($E355*SUMIF('Daily Log'!#REF!,$B355,'Daily Log'!#REF!),0)","v":0},{"$f":"IFERROR($E355*SUMIF('Daily Log'!#REF!,$B355,'Daily Log'!#REF!),0)","v":0},{"$f":"IFERROR($E355*SUMIF('Daily Log'!#REF!,$B355,'Daily Log'!#REF!),0)","v":0},{"$f":"IFERROR($E355*SUMIF('Daily Log'!#REF!,$B355,'Daily Log'!#REF!),0)","v":0},{"$f":"IFERROR($E355*SUMIF('Daily Log'!#REF!,$B355,'Daily Log'!#REF!),0)","v":0},{"$f":"IFERROR($E355*SUMIF('Daily Log'!#REF!,$B355,'Daily Log'!#REF!),0)","v":0},{"$f":"IFERROR($E355*SUMIF('Daily Log'!#REF!,$B355,'Daily Log'!#REF!),0)","v":0},{"$f":"IFERROR($E355*SUMIF('Daily Log'!#REF!,$B355,'Daily Log'!#REF!),0)","v":0},{"$f":"IFERROR($E355*SUMIF('Daily Log'!#REF!,$B355,'Daily Log'!#REF!),0)","v":0},{"$f":"IFERROR($E355*SUMIF('Daily Log'!#REF!,$B355,'Daily Log'!#REF!),0)","v":0},{"$f":"IFERROR($E355*SUMIF('Daily Log'!#REF!,$B355,'Daily Log'!#REF!),0)","v":0},{"$f":"IFERROR($E355*SUMIF('Daily Log'!#REF!,$B355,'Daily Log'!#REF!),0)","v":0},{"$f":"IFERROR($E355*SUMIF('Daily Log'!#REF!,$B355,'Daily Log'!#REF!),0)","v":0},{"$f":"IFERROR($E355*SUMIF('Daily Log'!#REF!,$B355,'Daily Log'!#REF!),0)","v":0}]
[null,"DI11 91302:NUGGET",null,"KLKD-APPETIZER",1,11,{"$f":"IFERROR($E356*SUMIF('Daily Log'!$B$18:$B$1017,$B356,'Daily Log'!$C$18:$C$1017),0)","v":6},{"$f":"IFERROR($E356*SUMIF('Daily Log'!$E$18:$E$1017,$B356,'Daily Log'!$F$18:$F$1017),0)","v":1},{"$f":"IFERROR($E356*SUMIF('Daily Log'!$H$18:$H$1017,$B356,'Daily Log'!$I$18:$I$1017),0)","v":2},{"$f":"IFERROR($E356*SUMIF('Daily Log'!$K$18:$K$1017,$B356,'Daily Log'!$L$18:$L$1017),0)","v":1},{"$f":"IFERROR($E356*SUMIF('Daily Log'!$N$18:$N$1017,$B356,'Daily Log'!$O$18:$O$1017),0)","v":1},{"$f":"IFERROR($E356*SUMIF('Daily Log'!#REF!,$B356,'Daily Log'!#REF!),0)","v":0},{"$f":"IFERROR($E356*SUMIF('Daily Log'!#REF!,$B356,'Daily Log'!#REF!),0)","v":0},{"$f":"IFERROR($E356*SUMIF('Daily Log'!#REF!,$B356,'Daily Log'!#REF!),0)","v":0},{"$f":"IFERROR($E356*SUMIF('Daily Log'!#REF!,$B356,'Daily Log'!#REF!),0)","v":0},{"$f":"IFERROR($E356*SUMIF('Daily Log'!#REF!,$B356,'Daily Log'!#REF!),0)","v":0},{"$f":"IFERROR($E356*SUMIF('Daily Log'!#REF!,$B356,'Daily Log'!#REF!),0)","v":0},{"$f":"IFERROR($E356*SUMIF('Daily Log'!#REF!,$B356,'Daily Log'!#REF!),0)","v":0},{"$f":"IFERROR($E356*SUMIF('Daily Log'!#REF!,$B356,'Daily Log'!#REF!),0)","v":0},{"$f":"IFERROR($E356*SUMIF('Daily Log'!#REF!,$B356,'Daily Log'!#REF!),0)","v":0},{"$f":"IFERROR($E356*SUMIF('Daily Log'!#REF!,$B356,'Daily Log'!#REF!),0)","v":0},{"$f":"IFERROR($E356*SUMIF('Daily Log'!#REF!,$B356,'Daily Log'!#REF!),0)","v":0},{"$f":"IFERROR($E356*SUMIF('Daily Log'!#REF!,$B356,'Daily Log'!#REF!),0)","v":0},{"$f":"IFERROR($E356*SUMIF('Daily Log'!#REF!,$B356,'Daily Log'!#REF!),0)","v":0},{"$f":"IFERROR($E356*SUMIF('Daily Log'!#REF!,$B356,'Daily Log'!#REF!),0)","v":0},{"$f":"IFERROR($E356*SUMIF('Daily Log'!#REF!,$B356,'Daily Log'!#REF!),0)","v":0},{"$f":"IFERROR($E356*SUMIF('Daily Log'!#REF!,$B356,'Daily Log'!#REF!),0)","v":0},{"$f":"IFERROR($E356*SUMIF('Daily Log'!#REF!,$B356,'Daily Log'!#REF!),0)","v":0},{"$f":"IFERROR($E356*SUMIF('Daily Log'!#REF!,$B356,'Daily Log'!#REF!),0)","v":0},{"$f":"IFERROR($E356*SUMIF('Daily Log'!#REF!,$B356,'Daily Log'!#REF!),0)","v":0},{"$f":"IFERROR($E356*SUMIF('Daily Log'!#REF!,$B356,'Daily Log'!#REF!),0)","v":0},{"$f":"IFERROR($E356*SUMIF('Daily Log'!#REF!,$B356,'Daily Log'!#REF!),0)","v":0},{"$f":"IFERROR($E356*SUMIF('Daily Log'!#REF!,$B356,'Daily Log'!#REF!),0)","v":0},{"$f":"IFERROR($E356*SUMIF('Daily Log'!#REF!,$B356,'Daily Log'!#REF!),0)","v":0},{"$f":"IFERROR($E356*SUMIF('Daily Log'!#REF!,$B356,'Daily Log'!#REF!),0)","v":0},{"$f":"IFERROR($E356*SUMIF('Daily Log'!#REF!,$B356,'Daily Log'!#REF!),0)","v":0},{"$f":"IFERROR($E356*SUMIF('Daily Log'!#REF!,$B356,'Daily Log'!#REF!),0)","v":0}]
[null,"DI12 91303:CHK WING",null,"KLKD-APPETIZER",1,18,{"$f":"IFERROR($E357*SUMIF('Daily Log'!$B$18:$B$1017,$B357,'Daily Log'!$C$18:$C$1017),0)","v":8},{"$f":"IFERROR($E357*SUMIF('Daily Log'!$E$18:$E$1017,$B357,'Daily Log'!$F$18:$F$1017),0)","v":1},{"$f":"IFERROR($E357*SUMIF('Daily Log'!$H$18:$H$1017,$B357,'Daily Log'!$I$18:$I$1017),0)","v":1},{"$f":"IFERROR($E357*SUMIF('Daily Log'!$K$18:$K$1017,$B357,'Daily Log'!$L$18:$L$1017),0)","v":5},{"$f":"IFERROR($E357*SUMIF('Daily Log'!$N$18:$N$1017,$B357,'Daily Log'!$O$18:$O$1017),0)","v":3},{"$f":"IFERROR($E357*SUMIF('Daily Log'!#REF!,$B357,'Daily Log'!#REF!),0)","v":0},{"$f":"IFERROR($E357*SUMIF('Daily Log'!#REF!,$B357,'Daily Log'!#REF!),0)","v":0},{"$f":"IFERROR($E357*SUMIF('Daily Log'!#REF!,$B357,'Daily Log'!#REF!),0)","v":0},{"$f":"IFERROR($E357*SUMIF('Daily Log'!#REF!,$B357,'Daily Log'!#REF!),0)","v":0},{"$f":"IFERROR($E357*SUMIF('Daily Log'!#REF!,$B357,'Daily Log'!#REF!),0)","v":0},{"$f":"IFERROR($E357*SUMIF('Daily Log'!#REF!,$B357,'Daily Log'!#REF!),0)","v":0},{"$f":"IFERROR($E357*SUMIF('Daily Log'!#REF!,$B357,'Daily Log'!#REF!),0)","v":0},{"$f":"IFERROR($E357*SUMIF('Daily Log'!#REF!,$B357,'Daily Log'!#REF!),0)","v":0},{"$f":"IFERROR($E357*SUMIF('Daily Log'!#REF!,$B357,'Daily Log'!#REF!),0)","v":0},{"$f":"IFERROR($E357*SUMIF('Daily Log'!#REF!,$B357,'Daily Log'!#REF!),0)","v":0},{"$f":"IFERROR($E357*SUMIF('Daily Log'!#REF!,$B357,'Daily Log'!#REF!),0)","v":0},{"$f":"IFERROR($E357*SUMIF('Daily Log'!#REF!,$B357,'Daily Log'!#REF!),0)","v":0},{"$f":"IFERROR($E357*SUMIF('Daily Log'!#REF!,$B357,'Daily Log'!#REF!),0)","v":0},{"$f":"IFERROR($E357*SUMIF('Daily Log'!#REF!,$B357,'Daily Log'!#REF!),0)","v":0},{"$f":"IFERROR($E357*SUMIF('Daily Log'!#REF!,$B357,'Daily Log'!#REF!),0)","v":0},{"$f":"IFERROR($E357*SUMIF('Daily Log'!#REF!,$B357,'Daily Log'!#REF!),0)","v":0},{"$f":"IFERROR($E357*SUMIF('Daily Log'!#REF!,$B357,'Daily Log'!#REF!),0)","v":0},{"$f":"IFERROR($E357*SUMIF('Daily Log'!#REF!,$B357,'Daily Log'!#REF!),0)","v":0},{"$f":"IFERROR($E357*SUMIF('Daily Log'!#REF!,$B357,'Daily Log'!#REF!),0)","v":0},{"$f":"IFERROR($E357*SUMIF('Daily Log'!#REF!,$B357,'Daily Log'!#REF!),0)","v":0},{"$f":"IFERROR($E357*SUMIF('Daily Log'!#REF!,$B357,'Daily Log'!#REF!),0)","v":0},{"$f":"IFERROR($E357*SUMIF('Daily Log'!#REF!,$B357,'Daily Log'!#REF!),0)","v":0},{"$f":"IFERROR($E357*SUMIF('Daily Log'!#REF!,$B357,'Daily Log'!#REF!),0)","v":0},{"$f":"IFERROR($E357*SUMIF('Daily Log'!#REF!,$B357,'Daily Log'!#REF!),0)","v":0},{"$f":"IFERROR($E357*SUMIF('Daily Log'!#REF!,$B357,'Daily Log'!#REF!),0)","v":0},{"$f":"IFERROR($E357*SUMIF('Daily Log'!#REF!,$B357,'Daily Log'!#REF!),0)","v":0}]
[null,"DI13 91304:IKAN BILIS",null,"KLKD-APPETIZER",1,4,{"$f":"IFERROR($E358*SUMIF('Daily Log'!$B$18:$B$1017,$B358,'Daily Log'!$C$18:$C$1017),0)","v":3},{"$f":"IFERROR($E358*SUMIF('Daily Log'!$E$18:$E$1017,$B358,'Daily Log'!$F$18:$F$1017),0)","v":0},{"$f":"IFERROR($E358*SUMIF('Daily Log'!$H$18:$H$1017,$B358,'Daily Log'!$I$18:$I$1017),0)","v":1},{"$f":"IFERROR($E358*SUMIF('Daily Log'!$K$18:$K$1017,$B358,'Daily Log'!$L$18:$L$1017),0)","v":0},{"$f":"IFERROR($E358*SUMIF('Daily Log'!$N$18:$N$1017,$B358,'Daily Log'!$O$18:$O$1017),0)","v":0},{"$f":"IFERROR($E358*SUMIF('Daily Log'!#REF!,$B358,'Daily Log'!#REF!),0)","v":0},{"$f":"IFERROR($E358*SUMIF('Daily Log'!#REF!,$B358,'Daily Log'!#REF!),0)","v":0},{"$f":"IFERROR($E358*SUMIF('Daily Log'!#REF!,$B358,'Daily Log'!#REF!),0)","v":0},{"$f":"IFERROR($E358*SUMIF('Daily Log'!#REF!,$B358,'Daily Log'!#REF!),0)","v":0},{"$f":"IFERROR($E358*SUMIF('Daily Log'!#REF!,$B358,'Daily Log'!#REF!),0)","v":0},{"$f":"IFERROR($E358*SUMIF('Daily Log'!#REF!,$B358,'Daily Log'!#REF!),0)","v":0},{"$f":"IFERROR($E358*SUMIF('Daily Log'!#REF!,$B358,'Daily Log'!#REF!),0)","v":0},{"$f":"IFERROR($E358*SUMIF('Daily Log'!#REF!,$B358,'Daily Log'!#REF!),0)","v":0},{"$f":"IFERROR($E358*SUMIF('Daily Log'!#REF!,$B358,'Daily Log'!#REF!),0)","v":0},{"$f":"IFERROR($E358*SUMIF('Daily Log'!#REF!,$B358,'Daily Log'!#REF!),0)","v":0},{"$f":"IFERROR($E358*SUMIF('Daily Log'!#REF!,$B358,'Daily Log'!#REF!),0)","v":0},{"$f":"IFERROR($E358*SUMIF('Daily Log'!#REF!,$B358,'Daily Log'!#REF!),0)","v":0},{"$f":"IFERROR($E358*SUMIF('Daily Log'!#REF!,$B358,'Daily Log'!#REF!),0)","v":0},{"$f":"IFERROR($E358*SUMIF('Daily Log'!#REF!,$B358,'Daily Log'!#REF!),0)","v":0},{"$f":"IFERROR($E358*SUMIF('Daily Log'!#REF!,$B358,'Daily Log'!#REF!),0)","v":0},{"$f":"IFERROR($E358*SUMIF('Daily Log'!#REF!,$B358,'Daily Log'!#REF!),0)","v":0},{"$f":"IFERROR($E358*SUMIF('Daily Log'!#REF!,$B358,'Daily Log'!#REF!),0)","v":0},{"$f":"IFERROR($E358*SUMIF('Daily Log'!#REF!,$B358,'Daily Log'!#REF!),0)","v":0},{"$f":"IFERROR($E358*SUMIF('Daily Log'!#REF!,$B358,'Daily Log'!#REF!),0)","v":0},{"$f":"IFERROR($E358*SUMIF('Daily Log'!#REF!,$B358,'Daily Log'!#REF!),0)","v":0},{"$f":"IFERROR($E358*SUMIF('Daily Log'!#REF!,$B358,'Daily Log'!#REF!),0)","v":0},{"$f":"IFERROR($E358*SUMIF('Daily Log'!#REF!,$B358,'Daily Log'!#REF!),0)","v":0},{"$f":"IFERROR($E358*SUMIF('Daily Log'!#REF!,$B358,'Daily Log'!#REF!),0)","v":0},{"$f":"IFERROR($E358*SUMIF('Daily Log'!#REF!,$B358,'Daily Log'!#REF!),0)","v":0},{"$f":"IFERROR($E358*SUMIF('Daily Log'!#REF!,$B358,'Daily Log'!#REF!),0)","v":0},{"$f":"IFERROR($E358*SUMIF('Daily Log'!#REF!,$B358,'Daily Log'!#REF!),0)","v":0}]
[null,"DI14 91305:THAI RL",null,"KLKD-APPETIZER",1,1,{"$f":"IFERROR($E359*SUMIF('Daily Log'!$B$18:$B$1017,$B359,'Daily Log'!$C$18:$C$1017),0)","v":0},{"$f":"IFERROR($E359*SUMIF('Daily Log'!$E$18:$E$1017,$B359,'Daily Log'!$F$18:$F$1017),0)","v":0},{"$f":"IFERROR($E359*SUMIF('Daily Log'!$H$18:$H$1017,$B359,'Daily Log'!$I$18:$I$1017),0)","v":0},{"$f":"IFERROR($E359*SUMIF('Daily Log'!$K$18:$K$1017,$B359,'Daily Log'!$L$18:$L$1017),0)","v":1},{"$f":"IFERROR($E359*SUMIF('Daily Log'!$N$18:$N$1017,$B359,'Daily Log'!$O$18:$O$1017),0)","v":0},{"$f":"IFERROR($E359*SUMIF('Daily Log'!#REF!,$B359,'Daily Log'!#REF!),0)","v":0},{"$f":"IFERROR($E359*SUMIF('Daily Log'!#REF!,$B359,'Daily Log'!#REF!),0)","v":0},{"$f":"IFERROR($E359*SUMIF('Daily Log'!#REF!,$B359,'Daily Log'!#REF!),0)","v":0},{"$f":"IFERROR($E359*SUMIF('Daily Log'!#REF!,$B359,'Daily Log'!#REF!),0)","v":0},{"$f":"IFERROR($E359*SUMIF('Daily Log'!#REF!,$B359,'Daily Log'!#REF!),0)","v":0},{"$f":"IFERROR($E359*SUMIF('Daily Log'!#REF!,$B359,'Daily Log'!#REF!),0)","v":0},{"$f":"IFERROR($E359*SUMIF('Daily Log'!#REF!,$B359,'Daily Log'!#REF!),0)","v":0},{"$f":"IFERROR($E359*SUMIF('Daily Log'!#REF!,$B359,'Daily Log'!#REF!),0)","v":0},{"$f":"IFERROR($E359*SUMIF('Daily Log'!#REF!,$B359,'Daily Log'!#REF!),0)","v":0},{"$f":"IFERROR($E359*SUMIF('Daily Log'!#REF!,$B359,'Daily Log'!#REF!),0)","v":0},{"$f":"IFERROR($E359*SUMIF('Daily Log'!#REF!,$B359,'Daily Log'!#REF!),0)","v":0},{"$f":"IFERROR($E359*SUMIF('Daily Log'!#REF!,$B359,'Daily Log'!#REF!),0)","v":0},{"$f":"IFERROR($E359*SUMIF('Daily Log'!#REF!,$B359,'Daily Log'!#REF!),0)","v":0},{"$f":"IFERROR($E359*SUMIF('Daily Log'!#REF!,$B359,'Daily Log'!#REF!),0)","v":0},{"$f":"IFERROR($E359*SUMIF('Daily Log'!#REF!,$B359,'Daily Log'!#REF!),0)","v":0},{"$f":"IFERROR($E359*SUMIF('Daily Log'!#REF!,$B359,'Daily Log'!#REF!),0)","v":0},{"$f":"IFERROR($E359*SUMIF('Daily Log'!#REF!,$B359,'Daily Log'!#REF!),0)","v":0},{"$f":"IFERROR($E359*SUMIF('Daily Log'!#REF!,$B359,'Daily Log'!#REF!),0)","v":0},{"$f":"IFERROR($E359*SUMIF('Daily Log'!#REF!,$B359,'Daily Log'!#REF!),0)","v":0},{"$f":"IFERROR($E359*SUMIF('Daily Log'!#REF!,$B359,'Daily Log'!#REF!),0)","v":0},{"$f":"IFERROR($E359*SUMIF('Daily Log'!#REF!,$B359,'Daily Log'!#REF!),0)","v":0},{"$f":"IFERROR($E359*SUMIF('Daily Log'!#REF!,$B359,'Daily Log'!#REF!),0)","v":0},{"$f":"IFERROR($E359*SUMIF('Daily Log'!#REF!,$B359,'Daily Log'!#REF!),0)","v":0},{"$f":"IFERROR($E359*SUMIF('Daily Log'!#REF!,$B359,'Daily Log'!#REF!),0)","v":0},{"$f":"IFERROR($E359*SUMIF('Daily Log'!#REF!,$B359,'Daily Log'!#REF!),0)","v":0},{"$f":"IFERROR($E359*SUMIF('Daily Log'!#REF!,$B359,'Daily Log'!#REF!),0)","v":0}]
[null,"DI15 91306:SLVR FISH",null,"KLKD-APPETIZER",1,0,{"$f":"IFERROR($E360*SUMIF('Daily Log'!$B$18:$B$1017,$B360,'Daily Log'!$C$18:$C$1017),0)","v":0},{"$f":"IFERROR($E360*SUMIF('Daily Log'!$E$18:$E$1017,$B360,'Daily Log'!$F$18:$F$1017),0)","v":0},{"$f":"IFERROR($E360*SUMIF('Daily Log'!$H$18:$H$1017,$B360,'Daily Log'!$I$18:$I$1017),0)","v":0},{"$f":"IFERROR($E360*SUMIF('Daily Log'!$K$18:$K$1017,$B360,'Daily Log'!$L$18:$L$1017),0)","v":0},{"$f":"IFERROR($E360*SUMIF('Daily Log'!$N$18:$N$1017,$B360,'Daily Log'!$O$18:$O$1017),0)","v":0},{"$f":"IFERROR($E360*SUMIF('Daily Log'!#REF!,$B360,'Daily Log'!#REF!),0)","v":0},{"$f":"IFERROR($E360*SUMIF('Daily Log'!#REF!,$B360,'Daily Log'!#REF!),0)","v":0},{"$f":"IFERROR($E360*SUMIF('Daily Log'!#REF!,$B360,'Daily Log'!#REF!),0)","v":0},{"$f":"IFERROR($E360*SUMIF('Daily Log'!#REF!,$B360,'Daily Log'!#REF!),0)","v":0},{"$f":"IFERROR($E360*SUMIF('Daily Log'!#REF!,$B360,'Daily Log'!#REF!),0)","v":0},{"$f":"IFERROR($E360*SUMIF('Daily Log'!#REF!,$B360,'Daily Log'!#REF!),0)","v":0},{"$f":"IFERROR($E360*SUMIF('Daily Log'!#REF!,$B360,'Daily Log'!#REF!),0)","v":0},{"$f":"IFERROR($E360*SUMIF('Daily Log'!#REF!,$B360,'Daily Log'!#REF!),0)","v":0},{"$f":"IFERROR($E360*SUMIF('Daily Log'!#REF!,$B360,'Daily Log'!#REF!),0)","v":0},{"$f":"IFERROR($E360*SUMIF('Daily Log'!#REF!,$B360,'Daily Log'!#REF!),0)","v":0},{"$f":"IFERROR($E360*SUMIF('Daily Log'!#REF!,$B360,'Daily Log'!#REF!),0)","v":0},{"$f":"IFERROR($E360*SUMIF('Daily Log'!#REF!,$B360,'Daily Log'!#REF!),0)","v":0},{"$f":"IFERROR($E360*SUMIF('Daily Log'!#REF!,$B360,'Daily Log'!#REF!),0)","v":0},{"$f":"IFERROR($E360*SUMIF('Daily Log'!#REF!,$B360,'Daily Log'!#REF!),0)","v":0},{"$f":"IFERROR($E360*SUMIF('Daily Log'!#REF!,$B360,'Daily Log'!#REF!),0)","v":0},{"$f":"IFERROR($E360*SUMIF('Daily Log'!#REF!,$B360,'Daily Log'!#REF!),0)","v":0},{"$f":"IFERROR($E360*SUMIF('Daily Log'!#REF!,$B360,'Daily Log'!#REF!),0)","v":0},{"$f":"IFERROR($E360*SUMIF('Daily Log'!#REF!,$B360,'Daily Log'!#REF!),0)","v":0},{"$f":"IFERROR($E360*SUMIF('Daily Log'!#REF!,$B360,'Daily Log'!#REF!),0)","v":0},{"$f":"IFERROR($E360*SUMIF('Daily Log'!#REF!,$B360,'Daily Log'!#REF!),0)","v":0},{"$f":"IFERROR($E360*SUMIF('Daily Log'!#REF!,$B360,'Daily Log'!#REF!),0)","v":0},{"$f":"IFERROR($E360*SUMIF('Daily Log'!#REF!,$B360,'Daily Log'!#REF!),0)","v":0},{"$f":"IFERROR($E360*SUMIF('Daily Log'!#REF!,$B360,'Daily Log'!#REF!),0)","v":0},{"$f":"IFERROR($E360*SUMIF('Daily Log'!#REF!,$B360,'Daily Log'!#REF!),0)","v":0},{"$f":"IFERROR($E360*SUMIF('Daily Log'!#REF!,$B360,'Daily Log'!#REF!),0)","v":0},{"$f":"IFERROR($E360*SUMIF('Daily Log'!#REF!,$B360,'Daily Log'!#REF!),0)","v":0}]
[null,"GE01 DUNHILL",null,"CIGARETTE",1,10,{"$f":"IFERROR($E361*SUMIF('Daily Log'!$B$18:$B$1017,$B361,'Daily Log'!$C$18:$C$1017),0)","v":1},{"$f":"IFERROR($E361*SUMIF('Daily Log'!$E$18:$E$1017,$B361,'Daily Log'!$F$18:$F$1017),0)","v":2},{"$f":"IFERROR($E361*SUMIF('Daily Log'!$H$18:$H$1017,$B361,'Daily Log'!$I$18:$I$1017),0)","v":4},{"$f":"IFERROR($E361*SUMIF('Daily Log'!$K$18:$K$1017,$B361,'Daily Log'!$L$18:$L$1017),0)","v":2},{"$f":"IFERROR($E361*SUMIF('Daily Log'!$N$18:$N$1017,$B361,'Daily Log'!$O$18:$O$1017),0)","v":1},{"$f":"IFERROR($E361*SUMIF('Daily Log'!#REF!,$B361,'Daily Log'!#REF!),0)","v":0},{"$f":"IFERROR($E361*SUMIF('Daily Log'!#REF!,$B361,'Daily Log'!#REF!),0)","v":0},{"$f":"IFERROR($E361*SUMIF('Daily Log'!#REF!,$B361,'Daily Log'!#REF!),0)","v":0},{"$f":"IFERROR($E361*SUMIF('Daily Log'!#REF!,$B361,'Daily Log'!#REF!),0)","v":0},{"$f":"IFERROR($E361*SUMIF('Daily Log'!#REF!,$B361,'Daily Log'!#REF!),0)","v":0},{"$f":"IFERROR($E361*SUMIF('Daily Log'!#REF!,$B361,'Daily Log'!#REF!),0)","v":0},{"$f":"IFERROR($E361*SUMIF('Daily Log'!#REF!,$B361,'Daily Log'!#REF!),0)","v":0},{"$f":"IFERROR($E361*SUMIF('Daily Log'!#REF!,$B361,'Daily Log'!#REF!),0)","v":0},{"$f":"IFERROR($E361*SUMIF('Daily Log'!#REF!,$B361,'Daily Log'!#REF!),0)","v":0},{"$f":"IFERROR($E361*SUMIF('Daily Log'!#REF!,$B361,'Daily Log'!#REF!),0)","v":0},{"$f":"IFERROR($E361*SUMIF('Daily Log'!#REF!,$B361,'Daily Log'!#REF!),0)","v":0},{"$f":"IFERROR($E361*SUMIF('Daily Log'!#REF!,$B361,'Daily Log'!#REF!),0)","v":0},{"$f":"IFERROR($E361*SUMIF('Daily Log'!#REF!,$B361,'Daily Log'!#REF!),0)","v":0},{"$f":"IFERROR($E361*SUMIF('Daily Log'!#REF!,$B361,'Daily Log'!#REF!),0)","v":0},{"$f":"IFERROR($E361*SUMIF('Daily Log'!#REF!,$B361,'Daily Log'!#REF!),0)","v":0},{"$f":"IFERROR($E361*SUMIF('Daily Log'!#REF!,$B361,'Daily Log'!#REF!),0)","v":0},{"$f":"IFERROR($E361*SUMIF('Daily Log'!#REF!,$B361,'Daily Log'!#REF!),0)","v":0},{"$f":"IFERROR($E361*SUMIF('Daily Log'!#REF!,$B361,'Daily Log'!#REF!),0)","v":0},{"$f":"IFERROR($E361*SUMIF('Daily Log'!#REF!,$B361,'Daily Log'!#REF!),0)","v":0},{"$f":"IFERROR($E361*SUMIF('Daily Log'!#REF!,$B361,'Daily Log'!#REF!),0)","v":0},{"$f":"IFERROR($E361*SUMIF('Daily Log'!#REF!,$B361,'Daily Log'!#REF!),0)","v":0},{"$f":"IFERROR($E361*SUMIF('Daily Log'!#REF!,$B361,'Daily Log'!#REF!),0)","v":0},{"$f":"IFERROR($E361*SUMIF('Daily Log'!#REF!,$B361,'Daily Log'!#REF!),0)","v":0},{"$f":"IFERROR($E361*SUMIF('Daily Log'!#REF!,$B361,'Daily Log'!#REF!),0)","v":0},{"$f":"IFERROR($E361*SUMIF('Daily Log'!#REF!,$B361,'Daily Log'!#REF!),0)","v":0},{"$f":"IFERROR($E361*SUMIF('Daily Log'!#REF!,$B361,'Daily Log'!#REF!),0)","v":0}]
[null,"GE02 DUNHILL LITE",null,"CIGARETTE",1,6,{"$f":"IFERROR($E362*SUMIF('Daily Log'!$B$18:$B$1017,$B362,'Daily Log'!$C$18:$C$1017),0)","v":2},{"$f":"IFERROR($E362*SUMIF('Daily Log'!$E$18:$E$1017,$B362,'Daily Log'!$F$18:$F$1017),0)","v":1},{"$f":"IFERROR($E362*SUMIF('Daily Log'!$H$18:$H$1017,$B362,'Daily Log'!$I$18:$I$1017),0)","v":3},{"$f":"IFERROR($E362*SUMIF('Daily Log'!$K$18:$K$1017,$B362,'Daily Log'!$L$18:$L$1017),0)","v":0},{"$f":"IFERROR($E362*SUMIF('Daily Log'!$N$18:$N$1017,$B362,'Daily Log'!$O$18:$O$1017),0)","v":0},{"$f":"IFERROR($E362*SUMIF('Daily Log'!#REF!,$B362,'Daily Log'!#REF!),0)","v":0},{"$f":"IFERROR($E362*SUMIF('Daily Log'!#REF!,$B362,'Daily Log'!#REF!),0)","v":0},{"$f":"IFERROR($E362*SUMIF('Daily Log'!#REF!,$B362,'Daily Log'!#REF!),0)","v":0},{"$f":"IFERROR($E362*SUMIF('Daily Log'!#REF!,$B362,'Daily Log'!#REF!),0)","v":0},{"$f":"IFERROR($E362*SUMIF('Daily Log'!#REF!,$B362,'Daily Log'!#REF!),0)","v":0},{"$f":"IFERROR($E362*SUMIF('Daily Log'!#REF!,$B362,'Daily Log'!#REF!),0)","v":0},{"$f":"IFERROR($E362*SUMIF('Daily Log'!#REF!,$B362,'Daily Log'!#REF!),0)","v":0},{"$f":"IFERROR($E362*SUMIF('Daily Log'!#REF!,$B362,'Daily Log'!#REF!),0)","v":0},{"$f":"IFERROR($E362*SUMIF('Daily Log'!#REF!,$B362,'Daily Log'!#REF!),0)","v":0},{"$f":"IFERROR($E362*SUMIF('Daily Log'!#REF!,$B362,'Daily Log'!#REF!),0)","v":0},{"$f":"IFERROR($E362*SUMIF('Daily Log'!#REF!,$B362,'Daily Log'!#REF!),0)","v":0},{"$f":"IFERROR($E362*SUMIF('Daily Log'!#REF!,$B362,'Daily Log'!#REF!),0)","v":0},{"$f":"IFERROR($E362*SUMIF('Daily Log'!#REF!,$B362,'Daily Log'!#REF!),0)","v":0},{"$f":"IFERROR($E362*SUMIF('Daily Log'!#REF!,$B362,'Daily Log'!#REF!),0)","v":0},{"$f":"IFERROR($E362*SUMIF('Daily Log'!#REF!,$B362,'Daily Log'!#REF!),0)","v":0},{"$f":"IFERROR($E362*SUMIF('Daily Log'!#REF!,$B362,'Daily Log'!#REF!),0)","v":0},{"$f":"IFERROR($E362*SUMIF('Daily Log'!#REF!,$B362,'Daily Log'!#REF!),0)","v":0},{"$f":"IFERROR($E362*SUMIF('Daily Log'!#REF!,$B362,'Daily Log'!#REF!),0)","v":0},{"$f":"IFERROR($E362*SUMIF('Daily Log'!#REF!,$B362,'Daily Log'!#REF!),0)","v":0},{"$f":"IFERROR($E362*SUMIF('Daily Log'!#REF!,$B362,'Daily Log'!#REF!),0)","v":0},{"$f":"IFERROR($E362*SUMIF('Daily Log'!#REF!,$B362,'Daily Log'!#REF!),0)","v":0},{"$f":"IFERROR($E362*SUMIF('Daily Log'!#REF!,$B362,'Daily Log'!#REF!),0)","v":0},{"$f":"IFERROR($E362*SUMIF('Daily Log'!#REF!,$B362,'Daily Log'!#REF!),0)","v":0},{"$f":"IFERROR($E362*SUMIF('Daily Log'!#REF!,$B362,'Daily Log'!#REF!),0)","v":0},{"$f":"IFERROR($E362*SUMIF('Daily Log'!#REF!,$B362,'Daily Log'!#REF!),0)","v":0},{"$f":"IFERROR($E362*SUMIF('Daily Log'!#REF!,$B362,'Daily Log'!#REF!),0)","v":0}]
[null,"GE03 DUNHILL MT",null,"CIGARETTE",1,1,{"$f":"IFERROR($E363*SUMIF('Daily Log'!$B$18:$B$1017,$B363,'Daily Log'!$C$18:$C$1017),0)","v":0},{"$f":"IFERROR($E363*SUMIF('Daily Log'!$E$18:$E$1017,$B363,'Daily Log'!$F$18:$F$1017),0)","v":0},{"$f":"IFERROR($E363*SUMIF('Daily Log'!$H$18:$H$1017,$B363,'Daily Log'!$I$18:$I$1017),0)","v":0},{"$f":"IFERROR($E363*SUMIF('Daily Log'!$K$18:$K$1017,$B363,'Daily Log'!$L$18:$L$1017),0)","v":1},{"$f":"IFERROR($E363*SUMIF('Daily Log'!$N$18:$N$1017,$B363,'Daily Log'!$O$18:$O$1017),0)","v":0},{"$f":"IFERROR($E363*SUMIF('Daily Log'!#REF!,$B363,'Daily Log'!#REF!),0)","v":0},{"$f":"IFERROR($E363*SUMIF('Daily Log'!#REF!,$B363,'Daily Log'!#REF!),0)","v":0},{"$f":"IFERROR($E363*SUMIF('Daily Log'!#REF!,$B363,'Daily Log'!#REF!),0)","v":0},{"$f":"IFERROR($E363*SUMIF('Daily Log'!#REF!,$B363,'Daily Log'!#REF!),0)","v":0},{"$f":"IFERROR($E363*SUMIF('Daily Log'!#REF!,$B363,'Daily Log'!#REF!),0)","v":0},{"$f":"IFERROR($E363*SUMIF('Daily Log'!#REF!,$B363,'Daily Log'!#REF!),0)","v":0},{"$f":"IFERROR($E363*SUMIF('Daily Log'!#REF!,$B363,'Daily Log'!#REF!),0)","v":0},{"$f":"IFERROR($E363*SUMIF('Daily Log'!#REF!,$B363,'Daily Log'!#REF!),0)","v":0},{"$f":"IFERROR($E363*SUMIF('Daily Log'!#REF!,$B363,'Daily Log'!#REF!),0)","v":0},{"$f":"IFERROR($E363*SUMIF('Daily Log'!#REF!,$B363,'Daily Log'!#REF!),0)","v":0},{"$f":"IFERROR($E363*SUMIF('Daily Log'!#REF!,$B363,'Daily Log'!#REF!),0)","v":0},{"$f":"IFERROR($E363*SUMIF('Daily Log'!#REF!,$B363,'Daily Log'!#REF!),0)","v":0},{"$f":"IFERROR($E363*SUMIF('Daily Log'!#REF!,$B363,'Daily Log'!#REF!),0)","v":0},{"$f":"IFERROR($E363*SUMIF('Daily Log'!#REF!,$B363,'Daily Log'!#REF!),0)","v":0},{"$f":"IFERROR($E363*SUMIF('Daily Log'!#REF!,$B363,'Daily Log'!#REF!),0)","v":0},{"$f":"IFERROR($E363*SUMIF('Daily Log'!#REF!,$B363,'Daily Log'!#REF!),0)","v":0},{"$f":"IFERROR($E363*SUMIF('Daily Log'!#REF!,$B363,'Daily Log'!#REF!),0)","v":0},{"$f":"IFERROR($E363*SUMIF('Daily Log'!#REF!,$B363,'Daily Log'!#REF!),0)","v":0},{"$f":"IFERROR($E363*SUMIF('Daily Log'!#REF!,$B363,'Daily Log'!#REF!),0)","v":0},{"$f":"IFERROR($E363*SUMIF('Daily Log'!#REF!,$B363,'Daily Log'!#REF!),0)","v":0},{"$f":"IFERROR($E363*SUMIF('Daily Log'!#REF!,$B363,'Daily Log'!#REF!),0)","v":0},{"$f":"IFERROR($E363*SUMIF('Daily Log'!#REF!,$B363,'Daily Log'!#REF!),0)","v":0},{"$f":"IFERROR($E363*SUMIF('Daily Log'!#REF!,$B363,'Daily Log'!#REF!),0)","v":0},{"$f":"IFERROR($E363*SUMIF('Daily Log'!#REF!,$B363,'Daily Log'!#REF!),0)","v":0},{"$f":"IFERROR($E363*SUMIF('Daily Log'!#REF!,$B363,'Daily Log'!#REF!),0)","v":0},{"$f":"IFERROR($E363*SUMIF('Daily Log'!#REF!,$B363,'Daily Log'!#REF!),0)","v":0}]
[null,"GE04 DUNHILL MT LITE",null,"CIGARETTE",1,0,{"$f":"IFERROR($E364*SUMIF('Daily Log'!$B$18:$B$1017,$B364,'Daily Log'!$C$18:$C$1017),0)","v":0},{"$f":"IFERROR($E364*SUMIF('Daily Log'!$E$18:$E$1017,$B364,'Daily Log'!$F$18:$F$1017),0)","v":0},{"$f":"IFERROR($E364*SUMIF('Daily Log'!$H$18:$H$1017,$B364,'Daily Log'!$I$18:$I$1017),0)","v":0},{"$f":"IFERROR($E364*SUMIF('Daily Log'!$K$18:$K$1017,$B364,'Daily Log'!$L$18:$L$1017),0)","v":0},{"$f":"IFERROR($E364*SUMIF('Daily Log'!$N$18:$N$1017,$B364,'Daily Log'!$O$18:$O$1017),0)","v":0},{"$f":"IFERROR($E364*SUMIF('Daily Log'!#REF!,$B364,'Daily Log'!#REF!),0)","v":0},{"$f":"IFERROR($E364*SUMIF('Daily Log'!#REF!,$B364,'Daily Log'!#REF!),0)","v":0},{"$f":"IFERROR($E364*SUMIF('Daily Log'!#REF!,$B364,'Daily Log'!#REF!),0)","v":0},{"$f":"IFERROR($E364*SUMIF('Daily Log'!#REF!,$B364,'Daily Log'!#REF!),0)","v":0},{"$f":"IFERROR($E364*SUMIF('Daily Log'!#REF!,$B364,'Daily Log'!#REF!),0)","v":0},{"$f":"IFERROR($E364*SUMIF('Daily Log'!#REF!,$B364,'Daily Log'!#REF!),0)","v":0},{"$f":"IFERROR($E364*SUMIF('Daily Log'!#REF!,$B364,'Daily Log'!#REF!),0)","v":0},{"$f":"IFERROR($E364*SUMIF('Daily Log'!#REF!,$B364,'Daily Log'!#REF!),0)","v":0},{"$f":"IFERROR($E364*SUMIF('Daily Log'!#REF!,$B364,'Daily Log'!#REF!),0)","v":0},{"$f":"IFERROR($E364*SUMIF('Daily Log'!#REF!,$B364,'Daily Log'!#REF!),0)","v":0},{"$f":"IFERROR($E364*SUMIF('Daily Log'!#REF!,$B364,'Daily Log'!#REF!),0)","v":0},{"$f":"IFERROR($E364*SUMIF('Daily Log'!#REF!,$B364,'Daily Log'!#REF!),0)","v":0},{"$f":"IFERROR($E364*SUMIF('Daily Log'!#REF!,$B364,'Daily Log'!#REF!),0)","v":0},{"$f":"IFERROR($E364*SUMIF('Daily Log'!#REF!,$B364,'Daily Log'!#REF!),0)","v":0},{"$f":"IFERROR($E364*SUMIF('Daily Log'!#REF!,$B364,'Daily Log'!#REF!),0)","v":0},{"$f":"IFERROR($E364*SUMIF('Daily Log'!#REF!,$B364,'Daily Log'!#REF!),0)","v":0},{"$f":"IFERROR($E364*SUMIF('Daily Log'!#REF!,$B364,'Daily Log'!#REF!),0)","v":0},{"$f":"IFERROR($E364*SUMIF('Daily Log'!#REF!,$B364,'Daily Log'!#REF!),0)","v":0},{"$f":"IFERROR($E364*SUMIF('Daily Log'!#REF!,$B364,'Daily Log'!#REF!),0)","v":0},{"$f":"IFERROR($E364*SUMIF('Daily Log'!#REF!,$B364,'Daily Log'!#REF!),0)","v":0},{"$f":"IFERROR($E364*SUMIF('Daily Log'!#REF!,$B364,'Daily Log'!#REF!),0)","v":0},{"$f":"IFERROR($E364*SUMIF('Daily Log'!#REF!,$B364,'Daily Log'!#REF!),0)","v":0},{"$f":"IFERROR($E364*SUMIF('Daily Log'!#REF!,$B364,'Daily Log'!#REF!),0)","v":0},{"$f":"IFERROR($E364*SUMIF('Daily Log'!#REF!,$B364,'Daily Log'!#REF!),0)","v":0},{"$f":"IFERROR($E364*SUMIF('Daily Log'!#REF!,$B364,'Daily Log'!#REF!),0)","v":0},{"$f":"IFERROR($E364*SUMIF('Daily Log'!#REF!,$B364,'Daily Log'!#REF!),0)","v":0}]
[null,"GE05 DUNHILL BOOST",null,"CIGARETTE",1,1,{"$f":"IFERROR($E365*SUMIF('Daily Log'!$B$18:$B$1017,$B365,'Daily Log'!$C$18:$C$1017),0)","v":0},{"$f":"IFERROR($E365*SUMIF('Daily Log'!$E$18:$E$1017,$B365,'Daily Log'!$F$18:$F$1017),0)","v":1},{"$f":"IFERROR($E365*SUMIF('Daily Log'!$H$18:$H$1017,$B365,'Daily Log'!$I$18:$I$1017),0)","v":0},{"$f":"IFERROR($E365*SUMIF('Daily Log'!$K$18:$K$1017,$B365,'Daily Log'!$L$18:$L$1017),0)","v":0},{"$f":"IFERROR($E365*SUMIF('Daily Log'!$N$18:$N$1017,$B365,'Daily Log'!$O$18:$O$1017),0)","v":0},{"$f":"IFERROR($E365*SUMIF('Daily Log'!#REF!,$B365,'Daily Log'!#REF!),0)","v":0},{"$f":"IFERROR($E365*SUMIF('Daily Log'!#REF!,$B365,'Daily Log'!#REF!),0)","v":0},{"$f":"IFERROR($E365*SUMIF('Daily Log'!#REF!,$B365,'Daily Log'!#REF!),0)","v":0},{"$f":"IFERROR($E365*SUMIF('Daily Log'!#REF!,$B365,'Daily Log'!#REF!),0)","v":0},{"$f":"IFERROR($E365*SUMIF('Daily Log'!#REF!,$B365,'Daily Log'!#REF!),0)","v":0},{"$f":"IFERROR($E365*SUMIF('Daily Log'!#REF!,$B365,'Daily Log'!#REF!),0)","v":0},{"$f":"IFERROR($E365*SUMIF('Daily Log'!#REF!,$B365,'Daily Log'!#REF!),0)","v":0},{"$f":"IFERROR($E365*SUMIF('Daily Log'!#REF!,$B365,'Daily Log'!#REF!),0)","v":0},{"$f":"IFERROR($E365*SUMIF('Daily Log'!#REF!,$B365,'Daily Log'!#REF!),0)","v":0},{"$f":"IFERROR($E365*SUMIF('Daily Log'!#REF!,$B365,'Daily Log'!#REF!),0)","v":0},{"$f":"IFERROR($E365*SUMIF('Daily Log'!#REF!,$B365,'Daily Log'!#REF!),0)","v":0},{"$f":"IFERROR($E365*SUMIF('Daily Log'!#REF!,$B365,'Daily Log'!#REF!),0)","v":0},{"$f":"IFERROR($E365*SUMIF('Daily Log'!#REF!,$B365,'Daily Log'!#REF!),0)","v":0},{"$f":"IFERROR($E365*SUMIF('Daily Log'!#REF!,$B365,'Daily Log'!#REF!),0)","v":0},{"$f":"IFERROR($E365*SUMIF('Daily Log'!#REF!,$B365,'Daily Log'!#REF!),0)","v":0},{"$f":"IFERROR($E365*SUMIF('Daily Log'!#REF!,$B365,'Daily Log'!#REF!),0)","v":0},{"$f":"IFERROR($E365*SUMIF('Daily Log'!#REF!,$B365,'Daily Log'!#REF!),0)","v":0},{"$f":"IFERROR($E365*SUMIF('Daily Log'!#REF!,$B365,'Daily Log'!#REF!),0)","v":0},{"$f":"IFERROR($E365*SUMIF('Daily Log'!#REF!,$B365,'Daily Log'!#REF!),0)","v":0},{"$f":"IFERROR($E365*SUMIF('Daily Log'!#REF!,$B365,'Daily Log'!#REF!),0)","v":0},{"$f":"IFERROR($E365*SUMIF('Daily Log'!#REF!,$B365,'Daily Log'!#REF!),0)","v":0},{"$f":"IFERROR($E365*SUMIF('Daily Log'!#REF!,$B365,'Daily Log'!#REF!),0)","v":0},{"$f":"IFERROR($E365*SUMIF('Daily Log'!#REF!,$B365,'Daily Log'!#REF!),0)","v":0},{"$f":"IFERROR($E365*SUMIF('Daily Log'!#REF!,$B365,'Daily Log'!#REF!),0)","v":0},{"$f":"IFERROR($E365*SUMIF('Daily Log'!#REF!,$B365,'Daily Log'!#REF!),0)","v":0},{"$f":"IFERROR($E365*SUMIF('Daily Log'!#REF!,$B365,'Daily Log'!#REF!),0)","v":0}]
[null,"GE06 DUNHILL SWITCH",null,"CIGARETTE",1,1,{"$f":"IFERROR($E366*SUMIF('Daily Log'!$B$18:$B$1017,$B366,'Daily Log'!$C$18:$C$1017),0)","v":0},{"$f":"IFERROR($E366*SUMIF('Daily Log'!$E$18:$E$1017,$B366,'Daily Log'!$F$18:$F$1017),0)","v":1},{"$f":"IFERROR($E366*SUMIF('Daily Log'!$H$18:$H$1017,$B366,'Daily Log'!$I$18:$I$1017),0)","v":0},{"$f":"IFERROR($E366*SUMIF('Daily Log'!$K$18:$K$1017,$B366,'Daily Log'!$L$18:$L$1017),0)","v":0},{"$f":"IFERROR($E366*SUMIF('Daily Log'!$N$18:$N$1017,$B366,'Daily Log'!$O$18:$O$1017),0)","v":0},{"$f":"IFERROR($E366*SUMIF('Daily Log'!#REF!,$B366,'Daily Log'!#REF!),0)","v":0},{"$f":"IFERROR($E366*SUMIF('Daily Log'!#REF!,$B366,'Daily Log'!#REF!),0)","v":0},{"$f":"IFERROR($E366*SUMIF('Daily Log'!#REF!,$B366,'Daily Log'!#REF!),0)","v":0},{"$f":"IFERROR($E366*SUMIF('Daily Log'!#REF!,$B366,'Daily Log'!#REF!),0)","v":0},{"$f":"IFERROR($E366*SUMIF('Daily Log'!#REF!,$B366,'Daily Log'!#REF!),0)","v":0},{"$f":"IFERROR($E366*SUMIF('Daily Log'!#REF!,$B366,'Daily Log'!#REF!),0)","v":0},{"$f":"IFERROR($E366*SUMIF('Daily Log'!#REF!,$B366,'Daily Log'!#REF!),0)","v":0},{"$f":"IFERROR($E366*SUMIF('Daily Log'!#REF!,$B366,'Daily Log'!#REF!),0)","v":0},{"$f":"IFERROR($E366*SUMIF('Daily Log'!#REF!,$B366,'Daily Log'!#REF!),0)","v":0},{"$f":"IFERROR($E366*SUMIF('Daily Log'!#REF!,$B366,'Daily Log'!#REF!),0)","v":0},{"$f":"IFERROR($E366*SUMIF('Daily Log'!#REF!,$B366,'Daily Log'!#REF!),0)","v":0},{"$f":"IFERROR($E366*SUMIF('Daily Log'!#REF!,$B366,'Daily Log'!#REF!),0)","v":0},{"$f":"IFERROR($E366*SUMIF('Daily Log'!#REF!,$B366,'Daily Log'!#REF!),0)","v":0},{"$f":"IFERROR($E366*SUMIF('Daily Log'!#REF!,$B366,'Daily Log'!#REF!),0)","v":0},{"$f":"IFERROR($E366*SUMIF('Daily Log'!#REF!,$B366,'Daily Log'!#REF!),0)","v":0},{"$f":"IFERROR($E366*SUMIF('Daily Log'!#REF!,$B366,'Daily Log'!#REF!),0)","v":0},{"$f":"IFERROR($E366*SUMIF('Daily Log'!#REF!,$B366,'Daily Log'!#REF!),0)","v":0},{"$f":"IFERROR($E366*SUMIF('Daily Log'!#REF!,$B366,'Daily Log'!#REF!),0)","v":0},{"$f":"IFERROR($E366*SUMIF('Daily Log'!#REF!,$B366,'Daily Log'!#REF!),0)","v":0},{"$f":"IFERROR($E366*SUMIF('Daily Log'!#REF!,$B366,'Daily Log'!#REF!),0)","v":0},{"$f":"IFERROR($E366*SUMIF('Daily Log'!#REF!,$B366,'Daily Log'!#REF!),0)","v":0},{"$f":"IFERROR($E366*SUMIF('Daily Log'!#REF!,$B366,'Daily Log'!#REF!),0)","v":0},{"$f":"IFERROR($E366*SUMIF('Daily Log'!#REF!,$B366,'Daily Log'!#REF!),0)","v":0},{"$f":"IFERROR($E366*SUMIF('Daily Log'!#REF!,$B366,'Daily Log'!#REF!),0)","v":0},{"$f":"IFERROR($E366*SUMIF('Daily Log'!#REF!,$B366,'Daily Log'!#REF!),0)","v":0},{"$f":"IFERROR($E366*SUMIF('Daily Log'!#REF!,$B366,'Daily Log'!#REF!),0)","v":0}]
[null,"GE07 DUNHILL ICE",null,"CIGARETTE",1,5,{"$f":"IFERROR($E367*SUMIF('Daily Log'!$B$18:$B$1017,$B367,'Daily Log'!$C$18:$C$1017),0)","v":2},{"$f":"IFERROR($E367*SUMIF('Daily Log'!$E$18:$E$1017,$B367,'Daily Log'!$F$18:$F$1017),0)","v":0},{"$f":"IFERROR($E367*SUMIF('Daily Log'!$H$18:$H$1017,$B367,'Daily Log'!$I$18:$I$1017),0)","v":0},{"$f":"IFERROR($E367*SUMIF('Daily Log'!$K$18:$K$1017,$B367,'Daily Log'!$L$18:$L$1017),0)","v":1},{"$f":"IFERROR($E367*SUMIF('Daily Log'!$N$18:$N$1017,$B367,'Daily Log'!$O$18:$O$1017),0)","v":2},{"$f":"IFERROR($E367*SUMIF('Daily Log'!#REF!,$B367,'Daily Log'!#REF!),0)","v":0},{"$f":"IFERROR($E367*SUMIF('Daily Log'!#REF!,$B367,'Daily Log'!#REF!),0)","v":0},{"$f":"IFERROR($E367*SUMIF('Daily Log'!#REF!,$B367,'Daily Log'!#REF!),0)","v":0},{"$f":"IFERROR($E367*SUMIF('Daily Log'!#REF!,$B367,'Daily Log'!#REF!),0)","v":0},{"$f":"IFERROR($E367*SUMIF('Daily Log'!#REF!,$B367,'Daily Log'!#REF!),0)","v":0},{"$f":"IFERROR($E367*SUMIF('Daily Log'!#REF!,$B367,'Daily Log'!#REF!),0)","v":0},{"$f":"IFERROR($E367*SUMIF('Daily Log'!#REF!,$B367,'Daily Log'!#REF!),0)","v":0},{"$f":"IFERROR($E367*SUMIF('Daily Log'!#REF!,$B367,'Daily Log'!#REF!),0)","v":0},{"$f":"IFERROR($E367*SUMIF('Daily Log'!#REF!,$B367,'Daily Log'!#REF!),0)","v":0},{"$f":"IFERROR($E367*SUMIF('Daily Log'!#REF!,$B367,'Daily Log'!#REF!),0)","v":0},{"$f":"IFERROR($E367*SUMIF('Daily Log'!#REF!,$B367,'Daily Log'!#REF!),0)","v":0},{"$f":"IFERROR($E367*SUMIF('Daily Log'!#REF!,$B367,'Daily Log'!#REF!),0)","v":0},{"$f":"IFERROR($E367*SUMIF('Daily Log'!#REF!,$B367,'Daily Log'!#REF!),0)","v":0},{"$f":"IFERROR($E367*SUMIF('Daily Log'!#REF!,$B367,'Daily Log'!#REF!),0)","v":0},{"$f":"IFERROR($E367*SUMIF('Daily Log'!#REF!,$B367,'Daily Log'!#REF!),0)","v":0},{"$f":"IFERROR($E367*SUMIF('Daily Log'!#REF!,$B367,'Daily Log'!#REF!),0)","v":0},{"$f":"IFERROR($E367*SUMIF('Daily Log'!#REF!,$B367,'Daily Log'!#REF!),0)","v":0},{"$f":"IFERROR($E367*SUMIF('Daily Log'!#REF!,$B367,'Daily Log'!#REF!),0)","v":0},{"$f":"IFERROR($E367*SUMIF('Daily Log'!#REF!,$B367,'Daily Log'!#REF!),0)","v":0},{"$f":"IFERROR($E367*SUMIF('Daily Log'!#REF!,$B367,'Daily Log'!#REF!),0)","v":0},{"$f":"IFERROR($E367*SUMIF('Daily Log'!#REF!,$B367,'Daily Log'!#REF!),0)","v":0},{"$f":"IFERROR($E367*SUMIF('Daily Log'!#REF!,$B367,'Daily Log'!#REF!),0)","v":0},{"$f":"IFERROR($E367*SUMIF('Daily Log'!#REF!,$B367,'Daily Log'!#REF!),0)","v":0},{"$f":"IFERROR($E367*SUMIF('Daily Log'!#REF!,$B367,'Daily Log'!#REF!),0)","v":0},{"$f":"IFERROR($E367*SUMIF('Daily Log'!#REF!,$B367,'Daily Log'!#REF!),0)","v":0},{"$f":"IFERROR($E367*SUMIF('Daily Log'!#REF!,$B367,'Daily Log'!#REF!),0)","v":0}]
[null,"GF01 KENT ORIGINAL",null,"CIGARETTE",1,0,{"$f":"IFERROR($E368*SUMIF('Daily Log'!$B$18:$B$1017,$B368,'Daily Log'!$C$18:$C$1017),0)","v":0},{"$f":"IFERROR($E368*SUMIF('Daily Log'!$E$18:$E$1017,$B368,'Daily Log'!$F$18:$F$1017),0)","v":0},{"$f":"IFERROR($E368*SUMIF('Daily Log'!$H$18:$H$1017,$B368,'Daily Log'!$I$18:$I$1017),0)","v":0},{"$f":"IFERROR($E368*SUMIF('Daily Log'!$K$18:$K$1017,$B368,'Daily Log'!$L$18:$L$1017),0)","v":0},{"$f":"IFERROR($E368*SUMIF('Daily Log'!$N$18:$N$1017,$B368,'Daily Log'!$O$18:$O$1017),0)","v":0},{"$f":"IFERROR($E368*SUMIF('Daily Log'!#REF!,$B368,'Daily Log'!#REF!),0)","v":0},{"$f":"IFERROR($E368*SUMIF('Daily Log'!#REF!,$B368,'Daily Log'!#REF!),0)","v":0},{"$f":"IFERROR($E368*SUMIF('Daily Log'!#REF!,$B368,'Daily Log'!#REF!),0)","v":0},{"$f":"IFERROR($E368*SUMIF('Daily Log'!#REF!,$B368,'Daily Log'!#REF!),0)","v":0},{"$f":"IFERROR($E368*SUMIF('Daily Log'!#REF!,$B368,'Daily Log'!#REF!),0)","v":0},{"$f":"IFERROR($E368*SUMIF('Daily Log'!#REF!,$B368,'Daily Log'!#REF!),0)","v":0},{"$f":"IFERROR($E368*SUMIF('Daily Log'!#REF!,$B368,'Daily Log'!#REF!),0)","v":0},{"$f":"IFERROR($E368*SUMIF('Daily Log'!#REF!,$B368,'Daily Log'!#REF!),0)","v":0},{"$f":"IFERROR($E368*SUMIF('Daily Log'!#REF!,$B368,'Daily Log'!#REF!),0)","v":0},{"$f":"IFERROR($E368*SUMIF('Daily Log'!#REF!,$B368,'Daily Log'!#REF!),0)","v":0},{"$f":"IFERROR($E368*SUMIF('Daily Log'!#REF!,$B368,'Daily Log'!#REF!),0)","v":0},{"$f":"IFERROR($E368*SUMIF('Daily Log'!#REF!,$B368,'Daily Log'!#REF!),0)","v":0},{"$f":"IFERROR($E368*SUMIF('Daily Log'!#REF!,$B368,'Daily Log'!#REF!),0)","v":0},{"$f":"IFERROR($E368*SUMIF('Daily Log'!#REF!,$B368,'Daily Log'!#REF!),0)","v":0},{"$f":"IFERROR($E368*SUMIF('Daily Log'!#REF!,$B368,'Daily Log'!#REF!),0)","v":0},{"$f":"IFERROR($E368*SUMIF('Daily Log'!#REF!,$B368,'Daily Log'!#REF!),0)","v":0},{"$f":"IFERROR($E368*SUMIF('Daily Log'!#REF!,$B368,'Daily Log'!#REF!),0)","v":0},{"$f":"IFERROR($E368*SUMIF('Daily Log'!#REF!,$B368,'Daily Log'!#REF!),0)","v":0},{"$f":"IFERROR($E368*SUMIF('Daily Log'!#REF!,$B368,'Daily Log'!#REF!),0)","v":0},{"$f":"IFERROR($E368*SUMIF('Daily Log'!#REF!,$B368,'Daily Log'!#REF!),0)","v":0},{"$f":"IFERROR($E368*SUMIF('Daily Log'!#REF!,$B368,'Daily Log'!#REF!),0)","v":0},{"$f":"IFERROR($E368*SUMIF('Daily Log'!#REF!,$B368,'Daily Log'!#REF!),0)","v":0},{"$f":"IFERROR($E368*SUMIF('Daily Log'!#REF!,$B368,'Daily Log'!#REF!),0)","v":0},{"$f":"IFERROR($E368*SUMIF('Daily Log'!#REF!,$B368,'Daily Log'!#REF!),0)","v":0},{"$f":"IFERROR($E368*SUMIF('Daily Log'!#REF!,$B368,'Daily Log'!#REF!),0)","v":0},{"$f":"IFERROR($E368*SUMIF('Daily Log'!#REF!,$B368,'Daily Log'!#REF!),0)","v":0}]
[null,"GF02 KENT FUTURA",null,"CIGARETTE",1,1,{"$f":"IFERROR($E369*SUMIF('Daily Log'!$B$18:$B$1017,$B369,'Daily Log'!$C$18:$C$1017),0)","v":0},{"$f":"IFERROR($E369*SUMIF('Daily Log'!$E$18:$E$1017,$B369,'Daily Log'!$F$18:$F$1017),0)","v":0},{"$f":"IFERROR($E369*SUMIF('Daily Log'!$H$18:$H$1017,$B369,'Daily Log'!$I$18:$I$1017),0)","v":1},{"$f":"IFERROR($E369*SUMIF('Daily Log'!$K$18:$K$1017,$B369,'Daily Log'!$L$18:$L$1017),0)","v":0},{"$f":"IFERROR($E369*SUMIF('Daily Log'!$N$18:$N$1017,$B369,'Daily Log'!$O$18:$O$1017),0)","v":0},{"$f":"IFERROR($E369*SUMIF('Daily Log'!#REF!,$B369,'Daily Log'!#REF!),0)","v":0},{"$f":"IFERROR($E369*SUMIF('Daily Log'!#REF!,$B369,'Daily Log'!#REF!),0)","v":0},{"$f":"IFERROR($E369*SUMIF('Daily Log'!#REF!,$B369,'Daily Log'!#REF!),0)","v":0},{"$f":"IFERROR($E369*SUMIF('Daily Log'!#REF!,$B369,'Daily Log'!#REF!),0)","v":0},{"$f":"IFERROR($E369*SUMIF('Daily Log'!#REF!,$B369,'Daily Log'!#REF!),0)","v":0},{"$f":"IFERROR($E369*SUMIF('Daily Log'!#REF!,$B369,'Daily Log'!#REF!),0)","v":0},{"$f":"IFERROR($E369*SUMIF('Daily Log'!#REF!,$B369,'Daily Log'!#REF!),0)","v":0},{"$f":"IFERROR($E369*SUMIF('Daily Log'!#REF!,$B369,'Daily Log'!#REF!),0)","v":0},{"$f":"IFERROR($E369*SUMIF('Daily Log'!#REF!,$B369,'Daily Log'!#REF!),0)","v":0},{"$f":"IFERROR($E369*SUMIF('Daily Log'!#REF!,$B369,'Daily Log'!#REF!),0)","v":0},{"$f":"IFERROR($E369*SUMIF('Daily Log'!#REF!,$B369,'Daily Log'!#REF!),0)","v":0},{"$f":"IFERROR($E369*SUMIF('Daily Log'!#REF!,$B369,'Daily Log'!#REF!),0)","v":0},{"$f":"IFERROR($E369*SUMIF('Daily Log'!#REF!,$B369,'Daily Log'!#REF!),0)","v":0},{"$f":"IFERROR($E369*SUMIF('Daily Log'!#REF!,$B369,'Daily Log'!#REF!),0)","v":0},{"$f":"IFERROR($E369*SUMIF('Daily Log'!#REF!,$B369,'Daily Log'!#REF!),0)","v":0},{"$f":"IFERROR($E369*SUMIF('Daily Log'!#REF!,$B369,'Daily Log'!#REF!),0)","v":0},{"$f":"IFERROR($E369*SUMIF('Daily Log'!#REF!,$B369,'Daily Log'!#REF!),0)","v":0},{"$f":"IFERROR($E369*SUMIF('Daily Log'!#REF!,$B369,'Daily Log'!#REF!),0)","v":0},{"$f":"IFERROR($E369*SUMIF('Daily Log'!#REF!,$B369,'Daily Log'!#REF!),0)","v":0},{"$f":"IFERROR($E369*SUMIF('Daily Log'!#REF!,$B369,'Daily Log'!#REF!),0)","v":0},{"$f":"IFERROR($E369*SUMIF('Daily Log'!#REF!,$B369,'Daily Log'!#REF!),0)","v":0},{"$f":"IFERROR($E369*SUMIF('Daily Log'!#REF!,$B369,'Daily Log'!#REF!),0)","v":0},{"$f":"IFERROR($E369*SUMIF('Daily Log'!#REF!,$B369,'Daily Log'!#REF!),0)","v":0},{"$f":"IFERROR($E369*SUMIF('Daily Log'!#REF!,$B369,'Daily Log'!#REF!),0)","v":0},{"$f":"IFERROR($E369*SUMIF('Daily Log'!#REF!,$B369,'Daily Log'!#REF!),0)","v":0},{"$f":"IFERROR($E369*SUMIF('Daily Log'!#REF!,$B369,'Daily Log'!#REF!),0)","v":0}]
[null,"GF03 KENT MINTEK",null,"CIGARETTE",1,0,{"$f":"IFERROR($E370*SUMIF('Daily Log'!$B$18:$B$1017,$B370,'Daily Log'!$C$18:$C$1017),0)","v":0},{"$f":"IFERROR($E370*SUMIF('Daily Log'!$E$18:$E$1017,$B370,'Daily Log'!$F$18:$F$1017),0)","v":0},{"$f":"IFERROR($E370*SUMIF('Daily Log'!$H$18:$H$1017,$B370,'Daily Log'!$I$18:$I$1017),0)","v":0},{"$f":"IFERROR($E370*SUMIF('Daily Log'!$K$18:$K$1017,$B370,'Daily Log'!$L$18:$L$1017),0)","v":0},{"$f":"IFERROR($E370*SUMIF('Daily Log'!$N$18:$N$1017,$B370,'Daily Log'!$O$18:$O$1017),0)","v":0},{"$f":"IFERROR($E370*SUMIF('Daily Log'!#REF!,$B370,'Daily Log'!#REF!),0)","v":0},{"$f":"IFERROR($E370*SUMIF('Daily Log'!#REF!,$B370,'Daily Log'!#REF!),0)","v":0},{"$f":"IFERROR($E370*SUMIF('Daily Log'!#REF!,$B370,'Daily Log'!#REF!),0)","v":0},{"$f":"IFERROR($E370*SUMIF('Daily Log'!#REF!,$B370,'Daily Log'!#REF!),0)","v":0},{"$f":"IFERROR($E370*SUMIF('Daily Log'!#REF!,$B370,'Daily Log'!#REF!),0)","v":0},{"$f":"IFERROR($E370*SUMIF('Daily Log'!#REF!,$B370,'Daily Log'!#REF!),0)","v":0},{"$f":"IFERROR($E370*SUMIF('Daily Log'!#REF!,$B370,'Daily Log'!#REF!),0)","v":0},{"$f":"IFERROR($E370*SUMIF('Daily Log'!#REF!,$B370,'Daily Log'!#REF!),0)","v":0},{"$f":"IFERROR($E370*SUMIF('Daily Log'!#REF!,$B370,'Daily Log'!#REF!),0)","v":0},{"$f":"IFERROR($E370*SUMIF('Daily Log'!#REF!,$B370,'Daily Log'!#REF!),0)","v":0},{"$f":"IFERROR($E370*SUMIF('Daily Log'!#REF!,$B370,'Daily Log'!#REF!),0)","v":0},{"$f":"IFERROR($E370*SUMIF('Daily Log'!#REF!,$B370,'Daily Log'!#REF!),0)","v":0},{"$f":"IFERROR($E370*SUMIF('Daily Log'!#REF!,$B370,'Daily Log'!#REF!),0)","v":0},{"$f":"IFERROR($E370*SUMIF('Daily Log'!#REF!,$B370,'Daily Log'!#REF!),0)","v":0},{"$f":"IFERROR($E370*SUMIF('Daily Log'!#REF!,$B370,'Daily Log'!#REF!),0)","v":0},{"$f":"IFERROR($E370*SUMIF('Daily Log'!#REF!,$B370,'Daily Log'!#REF!),0)","v":0},{"$f":"IFERROR($E370*SUMIF('Daily Log'!#REF!,$B370,'Daily Log'!#REF!),0)","v":0},{"$f":"IFERROR($E370*SUMIF('Daily Log'!#REF!,$B370,'Daily Log'!#REF!),0)","v":0},{"$f":"IFERROR($E370*SUMIF('Daily Log'!#REF!,$B370,'Daily Log'!#REF!),0)","v":0},{"$f":"IFERROR($E370*SUMIF('Daily Log'!#REF!,$B370,'Daily Log'!#REF!),0)","v":0},{"$f":"IFERROR($E370*SUMIF('Daily Log'!#REF!,$B370,'Daily Log'!#REF!),0)","v":0},{"$f":"IFERROR($E370*SUMIF('Daily Log'!#REF!,$B370,'Daily Log'!#REF!),0)","v":0},{"$f":"IFERROR($E370*SUMIF('Daily Log'!#REF!,$B370,'Daily Log'!#REF!),0)","v":0},{"$f":"IFERROR($E370*SUMIF('Daily Log'!#REF!,$B370,'Daily Log'!#REF!),0)","v":0},{"$f":"IFERROR($E370*SUMIF('Daily Log'!#REF!,$B370,'Daily Log'!#REF!),0)","v":0},{"$f":"IFERROR($E370*SUMIF('Daily Log'!#REF!,$B370,'Daily Log'!#REF!),0)","v":0}]
[null,"GF04 KENT NEO",null,"CIGARETTE",1,0,{"$f":"IFERROR($E371*SUMIF('Daily Log'!$B$18:$B$1017,$B371,'Daily Log'!$C$18:$C$1017),0)","v":0},{"$f":"IFERROR($E371*SUMIF('Daily Log'!$E$18:$E$1017,$B371,'Daily Log'!$F$18:$F$1017),0)","v":0},{"$f":"IFERROR($E371*SUMIF('Daily Log'!$H$18:$H$1017,$B371,'Daily Log'!$I$18:$I$1017),0)","v":0},{"$f":"IFERROR($E371*SUMIF('Daily Log'!$K$18:$K$1017,$B371,'Daily Log'!$L$18:$L$1017),0)","v":0},{"$f":"IFERROR($E371*SUMIF('Daily Log'!$N$18:$N$1017,$B371,'Daily Log'!$O$18:$O$1017),0)","v":0},{"$f":"IFERROR($E371*SUMIF('Daily Log'!#REF!,$B371,'Daily Log'!#REF!),0)","v":0},{"$f":"IFERROR($E371*SUMIF('Daily Log'!#REF!,$B371,'Daily Log'!#REF!),0)","v":0},{"$f":"IFERROR($E371*SUMIF('Daily Log'!#REF!,$B371,'Daily Log'!#REF!),0)","v":0},{"$f":"IFERROR($E371*SUMIF('Daily Log'!#REF!,$B371,'Daily Log'!#REF!),0)","v":0},{"$f":"IFERROR($E371*SUMIF('Daily Log'!#REF!,$B371,'Daily Log'!#REF!),0)","v":0},{"$f":"IFERROR($E371*SUMIF('Daily Log'!#REF!,$B371,'Daily Log'!#REF!),0)","v":0},{"$f":"IFERROR($E371*SUMIF('Daily Log'!#REF!,$B371,'Daily Log'!#REF!),0)","v":0},{"$f":"IFERROR($E371*SUMIF('Daily Log'!#REF!,$B371,'Daily Log'!#REF!),0)","v":0},{"$f":"IFERROR($E371*SUMIF('Daily Log'!#REF!,$B371,'Daily Log'!#REF!),0)","v":0},{"$f":"IFERROR($E371*SUMIF('Daily Log'!#REF!,$B371,'Daily Log'!#REF!),0)","v":0},{"$f":"IFERROR($E371*SUMIF('Daily Log'!#REF!,$B371,'Daily Log'!#REF!),0)","v":0},{"$f":"IFERROR($E371*SUMIF('Daily Log'!#REF!,$B371,'Daily Log'!#REF!),0)","v":0},{"$f":"IFERROR($E371*SUMIF('Daily Log'!#REF!,$B371,'Daily Log'!#REF!),0)","v":0},{"$f":"IFERROR($E371*SUMIF('Daily Log'!#REF!,$B371,'Daily Log'!#REF!),0)","v":0},{"$f":"IFERROR($E371*SUMIF('Daily Log'!#REF!,$B371,'Daily Log'!#REF!),0)","v":0},{"$f":"IFERROR($E371*SUMIF('Daily Log'!#REF!,$B371,'Daily Log'!#REF!),0)","v":0},{"$f":"IFERROR($E371*SUMIF('Daily Log'!#REF!,$B371,'Daily Log'!#REF!),0)","v":0},{"$f":"IFERROR($E371*SUMIF('Daily Log'!#REF!,$B371,'Daily Log'!#REF!),0)","v":0},{"$f":"IFERROR($E371*SUMIF('Daily Log'!#REF!,$B371,'Daily Log'!#REF!),0)","v":0},{"$f":"IFERROR($E371*SUMIF('Daily Log'!#REF!,$B371,'Daily Log'!#REF!),0)","v":0},{"$f":"IFERROR($E371*SUMIF('Daily Log'!#REF!,$B371,'Daily Log'!#REF!),0)","v":0},{"$f":"IFERROR($E371*SUMIF('Daily Log'!#REF!,$B371,'Daily Log'!#REF!),0)","v":0},{"$f":"IFERROR($E371*SUMIF('Daily Log'!#REF!,$B371,'Daily Log'!#REF!),0)","v":0},{"$f":"IFERROR($E371*SUMIF('Daily Log'!#REF!,$B371,'Daily Log'!#REF!),0)","v":0},{"$f":"IFERROR($E371*SUMIF('Daily Log'!#REF!,$B371,'Daily Log'!#REF!),0)","v":0},{"$f":"IFERROR($E371*SUMIF('Daily Log'!#REF!,$B371,'Daily Log'!#REF!),0)","v":0}]
[null,"ZAB01 1201:SFD STICK",null,"COMBO-APPETIZER",1,1,{"$f":"IFERROR($E372*SUMIF('Daily Log'!$B$18:$B$1017,$B372,'Daily Log'!$C$18:$C$1017),0)","v":0},{"$f":"IFERROR($E372*SUMIF('Daily Log'!$E$18:$E$1017,$B372,'Daily Log'!$F$18:$F$1017),0)","v":0},{"$f":"IFERROR($E372*SUMIF('Daily Log'!$H$18:$H$1017,$B372,'Daily Log'!$I$18:$I$1017),0)","v":0},{"$f":"IFERROR($E372*SUMIF('Daily Log'!$K$18:$K$1017,$B372,'Daily Log'!$L$18:$L$1017),0)","v":0},{"$f":"IFERROR($E372*SUMIF('Daily Log'!$N$18:$N$1017,$B372,'Daily Log'!$O$18:$O$1017),0)","v":1},{"$f":"IFERROR($E372*SUMIF('Daily Log'!#REF!,$B372,'Daily Log'!#REF!),0)","v":0},{"$f":"IFERROR($E372*SUMIF('Daily Log'!#REF!,$B372,'Daily Log'!#REF!),0)","v":0},{"$f":"IFERROR($E372*SUMIF('Daily Log'!#REF!,$B372,'Daily Log'!#REF!),0)","v":0},{"$f":"IFERROR($E372*SUMIF('Daily Log'!#REF!,$B372,'Daily Log'!#REF!),0)","v":0},{"$f":"IFERROR($E372*SUMIF('Daily Log'!#REF!,$B372,'Daily Log'!#REF!),0)","v":0},{"$f":"IFERROR($E372*SUMIF('Daily Log'!#REF!,$B372,'Daily Log'!#REF!),0)","v":0},{"$f":"IFERROR($E372*SUMIF('Daily Log'!#REF!,$B372,'Daily Log'!#REF!),0)","v":0},{"$f":"IFERROR($E372*SUMIF('Daily Log'!#REF!,$B372,'Daily Log'!#REF!),0)","v":0},{"$f":"IFERROR($E372*SUMIF('Daily Log'!#REF!,$B372,'Daily Log'!#REF!),0)","v":0},{"$f":"IFERROR($E372*SUMIF('Daily Log'!#REF!,$B372,'Daily Log'!#REF!),0)","v":0},{"$f":"IFERROR($E372*SUMIF('Daily Log'!#REF!,$B372,'Daily Log'!#REF!),0)","v":0},{"$f":"IFERROR($E372*SUMIF('Daily Log'!#REF!,$B372,'Daily Log'!#REF!),0)","v":0},{"$f":"IFERROR($E372*SUMIF('Daily Log'!#REF!,$B372,'Daily Log'!#REF!),0)","v":0},{"$f":"IFERROR($E372*SUMIF('Daily Log'!#REF!,$B372,'Daily Log'!#REF!),0)","v":0},{"$f":"IFERROR($E372*SUMIF('Daily Log'!#REF!,$B372,'Daily Log'!#REF!),0)","v":0},{"$f":"IFERROR($E372*SUMIF('Daily Log'!#REF!,$B372,'Daily Log'!#REF!),0)","v":0},{"$f":"IFERROR($E372*SUMIF('Daily Log'!#REF!,$B372,'Daily Log'!#REF!),0)","v":0},{"$f":"IFERROR($E372*SUMIF('Daily Log'!#REF!,$B372,'Daily Log'!#REF!),0)","v":0},{"$f":"IFERROR($E372*SUMIF('Daily Log'!#REF!,$B372,'Daily Log'!#REF!),0)","v":0},{"$f":"IFERROR($E372*SUMIF('Daily Log'!#REF!,$B372,'Daily Log'!#REF!),0)","v":0},{"$f":"IFERROR($E372*SUMIF('Daily Log'!#REF!,$B372,'Daily Log'!#REF!),0)","v":0},{"$f":"IFERROR($E372*SUMIF('Daily Log'!#REF!,$B372,'Daily Log'!#REF!),0)","v":0},{"$f":"IFERROR($E372*SUMIF('Daily Log'!#REF!,$B372,'Daily Log'!#REF!),0)","v":0},{"$f":"IFERROR($E372*SUMIF('Daily Log'!#REF!,$B372,'Daily Log'!#REF!),0)","v":0},{"$f":"IFERROR($E372*SUMIF('Daily Log'!#REF!,$B372,'Daily Log'!#REF!),0)","v":0},{"$f":"IFERROR($E372*SUMIF('Daily Log'!#REF!,$B372,'Daily Log'!#REF!),0)","v":0}]
[null,"ZAB02 1202:FRIES",null,"COMBO-APPETIZER",1,15,{"$f":"IFERROR($E373*SUMIF('Daily Log'!$B$18:$B$1017,$B373,'Daily Log'!$C$18:$C$1017),0)","v":3},{"$f":"IFERROR($E373*SUMIF('Daily Log'!$E$18:$E$1017,$B373,'Daily Log'!$F$18:$F$1017),0)","v":4},{"$f":"IFERROR($E373*SUMIF('Daily Log'!$H$18:$H$1017,$B373,'Daily Log'!$I$18:$I$1017),0)","v":4},{"$f":"IFERROR($E373*SUMIF('Daily Log'!$K$18:$K$1017,$B373,'Daily Log'!$L$18:$L$1017),0)","v":4},{"$f":"IFERROR($E373*SUMIF('Daily Log'!$N$18:$N$1017,$B373,'Daily Log'!$O$18:$O$1017),0)","v":0},{"$f":"IFERROR($E373*SUMIF('Daily Log'!#REF!,$B373,'Daily Log'!#REF!),0)","v":0},{"$f":"IFERROR($E373*SUMIF('Daily Log'!#REF!,$B373,'Daily Log'!#REF!),0)","v":0},{"$f":"IFERROR($E373*SUMIF('Daily Log'!#REF!,$B373,'Daily Log'!#REF!),0)","v":0},{"$f":"IFERROR($E373*SUMIF('Daily Log'!#REF!,$B373,'Daily Log'!#REF!),0)","v":0},{"$f":"IFERROR($E373*SUMIF('Daily Log'!#REF!,$B373,'Daily Log'!#REF!),0)","v":0},{"$f":"IFERROR($E373*SUMIF('Daily Log'!#REF!,$B373,'Daily Log'!#REF!),0)","v":0},{"$f":"IFERROR($E373*SUMIF('Daily Log'!#REF!,$B373,'Daily Log'!#REF!),0)","v":0},{"$f":"IFERROR($E373*SUMIF('Daily Log'!#REF!,$B373,'Daily Log'!#REF!),0)","v":0},{"$f":"IFERROR($E373*SUMIF('Daily Log'!#REF!,$B373,'Daily Log'!#REF!),0)","v":0},{"$f":"IFERROR($E373*SUMIF('Daily Log'!#REF!,$B373,'Daily Log'!#REF!),0)","v":0},{"$f":"IFERROR($E373*SUMIF('Daily Log'!#REF!,$B373,'Daily Log'!#REF!),0)","v":0},{"$f":"IFERROR($E373*SUMIF('Daily Log'!#REF!,$B373,'Daily Log'!#REF!),0)","v":0},{"$f":"IFERROR($E373*SUMIF('Daily Log'!#REF!,$B373,'Daily Log'!#REF!),0)","v":0},{"$f":"IFERROR($E373*SUMIF('Daily Log'!#REF!,$B373,'Daily Log'!#REF!),0)","v":0},{"$f":"IFERROR($E373*SUMIF('Daily Log'!#REF!,$B373,'Daily Log'!#REF!),0)","v":0},{"$f":"IFERROR($E373*SUMIF('Daily Log'!#REF!,$B373,'Daily Log'!#REF!),0)","v":0},{"$f":"IFERROR($E373*SUMIF('Daily Log'!#REF!,$B373,'Daily Log'!#REF!),0)","v":0},{"$f":"IFERROR($E373*SUMIF('Daily Log'!#REF!,$B373,'Daily Log'!#REF!),0)","v":0},{"$f":"IFERROR($E373*SUMIF('Daily Log'!#REF!,$B373,'Daily Log'!#REF!),0)","v":0},{"$f":"IFERROR($E373*SUMIF('Daily Log'!#REF!,$B373,'Daily Log'!#REF!),0)","v":0},{"$f":"IFERROR($E373*SUMIF('Daily Log'!#REF!,$B373,'Daily Log'!#REF!),0)","v":0},{"$f":"IFERROR($E373*SUMIF('Daily Log'!#REF!,$B373,'Daily Log'!#REF!),0)","v":0},{"$f":"IFERROR($E373*SUMIF('Daily Log'!#REF!,$B373,'Daily Log'!#REF!),0)","v":0},{"$f":"IFERROR($E373*SUMIF('Daily Log'!#REF!,$B373,'Daily Log'!#REF!),0)","v":0},{"$f":"IFERROR($E373*SUMIF('Daily Log'!#REF!,$B373,'Daily Log'!#REF!),0)","v":0},{"$f":"IFERROR($E373*SUMIF('Daily Log'!#REF!,$B373,'Daily Log'!#REF!),0)","v":0}]
[null,"ZAB03 1203:GOLD MROOM",null,"COMBO-APPETIZER",1,8,{"$f":"IFERROR($E374*SUMIF('Daily Log'!$B$18:$B$1017,$B374,'Daily Log'!$C$18:$C$1017),0)","v":3},{"$f":"IFERROR($E374*SUMIF('Daily Log'!$E$18:$E$1017,$B374,'Daily Log'!$F$18:$F$1017),0)","v":1},{"$f":"IFERROR($E374*SUMIF('Daily Log'!$H$18:$H$1017,$B374,'Daily Log'!$I$18:$I$1017),0)","v":2},{"$f":"IFERROR($E374*SUMIF('Daily Log'!$K$18:$K$1017,$B374,'Daily Log'!$L$18:$L$1017),0)","v":1},{"$f":"IFERROR($E374*SUMIF('Daily Log'!$N$18:$N$1017,$B374,'Daily Log'!$O$18:$O$1017),0)","v":1},{"$f":"IFERROR($E374*SUMIF('Daily Log'!#REF!,$B374,'Daily Log'!#REF!),0)","v":0},{"$f":"IFERROR($E374*SUMIF('Daily Log'!#REF!,$B374,'Daily Log'!#REF!),0)","v":0},{"$f":"IFERROR($E374*SUMIF('Daily Log'!#REF!,$B374,'Daily Log'!#REF!),0)","v":0},{"$f":"IFERROR($E374*SUMIF('Daily Log'!#REF!,$B374,'Daily Log'!#REF!),0)","v":0},{"$f":"IFERROR($E374*SUMIF('Daily Log'!#REF!,$B374,'Daily Log'!#REF!),0)","v":0},{"$f":"IFERROR($E374*SUMIF('Daily Log'!#REF!,$B374,'Daily Log'!#REF!),0)","v":0},{"$f":"IFERROR($E374*SUMIF('Daily Log'!#REF!,$B374,'Daily Log'!#REF!),0)","v":0},{"$f":"IFERROR($E374*SUMIF('Daily Log'!#REF!,$B374,'Daily Log'!#REF!),0)","v":0},{"$f":"IFERROR($E374*SUMIF('Daily Log'!#REF!,$B374,'Daily Log'!#REF!),0)","v":0},{"$f":"IFERROR($E374*SUMIF('Daily Log'!#REF!,$B374,'Daily Log'!#REF!),0)","v":0},{"$f":"IFERROR($E374*SUMIF('Daily Log'!#REF!,$B374,'Daily Log'!#REF!),0)","v":0},{"$f":"IFERROR($E374*SUMIF('Daily Log'!#REF!,$B374,'Daily Log'!#REF!),0)","v":0},{"$f":"IFERROR($E374*SUMIF('Daily Log'!#REF!,$B374,'Daily Log'!#REF!),0)","v":0},{"$f":"IFERROR($E374*SUMIF('Daily Log'!#REF!,$B374,'Daily Log'!#REF!),0)","v":0},{"$f":"IFERROR($E374*SUMIF('Daily Log'!#REF!,$B374,'Daily Log'!#REF!),0)","v":0},{"$f":"IFERROR($E374*SUMIF('Daily Log'!#REF!,$B374,'Daily Log'!#REF!),0)","v":0},{"$f":"IFERROR($E374*SUMIF('Daily Log'!#REF!,$B374,'Daily Log'!#REF!),0)","v":0},{"$f":"IFERROR($E374*SUMIF('Daily Log'!#REF!,$B374,'Daily Log'!#REF!),0)","v":0},{"$f":"IFERROR($E374*SUMIF('Daily Log'!#REF!,$B374,'Daily Log'!#REF!),0)","v":0},{"$f":"IFERROR($E374*SUMIF('Daily Log'!#REF!,$B374,'Daily Log'!#REF!),0)","v":0},{"$f":"IFERROR($E374*SUMIF('Daily Log'!#REF!,$B374,'Daily Log'!#REF!),0)","v":0},{"$f":"IFERROR($E374*SUMIF('Daily Log'!#REF!,$B374,'Daily Log'!#REF!),0)","v":0},{"$f":"IFERROR($E374*SUMIF('Daily Log'!#REF!,$B374,'Daily Log'!#REF!),0)","v":0},{"$f":"IFERROR($E374*SUMIF('Daily Log'!#REF!,$B374,'Daily Log'!#REF!),0)","v":0},{"$f":"IFERROR($E374*SUMIF('Daily Log'!#REF!,$B374,'Daily Log'!#REF!),0)","v":0},{"$f":"IFERROR($E374*SUMIF('Daily Log'!#REF!,$B374,'Daily Log'!#REF!),0)","v":0}]
[null,"ZAB04 1204:F.BALL",null,"COMBO-APPETIZER",1,4,{"$f":"IFERROR($E375*SUMIF('Daily Log'!$B$18:$B$1017,$B375,'Daily Log'!$C$18:$C$1017),0)","v":1},{"$f":"IFERROR($E375*SUMIF('Daily Log'!$E$18:$E$1017,$B375,'Daily Log'!$F$18:$F$1017),0)","v":1},{"$f":"IFERROR($E375*SUMIF('Daily Log'!$H$18:$H$1017,$B375,'Daily Log'!$I$18:$I$1017),0)","v":2},{"$f":"IFERROR($E375*SUMIF('Daily Log'!$K$18:$K$1017,$B375,'Daily Log'!$L$18:$L$1017),0)","v":0},{"$f":"IFERROR($E375*SUMIF('Daily Log'!$N$18:$N$1017,$B375,'Daily Log'!$O$18:$O$1017),0)","v":0},{"$f":"IFERROR($E375*SUMIF('Daily Log'!#REF!,$B375,'Daily Log'!#REF!),0)","v":0},{"$f":"IFERROR($E375*SUMIF('Daily Log'!#REF!,$B375,'Daily Log'!#REF!),0)","v":0},{"$f":"IFERROR($E375*SUMIF('Daily Log'!#REF!,$B375,'Daily Log'!#REF!),0)","v":0},{"$f":"IFERROR($E375*SUMIF('Daily Log'!#REF!,$B375,'Daily Log'!#REF!),0)","v":0},{"$f":"IFERROR($E375*SUMIF('Daily Log'!#REF!,$B375,'Daily Log'!#REF!),0)","v":0},{"$f":"IFERROR($E375*SUMIF('Daily Log'!#REF!,$B375,'Daily Log'!#REF!),0)","v":0},{"$f":"IFERROR($E375*SUMIF('Daily Log'!#REF!,$B375,'Daily Log'!#REF!),0)","v":0},{"$f":"IFERROR($E375*SUMIF('Daily Log'!#REF!,$B375,'Daily Log'!#REF!),0)","v":0},{"$f":"IFERROR($E375*SUMIF('Daily Log'!#REF!,$B375,'Daily Log'!#REF!),0)","v":0},{"$f":"IFERROR($E375*SUMIF('Daily Log'!#REF!,$B375,'Daily Log'!#REF!),0)","v":0},{"$f":"IFERROR($E375*SUMIF('Daily Log'!#REF!,$B375,'Daily Log'!#REF!),0)","v":0},{"$f":"IFERROR($E375*SUMIF('Daily Log'!#REF!,$B375,'Daily Log'!#REF!),0)","v":0},{"$f":"IFERROR($E375*SUMIF('Daily Log'!#REF!,$B375,'Daily Log'!#REF!),0)","v":0},{"$f":"IFERROR($E375*SUMIF('Daily Log'!#REF!,$B375,'Daily Log'!#REF!),0)","v":0},{"$f":"IFERROR($E375*SUMIF('Daily Log'!#REF!,$B375,'Daily Log'!#REF!),0)","v":0},{"$f":"IFERROR($E375*SUMIF('Daily Log'!#REF!,$B375,'Daily Log'!#REF!),0)","v":0},{"$f":"IFERROR($E375*SUMIF('Daily Log'!#REF!,$B375,'Daily Log'!#REF!),0)","v":0},{"$f":"IFERROR($E375*SUMIF('Daily Log'!#REF!,$B375,'Daily Log'!#REF!),0)","v":0},{"$f":"IFERROR($E375*SUMIF('Daily Log'!#REF!,$B375,'Daily Log'!#REF!),0)","v":0},{"$f":"IFERROR($E375*SUMIF('Daily Log'!#REF!,$B375,'Daily Log'!#REF!),0)","v":0},{"$f":"IFERROR($E375*SUMIF('Daily Log'!#REF!,$B375,'Daily Log'!#REF!),0)","v":0},{"$f":"IFERROR($E375*SUMIF('Daily Log'!#REF!,$B375,'Daily Log'!#REF!),0)","v":0},{"$f":"IFERROR($E375*SUMIF('Daily Log'!#REF!,$B375,'Daily Log'!#REF!),0)","v":0},{"$f":"IFERROR($E375*SUMIF('Daily Log'!#REF!,$B375,'Daily Log'!#REF!),0)","v":0},{"$f":"IFERROR($E375*SUMIF('Daily Log'!#REF!,$B375,'Daily Log'!#REF!),0)","v":0},{"$f":"IFERROR($E375*SUMIF('Daily Log'!#REF!,$B375,'Daily Log'!#REF!),0)","v":0}]
[null,"ZAB05 1205:RAINBOW RL",null,"COMBO-APPETIZER",1,2,{"$f":"IFERROR($E376*SUMIF('Daily Log'!$B$18:$B$1017,$B376,'Daily Log'!$C$18:$C$1017),0)","v":2},{"$f":"IFERROR($E376*SUMIF('Daily Log'!$E$18:$E$1017,$B376,'Daily Log'!$F$18:$F$1017),0)","v":0},{"$f":"IFERROR($E376*SUMIF('Daily Log'!$H$18:$H$1017,$B376,'Daily Log'!$I$18:$I$1017),0)","v":0},{"$f":"IFERROR($E376*SUMIF('Daily Log'!$K$18:$K$1017,$B376,'Daily Log'!$L$18:$L$1017),0)","v":0},{"$f":"IFERROR($E376*SUMIF('Daily Log'!$N$18:$N$1017,$B376,'Daily Log'!$O$18:$O$1017),0)","v":0},{"$f":"IFERROR($E376*SUMIF('Daily Log'!#REF!,$B376,'Daily Log'!#REF!),0)","v":0},{"$f":"IFERROR($E376*SUMIF('Daily Log'!#REF!,$B376,'Daily Log'!#REF!),0)","v":0},{"$f":"IFERROR($E376*SUMIF('Daily Log'!#REF!,$B376,'Daily Log'!#REF!),0)","v":0},{"$f":"IFERROR($E376*SUMIF('Daily Log'!#REF!,$B376,'Daily Log'!#REF!),0)","v":0},{"$f":"IFERROR($E376*SUMIF('Daily Log'!#REF!,$B376,'Daily Log'!#REF!),0)","v":0},{"$f":"IFERROR($E376*SUMIF('Daily Log'!#REF!,$B376,'Daily Log'!#REF!),0)","v":0},{"$f":"IFERROR($E376*SUMIF('Daily Log'!#REF!,$B376,'Daily Log'!#REF!),0)","v":0},{"$f":"IFERROR($E376*SUMIF('Daily Log'!#REF!,$B376,'Daily Log'!#REF!),0)","v":0},{"$f":"IFERROR($E376*SUMIF('Daily Log'!#REF!,$B376,'Daily Log'!#REF!),0)","v":0},{"$f":"IFERROR($E376*SUMIF('Daily Log'!#REF!,$B376,'Daily Log'!#REF!),0)","v":0},{"$f":"IFERROR($E376*SUMIF('Daily Log'!#REF!,$B376,'Daily Log'!#REF!),0)","v":0},{"$f":"IFERROR($E376*SUMIF('Daily Log'!#REF!,$B376,'Daily Log'!#REF!),0)","v":0},{"$f":"IFERROR($E376*SUMIF('Daily Log'!#REF!,$B376,'Daily Log'!#REF!),0)","v":0},{"$f":"IFERROR($E376*SUMIF('Daily Log'!#REF!,$B376,'Daily Log'!#REF!),0)","v":0},{"$f":"IFERROR($E376*SUMIF('Daily Log'!#REF!,$B376,'Daily Log'!#REF!),0)","v":0},{"$f":"IFERROR($E376*SUMIF('Daily Log'!#REF!,$B376,'Daily Log'!#REF!),0)","v":0},{"$f":"IFERROR($E376*SUMIF('Daily Log'!#REF!,$B376,'Daily Log'!#REF!),0)","v":0},{"$f":"IFERROR($E376*SUMIF('Daily Log'!#REF!,$B376,'Daily Log'!#REF!),0)","v":0},{"$f":"IFERROR($E376*SUMIF('Daily Log'!#REF!,$B376,'Daily Log'!#REF!),0)","v":0},{"$f":"IFERROR($E376*SUMIF('Daily Log'!#REF!,$B376,'Daily Log'!#REF!),0)","v":0},{"$f":"IFERROR($E376*SUMIF('Daily Log'!#REF!,$B376,'Daily Log'!#REF!),0)","v":0},{"$f":"IFERROR($E376*SUMIF('Daily Log'!#REF!,$B376,'Daily Log'!#REF!),0)","v":0},{"$f":"IFERROR($E376*SUMIF('Daily Log'!#REF!,$B376,'Daily Log'!#REF!),0)","v":0},{"$f":"IFERROR($E376*SUMIF('Daily Log'!#REF!,$B376,'Daily Log'!#REF!),0)","v":0},{"$f":"IFERROR($E376*SUMIF('Daily Log'!#REF!,$B376,'Daily Log'!#REF!),0)","v":0},{"$f":"IFERROR($E376*SUMIF('Daily Log'!#REF!,$B376,'Daily Log'!#REF!),0)","v":0}]
[null,"ZAB06 1206:SPRING RL",null,"COMBO-APPETIZER",1,5,{"$f":"IFERROR($E377*SUMIF('Daily Log'!$B$18:$B$1017,$B377,'Daily Log'!$C$18:$C$1017),0)","v":0},{"$f":"IFERROR($E377*SUMIF('Daily Log'!$E$18:$E$1017,$B377,'Daily Log'!$F$18:$F$1017),0)","v":2},{"$f":"IFERROR($E377*SUMIF('Daily Log'!$H$18:$H$1017,$B377,'Daily Log'!$I$18:$I$1017),0)","v":1},{"$f":"IFERROR($E377*SUMIF('Daily Log'!$K$18:$K$1017,$B377,'Daily Log'!$L$18:$L$1017),0)","v":2},{"$f":"IFERROR($E377*SUMIF('Daily Log'!$N$18:$N$1017,$B377,'Daily Log'!$O$18:$O$1017),0)","v":0},{"$f":"IFERROR($E377*SUMIF('Daily Log'!#REF!,$B377,'Daily Log'!#REF!),0)","v":0},{"$f":"IFERROR($E377*SUMIF('Daily Log'!#REF!,$B377,'Daily Log'!#REF!),0)","v":0},{"$f":"IFERROR($E377*SUMIF('Daily Log'!#REF!,$B377,'Daily Log'!#REF!),0)","v":0},{"$f":"IFERROR($E377*SUMIF('Daily Log'!#REF!,$B377,'Daily Log'!#REF!),0)","v":0},{"$f":"IFERROR($E377*SUMIF('Daily Log'!#REF!,$B377,'Daily Log'!#REF!),0)","v":0},{"$f":"IFERROR($E377*SUMIF('Daily Log'!#REF!,$B377,'Daily Log'!#REF!),0)","v":0},{"$f":"IFERROR($E377*SUMIF('Daily Log'!#REF!,$B377,'Daily Log'!#REF!),0)","v":0},{"$f":"IFERROR($E377*SUMIF('Daily Log'!#REF!,$B377,'Daily Log'!#REF!),0)","v":0},{"$f":"IFERROR($E377*SUMIF('Daily Log'!#REF!,$B377,'Daily Log'!#REF!),0)","v":0},{"$f":"IFERROR($E377*SUMIF('Daily Log'!#REF!,$B377,'Daily Log'!#REF!),0)","v":0},{"$f":"IFERROR($E377*SUMIF('Daily Log'!#REF!,$B377,'Daily Log'!#REF!),0)","v":0},{"$f":"IFERROR($E377*SUMIF('Daily Log'!#REF!,$B377,'Daily Log'!#REF!),0)","v":0},{"$f":"IFERROR($E377*SUMIF('Daily Log'!#REF!,$B377,'Daily Log'!#REF!),0)","v":0},{"$f":"IFERROR($E377*SUMIF('Daily Log'!#REF!,$B377,'Daily Log'!#REF!),0)","v":0},{"$f":"IFERROR($E377*SUMIF('Daily Log'!#REF!,$B377,'Daily Log'!#REF!),0)","v":0},{"$f":"IFERROR($E377*SUMIF('Daily Log'!#REF!,$B377,'Daily Log'!#REF!),0)","v":0},{"$f":"IFERROR($E377*SUMIF('Daily Log'!#REF!,$B377,'Daily Log'!#REF!),0)","v":0},{"$f":"IFERROR($E377*SUMIF('Daily Log'!#REF!,$B377,'Daily Log'!#REF!),0)","v":0},{"$f":"IFERROR($E377*SUMIF('Daily Log'!#REF!,$B377,'Daily Log'!#REF!),0)","v":0},{"$f":"IFERROR($E377*SUMIF('Daily Log'!#REF!,$B377,'Daily Log'!#REF!),0)","v":0},{"$f":"IFERROR($E377*SUMIF('Daily Log'!#REF!,$B377,'Daily Log'!#REF!),0)","v":0},{"$f":"IFERROR($E377*SUMIF('Daily Log'!#REF!,$B377,'Daily Log'!#REF!),0)","v":0},{"$f":"IFERROR($E377*SUMIF('Daily Log'!#REF!,$B377,'Daily Log'!#REF!),0)","v":0},{"$f":"IFERROR($E377*SUMIF('Daily Log'!#REF!,$B377,'Daily Log'!#REF!),0)","v":0},{"$f":"IFERROR($E377*SUMIF('Daily Log'!#REF!,$B377,'Daily Log'!#REF!),0)","v":0},{"$f":"IFERROR($E377*SUMIF('Daily Log'!#REF!,$B377,'Daily Log'!#REF!),0)","v":0}]
[null,"ZAB07 1207:SAUSAGE",null,"COMBO-APPETIZER",1,13,{"$f":"IFERROR($E378*SUMIF('Daily Log'!$B$18:$B$1017,$B378,'Daily Log'!$C$18:$C$1017),0)","v":3},{"$f":"IFERROR($E378*SUMIF('Daily Log'!$E$18:$E$1017,$B378,'Daily Log'!$F$18:$F$1017),0)","v":2},{"$f":"IFERROR($E378*SUMIF('Daily Log'!$H$18:$H$1017,$B378,'Daily Log'!$I$18:$I$1017),0)","v":3},{"$f":"IFERROR($E378*SUMIF('Daily Log'!$K$18:$K$1017,$B378,'Daily Log'!$L$18:$L$1017),0)","v":3},{"$f":"IFERROR($E378*SUMIF('Daily Log'!$N$18:$N$1017,$B378,'Daily Log'!$O$18:$O$1017),0)","v":2},{"$f":"IFERROR($E378*SUMIF('Daily Log'!#REF!,$B378,'Daily Log'!#REF!),0)","v":0},{"$f":"IFERROR($E378*SUMIF('Daily Log'!#REF!,$B378,'Daily Log'!#REF!),0)","v":0},{"$f":"IFERROR($E378*SUMIF('Daily Log'!#REF!,$B378,'Daily Log'!#REF!),0)","v":0},{"$f":"IFERROR($E378*SUMIF('Daily Log'!#REF!,$B378,'Daily Log'!#REF!),0)","v":0},{"$f":"IFERROR($E378*SUMIF('Daily Log'!#REF!,$B378,'Daily Log'!#REF!),0)","v":0},{"$f":"IFERROR($E378*SUMIF('Daily Log'!#REF!,$B378,'Daily Log'!#REF!),0)","v":0},{"$f":"IFERROR($E378*SUMIF('Daily Log'!#REF!,$B378,'Daily Log'!#REF!),0)","v":0},{"$f":"IFERROR($E378*SUMIF('Daily Log'!#REF!,$B378,'Daily Log'!#REF!),0)","v":0},{"$f":"IFERROR($E378*SUMIF('Daily Log'!#REF!,$B378,'Daily Log'!#REF!),0)","v":0},{"$f":"IFERROR($E378*SUMIF('Daily Log'!#REF!,$B378,'Daily Log'!#REF!),0)","v":0},{"$f":"IFERROR($E378*SUMIF('Daily Log'!#REF!,$B378,'Daily Log'!#REF!),0)","v":0},{"$f":"IFERROR($E378*SUMIF('Daily Log'!#REF!,$B378,'Daily Log'!#REF!),0)","v":0},{"$f":"IFERROR($E378*SUMIF('Daily Log'!#REF!,$B378,'Daily Log'!#REF!),0)","v":0},{"$f":"IFERROR($E378*SUMIF('Daily Log'!#REF!,$B378,'Daily Log'!#REF!),0)","v":0},{"$f":"IFERROR($E378*SUMIF('Daily Log'!#REF!,$B378,'Daily Log'!#REF!),0)","v":0},{"$f":"IFERROR($E378*SUMIF('Daily Log'!#REF!,$B378,'Daily Log'!#REF!),0)","v":0},{"$f":"IFERROR($E378*SUMIF('Daily Log'!#REF!,$B378,'Daily Log'!#REF!),0)","v":0},{"$f":"IFERROR($E378*SUMIF('Daily Log'!#REF!,$B378,'Daily Log'!#REF!),0)","v":0},{"$f":"IFERROR($E378*SUMIF('Daily Log'!#REF!,$B378,'Daily Log'!#REF!),0)","v":0},{"$f":"IFERROR($E378*SUMIF('Daily Log'!#REF!,$B378,'Daily Log'!#REF!),0)","v":0},{"$f":"IFERROR($E378*SUMIF('Daily Log'!#REF!,$B378,'Daily Log'!#REF!),0)","v":0},{"$f":"IFERROR($E378*SUMIF('Daily Log'!#REF!,$B378,'Daily Log'!#REF!),0)","v":0},{"$f":"IFERROR($E378*SUMIF('Daily Log'!#REF!,$B378,'Daily Log'!#REF!),0)","v":0},{"$f":"IFERROR($E378*SUMIF('Daily Log'!#REF!,$B378,'Daily Log'!#REF!),0)","v":0},{"$f":"IFERROR($E378*SUMIF('Daily Log'!#REF!,$B378,'Daily Log'!#REF!),0)","v":0},{"$f":"IFERROR($E378*SUMIF('Daily Log'!#REF!,$B378,'Daily Log'!#REF!),0)","v":0}]
[null,"ZAC01 1301:DUMPLING",null,"COMBO-APPETIZER",1,5,{"$f":"IFERROR($E379*SUMIF('Daily Log'!$B$18:$B$1017,$B379,'Daily Log'!$C$18:$C$1017),0)","v":2},{"$f":"IFERROR($E379*SUMIF('Daily Log'!$E$18:$E$1017,$B379,'Daily Log'!$F$18:$F$1017),0)","v":0},{"$f":"IFERROR($E379*SUMIF('Daily Log'!$H$18:$H$1017,$B379,'Daily Log'!$I$18:$I$1017),0)","v":3},{"$f":"IFERROR($E379*SUMIF('Daily Log'!$K$18:$K$1017,$B379,'Daily Log'!$L$18:$L$1017),0)","v":0},{"$f":"IFERROR($E379*SUMIF('Daily Log'!$N$18:$N$1017,$B379,'Daily Log'!$O$18:$O$1017),0)","v":0},{"$f":"IFERROR($E379*SUMIF('Daily Log'!#REF!,$B379,'Daily Log'!#REF!),0)","v":0},{"$f":"IFERROR($E379*SUMIF('Daily Log'!#REF!,$B379,'Daily Log'!#REF!),0)","v":0},{"$f":"IFERROR($E379*SUMIF('Daily Log'!#REF!,$B379,'Daily Log'!#REF!),0)","v":0},{"$f":"IFERROR($E379*SUMIF('Daily Log'!#REF!,$B379,'Daily Log'!#REF!),0)","v":0},{"$f":"IFERROR($E379*SUMIF('Daily Log'!#REF!,$B379,'Daily Log'!#REF!),0)","v":0},{"$f":"IFERROR($E379*SUMIF('Daily Log'!#REF!,$B379,'Daily Log'!#REF!),0)","v":0},{"$f":"IFERROR($E379*SUMIF('Daily Log'!#REF!,$B379,'Daily Log'!#REF!),0)","v":0},{"$f":"IFERROR($E379*SUMIF('Daily Log'!#REF!,$B379,'Daily Log'!#REF!),0)","v":0},{"$f":"IFERROR($E379*SUMIF('Daily Log'!#REF!,$B379,'Daily Log'!#REF!),0)","v":0},{"$f":"IFERROR($E379*SUMIF('Daily Log'!#REF!,$B379,'Daily Log'!#REF!),0)","v":0},{"$f":"IFERROR($E379*SUMIF('Daily Log'!#REF!,$B379,'Daily Log'!#REF!),0)","v":0},{"$f":"IFERROR($E379*SUMIF('Daily Log'!#REF!,$B379,'Daily Log'!#REF!),0)","v":0},{"$f":"IFERROR($E379*SUMIF('Daily Log'!#REF!,$B379,'Daily Log'!#REF!),0)","v":0},{"$f":"IFERROR($E379*SUMIF('Daily Log'!#REF!,$B379,'Daily Log'!#REF!),0)","v":0},{"$f":"IFERROR($E379*SUMIF('Daily Log'!#REF!,$B379,'Daily Log'!#REF!),0)","v":0},{"$f":"IFERROR($E379*SUMIF('Daily Log'!#REF!,$B379,'Daily Log'!#REF!),0)","v":0},{"$f":"IFERROR($E379*SUMIF('Daily Log'!#REF!,$B379,'Daily Log'!#REF!),0)","v":0},{"$f":"IFERROR($E379*SUMIF('Daily Log'!#REF!,$B379,'Daily Log'!#REF!),0)","v":0},{"$f":"IFERROR($E379*SUMIF('Daily Log'!#REF!,$B379,'Daily Log'!#REF!),0)","v":0},{"$f":"IFERROR($E379*SUMIF('Daily Log'!#REF!,$B379,'Daily Log'!#REF!),0)","v":0},{"$f":"IFERROR($E379*SUMIF('Daily Log'!#REF!,$B379,'Daily Log'!#REF!),0)","v":0},{"$f":"IFERROR($E379*SUMIF('Daily Log'!#REF!,$B379,'Daily Log'!#REF!),0)","v":0},{"$f":"IFERROR($E379*SUMIF('Daily Log'!#REF!,$B379,'Daily Log'!#REF!),0)","v":0},{"$f":"IFERROR($E379*SUMIF('Daily Log'!#REF!,$B379,'Daily Log'!#REF!),0)","v":0},{"$f":"IFERROR($E379*SUMIF('Daily Log'!#REF!,$B379,'Daily Log'!#REF!),0)","v":0},{"$f":"IFERROR($E379*SUMIF('Daily Log'!#REF!,$B379,'Daily Log'!#REF!),0)","v":0}]
[null,"ZAC02 1302:NUGGET",null,"COMBO-APPETIZER",1,14,{"$f":"IFERROR($E380*SUMIF('Daily Log'!$B$18:$B$1017,$B380,'Daily Log'!$C$18:$C$1017),0)","v":4},{"$f":"IFERROR($E380*SUMIF('Daily Log'!$E$18:$E$1017,$B380,'Daily Log'!$F$18:$F$1017),0)","v":1},{"$f":"IFERROR($E380*SUMIF('Daily Log'!$H$18:$H$1017,$B380,'Daily Log'!$I$18:$I$1017),0)","v":5},{"$f":"IFERROR($E380*SUMIF('Daily Log'!$K$18:$K$1017,$B380,'Daily Log'!$L$18:$L$1017),0)","v":4},{"$f":"IFERROR($E380*SUMIF('Daily Log'!$N$18:$N$1017,$B380,'Daily Log'!$O$18:$O$1017),0)","v":0},{"$f":"IFERROR($E380*SUMIF('Daily Log'!#REF!,$B380,'Daily Log'!#REF!),0)","v":0},{"$f":"IFERROR($E380*SUMIF('Daily Log'!#REF!,$B380,'Daily Log'!#REF!),0)","v":0},{"$f":"IFERROR($E380*SUMIF('Daily Log'!#REF!,$B380,'Daily Log'!#REF!),0)","v":0},{"$f":"IFERROR($E380*SUMIF('Daily Log'!#REF!,$B380,'Daily Log'!#REF!),0)","v":0},{"$f":"IFERROR($E380*SUMIF('Daily Log'!#REF!,$B380,'Daily Log'!#REF!),0)","v":0},{"$f":"IFERROR($E380*SUMIF('Daily Log'!#REF!,$B380,'Daily Log'!#REF!),0)","v":0},{"$f":"IFERROR($E380*SUMIF('Daily Log'!#REF!,$B380,'Daily Log'!#REF!),0)","v":0},{"$f":"IFERROR($E380*SUMIF('Daily Log'!#REF!,$B380,'Daily Log'!#REF!),0)","v":0},{"$f":"IFERROR($E380*SUMIF('Daily Log'!#REF!,$B380,'Daily Log'!#REF!),0)","v":0},{"$f":"IFERROR($E380*SUMIF('Daily Log'!#REF!,$B380,'Daily Log'!#REF!),0)","v":0},{"$f":"IFERROR($E380*SUMIF('Daily Log'!#REF!,$B380,'Daily Log'!#REF!),0)","v":0},{"$f":"IFERROR($E380*SUMIF('Daily Log'!#REF!,$B380,'Daily Log'!#REF!),0)","v":0},{"$f":"IFERROR($E380*SUMIF('Daily Log'!#REF!,$B380,'Daily Log'!#REF!),0)","v":0},{"$f":"IFERROR($E380*SUMIF('Daily Log'!#REF!,$B380,'Daily Log'!#REF!),0)","v":0},{"$f":"IFERROR($E380*SUMIF('Daily Log'!#REF!,$B380,'Daily Log'!#REF!),0)","v":0},{"$f":"IFERROR($E380*SUMIF('Daily Log'!#REF!,$B380,'Daily Log'!#REF!),0)","v":0},{"$f":"IFERROR($E380*SUMIF('Daily Log'!#REF!,$B380,'Daily Log'!#REF!),0)","v":0},{"$f":"IFERROR($E380*SUMIF('Daily Log'!#REF!,$B380,'Daily Log'!#REF!),0)","v":0},{"$f":"IFERROR($E380*SUMIF('Daily Log'!#REF!,$B380,'Daily Log'!#REF!),0)","v":0},{"$f":"IFERROR($E380*SUMIF('Daily Log'!#REF!,$B380,'Daily Log'!#REF!),0)","v":0},{"$f":"IFERROR($E380*SUMIF('Daily Log'!#REF!,$B380,'Daily Log'!#REF!),0)","v":0},{"$f":"IFERROR($E380*SUMIF('Daily Log'!#REF!,$B380,'Daily Log'!#REF!),0)","v":0},{"$f":"IFERROR($E380*SUMIF('Daily Log'!#REF!,$B380,'Daily Log'!#REF!),0)","v":0},{"$f":"IFERROR($E380*SUMIF('Daily Log'!#REF!,$B380,'Daily Log'!#REF!),0)","v":0},{"$f":"IFERROR($E380*SUMIF('Daily Log'!#REF!,$B380,'Daily Log'!#REF!),0)","v":0},{"$f":"IFERROR($E380*SUMIF('Daily Log'!#REF!,$B380,'Daily Log'!#REF!),0)","v":0}]
[null,"ZAC03 1303:CHK WING",null,"COMBO-APPETIZER",1,25,{"$f":"IFERROR($E381*SUMIF('Daily Log'!$B$18:$B$1017,$B381,'Daily Log'!$C$18:$C$1017),0)","v":8},{"$f":"IFERROR($E381*SUMIF('Daily Log'!$E$18:$E$1017,$B381,'Daily Log'!$F$18:$F$1017),0)","v":7},{"$f":"IFERROR($E381*SUMIF('Daily Log'!$H$18:$H$1017,$B381,'Daily Log'!$I$18:$I$1017),0)","v":6},{"$f":"IFERROR($E381*SUMIF('Daily Log'!$K$18:$K$1017,$B381,'Daily Log'!$L$18:$L$1017),0)","v":3},{"$f":"IFERROR($E381*SUMIF('Daily Log'!$N$18:$N$1017,$B381,'Daily Log'!$O$18:$O$1017),0)","v":1},{"$f":"IFERROR($E381*SUMIF('Daily Log'!#REF!,$B381,'Daily Log'!#REF!),0)","v":0},{"$f":"IFERROR($E381*SUMIF('Daily Log'!#REF!,$B381,'Daily Log'!#REF!),0)","v":0},{"$f":"IFERROR($E381*SUMIF('Daily Log'!#REF!,$B381,'Daily Log'!#REF!),0)","v":0},{"$f":"IFERROR($E381*SUMIF('Daily Log'!#REF!,$B381,'Daily Log'!#REF!),0)","v":0},{"$f":"IFERROR($E381*SUMIF('Daily Log'!#REF!,$B381,'Daily Log'!#REF!),0)","v":0},{"$f":"IFERROR($E381*SUMIF('Daily Log'!#REF!,$B381,'Daily Log'!#REF!),0)","v":0},{"$f":"IFERROR($E381*SUMIF('Daily Log'!#REF!,$B381,'Daily Log'!#REF!),0)","v":0},{"$f":"IFERROR($E381*SUMIF('Daily Log'!#REF!,$B381,'Daily Log'!#REF!),0)","v":0},{"$f":"IFERROR($E381*SUMIF('Daily Log'!#REF!,$B381,'Daily Log'!#REF!),0)","v":0},{"$f":"IFERROR($E381*SUMIF('Daily Log'!#REF!,$B381,'Daily Log'!#REF!),0)","v":0},{"$f":"IFERROR($E381*SUMIF('Daily Log'!#REF!,$B381,'Daily Log'!#REF!),0)","v":0},{"$f":"IFERROR($E381*SUMIF('Daily Log'!#REF!,$B381,'Daily Log'!#REF!),0)","v":0},{"$f":"IFERROR($E381*SUMIF('Daily Log'!#REF!,$B381,'Daily Log'!#REF!),0)","v":0},{"$f":"IFERROR($E381*SUMIF('Daily Log'!#REF!,$B381,'Daily Log'!#REF!),0)","v":0},{"$f":"IFERROR($E381*SUMIF('Daily Log'!#REF!,$B381,'Daily Log'!#REF!),0)","v":0},{"$f":"IFERROR($E381*SUMIF('Daily Log'!#REF!,$B381,'Daily Log'!#REF!),0)","v":0},{"$f":"IFERROR($E381*SUMIF('Daily Log'!#REF!,$B381,'Daily Log'!#REF!),0)","v":0},{"$f":"IFERROR($E381*SUMIF('Daily Log'!#REF!,$B381,'Daily Log'!#REF!),0)","v":0},{"$f":"IFERROR($E381*SUMIF('Daily Log'!#REF!,$B381,'Daily Log'!#REF!),0)","v":0},{"$f":"IFERROR($E381*SUMIF('Daily Log'!#REF!,$B381,'Daily Log'!#REF!),0)","v":0},{"$f":"IFERROR($E381*SUMIF('Daily Log'!#REF!,$B381,'Daily Log'!#REF!),0)","v":0},{"$f":"IFERROR($E381*SUMIF('Daily Log'!#REF!,$B381,'Daily Log'!#REF!),0)","v":0},{"$f":"IFERROR($E381*SUMIF('Daily Log'!#REF!,$B381,'Daily Log'!#REF!),0)","v":0},{"$f":"IFERROR($E381*SUMIF('Daily Log'!#REF!,$B381,'Daily Log'!#REF!),0)","v":0},{"$f":"IFERROR($E381*SUMIF('Daily Log'!#REF!,$B381,'Daily Log'!#REF!),0)","v":0},{"$f":"IFERROR($E381*SUMIF('Daily Log'!#REF!,$B381,'Daily Log'!#REF!),0)","v":0}]
[null,"ZAC04 1304:IKAN BILIS",null,"COMBO-APPETIZER",1,3,{"$f":"IFERROR($E382*SUMIF('Daily Log'!$B$18:$B$1017,$B382,'Daily Log'!$C$18:$C$1017),0)","v":2},{"$f":"IFERROR($E382*SUMIF('Daily Log'!$E$18:$E$1017,$B382,'Daily Log'!$F$18:$F$1017),0)","v":0},{"$f":"IFERROR($E382*SUMIF('Daily Log'!$H$18:$H$1017,$B382,'Daily Log'!$I$18:$I$1017),0)","v":0},{"$f":"IFERROR($E382*SUMIF('Daily Log'!$K$18:$K$1017,$B382,'Daily Log'!$L$18:$L$1017),0)","v":0},{"$f":"IFERROR($E382*SUMIF('Daily Log'!$N$18:$N$1017,$B382,'Daily Log'!$O$18:$O$1017),0)","v":1},{"$f":"IFERROR($E382*SUMIF('Daily Log'!#REF!,$B382,'Daily Log'!#REF!),0)","v":0},{"$f":"IFERROR($E382*SUMIF('Daily Log'!#REF!,$B382,'Daily Log'!#REF!),0)","v":0},{"$f":"IFERROR($E382*SUMIF('Daily Log'!#REF!,$B382,'Daily Log'!#REF!),0)","v":0},{"$f":"IFERROR($E382*SUMIF('Daily Log'!#REF!,$B382,'Daily Log'!#REF!),0)","v":0},{"$f":"IFERROR($E382*SUMIF('Daily Log'!#REF!,$B382,'Daily Log'!#REF!),0)","v":0},{"$f":"IFERROR($E382*SUMIF('Daily Log'!#REF!,$B382,'Daily Log'!#REF!),0)","v":0},{"$f":"IFERROR($E382*SUMIF('Daily Log'!#REF!,$B382,'Daily Log'!#REF!),0)","v":0},{"$f":"IFERROR($E382*SUMIF('Daily Log'!#REF!,$B382,'Daily Log'!#REF!),0)","v":0},{"$f":"IFERROR($E382*SUMIF('Daily Log'!#REF!,$B382,'Daily Log'!#REF!),0)","v":0},{"$f":"IFERROR($E382*SUMIF('Daily Log'!#REF!,$B382,'Daily Log'!#REF!),0)","v":0},{"$f":"IFERROR($E382*SUMIF('Daily Log'!#REF!,$B382,'Daily Log'!#REF!),0)","v":0},{"$f":"IFERROR($E382*SUMIF('Daily Log'!#REF!,$B382,'Daily Log'!#REF!),0)","v":0},{"$f":"IFERROR($E382*SUMIF('Daily Log'!#REF!,$B382,'Daily Log'!#REF!),0)","v":0},{"$f":"IFERROR($E382*SUMIF('Daily Log'!#REF!,$B382,'Daily Log'!#REF!),0)","v":0},{"$f":"IFERROR($E382*SUMIF('Daily Log'!#REF!,$B382,'Daily Log'!#REF!),0)","v":0},{"$f":"IFERROR($E382*SUMIF('Daily Log'!#REF!,$B382,'Daily Log'!#REF!),0)","v":0},{"$f":"IFERROR($E382*SUMIF('Daily Log'!#REF!,$B382,'Daily Log'!#REF!),0)","v":0},{"$f":"IFERROR($E382*SUMIF('Daily Log'!#REF!,$B382,'Daily Log'!#REF!),0)","v":0},{"$f":"IFERROR($E382*SUMIF('Daily Log'!#REF!,$B382,'Daily Log'!#REF!),0)","v":0},{"$f":"IFERROR($E382*SUMIF('Daily Log'!#REF!,$B382,'Daily Log'!#REF!),0)","v":0},{"$f":"IFERROR($E382*SUMIF('Daily Log'!#REF!,$B382,'Daily Log'!#REF!),0)","v":0},{"$f":"IFERROR($E382*SUMIF('Daily Log'!#REF!,$B382,'Daily Log'!#REF!),0)","v":0},{"$f":"IFERROR($E382*SUMIF('Daily Log'!#REF!,$B382,'Daily Log'!#REF!),0)","v":0},{"$f":"IFERROR($E382*SUMIF('Daily Log'!#REF!,$B382,'Daily Log'!#REF!),0)","v":0},{"$f":"IFERROR($E382*SUMIF('Daily Log'!#REF!,$B382,'Daily Log'!#REF!),0)","v":0},{"$f":"IFERROR($E382*SUMIF('Daily Log'!#REF!,$B382,'Daily Log'!#REF!),0)","v":0}]
[null,"ZAC05 1305:THAI RL",null,"COMBO-APPETIZER",1,3,{"$f":"IFERROR($E383*SUMIF('Daily Log'!$B$18:$B$1017,$B383,'Daily Log'!$C$18:$C$1017),0)","v":2},{"$f":"IFERROR($E383*SUMIF('Daily Log'!$E$18:$E$1017,$B383,'Daily Log'!$F$18:$F$1017),0)","v":0},{"$f":"IFERROR($E383*SUMIF('Daily Log'!$H$18:$H$1017,$B383,'Daily Log'!$I$18:$I$1017),0)","v":0},{"$f":"IFERROR($E383*SUMIF('Daily Log'!$K$18:$K$1017,$B383,'Daily Log'!$L$18:$L$1017),0)","v":1},{"$f":"IFERROR($E383*SUMIF('Daily Log'!$N$18:$N$1017,$B383,'Daily Log'!$O$18:$O$1017),0)","v":0},{"$f":"IFERROR($E383*SUMIF('Daily Log'!#REF!,$B383,'Daily Log'!#REF!),0)","v":0},{"$f":"IFERROR($E383*SUMIF('Daily Log'!#REF!,$B383,'Daily Log'!#REF!),0)","v":0},{"$f":"IFERROR($E383*SUMIF('Daily Log'!#REF!,$B383,'Daily Log'!#REF!),0)","v":0},{"$f":"IFERROR($E383*SUMIF('Daily Log'!#REF!,$B383,'Daily Log'!#REF!),0)","v":0},{"$f":"IFERROR($E383*SUMIF('Daily Log'!#REF!,$B383,'Daily Log'!#REF!),0)","v":0},{"$f":"IFERROR($E383*SUMIF('Daily Log'!#REF!,$B383,'Daily Log'!#REF!),0)","v":0},{"$f":"IFERROR($E383*SUMIF('Daily Log'!#REF!,$B383,'Daily Log'!#REF!),0)","v":0},{"$f":"IFERROR($E383*SUMIF('Daily Log'!#REF!,$B383,'Daily Log'!#REF!),0)","v":0},{"$f":"IFERROR($E383*SUMIF('Daily Log'!#REF!,$B383,'Daily Log'!#REF!),0)","v":0},{"$f":"IFERROR($E383*SUMIF('Daily Log'!#REF!,$B383,'Daily Log'!#REF!),0)","v":0},{"$f":"IFERROR($E383*SUMIF('Daily Log'!#REF!,$B383,'Daily Log'!#REF!),0)","v":0},{"$f":"IFERROR($E383*SUMIF('Daily Log'!#REF!,$B383,'Daily Log'!#REF!),0)","v":0},{"$f":"IFERROR($E383*SUMIF('Daily Log'!#REF!,$B383,'Daily Log'!#REF!),0)","v":0},{"$f":"IFERROR($E383*SUMIF('Daily Log'!#REF!,$B383,'Daily Log'!#REF!),0)","v":0},{"$f":"IFERROR($E383*SUMIF('Daily Log'!#REF!,$B383,'Daily Log'!#REF!),0)","v":0},{"$f":"IFERROR($E383*SUMIF('Daily Log'!#REF!,$B383,'Daily Log'!#REF!),0)","v":0},{"$f":"IFERROR($E383*SUMIF('Daily Log'!#REF!,$B383,'Daily Log'!#REF!),0)","v":0},{"$f":"IFERROR($E383*SUMIF('Daily Log'!#REF!,$B383,'Daily Log'!#REF!),0)","v":0},{"$f":"IFERROR($E383*SUMIF('Daily Log'!#REF!,$B383,'Daily Log'!#REF!),0)","v":0},{"$f":"IFERROR($E383*SUMIF('Daily Log'!#REF!,$B383,'Daily Log'!#REF!),0)","v":0},{"$f":"IFERROR($E383*SUMIF('Daily Log'!#REF!,$B383,'Daily Log'!#REF!),0)","v":0},{"$f":"IFERROR($E383*SUMIF('Daily Log'!#REF!,$B383,'Daily Log'!#REF!),0)","v":0},{"$f":"IFERROR($E383*SUMIF('Daily Log'!#REF!,$B383,'Daily Log'!#REF!),0)","v":0},{"$f":"IFERROR($E383*SUMIF('Daily Log'!#REF!,$B383,'Daily Log'!#REF!),0)","v":0},{"$f":"IFERROR($E383*SUMIF('Daily Log'!#REF!,$B383,'Daily Log'!#REF!),0)","v":0},{"$f":"IFERROR($E383*SUMIF('Daily Log'!#REF!,$B383,'Daily Log'!#REF!),0)","v":0}]
[null,"AE26 CNY BEER PLATER",null,"PLATER",1,1,{"$f":"IFERROR($E384*SUMIF('Daily Log'!$B$18:$B$1017,$B384,'Daily Log'!$C$18:$C$1017),0)","v":0},{"$f":"IFERROR($E384*SUMIF('Daily Log'!$E$18:$E$1017,$B384,'Daily Log'!$F$18:$F$1017),0)","v":0},{"$f":"IFERROR($E384*SUMIF('Daily Log'!$H$18:$H$1017,$B384,'Daily Log'!$I$18:$I$1017),0)","v":1},{"$f":"IFERROR($E384*SUMIF('Daily Log'!$K$18:$K$1017,$B384,'Daily Log'!$L$18:$L$1017),0)","v":0},{"$f":"IFERROR($E384*SUMIF('Daily Log'!$N$18:$N$1017,$B384,'Daily Log'!$O$18:$O$1017),0)","v":0},{"$f":"IFERROR($E384*SUMIF('Daily Log'!#REF!,$B384,'Daily Log'!#REF!),0)","v":0},{"$f":"IFERROR($E384*SUMIF('Daily Log'!#REF!,$B384,'Daily Log'!#REF!),0)","v":0},{"$f":"IFERROR($E384*SUMIF('Daily Log'!#REF!,$B384,'Daily Log'!#REF!),0)","v":0},{"$f":"IFERROR($E384*SUMIF('Daily Log'!#REF!,$B384,'Daily Log'!#REF!),0)","v":0},{"$f":"IFERROR($E384*SUMIF('Daily Log'!#REF!,$B384,'Daily Log'!#REF!),0)","v":0},{"$f":"IFERROR($E384*SUMIF('Daily Log'!#REF!,$B384,'Daily Log'!#REF!),0)","v":0},{"$f":"IFERROR($E384*SUMIF('Daily Log'!#REF!,$B384,'Daily Log'!#REF!),0)","v":0},{"$f":"IFERROR($E384*SUMIF('Daily Log'!#REF!,$B384,'Daily Log'!#REF!),0)","v":0},{"$f":"IFERROR($E384*SUMIF('Daily Log'!#REF!,$B384,'Daily Log'!#REF!),0)","v":0},{"$f":"IFERROR($E384*SUMIF('Daily Log'!#REF!,$B384,'Daily Log'!#REF!),0)","v":0},{"$f":"IFERROR($E384*SUMIF('Daily Log'!#REF!,$B384,'Daily Log'!#REF!),0)","v":0},{"$f":"IFERROR($E384*SUMIF('Daily Log'!#REF!,$B384,'Daily Log'!#REF!),0)","v":0},{"$f":"IFERROR($E384*SUMIF('Daily Log'!#REF!,$B384,'Daily Log'!#REF!),0)","v":0},{"$f":"IFERROR($E384*SUMIF('Daily Log'!#REF!,$B384,'Daily Log'!#REF!),0)","v":0},{"$f":"IFERROR($E384*SUMIF('Daily Log'!#REF!,$B384,'Daily Log'!#REF!),0)","v":0},{"$f":"IFERROR($E384*SUMIF('Daily Log'!#REF!,$B384,'Daily Log'!#REF!),0)","v":0},{"$f":"IFERROR($E384*SUMIF('Daily Log'!#REF!,$B384,'Daily Log'!#REF!),0)","v":0},{"$f":"IFERROR($E384*SUMIF('Daily Log'!#REF!,$B384,'Daily Log'!#REF!),0)","v":0},{"$f":"IFERROR($E384*SUMIF('Daily Log'!#REF!,$B384,'Daily Log'!#REF!),0)","v":0},{"$f":"IFERROR($E384*SUMIF('Daily Log'!#REF!,$B384,'Daily Log'!#REF!),0)","v":0},{"$f":"IFERROR($E384*SUMIF('Daily Log'!#REF!,$B384,'Daily Log'!#REF!),0)","v":0},{"$f":"IFERROR($E384*SUMIF('Daily Log'!#REF!,$B384,'Daily Log'!#REF!),0)","v":0},{"$f":"IFERROR($E384*SUMIF('Daily Log'!#REF!,$B384,'Daily Log'!#REF!),0)","v":0},{"$f":"IFERROR($E384*SUMIF('Daily Log'!#REF!,$B384,'Daily Log'!#REF!),0)","v":0},{"$f":"IFERROR($E384*SUMIF('Daily Log'!#REF!,$B384,'Daily Log'!#REF!),0)","v":0},{"$f":"IFERROR($E384*SUMIF('Daily Log'!#REF!,$B384,'Daily Log'!#REF!),0)","v":0}]
[null,"AE27 CNY PLATER",null,"PLATER",1,2,{"$f":"IFERROR($E385*SUMIF('Daily Log'!$B$18:$B$1017,$B385,'Daily Log'!$C$18:$C$1017),0)","v":0},{"$f":"IFERROR($E385*SUMIF('Daily Log'!$E$18:$E$1017,$B385,'Daily Log'!$F$18:$F$1017),0)","v":1},{"$f":"IFERROR($E385*SUMIF('Daily Log'!$H$18:$H$1017,$B385,'Daily Log'!$I$18:$I$1017),0)","v":0},{"$f":"IFERROR($E385*SUMIF('Daily Log'!$K$18:$K$1017,$B385,'Daily Log'!$L$18:$L$1017),0)","v":1},{"$f":"IFERROR($E385*SUMIF('Daily Log'!$N$18:$N$1017,$B385,'Daily Log'!$O$18:$O$1017),0)","v":0},{"$f":"IFERROR($E385*SUMIF('Daily Log'!#REF!,$B385,'Daily Log'!#REF!),0)","v":0},{"$f":"IFERROR($E385*SUMIF('Daily Log'!#REF!,$B385,'Daily Log'!#REF!),0)","v":0},{"$f":"IFERROR($E385*SUMIF('Daily Log'!#REF!,$B385,'Daily Log'!#REF!),0)","v":0},{"$f":"IFERROR($E385*SUMIF('Daily Log'!#REF!,$B385,'Daily Log'!#REF!),0)","v":0},{"$f":"IFERROR($E385*SUMIF('Daily Log'!#REF!,$B385,'Daily Log'!#REF!),0)","v":0},{"$f":"IFERROR($E385*SUMIF('Daily Log'!#REF!,$B385,'Daily Log'!#REF!),0)","v":0},{"$f":"IFERROR($E385*SUMIF('Daily Log'!#REF!,$B385,'Daily Log'!#REF!),0)","v":0},{"$f":"IFERROR($E385*SUMIF('Daily Log'!#REF!,$B385,'Daily Log'!#REF!),0)","v":0},{"$f":"IFERROR($E385*SUMIF('Daily Log'!#REF!,$B385,'Daily Log'!#REF!),0)","v":0},{"$f":"IFERROR($E385*SUMIF('Daily Log'!#REF!,$B385,'Daily Log'!#REF!),0)","v":0},{"$f":"IFERROR($E385*SUMIF('Daily Log'!#REF!,$B385,'Daily Log'!#REF!),0)","v":0},{"$f":"IFERROR($E385*SUMIF('Daily Log'!#REF!,$B385,'Daily Log'!#REF!),0)","v":0},{"$f":"IFERROR($E385*SUMIF('Daily Log'!#REF!,$B385,'Daily Log'!#REF!),0)","v":0},{"$f":"IFERROR($E385*SUMIF('Daily Log'!#REF!,$B385,'Daily Log'!#REF!),0)","v":0},{"$f":"IFERROR($E385*SUMIF('Daily Log'!#REF!,$B385,'Daily Log'!#REF!),0)","v":0},{"$f":"IFERROR($E385*SUMIF('Daily Log'!#REF!,$B385,'Daily Log'!#REF!),0)","v":0},{"$f":"IFERROR($E385*SUMIF('Daily Log'!#REF!,$B385,'Daily Log'!#REF!),0)","v":0},{"$f":"IFERROR($E385*SUMIF('Daily Log'!#REF!,$B385,'Daily Log'!#REF!),0)","v":0},{"$f":"IFERROR($E385*SUMIF('Daily Log'!#REF!,$B385,'Daily Log'!#REF!),0)","v":0},{"$f":"IFERROR($E385*SUMIF('Daily Log'!#REF!,$B385,'Daily Log'!#REF!),0)","v":0},{"$f":"IFERROR($E385*SUMIF('Daily Log'!#REF!,$B385,'Daily Log'!#REF!),0)","v":0},{"$f":"IFERROR($E385*SUMIF('Daily Log'!#REF!,$B385,'Daily Log'!#REF!),0)","v":0},{"$f":"IFERROR($E385*SUMIF('Daily Log'!#REF!,$B385,'Daily Log'!#REF!),0)","v":0},{"$f":"IFERROR($E385*SUMIF('Daily Log'!#REF!,$B385,'Daily Log'!#REF!),0)","v":0},{"$f":"IFERROR($E385*SUMIF('Daily Log'!#REF!,$B385,'Daily Log'!#REF!),0)","v":0},{"$f":"IFERROR($E385*SUMIF('Daily Log'!#REF!,$B385,'Daily Log'!#REF!),0)","v":0}]
[null,"DD16 McCain AlaCarte",null,"PLATER",1,11,{"$f":"IFERROR($E386*SUMIF('Daily Log'!$B$18:$B$1017,$B386,'Daily Log'!$C$18:$C$1017),0)","v":4},{"$f":"IFERROR($E386*SUMIF('Daily Log'!$E$18:$E$1017,$B386,'Daily Log'!$F$18:$F$1017),0)","v":1},{"$f":"IFERROR($E386*SUMIF('Daily Log'!$H$18:$H$1017,$B386,'Daily Log'!$I$18:$I$1017),0)","v":2},{"$f":"IFERROR($E386*SUMIF('Daily Log'!$K$18:$K$1017,$B386,'Daily Log'!$L$18:$L$1017),0)","v":3},{"$f":"IFERROR($E386*SUMIF('Daily Log'!$N$18:$N$1017,$B386,'Daily Log'!$O$18:$O$1017),0)","v":1},{"$f":"IFERROR($E386*SUMIF('Daily Log'!#REF!,$B386,'Daily Log'!#REF!),0)","v":0},{"$f":"IFERROR($E386*SUMIF('Daily Log'!#REF!,$B386,'Daily Log'!#REF!),0)","v":0},{"$f":"IFERROR($E386*SUMIF('Daily Log'!#REF!,$B386,'Daily Log'!#REF!),0)","v":0},{"$f":"IFERROR($E386*SUMIF('Daily Log'!#REF!,$B386,'Daily Log'!#REF!),0)","v":0},{"$f":"IFERROR($E386*SUMIF('Daily Log'!#REF!,$B386,'Daily Log'!#REF!),0)","v":0},{"$f":"IFERROR($E386*SUMIF('Daily Log'!#REF!,$B386,'Daily Log'!#REF!),0)","v":0},{"$f":"IFERROR($E386*SUMIF('Daily Log'!#REF!,$B386,'Daily Log'!#REF!),0)","v":0},{"$f":"IFERROR($E386*SUMIF('Daily Log'!#REF!,$B386,'Daily Log'!#REF!),0)","v":0},{"$f":"IFERROR($E386*SUMIF('Daily Log'!#REF!,$B386,'Daily Log'!#REF!),0)","v":0},{"$f":"IFERROR($E386*SUMIF('Daily Log'!#REF!,$B386,'Daily Log'!#REF!),0)","v":0},{"$f":"IFERROR($E386*SUMIF('Daily Log'!#REF!,$B386,'Daily Log'!#REF!),0)","v":0},{"$f":"IFERROR($E386*SUMIF('Daily Log'!#REF!,$B386,'Daily Log'!#REF!),0)","v":0},{"$f":"IFERROR($E386*SUMIF('Daily Log'!#REF!,$B386,'Daily Log'!#REF!),0)","v":0},{"$f":"IFERROR($E386*SUMIF('Daily Log'!#REF!,$B386,'Daily Log'!#REF!),0)","v":0},{"$f":"IFERROR($E386*SUMIF('Daily Log'!#REF!,$B386,'Daily Log'!#REF!),0)","v":0},{"$f":"IFERROR($E386*SUMIF('Daily Log'!#REF!,$B386,'Daily Log'!#REF!),0)","v":0},{"$f":"IFERROR($E386*SUMIF('Daily Log'!#REF!,$B386,'Daily Log'!#REF!),0)","v":0},{"$f":"IFERROR($E386*SUMIF('Daily Log'!#REF!,$B386,'Daily Log'!#REF!),0)","v":0},{"$f":"IFERROR($E386*SUMIF('Daily Log'!#REF!,$B386,'Daily Log'!#REF!),0)","v":0},{"$f":"IFERROR($E386*SUMIF('Daily Log'!#REF!,$B386,'Daily Log'!#REF!),0)","v":0},{"$f":"IFERROR($E386*SUMIF('Daily Log'!#REF!,$B386,'Daily Log'!#REF!),0)","v":0},{"$f":"IFERROR($E386*SUMIF('Daily Log'!#REF!,$B386,'Daily Log'!#REF!),0)","v":0},{"$f":"IFERROR($E386*SUMIF('Daily Log'!#REF!,$B386,'Daily Log'!#REF!),0)","v":0},{"$f":"IFERROR($E386*SUMIF('Daily Log'!#REF!,$B386,'Daily Log'!#REF!),0)","v":0},{"$f":"IFERROR($E386*SUMIF('Daily Log'!#REF!,$B386,'Daily Log'!#REF!),0)","v":0},{"$f":"IFERROR($E386*SUMIF('Daily Log'!#REF!,$B386,'Daily Log'!#REF!),0)","v":0}]
[null,"DD17 McCain Beer",null,"PLATER",1,2,{"$f":"IFERROR($E387*SUMIF('Daily Log'!$B$18:$B$1017,$B387,'Daily Log'!$C$18:$C$1017),0)","v":0},{"$f":"IFERROR($E387*SUMIF('Daily Log'!$E$18:$E$1017,$B387,'Daily Log'!$F$18:$F$1017),0)","v":0},{"$f":"IFERROR($E387*SUMIF('Daily Log'!$H$18:$H$1017,$B387,'Daily Log'!$I$18:$I$1017),0)","v":1},{"$f":"IFERROR($E387*SUMIF('Daily Log'!$K$18:$K$1017,$B387,'Daily Log'!$L$18:$L$1017),0)","v":1},{"$f":"IFERROR($E387*SUMIF('Daily Log'!$N$18:$N$1017,$B387,'Daily Log'!$O$18:$O$1017),0)","v":0},{"$f":"IFERROR($E387*SUMIF('Daily Log'!#REF!,$B387,'Daily Log'!#REF!),0)","v":0},{"$f":"IFERROR($E387*SUMIF('Daily Log'!#REF!,$B387,'Daily Log'!#REF!),0)","v":0},{"$f":"IFERROR($E387*SUMIF('Daily Log'!#REF!,$B387,'Daily Log'!#REF!),0)","v":0},{"$f":"IFERROR($E387*SUMIF('Daily Log'!#REF!,$B387,'Daily Log'!#REF!),0)","v":0},{"$f":"IFERROR($E387*SUMIF('Daily Log'!#REF!,$B387,'Daily Log'!#REF!),0)","v":0},{"$f":"IFERROR($E387*SUMIF('Daily Log'!#REF!,$B387,'Daily Log'!#REF!),0)","v":0},{"$f":"IFERROR($E387*SUMIF('Daily Log'!#REF!,$B387,'Daily Log'!#REF!),0)","v":0},{"$f":"IFERROR($E387*SUMIF('Daily Log'!#REF!,$B387,'Daily Log'!#REF!),0)","v":0},{"$f":"IFERROR($E387*SUMIF('Daily Log'!#REF!,$B387,'Daily Log'!#REF!),0)","v":0},{"$f":"IFERROR($E387*SUMIF('Daily Log'!#REF!,$B387,'Daily Log'!#REF!),0)","v":0},{"$f":"IFERROR($E387*SUMIF('Daily Log'!#REF!,$B387,'Daily Log'!#REF!),0)","v":0},{"$f":"IFERROR($E387*SUMIF('Daily Log'!#REF!,$B387,'Daily Log'!#REF!),0)","v":0},{"$f":"IFERROR($E387*SUMIF('Daily Log'!#REF!,$B387,'Daily Log'!#REF!),0)","v":0},{"$f":"IFERROR($E387*SUMIF('Daily Log'!#REF!,$B387,'Daily Log'!#REF!),0)","v":0},{"$f":"IFERROR($E387*SUMIF('Daily Log'!#REF!,$B387,'Daily Log'!#REF!),0)","v":0},{"$f":"IFERROR($E387*SUMIF('Daily Log'!#REF!,$B387,'Daily Log'!#REF!),0)","v":0},{"$f":"IFERROR($E387*SUMIF('Daily Log'!#REF!,$B387,'Daily Log'!#REF!),0)","v":0},{"$f":"IFERROR($E387*SUMIF('Daily Log'!#REF!,$B387,'Daily Log'!#REF!),0)","v":0},{"$f":"IFERROR($E387*SUMIF('Daily Log'!#REF!,$B387,'Daily Log'!#REF!),0)","v":0},{"$f":"IFERROR($E387*SUMIF('Daily Log'!#REF!,$B387,'Daily Log'!#REF!),0)","v":0},{"$f":"IFERROR($E387*SUMIF('Daily Log'!#REF!,$B387,'Daily Log'!#REF!),0)","v":0},{"$f":"IFERROR($E387*SUMIF('Daily Log'!#REF!,$B387,'Daily Log'!#REF!),0)","v":0},{"$f":"IFERROR($E387*SUMIF('Daily Log'!#REF!,$B387,'Daily Log'!#REF!),0)","v":0},{"$f":"IFERROR($E387*SUMIF('Daily Log'!#REF!,$B387,'Daily Log'!#REF!),0)","v":0},{"$f":"IFERROR($E387*SUMIF('Daily Log'!#REF!,$B387,'Daily Log'!#REF!),0)","v":0},{"$f":"IFERROR($E387*SUMIF('Daily Log'!#REF!,$B387,'Daily Log'!#REF!),0)","v":0}]
[null,null,null,null,1,0,{"$f":"IFERROR($E388*SUMIF('Daily Log'!$B$18:$B$1017,$B388,'Daily Log'!$C$18:$C$1017),0)","v":0},{"$f":"IFERROR($E388*SUMIF('Daily Log'!$E$18:$E$1017,$B388,'Daily Log'!$F$18:$F$1017),0)","v":0},{"$f":"IFERROR($E388*SUMIF('Daily Log'!$H$18:$H$1017,$B388,'Daily Log'!$I$18:$I$1017),0)","v":0},{"$f":"IFERROR($E388*SUMIF('Daily Log'!$K$18:$K$1017,$B388,'Daily Log'!$L$18:$L$1017),0)","v":0},{"$f":"IFERROR($E388*SUMIF('Daily Log'!$N$18:$N$1017,$B388,'Daily Log'!$O$18:$O$1017),0)","v":0},{"$f":"IFERROR($E388*SUMIF('Daily Log'!#REF!,$B388,'Daily Log'!#REF!),0)","v":0},{"$f":"IFERROR($E388*SUMIF('Daily Log'!#REF!,$B388,'Daily Log'!#REF!),0)","v":0},{"$f":"IFERROR($E388*SUMIF('Daily Log'!#REF!,$B388,'Daily Log'!#REF!),0)","v":0},{"$f":"IFERROR($E388*SUMIF('Daily Log'!#REF!,$B388,'Daily Log'!#REF!),0)","v":0},{"$f":"IFERROR($E388*SUMIF('Daily Log'!#REF!,$B388,'Daily Log'!#REF!),0)","v":0},{"$f":"IFERROR($E388*SUMIF('Daily Log'!#REF!,$B388,'Daily Log'!#REF!),0)","v":0},{"$f":"IFERROR($E388*SUMIF('Daily Log'!#REF!,$B388,'Daily Log'!#REF!),0)","v":0},{"$f":"IFERROR($E388*SUMIF('Daily Log'!#REF!,$B388,'Daily Log'!#REF!),0)","v":0},{"$f":"IFERROR($E388*SUMIF('Daily Log'!#REF!,$B388,'Daily Log'!#REF!),0)","v":0},{"$f":"IFERROR($E388*SUMIF('Daily Log'!#REF!,$B388,'Daily Log'!#REF!),0)","v":0},{"$f":"IFERROR($E388*SUMIF('Daily Log'!#REF!,$B388,'Daily Log'!#REF!),0)","v":0},{"$f":"IFERROR($E388*SUMIF('Daily Log'!#REF!,$B388,'Daily Log'!#REF!),0)","v":0},{"$f":"IFERROR($E388*SUMIF('Daily Log'!#REF!,$B388,'Daily Log'!#REF!),0)","v":0},{"$f":"IFERROR($E388*SUMIF('Daily Log'!#REF!,$B388,'Daily Log'!#REF!),0)","v":0},{"$f":"IFERROR($E388*SUMIF('Daily Log'!#REF!,$B388,'Daily Log'!#REF!),0)","v":0},{"$f":"IFERROR($E388*SUMIF('Daily Log'!#REF!,$B388,'Daily Log'!#REF!),0)","v":0},{"$f":"IFERROR($E388*SUMIF('Daily Log'!#REF!,$B388,'Daily Log'!#REF!),0)","v":0},{"$f":"IFERROR($E388*SUMIF('Daily Log'!#REF!,$B388,'Daily Log'!#REF!),0)","v":0},{"$f":"IFERROR($E388*SUMIF('Daily Log'!#REF!,$B388,'Daily Log'!#REF!),0)","v":0},{"$f":"IFERROR($E388*SUMIF('Daily Log'!#REF!,$B388,'Daily Log'!#REF!),0)","v":0},{"$f":"IFERROR($E388*SUMIF('Daily Log'!#REF!,$B388,'Daily Log'!#REF!),0)","v":0},{"$f":"IFERROR($E388*SUMIF('Daily Log'!#REF!,$B388,'Daily Log'!#REF!),0)","v":0},{"$f":"IFERROR($E388*SUMIF('Daily Log'!#REF!,$B388,'Daily Log'!#REF!),0)","v":0},{"$f":"IFERROR($E388*SUMIF('Daily Log'!#REF!,$B388,'Daily Log'!#REF!),0)","v":0},{"$f":"IFERROR($E388*SUMIF('Daily Log'!#REF!,$B388,'Daily Log'!#REF!),0)","v":0},{"$f":"IFERROR($E388*SUMIF('Daily Log'!#REF!,$B388,'Daily Log'!#REF!),0)","v":0}]
[null,null,null,null,1,0,{"$f":"IFERROR($E389*SUMIF('Daily Log'!$B$18:$B$1017,$B389,'Daily Log'!$C$18:$C$1017),0)","v":0},{"$f":"IFERROR($E389*SUMIF('Daily Log'!$E$18:$E$1017,$B389,'Daily Log'!$F$18:$F$1017),0)","v":0},{"$f":"IFERROR($E389*SUMIF('Daily Log'!$H$18:$H$1017,$B389,'Daily Log'!$I$18:$I$1017),0)","v":0},{"$f":"IFERROR($E389*SUMIF('Daily Log'!$K$18:$K$1017,$B389,'Daily Log'!$L$18:$L$1017),0)","v":0},{"$f":"IFERROR($E389*SUMIF('Daily Log'!$N$18:$N$1017,$B389,'Daily Log'!$O$18:$O$1017),0)","v":0},{"$f":"IFERROR($E389*SUMIF('Daily Log'!#REF!,$B389,'Daily Log'!#REF!),0)","v":0},{"$f":"IFERROR($E389*SUMIF('Daily Log'!#REF!,$B389,'Daily Log'!#REF!),0)","v":0},{"$f":"IFERROR($E389*SUMIF('Daily Log'!#REF!,$B389,'Daily Log'!#REF!),0)","v":0},{"$f":"IFERROR($E389*SUMIF('Daily Log'!#REF!,$B389,'Daily Log'!#REF!),0)","v":0},{"$f":"IFERROR($E389*SUMIF('Daily Log'!#REF!,$B389,'Daily Log'!#REF!),0)","v":0},{"$f":"IFERROR($E389*SUMIF('Daily Log'!#REF!,$B389,'Daily Log'!#REF!),0)","v":0},{"$f":"IFERROR($E389*SUMIF('Daily Log'!#REF!,$B389,'Daily Log'!#REF!),0)","v":0},{"$f":"IFERROR($E389*SUMIF('Daily Log'!#REF!,$B389,'Daily Log'!#REF!),0)","v":0},{"$f":"IFERROR($E389*SUMIF('Daily Log'!#REF!,$B389,'Daily Log'!#REF!),0)","v":0},{"$f":"IFERROR($E389*SUMIF('Daily Log'!#REF!,$B389,'Daily Log'!#REF!),0)","v":0},{"$f":"IFERROR($E389*SUMIF('Daily Log'!#REF!,$B389,'Daily Log'!#REF!),0)","v":0},{"$f":"IFERROR($E389*SUMIF('Daily Log'!#REF!,$B389,'Daily Log'!#REF!),0)","v":0},{"$f":"IFERROR($E389*SUMIF('Daily Log'!#REF!,$B389,'Daily Log'!#REF!),0)","v":0},{"$f":"IFERROR($E389*SUMIF('Daily Log'!#REF!,$B389,'Daily Log'!#REF!),0)","v":0},{"$f":"IFERROR($E389*SUMIF('Daily Log'!#REF!,$B389,'Daily Log'!#REF!),0)","v":0},{"$f":"IFERROR($E389*SUMIF('Daily Log'!#REF!,$B389,'Daily Log'!#REF!),0)","v":0},{"$f":"IFERROR($E389*SUMIF('Daily Log'!#REF!,$B389,'Daily Log'!#REF!),0)","v":0},{"$f":"IFERROR($E389*SUMIF('Daily Log'!#REF!,$B389,'Daily Log'!#REF!),0)","v":0},{"$f":"IFERROR($E389*SUMIF('Daily Log'!#REF!,$B389,'Daily Log'!#REF!),0)","v":0},{"$f":"IFERROR($E389*SUMIF('Daily Log'!#REF!,$B389,'Daily Log'!#REF!),0)","v":0},{"$f":"IFERROR($E389*SUMIF('Daily Log'!#REF!,$B389,'Daily Log'!#REF!),0)","v":0},{"$f":"IFERROR($E389*SUMIF('Daily Log'!#REF!,$B389,'Daily Log'!#REF!),0)","v":0},{"$f":"IFERROR($E389*SUMIF('Daily Log'!#REF!,$B389,'Daily Log'!#REF!),0)","v":0},{"$f":"IFERROR($E389*SUMIF('Daily Log'!#REF!,$B389,'Daily Log'!#REF!),0)","v":0},{"$f":"IFERROR($E389*SUMIF('Daily Log'!#REF!,$B389,'Daily Log'!#REF!),0)","v":0},{"$f":"IFERROR($E389*SUMIF('Daily Log'!#REF!,$B389,'Daily Log'!#REF!),0)","v":0}]
[null,null,null,null,1,0,{"$f":"IFERROR($E390*SUMIF('Daily Log'!$B$18:$B$1017,$B390,'Daily Log'!$C$18:$C$1017),0)","v":0},{"$f":"IFERROR($E390*SUMIF('Daily Log'!$E$18:$E$1017,$B390,'Daily Log'!$F$18:$F$1017),0)","v":0},{"$f":"IFERROR($E390*SUMIF('Daily Log'!$H$18:$H$1017,$B390,'Daily Log'!$I$18:$I$1017),0)","v":0},{"$f":"IFERROR($E390*SUMIF('Daily Log'!$K$18:$K$1017,$B390,'Daily Log'!$L$18:$L$1017),0)","v":0},{"$f":"IFERROR($E390*SUMIF('Daily Log'!$N$18:$N$1017,$B390,'Daily Log'!$O$18:$O$1017),0)","v":0},{"$f":"IFERROR($E390*SUMIF('Daily Log'!#REF!,$B390,'Daily Log'!#REF!),0)","v":0},{"$f":"IFERROR($E390*SUMIF('Daily Log'!#REF!,$B390,'Daily Log'!#REF!),0)","v":0},{"$f":"IFERROR($E390*SUMIF('Daily Log'!#REF!,$B390,'Daily Log'!#REF!),0)","v":0},{"$f":"IFERROR($E390*SUMIF('Daily Log'!#REF!,$B390,'Daily Log'!#REF!),0)","v":0},{"$f":"IFERROR($E390*SUMIF('Daily Log'!#REF!,$B390,'Daily Log'!#REF!),0)","v":0},{"$f":"IFERROR($E390*SUMIF('Daily Log'!#REF!,$B390,'Daily Log'!#REF!),0)","v":0},{"$f":"IFERROR($E390*SUMIF('Daily Log'!#REF!,$B390,'Daily Log'!#REF!),0)","v":0},{"$f":"IFERROR($E390*SUMIF('Daily Log'!#REF!,$B390,'Daily Log'!#REF!),0)","v":0},{"$f":"IFERROR($E390*SUMIF('Daily Log'!#REF!,$B390,'Daily Log'!#REF!),0)","v":0},{"$f":"IFERROR($E390*SUMIF('Daily Log'!#REF!,$B390,'Daily Log'!#REF!),0)","v":0},{"$f":"IFERROR($E390*SUMIF('Daily Log'!#REF!,$B390,'Daily Log'!#REF!),0)","v":0},{"$f":"IFERROR($E390*SUMIF('Daily Log'!#REF!,$B390,'Daily Log'!#REF!),0)","v":0},{"$f":"IFERROR($E390*SUMIF('Daily Log'!#REF!,$B390,'Daily Log'!#REF!),0)","v":0},{"$f":"IFERROR($E390*SUMIF('Daily Log'!#REF!,$B390,'Daily Log'!#REF!),0)","v":0},{"$f":"IFERROR($E390*SUMIF('Daily Log'!#REF!,$B390,'Daily Log'!#REF!),0)","v":0},{"$f":"IFERROR($E390*SUMIF('Daily Log'!#REF!,$B390,'Daily Log'!#REF!),0)","v":0},{"$f":"IFERROR($E390*SUMIF('Daily Log'!#REF!,$B390,'Daily Log'!#REF!),0)","v":0},{"$f":"IFERROR($E390*SUMIF('Daily Log'!#REF!,$B390,'Daily Log'!#REF!),0)","v":0},{"$f":"IFERROR($E390*SUMIF('Daily Log'!#REF!,$B390,'Daily Log'!#REF!),0)","v":0},{"$f":"IFERROR($E390*SUMIF('Daily Log'!#REF!,$B390,'Daily Log'!#REF!),0)","v":0},{"$f":"IFERROR($E390*SUMIF('Daily Log'!#REF!,$B390,'Daily Log'!#REF!),0)","v":0},{"$f":"IFERROR($E390*SUMIF('Daily Log'!#REF!,$B390,'Daily Log'!#REF!),0)","v":0},{"$f":"IFERROR($E390*SUMIF('Daily Log'!#REF!,$B390,'Daily Log'!#REF!),0)","v":0},{"$f":"IFERROR($E390*SUMIF('Daily Log'!#REF!,$B390,'Daily Log'!#REF!),0)","v":0},{"$f":"IFERROR($E390*SUMIF('Daily Log'!#REF!,$B390,'Daily Log'!#REF!),0)","v":0},{"$f":"IFERROR($E390*SUMIF('Daily Log'!#REF!,$B390,'Daily Log'!#REF!),0)","v":0}]
[null,null,null,null,1,0]
[null,null,null,null,1,0]
[null,null,null,null,1,0]
[null,null,null,null,1,0]
[null,null,null,null,1,0]
[null,null,null,null,1,0]
[null,null,null,null,1,0]
[null,null,null,null,1,{"$f":"SUM($G398:$AK398)","v":0}]
[null,null,null,null,1,0]
[null,null,null,null,1,0]
[null,null,null,null,1,0]
[null,null,null,null,1,0]
[null,null,null,null,1,0]
[null,null,null,null,1,0]
[null,null,null,null,1,0]
[null,null,null,null,1,0]
[null,null,null,null,1,0]
[null,null,null,null,1,0]
[null,null,null,null,1,0]
[null,null,null,null,1,0]
[null,null,null,null,1,0]
[null,null,null,null,1,0]
[null,null,null,null,1,0]
[null,null,null,null,1,0]
[null,null,null,null,1,0]
[null,null,null,null,1,0]
[null,null,null,null,1,0]
[null,null,null,null,1,0]
[null,null,null,null,1,0]
[null,null,null,null,1,0]
[null,null,null,null,1,0]
[null,null,null,null,null,0]
[null,null,null,null,null,0]
[null,null,null,null,null,0]
[null,null,null,null,null,0]

{"sheet":"Daily Log","index":1,"n_rows":1019,"n_cols":15,"rows_kept":1019,"cut":false,"hidden":false,"merged":[[5,2,5,4],[7,2,7,4],[9,2,9,4]]}
[]
[]
[null,null,"DAILY LOG OF PRODUCT SALES"]
[]
[]
[null,"OUTLET",{"$f":"Summary!C6","v":"SBA"}]
[]
[null,"YEAR",{"$f":"Summary!C8","v":"2013"}]
[]
[null,"MONTH",{"$f":"Summary!C10","v":"MAY"}]
[]
[]
[]
[{"$f":"IFERROR(INDEX(#REF!,MAX($B$17:$P$17),1),\"\")","v":""},{"$f":"\"DATE  \"&TEXT(Summary!G27,\"DD / MM / YYYY\")","v":"DATE  01 / 05 / 2013"},null,null,{"$f":"\"DATE  \"&TEXT(Summary!H27,\"DD / MM / YYYY\")","v":"DATE  02 / 05 / 2013"},null,null,{"$f":"\"DATE  \"&TEXT(Summary!I27,\"DD / MM / YYYY\")","v":"DATE  03 / 05 / 2013"},null,null,{"$f":"\"DATE  \"&TEXT(Summary!J27,\"DD / MM / YYYY\")","v":"DATE  04 / 05 / 2013"},null,null,{"$f":"\"DATE  \"&TEXT(Summary!K27,\"DD / MM / YYYY\")","v":"DATE  05 / 05 / 2013"}]
[]
[null,"PRODUCT","QUANTITY",null,"PRODUCT","QUANTITY",null,"PRODUCT","QUANTITY",null,"PRODUCT","QUANTITY",null,"PRODUCT","QUANTITY"]
[null,{"$f":"IF(B18<>\"\",1,0)","v":1},null,null,{"$f":"IF(E18<>\"\",2,0)","v":2},null,null,{"$f":"IF(H18<>\"\",3,0)","v":3},null,null,{"$f":"IF(K18<>\"\",4,0)","v":4},null,null,{"$f":"IF(N18<>\"\",5,0)","v":5}]
[{"$f":"IFERROR(IF(INDIRECT($A$14&ROW())<>\"\",COUNTIF([1]Summary!$B$30:$B$1029,INDIRECT($A$14&ROW())),\"\"),\"\")","v":""},"AA04 K-LUNCH",143,null,"AA01 K : REGULAR",5,null,"AA01 K : REGULAR",15,null,"AA01 K : REGULAR",2,null,"AA04 K-LUNCH",30]
[{"$f":"IFERROR(IF(INDIRECT($A$14&ROW())<>\"\",COUNTIF([1]Summary!$B$30:$B$1029,INDIRECT($A$14&ROW())),\"\"),\"\")","v":""},"AA05 K : CHILDREN",2,null,"AA04 K-LUNCH",25,null,"AA04 K-LUNCH",37,null,"AA04 K-LUNCH",53,null,"AB01 H : REGULAR",38]
[{"$f":"IFERROR(IF(INDIRECT($A$14&ROW())<>\"\",COUNTIF([1]Summary!$B$30:$B$1029,INDIRECT($A$14&ROW())),\"\"),\"\")","v":""},"AA09 K : FREEHEAD (B)",1,null,"AB01 H : REGULAR",15,null,"AB01 H : REGULAR",21,null,"AB01 H : REGULAR",61,null,"AB02 H : MEMBER",7]
[{"$f":"IFERROR(IF(INDIRECT($A$14&ROW())<>\"\",COUNTIF([1]Summary!$B$30:$B$1029,INDIRECT($A$14&ROW())),\"\"),\"\")","v":""},"AA16 K : XTD S ROOM",2,null,"AB02 H : MEMBER",4,null,"AB02 H : MEMBER",5,null,"AB02 H : MEMBER",27,null,"AB08 H : MEMBER B'DAY",1]
[{"$f":"IFERROR(IF(INDIRECT($A$14&ROW())<>\"\",COUNTIF([1]Summary!$B$30:$B$1029,INDIRECT($A$14&ROW())),\"\"),\"\")","v":""},"AA18 K : XTD B ROOM",2,null,"AB08 H : MEMBER B'DAY",1,null,"AB07 H : CHILDREN",1,null,"AB07 H : CHILDREN",1,null,"AC01 N : REGULAR",31]
[{"$f":"IFERROR(IF(INDIRECT($A$14&ROW())<>\"\",COUNTIF([1]Summary!$B$30:$B$1029,INDIRECT($A$14&ROW())),\"\"),\"\")","v":""},"AB01 H : REGULAR",111,null,"AB11 H : FREEHEAD (B)",2,null,"AB17 H : XTD S ROOM",1,null,"AB50 H:Student Mem",3,null,"AC02 N : MEMBER",15]
[{"$f":"IFERROR(IF(INDIRECT($A$14&ROW())<>\"\",COUNTIF([1]Summary!$B$30:$B$1029,INDIRECT($A$14&ROW())),\"\"),\"\")","v":""},"AB02 H : MEMBER",32,null,"AB46 H : Student",64,null,"AB46 H : Student",132,null,"AC01 N : REGULAR",109,null,"AC05 K-DINNER",16]
[{"$f":"IFERROR(IF(INDIRECT($A$14&ROW())<>\"\",COUNTIF([1]Summary!$B$30:$B$1029,INDIRECT($A$14&ROW())),\"\"),\"\")","v":""},"AB07 H : CHILDREN",5,null,"AB50 H:Student Mem",12,null,"AB50 H:Student Mem",1,null,"AC02 N : MEMBER",61,null,"AC06 N : CHILDREN",1]
[{"$f":"IFERROR(IF(INDIRECT($A$14&ROW())<>\"\",COUNTIF([1]Summary!$B$30:$B$1029,INDIRECT($A$14&ROW())),\"\"),\"\")","v":""},"AC01 N : REGULAR",98,null,"AC01 N : REGULAR",109,null,"AC01 N : REGULAR",146,null,"AC05 K-DINNER",62,null,"AC07 N : MEMBER B'DAY",1]
[{"$f":"IFERROR(IF(INDIRECT($A$14&ROW())<>\"\",COUNTIF([1]Summary!$B$30:$B$1029,INDIRECT($A$14&ROW())),\"\"),\"\")","v":""},"AC02 N : MEMBER",40,null,"AC02 N : MEMBER",31,null,"AC02 N : MEMBER",57,null,"AC07 N : MEMBER B'DAY",3,null,"AC10 N : FREEHEAD (B)",1]
[{"$f":"IFERROR(IF(INDIRECT($A$14&ROW())<>\"\",COUNTIF([1]Summary!$B$30:$B$1029,INDIRECT($A$14&ROW())),\"\"),\"\")","v":""},"AC05 K-DINNER",133,null,"AC05 K-DINNER",68,null,"AC05 K-DINNER",111,null,"AC10 N : FREEHEAD (B)",1,null,"AC18 N : XTD M ROOM",1]
[{"$f":"IFERROR(IF(INDIRECT($A$14&ROW())<>\"\",COUNTIF([1]Summary!$B$30:$B$1029,INDIRECT($A$14&ROW())),\"\"),\"\")","v":""},"AC07 N : MEMBER B'DAY",1,null,"AC06 N : CHILDREN",2,null,"AC10 N : FREEHEAD (B)",1,null,"AC16 N : EVENT",1,null,"AD01 M : REGULAR",5]
[{"$f":"IFERROR(IF(INDIRECT($A$14&ROW())<>\"\",COUNTIF([1]Summary!$B$30:$B$1029,INDIRECT($A$14&ROW())),\"\"),\"\")","v":""},"AC18 N : XTD M ROOM",1,null,"AC07 N : MEMBER B'DAY",1,null,"AC16 N : EVENT",6,null,"AC18 N : XTD M ROOM",5,null,"AD05 M : LADIES",15]
[{"$f":"IFERROR(IF(INDIRECT($A$14&ROW())<>\"\",COUNTIF([1]Summary!$B$30:$B$1029,INDIRECT($A$14&ROW())),\"\"),\"\")","v":""},"AD01 M : REGULAR",26,null,"AC10 N : FREEHEAD (B)",3,null,"AC17 N : XTD S ROOM",1,null,"AD01 M : REGULAR",36,null,"BA09 GUINNESS BKT",1]
[{"$f":"IFERROR(IF(INDIRECT($A$14&ROW())<>\"\",COUNTIF([1]Summary!$B$30:$B$1029,INDIRECT($A$14&ROW())),\"\"),\"\")","v":""},"AD05 M : LADIES",22,null,"AC18 N : XTD M ROOM",4,null,"AC18 N : XTD M ROOM",2,null,"AD02 M : MEMBER",11,null,"BA16 TIGER RND",4]
[{"$f":"IFERROR(IF(INDIRECT($A$14&ROW())<>\"\",COUNTIF([1]Summary!$B$30:$B$1029,INDIRECT($A$14&ROW())),\"\"),\"\")","v":""},"BA04 N : 4BP",5,null,"AC28 N: Student Diner",1,null,"AD01 M : REGULAR",24,null,"AD16 M : XTD M ROOM",2,null,"CI01 GRAPE J",3]
[{"$f":"IFERROR(IF(INDIRECT($A$14&ROW())<>\"\",COUNTIF([1]Summary!$B$30:$B$1029,INDIRECT($A$14&ROW())),\"\"),\"\")","v":""},"BA08 GUINNESS BTL",2,null,"AD01 M : REGULAR",21,null,"AD02 M : MEMBER",12,null,"AE27 CNY PLATER",1,null,"CI02 APPLE J",9]
[{"$f":"IFERROR(IF(INDIRECT($A$14&ROW())<>\"\",COUNTIF([1]Summary!$B$30:$B$1029,INDIRECT($A$14&ROW())),\"\"),\"\")","v":""},"BA09 GUINNESS BKT",2,null,"AD05 M : LADIES",46,null,"AD16 M : XTD M ROOM",1,null,"BA02 H : 4BP",1,null,"CI04 MANGO J",13]
[{"$f":"IFERROR(IF(INDIRECT($A$14&ROW())<>\"\",COUNTIF([1]Summary!$B$30:$B$1029,INDIRECT($A$14&ROW())),\"\"),\"\")","v":""},"BA11 HEINEKEN BTL",3,null,"AE27 CNY PLATER",1,null,"AE26 CNY BEER PLATER",1,null,"BA04 N : 4BP",3,null,"CI05 PASSION J",21]
[{"$f":"IFERROR(IF(INDIRECT($A$14&ROW())<>\"\",COUNTIF([1]Summary!$B$30:$B$1029,INDIRECT($A$14&ROW())),\"\"),\"\")","v":""},"BA12 HEINEKEN BKT",1,null,"BA04 N : 4BP",3,null,"BA04 N : 4BP",7,null,"BA08 GUINNESS BTL",2,null,"CI06 RIBENA J",33]
[{"$f":"IFERROR(IF(INDIRECT($A$14&ROW())<>\"\",COUNTIF([1]Summary!$B$30:$B$1029,INDIRECT($A$14&ROW())),\"\"),\"\")","v":""},"BA14 TIGER BTL",2,null,"BA06 M : 4BP",1,null,"BA06 M : 4BP",1,null,"BA09 GUINNESS BKT",1,null,"CL01 7 UP",13]
[{"$f":"IFERROR(IF(INDIRECT($A$14&ROW())<>\"\",COUNTIF([1]Summary!$B$30:$B$1029,INDIRECT($A$14&ROW())),\"\"),\"\")","v":""},"BA15 TIGER BKT",2,null,"BA08 GUINNESS BTL",2,null,"BA08 GUINNESS BTL",1,null,"BA12 HEINEKEN BKT",5,null,"CL03 PEPSI",18]
[{"$f":"IFERROR(IF(INDIRECT($A$14&ROW())<>\"\",COUNTIF([1]Summary!$B$30:$B$1029,INDIRECT($A$14&ROW())),\"\"),\"\")","v":""},"BA16 TIGER RND",3,null,"BA13 HEINEKEN RND",4,null,"BA12 HEINEKEN BKT",15,null,"BA15 TIGER BKT",12,null,"CM01 MILO (C)",18]
[{"$f":"IFERROR(IF(INDIRECT($A$14&ROW())<>\"\",COUNTIF([1]Summary!$B$30:$B$1029,INDIRECT($A$14&ROW())),\"\"),\"\")","v":""},"BA20 Heineken 3+1",1,null,"BA14 TIGER BTL",1,null,"BA13 HEINEKEN RND",1,null,"BA16 TIGER RND",3,null,"CM02 NESCAFE (C)",9]
[{"$f":"IFERROR(IF(INDIRECT($A$14&ROW())<>\"\",COUNTIF([1]Summary!$B$30:$B$1029,INDIRECT($A$14&ROW())),\"\"),\"\")","v":""},"CA02 APPLE J",1,null,"BA15 TIGER BKT",1,null,"BA14 TIGER BTL",2,null,"CF08 LEMON HONEY (H)",1,null,"CM03 TEA (C)",5]
[{"$f":"IFERROR(IF(INDIRECT($A$14&ROW())<>\"\",COUNTIF([1]Summary!$B$30:$B$1029,INDIRECT($A$14&ROW())),\"\"),\"\")","v":""},"CC07 CAPPUCINNO SM",1,null,"BA16 TIGER RND",1,null,"BA15 TIGER BKT",7,null,"CI01 GRAPE J",23,null,"CM04 LEMON TEA (C)",18]
[{"$f":"IFERROR(IF(INDIRECT($A$14&ROW())<>\"\",COUNTIF([1]Summary!$B$30:$B$1029,INDIRECT($A$14&ROW())),\"\"),\"\")","v":""},"CE01 MILO (C)",1,null,"CI01 GRAPE J",22,null,"BA16 TIGER RND",5,null,"CI02 APPLE J",34,null,"CM05 GRN TEA (C)",22]
[{"$f":"IFERROR(IF(INDIRECT($A$14&ROW())<>\"\",COUNTIF([1]Summary!$B$30:$B$1029,INDIRECT($A$14&ROW())),\"\"),\"\")","v":""},"CI01 GRAPE J",28,null,"CI02 APPLE J",21,null,"CE08 LEMON HONEY (C)",null,null,"CI04 MANGO J",26,null,"CM06 HNY GRN TEA (C)",14]
[{"$f":"IFERROR(IF(INDIRECT($A$14&ROW())<>\"\",COUNTIF([1]Summary!$B$30:$B$1029,INDIRECT($A$14&ROW())),\"\"),\"\")","v":""},"CI02 APPLE J",29,null,"CI04 MANGO J",27,null,"CI01 GRAPE J",14,null,"CI05 PASSION J",31,null,"CM07 HONEY (C)",3]
[{"$f":"IFERROR(IF(INDIRECT($A$14&ROW())<>\"\",COUNTIF([1]Summary!$B$30:$B$1029,INDIRECT($A$14&ROW())),\"\"),\"\")","v":""},"CI04 MANGO J",29,null,"CI05 PASSION J",42,null,"CI02 APPLE J",26,null,"CI06 RIBENA J",67,null,"CM08 LEMON HONEY (C)",39]
[{"$f":"IFERROR(IF(INDIRECT($A$14&ROW())<>\"\",COUNTIF([1]Summary!$B$30:$B$1029,INDIRECT($A$14&ROW())),\"\"),\"\")","v":""},"CI05 PASSION J",40,null,"CI06 RIBENA J",62,null,"CI04 MANGO J",29,null,"CJ01 GRAPE SO",1,null,"CN01 MILO (H)",11]
[{"$f":"IFERROR(IF(INDIRECT($A$14&ROW())<>\"\",COUNTIF([1]Summary!$B$30:$B$1029,INDIRECT($A$14&ROW())),\"\"),\"\")","v":""},"CI06 RIBENA J",68,null,"CJ05 PASSION SO",3,null,"CI05 PASSION J",47,null,"CJ02 APPLE SO",2,null,"CN02 NESCAFE (H)",2]
[{"$f":"IFERROR(IF(INDIRECT($A$14&ROW())<>\"\",COUNTIF([1]Summary!$B$30:$B$1029,INDIRECT($A$14&ROW())),\"\"),\"\")","v":""},"CJ01 GRAPE SO",1,null,"CJ06 RIBENA SO",1,null,"CI06 RIBENA J",71,null,"CJ05 PASSION SO",2,null,"CN03 TEA (H)",3]
[{"$f":"IFERROR(IF(INDIRECT($A$14&ROW())<>\"\",COUNTIF([1]Summary!$B$30:$B$1029,INDIRECT($A$14&ROW())),\"\"),\"\")","v":""},"CJ02 APPLE SO",1,null,"CL01 7 UP",17,null,"CJ02 APPLE SO",1,null,"CJ06 RIBENA SO",1,null,"CN04 LEMON TEA (H)",6]
[{"$f":"IFERROR(IF(INDIRECT($A$14&ROW())<>\"\",COUNTIF([1]Summary!$B$30:$B$1029,INDIRECT($A$14&ROW())),\"\"),\"\")","v":""},"CJ04 MANGO SO",2,null,"CL02 7 UP REVIVE",4,null,"CJ06 RIBENA SO",1,null,"CL01 7 UP",8,null,"CN05 GRN TEA (H)",11]
[{"$f":"IFERROR(IF(INDIRECT($A$14&ROW())<>\"\",COUNTIF([1]Summary!$B$30:$B$1029,INDIRECT($A$14&ROW())),\"\"),\"\")","v":""},"CJ05 PASSION SO",2,null,"CL03 PEPSI",40,null,"CL01 7 UP",25,null,"CL02 7 UP REVIVE",7,null,"CN06 HNY GRN TEA (H)",19]
[{"$f":"IFERROR(IF(INDIRECT($A$14&ROW())<>\"\",COUNTIF([1]Summary!$B$30:$B$1029,INDIRECT($A$14&ROW())),\"\"),\"\")","v":""},"CJ06 RIBENA SO",1,null,"CM01 MILO (C)",60,null,"CL02 7 UP REVIVE",3,null,"CL03 PEPSI",58,null,"CN07 HONEY (H)",1]
[{"$f":"IFERROR(IF(INDIRECT($A$14&ROW())<>\"\",COUNTIF([1]Summary!$B$30:$B$1029,INDIRECT($A$14&ROW())),\"\"),\"\")","v":""},"CL01 7 UP",17,null,"CM02 NESCAFE (C)",15,null,"CL03 PEPSI",59,null,"CM01 MILO (C)",56,null,"CN08 LEMON HONEY (H)",17]
[{"$f":"IFERROR(IF(INDIRECT($A$14&ROW())<>\"\",COUNTIF([1]Summary!$B$30:$B$1029,INDIRECT($A$14&ROW())),\"\"),\"\")","v":""},"CL02 7 UP REVIVE",7,null,"CM03 TEA (C)",8,null,"CM01 MILO (C)",71,null,"CM02 NESCAFE (C)",10,null,"CN12 CHAMOMILE (H)",2]
[{"$f":"IFERROR(IF(INDIRECT($A$14&ROW())<>\"\",COUNTIF([1]Summary!$B$30:$B$1029,INDIRECT($A$14&ROW())),\"\"),\"\")","v":""},"CL03 PEPSI",48,null,"CM04 LEMON TEA (C)",61,null,"CM02 NESCAFE (C)",10,null,"CM03 TEA (C)",4,null,"CO02 PLAIN WATER",15]
[{"$f":"IFERROR(IF(INDIRECT($A$14&ROW())<>\"\",COUNTIF([1]Summary!$B$30:$B$1029,INDIRECT($A$14&ROW())),\"\"),\"\")","v":""},"CM01 MILO (C)",54,null,"CM05 GRN TEA (C)",44,null,"CM03 TEA (C)",7,null,"CM04 LEMON TEA (C)",84,null,"DB01 1001:BP CKN CP",3]
[{"$f":"IFERROR(IF(INDIRECT($A$14&ROW())<>\"\",COUNTIF([1]Summary!$B$30:$B$1029,INDIRECT($A$14&ROW())),\"\"),\"\")","v":""},"CM02 NESCAFE (C)",18,null,"CM06 HNY GRN TEA (C)",57,null,"CM04 LEMON TEA (C)",65,null,"CM05 GRN TEA (C)",34,null,"DB03 1003:MSR CKN CP",1]
[{"$f":"IFERROR(IF(INDIRECT($A$14&ROW())<>\"\",COUNTIF([1]Summary!$B$30:$B$1029,INDIRECT($A$14&ROW())),\"\"),\"\")","v":""},"CM03 TEA (C)",3,null,"CM07 HONEY (C)",16,null,"CM05 GRN TEA (C)",80,null,"CM06 HNY GRN TEA (C)",86,null,"DB05 1005:FISH&CHIP",1]
[{"$f":"IFERROR(IF(INDIRECT($A$14&ROW())<>\"\",COUNTIF([1]Summary!$B$30:$B$1029,INDIRECT($A$14&ROW())),\"\"),\"\")","v":""},"CM04 LEMON TEA (C)",71,null,"CM08 LEMON HONEY (C)",145,null,"CM06 HNY GRN TEA (C)",100,null,"CM07 HONEY (C)",16,null,"DC01 1101:THAI CHK",1]
[{"$f":"IFERROR(IF(INDIRECT($A$14&ROW())<>\"\",COUNTIF([1]Summary!$B$30:$B$1029,INDIRECT($A$14&ROW())),\"\"),\"\")","v":""},"CM05 GRN TEA (C)",87,null,"CN01 MILO (H)",28,null,"CM07 HONEY (C)",33,null,"CM08 LEMON HONEY (C)",122,null,"DC02 1102:MAMITE CHK",1]
[{"$f":"IFERROR(IF(INDIRECT($A$14&ROW())<>\"\",COUNTIF([1]Summary!$B$30:$B$1029,INDIRECT($A$14&ROW())),\"\"),\"\")","v":""},"CM06 HNY GRN TEA (C)",122,null,"CN02 NESCAFE (H)",12,null,"CM08 LEMON HONEY (C)",219,null,"CN01 MILO (H)",36,null,"DC05 1105:BUTTER CHK",1]
[{"$f":"IFERROR(IF(INDIRECT($A$14&ROW())<>\"\",COUNTIF([1]Summary!$B$30:$B$1029,INDIRECT($A$14&ROW())),\"\"),\"\")","v":""},"CM07 HONEY (C)",23,null,"CN03 TEA (H)",2,null,"CN01 MILO (H)",42,null,"CN02 NESCAFE (H)",11,null,"DC06 1106:HK F.RICE",1]
[{"$f":"IFERROR(IF(INDIRECT($A$14&ROW())<>\"\",COUNTIF([1]Summary!$B$30:$B$1029,INDIRECT($A$14&ROW())),\"\"),\"\")","v":""},"CM08 LEMON HONEY (C)",169,null,"CN04 LEMON TEA (H)",5,null,"CN02 NESCAFE (H)",14,null,"CN03 TEA (H)",9,null,"DC07 1107:SBL F.RICE",2]
[{"$f":"IFERROR(IF(INDIRECT($A$14&ROW())<>\"\",COUNTIF([1]Summary!$B$30:$B$1029,INDIRECT($A$14&ROW())),\"\"),\"\")","v":""},"CN01 MILO (H)",38,null,"CN05 GRN TEA (H)",28,null,"CN03 TEA (H)",3,null,"CN04 LEMON TEA (H)",10,null,"DC15 1115:CHK NOODLE",1]
[{"$f":"IFERROR(IF(INDIRECT($A$14&ROW())<>\"\",COUNTIF([1]Summary!$B$30:$B$1029,INDIRECT($A$14&ROW())),\"\"),\"\")","v":""},"CN02 NESCAFE (H)",17,null,"CN06 HNY GRN TEA (H)",20,null,"CN04 LEMON TEA (H)",11,null,"CN05 GRN TEA (H)",22,null,"DD16 McCain AlaCarte",1]
[{"$f":"IFERROR(IF(INDIRECT($A$14&ROW())<>\"\",COUNTIF([1]Summary!$B$30:$B$1029,INDIRECT($A$14&ROW())),\"\"),\"\")","v":""},"CN03 TEA (H)",9,null,"CN07 HONEY (H)",12,null,"CN05 GRN TEA (H)",34,null,"CN06 HNY GRN TEA (H)",36,null,"DE01 SET 990",2]
[{"$f":"IFERROR(IF(INDIRECT($A$14&ROW())<>\"\",COUNTIF([1]Summary!$B$30:$B$1029,INDIRECT($A$14&ROW())),\"\"),\"\")","v":""},"CN04 LEMON TEA (H)",1,null,"CN08 LEMON HONEY (H)",105,null,"CN06 HNY GRN TEA (H)",68,null,"CN07 HONEY (H)",11,null,"DE02 SET 1390",1]
[{"$f":"IFERROR(IF(INDIRECT($A$14&ROW())<>\"\",COUNTIF([1]Summary!$B$30:$B$1029,INDIRECT($A$14&ROW())),\"\"),\"\")","v":""},"CN05 GRN TEA (H)",31,null,"CN12 CHAMOMILE (H)",3,null,"CN07 HONEY (H)",35,null,"CN08 LEMON HONEY (H)",92,null,"DF09 ADD SAUCE MAYO",1]
[{"$f":"IFERROR(IF(INDIRECT($A$14&ROW())<>\"\",COUNTIF([1]Summary!$B$30:$B$1029,INDIRECT($A$14&ROW())),\"\"),\"\")","v":""},"CN06 HNY GRN TEA (H)",58,null,"CN13 DARJEELING (H)",4,null,"CN08 LEMON HONEY (H)",151,null,"CN12 CHAMOMILE (H)",9,null,"DG01 91001:BP CHK CP",3]
[{"$f":"IFERROR(IF(INDIRECT($A$14&ROW())<>\"\",COUNTIF([1]Summary!$B$30:$B$1029,INDIRECT($A$14&ROW())),\"\"),\"\")","v":""},"CN07 HONEY (H)",15,null,"CN14 EARL GREY (H)",3,null,"CN12 CHAMOMILE (H)",8,null,"CN13 DARJEELING (H)",1,null,"DG02 91002:GVY CHK CP",1]
[{"$f":"IFERROR(IF(INDIRECT($A$14&ROW())<>\"\",COUNTIF([1]Summary!$B$30:$B$1029,INDIRECT($A$14&ROW())),\"\"),\"\")","v":""},"CN08 LEMON HONEY (H)",119,null,"CO02 PLAIN WATER",37,null,"CN13 DARJEELING (H)",2,null,"CN14 EARL GREY (H)",2,null,"DG03 91003:MSR CHK CP",5]
[{"$f":"IFERROR(IF(INDIRECT($A$14&ROW())<>\"\",COUNTIF([1]Summary!$B$30:$B$1029,INDIRECT($A$14&ROW())),\"\"),\"\")","v":""},"CN12 CHAMOMILE (H)",5,null,"DB01 1001:BP CKN CP",5,null,"CN14 EARL GREY (H)",1,null,"CO02 PLAIN WATER",48,null,"DG04 91004:CKN MARY",4]
[{"$f":"IFERROR(IF(INDIRECT($A$14&ROW())<>\"\",COUNTIF([1]Summary!$B$30:$B$1029,INDIRECT($A$14&ROW())),\"\"),\"\")","v":""},"CN13 DARJEELING (H)",2,null,"DB04 1004:CKN MARY",2,null,"CO02 PLAIN WATER",56,null,"DB01 1001:BP CKN CP",1,null,"DG05 91005:FISH&CHIP",5]
[{"$f":"IFERROR(IF(INDIRECT($A$14&ROW())<>\"\",COUNTIF([1]Summary!$B$30:$B$1029,INDIRECT($A$14&ROW())),\"\"),\"\")","v":""},"CN14 EARL GREY (H)",4,null,"DB05 1005:FISH&CHIP",4,null,"DB01 1001:BP CKN CP",2,null,"DB04 1004:CKN MARY",2,null,"DG06 91006:SPAGHETTI",2]
[{"$f":"IFERROR(IF(INDIRECT($A$14&ROW())<>\"\",COUNTIF([1]Summary!$B$30:$B$1029,INDIRECT($A$14&ROW())),\"\"),\"\")","v":""},"CO02 PLAIN WATER",47,null,"DC01 1101:THAI CHK",6,null,"DB02 1002:GVY CHK CP",3,null,"DB05 1005:FISH&CHIP",6,null,"DG07 91007:CHK SALAD",2]
[{"$f":"IFERROR(IF(INDIRECT($A$14&ROW())<>\"\",COUNTIF([1]Summary!$B$30:$B$1029,INDIRECT($A$14&ROW())),\"\"),\"\")","v":""},"DB01 1001:BP CKN CP",4,null,"DC02 1102:MAMITE CHK",6,null,"DB04 1004:CKN MARY",1,null,"DB06 1006:SPAGHETTI",1,null,"DH01 91101:THAI CHK",3]
[{"$f":"IFERROR(IF(INDIRECT($A$14&ROW())<>\"\",COUNTIF([1]Summary!$B$30:$B$1029,INDIRECT($A$14&ROW())),\"\"),\"\")","v":""},"DB03 1003:MSR CKN CP",null,null,"DC03 1103:KO PO CHK",1,null,"DB05 1005:FISH&CHIP",3,null,"DC01 1101:THAI CHK",4,null,"DH02 91102:MAMITE CHK",4]
[{"$f":"IFERROR(IF(INDIRECT($A$14&ROW())<>\"\",COUNTIF([1]Summary!$B$30:$B$1029,INDIRECT($A$14&ROW())),\"\"),\"\")","v":""},"DB05 1005:FISH&CHIP",1,null,"DC05 1105:BUTTER CHK",4,null,"DB06 1006:SPAGHETTI",1,null,"DC02 1102:MAMITE CHK",2,null,"DH03 91103:KO PO CHK",2]
[{"$f":"IFERROR(IF(INDIRECT($A$14&ROW())<>\"\",COUNTIF([1]Summary!$B$30:$B$1029,INDIRECT($A$14&ROW())),\"\"),\"\")","v":""},"DB06 1006:SPAGHETTI",1,null,"DC06 1106:HK F.RICE",2,null,"DC01 1101:THAI CHK",2,null,"DC05 1105:BUTTER CHK",6,null,"DH05 91105:BUTTER CHK",5]
[{"$f":"IFERROR(IF(INDIRECT($A$14&ROW())<>\"\",COUNTIF([1]Summary!$B$30:$B$1029,INDIRECT($A$14&ROW())),\"\"),\"\")","v":""},"DB07 1007:CHK SALAD",1,null,"DC07 1107:SBL F.RICE",2,null,"DC02 1102:MAMITE CHK",4,null,"DC06 1106:HK F.RICE",5,null,"DH06 91106:HK F.RICE",1]
[{"$f":"IFERROR(IF(INDIRECT($A$14&ROW())<>\"\",COUNTIF([1]Summary!$B$30:$B$1029,INDIRECT($A$14&ROW())),\"\"),\"\")","v":""},"DC01 1101:THAI CHK",7,null,"DC09 1109:BP UDON",1,null,"DC03 1103:KO PO CHK",2,null,"DC07 1107:SBL F.RICE",1,null,"DH08 91108:SBL F.MEE",1]
[{"$f":"IFERROR(IF(INDIRECT($A$14&ROW())<>\"\",COUNTIF([1]Summary!$B$30:$B$1029,INDIRECT($A$14&ROW())),\"\"),\"\")","v":""},"DC02 1102:MAMITE CHK",3,null,"DC10 1110:NISSIN",1,null,"DC05 1105:BUTTER CHK",5,null,"DC12 1112:NASI LEMAK",2,null,"DH14 91114:F.BALL MEE",1]
[{"$f":"IFERROR(IF(INDIRECT($A$14&ROW())<>\"\",COUNTIF([1]Summary!$B$30:$B$1029,INDIRECT($A$14&ROW())),\"\"),\"\")","v":""},"DC03 1103:KO PO CHK",1,null,"DC12 1112:NASI LEMAK",1,null,"DC07 1107:SBL F.RICE",7,null,"DC13 1113:KUEY TEOW",6,null,"DH15 91115:CHK NOODLE",1]
[{"$f":"IFERROR(IF(INDIRECT($A$14&ROW())<>\"\",COUNTIF([1]Summary!$B$30:$B$1029,INDIRECT($A$14&ROW())),\"\"),\"\")","v":""},"DC04 1104:S&S CHK",1,null,"DC13 1113:KUEY TEOW",1,null,"DC09 1109:BP UDON",1,null,"DD02 1202:FREN FRIES",1,null,"DI01 91201:SFD STICK",1]
[{"$f":"IFERROR(IF(INDIRECT($A$14&ROW())<>\"\",COUNTIF([1]Summary!$B$30:$B$1029,INDIRECT($A$14&ROW())),\"\"),\"\")","v":""},"DC05 1105:BUTTER CHK",4,null,"DC14 1114:F.BALL MEE",1,null,"DC10 1110:NISSIN",4,null,"DD06 1206:SPRING RL",1,null,"DI10 91301:DUMPLING",1]
[{"$f":"IFERROR(IF(INDIRECT($A$14&ROW())<>\"\",COUNTIF([1]Summary!$B$30:$B$1029,INDIRECT($A$14&ROW())),\"\"),\"\")","v":""},"DC07 1107:SBL F.RICE",4,null,"DD02 1202:FREN FRIES",3,null,"DC13 1113:KUEY TEOW",1,null,"DD11 1302:NUGGET",1,null,"DI11 91302:NUGGET",1]
[{"$f":"IFERROR(IF(INDIRECT($A$14&ROW())<>\"\",COUNTIF([1]Summary!$B$30:$B$1029,INDIRECT($A$14&ROW())),\"\"),\"\")","v":""},"DC09 1109:BP UDON",1,null,"DD05 1205:RAINBOW RL",1,null,"DC15 1115:CHK NOODLE",2,null,"DD12 1303:CHK WING",1,null,"DI12 91303:CHK WING",3]
[{"$f":"IFERROR(IF(INDIRECT($A$14&ROW())<>\"\",COUNTIF([1]Summary!$B$30:$B$1029,INDIRECT($A$14&ROW())),\"\"),\"\")","v":""},"DC10 1110:NISSIN",2,null,"DD11 1302:NUGGET",2,null,"DD02 1202:FREN FRIES",4,null,"DD16 McCain AlaCarte",3,null,"GC01 CARD NEW",1]
[{"$f":"IFERROR(IF(INDIRECT($A$14&ROW())<>\"\",COUNTIF([1]Summary!$B$30:$B$1029,INDIRECT($A$14&ROW())),\"\"),\"\")","v":""},"DC12 1112:NASI LEMAK",1,null,"DD12 1303:CHK WING",3,null,"DD06 1206:SPRING RL",1,null,"DD17 McCain Beer",1,null,"GE01 DUNHILL",1]
[{"$f":"IFERROR(IF(INDIRECT($A$14&ROW())<>\"\",COUNTIF([1]Summary!$B$30:$B$1029,INDIRECT($A$14&ROW())),\"\"),\"\")","v":""},"DC15 1115:CHK NOODLE",2,null,"DD16 McCain AlaCarte",1,null,"DD07 1207:SAUSAGE",1,null,"DE01 SET 990",5,null,"GE07 DUNHILL ICE",2]
[{"$f":"IFERROR(IF(INDIRECT($A$14&ROW())<>\"\",COUNTIF([1]Summary!$B$30:$B$1029,INDIRECT($A$14&ROW())),\"\"),\"\")","v":""},"DD02 1202:FREN FRIES",2,null,"DE01 SET 990",5,null,"DD12 1303:CHK WING",1,null,"DE02 SET 1390",4,null,"ZAB01 1201:SFD STICK",1]
[{"$f":"IFERROR(IF(INDIRECT($A$14&ROW())<>\"\",COUNTIF([1]Summary!$B$30:$B$1029,INDIRECT($A$14&ROW())),\"\"),\"\")","v":""},"DD03 1203:GOLD MROOM",1,null,"DE02 SET 1390",4,null,"DD16 McCain AlaCarte",2,null,"DF03 ADD SAUCE 1000",2,null,"ZAB03 1203:GOLD MROOM",1]
[{"$f":"IFERROR(IF(INDIRECT($A$14&ROW())<>\"\",COUNTIF([1]Summary!$B$30:$B$1029,INDIRECT($A$14&ROW())),\"\"),\"\")","v":""},"DD04 1204:FISHBALL",1,null,"DF01 ADD RICE",1,null,"DD17 McCain Beer",1,null,"DF07 ADD SAUCE C.PADI",4,null,"ZAB07 1207:SAUSAGE",2]
[{"$f":"IFERROR(IF(INDIRECT($A$14&ROW())<>\"\",COUNTIF([1]Summary!$B$30:$B$1029,INDIRECT($A$14&ROW())),\"\"),\"\")","v":""},"DD06 1206:SPRING RL",1,null,"DF02 ADD F.EGG",1,null,"DE01 SET 990",6,null,"DF09 ADD SAUCE MAYO",4,null,"ZAC03 1303:CHK WING",1]
[{"$f":"IFERROR(IF(INDIRECT($A$14&ROW())<>\"\",COUNTIF([1]Summary!$B$30:$B$1029,INDIRECT($A$14&ROW())),\"\"),\"\")","v":""},"DD12 1303:CHK WING",4,null,"DF07 ADD SAUCE C.PADI",7,null,"DE02 SET 1390",7,null,"DF14 ADD SAUCE TOMATO",2,null,"ZAC04 1304:IKAN BILIS",1]
[{"$f":"IFERROR(IF(INDIRECT($A$14&ROW())<>\"\",COUNTIF([1]Summary!$B$30:$B$1029,INDIRECT($A$14&ROW())),\"\"),\"\")","v":""},"DD13 1304:IKAN BILIS",1,null,"DF09 ADD SAUCE MAYO",2,null,"DF01 ADD RICE",2,null,"DF15 ADD TATA SAUCE",1,null,"ZAD01 COLD",3]
[{"$f":"IFERROR(IF(INDIRECT($A$14&ROW())<>\"\",COUNTIF([1]Summary!$B$30:$B$1029,INDIRECT($A$14&ROW())),\"\"),\"\")","v":""},"DD16 McCain AlaCarte",4,null,"DF11 ADD SAUCE MR",1,null,"DF05 ADD SAUCE BP",1,null,"DF16 ADD SAUCE CHEES",1,null,"ZAD03 WARM",11]
[{"$f":"IFERROR(IF(INDIRECT($A$14&ROW())<>\"\",COUNTIF([1]Summary!$B$30:$B$1029,INDIRECT($A$14&ROW())),\"\"),\"\")","v":""},"DE01 SET 990",6,null,"DF12 ADD SAUCE SAMBAL",1,null,"DF07 ADD SAUCE C.PADI",2,null,"DG01 91001:BP CHK CP",12,null,"ZAD04 LESS ICE",7]
[{"$f":"IFERROR(IF(INDIRECT($A$14&ROW())<>\"\",COUNTIF([1]Summary!$B$30:$B$1029,INDIRECT($A$14&ROW())),\"\"),\"\")","v":""},"DE02 SET 1390",9,null,"DG01 91001:BP CHK CP",8,null,"DF09 ADD SAUCE MAYO",2,null,"DG03 91003:MSR CHK CP",12,null,"ZAD06 NO ICE",3]
[{"$f":"IFERROR(IF(INDIRECT($A$14&ROW())<>\"\",COUNTIF([1]Summary!$B$30:$B$1029,INDIRECT($A$14&ROW())),\"\"),\"\")","v":""},"DF01 ADD RICE",1,null,"DG02 91002:GVY CHK CP",1,null,"DF12 ADD SAUCE SAMBAL",1,null,"DG04 91004:CKN MARY",14,null,"ZAD13 ADD LEMON",1]
[{"$f":"IFERROR(IF(INDIRECT($A$14&ROW())<>\"\",COUNTIF([1]Summary!$B$30:$B$1029,INDIRECT($A$14&ROW())),\"\"),\"\")","v":""},"DF03 ADD SAUCE 1000",1,null,"DG03 91003:MSR CHK CP",15,null,"DF14 ADD SAUCE TOMATO",1,null,"DG05 91005:FISH&CHIP",12,null,"ZAD16 2 CAWAN ICE",1]
[{"$f":"IFERROR(IF(INDIRECT($A$14&ROW())<>\"\",COUNTIF([1]Summary!$B$30:$B$1029,INDIRECT($A$14&ROW())),\"\"),\"\")","v":""},"DF05 ADD SAUCE BP",1,null,"DG04 91004:CKN MARY",13,null,"DF15 ADD TATA SAUCE",4,null,"DG06 91006:SPAGHETTI",9,null,"ZAD17 WITHOUT SUGAR",1]
[{"$f":"IFERROR(IF(INDIRECT($A$14&ROW())<>\"\",COUNTIF([1]Summary!$B$30:$B$1029,INDIRECT($A$14&ROW())),\"\"),\"\")","v":""},"DF06 ADD SAUCE BUTTER",1,null,"DG05 91005:FISH&CHIP",10,null,"DG01 91001:BP CHK CP",21,null,"DG07 91007:CHK SALAD",1,null,"ZAD20 JUG",6]
[{"$f":"IFERROR(IF(INDIRECT($A$14&ROW())<>\"\",COUNTIF([1]Summary!$B$30:$B$1029,INDIRECT($A$14&ROW())),\"\"),\"\")","v":""},"DF07 ADD SAUCE C.PADI",1,null,"DG06 91006:SPAGHETTI",6,null,"DG02 91002:GVY CHK CP",5,null,"DH01 91101:THAI CHK",3,null,"ZAD36 BEER GLASS",10]
[{"$f":"IFERROR(IF(INDIRECT($A$14&ROW())<>\"\",COUNTIF([1]Summary!$B$30:$B$1029,INDIRECT($A$14&ROW())),\"\"),\"\")","v":""},"DF09 ADD SAUCE MAYO",3,null,"DG07 91007:CHK SALAD",9,null,"DG03 91003:MSR CHK CP",18,null,"DH02 91102:MAMITE CHK",7,null,"ZAD37 ICE BUCKET",1]
[{"$f":"IFERROR(IF(INDIRECT($A$14&ROW())<>\"\",COUNTIF([1]Summary!$B$30:$B$1029,INDIRECT($A$14&ROW())),\"\"),\"\")","v":""},"DF12 ADD SAUCE SAMBAL",2,null,"DH01 91101:THAI CHK",6,null,"DG04 91004:CKN MARY",4,null,"DH03 91103:KO PO CHK",2,null,"ZZZZZ WRONG KEY"]
[{"$f":"IFERROR(IF(INDIRECT($A$14&ROW())<>\"\",COUNTIF([1]Summary!$B$30:$B$1029,INDIRECT($A$14&ROW())),\"\"),\"\")","v":""},"DF14 ADD SAUCE TOMATO",3,null,"DH02 91102:MAMITE CHK",2,null,"DG05 91005:FISH&CHIP",22,null,"DH04 91104:S&S CHK",3]
[{"$f":"IFERROR(IF(INDIRECT($A$14&ROW())<>\"\",COUNTIF([1]Summary!$B$30:$B$1029,INDIRECT($A$14&ROW())),\"\"),\"\")","v":""},"DF15 ADD TATA SAUCE",3,null,"DH03 91103:KO PO CHK",2,null,"DG06 91006:SPAGHETTI",5,null,"DH05 91105:BUTTER CHK",10]
[{"$f":"IFERROR(IF(INDIRECT($A$14&ROW())<>\"\",COUNTIF([1]Summary!$B$30:$B$1029,INDIRECT($A$14&ROW())),\"\"),\"\")","v":""},"DG01 91001:BP CHK CP",24,null,"DH04 91104:S&S CHK",1,null,"DG07 91007:CHK SALAD",1,null,"DH06 91106:HK F.RICE",2]
[{"$f":"IFERROR(IF(INDIRECT($A$14&ROW())<>\"\",COUNTIF([1]Summary!$B$30:$B$1029,INDIRECT($A$14&ROW())),\"\"),\"\")","v":""},"DG02 91002:GVY CHK CP",10,null,"DH05 91105:BUTTER CHK",8,null,"DH01 91101:THAI CHK",5,null,"DH07 91107:SBL F.RICE",3]
[{"$f":"IFERROR(IF(INDIRECT($A$14&ROW())<>\"\",COUNTIF([1]Summary!$B$30:$B$1029,INDIRECT($A$14&ROW())),\"\"),\"\")","v":""},"DG03 91003:MSR CHK CP",33,null,"DH06 91106:HK F.RICE",8,null,"DH02 91102:MAMITE CHK",6,null,"DH09 91109:BP UDON",4]
[{"$f":"IFERROR(IF(INDIRECT($A$14&ROW())<>\"\",COUNTIF([1]Summary!$B$30:$B$1029,INDIRECT($A$14&ROW())),\"\"),\"\")","v":""},"DG04 91004:CKN MARY",15,null,"DH07 91107:SBL F.RICE",1,null,"DH04 91104:S&S CHK",2,null,"DH12 91112:NASI LEMAK",3]
[{"$f":"IFERROR(IF(INDIRECT($A$14&ROW())<>\"\",COUNTIF([1]Summary!$B$30:$B$1029,INDIRECT($A$14&ROW())),\"\"),\"\")","v":""},"DG05 91005:FISH&CHIP",40,null,"DH09 91109:BP UDON",2,null,"DH05 91105:BUTTER CHK",14,null,"DH13 91113:KUEY TEOW",2]
[{"$f":"IFERROR(IF(INDIRECT($A$14&ROW())<>\"\",COUNTIF([1]Summary!$B$30:$B$1029,INDIRECT($A$14&ROW())),\"\"),\"\")","v":""},"DG06 91006:SPAGHETTI",14,null,"DH10 91110:NISSIN",1,null,"DH06 91106:HK F.RICE",8,null,"DH14 91114:F.BALL MEE",2]
[{"$f":"IFERROR(IF(INDIRECT($A$14&ROW())<>\"\",COUNTIF([1]Summary!$B$30:$B$1029,INDIRECT($A$14&ROW())),\"\"),\"\")","v":""},"DG07 91007:CHK SALAD",7,null,"DH12 91112:NASI LEMAK",1,null,"DH07 91107:SBL F.RICE",5,null,"DH15 91115:CHK NOODLE",2]
[{"$f":"IFERROR(IF(INDIRECT($A$14&ROW())<>\"\",COUNTIF([1]Summary!$B$30:$B$1029,INDIRECT($A$14&ROW())),\"\"),\"\")","v":""},"DH01 91101:THAI CHK",8,null,"DH13 91113:KUEY TEOW",3,null,"DH08 91108:SBL F.MEE",1,null,"DI02 91202:FREN FRIES",1]
[{"$f":"IFERROR(IF(INDIRECT($A$14&ROW())<>\"\",COUNTIF([1]Summary!$B$30:$B$1029,INDIRECT($A$14&ROW())),\"\"),\"\")","v":""},"DH02 91102:MAMITE CHK",13,null,"DH14 91114:F.BALL MEE",1,null,"DH09 91109:BP UDON",2,null,"DI03 91203:GOLD MROOM",2]
[{"$f":"IFERROR(IF(INDIRECT($A$14&ROW())<>\"\",COUNTIF([1]Summary!$B$30:$B$1029,INDIRECT($A$14&ROW())),\"\"),\"\")","v":""},"DH03 91103:KO PO CHK",4,null,"DH15 91115:CHK NOODLE",1,null,"DH10 91110:NISSIN",5,null,"DI06 91206:SPRING RL",2]
[{"$f":"IFERROR(IF(INDIRECT($A$14&ROW())<>\"\",COUNTIF([1]Summary!$B$30:$B$1029,INDIRECT($A$14&ROW())),\"\"),\"\")","v":""},"DH04 91104:S&S CHK",8,null,"DI02 91202:FREN FRIES",1,null,"DH11 91111:VEG RICE",4,null,"DI10 91301:DUMPLING",2]
[{"$f":"IFERROR(IF(INDIRECT($A$14&ROW())<>\"\",COUNTIF([1]Summary!$B$30:$B$1029,INDIRECT($A$14&ROW())),\"\"),\"\")","v":""},"DH05 91105:BUTTER CHK",17,null,"DI10 91301:DUMPLING",1,null,"DH12 91112:NASI LEMAK",6,null,"DI11 91302:NUGGET",1]
[{"$f":"IFERROR(IF(INDIRECT($A$14&ROW())<>\"\",COUNTIF([1]Summary!$B$30:$B$1029,INDIRECT($A$14&ROW())),\"\"),\"\")","v":""},"DH06 91106:HK F.RICE",8,null,"DI11 91302:NUGGET",1,null,"DH13 91113:KUEY TEOW",7,null,"DI12 91303:CHK WING",5]
[{"$f":"IFERROR(IF(INDIRECT($A$14&ROW())<>\"\",COUNTIF([1]Summary!$B$30:$B$1029,INDIRECT($A$14&ROW())),\"\"),\"\")","v":""},"DH07 91107:SBL F.RICE",9,null,"DI12 91303:CHK WING",1,null,"DH14 91114:F.BALL MEE",1,null,"DI14 91305:THAI RL",1]
[{"$f":"IFERROR(IF(INDIRECT($A$14&ROW())<>\"\",COUNTIF([1]Summary!$B$30:$B$1029,INDIRECT($A$14&ROW())),\"\"),\"\")","v":""},"DH08 91108:SBL F.MEE",2,null,"GC01 CARD NEW",1,null,"DH15 91115:CHK NOODLE",2,null,"EA01 TIDBITS",2]
[{"$f":"IFERROR(IF(INDIRECT($A$14&ROW())<>\"\",COUNTIF([1]Summary!$B$30:$B$1029,INDIRECT($A$14&ROW())),\"\"),\"\")","v":""},"DH09 91109:BP UDON",6,null,"GC02 CARD REPLACE",1,null,"DI01 91201:SFD STICK",1,null,"GC01 CARD NEW",1]
[{"$f":"IFERROR(IF(INDIRECT($A$14&ROW())<>\"\",COUNTIF([1]Summary!$B$30:$B$1029,INDIRECT($A$14&ROW())),\"\"),\"\")","v":""},"DH10 91110:NISSIN",1,null,"GC03 Student Mem Card",2,null,"DI02 91202:FREN FRIES",1,null,"GC02 CARD REPLACE",1]
[{"$f":"IFERROR(IF(INDIRECT($A$14&ROW())<>\"\",COUNTIF([1]Summary!$B$30:$B$1029,INDIRECT($A$14&ROW())),\"\"),\"\")","v":""},"DH11 91111:VEG RICE",1,null,"GD02 MIKE COVER 03",6,null,"DI03 91203:GOLD MROOM",1,null,"GD02 MIKE COVER 03",5]
[{"$f":"IFERROR(IF(INDIRECT($A$14&ROW())<>\"\",COUNTIF([1]Summary!$B$30:$B$1029,INDIRECT($A$14&ROW())),\"\"),\"\")","v":""},"DH12 91112:NASI LEMAK",10,null,"GE01 DUNHILL",2,null,"DI11 91302:NUGGET",2,null,"GE01 DUNHILL",2]
[{"$f":"IFERROR(IF(INDIRECT($A$14&ROW())<>\"\",COUNTIF([1]Summary!$B$30:$B$1029,INDIRECT($A$14&ROW())),\"\"),\"\")","v":""},"DH13 91113:KUEY TEOW",8,null,"GE02 DUNHILL LITE",1,null,"DI12 91303:CHK WING",1,null,"GE03 DUNHILL MT",1]
[{"$f":"IFERROR(IF(INDIRECT($A$14&ROW())<>\"\",COUNTIF([1]Summary!$B$30:$B$1029,INDIRECT($A$14&ROW())),\"\"),\"\")","v":""},"DH14 91114:F.BALL MEE",4,null,"GE05 DUNHILL BOOST",1,null,"DI13 91304:IKAN BILIS",1,null,"GE07 DUNHILL ICE",1]
[{"$f":"IFERROR(IF(INDIRECT($A$14&ROW())<>\"\",COUNTIF([1]Summary!$B$30:$B$1029,INDIRECT($A$14&ROW())),\"\"),\"\")","v":""},"DH15 91115:CHK NOODLE",6,null,"GE06 DUNHILL SWITCH",1,null,"EA01 TIDBITS",1,null,"ZAB02 1202:FRIES",4]
[{"$f":"IFERROR(IF(INDIRECT($A$14&ROW())<>\"\",COUNTIF([1]Summary!$B$30:$B$1029,INDIRECT($A$14&ROW())),\"\"),\"\")","v":""},"DI02 91202:FREN FRIES",2,null,"ZAB02 1202:FRIES",4,null,"GA09 LIGHTER",2,null,"ZAB03 1203:GOLD MROOM",1]
[{"$f":"IFERROR(IF(INDIRECT($A$14&ROW())<>\"\",COUNTIF([1]Summary!$B$30:$B$1029,INDIRECT($A$14&ROW())),\"\"),\"\")","v":""},"DI03 91203:GOLD MROOM",1,null,"ZAB03 1203:GOLD MROOM",1,null,"GC01 CARD NEW",2,null,"ZAB06 1206:SPRING RL",2]
[{"$f":"IFERROR(IF(INDIRECT($A$14&ROW())<>\"\",COUNTIF([1]Summary!$B$30:$B$1029,INDIRECT($A$14&ROW())),\"\"),\"\")","v":""},"DI06 91206:SPRING RL",2,null,"ZAB04 1204:F.BALL",1,null,"GD02 MIKE COVER 03",6,null,"ZAB07 1207:SAUSAGE",3]
[{"$f":"IFERROR(IF(INDIRECT($A$14&ROW())<>\"\",COUNTIF([1]Summary!$B$30:$B$1029,INDIRECT($A$14&ROW())),\"\"),\"\")","v":""},"DI07 91207:SAUSAGE",2,null,"ZAB06 1206:SPRING RL",2,null,"GE01 DUNHILL",4,null,"ZAC02 1302:NUGGET",4]
[{"$f":"IFERROR(IF(INDIRECT($A$14&ROW())<>\"\",COUNTIF([1]Summary!$B$30:$B$1029,INDIRECT($A$14&ROW())),\"\"),\"\")","v":""},"DI10 91301:DUMPLING",2,null,"ZAB07 1207:SAUSAGE",2,null,"GE02 DUNHILL LITE",3,null,"ZAC03 1303:CHK WING",3]
[{"$f":"IFERROR(IF(INDIRECT($A$14&ROW())<>\"\",COUNTIF([1]Summary!$B$30:$B$1029,INDIRECT($A$14&ROW())),\"\"),\"\")","v":""},"DI11 91302:NUGGET",6,null,"ZAC02 1302:NUGGET",1,null,"GF02 KENT FUTURA",1,null,"ZAC05 1305:THAI RL",1]
[{"$f":"IFERROR(IF(INDIRECT($A$14&ROW())<>\"\",COUNTIF([1]Summary!$B$30:$B$1029,INDIRECT($A$14&ROW())),\"\"),\"\")","v":""},"DI12 91303:CHK WING",8,null,"ZAC03 1303:CHK WING",7,null,"ZAA02 HEINEKEN EX BKT",3,null,"ZAD01 COLD",3]
[{"$f":"IFERROR(IF(INDIRECT($A$14&ROW())<>\"\",COUNTIF([1]Summary!$B$30:$B$1029,INDIRECT($A$14&ROW())),\"\"),\"\")","v":""},"DI13 91304:IKAN BILIS",3,null,"ZAD01 COLD",4,null,"ZAB02 1202:FRIES",4,null,"ZAD02 HOT",3]
[{"$f":"IFERROR(IF(INDIRECT($A$14&ROW())<>\"\",COUNTIF([1]Summary!$B$30:$B$1029,INDIRECT($A$14&ROW())),\"\"),\"\")","v":""},"GA09 LIGHTER",1,null,"ZAD02 HOT",2,null,"ZAB03 1203:GOLD MROOM",2,null,"ZAD03 WARM",33]
[{"$f":"IFERROR(IF(INDIRECT($A$14&ROW())<>\"\",COUNTIF([1]Summary!$B$30:$B$1029,INDIRECT($A$14&ROW())),\"\"),\"\")","v":""},"GC01 CARD NEW",2,null,"ZAD03 WARM",24,null,"ZAB04 1204:F.BALL",2,null,"ZAD04 LESS ICE",32]
[{"$f":"IFERROR(IF(INDIRECT($A$14&ROW())<>\"\",COUNTIF([1]Summary!$B$30:$B$1029,INDIRECT($A$14&ROW())),\"\"),\"\")","v":""},"GD02 MIKE COVER 03",5,null,"ZAD04 LESS ICE",15,null,"ZAB06 1206:SPRING RL",1,null,"ZAD05 MORE ICE",1]
[{"$f":"IFERROR(IF(INDIRECT($A$14&ROW())<>\"\",COUNTIF([1]Summary!$B$30:$B$1029,INDIRECT($A$14&ROW())),\"\"),\"\")","v":""},"GE01 DUNHILL",1,null,"ZAD05 MORE ICE",2,null,"ZAB07 1207:SAUSAGE",3,null,"ZAD06 NO ICE",12]
[{"$f":"IFERROR(IF(INDIRECT($A$14&ROW())<>\"\",COUNTIF([1]Summary!$B$30:$B$1029,INDIRECT($A$14&ROW())),\"\"),\"\")","v":""},"GE02 DUNHILL LITE",2,null,"ZAD06 NO ICE",9,null,"ZAC01 1301:DUMPLING",3,null,"ZAD13 ADD LEMON",15]
[{"$f":"IFERROR(IF(INDIRECT($A$14&ROW())<>\"\",COUNTIF([1]Summary!$B$30:$B$1029,INDIRECT($A$14&ROW())),\"\"),\"\")","v":""},"GE07 DUNHILL ICE",2,null,"ZAD07 LESS SWEET",1,null,"ZAC02 1302:NUGGET",5,null,"ZAD14 MORE SWEET",1]
[{"$f":"IFERROR(IF(INDIRECT($A$14&ROW())<>\"\",COUNTIF([1]Summary!$B$30:$B$1029,INDIRECT($A$14&ROW())),\"\"),\"\")","v":""},"ZAB02 1202:FRIES",3,null,"ZAD12 NO VEGGIE",1,null,"ZAC03 1303:CHK WING",6,null,"ZAD17 WITHOUT SUGAR",1]
[{"$f":"IFERROR(IF(INDIRECT($A$14&ROW())<>\"\",COUNTIF([1]Summary!$B$30:$B$1029,INDIRECT($A$14&ROW())),\"\"),\"\")","v":""},"ZAB03 1203:GOLD MROOM",3,null,"ZAD13 ADD LEMON",14,null,"ZAD01 COLD",1,null,"ZAD20 JUG",16]
[{"$f":"IFERROR(IF(INDIRECT($A$14&ROW())<>\"\",COUNTIF([1]Summary!$B$30:$B$1029,INDIRECT($A$14&ROW())),\"\"),\"\")","v":""},"ZAB04 1204:F.BALL",1,null,"ZAD14 MORE SWEET",2,null,"ZAD02 HOT",1,null,"ZAD26 + CILLI PADI",1]
[{"$f":"IFERROR(IF(INDIRECT($A$14&ROW())<>\"\",COUNTIF([1]Summary!$B$30:$B$1029,INDIRECT($A$14&ROW())),\"\"),\"\")","v":""},"ZAB05 1205:RAINBOW RL",2,null,"ZAD16 2 CWAN ICE",2,null,"ZAD03 WARM",55,null,"ZAD36 BEER GLASS",41]
[{"$f":"IFERROR(IF(INDIRECT($A$14&ROW())<>\"\",COUNTIF([1]Summary!$B$30:$B$1029,INDIRECT($A$14&ROW())),\"\"),\"\")","v":""},"ZAB07 1207:SAUSAGE",3,null,"ZAD17 WITHOUT SUGAR",2,null,"ZAD04 LESS ICE",77,null,"ZAD37 ICE BUCKET",2]
[{"$f":"IFERROR(IF(INDIRECT($A$14&ROW())<>\"\",COUNTIF([1]Summary!$B$30:$B$1029,INDIRECT($A$14&ROW())),\"\"),\"\")","v":""},"ZAC01 1301:DUMPLING",2,null,"ZAD20 JUG",16,null,"ZAD05 MORE ICE",2,null,"ZZZZZ CHANGE K DINNER"]
[{"$f":"IFERROR(IF(INDIRECT($A$14&ROW())<>\"\",COUNTIF([1]Summary!$B$30:$B$1029,INDIRECT($A$14&ROW())),\"\"),\"\")","v":""},"ZAC02 1302:NUGGET",4,null,"ZAD36 BEER GLASS",37,null,"ZAD06 NO ICE",10]
[{"$f":"IFERROR(IF(INDIRECT($A$14&ROW())<>\"\",COUNTIF([1]Summary!$B$30:$B$1029,INDIRECT($A$14&ROW())),\"\"),\"\")","v":""},"ZAC03 1303:CHK WING",8,null,"ZAD37 ICE BUCKET",9,null,"ZAD07 LESS SWEET",2]
[{"$f":"IFERROR(IF(INDIRECT($A$14&ROW())<>\"\",COUNTIF([1]Summary!$B$30:$B$1029,INDIRECT($A$14&ROW())),\"\"),\"\")","v":""},"ZAC04 1304:IKAN BILIS",2,null,"ZZZZZ CHANGE K DINNER",null,null,"ZAD10 LESS SPICY",1]
[{"$f":"IFERROR(IF(INDIRECT($A$14&ROW())<>\"\",COUNTIF([1]Summary!$B$30:$B$1029,INDIRECT($A$14&ROW())),\"\"),\"\")","v":""},"ZAC05 1305:THAI RL",2,null,null,null,null,"ZAD12 NO VEGGIE",1]
[{"$f":"IFERROR(IF(INDIRECT($A$14&ROW())<>\"\",COUNTIF([1]Summary!$B$30:$B$1029,INDIRECT($A$14&ROW())),\"\"),\"\")","v":""},"ZAD01 COLD",7,null,null,null,null,"ZAD13 ADD LEMON",11]
[{"$f":"IFERROR(IF(INDIRECT($A$14&ROW())<>\"\",COUNTIF([1]Summary!$B$30:$B$1029,INDIRECT($A$14&ROW())),\"\"),\"\")","v":""},"ZAD02 HOT",2,null,null,null,null,"ZAD16 DUNWAN SUGER",3]
[{"$f":"IFERROR(IF(INDIRECT($A$14&ROW())<>\"\",COUNTIF([1]Summary!$B$30:$B$1029,INDIRECT($A$14&ROW())),\"\"),\"\")","v":""},"ZAD03 WARM",28,null,null,null,null,"ZAD17 WITHOUT SUGAR",3]
[{"$f":"IFERROR(IF(INDIRECT($A$14&ROW())<>\"\",COUNTIF([1]Summary!$B$30:$B$1029,INDIRECT($A$14&ROW())),\"\"),\"\")","v":""},"ZAD04 LESS ICE",35,null,null,null,null,"ZAD20 JUG",17]
[{"$f":"IFERROR(IF(INDIRECT($A$14&ROW())<>\"\",COUNTIF([1]Summary!$B$30:$B$1029,INDIRECT($A$14&ROW())),\"\"),\"\")","v":""},"ZAD06 NO ICE",14,null,null,null,null,"ZAD26 + CILLI PADI",1]
[{"$f":"IFERROR(IF(INDIRECT($A$14&ROW())<>\"\",COUNTIF([1]Summary!$B$30:$B$1029,INDIRECT($A$14&ROW())),\"\"),\"\")","v":""},"ZAD07 LESS SWEET",3,null,null,null,null,"ZAD34 + SAUCE TATAR",1]
[{"$f":"IFERROR(IF(INDIRECT($A$14&ROW())<>\"\",COUNTIF([1]Summary!$B$30:$B$1029,INDIRECT($A$14&ROW())),\"\"),\"\")","v":""},"ZAD13 ADD LEMON",7,null,null,null,null,"ZAD36 BEER GLASS",55]
[{"$f":"IFERROR(IF(INDIRECT($A$14&ROW())<>\"\",COUNTIF([1]Summary!$B$30:$B$1029,INDIRECT($A$14&ROW())),\"\"),\"\")","v":""},"ZAD16 ADD CILI SAUCE",3,null,null,null,null,"ZAD37 ICE BUCKET",5]
[{"$f":"IFERROR(IF(INDIRECT($A$14&ROW())<>\"\",COUNTIF([1]Summary!$B$30:$B$1029,INDIRECT($A$14&ROW())),\"\"),\"\")","v":""},"ZAD17 WITHOUT SUGAR",2,null,null,null,null,"ZZZZZ WRONG KEY"]
[{"$f":"IFERROR(IF(INDIRECT($A$14&ROW())<>\"\",COUNTIF([1]Summary!$B$30:$B$1029,INDIRECT($A$14&ROW())),\"\"),\"\")","v":""},"ZAD20 JUG",15]
[{"$f":"IFERROR(IF(INDIRECT($A$14&ROW())<>\"\",COUNTIF([1]Summary!$B$30:$B$1029,INDIRECT($A$14&ROW())),\"\"),\"\")","v":""},"ZAD36 BEER GLASS",57]
[{"$f":"IFERROR(IF(INDIRECT($A$14&ROW())<>\"\",COUNTIF([1]Summary!$B$30:$B$1029,INDIRECT($A$14&ROW())),\"\"),\"\")","v":""},"ZAD37 ICE BUCKET",2]
[{"$f":"IFERROR(IF(INDIRECT($A$14&ROW())<>\"\",COUNTIF([1]Summary!$B$30:$B$1029,INDIRECT($A$14&ROW())),\"\"),\"\")","v":""},"ZZZZZ CUS MISTAKE"]
[{"$f":"IFERROR(IF(INDIRECT($A$14&ROW())<>\"\",COUNTIF([1]Summary!$B$30:$B$1029,INDIRECT($A$14&ROW())),\"\"),\"\")","v":""}]
[{"$f":"IFERROR(IF(INDIRECT($A$14&ROW())<>\"\",COUNTIF([1]Summary!$B$30:$B$1029,INDIRECT($A$14&ROW())),\"\"),\"\")","v":""}]
[{"$f":"IFERROR(IF(INDIRECT($A$14&ROW())<>\"\",COUNTIF([1]Summary!$B$30:$B$1029,INDIRECT($A$14&ROW())),\"\"),\"\")","v":""}]
[{"$f":"IFERROR(IF(INDIRECT($A$14&ROW())<>\"\",COUNTIF([1]Summary!$B$30:$B$1029,INDIRECT($A$14&ROW())),\"\"),\"\")","v":""}]
[{"$f":"IFERROR(IF(INDIRECT($A$14&ROW())<>\"\",COUNTIF([1]Summary!$B$30:$B$1029,INDIRECT($A$14&ROW())),\"\"),\"\")","v":""}]
[{"$f":"IFERROR(IF(INDIRECT($A$14&ROW())<>\"\",COUNTIF([1]Summary!$B$30:$B$1029,INDIRECT($A$14&ROW())),\"\"),\"\")","v":""}]
[{"$f":"IFERROR(IF(INDIRECT($A$14&ROW())<>\"\",COUNTIF([1]Summary!$B$30:$B$1029,INDIRECT($A$14&ROW())),\"\"),\"\")","v":""}]
[{"$f":"IFERROR(IF(INDIRECT($A$14&ROW())<>\"\",COUNTIF([1]Summary!$B$30:$B$1029,INDIRECT($A$14&ROW())),\"\"),\"\")","v":""}]
[{"$f":"IFERROR(IF(INDIRECT($A$14&ROW())<>\"\",COUNTIF([1]Summary!$B$30:$B$1029,INDIRECT($A$14&ROW())),\"\"),\"\")","v":""}]
[{"$f":"IFERROR(IF(INDIRECT($A$14&ROW())<>\"\",COUNTIF([1]Summary!$B$30:$B$1029,INDIRECT($A$14&ROW())),\"\"),\"\")","v":""}]
[{"$f":"IFERROR(IF(INDIRECT($A$14&ROW())<>\"\",COUNTIF([1]Summary!$B$30:$B$1029,INDIRECT($A$14&ROW())),\"\"),\"\")","v":""}]
[{"$f":"IFERROR(IF(INDIRECT($A$14&ROW())<>\"\",COUNTIF([1]Summary!$B$30:$B$1029,INDIRECT($A$14&ROW())),\"\"),\"\")","v":""}]
[{"$f":"IFERROR(IF(INDIRECT($A$14&ROW())<>\"\",COUNTIF([1]Summary!$B$30:$B$1029,INDIRECT($A$14&ROW())),\"\"),\"\")","v":""}]
[{"$f":"IFERROR(IF(INDIRECT($A$14&ROW())<>\"\",COUNTIF([1]Summary!$B$30:$B$1029,INDIRECT($A$14&ROW())),\"\"),\"\")","v":""}]
[{"$f":"IFERROR(IF(INDIRECT($A$14&ROW())<>\"\",COUNTIF([1]Summary!$B$30:$B$1029,INDIRECT($A$14&ROW())),\"\"),\"\")","v":""}]
[{"$f":"IFERROR(IF(INDIRECT($A$14&ROW())<>\"\",COUNTIF([1]Summary!$B$30:$B$1029,INDIRECT($A$14&ROW())),\"\"),\"\")","v":""}]
[{"$f":"IFERROR(IF(INDIRECT($A$14&ROW())<>\"\",COUNTIF([1]Summary!$B$30:$B$1029,INDIRECT($A$14&ROW())),\"\"),\"\")","v":""}]
[{"$f":"IFERROR(IF(INDIRECT($A$14&ROW())<>\"\",COUNTIF([1]Summary!$B$30:$B$1029,INDIRECT($A$14&ROW())),\"\"),\"\")","v":""}]
[{"$f":"IFERROR(IF(INDIRECT($A$14&ROW())<>\"\",COUNTIF([1]Summary!$B$30:$B$1029,INDIRECT($A$14&ROW())),\"\"),\"\")","v":""}]
[{"$f":"IFERROR(IF(INDIRECT($A$14&ROW())<>\"\",COUNTIF([1]Summary!$B$30:$B$1029,INDIRECT($A$14&ROW())),\"\"),\"\")","v":""}]
[{"$f":"IFERROR(IF(INDIRECT($A$14&ROW())<>\"\",COUNTIF([1]Summary!$B$30:$B$1029,INDIRECT($A$14&ROW())),\"\"),\"\")","v":""}]
[{"$f":"IFERROR(IF(INDIRECT($A$14&ROW())<>\"\",COUNTIF([1]Summary!$B$30:$B$1029,INDIRECT($A$14&ROW())),\"\"),\"\")","v":""}]
[{"$f":"IFERROR(IF(INDIRECT($A$14&ROW())<>\"\",COUNTIF([1]Summary!$B$30:$B$1029,INDIRECT($A$14&ROW())),\"\"),\"\")","v":""}]
[{"$f":"IFERROR(IF(INDIRECT($A$14&ROW())<>\"\",COUNTIF([1]Summary!$B$30:$B$1029,INDIRECT($A$14&ROW())),\"\"),\"\")","v":""}]
[{"$f":"IFERROR(IF(INDIRECT($A$14&ROW())<>\"\",COUNTIF([1]Summary!$B$30:$B$1029,INDIRECT($A$14&ROW())),\"\"),\"\")","v":""}]
[{"$f":"IFERROR(IF(INDIRECT($A$14&ROW())<>\"\",COUNTIF([1]Summary!$B$30:$B$1029,INDIRECT($A$14&ROW())),\"\"),\"\")","v":""}]
[{"$f":"IFERROR(IF(INDIRECT($A$14&ROW())<>\"\",COUNTIF([1]Summary!$B$30:$B$1029,INDIRECT($A$14&ROW())),\"\"),\"\")","v":""}]
[{"$f":"IFERROR(IF(INDIRECT($A$14&ROW())<>\"\",COUNTIF([1]Summary!$B$30:$B$1029,INDIRECT($A$14&ROW())),\"\"),\"\")","v":""}]
[{"$f":"IFERROR(IF(INDIRECT($A$14&ROW())<>\"\",COUNTIF([1]Summary!$B$30:$B$1029,INDIRECT($A$14&ROW())),\"\"),\"\")","v":""}]
[{"$f":"IFERROR(IF(INDIRECT($A$14&ROW())<>\"\",COUNTIF([1]Summary!$B$30:$B$1029,INDIRECT($A$14&ROW())),\"\"),\"\")","v":""}]
[{"$f":"IFERROR(IF(INDIRECT($A$14&ROW())<>\"\",COUNTIF([1]Summary!$B$30:$B$1029,INDIRECT($A$14&ROW())),\"\"),\"\")","v":""}]
[{"$f":"IFERROR(IF(INDIRECT($A$14&ROW())<>\"\",COUNTIF([1]Summary!$B$30:$B$1029,INDIRECT($A$14&ROW())),\"\"),\"\")","v":""}]
[{"$f":"IFERROR(IF(INDIRECT($A$14&ROW())<>\"\",COUNTIF([1]Summary!$B$30:$B$1029,INDIRECT($A$14&ROW())),\"\"),\"\")","v":""}]
[{"$f":"IFERROR(IF(INDIRECT($A$14&ROW())<>\"\",COUNTIF([1]Summary!$B$30:$B$1029,INDIRECT($A$14&ROW())),\"\"),\"\")","v":""}]
[{"$f":"IFERROR(IF(INDIRECT($A$14&ROW())<>\"\",COUNTIF([1]Summary!$B$30:$B$1029,INDIRECT($A$14&ROW())),\"\"),\"\")","v":""}]
[{"$f":"IFERROR(IF(INDIRECT($A$14&ROW())<>\"\",COUNTIF([1]Summary!$B$30:$B$1029,INDIRECT($A$14&ROW())),\"\"),\"\")","v":""}]
[{"$f":"IFERROR(IF(INDIRECT($A$14&ROW())<>\"\",COUNTIF([1]Summary!$B$30:$B$1029,INDIRECT($A$14&ROW())),\"\"),\"\")","v":""}]
[{"$f":"IFERROR(IF(INDIRECT($A$14&ROW())<>\"\",COUNTIF([1]Summary!$B$30:$B$1029,INDIRECT($A$14&ROW())),\"\"),\"\")","v":""}]
[{"$f":"IFERROR(IF(INDIRECT($A$14&ROW())<>\"\",COUNTIF([1]Summary!$B$30:$B$1029,INDIRECT($A$14&ROW())),\"\"),\"\")","v":""}]
[{"$f":"IFERROR(IF(INDIRECT($A$14&ROW())<>\"\",COUNTIF([1]Summary!$B$30:$B$1029,INDIRECT($A$14&ROW())),\"\"),\"\")","v":""}]
[{"$f":"IFERROR(IF(INDIRECT($A$14&ROW())<>\"\",COUNTIF([1]Summary!$B$30:$B$1029,INDIRECT($A$14&ROW())),\"\"),\"\")","v":""}]
[{"$f":"IFERROR(IF(INDIRECT($A$14&ROW())<>\"\",COUNTIF([1]Summary!$B$30:$B$1029,INDIRECT($A$14&ROW())),\"\"),\"\")","v":""}]
[{"$f":"IFERROR(IF(INDIRECT($A$14&ROW())<>\"\",COUNTIF([1]Summary!$B$30:$B$1029,INDIRECT($A$14&ROW())),\"\"),\"\")","v":""}]
[{"$f":"IFERROR(IF(INDIRECT($A$14&ROW())<>\"\",COUNTIF([1]Summary!$B$30:$B$1029,INDIRECT($A$14&ROW())),\"\"),\"\")","v":""}]
[{"$f":"IFERROR(IF(INDIRECT($A$14&ROW())<>\"\",COUNTIF([1]Summary!$B$30:$B$1029,INDIRECT($A$14&ROW())),\"\"),\"\")","v":""}]
[{"$f":"IFERROR(IF(INDIRECT($A$14&ROW())<>\"\",COUNTIF([1]Summary!$B$30:$B$1029,INDIRECT($A$14&ROW())),\"\"),\"\")","v":""}]
[{"$f":"IFERROR(IF(INDIRECT($A$14&ROW())<>\"\",COUNTIF([1]Summary!$B$30:$B$1029,INDIRECT($A$14&ROW())),\"\"),\"\")","v":""}]
[{"$f":"IFERROR(IF(INDIRECT($A$14&ROW())<>\"\",COUNTIF([1]Summary!$B$30:$B$1029,INDIRECT($A$14&ROW())),\"\"),\"\")","v":""}]
[{"$f":"IFERROR(IF(INDIRECT($A$14&ROW())<>\"\",COUNTIF([1]Summary!$B$30:$B$1029,INDIRECT($A$14&ROW())),\"\"),\"\")","v":""}]
[{"$f":"IFERROR(IF(INDIRECT($A$14&ROW())<>\"\",COUNTIF([1]Summary!$B$30:$B$1029,INDIRECT($A$14&ROW())),\"\"),\"\")","v":""}]
[{"$f":"IFERROR(IF(INDIRECT($A$14&ROW())<>\"\",COUNTIF([1]Summary!$B$30:$B$1029,INDIRECT($A$14&ROW())),\"\"),\"\")","v":""}]
[{"$f":"IFERROR(IF(INDIRECT($A$14&ROW())<>\"\",COUNTIF([1]Summary!$B$30:$B$1029,INDIRECT($A$14&ROW())),\"\"),\"\")","v":""}]
[{"$f":"IFERROR(IF(INDIRECT($A$14&ROW())<>\"\",COUNTIF([1]Summary!$B$30:$B$1029,INDIRECT($A$14&ROW())),\"\"),\"\")","v":""}]
[{"$f":"IFERROR(IF(INDIRECT($A$14&ROW())<>\"\",COUNTIF([1]Summary!$B$30:$B$1029,INDIRECT($A$14&ROW())),\"\"),\"\")","v":""}]
[{"$f":"IFERROR(IF(INDIRECT($A$14&ROW())<>\"\",COUNTIF([1]Summary!$B$30:$B$1029,INDIRECT($A$14&ROW())),\"\"),\"\")","v":""}]
[{"$f":"IFERROR(IF(INDIRECT($A$14&ROW())<>\"\",COUNTIF([1]Summary!$B$30:$B$1029,INDIRECT($A$14&ROW())),\"\"),\"\")","v":""}]
[{"$f":"IFERROR(IF(INDIRECT($A$14&ROW())<>\"\",COUNTIF([1]Summary!$B$30:$B$1029,INDIRECT($A$14&ROW())),\"\"),\"\")","v":""}]
[{"$f":"IFERROR(IF(INDIRECT($A$14&ROW())<>\"\",COUNTIF([1]Summary!$B$30:$B$1029,INDIRECT($A$14&ROW())),\"\"),\"\")","v":""}]
[{"$f":"IFERROR(IF(INDIRECT($A$14&ROW())<>\"\",COUNTIF([1]Summary!$B$30:$B$1029,INDIRECT($A$14&ROW())),\"\"),\"\")","v":""}]
[{"$f":"IFERROR(IF(INDIRECT($A$14&ROW())<>\"\",COUNTIF([1]Summary!$B$30:$B$1029,INDIRECT($A$14&ROW())),\"\"),\"\")","v":""}]
[{"$f":"IFERROR(IF(INDIRECT($A$14&ROW())<>\"\",COUNTIF([1]Summary!$B$30:$B$1029,INDIRECT($A$14&ROW())),\"\"),\"\")","v":""}]
[{"$f":"IFERROR(IF(INDIRECT($A$14&ROW())<>\"\",COUNTIF([1]Summary!$B$30:$B$1029,INDIRECT($A$14&ROW())),\"\"),\"\")","v":""}]
[{"$f":"IFERROR(IF(INDIRECT($A$14&ROW())<>\"\",COUNTIF([1]Summary!$B$30:$B$1029,INDIRECT($A$14&ROW())),\"\"),\"\")","v":""}]
[{"$f":"IFERROR(IF(INDIRECT($A$14&ROW())<>\"\",COUNTIF([1]Summary!$B$30:$B$1029,INDIRECT($A$14&ROW())),\"\"),\"\")","v":""}]
[{"$f":"IFERROR(IF(INDIRECT($A$14&ROW())<>\"\",COUNTIF([1]Summary!$B$30:$B$1029,INDIRECT($A$14&ROW())),\"\"),\"\")","v":""}]
[{"$f":"IFERROR(IF(INDIRECT($A$14&ROW())<>\"\",COUNTIF([1]Summary!$B$30:$B$1029,INDIRECT($A$14&ROW())),\"\"),\"\")","v":""}]
[{"$f":"IFERROR(IF(INDIRECT($A$14&ROW())<>\"\",COUNTIF([1]Summary!$B$30:$B$1029,INDIRECT($A$14&ROW())),\"\"),\"\")","v":""}]
[{"$f":"IFERROR(IF(INDIRECT($A$14&ROW())<>\"\",COUNTIF([1]Summary!$B$30:$B$1029,INDIRECT($A$14&ROW())),\"\"),\"\")","v":""}]
[{"$f":"IFERROR(IF(INDIRECT($A$14&ROW())<>\"\",COUNTIF([1]Summary!$B$30:$B$1029,INDIRECT($A$14&ROW())),\"\"),\"\")","v":""}]
[{"$f":"IFERROR(IF(INDIRECT($A$14&ROW())<>\"\",COUNTIF([1]Summary!$B$30:$B$1029,INDIRECT($A$14&ROW())),\"\"),\"\")","v":""}]
[{"$f":"IFERROR(IF(INDIRECT($A$14&ROW())<>\"\",COUNTIF([1]Summary!$B$30:$B$1029,INDIRECT($A$14&ROW())),\"\"),\"\")","v":""}]
[{"$f":"IFERROR(IF(INDIRECT($A$14&ROW())<>\"\",COUNTIF([1]Summary!$B$30:$B$1029,INDIRECT($A$14&ROW())),\"\"),\"\")","v":""}]
[{"$f":"IFERROR(IF(INDIRECT($A$14&ROW())<>\"\",COUNTIF([1]Summary!$B$30:$B$1029,INDIRECT($A$14&ROW())),\"\"),\"\")","v":""}]
[{"$f":"IFERROR(IF(INDIRECT($A$14&ROW())<>\"\",COUNTIF([1]Summary!$B$30:$B$1029,INDIRECT($A$14&ROW())),\"\"),\"\")","v":""}]
[{"$f":"IFERROR(IF(INDIRECT($A$14&ROW())<>\"\",COUNTIF([1]Summary!$B$30:$B$1029,INDIRECT($A$14&ROW())),\"\"),\"\")","v":""}]
[{"$f":"IFERROR(IF(INDIRECT($A$14&ROW())<>\"\",COUNTIF([1]Summary!$B$30:$B$1029,INDIRECT($A$14&ROW())),\"\"),\"\")","v":""}]
[{"$f":"IFERROR(IF(INDIRECT($A$14&ROW())<>\"\",COUNTIF([1]Summary!$B$30:$B$1029,INDIRECT($A$14&ROW())),\"\"),\"\")","v":""}]
[{"$f":"IFERROR(IF(INDIRECT($A$14&ROW())<>\"\",COUNTIF([1]Summary!$B$30:$B$1029,INDIRECT($A$14&ROW())),\"\"),\"\")","v":""}]
[{"$f":"IFERROR(IF(INDIRECT($A$14&ROW())<>\"\",COUNTIF([1]Summary!$B$30:$B$1029,INDIRECT($A$14&ROW())),\"\"),\"\")","v":""}]
[{"$f":"IFERROR(IF(INDIRECT($A$14&ROW())<>\"\",COUNTIF([1]Summary!$B$30:$B$1029,INDIRECT($A$14&ROW())),\"\"),\"\")","v":""}]
[{"$f":"IFERROR(IF(INDIRECT($A$14&ROW())<>\"\",COUNTIF([1]Summary!$B$30:$B$1029,INDIRECT($A$14&ROW())),\"\"),\"\")","v":""}]
[{"$f":"IFERROR(IF(INDIRECT($A$14&ROW())<>\"\",COUNTIF([1]Summary!$B$30:$B$1029,INDIRECT($A$14&ROW())),\"\"),\"\")","v":""}]
[{"$f":"IFERROR(IF(INDIRECT($A$14&ROW())<>\"\",COUNTIF([1]Summary!$B$30:$B$1029,INDIRECT($A$14&ROW())),\"\"),\"\")","v":""}]
[{"$f":"IFERROR(IF(INDIRECT($A$14&ROW())<>\"\",COUNTIF([1]Summary!$B$30:$B$1029,INDIRECT($A$14&ROW())),\"\"),\"\")","v":""}]
[{"$f":"IFERROR(IF(INDIRECT($A$14&ROW())<>\"\",COUNTIF([1]Summary!$B$30:$B$1029,INDIRECT($A$14&ROW())),\"\"),\"\")","v":""}]
[{"$f":"IFERROR(IF(INDIRECT($A$14&ROW())<>\"\",COUNTIF([1]Summary!$B$30:$B$1029,INDIRECT($A$14&ROW())),\"\"),\"\")","v":""}]
[{"$f":"IFERROR(IF(INDIRECT($A$14&ROW())<>\"\",COUNTIF([1]Summary!$B$30:$B$1029,INDIRECT($A$14&ROW())),\"\"),\"\")","v":""}]
[{"$f":"IFERROR(IF(INDIRECT($A$14&ROW())<>\"\",COUNTIF([1]Summary!$B$30:$B$1029,INDIRECT($A$14&ROW())),\"\"),\"\")","v":""}]
[{"$f":"IFERROR(IF(INDIRECT($A$14&ROW())<>\"\",COUNTIF([1]Summary!$B$30:$B$1029,INDIRECT($A$14&ROW())),\"\"),\"\")","v":""}]
[{"$f":"IFERROR(IF(INDIRECT($A$14&ROW())<>\"\",COUNTIF([1]Summary!$B$30:$B$1029,INDIRECT($A$14&ROW())),\"\"),\"\")","v":""}]
[{"$f":"IFERROR(IF(INDIRECT($A$14&ROW())<>\"\",COUNTIF([1]Summary!$B$30:$B$1029,INDIRECT($A$14&ROW())),\"\"),\"\")","v":""}]
[{"$f":"IFERROR(IF(INDIRECT($A$14&ROW())<>\"\",COUNTIF([1]Summary!$B$30:$B$1029,INDIRECT($A$14&ROW())),\"\"),\"\")","v":""}]
[{"$f":"IFERROR(IF(INDIRECT($A$14&ROW())<>\"\",COUNTIF([1]Summary!$B$30:$B$1029,INDIRECT($A$14&ROW())),\"\"),\"\")","v":""}]
[{"$f":"IFERROR(IF(INDIRECT($A$14&ROW())<>\"\",COUNTIF([1]Summary!$B$30:$B$1029,INDIRECT($A$14&ROW())),\"\"),\"\")","v":""}]
[{"$f":"IFERROR(IF(INDIRECT($A$14&ROW())<>\"\",COUNTIF([1]Summary!$B$30:$B$1029,INDIRECT($A$14&ROW())),\"\"),\"\")","v":""}]
[{"$f":"IFERROR(IF(INDIRECT($A$14&ROW())<>\"\",COUNTIF([1]Summary!$B$30:$B$1029,INDIRECT($A$14&ROW())),\"\"),\"\")","v":""}]
[{"$f":"IFERROR(IF(INDIRECT($A$14&ROW())<>\"\",COUNTIF([1]Summary!$B$30:$B$1029,INDIRECT($A$14&ROW())),\"\"),\"\")","v":""}]
[{"$f":"IFERROR(IF(INDIRECT($A$14&ROW())<>\"\",COUNTIF([1]Summary!$B$30:$B$1029,INDIRECT($A$14&ROW())),\"\"),\"\")","v":""}]
[{"$f":"IFERROR(IF(INDIRECT($A$14&ROW())<>\"\",COUNTIF([1]Summary!$B$30:$B$1029,INDIRECT($A$14&ROW())),\"\"),\"\")","v":""}]
[{"$f":"IFERROR(IF(INDIRECT($A$14&ROW())<>\"\",COUNTIF([1]Summary!$B$30:$B$1029,INDIRECT($A$14&ROW())),\"\"),\"\")","v":""}]
[{"$f":"IFERROR(IF(INDIRECT($A$14&ROW())<>\"\",COUNTIF([1]Summary!$B$30:$B$1029,INDIRECT($A$14&ROW())),\"\"),\"\")","v":""}]
[{"$f":"IFERROR(IF(INDIRECT($A$14&ROW())<>\"\",COUNTIF([1]Summary!$B$30:$B$1029,INDIRECT($A$14&ROW())),\"\"),\"\")","v":""}]
[{"$f":"IFERROR(IF(INDIRECT($A$14&ROW())<>\"\",COUNTIF([1]Summary!$B$30:$B$1029,INDIRECT($A$14&ROW())),\"\"),\"\")","v":""}]
[{"$f":"IFERROR(IF(INDIRECT($A$14&ROW())<>\"\",COUNTIF([1]Summary!$B$30:$B$1029,INDIRECT($A$14&ROW())),\"\"),\"\")","v":""}]
[{"$f":"IFERROR(IF(INDIRECT($A$14&ROW())<>\"\",COUNTIF([1]Summary!$B$30:$B$1029,INDIRECT($A$14&ROW())),\"\"),\"\")","v":""}]
[{"$f":"IFERROR(IF(INDIRECT($A$14&ROW())<>\"\",COUNTIF([1]Summary!$B$30:$B$1029,INDIRECT($A$14&ROW())),\"\"),\"\")","v":""}]
[{"$f":"IFERROR(IF(INDIRECT($A$14&ROW())<>\"\",COUNTIF([1]Summary!$B$30:$B$1029,INDIRECT($A$14&ROW())),\"\"),\"\")","v":""}]
[{"$f":"IFERROR(IF(INDIRECT($A$14&ROW())<>\"\",COUNTIF([1]Summary!$B$30:$B$1029,INDIRECT($A$14&ROW())),\"\"),\"\")","v":""}]
[{"$f":"IFERROR(IF(INDIRECT($A$14&ROW())<>\"\",COUNTIF([1]Summary!$B$30:$B$1029,INDIRECT($A$14&ROW())),\"\"),\"\")","v":""}]
[{"$f":"IFERROR(IF(INDIRECT($A$14&ROW())<>\"\",COUNTIF([1]Summary!$B$30:$B$1029,INDIRECT($A$14&ROW())),\"\"),\"\")","v":""}]
[{"$f":"IFERROR(IF(INDIRECT($A$14&ROW())<>\"\",COUNTIF([1]Summary!$B$30:$B$1029,INDIRECT($A$14&ROW())),\"\"),\"\")","v":""}]
[{"$f":"IFERROR(IF(INDIRECT($A$14&ROW())<>\"\",COUNTIF([1]Summary!$B$30:$B$1029,INDIRECT($A$14&ROW())),\"\"),\"\")","v":""}]
[{"$f":"IFERROR(IF(INDIRECT($A$14&ROW())<>\"\",COUNTIF([1]Summary!$B$30:$B$1029,INDIRECT($A$14&ROW())),\"\"),\"\")","v":""}]
[{"$f":"IFERROR(IF(INDIRECT($A$14&ROW())<>\"\",COUNTIF([1]Summary!$B$30:$B$1029,INDIRECT($A$14&ROW())),\"\"),\"\")","v":""}]
[{"$f":"IFERROR(IF(INDIRECT($A$14&ROW())<>\"\",COUNTIF([1]Summary!$B$30:$B$1029,INDIRECT($A$14&ROW())),\"\"),\"\")","v":""}]
[{"$f":"IFERROR(IF(INDIRECT($A$14&ROW())<>\"\",COUNTIF([1]Summary!$B$30:$B$1029,INDIRECT($A$14&ROW())),\"\"),\"\")","v":""}]
[{"$f":"IFERROR(IF(INDIRECT($A$14&ROW())<>\"\",COUNTIF([1]Summary!$B$30:$B$1029,INDIRECT($A$14&ROW())),\"\"),\"\")","v":""}]
[{"$f":"IFERROR(IF(INDIRECT($A$14&ROW())<>\"\",COUNTIF([1]Summary!$B$30:$B$1029,INDIRECT($A$14&ROW())),\"\"),\"\")","v":""}]
[{"$f":"IFERROR(IF(INDIRECT($A$14&ROW())<>\"\",COUNTIF([1]Summary!$B$30:$B$1029,INDIRECT($A$14&ROW())),\"\"),\"\")","v":""}]
[{"$f":"IFERROR(IF(INDIRECT($A$14&ROW())<>\"\",COUNTIF([1]Summary!$B$30:$B$1029,INDIRECT($A$14&ROW())),\"\"),\"\")","v":""}]
[{"$f":"IFERROR(IF(INDIRECT($A$14&ROW())<>\"\",COUNTIF([1]Summary!$B$30:$B$1029,INDIRECT($A$14&ROW())),\"\"),\"\")","v":""}]
[{"$f":"IFERROR(IF(INDIRECT($A$14&ROW())<>\"\",COUNTIF([1]Summary!$B$30:$B$1029,INDIRECT($A$14&ROW())),\"\"),\"\")","v":""}]
[{"$f":"IFERROR(IF(INDIRECT($A$14&ROW())<>\"\",COUNTIF([1]Summary!$B$30:$B$1029,INDIRECT($A$14&ROW())),\"\"),\"\")","v":""}]
[{"$f":"IFERROR(IF(INDIRECT($A$14&ROW())<>\"\",COUNTIF([1]Summary!$B$30:$B$1029,INDIRECT($A$14&ROW())),\"\"),\"\")","v":""}]
[{"$f":"IFERROR(IF(INDIRECT($A$14&ROW())<>\"\",COUNTIF([1]Summary!$B$30:$B$1029,INDIRECT($A$14&ROW())),\"\"),\"\")","v":""}]
[{"$f":"IFERROR(IF(INDIRECT($A$14&ROW())<>\"\",COUNTIF([1]Summary!$B$30:$B$1029,INDIRECT($A$14&ROW())),\"\"),\"\")","v":""}]
[{"$f":"IFERROR(IF(INDIRECT($A$14&ROW())<>\"\",COUNTIF([1]Summary!$B$30:$B$1029,INDIRECT($A$14&ROW())),\"\"),\"\")","v":""}]
[{"$f":"IFERROR(IF(INDIRECT($A$14&ROW())<>\"\",COUNTIF([1]Summary!$B$30:$B$1029,INDIRECT($A$14&ROW())),\"\"),\"\")","v":""}]
[{"$f":"IFERROR(IF(INDIRECT($A$14&ROW())<>\"\",COUNTIF([1]Summary!$B$30:$B$1029,INDIRECT($A$14&ROW())),\"\"),\"\")","v":""}]
[{"$f":"IFERROR(IF(INDIRECT($A$14&ROW())<>\"\",COUNTIF([1]Summary!$B$30:$B$1029,INDIRECT($A$14&ROW())),\"\"),\"\")","v":""}]
[{"$f":"IFERROR(IF(INDIRECT($A$14&ROW())<>\"\",COUNTIF([1]Summary!$B$30:$B$1029,INDIRECT($A$14&ROW())),\"\"),\"\")","v":""}]
[{"$f":"IFERROR(IF(INDIRECT($A$14&ROW())<>\"\",COUNTIF([1]Summary!$B$30:$B$1029,INDIRECT($A$14&ROW())),\"\"),\"\")","v":""}]
[{"$f":"IFERROR(IF(INDIRECT($A$14&ROW())<>\"\",COUNTIF([1]Summary!$B$30:$B$1029,INDIRECT($A$14&ROW())),\"\"),\"\")","v":""}]
[{"$f":"IFERROR(IF(INDIRECT($A$14&ROW())<>\"\",COUNTIF([1]Summary!$B$30:$B$1029,INDIRECT($A$14&ROW())),\"\"),\"\")","v":""}]
[{"$f":"IFERROR(IF(INDIRECT($A$14&ROW())<>\"\",COUNTIF([1]Summary!$B$30:$B$1029,INDIRECT($A$14&ROW())),\"\"),\"\")","v":""}]
[{"$f":"IFERROR(IF(INDIRECT($A$14&ROW())<>\"\",COUNTIF([1]Summary!$B$30:$B$1029,INDIRECT($A$14&ROW())),\"\"),\"\")","v":""}]
[{"$f":"IFERROR(IF(INDIRECT($A$14&ROW())<>\"\",COUNTIF([1]Summary!$B$30:$B$1029,INDIRECT($A$14&ROW())),\"\"),\"\")","v":""}]
[{"$f":"IFERROR(IF(INDIRECT($A$14&ROW())<>\"\",COUNTIF([1]Summary!$B$30:$B$1029,INDIRECT($A$14&ROW())),\"\"),\"\")","v":""}]
[{"$f":"IFERROR(IF(INDIRECT($A$14&ROW())<>\"\",COUNTIF([1]Summary!$B$30:$B$1029,INDIRECT($A$14&ROW())),\"\"),\"\")","v":""}]
[{"$f":"IFERROR(IF(INDIRECT($A$14&ROW())<>\"\",COUNTIF([1]Summary!$B$30:$B$1029,INDIRECT($A$14&ROW())),\"\"),\"\")","v":""}]
[{"$f":"IFERROR(IF(INDIRECT($A$14&ROW())<>\"\",COUNTIF([1]Summary!$B$30:$B$1029,INDIRECT($A$14&ROW())),\"\"),\"\")","v":""}]
[{"$f":"IFERROR(IF(INDIRECT($A$14&ROW())<>\"\",COUNTIF([1]Summary!$B$30:$B$1029,INDIRECT($A$14&ROW())),\"\"),\"\")","v":""}]
[{"$f":"IFERROR(IF(INDIRECT($A$14&ROW())<>\"\",COUNTIF([1]Summary!$B$30:$B$1029,INDIRECT($A$14&ROW())),\"\"),\"\")","v":""}]
[{"$f":"IFERROR(IF(INDIRECT($A$14&ROW())<>\"\",COUNTIF([1]Summary!$B$30:$B$1029,INDIRECT($A$14&ROW())),\"\"),\"\")","v":""}]
[{"$f":"IFERROR(IF(INDIRECT($A$14&ROW())<>\"\",COUNTIF([1]Summary!$B$30:$B$1029,INDIRECT($A$14&ROW())),\"\"),\"\")","v":""}]
[{"$f":"IFERROR(IF(INDIRECT($A$14&ROW())<>\"\",COUNTIF([1]Summary!$B$30:$B$1029,INDIRECT($A$14&ROW())),\"\"),\"\")","v":""}]
[{"$f":"IFERROR(IF(INDIRECT($A$14&ROW())<>\"\",COUNTIF([1]Summary!$B$30:$B$1029,INDIRECT($A$14&ROW())),\"\"),\"\")","v":""}]
[{"$f":"IFERROR(IF(INDIRECT($A$14&ROW())<>\"\",COUNTIF([1]Summary!$B$30:$B$1029,INDIRECT($A$14&ROW())),\"\"),\"\")","v":""}]
[{"$f":"IFERROR(IF(INDIRECT($A$14&ROW())<>\"\",COUNTIF([1]Summary!$B$30:$B$1029,INDIRECT($A$14&ROW())),\"\"),\"\")","v":""}]
[{"$f":"IFERROR(IF(INDIRECT($A$14&ROW())<>\"\",COUNTIF([1]Summary!$B$30:$B$1029,INDIRECT($A$14&ROW())),\"\"),\"\")","v":""}]
[{"$f":"IFERROR(IF(INDIRECT($A$14&ROW())<>\"\",COUNTIF([1]Summary!$B$30:$B$1029,INDIRECT($A$14&ROW())),\"\"),\"\")","v":""}]
[{"$f":"IFERROR(IF(INDIRECT($A$14&ROW())<>\"\",COUNTIF([1]Summary!$B$30:$B$1029,INDIRECT($A$14&ROW())),\"\"),\"\")","v":""}]
[{"$f":"IFERROR(IF(INDIRECT($A$14&ROW())<>\"\",COUNTIF([1]Summary!$B$30:$B$1029,INDIRECT($A$14&ROW())),\"\"),\"\")","v":""}]
[{"$f":"IFERROR(IF(INDIRECT($A$14&ROW())<>\"\",COUNTIF([1]Summary!$B$30:$B$1029,INDIRECT($A$14&ROW())),\"\"),\"\")","v":""}]
[{"$f":"IFERROR(IF(INDIRECT($A$14&ROW())<>\"\",COUNTIF([1]Summary!$B$30:$B$1029,INDIRECT($A$14&ROW())),\"\"),\"\")","v":""}]
[{"$f":"IFERROR(IF(INDIRECT($A$14&ROW())<>\"\",COUNTIF([1]Summary!$B$30:$B$1029,INDIRECT($A$14&ROW())),\"\"),\"\")","v":""}]
[{"$f":"IFERROR(IF(INDIRECT($A$14&ROW())<>\"\",COUNTIF([1]Summary!$B$30:$B$1029,INDIRECT($A$14&ROW())),\"\"),\"\")","v":""}]
[{"$f":"IFERROR(IF(INDIRECT($A$14&ROW())<>\"\",COUNTIF([1]Summary!$B$30:$B$1029,INDIRECT($A$14&ROW())),\"\"),\"\")","v":""}]
[{"$f":"IFERROR(IF(INDIRECT($A$14&ROW())<>\"\",COUNTIF([1]Summary!$B$30:$B$1029,INDIRECT($A$14&ROW())),\"\"),\"\")","v":""}]
[{"$f":"IFERROR(IF(INDIRECT($A$14&ROW())<>\"\",COUNTIF([1]Summary!$B$30:$B$1029,INDIRECT($A$14&ROW())),\"\"),\"\")","v":""}]
[{"$f":"IFERROR(IF(INDIRECT($A$14&ROW())<>\"\",COUNTIF([1]Summary!$B$30:$B$1029,INDIRECT($A$14&ROW())),\"\"),\"\")","v":""}]
[{"$f":"IFERROR(IF(INDIRECT($A$14&ROW())<>\"\",COUNTIF([1]Summary!$B$30:$B$1029,INDIRECT($A$14&ROW())),\"\"),\"\")","v":""}]
[{"$f":"IFERROR(IF(INDIRECT($A$14&ROW())<>\"\",COUNTIF([1]Summary!$B$30:$B$1029,INDIRECT($A$14&ROW())),\"\"),\"\")","v":""}]
[{"$f":"IFERROR(IF(INDIRECT($A$14&ROW())<>\"\",COUNTIF([1]Summary!$B$30:$B$1029,INDIRECT($A$14&ROW())),\"\"),\"\")","v":""}]
[{"$f":"IFERROR(IF(INDIRECT($A$14&ROW())<>\"\",COUNTIF([1]Summary!$B$30:$B$1029,INDIRECT($A$14&ROW())),\"\"),\"\")","v":""}]
[{"$f":"IFERROR(IF(INDIRECT($A$14&ROW())<>\"\",COUNTIF([1]Summary!$B$30:$B$1029,INDIRECT($A$14&ROW())),\"\"),\"\")","v":""}]
[{"$f":"IFERROR(IF(INDIRECT($A$14&ROW())<>\"\",COUNTIF([1]Summary!$B$30:$B$1029,INDIRECT($A$14&ROW())),\"\"),\"\")","v":""}]
[{"$f":"IFERROR(IF(INDIRECT($A$14&ROW())<>\"\",COUNTIF([1]Summary!$B$30:$B$1029,INDIRECT($A$14&ROW())),\"\"),\"\")","v":""}]
[{"$f":"IFERROR(IF(INDIRECT($A$14&ROW())<>\"\",COUNTIF([1]Summary!$B$30:$B$1029,INDIRECT($A$14&ROW())),\"\"),\"\")","v":""}]
[{"$f":"IFERROR(IF(INDIRECT($A$14&ROW())<>\"\",COUNTIF([1]Summary!$B$30:$B$1029,INDIRECT($A$14&ROW())),\"\"),\"\")","v":""}]
[{"$f":"IFERROR(IF(INDIRECT($A$14&ROW())<>\"\",COUNTIF([1]Summary!$B$30:$B$1029,INDIRECT($A$14&ROW())),\"\"),\"\")","v":""}]
[{"$f":"IFERROR(IF(INDIRECT($A$14&ROW())<>\"\",COUNTIF([1]Summary!$B$30:$B$1029,INDIRECT($A$14&ROW())),\"\"),\"\")","v":""}]
[{"$f":"IFERROR(IF(INDIRECT($A$14&ROW())<>\"\",COUNTIF([1]Summary!$B$30:$B$1029,INDIRECT($A$14&ROW())),\"\"),\"\")","v":""}]
[{"$f":"IFERROR(IF(INDIRECT($A$14&ROW())<>\"\",COUNTIF([1]Summary!$B$30:$B$1029,INDIRECT($A$14&ROW())),\"\"),\"\")","v":""}]
[{"$f":"IFERROR(IF(INDIRECT($A$14&ROW())<>\"\",COUNTIF([1]Summary!$B$30:$B$1029,INDIRECT($A$14&ROW())),\"\"),\"\")","v":""}]
[{"$f":"IFERROR(IF(INDIRECT($A$14&ROW())<>\"\",COUNTIF([1]Summary!$B$30:$B$1029,INDIRECT($A$14&ROW())),\"\"),\"\")","v":""}]
[{"$f":"IFERROR(IF(INDIRECT($A$14&ROW())<>\"\",COUNTIF([1]Summary!$B$30:$B$1029,INDIRECT($A$14&ROW())),\"\"),\"\")","v":""}]
[{"$f":"IFERROR(IF(INDIRECT($A$14&ROW())<>\"\",COUNTIF([1]Summary!$B$30:$B$1029,INDIRECT($A$14&ROW())),\"\"),\"\")","v":""}]
[{"$f":"IFERROR(IF(INDIRECT($A$14&ROW())<>\"\",COUNTIF([1]Summary!$B$30:$B$1029,INDIRECT($A$14&ROW())),\"\"),\"\")","v":""}]
[{"$f":"IFERROR(IF(INDIRECT($A$14&ROW())<>\"\",COUNTIF([1]Summary!$B$30:$B$1029,INDIRECT($A$14&ROW())),\"\"),\"\")","v":""}]
[{"$f":"IFERROR(IF(INDIRECT($A$14&ROW())<>\"\",COUNTIF([1]Summary!$B$30:$B$1029,INDIRECT($A$14&ROW())),\"\"),\"\")","v":""}]
[{"$f":"IFERROR(IF(INDIRECT($A$14&ROW())<>\"\",COUNTIF([1]Summary!$B$30:$B$1029,INDIRECT($A$14&ROW())),\"\"),\"\")","v":""}]
[{"$f":"IFERROR(IF(INDIRECT($A$14&ROW())<>\"\",COUNTIF([1]Summary!$B$30:$B$1029,INDIRECT($A$14&ROW())),\"\"),\"\")","v":""}]
[{"$f":"IFERROR(IF(INDIRECT($A$14&ROW())<>\"\",COUNTIF([1]Summary!$B$30:$B$1029,INDIRECT($A$14&ROW())),\"\"),\"\")","v":""}]
[{"$f":"IFERROR(IF(INDIRECT($A$14&ROW())<>\"\",COUNTIF([1]Summary!$B$30:$B$1029,INDIRECT($A$14&ROW())),\"\"),\"\")","v":""}]
[{"$f":"IFERROR(IF(INDIRECT($A$14&ROW())<>\"\",COUNTIF([1]Summary!$B$30:$B$1029,INDIRECT($A$14&ROW())),\"\"),\"\")","v":""}]
[{"$f":"IFERROR(IF(INDIRECT($A$14&ROW())<>\"\",COUNTIF([1]Summary!$B$30:$B$1029,INDIRECT($A$14&ROW())),\"\"),\"\")","v":""}]
[{"$f":"IFERROR(IF(INDIRECT($A$14&ROW())<>\"\",COUNTIF([1]Summary!$B$30:$B$1029,INDIRECT($A$14&ROW())),\"\"),\"\")","v":""}]
[{"$f":"IFERROR(IF(INDIRECT($A$14&ROW())<>\"\",COUNTIF([1]Summary!$B$30:$B$1029,INDIRECT($A$14&ROW())),\"\"),\"\")","v":""}]
[{"$f":"IFERROR(IF(INDIRECT($A$14&ROW())<>\"\",COUNTIF([1]Summary!$B$30:$B$1029,INDIRECT($A$14&ROW())),\"\"),\"\")","v":""}]
[{"$f":"IFERROR(IF(INDIRECT($A$14&ROW())<>\"\",COUNTIF([1]Summary!$B$30:$B$1029,INDIRECT($A$14&ROW())),\"\"),\"\")","v":""}]
[{"$f":"IFERROR(IF(INDIRECT($A$14&ROW())<>\"\",COUNTIF([1]Summary!$B$30:$B$1029,INDIRECT($A$14&ROW())),\"\"),\"\")","v":""}]
[{"$f":"IFERROR(IF(INDIRECT($A$14&ROW())<>\"\",COUNTIF([1]Summary!$B$30:$B$1029,INDIRECT($A$14&ROW())),\"\"),\"\")","v":""}]
[{"$f":"IFERROR(IF(INDIRECT($A$14&ROW())<>\"\",COUNTIF([1]Summary!$B$30:$B$1029,INDIRECT($A$14&ROW())),\"\"),\"\")","v":""}]
[{"$f":"IFERROR(IF(INDIRECT($A$14&ROW())<>\"\",COUNTIF([1]Summary!$B$30:$B$1029,INDIRECT($A$14&ROW())),\"\"),\"\")","v":""}]
[{"$f":"IFERROR(IF(INDIRECT($A$14&ROW())<>\"\",COUNTIF([1]Summary!$B$30:$B$1029,INDIRECT($A$14&ROW())),\"\"),\"\")","v":""}]
[{"$f":"IFERROR(IF(INDIRECT($A$14&ROW())<>\"\",COUNTIF([1]Summary!$B$30:$B$1029,INDIRECT($A$14&ROW())),\"\"),\"\")","v":""}]
[{"$f":"IFERROR(IF(INDIRECT($A$14&ROW())<>\"\",COUNTIF([1]Summary!$B$30:$B$1029,INDIRECT($A$14&ROW())),\"\"),\"\")","v":""}]
[{"$f":"IFERROR(IF(INDIRECT($A$14&ROW())<>\"\",COUNTIF([1]Summary!$B$30:$B$1029,INDIRECT($A$14&ROW())),\"\"),\"\")","v":""}]
[{"$f":"IFERROR(IF(INDIRECT($A$14&ROW())<>\"\",COUNTIF([1]Summary!$B$30:$B$1029,INDIRECT($A$14&ROW())),\"\"),\"\")","v":""}]
[{"$f":"IFERROR(IF(INDIRECT($A$14&ROW())<>\"\",COUNTIF([1]Summary!$B$30:$B$1029,INDIRECT($A$14&ROW())),\"\"),\"\")","v":""}]
[{"$f":"IFERROR(IF(INDIRECT($A$14&ROW())<>\"\",COUNTIF([1]Summary!$B$30:$B$1029,INDIRECT($A$14&ROW())),\"\"),\"\")","v":""}]
[{"$f":"IFERROR(IF(INDIRECT($A$14&ROW())<>\"\",COUNTIF([1]Summary!$B$30:$B$1029,INDIRECT($A$14&ROW())),\"\"),\"\")","v":""}]
[{"$f":"IFERROR(IF(INDIRECT($A$14&ROW())<>\"\",COUNTIF([1]Summary!$B$30:$B$1029,INDIRECT($A$14&ROW())),\"\"),\"\")","v":""}]
[{"$f":"IFERROR(IF(INDIRECT($A$14&ROW())<>\"\",COUNTIF([1]Summary!$B$30:$B$1029,INDIRECT($A$14&ROW())),\"\"),\"\")","v":""}]
[{"$f":"IFERROR(IF(INDIRECT($A$14&ROW())<>\"\",COUNTIF([1]Summary!$B$30:$B$1029,INDIRECT($A$14&ROW())),\"\"),\"\")","v":""}]
[{"$f":"IFERROR(IF(INDIRECT($A$14&ROW())<>\"\",COUNTIF([1]Summary!$B$30:$B$1029,INDIRECT($A$14&ROW())),\"\"),\"\")","v":""}]
[{"$f":"IFERROR(IF(INDIRECT($A$14&ROW())<>\"\",COUNTIF([1]Summary!$B$30:$B$1029,INDIRECT($A$14&ROW())),\"\"),\"\")","v":""}]
[{"$f":"IFERROR(IF(INDIRECT($A$14&ROW())<>\"\",COUNTIF([1]Summary!$B$30:$B$1029,INDIRECT($A$14&ROW())),\"\"),\"\")","v":""}]
[{"$f":"IFERROR(IF(INDIRECT($A$14&ROW())<>\"\",COUNTIF([1]Summary!$B$30:$B$1029,INDIRECT($A$14&ROW())),\"\"),\"\")","v":""}]
[{"$f":"IFERROR(IF(INDIRECT($A$14&ROW())<>\"\",COUNTIF([1]Summary!$B$30:$B$1029,INDIRECT($A$14&ROW())),\"\"),\"\")","v":""}]
[{"$f":"IFERROR(IF(INDIRECT($A$14&ROW())<>\"\",COUNTIF([1]Summary!$B$30:$B$1029,INDIRECT($A$14&ROW())),\"\"),\"\")","v":""}]
[{"$f":"IFERROR(IF(INDIRECT($A$14&ROW())<>\"\",COUNTIF([1]Summary!$B$30:$B$1029,INDIRECT($A$14&ROW())),\"\"),\"\")","v":""}]
[{"$f":"IFERROR(IF(INDIRECT($A$14&ROW())<>\"\",COUNTIF([1]Summary!$B$30:$B$1029,INDIRECT($A$14&ROW())),\"\"),\"\")","v":""}]
[{"$f":"IFERROR(IF(INDIRECT($A$14&ROW())<>\"\",COUNTIF([1]Summary!$B$30:$B$1029,INDIRECT($A$14&ROW())),\"\"),\"\")","v":""}]
[{"$f":"IFERROR(IF(INDIRECT($A$14&ROW())<>\"\",COUNTIF([1]Summary!$B$30:$B$1029,INDIRECT($A$14&ROW())),\"\"),\"\")","v":""}]
[{"$f":"IFERROR(IF(INDIRECT($A$14&ROW())<>\"\",COUNTIF([1]Summary!$B$30:$B$1029,INDIRECT($A$14&ROW())),\"\"),\"\")","v":""}]
[{"$f":"IFERROR(IF(INDIRECT($A$14&ROW())<>\"\",COUNTIF([1]Summary!$B$30:$B$1029,INDIRECT($A$14&ROW())),\"\"),\"\")","v":""}]
[{"$f":"IFERROR(IF(INDIRECT($A$14&ROW())<>\"\",COUNTIF([1]Summary!$B$30:$B$1029,INDIRECT($A$14&ROW())),\"\"),\"\")","v":""}]
[{"$f":"IFERROR(IF(INDIRECT($A$14&ROW())<>\"\",COUNTIF([1]Summary!$B$30:$B$1029,INDIRECT($A$14&ROW())),\"\"),\"\")","v":""}]
[{"$f":"IFERROR(IF(INDIRECT($A$14&ROW())<>\"\",COUNTIF([1]Summary!$B$30:$B$1029,INDIRECT($A$14&ROW())),\"\"),\"\")","v":""}]
[{"$f":"IFERROR(IF(INDIRECT($A$14&ROW())<>\"\",COUNTIF([1]Summary!$B$30:$B$1029,INDIRECT($A$14&ROW())),\"\"),\"\")","v":""}]
[{"$f":"IFERROR(IF(INDIRECT($A$14&ROW())<>\"\",COUNTIF([1]Summary!$B$30:$B$1029,INDIRECT($A$14&ROW())),\"\"),\"\")","v":""}]
[{"$f":"IFERROR(IF(INDIRECT($A$14&ROW())<>\"\",COUNTIF([1]Summary!$B$30:$B$1029,INDIRECT($A$14&ROW())),\"\"),\"\")","v":""}]
[{"$f":"IFERROR(IF(INDIRECT($A$14&ROW())<>\"\",COUNTIF([1]Summary!$B$30:$B$1029,INDIRECT($A$14&ROW())),\"\"),\"\")","v":""}]
[{"$f":"IFERROR(IF(INDIRECT($A$14&ROW())<>\"\",COUNTIF([1]Summary!$B$30:$B$1029,INDIRECT($A$14&ROW())),\"\"),\"\")","v":""}]
[{"$f":"IFERROR(IF(INDIRECT($A$14&ROW())<>\"\",COUNTIF([1]Summary!$B$30:$B$1029,INDIRECT($A$14&ROW())),\"\"),\"\")","v":""}]
[{"$f":"IFERROR(IF(INDIRECT($A$14&ROW())<>\"\",COUNTIF([1]Summary!$B$30:$B$1029,INDIRECT($A$14&ROW())),\"\"),\"\")","v":""}]
[{"$f":"IFERROR(IF(INDIRECT($A$14&ROW())<>\"\",COUNTIF([1]Summary!$B$30:$B$1029,INDIRECT($A$14&ROW())),\"\"),\"\")","v":""}]
[{"$f":"IFERROR(IF(INDIRECT($A$14&ROW())<>\"\",COUNTIF([1]Summary!$B$30:$B$1029,INDIRECT($A$14&ROW())),\"\"),\"\")","v":""}]
[{"$f":"IFERROR(IF(INDIRECT($A$14&ROW())<>\"\",COUNTIF([1]Summary!$B$30:$B$1029,INDIRECT($A$14&ROW())),\"\"),\"\")","v":""}]
[{"$f":"IFERROR(IF(INDIRECT($A$14&ROW())<>\"\",COUNTIF([1]Summary!$B$30:$B$1029,INDIRECT($A$14&ROW())),\"\"),\"\")","v":""}]
[{"$f":"IFERROR(IF(INDIRECT($A$14&ROW())<>\"\",COUNTIF([1]Summary!$B$30:$B$1029,INDIRECT($A$14&ROW())),\"\"),\"\")","v":""}]
[{"$f":"IFERROR(IF(INDIRECT($A$14&ROW())<>\"\",COUNTIF([1]Summary!$B$30:$B$1029,INDIRECT($A$14&ROW())),\"\"),\"\")","v":""}]
[{"$f":"IFERROR(IF(INDIRECT($A$14&ROW())<>\"\",COUNTIF([1]Summary!$B$30:$B$1029,INDIRECT($A$14&ROW())),\"\"),\"\")","v":""}]
[{"$f":"IFERROR(IF(INDIRECT($A$14&ROW())<>\"\",COUNTIF([1]Summary!$B$30:$B$1029,INDIRECT($A$14&ROW())),\"\"),\"\")","v":""}]
[{"$f":"IFERROR(IF(INDIRECT($A$14&ROW())<>\"\",COUNTIF([1]Summary!$B$30:$B$1029,INDIRECT($A$14&ROW())),\"\"),\"\")","v":""}]
[{"$f":"IFERROR(IF(INDIRECT($A$14&ROW())<>\"\",COUNTIF([1]Summary!$B$30:$B$1029,INDIRECT($A$14&ROW())),\"\"),\"\")","v":""}]
[{"$f":"IFERROR(IF(INDIRECT($A$14&ROW())<>\"\",COUNTIF([1]Summary!$B$30:$B$1029,INDIRECT($A$14&ROW())),\"\"),\"\")","v":""}]
[{"$f":"IFERROR(IF(INDIRECT($A$14&ROW())<>\"\",COUNTIF([1]Summary!$B$30:$B$1029,INDIRECT($A$14&ROW())),\"\"),\"\")","v":""}]
[{"$f":"IFERROR(IF(INDIRECT($A$14&ROW())<>\"\",COUNTIF([1]Summary!$B$30:$B$1029,INDIRECT($A$14&ROW())),\"\"),\"\")","v":""}]
[{"$f":"IFERROR(IF(INDIRECT($A$14&ROW())<>\"\",COUNTIF([1]Summary!$B$30:$B$1029,INDIRECT($A$14&ROW())),\"\"),\"\")","v":""}]
[{"$f":"IFERROR(IF(INDIRECT($A$14&ROW())<>\"\",COUNTIF([1]Summary!$B$30:$B$1029,INDIRECT($A$14&ROW())),\"\"),\"\")","v":""}]
[{"$f":"IFERROR(IF(INDIRECT($A$14&ROW())<>\"\",COUNTIF([1]Summary!$B$30:$B$1029,INDIRECT($A$14&ROW())),\"\"),\"\")","v":""}]
[{"$f":"IFERROR(IF(INDIRECT($A$14&ROW())<>\"\",COUNTIF([1]Summary!$B$30:$B$1029,INDIRECT($A$14&ROW())),\"\"),\"\")","v":""}]
[{"$f":"IFERROR(IF(INDIRECT($A$14&ROW())<>\"\",COUNTIF([1]Summary!$B$30:$B$1029,INDIRECT($A$14&ROW())),\"\"),\"\")","v":""}]
[{"$f":"IFERROR(IF(INDIRECT($A$14&ROW())<>\"\",COUNTIF([1]Summary!$B$30:$B$1029,INDIRECT($A$14&ROW())),\"\"),\"\")","v":""}]
[{"$f":"IFERROR(IF(INDIRECT($A$14&ROW())<>\"\",COUNTIF([1]Summary!$B$30:$B$1029,INDIRECT($A$14&ROW())),\"\"),\"\")","v":""}]
[{"$f":"IFERROR(IF(INDIRECT($A$14&ROW())<>\"\",COUNTIF([1]Summary!$B$30:$B$1029,INDIRECT($A$14&ROW())),\"\"),\"\")","v":""}]
[{"$f":"IFERROR(IF(INDIRECT($A$14&ROW())<>\"\",COUNTIF([1]Summary!$B$30:$B$1029,INDIRECT($A$14&ROW())),\"\"),\"\")","v":""}]
[{"$f":"IFERROR(IF(INDIRECT($A$14&ROW())<>\"\",COUNTIF([1]Summary!$B$30:$B$1029,INDIRECT($A$14&ROW())),\"\"),\"\")","v":""}]
[{"$f":"IFERROR(IF(INDIRECT($A$14&ROW())<>\"\",COUNTIF([1]Summary!$B$30:$B$1029,INDIRECT($A$14&ROW())),\"\"),\"\")","v":""}]
[{"$f":"IFERROR(IF(INDIRECT($A$14&ROW())<>\"\",COUNTIF([1]Summary!$B$30:$B$1029,INDIRECT($A$14&ROW())),\"\"),\"\")","v":""}]
[{"$f":"IFERROR(IF(INDIRECT($A$14&ROW())<>\"\",COUNTIF([1]Summary!$B$30:$B$1029,INDIRECT($A$14&ROW())),\"\"),\"\")","v":""}]
[{"$f":"IFERROR(IF(INDIRECT($A$14&ROW())<>\"\",COUNTIF([1]Summary!$B$30:$B$1029,INDIRECT($A$14&ROW())),\"\"),\"\")","v":""}]
[{"$f":"IFERROR(IF(INDIRECT($A$14&ROW())<>\"\",COUNTIF([1]Summary!$B$30:$B$1029,INDIRECT($A$14&ROW())),\"\"),\"\")","v":""}]
[{"$f":"IFERROR(IF(INDIRECT($A$14&ROW())<>\"\",COUNTIF([1]Summary!$B$30:$B$1029,INDIRECT($A$14&ROW())),\"\"),\"\")","v":""}]
[{"$f":"IFERROR(IF(INDIRECT($A$14&ROW())<>\"\",COUNTIF([1]Summary!$B$30:$B$1029,INDIRECT($A$14&ROW())),\"\"),\"\")","v":""}]
[{"$f":"IFERROR(IF(INDIRECT($A$14&ROW())<>\"\",COUNTIF([1]Summary!$B$30:$B$1029,INDIRECT($A$14&ROW())),\"\"),\"\")","v":""}]
[{"$f":"IFERROR(IF(INDIRECT($A$14&ROW())<>\"\",COUNTIF([1]Summary!$B$30:$B$1029,INDIRECT($A$14&ROW())),\"\"),\"\")","v":""}]
[{"$f":"IFERROR(IF(INDIRECT($A$14&ROW())<>\"\",COUNTIF([1]Summary!$B$30:$B$1029,INDIRECT($A$14&ROW())),\"\"),\"\")","v":""}]
[{"$f":"IFERROR(IF(INDIRECT($A$14&ROW())<>\"\",COUNTIF([1]Summary!$B$30:$B$1029,INDIRECT($A$14&ROW())),\"\"),\"\")","v":""}]
[{"$f":"IFERROR(IF(INDIRECT($A$14&ROW())<>\"\",COUNTIF([1]Summary!$B$30:$B$1029,INDIRECT($A$14&ROW())),\"\"),\"\")","v":""}]
[{"$f":"IFERROR(IF(INDIRECT($A$14&ROW())<>\"\",COUNTIF([1]Summary!$B$30:$B$1029,INDIRECT($A$14&ROW())),\"\"),\"\")","v":""}]
[{"$f":"IFERROR(IF(INDIRECT($A$14&ROW())<>\"\",COUNTIF([1]Summary!$B$30:$B$1029,INDIRECT($A$14&ROW())),\"\"),\"\")","v":""}]
[{"$f":"IFERROR(IF(INDIRECT($A$14&ROW())<>\"\",COUNTIF([1]Summary!$B$30:$B$1029,INDIRECT($A$14&ROW())),\"\"),\"\")","v":""}]
[{"$f":"IFERROR(IF(INDIRECT($A$14&ROW())<>\"\",COUNTIF([1]Summary!$B$30:$B$1029,INDIRECT($A$14&ROW())),\"\"),\"\")","v":""}]
[{"$f":"IFERROR(IF(INDIRECT($A$14&ROW())<>\"\",COUNTIF([1]Summary!$B$30:$B$1029,INDIRECT($A$14&ROW())),\"\"),\"\")","v":""}]
[{"$f":"IFERROR(IF(INDIRECT($A$14&ROW())<>\"\",COUNTIF([1]Summary!$B$30:$B$1029,INDIRECT($A$14&ROW())),\"\"),\"\")","v":""}]
[{"$f":"IFERROR(IF(INDIRECT($A$14&ROW())<>\"\",COUNTIF([1]Summary!$B$30:$B$1029,INDIRECT($A$14&ROW())),\"\"),\"\")","v":""}]
[{"$f":"IFERROR(IF(INDIRECT($A$14&ROW())<>\"\",COUNTIF([1]Summary!$B$30:$B$1029,INDIRECT($A$14&ROW())),\"\"),\"\")","v":""}]
[{"$f":"IFERROR(IF(INDIRECT($A$14&ROW())<>\"\",COUNTIF([1]Summary!$B$30:$B$1029,INDIRECT($A$14&ROW())),\"\"),\"\")","v":""}]
[{"$f":"IFERROR(IF(INDIRECT($A$14&ROW())<>\"\",COUNTIF([1]Summary!$B$30:$B$1029,INDIRECT($A$14&ROW())),\"\"),\"\")","v":""}]
[{"$f":"IFERROR(IF(INDIRECT($A$14&ROW())<>\"\",COUNTIF([1]Summary!$B$30:$B$1029,INDIRECT($A$14&ROW())),\"\"),\"\")","v":""}]
[{"$f":"IFERROR(IF(INDIRECT($A$14&ROW())<>\"\",COUNTIF([1]Summary!$B$30:$B$1029,INDIRECT($A$14&ROW())),\"\"),\"\")","v":""}]
[{"$f":"IFERROR(IF(INDIRECT($A$14&ROW())<>\"\",COUNTIF([1]Summary!$B$30:$B$1029,INDIRECT($A$14&ROW())),\"\"),\"\")","v":""}]
[{"$f":"IFERROR(IF(INDIRECT($A$14&ROW())<>\"\",COUNTIF([1]Summary!$B$30:$B$1029,INDIRECT($A$14&ROW())),\"\"),\"\")","v":""}]
[{"$f":"IFERROR(IF(INDIRECT($A$14&ROW())<>\"\",COUNTIF([1]Summary!$B$30:$B$1029,INDIRECT($A$14&ROW())),\"\"),\"\")","v":""}]
[{"$f":"IFERROR(IF(INDIRECT($A$14&ROW())<>\"\",COUNTIF([1]Summary!$B$30:$B$1029,INDIRECT($A$14&ROW())),\"\"),\"\")","v":""}]
[{"$f":"IFERROR(IF(INDIRECT($A$14&ROW())<>\"\",COUNTIF([1]Summary!$B$30:$B$1029,INDIRECT($A$14&ROW())),\"\"),\"\")","v":""}]
[{"$f":"IFERROR(IF(INDIRECT($A$14&ROW())<>\"\",COUNTIF([1]Summary!$B$30:$B$1029,INDIRECT($A$14&ROW())),\"\"),\"\")","v":""}]
[{"$f":"IFERROR(IF(INDIRECT($A$14&ROW())<>\"\",COUNTIF([1]Summary!$B$30:$B$1029,INDIRECT($A$14&ROW())),\"\"),\"\")","v":""}]
[{"$f":"IFERROR(IF(INDIRECT($A$14&ROW())<>\"\",COUNTIF([1]Summary!$B$30:$B$1029,INDIRECT($A$14&ROW())),\"\"),\"\")","v":""}]
[{"$f":"IFERROR(IF(INDIRECT($A$14&ROW())<>\"\",COUNTIF([1]Summary!$B$30:$B$1029,INDIRECT($A$14&ROW())),\"\"),\"\")","v":""}]
[{"$f":"IFERROR(IF(INDIRECT($A$14&ROW())<>\"\",COUNTIF([1]Summary!$B$30:$B$1029,INDIRECT($A$14&ROW())),\"\"),\"\")","v":""}]
[{"$f":"IFERROR(IF(INDIRECT($A$14&ROW())<>\"\",COUNTIF([1]Summary!$B$30:$B$1029,INDIRECT($A$14&ROW())),\"\"),\"\")","v":""}]
[{"$f":"IFERROR(IF(INDIRECT($A$14&ROW())<>\"\",COUNTIF([1]Summary!$B$30:$B$1029,INDIRECT($A$14&ROW())),\"\"),\"\")","v":""}]
[{"$f":"IFERROR(IF(INDIRECT($A$14&ROW())<>\"\",COUNTIF([1]Summary!$B$30:$B$1029,INDIRECT($A$14&ROW())),\"\"),\"\")","v":""}]
[{"$f":"IFERROR(IF(INDIRECT($A$14&ROW())<>\"\",COUNTIF([1]Summary!$B$30:$B$1029,INDIRECT($A$14&ROW())),\"\"),\"\")","v":""}]
[{"$f":"IFERROR(IF(INDIRECT($A$14&ROW())<>\"\",COUNTIF([1]Summary!$B$30:$B$1029,INDIRECT($A$14&ROW())),\"\"),\"\")","v":""}]
[{"$f":"IFERROR(IF(INDIRECT($A$14&ROW())<>\"\",COUNTIF([1]Summary!$B$30:$B$1029,INDIRECT($A$14&ROW())),\"\"),\"\")","v":""}]
[{"$f":"IFERROR(IF(INDIRECT($A$14&ROW())<>\"\",COUNTIF([1]Summary!$B$30:$B$1029,INDIRECT($A$14&ROW())),\"\"),\"\")","v":""}]
[{"$f":"IFERROR(IF(INDIRECT($A$14&ROW())<>\"\",COUNTIF([1]Summary!$B$30:$B$1029,INDIRECT($A$14&ROW())),\"\"),\"\")","v":""}]
[{"$f":"IFERROR(IF(INDIRECT($A$14&ROW())<>\"\",COUNTIF([1]Summary!$B$30:$B$1029,INDIRECT($A$14&ROW())),\"\"),\"\")","v":""}]
[{"$f":"IFERROR(IF(INDIRECT($A$14&ROW())<>\"\",COUNTIF([1]Summary!$B$30:$B$1029,INDIRECT($A$14&ROW())),\"\"),\"\")","v":""}]
[{"$f":"IFERROR(IF(INDIRECT($A$14&ROW())<>\"\",COUNTIF([1]Summary!$B$30:$B$1029,INDIRECT($A$14&ROW())),\"\"),\"\")","v":""}]
[{"$f":"IFERROR(IF(INDIRECT($A$14&ROW())<>\"\",COUNTIF([1]Summary!$B$30:$B$1029,INDIRECT($A$14&ROW())),\"\"),\"\")","v":""}]
[{"$f":"IFERROR(IF(INDIRECT($A$14&ROW())<>\"\",COUNTIF([1]Summary!$B$30:$B$1029,INDIRECT($A$14&ROW())),\"\"),\"\")","v":""}]
[{"$f":"IFERROR(IF(INDIRECT($A$14&ROW())<>\"\",COUNTIF([1]Summary!$B$30:$B$1029,INDIRECT($A$14&ROW())),\"\"),\"\")","v":""}]
[{"$f":"IFERROR(IF(INDIRECT($A$14&ROW())<>\"\",COUNTIF([1]Summary!$B$30:$B$1029,INDIRECT($A$14&ROW())),\"\"),\"\")","v":""}]
[{"$f":"IFERROR(IF(INDIRECT($A$14&ROW())<>\"\",COUNTIF([1]Summary!$B$30:$B$1029,INDIRECT($A$14&ROW())),\"\"),\"\")","v":""}]
[{"$f":"IFERROR(IF(INDIRECT($A$14&ROW())<>\"\",COUNTIF([1]Summary!$B$30:$B$1029,INDIRECT($A$14&ROW())),\"\"),\"\")","v":""}]
[{"$f":"IFERROR(IF(INDIRECT($A$14&ROW())<>\"\",COUNTIF([1]Summary!$B$30:$B$1029,INDIRECT($A$14&ROW())),\"\"),\"\")","v":""}]
[{"$f":"IFERROR(IF(INDIRECT($A$14&ROW())<>\"\",COUNTIF([1]Summary!$B$30:$B$1029,INDIRECT($A$14&ROW())),\"\"),\"\")","v":""}]
[{"$f":"IFERROR(IF(INDIRECT($A$14&ROW())<>\"\",COUNTIF([1]Summary!$B$30:$B$1029,INDIRECT($A$14&ROW())),\"\"),\"\")","v":""}]
[{"$f":"IFERROR(IF(INDIRECT($A$14&ROW())<>\"\",COUNTIF([1]Summary!$B$30:$B$1029,INDIRECT($A$14&ROW())),\"\"),\"\")","v":""}]
[{"$f":"IFERROR(IF(INDIRECT($A$14&ROW())<>\"\",COUNTIF([1]Summary!$B$30:$B$1029,INDIRECT($A$14&ROW())),\"\"),\"\")","v":""}]
[{"$f":"IFERROR(IF(INDIRECT($A$14&ROW())<>\"\",COUNTIF([1]Summary!$B$30:$B$1029,INDIRECT($A$14&ROW())),\"\"),\"\")","v":""}]
[{"$f":"IFERROR(IF(INDIRECT($A$14&ROW())<>\"\",COUNTIF([1]Summary!$B$30:$B$1029,INDIRECT($A$14&ROW())),\"\"),\"\")","v":""}]
[{"$f":"IFERROR(IF(INDIRECT($A$14&ROW())<>\"\",COUNTIF([1]Summary!$B$30:$B$1029,INDIRECT($A$14&ROW())),\"\"),\"\")","v":""}]
[{"$f":"IFERROR(IF(INDIRECT($A$14&ROW())<>\"\",COUNTIF([1]Summary!$B$30:$B$1029,INDIRECT($A$14&ROW())),\"\"),\"\")","v":""}]
[{"$f":"IFERROR(IF(INDIRECT($A$14&ROW())<>\"\",COUNTIF([1]Summary!$B$30:$B$1029,INDIRECT($A$14&ROW())),\"\"),\"\")","v":""}]
[{"$f":"IFERROR(IF(INDIRECT($A$14&ROW())<>\"\",COUNTIF([1]Summary!$B$30:$B$1029,INDIRECT($A$14&ROW())),\"\"),\"\")","v":""}]
[{"$f":"IFERROR(IF(INDIRECT($A$14&ROW())<>\"\",COUNTIF([1]Summary!$B$30:$B$1029,INDIRECT($A$14&ROW())),\"\"),\"\")","v":""}]
[{"$f":"IFERROR(IF(INDIRECT($A$14&ROW())<>\"\",COUNTIF([1]Summary!$B$30:$B$1029,INDIRECT($A$14&ROW())),\"\"),\"\")","v":""}]
[{"$f":"IFERROR(IF(INDIRECT($A$14&ROW())<>\"\",COUNTIF([1]Summary!$B$30:$B$1029,INDIRECT($A$14&ROW())),\"\"),\"\")","v":""}]
[{"$f":"IFERROR(IF(INDIRECT($A$14&ROW())<>\"\",COUNTIF([1]Summary!$B$30:$B$1029,INDIRECT($A$14&ROW())),\"\"),\"\")","v":""}]
[{"$f":"IFERROR(IF(INDIRECT($A$14&ROW())<>\"\",COUNTIF([1]Summary!$B$30:$B$1029,INDIRECT($A$14&ROW())),\"\"),\"\")","v":""}]
[{"$f":"IFERROR(IF(INDIRECT($A$14&ROW())<>\"\",COUNTIF([1]Summary!$B$30:$B$1029,INDIRECT($A$14&ROW())),\"\"),\"\")","v":""}]
[{"$f":"IFERROR(IF(INDIRECT($A$14&ROW())<>\"\",COUNTIF([1]Summary!$B$30:$B$1029,INDIRECT($A$14&ROW())),\"\"),\"\")","v":""}]
[{"$f":"IFERROR(IF(INDIRECT($A$14&ROW())<>\"\",COUNTIF([1]Summary!$B$30:$B$1029,INDIRECT($A$14&ROW())),\"\"),\"\")","v":""}]
[{"$f":"IFERROR(IF(INDIRECT($A$14&ROW())<>\"\",COUNTIF([1]Summary!$B$30:$B$1029,INDIRECT($A$14&ROW())),\"\"),\"\")","v":""}]
[{"$f":"IFERROR(IF(INDIRECT($A$14&ROW())<>\"\",COUNTIF([1]Summary!$B$30:$B$1029,INDIRECT($A$14&ROW())),\"\"),\"\")","v":""}]
[{"$f":"IFERROR(IF(INDIRECT($A$14&ROW())<>\"\",COUNTIF([1]Summary!$B$30:$B$1029,INDIRECT($A$14&ROW())),\"\"),\"\")","v":""}]
[{"$f":"IFERROR(IF(INDIRECT($A$14&ROW())<>\"\",COUNTIF([1]Summary!$B$30:$B$1029,INDIRECT($A$14&ROW())),\"\"),\"\")","v":""}]
[{"$f":"IFERROR(IF(INDIRECT($A$14&ROW())<>\"\",COUNTIF([1]Summary!$B$30:$B$1029,INDIRECT($A$14&ROW())),\"\"),\"\")","v":""}]
[{"$f":"IFERROR(IF(INDIRECT($A$14&ROW())<>\"\",COUNTIF([1]Summary!$B$30:$B$1029,INDIRECT($A$14&ROW())),\"\"),\"\")","v":""}]
[{"$f":"IFERROR(IF(INDIRECT($A$14&ROW())<>\"\",COUNTIF([1]Summary!$B$30:$B$1029,INDIRECT($A$14&ROW())),\"\"),\"\")","v":""}]
[{"$f":"IFERROR(IF(INDIRECT($A$14&ROW())<>\"\",COUNTIF([1]Summary!$B$30:$B$1029,INDIRECT($A$14&ROW())),\"\"),\"\")","v":""}]
[{"$f":"IFERROR(IF(INDIRECT($A$14&ROW())<>\"\",COUNTIF([1]Summary!$B$30:$B$1029,INDIRECT($A$14&ROW())),\"\"),\"\")","v":""}]
[{"$f":"IFERROR(IF(INDIRECT($A$14&ROW())<>\"\",COUNTIF([1]Summary!$B$30:$B$1029,INDIRECT($A$14&ROW())),\"\"),\"\")","v":""}]
[{"$f":"IFERROR(IF(INDIRECT($A$14&ROW())<>\"\",COUNTIF([1]Summary!$B$30:$B$1029,INDIRECT($A$14&ROW())),\"\"),\"\")","v":""}]
[{"$f":"IFERROR(IF(INDIRECT($A$14&ROW())<>\"\",COUNTIF([1]Summary!$B$30:$B$1029,INDIRECT($A$14&ROW())),\"\"),\"\")","v":""}]
[{"$f":"IFERROR(IF(INDIRECT($A$14&ROW())<>\"\",COUNTIF([1]Summary!$B$30:$B$1029,INDIRECT($A$14&ROW())),\"\"),\"\")","v":""}]
[{"$f":"IFERROR(IF(INDIRECT($A$14&ROW())<>\"\",COUNTIF([1]Summary!$B$30:$B$1029,INDIRECT($A$14&ROW())),\"\"),\"\")","v":""}]
[{"$f":"IFERROR(IF(INDIRECT($A$14&ROW())<>\"\",COUNTIF([1]Summary!$B$30:$B$1029,INDIRECT($A$14&ROW())),\"\"),\"\")","v":""}]
[{"$f":"IFERROR(IF(INDIRECT($A$14&ROW())<>\"\",COUNTIF([1]Summary!$B$30:$B$1029,INDIRECT($A$14&ROW())),\"\"),\"\")","v":""}]
[{"$f":"IFERROR(IF(INDIRECT($A$14&ROW())<>\"\",COUNTIF([1]Summary!$B$30:$B$1029,INDIRECT($A$14&ROW())),\"\"),\"\")","v":""}]
[{"$f":"IFERROR(IF(INDIRECT($A$14&ROW())<>\"\",COUNTIF([1]Summary!$B$30:$B$1029,INDIRECT($A$14&ROW())),\"\"),\"\")","v":""}]
[{"$f":"IFERROR(IF(INDIRECT($A$14&ROW())<>\"\",COUNTIF([1]Summary!$B$30:$B$1029,INDIRECT($A$14&ROW())),\"\"),\"\")","v":""}]
[{"$f":"IFERROR(IF(INDIRECT($A$14&ROW())<>\"\",COUNTIF([1]Summary!$B$30:$B$1029,INDIRECT($A$14&ROW())),\"\"),\"\")","v":""}]
[{"$f":"IFERROR(IF(INDIRECT($A$14&ROW())<>\"\",COUNTIF([1]Summary!$B$30:$B$1029,INDIRECT($A$14&ROW())),\"\"),\"\")","v":""}]
[{"$f":"IFERROR(IF(INDIRECT($A$14&ROW())<>\"\",COUNTIF([1]Summary!$B$30:$B$1029,INDIRECT($A$14&ROW())),\"\"),\"\")","v":""}]
[{"$f":"IFERROR(IF(INDIRECT($A$14&ROW())<>\"\",COUNTIF([1]Summary!$B$30:$B$1029,INDIRECT($A$14&ROW())),\"\"),\"\")","v":""}]
[{"$f":"IFERROR(IF(INDIRECT($A$14&ROW())<>\"\",COUNTIF([1]Summary!$B$30:$B$1029,INDIRECT($A$14&ROW())),\"\"),\"\")","v":""}]
[{"$f":"IFERROR(IF(INDIRECT($A$14&ROW())<>\"\",COUNTIF([1]Summary!$B$30:$B$1029,INDIRECT($A$14&ROW())),\"\"),\"\")","v":""}]
[{"$f":"IFERROR(IF(INDIRECT($A$14&ROW())<>\"\",COUNTIF([1]Summary!$B$30:$B$1029,INDIRECT($A$14&ROW())),\"\"),\"\")","v":""}]
[{"$f":"IFERROR(IF(INDIRECT($A$14&ROW())<>\"\",COUNTIF([1]Summary!$B$30:$B$1029,INDIRECT($A$14&ROW())),\"\"),\"\")","v":""}]
[{"$f":"IFERROR(IF(INDIRECT($A$14&ROW())<>\"\",COUNTIF([1]Summary!$B$30:$B$1029,INDIRECT($A$14&ROW())),\"\"),\"\")","v":""}]
[{"$f":"IFERROR(IF(INDIRECT($A$14&ROW())<>\"\",COUNTIF([1]Summary!$B$30:$B$1029,INDIRECT($A$14&ROW())),\"\"),\"\")","v":""}]
[{"$f":"IFERROR(IF(INDIRECT($A$14&ROW())<>\"\",COUNTIF([1]Summary!$B$30:$B$1029,INDIRECT($A$14&ROW())),\"\"),\"\")","v":""}]
[{"$f":"IFERROR(IF(INDIRECT($A$14&ROW())<>\"\",COUNTIF([1]Summary!$B$30:$B$1029,INDIRECT($A$14&ROW())),\"\"),\"\")","v":""}]
[{"$f":"IFERROR(IF(INDIRECT($A$14&ROW())<>\"\",COUNTIF([1]Summary!$B$30:$B$1029,INDIRECT($A$14&ROW())),\"\"),\"\")","v":""}]
[{"$f":"IFERROR(IF(INDIRECT($A$14&ROW())<>\"\",COUNTIF([1]Summary!$B$30:$B$1029,INDIRECT($A$14&ROW())),\"\"),\"\")","v":""}]
[{"$f":"IFERROR(IF(INDIRECT($A$14&ROW())<>\"\",COUNTIF([1]Summary!$B$30:$B$1029,INDIRECT($A$14&ROW())),\"\"),\"\")","v":""}]
[{"$f":"IFERROR(IF(INDIRECT($A$14&ROW())<>\"\",COUNTIF([1]Summary!$B$30:$B$1029,INDIRECT($A$14&ROW())),\"\"),\"\")","v":""}]
[{"$f":"IFERROR(IF(INDIRECT($A$14&ROW())<>\"\",COUNTIF([1]Summary!$B$30:$B$1029,INDIRECT($A$14&ROW())),\"\"),\"\")","v":""}]
[{"$f":"IFERROR(IF(INDIRECT($A$14&ROW())<>\"\",COUNTIF([1]Summary!$B$30:$B$1029,INDIRECT($A$14&ROW())),\"\"),\"\")","v":""}]
[{"$f":"IFERROR(IF(INDIRECT($A$14&ROW())<>\"\",COUNTIF([1]Summary!$B$30:$B$1029,INDIRECT($A$14&ROW())),\"\"),\"\")","v":""}]
[{"$f":"IFERROR(IF(INDIRECT($A$14&ROW())<>\"\",COUNTIF([1]Summary!$B$30:$B$1029,INDIRECT($A$14&ROW())),\"\"),\"\")","v":""}]
[{"$f":"IFERROR(IF(INDIRECT($A$14&ROW())<>\"\",COUNTIF([1]Summary!$B$30:$B$1029,INDIRECT($A$14&ROW())),\"\"),\"\")","v":""}]
[{"$f":"IFERROR(IF(INDIRECT($A$14&ROW())<>\"\",COUNTIF([1]Summary!$B$30:$B$1029,INDIRECT($A$14&ROW())),\"\"),\"\")","v":""}]
[{"$f":"IFERROR(IF(INDIRECT($A$14&ROW())<>\"\",COUNTIF([1]Summary!$B$30:$B$1029,INDIRECT($A$14&ROW())),\"\"),\"\")","v":""}]
[{"$f":"IFERROR(IF(INDIRECT($A$14&ROW())<>\"\",COUNTIF([1]Summary!$B$30:$B$1029,INDIRECT($A$14&ROW())),\"\"),\"\")","v":""}]
[{"$f":"IFERROR(IF(INDIRECT($A$14&ROW())<>\"\",COUNTIF([1]Summary!$B$30:$B$1029,INDIRECT($A$14&ROW())),\"\"),\"\")","v":""}]
[{"$f":"IFERROR(IF(INDIRECT($A$14&ROW())<>\"\",COUNTIF([1]Summary!$B$30:$B$1029,INDIRECT($A$14&ROW())),\"\"),\"\")","v":""}]
[{"$f":"IFERROR(IF(INDIRECT($A$14&ROW())<>\"\",COUNTIF([1]Summary!$B$30:$B$1029,INDIRECT($A$14&ROW())),\"\"),\"\")","v":""}]
[{"$f":"IFERROR(IF(INDIRECT($A$14&ROW())<>\"\",COUNTIF([1]Summary!$B$30:$B$1029,INDIRECT($A$14&ROW())),\"\"),\"\")","v":""}]
[{"$f":"IFERROR(IF(INDIRECT($A$14&ROW())<>\"\",COUNTIF([1]Summary!$B$30:$B$1029,INDIRECT($A$14&ROW())),\"\"),\"\")","v":""}]
[{"$f":"IFERROR(IF(INDIRECT($A$14&ROW())<>\"\",COUNTIF([1]Summary!$B$30:$B$1029,INDIRECT($A$14&ROW())),\"\"),\"\")","v":""}]
[{"$f":"IFERROR(IF(INDIRECT($A$14&ROW())<>\"\",COUNTIF([1]Summary!$B$30:$B$1029,INDIRECT($A$14&ROW())),\"\"),\"\")","v":""}]
[{"$f":"IFERROR(IF(INDIRECT($A$14&ROW())<>\"\",COUNTIF([1]Summary!$B$30:$B$1029,INDIRECT($A$14&ROW())),\"\"),\"\")","v":""}]
[{"$f":"IFERROR(IF(INDIRECT($A$14&ROW())<>\"\",COUNTIF([1]Summary!$B$30:$B$1029,INDIRECT($A$14&ROW())),\"\"),\"\")","v":""}]
[{"$f":"IFERROR(IF(INDIRECT($A$14&ROW())<>\"\",COUNTIF([1]Summary!$B$30:$B$1029,INDIRECT($A$14&ROW())),\"\"),\"\")","v":""}]
[{"$f":"IFERROR(IF(INDIRECT($A$14&ROW())<>\"\",COUNTIF([1]Summary!$B$30:$B$1029,INDIRECT($A$14&ROW())),\"\"),\"\")","v":""}]
[{"$f":"IFERROR(IF(INDIRECT($A$14&ROW())<>\"\",COUNTIF([1]Summary!$B$30:$B$1029,INDIRECT($A$14&ROW())),\"\"),\"\")","v":""}]
[{"$f":"IFERROR(IF(INDIRECT($A$14&ROW())<>\"\",COUNTIF([1]Summary!$B$30:$B$1029,INDIRECT($A$14&ROW())),\"\"),\"\")","v":""}]
[{"$f":"IFERROR(IF(INDIRECT($A$14&ROW())<>\"\",COUNTIF([1]Summary!$B$30:$B$1029,INDIRECT($A$14&ROW())),\"\"),\"\")","v":""}]
[{"$f":"IFERROR(IF(INDIRECT($A$14&ROW())<>\"\",COUNTIF([1]Summary!$B$30:$B$1029,INDIRECT($A$14&ROW())),\"\"),\"\")","v":""}]
[{"$f":"IFERROR(IF(INDIRECT($A$14&ROW())<>\"\",COUNTIF([1]Summary!$B$30:$B$1029,INDIRECT($A$14&ROW())),\"\"),\"\")","v":""}]
[{"$f":"IFERROR(IF(INDIRECT($A$14&ROW())<>\"\",COUNTIF([1]Summary!$B$30:$B$1029,INDIRECT($A$14&ROW())),\"\"),\"\")","v":""}]
[{"$f":"IFERROR(IF(INDIRECT($A$14&ROW())<>\"\",COUNTIF([1]Summary!$B$30:$B$1029,INDIRECT($A$14&ROW())),\"\"),\"\")","v":""}]
[{"$f":"IFERROR(IF(INDIRECT($A$14&ROW())<>\"\",COUNTIF([1]Summary!$B$30:$B$1029,INDIRECT($A$14&ROW())),\"\"),\"\")","v":""}]
[{"$f":"IFERROR(IF(INDIRECT($A$14&ROW())<>\"\",COUNTIF([1]Summary!$B$30:$B$1029,INDIRECT($A$14&ROW())),\"\"),\"\")","v":""}]
[{"$f":"IFERROR(IF(INDIRECT($A$14&ROW())<>\"\",COUNTIF([1]Summary!$B$30:$B$1029,INDIRECT($A$14&ROW())),\"\"),\"\")","v":""}]
[{"$f":"IFERROR(IF(INDIRECT($A$14&ROW())<>\"\",COUNTIF([1]Summary!$B$30:$B$1029,INDIRECT($A$14&ROW())),\"\"),\"\")","v":""}]
[{"$f":"IFERROR(IF(INDIRECT($A$14&ROW())<>\"\",COUNTIF([1]Summary!$B$30:$B$1029,INDIRECT($A$14&ROW())),\"\"),\"\")","v":""}]
[{"$f":"IFERROR(IF(INDIRECT($A$14&ROW())<>\"\",COUNTIF([1]Summary!$B$30:$B$1029,INDIRECT($A$14&ROW())),\"\"),\"\")","v":""}]
[{"$f":"IFERROR(IF(INDIRECT($A$14&ROW())<>\"\",COUNTIF([1]Summary!$B$30:$B$1029,INDIRECT($A$14&ROW())),\"\"),\"\")","v":""}]
[{"$f":"IFERROR(IF(INDIRECT($A$14&ROW())<>\"\",COUNTIF([1]Summary!$B$30:$B$1029,INDIRECT($A$14&ROW())),\"\"),\"\")","v":""}]
[{"$f":"IFERROR(IF(INDIRECT($A$14&ROW())<>\"\",COUNTIF([1]Summary!$B$30:$B$1029,INDIRECT($A$14&ROW())),\"\"),\"\")","v":""}]
[{"$f":"IFERROR(IF(INDIRECT($A$14&ROW())<>\"\",COUNTIF([1]Summary!$B$30:$B$1029,INDIRECT($A$14&ROW())),\"\"),\"\")","v":""}]
[{"$f":"IFERROR(IF(INDIRECT($A$14&ROW())<>\"\",COUNTIF([1]Summary!$B$30:$B$1029,INDIRECT($A$14&ROW())),\"\"),\"\")","v":""}]
[{"$f":"IFERROR(IF(INDIRECT($A$14&ROW())<>\"\",COUNTIF([1]Summary!$B$30:$B$1029,INDIRECT($A$14&ROW())),\"\"),\"\")","v":""}]
[{"$f":"IFERROR(IF(INDIRECT($A$14&ROW())<>\"\",COUNTIF([1]Summary!$B$30:$B$1029,INDIRECT($A$14&ROW())),\"\"),\"\")","v":""}]
[{"$f":"IFERROR(IF(INDIRECT($A$14&ROW())<>\"\",COUNTIF([1]Summary!$B$30:$B$1029,INDIRECT($A$14&ROW())),\"\"),\"\")","v":""}]
[{"$f":"IFERROR(IF(INDIRECT($A$14&ROW())<>\"\",COUNTIF([1]Summary!$B$30:$B$1029,INDIRECT($A$14&ROW())),\"\"),\"\")","v":""}]
[{"$f":"IFERROR(IF(INDIRECT($A$14&ROW())<>\"\",COUNTIF([1]Summary!$B$30:$B$1029,INDIRECT($A$14&ROW())),\"\"),\"\")","v":""}]
[{"$f":"IFERROR(IF(INDIRECT($A$14&ROW())<>\"\",COUNTIF([1]Summary!$B$30:$B$1029,INDIRECT($A$14&ROW())),\"\"),\"\")","v":""}]
[{"$f":"IFERROR(IF(INDIRECT($A$14&ROW())<>\"\",COUNTIF([1]Summary!$B$30:$B$1029,INDIRECT($A$14&ROW())),\"\"),\"\")","v":""}]
[{"$f":"IFERROR(IF(INDIRECT($A$14&ROW())<>\"\",COUNTIF([1]Summary!$B$30:$B$1029,INDIRECT($A$14&ROW())),\"\"),\"\")","v":""}]
[{"$f":"IFERROR(IF(INDIRECT($A$14&ROW())<>\"\",COUNTIF([1]Summary!$B$30:$B$1029,INDIRECT($A$14&ROW())),\"\"),\"\")","v":""}]
[{"$f":"IFERROR(IF(INDIRECT($A$14&ROW())<>\"\",COUNTIF([1]Summary!$B$30:$B$1029,INDIRECT($A$14&ROW())),\"\"),\"\")","v":""}]
[{"$f":"IFERROR(IF(INDIRECT($A$14&ROW())<>\"\",COUNTIF([1]Summary!$B$30:$B$1029,INDIRECT($A$14&ROW())),\"\"),\"\")","v":""}]
[{"$f":"IFERROR(IF(INDIRECT($A$14&ROW())<>\"\",COUNTIF([1]Summary!$B$30:$B$1029,INDIRECT($A$14&ROW())),\"\"),\"\")","v":""}]
[{"$f":"IFERROR(IF(INDIRECT($A$14&ROW())<>\"\",COUNTIF([1]Summary!$B$30:$B$1029,INDIRECT($A$14&ROW())),\"\"),\"\")","v":""}]
[{"$f":"IFERROR(IF(INDIRECT($A$14&ROW())<>\"\",COUNTIF([1]Summary!$B$30:$B$1029,INDIRECT($A$14&ROW())),\"\"),\"\")","v":""}]
[{"$f":"IFERROR(IF(INDIRECT($A$14&ROW())<>\"\",COUNTIF([1]Summary!$B$30:$B$1029,INDIRECT($A$14&ROW())),\"\"),\"\")","v":""}]
[{"$f":"IFERROR(IF(INDIRECT($A$14&ROW())<>\"\",COUNTIF([1]Summary!$B$30:$B$1029,INDIRECT($A$14&ROW())),\"\"),\"\")","v":""}]
[{"$f":"IFERROR(IF(INDIRECT($A$14&ROW())<>\"\",COUNTIF([1]Summary!$B$30:$B$1029,INDIRECT($A$14&ROW())),\"\"),\"\")","v":""}]
[{"$f":"IFERROR(IF(INDIRECT($A$14&ROW())<>\"\",COUNTIF([1]Summary!$B$30:$B$1029,INDIRECT($A$14&ROW())),\"\"),\"\")","v":""}]
[{"$f":"IFERROR(IF(INDIRECT($A$14&ROW())<>\"\",COUNTIF([1]Summary!$B$30:$B$1029,INDIRECT($A$14&ROW())),\"\"),\"\")","v":""}]
[{"$f":"IFERROR(IF(INDIRECT($A$14&ROW())<>\"\",COUNTIF([1]Summary!$B$30:$B$1029,INDIRECT($A$14&ROW())),\"\"),\"\")","v":""}]
[{"$f":"IFERROR(IF(INDIRECT($A$14&ROW())<>\"\",COUNTIF([1]Summary!$B$30:$B$1029,INDIRECT($A$14&ROW())),\"\"),\"\")","v":""}]
[{"$f":"IFERROR(IF(INDIRECT($A$14&ROW())<>\"\",COUNTIF([1]Summary!$B$30:$B$1029,INDIRECT($A$14&ROW())),\"\"),\"\")","v":""}]
[{"$f":"IFERROR(IF(INDIRECT($A$14&ROW())<>\"\",COUNTIF([1]Summary!$B$30:$B$1029,INDIRECT($A$14&ROW())),\"\"),\"\")","v":""}]
[{"$f":"IFERROR(IF(INDIRECT($A$14&ROW())<>\"\",COUNTIF([1]Summary!$B$30:$B$1029,INDIRECT($A$14&ROW())),\"\"),\"\")","v":""}]
[{"$f":"IFERROR(IF(INDIRECT($A$14&ROW())<>\"\",COUNTIF([1]Summary!$B$30:$B$1029,INDIRECT($A$14&ROW())),\"\"),\"\")","v":""}]
[{"$f":"IFERROR(IF(INDIRECT($A$14&ROW())<>\"\",COUNTIF([1]Summary!$B$30:$B$1029,INDIRECT($A$14&ROW())),\"\"),\"\")","v":""}]
[{"$f":"IFERROR(IF(INDIRECT($A$14&ROW())<>\"\",COUNTIF([1]Summary!$B$30:$B$1029,INDIRECT($A$14&ROW())),\"\"),\"\")","v":""}]
[{"$f":"IFERROR(IF(INDIRECT($A$14&ROW())<>\"\",COUNTIF([1]Summary!$B$30:$B$1029,INDIRECT($A$14&ROW())),\"\"),\"\")","v":""}]
[{"$f":"IFERROR(IF(INDIRECT($A$14&ROW())<>\"\",COUNTIF([1]Summary!$B$30:$B$1029,INDIRECT($A$14&ROW())),\"\"),\"\")","v":""}]
[{"$f":"IFERROR(IF(INDIRECT($A$14&ROW())<>\"\",COUNTIF([1]Summary!$B$30:$B$1029,INDIRECT($A$14&ROW())),\"\"),\"\")","v":""}]
[{"$f":"IFERROR(IF(INDIRECT($A$14&ROW())<>\"\",COUNTIF([1]Summary!$B$30:$B$1029,INDIRECT($A$14&ROW())),\"\"),\"\")","v":""}]
[{"$f":"IFERROR(IF(INDIRECT($A$14&ROW())<>\"\",COUNTIF([1]Summary!$B$30:$B$1029,INDIRECT($A$14&ROW())),\"\"),\"\")","v":""}]
[{"$f":"IFERROR(IF(INDIRECT($A$14&ROW())<>\"\",COUNTIF([1]Summary!$B$30:$B$1029,INDIRECT($A$14&ROW())),\"\"),\"\")","v":""}]
[{"$f":"IFERROR(IF(INDIRECT($A$14&ROW())<>\"\",COUNTIF([1]Summary!$B$30:$B$1029,INDIRECT($A$14&ROW())),\"\"),\"\")","v":""}]
[{"$f":"IFERROR(IF(INDIRECT($A$14&ROW())<>\"\",COUNTIF([1]Summary!$B$30:$B$1029,INDIRECT($A$14&ROW())),\"\"),\"\")","v":""}]
[{"$f":"IFERROR(IF(INDIRECT($A$14&ROW())<>\"\",COUNTIF([1]Summary!$B$30:$B$1029,INDIRECT($A$14&ROW())),\"\"),\"\")","v":""}]
[{"$f":"IFERROR(IF(INDIRECT($A$14&ROW())<>\"\",COUNTIF([1]Summary!$B$30:$B$1029,INDIRECT($A$14&ROW())),\"\"),\"\")","v":""}]
[{"$f":"IFERROR(IF(INDIRECT($A$14&ROW())<>\"\",COUNTIF([1]Summary!$B$30:$B$1029,INDIRECT($A$14&ROW())),\"\"),\"\")","v":""}]
[{"$f":"IFERROR(IF(INDIRECT($A$14&ROW())<>\"\",COUNTIF([1]Summary!$B$30:$B$1029,INDIRECT($A$14&ROW())),\"\"),\"\")","v":""}]
[{"$f":"IFERROR(IF(INDIRECT($A$14&ROW())<>\"\",COUNTIF([1]Summary!$B$30:$B$1029,INDIRECT($A$14&ROW())),\"\"),\"\")","v":""}]
[{"$f":"IFERROR(IF(INDIRECT($A$14&ROW())<>\"\",COUNTIF([1]Summary!$B$30:$B$1029,INDIRECT($A$14&ROW())),\"\"),\"\")","v":""}]
[{"$f":"IFERROR(IF(INDIRECT($A$14&ROW())<>\"\",COUNTIF([1]Summary!$B$30:$B$1029,INDIRECT($A$14&ROW())),\"\"),\"\")","v":""}]
[{"$f":"IFERROR(IF(INDIRECT($A$14&ROW())<>\"\",COUNTIF([1]Summary!$B$30:$B$1029,INDIRECT($A$14&ROW())),\"\"),\"\")","v":""}]
[{"$f":"IFERROR(IF(INDIRECT($A$14&ROW())<>\"\",COUNTIF([1]Summary!$B$30:$B$1029,INDIRECT($A$14&ROW())),\"\"),\"\")","v":""}]
[{"$f":"IFERROR(IF(INDIRECT($A$14&ROW())<>\"\",COUNTIF([1]Summary!$B$30:$B$1029,INDIRECT($A$14&ROW())),\"\"),\"\")","v":""}]
[{"$f":"IFERROR(IF(INDIRECT($A$14&ROW())<>\"\",COUNTIF([1]Summary!$B$30:$B$1029,INDIRECT($A$14&ROW())),\"\"),\"\")","v":""}]
[{"$f":"IFERROR(IF(INDIRECT($A$14&ROW())<>\"\",COUNTIF([1]Summary!$B$30:$B$1029,INDIRECT($A$14&ROW())),\"\"),\"\")","v":""}]
[{"$f":"IFERROR(IF(INDIRECT($A$14&ROW())<>\"\",COUNTIF([1]Summary!$B$30:$B$1029,INDIRECT($A$14&ROW())),\"\"),\"\")","v":""}]
[{"$f":"IFERROR(IF(INDIRECT($A$14&ROW())<>\"\",COUNTIF([1]Summary!$B$30:$B$1029,INDIRECT($A$14&ROW())),\"\"),\"\")","v":""}]
[{"$f":"IFERROR(IF(INDIRECT($A$14&ROW())<>\"\",COUNTIF([1]Summary!$B$30:$B$1029,INDIRECT($A$14&ROW())),\"\"),\"\")","v":""}]
[{"$f":"IFERROR(IF(INDIRECT($A$14&ROW())<>\"\",COUNTIF([1]Summary!$B$30:$B$1029,INDIRECT($A$14&ROW())),\"\"),\"\")","v":""}]
[{"$f":"IFERROR(IF(INDIRECT($A$14&ROW())<>\"\",COUNTIF([1]Summary!$B$30:$B$1029,INDIRECT($A$14&ROW())),\"\"),\"\")","v":""}]
[{"$f":"IFERROR(IF(INDIRECT($A$14&ROW())<>\"\",COUNTIF([1]Summary!$B$30:$B$1029,INDIRECT($A$14&ROW())),\"\"),\"\")","v":""}]
[{"$f":"IFERROR(IF(INDIRECT($A$14&ROW())<>\"\",COUNTIF([1]Summary!$B$30:$B$1029,INDIRECT($A$14&ROW())),\"\"),\"\")","v":""}]
[{"$f":"IFERROR(IF(INDIRECT($A$14&ROW())<>\"\",COUNTIF([1]Summary!$B$30:$B$1029,INDIRECT($A$14&ROW())),\"\"),\"\")","v":""}]
[{"$f":"IFERROR(IF(INDIRECT($A$14&ROW())<>\"\",COUNTIF([1]Summary!$B$30:$B$1029,INDIRECT($A$14&ROW())),\"\"),\"\")","v":""}]
[{"$f":"IFERROR(IF(INDIRECT($A$14&ROW())<>\"\",COUNTIF([1]Summary!$B$30:$B$1029,INDIRECT($A$14&ROW())),\"\"),\"\")","v":""}]
[{"$f":"IFERROR(IF(INDIRECT($A$14&ROW())<>\"\",COUNTIF([1]Summary!$B$30:$B$1029,INDIRECT($A$14&ROW())),\"\"),\"\")","v":""}]
[{"$f":"IFERROR(IF(INDIRECT($A$14&ROW())<>\"\",COUNTIF([1]Summary!$B$30:$B$1029,INDIRECT($A$14&ROW())),\"\"),\"\")","v":""}]
[{"$f":"IFERROR(IF(INDIRECT($A$14&ROW())<>\"\",COUNTIF([1]Summary!$B$30:$B$1029,INDIRECT($A$14&ROW())),\"\"),\"\")","v":""}]
[{"$f":"IFERROR(IF(INDIRECT($A$14&ROW())<>\"\",COUNTIF([1]Summary!$B$30:$B$1029,INDIRECT($A$14&ROW())),\"\"),\"\")","v":""}]
[{"$f":"IFERROR(IF(INDIRECT($A$14&ROW())<>\"\",COUNTIF([1]Summary!$B$30:$B$1029,INDIRECT($A$14&ROW())),\"\"),\"\")","v":""}]
[{"$f":"IFERROR(IF(INDIRECT($A$14&ROW())<>\"\",COUNTIF([1]Summary!$B$30:$B$1029,INDIRECT($A$14&ROW())),\"\"),\"\")","v":""}]
[{"$f":"IFERROR(IF(INDIRECT($A$14&ROW())<>\"\",COUNTIF([1]Summary!$B$30:$B$1029,INDIRECT($A$14&ROW())),\"\"),\"\")","v":""}]
[{"$f":"IFERROR(IF(INDIRECT($A$14&ROW())<>\"\",COUNTIF([1]Summary!$B$30:$B$1029,INDIRECT($A$14&ROW())),\"\"),\"\")","v":""}]
[{"$f":"IFERROR(IF(INDIRECT($A$14&ROW())<>\"\",COUNTIF([1]Summary!$B$30:$B$1029,INDIRECT($A$14&ROW())),\"\"),\"\")","v":""}]
[{"$f":"IFERROR(IF(INDIRECT($A$14&ROW())<>\"\",COUNTIF([1]Summary!$B$30:$B$1029,INDIRECT($A$14&ROW())),\"\"),\"\")","v":""}]
[{"$f":"IFERROR(IF(INDIRECT($A$14&ROW())<>\"\",COUNTIF([1]Summary!$B$30:$B$1029,INDIRECT($A$14&ROW())),\"\"),\"\")","v":""}]
[{"$f":"IFERROR(IF(INDIRECT($A$14&ROW())<>\"\",COUNTIF([1]Summary!$B$30:$B$1029,INDIRECT($A$14&ROW())),\"\"),\"\")","v":""}]
[{"$f":"IFERROR(IF(INDIRECT($A$14&ROW())<>\"\",COUNTIF([1]Summary!$B$30:$B$1029,INDIRECT($A$14&ROW())),\"\"),\"\")","v":""}]
[{"$f":"IFERROR(IF(INDIRECT($A$14&ROW())<>\"\",COUNTIF([1]Summary!$B$30:$B$1029,INDIRECT($A$14&ROW())),\"\"),\"\")","v":""}]
[{"$f":"IFERROR(IF(INDIRECT($A$14&ROW())<>\"\",COUNTIF([1]Summary!$B$30:$B$1029,INDIRECT($A$14&ROW())),\"\"),\"\")","v":""}]
[{"$f":"IFERROR(IF(INDIRECT($A$14&ROW())<>\"\",COUNTIF([1]Summary!$B$30:$B$1029,INDIRECT($A$14&ROW())),\"\"),\"\")","v":""}]
[{"$f":"IFERROR(IF(INDIRECT($A$14&ROW())<>\"\",COUNTIF([1]Summary!$B$30:$B$1029,INDIRECT($A$14&ROW())),\"\"),\"\")","v":""}]
[{"$f":"IFERROR(IF(INDIRECT($A$14&ROW())<>\"\",COUNTIF([1]Summary!$B$30:$B$1029,INDIRECT($A$14&ROW())),\"\"),\"\")","v":""}]
[{"$f":"IFERROR(IF(INDIRECT($A$14&ROW())<>\"\",COUNTIF([1]Summary!$B$30:$B$1029,INDIRECT($A$14&ROW())),\"\"),\"\")","v":""}]
[{"$f":"IFERROR(IF(INDIRECT($A$14&ROW())<>\"\",COUNTIF([1]Summary!$B$30:$B$1029,INDIRECT($A$14&ROW())),\"\"),\"\")","v":""}]
[{"$f":"IFERROR(IF(INDIRECT($A$14&ROW())<>\"\",COUNTIF([1]Summary!$B$30:$B$1029,INDIRECT($A$14&ROW())),\"\"),\"\")","v":""}]
[{"$f":"IFERROR(IF(INDIRECT($A$14&ROW())<>\"\",COUNTIF([1]Summary!$B$30:$B$1029,INDIRECT($A$14&ROW())),\"\"),\"\")","v":""}]
[{"$f":"IFERROR(IF(INDIRECT($A$14&ROW())<>\"\",COUNTIF([1]Summary!$B$30:$B$1029,INDIRECT($A$14&ROW())),\"\"),\"\")","v":""}]
[{"$f":"IFERROR(IF(INDIRECT($A$14&ROW())<>\"\",COUNTIF([1]Summary!$B$30:$B$1029,INDIRECT($A$14&ROW())),\"\"),\"\")","v":""}]
[{"$f":"IFERROR(IF(INDIRECT($A$14&ROW())<>\"\",COUNTIF([1]Summary!$B$30:$B$1029,INDIRECT($A$14&ROW())),\"\"),\"\")","v":""}]
[{"$f":"IFERROR(IF(INDIRECT($A$14&ROW())<>\"\",COUNTIF([1]Summary!$B$30:$B$1029,INDIRECT($A$14&ROW())),\"\"),\"\")","v":""}]
[{"$f":"IFERROR(IF(INDIRECT($A$14&ROW())<>\"\",COUNTIF([1]Summary!$B$30:$B$1029,INDIRECT($A$14&ROW())),\"\"),\"\")","v":""}]
[{"$f":"IFERROR(IF(INDIRECT($A$14&ROW())<>\"\",COUNTIF([1]Summary!$B$30:$B$1029,INDIRECT($A$14&ROW())),\"\"),\"\")","v":""}]
[{"$f":"IFERROR(IF(INDIRECT($A$14&ROW())<>\"\",COUNTIF([1]Summary!$B$30:$B$1029,INDIRECT($A$14&ROW())),\"\"),\"\")","v":""}]
[{"$f":"IFERROR(IF(INDIRECT($A$14&ROW())<>\"\",COUNTIF([1]Summary!$B$30:$B$1029,INDIRECT($A$14&ROW())),\"\"),\"\")","v":""}]
[{"$f":"IFERROR(IF(INDIRECT($A$14&ROW())<>\"\",COUNTIF([1]Summary!$B$30:$B$1029,INDIRECT($A$14&ROW())),\"\"),\"\")","v":""}]
[{"$f":"IFERROR(IF(INDIRECT($A$14&ROW())<>\"\",COUNTIF([1]Summary!$B$30:$B$1029,INDIRECT($A$14&ROW())),\"\"),\"\")","v":""}]
[{"$f":"IFERROR(IF(INDIRECT($A$14&ROW())<>\"\",COUNTIF([1]Summary!$B$30:$B$1029,INDIRECT($A$14&ROW())),\"\"),\"\")","v":""}]
[{"$f":"IFERROR(IF(INDIRECT($A$14&ROW())<>\"\",COUNTIF([1]Summary!$B$30:$B$1029,INDIRECT($A$14&ROW())),\"\"),\"\")","v":""}]
[{"$f":"IFERROR(IF(INDIRECT($A$14&ROW())<>\"\",COUNTIF([1]Summary!$B$30:$B$1029,INDIRECT($A$14&ROW())),\"\"),\"\")","v":""}]
[{"$f":"IFERROR(IF(INDIRECT($A$14&ROW())<>\"\",COUNTIF([1]Summary!$B$30:$B$1029,INDIRECT($A$14&ROW())),\"\"),\"\")","v":""}]
[{"$f":"IFERROR(IF(INDIRECT($A$14&ROW())<>\"\",COUNTIF([1]Summary!$B$30:$B$1029,INDIRECT($A$14&ROW())),\"\"),\"\")","v":""}]
[{"$f":"IFERROR(IF(INDIRECT($A$14&ROW())<>\"\",COUNTIF([1]Summary!$B$30:$B$1029,INDIRECT($A$14&ROW())),\"\"),\"\")","v":""}]
[{"$f":"IFERROR(IF(INDIRECT($A$14&ROW())<>\"\",COUNTIF([1]Summary!$B$30:$B$1029,INDIRECT($A$14&ROW())),\"\"),\"\")","v":""}]
[{"$f":"IFERROR(IF(INDIRECT($A$14&ROW())<>\"\",COUNTIF([1]Summary!$B$30:$B$1029,INDIRECT($A$14&ROW())),\"\"),\"\")","v":""}]
[{"$f":"IFERROR(IF(INDIRECT($A$14&ROW())<>\"\",COUNTIF([1]Summary!$B$30:$B$1029,INDIRECT($A$14&ROW())),\"\"),\"\")","v":""}]
[{"$f":"IFERROR(IF(INDIRECT($A$14&ROW())<>\"\",COUNTIF([1]Summary!$B$30:$B$1029,INDIRECT($A$14&ROW())),\"\"),\"\")","v":""}]
[{"$f":"IFERROR(IF(INDIRECT($A$14&ROW())<>\"\",COUNTIF([1]Summary!$B$30:$B$1029,INDIRECT($A$14&ROW())),\"\"),\"\")","v":""}]
[{"$f":"IFERROR(IF(INDIRECT($A$14&ROW())<>\"\",COUNTIF([1]Summary!$B$30:$B$1029,INDIRECT($A$14&ROW())),\"\"),\"\")","v":""}]
[{"$f":"IFERROR(IF(INDIRECT($A$14&ROW())<>\"\",COUNTIF([1]Summary!$B$30:$B$1029,INDIRECT($A$14&ROW())),\"\"),\"\")","v":""}]
[{"$f":"IFERROR(IF(INDIRECT($A$14&ROW())<>\"\",COUNTIF([1]Summary!$B$30:$B$1029,INDIRECT($A$14&ROW())),\"\"),\"\")","v":""}]
[{"$f":"IFERROR(IF(INDIRECT($A$14&ROW())<>\"\",COUNTIF([1]Summary!$B$30:$B$1029,INDIRECT($A$14&ROW())),\"\"),\"\")","v":""}]
[{"$f":"IFERROR(IF(INDIRECT($A$14&ROW())<>\"\",COUNTIF([1]Summary!$B$30:$B$1029,INDIRECT($A$14&ROW())),\"\"),\"\")","v":""}]
[{"$f":"IFERROR(IF(INDIRECT($A$14&ROW())<>\"\",COUNTIF([1]Summary!$B$30:$B$1029,INDIRECT($A$14&ROW())),\"\"),\"\")","v":""}]
[{"$f":"IFERROR(IF(INDIRECT($A$14&ROW())<>\"\",COUNTIF([1]Summary!$B$30:$B$1029,INDIRECT($A$14&ROW())),\"\"),\"\")","v":""}]
[{"$f":"IFERROR(IF(INDIRECT($A$14&ROW())<>\"\",COUNTIF([1]Summary!$B$30:$B$1029,INDIRECT($A$14&ROW())),\"\"),\"\")","v":""}]
[{"$f":"IFERROR(IF(INDIRECT($A$14&ROW())<>\"\",COUNTIF([1]Summary!$B$30:$B$1029,INDIRECT($A$14&ROW())),\"\"),\"\")","v":""}]
[{"$f":"IFERROR(IF(INDIRECT($A$14&ROW())<>\"\",COUNTIF([1]Summary!$B$30:$B$1029,INDIRECT($A$14&ROW())),\"\"),\"\")","v":""}]
[{"$f":"IFERROR(IF(INDIRECT($A$14&ROW())<>\"\",COUNTIF([1]Summary!$B$30:$B$1029,INDIRECT($A$14&ROW())),\"\"),\"\")","v":""}]
[{"$f":"IFERROR(IF(INDIRECT($A$14&ROW())<>\"\",COUNTIF([1]Summary!$B$30:$B$1029,INDIRECT($A$14&ROW())),\"\"),\"\")","v":""}]
[{"$f":"IFERROR(IF(INDIRECT($A$14&ROW())<>\"\",COUNTIF([1]Summary!$B$30:$B$1029,INDIRECT($A$14&ROW())),\"\"),\"\")","v":""}]
[{"$f":"IFERROR(IF(INDIRECT($A$14&ROW())<>\"\",COUNTIF([1]Summary!$B$30:$B$1029,INDIRECT($A$14&ROW())),\"\"),\"\")","v":""}]
[{"$f":"IFERROR(IF(INDIRECT($A$14&ROW())<>\"\",COUNTIF([1]Summary!$B$30:$B$1029,INDIRECT($A$14&ROW())),\"\"),\"\")","v":""}]
[{"$f":"IFERROR(IF(INDIRECT($A$14&ROW())<>\"\",COUNTIF([1]Summary!$B$30:$B$1029,INDIRECT($A$14&ROW())),\"\"),\"\")","v":""}]
[{"$f":"IFERROR(IF(INDIRECT($A$14&ROW())<>\"\",COUNTIF([1]Summary!$B$30:$B$1029,INDIRECT($A$14&ROW())),\"\"),\"\")","v":""}]
[{"$f":"IFERROR(IF(INDIRECT($A$14&ROW())<>\"\",COUNTIF([1]Summary!$B$30:$B$1029,INDIRECT($A$14&ROW())),\"\"),\"\")","v":""}]
[{"$f":"IFERROR(IF(INDIRECT($A$14&ROW())<>\"\",COUNTIF([1]Summary!$B$30:$B$1029,INDIRECT($A$14&ROW())),\"\"),\"\")","v":""}]
[{"$f":"IFERROR(IF(INDIRECT($A$14&ROW())<>\"\",COUNTIF([1]Summary!$B$30:$B$1029,INDIRECT($A$14&ROW())),\"\"),\"\")","v":""}]
[{"$f":"IFERROR(IF(INDIRECT($A$14&ROW())<>\"\",COUNTIF([1]Summary!$B$30:$B$1029,INDIRECT($A$14&ROW())),\"\"),\"\")","v":""}]
[{"$f":"IFERROR(IF(INDIRECT($A$14&ROW())<>\"\",COUNTIF([1]Summary!$B$30:$B$1029,INDIRECT($A$14&ROW())),\"\"),\"\")","v":""}]
[{"$f":"IFERROR(IF(INDIRECT($A$14&ROW())<>\"\",COUNTIF([1]Summary!$B$30:$B$1029,INDIRECT($A$14&ROW())),\"\"),\"\")","v":""}]
[{"$f":"IFERROR(IF(INDIRECT($A$14&ROW())<>\"\",COUNTIF([1]Summary!$B$30:$B$1029,INDIRECT($A$14&ROW())),\"\"),\"\")","v":""}]
[{"$f":"IFERROR(IF(INDIRECT($A$14&ROW())<>\"\",COUNTIF([1]Summary!$B$30:$B$1029,INDIRECT($A$14&ROW())),\"\"),\"\")","v":""}]
[{"$f":"IFERROR(IF(INDIRECT($A$14&ROW())<>\"\",COUNTIF([1]Summary!$B$30:$B$1029,INDIRECT($A$14&ROW())),\"\"),\"\")","v":""}]
[{"$f":"IFERROR(IF(INDIRECT($A$14&ROW())<>\"\",COUNTIF([1]Summary!$B$30:$B$1029,INDIRECT($A$14&ROW())),\"\"),\"\")","v":""}]
[{"$f":"IFERROR(IF(INDIRECT($A$14&ROW())<>\"\",COUNTIF([1]Summary!$B$30:$B$1029,INDIRECT($A$14&ROW())),\"\"),\"\")","v":""}]
[{"$f":"IFERROR(IF(INDIRECT($A$14&ROW())<>\"\",COUNTIF([1]Summary!$B$30:$B$1029,INDIRECT($A$14&ROW())),\"\"),\"\")","v":""}]
[{"$f":"IFERROR(IF(INDIRECT($A$14&ROW())<>\"\",COUNTIF([1]Summary!$B$30:$B$1029,INDIRECT($A$14&ROW())),\"\"),\"\")","v":""}]
[{"$f":"IFERROR(IF(INDIRECT($A$14&ROW())<>\"\",COUNTIF([1]Summary!$B$30:$B$1029,INDIRECT($A$14&ROW())),\"\"),\"\")","v":""}]
[{"$f":"IFERROR(IF(INDIRECT($A$14&ROW())<>\"\",COUNTIF([1]Summary!$B$30:$B$1029,INDIRECT($A$14&ROW())),\"\"),\"\")","v":""}]
[{"$f":"IFERROR(IF(INDIRECT($A$14&ROW())<>\"\",COUNTIF([1]Summary!$B$30:$B$1029,INDIRECT($A$14&ROW())),\"\"),\"\")","v":""}]
[{"$f":"IFERROR(IF(INDIRECT($A$14&ROW())<>\"\",COUNTIF([1]Summary!$B$30:$B$1029,INDIRECT($A$14&ROW())),\"\"),\"\")","v":""}]
[{"$f":"IFERROR(IF(INDIRECT($A$14&ROW())<>\"\",COUNTIF([1]Summary!$B$30:$B$1029,INDIRECT($A$14&ROW())),\"\"),\"\")","v":""}]
[{"$f":"IFERROR(IF(INDIRECT($A$14&ROW())<>\"\",COUNTIF([1]Summary!$B$30:$B$1029,INDIRECT($A$14&ROW())),\"\"),\"\")","v":""}]
[{"$f":"IFERROR(IF(INDIRECT($A$14&ROW())<>\"\",COUNTIF([1]Summary!$B$30:$B$1029,INDIRECT($A$14&ROW())),\"\"),\"\")","v":""}]
[{"$f":"IFERROR(IF(INDIRECT($A$14&ROW())<>\"\",COUNTIF([1]Summary!$B$30:$B$1029,INDIRECT($A$14&ROW())),\"\"),\"\")","v":""}]
[{"$f":"IFERROR(IF(INDIRECT($A$14&ROW())<>\"\",COUNTIF([1]Summary!$B$30:$B$1029,INDIRECT($A$14&ROW())),\"\"),\"\")","v":""}]
[{"$f":"IFERROR(IF(INDIRECT($A$14&ROW())<>\"\",COUNTIF([1]Summary!$B$30:$B$1029,INDIRECT($A$14&ROW())),\"\"),\"\")","v":""}]
[{"$f":"IFERROR(IF(INDIRECT($A$14&ROW())<>\"\",COUNTIF([1]Summary!$B$30:$B$1029,INDIRECT($A$14&ROW())),\"\"),\"\")","v":""}]
[{"$f":"IFERROR(IF(INDIRECT($A$14&ROW())<>\"\",COUNTIF([1]Summary!$B$30:$B$1029,INDIRECT($A$14&ROW())),\"\"),\"\")","v":""}]
[{"$f":"IFERROR(IF(INDIRECT($A$14&ROW())<>\"\",COUNTIF([1]Summary!$B$30:$B$1029,INDIRECT($A$14&ROW())),\"\"),\"\")","v":""}]
[{"$f":"IFERROR(IF(INDIRECT($A$14&ROW())<>\"\",COUNTIF([1]Summary!$B$30:$B$1029,INDIRECT($A$14&ROW())),\"\"),\"\")","v":""}]
[{"$f":"IFERROR(IF(INDIRECT($A$14&ROW())<>\"\",COUNTIF([1]Summary!$B$30:$B$1029,INDIRECT($A$14&ROW())),\"\"),\"\")","v":""}]
[{"$f":"IFERROR(IF(INDIRECT($A$14&ROW())<>\"\",COUNTIF([1]Summary!$B$30:$B$1029,INDIRECT($A$14&ROW())),\"\"),\"\")","v":""}]
[{"$f":"IFERROR(IF(INDIRECT($A$14&ROW())<>\"\",COUNTIF([1]Summary!$B$30:$B$1029,INDIRECT($A$14&ROW())),\"\"),\"\")","v":""}]
[{"$f":"IFERROR(IF(INDIRECT($A$14&ROW())<>\"\",COUNTIF([1]Summary!$B$30:$B$1029,INDIRECT($A$14&ROW())),\"\"),\"\")","v":""}]
[{"$f":"IFERROR(IF(INDIRECT($A$14&ROW())<>\"\",COUNTIF([1]Summary!$B$30:$B$1029,INDIRECT($A$14&ROW())),\"\"),\"\")","v":""}]
[{"$f":"IFERROR(IF(INDIRECT($A$14&ROW())<>\"\",COUNTIF([1]Summary!$B$30:$B$1029,INDIRECT($A$14&ROW())),\"\"),\"\")","v":""}]
[{"$f":"IFERROR(IF(INDIRECT($A$14&ROW())<>\"\",COUNTIF([1]Summary!$B$30:$B$1029,INDIRECT($A$14&ROW())),\"\"),\"\")","v":""}]
[{"$f":"IFERROR(IF(INDIRECT($A$14&ROW())<>\"\",COUNTIF([1]Summary!$B$30:$B$1029,INDIRECT($A$14&ROW())),\"\"),\"\")","v":""}]
[{"$f":"IFERROR(IF(INDIRECT($A$14&ROW())<>\"\",COUNTIF([1]Summary!$B$30:$B$1029,INDIRECT($A$14&ROW())),\"\"),\"\")","v":""}]
[{"$f":"IFERROR(IF(INDIRECT($A$14&ROW())<>\"\",COUNTIF([1]Summary!$B$30:$B$1029,INDIRECT($A$14&ROW())),\"\"),\"\")","v":""}]
[{"$f":"IFERROR(IF(INDIRECT($A$14&ROW())<>\"\",COUNTIF([1]Summary!$B$30:$B$1029,INDIRECT($A$14&ROW())),\"\"),\"\")","v":""}]
[{"$f":"IFERROR(IF(INDIRECT($A$14&ROW())<>\"\",COUNTIF([1]Summary!$B$30:$B$1029,INDIRECT($A$14&ROW())),\"\"),\"\")","v":""}]
[{"$f":"IFERROR(IF(INDIRECT($A$14&ROW())<>\"\",COUNTIF([1]Summary!$B$30:$B$1029,INDIRECT($A$14&ROW())),\"\"),\"\")","v":""}]
[{"$f":"IFERROR(IF(INDIRECT($A$14&ROW())<>\"\",COUNTIF([1]Summary!$B$30:$B$1029,INDIRECT($A$14&ROW())),\"\"),\"\")","v":""}]
[{"$f":"IFERROR(IF(INDIRECT($A$14&ROW())<>\"\",COUNTIF([1]Summary!$B$30:$B$1029,INDIRECT($A$14&ROW())),\"\"),\"\")","v":""}]
[{"$f":"IFERROR(IF(INDIRECT($A$14&ROW())<>\"\",COUNTIF([1]Summary!$B$30:$B$1029,INDIRECT($A$14&ROW())),\"\"),\"\")","v":""}]
[{"$f":"IFERROR(IF(INDIRECT($A$14&ROW())<>\"\",COUNTIF([1]Summary!$B$30:$B$1029,INDIRECT($A$14&ROW())),\"\"),\"\")","v":""}]
[{"$f":"IFERROR(IF(INDIRECT($A$14&ROW())<>\"\",COUNTIF([1]Summary!$B$30:$B$1029,INDIRECT($A$14&ROW())),\"\"),\"\")","v":""}]
[{"$f":"IFERROR(IF(INDIRECT($A$14&ROW())<>\"\",COUNTIF([1]Summary!$B$30:$B$1029,INDIRECT($A$14&ROW())),\"\"),\"\")","v":""}]
[{"$f":"IFERROR(IF(INDIRECT($A$14&ROW())<>\"\",COUNTIF([1]Summary!$B$30:$B$1029,INDIRECT($A$14&ROW())),\"\"),\"\")","v":""}]
[{"$f":"IFERROR(IF(INDIRECT($A$14&ROW())<>\"\",COUNTIF([1]Summary!$B$30:$B$1029,INDIRECT($A$14&ROW())),\"\"),\"\")","v":""}]
[{"$f":"IFERROR(IF(INDIRECT($A$14&ROW())<>\"\",COUNTIF([1]Summary!$B$30:$B$1029,INDIRECT($A$14&ROW())),\"\"),\"\")","v":""}]
[{"$f":"IFERROR(IF(INDIRECT($A$14&ROW())<>\"\",COUNTIF([1]Summary!$B$30:$B$1029,INDIRECT($A$14&ROW())),\"\"),\"\")","v":""}]
[{"$f":"IFERROR(IF(INDIRECT($A$14&ROW())<>\"\",COUNTIF([1]Summary!$B$30:$B$1029,INDIRECT($A$14&ROW())),\"\"),\"\")","v":""}]
[{"$f":"IFERROR(IF(INDIRECT($A$14&ROW())<>\"\",COUNTIF([1]Summary!$B$30:$B$1029,INDIRECT($A$14&ROW())),\"\"),\"\")","v":""}]
[{"$f":"IFERROR(IF(INDIRECT($A$14&ROW())<>\"\",COUNTIF([1]Summary!$B$30:$B$1029,INDIRECT($A$14&ROW())),\"\"),\"\")","v":""}]
[{"$f":"IFERROR(IF(INDIRECT($A$14&ROW())<>\"\",COUNTIF([1]Summary!$B$30:$B$1029,INDIRECT($A$14&ROW())),\"\"),\"\")","v":""}]
[{"$f":"IFERROR(IF(INDIRECT($A$14&ROW())<>\"\",COUNTIF([1]Summary!$B$30:$B$1029,INDIRECT($A$14&ROW())),\"\"),\"\")","v":""}]
[{"$f":"IFERROR(IF(INDIRECT($A$14&ROW())<>\"\",COUNTIF([1]Summary!$B$30:$B$1029,INDIRECT($A$14&ROW())),\"\"),\"\")","v":""}]
[{"$f":"IFERROR(IF(INDIRECT($A$14&ROW())<>\"\",COUNTIF([1]Summary!$B$30:$B$1029,INDIRECT($A$14&ROW())),\"\"),\"\")","v":""}]
[{"$f":"IFERROR(IF(INDIRECT($A$14&ROW())<>\"\",COUNTIF([1]Summary!$B$30:$B$1029,INDIRECT($A$14&ROW())),\"\"),\"\")","v":""}]
[{"$f":"IFERROR(IF(INDIRECT($A$14&ROW())<>\"\",COUNTIF([1]Summary!$B$30:$B$1029,INDIRECT($A$14&ROW())),\"\"),\"\")","v":""}]
[{"$f":"IFERROR(IF(INDIRECT($A$14&ROW())<>\"\",COUNTIF([1]Summary!$B$30:$B$1029,INDIRECT($A$14&ROW())),\"\"),\"\")","v":""}]
[{"$f":"IFERROR(IF(INDIRECT($A$14&ROW())<>\"\",COUNTIF([1]Summary!$B$30:$B$1029,INDIRECT($A$14&ROW())),\"\"),\"\")","v":""}]
[{"$f":"IFERROR(IF(INDIRECT($A$14&ROW())<>\"\",COUNTIF([1]Summary!$B$30:$B$1029,INDIRECT($A$14&ROW())),\"\"),\"\")","v":""}]
[{"$f":"IFERROR(IF(INDIRECT($A$14&ROW())<>\"\",COUNTIF([1]Summary!$B$30:$B$1029,INDIRECT($A$14&ROW())),\"\"),\"\")","v":""}]
[{"$f":"IFERROR(IF(INDIRECT($A$14&ROW())<>\"\",COUNTIF([1]Summary!$B$30:$B$1029,INDIRECT($A$14&ROW())),\"\"),\"\")","v":""}]
[{"$f":"IFERROR(IF(INDIRECT($A$14&ROW())<>\"\",COUNTIF([1]Summary!$B$30:$B$1029,INDIRECT($A$14&ROW())),\"\"),\"\")","v":""}]
[{"$f":"IFERROR(IF(INDIRECT($A$14&ROW())<>\"\",COUNTIF([1]Summary!$B$30:$B$1029,INDIRECT($A$14&ROW())),\"\"),\"\")","v":""}]
[{"$f":"IFERROR(IF(INDIRECT($A$14&ROW())<>\"\",COUNTIF([1]Summary!$B$30:$B$1029,INDIRECT($A$14&ROW())),\"\"),\"\")","v":""}]
[{"$f":"IFERROR(IF(INDIRECT($A$14&ROW())<>\"\",COUNTIF([1]Summary!$B$30:$B$1029,INDIRECT($A$14&ROW())),\"\"),\"\")","v":""}]
[{"$f":"IFERROR(IF(INDIRECT($A$14&ROW())<>\"\",COUNTIF([1]Summary!$B$30:$B$1029,INDIRECT($A$14&ROW())),\"\"),\"\")","v":""}]
[{"$f":"IFERROR(IF(INDIRECT($A$14&ROW())<>\"\",COUNTIF([1]Summary!$B$30:$B$1029,INDIRECT($A$14&ROW())),\"\"),\"\")","v":""}]
[{"$f":"IFERROR(IF(INDIRECT($A$14&ROW())<>\"\",COUNTIF([1]Summary!$B$30:$B$1029,INDIRECT($A$14&ROW())),\"\"),\"\")","v":""}]
[{"$f":"IFERROR(IF(INDIRECT($A$14&ROW())<>\"\",COUNTIF([1]Summary!$B$30:$B$1029,INDIRECT($A$14&ROW())),\"\"),\"\")","v":""}]
[{"$f":"IFERROR(IF(INDIRECT($A$14&ROW())<>\"\",COUNTIF([1]Summary!$B$30:$B$1029,INDIRECT($A$14&ROW())),\"\"),\"\")","v":""}]
[{"$f":"IFERROR(IF(INDIRECT($A$14&ROW())<>\"\",COUNTIF([1]Summary!$B$30:$B$1029,INDIRECT($A$14&ROW())),\"\"),\"\")","v":""}]
[{"$f":"IFERROR(IF(INDIRECT($A$14&ROW())<>\"\",COUNTIF([1]Summary!$B$30:$B$1029,INDIRECT($A$14&ROW())),\"\"),\"\")","v":""}]
[{"$f":"IFERROR(IF(INDIRECT($A$14&ROW())<>\"\",COUNTIF([1]Summary!$B$30:$B$1029,INDIRECT($A$14&ROW())),\"\"),\"\")","v":""}]
[{"$f":"IFERROR(IF(INDIRECT($A$14&ROW())<>\"\",COUNTIF([1]Summary!$B$30:$B$1029,INDIRECT($A$14&ROW())),\"\"),\"\")","v":""}]
[{"$f":"IFERROR(IF(INDIRECT($A$14&ROW())<>\"\",COUNTIF([1]Summary!$B$30:$B$1029,INDIRECT($A$14&ROW())),\"\"),\"\")","v":""}]
[{"$f":"IFERROR(IF(INDIRECT($A$14&ROW())<>\"\",COUNTIF([1]Summary!$B$30:$B$1029,INDIRECT($A$14&ROW())),\"\"),\"\")","v":""}]
[{"$f":"IFERROR(IF(INDIRECT($A$14&ROW())<>\"\",COUNTIF([1]Summary!$B$30:$B$1029,INDIRECT($A$14&ROW())),\"\"),\"\")","v":""}]
[{"$f":"IFERROR(IF(INDIRECT($A$14&ROW())<>\"\",COUNTIF([1]Summary!$B$30:$B$1029,INDIRECT($A$14&ROW())),\"\"),\"\")","v":""}]
[{"$f":"IFERROR(IF(INDIRECT($A$14&ROW())<>\"\",COUNTIF([1]Summary!$B$30:$B$1029,INDIRECT($A$14&ROW())),\"\"),\"\")","v":""}]
[{"$f":"IFERROR(IF(INDIRECT($A$14&ROW())<>\"\",COUNTIF([1]Summary!$B$30:$B$1029,INDIRECT($A$14&ROW())),\"\"),\"\")","v":""}]
[{"$f":"IFERROR(IF(INDIRECT($A$14&ROW())<>\"\",COUNTIF([1]Summary!$B$30:$B$1029,INDIRECT($A$14&ROW())),\"\"),\"\")","v":""}]
[{"$f":"IFERROR(IF(INDIRECT($A$14&ROW())<>\"\",COUNTIF([1]Summary!$B$30:$B$1029,INDIRECT($A$14&ROW())),\"\"),\"\")","v":""}]
[{"$f":"IFERROR(IF(INDIRECT($A$14&ROW())<>\"\",COUNTIF([1]Summary!$B$30:$B$1029,INDIRECT($A$14&ROW())),\"\"),\"\")","v":""}]
[{"$f":"IFERROR(IF(INDIRECT($A$14&ROW())<>\"\",COUNTIF([1]Summary!$B$30:$B$1029,INDIRECT($A$14&ROW())),\"\"),\"\")","v":""}]
[{"$f":"IFERROR(IF(INDIRECT($A$14&ROW())<>\"\",COUNTIF([1]Summary!$B$30:$B$1029,INDIRECT($A$14&ROW())),\"\"),\"\")","v":""}]
[{"$f":"IFERROR(IF(INDIRECT($A$14&ROW())<>\"\",COUNTIF([1]Summary!$B$30:$B$1029,INDIRECT($A$14&ROW())),\"\"),\"\")","v":""}]
[{"$f":"IFERROR(IF(INDIRECT($A$14&ROW())<>\"\",COUNTIF([1]Summary!$B$30:$B$1029,INDIRECT($A$14&ROW())),\"\"),\"\")","v":""}]
[{"$f":"IFERROR(IF(INDIRECT($A$14&ROW())<>\"\",COUNTIF([1]Summary!$B$30:$B$1029,INDIRECT($A$14&ROW())),\"\"),\"\")","v":""}]
[{"$f":"IFERROR(IF(INDIRECT($A$14&ROW())<>\"\",COUNTIF([1]Summary!$B$30:$B$1029,INDIRECT($A$14&ROW())),\"\"),\"\")","v":""}]
[{"$f":"IFERROR(IF(INDIRECT($A$14&ROW())<>\"\",COUNTIF([1]Summary!$B$30:$B$1029,INDIRECT($A$14&ROW())),\"\"),\"\")","v":""}]
[{"$f":"IFERROR(IF(INDIRECT($A$14&ROW())<>\"\",COUNTIF([1]Summary!$B$30:$B$1029,INDIRECT($A$14&ROW())),\"\"),\"\")","v":""}]
[{"$f":"IFERROR(IF(INDIRECT($A$14&ROW())<>\"\",COUNTIF([1]Summary!$B$30:$B$1029,INDIRECT($A$14&ROW())),\"\"),\"\")","v":""}]
[{"$f":"IFERROR(IF(INDIRECT($A$14&ROW())<>\"\",COUNTIF([1]Summary!$B$30:$B$1029,INDIRECT($A$14&ROW())),\"\"),\"\")","v":""}]
[{"$f":"IFERROR(IF(INDIRECT($A$14&ROW())<>\"\",COUNTIF([1]Summary!$B$30:$B$1029,INDIRECT($A$14&ROW())),\"\"),\"\")","v":""}]
[{"$f":"IFERROR(IF(INDIRECT($A$14&ROW())<>\"\",COUNTIF([1]Summary!$B$30:$B$1029,INDIRECT($A$14&ROW())),\"\"),\"\")","v":""}]
[{"$f":"IFERROR(IF(INDIRECT($A$14&ROW())<>\"\",COUNTIF([1]Summary!$B$30:$B$1029,INDIRECT($A$14&ROW())),\"\"),\"\")","v":""}]
[{"$f":"IFERROR(IF(INDIRECT($A$14&ROW())<>\"\",COUNTIF([1]Summary!$B$30:$B$1029,INDIRECT($A$14&ROW())),\"\"),\"\")","v":""}]
[{"$f":"IFERROR(IF(INDIRECT($A$14&ROW())<>\"\",COUNTIF([1]Summary!$B$30:$B$1029,INDIRECT($A$14&ROW())),\"\"),\"\")","v":""}]
[{"$f":"IFERROR(IF(INDIRECT($A$14&ROW())<>\"\",COUNTIF([1]Summary!$B$30:$B$1029,INDIRECT($A$14&ROW())),\"\"),\"\")","v":""}]
[{"$f":"IFERROR(IF(INDIRECT($A$14&ROW())<>\"\",COUNTIF([1]Summary!$B$30:$B$1029,INDIRECT($A$14&ROW())),\"\"),\"\")","v":""}]
[{"$f":"IFERROR(IF(INDIRECT($A$14&ROW())<>\"\",COUNTIF([1]Summary!$B$30:$B$1029,INDIRECT($A$14&ROW())),\"\"),\"\")","v":""}]
[{"$f":"IFERROR(IF(INDIRECT($A$14&ROW())<>\"\",COUNTIF([1]Summary!$B$30:$B$1029,INDIRECT($A$14&ROW())),\"\"),\"\")","v":""}]
[{"$f":"IFERROR(IF(INDIRECT($A$14&ROW())<>\"\",COUNTIF([1]Summary!$B$30:$B$1029,INDIRECT($A$14&ROW())),\"\"),\"\")","v":""}]
[{"$f":"IFERROR(IF(INDIRECT($A$14&ROW())<>\"\",COUNTIF([1]Summary!$B$30:$B$1029,INDIRECT($A$14&ROW())),\"\"),\"\")","v":""}]
[{"$f":"IFERROR(IF(INDIRECT($A$14&ROW())<>\"\",COUNTIF([1]Summary!$B$30:$B$1029,INDIRECT($A$14&ROW())),\"\"),\"\")","v":""}]
[{"$f":"IFERROR(IF(INDIRECT($A$14&ROW())<>\"\",COUNTIF([1]Summary!$B$30:$B$1029,INDIRECT($A$14&ROW())),\"\"),\"\")","v":""}]
[{"$f":"IFERROR(IF(INDIRECT($A$14&ROW())<>\"\",COUNTIF([1]Summary!$B$30:$B$1029,INDIRECT($A$14&ROW())),\"\"),\"\")","v":""}]
[{"$f":"IFERROR(IF(INDIRECT($A$14&ROW())<>\"\",COUNTIF([1]Summary!$B$30:$B$1029,INDIRECT($A$14&ROW())),\"\"),\"\")","v":""}]
[{"$f":"IFERROR(IF(INDIRECT($A$14&ROW())<>\"\",COUNTIF([1]Summary!$B$30:$B$1029,INDIRECT($A$14&ROW())),\"\"),\"\")","v":""}]
[{"$f":"IFERROR(IF(INDIRECT($A$14&ROW())<>\"\",COUNTIF([1]Summary!$B$30:$B$1029,INDIRECT($A$14&ROW())),\"\"),\"\")","v":""}]
[{"$f":"IFERROR(IF(INDIRECT($A$14&ROW())<>\"\",COUNTIF([1]Summary!$B$30:$B$1029,INDIRECT($A$14&ROW())),\"\"),\"\")","v":""}]
[{"$f":"IFERROR(IF(INDIRECT($A$14&ROW())<>\"\",COUNTIF([1]Summary!$B$30:$B$1029,INDIRECT($A$14&ROW())),\"\"),\"\")","v":""}]
[{"$f":"IFERROR(IF(INDIRECT($A$14&ROW())<>\"\",COUNTIF([1]Summary!$B$30:$B$1029,INDIRECT($A$14&ROW())),\"\"),\"\")","v":""}]
[{"$f":"IFERROR(IF(INDIRECT($A$14&ROW())<>\"\",COUNTIF([1]Summary!$B$30:$B$1029,INDIRECT($A$14&ROW())),\"\"),\"\")","v":""}]
[{"$f":"IFERROR(IF(INDIRECT($A$14&ROW())<>\"\",COUNTIF([1]Summary!$B$30:$B$1029,INDIRECT($A$14&ROW())),\"\"),\"\")","v":""}]
[{"$f":"IFERROR(IF(INDIRECT($A$14&ROW())<>\"\",COUNTIF([1]Summary!$B$30:$B$1029,INDIRECT($A$14&ROW())),\"\"),\"\")","v":""}]
[{"$f":"IFERROR(IF(INDIRECT($A$14&ROW())<>\"\",COUNTIF([1]Summary!$B$30:$B$1029,INDIRECT($A$14&ROW())),\"\"),\"\")","v":""}]
[{"$f":"IFERROR(IF(INDIRECT($A$14&ROW())<>\"\",COUNTIF([1]Summary!$B$30:$B$1029,INDIRECT($A$14&ROW())),\"\"),\"\")","v":""}]
[{"$f":"IFERROR(IF(INDIRECT($A$14&ROW())<>\"\",COUNTIF([1]Summary!$B$30:$B$1029,INDIRECT($A$14&ROW())),\"\"),\"\")","v":""}]
[{"$f":"IFERROR(IF(INDIRECT($A$14&ROW())<>\"\",COUNTIF([1]Summary!$B$30:$B$1029,INDIRECT($A$14&ROW())),\"\"),\"\")","v":""}]
[{"$f":"IFERROR(IF(INDIRECT($A$14&ROW())<>\"\",COUNTIF([1]Summary!$B$30:$B$1029,INDIRECT($A$14&ROW())),\"\"),\"\")","v":""}]
[{"$f":"IFERROR(IF(INDIRECT($A$14&ROW())<>\"\",COUNTIF([1]Summary!$B$30:$B$1029,INDIRECT($A$14&ROW())),\"\"),\"\")","v":""}]
[{"$f":"IFERROR(IF(INDIRECT($A$14&ROW())<>\"\",COUNTIF([1]Summary!$B$30:$B$1029,INDIRECT($A$14&ROW())),\"\"),\"\")","v":""}]
[{"$f":"IFERROR(IF(INDIRECT($A$14&ROW())<>\"\",COUNTIF([1]Summary!$B$30:$B$1029,INDIRECT($A$14&ROW())),\"\"),\"\")","v":""}]
[{"$f":"IFERROR(IF(INDIRECT($A$14&ROW())<>\"\",COUNTIF([1]Summary!$B$30:$B$1029,INDIRECT($A$14&ROW())),\"\"),\"\")","v":""}]
[{"$f":"IFERROR(IF(INDIRECT($A$14&ROW())<>\"\",COUNTIF([1]Summary!$B$30:$B$1029,INDIRECT($A$14&ROW())),\"\"),\"\")","v":""}]
[{"$f":"IFERROR(IF(INDIRECT($A$14&ROW())<>\"\",COUNTIF([1]Summary!$B$30:$B$1029,INDIRECT($A$14&ROW())),\"\"),\"\")","v":""}]
[{"$f":"IFERROR(IF(INDIRECT($A$14&ROW())<>\"\",COUNTIF([1]Summary!$B$30:$B$1029,INDIRECT($A$14&ROW())),\"\"),\"\")","v":""}]
[{"$f":"IFERROR(IF(INDIRECT($A$14&ROW())<>\"\",COUNTIF([1]Summary!$B$30:$B$1029,INDIRECT($A$14&ROW())),\"\"),\"\")","v":""}]
[{"$f":"IFERROR(IF(INDIRECT($A$14&ROW())<>\"\",COUNTIF([1]Summary!$B$30:$B$1029,INDIRECT($A$14&ROW())),\"\"),\"\")","v":""}]
[{"$f":"IFERROR(IF(INDIRECT($A$14&ROW())<>\"\",COUNTIF([1]Summary!$B$30:$B$1029,INDIRECT($A$14&ROW())),\"\"),\"\")","v":""}]
[{"$f":"IFERROR(IF(INDIRECT($A$14&ROW())<>\"\",COUNTIF([1]Summary!$B$30:$B$1029,INDIRECT($A$14&ROW())),\"\"),\"\")","v":""}]
[{"$f":"IFERROR(IF(INDIRECT($A$14&ROW())<>\"\",COUNTIF([1]Summary!$B$30:$B$1029,INDIRECT($A$14&ROW())),\"\"),\"\")","v":""}]
[{"$f":"IFERROR(IF(INDIRECT($A$14&ROW())<>\"\",COUNTIF([1]Summary!$B$30:$B$1029,INDIRECT($A$14&ROW())),\"\"),\"\")","v":""}]
[{"$f":"IFERROR(IF(INDIRECT($A$14&ROW())<>\"\",COUNTIF([1]Summary!$B$30:$B$1029,INDIRECT($A$14&ROW())),\"\"),\"\")","v":""}]
[{"$f":"IFERROR(IF(INDIRECT($A$14&ROW())<>\"\",COUNTIF([1]Summary!$B$30:$B$1029,INDIRECT($A$14&ROW())),\"\"),\"\")","v":""}]
[{"$f":"IFERROR(IF(INDIRECT($A$14&ROW())<>\"\",COUNTIF([1]Summary!$B$30:$B$1029,INDIRECT($A$14&ROW())),\"\"),\"\")","v":""}]
[{"$f":"IFERROR(IF(INDIRECT($A$14&ROW())<>\"\",COUNTIF([1]Summary!$B$30:$B$1029,INDIRECT($A$14&ROW())),\"\"),\"\")","v":""}]
[{"$f":"IFERROR(IF(INDIRECT($A$14&ROW())<>\"\",COUNTIF([1]Summary!$B$30:$B$1029,INDIRECT($A$14&ROW())),\"\"),\"\")","v":""}]
[{"$f":"IFERROR(IF(INDIRECT($A$14&ROW())<>\"\",COUNTIF([1]Summary!$B$30:$B$1029,INDIRECT($A$14&ROW())),\"\"),\"\")","v":""}]
[{"$f":"IFERROR(IF(INDIRECT($A$14&ROW())<>\"\",COUNTIF([1]Summary!$B$30:$B$1029,INDIRECT($A$14&ROW())),\"\"),\"\")","v":""}]
[{"$f":"IFERROR(IF(INDIRECT($A$14&ROW())<>\"\",COUNTIF([1]Summary!$B$30:$B$1029,INDIRECT($A$14&ROW())),\"\"),\"\")","v":""}]
[{"$f":"IFERROR(IF(INDIRECT($A$14&ROW())<>\"\",COUNTIF([1]Summary!$B$30:$B$1029,INDIRECT($A$14&ROW())),\"\"),\"\")","v":""}]
[{"$f":"IFERROR(IF(INDIRECT($A$14&ROW())<>\"\",COUNTIF([1]Summary!$B$30:$B$1029,INDIRECT($A$14&ROW())),\"\"),\"\")","v":""}]
[{"$f":"IFERROR(IF(INDIRECT($A$14&ROW())<>\"\",COUNTIF([1]Summary!$B$30:$B$1029,INDIRECT($A$14&ROW())),\"\"),\"\")","v":""}]
[{"$f":"IFERROR(IF(INDIRECT($A$14&ROW())<>\"\",COUNTIF([1]Summary!$B$30:$B$1029,INDIRECT($A$14&ROW())),\"\"),\"\")","v":""}]
[{"$f":"IFERROR(IF(INDIRECT($A$14&ROW())<>\"\",COUNTIF([1]Summary!$B$30:$B$1029,INDIRECT($A$14&ROW())),\"\"),\"\")","v":""}]
[{"$f":"IFERROR(IF(INDIRECT($A$14&ROW())<>\"\",COUNTIF([1]Summary!$B$30:$B$1029,INDIRECT($A$14&ROW())),\"\"),\"\")","v":""}]
[{"$f":"IFERROR(IF(INDIRECT($A$14&ROW())<>\"\",COUNTIF([1]Summary!$B$30:$B$1029,INDIRECT($A$14&ROW())),\"\"),\"\")","v":""}]
[{"$f":"IFERROR(IF(INDIRECT($A$14&ROW())<>\"\",COUNTIF([1]Summary!$B$30:$B$1029,INDIRECT($A$14&ROW())),\"\"),\"\")","v":""}]
[{"$f":"IFERROR(IF(INDIRECT($A$14&ROW())<>\"\",COUNTIF([1]Summary!$B$30:$B$1029,INDIRECT($A$14&ROW())),\"\"),\"\")","v":""}]
[{"$f":"IFERROR(IF(INDIRECT($A$14&ROW())<>\"\",COUNTIF([1]Summary!$B$30:$B$1029,INDIRECT($A$14&ROW())),\"\"),\"\")","v":""}]
[{"$f":"IFERROR(IF(INDIRECT($A$14&ROW())<>\"\",COUNTIF([1]Summary!$B$30:$B$1029,INDIRECT($A$14&ROW())),\"\"),\"\")","v":""}]
[{"$f":"IFERROR(IF(INDIRECT($A$14&ROW())<>\"\",COUNTIF([1]Summary!$B$30:$B$1029,INDIRECT($A$14&ROW())),\"\"),\"\")","v":""}]
[{"$f":"IFERROR(IF(INDIRECT($A$14&ROW())<>\"\",COUNTIF([1]Summary!$B$30:$B$1029,INDIRECT($A$14&ROW())),\"\"),\"\")","v":""}]
[{"$f":"IFERROR(IF(INDIRECT($A$14&ROW())<>\"\",COUNTIF([1]Summary!$B$30:$B$1029,INDIRECT($A$14&ROW())),\"\"),\"\")","v":""}]
[{"$f":"IFERROR(IF(INDIRECT($A$14&ROW())<>\"\",COUNTIF([1]Summary!$B$30:$B$1029,INDIRECT($A$14&ROW())),\"\"),\"\")","v":""}]
[{"$f":"IFERROR(IF(INDIRECT($A$14&ROW())<>\"\",COUNTIF([1]Summary!$B$30:$B$1029,INDIRECT($A$14&ROW())),\"\"),\"\")","v":""}]
[{"$f":"IFERROR(IF(INDIRECT($A$14&ROW())<>\"\",COUNTIF([1]Summary!$B$30:$B$1029,INDIRECT($A$14&ROW())),\"\"),\"\")","v":""}]
[{"$f":"IFERROR(IF(INDIRECT($A$14&ROW())<>\"\",COUNTIF([1]Summary!$B$30:$B$1029,INDIRECT($A$14&ROW())),\"\"),\"\")","v":""}]
[{"$f":"IFERROR(IF(INDIRECT($A$14&ROW())<>\"\",COUNTIF([1]Summary!$B$30:$B$1029,INDIRECT($A$14&ROW())),\"\"),\"\")","v":""}]
[{"$f":"IFERROR(IF(INDIRECT($A$14&ROW())<>\"\",COUNTIF([1]Summary!$B$30:$B$1029,INDIRECT($A$14&ROW())),\"\"),\"\")","v":""}]
[{"$f":"IFERROR(IF(INDIRECT($A$14&ROW())<>\"\",COUNTIF([1]Summary!$B$30:$B$1029,INDIRECT($A$14&ROW())),\"\"),\"\")","v":""}]
[{"$f":"IFERROR(IF(INDIRECT($A$14&ROW())<>\"\",COUNTIF([1]Summary!$B$30:$B$1029,INDIRECT($A$14&ROW())),\"\"),\"\")","v":""}]
[{"$f":"IFERROR(IF(INDIRECT($A$14&ROW())<>\"\",COUNTIF([1]Summary!$B$30:$B$1029,INDIRECT($A$14&ROW())),\"\"),\"\")","v":""}]
[{"$f":"IFERROR(IF(INDIRECT($A$14&ROW())<>\"\",COUNTIF([1]Summary!$B$30:$B$1029,INDIRECT($A$14&ROW())),\"\"),\"\")","v":""}]
[{"$f":"IFERROR(IF(INDIRECT($A$14&ROW())<>\"\",COUNTIF([1]Summary!$B$30:$B$1029,INDIRECT($A$14&ROW())),\"\"),\"\")","v":""}]
[{"$f":"IFERROR(IF(INDIRECT($A$14&ROW())<>\"\",COUNTIF([1]Summary!$B$30:$B$1029,INDIRECT($A$14&ROW())),\"\"),\"\")","v":""}]
[{"$f":"IFERROR(IF(INDIRECT($A$14&ROW())<>\"\",COUNTIF([1]Summary!$B$30:$B$1029,INDIRECT($A$14&ROW())),\"\"),\"\")","v":""}]
[{"$f":"IFERROR(IF(INDIRECT($A$14&ROW())<>\"\",COUNTIF([1]Summary!$B$30:$B$1029,INDIRECT($A$14&ROW())),\"\"),\"\")","v":""}]
[{"$f":"IFERROR(IF(INDIRECT($A$14&ROW())<>\"\",COUNTIF([1]Summary!$B$30:$B$1029,INDIRECT($A$14&ROW())),\"\"),\"\")","v":""}]
[{"$f":"IFERROR(IF(INDIRECT($A$14&ROW())<>\"\",COUNTIF([1]Summary!$B$30:$B$1029,INDIRECT($A$14&ROW())),\"\"),\"\")","v":""}]
[{"$f":"IFERROR(IF(INDIRECT($A$14&ROW())<>\"\",COUNTIF([1]Summary!$B$30:$B$1029,INDIRECT($A$14&ROW())),\"\"),\"\")","v":""}]
[{"$f":"IFERROR(IF(INDIRECT($A$14&ROW())<>\"\",COUNTIF([1]Summary!$B$30:$B$1029,INDIRECT($A$14&ROW())),\"\"),\"\")","v":""}]
[{"$f":"IFERROR(IF(INDIRECT($A$14&ROW())<>\"\",COUNTIF([1]Summary!$B$30:$B$1029,INDIRECT($A$14&ROW())),\"\"),\"\")","v":""}]
[{"$f":"IFERROR(IF(INDIRECT($A$14&ROW())<>\"\",COUNTIF([1]Summary!$B$30:$B$1029,INDIRECT($A$14&ROW())),\"\"),\"\")","v":""}]
[{"$f":"IFERROR(IF(INDIRECT($A$14&ROW())<>\"\",COUNTIF([1]Summary!$B$30:$B$1029,INDIRECT($A$14&ROW())),\"\"),\"\")","v":""}]
[{"$f":"IFERROR(IF(INDIRECT($A$14&ROW())<>\"\",COUNTIF([1]Summary!$B$30:$B$1029,INDIRECT($A$14&ROW())),\"\"),\"\")","v":""}]
[{"$f":"IFERROR(IF(INDIRECT($A$14&ROW())<>\"\",COUNTIF([1]Summary!$B$30:$B$1029,INDIRECT($A$14&ROW())),\"\"),\"\")","v":""}]
[{"$f":"IFERROR(IF(INDIRECT($A$14&ROW())<>\"\",COUNTIF([1]Summary!$B$30:$B$1029,INDIRECT($A$14&ROW())),\"\"),\"\")","v":""}]
[{"$f":"IFERROR(IF(INDIRECT($A$14&ROW())<>\"\",COUNTIF([1]Summary!$B$30:$B$1029,INDIRECT($A$14&ROW())),\"\"),\"\")","v":""}]
[{"$f":"IFERROR(IF(INDIRECT($A$14&ROW())<>\"\",COUNTIF([1]Summary!$B$30:$B$1029,INDIRECT($A$14&ROW())),\"\"),\"\")","v":""}]
[{"$f":"IFERROR(IF(INDIRECT($A$14&ROW())<>\"\",COUNTIF([1]Summary!$B$30:$B$1029,INDIRECT($A$14&ROW())),\"\"),\"\")","v":""}]
[{"$f":"IFERROR(IF(INDIRECT($A$14&ROW())<>\"\",COUNTIF([1]Summary!$B$30:$B$1029,INDIRECT($A$14&ROW())),\"\"),\"\")","v":""}]
[{"$f":"IFERROR(IF(INDIRECT($A$14&ROW())<>\"\",COUNTIF([1]Summary!$B$30:$B$1029,INDIRECT($A$14&ROW())),\"\"),\"\")","v":""}]
[{"$f":"IFERROR(IF(INDIRECT($A$14&ROW())<>\"\",COUNTIF([1]Summary!$B$30:$B$1029,INDIRECT($A$14&ROW())),\"\"),\"\")","v":""}]
[{"$f":"IFERROR(IF(INDIRECT($A$14&ROW())<>\"\",COUNTIF([1]Summary!$B$30:$B$1029,INDIRECT($A$14&ROW())),\"\"),\"\")","v":""}]
[{"$f":"IFERROR(IF(INDIRECT($A$14&ROW())<>\"\",COUNTIF([1]Summary!$B$30:$B$1029,INDIRECT($A$14&ROW())),\"\"),\"\")","v":""}]
[{"$f":"IFERROR(IF(INDIRECT($A$14&ROW())<>\"\",COUNTIF([1]Summary!$B$30:$B$1029,INDIRECT($A$14&ROW())),\"\"),\"\")","v":""}]
[{"$f":"IFERROR(IF(INDIRECT($A$14&ROW())<>\"\",COUNTIF([1]Summary!$B$30:$B$1029,INDIRECT($A$14&ROW())),\"\"),\"\")","v":""}]
[{"$f":"IFERROR(IF(INDIRECT($A$14&ROW())<>\"\",COUNTIF([1]Summary!$B$30:$B$1029,INDIRECT($A$14&ROW())),\"\"),\"\")","v":""}]
[{"$f":"IFERROR(IF(INDIRECT($A$14&ROW())<>\"\",COUNTIF([1]Summary!$B$30:$B$1029,INDIRECT($A$14&ROW())),\"\"),\"\")","v":""}]
[{"$f":"IFERROR(IF(INDIRECT($A$14&ROW())<>\"\",COUNTIF([1]Summary!$B$30:$B$1029,INDIRECT($A$14&ROW())),\"\"),\"\")","v":""}]
[{"$f":"IFERROR(IF(INDIRECT($A$14&ROW())<>\"\",COUNTIF([1]Summary!$B$30:$B$1029,INDIRECT($A$14&ROW())),\"\"),\"\")","v":""}]
[{"$f":"IFERROR(IF(INDIRECT($A$14&ROW())<>\"\",COUNTIF([1]Summary!$B$30:$B$1029,INDIRECT($A$14&ROW())),\"\"),\"\")","v":""}]
[{"$f":"IFERROR(IF(INDIRECT($A$14&ROW())<>\"\",COUNTIF([1]Summary!$B$30:$B$1029,INDIRECT($A$14&ROW())),\"\"),\"\")","v":""}]
[{"$f":"IFERROR(IF(INDIRECT($A$14&ROW())<>\"\",COUNTIF([1]Summary!$B$30:$B$1029,INDIRECT($A$14&ROW())),\"\"),\"\")","v":""}]
[{"$f":"IFERROR(IF(INDIRECT($A$14&ROW())<>\"\",COUNTIF([1]Summary!$B$30:$B$1029,INDIRECT($A$14&ROW())),\"\"),\"\")","v":""}]
[{"$f":"IFERROR(IF(INDIRECT($A$14&ROW())<>\"\",COUNTIF([1]Summary!$B$30:$B$1029,INDIRECT($A$14&ROW())),\"\"),\"\")","v":""}]
[{"$f":"IFERROR(IF(INDIRECT($A$14&ROW())<>\"\",COUNTIF([1]Summary!$B$30:$B$1029,INDIRECT($A$14&ROW())),\"\"),\"\")","v":""}]
[{"$f":"IFERROR(IF(INDIRECT($A$14&ROW())<>\"\",COUNTIF([1]Summary!$B$30:$B$1029,INDIRECT($A$14&ROW())),\"\"),\"\")","v":""}]
[{"$f":"IFERROR(IF(INDIRECT($A$14&ROW())<>\"\",COUNTIF([1]Summary!$B$30:$B$1029,INDIRECT($A$14&ROW())),\"\"),\"\")","v":""}]
[{"$f":"IFERROR(IF(INDIRECT($A$14&ROW())<>\"\",COUNTIF([1]Summary!$B$30:$B$1029,INDIRECT($A$14&ROW())),\"\"),\"\")","v":""}]
[{"$f":"IFERROR(IF(INDIRECT($A$14&ROW())<>\"\",COUNTIF([1]Summary!$B$30:$B$1029,INDIRECT($A$14&ROW())),\"\"),\"\")","v":""}]
[{"$f":"IFERROR(IF(INDIRECT($A$14&ROW())<>\"\",COUNTIF([1]Summary!$B$30:$B$1029,INDIRECT($A$14&ROW())),\"\"),\"\")","v":""}]
[{"$f":"IFERROR(IF(INDIRECT($A$14&ROW())<>\"\",COUNTIF([1]Summary!$B$30:$B$1029,INDIRECT($A$14&ROW())),\"\"),\"\")","v":""}]
[{"$f":"IFERROR(IF(INDIRECT($A$14&ROW())<>\"\",COUNTIF([1]Summary!$B$30:$B$1029,INDIRECT($A$14&ROW())),\"\"),\"\")","v":""}]
[{"$f":"IFERROR(IF(INDIRECT($A$14&ROW())<>\"\",COUNTIF([1]Summary!$B$30:$B$1029,INDIRECT($A$14&ROW())),\"\"),\"\")","v":""}]
[{"$f":"IFERROR(IF(INDIRECT($A$14&ROW())<>\"\",COUNTIF([1]Summary!$B$30:$B$1029,INDIRECT($A$14&ROW())),\"\"),\"\")","v":""}]
[{"$f":"IFERROR(IF(INDIRECT($A$14&ROW())<>\"\",COUNTIF([1]Summary!$B$30:$B$1029,INDIRECT($A$14&ROW())),\"\"),\"\")","v":""}]
[{"$f":"IFERROR(IF(INDIRECT($A$14&ROW())<>\"\",COUNTIF([1]Summary!$B$30:$B$1029,INDIRECT($A$14&ROW())),\"\"),\"\")","v":""}]
[{"$f":"IFERROR(IF(INDIRECT($A$14&ROW())<>\"\",COUNTIF([1]Summary!$B$30:$B$1029,INDIRECT($A$14&ROW())),\"\"),\"\")","v":""}]
[{"$f":"IFERROR(IF(INDIRECT($A$14&ROW())<>\"\",COUNTIF([1]Summary!$B$30:$B$1029,INDIRECT($A$14&ROW())),\"\"),\"\")","v":""}]
[{"$f":"IFERROR(IF(INDIRECT($A$14&ROW())<>\"\",COUNTIF([1]Summary!$B$30:$B$1029,INDIRECT($A$14&ROW())),\"\"),\"\")","v":""}]
[{"$f":"IFERROR(IF(INDIRECT($A$14&ROW())<>\"\",COUNTIF([1]Summary!$B$30:$B$1029,INDIRECT($A$14&ROW())),\"\"),\"\")","v":""}]
[{"$f":"IFERROR(IF(INDIRECT($A$14&ROW())<>\"\",COUNTIF([1]Summary!$B$30:$B$1029,INDIRECT($A$14&ROW())),\"\"),\"\")","v":""}]
[{"$f":"IFERROR(IF(INDIRECT($A$14&ROW())<>\"\",COUNTIF([1]Summary!$B$30:$B$1029,INDIRECT($A$14&ROW())),\"\"),\"\")","v":""}]
[{"$f":"IFERROR(IF(INDIRECT($A$14&ROW())<>\"\",COUNTIF([1]Summary!$B$30:$B$1029,INDIRECT($A$14&ROW())),\"\"),\"\")","v":""}]
[{"$f":"IFERROR(IF(INDIRECT($A$14&ROW())<>\"\",COUNTIF([1]Summary!$B$30:$B$1029,INDIRECT($A$14&ROW())),\"\"),\"\")","v":""}]
[{"$f":"IFERROR(IF(INDIRECT($A$14&ROW())<>\"\",COUNTIF([1]Summary!$B$30:$B$1029,INDIRECT($A$14&ROW())),\"\"),\"\")","v":""}]
[{"$f":"IFERROR(IF(INDIRECT($A$14&ROW())<>\"\",COUNTIF([1]Summary!$B$30:$B$1029,INDIRECT($A$14&ROW())),\"\"),\"\")","v":""}]
[{"$f":"IFERROR(IF(INDIRECT($A$14&ROW())<>\"\",COUNTIF([1]Summary!$B$30:$B$1029,INDIRECT($A$14&ROW())),\"\"),\"\")","v":""}]
[{"$f":"IFERROR(IF(INDIRECT($A$14&ROW())<>\"\",COUNTIF([1]Summary!$B$30:$B$1029,INDIRECT($A$14&ROW())),\"\"),\"\")","v":""}]
[{"$f":"IFERROR(IF(INDIRECT($A$14&ROW())<>\"\",COUNTIF([1]Summary!$B$30:$B$1029,INDIRECT($A$14&ROW())),\"\"),\"\")","v":""}]
[{"$f":"IFERROR(IF(INDIRECT($A$14&ROW())<>\"\",COUNTIF([1]Summary!$B$30:$B$1029,INDIRECT($A$14&ROW())),\"\"),\"\")","v":""}]
[{"$f":"IFERROR(IF(INDIRECT($A$14&ROW())<>\"\",COUNTIF([1]Summary!$B$30:$B$1029,INDIRECT($A$14&ROW())),\"\"),\"\")","v":""}]
[{"$f":"IFERROR(IF(INDIRECT($A$14&ROW())<>\"\",COUNTIF([1]Summary!$B$30:$B$1029,INDIRECT($A$14&ROW())),\"\"),\"\")","v":""}]
[{"$f":"IFERROR(IF(INDIRECT($A$14&ROW())<>\"\",COUNTIF([1]Summary!$B$30:$B$1029,INDIRECT($A$14&ROW())),\"\"),\"\")","v":""}]
[{"$f":"IFERROR(IF(INDIRECT($A$14&ROW())<>\"\",COUNTIF([1]Summary!$B$30:$B$1029,INDIRECT($A$14&ROW())),\"\"),\"\")","v":""}]
[{"$f":"IFERROR(IF(INDIRECT($A$14&ROW())<>\"\",COUNTIF([1]Summary!$B$30:$B$1029,INDIRECT($A$14&ROW())),\"\"),\"\")","v":""}]
[{"$f":"IFERROR(IF(INDIRECT($A$14&ROW())<>\"\",COUNTIF([1]Summary!$B$30:$B$1029,INDIRECT($A$14&ROW())),\"\"),\"\")","v":""}]
[{"$f":"IFERROR(IF(INDIRECT($A$14&ROW())<>\"\",COUNTIF([1]Summary!$B$30:$B$1029,INDIRECT($A$14&ROW())),\"\"),\"\")","v":""}]
[{"$f":"IFERROR(IF(INDIRECT($A$14&ROW())<>\"\",COUNTIF([1]Summary!$B$30:$B$1029,INDIRECT($A$14&ROW())),\"\"),\"\")","v":""}]
[{"$f":"IFERROR(IF(INDIRECT($A$14&ROW())<>\"\",COUNTIF([1]Summary!$B$30:$B$1029,INDIRECT($A$14&ROW())),\"\"),\"\")","v":""}]
[{"$f":"IFERROR(IF(INDIRECT($A$14&ROW())<>\"\",COUNTIF([1]Summary!$B$30:$B$1029,INDIRECT($A$14&ROW())),\"\"),\"\")","v":""}]
[{"$f":"IFERROR(IF(INDIRECT($A$14&ROW())<>\"\",COUNTIF([1]Summary!$B$30:$B$1029,INDIRECT($A$14&ROW())),\"\"),\"\")","v":""}]
[{"$f":"IFERROR(IF(INDIRECT($A$14&ROW())<>\"\",COUNTIF([1]Summary!$B$30:$B$1029,INDIRECT($A$14&ROW())),\"\"),\"\")","v":""}]
[{"$f":"IFERROR(IF(INDIRECT($A$14&ROW())<>\"\",COUNTIF([1]Summary!$B$30:$B$1029,INDIRECT($A$14&ROW())),\"\"),\"\")","v":""}]
[{"$f":"IFERROR(IF(INDIRECT($A$14&ROW())<>\"\",COUNTIF([1]Summary!$B$30:$B$1029,INDIRECT($A$14&ROW())),\"\"),\"\")","v":""}]
[{"$f":"IFERROR(IF(INDIRECT($A$14&ROW())<>\"\",COUNTIF([1]Summary!$B$30:$B$1029,INDIRECT($A$14&ROW())),\"\"),\"\")","v":""}]
[{"$f":"IFERROR(IF(INDIRECT($A$14&ROW())<>\"\",COUNTIF([1]Summary!$B$30:$B$1029,INDIRECT($A$14&ROW())),\"\"),\"\")","v":""}]
[{"$f":"IFERROR(IF(INDIRECT($A$14&ROW())<>\"\",COUNTIF([1]Summary!$B$30:$B$1029,INDIRECT($A$14&ROW())),\"\"),\"\")","v":""}]
[{"$f":"IFERROR(IF(INDIRECT($A$14&ROW())<>\"\",COUNTIF([1]Summary!$B$30:$B$1029,INDIRECT($A$14&ROW())),\"\"),\"\")","v":""}]
[{"$f":"IFERROR(IF(INDIRECT($A$14&ROW())<>\"\",COUNTIF([1]Summary!$B$30:$B$1029,INDIRECT($A$14&ROW())),\"\"),\"\")","v":""}]
[{"$f":"IFERROR(IF(INDIRECT($A$14&ROW())<>\"\",COUNTIF([1]Summary!$B$30:$B$1029,INDIRECT($A$14&ROW())),\"\"),\"\")","v":""}]
[{"$f":"IFERROR(IF(INDIRECT($A$14&ROW())<>\"\",COUNTIF([1]Summary!$B$30:$B$1029,INDIRECT($A$14&ROW())),\"\"),\"\")","v":""}]
[{"$f":"IFERROR(IF(INDIRECT($A$14&ROW())<>\"\",COUNTIF([1]Summary!$B$30:$B$1029,INDIRECT($A$14&ROW())),\"\"),\"\")","v":""}]
[{"$f":"IFERROR(IF(INDIRECT($A$14&ROW())<>\"\",COUNTIF([1]Summary!$B$30:$B$1029,INDIRECT($A$14&ROW())),\"\"),\"\")","v":""}]
[{"$f":"IFERROR(IF(INDIRECT($A$14&ROW())<>\"\",COUNTIF([1]Summary!$B$30:$B$1029,INDIRECT($A$14&ROW())),\"\"),\"\")","v":""}]
[{"$f":"IFERROR(IF(INDIRECT($A$14&ROW())<>\"\",COUNTIF([1]Summary!$B$30:$B$1029,INDIRECT($A$14&ROW())),\"\"),\"\")","v":""}]
[{"$f":"IFERROR(IF(INDIRECT($A$14&ROW())<>\"\",COUNTIF([1]Summary!$B$30:$B$1029,INDIRECT($A$14&ROW())),\"\"),\"\")","v":""}]
[{"$f":"IFERROR(IF(INDIRECT($A$14&ROW())<>\"\",COUNTIF([1]Summary!$B$30:$B$1029,INDIRECT($A$14&ROW())),\"\"),\"\")","v":""}]
[{"$f":"IFERROR(IF(INDIRECT($A$14&ROW())<>\"\",COUNTIF([1]Summary!$B$30:$B$1029,INDIRECT($A$14&ROW())),\"\"),\"\")","v":""}]
[{"$f":"IFERROR(IF(INDIRECT($A$14&ROW())<>\"\",COUNTIF([1]Summary!$B$30:$B$1029,INDIRECT($A$14&ROW())),\"\"),\"\")","v":""}]
[{"$f":"IFERROR(IF(INDIRECT($A$14&ROW())<>\"\",COUNTIF([1]Summary!$B$30:$B$1029,INDIRECT($A$14&ROW())),\"\"),\"\")","v":""}]
[{"$f":"IFERROR(IF(INDIRECT($A$14&ROW())<>\"\",COUNTIF([1]Summary!$B$30:$B$1029,INDIRECT($A$14&ROW())),\"\"),\"\")","v":""}]
[{"$f":"IFERROR(IF(INDIRECT($A$14&ROW())<>\"\",COUNTIF([1]Summary!$B$30:$B$1029,INDIRECT($A$14&ROW())),\"\"),\"\")","v":""}]
[{"$f":"IFERROR(IF(INDIRECT($A$14&ROW())<>\"\",COUNTIF([1]Summary!$B$30:$B$1029,INDIRECT($A$14&ROW())),\"\"),\"\")","v":""}]
[{"$f":"IFERROR(IF(INDIRECT($A$14&ROW())<>\"\",COUNTIF([1]Summary!$B$30:$B$1029,INDIRECT($A$14&ROW())),\"\"),\"\")","v":""}]
[{"$f":"IFERROR(IF(INDIRECT($A$14&ROW())<>\"\",COUNTIF([1]Summary!$B$30:$B$1029,INDIRECT($A$14&ROW())),\"\"),\"\")","v":""}]
[{"$f":"IFERROR(IF(INDIRECT($A$14&ROW())<>\"\",COUNTIF([1]Summary!$B$30:$B$1029,INDIRECT($A$14&ROW())),\"\"),\"\")","v":""}]
[{"$f":"IFERROR(IF(INDIRECT($A$14&ROW())<>\"\",COUNTIF([1]Summary!$B$30:$B$1029,INDIRECT($A$14&ROW())),\"\"),\"\")","v":""}]
[{"$f":"IFERROR(IF(INDIRECT($A$14&ROW())<>\"\",COUNTIF([1]Summary!$B$30:$B$1029,INDIRECT($A$14&ROW())),\"\"),\"\")","v":""}]
[{"$f":"IFERROR(IF(INDIRECT($A$14&ROW())<>\"\",COUNTIF([1]Summary!$B$30:$B$1029,INDIRECT($A$14&ROW())),\"\"),\"\")","v":""}]
[{"$f":"IFERROR(IF(INDIRECT($A$14&ROW())<>\"\",COUNTIF([1]Summary!$B$30:$B$1029,INDIRECT($A$14&ROW())),\"\"),\"\")","v":""}]
[{"$f":"IFERROR(IF(INDIRECT($A$14&ROW())<>\"\",COUNTIF([1]Summary!$B$30:$B$1029,INDIRECT($A$14&ROW())),\"\"),\"\")","v":""}]
[{"$f":"IFERROR(IF(INDIRECT($A$14&ROW())<>\"\",COUNTIF([1]Summary!$B$30:$B$1029,INDIRECT($A$14&ROW())),\"\"),\"\")","v":""}]
[{"$f":"IFERROR(IF(INDIRECT($A$14&ROW())<>\"\",COUNTIF([1]Summary!$B$30:$B$1029,INDIRECT($A$14&ROW())),\"\"),\"\")","v":""}]
[{"$f":"IFERROR(IF(INDIRECT($A$14&ROW())<>\"\",COUNTIF([1]Summary!$B$30:$B$1029,INDIRECT($A$14&ROW())),\"\"),\"\")","v":""}]
[{"$f":"IFERROR(IF(INDIRECT($A$14&ROW())<>\"\",COUNTIF([1]Summary!$B$30:$B$1029,INDIRECT($A$14&ROW())),\"\"),\"\")","v":""}]
[{"$f":"IFERROR(IF(INDIRECT($A$14&ROW())<>\"\",COUNTIF([1]Summary!$B$30:$B$1029,INDIRECT($A$14&ROW())),\"\"),\"\")","v":""}]
[{"$f":"IFERROR(IF(INDIRECT($A$14&ROW())<>\"\",COUNTIF([1]Summary!$B$30:$B$1029,INDIRECT($A$14&ROW())),\"\"),\"\")","v":""}]
[{"$f":"IFERROR(IF(INDIRECT($A$14&ROW())<>\"\",COUNTIF([1]Summary!$B$30:$B$1029,INDIRECT($A$14&ROW())),\"\"),\"\")","v":""}]
[{"$f":"IFERROR(IF(INDIRECT($A$14&ROW())<>\"\",COUNTIF([1]Summary!$B$30:$B$1029,INDIRECT($A$14&ROW())),\"\"),\"\")","v":""}]
[{"$f":"IFERROR(IF(INDIRECT($A$14&ROW())<>\"\",COUNTIF([1]Summary!$B$30:$B$1029,INDIRECT($A$14&ROW())),\"\"),\"\")","v":""}]
[{"$f":"IFERROR(IF(INDIRECT($A$14&ROW())<>\"\",COUNTIF([1]Summary!$B$30:$B$1029,INDIRECT($A$14&ROW())),\"\"),\"\")","v":""}]
[{"$f":"IFERROR(IF(INDIRECT($A$14&ROW())<>\"\",COUNTIF([1]Summary!$B$30:$B$1029,INDIRECT($A$14&ROW())),\"\"),\"\")","v":""}]
[{"$f":"IFERROR(IF(INDIRECT($A$14&ROW())<>\"\",COUNTIF([1]Summary!$B$30:$B$1029,INDIRECT($A$14&ROW())),\"\"),\"\")","v":""}]
[{"$f":"IFERROR(IF(INDIRECT($A$14&ROW())<>\"\",COUNTIF([1]Summary!$B$30:$B$1029,INDIRECT($A$14&ROW())),\"\"),\"\")","v":""}]
[{"$f":"IFERROR(IF(INDIRECT($A$14&ROW())<>\"\",COUNTIF([1]Summary!$B$30:$B$1029,INDIRECT($A$14&ROW())),\"\"),\"\")","v":""}]
[{"$f":"IFERROR(IF(INDIRECT($A$14&ROW())<>\"\",COUNTIF([1]Summary!$B$30:$B$1029,INDIRECT($A$14&ROW())),\"\"),\"\")","v":""}]
[{"$f":"IFERROR(IF(INDIRECT($A$14&ROW())<>\"\",COUNTIF([1]Summary!$B$30:$B$1029,INDIRECT($A$14&ROW())),\"\"),\"\")","v":""}]
[{"$f":"IFERROR(IF(INDIRECT($A$14&ROW())<>\"\",COUNTIF([1]Summary!$B$30:$B$1029,INDIRECT($A$14&ROW())),\"\"),\"\")","v":""}]
[{"$f":"IFERROR(IF(INDIRECT($A$14&ROW())<>\"\",COUNTIF([1]Summary!$B$30:$B$1029,INDIRECT($A$14&ROW())),\"\"),\"\")","v":""}]
[{"$f":"IFERROR(IF(INDIRECT($A$14&ROW())<>\"\",COUNTIF([1]Summary!$B$30:$B$1029,INDIRECT($A$14&ROW())),\"\"),\"\")","v":""}]
[{"$f":"IFERROR(IF(INDIRECT($A$14&ROW())<>\"\",COUNTIF([1]Summary!$B$30:$B$1029,INDIRECT($A$14&ROW())),\"\"),\"\")","v":""}]
[{"$f":"IFERROR(IF(INDIRECT($A$14&ROW())<>\"\",COUNTIF([1]Summary!$B$30:$B$1029,INDIRECT($A$14&ROW())),\"\"),\"\")","v":""}]
[{"$f":"IFERROR(IF(INDIRECT($A$14&ROW())<>\"\",COUNTIF([1]Summary!$B$30:$B$1029,INDIRECT($A$14&ROW())),\"\"),\"\")","v":""}]
[{"$f":"IFERROR(IF(INDIRECT($A$14&ROW())<>\"\",COUNTIF([1]Summary!$B$30:$B$1029,INDIRECT($A$14&ROW())),\"\"),\"\")","v":""}]
[{"$f":"IFERROR(IF(INDIRECT($A$14&ROW())<>\"\",COUNTIF([1]Summary!$B$30:$B$1029,INDIRECT($A$14&ROW())),\"\"),\"\")","v":""}]
[{"$f":"IFERROR(IF(INDIRECT($A$14&ROW())<>\"\",COUNTIF([1]Summary!$B$30:$B$1029,INDIRECT($A$14&ROW())),\"\"),\"\")","v":""}]
[{"$f":"IFERROR(IF(INDIRECT($A$14&ROW())<>\"\",COUNTIF([1]Summary!$B$30:$B$1029,INDIRECT($A$14&ROW())),\"\"),\"\")","v":""}]
[{"$f":"IFERROR(IF(INDIRECT($A$14&ROW())<>\"\",COUNTIF([1]Summary!$B$30:$B$1029,INDIRECT($A$14&ROW())),\"\"),\"\")","v":""}]
[{"$f":"IFERROR(IF(INDIRECT($A$14&ROW())<>\"\",COUNTIF([1]Summary!$B$30:$B$1029,INDIRECT($A$14&ROW())),\"\"),\"\")","v":""}]
[{"$f":"IFERROR(IF(INDIRECT($A$14&ROW())<>\"\",COUNTIF([1]Summary!$B$30:$B$1029,INDIRECT($A$14&ROW())),\"\"),\"\")","v":""}]
[{"$f":"IFERROR(IF(INDIRECT($A$14&ROW())<>\"\",COUNTIF([1]Summary!$B$30:$B$1029,INDIRECT($A$14&ROW())),\"\"),\"\")","v":""}]
[{"$f":"IFERROR(IF(INDIRECT($A$14&ROW())<>\"\",COUNTIF([1]Summary!$B$30:$B$1029,INDIRECT($A$14&ROW())),\"\"),\"\")","v":""}]
[{"$f":"IFERROR(IF(INDIRECT($A$14&ROW())<>\"\",COUNTIF([1]Summary!$B$30:$B$1029,INDIRECT($A$14&ROW())),\"\"),\"\")","v":""}]
[{"$f":"IFERROR(IF(INDIRECT($A$14&ROW())<>\"\",COUNTIF([1]Summary!$B$30:$B$1029,INDIRECT($A$14&ROW())),\"\"),\"\")","v":""}]
[{"$f":"IFERROR(IF(INDIRECT($A$14&ROW())<>\"\",COUNTIF([1]Summary!$B$30:$B$1029,INDIRECT($A$14&ROW())),\"\"),\"\")","v":""}]
[{"$f":"IFERROR(IF(INDIRECT($A$14&ROW())<>\"\",COUNTIF([1]Summary!$B$30:$B$1029,INDIRECT($A$14&ROW())),\"\"),\"\")","v":""}]
[{"$f":"IFERROR(IF(INDIRECT($A$14&ROW())<>\"\",COUNTIF([1]Summary!$B$30:$B$1029,INDIRECT($A$14&ROW())),\"\"),\"\")","v":""}]
[{"$f":"IFERROR(IF(INDIRECT($A$14&ROW())<>\"\",COUNTIF([1]Summary!$B$30:$B$1029,INDIRECT($A$14&ROW())),\"\"),\"\")","v":""}]
[{"$f":"IFERROR(IF(INDIRECT($A$14&ROW())<>\"\",COUNTIF([1]Summary!$B$30:$B$1029,INDIRECT($A$14&ROW())),\"\"),\"\")","v":""}]
[{"$f":"IFERROR(IF(INDIRECT($A$14&ROW())<>\"\",COUNTIF([1]Summary!$B$30:$B$1029,INDIRECT($A$14&ROW())),\"\"),\"\")","v":""}]
[{"$f":"IFERROR(IF(INDIRECT($A$14&ROW())<>\"\",COUNTIF([1]Summary!$B$30:$B$1029,INDIRECT($A$14&ROW())),\"\"),\"\")","v":""}]
[{"$f":"IFERROR(IF(INDIRECT($A$14&ROW())<>\"\",COUNTIF([1]Summary!$B$30:$B$1029,INDIRECT($A$14&ROW())),\"\"),\"\")","v":""}]
[{"$f":"IFERROR(IF(INDIRECT($A$14&ROW())<>\"\",COUNTIF([1]Summary!$B$30:$B$1029,INDIRECT($A$14&ROW())),\"\"),\"\")","v":""}]
[{"$f":"IFERROR(IF(INDIRECT($A$14&ROW())<>\"\",COUNTIF([1]Summary!$B$30:$B$1029,INDIRECT($A$14&ROW())),\"\"),\"\")","v":""}]
[{"$f":"IFERROR(IF(INDIRECT($A$14&ROW())<>\"\",COUNTIF([1]Summary!$B$30:$B$1029,INDIRECT($A$14&ROW())),\"\"),\"\")","v":""}]
[{"$f":"IFERROR(IF(INDIRECT($A$14&ROW())<>\"\",COUNTIF([1]Summary!$B$30:$B$1029,INDIRECT($A$14&ROW())),\"\"),\"\")","v":""}]
[{"$f":"IFERROR(IF(INDIRECT($A$14&ROW())<>\"\",COUNTIF([1]Summary!$B$30:$B$1029,INDIRECT($A$14&ROW())),\"\"),\"\")","v":""}]
[{"$f":"IFERROR(IF(INDIRECT($A$14&ROW())<>\"\",COUNTIF([1]Summary!$B$30:$B$1029,INDIRECT($A$14&ROW())),\"\"),\"\")","v":""}]
[{"$f":"IFERROR(IF(INDIRECT($A$14&ROW())<>\"\",COUNTIF([1]Summary!$B$30:$B$1029,INDIRECT($A$14&ROW())),\"\"),\"\")","v":""}]
[{"$f":"IFERROR(IF(INDIRECT($A$14&ROW())<>\"\",COUNTIF([1]Summary!$B$30:$B$1029,INDIRECT($A$14&ROW())),\"\"),\"\")","v":""}]
[{"$f":"IFERROR(IF(INDIRECT($A$14&ROW())<>\"\",COUNTIF([1]Summary!$B$30:$B$1029,INDIRECT($A$14&ROW())),\"\"),\"\")","v":""}]
[{"$f":"IFERROR(IF(INDIRECT($A$14&ROW())<>\"\",COUNTIF([1]Summary!$B$30:$B$1029,INDIRECT($A$14&ROW())),\"\"),\"\")","v":""}]
[{"$f":"IFERROR(IF(INDIRECT($A$14&ROW())<>\"\",COUNTIF([1]Summary!$B$30:$B$1029,INDIRECT($A$14&ROW())),\"\"),\"\")","v":""}]
[{"$f":"IFERROR(IF(INDIRECT($A$14&ROW())<>\"\",COUNTIF([1]Summary!$B$30:$B$1029,INDIRECT($A$14&ROW())),\"\"),\"\")","v":""}]
[{"$f":"IFERROR(IF(INDIRECT($A$14&ROW())<>\"\",COUNTIF([1]Summary!$B$30:$B$1029,INDIRECT($A$14&ROW())),\"\"),\"\")","v":""}]
[{"$f":"IFERROR(IF(INDIRECT($A$14&ROW())<>\"\",COUNTIF([1]Summary!$B$30:$B$1029,INDIRECT($A$14&ROW())),\"\"),\"\")","v":""}]
[{"$f":"IFERROR(IF(INDIRECT($A$14&ROW())<>\"\",COUNTIF([1]Summary!$B$30:$B$1029,INDIRECT($A$14&ROW())),\"\"),\"\")","v":""}]
[{"$f":"IFERROR(IF(INDIRECT($A$14&ROW())<>\"\",COUNTIF([1]Summary!$B$30:$B$1029,INDIRECT($A$14&ROW())),\"\"),\"\")","v":""}]
[{"$f":"IFERROR(IF(INDIRECT($A$14&ROW())<>\"\",COUNTIF([1]Summary!$B$30:$B$1029,INDIRECT($A$14&ROW())),\"\"),\"\")","v":""}]
[{"$f":"IFERROR(IF(INDIRECT($A$14&ROW())<>\"\",COUNTIF([1]Summary!$B$30:$B$1029,INDIRECT($A$14&ROW())),\"\"),\"\")","v":""}]
[{"$f":"IFERROR(IF(INDIRECT($A$14&ROW())<>\"\",COUNTIF([1]Summary!$B$30:$B$1029,INDIRECT($A$14&ROW())),\"\"),\"\")","v":""}]
[{"$f":"IFERROR(IF(INDIRECT($A$14&ROW())<>\"\",COUNTIF([1]Summary!$B$30:$B$1029,INDIRECT($A$14&ROW())),\"\"),\"\")","v":""}]
[{"$f":"IFERROR(IF(INDIRECT($A$14&ROW())<>\"\",COUNTIF([1]Summary!$B$30:$B$1029,INDIRECT($A$14&ROW())),\"\"),\"\")","v":""}]
[{"$f":"IFERROR(IF(INDIRECT($A$14&ROW())<>\"\",COUNTIF([1]Summary!$B$30:$B$1029,INDIRECT($A$14&ROW())),\"\"),\"\")","v":""}]
[{"$f":"IFERROR(IF(INDIRECT($A$14&ROW())<>\"\",COUNTIF([1]Summary!$B$30:$B$1029,INDIRECT($A$14&ROW())),\"\"),\"\")","v":""}]
[{"$f":"IFERROR(IF(INDIRECT($A$14&ROW())<>\"\",COUNTIF([1]Summary!$B$30:$B$1029,INDIRECT($A$14&ROW())),\"\"),\"\")","v":""}]
[{"$f":"IFERROR(IF(INDIRECT($A$14&ROW())<>\"\",COUNTIF([1]Summary!$B$30:$B$1029,INDIRECT($A$14&ROW())),\"\"),\"\")","v":""}]
[{"$f":"IFERROR(IF(INDIRECT($A$14&ROW())<>\"\",COUNTIF([1]Summary!$B$30:$B$1029,INDIRECT($A$14&ROW())),\"\"),\"\")","v":""}]
[{"$f":"IFERROR(IF(INDIRECT($A$14&ROW())<>\"\",COUNTIF([1]Summary!$B$30:$B$1029,INDIRECT($A$14&ROW())),\"\"),\"\")","v":""}]
[{"$f":"IFERROR(IF(INDIRECT($A$14&ROW())<>\"\",COUNTIF([1]Summary!$B$30:$B$1029,INDIRECT($A$14&ROW())),\"\"),\"\")","v":""}]
[]
[null,"Copyright © 2013 by Oracle Symphony Sdn Bhd"]

{"sheet":"STOCK ANALYSIS","index":2,"n_rows":52,"n_cols":18,"rows_kept":52,"cut":false,"hidden":false,"merged":[[0,0,1,5]]}
["MONTHLY KITCHEN STOCK ANALYSIS "]
[]
[]
[{"$f":"+'K-LUNCH & K DINNER'!A3","v":"Outlet :"},{"$f":"+'K-LUNCH & K DINNER'!B3","v":"SBA OUTLET"}]
[{"$f":"+'K-LUNCH & K DINNER'!A4","v":"Month :"},{"$f":"+'K-LUNCH & K DINNER'!B4","v":"2013-05-01"}]
["Date from 1 to 5"]
["PART (A)  :  USAGE -MAIN COURSE & SNACK FOOD MATERIAL "]
[null,null,null,null,null,null,null,null,null,null,null,null,"(A)","(B)","(B) -(A)"]
["NO","MATERIAL ","UOM","U/P","O/S","PURCHASE","USAGE IN SALES","USAGE IN SALES","WASTAGE","STAFF FOOD","PARTY ","TOTAL USAGE","BOOK INVENTORY ","PHYSICAL C/S","DIFFERENCE ","LOSS/GAIN","STOCK DIFFERENCE  OVER USAGE","PURCHASE OVER USAGE"]
[null,null,null,"RM ",null,null,"K LUNCH / K DINNER ","SIDE ORDER /FOC ",null,null,"RECORD",null,null,null,"Q","RM","%","%"]
[]
[null,"MAIN COURSE MATERIAL"]
[1,"CHICKEN CHOP (MARINATED)","PCS",3.34,234,610,{"$f":"SUMIF('K-LUNCH & K DINNER'!$H$9:$H$46,B13,'K-LUNCH & K DINNER'!$J$9:$J$46)","v":339.1},{"$f":"SUMIF('SIDE ORDER & FOC'!$Q$11:$Q$84,B13,'SIDE ORDER & FOC'!$S$11:$S$84)","v":70.260000000000005},4,4,null,{"$f":"SUM(G13:K13)","v":417.36},{"$f":"+E13+F13-G13-H13-K13-I13-J13","v":426.64},1810,{"$f":"+N13-M13","v":1383.3600000000001},{"$f":"+O13*D13","v":4620.4224000000004},{"$f":"+O13/L13","v":3.314548591144336},{"$f":"+F13/L13","v":1.4615679509296531}]
[{"$f":"+A13+1","v":2},"CHICKEN WING  (MARINATED)","PCS",1.17,384,171,{"$f":"SUMIF('K-LUNCH & K DINNER'!$H$9:$H$46,B14,'K-LUNCH & K DINNER'!$J$9:$J$46)","v":54},{"$f":"SUMIF('SIDE ORDER & FOC'!$Q$11:$Q$84,B14,'SIDE ORDER & FOC'!$S$11:$S$84)","v":102},null,null,null,{"$f":"SUM(G14:K14)","v":156},{"$f":"+E14+F14-G14-H14-K14-I14-J14","v":399},697,{"$f":"+N14-M14","v":298},{"$f":"+O14*D14","v":348.65999999999997},{"$f":"+O14/L14","v":1.9102564102564104},{"$f":"+F14/L14","v":1.0961538461538463}]
[{"$f":"+A14+1","v":3},"CHICKEN WINGS (NON -MARINATED)","PCS",1.17,140,38,{"$f":"SUMIF('K-LUNCH & K DINNER'!$H$9:$H$46,B15,'K-LUNCH & K DINNER'!$J$9:$J$46)","v":20},{"$f":"SUMIF('SIDE ORDER & FOC'!$Q$11:$Q$84,B15,'SIDE ORDER & FOC'!$S$11:$S$84)","v":12},null,null,null,{"$f":"SUM(G15:K15)","v":32},{"$f":"+E15+F15-G15-H15-K15-I15-J15","v":146},645,{"$f":"+N15-M15","v":499},{"$f":"+O15*D15","v":583.82999999999993},{"$f":"+O15/L15","v":15.59375},{"$f":"+F15/L15","v":1.1875}]
[{"$f":"+A15+1","v":4},"DORY FISH FILLET ","PCS",2.4500000000000002,77,154,{"$f":"SUMIF('K-LUNCH & K DINNER'!$H$9:$H$46,B16,'K-LUNCH & K DINNER'!$J$9:$J$46)","v":89},{"$f":"SUMIF('SIDE ORDER & FOC'!$Q$11:$Q$84,B16,'SIDE ORDER & FOC'!$S$11:$S$84)","v":15},3,2,null,{"$f":"SUM(G16:K16)","v":109},{"$f":"+E16+F16-G16-H16-K16-I16-J16","v":122},666,{"$f":"+N16-M16","v":544},{"$f":"+O16*D16","v":1332.8000000000002},{"$f":"+O16/L16","v":4.9908256880733948},{"$f":"+F16/L16","v":1.4128440366972477}]
[]
[null,"MCCAIN PRODUCTS"]
[1,"MCCAIN ONION RING","PCS",0.16,null,null,{"$f":"SUMIF('K-LUNCH & K DINNER'!$H$9:$H$46,B19,'K-LUNCH & K DINNER'!$J$9:$J$46)","v":0},{"$f":"SUMIF('SIDE ORDER & FOC'!$Q$11:$Q$100,B19,'SIDE ORDER & FOC'!$S$11:$S$100)","v":120},null,null,null,{"$f":"SUM(G19:K19)","v":120},{"$f":"+E19+F19-G19-H19-K19-I19-J19","v":-120},null,{"$f":"+N19-M19","v":120},{"$f":"+O19*D19","v":19.2},{"$f":"+O19/L19","v":1},{"$f":"+F19/L19","v":0}]
[2,"MCCAIN SMILES","PCS",0.13,null,null,{"$f":"SUMIF('K-LUNCH & K DINNER'!$H$9:$H$46,B20,'K-LUNCH & K DINNER'!$J$9:$J$46)","v":0},{"$f":"SUMIF('SIDE ORDER & FOC'!$Q$11:$Q$100,B20,'SIDE ORDER & FOC'!$S$11:$S$100)","v":78},null,null,null,{"$f":"SUM(G20:K20)","v":78},{"$f":"+E20+F20-G20-H20-K20-I20-J20","v":-78},null,{"$f":"+N20-M20","v":78},{"$f":"+O20*D20","v":10.14},{"$f":"+O20/L20","v":1},{"$f":"+F20/L20","v":0}]
[4,"MCCAIN VERSITOT","PCS",0.06,null,null,{"$f":"SUMIF('K-LUNCH & K DINNER'!$H$9:$H$46,B21,'K-LUNCH & K DINNER'!$J$9:$J$46)","v":0},{"$f":"SUMIF('SIDE ORDER & FOC'!$Q$11:$Q$100,B21,'SIDE ORDER & FOC'!$S$11:$S$100)","v":104},null,null,null,{"$f":"SUM(G21:K21)","v":104},{"$f":"+E21+F21-G21-H21-K21-I21-J21","v":-104},null,{"$f":"+N21-M21","v":104},{"$f":"+O21*D21","v":6.24},{"$f":"+O21/L21","v":1},{"$f":"+F21/L21","v":0}]
[3,"MCCAIN SPIRAL FRIES","KG",7.87,null,null,{"$f":"SUMIF('K-LUNCH & K DINNER'!$H$9:$H$46,B22,'K-LUNCH & K DINNER'!$J$9:$J$46)","v":0},{"$f":"SUMIF('SIDE ORDER & FOC'!$Q$11:$Q$100,B22,'SIDE ORDER & FOC'!$S$11:$S$100)","v":1.5599999999999998},null,null,null,{"$f":"SUM(G22:K22)","v":1.5599999999999998},{"$f":"+E22+F22-G22-H22-K22-I22-J22","v":-1.5599999999999998},null,{"$f":"+N22-M22","v":1.5599999999999998},{"$f":"+O22*D22","v":12.277199999999999},{"$f":"+O22/L22","v":1},{"$f":"+F22/L22","v":0}]
[]
[null,"FROZEN FOODS"]
[{"$f":"+A16+1","v":5},"CHICKEN NUGGET","PCS",0.26,null,null,{"$f":"SUMIF('K-LUNCH & K DINNER'!$H$9:$H$46,B25,'K-LUNCH & K DINNER'!$J$9:$J$46)","v":88},{"$f":"SUMIF('SIDE ORDER & FOC'!$Q$11:$Q$84,B25,'SIDE ORDER & FOC'!$S$11:$S$84)","v":136},null,null,null,{"$f":"SUM(G25:K25)","v":224},{"$f":"+E25+F25-G25-H25-K25-I25-J25","v":-224},null,{"$f":"+N25-M25","v":224},{"$f":"+O25*D25","v":58.24},{"$f":"+O25/L25","v":1},{"$f":"+F25/L25","v":0}]
[{"$f":"+A25+1","v":6},"CHICKEN SAUSAGE ","PCS",0.23,null,null,{"$f":"SUMIF('K-LUNCH & K DINNER'!$H$9:$H$46,B26,'K-LUNCH & K DINNER'!$J$9:$J$46)","v":18.5},{"$f":"SUMIF('SIDE ORDER & FOC'!$Q$11:$Q$84,B26,'SIDE ORDER & FOC'!$S$11:$S$84)","v":66.5},null,44,null,129,-129,null,129,29.67,1,0]
[{"$f":"+A26+1","v":7},"DUMPLING ","PCS",0.65,null,null,{"$f":"SUMIF('K-LUNCH & K DINNER'!$H$9:$H$46,B27,'K-LUNCH & K DINNER'!$J$9:$J$46)","v":36},{"$f":"SUMIF('SIDE ORDER & FOC'!$Q$11:$Q$84,B27,'SIDE ORDER & FOC'!$S$11:$S$84)","v":30},null,null,null,66,-66,null,66,42.9,1,0]
[8,"FISH BALL (BIG)","PCS",0.24,null,null,{"$f":"SUMIF('K-LUNCH & K DINNER'!$H$9:$H$46,B28,'K-LUNCH & K DINNER'!$J$9:$J$46)","v":0},{"$f":"SUMIF('SIDE ORDER & FOC'!$Q$11:$Q$84,B28,'SIDE ORDER & FOC'!$S$11:$S$84)","v":30},null,null,null,30,-30,null,30,7.1999999999999993,1,0]
[9,"FISH BALL (SMALL)","PCS",0.1,null,null,{"$f":"SUMIF('K-LUNCH & K DINNER'!$H$9:$H$46,B29,'K-LUNCH & K DINNER'!$J$9:$J$46)","v":45},{"$f":"SUMIF('SIDE ORDER & FOC'!$Q$11:$Q$84,B29,'SIDE ORDER & FOC'!$S$11:$S$84)","v":5},null,null,null,50,-50,null,50,5,1,0]
[{"$f":"+A21+1","v":5},"RAINBOW ROLL","PCS",1.96,null,null,{"$f":"SUMIF('K-LUNCH & K DINNER'!$H$9:$H$46,B30,'K-LUNCH & K DINNER'!$J$9:$J$46)","v":0},{"$f":"SUMIF('SIDE ORDER & FOC'!$Q$11:$Q$84,B30,'SIDE ORDER & FOC'!$S$11:$S$84)","v":3},null,null,null,3,-3,null,3,5.88,1,0]
[6,"SALMON BALL","PCS",0.27,null,null,{"$f":"SUMIF('K-LUNCH & K DINNER'!$H$9:$H$46,B31,'K-LUNCH & K DINNER'!$J$9:$J$46)","v":4},{"$f":"SUMIF('SIDE ORDER & FOC'!$Q$11:$Q$84,B31,'SIDE ORDER & FOC'!$S$11:$S$84)","v":2},null,null,null,6,-6,null,6,1.62,1,0]
[7,"SEAFOOD TOFU ","PCS",0.33,null,null,{"$f":"SUMIF('K-LUNCH & K DINNER'!$H$9:$H$46,B32,'K-LUNCH & K DINNER'!$J$9:$J$46)","v":4},{"$f":"SUMIF('SIDE ORDER & FOC'!$Q$11:$Q$84,B32,'SIDE ORDER & FOC'!$S$11:$S$84)","v":2},null,null,null,6,-6,null,6,1.98,1,0]
[8,"SOTONG BALL","PCS",0.17,null,null,{"$f":"SUMIF('K-LUNCH & K DINNER'!$H$9:$H$46,B33,'K-LUNCH & K DINNER'!$J$9:$J$46)","v":4},{"$f":"SUMIF('SIDE ORDER & FOC'!$Q$11:$Q$84,B33,'SIDE ORDER & FOC'!$S$11:$S$84)","v":2},null,null,null,6,-6,null,6,1.02,1,0]
[9,"SPRING ROLL","PCS",0.27,null,null,{"$f":"SUMIF('K-LUNCH & K DINNER'!$H$9:$H$46,B34,'K-LUNCH & K DINNER'!$J$9:$J$46)","v":32},{"$f":"SUMIF('SIDE ORDER & FOC'!$Q$11:$Q$84,B34,'SIDE ORDER & FOC'!$S$11:$S$84)","v":64},null,null,null,96,-96,null,96,25.92,1,0]
[10,"THAI ROLL ","PCS",0.45,null,null,{"$f":"SUMIF('K-LUNCH & K DINNER'!$H$9:$H$46,B35,'K-LUNCH & K DINNER'!$J$9:$J$46)","v":7},{"$f":"SUMIF('SIDE ORDER & FOC'!$Q$11:$Q$84,B35,'SIDE ORDER & FOC'!$S$11:$S$84)","v":21},null,null,null,28,-28,null,28,12.6,1,0]
[null,"G.TOTAL ",null,null,null,null,null,null,null,null,null,null,null,null,null,{"$f":"SUM(P13:P35)","v":7125.5996000000005}]
[]
["PART (B)  :  SAUCE "]
[null,null,null,null,null,null,null,null,null,null,null,null,"(A)","(B)","(B) -(A)"]
["NO","MATERIAL ","UOM","U/P","O/S","PURCHASE","USAGE IN SALES",null,"WASTAGE","STAFF FOOD","PARTY ","TOTAL USAGE","BOOK INVENTORY ","PHYSICAL C/S","DIFFERENCE ","LOSS/GAIN","STOCK DIFFERENCE  OVER USAGE","PURCHASE OVER USAGE"]
[null,null,null,"RM ",null,null,null,null,null,null,"RECORD",null,null,null,"Q","RM","%","%"]
[]
[1,"MUSHROOM SAUCE","KG",6.78,4.5,7.8,{"$f":"SUMIF('SAUCE USAGE'!$J$10:$J$61,B43,'SAUCE USAGE'!$L$10:$L$61)/1000","v":7.64},null,null,null,null,{"$f":"SUM(G43:K43)","v":7.64},{"$f":"+E43+F43-G43","v":4.660000000000001},0,{"$f":"+N43-M43","v":-4.660000000000001},{"$f":"+O43*D43","v":-31.594800000000006},{"$f":"+O43/L43","v":-0.60994764397905776},{"$f":"+F43/L43","v":1.0209424083769634}]
[{"$f":"+A43+1","v":2},"BLACK PEPPER SAUCE","KG",3.88,4.0999999999999996,7.4,{"$f":"SUMIF('SAUCE USAGE'!$J$10:$J$61,B44,'SAUCE USAGE'!$L$10:$L$61)/1000","v":7.63},null,null,null,null,7.63,{"$f":"+E44+F44-G44","v":3.87},0,-3.87,-15.015599999999999,-0.50720838794233292,0.96985583224115335]
[{"$f":"+A44+1","v":3},"SWEET & SOUR SAUCE","KG",1.88,8,0,{"$f":"SUMIF('SAUCE USAGE'!$J$10:$J$61,B45,'SAUCE USAGE'!$L$10:$L$61)/1000","v":3},null,null,null,null,3,5,0,-5,-9.3999999999999986,-1.6666666666666667,0]
[4,"MARMITE SAUCE ","KG",2,4.5,4,{"$f":"SUMIF('SAUCE USAGE'!$J$10:$J$61,B46,'SAUCE USAGE'!$L$10:$L$61)/1000","v":3.84},null,null,null,null,3.84,{"$f":"+E46+F46-G46","v":4.66},0,-4.66,-9.32,-1.2135416666666667,1.0416666666666667]
[5,"SAMBAL (FRIED)SAUCE","KG",9.07,5.5,0,{"$f":"SUMIF('SAUCE USAGE'!$J$10:$J$61,B47,'SAUCE USAGE'!$L$10:$L$61)/1000","v":2.13},null,null,null,null,2.13,3.37,0,-3.37,-30.565900000000003,-1.5821596244131457,0]
[6,"GRAVY SAUCE","KG",3.3,1.4,1.6,{"$f":"SUMIF('SAUCE USAGE'!$J$10:$J$61,B48,'SAUCE USAGE'!$L$10:$L$61)/1000","v":1.8},null,null,null,null,1.8,1.2,0,-1.2,-3.9599999999999995,-0.66666666666666663,0.88888888888888895]
[7,"BOLOGNESE SAUCE","KG",11.35,8.8000000000000007,13,{"$f":"SUMIF('SAUCE USAGE'!$J$10:$J$61,B49,'SAUCE USAGE'!$L$10:$L$61)/1000","v":5.85},null,null,null,null,5.85,15.950000000000001,0,-15.950000000000001,-181.0325,-2.726495726495727,2.2222222222222223]
[8,"BLACK PEPPER SAUCE (UDON)","KG",3.88,3,3.5,{"$f":"SUMIF('SAUCE USAGE'!$J$10:$J$61,B50,'SAUCE USAGE'!$L$10:$L$61)/1000","v":1.19},null,null,null,null,1.19,5.3100000000000005,0,-5.3100000000000005,-20.602800000000002,-4.4621848739495809,2.9411764705882355]
[]
[null,"G.TOTAL ",null,null,null,null,null,null,null,null,null,null,null,null,null,{"$f":"SUM(P43:P51)","v":-301.49160000000001}]

{"sheet":"K-LUNCH & K DINNER","index":3,"n_rows":47,"n_cols":10,"rows_kept":47,"cut":false,"hidden":false,"merged":[[46,0,46,2],[0,0,0,4],[5,8,5,9]]}
["MONTHLY SALES FOOD RECORD ( K LUNCH & K DINNER)"]
[]
["Outlet :","SBA OUTLET"]
["Month :","2013-05-01"]
[]
[null,null,null,"K-LUNCH & K DINNER","TOTAL COST ",null,null,null,"USAGE"]
["NO","MENU ITEM","Cost","Sales",null,null,null,"MATERIAL  USED","PORTION","TOTAL"]
[null,null,"RM","Q","RM",null,null,"Q","Q","Q"]
[]
[1,"DH01 91101:THAI CHK",3.29,{"$f":"VLOOKUP(B10,Summary!$B$30:$AJ$438,5,FALSE)","v":25},{"$f":"+D10*C10","v":82.25},null,null,"CHICKEN CHOP (MARINATED)",0.66,{"$f":"+I10*D10","v":16.5}]
[{"$f":"+A10+1","v":2},"DH02 91102:MAMITE CHK",3.02,{"$f":"VLOOKUP(B11,Summary!$B$30:$AJ$438,5,FALSE)","v":32},{"$f":"+D11*C11","v":96.64},null,null,"CHICKEN CHOP (MARINATED)",0.66,21.12]
[{"$f":"+A11+1","v":3},"DH03 91103:KO PO CHK",3.45,{"$f":"VLOOKUP(B12,Summary!$B$30:$AJ$438,5,FALSE)","v":10},34.5,null,null,"CHICKEN CHOP (MARINATED)",0.66,6.6000000000000005]
[4,"DH04 91104:S&S CHK",3.45,{"$f":"VLOOKUP(B13,Summary!$B$30:$AJ$438,5,FALSE)","v":14},48.300000000000004,null,null,"CHICKEN CHOP (MARINATED)",0.66,9.24]
[5,"DH05 91105:BUTTER CHK",3.32,{"$f":"VLOOKUP(B14,Summary!$B$30:$AJ$438,5,FALSE)","v":54},179.28,null,null,"CHICKEN CHOP (MARINATED)",0.66,35.64]
[6,"DH06 91106:HK F.RICE",3.16,{"$f":"VLOOKUP(B15,Summary!$B$30:$AJ$438,5,FALSE)","v":27},85.320000000000007,null,null,null,null,0]
[7,"DH07 91107:SBL F.RICE",2.41,{"$f":"VLOOKUP(B16,Summary!$B$30:$AJ$438,5,FALSE)","v":18},43.38,null,null,null,null,{"$f":"+I16*D16","v":0}]
[8,"DH08 91108:SBL F.MEE",2.8,{"$f":"VLOOKUP(B17,Summary!$B$30:$AJ$438,5,FALSE)","v":4},11.2,null,null,null,null,0]
[9,"DH09 91109:BP UDON",2.08,{"$f":"VLOOKUP(B18,Summary!$B$30:$AJ$438,5,FALSE)","v":14},29.12,null,null,null,null,0]
[10,"DH10 91110:NISSIN",2.3199999999999998,{"$f":"VLOOKUP(B19,Summary!$B$30:$AJ$438,5,FALSE)","v":7},16.239999999999998,null,null,"CHICKEN SAUSAGE ",1.5,{"$f":"+I19*D19","v":10.5}]
[11,"DH11 91111:VEG RICE",1.6,{"$f":"VLOOKUP(B20,Summary!$B$30:$AJ$438,5,FALSE)","v":5},8,null,null,null,null,0]
[12,"DH12 91112:NASI LEMAK",3.56,{"$f":"VLOOKUP(B21,Summary!$B$30:$AJ$438,5,FALSE)","v":20},71.2,null,null,"CHICKEN WINGS (NON -MARINATED)",1,{"$f":"+I21*D21","v":20}]
[13,"DH13 91113:KUEY TEOW",3.16,{"$f":"VLOOKUP(B22,Summary!$B$30:$AJ$438,5,FALSE)","v":20},63.2,null,null,null,null,{"$f":"+I22*D22","v":0}]
[14,"DH14 91114:F.BALL MEE",2.59,{"$f":"VLOOKUP(B23,Summary!$B$30:$AJ$438,5,FALSE)","v":9},23.31,null,null,"FISH BALL (SMALL)",5,{"$f":"+I23*D23","v":45}]
[15,"DH15 91115:CHK NOODLE",4.71,{"$f":"VLOOKUP(B24,Summary!$B$30:$AJ$438,5,FALSE)","v":12},56.519999999999996,null,null,"CHICKEN CHOP (MARINATED)",1,{"$f":"+I24*D24","v":12}]
[16,"DG01 91001:BP CHK CP",4.41,{"$f":"VLOOKUP(B25,Summary!$B$30:$AJ$438,5,FALSE)","v":68},299.88,null,null,"CHICKEN CHOP (MARINATED)",1,68]
[{"$f":"+A25+1","v":17},"DG02 91002:GVY CHK CP",4.43,{"$f":"VLOOKUP(B26,Summary!$B$30:$AJ$438,5,FALSE)","v":17},75.31,null,null,"CHICKEN CHOP (MARINATED)",1,17]
[18,"DG03 91003:MSR CHK CP",4.75,{"$f":"VLOOKUP(B27,Summary!$B$30:$AJ$438,5,FALSE)","v":83},394.25,null,null,"CHICKEN CHOP (MARINATED)",1,{"$f":"+I27*D27","v":83}]
[19,"DG04 91004:CKN MARY",5.98,{"$f":"VLOOKUP(B28,Summary!$B$30:$AJ$438,5,FALSE)","v":50},299,null,null,"CHICKEN CHOP (MARINATED)",1,50]
[20,"DG05 91005:FISH&CHIP",4.29,{"$f":"VLOOKUP(B29,Summary!$B$30:$AJ$438,5,FALSE)","v":89},381.81,null,null,"DORY FISH FILLET ",1,{"$f":"+I29*D29","v":89}]
[21,"DG06 91006:SPAGHETTI",2.1,{"$f":"VLOOKUP(B30,Summary!$B$30:$AJ$438,5,FALSE)","v":36},75.600000000000009]
[22,"DG07 91007:CHK SALAD",4.9400000000000004,{"$f":"VLOOKUP(B31,Summary!$B$30:$AJ$438,5,FALSE)","v":20},98.800000000000011,null,null,"CHICKEN CHOP (MARINATED)",1,{"$f":"+I31*D31","v":20}]
[23,"DI01 91201:SFD STICK",2,{"$f":"VLOOKUP(B32,Summary!$B$30:$AJ$438,5,FALSE)","v":2},4,null,null,"SOTONG BALL",2,{"$f":"+I32*$D$32","v":4}]
[null,null,null,null,null,null,null,"SALMON BALL",2,{"$f":"+I33*$D$32","v":4}]
[null,null,null,null,null,null,null,"SEAFOOD TOFU ",2,{"$f":"+I34*$D$32","v":4}]
[24,"DI02 91202:FREN FRIES",1.76,{"$f":"VLOOKUP(B35,Summary!$B$30:$AJ$438,5,FALSE)","v":5},8.8000000000000007,null,null,null,null,{"$f":"+I35*D35","v":0}]
[25,"DI03 91203:GOLD MROOM",2.15,{"$f":"VLOOKUP(B36,Summary!$B$30:$AJ$438,5,FALSE)","v":4},8.6,null,null,null,null,{"$f":"+I36*D36","v":0}]
[26,"DI04 91204:FISHBALL",1.56,{"$f":"VLOOKUP(B37,Summary!$B$30:$AJ$438,5,FALSE)","v":0},0,null,null,"FISH BALL (BIG)",6,{"$f":"+I37*D37","v":0}]
[27,"DI05 91205:RAINBOW RL",2.5,{"$f":"VLOOKUP(B38,Summary!$B$30:$AJ$438,5,FALSE)","v":0},0,null,null,"RAINBOW ROLL",1,{"$f":"+I38*D38","v":0}]
[28,"DI06 91206:SPRING RL",2.67,{"$f":"VLOOKUP(B39,Summary!$B$30:$AJ$438,5,FALSE)","v":4},10.68,null,null,"SPRING ROLL",8,32]
[29,"DI07 91207:SAUSAGE",1.24,{"$f":"VLOOKUP(B40,Summary!$B$30:$AJ$438,5,FALSE)","v":2},2.48,null,null,"CHICKEN SAUSAGE ",4,8]
[30,"DI10 91301:DUMPLING",4.5,{"$f":"VLOOKUP(B41,Summary!$B$30:$AJ$438,5,FALSE)","v":6},27,null,null,"DUMPLING ",6,36]
[31,"DI11 91302:NUGGET",2.4300000000000002,{"$f":"VLOOKUP(B42,Summary!$B$30:$AJ$438,5,FALSE)","v":11},26.73,null,null,"CHICKEN NUGGET",8,{"$f":"+I42*D42","v":88}]
[32,"DI12 91303:CHK WING",3.97,{"$f":"VLOOKUP(B43,Summary!$B$30:$AJ$438,5,FALSE)","v":18},71.460000000000008,null,null,"CHICKEN WING  (MARINATED)",3,{"$f":"+I43*D43","v":54}]
[33,"DI13 91304:IKAN BILIS",2.1800000000000002,{"$f":"VLOOKUP(B44,Summary!$B$30:$AJ$438,5,FALSE)","v":4},8.7200000000000006,null,null,null,null,{"$f":"+I44*D44","v":0}]
[34,"DI14 91305:THAI RL",3.61,{"$f":"VLOOKUP(B45,Summary!$B$30:$AJ$438,5,FALSE)","v":1},3.61,null,null,"THAI ROLL ",7,{"$f":"+I45*D45","v":7}]
[]
["Total Sales / COST",null,null,{"$f":"SUM(D10:D45)","v":691},{"$f":"SUM(E10:E46)","v":2645.19}]

{"sheet":"SIDE ORDER & FOC","index":4,"n_rows":85,"n_cols":19,"rows_kept":85,"cut":false,"hidden":false,"merged":[[0,0,0,12],[7,11,7,12],[6,3,6,4],[6,6,6,7],[6,8,6,9],[50,3,50,4],[50,6,50,7],[50,8,50,9],[51,3,51,4],[51,6,51,7],[51,8,51,9],[7,16,7,18],[7,13,7,14],[7,3,7,4],[7,6,7,7],[7,8,7,9],[51,11,51,12],[51,13,51,14],[51,16,51,18],[84,0,84,2],[90,16,90,18],[90,13,90,14],[128,0,128,2],[132,9,132,11],[133,9,133,11],[90,3,90,4],[90,6,90,7],[90,8,90,9],[90,11,90,12]]}
["MONTHLY SALES FOOD RECORD ( SIDE ORDER & FOC )"]
[]
[{"$f":"+'[2]K-LUNCH & K DINNER'!A3","v":"Outlet :"},{"$f":"+'K-LUNCH & K DINNER'!B3","v":"SBA OUTLET"}]
[{"$f":"+'[2]K-LUNCH & K DINNER'!A4","v":"Month :"},{"$f":"+'K-LUNCH & K DINNER'!B4","v":"2013-05-01"}]
[]
["LOCAL DELIGHTS / WESTERN CRUISE / APPETIZER "]
[null,null,null,"(A)",null,null,"(B)",null,"(A) - (B)"]
[null,null,null,"SIDE ORDER                 (INCLUDING FOC)",null,null,"FOC",null,"SIDE ORDER                        (NETT SALES)",null,null,"SIDE ORDER                        (NETT COST)",null,"FOC (COST)",null,null,"USAGE"]
["NO","MENU ITEM","S/P","Sales","TOTAL",null,"Sales","TOTAL","Sales","TOTAL",null,"COST","TOTAL","COST","TOTAL",null,"MATERIAL ","RECIPE","TOTAL"]
[null,null,"RM","Q","RM",null,"Q","RM","Q","RM",null,"RM","RM","RM","RM",null,"Q","Q","Q"]
[1,"DF01 ADD RICE",1,{"$f":"VLOOKUP(B11,Summary!$B$30:$AK$409,5,FALSE)","v":4},{"$f":"D11*C11","v":4},null,{"$f":"+'DAILY FOC'!BO9","v":0},{"$f":"G11*C11","v":0},{"$f":"+D11-G11","v":4},{"$f":"+I11*C11","v":4},null,0.5,{"$f":"+L11*I11","v":2},{"$f":"+L11","v":0.5},{"$f":"+N11*G11","v":0}]
[{"$f":"+A11+1","v":2},"DF02 ADD F.EGG",1.5,{"$f":"VLOOKUP(B12,Summary!$B$30:$AK$409,5,FALSE)","v":1},{"$f":"D12*C12","v":1.5},null,{"$f":"+'DAILY FOC'!BO10","v":0},0,1,1.5,null,0.34,0.34,{"$f":"+L12","v":0.34},0]
[{"$f":"+A12+1","v":3},"DC01 1101:THAI CHK",9.9,{"$f":"VLOOKUP(B13,Summary!$B$30:$AK$409,5,FALSE)","v":20},198,null,{"$f":"+'DAILY FOC'!BO11","v":0},0,20,198,null,{"$f":"+'[2]K-LUNCH & K DINNER'!C10:C33","v":3.45},69,{"$f":"+L13","v":3.45},0,null,"CHICKEN CHOP (MARINATED)",0.66,{"$f":"+R13*D13","v":13.200000000000001}]
[4,"DC02 1102:MAMITE CHK",9.9,{"$f":"VLOOKUP(B14,Summary!$B$30:$AK$409,5,FALSE)","v":16},158.4,null,{"$f":"+'DAILY FOC'!BO12","v":0},0,16,158.4,null,{"$f":"+'[2]K-LUNCH & K DINNER'!C11:C34","v":3.32},53.12,{"$f":"+L14","v":3.32},0,null,"CHICKEN CHOP (MARINATED)",0.66,{"$f":"+R14*D14","v":10.56}]
[5,"DC03 1103:KO PO CHK",9.9,{"$f":"VLOOKUP(B15,Summary!$B$30:$AK$409,5,FALSE)","v":4},39.6,null,{"$f":"+'DAILY FOC'!BO13","v":0},0,0,0,null,{"$f":"+'[2]K-LUNCH & K DINNER'!C12:C35","v":3.16},0,3.16,0,null,"CHICKEN CHOP (MARINATED)",0.66,{"$f":"+R15*D15","v":2.64}]
[6,"DC04 1104:S&S CHK",9.9,{"$f":"VLOOKUP(B16,Summary!$B$30:$AK$409,5,FALSE)","v":1},9.9,null,{"$f":"+'DAILY FOC'!BO14","v":0},0,1,9.9,null,{"$f":"+'[2]K-LUNCH & K DINNER'!C13:C36","v":2.41},2.41,2.41,0,null,"CHICKEN CHOP (MARINATED)",0.66,{"$f":"+R16*D16","v":0.66}]
[7,"DC05 1105:BUTTER CHK",9.9,{"$f":"VLOOKUP(B17,Summary!$B$30:$AK$409,5,FALSE)","v":20},198,null,{"$f":"+'DAILY FOC'!BO15","v":0},0,20,198,null,{"$f":"+'[2]K-LUNCH & K DINNER'!C14:C37","v":2.8},56,2.8,0,null,"CHICKEN CHOP (MARINATED)",0.66,{"$f":"+R17*D17","v":13.200000000000001}]
[8,"DC06 1106:HK F.RICE",9.9,{"$f":"VLOOKUP(B18,Summary!$B$30:$AK$409,5,FALSE)","v":8},79.2,null,{"$f":"+'DAILY FOC'!BO16","v":0},0,8,79.2,null,{"$f":"+'[2]K-LUNCH & K DINNER'!C15:C38","v":2.08},16.64,2.08,0]
[9,"DC07 1107:SBL F.RICE",9.9,{"$f":"VLOOKUP(B19,Summary!$B$30:$AK$409,5,FALSE)","v":16},158.4,null,{"$f":"+'DAILY FOC'!BO17","v":0},0,16,158.4,null,{"$f":"+'[2]K-LUNCH & K DINNER'!C16:C39","v":2.3199999999999998},37.119999999999997,2.3199999999999998,0]
[10,"DC08 1108:SBL F.MEE",9.9,{"$f":"VLOOKUP(B20,Summary!$B$30:$AK$409,5,FALSE)","v":0},0,null,{"$f":"+'DAILY FOC'!BO18","v":0},0,0,0,null,{"$f":"+'[2]K-LUNCH & K DINNER'!C17:C40","v":1.6},0,1.6,0]
[11,"DC09 1109:BP UDON",9.9,{"$f":"VLOOKUP(B21,Summary!$B$30:$AK$409,5,FALSE)","v":3},29.700000000000003,null,{"$f":"+'DAILY FOC'!BO19","v":0},0,0,0,null,{"$f":"+'[2]K-LUNCH & K DINNER'!C18:C41","v":3.56},0,3.56,0]
[12,"DC10 1110:NISSIN",9.9,{"$f":"VLOOKUP(B22,Summary!$B$30:$AK$409,5,FALSE)","v":7},69.3,null,{"$f":"+'DAILY FOC'!BO20","v":0},0,7,69.3,null,{"$f":"+'[2]K-LUNCH & K DINNER'!C19:C42","v":3.16},22.12,3.16,0,null,"CHICKEN SAUSAGE ",1.5,{"$f":"+R22*D22","v":10.5}]
[13,"DC11 1111:VEG RICE",9.9,{"$f":"VLOOKUP(B23,Summary!$B$30:$AK$409,5,FALSE)","v":0},0,null,{"$f":"+'DAILY FOC'!BO21","v":0},0,0,0,null,{"$f":"+'[2]K-LUNCH & K DINNER'!C20:C43","v":2.59},0,2.59,0]
[14,"DC12 1112:NASI LEMAK",9.9,{"$f":"VLOOKUP(B24,Summary!$B$30:$AK$409,5,FALSE)","v":4},39.6,null,{"$f":"+'DAILY FOC'!BO22","v":0},0,0,0,null,{"$f":"+'[2]K-LUNCH & K DINNER'!C21:C44","v":4.71},0,4.71,0,null,"CHICKEN WINGS (NON -MARINATED)",1,4]
[15,"DC13 1113:KUEY TEOW",9.9,{"$f":"VLOOKUP(B25,Summary!$B$30:$AK$409,5,FALSE)","v":8},79.2,null,{"$f":"+'DAILY FOC'!BO23","v":0},0,8,79.2,null,{"$f":"+'[2]K-LUNCH & K DINNER'!C22:C45","v":3.54},28.32,3.54,0]
[16,"DC14 1114:F.BALL MEE",9.9,{"$f":"VLOOKUP(B26,Summary!$B$30:$AK$409,5,FALSE)","v":1},9.9,null,{"$f":"+'DAILY FOC'!BO24","v":0},0,1,9.9,null,{"$f":"+'[2]K-LUNCH & K DINNER'!C23:C46","v":4.41},4.41,4.41,0,null,"FISH BALL (SMALL)",5,5]
[17,"DC15 1115:CHK NOODLE",9.9,{"$f":"VLOOKUP(B27,Summary!$B$30:$AK$409,5,FALSE)","v":5},49.5,null,{"$f":"+'DAILY FOC'!BO25","v":0},0,5,49.5,null,{"$f":"+'[2]K-LUNCH & K DINNER'!C24:C47","v":4.43},22.15,4.43,0,null,"CHICKEN CHOP (MARINATED)",1,5]
[18,"DB01 1001:BP CKN CP",12.9,{"$f":"VLOOKUP(B28,Summary!$B$30:$AK$409,5,FALSE)","v":15},193.5,null,{"$f":"+'DAILY FOC'!BO26","v":0},0,15,193.5,null,{"$f":"+'[2]K-LUNCH & K DINNER'!C26:C49","v":4.75},71.25,4.75,0,null,"CHICKEN CHOP (MARINATED)",1,15]
[19,"DB02 1002:GVY CHK CP",12.9,{"$f":"VLOOKUP(B29,Summary!$B$30:$AK$409,5,FALSE)","v":3},38.700000000000003,null,{"$f":"+'DAILY FOC'!BO27","v":0},0,3,38.700000000000003,null,{"$f":"+'[2]K-LUNCH & K DINNER'!C27:C50","v":5.98},17.940000000000001,5.98,0,null,"CHICKEN CHOP (MARINATED)",1,3]
[20,"DB03 1003:MSR CKN CP",12.9,{"$f":"VLOOKUP(B30,Summary!$B$30:$AK$409,5,FALSE)","v":1},12.9,null,{"$f":"+'DAILY FOC'!BO28","v":0},0,1,12.9,null,{"$f":"+'[2]K-LUNCH & K DINNER'!C28:C51","v":4.29},4.29,4.29,0,null,"CHICKEN CHOP (MARINATED)",1,1]
[21,"DB04 1004:CKN MARY",12.9,{"$f":"VLOOKUP(B31,Summary!$B$30:$AK$409,5,FALSE)","v":5},64.5,null,{"$f":"+'DAILY FOC'!BO29","v":0},0,5,64.5,null,{"$f":"+'[2]K-LUNCH & K DINNER'!C29:C52","v":2.1},10.5,2.1,0,null,"CHICKEN CHOP (MARINATED)",1,5]
[22,"DB05 1005:FISH&CHIP",12.9,{"$f":"VLOOKUP(B32,Summary!$B$30:$AK$409,5,FALSE)","v":15},193.5,null,{"$f":"+'DAILY FOC'!BO30","v":0},0,15,193.5,null,{"$f":"+'[2]K-LUNCH & K DINNER'!C30:C53","v":4.9400000000000004},74.100000000000009,4.9400000000000004,0,null,"DORY FISH FILLET ",1,{"$f":"+R32*D32","v":15}]
[23,"DB06 1006:SPAGHETTI",12.9,{"$f":"VLOOKUP(B33,Summary!$B$30:$AK$409,5,FALSE)","v":3},38.700000000000003,null,{"$f":"+'DAILY FOC'!BO31","v":0},0,3,38.700000000000003,null,{"$f":"+'[2]K-LUNCH & K DINNER'!C31:C54","v":2},6,2,0]
[24,"DB07 1007:CHK SALAD",12.9,{"$f":"VLOOKUP(B34,Summary!$B$30:$AK$409,5,FALSE)","v":1},12.9,null,{"$f":"+'DAILY FOC'!BO32","v":0},0,1,12.9,null,4.9400000000000004,4.9400000000000004,4.9400000000000004,0,null,"CHICKEN CHOP (MARINATED)",1,1]
[25,"DD01 1201:SFD STICK",5.9,{"$f":"VLOOKUP(B35,Summary!$B$30:$AK$409,5,FALSE)","v":0},{"$f":"D35*C35","v":0},null,{"$f":"+'DAILY FOC'!BO33","v":0},0,1,{"$f":"+I35*C35","v":5.9},null,2,2,2,0,null,"SOTONG BALL",2,{"$f":"+R35*$D$35","v":0}]
[null,null,null,null,null,null,null,null,null,null,null,null,null,null,null,null,"SALMON BALL",2,{"$f":"+R36*$D$35","v":0}]
[null,null,null,null,null,null,null,null,null,null,null,null,null,null,null,null,"SEAFOOD TOFU ",2,{"$f":"+R37*$D$35","v":0}]
[{"$f":"+A35+1","v":26},"DD02 1202:FREN FRIES",5.9,{"$f":"VLOOKUP(B38,Summary!$B$30:$AK$409,5,FALSE)","v":10},{"$f":"D38*C38","v":59},null,{"$f":"+'DAILY FOC'!BO36","v":0},{"$f":"G38*C38","v":0},{"$f":"+D38-G38","v":10},{"$f":"+I38*C38","v":59},null,{"$f":"+'[2]K-LUNCH & K DINNER'!C36","v":1.76},17.600000000000001,{"$f":"+L38","v":1.76},0]
[{"$f":"+A38+1","v":27},"DD03 1203:GOLD MROOM",5.9,{"$f":"VLOOKUP(B39,Summary!$B$30:$AK$409,5,FALSE)","v":1},5.9,null,{"$f":"+'DAILY FOC'!BO37","v":0},0,1,{"$f":"+I39*C39","v":5.9},null,{"$f":"+'[2]K-LUNCH & K DINNER'!C37","v":2.15},2.15,2.15,0,null,null,null,{"$f":"+R39*D39","v":0}]
[28,"DD04 1204:FISHBALL",5.9,{"$f":"VLOOKUP(B40,Summary!$B$30:$AK$409,5,FALSE)","v":1},5.9,null,{"$f":"+'DAILY FOC'!BO38","v":0},0,1,5.9,null,{"$f":"+'[2]K-LUNCH & K DINNER'!C38","v":1.56},1.56,1.56,0,null,"FISH BALL (BIG)",6,{"$f":"+R40*D40","v":6}]
[29,"DD05 1205:RAINBOW RL",5.9,{"$f":"VLOOKUP(B41,Summary!$B$30:$AK$409,5,FALSE)","v":1},5.9,null,{"$f":"+'DAILY FOC'!BO39","v":0},0,0,0,null,{"$f":"+'[2]K-LUNCH & K DINNER'!C39","v":2.5},0,2.5,0,null,"RAINBOW ROLL",1,1]
[30,"DD06 1206:SPRING RL",5.9,{"$f":"VLOOKUP(B42,Summary!$B$30:$AK$409,5,FALSE)","v":3},17.700000000000003,null,{"$f":"+'DAILY FOC'!BO40","v":0},{"$f":"G42*C42","v":0},3,{"$f":"+I42*C42","v":17.700000000000003},null,{"$f":"+'[2]K-LUNCH & K DINNER'!C40","v":2.67},8.01,2.67,0,null,"SPRING ROLL",8,24]
[31,"DD07 1207:SAUSAGE",5.9,{"$f":"VLOOKUP(B43,Summary!$B$30:$AK$409,5,FALSE)","v":1},5.9,null,{"$f":"+'DAILY FOC'!BO41","v":0},0,1,5.9,null,{"$f":"+'[2]K-LUNCH & K DINNER'!C41","v":1.24},1.24,1.24,0,null,"CHICKEN SAUSAGE ",4,4]
[32,"DD10 1301:DUMPLING",5.9,{"$f":"VLOOKUP(B44,Summary!$B$30:$AK$409,5,FALSE)","v":0},0,null,{"$f":"+'DAILY FOC'!BO42","v":0},0,0,0,null,{"$f":"+'[2]K-LUNCH & K DINNER'!C44","v":4.5},0,4.5,0,null,"DUMPLING ",6,0]
[33,"DD11 1302:NUGGET",7.9,{"$f":"VLOOKUP(B45,Summary!$B$30:$AK$409,5,FALSE)","v":3},23.700000000000003,null,{"$f":"+'DAILY FOC'!BO43","v":0},0,3,23.700000000000003,null,{"$f":"+'[2]K-LUNCH & K DINNER'!C45","v":2.4300000000000002},7.2900000000000009,2.4300000000000002,0,null,"CHICKEN NUGGET",8,24]
[34,"DD12 1303:CHK WING",7.9,{"$f":"VLOOKUP(B46,Summary!$B$30:$AK$409,5,FALSE)","v":9},71.100000000000009,null,{"$f":"+'DAILY FOC'!BO44","v":0},0,9,71.100000000000009,null,{"$f":"+'[2]K-LUNCH & K DINNER'!C46","v":3.97},35.730000000000004,3.97,0,null,"CHICKEN WING  (MARINATED)",3,27]
[35,"DD13 1304:IKAN BILIS",7.9,{"$f":"VLOOKUP(B47,Summary!$B$30:$AK$409,5,FALSE)","v":1},7.9,null,{"$f":"+'DAILY FOC'!BO45","v":0},0,1,7.9,null,{"$f":"+'[2]K-LUNCH & K DINNER'!C47","v":2.1800000000000002},2.1800000000000002,2.1800000000000002,0,null,null,null,0]
[36,"DD14 1305:THAI RL",7.9,{"$f":"VLOOKUP(B48,Summary!$B$30:$AK$409,5,FALSE)","v":0},0,null,{"$f":"+'DAILY FOC'!BO46","v":1},7.9,-1,-7.9,null,{"$f":"+'[2]K-LUNCH & K DINNER'!C48","v":3.61},-3.61,3.61,3.61,null,"THAI ROLL",7,{"$f":"+R48*D48","v":0}]
[37,"DD15 1306:SLVR FISH",7.9,{"$f":"VLOOKUP(B49,Summary!$B$30:$AK$409,5,FALSE)","v":0},0,null,{"$f":"+'DAILY FOC'!BO47","v":0},0,0,0,null,0,0,0,0,null,null,null,{"$f":"+R49*D49","v":0}]
[null,null,null,null,null,null,null,null,null,null,null,null,null,null,null,null,null,null,{"$f":"+R50*D50","v":0}]
[null,null,null,"(A)",null,null,"(B)",null,"(A) - (B)"]
[null,null,null,"SIDE ORDER                 (INCLUDING FOC)",null,null,"FOC",null,"SIDE ORDER                        (NETT SALES)",null,null,"SIDE ORDER                        (NETT COST)",null,"FOC (COST)",null,null,"USAGE"]
["NO","MENU ITEM","S/P","Sales","TOTAL",null,"Sales","TOTAL","Sales","TOTAL",null,"COST","TOTAL","COST","TOTAL",null,"MATERIAL ","RECIPE","TOTAL"]
[null,null,"RM","Q","RM",null,"Q","RM","Q","RM",null,"RM","RM","RM","RM",null,"Q","Q","Q"]
[]
[null,"COMBO SET"]
[1,"ZAB01 1201:SFD STICK",4.95,{"$f":"VLOOKUP(B57,Summary!$B$30:$AK$409,5,FALSE)","v":1},{"$f":"D57*C57","v":4.95},null,null,null,{"$f":"+D57-G57","v":1},{"$f":"+I57*C57","v":4.95},null,{"$f":"+L35","v":2},{"$f":"+L57*I57","v":2},{"$f":"+L57","v":2},{"$f":"+N57*G57","v":0},null,"SOTONG BALL",2,{"$f":"+R57*$D$57","v":2}]
[null,null,null,null,null,null,null,null,null,null,null,null,null,null,null,null,"SALMON BALL",2,{"$f":"+R58*$D$57","v":2}]
[null,null,null,null,null,null,null,null,null,null,null,null,null,null,null,null,"SEAFOOD TOFU ",2,{"$f":"+R59*$D$57","v":2}]
[{"$f":"+A57+1","v":2},"ZAB02 1202:FRIES",4.95,{"$f":"VLOOKUP(B60,Summary!$B$30:$AK$409,5,FALSE)","v":15},{"$f":"D60*C60","v":74.25},null,null,null,{"$f":"+D60-G60","v":15},{"$f":"+I60*C60","v":74.25},null,{"$f":"+L38","v":1.76},{"$f":"+L60*I60","v":26.4},{"$f":"+L60","v":1.76},{"$f":"+N60*G60","v":0},null,null,null,{"$f":"+R60*D60","v":0}]
[{"$f":"+A60+1","v":3},"ZAB03 1203:GOLD MROOM",4.95,{"$f":"VLOOKUP(B61,Summary!$B$30:$AK$409,5,FALSE)","v":8},39.6,null,null,null,8,39.6,null,{"$f":"+L39","v":2.15},17.2,2.15,0,null,null,null,0]
[{"$f":"+A61+1","v":4},"ZAB04 1204:F.BALL",4.95,{"$f":"VLOOKUP(B62,Summary!$B$30:$AK$409,5,FALSE)","v":4},19.8,null,null,null,4,19.8,null,{"$f":"+L40","v":1.56},6.24,1.56,0,null,"FISH BALL (BIG)",6,24]
[5,"ZAB05 1205:RAINBOW RL",4.95,{"$f":"VLOOKUP(B63,Summary!$B$30:$AK$409,5,FALSE)","v":2},{"$f":"D63*C63","v":9.9},null,null,null,{"$f":"+D63-G63","v":2},{"$f":"+I63*C63","v":9.9},null,{"$f":"+L41","v":2.5},{"$f":"+L63*I63","v":5},{"$f":"+L63","v":2.5},{"$f":"+N63*G63","v":0},null,"RAINBOW ROLL",1,2]
[6,"ZAB06 1206:SPRING RL",4.95,{"$f":"VLOOKUP(B64,Summary!$B$30:$AK$409,5,FALSE)","v":5},24.75,null,null,null,5,24.75,null,{"$f":"+L41","v":2.5},12.5,2.5,0,null,"SPRING ROLL",8,40]
[7,"ZAB07 1207:SAUSAGE",4.95,{"$f":"VLOOKUP(B65,Summary!$B$30:$AK$409,5,FALSE)","v":13},64.350000000000009,null,null,null,13,64.350000000000009,null,{"$f":"+L42","v":2.67},34.71,2.67,0,null,"CHICKEN SAUSAGE ",4,52]
[8,"ZAC01 1301:DUMPLING",6.95,{"$f":"VLOOKUP(B66,Summary!$B$30:$AK$409,5,FALSE)","v":5},{"$f":"D66*C66","v":34.75},null,null,null,{"$f":"+D66-G66","v":5},{"$f":"+I66*C66","v":34.75},null,{"$f":"+L43","v":1.24},{"$f":"+L66*I66","v":6.2},{"$f":"+L66","v":1.24},{"$f":"+N66*G66","v":0},null,"DUMPLING ",6,30]
[9,"ZAC02 1302:NUGGET",6.95,{"$f":"VLOOKUP(B67,Summary!$B$30:$AK$409,5,FALSE)","v":14},97.3,null,null,null,14,97.3,null,{"$f":"+L43","v":1.24},17.36,1.24,0,null,"CHICKEN NUGGET",8,112]
[10,"ZAC03 1303:CHK WING",6.95,{"$f":"VLOOKUP(B68,Summary!$B$30:$AK$409,5,FALSE)","v":25},173.75,null,null,null,25,173.75,null,{"$f":"+L46","v":3.97},99.25,3.97,0,null,"CHICKEN WING  (MARINATED)",3,75]
[11,"ZAC04 1304:IKAN BILIS",6.95,{"$f":"VLOOKUP(B69,Summary!$B$30:$AK$409,5,FALSE)","v":3},20.85,null,null,null,3,20.85,null,{"$f":"+L47","v":2.1800000000000002},6.5400000000000009,2.1800000000000002,0]
[12,"ZAC05 1305:THAI RL",6.95,{"$f":"VLOOKUP(B70,Summary!$B$30:$AK$409,5,FALSE)","v":3},20.85,null,null,null,3,20.85,null,{"$f":"+'[2]K-LUNCH & K DINNER'!C48","v":3.61},10.83,3.61,0,null,"THAI ROLL ",7,{"$f":"+R70*D70","v":21}]
[]
[null,"PLATTER"]
[1,"AE26 CNY BEER PLATER",19.899999999999999,{"$f":"VLOOKUP(B73,Summary!$B$30:$AK$409,5,FALSE)","v":0},{"$f":"D73*C73","v":0},null,null,null,{"$f":"+D73-G73","v":0},{"$f":"+I73*C73","v":0},null,9.81,{"$f":"+L73*I73","v":0},{"$f":"+L73","v":9.81},{"$f":"+N73*G73","v":0},null,"CHICKEN WINGS (NON -MARINATED)",4,{"$f":"+R73*$D$73","v":0}]
[null,null,null,null,null,null,null,null,null,null,null,null,null,null,null,null,"MCCAIN ONION RING",8,{"$f":"+R74*$D$73","v":0}]
[2,"AE27 CNY PLATER",23.9,{"$f":"VLOOKUP(B75,Summary!$B$30:$AK$409,5,FALSE)","v":2},{"$f":"D75*C75","v":47.8},null,null,null,{"$f":"+D75-G75","v":2},{"$f":"+I75*C75","v":47.8},null,9.81,{"$f":"+L75*I75","v":19.62},{"$f":"+L75","v":9.81},0,null,"CHICKEN WINGS (NON -MARINATED)",4,{"$f":"+R75*$D$75","v":8}]
[null,null,null,null,null,null,null,null,null,null,null,null,null,null,null,null,"MCCAIN ONION RING",8,{"$f":"+R76*$D$75","v":16}]
[3,"DD16 McCain AlaCarte",16.899999999999999,{"$f":"VLOOKUP(B77,Summary!$B$30:$AK$409,5,FALSE)","v":11},{"$f":"D77*C77","v":185.89999999999998},null,null,null,{"$f":"+D77-G77","v":11},{"$f":"+I77*C77","v":185.89999999999998},null,4.5999999999999996,{"$f":"+L77*I77","v":50.599999999999994},{"$f":"+L77","v":4.5999999999999996},0,null,"MCCAIN VERSITOT",8,{"$f":"+R77*$D$77","v":88}]
[null,null,null,null,null,null,null,null,null,null,null,null,null,null,null,null,"MCCAIN SMILES",6,{"$f":"+R78*$D$77","v":66}]
[null,null,null,null,null,null,null,null,null,null,null,null,null,null,null,null,"MCCAIN ONION RING",8,{"$f":"+R79*$D$77","v":88}]
[null,null,null,null,null,null,null,null,null,null,null,null,null,null,null,null,"MCCAIN SPIRAL FRIES",0.12,{"$f":"+R80*$D$77","v":1.3199999999999998}]
[4,"DD17 McCain Beer",12.9,{"$f":"VLOOKUP(B81,Summary!$B$30:$AK$409,5,FALSE)","v":2},{"$f":"D81*C81","v":25.8},null,null,null,{"$f":"+D81-G81","v":2},{"$f":"+I81*C81","v":25.8},null,4.5999999999999996,{"$f":"+L81*I81","v":9.1999999999999993},{"$f":"+L81","v":4.5999999999999996},0,null,"MCCAIN VERSITOT",8,{"$f":"+R81*$D$81","v":16}]
[null,null,null,null,null,null,null,null,null,null,null,null,null,null,null,null,"MCCAIN SMILES",6,{"$f":"+R82*$D$81","v":12}]
[null,null,null,null,null,null,null,null,null,null,null,null,null,null,null,null,"MCCAIN ONION RING",8,{"$f":"+R83*$D$81","v":16}]
[null,null,null,null,null,null,null,null,null,null,null,null,null,null,null,null,"MCCAIN SPIRAL FRIES",0.12,{"$f":"+R84*$D$81","v":0.24}]
["Total Sales / COST",null,null,{"$f":"SUM(D11:D84)","v":304},{"$f":"SUM(E11:E84)","v":2726.5000000000009},null,{"$f":"SUM(G11:G84)","v":1},{"$f":"SUM(H11:H84)","v":7.9},{"$f":"SUM(I11:I84)","v":292},{"$f":"SUM(J11:J84)","v":2609.7000000000007},null,null,{"$f":"SUM(M11:M84)","v":900.45},null,{"$f":"SUM(O11:O84)","v":3.61}]

{"sheet":"SAUCE USAGE","index":5,"n_rows":61,"n_cols":13,"rows_kept":61,"cut":false,"hidden":false,"merged":[[6,9,6,11]]}
["MONTHLY SERVINGS: SAUCE "]
[]
[{"$f":"+'[3]K-LUNCH & K DINNER'!A3","v":"Outlet :"},{"$f":"+'K-LUNCH & K DINNER'!B3","v":"SBA OUTLET"}]
[{"$f":"+'[3]K-LUNCH & K DINNER'!A4","v":"Month :"},{"$f":"+'[3]K-LUNCH & K DINNER'!B4","v":"2013-05-01"}]
[]
[]
[null,null,null,"FROM SYSTEM ",null,null,"FROM SYSTEM ",null,null,"USAGE"]
["NO","Item","COST","SERVINGS",null,"Item","SERVINGS","TOTAL ",null,"MATERIAL ","RECIPE","TOTAL","TOTAL COST"]
[null,null,"RM","Q",null,null,"Q","Q",null,"Q","GRAM","GRAM ","RM"]
[null,"KLKD",null,null,null,"SIDE ORDER"]
[1,"DH01 91101:THAI CHK",{"$f":"0.27/38","v":7.1052631578947369E-3},{"$f":"VLOOKUP(B11,Summary!$B$30:$AK$376,5,FALSE)","v":25},null,"DC01 1101:THAI CHK",{"$f":"VLOOKUP(F11,Summary!$B$30:$AK$376,5,FALSE)","v":20},{"$f":"+G11+D11","v":45},null,"THAI SAUCE",75,{"$f":"+K11*H11","v":3375},{"$f":"+L11*C11","v":23.980263157894736}]
[{"$f":"+A11+1","v":2},"DH02 91102:MAMITE CHK",2E-3,{"$f":"VLOOKUP(B12,Summary!$B$30:$AK$376,5,FALSE)","v":32},null,"DC02 1102:MAMITE CHK",{"$f":"VLOOKUP(F12,Summary!$B$30:$AK$376,5,FALSE)","v":16},{"$f":"+G12+D12","v":48},null,"MARMITE SAUCE ",80,{"$f":"+K12*H12","v":3840},{"$f":"+L12*C12","v":7.68}]
[{"$f":"+A12+1","v":3},"DH03 91103:KO PO CHK",1.5E-3,{"$f":"VLOOKUP(B13,Summary!$B$30:$AK$376,5,FALSE)","v":10},null,"DC03 1103:KO PO CHK",{"$f":"VLOOKUP(F13,Summary!$B$30:$AK$376,5,FALSE)","v":4},14,null,"KONG PO SAUCE",180,2520,3.7800000000000002]
[4,"DH04 91104:S&S CHK",{"$f":"0.38/200","v":1.9E-3},{"$f":"VLOOKUP(B14,Summary!$B$30:$AK$376,5,FALSE)","v":14},null,"DC04 1104:S&S CHK",{"$f":"VLOOKUP(F14,Summary!$B$30:$AK$376,5,FALSE)","v":1},15,null,"SWEET & SOUR SAUCE",200,3000,5.7]
[5,"DH05 91105:BUTTER CHK",5.8999999999999999E-3,{"$f":"VLOOKUP(B15,Summary!$B$30:$AK$376,5,FALSE)","v":54},null,"DC05 1105:BUTTER CHK",{"$f":"VLOOKUP(F15,Summary!$B$30:$AK$376,5,FALSE)","v":20},74,null,"BUTTER CREAM SAUCE",75,5550,32.744999999999997]
[6,"DH06 91106:HK F.RICE",{"$f":"0.28/30","v":9.3333333333333341E-3},{"$f":"VLOOKUP(B16,Summary!$B$30:$AK$376,5,FALSE)","v":27},null,"DC06 1106:HK F.RICE",{"$f":"VLOOKUP(F16,Summary!$B$30:$AK$376,5,FALSE)","v":8},35,null,null,null,0,0]
[7,"DH07 91107:SBL F.RICE",9.1000000000000004E-3,{"$f":"VLOOKUP(B17,Summary!$B$30:$AK$376,5,FALSE)","v":18},null,"DC07 1107:SBL F.RICE",{"$f":"VLOOKUP(F17,Summary!$B$30:$AK$376,5,FALSE)","v":16},34,null,"SAMBAL (FRIED)SAUCE",30,1020,9.282]
[8,"DH08 91108:SBL F.MEE",9.1000000000000004E-3,{"$f":"VLOOKUP(B18,Summary!$B$30:$AK$376,5,FALSE)","v":4},null,"DC08 1108:SBL F.MEE",{"$f":"VLOOKUP(F18,Summary!$B$30:$AK$376,5,FALSE)","v":0},4,null,"SAMBAL (FRIED)SAUCE",30,120,1.0920000000000001]
[9,"DH09 91109:BP UDON",3.8999999999999998E-3,{"$f":"VLOOKUP(B19,Summary!$B$30:$AK$376,5,FALSE)","v":14},null,"DC09 1109:BP UDON",{"$f":"VLOOKUP(F19,Summary!$B$30:$AK$376,5,FALSE)","v":3},17,null,"BLACK PEPPER SAUCE (UDON)",70,1190,4.641]
[10,"DH10 91110:NISSIN",{"$f":"0.7/80","v":8.7499999999999991E-3},{"$f":"VLOOKUP(B20,Summary!$B$30:$AK$376,5,FALSE)","v":7},null,"DC10 1110:NISSIN",{"$f":"VLOOKUP(F20,Summary!$B$30:$AK$376,5,FALSE)","v":7},14,null,null,null,0,0]
[{"$f":"+A20+1","v":11},"DH11 91111:VEG RICE",{"$f":"0.28/90","v":3.1111111111111114E-3},{"$f":"VLOOKUP(B21,Summary!$B$30:$AK$376,5,FALSE)","v":5},null,"DC11 1111:VEG RICE",{"$f":"VLOOKUP(F21,Summary!$B$30:$AK$376,5,FALSE)","v":0},5,null,null,null,0,0]
[{"$f":"+A21+1","v":12},"DH12 91112:NASI LEMAK",7.4000000000000003E-3,{"$f":"VLOOKUP(B22,Summary!$B$30:$AK$376,5,FALSE)","v":20},null,"DC12 1112:NASI LEMAK",{"$f":"VLOOKUP(F22,Summary!$B$30:$AK$376,5,FALSE)","v":4},24,null,"SAMBAL SAUCE (NASI)",110,2640,19.536000000000001]
[13,"DH13 91113:KUEY TEOW",9.1000000000000004E-3,{"$f":"VLOOKUP(B23,Summary!$B$30:$AK$376,5,FALSE)","v":20},null,"DC13 1113:KUEY TEOW",{"$f":"VLOOKUP(F23,Summary!$B$30:$AK$376,5,FALSE)","v":8},28,null,"SAMBAL (FRIED)SAUCE",30,840,7.6440000000000001]
[14,"DH14 91114:F.BALL MEE",{"$f":"0.75/130","v":5.7692307692307696E-3},{"$f":"VLOOKUP(B24,Summary!$B$30:$AK$376,5,FALSE)","v":9},null,"DC14 1114:F.BALL MEE",{"$f":"VLOOKUP(F24,Summary!$B$30:$AK$376,5,FALSE)","v":1},10,null,null,null,0,0]
[{"$f":"+A24+1","v":15},"DH15 91115:CHK NOODLE",1.5E-3,{"$f":"VLOOKUP(B25,Summary!$B$30:$AK$376,5,FALSE)","v":12},null,"DC15 1115:CHK NOODLE",{"$f":"VLOOKUP(F25,Summary!$B$30:$AK$376,5,FALSE)","v":5},17,null,"DRY NOODLE SAUCE",25,425,0.63750000000000007]
[16,"DG01 91001:BP CHK CP",3.0000000000000001E-3,{"$f":"VLOOKUP(B26,Summary!$B$30:$AK$376,5,FALSE)","v":68},null,"DB01 1001:BP CKN CP",{"$f":"VLOOKUP(F26,Summary!$B$30:$AK$376,5,FALSE)","v":15},{"$f":"+G26+D26","v":83},null,"BLACK PEPPER SAUCE",90,7470,22.41]
[17,"DG02 91002:GVY CHK CP",3.3E-3,{"$f":"VLOOKUP(B27,Summary!$B$30:$AK$376,5,FALSE)","v":17},null,"DB02 1002:GVY CHK CP",{"$f":"VLOOKUP(F27,Summary!$B$30:$AK$376,5,FALSE)","v":3},20,null,"GRAVY SAUCE",90,1800,5.94]
[18,"DG03 91003:MSR CHK CP",6.7999999999999996E-3,{"$f":"VLOOKUP(B28,Summary!$B$30:$AK$376,5,FALSE)","v":83},null,"DB03 1003:MSR CKN CP",{"$f":"VLOOKUP(F28,Summary!$B$30:$AK$376,5,FALSE)","v":1},84,null,"MUSHROOM SAUCE",90,7560,51.407999999999994]
[19,"DG04 91004:CKN MARY",{"$f":"0.27/38","v":7.1052631578947369E-3},{"$f":"VLOOKUP(B29,Summary!$B$30:$AK$376,5,FALSE)","v":50},null,"DB04 1004:CKN MARY",{"$f":"VLOOKUP(F29,Summary!$B$30:$AK$376,5,FALSE)","v":5},55,null,"DRESSING THOUSAND ISLAND",30,1650,11.723684210526315]
[null,null,null,{"$f":"VLOOKUP(B30,Summary!$B$30:$AK$376,5,FALSE)","v":{"$error":"#N/A"}},null,null,{"$f":"VLOOKUP(F30,Summary!$B$30:$AK$376,5,FALSE)","v":{"$error":"#N/A"}},null,null,"DRESSING COLESLAW",130,0,0]
[{"$f":"+A29+1","v":20},"DG05 91005:FISH&CHIP",1.24E-2,{"$f":"VLOOKUP(B31,Summary!$B$30:$AK$376,5,FALSE)","v":89},null,"DB05 1005:FISH&CHIP",{"$f":"VLOOKUP(F31,Summary!$B$30:$AK$376,5,FALSE)","v":15},104,null,"TARTAR SAUCE",30,3120,38.687999999999995]
[21,"DG06 91006:SPAGHETTI",1.14E-2,{"$f":"VLOOKUP(B32,Summary!$B$30:$AK$376,5,FALSE)","v":36},null,"DB06 1006:SPAGHETTI",{"$f":"VLOOKUP(F32,Summary!$B$30:$AK$376,5,FALSE)","v":3},39,null,"BOLOGNESE SAUCE",150,5850,66.69]
[22,"DG07 91007:CHK SALAD",{"$f":"0.7/65","v":1.0769230769230769E-2},{"$f":"VLOOKUP(B33,Summary!$B$30:$AK$376,5,FALSE)","v":20},null,"DB07 1007:CHK SALAD",{"$f":"VLOOKUP(F33,Summary!$B$30:$AK$376,5,FALSE)","v":1},21,null,"DRESSING THOUSAND ISLAND",65,1365,14.7]
[23,"DI01 91201:SFD STICK",{"$f":"0.27/38","v":7.1052631578947369E-3},{"$f":"VLOOKUP(B34,Summary!$B$30:$AK$376,5,FALSE)","v":2},null,"DD01 1201:SFD STICK",{"$f":"VLOOKUP(F34,Summary!$B$30:$AK$376,5,FALSE)","v":0},2,null,"THAI SAUCE",38,76,0.54]
[24,"DI02 91202:FREN FRIES",{"$f":"0.13/30","v":4.3333333333333331E-3},{"$f":"VLOOKUP(B35,Summary!$B$30:$AK$376,5,FALSE)","v":5},null,"DD02 1202:FREN FRIES",{"$f":"VLOOKUP(F35,Summary!$B$30:$AK$376,5,FALSE)","v":10},15,null,"SAUCE CHILLI (KIMBALL)",30,450,1.95]
[25,"DI03 91203:GOLD MROOM",{"$f":"0.28/30","v":9.3333333333333341E-3},{"$f":"VLOOKUP(B36,Summary!$B$30:$AK$376,5,FALSE)","v":4},null,"DD03 1203:GOLD MROOM",{"$f":"VLOOKUP(F36,Summary!$B$30:$AK$376,5,FALSE)","v":1},5,null,null,null,0,0]
[26,"DI04 91204:FISHBALL",4.3E-3,{"$f":"VLOOKUP(B37,Summary!$B$30:$AK$376,5,FALSE)","v":0},null,"DD04 1204:FISHBALL",{"$f":"VLOOKUP(F37,Summary!$B$30:$AK$376,5,FALSE)","v":1},1,null,"SAUCE CHILLI (KIMBALL)",30,30,0.129]
[27,"DI05 91205:RAINBOW RL",1.24E-2,{"$f":"VLOOKUP(B38,Summary!$B$30:$AK$376,5,FALSE)","v":0},null,"DD05 1205:RAINBOW RL",{"$f":"VLOOKUP(F38,Summary!$B$30:$AK$376,5,FALSE)","v":1},1,null,"TARTAR SAUCE",38,38,0.47120000000000001]
[28,"DI06 91206:SPRING RL",1.24E-2,{"$f":"VLOOKUP(B39,Summary!$B$30:$AK$376,5,FALSE)","v":4},null,"DD06 1206:SPRING RL",{"$f":"VLOOKUP(F39,Summary!$B$30:$AK$376,5,FALSE)","v":3},7,null,"TARTAR SAUCE",30,210,2.6040000000000001]
[29,"DI07 91207:SAUSAGE",{"$f":"0.32/30","v":1.0666666666666666E-2},{"$f":"VLOOKUP(B40,Summary!$B$30:$AK$376,5,FALSE)","v":2},null,"DD07 1207:SAUSAGE",{"$f":"VLOOKUP(F40,Summary!$B$30:$AK$376,5,FALSE)","v":1},3,null,"SAUCE CHILLI (KIMBALL)",30,90,0.96]
[30,"DI10 91301:DUMPLING",{"$f":"0.2/30","v":6.6666666666666671E-3},{"$f":"VLOOKUP(B41,Summary!$B$30:$AK$376,5,FALSE)","v":6},null,"DD10 1301:DUMPLING",{"$f":"VLOOKUP(F41,Summary!$B$30:$AK$376,5,FALSE)","v":0},6,null,null,null,0,0]
[31,"DI11 91302:NUGGET",{"$f":"0.2/30","v":6.6666666666666671E-3},{"$f":"VLOOKUP(B42,Summary!$B$30:$AK$376,5,FALSE)","v":11},null,"DD11 1302:NUGGET",{"$f":"VLOOKUP(F42,Summary!$B$30:$AK$376,5,FALSE)","v":3},14,null,"SAUCE CHILLI (KIMBALL)",30,420,2.8000000000000003]
[32,"DI12 91303:CHK WING",{"$f":"0.2/30","v":6.6666666666666671E-3},{"$f":"VLOOKUP(B43,Summary!$B$30:$AK$376,5,FALSE)","v":18},null,"DD12 1303:CHK WING",{"$f":"VLOOKUP(F43,Summary!$B$30:$AK$376,5,FALSE)","v":9},27,null,"THAI SAUCE",38,1026,6.8400000000000007]
[33,"DI13 91304:IKAN BILIS",9.1000000000000004E-3,{"$f":"VLOOKUP(B44,Summary!$B$30:$AK$376,5,FALSE)","v":4},null,"DD13 1304:IKAN BILIS",{"$f":"VLOOKUP(F44,Summary!$B$30:$AK$376,5,FALSE)","v":1},5,null,"SAMBAL (FRIED)SAUCE",30,150,16.106999999999999]
[34,"DI14 91305:THAI RL",{"$f":"0.2/30","v":6.6666666666666671E-3},{"$f":"VLOOKUP(B45,Summary!$B$30:$AK$376,5,FALSE)","v":1},null,"DD14 1305:THAI RL",{"$f":"VLOOKUP(F45,Summary!$B$30:$AK$376,5,FALSE)","v":0},1,null,"THAI SAUCE",38,38,{"$f":"+L45*C45","v":0.25333333333333335}]
[null,null,null,null,null,null,null,0]
[null,"REQUEST BY CUSTOMERS",null,null,null,null,null,null,null,"ALL PORTION DECREASED BY 10 GRAM"]
[1,"DF03 ADD SAUCE 1000",1.0800000000000001E-2,{"$f":"VLOOKUP(B48,Summary!$B$30:$AK$376,5,FALSE)","v":3},null,null,null,3,null,"DRESSING THOUSAND ISLAND",55,{"$f":"+K48*H48","v":165},{"$f":"+L48*C48","v":1.782}]
[{"$f":"+A48+1","v":2},"DF04 ADD SAUCE BOLO",1.14E-2,{"$f":"VLOOKUP(B49,Summary!$B$30:$AK$376,5,FALSE)","v":0},null,null,null,0,null,"BOLOGNESE SAUCE",140,0,{"$f":"+L49*C49","v":0}]
[{"$f":"+A49+1","v":3},"DF05 ADD SAUCE BP",3.0000000000000001E-3,{"$f":"VLOOKUP(B50,Summary!$B$30:$AK$376,5,FALSE)","v":2},null,null,null,2,null,"BLACK PEPPER SAUCE",80,160,{"$f":"+L50*C50","v":0.48}]
[4,"DF06 ADD SAUCE BUTTER",5.8999999999999999E-3,{"$f":"VLOOKUP(B51,Summary!$B$30:$AK$376,5,FALSE)","v":1},null,null,null,1,null,"BUTTER CREAM SAUCE",65,65,{"$f":"+L51*C51","v":0.38350000000000001}]
[5,"DF07 ADD SAUCE C.PADI",{"$f":"0.13/30","v":4.3333333333333331E-3},{"$f":"VLOOKUP(B52,Summary!$B$30:$AK$376,5,FALSE)","v":14},null,null,null,14,null,"SAUCE CHILLI (KIMBALL)",20,280,1.2133333333333334]
[6,"DF08 ADD SAUCE GS",3.3E-3,{"$f":"VLOOKUP(B53,Summary!$B$30:$AK$376,5,FALSE)","v":0},null,null,null,0,null,"GRAVY SAUCE",80,0,0]
[7,"DF09 ADD SAUCE MAYO",6.3E-3,{"$f":"VLOOKUP(B54,Summary!$B$30:$AK$376,5,FALSE)","v":12},null,null,null,12,null,"MAYONNAISE",70,840,5.2919999999999998]
[8,"DF10 ADD SAUCE MMITE",2E-3,{"$f":"VLOOKUP(B55,Summary!$B$30:$AK$376,5,FALSE)","v":0},null,null,null,0,null,"MARMITE SAUCE ",70,0,0]
[9,"DF11 ADD SAUCE MR",6.7999999999999996E-3,{"$f":"VLOOKUP(B56,Summary!$B$30:$AK$376,5,FALSE)","v":1},null,null,null,1,null,"MUSHROOM SAUCE",80,80,0.54399999999999993]
[10,"DF12 ADD SAUCE SAMBAL",8.2500000000000004E-3,{"$f":"VLOOKUP(B57,Summary!$B$30:$AK$376,5,FALSE)","v":4},null,null,null,4,null,"SAMBAL SAUCE (NASI)",110,440,3.6300000000000003]
[11,"DF13 ADD SAUCE THAI",{"$f":"0.27/38","v":7.1052631578947369E-3},{"$f":"VLOOKUP(B58,Summary!$B$30:$AK$376,5,FALSE)","v":0},null,null,null,0,null,"THAI SAUCE",65,0,0]
[12,"DF14 ADD SAUCE TOMATO",3.5000000000000001E-3,{"$f":"VLOOKUP(B59,Summary!$B$30:$AK$376,5,FALSE)","v":6},null,null,null,6,null,"TOMATO SAUCE ( KIMBALL )",20,120,0.42]
[13,"DF15 ADD TATA SAUCE",1.24E-2,{"$f":"VLOOKUP(B60,Summary!$B$30:$AK$376,5,FALSE)","v":8},null,null,null,8,null,"TARTAR SAUCE",28,224,2.7776000000000001]
[14,"DF16 ADD SAUCE CHEES",null,{"$f":"VLOOKUP(B61,Summary!$B$30:$AK$376,5,FALSE)","v":1},null,null,null,null,null,"NACHO CHEESE DIP ",70,0,0]

{"sheet":"DAILY FOC","index":6,"n_rows":49,"n_cols":69,"rows_kept":49,"cut":false,"hidden":false,"merged":[[0,0,0,67],[6,3,6,4],[6,5,6,6],[6,7,6,8],[6,9,6,10],[6,11,6,12],[6,13,6,14],[6,15,6,16],[6,17,6,18],[6,19,6,20],[6,43,6,44],[6,21,6,22],[6,23,6,24],[6,25,6,26],[6,27,6,28],[6,29,6,30],[6,31,6,32],[6,33,6,34],[6,35,6,36],[6,37,6,38],[6,39,6,40],[6,41,6,42],[6,57,6,58],[6,59,6,60],[6,61,6,62],[6,63,6,64],[6,45,6,46],[6,47,6,48],[6,49,6,50],[6,51,6,52],[6,53,6,54],[6,55,6,56]]}
["MONTHLY SALES FOOD RECORD ( FOC)"]
[]
[{"$f":"+'[2]K-LUNCH & K DINNER'!A3","v":"Outlet :"},{"$f":"+'K-LUNCH & K DINNER'!B3","v":"SBA OUTLET"}]
[{"$f":"+'[2]K-LUNCH & K DINNER'!A4","v":"Month :"},{"$f":"+'K-LUNCH & K DINNER'!B4","v":"2013-05-01"}]
[]
[]
["CODE","Item","S/P",1,null,{"$f":"+D7+1","v":2},null,{"$f":"+F7+1","v":3},null,{"$f":"+H7+1","v":4},null,{"$f":"+J7+1","v":5},null,{"$f":"+L7+1","v":6},null,{"$f":"+N7+1","v":7},null,{"$f":"+P7+1","v":8},null,{"$f":"+R7+1","v":9},null,{"$f":"+T7+1","v":10},null,{"$f":"+V7+1","v":11},null,{"$f":"+X7+1","v":12},null,{"$f":"+Z7+1","v":13},null,{"$f":"+AB7+1","v":14},null,{"$f":"+AD7+1","v":15},null,{"$f":"+AF7+1","v":16},null,{"$f":"+AH7+1","v":17},null,{"$f":"+AJ7+1","v":18},null,{"$f":"+AL7+1","v":19},null,{"$f":"+AN7+1","v":20},null,{"$f":"+AP7+1","v":21},null,{"$f":"+AR7+1","v":22},null,{"$f":"+AT7+1","v":23},null,{"$f":"+AV7+1","v":24},null,{"$f":"+AX7+1","v":25},null,{"$f":"+AZ7+1","v":26},null,{"$f":"+BB7+1","v":27},null,{"$f":"+BD7+1","v":28},null,{"$f":"+BF7+1","v":29},null,{"$f":"+BH7+1","v":30},null,{"$f":"+BJ7+1","v":31},null,null,"TOTAL","TOTAL","%"]
[null,null,"RM","Q","RM","Q","RM","Q","RM","Q","RM","Q","RM","Q","RM","Q","RM","Q","RM","Q","RM","Q","RM","Q","RM","Q","RM","Q","RM","Q","RM","Q","RM","Q","RM","Q","RM","Q","RM","Q","RM","Q","RM","Q","RM","Q","RM","Q","RM","Q","RM","Q","RM","Q","RM","Q","RM","Q","RM","Q","RM","Q","RM","Q","RM",null,"Q","RM"]
["DF 01","Plain Rice",1,0,{"$f":"D9*C9","v":0},0,{"$f":"F9*C9","v":0},0,{"$f":"H9*C9","v":0},0,{"$f":"J9*C9","v":0},0,{"$f":"L9*C9","v":0},0,{"$f":"N9*C9","v":0},0,{"$f":"P9*C9","v":0},0,{"$f":"R9*C9","v":0},0,{"$f":"T9*C9","v":0},0,{"$f":"V9*C9","v":0},0,{"$f":"X9*C9","v":0},0,{"$f":"Z9*C9","v":0},0,{"$f":"AB9*C9","v":0},0,{"$f":"AD9*C9","v":0},0,{"$f":"AF9*C9","v":0},0,{"$f":"AH9*C9","v":0},0,{"$f":"AJ9*C9","v":0},0,{"$f":"AL9*C9","v":0},0,{"$f":"AN9*C9","v":0},0,{"$f":"AP9*C9","v":0},0,{"$f":"AR9*C9","v":0},0,{"$f":"AT9*C9","v":0},0,{"$f":"AV9*C9","v":0},0,{"$f":"AX9*C9","v":0},0,{"$f":"AZ9*C9","v":0},0,{"$f":"BB9*C9","v":0},0,{"$f":"BD9*C9","v":0},0,{"$f":"BF9*C9","v":0},0,{"$f":"BH9*C9","v":0},0,{"$f":"BJ9*C9","v":0},0,{"$f":"BL9*C9","v":0},null,{"$f":"D9+F9+H9+J9+L9+N9+P9+R9+T9+V9+X9+Z9+AB9+AD9+AF9+AH9+AJ9+AL9+AN9+AP9+AR9+AT9+AV9+AX9+AZ9+BB9+BD9+BF9+BH9+BJ9+BL9","v":0},{"$f":"BO9*C9","v":0}]
["DF 02","Egg",1.5,0,0,0,0,0,0,0,0,0,0,0,0,0,0,0,0,0,0,0,0,0,0,0,0,0,0,0,0,0,0,0,0,0,0,0,0,0,0,0,0,0,0,0,0,0,0,0,0,0,0,0,0,0,0,0,0,0,0,0,0,0,0,null,0,0]
[1101,"Thai Ckn Chop",9.9,0,{"$f":"D11*C11","v":0},0,{"$f":"F11*C11","v":0},0,{"$f":"H11*C11","v":0},0,{"$f":"J11*C11","v":0},0,{"$f":"L11*C11","v":0},0,{"$f":"N11*C11","v":0},0,{"$f":"P11*C11","v":0},0,{"$f":"R11*C11","v":0},0,{"$f":"T11*C11","v":0},0,{"$f":"V11*C11","v":0},0,{"$f":"X11*C11","v":0},0,{"$f":"Z11*C11","v":0},0,{"$f":"AB11*C11","v":0},0,{"$f":"AD11*C11","v":0},0,{"$f":"AF11*C11","v":0},0,{"$f":"AH11*C11","v":0},0,{"$f":"AJ11*C11","v":0},0,{"$f":"AL11*C11","v":0},0,{"$f":"AN11*C11","v":0},0,{"$f":"AP11*C11","v":0},0,{"$f":"AR11*C11","v":0},0,{"$f":"AT11*C11","v":0},0,{"$f":"AV11*C11","v":0},0,{"$f":"AX11*C11","v":0},0,{"$f":"AZ11*C11","v":0},0,{"$f":"BB11*C11","v":0},0,{"$f":"BD11*C11","v":0},0,{"$f":"BF11*C11","v":0},0,{"$f":"BH11*C11","v":0},0,{"$f":"BJ11*C11","v":0},0,{"$f":"BL11*C11","v":0},null,{"$f":"D11+F11+H11+J11+L11+N11+P11+R11+T11+V11+X11+Z11+AB11+AD11+AF11+AH11+AJ11+AL11+AN11+AP11+AR11+AT11+AV11+AX11+AZ11+BB11+BD11+BF11+BH11+BJ11+BL11","v":0},{"$f":"BO11*C11","v":0}]
[1102,"Marmite Ckn Chop",9.9,0,0,0,0,0,0,0,0,0,0,0,0,0,0,0,0,0,0,0,0,0,0,0,0,0,0,0,0,0,0,0,0,0,0,0,0,0,0,0,0,0,0,0,0,0,0,0,0,0,0,0,0,0,0,0,0,0,0,0,0,0,0,null,0,0]
[1103,"Kong Po Ckn Chop",9.9,0,0,0,0,0,0,0,0,0,0,0,0,0,0,0,0,0,0,0,0,0,0,0,0,0,0,0,0,0,0,0,0,0,0,0,0,0,0,0,0,0,0,0,0,0,0,0,0,0,0,0,0,0,0,0,0,0,0,0,0,0,0,null,0,0]
[1104,"S/Sour Ckn Chop",9.9,0,0,0,0,0,0,0,0,0,0,0,0,0,0,0,0,0,0,0,0,0,0,0,0,0,0,0,0,0,0,0,0,0,0,0,0,0,0,0,0,0,0,0,0,0,0,0,0,0,0,0,0,0,0,0,0,0,0,0,0,0,0,null,0,0]
[1105,"Butter Ckn Chop",9.9,0,0,0,0,0,0,0,0,0,0,0,0,0,0,0,0,0,0,0,0,0,0,0,0,0,0,0,0,0,0,0,0,0,0,0,0,0,0,0,0,0,0,0,0,0,0,0,0,0,0,0,0,0,0,0,0,0,0,0,0,0,0,null,0,0]
[1106,"HK Prawn F/Rice",9.9,0,0,0,0,0,0,0,0,0,0,0,0,0,0,0,0,0,0,0,0,0,0,0,0,0,0,0,0,0,0,0,0,0,0,0,0,0,0,0,0,0,0,0,0,0,0,0,0,0,0,0,0,0,0,0,0,0,0,0,0,0,0,null,0,0]
[1107,"Sambal F/Rice",9.9,0,0,0,0,0,0,0,0,0,0,0,0,0,0,0,0,0,0,0,0,0,0,0,0,0,0,0,0,0,0,0,0,0,0,0,0,0,0,0,0,0,0,0,0,0,0,0,0,0,0,0,0,0,0,0,0,0,0,0,0,0,0,null,0,0]
[1108,"Sambal F/Mee",9.9,0,0,0,0,0,0,0,0,0,0,0,0,0,0,0,0,0,0,0,0,0,0,0,0,0,0,0,0,0,0,0,0,0,0,0,0,0,0,0,0,0,0,0,0,0,0,0,0,0,0,0,0,0,0,0,0,0,0,0,0,0,0,null,0,0]
[1109,"B/Pepper Udon Noodle",9.9,0,0,0,0,0,0,0,0,0,0,0,0,0,0,0,0,0,0,0,0,0,0,0,0,0,0,0,0,0,0,0,0,0,0,0,0,0,0,0,0,0,0,0,0,0,0,0,0,0,0,0,0,0,0,0,0,0,0,0,0,0,0,null,0,0]
[1110,"Nissin Noodle Soup",9.9,0,0,0,0,0,0,0,0,0,0,0,0,0,0,0,0,0,0,0,0,0,0,0,0,0,0,0,0,0,0,0,0,0,0,0,0,0,0,0,0,0,0,0,0,0,0,0,0,0,0,0,0,0,0,0,0,0,0,0,0,0,0,null,0,0]
[1111,"Fried Mix Vegetable W/Rice",9.9,0,0,0,0,0,0,0,0,0,0,0,0,0,0,0,0,0,0,0,0,0,0,0,0,0,0,0,0,0,0,0,0,0,0,0,0,0,0,0,0,0,0,0,0,0,0,0,0,0,0,0,0,0,0,0,0,0,0,0,0,0,0,null,0,0]
[1112,"Nasi Lemak W/F Ckn Wing",9.9,0,0,0,0,0,0,0,0,0,0,0,0,0,0,0,0,0,0,0,0,0,0,0,0,0,0,0,0,0,0,0,0,0,0,0,0,0,0,0,0,0,0,0,0,0,0,0,0,0,0,0,0,0,0,0,0,0,0,0,0,0,0,null,0,0]
[1113,"H & S F/Kuey Teow",9.9,0,0,0,0,0,0,0,0,0,0,0,0,0,0,0,0,0,0,0,0,0,0,0,0,0,0,0,0,0,0,0,0,0,0,0,0,0,0,0,0,0,0,0,0,0,0,0,0,0,0,0,0,0,0,0,0,0,0,0,0,0,0,null,0,0]
[1114,"Seaweed Fishball Noodle Soup",9.9,0,0,0,0,0,0,0,0,0,0,0,0,0,0,0,0,0,0,0,0,0,0,0,0,0,0,0,0,0,0,0,0,0,0,0,0,0,0,0,0,0,0,0,0,0,0,0,0,0,0,0,0,0,0,0,0,0,0,0,0,0,0,null,0,0]
[1115,"Braised Noodle W/Chicken Chop",9.9,0,0,0,0,0,0,0,0,0,0,0,0,0,0,0,0,0,0,0,0,0,0,0,0,0,0,0,0,0,0,0,0,0,0,0,0,0,0,0,0,0,0,0,0,0,0,0,0,0,0,0,0,0,0,0,0,0,0,0,0,0,0,null,0,0]
[1001,"Black Pepper Chicken Chop",12.9,0,0,0,0,0,0,0,0,0,0,0,0,0,0,0,0,0,0,0,0,0,0,0,0,0,0,0,0,0,0,0,0,0,0,0,0,0,0,0,0,0,0,0,0,0,0,0,0,0,0,0,0,0,0,0,0,0,0,0,0,0,0,null,0,0]
[1002,"Gravy Chicken Chop",12.9,0,0,0,0,0,0,0,0,0,0,0,0,0,0,0,0,0,0,0,0,0,0,0,0,0,0,0,0,0,0,0,0,0,0,0,0,0,0,0,0,0,0,0,0,0,0,0,0,0,0,0,0,0,0,0,0,0,0,0,0,0,0,null,0,0]
[1003,"Mushroom Chicken Chop",12.9,0,0,0,0,0,0,0,0,0,0,0,0,0,0,0,0,0,0,0,0,0,0,0,0,0,0,0,0,0,0,0,0,0,0,0,0,0,0,0,0,0,0,0,0,0,0,0,0,0,0,0,0,0,0,0,0,0,0,0,0,0,0,null,0,0]
[1004,"Chicken Maryland",12.9,0,0,0,0,0,0,0,0,0,0,0,0,0,0,0,0,0,0,0,0,0,0,0,0,0,0,0,0,0,0,0,0,0,0,0,0,0,0,0,0,0,0,0,0,0,0,0,0,0,0,0,0,0,0,0,0,0,0,0,0,0,0,null,0,0]
[1005,"Fish & chip",12.9,0,0,0,0,0,0,0,0,0,0,0,0,0,0,0,0,0,0,0,0,0,0,0,0,0,0,0,0,0,0,0,0,0,0,0,0,0,0,0,0,0,0,0,0,0,0,0,0,0,0,0,0,0,0,0,0,0,0,0,0,0,0,null,0,0]
[1006,"Spaghetti Bolognese",12.9,0,0,0,0,0,0,0,0,0,0,0,0,0,0,0,0,0,0,0,0,0,0,0,0,0,0,0,0,0,0,0,0,0,0,0,0,0,0,0,0,0,0,0,0,0,0,0,0,0,0,0,0,0,0,0,0,0,0,0,0,0,0,null,0,0]
[1007,"Chicken Chop Salad",12.9,0,0,0,0,0,0,0,0,0,0,0,0,0,0,0,0,0,0,0,0,0,0,0,0,0,0,0,0,0,0,0,0,0,0,0,0,0,0,0,0,0,0,0,0,0,0,0,0,0,0,0,0,0,0,0,0,0,0,0,0,0,0,null,0,0]
[1201,"Seafood Stick",5.9,0,0,0,0,0,0,0,0,0,0,0,0,0,0,0,0,0,0,0,0,0,0,0,0,0,0,0,0,0,0,0,0,0,0,0,0,0,0,0,0,0,0,0,0,0,0,0,0,0,0,0,0,0,0,0,0,0,0,0,0,0,0,null,0,0]
[1202,"French Fries",5.9,0,0,0,0,0,0,0,0,0,0,0,0,0,0,0,0,0,0,0,0,0,0,0,0,0,0,0,0,0,0,0,0,0,0,0,0,0,0,0,0,0,0,0,0,0,0,0,0,0,0,0,0,0,0,0,0,0,0,0,0,0,0,null,0,0]
[1203,"S/Pepper Golden Mushroom",5.9,0,0,0,0,0,0,0,0,0,0,0,0,0,0,0,0,0,0,0,0,0,0,0,0,0,0,0,0,0,0,0,0,0,0,0,0,0,0,0,0,0,0,0,0,0,0,0,0,0,0,0,0,0,0,0,0,0,0,0,0,0,0,null,0,0]
[1204,"Fried Fish Ball",5.9,0,0,0,0,0,0,0,0,0,0,0,0,0,0,0,0,0,0,0,0,0,0,0,0,0,0,0,0,0,0,0,0,0,0,0,0,0,0,0,0,0,0,0,0,0,0,0,0,0,0,0,0,0,0,0,0,0,0,0,0,0,0,null,0,0]
[1205,"Rainbow Roll",5.9,0,0,0,0,0,0,0,0,0,0,0,0,0,0,0,0,0,0,0,0,0,0,0,0,0,0,0,0,0,0,0,0,0,0,0,0,0,0,0,0,0,0,0,0,0,0,0,0,0,0,0,0,0,0,0,0,0,0,0,0,0,0,null,0,0]
[1206,"Spring Roll",5.9,0,0,0,0,0,0,0,0,0,0,0,0,0,0,0,0,0,0,0,0,0,0,0,0,0,0,0,0,0,0,0,0,0,0,0,0,0,0,0,0,0,0,0,0,0,0,0,0,0,0,0,0,0,0,0,0,0,0,0,0,0,0,null,0,0]
[1207,"Crispy Ckn Sausage",5.9,0,0,0,0,0,0,0,0,0,0,0,0,0,0,0,0,0,0,0,0,0,0,0,0,0,0,0,0,0,0,0,0,0,0,0,0,0,0,0,0,0,0,0,0,0,0,0,0,0,0,0,0,0,0,0,0,0,0,0,0,0,0,null,0,0]
[1301,"Shanghai Guo Tie",7.9,0,0,0,0,0,0,0,0,0,0,0,0,0,0,0,0,0,0,0,0,0,0,0,0,0,0,0,0,0,0,0,0,0,0,0,0,0,0,0,0,0,0,0,0,0,0,0,0,0,0,0,0,0,0,0,0,0,0,0,0,0,0,null,0,0]
[1302,"Chicken Nugget",7.9,0,0,0,0,0,0,0,0,0,0,0,0,0,0,0,0,0,0,0,0,0,0,0,0,0,0,0,0,0,0,0,0,0,0,0,0,0,0,0,0,0,0,0,0,0,0,0,0,0,0,0,0,0,0,0,0,0,0,0,0,0,0,null,0,0]
[1303,"Ckn Wing",7.9,0,0,0,0,0,0,0,0,0,0,0,0,0,0,0,0,0,0,0,0,0,0,0,0,0,0,0,0,0,0,0,0,0,0,0,0,0,0,0,0,0,0,0,0,0,0,0,0,0,0,0,0,0,0,0,0,0,0,0,0,0,0,null,0,0]
[1304,"Hot & Spicy Achiovice",7.9,0,0,0,0,0,0,0,0,0,0,0,0,0,0,0,0,0,0,0,0,0,0,0,0,0,0,0,0,0,0,0,0,0,0,0,0,0,0,0,0,0,0,0,0,0,0,0,0,0,0,0,0,0,0,0,0,0,0,0,0,0,0,null,0,0]
[1305,"Crispy Thai Roll",7.9,0,0,0,0,0,0,0,0,0,0,0,0,0,0,0,0,0,0,0,0,0,0,0,0,0,0,0,0,0,0,0,0,0,0,0,0,0,0,0,0,0,0,0,0,0,0,0,0,0,0,0,0,0,0,0,0,0,0,0,0,0,0,null,0,0]
[1306,"S/Pepper Silver Fish",7.9,0,0,0,0,0,0,0,0,0,0,0,0,0,0,0,0,0,0,0,0,0,0,0,0,0,0,0,0,0,0,0,0,0,0,0,0,0,0,0,0,0,0,0,0,0,0,0,0,0,0,0,0,0,0,0,0,0,0,0,0,0,0,null,0,0]
[null,"McCain AlaCarte",16.899999999999999,0,0,0,0,0,0,1,16.899999999999999,0,0,0,0,0,0,0,0,0,0,0,0,0,0,0,0,0,0,0,0,0,0,0,0,0,0,0,0,0,0,0,0,0,0,0,0,0,0,0,0,0,0,0,0,0,0,0,0,0,0,0,0,0,0,null,1,16.899999999999999]
[null,"McCain Beer Platter",12.9,0,0,0,0,0,0,0,0,0,0,0,0,0,0,0,0,0,0,0,0,0,0,0,0,0,0,0,0,0,0,0,0,0,0,0,0,0,0,0,0,0,0,0,0,0,0,0,0,0,0,0,0,0,0,0,0,0,0,0,0,0,0,null,0,0]
[]
[null,"Total Foc","-",{"$f":"SUM(D9:D47)","v":0},{"$f":"SUM(E9:E47)","v":0},0,0,0,0,1,16.899999999999999,0,0,0,0,0,0,0,0,0,0,0,0,0,0,0,0,0,0,0,0,0,0,0,0,0,0,0,0,0,0,{"$f":"SUM(AP9:AP47)","v":0},0,0,0,0,0,0,0,0,0,0,0,0,0,0,0,0,0,0,0,0,0,0,0,null,{"$f":"SUM(BO9:BO47)","v":1},{"$f":"SUM(BP9:BP48)","v":16.899999999999999}]