{"text_format":"1","workbook":"xlsx","n_sheets":11,"sheets":["DATABASE","Summary","Daily Log","STOCK ANALYSIS","CLOSING STOCK","DAILY FOC ","SAUCE USAGE","SIDE ORDER & FOC","K LUNCH & K DINNER","SIDE ORDER (COMBINED OLD CODE)","KLKD & REDEEM COMBINED OLD CODE"],"not_rendered":{"charts":0,"images":6,"macros":0,"external_links":3,"defined_names":9,"comments":1,"pivot_tables":0},"unopened":[],"bounds":{"document_bytes":16777216,"sheet_cells":100000,"rows_first":2000,"rows_last":500,"rows_between":2000,"halvings":0,"cell_chars":16384,"cell_head_chars":4096},"cells_cut":0,"cells_raw":0,"read":"whole","date_system":"1900"}

{"sheet":"DATABASE","index":0,"n_rows":61,"n_cols":15,"rows_kept":61,"cut":false,"hidden":false,"merged":[]}
[]
[null,"K LUNCH ","COST",null,"SIDE ORDER","COST",null,"LOK LOK","COST",null,"LOK LOK-MAIN COURSE","COST",null,"SET 9.9 & 13.90","COST"]
[null,"LF01 91101:THAI CHK",2.7,null,"LC01 1101:THAI CHK",{"$f":"+C3","v":2.7},null,"TE01 80028:COCKLES",0.4,null,"TC01 81101:THAI CHK",{"$f":"+F3","v":2.7}]
[null,"LF02 91102:MAMITE CHK",2.2000000000000002,null,"LC02 1102:MAMITE CHK",{"$f":"+C4","v":2.2000000000000002},null,"TE02 80029:CTL FSH",0.4,null,"TC02 81102:MAMITE CHK",{"$f":"+F4","v":2.2000000000000002}]
[null,"LF05 91105:BUTTER CHK",2.4500000000000002,null,"LC05 1105:BUTTER CHK",2.4500000000000002,null,"TE03 80030:CRB STICK",0.5,null,"TC03 81105:BUTTER CHK",{"$f":"+F5","v":2.4500000000000002}]
[null,null,null,null,null,null,null,"TE04 80031:FSH BAL S",0.5]
[null,"LF17 91117:THAI FSH",2.57,null,"LC17 1117:THAI FSH",2.57,null,"TE05 80032:SOTONG",0.75,null,"TC04 81117:THAI FSH",{"$f":"+F7","v":2.57}]
[null,"LF18 91118:MAMITE FSH",2.0699999999999998,null,"LC18 1118:MAMITE FSH",2.0699999999999998,null,"TE06 80033:TPURA PRW",0.45,null,"TC05 81118:MAMITE FSH",{"$f":"+F8","v":2.0699999999999998}]
[null,"LF19 91119:BUTTER FSH",2.3199999999999998,null,"LC19 1119:BUTTER FSH",2.3199999999999998,null,"TE07 80034:BBQ FSH SK",0.4,null,"TC06 81119:BUTTER FSH",{"$f":"+F9","v":2.3199999999999998}]
[]
[null,"AF02 91202:FREN FRIES",1.51,null,"AA02 1202:FREN FRIES",1.51,null,"TM01 80001:CHK HAM",0.25,null,null,null,null,"ZAA02 1202:FREN FRIES",{"$f":"+F11","v":1.51}]
[null,"AF04 91204:FSH BALL",1.7,null,"AA04 1204:FSH BALL",1.7,null,"TM02 80002:CHK KIDNEY",0.35,null,null,null,null,"AA03 1203:GOLD MR"]
[null,"AF06 91206:SPRING RL",1.7,null,"AA06 1206:SPRING RL",1.7,null,"TM03 80003:COC SAUSG",0.4,null,null,null,null,"ZAA04 1204:FSHBALL",{"$f":"+F12","v":1.7}]
[null,"AF38 91308:MC RING",1.4,null,"AA38 1308:MC RING",1.4,null,"TM04 80004:CHK SAUSG",0.6,null,null,null,null,"AA05 1205:RAINBOW RL"]
[null,"AF32 91302:NUGGET",1.61,null,"AA32 1302:NUGGET",1.61,null,"TM05 80005:HAM&BEAN",0.85,null,null,null,null,"ZAA06 1206:SPRING RL",{"$f":"+F13","v":1.7}]
[null,"AF33 91303:CHK WING",3.7,null,"AA33 1303:CHK WING",3.7,null,null,null,null,null,null,null,"ZAA07 1207:SAUSG",{"$f":"+F25","v":2.44}]
[null,"WF01 91001:BP CHK CP",3.97,null,"WT01 1001:BP CKN CP",3.97,null,"TM06 80006:CHK WING",0.8,null,"TW01 81001:BP CKN CP",{"$f":"+F17","v":3.97},null,"ZAA08 1208:HOTDOG BUN",{"$f":"+F22","v":2.04}]
[null,"WF03 91003:MR CHK CP",4.0999999999999996,null,"WT03 1003:MSR CKN CP",4.0999999999999996,null,"TM07 80007:CHEE H DOG",1.95,null,"TW02 81003:MR CKN CP",4.0999999999999996,null,"ZAA09 1209:SF TF",{"$f":"+F28","v":1.66}]
[null,"WF04 91004:CKN MARY",4.7699999999999996,null,"WT04 1004:CKN MARY",4.7699999999999996,null,"TM08 80008:TRK STICK",0.8,null,"TW03 81004:CKN MARY",4.7699999999999996,null,"ZAA10 1210:SALAD RL",{"$f":"+F29","v":1.9}]
[null,"WF05 91005:FSH&CHIP",4.25,null,"WT05 1005:FSH&CHIP",4.25,null,"TM09 80009:CHEE HAM",0.97,null,"TW04 81005:FSH&CHIP",{"$f":"+F20","v":4.25},null,"ZAA11 1211:BBQ CHK",2.1]
[null,"WF07 91007:CHK SALAD",2.65,null,"WT07 1007:CHK SALAD",2.65,null,"TM10 80010:CRAB HAM",1.19,null,"TW05 81007:CHK SALAD",2.65]
[null,"AF08 91208:HOTDOG BUN",2.04,null,"AA08 1208:HOTDOG BUN",2.04,null,"TM11 80011:F CHK BAL",1.08,null,null,null,null,"ZAB02 1302:NUGGET",{"$f":"+F15","v":1.61}]
[null,null,null,null,null,null,null,"TM12 80012:DCK MT",null,null,null,null,null,"ZAB03 1303:CHK WING",{"$f":"+F16","v":3.7}]
[null,null,null,null,null,null,null,"TM13 80013:SCLOP SHL",1.3,null,null,null,null,"AB04 1304:IKAN BILIS"]
[null,"AF07 91207:SAUSG",2.44,null,"AA07 1207:SAUSG",2.44,null,"TM14 80014:CN C SAUSG",1.38,null,null,null,null,"AB05 1305:THAI RL"]
[null,null,null,null,null,null,null,null,null,null,null,null,null,"AB06 1306:DF WING"]
[null,null,null,null,null,null,null,"TO01 80035:F SMS YAM",null,null,null,null,null,"AB07 1307: CALAMARI"]
[null,"AF09 91209:SF TF",1.66,null,"AA09 1209:SF TF",1.66,null,"TO02 80036:F TF SKIN",0.25,null,null,null,null,"ZAB08 1308 MC RING",{"$f":"+F14","v":1.4}]
[null,"AF10 91210:SALAD RL",1.9,null,"AA10 1210:SALAD RL",1.9,null,"TO03 80037:TF PO",0.25,null,null,null,null,"ZAB09 1309:MC SPIRAL F",{"$f":"+F31","v":1.72}]
[null,"AF11 91211:BBQ CHK",2.1,null,"AA11 1211:BBQ CHK",2.1,null,"TO04 80038:F MANTOU",0.57999999999999996,null,null,null,null,"ZAB10 1310:MC HP SMILE",{"$f":"+F33","v":1.34}]
[null,"AF39 91309:MC S.FRIES",1.72,null,"AA39 1309:MC S.FRIES",1.72,null,"TO05 80039:CRS F BAO",0.4,null,null,null,null,"ZAB11 1311:MC HASH BRW",{"$f":"+F32","v":0.59}]
[null,"AF41 91311:MC HSH BRW",0.59,null,"AA41 1311:MC HSH BRW",0.59,null,"TO06 80040:QUAIL EGGS",0.52]
[null,"AF40 91310:MC HP SMIL",1.34,null,"AA40 1310:MC HP SMIL",1.34,null,"TO07 80041:FSH TF PO",0.66,null,null,null,null,"ZTC01 80001:CHK HAM",{"$f":"+I11","v":0.25}]
[null,null,null,null,"AP02 1412:MC BEER",4.5999999999999996,null,"TO08 80042:CRS BAO",0.76,null,null,null,null,"ZTC02 80002:CHK KIDNEY",{"$f":"+I12","v":0.35}]
[null,null,null,null,"AP01 1411:MC ALACARTE",4.5999999999999996,null,"TO09 80043:Y DUMPLING",0.69,null,null,null,null,"ZTC03 80003:COC SAUSG",0.4]
[null,null,null,null,"RQ01 1601:ADD RICE",0.5,null,"TO10 80044:QC EGGS",0.9,null,null,null,null,"ZTC04 80004:CHK SAUSG",0.6]
[null,null,null,null,"RQ02 1602:ADD F.EGG",0.35,null,"TO11 80045:SF TF",0.8,null,null,null,null,"ZTC05 80005:HAM&BEAN",0.85]
[null,null,null,null,null,null,null,null,null,null,null,null,null,"ZTC06 80006:CHK WING",{"$f":"+I17","v":0.8}]
[null,null,null,null,null,null,null,"TP01 80015:MT BAL",0.45,null,null,null,null,"ZTC07 80007:CHEE H DOG",{"$f":"+I18","v":1.95}]
[null,null,null,null,null,null,null,"TP02 80016:BACON",0.75,null,null,null,null,"ZTC08 80008:TRK STICK",0.8]
[null,null,null,null,null,null,null,"TP03 80017:F WONTON",0.8,null,null,null,null,"ZTC15 80015:MT BAL",{"$f":"+I39","v":0.45}]
[null,null,null,null,null,null,null,"TP04 80018:WX RL",0.6,null,null,null,null,"ZTC16 80016:BACON",{"$f":"+I40","v":0.75}]
[null,null,null,null,null,null,null,"TP05 80019:DUMPLING",0.63,null,null,null,null,"ZTC17 80017:F WONTO",0.8]
[null,null,null,null,null,null,null,"TP06 80020:TW SAUSG",0.9,null,null,null,null,"ZTC18 80018:WX RL",0.6]
[null,null,null,null,null,null,null,"TP07 80021:ENA BC ROL",1,null,null,null,null,"ZTC19 80019:DUMPLING",0.63]
[null,null,null,null,null,null,null,"TP08 80022:NAN RU MT",1.03,null,null,null,null,"ZTC23 80023:KANG KONG",{"$f":"+I49","v":0.1}]
[null,null,null,null,null,null,null,null,null,null,null,null,null,"ZTC24 80024:BROCCOLI",{"$f":"+I50","v":0.4}]
[null,null,null,null,null,null,null,null,null,null,null,null,null,"ZTC25 80025:LONG BEAN",0.35]
[null,null,null,null,null,null,null,"TV01 80023:KANG KONG",0.1,null,null,null,null,"ZTC26 80026:ABALO MR",0.45]
[null,null,null,null,null,null,null,"TV02 80024:BROCCOLI",0.4,null,null,null,null,"ZTC28 80028:COCKLES",{"$f":"+I3","v":0.4}]
[null,null,null,null,null,null,null,"TV03 80025:LONG BEAN",0.35,null,null,null,null,"ZTC29 80029:CTL FSH",{"$f":"+I4","v":0.4}]
[null,null,null,null,null,null,null,"TV04 80026:ABALO MR",0.45,null,null,null,null,"ZTC31 80031:FSH BAL S",{"$f":"+I6","v":0.5}]
[null,null,null,null,null,null,null,"TV05 80027:OYSTER MR",0.6,null,null,null,null,"ZTC32 80032:SOTONG",{"$f":"+I7","v":0.75}]
[null,null,null,null,null,null,null,null,null,null,null,null,null,"ZTC33 80033:TPURA PRW",{"$f":"+I8","v":0.45}]
[null,null,null,null,null,null,null,null,null,null,null,null,null,"ZTC36 80036:F TF SKIN",{"$f":"+I28","v":0.25}]
[null,null,null,null,null,null,null,null,null,null,null,null,null,"ZTC38 80038:F MANTOU",{"$f":"+I30","v":0.57999999999999996}]
[null,null,null,null,null,null,null,null,null,null,null,null,null,"ZTC39 80039:CRS F BAO",{"$f":"+I31","v":0.4}]
[null,null,null,null,null,null,null,null,null,null,null,null,null,"ZTC40 80040:QUAIL EGGS",{"$f":"+I32","v":0.52}]
[null,null,null,null,null,null,null,null,null,null,null,null,null,"ZTC41 80041:FSH TF PO",{"$f":"+I33","v":0.66}]
[null,null,null,null,null,null,null,null,null,null,null,null,null,"ZTC42 80042:CRS BAO",0.76]
[null,null,null,null,null,null,null,null,null,null,null,null,null,"ZTC43 80043:Y DUMPLING",0.69]

{"sheet":"Summary","index":1,"n_rows":369,"n_cols":37,"rows_kept":369,"cut":false,"hidden":false,"merged":[[5,2,5,3],[7,2,7,3],[9,2,9,3],[28,1,28,2],[273,1,273,2],[274,1,274,2],[275,1,275,2],[276,1,276,2],[277,1,277,2],[278,1,278,2],[306,1,306,2],[307,1,307,2],[279,1,279,2],[280,1,280,2],[281,1,281,2],[308,1,308,2],[309,1,309,2],[310,1,310,2],[311,1,311,2],[312,1,312,2],[313,1,313,2],[314,1,314,2],[315,1,315,2],[316,1,316,2],[317,1,317,2],[318,1,318,2],[319,1,319,2],[320,1,320,2],[321,1,321,2],[322,1,322,2],[323,1,323,2],[324,1,324,2],[325,1,325,2],[326,1,326,2],[327,1,327,2],[328,1,328,2],[329,1,329,2],[330,1,330,2],[331,1,331,2],[332,1,332,2],[333,1,333,2],[334,1,334,2],[335,1,335,2],[336,1,336,2],[337,1,337,2],[338,1,338,2],[339,1,339,2],[340,1,340,2],[341,1,341,2],[342,1,342,2],[343,1,343,2],[344,1,344,2],[345,1,345,2],[346,1,346,2],[347,1,347,2],[348,1,348,2],[349,1,349,2],[350,1,350,2],[351,1,351,2],[352,1,352,2],[353,1,353,2],[354,1,354,2],[355,1,355,2],[356,1,356,2],[357,1,357,2],[363,1,363,2],[364,1,364,2],[365,1,365,2],[366,1,366,2],[358,1,358,2],[359,1,359,2],[360,1,360,2],[361,1,361,2],[362,1,362,2]]}
[]
[]
[null,null,"SUMMARY OF PRODUCT SALES IN MONTH"]
[]
[]
[null,"OUTLET",{"$f":"MID(CELL(\"FILENAME\",$A$1),FIND(\"[\",CELL(\"FILENAME\",$A$1))+1,3)","v":"TSU"}]
[]
[null,"YEAR",{"$f":"MID(CELL(\"FILENAME\",$A$1),FIND(\"[\",CELL(\"FILENAME\",$A$1))+4,4)","v":"2013"}]
[]
[null,"MONTH",{"$f":"INDEX($C$12:$C$23,MID(CELL(\"FILENAME\",$A$1),FIND(\"[\",CELL(\"FILENAME\",$A$1))+8,2),1)","v":"NOVEMBER"}]
[]
[null,"MONTH","JANUARY"]
[null,null,"FEBRUARY"]
[null,null,"MARCH"]
[null,null,"APRIL"]
[null,null,"MAY"]
[null,null,"JUNE"]
[null,null,"JULY"]
[null,null,"AUGUST"]
[null,null,"SEPTEMBER"]
[null,null,"OCTOBER"]
[null,null,"NOVEMBER"]
[null,null,"DECEMBER"]
[]
[]
[null,"PRODUCT",null,"CATEGORY","QTY","QUANTITIES SOLD IN MONTH"]
[null,null,null,null,"PER","TOTAL",{"$f":"DATE(C8,MID(CELL(\"FILENAME\",$A$1),FIND(\"[\",CELL(\"FILENAME\",$A$1))+8,2),1)","v":"2013-11-01"},{"$f":"IFERROR(IF(MONTH(G27+1)<=MONTH($G$27),G27+1,\"\"),\"\")","v":"2013-11-02"},{"$f":"IFERROR(IF(MONTH(H27+1)<=MONTH($G$27),H27+1,\"\"),\"\")","v":"2013-11-03"},"2013-11-04","2013-11-05","2013-11-06","2013-11-07","2013-11-08","2013-11-09","2013-11-10","2013-11-11","2013-11-12","2013-11-13","2013-11-14","2013-11-15","2013-11-16","2013-11-17","2013-11-18","2013-11-19","2013-11-20","2013-11-21","2013-11-22","2013-11-23","2013-11-24","2013-11-25","2013-11-26","2013-11-27","2013-11-28","2013-11-29","2013-11-30",""]
[null,null,null,null,"ITEM"]
[]
[null,"WT01 1001:BP CKN CP",null,null,1,{"$f":"SUM($G30:$AK30)","v":90},{"$f":"IFERROR($E30*SUMIF('Daily Log'!$B$18:$B$1017,$B30,'Daily Log'!$C$18:$C$1017),0)","v":0},{"$f":"IFERROR($E30*SUMIF('Daily Log'!$E$18:$E$1017,$B30,'Daily Log'!$F$18:$F$1017),0)","v":0},{"$f":"IFERROR($E30*SUMIF('Daily Log'!$H$18:$H$1017,$B30,'Daily Log'!$I$18:$I$1017),0)","v":0},{"$f":"IFERROR($E30*SUMIF('Daily Log'!$K$18:$K$1017,$B30,'Daily Log'!$L$18:$L$1017),0)","v":0},{"$f":"IFERROR($E30*SUMIF('Daily Log'!$N$18:$N$1017,$B30,'Daily Log'!$O$18:$O$1017),0)","v":0},{"$f":"IFERROR($E30*SUMIF('Daily Log'!$Q$18:$Q$1017,$B30,'Daily Log'!$R$18:$R$1017),0)","v":0},{"$f":"IFERROR($E30*SUMIF('Daily Log'!$T$18:$T$1017,$B30,'Daily Log'!$U$18:$U$1017),0)","v":0},{"$f":"IFERROR($E30*SUMIF('Daily Log'!$W$18:$W$1017,$B30,'Daily Log'!$X$18:$X$1017),0)","v":0},{"$f":"IFERROR($E30*SUMIF('Daily Log'!$Z$18:$Z$1017,$B30,'Daily Log'!$AA$18:$AA$1017),0)","v":0},{"$f":"IFERROR($E30*SUMIF('Daily Log'!$AC$18:$AC$1017,$B30,'Daily Log'!$AD$18:$AD$1017),0)","v":0},{"$f":"IFERROR($E30*SUMIF('Daily Log'!$AF$18:$AF$1017,$B30,'Daily Log'!$AG$18:$AG$1017),0)","v":0},{"$f":"IFERROR($E30*SUMIF('Daily Log'!$AI$18:$AI$1017,$B30,'Daily Log'!$AJ$18:$AJ$1017),0)","v":0},{"$f":"IFERROR($E30*SUMIF('Daily Log'!$AL$18:$AL$1017,$B30,'Daily Log'!$AM$18:$AM$1017),0)","v":0},{"$f":"IFERROR($E30*SUMIF('Daily Log'!$AO$18:$AO$1017,$B30,'Daily Log'!$AP$18:$AP$1017),0)","v":0},{"$f":"IFERROR($E30*SUMIF('Daily Log'!$AR$18:$AR$1017,$B30,'Daily Log'!$AS$18:$AS$1017),0)","v":0},{"$f":"IFERROR($E30*SUMIF('Daily Log'!$AU$18:$AU$1017,$B30,'Daily Log'!$AV$18:$AV$1017),0)","v":0},{"$f":"IFERROR($E30*SUMIF('Daily Log'!$AX$18:$AX$1017,$B30,'Daily Log'!$AY$18:$AY$1017),0)","v":0},{"$f":"IFERROR($E30*SUMIF('Daily Log'!$BA$18:$BA$1017,$B30,'Daily Log'!$BB$18:$BB$1017),0)","v":0},{"$f":"IFERROR($E30*SUMIF('Daily Log'!$BD$18:$BD$1017,$B30,'Daily Log'!$BE$18:$BE$1017),0)","v":0},{"$f":"IFERROR($E30*SUMIF('Daily Log'!$BG$18:$BG$1017,$B30,'Daily Log'!$BH$18:$BH$1017),0)","v":0},{"$f":"IFERROR($E30*SUMIF('Daily Log'!$BJ$18:$BJ$1017,$B30,'Daily Log'!$BK$18:$BK$1017),0)","v":0},{"$f":"IFERROR($E30*SUMIF('Daily Log'!$BM$18:$BM$1017,$B30,'Daily Log'!$BN$18:$BN$1017),0)","v":0},{"$f":"IFERROR($E30*SUMIF('Daily Log'!$BP$18:$BP$1017,$B30,'Daily Log'!$BQ$18:$BQ$1017),0)","v":0},{"$f":"IFERROR($E30*SUMIF('Daily Log'!$BS$18:$BS$1017,$B30,'Daily Log'!$BT$18:$BT$1017),0)","v":0},{"$f":"IFERROR($E30*SUMIF('Daily Log'!$BV$18:$BV$1017,$B30,'Daily Log'!$BW$18:$BW$1017),0)","v":0},{"$f":"IFERROR($E30*SUMIF('Daily Log'!$BY$18:$BY$1017,$B30,'Daily Log'!$BZ$18:$BZ$1017),0)","v":0},{"$f":"IFERROR($E30*SUMIF('Daily Log'!$CB$18:$CB$1017,$B30,'Daily Log'!$CC$18:$CC$1017),0)","v":0},{"$f":"IFERROR($E30*SUMIF('Daily Log'!$CE$18:$CE$1017,$B30,'Daily Log'!$CF$18:$CF$1017),0)","v":0},{"$f":"IFERROR($E30*SUMIF('Daily Log'!$CH$18:$CH$1017,$B30,'Daily Log'!$CI$18:$CI$1017),0)","v":0},{"$f":"IFERROR($E30*SUMIF('Daily Log'!$CK$18:$CK$1017,$B30,'Daily Log'!$CL$18:$CL$1017),0)","v":90},{"$f":"IFERROR($E30*SUMIF('Daily Log'!$CN$18:$CN$1017,$B30,'Daily Log'!$CO$18:$CO$1017),0)","v":0}]
[null,"WT03 1003:MSR CKN CP",null,null,1,81,{"$f":"IFERROR($E31*SUMIF('Daily Log'!$B$18:$B$1017,$B31,'Daily Log'!$C$18:$C$1017),0)","v":0},{"$f":"IFERROR($E31*SUMIF('Daily Log'!$E$18:$E$1017,$B31,'Daily Log'!$F$18:$F$1017),0)","v":0},{"$f":"IFERROR($E31*SUMIF('Daily Log'!$H$18:$H$1017,$B31,'Daily Log'!$I$18:$I$1017),0)","v":0},{"$f":"IFERROR($E31*SUMIF('Daily Log'!$K$18:$K$1017,$B31,'Daily Log'!$L$18:$L$1017),0)","v":0},{"$f":"IFERROR($E31*SUMIF('Daily Log'!$N$18:$N$1017,$B31,'Daily Log'!$O$18:$O$1017),0)","v":0},{"$f":"IFERROR($E31*SUMIF('Daily Log'!$Q$18:$Q$1017,$B31,'Daily Log'!$R$18:$R$1017),0)","v":0},{"$f":"IFERROR($E31*SUMIF('Daily Log'!$T$18:$T$1017,$B31,'Daily Log'!$U$18:$U$1017),0)","v":0},{"$f":"IFERROR($E31*SUMIF('Daily Log'!$W$18:$W$1017,$B31,'Daily Log'!$X$18:$X$1017),0)","v":0},{"$f":"IFERROR($E31*SUMIF('Daily Log'!$Z$18:$Z$1017,$B31,'Daily Log'!$AA$18:$AA$1017),0)","v":0},{"$f":"IFERROR($E31*SUMIF('Daily Log'!$AC$18:$AC$1017,$B31,'Daily Log'!$AD$18:$AD$1017),0)","v":0},{"$f":"IFERROR($E31*SUMIF('Daily Log'!$AF$18:$AF$1017,$B31,'Daily Log'!$AG$18:$AG$1017),0)","v":0},{"$f":"IFERROR($E31*SUMIF('Daily Log'!$AI$18:$AI$1017,$B31,'Daily Log'!$AJ$18:$AJ$1017),0)","v":0},{"$f":"IFERROR($E31*SUMIF('Daily Log'!$AL$18:$AL$1017,$B31,'Daily Log'!$AM$18:$AM$1017),0)","v":0},{"$f":"IFERROR($E31*SUMIF('Daily Log'!$AO$18:$AO$1017,$B31,'Daily Log'!$AP$18:$AP$1017),0)","v":0},{"$f":"IFERROR($E31*SUMIF('Daily Log'!$AR$18:$AR$1017,$B31,'Daily Log'!$AS$18:$AS$1017),0)","v":0},{"$f":"IFERROR($E31*SUMIF('Daily Log'!$AU$18:$AU$1017,$B31,'Daily Log'!$AV$18:$AV$1017),0)","v":0},{"$f":"IFERROR($E31*SUMIF('Daily Log'!$AX$18:$AX$1017,$B31,'Daily Log'!$AY$18:$AY$1017),0)","v":0},{"$f":"IFERROR($E31*SUMIF('Daily Log'!$BA$18:$BA$1017,$B31,'Daily Log'!$BB$18:$BB$1017),0)","v":0},{"$f":"IFERROR($E31*SUMIF('Daily Log'!$BD$18:$BD$1017,$B31,'Daily Log'!$BE$18:$BE$1017),0)","v":0},{"$f":"IFERROR($E31*SUMIF('Daily Log'!$BG$18:$BG$1017,$B31,'Daily Log'!$BH$18:$BH$1017),0)","v":0},{"$f":"IFERROR($E31*SUMIF('Daily Log'!$BJ$18:$BJ$1017,$B31,'Daily Log'!$BK$18:$BK$1017),0)","v":0},{"$f":"IFERROR($E31*SUMIF('Daily Log'!$BM$18:$BM$1017,$B31,'Daily Log'!$BN$18:$BN$1017),0)","v":0},{"$f":"IFERROR($E31*SUMIF('Daily Log'!$BP$18:$BP$1017,$B31,'Daily Log'!$BQ$18:$BQ$1017),0)","v":0},{"$f":"IFERROR($E31*SUMIF('Daily Log'!$BS$18:$BS$1017,$B31,'Daily Log'!$BT$18:$BT$1017),0)","v":0},{"$f":"IFERROR($E31*SUMIF('Daily Log'!$BV$18:$BV$1017,$B31,'Daily Log'!$BW$18:$BW$1017),0)","v":0},{"$f":"IFERROR($E31*SUMIF('Daily Log'!$BY$18:$BY$1017,$B31,'Daily Log'!$BZ$18:$BZ$1017),0)","v":0},{"$f":"IFERROR($E31*SUMIF('Daily Log'!$CB$18:$CB$1017,$B31,'Daily Log'!$CC$18:$CC$1017),0)","v":0},{"$f":"IFERROR($E31*SUMIF('Daily Log'!$CE$18:$CE$1017,$B31,'Daily Log'!$CF$18:$CF$1017),0)","v":0},{"$f":"IFERROR($E31*SUMIF('Daily Log'!$CH$18:$CH$1017,$B31,'Daily Log'!$CI$18:$CI$1017),0)","v":0},{"$f":"IFERROR($E31*SUMIF('Daily Log'!$CK$18:$CK$1017,$B31,'Daily Log'!$CL$18:$CL$1017),0)","v":81},{"$f":"IFERROR($E31*SUMIF('Daily Log'!$CN$18:$CN$1017,$B31,'Daily Log'!$CO$18:$CO$1017),0)","v":0}]
[null,"WT04 1004:CKN MARY",null,null,1,22,{"$f":"IFERROR($E32*SUMIF('Daily Log'!$B$18:$B$1017,$B32,'Daily Log'!$C$18:$C$1017),0)","v":0},{"$f":"IFERROR($E32*SUMIF('Daily Log'!$E$18:$E$1017,$B32,'Daily Log'!$F$18:$F$1017),0)","v":0},{"$f":"IFERROR($E32*SUMIF('Daily Log'!$H$18:$H$1017,$B32,'Daily Log'!$I$18:$I$1017),0)","v":0},{"$f":"IFERROR($E32*SUMIF('Daily Log'!$K$18:$K$1017,$B32,'Daily Log'!$L$18:$L$1017),0)","v":0},{"$f":"IFERROR($E32*SUMIF('Daily Log'!$N$18:$N$1017,$B32,'Daily Log'!$O$18:$O$1017),0)","v":0},{"$f":"IFERROR($E32*SUMIF('Daily Log'!$Q$18:$Q$1017,$B32,'Daily Log'!$R$18:$R$1017),0)","v":0},{"$f":"IFERROR($E32*SUMIF('Daily Log'!$T$18:$T$1017,$B32,'Daily Log'!$U$18:$U$1017),0)","v":0},{"$f":"IFERROR($E32*SUMIF('Daily Log'!$W$18:$W$1017,$B32,'Daily Log'!$X$18:$X$1017),0)","v":0},{"$f":"IFERROR($E32*SUMIF('Daily Log'!$Z$18:$Z$1017,$B32,'Daily Log'!$AA$18:$AA$1017),0)","v":0},{"$f":"IFERROR($E32*SUMIF('Daily Log'!$AC$18:$AC$1017,$B32,'Daily Log'!$AD$18:$AD$1017),0)","v":0},{"$f":"IFERROR($E32*SUMIF('Daily Log'!$AF$18:$AF$1017,$B32,'Daily Log'!$AG$18:$AG$1017),0)","v":0},{"$f":"IFERROR($E32*SUMIF('Daily Log'!$AI$18:$AI$1017,$B32,'Daily Log'!$AJ$18:$AJ$1017),0)","v":0},{"$f":"IFERROR($E32*SUMIF('Daily Log'!$AL$18:$AL$1017,$B32,'Daily Log'!$AM$18:$AM$1017),0)","v":0},{"$f":"IFERROR($E32*SUMIF('Daily Log'!$AO$18:$AO$1017,$B32,'Daily Log'!$AP$18:$AP$1017),0)","v":0},{"$f":"IFERROR($E32*SUMIF('Daily Log'!$AR$18:$AR$1017,$B32,'Daily Log'!$AS$18:$AS$1017),0)","v":0},{"$f":"IFERROR($E32*SUMIF('Daily Log'!$AU$18:$AU$1017,$B32,'Daily Log'!$AV$18:$AV$1017),0)","v":0},{"$f":"IFERROR($E32*SUMIF('Daily Log'!$AX$18:$AX$1017,$B32,'Daily Log'!$AY$18:$AY$1017),0)","v":0},{"$f":"IFERROR($E32*SUMIF('Daily Log'!$BA$18:$BA$1017,$B32,'Daily Log'!$BB$18:$BB$1017),0)","v":0},{"$f":"IFERROR($E32*SUMIF('Daily Log'!$BD$18:$BD$1017,$B32,'Daily Log'!$BE$18:$BE$1017),0)","v":0},{"$f":"IFERROR($E32*SUMIF('Daily Log'!$BG$18:$BG$1017,$B32,'Daily Log'!$BH$18:$BH$1017),0)","v":0},{"$f":"IFERROR($E32*SUMIF('Daily Log'!$BJ$18:$BJ$1017,$B32,'Daily Log'!$BK$18:$BK$1017),0)","v":0},{"$f":"IFERROR($E32*SUMIF('Daily Log'!$BM$18:$BM$1017,$B32,'Daily Log'!$BN$18:$BN$1017),0)","v":0},{"$f":"IFERROR($E32*SUMIF('Daily Log'!$BP$18:$BP$1017,$B32,'Daily Log'!$BQ$18:$BQ$1017),0)","v":0},{"$f":"IFERROR($E32*SUMIF('Daily Log'!$BS$18:$BS$1017,$B32,'Daily Log'!$BT$18:$BT$1017),0)","v":0},{"$f":"IFERROR($E32*SUMIF('Daily Log'!$BV$18:$BV$1017,$B32,'Daily Log'!$BW$18:$BW$1017),0)","v":0},{"$f":"IFERROR($E32*SUMIF('Daily Log'!$BY$18:$BY$1017,$B32,'Daily Log'!$BZ$18:$BZ$1017),0)","v":0},{"$f":"IFERROR($E32*SUMIF('Daily Log'!$CB$18:$CB$1017,$B32,'Daily Log'!$CC$18:$CC$1017),0)","v":0},{"$f":"IFERROR($E32*SUMIF('Daily Log'!$CE$18:$CE$1017,$B32,'Daily Log'!$CF$18:$CF$1017),0)","v":0},{"$f":"IFERROR($E32*SUMIF('Daily Log'!$CH$18:$CH$1017,$B32,'Daily Log'!$CI$18:$CI$1017),0)","v":0},{"$f":"IFERROR($E32*SUMIF('Daily Log'!$CK$18:$CK$1017,$B32,'Daily Log'!$CL$18:$CL$1017),0)","v":22},{"$f":"IFERROR($E32*SUMIF('Daily Log'!$CN$18:$CN$1017,$B32,'Daily Log'!$CO$18:$CO$1017),0)","v":0}]
[null,"WT05 1005:FSH&CHIP",null,null,1,44,{"$f":"IFERROR($E33*SUMIF('Daily Log'!$B$18:$B$1017,$B33,'Daily Log'!$C$18:$C$1017),0)","v":0},{"$f":"IFERROR($E33*SUMIF('Daily Log'!$E$18:$E$1017,$B33,'Daily Log'!$F$18:$F$1017),0)","v":0},{"$f":"IFERROR($E33*SUMIF('Daily Log'!$H$18:$H$1017,$B33,'Daily Log'!$I$18:$I$1017),0)","v":0},{"$f":"IFERROR($E33*SUMIF('Daily Log'!$K$18:$K$1017,$B33,'Daily Log'!$L$18:$L$1017),0)","v":0},{"$f":"IFERROR($E33*SUMIF('Daily Log'!$N$18:$N$1017,$B33,'Daily Log'!$O$18:$O$1017),0)","v":0},{"$f":"IFERROR($E33*SUMIF('Daily Log'!$Q$18:$Q$1017,$B33,'Daily Log'!$R$18:$R$1017),0)","v":0},{"$f":"IFERROR($E33*SUMIF('Daily Log'!$T$18:$T$1017,$B33,'Daily Log'!$U$18:$U$1017),0)","v":0},{"$f":"IFERROR($E33*SUMIF('Daily Log'!$W$18:$W$1017,$B33,'Daily Log'!$X$18:$X$1017),0)","v":0},{"$f":"IFERROR($E33*SUMIF('Daily Log'!$Z$18:$Z$1017,$B33,'Daily Log'!$AA$18:$AA$1017),0)","v":0},{"$f":"IFERROR($E33*SUMIF('Daily Log'!$AC$18:$AC$1017,$B33,'Daily Log'!$AD$18:$AD$1017),0)","v":0},{"$f":"IFERROR($E33*SUMIF('Daily Log'!$AF$18:$AF$1017,$B33,'Daily Log'!$AG$18:$AG$1017),0)","v":0},{"$f":"IFERROR($E33*SUMIF('Daily Log'!$AI$18:$AI$1017,$B33,'Daily Log'!$AJ$18:$AJ$1017),0)","v":0},{"$f":"IFERROR($E33*SUMIF('Daily Log'!$AL$18:$AL$1017,$B33,'Daily Log'!$AM$18:$AM$1017),0)","v":0},{"$f":"IFERROR($E33*SUMIF('Daily Log'!$AO$18:$AO$1017,$B33,'Daily Log'!$AP$18:$AP$1017),0)","v":0},{"$f":"IFERROR($E33*SUMIF('Daily Log'!$AR$18:$AR$1017,$B33,'Daily Log'!$AS$18:$AS$1017),0)","v":0},{"$f":"IFERROR($E33*SUMIF('Daily Log'!$AU$18:$AU$1017,$B33,'Daily Log'!$AV$18:$AV$1017),0)","v":0},{"$f":"IFERROR($E33*SUMIF('Daily Log'!$AX$18:$AX$1017,$B33,'Daily Log'!$AY$18:$AY$1017),0)","v":0},{"$f":"IFERROR($E33*SUMIF('Daily Log'!$BA$18:$BA$1017,$B33,'Daily Log'!$BB$18:$BB$1017),0)","v":0},{"$f":"IFERROR($E33*SUMIF('Daily Log'!$BD$18:$BD$1017,$B33,'Daily Log'!$BE$18:$BE$1017),0)","v":0},{"$f":"IFERROR($E33*SUMIF('Daily Log'!$BG$18:$BG$1017,$B33,'Daily Log'!$BH$18:$BH$1017),0)","v":0},{"$f":"IFERROR($E33*SUMIF('Daily Log'!$BJ$18:$BJ$1017,$B33,'Daily Log'!$BK$18:$BK$1017),0)","v":0},{"$f":"IFERROR($E33*SUMIF('Daily Log'!$BM$18:$BM$1017,$B33,'Daily Log'!$BN$18:$BN$1017),0)","v":0},{"$f":"IFERROR($E33*SUMIF('Daily Log'!$BP$18:$BP$1017,$B33,'Daily Log'!$BQ$18:$BQ$1017),0)","v":0},{"$f":"IFERROR($E33*SUMIF('Daily Log'!$BS$18:$BS$1017,$B33,'Daily Log'!$BT$18:$BT$1017),0)","v":0},{"$f":"IFERROR($E33*SUMIF('Daily Log'!$BV$18:$BV$1017,$B33,'Daily Log'!$BW$18:$BW$1017),0)","v":0},{"$f":"IFERROR($E33*SUMIF('Daily Log'!$BY$18:$BY$1017,$B33,'Daily Log'!$BZ$18:$BZ$1017),0)","v":0},{"$f":"IFERROR($E33*SUMIF('Daily Log'!$CB$18:$CB$1017,$B33,'Daily Log'!$CC$18:$CC$1017),0)","v":0},{"$f":"IFERROR($E33*SUMIF('Daily Log'!$CE$18:$CE$1017,$B33,'Daily Log'!$CF$18:$CF$1017),0)","v":0},{"$f":"IFERROR($E33*SUMIF('Daily Log'!$CH$18:$CH$1017,$B33,'Daily Log'!$CI$18:$CI$1017),0)","v":0},{"$f":"IFERROR($E33*SUMIF('Daily Log'!$CK$18:$CK$1017,$B33,'Daily Log'!$CL$18:$CL$1017),0)","v":44},{"$f":"IFERROR($E33*SUMIF('Daily Log'!$CN$18:$CN$1017,$B33,'Daily Log'!$CO$18:$CO$1017),0)","v":0}]
[null,"WT07 1007:CHK SALAD",null,null,1,11,{"$f":"IFERROR($E34*SUMIF('Daily Log'!$B$18:$B$1017,$B34,'Daily Log'!$C$18:$C$1017),0)","v":0},{"$f":"IFERROR($E34*SUMIF('Daily Log'!$E$18:$E$1017,$B34,'Daily Log'!$F$18:$F$1017),0)","v":0},{"$f":"IFERROR($E34*SUMIF('Daily Log'!$H$18:$H$1017,$B34,'Daily Log'!$I$18:$I$1017),0)","v":0},{"$f":"IFERROR($E34*SUMIF('Daily Log'!$K$18:$K$1017,$B34,'Daily Log'!$L$18:$L$1017),0)","v":0},{"$f":"IFERROR($E34*SUMIF('Daily Log'!$N$18:$N$1017,$B34,'Daily Log'!$O$18:$O$1017),0)","v":0},{"$f":"IFERROR($E34*SUMIF('Daily Log'!$Q$18:$Q$1017,$B34,'Daily Log'!$R$18:$R$1017),0)","v":0},{"$f":"IFERROR($E34*SUMIF('Daily Log'!$T$18:$T$1017,$B34,'Daily Log'!$U$18:$U$1017),0)","v":0},{"$f":"IFERROR($E34*SUMIF('Daily Log'!$W$18:$W$1017,$B34,'Daily Log'!$X$18:$X$1017),0)","v":0},{"$f":"IFERROR($E34*SUMIF('Daily Log'!$Z$18:$Z$1017,$B34,'Daily Log'!$AA$18:$AA$1017),0)","v":0},{"$f":"IFERROR($E34*SUMIF('Daily Log'!$AC$18:$AC$1017,$B34,'Daily Log'!$AD$18:$AD$1017),0)","v":0},{"$f":"IFERROR($E34*SUMIF('Daily Log'!$AF$18:$AF$1017,$B34,'Daily Log'!$AG$18:$AG$1017),0)","v":0},{"$f":"IFERROR($E34*SUMIF('Daily Log'!$AI$18:$AI$1017,$B34,'Daily Log'!$AJ$18:$AJ$1017),0)","v":0},{"$f":"IFERROR($E34*SUMIF('Daily Log'!$AL$18:$AL$1017,$B34,'Daily Log'!$AM$18:$AM$1017),0)","v":0},{"$f":"IFERROR($E34*SUMIF('Daily Log'!$AO$18:$AO$1017,$B34,'Daily Log'!$AP$18:$AP$1017),0)","v":0},{"$f":"IFERROR($E34*SUMIF('Daily Log'!$AR$18:$AR$1017,$B34,'Daily Log'!$AS$18:$AS$1017),0)","v":0},{"$f":"IFERROR($E34*SUMIF('Daily Log'!$AU$18:$AU$1017,$B34,'Daily Log'!$AV$18:$AV$1017),0)","v":0},{"$f":"IFERROR($E34*SUMIF('Daily Log'!$AX$18:$AX$1017,$B34,'Daily Log'!$AY$18:$AY$1017),0)","v":0},{"$f":"IFERROR($E34*SUMIF('Daily Log'!$BA$18:$BA$1017,$B34,'Daily Log'!$BB$18:$BB$1017),0)","v":0},{"$f":"IFERROR($E34*SUMIF('Daily Log'!$BD$18:$BD$1017,$B34,'Daily Log'!$BE$18:$BE$1017),0)","v":0},{"$f":"IFERROR($E34*SUMIF('Daily Log'!$BG$18:$BG$1017,$B34,'Daily Log'!$BH$18:$BH$1017),0)","v":0},{"$f":"IFERROR($E34*SUMIF('Daily Log'!$BJ$18:$BJ$1017,$B34,'Daily Log'!$BK$18:$BK$1017),0)","v":0},{"$f":"IFERROR($E34*SUMIF('Daily Log'!$BM$18:$BM$1017,$B34,'Daily Log'!$BN$18:$BN$1017),0)","v":0},{"$f":"IFERROR($E34*SUMIF('Daily Log'!$BP$18:$BP$1017,$B34,'Daily Log'!$BQ$18:$BQ$1017),0)","v":0},{"$f":"IFERROR($E34*SUMIF('Daily Log'!$BS$18:$BS$1017,$B34,'Daily Log'!$BT$18:$BT$1017),0)","v":0},{"$f":"IFERROR($E34*SUMIF('Daily Log'!$BV$18:$BV$1017,$B34,'Daily Log'!$BW$18:$BW$1017),0)","v":0},{"$f":"IFERROR($E34*SUMIF('Daily Log'!$BY$18:$BY$1017,$B34,'Daily Log'!$BZ$18:$BZ$1017),0)","v":0},{"$f":"IFERROR($E34*SUMIF('Daily Log'!$CB$18:$CB$1017,$B34,'Daily Log'!$CC$18:$CC$1017),0)","v":0},{"$f":"IFERROR($E34*SUMIF('Daily Log'!$CE$18:$CE$1017,$B34,'Daily Log'!$CF$18:$CF$1017),0)","v":0},{"$f":"IFERROR($E34*SUMIF('Daily Log'!$CH$18:$CH$1017,$B34,'Daily Log'!$CI$18:$CI$1017),0)","v":0},{"$f":"IFERROR($E34*SUMIF('Daily Log'!$CK$18:$CK$1017,$B34,'Daily Log'!$CL$18:$CL$1017),0)","v":11},{"$f":"IFERROR($E34*SUMIF('Daily Log'!$CN$18:$CN$1017,$B34,'Daily Log'!$CO$18:$CO$1017),0)","v":0}]
[null,"WF01 91001:BP CHK CP",null,null,1,313,{"$f":"IFERROR($E35*SUMIF('Daily Log'!$B$18:$B$1017,$B35,'Daily Log'!$C$18:$C$1017),0)","v":0},{"$f":"IFERROR($E35*SUMIF('Daily Log'!$E$18:$E$1017,$B35,'Daily Log'!$F$18:$F$1017),0)","v":0},{"$f":"IFERROR($E35*SUMIF('Daily Log'!$H$18:$H$1017,$B35,'Daily Log'!$I$18:$I$1017),0)","v":0},{"$f":"IFERROR($E35*SUMIF('Daily Log'!$K$18:$K$1017,$B35,'Daily Log'!$L$18:$L$1017),0)","v":0},{"$f":"IFERROR($E35*SUMIF('Daily Log'!$N$18:$N$1017,$B35,'Daily Log'!$O$18:$O$1017),0)","v":0},{"$f":"IFERROR($E35*SUMIF('Daily Log'!$Q$18:$Q$1017,$B35,'Daily Log'!$R$18:$R$1017),0)","v":0},{"$f":"IFERROR($E35*SUMIF('Daily Log'!$T$18:$T$1017,$B35,'Daily Log'!$U$18:$U$1017),0)","v":0},{"$f":"IFERROR($E35*SUMIF('Daily Log'!$W$18:$W$1017,$B35,'Daily Log'!$X$18:$X$1017),0)","v":0},{"$f":"IFERROR($E35*SUMIF('Daily Log'!$Z$18:$Z$1017,$B35,'Daily Log'!$AA$18:$AA$1017),0)","v":0},{"$f":"IFERROR($E35*SUMIF('Daily Log'!$AC$18:$AC$1017,$B35,'Daily Log'!$AD$18:$AD$1017),0)","v":0},{"$f":"IFERROR($E35*SUMIF('Daily Log'!$AF$18:$AF$1017,$B35,'Daily Log'!$AG$18:$AG$1017),0)","v":0},{"$f":"IFERROR($E35*SUMIF('Daily Log'!$AI$18:$AI$1017,$B35,'Daily Log'!$AJ$18:$AJ$1017),0)","v":0},{"$f":"IFERROR($E35*SUMIF('Daily Log'!$AL$18:$AL$1017,$B35,'Daily Log'!$AM$18:$AM$1017),0)","v":0},{"$f":"IFERROR($E35*SUMIF('Daily Log'!$AO$18:$AO$1017,$B35,'Daily Log'!$AP$18:$AP$1017),0)","v":0},{"$f":"IFERROR($E35*SUMIF('Daily Log'!$AR$18:$AR$1017,$B35,'Daily Log'!$AS$18:$AS$1017),0)","v":0},{"$f":"IFERROR($E35*SUMIF('Daily Log'!$AU$18:$AU$1017,$B35,'Daily Log'!$AV$18:$AV$1017),0)","v":0},{"$f":"IFERROR($E35*SUMIF('Daily Log'!$AX$18:$AX$1017,$B35,'Daily Log'!$AY$18:$AY$1017),0)","v":0},{"$f":"IFERROR($E35*SUMIF('Daily Log'!$BA$18:$BA$1017,$B35,'Daily Log'!$BB$18:$BB$1017),0)","v":0},{"$f":"IFERROR($E35*SUMIF('Daily Log'!$BD$18:$BD$1017,$B35,'Daily Log'!$BE$18:$BE$1017),0)","v":0},{"$f":"IFERROR($E35*SUMIF('Daily Log'!$BG$18:$BG$1017,$B35,'Daily Log'!$BH$18:$BH$1017),0)","v":0},{"$f":"IFERROR($E35*SUMIF('Daily Log'!$BJ$18:$BJ$1017,$B35,'Daily Log'!$BK$18:$BK$1017),0)","v":0},{"$f":"IFERROR($E35*SUMIF('Daily Log'!$BM$18:$BM$1017,$B35,'Daily Log'!$BN$18:$BN$1017),0)","v":0},{"$f":"IFERROR($E35*SUMIF('Daily Log'!$BP$18:$BP$1017,$B35,'Daily Log'!$BQ$18:$BQ$1017),0)","v":0},{"$f":"IFERROR($E35*SUMIF('Daily Log'!$BS$18:$BS$1017,$B35,'Daily Log'!$BT$18:$BT$1017),0)","v":0},{"$f":"IFERROR($E35*SUMIF('Daily Log'!$BV$18:$BV$1017,$B35,'Daily Log'!$BW$18:$BW$1017),0)","v":0},{"$f":"IFERROR($E35*SUMIF('Daily Log'!$BY$18:$BY$1017,$B35,'Daily Log'!$BZ$18:$BZ$1017),0)","v":0},{"$f":"IFERROR($E35*SUMIF('Daily Log'!$CB$18:$CB$1017,$B35,'Daily Log'!$CC$18:$CC$1017),0)","v":0},{"$f":"IFERROR($E35*SUMIF('Daily Log'!$CE$18:$CE$1017,$B35,'Daily Log'!$CF$18:$CF$1017),0)","v":0},{"$f":"IFERROR($E35*SUMIF('Daily Log'!$CH$18:$CH$1017,$B35,'Daily Log'!$CI$18:$CI$1017),0)","v":0},{"$f":"IFERROR($E35*SUMIF('Daily Log'!$CK$18:$CK$1017,$B35,'Daily Log'!$CL$18:$CL$1017),0)","v":313},{"$f":"IFERROR($E35*SUMIF('Daily Log'!$CN$18:$CN$1017,$B35,'Daily Log'!$CO$18:$CO$1017),0)","v":0}]
[null,"WF03 91003:MR CHK CP",null,null,1,308,{"$f":"IFERROR($E36*SUMIF('Daily Log'!$B$18:$B$1017,$B36,'Daily Log'!$C$18:$C$1017),0)","v":0},{"$f":"IFERROR($E36*SUMIF('Daily Log'!$E$18:$E$1017,$B36,'Daily Log'!$F$18:$F$1017),0)","v":0},{"$f":"IFERROR($E36*SUMIF('Daily Log'!$H$18:$H$1017,$B36,'Daily Log'!$I$18:$I$1017),0)","v":0},{"$f":"IFERROR($E36*SUMIF('Daily Log'!$K$18:$K$1017,$B36,'Daily Log'!$L$18:$L$1017),0)","v":0},{"$f":"IFERROR($E36*SUMIF('Daily Log'!$N$18:$N$1017,$B36,'Daily Log'!$O$18:$O$1017),0)","v":0},{"$f":"IFERROR($E36*SUMIF('Daily Log'!$Q$18:$Q$1017,$B36,'Daily Log'!$R$18:$R$1017),0)","v":0},{"$f":"IFERROR($E36*SUMIF('Daily Log'!$T$18:$T$1017,$B36,'Daily Log'!$U$18:$U$1017),0)","v":0},{"$f":"IFERROR($E36*SUMIF('Daily Log'!$W$18:$W$1017,$B36,'Daily Log'!$X$18:$X$1017),0)","v":0},{"$f":"IFERROR($E36*SUMIF('Daily Log'!$Z$18:$Z$1017,$B36,'Daily Log'!$AA$18:$AA$1017),0)","v":0},{"$f":"IFERROR($E36*SUMIF('Daily Log'!$AC$18:$AC$1017,$B36,'Daily Log'!$AD$18:$AD$1017),0)","v":0},{"$f":"IFERROR($E36*SUMIF('Daily Log'!$AF$18:$AF$1017,$B36,'Daily Log'!$AG$18:$AG$1017),0)","v":0},{"$f":"IFERROR($E36*SUMIF('Daily Log'!$AI$18:$AI$1017,$B36,'Daily Log'!$AJ$18:$AJ$1017),0)","v":0},{"$f":"IFERROR($E36*SUMIF('Daily Log'!$AL$18:$AL$1017,$B36,'Daily Log'!$AM$18:$AM$1017),0)","v":0},{"$f":"IFERROR($E36*SUMIF('Daily Log'!$AO$18:$AO$1017,$B36,'Daily Log'!$AP$18:$AP$1017),0)","v":0},{"$f":"IFERROR($E36*SUMIF('Daily Log'!$AR$18:$AR$1017,$B36,'Daily Log'!$AS$18:$AS$1017),0)","v":0},{"$f":"IFERROR($E36*SUMIF('Daily Log'!$AU$18:$AU$1017,$B36,'Daily Log'!$AV$18:$AV$1017),0)","v":0},{"$f":"IFERROR($E36*SUMIF('Daily Log'!$AX$18:$AX$1017,$B36,'Daily Log'!$AY$18:$AY$1017),0)","v":0},{"$f":"IFERROR($E36*SUMIF('Daily Log'!$BA$18:$BA$1017,$B36,'Daily Log'!$BB$18:$BB$1017),0)","v":0},{"$f":"IFERROR($E36*SUMIF('Daily Log'!$BD$18:$BD$1017,$B36,'Daily Log'!$BE$18:$BE$1017),0)","v":0},{"$f":"IFERROR($E36*SUMIF('Daily Log'!$BG$18:$BG$1017,$B36,'Daily Log'!$BH$18:$BH$1017),0)","v":0},{"$f":"IFERROR($E36*SUMIF('Daily Log'!$BJ$18:$BJ$1017,$B36,'Daily Log'!$BK$18:$BK$1017),0)","v":0},{"$f":"IFERROR($E36*SUMIF('Daily Log'!$BM$18:$BM$1017,$B36,'Daily Log'!$BN$18:$BN$1017),0)","v":0},{"$f":"IFERROR($E36*SUMIF('Daily Log'!$BP$18:$BP$1017,$B36,'Daily Log'!$BQ$18:$BQ$1017),0)","v":0},{"$f":"IFERROR($E36*SUMIF('Daily Log'!$BS$18:$BS$1017,$B36,'Daily Log'!$BT$18:$BT$1017),0)","v":0},{"$f":"IFERROR($E36*SUMIF('Daily Log'!$BV$18:$BV$1017,$B36,'Daily Log'!$BW$18:$BW$1017),0)","v":0},{"$f":"IFERROR($E36*SUMIF('Daily Log'!$BY$18:$BY$1017,$B36,'Daily Log'!$BZ$18:$BZ$1017),0)","v":0},{"$f":"IFERROR($E36*SUMIF('Daily Log'!$CB$18:$CB$1017,$B36,'Daily Log'!$CC$18:$CC$1017),0)","v":0},{"$f":"IFERROR($E36*SUMIF('Daily Log'!$CE$18:$CE$1017,$B36,'Daily Log'!$CF$18:$CF$1017),0)","v":0},{"$f":"IFERROR($E36*SUMIF('Daily Log'!$CH$18:$CH$1017,$B36,'Daily Log'!$CI$18:$CI$1017),0)","v":0},{"$f":"IFERROR($E36*SUMIF('Daily Log'!$CK$18:$CK$1017,$B36,'Daily Log'!$CL$18:$CL$1017),0)","v":308},{"$f":"IFERROR($E36*SUMIF('Daily Log'!$CN$18:$CN$1017,$B36,'Daily Log'!$CO$18:$CO$1017),0)","v":0}]
[null,"WF04 91004:CKN MARY",null,null,1,106,{"$f":"IFERROR($E37*SUMIF('Daily Log'!$B$18:$B$1017,$B37,'Daily Log'!$C$18:$C$1017),0)","v":0},{"$f":"IFERROR($E37*SUMIF('Daily Log'!$E$18:$E$1017,$B37,'Daily Log'!$F$18:$F$1017),0)","v":0},{"$f":"IFERROR($E37*SUMIF('Daily Log'!$H$18:$H$1017,$B37,'Daily Log'!$I$18:$I$1017),0)","v":0},{"$f":"IFERROR($E37*SUMIF('Daily Log'!$K$18:$K$1017,$B37,'Daily Log'!$L$18:$L$1017),0)","v":0},{"$f":"IFERROR($E37*SUMIF('Daily Log'!$N$18:$N$1017,$B37,'Daily Log'!$O$18:$O$1017),0)","v":0},{"$f":"IFERROR($E37*SUMIF('Daily Log'!$Q$18:$Q$1017,$B37,'Daily Log'!$R$18:$R$1017),0)","v":0},{"$f":"IFERROR($E37*SUMIF('Daily Log'!$T$18:$T$1017,$B37,'Daily Log'!$U$18:$U$1017),0)","v":0},{"$f":"IFERROR($E37*SUMIF('Daily Log'!$W$18:$W$1017,$B37,'Daily Log'!$X$18:$X$1017),0)","v":0},{"$f":"IFERROR($E37*SUMIF('Daily Log'!$Z$18:$Z$1017,$B37,'Daily Log'!$AA$18:$AA$1017),0)","v":0},{"$f":"IFERROR($E37*SUMIF('Daily Log'!$AC$18:$AC$1017,$B37,'Daily Log'!$AD$18:$AD$1017),0)","v":0},{"$f":"IFERROR($E37*SUMIF('Daily Log'!$AF$18:$AF$1017,$B37,'Daily Log'!$AG$18:$AG$1017),0)","v":0},{"$f":"IFERROR($E37*SUMIF('Daily Log'!$AI$18:$AI$1017,$B37,'Daily Log'!$AJ$18:$AJ$1017),0)","v":0},{"$f":"IFERROR($E37*SUMIF('Daily Log'!$AL$18:$AL$1017,$B37,'Daily Log'!$AM$18:$AM$1017),0)","v":0},{"$f":"IFERROR($E37*SUMIF('Daily Log'!$AO$18:$AO$1017,$B37,'Daily Log'!$AP$18:$AP$1017),0)","v":0},{"$f":"IFERROR($E37*SUMIF('Daily Log'!$AR$18:$AR$1017,$B37,'Daily Log'!$AS$18:$AS$1017),0)","v":0},{"$f":"IFERROR($E37*SUMIF('Daily Log'!$AU$18:$AU$1017,$B37,'Daily Log'!$AV$18:$AV$1017),0)","v":0},{"$f":"IFERROR($E37*SUMIF('Daily Log'!$AX$18:$AX$1017,$B37,'Daily Log'!$AY$18:$AY$1017),0)","v":0},{"$f":"IFERROR($E37*SUMIF('Daily Log'!$BA$18:$BA$1017,$B37,'Daily Log'!$BB$18:$BB$1017),0)","v":0},{"$f":"IFERROR($E37*SUMIF('Daily Log'!$BD$18:$BD$1017,$B37,'Daily Log'!$BE$18:$BE$1017),0)","v":0},{"$f":"IFERROR($E37*SUMIF('Daily Log'!$BG$18:$BG$1017,$B37,'Daily Log'!$BH$18:$BH$1017),0)","v":0},{"$f":"IFERROR($E37*SUMIF('Daily Log'!$BJ$18:$BJ$1017,$B37,'Daily Log'!$BK$18:$BK$1017),0)","v":0},{"$f":"IFERROR($E37*SUMIF('Daily Log'!$BM$18:$BM$1017,$B37,'Daily Log'!$BN$18:$BN$1017),0)","v":0},{"$f":"IFERROR($E37*SUMIF('Daily Log'!$BP$18:$BP$1017,$B37,'Daily Log'!$BQ$18:$BQ$1017),0)","v":0},{"$f":"IFERROR($E37*SUMIF('Daily Log'!$BS$18:$BS$1017,$B37,'Daily Log'!$BT$18:$BT$1017),0)","v":0},{"$f":"IFERROR($E37*SUMIF('Daily Log'!$BV$18:$BV$1017,$B37,'Daily Log'!$BW$18:$BW$1017),0)","v":0},{"$f":"IFERROR($E37*SUMIF('Daily Log'!$BY$18:$BY$1017,$B37,'Daily Log'!$BZ$18:$BZ$1017),0)","v":0},{"$f":"IFERROR($E37*SUMIF('Daily Log'!$CB$18:$CB$1017,$B37,'Daily Log'!$CC$18:$CC$1017),0)","v":0},{"$f":"IFERROR($E37*SUMIF('Daily Log'!$CE$18:$CE$1017,$B37,'Daily Log'!$CF$18:$CF$1017),0)","v":0},{"$f":"IFERROR($E37*SUMIF('Daily Log'!$CH$18:$CH$1017,$B37,'Daily Log'!$CI$18:$CI$1017),0)","v":0},{"$f":"IFERROR($E37*SUMIF('Daily Log'!$CK$18:$CK$1017,$B37,'Daily Log'!$CL$18:$CL$1017),0)","v":106},{"$f":"IFERROR($E37*SUMIF('Daily Log'!$CN$18:$CN$1017,$B37,'Daily Log'!$CO$18:$CO$1017),0)","v":0}]
[null,"WF05 91005:FSH&CHIP",null,null,1,209,{"$f":"IFERROR($E38*SUMIF('Daily Log'!$B$18:$B$1017,$B38,'Daily Log'!$C$18:$C$1017),0)","v":0},{"$f":"IFERROR($E38*SUMIF('Daily Log'!$E$18:$E$1017,$B38,'Daily Log'!$F$18:$F$1017),0)","v":0},{"$f":"IFERROR($E38*SUMIF('Daily Log'!$H$18:$H$1017,$B38,'Daily Log'!$I$18:$I$1017),0)","v":0},{"$f":"IFERROR($E38*SUMIF('Daily Log'!$K$18:$K$1017,$B38,'Daily Log'!$L$18:$L$1017),0)","v":0},{"$f":"IFERROR($E38*SUMIF('Daily Log'!$N$18:$N$1017,$B38,'Daily Log'!$O$18:$O$1017),0)","v":0},{"$f":"IFERROR($E38*SUMIF('Daily Log'!$Q$18:$Q$1017,$B38,'Daily Log'!$R$18:$R$1017),0)","v":0},{"$f":"IFERROR($E38*SUMIF('Daily Log'!$T$18:$T$1017,$B38,'Daily Log'!$U$18:$U$1017),0)","v":0},{"$f":"IFERROR($E38*SUMIF('Daily Log'!$W$18:$W$1017,$B38,'Daily Log'!$X$18:$X$1017),0)","v":0},{"$f":"IFERROR($E38*SUMIF('Daily Log'!$Z$18:$Z$1017,$B38,'Daily Log'!$AA$18:$AA$1017),0)","v":0},{"$f":"IFERROR($E38*SUMIF('Daily Log'!$AC$18:$AC$1017,$B38,'Daily Log'!$AD$18:$AD$1017),0)","v":0},{"$f":"IFERROR($E38*SUMIF('Daily Log'!$AF$18:$AF$1017,$B38,'Daily Log'!$AG$18:$AG$1017),0)","v":0},{"$f":"IFERROR($E38*SUMIF('Daily Log'!$AI$18:$AI$1017,$B38,'Daily Log'!$AJ$18:$AJ$1017),0)","v":0},{"$f":"IFERROR($E38*SUMIF('Daily Log'!$AL$18:$AL$1017,$B38,'Daily Log'!$AM$18:$AM$1017),0)","v":0},{"$f":"IFERROR($E38*SUMIF('Daily Log'!$AO$18:$AO$1017,$B38,'Daily Log'!$AP$18:$AP$1017),0)","v":0},{"$f":"IFERROR($E38*SUMIF('Daily Log'!$AR$18:$AR$1017,$B38,'Daily Log'!$AS$18:$AS$1017),0)","v":0},{"$f":"IFERROR($E38*SUMIF('Daily Log'!$AU$18:$AU$1017,$B38,'Daily Log'!$AV$18:$AV$1017),0)","v":0},{"$f":"IFERROR($E38*SUMIF('Daily Log'!$AX$18:$AX$1017,$B38,'Daily Log'!$AY$18:$AY$1017),0)","v":0},{"$f":"IFERROR($E38*SUMIF('Daily Log'!$BA$18:$BA$1017,$B38,'Daily Log'!$BB$18:$BB$1017),0)","v":0},{"$f":"IFERROR($E38*SUMIF('Daily Log'!$BD$18:$BD$1017,$B38,'Daily Log'!$BE$18:$BE$1017),0)","v":0},{"$f":"IFERROR($E38*SUMIF('Daily Log'!$BG$18:$BG$1017,$B38,'Daily Log'!$BH$18:$BH$1017),0)","v":0},{"$f":"IFERROR($E38*SUMIF('Daily Log'!$BJ$18:$BJ$1017,$B38,'Daily Log'!$BK$18:$BK$1017),0)","v":0},{"$f":"IFERROR($E38*SUMIF('Daily Log'!$BM$18:$BM$1017,$B38,'Daily Log'!$BN$18:$BN$1017),0)","v":0},{"$f":"IFERROR($E38*SUMIF('Daily Log'!$BP$18:$BP$1017,$B38,'Daily Log'!$BQ$18:$BQ$1017),0)","v":0},{"$f":"IFERROR($E38*SUMIF('Daily Log'!$BS$18:$BS$1017,$B38,'Daily Log'!$BT$18:$BT$1017),0)","v":0},{"$f":"IFERROR($E38*SUMIF('Daily Log'!$BV$18:$BV$1017,$B38,'Daily Log'!$BW$18:$BW$1017),0)","v":0},{"$f":"IFERROR($E38*SUMIF('Daily Log'!$BY$18:$BY$1017,$B38,'Daily Log'!$BZ$18:$BZ$1017),0)","v":0},{"$f":"IFERROR($E38*SUMIF('Daily Log'!$CB$18:$CB$1017,$B38,'Daily Log'!$CC$18:$CC$1017),0)","v":0},{"$f":"IFERROR($E38*SUMIF('Daily Log'!$CE$18:$CE$1017,$B38,'Daily Log'!$CF$18:$CF$1017),0)","v":0},{"$f":"IFERROR($E38*SUMIF('Daily Log'!$CH$18:$CH$1017,$B38,'Daily Log'!$CI$18:$CI$1017),0)","v":0},{"$f":"IFERROR($E38*SUMIF('Daily Log'!$CK$18:$CK$1017,$B38,'Daily Log'!$CL$18:$CL$1017),0)","v":209},{"$f":"IFERROR($E38*SUMIF('Daily Log'!$CN$18:$CN$1017,$B38,'Daily Log'!$CO$18:$CO$1017),0)","v":0}]
[null,"WF07 91007:CHK SALAD",null,null,1,27,{"$f":"IFERROR($E39*SUMIF('Daily Log'!$B$18:$B$1017,$B39,'Daily Log'!$C$18:$C$1017),0)","v":0},{"$f":"IFERROR($E39*SUMIF('Daily Log'!$E$18:$E$1017,$B39,'Daily Log'!$F$18:$F$1017),0)","v":0},{"$f":"IFERROR($E39*SUMIF('Daily Log'!$H$18:$H$1017,$B39,'Daily Log'!$I$18:$I$1017),0)","v":0},{"$f":"IFERROR($E39*SUMIF('Daily Log'!$K$18:$K$1017,$B39,'Daily Log'!$L$18:$L$1017),0)","v":0},{"$f":"IFERROR($E39*SUMIF('Daily Log'!$N$18:$N$1017,$B39,'Daily Log'!$O$18:$O$1017),0)","v":0},{"$f":"IFERROR($E39*SUMIF('Daily Log'!$Q$18:$Q$1017,$B39,'Daily Log'!$R$18:$R$1017),0)","v":0},{"$f":"IFERROR($E39*SUMIF('Daily Log'!$T$18:$T$1017,$B39,'Daily Log'!$U$18:$U$1017),0)","v":0},{"$f":"IFERROR($E39*SUMIF('Daily Log'!$W$18:$W$1017,$B39,'Daily Log'!$X$18:$X$1017),0)","v":0},{"$f":"IFERROR($E39*SUMIF('Daily Log'!$Z$18:$Z$1017,$B39,'Daily Log'!$AA$18:$AA$1017),0)","v":0},{"$f":"IFERROR($E39*SUMIF('Daily Log'!$AC$18:$AC$1017,$B39,'Daily Log'!$AD$18:$AD$1017),0)","v":0},{"$f":"IFERROR($E39*SUMIF('Daily Log'!$AF$18:$AF$1017,$B39,'Daily Log'!$AG$18:$AG$1017),0)","v":0},{"$f":"IFERROR($E39*SUMIF('Daily Log'!$AI$18:$AI$1017,$B39,'Daily Log'!$AJ$18:$AJ$1017),0)","v":0},{"$f":"IFERROR($E39*SUMIF('Daily Log'!$AL$18:$AL$1017,$B39,'Daily Log'!$AM$18:$AM$1017),0)","v":0},{"$f":"IFERROR($E39*SUMIF('Daily Log'!$AO$18:$AO$1017,$B39,'Daily Log'!$AP$18:$AP$1017),0)","v":0},{"$f":"IFERROR($E39*SUMIF('Daily Log'!$AR$18:$AR$1017,$B39,'Daily Log'!$AS$18:$AS$1017),0)","v":0},{"$f":"IFERROR($E39*SUMIF('Daily Log'!$AU$18:$AU$1017,$B39,'Daily Log'!$AV$18:$AV$1017),0)","v":0},{"$f":"IFERROR($E39*SUMIF('Daily Log'!$AX$18:$AX$1017,$B39,'Daily Log'!$AY$18:$AY$1017),0)","v":0},{"$f":"IFERROR($E39*SUMIF('Daily Log'!$BA$18:$BA$1017,$B39,'Daily Log'!$BB$18:$BB$1017),0)","v":0},{"$f":"IFERROR($E39*SUMIF('Daily Log'!$BD$18:$BD$1017,$B39,'Daily Log'!$BE$18:$BE$1017),0)","v":0},{"$f":"IFERROR($E39*SUMIF('Daily Log'!$BG$18:$BG$1017,$B39,'Daily Log'!$BH$18:$BH$1017),0)","v":0},{"$f":"IFERROR($E39*SUMIF('Daily Log'!$BJ$18:$BJ$1017,$B39,'Daily Log'!$BK$18:$BK$1017),0)","v":0},{"$f":"IFERROR($E39*SUMIF('Daily Log'!$BM$18:$BM$1017,$B39,'Daily Log'!$BN$18:$BN$1017),0)","v":0},{"$f":"IFERROR($E39*SUMIF('Daily Log'!$BP$18:$BP$1017,$B39,'Daily Log'!$BQ$18:$BQ$1017),0)","v":0},{"$f":"IFERROR($E39*SUMIF('Daily Log'!$BS$18:$BS$1017,$B39,'Daily Log'!$BT$18:$BT$1017),0)","v":0},{"$f":"IFERROR($E39*SUMIF('Daily Log'!$BV$18:$BV$1017,$B39,'Daily Log'!$BW$18:$BW$1017),0)","v":0},{"$f":"IFERROR($E39*SUMIF('Daily Log'!$BY$18:$BY$1017,$B39,'Daily Log'!$BZ$18:$BZ$1017),0)","v":0},{"$f":"IFERROR($E39*SUMIF('Daily Log'!$CB$18:$CB$1017,$B39,'Daily Log'!$CC$18:$CC$1017),0)","v":0},{"$f":"IFERROR($E39*SUMIF('Daily Log'!$CE$18:$CE$1017,$B39,'Daily Log'!$CF$18:$CF$1017),0)","v":0},{"$f":"IFERROR($E39*SUMIF('Daily Log'!$CH$18:$CH$1017,$B39,'Daily Log'!$CI$18:$CI$1017),0)","v":0},{"$f":"IFERROR($E39*SUMIF('Daily Log'!$CK$18:$CK$1017,$B39,'Daily Log'!$CL$18:$CL$1017),0)","v":27},{"$f":"IFERROR($E39*SUMIF('Daily Log'!$CN$18:$CN$1017,$B39,'Daily Log'!$CO$18:$CO$1017),0)","v":0}]
[null,"RW01 71001:BP CKN CP",null,null,1,3,{"$f":"IFERROR($E40*SUMIF('Daily Log'!$B$18:$B$1017,$B40,'Daily Log'!$C$18:$C$1017),0)","v":0},{"$f":"IFERROR($E40*SUMIF('Daily Log'!$E$18:$E$1017,$B40,'Daily Log'!$F$18:$F$1017),0)","v":0},{"$f":"IFERROR($E40*SUMIF('Daily Log'!$H$18:$H$1017,$B40,'Daily Log'!$I$18:$I$1017),0)","v":0},{"$f":"IFERROR($E40*SUMIF('Daily Log'!$K$18:$K$1017,$B40,'Daily Log'!$L$18:$L$1017),0)","v":0},{"$f":"IFERROR($E40*SUMIF('Daily Log'!$N$18:$N$1017,$B40,'Daily Log'!$O$18:$O$1017),0)","v":0},{"$f":"IFERROR($E40*SUMIF('Daily Log'!$Q$18:$Q$1017,$B40,'Daily Log'!$R$18:$R$1017),0)","v":0},{"$f":"IFERROR($E40*SUMIF('Daily Log'!$T$18:$T$1017,$B40,'Daily Log'!$U$18:$U$1017),0)","v":0},{"$f":"IFERROR($E40*SUMIF('Daily Log'!$W$18:$W$1017,$B40,'Daily Log'!$X$18:$X$1017),0)","v":0},{"$f":"IFERROR($E40*SUMIF('Daily Log'!$Z$18:$Z$1017,$B40,'Daily Log'!$AA$18:$AA$1017),0)","v":0},{"$f":"IFERROR($E40*SUMIF('Daily Log'!$AC$18:$AC$1017,$B40,'Daily Log'!$AD$18:$AD$1017),0)","v":0},{"$f":"IFERROR($E40*SUMIF('Daily Log'!$AF$18:$AF$1017,$B40,'Daily Log'!$AG$18:$AG$1017),0)","v":0},{"$f":"IFERROR($E40*SUMIF('Daily Log'!$AI$18:$AI$1017,$B40,'Daily Log'!$AJ$18:$AJ$1017),0)","v":0},{"$f":"IFERROR($E40*SUMIF('Daily Log'!$AL$18:$AL$1017,$B40,'Daily Log'!$AM$18:$AM$1017),0)","v":0},{"$f":"IFERROR($E40*SUMIF('Daily Log'!$AO$18:$AO$1017,$B40,'Daily Log'!$AP$18:$AP$1017),0)","v":0},{"$f":"IFERROR($E40*SUMIF('Daily Log'!$AR$18:$AR$1017,$B40,'Daily Log'!$AS$18:$AS$1017),0)","v":0},{"$f":"IFERROR($E40*SUMIF('Daily Log'!$AU$18:$AU$1017,$B40,'Daily Log'!$AV$18:$AV$1017),0)","v":0},{"$f":"IFERROR($E40*SUMIF('Daily Log'!$AX$18:$AX$1017,$B40,'Daily Log'!$AY$18:$AY$1017),0)","v":0},{"$f":"IFERROR($E40*SUMIF('Daily Log'!$BA$18:$BA$1017,$B40,'Daily Log'!$BB$18:$BB$1017),0)","v":0},{"$f":"IFERROR($E40*SUMIF('Daily Log'!$BD$18:$BD$1017,$B40,'Daily Log'!$BE$18:$BE$1017),0)","v":0},{"$f":"IFERROR($E40*SUMIF('Daily Log'!$BG$18:$BG$1017,$B40,'Daily Log'!$BH$18:$BH$1017),0)","v":0},{"$f":"IFERROR($E40*SUMIF('Daily Log'!$BJ$18:$BJ$1017,$B40,'Daily Log'!$BK$18:$BK$1017),0)","v":0},{"$f":"IFERROR($E40*SUMIF('Daily Log'!$BM$18:$BM$1017,$B40,'Daily Log'!$BN$18:$BN$1017),0)","v":0},{"$f":"IFERROR($E40*SUMIF('Daily Log'!$BP$18:$BP$1017,$B40,'Daily Log'!$BQ$18:$BQ$1017),0)","v":0},{"$f":"IFERROR($E40*SUMIF('Daily Log'!$BS$18:$BS$1017,$B40,'Daily Log'!$BT$18:$BT$1017),0)","v":0},{"$f":"IFERROR($E40*SUMIF('Daily Log'!$BV$18:$BV$1017,$B40,'Daily Log'!$BW$18:$BW$1017),0)","v":0},{"$f":"IFERROR($E40*SUMIF('Daily Log'!$BY$18:$BY$1017,$B40,'Daily Log'!$BZ$18:$BZ$1017),0)","v":0},{"$f":"IFERROR($E40*SUMIF('Daily Log'!$CB$18:$CB$1017,$B40,'Daily Log'!$CC$18:$CC$1017),0)","v":0},{"$f":"IFERROR($E40*SUMIF('Daily Log'!$CE$18:$CE$1017,$B40,'Daily Log'!$CF$18:$CF$1017),0)","v":0},{"$f":"IFERROR($E40*SUMIF('Daily Log'!$CH$18:$CH$1017,$B40,'Daily Log'!$CI$18:$CI$1017),0)","v":0},{"$f":"IFERROR($E40*SUMIF('Daily Log'!$CK$18:$CK$1017,$B40,'Daily Log'!$CL$18:$CL$1017),0)","v":3},{"$f":"IFERROR($E40*SUMIF('Daily Log'!$CN$18:$CN$1017,$B40,'Daily Log'!$CO$18:$CO$1017),0)","v":0}]
[null,"RW03 71003:MSR CKN CP",null,null,1,0,{"$f":"IFERROR($E41*SUMIF('Daily Log'!$B$18:$B$1017,$B41,'Daily Log'!$C$18:$C$1017),0)","v":0},{"$f":"IFERROR($E41*SUMIF('Daily Log'!$E$18:$E$1017,$B41,'Daily Log'!$F$18:$F$1017),0)","v":0},{"$f":"IFERROR($E41*SUMIF('Daily Log'!$H$18:$H$1017,$B41,'Daily Log'!$I$18:$I$1017),0)","v":0},{"$f":"IFERROR($E41*SUMIF('Daily Log'!$K$18:$K$1017,$B41,'Daily Log'!$L$18:$L$1017),0)","v":0},{"$f":"IFERROR($E41*SUMIF('Daily Log'!$N$18:$N$1017,$B41,'Daily Log'!$O$18:$O$1017),0)","v":0},{"$f":"IFERROR($E41*SUMIF('Daily Log'!$Q$18:$Q$1017,$B41,'Daily Log'!$R$18:$R$1017),0)","v":0},{"$f":"IFERROR($E41*SUMIF('Daily Log'!$T$18:$T$1017,$B41,'Daily Log'!$U$18:$U$1017),0)","v":0},{"$f":"IFERROR($E41*SUMIF('Daily Log'!$W$18:$W$1017,$B41,'Daily Log'!$X$18:$X$1017),0)","v":0},{"$f":"IFERROR($E41*SUMIF('Daily Log'!$Z$18:$Z$1017,$B41,'Daily Log'!$AA$18:$AA$1017),0)","v":0},{"$f":"IFERROR($E41*SUMIF('Daily Log'!$AC$18:$AC$1017,$B41,'Daily Log'!$AD$18:$AD$1017),0)","v":0},{"$f":"IFERROR($E41*SUMIF('Daily Log'!$AF$18:$AF$1017,$B41,'Daily Log'!$AG$18:$AG$1017),0)","v":0},{"$f":"IFERROR($E41*SUMIF('Daily Log'!$AI$18:$AI$1017,$B41,'Daily Log'!$AJ$18:$AJ$1017),0)","v":0},{"$f":"IFERROR($E41*SUMIF('Daily Log'!$AL$18:$AL$1017,$B41,'Daily Log'!$AM$18:$AM$1017),0)","v":0},{"$f":"IFERROR($E41*SUMIF('Daily Log'!$AO$18:$AO$1017,$B41,'Daily Log'!$AP$18:$AP$1017),0)","v":0},{"$f":"IFERROR($E41*SUMIF('Daily Log'!$AR$18:$AR$1017,$B41,'Daily Log'!$AS$18:$AS$1017),0)","v":0},{"$f":"IFERROR($E41*SUMIF('Daily Log'!$AU$18:$AU$1017,$B41,'Daily Log'!$AV$18:$AV$1017),0)","v":0},{"$f":"IFERROR($E41*SUMIF('Daily Log'!$AX$18:$AX$1017,$B41,'Daily Log'!$AY$18:$AY$1017),0)","v":0},{"$f":"IFERROR($E41*SUMIF('Daily Log'!$BA$18:$BA$1017,$B41,'Daily Log'!$BB$18:$BB$1017),0)","v":0},{"$f":"IFERROR($E41*SUMIF('Daily Log'!$BD$18:$BD$1017,$B41,'Daily Log'!$BE$18:$BE$1017),0)","v":0},{"$f":"IFERROR($E41*SUMIF('Daily Log'!$BG$18:$BG$1017,$B41,'Daily Log'!$BH$18:$BH$1017),0)","v":0},{"$f":"IFERROR($E41*SUMIF('Daily Log'!$BJ$18:$BJ$1017,$B41,'Daily Log'!$BK$18:$BK$1017),0)","v":0},{"$f":"IFERROR($E41*SUMIF('Daily Log'!$BM$18:$BM$1017,$B41,'Daily Log'!$BN$18:$BN$1017),0)","v":0},{"$f":"IFERROR($E41*SUMIF('Daily Log'!$BP$18:$BP$1017,$B41,'Daily Log'!$BQ$18:$BQ$1017),0)","v":0},{"$f":"IFERROR($E41*SUMIF('Daily Log'!$BS$18:$BS$1017,$B41,'Daily Log'!$BT$18:$BT$1017),0)","v":0},{"$f":"IFERROR($E41*SUMIF('Daily Log'!$BV$18:$BV$1017,$B41,'Daily Log'!$BW$18:$BW$1017),0)","v":0},{"$f":"IFERROR($E41*SUMIF('Daily Log'!$BY$18:$BY$1017,$B41,'Daily Log'!$BZ$18:$BZ$1017),0)","v":0},{"$f":"IFERROR($E41*SUMIF('Daily Log'!$CB$18:$CB$1017,$B41,'Daily Log'!$CC$18:$CC$1017),0)","v":0},{"$f":"IFERROR($E41*SUMIF('Daily Log'!$CE$18:$CE$1017,$B41,'Daily Log'!$CF$18:$CF$1017),0)","v":0},{"$f":"IFERROR($E41*SUMIF('Daily Log'!$CH$18:$CH$1017,$B41,'Daily Log'!$CI$18:$CI$1017),0)","v":0},{"$f":"IFERROR($E41*SUMIF('Daily Log'!$CK$18:$CK$1017,$B41,'Daily Log'!$CL$18:$CL$1017),0)","v":0},{"$f":"IFERROR($E41*SUMIF('Daily Log'!$CN$18:$CN$1017,$B41,'Daily Log'!$CO$18:$CO$1017),0)","v":0}]
[null,"RW04 71004:CKN MARY",null,null,1,3,{"$f":"IFERROR($E42*SUMIF('Daily Log'!$B$18:$B$1017,$B42,'Daily Log'!$C$18:$C$1017),0)","v":0},{"$f":"IFERROR($E42*SUMIF('Daily Log'!$E$18:$E$1017,$B42,'Daily Log'!$F$18:$F$1017),0)","v":0},{"$f":"IFERROR($E42*SUMIF('Daily Log'!$H$18:$H$1017,$B42,'Daily Log'!$I$18:$I$1017),0)","v":0},{"$f":"IFERROR($E42*SUMIF('Daily Log'!$K$18:$K$1017,$B42,'Daily Log'!$L$18:$L$1017),0)","v":0},{"$f":"IFERROR($E42*SUMIF('Daily Log'!$N$18:$N$1017,$B42,'Daily Log'!$O$18:$O$1017),0)","v":0},{"$f":"IFERROR($E42*SUMIF('Daily Log'!$Q$18:$Q$1017,$B42,'Daily Log'!$R$18:$R$1017),0)","v":0},{"$f":"IFERROR($E42*SUMIF('Daily Log'!$T$18:$T$1017,$B42,'Daily Log'!$U$18:$U$1017),0)","v":0},{"$f":"IFERROR($E42*SUMIF('Daily Log'!$W$18:$W$1017,$B42,'Daily Log'!$X$18:$X$1017),0)","v":0},{"$f":"IFERROR($E42*SUMIF('Daily Log'!$Z$18:$Z$1017,$B42,'Daily Log'!$AA$18:$AA$1017),0)","v":0},{"$f":"IFERROR($E42*SUMIF('Daily Log'!$AC$18:$AC$1017,$B42,'Daily Log'!$AD$18:$AD$1017),0)","v":0},{"$f":"IFERROR($E42*SUMIF('Daily Log'!$AF$18:$AF$1017,$B42,'Daily Log'!$AG$18:$AG$1017),0)","v":0},{"$f":"IFERROR($E42*SUMIF('Daily Log'!$AI$18:$AI$1017,$B42,'Daily Log'!$AJ$18:$AJ$1017),0)","v":0},{"$f":"IFERROR($E42*SUMIF('Daily Log'!$AL$18:$AL$1017,$B42,'Daily Log'!$AM$18:$AM$1017),0)","v":0},{"$f":"IFERROR($E42*SUMIF('Daily Log'!$AO$18:$AO$1017,$B42,'Daily Log'!$AP$18:$AP$1017),0)","v":0},{"$f":"IFERROR($E42*SUMIF('Daily Log'!$AR$18:$AR$1017,$B42,'Daily Log'!$AS$18:$AS$1017),0)","v":0},{"$f":"IFERROR($E42*SUMIF('Daily Log'!$AU$18:$AU$1017,$B42,'Daily Log'!$AV$18:$AV$1017),0)","v":0},{"$f":"IFERROR($E42*SUMIF('Daily Log'!$AX$18:$AX$1017,$B42,'Daily Log'!$AY$18:$AY$1017),0)","v":0},{"$f":"IFERROR($E42*SUMIF('Daily Log'!$BA$18:$BA$1017,$B42,'Daily Log'!$BB$18:$BB$1017),0)","v":0},{"$f":"IFERROR($E42*SUMIF('Daily Log'!$BD$18:$BD$1017,$B42,'Daily Log'!$BE$18:$BE$1017),0)","v":0},{"$f":"IFERROR($E42*SUMIF('Daily Log'!$BG$18:$BG$1017,$B42,'Daily Log'!$BH$18:$BH$1017),0)","v":0},{"$f":"IFERROR($E42*SUMIF('Daily Log'!$BJ$18:$BJ$1017,$B42,'Daily Log'!$BK$18:$BK$1017),0)","v":0},{"$f":"IFERROR($E42*SUMIF('Daily Log'!$BM$18:$BM$1017,$B42,'Daily Log'!$BN$18:$BN$1017),0)","v":0},{"$f":"IFERROR($E42*SUMIF('Daily Log'!$BP$18:$BP$1017,$B42,'Daily Log'!$BQ$18:$BQ$1017),0)","v":0},{"$f":"IFERROR($E42*SUMIF('Daily Log'!$BS$18:$BS$1017,$B42,'Daily Log'!$BT$18:$BT$1017),0)","v":0},{"$f":"IFERROR($E42*SUMIF('Daily Log'!$BV$18:$BV$1017,$B42,'Daily Log'!$BW$18:$BW$1017),0)","v":0},{"$f":"IFERROR($E42*SUMIF('Daily Log'!$BY$18:$BY$1017,$B42,'Daily Log'!$BZ$18:$BZ$1017),0)","v":0},{"$f":"IFERROR($E42*SUMIF('Daily Log'!$CB$18:$CB$1017,$B42,'Daily Log'!$CC$18:$CC$1017),0)","v":0},{"$f":"IFERROR($E42*SUMIF('Daily Log'!$CE$18:$CE$1017,$B42,'Daily Log'!$CF$18:$CF$1017),0)","v":0},{"$f":"IFERROR($E42*SUMIF('Daily Log'!$CH$18:$CH$1017,$B42,'Daily Log'!$CI$18:$CI$1017),0)","v":0},{"$f":"IFERROR($E42*SUMIF('Daily Log'!$CK$18:$CK$1017,$B42,'Daily Log'!$CL$18:$CL$1017),0)","v":3},{"$f":"IFERROR($E42*SUMIF('Daily Log'!$CN$18:$CN$1017,$B42,'Daily Log'!$CO$18:$CO$1017),0)","v":0}]
[null,"RW05 71005:FSH&CHIP",null,null,1,4,{"$f":"IFERROR($E43*SUMIF('Daily Log'!$B$18:$B$1017,$B43,'Daily Log'!$C$18:$C$1017),0)","v":0},{"$f":"IFERROR($E43*SUMIF('Daily Log'!$E$18:$E$1017,$B43,'Daily Log'!$F$18:$F$1017),0)","v":0},{"$f":"IFERROR($E43*SUMIF('Daily Log'!$H$18:$H$1017,$B43,'Daily Log'!$I$18:$I$1017),0)","v":0},{"$f":"IFERROR($E43*SUMIF('Daily Log'!$K$18:$K$1017,$B43,'Daily Log'!$L$18:$L$1017),0)","v":0},{"$f":"IFERROR($E43*SUMIF('Daily Log'!$N$18:$N$1017,$B43,'Daily Log'!$O$18:$O$1017),0)","v":0},{"$f":"IFERROR($E43*SUMIF('Daily Log'!$Q$18:$Q$1017,$B43,'Daily Log'!$R$18:$R$1017),0)","v":0},{"$f":"IFERROR($E43*SUMIF('Daily Log'!$T$18:$T$1017,$B43,'Daily Log'!$U$18:$U$1017),0)","v":0},{"$f":"IFERROR($E43*SUMIF('Daily Log'!$W$18:$W$1017,$B43,'Daily Log'!$X$18:$X$1017),0)","v":0},{"$f":"IFERROR($E43*SUMIF('Daily Log'!$Z$18:$Z$1017,$B43,'Daily Log'!$AA$18:$AA$1017),0)","v":0},{"$f":"IFERROR($E43*SUMIF('Daily Log'!$AC$18:$AC$1017,$B43,'Daily Log'!$AD$18:$AD$1017),0)","v":0},{"$f":"IFERROR($E43*SUMIF('Daily Log'!$AF$18:$AF$1017,$B43,'Daily Log'!$AG$18:$AG$1017),0)","v":0},{"$f":"IFERROR($E43*SUMIF('Daily Log'!$AI$18:$AI$1017,$B43,'Daily Log'!$AJ$18:$AJ$1017),0)","v":0},{"$f":"IFERROR($E43*SUMIF('Daily Log'!$AL$18:$AL$1017,$B43,'Daily Log'!$AM$18:$AM$1017),0)","v":0},{"$f":"IFERROR($E43*SUMIF('Daily Log'!$AO$18:$AO$1017,$B43,'Daily Log'!$AP$18:$AP$1017),0)","v":0},{"$f":"IFERROR($E43*SUMIF('Daily Log'!$AR$18:$AR$1017,$B43,'Daily Log'!$AS$18:$AS$1017),0)","v":0},{"$f":"IFERROR($E43*SUMIF('Daily Log'!$AU$18:$AU$1017,$B43,'Daily Log'!$AV$18:$AV$1017),0)","v":0},{"$f":"IFERROR($E43*SUMIF('Daily Log'!$AX$18:$AX$1017,$B43,'Daily Log'!$AY$18:$AY$1017),0)","v":0},{"$f":"IFERROR($E43*SUMIF('Daily Log'!$BA$18:$BA$1017,$B43,'Daily Log'!$BB$18:$BB$1017),0)","v":0},{"$f":"IFERROR($E43*SUMIF('Daily Log'!$BD$18:$BD$1017,$B43,'Daily Log'!$BE$18:$BE$1017),0)","v":0},{"$f":"IFERROR($E43*SUMIF('Daily Log'!$BG$18:$BG$1017,$B43,'Daily Log'!$BH$18:$BH$1017),0)","v":0},{"$f":"IFERROR($E43*SUMIF('Daily Log'!$BJ$18:$BJ$1017,$B43,'Daily Log'!$BK$18:$BK$1017),0)","v":0},{"$f":"IFERROR($E43*SUMIF('Daily Log'!$BM$18:$BM$1017,$B43,'Daily Log'!$BN$18:$BN$1017),0)","v":0},{"$f":"IFERROR($E43*SUMIF('Daily Log'!$BP$18:$BP$1017,$B43,'Daily Log'!$BQ$18:$BQ$1017),0)","v":0},{"$f":"IFERROR($E43*SUMIF('Daily Log'!$BS$18:$BS$1017,$B43,'Daily Log'!$BT$18:$BT$1017),0)","v":0},{"$f":"IFERROR($E43*SUMIF('Daily Log'!$BV$18:$BV$1017,$B43,'Daily Log'!$BW$18:$BW$1017),0)","v":0},{"$f":"IFERROR($E43*SUMIF('Daily Log'!$BY$18:$BY$1017,$B43,'Daily Log'!$BZ$18:$BZ$1017),0)","v":0},{"$f":"IFERROR($E43*SUMIF('Daily Log'!$CB$18:$CB$1017,$B43,'Daily Log'!$CC$18:$CC$1017),0)","v":0},{"$f":"IFERROR($E43*SUMIF('Daily Log'!$CE$18:$CE$1017,$B43,'Daily Log'!$CF$18:$CF$1017),0)","v":0},{"$f":"IFERROR($E43*SUMIF('Daily Log'!$CH$18:$CH$1017,$B43,'Daily Log'!$CI$18:$CI$1017),0)","v":0},{"$f":"IFERROR($E43*SUMIF('Daily Log'!$CK$18:$CK$1017,$B43,'Daily Log'!$CL$18:$CL$1017),0)","v":4},{"$f":"IFERROR($E43*SUMIF('Daily Log'!$CN$18:$CN$1017,$B43,'Daily Log'!$CO$18:$CO$1017),0)","v":0}]
[null,"RW07 71007:CHK SALAD",null,null,1,1,{"$f":"IFERROR($E44*SUMIF('Daily Log'!$B$18:$B$1017,$B44,'Daily Log'!$C$18:$C$1017),0)","v":0},{"$f":"IFERROR($E44*SUMIF('Daily Log'!$E$18:$E$1017,$B44,'Daily Log'!$F$18:$F$1017),0)","v":0},{"$f":"IFERROR($E44*SUMIF('Daily Log'!$H$18:$H$1017,$B44,'Daily Log'!$I$18:$I$1017),0)","v":0},{"$f":"IFERROR($E44*SUMIF('Daily Log'!$K$18:$K$1017,$B44,'Daily Log'!$L$18:$L$1017),0)","v":0},{"$f":"IFERROR($E44*SUMIF('Daily Log'!$N$18:$N$1017,$B44,'Daily Log'!$O$18:$O$1017),0)","v":0},{"$f":"IFERROR($E44*SUMIF('Daily Log'!$Q$18:$Q$1017,$B44,'Daily Log'!$R$18:$R$1017),0)","v":0},{"$f":"IFERROR($E44*SUMIF('Daily Log'!$T$18:$T$1017,$B44,'Daily Log'!$U$18:$U$1017),0)","v":0},{"$f":"IFERROR($E44*SUMIF('Daily Log'!$W$18:$W$1017,$B44,'Daily Log'!$X$18:$X$1017),0)","v":0},{"$f":"IFERROR($E44*SUMIF('Daily Log'!$Z$18:$Z$1017,$B44,'Daily Log'!$AA$18:$AA$1017),0)","v":0},{"$f":"IFERROR($E44*SUMIF('Daily Log'!$AC$18:$AC$1017,$B44,'Daily Log'!$AD$18:$AD$1017),0)","v":0},{"$f":"IFERROR($E44*SUMIF('Daily Log'!$AF$18:$AF$1017,$B44,'Daily Log'!$AG$18:$AG$1017),0)","v":0},{"$f":"IFERROR($E44*SUMIF('Daily Log'!$AI$18:$AI$1017,$B44,'Daily Log'!$AJ$18:$AJ$1017),0)","v":0},{"$f":"IFERROR($E44*SUMIF('Daily Log'!$AL$18:$AL$1017,$B44,'Daily Log'!$AM$18:$AM$1017),0)","v":0},{"$f":"IFERROR($E44*SUMIF('Daily Log'!$AO$18:$AO$1017,$B44,'Daily Log'!$AP$18:$AP$1017),0)","v":0},{"$f":"IFERROR($E44*SUMIF('Daily Log'!$AR$18:$AR$1017,$B44,'Daily Log'!$AS$18:$AS$1017),0)","v":0},{"$f":"IFERROR($E44*SUMIF('Daily Log'!$AU$18:$AU$1017,$B44,'Daily Log'!$AV$18:$AV$1017),0)","v":0},{"$f":"IFERROR($E44*SUMIF('Daily Log'!$AX$18:$AX$1017,$B44,'Daily Log'!$AY$18:$AY$1017),0)","v":0},{"$f":"IFERROR($E44*SUMIF('Daily Log'!$BA$18:$BA$1017,$B44,'Daily Log'!$BB$18:$BB$1017),0)","v":0},{"$f":"IFERROR($E44*SUMIF('Daily Log'!$BD$18:$BD$1017,$B44,'Daily Log'!$BE$18:$BE$1017),0)","v":0},{"$f":"IFERROR($E44*SUMIF('Daily Log'!$BG$18:$BG$1017,$B44,'Daily Log'!$BH$18:$BH$1017),0)","v":0},{"$f":"IFERROR($E44*SUMIF('Daily Log'!$BJ$18:$BJ$1017,$B44,'Daily Log'!$BK$18:$BK$1017),0)","v":0},{"$f":"IFERROR($E44*SUMIF('Daily Log'!$BM$18:$BM$1017,$B44,'Daily Log'!$BN$18:$BN$1017),0)","v":0},{"$f":"IFERROR($E44*SUMIF('Daily Log'!$BP$18:$BP$1017,$B44,'Daily Log'!$BQ$18:$BQ$1017),0)","v":0},{"$f":"IFERROR($E44*SUMIF('Daily Log'!$BS$18:$BS$1017,$B44,'Daily Log'!$BT$18:$BT$1017),0)","v":0},{"$f":"IFERROR($E44*SUMIF('Daily Log'!$BV$18:$BV$1017,$B44,'Daily Log'!$BW$18:$BW$1017),0)","v":0},{"$f":"IFERROR($E44*SUMIF('Daily Log'!$BY$18:$BY$1017,$B44,'Daily Log'!$BZ$18:$BZ$1017),0)","v":0},{"$f":"IFERROR($E44*SUMIF('Daily Log'!$CB$18:$CB$1017,$B44,'Daily Log'!$CC$18:$CC$1017),0)","v":0},{"$f":"IFERROR($E44*SUMIF('Daily Log'!$CE$18:$CE$1017,$B44,'Daily Log'!$CF$18:$CF$1017),0)","v":0},{"$f":"IFERROR($E44*SUMIF('Daily Log'!$CH$18:$CH$1017,$B44,'Daily Log'!$CI$18:$CI$1017),0)","v":0},{"$f":"IFERROR($E44*SUMIF('Daily Log'!$CK$18:$CK$1017,$B44,'Daily Log'!$CL$18:$CL$1017),0)","v":1},{"$f":"IFERROR($E44*SUMIF('Daily Log'!$CN$18:$CN$1017,$B44,'Daily Log'!$CO$18:$CO$1017),0)","v":0}]
[null,"LC01 1101:THAI CHK",null,null,1,40,{"$f":"IFERROR($E45*SUMIF('Daily Log'!$B$18:$B$1017,$B45,'Daily Log'!$C$18:$C$1017),0)","v":0},{"$f":"IFERROR($E45*SUMIF('Daily Log'!$E$18:$E$1017,$B45,'Daily Log'!$F$18:$F$1017),0)","v":0},{"$f":"IFERROR($E45*SUMIF('Daily Log'!$H$18:$H$1017,$B45,'Daily Log'!$I$18:$I$1017),0)","v":0},{"$f":"IFERROR($E45*SUMIF('Daily Log'!$K$18:$K$1017,$B45,'Daily Log'!$L$18:$L$1017),0)","v":0},{"$f":"IFERROR($E45*SUMIF('Daily Log'!$N$18:$N$1017,$B45,'Daily Log'!$O$18:$O$1017),0)","v":0},{"$f":"IFERROR($E45*SUMIF('Daily Log'!$Q$18:$Q$1017,$B45,'Daily Log'!$R$18:$R$1017),0)","v":0},{"$f":"IFERROR($E45*SUMIF('Daily Log'!$T$18:$T$1017,$B45,'Daily Log'!$U$18:$U$1017),0)","v":0},{"$f":"IFERROR($E45*SUMIF('Daily Log'!$W$18:$W$1017,$B45,'Daily Log'!$X$18:$X$1017),0)","v":0},{"$f":"IFERROR($E45*SUMIF('Daily Log'!$Z$18:$Z$1017,$B45,'Daily Log'!$AA$18:$AA$1017),0)","v":0},{"$f":"IFERROR($E45*SUMIF('Daily Log'!$AC$18:$AC$1017,$B45,'Daily Log'!$AD$18:$AD$1017),0)","v":0},{"$f":"IFERROR($E45*SUMIF('Daily Log'!$AF$18:$AF$1017,$B45,'Daily Log'!$AG$18:$AG$1017),0)","v":0},{"$f":"IFERROR($E45*SUMIF('Daily Log'!$AI$18:$AI$1017,$B45,'Daily Log'!$AJ$18:$AJ$1017),0)","v":0},{"$f":"IFERROR($E45*SUMIF('Daily Log'!$AL$18:$AL$1017,$B45,'Daily Log'!$AM$18:$AM$1017),0)","v":0},{"$f":"IFERROR($E45*SUMIF('Daily Log'!$AO$18:$AO$1017,$B45,'Daily Log'!$AP$18:$AP$1017),0)","v":0},{"$f":"IFERROR($E45*SUMIF('Daily Log'!$AR$18:$AR$1017,$B45,'Daily Log'!$AS$18:$AS$1017),0)","v":0},{"$f":"IFERROR($E45*SUMIF('Daily Log'!$AU$18:$AU$1017,$B45,'Daily Log'!$AV$18:$AV$1017),0)","v":0},{"$f":"IFERROR($E45*SUMIF('Daily Log'!$AX$18:$AX$1017,$B45,'Daily Log'!$AY$18:$AY$1017),0)","v":0},{"$f":"IFERROR($E45*SUMIF('Daily Log'!$BA$18:$BA$1017,$B45,'Daily Log'!$BB$18:$BB$1017),0)","v":0},{"$f":"IFERROR($E45*SUMIF('Daily Log'!$BD$18:$BD$1017,$B45,'Daily Log'!$BE$18:$BE$1017),0)","v":0},{"$f":"IFERROR($E45*SUMIF('Daily Log'!$BG$18:$BG$1017,$B45,'Daily Log'!$BH$18:$BH$1017),0)","v":0},{"$f":"IFERROR($E45*SUMIF('Daily Log'!$BJ$18:$BJ$1017,$B45,'Daily Log'!$BK$18:$BK$1017),0)","v":0},{"$f":"IFERROR($E45*SUMIF('Daily Log'!$BM$18:$BM$1017,$B45,'Daily Log'!$BN$18:$BN$1017),0)","v":0},{"$f":"IFERROR($E45*SUMIF('Daily Log'!$BP$18:$BP$1017,$B45,'Daily Log'!$BQ$18:$BQ$1017),0)","v":0},{"$f":"IFERROR($E45*SUMIF('Daily Log'!$BS$18:$BS$1017,$B45,'Daily Log'!$BT$18:$BT$1017),0)","v":0},{"$f":"IFERROR($E45*SUMIF('Daily Log'!$BV$18:$BV$1017,$B45,'Daily Log'!$BW$18:$BW$1017),0)","v":0},{"$f":"IFERROR($E45*SUMIF('Daily Log'!$BY$18:$BY$1017,$B45,'Daily Log'!$BZ$18:$BZ$1017),0)","v":0},{"$f":"IFERROR($E45*SUMIF('Daily Log'!$CB$18:$CB$1017,$B45,'Daily Log'!$CC$18:$CC$1017),0)","v":0},{"$f":"IFERROR($E45*SUMIF('Daily Log'!$CE$18:$CE$1017,$B45,'Daily Log'!$CF$18:$CF$1017),0)","v":0},{"$f":"IFERROR($E45*SUMIF('Daily Log'!$CH$18:$CH$1017,$B45,'Daily Log'!$CI$18:$CI$1017),0)","v":0},{"$f":"IFERROR($E45*SUMIF('Daily Log'!$CK$18:$CK$1017,$B45,'Daily Log'!$CL$18:$CL$1017),0)","v":40},{"$f":"IFERROR($E45*SUMIF('Daily Log'!$CN$18:$CN$1017,$B45,'Daily Log'!$CO$18:$CO$1017),0)","v":0}]
[null,"LC02 1102:MAMITE CHK",null,null,1,56,{"$f":"IFERROR($E46*SUMIF('Daily Log'!$B$18:$B$1017,$B46,'Daily Log'!$C$18:$C$1017),0)","v":0},{"$f":"IFERROR($E46*SUMIF('Daily Log'!$E$18:$E$1017,$B46,'Daily Log'!$F$18:$F$1017),0)","v":0},{"$f":"IFERROR($E46*SUMIF('Daily Log'!$H$18:$H$1017,$B46,'Daily Log'!$I$18:$I$1017),0)","v":0},{"$f":"IFERROR($E46*SUMIF('Daily Log'!$K$18:$K$1017,$B46,'Daily Log'!$L$18:$L$1017),0)","v":0},{"$f":"IFERROR($E46*SUMIF('Daily Log'!$N$18:$N$1017,$B46,'Daily Log'!$O$18:$O$1017),0)","v":0},{"$f":"IFERROR($E46*SUMIF('Daily Log'!$Q$18:$Q$1017,$B46,'Daily Log'!$R$18:$R$1017),0)","v":0},{"$f":"IFERROR($E46*SUMIF('Daily Log'!$T$18:$T$1017,$B46,'Daily Log'!$U$18:$U$1017),0)","v":0},{"$f":"IFERROR($E46*SUMIF('Daily Log'!$W$18:$W$1017,$B46,'Daily Log'!$X$18:$X$1017),0)","v":0},{"$f":"IFERROR($E46*SUMIF('Daily Log'!$Z$18:$Z$1017,$B46,'Daily Log'!$AA$18:$AA$1017),0)","v":0},{"$f":"IFERROR($E46*SUMIF('Daily Log'!$AC$18:$AC$1017,$B46,'Daily Log'!$AD$18:$AD$1017),0)","v":0},{"$f":"IFERROR($E46*SUMIF('Daily Log'!$AF$18:$AF$1017,$B46,'Daily Log'!$AG$18:$AG$1017),0)","v":0},{"$f":"IFERROR($E46*SUMIF('Daily Log'!$AI$18:$AI$1017,$B46,'Daily Log'!$AJ$18:$AJ$1017),0)","v":0},{"$f":"IFERROR($E46*SUMIF('Daily Log'!$AL$18:$AL$1017,$B46,'Daily Log'!$AM$18:$AM$1017),0)","v":0},{"$f":"IFERROR($E46*SUMIF('Daily Log'!$AO$18:$AO$1017,$B46,'Daily Log'!$AP$18:$AP$1017),0)","v":0},{"$f":"IFERROR($E46*SUMIF('Daily Log'!$AR$18:$AR$1017,$B46,'Daily Log'!$AS$18:$AS$1017),0)","v":0},{"$f":"IFERROR($E46*SUMIF('Daily Log'!$AU$18:$AU$1017,$B46,'Daily Log'!$AV$18:$AV$1017),0)","v":0},{"$f":"IFERROR($E46*SUMIF('Daily Log'!$AX$18:$AX$1017,$B46,'Daily Log'!$AY$18:$AY$1017),0)","v":0},{"$f":"IFERROR($E46*SUMIF('Daily Log'!$BA$18:$BA$1017,$B46,'Daily Log'!$BB$18:$BB$1017),0)","v":0},{"$f":"IFERROR($E46*SUMIF('Daily Log'!$BD$18:$BD$1017,$B46,'Daily Log'!$BE$18:$BE$1017),0)","v":0},{"$f":"IFERROR($E46*SUMIF('Daily Log'!$BG$18:$BG$1017,$B46,'Daily Log'!$BH$18:$BH$1017),0)","v":0},{"$f":"IFERROR($E46*SUMIF('Daily Log'!$BJ$18:$BJ$1017,$B46,'Daily Log'!$BK$18:$BK$1017),0)","v":0},{"$f":"IFERROR($E46*SUMIF('Daily Log'!$BM$18:$BM$1017,$B46,'Daily Log'!$BN$18:$BN$1017),0)","v":0},{"$f":"IFERROR($E46*SUMIF('Daily Log'!$BP$18:$BP$1017,$B46,'Daily Log'!$BQ$18:$BQ$1017),0)","v":0},{"$f":"IFERROR($E46*SUMIF('Daily Log'!$BS$18:$BS$1017,$B46,'Daily Log'!$BT$18:$BT$1017),0)","v":0},{"$f":"IFERROR($E46*SUMIF('Daily Log'!$BV$18:$BV$1017,$B46,'Daily Log'!$BW$18:$BW$1017),0)","v":0},{"$f":"IFERROR($E46*SUMIF('Daily Log'!$BY$18:$BY$1017,$B46,'Daily Log'!$BZ$18:$BZ$1017),0)","v":0},{"$f":"IFERROR($E46*SUMIF('Daily Log'!$CB$18:$CB$1017,$B46,'Daily Log'!$CC$18:$CC$1017),0)","v":0},{"$f":"IFERROR($E46*SUMIF('Daily Log'!$CE$18:$CE$1017,$B46,'Daily Log'!$CF$18:$CF$1017),0)","v":0},{"$f":"IFERROR($E46*SUMIF('Daily Log'!$CH$18:$CH$1017,$B46,'Daily Log'!$CI$18:$CI$1017),0)","v":0},{"$f":"IFERROR($E46*SUMIF('Daily Log'!$CK$18:$CK$1017,$B46,'Daily Log'!$CL$18:$CL$1017),0)","v":56},{"$f":"IFERROR($E46*SUMIF('Daily Log'!$CN$18:$CN$1017,$B46,'Daily Log'!$CO$18:$CO$1017),0)","v":0}]
[null,"LC05 1105:BUTTER CHK",null,null,1,71,{"$f":"IFERROR($E47*SUMIF('Daily Log'!$B$18:$B$1017,$B47,'Daily Log'!$C$18:$C$1017),0)","v":0},{"$f":"IFERROR($E47*SUMIF('Daily Log'!$E$18:$E$1017,$B47,'Daily Log'!$F$18:$F$1017),0)","v":0},{"$f":"IFERROR($E47*SUMIF('Daily Log'!$H$18:$H$1017,$B47,'Daily Log'!$I$18:$I$1017),0)","v":0},{"$f":"IFERROR($E47*SUMIF('Daily Log'!$K$18:$K$1017,$B47,'Daily Log'!$L$18:$L$1017),0)","v":0},{"$f":"IFERROR($E47*SUMIF('Daily Log'!$N$18:$N$1017,$B47,'Daily Log'!$O$18:$O$1017),0)","v":0},{"$f":"IFERROR($E47*SUMIF('Daily Log'!$Q$18:$Q$1017,$B47,'Daily Log'!$R$18:$R$1017),0)","v":0},{"$f":"IFERROR($E47*SUMIF('Daily Log'!$T$18:$T$1017,$B47,'Daily Log'!$U$18:$U$1017),0)","v":0},{"$f":"IFERROR($E47*SUMIF('Daily Log'!$W$18:$W$1017,$B47,'Daily Log'!$X$18:$X$1017),0)","v":0},{"$f":"IFERROR($E47*SUMIF('Daily Log'!$Z$18:$Z$1017,$B47,'Daily Log'!$AA$18:$AA$1017),0)","v":0},{"$f":"IFERROR($E47*SUMIF('Daily Log'!$AC$18:$AC$1017,$B47,'Daily Log'!$AD$18:$AD$1017),0)","v":0},{"$f":"IFERROR($E47*SUMIF('Daily Log'!$AF$18:$AF$1017,$B47,'Daily Log'!$AG$18:$AG$1017),0)","v":0},{"$f":"IFERROR($E47*SUMIF('Daily Log'!$AI$18:$AI$1017,$B47,'Daily Log'!$AJ$18:$AJ$1017),0)","v":0},{"$f":"IFERROR($E47*SUMIF('Daily Log'!$AL$18:$AL$1017,$B47,'Daily Log'!$AM$18:$AM$1017),0)","v":0},{"$f":"IFERROR($E47*SUMIF('Daily Log'!$AO$18:$AO$1017,$B47,'Daily Log'!$AP$18:$AP$1017),0)","v":0},{"$f":"IFERROR($E47*SUMIF('Daily Log'!$AR$18:$AR$1017,$B47,'Daily Log'!$AS$18:$AS$1017),0)","v":0},{"$f":"IFERROR($E47*SUMIF('Daily Log'!$AU$18:$AU$1017,$B47,'Daily Log'!$AV$18:$AV$1017),0)","v":0},{"$f":"IFERROR($E47*SUMIF('Daily Log'!$AX$18:$AX$1017,$B47,'Daily Log'!$AY$18:$AY$1017),0)","v":0},{"$f":"IFERROR($E47*SUMIF('Daily Log'!$BA$18:$BA$1017,$B47,'Daily Log'!$BB$18:$BB$1017),0)","v":0},{"$f":"IFERROR($E47*SUMIF('Daily Log'!$BD$18:$BD$1017,$B47,'Daily Log'!$BE$18:$BE$1017),0)","v":0},{"$f":"IFERROR($E47*SUMIF('Daily Log'!$BG$18:$BG$1017,$B47,'Daily Log'!$BH$18:$BH$1017),0)","v":0},{"$f":"IFERROR($E47*SUMIF('Daily Log'!$BJ$18:$BJ$1017,$B47,'Daily Log'!$BK$18:$BK$1017),0)","v":0},{"$f":"IFERROR($E47*SUMIF('Daily Log'!$BM$18:$BM$1017,$B47,'Daily Log'!$BN$18:$BN$1017),0)","v":0},{"$f":"IFERROR($E47*SUMIF('Daily Log'!$BP$18:$BP$1017,$B47,'Daily Log'!$BQ$18:$BQ$1017),0)","v":0},{"$f":"IFERROR($E47*SUMIF('Daily Log'!$BS$18:$BS$1017,$B47,'Daily Log'!$BT$18:$BT$1017),0)","v":0},{"$f":"IFERROR($E47*SUMIF('Daily Log'!$BV$18:$BV$1017,$B47,'Daily Log'!$BW$18:$BW$1017),0)","v":0},{"$f":"IFERROR($E47*SUMIF('Daily Log'!$BY$18:$BY$1017,$B47,'Daily Log'!$BZ$18:$BZ$1017),0)","v":0},{"$f":"IFERROR($E47*SUMIF('Daily Log'!$CB$18:$CB$1017,$B47,'Daily Log'!$CC$18:$CC$1017),0)","v":0},{"$f":"IFERROR($E47*SUMIF('Daily Log'!$CE$18:$CE$1017,$B47,'Daily Log'!$CF$18:$CF$1017),0)","v":0},{"$f":"IFERROR($E47*SUMIF('Daily Log'!$CH$18:$CH$1017,$B47,'Daily Log'!$CI$18:$CI$1017),0)","v":0},{"$f":"IFERROR($E47*SUMIF('Daily Log'!$CK$18:$CK$1017,$B47,'Daily Log'!$CL$18:$CL$1017),0)","v":71},{"$f":"IFERROR($E47*SUMIF('Daily Log'!$CN$18:$CN$1017,$B47,'Daily Log'!$CO$18:$CO$1017),0)","v":0}]
[null,"LC17 1117:THAI FSH",null,null,1,16,{"$f":"IFERROR($E48*SUMIF('Daily Log'!$B$18:$B$1017,$B48,'Daily Log'!$C$18:$C$1017),0)","v":0},{"$f":"IFERROR($E48*SUMIF('Daily Log'!$E$18:$E$1017,$B48,'Daily Log'!$F$18:$F$1017),0)","v":0},{"$f":"IFERROR($E48*SUMIF('Daily Log'!$H$18:$H$1017,$B48,'Daily Log'!$I$18:$I$1017),0)","v":0},{"$f":"IFERROR($E48*SUMIF('Daily Log'!$K$18:$K$1017,$B48,'Daily Log'!$L$18:$L$1017),0)","v":0},{"$f":"IFERROR($E48*SUMIF('Daily Log'!$N$18:$N$1017,$B48,'Daily Log'!$O$18:$O$1017),0)","v":0},{"$f":"IFERROR($E48*SUMIF('Daily Log'!$Q$18:$Q$1017,$B48,'Daily Log'!$R$18:$R$1017),0)","v":0},{"$f":"IFERROR($E48*SUMIF('Daily Log'!$T$18:$T$1017,$B48,'Daily Log'!$U$18:$U$1017),0)","v":0},{"$f":"IFERROR($E48*SUMIF('Daily Log'!$W$18:$W$1017,$B48,'Daily Log'!$X$18:$X$1017),0)","v":0},{"$f":"IFERROR($E48*SUMIF('Daily Log'!$Z$18:$Z$1017,$B48,'Daily Log'!$AA$18:$AA$1017),0)","v":0},{"$f":"IFERROR($E48*SUMIF('Daily Log'!$AC$18:$AC$1017,$B48,'Daily Log'!$AD$18:$AD$1017),0)","v":0},{"$f":"IFERROR($E48*SUMIF('Daily Log'!$AF$18:$AF$1017,$B48,'Daily Log'!$AG$18:$AG$1017),0)","v":0},{"$f":"IFERROR($E48*SUMIF('Daily Log'!$AI$18:$AI$1017,$B48,'Daily Log'!$AJ$18:$AJ$1017),0)","v":0},{"$f":"IFERROR($E48*SUMIF('Daily Log'!$AL$18:$AL$1017,$B48,'Daily Log'!$AM$18:$AM$1017),0)","v":0},{"$f":"IFERROR($E48*SUMIF('Daily Log'!$AO$18:$AO$1017,$B48,'Daily Log'!$AP$18:$AP$1017),0)","v":0},{"$f":"IFERROR($E48*SUMIF('Daily Log'!$AR$18:$AR$1017,$B48,'Daily Log'!$AS$18:$AS$1017),0)","v":0},{"$f":"IFERROR($E48*SUMIF('Daily Log'!$AU$18:$AU$1017,$B48,'Daily Log'!$AV$18:$AV$1017),0)","v":0},{"$f":"IFERROR($E48*SUMIF('Daily Log'!$AX$18:$AX$1017,$B48,'Daily Log'!$AY$18:$AY$1017),0)","v":0},{"$f":"IFERROR($E48*SUMIF('Daily Log'!$BA$18:$BA$1017,$B48,'Daily Log'!$BB$18:$BB$1017),0)","v":0},{"$f":"IFERROR($E48*SUMIF('Daily Log'!$BD$18:$BD$1017,$B48,'Daily Log'!$BE$18:$BE$1017),0)","v":0},{"$f":"IFERROR($E48*SUMIF('Daily Log'!$BG$18:$BG$1017,$B48,'Daily Log'!$BH$18:$BH$1017),0)","v":0},{"$f":"IFERROR($E48*SUMIF('Daily Log'!$BJ$18:$BJ$1017,$B48,'Daily Log'!$BK$18:$BK$1017),0)","v":0},{"$f":"IFERROR($E48*SUMIF('Daily Log'!$BM$18:$BM$1017,$B48,'Daily Log'!$BN$18:$BN$1017),0)","v":0},{"$f":"IFERROR($E48*SUMIF('Daily Log'!$BP$18:$BP$1017,$B48,'Daily Log'!$BQ$18:$BQ$1017),0)","v":0},{"$f":"IFERROR($E48*SUMIF('Daily Log'!$BS$18:$BS$1017,$B48,'Daily Log'!$BT$18:$BT$1017),0)","v":0},{"$f":"IFERROR($E48*SUMIF('Daily Log'!$BV$18:$BV$1017,$B48,'Daily Log'!$BW$18:$BW$1017),0)","v":0},{"$f":"IFERROR($E48*SUMIF('Daily Log'!$BY$18:$BY$1017,$B48,'Daily Log'!$BZ$18:$BZ$1017),0)","v":0},{"$f":"IFERROR($E48*SUMIF('Daily Log'!$CB$18:$CB$1017,$B48,'Daily Log'!$CC$18:$CC$1017),0)","v":0},{"$f":"IFERROR($E48*SUMIF('Daily Log'!$CE$18:$CE$1017,$B48,'Daily Log'!$CF$18:$CF$1017),0)","v":0},{"$f":"IFERROR($E48*SUMIF('Daily Log'!$CH$18:$CH$1017,$B48,'Daily Log'!$CI$18:$CI$1017),0)","v":0},{"$f":"IFERROR($E48*SUMIF('Daily Log'!$CK$18:$CK$1017,$B48,'Daily Log'!$CL$18:$CL$1017),0)","v":16},{"$f":"IFERROR($E48*SUMIF('Daily Log'!$CN$18:$CN$1017,$B48,'Daily Log'!$CO$18:$CO$1017),0)","v":0}]
[null,"LC18 1118:MAMITE FSH",null,null,1,15,{"$f":"IFERROR($E49*SUMIF('Daily Log'!$B$18:$B$1017,$B49,'Daily Log'!$C$18:$C$1017),0)","v":0},{"$f":"IFERROR($E49*SUMIF('Daily Log'!$E$18:$E$1017,$B49,'Daily Log'!$F$18:$F$1017),0)","v":0},{"$f":"IFERROR($E49*SUMIF('Daily Log'!$H$18:$H$1017,$B49,'Daily Log'!$I$18:$I$1017),0)","v":0},{"$f":"IFERROR($E49*SUMIF('Daily Log'!$K$18:$K$1017,$B49,'Daily Log'!$L$18:$L$1017),0)","v":0},{"$f":"IFERROR($E49*SUMIF('Daily Log'!$N$18:$N$1017,$B49,'Daily Log'!$O$18:$O$1017),0)","v":0},{"$f":"IFERROR($E49*SUMIF('Daily Log'!$Q$18:$Q$1017,$B49,'Daily Log'!$R$18:$R$1017),0)","v":0},{"$f":"IFERROR($E49*SUMIF('Daily Log'!$T$18:$T$1017,$B49,'Daily Log'!$U$18:$U$1017),0)","v":0},{"$f":"IFERROR($E49*SUMIF('Daily Log'!$W$18:$W$1017,$B49,'Daily Log'!$X$18:$X$1017),0)","v":0},{"$f":"IFERROR($E49*SUMIF('Daily Log'!$Z$18:$Z$1017,$B49,'Daily Log'!$AA$18:$AA$1017),0)","v":0},{"$f":"IFERROR($E49*SUMIF('Daily Log'!$AC$18:$AC$1017,$B49,'Daily Log'!$AD$18:$AD$1017),0)","v":0},{"$f":"IFERROR($E49*SUMIF('Daily Log'!$AF$18:$AF$1017,$B49,'Daily Log'!$AG$18:$AG$1017),0)","v":0},{"$f":"IFERROR($E49*SUMIF('Daily Log'!$AI$18:$AI$1017,$B49,'Daily Log'!$AJ$18:$AJ$1017),0)","v":0},{"$f":"IFERROR($E49*SUMIF('Daily Log'!$AL$18:$AL$1017,$B49,'Daily Log'!$AM$18:$AM$1017),0)","v":0},{"$f":"IFERROR($E49*SUMIF('Daily Log'!$AO$18:$AO$1017,$B49,'Daily Log'!$AP$18:$AP$1017),0)","v":0},{"$f":"IFERROR($E49*SUMIF('Daily Log'!$AR$18:$AR$1017,$B49,'Daily Log'!$AS$18:$AS$1017),0)","v":0},{"$f":"IFERROR($E49*SUMIF('Daily Log'!$AU$18:$AU$1017,$B49,'Daily Log'!$AV$18:$AV$1017),0)","v":0},{"$f":"IFERROR($E49*SUMIF('Daily Log'!$AX$18:$AX$1017,$B49,'Daily Log'!$AY$18:$AY$1017),0)","v":0},{"$f":"IFERROR($E49*SUMIF('Daily Log'!$BA$18:$BA$1017,$B49,'Daily Log'!$BB$18:$BB$1017),0)","v":0},{"$f":"IFERROR($E49*SUMIF('Daily Log'!$BD$18:$BD$1017,$B49,'Daily Log'!$BE$18:$BE$1017),0)","v":0},{"$f":"IFERROR($E49*SUMIF('Daily Log'!$BG$18:$BG$1017,$B49,'Daily Log'!$BH$18:$BH$1017),0)","v":0},{"$f":"IFERROR($E49*SUMIF('Daily Log'!$BJ$18:$BJ$1017,$B49,'Daily Log'!$BK$18:$BK$1017),0)","v":0},{"$f":"IFERROR($E49*SUMIF('Daily Log'!$BM$18:$BM$1017,$B49,'Daily Log'!$BN$18:$BN$1017),0)","v":0},{"$f":"IFERROR($E49*SUMIF('Daily Log'!$BP$18:$BP$1017,$B49,'Daily Log'!$BQ$18:$BQ$1017),0)","v":0},{"$f":"IFERROR($E49*SUMIF('Daily Log'!$BS$18:$BS$1017,$B49,'Daily Log'!$BT$18:$BT$1017),0)","v":0},{"$f":"IFERROR($E49*SUMIF('Daily Log'!$BV$18:$BV$1017,$B49,'Daily Log'!$BW$18:$BW$1017),0)","v":0},{"$f":"IFERROR($E49*SUMIF('Daily Log'!$BY$18:$BY$1017,$B49,'Daily Log'!$BZ$18:$BZ$1017),0)","v":0},{"$f":"IFERROR($E49*SUMIF('Daily Log'!$CB$18:$CB$1017,$B49,'Daily Log'!$CC$18:$CC$1017),0)","v":0},{"$f":"IFERROR($E49*SUMIF('Daily Log'!$CE$18:$CE$1017,$B49,'Daily Log'!$CF$18:$CF$1017),0)","v":0},{"$f":"IFERROR($E49*SUMIF('Daily Log'!$CH$18:$CH$1017,$B49,'Daily Log'!$CI$18:$CI$1017),0)","v":0},{"$f":"IFERROR($E49*SUMIF('Daily Log'!$CK$18:$CK$1017,$B49,'Daily Log'!$CL$18:$CL$1017),0)","v":15},{"$f":"IFERROR($E49*SUMIF('Daily Log'!$CN$18:$CN$1017,$B49,'Daily Log'!$CO$18:$CO$1017),0)","v":0}]
[null,"LC19 1119:BUTTER FSH",null,null,1,22,{"$f":"IFERROR($E50*SUMIF('Daily Log'!$B$18:$B$1017,$B50,'Daily Log'!$C$18:$C$1017),0)","v":0},{"$f":"IFERROR($E50*SUMIF('Daily Log'!$E$18:$E$1017,$B50,'Daily Log'!$F$18:$F$1017),0)","v":0},{"$f":"IFERROR($E50*SUMIF('Daily Log'!$H$18:$H$1017,$B50,'Daily Log'!$I$18:$I$1017),0)","v":0},{"$f":"IFERROR($E50*SUMIF('Daily Log'!$K$18:$K$1017,$B50,'Daily Log'!$L$18:$L$1017),0)","v":0},{"$f":"IFERROR($E50*SUMIF('Daily Log'!$N$18:$N$1017,$B50,'Daily Log'!$O$18:$O$1017),0)","v":0},{"$f":"IFERROR($E50*SUMIF('Daily Log'!$Q$18:$Q$1017,$B50,'Daily Log'!$R$18:$R$1017),0)","v":0},{"$f":"IFERROR($E50*SUMIF('Daily Log'!$T$18:$T$1017,$B50,'Daily Log'!$U$18:$U$1017),0)","v":0},{"$f":"IFERROR($E50*SUMIF('Daily Log'!$W$18:$W$1017,$B50,'Daily Log'!$X$18:$X$1017),0)","v":0},{"$f":"IFERROR($E50*SUMIF('Daily Log'!$Z$18:$Z$1017,$B50,'Daily Log'!$AA$18:$AA$1017),0)","v":0},{"$f":"IFERROR($E50*SUMIF('Daily Log'!$AC$18:$AC$1017,$B50,'Daily Log'!$AD$18:$AD$1017),0)","v":0},{"$f":"IFERROR($E50*SUMIF('Daily Log'!$AF$18:$AF$1017,$B50,'Daily Log'!$AG$18:$AG$1017),0)","v":0},{"$f":"IFERROR($E50*SUMIF('Daily Log'!$AI$18:$AI$1017,$B50,'Daily Log'!$AJ$18:$AJ$1017),0)","v":0},{"$f":"IFERROR($E50*SUMIF('Daily Log'!$AL$18:$AL$1017,$B50,'Daily Log'!$AM$18:$AM$1017),0)","v":0},{"$f":"IFERROR($E50*SUMIF('Daily Log'!$AO$18:$AO$1017,$B50,'Daily Log'!$AP$18:$AP$1017),0)","v":0},{"$f":"IFERROR($E50*SUMIF('Daily Log'!$AR$18:$AR$1017,$B50,'Daily Log'!$AS$18:$AS$1017),0)","v":0},{"$f":"IFERROR($E50*SUMIF('Daily Log'!$AU$18:$AU$1017,$B50,'Daily Log'!$AV$18:$AV$1017),0)","v":0},{"$f":"IFERROR($E50*SUMIF('Daily Log'!$AX$18:$AX$1017,$B50,'Daily Log'!$AY$18:$AY$1017),0)","v":0},{"$f":"IFERROR($E50*SUMIF('Daily Log'!$BA$18:$BA$1017,$B50,'Daily Log'!$BB$18:$BB$1017),0)","v":0},{"$f":"IFERROR($E50*SUMIF('Daily Log'!$BD$18:$BD$1017,$B50,'Daily Log'!$BE$18:$BE$1017),0)","v":0},{"$f":"IFERROR($E50*SUMIF('Daily Log'!$BG$18:$BG$1017,$B50,'Daily Log'!$BH$18:$BH$1017),0)","v":0},{"$f":"IFERROR($E50*SUMIF('Daily Log'!$BJ$18:$BJ$1017,$B50,'Daily Log'!$BK$18:$BK$1017),0)","v":0},{"$f":"IFERROR($E50*SUMIF('Daily Log'!$BM$18:$BM$1017,$B50,'Daily Log'!$BN$18:$BN$1017),0)","v":0},{"$f":"IFERROR($E50*SUMIF('Daily Log'!$BP$18:$BP$1017,$B50,'Daily Log'!$BQ$18:$BQ$1017),0)","v":0},{"$f":"IFERROR($E50*SUMIF('Daily Log'!$BS$18:$BS$1017,$B50,'Daily Log'!$BT$18:$BT$1017),0)","v":0},{"$f":"IFERROR($E50*SUMIF('Daily Log'!$BV$18:$BV$1017,$B50,'Daily Log'!$BW$18:$BW$1017),0)","v":0},{"$f":"IFERROR($E50*SUMIF('Daily Log'!$BY$18:$BY$1017,$B50,'Daily Log'!$BZ$18:$BZ$1017),0)","v":0},{"$f":"IFERROR($E50*SUMIF('Daily Log'!$CB$18:$CB$1017,$B50,'Daily Log'!$CC$18:$CC$1017),0)","v":0},{"$f":"IFERROR($E50*SUMIF('Daily Log'!$CE$18:$CE$1017,$B50,'Daily Log'!$CF$18:$CF$1017),0)","v":0},{"$f":"IFERROR($E50*SUMIF('Daily Log'!$CH$18:$CH$1017,$B50,'Daily Log'!$CI$18:$CI$1017),0)","v":0},{"$f":"IFERROR($E50*SUMIF('Daily Log'!$CK$18:$CK$1017,$B50,'Daily Log'!$CL$18:$CL$1017),0)","v":22},{"$f":"IFERROR($E50*SUMIF('Daily Log'!$CN$18:$CN$1017,$B50,'Daily Log'!$CO$18:$CO$1017),0)","v":0}]
[null,"LF01 91101:THAI CHK",null,null,1,71,{"$f":"IFERROR($E51*SUMIF('Daily Log'!$B$18:$B$1017,$B51,'Daily Log'!$C$18:$C$1017),0)","v":0},{"$f":"IFERROR($E51*SUMIF('Daily Log'!$E$18:$E$1017,$B51,'Daily Log'!$F$18:$F$1017),0)","v":0},{"$f":"IFERROR($E51*SUMIF('Daily Log'!$H$18:$H$1017,$B51,'Daily Log'!$I$18:$I$1017),0)","v":0},{"$f":"IFERROR($E51*SUMIF('Daily Log'!$K$18:$K$1017,$B51,'Daily Log'!$L$18:$L$1017),0)","v":0},{"$f":"IFERROR($E51*SUMIF('Daily Log'!$N$18:$N$1017,$B51,'Daily Log'!$O$18:$O$1017),0)","v":0},{"$f":"IFERROR($E51*SUMIF('Daily Log'!$Q$18:$Q$1017,$B51,'Daily Log'!$R$18:$R$1017),0)","v":0},{"$f":"IFERROR($E51*SUMIF('Daily Log'!$T$18:$T$1017,$B51,'Daily Log'!$U$18:$U$1017),0)","v":0},{"$f":"IFERROR($E51*SUMIF('Daily Log'!$W$18:$W$1017,$B51,'Daily Log'!$X$18:$X$1017),0)","v":0},{"$f":"IFERROR($E51*SUMIF('Daily Log'!$Z$18:$Z$1017,$B51,'Daily Log'!$AA$18:$AA$1017),0)","v":0},{"$f":"IFERROR($E51*SUMIF('Daily Log'!$AC$18:$AC$1017,$B51,'Daily Log'!$AD$18:$AD$1017),0)","v":0},{"$f":"IFERROR($E51*SUMIF('Daily Log'!$AF$18:$AF$1017,$B51,'Daily Log'!$AG$18:$AG$1017),0)","v":0},{"$f":"IFERROR($E51*SUMIF('Daily Log'!$AI$18:$AI$1017,$B51,'Daily Log'!$AJ$18:$AJ$1017),0)","v":0},{"$f":"IFERROR($E51*SUMIF('Daily Log'!$AL$18:$AL$1017,$B51,'Daily Log'!$AM$18:$AM$1017),0)","v":0},{"$f":"IFERROR($E51*SUMIF('Daily Log'!$AO$18:$AO$1017,$B51,'Daily Log'!$AP$18:$AP$1017),0)","v":0},{"$f":"IFERROR($E51*SUMIF('Daily Log'!$AR$18:$AR$1017,$B51,'Daily Log'!$AS$18:$AS$1017),0)","v":0},{"$f":"IFERROR($E51*SUMIF('Daily Log'!$AU$18:$AU$1017,$B51,'Daily Log'!$AV$18:$AV$1017),0)","v":0},{"$f":"IFERROR($E51*SUMIF('Daily Log'!$AX$18:$AX$1017,$B51,'Daily Log'!$AY$18:$AY$1017),0)","v":0},{"$f":"IFERROR($E51*SUMIF('Daily Log'!$BA$18:$BA$1017,$B51,'Daily Log'!$BB$18:$BB$1017),0)","v":0},{"$f":"IFERROR($E51*SUMIF('Daily Log'!$BD$18:$BD$1017,$B51,'Daily Log'!$BE$18:$BE$1017),0)","v":0},{"$f":"IFERROR($E51*SUMIF('Daily Log'!$BG$18:$BG$1017,$B51,'Daily Log'!$BH$18:$BH$1017),0)","v":0},{"$f":"IFERROR($E51*SUMIF('Daily Log'!$BJ$18:$BJ$1017,$B51,'Daily Log'!$BK$18:$BK$1017),0)","v":0},{"$f":"IFERROR($E51*SUMIF('Daily Log'!$BM$18:$BM$1017,$B51,'Daily Log'!$BN$18:$BN$1017),0)","v":0},{"$f":"IFERROR($E51*SUMIF('Daily Log'!$BP$18:$BP$1017,$B51,'Daily Log'!$BQ$18:$BQ$1017),0)","v":0},{"$f":"IFERROR($E51*SUMIF('Daily Log'!$BS$18:$BS$1017,$B51,'Daily Log'!$BT$18:$BT$1017),0)","v":0},{"$f":"IFERROR($E51*SUMIF('Daily Log'!$BV$18:$BV$1017,$B51,'Daily Log'!$BW$18:$BW$1017),0)","v":0},{"$f":"IFERROR($E51*SUMIF('Daily Log'!$BY$18:$BY$1017,$B51,'Daily Log'!$BZ$18:$BZ$1017),0)","v":0},{"$f":"IFERROR($E51*SUMIF('Daily Log'!$CB$18:$CB$1017,$B51,'Daily Log'!$CC$18:$CC$1017),0)","v":0},{"$f":"IFERROR($E51*SUMIF('Daily Log'!$CE$18:$CE$1017,$B51,'Daily Log'!$CF$18:$CF$1017),0)","v":0},{"$f":"IFERROR($E51*SUMIF('Daily Log'!$CH$18:$CH$1017,$B51,'Daily Log'!$CI$18:$CI$1017),0)","v":0},{"$f":"IFERROR($E51*SUMIF('Daily Log'!$CK$18:$CK$1017,$B51,'Daily Log'!$CL$18:$CL$1017),0)","v":71},{"$f":"IFERROR($E51*SUMIF('Daily Log'!$CN$18:$CN$1017,$B51,'Daily Log'!$CO$18:$CO$1017),0)","v":0}]
[null,"LF02 91102:MAMITE CHK",null,null,1,97,{"$f":"IFERROR($E52*SUMIF('Daily Log'!$B$18:$B$1017,$B52,'Daily Log'!$C$18:$C$1017),0)","v":0},{"$f":"IFERROR($E52*SUMIF('Daily Log'!$E$18:$E$1017,$B52,'Daily Log'!$F$18:$F$1017),0)","v":0},{"$f":"IFERROR($E52*SUMIF('Daily Log'!$H$18:$H$1017,$B52,'Daily Log'!$I$18:$I$1017),0)","v":0},{"$f":"IFERROR($E52*SUMIF('Daily Log'!$K$18:$K$1017,$B52,'Daily Log'!$L$18:$L$1017),0)","v":0},{"$f":"IFERROR($E52*SUMIF('Daily Log'!$N$18:$N$1017,$B52,'Daily Log'!$O$18:$O$1017),0)","v":0},{"$f":"IFERROR($E52*SUMIF('Daily Log'!$Q$18:$Q$1017,$B52,'Daily Log'!$R$18:$R$1017),0)","v":0},{"$f":"IFERROR($E52*SUMIF('Daily Log'!$T$18:$T$1017,$B52,'Daily Log'!$U$18:$U$1017),0)","v":0},{"$f":"IFERROR($E52*SUMIF('Daily Log'!$W$18:$W$1017,$B52,'Daily Log'!$X$18:$X$1017),0)","v":0},{"$f":"IFERROR($E52*SUMIF('Daily Log'!$Z$18:$Z$1017,$B52,'Daily Log'!$AA$18:$AA$1017),0)","v":0},{"$f":"IFERROR($E52*SUMIF('Daily Log'!$AC$18:$AC$1017,$B52,'Daily Log'!$AD$18:$AD$1017),0)","v":0},{"$f":"IFERROR($E52*SUMIF('Daily Log'!$AF$18:$AF$1017,$B52,'Daily Log'!$AG$18:$AG$1017),0)","v":0},{"$f":"IFERROR($E52*SUMIF('Daily Log'!$AI$18:$AI$1017,$B52,'Daily Log'!$AJ$18:$AJ$1017),0)","v":0},{"$f":"IFERROR($E52*SUMIF('Daily Log'!$AL$18:$AL$1017,$B52,'Daily Log'!$AM$18:$AM$1017),0)","v":0},{"$f":"IFERROR($E52*SUMIF('Daily Log'!$AO$18:$AO$1017,$B52,'Daily Log'!$AP$18:$AP$1017),0)","v":0},{"$f":"IFERROR($E52*SUMIF('Daily Log'!$AR$18:$AR$1017,$B52,'Daily Log'!$AS$18:$AS$1017),0)","v":0},{"$f":"IFERROR($E52*SUMIF('Daily Log'!$AU$18:$AU$1017,$B52,'Daily Log'!$AV$18:$AV$1017),0)","v":0},{"$f":"IFERROR($E52*SUMIF('Daily Log'!$AX$18:$AX$1017,$B52,'Daily Log'!$AY$18:$AY$1017),0)","v":0},{"$f":"IFERROR($E52*SUMIF('Daily Log'!$BA$18:$BA$1017,$B52,'Daily Log'!$BB$18:$BB$1017),0)","v":0},{"$f":"IFERROR($E52*SUMIF('Daily Log'!$BD$18:$BD$1017,$B52,'Daily Log'!$BE$18:$BE$1017),0)","v":0},{"$f":"IFERROR($E52*SUMIF('Daily Log'!$BG$18:$BG$1017,$B52,'Daily Log'!$BH$18:$BH$1017),0)","v":0},{"$f":"IFERROR($E52*SUMIF('Daily Log'!$BJ$18:$BJ$1017,$B52,'Daily Log'!$BK$18:$BK$1017),0)","v":0},{"$f":"IFERROR($E52*SUMIF('Daily Log'!$BM$18:$BM$1017,$B52,'Daily Log'!$BN$18:$BN$1017),0)","v":0},{"$f":"IFERROR($E52*SUMIF('Daily Log'!$BP$18:$BP$1017,$B52,'Daily Log'!$BQ$18:$BQ$1017),0)","v":0},{"$f":"IFERROR($E52*SUMIF('Daily Log'!$BS$18:$BS$1017,$B52,'Daily Log'!$BT$18:$BT$1017),0)","v":0},{"$f":"IFERROR($E52*SUMIF('Daily Log'!$BV$18:$BV$1017,$B52,'Daily Log'!$BW$18:$BW$1017),0)","v":0},{"$f":"IFERROR($E52*SUMIF('Daily Log'!$BY$18:$BY$1017,$B52,'Daily Log'!$BZ$18:$BZ$1017),0)","v":0},{"$f":"IFERROR($E52*SUMIF('Daily Log'!$CB$18:$CB$1017,$B52,'Daily Log'!$CC$18:$CC$1017),0)","v":0},{"$f":"IFERROR($E52*SUMIF('Daily Log'!$CE$18:$CE$1017,$B52,'Daily Log'!$CF$18:$CF$1017),0)","v":0},{"$f":"IFERROR($E52*SUMIF('Daily Log'!$CH$18:$CH$1017,$B52,'Daily Log'!$CI$18:$CI$1017),0)","v":0},{"$f":"IFERROR($E52*SUMIF('Daily Log'!$CK$18:$CK$1017,$B52,'Daily Log'!$CL$18:$CL$1017),0)","v":97},{"$f":"IFERROR($E52*SUMIF('Daily Log'!$CN$18:$CN$1017,$B52,'Daily Log'!$CO$18:$CO$1017),0)","v":0}]
[null,"LF05 91105:BUTTER CHK",null,null,1,116,{"$f":"IFERROR($E53*SUMIF('Daily Log'!$B$18:$B$1017,$B53,'Daily Log'!$C$18:$C$1017),0)","v":0},{"$f":"IFERROR($E53*SUMIF('Daily Log'!$E$18:$E$1017,$B53,'Daily Log'!$F$18:$F$1017),0)","v":0},{"$f":"IFERROR($E53*SUMIF('Daily Log'!$H$18:$H$1017,$B53,'Daily Log'!$I$18:$I$1017),0)","v":0},{"$f":"IFERROR($E53*SUMIF('Daily Log'!$K$18:$K$1017,$B53,'Daily Log'!$L$18:$L$1017),0)","v":0},{"$f":"IFERROR($E53*SUMIF('Daily Log'!$N$18:$N$1017,$B53,'Daily Log'!$O$18:$O$1017),0)","v":0},{"$f":"IFERROR($E53*SUMIF('Daily Log'!$Q$18:$Q$1017,$B53,'Daily Log'!$R$18:$R$1017),0)","v":0},{"$f":"IFERROR($E53*SUMIF('Daily Log'!$T$18:$T$1017,$B53,'Daily Log'!$U$18:$U$1017),0)","v":0},{"$f":"IFERROR($E53*SUMIF('Daily Log'!$W$18:$W$1017,$B53,'Daily Log'!$X$18:$X$1017),0)","v":0},{"$f":"IFERROR($E53*SUMIF('Daily Log'!$Z$18:$Z$1017,$B53,'Daily Log'!$AA$18:$AA$1017),0)","v":0},{"$f":"IFERROR($E53*SUMIF('Daily Log'!$AC$18:$AC$1017,$B53,'Daily Log'!$AD$18:$AD$1017),0)","v":0},{"$f":"IFERROR($E53*SUMIF('Daily Log'!$AF$18:$AF$1017,$B53,'Daily Log'!$AG$18:$AG$1017),0)","v":0},{"$f":"IFERROR($E53*SUMIF('Daily Log'!$AI$18:$AI$1017,$B53,'Daily Log'!$AJ$18:$AJ$1017),0)","v":0},{"$f":"IFERROR($E53*SUMIF('Daily Log'!$AL$18:$AL$1017,$B53,'Daily Log'!$AM$18:$AM$1017),0)","v":0},{"$f":"IFERROR($E53*SUMIF('Daily Log'!$AO$18:$AO$1017,$B53,'Daily Log'!$AP$18:$AP$1017),0)","v":0},{"$f":"IFERROR($E53*SUMIF('Daily Log'!$AR$18:$AR$1017,$B53,'Daily Log'!$AS$18:$AS$1017),0)","v":0},{"$f":"IFERROR($E53*SUMIF('Daily Log'!$AU$18:$AU$1017,$B53,'Daily Log'!$AV$18:$AV$1017),0)","v":0},{"$f":"IFERROR($E53*SUMIF('Daily Log'!$AX$18:$AX$1017,$B53,'Daily Log'!$AY$18:$AY$1017),0)","v":0},{"$f":"IFERROR($E53*SUMIF('Daily Log'!$BA$18:$BA$1017,$B53,'Daily Log'!$BB$18:$BB$1017),0)","v":0},{"$f":"IFERROR($E53*SUMIF('Daily Log'!$BD$18:$BD$1017,$B53,'Daily Log'!$BE$18:$BE$1017),0)","v":0},{"$f":"IFERROR($E53*SUMIF('Daily Log'!$BG$18:$BG$1017,$B53,'Daily Log'!$BH$18:$BH$1017),0)","v":0},{"$f":"IFERROR($E53*SUMIF('Daily Log'!$BJ$18:$BJ$1017,$B53,'Daily Log'!$BK$18:$BK$1017),0)","v":0},{"$f":"IFERROR($E53*SUMIF('Daily Log'!$BM$18:$BM$1017,$B53,'Daily Log'!$BN$18:$BN$1017),0)","v":0},{"$f":"IFERROR($E53*SUMIF('Daily Log'!$BP$18:$BP$1017,$B53,'Daily Log'!$BQ$18:$BQ$1017),0)","v":0},{"$f":"IFERROR($E53*SUMIF('Daily Log'!$BS$18:$BS$1017,$B53,'Daily Log'!$BT$18:$BT$1017),0)","v":0},{"$f":"IFERROR($E53*SUMIF('Daily Log'!$BV$18:$BV$1017,$B53,'Daily Log'!$BW$18:$BW$1017),0)","v":0},{"$f":"IFERROR($E53*SUMIF('Daily Log'!$BY$18:$BY$1017,$B53,'Daily Log'!$BZ$18:$BZ$1017),0)","v":0},{"$f":"IFERROR($E53*SUMIF('Daily Log'!$CB$18:$CB$1017,$B53,'Daily Log'!$CC$18:$CC$1017),0)","v":0},{"$f":"IFERROR($E53*SUMIF('Daily Log'!$CE$18:$CE$1017,$B53,'Daily Log'!$CF$18:$CF$1017),0)","v":0},{"$f":"IFERROR($E53*SUMIF('Daily Log'!$CH$18:$CH$1017,$B53,'Daily Log'!$CI$18:$CI$1017),0)","v":0},{"$f":"IFERROR($E53*SUMIF('Daily Log'!$CK$18:$CK$1017,$B53,'Daily Log'!$CL$18:$CL$1017),0)","v":116},{"$f":"IFERROR($E53*SUMIF('Daily Log'!$CN$18:$CN$1017,$B53,'Daily Log'!$CO$18:$CO$1017),0)","v":0}]
[null,"LF17 91117:THAI FSH",null,null,1,29,{"$f":"IFERROR($E54*SUMIF('Daily Log'!$B$18:$B$1017,$B54,'Daily Log'!$C$18:$C$1017),0)","v":0},{"$f":"IFERROR($E54*SUMIF('Daily Log'!$E$18:$E$1017,$B54,'Daily Log'!$F$18:$F$1017),0)","v":0},{"$f":"IFERROR($E54*SUMIF('Daily Log'!$H$18:$H$1017,$B54,'Daily Log'!$I$18:$I$1017),0)","v":0},{"$f":"IFERROR($E54*SUMIF('Daily Log'!$K$18:$K$1017,$B54,'Daily Log'!$L$18:$L$1017),0)","v":0},{"$f":"IFERROR($E54*SUMIF('Daily Log'!$N$18:$N$1017,$B54,'Daily Log'!$O$18:$O$1017),0)","v":0},{"$f":"IFERROR($E54*SUMIF('Daily Log'!$Q$18:$Q$1017,$B54,'Daily Log'!$R$18:$R$1017),0)","v":0},{"$f":"IFERROR($E54*SUMIF('Daily Log'!$T$18:$T$1017,$B54,'Daily Log'!$U$18:$U$1017),0)","v":0},{"$f":"IFERROR($E54*SUMIF('Daily Log'!$W$18:$W$1017,$B54,'Daily Log'!$X$18:$X$1017),0)","v":0},{"$f":"IFERROR($E54*SUMIF('Daily Log'!$Z$18:$Z$1017,$B54,'Daily Log'!$AA$18:$AA$1017),0)","v":0},{"$f":"IFERROR($E54*SUMIF('Daily Log'!$AC$18:$AC$1017,$B54,'Daily Log'!$AD$18:$AD$1017),0)","v":0},{"$f":"IFERROR($E54*SUMIF('Daily Log'!$AF$18:$AF$1017,$B54,'Daily Log'!$AG$18:$AG$1017),0)","v":0},{"$f":"IFERROR($E54*SUMIF('Daily Log'!$AI$18:$AI$1017,$B54,'Daily Log'!$AJ$18:$AJ$1017),0)","v":0},{"$f":"IFERROR($E54*SUMIF('Daily Log'!$AL$18:$AL$1017,$B54,'Daily Log'!$AM$18:$AM$1017),0)","v":0},{"$f":"IFERROR($E54*SUMIF('Daily Log'!$AO$18:$AO$1017,$B54,'Daily Log'!$AP$18:$AP$1017),0)","v":0},{"$f":"IFERROR($E54*SUMIF('Daily Log'!$AR$18:$AR$1017,$B54,'Daily Log'!$AS$18:$AS$1017),0)","v":0},{"$f":"IFERROR($E54*SUMIF('Daily Log'!$AU$18:$AU$1017,$B54,'Daily Log'!$AV$18:$AV$1017),0)","v":0},{"$f":"IFERROR($E54*SUMIF('Daily Log'!$AX$18:$AX$1017,$B54,'Daily Log'!$AY$18:$AY$1017),0)","v":0},{"$f":"IFERROR($E54*SUMIF('Daily Log'!$BA$18:$BA$1017,$B54,'Daily Log'!$BB$18:$BB$1017),0)","v":0},{"$f":"IFERROR($E54*SUMIF('Daily Log'!$BD$18:$BD$1017,$B54,'Daily Log'!$BE$18:$BE$1017),0)","v":0},{"$f":"IFERROR($E54*SUMIF('Daily Log'!$BG$18:$BG$1017,$B54,'Daily Log'!$BH$18:$BH$1017),0)","v":0},{"$f":"IFERROR($E54*SUMIF('Daily Log'!$BJ$18:$BJ$1017,$B54,'Daily Log'!$BK$18:$BK$1017),0)","v":0},{"$f":"IFERROR($E54*SUMIF('Daily Log'!$BM$18:$BM$1017,$B54,'Daily Log'!$BN$18:$BN$1017),0)","v":0},{"$f":"IFERROR($E54*SUMIF('Daily Log'!$BP$18:$BP$1017,$B54,'Daily Log'!$BQ$18:$BQ$1017),0)","v":0},{"$f":"IFERROR($E54*SUMIF('Daily Log'!$BS$18:$BS$1017,$B54,'Daily Log'!$BT$18:$BT$1017),0)","v":0},{"$f":"IFERROR($E54*SUMIF('Daily Log'!$BV$18:$BV$1017,$B54,'Daily Log'!$BW$18:$BW$1017),0)","v":0},{"$f":"IFERROR($E54*SUMIF('Daily Log'!$BY$18:$BY$1017,$B54,'Daily Log'!$BZ$18:$BZ$1017),0)","v":0},{"$f":"IFERROR($E54*SUMIF('Daily Log'!$CB$18:$CB$1017,$B54,'Daily Log'!$CC$18:$CC$1017),0)","v":0},{"$f":"IFERROR($E54*SUMIF('Daily Log'!$CE$18:$CE$1017,$B54,'Daily Log'!$CF$18:$CF$1017),0)","v":0},{"$f":"IFERROR($E54*SUMIF('Daily Log'!$CH$18:$CH$1017,$B54,'Daily Log'!$CI$18:$CI$1017),0)","v":0},{"$f":"IFERROR($E54*SUMIF('Daily Log'!$CK$18:$CK$1017,$B54,'Daily Log'!$CL$18:$CL$1017),0)","v":29},{"$f":"IFERROR($E54*SUMIF('Daily Log'!$CN$18:$CN$1017,$B54,'Daily Log'!$CO$18:$CO$1017),0)","v":0}]
[null,"LF18 91118:MAMITE FSH",null,null,1,36,{"$f":"IFERROR($E55*SUMIF('Daily Log'!$B$18:$B$1017,$B55,'Daily Log'!$C$18:$C$1017),0)","v":0},{"$f":"IFERROR($E55*SUMIF('Daily Log'!$E$18:$E$1017,$B55,'Daily Log'!$F$18:$F$1017),0)","v":0},{"$f":"IFERROR($E55*SUMIF('Daily Log'!$H$18:$H$1017,$B55,'Daily Log'!$I$18:$I$1017),0)","v":0},{"$f":"IFERROR($E55*SUMIF('Daily Log'!$K$18:$K$1017,$B55,'Daily Log'!$L$18:$L$1017),0)","v":0},{"$f":"IFERROR($E55*SUMIF('Daily Log'!$N$18:$N$1017,$B55,'Daily Log'!$O$18:$O$1017),0)","v":0},{"$f":"IFERROR($E55*SUMIF('Daily Log'!$Q$18:$Q$1017,$B55,'Daily Log'!$R$18:$R$1017),0)","v":0},{"$f":"IFERROR($E55*SUMIF('Daily Log'!$T$18:$T$1017,$B55,'Daily Log'!$U$18:$U$1017),0)","v":0},{"$f":"IFERROR($E55*SUMIF('Daily Log'!$W$18:$W$1017,$B55,'Daily Log'!$X$18:$X$1017),0)","v":0},{"$f":"IFERROR($E55*SUMIF('Daily Log'!$Z$18:$Z$1017,$B55,'Daily Log'!$AA$18:$AA$1017),0)","v":0},{"$f":"IFERROR($E55*SUMIF('Daily Log'!$AC$18:$AC$1017,$B55,'Daily Log'!$AD$18:$AD$1017),0)","v":0},{"$f":"IFERROR($E55*SUMIF('Daily Log'!$AF$18:$AF$1017,$B55,'Daily Log'!$AG$18:$AG$1017),0)","v":0},{"$f":"IFERROR($E55*SUMIF('Daily Log'!$AI$18:$AI$1017,$B55,'Daily Log'!$AJ$18:$AJ$1017),0)","v":0},{"$f":"IFERROR($E55*SUMIF('Daily Log'!$AL$18:$AL$1017,$B55,'Daily Log'!$AM$18:$AM$1017),0)","v":0},{"$f":"IFERROR($E55*SUMIF('Daily Log'!$AO$18:$AO$1017,$B55,'Daily Log'!$AP$18:$AP$1017),0)","v":0},{"$f":"IFERROR($E55*SUMIF('Daily Log'!$AR$18:$AR$1017,$B55,'Daily Log'!$AS$18:$AS$1017),0)","v":0},{"$f":"IFERROR($E55*SUMIF('Daily Log'!$AU$18:$AU$1017,$B55,'Daily Log'!$AV$18:$AV$1017),0)","v":0},{"$f":"IFERROR($E55*SUMIF('Daily Log'!$AX$18:$AX$1017,$B55,'Daily Log'!$AY$18:$AY$1017),0)","v":0},{"$f":"IFERROR($E55*SUMIF('Daily Log'!$BA$18:$BA$1017,$B55,'Daily Log'!$BB$18:$BB$1017),0)","v":0},{"$f":"IFERROR($E55*SUMIF('Daily Log'!$BD$18:$BD$1017,$B55,'Daily Log'!$BE$18:$BE$1017),0)","v":0},{"$f":"IFERROR($E55*SUMIF('Daily Log'!$BG$18:$BG$1017,$B55,'Daily Log'!$BH$18:$BH$1017),0)","v":0},{"$f":"IFERROR($E55*SUMIF('Daily Log'!$BJ$18:$BJ$1017,$B55,'Daily Log'!$BK$18:$BK$1017),0)","v":0},{"$f":"IFERROR($E55*SUMIF('Daily Log'!$BM$18:$BM$1017,$B55,'Daily Log'!$BN$18:$BN$1017),0)","v":0},{"$f":"IFERROR($E55*SUMIF('Daily Log'!$BP$18:$BP$1017,$B55,'Daily Log'!$BQ$18:$BQ$1017),0)","v":0},{"$f":"IFERROR($E55*SUMIF('Daily Log'!$BS$18:$BS$1017,$B55,'Daily Log'!$BT$18:$BT$1017),0)","v":0},{"$f":"IFERROR($E55*SUMIF('Daily Log'!$BV$18:$BV$1017,$B55,'Daily Log'!$BW$18:$BW$1017),0)","v":0},{"$f":"IFERROR($E55*SUMIF('Daily Log'!$BY$18:$BY$1017,$B55,'Daily Log'!$BZ$18:$BZ$1017),0)","v":0},{"$f":"IFERROR($E55*SUMIF('Daily Log'!$CB$18:$CB$1017,$B55,'Daily Log'!$CC$18:$CC$1017),0)","v":0},{"$f":"IFERROR($E55*SUMIF('Daily Log'!$CE$18:$CE$1017,$B55,'Daily Log'!$CF$18:$CF$1017),0)","v":0},{"$f":"IFERROR($E55*SUMIF('Daily Log'!$CH$18:$CH$1017,$B55,'Daily Log'!$CI$18:$CI$1017),0)","v":0},{"$f":"IFERROR($E55*SUMIF('Daily Log'!$CK$18:$CK$1017,$B55,'Daily Log'!$CL$18:$CL$1017),0)","v":36},{"$f":"IFERROR($E55*SUMIF('Daily Log'!$CN$18:$CN$1017,$B55,'Daily Log'!$CO$18:$CO$1017),0)","v":0}]
[null,"LF19 91119:BUTTER FSH",null,null,1,57,{"$f":"IFERROR($E56*SUMIF('Daily Log'!$B$18:$B$1017,$B56,'Daily Log'!$C$18:$C$1017),0)","v":0},{"$f":"IFERROR($E56*SUMIF('Daily Log'!$E$18:$E$1017,$B56,'Daily Log'!$F$18:$F$1017),0)","v":0},{"$f":"IFERROR($E56*SUMIF('Daily Log'!$H$18:$H$1017,$B56,'Daily Log'!$I$18:$I$1017),0)","v":0},{"$f":"IFERROR($E56*SUMIF('Daily Log'!$K$18:$K$1017,$B56,'Daily Log'!$L$18:$L$1017),0)","v":0},{"$f":"IFERROR($E56*SUMIF('Daily Log'!$N$18:$N$1017,$B56,'Daily Log'!$O$18:$O$1017),0)","v":0},{"$f":"IFERROR($E56*SUMIF('Daily Log'!$Q$18:$Q$1017,$B56,'Daily Log'!$R$18:$R$1017),0)","v":0},{"$f":"IFERROR($E56*SUMIF('Daily Log'!$T$18:$T$1017,$B56,'Daily Log'!$U$18:$U$1017),0)","v":0},{"$f":"IFERROR($E56*SUMIF('Daily Log'!$W$18:$W$1017,$B56,'Daily Log'!$X$18:$X$1017),0)","v":0},{"$f":"IFERROR($E56*SUMIF('Daily Log'!$Z$18:$Z$1017,$B56,'Daily Log'!$AA$18:$AA$1017),0)","v":0},{"$f":"IFERROR($E56*SUMIF('Daily Log'!$AC$18:$AC$1017,$B56,'Daily Log'!$AD$18:$AD$1017),0)","v":0},{"$f":"IFERROR($E56*SUMIF('Daily Log'!$AF$18:$AF$1017,$B56,'Daily Log'!$AG$18:$AG$1017),0)","v":0},{"$f":"IFERROR($E56*SUMIF('Daily Log'!$AI$18:$AI$1017,$B56,'Daily Log'!$AJ$18:$AJ$1017),0)","v":0},{"$f":"IFERROR($E56*SUMIF('Daily Log'!$AL$18:$AL$1017,$B56,'Daily Log'!$AM$18:$AM$1017),0)","v":0},{"$f":"IFERROR($E56*SUMIF('Daily Log'!$AO$18:$AO$1017,$B56,'Daily Log'!$AP$18:$AP$1017),0)","v":0},{"$f":"IFERROR($E56*SUMIF('Daily Log'!$AR$18:$AR$1017,$B56,'Daily Log'!$AS$18:$AS$1017),0)","v":0},{"$f":"IFERROR($E56*SUMIF('Daily Log'!$AU$18:$AU$1017,$B56,'Daily Log'!$AV$18:$AV$1017),0)","v":0},{"$f":"IFERROR($E56*SUMIF('Daily Log'!$AX$18:$AX$1017,$B56,'Daily Log'!$AY$18:$AY$1017),0)","v":0},{"$f":"IFERROR($E56*SUMIF('Daily Log'!$BA$18:$BA$1017,$B56,'Daily Log'!$BB$18:$BB$1017),0)","v":0},{"$f":"IFERROR($E56*SUMIF('Daily Log'!$BD$18:$BD$1017,$B56,'Daily Log'!$BE$18:$BE$1017),0)","v":0},{"$f":"IFERROR($E56*SUMIF('Daily Log'!$BG$18:$BG$1017,$B56,'Daily Log'!$BH$18:$BH$1017),0)","v":0},{"$f":"IFERROR($E56*SUMIF('Daily Log'!$BJ$18:$BJ$1017,$B56,'Daily Log'!$BK$18:$BK$1017),0)","v":0},{"$f":"IFERROR($E56*SUMIF('Daily Log'!$BM$18:$BM$1017,$B56,'Daily Log'!$BN$18:$BN$1017),0)","v":0},{"$f":"IFERROR($E56*SUMIF('Daily Log'!$BP$18:$BP$1017,$B56,'Daily Log'!$BQ$18:$BQ$1017),0)","v":0},{"$f":"IFERROR($E56*SUMIF('Daily Log'!$BS$18:$BS$1017,$B56,'Daily Log'!$BT$18:$BT$1017),0)","v":0},{"$f":"IFERROR($E56*SUMIF('Daily Log'!$BV$18:$BV$1017,$B56,'Daily Log'!$BW$18:$BW$1017),0)","v":0},{"$f":"IFERROR($E56*SUMIF('Daily Log'!$BY$18:$BY$1017,$B56,'Daily Log'!$BZ$18:$BZ$1017),0)","v":0},{"$f":"IFERROR($E56*SUMIF('Daily Log'!$CB$18:$CB$1017,$B56,'Daily Log'!$CC$18:$CC$1017),0)","v":0},{"$f":"IFERROR($E56*SUMIF('Daily Log'!$CE$18:$CE$1017,$B56,'Daily Log'!$CF$18:$CF$1017),0)","v":0},{"$f":"IFERROR($E56*SUMIF('Daily Log'!$CH$18:$CH$1017,$B56,'Daily Log'!$CI$18:$CI$1017),0)","v":0},{"$f":"IFERROR($E56*SUMIF('Daily Log'!$CK$18:$CK$1017,$B56,'Daily Log'!$CL$18:$CL$1017),0)","v":57},{"$f":"IFERROR($E56*SUMIF('Daily Log'!$CN$18:$CN$1017,$B56,'Daily Log'!$CO$18:$CO$1017),0)","v":0}]
[null,"RL01 71101:THAI CHK",null,null,1,0,{"$f":"IFERROR($E57*SUMIF('Daily Log'!$B$18:$B$1017,$B57,'Daily Log'!$C$18:$C$1017),0)","v":0},{"$f":"IFERROR($E57*SUMIF('Daily Log'!$E$18:$E$1017,$B57,'Daily Log'!$F$18:$F$1017),0)","v":0},{"$f":"IFERROR($E57*SUMIF('Daily Log'!$H$18:$H$1017,$B57,'Daily Log'!$I$18:$I$1017),0)","v":0},{"$f":"IFERROR($E57*SUMIF('Daily Log'!$K$18:$K$1017,$B57,'Daily Log'!$L$18:$L$1017),0)","v":0},{"$f":"IFERROR($E57*SUMIF('Daily Log'!$N$18:$N$1017,$B57,'Daily Log'!$O$18:$O$1017),0)","v":0},{"$f":"IFERROR($E57*SUMIF('Daily Log'!$Q$18:$Q$1017,$B57,'Daily Log'!$R$18:$R$1017),0)","v":0},{"$f":"IFERROR($E57*SUMIF('Daily Log'!$T$18:$T$1017,$B57,'Daily Log'!$U$18:$U$1017),0)","v":0},{"$f":"IFERROR($E57*SUMIF('Daily Log'!$W$18:$W$1017,$B57,'Daily Log'!$X$18:$X$1017),0)","v":0},{"$f":"IFERROR($E57*SUMIF('Daily Log'!$Z$18:$Z$1017,$B57,'Daily Log'!$AA$18:$AA$1017),0)","v":0},{"$f":"IFERROR($E57*SUMIF('Daily Log'!$AC$18:$AC$1017,$B57,'Daily Log'!$AD$18:$AD$1017),0)","v":0},{"$f":"IFERROR($E57*SUMIF('Daily Log'!$AF$18:$AF$1017,$B57,'Daily Log'!$AG$18:$AG$1017),0)","v":0},{"$f":"IFERROR($E57*SUMIF('Daily Log'!$AI$18:$AI$1017,$B57,'Daily Log'!$AJ$18:$AJ$1017),0)","v":0},{"$f":"IFERROR($E57*SUMIF('Daily Log'!$AL$18:$AL$1017,$B57,'Daily Log'!$AM$18:$AM$1017),0)","v":0},{"$f":"IFERROR($E57*SUMIF('Daily Log'!$AO$18:$AO$1017,$B57,'Daily Log'!$AP$18:$AP$1017),0)","v":0},{"$f":"IFERROR($E57*SUMIF('Daily Log'!$AR$18:$AR$1017,$B57,'Daily Log'!$AS$18:$AS$1017),0)","v":0},{"$f":"IFERROR($E57*SUMIF('Daily Log'!$AU$18:$AU$1017,$B57,'Daily Log'!$AV$18:$AV$1017),0)","v":0},{"$f":"IFERROR($E57*SUMIF('Daily Log'!$AX$18:$AX$1017,$B57,'Daily Log'!$AY$18:$AY$1017),0)","v":0},{"$f":"IFERROR($E57*SUMIF('Daily Log'!$BA$18:$BA$1017,$B57,'Daily Log'!$BB$18:$BB$1017),0)","v":0},{"$f":"IFERROR($E57*SUMIF('Daily Log'!$BD$18:$BD$1017,$B57,'Daily Log'!$BE$18:$BE$1017),0)","v":0},{"$f":"IFERROR($E57*SUMIF('Daily Log'!$BG$18:$BG$1017,$B57,'Daily Log'!$BH$18:$BH$1017),0)","v":0},{"$f":"IFERROR($E57*SUMIF('Daily Log'!$BJ$18:$BJ$1017,$B57,'Daily Log'!$BK$18:$BK$1017),0)","v":0},{"$f":"IFERROR($E57*SUMIF('Daily Log'!$BM$18:$BM$1017,$B57,'Daily Log'!$BN$18:$BN$1017),0)","v":0},{"$f":"IFERROR($E57*SUMIF('Daily Log'!$BP$18:$BP$1017,$B57,'Daily Log'!$BQ$18:$BQ$1017),0)","v":0},{"$f":"IFERROR($E57*SUMIF('Daily Log'!$BS$18:$BS$1017,$B57,'Daily Log'!$BT$18:$BT$1017),0)","v":0},{"$f":"IFERROR($E57*SUMIF('Daily Log'!$BV$18:$BV$1017,$B57,'Daily Log'!$BW$18:$BW$1017),0)","v":0},{"$f":"IFERROR($E57*SUMIF('Daily Log'!$BY$18:$BY$1017,$B57,'Daily Log'!$BZ$18:$BZ$1017),0)","v":0},{"$f":"IFERROR($E57*SUMIF('Daily Log'!$CB$18:$CB$1017,$B57,'Daily Log'!$CC$18:$CC$1017),0)","v":0},{"$f":"IFERROR($E57*SUMIF('Daily Log'!$CE$18:$CE$1017,$B57,'Daily Log'!$CF$18:$CF$1017),0)","v":0},{"$f":"IFERROR($E57*SUMIF('Daily Log'!$CH$18:$CH$1017,$B57,'Daily Log'!$CI$18:$CI$1017),0)","v":0},{"$f":"IFERROR($E57*SUMIF('Daily Log'!$CK$18:$CK$1017,$B57,'Daily Log'!$CL$18:$CL$1017),0)","v":0},{"$f":"IFERROR($E57*SUMIF('Daily Log'!$CN$18:$CN$1017,$B57,'Daily Log'!$CO$18:$CO$1017),0)","v":0}]
[null,"RL02 71102:MAMITE CHK",null,null,1,1,{"$f":"IFERROR($E58*SUMIF('Daily Log'!$B$18:$B$1017,$B58,'Daily Log'!$C$18:$C$1017),0)","v":0},{"$f":"IFERROR($E58*SUMIF('Daily Log'!$E$18:$E$1017,$B58,'Daily Log'!$F$18:$F$1017),0)","v":0},{"$f":"IFERROR($E58*SUMIF('Daily Log'!$H$18:$H$1017,$B58,'Daily Log'!$I$18:$I$1017),0)","v":0},{"$f":"IFERROR($E58*SUMIF('Daily Log'!$K$18:$K$1017,$B58,'Daily Log'!$L$18:$L$1017),0)","v":0},{"$f":"IFERROR($E58*SUMIF('Daily Log'!$N$18:$N$1017,$B58,'Daily Log'!$O$18:$O$1017),0)","v":0},{"$f":"IFERROR($E58*SUMIF('Daily Log'!$Q$18:$Q$1017,$B58,'Daily Log'!$R$18:$R$1017),0)","v":0},{"$f":"IFERROR($E58*SUMIF('Daily Log'!$T$18:$T$1017,$B58,'Daily Log'!$U$18:$U$1017),0)","v":0},{"$f":"IFERROR($E58*SUMIF('Daily Log'!$W$18:$W$1017,$B58,'Daily Log'!$X$18:$X$1017),0)","v":0},{"$f":"IFERROR($E58*SUMIF('Daily Log'!$Z$18:$Z$1017,$B58,'Daily Log'!$AA$18:$AA$1017),0)","v":0},{"$f":"IFERROR($E58*SUMIF('Daily Log'!$AC$18:$AC$1017,$B58,'Daily Log'!$AD$18:$AD$1017),0)","v":0},{"$f":"IFERROR($E58*SUMIF('Daily Log'!$AF$18:$AF$1017,$B58,'Daily Log'!$AG$18:$AG$1017),0)","v":0},{"$f":"IFERROR($E58*SUMIF('Daily Log'!$AI$18:$AI$1017,$B58,'Daily Log'!$AJ$18:$AJ$1017),0)","v":0},{"$f":"IFERROR($E58*SUMIF('Daily Log'!$AL$18:$AL$1017,$B58,'Daily Log'!$AM$18:$AM$1017),0)","v":0},{"$f":"IFERROR($E58*SUMIF('Daily Log'!$AO$18:$AO$1017,$B58,'Daily Log'!$AP$18:$AP$1017),0)","v":0},{"$f":"IFERROR($E58*SUMIF('Daily Log'!$AR$18:$AR$1017,$B58,'Daily Log'!$AS$18:$AS$1017),0)","v":0},{"$f":"IFERROR($E58*SUMIF('Daily Log'!$AU$18:$AU$1017,$B58,'Daily Log'!$AV$18:$AV$1017),0)","v":0},{"$f":"IFERROR($E58*SUMIF('Daily Log'!$AX$18:$AX$1017,$B58,'Daily Log'!$AY$18:$AY$1017),0)","v":0},{"$f":"IFERROR($E58*SUMIF('Daily Log'!$BA$18:$BA$1017,$B58,'Daily Log'!$BB$18:$BB$1017),0)","v":0},{"$f":"IFERROR($E58*SUMIF('Daily Log'!$BD$18:$BD$1017,$B58,'Daily Log'!$BE$18:$BE$1017),0)","v":0},{"$f":"IFERROR($E58*SUMIF('Daily Log'!$BG$18:$BG$1017,$B58,'Daily Log'!$BH$18:$BH$1017),0)","v":0},{"$f":"IFERROR($E58*SUMIF('Daily Log'!$BJ$18:$BJ$1017,$B58,'Daily Log'!$BK$18:$BK$1017),0)","v":0},{"$f":"IFERROR($E58*SUMIF('Daily Log'!$BM$18:$BM$1017,$B58,'Daily Log'!$BN$18:$BN$1017),0)","v":0},{"$f":"IFERROR($E58*SUMIF('Daily Log'!$BP$18:$BP$1017,$B58,'Daily Log'!$BQ$18:$BQ$1017),0)","v":0},{"$f":"IFERROR($E58*SUMIF('Daily Log'!$BS$18:$BS$1017,$B58,'Daily Log'!$BT$18:$BT$1017),0)","v":0},{"$f":"IFERROR($E58*SUMIF('Daily Log'!$BV$18:$BV$1017,$B58,'Daily Log'!$BW$18:$BW$1017),0)","v":0},{"$f":"IFERROR($E58*SUMIF('Daily Log'!$BY$18:$BY$1017,$B58,'Daily Log'!$BZ$18:$BZ$1017),0)","v":0},{"$f":"IFERROR($E58*SUMIF('Daily Log'!$CB$18:$CB$1017,$B58,'Daily Log'!$CC$18:$CC$1017),0)","v":0},{"$f":"IFERROR($E58*SUMIF('Daily Log'!$CE$18:$CE$1017,$B58,'Daily Log'!$CF$18:$CF$1017),0)","v":0},{"$f":"IFERROR($E58*SUMIF('Daily Log'!$CH$18:$CH$1017,$B58,'Daily Log'!$CI$18:$CI$1017),0)","v":0},{"$f":"IFERROR($E58*SUMIF('Daily Log'!$CK$18:$CK$1017,$B58,'Daily Log'!$CL$18:$CL$1017),0)","v":1},{"$f":"IFERROR($E58*SUMIF('Daily Log'!$CN$18:$CN$1017,$B58,'Daily Log'!$CO$18:$CO$1017),0)","v":0}]
[null,"RL05 71105:BUTTER CHK",null,null,1,1,{"$f":"IFERROR($E59*SUMIF('Daily Log'!$B$18:$B$1017,$B59,'Daily Log'!$C$18:$C$1017),0)","v":0},{"$f":"IFERROR($E59*SUMIF('Daily Log'!$E$18:$E$1017,$B59,'Daily Log'!$F$18:$F$1017),0)","v":0},{"$f":"IFERROR($E59*SUMIF('Daily Log'!$H$18:$H$1017,$B59,'Daily Log'!$I$18:$I$1017),0)","v":0},{"$f":"IFERROR($E59*SUMIF('Daily Log'!$K$18:$K$1017,$B59,'Daily Log'!$L$18:$L$1017),0)","v":0},{"$f":"IFERROR($E59*SUMIF('Daily Log'!$N$18:$N$1017,$B59,'Daily Log'!$O$18:$O$1017),0)","v":0},{"$f":"IFERROR($E59*SUMIF('Daily Log'!$Q$18:$Q$1017,$B59,'Daily Log'!$R$18:$R$1017),0)","v":0},{"$f":"IFERROR($E59*SUMIF('Daily Log'!$T$18:$T$1017,$B59,'Daily Log'!$U$18:$U$1017),0)","v":0},{"$f":"IFERROR($E59*SUMIF('Daily Log'!$W$18:$W$1017,$B59,'Daily Log'!$X$18:$X$1017),0)","v":0},{"$f":"IFERROR($E59*SUMIF('Daily Log'!$Z$18:$Z$1017,$B59,'Daily Log'!$AA$18:$AA$1017),0)","v":0},{"$f":"IFERROR($E59*SUMIF('Daily Log'!$AC$18:$AC$1017,$B59,'Daily Log'!$AD$18:$AD$1017),0)","v":0},{"$f":"IFERROR($E59*SUMIF('Daily Log'!$AF$18:$AF$1017,$B59,'Daily Log'!$AG$18:$AG$1017),0)","v":0},{"$f":"IFERROR($E59*SUMIF('Daily Log'!$AI$18:$AI$1017,$B59,'Daily Log'!$AJ$18:$AJ$1017),0)","v":0},{"$f":"IFERROR($E59*SUMIF('Daily Log'!$AL$18:$AL$1017,$B59,'Daily Log'!$AM$18:$AM$1017),0)","v":0},{"$f":"IFERROR($E59*SUMIF('Daily Log'!$AO$18:$AO$1017,$B59,'Daily Log'!$AP$18:$AP$1017),0)","v":0},{"$f":"IFERROR($E59*SUMIF('Daily Log'!$AR$18:$AR$1017,$B59,'Daily Log'!$AS$18:$AS$1017),0)","v":0},{"$f":"IFERROR($E59*SUMIF('Daily Log'!$AU$18:$AU$1017,$B59,'Daily Log'!$AV$18:$AV$1017),0)","v":0},{"$f":"IFERROR($E59*SUMIF('Daily Log'!$AX$18:$AX$1017,$B59,'Daily Log'!$AY$18:$AY$1017),0)","v":0},{"$f":"IFERROR($E59*SUMIF('Daily Log'!$BA$18:$BA$1017,$B59,'Daily Log'!$BB$18:$BB$1017),0)","v":0},{"$f":"IFERROR($E59*SUMIF('Daily Log'!$BD$18:$BD$1017,$B59,'Daily Log'!$BE$18:$BE$1017),0)","v":0},{"$f":"IFERROR($E59*SUMIF('Daily Log'!$BG$18:$BG$1017,$B59,'Daily Log'!$BH$18:$BH$1017),0)","v":0},{"$f":"IFERROR($E59*SUMIF('Daily Log'!$BJ$18:$BJ$1017,$B59,'Daily Log'!$BK$18:$BK$1017),0)","v":0},{"$f":"IFERROR($E59*SUMIF('Daily Log'!$BM$18:$BM$1017,$B59,'Daily Log'!$BN$18:$BN$1017),0)","v":0},{"$f":"IFERROR($E59*SUMIF('Daily Log'!$BP$18:$BP$1017,$B59,'Daily Log'!$BQ$18:$BQ$1017),0)","v":0},{"$f":"IFERROR($E59*SUMIF('Daily Log'!$BS$18:$BS$1017,$B59,'Daily Log'!$BT$18:$BT$1017),0)","v":0},{"$f":"IFERROR($E59*SUMIF('Daily Log'!$BV$18:$BV$1017,$B59,'Daily Log'!$BW$18:$BW$1017),0)","v":0},{"$f":"IFERROR($E59*SUMIF('Daily Log'!$BY$18:$BY$1017,$B59,'Daily Log'!$BZ$18:$BZ$1017),0)","v":0},{"$f":"IFERROR($E59*SUMIF('Daily Log'!$CB$18:$CB$1017,$B59,'Daily Log'!$CC$18:$CC$1017),0)","v":0},{"$f":"IFERROR($E59*SUMIF('Daily Log'!$CE$18:$CE$1017,$B59,'Daily Log'!$CF$18:$CF$1017),0)","v":0},{"$f":"IFERROR($E59*SUMIF('Daily Log'!$CH$18:$CH$1017,$B59,'Daily Log'!$CI$18:$CI$1017),0)","v":0},{"$f":"IFERROR($E59*SUMIF('Daily Log'!$CK$18:$CK$1017,$B59,'Daily Log'!$CL$18:$CL$1017),0)","v":1},{"$f":"IFERROR($E59*SUMIF('Daily Log'!$CN$18:$CN$1017,$B59,'Daily Log'!$CO$18:$CO$1017),0)","v":0}]
[null,"RL17 71117:THAI FSH",null,null,1,0,{"$f":"IFERROR($E60*SUMIF('Daily Log'!$B$18:$B$1017,$B60,'Daily Log'!$C$18:$C$1017),0)","v":0},{"$f":"IFERROR($E60*SUMIF('Daily Log'!$E$18:$E$1017,$B60,'Daily Log'!$F$18:$F$1017),0)","v":0},{"$f":"IFERROR($E60*SUMIF('Daily Log'!$H$18:$H$1017,$B60,'Daily Log'!$I$18:$I$1017),0)","v":0},{"$f":"IFERROR($E60*SUMIF('Daily Log'!$K$18:$K$1017,$B60,'Daily Log'!$L$18:$L$1017),0)","v":0},{"$f":"IFERROR($E60*SUMIF('Daily Log'!$N$18:$N$1017,$B60,'Daily Log'!$O$18:$O$1017),0)","v":0},{"$f":"IFERROR($E60*SUMIF('Daily Log'!$Q$18:$Q$1017,$B60,'Daily Log'!$R$18:$R$1017),0)","v":0},{"$f":"IFERROR($E60*SUMIF('Daily Log'!$T$18:$T$1017,$B60,'Daily Log'!$U$18:$U$1017),0)","v":0},{"$f":"IFERROR($E60*SUMIF('Daily Log'!$W$18:$W$1017,$B60,'Daily Log'!$X$18:$X$1017),0)","v":0},{"$f":"IFERROR($E60*SUMIF('Daily Log'!$Z$18:$Z$1017,$B60,'Daily Log'!$AA$18:$AA$1017),0)","v":0},{"$f":"IFERROR($E60*SUMIF('Daily Log'!$AC$18:$AC$1017,$B60,'Daily Log'!$AD$18:$AD$1017),0)","v":0},{"$f":"IFERROR($E60*SUMIF('Daily Log'!$AF$18:$AF$1017,$B60,'Daily Log'!$AG$18:$AG$1017),0)","v":0},{"$f":"IFERROR($E60*SUMIF('Daily Log'!$AI$18:$AI$1017,$B60,'Daily Log'!$AJ$18:$AJ$1017),0)","v":0},{"$f":"IFERROR($E60*SUMIF('Daily Log'!$AL$18:$AL$1017,$B60,'Daily Log'!$AM$18:$AM$1017),0)","v":0},{"$f":"IFERROR($E60*SUMIF('Daily Log'!$AO$18:$AO$1017,$B60,'Daily Log'!$AP$18:$AP$1017),0)","v":0},{"$f":"IFERROR($E60*SUMIF('Daily Log'!$AR$18:$AR$1017,$B60,'Daily Log'!$AS$18:$AS$1017),0)","v":0},{"$f":"IFERROR($E60*SUMIF('Daily Log'!$AU$18:$AU$1017,$B60,'Daily Log'!$AV$18:$AV$1017),0)","v":0},{"$f":"IFERROR($E60*SUMIF('Daily Log'!$AX$18:$AX$1017,$B60,'Daily Log'!$AY$18:$AY$1017),0)","v":0},{"$f":"IFERROR($E60*SUMIF('Daily Log'!$BA$18:$BA$1017,$B60,'Daily Log'!$BB$18:$BB$1017),0)","v":0},{"$f":"IFERROR($E60*SUMIF('Daily Log'!$BD$18:$BD$1017,$B60,'Daily Log'!$BE$18:$BE$1017),0)","v":0},{"$f":"IFERROR($E60*SUMIF('Daily Log'!$BG$18:$BG$1017,$B60,'Daily Log'!$BH$18:$BH$1017),0)","v":0},{"$f":"IFERROR($E60*SUMIF('Daily Log'!$BJ$18:$BJ$1017,$B60,'Daily Log'!$BK$18:$BK$1017),0)","v":0},{"$f":"IFERROR($E60*SUMIF('Daily Log'!$BM$18:$BM$1017,$B60,'Daily Log'!$BN$18:$BN$1017),0)","v":0},{"$f":"IFERROR($E60*SUMIF('Daily Log'!$BP$18:$BP$1017,$B60,'Daily Log'!$BQ$18:$BQ$1017),0)","v":0},{"$f":"IFERROR($E60*SUMIF('Daily Log'!$BS$18:$BS$1017,$B60,'Daily Log'!$BT$18:$BT$1017),0)","v":0},{"$f":"IFERROR($E60*SUMIF('Daily Log'!$BV$18:$BV$1017,$B60,'Daily Log'!$BW$18:$BW$1017),0)","v":0},{"$f":"IFERROR($E60*SUMIF('Daily Log'!$BY$18:$BY$1017,$B60,'Daily Log'!$BZ$18:$BZ$1017),0)","v":0},{"$f":"IFERROR($E60*SUMIF('Daily Log'!$CB$18:$CB$1017,$B60,'Daily Log'!$CC$18:$CC$1017),0)","v":0},{"$f":"IFERROR($E60*SUMIF('Daily Log'!$CE$18:$CE$1017,$B60,'Daily Log'!$CF$18:$CF$1017),0)","v":0},{"$f":"IFERROR($E60*SUMIF('Daily Log'!$CH$18:$CH$1017,$B60,'Daily Log'!$CI$18:$CI$1017),0)","v":0},{"$f":"IFERROR($E60*SUMIF('Daily Log'!$CK$18:$CK$1017,$B60,'Daily Log'!$CL$18:$CL$1017),0)","v":0},{"$f":"IFERROR($E60*SUMIF('Daily Log'!$CN$18:$CN$1017,$B60,'Daily Log'!$CO$18:$CO$1017),0)","v":0}]
[null,"RL18 71118:MAMITE FSH",null,null,1,0,{"$f":"IFERROR($E61*SUMIF('Daily Log'!$B$18:$B$1017,$B61,'Daily Log'!$C$18:$C$1017),0)","v":0},{"$f":"IFERROR($E61*SUMIF('Daily Log'!$E$18:$E$1017,$B61,'Daily Log'!$F$18:$F$1017),0)","v":0},{"$f":"IFERROR($E61*SUMIF('Daily Log'!$H$18:$H$1017,$B61,'Daily Log'!$I$18:$I$1017),0)","v":0},{"$f":"IFERROR($E61*SUMIF('Daily Log'!$K$18:$K$1017,$B61,'Daily Log'!$L$18:$L$1017),0)","v":0},{"$f":"IFERROR($E61*SUMIF('Daily Log'!$N$18:$N$1017,$B61,'Daily Log'!$O$18:$O$1017),0)","v":0},{"$f":"IFERROR($E61*SUMIF('Daily Log'!$Q$18:$Q$1017,$B61,'Daily Log'!$R$18:$R$1017),0)","v":0},{"$f":"IFERROR($E61*SUMIF('Daily Log'!$T$18:$T$1017,$B61,'Daily Log'!$U$18:$U$1017),0)","v":0},{"$f":"IFERROR($E61*SUMIF('Daily Log'!$W$18:$W$1017,$B61,'Daily Log'!$X$18:$X$1017),0)","v":0},{"$f":"IFERROR($E61*SUMIF('Daily Log'!$Z$18:$Z$1017,$B61,'Daily Log'!$AA$18:$AA$1017),0)","v":0},{"$f":"IFERROR($E61*SUMIF('Daily Log'!$AC$18:$AC$1017,$B61,'Daily Log'!$AD$18:$AD$1017),0)","v":0},{"$f":"IFERROR($E61*SUMIF('Daily Log'!$AF$18:$AF$1017,$B61,'Daily Log'!$AG$18:$AG$1017),0)","v":0},{"$f":"IFERROR($E61*SUMIF('Daily Log'!$AI$18:$AI$1017,$B61,'Daily Log'!$AJ$18:$AJ$1017),0)","v":0},{"$f":"IFERROR($E61*SUMIF('Daily Log'!$AL$18:$AL$1017,$B61,'Daily Log'!$AM$18:$AM$1017),0)","v":0},{"$f":"IFERROR($E61*SUMIF('Daily Log'!$AO$18:$AO$1017,$B61,'Daily Log'!$AP$18:$AP$1017),0)","v":0},{"$f":"IFERROR($E61*SUMIF('Daily Log'!$AR$18:$AR$1017,$B61,'Daily Log'!$AS$18:$AS$1017),0)","v":0},{"$f":"IFERROR($E61*SUMIF('Daily Log'!$AU$18:$AU$1017,$B61,'Daily Log'!$AV$18:$AV$1017),0)","v":0},{"$f":"IFERROR($E61*SUMIF('Daily Log'!$AX$18:$AX$1017,$B61,'Daily Log'!$AY$18:$AY$1017),0)","v":0},{"$f":"IFERROR($E61*SUMIF('Daily Log'!$BA$18:$BA$1017,$B61,'Daily Log'!$BB$18:$BB$1017),0)","v":0},{"$f":"IFERROR($E61*SUMIF('Daily Log'!$BD$18:$BD$1017,$B61,'Daily Log'!$BE$18:$BE$1017),0)","v":0},{"$f":"IFERROR($E61*SUMIF('Daily Log'!$BG$18:$BG$1017,$B61,'Daily Log'!$BH$18:$BH$1017),0)","v":0},{"$f":"IFERROR($E61*SUMIF('Daily Log'!$BJ$18:$BJ$1017,$B61,'Daily Log'!$BK$18:$BK$1017),0)","v":0},{"$f":"IFERROR($E61*SUMIF('Daily Log'!$BM$18:$BM$1017,$B61,'Daily Log'!$BN$18:$BN$1017),0)","v":0},{"$f":"IFERROR($E61*SUMIF('Daily Log'!$BP$18:$BP$1017,$B61,'Daily Log'!$BQ$18:$BQ$1017),0)","v":0},{"$f":"IFERROR($E61*SUMIF('Daily Log'!$BS$18:$BS$1017,$B61,'Daily Log'!$BT$18:$BT$1017),0)","v":0},{"$f":"IFERROR($E61*SUMIF('Daily Log'!$BV$18:$BV$1017,$B61,'Daily Log'!$BW$18:$BW$1017),0)","v":0},{"$f":"IFERROR($E61*SUMIF('Daily Log'!$BY$18:$BY$1017,$B61,'Daily Log'!$BZ$18:$BZ$1017),0)","v":0},{"$f":"IFERROR($E61*SUMIF('Daily Log'!$CB$18:$CB$1017,$B61,'Daily Log'!$CC$18:$CC$1017),0)","v":0},{"$f":"IFERROR($E61*SUMIF('Daily Log'!$CE$18:$CE$1017,$B61,'Daily Log'!$CF$18:$CF$1017),0)","v":0},{"$f":"IFERROR($E61*SUMIF('Daily Log'!$CH$18:$CH$1017,$B61,'Daily Log'!$CI$18:$CI$1017),0)","v":0},{"$f":"IFERROR($E61*SUMIF('Daily Log'!$CK$18:$CK$1017,$B61,'Daily Log'!$CL$18:$CL$1017),0)","v":0},{"$f":"IFERROR($E61*SUMIF('Daily Log'!$CN$18:$CN$1017,$B61,'Daily Log'!$CO$18:$CO$1017),0)","v":0}]
[null,"RL19 71119:BUTTER FSH",null,null,1,{"$f":"SUM($G62:$AK62)","v":1},{"$f":"IFERROR($E62*SUMIF('Daily Log'!$B$18:$B$1017,$B62,'Daily Log'!$C$18:$C$1017),0)","v":0},{"$f":"IFERROR($E62*SUMIF('Daily Log'!$E$18:$E$1017,$B62,'Daily Log'!$F$18:$F$1017),0)","v":0},{"$f":"IFERROR($E62*SUMIF('Daily Log'!$H$18:$H$1017,$B62,'Daily Log'!$I$18:$I$1017),0)","v":0},{"$f":"IFERROR($E62*SUMIF('Daily Log'!$K$18:$K$1017,$B62,'Daily Log'!$L$18:$L$1017),0)","v":0},{"$f":"IFERROR($E62*SUMIF('Daily Log'!$N$18:$N$1017,$B62,'Daily Log'!$O$18:$O$1017),0)","v":0},{"$f":"IFERROR($E62*SUMIF('Daily Log'!$Q$18:$Q$1017,$B62,'Daily Log'!$R$18:$R$1017),0)","v":0},{"$f":"IFERROR($E62*SUMIF('Daily Log'!$T$18:$T$1017,$B62,'Daily Log'!$U$18:$U$1017),0)","v":0},{"$f":"IFERROR($E62*SUMIF('Daily Log'!$W$18:$W$1017,$B62,'Daily Log'!$X$18:$X$1017),0)","v":0},{"$f":"IFERROR($E62*SUMIF('Daily Log'!$Z$18:$Z$1017,$B62,'Daily Log'!$AA$18:$AA$1017),0)","v":0},{"$f":"IFERROR($E62*SUMIF('Daily Log'!$AC$18:$AC$1017,$B62,'Daily Log'!$AD$18:$AD$1017),0)","v":0},{"$f":"IFERROR($E62*SUMIF('Daily Log'!$AF$18:$AF$1017,$B62,'Daily Log'!$AG$18:$AG$1017),0)","v":0},{"$f":"IFERROR($E62*SUMIF('Daily Log'!$AI$18:$AI$1017,$B62,'Daily Log'!$AJ$18:$AJ$1017),0)","v":0},{"$f":"IFERROR($E62*SUMIF('Daily Log'!$AL$18:$AL$1017,$B62,'Daily Log'!$AM$18:$AM$1017),0)","v":0},{"$f":"IFERROR($E62*SUMIF('Daily Log'!$AO$18:$AO$1017,$B62,'Daily Log'!$AP$18:$AP$1017),0)","v":0},{"$f":"IFERROR($E62*SUMIF('Daily Log'!$AR$18:$AR$1017,$B62,'Daily Log'!$AS$18:$AS$1017),0)","v":0},{"$f":"IFERROR($E62*SUMIF('Daily Log'!$AU$18:$AU$1017,$B62,'Daily Log'!$AV$18:$AV$1017),0)","v":0},{"$f":"IFERROR($E62*SUMIF('Daily Log'!$AX$18:$AX$1017,$B62,'Daily Log'!$AY$18:$AY$1017),0)","v":0},{"$f":"IFERROR($E62*SUMIF('Daily Log'!$BA$18:$BA$1017,$B62,'Daily Log'!$BB$18:$BB$1017),0)","v":0},{"$f":"IFERROR($E62*SUMIF('Daily Log'!$BD$18:$BD$1017,$B62,'Daily Log'!$BE$18:$BE$1017),0)","v":0},{"$f":"IFERROR($E62*SUMIF('Daily Log'!$BG$18:$BG$1017,$B62,'Daily Log'!$BH$18:$BH$1017),0)","v":0},{"$f":"IFERROR($E62*SUMIF('Daily Log'!$BJ$18:$BJ$1017,$B62,'Daily Log'!$BK$18:$BK$1017),0)","v":0},{"$f":"IFERROR($E62*SUMIF('Daily Log'!$BM$18:$BM$1017,$B62,'Daily Log'!$BN$18:$BN$1017),0)","v":0},{"$f":"IFERROR($E62*SUMIF('Daily Log'!$BP$18:$BP$1017,$B62,'Daily Log'!$BQ$18:$BQ$1017),0)","v":0},{"$f":"IFERROR($E62*SUMIF('Daily Log'!$BS$18:$BS$1017,$B62,'Daily Log'!$BT$18:$BT$1017),0)","v":0},{"$f":"IFERROR($E62*SUMIF('Daily Log'!$BV$18:$BV$1017,$B62,'Daily Log'!$BW$18:$BW$1017),0)","v":0},{"$f":"IFERROR($E62*SUMIF('Daily Log'!$BY$18:$BY$1017,$B62,'Daily Log'!$BZ$18:$BZ$1017),0)","v":0},{"$f":"IFERROR($E62*SUMIF('Daily Log'!$CB$18:$CB$1017,$B62,'Daily Log'!$CC$18:$CC$1017),0)","v":0},{"$f":"IFERROR($E62*SUMIF('Daily Log'!$CE$18:$CE$1017,$B62,'Daily Log'!$CF$18:$CF$1017),0)","v":0},{"$f":"IFERROR($E62*SUMIF('Daily Log'!$CH$18:$CH$1017,$B62,'Daily Log'!$CI$18:$CI$1017),0)","v":0},{"$f":"IFERROR($E62*SUMIF('Daily Log'!$CK$18:$CK$1017,$B62,'Daily Log'!$CL$18:$CL$1017),0)","v":1},{"$f":"IFERROR($E62*SUMIF('Daily Log'!$CN$18:$CN$1017,$B62,'Daily Log'!$CO$18:$CO$1017),0)","v":0}]
[null,"AA02 1202:FREN FRIES",null,null,1,54,{"$f":"IFERROR($E63*SUMIF('Daily Log'!$B$18:$B$1017,$B63,'Daily Log'!$C$18:$C$1017),0)","v":0},{"$f":"IFERROR($E63*SUMIF('Daily Log'!$E$18:$E$1017,$B63,'Daily Log'!$F$18:$F$1017),0)","v":0},{"$f":"IFERROR($E63*SUMIF('Daily Log'!$H$18:$H$1017,$B63,'Daily Log'!$I$18:$I$1017),0)","v":0},{"$f":"IFERROR($E63*SUMIF('Daily Log'!$K$18:$K$1017,$B63,'Daily Log'!$L$18:$L$1017),0)","v":0},{"$f":"IFERROR($E63*SUMIF('Daily Log'!$N$18:$N$1017,$B63,'Daily Log'!$O$18:$O$1017),0)","v":0},{"$f":"IFERROR($E63*SUMIF('Daily Log'!$Q$18:$Q$1017,$B63,'Daily Log'!$R$18:$R$1017),0)","v":0},{"$f":"IFERROR($E63*SUMIF('Daily Log'!$T$18:$T$1017,$B63,'Daily Log'!$U$18:$U$1017),0)","v":0},{"$f":"IFERROR($E63*SUMIF('Daily Log'!$W$18:$W$1017,$B63,'Daily Log'!$X$18:$X$1017),0)","v":0},{"$f":"IFERROR($E63*SUMIF('Daily Log'!$Z$18:$Z$1017,$B63,'Daily Log'!$AA$18:$AA$1017),0)","v":0},{"$f":"IFERROR($E63*SUMIF('Daily Log'!$AC$18:$AC$1017,$B63,'Daily Log'!$AD$18:$AD$1017),0)","v":0},{"$f":"IFERROR($E63*SUMIF('Daily Log'!$AF$18:$AF$1017,$B63,'Daily Log'!$AG$18:$AG$1017),0)","v":0},{"$f":"IFERROR($E63*SUMIF('Daily Log'!$AI$18:$AI$1017,$B63,'Daily Log'!$AJ$18:$AJ$1017),0)","v":0},{"$f":"IFERROR($E63*SUMIF('Daily Log'!$AL$18:$AL$1017,$B63,'Daily Log'!$AM$18:$AM$1017),0)","v":0},{"$f":"IFERROR($E63*SUMIF('Daily Log'!$AO$18:$AO$1017,$B63,'Daily Log'!$AP$18:$AP$1017),0)","v":0},{"$f":"IFERROR($E63*SUMIF('Daily Log'!$AR$18:$AR$1017,$B63,'Daily Log'!$AS$18:$AS$1017),0)","v":0},{"$f":"IFERROR($E63*SUMIF('Daily Log'!$AU$18:$AU$1017,$B63,'Daily Log'!$AV$18:$AV$1017),0)","v":0},{"$f":"IFERROR($E63*SUMIF('Daily Log'!$AX$18:$AX$1017,$B63,'Daily Log'!$AY$18:$AY$1017),0)","v":0},{"$f":"IFERROR($E63*SUMIF('Daily Log'!$BA$18:$BA$1017,$B63,'Daily Log'!$BB$18:$BB$1017),0)","v":0},{"$f":"IFERROR($E63*SUMIF('Daily Log'!$BD$18:$BD$1017,$B63,'Daily Log'!$BE$18:$BE$1017),0)","v":0},{"$f":"IFERROR($E63*SUMIF('Daily Log'!$BG$18:$BG$1017,$B63,'Daily Log'!$BH$18:$BH$1017),0)","v":0},{"$f":"IFERROR($E63*SUMIF('Daily Log'!$BJ$18:$BJ$1017,$B63,'Daily Log'!$BK$18:$BK$1017),0)","v":0},{"$f":"IFERROR($E63*SUMIF('Daily Log'!$BM$18:$BM$1017,$B63,'Daily Log'!$BN$18:$BN$1017),0)","v":0},{"$f":"IFERROR($E63*SUMIF('Daily Log'!$BP$18:$BP$1017,$B63,'Daily Log'!$BQ$18:$BQ$1017),0)","v":0},{"$f":"IFERROR($E63*SUMIF('Daily Log'!$BS$18:$BS$1017,$B63,'Daily Log'!$BT$18:$BT$1017),0)","v":0},{"$f":"IFERROR($E63*SUMIF('Daily Log'!$BV$18:$BV$1017,$B63,'Daily Log'!$BW$18:$BW$1017),0)","v":0},{"$f":"IFERROR($E63*SUMIF('Daily Log'!$BY$18:$BY$1017,$B63,'Daily Log'!$BZ$18:$BZ$1017),0)","v":0},{"$f":"IFERROR($E63*SUMIF('Daily Log'!$CB$18:$CB$1017,$B63,'Daily Log'!$CC$18:$CC$1017),0)","v":0},{"$f":"IFERROR($E63*SUMIF('Daily Log'!$CE$18:$CE$1017,$B63,'Daily Log'!$CF$18:$CF$1017),0)","v":0},{"$f":"IFERROR($E63*SUMIF('Daily Log'!$CH$18:$CH$1017,$B63,'Daily Log'!$CI$18:$CI$1017),0)","v":0},{"$f":"IFERROR($E63*SUMIF('Daily Log'!$CK$18:$CK$1017,$B63,'Daily Log'!$CL$18:$CL$1017),0)","v":54},{"$f":"IFERROR($E63*SUMIF('Daily Log'!$CN$18:$CN$1017,$B63,'Daily Log'!$CO$18:$CO$1017),0)","v":0}]
[null,"AA04 1204:FSH BALL",null,null,1,4,{"$f":"IFERROR($E64*SUMIF('Daily Log'!$B$18:$B$1017,$B64,'Daily Log'!$C$18:$C$1017),0)","v":0},{"$f":"IFERROR($E64*SUMIF('Daily Log'!$E$18:$E$1017,$B64,'Daily Log'!$F$18:$F$1017),0)","v":0},{"$f":"IFERROR($E64*SUMIF('Daily Log'!$H$18:$H$1017,$B64,'Daily Log'!$I$18:$I$1017),0)","v":0},{"$f":"IFERROR($E64*SUMIF('Daily Log'!$K$18:$K$1017,$B64,'Daily Log'!$L$18:$L$1017),0)","v":0},{"$f":"IFERROR($E64*SUMIF('Daily Log'!$N$18:$N$1017,$B64,'Daily Log'!$O$18:$O$1017),0)","v":0},{"$f":"IFERROR($E64*SUMIF('Daily Log'!$Q$18:$Q$1017,$B64,'Daily Log'!$R$18:$R$1017),0)","v":0},{"$f":"IFERROR($E64*SUMIF('Daily Log'!$T$18:$T$1017,$B64,'Daily Log'!$U$18:$U$1017),0)","v":0},{"$f":"IFERROR($E64*SUMIF('Daily Log'!$W$18:$W$1017,$B64,'Daily Log'!$X$18:$X$1017),0)","v":0},{"$f":"IFERROR($E64*SUMIF('Daily Log'!$Z$18:$Z$1017,$B64,'Daily Log'!$AA$18:$AA$1017),0)","v":0},{"$f":"IFERROR($E64*SUMIF('Daily Log'!$AC$18:$AC$1017,$B64,'Daily Log'!$AD$18:$AD$1017),0)","v":0},{"$f":"IFERROR($E64*SUMIF('Daily Log'!$AF$18:$AF$1017,$B64,'Daily Log'!$AG$18:$AG$1017),0)","v":0},{"$f":"IFERROR($E64*SUMIF('Daily Log'!$AI$18:$AI$1017,$B64,'Daily Log'!$AJ$18:$AJ$1017),0)","v":0},{"$f":"IFERROR($E64*SUMIF('Daily Log'!$AL$18:$AL$1017,$B64,'Daily Log'!$AM$18:$AM$1017),0)","v":0},{"$f":"IFERROR($E64*SUMIF('Daily Log'!$AO$18:$AO$1017,$B64,'Daily Log'!$AP$18:$AP$1017),0)","v":0},{"$f":"IFERROR($E64*SUMIF('Daily Log'!$AR$18:$AR$1017,$B64,'Daily Log'!$AS$18:$AS$1017),0)","v":0},{"$f":"IFERROR($E64*SUMIF('Daily Log'!$AU$18:$AU$1017,$B64,'Daily Log'!$AV$18:$AV$1017),0)","v":0},{"$f":"IFERROR($E64*SUMIF('Daily Log'!$AX$18:$AX$1017,$B64,'Daily Log'!$AY$18:$AY$1017),0)","v":0},{"$f":"IFERROR($E64*SUMIF('Daily Log'!$BA$18:$BA$1017,$B64,'Daily Log'!$BB$18:$BB$1017),0)","v":0},{"$f":"IFERROR($E64*SUMIF('Daily Log'!$BD$18:$BD$1017,$B64,'Daily Log'!$BE$18:$BE$1017),0)","v":0},{"$f":"IFERROR($E64*SUMIF('Daily Log'!$BG$18:$BG$1017,$B64,'Daily Log'!$BH$18:$BH$1017),0)","v":0},{"$f":"IFERROR($E64*SUMIF('Daily Log'!$BJ$18:$BJ$1017,$B64,'Daily Log'!$BK$18:$BK$1017),0)","v":0},{"$f":"IFERROR($E64*SUMIF('Daily Log'!$BM$18:$BM$1017,$B64,'Daily Log'!$BN$18:$BN$1017),0)","v":0},{"$f":"IFERROR($E64*SUMIF('Daily Log'!$BP$18:$BP$1017,$B64,'Daily Log'!$BQ$18:$BQ$1017),0)","v":0},{"$f":"IFERROR($E64*SUMIF('Daily Log'!$BS$18:$BS$1017,$B64,'Daily Log'!$BT$18:$BT$1017),0)","v":0},{"$f":"IFERROR($E64*SUMIF('Daily Log'!$BV$18:$BV$1017,$B64,'Daily Log'!$BW$18:$BW$1017),0)","v":0},{"$f":"IFERROR($E64*SUMIF('Daily Log'!$BY$18:$BY$1017,$B64,'Daily Log'!$BZ$18:$BZ$1017),0)","v":0},{"$f":"IFERROR($E64*SUMIF('Daily Log'!$CB$18:$CB$1017,$B64,'Daily Log'!$CC$18:$CC$1017),0)","v":0},{"$f":"IFERROR($E64*SUMIF('Daily Log'!$CE$18:$CE$1017,$B64,'Daily Log'!$CF$18:$CF$1017),0)","v":0},{"$f":"IFERROR($E64*SUMIF('Daily Log'!$CH$18:$CH$1017,$B64,'Daily Log'!$CI$18:$CI$1017),0)","v":0},{"$f":"IFERROR($E64*SUMIF('Daily Log'!$CK$18:$CK$1017,$B64,'Daily Log'!$CL$18:$CL$1017),0)","v":4},{"$f":"IFERROR($E64*SUMIF('Daily Log'!$CN$18:$CN$1017,$B64,'Daily Log'!$CO$18:$CO$1017),0)","v":0}]
[null,"AA06 1206:SPRING RL",null,null,1,0,{"$f":"IFERROR($E65*SUMIF('Daily Log'!$B$18:$B$1017,$B65,'Daily Log'!$C$18:$C$1017),0)","v":0},{"$f":"IFERROR($E65*SUMIF('Daily Log'!$E$18:$E$1017,$B65,'Daily Log'!$F$18:$F$1017),0)","v":0},{"$f":"IFERROR($E65*SUMIF('Daily Log'!$H$18:$H$1017,$B65,'Daily Log'!$I$18:$I$1017),0)","v":0},{"$f":"IFERROR($E65*SUMIF('Daily Log'!$K$18:$K$1017,$B65,'Daily Log'!$L$18:$L$1017),0)","v":0},{"$f":"IFERROR($E65*SUMIF('Daily Log'!$N$18:$N$1017,$B65,'Daily Log'!$O$18:$O$1017),0)","v":0},{"$f":"IFERROR($E65*SUMIF('Daily Log'!$Q$18:$Q$1017,$B65,'Daily Log'!$R$18:$R$1017),0)","v":0},{"$f":"IFERROR($E65*SUMIF('Daily Log'!$T$18:$T$1017,$B65,'Daily Log'!$U$18:$U$1017),0)","v":0},{"$f":"IFERROR($E65*SUMIF('Daily Log'!$W$18:$W$1017,$B65,'Daily Log'!$X$18:$X$1017),0)","v":0},{"$f":"IFERROR($E65*SUMIF('Daily Log'!$Z$18:$Z$1017,$B65,'Daily Log'!$AA$18:$AA$1017),0)","v":0},{"$f":"IFERROR($E65*SUMIF('Daily Log'!$AC$18:$AC$1017,$B65,'Daily Log'!$AD$18:$AD$1017),0)","v":0},{"$f":"IFERROR($E65*SUMIF('Daily Log'!$AF$18:$AF$1017,$B65,'Daily Log'!$AG$18:$AG$1017),0)","v":0},{"$f":"IFERROR($E65*SUMIF('Daily Log'!$AI$18:$AI$1017,$B65,'Daily Log'!$AJ$18:$AJ$1017),0)","v":0},{"$f":"IFERROR($E65*SUMIF('Daily Log'!$AL$18:$AL$1017,$B65,'Daily Log'!$AM$18:$AM$1017),0)","v":0},{"$f":"IFERROR($E65*SUMIF('Daily Log'!$AO$18:$AO$1017,$B65,'Daily Log'!$AP$18:$AP$1017),0)","v":0},{"$f":"IFERROR($E65*SUMIF('Daily Log'!$AR$18:$AR$1017,$B65,'Daily Log'!$AS$18:$AS$1017),0)","v":0},{"$f":"IFERROR($E65*SUMIF('Daily Log'!$AU$18:$AU$1017,$B65,'Daily Log'!$AV$18:$AV$1017),0)","v":0},{"$f":"IFERROR($E65*SUMIF('Daily Log'!$AX$18:$AX$1017,$B65,'Daily Log'!$AY$18:$AY$1017),0)","v":0},{"$f":"IFERROR($E65*SUMIF('Daily Log'!$BA$18:$BA$1017,$B65,'Daily Log'!$BB$18:$BB$1017),0)","v":0},{"$f":"IFERROR($E65*SUMIF('Daily Log'!$BD$18:$BD$1017,$B65,'Daily Log'!$BE$18:$BE$1017),0)","v":0},{"$f":"IFERROR($E65*SUMIF('Daily Log'!$BG$18:$BG$1017,$B65,'Daily Log'!$BH$18:$BH$1017),0)","v":0},{"$f":"IFERROR($E65*SUMIF('Daily Log'!$BJ$18:$BJ$1017,$B65,'Daily Log'!$BK$18:$BK$1017),0)","v":0},{"$f":"IFERROR($E65*SUMIF('Daily Log'!$BM$18:$BM$1017,$B65,'Daily Log'!$BN$18:$BN$1017),0)","v":0},{"$f":"IFERROR($E65*SUMIF('Daily Log'!$BP$18:$BP$1017,$B65,'Daily Log'!$BQ$18:$BQ$1017),0)","v":0},{"$f":"IFERROR($E65*SUMIF('Daily Log'!$BS$18:$BS$1017,$B65,'Daily Log'!$BT$18:$BT$1017),0)","v":0},{"$f":"IFERROR($E65*SUMIF('Daily Log'!$BV$18:$BV$1017,$B65,'Daily Log'!$BW$18:$BW$1017),0)","v":0},{"$f":"IFERROR($E65*SUMIF('Daily Log'!$BY$18:$BY$1017,$B65,'Daily Log'!$BZ$18:$BZ$1017),0)","v":0},{"$f":"IFERROR($E65*SUMIF('Daily Log'!$CB$18:$CB$1017,$B65,'Daily Log'!$CC$18:$CC$1017),0)","v":0},{"$f":"IFERROR($E65*SUMIF('Daily Log'!$CE$18:$CE$1017,$B65,'Daily Log'!$CF$18:$CF$1017),0)","v":0},{"$f":"IFERROR($E65*SUMIF('Daily Log'!$CH$18:$CH$1017,$B65,'Daily Log'!$CI$18:$CI$1017),0)","v":0},{"$f":"IFERROR($E65*SUMIF('Daily Log'!$CK$18:$CK$1017,$B65,'Daily Log'!$CL$18:$CL$1017),0)","v":0},{"$f":"IFERROR($E65*SUMIF('Daily Log'!$CN$18:$CN$1017,$B65,'Daily Log'!$CO$18:$CO$1017),0)","v":0}]
[null,"AA07 1207:SAUSG",null,null,1,5,{"$f":"IFERROR($E66*SUMIF('Daily Log'!$B$18:$B$1017,$B66,'Daily Log'!$C$18:$C$1017),0)","v":0},{"$f":"IFERROR($E66*SUMIF('Daily Log'!$E$18:$E$1017,$B66,'Daily Log'!$F$18:$F$1017),0)","v":0},{"$f":"IFERROR($E66*SUMIF('Daily Log'!$H$18:$H$1017,$B66,'Daily Log'!$I$18:$I$1017),0)","v":0},{"$f":"IFERROR($E66*SUMIF('Daily Log'!$K$18:$K$1017,$B66,'Daily Log'!$L$18:$L$1017),0)","v":0},{"$f":"IFERROR($E66*SUMIF('Daily Log'!$N$18:$N$1017,$B66,'Daily Log'!$O$18:$O$1017),0)","v":0},{"$f":"IFERROR($E66*SUMIF('Daily Log'!$Q$18:$Q$1017,$B66,'Daily Log'!$R$18:$R$1017),0)","v":0},{"$f":"IFERROR($E66*SUMIF('Daily Log'!$T$18:$T$1017,$B66,'Daily Log'!$U$18:$U$1017),0)","v":0},{"$f":"IFERROR($E66*SUMIF('Daily Log'!$W$18:$W$1017,$B66,'Daily Log'!$X$18:$X$1017),0)","v":0},{"$f":"IFERROR($E66*SUMIF('Daily Log'!$Z$18:$Z$1017,$B66,'Daily Log'!$AA$18:$AA$1017),0)","v":0},{"$f":"IFERROR($E66*SUMIF('Daily Log'!$AC$18:$AC$1017,$B66,'Daily Log'!$AD$18:$AD$1017),0)","v":0},{"$f":"IFERROR($E66*SUMIF('Daily Log'!$AF$18:$AF$1017,$B66,'Daily Log'!$AG$18:$AG$1017),0)","v":0},{"$f":"IFERROR($E66*SUMIF('Daily Log'!$AI$18:$AI$1017,$B66,'Daily Log'!$AJ$18:$AJ$1017),0)","v":0},{"$f":"IFERROR($E66*SUMIF('Daily Log'!$AL$18:$AL$1017,$B66,'Daily Log'!$AM$18:$AM$1017),0)","v":0},{"$f":"IFERROR($E66*SUMIF('Daily Log'!$AO$18:$AO$1017,$B66,'Daily Log'!$AP$18:$AP$1017),0)","v":0},{"$f":"IFERROR($E66*SUMIF('Daily Log'!$AR$18:$AR$1017,$B66,'Daily Log'!$AS$18:$AS$1017),0)","v":0},{"$f":"IFERROR($E66*SUMIF('Daily Log'!$AU$18:$AU$1017,$B66,'Daily Log'!$AV$18:$AV$1017),0)","v":0},{"$f":"IFERROR($E66*SUMIF('Daily Log'!$AX$18:$AX$1017,$B66,'Daily Log'!$AY$18:$AY$1017),0)","v":0},{"$f":"IFERROR($E66*SUMIF('Daily Log'!$BA$18:$BA$1017,$B66,'Daily Log'!$BB$18:$BB$1017),0)","v":0},{"$f":"IFERROR($E66*SUMIF('Daily Log'!$BD$18:$BD$1017,$B66,'Daily Log'!$BE$18:$BE$1017),0)","v":0},{"$f":"IFERROR($E66*SUMIF('Daily Log'!$BG$18:$BG$1017,$B66,'Daily Log'!$BH$18:$BH$1017),0)","v":0},{"$f":"IFERROR($E66*SUMIF('Daily Log'!$BJ$18:$BJ$1017,$B66,'Daily Log'!$BK$18:$BK$1017),0)","v":0},{"$f":"IFERROR($E66*SUMIF('Daily Log'!$BM$18:$BM$1017,$B66,'Daily Log'!$BN$18:$BN$1017),0)","v":0},{"$f":"IFERROR($E66*SUMIF('Daily Log'!$BP$18:$BP$1017,$B66,'Daily Log'!$BQ$18:$BQ$1017),0)","v":0},{"$f":"IFERROR($E66*SUMIF('Daily Log'!$BS$18:$BS$1017,$B66,'Daily Log'!$BT$18:$BT$1017),0)","v":0},{"$f":"IFERROR($E66*SUMIF('Daily Log'!$BV$18:$BV$1017,$B66,'Daily Log'!$BW$18:$BW$1017),0)","v":0},{"$f":"IFERROR($E66*SUMIF('Daily Log'!$BY$18:$BY$1017,$B66,'Daily Log'!$BZ$18:$BZ$1017),0)","v":0},{"$f":"IFERROR($E66*SUMIF('Daily Log'!$CB$18:$CB$1017,$B66,'Daily Log'!$CC$18:$CC$1017),0)","v":0},{"$f":"IFERROR($E66*SUMIF('Daily Log'!$CE$18:$CE$1017,$B66,'Daily Log'!$CF$18:$CF$1017),0)","v":0},{"$f":"IFERROR($E66*SUMIF('Daily Log'!$CH$18:$CH$1017,$B66,'Daily Log'!$CI$18:$CI$1017),0)","v":0},{"$f":"IFERROR($E66*SUMIF('Daily Log'!$CK$18:$CK$1017,$B66,'Daily Log'!$CL$18:$CL$1017),0)","v":5},{"$f":"IFERROR($E66*SUMIF('Daily Log'!$CN$18:$CN$1017,$B66,'Daily Log'!$CO$18:$CO$1017),0)","v":0}]
[null,"AA08 1208:HOTDOG BUN",null,null,1,0,{"$f":"IFERROR($E67*SUMIF('Daily Log'!$B$18:$B$1017,$B67,'Daily Log'!$C$18:$C$1017),0)","v":0},{"$f":"IFERROR($E67*SUMIF('Daily Log'!$E$18:$E$1017,$B67,'Daily Log'!$F$18:$F$1017),0)","v":0},{"$f":"IFERROR($E67*SUMIF('Daily Log'!$H$18:$H$1017,$B67,'Daily Log'!$I$18:$I$1017),0)","v":0},{"$f":"IFERROR($E67*SUMIF('Daily Log'!$K$18:$K$1017,$B67,'Daily Log'!$L$18:$L$1017),0)","v":0},{"$f":"IFERROR($E67*SUMIF('Daily Log'!$N$18:$N$1017,$B67,'Daily Log'!$O$18:$O$1017),0)","v":0},{"$f":"IFERROR($E67*SUMIF('Daily Log'!$Q$18:$Q$1017,$B67,'Daily Log'!$R$18:$R$1017),0)","v":0},{"$f":"IFERROR($E67*SUMIF('Daily Log'!$T$18:$T$1017,$B67,'Daily Log'!$U$18:$U$1017),0)","v":0},{"$f":"IFERROR($E67*SUMIF('Daily Log'!$W$18:$W$1017,$B67,'Daily Log'!$X$18:$X$1017),0)","v":0},{"$f":"IFERROR($E67*SUMIF('Daily Log'!$Z$18:$Z$1017,$B67,'Daily Log'!$AA$18:$AA$1017),0)","v":0},{"$f":"IFERROR($E67*SUMIF('Daily Log'!$AC$18:$AC$1017,$B67,'Daily Log'!$AD$18:$AD$1017),0)","v":0},{"$f":"IFERROR($E67*SUMIF('Daily Log'!$AF$18:$AF$1017,$B67,'Daily Log'!$AG$18:$AG$1017),0)","v":0},{"$f":"IFERROR($E67*SUMIF('Daily Log'!$AI$18:$AI$1017,$B67,'Daily Log'!$AJ$18:$AJ$1017),0)","v":0},{"$f":"IFERROR($E67*SUMIF('Daily Log'!$AL$18:$AL$1017,$B67,'Daily Log'!$AM$18:$AM$1017),0)","v":0},{"$f":"IFERROR($E67*SUMIF('Daily Log'!$AO$18:$AO$1017,$B67,'Daily Log'!$AP$18:$AP$1017),0)","v":0},{"$f":"IFERROR($E67*SUMIF('Daily Log'!$AR$18:$AR$1017,$B67,'Daily Log'!$AS$18:$AS$1017),0)","v":0},{"$f":"IFERROR($E67*SUMIF('Daily Log'!$AU$18:$AU$1017,$B67,'Daily Log'!$AV$18:$AV$1017),0)","v":0},{"$f":"IFERROR($E67*SUMIF('Daily Log'!$AX$18:$AX$1017,$B67,'Daily Log'!$AY$18:$AY$1017),0)","v":0},{"$f":"IFERROR($E67*SUMIF('Daily Log'!$BA$18:$BA$1017,$B67,'Daily Log'!$BB$18:$BB$1017),0)","v":0},{"$f":"IFERROR($E67*SUMIF('Daily Log'!$BD$18:$BD$1017,$B67,'Daily Log'!$BE$18:$BE$1017),0)","v":0},{"$f":"IFERROR($E67*SUMIF('Daily Log'!$BG$18:$BG$1017,$B67,'Daily Log'!$BH$18:$BH$1017),0)","v":0},{"$f":"IFERROR($E67*SUMIF('Daily Log'!$BJ$18:$BJ$1017,$B67,'Daily Log'!$BK$18:$BK$1017),0)","v":0},{"$f":"IFERROR($E67*SUMIF('Daily Log'!$BM$18:$BM$1017,$B67,'Daily Log'!$BN$18:$BN$1017),0)","v":0},{"$f":"IFERROR($E67*SUMIF('Daily Log'!$BP$18:$BP$1017,$B67,'Daily Log'!$BQ$18:$BQ$1017),0)","v":0},{"$f":"IFERROR($E67*SUMIF('Daily Log'!$BS$18:$BS$1017,$B67,'Daily Log'!$BT$18:$BT$1017),0)","v":0},{"$f":"IFERROR($E67*SUMIF('Daily Log'!$BV$18:$BV$1017,$B67,'Daily Log'!$BW$18:$BW$1017),0)","v":0},{"$f":"IFERROR($E67*SUMIF('Daily Log'!$BY$18:$BY$1017,$B67,'Daily Log'!$BZ$18:$BZ$1017),0)","v":0},{"$f":"IFERROR($E67*SUMIF('Daily Log'!$CB$18:$CB$1017,$B67,'Daily Log'!$CC$18:$CC$1017),0)","v":0},{"$f":"IFERROR($E67*SUMIF('Daily Log'!$CE$18:$CE$1017,$B67,'Daily Log'!$CF$18:$CF$1017),0)","v":0},{"$f":"IFERROR($E67*SUMIF('Daily Log'!$CH$18:$CH$1017,$B67,'Daily Log'!$CI$18:$CI$1017),0)","v":0},{"$f":"IFERROR($E67*SUMIF('Daily Log'!$CK$18:$CK$1017,$B67,'Daily Log'!$CL$18:$CL$1017),0)","v":0},{"$f":"IFERROR($E67*SUMIF('Daily Log'!$CN$18:$CN$1017,$B67,'Daily Log'!$CO$18:$CO$1017),0)","v":0}]
[null,"AA09 1209:SF TF",null,null,1,11,{"$f":"IFERROR($E68*SUMIF('Daily Log'!$B$18:$B$1017,$B68,'Daily Log'!$C$18:$C$1017),0)","v":0},{"$f":"IFERROR($E68*SUMIF('Daily Log'!$E$18:$E$1017,$B68,'Daily Log'!$F$18:$F$1017),0)","v":0},{"$f":"IFERROR($E68*SUMIF('Daily Log'!$H$18:$H$1017,$B68,'Daily Log'!$I$18:$I$1017),0)","v":0},{"$f":"IFERROR($E68*SUMIF('Daily Log'!$K$18:$K$1017,$B68,'Daily Log'!$L$18:$L$1017),0)","v":0},{"$f":"IFERROR($E68*SUMIF('Daily Log'!$N$18:$N$1017,$B68,'Daily Log'!$O$18:$O$1017),0)","v":0},{"$f":"IFERROR($E68*SUMIF('Daily Log'!$Q$18:$Q$1017,$B68,'Daily Log'!$R$18:$R$1017),0)","v":0},{"$f":"IFERROR($E68*SUMIF('Daily Log'!$T$18:$T$1017,$B68,'Daily Log'!$U$18:$U$1017),0)","v":0},{"$f":"IFERROR($E68*SUMIF('Daily Log'!$W$18:$W$1017,$B68,'Daily Log'!$X$18:$X$1017),0)","v":0},{"$f":"IFERROR($E68*SUMIF('Daily Log'!$Z$18:$Z$1017,$B68,'Daily Log'!$AA$18:$AA$1017),0)","v":0},{"$f":"IFERROR($E68*SUMIF('Daily Log'!$AC$18:$AC$1017,$B68,'Daily Log'!$AD$18:$AD$1017),0)","v":0},{"$f":"IFERROR($E68*SUMIF('Daily Log'!$AF$18:$AF$1017,$B68,'Daily Log'!$AG$18:$AG$1017),0)","v":0},{"$f":"IFERROR($E68*SUMIF('Daily Log'!$AI$18:$AI$1017,$B68,'Daily Log'!$AJ$18:$AJ$1017),0)","v":0},{"$f":"IFERROR($E68*SUMIF('Daily Log'!$AL$18:$AL$1017,$B68,'Daily Log'!$AM$18:$AM$1017),0)","v":0},{"$f":"IFERROR($E68*SUMIF('Daily Log'!$AO$18:$AO$1017,$B68,'Daily Log'!$AP$18:$AP$1017),0)","v":0},{"$f":"IFERROR($E68*SUMIF('Daily Log'!$AR$18:$AR$1017,$B68,'Daily Log'!$AS$18:$AS$1017),0)","v":0},{"$f":"IFERROR($E68*SUMIF('Daily Log'!$AU$18:$AU$1017,$B68,'Daily Log'!$AV$18:$AV$1017),0)","v":0},{"$f":"IFERROR($E68*SUMIF('Daily Log'!$AX$18:$AX$1017,$B68,'Daily Log'!$AY$18:$AY$1017),0)","v":0},{"$f":"IFERROR($E68*SUMIF('Daily Log'!$BA$18:$BA$1017,$B68,'Daily Log'!$BB$18:$BB$1017),0)","v":0},{"$f":"IFERROR($E68*SUMIF('Daily Log'!$BD$18:$BD$1017,$B68,'Daily Log'!$BE$18:$BE$1017),0)","v":0},{"$f":"IFERROR($E68*SUMIF('Daily Log'!$BG$18:$BG$1017,$B68,'Daily Log'!$BH$18:$BH$1017),0)","v":0},{"$f":"IFERROR($E68*SUMIF('Daily Log'!$BJ$18:$BJ$1017,$B68,'Daily Log'!$BK$18:$BK$1017),0)","v":0},{"$f":"IFERROR($E68*SUMIF('Daily Log'!$BM$18:$BM$1017,$B68,'Daily Log'!$BN$18:$BN$1017),0)","v":0},{"$f":"IFERROR($E68*SUMIF('Daily Log'!$BP$18:$BP$1017,$B68,'Daily Log'!$BQ$18:$BQ$1017),0)","v":0},{"$f":"IFERROR($E68*SUMIF('Daily Log'!$BS$18:$BS$1017,$B68,'Daily Log'!$BT$18:$BT$1017),0)","v":0},{"$f":"IFERROR($E68*SUMIF('Daily Log'!$BV$18:$BV$1017,$B68,'Daily Log'!$BW$18:$BW$1017),0)","v":0},{"$f":"IFERROR($E68*SUMIF('Daily Log'!$BY$18:$BY$1017,$B68,'Daily Log'!$BZ$18:$BZ$1017),0)","v":0},{"$f":"IFERROR($E68*SUMIF('Daily Log'!$CB$18:$CB$1017,$B68,'Daily Log'!$CC$18:$CC$1017),0)","v":0},{"$f":"IFERROR($E68*SUMIF('Daily Log'!$CE$18:$CE$1017,$B68,'Daily Log'!$CF$18:$CF$1017),0)","v":0},{"$f":"IFERROR($E68*SUMIF('Daily Log'!$CH$18:$CH$1017,$B68,'Daily Log'!$CI$18:$CI$1017),0)","v":0},{"$f":"IFERROR($E68*SUMIF('Daily Log'!$CK$18:$CK$1017,$B68,'Daily Log'!$CL$18:$CL$1017),0)","v":11},{"$f":"IFERROR($E68*SUMIF('Daily Log'!$CN$18:$CN$1017,$B68,'Daily Log'!$CO$18:$CO$1017),0)","v":0}]
[null,"AA10 1210:SALAD RL",null,null,1,4,{"$f":"IFERROR($E69*SUMIF('Daily Log'!$B$18:$B$1017,$B69,'Daily Log'!$C$18:$C$1017),0)","v":0},{"$f":"IFERROR($E69*SUMIF('Daily Log'!$E$18:$E$1017,$B69,'Daily Log'!$F$18:$F$1017),0)","v":0},{"$f":"IFERROR($E69*SUMIF('Daily Log'!$H$18:$H$1017,$B69,'Daily Log'!$I$18:$I$1017),0)","v":0},{"$f":"IFERROR($E69*SUMIF('Daily Log'!$K$18:$K$1017,$B69,'Daily Log'!$L$18:$L$1017),0)","v":0},{"$f":"IFERROR($E69*SUMIF('Daily Log'!$N$18:$N$1017,$B69,'Daily Log'!$O$18:$O$1017),0)","v":0},{"$f":"IFERROR($E69*SUMIF('Daily Log'!$Q$18:$Q$1017,$B69,'Daily Log'!$R$18:$R$1017),0)","v":0},{"$f":"IFERROR($E69*SUMIF('Daily Log'!$T$18:$T$1017,$B69,'Daily Log'!$U$18:$U$1017),0)","v":0},{"$f":"IFERROR($E69*SUMIF('Daily Log'!$W$18:$W$1017,$B69,'Daily Log'!$X$18:$X$1017),0)","v":0},{"$f":"IFERROR($E69*SUMIF('Daily Log'!$Z$18:$Z$1017,$B69,'Daily Log'!$AA$18:$AA$1017),0)","v":0},{"$f":"IFERROR($E69*SUMIF('Daily Log'!$AC$18:$AC$1017,$B69,'Daily Log'!$AD$18:$AD$1017),0)","v":0},{"$f":"IFERROR($E69*SUMIF('Daily Log'!$AF$18:$AF$1017,$B69,'Daily Log'!$AG$18:$AG$1017),0)","v":0},{"$f":"IFERROR($E69*SUMIF('Daily Log'!$AI$18:$AI$1017,$B69,'Daily Log'!$AJ$18:$AJ$1017),0)","v":0},{"$f":"IFERROR($E69*SUMIF('Daily Log'!$AL$18:$AL$1017,$B69,'Daily Log'!$AM$18:$AM$1017),0)","v":0},{"$f":"IFERROR($E69*SUMIF('Daily Log'!$AO$18:$AO$1017,$B69,'Daily Log'!$AP$18:$AP$1017),0)","v":0},{"$f":"IFERROR($E69*SUMIF('Daily Log'!$AR$18:$AR$1017,$B69,'Daily Log'!$AS$18:$AS$1017),0)","v":0},{"$f":"IFERROR($E69*SUMIF('Daily Log'!$AU$18:$AU$1017,$B69,'Daily Log'!$AV$18:$AV$1017),0)","v":0},{"$f":"IFERROR($E69*SUMIF('Daily Log'!$AX$18:$AX$1017,$B69,'Daily Log'!$AY$18:$AY$1017),0)","v":0},{"$f":"IFERROR($E69*SUMIF('Daily Log'!$BA$18:$BA$1017,$B69,'Daily Log'!$BB$18:$BB$1017),0)","v":0},{"$f":"IFERROR($E69*SUMIF('Daily Log'!$BD$18:$BD$1017,$B69,'Daily Log'!$BE$18:$BE$1017),0)","v":0},{"$f":"IFERROR($E69*SUMIF('Daily Log'!$BG$18:$BG$1017,$B69,'Daily Log'!$BH$18:$BH$1017),0)","v":0},{"$f":"IFERROR($E69*SUMIF('Daily Log'!$BJ$18:$BJ$1017,$B69,'Daily Log'!$BK$18:$BK$1017),0)","v":0},{"$f":"IFERROR($E69*SUMIF('Daily Log'!$BM$18:$BM$1017,$B69,'Daily Log'!$BN$18:$BN$1017),0)","v":0},{"$f":"IFERROR($E69*SUMIF('Daily Log'!$BP$18:$BP$1017,$B69,'Daily Log'!$BQ$18:$BQ$1017),0)","v":0},{"$f":"IFERROR($E69*SUMIF('Daily Log'!$BS$18:$BS$1017,$B69,'Daily Log'!$BT$18:$BT$1017),0)","v":0},{"$f":"IFERROR($E69*SUMIF('Daily Log'!$BV$18:$BV$1017,$B69,'Daily Log'!$BW$18:$BW$1017),0)","v":0},{"$f":"IFERROR($E69*SUMIF('Daily Log'!$BY$18:$BY$1017,$B69,'Daily Log'!$BZ$18:$BZ$1017),0)","v":0},{"$f":"IFERROR($E69*SUMIF('Daily Log'!$CB$18:$CB$1017,$B69,'Daily Log'!$CC$18:$CC$1017),0)","v":0},{"$f":"IFERROR($E69*SUMIF('Daily Log'!$CE$18:$CE$1017,$B69,'Daily Log'!$CF$18:$CF$1017),0)","v":0},{"$f":"IFERROR($E69*SUMIF('Daily Log'!$CH$18:$CH$1017,$B69,'Daily Log'!$CI$18:$CI$1017),0)","v":0},{"$f":"IFERROR($E69*SUMIF('Daily Log'!$CK$18:$CK$1017,$B69,'Daily Log'!$CL$18:$CL$1017),0)","v":4},{"$f":"IFERROR($E69*SUMIF('Daily Log'!$CN$18:$CN$1017,$B69,'Daily Log'!$CO$18:$CO$1017),0)","v":0}]
[null,"AA11 1211:BBQ CHK",null,null,1,4,{"$f":"IFERROR($E70*SUMIF('Daily Log'!$B$18:$B$1017,$B70,'Daily Log'!$C$18:$C$1017),0)","v":0},{"$f":"IFERROR($E70*SUMIF('Daily Log'!$E$18:$E$1017,$B70,'Daily Log'!$F$18:$F$1017),0)","v":0},{"$f":"IFERROR($E70*SUMIF('Daily Log'!$H$18:$H$1017,$B70,'Daily Log'!$I$18:$I$1017),0)","v":0},{"$f":"IFERROR($E70*SUMIF('Daily Log'!$K$18:$K$1017,$B70,'Daily Log'!$L$18:$L$1017),0)","v":0},{"$f":"IFERROR($E70*SUMIF('Daily Log'!$N$18:$N$1017,$B70,'Daily Log'!$O$18:$O$1017),0)","v":0},{"$f":"IFERROR($E70*SUMIF('Daily Log'!$Q$18:$Q$1017,$B70,'Daily Log'!$R$18:$R$1017),0)","v":0},{"$f":"IFERROR($E70*SUMIF('Daily Log'!$T$18:$T$1017,$B70,'Daily Log'!$U$18:$U$1017),0)","v":0},{"$f":"IFERROR($E70*SUMIF('Daily Log'!$W$18:$W$1017,$B70,'Daily Log'!$X$18:$X$1017),0)","v":0},{"$f":"IFERROR($E70*SUMIF('Daily Log'!$Z$18:$Z$1017,$B70,'Daily Log'!$AA$18:$AA$1017),0)","v":0},{"$f":"IFERROR($E70*SUMIF('Daily Log'!$AC$18:$AC$1017,$B70,'Daily Log'!$AD$18:$AD$1017),0)","v":0},{"$f":"IFERROR($E70*SUMIF('Daily Log'!$AF$18:$AF$1017,$B70,'Daily Log'!$AG$18:$AG$1017),0)","v":0},{"$f":"IFERROR($E70*SUMIF('Daily Log'!$AI$18:$AI$1017,$B70,'Daily Log'!$AJ$18:$AJ$1017),0)","v":0},{"$f":"IFERROR($E70*SUMIF('Daily Log'!$AL$18:$AL$1017,$B70,'Daily Log'!$AM$18:$AM$1017),0)","v":0},{"$f":"IFERROR($E70*SUMIF('Daily Log'!$AO$18:$AO$1017,$B70,'Daily Log'!$AP$18:$AP$1017),0)","v":0},{"$f":"IFERROR($E70*SUMIF('Daily Log'!$AR$18:$AR$1017,$B70,'Daily Log'!$AS$18:$AS$1017),0)","v":0},{"$f":"IFERROR($E70*SUMIF('Daily Log'!$AU$18:$AU$1017,$B70,'Daily Log'!$AV$18:$AV$1017),0)","v":0},{"$f":"IFERROR($E70*SUMIF('Daily Log'!$AX$18:$AX$1017,$B70,'Daily Log'!$AY$18:$AY$1017),0)","v":0},{"$f":"IFERROR($E70*SUMIF('Daily Log'!$BA$18:$BA$1017,$B70,'Daily Log'!$BB$18:$BB$1017),0)","v":0},{"$f":"IFERROR($E70*SUMIF('Daily Log'!$BD$18:$BD$1017,$B70,'Daily Log'!$BE$18:$BE$1017),0)","v":0},{"$f":"IFERROR($E70*SUMIF('Daily Log'!$BG$18:$BG$1017,$B70,'Daily Log'!$BH$18:$BH$1017),0)","v":0},{"$f":"IFERROR($E70*SUMIF('Daily Log'!$BJ$18:$BJ$1017,$B70,'Daily Log'!$BK$18:$BK$1017),0)","v":0},{"$f":"IFERROR($E70*SUMIF('Daily Log'!$BM$18:$BM$1017,$B70,'Daily Log'!$BN$18:$BN$1017),0)","v":0},{"$f":"IFERROR($E70*SUMIF('Daily Log'!$BP$18:$BP$1017,$B70,'Daily Log'!$BQ$18:$BQ$1017),0)","v":0},{"$f":"IFERROR($E70*SUMIF('Daily Log'!$BS$18:$BS$1017,$B70,'Daily Log'!$BT$18:$BT$1017),0)","v":0},{"$f":"IFERROR($E70*SUMIF('Daily Log'!$BV$18:$BV$1017,$B70,'Daily Log'!$BW$18:$BW$1017),0)","v":0},{"$f":"IFERROR($E70*SUMIF('Daily Log'!$BY$18:$BY$1017,$B70,'Daily Log'!$BZ$18:$BZ$1017),0)","v":0},{"$f":"IFERROR($E70*SUMIF('Daily Log'!$CB$18:$CB$1017,$B70,'Daily Log'!$CC$18:$CC$1017),0)","v":0},{"$f":"IFERROR($E70*SUMIF('Daily Log'!$CE$18:$CE$1017,$B70,'Daily Log'!$CF$18:$CF$1017),0)","v":0},{"$f":"IFERROR($E70*SUMIF('Daily Log'!$CH$18:$CH$1017,$B70,'Daily Log'!$CI$18:$CI$1017),0)","v":0},{"$f":"IFERROR($E70*SUMIF('Daily Log'!$CK$18:$CK$1017,$B70,'Daily Log'!$CL$18:$CL$1017),0)","v":4},{"$f":"IFERROR($E70*SUMIF('Daily Log'!$CN$18:$CN$1017,$B70,'Daily Log'!$CO$18:$CO$1017),0)","v":0}]
[null,"AA32 1302:NUGGET",null,null,1,26,{"$f":"IFERROR($E71*SUMIF('Daily Log'!$B$18:$B$1017,$B71,'Daily Log'!$C$18:$C$1017),0)","v":0},{"$f":"IFERROR($E71*SUMIF('Daily Log'!$E$18:$E$1017,$B71,'Daily Log'!$F$18:$F$1017),0)","v":0},{"$f":"IFERROR($E71*SUMIF('Daily Log'!$H$18:$H$1017,$B71,'Daily Log'!$I$18:$I$1017),0)","v":0},{"$f":"IFERROR($E71*SUMIF('Daily Log'!$K$18:$K$1017,$B71,'Daily Log'!$L$18:$L$1017),0)","v":0},{"$f":"IFERROR($E71*SUMIF('Daily Log'!$N$18:$N$1017,$B71,'Daily Log'!$O$18:$O$1017),0)","v":0},{"$f":"IFERROR($E71*SUMIF('Daily Log'!$Q$18:$Q$1017,$B71,'Daily Log'!$R$18:$R$1017),0)","v":0},{"$f":"IFERROR($E71*SUMIF('Daily Log'!$T$18:$T$1017,$B71,'Daily Log'!$U$18:$U$1017),0)","v":0},{"$f":"IFERROR($E71*SUMIF('Daily Log'!$W$18:$W$1017,$B71,'Daily Log'!$X$18:$X$1017),0)","v":0},{"$f":"IFERROR($E71*SUMIF('Daily Log'!$Z$18:$Z$1017,$B71,'Daily Log'!$AA$18:$AA$1017),0)","v":0},{"$f":"IFERROR($E71*SUMIF('Daily Log'!$AC$18:$AC$1017,$B71,'Daily Log'!$AD$18:$AD$1017),0)","v":0},{"$f":"IFERROR($E71*SUMIF('Daily Log'!$AF$18:$AF$1017,$B71,'Daily Log'!$AG$18:$AG$1017),0)","v":0},{"$f":"IFERROR($E71*SUMIF('Daily Log'!$AI$18:$AI$1017,$B71,'Daily Log'!$AJ$18:$AJ$1017),0)","v":0},{"$f":"IFERROR($E71*SUMIF('Daily Log'!$AL$18:$AL$1017,$B71,'Daily Log'!$AM$18:$AM$1017),0)","v":0},{"$f":"IFERROR($E71*SUMIF('Daily Log'!$AO$18:$AO$1017,$B71,'Daily Log'!$AP$18:$AP$1017),0)","v":0},{"$f":"IFERROR($E71*SUMIF('Daily Log'!$AR$18:$AR$1017,$B71,'Daily Log'!$AS$18:$AS$1017),0)","v":0},{"$f":"IFERROR($E71*SUMIF('Daily Log'!$AU$18:$AU$1017,$B71,'Daily Log'!$AV$18:$AV$1017),0)","v":0},{"$f":"IFERROR($E71*SUMIF('Daily Log'!$AX$18:$AX$1017,$B71,'Daily Log'!$AY$18:$AY$1017),0)","v":0},{"$f":"IFERROR($E71*SUMIF('Daily Log'!$BA$18:$BA$1017,$B71,'Daily Log'!$BB$18:$BB$1017),0)","v":0},{"$f":"IFERROR($E71*SUMIF('Daily Log'!$BD$18:$BD$1017,$B71,'Daily Log'!$BE$18:$BE$1017),0)","v":0},{"$f":"IFERROR($E71*SUMIF('Daily Log'!$BG$18:$BG$1017,$B71,'Daily Log'!$BH$18:$BH$1017),0)","v":0},{"$f":"IFERROR($E71*SUMIF('Daily Log'!$BJ$18:$BJ$1017,$B71,'Daily Log'!$BK$18:$BK$1017),0)","v":0},{"$f":"IFERROR($E71*SUMIF('Daily Log'!$BM$18:$BM$1017,$B71,'Daily Log'!$BN$18:$BN$1017),0)","v":0},{"$f":"IFERROR($E71*SUMIF('Daily Log'!$BP$18:$BP$1017,$B71,'Daily Log'!$BQ$18:$BQ$1017),0)","v":0},{"$f":"IFERROR($E71*SUMIF('Daily Log'!$BS$18:$BS$1017,$B71,'Daily Log'!$BT$18:$BT$1017),0)","v":0},{"$f":"IFERROR($E71*SUMIF('Daily Log'!$BV$18:$BV$1017,$B71,'Daily Log'!$BW$18:$BW$1017),0)","v":0},{"$f":"IFERROR($E71*SUMIF('Daily Log'!$BY$18:$BY$1017,$B71,'Daily Log'!$BZ$18:$BZ$1017),0)","v":0},{"$f":"IFERROR($E71*SUMIF('Daily Log'!$CB$18:$CB$1017,$B71,'Daily Log'!$CC$18:$CC$1017),0)","v":0},{"$f":"IFERROR($E71*SUMIF('Daily Log'!$CE$18:$CE$1017,$B71,'Daily Log'!$CF$18:$CF$1017),0)","v":0},{"$f":"IFERROR($E71*SUMIF('Daily Log'!$CH$18:$CH$1017,$B71,'Daily Log'!$CI$18:$CI$1017),0)","v":0},{"$f":"IFERROR($E71*SUMIF('Daily Log'!$CK$18:$CK$1017,$B71,'Daily Log'!$CL$18:$CL$1017),0)","v":26},{"$f":"IFERROR($E71*SUMIF('Daily Log'!$CN$18:$CN$1017,$B71,'Daily Log'!$CO$18:$CO$1017),0)","v":0}]
[null,"AA33 1303:CHK WING",null,null,1,29,{"$f":"IFERROR($E72*SUMIF('Daily Log'!$B$18:$B$1017,$B72,'Daily Log'!$C$18:$C$1017),0)","v":0},{"$f":"IFERROR($E72*SUMIF('Daily Log'!$E$18:$E$1017,$B72,'Daily Log'!$F$18:$F$1017),0)","v":0},{"$f":"IFERROR($E72*SUMIF('Daily Log'!$H$18:$H$1017,$B72,'Daily Log'!$I$18:$I$1017),0)","v":0},{"$f":"IFERROR($E72*SUMIF('Daily Log'!$K$18:$K$1017,$B72,'Daily Log'!$L$18:$L$1017),0)","v":0},{"$f":"IFERROR($E72*SUMIF('Daily Log'!$N$18:$N$1017,$B72,'Daily Log'!$O$18:$O$1017),0)","v":0},{"$f":"IFERROR($E72*SUMIF('Daily Log'!$Q$18:$Q$1017,$B72,'Daily Log'!$R$18:$R$1017),0)","v":0},{"$f":"IFERROR($E72*SUMIF('Daily Log'!$T$18:$T$1017,$B72,'Daily Log'!$U$18:$U$1017),0)","v":0},{"$f":"IFERROR($E72*SUMIF('Daily Log'!$W$18:$W$1017,$B72,'Daily Log'!$X$18:$X$1017),0)","v":0},{"$f":"IFERROR($E72*SUMIF('Daily Log'!$Z$18:$Z$1017,$B72,'Daily Log'!$AA$18:$AA$1017),0)","v":0},{"$f":"IFERROR($E72*SUMIF('Daily Log'!$AC$18:$AC$1017,$B72,'Daily Log'!$AD$18:$AD$1017),0)","v":0},{"$f":"IFERROR($E72*SUMIF('Daily Log'!$AF$18:$AF$1017,$B72,'Daily Log'!$AG$18:$AG$1017),0)","v":0},{"$f":"IFERROR($E72*SUMIF('Daily Log'!$AI$18:$AI$1017,$B72,'Daily Log'!$AJ$18:$AJ$1017),0)","v":0},{"$f":"IFERROR($E72*SUMIF('Daily Log'!$AL$18:$AL$1017,$B72,'Daily Log'!$AM$18:$AM$1017),0)","v":0},{"$f":"IFERROR($E72*SUMIF('Daily Log'!$AO$18:$AO$1017,$B72,'Daily Log'!$AP$18:$AP$1017),0)","v":0},{"$f":"IFERROR($E72*SUMIF('Daily Log'!$AR$18:$AR$1017,$B72,'Daily Log'!$AS$18:$AS$1017),0)","v":0},{"$f":"IFERROR($E72*SUMIF('Daily Log'!$AU$18:$AU$1017,$B72,'Daily Log'!$AV$18:$AV$1017),0)","v":0},{"$f":"IFERROR($E72*SUMIF('Daily Log'!$AX$18:$AX$1017,$B72,'Daily Log'!$AY$18:$AY$1017),0)","v":0},{"$f":"IFERROR($E72*SUMIF('Daily Log'!$BA$18:$BA$1017,$B72,'Daily Log'!$BB$18:$BB$1017),0)","v":0},{"$f":"IFERROR($E72*SUMIF('Daily Log'!$BD$18:$BD$1017,$B72,'Daily Log'!$BE$18:$BE$1017),0)","v":0},{"$f":"IFERROR($E72*SUMIF('Daily Log'!$BG$18:$BG$1017,$B72,'Daily Log'!$BH$18:$BH$1017),0)","v":0},{"$f":"IFERROR($E72*SUMIF('Daily Log'!$BJ$18:$BJ$1017,$B72,'Daily Log'!$BK$18:$BK$1017),0)","v":0},{"$f":"IFERROR($E72*SUMIF('Daily Log'!$BM$18:$BM$1017,$B72,'Daily Log'!$BN$18:$BN$1017),0)","v":0},{"$f":"IFERROR($E72*SUMIF('Daily Log'!$BP$18:$BP$1017,$B72,'Daily Log'!$BQ$18:$BQ$1017),0)","v":0},{"$f":"IFERROR($E72*SUMIF('Daily Log'!$BS$18:$BS$1017,$B72,'Daily Log'!$BT$18:$BT$1017),0)","v":0},{"$f":"IFERROR($E72*SUMIF('Daily Log'!$BV$18:$BV$1017,$B72,'Daily Log'!$BW$18:$BW$1017),0)","v":0},{"$f":"IFERROR($E72*SUMIF('Daily Log'!$BY$18:$BY$1017,$B72,'Daily Log'!$BZ$18:$BZ$1017),0)","v":0},{"$f":"IFERROR($E72*SUMIF('Daily Log'!$CB$18:$CB$1017,$B72,'Daily Log'!$CC$18:$CC$1017),0)","v":0},{"$f":"IFERROR($E72*SUMIF('Daily Log'!$CE$18:$CE$1017,$B72,'Daily Log'!$CF$18:$CF$1017),0)","v":0},{"$f":"IFERROR($E72*SUMIF('Daily Log'!$CH$18:$CH$1017,$B72,'Daily Log'!$CI$18:$CI$1017),0)","v":0},{"$f":"IFERROR($E72*SUMIF('Daily Log'!$CK$18:$CK$1017,$B72,'Daily Log'!$CL$18:$CL$1017),0)","v":29},{"$f":"IFERROR($E72*SUMIF('Daily Log'!$CN$18:$CN$1017,$B72,'Daily Log'!$CO$18:$CO$1017),0)","v":0}]
[null,"AA38 1308:MC RING",null,null,1,6,{"$f":"IFERROR($E73*SUMIF('Daily Log'!$B$18:$B$1017,$B73,'Daily Log'!$C$18:$C$1017),0)","v":0},{"$f":"IFERROR($E73*SUMIF('Daily Log'!$E$18:$E$1017,$B73,'Daily Log'!$F$18:$F$1017),0)","v":0},{"$f":"IFERROR($E73*SUMIF('Daily Log'!$H$18:$H$1017,$B73,'Daily Log'!$I$18:$I$1017),0)","v":0},{"$f":"IFERROR($E73*SUMIF('Daily Log'!$K$18:$K$1017,$B73,'Daily Log'!$L$18:$L$1017),0)","v":0},{"$f":"IFERROR($E73*SUMIF('Daily Log'!$N$18:$N$1017,$B73,'Daily Log'!$O$18:$O$1017),0)","v":0},{"$f":"IFERROR($E73*SUMIF('Daily Log'!$Q$18:$Q$1017,$B73,'Daily Log'!$R$18:$R$1017),0)","v":0},{"$f":"IFERROR($E73*SUMIF('Daily Log'!$T$18:$T$1017,$B73,'Daily Log'!$U$18:$U$1017),0)","v":0},{"$f":"IFERROR($E73*SUMIF('Daily Log'!$W$18:$W$1017,$B73,'Daily Log'!$X$18:$X$1017),0)","v":0},{"$f":"IFERROR($E73*SUMIF('Daily Log'!$Z$18:$Z$1017,$B73,'Daily Log'!$AA$18:$AA$1017),0)","v":0},{"$f":"IFERROR($E73*SUMIF('Daily Log'!$AC$18:$AC$1017,$B73,'Daily Log'!$AD$18:$AD$1017),0)","v":0},{"$f":"IFERROR($E73*SUMIF('Daily Log'!$AF$18:$AF$1017,$B73,'Daily Log'!$AG$18:$AG$1017),0)","v":0},{"$f":"IFERROR($E73*SUMIF('Daily Log'!$AI$18:$AI$1017,$B73,'Daily Log'!$AJ$18:$AJ$1017),0)","v":0},{"$f":"IFERROR($E73*SUMIF('Daily Log'!$AL$18:$AL$1017,$B73,'Daily Log'!$AM$18:$AM$1017),0)","v":0},{"$f":"IFERROR($E73*SUMIF('Daily Log'!$AO$18:$AO$1017,$B73,'Daily Log'!$AP$18:$AP$1017),0)","v":0},{"$f":"IFERROR($E73*SUMIF('Daily Log'!$AR$18:$AR$1017,$B73,'Daily Log'!$AS$18:$AS$1017),0)","v":0},{"$f":"IFERROR($E73*SUMIF('Daily Log'!$AU$18:$AU$1017,$B73,'Daily Log'!$AV$18:$AV$1017),0)","v":0},{"$f":"IFERROR($E73*SUMIF('Daily Log'!$AX$18:$AX$1017,$B73,'Daily Log'!$AY$18:$AY$1017),0)","v":0},{"$f":"IFERROR($E73*SUMIF('Daily Log'!$BA$18:$BA$1017,$B73,'Daily Log'!$BB$18:$BB$1017),0)","v":0},{"$f":"IFERROR($E73*SUMIF('Daily Log'!$BD$18:$BD$1017,$B73,'Daily Log'!$BE$18:$BE$1017),0)","v":0},{"$f":"IFERROR($E73*SUMIF('Daily Log'!$BG$18:$BG$1017,$B73,'Daily Log'!$BH$18:$BH$1017),0)","v":0},{"$f":"IFERROR($E73*SUMIF('Daily Log'!$BJ$18:$BJ$1017,$B73,'Daily Log'!$BK$18:$BK$1017),0)","v":0},{"$f":"IFERROR($E73*SUMIF('Daily Log'!$BM$18:$BM$1017,$B73,'Daily Log'!$BN$18:$BN$1017),0)","v":0},{"$f":"IFERROR($E73*SUMIF('Daily Log'!$BP$18:$BP$1017,$B73,'Daily Log'!$BQ$18:$BQ$1017),0)","v":0},{"$f":"IFERROR($E73*SUMIF('Daily Log'!$BS$18:$BS$1017,$B73,'Daily Log'!$BT$18:$BT$1017),0)","v":0},{"$f":"IFERROR($E73*SUMIF('Daily Log'!$BV$18:$BV$1017,$B73,'Daily Log'!$BW$18:$BW$1017),0)","v":0},{"$f":"IFERROR($E73*SUMIF('Daily Log'!$BY$18:$BY$1017,$B73,'Daily Log'!$BZ$18:$BZ$1017),0)","v":0},{"$f":"IFERROR($E73*SUMIF('Daily Log'!$CB$18:$CB$1017,$B73,'Daily Log'!$CC$18:$CC$1017),0)","v":0},{"$f":"IFERROR($E73*SUMIF('Daily Log'!$CE$18:$CE$1017,$B73,'Daily Log'!$CF$18:$CF$1017),0)","v":0},{"$f":"IFERROR($E73*SUMIF('Daily Log'!$CH$18:$CH$1017,$B73,'Daily Log'!$CI$18:$CI$1017),0)","v":0},{"$f":"IFERROR($E73*SUMIF('Daily Log'!$CK$18:$CK$1017,$B73,'Daily Log'!$CL$18:$CL$1017),0)","v":6},{"$f":"IFERROR($E73*SUMIF('Daily Log'!$CN$18:$CN$1017,$B73,'Daily Log'!$CO$18:$CO$1017),0)","v":0}]
[null,"AA39 1309:MC S.FRIES",null,null,1,3,{"$f":"IFERROR($E74*SUMIF('Daily Log'!$B$18:$B$1017,$B74,'Daily Log'!$C$18:$C$1017),0)","v":0},{"$f":"IFERROR($E74*SUMIF('Daily Log'!$E$18:$E$1017,$B74,'Daily Log'!$F$18:$F$1017),0)","v":0},{"$f":"IFERROR($E74*SUMIF('Daily Log'!$H$18:$H$1017,$B74,'Daily Log'!$I$18:$I$1017),0)","v":0},{"$f":"IFERROR($E74*SUMIF('Daily Log'!$K$18:$K$1017,$B74,'Daily Log'!$L$18:$L$1017),0)","v":0},{"$f":"IFERROR($E74*SUMIF('Daily Log'!$N$18:$N$1017,$B74,'Daily Log'!$O$18:$O$1017),0)","v":0},{"$f":"IFERROR($E74*SUMIF('Daily Log'!$Q$18:$Q$1017,$B74,'Daily Log'!$R$18:$R$1017),0)","v":0},{"$f":"IFERROR($E74*SUMIF('Daily Log'!$T$18:$T$1017,$B74,'Daily Log'!$U$18:$U$1017),0)","v":0},{"$f":"IFERROR($E74*SUMIF('Daily Log'!$W$18:$W$1017,$B74,'Daily Log'!$X$18:$X$1017),0)","v":0},{"$f":"IFERROR($E74*SUMIF('Daily Log'!$Z$18:$Z$1017,$B74,'Daily Log'!$AA$18:$AA$1017),0)","v":0},{"$f":"IFERROR($E74*SUMIF('Daily Log'!$AC$18:$AC$1017,$B74,'Daily Log'!$AD$18:$AD$1017),0)","v":0},{"$f":"IFERROR($E74*SUMIF('Daily Log'!$AF$18:$AF$1017,$B74,'Daily Log'!$AG$18:$AG$1017),0)","v":0},{"$f":"IFERROR($E74*SUMIF('Daily Log'!$AI$18:$AI$1017,$B74,'Daily Log'!$AJ$18:$AJ$1017),0)","v":0},{"$f":"IFERROR($E74*SUMIF('Daily Log'!$AL$18:$AL$1017,$B74,'Daily Log'!$AM$18:$AM$1017),0)","v":0},{"$f":"IFERROR($E74*SUMIF('Daily Log'!$AO$18:$AO$1017,$B74,'Daily Log'!$AP$18:$AP$1017),0)","v":0},{"$f":"IFERROR($E74*SUMIF('Daily Log'!$AR$18:$AR$1017,$B74,'Daily Log'!$AS$18:$AS$1017),0)","v":0},{"$f":"IFERROR($E74*SUMIF('Daily Log'!$AU$18:$AU$1017,$B74,'Daily Log'!$AV$18:$AV$1017),0)","v":0},{"$f":"IFERROR($E74*SUMIF('Daily Log'!$AX$18:$AX$1017,$B74,'Daily Log'!$AY$18:$AY$1017),0)","v":0},{"$f":"IFERROR($E74*SUMIF('Daily Log'!$BA$18:$BA$1017,$B74,'Daily Log'!$BB$18:$BB$1017),0)","v":0},{"$f":"IFERROR($E74*SUMIF('Daily Log'!$BD$18:$BD$1017,$B74,'Daily Log'!$BE$18:$BE$1017),0)","v":0},{"$f":"IFERROR($E74*SUMIF('Daily Log'!$BG$18:$BG$1017,$B74,'Daily Log'!$BH$18:$BH$1017),0)","v":0},{"$f":"IFERROR($E74*SUMIF('Daily Log'!$BJ$18:$BJ$1017,$B74,'Daily Log'!$BK$18:$BK$1017),0)","v":0},{"$f":"IFERROR($E74*SUMIF('Daily Log'!$BM$18:$BM$1017,$B74,'Daily Log'!$BN$18:$BN$1017),0)","v":0},{"$f":"IFERROR($E74*SUMIF('Daily Log'!$BP$18:$BP$1017,$B74,'Daily Log'!$BQ$18:$BQ$1017),0)","v":0},{"$f":"IFERROR($E74*SUMIF('Daily Log'!$BS$18:$BS$1017,$B74,'Daily Log'!$BT$18:$BT$1017),0)","v":0},{"$f":"IFERROR($E74*SUMIF('Daily Log'!$BV$18:$BV$1017,$B74,'Daily Log'!$BW$18:$BW$1017),0)","v":0},{"$f":"IFERROR($E74*SUMIF('Daily Log'!$BY$18:$BY$1017,$B74,'Daily Log'!$BZ$18:$BZ$1017),0)","v":0},{"$f":"IFERROR($E74*SUMIF('Daily Log'!$CB$18:$CB$1017,$B74,'Daily Log'!$CC$18:$CC$1017),0)","v":0},{"$f":"IFERROR($E74*SUMIF('Daily Log'!$CE$18:$CE$1017,$B74,'Daily Log'!$CF$18:$CF$1017),0)","v":0},{"$f":"IFERROR($E74*SUMIF('Daily Log'!$CH$18:$CH$1017,$B74,'Daily Log'!$CI$18:$CI$1017),0)","v":0},{"$f":"IFERROR($E74*SUMIF('Daily Log'!$CK$18:$CK$1017,$B74,'Daily Log'!$CL$18:$CL$1017),0)","v":3},{"$f":"IFERROR($E74*SUMIF('Daily Log'!$CN$18:$CN$1017,$B74,'Daily Log'!$CO$18:$CO$1017),0)","v":0}]
[null,"AA40 1310:MC HP SMIL",null,null,1,0,{"$f":"IFERROR($E75*SUMIF('Daily Log'!$B$18:$B$1017,$B75,'Daily Log'!$C$18:$C$1017),0)","v":0},{"$f":"IFERROR($E75*SUMIF('Daily Log'!$E$18:$E$1017,$B75,'Daily Log'!$F$18:$F$1017),0)","v":0},{"$f":"IFERROR($E75*SUMIF('Daily Log'!$H$18:$H$1017,$B75,'Daily Log'!$I$18:$I$1017),0)","v":0},{"$f":"IFERROR($E75*SUMIF('Daily Log'!$K$18:$K$1017,$B75,'Daily Log'!$L$18:$L$1017),0)","v":0},{"$f":"IFERROR($E75*SUMIF('Daily Log'!$N$18:$N$1017,$B75,'Daily Log'!$O$18:$O$1017),0)","v":0},{"$f":"IFERROR($E75*SUMIF('Daily Log'!$Q$18:$Q$1017,$B75,'Daily Log'!$R$18:$R$1017),0)","v":0},{"$f":"IFERROR($E75*SUMIF('Daily Log'!$T$18:$T$1017,$B75,'Daily Log'!$U$18:$U$1017),0)","v":0},{"$f":"IFERROR($E75*SUMIF('Daily Log'!$W$18:$W$1017,$B75,'Daily Log'!$X$18:$X$1017),0)","v":0},{"$f":"IFERROR($E75*SUMIF('Daily Log'!$Z$18:$Z$1017,$B75,'Daily Log'!$AA$18:$AA$1017),0)","v":0},{"$f":"IFERROR($E75*SUMIF('Daily Log'!$AC$18:$AC$1017,$B75,'Daily Log'!$AD$18:$AD$1017),0)","v":0},{"$f":"IFERROR($E75*SUMIF('Daily Log'!$AF$18:$AF$1017,$B75,'Daily Log'!$AG$18:$AG$1017),0)","v":0},{"$f":"IFERROR($E75*SUMIF('Daily Log'!$AI$18:$AI$1017,$B75,'Daily Log'!$AJ$18:$AJ$1017),0)","v":0},{"$f":"IFERROR($E75*SUMIF('Daily Log'!$AL$18:$AL$1017,$B75,'Daily Log'!$AM$18:$AM$1017),0)","v":0},{"$f":"IFERROR($E75*SUMIF('Daily Log'!$AO$18:$AO$1017,$B75,'Daily Log'!$AP$18:$AP$1017),0)","v":0},{"$f":"IFERROR($E75*SUMIF('Daily Log'!$AR$18:$AR$1017,$B75,'Daily Log'!$AS$18:$AS$1017),0)","v":0},{"$f":"IFERROR($E75*SUMIF('Daily Log'!$AU$18:$AU$1017,$B75,'Daily Log'!$AV$18:$AV$1017),0)","v":0},{"$f":"IFERROR($E75*SUMIF('Daily Log'!$AX$18:$AX$1017,$B75,'Daily Log'!$AY$18:$AY$1017),0)","v":0},{"$f":"IFERROR($E75*SUMIF('Daily Log'!$BA$18:$BA$1017,$B75,'Daily Log'!$BB$18:$BB$1017),0)","v":0},{"$f":"IFERROR($E75*SUMIF('Daily Log'!$BD$18:$BD$1017,$B75,'Daily Log'!$BE$18:$BE$1017),0)","v":0},{"$f":"IFERROR($E75*SUMIF('Daily Log'!$BG$18:$BG$1017,$B75,'Daily Log'!$BH$18:$BH$1017),0)","v":0},{"$f":"IFERROR($E75*SUMIF('Daily Log'!$BJ$18:$BJ$1017,$B75,'Daily Log'!$BK$18:$BK$1017),0)","v":0},{"$f":"IFERROR($E75*SUMIF('Daily Log'!$BM$18:$BM$1017,$B75,'Daily Log'!$BN$18:$BN$1017),0)","v":0},{"$f":"IFERROR($E75*SUMIF('Daily Log'!$BP$18:$BP$1017,$B75,'Daily Log'!$BQ$18:$BQ$1017),0)","v":0},{"$f":"IFERROR($E75*SUMIF('Daily Log'!$BS$18:$BS$1017,$B75,'Daily Log'!$BT$18:$BT$1017),0)","v":0},{"$f":"IFERROR($E75*SUMIF('Daily Log'!$BV$18:$BV$1017,$B75,'Daily Log'!$BW$18:$BW$1017),0)","v":0},{"$f":"IFERROR($E75*SUMIF('Daily Log'!$BY$18:$BY$1017,$B75,'Daily Log'!$BZ$18:$BZ$1017),0)","v":0},{"$f":"IFERROR($E75*SUMIF('Daily Log'!$CB$18:$CB$1017,$B75,'Daily Log'!$CC$18:$CC$1017),0)","v":0},{"$f":"IFERROR($E75*SUMIF('Daily Log'!$CE$18:$CE$1017,$B75,'Daily Log'!$CF$18:$CF$1017),0)","v":0},{"$f":"IFERROR($E75*SUMIF('Daily Log'!$CH$18:$CH$1017,$B75,'Daily Log'!$CI$18:$CI$1017),0)","v":0},{"$f":"IFERROR($E75*SUMIF('Daily Log'!$CK$18:$CK$1017,$B75,'Daily Log'!$CL$18:$CL$1017),0)","v":0},{"$f":"IFERROR($E75*SUMIF('Daily Log'!$CN$18:$CN$1017,$B75,'Daily Log'!$CO$18:$CO$1017),0)","v":0}]
[null,"AA41 1311:MC HSH BRW",null,null,1,1,{"$f":"IFERROR($E76*SUMIF('Daily Log'!$B$18:$B$1017,$B76,'Daily Log'!$C$18:$C$1017),0)","v":0},{"$f":"IFERROR($E76*SUMIF('Daily Log'!$E$18:$E$1017,$B76,'Daily Log'!$F$18:$F$1017),0)","v":0},{"$f":"IFERROR($E76*SUMIF('Daily Log'!$H$18:$H$1017,$B76,'Daily Log'!$I$18:$I$1017),0)","v":0},{"$f":"IFERROR($E76*SUMIF('Daily Log'!$K$18:$K$1017,$B76,'Daily Log'!$L$18:$L$1017),0)","v":0},{"$f":"IFERROR($E76*SUMIF('Daily Log'!$N$18:$N$1017,$B76,'Daily Log'!$O$18:$O$1017),0)","v":0},{"$f":"IFERROR($E76*SUMIF('Daily Log'!$Q$18:$Q$1017,$B76,'Daily Log'!$R$18:$R$1017),0)","v":0},{"$f":"IFERROR($E76*SUMIF('Daily Log'!$T$18:$T$1017,$B76,'Daily Log'!$U$18:$U$1017),0)","v":0},{"$f":"IFERROR($E76*SUMIF('Daily Log'!$W$18:$W$1017,$B76,'Daily Log'!$X$18:$X$1017),0)","v":0},{"$f":"IFERROR($E76*SUMIF('Daily Log'!$Z$18:$Z$1017,$B76,'Daily Log'!$AA$18:$AA$1017),0)","v":0},{"$f":"IFERROR($E76*SUMIF('Daily Log'!$AC$18:$AC$1017,$B76,'Daily Log'!$AD$18:$AD$1017),0)","v":0},{"$f":"IFERROR($E76*SUMIF('Daily Log'!$AF$18:$AF$1017,$B76,'Daily Log'!$AG$18:$AG$1017),0)","v":0},{"$f":"IFERROR($E76*SUMIF('Daily Log'!$AI$18:$AI$1017,$B76,'Daily Log'!$AJ$18:$AJ$1017),0)","v":0},{"$f":"IFERROR($E76*SUMIF('Daily Log'!$AL$18:$AL$1017,$B76,'Daily Log'!$AM$18:$AM$1017),0)","v":0},{"$f":"IFERROR($E76*SUMIF('Daily Log'!$AO$18:$AO$1017,$B76,'Daily Log'!$AP$18:$AP$1017),0)","v":0},{"$f":"IFERROR($E76*SUMIF('Daily Log'!$AR$18:$AR$1017,$B76,'Daily Log'!$AS$18:$AS$1017),0)","v":0},{"$f":"IFERROR($E76*SUMIF('Daily Log'!$AU$18:$AU$1017,$B76,'Daily Log'!$AV$18:$AV$1017),0)","v":0},{"$f":"IFERROR($E76*SUMIF('Daily Log'!$AX$18:$AX$1017,$B76,'Daily Log'!$AY$18:$AY$1017),0)","v":0},{"$f":"IFERROR($E76*SUMIF('Daily Log'!$BA$18:$BA$1017,$B76,'Daily Log'!$BB$18:$BB$1017),0)","v":0},{"$f":"IFERROR($E76*SUMIF('Daily Log'!$BD$18:$BD$1017,$B76,'Daily Log'!$BE$18:$BE$1017),0)","v":0},{"$f":"IFERROR($E76*SUMIF('Daily Log'!$BG$18:$BG$1017,$B76,'Daily Log'!$BH$18:$BH$1017),0)","v":0},{"$f":"IFERROR($E76*SUMIF('Daily Log'!$BJ$18:$BJ$1017,$B76,'Daily Log'!$BK$18:$BK$1017),0)","v":0},{"$f":"IFERROR($E76*SUMIF('Daily Log'!$BM$18:$BM$1017,$B76,'Daily Log'!$BN$18:$BN$1017),0)","v":0},{"$f":"IFERROR($E76*SUMIF('Daily Log'!$BP$18:$BP$1017,$B76,'Daily Log'!$BQ$18:$BQ$1017),0)","v":0},{"$f":"IFERROR($E76*SUMIF('Daily Log'!$BS$18:$BS$1017,$B76,'Daily Log'!$BT$18:$BT$1017),0)","v":0},{"$f":"IFERROR($E76*SUMIF('Daily Log'!$BV$18:$BV$1017,$B76,'Daily Log'!$BW$18:$BW$1017),0)","v":0},{"$f":"IFERROR($E76*SUMIF('Daily Log'!$BY$18:$BY$1017,$B76,'Daily Log'!$BZ$18:$BZ$1017),0)","v":0},{"$f":"IFERROR($E76*SUMIF('Daily Log'!$CB$18:$CB$1017,$B76,'Daily Log'!$CC$18:$CC$1017),0)","v":0},{"$f":"IFERROR($E76*SUMIF('Daily Log'!$CE$18:$CE$1017,$B76,'Daily Log'!$CF$18:$CF$1017),0)","v":0},{"$f":"IFERROR($E76*SUMIF('Daily Log'!$CH$18:$CH$1017,$B76,'Daily Log'!$CI$18:$CI$1017),0)","v":0},{"$f":"IFERROR($E76*SUMIF('Daily Log'!$CK$18:$CK$1017,$B76,'Daily Log'!$CL$18:$CL$1017),0)","v":1},{"$f":"IFERROR($E76*SUMIF('Daily Log'!$CN$18:$CN$1017,$B76,'Daily Log'!$CO$18:$CO$1017),0)","v":0}]
[null,"AF02 91202:FREN FRIES",null,null,1,28,{"$f":"IFERROR($E77*SUMIF('Daily Log'!$B$18:$B$1017,$B77,'Daily Log'!$C$18:$C$1017),0)","v":0},{"$f":"IFERROR($E77*SUMIF('Daily Log'!$E$18:$E$1017,$B77,'Daily Log'!$F$18:$F$1017),0)","v":0},{"$f":"IFERROR($E77*SUMIF('Daily Log'!$H$18:$H$1017,$B77,'Daily Log'!$I$18:$I$1017),0)","v":0},{"$f":"IFERROR($E77*SUMIF('Daily Log'!$K$18:$K$1017,$B77,'Daily Log'!$L$18:$L$1017),0)","v":0},{"$f":"IFERROR($E77*SUMIF('Daily Log'!$N$18:$N$1017,$B77,'Daily Log'!$O$18:$O$1017),0)","v":0},{"$f":"IFERROR($E77*SUMIF('Daily Log'!$Q$18:$Q$1017,$B77,'Daily Log'!$R$18:$R$1017),0)","v":0},{"$f":"IFERROR($E77*SUMIF('Daily Log'!$T$18:$T$1017,$B77,'Daily Log'!$U$18:$U$1017),0)","v":0},{"$f":"IFERROR($E77*SUMIF('Daily Log'!$W$18:$W$1017,$B77,'Daily Log'!$X$18:$X$1017),0)","v":0},{"$f":"IFERROR($E77*SUMIF('Daily Log'!$Z$18:$Z$1017,$B77,'Daily Log'!$AA$18:$AA$1017),0)","v":0},{"$f":"IFERROR($E77*SUMIF('Daily Log'!$AC$18:$AC$1017,$B77,'Daily Log'!$AD$18:$AD$1017),0)","v":0},{"$f":"IFERROR($E77*SUMIF('Daily Log'!$AF$18:$AF$1017,$B77,'Daily Log'!$AG$18:$AG$1017),0)","v":0},{"$f":"IFERROR($E77*SUMIF('Daily Log'!$AI$18:$AI$1017,$B77,'Daily Log'!$AJ$18:$AJ$1017),0)","v":0},{"$f":"IFERROR($E77*SUMIF('Daily Log'!$AL$18:$AL$1017,$B77,'Daily Log'!$AM$18:$AM$1017),0)","v":0},{"$f":"IFERROR($E77*SUMIF('Daily Log'!$AO$18:$AO$1017,$B77,'Daily Log'!$AP$18:$AP$1017),0)","v":0},{"$f":"IFERROR($E77*SUMIF('Daily Log'!$AR$18:$AR$1017,$B77,'Daily Log'!$AS$18:$AS$1017),0)","v":0},{"$f":"IFERROR($E77*SUMIF('Daily Log'!$AU$18:$AU$1017,$B77,'Daily Log'!$AV$18:$AV$1017),0)","v":0},{"$f":"IFERROR($E77*SUMIF('Daily Log'!$AX$18:$AX$1017,$B77,'Daily Log'!$AY$18:$AY$1017),0)","v":0},{"$f":"IFERROR($E77*SUMIF('Daily Log'!$BA$18:$BA$1017,$B77,'Daily Log'!$BB$18:$BB$1017),0)","v":0},{"$f":"IFERROR($E77*SUMIF('Daily Log'!$BD$18:$BD$1017,$B77,'Daily Log'!$BE$18:$BE$1017),0)","v":0},{"$f":"IFERROR($E77*SUMIF('Daily Log'!$BG$18:$BG$1017,$B77,'Daily Log'!$BH$18:$BH$1017),0)","v":0},{"$f":"IFERROR($E77*SUMIF('Daily Log'!$BJ$18:$BJ$1017,$B77,'Daily Log'!$BK$18:$BK$1017),0)","v":0},{"$f":"IFERROR($E77*SUMIF('Daily Log'!$BM$18:$BM$1017,$B77,'Daily Log'!$BN$18:$BN$1017),0)","v":0},{"$f":"IFERROR($E77*SUMIF('Daily Log'!$BP$18:$BP$1017,$B77,'Daily Log'!$BQ$18:$BQ$1017),0)","v":0},{"$f":"IFERROR($E77*SUMIF('Daily Log'!$BS$18:$BS$1017,$B77,'Daily Log'!$BT$18:$BT$1017),0)","v":0},{"$f":"IFERROR($E77*SUMIF('Daily Log'!$BV$18:$BV$1017,$B77,'Daily Log'!$BW$18:$BW$1017),0)","v":0},{"$f":"IFERROR($E77*SUMIF('Daily Log'!$BY$18:$BY$1017,$B77,'Daily Log'!$BZ$18:$BZ$1017),0)","v":0},{"$f":"IFERROR($E77*SUMIF('Daily Log'!$CB$18:$CB$1017,$B77,'Daily Log'!$CC$18:$CC$1017),0)","v":0},{"$f":"IFERROR($E77*SUMIF('Daily Log'!$CE$18:$CE$1017,$B77,'Daily Log'!$CF$18:$CF$1017),0)","v":0},{"$f":"IFERROR($E77*SUMIF('Daily Log'!$CH$18:$CH$1017,$B77,'Daily Log'!$CI$18:$CI$1017),0)","v":0},{"$f":"IFERROR($E77*SUMIF('Daily Log'!$CK$18:$CK$1017,$B77,'Daily Log'!$CL$18:$CL$1017),0)","v":28},{"$f":"IFERROR($E77*SUMIF('Daily Log'!$CN$18:$CN$1017,$B77,'Daily Log'!$CO$18:$CO$1017),0)","v":0}]
[null,"AF04 91204:FSH BALL",null,null,1,4,{"$f":"IFERROR($E78*SUMIF('Daily Log'!$B$18:$B$1017,$B78,'Daily Log'!$C$18:$C$1017),0)","v":0},{"$f":"IFERROR($E78*SUMIF('Daily Log'!$E$18:$E$1017,$B78,'Daily Log'!$F$18:$F$1017),0)","v":0},{"$f":"IFERROR($E78*SUMIF('Daily Log'!$H$18:$H$1017,$B78,'Daily Log'!$I$18:$I$1017),0)","v":0},{"$f":"IFERROR($E78*SUMIF('Daily Log'!$K$18:$K$1017,$B78,'Daily Log'!$L$18:$L$1017),0)","v":0},{"$f":"IFERROR($E78*SUMIF('Daily Log'!$N$18:$N$1017,$B78,'Daily Log'!$O$18:$O$1017),0)","v":0},{"$f":"IFERROR($E78*SUMIF('Daily Log'!$Q$18:$Q$1017,$B78,'Daily Log'!$R$18:$R$1017),0)","v":0},{"$f":"IFERROR($E78*SUMIF('Daily Log'!$T$18:$T$1017,$B78,'Daily Log'!$U$18:$U$1017),0)","v":0},{"$f":"IFERROR($E78*SUMIF('Daily Log'!$W$18:$W$1017,$B78,'Daily Log'!$X$18:$X$1017),0)","v":0},{"$f":"IFERROR($E78*SUMIF('Daily Log'!$Z$18:$Z$1017,$B78,'Daily Log'!$AA$18:$AA$1017),0)","v":0},{"$f":"IFERROR($E78*SUMIF('Daily Log'!$AC$18:$AC$1017,$B78,'Daily Log'!$AD$18:$AD$1017),0)","v":0},{"$f":"IFERROR($E78*SUMIF('Daily Log'!$AF$18:$AF$1017,$B78,'Daily Log'!$AG$18:$AG$1017),0)","v":0},{"$f":"IFERROR($E78*SUMIF('Daily Log'!$AI$18:$AI$1017,$B78,'Daily Log'!$AJ$18:$AJ$1017),0)","v":0},{"$f":"IFERROR($E78*SUMIF('Daily Log'!$AL$18:$AL$1017,$B78,'Daily Log'!$AM$18:$AM$1017),0)","v":0},{"$f":"IFERROR($E78*SUMIF('Daily Log'!$AO$18:$AO$1017,$B78,'Daily Log'!$AP$18:$AP$1017),0)","v":0},{"$f":"IFERROR($E78*SUMIF('Daily Log'!$AR$18:$AR$1017,$B78,'Daily Log'!$AS$18:$AS$1017),0)","v":0},{"$f":"IFERROR($E78*SUMIF('Daily Log'!$AU$18:$AU$1017,$B78,'Daily Log'!$AV$18:$AV$1017),0)","v":0},{"$f":"IFERROR($E78*SUMIF('Daily Log'!$AX$18:$AX$1017,$B78,'Daily Log'!$AY$18:$AY$1017),0)","v":0},{"$f":"IFERROR($E78*SUMIF('Daily Log'!$BA$18:$BA$1017,$B78,'Daily Log'!$BB$18:$BB$1017),0)","v":0},{"$f":"IFERROR($E78*SUMIF('Daily Log'!$BD$18:$BD$1017,$B78,'Daily Log'!$BE$18:$BE$1017),0)","v":0},{"$f":"IFERROR($E78*SUMIF('Daily Log'!$BG$18:$BG$1017,$B78,'Daily Log'!$BH$18:$BH$1017),0)","v":0},{"$f":"IFERROR($E78*SUMIF('Daily Log'!$BJ$18:$BJ$1017,$B78,'Daily Log'!$BK$18:$BK$1017),0)","v":0},{"$f":"IFERROR($E78*SUMIF('Daily Log'!$BM$18:$BM$1017,$B78,'Daily Log'!$BN$18:$BN$1017),0)","v":0},{"$f":"IFERROR($E78*SUMIF('Daily Log'!$BP$18:$BP$1017,$B78,'Daily Log'!$BQ$18:$BQ$1017),0)","v":0},{"$f":"IFERROR($E78*SUMIF('Daily Log'!$BS$18:$BS$1017,$B78,'Daily Log'!$BT$18:$BT$1017),0)","v":0},{"$f":"IFERROR($E78*SUMIF('Daily Log'!$BV$18:$BV$1017,$B78,'Daily Log'!$BW$18:$BW$1017),0)","v":0},{"$f":"IFERROR($E78*SUMIF('Daily Log'!$BY$18:$BY$1017,$B78,'Daily Log'!$BZ$18:$BZ$1017),0)","v":0},{"$f":"IFERROR($E78*SUMIF('Daily Log'!$CB$18:$CB$1017,$B78,'Daily Log'!$CC$18:$CC$1017),0)","v":0},{"$f":"IFERROR($E78*SUMIF('Daily Log'!$CE$18:$CE$1017,$B78,'Daily Log'!$CF$18:$CF$1017),0)","v":0},{"$f":"IFERROR($E78*SUMIF('Daily Log'!$CH$18:$CH$1017,$B78,'Daily Log'!$CI$18:$CI$1017),0)","v":0},{"$f":"IFERROR($E78*SUMIF('Daily Log'!$CK$18:$CK$1017,$B78,'Daily Log'!$CL$18:$CL$1017),0)","v":4},{"$f":"IFERROR($E78*SUMIF('Daily Log'!$CN$18:$CN$1017,$B78,'Daily Log'!$CO$18:$CO$1017),0)","v":0}]
[null,"AF06 91206:SPRING RL",null,null,1,5,{"$f":"IFERROR($E79*SUMIF('Daily Log'!$B$18:$B$1017,$B79,'Daily Log'!$C$18:$C$1017),0)","v":0},{"$f":"IFERROR($E79*SUMIF('Daily Log'!$E$18:$E$1017,$B79,'Daily Log'!$F$18:$F$1017),0)","v":0},{"$f":"IFERROR($E79*SUMIF('Daily Log'!$H$18:$H$1017,$B79,'Daily Log'!$I$18:$I$1017),0)","v":0},{"$f":"IFERROR($E79*SUMIF('Daily Log'!$K$18:$K$1017,$B79,'Daily Log'!$L$18:$L$1017),0)","v":0},{"$f":"IFERROR($E79*SUMIF('Daily Log'!$N$18:$N$1017,$B79,'Daily Log'!$O$18:$O$1017),0)","v":0},{"$f":"IFERROR($E79*SUMIF('Daily Log'!$Q$18:$Q$1017,$B79,'Daily Log'!$R$18:$R$1017),0)","v":0},{"$f":"IFERROR($E79*SUMIF('Daily Log'!$T$18:$T$1017,$B79,'Daily Log'!$U$18:$U$1017),0)","v":0},{"$f":"IFERROR($E79*SUMIF('Daily Log'!$W$18:$W$1017,$B79,'Daily Log'!$X$18:$X$1017),0)","v":0},{"$f":"IFERROR($E79*SUMIF('Daily Log'!$Z$18:$Z$1017,$B79,'Daily Log'!$AA$18:$AA$1017),0)","v":0},{"$f":"IFERROR($E79*SUMIF('Daily Log'!$AC$18:$AC$1017,$B79,'Daily Log'!$AD$18:$AD$1017),0)","v":0},{"$f":"IFERROR($E79*SUMIF('Daily Log'!$AF$18:$AF$1017,$B79,'Daily Log'!$AG$18:$AG$1017),0)","v":0},{"$f":"IFERROR($E79*SUMIF('Daily Log'!$AI$18:$AI$1017,$B79,'Daily Log'!$AJ$18:$AJ$1017),0)","v":0},{"$f":"IFERROR($E79*SUMIF('Daily Log'!$AL$18:$AL$1017,$B79,'Daily Log'!$AM$18:$AM$1017),0)","v":0},{"$f":"IFERROR($E79*SUMIF('Daily Log'!$AO$18:$AO$1017,$B79,'Daily Log'!$AP$18:$AP$1017),0)","v":0},{"$f":"IFERROR($E79*SUMIF('Daily Log'!$AR$18:$AR$1017,$B79,'Daily Log'!$AS$18:$AS$1017),0)","v":0},{"$f":"IFERROR($E79*SUMIF('Daily Log'!$AU$18:$AU$1017,$B79,'Daily Log'!$AV$18:$AV$1017),0)","v":0},{"$f":"IFERROR($E79*SUMIF('Daily Log'!$AX$18:$AX$1017,$B79,'Daily Log'!$AY$18:$AY$1017),0)","v":0},{"$f":"IFERROR($E79*SUMIF('Daily Log'!$BA$18:$BA$1017,$B79,'Daily Log'!$BB$18:$BB$1017),0)","v":0},{"$f":"IFERROR($E79*SUMIF('Daily Log'!$BD$18:$BD$1017,$B79,'Daily Log'!$BE$18:$BE$1017),0)","v":0},{"$f":"IFERROR($E79*SUMIF('Daily Log'!$BG$18:$BG$1017,$B79,'Daily Log'!$BH$18:$BH$1017),0)","v":0},{"$f":"IFERROR($E79*SUMIF('Daily Log'!$BJ$18:$BJ$1017,$B79,'Daily Log'!$BK$18:$BK$1017),0)","v":0},{"$f":"IFERROR($E79*SUMIF('Daily Log'!$BM$18:$BM$1017,$B79,'Daily Log'!$BN$18:$BN$1017),0)","v":0},{"$f":"IFERROR($E79*SUMIF('Daily Log'!$BP$18:$BP$1017,$B79,'Daily Log'!$BQ$18:$BQ$1017),0)","v":0},{"$f":"IFERROR($E79*SUMIF('Daily Log'!$BS$18:$BS$1017,$B79,'Daily Log'!$BT$18:$BT$1017),0)","v":0},{"$f":"IFERROR($E79*SUMIF('Daily Log'!$BV$18:$BV$1017,$B79,'Daily Log'!$BW$18:$BW$1017),0)","v":0},{"$f":"IFERROR($E79*SUMIF('Daily Log'!$BY$18:$BY$1017,$B79,'Daily Log'!$BZ$18:$BZ$1017),0)","v":0},{"$f":"IFERROR($E79*SUMIF('Daily Log'!$CB$18:$CB$1017,$B79,'Daily Log'!$CC$18:$CC$1017),0)","v":0},{"$f":"IFERROR($E79*SUMIF('Daily Log'!$CE$18:$CE$1017,$B79,'Daily Log'!$CF$18:$CF$1017),0)","v":0},{"$f":"IFERROR($E79*SUMIF('Daily Log'!$CH$18:$CH$1017,$B79,'Daily Log'!$CI$18:$CI$1017),0)","v":0},{"$f":"IFERROR($E79*SUMIF('Daily Log'!$CK$18:$CK$1017,$B79,'Daily Log'!$CL$18:$CL$1017),0)","v":5},{"$f":"IFERROR($E79*SUMIF('Daily Log'!$CN$18:$CN$1017,$B79,'Daily Log'!$CO$18:$CO$1017),0)","v":0}]
[null,"AF07 91207:SAUSG",null,null,1,5,{"$f":"IFERROR($E80*SUMIF('Daily Log'!$B$18:$B$1017,$B80,'Daily Log'!$C$18:$C$1017),0)","v":0},{"$f":"IFERROR($E80*SUMIF('Daily Log'!$E$18:$E$1017,$B80,'Daily Log'!$F$18:$F$1017),0)","v":0},{"$f":"IFERROR($E80*SUMIF('Daily Log'!$H$18:$H$1017,$B80,'Daily Log'!$I$18:$I$1017),0)","v":0},{"$f":"IFERROR($E80*SUMIF('Daily Log'!$K$18:$K$1017,$B80,'Daily Log'!$L$18:$L$1017),0)","v":0},{"$f":"IFERROR($E80*SUMIF('Daily Log'!$N$18:$N$1017,$B80,'Daily Log'!$O$18:$O$1017),0)","v":0},{"$f":"IFERROR($E80*SUMIF('Daily Log'!$Q$18:$Q$1017,$B80,'Daily Log'!$R$18:$R$1017),0)","v":0},{"$f":"IFERROR($E80*SUMIF('Daily Log'!$T$18:$T$1017,$B80,'Daily Log'!$U$18:$U$1017),0)","v":0},{"$f":"IFERROR($E80*SUMIF('Daily Log'!$W$18:$W$1017,$B80,'Daily Log'!$X$18:$X$1017),0)","v":0},{"$f":"IFERROR($E80*SUMIF('Daily Log'!$Z$18:$Z$1017,$B80,'Daily Log'!$AA$18:$AA$1017),0)","v":0},{"$f":"IFERROR($E80*SUMIF('Daily Log'!$AC$18:$AC$1017,$B80,'Daily Log'!$AD$18:$AD$1017),0)","v":0},{"$f":"IFERROR($E80*SUMIF('Daily Log'!$AF$18:$AF$1017,$B80,'Daily Log'!$AG$18:$AG$1017),0)","v":0},{"$f":"IFERROR($E80*SUMIF('Daily Log'!$AI$18:$AI$1017,$B80,'Daily Log'!$AJ$18:$AJ$1017),0)","v":0},{"$f":"IFERROR($E80*SUMIF('Daily Log'!$AL$18:$AL$1017,$B80,'Daily Log'!$AM$18:$AM$1017),0)","v":0},{"$f":"IFERROR($E80*SUMIF('Daily Log'!$AO$18:$AO$1017,$B80,'Daily Log'!$AP$18:$AP$1017),0)","v":0},{"$f":"IFERROR($E80*SUMIF('Daily Log'!$AR$18:$AR$1017,$B80,'Daily Log'!$AS$18:$AS$1017),0)","v":0},{"$f":"IFERROR($E80*SUMIF('Daily Log'!$AU$18:$AU$1017,$B80,'Daily Log'!$AV$18:$AV$1017),0)","v":0},{"$f":"IFERROR($E80*SUMIF('Daily Log'!$AX$18:$AX$1017,$B80,'Daily Log'!$AY$18:$AY$1017),0)","v":0},{"$f":"IFERROR($E80*SUMIF('Daily Log'!$BA$18:$BA$1017,$B80,'Daily Log'!$BB$18:$BB$1017),0)","v":0},{"$f":"IFERROR($E80*SUMIF('Daily Log'!$BD$18:$BD$1017,$B80,'Daily Log'!$BE$18:$BE$1017),0)","v":0},{"$f":"IFERROR($E80*SUMIF('Daily Log'!$BG$18:$BG$1017,$B80,'Daily Log'!$BH$18:$BH$1017),0)","v":0},{"$f":"IFERROR($E80*SUMIF('Daily Log'!$BJ$18:$BJ$1017,$B80,'Daily Log'!$BK$18:$BK$1017),0)","v":0},{"$f":"IFERROR($E80*SUMIF('Daily Log'!$BM$18:$BM$1017,$B80,'Daily Log'!$BN$18:$BN$1017),0)","v":0},{"$f":"IFERROR($E80*SUMIF('Daily Log'!$BP$18:$BP$1017,$B80,'Daily Log'!$BQ$18:$BQ$1017),0)","v":0},{"$f":"IFERROR($E80*SUMIF('Daily Log'!$BS$18:$BS$1017,$B80,'Daily Log'!$BT$18:$BT$1017),0)","v":0},{"$f":"IFERROR($E80*SUMIF('Daily Log'!$BV$18:$BV$1017,$B80,'Daily Log'!$BW$18:$BW$1017),0)","v":0},{"$f":"IFERROR($E80*SUMIF('Daily Log'!$BY$18:$BY$1017,$B80,'Daily Log'!$BZ$18:$BZ$1017),0)","v":0},{"$f":"IFERROR($E80*SUMIF('Daily Log'!$CB$18:$CB$1017,$B80,'Daily Log'!$CC$18:$CC$1017),0)","v":0},{"$f":"IFERROR($E80*SUMIF('Daily Log'!$CE$18:$CE$1017,$B80,'Daily Log'!$CF$18:$CF$1017),0)","v":0},{"$f":"IFERROR($E80*SUMIF('Daily Log'!$CH$18:$CH$1017,$B80,'Daily Log'!$CI$18:$CI$1017),0)","v":0},{"$f":"IFERROR($E80*SUMIF('Daily Log'!$CK$18:$CK$1017,$B80,'Daily Log'!$CL$18:$CL$1017),0)","v":5},{"$f":"IFERROR($E80*SUMIF('Daily Log'!$CN$18:$CN$1017,$B80,'Daily Log'!$CO$18:$CO$1017),0)","v":0}]
[null,"AF08 91208:HOTDOG BUN",null,null,1,0,{"$f":"IFERROR($E81*SUMIF('Daily Log'!$B$18:$B$1017,$B81,'Daily Log'!$C$18:$C$1017),0)","v":0},{"$f":"IFERROR($E81*SUMIF('Daily Log'!$E$18:$E$1017,$B81,'Daily Log'!$F$18:$F$1017),0)","v":0},{"$f":"IFERROR($E81*SUMIF('Daily Log'!$H$18:$H$1017,$B81,'Daily Log'!$I$18:$I$1017),0)","v":0},{"$f":"IFERROR($E81*SUMIF('Daily Log'!$K$18:$K$1017,$B81,'Daily Log'!$L$18:$L$1017),0)","v":0},{"$f":"IFERROR($E81*SUMIF('Daily Log'!$N$18:$N$1017,$B81,'Daily Log'!$O$18:$O$1017),0)","v":0},{"$f":"IFERROR($E81*SUMIF('Daily Log'!$Q$18:$Q$1017,$B81,'Daily Log'!$R$18:$R$1017),0)","v":0},{"$f":"IFERROR($E81*SUMIF('Daily Log'!$T$18:$T$1017,$B81,'Daily Log'!$U$18:$U$1017),0)","v":0},{"$f":"IFERROR($E81*SUMIF('Daily Log'!$W$18:$W$1017,$B81,'Daily Log'!$X$18:$X$1017),0)","v":0},{"$f":"IFERROR($E81*SUMIF('Daily Log'!$Z$18:$Z$1017,$B81,'Daily Log'!$AA$18:$AA$1017),0)","v":0},{"$f":"IFERROR($E81*SUMIF('Daily Log'!$AC$18:$AC$1017,$B81,'Daily Log'!$AD$18:$AD$1017),0)","v":0},{"$f":"IFERROR($E81*SUMIF('Daily Log'!$AF$18:$AF$1017,$B81,'Daily Log'!$AG$18:$AG$1017),0)","v":0},{"$f":"IFERROR($E81*SUMIF('Daily Log'!$AI$18:$AI$1017,$B81,'Daily Log'!$AJ$18:$AJ$1017),0)","v":0},{"$f":"IFERROR($E81*SUMIF('Daily Log'!$AL$18:$AL$1017,$B81,'Daily Log'!$AM$18:$AM$1017),0)","v":0},{"$f":"IFERROR($E81*SUMIF('Daily Log'!$AO$18:$AO$1017,$B81,'Daily Log'!$AP$18:$AP$1017),0)","v":0},{"$f":"IFERROR($E81*SUMIF('Daily Log'!$AR$18:$AR$1017,$B81,'Daily Log'!$AS$18:$AS$1017),0)","v":0},{"$f":"IFERROR($E81*SUMIF('Daily Log'!$AU$18:$AU$1017,$B81,'Daily Log'!$AV$18:$AV$1017),0)","v":0},{"$f":"IFERROR($E81*SUMIF('Daily Log'!$AX$18:$AX$1017,$B81,'Daily Log'!$AY$18:$AY$1017),0)","v":0},{"$f":"IFERROR($E81*SUMIF('Daily Log'!$BA$18:$BA$1017,$B81,'Daily Log'!$BB$18:$BB$1017),0)","v":0},{"$f":"IFERROR($E81*SUMIF('Daily Log'!$BD$18:$BD$1017,$B81,'Daily Log'!$BE$18:$BE$1017),0)","v":0},{"$f":"IFERROR($E81*SUMIF('Daily Log'!$BG$18:$BG$1017,$B81,'Daily Log'!$BH$18:$BH$1017),0)","v":0},{"$f":"IFERROR($E81*SUMIF('Daily Log'!$BJ$18:$BJ$1017,$B81,'Daily Log'!$BK$18:$BK$1017),0)","v":0},{"$f":"IFERROR($E81*SUMIF('Daily Log'!$BM$18:$BM$1017,$B81,'Daily Log'!$BN$18:$BN$1017),0)","v":0},{"$f":"IFERROR($E81*SUMIF('Daily Log'!$BP$18:$BP$1017,$B81,'Daily Log'!$BQ$18:$BQ$1017),0)","v":0},{"$f":"IFERROR($E81*SUMIF('Daily Log'!$BS$18:$BS$1017,$B81,'Daily Log'!$BT$18:$BT$1017),0)","v":0},{"$f":"IFERROR($E81*SUMIF('Daily Log'!$BV$18:$BV$1017,$B81,'Daily Log'!$BW$18:$BW$1017),0)","v":0},{"$f":"IFERROR($E81*SUMIF('Daily Log'!$BY$18:$BY$1017,$B81,'Daily Log'!$BZ$18:$BZ$1017),0)","v":0},{"$f":"IFERROR($E81*SUMIF('Daily Log'!$CB$18:$CB$1017,$B81,'Daily Log'!$CC$18:$CC$1017),0)","v":0},{"$f":"IFERROR($E81*SUMIF('Daily Log'!$CE$18:$CE$1017,$B81,'Daily Log'!$CF$18:$CF$1017),0)","v":0},{"$f":"IFERROR($E81*SUMIF('Daily Log'!$CH$18:$CH$1017,$B81,'Daily Log'!$CI$18:$CI$1017),0)","v":0},{"$f":"IFERROR($E81*SUMIF('Daily Log'!$CK$18:$CK$1017,$B81,'Daily Log'!$CL$18:$CL$1017),0)","v":0},{"$f":"IFERROR($E81*SUMIF('Daily Log'!$CN$18:$CN$1017,$B81,'Daily Log'!$CO$18:$CO$1017),0)","v":0}]
[null,"AF09 91209:SF TF",null,null,1,8,{"$f":"IFERROR($E82*SUMIF('Daily Log'!$B$18:$B$1017,$B82,'Daily Log'!$C$18:$C$1017),0)","v":0},{"$f":"IFERROR($E82*SUMIF('Daily Log'!$E$18:$E$1017,$B82,'Daily Log'!$F$18:$F$1017),0)","v":0},{"$f":"IFERROR($E82*SUMIF('Daily Log'!$H$18:$H$1017,$B82,'Daily Log'!$I$18:$I$1017),0)","v":0},{"$f":"IFERROR($E82*SUMIF('Daily Log'!$K$18:$K$1017,$B82,'Daily Log'!$L$18:$L$1017),0)","v":0},{"$f":"IFERROR($E82*SUMIF('Daily Log'!$N$18:$N$1017,$B82,'Daily Log'!$O$18:$O$1017),0)","v":0},{"$f":"IFERROR($E82*SUMIF('Daily Log'!$Q$18:$Q$1017,$B82,'Daily Log'!$R$18:$R$1017),0)","v":0},{"$f":"IFERROR($E82*SUMIF('Daily Log'!$T$18:$T$1017,$B82,'Daily Log'!$U$18:$U$1017),0)","v":0},{"$f":"IFERROR($E82*SUMIF('Daily Log'!$W$18:$W$1017,$B82,'Daily Log'!$X$18:$X$1017),0)","v":0},{"$f":"IFERROR($E82*SUMIF('Daily Log'!$Z$18:$Z$1017,$B82,'Daily Log'!$AA$18:$AA$1017),0)","v":0},{"$f":"IFERROR($E82*SUMIF('Daily Log'!$AC$18:$AC$1017,$B82,'Daily Log'!$AD$18:$AD$1017),0)","v":0},{"$f":"IFERROR($E82*SUMIF('Daily Log'!$AF$18:$AF$1017,$B82,'Daily Log'!$AG$18:$AG$1017),0)","v":0},{"$f":"IFERROR($E82*SUMIF('Daily Log'!$AI$18:$AI$1017,$B82,'Daily Log'!$AJ$18:$AJ$1017),0)","v":0},{"$f":"IFERROR($E82*SUMIF('Daily Log'!$AL$18:$AL$1017,$B82,'Daily Log'!$AM$18:$AM$1017),0)","v":0},{"$f":"IFERROR($E82*SUMIF('Daily Log'!$AO$18:$AO$1017,$B82,'Daily Log'!$AP$18:$AP$1017),0)","v":0},{"$f":"IFERROR($E82*SUMIF('Daily Log'!$AR$18:$AR$1017,$B82,'Daily Log'!$AS$18:$AS$1017),0)","v":0},{"$f":"IFERROR($E82*SUMIF('Daily Log'!$AU$18:$AU$1017,$B82,'Daily Log'!$AV$18:$AV$1017),0)","v":0},{"$f":"IFERROR($E82*SUMIF('Daily Log'!$AX$18:$AX$1017,$B82,'Daily Log'!$AY$18:$AY$1017),0)","v":0},{"$f":"IFERROR($E82*SUMIF('Daily Log'!$BA$18:$BA$1017,$B82,'Daily Log'!$BB$18:$BB$1017),0)","v":0},{"$f":"IFERROR($E82*SUMIF('Daily Log'!$BD$18:$BD$1017,$B82,'Daily Log'!$BE$18:$BE$1017),0)","v":0},{"$f":"IFERROR($E82*SUMIF('Daily Log'!$BG$18:$BG$1017,$B82,'Daily Log'!$BH$18:$BH$1017),0)","v":0},{"$f":"IFERROR($E82*SUMIF('Daily Log'!$BJ$18:$BJ$1017,$B82,'Daily Log'!$BK$18:$BK$1017),0)","v":0},{"$f":"IFERROR($E82*SUMIF('Daily Log'!$BM$18:$BM$1017,$B82,'Daily Log'!$BN$18:$BN$1017),0)","v":0},{"$f":"IFERROR($E82*SUMIF('Daily Log'!$BP$18:$BP$1017,$B82,'Daily Log'!$BQ$18:$BQ$1017),0)","v":0},{"$f":"IFERROR($E82*SUMIF('Daily Log'!$BS$18:$BS$1017,$B82,'Daily Log'!$BT$18:$BT$1017),0)","v":0},{"$f":"IFERROR($E82*SUMIF('Daily Log'!$BV$18:$BV$1017,$B82,'Daily Log'!$BW$18:$BW$1017),0)","v":0},{"$f":"IFERROR($E82*SUMIF('Daily Log'!$BY$18:$BY$1017,$B82,'Daily Log'!$BZ$18:$BZ$1017),0)","v":0},{"$f":"IFERROR($E82*SUMIF('Daily Log'!$CB$18:$CB$1017,$B82,'Daily Log'!$CC$18:$CC$1017),0)","v":0},{"$f":"IFERROR($E82*SUMIF('Daily Log'!$CE$18:$CE$1017,$B82,'Daily Log'!$CF$18:$CF$1017),0)","v":0},{"$f":"IFERROR($E82*SUMIF('Daily Log'!$CH$18:$CH$1017,$B82,'Daily Log'!$CI$18:$CI$1017),0)","v":0},{"$f":"IFERROR($E82*SUMIF('Daily Log'!$CK$18:$CK$1017,$B82,'Daily Log'!$CL$18:$CL$1017),0)","v":8},{"$f":"IFERROR($E82*SUMIF('Daily Log'!$CN$18:$CN$1017,$B82,'Daily Log'!$CO$18:$CO$1017),0)","v":0}]
[null,"AF10 91210:SALAD RL",null,null,1,4,{"$f":"IFERROR($E83*SUMIF('Daily Log'!$B$18:$B$1017,$B83,'Daily Log'!$C$18:$C$1017),0)","v":0},{"$f":"IFERROR($E83*SUMIF('Daily Log'!$E$18:$E$1017,$B83,'Daily Log'!$F$18:$F$1017),0)","v":0},{"$f":"IFERROR($E83*SUMIF('Daily Log'!$H$18:$H$1017,$B83,'Daily Log'!$I$18:$I$1017),0)","v":0},{"$f":"IFERROR($E83*SUMIF('Daily Log'!$K$18:$K$1017,$B83,'Daily Log'!$L$18:$L$1017),0)","v":0},{"$f":"IFERROR($E83*SUMIF('Daily Log'!$N$18:$N$1017,$B83,'Daily Log'!$O$18:$O$1017),0)","v":0},{"$f":"IFERROR($E83*SUMIF('Daily Log'!$Q$18:$Q$1017,$B83,'Daily Log'!$R$18:$R$1017),0)","v":0},{"$f":"IFERROR($E83*SUMIF('Daily Log'!$T$18:$T$1017,$B83,'Daily Log'!$U$18:$U$1017),0)","v":0},{"$f":"IFERROR($E83*SUMIF('Daily Log'!$W$18:$W$1017,$B83,'Daily Log'!$X$18:$X$1017),0)","v":0},{"$f":"IFERROR($E83*SUMIF('Daily Log'!$Z$18:$Z$1017,$B83,'Daily Log'!$AA$18:$AA$1017),0)","v":0},{"$f":"IFERROR($E83*SUMIF('Daily Log'!$AC$18:$AC$1017,$B83,'Daily Log'!$AD$18:$AD$1017),0)","v":0},{"$f":"IFERROR($E83*SUMIF('Daily Log'!$AF$18:$AF$1017,$B83,'Daily Log'!$AG$18:$AG$1017),0)","v":0},{"$f":"IFERROR($E83*SUMIF('Daily Log'!$AI$18:$AI$1017,$B83,'Daily Log'!$AJ$18:$AJ$1017),0)","v":0},{"$f":"IFERROR($E83*SUMIF('Daily Log'!$AL$18:$AL$1017,$B83,'Daily Log'!$AM$18:$AM$1017),0)","v":0},{"$f":"IFERROR($E83*SUMIF('Daily Log'!$AO$18:$AO$1017,$B83,'Daily Log'!$AP$18:$AP$1017),0)","v":0},{"$f":"IFERROR($E83*SUMIF('Daily Log'!$AR$18:$AR$1017,$B83,'Daily Log'!$AS$18:$AS$1017),0)","v":0},{"$f":"IFERROR($E83*SUMIF('Daily Log'!$AU$18:$AU$1017,$B83,'Daily Log'!$AV$18:$AV$1017),0)","v":0},{"$f":"IFERROR($E83*SUMIF('Daily Log'!$AX$18:$AX$1017,$B83,'Daily Log'!$AY$18:$AY$1017),0)","v":0},{"$f":"IFERROR($E83*SUMIF('Daily Log'!$BA$18:$BA$1017,$B83,'Daily Log'!$BB$18:$BB$1017),0)","v":0},{"$f":"IFERROR($E83*SUMIF('Daily Log'!$BD$18:$BD$1017,$B83,'Daily Log'!$BE$18:$BE$1017),0)","v":0},{"$f":"IFERROR($E83*SUMIF('Daily Log'!$BG$18:$BG$1017,$B83,'Daily Log'!$BH$18:$BH$1017),0)","v":0},{"$f":"IFERROR($E83*SUMIF('Daily Log'!$BJ$18:$BJ$1017,$B83,'Daily Log'!$BK$18:$BK$1017),0)","v":0},{"$f":"IFERROR($E83*SUMIF('Daily Log'!$BM$18:$BM$1017,$B83,'Daily Log'!$BN$18:$BN$1017),0)","v":0},{"$f":"IFERROR($E83*SUMIF('Daily Log'!$BP$18:$BP$1017,$B83,'Daily Log'!$BQ$18:$BQ$1017),0)","v":0},{"$f":"IFERROR($E83*SUMIF('Daily Log'!$BS$18:$BS$1017,$B83,'Daily Log'!$BT$18:$BT$1017),0)","v":0},{"$f":"IFERROR($E83*SUMIF('Daily Log'!$BV$18:$BV$1017,$B83,'Daily Log'!$BW$18:$BW$1017),0)","v":0},{"$f":"IFERROR($E83*SUMIF('Daily Log'!$BY$18:$BY$1017,$B83,'Daily Log'!$BZ$18:$BZ$1017),0)","v":0},{"$f":"IFERROR($E83*SUMIF('Daily Log'!$CB$18:$CB$1017,$B83,'Daily Log'!$CC$18:$CC$1017),0)","v":0},{"$f":"IFERROR($E83*SUMIF('Daily Log'!$CE$18:$CE$1017,$B83,'Daily Log'!$CF$18:$CF$1017),0)","v":0},{"$f":"IFERROR($E83*SUMIF('Daily Log'!$CH$18:$CH$1017,$B83,'Daily Log'!$CI$18:$CI$1017),0)","v":0},{"$f":"IFERROR($E83*SUMIF('Daily Log'!$CK$18:$CK$1017,$B83,'Daily Log'!$CL$18:$CL$1017),0)","v":4},{"$f":"IFERROR($E83*SUMIF('Daily Log'!$CN$18:$CN$1017,$B83,'Daily Log'!$CO$18:$CO$1017),0)","v":0}]
[null,"AF11 91211:BBQ CHK",null,null,1,7,{"$f":"IFERROR($E84*SUMIF('Daily Log'!$B$18:$B$1017,$B84,'Daily Log'!$C$18:$C$1017),0)","v":0},{"$f":"IFERROR($E84*SUMIF('Daily Log'!$E$18:$E$1017,$B84,'Daily Log'!$F$18:$F$1017),0)","v":0},{"$f":"IFERROR($E84*SUMIF('Daily Log'!$H$18:$H$1017,$B84,'Daily Log'!$I$18:$I$1017),0)","v":0},{"$f":"IFERROR($E84*SUMIF('Daily Log'!$K$18:$K$1017,$B84,'Daily Log'!$L$18:$L$1017),0)","v":0},{"$f":"IFERROR($E84*SUMIF('Daily Log'!$N$18:$N$1017,$B84,'Daily Log'!$O$18:$O$1017),0)","v":0},{"$f":"IFERROR($E84*SUMIF('Daily Log'!$Q$18:$Q$1017,$B84,'Daily Log'!$R$18:$R$1017),0)","v":0},{"$f":"IFERROR($E84*SUMIF('Daily Log'!$T$18:$T$1017,$B84,'Daily Log'!$U$18:$U$1017),0)","v":0},{"$f":"IFERROR($E84*SUMIF('Daily Log'!$W$18:$W$1017,$B84,'Daily Log'!$X$18:$X$1017),0)","v":0},{"$f":"IFERROR($E84*SUMIF('Daily Log'!$Z$18:$Z$1017,$B84,'Daily Log'!$AA$18:$AA$1017),0)","v":0},{"$f":"IFERROR($E84*SUMIF('Daily Log'!$AC$18:$AC$1017,$B84,'Daily Log'!$AD$18:$AD$1017),0)","v":0},{"$f":"IFERROR($E84*SUMIF('Daily Log'!$AF$18:$AF$1017,$B84,'Daily Log'!$AG$18:$AG$1017),0)","v":0},{"$f":"IFERROR($E84*SUMIF('Daily Log'!$AI$18:$AI$1017,$B84,'Daily Log'!$AJ$18:$AJ$1017),0)","v":0},{"$f":"IFERROR($E84*SUMIF('Daily Log'!$AL$18:$AL$1017,$B84,'Daily Log'!$AM$18:$AM$1017),0)","v":0},{"$f":"IFERROR($E84*SUMIF('Daily Log'!$AO$18:$AO$1017,$B84,'Daily Log'!$AP$18:$AP$1017),0)","v":0},{"$f":"IFERROR($E84*SUMIF('Daily Log'!$AR$18:$AR$1017,$B84,'Daily Log'!$AS$18:$AS$1017),0)","v":0},{"$f":"IFERROR($E84*SUMIF('Daily Log'!$AU$18:$AU$1017,$B84,'Daily Log'!$AV$18:$AV$1017),0)","v":0},{"$f":"IFERROR($E84*SUMIF('Daily Log'!$AX$18:$AX$1017,$B84,'Daily Log'!$AY$18:$AY$1017),0)","v":0},{"$f":"IFERROR($E84*SUMIF('Daily Log'!$BA$18:$BA$1017,$B84,'Daily Log'!$BB$18:$BB$1017),0)","v":0},{"$f":"IFERROR($E84*SUMIF('Daily Log'!$BD$18:$BD$1017,$B84,'Daily Log'!$BE$18:$BE$1017),0)","v":0},{"$f":"IFERROR($E84*SUMIF('Daily Log'!$BG$18:$BG$1017,$B84,'Daily Log'!$BH$18:$BH$1017),0)","v":0},{"$f":"IFERROR($E84*SUMIF('Daily Log'!$BJ$18:$BJ$1017,$B84,'Daily Log'!$BK$18:$BK$1017),0)","v":0},{"$f":"IFERROR($E84*SUMIF('Daily Log'!$BM$18:$BM$1017,$B84,'Daily Log'!$BN$18:$BN$1017),0)","v":0},{"$f":"IFERROR($E84*SUMIF('Daily Log'!$BP$18:$BP$1017,$B84,'Daily Log'!$BQ$18:$BQ$1017),0)","v":0},{"$f":"IFERROR($E84*SUMIF('Daily Log'!$BS$18:$BS$1017,$B84,'Daily Log'!$BT$18:$BT$1017),0)","v":0},{"$f":"IFERROR($E84*SUMIF('Daily Log'!$BV$18:$BV$1017,$B84,'Daily Log'!$BW$18:$BW$1017),0)","v":0},{"$f":"IFERROR($E84*SUMIF('Daily Log'!$BY$18:$BY$1017,$B84,'Daily Log'!$BZ$18:$BZ$1017),0)","v":0},{"$f":"IFERROR($E84*SUMIF('Daily Log'!$CB$18:$CB$1017,$B84,'Daily Log'!$CC$18:$CC$1017),0)","v":0},{"$f":"IFERROR($E84*SUMIF('Daily Log'!$CE$18:$CE$1017,$B84,'Daily Log'!$CF$18:$CF$1017),0)","v":0},{"$f":"IFERROR($E84*SUMIF('Daily Log'!$CH$18:$CH$1017,$B84,'Daily Log'!$CI$18:$CI$1017),0)","v":0},{"$f":"IFERROR($E84*SUMIF('Daily Log'!$CK$18:$CK$1017,$B84,'Daily Log'!$CL$18:$CL$1017),0)","v":7},{"$f":"IFERROR($E84*SUMIF('Daily Log'!$CN$18:$CN$1017,$B84,'Daily Log'!$CO$18:$CO$1017),0)","v":0}]
[null,"AF32 91302:NUGGET",null,null,1,25,{"$f":"IFERROR($E85*SUMIF('Daily Log'!$B$18:$B$1017,$B85,'Daily Log'!$C$18:$C$1017),0)","v":0},{"$f":"IFERROR($E85*SUMIF('Daily Log'!$E$18:$E$1017,$B85,'Daily Log'!$F$18:$F$1017),0)","v":0},{"$f":"IFERROR($E85*SUMIF('Daily Log'!$H$18:$H$1017,$B85,'Daily Log'!$I$18:$I$1017),0)","v":0},{"$f":"IFERROR($E85*SUMIF('Daily Log'!$K$18:$K$1017,$B85,'Daily Log'!$L$18:$L$1017),0)","v":0},{"$f":"IFERROR($E85*SUMIF('Daily Log'!$N$18:$N$1017,$B85,'Daily Log'!$O$18:$O$1017),0)","v":0},{"$f":"IFERROR($E85*SUMIF('Daily Log'!$Q$18:$Q$1017,$B85,'Daily Log'!$R$18:$R$1017),0)","v":0},{"$f":"IFERROR($E85*SUMIF('Daily Log'!$T$18:$T$1017,$B85,'Daily Log'!$U$18:$U$1017),0)","v":0},{"$f":"IFERROR($E85*SUMIF('Daily Log'!$W$18:$W$1017,$B85,'Daily Log'!$X$18:$X$1017),0)","v":0},{"$f":"IFERROR($E85*SUMIF('Daily Log'!$Z$18:$Z$1017,$B85,'Daily Log'!$AA$18:$AA$1017),0)","v":0},{"$f":"IFERROR($E85*SUMIF('Daily Log'!$AC$18:$AC$1017,$B85,'Daily Log'!$AD$18:$AD$1017),0)","v":0},{"$f":"IFERROR($E85*SUMIF('Daily Log'!$AF$18:$AF$1017,$B85,'Daily Log'!$AG$18:$AG$1017),0)","v":0},{"$f":"IFERROR($E85*SUMIF('Daily Log'!$AI$18:$AI$1017,$B85,'Daily Log'!$AJ$18:$AJ$1017),0)","v":0},{"$f":"IFERROR($E85*SUMIF('Daily Log'!$AL$18:$AL$1017,$B85,'Daily Log'!$AM$18:$AM$1017),0)","v":0},{"$f":"IFERROR($E85*SUMIF('Daily Log'!$AO$18:$AO$1017,$B85,'Daily Log'!$AP$18:$AP$1017),0)","v":0},{"$f":"IFERROR($E85*SUMIF('Daily Log'!$AR$18:$AR$1017,$B85,'Daily Log'!$AS$18:$AS$1017),0)","v":0},{"$f":"IFERROR($E85*SUMIF('Daily Log'!$AU$18:$AU$1017,$B85,'Daily Log'!$AV$18:$AV$1017),0)","v":0},{"$f":"IFERROR($E85*SUMIF('Daily Log'!$AX$18:$AX$1017,$B85,'Daily Log'!$AY$18:$AY$1017),0)","v":0},{"$f":"IFERROR($E85*SUMIF('Daily Log'!$BA$18:$BA$1017,$B85,'Daily Log'!$BB$18:$BB$1017),0)","v":0},{"$f":"IFERROR($E85*SUMIF('Daily Log'!$BD$18:$BD$1017,$B85,'Daily Log'!$BE$18:$BE$1017),0)","v":0},{"$f":"IFERROR($E85*SUMIF('Daily Log'!$BG$18:$BG$1017,$B85,'Daily Log'!$BH$18:$BH$1017),0)","v":0},{"$f":"IFERROR($E85*SUMIF('Daily Log'!$BJ$18:$BJ$1017,$B85,'Daily Log'!$BK$18:$BK$1017),0)","v":0},{"$f":"IFERROR($E85*SUMIF('Daily Log'!$BM$18:$BM$1017,$B85,'Daily Log'!$BN$18:$BN$1017),0)","v":0},{"$f":"IFERROR($E85*SUMIF('Daily Log'!$BP$18:$BP$1017,$B85,'Daily Log'!$BQ$18:$BQ$1017),0)","v":0},{"$f":"IFERROR($E85*SUMIF('Daily Log'!$BS$18:$BS$1017,$B85,'Daily Log'!$BT$18:$BT$1017),0)","v":0},{"$f":"IFERROR($E85*SUMIF('Daily Log'!$BV$18:$BV$1017,$B85,'Daily Log'!$BW$18:$BW$1017),0)","v":0},{"$f":"IFERROR($E85*SUMIF('Daily Log'!$BY$18:$BY$1017,$B85,'Daily Log'!$BZ$18:$BZ$1017),0)","v":0},{"$f":"IFERROR($E85*SUMIF('Daily Log'!$CB$18:$CB$1017,$B85,'Daily Log'!$CC$18:$CC$1017),0)","v":0},{"$f":"IFERROR($E85*SUMIF('Daily Log'!$CE$18:$CE$1017,$B85,'Daily Log'!$CF$18:$CF$1017),0)","v":0},{"$f":"IFERROR($E85*SUMIF('Daily Log'!$CH$18:$CH$1017,$B85,'Daily Log'!$CI$18:$CI$1017),0)","v":0},{"$f":"IFERROR($E85*SUMIF('Daily Log'!$CK$18:$CK$1017,$B85,'Daily Log'!$CL$18:$CL$1017),0)","v":25},{"$f":"IFERROR($E85*SUMIF('Daily Log'!$CN$18:$CN$1017,$B85,'Daily Log'!$CO$18:$CO$1017),0)","v":0}]
[null,"AF33 91303:CHK WING",null,null,1,25,{"$f":"IFERROR($E86*SUMIF('Daily Log'!$B$18:$B$1017,$B86,'Daily Log'!$C$18:$C$1017),0)","v":0},{"$f":"IFERROR($E86*SUMIF('Daily Log'!$E$18:$E$1017,$B86,'Daily Log'!$F$18:$F$1017),0)","v":0},{"$f":"IFERROR($E86*SUMIF('Daily Log'!$H$18:$H$1017,$B86,'Daily Log'!$I$18:$I$1017),0)","v":0},{"$f":"IFERROR($E86*SUMIF('Daily Log'!$K$18:$K$1017,$B86,'Daily Log'!$L$18:$L$1017),0)","v":0},{"$f":"IFERROR($E86*SUMIF('Daily Log'!$N$18:$N$1017,$B86,'Daily Log'!$O$18:$O$1017),0)","v":0},{"$f":"IFERROR($E86*SUMIF('Daily Log'!$Q$18:$Q$1017,$B86,'Daily Log'!$R$18:$R$1017),0)","v":0},{"$f":"IFERROR($E86*SUMIF('Daily Log'!$T$18:$T$1017,$B86,'Daily Log'!$U$18:$U$1017),0)","v":0},{"$f":"IFERROR($E86*SUMIF('Daily Log'!$W$18:$W$1017,$B86,'Daily Log'!$X$18:$X$1017),0)","v":0},{"$f":"IFERROR($E86*SUMIF('Daily Log'!$Z$18:$Z$1017,$B86,'Daily Log'!$AA$18:$AA$1017),0)","v":0},{"$f":"IFERROR($E86*SUMIF('Daily Log'!$AC$18:$AC$1017,$B86,'Daily Log'!$AD$18:$AD$1017),0)","v":0},{"$f":"IFERROR($E86*SUMIF('Daily Log'!$AF$18:$AF$1017,$B86,'Daily Log'!$AG$18:$AG$1017),0)","v":0},{"$f":"IFERROR($E86*SUMIF('Daily Log'!$AI$18:$AI$1017,$B86,'Daily Log'!$AJ$18:$AJ$1017),0)","v":0},{"$f":"IFERROR($E86*SUMIF('Daily Log'!$AL$18:$AL$1017,$B86,'Daily Log'!$AM$18:$AM$1017),0)","v":0},{"$f":"IFERROR($E86*SUMIF('Daily Log'!$AO$18:$AO$1017,$B86,'Daily Log'!$AP$18:$AP$1017),0)","v":0},{"$f":"IFERROR($E86*SUMIF('Daily Log'!$AR$18:$AR$1017,$B86,'Daily Log'!$AS$18:$AS$1017),0)","v":0},{"$f":"IFERROR($E86*SUMIF('Daily Log'!$AU$18:$AU$1017,$B86,'Daily Log'!$AV$18:$AV$1017),0)","v":0},{"$f":"IFERROR($E86*SUMIF('Daily Log'!$AX$18:$AX$1017,$B86,'Daily Log'!$AY$18:$AY$1017),0)","v":0},{"$f":"IFERROR($E86*SUMIF('Daily Log'!$BA$18:$BA$1017,$B86,'Daily Log'!$BB$18:$BB$1017),0)","v":0},{"$f":"IFERROR($E86*SUMIF('Daily Log'!$BD$18:$BD$1017,$B86,'Daily Log'!$BE$18:$BE$1017),0)","v":0},{"$f":"IFERROR($E86*SUMIF('Daily Log'!$BG$18:$BG$1017,$B86,'Daily Log'!$BH$18:$BH$1017),0)","v":0},{"$f":"IFERROR($E86*SUMIF('Daily Log'!$BJ$18:$BJ$1017,$B86,'Daily Log'!$BK$18:$BK$1017),0)","v":0},{"$f":"IFERROR($E86*SUMIF('Daily Log'!$BM$18:$BM$1017,$B86,'Daily Log'!$BN$18:$BN$1017),0)","v":0},{"$f":"IFERROR($E86*SUMIF('Daily Log'!$BP$18:$BP$1017,$B86,'Daily Log'!$BQ$18:$BQ$1017),0)","v":0},{"$f":"IFERROR($E86*SUMIF('Daily Log'!$BS$18:$BS$1017,$B86,'Daily Log'!$BT$18:$BT$1017),0)","v":0},{"$f":"IFERROR($E86*SUMIF('Daily Log'!$BV$18:$BV$1017,$B86,'Daily Log'!$BW$18:$BW$1017),0)","v":0},{"$f":"IFERROR($E86*SUMIF('Daily Log'!$BY$18:$BY$1017,$B86,'Daily Log'!$BZ$18:$BZ$1017),0)","v":0},{"$f":"IFERROR($E86*SUMIF('Daily Log'!$CB$18:$CB$1017,$B86,'Daily Log'!$CC$18:$CC$1017),0)","v":0},{"$f":"IFERROR($E86*SUMIF('Daily Log'!$CE$18:$CE$1017,$B86,'Daily Log'!$CF$18:$CF$1017),0)","v":0},{"$f":"IFERROR($E86*SUMIF('Daily Log'!$CH$18:$CH$1017,$B86,'Daily Log'!$CI$18:$CI$1017),0)","v":0},{"$f":"IFERROR($E86*SUMIF('Daily Log'!$CK$18:$CK$1017,$B86,'Daily Log'!$CL$18:$CL$1017),0)","v":25},{"$f":"IFERROR($E86*SUMIF('Daily Log'!$CN$18:$CN$1017,$B86,'Daily Log'!$CO$18:$CO$1017),0)","v":0}]
[null,"AF38 91308:MC RING",null,null,1,3,{"$f":"IFERROR($E87*SUMIF('Daily Log'!$B$18:$B$1017,$B87,'Daily Log'!$C$18:$C$1017),0)","v":0},{"$f":"IFERROR($E87*SUMIF('Daily Log'!$E$18:$E$1017,$B87,'Daily Log'!$F$18:$F$1017),0)","v":0},{"$f":"IFERROR($E87*SUMIF('Daily Log'!$H$18:$H$1017,$B87,'Daily Log'!$I$18:$I$1017),0)","v":0},{"$f":"IFERROR($E87*SUMIF('Daily Log'!$K$18:$K$1017,$B87,'Daily Log'!$L$18:$L$1017),0)","v":0},{"$f":"IFERROR($E87*SUMIF('Daily Log'!$N$18:$N$1017,$B87,'Daily Log'!$O$18:$O$1017),0)","v":0},{"$f":"IFERROR($E87*SUMIF('Daily Log'!$Q$18:$Q$1017,$B87,'Daily Log'!$R$18:$R$1017),0)","v":0},{"$f":"IFERROR($E87*SUMIF('Daily Log'!$T$18:$T$1017,$B87,'Daily Log'!$U$18:$U$1017),0)","v":0},{"$f":"IFERROR($E87*SUMIF('Daily Log'!$W$18:$W$1017,$B87,'Daily Log'!$X$18:$X$1017),0)","v":0},{"$f":"IFERROR($E87*SUMIF('Daily Log'!$Z$18:$Z$1017,$B87,'Daily Log'!$AA$18:$AA$1017),0)","v":0},{"$f":"IFERROR($E87*SUMIF('Daily Log'!$AC$18:$AC$1017,$B87,'Daily Log'!$AD$18:$AD$1017),0)","v":0},{"$f":"IFERROR($E87*SUMIF('Daily Log'!$AF$18:$AF$1017,$B87,'Daily Log'!$AG$18:$AG$1017),0)","v":0},{"$f":"IFERROR($E87*SUMIF('Daily Log'!$AI$18:$AI$1017,$B87,'Daily Log'!$AJ$18:$AJ$1017),0)","v":0},{"$f":"IFERROR($E87*SUMIF('Daily Log'!$AL$18:$AL$1017,$B87,'Daily Log'!$AM$18:$AM$1017),0)","v":0},{"$f":"IFERROR($E87*SUMIF('Daily Log'!$AO$18:$AO$1017,$B87,'Daily Log'!$AP$18:$AP$1017),0)","v":0},{"$f":"IFERROR($E87*SUMIF('Daily Log'!$AR$18:$AR$1017,$B87,'Daily Log'!$AS$18:$AS$1017),0)","v":0},{"$f":"IFERROR($E87*SUMIF('Daily Log'!$AU$18:$AU$1017,$B87,'Daily Log'!$AV$18:$AV$1017),0)","v":0},{"$f":"IFERROR($E87*SUMIF('Daily Log'!$AX$18:$AX$1017,$B87,'Daily Log'!$AY$18:$AY$1017),0)","v":0},{"$f":"IFERROR($E87*SUMIF('Daily Log'!$BA$18:$BA$1017,$B87,'Daily Log'!$BB$18:$BB$1017),0)","v":0},{"$f":"IFERROR($E87*SUMIF('Daily Log'!$BD$18:$BD$1017,$B87,'Daily Log'!$BE$18:$BE$1017),0)","v":0},{"$f":"IFERROR($E87*SUMIF('Daily Log'!$BG$18:$BG$1017,$B87,'Daily Log'!$BH$18:$BH$1017),0)","v":0},{"$f":"IFERROR($E87*SUMIF('Daily Log'!$BJ$18:$BJ$1017,$B87,'Daily Log'!$BK$18:$BK$1017),0)","v":0},{"$f":"IFERROR($E87*SUMIF('Daily Log'!$BM$18:$BM$1017,$B87,'Daily Log'!$BN$18:$BN$1017),0)","v":0},{"$f":"IFERROR($E87*SUMIF('Daily Log'!$BP$18:$BP$1017,$B87,'Daily Log'!$BQ$18:$BQ$1017),0)","v":0},{"$f":"IFERROR($E87*SUMIF('Daily Log'!$BS$18:$BS$1017,$B87,'Daily Log'!$BT$18:$BT$1017),0)","v":0},{"$f":"IFERROR($E87*SUMIF('Daily Log'!$BV$18:$BV$1017,$B87,'Daily Log'!$BW$18:$BW$1017),0)","v":0},{"$f":"IFERROR($E87*SUMIF('Daily Log'!$BY$18:$BY$1017,$B87,'Daily Log'!$BZ$18:$BZ$1017),0)","v":0},{"$f":"IFERROR($E87*SUMIF('Daily Log'!$CB$18:$CB$1017,$B87,'Daily Log'!$CC$18:$CC$1017),0)","v":0},{"$f":"IFERROR($E87*SUMIF('Daily Log'!$CE$18:$CE$1017,$B87,'Daily Log'!$CF$18:$CF$1017),0)","v":0},{"$f":"IFERROR($E87*SUMIF('Daily Log'!$CH$18:$CH$1017,$B87,'Daily Log'!$CI$18:$CI$1017),0)","v":0},{"$f":"IFERROR($E87*SUMIF('Daily Log'!$CK$18:$CK$1017,$B87,'Daily Log'!$CL$18:$CL$1017),0)","v":3},{"$f":"IFERROR($E87*SUMIF('Daily Log'!$CN$18:$CN$1017,$B87,'Daily Log'!$CO$18:$CO$1017),0)","v":0}]
[null,"AF39 91309:MC S.FRIES",null,null,1,7,{"$f":"IFERROR($E88*SUMIF('Daily Log'!$B$18:$B$1017,$B88,'Daily Log'!$C$18:$C$1017),0)","v":0},{"$f":"IFERROR($E88*SUMIF('Daily Log'!$E$18:$E$1017,$B88,'Daily Log'!$F$18:$F$1017),0)","v":0},{"$f":"IFERROR($E88*SUMIF('Daily Log'!$H$18:$H$1017,$B88,'Daily Log'!$I$18:$I$1017),0)","v":0},{"$f":"IFERROR($E88*SUMIF('Daily Log'!$K$18:$K$1017,$B88,'Daily Log'!$L$18:$L$1017),0)","v":0},{"$f":"IFERROR($E88*SUMIF('Daily Log'!$N$18:$N$1017,$B88,'Daily Log'!$O$18:$O$1017),0)","v":0},{"$f":"IFERROR($E88*SUMIF('Daily Log'!$Q$18:$Q$1017,$B88,'Daily Log'!$R$18:$R$1017),0)","v":0},{"$f":"IFERROR($E88*SUMIF('Daily Log'!$T$18:$T$1017,$B88,'Daily Log'!$U$18:$U$1017),0)","v":0},{"$f":"IFERROR($E88*SUMIF('Daily Log'!$W$18:$W$1017,$B88,'Daily Log'!$X$18:$X$1017),0)","v":0},{"$f":"IFERROR($E88*SUMIF('Daily Log'!$Z$18:$Z$1017,$B88,'Daily Log'!$AA$18:$AA$1017),0)","v":0},{"$f":"IFERROR($E88*SUMIF('Daily Log'!$AC$18:$AC$1017,$B88,'Daily Log'!$AD$18:$AD$1017),0)","v":0},{"$f":"IFERROR($E88*SUMIF('Daily Log'!$AF$18:$AF$1017,$B88,'Daily Log'!$AG$18:$AG$1017),0)","v":0},{"$f":"IFERROR($E88*SUMIF('Daily Log'!$AI$18:$AI$1017,$B88,'Daily Log'!$AJ$18:$AJ$1017),0)","v":0},{"$f":"IFERROR($E88*SUMIF('Daily Log'!$AL$18:$AL$1017,$B88,'Daily Log'!$AM$18:$AM$1017),0)","v":0},{"$f":"IFERROR($E88*SUMIF('Daily Log'!$AO$18:$AO$1017,$B88,'Daily Log'!$AP$18:$AP$1017),0)","v":0},{"$f":"IFERROR($E88*SUMIF('Daily Log'!$AR$18:$AR$1017,$B88,'Daily Log'!$AS$18:$AS$1017),0)","v":0},{"$f":"IFERROR($E88*SUMIF('Daily Log'!$AU$18:$AU$1017,$B88,'Daily Log'!$AV$18:$AV$1017),0)","v":0},{"$f":"IFERROR($E88*SUMIF('Daily Log'!$AX$18:$AX$1017,$B88,'Daily Log'!$AY$18:$AY$1017),0)","v":0},{"$f":"IFERROR($E88*SUMIF('Daily Log'!$BA$18:$BA$1017,$B88,'Daily Log'!$BB$18:$BB$1017),0)","v":0},{"$f":"IFERROR($E88*SUMIF('Daily Log'!$BD$18:$BD$1017,$B88,'Daily Log'!$BE$18:$BE$1017),0)","v":0},{"$f":"IFERROR($E88*SUMIF('Daily Log'!$BG$18:$BG$1017,$B88,'Daily Log'!$BH$18:$BH$1017),0)","v":0},{"$f":"IFERROR($E88*SUMIF('Daily Log'!$BJ$18:$BJ$1017,$B88,'Daily Log'!$BK$18:$BK$1017),0)","v":0},{"$f":"IFERROR($E88*SUMIF('Daily Log'!$BM$18:$BM$1017,$B88,'Daily Log'!$BN$18:$BN$1017),0)","v":0},{"$f":"IFERROR($E88*SUMIF('Daily Log'!$BP$18:$BP$1017,$B88,'Daily Log'!$BQ$18:$BQ$1017),0)","v":0},{"$f":"IFERROR($E88*SUMIF('Daily Log'!$BS$18:$BS$1017,$B88,'Daily Log'!$BT$18:$BT$1017),0)","v":0},{"$f":"IFERROR($E88*SUMIF('Daily Log'!$BV$18:$BV$1017,$B88,'Daily Log'!$BW$18:$BW$1017),0)","v":0},{"$f":"IFERROR($E88*SUMIF('Daily Log'!$BY$18:$BY$1017,$B88,'Daily Log'!$BZ$18:$BZ$1017),0)","v":0},{"$f":"IFERROR($E88*SUMIF('Daily Log'!$CB$18:$CB$1017,$B88,'Daily Log'!$CC$18:$CC$1017),0)","v":0},{"$f":"IFERROR($E88*SUMIF('Daily Log'!$CE$18:$CE$1017,$B88,'Daily Log'!$CF$18:$CF$1017),0)","v":0},{"$f":"IFERROR($E88*SUMIF('Daily Log'!$CH$18:$CH$1017,$B88,'Daily Log'!$CI$18:$CI$1017),0)","v":0},{"$f":"IFERROR($E88*SUMIF('Daily Log'!$CK$18:$CK$1017,$B88,'Daily Log'!$CL$18:$CL$1017),0)","v":7},{"$f":"IFERROR($E88*SUMIF('Daily Log'!$CN$18:$CN$1017,$B88,'Daily Log'!$CO$18:$CO$1017),0)","v":0}]
[null,"AF40 91310:MC HP SMIL",null,null,1,3,{"$f":"IFERROR($E89*SUMIF('Daily Log'!$B$18:$B$1017,$B89,'Daily Log'!$C$18:$C$1017),0)","v":0},{"$f":"IFERROR($E89*SUMIF('Daily Log'!$E$18:$E$1017,$B89,'Daily Log'!$F$18:$F$1017),0)","v":0},{"$f":"IFERROR($E89*SUMIF('Daily Log'!$H$18:$H$1017,$B89,'Daily Log'!$I$18:$I$1017),0)","v":0},{"$f":"IFERROR($E89*SUMIF('Daily Log'!$K$18:$K$1017,$B89,'Daily Log'!$L$18:$L$1017),0)","v":0},{"$f":"IFERROR($E89*SUMIF('Daily Log'!$N$18:$N$1017,$B89,'Daily Log'!$O$18:$O$1017),0)","v":0},{"$f":"IFERROR($E89*SUMIF('Daily Log'!$Q$18:$Q$1017,$B89,'Daily Log'!$R$18:$R$1017),0)","v":0},{"$f":"IFERROR($E89*SUMIF('Daily Log'!$T$18:$T$1017,$B89,'Daily Log'!$U$18:$U$1017),0)","v":0},{"$f":"IFERROR($E89*SUMIF('Daily Log'!$W$18:$W$1017,$B89,'Daily Log'!$X$18:$X$1017),0)","v":0},{"$f":"IFERROR($E89*SUMIF('Daily Log'!$Z$18:$Z$1017,$B89,'Daily Log'!$AA$18:$AA$1017),0)","v":0},{"$f":"IFERROR($E89*SUMIF('Daily Log'!$AC$18:$AC$1017,$B89,'Daily Log'!$AD$18:$AD$1017),0)","v":0},{"$f":"IFERROR($E89*SUMIF('Daily Log'!$AF$18:$AF$1017,$B89,'Daily Log'!$AG$18:$AG$1017),0)","v":0},{"$f":"IFERROR($E89*SUMIF('Daily Log'!$AI$18:$AI$1017,$B89,'Daily Log'!$AJ$18:$AJ$1017),0)","v":0},{"$f":"IFERROR($E89*SUMIF('Daily Log'!$AL$18:$AL$1017,$B89,'Daily Log'!$AM$18:$AM$1017),0)","v":0},{"$f":"IFERROR($E89*SUMIF('Daily Log'!$AO$18:$AO$1017,$B89,'Daily Log'!$AP$18:$AP$1017),0)","v":0},{"$f":"IFERROR($E89*SUMIF('Daily Log'!$AR$18:$AR$1017,$B89,'Daily Log'!$AS$18:$AS$1017),0)","v":0},{"$f":"IFERROR($E89*SUMIF('Daily Log'!$AU$18:$AU$1017,$B89,'Daily Log'!$AV$18:$AV$1017),0)","v":0},{"$f":"IFERROR($E89*SUMIF('Daily Log'!$AX$18:$AX$1017,$B89,'Daily Log'!$AY$18:$AY$1017),0)","v":0},{"$f":"IFERROR($E89*SUMIF('Daily Log'!$BA$18:$BA$1017,$B89,'Daily Log'!$BB$18:$BB$1017),0)","v":0},{"$f":"IFERROR($E89*SUMIF('Daily Log'!$BD$18:$BD$1017,$B89,'Daily Log'!$BE$18:$BE$1017),0)","v":0},{"$f":"IFERROR($E89*SUMIF('Daily Log'!$BG$18:$BG$1017,$B89,'Daily Log'!$BH$18:$BH$1017),0)","v":0},{"$f":"IFERROR($E89*SUMIF('Daily Log'!$BJ$18:$BJ$1017,$B89,'Daily Log'!$BK$18:$BK$1017),0)","v":0},{"$f":"IFERROR($E89*SUMIF('Daily Log'!$BM$18:$BM$1017,$B89,'Daily Log'!$BN$18:$BN$1017),0)","v":0},{"$f":"IFERROR($E89*SUMIF('Daily Log'!$BP$18:$BP$1017,$B89,'Daily Log'!$BQ$18:$BQ$1017),0)","v":0},{"$f":"IFERROR($E89*SUMIF('Daily Log'!$BS$18:$BS$1017,$B89,'Daily Log'!$BT$18:$BT$1017),0)","v":0},{"$f":"IFERROR($E89*SUMIF('Daily Log'!$BV$18:$BV$1017,$B89,'Daily Log'!$BW$18:$BW$1017),0)","v":0},{"$f":"IFERROR($E89*SUMIF('Daily Log'!$BY$18:$BY$1017,$B89,'Daily Log'!$BZ$18:$BZ$1017),0)","v":0},{"$f":"IFERROR($E89*SUMIF('Daily Log'!$CB$18:$CB$1017,$B89,'Daily Log'!$CC$18:$CC$1017),0)","v":0},{"$f":"IFERROR($E89*SUMIF('Daily Log'!$CE$18:$CE$1017,$B89,'Daily Log'!$CF$18:$CF$1017),0)","v":0},{"$f":"IFERROR($E89*SUMIF('Daily Log'!$CH$18:$CH$1017,$B89,'Daily Log'!$CI$18:$CI$1017),0)","v":0},{"$f":"IFERROR($E89*SUMIF('Daily Log'!$CK$18:$CK$1017,$B89,'Daily Log'!$CL$18:$CL$1017),0)","v":3},{"$f":"IFERROR($E89*SUMIF('Daily Log'!$CN$18:$CN$1017,$B89,'Daily Log'!$CO$18:$CO$1017),0)","v":0}]
[null,"RS02 71202:FREN FRIES",null,null,1,5,{"$f":"IFERROR($E90*SUMIF('Daily Log'!$B$18:$B$1017,$B90,'Daily Log'!$C$18:$C$1017),0)","v":0},{"$f":"IFERROR($E90*SUMIF('Daily Log'!$E$18:$E$1017,$B90,'Daily Log'!$F$18:$F$1017),0)","v":0},{"$f":"IFERROR($E90*SUMIF('Daily Log'!$H$18:$H$1017,$B90,'Daily Log'!$I$18:$I$1017),0)","v":0},{"$f":"IFERROR($E90*SUMIF('Daily Log'!$K$18:$K$1017,$B90,'Daily Log'!$L$18:$L$1017),0)","v":0},{"$f":"IFERROR($E90*SUMIF('Daily Log'!$N$18:$N$1017,$B90,'Daily Log'!$O$18:$O$1017),0)","v":0},{"$f":"IFERROR($E90*SUMIF('Daily Log'!$Q$18:$Q$1017,$B90,'Daily Log'!$R$18:$R$1017),0)","v":0},{"$f":"IFERROR($E90*SUMIF('Daily Log'!$T$18:$T$1017,$B90,'Daily Log'!$U$18:$U$1017),0)","v":0},{"$f":"IFERROR($E90*SUMIF('Daily Log'!$W$18:$W$1017,$B90,'Daily Log'!$X$18:$X$1017),0)","v":0},{"$f":"IFERROR($E90*SUMIF('Daily Log'!$Z$18:$Z$1017,$B90,'Daily Log'!$AA$18:$AA$1017),0)","v":0},{"$f":"IFERROR($E90*SUMIF('Daily Log'!$AC$18:$AC$1017,$B90,'Daily Log'!$AD$18:$AD$1017),0)","v":0},{"$f":"IFERROR($E90*SUMIF('Daily Log'!$AF$18:$AF$1017,$B90,'Daily Log'!$AG$18:$AG$1017),0)","v":0},{"$f":"IFERROR($E90*SUMIF('Daily Log'!$AI$18:$AI$1017,$B90,'Daily Log'!$AJ$18:$AJ$1017),0)","v":0},{"$f":"IFERROR($E90*SUMIF('Daily Log'!$AL$18:$AL$1017,$B90,'Daily Log'!$AM$18:$AM$1017),0)","v":0},{"$f":"IFERROR($E90*SUMIF('Daily Log'!$AO$18:$AO$1017,$B90,'Daily Log'!$AP$18:$AP$1017),0)","v":0},{"$f":"IFERROR($E90*SUMIF('Daily Log'!$AR$18:$AR$1017,$B90,'Daily Log'!$AS$18:$AS$1017),0)","v":0},{"$f":"IFERROR($E90*SUMIF('Daily Log'!$AU$18:$AU$1017,$B90,'Daily Log'!$AV$18:$AV$1017),0)","v":0},{"$f":"IFERROR($E90*SUMIF('Daily Log'!$AX$18:$AX$1017,$B90,'Daily Log'!$AY$18:$AY$1017),0)","v":0},{"$f":"IFERROR($E90*SUMIF('Daily Log'!$BA$18:$BA$1017,$B90,'Daily Log'!$BB$18:$BB$1017),0)","v":0},{"$f":"IFERROR($E90*SUMIF('Daily Log'!$BD$18:$BD$1017,$B90,'Daily Log'!$BE$18:$BE$1017),0)","v":0},{"$f":"IFERROR($E90*SUMIF('Daily Log'!$BG$18:$BG$1017,$B90,'Daily Log'!$BH$18:$BH$1017),0)","v":0},{"$f":"IFERROR($E90*SUMIF('Daily Log'!$BJ$18:$BJ$1017,$B90,'Daily Log'!$BK$18:$BK$1017),0)","v":0},{"$f":"IFERROR($E90*SUMIF('Daily Log'!$BM$18:$BM$1017,$B90,'Daily Log'!$BN$18:$BN$1017),0)","v":0},{"$f":"IFERROR($E90*SUMIF('Daily Log'!$BP$18:$BP$1017,$B90,'Daily Log'!$BQ$18:$BQ$1017),0)","v":0},{"$f":"IFERROR($E90*SUMIF('Daily Log'!$BS$18:$BS$1017,$B90,'Daily Log'!$BT$18:$BT$1017),0)","v":0},{"$f":"IFERROR($E90*SUMIF('Daily Log'!$BV$18:$BV$1017,$B90,'Daily Log'!$BW$18:$BW$1017),0)","v":0},{"$f":"IFERROR($E90*SUMIF('Daily Log'!$BY$18:$BY$1017,$B90,'Daily Log'!$BZ$18:$BZ$1017),0)","v":0},{"$f":"IFERROR($E90*SUMIF('Daily Log'!$CB$18:$CB$1017,$B90,'Daily Log'!$CC$18:$CC$1017),0)","v":0},{"$f":"IFERROR($E90*SUMIF('Daily Log'!$CE$18:$CE$1017,$B90,'Daily Log'!$CF$18:$CF$1017),0)","v":0},{"$f":"IFERROR($E90*SUMIF('Daily Log'!$CH$18:$CH$1017,$B90,'Daily Log'!$CI$18:$CI$1017),0)","v":0},{"$f":"IFERROR($E90*SUMIF('Daily Log'!$CK$18:$CK$1017,$B90,'Daily Log'!$CL$18:$CL$1017),0)","v":5},{"$f":"IFERROR($E90*SUMIF('Daily Log'!$CN$18:$CN$1017,$B90,'Daily Log'!$CO$18:$CO$1017),0)","v":0}]
[null,"RS04 71204:FSH BALL",null,null,1,2,{"$f":"IFERROR($E91*SUMIF('Daily Log'!$B$18:$B$1017,$B91,'Daily Log'!$C$18:$C$1017),0)","v":0},{"$f":"IFERROR($E91*SUMIF('Daily Log'!$E$18:$E$1017,$B91,'Daily Log'!$F$18:$F$1017),0)","v":0},{"$f":"IFERROR($E91*SUMIF('Daily Log'!$H$18:$H$1017,$B91,'Daily Log'!$I$18:$I$1017),0)","v":0},{"$f":"IFERROR($E91*SUMIF('Daily Log'!$K$18:$K$1017,$B91,'Daily Log'!$L$18:$L$1017),0)","v":0},{"$f":"IFERROR($E91*SUMIF('Daily Log'!$N$18:$N$1017,$B91,'Daily Log'!$O$18:$O$1017),0)","v":0},{"$f":"IFERROR($E91*SUMIF('Daily Log'!$Q$18:$Q$1017,$B91,'Daily Log'!$R$18:$R$1017),0)","v":0},{"$f":"IFERROR($E91*SUMIF('Daily Log'!$T$18:$T$1017,$B91,'Daily Log'!$U$18:$U$1017),0)","v":0},{"$f":"IFERROR($E91*SUMIF('Daily Log'!$W$18:$W$1017,$B91,'Daily Log'!$X$18:$X$1017),0)","v":0},{"$f":"IFERROR($E91*SUMIF('Daily Log'!$Z$18:$Z$1017,$B91,'Daily Log'!$AA$18:$AA$1017),0)","v":0},{"$f":"IFERROR($E91*SUMIF('Daily Log'!$AC$18:$AC$1017,$B91,'Daily Log'!$AD$18:$AD$1017),0)","v":0},{"$f":"IFERROR($E91*SUMIF('Daily Log'!$AF$18:$AF$1017,$B91,'Daily Log'!$AG$18:$AG$1017),0)","v":0},{"$f":"IFERROR($E91*SUMIF('Daily Log'!$AI$18:$AI$1017,$B91,'Daily Log'!$AJ$18:$AJ$1017),0)","v":0},{"$f":"IFERROR($E91*SUMIF('Daily Log'!$AL$18:$AL$1017,$B91,'Daily Log'!$AM$18:$AM$1017),0)","v":0},{"$f":"IFERROR($E91*SUMIF('Daily Log'!$AO$18:$AO$1017,$B91,'Daily Log'!$AP$18:$AP$1017),0)","v":0},{"$f":"IFERROR($E91*SUMIF('Daily Log'!$AR$18:$AR$1017,$B91,'Daily Log'!$AS$18:$AS$1017),0)","v":0},{"$f":"IFERROR($E91*SUMIF('Daily Log'!$AU$18:$AU$1017,$B91,'Daily Log'!$AV$18:$AV$1017),0)","v":0},{"$f":"IFERROR($E91*SUMIF('Daily Log'!$AX$18:$AX$1017,$B91,'Daily Log'!$AY$18:$AY$1017),0)","v":0},{"$f":"IFERROR($E91*SUMIF('Daily Log'!$BA$18:$BA$1017,$B91,'Daily Log'!$BB$18:$BB$1017),0)","v":0},{"$f":"IFERROR($E91*SUMIF('Daily Log'!$BD$18:$BD$1017,$B91,'Daily Log'!$BE$18:$BE$1017),0)","v":0},{"$f":"IFERROR($E91*SUMIF('Daily Log'!$BG$18:$BG$1017,$B91,'Daily Log'!$BH$18:$BH$1017),0)","v":0},{"$f":"IFERROR($E91*SUMIF('Daily Log'!$BJ$18:$BJ$1017,$B91,'Daily Log'!$BK$18:$BK$1017),0)","v":0},{"$f":"IFERROR($E91*SUMIF('Daily Log'!$BM$18:$BM$1017,$B91,'Daily Log'!$BN$18:$BN$1017),0)","v":0},{"$f":"IFERROR($E91*SUMIF('Daily Log'!$BP$18:$BP$1017,$B91,'Daily Log'!$BQ$18:$BQ$1017),0)","v":0},{"$f":"IFERROR($E91*SUMIF('Daily Log'!$BS$18:$BS$1017,$B91,'Daily Log'!$BT$18:$BT$1017),0)","v":0},{"$f":"IFERROR($E91*SUMIF('Daily Log'!$BV$18:$BV$1017,$B91,'Daily Log'!$BW$18:$BW$1017),0)","v":0},{"$f":"IFERROR($E91*SUMIF('Daily Log'!$BY$18:$BY$1017,$B91,'Daily Log'!$BZ$18:$BZ$1017),0)","v":0},{"$f":"IFERROR($E91*SUMIF('Daily Log'!$CB$18:$CB$1017,$B91,'Daily Log'!$CC$18:$CC$1017),0)","v":0},{"$f":"IFERROR($E91*SUMIF('Daily Log'!$CE$18:$CE$1017,$B91,'Daily Log'!$CF$18:$CF$1017),0)","v":0},{"$f":"IFERROR($E91*SUMIF('Daily Log'!$CH$18:$CH$1017,$B91,'Daily Log'!$CI$18:$CI$1017),0)","v":0},{"$f":"IFERROR($E91*SUMIF('Daily Log'!$CK$18:$CK$1017,$B91,'Daily Log'!$CL$18:$CL$1017),0)","v":2},{"$f":"IFERROR($E91*SUMIF('Daily Log'!$CN$18:$CN$1017,$B91,'Daily Log'!$CO$18:$CO$1017),0)","v":0}]
[null,"RS06 71206:SPRING RL",null,null,1,0,{"$f":"IFERROR($E92*SUMIF('Daily Log'!$B$18:$B$1017,$B92,'Daily Log'!$C$18:$C$1017),0)","v":0},{"$f":"IFERROR($E92*SUMIF('Daily Log'!$E$18:$E$1017,$B92,'Daily Log'!$F$18:$F$1017),0)","v":0},{"$f":"IFERROR($E92*SUMIF('Daily Log'!$H$18:$H$1017,$B92,'Daily Log'!$I$18:$I$1017),0)","v":0},{"$f":"IFERROR($E92*SUMIF('Daily Log'!$K$18:$K$1017,$B92,'Daily Log'!$L$18:$L$1017),0)","v":0},{"$f":"IFERROR($E92*SUMIF('Daily Log'!$N$18:$N$1017,$B92,'Daily Log'!$O$18:$O$1017),0)","v":0},{"$f":"IFERROR($E92*SUMIF('Daily Log'!$Q$18:$Q$1017,$B92,'Daily Log'!$R$18:$R$1017),0)","v":0},{"$f":"IFERROR($E92*SUMIF('Daily Log'!$T$18:$T$1017,$B92,'Daily Log'!$U$18:$U$1017),0)","v":0},{"$f":"IFERROR($E92*SUMIF('Daily Log'!$W$18:$W$1017,$B92,'Daily Log'!$X$18:$X$1017),0)","v":0},{"$f":"IFERROR($E92*SUMIF('Daily Log'!$Z$18:$Z$1017,$B92,'Daily Log'!$AA$18:$AA$1017),0)","v":0},{"$f":"IFERROR($E92*SUMIF('Daily Log'!$AC$18:$AC$1017,$B92,'Daily Log'!$AD$18:$AD$1017),0)","v":0},{"$f":"IFERROR($E92*SUMIF('Daily Log'!$AF$18:$AF$1017,$B92,'Daily Log'!$AG$18:$AG$1017),0)","v":0},{"$f":"IFERROR($E92*SUMIF('Daily Log'!$AI$18:$AI$1017,$B92,'Daily Log'!$AJ$18:$AJ$1017),0)","v":0},{"$f":"IFERROR($E92*SUMIF('Daily Log'!$AL$18:$AL$1017,$B92,'Daily Log'!$AM$18:$AM$1017),0)","v":0},{"$f":"IFERROR($E92*SUMIF('Daily Log'!$AO$18:$AO$1017,$B92,'Daily Log'!$AP$18:$AP$1017),0)","v":0},{"$f":"IFERROR($E92*SUMIF('Daily Log'!$AR$18:$AR$1017,$B92,'Daily Log'!$AS$18:$AS$1017),0)","v":0},{"$f":"IFERROR($E92*SUMIF('Daily Log'!$AU$18:$AU$1017,$B92,'Daily Log'!$AV$18:$AV$1017),0)","v":0},{"$f":"IFERROR($E92*SUMIF('Daily Log'!$AX$18:$AX$1017,$B92,'Daily Log'!$AY$18:$AY$1017),0)","v":0},{"$f":"IFERROR($E92*SUMIF('Daily Log'!$BA$18:$BA$1017,$B92,'Daily Log'!$BB$18:$BB$1017),0)","v":0},{"$f":"IFERROR($E92*SUMIF('Daily Log'!$BD$18:$BD$1017,$B92,'Daily Log'!$BE$18:$BE$1017),0)","v":0},{"$f":"IFERROR($E92*SUMIF('Daily Log'!$BG$18:$BG$1017,$B92,'Daily Log'!$BH$18:$BH$1017),0)","v":0},{"$f":"IFERROR($E92*SUMIF('Daily Log'!$BJ$18:$BJ$1017,$B92,'Daily Log'!$BK$18:$BK$1017),0)","v":0},{"$f":"IFERROR($E92*SUMIF('Daily Log'!$BM$18:$BM$1017,$B92,'Daily Log'!$BN$18:$BN$1017),0)","v":0},{"$f":"IFERROR($E92*SUMIF('Daily Log'!$BP$18:$BP$1017,$B92,'Daily Log'!$BQ$18:$BQ$1017),0)","v":0},{"$f":"IFERROR($E92*SUMIF('Daily Log'!$BS$18:$BS$1017,$B92,'Daily Log'!$BT$18:$BT$1017),0)","v":0},{"$f":"IFERROR($E92*SUMIF('Daily Log'!$BV$18:$BV$1017,$B92,'Daily Log'!$BW$18:$BW$1017),0)","v":0},{"$f":"IFERROR($E92*SUMIF('Daily Log'!$BY$18:$BY$1017,$B92,'Daily Log'!$BZ$18:$BZ$1017),0)","v":0},{"$f":"IFERROR($E92*SUMIF('Daily Log'!$CB$18:$CB$1017,$B92,'Daily Log'!$CC$18:$CC$1017),0)","v":0},{"$f":"IFERROR($E92*SUMIF('Daily Log'!$CE$18:$CE$1017,$B92,'Daily Log'!$CF$18:$CF$1017),0)","v":0},{"$f":"IFERROR($E92*SUMIF('Daily Log'!$CH$18:$CH$1017,$B92,'Daily Log'!$CI$18:$CI$1017),0)","v":0},{"$f":"IFERROR($E92*SUMIF('Daily Log'!$CK$18:$CK$1017,$B92,'Daily Log'!$CL$18:$CL$1017),0)","v":0},{"$f":"IFERROR($E92*SUMIF('Daily Log'!$CN$18:$CN$1017,$B92,'Daily Log'!$CO$18:$CO$1017),0)","v":0}]
[null,"RS07 71207:SAUSG",null,null,1,1,{"$f":"IFERROR($E93*SUMIF('Daily Log'!$B$18:$B$1017,$B93,'Daily Log'!$C$18:$C$1017),0)","v":0},{"$f":"IFERROR($E93*SUMIF('Daily Log'!$E$18:$E$1017,$B93,'Daily Log'!$F$18:$F$1017),0)","v":0},{"$f":"IFERROR($E93*SUMIF('Daily Log'!$H$18:$H$1017,$B93,'Daily Log'!$I$18:$I$1017),0)","v":0},{"$f":"IFERROR($E93*SUMIF('Daily Log'!$K$18:$K$1017,$B93,'Daily Log'!$L$18:$L$1017),0)","v":0},{"$f":"IFERROR($E93*SUMIF('Daily Log'!$N$18:$N$1017,$B93,'Daily Log'!$O$18:$O$1017),0)","v":0},{"$f":"IFERROR($E93*SUMIF('Daily Log'!$Q$18:$Q$1017,$B93,'Daily Log'!$R$18:$R$1017),0)","v":0},{"$f":"IFERROR($E93*SUMIF('Daily Log'!$T$18:$T$1017,$B93,'Daily Log'!$U$18:$U$1017),0)","v":0},{"$f":"IFERROR($E93*SUMIF('Daily Log'!$W$18:$W$1017,$B93,'Daily Log'!$X$18:$X$1017),0)","v":0},{"$f":"IFERROR($E93*SUMIF('Daily Log'!$Z$18:$Z$1017,$B93,'Daily Log'!$AA$18:$AA$1017),0)","v":0},{"$f":"IFERROR($E93*SUMIF('Daily Log'!$AC$18:$AC$1017,$B93,'Daily Log'!$AD$18:$AD$1017),0)","v":0},{"$f":"IFERROR($E93*SUMIF('Daily Log'!$AF$18:$AF$1017,$B93,'Daily Log'!$AG$18:$AG$1017),0)","v":0},{"$f":"IFERROR($E93*SUMIF('Daily Log'!$AI$18:$AI$1017,$B93,'Daily Log'!$AJ$18:$AJ$1017),0)","v":0},{"$f":"IFERROR($E93*SUMIF('Daily Log'!$AL$18:$AL$1017,$B93,'Daily Log'!$AM$18:$AM$1017),0)","v":0},{"$f":"IFERROR($E93*SUMIF('Daily Log'!$AO$18:$AO$1017,$B93,'Daily Log'!$AP$18:$AP$1017),0)","v":0},{"$f":"IFERROR($E93*SUMIF('Daily Log'!$AR$18:$AR$1017,$B93,'Daily Log'!$AS$18:$AS$1017),0)","v":0},{"$f":"IFERROR($E93*SUMIF('Daily Log'!$AU$18:$AU$1017,$B93,'Daily Log'!$AV$18:$AV$1017),0)","v":0},{"$f":"IFERROR($E93*SUMIF('Daily Log'!$AX$18:$AX$1017,$B93,'Daily Log'!$AY$18:$AY$1017),0)","v":0},{"$f":"IFERROR($E93*SUMIF('Daily Log'!$BA$18:$BA$1017,$B93,'Daily Log'!$BB$18:$BB$1017),0)","v":0},{"$f":"IFERROR($E93*SUMIF('Daily Log'!$BD$18:$BD$1017,$B93,'Daily Log'!$BE$18:$BE$1017),0)","v":0},{"$f":"IFERROR($E93*SUMIF('Daily Log'!$BG$18:$BG$1017,$B93,'Daily Log'!$BH$18:$BH$1017),0)","v":0},{"$f":"IFERROR($E93*SUMIF('Daily Log'!$BJ$18:$BJ$1017,$B93,'Daily Log'!$BK$18:$BK$1017),0)","v":0},{"$f":"IFERROR($E93*SUMIF('Daily Log'!$BM$18:$BM$1017,$B93,'Daily Log'!$BN$18:$BN$1017),0)","v":0},{"$f":"IFERROR($E93*SUMIF('Daily Log'!$BP$18:$BP$1017,$B93,'Daily Log'!$BQ$18:$BQ$1017),0)","v":0},{"$f":"IFERROR($E93*SUMIF('Daily Log'!$BS$18:$BS$1017,$B93,'Daily Log'!$BT$18:$BT$1017),0)","v":0},{"$f":"IFERROR($E93*SUMIF('Daily Log'!$BV$18:$BV$1017,$B93,'Daily Log'!$BW$18:$BW$1017),0)","v":0},{"$f":"IFERROR($E93*SUMIF('Daily Log'!$BY$18:$BY$1017,$B93,'Daily Log'!$BZ$18:$BZ$1017),0)","v":0},{"$f":"IFERROR($E93*SUMIF('Daily Log'!$CB$18:$CB$1017,$B93,'Daily Log'!$CC$18:$CC$1017),0)","v":0},{"$f":"IFERROR($E93*SUMIF('Daily Log'!$CE$18:$CE$1017,$B93,'Daily Log'!$CF$18:$CF$1017),0)","v":0},{"$f":"IFERROR($E93*SUMIF('Daily Log'!$CH$18:$CH$1017,$B93,'Daily Log'!$CI$18:$CI$1017),0)","v":0},{"$f":"IFERROR($E93*SUMIF('Daily Log'!$CK$18:$CK$1017,$B93,'Daily Log'!$CL$18:$CL$1017),0)","v":1},{"$f":"IFERROR($E93*SUMIF('Daily Log'!$CN$18:$CN$1017,$B93,'Daily Log'!$CO$18:$CO$1017),0)","v":0}]
[null,"RS08 71208:HOTDOG BUN",null,null,1,{"$f":"SUM($G94:$AK94)","v":0},{"$f":"IFERROR($E94*SUMIF('Daily Log'!$B$18:$B$1017,$B94,'Daily Log'!$C$18:$C$1017),0)","v":0},{"$f":"IFERROR($E94*SUMIF('Daily Log'!$E$18:$E$1017,$B94,'Daily Log'!$F$18:$F$1017),0)","v":0},{"$f":"IFERROR($E94*SUMIF('Daily Log'!$H$18:$H$1017,$B94,'Daily Log'!$I$18:$I$1017),0)","v":0},{"$f":"IFERROR($E94*SUMIF('Daily Log'!$K$18:$K$1017,$B94,'Daily Log'!$L$18:$L$1017),0)","v":0},{"$f":"IFERROR($E94*SUMIF('Daily Log'!$N$18:$N$1017,$B94,'Daily Log'!$O$18:$O$1017),0)","v":0},{"$f":"IFERROR($E94*SUMIF('Daily Log'!$Q$18:$Q$1017,$B94,'Daily Log'!$R$18:$R$1017),0)","v":0},{"$f":"IFERROR($E94*SUMIF('Daily Log'!$T$18:$T$1017,$B94,'Daily Log'!$U$18:$U$1017),0)","v":0},{"$f":"IFERROR($E94*SUMIF('Daily Log'!$W$18:$W$1017,$B94,'Daily Log'!$X$18:$X$1017),0)","v":0},{"$f":"IFERROR($E94*SUMIF('Daily Log'!$Z$18:$Z$1017,$B94,'Daily Log'!$AA$18:$AA$1017),0)","v":0},{"$f":"IFERROR($E94*SUMIF('Daily Log'!$AC$18:$AC$1017,$B94,'Daily Log'!$AD$18:$AD$1017),0)","v":0},{"$f":"IFERROR($E94*SUMIF('Daily Log'!$AF$18:$AF$1017,$B94,'Daily Log'!$AG$18:$AG$1017),0)","v":0},{"$f":"IFERROR($E94*SUMIF('Daily Log'!$AI$18:$AI$1017,$B94,'Daily Log'!$AJ$18:$AJ$1017),0)","v":0},{"$f":"IFERROR($E94*SUMIF('Daily Log'!$AL$18:$AL$1017,$B94,'Daily Log'!$AM$18:$AM$1017),0)","v":0},{"$f":"IFERROR($E94*SUMIF('Daily Log'!$AO$18:$AO$1017,$B94,'Daily Log'!$AP$18:$AP$1017),0)","v":0},{"$f":"IFERROR($E94*SUMIF('Daily Log'!$AR$18:$AR$1017,$B94,'Daily Log'!$AS$18:$AS$1017),0)","v":0},{"$f":"IFERROR($E94*SUMIF('Daily Log'!$AU$18:$AU$1017,$B94,'Daily Log'!$AV$18:$AV$1017),0)","v":0},{"$f":"IFERROR($E94*SUMIF('Daily Log'!$AX$18:$AX$1017,$B94,'Daily Log'!$AY$18:$AY$1017),0)","v":0},{"$f":"IFERROR($E94*SUMIF('Daily Log'!$BA$18:$BA$1017,$B94,'Daily Log'!$BB$18:$BB$1017),0)","v":0},{"$f":"IFERROR($E94*SUMIF('Daily Log'!$BD$18:$BD$1017,$B94,'Daily Log'!$BE$18:$BE$1017),0)","v":0},{"$f":"IFERROR($E94*SUMIF('Daily Log'!$BG$18:$BG$1017,$B94,'Daily Log'!$BH$18:$BH$1017),0)","v":0},{"$f":"IFERROR($E94*SUMIF('Daily Log'!$BJ$18:$BJ$1017,$B94,'Daily Log'!$BK$18:$BK$1017),0)","v":0},{"$f":"IFERROR($E94*SUMIF('Daily Log'!$BM$18:$BM$1017,$B94,'Daily Log'!$BN$18:$BN$1017),0)","v":0},{"$f":"IFERROR($E94*SUMIF('Daily Log'!$BP$18:$BP$1017,$B94,'Daily Log'!$BQ$18:$BQ$1017),0)","v":0},{"$f":"IFERROR($E94*SUMIF('Daily Log'!$BS$18:$BS$1017,$B94,'Daily Log'!$BT$18:$BT$1017),0)","v":0},{"$f":"IFERROR($E94*SUMIF('Daily Log'!$BV$18:$BV$1017,$B94,'Daily Log'!$BW$18:$BW$1017),0)","v":0},{"$f":"IFERROR($E94*SUMIF('Daily Log'!$BY$18:$BY$1017,$B94,'Daily Log'!$BZ$18:$BZ$1017),0)","v":0},{"$f":"IFERROR($E94*SUMIF('Daily Log'!$CB$18:$CB$1017,$B94,'Daily Log'!$CC$18:$CC$1017),0)","v":0},{"$f":"IFERROR($E94*SUMIF('Daily Log'!$CE$18:$CE$1017,$B94,'Daily Log'!$CF$18:$CF$1017),0)","v":0},{"$f":"IFERROR($E94*SUMIF('Daily Log'!$CH$18:$CH$1017,$B94,'Daily Log'!$CI$18:$CI$1017),0)","v":0},{"$f":"IFERROR($E94*SUMIF('Daily Log'!$CK$18:$CK$1017,$B94,'Daily Log'!$CL$18:$CL$1017),0)","v":0},{"$f":"IFERROR($E94*SUMIF('Daily Log'!$CN$18:$CN$1017,$B94,'Daily Log'!$CO$18:$CO$1017),0)","v":0}]
[null,"RS09 71209:SF TF",null,null,1,1,{"$f":"IFERROR($E95*SUMIF('Daily Log'!$B$18:$B$1017,$B95,'Daily Log'!$C$18:$C$1017),0)","v":0},{"$f":"IFERROR($E95*SUMIF('Daily Log'!$E$18:$E$1017,$B95,'Daily Log'!$F$18:$F$1017),0)","v":0},{"$f":"IFERROR($E95*SUMIF('Daily Log'!$H$18:$H$1017,$B95,'Daily Log'!$I$18:$I$1017),0)","v":0},{"$f":"IFERROR($E95*SUMIF('Daily Log'!$K$18:$K$1017,$B95,'Daily Log'!$L$18:$L$1017),0)","v":0},{"$f":"IFERROR($E95*SUMIF('Daily Log'!$N$18:$N$1017,$B95,'Daily Log'!$O$18:$O$1017),0)","v":0},{"$f":"IFERROR($E95*SUMIF('Daily Log'!$Q$18:$Q$1017,$B95,'Daily Log'!$R$18:$R$1017),0)","v":0},{"$f":"IFERROR($E95*SUMIF('Daily Log'!$T$18:$T$1017,$B95,'Daily Log'!$U$18:$U$1017),0)","v":0},{"$f":"IFERROR($E95*SUMIF('Daily Log'!$W$18:$W$1017,$B95,'Daily Log'!$X$18:$X$1017),0)","v":0},{"$f":"IFERROR($E95*SUMIF('Daily Log'!$Z$18:$Z$1017,$B95,'Daily Log'!$AA$18:$AA$1017),0)","v":0},{"$f":"IFERROR($E95*SUMIF('Daily Log'!$AC$18:$AC$1017,$B95,'Daily Log'!$AD$18:$AD$1017),0)","v":0},{"$f":"IFERROR($E95*SUMIF('Daily Log'!$AF$18:$AF$1017,$B95,'Daily Log'!$AG$18:$AG$1017),0)","v":0},{"$f":"IFERROR($E95*SUMIF('Daily Log'!$AI$18:$AI$1017,$B95,'Daily Log'!$AJ$18:$AJ$1017),0)","v":0},{"$f":"IFERROR($E95*SUMIF('Daily Log'!$AL$18:$AL$1017,$B95,'Daily Log'!$AM$18:$AM$1017),0)","v":0},{"$f":"IFERROR($E95*SUMIF('Daily Log'!$AO$18:$AO$1017,$B95,'Daily Log'!$AP$18:$AP$1017),0)","v":0},{"$f":"IFERROR($E95*SUMIF('Daily Log'!$AR$18:$AR$1017,$B95,'Daily Log'!$AS$18:$AS$1017),0)","v":0},{"$f":"IFERROR($E95*SUMIF('Daily Log'!$AU$18:$AU$1017,$B95,'Daily Log'!$AV$18:$AV$1017),0)","v":0},{"$f":"IFERROR($E95*SUMIF('Daily Log'!$AX$18:$AX$1017,$B95,'Daily Log'!$AY$18:$AY$1017),0)","v":0},{"$f":"IFERROR($E95*SUMIF('Daily Log'!$BA$18:$BA$1017,$B95,'Daily Log'!$BB$18:$BB$1017),0)","v":0},{"$f":"IFERROR($E95*SUMIF('Daily Log'!$BD$18:$BD$1017,$B95,'Daily Log'!$BE$18:$BE$1017),0)","v":0},{"$f":"IFERROR($E95*SUMIF('Daily Log'!$BG$18:$BG$1017,$B95,'Daily Log'!$BH$18:$BH$1017),0)","v":0},{"$f":"IFERROR($E95*SUMIF('Daily Log'!$BJ$18:$BJ$1017,$B95,'Daily Log'!$BK$18:$BK$1017),0)","v":0},{"$f":"IFERROR($E95*SUMIF('Daily Log'!$BM$18:$BM$1017,$B95,'Daily Log'!$BN$18:$BN$1017),0)","v":0},{"$f":"IFERROR($E95*SUMIF('Daily Log'!$BP$18:$BP$1017,$B95,'Daily Log'!$BQ$18:$BQ$1017),0)","v":0},{"$f":"IFERROR($E95*SUMIF('Daily Log'!$BS$18:$BS$1017,$B95,'Daily Log'!$BT$18:$BT$1017),0)","v":0},{"$f":"IFERROR($E95*SUMIF('Daily Log'!$BV$18:$BV$1017,$B95,'Daily Log'!$BW$18:$BW$1017),0)","v":0},{"$f":"IFERROR($E95*SUMIF('Daily Log'!$BY$18:$BY$1017,$B95,'Daily Log'!$BZ$18:$BZ$1017),0)","v":0},{"$f":"IFERROR($E95*SUMIF('Daily Log'!$CB$18:$CB$1017,$B95,'Daily Log'!$CC$18:$CC$1017),0)","v":0},{"$f":"IFERROR($E95*SUMIF('Daily Log'!$CE$18:$CE$1017,$B95,'Daily Log'!$CF$18:$CF$1017),0)","v":0},{"$f":"IFERROR($E95*SUMIF('Daily Log'!$CH$18:$CH$1017,$B95,'Daily Log'!$CI$18:$CI$1017),0)","v":0},{"$f":"IFERROR($E95*SUMIF('Daily Log'!$CK$18:$CK$1017,$B95,'Daily Log'!$CL$18:$CL$1017),0)","v":1},{"$f":"IFERROR($E95*SUMIF('Daily Log'!$CN$18:$CN$1017,$B95,'Daily Log'!$CO$18:$CO$1017),0)","v":0}]
[null,"RS10 71210:SALAD RL",null,null,1,0,{"$f":"IFERROR($E96*SUMIF('Daily Log'!$B$18:$B$1017,$B96,'Daily Log'!$C$18:$C$1017),0)","v":0},{"$f":"IFERROR($E96*SUMIF('Daily Log'!$E$18:$E$1017,$B96,'Daily Log'!$F$18:$F$1017),0)","v":0},{"$f":"IFERROR($E96*SUMIF('Daily Log'!$H$18:$H$1017,$B96,'Daily Log'!$I$18:$I$1017),0)","v":0},{"$f":"IFERROR($E96*SUMIF('Daily Log'!$K$18:$K$1017,$B96,'Daily Log'!$L$18:$L$1017),0)","v":0},{"$f":"IFERROR($E96*SUMIF('Daily Log'!$N$18:$N$1017,$B96,'Daily Log'!$O$18:$O$1017),0)","v":0},{"$f":"IFERROR($E96*SUMIF('Daily Log'!$Q$18:$Q$1017,$B96,'Daily Log'!$R$18:$R$1017),0)","v":0},{"$f":"IFERROR($E96*SUMIF('Daily Log'!$T$18:$T$1017,$B96,'Daily Log'!$U$18:$U$1017),0)","v":0},{"$f":"IFERROR($E96*SUMIF('Daily Log'!$W$18:$W$1017,$B96,'Daily Log'!$X$18:$X$1017),0)","v":0},{"$f":"IFERROR($E96*SUMIF('Daily Log'!$Z$18:$Z$1017,$B96,'Daily Log'!$AA$18:$AA$1017),0)","v":0},{"$f":"IFERROR($E96*SUMIF('Daily Log'!$AC$18:$AC$1017,$B96,'Daily Log'!$AD$18:$AD$1017),0)","v":0},{"$f":"IFERROR($E96*SUMIF('Daily Log'!$AF$18:$AF$1017,$B96,'Daily Log'!$AG$18:$AG$1017),0)","v":0},{"$f":"IFERROR($E96*SUMIF('Daily Log'!$AI$18:$AI$1017,$B96,'Daily Log'!$AJ$18:$AJ$1017),0)","v":0},{"$f":"IFERROR($E96*SUMIF('Daily Log'!$AL$18:$AL$1017,$B96,'Daily Log'!$AM$18:$AM$1017),0)","v":0},{"$f":"IFERROR($E96*SUMIF('Daily Log'!$AO$18:$AO$1017,$B96,'Daily Log'!$AP$18:$AP$1017),0)","v":0},{"$f":"IFERROR($E96*SUMIF('Daily Log'!$AR$18:$AR$1017,$B96,'Daily Log'!$AS$18:$AS$1017),0)","v":0},{"$f":"IFERROR($E96*SUMIF('Daily Log'!$AU$18:$AU$1017,$B96,'Daily Log'!$AV$18:$AV$1017),0)","v":0},{"$f":"IFERROR($E96*SUMIF('Daily Log'!$AX$18:$AX$1017,$B96,'Daily Log'!$AY$18:$AY$1017),0)","v":0},{"$f":"IFERROR($E96*SUMIF('Daily Log'!$BA$18:$BA$1017,$B96,'Daily Log'!$BB$18:$BB$1017),0)","v":0},{"$f":"IFERROR($E96*SUMIF('Daily Log'!$BD$18:$BD$1017,$B96,'Daily Log'!$BE$18:$BE$1017),0)","v":0},{"$f":"IFERROR($E96*SUMIF('Daily Log'!$BG$18:$BG$1017,$B96,'Daily Log'!$BH$18:$BH$1017),0)","v":0},{"$f":"IFERROR($E96*SUMIF('Daily Log'!$BJ$18:$BJ$1017,$B96,'Daily Log'!$BK$18:$BK$1017),0)","v":0},{"$f":"IFERROR($E96*SUMIF('Daily Log'!$BM$18:$BM$1017,$B96,'Daily Log'!$BN$18:$BN$1017),0)","v":0},{"$f":"IFERROR($E96*SUMIF('Daily Log'!$BP$18:$BP$1017,$B96,'Daily Log'!$BQ$18:$BQ$1017),0)","v":0},{"$f":"IFERROR($E96*SUMIF('Daily Log'!$BS$18:$BS$1017,$B96,'Daily Log'!$BT$18:$BT$1017),0)","v":0},{"$f":"IFERROR($E96*SUMIF('Daily Log'!$BV$18:$BV$1017,$B96,'Daily Log'!$BW$18:$BW$1017),0)","v":0},{"$f":"IFERROR($E96*SUMIF('Daily Log'!$BY$18:$BY$1017,$B96,'Daily Log'!$BZ$18:$BZ$1017),0)","v":0},{"$f":"IFERROR($E96*SUMIF('Daily Log'!$CB$18:$CB$1017,$B96,'Daily Log'!$CC$18:$CC$1017),0)","v":0},{"$f":"IFERROR($E96*SUMIF('Daily Log'!$CE$18:$CE$1017,$B96,'Daily Log'!$CF$18:$CF$1017),0)","v":0},{"$f":"IFERROR($E96*SUMIF('Daily Log'!$CH$18:$CH$1017,$B96,'Daily Log'!$CI$18:$CI$1017),0)","v":0},{"$f":"IFERROR($E96*SUMIF('Daily Log'!$CK$18:$CK$1017,$B96,'Daily Log'!$CL$18:$CL$1017),0)","v":0},{"$f":"IFERROR($E96*SUMIF('Daily Log'!$CN$18:$CN$1017,$B96,'Daily Log'!$CO$18:$CO$1017),0)","v":0}]
[null,"RS11 71211:BBQ CHK",null,null,1,1,{"$f":"IFERROR($E97*SUMIF('Daily Log'!$B$18:$B$1017,$B97,'Daily Log'!$C$18:$C$1017),0)","v":0},{"$f":"IFERROR($E97*SUMIF('Daily Log'!$E$18:$E$1017,$B97,'Daily Log'!$F$18:$F$1017),0)","v":0},{"$f":"IFERROR($E97*SUMIF('Daily Log'!$H$18:$H$1017,$B97,'Daily Log'!$I$18:$I$1017),0)","v":0},{"$f":"IFERROR($E97*SUMIF('Daily Log'!$K$18:$K$1017,$B97,'Daily Log'!$L$18:$L$1017),0)","v":0},{"$f":"IFERROR($E97*SUMIF('Daily Log'!$N$18:$N$1017,$B97,'Daily Log'!$O$18:$O$1017),0)","v":0},{"$f":"IFERROR($E97*SUMIF('Daily Log'!$Q$18:$Q$1017,$B97,'Daily Log'!$R$18:$R$1017),0)","v":0},{"$f":"IFERROR($E97*SUMIF('Daily Log'!$T$18:$T$1017,$B97,'Daily Log'!$U$18:$U$1017),0)","v":0},{"$f":"IFERROR($E97*SUMIF('Daily Log'!$W$18:$W$1017,$B97,'Daily Log'!$X$18:$X$1017),0)","v":0},{"$f":"IFERROR($E97*SUMIF('Daily Log'!$Z$18:$Z$1017,$B97,'Daily Log'!$AA$18:$AA$1017),0)","v":0},{"$f":"IFERROR($E97*SUMIF('Daily Log'!$AC$18:$AC$1017,$B97,'Daily Log'!$AD$18:$AD$1017),0)","v":0},{"$f":"IFERROR($E97*SUMIF('Daily Log'!$AF$18:$AF$1017,$B97,'Daily Log'!$AG$18:$AG$1017),0)","v":0},{"$f":"IFERROR($E97*SUMIF('Daily Log'!$AI$18:$AI$1017,$B97,'Daily Log'!$AJ$18:$AJ$1017),0)","v":0},{"$f":"IFERROR($E97*SUMIF('Daily Log'!$AL$18:$AL$1017,$B97,'Daily Log'!$AM$18:$AM$1017),0)","v":0},{"$f":"IFERROR($E97*SUMIF('Daily Log'!$AO$18:$AO$1017,$B97,'Daily Log'!$AP$18:$AP$1017),0)","v":0},{"$f":"IFERROR($E97*SUMIF('Daily Log'!$AR$18:$AR$1017,$B97,'Daily Log'!$AS$18:$AS$1017),0)","v":0},{"$f":"IFERROR($E97*SUMIF('Daily Log'!$AU$18:$AU$1017,$B97,'Daily Log'!$AV$18:$AV$1017),0)","v":0},{"$f":"IFERROR($E97*SUMIF('Daily Log'!$AX$18:$AX$1017,$B97,'Daily Log'!$AY$18:$AY$1017),0)","v":0},{"$f":"IFERROR($E97*SUMIF('Daily Log'!$BA$18:$BA$1017,$B97,'Daily Log'!$BB$18:$BB$1017),0)","v":0},{"$f":"IFERROR($E97*SUMIF('Daily Log'!$BD$18:$BD$1017,$B97,'Daily Log'!$BE$18:$BE$1017),0)","v":0},{"$f":"IFERROR($E97*SUMIF('Daily Log'!$BG$18:$BG$1017,$B97,'Daily Log'!$BH$18:$BH$1017),0)","v":0},{"$f":"IFERROR($E97*SUMIF('Daily Log'!$BJ$18:$BJ$1017,$B97,'Daily Log'!$BK$18:$BK$1017),0)","v":0},{"$f":"IFERROR($E97*SUMIF('Daily Log'!$BM$18:$BM$1017,$B97,'Daily Log'!$BN$18:$BN$1017),0)","v":0},{"$f":"IFERROR($E97*SUMIF('Daily Log'!$BP$18:$BP$1017,$B97,'Daily Log'!$BQ$18:$BQ$1017),0)","v":0},{"$f":"IFERROR($E97*SUMIF('Daily Log'!$BS$18:$BS$1017,$B97,'Daily Log'!$BT$18:$BT$1017),0)","v":0},{"$f":"IFERROR($E97*SUMIF('Daily Log'!$BV$18:$BV$1017,$B97,'Daily Log'!$BW$18:$BW$1017),0)","v":0},{"$f":"IFERROR($E97*SUMIF('Daily Log'!$BY$18:$BY$1017,$B97,'Daily Log'!$BZ$18:$BZ$1017),0)","v":0},{"$f":"IFERROR($E97*SUMIF('Daily Log'!$CB$18:$CB$1017,$B97,'Daily Log'!$CC$18:$CC$1017),0)","v":0},{"$f":"IFERROR($E97*SUMIF('Daily Log'!$CE$18:$CE$1017,$B97,'Daily Log'!$CF$18:$CF$1017),0)","v":0},{"$f":"IFERROR($E97*SUMIF('Daily Log'!$CH$18:$CH$1017,$B97,'Daily Log'!$CI$18:$CI$1017),0)","v":0},{"$f":"IFERROR($E97*SUMIF('Daily Log'!$CK$18:$CK$1017,$B97,'Daily Log'!$CL$18:$CL$1017),0)","v":1},{"$f":"IFERROR($E97*SUMIF('Daily Log'!$CN$18:$CN$1017,$B97,'Daily Log'!$CO$18:$CO$1017),0)","v":0}]
[null,"RS32 71302:NUGGET",null,null,1,7,{"$f":"IFERROR($E98*SUMIF('Daily Log'!$B$18:$B$1017,$B98,'Daily Log'!$C$18:$C$1017),0)","v":0},{"$f":"IFERROR($E98*SUMIF('Daily Log'!$E$18:$E$1017,$B98,'Daily Log'!$F$18:$F$1017),0)","v":0},{"$f":"IFERROR($E98*SUMIF('Daily Log'!$H$18:$H$1017,$B98,'Daily Log'!$I$18:$I$1017),0)","v":0},{"$f":"IFERROR($E98*SUMIF('Daily Log'!$K$18:$K$1017,$B98,'Daily Log'!$L$18:$L$1017),0)","v":0},{"$f":"IFERROR($E98*SUMIF('Daily Log'!$N$18:$N$1017,$B98,'Daily Log'!$O$18:$O$1017),0)","v":0},{"$f":"IFERROR($E98*SUMIF('Daily Log'!$Q$18:$Q$1017,$B98,'Daily Log'!$R$18:$R$1017),0)","v":0},{"$f":"IFERROR($E98*SUMIF('Daily Log'!$T$18:$T$1017,$B98,'Daily Log'!$U$18:$U$1017),0)","v":0},{"$f":"IFERROR($E98*SUMIF('Daily Log'!$W$18:$W$1017,$B98,'Daily Log'!$X$18:$X$1017),0)","v":0},{"$f":"IFERROR($E98*SUMIF('Daily Log'!$Z$18:$Z$1017,$B98,'Daily Log'!$AA$18:$AA$1017),0)","v":0},{"$f":"IFERROR($E98*SUMIF('Daily Log'!$AC$18:$AC$1017,$B98,'Daily Log'!$AD$18:$AD$1017),0)","v":0},{"$f":"IFERROR($E98*SUMIF('Daily Log'!$AF$18:$AF$1017,$B98,'Daily Log'!$AG$18:$AG$1017),0)","v":0},{"$f":"IFERROR($E98*SUMIF('Daily Log'!$AI$18:$AI$1017,$B98,'Daily Log'!$AJ$18:$AJ$1017),0)","v":0},{"$f":"IFERROR($E98*SUMIF('Daily Log'!$AL$18:$AL$1017,$B98,'Daily Log'!$AM$18:$AM$1017),0)","v":0},{"$f":"IFERROR($E98*SUMIF('Daily Log'!$AO$18:$AO$1017,$B98,'Daily Log'!$AP$18:$AP$1017),0)","v":0},{"$f":"IFERROR($E98*SUMIF('Daily Log'!$AR$18:$AR$1017,$B98,'Daily Log'!$AS$18:$AS$1017),0)","v":0},{"$f":"IFERROR($E98*SUMIF('Daily Log'!$AU$18:$AU$1017,$B98,'Daily Log'!$AV$18:$AV$1017),0)","v":0},{"$f":"IFERROR($E98*SUMIF('Daily Log'!$AX$18:$AX$1017,$B98,'Daily Log'!$AY$18:$AY$1017),0)","v":0},{"$f":"IFERROR($E98*SUMIF('Daily Log'!$BA$18:$BA$1017,$B98,'Daily Log'!$BB$18:$BB$1017),0)","v":0},{"$f":"IFERROR($E98*SUMIF('Daily Log'!$BD$18:$BD$1017,$B98,'Daily Log'!$BE$18:$BE$1017),0)","v":0},{"$f":"IFERROR($E98*SUMIF('Daily Log'!$BG$18:$BG$1017,$B98,'Daily Log'!$BH$18:$BH$1017),0)","v":0},{"$f":"IFERROR($E98*SUMIF('Daily Log'!$BJ$18:$BJ$1017,$B98,'Daily Log'!$BK$18:$BK$1017),0)","v":0},{"$f":"IFERROR($E98*SUMIF('Daily Log'!$BM$18:$BM$1017,$B98,'Daily Log'!$BN$18:$BN$1017),0)","v":0},{"$f":"IFERROR($E98*SUMIF('Daily Log'!$BP$18:$BP$1017,$B98,'Daily Log'!$BQ$18:$BQ$1017),0)","v":0},{"$f":"IFERROR($E98*SUMIF('Daily Log'!$BS$18:$BS$1017,$B98,'Daily Log'!$BT$18:$BT$1017),0)","v":0},{"$f":"IFERROR($E98*SUMIF('Daily Log'!$BV$18:$BV$1017,$B98,'Daily Log'!$BW$18:$BW$1017),0)","v":0},{"$f":"IFERROR($E98*SUMIF('Daily Log'!$BY$18:$BY$1017,$B98,'Daily Log'!$BZ$18:$BZ$1017),0)","v":0},{"$f":"IFERROR($E98*SUMIF('Daily Log'!$CB$18:$CB$1017,$B98,'Daily Log'!$CC$18:$CC$1017),0)","v":0},{"$f":"IFERROR($E98*SUMIF('Daily Log'!$CE$18:$CE$1017,$B98,'Daily Log'!$CF$18:$CF$1017),0)","v":0},{"$f":"IFERROR($E98*SUMIF('Daily Log'!$CH$18:$CH$1017,$B98,'Daily Log'!$CI$18:$CI$1017),0)","v":0},{"$f":"IFERROR($E98*SUMIF('Daily Log'!$CK$18:$CK$1017,$B98,'Daily Log'!$CL$18:$CL$1017),0)","v":7},{"$f":"IFERROR($E98*SUMIF('Daily Log'!$CN$18:$CN$1017,$B98,'Daily Log'!$CO$18:$CO$1017),0)","v":0}]
[null,"RS33 71303:CHK WING",null,null,1,3,{"$f":"IFERROR($E99*SUMIF('Daily Log'!$B$18:$B$1017,$B99,'Daily Log'!$C$18:$C$1017),0)","v":0},{"$f":"IFERROR($E99*SUMIF('Daily Log'!$E$18:$E$1017,$B99,'Daily Log'!$F$18:$F$1017),0)","v":0},{"$f":"IFERROR($E99*SUMIF('Daily Log'!$H$18:$H$1017,$B99,'Daily Log'!$I$18:$I$1017),0)","v":0},{"$f":"IFERROR($E99*SUMIF('Daily Log'!$K$18:$K$1017,$B99,'Daily Log'!$L$18:$L$1017),0)","v":0},{"$f":"IFERROR($E99*SUMIF('Daily Log'!$N$18:$N$1017,$B99,'Daily Log'!$O$18:$O$1017),0)","v":0},{"$f":"IFERROR($E99*SUMIF('Daily Log'!$Q$18:$Q$1017,$B99,'Daily Log'!$R$18:$R$1017),0)","v":0},{"$f":"IFERROR($E99*SUMIF('Daily Log'!$T$18:$T$1017,$B99,'Daily Log'!$U$18:$U$1017),0)","v":0},{"$f":"IFERROR($E99*SUMIF('Daily Log'!$W$18:$W$1017,$B99,'Daily Log'!$X$18:$X$1017),0)","v":0},{"$f":"IFERROR($E99*SUMIF('Daily Log'!$Z$18:$Z$1017,$B99,'Daily Log'!$AA$18:$AA$1017),0)","v":0},{"$f":"IFERROR($E99*SUMIF('Daily Log'!$AC$18:$AC$1017,$B99,'Daily Log'!$AD$18:$AD$1017),0)","v":0},{"$f":"IFERROR($E99*SUMIF('Daily Log'!$AF$18:$AF$1017,$B99,'Daily Log'!$AG$18:$AG$1017),0)","v":0},{"$f":"IFERROR($E99*SUMIF('Daily Log'!$AI$18:$AI$1017,$B99,'Daily Log'!$AJ$18:$AJ$1017),0)","v":0},{"$f":"IFERROR($E99*SUMIF('Daily Log'!$AL$18:$AL$1017,$B99,'Daily Log'!$AM$18:$AM$1017),0)","v":0},{"$f":"IFERROR($E99*SUMIF('Daily Log'!$AO$18:$AO$1017,$B99,'Daily Log'!$AP$18:$AP$1017),0)","v":0},{"$f":"IFERROR($E99*SUMIF('Daily Log'!$AR$18:$AR$1017,$B99,'Daily Log'!$AS$18:$AS$1017),0)","v":0},{"$f":"IFERROR($E99*SUMIF('Daily Log'!$AU$18:$AU$1017,$B99,'Daily Log'!$AV$18:$AV$1017),0)","v":0},{"$f":"IFERROR($E99*SUMIF('Daily Log'!$AX$18:$AX$1017,$B99,'Daily Log'!$AY$18:$AY$1017),0)","v":0},{"$f":"IFERROR($E99*SUMIF('Daily Log'!$BA$18:$BA$1017,$B99,'Daily Log'!$BB$18:$BB$1017),0)","v":0},{"$f":"IFERROR($E99*SUMIF('Daily Log'!$BD$18:$BD$1017,$B99,'Daily Log'!$BE$18:$BE$1017),0)","v":0},{"$f":"IFERROR($E99*SUMIF('Daily Log'!$BG$18:$BG$1017,$B99,'Daily Log'!$BH$18:$BH$1017),0)","v":0},{"$f":"IFERROR($E99*SUMIF('Daily Log'!$BJ$18:$BJ$1017,$B99,'Daily Log'!$BK$18:$BK$1017),0)","v":0},{"$f":"IFERROR($E99*SUMIF('Daily Log'!$BM$18:$BM$1017,$B99,'Daily Log'!$BN$18:$BN$1017),0)","v":0},{"$f":"IFERROR($E99*SUMIF('Daily Log'!$BP$18:$BP$1017,$B99,'Daily Log'!$BQ$18:$BQ$1017),0)","v":0},{"$f":"IFERROR($E99*SUMIF('Daily Log'!$BS$18:$BS$1017,$B99,'Daily Log'!$BT$18:$BT$1017),0)","v":0},{"$f":"IFERROR($E99*SUMIF('Daily Log'!$BV$18:$BV$1017,$B99,'Daily Log'!$BW$18:$BW$1017),0)","v":0},{"$f":"IFERROR($E99*SUMIF('Daily Log'!$BY$18:$BY$1017,$B99,'Daily Log'!$BZ$18:$BZ$1017),0)","v":0},{"$f":"IFERROR($E99*SUMIF('Daily Log'!$CB$18:$CB$1017,$B99,'Daily Log'!$CC$18:$CC$1017),0)","v":0},{"$f":"IFERROR($E99*SUMIF('Daily Log'!$CE$18:$CE$1017,$B99,'Daily Log'!$CF$18:$CF$1017),0)","v":0},{"$f":"IFERROR($E99*SUMIF('Daily Log'!$CH$18:$CH$1017,$B99,'Daily Log'!$CI$18:$CI$1017),0)","v":0},{"$f":"IFERROR($E99*SUMIF('Daily Log'!$CK$18:$CK$1017,$B99,'Daily Log'!$CL$18:$CL$1017),0)","v":3},{"$f":"IFERROR($E99*SUMIF('Daily Log'!$CN$18:$CN$1017,$B99,'Daily Log'!$CO$18:$CO$1017),0)","v":0}]
[null,"RS38 71308:MC RING",null,null,1,1,{"$f":"IFERROR($E100*SUMIF('Daily Log'!$B$18:$B$1017,$B100,'Daily Log'!$C$18:$C$1017),0)","v":0},{"$f":"IFERROR($E100*SUMIF('Daily Log'!$E$18:$E$1017,$B100,'Daily Log'!$F$18:$F$1017),0)","v":0},{"$f":"IFERROR($E100*SUMIF('Daily Log'!$H$18:$H$1017,$B100,'Daily Log'!$I$18:$I$1017),0)","v":0},{"$f":"IFERROR($E100*SUMIF('Daily Log'!$K$18:$K$1017,$B100,'Daily Log'!$L$18:$L$1017),0)","v":0},{"$f":"IFERROR($E100*SUMIF('Daily Log'!$N$18:$N$1017,$B100,'Daily Log'!$O$18:$O$1017),0)","v":0},{"$f":"IFERROR($E100*SUMIF('Daily Log'!$Q$18:$Q$1017,$B100,'Daily Log'!$R$18:$R$1017),0)","v":0},{"$f":"IFERROR($E100*SUMIF('Daily Log'!$T$18:$T$1017,$B100,'Daily Log'!$U$18:$U$1017),0)","v":0},{"$f":"IFERROR($E100*SUMIF('Daily Log'!$W$18:$W$1017,$B100,'Daily Log'!$X$18:$X$1017),0)","v":0},{"$f":"IFERROR($E100*SUMIF('Daily Log'!$Z$18:$Z$1017,$B100,'Daily Log'!$AA$18:$AA$1017),0)","v":0},{"$f":"IFERROR($E100*SUMIF('Daily Log'!$AC$18:$AC$1017,$B100,'Daily Log'!$AD$18:$AD$1017),0)","v":0},{"$f":"IFERROR($E100*SUMIF('Daily Log'!$AF$18:$AF$1017,$B100,'Daily Log'!$AG$18:$AG$1017),0)","v":0},{"$f":"IFERROR($E100*SUMIF('Daily Log'!$AI$18:$AI$1017,$B100,'Daily Log'!$AJ$18:$AJ$1017),0)","v":0},{"$f":"IFERROR($E100*SUMIF('Daily Log'!$AL$18:$AL$1017,$B100,'Daily Log'!$AM$18:$AM$1017),0)","v":0},{"$f":"IFERROR($E100*SUMIF('Daily Log'!$AO$18:$AO$1017,$B100,'Daily Log'!$AP$18:$AP$1017),0)","v":0},{"$f":"IFERROR($E100*SUMIF('Daily Log'!$AR$18:$AR$1017,$B100,'Daily Log'!$AS$18:$AS$1017),0)","v":0},{"$f":"IFERROR($E100*SUMIF('Daily Log'!$AU$18:$AU$1017,$B100,'Daily Log'!$AV$18:$AV$1017),0)","v":0},{"$f":"IFERROR($E100*SUMIF('Daily Log'!$AX$18:$AX$1017,$B100,'Daily Log'!$AY$18:$AY$1017),0)","v":0},{"$f":"IFERROR($E100*SUMIF('Daily Log'!$BA$18:$BA$1017,$B100,'Daily Log'!$BB$18:$BB$1017),0)","v":0},{"$f":"IFERROR($E100*SUMIF('Daily Log'!$BD$18:$BD$1017,$B100,'Daily Log'!$BE$18:$BE$1017),0)","v":0},{"$f":"IFERROR($E100*SUMIF('Daily Log'!$BG$18:$BG$1017,$B100,'Daily Log'!$BH$18:$BH$1017),0)","v":0},{"$f":"IFERROR($E100*SUMIF('Daily Log'!$BJ$18:$BJ$1017,$B100,'Daily Log'!$BK$18:$BK$1017),0)","v":0},{"$f":"IFERROR($E100*SUMIF('Daily Log'!$BM$18:$BM$1017,$B100,'Daily Log'!$BN$18:$BN$1017),0)","v":0},{"$f":"IFERROR($E100*SUMIF('Daily Log'!$BP$18:$BP$1017,$B100,'Daily Log'!$BQ$18:$BQ$1017),0)","v":0},{"$f":"IFERROR($E100*SUMIF('Daily Log'!$BS$18:$BS$1017,$B100,'Daily Log'!$BT$18:$BT$1017),0)","v":0},{"$f":"IFERROR($E100*SUMIF('Daily Log'!$BV$18:$BV$1017,$B100,'Daily Log'!$BW$18:$BW$1017),0)","v":0},{"$f":"IFERROR($E100*SUMIF('Daily Log'!$BY$18:$BY$1017,$B100,'Daily Log'!$BZ$18:$BZ$1017),0)","v":0},{"$f":"IFERROR($E100*SUMIF('Daily Log'!$CB$18:$CB$1017,$B100,'Daily Log'!$CC$18:$CC$1017),0)","v":0},{"$f":"IFERROR($E100*SUMIF('Daily Log'!$CE$18:$CE$1017,$B100,'Daily Log'!$CF$18:$CF$1017),0)","v":0},{"$f":"IFERROR($E100*SUMIF('Daily Log'!$CH$18:$CH$1017,$B100,'Daily Log'!$CI$18:$CI$1017),0)","v":0},{"$f":"IFERROR($E100*SUMIF('Daily Log'!$CK$18:$CK$1017,$B100,'Daily Log'!$CL$18:$CL$1017),0)","v":1},{"$f":"IFERROR($E100*SUMIF('Daily Log'!$CN$18:$CN$1017,$B100,'Daily Log'!$CO$18:$CO$1017),0)","v":0}]
[null,"RS39 71309:MC S.FRIES",null,null,1,2,{"$f":"IFERROR($E101*SUMIF('Daily Log'!$B$18:$B$1017,$B101,'Daily Log'!$C$18:$C$1017),0)","v":0},{"$f":"IFERROR($E101*SUMIF('Daily Log'!$E$18:$E$1017,$B101,'Daily Log'!$F$18:$F$1017),0)","v":0},{"$f":"IFERROR($E101*SUMIF('Daily Log'!$H$18:$H$1017,$B101,'Daily Log'!$I$18:$I$1017),0)","v":0},{"$f":"IFERROR($E101*SUMIF('Daily Log'!$K$18:$K$1017,$B101,'Daily Log'!$L$18:$L$1017),0)","v":0},{"$f":"IFERROR($E101*SUMIF('Daily Log'!$N$18:$N$1017,$B101,'Daily Log'!$O$18:$O$1017),0)","v":0},{"$f":"IFERROR($E101*SUMIF('Daily Log'!$Q$18:$Q$1017,$B101,'Daily Log'!$R$18:$R$1017),0)","v":0},{"$f":"IFERROR($E101*SUMIF('Daily Log'!$T$18:$T$1017,$B101,'Daily Log'!$U$18:$U$1017),0)","v":0},{"$f":"IFERROR($E101*SUMIF('Daily Log'!$W$18:$W$1017,$B101,'Daily Log'!$X$18:$X$1017),0)","v":0},{"$f":"IFERROR($E101*SUMIF('Daily Log'!$Z$18:$Z$1017,$B101,'Daily Log'!$AA$18:$AA$1017),0)","v":0},{"$f":"IFERROR($E101*SUMIF('Daily Log'!$AC$18:$AC$1017,$B101,'Daily Log'!$AD$18:$AD$1017),0)","v":0},{"$f":"IFERROR($E101*SUMIF('Daily Log'!$AF$18:$AF$1017,$B101,'Daily Log'!$AG$18:$AG$1017),0)","v":0},{"$f":"IFERROR($E101*SUMIF('Daily Log'!$AI$18:$AI$1017,$B101,'Daily Log'!$AJ$18:$AJ$1017),0)","v":0},{"$f":"IFERROR($E101*SUMIF('Daily Log'!$AL$18:$AL$1017,$B101,'Daily Log'!$AM$18:$AM$1017),0)","v":0},{"$f":"IFERROR($E101*SUMIF('Daily Log'!$AO$18:$AO$1017,$B101,'Daily Log'!$AP$18:$AP$1017),0)","v":0},{"$f":"IFERROR($E101*SUMIF('Daily Log'!$AR$18:$AR$1017,$B101,'Daily Log'!$AS$18:$AS$1017),0)","v":0},{"$f":"IFERROR($E101*SUMIF('Daily Log'!$AU$18:$AU$1017,$B101,'Daily Log'!$AV$18:$AV$1017),0)","v":0},{"$f":"IFERROR($E101*SUMIF('Daily Log'!$AX$18:$AX$1017,$B101,'Daily Log'!$AY$18:$AY$1017),0)","v":0},{"$f":"IFERROR($E101*SUMIF('Daily Log'!$BA$18:$BA$1017,$B101,'Daily Log'!$BB$18:$BB$1017),0)","v":0},{"$f":"IFERROR($E101*SUMIF('Daily Log'!$BD$18:$BD$1017,$B101,'Daily Log'!$BE$18:$BE$1017),0)","v":0},{"$f":"IFERROR($E101*SUMIF('Daily Log'!$BG$18:$BG$1017,$B101,'Daily Log'!$BH$18:$BH$1017),0)","v":0},{"$f":"IFERROR($E101*SUMIF('Daily Log'!$BJ$18:$BJ$1017,$B101,'Daily Log'!$BK$18:$BK$1017),0)","v":0},{"$f":"IFERROR($E101*SUMIF('Daily Log'!$BM$18:$BM$1017,$B101,'Daily Log'!$BN$18:$BN$1017),0)","v":0},{"$f":"IFERROR($E101*SUMIF('Daily Log'!$BP$18:$BP$1017,$B101,'Daily Log'!$BQ$18:$BQ$1017),0)","v":0},{"$f":"IFERROR($E101*SUMIF('Daily Log'!$BS$18:$BS$1017,$B101,'Daily Log'!$BT$18:$BT$1017),0)","v":0},{"$f":"IFERROR($E101*SUMIF('Daily Log'!$BV$18:$BV$1017,$B101,'Daily Log'!$BW$18:$BW$1017),0)","v":0},{"$f":"IFERROR($E101*SUMIF('Daily Log'!$BY$18:$BY$1017,$B101,'Daily Log'!$BZ$18:$BZ$1017),0)","v":0},{"$f":"IFERROR($E101*SUMIF('Daily Log'!$CB$18:$CB$1017,$B101,'Daily Log'!$CC$18:$CC$1017),0)","v":0},{"$f":"IFERROR($E101*SUMIF('Daily Log'!$CE$18:$CE$1017,$B101,'Daily Log'!$CF$18:$CF$1017),0)","v":0},{"$f":"IFERROR($E101*SUMIF('Daily Log'!$CH$18:$CH$1017,$B101,'Daily Log'!$CI$18:$CI$1017),0)","v":0},{"$f":"IFERROR($E101*SUMIF('Daily Log'!$CK$18:$CK$1017,$B101,'Daily Log'!$CL$18:$CL$1017),0)","v":2},{"$f":"IFERROR($E101*SUMIF('Daily Log'!$CN$18:$CN$1017,$B101,'Daily Log'!$CO$18:$CO$1017),0)","v":0}]
[null,"RS40 71310:MC HP SMIL",null,null,1,1,{"$f":"IFERROR($E102*SUMIF('Daily Log'!$B$18:$B$1017,$B102,'Daily Log'!$C$18:$C$1017),0)","v":0},{"$f":"IFERROR($E102*SUMIF('Daily Log'!$E$18:$E$1017,$B102,'Daily Log'!$F$18:$F$1017),0)","v":0},{"$f":"IFERROR($E102*SUMIF('Daily Log'!$H$18:$H$1017,$B102,'Daily Log'!$I$18:$I$1017),0)","v":0},{"$f":"IFERROR($E102*SUMIF('Daily Log'!$K$18:$K$1017,$B102,'Daily Log'!$L$18:$L$1017),0)","v":0},{"$f":"IFERROR($E102*SUMIF('Daily Log'!$N$18:$N$1017,$B102,'Daily Log'!$O$18:$O$1017),0)","v":0},{"$f":"IFERROR($E102*SUMIF('Daily Log'!$Q$18:$Q$1017,$B102,'Daily Log'!$R$18:$R$1017),0)","v":0},{"$f":"IFERROR($E102*SUMIF('Daily Log'!$T$18:$T$1017,$B102,'Daily Log'!$U$18:$U$1017),0)","v":0},{"$f":"IFERROR($E102*SUMIF('Daily Log'!$W$18:$W$1017,$B102,'Daily Log'!$X$18:$X$1017),0)","v":0},{"$f":"IFERROR($E102*SUMIF('Daily Log'!$Z$18:$Z$1017,$B102,'Daily Log'!$AA$18:$AA$1017),0)","v":0},{"$f":"IFERROR($E102*SUMIF('Daily Log'!$AC$18:$AC$1017,$B102,'Daily Log'!$AD$18:$AD$1017),0)","v":0},{"$f":"IFERROR($E102*SUMIF('Daily Log'!$AF$18:$AF$1017,$B102,'Daily Log'!$AG$18:$AG$1017),0)","v":0},{"$f":"IFERROR($E102*SUMIF('Daily Log'!$AI$18:$AI$1017,$B102,'Daily Log'!$AJ$18:$AJ$1017),0)","v":0},{"$f":"IFERROR($E102*SUMIF('Daily Log'!$AL$18:$AL$1017,$B102,'Daily Log'!$AM$18:$AM$1017),0)","v":0},{"$f":"IFERROR($E102*SUMIF('Daily Log'!$AO$18:$AO$1017,$B102,'Daily Log'!$AP$18:$AP$1017),0)","v":0},{"$f":"IFERROR($E102*SUMIF('Daily Log'!$AR$18:$AR$1017,$B102,'Daily Log'!$AS$18:$AS$1017),0)","v":0},{"$f":"IFERROR($E102*SUMIF('Daily Log'!$AU$18:$AU$1017,$B102,'Daily Log'!$AV$18:$AV$1017),0)","v":0},{"$f":"IFERROR($E102*SUMIF('Daily Log'!$AX$18:$AX$1017,$B102,'Daily Log'!$AY$18:$AY$1017),0)","v":0},{"$f":"IFERROR($E102*SUMIF('Daily Log'!$BA$18:$BA$1017,$B102,'Daily Log'!$BB$18:$BB$1017),0)","v":0},{"$f":"IFERROR($E102*SUMIF('Daily Log'!$BD$18:$BD$1017,$B102,'Daily Log'!$BE$18:$BE$1017),0)","v":0},{"$f":"IFERROR($E102*SUMIF('Daily Log'!$BG$18:$BG$1017,$B102,'Daily Log'!$BH$18:$BH$1017),0)","v":0},{"$f":"IFERROR($E102*SUMIF('Daily Log'!$BJ$18:$BJ$1017,$B102,'Daily Log'!$BK$18:$BK$1017),0)","v":0},{"$f":"IFERROR($E102*SUMIF('Daily Log'!$BM$18:$BM$1017,$B102,'Daily Log'!$BN$18:$BN$1017),0)","v":0},{"$f":"IFERROR($E102*SUMIF('Daily Log'!$BP$18:$BP$1017,$B102,'Daily Log'!$BQ$18:$BQ$1017),0)","v":0},{"$f":"IFERROR($E102*SUMIF('Daily Log'!$BS$18:$BS$1017,$B102,'Daily Log'!$BT$18:$BT$1017),0)","v":0},{"$f":"IFERROR($E102*SUMIF('Daily Log'!$BV$18:$BV$1017,$B102,'Daily Log'!$BW$18:$BW$1017),0)","v":0},{"$f":"IFERROR($E102*SUMIF('Daily Log'!$BY$18:$BY$1017,$B102,'Daily Log'!$BZ$18:$BZ$1017),0)","v":0},{"$f":"IFERROR($E102*SUMIF('Daily Log'!$CB$18:$CB$1017,$B102,'Daily Log'!$CC$18:$CC$1017),0)","v":0},{"$f":"IFERROR($E102*SUMIF('Daily Log'!$CE$18:$CE$1017,$B102,'Daily Log'!$CF$18:$CF$1017),0)","v":0},{"$f":"IFERROR($E102*SUMIF('Daily Log'!$CH$18:$CH$1017,$B102,'Daily Log'!$CI$18:$CI$1017),0)","v":0},{"$f":"IFERROR($E102*SUMIF('Daily Log'!$CK$18:$CK$1017,$B102,'Daily Log'!$CL$18:$CL$1017),0)","v":1},{"$f":"IFERROR($E102*SUMIF('Daily Log'!$CN$18:$CN$1017,$B102,'Daily Log'!$CO$18:$CO$1017),0)","v":0}]
[null,"RS41 71311:MC HSH BRW",null,null,1,1,{"$f":"IFERROR($E103*SUMIF('Daily Log'!$B$18:$B$1017,$B103,'Daily Log'!$C$18:$C$1017),0)","v":0},{"$f":"IFERROR($E103*SUMIF('Daily Log'!$E$18:$E$1017,$B103,'Daily Log'!$F$18:$F$1017),0)","v":0},{"$f":"IFERROR($E103*SUMIF('Daily Log'!$H$18:$H$1017,$B103,'Daily Log'!$I$18:$I$1017),0)","v":0},{"$f":"IFERROR($E103*SUMIF('Daily Log'!$K$18:$K$1017,$B103,'Daily Log'!$L$18:$L$1017),0)","v":0},{"$f":"IFERROR($E103*SUMIF('Daily Log'!$N$18:$N$1017,$B103,'Daily Log'!$O$18:$O$1017),0)","v":0},{"$f":"IFERROR($E103*SUMIF('Daily Log'!$Q$18:$Q$1017,$B103,'Daily Log'!$R$18:$R$1017),0)","v":0},{"$f":"IFERROR($E103*SUMIF('Daily Log'!$T$18:$T$1017,$B103,'Daily Log'!$U$18:$U$1017),0)","v":0},{"$f":"IFERROR($E103*SUMIF('Daily Log'!$W$18:$W$1017,$B103,'Daily Log'!$X$18:$X$1017),0)","v":0},{"$f":"IFERROR($E103*SUMIF('Daily Log'!$Z$18:$Z$1017,$B103,'Daily Log'!$AA$18:$AA$1017),0)","v":0},{"$f":"IFERROR($E103*SUMIF('Daily Log'!$AC$18:$AC$1017,$B103,'Daily Log'!$AD$18:$AD$1017),0)","v":0},{"$f":"IFERROR($E103*SUMIF('Daily Log'!$AF$18:$AF$1017,$B103,'Daily Log'!$AG$18:$AG$1017),0)","v":0},{"$f":"IFERROR($E103*SUMIF('Daily Log'!$AI$18:$AI$1017,$B103,'Daily Log'!$AJ$18:$AJ$1017),0)","v":0},{"$f":"IFERROR($E103*SUMIF('Daily Log'!$AL$18:$AL$1017,$B103,'Daily Log'!$AM$18:$AM$1017),0)","v":0},{"$f":"IFERROR($E103*SUMIF('Daily Log'!$AO$18:$AO$1017,$B103,'Daily Log'!$AP$18:$AP$1017),0)","v":0},{"$f":"IFERROR($E103*SUMIF('Daily Log'!$AR$18:$AR$1017,$B103,'Daily Log'!$AS$18:$AS$1017),0)","v":0},{"$f":"IFERROR($E103*SUMIF('Daily Log'!$AU$18:$AU$1017,$B103,'Daily Log'!$AV$18:$AV$1017),0)","v":0},{"$f":"IFERROR($E103*SUMIF('Daily Log'!$AX$18:$AX$1017,$B103,'Daily Log'!$AY$18:$AY$1017),0)","v":0},{"$f":"IFERROR($E103*SUMIF('Daily Log'!$BA$18:$BA$1017,$B103,'Daily Log'!$BB$18:$BB$1017),0)","v":0},{"$f":"IFERROR($E103*SUMIF('Daily Log'!$BD$18:$BD$1017,$B103,'Daily Log'!$BE$18:$BE$1017),0)","v":0},{"$f":"IFERROR($E103*SUMIF('Daily Log'!$BG$18:$BG$1017,$B103,'Daily Log'!$BH$18:$BH$1017),0)","v":0},{"$f":"IFERROR($E103*SUMIF('Daily Log'!$BJ$18:$BJ$1017,$B103,'Daily Log'!$BK$18:$BK$1017),0)","v":0},{"$f":"IFERROR($E103*SUMIF('Daily Log'!$BM$18:$BM$1017,$B103,'Daily Log'!$BN$18:$BN$1017),0)","v":0},{"$f":"IFERROR($E103*SUMIF('Daily Log'!$BP$18:$BP$1017,$B103,'Daily Log'!$BQ$18:$BQ$1017),0)","v":0},{"$f":"IFERROR($E103*SUMIF('Daily Log'!$BS$18:$BS$1017,$B103,'Daily Log'!$BT$18:$BT$1017),0)","v":0},{"$f":"IFERROR($E103*SUMIF('Daily Log'!$BV$18:$BV$1017,$B103,'Daily Log'!$BW$18:$BW$1017),0)","v":0},{"$f":"IFERROR($E103*SUMIF('Daily Log'!$BY$18:$BY$1017,$B103,'Daily Log'!$BZ$18:$BZ$1017),0)","v":0},{"$f":"IFERROR($E103*SUMIF('Daily Log'!$CB$18:$CB$1017,$B103,'Daily Log'!$CC$18:$CC$1017),0)","v":0},{"$f":"IFERROR($E103*SUMIF('Daily Log'!$CE$18:$CE$1017,$B103,'Daily Log'!$CF$18:$CF$1017),0)","v":0},{"$f":"IFERROR($E103*SUMIF('Daily Log'!$CH$18:$CH$1017,$B103,'Daily Log'!$CI$18:$CI$1017),0)","v":0},{"$f":"IFERROR($E103*SUMIF('Daily Log'!$CK$18:$CK$1017,$B103,'Daily Log'!$CL$18:$CL$1017),0)","v":1},{"$f":"IFERROR($E103*SUMIF('Daily Log'!$CN$18:$CN$1017,$B103,'Daily Log'!$CO$18:$CO$1017),0)","v":0}]
[null,"AS01 1401:SET 990",null,null,1,145,{"$f":"IFERROR($E104*SUMIF('Daily Log'!$B$18:$B$1017,$B104,'Daily Log'!$C$18:$C$1017),0)","v":0},{"$f":"IFERROR($E104*SUMIF('Daily Log'!$E$18:$E$1017,$B104,'Daily Log'!$F$18:$F$1017),0)","v":0},{"$f":"IFERROR($E104*SUMIF('Daily Log'!$H$18:$H$1017,$B104,'Daily Log'!$I$18:$I$1017),0)","v":0},{"$f":"IFERROR($E104*SUMIF('Daily Log'!$K$18:$K$1017,$B104,'Daily Log'!$L$18:$L$1017),0)","v":0},{"$f":"IFERROR($E104*SUMIF('Daily Log'!$N$18:$N$1017,$B104,'Daily Log'!$O$18:$O$1017),0)","v":0},{"$f":"IFERROR($E104*SUMIF('Daily Log'!$Q$18:$Q$1017,$B104,'Daily Log'!$R$18:$R$1017),0)","v":0},{"$f":"IFERROR($E104*SUMIF('Daily Log'!$T$18:$T$1017,$B104,'Daily Log'!$U$18:$U$1017),0)","v":0},{"$f":"IFERROR($E104*SUMIF('Daily Log'!$W$18:$W$1017,$B104,'Daily Log'!$X$18:$X$1017),0)","v":0},{"$f":"IFERROR($E104*SUMIF('Daily Log'!$Z$18:$Z$1017,$B104,'Daily Log'!$AA$18:$AA$1017),0)","v":0},{"$f":"IFERROR($E104*SUMIF('Daily Log'!$AC$18:$AC$1017,$B104,'Daily Log'!$AD$18:$AD$1017),0)","v":0},{"$f":"IFERROR($E104*SUMIF('Daily Log'!$AF$18:$AF$1017,$B104,'Daily Log'!$AG$18:$AG$1017),0)","v":0},{"$f":"IFERROR($E104*SUMIF('Daily Log'!$AI$18:$AI$1017,$B104,'Daily Log'!$AJ$18:$AJ$1017),0)","v":0},{"$f":"IFERROR($E104*SUMIF('Daily Log'!$AL$18:$AL$1017,$B104,'Daily Log'!$AM$18:$AM$1017),0)","v":0},{"$f":"IFERROR($E104*SUMIF('Daily Log'!$AO$18:$AO$1017,$B104,'Daily Log'!$AP$18:$AP$1017),0)","v":0},{"$f":"IFERROR($E104*SUMIF('Daily Log'!$AR$18:$AR$1017,$B104,'Daily Log'!$AS$18:$AS$1017),0)","v":0},{"$f":"IFERROR($E104*SUMIF('Daily Log'!$AU$18:$AU$1017,$B104,'Daily Log'!$AV$18:$AV$1017),0)","v":0},{"$f":"IFERROR($E104*SUMIF('Daily Log'!$AX$18:$AX$1017,$B104,'Daily Log'!$AY$18:$AY$1017),0)","v":0},{"$f":"IFERROR($E104*SUMIF('Daily Log'!$BA$18:$BA$1017,$B104,'Daily Log'!$BB$18:$BB$1017),0)","v":0},{"$f":"IFERROR($E104*SUMIF('Daily Log'!$BD$18:$BD$1017,$B104,'Daily Log'!$BE$18:$BE$1017),0)","v":0},{"$f":"IFERROR($E104*SUMIF('Daily Log'!$BG$18:$BG$1017,$B104,'Daily Log'!$BH$18:$BH$1017),0)","v":0},{"$f":"IFERROR($E104*SUMIF('Daily Log'!$BJ$18:$BJ$1017,$B104,'Daily Log'!$BK$18:$BK$1017),0)","v":0},{"$f":"IFERROR($E104*SUMIF('Daily Log'!$BM$18:$BM$1017,$B104,'Daily Log'!$BN$18:$BN$1017),0)","v":0},{"$f":"IFERROR($E104*SUMIF('Daily Log'!$BP$18:$BP$1017,$B104,'Daily Log'!$BQ$18:$BQ$1017),0)","v":0},{"$f":"IFERROR($E104*SUMIF('Daily Log'!$BS$18:$BS$1017,$B104,'Daily Log'!$BT$18:$BT$1017),0)","v":0},{"$f":"IFERROR($E104*SUMIF('Daily Log'!$BV$18:$BV$1017,$B104,'Daily Log'!$BW$18:$BW$1017),0)","v":0},{"$f":"IFERROR($E104*SUMIF('Daily Log'!$BY$18:$BY$1017,$B104,'Daily Log'!$BZ$18:$BZ$1017),0)","v":0},{"$f":"IFERROR($E104*SUMIF('Daily Log'!$CB$18:$CB$1017,$B104,'Daily Log'!$CC$18:$CC$1017),0)","v":0},{"$f":"IFERROR($E104*SUMIF('Daily Log'!$CE$18:$CE$1017,$B104,'Daily Log'!$CF$18:$CF$1017),0)","v":0},{"$f":"IFERROR($E104*SUMIF('Daily Log'!$CH$18:$CH$1017,$B104,'Daily Log'!$CI$18:$CI$1017),0)","v":0},{"$f":"IFERROR($E104*SUMIF('Daily Log'!$CK$18:$CK$1017,$B104,'Daily Log'!$CL$18:$CL$1017),0)","v":145},{"$f":"IFERROR($E104*SUMIF('Daily Log'!$CN$18:$CN$1017,$B104,'Daily Log'!$CO$18:$CO$1017),0)","v":0}]
[null,"AS02 1402:SET 1390",null,null,1,58,{"$f":"IFERROR($E105*SUMIF('Daily Log'!$B$18:$B$1017,$B105,'Daily Log'!$C$18:$C$1017),0)","v":0},{"$f":"IFERROR($E105*SUMIF('Daily Log'!$E$18:$E$1017,$B105,'Daily Log'!$F$18:$F$1017),0)","v":0},{"$f":"IFERROR($E105*SUMIF('Daily Log'!$H$18:$H$1017,$B105,'Daily Log'!$I$18:$I$1017),0)","v":0},{"$f":"IFERROR($E105*SUMIF('Daily Log'!$K$18:$K$1017,$B105,'Daily Log'!$L$18:$L$1017),0)","v":0},{"$f":"IFERROR($E105*SUMIF('Daily Log'!$N$18:$N$1017,$B105,'Daily Log'!$O$18:$O$1017),0)","v":0},{"$f":"IFERROR($E105*SUMIF('Daily Log'!$Q$18:$Q$1017,$B105,'Daily Log'!$R$18:$R$1017),0)","v":0},{"$f":"IFERROR($E105*SUMIF('Daily Log'!$T$18:$T$1017,$B105,'Daily Log'!$U$18:$U$1017),0)","v":0},{"$f":"IFERROR($E105*SUMIF('Daily Log'!$W$18:$W$1017,$B105,'Daily Log'!$X$18:$X$1017),0)","v":0},{"$f":"IFERROR($E105*SUMIF('Daily Log'!$Z$18:$Z$1017,$B105,'Daily Log'!$AA$18:$AA$1017),0)","v":0},{"$f":"IFERROR($E105*SUMIF('Daily Log'!$AC$18:$AC$1017,$B105,'Daily Log'!$AD$18:$AD$1017),0)","v":0},{"$f":"IFERROR($E105*SUMIF('Daily Log'!$AF$18:$AF$1017,$B105,'Daily Log'!$AG$18:$AG$1017),0)","v":0},{"$f":"IFERROR($E105*SUMIF('Daily Log'!$AI$18:$AI$1017,$B105,'Daily Log'!$AJ$18:$AJ$1017),0)","v":0},{"$f":"IFERROR($E105*SUMIF('Daily Log'!$AL$18:$AL$1017,$B105,'Daily Log'!$AM$18:$AM$1017),0)","v":0},{"$f":"IFERROR($E105*SUMIF('Daily Log'!$AO$18:$AO$1017,$B105,'Daily Log'!$AP$18:$AP$1017),0)","v":0},{"$f":"IFERROR($E105*SUMIF('Daily Log'!$AR$18:$AR$1017,$B105,'Daily Log'!$AS$18:$AS$1017),0)","v":0},{"$f":"IFERROR($E105*SUMIF('Daily Log'!$AU$18:$AU$1017,$B105,'Daily Log'!$AV$18:$AV$1017),0)","v":0},{"$f":"IFERROR($E105*SUMIF('Daily Log'!$AX$18:$AX$1017,$B105,'Daily Log'!$AY$18:$AY$1017),0)","v":0},{"$f":"IFERROR($E105*SUMIF('Daily Log'!$BA$18:$BA$1017,$B105,'Daily Log'!$BB$18:$BB$1017),0)","v":0},{"$f":"IFERROR($E105*SUMIF('Daily Log'!$BD$18:$BD$1017,$B105,'Daily Log'!$BE$18:$BE$1017),0)","v":0},{"$f":"IFERROR($E105*SUMIF('Daily Log'!$BG$18:$BG$1017,$B105,'Daily Log'!$BH$18:$BH$1017),0)","v":0},{"$f":"IFERROR($E105*SUMIF('Daily Log'!$BJ$18:$BJ$1017,$B105,'Daily Log'!$BK$18:$BK$1017),0)","v":0},{"$f":"IFERROR($E105*SUMIF('Daily Log'!$BM$18:$BM$1017,$B105,'Daily Log'!$BN$18:$BN$1017),0)","v":0},{"$f":"IFERROR($E105*SUMIF('Daily Log'!$BP$18:$BP$1017,$B105,'Daily Log'!$BQ$18:$BQ$1017),0)","v":0},{"$f":"IFERROR($E105*SUMIF('Daily Log'!$BS$18:$BS$1017,$B105,'Daily Log'!$BT$18:$BT$1017),0)","v":0},{"$f":"IFERROR($E105*SUMIF('Daily Log'!$BV$18:$BV$1017,$B105,'Daily Log'!$BW$18:$BW$1017),0)","v":0},{"$f":"IFERROR($E105*SUMIF('Daily Log'!$BY$18:$BY$1017,$B105,'Daily Log'!$BZ$18:$BZ$1017),0)","v":0},{"$f":"IFERROR($E105*SUMIF('Daily Log'!$CB$18:$CB$1017,$B105,'Daily Log'!$CC$18:$CC$1017),0)","v":0},{"$f":"IFERROR($E105*SUMIF('Daily Log'!$CE$18:$CE$1017,$B105,'Daily Log'!$CF$18:$CF$1017),0)","v":0},{"$f":"IFERROR($E105*SUMIF('Daily Log'!$CH$18:$CH$1017,$B105,'Daily Log'!$CI$18:$CI$1017),0)","v":0},{"$f":"IFERROR($E105*SUMIF('Daily Log'!$CK$18:$CK$1017,$B105,'Daily Log'!$CL$18:$CL$1017),0)","v":58},{"$f":"IFERROR($E105*SUMIF('Daily Log'!$CN$18:$CN$1017,$B105,'Daily Log'!$CO$18:$CO$1017),0)","v":0}]
[null,"AP01 1411:MC ALACARTE",null,null,1,11,{"$f":"IFERROR($E106*SUMIF('Daily Log'!$B$18:$B$1017,$B106,'Daily Log'!$C$18:$C$1017),0)","v":0},{"$f":"IFERROR($E106*SUMIF('Daily Log'!$E$18:$E$1017,$B106,'Daily Log'!$F$18:$F$1017),0)","v":0},{"$f":"IFERROR($E106*SUMIF('Daily Log'!$H$18:$H$1017,$B106,'Daily Log'!$I$18:$I$1017),0)","v":0},{"$f":"IFERROR($E106*SUMIF('Daily Log'!$K$18:$K$1017,$B106,'Daily Log'!$L$18:$L$1017),0)","v":0},{"$f":"IFERROR($E106*SUMIF('Daily Log'!$N$18:$N$1017,$B106,'Daily Log'!$O$18:$O$1017),0)","v":0},{"$f":"IFERROR($E106*SUMIF('Daily Log'!$Q$18:$Q$1017,$B106,'Daily Log'!$R$18:$R$1017),0)","v":0},{"$f":"IFERROR($E106*SUMIF('Daily Log'!$T$18:$T$1017,$B106,'Daily Log'!$U$18:$U$1017),0)","v":0},{"$f":"IFERROR($E106*SUMIF('Daily Log'!$W$18:$W$1017,$B106,'Daily Log'!$X$18:$X$1017),0)","v":0},{"$f":"IFERROR($E106*SUMIF('Daily Log'!$Z$18:$Z$1017,$B106,'Daily Log'!$AA$18:$AA$1017),0)","v":0},{"$f":"IFERROR($E106*SUMIF('Daily Log'!$AC$18:$AC$1017,$B106,'Daily Log'!$AD$18:$AD$1017),0)","v":0},{"$f":"IFERROR($E106*SUMIF('Daily Log'!$AF$18:$AF$1017,$B106,'Daily Log'!$AG$18:$AG$1017),0)","v":0},{"$f":"IFERROR($E106*SUMIF('Daily Log'!$AI$18:$AI$1017,$B106,'Daily Log'!$AJ$18:$AJ$1017),0)","v":0},{"$f":"IFERROR($E106*SUMIF('Daily Log'!$AL$18:$AL$1017,$B106,'Daily Log'!$AM$18:$AM$1017),0)","v":0},{"$f":"IFERROR($E106*SUMIF('Daily Log'!$AO$18:$AO$1017,$B106,'Daily Log'!$AP$18:$AP$1017),0)","v":0},{"$f":"IFERROR($E106*SUMIF('Daily Log'!$AR$18:$AR$1017,$B106,'Daily Log'!$AS$18:$AS$1017),0)","v":0},{"$f":"IFERROR($E106*SUMIF('Daily Log'!$AU$18:$AU$1017,$B106,'Daily Log'!$AV$18:$AV$1017),0)","v":0},{"$f":"IFERROR($E106*SUMIF('Daily Log'!$AX$18:$AX$1017,$B106,'Daily Log'!$AY$18:$AY$1017),0)","v":0},{"$f":"IFERROR($E106*SUMIF('Daily Log'!$BA$18:$BA$1017,$B106,'Daily Log'!$BB$18:$BB$1017),0)","v":0},{"$f":"IFERROR($E106*SUMIF('Daily Log'!$BD$18:$BD$1017,$B106,'Daily Log'!$BE$18:$BE$1017),0)","v":0},{"$f":"IFERROR($E106*SUMIF('Daily Log'!$BG$18:$BG$1017,$B106,'Daily Log'!$BH$18:$BH$1017),0)","v":0},{"$f":"IFERROR($E106*SUMIF('Daily Log'!$BJ$18:$BJ$1017,$B106,'Daily Log'!$BK$18:$BK$1017),0)","v":0},{"$f":"IFERROR($E106*SUMIF('Daily Log'!$BM$18:$BM$1017,$B106,'Daily Log'!$BN$18:$BN$1017),0)","v":0},{"$f":"IFERROR($E106*SUMIF('Daily Log'!$BP$18:$BP$1017,$B106,'Daily Log'!$BQ$18:$BQ$1017),0)","v":0},{"$f":"IFERROR($E106*SUMIF('Daily Log'!$BS$18:$BS$1017,$B106,'Daily Log'!$BT$18:$BT$1017),0)","v":0},{"$f":"IFERROR($E106*SUMIF('Daily Log'!$BV$18:$BV$1017,$B106,'Daily Log'!$BW$18:$BW$1017),0)","v":0},{"$f":"IFERROR($E106*SUMIF('Daily Log'!$BY$18:$BY$1017,$B106,'Daily Log'!$BZ$18:$BZ$1017),0)","v":0},{"$f":"IFERROR($E106*SUMIF('Daily Log'!$CB$18:$CB$1017,$B106,'Daily Log'!$CC$18:$CC$1017),0)","v":0},{"$f":"IFERROR($E106*SUMIF('Daily Log'!$CE$18:$CE$1017,$B106,'Daily Log'!$CF$18:$CF$1017),0)","v":0},{"$f":"IFERROR($E106*SUMIF('Daily Log'!$CH$18:$CH$1017,$B106,'Daily Log'!$CI$18:$CI$1017),0)","v":0},{"$f":"IFERROR($E106*SUMIF('Daily Log'!$CK$18:$CK$1017,$B106,'Daily Log'!$CL$18:$CL$1017),0)","v":11},{"$f":"IFERROR($E106*SUMIF('Daily Log'!$CN$18:$CN$1017,$B106,'Daily Log'!$CO$18:$CO$1017),0)","v":0}]
[null,"AP02 1412:MC BEER",null,null,1,7,{"$f":"IFERROR($E107*SUMIF('Daily Log'!$B$18:$B$1017,$B107,'Daily Log'!$C$18:$C$1017),0)","v":0},{"$f":"IFERROR($E107*SUMIF('Daily Log'!$E$18:$E$1017,$B107,'Daily Log'!$F$18:$F$1017),0)","v":0},{"$f":"IFERROR($E107*SUMIF('Daily Log'!$H$18:$H$1017,$B107,'Daily Log'!$I$18:$I$1017),0)","v":0},{"$f":"IFERROR($E107*SUMIF('Daily Log'!$K$18:$K$1017,$B107,'Daily Log'!$L$18:$L$1017),0)","v":0},{"$f":"IFERROR($E107*SUMIF('Daily Log'!$N$18:$N$1017,$B107,'Daily Log'!$O$18:$O$1017),0)","v":0},{"$f":"IFERROR($E107*SUMIF('Daily Log'!$Q$18:$Q$1017,$B107,'Daily Log'!$R$18:$R$1017),0)","v":0},{"$f":"IFERROR($E107*SUMIF('Daily Log'!$T$18:$T$1017,$B107,'Daily Log'!$U$18:$U$1017),0)","v":0},{"$f":"IFERROR($E107*SUMIF('Daily Log'!$W$18:$W$1017,$B107,'Daily Log'!$X$18:$X$1017),0)","v":0},{"$f":"IFERROR($E107*SUMIF('Daily Log'!$Z$18:$Z$1017,$B107,'Daily Log'!$AA$18:$AA$1017),0)","v":0},{"$f":"IFERROR($E107*SUMIF('Daily Log'!$AC$18:$AC$1017,$B107,'Daily Log'!$AD$18:$AD$1017),0)","v":0},{"$f":"IFERROR($E107*SUMIF('Daily Log'!$AF$18:$AF$1017,$B107,'Daily Log'!$AG$18:$AG$1017),0)","v":0},{"$f":"IFERROR($E107*SUMIF('Daily Log'!$AI$18:$AI$1017,$B107,'Daily Log'!$AJ$18:$AJ$1017),0)","v":0},{"$f":"IFERROR($E107*SUMIF('Daily Log'!$AL$18:$AL$1017,$B107,'Daily Log'!$AM$18:$AM$1017),0)","v":0},{"$f":"IFERROR($E107*SUMIF('Daily Log'!$AO$18:$AO$1017,$B107,'Daily Log'!$AP$18:$AP$1017),0)","v":0},{"$f":"IFERROR($E107*SUMIF('Daily Log'!$AR$18:$AR$1017,$B107,'Daily Log'!$AS$18:$AS$1017),0)","v":0},{"$f":"IFERROR($E107*SUMIF('Daily Log'!$AU$18:$AU$1017,$B107,'Daily Log'!$AV$18:$AV$1017),0)","v":0},{"$f":"IFERROR($E107*SUMIF('Daily Log'!$AX$18:$AX$1017,$B107,'Daily Log'!$AY$18:$AY$1017),0)","v":0},{"$f":"IFERROR($E107*SUMIF('Daily Log'!$BA$18:$BA$1017,$B107,'Daily Log'!$BB$18:$BB$1017),0)","v":0},{"$f":"IFERROR($E107*SUMIF('Daily Log'!$BD$18:$BD$1017,$B107,'Daily Log'!$BE$18:$BE$1017),0)","v":0},{"$f":"IFERROR($E107*SUMIF('Daily Log'!$BG$18:$BG$1017,$B107,'Daily Log'!$BH$18:$BH$1017),0)","v":0},{"$f":"IFERROR($E107*SUMIF('Daily Log'!$BJ$18:$BJ$1017,$B107,'Daily Log'!$BK$18:$BK$1017),0)","v":0},{"$f":"IFERROR($E107*SUMIF('Daily Log'!$BM$18:$BM$1017,$B107,'Daily Log'!$BN$18:$BN$1017),0)","v":0},{"$f":"IFERROR($E107*SUMIF('Daily Log'!$BP$18:$BP$1017,$B107,'Daily Log'!$BQ$18:$BQ$1017),0)","v":0},{"$f":"IFERROR($E107*SUMIF('Daily Log'!$BS$18:$BS$1017,$B107,'Daily Log'!$BT$18:$BT$1017),0)","v":0},{"$f":"IFERROR($E107*SUMIF('Daily Log'!$BV$18:$BV$1017,$B107,'Daily Log'!$BW$18:$BW$1017),0)","v":0},{"$f":"IFERROR($E107*SUMIF('Daily Log'!$BY$18:$BY$1017,$B107,'Daily Log'!$BZ$18:$BZ$1017),0)","v":0},{"$f":"IFERROR($E107*SUMIF('Daily Log'!$CB$18:$CB$1017,$B107,'Daily Log'!$CC$18:$CC$1017),0)","v":0},{"$f":"IFERROR($E107*SUMIF('Daily Log'!$CE$18:$CE$1017,$B107,'Daily Log'!$CF$18:$CF$1017),0)","v":0},{"$f":"IFERROR($E107*SUMIF('Daily Log'!$CH$18:$CH$1017,$B107,'Daily Log'!$CI$18:$CI$1017),0)","v":0},{"$f":"IFERROR($E107*SUMIF('Daily Log'!$CK$18:$CK$1017,$B107,'Daily Log'!$CL$18:$CL$1017),0)","v":7},{"$f":"IFERROR($E107*SUMIF('Daily Log'!$CN$18:$CN$1017,$B107,'Daily Log'!$CO$18:$CO$1017),0)","v":0}]
[null,"RQ01 1601:ADD RICE",null,null,1,81,{"$f":"IFERROR($E108*SUMIF('Daily Log'!$B$18:$B$1017,$B108,'Daily Log'!$C$18:$C$1017),0)","v":0},{"$f":"IFERROR($E108*SUMIF('Daily Log'!$E$18:$E$1017,$B108,'Daily Log'!$F$18:$F$1017),0)","v":0},{"$f":"IFERROR($E108*SUMIF('Daily Log'!$H$18:$H$1017,$B108,'Daily Log'!$I$18:$I$1017),0)","v":0},{"$f":"IFERROR($E108*SUMIF('Daily Log'!$K$18:$K$1017,$B108,'Daily Log'!$L$18:$L$1017),0)","v":0},{"$f":"IFERROR($E108*SUMIF('Daily Log'!$N$18:$N$1017,$B108,'Daily Log'!$O$18:$O$1017),0)","v":0},{"$f":"IFERROR($E108*SUMIF('Daily Log'!$Q$18:$Q$1017,$B108,'Daily Log'!$R$18:$R$1017),0)","v":0},{"$f":"IFERROR($E108*SUMIF('Daily Log'!$T$18:$T$1017,$B108,'Daily Log'!$U$18:$U$1017),0)","v":0},{"$f":"IFERROR($E108*SUMIF('Daily Log'!$W$18:$W$1017,$B108,'Daily Log'!$X$18:$X$1017),0)","v":0},{"$f":"IFERROR($E108*SUMIF('Daily Log'!$Z$18:$Z$1017,$B108,'Daily Log'!$AA$18:$AA$1017),0)","v":0},{"$f":"IFERROR($E108*SUMIF('Daily Log'!$AC$18:$AC$1017,$B108,'Daily Log'!$AD$18:$AD$1017),0)","v":0},{"$f":"IFERROR($E108*SUMIF('Daily Log'!$AF$18:$AF$1017,$B108,'Daily Log'!$AG$18:$AG$1017),0)","v":0},{"$f":"IFERROR($E108*SUMIF('Daily Log'!$AI$18:$AI$1017,$B108,'Daily Log'!$AJ$18:$AJ$1017),0)","v":0},{"$f":"IFERROR($E108*SUMIF('Daily Log'!$AL$18:$AL$1017,$B108,'Daily Log'!$AM$18:$AM$1017),0)","v":0},{"$f":"IFERROR($E108*SUMIF('Daily Log'!$AO$18:$AO$1017,$B108,'Daily Log'!$AP$18:$AP$1017),0)","v":0},{"$f":"IFERROR($E108*SUMIF('Daily Log'!$AR$18:$AR$1017,$B108,'Daily Log'!$AS$18:$AS$1017),0)","v":0},{"$f":"IFERROR($E108*SUMIF('Daily Log'!$AU$18:$AU$1017,$B108,'Daily Log'!$AV$18:$AV$1017),0)","v":0},{"$f":"IFERROR($E108*SUMIF('Daily Log'!$AX$18:$AX$1017,$B108,'Daily Log'!$AY$18:$AY$1017),0)","v":0},{"$f":"IFERROR($E108*SUMIF('Daily Log'!$BA$18:$BA$1017,$B108,'Daily Log'!$BB$18:$BB$1017),0)","v":0},{"$f":"IFERROR($E108*SUMIF('Daily Log'!$BD$18:$BD$1017,$B108,'Daily Log'!$BE$18:$BE$1017),0)","v":0},{"$f":"IFERROR($E108*SUMIF('Daily Log'!$BG$18:$BG$1017,$B108,'Daily Log'!$BH$18:$BH$1017),0)","v":0},{"$f":"IFERROR($E108*SUMIF('Daily Log'!$BJ$18:$BJ$1017,$B108,'Daily Log'!$BK$18:$BK$1017),0)","v":0},{"$f":"IFERROR($E108*SUMIF('Daily Log'!$BM$18:$BM$1017,$B108,'Daily Log'!$BN$18:$BN$1017),0)","v":0},{"$f":"IFERROR($E108*SUMIF('Daily Log'!$BP$18:$BP$1017,$B108,'Daily Log'!$BQ$18:$BQ$1017),0)","v":0},{"$f":"IFERROR($E108*SUMIF('Daily Log'!$BS$18:$BS$1017,$B108,'Daily Log'!$BT$18:$BT$1017),0)","v":0},{"$f":"IFERROR($E108*SUMIF('Daily Log'!$BV$18:$BV$1017,$B108,'Daily Log'!$BW$18:$BW$1017),0)","v":0},{"$f":"IFERROR($E108*SUMIF('Daily Log'!$BY$18:$BY$1017,$B108,'Daily Log'!$BZ$18:$BZ$1017),0)","v":0},{"$f":"IFERROR($E108*SUMIF('Daily Log'!$CB$18:$CB$1017,$B108,'Daily Log'!$CC$18:$CC$1017),0)","v":0},{"$f":"IFERROR($E108*SUMIF('Daily Log'!$CE$18:$CE$1017,$B108,'Daily Log'!$CF$18:$CF$1017),0)","v":0},{"$f":"IFERROR($E108*SUMIF('Daily Log'!$CH$18:$CH$1017,$B108,'Daily Log'!$CI$18:$CI$1017),0)","v":0},{"$f":"IFERROR($E108*SUMIF('Daily Log'!$CK$18:$CK$1017,$B108,'Daily Log'!$CL$18:$CL$1017),0)","v":81},{"$f":"IFERROR($E108*SUMIF('Daily Log'!$CN$18:$CN$1017,$B108,'Daily Log'!$CO$18:$CO$1017),0)","v":0}]
[null,"RQ02 1602:ADD F.EGG",null,null,1,0,{"$f":"IFERROR($E109*SUMIF('Daily Log'!$B$18:$B$1017,$B109,'Daily Log'!$C$18:$C$1017),0)","v":0},{"$f":"IFERROR($E109*SUMIF('Daily Log'!$E$18:$E$1017,$B109,'Daily Log'!$F$18:$F$1017),0)","v":0},{"$f":"IFERROR($E109*SUMIF('Daily Log'!$H$18:$H$1017,$B109,'Daily Log'!$I$18:$I$1017),0)","v":0},{"$f":"IFERROR($E109*SUMIF('Daily Log'!$K$18:$K$1017,$B109,'Daily Log'!$L$18:$L$1017),0)","v":0},{"$f":"IFERROR($E109*SUMIF('Daily Log'!$N$18:$N$1017,$B109,'Daily Log'!$O$18:$O$1017),0)","v":0},{"$f":"IFERROR($E109*SUMIF('Daily Log'!$Q$18:$Q$1017,$B109,'Daily Log'!$R$18:$R$1017),0)","v":0},{"$f":"IFERROR($E109*SUMIF('Daily Log'!$T$18:$T$1017,$B109,'Daily Log'!$U$18:$U$1017),0)","v":0},{"$f":"IFERROR($E109*SUMIF('Daily Log'!$W$18:$W$1017,$B109,'Daily Log'!$X$18:$X$1017),0)","v":0},{"$f":"IFERROR($E109*SUMIF('Daily Log'!$Z$18:$Z$1017,$B109,'Daily Log'!$AA$18:$AA$1017),0)","v":0},{"$f":"IFERROR($E109*SUMIF('Daily Log'!$AC$18:$AC$1017,$B109,'Daily Log'!$AD$18:$AD$1017),0)","v":0},{"$f":"IFERROR($E109*SUMIF('Daily Log'!$AF$18:$AF$1017,$B109,'Daily Log'!$AG$18:$AG$1017),0)","v":0},{"$f":"IFERROR($E109*SUMIF('Daily Log'!$AI$18:$AI$1017,$B109,'Daily Log'!$AJ$18:$AJ$1017),0)","v":0},{"$f":"IFERROR($E109*SUMIF('Daily Log'!$AL$18:$AL$1017,$B109,'Daily Log'!$AM$18:$AM$1017),0)","v":0},{"$f":"IFERROR($E109*SUMIF('Daily Log'!$AO$18:$AO$1017,$B109,'Daily Log'!$AP$18:$AP$1017),0)","v":0},{"$f":"IFERROR($E109*SUMIF('Daily Log'!$AR$18:$AR$1017,$B109,'Daily Log'!$AS$18:$AS$1017),0)","v":0},{"$f":"IFERROR($E109*SUMIF('Daily Log'!$AU$18:$AU$1017,$B109,'Daily Log'!$AV$18:$AV$1017),0)","v":0},{"$f":"IFERROR($E109*SUMIF('Daily Log'!$AX$18:$AX$1017,$B109,'Daily Log'!$AY$18:$AY$1017),0)","v":0},{"$f":"IFERROR($E109*SUMIF('Daily Log'!$BA$18:$BA$1017,$B109,'Daily Log'!$BB$18:$BB$1017),0)","v":0},{"$f":"IFERROR($E109*SUMIF('Daily Log'!$BD$18:$BD$1017,$B109,'Daily Log'!$BE$18:$BE$1017),0)","v":0},{"$f":"IFERROR($E109*SUMIF('Daily Log'!$BG$18:$BG$1017,$B109,'Daily Log'!$BH$18:$BH$1017),0)","v":0},{"$f":"IFERROR($E109*SUMIF('Daily Log'!$BJ$18:$BJ$1017,$B109,'Daily Log'!$BK$18:$BK$1017),0)","v":0},{"$f":"IFERROR($E109*SUMIF('Daily Log'!$BM$18:$BM$1017,$B109,'Daily Log'!$BN$18:$BN$1017),0)","v":0},{"$f":"IFERROR($E109*SUMIF('Daily Log'!$BP$18:$BP$1017,$B109,'Daily Log'!$BQ$18:$BQ$1017),0)","v":0},{"$f":"IFERROR($E109*SUMIF('Daily Log'!$BS$18:$BS$1017,$B109,'Daily Log'!$BT$18:$BT$1017),0)","v":0},{"$f":"IFERROR($E109*SUMIF('Daily Log'!$BV$18:$BV$1017,$B109,'Daily Log'!$BW$18:$BW$1017),0)","v":0},{"$f":"IFERROR($E109*SUMIF('Daily Log'!$BY$18:$BY$1017,$B109,'Daily Log'!$BZ$18:$BZ$1017),0)","v":0},{"$f":"IFERROR($E109*SUMIF('Daily Log'!$CB$18:$CB$1017,$B109,'Daily Log'!$CC$18:$CC$1017),0)","v":0},{"$f":"IFERROR($E109*SUMIF('Daily Log'!$CE$18:$CE$1017,$B109,'Daily Log'!$CF$18:$CF$1017),0)","v":0},{"$f":"IFERROR($E109*SUMIF('Daily Log'!$CH$18:$CH$1017,$B109,'Daily Log'!$CI$18:$CI$1017),0)","v":0},{"$f":"IFERROR($E109*SUMIF('Daily Log'!$CK$18:$CK$1017,$B109,'Daily Log'!$CL$18:$CL$1017),0)","v":0},{"$f":"IFERROR($E109*SUMIF('Daily Log'!$CN$18:$CN$1017,$B109,'Daily Log'!$CO$18:$CO$1017),0)","v":0}]
[null,"RQ03 ADD SAUCE 1000",null,null,1,4,{"$f":"IFERROR($E110*SUMIF('Daily Log'!$B$18:$B$1017,$B110,'Daily Log'!$C$18:$C$1017),0)","v":0},{"$f":"IFERROR($E110*SUMIF('Daily Log'!$E$18:$E$1017,$B110,'Daily Log'!$F$18:$F$1017),0)","v":0},{"$f":"IFERROR($E110*SUMIF('Daily Log'!$H$18:$H$1017,$B110,'Daily Log'!$I$18:$I$1017),0)","v":0},{"$f":"IFERROR($E110*SUMIF('Daily Log'!$K$18:$K$1017,$B110,'Daily Log'!$L$18:$L$1017),0)","v":0},{"$f":"IFERROR($E110*SUMIF('Daily Log'!$N$18:$N$1017,$B110,'Daily Log'!$O$18:$O$1017),0)","v":0},{"$f":"IFERROR($E110*SUMIF('Daily Log'!$Q$18:$Q$1017,$B110,'Daily Log'!$R$18:$R$1017),0)","v":0},{"$f":"IFERROR($E110*SUMIF('Daily Log'!$T$18:$T$1017,$B110,'Daily Log'!$U$18:$U$1017),0)","v":0},{"$f":"IFERROR($E110*SUMIF('Daily Log'!$W$18:$W$1017,$B110,'Daily Log'!$X$18:$X$1017),0)","v":0},{"$f":"IFERROR($E110*SUMIF('Daily Log'!$Z$18:$Z$1017,$B110,'Daily Log'!$AA$18:$AA$1017),0)","v":0},{"$f":"IFERROR($E110*SUMIF('Daily Log'!$AC$18:$AC$1017,$B110,'Daily Log'!$AD$18:$AD$1017),0)","v":0},{"$f":"IFERROR($E110*SUMIF('Daily Log'!$AF$18:$AF$1017,$B110,'Daily Log'!$AG$18:$AG$1017),0)","v":0},{"$f":"IFERROR($E110*SUMIF('Daily Log'!$AI$18:$AI$1017,$B110,'Daily Log'!$AJ$18:$AJ$1017),0)","v":0},{"$f":"IFERROR($E110*SUMIF('Daily Log'!$AL$18:$AL$1017,$B110,'Daily Log'!$AM$18:$AM$1017),0)","v":0},{"$f":"IFERROR($E110*SUMIF('Daily Log'!$AO$18:$AO$1017,$B110,'Daily Log'!$AP$18:$AP$1017),0)","v":0},{"$f":"IFERROR($E110*SUMIF('Daily Log'!$AR$18:$AR$1017,$B110,'Daily Log'!$AS$18:$AS$1017),0)","v":0},{"$f":"IFERROR($E110*SUMIF('Daily Log'!$AU$18:$AU$1017,$B110,'Daily Log'!$AV$18:$AV$1017),0)","v":0},{"$f":"IFERROR($E110*SUMIF('Daily Log'!$AX$18:$AX$1017,$B110,'Daily Log'!$AY$18:$AY$1017),0)","v":0},{"$f":"IFERROR($E110*SUMIF('Daily Log'!$BA$18:$BA$1017,$B110,'Daily Log'!$BB$18:$BB$1017),0)","v":0},{"$f":"IFERROR($E110*SUMIF('Daily Log'!$BD$18:$BD$1017,$B110,'Daily Log'!$BE$18:$BE$1017),0)","v":0},{"$f":"IFERROR($E110*SUMIF('Daily Log'!$BG$18:$BG$1017,$B110,'Daily Log'!$BH$18:$BH$1017),0)","v":0},{"$f":"IFERROR($E110*SUMIF('Daily Log'!$BJ$18:$BJ$1017,$B110,'Daily Log'!$BK$18:$BK$1017),0)","v":0},{"$f":"IFERROR($E110*SUMIF('Daily Log'!$BM$18:$BM$1017,$B110,'Daily Log'!$BN$18:$BN$1017),0)","v":0},{"$f":"IFERROR($E110*SUMIF('Daily Log'!$BP$18:$BP$1017,$B110,'Daily Log'!$BQ$18:$BQ$1017),0)","v":0},{"$f":"IFERROR($E110*SUMIF('Daily Log'!$BS$18:$BS$1017,$B110,'Daily Log'!$BT$18:$BT$1017),0)","v":0},{"$f":"IFERROR($E110*SUMIF('Daily Log'!$BV$18:$BV$1017,$B110,'Daily Log'!$BW$18:$BW$1017),0)","v":0},{"$f":"IFERROR($E110*SUMIF('Daily Log'!$BY$18:$BY$1017,$B110,'Daily Log'!$BZ$18:$BZ$1017),0)","v":0},{"$f":"IFERROR($E110*SUMIF('Daily Log'!$CB$18:$CB$1017,$B110,'Daily Log'!$CC$18:$CC$1017),0)","v":0},{"$f":"IFERROR($E110*SUMIF('Daily Log'!$CE$18:$CE$1017,$B110,'Daily Log'!$CF$18:$CF$1017),0)","v":0},{"$f":"IFERROR($E110*SUMIF('Daily Log'!$CH$18:$CH$1017,$B110,'Daily Log'!$CI$18:$CI$1017),0)","v":0},{"$f":"IFERROR($E110*SUMIF('Daily Log'!$CK$18:$CK$1017,$B110,'Daily Log'!$CL$18:$CL$1017),0)","v":4},{"$f":"IFERROR($E110*SUMIF('Daily Log'!$CN$18:$CN$1017,$B110,'Daily Log'!$CO$18:$CO$1017),0)","v":0}]
[null,"RQ05 ADD SAUCE BP",null,null,1,0,{"$f":"IFERROR($E111*SUMIF('Daily Log'!$B$18:$B$1017,$B111,'Daily Log'!$C$18:$C$1017),0)","v":0},{"$f":"IFERROR($E111*SUMIF('Daily Log'!$E$18:$E$1017,$B111,'Daily Log'!$F$18:$F$1017),0)","v":0},{"$f":"IFERROR($E111*SUMIF('Daily Log'!$H$18:$H$1017,$B111,'Daily Log'!$I$18:$I$1017),0)","v":0},{"$f":"IFERROR($E111*SUMIF('Daily Log'!$K$18:$K$1017,$B111,'Daily Log'!$L$18:$L$1017),0)","v":0},{"$f":"IFERROR($E111*SUMIF('Daily Log'!$N$18:$N$1017,$B111,'Daily Log'!$O$18:$O$1017),0)","v":0},{"$f":"IFERROR($E111*SUMIF('Daily Log'!$Q$18:$Q$1017,$B111,'Daily Log'!$R$18:$R$1017),0)","v":0},{"$f":"IFERROR($E111*SUMIF('Daily Log'!$T$18:$T$1017,$B111,'Daily Log'!$U$18:$U$1017),0)","v":0},{"$f":"IFERROR($E111*SUMIF('Daily Log'!$W$18:$W$1017,$B111,'Daily Log'!$X$18:$X$1017),0)","v":0},{"$f":"IFERROR($E111*SUMIF('Daily Log'!$Z$18:$Z$1017,$B111,'Daily Log'!$AA$18:$AA$1017),0)","v":0},{"$f":"IFERROR($E111*SUMIF('Daily Log'!$AC$18:$AC$1017,$B111,'Daily Log'!$AD$18:$AD$1017),0)","v":0},{"$f":"IFERROR($E111*SUMIF('Daily Log'!$AF$18:$AF$1017,$B111,'Daily Log'!$AG$18:$AG$1017),0)","v":0},{"$f":"IFERROR($E111*SUMIF('Daily Log'!$AI$18:$AI$1017,$B111,'Daily Log'!$AJ$18:$AJ$1017),0)","v":0},{"$f":"IFERROR($E111*SUMIF('Daily Log'!$AL$18:$AL$1017,$B111,'Daily Log'!$AM$18:$AM$1017),0)","v":0},{"$f":"IFERROR($E111*SUMIF('Daily Log'!$AO$18:$AO$1017,$B111,'Daily Log'!$AP$18:$AP$1017),0)","v":0},{"$f":"IFERROR($E111*SUMIF('Daily Log'!$AR$18:$AR$1017,$B111,'Daily Log'!$AS$18:$AS$1017),0)","v":0},{"$f":"IFERROR($E111*SUMIF('Daily Log'!$AU$18:$AU$1017,$B111,'Daily Log'!$AV$18:$AV$1017),0)","v":0},{"$f":"IFERROR($E111*SUMIF('Daily Log'!$AX$18:$AX$1017,$B111,'Daily Log'!$AY$18:$AY$1017),0)","v":0},{"$f":"IFERROR($E111*SUMIF('Daily Log'!$BA$18:$BA$1017,$B111,'Daily Log'!$BB$18:$BB$1017),0)","v":0},{"$f":"IFERROR($E111*SUMIF('Daily Log'!$BD$18:$BD$1017,$B111,'Daily Log'!$BE$18:$BE$1017),0)","v":0},{"$f":"IFERROR($E111*SUMIF('Daily Log'!$BG$18:$BG$1017,$B111,'Daily Log'!$BH$18:$BH$1017),0)","v":0},{"$f":"IFERROR($E111*SUMIF('Daily Log'!$BJ$18:$BJ$1017,$B111,'Daily Log'!$BK$18:$BK$1017),0)","v":0},{"$f":"IFERROR($E111*SUMIF('Daily Log'!$BM$18:$BM$1017,$B111,'Daily Log'!$BN$18:$BN$1017),0)","v":0},{"$f":"IFERROR($E111*SUMIF('Daily Log'!$BP$18:$BP$1017,$B111,'Daily Log'!$BQ$18:$BQ$1017),0)","v":0},{"$f":"IFERROR($E111*SUMIF('Daily Log'!$BS$18:$BS$1017,$B111,'Daily Log'!$BT$18:$BT$1017),0)","v":0},{"$f":"IFERROR($E111*SUMIF('Daily Log'!$BV$18:$BV$1017,$B111,'Daily Log'!$BW$18:$BW$1017),0)","v":0},{"$f":"IFERROR($E111*SUMIF('Daily Log'!$BY$18:$BY$1017,$B111,'Daily Log'!$BZ$18:$BZ$1017),0)","v":0},{"$f":"IFERROR($E111*SUMIF('Daily Log'!$CB$18:$CB$1017,$B111,'Daily Log'!$CC$18:$CC$1017),0)","v":0},{"$f":"IFERROR($E111*SUMIF('Daily Log'!$CE$18:$CE$1017,$B111,'Daily Log'!$CF$18:$CF$1017),0)","v":0},{"$f":"IFERROR($E111*SUMIF('Daily Log'!$CH$18:$CH$1017,$B111,'Daily Log'!$CI$18:$CI$1017),0)","v":0},{"$f":"IFERROR($E111*SUMIF('Daily Log'!$CK$18:$CK$1017,$B111,'Daily Log'!$CL$18:$CL$1017),0)","v":0},{"$f":"IFERROR($E111*SUMIF('Daily Log'!$CN$18:$CN$1017,$B111,'Daily Log'!$CO$18:$CO$1017),0)","v":0}]
[null,"RQ06 ADD SAUCE BUTTER",null,null,1,7,{"$f":"IFERROR($E112*SUMIF('Daily Log'!$B$18:$B$1017,$B112,'Daily Log'!$C$18:$C$1017),0)","v":0},{"$f":"IFERROR($E112*SUMIF('Daily Log'!$E$18:$E$1017,$B112,'Daily Log'!$F$18:$F$1017),0)","v":0},{"$f":"IFERROR($E112*SUMIF('Daily Log'!$H$18:$H$1017,$B112,'Daily Log'!$I$18:$I$1017),0)","v":0},{"$f":"IFERROR($E112*SUMIF('Daily Log'!$K$18:$K$1017,$B112,'Daily Log'!$L$18:$L$1017),0)","v":0},{"$f":"IFERROR($E112*SUMIF('Daily Log'!$N$18:$N$1017,$B112,'Daily Log'!$O$18:$O$1017),0)","v":0},{"$f":"IFERROR($E112*SUMIF('Daily Log'!$Q$18:$Q$1017,$B112,'Daily Log'!$R$18:$R$1017),0)","v":0},{"$f":"IFERROR($E112*SUMIF('Daily Log'!$T$18:$T$1017,$B112,'Daily Log'!$U$18:$U$1017),0)","v":0},{"$f":"IFERROR($E112*SUMIF('Daily Log'!$W$18:$W$1017,$B112,'Daily Log'!$X$18:$X$1017),0)","v":0},{"$f":"IFERROR($E112*SUMIF('Daily Log'!$Z$18:$Z$1017,$B112,'Daily Log'!$AA$18:$AA$1017),0)","v":0},{"$f":"IFERROR($E112*SUMIF('Daily Log'!$AC$18:$AC$1017,$B112,'Daily Log'!$AD$18:$AD$1017),0)","v":0},{"$f":"IFERROR($E112*SUMIF('Daily Log'!$AF$18:$AF$1017,$B112,'Daily Log'!$AG$18:$AG$1017),0)","v":0},{"$f":"IFERROR($E112*SUMIF('Daily Log'!$AI$18:$AI$1017,$B112,'Daily Log'!$AJ$18:$AJ$1017),0)","v":0},{"$f":"IFERROR($E112*SUMIF('Daily Log'!$AL$18:$AL$1017,$B112,'Daily Log'!$AM$18:$AM$1017),0)","v":0},{"$f":"IFERROR($E112*SUMIF('Daily Log'!$AO$18:$AO$1017,$B112,'Daily Log'!$AP$18:$AP$1017),0)","v":0},{"$f":"IFERROR($E112*SUMIF('Daily Log'!$AR$18:$AR$1017,$B112,'Daily Log'!$AS$18:$AS$1017),0)","v":0},{"$f":"IFERROR($E112*SUMIF('Daily Log'!$AU$18:$AU$1017,$B112,'Daily Log'!$AV$18:$AV$1017),0)","v":0},{"$f":"IFERROR($E112*SUMIF('Daily Log'!$AX$18:$AX$1017,$B112,'Daily Log'!$AY$18:$AY$1017),0)","v":0},{"$f":"IFERROR($E112*SUMIF('Daily Log'!$BA$18:$BA$1017,$B112,'Daily Log'!$BB$18:$BB$1017),0)","v":0},{"$f":"IFERROR($E112*SUMIF('Daily Log'!$BD$18:$BD$1017,$B112,'Daily Log'!$BE$18:$BE$1017),0)","v":0},{"$f":"IFERROR($E112*SUMIF('Daily Log'!$BG$18:$BG$1017,$B112,'Daily Log'!$BH$18:$BH$1017),0)","v":0},{"$f":"IFERROR($E112*SUMIF('Daily Log'!$BJ$18:$BJ$1017,$B112,'Daily Log'!$BK$18:$BK$1017),0)","v":0},{"$f":"IFERROR($E112*SUMIF('Daily Log'!$BM$18:$BM$1017,$B112,'Daily Log'!$BN$18:$BN$1017),0)","v":0},{"$f":"IFERROR($E112*SUMIF('Daily Log'!$BP$18:$BP$1017,$B112,'Daily Log'!$BQ$18:$BQ$1017),0)","v":0},{"$f":"IFERROR($E112*SUMIF('Daily Log'!$BS$18:$BS$1017,$B112,'Daily Log'!$BT$18:$BT$1017),0)","v":0},{"$f":"IFERROR($E112*SUMIF('Daily Log'!$BV$18:$BV$1017,$B112,'Daily Log'!$BW$18:$BW$1017),0)","v":0},{"$f":"IFERROR($E112*SUMIF('Daily Log'!$BY$18:$BY$1017,$B112,'Daily Log'!$BZ$18:$BZ$1017),0)","v":0},{"$f":"IFERROR($E112*SUMIF('Daily Log'!$CB$18:$CB$1017,$B112,'Daily Log'!$CC$18:$CC$1017),0)","v":0},{"$f":"IFERROR($E112*SUMIF('Daily Log'!$CE$18:$CE$1017,$B112,'Daily Log'!$CF$18:$CF$1017),0)","v":0},{"$f":"IFERROR($E112*SUMIF('Daily Log'!$CH$18:$CH$1017,$B112,'Daily Log'!$CI$18:$CI$1017),0)","v":0},{"$f":"IFERROR($E112*SUMIF('Daily Log'!$CK$18:$CK$1017,$B112,'Daily Log'!$CL$18:$CL$1017),0)","v":7},{"$f":"IFERROR($E112*SUMIF('Daily Log'!$CN$18:$CN$1017,$B112,'Daily Log'!$CO$18:$CO$1017),0)","v":0}]
[null,"RQ07 ADD SAUCE C.PADI",null,null,1,5,{"$f":"IFERROR($E113*SUMIF('Daily Log'!$B$18:$B$1017,$B113,'Daily Log'!$C$18:$C$1017),0)","v":0},{"$f":"IFERROR($E113*SUMIF('Daily Log'!$E$18:$E$1017,$B113,'Daily Log'!$F$18:$F$1017),0)","v":0},{"$f":"IFERROR($E113*SUMIF('Daily Log'!$H$18:$H$1017,$B113,'Daily Log'!$I$18:$I$1017),0)","v":0},{"$f":"IFERROR($E113*SUMIF('Daily Log'!$K$18:$K$1017,$B113,'Daily Log'!$L$18:$L$1017),0)","v":0},{"$f":"IFERROR($E113*SUMIF('Daily Log'!$N$18:$N$1017,$B113,'Daily Log'!$O$18:$O$1017),0)","v":0},{"$f":"IFERROR($E113*SUMIF('Daily Log'!$Q$18:$Q$1017,$B113,'Daily Log'!$R$18:$R$1017),0)","v":0},{"$f":"IFERROR($E113*SUMIF('Daily Log'!$T$18:$T$1017,$B113,'Daily Log'!$U$18:$U$1017),0)","v":0},{"$f":"IFERROR($E113*SUMIF('Daily Log'!$W$18:$W$1017,$B113,'Daily Log'!$X$18:$X$1017),0)","v":0},{"$f":"IFERROR($E113*SUMIF('Daily Log'!$Z$18:$Z$1017,$B113,'Daily Log'!$AA$18:$AA$1017),0)","v":0},{"$f":"IFERROR($E113*SUMIF('Daily Log'!$AC$18:$AC$1017,$B113,'Daily Log'!$AD$18:$AD$1017),0)","v":0},{"$f":"IFERROR($E113*SUMIF('Daily Log'!$AF$18:$AF$1017,$B113,'Daily Log'!$AG$18:$AG$1017),0)","v":0},{"$f":"IFERROR($E113*SUMIF('Daily Log'!$AI$18:$AI$1017,$B113,'Daily Log'!$AJ$18:$AJ$1017),0)","v":0},{"$f":"IFERROR($E113*SUMIF('Daily Log'!$AL$18:$AL$1017,$B113,'Daily Log'!$AM$18:$AM$1017),0)","v":0},{"$f":"IFERROR($E113*SUMIF('Daily Log'!$AO$18:$AO$1017,$B113,'Daily Log'!$AP$18:$AP$1017),0)","v":0},{"$f":"IFERROR($E113*SUMIF('Daily Log'!$AR$18:$AR$1017,$B113,'Daily Log'!$AS$18:$AS$1017),0)","v":0},{"$f":"IFERROR($E113*SUMIF('Daily Log'!$AU$18:$AU$1017,$B113,'Daily Log'!$AV$18:$AV$1017),0)","v":0},{"$f":"IFERROR($E113*SUMIF('Daily Log'!$AX$18:$AX$1017,$B113,'Daily Log'!$AY$18:$AY$1017),0)","v":0},{"$f":"IFERROR($E113*SUMIF('Daily Log'!$BA$18:$BA$1017,$B113,'Daily Log'!$BB$18:$BB$1017),0)","v":0},{"$f":"IFERROR($E113*SUMIF('Daily Log'!$BD$18:$BD$1017,$B113,'Daily Log'!$BE$18:$BE$1017),0)","v":0},{"$f":"IFERROR($E113*SUMIF('Daily Log'!$BG$18:$BG$1017,$B113,'Daily Log'!$BH$18:$BH$1017),0)","v":0},{"$f":"IFERROR($E113*SUMIF('Daily Log'!$BJ$18:$BJ$1017,$B113,'Daily Log'!$BK$18:$BK$1017),0)","v":0},{"$f":"IFERROR($E113*SUMIF('Daily Log'!$BM$18:$BM$1017,$B113,'Daily Log'!$BN$18:$BN$1017),0)","v":0},{"$f":"IFERROR($E113*SUMIF('Daily Log'!$BP$18:$BP$1017,$B113,'Daily Log'!$BQ$18:$BQ$1017),0)","v":0},{"$f":"IFERROR($E113*SUMIF('Daily Log'!$BS$18:$BS$1017,$B113,'Daily Log'!$BT$18:$BT$1017),0)","v":0},{"$f":"IFERROR($E113*SUMIF('Daily Log'!$BV$18:$BV$1017,$B113,'Daily Log'!$BW$18:$BW$1017),0)","v":0},{"$f":"IFERROR($E113*SUMIF('Daily Log'!$BY$18:$BY$1017,$B113,'Daily Log'!$BZ$18:$BZ$1017),0)","v":0},{"$f":"IFERROR($E113*SUMIF('Daily Log'!$CB$18:$CB$1017,$B113,'Daily Log'!$CC$18:$CC$1017),0)","v":0},{"$f":"IFERROR($E113*SUMIF('Daily Log'!$CE$18:$CE$1017,$B113,'Daily Log'!$CF$18:$CF$1017),0)","v":0},{"$f":"IFERROR($E113*SUMIF('Daily Log'!$CH$18:$CH$1017,$B113,'Daily Log'!$CI$18:$CI$1017),0)","v":0},{"$f":"IFERROR($E113*SUMIF('Daily Log'!$CK$18:$CK$1017,$B113,'Daily Log'!$CL$18:$CL$1017),0)","v":5},{"$f":"IFERROR($E113*SUMIF('Daily Log'!$CN$18:$CN$1017,$B113,'Daily Log'!$CO$18:$CO$1017),0)","v":0}]
[null,"RQ08 ADD SAUCE CHEESE",null,null,1,0,{"$f":"IFERROR($E114*SUMIF('Daily Log'!$B$18:$B$1017,$B114,'Daily Log'!$C$18:$C$1017),0)","v":0},{"$f":"IFERROR($E114*SUMIF('Daily Log'!$E$18:$E$1017,$B114,'Daily Log'!$F$18:$F$1017),0)","v":0},{"$f":"IFERROR($E114*SUMIF('Daily Log'!$H$18:$H$1017,$B114,'Daily Log'!$I$18:$I$1017),0)","v":0},{"$f":"IFERROR($E114*SUMIF('Daily Log'!$K$18:$K$1017,$B114,'Daily Log'!$L$18:$L$1017),0)","v":0},{"$f":"IFERROR($E114*SUMIF('Daily Log'!$N$18:$N$1017,$B114,'Daily Log'!$O$18:$O$1017),0)","v":0},{"$f":"IFERROR($E114*SUMIF('Daily Log'!$Q$18:$Q$1017,$B114,'Daily Log'!$R$18:$R$1017),0)","v":0},{"$f":"IFERROR($E114*SUMIF('Daily Log'!$T$18:$T$1017,$B114,'Daily Log'!$U$18:$U$1017),0)","v":0},{"$f":"IFERROR($E114*SUMIF('Daily Log'!$W$18:$W$1017,$B114,'Daily Log'!$X$18:$X$1017),0)","v":0},{"$f":"IFERROR($E114*SUMIF('Daily Log'!$Z$18:$Z$1017,$B114,'Daily Log'!$AA$18:$AA$1017),0)","v":0},{"$f":"IFERROR($E114*SUMIF('Daily Log'!$AC$18:$AC$1017,$B114,'Daily Log'!$AD$18:$AD$1017),0)","v":0},{"$f":"IFERROR($E114*SUMIF('Daily Log'!$AF$18:$AF$1017,$B114,'Daily Log'!$AG$18:$AG$1017),0)","v":0},{"$f":"IFERROR($E114*SUMIF('Daily Log'!$AI$18:$AI$1017,$B114,'Daily Log'!$AJ$18:$AJ$1017),0)","v":0},{"$f":"IFERROR($E114*SUMIF('Daily Log'!$AL$18:$AL$1017,$B114,'Daily Log'!$AM$18:$AM$1017),0)","v":0},{"$f":"IFERROR($E114*SUMIF('Daily Log'!$AO$18:$AO$1017,$B114,'Daily Log'!$AP$18:$AP$1017),0)","v":0},{"$f":"IFERROR($E114*SUMIF('Daily Log'!$AR$18:$AR$1017,$B114,'Daily Log'!$AS$18:$AS$1017),0)","v":0},{"$f":"IFERROR($E114*SUMIF('Daily Log'!$AU$18:$AU$1017,$B114,'Daily Log'!$AV$18:$AV$1017),0)","v":0},{"$f":"IFERROR($E114*SUMIF('Daily Log'!$AX$18:$AX$1017,$B114,'Daily Log'!$AY$18:$AY$1017),0)","v":0},{"$f":"IFERROR($E114*SUMIF('Daily Log'!$BA$18:$BA$1017,$B114,'Daily Log'!$BB$18:$BB$1017),0)","v":0},{"$f":"IFERROR($E114*SUMIF('Daily Log'!$BD$18:$BD$1017,$B114,'Daily Log'!$BE$18:$BE$1017),0)","v":0},{"$f":"IFERROR($E114*SUMIF('Daily Log'!$BG$18:$BG$1017,$B114,'Daily Log'!$BH$18:$BH$1017),0)","v":0},{"$f":"IFERROR($E114*SUMIF('Daily Log'!$BJ$18:$BJ$1017,$B114,'Daily Log'!$BK$18:$BK$1017),0)","v":0},{"$f":"IFERROR($E114*SUMIF('Daily Log'!$BM$18:$BM$1017,$B114,'Daily Log'!$BN$18:$BN$1017),0)","v":0},{"$f":"IFERROR($E114*SUMIF('Daily Log'!$BP$18:$BP$1017,$B114,'Daily Log'!$BQ$18:$BQ$1017),0)","v":0},{"$f":"IFERROR($E114*SUMIF('Daily Log'!$BS$18:$BS$1017,$B114,'Daily Log'!$BT$18:$BT$1017),0)","v":0},{"$f":"IFERROR($E114*SUMIF('Daily Log'!$BV$18:$BV$1017,$B114,'Daily Log'!$BW$18:$BW$1017),0)","v":0},{"$f":"IFERROR($E114*SUMIF('Daily Log'!$BY$18:$BY$1017,$B114,'Daily Log'!$BZ$18:$BZ$1017),0)","v":0},{"$f":"IFERROR($E114*SUMIF('Daily Log'!$CB$18:$CB$1017,$B114,'Daily Log'!$CC$18:$CC$1017),0)","v":0},{"$f":"IFERROR($E114*SUMIF('Daily Log'!$CE$18:$CE$1017,$B114,'Daily Log'!$CF$18:$CF$1017),0)","v":0},{"$f":"IFERROR($E114*SUMIF('Daily Log'!$CH$18:$CH$1017,$B114,'Daily Log'!$CI$18:$CI$1017),0)","v":0},{"$f":"IFERROR($E114*SUMIF('Daily Log'!$CK$18:$CK$1017,$B114,'Daily Log'!$CL$18:$CL$1017),0)","v":0},{"$f":"IFERROR($E114*SUMIF('Daily Log'!$CN$18:$CN$1017,$B114,'Daily Log'!$CO$18:$CO$1017),0)","v":0}]
[null,"RQ10 ADD SAUCE MAYO",null,null,1,25,{"$f":"IFERROR($E115*SUMIF('Daily Log'!$B$18:$B$1017,$B115,'Daily Log'!$C$18:$C$1017),0)","v":0},{"$f":"IFERROR($E115*SUMIF('Daily Log'!$E$18:$E$1017,$B115,'Daily Log'!$F$18:$F$1017),0)","v":0},{"$f":"IFERROR($E115*SUMIF('Daily Log'!$H$18:$H$1017,$B115,'Daily Log'!$I$18:$I$1017),0)","v":0},{"$f":"IFERROR($E115*SUMIF('Daily Log'!$K$18:$K$1017,$B115,'Daily Log'!$L$18:$L$1017),0)","v":0},{"$f":"IFERROR($E115*SUMIF('Daily Log'!$N$18:$N$1017,$B115,'Daily Log'!$O$18:$O$1017),0)","v":0},{"$f":"IFERROR($E115*SUMIF('Daily Log'!$Q$18:$Q$1017,$B115,'Daily Log'!$R$18:$R$1017),0)","v":0},{"$f":"IFERROR($E115*SUMIF('Daily Log'!$T$18:$T$1017,$B115,'Daily Log'!$U$18:$U$1017),0)","v":0},{"$f":"IFERROR($E115*SUMIF('Daily Log'!$W$18:$W$1017,$B115,'Daily Log'!$X$18:$X$1017),0)","v":0},{"$f":"IFERROR($E115*SUMIF('Daily Log'!$Z$18:$Z$1017,$B115,'Daily Log'!$AA$18:$AA$1017),0)","v":0},{"$f":"IFERROR($E115*SUMIF('Daily Log'!$AC$18:$AC$1017,$B115,'Daily Log'!$AD$18:$AD$1017),0)","v":0},{"$f":"IFERROR($E115*SUMIF('Daily Log'!$AF$18:$AF$1017,$B115,'Daily Log'!$AG$18:$AG$1017),0)","v":0},{"$f":"IFERROR($E115*SUMIF('Daily Log'!$AI$18:$AI$1017,$B115,'Daily Log'!$AJ$18:$AJ$1017),0)","v":0},{"$f":"IFERROR($E115*SUMIF('Daily Log'!$AL$18:$AL$1017,$B115,'Daily Log'!$AM$18:$AM$1017),0)","v":0},{"$f":"IFERROR($E115*SUMIF('Daily Log'!$AO$18:$AO$1017,$B115,'Daily Log'!$AP$18:$AP$1017),0)","v":0},{"$f":"IFERROR($E115*SUMIF('Daily Log'!$AR$18:$AR$1017,$B115,'Daily Log'!$AS$18:$AS$1017),0)","v":0},{"$f":"IFERROR($E115*SUMIF('Daily Log'!$AU$18:$AU$1017,$B115,'Daily Log'!$AV$18:$AV$1017),0)","v":0},{"$f":"IFERROR($E115*SUMIF('Daily Log'!$AX$18:$AX$1017,$B115,'Daily Log'!$AY$18:$AY$1017),0)","v":0},{"$f":"IFERROR($E115*SUMIF('Daily Log'!$BA$18:$BA$1017,$B115,'Daily Log'!$BB$18:$BB$1017),0)","v":0},{"$f":"IFERROR($E115*SUMIF('Daily Log'!$BD$18:$BD$1017,$B115,'Daily Log'!$BE$18:$BE$1017),0)","v":0},{"$f":"IFERROR($E115*SUMIF('Daily Log'!$BG$18:$BG$1017,$B115,'Daily Log'!$BH$18:$BH$1017),0)","v":0},{"$f":"IFERROR($E115*SUMIF('Daily Log'!$BJ$18:$BJ$1017,$B115,'Daily Log'!$BK$18:$BK$1017),0)","v":0},{"$f":"IFERROR($E115*SUMIF('Daily Log'!$BM$18:$BM$1017,$B115,'Daily Log'!$BN$18:$BN$1017),0)","v":0},{"$f":"IFERROR($E115*SUMIF('Daily Log'!$BP$18:$BP$1017,$B115,'Daily Log'!$BQ$18:$BQ$1017),0)","v":0},{"$f":"IFERROR($E115*SUMIF('Daily Log'!$BS$18:$BS$1017,$B115,'Daily Log'!$BT$18:$BT$1017),0)","v":0},{"$f":"IFERROR($E115*SUMIF('Daily Log'!$BV$18:$BV$1017,$B115,'Daily Log'!$BW$18:$BW$1017),0)","v":0},{"$f":"IFERROR($E115*SUMIF('Daily Log'!$BY$18:$BY$1017,$B115,'Daily Log'!$BZ$18:$BZ$1017),0)","v":0},{"$f":"IFERROR($E115*SUMIF('Daily Log'!$CB$18:$CB$1017,$B115,'Daily Log'!$CC$18:$CC$1017),0)","v":0},{"$f":"IFERROR($E115*SUMIF('Daily Log'!$CE$18:$CE$1017,$B115,'Daily Log'!$CF$18:$CF$1017),0)","v":0},{"$f":"IFERROR($E115*SUMIF('Daily Log'!$CH$18:$CH$1017,$B115,'Daily Log'!$CI$18:$CI$1017),0)","v":0},{"$f":"IFERROR($E115*SUMIF('Daily Log'!$CK$18:$CK$1017,$B115,'Daily Log'!$CL$18:$CL$1017),0)","v":25},{"$f":"IFERROR($E115*SUMIF('Daily Log'!$CN$18:$CN$1017,$B115,'Daily Log'!$CO$18:$CO$1017),0)","v":0}]
[null,"RQ11 ADD SAUCE MAMITE",null,null,1,2,{"$f":"IFERROR($E116*SUMIF('Daily Log'!$B$18:$B$1017,$B116,'Daily Log'!$C$18:$C$1017),0)","v":0},{"$f":"IFERROR($E116*SUMIF('Daily Log'!$E$18:$E$1017,$B116,'Daily Log'!$F$18:$F$1017),0)","v":0},{"$f":"IFERROR($E116*SUMIF('Daily Log'!$H$18:$H$1017,$B116,'Daily Log'!$I$18:$I$1017),0)","v":0},{"$f":"IFERROR($E116*SUMIF('Daily Log'!$K$18:$K$1017,$B116,'Daily Log'!$L$18:$L$1017),0)","v":0},{"$f":"IFERROR($E116*SUMIF('Daily Log'!$N$18:$N$1017,$B116,'Daily Log'!$O$18:$O$1017),0)","v":0},{"$f":"IFERROR($E116*SUMIF('Daily Log'!$Q$18:$Q$1017,$B116,'Daily Log'!$R$18:$R$1017),0)","v":0},{"$f":"IFERROR($E116*SUMIF('Daily Log'!$T$18:$T$1017,$B116,'Daily Log'!$U$18:$U$1017),0)","v":0},{"$f":"IFERROR($E116*SUMIF('Daily Log'!$W$18:$W$1017,$B116,'Daily Log'!$X$18:$X$1017),0)","v":0},{"$f":"IFERROR($E116*SUMIF('Daily Log'!$Z$18:$Z$1017,$B116,'Daily Log'!$AA$18:$AA$1017),0)","v":0},{"$f":"IFERROR($E116*SUMIF('Daily Log'!$AC$18:$AC$1017,$B116,'Daily Log'!$AD$18:$AD$1017),0)","v":0},{"$f":"IFERROR($E116*SUMIF('Daily Log'!$AF$18:$AF$1017,$B116,'Daily Log'!$AG$18:$AG$1017),0)","v":0},{"$f":"IFERROR($E116*SUMIF('Daily Log'!$AI$18:$AI$1017,$B116,'Daily Log'!$AJ$18:$AJ$1017),0)","v":0},{"$f":"IFERROR($E116*SUMIF('Daily Log'!$AL$18:$AL$1017,$B116,'Daily Log'!$AM$18:$AM$1017),0)","v":0},{"$f":"IFERROR($E116*SUMIF('Daily Log'!$AO$18:$AO$1017,$B116,'Daily Log'!$AP$18:$AP$1017),0)","v":0},{"$f":"IFERROR($E116*SUMIF('Daily Log'!$AR$18:$AR$1017,$B116,'Daily Log'!$AS$18:$AS$1017),0)","v":0},{"$f":"IFERROR($E116*SUMIF('Daily Log'!$AU$18:$AU$1017,$B116,'Daily Log'!$AV$18:$AV$1017),0)","v":0},{"$f":"IFERROR($E116*SUMIF('Daily Log'!$AX$18:$AX$1017,$B116,'Daily Log'!$AY$18:$AY$1017),0)","v":0},{"$f":"IFERROR($E116*SUMIF('Daily Log'!$BA$18:$BA$1017,$B116,'Daily Log'!$BB$18:$BB$1017),0)","v":0},{"$f":"IFERROR($E116*SUMIF('Daily Log'!$BD$18:$BD$1017,$B116,'Daily Log'!$BE$18:$BE$1017),0)","v":0},{"$f":"IFERROR($E116*SUMIF('Daily Log'!$BG$18:$BG$1017,$B116,'Daily Log'!$BH$18:$BH$1017),0)","v":0},{"$f":"IFERROR($E116*SUMIF('Daily Log'!$BJ$18:$BJ$1017,$B116,'Daily Log'!$BK$18:$BK$1017),0)","v":0},{"$f":"IFERROR($E116*SUMIF('Daily Log'!$BM$18:$BM$1017,$B116,'Daily Log'!$BN$18:$BN$1017),0)","v":0},{"$f":"IFERROR($E116*SUMIF('Daily Log'!$BP$18:$BP$1017,$B116,'Daily Log'!$BQ$18:$BQ$1017),0)","v":0},{"$f":"IFERROR($E116*SUMIF('Daily Log'!$BS$18:$BS$1017,$B116,'Daily Log'!$BT$18:$BT$1017),0)","v":0},{"$f":"IFERROR($E116*SUMIF('Daily Log'!$BV$18:$BV$1017,$B116,'Daily Log'!$BW$18:$BW$1017),0)","v":0},{"$f":"IFERROR($E116*SUMIF('Daily Log'!$BY$18:$BY$1017,$B116,'Daily Log'!$BZ$18:$BZ$1017),0)","v":0},{"$f":"IFERROR($E116*SUMIF('Daily Log'!$CB$18:$CB$1017,$B116,'Daily Log'!$CC$18:$CC$1017),0)","v":0},{"$f":"IFERROR($E116*SUMIF('Daily Log'!$CE$18:$CE$1017,$B116,'Daily Log'!$CF$18:$CF$1017),0)","v":0},{"$f":"IFERROR($E116*SUMIF('Daily Log'!$CH$18:$CH$1017,$B116,'Daily Log'!$CI$18:$CI$1017),0)","v":0},{"$f":"IFERROR($E116*SUMIF('Daily Log'!$CK$18:$CK$1017,$B116,'Daily Log'!$CL$18:$CL$1017),0)","v":2},{"$f":"IFERROR($E116*SUMIF('Daily Log'!$CN$18:$CN$1017,$B116,'Daily Log'!$CO$18:$CO$1017),0)","v":0}]
[null,"RQ12 ADD SAUCE MR",null,null,1,3,{"$f":"IFERROR($E117*SUMIF('Daily Log'!$B$18:$B$1017,$B117,'Daily Log'!$C$18:$C$1017),0)","v":0},{"$f":"IFERROR($E117*SUMIF('Daily Log'!$E$18:$E$1017,$B117,'Daily Log'!$F$18:$F$1017),0)","v":0},{"$f":"IFERROR($E117*SUMIF('Daily Log'!$H$18:$H$1017,$B117,'Daily Log'!$I$18:$I$1017),0)","v":0},{"$f":"IFERROR($E117*SUMIF('Daily Log'!$K$18:$K$1017,$B117,'Daily Log'!$L$18:$L$1017),0)","v":0},{"$f":"IFERROR($E117*SUMIF('Daily Log'!$N$18:$N$1017,$B117,'Daily Log'!$O$18:$O$1017),0)","v":0},{"$f":"IFERROR($E117*SUMIF('Daily Log'!$Q$18:$Q$1017,$B117,'Daily Log'!$R$18:$R$1017),0)","v":0},{"$f":"IFERROR($E117*SUMIF('Daily Log'!$T$18:$T$1017,$B117,'Daily Log'!$U$18:$U$1017),0)","v":0},{"$f":"IFERROR($E117*SUMIF('Daily Log'!$W$18:$W$1017,$B117,'Daily Log'!$X$18:$X$1017),0)","v":0},{"$f":"IFERROR($E117*SUMIF('Daily Log'!$Z$18:$Z$1017,$B117,'Daily Log'!$AA$18:$AA$1017),0)","v":0},{"$f":"IFERROR($E117*SUMIF('Daily Log'!$AC$18:$AC$1017,$B117,'Daily Log'!$AD$18:$AD$1017),0)","v":0},{"$f":"IFERROR($E117*SUMIF('Daily Log'!$AF$18:$AF$1017,$B117,'Daily Log'!$AG$18:$AG$1017),0)","v":0},{"$f":"IFERROR($E117*SUMIF('Daily Log'!$AI$18:$AI$1017,$B117,'Daily Log'!$AJ$18:$AJ$1017),0)","v":0},{"$f":"IFERROR($E117*SUMIF('Daily Log'!$AL$18:$AL$1017,$B117,'Daily Log'!$AM$18:$AM$1017),0)","v":0},{"$f":"IFERROR($E117*SUMIF('Daily Log'!$AO$18:$AO$1017,$B117,'Daily Log'!$AP$18:$AP$1017),0)","v":0},{"$f":"IFERROR($E117*SUMIF('Daily Log'!$AR$18:$AR$1017,$B117,'Daily Log'!$AS$18:$AS$1017),0)","v":0},{"$f":"IFERROR($E117*SUMIF('Daily Log'!$AU$18:$AU$1017,$B117,'Daily Log'!$AV$18:$AV$1017),0)","v":0},{"$f":"IFERROR($E117*SUMIF('Daily Log'!$AX$18:$AX$1017,$B117,'Daily Log'!$AY$18:$AY$1017),0)","v":0},{"$f":"IFERROR($E117*SUMIF('Daily Log'!$BA$18:$BA$1017,$B117,'Daily Log'!$BB$18:$BB$1017),0)","v":0},{"$f":"IFERROR($E117*SUMIF('Daily Log'!$BD$18:$BD$1017,$B117,'Daily Log'!$BE$18:$BE$1017),0)","v":0},{"$f":"IFERROR($E117*SUMIF('Daily Log'!$BG$18:$BG$1017,$B117,'Daily Log'!$BH$18:$BH$1017),0)","v":0},{"$f":"IFERROR($E117*SUMIF('Daily Log'!$BJ$18:$BJ$1017,$B117,'Daily Log'!$BK$18:$BK$1017),0)","v":0},{"$f":"IFERROR($E117*SUMIF('Daily Log'!$BM$18:$BM$1017,$B117,'Daily Log'!$BN$18:$BN$1017),0)","v":0},{"$f":"IFERROR($E117*SUMIF('Daily Log'!$BP$18:$BP$1017,$B117,'Daily Log'!$BQ$18:$BQ$1017),0)","v":0},{"$f":"IFERROR($E117*SUMIF('Daily Log'!$BS$18:$BS$1017,$B117,'Daily Log'!$BT$18:$BT$1017),0)","v":0},{"$f":"IFERROR($E117*SUMIF('Daily Log'!$BV$18:$BV$1017,$B117,'Daily Log'!$BW$18:$BW$1017),0)","v":0},{"$f":"IFERROR($E117*SUMIF('Daily Log'!$BY$18:$BY$1017,$B117,'Daily Log'!$BZ$18:$BZ$1017),0)","v":0},{"$f":"IFERROR($E117*SUMIF('Daily Log'!$CB$18:$CB$1017,$B117,'Daily Log'!$CC$18:$CC$1017),0)","v":0},{"$f":"IFERROR($E117*SUMIF('Daily Log'!$CE$18:$CE$1017,$B117,'Daily Log'!$CF$18:$CF$1017),0)","v":0},{"$f":"IFERROR($E117*SUMIF('Daily Log'!$CH$18:$CH$1017,$B117,'Daily Log'!$CI$18:$CI$1017),0)","v":0},{"$f":"IFERROR($E117*SUMIF('Daily Log'!$CK$18:$CK$1017,$B117,'Daily Log'!$CL$18:$CL$1017),0)","v":3},{"$f":"IFERROR($E117*SUMIF('Daily Log'!$CN$18:$CN$1017,$B117,'Daily Log'!$CO$18:$CO$1017),0)","v":0}]
[null,"RQ14 ADD SAUCE TARTAR",null,null,1,5,{"$f":"IFERROR($E118*SUMIF('Daily Log'!$B$18:$B$1017,$B118,'Daily Log'!$C$18:$C$1017),0)","v":0},{"$f":"IFERROR($E118*SUMIF('Daily Log'!$E$18:$E$1017,$B118,'Daily Log'!$F$18:$F$1017),0)","v":0},{"$f":"IFERROR($E118*SUMIF('Daily Log'!$H$18:$H$1017,$B118,'Daily Log'!$I$18:$I$1017),0)","v":0},{"$f":"IFERROR($E118*SUMIF('Daily Log'!$K$18:$K$1017,$B118,'Daily Log'!$L$18:$L$1017),0)","v":0},{"$f":"IFERROR($E118*SUMIF('Daily Log'!$N$18:$N$1017,$B118,'Daily Log'!$O$18:$O$1017),0)","v":0},{"$f":"IFERROR($E118*SUMIF('Daily Log'!$Q$18:$Q$1017,$B118,'Daily Log'!$R$18:$R$1017),0)","v":0},{"$f":"IFERROR($E118*SUMIF('Daily Log'!$T$18:$T$1017,$B118,'Daily Log'!$U$18:$U$1017),0)","v":0},{"$f":"IFERROR($E118*SUMIF('Daily Log'!$W$18:$W$1017,$B118,'Daily Log'!$X$18:$X$1017),0)","v":0},{"$f":"IFERROR($E118*SUMIF('Daily Log'!$Z$18:$Z$1017,$B118,'Daily Log'!$AA$18:$AA$1017),0)","v":0},{"$f":"IFERROR($E118*SUMIF('Daily Log'!$AC$18:$AC$1017,$B118,'Daily Log'!$AD$18:$AD$1017),0)","v":0},{"$f":"IFERROR($E118*SUMIF('Daily Log'!$AF$18:$AF$1017,$B118,'Daily Log'!$AG$18:$AG$1017),0)","v":0},{"$f":"IFERROR($E118*SUMIF('Daily Log'!$AI$18:$AI$1017,$B118,'Daily Log'!$AJ$18:$AJ$1017),0)","v":0},{"$f":"IFERROR($E118*SUMIF('Daily Log'!$AL$18:$AL$1017,$B118,'Daily Log'!$AM$18:$AM$1017),0)","v":0},{"$f":"IFERROR($E118*SUMIF('Daily Log'!$AO$18:$AO$1017,$B118,'Daily Log'!$AP$18:$AP$1017),0)","v":0},{"$f":"IFERROR($E118*SUMIF('Daily Log'!$AR$18:$AR$1017,$B118,'Daily Log'!$AS$18:$AS$1017),0)","v":0},{"$f":"IFERROR($E118*SUMIF('Daily Log'!$AU$18:$AU$1017,$B118,'Daily Log'!$AV$18:$AV$1017),0)","v":0},{"$f":"IFERROR($E118*SUMIF('Daily Log'!$AX$18:$AX$1017,$B118,'Daily Log'!$AY$18:$AY$1017),0)","v":0},{"$f":"IFERROR($E118*SUMIF('Daily Log'!$BA$18:$BA$1017,$B118,'Daily Log'!$BB$18:$BB$1017),0)","v":0},{"$f":"IFERROR($E118*SUMIF('Daily Log'!$BD$18:$BD$1017,$B118,'Daily Log'!$BE$18:$BE$1017),0)","v":0},{"$f":"IFERROR($E118*SUMIF('Daily Log'!$BG$18:$BG$1017,$B118,'Daily Log'!$BH$18:$BH$1017),0)","v":0},{"$f":"IFERROR($E118*SUMIF('Daily Log'!$BJ$18:$BJ$1017,$B118,'Daily Log'!$BK$18:$BK$1017),0)","v":0},{"$f":"IFERROR($E118*SUMIF('Daily Log'!$BM$18:$BM$1017,$B118,'Daily Log'!$BN$18:$BN$1017),0)","v":0},{"$f":"IFERROR($E118*SUMIF('Daily Log'!$BP$18:$BP$1017,$B118,'Daily Log'!$BQ$18:$BQ$1017),0)","v":0},{"$f":"IFERROR($E118*SUMIF('Daily Log'!$BS$18:$BS$1017,$B118,'Daily Log'!$BT$18:$BT$1017),0)","v":0},{"$f":"IFERROR($E118*SUMIF('Daily Log'!$BV$18:$BV$1017,$B118,'Daily Log'!$BW$18:$BW$1017),0)","v":0},{"$f":"IFERROR($E118*SUMIF('Daily Log'!$BY$18:$BY$1017,$B118,'Daily Log'!$BZ$18:$BZ$1017),0)","v":0},{"$f":"IFERROR($E118*SUMIF('Daily Log'!$CB$18:$CB$1017,$B118,'Daily Log'!$CC$18:$CC$1017),0)","v":0},{"$f":"IFERROR($E118*SUMIF('Daily Log'!$CE$18:$CE$1017,$B118,'Daily Log'!$CF$18:$CF$1017),0)","v":0},{"$f":"IFERROR($E118*SUMIF('Daily Log'!$CH$18:$CH$1017,$B118,'Daily Log'!$CI$18:$CI$1017),0)","v":0},{"$f":"IFERROR($E118*SUMIF('Daily Log'!$CK$18:$CK$1017,$B118,'Daily Log'!$CL$18:$CL$1017),0)","v":5},{"$f":"IFERROR($E118*SUMIF('Daily Log'!$CN$18:$CN$1017,$B118,'Daily Log'!$CO$18:$CO$1017),0)","v":0}]
[null,"RQ15 ADD SAUCE THAI",null,null,1,1,{"$f":"IFERROR($E119*SUMIF('Daily Log'!$B$18:$B$1017,$B119,'Daily Log'!$C$18:$C$1017),0)","v":0},{"$f":"IFERROR($E119*SUMIF('Daily Log'!$E$18:$E$1017,$B119,'Daily Log'!$F$18:$F$1017),0)","v":0},{"$f":"IFERROR($E119*SUMIF('Daily Log'!$H$18:$H$1017,$B119,'Daily Log'!$I$18:$I$1017),0)","v":0},{"$f":"IFERROR($E119*SUMIF('Daily Log'!$K$18:$K$1017,$B119,'Daily Log'!$L$18:$L$1017),0)","v":0},{"$f":"IFERROR($E119*SUMIF('Daily Log'!$N$18:$N$1017,$B119,'Daily Log'!$O$18:$O$1017),0)","v":0},{"$f":"IFERROR($E119*SUMIF('Daily Log'!$Q$18:$Q$1017,$B119,'Daily Log'!$R$18:$R$1017),0)","v":0},{"$f":"IFERROR($E119*SUMIF('Daily Log'!$T$18:$T$1017,$B119,'Daily Log'!$U$18:$U$1017),0)","v":0},{"$f":"IFERROR($E119*SUMIF('Daily Log'!$W$18:$W$1017,$B119,'Daily Log'!$X$18:$X$1017),0)","v":0},{"$f":"IFERROR($E119*SUMIF('Daily Log'!$Z$18:$Z$1017,$B119,'Daily Log'!$AA$18:$AA$1017),0)","v":0},{"$f":"IFERROR($E119*SUMIF('Daily Log'!$AC$18:$AC$1017,$B119,'Daily Log'!$AD$18:$AD$1017),0)","v":0},{"$f":"IFERROR($E119*SUMIF('Daily Log'!$AF$18:$AF$1017,$B119,'Daily Log'!$AG$18:$AG$1017),0)","v":0},{"$f":"IFERROR($E119*SUMIF('Daily Log'!$AI$18:$AI$1017,$B119,'Daily Log'!$AJ$18:$AJ$1017),0)","v":0},{"$f":"IFERROR($E119*SUMIF('Daily Log'!$AL$18:$AL$1017,$B119,'Daily Log'!$AM$18:$AM$1017),0)","v":0},{"$f":"IFERROR($E119*SUMIF('Daily Log'!$AO$18:$AO$1017,$B119,'Daily Log'!$AP$18:$AP$1017),0)","v":0},{"$f":"IFERROR($E119*SUMIF('Daily Log'!$AR$18:$AR$1017,$B119,'Daily Log'!$AS$18:$AS$1017),0)","v":0},{"$f":"IFERROR($E119*SUMIF('Daily Log'!$AU$18:$AU$1017,$B119,'Daily Log'!$AV$18:$AV$1017),0)","v":0},{"$f":"IFERROR($E119*SUMIF('Daily Log'!$AX$18:$AX$1017,$B119,'Daily Log'!$AY$18:$AY$1017),0)","v":0},{"$f":"IFERROR($E119*SUMIF('Daily Log'!$BA$18:$BA$1017,$B119,'Daily Log'!$BB$18:$BB$1017),0)","v":0},{"$f":"IFERROR($E119*SUMIF('Daily Log'!$BD$18:$BD$1017,$B119,'Daily Log'!$BE$18:$BE$1017),0)","v":0},{"$f":"IFERROR($E119*SUMIF('Daily Log'!$BG$18:$BG$1017,$B119,'Daily Log'!$BH$18:$BH$1017),0)","v":0},{"$f":"IFERROR($E119*SUMIF('Daily Log'!$BJ$18:$BJ$1017,$B119,'Daily Log'!$BK$18:$BK$1017),0)","v":0},{"$f":"IFERROR($E119*SUMIF('Daily Log'!$BM$18:$BM$1017,$B119,'Daily Log'!$BN$18:$BN$1017),0)","v":0},{"$f":"IFERROR($E119*SUMIF('Daily Log'!$BP$18:$BP$1017,$B119,'Daily Log'!$BQ$18:$BQ$1017),0)","v":0},{"$f":"IFERROR($E119*SUMIF('Daily Log'!$BS$18:$BS$1017,$B119,'Daily Log'!$BT$18:$BT$1017),0)","v":0},{"$f":"IFERROR($E119*SUMIF('Daily Log'!$BV$18:$BV$1017,$B119,'Daily Log'!$BW$18:$BW$1017),0)","v":0},{"$f":"IFERROR($E119*SUMIF('Daily Log'!$BY$18:$BY$1017,$B119,'Daily Log'!$BZ$18:$BZ$1017),0)","v":0},{"$f":"IFERROR($E119*SUMIF('Daily Log'!$CB$18:$CB$1017,$B119,'Daily Log'!$CC$18:$CC$1017),0)","v":0},{"$f":"IFERROR($E119*SUMIF('Daily Log'!$CE$18:$CE$1017,$B119,'Daily Log'!$CF$18:$CF$1017),0)","v":0},{"$f":"IFERROR($E119*SUMIF('Daily Log'!$CH$18:$CH$1017,$B119,'Daily Log'!$CI$18:$CI$1017),0)","v":0},{"$f":"IFERROR($E119*SUMIF('Daily Log'!$CK$18:$CK$1017,$B119,'Daily Log'!$CL$18:$CL$1017),0)","v":1},{"$f":"IFERROR($E119*SUMIF('Daily Log'!$CN$18:$CN$1017,$B119,'Daily Log'!$CO$18:$CO$1017),0)","v":0}]
[null,"RQ16 ADD SAUCE TOMATO",null,null,1,0,{"$f":"IFERROR($E120*SUMIF('Daily Log'!$B$18:$B$1017,$B120,'Daily Log'!$C$18:$C$1017),0)","v":0},{"$f":"IFERROR($E120*SUMIF('Daily Log'!$E$18:$E$1017,$B120,'Daily Log'!$F$18:$F$1017),0)","v":0},{"$f":"IFERROR($E120*SUMIF('Daily Log'!$H$18:$H$1017,$B120,'Daily Log'!$I$18:$I$1017),0)","v":0},{"$f":"IFERROR($E120*SUMIF('Daily Log'!$K$18:$K$1017,$B120,'Daily Log'!$L$18:$L$1017),0)","v":0},{"$f":"IFERROR($E120*SUMIF('Daily Log'!$N$18:$N$1017,$B120,'Daily Log'!$O$18:$O$1017),0)","v":0},{"$f":"IFERROR($E120*SUMIF('Daily Log'!$Q$18:$Q$1017,$B120,'Daily Log'!$R$18:$R$1017),0)","v":0},{"$f":"IFERROR($E120*SUMIF('Daily Log'!$T$18:$T$1017,$B120,'Daily Log'!$U$18:$U$1017),0)","v":0},{"$f":"IFERROR($E120*SUMIF('Daily Log'!$W$18:$W$1017,$B120,'Daily Log'!$X$18:$X$1017),0)","v":0},{"$f":"IFERROR($E120*SUMIF('Daily Log'!$Z$18:$Z$1017,$B120,'Daily Log'!$AA$18:$AA$1017),0)","v":0},{"$f":"IFERROR($E120*SUMIF('Daily Log'!$AC$18:$AC$1017,$B120,'Daily Log'!$AD$18:$AD$1017),0)","v":0},{"$f":"IFERROR($E120*SUMIF('Daily Log'!$AF$18:$AF$1017,$B120,'Daily Log'!$AG$18:$AG$1017),0)","v":0},{"$f":"IFERROR($E120*SUMIF('Daily Log'!$AI$18:$AI$1017,$B120,'Daily Log'!$AJ$18:$AJ$1017),0)","v":0},{"$f":"IFERROR($E120*SUMIF('Daily Log'!$AL$18:$AL$1017,$B120,'Daily Log'!$AM$18:$AM$1017),0)","v":0},{"$f":"IFERROR($E120*SUMIF('Daily Log'!$AO$18:$AO$1017,$B120,'Daily Log'!$AP$18:$AP$1017),0)","v":0},{"$f":"IFERROR($E120*SUMIF('Daily Log'!$AR$18:$AR$1017,$B120,'Daily Log'!$AS$18:$AS$1017),0)","v":0},{"$f":"IFERROR($E120*SUMIF('Daily Log'!$AU$18:$AU$1017,$B120,'Daily Log'!$AV$18:$AV$1017),0)","v":0},{"$f":"IFERROR($E120*SUMIF('Daily Log'!$AX$18:$AX$1017,$B120,'Daily Log'!$AY$18:$AY$1017),0)","v":0},{"$f":"IFERROR($E120*SUMIF('Daily Log'!$BA$18:$BA$1017,$B120,'Daily Log'!$BB$18:$BB$1017),0)","v":0},{"$f":"IFERROR($E120*SUMIF('Daily Log'!$BD$18:$BD$1017,$B120,'Daily Log'!$BE$18:$BE$1017),0)","v":0},{"$f":"IFERROR($E120*SUMIF('Daily Log'!$BG$18:$BG$1017,$B120,'Daily Log'!$BH$18:$BH$1017),0)","v":0},{"$f":"IFERROR($E120*SUMIF('Daily Log'!$BJ$18:$BJ$1017,$B120,'Daily Log'!$BK$18:$BK$1017),0)","v":0},{"$f":"IFERROR($E120*SUMIF('Daily Log'!$BM$18:$BM$1017,$B120,'Daily Log'!$BN$18:$BN$1017),0)","v":0},{"$f":"IFERROR($E120*SUMIF('Daily Log'!$BP$18:$BP$1017,$B120,'Daily Log'!$BQ$18:$BQ$1017),0)","v":0},{"$f":"IFERROR($E120*SUMIF('Daily Log'!$BS$18:$BS$1017,$B120,'Daily Log'!$BT$18:$BT$1017),0)","v":0},{"$f":"IFERROR($E120*SUMIF('Daily Log'!$BV$18:$BV$1017,$B120,'Daily Log'!$BW$18:$BW$1017),0)","v":0},{"$f":"IFERROR($E120*SUMIF('Daily Log'!$BY$18:$BY$1017,$B120,'Daily Log'!$BZ$18:$BZ$1017),0)","v":0},{"$f":"IFERROR($E120*SUMIF('Daily Log'!$CB$18:$CB$1017,$B120,'Daily Log'!$CC$18:$CC$1017),0)","v":0},{"$f":"IFERROR($E120*SUMIF('Daily Log'!$CE$18:$CE$1017,$B120,'Daily Log'!$CF$18:$CF$1017),0)","v":0},{"$f":"IFERROR($E120*SUMIF('Daily Log'!$CH$18:$CH$1017,$B120,'Daily Log'!$CI$18:$CI$1017),0)","v":0},{"$f":"IFERROR($E120*SUMIF('Daily Log'!$CK$18:$CK$1017,$B120,'Daily Log'!$CL$18:$CL$1017),0)","v":0},{"$f":"IFERROR($E120*SUMIF('Daily Log'!$CN$18:$CN$1017,$B120,'Daily Log'!$CO$18:$CO$1017),0)","v":0}]
[null,null,null,null,1,0,{"$f":"IFERROR($E121*SUMIF('Daily Log'!$B$18:$B$1017,$B121,'Daily Log'!$C$18:$C$1017),0)","v":0},{"$f":"IFERROR($E121*SUMIF('Daily Log'!$E$18:$E$1017,$B121,'Daily Log'!$F$18:$F$1017),0)","v":0},{"$f":"IFERROR($E121*SUMIF('Daily Log'!$H$18:$H$1017,$B121,'Daily Log'!$I$18:$I$1017),0)","v":0},{"$f":"IFERROR($E121*SUMIF('Daily Log'!$K$18:$K$1017,$B121,'Daily Log'!$L$18:$L$1017),0)","v":0},{"$f":"IFERROR($E121*SUMIF('Daily Log'!$N$18:$N$1017,$B121,'Daily Log'!$O$18:$O$1017),0)","v":0},{"$f":"IFERROR($E121*SUMIF('Daily Log'!$Q$18:$Q$1017,$B121,'Daily Log'!$R$18:$R$1017),0)","v":0},{"$f":"IFERROR($E121*SUMIF('Daily Log'!$T$18:$T$1017,$B121,'Daily Log'!$U$18:$U$1017),0)","v":0},{"$f":"IFERROR($E121*SUMIF('Daily Log'!$W$18:$W$1017,$B121,'Daily Log'!$X$18:$X$1017),0)","v":0},{"$f":"IFERROR($E121*SUMIF('Daily Log'!$Z$18:$Z$1017,$B121,'Daily Log'!$AA$18:$AA$1017),0)","v":0},{"$f":"IFERROR($E121*SUMIF('Daily Log'!$AC$18:$AC$1017,$B121,'Daily Log'!$AD$18:$AD$1017),0)","v":0},{"$f":"IFERROR($E121*SUMIF('Daily Log'!$AF$18:$AF$1017,$B121,'Daily Log'!$AG$18:$AG$1017),0)","v":0},{"$f":"IFERROR($E121*SUMIF('Daily Log'!$AI$18:$AI$1017,$B121,'Daily Log'!$AJ$18:$AJ$1017),0)","v":0},{"$f":"IFERROR($E121*SUMIF('Daily Log'!$AL$18:$AL$1017,$B121,'Daily Log'!$AM$18:$AM$1017),0)","v":0},{"$f":"IFERROR($E121*SUMIF('Daily Log'!$AO$18:$AO$1017,$B121,'Daily Log'!$AP$18:$AP$1017),0)","v":0},{"$f":"IFERROR($E121*SUMIF('Daily Log'!$AR$18:$AR$1017,$B121,'Daily Log'!$AS$18:$AS$1017),0)","v":0},{"$f":"IFERROR($E121*SUMIF('Daily Log'!$AU$18:$AU$1017,$B121,'Daily Log'!$AV$18:$AV$1017),0)","v":0},{"$f":"IFERROR($E121*SUMIF('Daily Log'!$AX$18:$AX$1017,$B121,'Daily Log'!$AY$18:$AY$1017),0)","v":0},{"$f":"IFERROR($E121*SUMIF('Daily Log'!$BA$18:$BA$1017,$B121,'Daily Log'!$BB$18:$BB$1017),0)","v":0},{"$f":"IFERROR($E121*SUMIF('Daily Log'!$BD$18:$BD$1017,$B121,'Daily Log'!$BE$18:$BE$1017),0)","v":0},{"$f":"IFERROR($E121*SUMIF('Daily Log'!$BG$18:$BG$1017,$B121,'Daily Log'!$BH$18:$BH$1017),0)","v":0},{"$f":"IFERROR($E121*SUMIF('Daily Log'!$BJ$18:$BJ$1017,$B121,'Daily Log'!$BK$18:$BK$1017),0)","v":0},{"$f":"IFERROR($E121*SUMIF('Daily Log'!$BM$18:$BM$1017,$B121,'Daily Log'!$BN$18:$BN$1017),0)","v":0},{"$f":"IFERROR($E121*SUMIF('Daily Log'!$BP$18:$BP$1017,$B121,'Daily Log'!$BQ$18:$BQ$1017),0)","v":0},{"$f":"IFERROR($E121*SUMIF('Daily Log'!$BS$18:$BS$1017,$B121,'Daily Log'!$BT$18:$BT$1017),0)","v":0},{"$f":"IFERROR($E121*SUMIF('Daily Log'!$BV$18:$BV$1017,$B121,'Daily Log'!$BW$18:$BW$1017),0)","v":0},{"$f":"IFERROR($E121*SUMIF('Daily Log'!$BY$18:$BY$1017,$B121,'Daily Log'!$BZ$18:$BZ$1017),0)","v":0},{"$f":"IFERROR($E121*SUMIF('Daily Log'!$CB$18:$CB$1017,$B121,'Daily Log'!$CC$18:$CC$1017),0)","v":0},{"$f":"IFERROR($E121*SUMIF('Daily Log'!$CE$18:$CE$1017,$B121,'Daily Log'!$CF$18:$CF$1017),0)","v":0},{"$f":"IFERROR($E121*SUMIF('Daily Log'!$CH$18:$CH$1017,$B121,'Daily Log'!$CI$18:$CI$1017),0)","v":0},{"$f":"IFERROR($E121*SUMIF('Daily Log'!$CK$18:$CK$1017,$B121,'Daily Log'!$CL$18:$CL$1017),0)","v":0},{"$f":"IFERROR($E121*SUMIF('Daily Log'!$CN$18:$CN$1017,$B121,'Daily Log'!$CO$18:$CO$1017),0)","v":0}]
[null,"TM01 80001:CHK HAM",null,"LOK LOK",1,24,{"$f":"IFERROR($E122*SUMIF('Daily Log'!$B$18:$B$1017,$B122,'Daily Log'!$C$18:$C$1017),0)","v":0},{"$f":"IFERROR($E122*SUMIF('Daily Log'!$E$18:$E$1017,$B122,'Daily Log'!$F$18:$F$1017),0)","v":0},{"$f":"IFERROR($E122*SUMIF('Daily Log'!$H$18:$H$1017,$B122,'Daily Log'!$I$18:$I$1017),0)","v":0},{"$f":"IFERROR($E122*SUMIF('Daily Log'!$K$18:$K$1017,$B122,'Daily Log'!$L$18:$L$1017),0)","v":0},{"$f":"IFERROR($E122*SUMIF('Daily Log'!$N$18:$N$1017,$B122,'Daily Log'!$O$18:$O$1017),0)","v":0},{"$f":"IFERROR($E122*SUMIF('Daily Log'!$Q$18:$Q$1017,$B122,'Daily Log'!$R$18:$R$1017),0)","v":0},{"$f":"IFERROR($E122*SUMIF('Daily Log'!$T$18:$T$1017,$B122,'Daily Log'!$U$18:$U$1017),0)","v":0},{"$f":"IFERROR($E122*SUMIF('Daily Log'!$W$18:$W$1017,$B122,'Daily Log'!$X$18:$X$1017),0)","v":0},{"$f":"IFERROR($E122*SUMIF('Daily Log'!$Z$18:$Z$1017,$B122,'Daily Log'!$AA$18:$AA$1017),0)","v":0},{"$f":"IFERROR($E122*SUMIF('Daily Log'!$AC$18:$AC$1017,$B122,'Daily Log'!$AD$18:$AD$1017),0)","v":0},{"$f":"IFERROR($E122*SUMIF('Daily Log'!$AF$18:$AF$1017,$B122,'Daily Log'!$AG$18:$AG$1017),0)","v":0},{"$f":"IFERROR($E122*SUMIF('Daily Log'!$AI$18:$AI$1017,$B122,'Daily Log'!$AJ$18:$AJ$1017),0)","v":0},{"$f":"IFERROR($E122*SUMIF('Daily Log'!$AL$18:$AL$1017,$B122,'Daily Log'!$AM$18:$AM$1017),0)","v":0},{"$f":"IFERROR($E122*SUMIF('Daily Log'!$AO$18:$AO$1017,$B122,'Daily Log'!$AP$18:$AP$1017),0)","v":0},{"$f":"IFERROR($E122*SUMIF('Daily Log'!$AR$18:$AR$1017,$B122,'Daily Log'!$AS$18:$AS$1017),0)","v":0},{"$f":"IFERROR($E122*SUMIF('Daily Log'!$AU$18:$AU$1017,$B122,'Daily Log'!$AV$18:$AV$1017),0)","v":0},{"$f":"IFERROR($E122*SUMIF('Daily Log'!$AX$18:$AX$1017,$B122,'Daily Log'!$AY$18:$AY$1017),0)","v":0},{"$f":"IFERROR($E122*SUMIF('Daily Log'!$BA$18:$BA$1017,$B122,'Daily Log'!$BB$18:$BB$1017),0)","v":0},{"$f":"IFERROR($E122*SUMIF('Daily Log'!$BD$18:$BD$1017,$B122,'Daily Log'!$BE$18:$BE$1017),0)","v":0},{"$f":"IFERROR($E122*SUMIF('Daily Log'!$BG$18:$BG$1017,$B122,'Daily Log'!$BH$18:$BH$1017),0)","v":0},{"$f":"IFERROR($E122*SUMIF('Daily Log'!$BJ$18:$BJ$1017,$B122,'Daily Log'!$BK$18:$BK$1017),0)","v":0},{"$f":"IFERROR($E122*SUMIF('Daily Log'!$BM$18:$BM$1017,$B122,'Daily Log'!$BN$18:$BN$1017),0)","v":0},{"$f":"IFERROR($E122*SUMIF('Daily Log'!$BP$18:$BP$1017,$B122,'Daily Log'!$BQ$18:$BQ$1017),0)","v":0},{"$f":"IFERROR($E122*SUMIF('Daily Log'!$BS$18:$BS$1017,$B122,'Daily Log'!$BT$18:$BT$1017),0)","v":0},{"$f":"IFERROR($E122*SUMIF('Daily Log'!$BV$18:$BV$1017,$B122,'Daily Log'!$BW$18:$BW$1017),0)","v":0},{"$f":"IFERROR($E122*SUMIF('Daily Log'!$BY$18:$BY$1017,$B122,'Daily Log'!$BZ$18:$BZ$1017),0)","v":0},{"$f":"IFERROR($E122*SUMIF('Daily Log'!$CB$18:$CB$1017,$B122,'Daily Log'!$CC$18:$CC$1017),0)","v":0},{"$f":"IFERROR($E122*SUMIF('Daily Log'!$CE$18:$CE$1017,$B122,'Daily Log'!$CF$18:$CF$1017),0)","v":0},{"$f":"IFERROR($E122*SUMIF('Daily Log'!$CH$18:$CH$1017,$B122,'Daily Log'!$CI$18:$CI$1017),0)","v":0},{"$f":"IFERROR($E122*SUMIF('Daily Log'!$CK$18:$CK$1017,$B122,'Daily Log'!$CL$18:$CL$1017),0)","v":24},{"$f":"IFERROR($E122*SUMIF('Daily Log'!$CN$18:$CN$1017,$B122,'Daily Log'!$CO$18:$CO$1017),0)","v":0}]
[null,"TM02 80002:CHK KIDNEY",null,"LOK LOK",1,49,{"$f":"IFERROR($E123*SUMIF('Daily Log'!$B$18:$B$1017,$B123,'Daily Log'!$C$18:$C$1017),0)","v":0},{"$f":"IFERROR($E123*SUMIF('Daily Log'!$E$18:$E$1017,$B123,'Daily Log'!$F$18:$F$1017),0)","v":0},{"$f":"IFERROR($E123*SUMIF('Daily Log'!$H$18:$H$1017,$B123,'Daily Log'!$I$18:$I$1017),0)","v":0},{"$f":"IFERROR($E123*SUMIF('Daily Log'!$K$18:$K$1017,$B123,'Daily Log'!$L$18:$L$1017),0)","v":0},{"$f":"IFERROR($E123*SUMIF('Daily Log'!$N$18:$N$1017,$B123,'Daily Log'!$O$18:$O$1017),0)","v":0},{"$f":"IFERROR($E123*SUMIF('Daily Log'!$Q$18:$Q$1017,$B123,'Daily Log'!$R$18:$R$1017),0)","v":0},{"$f":"IFERROR($E123*SUMIF('Daily Log'!$T$18:$T$1017,$B123,'Daily Log'!$U$18:$U$1017),0)","v":0},{"$f":"IFERROR($E123*SUMIF('Daily Log'!$W$18:$W$1017,$B123,'Daily Log'!$X$18:$X$1017),0)","v":0},{"$f":"IFERROR($E123*SUMIF('Daily Log'!$Z$18:$Z$1017,$B123,'Daily Log'!$AA$18:$AA$1017),0)","v":0},{"$f":"IFERROR($E123*SUMIF('Daily Log'!$AC$18:$AC$1017,$B123,'Daily Log'!$AD$18:$AD$1017),0)","v":0},{"$f":"IFERROR($E123*SUMIF('Daily Log'!$AF$18:$AF$1017,$B123,'Daily Log'!$AG$18:$AG$1017),0)","v":0},{"$f":"IFERROR($E123*SUMIF('Daily Log'!$AI$18:$AI$1017,$B123,'Daily Log'!$AJ$18:$AJ$1017),0)","v":0},{"$f":"IFERROR($E123*SUMIF('Daily Log'!$AL$18:$AL$1017,$B123,'Daily Log'!$AM$18:$AM$1017),0)","v":0},{"$f":"IFERROR($E123*SUMIF('Daily Log'!$AO$18:$AO$1017,$B123,'Daily Log'!$AP$18:$AP$1017),0)","v":0},{"$f":"IFERROR($E123*SUMIF('Daily Log'!$AR$18:$AR$1017,$B123,'Daily Log'!$AS$18:$AS$1017),0)","v":0},{"$f":"IFERROR($E123*SUMIF('Daily Log'!$AU$18:$AU$1017,$B123,'Daily Log'!$AV$18:$AV$1017),0)","v":0},{"$f":"IFERROR($E123*SUMIF('Daily Log'!$AX$18:$AX$1017,$B123,'Daily Log'!$AY$18:$AY$1017),0)","v":0},{"$f":"IFERROR($E123*SUMIF('Daily Log'!$BA$18:$BA$1017,$B123,'Daily Log'!$BB$18:$BB$1017),0)","v":0},{"$f":"IFERROR($E123*SUMIF('Daily Log'!$BD$18:$BD$1017,$B123,'Daily Log'!$BE$18:$BE$1017),0)","v":0},{"$f":"IFERROR($E123*SUMIF('Daily Log'!$BG$18:$BG$1017,$B123,'Daily Log'!$BH$18:$BH$1017),0)","v":0},{"$f":"IFERROR($E123*SUMIF('Daily Log'!$BJ$18:$BJ$1017,$B123,'Daily Log'!$BK$18:$BK$1017),0)","v":0},{"$f":"IFERROR($E123*SUMIF('Daily Log'!$BM$18:$BM$1017,$B123,'Daily Log'!$BN$18:$BN$1017),0)","v":0},{"$f":"IFERROR($E123*SUMIF('Daily Log'!$BP$18:$BP$1017,$B123,'Daily Log'!$BQ$18:$BQ$1017),0)","v":0},{"$f":"IFERROR($E123*SUMIF('Daily Log'!$BS$18:$BS$1017,$B123,'Daily Log'!$BT$18:$BT$1017),0)","v":0},{"$f":"IFERROR($E123*SUMIF('Daily Log'!$BV$18:$BV$1017,$B123,'Daily Log'!$BW$18:$BW$1017),0)","v":0},{"$f":"IFERROR($E123*SUMIF('Daily Log'!$BY$18:$BY$1017,$B123,'Daily Log'!$BZ$18:$BZ$1017),0)","v":0},{"$f":"IFERROR($E123*SUMIF('Daily Log'!$CB$18:$CB$1017,$B123,'Daily Log'!$CC$18:$CC$1017),0)","v":0},{"$f":"IFERROR($E123*SUMIF('Daily Log'!$CE$18:$CE$1017,$B123,'Daily Log'!$CF$18:$CF$1017),0)","v":0},{"$f":"IFERROR($E123*SUMIF('Daily Log'!$CH$18:$CH$1017,$B123,'Daily Log'!$CI$18:$CI$1017),0)","v":0},{"$f":"IFERROR($E123*SUMIF('Daily Log'!$CK$18:$CK$1017,$B123,'Daily Log'!$CL$18:$CL$1017),0)","v":49},{"$f":"IFERROR($E123*SUMIF('Daily Log'!$CN$18:$CN$1017,$B123,'Daily Log'!$CO$18:$CO$1017),0)","v":0}]
[null,"TM03 80003:COC SAUSG",null,"LOK LOK",1,25,{"$f":"IFERROR($E124*SUMIF('Daily Log'!$B$18:$B$1017,$B124,'Daily Log'!$C$18:$C$1017),0)","v":0},{"$f":"IFERROR($E124*SUMIF('Daily Log'!$E$18:$E$1017,$B124,'Daily Log'!$F$18:$F$1017),0)","v":0},{"$f":"IFERROR($E124*SUMIF('Daily Log'!$H$18:$H$1017,$B124,'Daily Log'!$I$18:$I$1017),0)","v":0},{"$f":"IFERROR($E124*SUMIF('Daily Log'!$K$18:$K$1017,$B124,'Daily Log'!$L$18:$L$1017),0)","v":0},{"$f":"IFERROR($E124*SUMIF('Daily Log'!$N$18:$N$1017,$B124,'Daily Log'!$O$18:$O$1017),0)","v":0},{"$f":"IFERROR($E124*SUMIF('Daily Log'!$Q$18:$Q$1017,$B124,'Daily Log'!$R$18:$R$1017),0)","v":0},{"$f":"IFERROR($E124*SUMIF('Daily Log'!$T$18:$T$1017,$B124,'Daily Log'!$U$18:$U$1017),0)","v":0},{"$f":"IFERROR($E124*SUMIF('Daily Log'!$W$18:$W$1017,$B124,'Daily Log'!$X$18:$X$1017),0)","v":0},{"$f":"IFERROR($E124*SUMIF('Daily Log'!$Z$18:$Z$1017,$B124,'Daily Log'!$AA$18:$AA$1017),0)","v":0},{"$f":"IFERROR($E124*SUMIF('Daily Log'!$AC$18:$AC$1017,$B124,'Daily Log'!$AD$18:$AD$1017),0)","v":0},{"$f":"IFERROR($E124*SUMIF('Daily Log'!$AF$18:$AF$1017,$B124,'Daily Log'!$AG$18:$AG$1017),0)","v":0},{"$f":"IFERROR($E124*SUMIF('Daily Log'!$AI$18:$AI$1017,$B124,'Daily Log'!$AJ$18:$AJ$1017),0)","v":0},{"$f":"IFERROR($E124*SUMIF('Daily Log'!$AL$18:$AL$1017,$B124,'Daily Log'!$AM$18:$AM$1017),0)","v":0},{"$f":"IFERROR($E124*SUMIF('Daily Log'!$AO$18:$AO$1017,$B124,'Daily Log'!$AP$18:$AP$1017),0)","v":0},{"$f":"IFERROR($E124*SUMIF('Daily Log'!$AR$18:$AR$1017,$B124,'Daily Log'!$AS$18:$AS$1017),0)","v":0},{"$f":"IFERROR($E124*SUMIF('Daily Log'!$AU$18:$AU$1017,$B124,'Daily Log'!$AV$18:$AV$1017),0)","v":0},{"$f":"IFERROR($E124*SUMIF('Daily Log'!$AX$18:$AX$1017,$B124,'Daily Log'!$AY$18:$AY$1017),0)","v":0},{"$f":"IFERROR($E124*SUMIF('Daily Log'!$BA$18:$BA$1017,$B124,'Daily Log'!$BB$18:$BB$1017),0)","v":0},{"$f":"IFERROR($E124*SUMIF('Daily Log'!$BD$18:$BD$1017,$B124,'Daily Log'!$BE$18:$BE$1017),0)","v":0},{"$f":"IFERROR($E124*SUMIF('Daily Log'!$BG$18:$BG$1017,$B124,'Daily Log'!$BH$18:$BH$1017),0)","v":0},{"$f":"IFERROR($E124*SUMIF('Daily Log'!$BJ$18:$BJ$1017,$B124,'Daily Log'!$BK$18:$BK$1017),0)","v":0},{"$f":"IFERROR($E124*SUMIF('Daily Log'!$BM$18:$BM$1017,$B124,'Daily Log'!$BN$18:$BN$1017),0)","v":0},{"$f":"IFERROR($E124*SUMIF('Daily Log'!$BP$18:$BP$1017,$B124,'Daily Log'!$BQ$18:$BQ$1017),0)","v":0},{"$f":"IFERROR($E124*SUMIF('Daily Log'!$BS$18:$BS$1017,$B124,'Daily Log'!$BT$18:$BT$1017),0)","v":0},{"$f":"IFERROR($E124*SUMIF('Daily Log'!$BV$18:$BV$1017,$B124,'Daily Log'!$BW$18:$BW$1017),0)","v":0},{"$f":"IFERROR($E124*SUMIF('Daily Log'!$BY$18:$BY$1017,$B124,'Daily Log'!$BZ$18:$BZ$1017),0)","v":0},{"$f":"IFERROR($E124*SUMIF('Daily Log'!$CB$18:$CB$1017,$B124,'Daily Log'!$CC$18:$CC$1017),0)","v":0},{"$f":"IFERROR($E124*SUMIF('Daily Log'!$CE$18:$CE$1017,$B124,'Daily Log'!$CF$18:$CF$1017),0)","v":0},{"$f":"IFERROR($E124*SUMIF('Daily Log'!$CH$18:$CH$1017,$B124,'Daily Log'!$CI$18:$CI$1017),0)","v":0},{"$f":"IFERROR($E124*SUMIF('Daily Log'!$CK$18:$CK$1017,$B124,'Daily Log'!$CL$18:$CL$1017),0)","v":25},{"$f":"IFERROR($E124*SUMIF('Daily Log'!$CN$18:$CN$1017,$B124,'Daily Log'!$CO$18:$CO$1017),0)","v":0}]
[null,"TM04 80004:CHK SAUSG",null,"LOK LOK",1,14,{"$f":"IFERROR($E125*SUMIF('Daily Log'!$B$18:$B$1017,$B125,'Daily Log'!$C$18:$C$1017),0)","v":0},{"$f":"IFERROR($E125*SUMIF('Daily Log'!$E$18:$E$1017,$B125,'Daily Log'!$F$18:$F$1017),0)","v":0},{"$f":"IFERROR($E125*SUMIF('Daily Log'!$H$18:$H$1017,$B125,'Daily Log'!$I$18:$I$1017),0)","v":0},{"$f":"IFERROR($E125*SUMIF('Daily Log'!$K$18:$K$1017,$B125,'Daily Log'!$L$18:$L$1017),0)","v":0},{"$f":"IFERROR($E125*SUMIF('Daily Log'!$N$18:$N$1017,$B125,'Daily Log'!$O$18:$O$1017),0)","v":0},{"$f":"IFERROR($E125*SUMIF('Daily Log'!$Q$18:$Q$1017,$B125,'Daily Log'!$R$18:$R$1017),0)","v":0},{"$f":"IFERROR($E125*SUMIF('Daily Log'!$T$18:$T$1017,$B125,'Daily Log'!$U$18:$U$1017),0)","v":0},{"$f":"IFERROR($E125*SUMIF('Daily Log'!$W$18:$W$1017,$B125,'Daily Log'!$X$18:$X$1017),0)","v":0},{"$f":"IFERROR($E125*SUMIF('Daily Log'!$Z$18:$Z$1017,$B125,'Daily Log'!$AA$18:$AA$1017),0)","v":0},{"$f":"IFERROR($E125*SUMIF('Daily Log'!$AC$18:$AC$1017,$B125,'Daily Log'!$AD$18:$AD$1017),0)","v":0},{"$f":"IFERROR($E125*SUMIF('Daily Log'!$AF$18:$AF$1017,$B125,'Daily Log'!$AG$18:$AG$1017),0)","v":0},{"$f":"IFERROR($E125*SUMIF('Daily Log'!$AI$18:$AI$1017,$B125,'Daily Log'!$AJ$18:$AJ$1017),0)","v":0},{"$f":"IFERROR($E125*SUMIF('Daily Log'!$AL$18:$AL$1017,$B125,'Daily Log'!$AM$18:$AM$1017),0)","v":0},{"$f":"IFERROR($E125*SUMIF('Daily Log'!$AO$18:$AO$1017,$B125,'Daily Log'!$AP$18:$AP$1017),0)","v":0},{"$f":"IFERROR($E125*SUMIF('Daily Log'!$AR$18:$AR$1017,$B125,'Daily Log'!$AS$18:$AS$1017),0)","v":0},{"$f":"IFERROR($E125*SUMIF('Daily Log'!$AU$18:$AU$1017,$B125,'Daily Log'!$AV$18:$AV$1017),0)","v":0},{"$f":"IFERROR($E125*SUMIF('Daily Log'!$AX$18:$AX$1017,$B125,'Daily Log'!$AY$18:$AY$1017),0)","v":0},{"$f":"IFERROR($E125*SUMIF('Daily Log'!$BA$18:$BA$1017,$B125,'Daily Log'!$BB$18:$BB$1017),0)","v":0},{"$f":"IFERROR($E125*SUMIF('Daily Log'!$BD$18:$BD$1017,$B125,'Daily Log'!$BE$18:$BE$1017),0)","v":0},{"$f":"IFERROR($E125*SUMIF('Daily Log'!$BG$18:$BG$1017,$B125,'Daily Log'!$BH$18:$BH$1017),0)","v":0},{"$f":"IFERROR($E125*SUMIF('Daily Log'!$BJ$18:$BJ$1017,$B125,'Daily Log'!$BK$18:$BK$1017),0)","v":0},{"$f":"IFERROR($E125*SUMIF('Daily Log'!$BM$18:$BM$1017,$B125,'Daily Log'!$BN$18:$BN$1017),0)","v":0},{"$f":"IFERROR($E125*SUMIF('Daily Log'!$BP$18:$BP$1017,$B125,'Daily Log'!$BQ$18:$BQ$1017),0)","v":0},{"$f":"IFERROR($E125*SUMIF('Daily Log'!$BS$18:$BS$1017,$B125,'Daily Log'!$BT$18:$BT$1017),0)","v":0},{"$f":"IFERROR($E125*SUMIF('Daily Log'!$BV$18:$BV$1017,$B125,'Daily Log'!$BW$18:$BW$1017),0)","v":0},{"$f":"IFERROR($E125*SUMIF('Daily Log'!$BY$18:$BY$1017,$B125,'Daily Log'!$BZ$18:$BZ$1017),0)","v":0},{"$f":"IFERROR($E125*SUMIF('Daily Log'!$CB$18:$CB$1017,$B125,'Daily Log'!$CC$18:$CC$1017),0)","v":0},{"$f":"IFERROR($E125*SUMIF('Daily Log'!$CE$18:$CE$1017,$B125,'Daily Log'!$CF$18:$CF$1017),0)","v":0},{"$f":"IFERROR($E125*SUMIF('Daily Log'!$CH$18:$CH$1017,$B125,'Daily Log'!$CI$18:$CI$1017),0)","v":0},{"$f":"IFERROR($E125*SUMIF('Daily Log'!$CK$18:$CK$1017,$B125,'Daily Log'!$CL$18:$CL$1017),0)","v":14},{"$f":"IFERROR($E125*SUMIF('Daily Log'!$CN$18:$CN$1017,$B125,'Daily Log'!$CO$18:$CO$1017),0)","v":0}]
[null,"TM05 80005:HAM&BEAN",null,"LOK LOK",1,{"$f":"SUM($G126:$AK126)","v":28},{"$f":"IFERROR($E126*SUMIF('Daily Log'!$B$18:$B$1017,$B126,'Daily Log'!$C$18:$C$1017),0)","v":0},{"$f":"IFERROR($E126*SUMIF('Daily Log'!$E$18:$E$1017,$B126,'Daily Log'!$F$18:$F$1017),0)","v":0},{"$f":"IFERROR($E126*SUMIF('Daily Log'!$H$18:$H$1017,$B126,'Daily Log'!$I$18:$I$1017),0)","v":0},{"$f":"IFERROR($E126*SUMIF('Daily Log'!$K$18:$K$1017,$B126,'Daily Log'!$L$18:$L$1017),0)","v":0},{"$f":"IFERROR($E126*SUMIF('Daily Log'!$N$18:$N$1017,$B126,'Daily Log'!$O$18:$O$1017),0)","v":0},{"$f":"IFERROR($E126*SUMIF('Daily Log'!$Q$18:$Q$1017,$B126,'Daily Log'!$R$18:$R$1017),0)","v":0},{"$f":"IFERROR($E126*SUMIF('Daily Log'!$T$18:$T$1017,$B126,'Daily Log'!$U$18:$U$1017),0)","v":0},{"$f":"IFERROR($E126*SUMIF('Daily Log'!$W$18:$W$1017,$B126,'Daily Log'!$X$18:$X$1017),0)","v":0},{"$f":"IFERROR($E126*SUMIF('Daily Log'!$Z$18:$Z$1017,$B126,'Daily Log'!$AA$18:$AA$1017),0)","v":0},{"$f":"IFERROR($E126*SUMIF('Daily Log'!$AC$18:$AC$1017,$B126,'Daily Log'!$AD$18:$AD$1017),0)","v":0},{"$f":"IFERROR($E126*SUMIF('Daily Log'!$AF$18:$AF$1017,$B126,'Daily Log'!$AG$18:$AG$1017),0)","v":0},{"$f":"IFERROR($E126*SUMIF('Daily Log'!$AI$18:$AI$1017,$B126,'Daily Log'!$AJ$18:$AJ$1017),0)","v":0},{"$f":"IFERROR($E126*SUMIF('Daily Log'!$AL$18:$AL$1017,$B126,'Daily Log'!$AM$18:$AM$1017),0)","v":0},{"$f":"IFERROR($E126*SUMIF('Daily Log'!$AO$18:$AO$1017,$B126,'Daily Log'!$AP$18:$AP$1017),0)","v":0},{"$f":"IFERROR($E126*SUMIF('Daily Log'!$AR$18:$AR$1017,$B126,'Daily Log'!$AS$18:$AS$1017),0)","v":0},{"$f":"IFERROR($E126*SUMIF('Daily Log'!$AU$18:$AU$1017,$B126,'Daily Log'!$AV$18:$AV$1017),0)","v":0},{"$f":"IFERROR($E126*SUMIF('Daily Log'!$AX$18:$AX$1017,$B126,'Daily Log'!$AY$18:$AY$1017),0)","v":0},{"$f":"IFERROR($E126*SUMIF('Daily Log'!$BA$18:$BA$1017,$B126,'Daily Log'!$BB$18:$BB$1017),0)","v":0},{"$f":"IFERROR($E126*SUMIF('Daily Log'!$BD$18:$BD$1017,$B126,'Daily Log'!$BE$18:$BE$1017),0)","v":0},{"$f":"IFERROR($E126*SUMIF('Daily Log'!$BG$18:$BG$1017,$B126,'Daily Log'!$BH$18:$BH$1017),0)","v":0},{"$f":"IFERROR($E126*SUMIF('Daily Log'!$BJ$18:$BJ$1017,$B126,'Daily Log'!$BK$18:$BK$1017),0)","v":0},{"$f":"IFERROR($E126*SUMIF('Daily Log'!$BM$18:$BM$1017,$B126,'Daily Log'!$BN$18:$BN$1017),0)","v":0},{"$f":"IFERROR($E126*SUMIF('Daily Log'!$BP$18:$BP$1017,$B126,'Daily Log'!$BQ$18:$BQ$1017),0)","v":0},{"$f":"IFERROR($E126*SUMIF('Daily Log'!$BS$18:$BS$1017,$B126,'Daily Log'!$BT$18:$BT$1017),0)","v":0},{"$f":"IFERROR($E126*SUMIF('Daily Log'!$BV$18:$BV$1017,$B126,'Daily Log'!$BW$18:$BW$1017),0)","v":0},{"$f":"IFERROR($E126*SUMIF('Daily Log'!$BY$18:$BY$1017,$B126,'Daily Log'!$BZ$18:$BZ$1017),0)","v":0},{"$f":"IFERROR($E126*SUMIF('Daily Log'!$CB$18:$CB$1017,$B126,'Daily Log'!$CC$18:$CC$1017),0)","v":0},{"$f":"IFERROR($E126*SUMIF('Daily Log'!$CE$18:$CE$1017,$B126,'Daily Log'!$CF$18:$CF$1017),0)","v":0},{"$f":"IFERROR($E126*SUMIF('Daily Log'!$CH$18:$CH$1017,$B126,'Daily Log'!$CI$18:$CI$1017),0)","v":0},{"$f":"IFERROR($E126*SUMIF('Daily Log'!$CK$18:$CK$1017,$B126,'Daily Log'!$CL$18:$CL$1017),0)","v":28},{"$f":"IFERROR($E126*SUMIF('Daily Log'!$CN$18:$CN$1017,$B126,'Daily Log'!$CO$18:$CO$1017),0)","v":0}]
[null,"TM06 80006:CHK WING",null,"LOK LOK",1,67,{"$f":"IFERROR($E127*SUMIF('Daily Log'!$B$18:$B$1017,$B127,'Daily Log'!$C$18:$C$1017),0)","v":0},{"$f":"IFERROR($E127*SUMIF('Daily Log'!$E$18:$E$1017,$B127,'Daily Log'!$F$18:$F$1017),0)","v":0},{"$f":"IFERROR($E127*SUMIF('Daily Log'!$H$18:$H$1017,$B127,'Daily Log'!$I$18:$I$1017),0)","v":0},{"$f":"IFERROR($E127*SUMIF('Daily Log'!$K$18:$K$1017,$B127,'Daily Log'!$L$18:$L$1017),0)","v":0},{"$f":"IFERROR($E127*SUMIF('Daily Log'!$N$18:$N$1017,$B127,'Daily Log'!$O$18:$O$1017),0)","v":0},{"$f":"IFERROR($E127*SUMIF('Daily Log'!$Q$18:$Q$1017,$B127,'Daily Log'!$R$18:$R$1017),0)","v":0},{"$f":"IFERROR($E127*SUMIF('Daily Log'!$T$18:$T$1017,$B127,'Daily Log'!$U$18:$U$1017),0)","v":0},{"$f":"IFERROR($E127*SUMIF('Daily Log'!$W$18:$W$1017,$B127,'Daily Log'!$X$18:$X$1017),0)","v":0},{"$f":"IFERROR($E127*SUMIF('Daily Log'!$Z$18:$Z$1017,$B127,'Daily Log'!$AA$18:$AA$1017),0)","v":0},{"$f":"IFERROR($E127*SUMIF('Daily Log'!$AC$18:$AC$1017,$B127,'Daily Log'!$AD$18:$AD$1017),0)","v":0},{"$f":"IFERROR($E127*SUMIF('Daily Log'!$AF$18:$AF$1017,$B127,'Daily Log'!$AG$18:$AG$1017),0)","v":0},{"$f":"IFERROR($E127*SUMIF('Daily Log'!$AI$18:$AI$1017,$B127,'Daily Log'!$AJ$18:$AJ$1017),0)","v":0},{"$f":"IFERROR($E127*SUMIF('Daily Log'!$AL$18:$AL$1017,$B127,'Daily Log'!$AM$18:$AM$1017),0)","v":0},{"$f":"IFERROR($E127*SUMIF('Daily Log'!$AO$18:$AO$1017,$B127,'Daily Log'!$AP$18:$AP$1017),0)","v":0},{"$f":"IFERROR($E127*SUMIF('Daily Log'!$AR$18:$AR$1017,$B127,'Daily Log'!$AS$18:$AS$1017),0)","v":0},{"$f":"IFERROR($E127*SUMIF('Daily Log'!$AU$18:$AU$1017,$B127,'Daily Log'!$AV$18:$AV$1017),0)","v":0},{"$f":"IFERROR($E127*SUMIF('Daily Log'!$AX$18:$AX$1017,$B127,'Daily Log'!$AY$18:$AY$1017),0)","v":0},{"$f":"IFERROR($E127*SUMIF('Daily Log'!$BA$18:$BA$1017,$B127,'Daily Log'!$BB$18:$BB$1017),0)","v":0},{"$f":"IFERROR($E127*SUMIF('Daily Log'!$BD$18:$BD$1017,$B127,'Daily Log'!$BE$18:$BE$1017),0)","v":0},{"$f":"IFERROR($E127*SUMIF('Daily Log'!$BG$18:$BG$1017,$B127,'Daily Log'!$BH$18:$BH$1017),0)","v":0},{"$f":"IFERROR($E127*SUMIF('Daily Log'!$BJ$18:$BJ$1017,$B127,'Daily Log'!$BK$18:$BK$1017),0)","v":0},{"$f":"IFERROR($E127*SUMIF('Daily Log'!$BM$18:$BM$1017,$B127,'Daily Log'!$BN$18:$BN$1017),0)","v":0},{"$f":"IFERROR($E127*SUMIF('Daily Log'!$BP$18:$BP$1017,$B127,'Daily Log'!$BQ$18:$BQ$1017),0)","v":0},{"$f":"IFERROR($E127*SUMIF('Daily Log'!$BS$18:$BS$1017,$B127,'Daily Log'!$BT$18:$BT$1017),0)","v":0},{"$f":"IFERROR($E127*SUMIF('Daily Log'!$BV$18:$BV$1017,$B127,'Daily Log'!$BW$18:$BW$1017),0)","v":0},{"$f":"IFERROR($E127*SUMIF('Daily Log'!$BY$18:$BY$1017,$B127,'Daily Log'!$BZ$18:$BZ$1017),0)","v":0},{"$f":"IFERROR($E127*SUMIF('Daily Log'!$CB$18:$CB$1017,$B127,'Daily Log'!$CC$18:$CC$1017),0)","v":0},{"$f":"IFERROR($E127*SUMIF('Daily Log'!$CE$18:$CE$1017,$B127,'Daily Log'!$CF$18:$CF$1017),0)","v":0},{"$f":"IFERROR($E127*SUMIF('Daily Log'!$CH$18:$CH$1017,$B127,'Daily Log'!$CI$18:$CI$1017),0)","v":0},{"$f":"IFERROR($E127*SUMIF('Daily Log'!$CK$18:$CK$1017,$B127,'Daily Log'!$CL$18:$CL$1017),0)","v":67},{"$f":"IFERROR($E127*SUMIF('Daily Log'!$CN$18:$CN$1017,$B127,'Daily Log'!$CO$18:$CO$1017),0)","v":0}]
[null,"TM07 80007:CHEE H DOG",null,"LOK LOK",1,51,{"$f":"IFERROR($E128*SUMIF('Daily Log'!$B$18:$B$1017,$B128,'Daily Log'!$C$18:$C$1017),0)","v":0},{"$f":"IFERROR($E128*SUMIF('Daily Log'!$E$18:$E$1017,$B128,'Daily Log'!$F$18:$F$1017),0)","v":0},{"$f":"IFERROR($E128*SUMIF('Daily Log'!$H$18:$H$1017,$B128,'Daily Log'!$I$18:$I$1017),0)","v":0},{"$f":"IFERROR($E128*SUMIF('Daily Log'!$K$18:$K$1017,$B128,'Daily Log'!$L$18:$L$1017),0)","v":0},{"$f":"IFERROR($E128*SUMIF('Daily Log'!$N$18:$N$1017,$B128,'Daily Log'!$O$18:$O$1017),0)","v":0},{"$f":"IFERROR($E128*SUMIF('Daily Log'!$Q$18:$Q$1017,$B128,'Daily Log'!$R$18:$R$1017),0)","v":0},{"$f":"IFERROR($E128*SUMIF('Daily Log'!$T$18:$T$1017,$B128,'Daily Log'!$U$18:$U$1017),0)","v":0},{"$f":"IFERROR($E128*SUMIF('Daily Log'!$W$18:$W$1017,$B128,'Daily Log'!$X$18:$X$1017),0)","v":0},{"$f":"IFERROR($E128*SUMIF('Daily Log'!$Z$18:$Z$1017,$B128,'Daily Log'!$AA$18:$AA$1017),0)","v":0},{"$f":"IFERROR($E128*SUMIF('Daily Log'!$AC$18:$AC$1017,$B128,'Daily Log'!$AD$18:$AD$1017),0)","v":0},{"$f":"IFERROR($E128*SUMIF('Daily Log'!$AF$18:$AF$1017,$B128,'Daily Log'!$AG$18:$AG$1017),0)","v":0},{"$f":"IFERROR($E128*SUMIF('Daily Log'!$AI$18:$AI$1017,$B128,'Daily Log'!$AJ$18:$AJ$1017),0)","v":0},{"$f":"IFERROR($E128*SUMIF('Daily Log'!$AL$18:$AL$1017,$B128,'Daily Log'!$AM$18:$AM$1017),0)","v":0},{"$f":"IFERROR($E128*SUMIF('Daily Log'!$AO$18:$AO$1017,$B128,'Daily Log'!$AP$18:$AP$1017),0)","v":0},{"$f":"IFERROR($E128*SUMIF('Daily Log'!$AR$18:$AR$1017,$B128,'Daily Log'!$AS$18:$AS$1017),0)","v":0},{"$f":"IFERROR($E128*SUMIF('Daily Log'!$AU$18:$AU$1017,$B128,'Daily Log'!$AV$18:$AV$1017),0)","v":0},{"$f":"IFERROR($E128*SUMIF('Daily Log'!$AX$18:$AX$1017,$B128,'Daily Log'!$AY$18:$AY$1017),0)","v":0},{"$f":"IFERROR($E128*SUMIF('Daily Log'!$BA$18:$BA$1017,$B128,'Daily Log'!$BB$18:$BB$1017),0)","v":0},{"$f":"IFERROR($E128*SUMIF('Daily Log'!$BD$18:$BD$1017,$B128,'Daily Log'!$BE$18:$BE$1017),0)","v":0},{"$f":"IFERROR($E128*SUMIF('Daily Log'!$BG$18:$BG$1017,$B128,'Daily Log'!$BH$18:$BH$1017),0)","v":0},{"$f":"IFERROR($E128*SUMIF('Daily Log'!$BJ$18:$BJ$1017,$B128,'Daily Log'!$BK$18:$BK$1017),0)","v":0},{"$f":"IFERROR($E128*SUMIF('Daily Log'!$BM$18:$BM$1017,$B128,'Daily Log'!$BN$18:$BN$1017),0)","v":0},{"$f":"IFERROR($E128*SUMIF('Daily Log'!$BP$18:$BP$1017,$B128,'Daily Log'!$BQ$18:$BQ$1017),0)","v":0},{"$f":"IFERROR($E128*SUMIF('Daily Log'!$BS$18:$BS$1017,$B128,'Daily Log'!$BT$18:$BT$1017),0)","v":0},{"$f":"IFERROR($E128*SUMIF('Daily Log'!$BV$18:$BV$1017,$B128,'Daily Log'!$BW$18:$BW$1017),0)","v":0},{"$f":"IFERROR($E128*SUMIF('Daily Log'!$BY$18:$BY$1017,$B128,'Daily Log'!$BZ$18:$BZ$1017),0)","v":0},{"$f":"IFERROR($E128*SUMIF('Daily Log'!$CB$18:$CB$1017,$B128,'Daily Log'!$CC$18:$CC$1017),0)","v":0},{"$f":"IFERROR($E128*SUMIF('Daily Log'!$CE$18:$CE$1017,$B128,'Daily Log'!$CF$18:$CF$1017),0)","v":0},{"$f":"IFERROR($E128*SUMIF('Daily Log'!$CH$18:$CH$1017,$B128,'Daily Log'!$CI$18:$CI$1017),0)","v":0},{"$f":"IFERROR($E128*SUMIF('Daily Log'!$CK$18:$CK$1017,$B128,'Daily Log'!$CL$18:$CL$1017),0)","v":51},{"$f":"IFERROR($E128*SUMIF('Daily Log'!$CN$18:$CN$1017,$B128,'Daily Log'!$CO$18:$CO$1017),0)","v":0}]
[null,"TM08 80008:TRK STICK",null,"LOK LOK",1,4,{"$f":"IFERROR($E129*SUMIF('Daily Log'!$B$18:$B$1017,$B129,'Daily Log'!$C$18:$C$1017),0)","v":0},{"$f":"IFERROR($E129*SUMIF('Daily Log'!$E$18:$E$1017,$B129,'Daily Log'!$F$18:$F$1017),0)","v":0},{"$f":"IFERROR($E129*SUMIF('Daily Log'!$H$18:$H$1017,$B129,'Daily Log'!$I$18:$I$1017),0)","v":0},{"$f":"IFERROR($E129*SUMIF('Daily Log'!$K$18:$K$1017,$B129,'Daily Log'!$L$18:$L$1017),0)","v":0},{"$f":"IFERROR($E129*SUMIF('Daily Log'!$N$18:$N$1017,$B129,'Daily Log'!$O$18:$O$1017),0)","v":0},{"$f":"IFERROR($E129*SUMIF('Daily Log'!$Q$18:$Q$1017,$B129,'Daily Log'!$R$18:$R$1017),0)","v":0},{"$f":"IFERROR($E129*SUMIF('Daily Log'!$T$18:$T$1017,$B129,'Daily Log'!$U$18:$U$1017),0)","v":0},{"$f":"IFERROR($E129*SUMIF('Daily Log'!$W$18:$W$1017,$B129,'Daily Log'!$X$18:$X$1017),0)","v":0},{"$f":"IFERROR($E129*SUMIF('Daily Log'!$Z$18:$Z$1017,$B129,'Daily Log'!$AA$18:$AA$1017),0)","v":0},{"$f":"IFERROR($E129*SUMIF('Daily Log'!$AC$18:$AC$1017,$B129,'Daily Log'!$AD$18:$AD$1017),0)","v":0},{"$f":"IFERROR($E129*SUMIF('Daily Log'!$AF$18:$AF$1017,$B129,'Daily Log'!$AG$18:$AG$1017),0)","v":0},{"$f":"IFERROR($E129*SUMIF('Daily Log'!$AI$18:$AI$1017,$B129,'Daily Log'!$AJ$18:$AJ$1017),0)","v":0},{"$f":"IFERROR($E129*SUMIF('Daily Log'!$AL$18:$AL$1017,$B129,'Daily Log'!$AM$18:$AM$1017),0)","v":0},{"$f":"IFERROR($E129*SUMIF('Daily Log'!$AO$18:$AO$1017,$B129,'Daily Log'!$AP$18:$AP$1017),0)","v":0},{"$f":"IFERROR($E129*SUMIF('Daily Log'!$AR$18:$AR$1017,$B129,'Daily Log'!$AS$18:$AS$1017),0)","v":0},{"$f":"IFERROR($E129*SUMIF('Daily Log'!$AU$18:$AU$1017,$B129,'Daily Log'!$AV$18:$AV$1017),0)","v":0},{"$f":"IFERROR($E129*SUMIF('Daily Log'!$AX$18:$AX$1017,$B129,'Daily Log'!$AY$18:$AY$1017),0)","v":0},{"$f":"IFERROR($E129*SUMIF('Daily Log'!$BA$18:$BA$1017,$B129,'Daily Log'!$BB$18:$BB$1017),0)","v":0},{"$f":"IFERROR($E129*SUMIF('Daily Log'!$BD$18:$BD$1017,$B129,'Daily Log'!$BE$18:$BE$1017),0)","v":0},{"$f":"IFERROR($E129*SUMIF('Daily Log'!$BG$18:$BG$1017,$B129,'Daily Log'!$BH$18:$BH$1017),0)","v":0},{"$f":"IFERROR($E129*SUMIF('Daily Log'!$BJ$18:$BJ$1017,$B129,'Daily Log'!$BK$18:$BK$1017),0)","v":0},{"$f":"IFERROR($E129*SUMIF('Daily Log'!$BM$18:$BM$1017,$B129,'Daily Log'!$BN$18:$BN$1017),0)","v":0},{"$f":"IFERROR($E129*SUMIF('Daily Log'!$BP$18:$BP$1017,$B129,'Daily Log'!$BQ$18:$BQ$1017),0)","v":0},{"$f":"IFERROR($E129*SUMIF('Daily Log'!$BS$18:$BS$1017,$B129,'Daily Log'!$BT$18:$BT$1017),0)","v":0},{"$f":"IFERROR($E129*SUMIF('Daily Log'!$BV$18:$BV$1017,$B129,'Daily Log'!$BW$18:$BW$1017),0)","v":0},{"$f":"IFERROR($E129*SUMIF('Daily Log'!$BY$18:$BY$1017,$B129,'Daily Log'!$BZ$18:$BZ$1017),0)","v":0},{"$f":"IFERROR($E129*SUMIF('Daily Log'!$CB$18:$CB$1017,$B129,'Daily Log'!$CC$18:$CC$1017),0)","v":0},{"$f":"IFERROR($E129*SUMIF('Daily Log'!$CE$18:$CE$1017,$B129,'Daily Log'!$CF$18:$CF$1017),0)","v":0},{"$f":"IFERROR($E129*SUMIF('Daily Log'!$CH$18:$CH$1017,$B129,'Daily Log'!$CI$18:$CI$1017),0)","v":0},{"$f":"IFERROR($E129*SUMIF('Daily Log'!$CK$18:$CK$1017,$B129,'Daily Log'!$CL$18:$CL$1017),0)","v":4},{"$f":"IFERROR($E129*SUMIF('Daily Log'!$CN$18:$CN$1017,$B129,'Daily Log'!$CO$18:$CO$1017),0)","v":0}]
[null,"TM09 80009:CHEE HAM",null,"LOK LOK",1,56,{"$f":"IFERROR($E130*SUMIF('Daily Log'!$B$18:$B$1017,$B130,'Daily Log'!$C$18:$C$1017),0)","v":0},{"$f":"IFERROR($E130*SUMIF('Daily Log'!$E$18:$E$1017,$B130,'Daily Log'!$F$18:$F$1017),0)","v":0},{"$f":"IFERROR($E130*SUMIF('Daily Log'!$H$18:$H$1017,$B130,'Daily Log'!$I$18:$I$1017),0)","v":0},{"$f":"IFERROR($E130*SUMIF('Daily Log'!$K$18:$K$1017,$B130,'Daily Log'!$L$18:$L$1017),0)","v":0},{"$f":"IFERROR($E130*SUMIF('Daily Log'!$N$18:$N$1017,$B130,'Daily Log'!$O$18:$O$1017),0)","v":0},{"$f":"IFERROR($E130*SUMIF('Daily Log'!$Q$18:$Q$1017,$B130,'Daily Log'!$R$18:$R$1017),0)","v":0},{"$f":"IFERROR($E130*SUMIF('Daily Log'!$T$18:$T$1017,$B130,'Daily Log'!$U$18:$U$1017),0)","v":0},{"$f":"IFERROR($E130*SUMIF('Daily Log'!$W$18:$W$1017,$B130,'Daily Log'!$X$18:$X$1017),0)","v":0},{"$f":"IFERROR($E130*SUMIF('Daily Log'!$Z$18:$Z$1017,$B130,'Daily Log'!$AA$18:$AA$1017),0)","v":0},{"$f":"IFERROR($E130*SUMIF('Daily Log'!$AC$18:$AC$1017,$B130,'Daily Log'!$AD$18:$AD$1017),0)","v":0},{"$f":"IFERROR($E130*SUMIF('Daily Log'!$AF$18:$AF$1017,$B130,'Daily Log'!$AG$18:$AG$1017),0)","v":0},{"$f":"IFERROR($E130*SUMIF('Daily Log'!$AI$18:$AI$1017,$B130,'Daily Log'!$AJ$18:$AJ$1017),0)","v":0},{"$f":"IFERROR($E130*SUMIF('Daily Log'!$AL$18:$AL$1017,$B130,'Daily Log'!$AM$18:$AM$1017),0)","v":0},{"$f":"IFERROR($E130*SUMIF('Daily Log'!$AO$18:$AO$1017,$B130,'Daily Log'!$AP$18:$AP$1017),0)","v":0},{"$f":"IFERROR($E130*SUMIF('Daily Log'!$AR$18:$AR$1017,$B130,'Daily Log'!$AS$18:$AS$1017),0)","v":0},{"$f":"IFERROR($E130*SUMIF('Daily Log'!$AU$18:$AU$1017,$B130,'Daily Log'!$AV$18:$AV$1017),0)","v":0},{"$f":"IFERROR($E130*SUMIF('Daily Log'!$AX$18:$AX$1017,$B130,'Daily Log'!$AY$18:$AY$1017),0)","v":0},{"$f":"IFERROR($E130*SUMIF('Daily Log'!$BA$18:$BA$1017,$B130,'Daily Log'!$BB$18:$BB$1017),0)","v":0},{"$f":"IFERROR($E130*SUMIF('Daily Log'!$BD$18:$BD$1017,$B130,'Daily Log'!$BE$18:$BE$1017),0)","v":0},{"$f":"IFERROR($E130*SUMIF('Daily Log'!$BG$18:$BG$1017,$B130,'Daily Log'!$BH$18:$BH$1017),0)","v":0},{"$f":"IFERROR($E130*SUMIF('Daily Log'!$BJ$18:$BJ$1017,$B130,'Daily Log'!$BK$18:$BK$1017),0)","v":0},{"$f":"IFERROR($E130*SUMIF('Daily Log'!$BM$18:$BM$1017,$B130,'Daily Log'!$BN$18:$BN$1017),0)","v":0},{"$f":"IFERROR($E130*SUMIF('Daily Log'!$BP$18:$BP$1017,$B130,'Daily Log'!$BQ$18:$BQ$1017),0)","v":0},{"$f":"IFERROR($E130*SUMIF('Daily Log'!$BS$18:$BS$1017,$B130,'Daily Log'!$BT$18:$BT$1017),0)","v":0},{"$f":"IFERROR($E130*SUMIF('Daily Log'!$BV$18:$BV$1017,$B130,'Daily Log'!$BW$18:$BW$1017),0)","v":0},{"$f":"IFERROR($E130*SUMIF('Daily Log'!$BY$18:$BY$1017,$B130,'Daily Log'!$BZ$18:$BZ$1017),0)","v":0},{"$f":"IFERROR($E130*SUMIF('Daily Log'!$CB$18:$CB$1017,$B130,'Daily Log'!$CC$18:$CC$1017),0)","v":0},{"$f":"IFERROR($E130*SUMIF('Daily Log'!$CE$18:$CE$1017,$B130,'Daily Log'!$CF$18:$CF$1017),0)","v":0},{"$f":"IFERROR($E130*SUMIF('Daily Log'!$CH$18:$CH$1017,$B130,'Daily Log'!$CI$18:$CI$1017),0)","v":0},{"$f":"IFERROR($E130*SUMIF('Daily Log'!$CK$18:$CK$1017,$B130,'Daily Log'!$CL$18:$CL$1017),0)","v":56},{"$f":"IFERROR($E130*SUMIF('Daily Log'!$CN$18:$CN$1017,$B130,'Daily Log'!$CO$18:$CO$1017),0)","v":0}]
[null,"TM10 80010:CRAB HAM",null,"LOK LOK",1,19,{"$f":"IFERROR($E131*SUMIF('Daily Log'!$B$18:$B$1017,$B131,'Daily Log'!$C$18:$C$1017),0)","v":0},{"$f":"IFERROR($E131*SUMIF('Daily Log'!$E$18:$E$1017,$B131,'Daily Log'!$F$18:$F$1017),0)","v":0},{"$f":"IFERROR($E131*SUMIF('Daily Log'!$H$18:$H$1017,$B131,'Daily Log'!$I$18:$I$1017),0)","v":0},{"$f":"IFERROR($E131*SUMIF('Daily Log'!$K$18:$K$1017,$B131,'Daily Log'!$L$18:$L$1017),0)","v":0},{"$f":"IFERROR($E131*SUMIF('Daily Log'!$N$18:$N$1017,$B131,'Daily Log'!$O$18:$O$1017),0)","v":0},{"$f":"IFERROR($E131*SUMIF('Daily Log'!$Q$18:$Q$1017,$B131,'Daily Log'!$R$18:$R$1017),0)","v":0},{"$f":"IFERROR($E131*SUMIF('Daily Log'!$T$18:$T$1017,$B131,'Daily Log'!$U$18:$U$1017),0)","v":0},{"$f":"IFERROR($E131*SUMIF('Daily Log'!$W$18:$W$1017,$B131,'Daily Log'!$X$18:$X$1017),0)","v":0},{"$f":"IFERROR($E131*SUMIF('Daily Log'!$Z$18:$Z$1017,$B131,'Daily Log'!$AA$18:$AA$1017),0)","v":0},{"$f":"IFERROR($E131*SUMIF('Daily Log'!$AC$18:$AC$1017,$B131,'Daily Log'!$AD$18:$AD$1017),0)","v":0},{"$f":"IFERROR($E131*SUMIF('Daily Log'!$AF$18:$AF$1017,$B131,'Daily Log'!$AG$18:$AG$1017),0)","v":0},{"$f":"IFERROR($E131*SUMIF('Daily Log'!$AI$18:$AI$1017,$B131,'Daily Log'!$AJ$18:$AJ$1017),0)","v":0},{"$f":"IFERROR($E131*SUMIF('Daily Log'!$AL$18:$AL$1017,$B131,'Daily Log'!$AM$18:$AM$1017),0)","v":0},{"$f":"IFERROR($E131*SUMIF('Daily Log'!$AO$18:$AO$1017,$B131,'Daily Log'!$AP$18:$AP$1017),0)","v":0},{"$f":"IFERROR($E131*SUMIF('Daily Log'!$AR$18:$AR$1017,$B131,'Daily Log'!$AS$18:$AS$1017),0)","v":0},{"$f":"IFERROR($E131*SUMIF('Daily Log'!$AU$18:$AU$1017,$B131,'Daily Log'!$AV$18:$AV$1017),0)","v":0},{"$f":"IFERROR($E131*SUMIF('Daily Log'!$AX$18:$AX$1017,$B131,'Daily Log'!$AY$18:$AY$1017),0)","v":0},{"$f":"IFERROR($E131*SUMIF('Daily Log'!$BA$18:$BA$1017,$B131,'Daily Log'!$BB$18:$BB$1017),0)","v":0},{"$f":"IFERROR($E131*SUMIF('Daily Log'!$BD$18:$BD$1017,$B131,'Daily Log'!$BE$18:$BE$1017),0)","v":0},{"$f":"IFERROR($E131*SUMIF('Daily Log'!$BG$18:$BG$1017,$B131,'Daily Log'!$BH$18:$BH$1017),0)","v":0},{"$f":"IFERROR($E131*SUMIF('Daily Log'!$BJ$18:$BJ$1017,$B131,'Daily Log'!$BK$18:$BK$1017),0)","v":0},{"$f":"IFERROR($E131*SUMIF('Daily Log'!$BM$18:$BM$1017,$B131,'Daily Log'!$BN$18:$BN$1017),0)","v":0},{"$f":"IFERROR($E131*SUMIF('Daily Log'!$BP$18:$BP$1017,$B131,'Daily Log'!$BQ$18:$BQ$1017),0)","v":0},{"$f":"IFERROR($E131*SUMIF('Daily Log'!$BS$18:$BS$1017,$B131,'Daily Log'!$BT$18:$BT$1017),0)","v":0},{"$f":"IFERROR($E131*SUMIF('Daily Log'!$BV$18:$BV$1017,$B131,'Daily Log'!$BW$18:$BW$1017),0)","v":0},{"$f":"IFERROR($E131*SUMIF('Daily Log'!$BY$18:$BY$1017,$B131,'Daily Log'!$BZ$18:$BZ$1017),0)","v":0},{"$f":"IFERROR($E131*SUMIF('Daily Log'!$CB$18:$CB$1017,$B131,'Daily Log'!$CC$18:$CC$1017),0)","v":0},{"$f":"IFERROR($E131*SUMIF('Daily Log'!$CE$18:$CE$1017,$B131,'Daily Log'!$CF$18:$CF$1017),0)","v":0},{"$f":"IFERROR($E131*SUMIF('Daily Log'!$CH$18:$CH$1017,$B131,'Daily Log'!$CI$18:$CI$1017),0)","v":0},{"$f":"IFERROR($E131*SUMIF('Daily Log'!$CK$18:$CK$1017,$B131,'Daily Log'!$CL$18:$CL$1017),0)","v":19},{"$f":"IFERROR($E131*SUMIF('Daily Log'!$CN$18:$CN$1017,$B131,'Daily Log'!$CO$18:$CO$1017),0)","v":0}]
[null,"TM11 80011:F CHK BAL",null,"LOK LOK",1,7,{"$f":"IFERROR($E132*SUMIF('Daily Log'!$B$18:$B$1017,$B132,'Daily Log'!$C$18:$C$1017),0)","v":0},{"$f":"IFERROR($E132*SUMIF('Daily Log'!$E$18:$E$1017,$B132,'Daily Log'!$F$18:$F$1017),0)","v":0},{"$f":"IFERROR($E132*SUMIF('Daily Log'!$H$18:$H$1017,$B132,'Daily Log'!$I$18:$I$1017),0)","v":0},{"$f":"IFERROR($E132*SUMIF('Daily Log'!$K$18:$K$1017,$B132,'Daily Log'!$L$18:$L$1017),0)","v":0},{"$f":"IFERROR($E132*SUMIF('Daily Log'!$N$18:$N$1017,$B132,'Daily Log'!$O$18:$O$1017),0)","v":0},{"$f":"IFERROR($E132*SUMIF('Daily Log'!$Q$18:$Q$1017,$B132,'Daily Log'!$R$18:$R$1017),0)","v":0},{"$f":"IFERROR($E132*SUMIF('Daily Log'!$T$18:$T$1017,$B132,'Daily Log'!$U$18:$U$1017),0)","v":0},{"$f":"IFERROR($E132*SUMIF('Daily Log'!$W$18:$W$1017,$B132,'Daily Log'!$X$18:$X$1017),0)","v":0},{"$f":"IFERROR($E132*SUMIF('Daily Log'!$Z$18:$Z$1017,$B132,'Daily Log'!$AA$18:$AA$1017),0)","v":0},{"$f":"IFERROR($E132*SUMIF('Daily Log'!$AC$18:$AC$1017,$B132,'Daily Log'!$AD$18:$AD$1017),0)","v":0},{"$f":"IFERROR($E132*SUMIF('Daily Log'!$AF$18:$AF$1017,$B132,'Daily Log'!$AG$18:$AG$1017),0)","v":0},{"$f":"IFERROR($E132*SUMIF('Daily Log'!$AI$18:$AI$1017,$B132,'Daily Log'!$AJ$18:$AJ$1017),0)","v":0},{"$f":"IFERROR($E132*SUMIF('Daily Log'!$AL$18:$AL$1017,$B132,'Daily Log'!$AM$18:$AM$1017),0)","v":0},{"$f":"IFERROR($E132*SUMIF('Daily Log'!$AO$18:$AO$1017,$B132,'Daily Log'!$AP$18:$AP$1017),0)","v":0},{"$f":"IFERROR($E132*SUMIF('Daily Log'!$AR$18:$AR$1017,$B132,'Daily Log'!$AS$18:$AS$1017),0)","v":0},{"$f":"IFERROR($E132*SUMIF('Daily Log'!$AU$18:$AU$1017,$B132,'Daily Log'!$AV$18:$AV$1017),0)","v":0},{"$f":"IFERROR($E132*SUMIF('Daily Log'!$AX$18:$AX$1017,$B132,'Daily Log'!$AY$18:$AY$1017),0)","v":0},{"$f":"IFERROR($E132*SUMIF('Daily Log'!$BA$18:$BA$1017,$B132,'Daily Log'!$BB$18:$BB$1017),0)","v":0},{"$f":"IFERROR($E132*SUMIF('Daily Log'!$BD$18:$BD$1017,$B132,'Daily Log'!$BE$18:$BE$1017),0)","v":0},{"$f":"IFERROR($E132*SUMIF('Daily Log'!$BG$18:$BG$1017,$B132,'Daily Log'!$BH$18:$BH$1017),0)","v":0},{"$f":"IFERROR($E132*SUMIF('Daily Log'!$BJ$18:$BJ$1017,$B132,'Daily Log'!$BK$18:$BK$1017),0)","v":0},{"$f":"IFERROR($E132*SUMIF('Daily Log'!$BM$18:$BM$1017,$B132,'Daily Log'!$BN$18:$BN$1017),0)","v":0},{"$f":"IFERROR($E132*SUMIF('Daily Log'!$BP$18:$BP$1017,$B132,'Daily Log'!$BQ$18:$BQ$1017),0)","v":0},{"$f":"IFERROR($E132*SUMIF('Daily Log'!$BS$18:$BS$1017,$B132,'Daily Log'!$BT$18:$BT$1017),0)","v":0},{"$f":"IFERROR($E132*SUMIF('Daily Log'!$BV$18:$BV$1017,$B132,'Daily Log'!$BW$18:$BW$1017),0)","v":0},{"$f":"IFERROR($E132*SUMIF('Daily Log'!$BY$18:$BY$1017,$B132,'Daily Log'!$BZ$18:$BZ$1017),0)","v":0},{"$f":"IFERROR($E132*SUMIF('Daily Log'!$CB$18:$CB$1017,$B132,'Daily Log'!$CC$18:$CC$1017),0)","v":0},{"$f":"IFERROR($E132*SUMIF('Daily Log'!$CE$18:$CE$1017,$B132,'Daily Log'!$CF$18:$CF$1017),0)","v":0},{"$f":"IFERROR($E132*SUMIF('Daily Log'!$CH$18:$CH$1017,$B132,'Daily Log'!$CI$18:$CI$1017),0)","v":0},{"$f":"IFERROR($E132*SUMIF('Daily Log'!$CK$18:$CK$1017,$B132,'Daily Log'!$CL$18:$CL$1017),0)","v":7},{"$f":"IFERROR($E132*SUMIF('Daily Log'!$CN$18:$CN$1017,$B132,'Daily Log'!$CO$18:$CO$1017),0)","v":0}]
[null,"TM12 80012:DCK MT",null,"LOK LOK",1,52,{"$f":"IFERROR($E133*SUMIF('Daily Log'!$B$18:$B$1017,$B133,'Daily Log'!$C$18:$C$1017),0)","v":0},{"$f":"IFERROR($E133*SUMIF('Daily Log'!$E$18:$E$1017,$B133,'Daily Log'!$F$18:$F$1017),0)","v":0},{"$f":"IFERROR($E133*SUMIF('Daily Log'!$H$18:$H$1017,$B133,'Daily Log'!$I$18:$I$1017),0)","v":0},{"$f":"IFERROR($E133*SUMIF('Daily Log'!$K$18:$K$1017,$B133,'Daily Log'!$L$18:$L$1017),0)","v":0},{"$f":"IFERROR($E133*SUMIF('Daily Log'!$N$18:$N$1017,$B133,'Daily Log'!$O$18:$O$1017),0)","v":0},{"$f":"IFERROR($E133*SUMIF('Daily Log'!$Q$18:$Q$1017,$B133,'Daily Log'!$R$18:$R$1017),0)","v":0},{"$f":"IFERROR($E133*SUMIF('Daily Log'!$T$18:$T$1017,$B133,'Daily Log'!$U$18:$U$1017),0)","v":0},{"$f":"IFERROR($E133*SUMIF('Daily Log'!$W$18:$W$1017,$B133,'Daily Log'!$X$18:$X$1017),0)","v":0},{"$f":"IFERROR($E133*SUMIF('Daily Log'!$Z$18:$Z$1017,$B133,'Daily Log'!$AA$18:$AA$1017),0)","v":0},{"$f":"IFERROR($E133*SUMIF('Daily Log'!$AC$18:$AC$1017,$B133,'Daily Log'!$AD$18:$AD$1017),0)","v":0},{"$f":"IFERROR($E133*SUMIF('Daily Log'!$AF$18:$AF$1017,$B133,'Daily Log'!$AG$18:$AG$1017),0)","v":0},{"$f":"IFERROR($E133*SUMIF('Daily Log'!$AI$18:$AI$1017,$B133,'Daily Log'!$AJ$18:$AJ$1017),0)","v":0},{"$f":"IFERROR($E133*SUMIF('Daily Log'!$AL$18:$AL$1017,$B133,'Daily Log'!$AM$18:$AM$1017),0)","v":0},{"$f":"IFERROR($E133*SUMIF('Daily Log'!$AO$18:$AO$1017,$B133,'Daily Log'!$AP$18:$AP$1017),0)","v":0},{"$f":"IFERROR($E133*SUMIF('Daily Log'!$AR$18:$AR$1017,$B133,'Daily Log'!$AS$18:$AS$1017),0)","v":0},{"$f":"IFERROR($E133*SUMIF('Daily Log'!$AU$18:$AU$1017,$B133,'Daily Log'!$AV$18:$AV$1017),0)","v":0},{"$f":"IFERROR($E133*SUMIF('Daily Log'!$AX$18:$AX$1017,$B133,'Daily Log'!$AY$18:$AY$1017),0)","v":0},{"$f":"IFERROR($E133*SUMIF('Daily Log'!$BA$18:$BA$1017,$B133,'Daily Log'!$BB$18:$BB$1017),0)","v":0},{"$f":"IFERROR($E133*SUMIF('Daily Log'!$BD$18:$BD$1017,$B133,'Daily Log'!$BE$18:$BE$1017),0)","v":0},{"$f":"IFERROR($E133*SUMIF('Daily Log'!$BG$18:$BG$1017,$B133,'Daily Log'!$BH$18:$BH$1017),0)","v":0},{"$f":"IFERROR($E133*SUMIF('Daily Log'!$BJ$18:$BJ$1017,$B133,'Daily Log'!$BK$18:$BK$1017),0)","v":0},{"$f":"IFERROR($E133*SUMIF('Daily Log'!$BM$18:$BM$1017,$B133,'Daily Log'!$BN$18:$BN$1017),0)","v":0},{"$f":"IFERROR($E133*SUMIF('Daily Log'!$BP$18:$BP$1017,$B133,'Daily Log'!$BQ$18:$BQ$1017),0)","v":0},{"$f":"IFERROR($E133*SUMIF('Daily Log'!$BS$18:$BS$1017,$B133,'Daily Log'!$BT$18:$BT$1017),0)","v":0},{"$f":"IFERROR($E133*SUMIF('Daily Log'!$BV$18:$BV$1017,$B133,'Daily Log'!$BW$18:$BW$1017),0)","v":0},{"$f":"IFERROR($E133*SUMIF('Daily Log'!$BY$18:$BY$1017,$B133,'Daily Log'!$BZ$18:$BZ$1017),0)","v":0},{"$f":"IFERROR($E133*SUMIF('Daily Log'!$CB$18:$CB$1017,$B133,'Daily Log'!$CC$18:$CC$1017),0)","v":0},{"$f":"IFERROR($E133*SUMIF('Daily Log'!$CE$18:$CE$1017,$B133,'Daily Log'!$CF$18:$CF$1017),0)","v":0},{"$f":"IFERROR($E133*SUMIF('Daily Log'!$CH$18:$CH$1017,$B133,'Daily Log'!$CI$18:$CI$1017),0)","v":0},{"$f":"IFERROR($E133*SUMIF('Daily Log'!$CK$18:$CK$1017,$B133,'Daily Log'!$CL$18:$CL$1017),0)","v":52},{"$f":"IFERROR($E133*SUMIF('Daily Log'!$CN$18:$CN$1017,$B133,'Daily Log'!$CO$18:$CO$1017),0)","v":0}]
[null,"TM13 80013:SCLOP SHL",null,"LOK LOK",1,10,{"$f":"IFERROR($E134*SUMIF('Daily Log'!$B$18:$B$1017,$B134,'Daily Log'!$C$18:$C$1017),0)","v":0},{"$f":"IFERROR($E134*SUMIF('Daily Log'!$E$18:$E$1017,$B134,'Daily Log'!$F$18:$F$1017),0)","v":0},{"$f":"IFERROR($E134*SUMIF('Daily Log'!$H$18:$H$1017,$B134,'Daily Log'!$I$18:$I$1017),0)","v":0},{"$f":"IFERROR($E134*SUMIF('Daily Log'!$K$18:$K$1017,$B134,'Daily Log'!$L$18:$L$1017),0)","v":0},{"$f":"IFERROR($E134*SUMIF('Daily Log'!$N$18:$N$1017,$B134,'Daily Log'!$O$18:$O$1017),0)","v":0},{"$f":"IFERROR($E134*SUMIF('Daily Log'!$Q$18:$Q$1017,$B134,'Daily Log'!$R$18:$R$1017),0)","v":0},{"$f":"IFERROR($E134*SUMIF('Daily Log'!$T$18:$T$1017,$B134,'Daily Log'!$U$18:$U$1017),0)","v":0},{"$f":"IFERROR($E134*SUMIF('Daily Log'!$W$18:$W$1017,$B134,'Daily Log'!$X$18:$X$1017),0)","v":0},{"$f":"IFERROR($E134*SUMIF('Daily Log'!$Z$18:$Z$1017,$B134,'Daily Log'!$AA$18:$AA$1017),0)","v":0},{"$f":"IFERROR($E134*SUMIF('Daily Log'!$AC$18:$AC$1017,$B134,'Daily Log'!$AD$18:$AD$1017),0)","v":0},{"$f":"IFERROR($E134*SUMIF('Daily Log'!$AF$18:$AF$1017,$B134,'Daily Log'!$AG$18:$AG$1017),0)","v":0},{"$f":"IFERROR($E134*SUMIF('Daily Log'!$AI$18:$AI$1017,$B134,'Daily Log'!$AJ$18:$AJ$1017),0)","v":0},{"$f":"IFERROR($E134*SUMIF('Daily Log'!$AL$18:$AL$1017,$B134,'Daily Log'!$AM$18:$AM$1017),0)","v":0},{"$f":"IFERROR($E134*SUMIF('Daily Log'!$AO$18:$AO$1017,$B134,'Daily Log'!$AP$18:$AP$1017),0)","v":0},{"$f":"IFERROR($E134*SUMIF('Daily Log'!$AR$18:$AR$1017,$B134,'Daily Log'!$AS$18:$AS$1017),0)","v":0},{"$f":"IFERROR($E134*SUMIF('Daily Log'!$AU$18:$AU$1017,$B134,'Daily Log'!$AV$18:$AV$1017),0)","v":0},{"$f":"IFERROR($E134*SUMIF('Daily Log'!$AX$18:$AX$1017,$B134,'Daily Log'!$AY$18:$AY$1017),0)","v":0},{"$f":"IFERROR($E134*SUMIF('Daily Log'!$BA$18:$BA$1017,$B134,'Daily Log'!$BB$18:$BB$1017),0)","v":0},{"$f":"IFERROR($E134*SUMIF('Daily Log'!$BD$18:$BD$1017,$B134,'Daily Log'!$BE$18:$BE$1017),0)","v":0},{"$f":"IFERROR($E134*SUMIF('Daily Log'!$BG$18:$BG$1017,$B134,'Daily Log'!$BH$18:$BH$1017),0)","v":0},{"$f":"IFERROR($E134*SUMIF('Daily Log'!$BJ$18:$BJ$1017,$B134,'Daily Log'!$BK$18:$BK$1017),0)","v":0},{"$f":"IFERROR($E134*SUMIF('Daily Log'!$BM$18:$BM$1017,$B134,'Daily Log'!$BN$18:$BN$1017),0)","v":0},{"$f":"IFERROR($E134*SUMIF('Daily Log'!$BP$18:$BP$1017,$B134,'Daily Log'!$BQ$18:$BQ$1017),0)","v":0},{"$f":"IFERROR($E134*SUMIF('Daily Log'!$BS$18:$BS$1017,$B134,'Daily Log'!$BT$18:$BT$1017),0)","v":0},{"$f":"IFERROR($E134*SUMIF('Daily Log'!$BV$18:$BV$1017,$B134,'Daily Log'!$BW$18:$BW$1017),0)","v":0},{"$f":"IFERROR($E134*SUMIF('Daily Log'!$BY$18:$BY$1017,$B134,'Daily Log'!$BZ$18:$BZ$1017),0)","v":0},{"$f":"IFERROR($E134*SUMIF('Daily Log'!$CB$18:$CB$1017,$B134,'Daily Log'!$CC$18:$CC$1017),0)","v":0},{"$f":"IFERROR($E134*SUMIF('Daily Log'!$CE$18:$CE$1017,$B134,'Daily Log'!$CF$18:$CF$1017),0)","v":0},{"$f":"IFERROR($E134*SUMIF('Daily Log'!$CH$18:$CH$1017,$B134,'Daily Log'!$CI$18:$CI$1017),0)","v":0},{"$f":"IFERROR($E134*SUMIF('Daily Log'!$CK$18:$CK$1017,$B134,'Daily Log'!$CL$18:$CL$1017),0)","v":10},{"$f":"IFERROR($E134*SUMIF('Daily Log'!$CN$18:$CN$1017,$B134,'Daily Log'!$CO$18:$CO$1017),0)","v":0}]
[null,"TM14 80014:CN C SAUSG",null,"LOK LOK",1,3,{"$f":"IFERROR($E135*SUMIF('Daily Log'!$B$18:$B$1017,$B135,'Daily Log'!$C$18:$C$1017),0)","v":0},{"$f":"IFERROR($E135*SUMIF('Daily Log'!$E$18:$E$1017,$B135,'Daily Log'!$F$18:$F$1017),0)","v":0},{"$f":"IFERROR($E135*SUMIF('Daily Log'!$H$18:$H$1017,$B135,'Daily Log'!$I$18:$I$1017),0)","v":0},{"$f":"IFERROR($E135*SUMIF('Daily Log'!$K$18:$K$1017,$B135,'Daily Log'!$L$18:$L$1017),0)","v":0},{"$f":"IFERROR($E135*SUMIF('Daily Log'!$N$18:$N$1017,$B135,'Daily Log'!$O$18:$O$1017),0)","v":0},{"$f":"IFERROR($E135*SUMIF('Daily Log'!$Q$18:$Q$1017,$B135,'Daily Log'!$R$18:$R$1017),0)","v":0},{"$f":"IFERROR($E135*SUMIF('Daily Log'!$T$18:$T$1017,$B135,'Daily Log'!$U$18:$U$1017),0)","v":0},{"$f":"IFERROR($E135*SUMIF('Daily Log'!$W$18:$W$1017,$B135,'Daily Log'!$X$18:$X$1017),0)","v":0},{"$f":"IFERROR($E135*SUMIF('Daily Log'!$Z$18:$Z$1017,$B135,'Daily Log'!$AA$18:$AA$1017),0)","v":0},{"$f":"IFERROR($E135*SUMIF('Daily Log'!$AC$18:$AC$1017,$B135,'Daily Log'!$AD$18:$AD$1017),0)","v":0},{"$f":"IFERROR($E135*SUMIF('Daily Log'!$AF$18:$AF$1017,$B135,'Daily Log'!$AG$18:$AG$1017),0)","v":0},{"$f":"IFERROR($E135*SUMIF('Daily Log'!$AI$18:$AI$1017,$B135,'Daily Log'!$AJ$18:$AJ$1017),0)","v":0},{"$f":"IFERROR($E135*SUMIF('Daily Log'!$AL$18:$AL$1017,$B135,'Daily Log'!$AM$18:$AM$1017),0)","v":0},{"$f":"IFERROR($E135*SUMIF('Daily Log'!$AO$18:$AO$1017,$B135,'Daily Log'!$AP$18:$AP$1017),0)","v":0},{"$f":"IFERROR($E135*SUMIF('Daily Log'!$AR$18:$AR$1017,$B135,'Daily Log'!$AS$18:$AS$1017),0)","v":0},{"$f":"IFERROR($E135*SUMIF('Daily Log'!$AU$18:$AU$1017,$B135,'Daily Log'!$AV$18:$AV$1017),0)","v":0},{"$f":"IFERROR($E135*SUMIF('Daily Log'!$AX$18:$AX$1017,$B135,'Daily Log'!$AY$18:$AY$1017),0)","v":0},{"$f":"IFERROR($E135*SUMIF('Daily Log'!$BA$18:$BA$1017,$B135,'Daily Log'!$BB$18:$BB$1017),0)","v":0},{"$f":"IFERROR($E135*SUMIF('Daily Log'!$BD$18:$BD$1017,$B135,'Daily Log'!$BE$18:$BE$1017),0)","v":0},{"$f":"IFERROR($E135*SUMIF('Daily Log'!$BG$18:$BG$1017,$B135,'Daily Log'!$BH$18:$BH$1017),0)","v":0},{"$f":"IFERROR($E135*SUMIF('Daily Log'!$BJ$18:$BJ$1017,$B135,'Daily Log'!$BK$18:$BK$1017),0)","v":0},{"$f":"IFERROR($E135*SUMIF('Daily Log'!$BM$18:$BM$1017,$B135,'Daily Log'!$BN$18:$BN$1017),0)","v":0},{"$f":"IFERROR($E135*SUMIF('Daily Log'!$BP$18:$BP$1017,$B135,'Daily Log'!$BQ$18:$BQ$1017),0)","v":0},{"$f":"IFERROR($E135*SUMIF('Daily Log'!$BS$18:$BS$1017,$B135,'Daily Log'!$BT$18:$BT$1017),0)","v":0},{"$f":"IFERROR($E135*SUMIF('Daily Log'!$BV$18:$BV$1017,$B135,'Daily Log'!$BW$18:$BW$1017),0)","v":0},{"$f":"IFERROR($E135*SUMIF('Daily Log'!$BY$18:$BY$1017,$B135,'Daily Log'!$BZ$18:$BZ$1017),0)","v":0},{"$f":"IFERROR($E135*SUMIF('Daily Log'!$CB$18:$CB$1017,$B135,'Daily Log'!$CC$18:$CC$1017),0)","v":0},{"$f":"IFERROR($E135*SUMIF('Daily Log'!$CE$18:$CE$1017,$B135,'Daily Log'!$CF$18:$CF$1017),0)","v":0},{"$f":"IFERROR($E135*SUMIF('Daily Log'!$CH$18:$CH$1017,$B135,'Daily Log'!$CI$18:$CI$1017),0)","v":0},{"$f":"IFERROR($E135*SUMIF('Daily Log'!$CK$18:$CK$1017,$B135,'Daily Log'!$CL$18:$CL$1017),0)","v":3},{"$f":"IFERROR($E135*SUMIF('Daily Log'!$CN$18:$CN$1017,$B135,'Daily Log'!$CO$18:$CO$1017),0)","v":0}]
[null,"TP01 80015:MT BAL",null,"LOK LOK",1,96,{"$f":"IFERROR($E136*SUMIF('Daily Log'!$B$18:$B$1017,$B136,'Daily Log'!$C$18:$C$1017),0)","v":0},{"$f":"IFERROR($E136*SUMIF('Daily Log'!$E$18:$E$1017,$B136,'Daily Log'!$F$18:$F$1017),0)","v":0},{"$f":"IFERROR($E136*SUMIF('Daily Log'!$H$18:$H$1017,$B136,'Daily Log'!$I$18:$I$1017),0)","v":0},{"$f":"IFERROR($E136*SUMIF('Daily Log'!$K$18:$K$1017,$B136,'Daily Log'!$L$18:$L$1017),0)","v":0},{"$f":"IFERROR($E136*SUMIF('Daily Log'!$N$18:$N$1017,$B136,'Daily Log'!$O$18:$O$1017),0)","v":0},{"$f":"IFERROR($E136*SUMIF('Daily Log'!$Q$18:$Q$1017,$B136,'Daily Log'!$R$18:$R$1017),0)","v":0},{"$f":"IFERROR($E136*SUMIF('Daily Log'!$T$18:$T$1017,$B136,'Daily Log'!$U$18:$U$1017),0)","v":0},{"$f":"IFERROR($E136*SUMIF('Daily Log'!$W$18:$W$1017,$B136,'Daily Log'!$X$18:$X$1017),0)","v":0},{"$f":"IFERROR($E136*SUMIF('Daily Log'!$Z$18:$Z$1017,$B136,'Daily Log'!$AA$18:$AA$1017),0)","v":0},{"$f":"IFERROR($E136*SUMIF('Daily Log'!$AC$18:$AC$1017,$B136,'Daily Log'!$AD$18:$AD$1017),0)","v":0},{"$f":"IFERROR($E136*SUMIF('Daily Log'!$AF$18:$AF$1017,$B136,'Daily Log'!$AG$18:$AG$1017),0)","v":0},{"$f":"IFERROR($E136*SUMIF('Daily Log'!$AI$18:$AI$1017,$B136,'Daily Log'!$AJ$18:$AJ$1017),0)","v":0},{"$f":"IFERROR($E136*SUMIF('Daily Log'!$AL$18:$AL$1017,$B136,'Daily Log'!$AM$18:$AM$1017),0)","v":0},{"$f":"IFERROR($E136*SUMIF('Daily Log'!$AO$18:$AO$1017,$B136,'Daily Log'!$AP$18:$AP$1017),0)","v":0},{"$f":"IFERROR($E136*SUMIF('Daily Log'!$AR$18:$AR$1017,$B136,'Daily Log'!$AS$18:$AS$1017),0)","v":0},{"$f":"IFERROR($E136*SUMIF('Daily Log'!$AU$18:$AU$1017,$B136,'Daily Log'!$AV$18:$AV$1017),0)","v":0},{"$f":"IFERROR($E136*SUMIF('Daily Log'!$AX$18:$AX$1017,$B136,'Daily Log'!$AY$18:$AY$1017),0)","v":0},{"$f":"IFERROR($E136*SUMIF('Daily Log'!$BA$18:$BA$1017,$B136,'Daily Log'!$BB$18:$BB$1017),0)","v":0},{"$f":"IFERROR($E136*SUMIF('Daily Log'!$BD$18:$BD$1017,$B136,'Daily Log'!$BE$18:$BE$1017),0)","v":0},{"$f":"IFERROR($E136*SUMIF('Daily Log'!$BG$18:$BG$1017,$B136,'Daily Log'!$BH$18:$BH$1017),0)","v":0},{"$f":"IFERROR($E136*SUMIF('Daily Log'!$BJ$18:$BJ$1017,$B136,'Daily Log'!$BK$18:$BK$1017),0)","v":0},{"$f":"IFERROR($E136*SUMIF('Daily Log'!$BM$18:$BM$1017,$B136,'Daily Log'!$BN$18:$BN$1017),0)","v":0},{"$f":"IFERROR($E136*SUMIF('Daily Log'!$BP$18:$BP$1017,$B136,'Daily Log'!$BQ$18:$BQ$1017),0)","v":0},{"$f":"IFERROR($E136*SUMIF('Daily Log'!$BS$18:$BS$1017,$B136,'Daily Log'!$BT$18:$BT$1017),0)","v":0},{"$f":"IFERROR($E136*SUMIF('Daily Log'!$BV$18:$BV$1017,$B136,'Daily Log'!$BW$18:$BW$1017),0)","v":0},{"$f":"IFERROR($E136*SUMIF('Daily Log'!$BY$18:$BY$1017,$B136,'Daily Log'!$BZ$18:$BZ$1017),0)","v":0},{"$f":"IFERROR($E136*SUMIF('Daily Log'!$CB$18:$CB$1017,$B136,'Daily Log'!$CC$18:$CC$1017),0)","v":0},{"$f":"IFERROR($E136*SUMIF('Daily Log'!$CE$18:$CE$1017,$B136,'Daily Log'!$CF$18:$CF$1017),0)","v":0},{"$f":"IFERROR($E136*SUMIF('Daily Log'!$CH$18:$CH$1017,$B136,'Daily Log'!$CI$18:$CI$1017),0)","v":0},{"$f":"IFERROR($E136*SUMIF('Daily Log'!$CK$18:$CK$1017,$B136,'Daily Log'!$CL$18:$CL$1017),0)","v":96},{"$f":"IFERROR($E136*SUMIF('Daily Log'!$CN$18:$CN$1017,$B136,'Daily Log'!$CO$18:$CO$1017),0)","v":0}]
[null,"TP02 80016:BACON",null,"LOK LOK",1,23,{"$f":"IFERROR($E137*SUMIF('Daily Log'!$B$18:$B$1017,$B137,'Daily Log'!$C$18:$C$1017),0)","v":0},{"$f":"IFERROR($E137*SUMIF('Daily Log'!$E$18:$E$1017,$B137,'Daily Log'!$F$18:$F$1017),0)","v":0},{"$f":"IFERROR($E137*SUMIF('Daily Log'!$H$18:$H$1017,$B137,'Daily Log'!$I$18:$I$1017),0)","v":0},{"$f":"IFERROR($E137*SUMIF('Daily Log'!$K$18:$K$1017,$B137,'Daily Log'!$L$18:$L$1017),0)","v":0},{"$f":"IFERROR($E137*SUMIF('Daily Log'!$N$18:$N$1017,$B137,'Daily Log'!$O$18:$O$1017),0)","v":0},{"$f":"IFERROR($E137*SUMIF('Daily Log'!$Q$18:$Q$1017,$B137,'Daily Log'!$R$18:$R$1017),0)","v":0},{"$f":"IFERROR($E137*SUMIF('Daily Log'!$T$18:$T$1017,$B137,'Daily Log'!$U$18:$U$1017),0)","v":0},{"$f":"IFERROR($E137*SUMIF('Daily Log'!$W$18:$W$1017,$B137,'Daily Log'!$X$18:$X$1017),0)","v":0},{"$f":"IFERROR($E137*SUMIF('Daily Log'!$Z$18:$Z$1017,$B137,'Daily Log'!$AA$18:$AA$1017),0)","v":0},{"$f":"IFERROR($E137*SUMIF('Daily Log'!$AC$18:$AC$1017,$B137,'Daily Log'!$AD$18:$AD$1017),0)","v":0},{"$f":"IFERROR($E137*SUMIF('Daily Log'!$AF$18:$AF$1017,$B137,'Daily Log'!$AG$18:$AG$1017),0)","v":0},{"$f":"IFERROR($E137*SUMIF('Daily Log'!$AI$18:$AI$1017,$B137,'Daily Log'!$AJ$18:$AJ$1017),0)","v":0},{"$f":"IFERROR($E137*SUMIF('Daily Log'!$AL$18:$AL$1017,$B137,'Daily Log'!$AM$18:$AM$1017),0)","v":0},{"$f":"IFERROR($E137*SUMIF('Daily Log'!$AO$18:$AO$1017,$B137,'Daily Log'!$AP$18:$AP$1017),0)","v":0},{"$f":"IFERROR($E137*SUMIF('Daily Log'!$AR$18:$AR$1017,$B137,'Daily Log'!$AS$18:$AS$1017),0)","v":0},{"$f":"IFERROR($E137*SUMIF('Daily Log'!$AU$18:$AU$1017,$B137,'Daily Log'!$AV$18:$AV$1017),0)","v":0},{"$f":"IFERROR($E137*SUMIF('Daily Log'!$AX$18:$AX$1017,$B137,'Daily Log'!$AY$18:$AY$1017),0)","v":0},{"$f":"IFERROR($E137*SUMIF('Daily Log'!$BA$18:$BA$1017,$B137,'Daily Log'!$BB$18:$BB$1017),0)","v":0},{"$f":"IFERROR($E137*SUMIF('Daily Log'!$BD$18:$BD$1017,$B137,'Daily Log'!$BE$18:$BE$1017),0)","v":0},{"$f":"IFERROR($E137*SUMIF('Daily Log'!$BG$18:$BG$1017,$B137,'Daily Log'!$BH$18:$BH$1017),0)","v":0},{"$f":"IFERROR($E137*SUMIF('Daily Log'!$BJ$18:$BJ$1017,$B137,'Daily Log'!$BK$18:$BK$1017),0)","v":0},{"$f":"IFERROR($E137*SUMIF('Daily Log'!$BM$18:$BM$1017,$B137,'Daily Log'!$BN$18:$BN$1017),0)","v":0},{"$f":"IFERROR($E137*SUMIF('Daily Log'!$BP$18:$BP$1017,$B137,'Daily Log'!$BQ$18:$BQ$1017),0)","v":0},{"$f":"IFERROR($E137*SUMIF('Daily Log'!$BS$18:$BS$1017,$B137,'Daily Log'!$BT$18:$BT$1017),0)","v":0},{"$f":"IFERROR($E137*SUMIF('Daily Log'!$BV$18:$BV$1017,$B137,'Daily Log'!$BW$18:$BW$1017),0)","v":0},{"$f":"IFERROR($E137*SUMIF('Daily Log'!$BY$18:$BY$1017,$B137,'Daily Log'!$BZ$18:$BZ$1017),0)","v":0},{"$f":"IFERROR($E137*SUMIF('Daily Log'!$CB$18:$CB$1017,$B137,'Daily Log'!$CC$18:$CC$1017),0)","v":0},{"$f":"IFERROR($E137*SUMIF('Daily Log'!$CE$18:$CE$1017,$B137,'Daily Log'!$CF$18:$CF$1017),0)","v":0},{"$f":"IFERROR($E137*SUMIF('Daily Log'!$CH$18:$CH$1017,$B137,'Daily Log'!$CI$18:$CI$1017),0)","v":0},{"$f":"IFERROR($E137*SUMIF('Daily Log'!$CK$18:$CK$1017,$B137,'Daily Log'!$CL$18:$CL$1017),0)","v":23},{"$f":"IFERROR($E137*SUMIF('Daily Log'!$CN$18:$CN$1017,$B137,'Daily Log'!$CO$18:$CO$1017),0)","v":0}]
[null,"TP03 80017:F WONTON",null,"LOK LOK",1,12,{"$f":"IFERROR($E138*SUMIF('Daily Log'!$B$18:$B$1017,$B138,'Daily Log'!$C$18:$C$1017),0)","v":0},{"$f":"IFERROR($E138*SUMIF('Daily Log'!$E$18:$E$1017,$B138,'Daily Log'!$F$18:$F$1017),0)","v":0},{"$f":"IFERROR($E138*SUMIF('Daily Log'!$H$18:$H$1017,$B138,'Daily Log'!$I$18:$I$1017),0)","v":0},{"$f":"IFERROR($E138*SUMIF('Daily Log'!$K$18:$K$1017,$B138,'Daily Log'!$L$18:$L$1017),0)","v":0},{"$f":"IFERROR($E138*SUMIF('Daily Log'!$N$18:$N$1017,$B138,'Daily Log'!$O$18:$O$1017),0)","v":0},{"$f":"IFERROR($E138*SUMIF('Daily Log'!$Q$18:$Q$1017,$B138,'Daily Log'!$R$18:$R$1017),0)","v":0},{"$f":"IFERROR($E138*SUMIF('Daily Log'!$T$18:$T$1017,$B138,'Daily Log'!$U$18:$U$1017),0)","v":0},{"$f":"IFERROR($E138*SUMIF('Daily Log'!$W$18:$W$1017,$B138,'Daily Log'!$X$18:$X$1017),0)","v":0},{"$f":"IFERROR($E138*SUMIF('Daily Log'!$Z$18:$Z$1017,$B138,'Daily Log'!$AA$18:$AA$1017),0)","v":0},{"$f":"IFERROR($E138*SUMIF('Daily Log'!$AC$18:$AC$1017,$B138,'Daily Log'!$AD$18:$AD$1017),0)","v":0},{"$f":"IFERROR($E138*SUMIF('Daily Log'!$AF$18:$AF$1017,$B138,'Daily Log'!$AG$18:$AG$1017),0)","v":0},{"$f":"IFERROR($E138*SUMIF('Daily Log'!$AI$18:$AI$1017,$B138,'Daily Log'!$AJ$18:$AJ$1017),0)","v":0},{"$f":"IFERROR($E138*SUMIF('Daily Log'!$AL$18:$AL$1017,$B138,'Daily Log'!$AM$18:$AM$1017),0)","v":0},{"$f":"IFERROR($E138*SUMIF('Daily Log'!$AO$18:$AO$1017,$B138,'Daily Log'!$AP$18:$AP$1017),0)","v":0},{"$f":"IFERROR($E138*SUMIF('Daily Log'!$AR$18:$AR$1017,$B138,'Daily Log'!$AS$18:$AS$1017),0)","v":0},{"$f":"IFERROR($E138*SUMIF('Daily Log'!$AU$18:$AU$1017,$B138,'Daily Log'!$AV$18:$AV$1017),0)","v":0},{"$f":"IFERROR($E138*SUMIF('Daily Log'!$AX$18:$AX$1017,$B138,'Daily Log'!$AY$18:$AY$1017),0)","v":0},{"$f":"IFERROR($E138*SUMIF('Daily Log'!$BA$18:$BA$1017,$B138,'Daily Log'!$BB$18:$BB$1017),0)","v":0},{"$f":"IFERROR($E138*SUMIF('Daily Log'!$BD$18:$BD$1017,$B138,'Daily Log'!$BE$18:$BE$1017),0)","v":0},{"$f":"IFERROR($E138*SUMIF('Daily Log'!$BG$18:$BG$1017,$B138,'Daily Log'!$BH$18:$BH$1017),0)","v":0},{"$f":"IFERROR($E138*SUMIF('Daily Log'!$BJ$18:$BJ$1017,$B138,'Daily Log'!$BK$18:$BK$1017),0)","v":0},{"$f":"IFERROR($E138*SUMIF('Daily Log'!$BM$18:$BM$1017,$B138,'Daily Log'!$BN$18:$BN$1017),0)","v":0},{"$f":"IFERROR($E138*SUMIF('Daily Log'!$BP$18:$BP$1017,$B138,'Daily Log'!$BQ$18:$BQ$1017),0)","v":0},{"$f":"IFERROR($E138*SUMIF('Daily Log'!$BS$18:$BS$1017,$B138,'Daily Log'!$BT$18:$BT$1017),0)","v":0},{"$f":"IFERROR($E138*SUMIF('Daily Log'!$BV$18:$BV$1017,$B138,'Daily Log'!$BW$18:$BW$1017),0)","v":0},{"$f":"IFERROR($E138*SUMIF('Daily Log'!$BY$18:$BY$1017,$B138,'Daily Log'!$BZ$18:$BZ$1017),0)","v":0},{"$f":"IFERROR($E138*SUMIF('Daily Log'!$CB$18:$CB$1017,$B138,'Daily Log'!$CC$18:$CC$1017),0)","v":0},{"$f":"IFERROR($E138*SUMIF('Daily Log'!$CE$18:$CE$1017,$B138,'Daily Log'!$CF$18:$CF$1017),0)","v":0},{"$f":"IFERROR($E138*SUMIF('Daily Log'!$CH$18:$CH$1017,$B138,'Daily Log'!$CI$18:$CI$1017),0)","v":0},{"$f":"IFERROR($E138*SUMIF('Daily Log'!$CK$18:$CK$1017,$B138,'Daily Log'!$CL$18:$CL$1017),0)","v":12},{"$f":"IFERROR($E138*SUMIF('Daily Log'!$CN$18:$CN$1017,$B138,'Daily Log'!$CO$18:$CO$1017),0)","v":0}]
[null,"TP04 80018:WX RL",null,"LOK LOK",1,26,{"$f":"IFERROR($E139*SUMIF('Daily Log'!$B$18:$B$1017,$B139,'Daily Log'!$C$18:$C$1017),0)","v":0},{"$f":"IFERROR($E139*SUMIF('Daily Log'!$E$18:$E$1017,$B139,'Daily Log'!$F$18:$F$1017),0)","v":0},{"$f":"IFERROR($E139*SUMIF('Daily Log'!$H$18:$H$1017,$B139,'Daily Log'!$I$18:$I$1017),0)","v":0},{"$f":"IFERROR($E139*SUMIF('Daily Log'!$K$18:$K$1017,$B139,'Daily Log'!$L$18:$L$1017),0)","v":0},{"$f":"IFERROR($E139*SUMIF('Daily Log'!$N$18:$N$1017,$B139,'Daily Log'!$O$18:$O$1017),0)","v":0},{"$f":"IFERROR($E139*SUMIF('Daily Log'!$Q$18:$Q$1017,$B139,'Daily Log'!$R$18:$R$1017),0)","v":0},{"$f":"IFERROR($E139*SUMIF('Daily Log'!$T$18:$T$1017,$B139,'Daily Log'!$U$18:$U$1017),0)","v":0},{"$f":"IFERROR($E139*SUMIF('Daily Log'!$W$18:$W$1017,$B139,'Daily Log'!$X$18:$X$1017),0)","v":0},{"$f":"IFERROR($E139*SUMIF('Daily Log'!$Z$18:$Z$1017,$B139,'Daily Log'!$AA$18:$AA$1017),0)","v":0},{"$f":"IFERROR($E139*SUMIF('Daily Log'!$AC$18:$AC$1017,$B139,'Daily Log'!$AD$18:$AD$1017),0)","v":0},{"$f":"IFERROR($E139*SUMIF('Daily Log'!$AF$18:$AF$1017,$B139,'Daily Log'!$AG$18:$AG$1017),0)","v":0},{"$f":"IFERROR($E139*SUMIF('Daily Log'!$AI$18:$AI$1017,$B139,'Daily Log'!$AJ$18:$AJ$1017),0)","v":0},{"$f":"IFERROR($E139*SUMIF('Daily Log'!$AL$18:$AL$1017,$B139,'Daily Log'!$AM$18:$AM$1017),0)","v":0},{"$f":"IFERROR($E139*SUMIF('Daily Log'!$AO$18:$AO$1017,$B139,'Daily Log'!$AP$18:$AP$1017),0)","v":0},{"$f":"IFERROR($E139*SUMIF('Daily Log'!$AR$18:$AR$1017,$B139,'Daily Log'!$AS$18:$AS$1017),0)","v":0},{"$f":"IFERROR($E139*SUMIF('Daily Log'!$AU$18:$AU$1017,$B139,'Daily Log'!$AV$18:$AV$1017),0)","v":0},{"$f":"IFERROR($E139*SUMIF('Daily Log'!$AX$18:$AX$1017,$B139,'Daily Log'!$AY$18:$AY$1017),0)","v":0},{"$f":"IFERROR($E139*SUMIF('Daily Log'!$BA$18:$BA$1017,$B139,'Daily Log'!$BB$18:$BB$1017),0)","v":0},{"$f":"IFERROR($E139*SUMIF('Daily Log'!$BD$18:$BD$1017,$B139,'Daily Log'!$BE$18:$BE$1017),0)","v":0},{"$f":"IFERROR($E139*SUMIF('Daily Log'!$BG$18:$BG$1017,$B139,'Daily Log'!$BH$18:$BH$1017),0)","v":0},{"$f":"IFERROR($E139*SUMIF('Daily Log'!$BJ$18:$BJ$1017,$B139,'Daily Log'!$BK$18:$BK$1017),0)","v":0},{"$f":"IFERROR($E139*SUMIF('Daily Log'!$BM$18:$BM$1017,$B139,'Daily Log'!$BN$18:$BN$1017),0)","v":0},{"$f":"IFERROR($E139*SUMIF('Daily Log'!$BP$18:$BP$1017,$B139,'Daily Log'!$BQ$18:$BQ$1017),0)","v":0},{"$f":"IFERROR($E139*SUMIF('Daily Log'!$BS$18:$BS$1017,$B139,'Daily Log'!$BT$18:$BT$1017),0)","v":0},{"$f":"IFERROR($E139*SUMIF('Daily Log'!$BV$18:$BV$1017,$B139,'Daily Log'!$BW$18:$BW$1017),0)","v":0},{"$f":"IFERROR($E139*SUMIF('Daily Log'!$BY$18:$BY$1017,$B139,'Daily Log'!$BZ$18:$BZ$1017),0)","v":0},{"$f":"IFERROR($E139*SUMIF('Daily Log'!$CB$18:$CB$1017,$B139,'Daily Log'!$CC$18:$CC$1017),0)","v":0},{"$f":"IFERROR($E139*SUMIF('Daily Log'!$CE$18:$CE$1017,$B139,'Daily Log'!$CF$18:$CF$1017),0)","v":0},{"$f":"IFERROR($E139*SUMIF('Daily Log'!$CH$18:$CH$1017,$B139,'Daily Log'!$CI$18:$CI$1017),0)","v":0},{"$f":"IFERROR($E139*SUMIF('Daily Log'!$CK$18:$CK$1017,$B139,'Daily Log'!$CL$18:$CL$1017),0)","v":26},{"$f":"IFERROR($E139*SUMIF('Daily Log'!$CN$18:$CN$1017,$B139,'Daily Log'!$CO$18:$CO$1017),0)","v":0}]
[null,"TP05 80019:DUMPLING",null,"LOK LOK",1,30,{"$f":"IFERROR($E140*SUMIF('Daily Log'!$B$18:$B$1017,$B140,'Daily Log'!$C$18:$C$1017),0)","v":0},{"$f":"IFERROR($E140*SUMIF('Daily Log'!$E$18:$E$1017,$B140,'Daily Log'!$F$18:$F$1017),0)","v":0},{"$f":"IFERROR($E140*SUMIF('Daily Log'!$H$18:$H$1017,$B140,'Daily Log'!$I$18:$I$1017),0)","v":0},{"$f":"IFERROR($E140*SUMIF('Daily Log'!$K$18:$K$1017,$B140,'Daily Log'!$L$18:$L$1017),0)","v":0},{"$f":"IFERROR($E140*SUMIF('Daily Log'!$N$18:$N$1017,$B140,'Daily Log'!$O$18:$O$1017),0)","v":0},{"$f":"IFERROR($E140*SUMIF('Daily Log'!$Q$18:$Q$1017,$B140,'Daily Log'!$R$18:$R$1017),0)","v":0},{"$f":"IFERROR($E140*SUMIF('Daily Log'!$T$18:$T$1017,$B140,'Daily Log'!$U$18:$U$1017),0)","v":0},{"$f":"IFERROR($E140*SUMIF('Daily Log'!$W$18:$W$1017,$B140,'Daily Log'!$X$18:$X$1017),0)","v":0},{"$f":"IFERROR($E140*SUMIF('Daily Log'!$Z$18:$Z$1017,$B140,'Daily Log'!$AA$18:$AA$1017),0)","v":0},{"$f":"IFERROR($E140*SUMIF('Daily Log'!$AC$18:$AC$1017,$B140,'Daily Log'!$AD$18:$AD$1017),0)","v":0},{"$f":"IFERROR($E140*SUMIF('Daily Log'!$AF$18:$AF$1017,$B140,'Daily Log'!$AG$18:$AG$1017),0)","v":0},{"$f":"IFERROR($E140*SUMIF('Daily Log'!$AI$18:$AI$1017,$B140,'Daily Log'!$AJ$18:$AJ$1017),0)","v":0},{"$f":"IFERROR($E140*SUMIF('Daily Log'!$AL$18:$AL$1017,$B140,'Daily Log'!$AM$18:$AM$1017),0)","v":0},{"$f":"IFERROR($E140*SUMIF('Daily Log'!$AO$18:$AO$1017,$B140,'Daily Log'!$AP$18:$AP$1017),0)","v":0},{"$f":"IFERROR($E140*SUMIF('Daily Log'!$AR$18:$AR$1017,$B140,'Daily Log'!$AS$18:$AS$1017),0)","v":0},{"$f":"IFERROR($E140*SUMIF('Daily Log'!$AU$18:$AU$1017,$B140,'Daily Log'!$AV$18:$AV$1017),0)","v":0},{"$f":"IFERROR($E140*SUMIF('Daily Log'!$AX$18:$AX$1017,$B140,'Daily Log'!$AY$18:$AY$1017),0)","v":0},{"$f":"IFERROR($E140*SUMIF('Daily Log'!$BA$18:$BA$1017,$B140,'Daily Log'!$BB$18:$BB$1017),0)","v":0},{"$f":"IFERROR($E140*SUMIF('Daily Log'!$BD$18:$BD$1017,$B140,'Daily Log'!$BE$18:$BE$1017),0)","v":0},{"$f":"IFERROR($E140*SUMIF('Daily Log'!$BG$18:$BG$1017,$B140,'Daily Log'!$BH$18:$BH$1017),0)","v":0},{"$f":"IFERROR($E140*SUMIF('Daily Log'!$BJ$18:$BJ$1017,$B140,'Daily Log'!$BK$18:$BK$1017),0)","v":0},{"$f":"IFERROR($E140*SUMIF('Daily Log'!$BM$18:$BM$1017,$B140,'Daily Log'!$BN$18:$BN$1017),0)","v":0},{"$f":"IFERROR($E140*SUMIF('Daily Log'!$BP$18:$BP$1017,$B140,'Daily Log'!$BQ$18:$BQ$1017),0)","v":0},{"$f":"IFERROR($E140*SUMIF('Daily Log'!$BS$18:$BS$1017,$B140,'Daily Log'!$BT$18:$BT$1017),0)","v":0},{"$f":"IFERROR($E140*SUMIF('Daily Log'!$BV$18:$BV$1017,$B140,'Daily Log'!$BW$18:$BW$1017),0)","v":0},{"$f":"IFERROR($E140*SUMIF('Daily Log'!$BY$18:$BY$1017,$B140,'Daily Log'!$BZ$18:$BZ$1017),0)","v":0},{"$f":"IFERROR($E140*SUMIF('Daily Log'!$CB$18:$CB$1017,$B140,'Daily Log'!$CC$18:$CC$1017),0)","v":0},{"$f":"IFERROR($E140*SUMIF('Daily Log'!$CE$18:$CE$1017,$B140,'Daily Log'!$CF$18:$CF$1017),0)","v":0},{"$f":"IFERROR($E140*SUMIF('Daily Log'!$CH$18:$CH$1017,$B140,'Daily Log'!$CI$18:$CI$1017),0)","v":0},{"$f":"IFERROR($E140*SUMIF('Daily Log'!$CK$18:$CK$1017,$B140,'Daily Log'!$CL$18:$CL$1017),0)","v":30},{"$f":"IFERROR($E140*SUMIF('Daily Log'!$CN$18:$CN$1017,$B140,'Daily Log'!$CO$18:$CO$1017),0)","v":0}]
[null,"TP06 80020:TW SAUSG",null,"LOK LOK",1,105,{"$f":"IFERROR($E141*SUMIF('Daily Log'!$B$18:$B$1017,$B141,'Daily Log'!$C$18:$C$1017),0)","v":0},{"$f":"IFERROR($E141*SUMIF('Daily Log'!$E$18:$E$1017,$B141,'Daily Log'!$F$18:$F$1017),0)","v":0},{"$f":"IFERROR($E141*SUMIF('Daily Log'!$H$18:$H$1017,$B141,'Daily Log'!$I$18:$I$1017),0)","v":0},{"$f":"IFERROR($E141*SUMIF('Daily Log'!$K$18:$K$1017,$B141,'Daily Log'!$L$18:$L$1017),0)","v":0},{"$f":"IFERROR($E141*SUMIF('Daily Log'!$N$18:$N$1017,$B141,'Daily Log'!$O$18:$O$1017),0)","v":0},{"$f":"IFERROR($E141*SUMIF('Daily Log'!$Q$18:$Q$1017,$B141,'Daily Log'!$R$18:$R$1017),0)","v":0},{"$f":"IFERROR($E141*SUMIF('Daily Log'!$T$18:$T$1017,$B141,'Daily Log'!$U$18:$U$1017),0)","v":0},{"$f":"IFERROR($E141*SUMIF('Daily Log'!$W$18:$W$1017,$B141,'Daily Log'!$X$18:$X$1017),0)","v":0},{"$f":"IFERROR($E141*SUMIF('Daily Log'!$Z$18:$Z$1017,$B141,'Daily Log'!$AA$18:$AA$1017),0)","v":0},{"$f":"IFERROR($E141*SUMIF('Daily Log'!$AC$18:$AC$1017,$B141,'Daily Log'!$AD$18:$AD$1017),0)","v":0},{"$f":"IFERROR($E141*SUMIF('Daily Log'!$AF$18:$AF$1017,$B141,'Daily Log'!$AG$18:$AG$1017),0)","v":0},{"$f":"IFERROR($E141*SUMIF('Daily Log'!$AI$18:$AI$1017,$B141,'Daily Log'!$AJ$18:$AJ$1017),0)","v":0},{"$f":"IFERROR($E141*SUMIF('Daily Log'!$AL$18:$AL$1017,$B141,'Daily Log'!$AM$18:$AM$1017),0)","v":0},{"$f":"IFERROR($E141*SUMIF('Daily Log'!$AO$18:$AO$1017,$B141,'Daily Log'!$AP$18:$AP$1017),0)","v":0},{"$f":"IFERROR($E141*SUMIF('Daily Log'!$AR$18:$AR$1017,$B141,'Daily Log'!$AS$18:$AS$1017),0)","v":0},{"$f":"IFERROR($E141*SUMIF('Daily Log'!$AU$18:$AU$1017,$B141,'Daily Log'!$AV$18:$AV$1017),0)","v":0},{"$f":"IFERROR($E141*SUMIF('Daily Log'!$AX$18:$AX$1017,$B141,'Daily Log'!$AY$18:$AY$1017),0)","v":0},{"$f":"IFERROR($E141*SUMIF('Daily Log'!$BA$18:$BA$1017,$B141,'Daily Log'!$BB$18:$BB$1017),0)","v":0},{"$f":"IFERROR($E141*SUMIF('Daily Log'!$BD$18:$BD$1017,$B141,'Daily Log'!$BE$18:$BE$1017),0)","v":0},{"$f":"IFERROR($E141*SUMIF('Daily Log'!$BG$18:$BG$1017,$B141,'Daily Log'!$BH$18:$BH$1017),0)","v":0},{"$f":"IFERROR($E141*SUMIF('Daily Log'!$BJ$18:$BJ$1017,$B141,'Daily Log'!$BK$18:$BK$1017),0)","v":0},{"$f":"IFERROR($E141*SUMIF('Daily Log'!$BM$18:$BM$1017,$B141,'Daily Log'!$BN$18:$BN$1017),0)","v":0},{"$f":"IFERROR($E141*SUMIF('Daily Log'!$BP$18:$BP$1017,$B141,'Daily Log'!$BQ$18:$BQ$1017),0)","v":0},{"$f":"IFERROR($E141*SUMIF('Daily Log'!$BS$18:$BS$1017,$B141,'Daily Log'!$BT$18:$BT$1017),0)","v":0},{"$f":"IFERROR($E141*SUMIF('Daily Log'!$BV$18:$BV$1017,$B141,'Daily Log'!$BW$18:$BW$1017),0)","v":0},{"$f":"IFERROR($E141*SUMIF('Daily Log'!$BY$18:$BY$1017,$B141,'Daily Log'!$BZ$18:$BZ$1017),0)","v":0},{"$f":"IFERROR($E141*SUMIF('Daily Log'!$CB$18:$CB$1017,$B141,'Daily Log'!$CC$18:$CC$1017),0)","v":0},{"$f":"IFERROR($E141*SUMIF('Daily Log'!$CE$18:$CE$1017,$B141,'Daily Log'!$CF$18:$CF$1017),0)","v":0},{"$f":"IFERROR($E141*SUMIF('Daily Log'!$CH$18:$CH$1017,$B141,'Daily Log'!$CI$18:$CI$1017),0)","v":0},{"$f":"IFERROR($E141*SUMIF('Daily Log'!$CK$18:$CK$1017,$B141,'Daily Log'!$CL$18:$CL$1017),0)","v":105},{"$f":"IFERROR($E141*SUMIF('Daily Log'!$CN$18:$CN$1017,$B141,'Daily Log'!$CO$18:$CO$1017),0)","v":0}]
[null,"TP07 80021:ENA BC ROL",null,"LOK LOK",1,83,{"$f":"IFERROR($E142*SUMIF('Daily Log'!$B$18:$B$1017,$B142,'Daily Log'!$C$18:$C$1017),0)","v":0},{"$f":"IFERROR($E142*SUMIF('Daily Log'!$E$18:$E$1017,$B142,'Daily Log'!$F$18:$F$1017),0)","v":0},{"$f":"IFERROR($E142*SUMIF('Daily Log'!$H$18:$H$1017,$B142,'Daily Log'!$I$18:$I$1017),0)","v":0},{"$f":"IFERROR($E142*SUMIF('Daily Log'!$K$18:$K$1017,$B142,'Daily Log'!$L$18:$L$1017),0)","v":0},{"$f":"IFERROR($E142*SUMIF('Daily Log'!$N$18:$N$1017,$B142,'Daily Log'!$O$18:$O$1017),0)","v":0},{"$f":"IFERROR($E142*SUMIF('Daily Log'!$Q$18:$Q$1017,$B142,'Daily Log'!$R$18:$R$1017),0)","v":0},{"$f":"IFERROR($E142*SUMIF('Daily Log'!$T$18:$T$1017,$B142,'Daily Log'!$U$18:$U$1017),0)","v":0},{"$f":"IFERROR($E142*SUMIF('Daily Log'!$W$18:$W$1017,$B142,'Daily Log'!$X$18:$X$1017),0)","v":0},{"$f":"IFERROR($E142*SUMIF('Daily Log'!$Z$18:$Z$1017,$B142,'Daily Log'!$AA$18:$AA$1017),0)","v":0},{"$f":"IFERROR($E142*SUMIF('Daily Log'!$AC$18:$AC$1017,$B142,'Daily Log'!$AD$18:$AD$1017),0)","v":0},{"$f":"IFERROR($E142*SUMIF('Daily Log'!$AF$18:$AF$1017,$B142,'Daily Log'!$AG$18:$AG$1017),0)","v":0},{"$f":"IFERROR($E142*SUMIF('Daily Log'!$AI$18:$AI$1017,$B142,'Daily Log'!$AJ$18:$AJ$1017),0)","v":0},{"$f":"IFERROR($E142*SUMIF('Daily Log'!$AL$18:$AL$1017,$B142,'Daily Log'!$AM$18:$AM$1017),0)","v":0},{"$f":"IFERROR($E142*SUMIF('Daily Log'!$AO$18:$AO$1017,$B142,'Daily Log'!$AP$18:$AP$1017),0)","v":0},{"$f":"IFERROR($E142*SUMIF('Daily Log'!$AR$18:$AR$1017,$B142,'Daily Log'!$AS$18:$AS$1017),0)","v":0},{"$f":"IFERROR($E142*SUMIF('Daily Log'!$AU$18:$AU$1017,$B142,'Daily Log'!$AV$18:$AV$1017),0)","v":0},{"$f":"IFERROR($E142*SUMIF('Daily Log'!$AX$18:$AX$1017,$B142,'Daily Log'!$AY$18:$AY$1017),0)","v":0},{"$f":"IFERROR($E142*SUMIF('Daily Log'!$BA$18:$BA$1017,$B142,'Daily Log'!$BB$18:$BB$1017),0)","v":0},{"$f":"IFERROR($E142*SUMIF('Daily Log'!$BD$18:$BD$1017,$B142,'Daily Log'!$BE$18:$BE$1017),0)","v":0},{"$f":"IFERROR($E142*SUMIF('Daily Log'!$BG$18:$BG$1017,$B142,'Daily Log'!$BH$18:$BH$1017),0)","v":0},{"$f":"IFERROR($E142*SUMIF('Daily Log'!$BJ$18:$BJ$1017,$B142,'Daily Log'!$BK$18:$BK$1017),0)","v":0},{"$f":"IFERROR($E142*SUMIF('Daily Log'!$BM$18:$BM$1017,$B142,'Daily Log'!$BN$18:$BN$1017),0)","v":0},{"$f":"IFERROR($E142*SUMIF('Daily Log'!$BP$18:$BP$1017,$B142,'Daily Log'!$BQ$18:$BQ$1017),0)","v":0},{"$f":"IFERROR($E142*SUMIF('Daily Log'!$BS$18:$BS$1017,$B142,'Daily Log'!$BT$18:$BT$1017),0)","v":0},{"$f":"IFERROR($E142*SUMIF('Daily Log'!$BV$18:$BV$1017,$B142,'Daily Log'!$BW$18:$BW$1017),0)","v":0},{"$f":"IFERROR($E142*SUMIF('Daily Log'!$BY$18:$BY$1017,$B142,'Daily Log'!$BZ$18:$BZ$1017),0)","v":0},{"$f":"IFERROR($E142*SUMIF('Daily Log'!$CB$18:$CB$1017,$B142,'Daily Log'!$CC$18:$CC$1017),0)","v":0},{"$f":"IFERROR($E142*SUMIF('Daily Log'!$CE$18:$CE$1017,$B142,'Daily Log'!$CF$18:$CF$1017),0)","v":0},{"$f":"IFERROR($E142*SUMIF('Daily Log'!$CH$18:$CH$1017,$B142,'Daily Log'!$CI$18:$CI$1017),0)","v":0},{"$f":"IFERROR($E142*SUMIF('Daily Log'!$CK$18:$CK$1017,$B142,'Daily Log'!$CL$18:$CL$1017),0)","v":83},{"$f":"IFERROR($E142*SUMIF('Daily Log'!$CN$18:$CN$1017,$B142,'Daily Log'!$CO$18:$CO$1017),0)","v":0}]
[null,"TP08 80022:NAN RU MT",null,"LOK LOK",1,12,{"$f":"IFERROR($E143*SUMIF('Daily Log'!$B$18:$B$1017,$B143,'Daily Log'!$C$18:$C$1017),0)","v":0},{"$f":"IFERROR($E143*SUMIF('Daily Log'!$E$18:$E$1017,$B143,'Daily Log'!$F$18:$F$1017),0)","v":0},{"$f":"IFERROR($E143*SUMIF('Daily Log'!$H$18:$H$1017,$B143,'Daily Log'!$I$18:$I$1017),0)","v":0},{"$f":"IFERROR($E143*SUMIF('Daily Log'!$K$18:$K$1017,$B143,'Daily Log'!$L$18:$L$1017),0)","v":0},{"$f":"IFERROR($E143*SUMIF('Daily Log'!$N$18:$N$1017,$B143,'Daily Log'!$O$18:$O$1017),0)","v":0},{"$f":"IFERROR($E143*SUMIF('Daily Log'!$Q$18:$Q$1017,$B143,'Daily Log'!$R$18:$R$1017),0)","v":0},{"$f":"IFERROR($E143*SUMIF('Daily Log'!$T$18:$T$1017,$B143,'Daily Log'!$U$18:$U$1017),0)","v":0},{"$f":"IFERROR($E143*SUMIF('Daily Log'!$W$18:$W$1017,$B143,'Daily Log'!$X$18:$X$1017),0)","v":0},{"$f":"IFERROR($E143*SUMIF('Daily Log'!$Z$18:$Z$1017,$B143,'Daily Log'!$AA$18:$AA$1017),0)","v":0},{"$f":"IFERROR($E143*SUMIF('Daily Log'!$AC$18:$AC$1017,$B143,'Daily Log'!$AD$18:$AD$1017),0)","v":0},{"$f":"IFERROR($E143*SUMIF('Daily Log'!$AF$18:$AF$1017,$B143,'Daily Log'!$AG$18:$AG$1017),0)","v":0},{"$f":"IFERROR($E143*SUMIF('Daily Log'!$AI$18:$AI$1017,$B143,'Daily Log'!$AJ$18:$AJ$1017),0)","v":0},{"$f":"IFERROR($E143*SUMIF('Daily Log'!$AL$18:$AL$1017,$B143,'Daily Log'!$AM$18:$AM$1017),0)","v":0},{"$f":"IFERROR($E143*SUMIF('Daily Log'!$AO$18:$AO$1017,$B143,'Daily Log'!$AP$18:$AP$1017),0)","v":0},{"$f":"IFERROR($E143*SUMIF('Daily Log'!$AR$18:$AR$1017,$B143,'Daily Log'!$AS$18:$AS$1017),0)","v":0},{"$f":"IFERROR($E143*SUMIF('Daily Log'!$AU$18:$AU$1017,$B143,'Daily Log'!$AV$18:$AV$1017),0)","v":0},{"$f":"IFERROR($E143*SUMIF('Daily Log'!$AX$18:$AX$1017,$B143,'Daily Log'!$AY$18:$AY$1017),0)","v":0},{"$f":"IFERROR($E143*SUMIF('Daily Log'!$BA$18:$BA$1017,$B143,'Daily Log'!$BB$18:$BB$1017),0)","v":0},{"$f":"IFERROR($E143*SUMIF('Daily Log'!$BD$18:$BD$1017,$B143,'Daily Log'!$BE$18:$BE$1017),0)","v":0},{"$f":"IFERROR($E143*SUMIF('Daily Log'!$BG$18:$BG$1017,$B143,'Daily Log'!$BH$18:$BH$1017),0)","v":0},{"$f":"IFERROR($E143*SUMIF('Daily Log'!$BJ$18:$BJ$1017,$B143,'Daily Log'!$BK$18:$BK$1017),0)","v":0},{"$f":"IFERROR($E143*SUMIF('Daily Log'!$BM$18:$BM$1017,$B143,'Daily Log'!$BN$18:$BN$1017),0)","v":0},{"$f":"IFERROR($E143*SUMIF('Daily Log'!$BP$18:$BP$1017,$B143,'Daily Log'!$BQ$18:$BQ$1017),0)","v":0},{"$f":"IFERROR($E143*SUMIF('Daily Log'!$BS$18:$BS$1017,$B143,'Daily Log'!$BT$18:$BT$1017),0)","v":0},{"$f":"IFERROR($E143*SUMIF('Daily Log'!$BV$18:$BV$1017,$B143,'Daily Log'!$BW$18:$BW$1017),0)","v":0},{"$f":"IFERROR($E143*SUMIF('Daily Log'!$BY$18:$BY$1017,$B143,'Daily Log'!$BZ$18:$BZ$1017),0)","v":0},{"$f":"IFERROR($E143*SUMIF('Daily Log'!$CB$18:$CB$1017,$B143,'Daily Log'!$CC$18:$CC$1017),0)","v":0},{"$f":"IFERROR($E143*SUMIF('Daily Log'!$CE$18:$CE$1017,$B143,'Daily Log'!$CF$18:$CF$1017),0)","v":0},{"$f":"IFERROR($E143*SUMIF('Daily Log'!$CH$18:$CH$1017,$B143,'Daily Log'!$CI$18:$CI$1017),0)","v":0},{"$f":"IFERROR($E143*SUMIF('Daily Log'!$CK$18:$CK$1017,$B143,'Daily Log'!$CL$18:$CL$1017),0)","v":12},{"$f":"IFERROR($E143*SUMIF('Daily Log'!$CN$18:$CN$1017,$B143,'Daily Log'!$CO$18:$CO$1017),0)","v":0}]
[null,"TV01 80023:KANG KONG",null,"LOK LOK",1,39,{"$f":"IFERROR($E144*SUMIF('Daily Log'!$B$18:$B$1017,$B144,'Daily Log'!$C$18:$C$1017),0)","v":0},{"$f":"IFERROR($E144*SUMIF('Daily Log'!$E$18:$E$1017,$B144,'Daily Log'!$F$18:$F$1017),0)","v":0},{"$f":"IFERROR($E144*SUMIF('Daily Log'!$H$18:$H$1017,$B144,'Daily Log'!$I$18:$I$1017),0)","v":0},{"$f":"IFERROR($E144*SUMIF('Daily Log'!$K$18:$K$1017,$B144,'Daily Log'!$L$18:$L$1017),0)","v":0},{"$f":"IFERROR($E144*SUMIF('Daily Log'!$N$18:$N$1017,$B144,'Daily Log'!$O$18:$O$1017),0)","v":0},{"$f":"IFERROR($E144*SUMIF('Daily Log'!$Q$18:$Q$1017,$B144,'Daily Log'!$R$18:$R$1017),0)","v":0},{"$f":"IFERROR($E144*SUMIF('Daily Log'!$T$18:$T$1017,$B144,'Daily Log'!$U$18:$U$1017),0)","v":0},{"$f":"IFERROR($E144*SUMIF('Daily Log'!$W$18:$W$1017,$B144,'Daily Log'!$X$18:$X$1017),0)","v":0},{"$f":"IFERROR($E144*SUMIF('Daily Log'!$Z$18:$Z$1017,$B144,'Daily Log'!$AA$18:$AA$1017),0)","v":0},{"$f":"IFERROR($E144*SUMIF('Daily Log'!$AC$18:$AC$1017,$B144,'Daily Log'!$AD$18:$AD$1017),0)","v":0},{"$f":"IFERROR($E144*SUMIF('Daily Log'!$AF$18:$AF$1017,$B144,'Daily Log'!$AG$18:$AG$1017),0)","v":0},{"$f":"IFERROR($E144*SUMIF('Daily Log'!$AI$18:$AI$1017,$B144,'Daily Log'!$AJ$18:$AJ$1017),0)","v":0},{"$f":"IFERROR($E144*SUMIF('Daily Log'!$AL$18:$AL$1017,$B144,'Daily Log'!$AM$18:$AM$1017),0)","v":0},{"$f":"IFERROR($E144*SUMIF('Daily Log'!$AO$18:$AO$1017,$B144,'Daily Log'!$AP$18:$AP$1017),0)","v":0},{"$f":"IFERROR($E144*SUMIF('Daily Log'!$AR$18:$AR$1017,$B144,'Daily Log'!$AS$18:$AS$1017),0)","v":0},{"$f":"IFERROR($E144*SUMIF('Daily Log'!$AU$18:$AU$1017,$B144,'Daily Log'!$AV$18:$AV$1017),0)","v":0},{"$f":"IFERROR($E144*SUMIF('Daily Log'!$AX$18:$AX$1017,$B144,'Daily Log'!$AY$18:$AY$1017),0)","v":0},{"$f":"IFERROR($E144*SUMIF('Daily Log'!$BA$18:$BA$1017,$B144,'Daily Log'!$BB$18:$BB$1017),0)","v":0},{"$f":"IFERROR($E144*SUMIF('Daily Log'!$BD$18:$BD$1017,$B144,'Daily Log'!$BE$18:$BE$1017),0)","v":0},{"$f":"IFERROR($E144*SUMIF('Daily Log'!$BG$18:$BG$1017,$B144,'Daily Log'!$BH$18:$BH$1017),0)","v":0},{"$f":"IFERROR($E144*SUMIF('Daily Log'!$BJ$18:$BJ$1017,$B144,'Daily Log'!$BK$18:$BK$1017),0)","v":0},{"$f":"IFERROR($E144*SUMIF('Daily Log'!$BM$18:$BM$1017,$B144,'Daily Log'!$BN$18:$BN$1017),0)","v":0},{"$f":"IFERROR($E144*SUMIF('Daily Log'!$BP$18:$BP$1017,$B144,'Daily Log'!$BQ$18:$BQ$1017),0)","v":0},{"$f":"IFERROR($E144*SUMIF('Daily Log'!$BS$18:$BS$1017,$B144,'Daily Log'!$BT$18:$BT$1017),0)","v":0},{"$f":"IFERROR($E144*SUMIF('Daily Log'!$BV$18:$BV$1017,$B144,'Daily Log'!$BW$18:$BW$1017),0)","v":0},{"$f":"IFERROR($E144*SUMIF('Daily Log'!$BY$18:$BY$1017,$B144,'Daily Log'!$BZ$18:$BZ$1017),0)","v":0},{"$f":"IFERROR($E144*SUMIF('Daily Log'!$CB$18:$CB$1017,$B144,'Daily Log'!$CC$18:$CC$1017),0)","v":0},{"$f":"IFERROR($E144*SUMIF('Daily Log'!$CE$18:$CE$1017,$B144,'Daily Log'!$CF$18:$CF$1017),0)","v":0},{"$f":"IFERROR($E144*SUMIF('Daily Log'!$CH$18:$CH$1017,$B144,'Daily Log'!$CI$18:$CI$1017),0)","v":0},{"$f":"IFERROR($E144*SUMIF('Daily Log'!$CK$18:$CK$1017,$B144,'Daily Log'!$CL$18:$CL$1017),0)","v":39},{"$f":"IFERROR($E144*SUMIF('Daily Log'!$CN$18:$CN$1017,$B144,'Daily Log'!$CO$18:$CO$1017),0)","v":0}]
[null,"TV02 80024:BROCCOLI",null,"LOK LOK",1,65,{"$f":"IFERROR($E145*SUMIF('Daily Log'!$B$18:$B$1017,$B145,'Daily Log'!$C$18:$C$1017),0)","v":0},{"$f":"IFERROR($E145*SUMIF('Daily Log'!$E$18:$E$1017,$B145,'Daily Log'!$F$18:$F$1017),0)","v":0},{"$f":"IFERROR($E145*SUMIF('Daily Log'!$H$18:$H$1017,$B145,'Daily Log'!$I$18:$I$1017),0)","v":0},{"$f":"IFERROR($E145*SUMIF('Daily Log'!$K$18:$K$1017,$B145,'Daily Log'!$L$18:$L$1017),0)","v":0},{"$f":"IFERROR($E145*SUMIF('Daily Log'!$N$18:$N$1017,$B145,'Daily Log'!$O$18:$O$1017),0)","v":0},{"$f":"IFERROR($E145*SUMIF('Daily Log'!$Q$18:$Q$1017,$B145,'Daily Log'!$R$18:$R$1017),0)","v":0},{"$f":"IFERROR($E145*SUMIF('Daily Log'!$T$18:$T$1017,$B145,'Daily Log'!$U$18:$U$1017),0)","v":0},{"$f":"IFERROR($E145*SUMIF('Daily Log'!$W$18:$W$1017,$B145,'Daily Log'!$X$18:$X$1017),0)","v":0},{"$f":"IFERROR($E145*SUMIF('Daily Log'!$Z$18:$Z$1017,$B145,'Daily Log'!$AA$18:$AA$1017),0)","v":0},{"$f":"IFERROR($E145*SUMIF('Daily Log'!$AC$18:$AC$1017,$B145,'Daily Log'!$AD$18:$AD$1017),0)","v":0},{"$f":"IFERROR($E145*SUMIF('Daily Log'!$AF$18:$AF$1017,$B145,'Daily Log'!$AG$18:$AG$1017),0)","v":0},{"$f":"IFERROR($E145*SUMIF('Daily Log'!$AI$18:$AI$1017,$B145,'Daily Log'!$AJ$18:$AJ$1017),0)","v":0},{"$f":"IFERROR($E145*SUMIF('Daily Log'!$AL$18:$AL$1017,$B145,'Daily Log'!$AM$18:$AM$1017),0)","v":0},{"$f":"IFERROR($E145*SUMIF('Daily Log'!$AO$18:$AO$1017,$B145,'Daily Log'!$AP$18:$AP$1017),0)","v":0},{"$f":"IFERROR($E145*SUMIF('Daily Log'!$AR$18:$AR$1017,$B145,'Daily Log'!$AS$18:$AS$1017),0)","v":0},{"$f":"IFERROR($E145*SUMIF('Daily Log'!$AU$18:$AU$1017,$B145,'Daily Log'!$AV$18:$AV$1017),0)","v":0},{"$f":"IFERROR($E145*SUMIF('Daily Log'!$AX$18:$AX$1017,$B145,'Daily Log'!$AY$18:$AY$1017),0)","v":0},{"$f":"IFERROR($E145*SUMIF('Daily Log'!$BA$18:$BA$1017,$B145,'Daily Log'!$BB$18:$BB$1017),0)","v":0},{"$f":"IFERROR($E145*SUMIF('Daily Log'!$BD$18:$BD$1017,$B145,'Daily Log'!$BE$18:$BE$1017),0)","v":0},{"$f":"IFERROR($E145*SUMIF('Daily Log'!$BG$18:$BG$1017,$B145,'Daily Log'!$BH$18:$BH$1017),0)","v":0},{"$f":"IFERROR($E145*SUMIF('Daily Log'!$BJ$18:$BJ$1017,$B145,'Daily Log'!$BK$18:$BK$1017),0)","v":0},{"$f":"IFERROR($E145*SUMIF('Daily Log'!$BM$18:$BM$1017,$B145,'Daily Log'!$BN$18:$BN$1017),0)","v":0},{"$f":"IFERROR($E145*SUMIF('Daily Log'!$BP$18:$BP$1017,$B145,'Daily Log'!$BQ$18:$BQ$1017),0)","v":0},{"$f":"IFERROR($E145*SUMIF('Daily Log'!$BS$18:$BS$1017,$B145,'Daily Log'!$BT$18:$BT$1017),0)","v":0},{"$f":"IFERROR($E145*SUMIF('Daily Log'!$BV$18:$BV$1017,$B145,'Daily Log'!$BW$18:$BW$1017),0)","v":0},{"$f":"IFERROR($E145*SUMIF('Daily Log'!$BY$18:$BY$1017,$B145,'Daily Log'!$BZ$18:$BZ$1017),0)","v":0},{"$f":"IFERROR($E145*SUMIF('Daily Log'!$CB$18:$CB$1017,$B145,'Daily Log'!$CC$18:$CC$1017),0)","v":0},{"$f":"IFERROR($E145*SUMIF('Daily Log'!$CE$18:$CE$1017,$B145,'Daily Log'!$CF$18:$CF$1017),0)","v":0},{"$f":"IFERROR($E145*SUMIF('Daily Log'!$CH$18:$CH$1017,$B145,'Daily Log'!$CI$18:$CI$1017),0)","v":0},{"$f":"IFERROR($E145*SUMIF('Daily Log'!$CK$18:$CK$1017,$B145,'Daily Log'!$CL$18:$CL$1017),0)","v":65},{"$f":"IFERROR($E145*SUMIF('Daily Log'!$CN$18:$CN$1017,$B145,'Daily Log'!$CO$18:$CO$1017),0)","v":0}]
[null,"TV03 80025:LONG BEAN",null,"LOK LOK",1,63,{"$f":"IFERROR($E146*SUMIF('Daily Log'!$B$18:$B$1017,$B146,'Daily Log'!$C$18:$C$1017),0)","v":0},{"$f":"IFERROR($E146*SUMIF('Daily Log'!$E$18:$E$1017,$B146,'Daily Log'!$F$18:$F$1017),0)","v":0},{"$f":"IFERROR($E146*SUMIF('Daily Log'!$H$18:$H$1017,$B146,'Daily Log'!$I$18:$I$1017),0)","v":0},{"$f":"IFERROR($E146*SUMIF('Daily Log'!$K$18:$K$1017,$B146,'Daily Log'!$L$18:$L$1017),0)","v":0},{"$f":"IFERROR($E146*SUMIF('Daily Log'!$N$18:$N$1017,$B146,'Daily Log'!$O$18:$O$1017),0)","v":0},{"$f":"IFERROR($E146*SUMIF('Daily Log'!$Q$18:$Q$1017,$B146,'Daily Log'!$R$18:$R$1017),0)","v":0},{"$f":"IFERROR($E146*SUMIF('Daily Log'!$T$18:$T$1017,$B146,'Daily Log'!$U$18:$U$1017),0)","v":0},{"$f":"IFERROR($E146*SUMIF('Daily Log'!$W$18:$W$1017,$B146,'Daily Log'!$X$18:$X$1017),0)","v":0},{"$f":"IFERROR($E146*SUMIF('Daily Log'!$Z$18:$Z$1017,$B146,'Daily Log'!$AA$18:$AA$1017),0)","v":0},{"$f":"IFERROR($E146*SUMIF('Daily Log'!$AC$18:$AC$1017,$B146,'Daily Log'!$AD$18:$AD$1017),0)","v":0},{"$f":"IFERROR($E146*SUMIF('Daily Log'!$AF$18:$AF$1017,$B146,'Daily Log'!$AG$18:$AG$1017),0)","v":0},{"$f":"IFERROR($E146*SUMIF('Daily Log'!$AI$18:$AI$1017,$B146,'Daily Log'!$AJ$18:$AJ$1017),0)","v":0},{"$f":"IFERROR($E146*SUMIF('Daily Log'!$AL$18:$AL$1017,$B146,'Daily Log'!$AM$18:$AM$1017),0)","v":0},{"$f":"IFERROR($E146*SUMIF('Daily Log'!$AO$18:$AO$1017,$B146,'Daily Log'!$AP$18:$AP$1017),0)","v":0},{"$f":"IFERROR($E146*SUMIF('Daily Log'!$AR$18:$AR$1017,$B146,'Daily Log'!$AS$18:$AS$1017),0)","v":0},{"$f":"IFERROR($E146*SUMIF('Daily Log'!$AU$18:$AU$1017,$B146,'Daily Log'!$AV$18:$AV$1017),0)","v":0},{"$f":"IFERROR($E146*SUMIF('Daily Log'!$AX$18:$AX$1017,$B146,'Daily Log'!$AY$18:$AY$1017),0)","v":0},{"$f":"IFERROR($E146*SUMIF('Daily Log'!$BA$18:$BA$1017,$B146,'Daily Log'!$BB$18:$BB$1017),0)","v":0},{"$f":"IFERROR($E146*SUMIF('Daily Log'!$BD$18:$BD$1017,$B146,'Daily Log'!$BE$18:$BE$1017),0)","v":0},{"$f":"IFERROR($E146*SUMIF('Daily Log'!$BG$18:$BG$1017,$B146,'Daily Log'!$BH$18:$BH$1017),0)","v":0},{"$f":"IFERROR($E146*SUMIF('Daily Log'!$BJ$18:$BJ$1017,$B146,'Daily Log'!$BK$18:$BK$1017),0)","v":0},{"$f":"IFERROR($E146*SUMIF('Daily Log'!$BM$18:$BM$1017,$B146,'Daily Log'!$BN$18:$BN$1017),0)","v":0},{"$f":"IFERROR($E146*SUMIF('Daily Log'!$BP$18:$BP$1017,$B146,'Daily Log'!$BQ$18:$BQ$1017),0)","v":0},{"$f":"IFERROR($E146*SUMIF('Daily Log'!$BS$18:$BS$1017,$B146,'Daily Log'!$BT$18:$BT$1017),0)","v":0},{"$f":"IFERROR($E146*SUMIF('Daily Log'!$BV$18:$BV$1017,$B146,'Daily Log'!$BW$18:$BW$1017),0)","v":0},{"$f":"IFERROR($E146*SUMIF('Daily Log'!$BY$18:$BY$1017,$B146,'Daily Log'!$BZ$18:$BZ$1017),0)","v":0},{"$f":"IFERROR($E146*SUMIF('Daily Log'!$CB$18:$CB$1017,$B146,'Daily Log'!$CC$18:$CC$1017),0)","v":0},{"$f":"IFERROR($E146*SUMIF('Daily Log'!$CE$18:$CE$1017,$B146,'Daily Log'!$CF$18:$CF$1017),0)","v":0},{"$f":"IFERROR($E146*SUMIF('Daily Log'!$CH$18:$CH$1017,$B146,'Daily Log'!$CI$18:$CI$1017),0)","v":0},{"$f":"IFERROR($E146*SUMIF('Daily Log'!$CK$18:$CK$1017,$B146,'Daily Log'!$CL$18:$CL$1017),0)","v":63},{"$f":"IFERROR($E146*SUMIF('Daily Log'!$CN$18:$CN$1017,$B146,'Daily Log'!$CO$18:$CO$1017),0)","v":0}]
[null,"TV04 80026:ABALO MR",null,"LOK LOK",1,109,{"$f":"IFERROR($E147*SUMIF('Daily Log'!$B$18:$B$1017,$B147,'Daily Log'!$C$18:$C$1017),0)","v":0},{"$f":"IFERROR($E147*SUMIF('Daily Log'!$E$18:$E$1017,$B147,'Daily Log'!$F$18:$F$1017),0)","v":0},{"$f":"IFERROR($E147*SUMIF('Daily Log'!$H$18:$H$1017,$B147,'Daily Log'!$I$18:$I$1017),0)","v":0},{"$f":"IFERROR($E147*SUMIF('Daily Log'!$K$18:$K$1017,$B147,'Daily Log'!$L$18:$L$1017),0)","v":0},{"$f":"IFERROR($E147*SUMIF('Daily Log'!$N$18:$N$1017,$B147,'Daily Log'!$O$18:$O$1017),0)","v":0},{"$f":"IFERROR($E147*SUMIF('Daily Log'!$Q$18:$Q$1017,$B147,'Daily Log'!$R$18:$R$1017),0)","v":0},{"$f":"IFERROR($E147*SUMIF('Daily Log'!$T$18:$T$1017,$B147,'Daily Log'!$U$18:$U$1017),0)","v":0},{"$f":"IFERROR($E147*SUMIF('Daily Log'!$W$18:$W$1017,$B147,'Daily Log'!$X$18:$X$1017),0)","v":0},{"$f":"IFERROR($E147*SUMIF('Daily Log'!$Z$18:$Z$1017,$B147,'Daily Log'!$AA$18:$AA$1017),0)","v":0},{"$f":"IFERROR($E147*SUMIF('Daily Log'!$AC$18:$AC$1017,$B147,'Daily Log'!$AD$18:$AD$1017),0)","v":0},{"$f":"IFERROR($E147*SUMIF('Daily Log'!$AF$18:$AF$1017,$B147,'Daily Log'!$AG$18:$AG$1017),0)","v":0},{"$f":"IFERROR($E147*SUMIF('Daily Log'!$AI$18:$AI$1017,$B147,'Daily Log'!$AJ$18:$AJ$1017),0)","v":0},{"$f":"IFERROR($E147*SUMIF('Daily Log'!$AL$18:$AL$1017,$B147,'Daily Log'!$AM$18:$AM$1017),0)","v":0},{"$f":"IFERROR($E147*SUMIF('Daily Log'!$AO$18:$AO$1017,$B147,'Daily Log'!$AP$18:$AP$1017),0)","v":0},{"$f":"IFERROR($E147*SUMIF('Daily Log'!$AR$18:$AR$1017,$B147,'Daily Log'!$AS$18:$AS$1017),0)","v":0},{"$f":"IFERROR($E147*SUMIF('Daily Log'!$AU$18:$AU$1017,$B147,'Daily Log'!$AV$18:$AV$1017),0)","v":0},{"$f":"IFERROR($E147*SUMIF('Daily Log'!$AX$18:$AX$1017,$B147,'Daily Log'!$AY$18:$AY$1017),0)","v":0},{"$f":"IFERROR($E147*SUMIF('Daily Log'!$BA$18:$BA$1017,$B147,'Daily Log'!$BB$18:$BB$1017),0)","v":0},{"$f":"IFERROR($E147*SUMIF('Daily Log'!$BD$18:$BD$1017,$B147,'Daily Log'!$BE$18:$BE$1017),0)","v":0},{"$f":"IFERROR($E147*SUMIF('Daily Log'!$BG$18:$BG$1017,$B147,'Daily Log'!$BH$18:$BH$1017),0)","v":0},{"$f":"IFERROR($E147*SUMIF('Daily Log'!$BJ$18:$BJ$1017,$B147,'Daily Log'!$BK$18:$BK$1017),0)","v":0},{"$f":"IFERROR($E147*SUMIF('Daily Log'!$BM$18:$BM$1017,$B147,'Daily Log'!$BN$18:$BN$1017),0)","v":0},{"$f":"IFERROR($E147*SUMIF('Daily Log'!$BP$18:$BP$1017,$B147,'Daily Log'!$BQ$18:$BQ$1017),0)","v":0},{"$f":"IFERROR($E147*SUMIF('Daily Log'!$BS$18:$BS$1017,$B147,'Daily Log'!$BT$18:$BT$1017),0)","v":0},{"$f":"IFERROR($E147*SUMIF('Daily Log'!$BV$18:$BV$1017,$B147,'Daily Log'!$BW$18:$BW$1017),0)","v":0},{"$f":"IFERROR($E147*SUMIF('Daily Log'!$BY$18:$BY$1017,$B147,'Daily Log'!$BZ$18:$BZ$1017),0)","v":0},{"$f":"IFERROR($E147*SUMIF('Daily Log'!$CB$18:$CB$1017,$B147,'Daily Log'!$CC$18:$CC$1017),0)","v":0},{"$f":"IFERROR($E147*SUMIF('Daily Log'!$CE$18:$CE$1017,$B147,'Daily Log'!$CF$18:$CF$1017),0)","v":0},{"$f":"IFERROR($E147*SUMIF('Daily Log'!$CH$18:$CH$1017,$B147,'Daily Log'!$CI$18:$CI$1017),0)","v":0},{"$f":"IFERROR($E147*SUMIF('Daily Log'!$CK$18:$CK$1017,$B147,'Daily Log'!$CL$18:$CL$1017),0)","v":109},{"$f":"IFERROR($E147*SUMIF('Daily Log'!$CN$18:$CN$1017,$B147,'Daily Log'!$CO$18:$CO$1017),0)","v":0}]
[null,"TV05 80027:OYSTER MR",null,"LOK LOK",1,2,{"$f":"IFERROR($E148*SUMIF('Daily Log'!$B$18:$B$1017,$B148,'Daily Log'!$C$18:$C$1017),0)","v":0},{"$f":"IFERROR($E148*SUMIF('Daily Log'!$E$18:$E$1017,$B148,'Daily Log'!$F$18:$F$1017),0)","v":0},{"$f":"IFERROR($E148*SUMIF('Daily Log'!$H$18:$H$1017,$B148,'Daily Log'!$I$18:$I$1017),0)","v":0},{"$f":"IFERROR($E148*SUMIF('Daily Log'!$K$18:$K$1017,$B148,'Daily Log'!$L$18:$L$1017),0)","v":0},{"$f":"IFERROR($E148*SUMIF('Daily Log'!$N$18:$N$1017,$B148,'Daily Log'!$O$18:$O$1017),0)","v":0},{"$f":"IFERROR($E148*SUMIF('Daily Log'!$Q$18:$Q$1017,$B148,'Daily Log'!$R$18:$R$1017),0)","v":0},{"$f":"IFERROR($E148*SUMIF('Daily Log'!$T$18:$T$1017,$B148,'Daily Log'!$U$18:$U$1017),0)","v":0},{"$f":"IFERROR($E148*SUMIF('Daily Log'!$W$18:$W$1017,$B148,'Daily Log'!$X$18:$X$1017),0)","v":0},{"$f":"IFERROR($E148*SUMIF('Daily Log'!$Z$18:$Z$1017,$B148,'Daily Log'!$AA$18:$AA$1017),0)","v":0},{"$f":"IFERROR($E148*SUMIF('Daily Log'!$AC$18:$AC$1017,$B148,'Daily Log'!$AD$18:$AD$1017),0)","v":0},{"$f":"IFERROR($E148*SUMIF('Daily Log'!$AF$18:$AF$1017,$B148,'Daily Log'!$AG$18:$AG$1017),0)","v":0},{"$f":"IFERROR($E148*SUMIF('Daily Log'!$AI$18:$AI$1017,$B148,'Daily Log'!$AJ$18:$AJ$1017),0)","v":0},{"$f":"IFERROR($E148*SUMIF('Daily Log'!$AL$18:$AL$1017,$B148,'Daily Log'!$AM$18:$AM$1017),0)","v":0},{"$f":"IFERROR($E148*SUMIF('Daily Log'!$AO$18:$AO$1017,$B148,'Daily Log'!$AP$18:$AP$1017),0)","v":0},{"$f":"IFERROR($E148*SUMIF('Daily Log'!$AR$18:$AR$1017,$B148,'Daily Log'!$AS$18:$AS$1017),0)","v":0},{"$f":"IFERROR($E148*SUMIF('Daily Log'!$AU$18:$AU$1017,$B148,'Daily Log'!$AV$18:$AV$1017),0)","v":0},{"$f":"IFERROR($E148*SUMIF('Daily Log'!$AX$18:$AX$1017,$B148,'Daily Log'!$AY$18:$AY$1017),0)","v":0},{"$f":"IFERROR($E148*SUMIF('Daily Log'!$BA$18:$BA$1017,$B148,'Daily Log'!$BB$18:$BB$1017),0)","v":0},{"$f":"IFERROR($E148*SUMIF('Daily Log'!$BD$18:$BD$1017,$B148,'Daily Log'!$BE$18:$BE$1017),0)","v":0},{"$f":"IFERROR($E148*SUMIF('Daily Log'!$BG$18:$BG$1017,$B148,'Daily Log'!$BH$18:$BH$1017),0)","v":0},{"$f":"IFERROR($E148*SUMIF('Daily Log'!$BJ$18:$BJ$1017,$B148,'Daily Log'!$BK$18:$BK$1017),0)","v":0},{"$f":"IFERROR($E148*SUMIF('Daily Log'!$BM$18:$BM$1017,$B148,'Daily Log'!$BN$18:$BN$1017),0)","v":0},{"$f":"IFERROR($E148*SUMIF('Daily Log'!$BP$18:$BP$1017,$B148,'Daily Log'!$BQ$18:$BQ$1017),0)","v":0},{"$f":"IFERROR($E148*SUMIF('Daily Log'!$BS$18:$BS$1017,$B148,'Daily Log'!$BT$18:$BT$1017),0)","v":0},{"$f":"IFERROR($E148*SUMIF('Daily Log'!$BV$18:$BV$1017,$B148,'Daily Log'!$BW$18:$BW$1017),0)","v":0},{"$f":"IFERROR($E148*SUMIF('Daily Log'!$BY$18:$BY$1017,$B148,'Daily Log'!$BZ$18:$BZ$1017),0)","v":0},{"$f":"IFERROR($E148*SUMIF('Daily Log'!$CB$18:$CB$1017,$B148,'Daily Log'!$CC$18:$CC$1017),0)","v":0},{"$f":"IFERROR($E148*SUMIF('Daily Log'!$CE$18:$CE$1017,$B148,'Daily Log'!$CF$18:$CF$1017),0)","v":0},{"$f":"IFERROR($E148*SUMIF('Daily Log'!$CH$18:$CH$1017,$B148,'Daily Log'!$CI$18:$CI$1017),0)","v":0},{"$f":"IFERROR($E148*SUMIF('Daily Log'!$CK$18:$CK$1017,$B148,'Daily Log'!$CL$18:$CL$1017),0)","v":2},{"$f":"IFERROR($E148*SUMIF('Daily Log'!$CN$18:$CN$1017,$B148,'Daily Log'!$CO$18:$CO$1017),0)","v":0}]
[null,"TE01 80028:COCKLES",null,"LOK LOK",1,20,{"$f":"IFERROR($E149*SUMIF('Daily Log'!$B$18:$B$1017,$B149,'Daily Log'!$C$18:$C$1017),0)","v":0},{"$f":"IFERROR($E149*SUMIF('Daily Log'!$E$18:$E$1017,$B149,'Daily Log'!$F$18:$F$1017),0)","v":0},{"$f":"IFERROR($E149*SUMIF('Daily Log'!$H$18:$H$1017,$B149,'Daily Log'!$I$18:$I$1017),0)","v":0},{"$f":"IFERROR($E149*SUMIF('Daily Log'!$K$18:$K$1017,$B149,'Daily Log'!$L$18:$L$1017),0)","v":0},{"$f":"IFERROR($E149*SUMIF('Daily Log'!$N$18:$N$1017,$B149,'Daily Log'!$O$18:$O$1017),0)","v":0},{"$f":"IFERROR($E149*SUMIF('Daily Log'!$Q$18:$Q$1017,$B149,'Daily Log'!$R$18:$R$1017),0)","v":0},{"$f":"IFERROR($E149*SUMIF('Daily Log'!$T$18:$T$1017,$B149,'Daily Log'!$U$18:$U$1017),0)","v":0},{"$f":"IFERROR($E149*SUMIF('Daily Log'!$W$18:$W$1017,$B149,'Daily Log'!$X$18:$X$1017),0)","v":0},{"$f":"IFERROR($E149*SUMIF('Daily Log'!$Z$18:$Z$1017,$B149,'Daily Log'!$AA$18:$AA$1017),0)","v":0},{"$f":"IFERROR($E149*SUMIF('Daily Log'!$AC$18:$AC$1017,$B149,'Daily Log'!$AD$18:$AD$1017),0)","v":0},{"$f":"IFERROR($E149*SUMIF('Daily Log'!$AF$18:$AF$1017,$B149,'Daily Log'!$AG$18:$AG$1017),0)","v":0},{"$f":"IFERROR($E149*SUMIF('Daily Log'!$AI$18:$AI$1017,$B149,'Daily Log'!$AJ$18:$AJ$1017),0)","v":0},{"$f":"IFERROR($E149*SUMIF('Daily Log'!$AL$18:$AL$1017,$B149,'Daily Log'!$AM$18:$AM$1017),0)","v":0},{"$f":"IFERROR($E149*SUMIF('Daily Log'!$AO$18:$AO$1017,$B149,'Daily Log'!$AP$18:$AP$1017),0)","v":0},{"$f":"IFERROR($E149*SUMIF('Daily Log'!$AR$18:$AR$1017,$B149,'Daily Log'!$AS$18:$AS$1017),0)","v":0},{"$f":"IFERROR($E149*SUMIF('Daily Log'!$AU$18:$AU$1017,$B149,'Daily Log'!$AV$18:$AV$1017),0)","v":0},{"$f":"IFERROR($E149*SUMIF('Daily Log'!$AX$18:$AX$1017,$B149,'Daily Log'!$AY$18:$AY$1017),0)","v":0},{"$f":"IFERROR($E149*SUMIF('Daily Log'!$BA$18:$BA$1017,$B149,'Daily Log'!$BB$18:$BB$1017),0)","v":0},{"$f":"IFERROR($E149*SUMIF('Daily Log'!$BD$18:$BD$1017,$B149,'Daily Log'!$BE$18:$BE$1017),0)","v":0},{"$f":"IFERROR($E149*SUMIF('Daily Log'!$BG$18:$BG$1017,$B149,'Daily Log'!$BH$18:$BH$1017),0)","v":0},{"$f":"IFERROR($E149*SUMIF('Daily Log'!$BJ$18:$BJ$1017,$B149,'Daily Log'!$BK$18:$BK$1017),0)","v":0},{"$f":"IFERROR($E149*SUMIF('Daily Log'!$BM$18:$BM$1017,$B149,'Daily Log'!$BN$18:$BN$1017),0)","v":0},{"$f":"IFERROR($E149*SUMIF('Daily Log'!$BP$18:$BP$1017,$B149,'Daily Log'!$BQ$18:$BQ$1017),0)","v":0},{"$f":"IFERROR($E149*SUMIF('Daily Log'!$BS$18:$BS$1017,$B149,'Daily Log'!$BT$18:$BT$1017),0)","v":0},{"$f":"IFERROR($E149*SUMIF('Daily Log'!$BV$18:$BV$1017,$B149,'Daily Log'!$BW$18:$BW$1017),0)","v":0},{"$f":"IFERROR($E149*SUMIF('Daily Log'!$BY$18:$BY$1017,$B149,'Daily Log'!$BZ$18:$BZ$1017),0)","v":0},{"$f":"IFERROR($E149*SUMIF('Daily Log'!$CB$18:$CB$1017,$B149,'Daily Log'!$CC$18:$CC$1017),0)","v":0},{"$f":"IFERROR($E149*SUMIF('Daily Log'!$CE$18:$CE$1017,$B149,'Daily Log'!$CF$18:$CF$1017),0)","v":0},{"$f":"IFERROR($E149*SUMIF('Daily Log'!$CH$18:$CH$1017,$B149,'Daily Log'!$CI$18:$CI$1017),0)","v":0},{"$f":"IFERROR($E149*SUMIF('Daily Log'!$CK$18:$CK$1017,$B149,'Daily Log'!$CL$18:$CL$1017),0)","v":20},{"$f":"IFERROR($E149*SUMIF('Daily Log'!$CN$18:$CN$1017,$B149,'Daily Log'!$CO$18:$CO$1017),0)","v":0}]
[null,"TE02 80029:CTL FSH",null,"LOK LOK",1,6,{"$f":"IFERROR($E150*SUMIF('Daily Log'!$B$18:$B$1017,$B150,'Daily Log'!$C$18:$C$1017),0)","v":0},{"$f":"IFERROR($E150*SUMIF('Daily Log'!$E$18:$E$1017,$B150,'Daily Log'!$F$18:$F$1017),0)","v":0},{"$f":"IFERROR($E150*SUMIF('Daily Log'!$H$18:$H$1017,$B150,'Daily Log'!$I$18:$I$1017),0)","v":0},{"$f":"IFERROR($E150*SUMIF('Daily Log'!$K$18:$K$1017,$B150,'Daily Log'!$L$18:$L$1017),0)","v":0},{"$f":"IFERROR($E150*SUMIF('Daily Log'!$N$18:$N$1017,$B150,'Daily Log'!$O$18:$O$1017),0)","v":0},{"$f":"IFERROR($E150*SUMIF('Daily Log'!$Q$18:$Q$1017,$B150,'Daily Log'!$R$18:$R$1017),0)","v":0},{"$f":"IFERROR($E150*SUMIF('Daily Log'!$T$18:$T$1017,$B150,'Daily Log'!$U$18:$U$1017),0)","v":0},{"$f":"IFERROR($E150*SUMIF('Daily Log'!$W$18:$W$1017,$B150,'Daily Log'!$X$18:$X$1017),0)","v":0},{"$f":"IFERROR($E150*SUMIF('Daily Log'!$Z$18:$Z$1017,$B150,'Daily Log'!$AA$18:$AA$1017),0)","v":0},{"$f":"IFERROR($E150*SUMIF('Daily Log'!$AC$18:$AC$1017,$B150,'Daily Log'!$AD$18:$AD$1017),0)","v":0},{"$f":"IFERROR($E150*SUMIF('Daily Log'!$AF$18:$AF$1017,$B150,'Daily Log'!$AG$18:$AG$1017),0)","v":0},{"$f":"IFERROR($E150*SUMIF('Daily Log'!$AI$18:$AI$1017,$B150,'Daily Log'!$AJ$18:$AJ$1017),0)","v":0},{"$f":"IFERROR($E150*SUMIF('Daily Log'!$AL$18:$AL$1017,$B150,'Daily Log'!$AM$18:$AM$1017),0)","v":0},{"$f":"IFERROR($E150*SUMIF('Daily Log'!$AO$18:$AO$1017,$B150,'Daily Log'!$AP$18:$AP$1017),0)","v":0},{"$f":"IFERROR($E150*SUMIF('Daily Log'!$AR$18:$AR$1017,$B150,'Daily Log'!$AS$18:$AS$1017),0)","v":0},{"$f":"IFERROR($E150*SUMIF('Daily Log'!$AU$18:$AU$1017,$B150,'Daily Log'!$AV$18:$AV$1017),0)","v":0},{"$f":"IFERROR($E150*SUMIF('Daily Log'!$AX$18:$AX$1017,$B150,'Daily Log'!$AY$18:$AY$1017),0)","v":0},{"$f":"IFERROR($E150*SUMIF('Daily Log'!$BA$18:$BA$1017,$B150,'Daily Log'!$BB$18:$BB$1017),0)","v":0},{"$f":"IFERROR($E150*SUMIF('Daily Log'!$BD$18:$BD$1017,$B150,'Daily Log'!$BE$18:$BE$1017),0)","v":0},{"$f":"IFERROR($E150*SUMIF('Daily Log'!$BG$18:$BG$1017,$B150,'Daily Log'!$BH$18:$BH$1017),0)","v":0},{"$f":"IFERROR($E150*SUMIF('Daily Log'!$BJ$18:$BJ$1017,$B150,'Daily Log'!$BK$18:$BK$1017),0)","v":0},{"$f":"IFERROR($E150*SUMIF('Daily Log'!$BM$18:$BM$1017,$B150,'Daily Log'!$BN$18:$BN$1017),0)","v":0},{"$f":"IFERROR($E150*SUMIF('Daily Log'!$BP$18:$BP$1017,$B150,'Daily Log'!$BQ$18:$BQ$1017),0)","v":0},{"$f":"IFERROR($E150*SUMIF('Daily Log'!$BS$18:$BS$1017,$B150,'Daily Log'!$BT$18:$BT$1017),0)","v":0},{"$f":"IFERROR($E150*SUMIF('Daily Log'!$BV$18:$BV$1017,$B150,'Daily Log'!$BW$18:$BW$1017),0)","v":0},{"$f":"IFERROR($E150*SUMIF('Daily Log'!$BY$18:$BY$1017,$B150,'Daily Log'!$BZ$18:$BZ$1017),0)","v":0},{"$f":"IFERROR($E150*SUMIF('Daily Log'!$CB$18:$CB$1017,$B150,'Daily Log'!$CC$18:$CC$1017),0)","v":0},{"$f":"IFERROR($E150*SUMIF('Daily Log'!$CE$18:$CE$1017,$B150,'Daily Log'!$CF$18:$CF$1017),0)","v":0},{"$f":"IFERROR($E150*SUMIF('Daily Log'!$CH$18:$CH$1017,$B150,'Daily Log'!$CI$18:$CI$1017),0)","v":0},{"$f":"IFERROR($E150*SUMIF('Daily Log'!$CK$18:$CK$1017,$B150,'Daily Log'!$CL$18:$CL$1017),0)","v":6},{"$f":"IFERROR($E150*SUMIF('Daily Log'!$CN$18:$CN$1017,$B150,'Daily Log'!$CO$18:$CO$1017),0)","v":0}]
[null,"TE03 80030:CRB STICK",null,"LOK LOK",1,20,{"$f":"IFERROR($E151*SUMIF('Daily Log'!$B$18:$B$1017,$B151,'Daily Log'!$C$18:$C$1017),0)","v":0},{"$f":"IFERROR($E151*SUMIF('Daily Log'!$E$18:$E$1017,$B151,'Daily Log'!$F$18:$F$1017),0)","v":0},{"$f":"IFERROR($E151*SUMIF('Daily Log'!$H$18:$H$1017,$B151,'Daily Log'!$I$18:$I$1017),0)","v":0},{"$f":"IFERROR($E151*SUMIF('Daily Log'!$K$18:$K$1017,$B151,'Daily Log'!$L$18:$L$1017),0)","v":0},{"$f":"IFERROR($E151*SUMIF('Daily Log'!$N$18:$N$1017,$B151,'Daily Log'!$O$18:$O$1017),0)","v":0},{"$f":"IFERROR($E151*SUMIF('Daily Log'!$Q$18:$Q$1017,$B151,'Daily Log'!$R$18:$R$1017),0)","v":0},{"$f":"IFERROR($E151*SUMIF('Daily Log'!$T$18:$T$1017,$B151,'Daily Log'!$U$18:$U$1017),0)","v":0},{"$f":"IFERROR($E151*SUMIF('Daily Log'!$W$18:$W$1017,$B151,'Daily Log'!$X$18:$X$1017),0)","v":0},{"$f":"IFERROR($E151*SUMIF('Daily Log'!$Z$18:$Z$1017,$B151,'Daily Log'!$AA$18:$AA$1017),0)","v":0},{"$f":"IFERROR($E151*SUMIF('Daily Log'!$AC$18:$AC$1017,$B151,'Daily Log'!$AD$18:$AD$1017),0)","v":0},{"$f":"IFERROR($E151*SUMIF('Daily Log'!$AF$18:$AF$1017,$B151,'Daily Log'!$AG$18:$AG$1017),0)","v":0},{"$f":"IFERROR($E151*SUMIF('Daily Log'!$AI$18:$AI$1017,$B151,'Daily Log'!$AJ$18:$AJ$1017),0)","v":0},{"$f":"IFERROR($E151*SUMIF('Daily Log'!$AL$18:$AL$1017,$B151,'Daily Log'!$AM$18:$AM$1017),0)","v":0},{"$f":"IFERROR($E151*SUMIF('Daily Log'!$AO$18:$AO$1017,$B151,'Daily Log'!$AP$18:$AP$1017),0)","v":0},{"$f":"IFERROR($E151*SUMIF('Daily Log'!$AR$18:$AR$1017,$B151,'Daily Log'!$AS$18:$AS$1017),0)","v":0},{"$f":"IFERROR($E151*SUMIF('Daily Log'!$AU$18:$AU$1017,$B151,'Daily Log'!$AV$18:$AV$1017),0)","v":0},{"$f":"IFERROR($E151*SUMIF('Daily Log'!$AX$18:$AX$1017,$B151,'Daily Log'!$AY$18:$AY$1017),0)","v":0},{"$f":"IFERROR($E151*SUMIF('Daily Log'!$BA$18:$BA$1017,$B151,'Daily Log'!$BB$18:$BB$1017),0)","v":0},{"$f":"IFERROR($E151*SUMIF('Daily Log'!$BD$18:$BD$1017,$B151,'Daily Log'!$BE$18:$BE$1017),0)","v":0},{"$f":"IFERROR($E151*SUMIF('Daily Log'!$BG$18:$BG$1017,$B151,'Daily Log'!$BH$18:$BH$1017),0)","v":0},{"$f":"IFERROR($E151*SUMIF('Daily Log'!$BJ$18:$BJ$1017,$B151,'Daily Log'!$BK$18:$BK$1017),0)","v":0},{"$f":"IFERROR($E151*SUMIF('Daily Log'!$BM$18:$BM$1017,$B151,'Daily Log'!$BN$18:$BN$1017),0)","v":0},{"$f":"IFERROR($E151*SUMIF('Daily Log'!$BP$18:$BP$1017,$B151,'Daily Log'!$BQ$18:$BQ$1017),0)","v":0},{"$f":"IFERROR($E151*SUMIF('Daily Log'!$BS$18:$BS$1017,$B151,'Daily Log'!$BT$18:$BT$1017),0)","v":0},{"$f":"IFERROR($E151*SUMIF('Daily Log'!$BV$18:$BV$1017,$B151,'Daily Log'!$BW$18:$BW$1017),0)","v":0},{"$f":"IFERROR($E151*SUMIF('Daily Log'!$BY$18:$BY$1017,$B151,'Daily Log'!$BZ$18:$BZ$1017),0)","v":0},{"$f":"IFERROR($E151*SUMIF('Daily Log'!$CB$18:$CB$1017,$B151,'Daily Log'!$CC$18:$CC$1017),0)","v":0},{"$f":"IFERROR($E151*SUMIF('Daily Log'!$CE$18:$CE$1017,$B151,'Daily Log'!$CF$18:$CF$1017),0)","v":0},{"$f":"IFERROR($E151*SUMIF('Daily Log'!$CH$18:$CH$1017,$B151,'Daily Log'!$CI$18:$CI$1017),0)","v":0},{"$f":"IFERROR($E151*SUMIF('Daily Log'!$CK$18:$CK$1017,$B151,'Daily Log'!$CL$18:$CL$1017),0)","v":20},{"$f":"IFERROR($E151*SUMIF('Daily Log'!$CN$18:$CN$1017,$B151,'Daily Log'!$CO$18:$CO$1017),0)","v":0}]
[null,"TE04 80031:FSH BAL S",null,"LOK LOK",1,110,{"$f":"IFERROR($E152*SUMIF('Daily Log'!$B$18:$B$1017,$B152,'Daily Log'!$C$18:$C$1017),0)","v":0},{"$f":"IFERROR($E152*SUMIF('Daily Log'!$E$18:$E$1017,$B152,'Daily Log'!$F$18:$F$1017),0)","v":0},{"$f":"IFERROR($E152*SUMIF('Daily Log'!$H$18:$H$1017,$B152,'Daily Log'!$I$18:$I$1017),0)","v":0},{"$f":"IFERROR($E152*SUMIF('Daily Log'!$K$18:$K$1017,$B152,'Daily Log'!$L$18:$L$1017),0)","v":0},{"$f":"IFERROR($E152*SUMIF('Daily Log'!$N$18:$N$1017,$B152,'Daily Log'!$O$18:$O$1017),0)","v":0},{"$f":"IFERROR($E152*SUMIF('Daily Log'!$Q$18:$Q$1017,$B152,'Daily Log'!$R$18:$R$1017),0)","v":0},{"$f":"IFERROR($E152*SUMIF('Daily Log'!$T$18:$T$1017,$B152,'Daily Log'!$U$18:$U$1017),0)","v":0},{"$f":"IFERROR($E152*SUMIF('Daily Log'!$W$18:$W$1017,$B152,'Daily Log'!$X$18:$X$1017),0)","v":0},{"$f":"IFERROR($E152*SUMIF('Daily Log'!$Z$18:$Z$1017,$B152,'Daily Log'!$AA$18:$AA$1017),0)","v":0},{"$f":"IFERROR($E152*SUMIF('Daily Log'!$AC$18:$AC$1017,$B152,'Daily Log'!$AD$18:$AD$1017),0)","v":0},{"$f":"IFERROR($E152*SUMIF('Daily Log'!$AF$18:$AF$1017,$B152,'Daily Log'!$AG$18:$AG$1017),0)","v":0},{"$f":"IFERROR($E152*SUMIF('Daily Log'!$AI$18:$AI$1017,$B152,'Daily Log'!$AJ$18:$AJ$1017),0)","v":0},{"$f":"IFERROR($E152*SUMIF('Daily Log'!$AL$18:$AL$1017,$B152,'Daily Log'!$AM$18:$AM$1017),0)","v":0},{"$f":"IFERROR($E152*SUMIF('Daily Log'!$AO$18:$AO$1017,$B152,'Daily Log'!$AP$18:$AP$1017),0)","v":0},{"$f":"IFERROR($E152*SUMIF('Daily Log'!$AR$18:$AR$1017,$B152,'Daily Log'!$AS$18:$AS$1017),0)","v":0},{"$f":"IFERROR($E152*SUMIF('Daily Log'!$AU$18:$AU$1017,$B152,'Daily Log'!$AV$18:$AV$1017),0)","v":0},{"$f":"IFERROR($E152*SUMIF('Daily Log'!$AX$18:$AX$1017,$B152,'Daily Log'!$AY$18:$AY$1017),0)","v":0},{"$f":"IFERROR($E152*SUMIF('Daily Log'!$BA$18:$BA$1017,$B152,'Daily Log'!$BB$18:$BB$1017),0)","v":0},{"$f":"IFERROR($E152*SUMIF('Daily Log'!$BD$18:$BD$1017,$B152,'Daily Log'!$BE$18:$BE$1017),0)","v":0},{"$f":"IFERROR($E152*SUMIF('Daily Log'!$BG$18:$BG$1017,$B152,'Daily Log'!$BH$18:$BH$1017),0)","v":0},{"$f":"IFERROR($E152*SUMIF('Daily Log'!$BJ$18:$BJ$1017,$B152,'Daily Log'!$BK$18:$BK$1017),0)","v":0},{"$f":"IFERROR($E152*SUMIF('Daily Log'!$BM$18:$BM$1017,$B152,'Daily Log'!$BN$18:$BN$1017),0)","v":0},{"$f":"IFERROR($E152*SUMIF('Daily Log'!$BP$18:$BP$1017,$B152,'Daily Log'!$BQ$18:$BQ$1017),0)","v":0},{"$f":"IFERROR($E152*SUMIF('Daily Log'!$BS$18:$BS$1017,$B152,'Daily Log'!$BT$18:$BT$1017),0)","v":0},{"$f":"IFERROR($E152*SUMIF('Daily Log'!$BV$18:$BV$1017,$B152,'Daily Log'!$BW$18:$BW$1017),0)","v":0},{"$f":"IFERROR($E152*SUMIF('Daily Log'!$BY$18:$BY$1017,$B152,'Daily Log'!$BZ$18:$BZ$1017),0)","v":0},{"$f":"IFERROR($E152*SUMIF('Daily Log'!$CB$18:$CB$1017,$B152,'Daily Log'!$CC$18:$CC$1017),0)","v":0},{"$f":"IFERROR($E152*SUMIF('Daily Log'!$CE$18:$CE$1017,$B152,'Daily Log'!$CF$18:$CF$1017),0)","v":0},{"$f":"IFERROR($E152*SUMIF('Daily Log'!$CH$18:$CH$1017,$B152,'Daily Log'!$CI$18:$CI$1017),0)","v":0},{"$f":"IFERROR($E152*SUMIF('Daily Log'!$CK$18:$CK$1017,$B152,'Daily Log'!$CL$18:$CL$1017),0)","v":110},{"$f":"IFERROR($E152*SUMIF('Daily Log'!$CN$18:$CN$1017,$B152,'Daily Log'!$CO$18:$CO$1017),0)","v":0}]
[null,"TE05 80032:SOTONG",null,"LOK LOK",1,13,{"$f":"IFERROR($E153*SUMIF('Daily Log'!$B$18:$B$1017,$B153,'Daily Log'!$C$18:$C$1017),0)","v":0},{"$f":"IFERROR($E153*SUMIF('Daily Log'!$E$18:$E$1017,$B153,'Daily Log'!$F$18:$F$1017),0)","v":0},{"$f":"IFERROR($E153*SUMIF('Daily Log'!$H$18:$H$1017,$B153,'Daily Log'!$I$18:$I$1017),0)","v":0},{"$f":"IFERROR($E153*SUMIF('Daily Log'!$K$18:$K$1017,$B153,'Daily Log'!$L$18:$L$1017),0)","v":0},{"$f":"IFERROR($E153*SUMIF('Daily Log'!$N$18:$N$1017,$B153,'Daily Log'!$O$18:$O$1017),0)","v":0},{"$f":"IFERROR($E153*SUMIF('Daily Log'!$Q$18:$Q$1017,$B153,'Daily Log'!$R$18:$R$1017),0)","v":0},{"$f":"IFERROR($E153*SUMIF('Daily Log'!$T$18:$T$1017,$B153,'Daily Log'!$U$18:$U$1017),0)","v":0},{"$f":"IFERROR($E153*SUMIF('Daily Log'!$W$18:$W$1017,$B153,'Daily Log'!$X$18:$X$1017),0)","v":0},{"$f":"IFERROR($E153*SUMIF('Daily Log'!$Z$18:$Z$1017,$B153,'Daily Log'!$AA$18:$AA$1017),0)","v":0},{"$f":"IFERROR($E153*SUMIF('Daily Log'!$AC$18:$AC$1017,$B153,'Daily Log'!$AD$18:$AD$1017),0)","v":0},{"$f":"IFERROR($E153*SUMIF('Daily Log'!$AF$18:$AF$1017,$B153,'Daily Log'!$AG$18:$AG$1017),0)","v":0},{"$f":"IFERROR($E153*SUMIF('Daily Log'!$AI$18:$AI$1017,$B153,'Daily Log'!$AJ$18:$AJ$1017),0)","v":0},{"$f":"IFERROR($E153*SUMIF('Daily Log'!$AL$18:$AL$1017,$B153,'Daily Log'!$AM$18:$AM$1017),0)","v":0},{"$f":"IFERROR($E153*SUMIF('Daily Log'!$AO$18:$AO$1017,$B153,'Daily Log'!$AP$18:$AP$1017),0)","v":0},{"$f":"IFERROR($E153*SUMIF('Daily Log'!$AR$18:$AR$1017,$B153,'Daily Log'!$AS$18:$AS$1017),0)","v":0},{"$f":"IFERROR($E153*SUMIF('Daily Log'!$AU$18:$AU$1017,$B153,'Daily Log'!$AV$18:$AV$1017),0)","v":0},{"$f":"IFERROR($E153*SUMIF('Daily Log'!$AX$18:$AX$1017,$B153,'Daily Log'!$AY$18:$AY$1017),0)","v":0},{"$f":"IFERROR($E153*SUMIF('Daily Log'!$BA$18:$BA$1017,$B153,'Daily Log'!$BB$18:$BB$1017),0)","v":0},{"$f":"IFERROR($E153*SUMIF('Daily Log'!$BD$18:$BD$1017,$B153,'Daily Log'!$BE$18:$BE$1017),0)","v":0},{"$f":"IFERROR($E153*SUMIF('Daily Log'!$BG$18:$BG$1017,$B153,'Daily Log'!$BH$18:$BH$1017),0)","v":0},{"$f":"IFERROR($E153*SUMIF('Daily Log'!$BJ$18:$BJ$1017,$B153,'Daily Log'!$BK$18:$BK$1017),0)","v":0},{"$f":"IFERROR($E153*SUMIF('Daily Log'!$BM$18:$BM$1017,$B153,'Daily Log'!$BN$18:$BN$1017),0)","v":0},{"$f":"IFERROR($E153*SUMIF('Daily Log'!$BP$18:$BP$1017,$B153,'Daily Log'!$BQ$18:$BQ$1017),0)","v":0},{"$f":"IFERROR($E153*SUMIF('Daily Log'!$BS$18:$BS$1017,$B153,'Daily Log'!$BT$18:$BT$1017),0)","v":0},{"$f":"IFERROR($E153*SUMIF('Daily Log'!$BV$18:$BV$1017,$B153,'Daily Log'!$BW$18:$BW$1017),0)","v":0},{"$f":"IFERROR($E153*SUMIF('Daily Log'!$BY$18:$BY$1017,$B153,'Daily Log'!$BZ$18:$BZ$1017),0)","v":0},{"$f":"IFERROR($E153*SUMIF('Daily Log'!$CB$18:$CB$1017,$B153,'Daily Log'!$CC$18:$CC$1017),0)","v":0},{"$f":"IFERROR($E153*SUMIF('Daily Log'!$CE$18:$CE$1017,$B153,'Daily Log'!$CF$18:$CF$1017),0)","v":0},{"$f":"IFERROR($E153*SUMIF('Daily Log'!$CH$18:$CH$1017,$B153,'Daily Log'!$CI$18:$CI$1017),0)","v":0},{"$f":"IFERROR($E153*SUMIF('Daily Log'!$CK$18:$CK$1017,$B153,'Daily Log'!$CL$18:$CL$1017),0)","v":13},{"$f":"IFERROR($E153*SUMIF('Daily Log'!$CN$18:$CN$1017,$B153,'Daily Log'!$CO$18:$CO$1017),0)","v":0}]
[null,"TE06 80033:TPURA PRW",null,"LOK LOK",1,20,{"$f":"IFERROR($E154*SUMIF('Daily Log'!$B$18:$B$1017,$B154,'Daily Log'!$C$18:$C$1017),0)","v":0},{"$f":"IFERROR($E154*SUMIF('Daily Log'!$E$18:$E$1017,$B154,'Daily Log'!$F$18:$F$1017),0)","v":0},{"$f":"IFERROR($E154*SUMIF('Daily Log'!$H$18:$H$1017,$B154,'Daily Log'!$I$18:$I$1017),0)","v":0}," ",{"$f":"IFERROR($E154*SUMIF('Daily Log'!$N$18:$N$1017,$B154,'Daily Log'!$O$18:$O$1017),0)","v":0},{"$f":"IFERROR($E154*SUMIF('Daily Log'!$Q$18:$Q$1017,$B154,'Daily Log'!$R$18:$R$1017),0)","v":0},{"$f":"IFERROR($E154*SUMIF('Daily Log'!$T$18:$T$1017,$B154,'Daily Log'!$U$18:$U$1017),0)","v":0},{"$f":"IFERROR($E154*SUMIF('Daily Log'!$W$18:$W$1017,$B154,'Daily Log'!$X$18:$X$1017),0)","v":0},{"$f":"IFERROR($E154*SUMIF('Daily Log'!$Z$18:$Z$1017,$B154,'Daily Log'!$AA$18:$AA$1017),0)","v":0},{"$f":"IFERROR($E154*SUMIF('Daily Log'!$AC$18:$AC$1017,$B154,'Daily Log'!$AD$18:$AD$1017),0)","v":0},{"$f":"IFERROR($E154*SUMIF('Daily Log'!$AF$18:$AF$1017,$B154,'Daily Log'!$AG$18:$AG$1017),0)","v":0},{"$f":"IFERROR($E154*SUMIF('Daily Log'!$AI$18:$AI$1017,$B154,'Daily Log'!$AJ$18:$AJ$1017),0)","v":0},{"$f":"IFERROR($E154*SUMIF('Daily Log'!$AL$18:$AL$1017,$B154,'Daily Log'!$AM$18:$AM$1017),0)","v":0},{"$f":"IFERROR($E154*SUMIF('Daily Log'!$AO$18:$AO$1017,$B154,'Daily Log'!$AP$18:$AP$1017),0)","v":0},{"$f":"IFERROR($E154*SUMIF('Daily Log'!$AR$18:$AR$1017,$B154,'Daily Log'!$AS$18:$AS$1017),0)","v":0},{"$f":"IFERROR($E154*SUMIF('Daily Log'!$AU$18:$AU$1017,$B154,'Daily Log'!$AV$18:$AV$1017),0)","v":0},{"$f":"IFERROR($E154*SUMIF('Daily Log'!$AX$18:$AX$1017,$B154,'Daily Log'!$AY$18:$AY$1017),0)","v":0},{"$f":"IFERROR($E154*SUMIF('Daily Log'!$BA$18:$BA$1017,$B154,'Daily Log'!$BB$18:$BB$1017),0)","v":0},{"$f":"IFERROR($E154*SUMIF('Daily Log'!$BD$18:$BD$1017,$B154,'Daily Log'!$BE$18:$BE$1017),0)","v":0},{"$f":"IFERROR($E154*SUMIF('Daily Log'!$BG$18:$BG$1017,$B154,'Daily Log'!$BH$18:$BH$1017),0)","v":0},{"$f":"IFERROR($E154*SUMIF('Daily Log'!$BJ$18:$BJ$1017,$B154,'Daily Log'!$BK$18:$BK$1017),0)","v":0},{"$f":"IFERROR($E154*SUMIF('Daily Log'!$BM$18:$BM$1017,$B154,'Daily Log'!$BN$18:$BN$1017),0)","v":0},{"$f":"IFERROR($E154*SUMIF('Daily Log'!$BP$18:$BP$1017,$B154,'Daily Log'!$BQ$18:$BQ$1017),0)","v":0},{"$f":"IFERROR($E154*SUMIF('Daily Log'!$BS$18:$BS$1017,$B154,'Daily Log'!$BT$18:$BT$1017),0)","v":0},{"$f":"IFERROR($E154*SUMIF('Daily Log'!$BV$18:$BV$1017,$B154,'Daily Log'!$BW$18:$BW$1017),0)","v":0},{"$f":"IFERROR($E154*SUMIF('Daily Log'!$BY$18:$BY$1017,$B154,'Daily Log'!$BZ$18:$BZ$1017),0)","v":0},{"$f":"IFERROR($E154*SUMIF('Daily Log'!$CB$18:$CB$1017,$B154,'Daily Log'!$CC$18:$CC$1017),0)","v":0},{"$f":"IFERROR($E154*SUMIF('Daily Log'!$CE$18:$CE$1017,$B154,'Daily Log'!$CF$18:$CF$1017),0)","v":0},{"$f":"IFERROR($E154*SUMIF('Daily Log'!$CH$18:$CH$1017,$B154,'Daily Log'!$CI$18:$CI$1017),0)","v":0},{"$f":"IFERROR($E154*SUMIF('Daily Log'!$CK$18:$CK$1017,$B154,'Daily Log'!$CL$18:$CL$1017),0)","v":20},{"$f":"IFERROR($E154*SUMIF('Daily Log'!$CN$18:$CN$1017,$B154,'Daily Log'!$CO$18:$CO$1017),0)","v":0}]
[null,"TE07 80034:BBQ FSH SK",null,"LOK LOK",1,15,{"$f":"IFERROR($E155*SUMIF('Daily Log'!$B$18:$B$1017,$B155,'Daily Log'!$C$18:$C$1017),0)","v":0},{"$f":"IFERROR($E155*SUMIF('Daily Log'!$E$18:$E$1017,$B155,'Daily Log'!$F$18:$F$1017),0)","v":0},{"$f":"IFERROR($E155*SUMIF('Daily Log'!$H$18:$H$1017,$B155,'Daily Log'!$I$18:$I$1017),0)","v":0}," ",{"$f":"IFERROR($E155*SUMIF('Daily Log'!$N$18:$N$1017,$B155,'Daily Log'!$O$18:$O$1017),0)","v":0},{"$f":"IFERROR($E155*SUMIF('Daily Log'!$Q$18:$Q$1017,$B155,'Daily Log'!$R$18:$R$1017),0)","v":0},{"$f":"IFERROR($E155*SUMIF('Daily Log'!$T$18:$T$1017,$B155,'Daily Log'!$U$18:$U$1017),0)","v":0},{"$f":"IFERROR($E155*SUMIF('Daily Log'!$W$18:$W$1017,$B155,'Daily Log'!$X$18:$X$1017),0)","v":0},{"$f":"IFERROR($E155*SUMIF('Daily Log'!$Z$18:$Z$1017,$B155,'Daily Log'!$AA$18:$AA$1017),0)","v":0},{"$f":"IFERROR($E155*SUMIF('Daily Log'!$AC$18:$AC$1017,$B155,'Daily Log'!$AD$18:$AD$1017),0)","v":0},{"$f":"IFERROR($E155*SUMIF('Daily Log'!$AF$18:$AF$1017,$B155,'Daily Log'!$AG$18:$AG$1017),0)","v":0},{"$f":"IFERROR($E155*SUMIF('Daily Log'!$AI$18:$AI$1017,$B155,'Daily Log'!$AJ$18:$AJ$1017),0)","v":0},{"$f":"IFERROR($E155*SUMIF('Daily Log'!$AL$18:$AL$1017,$B155,'Daily Log'!$AM$18:$AM$1017),0)","v":0},{"$f":"IFERROR($E155*SUMIF('Daily Log'!$AO$18:$AO$1017,$B155,'Daily Log'!$AP$18:$AP$1017),0)","v":0},{"$f":"IFERROR($E155*SUMIF('Daily Log'!$AR$18:$AR$1017,$B155,'Daily Log'!$AS$18:$AS$1017),0)","v":0},{"$f":"IFERROR($E155*SUMIF('Daily Log'!$AU$18:$AU$1017,$B155,'Daily Log'!$AV$18:$AV$1017),0)","v":0},{"$f":"IFERROR($E155*SUMIF('Daily Log'!$AX$18:$AX$1017,$B155,'Daily Log'!$AY$18:$AY$1017),0)","v":0},{"$f":"IFERROR($E155*SUMIF('Daily Log'!$BA$18:$BA$1017,$B155,'Daily Log'!$BB$18:$BB$1017),0)","v":0},{"$f":"IFERROR($E155*SUMIF('Daily Log'!$BD$18:$BD$1017,$B155,'Daily Log'!$BE$18:$BE$1017),0)","v":0},{"$f":"IFERROR($E155*SUMIF('Daily Log'!$BG$18:$BG$1017,$B155,'Daily Log'!$BH$18:$BH$1017),0)","v":0},{"$f":"IFERROR($E155*SUMIF('Daily Log'!$BJ$18:$BJ$1017,$B155,'Daily Log'!$BK$18:$BK$1017),0)","v":0},{"$f":"IFERROR($E155*SUMIF('Daily Log'!$BM$18:$BM$1017,$B155,'Daily Log'!$BN$18:$BN$1017),0)","v":0},{"$f":"IFERROR($E155*SUMIF('Daily Log'!$BP$18:$BP$1017,$B155,'Daily Log'!$BQ$18:$BQ$1017),0)","v":0},{"$f":"IFERROR($E155*SUMIF('Daily Log'!$BS$18:$BS$1017,$B155,'Daily Log'!$BT$18:$BT$1017),0)","v":0},{"$f":"IFERROR($E155*SUMIF('Daily Log'!$BV$18:$BV$1017,$B155,'Daily Log'!$BW$18:$BW$1017),0)","v":0},{"$f":"IFERROR($E155*SUMIF('Daily Log'!$BY$18:$BY$1017,$B155,'Daily Log'!$BZ$18:$BZ$1017),0)","v":0},{"$f":"IFERROR($E155*SUMIF('Daily Log'!$CB$18:$CB$1017,$B155,'Daily Log'!$CC$18:$CC$1017),0)","v":0},{"$f":"IFERROR($E155*SUMIF('Daily Log'!$CE$18:$CE$1017,$B155,'Daily Log'!$CF$18:$CF$1017),0)","v":0},{"$f":"IFERROR($E155*SUMIF('Daily Log'!$CH$18:$CH$1017,$B155,'Daily Log'!$CI$18:$CI$1017),0)","v":0},{"$f":"IFERROR($E155*SUMIF('Daily Log'!$CK$18:$CK$1017,$B155,'Daily Log'!$CL$18:$CL$1017),0)","v":15},{"$f":"IFERROR($E155*SUMIF('Daily Log'!$CN$18:$CN$1017,$B155,'Daily Log'!$CO$18:$CO$1017),0)","v":0}]
["","TO01 80035:F SMS YAM",null,"LOK LOK",1,35,{"$f":"IFERROR($E156*SUMIF('Daily Log'!$B$18:$B$1017,$B156,'Daily Log'!$C$18:$C$1017),0)","v":0},{"$f":"IFERROR($E156*SUMIF('Daily Log'!$E$18:$E$1017,$B156,'Daily Log'!$F$18:$F$1017),0)","v":0},{"$f":"IFERROR($E156*SUMIF('Daily Log'!$H$18:$H$1017,$B156,'Daily Log'!$I$18:$I$1017),0)","v":0}," ",{"$f":"IFERROR($E156*SUMIF('Daily Log'!$N$18:$N$1017,$B156,'Daily Log'!$O$18:$O$1017),0)","v":0},{"$f":"IFERROR($E156*SUMIF('Daily Log'!$Q$18:$Q$1017,$B156,'Daily Log'!$R$18:$R$1017),0)","v":0},{"$f":"IFERROR($E156*SUMIF('Daily Log'!$T$18:$T$1017,$B156,'Daily Log'!$U$18:$U$1017),0)","v":0},{"$f":"IFERROR($E156*SUMIF('Daily Log'!$W$18:$W$1017,$B156,'Daily Log'!$X$18:$X$1017),0)","v":0},{"$f":"IFERROR($E156*SUMIF('Daily Log'!$Z$18:$Z$1017,$B156,'Daily Log'!$AA$18:$AA$1017),0)","v":0},{"$f":"IFERROR($E156*SUMIF('Daily Log'!$AC$18:$AC$1017,$B156,'Daily Log'!$AD$18:$AD$1017),0)","v":0},{"$f":"IFERROR($E156*SUMIF('Daily Log'!$AF$18:$AF$1017,$B156,'Daily Log'!$AG$18:$AG$1017),0)","v":0},{"$f":"IFERROR($E156*SUMIF('Daily Log'!$AI$18:$AI$1017,$B156,'Daily Log'!$AJ$18:$AJ$1017),0)","v":0},{"$f":"IFERROR($E156*SUMIF('Daily Log'!$AL$18:$AL$1017,$B156,'Daily Log'!$AM$18:$AM$1017),0)","v":0},{"$f":"IFERROR($E156*SUMIF('Daily Log'!$AO$18:$AO$1017,$B156,'Daily Log'!$AP$18:$AP$1017),0)","v":0},{"$f":"IFERROR($E156*SUMIF('Daily Log'!$AR$18:$AR$1017,$B156,'Daily Log'!$AS$18:$AS$1017),0)","v":0},{"$f":"IFERROR($E156*SUMIF('Daily Log'!$AU$18:$AU$1017,$B156,'Daily Log'!$AV$18:$AV$1017),0)","v":0},{"$f":"IFERROR($E156*SUMIF('Daily Log'!$AX$18:$AX$1017,$B156,'Daily Log'!$AY$18:$AY$1017),0)","v":0},{"$f":"IFERROR($E156*SUMIF('Daily Log'!$BA$18:$BA$1017,$B156,'Daily Log'!$BB$18:$BB$1017),0)","v":0},{"$f":"IFERROR($E156*SUMIF('Daily Log'!$BD$18:$BD$1017,$B156,'Daily Log'!$BE$18:$BE$1017),0)","v":0},{"$f":"IFERROR($E156*SUMIF('Daily Log'!$BG$18:$BG$1017,$B156,'Daily Log'!$BH$18:$BH$1017),0)","v":0},{"$f":"IFERROR($E156*SUMIF('Daily Log'!$BJ$18:$BJ$1017,$B156,'Daily Log'!$BK$18:$BK$1017),0)","v":0},{"$f":"IFERROR($E156*SUMIF('Daily Log'!$BM$18:$BM$1017,$B156,'Daily Log'!$BN$18:$BN$1017),0)","v":0},{"$f":"IFERROR($E156*SUMIF('Daily Log'!$BP$18:$BP$1017,$B156,'Daily Log'!$BQ$18:$BQ$1017),0)","v":0},{"$f":"IFERROR($E156*SUMIF('Daily Log'!$BS$18:$BS$1017,$B156,'Daily Log'!$BT$18:$BT$1017),0)","v":0},{"$f":"IFERROR($E156*SUMIF('Daily Log'!$BV$18:$BV$1017,$B156,'Daily Log'!$BW$18:$BW$1017),0)","v":0},{"$f":"IFERROR($E156*SUMIF('Daily Log'!$BY$18:$BY$1017,$B156,'Daily Log'!$BZ$18:$BZ$1017),0)","v":0},{"$f":"IFERROR($E156*SUMIF('Daily Log'!$CB$18:$CB$1017,$B156,'Daily Log'!$CC$18:$CC$1017),0)","v":0},{"$f":"IFERROR($E156*SUMIF('Daily Log'!$CE$18:$CE$1017,$B156,'Daily Log'!$CF$18:$CF$1017),0)","v":0},{"$f":"IFERROR($E156*SUMIF('Daily Log'!$CH$18:$CH$1017,$B156,'Daily Log'!$CI$18:$CI$1017),0)","v":0},{"$f":"IFERROR($E156*SUMIF('Daily Log'!$CK$18:$CK$1017,$B156,'Daily Log'!$CL$18:$CL$1017),0)","v":35},{"$f":"IFERROR($E156*SUMIF('Daily Log'!$CN$18:$CN$1017,$B156,'Daily Log'!$CO$18:$CO$1017),0)","v":0}]
[null,"TO02 80036:F TF SKIN",null,"LOK LOK",1,43,{"$f":"IFERROR($E157*SUMIF('Daily Log'!$B$18:$B$1017,$B157,'Daily Log'!$C$18:$C$1017),0)","v":0},{"$f":"IFERROR($E157*SUMIF('Daily Log'!$E$18:$E$1017,$B157,'Daily Log'!$F$18:$F$1017),0)","v":0},{"$f":"IFERROR($E157*SUMIF('Daily Log'!$H$18:$H$1017,$B157,'Daily Log'!$I$18:$I$1017),0)","v":0}," ",{"$f":"IFERROR($E157*SUMIF('Daily Log'!$N$18:$N$1017,$B157,'Daily Log'!$O$18:$O$1017),0)","v":0},{"$f":"IFERROR($E157*SUMIF('Daily Log'!$Q$18:$Q$1017,$B157,'Daily Log'!$R$18:$R$1017),0)","v":0},{"$f":"IFERROR($E157*SUMIF('Daily Log'!$T$18:$T$1017,$B157,'Daily Log'!$U$18:$U$1017),0)","v":0},{"$f":"IFERROR($E157*SUMIF('Daily Log'!$W$18:$W$1017,$B157,'Daily Log'!$X$18:$X$1017),0)","v":0},{"$f":"IFERROR($E157*SUMIF('Daily Log'!$Z$18:$Z$1017,$B157,'Daily Log'!$AA$18:$AA$1017),0)","v":0},{"$f":"IFERROR($E157*SUMIF('Daily Log'!$AC$18:$AC$1017,$B157,'Daily Log'!$AD$18:$AD$1017),0)","v":0},{"$f":"IFERROR($E157*SUMIF('Daily Log'!$AF$18:$AF$1017,$B157,'Daily Log'!$AG$18:$AG$1017),0)","v":0},{"$f":"IFERROR($E157*SUMIF('Daily Log'!$AI$18:$AI$1017,$B157,'Daily Log'!$AJ$18:$AJ$1017),0)","v":0},{"$f":"IFERROR($E157*SUMIF('Daily Log'!$AL$18:$AL$1017,$B157,'Daily Log'!$AM$18:$AM$1017),0)","v":0},{"$f":"IFERROR($E157*SUMIF('Daily Log'!$AO$18:$AO$1017,$B157,'Daily Log'!$AP$18:$AP$1017),0)","v":0},{"$f":"IFERROR($E157*SUMIF('Daily Log'!$AR$18:$AR$1017,$B157,'Daily Log'!$AS$18:$AS$1017),0)","v":0},{"$f":"IFERROR($E157*SUMIF('Daily Log'!$AU$18:$AU$1017,$B157,'Daily Log'!$AV$18:$AV$1017),0)","v":0},{"$f":"IFERROR($E157*SUMIF('Daily Log'!$AX$18:$AX$1017,$B157,'Daily Log'!$AY$18:$AY$1017),0)","v":0},{"$f":"IFERROR($E157*SUMIF('Daily Log'!$BA$18:$BA$1017,$B157,'Daily Log'!$BB$18:$BB$1017),0)","v":0},{"$f":"IFERROR($E157*SUMIF('Daily Log'!$BD$18:$BD$1017,$B157,'Daily Log'!$BE$18:$BE$1017),0)","v":0},{"$f":"IFERROR($E157*SUMIF('Daily Log'!$BG$18:$BG$1017,$B157,'Daily Log'!$BH$18:$BH$1017),0)","v":0},{"$f":"IFERROR($E157*SUMIF('Daily Log'!$BJ$18:$BJ$1017,$B157,'Daily Log'!$BK$18:$BK$1017),0)","v":0},{"$f":"IFERROR($E157*SUMIF('Daily Log'!$BM$18:$BM$1017,$B157,'Daily Log'!$BN$18:$BN$1017),0)","v":0},{"$f":"IFERROR($E157*SUMIF('Daily Log'!$BP$18:$BP$1017,$B157,'Daily Log'!$BQ$18:$BQ$1017),0)","v":0},{"$f":"IFERROR($E157*SUMIF('Daily Log'!$BS$18:$BS$1017,$B157,'Daily Log'!$BT$18:$BT$1017),0)","v":0},{"$f":"IFERROR($E157*SUMIF('Daily Log'!$BV$18:$BV$1017,$B157,'Daily Log'!$BW$18:$BW$1017),0)","v":0},{"$f":"IFERROR($E157*SUMIF('Daily Log'!$BY$18:$BY$1017,$B157,'Daily Log'!$BZ$18:$BZ$1017),0)","v":0},{"$f":"IFERROR($E157*SUMIF('Daily Log'!$CB$18:$CB$1017,$B157,'Daily Log'!$CC$18:$CC$1017),0)","v":0},{"$f":"IFERROR($E157*SUMIF('Daily Log'!$CE$18:$CE$1017,$B157,'Daily Log'!$CF$18:$CF$1017),0)","v":0},{"$f":"IFERROR($E157*SUMIF('Daily Log'!$CH$18:$CH$1017,$B157,'Daily Log'!$CI$18:$CI$1017),0)","v":0},{"$f":"IFERROR($E157*SUMIF('Daily Log'!$CK$18:$CK$1017,$B157,'Daily Log'!$CL$18:$CL$1017),0)","v":43},{"$f":"IFERROR($E157*SUMIF('Daily Log'!$CN$18:$CN$1017,$B157,'Daily Log'!$CO$18:$CO$1017),0)","v":0}]
[null,"TO03 80037:TF PO",null,"LOK LOK",1,8,{"$f":"IFERROR($E158*SUMIF('Daily Log'!$B$18:$B$1017,$B158,'Daily Log'!$C$18:$C$1017),0)","v":0},{"$f":"IFERROR($E158*SUMIF('Daily Log'!$E$18:$E$1017,$B158,'Daily Log'!$F$18:$F$1017),0)","v":0},{"$f":"IFERROR($E158*SUMIF('Daily Log'!$H$18:$H$1017,$B158,'Daily Log'!$I$18:$I$1017),0)","v":0}," ",{"$f":"IFERROR($E158*SUMIF('Daily Log'!$N$18:$N$1017,$B158,'Daily Log'!$O$18:$O$1017),0)","v":0},{"$f":"IFERROR($E158*SUMIF('Daily Log'!$Q$18:$Q$1017,$B158,'Daily Log'!$R$18:$R$1017),0)","v":0},{"$f":"IFERROR($E158*SUMIF('Daily Log'!$T$18:$T$1017,$B158,'Daily Log'!$U$18:$U$1017),0)","v":0},{"$f":"IFERROR($E158*SUMIF('Daily Log'!$W$18:$W$1017,$B158,'Daily Log'!$X$18:$X$1017),0)","v":0},{"$f":"IFERROR($E158*SUMIF('Daily Log'!$Z$18:$Z$1017,$B158,'Daily Log'!$AA$18:$AA$1017),0)","v":0},{"$f":"IFERROR($E158*SUMIF('Daily Log'!$AC$18:$AC$1017,$B158,'Daily Log'!$AD$18:$AD$1017),0)","v":0},{"$f":"IFERROR($E158*SUMIF('Daily Log'!$AF$18:$AF$1017,$B158,'Daily Log'!$AG$18:$AG$1017),0)","v":0},{"$f":"IFERROR($E158*SUMIF('Daily Log'!$AI$18:$AI$1017,$B158,'Daily Log'!$AJ$18:$AJ$1017),0)","v":0},{"$f":"IFERROR($E158*SUMIF('Daily Log'!$AL$18:$AL$1017,$B158,'Daily Log'!$AM$18:$AM$1017),0)","v":0},{"$f":"IFERROR($E158*SUMIF('Daily Log'!$AO$18:$AO$1017,$B158,'Daily Log'!$AP$18:$AP$1017),0)","v":0},{"$f":"IFERROR($E158*SUMIF('Daily Log'!$AR$18:$AR$1017,$B158,'Daily Log'!$AS$18:$AS$1017),0)","v":0},{"$f":"IFERROR($E158*SUMIF('Daily Log'!$AU$18:$AU$1017,$B158,'Daily Log'!$AV$18:$AV$1017),0)","v":0},{"$f":"IFERROR($E158*SUMIF('Daily Log'!$AX$18:$AX$1017,$B158,'Daily Log'!$AY$18:$AY$1017),0)","v":0},{"$f":"IFERROR($E158*SUMIF('Daily Log'!$BA$18:$BA$1017,$B158,'Daily Log'!$BB$18:$BB$1017),0)","v":0},{"$f":"IFERROR($E158*SUMIF('Daily Log'!$BD$18:$BD$1017,$B158,'Daily Log'!$BE$18:$BE$1017),0)","v":0},{"$f":"IFERROR($E158*SUMIF('Daily Log'!$BG$18:$BG$1017,$B158,'Daily Log'!$BH$18:$BH$1017),0)","v":0},{"$f":"IFERROR($E158*SUMIF('Daily Log'!$BJ$18:$BJ$1017,$B158,'Daily Log'!$BK$18:$BK$1017),0)","v":0},{"$f":"IFERROR($E158*SUMIF('Daily Log'!$BM$18:$BM$1017,$B158,'Daily Log'!$BN$18:$BN$1017),0)","v":0},{"$f":"IFERROR($E158*SUMIF('Daily Log'!$BP$18:$BP$1017,$B158,'Daily Log'!$BQ$18:$BQ$1017),0)","v":0},{"$f":"IFERROR($E158*SUMIF('Daily Log'!$BS$18:$BS$1017,$B158,'Daily Log'!$BT$18:$BT$1017),0)","v":0},{"$f":"IFERROR($E158*SUMIF('Daily Log'!$BV$18:$BV$1017,$B158,'Daily Log'!$BW$18:$BW$1017),0)","v":0},{"$f":"IFERROR($E158*SUMIF('Daily Log'!$BY$18:$BY$1017,$B158,'Daily Log'!$BZ$18:$BZ$1017),0)","v":0},{"$f":"IFERROR($E158*SUMIF('Daily Log'!$CB$18:$CB$1017,$B158,'Daily Log'!$CC$18:$CC$1017),0)","v":0},{"$f":"IFERROR($E158*SUMIF('Daily Log'!$CE$18:$CE$1017,$B158,'Daily Log'!$CF$18:$CF$1017),0)","v":0},{"$f":"IFERROR($E158*SUMIF('Daily Log'!$CH$18:$CH$1017,$B158,'Daily Log'!$CI$18:$CI$1017),0)","v":0},{"$f":"IFERROR($E158*SUMIF('Daily Log'!$CK$18:$CK$1017,$B158,'Daily Log'!$CL$18:$CL$1017),0)","v":8},{"$f":"IFERROR($E158*SUMIF('Daily Log'!$CN$18:$CN$1017,$B158,'Daily Log'!$CO$18:$CO$1017),0)","v":0}]
[null,"TO04 80038:F MANTOU",null,"LOK LOK",1,29,{"$f":"IFERROR($E159*SUMIF('Daily Log'!$B$18:$B$1017,$B159,'Daily Log'!$C$18:$C$1017),0)","v":0},{"$f":"IFERROR($E159*SUMIF('Daily Log'!$E$18:$E$1017,$B159,'Daily Log'!$F$18:$F$1017),0)","v":0},{"$f":"IFERROR($E159*SUMIF('Daily Log'!$H$18:$H$1017,$B159,'Daily Log'!$I$18:$I$1017),0)","v":0}," ",{"$f":"IFERROR($E159*SUMIF('Daily Log'!$N$18:$N$1017,$B159,'Daily Log'!$O$18:$O$1017),0)","v":0},{"$f":"IFERROR($E159*SUMIF('Daily Log'!$Q$18:$Q$1017,$B159,'Daily Log'!$R$18:$R$1017),0)","v":0},{"$f":"IFERROR($E159*SUMIF('Daily Log'!$T$18:$T$1017,$B159,'Daily Log'!$U$18:$U$1017),0)","v":0},{"$f":"IFERROR($E159*SUMIF('Daily Log'!$W$18:$W$1017,$B159,'Daily Log'!$X$18:$X$1017),0)","v":0},{"$f":"IFERROR($E159*SUMIF('Daily Log'!$Z$18:$Z$1017,$B159,'Daily Log'!$AA$18:$AA$1017),0)","v":0},{"$f":"IFERROR($E159*SUMIF('Daily Log'!$AC$18:$AC$1017,$B159,'Daily Log'!$AD$18:$AD$1017),0)","v":0},{"$f":"IFERROR($E159*SUMIF('Daily Log'!$AF$18:$AF$1017,$B159,'Daily Log'!$AG$18:$AG$1017),0)","v":0},{"$f":"IFERROR($E159*SUMIF('Daily Log'!$AI$18:$AI$1017,$B159,'Daily Log'!$AJ$18:$AJ$1017),0)","v":0},{"$f":"IFERROR($E159*SUMIF('Daily Log'!$AL$18:$AL$1017,$B159,'Daily Log'!$AM$18:$AM$1017),0)","v":0},{"$f":"IFERROR($E159*SUMIF('Daily Log'!$AO$18:$AO$1017,$B159,'Daily Log'!$AP$18:$AP$1017),0)","v":0},{"$f":"IFERROR($E159*SUMIF('Daily Log'!$AR$18:$AR$1017,$B159,'Daily Log'!$AS$18:$AS$1017),0)","v":0},{"$f":"IFERROR($E159*SUMIF('Daily Log'!$AU$18:$AU$1017,$B159,'Daily Log'!$AV$18:$AV$1017),0)","v":0},{"$f":"IFERROR($E159*SUMIF('Daily Log'!$AX$18:$AX$1017,$B159,'Daily Log'!$AY$18:$AY$1017),0)","v":0},{"$f":"IFERROR($E159*SUMIF('Daily Log'!$BA$18:$BA$1017,$B159,'Daily Log'!$BB$18:$BB$1017),0)","v":0},{"$f":"IFERROR($E159*SUMIF('Daily Log'!$BD$18:$BD$1017,$B159,'Daily Log'!$BE$18:$BE$1017),0)","v":0},{"$f":"IFERROR($E159*SUMIF('Daily Log'!$BG$18:$BG$1017,$B159,'Daily Log'!$BH$18:$BH$1017),0)","v":0},{"$f":"IFERROR($E159*SUMIF('Daily Log'!$BJ$18:$BJ$1017,$B159,'Daily Log'!$BK$18:$BK$1017),0)","v":0},{"$f":"IFERROR($E159*SUMIF('Daily Log'!$BM$18:$BM$1017,$B159,'Daily Log'!$BN$18:$BN$1017),0)","v":0},{"$f":"IFERROR($E159*SUMIF('Daily Log'!$BP$18:$BP$1017,$B159,'Daily Log'!$BQ$18:$BQ$1017),0)","v":0},{"$f":"IFERROR($E159*SUMIF('Daily Log'!$BS$18:$BS$1017,$B159,'Daily Log'!$BT$18:$BT$1017),0)","v":0},{"$f":"IFERROR($E159*SUMIF('Daily Log'!$BV$18:$BV$1017,$B159,'Daily Log'!$BW$18:$BW$1017),0)","v":0},{"$f":"IFERROR($E159*SUMIF('Daily Log'!$BY$18:$BY$1017,$B159,'Daily Log'!$BZ$18:$BZ$1017),0)","v":0},{"$f":"IFERROR($E159*SUMIF('Daily Log'!$CB$18:$CB$1017,$B159,'Daily Log'!$CC$18:$CC$1017),0)","v":0},{"$f":"IFERROR($E159*SUMIF('Daily Log'!$CE$18:$CE$1017,$B159,'Daily Log'!$CF$18:$CF$1017),0)","v":0},{"$f":"IFERROR($E159*SUMIF('Daily Log'!$CH$18:$CH$1017,$B159,'Daily Log'!$CI$18:$CI$1017),0)","v":0},{"$f":"IFERROR($E159*SUMIF('Daily Log'!$CK$18:$CK$1017,$B159,'Daily Log'!$CL$18:$CL$1017),0)","v":29},{"$f":"IFERROR($E159*SUMIF('Daily Log'!$CN$18:$CN$1017,$B159,'Daily Log'!$CO$18:$CO$1017),0)","v":0}]
[null,"TO05 80039:CRS F BAO",null,"LOK LOK",1,3,{"$f":"IFERROR($E160*SUMIF('Daily Log'!$B$18:$B$1017,$B160,'Daily Log'!$C$18:$C$1017),0)","v":0},{"$f":"IFERROR($E160*SUMIF('Daily Log'!$E$18:$E$1017,$B160,'Daily Log'!$F$18:$F$1017),0)","v":0},{"$f":"IFERROR($E160*SUMIF('Daily Log'!$H$18:$H$1017,$B160,'Daily Log'!$I$18:$I$1017),0)","v":0},{"$f":"IFERROR($E160*SUMIF('Daily Log'!$K$18:$K$1017,$B160,'Daily Log'!$L$18:$L$1017),0)","v":0},{"$f":"IFERROR($E160*SUMIF('Daily Log'!$N$18:$N$1017,$B160,'Daily Log'!$O$18:$O$1017),0)","v":0},{"$f":"IFERROR($E160*SUMIF('Daily Log'!$Q$18:$Q$1017,$B160,'Daily Log'!$R$18:$R$1017),0)","v":0},{"$f":"IFERROR($E160*SUMIF('Daily Log'!$T$18:$T$1017,$B160,'Daily Log'!$U$18:$U$1017),0)","v":0},{"$f":"IFERROR($E160*SUMIF('Daily Log'!$W$18:$W$1017,$B160,'Daily Log'!$X$18:$X$1017),0)","v":0},{"$f":"IFERROR($E160*SUMIF('Daily Log'!$Z$18:$Z$1017,$B160,'Daily Log'!$AA$18:$AA$1017),0)","v":0},{"$f":"IFERROR($E160*SUMIF('Daily Log'!$AC$18:$AC$1017,$B160,'Daily Log'!$AD$18:$AD$1017),0)","v":0},{"$f":"IFERROR($E160*SUMIF('Daily Log'!$AF$18:$AF$1017,$B160,'Daily Log'!$AG$18:$AG$1017),0)","v":0},{"$f":"IFERROR($E160*SUMIF('Daily Log'!$AI$18:$AI$1017,$B160,'Daily Log'!$AJ$18:$AJ$1017),0)","v":0},{"$f":"IFERROR($E160*SUMIF('Daily Log'!$AL$18:$AL$1017,$B160,'Daily Log'!$AM$18:$AM$1017),0)","v":0},{"$f":"IFERROR($E160*SUMIF('Daily Log'!$AO$18:$AO$1017,$B160,'Daily Log'!$AP$18:$AP$1017),0)","v":0},{"$f":"IFERROR($E160*SUMIF('Daily Log'!$AR$18:$AR$1017,$B160,'Daily Log'!$AS$18:$AS$1017),0)","v":0},{"$f":"IFERROR($E160*SUMIF('Daily Log'!$AU$18:$AU$1017,$B160,'Daily Log'!$AV$18:$AV$1017),0)","v":0},{"$f":"IFERROR($E160*SUMIF('Daily Log'!$AX$18:$AX$1017,$B160,'Daily Log'!$AY$18:$AY$1017),0)","v":0},{"$f":"IFERROR($E160*SUMIF('Daily Log'!$BA$18:$BA$1017,$B160,'Daily Log'!$BB$18:$BB$1017),0)","v":0},{"$f":"IFERROR($E160*SUMIF('Daily Log'!$BD$18:$BD$1017,$B160,'Daily Log'!$BE$18:$BE$1017),0)","v":0},{"$f":"IFERROR($E160*SUMIF('Daily Log'!$BG$18:$BG$1017,$B160,'Daily Log'!$BH$18:$BH$1017),0)","v":0},{"$f":"IFERROR($E160*SUMIF('Daily Log'!$BJ$18:$BJ$1017,$B160,'Daily Log'!$BK$18:$BK$1017),0)","v":0},{"$f":"IFERROR($E160*SUMIF('Daily Log'!$BM$18:$BM$1017,$B160,'Daily Log'!$BN$18:$BN$1017),0)","v":0},{"$f":"IFERROR($E160*SUMIF('Daily Log'!$BP$18:$BP$1017,$B160,'Daily Log'!$BQ$18:$BQ$1017),0)","v":0},{"$f":"IFERROR($E160*SUMIF('Daily Log'!$BS$18:$BS$1017,$B160,'Daily Log'!$BT$18:$BT$1017),0)","v":0},{"$f":"IFERROR($E160*SUMIF('Daily Log'!$BV$18:$BV$1017,$B160,'Daily Log'!$BW$18:$BW$1017),0)","v":0},{"$f":"IFERROR($E160*SUMIF('Daily Log'!$BY$18:$BY$1017,$B160,'Daily Log'!$BZ$18:$BZ$1017),0)","v":0},{"$f":"IFERROR($E160*SUMIF('Daily Log'!$CB$18:$CB$1017,$B160,'Daily Log'!$CC$18:$CC$1017),0)","v":0},{"$f":"IFERROR($E160*SUMIF('Daily Log'!$CE$18:$CE$1017,$B160,'Daily Log'!$CF$18:$CF$1017),0)","v":0},{"$f":"IFERROR($E160*SUMIF('Daily Log'!$CH$18:$CH$1017,$B160,'Daily Log'!$CI$18:$CI$1017),0)","v":0},{"$f":"IFERROR($E160*SUMIF('Daily Log'!$CK$18:$CK$1017,$B160,'Daily Log'!$CL$18:$CL$1017),0)","v":3},{"$f":"IFERROR($E160*SUMIF('Daily Log'!$CN$18:$CN$1017,$B160,'Daily Log'!$CO$18:$CO$1017),0)","v":0}]
[null,"TO06 80040:QUAIL EGGS",null,"LOK LOK",1,37,{"$f":"IFERROR($E161*SUMIF('Daily Log'!$B$18:$B$1017,$B161,'Daily Log'!$C$18:$C$1017),0)","v":0},{"$f":"IFERROR($E161*SUMIF('Daily Log'!$E$18:$E$1017,$B161,'Daily Log'!$F$18:$F$1017),0)","v":0},{"$f":"IFERROR($E161*SUMIF('Daily Log'!$H$18:$H$1017,$B161,'Daily Log'!$I$18:$I$1017),0)","v":0},{"$f":"IFERROR($E161*SUMIF('Daily Log'!$K$18:$K$1017,$B161,'Daily Log'!$L$18:$L$1017),0)","v":0},{"$f":"IFERROR($E161*SUMIF('Daily Log'!$N$18:$N$1017,$B161,'Daily Log'!$O$18:$O$1017),0)","v":0},{"$f":"IFERROR($E161*SUMIF('Daily Log'!$Q$18:$Q$1017,$B161,'Daily Log'!$R$18:$R$1017),0)","v":0},{"$f":"IFERROR($E161*SUMIF('Daily Log'!$T$18:$T$1017,$B161,'Daily Log'!$U$18:$U$1017),0)","v":0},{"$f":"IFERROR($E161*SUMIF('Daily Log'!$W$18:$W$1017,$B161,'Daily Log'!$X$18:$X$1017),0)","v":0},{"$f":"IFERROR($E161*SUMIF('Daily Log'!$Z$18:$Z$1017,$B161,'Daily Log'!$AA$18:$AA$1017),0)","v":0},{"$f":"IFERROR($E161*SUMIF('Daily Log'!$AC$18:$AC$1017,$B161,'Daily Log'!$AD$18:$AD$1017),0)","v":0},{"$f":"IFERROR($E161*SUMIF('Daily Log'!$AF$18:$AF$1017,$B161,'Daily Log'!$AG$18:$AG$1017),0)","v":0},{"$f":"IFERROR($E161*SUMIF('Daily Log'!$AI$18:$AI$1017,$B161,'Daily Log'!$AJ$18:$AJ$1017),0)","v":0},{"$f":"IFERROR($E161*SUMIF('Daily Log'!$AL$18:$AL$1017,$B161,'Daily Log'!$AM$18:$AM$1017),0)","v":0},{"$f":"IFERROR($E161*SUMIF('Daily Log'!$AO$18:$AO$1017,$B161,'Daily Log'!$AP$18:$AP$1017),0)","v":0},{"$f":"IFERROR($E161*SUMIF('Daily Log'!$AR$18:$AR$1017,$B161,'Daily Log'!$AS$18:$AS$1017),0)","v":0},{"$f":"IFERROR($E161*SUMIF('Daily Log'!$AU$18:$AU$1017,$B161,'Daily Log'!$AV$18:$AV$1017),0)","v":0},{"$f":"IFERROR($E161*SUMIF('Daily Log'!$AX$18:$AX$1017,$B161,'Daily Log'!$AY$18:$AY$1017),0)","v":0},{"$f":"IFERROR($E161*SUMIF('Daily Log'!$BA$18:$BA$1017,$B161,'Daily Log'!$BB$18:$BB$1017),0)","v":0},{"$f":"IFERROR($E161*SUMIF('Daily Log'!$BD$18:$BD$1017,$B161,'Daily Log'!$BE$18:$BE$1017),0)","v":0},{"$f":"IFERROR($E161*SUMIF('Daily Log'!$BG$18:$BG$1017,$B161,'Daily Log'!$BH$18:$BH$1017),0)","v":0},{"$f":"IFERROR($E161*SUMIF('Daily Log'!$BJ$18:$BJ$1017,$B161,'Daily Log'!$BK$18:$BK$1017),0)","v":0},{"$f":"IFERROR($E161*SUMIF('Daily Log'!$BM$18:$BM$1017,$B161,'Daily Log'!$BN$18:$BN$1017),0)","v":0},{"$f":"IFERROR($E161*SUMIF('Daily Log'!$BP$18:$BP$1017,$B161,'Daily Log'!$BQ$18:$BQ$1017),0)","v":0},{"$f":"IFERROR($E161*SUMIF('Daily Log'!$BS$18:$BS$1017,$B161,'Daily Log'!$BT$18:$BT$1017),0)","v":0},{"$f":"IFERROR($E161*SUMIF('Daily Log'!$BV$18:$BV$1017,$B161,'Daily Log'!$BW$18:$BW$1017),0)","v":0},{"$f":"IFERROR($E161*SUMIF('Daily Log'!$BY$18:$BY$1017,$B161,'Daily Log'!$BZ$18:$BZ$1017),0)","v":0},{"$f":"IFERROR($E161*SUMIF('Daily Log'!$CB$18:$CB$1017,$B161,'Daily Log'!$CC$18:$CC$1017),0)","v":0},{"$f":"IFERROR($E161*SUMIF('Daily Log'!$CE$18:$CE$1017,$B161,'Daily Log'!$CF$18:$CF$1017),0)","v":0},{"$f":"IFERROR($E161*SUMIF('Daily Log'!$CH$18:$CH$1017,$B161,'Daily Log'!$CI$18:$CI$1017),0)","v":0},{"$f":"IFERROR($E161*SUMIF('Daily Log'!$CK$18:$CK$1017,$B161,'Daily Log'!$CL$18:$CL$1017),0)","v":37},{"$f":"IFERROR($E161*SUMIF('Daily Log'!$CN$18:$CN$1017,$B161,'Daily Log'!$CO$18:$CO$1017),0)","v":0}]
[null,"TO07 80041:FSH TF PO",null,"LOK LOK",1,5,{"$f":"IFERROR($E162*SUMIF('Daily Log'!$B$18:$B$1017,$B162,'Daily Log'!$C$18:$C$1017),0)","v":0},{"$f":"IFERROR($E162*SUMIF('Daily Log'!$E$18:$E$1017,$B162,'Daily Log'!$F$18:$F$1017),0)","v":0},{"$f":"IFERROR($E162*SUMIF('Daily Log'!$H$18:$H$1017,$B162,'Daily Log'!$I$18:$I$1017),0)","v":0},{"$f":"IFERROR($E162*SUMIF('Daily Log'!$K$18:$K$1017,$B162,'Daily Log'!$L$18:$L$1017),0)","v":0},{"$f":"IFERROR($E162*SUMIF('Daily Log'!$N$18:$N$1017,$B162,'Daily Log'!$O$18:$O$1017),0)","v":0},{"$f":"IFERROR($E162*SUMIF('Daily Log'!$Q$18:$Q$1017,$B162,'Daily Log'!$R$18:$R$1017),0)","v":0},{"$f":"IFERROR($E162*SUMIF('Daily Log'!$T$18:$T$1017,$B162,'Daily Log'!$U$18:$U$1017),0)","v":0},{"$f":"IFERROR($E162*SUMIF('Daily Log'!$W$18:$W$1017,$B162,'Daily Log'!$X$18:$X$1017),0)","v":0},{"$f":"IFERROR($E162*SUMIF('Daily Log'!$Z$18:$Z$1017,$B162,'Daily Log'!$AA$18:$AA$1017),0)","v":0},{"$f":"IFERROR($E162*SUMIF('Daily Log'!$AC$18:$AC$1017,$B162,'Daily Log'!$AD$18:$AD$1017),0)","v":0},{"$f":"IFERROR($E162*SUMIF('Daily Log'!$AF$18:$AF$1017,$B162,'Daily Log'!$AG$18:$AG$1017),0)","v":0},{"$f":"IFERROR($E162*SUMIF('Daily Log'!$AI$18:$AI$1017,$B162,'Daily Log'!$AJ$18:$AJ$1017),0)","v":0},{"$f":"IFERROR($E162*SUMIF('Daily Log'!$AL$18:$AL$1017,$B162,'Daily Log'!$AM$18:$AM$1017),0)","v":0},{"$f":"IFERROR($E162*SUMIF('Daily Log'!$AO$18:$AO$1017,$B162,'Daily Log'!$AP$18:$AP$1017),0)","v":0},{"$f":"IFERROR($E162*SUMIF('Daily Log'!$AR$18:$AR$1017,$B162,'Daily Log'!$AS$18:$AS$1017),0)","v":0},{"$f":"IFERROR($E162*SUMIF('Daily Log'!$AU$18:$AU$1017,$B162,'Daily Log'!$AV$18:$AV$1017),0)","v":0},{"$f":"IFERROR($E162*SUMIF('Daily Log'!$AX$18:$AX$1017,$B162,'Daily Log'!$AY$18:$AY$1017),0)","v":0},{"$f":"IFERROR($E162*SUMIF('Daily Log'!$BA$18:$BA$1017,$B162,'Daily Log'!$BB$18:$BB$1017),0)","v":0},{"$f":"IFERROR($E162*SUMIF('Daily Log'!$BD$18:$BD$1017,$B162,'Daily Log'!$BE$18:$BE$1017),0)","v":0},{"$f":"IFERROR($E162*SUMIF('Daily Log'!$BG$18:$BG$1017,$B162,'Daily Log'!$BH$18:$BH$1017),0)","v":0},{"$f":"IFERROR($E162*SUMIF('Daily Log'!$BJ$18:$BJ$1017,$B162,'Daily Log'!$BK$18:$BK$1017),0)","v":0},{"$f":"IFERROR($E162*SUMIF('Daily Log'!$BM$18:$BM$1017,$B162,'Daily Log'!$BN$18:$BN$1017),0)","v":0},{"$f":"IFERROR($E162*SUMIF('Daily Log'!$BP$18:$BP$1017,$B162,'Daily Log'!$BQ$18:$BQ$1017),0)","v":0},{"$f":"IFERROR($E162*SUMIF('Daily Log'!$BS$18:$BS$1017,$B162,'Daily Log'!$BT$18:$BT$1017),0)","v":0},{"$f":"IFERROR($E162*SUMIF('Daily Log'!$BV$18:$BV$1017,$B162,'Daily Log'!$BW$18:$BW$1017),0)","v":0},{"$f":"IFERROR($E162*SUMIF('Daily Log'!$BY$18:$BY$1017,$B162,'Daily Log'!$BZ$18:$BZ$1017),0)","v":0},{"$f":"IFERROR($E162*SUMIF('Daily Log'!$CB$18:$CB$1017,$B162,'Daily Log'!$CC$18:$CC$1017),0)","v":0},{"$f":"IFERROR($E162*SUMIF('Daily Log'!$CE$18:$CE$1017,$B162,'Daily Log'!$CF$18:$CF$1017),0)","v":0},{"$f":"IFERROR($E162*SUMIF('Daily Log'!$CH$18:$CH$1017,$B162,'Daily Log'!$CI$18:$CI$1017),0)","v":0},{"$f":"IFERROR($E162*SUMIF('Daily Log'!$CK$18:$CK$1017,$B162,'Daily Log'!$CL$18:$CL$1017),0)","v":5},{"$f":"IFERROR($E162*SUMIF('Daily Log'!$CN$18:$CN$1017,$B162,'Daily Log'!$CO$18:$CO$1017),0)","v":0}]
[null,"TO08 80042:CRS BAO",null,"LOK LOK",1,10,{"$f":"IFERROR($E163*SUMIF('Daily Log'!$B$18:$B$1017,$B163,'Daily Log'!$C$18:$C$1017),0)","v":0},{"$f":"IFERROR($E163*SUMIF('Daily Log'!$E$18:$E$1017,$B163,'Daily Log'!$F$18:$F$1017),0)","v":0},{"$f":"IFERROR($E163*SUMIF('Daily Log'!$H$18:$H$1017,$B163,'Daily Log'!$I$18:$I$1017),0)","v":0},{"$f":"IFERROR($E163*SUMIF('Daily Log'!$K$18:$K$1017,$B163,'Daily Log'!$L$18:$L$1017),0)","v":0},{"$f":"IFERROR($E163*SUMIF('Daily Log'!$N$18:$N$1017,$B163,'Daily Log'!$O$18:$O$1017),0)","v":0},{"$f":"IFERROR($E163*SUMIF('Daily Log'!$Q$18:$Q$1017,$B163,'Daily Log'!$R$18:$R$1017),0)","v":0},{"$f":"IFERROR($E163*SUMIF('Daily Log'!$T$18:$T$1017,$B163,'Daily Log'!$U$18:$U$1017),0)","v":0},{"$f":"IFERROR($E163*SUMIF('Daily Log'!$W$18:$W$1017,$B163,'Daily Log'!$X$18:$X$1017),0)","v":0},{"$f":"IFERROR($E163*SUMIF('Daily Log'!$Z$18:$Z$1017,$B163,'Daily Log'!$AA$18:$AA$1017),0)","v":0},{"$f":"IFERROR($E163*SUMIF('Daily Log'!$AC$18:$AC$1017,$B163,'Daily Log'!$AD$18:$AD$1017),0)","v":0},{"$f":"IFERROR($E163*SUMIF('Daily Log'!$AF$18:$AF$1017,$B163,'Daily Log'!$AG$18:$AG$1017),0)","v":0},{"$f":"IFERROR($E163*SUMIF('Daily Log'!$AI$18:$AI$1017,$B163,'Daily Log'!$AJ$18:$AJ$1017),0)","v":0},{"$f":"IFERROR($E163*SUMIF('Daily Log'!$AL$18:$AL$1017,$B163,'Daily Log'!$AM$18:$AM$1017),0)","v":0},{"$f":"IFERROR($E163*SUMIF('Daily Log'!$AO$18:$AO$1017,$B163,'Daily Log'!$AP$18:$AP$1017),0)","v":0},{"$f":"IFERROR($E163*SUMIF('Daily Log'!$AR$18:$AR$1017,$B163,'Daily Log'!$AS$18:$AS$1017),0)","v":0},{"$f":"IFERROR($E163*SUMIF('Daily Log'!$AU$18:$AU$1017,$B163,'Daily Log'!$AV$18:$AV$1017),0)","v":0},{"$f":"IFERROR($E163*SUMIF('Daily Log'!$AX$18:$AX$1017,$B163,'Daily Log'!$AY$18:$AY$1017),0)","v":0},{"$f":"IFERROR($E163*SUMIF('Daily Log'!$BA$18:$BA$1017,$B163,'Daily Log'!$BB$18:$BB$1017),0)","v":0},{"$f":"IFERROR($E163*SUMIF('Daily Log'!$BD$18:$BD$1017,$B163,'Daily Log'!$BE$18:$BE$1017),0)","v":0},{"$f":"IFERROR($E163*SUMIF('Daily Log'!$BG$18:$BG$1017,$B163,'Daily Log'!$BH$18:$BH$1017),0)","v":0},{"$f":"IFERROR($E163*SUMIF('Daily Log'!$BJ$18:$BJ$1017,$B163,'Daily Log'!$BK$18:$BK$1017),0)","v":0},{"$f":"IFERROR($E163*SUMIF('Daily Log'!$BM$18:$BM$1017,$B163,'Daily Log'!$BN$18:$BN$1017),0)","v":0},{"$f":"IFERROR($E163*SUMIF('Daily Log'!$BP$18:$BP$1017,$B163,'Daily Log'!$BQ$18:$BQ$1017),0)","v":0},{"$f":"IFERROR($E163*SUMIF('Daily Log'!$BS$18:$BS$1017,$B163,'Daily Log'!$BT$18:$BT$1017),0)","v":0},{"$f":"IFERROR($E163*SUMIF('Daily Log'!$BV$18:$BV$1017,$B163,'Daily Log'!$BW$18:$BW$1017),0)","v":0},{"$f":"IFERROR($E163*SUMIF('Daily Log'!$BY$18:$BY$1017,$B163,'Daily Log'!$BZ$18:$BZ$1017),0)","v":0},{"$f":"IFERROR($E163*SUMIF('Daily Log'!$CB$18:$CB$1017,$B163,'Daily Log'!$CC$18:$CC$1017),0)","v":0},{"$f":"IFERROR($E163*SUMIF('Daily Log'!$CE$18:$CE$1017,$B163,'Daily Log'!$CF$18:$CF$1017),0)","v":0},{"$f":"IFERROR($E163*SUMIF('Daily Log'!$CH$18:$CH$1017,$B163,'Daily Log'!$CI$18:$CI$1017),0)","v":0},{"$f":"IFERROR($E163*SUMIF('Daily Log'!$CK$18:$CK$1017,$B163,'Daily Log'!$CL$18:$CL$1017),0)","v":10},{"$f":"IFERROR($E163*SUMIF('Daily Log'!$CN$18:$CN$1017,$B163,'Daily Log'!$CO$18:$CO$1017),0)","v":0}]
[null,"TO09 80043:Y DUMPLING",null,"LOK LOK",1,5,{"$f":"IFERROR($E164*SUMIF('Daily Log'!$B$18:$B$1017,$B164,'Daily Log'!$C$18:$C$1017),0)","v":0},{"$f":"IFERROR($E164*SUMIF('Daily Log'!$E$18:$E$1017,$B164,'Daily Log'!$F$18:$F$1017),0)","v":0},{"$f":"IFERROR($E164*SUMIF('Daily Log'!$H$18:$H$1017,$B164,'Daily Log'!$I$18:$I$1017),0)","v":0},{"$f":"IFERROR($E164*SUMIF('Daily Log'!$K$18:$K$1017,$B164,'Daily Log'!$L$18:$L$1017),0)","v":0},{"$f":"IFERROR($E164*SUMIF('Daily Log'!$N$18:$N$1017,$B164,'Daily Log'!$O$18:$O$1017),0)","v":0},{"$f":"IFERROR($E164*SUMIF('Daily Log'!$Q$18:$Q$1017,$B164,'Daily Log'!$R$18:$R$1017),0)","v":0},{"$f":"IFERROR($E164*SUMIF('Daily Log'!$T$18:$T$1017,$B164,'Daily Log'!$U$18:$U$1017),0)","v":0},{"$f":"IFERROR($E164*SUMIF('Daily Log'!$W$18:$W$1017,$B164,'Daily Log'!$X$18:$X$1017),0)","v":0},{"$f":"IFERROR($E164*SUMIF('Daily Log'!$Z$18:$Z$1017,$B164,'Daily Log'!$AA$18:$AA$1017),0)","v":0},{"$f":"IFERROR($E164*SUMIF('Daily Log'!$AC$18:$AC$1017,$B164,'Daily Log'!$AD$18:$AD$1017),0)","v":0},{"$f":"IFERROR($E164*SUMIF('Daily Log'!$AF$18:$AF$1017,$B164,'Daily Log'!$AG$18:$AG$1017),0)","v":0},{"$f":"IFERROR($E164*SUMIF('Daily Log'!$AI$18:$AI$1017,$B164,'Daily Log'!$AJ$18:$AJ$1017),0)","v":0},{"$f":"IFERROR($E164*SUMIF('Daily Log'!$AL$18:$AL$1017,$B164,'Daily Log'!$AM$18:$AM$1017),0)","v":0},{"$f":"IFERROR($E164*SUMIF('Daily Log'!$AO$18:$AO$1017,$B164,'Daily Log'!$AP$18:$AP$1017),0)","v":0},{"$f":"IFERROR($E164*SUMIF('Daily Log'!$AR$18:$AR$1017,$B164,'Daily Log'!$AS$18:$AS$1017),0)","v":0},{"$f":"IFERROR($E164*SUMIF('Daily Log'!$AU$18:$AU$1017,$B164,'Daily Log'!$AV$18:$AV$1017),0)","v":0},{"$f":"IFERROR($E164*SUMIF('Daily Log'!$AX$18:$AX$1017,$B164,'Daily Log'!$AY$18:$AY$1017),0)","v":0},{"$f":"IFERROR($E164*SUMIF('Daily Log'!$BA$18:$BA$1017,$B164,'Daily Log'!$BB$18:$BB$1017),0)","v":0},{"$f":"IFERROR($E164*SUMIF('Daily Log'!$BD$18:$BD$1017,$B164,'Daily Log'!$BE$18:$BE$1017),0)","v":0},{"$f":"IFERROR($E164*SUMIF('Daily Log'!$BG$18:$BG$1017,$B164,'Daily Log'!$BH$18:$BH$1017),0)","v":0},{"$f":"IFERROR($E164*SUMIF('Daily Log'!$BJ$18:$BJ$1017,$B164,'Daily Log'!$BK$18:$BK$1017),0)","v":0},{"$f":"IFERROR($E164*SUMIF('Daily Log'!$BM$18:$BM$1017,$B164,'Daily Log'!$BN$18:$BN$1017),0)","v":0},{"$f":"IFERROR($E164*SUMIF('Daily Log'!$BP$18:$BP$1017,$B164,'Daily Log'!$BQ$18:$BQ$1017),0)","v":0},{"$f":"IFERROR($E164*SUMIF('Daily Log'!$BS$18:$BS$1017,$B164,'Daily Log'!$BT$18:$BT$1017),0)","v":0},{"$f":"IFERROR($E164*SUMIF('Daily Log'!$BV$18:$BV$1017,$B164,'Daily Log'!$BW$18:$BW$1017),0)","v":0},{"$f":"IFERROR($E164*SUMIF('Daily Log'!$BY$18:$BY$1017,$B164,'Daily Log'!$BZ$18:$BZ$1017),0)","v":0},{"$f":"IFERROR($E164*SUMIF('Daily Log'!$CB$18:$CB$1017,$B164,'Daily Log'!$CC$18:$CC$1017),0)","v":0},{"$f":"IFERROR($E164*SUMIF('Daily Log'!$CE$18:$CE$1017,$B164,'Daily Log'!$CF$18:$CF$1017),0)","v":0},{"$f":"IFERROR($E164*SUMIF('Daily Log'!$CH$18:$CH$1017,$B164,'Daily Log'!$CI$18:$CI$1017),0)","v":0},{"$f":"IFERROR($E164*SUMIF('Daily Log'!$CK$18:$CK$1017,$B164,'Daily Log'!$CL$18:$CL$1017),0)","v":5},{"$f":"IFERROR($E164*SUMIF('Daily Log'!$CN$18:$CN$1017,$B164,'Daily Log'!$CO$18:$CO$1017),0)","v":0}]
[null,"TO10 80044:QC EGGS",null,"LOK LOK",1,56,{"$f":"IFERROR($E165*SUMIF('Daily Log'!$B$18:$B$1017,$B165,'Daily Log'!$C$18:$C$1017),0)","v":0},{"$f":"IFERROR($E165*SUMIF('Daily Log'!$E$18:$E$1017,$B165,'Daily Log'!$F$18:$F$1017),0)","v":0},{"$f":"IFERROR($E165*SUMIF('Daily Log'!$H$18:$H$1017,$B165,'Daily Log'!$I$18:$I$1017),0)","v":0},{"$f":"IFERROR($E165*SUMIF('Daily Log'!$K$18:$K$1017,$B165,'Daily Log'!$L$18:$L$1017),0)","v":0},{"$f":"IFERROR($E165*SUMIF('Daily Log'!$N$18:$N$1017,$B165,'Daily Log'!$O$18:$O$1017),0)","v":0},{"$f":"IFERROR($E165*SUMIF('Daily Log'!$Q$18:$Q$1017,$B165,'Daily Log'!$R$18:$R$1017),0)","v":0},{"$f":"IFERROR($E165*SUMIF('Daily Log'!$T$18:$T$1017,$B165,'Daily Log'!$U$18:$U$1017),0)","v":0},{"$f":"IFERROR($E165*SUMIF('Daily Log'!$W$18:$W$1017,$B165,'Daily Log'!$X$18:$X$1017),0)","v":0},{"$f":"IFERROR($E165*SUMIF('Daily Log'!$Z$18:$Z$1017,$B165,'Daily Log'!$AA$18:$AA$1017),0)","v":0},{"$f":"IFERROR($E165*SUMIF('Daily Log'!$AC$18:$AC$1017,$B165,'Daily Log'!$AD$18:$AD$1017),0)","v":0},{"$f":"IFERROR($E165*SUMIF('Daily Log'!$AF$18:$AF$1017,$B165,'Daily Log'!$AG$18:$AG$1017),0)","v":0},{"$f":"IFERROR($E165*SUMIF('Daily Log'!$AI$18:$AI$1017,$B165,'Daily Log'!$AJ$18:$AJ$1017),0)","v":0},{"$f":"IFERROR($E165*SUMIF('Daily Log'!$AL$18:$AL$1017,$B165,'Daily Log'!$AM$18:$AM$1017),0)","v":0},{"$f":"IFERROR($E165*SUMIF('Daily Log'!$AO$18:$AO$1017,$B165,'Daily Log'!$AP$18:$AP$1017),0)","v":0},{"$f":"IFERROR($E165*SUMIF('Daily Log'!$AR$18:$AR$1017,$B165,'Daily Log'!$AS$18:$AS$1017),0)","v":0},{"$f":"IFERROR($E165*SUMIF('Daily Log'!$AU$18:$AU$1017,$B165,'Daily Log'!$AV$18:$AV$1017),0)","v":0},{"$f":"IFERROR($E165*SUMIF('Daily Log'!$AX$18:$AX$1017,$B165,'Daily Log'!$AY$18:$AY$1017),0)","v":0},{"$f":"IFERROR($E165*SUMIF('Daily Log'!$BA$18:$BA$1017,$B165,'Daily Log'!$BB$18:$BB$1017),0)","v":0},{"$f":"IFERROR($E165*SUMIF('Daily Log'!$BD$18:$BD$1017,$B165,'Daily Log'!$BE$18:$BE$1017),0)","v":0},{"$f":"IFERROR($E165*SUMIF('Daily Log'!$BG$18:$BG$1017,$B165,'Daily Log'!$BH$18:$BH$1017),0)","v":0},{"$f":"IFERROR($E165*SUMIF('Daily Log'!$BJ$18:$BJ$1017,$B165,'Daily Log'!$BK$18:$BK$1017),0)","v":0},{"$f":"IFERROR($E165*SUMIF('Daily Log'!$BM$18:$BM$1017,$B165,'Daily Log'!$BN$18:$BN$1017),0)","v":0},{"$f":"IFERROR($E165*SUMIF('Daily Log'!$BP$18:$BP$1017,$B165,'Daily Log'!$BQ$18:$BQ$1017),0)","v":0},{"$f":"IFERROR($E165*SUMIF('Daily Log'!$BS$18:$BS$1017,$B165,'Daily Log'!$BT$18:$BT$1017),0)","v":0},{"$f":"IFERROR($E165*SUMIF('Daily Log'!$BV$18:$BV$1017,$B165,'Daily Log'!$BW$18:$BW$1017),0)","v":0},{"$f":"IFERROR($E165*SUMIF('Daily Log'!$BY$18:$BY$1017,$B165,'Daily Log'!$BZ$18:$BZ$1017),0)","v":0},{"$f":"IFERROR($E165*SUMIF('Daily Log'!$CB$18:$CB$1017,$B165,'Daily Log'!$CC$18:$CC$1017),0)","v":0},{"$f":"IFERROR($E165*SUMIF('Daily Log'!$CE$18:$CE$1017,$B165,'Daily Log'!$CF$18:$CF$1017),0)","v":0},{"$f":"IFERROR($E165*SUMIF('Daily Log'!$CH$18:$CH$1017,$B165,'Daily Log'!$CI$18:$CI$1017),0)","v":0},{"$f":"IFERROR($E165*SUMIF('Daily Log'!$CK$18:$CK$1017,$B165,'Daily Log'!$CL$18:$CL$1017),0)","v":56},{"$f":"IFERROR($E165*SUMIF('Daily Log'!$CN$18:$CN$1017,$B165,'Daily Log'!$CO$18:$CO$1017),0)","v":0}]
[null,"TO11 80045:SF TF",null,"LOK LOK",1,87,{"$f":"IFERROR($E166*SUMIF('Daily Log'!$B$18:$B$1017,$B166,'Daily Log'!$C$18:$C$1017),0)","v":0},{"$f":"IFERROR($E166*SUMIF('Daily Log'!$E$18:$E$1017,$B166,'Daily Log'!$F$18:$F$1017),0)","v":0},{"$f":"IFERROR($E166*SUMIF('Daily Log'!$H$18:$H$1017,$B166,'Daily Log'!$I$18:$I$1017),0)","v":0},{"$f":"IFERROR($E166*SUMIF('Daily Log'!$K$18:$K$1017,$B166,'Daily Log'!$L$18:$L$1017),0)","v":0},{"$f":"IFERROR($E166*SUMIF('Daily Log'!$N$18:$N$1017,$B166,'Daily Log'!$O$18:$O$1017),0)","v":0},{"$f":"IFERROR($E166*SUMIF('Daily Log'!$Q$18:$Q$1017,$B166,'Daily Log'!$R$18:$R$1017),0)","v":0},{"$f":"IFERROR($E166*SUMIF('Daily Log'!$T$18:$T$1017,$B166,'Daily Log'!$U$18:$U$1017),0)","v":0},{"$f":"IFERROR($E166*SUMIF('Daily Log'!$W$18:$W$1017,$B166,'Daily Log'!$X$18:$X$1017),0)","v":0},{"$f":"IFERROR($E166*SUMIF('Daily Log'!$Z$18:$Z$1017,$B166,'Daily Log'!$AA$18:$AA$1017),0)","v":0},{"$f":"IFERROR($E166*SUMIF('Daily Log'!$AC$18:$AC$1017,$B166,'Daily Log'!$AD$18:$AD$1017),0)","v":0},{"$f":"IFERROR($E166*SUMIF('Daily Log'!$AF$18:$AF$1017,$B166,'Daily Log'!$AG$18:$AG$1017),0)","v":0},{"$f":"IFERROR($E166*SUMIF('Daily Log'!$AI$18:$AI$1017,$B166,'Daily Log'!$AJ$18:$AJ$1017),0)","v":0},{"$f":"IFERROR($E166*SUMIF('Daily Log'!$AL$18:$AL$1017,$B166,'Daily Log'!$AM$18:$AM$1017),0)","v":0},{"$f":"IFERROR($E166*SUMIF('Daily Log'!$AO$18:$AO$1017,$B166,'Daily Log'!$AP$18:$AP$1017),0)","v":0},{"$f":"IFERROR($E166*SUMIF('Daily Log'!$AR$18:$AR$1017,$B166,'Daily Log'!$AS$18:$AS$1017),0)","v":0},{"$f":"IFERROR($E166*SUMIF('Daily Log'!$AU$18:$AU$1017,$B166,'Daily Log'!$AV$18:$AV$1017),0)","v":0},{"$f":"IFERROR($E166*SUMIF('Daily Log'!$AX$18:$AX$1017,$B166,'Daily Log'!$AY$18:$AY$1017),0)","v":0},{"$f":"IFERROR($E166*SUMIF('Daily Log'!$BA$18:$BA$1017,$B166,'Daily Log'!$BB$18:$BB$1017),0)","v":0},{"$f":"IFERROR($E166*SUMIF('Daily Log'!$BD$18:$BD$1017,$B166,'Daily Log'!$BE$18:$BE$1017),0)","v":0},{"$f":"IFERROR($E166*SUMIF('Daily Log'!$BG$18:$BG$1017,$B166,'Daily Log'!$BH$18:$BH$1017),0)","v":0},{"$f":"IFERROR($E166*SUMIF('Daily Log'!$BJ$18:$BJ$1017,$B166,'Daily Log'!$BK$18:$BK$1017),0)","v":0},{"$f":"IFERROR($E166*SUMIF('Daily Log'!$BM$18:$BM$1017,$B166,'Daily Log'!$BN$18:$BN$1017),0)","v":0},{"$f":"IFERROR($E166*SUMIF('Daily Log'!$BP$18:$BP$1017,$B166,'Daily Log'!$BQ$18:$BQ$1017),0)","v":0},{"$f":"IFERROR($E166*SUMIF('Daily Log'!$BS$18:$BS$1017,$B166,'Daily Log'!$BT$18:$BT$1017),0)","v":0},{"$f":"IFERROR($E166*SUMIF('Daily Log'!$BV$18:$BV$1017,$B166,'Daily Log'!$BW$18:$BW$1017),0)","v":0},{"$f":"IFERROR($E166*SUMIF('Daily Log'!$BY$18:$BY$1017,$B166,'Daily Log'!$BZ$18:$BZ$1017),0)","v":0},{"$f":"IFERROR($E166*SUMIF('Daily Log'!$CB$18:$CB$1017,$B166,'Daily Log'!$CC$18:$CC$1017),0)","v":0},{"$f":"IFERROR($E166*SUMIF('Daily Log'!$CE$18:$CE$1017,$B166,'Daily Log'!$CF$18:$CF$1017),0)","v":0},{"$f":"IFERROR($E166*SUMIF('Daily Log'!$CH$18:$CH$1017,$B166,'Daily Log'!$CI$18:$CI$1017),0)","v":0},{"$f":"IFERROR($E166*SUMIF('Daily Log'!$CK$18:$CK$1017,$B166,'Daily Log'!$CL$18:$CL$1017),0)","v":87},{"$f":"IFERROR($E166*SUMIF('Daily Log'!$CN$18:$CN$1017,$B166,'Daily Log'!$CO$18:$CO$1017),0)","v":0}]
[null,"TW01 81001:BP CKN CP",null,null,1,{"$f":"SUM($G167:$AK167)","v":1},{"$f":"IFERROR($E167*SUMIF('Daily Log'!$B$18:$B$1017,$B167,'Daily Log'!$C$18:$C$1017),0)","v":0},{"$f":"IFERROR($E167*SUMIF('Daily Log'!$E$18:$E$1017,$B167,'Daily Log'!$F$18:$F$1017),0)","v":0},{"$f":"IFERROR($E167*SUMIF('Daily Log'!$H$18:$H$1017,$B167,'Daily Log'!$I$18:$I$1017),0)","v":0},{"$f":"IFERROR($E167*SUMIF('Daily Log'!$K$18:$K$1017,$B167,'Daily Log'!$L$18:$L$1017),0)","v":0},{"$f":"IFERROR($E167*SUMIF('Daily Log'!$N$18:$N$1017,$B167,'Daily Log'!$O$18:$O$1017),0)","v":0},{"$f":"IFERROR($E167*SUMIF('Daily Log'!$Q$18:$Q$1017,$B167,'Daily Log'!$R$18:$R$1017),0)","v":0},{"$f":"IFERROR($E167*SUMIF('Daily Log'!$T$18:$T$1017,$B167,'Daily Log'!$U$18:$U$1017),0)","v":0},{"$f":"IFERROR($E167*SUMIF('Daily Log'!$W$18:$W$1017,$B167,'Daily Log'!$X$18:$X$1017),0)","v":0},{"$f":"IFERROR($E167*SUMIF('Daily Log'!$Z$18:$Z$1017,$B167,'Daily Log'!$AA$18:$AA$1017),0)","v":0},{"$f":"IFERROR($E167*SUMIF('Daily Log'!$AC$18:$AC$1017,$B167,'Daily Log'!$AD$18:$AD$1017),0)","v":0},{"$f":"IFERROR($E167*SUMIF('Daily Log'!$AF$18:$AF$1017,$B167,'Daily Log'!$AG$18:$AG$1017),0)","v":0},{"$f":"IFERROR($E167*SUMIF('Daily Log'!$AI$18:$AI$1017,$B167,'Daily Log'!$AJ$18:$AJ$1017),0)","v":0},{"$f":"IFERROR($E167*SUMIF('Daily Log'!$AL$18:$AL$1017,$B167,'Daily Log'!$AM$18:$AM$1017),0)","v":0},{"$f":"IFERROR($E167*SUMIF('Daily Log'!$AO$18:$AO$1017,$B167,'Daily Log'!$AP$18:$AP$1017),0)","v":0},{"$f":"IFERROR($E167*SUMIF('Daily Log'!$AR$18:$AR$1017,$B167,'Daily Log'!$AS$18:$AS$1017),0)","v":0},{"$f":"IFERROR($E167*SUMIF('Daily Log'!$AU$18:$AU$1017,$B167,'Daily Log'!$AV$18:$AV$1017),0)","v":0},{"$f":"IFERROR($E167*SUMIF('Daily Log'!$AX$18:$AX$1017,$B167,'Daily Log'!$AY$18:$AY$1017),0)","v":0},{"$f":"IFERROR($E167*SUMIF('Daily Log'!$BA$18:$BA$1017,$B167,'Daily Log'!$BB$18:$BB$1017),0)","v":0},{"$f":"IFERROR($E167*SUMIF('Daily Log'!$BD$18:$BD$1017,$B167,'Daily Log'!$BE$18:$BE$1017),0)","v":0},{"$f":"IFERROR($E167*SUMIF('Daily Log'!$BG$18:$BG$1017,$B167,'Daily Log'!$BH$18:$BH$1017),0)","v":0},{"$f":"IFERROR($E167*SUMIF('Daily Log'!$BJ$18:$BJ$1017,$B167,'Daily Log'!$BK$18:$BK$1017),0)","v":0},{"$f":"IFERROR($E167*SUMIF('Daily Log'!$BM$18:$BM$1017,$B167,'Daily Log'!$BN$18:$BN$1017),0)","v":0},{"$f":"IFERROR($E167*SUMIF('Daily Log'!$BP$18:$BP$1017,$B167,'Daily Log'!$BQ$18:$BQ$1017),0)","v":0},{"$f":"IFERROR($E167*SUMIF('Daily Log'!$BS$18:$BS$1017,$B167,'Daily Log'!$BT$18:$BT$1017),0)","v":0},{"$f":"IFERROR($E167*SUMIF('Daily Log'!$BV$18:$BV$1017,$B167,'Daily Log'!$BW$18:$BW$1017),0)","v":0},{"$f":"IFERROR($E167*SUMIF('Daily Log'!$BY$18:$BY$1017,$B167,'Daily Log'!$BZ$18:$BZ$1017),0)","v":0},{"$f":"IFERROR($E167*SUMIF('Daily Log'!$CB$18:$CB$1017,$B167,'Daily Log'!$CC$18:$CC$1017),0)","v":0},{"$f":"IFERROR($E167*SUMIF('Daily Log'!$CE$18:$CE$1017,$B167,'Daily Log'!$CF$18:$CF$1017),0)","v":0},{"$f":"IFERROR($E167*SUMIF('Daily Log'!$CH$18:$CH$1017,$B167,'Daily Log'!$CI$18:$CI$1017),0)","v":0},{"$f":"IFERROR($E167*SUMIF('Daily Log'!$CK$18:$CK$1017,$B167,'Daily Log'!$CL$18:$CL$1017),0)","v":1},{"$f":"IFERROR($E167*SUMIF('Daily Log'!$CN$18:$CN$1017,$B167,'Daily Log'!$CO$18:$CO$1017),0)","v":0}]
[null,"TW02 81003:MR CKN CP",null,null,1,1,{"$f":"IFERROR($E168*SUMIF('Daily Log'!$B$18:$B$1017,$B168,'Daily Log'!$C$18:$C$1017),0)","v":0},{"$f":"IFERROR($E168*SUMIF('Daily Log'!$E$18:$E$1017,$B168,'Daily Log'!$F$18:$F$1017),0)","v":0},{"$f":"IFERROR($E168*SUMIF('Daily Log'!$H$18:$H$1017,$B168,'Daily Log'!$I$18:$I$1017),0)","v":0},{"$f":"IFERROR($E168*SUMIF('Daily Log'!$K$18:$K$1017,$B168,'Daily Log'!$L$18:$L$1017),0)","v":0},{"$f":"IFERROR($E168*SUMIF('Daily Log'!$N$18:$N$1017,$B168,'Daily Log'!$O$18:$O$1017),0)","v":0},{"$f":"IFERROR($E168*SUMIF('Daily Log'!$Q$18:$Q$1017,$B168,'Daily Log'!$R$18:$R$1017),0)","v":0},{"$f":"IFERROR($E168*SUMIF('Daily Log'!$T$18:$T$1017,$B168,'Daily Log'!$U$18:$U$1017),0)","v":0},{"$f":"IFERROR($E168*SUMIF('Daily Log'!$W$18:$W$1017,$B168,'Daily Log'!$X$18:$X$1017),0)","v":0},{"$f":"IFERROR($E168*SUMIF('Daily Log'!$Z$18:$Z$1017,$B168,'Daily Log'!$AA$18:$AA$1017),0)","v":0},{"$f":"IFERROR($E168*SUMIF('Daily Log'!$AC$18:$AC$1017,$B168,'Daily Log'!$AD$18:$AD$1017),0)","v":0},{"$f":"IFERROR($E168*SUMIF('Daily Log'!$AF$18:$AF$1017,$B168,'Daily Log'!$AG$18:$AG$1017),0)","v":0},{"$f":"IFERROR($E168*SUMIF('Daily Log'!$AI$18:$AI$1017,$B168,'Daily Log'!$AJ$18:$AJ$1017),0)","v":0},{"$f":"IFERROR($E168*SUMIF('Daily Log'!$AL$18:$AL$1017,$B168,'Daily Log'!$AM$18:$AM$1017),0)","v":0},{"$f":"IFERROR($E168*SUMIF('Daily Log'!$AO$18:$AO$1017,$B168,'Daily Log'!$AP$18:$AP$1017),0)","v":0},{"$f":"IFERROR($E168*SUMIF('Daily Log'!$AR$18:$AR$1017,$B168,'Daily Log'!$AS$18:$AS$1017),0)","v":0},{"$f":"IFERROR($E168*SUMIF('Daily Log'!$AU$18:$AU$1017,$B168,'Daily Log'!$AV$18:$AV$1017),0)","v":0},{"$f":"IFERROR($E168*SUMIF('Daily Log'!$AX$18:$AX$1017,$B168,'Daily Log'!$AY$18:$AY$1017),0)","v":0},{"$f":"IFERROR($E168*SUMIF('Daily Log'!$BA$18:$BA$1017,$B168,'Daily Log'!$BB$18:$BB$1017),0)","v":0},{"$f":"IFERROR($E168*SUMIF('Daily Log'!$BD$18:$BD$1017,$B168,'Daily Log'!$BE$18:$BE$1017),0)","v":0},{"$f":"IFERROR($E168*SUMIF('Daily Log'!$BG$18:$BG$1017,$B168,'Daily Log'!$BH$18:$BH$1017),0)","v":0},{"$f":"IFERROR($E168*SUMIF('Daily Log'!$BJ$18:$BJ$1017,$B168,'Daily Log'!$BK$18:$BK$1017),0)","v":0},{"$f":"IFERROR($E168*SUMIF('Daily Log'!$BM$18:$BM$1017,$B168,'Daily Log'!$BN$18:$BN$1017),0)","v":0},{"$f":"IFERROR($E168*SUMIF('Daily Log'!$BP$18:$BP$1017,$B168,'Daily Log'!$BQ$18:$BQ$1017),0)","v":0},{"$f":"IFERROR($E168*SUMIF('Daily Log'!$BS$18:$BS$1017,$B168,'Daily Log'!$BT$18:$BT$1017),0)","v":0},{"$f":"IFERROR($E168*SUMIF('Daily Log'!$BV$18:$BV$1017,$B168,'Daily Log'!$BW$18:$BW$1017),0)","v":0},{"$f":"IFERROR($E168*SUMIF('Daily Log'!$BY$18:$BY$1017,$B168,'Daily Log'!$BZ$18:$BZ$1017),0)","v":0},{"$f":"IFERROR($E168*SUMIF('Daily Log'!$CB$18:$CB$1017,$B168,'Daily Log'!$CC$18:$CC$1017),0)","v":0},{"$f":"IFERROR($E168*SUMIF('Daily Log'!$CE$18:$CE$1017,$B168,'Daily Log'!$CF$18:$CF$1017),0)","v":0},{"$f":"IFERROR($E168*SUMIF('Daily Log'!$CH$18:$CH$1017,$B168,'Daily Log'!$CI$18:$CI$1017),0)","v":0},{"$f":"IFERROR($E168*SUMIF('Daily Log'!$CK$18:$CK$1017,$B168,'Daily Log'!$CL$18:$CL$1017),0)","v":1},{"$f":"IFERROR($E168*SUMIF('Daily Log'!$CN$18:$CN$1017,$B168,'Daily Log'!$CO$18:$CO$1017),0)","v":0}]
[null,"TW03 81004:CKN MARY",null,null,1,0,{"$f":"IFERROR($E169*SUMIF('Daily Log'!$B$18:$B$1017,$B169,'Daily Log'!$C$18:$C$1017),0)","v":0},{"$f":"IFERROR($E169*SUMIF('Daily Log'!$E$18:$E$1017,$B169,'Daily Log'!$F$18:$F$1017),0)","v":0},{"$f":"IFERROR($E169*SUMIF('Daily Log'!$H$18:$H$1017,$B169,'Daily Log'!$I$18:$I$1017),0)","v":0},{"$f":"IFERROR($E169*SUMIF('Daily Log'!$K$18:$K$1017,$B169,'Daily Log'!$L$18:$L$1017),0)","v":0},{"$f":"IFERROR($E169*SUMIF('Daily Log'!$N$18:$N$1017,$B169,'Daily Log'!$O$18:$O$1017),0)","v":0},{"$f":"IFERROR($E169*SUMIF('Daily Log'!$Q$18:$Q$1017,$B169,'Daily Log'!$R$18:$R$1017),0)","v":0},{"$f":"IFERROR($E169*SUMIF('Daily Log'!$T$18:$T$1017,$B169,'Daily Log'!$U$18:$U$1017),0)","v":0},{"$f":"IFERROR($E169*SUMIF('Daily Log'!$W$18:$W$1017,$B169,'Daily Log'!$X$18:$X$1017),0)","v":0},{"$f":"IFERROR($E169*SUMIF('Daily Log'!$Z$18:$Z$1017,$B169,'Daily Log'!$AA$18:$AA$1017),0)","v":0},{"$f":"IFERROR($E169*SUMIF('Daily Log'!$AC$18:$AC$1017,$B169,'Daily Log'!$AD$18:$AD$1017),0)","v":0},{"$f":"IFERROR($E169*SUMIF('Daily Log'!$AF$18:$AF$1017,$B169,'Daily Log'!$AG$18:$AG$1017),0)","v":0},{"$f":"IFERROR($E169*SUMIF('Daily Log'!$AI$18:$AI$1017,$B169,'Daily Log'!$AJ$18:$AJ$1017),0)","v":0},{"$f":"IFERROR($E169*SUMIF('Daily Log'!$AL$18:$AL$1017,$B169,'Daily Log'!$AM$18:$AM$1017),0)","v":0},{"$f":"IFERROR($E169*SUMIF('Daily Log'!$AO$18:$AO$1017,$B169,'Daily Log'!$AP$18:$AP$1017),0)","v":0},{"$f":"IFERROR($E169*SUMIF('Daily Log'!$AR$18:$AR$1017,$B169,'Daily Log'!$AS$18:$AS$1017),0)","v":0},{"$f":"IFERROR($E169*SUMIF('Daily Log'!$AU$18:$AU$1017,$B169,'Daily Log'!$AV$18:$AV$1017),0)","v":0},{"$f":"IFERROR($E169*SUMIF('Daily Log'!$AX$18:$AX$1017,$B169,'Daily Log'!$AY$18:$AY$1017),0)","v":0},{"$f":"IFERROR($E169*SUMIF('Daily Log'!$BA$18:$BA$1017,$B169,'Daily Log'!$BB$18:$BB$1017),0)","v":0},{"$f":"IFERROR($E169*SUMIF('Daily Log'!$BD$18:$BD$1017,$B169,'Daily Log'!$BE$18:$BE$1017),0)","v":0},{"$f":"IFERROR($E169*SUMIF('Daily Log'!$BG$18:$BG$1017,$B169,'Daily Log'!$BH$18:$BH$1017),0)","v":0},{"$f":"IFERROR($E169*SUMIF('Daily Log'!$BJ$18:$BJ$1017,$B169,'Daily Log'!$BK$18:$BK$1017),0)","v":0},{"$f":"IFERROR($E169*SUMIF('Daily Log'!$BM$18:$BM$1017,$B169,'Daily Log'!$BN$18:$BN$1017),0)","v":0},{"$f":"IFERROR($E169*SUMIF('Daily Log'!$BP$18:$BP$1017,$B169,'Daily Log'!$BQ$18:$BQ$1017),0)","v":0},{"$f":"IFERROR($E169*SUMIF('Daily Log'!$BS$18:$BS$1017,$B169,'Daily Log'!$BT$18:$BT$1017),0)","v":0},{"$f":"IFERROR($E169*SUMIF('Daily Log'!$BV$18:$BV$1017,$B169,'Daily Log'!$BW$18:$BW$1017),0)","v":0},{"$f":"IFERROR($E169*SUMIF('Daily Log'!$BY$18:$BY$1017,$B169,'Daily Log'!$BZ$18:$BZ$1017),0)","v":0},{"$f":"IFERROR($E169*SUMIF('Daily Log'!$CB$18:$CB$1017,$B169,'Daily Log'!$CC$18:$CC$1017),0)","v":0},{"$f":"IFERROR($E169*SUMIF('Daily Log'!$CE$18:$CE$1017,$B169,'Daily Log'!$CF$18:$CF$1017),0)","v":0},{"$f":"IFERROR($E169*SUMIF('Daily Log'!$CH$18:$CH$1017,$B169,'Daily Log'!$CI$18:$CI$1017),0)","v":0},{"$f":"IFERROR($E169*SUMIF('Daily Log'!$CK$18:$CK$1017,$B169,'Daily Log'!$CL$18:$CL$1017),0)","v":0},{"$f":"IFERROR($E169*SUMIF('Daily Log'!$CN$18:$CN$1017,$B169,'Daily Log'!$CO$18:$CO$1017),0)","v":0}]
[null,"TW04 81005:FSH&CHIP",null,null,1,0,{"$f":"IFERROR($E170*SUMIF('Daily Log'!$B$18:$B$1017,$B170,'Daily Log'!$C$18:$C$1017),0)","v":0},{"$f":"IFERROR($E170*SUMIF('Daily Log'!$E$18:$E$1017,$B170,'Daily Log'!$F$18:$F$1017),0)","v":0},{"$f":"IFERROR($E170*SUMIF('Daily Log'!$H$18:$H$1017,$B170,'Daily Log'!$I$18:$I$1017),0)","v":0},{"$f":"IFERROR($E170*SUMIF('Daily Log'!$K$18:$K$1017,$B170,'Daily Log'!$L$18:$L$1017),0)","v":0},{"$f":"IFERROR($E170*SUMIF('Daily Log'!$N$18:$N$1017,$B170,'Daily Log'!$O$18:$O$1017),0)","v":0},{"$f":"IFERROR($E170*SUMIF('Daily Log'!$Q$18:$Q$1017,$B170,'Daily Log'!$R$18:$R$1017),0)","v":0},{"$f":"IFERROR($E170*SUMIF('Daily Log'!$T$18:$T$1017,$B170,'Daily Log'!$U$18:$U$1017),0)","v":0},{"$f":"IFERROR($E170*SUMIF('Daily Log'!$W$18:$W$1017,$B170,'Daily Log'!$X$18:$X$1017),0)","v":0},{"$f":"IFERROR($E170*SUMIF('Daily Log'!$Z$18:$Z$1017,$B170,'Daily Log'!$AA$18:$AA$1017),0)","v":0},{"$f":"IFERROR($E170*SUMIF('Daily Log'!$AC$18:$AC$1017,$B170,'Daily Log'!$AD$18:$AD$1017),0)","v":0},{"$f":"IFERROR($E170*SUMIF('Daily Log'!$AF$18:$AF$1017,$B170,'Daily Log'!$AG$18:$AG$1017),0)","v":0},{"$f":"IFERROR($E170*SUMIF('Daily Log'!$AI$18:$AI$1017,$B170,'Daily Log'!$AJ$18:$AJ$1017),0)","v":0},{"$f":"IFERROR($E170*SUMIF('Daily Log'!$AL$18:$AL$1017,$B170,'Daily Log'!$AM$18:$AM$1017),0)","v":0},{"$f":"IFERROR($E170*SUMIF('Daily Log'!$AO$18:$AO$1017,$B170,'Daily Log'!$AP$18:$AP$1017),0)","v":0},{"$f":"IFERROR($E170*SUMIF('Daily Log'!$AR$18:$AR$1017,$B170,'Daily Log'!$AS$18:$AS$1017),0)","v":0},{"$f":"IFERROR($E170*SUMIF('Daily Log'!$AU$18:$AU$1017,$B170,'Daily Log'!$AV$18:$AV$1017),0)","v":0},{"$f":"IFERROR($E170*SUMIF('Daily Log'!$AX$18:$AX$1017,$B170,'Daily Log'!$AY$18:$AY$1017),0)","v":0},{"$f":"IFERROR($E170*SUMIF('Daily Log'!$BA$18:$BA$1017,$B170,'Daily Log'!$BB$18:$BB$1017),0)","v":0},{"$f":"IFERROR($E170*SUMIF('Daily Log'!$BD$18:$BD$1017,$B170,'Daily Log'!$BE$18:$BE$1017),0)","v":0},{"$f":"IFERROR($E170*SUMIF('Daily Log'!$BG$18:$BG$1017,$B170,'Daily Log'!$BH$18:$BH$1017),0)","v":0},{"$f":"IFERROR($E170*SUMIF('Daily Log'!$BJ$18:$BJ$1017,$B170,'Daily Log'!$BK$18:$BK$1017),0)","v":0},{"$f":"IFERROR($E170*SUMIF('Daily Log'!$BM$18:$BM$1017,$B170,'Daily Log'!$BN$18:$BN$1017),0)","v":0},{"$f":"IFERROR($E170*SUMIF('Daily Log'!$BP$18:$BP$1017,$B170,'Daily Log'!$BQ$18:$BQ$1017),0)","v":0},{"$f":"IFERROR($E170*SUMIF('Daily Log'!$BS$18:$BS$1017,$B170,'Daily Log'!$BT$18:$BT$1017),0)","v":0},{"$f":"IFERROR($E170*SUMIF('Daily Log'!$BV$18:$BV$1017,$B170,'Daily Log'!$BW$18:$BW$1017),0)","v":0},{"$f":"IFERROR($E170*SUMIF('Daily Log'!$BY$18:$BY$1017,$B170,'Daily Log'!$BZ$18:$BZ$1017),0)","v":0},{"$f":"IFERROR($E170*SUMIF('Daily Log'!$CB$18:$CB$1017,$B170,'Daily Log'!$CC$18:$CC$1017),0)","v":0},{"$f":"IFERROR($E170*SUMIF('Daily Log'!$CE$18:$CE$1017,$B170,'Daily Log'!$CF$18:$CF$1017),0)","v":0},{"$f":"IFERROR($E170*SUMIF('Daily Log'!$CH$18:$CH$1017,$B170,'Daily Log'!$CI$18:$CI$1017),0)","v":0},{"$f":"IFERROR($E170*SUMIF('Daily Log'!$CK$18:$CK$1017,$B170,'Daily Log'!$CL$18:$CL$1017),0)","v":0},{"$f":"IFERROR($E170*SUMIF('Daily Log'!$CN$18:$CN$1017,$B170,'Daily Log'!$CO$18:$CO$1017),0)","v":0}]
[null,"TW05 81007:CHK SALAD",null,null,1,0,{"$f":"IFERROR($E171*SUMIF('Daily Log'!$B$18:$B$1017,$B171,'Daily Log'!$C$18:$C$1017),0)","v":0},{"$f":"IFERROR($E171*SUMIF('Daily Log'!$E$18:$E$1017,$B171,'Daily Log'!$F$18:$F$1017),0)","v":0},{"$f":"IFERROR($E171*SUMIF('Daily Log'!$H$18:$H$1017,$B171,'Daily Log'!$I$18:$I$1017),0)","v":0},{"$f":"IFERROR($E171*SUMIF('Daily Log'!$K$18:$K$1017,$B171,'Daily Log'!$L$18:$L$1017),0)","v":0},{"$f":"IFERROR($E171*SUMIF('Daily Log'!$N$18:$N$1017,$B171,'Daily Log'!$O$18:$O$1017),0)","v":0},{"$f":"IFERROR($E171*SUMIF('Daily Log'!$Q$18:$Q$1017,$B171,'Daily Log'!$R$18:$R$1017),0)","v":0},{"$f":"IFERROR($E171*SUMIF('Daily Log'!$T$18:$T$1017,$B171,'Daily Log'!$U$18:$U$1017),0)","v":0},{"$f":"IFERROR($E171*SUMIF('Daily Log'!$W$18:$W$1017,$B171,'Daily Log'!$X$18:$X$1017),0)","v":0},{"$f":"IFERROR($E171*SUMIF('Daily Log'!$Z$18:$Z$1017,$B171,'Daily Log'!$AA$18:$AA$1017),0)","v":0},{"$f":"IFERROR($E171*SUMIF('Daily Log'!$AC$18:$AC$1017,$B171,'Daily Log'!$AD$18:$AD$1017),0)","v":0},{"$f":"IFERROR($E171*SUMIF('Daily Log'!$AF$18:$AF$1017,$B171,'Daily Log'!$AG$18:$AG$1017),0)","v":0},{"$f":"IFERROR($E171*SUMIF('Daily Log'!$AI$18:$AI$1017,$B171,'Daily Log'!$AJ$18:$AJ$1017),0)","v":0},{"$f":"IFERROR($E171*SUMIF('Daily Log'!$AL$18:$AL$1017,$B171,'Daily Log'!$AM$18:$AM$1017),0)","v":0},{"$f":"IFERROR($E171*SUMIF('Daily Log'!$AO$18:$AO$1017,$B171,'Daily Log'!$AP$18:$AP$1017),0)","v":0},{"$f":"IFERROR($E171*SUMIF('Daily Log'!$AR$18:$AR$1017,$B171,'Daily Log'!$AS$18:$AS$1017),0)","v":0},{"$f":"IFERROR($E171*SUMIF('Daily Log'!$AU$18:$AU$1017,$B171,'Daily Log'!$AV$18:$AV$1017),0)","v":0},{"$f":"IFERROR($E171*SUMIF('Daily Log'!$AX$18:$AX$1017,$B171,'Daily Log'!$AY$18:$AY$1017),0)","v":0},{"$f":"IFERROR($E171*SUMIF('Daily Log'!$BA$18:$BA$1017,$B171,'Daily Log'!$BB$18:$BB$1017),0)","v":0},{"$f":"IFERROR($E171*SUMIF('Daily Log'!$BD$18:$BD$1017,$B171,'Daily Log'!$BE$18:$BE$1017),0)","v":0},{"$f":"IFERROR($E171*SUMIF('Daily Log'!$BG$18:$BG$1017,$B171,'Daily Log'!$BH$18:$BH$1017),0)","v":0},{"$f":"IFERROR($E171*SUMIF('Daily Log'!$BJ$18:$BJ$1017,$B171,'Daily Log'!$BK$18:$BK$1017),0)","v":0},{"$f":"IFERROR($E171*SUMIF('Daily Log'!$BM$18:$BM$1017,$B171,'Daily Log'!$BN$18:$BN$1017),0)","v":0},{"$f":"IFERROR($E171*SUMIF('Daily Log'!$BP$18:$BP$1017,$B171,'Daily Log'!$BQ$18:$BQ$1017),0)","v":0},{"$f":"IFERROR($E171*SUMIF('Daily Log'!$BS$18:$BS$1017,$B171,'Daily Log'!$BT$18:$BT$1017),0)","v":0},{"$f":"IFERROR($E171*SUMIF('Daily Log'!$BV$18:$BV$1017,$B171,'Daily Log'!$BW$18:$BW$1017),0)","v":0},{"$f":"IFERROR($E171*SUMIF('Daily Log'!$BY$18:$BY$1017,$B171,'Daily Log'!$BZ$18:$BZ$1017),0)","v":0},{"$f":"IFERROR($E171*SUMIF('Daily Log'!$CB$18:$CB$1017,$B171,'Daily Log'!$CC$18:$CC$1017),0)","v":0},{"$f":"IFERROR($E171*SUMIF('Daily Log'!$CE$18:$CE$1017,$B171,'Daily Log'!$CF$18:$CF$1017),0)","v":0},{"$f":"IFERROR($E171*SUMIF('Daily Log'!$CH$18:$CH$1017,$B171,'Daily Log'!$CI$18:$CI$1017),0)","v":0},{"$f":"IFERROR($E171*SUMIF('Daily Log'!$CK$18:$CK$1017,$B171,'Daily Log'!$CL$18:$CL$1017),0)","v":0},{"$f":"IFERROR($E171*SUMIF('Daily Log'!$CN$18:$CN$1017,$B171,'Daily Log'!$CO$18:$CO$1017),0)","v":0}]
[null,"TC01 81101:THAI CHK",null,null,1,0,{"$f":"IFERROR($E172*SUMIF('Daily Log'!$B$18:$B$1017,$B172,'Daily Log'!$C$18:$C$1017),0)","v":0},{"$f":"IFERROR($E172*SUMIF('Daily Log'!$E$18:$E$1017,$B172,'Daily Log'!$F$18:$F$1017),0)","v":0},{"$f":"IFERROR($E172*SUMIF('Daily Log'!$H$18:$H$1017,$B172,'Daily Log'!$I$18:$I$1017),0)","v":0},{"$f":"IFERROR($E172*SUMIF('Daily Log'!$K$18:$K$1017,$B172,'Daily Log'!$L$18:$L$1017),0)","v":0},{"$f":"IFERROR($E172*SUMIF('Daily Log'!$N$18:$N$1017,$B172,'Daily Log'!$O$18:$O$1017),0)","v":0},{"$f":"IFERROR($E172*SUMIF('Daily Log'!$Q$18:$Q$1017,$B172,'Daily Log'!$R$18:$R$1017),0)","v":0},{"$f":"IFERROR($E172*SUMIF('Daily Log'!$T$18:$T$1017,$B172,'Daily Log'!$U$18:$U$1017),0)","v":0},{"$f":"IFERROR($E172*SUMIF('Daily Log'!$W$18:$W$1017,$B172,'Daily Log'!$X$18:$X$1017),0)","v":0},{"$f":"IFERROR($E172*SUMIF('Daily Log'!$Z$18:$Z$1017,$B172,'Daily Log'!$AA$18:$AA$1017),0)","v":0},{"$f":"IFERROR($E172*SUMIF('Daily Log'!$AC$18:$AC$1017,$B172,'Daily Log'!$AD$18:$AD$1017),0)","v":0},{"$f":"IFERROR($E172*SUMIF('Daily Log'!$AF$18:$AF$1017,$B172,'Daily Log'!$AG$18:$AG$1017),0)","v":0},{"$f":"IFERROR($E172*SUMIF('Daily Log'!$AI$18:$AI$1017,$B172,'Daily Log'!$AJ$18:$AJ$1017),0)","v":0},{"$f":"IFERROR($E172*SUMIF('Daily Log'!$AL$18:$AL$1017,$B172,'Daily Log'!$AM$18:$AM$1017),0)","v":0},{"$f":"IFERROR($E172*SUMIF('Daily Log'!$AO$18:$AO$1017,$B172,'Daily Log'!$AP$18:$AP$1017),0)","v":0},{"$f":"IFERROR($E172*SUMIF('Daily Log'!$AR$18:$AR$1017,$B172,'Daily Log'!$AS$18:$AS$1017),0)","v":0},{"$f":"IFERROR($E172*SUMIF('Daily Log'!$AU$18:$AU$1017,$B172,'Daily Log'!$AV$18:$AV$1017),0)","v":0},{"$f":"IFERROR($E172*SUMIF('Daily Log'!$AX$18:$AX$1017,$B172,'Daily Log'!$AY$18:$AY$1017),0)","v":0},{"$f":"IFERROR($E172*SUMIF('Daily Log'!$BA$18:$BA$1017,$B172,'Daily Log'!$BB$18:$BB$1017),0)","v":0},{"$f":"IFERROR($E172*SUMIF('Daily Log'!$BD$18:$BD$1017,$B172,'Daily Log'!$BE$18:$BE$1017),0)","v":0},{"$f":"IFERROR($E172*SUMIF('Daily Log'!$BG$18:$BG$1017,$B172,'Daily Log'!$BH$18:$BH$1017),0)","v":0},{"$f":"IFERROR($E172*SUMIF('Daily Log'!$BJ$18:$BJ$1017,$B172,'Daily Log'!$BK$18:$BK$1017),0)","v":0},{"$f":"IFERROR($E172*SUMIF('Daily Log'!$BM$18:$BM$1017,$B172,'Daily Log'!$BN$18:$BN$1017),0)","v":0},{"$f":"IFERROR($E172*SUMIF('Daily Log'!$BP$18:$BP$1017,$B172,'Daily Log'!$BQ$18:$BQ$1017),0)","v":0},{"$f":"IFERROR($E172*SUMIF('Daily Log'!$BS$18:$BS$1017,$B172,'Daily Log'!$BT$18:$BT$1017),0)","v":0},{"$f":"IFERROR($E172*SUMIF('Daily Log'!$BV$18:$BV$1017,$B172,'Daily Log'!$BW$18:$BW$1017),0)","v":0},{"$f":"IFERROR($E172*SUMIF('Daily Log'!$BY$18:$BY$1017,$B172,'Daily Log'!$BZ$18:$BZ$1017),0)","v":0},{"$f":"IFERROR($E172*SUMIF('Daily Log'!$CB$18:$CB$1017,$B172,'Daily Log'!$CC$18:$CC$1017),0)","v":0},{"$f":"IFERROR($E172*SUMIF('Daily Log'!$CE$18:$CE$1017,$B172,'Daily Log'!$CF$18:$CF$1017),0)","v":0},{"$f":"IFERROR($E172*SUMIF('Daily Log'!$CH$18:$CH$1017,$B172,'Daily Log'!$CI$18:$CI$1017),0)","v":0},{"$f":"IFERROR($E172*SUMIF('Daily Log'!$CK$18:$CK$1017,$B172,'Daily Log'!$CL$18:$CL$1017),0)","v":0},{"$f":"IFERROR($E172*SUMIF('Daily Log'!$CN$18:$CN$1017,$B172,'Daily Log'!$CO$18:$CO$1017),0)","v":0}]
[null,"TC02 81102:MAMITE CHK",null,null,1,1,{"$f":"IFERROR($E173*SUMIF('Daily Log'!$B$18:$B$1017,$B173,'Daily Log'!$C$18:$C$1017),0)","v":0},{"$f":"IFERROR($E173*SUMIF('Daily Log'!$E$18:$E$1017,$B173,'Daily Log'!$F$18:$F$1017),0)","v":0},{"$f":"IFERROR($E173*SUMIF('Daily Log'!$H$18:$H$1017,$B173,'Daily Log'!$I$18:$I$1017),0)","v":0},{"$f":"IFERROR($E173*SUMIF('Daily Log'!$K$18:$K$1017,$B173,'Daily Log'!$L$18:$L$1017),0)","v":0},{"$f":"IFERROR($E173*SUMIF('Daily Log'!$N$18:$N$1017,$B173,'Daily Log'!$O$18:$O$1017),0)","v":0},{"$f":"IFERROR($E173*SUMIF('Daily Log'!$Q$18:$Q$1017,$B173,'Daily Log'!$R$18:$R$1017),0)","v":0},{"$f":"IFERROR($E173*SUMIF('Daily Log'!$T$18:$T$1017,$B173,'Daily Log'!$U$18:$U$1017),0)","v":0},{"$f":"IFERROR($E173*SUMIF('Daily Log'!$W$18:$W$1017,$B173,'Daily Log'!$X$18:$X$1017),0)","v":0},{"$f":"IFERROR($E173*SUMIF('Daily Log'!$Z$18:$Z$1017,$B173,'Daily Log'!$AA$18:$AA$1017),0)","v":0},{"$f":"IFERROR($E173*SUMIF('Daily Log'!$AC$18:$AC$1017,$B173,'Daily Log'!$AD$18:$AD$1017),0)","v":0},{"$f":"IFERROR($E173*SUMIF('Daily Log'!$AF$18:$AF$1017,$B173,'Daily Log'!$AG$18:$AG$1017),0)","v":0},{"$f":"IFERROR($E173*SUMIF('Daily Log'!$AI$18:$AI$1017,$B173,'Daily Log'!$AJ$18:$AJ$1017),0)","v":0},{"$f":"IFERROR($E173*SUMIF('Daily Log'!$AL$18:$AL$1017,$B173,'Daily Log'!$AM$18:$AM$1017),0)","v":0},{"$f":"IFERROR($E173*SUMIF('Daily Log'!$AO$18:$AO$1017,$B173,'Daily Log'!$AP$18:$AP$1017),0)","v":0},{"$f":"IFERROR($E173*SUMIF('Daily Log'!$AR$18:$AR$1017,$B173,'Daily Log'!$AS$18:$AS$1017),0)","v":0},{"$f":"IFERROR($E173*SUMIF('Daily Log'!$AU$18:$AU$1017,$B173,'Daily Log'!$AV$18:$AV$1017),0)","v":0},{"$f":"IFERROR($E173*SUMIF('Daily Log'!$AX$18:$AX$1017,$B173,'Daily Log'!$AY$18:$AY$1017),0)","v":0},{"$f":"IFERROR($E173*SUMIF('Daily Log'!$BA$18:$BA$1017,$B173,'Daily Log'!$BB$18:$BB$1017),0)","v":0},{"$f":"IFERROR($E173*SUMIF('Daily Log'!$BD$18:$BD$1017,$B173,'Daily Log'!$BE$18:$BE$1017),0)","v":0},{"$f":"IFERROR($E173*SUMIF('Daily Log'!$BG$18:$BG$1017,$B173,'Daily Log'!$BH$18:$BH$1017),0)","v":0},{"$f":"IFERROR($E173*SUMIF('Daily Log'!$BJ$18:$BJ$1017,$B173,'Daily Log'!$BK$18:$BK$1017),0)","v":0},{"$f":"IFERROR($E173*SUMIF('Daily Log'!$BM$18:$BM$1017,$B173,'Daily Log'!$BN$18:$BN$1017),0)","v":0},{"$f":"IFERROR($E173*SUMIF('Daily Log'!$BP$18:$BP$1017,$B173,'Daily Log'!$BQ$18:$BQ$1017),0)","v":0},{"$f":"IFERROR($E173*SUMIF('Daily Log'!$BS$18:$BS$1017,$B173,'Daily Log'!$BT$18:$BT$1017),0)","v":0},{"$f":"IFERROR($E173*SUMIF('Daily Log'!$BV$18:$BV$1017,$B173,'Daily Log'!$BW$18:$BW$1017),0)","v":0},{"$f":"IFERROR($E173*SUMIF('Daily Log'!$BY$18:$BY$1017,$B173,'Daily Log'!$BZ$18:$BZ$1017),0)","v":0},{"$f":"IFERROR($E173*SUMIF('Daily Log'!$CB$18:$CB$1017,$B173,'Daily Log'!$CC$18:$CC$1017),0)","v":0},{"$f":"IFERROR($E173*SUMIF('Daily Log'!$CE$18:$CE$1017,$B173,'Daily Log'!$CF$18:$CF$1017),0)","v":0},{"$f":"IFERROR($E173*SUMIF('Daily Log'!$CH$18:$CH$1017,$B173,'Daily Log'!$CI$18:$CI$1017),0)","v":0},{"$f":"IFERROR($E173*SUMIF('Daily Log'!$CK$18:$CK$1017,$B173,'Daily Log'!$CL$18:$CL$1017),0)","v":1},{"$f":"IFERROR($E173*SUMIF('Daily Log'!$CN$18:$CN$1017,$B173,'Daily Log'!$CO$18:$CO$1017),0)","v":0}]
[null,"TC03 81105:BUTTER CHK",null,null,1,0,{"$f":"IFERROR($E174*SUMIF('Daily Log'!$B$18:$B$1017,$B174,'Daily Log'!$C$18:$C$1017),0)","v":0},{"$f":"IFERROR($E174*SUMIF('Daily Log'!$E$18:$E$1017,$B174,'Daily Log'!$F$18:$F$1017),0)","v":0},{"$f":"IFERROR($E174*SUMIF('Daily Log'!$H$18:$H$1017,$B174,'Daily Log'!$I$18:$I$1017),0)","v":0},{"$f":"IFERROR($E174*SUMIF('Daily Log'!$K$18:$K$1017,$B174,'Daily Log'!$L$18:$L$1017),0)","v":0},{"$f":"IFERROR($E174*SUMIF('Daily Log'!$N$18:$N$1017,$B174,'Daily Log'!$O$18:$O$1017),0)","v":0},{"$f":"IFERROR($E174*SUMIF('Daily Log'!$Q$18:$Q$1017,$B174,'Daily Log'!$R$18:$R$1017),0)","v":0},{"$f":"IFERROR($E174*SUMIF('Daily Log'!$T$18:$T$1017,$B174,'Daily Log'!$U$18:$U$1017),0)","v":0},{"$f":"IFERROR($E174*SUMIF('Daily Log'!$W$18:$W$1017,$B174,'Daily Log'!$X$18:$X$1017),0)","v":0},{"$f":"IFERROR($E174*SUMIF('Daily Log'!$Z$18:$Z$1017,$B174,'Daily Log'!$AA$18:$AA$1017),0)","v":0},{"$f":"IFERROR($E174*SUMIF('Daily Log'!$AC$18:$AC$1017,$B174,'Daily Log'!$AD$18:$AD$1017),0)","v":0},{"$f":"IFERROR($E174*SUMIF('Daily Log'!$AF$18:$AF$1017,$B174,'Daily Log'!$AG$18:$AG$1017),0)","v":0},{"$f":"IFERROR($E174*SUMIF('Daily Log'!$AI$18:$AI$1017,$B174,'Daily Log'!$AJ$18:$AJ$1017),0)","v":0},{"$f":"IFERROR($E174*SUMIF('Daily Log'!$AL$18:$AL$1017,$B174,'Daily Log'!$AM$18:$AM$1017),0)","v":0},{"$f":"IFERROR($E174*SUMIF('Daily Log'!$AO$18:$AO$1017,$B174,'Daily Log'!$AP$18:$AP$1017),0)","v":0},{"$f":"IFERROR($E174*SUMIF('Daily Log'!$AR$18:$AR$1017,$B174,'Daily Log'!$AS$18:$AS$1017),0)","v":0},{"$f":"IFERROR($E174*SUMIF('Daily Log'!$AU$18:$AU$1017,$B174,'Daily Log'!$AV$18:$AV$1017),0)","v":0},{"$f":"IFERROR($E174*SUMIF('Daily Log'!$AX$18:$AX$1017,$B174,'Daily Log'!$AY$18:$AY$1017),0)","v":0},{"$f":"IFERROR($E174*SUMIF('Daily Log'!$BA$18:$BA$1017,$B174,'Daily Log'!$BB$18:$BB$1017),0)","v":0},{"$f":"IFERROR($E174*SUMIF('Daily Log'!$BD$18:$BD$1017,$B174,'Daily Log'!$BE$18:$BE$1017),0)","v":0},{"$f":"IFERROR($E174*SUMIF('Daily Log'!$BG$18:$BG$1017,$B174,'Daily Log'!$BH$18:$BH$1017),0)","v":0},{"$f":"IFERROR($E174*SUMIF('Daily Log'!$BJ$18:$BJ$1017,$B174,'Daily Log'!$BK$18:$BK$1017),0)","v":0},{"$f":"IFERROR($E174*SUMIF('Daily Log'!$BM$18:$BM$1017,$B174,'Daily Log'!$BN$18:$BN$1017),0)","v":0},{"$f":"IFERROR($E174*SUMIF('Daily Log'!$BP$18:$BP$1017,$B174,'Daily Log'!$BQ$18:$BQ$1017),0)","v":0},{"$f":"IFERROR($E174*SUMIF('Daily Log'!$BS$18:$BS$1017,$B174,'Daily Log'!$BT$18:$BT$1017),0)","v":0},{"$f":"IFERROR($E174*SUMIF('Daily Log'!$BV$18:$BV$1017,$B174,'Daily Log'!$BW$18:$BW$1017),0)","v":0},{"$f":"IFERROR($E174*SUMIF('Daily Log'!$BY$18:$BY$1017,$B174,'Daily Log'!$BZ$18:$BZ$1017),0)","v":0},{"$f":"IFERROR($E174*SUMIF('Daily Log'!$CB$18:$CB$1017,$B174,'Daily Log'!$CC$18:$CC$1017),0)","v":0},{"$f":"IFERROR($E174*SUMIF('Daily Log'!$CE$18:$CE$1017,$B174,'Daily Log'!$CF$18:$CF$1017),0)","v":0},{"$f":"IFERROR($E174*SUMIF('Daily Log'!$CH$18:$CH$1017,$B174,'Daily Log'!$CI$18:$CI$1017),0)","v":0},{"$f":"IFERROR($E174*SUMIF('Daily Log'!$CK$18:$CK$1017,$B174,'Daily Log'!$CL$18:$CL$1017),0)","v":0},{"$f":"IFERROR($E174*SUMIF('Daily Log'!$CN$18:$CN$1017,$B174,'Daily Log'!$CO$18:$CO$1017),0)","v":0}]
[null,"TC04 81117:THAI FSH",null,null,1,0,{"$f":"IFERROR($E175*SUMIF('Daily Log'!$B$18:$B$1017,$B175,'Daily Log'!$C$18:$C$1017),0)","v":0},{"$f":"IFERROR($E175*SUMIF('Daily Log'!$E$18:$E$1017,$B175,'Daily Log'!$F$18:$F$1017),0)","v":0},{"$f":"IFERROR($E175*SUMIF('Daily Log'!$H$18:$H$1017,$B175,'Daily Log'!$I$18:$I$1017),0)","v":0},{"$f":"IFERROR($E175*SUMIF('Daily Log'!$K$18:$K$1017,$B175,'Daily Log'!$L$18:$L$1017),0)","v":0},{"$f":"IFERROR($E175*SUMIF('Daily Log'!$N$18:$N$1017,$B175,'Daily Log'!$O$18:$O$1017),0)","v":0},{"$f":"IFERROR($E175*SUMIF('Daily Log'!$Q$18:$Q$1017,$B175,'Daily Log'!$R$18:$R$1017),0)","v":0},{"$f":"IFERROR($E175*SUMIF('Daily Log'!$T$18:$T$1017,$B175,'Daily Log'!$U$18:$U$1017),0)","v":0},{"$f":"IFERROR($E175*SUMIF('Daily Log'!$W$18:$W$1017,$B175,'Daily Log'!$X$18:$X$1017),0)","v":0},{"$f":"IFERROR($E175*SUMIF('Daily Log'!$Z$18:$Z$1017,$B175,'Daily Log'!$AA$18:$AA$1017),0)","v":0},{"$f":"IFERROR($E175*SUMIF('Daily Log'!$AC$18:$AC$1017,$B175,'Daily Log'!$AD$18:$AD$1017),0)","v":0},{"$f":"IFERROR($E175*SUMIF('Daily Log'!$AF$18:$AF$1017,$B175,'Daily Log'!$AG$18:$AG$1017),0)","v":0},{"$f":"IFERROR($E175*SUMIF('Daily Log'!$AI$18:$AI$1017,$B175,'Daily Log'!$AJ$18:$AJ$1017),0)","v":0},{"$f":"IFERROR($E175*SUMIF('Daily Log'!$AL$18:$AL$1017,$B175,'Daily Log'!$AM$18:$AM$1017),0)","v":0},{"$f":"IFERROR($E175*SUMIF('Daily Log'!$AO$18:$AO$1017,$B175,'Daily Log'!$AP$18:$AP$1017),0)","v":0},{"$f":"IFERROR($E175*SUMIF('Daily Log'!$AR$18:$AR$1017,$B175,'Daily Log'!$AS$18:$AS$1017),0)","v":0},{"$f":"IFERROR($E175*SUMIF('Daily Log'!$AU$18:$AU$1017,$B175,'Daily Log'!$AV$18:$AV$1017),0)","v":0},{"$f":"IFERROR($E175*SUMIF('Daily Log'!$AX$18:$AX$1017,$B175,'Daily Log'!$AY$18:$AY$1017),0)","v":0},{"$f":"IFERROR($E175*SUMIF('Daily Log'!$BA$18:$BA$1017,$B175,'Daily Log'!$BB$18:$BB$1017),0)","v":0},{"$f":"IFERROR($E175*SUMIF('Daily Log'!$BD$18:$BD$1017,$B175,'Daily Log'!$BE$18:$BE$1017),0)","v":0},{"$f":"IFERROR($E175*SUMIF('Daily Log'!$BG$18:$BG$1017,$B175,'Daily Log'!$BH$18:$BH$1017),0)","v":0},{"$f":"IFERROR($E175*SUMIF('Daily Log'!$BJ$18:$BJ$1017,$B175,'Daily Log'!$BK$18:$BK$1017),0)","v":0},{"$f":"IFERROR($E175*SUMIF('Daily Log'!$BM$18:$BM$1017,$B175,'Daily Log'!$BN$18:$BN$1017),0)","v":0},{"$f":"IFERROR($E175*SUMIF('Daily Log'!$BP$18:$BP$1017,$B175,'Daily Log'!$BQ$18:$BQ$1017),0)","v":0},{"$f":"IFERROR($E175*SUMIF('Daily Log'!$BS$18:$BS$1017,$B175,'Daily Log'!$BT$18:$BT$1017),0)","v":0},{"$f":"IFERROR($E175*SUMIF('Daily Log'!$BV$18:$BV$1017,$B175,'Daily Log'!$BW$18:$BW$1017),0)","v":0},{"$f":"IFERROR($E175*SUMIF('Daily Log'!$BY$18:$BY$1017,$B175,'Daily Log'!$BZ$18:$BZ$1017),0)","v":0},{"$f":"IFERROR($E175*SUMIF('Daily Log'!$CB$18:$CB$1017,$B175,'Daily Log'!$CC$18:$CC$1017),0)","v":0},{"$f":"IFERROR($E175*SUMIF('Daily Log'!$CE$18:$CE$1017,$B175,'Daily Log'!$CF$18:$CF$1017),0)","v":0},{"$f":"IFERROR($E175*SUMIF('Daily Log'!$CH$18:$CH$1017,$B175,'Daily Log'!$CI$18:$CI$1017),0)","v":0},{"$f":"IFERROR($E175*SUMIF('Daily Log'!$CK$18:$CK$1017,$B175,'Daily Log'!$CL$18:$CL$1017),0)","v":0},{"$f":"IFERROR($E175*SUMIF('Daily Log'!$CN$18:$CN$1017,$B175,'Daily Log'!$CO$18:$CO$1017),0)","v":0}]
[null,"TC05 81118:MAMITE FSH",null,null,1,0,{"$f":"IFERROR($E176*SUMIF('Daily Log'!$B$18:$B$1017,$B176,'Daily Log'!$C$18:$C$1017),0)","v":0},{"$f":"IFERROR($E176*SUMIF('Daily Log'!$E$18:$E$1017,$B176,'Daily Log'!$F$18:$F$1017),0)","v":0},{"$f":"IFERROR($E176*SUMIF('Daily Log'!$H$18:$H$1017,$B176,'Daily Log'!$I$18:$I$1017),0)","v":0},{"$f":"IFERROR($E176*SUMIF('Daily Log'!$K$18:$K$1017,$B176,'Daily Log'!$L$18:$L$1017),0)","v":0},{"$f":"IFERROR($E176*SUMIF('Daily Log'!$N$18:$N$1017,$B176,'Daily Log'!$O$18:$O$1017),0)","v":0},{"$f":"IFERROR($E176*SUMIF('Daily Log'!$Q$18:$Q$1017,$B176,'Daily Log'!$R$18:$R$1017),0)","v":0},{"$f":"IFERROR($E176*SUMIF('Daily Log'!$T$18:$T$1017,$B176,'Daily Log'!$U$18:$U$1017),0)","v":0},{"$f":"IFERROR($E176*SUMIF('Daily Log'!$W$18:$W$1017,$B176,'Daily Log'!$X$18:$X$1017),0)","v":0},{"$f":"IFERROR($E176*SUMIF('Daily Log'!$Z$18:$Z$1017,$B176,'Daily Log'!$AA$18:$AA$1017),0)","v":0},{"$f":"IFERROR($E176*SUMIF('Daily Log'!$AC$18:$AC$1017,$B176,'Daily Log'!$AD$18:$AD$1017),0)","v":0},{"$f":"IFERROR($E176*SUMIF('Daily Log'!$AF$18:$AF$1017,$B176,'Daily Log'!$AG$18:$AG$1017),0)","v":0},{"$f":"IFERROR($E176*SUMIF('Daily Log'!$AI$18:$AI$1017,$B176,'Daily Log'!$AJ$18:$AJ$1017),0)","v":0},{"$f":"IFERROR($E176*SUMIF('Daily Log'!$AL$18:$AL$1017,$B176,'Daily Log'!$AM$18:$AM$1017),0)","v":0},{"$f":"IFERROR($E176*SUMIF('Daily Log'!$AO$18:$AO$1017,$B176,'Daily Log'!$AP$18:$AP$1017),0)","v":0},{"$f":"IFERROR($E176*SUMIF('Daily Log'!$AR$18:$AR$1017,$B176,'Daily Log'!$AS$18:$AS$1017),0)","v":0},{"$f":"IFERROR($E176*SUMIF('Daily Log'!$AU$18:$AU$1017,$B176,'Daily Log'!$AV$18:$AV$1017),0)","v":0},{"$f":"IFERROR($E176*SUMIF('Daily Log'!$AX$18:$AX$1017,$B176,'Daily Log'!$AY$18:$AY$1017),0)","v":0},{"$f":"IFERROR($E176*SUMIF('Daily Log'!$BA$18:$BA$1017,$B176,'Daily Log'!$BB$18:$BB$1017),0)","v":0},{"$f":"IFERROR($E176*SUMIF('Daily Log'!$BD$18:$BD$1017,$B176,'Daily Log'!$BE$18:$BE$1017),0)","v":0},{"$f":"IFERROR($E176*SUMIF('Daily Log'!$BG$18:$BG$1017,$B176,'Daily Log'!$BH$18:$BH$1017),0)","v":0},{"$f":"IFERROR($E176*SUMIF('Daily Log'!$BJ$18:$BJ$1017,$B176,'Daily Log'!$BK$18:$BK$1017),0)","v":0},{"$f":"IFERROR($E176*SUMIF('Daily Log'!$BM$18:$BM$1017,$B176,'Daily Log'!$BN$18:$BN$1017),0)","v":0},{"$f":"IFERROR($E176*SUMIF('Daily Log'!$BP$18:$BP$1017,$B176,'Daily Log'!$BQ$18:$BQ$1017),0)","v":0},{"$f":"IFERROR($E176*SUMIF('Daily Log'!$BS$18:$BS$1017,$B176,'Daily Log'!$BT$18:$BT$1017),0)","v":0},{"$f":"IFERROR($E176*SUMIF('Daily Log'!$BV$18:$BV$1017,$B176,'Daily Log'!$BW$18:$BW$1017),0)","v":0},{"$f":"IFERROR($E176*SUMIF('Daily Log'!$BY$18:$BY$1017,$B176,'Daily Log'!$BZ$18:$BZ$1017),0)","v":0},{"$f":"IFERROR($E176*SUMIF('Daily Log'!$CB$18:$CB$1017,$B176,'Daily Log'!$CC$18:$CC$1017),0)","v":0},{"$f":"IFERROR($E176*SUMIF('Daily Log'!$CE$18:$CE$1017,$B176,'Daily Log'!$CF$18:$CF$1017),0)","v":0},{"$f":"IFERROR($E176*SUMIF('Daily Log'!$CH$18:$CH$1017,$B176,'Daily Log'!$CI$18:$CI$1017),0)","v":0},{"$f":"IFERROR($E176*SUMIF('Daily Log'!$CK$18:$CK$1017,$B176,'Daily Log'!$CL$18:$CL$1017),0)","v":0},{"$f":"IFERROR($E176*SUMIF('Daily Log'!$CN$18:$CN$1017,$B176,'Daily Log'!$CO$18:$CO$1017),0)","v":0}]
[null,"TC06 81119:BUTTER FSH",null,null,1,0,{"$f":"IFERROR($E177*SUMIF('Daily Log'!$B$18:$B$1017,$B177,'Daily Log'!$C$18:$C$1017),0)","v":0},{"$f":"IFERROR($E177*SUMIF('Daily Log'!$E$18:$E$1017,$B177,'Daily Log'!$F$18:$F$1017),0)","v":0},{"$f":"IFERROR($E177*SUMIF('Daily Log'!$H$18:$H$1017,$B177,'Daily Log'!$I$18:$I$1017),0)","v":0},{"$f":"IFERROR($E177*SUMIF('Daily Log'!$K$18:$K$1017,$B177,'Daily Log'!$L$18:$L$1017),0)","v":0},{"$f":"IFERROR($E177*SUMIF('Daily Log'!$N$18:$N$1017,$B177,'Daily Log'!$O$18:$O$1017),0)","v":0},{"$f":"IFERROR($E177*SUMIF('Daily Log'!$Q$18:$Q$1017,$B177,'Daily Log'!$R$18:$R$1017),0)","v":0},{"$f":"IFERROR($E177*SUMIF('Daily Log'!$T$18:$T$1017,$B177,'Daily Log'!$U$18:$U$1017),0)","v":0},{"$f":"IFERROR($E177*SUMIF('Daily Log'!$W$18:$W$1017,$B177,'Daily Log'!$X$18:$X$1017),0)","v":0},{"$f":"IFERROR($E177*SUMIF('Daily Log'!$Z$18:$Z$1017,$B177,'Daily Log'!$AA$18:$AA$1017),0)","v":0},{"$f":"IFERROR($E177*SUMIF('Daily Log'!$AC$18:$AC$1017,$B177,'Daily Log'!$AD$18:$AD$1017),0)","v":0},{"$f":"IFERROR($E177*SUMIF('Daily Log'!$AF$18:$AF$1017,$B177,'Daily Log'!$AG$18:$AG$1017),0)","v":0},{"$f":"IFERROR($E177*SUMIF('Daily Log'!$AI$18:$AI$1017,$B177,'Daily Log'!$AJ$18:$AJ$1017),0)","v":0},{"$f":"IFERROR($E177*SUMIF('Daily Log'!$AL$18:$AL$1017,$B177,'Daily Log'!$AM$18:$AM$1017),0)","v":0},{"$f":"IFERROR($E177*SUMIF('Daily Log'!$AO$18:$AO$1017,$B177,'Daily Log'!$AP$18:$AP$1017),0)","v":0},{"$f":"IFERROR($E177*SUMIF('Daily Log'!$AR$18:$AR$1017,$B177,'Daily Log'!$AS$18:$AS$1017),0)","v":0},{"$f":"IFERROR($E177*SUMIF('Daily Log'!$AU$18:$AU$1017,$B177,'Daily Log'!$AV$18:$AV$1017),0)","v":0},{"$f":"IFERROR($E177*SUMIF('Daily Log'!$AX$18:$AX$1017,$B177,'Daily Log'!$AY$18:$AY$1017),0)","v":0},{"$f":"IFERROR($E177*SUMIF('Daily Log'!$BA$18:$BA$1017,$B177,'Daily Log'!$BB$18:$BB$1017),0)","v":0},{"$f":"IFERROR($E177*SUMIF('Daily Log'!$BD$18:$BD$1017,$B177,'Daily Log'!$BE$18:$BE$1017),0)","v":0},{"$f":"IFERROR($E177*SUMIF('Daily Log'!$BG$18:$BG$1017,$B177,'Daily Log'!$BH$18:$BH$1017),0)","v":0},{"$f":"IFERROR($E177*SUMIF('Daily Log'!$BJ$18:$BJ$1017,$B177,'Daily Log'!$BK$18:$BK$1017),0)","v":0},{"$f":"IFERROR($E177*SUMIF('Daily Log'!$BM$18:$BM$1017,$B177,'Daily Log'!$BN$18:$BN$1017),0)","v":0},{"$f":"IFERROR($E177*SUMIF('Daily Log'!$BP$18:$BP$1017,$B177,'Daily Log'!$BQ$18:$BQ$1017),0)","v":0},{"$f":"IFERROR($E177*SUMIF('Daily Log'!$BS$18:$BS$1017,$B177,'Daily Log'!$BT$18:$BT$1017),0)","v":0},{"$f":"IFERROR($E177*SUMIF('Daily Log'!$BV$18:$BV$1017,$B177,'Daily Log'!$BW$18:$BW$1017),0)","v":0},{"$f":"IFERROR($E177*SUMIF('Daily Log'!$BY$18:$BY$1017,$B177,'Daily Log'!$BZ$18:$BZ$1017),0)","v":0},{"$f":"IFERROR($E177*SUMIF('Daily Log'!$CB$18:$CB$1017,$B177,'Daily Log'!$CC$18:$CC$1017),0)","v":0},{"$f":"IFERROR($E177*SUMIF('Daily Log'!$CE$18:$CE$1017,$B177,'Daily Log'!$CF$18:$CF$1017),0)","v":0},{"$f":"IFERROR($E177*SUMIF('Daily Log'!$CH$18:$CH$1017,$B177,'Daily Log'!$CI$18:$CI$1017),0)","v":0},{"$f":"IFERROR($E177*SUMIF('Daily Log'!$CK$18:$CK$1017,$B177,'Daily Log'!$CL$18:$CL$1017),0)","v":0},{"$f":"IFERROR($E177*SUMIF('Daily Log'!$CN$18:$CN$1017,$B177,'Daily Log'!$CO$18:$CO$1017),0)","v":0}]
[null,"AA39 1309:MC S.FRIES",null,null,1,3,{"$f":"IFERROR($E178*SUMIF('Daily Log'!$B$18:$B$1017,$B178,'Daily Log'!$C$18:$C$1017),0)","v":0},{"$f":"IFERROR($E178*SUMIF('Daily Log'!$E$18:$E$1017,$B178,'Daily Log'!$F$18:$F$1017),0)","v":0},{"$f":"IFERROR($E178*SUMIF('Daily Log'!$H$18:$H$1017,$B178,'Daily Log'!$I$18:$I$1017),0)","v":0},{"$f":"IFERROR($E178*SUMIF('Daily Log'!$K$18:$K$1017,$B178,'Daily Log'!$L$18:$L$1017),0)","v":0},{"$f":"IFERROR($E178*SUMIF('Daily Log'!$N$18:$N$1017,$B178,'Daily Log'!$O$18:$O$1017),0)","v":0},{"$f":"IFERROR($E178*SUMIF('Daily Log'!$Q$18:$Q$1017,$B178,'Daily Log'!$R$18:$R$1017),0)","v":0},{"$f":"IFERROR($E178*SUMIF('Daily Log'!$T$18:$T$1017,$B178,'Daily Log'!$U$18:$U$1017),0)","v":0},{"$f":"IFERROR($E178*SUMIF('Daily Log'!$W$18:$W$1017,$B178,'Daily Log'!$X$18:$X$1017),0)","v":0},{"$f":"IFERROR($E178*SUMIF('Daily Log'!$Z$18:$Z$1017,$B178,'Daily Log'!$AA$18:$AA$1017),0)","v":0},{"$f":"IFERROR($E178*SUMIF('Daily Log'!$AC$18:$AC$1017,$B178,'Daily Log'!$AD$18:$AD$1017),0)","v":0},{"$f":"IFERROR($E178*SUMIF('Daily Log'!$AF$18:$AF$1017,$B178,'Daily Log'!$AG$18:$AG$1017),0)","v":0},{"$f":"IFERROR($E178*SUMIF('Daily Log'!$AI$18:$AI$1017,$B178,'Daily Log'!$AJ$18:$AJ$1017),0)","v":0},{"$f":"IFERROR($E178*SUMIF('Daily Log'!$AL$18:$AL$1017,$B178,'Daily Log'!$AM$18:$AM$1017),0)","v":0},{"$f":"IFERROR($E178*SUMIF('Daily Log'!$AO$18:$AO$1017,$B178,'Daily Log'!$AP$18:$AP$1017),0)","v":0},{"$f":"IFERROR($E178*SUMIF('Daily Log'!$AR$18:$AR$1017,$B178,'Daily Log'!$AS$18:$AS$1017),0)","v":0},{"$f":"IFERROR($E178*SUMIF('Daily Log'!$AU$18:$AU$1017,$B178,'Daily Log'!$AV$18:$AV$1017),0)","v":0},{"$f":"IFERROR($E178*SUMIF('Daily Log'!$AX$18:$AX$1017,$B178,'Daily Log'!$AY$18:$AY$1017),0)","v":0},{"$f":"IFERROR($E178*SUMIF('Daily Log'!$BA$18:$BA$1017,$B178,'Daily Log'!$BB$18:$BB$1017),0)","v":0},{"$f":"IFERROR($E178*SUMIF('Daily Log'!$BD$18:$BD$1017,$B178,'Daily Log'!$BE$18:$BE$1017),0)","v":0},{"$f":"IFERROR($E178*SUMIF('Daily Log'!$BG$18:$BG$1017,$B178,'Daily Log'!$BH$18:$BH$1017),0)","v":0},{"$f":"IFERROR($E178*SUMIF('Daily Log'!$BJ$18:$BJ$1017,$B178,'Daily Log'!$BK$18:$BK$1017),0)","v":0},{"$f":"IFERROR($E178*SUMIF('Daily Log'!$BM$18:$BM$1017,$B178,'Daily Log'!$BN$18:$BN$1017),0)","v":0},{"$f":"IFERROR($E178*SUMIF('Daily Log'!$BP$18:$BP$1017,$B178,'Daily Log'!$BQ$18:$BQ$1017),0)","v":0},{"$f":"IFERROR($E178*SUMIF('Daily Log'!$BS$18:$BS$1017,$B178,'Daily Log'!$BT$18:$BT$1017),0)","v":0},{"$f":"IFERROR($E178*SUMIF('Daily Log'!$BV$18:$BV$1017,$B178,'Daily Log'!$BW$18:$BW$1017),0)","v":0},{"$f":"IFERROR($E178*SUMIF('Daily Log'!$BY$18:$BY$1017,$B178,'Daily Log'!$BZ$18:$BZ$1017),0)","v":0},{"$f":"IFERROR($E178*SUMIF('Daily Log'!$CB$18:$CB$1017,$B178,'Daily Log'!$CC$18:$CC$1017),0)","v":0},{"$f":"IFERROR($E178*SUMIF('Daily Log'!$CE$18:$CE$1017,$B178,'Daily Log'!$CF$18:$CF$1017),0)","v":0},{"$f":"IFERROR($E178*SUMIF('Daily Log'!$CH$18:$CH$1017,$B178,'Daily Log'!$CI$18:$CI$1017),0)","v":0},{"$f":"IFERROR($E178*SUMIF('Daily Log'!$CK$18:$CK$1017,$B178,'Daily Log'!$CL$18:$CL$1017),0)","v":3},{"$f":"IFERROR($E178*SUMIF('Daily Log'!$CN$18:$CN$1017,$B178,'Daily Log'!$CO$18:$CO$1017),0)","v":0}]
[null,"AA40 1310:MC HP SMIL",null,null,1,0,{"$f":"IFERROR($E179*SUMIF('Daily Log'!$B$18:$B$1017,$B179,'Daily Log'!$C$18:$C$1017),0)","v":0},{"$f":"IFERROR($E179*SUMIF('Daily Log'!$E$18:$E$1017,$B179,'Daily Log'!$F$18:$F$1017),0)","v":0},{"$f":"IFERROR($E179*SUMIF('Daily Log'!$H$18:$H$1017,$B179,'Daily Log'!$I$18:$I$1017),0)","v":0},{"$f":"IFERROR($E179*SUMIF('Daily Log'!$K$18:$K$1017,$B179,'Daily Log'!$L$18:$L$1017),0)","v":0},{"$f":"IFERROR($E179*SUMIF('Daily Log'!$N$18:$N$1017,$B179,'Daily Log'!$O$18:$O$1017),0)","v":0},{"$f":"IFERROR($E179*SUMIF('Daily Log'!$Q$18:$Q$1017,$B179,'Daily Log'!$R$18:$R$1017),0)","v":0},{"$f":"IFERROR($E179*SUMIF('Daily Log'!$T$18:$T$1017,$B179,'Daily Log'!$U$18:$U$1017),0)","v":0},{"$f":"IFERROR($E179*SUMIF('Daily Log'!$W$18:$W$1017,$B179,'Daily Log'!$X$18:$X$1017),0)","v":0},{"$f":"IFERROR($E179*SUMIF('Daily Log'!$Z$18:$Z$1017,$B179,'Daily Log'!$AA$18:$AA$1017),0)","v":0},{"$f":"IFERROR($E179*SUMIF('Daily Log'!$AC$18:$AC$1017,$B179,'Daily Log'!$AD$18:$AD$1017),0)","v":0},{"$f":"IFERROR($E179*SUMIF('Daily Log'!$AF$18:$AF$1017,$B179,'Daily Log'!$AG$18:$AG$1017),0)","v":0},{"$f":"IFERROR($E179*SUMIF('Daily Log'!$AI$18:$AI$1017,$B179,'Daily Log'!$AJ$18:$AJ$1017),0)","v":0},{"$f":"IFERROR($E179*SUMIF('Daily Log'!$AL$18:$AL$1017,$B179,'Daily Log'!$AM$18:$AM$1017),0)","v":0},{"$f":"IFERROR($E179*SUMIF('Daily Log'!$AO$18:$AO$1017,$B179,'Daily Log'!$AP$18:$AP$1017),0)","v":0},{"$f":"IFERROR($E179*SUMIF('Daily Log'!$AR$18:$AR$1017,$B179,'Daily Log'!$AS$18:$AS$1017),0)","v":0},{"$f":"IFERROR($E179*SUMIF('Daily Log'!$AU$18:$AU$1017,$B179,'Daily Log'!$AV$18:$AV$1017),0)","v":0},{"$f":"IFERROR($E179*SUMIF('Daily Log'!$AX$18:$AX$1017,$B179,'Daily Log'!$AY$18:$AY$1017),0)","v":0},{"$f":"IFERROR($E179*SUMIF('Daily Log'!$BA$18:$BA$1017,$B179,'Daily Log'!$BB$18:$BB$1017),0)","v":0},{"$f":"IFERROR($E179*SUMIF('Daily Log'!$BD$18:$BD$1017,$B179,'Daily Log'!$BE$18:$BE$1017),0)","v":0},{"$f":"IFERROR($E179*SUMIF('Daily Log'!$BG$18:$BG$1017,$B179,'Daily Log'!$BH$18:$BH$1017),0)","v":0},{"$f":"IFERROR($E179*SUMIF('Daily Log'!$BJ$18:$BJ$1017,$B179,'Daily Log'!$BK$18:$BK$1017),0)","v":0},{"$f":"IFERROR($E179*SUMIF('Daily Log'!$BM$18:$BM$1017,$B179,'Daily Log'!$BN$18:$BN$1017),0)","v":0},{"$f":"IFERROR($E179*SUMIF('Daily Log'!$BP$18:$BP$1017,$B179,'Daily Log'!$BQ$18:$BQ$1017),0)","v":0},{"$f":"IFERROR($E179*SUMIF('Daily Log'!$BS$18:$BS$1017,$B179,'Daily Log'!$BT$18:$BT$1017),0)","v":0},{"$f":"IFERROR($E179*SUMIF('Daily Log'!$BV$18:$BV$1017,$B179,'Daily Log'!$BW$18:$BW$1017),0)","v":0},{"$f":"IFERROR($E179*SUMIF('Daily Log'!$BY$18:$BY$1017,$B179,'Daily Log'!$BZ$18:$BZ$1017),0)","v":0},{"$f":"IFERROR($E179*SUMIF('Daily Log'!$CB$18:$CB$1017,$B179,'Daily Log'!$CC$18:$CC$1017),0)","v":0},{"$f":"IFERROR($E179*SUMIF('Daily Log'!$CE$18:$CE$1017,$B179,'Daily Log'!$CF$18:$CF$1017),0)","v":0},{"$f":"IFERROR($E179*SUMIF('Daily Log'!$CH$18:$CH$1017,$B179,'Daily Log'!$CI$18:$CI$1017),0)","v":0},{"$f":"IFERROR($E179*SUMIF('Daily Log'!$CK$18:$CK$1017,$B179,'Daily Log'!$CL$18:$CL$1017),0)","v":0},{"$f":"IFERROR($E179*SUMIF('Daily Log'!$CN$18:$CN$1017,$B179,'Daily Log'!$CO$18:$CO$1017),0)","v":0}]
[null,"AA41 1311:MC HSH BRW",null,null,1,1,{"$f":"IFERROR($E180*SUMIF('Daily Log'!$B$18:$B$1017,$B180,'Daily Log'!$C$18:$C$1017),0)","v":0},{"$f":"IFERROR($E180*SUMIF('Daily Log'!$E$18:$E$1017,$B180,'Daily Log'!$F$18:$F$1017),0)","v":0},{"$f":"IFERROR($E180*SUMIF('Daily Log'!$H$18:$H$1017,$B180,'Daily Log'!$I$18:$I$1017),0)","v":0},{"$f":"IFERROR($E180*SUMIF('Daily Log'!$K$18:$K$1017,$B180,'Daily Log'!$L$18:$L$1017),0)","v":0},{"$f":"IFERROR($E180*SUMIF('Daily Log'!$N$18:$N$1017,$B180,'Daily Log'!$O$18:$O$1017),0)","v":0},{"$f":"IFERROR($E180*SUMIF('Daily Log'!$Q$18:$Q$1017,$B180,'Daily Log'!$R$18:$R$1017),0)","v":0},{"$f":"IFERROR($E180*SUMIF('Daily Log'!$T$18:$T$1017,$B180,'Daily Log'!$U$18:$U$1017),0)","v":0},{"$f":"IFERROR($E180*SUMIF('Daily Log'!$W$18:$W$1017,$B180,'Daily Log'!$X$18:$X$1017),0)","v":0},{"$f":"IFERROR($E180*SUMIF('Daily Log'!$Z$18:$Z$1017,$B180,'Daily Log'!$AA$18:$AA$1017),0)","v":0},{"$f":"IFERROR($E180*SUMIF('Daily Log'!$AC$18:$AC$1017,$B180,'Daily Log'!$AD$18:$AD$1017),0)","v":0},{"$f":"IFERROR($E180*SUMIF('Daily Log'!$AF$18:$AF$1017,$B180,'Daily Log'!$AG$18:$AG$1017),0)","v":0},{"$f":"IFERROR($E180*SUMIF('Daily Log'!$AI$18:$AI$1017,$B180,'Daily Log'!$AJ$18:$AJ$1017),0)","v":0},{"$f":"IFERROR($E180*SUMIF('Daily Log'!$AL$18:$AL$1017,$B180,'Daily Log'!$AM$18:$AM$1017),0)","v":0},{"$f":"IFERROR($E180*SUMIF('Daily Log'!$AO$18:$AO$1017,$B180,'Daily Log'!$AP$18:$AP$1017),0)","v":0},{"$f":"IFERROR($E180*SUMIF('Daily Log'!$AR$18:$AR$1017,$B180,'Daily Log'!$AS$18:$AS$1017),0)","v":0},{"$f":"IFERROR($E180*SUMIF('Daily Log'!$AU$18:$AU$1017,$B180,'Daily Log'!$AV$18:$AV$1017),0)","v":0},{"$f":"IFERROR($E180*SUMIF('Daily Log'!$AX$18:$AX$1017,$B180,'Daily Log'!$AY$18:$AY$1017),0)","v":0},{"$f":"IFERROR($E180*SUMIF('Daily Log'!$BA$18:$BA$1017,$B180,'Daily Log'!$BB$18:$BB$1017),0)","v":0},{"$f":"IFERROR($E180*SUMIF('Daily Log'!$BD$18:$BD$1017,$B180,'Daily Log'!$BE$18:$BE$1017),0)","v":0},{"$f":"IFERROR($E180*SUMIF('Daily Log'!$BG$18:$BG$1017,$B180,'Daily Log'!$BH$18:$BH$1017),0)","v":0},{"$f":"IFERROR($E180*SUMIF('Daily Log'!$BJ$18:$BJ$1017,$B180,'Daily Log'!$BK$18:$BK$1017),0)","v":0},{"$f":"IFERROR($E180*SUMIF('Daily Log'!$BM$18:$BM$1017,$B180,'Daily Log'!$BN$18:$BN$1017),0)","v":0},{"$f":"IFERROR($E180*SUMIF('Daily Log'!$BP$18:$BP$1017,$B180,'Daily Log'!$BQ$18:$BQ$1017),0)","v":0},{"$f":"IFERROR($E180*SUMIF('Daily Log'!$BS$18:$BS$1017,$B180,'Daily Log'!$BT$18:$BT$1017),0)","v":0},{"$f":"IFERROR($E180*SUMIF('Daily Log'!$BV$18:$BV$1017,$B180,'Daily Log'!$BW$18:$BW$1017),0)","v":0},{"$f":"IFERROR($E180*SUMIF('Daily Log'!$BY$18:$BY$1017,$B180,'Daily Log'!$BZ$18:$BZ$1017),0)","v":0},{"$f":"IFERROR($E180*SUMIF('Daily Log'!$CB$18:$CB$1017,$B180,'Daily Log'!$CC$18:$CC$1017),0)","v":0},{"$f":"IFERROR($E180*SUMIF('Daily Log'!$CE$18:$CE$1017,$B180,'Daily Log'!$CF$18:$CF$1017),0)","v":0},{"$f":"IFERROR($E180*SUMIF('Daily Log'!$CH$18:$CH$1017,$B180,'Daily Log'!$CI$18:$CI$1017),0)","v":0},{"$f":"IFERROR($E180*SUMIF('Daily Log'!$CK$18:$CK$1017,$B180,'Daily Log'!$CL$18:$CL$1017),0)","v":1},{"$f":"IFERROR($E180*SUMIF('Daily Log'!$CN$18:$CN$1017,$B180,'Daily Log'!$CO$18:$CO$1017),0)","v":0}]
[null,null,null,null,1,0,{"$f":"IFERROR($E181*SUMIF('Daily Log'!$B$18:$B$1017,$B181,'Daily Log'!$C$18:$C$1017),0)","v":0},{"$f":"IFERROR($E181*SUMIF('Daily Log'!$E$18:$E$1017,$B181,'Daily Log'!$F$18:$F$1017),0)","v":0},{"$f":"IFERROR($E181*SUMIF('Daily Log'!$H$18:$H$1017,$B181,'Daily Log'!$I$18:$I$1017),0)","v":0},{"$f":"IFERROR($E181*SUMIF('Daily Log'!$K$18:$K$1017,$B181,'Daily Log'!$L$18:$L$1017),0)","v":0},{"$f":"IFERROR($E181*SUMIF('Daily Log'!$N$18:$N$1017,$B181,'Daily Log'!$O$18:$O$1017),0)","v":0},{"$f":"IFERROR($E181*SUMIF('Daily Log'!$Q$18:$Q$1017,$B181,'Daily Log'!$R$18:$R$1017),0)","v":0},{"$f":"IFERROR($E181*SUMIF('Daily Log'!$T$18:$T$1017,$B181,'Daily Log'!$U$18:$U$1017),0)","v":0},{"$f":"IFERROR($E181*SUMIF('Daily Log'!$W$18:$W$1017,$B181,'Daily Log'!$X$18:$X$1017),0)","v":0},{"$f":"IFERROR($E181*SUMIF('Daily Log'!$Z$18:$Z$1017,$B181,'Daily Log'!$AA$18:$AA$1017),0)","v":0},{"$f":"IFERROR($E181*SUMIF('Daily Log'!$AC$18:$AC$1017,$B181,'Daily Log'!$AD$18:$AD$1017),0)","v":0},{"$f":"IFERROR($E181*SUMIF('Daily Log'!$AF$18:$AF$1017,$B181,'Daily Log'!$AG$18:$AG$1017),0)","v":0},{"$f":"IFERROR($E181*SUMIF('Daily Log'!$AI$18:$AI$1017,$B181,'Daily Log'!$AJ$18:$AJ$1017),0)","v":0},{"$f":"IFERROR($E181*SUMIF('Daily Log'!$AL$18:$AL$1017,$B181,'Daily Log'!$AM$18:$AM$1017),0)","v":0},{"$f":"IFERROR($E181*SUMIF('Daily Log'!$AO$18:$AO$1017,$B181,'Daily Log'!$AP$18:$AP$1017),0)","v":0},{"$f":"IFERROR($E181*SUMIF('Daily Log'!$AR$18:$AR$1017,$B181,'Daily Log'!$AS$18:$AS$1017),0)","v":0},{"$f":"IFERROR($E181*SUMIF('Daily Log'!$AU$18:$AU$1017,$B181,'Daily Log'!$AV$18:$AV$1017),0)","v":0},{"$f":"IFERROR($E181*SUMIF('Daily Log'!$AX$18:$AX$1017,$B181,'Daily Log'!$AY$18:$AY$1017),0)","v":0},{"$f":"IFERROR($E181*SUMIF('Daily Log'!$BA$18:$BA$1017,$B181,'Daily Log'!$BB$18:$BB$1017),0)","v":0},{"$f":"IFERROR($E181*SUMIF('Daily Log'!$BD$18:$BD$1017,$B181,'Daily Log'!$BE$18:$BE$1017),0)","v":0},{"$f":"IFERROR($E181*SUMIF('Daily Log'!$BG$18:$BG$1017,$B181,'Daily Log'!$BH$18:$BH$1017),0)","v":0},{"$f":"IFERROR($E181*SUMIF('Daily Log'!$BJ$18:$BJ$1017,$B181,'Daily Log'!$BK$18:$BK$1017),0)","v":0},{"$f":"IFERROR($E181*SUMIF('Daily Log'!$BM$18:$BM$1017,$B181,'Daily Log'!$BN$18:$BN$1017),0)","v":0},{"$f":"IFERROR($E181*SUMIF('Daily Log'!$BP$18:$BP$1017,$B181,'Daily Log'!$BQ$18:$BQ$1017),0)","v":0},{"$f":"IFERROR($E181*SUMIF('Daily Log'!$BS$18:$BS$1017,$B181,'Daily Log'!$BT$18:$BT$1017),0)","v":0},{"$f":"IFERROR($E181*SUMIF('Daily Log'!$BV$18:$BV$1017,$B181,'Daily Log'!$BW$18:$BW$1017),0)","v":0},{"$f":"IFERROR($E181*SUMIF('Daily Log'!$BY$18:$BY$1017,$B181,'Daily Log'!$BZ$18:$BZ$1017),0)","v":0},{"$f":"IFERROR($E181*SUMIF('Daily Log'!$CB$18:$CB$1017,$B181,'Daily Log'!$CC$18:$CC$1017),0)","v":0},{"$f":"IFERROR($E181*SUMIF('Daily Log'!$CE$18:$CE$1017,$B181,'Daily Log'!$CF$18:$CF$1017),0)","v":0},{"$f":"IFERROR($E181*SUMIF('Daily Log'!$CH$18:$CH$1017,$B181,'Daily Log'!$CI$18:$CI$1017),0)","v":0},{"$f":"IFERROR($E181*SUMIF('Daily Log'!$CK$18:$CK$1017,$B181,'Daily Log'!$CL$18:$CL$1017),0)","v":0},{"$f":"IFERROR($E181*SUMIF('Daily Log'!$CN$18:$CN$1017,$B181,'Daily Log'!$CO$18:$CO$1017),0)","v":0}]
[null,"AA41 1311:MC HSH BRW",null,null,1,1,{"$f":"IFERROR($E182*SUMIF('Daily Log'!$B$18:$B$1017,$B182,'Daily Log'!$C$18:$C$1017),0)","v":0},{"$f":"IFERROR($E182*SUMIF('Daily Log'!$E$18:$E$1017,$B182,'Daily Log'!$F$18:$F$1017),0)","v":0},{"$f":"IFERROR($E182*SUMIF('Daily Log'!$H$18:$H$1017,$B182,'Daily Log'!$I$18:$I$1017),0)","v":0},{"$f":"IFERROR($E182*SUMIF('Daily Log'!$K$18:$K$1017,$B182,'Daily Log'!$L$18:$L$1017),0)","v":0},{"$f":"IFERROR($E182*SUMIF('Daily Log'!$N$18:$N$1017,$B182,'Daily Log'!$O$18:$O$1017),0)","v":0},{"$f":"IFERROR($E182*SUMIF('Daily Log'!$Q$18:$Q$1017,$B182,'Daily Log'!$R$18:$R$1017),0)","v":0},{"$f":"IFERROR($E182*SUMIF('Daily Log'!$T$18:$T$1017,$B182,'Daily Log'!$U$18:$U$1017),0)","v":0},{"$f":"IFERROR($E182*SUMIF('Daily Log'!$W$18:$W$1017,$B182,'Daily Log'!$X$18:$X$1017),0)","v":0},{"$f":"IFERROR($E182*SUMIF('Daily Log'!$Z$18:$Z$1017,$B182,'Daily Log'!$AA$18:$AA$1017),0)","v":0},{"$f":"IFERROR($E182*SUMIF('Daily Log'!$AC$18:$AC$1017,$B182,'Daily Log'!$AD$18:$AD$1017),0)","v":0},{"$f":"IFERROR($E182*SUMIF('Daily Log'!$AF$18:$AF$1017,$B182,'Daily Log'!$AG$18:$AG$1017),0)","v":0},{"$f":"IFERROR($E182*SUMIF('Daily Log'!$AI$18:$AI$1017,$B182,'Daily Log'!$AJ$18:$AJ$1017),0)","v":0},{"$f":"IFERROR($E182*SUMIF('Daily Log'!$AL$18:$AL$1017,$B182,'Daily Log'!$AM$18:$AM$1017),0)","v":0},{"$f":"IFERROR($E182*SUMIF('Daily Log'!$AO$18:$AO$1017,$B182,'Daily Log'!$AP$18:$AP$1017),0)","v":0},{"$f":"IFERROR($E182*SUMIF('Daily Log'!$AR$18:$AR$1017,$B182,'Daily Log'!$AS$18:$AS$1017),0)","v":0},{"$f":"IFERROR($E182*SUMIF('Daily Log'!$AU$18:$AU$1017,$B182,'Daily Log'!$AV$18:$AV$1017),0)","v":0},{"$f":"IFERROR($E182*SUMIF('Daily Log'!$AX$18:$AX$1017,$B182,'Daily Log'!$AY$18:$AY$1017),0)","v":0},{"$f":"IFERROR($E182*SUMIF('Daily Log'!$BA$18:$BA$1017,$B182,'Daily Log'!$BB$18:$BB$1017),0)","v":0},{"$f":"IFERROR($E182*SUMIF('Daily Log'!$BD$18:$BD$1017,$B182,'Daily Log'!$BE$18:$BE$1017),0)","v":0},{"$f":"IFERROR($E182*SUMIF('Daily Log'!$BG$18:$BG$1017,$B182,'Daily Log'!$BH$18:$BH$1017),0)","v":0},{"$f":"IFERROR($E182*SUMIF('Daily Log'!$BJ$18:$BJ$1017,$B182,'Daily Log'!$BK$18:$BK$1017),0)","v":0},{"$f":"IFERROR($E182*SUMIF('Daily Log'!$BM$18:$BM$1017,$B182,'Daily Log'!$BN$18:$BN$1017),0)","v":0},{"$f":"IFERROR($E182*SUMIF('Daily Log'!$BP$18:$BP$1017,$B182,'Daily Log'!$BQ$18:$BQ$1017),0)","v":0},{"$f":"IFERROR($E182*SUMIF('Daily Log'!$BS$18:$BS$1017,$B182,'Daily Log'!$BT$18:$BT$1017),0)","v":0},{"$f":"IFERROR($E182*SUMIF('Daily Log'!$BV$18:$BV$1017,$B182,'Daily Log'!$BW$18:$BW$1017),0)","v":0},{"$f":"IFERROR($E182*SUMIF('Daily Log'!$BY$18:$BY$1017,$B182,'Daily Log'!$BZ$18:$BZ$1017),0)","v":0},{"$f":"IFERROR($E182*SUMIF('Daily Log'!$CB$18:$CB$1017,$B182,'Daily Log'!$CC$18:$CC$1017),0)","v":0},{"$f":"IFERROR($E182*SUMIF('Daily Log'!$CE$18:$CE$1017,$B182,'Daily Log'!$CF$18:$CF$1017),0)","v":0},{"$f":"IFERROR($E182*SUMIF('Daily Log'!$CH$18:$CH$1017,$B182,'Daily Log'!$CI$18:$CI$1017),0)","v":0},{"$f":"IFERROR($E182*SUMIF('Daily Log'!$CK$18:$CK$1017,$B182,'Daily Log'!$CL$18:$CL$1017),0)","v":1},{"$f":"IFERROR($E182*SUMIF('Daily Log'!$CN$18:$CN$1017,$B182,'Daily Log'!$CO$18:$CO$1017),0)","v":0}]
[null,"AF41 91311:MC HSH BRW",null,null,1,4,{"$f":"IFERROR($E183*SUMIF('Daily Log'!$B$18:$B$1017,$B183,'Daily Log'!$C$18:$C$1017),0)","v":0},{"$f":"IFERROR($E183*SUMIF('Daily Log'!$E$18:$E$1017,$B183,'Daily Log'!$F$18:$F$1017),0)","v":0},{"$f":"IFERROR($E183*SUMIF('Daily Log'!$H$18:$H$1017,$B183,'Daily Log'!$I$18:$I$1017),0)","v":0},{"$f":"IFERROR($E183*SUMIF('Daily Log'!$K$18:$K$1017,$B183,'Daily Log'!$L$18:$L$1017),0)","v":0},{"$f":"IFERROR($E183*SUMIF('Daily Log'!$N$18:$N$1017,$B183,'Daily Log'!$O$18:$O$1017),0)","v":0},{"$f":"IFERROR($E183*SUMIF('Daily Log'!$Q$18:$Q$1017,$B183,'Daily Log'!$R$18:$R$1017),0)","v":0},{"$f":"IFERROR($E183*SUMIF('Daily Log'!$T$18:$T$1017,$B183,'Daily Log'!$U$18:$U$1017),0)","v":0},{"$f":"IFERROR($E183*SUMIF('Daily Log'!$W$18:$W$1017,$B183,'Daily Log'!$X$18:$X$1017),0)","v":0},{"$f":"IFERROR($E183*SUMIF('Daily Log'!$Z$18:$Z$1017,$B183,'Daily Log'!$AA$18:$AA$1017),0)","v":0},{"$f":"IFERROR($E183*SUMIF('Daily Log'!$AC$18:$AC$1017,$B183,'Daily Log'!$AD$18:$AD$1017),0)","v":0},{"$f":"IFERROR($E183*SUMIF('Daily Log'!$AF$18:$AF$1017,$B183,'Daily Log'!$AG$18:$AG$1017),0)","v":0},{"$f":"IFERROR($E183*SUMIF('Daily Log'!$AI$18:$AI$1017,$B183,'Daily Log'!$AJ$18:$AJ$1017),0)","v":0},{"$f":"IFERROR($E183*SUMIF('Daily Log'!$AL$18:$AL$1017,$B183,'Daily Log'!$AM$18:$AM$1017),0)","v":0},{"$f":"IFERROR($E183*SUMIF('Daily Log'!$AO$18:$AO$1017,$B183,'Daily Log'!$AP$18:$AP$1017),0)","v":0},{"$f":"IFERROR($E183*SUMIF('Daily Log'!$AR$18:$AR$1017,$B183,'Daily Log'!$AS$18:$AS$1017),0)","v":0},{"$f":"IFERROR($E183*SUMIF('Daily Log'!$AU$18:$AU$1017,$B183,'Daily Log'!$AV$18:$AV$1017),0)","v":0},{"$f":"IFERROR($E183*SUMIF('Daily Log'!$AX$18:$AX$1017,$B183,'Daily Log'!$AY$18:$AY$1017),0)","v":0},{"$f":"IFERROR($E183*SUMIF('Daily Log'!$BA$18:$BA$1017,$B183,'Daily Log'!$BB$18:$BB$1017),0)","v":0},{"$f":"IFERROR($E183*SUMIF('Daily Log'!$BD$18:$BD$1017,$B183,'Daily Log'!$BE$18:$BE$1017),0)","v":0},{"$f":"IFERROR($E183*SUMIF('Daily Log'!$BG$18:$BG$1017,$B183,'Daily Log'!$BH$18:$BH$1017),0)","v":0},{"$f":"IFERROR($E183*SUMIF('Daily Log'!$BJ$18:$BJ$1017,$B183,'Daily Log'!$BK$18:$BK$1017),0)","v":0},{"$f":"IFERROR($E183*SUMIF('Daily Log'!$BM$18:$BM$1017,$B183,'Daily Log'!$BN$18:$BN$1017),0)","v":0},{"$f":"IFERROR($E183*SUMIF('Daily Log'!$BP$18:$BP$1017,$B183,'Daily Log'!$BQ$18:$BQ$1017),0)","v":0},{"$f":"IFERROR($E183*SUMIF('Daily Log'!$BS$18:$BS$1017,$B183,'Daily Log'!$BT$18:$BT$1017),0)","v":0},{"$f":"IFERROR($E183*SUMIF('Daily Log'!$BV$18:$BV$1017,$B183,'Daily Log'!$BW$18:$BW$1017),0)","v":0},{"$f":"IFERROR($E183*SUMIF('Daily Log'!$BY$18:$BY$1017,$B183,'Daily Log'!$BZ$18:$BZ$1017),0)","v":0},{"$f":"IFERROR($E183*SUMIF('Daily Log'!$CB$18:$CB$1017,$B183,'Daily Log'!$CC$18:$CC$1017),0)","v":0},{"$f":"IFERROR($E183*SUMIF('Daily Log'!$CE$18:$CE$1017,$B183,'Daily Log'!$CF$18:$CF$1017),0)","v":0},{"$f":"IFERROR($E183*SUMIF('Daily Log'!$CH$18:$CH$1017,$B183,'Daily Log'!$CI$18:$CI$1017),0)","v":0},{"$f":"IFERROR($E183*SUMIF('Daily Log'!$CK$18:$CK$1017,$B183,'Daily Log'!$CL$18:$CL$1017),0)","v":4},{"$f":"IFERROR($E183*SUMIF('Daily Log'!$CN$18:$CN$1017,$B183,'Daily Log'!$CO$18:$CO$1017),0)","v":0}]
[null,"LC01 1101:THAI CHK",null,null,1,{"$f":"SUM($G184:$AK184)","v":40},{"$f":"IFERROR($E184*SUMIF('Daily Log'!$B$18:$B$1017,$B184,'Daily Log'!$C$18:$C$1017),0)","v":0},{"$f":"IFERROR($E184*SUMIF('Daily Log'!$E$18:$E$1017,$B184,'Daily Log'!$F$18:$F$1017),0)","v":0},{"$f":"IFERROR($E184*SUMIF('Daily Log'!$H$18:$H$1017,$B184,'Daily Log'!$I$18:$I$1017),0)","v":0},{"$f":"IFERROR($E184*SUMIF('Daily Log'!$K$18:$K$1017,$B184,'Daily Log'!$L$18:$L$1017),0)","v":0},{"$f":"IFERROR($E184*SUMIF('Daily Log'!$N$18:$N$1017,$B184,'Daily Log'!$O$18:$O$1017),0)","v":0},{"$f":"IFERROR($E184*SUMIF('Daily Log'!$Q$18:$Q$1017,$B184,'Daily Log'!$R$18:$R$1017),0)","v":0},{"$f":"IFERROR($E184*SUMIF('Daily Log'!$T$18:$T$1017,$B184,'Daily Log'!$U$18:$U$1017),0)","v":0},{"$f":"IFERROR($E184*SUMIF('Daily Log'!$W$18:$W$1017,$B184,'Daily Log'!$X$18:$X$1017),0)","v":0},{"$f":"IFERROR($E184*SUMIF('Daily Log'!$Z$18:$Z$1017,$B184,'Daily Log'!$AA$18:$AA$1017),0)","v":0},{"$f":"IFERROR($E184*SUMIF('Daily Log'!$AC$18:$AC$1017,$B184,'Daily Log'!$AD$18:$AD$1017),0)","v":0},{"$f":"IFERROR($E184*SUMIF('Daily Log'!$AF$18:$AF$1017,$B184,'Daily Log'!$AG$18:$AG$1017),0)","v":0},{"$f":"IFERROR($E184*SUMIF('Daily Log'!$AI$18:$AI$1017,$B184,'Daily Log'!$AJ$18:$AJ$1017),0)","v":0},{"$f":"IFERROR($E184*SUMIF('Daily Log'!$AL$18:$AL$1017,$B184,'Daily Log'!$AM$18:$AM$1017),0)","v":0},{"$f":"IFERROR($E184*SUMIF('Daily Log'!$AO$18:$AO$1017,$B184,'Daily Log'!$AP$18:$AP$1017),0)","v":0},{"$f":"IFERROR($E184*SUMIF('Daily Log'!$AR$18:$AR$1017,$B184,'Daily Log'!$AS$18:$AS$1017),0)","v":0},{"$f":"IFERROR($E184*SUMIF('Daily Log'!$AU$18:$AU$1017,$B184,'Daily Log'!$AV$18:$AV$1017),0)","v":0},{"$f":"IFERROR($E184*SUMIF('Daily Log'!$AX$18:$AX$1017,$B184,'Daily Log'!$AY$18:$AY$1017),0)","v":0},{"$f":"IFERROR($E184*SUMIF('Daily Log'!$BA$18:$BA$1017,$B184,'Daily Log'!$BB$18:$BB$1017),0)","v":0},{"$f":"IFERROR($E184*SUMIF('Daily Log'!$BD$18:$BD$1017,$B184,'Daily Log'!$BE$18:$BE$1017),0)","v":0},{"$f":"IFERROR($E184*SUMIF('Daily Log'!$BG$18:$BG$1017,$B184,'Daily Log'!$BH$18:$BH$1017),0)","v":0},{"$f":"IFERROR($E184*SUMIF('Daily Log'!$BJ$18:$BJ$1017,$B184,'Daily Log'!$BK$18:$BK$1017),0)","v":0},{"$f":"IFERROR($E184*SUMIF('Daily Log'!$BM$18:$BM$1017,$B184,'Daily Log'!$BN$18:$BN$1017),0)","v":0},{"$f":"IFERROR($E184*SUMIF('Daily Log'!$BP$18:$BP$1017,$B184,'Daily Log'!$BQ$18:$BQ$1017),0)","v":0},{"$f":"IFERROR($E184*SUMIF('Daily Log'!$BS$18:$BS$1017,$B184,'Daily Log'!$BT$18:$BT$1017),0)","v":0},{"$f":"IFERROR($E184*SUMIF('Daily Log'!$BV$18:$BV$1017,$B184,'Daily Log'!$BW$18:$BW$1017),0)","v":0},{"$f":"IFERROR($E184*SUMIF('Daily Log'!$BY$18:$BY$1017,$B184,'Daily Log'!$BZ$18:$BZ$1017),0)","v":0},{"$f":"IFERROR($E184*SUMIF('Daily Log'!$CB$18:$CB$1017,$B184,'Daily Log'!$CC$18:$CC$1017),0)","v":0},{"$f":"IFERROR($E184*SUMIF('Daily Log'!$CE$18:$CE$1017,$B184,'Daily Log'!$CF$18:$CF$1017),0)","v":0},{"$f":"IFERROR($E184*SUMIF('Daily Log'!$CH$18:$CH$1017,$B184,'Daily Log'!$CI$18:$CI$1017),0)","v":0},{"$f":"IFERROR($E184*SUMIF('Daily Log'!$CK$18:$CK$1017,$B184,'Daily Log'!$CL$18:$CL$1017),0)","v":40},{"$f":"IFERROR($E184*SUMIF('Daily Log'!$CN$18:$CN$1017,$B184,'Daily Log'!$CO$18:$CO$1017),0)","v":0}]
[null,"LC02 1102:MAMITE CHK",null,null,1,56,{"$f":"IFERROR($E185*SUMIF('Daily Log'!$B$18:$B$1017,$B185,'Daily Log'!$C$18:$C$1017),0)","v":0},{"$f":"IFERROR($E185*SUMIF('Daily Log'!$E$18:$E$1017,$B185,'Daily Log'!$F$18:$F$1017),0)","v":0},{"$f":"IFERROR($E185*SUMIF('Daily Log'!$H$18:$H$1017,$B185,'Daily Log'!$I$18:$I$1017),0)","v":0},{"$f":"IFERROR($E185*SUMIF('Daily Log'!$K$18:$K$1017,$B185,'Daily Log'!$L$18:$L$1017),0)","v":0},{"$f":"IFERROR($E185*SUMIF('Daily Log'!$N$18:$N$1017,$B185,'Daily Log'!$O$18:$O$1017),0)","v":0},{"$f":"IFERROR($E185*SUMIF('Daily Log'!$Q$18:$Q$1017,$B185,'Daily Log'!$R$18:$R$1017),0)","v":0},{"$f":"IFERROR($E185*SUMIF('Daily Log'!$T$18:$T$1017,$B185,'Daily Log'!$U$18:$U$1017),0)","v":0},{"$f":"IFERROR($E185*SUMIF('Daily Log'!$W$18:$W$1017,$B185,'Daily Log'!$X$18:$X$1017),0)","v":0},{"$f":"IFERROR($E185*SUMIF('Daily Log'!$Z$18:$Z$1017,$B185,'Daily Log'!$AA$18:$AA$1017),0)","v":0},{"$f":"IFERROR($E185*SUMIF('Daily Log'!$AC$18:$AC$1017,$B185,'Daily Log'!$AD$18:$AD$1017),0)","v":0},{"$f":"IFERROR($E185*SUMIF('Daily Log'!$AF$18:$AF$1017,$B185,'Daily Log'!$AG$18:$AG$1017),0)","v":0},{"$f":"IFERROR($E185*SUMIF('Daily Log'!$AI$18:$AI$1017,$B185,'Daily Log'!$AJ$18:$AJ$1017),0)","v":0},{"$f":"IFERROR($E185*SUMIF('Daily Log'!$AL$18:$AL$1017,$B185,'Daily Log'!$AM$18:$AM$1017),0)","v":0},{"$f":"IFERROR($E185*SUMIF('Daily Log'!$AO$18:$AO$1017,$B185,'Daily Log'!$AP$18:$AP$1017),0)","v":0},{"$f":"IFERROR($E185*SUMIF('Daily Log'!$AR$18:$AR$1017,$B185,'Daily Log'!$AS$18:$AS$1017),0)","v":0},{"$f":"IFERROR($E185*SUMIF('Daily Log'!$AU$18:$AU$1017,$B185,'Daily Log'!$AV$18:$AV$1017),0)","v":0},{"$f":"IFERROR($E185*SUMIF('Daily Log'!$AX$18:$AX$1017,$B185,'Daily Log'!$AY$18:$AY$1017),0)","v":0},{"$f":"IFERROR($E185*SUMIF('Daily Log'!$BA$18:$BA$1017,$B185,'Daily Log'!$BB$18:$BB$1017),0)","v":0},{"$f":"IFERROR($E185*SUMIF('Daily Log'!$BD$18:$BD$1017,$B185,'Daily Log'!$BE$18:$BE$1017),0)","v":0},{"$f":"IFERROR($E185*SUMIF('Daily Log'!$BG$18:$BG$1017,$B185,'Daily Log'!$BH$18:$BH$1017),0)","v":0},{"$f":"IFERROR($E185*SUMIF('Daily Log'!$BJ$18:$BJ$1017,$B185,'Daily Log'!$BK$18:$BK$1017),0)","v":0},{"$f":"IFERROR($E185*SUMIF('Daily Log'!$BM$18:$BM$1017,$B185,'Daily Log'!$BN$18:$BN$1017),0)","v":0},{"$f":"IFERROR($E185*SUMIF('Daily Log'!$BP$18:$BP$1017,$B185,'Daily Log'!$BQ$18:$BQ$1017),0)","v":0},{"$f":"IFERROR($E185*SUMIF('Daily Log'!$BS$18:$BS$1017,$B185,'Daily Log'!$BT$18:$BT$1017),0)","v":0},{"$f":"IFERROR($E185*SUMIF('Daily Log'!$BV$18:$BV$1017,$B185,'Daily Log'!$BW$18:$BW$1017),0)","v":0},{"$f":"IFERROR($E185*SUMIF('Daily Log'!$BY$18:$BY$1017,$B185,'Daily Log'!$BZ$18:$BZ$1017),0)","v":0},{"$f":"IFERROR($E185*SUMIF('Daily Log'!$CB$18:$CB$1017,$B185,'Daily Log'!$CC$18:$CC$1017),0)","v":0},{"$f":"IFERROR($E185*SUMIF('Daily Log'!$CE$18:$CE$1017,$B185,'Daily Log'!$CF$18:$CF$1017),0)","v":0},{"$f":"IFERROR($E185*SUMIF('Daily Log'!$CH$18:$CH$1017,$B185,'Daily Log'!$CI$18:$CI$1017),0)","v":0},{"$f":"IFERROR($E185*SUMIF('Daily Log'!$CK$18:$CK$1017,$B185,'Daily Log'!$CL$18:$CL$1017),0)","v":56},{"$f":"IFERROR($E185*SUMIF('Daily Log'!$CN$18:$CN$1017,$B185,'Daily Log'!$CO$18:$CO$1017),0)","v":0}]
[null,"LC05 1105:BUTTER CHK",null,null,1,71,{"$f":"IFERROR($E186*SUMIF('Daily Log'!$B$18:$B$1017,$B186,'Daily Log'!$C$18:$C$1017),0)","v":0},{"$f":"IFERROR($E186*SUMIF('Daily Log'!$E$18:$E$1017,$B186,'Daily Log'!$F$18:$F$1017),0)","v":0},{"$f":"IFERROR($E186*SUMIF('Daily Log'!$H$18:$H$1017,$B186,'Daily Log'!$I$18:$I$1017),0)","v":0},{"$f":"IFERROR($E186*SUMIF('Daily Log'!$K$18:$K$1017,$B186,'Daily Log'!$L$18:$L$1017),0)","v":0},{"$f":"IFERROR($E186*SUMIF('Daily Log'!$N$18:$N$1017,$B186,'Daily Log'!$O$18:$O$1017),0)","v":0},{"$f":"IFERROR($E186*SUMIF('Daily Log'!$Q$18:$Q$1017,$B186,'Daily Log'!$R$18:$R$1017),0)","v":0},{"$f":"IFERROR($E186*SUMIF('Daily Log'!$T$18:$T$1017,$B186,'Daily Log'!$U$18:$U$1017),0)","v":0},{"$f":"IFERROR($E186*SUMIF('Daily Log'!$W$18:$W$1017,$B186,'Daily Log'!$X$18:$X$1017),0)","v":0},{"$f":"IFERROR($E186*SUMIF('Daily Log'!$Z$18:$Z$1017,$B186,'Daily Log'!$AA$18:$AA$1017),0)","v":0},{"$f":"IFERROR($E186*SUMIF('Daily Log'!$AC$18:$AC$1017,$B186,'Daily Log'!$AD$18:$AD$1017),0)","v":0},{"$f":"IFERROR($E186*SUMIF('Daily Log'!$AF$18:$AF$1017,$B186,'Daily Log'!$AG$18:$AG$1017),0)","v":0},{"$f":"IFERROR($E186*SUMIF('Daily Log'!$AI$18:$AI$1017,$B186,'Daily Log'!$AJ$18:$AJ$1017),0)","v":0},{"$f":"IFERROR($E186*SUMIF('Daily Log'!$AL$18:$AL$1017,$B186,'Daily Log'!$AM$18:$AM$1017),0)","v":0},{"$f":"IFERROR($E186*SUMIF('Daily Log'!$AO$18:$AO$1017,$B186,'Daily Log'!$AP$18:$AP$1017),0)","v":0},{"$f":"IFERROR($E186*SUMIF('Daily Log'!$AR$18:$AR$1017,$B186,'Daily Log'!$AS$18:$AS$1017),0)","v":0},{"$f":"IFERROR($E186*SUMIF('Daily Log'!$AU$18:$AU$1017,$B186,'Daily Log'!$AV$18:$AV$1017),0)","v":0},{"$f":"IFERROR($E186*SUMIF('Daily Log'!$AX$18:$AX$1017,$B186,'Daily Log'!$AY$18:$AY$1017),0)","v":0},{"$f":"IFERROR($E186*SUMIF('Daily Log'!$BA$18:$BA$1017,$B186,'Daily Log'!$BB$18:$BB$1017),0)","v":0},{"$f":"IFERROR($E186*SUMIF('Daily Log'!$BD$18:$BD$1017,$B186,'Daily Log'!$BE$18:$BE$1017),0)","v":0},{"$f":"IFERROR($E186*SUMIF('Daily Log'!$BG$18:$BG$1017,$B186,'Daily Log'!$BH$18:$BH$1017),0)","v":0},{"$f":"IFERROR($E186*SUMIF('Daily Log'!$BJ$18:$BJ$1017,$B186,'Daily Log'!$BK$18:$BK$1017),0)","v":0},{"$f":"IFERROR($E186*SUMIF('Daily Log'!$BM$18:$BM$1017,$B186,'Daily Log'!$BN$18:$BN$1017),0)","v":0},{"$f":"IFERROR($E186*SUMIF('Daily Log'!$BP$18:$BP$1017,$B186,'Daily Log'!$BQ$18:$BQ$1017),0)","v":0},{"$f":"IFERROR($E186*SUMIF('Daily Log'!$BS$18:$BS$1017,$B186,'Daily Log'!$BT$18:$BT$1017),0)","v":0},{"$f":"IFERROR($E186*SUMIF('Daily Log'!$BV$18:$BV$1017,$B186,'Daily Log'!$BW$18:$BW$1017),0)","v":0},{"$f":"IFERROR($E186*SUMIF('Daily Log'!$BY$18:$BY$1017,$B186,'Daily Log'!$BZ$18:$BZ$1017),0)","v":0},{"$f":"IFERROR($E186*SUMIF('Daily Log'!$CB$18:$CB$1017,$B186,'Daily Log'!$CC$18:$CC$1017),0)","v":0},{"$f":"IFERROR($E186*SUMIF('Daily Log'!$CE$18:$CE$1017,$B186,'Daily Log'!$CF$18:$CF$1017),0)","v":0},{"$f":"IFERROR($E186*SUMIF('Daily Log'!$CH$18:$CH$1017,$B186,'Daily Log'!$CI$18:$CI$1017),0)","v":0},{"$f":"IFERROR($E186*SUMIF('Daily Log'!$CK$18:$CK$1017,$B186,'Daily Log'!$CL$18:$CL$1017),0)","v":71},{"$f":"IFERROR($E186*SUMIF('Daily Log'!$CN$18:$CN$1017,$B186,'Daily Log'!$CO$18:$CO$1017),0)","v":0}]
[null,"LC17 1117:THAI FSH",null,null,1,16,{"$f":"IFERROR($E187*SUMIF('Daily Log'!$B$18:$B$1017,$B187,'Daily Log'!$C$18:$C$1017),0)","v":0},{"$f":"IFERROR($E187*SUMIF('Daily Log'!$E$18:$E$1017,$B187,'Daily Log'!$F$18:$F$1017),0)","v":0},{"$f":"IFERROR($E187*SUMIF('Daily Log'!$H$18:$H$1017,$B187,'Daily Log'!$I$18:$I$1017),0)","v":0},{"$f":"IFERROR($E187*SUMIF('Daily Log'!$K$18:$K$1017,$B187,'Daily Log'!$L$18:$L$1017),0)","v":0},{"$f":"IFERROR($E187*SUMIF('Daily Log'!$N$18:$N$1017,$B187,'Daily Log'!$O$18:$O$1017),0)","v":0},{"$f":"IFERROR($E187*SUMIF('Daily Log'!$Q$18:$Q$1017,$B187,'Daily Log'!$R$18:$R$1017),0)","v":0},{"$f":"IFERROR($E187*SUMIF('Daily Log'!$T$18:$T$1017,$B187,'Daily Log'!$U$18:$U$1017),0)","v":0},{"$f":"IFERROR($E187*SUMIF('Daily Log'!$W$18:$W$1017,$B187,'Daily Log'!$X$18:$X$1017),0)","v":0},{"$f":"IFERROR($E187*SUMIF('Daily Log'!$Z$18:$Z$1017,$B187,'Daily Log'!$AA$18:$AA$1017),0)","v":0},{"$f":"IFERROR($E187*SUMIF('Daily Log'!$AC$18:$AC$1017,$B187,'Daily Log'!$AD$18:$AD$1017),0)","v":0},{"$f":"IFERROR($E187*SUMIF('Daily Log'!$AF$18:$AF$1017,$B187,'Daily Log'!$AG$18:$AG$1017),0)","v":0},{"$f":"IFERROR($E187*SUMIF('Daily Log'!$AI$18:$AI$1017,$B187,'Daily Log'!$AJ$18:$AJ$1017),0)","v":0},{"$f":"IFERROR($E187*SUMIF('Daily Log'!$AL$18:$AL$1017,$B187,'Daily Log'!$AM$18:$AM$1017),0)","v":0},{"$f":"IFERROR($E187*SUMIF('Daily Log'!$AO$18:$AO$1017,$B187,'Daily Log'!$AP$18:$AP$1017),0)","v":0},{"$f":"IFERROR($E187*SUMIF('Daily Log'!$AR$18:$AR$1017,$B187,'Daily Log'!$AS$18:$AS$1017),0)","v":0},{"$f":"IFERROR($E187*SUMIF('Daily Log'!$AU$18:$AU$1017,$B187,'Daily Log'!$AV$18:$AV$1017),0)","v":0},{"$f":"IFERROR($E187*SUMIF('Daily Log'!$AX$18:$AX$1017,$B187,'Daily Log'!$AY$18:$AY$1017),0)","v":0},{"$f":"IFERROR($E187*SUMIF('Daily Log'!$BA$18:$BA$1017,$B187,'Daily Log'!$BB$18:$BB$1017),0)","v":0},{"$f":"IFERROR($E187*SUMIF('Daily Log'!$BD$18:$BD$1017,$B187,'Daily Log'!$BE$18:$BE$1017),0)","v":0},{"$f":"IFERROR($E187*SUMIF('Daily Log'!$BG$18:$BG$1017,$B187,'Daily Log'!$BH$18:$BH$1017),0)","v":0},{"$f":"IFERROR($E187*SUMIF('Daily Log'!$BJ$18:$BJ$1017,$B187,'Daily Log'!$BK$18:$BK$1017),0)","v":0},{"$f":"IFERROR($E187*SUMIF('Daily Log'!$BM$18:$BM$1017,$B187,'Daily Log'!$BN$18:$BN$1017),0)","v":0},{"$f":"IFERROR($E187*SUMIF('Daily Log'!$BP$18:$BP$1017,$B187,'Daily Log'!$BQ$18:$BQ$1017),0)","v":0},{"$f":"IFERROR($E187*SUMIF('Daily Log'!$BS$18:$BS$1017,$B187,'Daily Log'!$BT$18:$BT$1017),0)","v":0},{"$f":"IFERROR($E187*SUMIF('Daily Log'!$BV$18:$BV$1017,$B187,'Daily Log'!$BW$18:$BW$1017),0)","v":0},{"$f":"IFERROR($E187*SUMIF('Daily Log'!$BY$18:$BY$1017,$B187,'Daily Log'!$BZ$18:$BZ$1017),0)","v":0},{"$f":"IFERROR($E187*SUMIF('Daily Log'!$CB$18:$CB$1017,$B187,'Daily Log'!$CC$18:$CC$1017),0)","v":0},{"$f":"IFERROR($E187*SUMIF('Daily Log'!$CE$18:$CE$1017,$B187,'Daily Log'!$CF$18:$CF$1017),0)","v":0},{"$f":"IFERROR($E187*SUMIF('Daily Log'!$CH$18:$CH$1017,$B187,'Daily Log'!$CI$18:$CI$1017),0)","v":0},{"$f":"IFERROR($E187*SUMIF('Daily Log'!$CK$18:$CK$1017,$B187,'Daily Log'!$CL$18:$CL$1017),0)","v":16},{"$f":"IFERROR($E187*SUMIF('Daily Log'!$CN$18:$CN$1017,$B187,'Daily Log'!$CO$18:$CO$1017),0)","v":0}]
[null,"LC18 1118:MAMITE FSH",null,null,1,15,{"$f":"IFERROR($E188*SUMIF('Daily Log'!$B$18:$B$1017,$B188,'Daily Log'!$C$18:$C$1017),0)","v":0},{"$f":"IFERROR($E188*SUMIF('Daily Log'!$E$18:$E$1017,$B188,'Daily Log'!$F$18:$F$1017),0)","v":0},{"$f":"IFERROR($E188*SUMIF('Daily Log'!$H$18:$H$1017,$B188,'Daily Log'!$I$18:$I$1017),0)","v":0},{"$f":"IFERROR($E188*SUMIF('Daily Log'!$K$18:$K$1017,$B188,'Daily Log'!$L$18:$L$1017),0)","v":0},{"$f":"IFERROR($E188*SUMIF('Daily Log'!$N$18:$N$1017,$B188,'Daily Log'!$O$18:$O$1017),0)","v":0},{"$f":"IFERROR($E188*SUMIF('Daily Log'!$Q$18:$Q$1017,$B188,'Daily Log'!$R$18:$R$1017),0)","v":0},{"$f":"IFERROR($E188*SUMIF('Daily Log'!$T$18:$T$1017,$B188,'Daily Log'!$U$18:$U$1017),0)","v":0},{"$f":"IFERROR($E188*SUMIF('Daily Log'!$W$18:$W$1017,$B188,'Daily Log'!$X$18:$X$1017),0)","v":0},{"$f":"IFERROR($E188*SUMIF('Daily Log'!$Z$18:$Z$1017,$B188,'Daily Log'!$AA$18:$AA$1017),0)","v":0},{"$f":"IFERROR($E188*SUMIF('Daily Log'!$AC$18:$AC$1017,$B188,'Daily Log'!$AD$18:$AD$1017),0)","v":0},{"$f":"IFERROR($E188*SUMIF('Daily Log'!$AF$18:$AF$1017,$B188,'Daily Log'!$AG$18:$AG$1017),0)","v":0},{"$f":"IFERROR($E188*SUMIF('Daily Log'!$AI$18:$AI$1017,$B188,'Daily Log'!$AJ$18:$AJ$1017),0)","v":0},{"$f":"IFERROR($E188*SUMIF('Daily Log'!$AL$18:$AL$1017,$B188,'Daily Log'!$AM$18:$AM$1017),0)","v":0},{"$f":"IFERROR($E188*SUMIF('Daily Log'!$AO$18:$AO$1017,$B188,'Daily Log'!$AP$18:$AP$1017),0)","v":0},{"$f":"IFERROR($E188*SUMIF('Daily Log'!$AR$18:$AR$1017,$B188,'Daily Log'!$AS$18:$AS$1017),0)","v":0},{"$f":"IFERROR($E188*SUMIF('Daily Log'!$AU$18:$AU$1017,$B188,'Daily Log'!$AV$18:$AV$1017),0)","v":0},{"$f":"IFERROR($E188*SUMIF('Daily Log'!$AX$18:$AX$1017,$B188,'Daily Log'!$AY$18:$AY$1017),0)","v":0},{"$f":"IFERROR($E188*SUMIF('Daily Log'!$BA$18:$BA$1017,$B188,'Daily Log'!$BB$18:$BB$1017),0)","v":0},{"$f":"IFERROR($E188*SUMIF('Daily Log'!$BD$18:$BD$1017,$B188,'Daily Log'!$BE$18:$BE$1017),0)","v":0},{"$f":"IFERROR($E188*SUMIF('Daily Log'!$BG$18:$BG$1017,$B188,'Daily Log'!$BH$18:$BH$1017),0)","v":0},{"$f":"IFERROR($E188*SUMIF('Daily Log'!$BJ$18:$BJ$1017,$B188,'Daily Log'!$BK$18:$BK$1017),0)","v":0},{"$f":"IFERROR($E188*SUMIF('Daily Log'!$BM$18:$BM$1017,$B188,'Daily Log'!$BN$18:$BN$1017),0)","v":0},{"$f":"IFERROR($E188*SUMIF('Daily Log'!$BP$18:$BP$1017,$B188,'Daily Log'!$BQ$18:$BQ$1017),0)","v":0},{"$f":"IFERROR($E188*SUMIF('Daily Log'!$BS$18:$BS$1017,$B188,'Daily Log'!$BT$18:$BT$1017),0)","v":0},{"$f":"IFERROR($E188*SUMIF('Daily Log'!$BV$18:$BV$1017,$B188,'Daily Log'!$BW$18:$BW$1017),0)","v":0},{"$f":"IFERROR($E188*SUMIF('Daily Log'!$BY$18:$BY$1017,$B188,'Daily Log'!$BZ$18:$BZ$1017),0)","v":0},{"$f":"IFERROR($E188*SUMIF('Daily Log'!$CB$18:$CB$1017,$B188,'Daily Log'!$CC$18:$CC$1017),0)","v":0},{"$f":"IFERROR($E188*SUMIF('Daily Log'!$CE$18:$CE$1017,$B188,'Daily Log'!$CF$18:$CF$1017),0)","v":0},{"$f":"IFERROR($E188*SUMIF('Daily Log'!$CH$18:$CH$1017,$B188,'Daily Log'!$CI$18:$CI$1017),0)","v":0},{"$f":"IFERROR($E188*SUMIF('Daily Log'!$CK$18:$CK$1017,$B188,'Daily Log'!$CL$18:$CL$1017),0)","v":15},{"$f":"IFERROR($E188*SUMIF('Daily Log'!$CN$18:$CN$1017,$B188,'Daily Log'!$CO$18:$CO$1017),0)","v":0}]
[null,"LC19 1119:BUTTER FSH",null,null,1,22,{"$f":"IFERROR($E189*SUMIF('Daily Log'!$B$18:$B$1017,$B189,'Daily Log'!$C$18:$C$1017),0)","v":0},{"$f":"IFERROR($E189*SUMIF('Daily Log'!$E$18:$E$1017,$B189,'Daily Log'!$F$18:$F$1017),0)","v":0},{"$f":"IFERROR($E189*SUMIF('Daily Log'!$H$18:$H$1017,$B189,'Daily Log'!$I$18:$I$1017),0)","v":0},{"$f":"IFERROR($E189*SUMIF('Daily Log'!$K$18:$K$1017,$B189,'Daily Log'!$L$18:$L$1017),0)","v":0},{"$f":"IFERROR($E189*SUMIF('Daily Log'!$N$18:$N$1017,$B189,'Daily Log'!$O$18:$O$1017),0)","v":0},{"$f":"IFERROR($E189*SUMIF('Daily Log'!$Q$18:$Q$1017,$B189,'Daily Log'!$R$18:$R$1017),0)","v":0},{"$f":"IFERROR($E189*SUMIF('Daily Log'!$T$18:$T$1017,$B189,'Daily Log'!$U$18:$U$1017),0)","v":0},{"$f":"IFERROR($E189*SUMIF('Daily Log'!$W$18:$W$1017,$B189,'Daily Log'!$X$18:$X$1017),0)","v":0},{"$f":"IFERROR($E189*SUMIF('Daily Log'!$Z$18:$Z$1017,$B189,'Daily Log'!$AA$18:$AA$1017),0)","v":0},{"$f":"IFERROR($E189*SUMIF('Daily Log'!$AC$18:$AC$1017,$B189,'Daily Log'!$AD$18:$AD$1017),0)","v":0},{"$f":"IFERROR($E189*SUMIF('Daily Log'!$AF$18:$AF$1017,$B189,'Daily Log'!$AG$18:$AG$1017),0)","v":0},{"$f":"IFERROR($E189*SUMIF('Daily Log'!$AI$18:$AI$1017,$B189,'Daily Log'!$AJ$18:$AJ$1017),0)","v":0},{"$f":"IFERROR($E189*SUMIF('Daily Log'!$AL$18:$AL$1017,$B189,'Daily Log'!$AM$18:$AM$1017),0)","v":0},{"$f":"IFERROR($E189*SUMIF('Daily Log'!$AO$18:$AO$1017,$B189,'Daily Log'!$AP$18:$AP$1017),0)","v":0},{"$f":"IFERROR($E189*SUMIF('Daily Log'!$AR$18:$AR$1017,$B189,'Daily Log'!$AS$18:$AS$1017),0)","v":0},{"$f":"IFERROR($E189*SUMIF('Daily Log'!$AU$18:$AU$1017,$B189,'Daily Log'!$AV$18:$AV$1017),0)","v":0},{"$f":"IFERROR($E189*SUMIF('Daily Log'!$AX$18:$AX$1017,$B189,'Daily Log'!$AY$18:$AY$1017),0)","v":0},{"$f":"IFERROR($E189*SUMIF('Daily Log'!$BA$18:$BA$1017,$B189,'Daily Log'!$BB$18:$BB$1017),0)","v":0},{"$f":"IFERROR($E189*SUMIF('Daily Log'!$BD$18:$BD$1017,$B189,'Daily Log'!$BE$18:$BE$1017),0)","v":0},{"$f":"IFERROR($E189*SUMIF('Daily Log'!$BG$18:$BG$1017,$B189,'Daily Log'!$BH$18:$BH$1017),0)","v":0},{"$f":"IFERROR($E189*SUMIF('Daily Log'!$BJ$18:$BJ$1017,$B189,'Daily Log'!$BK$18:$BK$1017),0)","v":0},{"$f":"IFERROR($E189*SUMIF('Daily Log'!$BM$18:$BM$1017,$B189,'Daily Log'!$BN$18:$BN$1017),0)","v":0},{"$f":"IFERROR($E189*SUMIF('Daily Log'!$BP$18:$BP$1017,$B189,'Daily Log'!$BQ$18:$BQ$1017),0)","v":0},{"$f":"IFERROR($E189*SUMIF('Daily Log'!$BS$18:$BS$1017,$B189,'Daily Log'!$BT$18:$BT$1017),0)","v":0},{"$f":"IFERROR($E189*SUMIF('Daily Log'!$BV$18:$BV$1017,$B189,'Daily Log'!$BW$18:$BW$1017),0)","v":0},{"$f":"IFERROR($E189*SUMIF('Daily Log'!$BY$18:$BY$1017,$B189,'Daily Log'!$BZ$18:$BZ$1017),0)","v":0},{"$f":"IFERROR($E189*SUMIF('Daily Log'!$CB$18:$CB$1017,$B189,'Daily Log'!$CC$18:$CC$1017),0)","v":0},{"$f":"IFERROR($E189*SUMIF('Daily Log'!$CE$18:$CE$1017,$B189,'Daily Log'!$CF$18:$CF$1017),0)","v":0},{"$f":"IFERROR($E189*SUMIF('Daily Log'!$CH$18:$CH$1017,$B189,'Daily Log'!$CI$18:$CI$1017),0)","v":0},{"$f":"IFERROR($E189*SUMIF('Daily Log'!$CK$18:$CK$1017,$B189,'Daily Log'!$CL$18:$CL$1017),0)","v":22},{"$f":"IFERROR($E189*SUMIF('Daily Log'!$CN$18:$CN$1017,$B189,'Daily Log'!$CO$18:$CO$1017),0)","v":0}]
[null,"AA02 1202:FREN FRIES",null,null,1,54,{"$f":"IFERROR($E190*SUMIF('Daily Log'!$B$18:$B$1017,$B190,'Daily Log'!$C$18:$C$1017),0)","v":0},{"$f":"IFERROR($E190*SUMIF('Daily Log'!$E$18:$E$1017,$B190,'Daily Log'!$F$18:$F$1017),0)","v":0},{"$f":"IFERROR($E190*SUMIF('Daily Log'!$H$18:$H$1017,$B190,'Daily Log'!$I$18:$I$1017),0)","v":0},{"$f":"IFERROR($E190*SUMIF('Daily Log'!$K$18:$K$1017,$B190,'Daily Log'!$L$18:$L$1017),0)","v":0},{"$f":"IFERROR($E190*SUMIF('Daily Log'!$N$18:$N$1017,$B190,'Daily Log'!$O$18:$O$1017),0)","v":0},{"$f":"IFERROR($E190*SUMIF('Daily Log'!$Q$18:$Q$1017,$B190,'Daily Log'!$R$18:$R$1017),0)","v":0},{"$f":"IFERROR($E190*SUMIF('Daily Log'!$T$18:$T$1017,$B190,'Daily Log'!$U$18:$U$1017),0)","v":0},{"$f":"IFERROR($E190*SUMIF('Daily Log'!$W$18:$W$1017,$B190,'Daily Log'!$X$18:$X$1017),0)","v":0},{"$f":"IFERROR($E190*SUMIF('Daily Log'!$Z$18:$Z$1017,$B190,'Daily Log'!$AA$18:$AA$1017),0)","v":0},{"$f":"IFERROR($E190*SUMIF('Daily Log'!$AC$18:$AC$1017,$B190,'Daily Log'!$AD$18:$AD$1017),0)","v":0},{"$f":"IFERROR($E190*SUMIF('Daily Log'!$AF$18:$AF$1017,$B190,'Daily Log'!$AG$18:$AG$1017),0)","v":0},{"$f":"IFERROR($E190*SUMIF('Daily Log'!$AI$18:$AI$1017,$B190,'Daily Log'!$AJ$18:$AJ$1017),0)","v":0},{"$f":"IFERROR($E190*SUMIF('Daily Log'!$AL$18:$AL$1017,$B190,'Daily Log'!$AM$18:$AM$1017),0)","v":0},{"$f":"IFERROR($E190*SUMIF('Daily Log'!$AO$18:$AO$1017,$B190,'Daily Log'!$AP$18:$AP$1017),0)","v":0},{"$f":"IFERROR($E190*SUMIF('Daily Log'!$AR$18:$AR$1017,$B190,'Daily Log'!$AS$18:$AS$1017),0)","v":0},{"$f":"IFERROR($E190*SUMIF('Daily Log'!$AU$18:$AU$1017,$B190,'Daily Log'!$AV$18:$AV$1017),0)","v":0},{"$f":"IFERROR($E190*SUMIF('Daily Log'!$AX$18:$AX$1017,$B190,'Daily Log'!$AY$18:$AY$1017),0)","v":0},{"$f":"IFERROR($E190*SUMIF('Daily Log'!$BA$18:$BA$1017,$B190,'Daily Log'!$BB$18:$BB$1017),0)","v":0},{"$f":"IFERROR($E190*SUMIF('Daily Log'!$BD$18:$BD$1017,$B190,'Daily Log'!$BE$18:$BE$1017),0)","v":0},{"$f":"IFERROR($E190*SUMIF('Daily Log'!$BG$18:$BG$1017,$B190,'Daily Log'!$BH$18:$BH$1017),0)","v":0},{"$f":"IFERROR($E190*SUMIF('Daily Log'!$BJ$18:$BJ$1017,$B190,'Daily Log'!$BK$18:$BK$1017),0)","v":0},{"$f":"IFERROR($E190*SUMIF('Daily Log'!$BM$18:$BM$1017,$B190,'Daily Log'!$BN$18:$BN$1017),0)","v":0},{"$f":"IFERROR($E190*SUMIF('Daily Log'!$BP$18:$BP$1017,$B190,'Daily Log'!$BQ$18:$BQ$1017),0)","v":0},{"$f":"IFERROR($E190*SUMIF('Daily Log'!$BS$18:$BS$1017,$B190,'Daily Log'!$BT$18:$BT$1017),0)","v":0},{"$f":"IFERROR($E190*SUMIF('Daily Log'!$BV$18:$BV$1017,$B190,'Daily Log'!$BW$18:$BW$1017),0)","v":0},{"$f":"IFERROR($E190*SUMIF('Daily Log'!$BY$18:$BY$1017,$B190,'Daily Log'!$BZ$18:$BZ$1017),0)","v":0},{"$f":"IFERROR($E190*SUMIF('Daily Log'!$CB$18:$CB$1017,$B190,'Daily Log'!$CC$18:$CC$1017),0)","v":0},{"$f":"IFERROR($E190*SUMIF('Daily Log'!$CE$18:$CE$1017,$B190,'Daily Log'!$CF$18:$CF$1017),0)","v":0},{"$f":"IFERROR($E190*SUMIF('Daily Log'!$CH$18:$CH$1017,$B190,'Daily Log'!$CI$18:$CI$1017),0)","v":0},{"$f":"IFERROR($E190*SUMIF('Daily Log'!$CK$18:$CK$1017,$B190,'Daily Log'!$CL$18:$CL$1017),0)","v":54},{"$f":"IFERROR($E190*SUMIF('Daily Log'!$CN$18:$CN$1017,$B190,'Daily Log'!$CO$18:$CO$1017),0)","v":0}]
[null,"AA04 1204:FSH BALL",null,null,1,4,{"$f":"IFERROR($E191*SUMIF('Daily Log'!$B$18:$B$1017,$B191,'Daily Log'!$C$18:$C$1017),0)","v":0},{"$f":"IFERROR($E191*SUMIF('Daily Log'!$E$18:$E$1017,$B191,'Daily Log'!$F$18:$F$1017),0)","v":0},{"$f":"IFERROR($E191*SUMIF('Daily Log'!$H$18:$H$1017,$B191,'Daily Log'!$I$18:$I$1017),0)","v":0},{"$f":"IFERROR($E191*SUMIF('Daily Log'!$K$18:$K$1017,$B191,'Daily Log'!$L$18:$L$1017),0)","v":0},{"$f":"IFERROR($E191*SUMIF('Daily Log'!$N$18:$N$1017,$B191,'Daily Log'!$O$18:$O$1017),0)","v":0},{"$f":"IFERROR($E191*SUMIF('Daily Log'!$Q$18:$Q$1017,$B191,'Daily Log'!$R$18:$R$1017),0)","v":0},{"$f":"IFERROR($E191*SUMIF('Daily Log'!$T$18:$T$1017,$B191,'Daily Log'!$U$18:$U$1017),0)","v":0},{"$f":"IFERROR($E191*SUMIF('Daily Log'!$W$18:$W$1017,$B191,'Daily Log'!$X$18:$X$1017),0)","v":0},{"$f":"IFERROR($E191*SUMIF('Daily Log'!$Z$18:$Z$1017,$B191,'Daily Log'!$AA$18:$AA$1017),0)","v":0},{"$f":"IFERROR($E191*SUMIF('Daily Log'!$AC$18:$AC$1017,$B191,'Daily Log'!$AD$18:$AD$1017),0)","v":0},{"$f":"IFERROR($E191*SUMIF('Daily Log'!$AF$18:$AF$1017,$B191,'Daily Log'!$AG$18:$AG$1017),0)","v":0},{"$f":"IFERROR($E191*SUMIF('Daily Log'!$AI$18:$AI$1017,$B191,'Daily Log'!$AJ$18:$AJ$1017),0)","v":0},{"$f":"IFERROR($E191*SUMIF('Daily Log'!$AL$18:$AL$1017,$B191,'Daily Log'!$AM$18:$AM$1017),0)","v":0},{"$f":"IFERROR($E191*SUMIF('Daily Log'!$AO$18:$AO$1017,$B191,'Daily Log'!$AP$18:$AP$1017),0)","v":0},{"$f":"IFERROR($E191*SUMIF('Daily Log'!$AR$18:$AR$1017,$B191,'Daily Log'!$AS$18:$AS$1017),0)","v":0},{"$f":"IFERROR($E191*SUMIF('Daily Log'!$AU$18:$AU$1017,$B191,'Daily Log'!$AV$18:$AV$1017),0)","v":0},{"$f":"IFERROR($E191*SUMIF('Daily Log'!$AX$18:$AX$1017,$B191,'Daily Log'!$AY$18:$AY$1017),0)","v":0},{"$f":"IFERROR($E191*SUMIF('Daily Log'!$BA$18:$BA$1017,$B191,'Daily Log'!$BB$18:$BB$1017),0)","v":0},{"$f":"IFERROR($E191*SUMIF('Daily Log'!$BD$18:$BD$1017,$B191,'Daily Log'!$BE$18:$BE$1017),0)","v":0},{"$f":"IFERROR($E191*SUMIF('Daily Log'!$BG$18:$BG$1017,$B191,'Daily Log'!$BH$18:$BH$1017),0)","v":0},{"$f":"IFERROR($E191*SUMIF('Daily Log'!$BJ$18:$BJ$1017,$B191,'Daily Log'!$BK$18:$BK$1017),0)","v":0},{"$f":"IFERROR($E191*SUMIF('Daily Log'!$BM$18:$BM$1017,$B191,'Daily Log'!$BN$18:$BN$1017),0)","v":0},{"$f":"IFERROR($E191*SUMIF('Daily Log'!$BP$18:$BP$1017,$B191,'Daily Log'!$BQ$18:$BQ$1017),0)","v":0},{"$f":"IFERROR($E191*SUMIF('Daily Log'!$BS$18:$BS$1017,$B191,'Daily Log'!$BT$18:$BT$1017),0)","v":0},{"$f":"IFERROR($E191*SUMIF('Daily Log'!$BV$18:$BV$1017,$B191,'Daily Log'!$BW$18:$BW$1017),0)","v":0},{"$f":"IFERROR($E191*SUMIF('Daily Log'!$BY$18:$BY$1017,$B191,'Daily Log'!$BZ$18:$BZ$1017),0)","v":0},{"$f":"IFERROR($E191*SUMIF('Daily Log'!$CB$18:$CB$1017,$B191,'Daily Log'!$CC$18:$CC$1017),0)","v":0},{"$f":"IFERROR($E191*SUMIF('Daily Log'!$CE$18:$CE$1017,$B191,'Daily Log'!$CF$18:$CF$1017),0)","v":0},{"$f":"IFERROR($E191*SUMIF('Daily Log'!$CH$18:$CH$1017,$B191,'Daily Log'!$CI$18:$CI$1017),0)","v":0},{"$f":"IFERROR($E191*SUMIF('Daily Log'!$CK$18:$CK$1017,$B191,'Daily Log'!$CL$18:$CL$1017),0)","v":4},{"$f":"IFERROR($E191*SUMIF('Daily Log'!$CN$18:$CN$1017,$B191,'Daily Log'!$CO$18:$CO$1017),0)","v":0}]
[null,"AA06 1206:SPRING RL",null,null,1,0,{"$f":"IFERROR($E192*SUMIF('Daily Log'!$B$18:$B$1017,$B192,'Daily Log'!$C$18:$C$1017),0)","v":0},{"$f":"IFERROR($E192*SUMIF('Daily Log'!$E$18:$E$1017,$B192,'Daily Log'!$F$18:$F$1017),0)","v":0},{"$f":"IFERROR($E192*SUMIF('Daily Log'!$H$18:$H$1017,$B192,'Daily Log'!$I$18:$I$1017),0)","v":0},{"$f":"IFERROR($E192*SUMIF('Daily Log'!$K$18:$K$1017,$B192,'Daily Log'!$L$18:$L$1017),0)","v":0},{"$f":"IFERROR($E192*SUMIF('Daily Log'!$N$18:$N$1017,$B192,'Daily Log'!$O$18:$O$1017),0)","v":0},{"$f":"IFERROR($E192*SUMIF('Daily Log'!$Q$18:$Q$1017,$B192,'Daily Log'!$R$18:$R$1017),0)","v":0},{"$f":"IFERROR($E192*SUMIF('Daily Log'!$T$18:$T$1017,$B192,'Daily Log'!$U$18:$U$1017),0)","v":0},{"$f":"IFERROR($E192*SUMIF('Daily Log'!$W$18:$W$1017,$B192,'Daily Log'!$X$18:$X$1017),0)","v":0},{"$f":"IFERROR($E192*SUMIF('Daily Log'!$Z$18:$Z$1017,$B192,'Daily Log'!$AA$18:$AA$1017),0)","v":0},{"$f":"IFERROR($E192*SUMIF('Daily Log'!$AC$18:$AC$1017,$B192,'Daily Log'!$AD$18:$AD$1017),0)","v":0},{"$f":"IFERROR($E192*SUMIF('Daily Log'!$AF$18:$AF$1017,$B192,'Daily Log'!$AG$18:$AG$1017),0)","v":0},{"$f":"IFERROR($E192*SUMIF('Daily Log'!$AI$18:$AI$1017,$B192,'Daily Log'!$AJ$18:$AJ$1017),0)","v":0},{"$f":"IFERROR($E192*SUMIF('Daily Log'!$AL$18:$AL$1017,$B192,'Daily Log'!$AM$18:$AM$1017),0)","v":0},{"$f":"IFERROR($E192*SUMIF('Daily Log'!$AO$18:$AO$1017,$B192,'Daily Log'!$AP$18:$AP$1017),0)","v":0},{"$f":"IFERROR($E192*SUMIF('Daily Log'!$AR$18:$AR$1017,$B192,'Daily Log'!$AS$18:$AS$1017),0)","v":0},{"$f":"IFERROR($E192*SUMIF('Daily Log'!$AU$18:$AU$1017,$B192,'Daily Log'!$AV$18:$AV$1017),0)","v":0},{"$f":"IFERROR($E192*SUMIF('Daily Log'!$AX$18:$AX$1017,$B192,'Daily Log'!$AY$18:$AY$1017),0)","v":0},{"$f":"IFERROR($E192*SUMIF('Daily Log'!$BA$18:$BA$1017,$B192,'Daily Log'!$BB$18:$BB$1017),0)","v":0},{"$f":"IFERROR($E192*SUMIF('Daily Log'!$BD$18:$BD$1017,$B192,'Daily Log'!$BE$18:$BE$1017),0)","v":0},{"$f":"IFERROR($E192*SUMIF('Daily Log'!$BG$18:$BG$1017,$B192,'Daily Log'!$BH$18:$BH$1017),0)","v":0},{"$f":"IFERROR($E192*SUMIF('Daily Log'!$BJ$18:$BJ$1017,$B192,'Daily Log'!$BK$18:$BK$1017),0)","v":0},{"$f":"IFERROR($E192*SUMIF('Daily Log'!$BM$18:$BM$1017,$B192,'Daily Log'!$BN$18:$BN$1017),0)","v":0},{"$f":"IFERROR($E192*SUMIF('Daily Log'!$BP$18:$BP$1017,$B192,'Daily Log'!$BQ$18:$BQ$1017),0)","v":0},{"$f":"IFERROR($E192*SUMIF('Daily Log'!$BS$18:$BS$1017,$B192,'Daily Log'!$BT$18:$BT$1017),0)","v":0},{"$f":"IFERROR($E192*SUMIF('Daily Log'!$BV$18:$BV$1017,$B192,'Daily Log'!$BW$18:$BW$1017),0)","v":0},{"$f":"IFERROR($E192*SUMIF('Daily Log'!$BY$18:$BY$1017,$B192,'Daily Log'!$BZ$18:$BZ$1017),0)","v":0},{"$f":"IFERROR($E192*SUMIF('Daily Log'!$CB$18:$CB$1017,$B192,'Daily Log'!$CC$18:$CC$1017),0)","v":0},{"$f":"IFERROR($E192*SUMIF('Daily Log'!$CE$18:$CE$1017,$B192,'Daily Log'!$CF$18:$CF$1017),0)","v":0},{"$f":"IFERROR($E192*SUMIF('Daily Log'!$CH$18:$CH$1017,$B192,'Daily Log'!$CI$18:$CI$1017),0)","v":0},{"$f":"IFERROR($E192*SUMIF('Daily Log'!$CK$18:$CK$1017,$B192,'Daily Log'!$CL$18:$CL$1017),0)","v":0},{"$f":"IFERROR($E192*SUMIF('Daily Log'!$CN$18:$CN$1017,$B192,'Daily Log'!$CO$18:$CO$1017),0)","v":0}]
[null,"AA07 1207:SAUSG",null,null,1,5,{"$f":"IFERROR($E193*SUMIF('Daily Log'!$B$18:$B$1017,$B193,'Daily Log'!$C$18:$C$1017),0)","v":0},{"$f":"IFERROR($E193*SUMIF('Daily Log'!$E$18:$E$1017,$B193,'Daily Log'!$F$18:$F$1017),0)","v":0},{"$f":"IFERROR($E193*SUMIF('Daily Log'!$H$18:$H$1017,$B193,'Daily Log'!$I$18:$I$1017),0)","v":0},{"$f":"IFERROR($E193*SUMIF('Daily Log'!$K$18:$K$1017,$B193,'Daily Log'!$L$18:$L$1017),0)","v":0},{"$f":"IFERROR($E193*SUMIF('Daily Log'!$N$18:$N$1017,$B193,'Daily Log'!$O$18:$O$1017),0)","v":0},{"$f":"IFERROR($E193*SUMIF('Daily Log'!$Q$18:$Q$1017,$B193,'Daily Log'!$R$18:$R$1017),0)","v":0},{"$f":"IFERROR($E193*SUMIF('Daily Log'!$T$18:$T$1017,$B193,'Daily Log'!$U$18:$U$1017),0)","v":0},{"$f":"IFERROR($E193*SUMIF('Daily Log'!$W$18:$W$1017,$B193,'Daily Log'!$X$18:$X$1017),0)","v":0},{"$f":"IFERROR($E193*SUMIF('Daily Log'!$Z$18:$Z$1017,$B193,'Daily Log'!$AA$18:$AA$1017),0)","v":0},{"$f":"IFERROR($E193*SUMIF('Daily Log'!$AC$18:$AC$1017,$B193,'Daily Log'!$AD$18:$AD$1017),0)","v":0},{"$f":"IFERROR($E193*SUMIF('Daily Log'!$AF$18:$AF$1017,$B193,'Daily Log'!$AG$18:$AG$1017),0)","v":0},{"$f":"IFERROR($E193*SUMIF('Daily Log'!$AI$18:$AI$1017,$B193,'Daily Log'!$AJ$18:$AJ$1017),0)","v":0},{"$f":"IFERROR($E193*SUMIF('Daily Log'!$AL$18:$AL$1017,$B193,'Daily Log'!$AM$18:$AM$1017),0)","v":0},{"$f":"IFERROR($E193*SUMIF('Daily Log'!$AO$18:$AO$1017,$B193,'Daily Log'!$AP$18:$AP$1017),0)","v":0},{"$f":"IFERROR($E193*SUMIF('Daily Log'!$AR$18:$AR$1017,$B193,'Daily Log'!$AS$18:$AS$1017),0)","v":0},{"$f":"IFERROR($E193*SUMIF('Daily Log'!$AU$18:$AU$1017,$B193,'Daily Log'!$AV$18:$AV$1017),0)","v":0},{"$f":"IFERROR($E193*SUMIF('Daily Log'!$AX$18:$AX$1017,$B193,'Daily Log'!$AY$18:$AY$1017),0)","v":0},{"$f":"IFERROR($E193*SUMIF('Daily Log'!$BA$18:$BA$1017,$B193,'Daily Log'!$BB$18:$BB$1017),0)","v":0},{"$f":"IFERROR($E193*SUMIF('Daily Log'!$BD$18:$BD$1017,$B193,'Daily Log'!$BE$18:$BE$1017),0)","v":0},{"$f":"IFERROR($E193*SUMIF('Daily Log'!$BG$18:$BG$1017,$B193,'Daily Log'!$BH$18:$BH$1017),0)","v":0},{"$f":"IFERROR($E193*SUMIF('Daily Log'!$BJ$18:$BJ$1017,$B193,'Daily Log'!$BK$18:$BK$1017),0)","v":0},{"$f":"IFERROR($E193*SUMIF('Daily Log'!$BM$18:$BM$1017,$B193,'Daily Log'!$BN$18:$BN$1017),0)","v":0},{"$f":"IFERROR($E193*SUMIF('Daily Log'!$BP$18:$BP$1017,$B193,'Daily Log'!$BQ$18:$BQ$1017),0)","v":0},{"$f":"IFERROR($E193*SUMIF('Daily Log'!$BS$18:$BS$1017,$B193,'Daily Log'!$BT$18:$BT$1017),0)","v":0},{"$f":"IFERROR($E193*SUMIF('Daily Log'!$BV$18:$BV$1017,$B193,'Daily Log'!$BW$18:$BW$1017),0)","v":0},{"$f":"IFERROR($E193*SUMIF('Daily Log'!$BY$18:$BY$1017,$B193,'Daily Log'!$BZ$18:$BZ$1017),0)","v":0},{"$f":"IFERROR($E193*SUMIF('Daily Log'!$CB$18:$CB$1017,$B193,'Daily Log'!$CC$18:$CC$1017),0)","v":0},{"$f":"IFERROR($E193*SUMIF('Daily Log'!$CE$18:$CE$1017,$B193,'Daily Log'!$CF$18:$CF$1017),0)","v":0},{"$f":"IFERROR($E193*SUMIF('Daily Log'!$CH$18:$CH$1017,$B193,'Daily Log'!$CI$18:$CI$1017),0)","v":0},{"$f":"IFERROR($E193*SUMIF('Daily Log'!$CK$18:$CK$1017,$B193,'Daily Log'!$CL$18:$CL$1017),0)","v":5},{"$f":"IFERROR($E193*SUMIF('Daily Log'!$CN$18:$CN$1017,$B193,'Daily Log'!$CO$18:$CO$1017),0)","v":0}]
[null,"AA08 1208:HOTDOG BUN",null,null,1,0,{"$f":"IFERROR($E194*SUMIF('Daily Log'!$B$18:$B$1017,$B194,'Daily Log'!$C$18:$C$1017),0)","v":0},{"$f":"IFERROR($E194*SUMIF('Daily Log'!$E$18:$E$1017,$B194,'Daily Log'!$F$18:$F$1017),0)","v":0},{"$f":"IFERROR($E194*SUMIF('Daily Log'!$H$18:$H$1017,$B194,'Daily Log'!$I$18:$I$1017),0)","v":0},{"$f":"IFERROR($E194*SUMIF('Daily Log'!$K$18:$K$1017,$B194,'Daily Log'!$L$18:$L$1017),0)","v":0},{"$f":"IFERROR($E194*SUMIF('Daily Log'!$N$18:$N$1017,$B194,'Daily Log'!$O$18:$O$1017),0)","v":0},{"$f":"IFERROR($E194*SUMIF('Daily Log'!$Q$18:$Q$1017,$B194,'Daily Log'!$R$18:$R$1017),0)","v":0},{"$f":"IFERROR($E194*SUMIF('Daily Log'!$T$18:$T$1017,$B194,'Daily Log'!$U$18:$U$1017),0)","v":0},{"$f":"IFERROR($E194*SUMIF('Daily Log'!$W$18:$W$1017,$B194,'Daily Log'!$X$18:$X$1017),0)","v":0},{"$f":"IFERROR($E194*SUMIF('Daily Log'!$Z$18:$Z$1017,$B194,'Daily Log'!$AA$18:$AA$1017),0)","v":0},{"$f":"IFERROR($E194*SUMIF('Daily Log'!$AC$18:$AC$1017,$B194,'Daily Log'!$AD$18:$AD$1017),0)","v":0},{"$f":"IFERROR($E194*SUMIF('Daily Log'!$AF$18:$AF$1017,$B194,'Daily Log'!$AG$18:$AG$1017),0)","v":0},{"$f":"IFERROR($E194*SUMIF('Daily Log'!$AI$18:$AI$1017,$B194,'Daily Log'!$AJ$18:$AJ$1017),0)","v":0},{"$f":"IFERROR($E194*SUMIF('Daily Log'!$AL$18:$AL$1017,$B194,'Daily Log'!$AM$18:$AM$1017),0)","v":0},{"$f":"IFERROR($E194*SUMIF('Daily Log'!$AO$18:$AO$1017,$B194,'Daily Log'!$AP$18:$AP$1017),0)","v":0},{"$f":"IFERROR($E194*SUMIF('Daily Log'!$AR$18:$AR$1017,$B194,'Daily Log'!$AS$18:$AS$1017),0)","v":0},{"$f":"IFERROR($E194*SUMIF('Daily Log'!$AU$18:$AU$1017,$B194,'Daily Log'!$AV$18:$AV$1017),0)","v":0},{"$f":"IFERROR($E194*SUMIF('Daily Log'!$AX$18:$AX$1017,$B194,'Daily Log'!$AY$18:$AY$1017),0)","v":0},{"$f":"IFERROR($E194*SUMIF('Daily Log'!$BA$18:$BA$1017,$B194,'Daily Log'!$BB$18:$BB$1017),0)","v":0},{"$f":"IFERROR($E194*SUMIF('Daily Log'!$BD$18:$BD$1017,$B194,'Daily Log'!$BE$18:$BE$1017),0)","v":0},{"$f":"IFERROR($E194*SUMIF('Daily Log'!$BG$18:$BG$1017,$B194,'Daily Log'!$BH$18:$BH$1017),0)","v":0},{"$f":"IFERROR($E194*SUMIF('Daily Log'!$BJ$18:$BJ$1017,$B194,'Daily Log'!$BK$18:$BK$1017),0)","v":0},{"$f":"IFERROR($E194*SUMIF('Daily Log'!$BM$18:$BM$1017,$B194,'Daily Log'!$BN$18:$BN$1017),0)","v":0},{"$f":"IFERROR($E194*SUMIF('Daily Log'!$BP$18:$BP$1017,$B194,'Daily Log'!$BQ$18:$BQ$1017),0)","v":0},{"$f":"IFERROR($E194*SUMIF('Daily Log'!$BS$18:$BS$1017,$B194,'Daily Log'!$BT$18:$BT$1017),0)","v":0},{"$f":"IFERROR($E194*SUMIF('Daily Log'!$BV$18:$BV$1017,$B194,'Daily Log'!$BW$18:$BW$1017),0)","v":0},{"$f":"IFERROR($E194*SUMIF('Daily Log'!$BY$18:$BY$1017,$B194,'Daily Log'!$BZ$18:$BZ$1017),0)","v":0},{"$f":"IFERROR($E194*SUMIF('Daily Log'!$CB$18:$CB$1017,$B194,'Daily Log'!$CC$18:$CC$1017),0)","v":0},{"$f":"IFERROR($E194*SUMIF('Daily Log'!$CE$18:$CE$1017,$B194,'Daily Log'!$CF$18:$CF$1017),0)","v":0},{"$f":"IFERROR($E194*SUMIF('Daily Log'!$CH$18:$CH$1017,$B194,'Daily Log'!$CI$18:$CI$1017),0)","v":0},{"$f":"IFERROR($E194*SUMIF('Daily Log'!$CK$18:$CK$1017,$B194,'Daily Log'!$CL$18:$CL$1017),0)","v":0},{"$f":"IFERROR($E194*SUMIF('Daily Log'!$CN$18:$CN$1017,$B194,'Daily Log'!$CO$18:$CO$1017),0)","v":0}]
[null,"AA09 1209:SF TF",null,null,1,11,{"$f":"IFERROR($E195*SUMIF('Daily Log'!$B$18:$B$1017,$B195,'Daily Log'!$C$18:$C$1017),0)","v":0},{"$f":"IFERROR($E195*SUMIF('Daily Log'!$E$18:$E$1017,$B195,'Daily Log'!$F$18:$F$1017),0)","v":0},{"$f":"IFERROR($E195*SUMIF('Daily Log'!$H$18:$H$1017,$B195,'Daily Log'!$I$18:$I$1017),0)","v":0},{"$f":"IFERROR($E195*SUMIF('Daily Log'!$K$18:$K$1017,$B195,'Daily Log'!$L$18:$L$1017),0)","v":0},{"$f":"IFERROR($E195*SUMIF('Daily Log'!$N$18:$N$1017,$B195,'Daily Log'!$O$18:$O$1017),0)","v":0},{"$f":"IFERROR($E195*SUMIF('Daily Log'!$Q$18:$Q$1017,$B195,'Daily Log'!$R$18:$R$1017),0)","v":0},{"$f":"IFERROR($E195*SUMIF('Daily Log'!$T$18:$T$1017,$B195,'Daily Log'!$U$18:$U$1017),0)","v":0},{"$f":"IFERROR($E195*SUMIF('Daily Log'!$W$18:$W$1017,$B195,'Daily Log'!$X$18:$X$1017),0)","v":0},{"$f":"IFERROR($E195*SUMIF('Daily Log'!$Z$18:$Z$1017,$B195,'Daily Log'!$AA$18:$AA$1017),0)","v":0},{"$f":"IFERROR($E195*SUMIF('Daily Log'!$AC$18:$AC$1017,$B195,'Daily Log'!$AD$18:$AD$1017),0)","v":0},{"$f":"IFERROR($E195*SUMIF('Daily Log'!$AF$18:$AF$1017,$B195,'Daily Log'!$AG$18:$AG$1017),0)","v":0},{"$f":"IFERROR($E195*SUMIF('Daily Log'!$AI$18:$AI$1017,$B195,'Daily Log'!$AJ$18:$AJ$1017),0)","v":0},{"$f":"IFERROR($E195*SUMIF('Daily Log'!$AL$18:$AL$1017,$B195,'Daily Log'!$AM$18:$AM$1017),0)","v":0},{"$f":"IFERROR($E195*SUMIF('Daily Log'!$AO$18:$AO$1017,$B195,'Daily Log'!$AP$18:$AP$1017),0)","v":0},{"$f":"IFERROR($E195*SUMIF('Daily Log'!$AR$18:$AR$1017,$B195,'Daily Log'!$AS$18:$AS$1017),0)","v":0},{"$f":"IFERROR($E195*SUMIF('Daily Log'!$AU$18:$AU$1017,$B195,'Daily Log'!$AV$18:$AV$1017),0)","v":0},{"$f":"IFERROR($E195*SUMIF('Daily Log'!$AX$18:$AX$1017,$B195,'Daily Log'!$AY$18:$AY$1017),0)","v":0},{"$f":"IFERROR($E195*SUMIF('Daily Log'!$BA$18:$BA$1017,$B195,'Daily Log'!$BB$18:$BB$1017),0)","v":0},{"$f":"IFERROR($E195*SUMIF('Daily Log'!$BD$18:$BD$1017,$B195,'Daily Log'!$BE$18:$BE$1017),0)","v":0},{"$f":"IFERROR($E195*SUMIF('Daily Log'!$BG$18:$BG$1017,$B195,'Daily Log'!$BH$18:$BH$1017),0)","v":0},{"$f":"IFERROR($E195*SUMIF('Daily Log'!$BJ$18:$BJ$1017,$B195,'Daily Log'!$BK$18:$BK$1017),0)","v":0},{"$f":"IFERROR($E195*SUMIF('Daily Log'!$BM$18:$BM$1017,$B195,'Daily Log'!$BN$18:$BN$1017),0)","v":0},{"$f":"IFERROR($E195*SUMIF('Daily Log'!$BP$18:$BP$1017,$B195,'Daily Log'!$BQ$18:$BQ$1017),0)","v":0},{"$f":"IFERROR($E195*SUMIF('Daily Log'!$BS$18:$BS$1017,$B195,'Daily Log'!$BT$18:$BT$1017),0)","v":0},{"$f":"IFERROR($E195*SUMIF('Daily Log'!$BV$18:$BV$1017,$B195,'Daily Log'!$BW$18:$BW$1017),0)","v":0},{"$f":"IFERROR($E195*SUMIF('Daily Log'!$BY$18:$BY$1017,$B195,'Daily Log'!$BZ$18:$BZ$1017),0)","v":0},{"$f":"IFERROR($E195*SUMIF('Daily Log'!$CB$18:$CB$1017,$B195,'Daily Log'!$CC$18:$CC$1017),0)","v":0},{"$f":"IFERROR($E195*SUMIF('Daily Log'!$CE$18:$CE$1017,$B195,'Daily Log'!$CF$18:$CF$1017),0)","v":0},{"$f":"IFERROR($E195*SUMIF('Daily Log'!$CH$18:$CH$1017,$B195,'Daily Log'!$CI$18:$CI$1017),0)","v":0},{"$f":"IFERROR($E195*SUMIF('Daily Log'!$CK$18:$CK$1017,$B195,'Daily Log'!$CL$18:$CL$1017),0)","v":11},{"$f":"IFERROR($E195*SUMIF('Daily Log'!$CN$18:$CN$1017,$B195,'Daily Log'!$CO$18:$CO$1017),0)","v":0}]
[null,"AA10 1210:SALAD RL",null,null,1,4,{"$f":"IFERROR($E196*SUMIF('Daily Log'!$B$18:$B$1017,$B196,'Daily Log'!$C$18:$C$1017),0)","v":0},{"$f":"IFERROR($E196*SUMIF('Daily Log'!$E$18:$E$1017,$B196,'Daily Log'!$F$18:$F$1017),0)","v":0},{"$f":"IFERROR($E196*SUMIF('Daily Log'!$H$18:$H$1017,$B196,'Daily Log'!$I$18:$I$1017),0)","v":0},{"$f":"IFERROR($E196*SUMIF('Daily Log'!$K$18:$K$1017,$B196,'Daily Log'!$L$18:$L$1017),0)","v":0},{"$f":"IFERROR($E196*SUMIF('Daily Log'!$N$18:$N$1017,$B196,'Daily Log'!$O$18:$O$1017),0)","v":0},{"$f":"IFERROR($E196*SUMIF('Daily Log'!$Q$18:$Q$1017,$B196,'Daily Log'!$R$18:$R$1017),0)","v":0},{"$f":"IFERROR($E196*SUMIF('Daily Log'!$T$18:$T$1017,$B196,'Daily Log'!$U$18:$U$1017),0)","v":0},{"$f":"IFERROR($E196*SUMIF('Daily Log'!$W$18:$W$1017,$B196,'Daily Log'!$X$18:$X$1017),0)","v":0},{"$f":"IFERROR($E196*SUMIF('Daily Log'!$Z$18:$Z$1017,$B196,'Daily Log'!$AA$18:$AA$1017),0)","v":0},{"$f":"IFERROR($E196*SUMIF('Daily Log'!$AC$18:$AC$1017,$B196,'Daily Log'!$AD$18:$AD$1017),0)","v":0},{"$f":"IFERROR($E196*SUMIF('Daily Log'!$AF$18:$AF$1017,$B196,'Daily Log'!$AG$18:$AG$1017),0)","v":0},{"$f":"IFERROR($E196*SUMIF('Daily Log'!$AI$18:$AI$1017,$B196,'Daily Log'!$AJ$18:$AJ$1017),0)","v":0},{"$f":"IFERROR($E196*SUMIF('Daily Log'!$AL$18:$AL$1017,$B196,'Daily Log'!$AM$18:$AM$1017),0)","v":0},{"$f":"IFERROR($E196*SUMIF('Daily Log'!$AO$18:$AO$1017,$B196,'Daily Log'!$AP$18:$AP$1017),0)","v":0},{"$f":"IFERROR($E196*SUMIF('Daily Log'!$AR$18:$AR$1017,$B196,'Daily Log'!$AS$18:$AS$1017),0)","v":0},{"$f":"IFERROR($E196*SUMIF('Daily Log'!$AU$18:$AU$1017,$B196,'Daily Log'!$AV$18:$AV$1017),0)","v":0},{"$f":"IFERROR($E196*SUMIF('Daily Log'!$AX$18:$AX$1017,$B196,'Daily Log'!$AY$18:$AY$1017),0)","v":0},{"$f":"IFERROR($E196*SUMIF('Daily Log'!$BA$18:$BA$1017,$B196,'Daily Log'!$BB$18:$BB$1017),0)","v":0},{"$f":"IFERROR($E196*SUMIF('Daily Log'!$BD$18:$BD$1017,$B196,'Daily Log'!$BE$18:$BE$1017),0)","v":0},{"$f":"IFERROR($E196*SUMIF('Daily Log'!$BG$18:$BG$1017,$B196,'Daily Log'!$BH$18:$BH$1017),0)","v":0},{"$f":"IFERROR($E196*SUMIF('Daily Log'!$BJ$18:$BJ$1017,$B196,'Daily Log'!$BK$18:$BK$1017),0)","v":0},{"$f":"IFERROR($E196*SUMIF('Daily Log'!$BM$18:$BM$1017,$B196,'Daily Log'!$BN$18:$BN$1017),0)","v":0},{"$f":"IFERROR($E196*SUMIF('Daily Log'!$BP$18:$BP$1017,$B196,'Daily Log'!$BQ$18:$BQ$1017),0)","v":0},{"$f":"IFERROR($E196*SUMIF('Daily Log'!$BS$18:$BS$1017,$B196,'Daily Log'!$BT$18:$BT$1017),0)","v":0},{"$f":"IFERROR($E196*SUMIF('Daily Log'!$BV$18:$BV$1017,$B196,'Daily Log'!$BW$18:$BW$1017),0)","v":0},{"$f":"IFERROR($E196*SUMIF('Daily Log'!$BY$18:$BY$1017,$B196,'Daily Log'!$BZ$18:$BZ$1017),0)","v":0},{"$f":"IFERROR($E196*SUMIF('Daily Log'!$CB$18:$CB$1017,$B196,'Daily Log'!$CC$18:$CC$1017),0)","v":0},{"$f":"IFERROR($E196*SUMIF('Daily Log'!$CE$18:$CE$1017,$B196,'Daily Log'!$CF$18:$CF$1017),0)","v":0},{"$f":"IFERROR($E196*SUMIF('Daily Log'!$CH$18:$CH$1017,$B196,'Daily Log'!$CI$18:$CI$1017),0)","v":0},{"$f":"IFERROR($E196*SUMIF('Daily Log'!$CK$18:$CK$1017,$B196,'Daily Log'!$CL$18:$CL$1017),0)","v":4},{"$f":"IFERROR($E196*SUMIF('Daily Log'!$CN$18:$CN$1017,$B196,'Daily Log'!$CO$18:$CO$1017),0)","v":0}]
[null,"AA11 1211:BBQ CHK",null,null,1,4,{"$f":"IFERROR($E197*SUMIF('Daily Log'!$B$18:$B$1017,$B197,'Daily Log'!$C$18:$C$1017),0)","v":0},{"$f":"IFERROR($E197*SUMIF('Daily Log'!$E$18:$E$1017,$B197,'Daily Log'!$F$18:$F$1017),0)","v":0},{"$f":"IFERROR($E197*SUMIF('Daily Log'!$H$18:$H$1017,$B197,'Daily Log'!$I$18:$I$1017),0)","v":0},{"$f":"IFERROR($E197*SUMIF('Daily Log'!$K$18:$K$1017,$B197,'Daily Log'!$L$18:$L$1017),0)","v":0},{"$f":"IFERROR($E197*SUMIF('Daily Log'!$N$18:$N$1017,$B197,'Daily Log'!$O$18:$O$1017),0)","v":0},{"$f":"IFERROR($E197*SUMIF('Daily Log'!$Q$18:$Q$1017,$B197,'Daily Log'!$R$18:$R$1017),0)","v":0},{"$f":"IFERROR($E197*SUMIF('Daily Log'!$T$18:$T$1017,$B197,'Daily Log'!$U$18:$U$1017),0)","v":0},{"$f":"IFERROR($E197*SUMIF('Daily Log'!$W$18:$W$1017,$B197,'Daily Log'!$X$18:$X$1017),0)","v":0},{"$f":"IFERROR($E197*SUMIF('Daily Log'!$Z$18:$Z$1017,$B197,'Daily Log'!$AA$18:$AA$1017),0)","v":0},{"$f":"IFERROR($E197*SUMIF('Daily Log'!$AC$18:$AC$1017,$B197,'Daily Log'!$AD$18:$AD$1017),0)","v":0},{"$f":"IFERROR($E197*SUMIF('Daily Log'!$AF$18:$AF$1017,$B197,'Daily Log'!$AG$18:$AG$1017),0)","v":0},{"$f":"IFERROR($E197*SUMIF('Daily Log'!$AI$18:$AI$1017,$B197,'Daily Log'!$AJ$18:$AJ$1017),0)","v":0},{"$f":"IFERROR($E197*SUMIF('Daily Log'!$AL$18:$AL$1017,$B197,'Daily Log'!$AM$18:$AM$1017),0)","v":0},{"$f":"IFERROR($E197*SUMIF('Daily Log'!$AO$18:$AO$1017,$B197,'Daily Log'!$AP$18:$AP$1017),0)","v":0},{"$f":"IFERROR($E197*SUMIF('Daily Log'!$AR$18:$AR$1017,$B197,'Daily Log'!$AS$18:$AS$1017),0)","v":0},{"$f":"IFERROR($E197*SUMIF('Daily Log'!$AU$18:$AU$1017,$B197,'Daily Log'!$AV$18:$AV$1017),0)","v":0},{"$f":"IFERROR($E197*SUMIF('Daily Log'!$AX$18:$AX$1017,$B197,'Daily Log'!$AY$18:$AY$1017),0)","v":0},{"$f":"IFERROR($E197*SUMIF('Daily Log'!$BA$18:$BA$1017,$B197,'Daily Log'!$BB$18:$BB$1017),0)","v":0},{"$f":"IFERROR($E197*SUMIF('Daily Log'!$BD$18:$BD$1017,$B197,'Daily Log'!$BE$18:$BE$1017),0)","v":0},{"$f":"IFERROR($E197*SUMIF('Daily Log'!$BG$18:$BG$1017,$B197,'Daily Log'!$BH$18:$BH$1017),0)","v":0},{"$f":"IFERROR($E197*SUMIF('Daily Log'!$BJ$18:$BJ$1017,$B197,'Daily Log'!$BK$18:$BK$1017),0)","v":0},{"$f":"IFERROR($E197*SUMIF('Daily Log'!$BM$18:$BM$1017,$B197,'Daily Log'!$BN$18:$BN$1017),0)","v":0},{"$f":"IFERROR($E197*SUMIF('Daily Log'!$BP$18:$BP$1017,$B197,'Daily Log'!$BQ$18:$BQ$1017),0)","v":0},{"$f":"IFERROR($E197*SUMIF('Daily Log'!$BS$18:$BS$1017,$B197,'Daily Log'!$BT$18:$BT$1017),0)","v":0},{"$f":"IFERROR($E197*SUMIF('Daily Log'!$BV$18:$BV$1017,$B197,'Daily Log'!$BW$18:$BW$1017),0)","v":0},{"$f":"IFERROR($E197*SUMIF('Daily Log'!$BY$18:$BY$1017,$B197,'Daily Log'!$BZ$18:$BZ$1017),0)","v":0},{"$f":"IFERROR($E197*SUMIF('Daily Log'!$CB$18:$CB$1017,$B197,'Daily Log'!$CC$18:$CC$1017),0)","v":0},{"$f":"IFERROR($E197*SUMIF('Daily Log'!$CE$18:$CE$1017,$B197,'Daily Log'!$CF$18:$CF$1017),0)","v":0},{"$f":"IFERROR($E197*SUMIF('Daily Log'!$CH$18:$CH$1017,$B197,'Daily Log'!$CI$18:$CI$1017),0)","v":0},{"$f":"IFERROR($E197*SUMIF('Daily Log'!$CK$18:$CK$1017,$B197,'Daily Log'!$CL$18:$CL$1017),0)","v":4},{"$f":"IFERROR($E197*SUMIF('Daily Log'!$CN$18:$CN$1017,$B197,'Daily Log'!$CO$18:$CO$1017),0)","v":0}]
[null,"AA32 1302:NUGGET",null,null,1,26,{"$f":"IFERROR($E198*SUMIF('Daily Log'!$B$18:$B$1017,$B198,'Daily Log'!$C$18:$C$1017),0)","v":0},{"$f":"IFERROR($E198*SUMIF('Daily Log'!$E$18:$E$1017,$B198,'Daily Log'!$F$18:$F$1017),0)","v":0},{"$f":"IFERROR($E198*SUMIF('Daily Log'!$H$18:$H$1017,$B198,'Daily Log'!$I$18:$I$1017),0)","v":0},{"$f":"IFERROR($E198*SUMIF('Daily Log'!$K$18:$K$1017,$B198,'Daily Log'!$L$18:$L$1017),0)","v":0},{"$f":"IFERROR($E198*SUMIF('Daily Log'!$N$18:$N$1017,$B198,'Daily Log'!$O$18:$O$1017),0)","v":0},{"$f":"IFERROR($E198*SUMIF('Daily Log'!$Q$18:$Q$1017,$B198,'Daily Log'!$R$18:$R$1017),0)","v":0},{"$f":"IFERROR($E198*SUMIF('Daily Log'!$T$18:$T$1017,$B198,'Daily Log'!$U$18:$U$1017),0)","v":0},{"$f":"IFERROR($E198*SUMIF('Daily Log'!$W$18:$W$1017,$B198,'Daily Log'!$X$18:$X$1017),0)","v":0},{"$f":"IFERROR($E198*SUMIF('Daily Log'!$Z$18:$Z$1017,$B198,'Daily Log'!$AA$18:$AA$1017),0)","v":0},{"$f":"IFERROR($E198*SUMIF('Daily Log'!$AC$18:$AC$1017,$B198,'Daily Log'!$AD$18:$AD$1017),0)","v":0},{"$f":"IFERROR($E198*SUMIF('Daily Log'!$AF$18:$AF$1017,$B198,'Daily Log'!$AG$18:$AG$1017),0)","v":0},{"$f":"IFERROR($E198*SUMIF('Daily Log'!$AI$18:$AI$1017,$B198,'Daily Log'!$AJ$18:$AJ$1017),0)","v":0},{"$f":"IFERROR($E198*SUMIF('Daily Log'!$AL$18:$AL$1017,$B198,'Daily Log'!$AM$18:$AM$1017),0)","v":0},{"$f":"IFERROR($E198*SUMIF('Daily Log'!$AO$18:$AO$1017,$B198,'Daily Log'!$AP$18:$AP$1017),0)","v":0},{"$f":"IFERROR($E198*SUMIF('Daily Log'!$AR$18:$AR$1017,$B198,'Daily Log'!$AS$18:$AS$1017),0)","v":0},{"$f":"IFERROR($E198*SUMIF('Daily Log'!$AU$18:$AU$1017,$B198,'Daily Log'!$AV$18:$AV$1017),0)","v":0},{"$f":"IFERROR($E198*SUMIF('Daily Log'!$AX$18:$AX$1017,$B198,'Daily Log'!$AY$18:$AY$1017),0)","v":0},{"$f":"IFERROR($E198*SUMIF('Daily Log'!$BA$18:$BA$1017,$B198,'Daily Log'!$BB$18:$BB$1017),0)","v":0},{"$f":"IFERROR($E198*SUMIF('Daily Log'!$BD$18:$BD$1017,$B198,'Daily Log'!$BE$18:$BE$1017),0)","v":0},{"$f":"IFERROR($E198*SUMIF('Daily Log'!$BG$18:$BG$1017,$B198,'Daily Log'!$BH$18:$BH$1017),0)","v":0},{"$f":"IFERROR($E198*SUMIF('Daily Log'!$BJ$18:$BJ$1017,$B198,'Daily Log'!$BK$18:$BK$1017),0)","v":0},{"$f":"IFERROR($E198*SUMIF('Daily Log'!$BM$18:$BM$1017,$B198,'Daily Log'!$BN$18:$BN$1017),0)","v":0},{"$f":"IFERROR($E198*SUMIF('Daily Log'!$BP$18:$BP$1017,$B198,'Daily Log'!$BQ$18:$BQ$1017),0)","v":0},{"$f":"IFERROR($E198*SUMIF('Daily Log'!$BS$18:$BS$1017,$B198,'Daily Log'!$BT$18:$BT$1017),0)","v":0},{"$f":"IFERROR($E198*SUMIF('Daily Log'!$BV$18:$BV$1017,$B198,'Daily Log'!$BW$18:$BW$1017),0)","v":0},{"$f":"IFERROR($E198*SUMIF('Daily Log'!$BY$18:$BY$1017,$B198,'Daily Log'!$BZ$18:$BZ$1017),0)","v":0},{"$f":"IFERROR($E198*SUMIF('Daily Log'!$CB$18:$CB$1017,$B198,'Daily Log'!$CC$18:$CC$1017),0)","v":0},{"$f":"IFERROR($E198*SUMIF('Daily Log'!$CE$18:$CE$1017,$B198,'Daily Log'!$CF$18:$CF$1017),0)","v":0},{"$f":"IFERROR($E198*SUMIF('Daily Log'!$CH$18:$CH$1017,$B198,'Daily Log'!$CI$18:$CI$1017),0)","v":0},{"$f":"IFERROR($E198*SUMIF('Daily Log'!$CK$18:$CK$1017,$B198,'Daily Log'!$CL$18:$CL$1017),0)","v":26},{"$f":"IFERROR($E198*SUMIF('Daily Log'!$CN$18:$CN$1017,$B198,'Daily Log'!$CO$18:$CO$1017),0)","v":0}]
[null,"AA33 1303:CHK WING",null,null,1,29,{"$f":"IFERROR($E199*SUMIF('Daily Log'!$B$18:$B$1017,$B199,'Daily Log'!$C$18:$C$1017),0)","v":0},{"$f":"IFERROR($E199*SUMIF('Daily Log'!$E$18:$E$1017,$B199,'Daily Log'!$F$18:$F$1017),0)","v":0},{"$f":"IFERROR($E199*SUMIF('Daily Log'!$H$18:$H$1017,$B199,'Daily Log'!$I$18:$I$1017),0)","v":0},{"$f":"IFERROR($E199*SUMIF('Daily Log'!$K$18:$K$1017,$B199,'Daily Log'!$L$18:$L$1017),0)","v":0},{"$f":"IFERROR($E199*SUMIF('Daily Log'!$N$18:$N$1017,$B199,'Daily Log'!$O$18:$O$1017),0)","v":0},{"$f":"IFERROR($E199*SUMIF('Daily Log'!$Q$18:$Q$1017,$B199,'Daily Log'!$R$18:$R$1017),0)","v":0},{"$f":"IFERROR($E199*SUMIF('Daily Log'!$T$18:$T$1017,$B199,'Daily Log'!$U$18:$U$1017),0)","v":0},{"$f":"IFERROR($E199*SUMIF('Daily Log'!$W$18:$W$1017,$B199,'Daily Log'!$X$18:$X$1017),0)","v":0},{"$f":"IFERROR($E199*SUMIF('Daily Log'!$Z$18:$Z$1017,$B199,'Daily Log'!$AA$18:$AA$1017),0)","v":0},{"$f":"IFERROR($E199*SUMIF('Daily Log'!$AC$18:$AC$1017,$B199,'Daily Log'!$AD$18:$AD$1017),0)","v":0},{"$f":"IFERROR($E199*SUMIF('Daily Log'!$AF$18:$AF$1017,$B199,'Daily Log'!$AG$18:$AG$1017),0)","v":0},{"$f":"IFERROR($E199*SUMIF('Daily Log'!$AI$18:$AI$1017,$B199,'Daily Log'!$AJ$18:$AJ$1017),0)","v":0},{"$f":"IFERROR($E199*SUMIF('Daily Log'!$AL$18:$AL$1017,$B199,'Daily Log'!$AM$18:$AM$1017),0)","v":0},{"$f":"IFERROR($E199*SUMIF('Daily Log'!$AO$18:$AO$1017,$B199,'Daily Log'!$AP$18:$AP$1017),0)","v":0},{"$f":"IFERROR($E199*SUMIF('Daily Log'!$AR$18:$AR$1017,$B199,'Daily Log'!$AS$18:$AS$1017),0)","v":0},{"$f":"IFERROR($E199*SUMIF('Daily Log'!$AU$18:$AU$1017,$B199,'Daily Log'!$AV$18:$AV$1017),0)","v":0},{"$f":"IFERROR($E199*SUMIF('Daily Log'!$AX$18:$AX$1017,$B199,'Daily Log'!$AY$18:$AY$1017),0)","v":0},{"$f":"IFERROR($E199*SUMIF('Daily Log'!$BA$18:$BA$1017,$B199,'Daily Log'!$BB$18:$BB$1017),0)","v":0},{"$f":"IFERROR($E199*SUMIF('Daily Log'!$BD$18:$BD$1017,$B199,'Daily Log'!$BE$18:$BE$1017),0)","v":0},{"$f":"IFERROR($E199*SUMIF('Daily Log'!$BG$18:$BG$1017,$B199,'Daily Log'!$BH$18:$BH$1017),0)","v":0},{"$f":"IFERROR($E199*SUMIF('Daily Log'!$BJ$18:$BJ$1017,$B199,'Daily Log'!$BK$18:$BK$1017),0)","v":0},{"$f":"IFERROR($E199*SUMIF('Daily Log'!$BM$18:$BM$1017,$B199,'Daily Log'!$BN$18:$BN$1017),0)","v":0},{"$f":"IFERROR($E199*SUMIF('Daily Log'!$BP$18:$BP$1017,$B199,'Daily Log'!$BQ$18:$BQ$1017),0)","v":0},{"$f":"IFERROR($E199*SUMIF('Daily Log'!$BS$18:$BS$1017,$B199,'Daily Log'!$BT$18:$BT$1017),0)","v":0},{"$f":"IFERROR($E199*SUMIF('Daily Log'!$BV$18:$BV$1017,$B199,'Daily Log'!$BW$18:$BW$1017),0)","v":0},{"$f":"IFERROR($E199*SUMIF('Daily Log'!$BY$18:$BY$1017,$B199,'Daily Log'!$BZ$18:$BZ$1017),0)","v":0},{"$f":"IFERROR($E199*SUMIF('Daily Log'!$CB$18:$CB$1017,$B199,'Daily Log'!$CC$18:$CC$1017),0)","v":0},{"$f":"IFERROR($E199*SUMIF('Daily Log'!$CE$18:$CE$1017,$B199,'Daily Log'!$CF$18:$CF$1017),0)","v":0},{"$f":"IFERROR($E199*SUMIF('Daily Log'!$CH$18:$CH$1017,$B199,'Daily Log'!$CI$18:$CI$1017),0)","v":0},{"$f":"IFERROR($E199*SUMIF('Daily Log'!$CK$18:$CK$1017,$B199,'Daily Log'!$CL$18:$CL$1017),0)","v":29},{"$f":"IFERROR($E199*SUMIF('Daily Log'!$CN$18:$CN$1017,$B199,'Daily Log'!$CO$18:$CO$1017),0)","v":0}]
[null,"AA38 1308:MC RING",null,null,1,6,{"$f":"IFERROR($E200*SUMIF('Daily Log'!$B$18:$B$1017,$B200,'Daily Log'!$C$18:$C$1017),0)","v":0},{"$f":"IFERROR($E200*SUMIF('Daily Log'!$E$18:$E$1017,$B200,'Daily Log'!$F$18:$F$1017),0)","v":0},{"$f":"IFERROR($E200*SUMIF('Daily Log'!$H$18:$H$1017,$B200,'Daily Log'!$I$18:$I$1017),0)","v":0},{"$f":"IFERROR($E200*SUMIF('Daily Log'!$K$18:$K$1017,$B200,'Daily Log'!$L$18:$L$1017),0)","v":0},{"$f":"IFERROR($E200*SUMIF('Daily Log'!$N$18:$N$1017,$B200,'Daily Log'!$O$18:$O$1017),0)","v":0},{"$f":"IFERROR($E200*SUMIF('Daily Log'!$Q$18:$Q$1017,$B200,'Daily Log'!$R$18:$R$1017),0)","v":0},{"$f":"IFERROR($E200*SUMIF('Daily Log'!$T$18:$T$1017,$B200,'Daily Log'!$U$18:$U$1017),0)","v":0},{"$f":"IFERROR($E200*SUMIF('Daily Log'!$W$18:$W$1017,$B200,'Daily Log'!$X$18:$X$1017),0)","v":0},{"$f":"IFERROR($E200*SUMIF('Daily Log'!$Z$18:$Z$1017,$B200,'Daily Log'!$AA$18:$AA$1017),0)","v":0},{"$f":"IFERROR($E200*SUMIF('Daily Log'!$AC$18:$AC$1017,$B200,'Daily Log'!$AD$18:$AD$1017),0)","v":0},{"$f":"IFERROR($E200*SUMIF('Daily Log'!$AF$18:$AF$1017,$B200,'Daily Log'!$AG$18:$AG$1017),0)","v":0},{"$f":"IFERROR($E200*SUMIF('Daily Log'!$AI$18:$AI$1017,$B200,'Daily Log'!$AJ$18:$AJ$1017),0)","v":0},{"$f":"IFERROR($E200*SUMIF('Daily Log'!$AL$18:$AL$1017,$B200,'Daily Log'!$AM$18:$AM$1017),0)","v":0},{"$f":"IFERROR($E200*SUMIF('Daily Log'!$AO$18:$AO$1017,$B200,'Daily Log'!$AP$18:$AP$1017),0)","v":0},{"$f":"IFERROR($E200*SUMIF('Daily Log'!$AR$18:$AR$1017,$B200,'Daily Log'!$AS$18:$AS$1017),0)","v":0},{"$f":"IFERROR($E200*SUMIF('Daily Log'!$AU$18:$AU$1017,$B200,'Daily Log'!$AV$18:$AV$1017),0)","v":0},{"$f":"IFERROR($E200*SUMIF('Daily Log'!$AX$18:$AX$1017,$B200,'Daily Log'!$AY$18:$AY$1017),0)","v":0},{"$f":"IFERROR($E200*SUMIF('Daily Log'!$BA$18:$BA$1017,$B200,'Daily Log'!$BB$18:$BB$1017),0)","v":0},{"$f":"IFERROR($E200*SUMIF('Daily Log'!$BD$18:$BD$1017,$B200,'Daily Log'!$BE$18:$BE$1017),0)","v":0},{"$f":"IFERROR($E200*SUMIF('Daily Log'!$BG$18:$BG$1017,$B200,'Daily Log'!$BH$18:$BH$1017),0)","v":0},{"$f":"IFERROR($E200*SUMIF('Daily Log'!$BJ$18:$BJ$1017,$B200,'Daily Log'!$BK$18:$BK$1017),0)","v":0},{"$f":"IFERROR($E200*SUMIF('Daily Log'!$BM$18:$BM$1017,$B200,'Daily Log'!$BN$18:$BN$1017),0)","v":0},{"$f":"IFERROR($E200*SUMIF('Daily Log'!$BP$18:$BP$1017,$B200,'Daily Log'!$BQ$18:$BQ$1017),0)","v":0},{"$f":"IFERROR($E200*SUMIF('Daily Log'!$BS$18:$BS$1017,$B200,'Daily Log'!$BT$18:$BT$1017),0)","v":0},{"$f":"IFERROR($E200*SUMIF('Daily Log'!$BV$18:$BV$1017,$B200,'Daily Log'!$BW$18:$BW$1017),0)","v":0},{"$f":"IFERROR($E200*SUMIF('Daily Log'!$BY$18:$BY$1017,$B200,'Daily Log'!$BZ$18:$BZ$1017),0)","v":0},{"$f":"IFERROR($E200*SUMIF('Daily Log'!$CB$18:$CB$1017,$B200,'Daily Log'!$CC$18:$CC$1017),0)","v":0},{"$f":"IFERROR($E200*SUMIF('Daily Log'!$CE$18:$CE$1017,$B200,'Daily Log'!$CF$18:$CF$1017),0)","v":0},{"$f":"IFERROR($E200*SUMIF('Daily Log'!$CH$18:$CH$1017,$B200,'Daily Log'!$CI$18:$CI$1017),0)","v":0},{"$f":"IFERROR($E200*SUMIF('Daily Log'!$CK$18:$CK$1017,$B200,'Daily Log'!$CL$18:$CL$1017),0)","v":6},{"$f":"IFERROR($E200*SUMIF('Daily Log'!$CN$18:$CN$1017,$B200,'Daily Log'!$CO$18:$CO$1017),0)","v":0}]
[null,"AA39 1309:MC S.FRIES",null,null,1,3,{"$f":"IFERROR($E201*SUMIF('Daily Log'!$B$18:$B$1017,$B201,'Daily Log'!$C$18:$C$1017),0)","v":0},{"$f":"IFERROR($E201*SUMIF('Daily Log'!$E$18:$E$1017,$B201,'Daily Log'!$F$18:$F$1017),0)","v":0},{"$f":"IFERROR($E201*SUMIF('Daily Log'!$H$18:$H$1017,$B201,'Daily Log'!$I$18:$I$1017),0)","v":0},{"$f":"IFERROR($E201*SUMIF('Daily Log'!$K$18:$K$1017,$B201,'Daily Log'!$L$18:$L$1017),0)","v":0},{"$f":"IFERROR($E201*SUMIF('Daily Log'!$N$18:$N$1017,$B201,'Daily Log'!$O$18:$O$1017),0)","v":0},{"$f":"IFERROR($E201*SUMIF('Daily Log'!$Q$18:$Q$1017,$B201,'Daily Log'!$R$18:$R$1017),0)","v":0},{"$f":"IFERROR($E201*SUMIF('Daily Log'!$T$18:$T$1017,$B201,'Daily Log'!$U$18:$U$1017),0)","v":0},{"$f":"IFERROR($E201*SUMIF('Daily Log'!$W$18:$W$1017,$B201,'Daily Log'!$X$18:$X$1017),0)","v":0},{"$f":"IFERROR($E201*SUMIF('Daily Log'!$Z$18:$Z$1017,$B201,'Daily Log'!$AA$18:$AA$1017),0)","v":0},{"$f":"IFERROR($E201*SUMIF('Daily Log'!$AC$18:$AC$1017,$B201,'Daily Log'!$AD$18:$AD$1017),0)","v":0},{"$f":"IFERROR($E201*SUMIF('Daily Log'!$AF$18:$AF$1017,$B201,'Daily Log'!$AG$18:$AG$1017),0)","v":0},{"$f":"IFERROR($E201*SUMIF('Daily Log'!$AI$18:$AI$1017,$B201,'Daily Log'!$AJ$18:$AJ$1017),0)","v":0},{"$f":"IFERROR($E201*SUMIF('Daily Log'!$AL$18:$AL$1017,$B201,'Daily Log'!$AM$18:$AM$1017),0)","v":0},{"$f":"IFERROR($E201*SUMIF('Daily Log'!$AO$18:$AO$1017,$B201,'Daily Log'!$AP$18:$AP$1017),0)","v":0},{"$f":"IFERROR($E201*SUMIF('Daily Log'!$AR$18:$AR$1017,$B201,'Daily Log'!$AS$18:$AS$1017),0)","v":0},{"$f":"IFERROR($E201*SUMIF('Daily Log'!$AU$18:$AU$1017,$B201,'Daily Log'!$AV$18:$AV$1017),0)","v":0},{"$f":"IFERROR($E201*SUMIF('Daily Log'!$AX$18:$AX$1017,$B201,'Daily Log'!$AY$18:$AY$1017),0)","v":0},{"$f":"IFERROR($E201*SUMIF('Daily Log'!$BA$18:$BA$1017,$B201,'Daily Log'!$BB$18:$BB$1017),0)","v":0},{"$f":"IFERROR($E201*SUMIF('Daily Log'!$BD$18:$BD$1017,$B201,'Daily Log'!$BE$18:$BE$1017),0)","v":0},{"$f":"IFERROR($E201*SUMIF('Daily Log'!$BG$18:$BG$1017,$B201,'Daily Log'!$BH$18:$BH$1017),0)","v":0},{"$f":"IFERROR($E201*SUMIF('Daily Log'!$BJ$18:$BJ$1017,$B201,'Daily Log'!$BK$18:$BK$1017),0)","v":0},{"$f":"IFERROR($E201*SUMIF('Daily Log'!$BM$18:$BM$1017,$B201,'Daily Log'!$BN$18:$BN$1017),0)","v":0},{"$f":"IFERROR($E201*SUMIF('Daily Log'!$BP$18:$BP$1017,$B201,'Daily Log'!$BQ$18:$BQ$1017),0)","v":0},{"$f":"IFERROR($E201*SUMIF('Daily Log'!$BS$18:$BS$1017,$B201,'Daily Log'!$BT$18:$BT$1017),0)","v":0},{"$f":"IFERROR($E201*SUMIF('Daily Log'!$BV$18:$BV$1017,$B201,'Daily Log'!$BW$18:$BW$1017),0)","v":0},{"$f":"IFERROR($E201*SUMIF('Daily Log'!$BY$18:$BY$1017,$B201,'Daily Log'!$BZ$18:$BZ$1017),0)","v":0},{"$f":"IFERROR($E201*SUMIF('Daily Log'!$CB$18:$CB$1017,$B201,'Daily Log'!$CC$18:$CC$1017),0)","v":0},{"$f":"IFERROR($E201*SUMIF('Daily Log'!$CE$18:$CE$1017,$B201,'Daily Log'!$CF$18:$CF$1017),0)","v":0},{"$f":"IFERROR($E201*SUMIF('Daily Log'!$CH$18:$CH$1017,$B201,'Daily Log'!$CI$18:$CI$1017),0)","v":0},{"$f":"IFERROR($E201*SUMIF('Daily Log'!$CK$18:$CK$1017,$B201,'Daily Log'!$CL$18:$CL$1017),0)","v":3},{"$f":"IFERROR($E201*SUMIF('Daily Log'!$CN$18:$CN$1017,$B201,'Daily Log'!$CO$18:$CO$1017),0)","v":0}]
[null,"AA40 1310:MC HP SMIL",null,null,1,0,{"$f":"IFERROR($E202*SUMIF('Daily Log'!$B$18:$B$1017,$B202,'Daily Log'!$C$18:$C$1017),0)","v":0},{"$f":"IFERROR($E202*SUMIF('Daily Log'!$E$18:$E$1017,$B202,'Daily Log'!$F$18:$F$1017),0)","v":0},{"$f":"IFERROR($E202*SUMIF('Daily Log'!$H$18:$H$1017,$B202,'Daily Log'!$I$18:$I$1017),0)","v":0},{"$f":"IFERROR($E202*SUMIF('Daily Log'!$K$18:$K$1017,$B202,'Daily Log'!$L$18:$L$1017),0)","v":0},{"$f":"IFERROR($E202*SUMIF('Daily Log'!$N$18:$N$1017,$B202,'Daily Log'!$O$18:$O$1017),0)","v":0},{"$f":"IFERROR($E202*SUMIF('Daily Log'!$Q$18:$Q$1017,$B202,'Daily Log'!$R$18:$R$1017),0)","v":0},{"$f":"IFERROR($E202*SUMIF('Daily Log'!$T$18:$T$1017,$B202,'Daily Log'!$U$18:$U$1017),0)","v":0},{"$f":"IFERROR($E202*SUMIF('Daily Log'!$W$18:$W$1017,$B202,'Daily Log'!$X$18:$X$1017),0)","v":0},{"$f":"IFERROR($E202*SUMIF('Daily Log'!$Z$18:$Z$1017,$B202,'Daily Log'!$AA$18:$AA$1017),0)","v":0},{"$f":"IFERROR($E202*SUMIF('Daily Log'!$AC$18:$AC$1017,$B202,'Daily Log'!$AD$18:$AD$1017),0)","v":0},{"$f":"IFERROR($E202*SUMIF('Daily Log'!$AF$18:$AF$1017,$B202,'Daily Log'!$AG$18:$AG$1017),0)","v":0},{"$f":"IFERROR($E202*SUMIF('Daily Log'!$AI$18:$AI$1017,$B202,'Daily Log'!$AJ$18:$AJ$1017),0)","v":0},{"$f":"IFERROR($E202*SUMIF('Daily Log'!$AL$18:$AL$1017,$B202,'Daily Log'!$AM$18:$AM$1017),0)","v":0},{"$f":"IFERROR($E202*SUMIF('Daily Log'!$AO$18:$AO$1017,$B202,'Daily Log'!$AP$18:$AP$1017),0)","v":0},{"$f":"IFERROR($E202*SUMIF('Daily Log'!$AR$18:$AR$1017,$B202,'Daily Log'!$AS$18:$AS$1017),0)","v":0},{"$f":"IFERROR($E202*SUMIF('Daily Log'!$AU$18:$AU$1017,$B202,'Daily Log'!$AV$18:$AV$1017),0)","v":0},{"$f":"IFERROR($E202*SUMIF('Daily Log'!$AX$18:$AX$1017,$B202,'Daily Log'!$AY$18:$AY$1017),0)","v":0},{"$f":"IFERROR($E202*SUMIF('Daily Log'!$BA$18:$BA$1017,$B202,'Daily Log'!$BB$18:$BB$1017),0)","v":0},{"$f":"IFERROR($E202*SUMIF('Daily Log'!$BD$18:$BD$1017,$B202,'Daily Log'!$BE$18:$BE$1017),0)","v":0},{"$f":"IFERROR($E202*SUMIF('Daily Log'!$BG$18:$BG$1017,$B202,'Daily Log'!$BH$18:$BH$1017),0)","v":0},{"$f":"IFERROR($E202*SUMIF('Daily Log'!$BJ$18:$BJ$1017,$B202,'Daily Log'!$BK$18:$BK$1017),0)","v":0},{"$f":"IFERROR($E202*SUMIF('Daily Log'!$BM$18:$BM$1017,$B202,'Daily Log'!$BN$18:$BN$1017),0)","v":0},{"$f":"IFERROR($E202*SUMIF('Daily Log'!$BP$18:$BP$1017,$B202,'Daily Log'!$BQ$18:$BQ$1017),0)","v":0},{"$f":"IFERROR($E202*SUMIF('Daily Log'!$BS$18:$BS$1017,$B202,'Daily Log'!$BT$18:$BT$1017),0)","v":0},{"$f":"IFERROR($E202*SUMIF('Daily Log'!$BV$18:$BV$1017,$B202,'Daily Log'!$BW$18:$BW$1017),0)","v":0},{"$f":"IFERROR($E202*SUMIF('Daily Log'!$BY$18:$BY$1017,$B202,'Daily Log'!$BZ$18:$BZ$1017),0)","v":0},{"$f":"IFERROR($E202*SUMIF('Daily Log'!$CB$18:$CB$1017,$B202,'Daily Log'!$CC$18:$CC$1017),0)","v":0},{"$f":"IFERROR($E202*SUMIF('Daily Log'!$CE$18:$CE$1017,$B202,'Daily Log'!$CF$18:$CF$1017),0)","v":0},{"$f":"IFERROR($E202*SUMIF('Daily Log'!$CH$18:$CH$1017,$B202,'Daily Log'!$CI$18:$CI$1017),0)","v":0},{"$f":"IFERROR($E202*SUMIF('Daily Log'!$CK$18:$CK$1017,$B202,'Daily Log'!$CL$18:$CL$1017),0)","v":0},{"$f":"IFERROR($E202*SUMIF('Daily Log'!$CN$18:$CN$1017,$B202,'Daily Log'!$CO$18:$CO$1017),0)","v":0}]
[null,"AA41 1311:MC HSH BRW",null,null,1,1,{"$f":"IFERROR($E203*SUMIF('Daily Log'!$B$18:$B$1017,$B203,'Daily Log'!$C$18:$C$1017),0)","v":0},{"$f":"IFERROR($E203*SUMIF('Daily Log'!$E$18:$E$1017,$B203,'Daily Log'!$F$18:$F$1017),0)","v":0},{"$f":"IFERROR($E203*SUMIF('Daily Log'!$H$18:$H$1017,$B203,'Daily Log'!$I$18:$I$1017),0)","v":0},{"$f":"IFERROR($E203*SUMIF('Daily Log'!$K$18:$K$1017,$B203,'Daily Log'!$L$18:$L$1017),0)","v":0},{"$f":"IFERROR($E203*SUMIF('Daily Log'!$N$18:$N$1017,$B203,'Daily Log'!$O$18:$O$1017),0)","v":0},{"$f":"IFERROR($E203*SUMIF('Daily Log'!$Q$18:$Q$1017,$B203,'Daily Log'!$R$18:$R$1017),0)","v":0},{"$f":"IFERROR($E203*SUMIF('Daily Log'!$T$18:$T$1017,$B203,'Daily Log'!$U$18:$U$1017),0)","v":0},{"$f":"IFERROR($E203*SUMIF('Daily Log'!$W$18:$W$1017,$B203,'Daily Log'!$X$18:$X$1017),0)","v":0},{"$f":"IFERROR($E203*SUMIF('Daily Log'!$Z$18:$Z$1017,$B203,'Daily Log'!$AA$18:$AA$1017),0)","v":0},{"$f":"IFERROR($E203*SUMIF('Daily Log'!$AC$18:$AC$1017,$B203,'Daily Log'!$AD$18:$AD$1017),0)","v":0},{"$f":"IFERROR($E203*SUMIF('Daily Log'!$AF$18:$AF$1017,$B203,'Daily Log'!$AG$18:$AG$1017),0)","v":0},{"$f":"IFERROR($E203*SUMIF('Daily Log'!$AI$18:$AI$1017,$B203,'Daily Log'!$AJ$18:$AJ$1017),0)","v":0},{"$f":"IFERROR($E203*SUMIF('Daily Log'!$AL$18:$AL$1017,$B203,'Daily Log'!$AM$18:$AM$1017),0)","v":0},{"$f":"IFERROR($E203*SUMIF('Daily Log'!$AO$18:$AO$1017,$B203,'Daily Log'!$AP$18:$AP$1017),0)","v":0},{"$f":"IFERROR($E203*SUMIF('Daily Log'!$AR$18:$AR$1017,$B203,'Daily Log'!$AS$18:$AS$1017),0)","v":0},{"$f":"IFERROR($E203*SUMIF('Daily Log'!$AU$18:$AU$1017,$B203,'Daily Log'!$AV$18:$AV$1017),0)","v":0},{"$f":"IFERROR($E203*SUMIF('Daily Log'!$AX$18:$AX$1017,$B203,'Daily Log'!$AY$18:$AY$1017),0)","v":0},{"$f":"IFERROR($E203*SUMIF('Daily Log'!$BA$18:$BA$1017,$B203,'Daily Log'!$BB$18:$BB$1017),0)","v":0},{"$f":"IFERROR($E203*SUMIF('Daily Log'!$BD$18:$BD$1017,$B203,'Daily Log'!$BE$18:$BE$1017),0)","v":0},{"$f":"IFERROR($E203*SUMIF('Daily Log'!$BG$18:$BG$1017,$B203,'Daily Log'!$BH$18:$BH$1017),0)","v":0},{"$f":"IFERROR($E203*SUMIF('Daily Log'!$BJ$18:$BJ$1017,$B203,'Daily Log'!$BK$18:$BK$1017),0)","v":0},{"$f":"IFERROR($E203*SUMIF('Daily Log'!$BM$18:$BM$1017,$B203,'Daily Log'!$BN$18:$BN$1017),0)","v":0},{"$f":"IFERROR($E203*SUMIF('Daily Log'!$BP$18:$BP$1017,$B203,'Daily Log'!$BQ$18:$BQ$1017),0)","v":0},{"$f":"IFERROR($E203*SUMIF('Daily Log'!$BS$18:$BS$1017,$B203,'Daily Log'!$BT$18:$BT$1017),0)","v":0},{"$f":"IFERROR($E203*SUMIF('Daily Log'!$BV$18:$BV$1017,$B203,'Daily Log'!$BW$18:$BW$1017),0)","v":0},{"$f":"IFERROR($E203*SUMIF('Daily Log'!$BY$18:$BY$1017,$B203,'Daily Log'!$BZ$18:$BZ$1017),0)","v":0},{"$f":"IFERROR($E203*SUMIF('Daily Log'!$CB$18:$CB$1017,$B203,'Daily Log'!$CC$18:$CC$1017),0)","v":0},{"$f":"IFERROR($E203*SUMIF('Daily Log'!$CE$18:$CE$1017,$B203,'Daily Log'!$CF$18:$CF$1017),0)","v":0},{"$f":"IFERROR($E203*SUMIF('Daily Log'!$CH$18:$CH$1017,$B203,'Daily Log'!$CI$18:$CI$1017),0)","v":0},{"$f":"IFERROR($E203*SUMIF('Daily Log'!$CK$18:$CK$1017,$B203,'Daily Log'!$CL$18:$CL$1017),0)","v":1},{"$f":"IFERROR($E203*SUMIF('Daily Log'!$CN$18:$CN$1017,$B203,'Daily Log'!$CO$18:$CO$1017),0)","v":0}]
[null,"AB02 1302:NUGGET",null,null,1,0,{"$f":"IFERROR($E204*SUMIF('Daily Log'!$B$18:$B$1017,$B204,'Daily Log'!$C$18:$C$1017),0)","v":0},{"$f":"IFERROR($E204*SUMIF('Daily Log'!$E$18:$E$1017,$B204,'Daily Log'!$F$18:$F$1017),0)","v":0},{"$f":"IFERROR($E204*SUMIF('Daily Log'!$H$18:$H$1017,$B204,'Daily Log'!$I$18:$I$1017),0)","v":0},{"$f":"IFERROR($E204*SUMIF('Daily Log'!$K$18:$K$1017,$B204,'Daily Log'!$L$18:$L$1017),0)","v":0},{"$f":"IFERROR($E204*SUMIF('Daily Log'!$N$18:$N$1017,$B204,'Daily Log'!$O$18:$O$1017),0)","v":0},{"$f":"IFERROR($E204*SUMIF('Daily Log'!$Q$18:$Q$1017,$B204,'Daily Log'!$R$18:$R$1017),0)","v":0},{"$f":"IFERROR($E204*SUMIF('Daily Log'!$T$18:$T$1017,$B204,'Daily Log'!$U$18:$U$1017),0)","v":0},{"$f":"IFERROR($E204*SUMIF('Daily Log'!$W$18:$W$1017,$B204,'Daily Log'!$X$18:$X$1017),0)","v":0},{"$f":"IFERROR($E204*SUMIF('Daily Log'!$Z$18:$Z$1017,$B204,'Daily Log'!$AA$18:$AA$1017),0)","v":0},{"$f":"IFERROR($E204*SUMIF('Daily Log'!$AC$18:$AC$1017,$B204,'Daily Log'!$AD$18:$AD$1017),0)","v":0},{"$f":"IFERROR($E204*SUMIF('Daily Log'!$AF$18:$AF$1017,$B204,'Daily Log'!$AG$18:$AG$1017),0)","v":0},{"$f":"IFERROR($E204*SUMIF('Daily Log'!$AI$18:$AI$1017,$B204,'Daily Log'!$AJ$18:$AJ$1017),0)","v":0},{"$f":"IFERROR($E204*SUMIF('Daily Log'!$AL$18:$AL$1017,$B204,'Daily Log'!$AM$18:$AM$1017),0)","v":0},{"$f":"IFERROR($E204*SUMIF('Daily Log'!$AO$18:$AO$1017,$B204,'Daily Log'!$AP$18:$AP$1017),0)","v":0},{"$f":"IFERROR($E204*SUMIF('Daily Log'!$AR$18:$AR$1017,$B204,'Daily Log'!$AS$18:$AS$1017),0)","v":0},{"$f":"IFERROR($E204*SUMIF('Daily Log'!$AU$18:$AU$1017,$B204,'Daily Log'!$AV$18:$AV$1017),0)","v":0},{"$f":"IFERROR($E204*SUMIF('Daily Log'!$AX$18:$AX$1017,$B204,'Daily Log'!$AY$18:$AY$1017),0)","v":0},{"$f":"IFERROR($E204*SUMIF('Daily Log'!$BA$18:$BA$1017,$B204,'Daily Log'!$BB$18:$BB$1017),0)","v":0},{"$f":"IFERROR($E204*SUMIF('Daily Log'!$BD$18:$BD$1017,$B204,'Daily Log'!$BE$18:$BE$1017),0)","v":0},{"$f":"IFERROR($E204*SUMIF('Daily Log'!$BG$18:$BG$1017,$B204,'Daily Log'!$BH$18:$BH$1017),0)","v":0},{"$f":"IFERROR($E204*SUMIF('Daily Log'!$BJ$18:$BJ$1017,$B204,'Daily Log'!$BK$18:$BK$1017),0)","v":0},{"$f":"IFERROR($E204*SUMIF('Daily Log'!$BM$18:$BM$1017,$B204,'Daily Log'!$BN$18:$BN$1017),0)","v":0},{"$f":"IFERROR($E204*SUMIF('Daily Log'!$BP$18:$BP$1017,$B204,'Daily Log'!$BQ$18:$BQ$1017),0)","v":0},{"$f":"IFERROR($E204*SUMIF('Daily Log'!$BS$18:$BS$1017,$B204,'Daily Log'!$BT$18:$BT$1017),0)","v":0},{"$f":"IFERROR($E204*SUMIF('Daily Log'!$BV$18:$BV$1017,$B204,'Daily Log'!$BW$18:$BW$1017),0)","v":0},{"$f":"IFERROR($E204*SUMIF('Daily Log'!$BY$18:$BY$1017,$B204,'Daily Log'!$BZ$18:$BZ$1017),0)","v":0},{"$f":"IFERROR($E204*SUMIF('Daily Log'!$CB$18:$CB$1017,$B204,'Daily Log'!$CC$18:$CC$1017),0)","v":0},{"$f":"IFERROR($E204*SUMIF('Daily Log'!$CE$18:$CE$1017,$B204,'Daily Log'!$CF$18:$CF$1017),0)","v":0},{"$f":"IFERROR($E204*SUMIF('Daily Log'!$CH$18:$CH$1017,$B204,'Daily Log'!$CI$18:$CI$1017),0)","v":0},{"$f":"IFERROR($E204*SUMIF('Daily Log'!$CK$18:$CK$1017,$B204,'Daily Log'!$CL$18:$CL$1017),0)","v":0},{"$f":"IFERROR($E204*SUMIF('Daily Log'!$CN$18:$CN$1017,$B204,'Daily Log'!$CO$18:$CO$1017),0)","v":0}]
[null,"AB03 1303:CHK WING",null,null,1,0,{"$f":"IFERROR($E205*SUMIF('Daily Log'!$B$18:$B$1017,$B205,'Daily Log'!$C$18:$C$1017),0)","v":0},{"$f":"IFERROR($E205*SUMIF('Daily Log'!$E$18:$E$1017,$B205,'Daily Log'!$F$18:$F$1017),0)","v":0},{"$f":"IFERROR($E205*SUMIF('Daily Log'!$H$18:$H$1017,$B205,'Daily Log'!$I$18:$I$1017),0)","v":0},{"$f":"IFERROR($E205*SUMIF('Daily Log'!$K$18:$K$1017,$B205,'Daily Log'!$L$18:$L$1017),0)","v":0},{"$f":"IFERROR($E205*SUMIF('Daily Log'!$N$18:$N$1017,$B205,'Daily Log'!$O$18:$O$1017),0)","v":0},{"$f":"IFERROR($E205*SUMIF('Daily Log'!$Q$18:$Q$1017,$B205,'Daily Log'!$R$18:$R$1017),0)","v":0},{"$f":"IFERROR($E205*SUMIF('Daily Log'!$T$18:$T$1017,$B205,'Daily Log'!$U$18:$U$1017),0)","v":0},{"$f":"IFERROR($E205*SUMIF('Daily Log'!$W$18:$W$1017,$B205,'Daily Log'!$X$18:$X$1017),0)","v":0},{"$f":"IFERROR($E205*SUMIF('Daily Log'!$Z$18:$Z$1017,$B205,'Daily Log'!$AA$18:$AA$1017),0)","v":0},{"$f":"IFERROR($E205*SUMIF('Daily Log'!$AC$18:$AC$1017,$B205,'Daily Log'!$AD$18:$AD$1017),0)","v":0},{"$f":"IFERROR($E205*SUMIF('Daily Log'!$AF$18:$AF$1017,$B205,'Daily Log'!$AG$18:$AG$1017),0)","v":0},{"$f":"IFERROR($E205*SUMIF('Daily Log'!$AI$18:$AI$1017,$B205,'Daily Log'!$AJ$18:$AJ$1017),0)","v":0},{"$f":"IFERROR($E205*SUMIF('Daily Log'!$AL$18:$AL$1017,$B205,'Daily Log'!$AM$18:$AM$1017),0)","v":0},{"$f":"IFERROR($E205*SUMIF('Daily Log'!$AO$18:$AO$1017,$B205,'Daily Log'!$AP$18:$AP$1017),0)","v":0},{"$f":"IFERROR($E205*SUMIF('Daily Log'!$AR$18:$AR$1017,$B205,'Daily Log'!$AS$18:$AS$1017),0)","v":0},{"$f":"IFERROR($E205*SUMIF('Daily Log'!$AU$18:$AU$1017,$B205,'Daily Log'!$AV$18:$AV$1017),0)","v":0},{"$f":"IFERROR($E205*SUMIF('Daily Log'!$AX$18:$AX$1017,$B205,'Daily Log'!$AY$18:$AY$1017),0)","v":0},{"$f":"IFERROR($E205*SUMIF('Daily Log'!$BA$18:$BA$1017,$B205,'Daily Log'!$BB$18:$BB$1017),0)","v":0},{"$f":"IFERROR($E205*SUMIF('Daily Log'!$BD$18:$BD$1017,$B205,'Daily Log'!$BE$18:$BE$1017),0)","v":0},{"$f":"IFERROR($E205*SUMIF('Daily Log'!$BG$18:$BG$1017,$B205,'Daily Log'!$BH$18:$BH$1017),0)","v":0},{"$f":"IFERROR($E205*SUMIF('Daily Log'!$BJ$18:$BJ$1017,$B205,'Daily Log'!$BK$18:$BK$1017),0)","v":0},{"$f":"IFERROR($E205*SUMIF('Daily Log'!$BM$18:$BM$1017,$B205,'Daily Log'!$BN$18:$BN$1017),0)","v":0},{"$f":"IFERROR($E205*SUMIF('Daily Log'!$BP$18:$BP$1017,$B205,'Daily Log'!$BQ$18:$BQ$1017),0)","v":0},{"$f":"IFERROR($E205*SUMIF('Daily Log'!$BS$18:$BS$1017,$B205,'Daily Log'!$BT$18:$BT$1017),0)","v":0},{"$f":"IFERROR($E205*SUMIF('Daily Log'!$BV$18:$BV$1017,$B205,'Daily Log'!$BW$18:$BW$1017),0)","v":0},{"$f":"IFERROR($E205*SUMIF('Daily Log'!$BY$18:$BY$1017,$B205,'Daily Log'!$BZ$18:$BZ$1017),0)","v":0},{"$f":"IFERROR($E205*SUMIF('Daily Log'!$CB$18:$CB$1017,$B205,'Daily Log'!$CC$18:$CC$1017),0)","v":0},{"$f":"IFERROR($E205*SUMIF('Daily Log'!$CE$18:$CE$1017,$B205,'Daily Log'!$CF$18:$CF$1017),0)","v":0},{"$f":"IFERROR($E205*SUMIF('Daily Log'!$CH$18:$CH$1017,$B205,'Daily Log'!$CI$18:$CI$1017),0)","v":0},{"$f":"IFERROR($E205*SUMIF('Daily Log'!$CK$18:$CK$1017,$B205,'Daily Log'!$CL$18:$CL$1017),0)","v":0},{"$f":"IFERROR($E205*SUMIF('Daily Log'!$CN$18:$CN$1017,$B205,'Daily Log'!$CO$18:$CO$1017),0)","v":0}]
[null,"AB04 1304:IKAN BILIS",null,null,1,0,{"$f":"IFERROR($E206*SUMIF('Daily Log'!$B$18:$B$1017,$B206,'Daily Log'!$C$18:$C$1017),0)","v":0},{"$f":"IFERROR($E206*SUMIF('Daily Log'!$E$18:$E$1017,$B206,'Daily Log'!$F$18:$F$1017),0)","v":0},{"$f":"IFERROR($E206*SUMIF('Daily Log'!$H$18:$H$1017,$B206,'Daily Log'!$I$18:$I$1017),0)","v":0},{"$f":"IFERROR($E206*SUMIF('Daily Log'!$K$18:$K$1017,$B206,'Daily Log'!$L$18:$L$1017),0)","v":0},{"$f":"IFERROR($E206*SUMIF('Daily Log'!$N$18:$N$1017,$B206,'Daily Log'!$O$18:$O$1017),0)","v":0},{"$f":"IFERROR($E206*SUMIF('Daily Log'!$Q$18:$Q$1017,$B206,'Daily Log'!$R$18:$R$1017),0)","v":0},{"$f":"IFERROR($E206*SUMIF('Daily Log'!$T$18:$T$1017,$B206,'Daily Log'!$U$18:$U$1017),0)","v":0},{"$f":"IFERROR($E206*SUMIF('Daily Log'!$W$18:$W$1017,$B206,'Daily Log'!$X$18:$X$1017),0)","v":0},{"$f":"IFERROR($E206*SUMIF('Daily Log'!$Z$18:$Z$1017,$B206,'Daily Log'!$AA$18:$AA$1017),0)","v":0},{"$f":"IFERROR($E206*SUMIF('Daily Log'!$AC$18:$AC$1017,$B206,'Daily Log'!$AD$18:$AD$1017),0)","v":0},{"$f":"IFERROR($E206*SUMIF('Daily Log'!$AF$18:$AF$1017,$B206,'Daily Log'!$AG$18:$AG$1017),0)","v":0},{"$f":"IFERROR($E206*SUMIF('Daily Log'!$AI$18:$AI$1017,$B206,'Daily Log'!$AJ$18:$AJ$1017),0)","v":0},{"$f":"IFERROR($E206*SUMIF('Daily Log'!$AL$18:$AL$1017,$B206,'Daily Log'!$AM$18:$AM$1017),0)","v":0},{"$f":"IFERROR($E206*SUMIF('Daily Log'!$AO$18:$AO$1017,$B206,'Daily Log'!$AP$18:$AP$1017),0)","v":0},{"$f":"IFERROR($E206*SUMIF('Daily Log'!$AR$18:$AR$1017,$B206,'Daily Log'!$AS$18:$AS$1017),0)","v":0},{"$f":"IFERROR($E206*SUMIF('Daily Log'!$AU$18:$AU$1017,$B206,'Daily Log'!$AV$18:$AV$1017),0)","v":0},{"$f":"IFERROR($E206*SUMIF('Daily Log'!$AX$18:$AX$1017,$B206,'Daily Log'!$AY$18:$AY$1017),0)","v":0},{"$f":"IFERROR($E206*SUMIF('Daily Log'!$BA$18:$BA$1017,$B206,'Daily Log'!$BB$18:$BB$1017),0)","v":0},{"$f":"IFERROR($E206*SUMIF('Daily Log'!$BD$18:$BD$1017,$B206,'Daily Log'!$BE$18:$BE$1017),0)","v":0},{"$f":"IFERROR($E206*SUMIF('Daily Log'!$BG$18:$BG$1017,$B206,'Daily Log'!$BH$18:$BH$1017),0)","v":0},{"$f":"IFERROR($E206*SUMIF('Daily Log'!$BJ$18:$BJ$1017,$B206,'Daily Log'!$BK$18:$BK$1017),0)","v":0},{"$f":"IFERROR($E206*SUMIF('Daily Log'!$BM$18:$BM$1017,$B206,'Daily Log'!$BN$18:$BN$1017),0)","v":0},{"$f":"IFERROR($E206*SUMIF('Daily Log'!$BP$18:$BP$1017,$B206,'Daily Log'!$BQ$18:$BQ$1017),0)","v":0},{"$f":"IFERROR($E206*SUMIF('Daily Log'!$BS$18:$BS$1017,$B206,'Daily Log'!$BT$18:$BT$1017),0)","v":0},{"$f":"IFERROR($E206*SUMIF('Daily Log'!$BV$18:$BV$1017,$B206,'Daily Log'!$BW$18:$BW$1017),0)","v":0},{"$f":"IFERROR($E206*SUMIF('Daily Log'!$BY$18:$BY$1017,$B206,'Daily Log'!$BZ$18:$BZ$1017),0)","v":0},{"$f":"IFERROR($E206*SUMIF('Daily Log'!$CB$18:$CB$1017,$B206,'Daily Log'!$CC$18:$CC$1017),0)","v":0},{"$f":"IFERROR($E206*SUMIF('Daily Log'!$CE$18:$CE$1017,$B206,'Daily Log'!$CF$18:$CF$1017),0)","v":0},{"$f":"IFERROR($E206*SUMIF('Daily Log'!$CH$18:$CH$1017,$B206,'Daily Log'!$CI$18:$CI$1017),0)","v":0},{"$f":"IFERROR($E206*SUMIF('Daily Log'!$CK$18:$CK$1017,$B206,'Daily Log'!$CL$18:$CL$1017),0)","v":0},{"$f":"IFERROR($E206*SUMIF('Daily Log'!$CN$18:$CN$1017,$B206,'Daily Log'!$CO$18:$CO$1017),0)","v":0}]
[null,"AB05 1305:THAI RL",null,null,1,0,{"$f":"IFERROR($E207*SUMIF('Daily Log'!$B$18:$B$1017,$B207,'Daily Log'!$C$18:$C$1017),0)","v":0},{"$f":"IFERROR($E207*SUMIF('Daily Log'!$E$18:$E$1017,$B207,'Daily Log'!$F$18:$F$1017),0)","v":0},{"$f":"IFERROR($E207*SUMIF('Daily Log'!$H$18:$H$1017,$B207,'Daily Log'!$I$18:$I$1017),0)","v":0},{"$f":"IFERROR($E207*SUMIF('Daily Log'!$K$18:$K$1017,$B207,'Daily Log'!$L$18:$L$1017),0)","v":0},{"$f":"IFERROR($E207*SUMIF('Daily Log'!$N$18:$N$1017,$B207,'Daily Log'!$O$18:$O$1017),0)","v":0},{"$f":"IFERROR($E207*SUMIF('Daily Log'!$Q$18:$Q$1017,$B207,'Daily Log'!$R$18:$R$1017),0)","v":0},{"$f":"IFERROR($E207*SUMIF('Daily Log'!$T$18:$T$1017,$B207,'Daily Log'!$U$18:$U$1017),0)","v":0},{"$f":"IFERROR($E207*SUMIF('Daily Log'!$W$18:$W$1017,$B207,'Daily Log'!$X$18:$X$1017),0)","v":0},{"$f":"IFERROR($E207*SUMIF('Daily Log'!$Z$18:$Z$1017,$B207,'Daily Log'!$AA$18:$AA$1017),0)","v":0},{"$f":"IFERROR($E207*SUMIF('Daily Log'!$AC$18:$AC$1017,$B207,'Daily Log'!$AD$18:$AD$1017),0)","v":0},{"$f":"IFERROR($E207*SUMIF('Daily Log'!$AF$18:$AF$1017,$B207,'Daily Log'!$AG$18:$AG$1017),0)","v":0},{"$f":"IFERROR($E207*SUMIF('Daily Log'!$AI$18:$AI$1017,$B207,'Daily Log'!$AJ$18:$AJ$1017),0)","v":0},{"$f":"IFERROR($E207*SUMIF('Daily Log'!$AL$18:$AL$1017,$B207,'Daily Log'!$AM$18:$AM$1017),0)","v":0},{"$f":"IFERROR($E207*SUMIF('Daily Log'!$AO$18:$AO$1017,$B207,'Daily Log'!$AP$18:$AP$1017),0)","v":0},{"$f":"IFERROR($E207*SUMIF('Daily Log'!$AR$18:$AR$1017,$B207,'Daily Log'!$AS$18:$AS$1017),0)","v":0},{"$f":"IFERROR($E207*SUMIF('Daily Log'!$AU$18:$AU$1017,$B207,'Daily Log'!$AV$18:$AV$1017),0)","v":0},{"$f":"IFERROR($E207*SUMIF('Daily Log'!$AX$18:$AX$1017,$B207,'Daily Log'!$AY$18:$AY$1017),0)","v":0},{"$f":"IFERROR($E207*SUMIF('Daily Log'!$BA$18:$BA$1017,$B207,'Daily Log'!$BB$18:$BB$1017),0)","v":0},{"$f":"IFERROR($E207*SUMIF('Daily Log'!$BD$18:$BD$1017,$B207,'Daily Log'!$BE$18:$BE$1017),0)","v":0},{"$f":"IFERROR($E207*SUMIF('Daily Log'!$BG$18:$BG$1017,$B207,'Daily Log'!$BH$18:$BH$1017),0)","v":0},{"$f":"IFERROR($E207*SUMIF('Daily Log'!$BJ$18:$BJ$1017,$B207,'Daily Log'!$BK$18:$BK$1017),0)","v":0},{"$f":"IFERROR($E207*SUMIF('Daily Log'!$BM$18:$BM$1017,$B207,'Daily Log'!$BN$18:$BN$1017),0)","v":0},{"$f":"IFERROR($E207*SUMIF('Daily Log'!$BP$18:$BP$1017,$B207,'Daily Log'!$BQ$18:$BQ$1017),0)","v":0},{"$f":"IFERROR($E207*SUMIF('Daily Log'!$BS$18:$BS$1017,$B207,'Daily Log'!$BT$18:$BT$1017),0)","v":0},{"$f":"IFERROR($E207*SUMIF('Daily Log'!$BV$18:$BV$1017,$B207,'Daily Log'!$BW$18:$BW$1017),0)","v":0},{"$f":"IFERROR($E207*SUMIF('Daily Log'!$BY$18:$BY$1017,$B207,'Daily Log'!$BZ$18:$BZ$1017),0)","v":0},{"$f":"IFERROR($E207*SUMIF('Daily Log'!$CB$18:$CB$1017,$B207,'Daily Log'!$CC$18:$CC$1017),0)","v":0},{"$f":"IFERROR($E207*SUMIF('Daily Log'!$CE$18:$CE$1017,$B207,'Daily Log'!$CF$18:$CF$1017),0)","v":0},{"$f":"IFERROR($E207*SUMIF('Daily Log'!$CH$18:$CH$1017,$B207,'Daily Log'!$CI$18:$CI$1017),0)","v":0},{"$f":"IFERROR($E207*SUMIF('Daily Log'!$CK$18:$CK$1017,$B207,'Daily Log'!$CL$18:$CL$1017),0)","v":0},{"$f":"IFERROR($E207*SUMIF('Daily Log'!$CN$18:$CN$1017,$B207,'Daily Log'!$CO$18:$CO$1017),0)","v":0}]
[null,"AB06 1306:DF WING",null,null,1,0,{"$f":"IFERROR($E208*SUMIF('Daily Log'!$B$18:$B$1017,$B208,'Daily Log'!$C$18:$C$1017),0)","v":0},{"$f":"IFERROR($E208*SUMIF('Daily Log'!$E$18:$E$1017,$B208,'Daily Log'!$F$18:$F$1017),0)","v":0},{"$f":"IFERROR($E208*SUMIF('Daily Log'!$H$18:$H$1017,$B208,'Daily Log'!$I$18:$I$1017),0)","v":0},{"$f":"IFERROR($E208*SUMIF('Daily Log'!$K$18:$K$1017,$B208,'Daily Log'!$L$18:$L$1017),0)","v":0},{"$f":"IFERROR($E208*SUMIF('Daily Log'!$N$18:$N$1017,$B208,'Daily Log'!$O$18:$O$1017),0)","v":0},{"$f":"IFERROR($E208*SUMIF('Daily Log'!$Q$18:$Q$1017,$B208,'Daily Log'!$R$18:$R$1017),0)","v":0},{"$f":"IFERROR($E208*SUMIF('Daily Log'!$T$18:$T$1017,$B208,'Daily Log'!$U$18:$U$1017),0)","v":0},{"$f":"IFERROR($E208*SUMIF('Daily Log'!$W$18:$W$1017,$B208,'Daily Log'!$X$18:$X$1017),0)","v":0},{"$f":"IFERROR($E208*SUMIF('Daily Log'!$Z$18:$Z$1017,$B208,'Daily Log'!$AA$18:$AA$1017),0)","v":0},{"$f":"IFERROR($E208*SUMIF('Daily Log'!$AC$18:$AC$1017,$B208,'Daily Log'!$AD$18:$AD$1017),0)","v":0},{"$f":"IFERROR($E208*SUMIF('Daily Log'!$AF$18:$AF$1017,$B208,'Daily Log'!$AG$18:$AG$1017),0)","v":0},{"$f":"IFERROR($E208*SUMIF('Daily Log'!$AI$18:$AI$1017,$B208,'Daily Log'!$AJ$18:$AJ$1017),0)","v":0},{"$f":"IFERROR($E208*SUMIF('Daily Log'!$AL$18:$AL$1017,$B208,'Daily Log'!$AM$18:$AM$1017),0)","v":0},{"$f":"IFERROR($E208*SUMIF('Daily Log'!$AO$18:$AO$1017,$B208,'Daily Log'!$AP$18:$AP$1017),0)","v":0},{"$f":"IFERROR($E208*SUMIF('Daily Log'!$AR$18:$AR$1017,$B208,'Daily Log'!$AS$18:$AS$1017),0)","v":0},{"$f":"IFERROR($E208*SUMIF('Daily Log'!$AU$18:$AU$1017,$B208,'Daily Log'!$AV$18:$AV$1017),0)","v":0},{"$f":"IFERROR($E208*SUMIF('Daily Log'!$AX$18:$AX$1017,$B208,'Daily Log'!$AY$18:$AY$1017),0)","v":0},{"$f":"IFERROR($E208*SUMIF('Daily Log'!$BA$18:$BA$1017,$B208,'Daily Log'!$BB$18:$BB$1017),0)","v":0},{"$f":"IFERROR($E208*SUMIF('Daily Log'!$BD$18:$BD$1017,$B208,'Daily Log'!$BE$18:$BE$1017),0)","v":0},{"$f":"IFERROR($E208*SUMIF('Daily Log'!$BG$18:$BG$1017,$B208,'Daily Log'!$BH$18:$BH$1017),0)","v":0},{"$f":"IFERROR($E208*SUMIF('Daily Log'!$BJ$18:$BJ$1017,$B208,'Daily Log'!$BK$18:$BK$1017),0)","v":0},{"$f":"IFERROR($E208*SUMIF('Daily Log'!$BM$18:$BM$1017,$B208,'Daily Log'!$BN$18:$BN$1017),0)","v":0},{"$f":"IFERROR($E208*SUMIF('Daily Log'!$BP$18:$BP$1017,$B208,'Daily Log'!$BQ$18:$BQ$1017),0)","v":0},{"$f":"IFERROR($E208*SUMIF('Daily Log'!$BS$18:$BS$1017,$B208,'Daily Log'!$BT$18:$BT$1017),0)","v":0},{"$f":"IFERROR($E208*SUMIF('Daily Log'!$BV$18:$BV$1017,$B208,'Daily Log'!$BW$18:$BW$1017),0)","v":0},{"$f":"IFERROR($E208*SUMIF('Daily Log'!$BY$18:$BY$1017,$B208,'Daily Log'!$BZ$18:$BZ$1017),0)","v":0},{"$f":"IFERROR($E208*SUMIF('Daily Log'!$CB$18:$CB$1017,$B208,'Daily Log'!$CC$18:$CC$1017),0)","v":0},{"$f":"IFERROR($E208*SUMIF('Daily Log'!$CE$18:$CE$1017,$B208,'Daily Log'!$CF$18:$CF$1017),0)","v":0},{"$f":"IFERROR($E208*SUMIF('Daily Log'!$CH$18:$CH$1017,$B208,'Daily Log'!$CI$18:$CI$1017),0)","v":0},{"$f":"IFERROR($E208*SUMIF('Daily Log'!$CK$18:$CK$1017,$B208,'Daily Log'!$CL$18:$CL$1017),0)","v":0},{"$f":"IFERROR($E208*SUMIF('Daily Log'!$CN$18:$CN$1017,$B208,'Daily Log'!$CO$18:$CO$1017),0)","v":0}]
[null,"AB07 1307: CALAMARI",null,null,1,0,{"$f":"IFERROR($E209*SUMIF('Daily Log'!$B$18:$B$1017,$B209,'Daily Log'!$C$18:$C$1017),0)","v":0},{"$f":"IFERROR($E209*SUMIF('Daily Log'!$E$18:$E$1017,$B209,'Daily Log'!$F$18:$F$1017),0)","v":0},{"$f":"IFERROR($E209*SUMIF('Daily Log'!$H$18:$H$1017,$B209,'Daily Log'!$I$18:$I$1017),0)","v":0},{"$f":"IFERROR($E209*SUMIF('Daily Log'!$K$18:$K$1017,$B209,'Daily Log'!$L$18:$L$1017),0)","v":0},{"$f":"IFERROR($E209*SUMIF('Daily Log'!$N$18:$N$1017,$B209,'Daily Log'!$O$18:$O$1017),0)","v":0},{"$f":"IFERROR($E209*SUMIF('Daily Log'!$Q$18:$Q$1017,$B209,'Daily Log'!$R$18:$R$1017),0)","v":0},{"$f":"IFERROR($E209*SUMIF('Daily Log'!$T$18:$T$1017,$B209,'Daily Log'!$U$18:$U$1017),0)","v":0},{"$f":"IFERROR($E209*SUMIF('Daily Log'!$W$18:$W$1017,$B209,'Daily Log'!$X$18:$X$1017),0)","v":0},{"$f":"IFERROR($E209*SUMIF('Daily Log'!$Z$18:$Z$1017,$B209,'Daily Log'!$AA$18:$AA$1017),0)","v":0},{"$f":"IFERROR($E209*SUMIF('Daily Log'!$AC$18:$AC$1017,$B209,'Daily Log'!$AD$18:$AD$1017),0)","v":0},{"$f":"IFERROR($E209*SUMIF('Daily Log'!$AF$18:$AF$1017,$B209,'Daily Log'!$AG$18:$AG$1017),0)","v":0},{"$f":"IFERROR($E209*SUMIF('Daily Log'!$AI$18:$AI$1017,$B209,'Daily Log'!$AJ$18:$AJ$1017),0)","v":0},{"$f":"IFERROR($E209*SUMIF('Daily Log'!$AL$18:$AL$1017,$B209,'Daily Log'!$AM$18:$AM$1017),0)","v":0},{"$f":"IFERROR($E209*SUMIF('Daily Log'!$AO$18:$AO$1017,$B209,'Daily Log'!$AP$18:$AP$1017),0)","v":0},{"$f":"IFERROR($E209*SUMIF('Daily Log'!$AR$18:$AR$1017,$B209,'Daily Log'!$AS$18:$AS$1017),0)","v":0},{"$f":"IFERROR($E209*SUMIF('Daily Log'!$AU$18:$AU$1017,$B209,'Daily Log'!$AV$18:$AV$1017),0)","v":0},{"$f":"IFERROR($E209*SUMIF('Daily Log'!$AX$18:$AX$1017,$B209,'Daily Log'!$AY$18:$AY$1017),0)","v":0},{"$f":"IFERROR($E209*SUMIF('Daily Log'!$BA$18:$BA$1017,$B209,'Daily Log'!$BB$18:$BB$1017),0)","v":0},{"$f":"IFERROR($E209*SUMIF('Daily Log'!$BD$18:$BD$1017,$B209,'Daily Log'!$BE$18:$BE$1017),0)","v":0},{"$f":"IFERROR($E209*SUMIF('Daily Log'!$BG$18:$BG$1017,$B209,'Daily Log'!$BH$18:$BH$1017),0)","v":0},{"$f":"IFERROR($E209*SUMIF('Daily Log'!$BJ$18:$BJ$1017,$B209,'Daily Log'!$BK$18:$BK$1017),0)","v":0},{"$f":"IFERROR($E209*SUMIF('Daily Log'!$BM$18:$BM$1017,$B209,'Daily Log'!$BN$18:$BN$1017),0)","v":0},{"$f":"IFERROR($E209*SUMIF('Daily Log'!$BP$18:$BP$1017,$B209,'Daily Log'!$BQ$18:$BQ$1017),0)","v":0},{"$f":"IFERROR($E209*SUMIF('Daily Log'!$BS$18:$BS$1017,$B209,'Daily Log'!$BT$18:$BT$1017),0)","v":0},{"$f":"IFERROR($E209*SUMIF('Daily Log'!$BV$18:$BV$1017,$B209,'Daily Log'!$BW$18:$BW$1017),0)","v":0},{"$f":"IFERROR($E209*SUMIF('Daily Log'!$BY$18:$BY$1017,$B209,'Daily Log'!$BZ$18:$BZ$1017),0)","v":0},{"$f":"IFERROR($E209*SUMIF('Daily Log'!$CB$18:$CB$1017,$B209,'Daily Log'!$CC$18:$CC$1017),0)","v":0},{"$f":"IFERROR($E209*SUMIF('Daily Log'!$CE$18:$CE$1017,$B209,'Daily Log'!$CF$18:$CF$1017),0)","v":0},{"$f":"IFERROR($E209*SUMIF('Daily Log'!$CH$18:$CH$1017,$B209,'Daily Log'!$CI$18:$CI$1017),0)","v":0},{"$f":"IFERROR($E209*SUMIF('Daily Log'!$CK$18:$CK$1017,$B209,'Daily Log'!$CL$18:$CL$1017),0)","v":0},{"$f":"IFERROR($E209*SUMIF('Daily Log'!$CN$18:$CN$1017,$B209,'Daily Log'!$CO$18:$CO$1017),0)","v":0}]
[null,"AB08 1308 MC RING",null,null,1,0,{"$f":"IFERROR($E210*SUMIF('Daily Log'!$B$18:$B$1017,$B210,'Daily Log'!$C$18:$C$1017),0)","v":0},{"$f":"IFERROR($E210*SUMIF('Daily Log'!$E$18:$E$1017,$B210,'Daily Log'!$F$18:$F$1017),0)","v":0},{"$f":"IFERROR($E210*SUMIF('Daily Log'!$H$18:$H$1017,$B210,'Daily Log'!$I$18:$I$1017),0)","v":0},{"$f":"IFERROR($E210*SUMIF('Daily Log'!$K$18:$K$1017,$B210,'Daily Log'!$L$18:$L$1017),0)","v":0},{"$f":"IFERROR($E210*SUMIF('Daily Log'!$N$18:$N$1017,$B210,'Daily Log'!$O$18:$O$1017),0)","v":0},{"$f":"IFERROR($E210*SUMIF('Daily Log'!$Q$18:$Q$1017,$B210,'Daily Log'!$R$18:$R$1017),0)","v":0},{"$f":"IFERROR($E210*SUMIF('Daily Log'!$T$18:$T$1017,$B210,'Daily Log'!$U$18:$U$1017),0)","v":0},{"$f":"IFERROR($E210*SUMIF('Daily Log'!$W$18:$W$1017,$B210,'Daily Log'!$X$18:$X$1017),0)","v":0},{"$f":"IFERROR($E210*SUMIF('Daily Log'!$Z$18:$Z$1017,$B210,'Daily Log'!$AA$18:$AA$1017),0)","v":0},{"$f":"IFERROR($E210*SUMIF('Daily Log'!$AC$18:$AC$1017,$B210,'Daily Log'!$AD$18:$AD$1017),0)","v":0},{"$f":"IFERROR($E210*SUMIF('Daily Log'!$AF$18:$AF$1017,$B210,'Daily Log'!$AG$18:$AG$1017),0)","v":0},{"$f":"IFERROR($E210*SUMIF('Daily Log'!$AI$18:$AI$1017,$B210,'Daily Log'!$AJ$18:$AJ$1017),0)","v":0},{"$f":"IFERROR($E210*SUMIF('Daily Log'!$AL$18:$AL$1017,$B210,'Daily Log'!$AM$18:$AM$1017),0)","v":0},{"$f":"IFERROR($E210*SUMIF('Daily Log'!$AO$18:$AO$1017,$B210,'Daily Log'!$AP$18:$AP$1017),0)","v":0},{"$f":"IFERROR($E210*SUMIF('Daily Log'!$AR$18:$AR$1017,$B210,'Daily Log'!$AS$18:$AS$1017),0)","v":0},{"$f":"IFERROR($E210*SUMIF('Daily Log'!$AU$18:$AU$1017,$B210,'Daily Log'!$AV$18:$AV$1017),0)","v":0},{"$f":"IFERROR($E210*SUMIF('Daily Log'!$AX$18:$AX$1017,$B210,'Daily Log'!$AY$18:$AY$1017),0)","v":0},{"$f":"IFERROR($E210*SUMIF('Daily Log'!$BA$18:$BA$1017,$B210,'Daily Log'!$BB$18:$BB$1017),0)","v":0},{"$f":"IFERROR($E210*SUMIF('Daily Log'!$BD$18:$BD$1017,$B210,'Daily Log'!$BE$18:$BE$1017),0)","v":0},{"$f":"IFERROR($E210*SUMIF('Daily Log'!$BG$18:$BG$1017,$B210,'Daily Log'!$BH$18:$BH$1017),0)","v":0},{"$f":"IFERROR($E210*SUMIF('Daily Log'!$BJ$18:$BJ$1017,$B210,'Daily Log'!$BK$18:$BK$1017),0)","v":0},{"$f":"IFERROR($E210*SUMIF('Daily Log'!$BM$18:$BM$1017,$B210,'Daily Log'!$BN$18:$BN$1017),0)","v":0},{"$f":"IFERROR($E210*SUMIF('Daily Log'!$BP$18:$BP$1017,$B210,'Daily Log'!$BQ$18:$BQ$1017),0)","v":0},{"$f":"IFERROR($E210*SUMIF('Daily Log'!$BS$18:$BS$1017,$B210,'Daily Log'!$BT$18:$BT$1017),0)","v":0},{"$f":"IFERROR($E210*SUMIF('Daily Log'!$BV$18:$BV$1017,$B210,'Daily Log'!$BW$18:$BW$1017),0)","v":0},{"$f":"IFERROR($E210*SUMIF('Daily Log'!$BY$18:$BY$1017,$B210,'Daily Log'!$BZ$18:$BZ$1017),0)","v":0},{"$f":"IFERROR($E210*SUMIF('Daily Log'!$CB$18:$CB$1017,$B210,'Daily Log'!$CC$18:$CC$1017),0)","v":0},{"$f":"IFERROR($E210*SUMIF('Daily Log'!$CE$18:$CE$1017,$B210,'Daily Log'!$CF$18:$CF$1017),0)","v":0},{"$f":"IFERROR($E210*SUMIF('Daily Log'!$CH$18:$CH$1017,$B210,'Daily Log'!$CI$18:$CI$1017),0)","v":0},{"$f":"IFERROR($E210*SUMIF('Daily Log'!$CK$18:$CK$1017,$B210,'Daily Log'!$CL$18:$CL$1017),0)","v":0},{"$f":"IFERROR($E210*SUMIF('Daily Log'!$CN$18:$CN$1017,$B210,'Daily Log'!$CO$18:$CO$1017),0)","v":0}]
[null,"AB09 1309:MC SPIRAL F",null,null,1,0,{"$f":"IFERROR($E211*SUMIF('Daily Log'!$B$18:$B$1017,$B211,'Daily Log'!$C$18:$C$1017),0)","v":0},{"$f":"IFERROR($E211*SUMIF('Daily Log'!$E$18:$E$1017,$B211,'Daily Log'!$F$18:$F$1017),0)","v":0},{"$f":"IFERROR($E211*SUMIF('Daily Log'!$H$18:$H$1017,$B211,'Daily Log'!$I$18:$I$1017),0)","v":0},{"$f":"IFERROR($E211*SUMIF('Daily Log'!$K$18:$K$1017,$B211,'Daily Log'!$L$18:$L$1017),0)","v":0},{"$f":"IFERROR($E211*SUMIF('Daily Log'!$N$18:$N$1017,$B211,'Daily Log'!$O$18:$O$1017),0)","v":0},{"$f":"IFERROR($E211*SUMIF('Daily Log'!$Q$18:$Q$1017,$B211,'Daily Log'!$R$18:$R$1017),0)","v":0},{"$f":"IFERROR($E211*SUMIF('Daily Log'!$T$18:$T$1017,$B211,'Daily Log'!$U$18:$U$1017),0)","v":0},{"$f":"IFERROR($E211*SUMIF('Daily Log'!$W$18:$W$1017,$B211,'Daily Log'!$X$18:$X$1017),0)","v":0},{"$f":"IFERROR($E211*SUMIF('Daily Log'!$Z$18:$Z$1017,$B211,'Daily Log'!$AA$18:$AA$1017),0)","v":0},{"$f":"IFERROR($E211*SUMIF('Daily Log'!$AC$18:$AC$1017,$B211,'Daily Log'!$AD$18:$AD$1017),0)","v":0},{"$f":"IFERROR($E211*SUMIF('Daily Log'!$AF$18:$AF$1017,$B211,'Daily Log'!$AG$18:$AG$1017),0)","v":0},{"$f":"IFERROR($E211*SUMIF('Daily Log'!$AI$18:$AI$1017,$B211,'Daily Log'!$AJ$18:$AJ$1017),0)","v":0},{"$f":"IFERROR($E211*SUMIF('Daily Log'!$AL$18:$AL$1017,$B211,'Daily Log'!$AM$18:$AM$1017),0)","v":0},{"$f":"IFERROR($E211*SUMIF('Daily Log'!$AO$18:$AO$1017,$B211,'Daily Log'!$AP$18:$AP$1017),0)","v":0},{"$f":"IFERROR($E211*SUMIF('Daily Log'!$AR$18:$AR$1017,$B211,'Daily Log'!$AS$18:$AS$1017),0)","v":0},{"$f":"IFERROR($E211*SUMIF('Daily Log'!$AU$18:$AU$1017,$B211,'Daily Log'!$AV$18:$AV$1017),0)","v":0},{"$f":"IFERROR($E211*SUMIF('Daily Log'!$AX$18:$AX$1017,$B211,'Daily Log'!$AY$18:$AY$1017),0)","v":0},{"$f":"IFERROR($E211*SUMIF('Daily Log'!$BA$18:$BA$1017,$B211,'Daily Log'!$BB$18:$BB$1017),0)","v":0},{"$f":"IFERROR($E211*SUMIF('Daily Log'!$BD$18:$BD$1017,$B211,'Daily Log'!$BE$18:$BE$1017),0)","v":0},{"$f":"IFERROR($E211*SUMIF('Daily Log'!$BG$18:$BG$1017,$B211,'Daily Log'!$BH$18:$BH$1017),0)","v":0},{"$f":"IFERROR($E211*SUMIF('Daily Log'!$BJ$18:$BJ$1017,$B211,'Daily Log'!$BK$18:$BK$1017),0)","v":0},{"$f":"IFERROR($E211*SUMIF('Daily Log'!$BM$18:$BM$1017,$B211,'Daily Log'!$BN$18:$BN$1017),0)","v":0},{"$f":"IFERROR($E211*SUMIF('Daily Log'!$BP$18:$BP$1017,$B211,'Daily Log'!$BQ$18:$BQ$1017),0)","v":0},{"$f":"IFERROR($E211*SUMIF('Daily Log'!$BS$18:$BS$1017,$B211,'Daily Log'!$BT$18:$BT$1017),0)","v":0},{"$f":"IFERROR($E211*SUMIF('Daily Log'!$BV$18:$BV$1017,$B211,'Daily Log'!$BW$18:$BW$1017),0)","v":0},{"$f":"IFERROR($E211*SUMIF('Daily Log'!$BY$18:$BY$1017,$B211,'Daily Log'!$BZ$18:$BZ$1017),0)","v":0},{"$f":"IFERROR($E211*SUMIF('Daily Log'!$CB$18:$CB$1017,$B211,'Daily Log'!$CC$18:$CC$1017),0)","v":0},{"$f":"IFERROR($E211*SUMIF('Daily Log'!$CE$18:$CE$1017,$B211,'Daily Log'!$CF$18:$CF$1017),0)","v":0},{"$f":"IFERROR($E211*SUMIF('Daily Log'!$CH$18:$CH$1017,$B211,'Daily Log'!$CI$18:$CI$1017),0)","v":0},{"$f":"IFERROR($E211*SUMIF('Daily Log'!$CK$18:$CK$1017,$B211,'Daily Log'!$CL$18:$CL$1017),0)","v":0},{"$f":"IFERROR($E211*SUMIF('Daily Log'!$CN$18:$CN$1017,$B211,'Daily Log'!$CO$18:$CO$1017),0)","v":0}]
[null,"AB10 1310:MC HP SMILE",null,null,1,0,{"$f":"IFERROR($E212*SUMIF('Daily Log'!$B$18:$B$1017,$B212,'Daily Log'!$C$18:$C$1017),0)","v":0},{"$f":"IFERROR($E212*SUMIF('Daily Log'!$E$18:$E$1017,$B212,'Daily Log'!$F$18:$F$1017),0)","v":0},{"$f":"IFERROR($E212*SUMIF('Daily Log'!$H$18:$H$1017,$B212,'Daily Log'!$I$18:$I$1017),0)","v":0},{"$f":"IFERROR($E212*SUMIF('Daily Log'!$K$18:$K$1017,$B212,'Daily Log'!$L$18:$L$1017),0)","v":0},{"$f":"IFERROR($E212*SUMIF('Daily Log'!$N$18:$N$1017,$B212,'Daily Log'!$O$18:$O$1017),0)","v":0},{"$f":"IFERROR($E212*SUMIF('Daily Log'!$Q$18:$Q$1017,$B212,'Daily Log'!$R$18:$R$1017),0)","v":0},{"$f":"IFERROR($E212*SUMIF('Daily Log'!$T$18:$T$1017,$B212,'Daily Log'!$U$18:$U$1017),0)","v":0},{"$f":"IFERROR($E212*SUMIF('Daily Log'!$W$18:$W$1017,$B212,'Daily Log'!$X$18:$X$1017),0)","v":0},{"$f":"IFERROR($E212*SUMIF('Daily Log'!$Z$18:$Z$1017,$B212,'Daily Log'!$AA$18:$AA$1017),0)","v":0},{"$f":"IFERROR($E212*SUMIF('Daily Log'!$AC$18:$AC$1017,$B212,'Daily Log'!$AD$18:$AD$1017),0)","v":0},{"$f":"IFERROR($E212*SUMIF('Daily Log'!$AF$18:$AF$1017,$B212,'Daily Log'!$AG$18:$AG$1017),0)","v":0},{"$f":"IFERROR($E212*SUMIF('Daily Log'!$AI$18:$AI$1017,$B212,'Daily Log'!$AJ$18:$AJ$1017),0)","v":0},{"$f":"IFERROR($E212*SUMIF('Daily Log'!$AL$18:$AL$1017,$B212,'Daily Log'!$AM$18:$AM$1017),0)","v":0},{"$f":"IFERROR($E212*SUMIF('Daily Log'!$AO$18:$AO$1017,$B212,'Daily Log'!$AP$18:$AP$1017),0)","v":0},{"$f":"IFERROR($E212*SUMIF('Daily Log'!$AR$18:$AR$1017,$B212,'Daily Log'!$AS$18:$AS$1017),0)","v":0},{"$f":"IFERROR($E212*SUMIF('Daily Log'!$AU$18:$AU$1017,$B212,'Daily Log'!$AV$18:$AV$1017),0)","v":0},{"$f":"IFERROR($E212*SUMIF('Daily Log'!$AX$18:$AX$1017,$B212,'Daily Log'!$AY$18:$AY$1017),0)","v":0},{"$f":"IFERROR($E212*SUMIF('Daily Log'!$BA$18:$BA$1017,$B212,'Daily Log'!$BB$18:$BB$1017),0)","v":0},{"$f":"IFERROR($E212*SUMIF('Daily Log'!$BD$18:$BD$1017,$B212,'Daily Log'!$BE$18:$BE$1017),0)","v":0},{"$f":"IFERROR($E212*SUMIF('Daily Log'!$BG$18:$BG$1017,$B212,'Daily Log'!$BH$18:$BH$1017),0)","v":0},{"$f":"IFERROR($E212*SUMIF('Daily Log'!$BJ$18:$BJ$1017,$B212,'Daily Log'!$BK$18:$BK$1017),0)","v":0},{"$f":"IFERROR($E212*SUMIF('Daily Log'!$BM$18:$BM$1017,$B212,'Daily Log'!$BN$18:$BN$1017),0)","v":0},{"$f":"IFERROR($E212*SUMIF('Daily Log'!$BP$18:$BP$1017,$B212,'Daily Log'!$BQ$18:$BQ$1017),0)","v":0},{"$f":"IFERROR($E212*SUMIF('Daily Log'!$BS$18:$BS$1017,$B212,'Daily Log'!$BT$18:$BT$1017),0)","v":0},{"$f":"IFERROR($E212*SUMIF('Daily Log'!$BV$18:$BV$1017,$B212,'Daily Log'!$BW$18:$BW$1017),0)","v":0},{"$f":"IFERROR($E212*SUMIF('Daily Log'!$BY$18:$BY$1017,$B212,'Daily Log'!$BZ$18:$BZ$1017),0)","v":0},{"$f":"IFERROR($E212*SUMIF('Daily Log'!$CB$18:$CB$1017,$B212,'Daily Log'!$CC$18:$CC$1017),0)","v":0},{"$f":"IFERROR($E212*SUMIF('Daily Log'!$CE$18:$CE$1017,$B212,'Daily Log'!$CF$18:$CF$1017),0)","v":0},{"$f":"IFERROR($E212*SUMIF('Daily Log'!$CH$18:$CH$1017,$B212,'Daily Log'!$CI$18:$CI$1017),0)","v":0},{"$f":"IFERROR($E212*SUMIF('Daily Log'!$CK$18:$CK$1017,$B212,'Daily Log'!$CL$18:$CL$1017),0)","v":0},{"$f":"IFERROR($E212*SUMIF('Daily Log'!$CN$18:$CN$1017,$B212,'Daily Log'!$CO$18:$CO$1017),0)","v":0}]
[null,"AB11 1311:MC HASH BRW",null,null,1,0,{"$f":"IFERROR($E213*SUMIF('Daily Log'!$B$18:$B$1017,$B213,'Daily Log'!$C$18:$C$1017),0)","v":0},{"$f":"IFERROR($E213*SUMIF('Daily Log'!$E$18:$E$1017,$B213,'Daily Log'!$F$18:$F$1017),0)","v":0},{"$f":"IFERROR($E213*SUMIF('Daily Log'!$H$18:$H$1017,$B213,'Daily Log'!$I$18:$I$1017),0)","v":0},{"$f":"IFERROR($E213*SUMIF('Daily Log'!$K$18:$K$1017,$B213,'Daily Log'!$L$18:$L$1017),0)","v":0},{"$f":"IFERROR($E213*SUMIF('Daily Log'!$N$18:$N$1017,$B213,'Daily Log'!$O$18:$O$1017),0)","v":0},{"$f":"IFERROR($E213*SUMIF('Daily Log'!$Q$18:$Q$1017,$B213,'Daily Log'!$R$18:$R$1017),0)","v":0},{"$f":"IFERROR($E213*SUMIF('Daily Log'!$T$18:$T$1017,$B213,'Daily Log'!$U$18:$U$1017),0)","v":0},{"$f":"IFERROR($E213*SUMIF('Daily Log'!$W$18:$W$1017,$B213,'Daily Log'!$X$18:$X$1017),0)","v":0},{"$f":"IFERROR($E213*SUMIF('Daily Log'!$Z$18:$Z$1017,$B213,'Daily Log'!$AA$18:$AA$1017),0)","v":0},{"$f":"IFERROR($E213*SUMIF('Daily Log'!$AC$18:$AC$1017,$B213,'Daily Log'!$AD$18:$AD$1017),0)","v":0},{"$f":"IFERROR($E213*SUMIF('Daily Log'!$AF$18:$AF$1017,$B213,'Daily Log'!$AG$18:$AG$1017),0)","v":0},{"$f":"IFERROR($E213*SUMIF('Daily Log'!$AI$18:$AI$1017,$B213,'Daily Log'!$AJ$18:$AJ$1017),0)","v":0},{"$f":"IFERROR($E213*SUMIF('Daily Log'!$AL$18:$AL$1017,$B213,'Daily Log'!$AM$18:$AM$1017),0)","v":0},{"$f":"IFERROR($E213*SUMIF('Daily Log'!$AO$18:$AO$1017,$B213,'Daily Log'!$AP$18:$AP$1017),0)","v":0},{"$f":"IFERROR($E213*SUMIF('Daily Log'!$AR$18:$AR$1017,$B213,'Daily Log'!$AS$18:$AS$1017),0)","v":0},{"$f":"IFERROR($E213*SUMIF('Daily Log'!$AU$18:$AU$1017,$B213,'Daily Log'!$AV$18:$AV$1017),0)","v":0},{"$f":"IFERROR($E213*SUMIF('Daily Log'!$AX$18:$AX$1017,$B213,'Daily Log'!$AY$18:$AY$1017),0)","v":0},{"$f":"IFERROR($E213*SUMIF('Daily Log'!$BA$18:$BA$1017,$B213,'Daily Log'!$BB$18:$BB$1017),0)","v":0},{"$f":"IFERROR($E213*SUMIF('Daily Log'!$BD$18:$BD$1017,$B213,'Daily Log'!$BE$18:$BE$1017),0)","v":0},{"$f":"IFERROR($E213*SUMIF('Daily Log'!$BG$18:$BG$1017,$B213,'Daily Log'!$BH$18:$BH$1017),0)","v":0},{"$f":"IFERROR($E213*SUMIF('Daily Log'!$BJ$18:$BJ$1017,$B213,'Daily Log'!$BK$18:$BK$1017),0)","v":0},{"$f":"IFERROR($E213*SUMIF('Daily Log'!$BM$18:$BM$1017,$B213,'Daily Log'!$BN$18:$BN$1017),0)","v":0},{"$f":"IFERROR($E213*SUMIF('Daily Log'!$BP$18:$BP$1017,$B213,'Daily Log'!$BQ$18:$BQ$1017),0)","v":0},{"$f":"IFERROR($E213*SUMIF('Daily Log'!$BS$18:$BS$1017,$B213,'Daily Log'!$BT$18:$BT$1017),0)","v":0},{"$f":"IFERROR($E213*SUMIF('Daily Log'!$BV$18:$BV$1017,$B213,'Daily Log'!$BW$18:$BW$1017),0)","v":0},{"$f":"IFERROR($E213*SUMIF('Daily Log'!$BY$18:$BY$1017,$B213,'Daily Log'!$BZ$18:$BZ$1017),0)","v":0},{"$f":"IFERROR($E213*SUMIF('Daily Log'!$CB$18:$CB$1017,$B213,'Daily Log'!$CC$18:$CC$1017),0)","v":0},{"$f":"IFERROR($E213*SUMIF('Daily Log'!$CE$18:$CE$1017,$B213,'Daily Log'!$CF$18:$CF$1017),0)","v":0},{"$f":"IFERROR($E213*SUMIF('Daily Log'!$CH$18:$CH$1017,$B213,'Daily Log'!$CI$18:$CI$1017),0)","v":0},{"$f":"IFERROR($E213*SUMIF('Daily Log'!$CK$18:$CK$1017,$B213,'Daily Log'!$CL$18:$CL$1017),0)","v":0},{"$f":"IFERROR($E213*SUMIF('Daily Log'!$CN$18:$CN$1017,$B213,'Daily Log'!$CO$18:$CO$1017),0)","v":0}]
[null,"ZAA02 1202:FREN FRIES",null,null,1,109,{"$f":"IFERROR($E214*SUMIF('Daily Log'!$B$18:$B$1017,$B214,'Daily Log'!$C$18:$C$1017),0)","v":0},{"$f":"IFERROR($E214*SUMIF('Daily Log'!$E$18:$E$1017,$B214,'Daily Log'!$F$18:$F$1017),0)","v":0},{"$f":"IFERROR($E214*SUMIF('Daily Log'!$H$18:$H$1017,$B214,'Daily Log'!$I$18:$I$1017),0)","v":0},{"$f":"IFERROR($E214*SUMIF('Daily Log'!$K$18:$K$1017,$B214,'Daily Log'!$L$18:$L$1017),0)","v":0},{"$f":"IFERROR($E214*SUMIF('Daily Log'!$N$18:$N$1017,$B214,'Daily Log'!$O$18:$O$1017),0)","v":0},{"$f":"IFERROR($E214*SUMIF('Daily Log'!$Q$18:$Q$1017,$B214,'Daily Log'!$R$18:$R$1017),0)","v":0},{"$f":"IFERROR($E214*SUMIF('Daily Log'!$T$18:$T$1017,$B214,'Daily Log'!$U$18:$U$1017),0)","v":0},{"$f":"IFERROR($E214*SUMIF('Daily Log'!$W$18:$W$1017,$B214,'Daily Log'!$X$18:$X$1017),0)","v":0},{"$f":"IFERROR($E214*SUMIF('Daily Log'!$Z$18:$Z$1017,$B214,'Daily Log'!$AA$18:$AA$1017),0)","v":0},{"$f":"IFERROR($E214*SUMIF('Daily Log'!$AC$18:$AC$1017,$B214,'Daily Log'!$AD$18:$AD$1017),0)","v":0},{"$f":"IFERROR($E214*SUMIF('Daily Log'!$AF$18:$AF$1017,$B214,'Daily Log'!$AG$18:$AG$1017),0)","v":0},{"$f":"IFERROR($E214*SUMIF('Daily Log'!$AI$18:$AI$1017,$B214,'Daily Log'!$AJ$18:$AJ$1017),0)","v":0},{"$f":"IFERROR($E214*SUMIF('Daily Log'!$AL$18:$AL$1017,$B214,'Daily Log'!$AM$18:$AM$1017),0)","v":0},{"$f":"IFERROR($E214*SUMIF('Daily Log'!$AO$18:$AO$1017,$B214,'Daily Log'!$AP$18:$AP$1017),0)","v":0},{"$f":"IFERROR($E214*SUMIF('Daily Log'!$AR$18:$AR$1017,$B214,'Daily Log'!$AS$18:$AS$1017),0)","v":0},{"$f":"IFERROR($E214*SUMIF('Daily Log'!$AU$18:$AU$1017,$B214,'Daily Log'!$AV$18:$AV$1017),0)","v":0},{"$f":"IFERROR($E214*SUMIF('Daily Log'!$AX$18:$AX$1017,$B214,'Daily Log'!$AY$18:$AY$1017),0)","v":0},{"$f":"IFERROR($E214*SUMIF('Daily Log'!$BA$18:$BA$1017,$B214,'Daily Log'!$BB$18:$BB$1017),0)","v":0},{"$f":"IFERROR($E214*SUMIF('Daily Log'!$BD$18:$BD$1017,$B214,'Daily Log'!$BE$18:$BE$1017),0)","v":0},{"$f":"IFERROR($E214*SUMIF('Daily Log'!$BG$18:$BG$1017,$B214,'Daily Log'!$BH$18:$BH$1017),0)","v":0},{"$f":"IFERROR($E214*SUMIF('Daily Log'!$BJ$18:$BJ$1017,$B214,'Daily Log'!$BK$18:$BK$1017),0)","v":0},{"$f":"IFERROR($E214*SUMIF('Daily Log'!$BM$18:$BM$1017,$B214,'Daily Log'!$BN$18:$BN$1017),0)","v":0},{"$f":"IFERROR($E214*SUMIF('Daily Log'!$BP$18:$BP$1017,$B214,'Daily Log'!$BQ$18:$BQ$1017),0)","v":0},{"$f":"IFERROR($E214*SUMIF('Daily Log'!$BS$18:$BS$1017,$B214,'Daily Log'!$BT$18:$BT$1017),0)","v":0},{"$f":"IFERROR($E214*SUMIF('Daily Log'!$BV$18:$BV$1017,$B214,'Daily Log'!$BW$18:$BW$1017),0)","v":0},{"$f":"IFERROR($E214*SUMIF('Daily Log'!$BY$18:$BY$1017,$B214,'Daily Log'!$BZ$18:$BZ$1017),0)","v":0},{"$f":"IFERROR($E214*SUMIF('Daily Log'!$CB$18:$CB$1017,$B214,'Daily Log'!$CC$18:$CC$1017),0)","v":0},{"$f":"IFERROR($E214*SUMIF('Daily Log'!$CE$18:$CE$1017,$B214,'Daily Log'!$CF$18:$CF$1017),0)","v":0},{"$f":"IFERROR($E214*SUMIF('Daily Log'!$CH$18:$CH$1017,$B214,'Daily Log'!$CI$18:$CI$1017),0)","v":0},{"$f":"IFERROR($E214*SUMIF('Daily Log'!$CK$18:$CK$1017,$B214,'Daily Log'!$CL$18:$CL$1017),0)","v":109},{"$f":"IFERROR($E214*SUMIF('Daily Log'!$CN$18:$CN$1017,$B214,'Daily Log'!$CO$18:$CO$1017),0)","v":0}]
[null,"ZAA04 1204:FSHBALL",null,null,1,39,{"$f":"IFERROR($E215*SUMIF('Daily Log'!$B$18:$B$1017,$B215,'Daily Log'!$C$18:$C$1017),0)","v":0},{"$f":"IFERROR($E215*SUMIF('Daily Log'!$E$18:$E$1017,$B215,'Daily Log'!$F$18:$F$1017),0)","v":0},{"$f":"IFERROR($E215*SUMIF('Daily Log'!$H$18:$H$1017,$B215,'Daily Log'!$I$18:$I$1017),0)","v":0},{"$f":"IFERROR($E215*SUMIF('Daily Log'!$K$18:$K$1017,$B215,'Daily Log'!$L$18:$L$1017),0)","v":0},{"$f":"IFERROR($E215*SUMIF('Daily Log'!$N$18:$N$1017,$B215,'Daily Log'!$O$18:$O$1017),0)","v":0},{"$f":"IFERROR($E215*SUMIF('Daily Log'!$Q$18:$Q$1017,$B215,'Daily Log'!$R$18:$R$1017),0)","v":0},{"$f":"IFERROR($E215*SUMIF('Daily Log'!$T$18:$T$1017,$B215,'Daily Log'!$U$18:$U$1017),0)","v":0},{"$f":"IFERROR($E215*SUMIF('Daily Log'!$W$18:$W$1017,$B215,'Daily Log'!$X$18:$X$1017),0)","v":0},{"$f":"IFERROR($E215*SUMIF('Daily Log'!$Z$18:$Z$1017,$B215,'Daily Log'!$AA$18:$AA$1017),0)","v":0},{"$f":"IFERROR($E215*SUMIF('Daily Log'!$AC$18:$AC$1017,$B215,'Daily Log'!$AD$18:$AD$1017),0)","v":0},{"$f":"IFERROR($E215*SUMIF('Daily Log'!$AF$18:$AF$1017,$B215,'Daily Log'!$AG$18:$AG$1017),0)","v":0},{"$f":"IFERROR($E215*SUMIF('Daily Log'!$AI$18:$AI$1017,$B215,'Daily Log'!$AJ$18:$AJ$1017),0)","v":0},{"$f":"IFERROR($E215*SUMIF('Daily Log'!$AL$18:$AL$1017,$B215,'Daily Log'!$AM$18:$AM$1017),0)","v":0},{"$f":"IFERROR($E215*SUMIF('Daily Log'!$AO$18:$AO$1017,$B215,'Daily Log'!$AP$18:$AP$1017),0)","v":0},{"$f":"IFERROR($E215*SUMIF('Daily Log'!$AR$18:$AR$1017,$B215,'Daily Log'!$AS$18:$AS$1017),0)","v":0},{"$f":"IFERROR($E215*SUMIF('Daily Log'!$AU$18:$AU$1017,$B215,'Daily Log'!$AV$18:$AV$1017),0)","v":0},{"$f":"IFERROR($E215*SUMIF('Daily Log'!$AX$18:$AX$1017,$B215,'Daily Log'!$AY$18:$AY$1017),0)","v":0},{"$f":"IFERROR($E215*SUMIF('Daily Log'!$BA$18:$BA$1017,$B215,'Daily Log'!$BB$18:$BB$1017),0)","v":0},{"$f":"IFERROR($E215*SUMIF('Daily Log'!$BD$18:$BD$1017,$B215,'Daily Log'!$BE$18:$BE$1017),0)","v":0},{"$f":"IFERROR($E215*SUMIF('Daily Log'!$BG$18:$BG$1017,$B215,'Daily Log'!$BH$18:$BH$1017),0)","v":0},{"$f":"IFERROR($E215*SUMIF('Daily Log'!$BJ$18:$BJ$1017,$B215,'Daily Log'!$BK$18:$BK$1017),0)","v":0},{"$f":"IFERROR($E215*SUMIF('Daily Log'!$BM$18:$BM$1017,$B215,'Daily Log'!$BN$18:$BN$1017),0)","v":0},{"$f":"IFERROR($E215*SUMIF('Daily Log'!$BP$18:$BP$1017,$B215,'Daily Log'!$BQ$18:$BQ$1017),0)","v":0},{"$f":"IFERROR($E215*SUMIF('Daily Log'!$BS$18:$BS$1017,$B215,'Daily Log'!$BT$18:$BT$1017),0)","v":0},{"$f":"IFERROR($E215*SUMIF('Daily Log'!$BV$18:$BV$1017,$B215,'Daily Log'!$BW$18:$BW$1017),0)","v":0},{"$f":"IFERROR($E215*SUMIF('Daily Log'!$BY$18:$BY$1017,$B215,'Daily Log'!$BZ$18:$BZ$1017),0)","v":0},{"$f":"IFERROR($E215*SUMIF('Daily Log'!$CB$18:$CB$1017,$B215,'Daily Log'!$CC$18:$CC$1017),0)","v":0},{"$f":"IFERROR($E215*SUMIF('Daily Log'!$CE$18:$CE$1017,$B215,'Daily Log'!$CF$18:$CF$1017),0)","v":0},{"$f":"IFERROR($E215*SUMIF('Daily Log'!$CH$18:$CH$1017,$B215,'Daily Log'!$CI$18:$CI$1017),0)","v":0},{"$f":"IFERROR($E215*SUMIF('Daily Log'!$CK$18:$CK$1017,$B215,'Daily Log'!$CL$18:$CL$1017),0)","v":39},{"$f":"IFERROR($E215*SUMIF('Daily Log'!$CN$18:$CN$1017,$B215,'Daily Log'!$CO$18:$CO$1017),0)","v":0}]
[null,"ZAA04 1204:FSHBALL",null,null,1,{"$f":"SUM($G216:$AK216)","v":39},{"$f":"IFERROR($E216*SUMIF('Daily Log'!$B$18:$B$1017,$B216,'Daily Log'!$C$18:$C$1017),0)","v":0},{"$f":"IFERROR($E216*SUMIF('Daily Log'!$E$18:$E$1017,$B216,'Daily Log'!$F$18:$F$1017),0)","v":0},{"$f":"IFERROR($E216*SUMIF('Daily Log'!$H$18:$H$1017,$B216,'Daily Log'!$I$18:$I$1017),0)","v":0},{"$f":"IFERROR($E216*SUMIF('Daily Log'!$K$18:$K$1017,$B216,'Daily Log'!$L$18:$L$1017),0)","v":0},{"$f":"IFERROR($E216*SUMIF('Daily Log'!$N$18:$N$1017,$B216,'Daily Log'!$O$18:$O$1017),0)","v":0},{"$f":"IFERROR($E216*SUMIF('Daily Log'!$Q$18:$Q$1017,$B216,'Daily Log'!$R$18:$R$1017),0)","v":0},{"$f":"IFERROR($E216*SUMIF('Daily Log'!$T$18:$T$1017,$B216,'Daily Log'!$U$18:$U$1017),0)","v":0},{"$f":"IFERROR($E216*SUMIF('Daily Log'!$W$18:$W$1017,$B216,'Daily Log'!$X$18:$X$1017),0)","v":0},{"$f":"IFERROR($E216*SUMIF('Daily Log'!$Z$18:$Z$1017,$B216,'Daily Log'!$AA$18:$AA$1017),0)","v":0},{"$f":"IFERROR($E216*SUMIF('Daily Log'!$AC$18:$AC$1017,$B216,'Daily Log'!$AD$18:$AD$1017),0)","v":0},{"$f":"IFERROR($E216*SUMIF('Daily Log'!$AF$18:$AF$1017,$B216,'Daily Log'!$AG$18:$AG$1017),0)","v":0},{"$f":"IFERROR($E216*SUMIF('Daily Log'!$AI$18:$AI$1017,$B216,'Daily Log'!$AJ$18:$AJ$1017),0)","v":0},{"$f":"IFERROR($E216*SUMIF('Daily Log'!$AL$18:$AL$1017,$B216,'Daily Log'!$AM$18:$AM$1017),0)","v":0},{"$f":"IFERROR($E216*SUMIF('Daily Log'!$AO$18:$AO$1017,$B216,'Daily Log'!$AP$18:$AP$1017),0)","v":0},{"$f":"IFERROR($E216*SUMIF('Daily Log'!$AR$18:$AR$1017,$B216,'Daily Log'!$AS$18:$AS$1017),0)","v":0},{"$f":"IFERROR($E216*SUMIF('Daily Log'!$AU$18:$AU$1017,$B216,'Daily Log'!$AV$18:$AV$1017),0)","v":0},{"$f":"IFERROR($E216*SUMIF('Daily Log'!$AX$18:$AX$1017,$B216,'Daily Log'!$AY$18:$AY$1017),0)","v":0},{"$f":"IFERROR($E216*SUMIF('Daily Log'!$BA$18:$BA$1017,$B216,'Daily Log'!$BB$18:$BB$1017),0)","v":0},{"$f":"IFERROR($E216*SUMIF('Daily Log'!$BD$18:$BD$1017,$B216,'Daily Log'!$BE$18:$BE$1017),0)","v":0},{"$f":"IFERROR($E216*SUMIF('Daily Log'!$BG$18:$BG$1017,$B216,'Daily Log'!$BH$18:$BH$1017),0)","v":0},{"$f":"IFERROR($E216*SUMIF('Daily Log'!$BJ$18:$BJ$1017,$B216,'Daily Log'!$BK$18:$BK$1017),0)","v":0},{"$f":"IFERROR($E216*SUMIF('Daily Log'!$BM$18:$BM$1017,$B216,'Daily Log'!$BN$18:$BN$1017),0)","v":0},{"$f":"IFERROR($E216*SUMIF('Daily Log'!$BP$18:$BP$1017,$B216,'Daily Log'!$BQ$18:$BQ$1017),0)","v":0},{"$f":"IFERROR($E216*SUMIF('Daily Log'!$BS$18:$BS$1017,$B216,'Daily Log'!$BT$18:$BT$1017),0)","v":0},{"$f":"IFERROR($E216*SUMIF('Daily Log'!$BV$18:$BV$1017,$B216,'Daily Log'!$BW$18:$BW$1017),0)","v":0},{"$f":"IFERROR($E216*SUMIF('Daily Log'!$BY$18:$BY$1017,$B216,'Daily Log'!$BZ$18:$BZ$1017),0)","v":0},{"$f":"IFERROR($E216*SUMIF('Daily Log'!$CB$18:$CB$1017,$B216,'Daily Log'!$CC$18:$CC$1017),0)","v":0},{"$f":"IFERROR($E216*SUMIF('Daily Log'!$CE$18:$CE$1017,$B216,'Daily Log'!$CF$18:$CF$1017),0)","v":0},{"$f":"IFERROR($E216*SUMIF('Daily Log'!$CH$18:$CH$1017,$B216,'Daily Log'!$CI$18:$CI$1017),0)","v":0},{"$f":"IFERROR($E216*SUMIF('Daily Log'!$CK$18:$CK$1017,$B216,'Daily Log'!$CL$18:$CL$1017),0)","v":39},{"$f":"IFERROR($E216*SUMIF('Daily Log'!$CN$18:$CN$1017,$B216,'Daily Log'!$CO$18:$CO$1017),0)","v":0}]
[null,"ZAA06 1206:SPRING RL",null,null,1,11,{"$f":"IFERROR($E217*SUMIF('Daily Log'!$B$18:$B$1017,$B217,'Daily Log'!$C$18:$C$1017),0)","v":0},{"$f":"IFERROR($E217*SUMIF('Daily Log'!$E$18:$E$1017,$B217,'Daily Log'!$F$18:$F$1017),0)","v":0},{"$f":"IFERROR($E217*SUMIF('Daily Log'!$H$18:$H$1017,$B217,'Daily Log'!$I$18:$I$1017),0)","v":0},{"$f":"IFERROR($E217*SUMIF('Daily Log'!$K$18:$K$1017,$B217,'Daily Log'!$L$18:$L$1017),0)","v":0},{"$f":"IFERROR($E217*SUMIF('Daily Log'!$N$18:$N$1017,$B217,'Daily Log'!$O$18:$O$1017),0)","v":0},{"$f":"IFERROR($E217*SUMIF('Daily Log'!$Q$18:$Q$1017,$B217,'Daily Log'!$R$18:$R$1017),0)","v":0},{"$f":"IFERROR($E217*SUMIF('Daily Log'!$T$18:$T$1017,$B217,'Daily Log'!$U$18:$U$1017),0)","v":0},{"$f":"IFERROR($E217*SUMIF('Daily Log'!$W$18:$W$1017,$B217,'Daily Log'!$X$18:$X$1017),0)","v":0},{"$f":"IFERROR($E217*SUMIF('Daily Log'!$Z$18:$Z$1017,$B217,'Daily Log'!$AA$18:$AA$1017),0)","v":0},{"$f":"IFERROR($E217*SUMIF('Daily Log'!$AC$18:$AC$1017,$B217,'Daily Log'!$AD$18:$AD$1017),0)","v":0},{"$f":"IFERROR($E217*SUMIF('Daily Log'!$AF$18:$AF$1017,$B217,'Daily Log'!$AG$18:$AG$1017),0)","v":0},{"$f":"IFERROR($E217*SUMIF('Daily Log'!$AI$18:$AI$1017,$B217,'Daily Log'!$AJ$18:$AJ$1017),0)","v":0},{"$f":"IFERROR($E217*SUMIF('Daily Log'!$AL$18:$AL$1017,$B217,'Daily Log'!$AM$18:$AM$1017),0)","v":0},{"$f":"IFERROR($E217*SUMIF('Daily Log'!$AO$18:$AO$1017,$B217,'Daily Log'!$AP$18:$AP$1017),0)","v":0},{"$f":"IFERROR($E217*SUMIF('Daily Log'!$AR$18:$AR$1017,$B217,'Daily Log'!$AS$18:$AS$1017),0)","v":0},{"$f":"IFERROR($E217*SUMIF('Daily Log'!$AU$18:$AU$1017,$B217,'Daily Log'!$AV$18:$AV$1017),0)","v":0},{"$f":"IFERROR($E217*SUMIF('Daily Log'!$AX$18:$AX$1017,$B217,'Daily Log'!$AY$18:$AY$1017),0)","v":0},{"$f":"IFERROR($E217*SUMIF('Daily Log'!$BA$18:$BA$1017,$B217,'Daily Log'!$BB$18:$BB$1017),0)","v":0},{"$f":"IFERROR($E217*SUMIF('Daily Log'!$BD$18:$BD$1017,$B217,'Daily Log'!$BE$18:$BE$1017),0)","v":0},{"$f":"IFERROR($E217*SUMIF('Daily Log'!$BG$18:$BG$1017,$B217,'Daily Log'!$BH$18:$BH$1017),0)","v":0},{"$f":"IFERROR($E217*SUMIF('Daily Log'!$BJ$18:$BJ$1017,$B217,'Daily Log'!$BK$18:$BK$1017),0)","v":0},{"$f":"IFERROR($E217*SUMIF('Daily Log'!$BM$18:$BM$1017,$B217,'Daily Log'!$BN$18:$BN$1017),0)","v":0},{"$f":"IFERROR($E217*SUMIF('Daily Log'!$BP$18:$BP$1017,$B217,'Daily Log'!$BQ$18:$BQ$1017),0)","v":0},{"$f":"IFERROR($E217*SUMIF('Daily Log'!$BS$18:$BS$1017,$B217,'Daily Log'!$BT$18:$BT$1017),0)","v":0},{"$f":"IFERROR($E217*SUMIF('Daily Log'!$BV$18:$BV$1017,$B217,'Daily Log'!$BW$18:$BW$1017),0)","v":0},{"$f":"IFERROR($E217*SUMIF('Daily Log'!$BY$18:$BY$1017,$B217,'Daily Log'!$BZ$18:$BZ$1017),0)","v":0},{"$f":"IFERROR($E217*SUMIF('Daily Log'!$CB$18:$CB$1017,$B217,'Daily Log'!$CC$18:$CC$1017),0)","v":0},{"$f":"IFERROR($E217*SUMIF('Daily Log'!$CE$18:$CE$1017,$B217,'Daily Log'!$CF$18:$CF$1017),0)","v":0},{"$f":"IFERROR($E217*SUMIF('Daily Log'!$CH$18:$CH$1017,$B217,'Daily Log'!$CI$18:$CI$1017),0)","v":0},{"$f":"IFERROR($E217*SUMIF('Daily Log'!$CK$18:$CK$1017,$B217,'Daily Log'!$CL$18:$CL$1017),0)","v":11},{"$f":"IFERROR($E217*SUMIF('Daily Log'!$CN$18:$CN$1017,$B217,'Daily Log'!$CO$18:$CO$1017),0)","v":0}]
[null,"ZAA07 1207:SAUSG",null,null,1,31,{"$f":"IFERROR($E218*SUMIF('Daily Log'!$B$18:$B$1017,$B218,'Daily Log'!$C$18:$C$1017),0)","v":0},{"$f":"IFERROR($E218*SUMIF('Daily Log'!$E$18:$E$1017,$B218,'Daily Log'!$F$18:$F$1017),0)","v":0},{"$f":"IFERROR($E218*SUMIF('Daily Log'!$H$18:$H$1017,$B218,'Daily Log'!$I$18:$I$1017),0)","v":0},{"$f":"IFERROR($E218*SUMIF('Daily Log'!$K$18:$K$1017,$B218,'Daily Log'!$L$18:$L$1017),0)","v":0},{"$f":"IFERROR($E218*SUMIF('Daily Log'!$N$18:$N$1017,$B218,'Daily Log'!$O$18:$O$1017),0)","v":0},{"$f":"IFERROR($E218*SUMIF('Daily Log'!$Q$18:$Q$1017,$B218,'Daily Log'!$R$18:$R$1017),0)","v":0},{"$f":"IFERROR($E218*SUMIF('Daily Log'!$T$18:$T$1017,$B218,'Daily Log'!$U$18:$U$1017),0)","v":0},{"$f":"IFERROR($E218*SUMIF('Daily Log'!$W$18:$W$1017,$B218,'Daily Log'!$X$18:$X$1017),0)","v":0},{"$f":"IFERROR($E218*SUMIF('Daily Log'!$Z$18:$Z$1017,$B218,'Daily Log'!$AA$18:$AA$1017),0)","v":0},{"$f":"IFERROR($E218*SUMIF('Daily Log'!$AC$18:$AC$1017,$B218,'Daily Log'!$AD$18:$AD$1017),0)","v":0},{"$f":"IFERROR($E218*SUMIF('Daily Log'!$AF$18:$AF$1017,$B218,'Daily Log'!$AG$18:$AG$1017),0)","v":0},{"$f":"IFERROR($E218*SUMIF('Daily Log'!$AI$18:$AI$1017,$B218,'Daily Log'!$AJ$18:$AJ$1017),0)","v":0},{"$f":"IFERROR($E218*SUMIF('Daily Log'!$AL$18:$AL$1017,$B218,'Daily Log'!$AM$18:$AM$1017),0)","v":0},{"$f":"IFERROR($E218*SUMIF('Daily Log'!$AO$18:$AO$1017,$B218,'Daily Log'!$AP$18:$AP$1017),0)","v":0},{"$f":"IFERROR($E218*SUMIF('Daily Log'!$AR$18:$AR$1017,$B218,'Daily Log'!$AS$18:$AS$1017),0)","v":0},{"$f":"IFERROR($E218*SUMIF('Daily Log'!$AU$18:$AU$1017,$B218,'Daily Log'!$AV$18:$AV$1017),0)","v":0},{"$f":"IFERROR($E218*SUMIF('Daily Log'!$AX$18:$AX$1017,$B218,'Daily Log'!$AY$18:$AY$1017),0)","v":0},{"$f":"IFERROR($E218*SUMIF('Daily Log'!$BA$18:$BA$1017,$B218,'Daily Log'!$BB$18:$BB$1017),0)","v":0},{"$f":"IFERROR($E218*SUMIF('Daily Log'!$BD$18:$BD$1017,$B218,'Daily Log'!$BE$18:$BE$1017),0)","v":0},{"$f":"IFERROR($E218*SUMIF('Daily Log'!$BG$18:$BG$1017,$B218,'Daily Log'!$BH$18:$BH$1017),0)","v":0},{"$f":"IFERROR($E218*SUMIF('Daily Log'!$BJ$18:$BJ$1017,$B218,'Daily Log'!$BK$18:$BK$1017),0)","v":0},{"$f":"IFERROR($E218*SUMIF('Daily Log'!$BM$18:$BM$1017,$B218,'Daily Log'!$BN$18:$BN$1017),0)","v":0},{"$f":"IFERROR($E218*SUMIF('Daily Log'!$BP$18:$BP$1017,$B218,'Daily Log'!$BQ$18:$BQ$1017),0)","v":0},{"$f":"IFERROR($E218*SUMIF('Daily Log'!$BS$18:$BS$1017,$B218,'Daily Log'!$BT$18:$BT$1017),0)","v":0},{"$f":"IFERROR($E218*SUMIF('Daily Log'!$BV$18:$BV$1017,$B218,'Daily Log'!$BW$18:$BW$1017),0)","v":0},{"$f":"IFERROR($E218*SUMIF('Daily Log'!$BY$18:$BY$1017,$B218,'Daily Log'!$BZ$18:$BZ$1017),0)","v":0},{"$f":"IFERROR($E218*SUMIF('Daily Log'!$CB$18:$CB$1017,$B218,'Daily Log'!$CC$18:$CC$1017),0)","v":0},{"$f":"IFERROR($E218*SUMIF('Daily Log'!$CE$18:$CE$1017,$B218,'Daily Log'!$CF$18:$CF$1017),0)","v":0},{"$f":"IFERROR($E218*SUMIF('Daily Log'!$CH$18:$CH$1017,$B218,'Daily Log'!$CI$18:$CI$1017),0)","v":0},{"$f":"IFERROR($E218*SUMIF('Daily Log'!$CK$18:$CK$1017,$B218,'Daily Log'!$CL$18:$CL$1017),0)","v":31},{"$f":"IFERROR($E218*SUMIF('Daily Log'!$CN$18:$CN$1017,$B218,'Daily Log'!$CO$18:$CO$1017),0)","v":0}]
[null,"ZAA08 1208:HOTDOG BUN",null,null,1,0,{"$f":"IFERROR($E219*SUMIF('Daily Log'!$B$18:$B$1017,$B219,'Daily Log'!$C$18:$C$1017),0)","v":0},{"$f":"IFERROR($E219*SUMIF('Daily Log'!$E$18:$E$1017,$B219,'Daily Log'!$F$18:$F$1017),0)","v":0},{"$f":"IFERROR($E219*SUMIF('Daily Log'!$H$18:$H$1017,$B219,'Daily Log'!$I$18:$I$1017),0)","v":0},{"$f":"IFERROR($E219*SUMIF('Daily Log'!$K$18:$K$1017,$B219,'Daily Log'!$L$18:$L$1017),0)","v":0},{"$f":"IFERROR($E219*SUMIF('Daily Log'!$N$18:$N$1017,$B219,'Daily Log'!$O$18:$O$1017),0)","v":0},{"$f":"IFERROR($E219*SUMIF('Daily Log'!$Q$18:$Q$1017,$B219,'Daily Log'!$R$18:$R$1017),0)","v":0},{"$f":"IFERROR($E219*SUMIF('Daily Log'!$T$18:$T$1017,$B219,'Daily Log'!$U$18:$U$1017),0)","v":0},{"$f":"IFERROR($E219*SUMIF('Daily Log'!$W$18:$W$1017,$B219,'Daily Log'!$X$18:$X$1017),0)","v":0},{"$f":"IFERROR($E219*SUMIF('Daily Log'!$Z$18:$Z$1017,$B219,'Daily Log'!$AA$18:$AA$1017),0)","v":0},{"$f":"IFERROR($E219*SUMIF('Daily Log'!$AC$18:$AC$1017,$B219,'Daily Log'!$AD$18:$AD$1017),0)","v":0},{"$f":"IFERROR($E219*SUMIF('Daily Log'!$AF$18:$AF$1017,$B219,'Daily Log'!$AG$18:$AG$1017),0)","v":0},{"$f":"IFERROR($E219*SUMIF('Daily Log'!$AI$18:$AI$1017,$B219,'Daily Log'!$AJ$18:$AJ$1017),0)","v":0},{"$f":"IFERROR($E219*SUMIF('Daily Log'!$AL$18:$AL$1017,$B219,'Daily Log'!$AM$18:$AM$1017),0)","v":0},{"$f":"IFERROR($E219*SUMIF('Daily Log'!$AO$18:$AO$1017,$B219,'Daily Log'!$AP$18:$AP$1017),0)","v":0},{"$f":"IFERROR($E219*SUMIF('Daily Log'!$AR$18:$AR$1017,$B219,'Daily Log'!$AS$18:$AS$1017),0)","v":0},{"$f":"IFERROR($E219*SUMIF('Daily Log'!$AU$18:$AU$1017,$B219,'Daily Log'!$AV$18:$AV$1017),0)","v":0},{"$f":"IFERROR($E219*SUMIF('Daily Log'!$AX$18:$AX$1017,$B219,'Daily Log'!$AY$18:$AY$1017),0)","v":0},{"$f":"IFERROR($E219*SUMIF('Daily Log'!$BA$18:$BA$1017,$B219,'Daily Log'!$BB$18:$BB$1017),0)","v":0},{"$f":"IFERROR($E219*SUMIF('Daily Log'!$BD$18:$BD$1017,$B219,'Daily Log'!$BE$18:$BE$1017),0)","v":0},{"$f":"IFERROR($E219*SUMIF('Daily Log'!$BG$18:$BG$1017,$B219,'Daily Log'!$BH$18:$BH$1017),0)","v":0},{"$f":"IFERROR($E219*SUMIF('Daily Log'!$BJ$18:$BJ$1017,$B219,'Daily Log'!$BK$18:$BK$1017),0)","v":0},{"$f":"IFERROR($E219*SUMIF('Daily Log'!$BM$18:$BM$1017,$B219,'Daily Log'!$BN$18:$BN$1017),0)","v":0},{"$f":"IFERROR($E219*SUMIF('Daily Log'!$BP$18:$BP$1017,$B219,'Daily Log'!$BQ$18:$BQ$1017),0)","v":0},{"$f":"IFERROR($E219*SUMIF('Daily Log'!$BS$18:$BS$1017,$B219,'Daily Log'!$BT$18:$BT$1017),0)","v":0},{"$f":"IFERROR($E219*SUMIF('Daily Log'!$BV$18:$BV$1017,$B219,'Daily Log'!$BW$18:$BW$1017),0)","v":0},{"$f":"IFERROR($E219*SUMIF('Daily Log'!$BY$18:$BY$1017,$B219,'Daily Log'!$BZ$18:$BZ$1017),0)","v":0},{"$f":"IFERROR($E219*SUMIF('Daily Log'!$CB$18:$CB$1017,$B219,'Daily Log'!$CC$18:$CC$1017),0)","v":0},{"$f":"IFERROR($E219*SUMIF('Daily Log'!$CE$18:$CE$1017,$B219,'Daily Log'!$CF$18:$CF$1017),0)","v":0},{"$f":"IFERROR($E219*SUMIF('Daily Log'!$CH$18:$CH$1017,$B219,'Daily Log'!$CI$18:$CI$1017),0)","v":0},{"$f":"IFERROR($E219*SUMIF('Daily Log'!$CK$18:$CK$1017,$B219,'Daily Log'!$CL$18:$CL$1017),0)","v":0},{"$f":"IFERROR($E219*SUMIF('Daily Log'!$CN$18:$CN$1017,$B219,'Daily Log'!$CO$18:$CO$1017),0)","v":0}]
[null,"ZAA09 1209:SF TF",null,null,1,59,{"$f":"IFERROR($E220*SUMIF('Daily Log'!$B$18:$B$1017,$B220,'Daily Log'!$C$18:$C$1017),0)","v":0},{"$f":"IFERROR($E220*SUMIF('Daily Log'!$E$18:$E$1017,$B220,'Daily Log'!$F$18:$F$1017),0)","v":0},{"$f":"IFERROR($E220*SUMIF('Daily Log'!$H$18:$H$1017,$B220,'Daily Log'!$I$18:$I$1017),0)","v":0},{"$f":"IFERROR($E220*SUMIF('Daily Log'!$K$18:$K$1017,$B220,'Daily Log'!$L$18:$L$1017),0)","v":0},{"$f":"IFERROR($E220*SUMIF('Daily Log'!$N$18:$N$1017,$B220,'Daily Log'!$O$18:$O$1017),0)","v":0},{"$f":"IFERROR($E220*SUMIF('Daily Log'!$Q$18:$Q$1017,$B220,'Daily Log'!$R$18:$R$1017),0)","v":0},{"$f":"IFERROR($E220*SUMIF('Daily Log'!$T$18:$T$1017,$B220,'Daily Log'!$U$18:$U$1017),0)","v":0},{"$f":"IFERROR($E220*SUMIF('Daily Log'!$W$18:$W$1017,$B220,'Daily Log'!$X$18:$X$1017),0)","v":0},{"$f":"IFERROR($E220*SUMIF('Daily Log'!$Z$18:$Z$1017,$B220,'Daily Log'!$AA$18:$AA$1017),0)","v":0},{"$f":"IFERROR($E220*SUMIF('Daily Log'!$AC$18:$AC$1017,$B220,'Daily Log'!$AD$18:$AD$1017),0)","v":0},{"$f":"IFERROR($E220*SUMIF('Daily Log'!$AF$18:$AF$1017,$B220,'Daily Log'!$AG$18:$AG$1017),0)","v":0},{"$f":"IFERROR($E220*SUMIF('Daily Log'!$AI$18:$AI$1017,$B220,'Daily Log'!$AJ$18:$AJ$1017),0)","v":0},{"$f":"IFERROR($E220*SUMIF('Daily Log'!$AL$18:$AL$1017,$B220,'Daily Log'!$AM$18:$AM$1017),0)","v":0},{"$f":"IFERROR($E220*SUMIF('Daily Log'!$AO$18:$AO$1017,$B220,'Daily Log'!$AP$18:$AP$1017),0)","v":0},{"$f":"IFERROR($E220*SUMIF('Daily Log'!$AR$18:$AR$1017,$B220,'Daily Log'!$AS$18:$AS$1017),0)","v":0},{"$f":"IFERROR($E220*SUMIF('Daily Log'!$AU$18:$AU$1017,$B220,'Daily Log'!$AV$18:$AV$1017),0)","v":0},{"$f":"IFERROR($E220*SUMIF('Daily Log'!$AX$18:$AX$1017,$B220,'Daily Log'!$AY$18:$AY$1017),0)","v":0},{"$f":"IFERROR($E220*SUMIF('Daily Log'!$BA$18:$BA$1017,$B220,'Daily Log'!$BB$18:$BB$1017),0)","v":0},{"$f":"IFERROR($E220*SUMIF('Daily Log'!$BD$18:$BD$1017,$B220,'Daily Log'!$BE$18:$BE$1017),0)","v":0},{"$f":"IFERROR($E220*SUMIF('Daily Log'!$BG$18:$BG$1017,$B220,'Daily Log'!$BH$18:$BH$1017),0)","v":0},{"$f":"IFERROR($E220*SUMIF('Daily Log'!$BJ$18:$BJ$1017,$B220,'Daily Log'!$BK$18:$BK$1017),0)","v":0},{"$f":"IFERROR($E220*SUMIF('Daily Log'!$BM$18:$BM$1017,$B220,'Daily Log'!$BN$18:$BN$1017),0)","v":0},{"$f":"IFERROR($E220*SUMIF('Daily Log'!$BP$18:$BP$1017,$B220,'Daily Log'!$BQ$18:$BQ$1017),0)","v":0},{"$f":"IFERROR($E220*SUMIF('Daily Log'!$BS$18:$BS$1017,$B220,'Daily Log'!$BT$18:$BT$1017),0)","v":0},{"$f":"IFERROR($E220*SUMIF('Daily Log'!$BV$18:$BV$1017,$B220,'Daily Log'!$BW$18:$BW$1017),0)","v":0},{"$f":"IFERROR($E220*SUMIF('Daily Log'!$BY$18:$BY$1017,$B220,'Daily Log'!$BZ$18:$BZ$1017),0)","v":0},{"$f":"IFERROR($E220*SUMIF('Daily Log'!$CB$18:$CB$1017,$B220,'Daily Log'!$CC$18:$CC$1017),0)","v":0},{"$f":"IFERROR($E220*SUMIF('Daily Log'!$CE$18:$CE$1017,$B220,'Daily Log'!$CF$18:$CF$1017),0)","v":0},{"$f":"IFERROR($E220*SUMIF('Daily Log'!$CH$18:$CH$1017,$B220,'Daily Log'!$CI$18:$CI$1017),0)","v":0},{"$f":"IFERROR($E220*SUMIF('Daily Log'!$CK$18:$CK$1017,$B220,'Daily Log'!$CL$18:$CL$1017),0)","v":59},{"$f":"IFERROR($E220*SUMIF('Daily Log'!$CN$18:$CN$1017,$B220,'Daily Log'!$CO$18:$CO$1017),0)","v":0}]
[null,"ZAA10 1210:SALAD RL",null,null,1,20,{"$f":"IFERROR($E221*SUMIF('Daily Log'!$B$18:$B$1017,$B221,'Daily Log'!$C$18:$C$1017),0)","v":0},{"$f":"IFERROR($E221*SUMIF('Daily Log'!$E$18:$E$1017,$B221,'Daily Log'!$F$18:$F$1017),0)","v":0},{"$f":"IFERROR($E221*SUMIF('Daily Log'!$H$18:$H$1017,$B221,'Daily Log'!$I$18:$I$1017),0)","v":0},{"$f":"IFERROR($E221*SUMIF('Daily Log'!$K$18:$K$1017,$B221,'Daily Log'!$L$18:$L$1017),0)","v":0},{"$f":"IFERROR($E221*SUMIF('Daily Log'!$N$18:$N$1017,$B221,'Daily Log'!$O$18:$O$1017),0)","v":0},{"$f":"IFERROR($E221*SUMIF('Daily Log'!$Q$18:$Q$1017,$B221,'Daily Log'!$R$18:$R$1017),0)","v":0},{"$f":"IFERROR($E221*SUMIF('Daily Log'!$T$18:$T$1017,$B221,'Daily Log'!$U$18:$U$1017),0)","v":0},{"$f":"IFERROR($E221*SUMIF('Daily Log'!$W$18:$W$1017,$B221,'Daily Log'!$X$18:$X$1017),0)","v":0},{"$f":"IFERROR($E221*SUMIF('Daily Log'!$Z$18:$Z$1017,$B221,'Daily Log'!$AA$18:$AA$1017),0)","v":0},{"$f":"IFERROR($E221*SUMIF('Daily Log'!$AC$18:$AC$1017,$B221,'Daily Log'!$AD$18:$AD$1017),0)","v":0},{"$f":"IFERROR($E221*SUMIF('Daily Log'!$AF$18:$AF$1017,$B221,'Daily Log'!$AG$18:$AG$1017),0)","v":0},{"$f":"IFERROR($E221*SUMIF('Daily Log'!$AI$18:$AI$1017,$B221,'Daily Log'!$AJ$18:$AJ$1017),0)","v":0},{"$f":"IFERROR($E221*SUMIF('Daily Log'!$AL$18:$AL$1017,$B221,'Daily Log'!$AM$18:$AM$1017),0)","v":0},{"$f":"IFERROR($E221*SUMIF('Daily Log'!$AO$18:$AO$1017,$B221,'Daily Log'!$AP$18:$AP$1017),0)","v":0},{"$f":"IFERROR($E221*SUMIF('Daily Log'!$AR$18:$AR$1017,$B221,'Daily Log'!$AS$18:$AS$1017),0)","v":0},{"$f":"IFERROR($E221*SUMIF('Daily Log'!$AU$18:$AU$1017,$B221,'Daily Log'!$AV$18:$AV$1017),0)","v":0},{"$f":"IFERROR($E221*SUMIF('Daily Log'!$AX$18:$AX$1017,$B221,'Daily Log'!$AY$18:$AY$1017),0)","v":0},{"$f":"IFERROR($E221*SUMIF('Daily Log'!$BA$18:$BA$1017,$B221,'Daily Log'!$BB$18:$BB$1017),0)","v":0},{"$f":"IFERROR($E221*SUMIF('Daily Log'!$BD$18:$BD$1017,$B221,'Daily Log'!$BE$18:$BE$1017),0)","v":0},{"$f":"IFERROR($E221*SUMIF('Daily Log'!$BG$18:$BG$1017,$B221,'Daily Log'!$BH$18:$BH$1017),0)","v":0},{"$f":"IFERROR($E221*SUMIF('Daily Log'!$BJ$18:$BJ$1017,$B221,'Daily Log'!$BK$18:$BK$1017),0)","v":0},{"$f":"IFERROR($E221*SUMIF('Daily Log'!$BM$18:$BM$1017,$B221,'Daily Log'!$BN$18:$BN$1017),0)","v":0},{"$f":"IFERROR($E221*SUMIF('Daily Log'!$BP$18:$BP$1017,$B221,'Daily Log'!$BQ$18:$BQ$1017),0)","v":0},{"$f":"IFERROR($E221*SUMIF('Daily Log'!$BS$18:$BS$1017,$B221,'Daily Log'!$BT$18:$BT$1017),0)","v":0},{"$f":"IFERROR($E221*SUMIF('Daily Log'!$BV$18:$BV$1017,$B221,'Daily Log'!$BW$18:$BW$1017),0)","v":0},{"$f":"IFERROR($E221*SUMIF('Daily Log'!$BY$18:$BY$1017,$B221,'Daily Log'!$BZ$18:$BZ$1017),0)","v":0},{"$f":"IFERROR($E221*SUMIF('Daily Log'!$CB$18:$CB$1017,$B221,'Daily Log'!$CC$18:$CC$1017),0)","v":0},{"$f":"IFERROR($E221*SUMIF('Daily Log'!$CE$18:$CE$1017,$B221,'Daily Log'!$CF$18:$CF$1017),0)","v":0},{"$f":"IFERROR($E221*SUMIF('Daily Log'!$CH$18:$CH$1017,$B221,'Daily Log'!$CI$18:$CI$1017),0)","v":0},{"$f":"IFERROR($E221*SUMIF('Daily Log'!$CK$18:$CK$1017,$B221,'Daily Log'!$CL$18:$CL$1017),0)","v":20},{"$f":"IFERROR($E221*SUMIF('Daily Log'!$CN$18:$CN$1017,$B221,'Daily Log'!$CO$18:$CO$1017),0)","v":0}]
[null,"ZAA11 1211:BBQ CHK",null,null,1,21,{"$f":"IFERROR($E222*SUMIF('Daily Log'!$B$18:$B$1017,$B222,'Daily Log'!$C$18:$C$1017),0)","v":0},{"$f":"IFERROR($E222*SUMIF('Daily Log'!$E$18:$E$1017,$B222,'Daily Log'!$F$18:$F$1017),0)","v":0},{"$f":"IFERROR($E222*SUMIF('Daily Log'!$H$18:$H$1017,$B222,'Daily Log'!$I$18:$I$1017),0)","v":0},{"$f":"IFERROR($E222*SUMIF('Daily Log'!$K$18:$K$1017,$B222,'Daily Log'!$L$18:$L$1017),0)","v":0},{"$f":"IFERROR($E222*SUMIF('Daily Log'!$N$18:$N$1017,$B222,'Daily Log'!$O$18:$O$1017),0)","v":0},{"$f":"IFERROR($E222*SUMIF('Daily Log'!$Q$18:$Q$1017,$B222,'Daily Log'!$R$18:$R$1017),0)","v":0},{"$f":"IFERROR($E222*SUMIF('Daily Log'!$T$18:$T$1017,$B222,'Daily Log'!$U$18:$U$1017),0)","v":0},{"$f":"IFERROR($E222*SUMIF('Daily Log'!$W$18:$W$1017,$B222,'Daily Log'!$X$18:$X$1017),0)","v":0},{"$f":"IFERROR($E222*SUMIF('Daily Log'!$Z$18:$Z$1017,$B222,'Daily Log'!$AA$18:$AA$1017),0)","v":0},{"$f":"IFERROR($E222*SUMIF('Daily Log'!$AC$18:$AC$1017,$B222,'Daily Log'!$AD$18:$AD$1017),0)","v":0},{"$f":"IFERROR($E222*SUMIF('Daily Log'!$AF$18:$AF$1017,$B222,'Daily Log'!$AG$18:$AG$1017),0)","v":0},{"$f":"IFERROR($E222*SUMIF('Daily Log'!$AI$18:$AI$1017,$B222,'Daily Log'!$AJ$18:$AJ$1017),0)","v":0},{"$f":"IFERROR($E222*SUMIF('Daily Log'!$AL$18:$AL$1017,$B222,'Daily Log'!$AM$18:$AM$1017),0)","v":0},{"$f":"IFERROR($E222*SUMIF('Daily Log'!$AO$18:$AO$1017,$B222,'Daily Log'!$AP$18:$AP$1017),0)","v":0},{"$f":"IFERROR($E222*SUMIF('Daily Log'!$AR$18:$AR$1017,$B222,'Daily Log'!$AS$18:$AS$1017),0)","v":0},{"$f":"IFERROR($E222*SUMIF('Daily Log'!$AU$18:$AU$1017,$B222,'Daily Log'!$AV$18:$AV$1017),0)","v":0},{"$f":"IFERROR($E222*SUMIF('Daily Log'!$AX$18:$AX$1017,$B222,'Daily Log'!$AY$18:$AY$1017),0)","v":0},{"$f":"IFERROR($E222*SUMIF('Daily Log'!$BA$18:$BA$1017,$B222,'Daily Log'!$BB$18:$BB$1017),0)","v":0},{"$f":"IFERROR($E222*SUMIF('Daily Log'!$BD$18:$BD$1017,$B222,'Daily Log'!$BE$18:$BE$1017),0)","v":0},{"$f":"IFERROR($E222*SUMIF('Daily Log'!$BG$18:$BG$1017,$B222,'Daily Log'!$BH$18:$BH$1017),0)","v":0},{"$f":"IFERROR($E222*SUMIF('Daily Log'!$BJ$18:$BJ$1017,$B222,'Daily Log'!$BK$18:$BK$1017),0)","v":0},{"$f":"IFERROR($E222*SUMIF('Daily Log'!$BM$18:$BM$1017,$B222,'Daily Log'!$BN$18:$BN$1017),0)","v":0},{"$f":"IFERROR($E222*SUMIF('Daily Log'!$BP$18:$BP$1017,$B222,'Daily Log'!$BQ$18:$BQ$1017),0)","v":0},{"$f":"IFERROR($E222*SUMIF('Daily Log'!$BS$18:$BS$1017,$B222,'Daily Log'!$BT$18:$BT$1017),0)","v":0},{"$f":"IFERROR($E222*SUMIF('Daily Log'!$BV$18:$BV$1017,$B222,'Daily Log'!$BW$18:$BW$1017),0)","v":0},{"$f":"IFERROR($E222*SUMIF('Daily Log'!$BY$18:$BY$1017,$B222,'Daily Log'!$BZ$18:$BZ$1017),0)","v":0},{"$f":"IFERROR($E222*SUMIF('Daily Log'!$CB$18:$CB$1017,$B222,'Daily Log'!$CC$18:$CC$1017),0)","v":0},{"$f":"IFERROR($E222*SUMIF('Daily Log'!$CE$18:$CE$1017,$B222,'Daily Log'!$CF$18:$CF$1017),0)","v":0},{"$f":"IFERROR($E222*SUMIF('Daily Log'!$CH$18:$CH$1017,$B222,'Daily Log'!$CI$18:$CI$1017),0)","v":0},{"$f":"IFERROR($E222*SUMIF('Daily Log'!$CK$18:$CK$1017,$B222,'Daily Log'!$CL$18:$CL$1017),0)","v":21},{"$f":"IFERROR($E222*SUMIF('Daily Log'!$CN$18:$CN$1017,$B222,'Daily Log'!$CO$18:$CO$1017),0)","v":0}]
[null,"ZAB02 1302:NUGGET",null,null,1,40,{"$f":"IFERROR($E223*SUMIF('Daily Log'!$B$18:$B$1017,$B223,'Daily Log'!$C$18:$C$1017),0)","v":0},{"$f":"IFERROR($E223*SUMIF('Daily Log'!$E$18:$E$1017,$B223,'Daily Log'!$F$18:$F$1017),0)","v":0},{"$f":"IFERROR($E223*SUMIF('Daily Log'!$H$18:$H$1017,$B223,'Daily Log'!$I$18:$I$1017),0)","v":0},{"$f":"IFERROR($E223*SUMIF('Daily Log'!$K$18:$K$1017,$B223,'Daily Log'!$L$18:$L$1017),0)","v":0},{"$f":"IFERROR($E223*SUMIF('Daily Log'!$N$18:$N$1017,$B223,'Daily Log'!$O$18:$O$1017),0)","v":0},{"$f":"IFERROR($E223*SUMIF('Daily Log'!$Q$18:$Q$1017,$B223,'Daily Log'!$R$18:$R$1017),0)","v":0},{"$f":"IFERROR($E223*SUMIF('Daily Log'!$T$18:$T$1017,$B223,'Daily Log'!$U$18:$U$1017),0)","v":0},{"$f":"IFERROR($E223*SUMIF('Daily Log'!$W$18:$W$1017,$B223,'Daily Log'!$X$18:$X$1017),0)","v":0},{"$f":"IFERROR($E223*SUMIF('Daily Log'!$Z$18:$Z$1017,$B223,'Daily Log'!$AA$18:$AA$1017),0)","v":0},{"$f":"IFERROR($E223*SUMIF('Daily Log'!$AC$18:$AC$1017,$B223,'Daily Log'!$AD$18:$AD$1017),0)","v":0},{"$f":"IFERROR($E223*SUMIF('Daily Log'!$AF$18:$AF$1017,$B223,'Daily Log'!$AG$18:$AG$1017),0)","v":0},{"$f":"IFERROR($E223*SUMIF('Daily Log'!$AI$18:$AI$1017,$B223,'Daily Log'!$AJ$18:$AJ$1017),0)","v":0},{"$f":"IFERROR($E223*SUMIF('Daily Log'!$AL$18:$AL$1017,$B223,'Daily Log'!$AM$18:$AM$1017),0)","v":0},{"$f":"IFERROR($E223*SUMIF('Daily Log'!$AO$18:$AO$1017,$B223,'Daily Log'!$AP$18:$AP$1017),0)","v":0},{"$f":"IFERROR($E223*SUMIF('Daily Log'!$AR$18:$AR$1017,$B223,'Daily Log'!$AS$18:$AS$1017),0)","v":0},{"$f":"IFERROR($E223*SUMIF('Daily Log'!$AU$18:$AU$1017,$B223,'Daily Log'!$AV$18:$AV$1017),0)","v":0},{"$f":"IFERROR($E223*SUMIF('Daily Log'!$AX$18:$AX$1017,$B223,'Daily Log'!$AY$18:$AY$1017),0)","v":0},{"$f":"IFERROR($E223*SUMIF('Daily Log'!$BA$18:$BA$1017,$B223,'Daily Log'!$BB$18:$BB$1017),0)","v":0},{"$f":"IFERROR($E223*SUMIF('Daily Log'!$BD$18:$BD$1017,$B223,'Daily Log'!$BE$18:$BE$1017),0)","v":0},{"$f":"IFERROR($E223*SUMIF('Daily Log'!$BG$18:$BG$1017,$B223,'Daily Log'!$BH$18:$BH$1017),0)","v":0},{"$f":"IFERROR($E223*SUMIF('Daily Log'!$BJ$18:$BJ$1017,$B223,'Daily Log'!$BK$18:$BK$1017),0)","v":0},{"$f":"IFERROR($E223*SUMIF('Daily Log'!$BM$18:$BM$1017,$B223,'Daily Log'!$BN$18:$BN$1017),0)","v":0},{"$f":"IFERROR($E223*SUMIF('Daily Log'!$BP$18:$BP$1017,$B223,'Daily Log'!$BQ$18:$BQ$1017),0)","v":0},{"$f":"IFERROR($E223*SUMIF('Daily Log'!$BS$18:$BS$1017,$B223,'Daily Log'!$BT$18:$BT$1017),0)","v":0},{"$f":"IFERROR($E223*SUMIF('Daily Log'!$BV$18:$BV$1017,$B223,'Daily Log'!$BW$18:$BW$1017),0)","v":0},{"$f":"IFERROR($E223*SUMIF('Daily Log'!$BY$18:$BY$1017,$B223,'Daily Log'!$BZ$18:$BZ$1017),0)","v":0},{"$f":"IFERROR($E223*SUMIF('Daily Log'!$CB$18:$CB$1017,$B223,'Daily Log'!$CC$18:$CC$1017),0)","v":0},{"$f":"IFERROR($E223*SUMIF('Daily Log'!$CE$18:$CE$1017,$B223,'Daily Log'!$CF$18:$CF$1017),0)","v":0},{"$f":"IFERROR($E223*SUMIF('Daily Log'!$CH$18:$CH$1017,$B223,'Daily Log'!$CI$18:$CI$1017),0)","v":0},{"$f":"IFERROR($E223*SUMIF('Daily Log'!$CK$18:$CK$1017,$B223,'Daily Log'!$CL$18:$CL$1017),0)","v":40},{"$f":"IFERROR($E223*SUMIF('Daily Log'!$CN$18:$CN$1017,$B223,'Daily Log'!$CO$18:$CO$1017),0)","v":0}]
[null,"ZAB03 1303:CHK WING",null,null,1,43,{"$f":"IFERROR($E224*SUMIF('Daily Log'!$B$18:$B$1017,$B224,'Daily Log'!$C$18:$C$1017),0)","v":0},{"$f":"IFERROR($E224*SUMIF('Daily Log'!$E$18:$E$1017,$B224,'Daily Log'!$F$18:$F$1017),0)","v":0},{"$f":"IFERROR($E224*SUMIF('Daily Log'!$H$18:$H$1017,$B224,'Daily Log'!$I$18:$I$1017),0)","v":0},{"$f":"IFERROR($E224*SUMIF('Daily Log'!$K$18:$K$1017,$B224,'Daily Log'!$L$18:$L$1017),0)","v":0},{"$f":"IFERROR($E224*SUMIF('Daily Log'!$N$18:$N$1017,$B224,'Daily Log'!$O$18:$O$1017),0)","v":0},{"$f":"IFERROR($E224*SUMIF('Daily Log'!$Q$18:$Q$1017,$B224,'Daily Log'!$R$18:$R$1017),0)","v":0},{"$f":"IFERROR($E224*SUMIF('Daily Log'!$T$18:$T$1017,$B224,'Daily Log'!$U$18:$U$1017),0)","v":0},{"$f":"IFERROR($E224*SUMIF('Daily Log'!$W$18:$W$1017,$B224,'Daily Log'!$X$18:$X$1017),0)","v":0},{"$f":"IFERROR($E224*SUMIF('Daily Log'!$Z$18:$Z$1017,$B224,'Daily Log'!$AA$18:$AA$1017),0)","v":0},{"$f":"IFERROR($E224*SUMIF('Daily Log'!$AC$18:$AC$1017,$B224,'Daily Log'!$AD$18:$AD$1017),0)","v":0},{"$f":"IFERROR($E224*SUMIF('Daily Log'!$AF$18:$AF$1017,$B224,'Daily Log'!$AG$18:$AG$1017),0)","v":0},{"$f":"IFERROR($E224*SUMIF('Daily Log'!$AI$18:$AI$1017,$B224,'Daily Log'!$AJ$18:$AJ$1017),0)","v":0},{"$f":"IFERROR($E224*SUMIF('Daily Log'!$AL$18:$AL$1017,$B224,'Daily Log'!$AM$18:$AM$1017),0)","v":0},{"$f":"IFERROR($E224*SUMIF('Daily Log'!$AO$18:$AO$1017,$B224,'Daily Log'!$AP$18:$AP$1017),0)","v":0},{"$f":"IFERROR($E224*SUMIF('Daily Log'!$AR$18:$AR$1017,$B224,'Daily Log'!$AS$18:$AS$1017),0)","v":0},{"$f":"IFERROR($E224*SUMIF('Daily Log'!$AU$18:$AU$1017,$B224,'Daily Log'!$AV$18:$AV$1017),0)","v":0},{"$f":"IFERROR($E224*SUMIF('Daily Log'!$AX$18:$AX$1017,$B224,'Daily Log'!$AY$18:$AY$1017),0)","v":0},{"$f":"IFERROR($E224*SUMIF('Daily Log'!$BA$18:$BA$1017,$B224,'Daily Log'!$BB$18:$BB$1017),0)","v":0},{"$f":"IFERROR($E224*SUMIF('Daily Log'!$BD$18:$BD$1017,$B224,'Daily Log'!$BE$18:$BE$1017),0)","v":0},{"$f":"IFERROR($E224*SUMIF('Daily Log'!$BG$18:$BG$1017,$B224,'Daily Log'!$BH$18:$BH$1017),0)","v":0},{"$f":"IFERROR($E224*SUMIF('Daily Log'!$BJ$18:$BJ$1017,$B224,'Daily Log'!$BK$18:$BK$1017),0)","v":0},{"$f":"IFERROR($E224*SUMIF('Daily Log'!$BM$18:$BM$1017,$B224,'Daily Log'!$BN$18:$BN$1017),0)","v":0},{"$f":"IFERROR($E224*SUMIF('Daily Log'!$BP$18:$BP$1017,$B224,'Daily Log'!$BQ$18:$BQ$1017),0)","v":0},{"$f":"IFERROR($E224*SUMIF('Daily Log'!$BS$18:$BS$1017,$B224,'Daily Log'!$BT$18:$BT$1017),0)","v":0},{"$f":"IFERROR($E224*SUMIF('Daily Log'!$BV$18:$BV$1017,$B224,'Daily Log'!$BW$18:$BW$1017),0)","v":0},{"$f":"IFERROR($E224*SUMIF('Daily Log'!$BY$18:$BY$1017,$B224,'Daily Log'!$BZ$18:$BZ$1017),0)","v":0},{"$f":"IFERROR($E224*SUMIF('Daily Log'!$CB$18:$CB$1017,$B224,'Daily Log'!$CC$18:$CC$1017),0)","v":0},{"$f":"IFERROR($E224*SUMIF('Daily Log'!$CE$18:$CE$1017,$B224,'Daily Log'!$CF$18:$CF$1017),0)","v":0},{"$f":"IFERROR($E224*SUMIF('Daily Log'!$CH$18:$CH$1017,$B224,'Daily Log'!$CI$18:$CI$1017),0)","v":0},{"$f":"IFERROR($E224*SUMIF('Daily Log'!$CK$18:$CK$1017,$B224,'Daily Log'!$CL$18:$CL$1017),0)","v":43},{"$f":"IFERROR($E224*SUMIF('Daily Log'!$CN$18:$CN$1017,$B224,'Daily Log'!$CO$18:$CO$1017),0)","v":0}]
[null,"AB04 1304:IKAN BILIS",null,null,1,0,{"$f":"IFERROR($E225*SUMIF('Daily Log'!$B$18:$B$1017,$B225,'Daily Log'!$C$18:$C$1017),0)","v":0},{"$f":"IFERROR($E225*SUMIF('Daily Log'!$E$18:$E$1017,$B225,'Daily Log'!$F$18:$F$1017),0)","v":0},{"$f":"IFERROR($E225*SUMIF('Daily Log'!$H$18:$H$1017,$B225,'Daily Log'!$I$18:$I$1017),0)","v":0},{"$f":"IFERROR($E225*SUMIF('Daily Log'!$K$18:$K$1017,$B225,'Daily Log'!$L$18:$L$1017),0)","v":0},{"$f":"IFERROR($E225*SUMIF('Daily Log'!$N$18:$N$1017,$B225,'Daily Log'!$O$18:$O$1017),0)","v":0},{"$f":"IFERROR($E225*SUMIF('Daily Log'!$Q$18:$Q$1017,$B225,'Daily Log'!$R$18:$R$1017),0)","v":0},{"$f":"IFERROR($E225*SUMIF('Daily Log'!$T$18:$T$1017,$B225,'Daily Log'!$U$18:$U$1017),0)","v":0},{"$f":"IFERROR($E225*SUMIF('Daily Log'!$W$18:$W$1017,$B225,'Daily Log'!$X$18:$X$1017),0)","v":0},{"$f":"IFERROR($E225*SUMIF('Daily Log'!$Z$18:$Z$1017,$B225,'Daily Log'!$AA$18:$AA$1017),0)","v":0},{"$f":"IFERROR($E225*SUMIF('Daily Log'!$AC$18:$AC$1017,$B225,'Daily Log'!$AD$18:$AD$1017),0)","v":0},{"$f":"IFERROR($E225*SUMIF('Daily Log'!$AF$18:$AF$1017,$B225,'Daily Log'!$AG$18:$AG$1017),0)","v":0},{"$f":"IFERROR($E225*SUMIF('Daily Log'!$AI$18:$AI$1017,$B225,'Daily Log'!$AJ$18:$AJ$1017),0)","v":0},{"$f":"IFERROR($E225*SUMIF('Daily Log'!$AL$18:$AL$1017,$B225,'Daily Log'!$AM$18:$AM$1017),0)","v":0},{"$f":"IFERROR($E225*SUMIF('Daily Log'!$AO$18:$AO$1017,$B225,'Daily Log'!$AP$18:$AP$1017),0)","v":0},{"$f":"IFERROR($E225*SUMIF('Daily Log'!$AR$18:$AR$1017,$B225,'Daily Log'!$AS$18:$AS$1017),0)","v":0},{"$f":"IFERROR($E225*SUMIF('Daily Log'!$AU$18:$AU$1017,$B225,'Daily Log'!$AV$18:$AV$1017),0)","v":0},{"$f":"IFERROR($E225*SUMIF('Daily Log'!$AX$18:$AX$1017,$B225,'Daily Log'!$AY$18:$AY$1017),0)","v":0},{"$f":"IFERROR($E225*SUMIF('Daily Log'!$BA$18:$BA$1017,$B225,'Daily Log'!$BB$18:$BB$1017),0)","v":0},{"$f":"IFERROR($E225*SUMIF('Daily Log'!$BD$18:$BD$1017,$B225,'Daily Log'!$BE$18:$BE$1017),0)","v":0},{"$f":"IFERROR($E225*SUMIF('Daily Log'!$BG$18:$BG$1017,$B225,'Daily Log'!$BH$18:$BH$1017),0)","v":0},{"$f":"IFERROR($E225*SUMIF('Daily Log'!$BJ$18:$BJ$1017,$B225,'Daily Log'!$BK$18:$BK$1017),0)","v":0},{"$f":"IFERROR($E225*SUMIF('Daily Log'!$BM$18:$BM$1017,$B225,'Daily Log'!$BN$18:$BN$1017),0)","v":0},{"$f":"IFERROR($E225*SUMIF('Daily Log'!$BP$18:$BP$1017,$B225,'Daily Log'!$BQ$18:$BQ$1017),0)","v":0},{"$f":"IFERROR($E225*SUMIF('Daily Log'!$BS$18:$BS$1017,$B225,'Daily Log'!$BT$18:$BT$1017),0)","v":0},{"$f":"IFERROR($E225*SUMIF('Daily Log'!$BV$18:$BV$1017,$B225,'Daily Log'!$BW$18:$BW$1017),0)","v":0},{"$f":"IFERROR($E225*SUMIF('Daily Log'!$BY$18:$BY$1017,$B225,'Daily Log'!$BZ$18:$BZ$1017),0)","v":0},{"$f":"IFERROR($E225*SUMIF('Daily Log'!$CB$18:$CB$1017,$B225,'Daily Log'!$CC$18:$CC$1017),0)","v":0},{"$f":"IFERROR($E225*SUMIF('Daily Log'!$CE$18:$CE$1017,$B225,'Daily Log'!$CF$18:$CF$1017),0)","v":0},{"$f":"IFERROR($E225*SUMIF('Daily Log'!$CH$18:$CH$1017,$B225,'Daily Log'!$CI$18:$CI$1017),0)","v":0},{"$f":"IFERROR($E225*SUMIF('Daily Log'!$CK$18:$CK$1017,$B225,'Daily Log'!$CL$18:$CL$1017),0)","v":0},{"$f":"IFERROR($E225*SUMIF('Daily Log'!$CN$18:$CN$1017,$B225,'Daily Log'!$CO$18:$CO$1017),0)","v":0}]
[null,"AB05 1305:THAI RL",null,null,1,0,{"$f":"IFERROR($E226*SUMIF('Daily Log'!$B$18:$B$1017,$B226,'Daily Log'!$C$18:$C$1017),0)","v":0},{"$f":"IFERROR($E226*SUMIF('Daily Log'!$E$18:$E$1017,$B226,'Daily Log'!$F$18:$F$1017),0)","v":0},{"$f":"IFERROR($E226*SUMIF('Daily Log'!$H$18:$H$1017,$B226,'Daily Log'!$I$18:$I$1017),0)","v":0},{"$f":"IFERROR($E226*SUMIF('Daily Log'!$K$18:$K$1017,$B226,'Daily Log'!$L$18:$L$1017),0)","v":0},{"$f":"IFERROR($E226*SUMIF('Daily Log'!$N$18:$N$1017,$B226,'Daily Log'!$O$18:$O$1017),0)","v":0},{"$f":"IFERROR($E226*SUMIF('Daily Log'!$Q$18:$Q$1017,$B226,'Daily Log'!$R$18:$R$1017),0)","v":0},{"$f":"IFERROR($E226*SUMIF('Daily Log'!$T$18:$T$1017,$B226,'Daily Log'!$U$18:$U$1017),0)","v":0},{"$f":"IFERROR($E226*SUMIF('Daily Log'!$W$18:$W$1017,$B226,'Daily Log'!$X$18:$X$1017),0)","v":0},{"$f":"IFERROR($E226*SUMIF('Daily Log'!$Z$18:$Z$1017,$B226,'Daily Log'!$AA$18:$AA$1017),0)","v":0},{"$f":"IFERROR($E226*SUMIF('Daily Log'!$AC$18:$AC$1017,$B226,'Daily Log'!$AD$18:$AD$1017),0)","v":0},{"$f":"IFERROR($E226*SUMIF('Daily Log'!$AF$18:$AF$1017,$B226,'Daily Log'!$AG$18:$AG$1017),0)","v":0},{"$f":"IFERROR($E226*SUMIF('Daily Log'!$AI$18:$AI$1017,$B226,'Daily Log'!$AJ$18:$AJ$1017),0)","v":0},{"$f":"IFERROR($E226*SUMIF('Daily Log'!$AL$18:$AL$1017,$B226,'Daily Log'!$AM$18:$AM$1017),0)","v":0},{"$f":"IFERROR($E226*SUMIF('Daily Log'!$AO$18:$AO$1017,$B226,'Daily Log'!$AP$18:$AP$1017),0)","v":0},{"$f":"IFERROR($E226*SUMIF('Daily Log'!$AR$18:$AR$1017,$B226,'Daily Log'!$AS$18:$AS$1017),0)","v":0},{"$f":"IFERROR($E226*SUMIF('Daily Log'!$AU$18:$AU$1017,$B226,'Daily Log'!$AV$18:$AV$1017),0)","v":0},{"$f":"IFERROR($E226*SUMIF('Daily Log'!$AX$18:$AX$1017,$B226,'Daily Log'!$AY$18:$AY$1017),0)","v":0},{"$f":"IFERROR($E226*SUMIF('Daily Log'!$BA$18:$BA$1017,$B226,'Daily Log'!$BB$18:$BB$1017),0)","v":0},{"$f":"IFERROR($E226*SUMIF('Daily Log'!$BD$18:$BD$1017,$B226,'Daily Log'!$BE$18:$BE$1017),0)","v":0},{"$f":"IFERROR($E226*SUMIF('Daily Log'!$BG$18:$BG$1017,$B226,'Daily Log'!$BH$18:$BH$1017),0)","v":0},{"$f":"IFERROR($E226*SUMIF('Daily Log'!$BJ$18:$BJ$1017,$B226,'Daily Log'!$BK$18:$BK$1017),0)","v":0},{"$f":"IFERROR($E226*SUMIF('Daily Log'!$BM$18:$BM$1017,$B226,'Daily Log'!$BN$18:$BN$1017),0)","v":0},{"$f":"IFERROR($E226*SUMIF('Daily Log'!$BP$18:$BP$1017,$B226,'Daily Log'!$BQ$18:$BQ$1017),0)","v":0},{"$f":"IFERROR($E226*SUMIF('Daily Log'!$BS$18:$BS$1017,$B226,'Daily Log'!$BT$18:$BT$1017),0)","v":0},{"$f":"IFERROR($E226*SUMIF('Daily Log'!$BV$18:$BV$1017,$B226,'Daily Log'!$BW$18:$BW$1017),0)","v":0},{"$f":"IFERROR($E226*SUMIF('Daily Log'!$BY$18:$BY$1017,$B226,'Daily Log'!$BZ$18:$BZ$1017),0)","v":0},{"$f":"IFERROR($E226*SUMIF('Daily Log'!$CB$18:$CB$1017,$B226,'Daily Log'!$CC$18:$CC$1017),0)","v":0},{"$f":"IFERROR($E226*SUMIF('Daily Log'!$CE$18:$CE$1017,$B226,'Daily Log'!$CF$18:$CF$1017),0)","v":0},{"$f":"IFERROR($E226*SUMIF('Daily Log'!$CH$18:$CH$1017,$B226,'Daily Log'!$CI$18:$CI$1017),0)","v":0},{"$f":"IFERROR($E226*SUMIF('Daily Log'!$CK$18:$CK$1017,$B226,'Daily Log'!$CL$18:$CL$1017),0)","v":0},{"$f":"IFERROR($E226*SUMIF('Daily Log'!$CN$18:$CN$1017,$B226,'Daily Log'!$CO$18:$CO$1017),0)","v":0}]
[null,"AB06 1306:DF WING",null,null,1,0,{"$f":"IFERROR($E227*SUMIF('Daily Log'!$B$18:$B$1017,$B227,'Daily Log'!$C$18:$C$1017),0)","v":0},{"$f":"IFERROR($E227*SUMIF('Daily Log'!$E$18:$E$1017,$B227,'Daily Log'!$F$18:$F$1017),0)","v":0},{"$f":"IFERROR($E227*SUMIF('Daily Log'!$H$18:$H$1017,$B227,'Daily Log'!$I$18:$I$1017),0)","v":0},{"$f":"IFERROR($E227*SUMIF('Daily Log'!$K$18:$K$1017,$B227,'Daily Log'!$L$18:$L$1017),0)","v":0},{"$f":"IFERROR($E227*SUMIF('Daily Log'!$N$18:$N$1017,$B227,'Daily Log'!$O$18:$O$1017),0)","v":0},{"$f":"IFERROR($E227*SUMIF('Daily Log'!$Q$18:$Q$1017,$B227,'Daily Log'!$R$18:$R$1017),0)","v":0},{"$f":"IFERROR($E227*SUMIF('Daily Log'!$T$18:$T$1017,$B227,'Daily Log'!$U$18:$U$1017),0)","v":0},{"$f":"IFERROR($E227*SUMIF('Daily Log'!$W$18:$W$1017,$B227,'Daily Log'!$X$18:$X$1017),0)","v":0},{"$f":"IFERROR($E227*SUMIF('Daily Log'!$Z$18:$Z$1017,$B227,'Daily Log'!$AA$18:$AA$1017),0)","v":0},{"$f":"IFERROR($E227*SUMIF('Daily Log'!$AC$18:$AC$1017,$B227,'Daily Log'!$AD$18:$AD$1017),0)","v":0},{"$f":"IFERROR($E227*SUMIF('Daily Log'!$AF$18:$AF$1017,$B227,'Daily Log'!$AG$18:$AG$1017),0)","v":0},{"$f":"IFERROR($E227*SUMIF('Daily Log'!$AI$18:$AI$1017,$B227,'Daily Log'!$AJ$18:$AJ$1017),0)","v":0},{"$f":"IFERROR($E227*SUMIF('Daily Log'!$AL$18:$AL$1017,$B227,'Daily Log'!$AM$18:$AM$1017),0)","v":0},{"$f":"IFERROR($E227*SUMIF('Daily Log'!$AO$18:$AO$1017,$B227,'Daily Log'!$AP$18:$AP$1017),0)","v":0},{"$f":"IFERROR($E227*SUMIF('Daily Log'!$AR$18:$AR$1017,$B227,'Daily Log'!$AS$18:$AS$1017),0)","v":0},{"$f":"IFERROR($E227*SUMIF('Daily Log'!$AU$18:$AU$1017,$B227,'Daily Log'!$AV$18:$AV$1017),0)","v":0},{"$f":"IFERROR($E227*SUMIF('Daily Log'!$AX$18:$AX$1017,$B227,'Daily Log'!$AY$18:$AY$1017),0)","v":0},{"$f":"IFERROR($E227*SUMIF('Daily Log'!$BA$18:$BA$1017,$B227,'Daily Log'!$BB$18:$BB$1017),0)","v":0},{"$f":"IFERROR($E227*SUMIF('Daily Log'!$BD$18:$BD$1017,$B227,'Daily Log'!$BE$18:$BE$1017),0)","v":0},{"$f":"IFERROR($E227*SUMIF('Daily Log'!$BG$18:$BG$1017,$B227,'Daily Log'!$BH$18:$BH$1017),0)","v":0},{"$f":"IFERROR($E227*SUMIF('Daily Log'!$BJ$18:$BJ$1017,$B227,'Daily Log'!$BK$18:$BK$1017),0)","v":0},{"$f":"IFERROR($E227*SUMIF('Daily Log'!$BM$18:$BM$1017,$B227,'Daily Log'!$BN$18:$BN$1017),0)","v":0},{"$f":"IFERROR($E227*SUMIF('Daily Log'!$BP$18:$BP$1017,$B227,'Daily Log'!$BQ$18:$BQ$1017),0)","v":0},{"$f":"IFERROR($E227*SUMIF('Daily Log'!$BS$18:$BS$1017,$B227,'Daily Log'!$BT$18:$BT$1017),0)","v":0},{"$f":"IFERROR($E227*SUMIF('Daily Log'!$BV$18:$BV$1017,$B227,'Daily Log'!$BW$18:$BW$1017),0)","v":0},{"$f":"IFERROR($E227*SUMIF('Daily Log'!$BY$18:$BY$1017,$B227,'Daily Log'!$BZ$18:$BZ$1017),0)","v":0},{"$f":"IFERROR($E227*SUMIF('Daily Log'!$CB$18:$CB$1017,$B227,'Daily Log'!$CC$18:$CC$1017),0)","v":0},{"$f":"IFERROR($E227*SUMIF('Daily Log'!$CE$18:$CE$1017,$B227,'Daily Log'!$CF$18:$CF$1017),0)","v":0},{"$f":"IFERROR($E227*SUMIF('Daily Log'!$CH$18:$CH$1017,$B227,'Daily Log'!$CI$18:$CI$1017),0)","v":0},{"$f":"IFERROR($E227*SUMIF('Daily Log'!$CK$18:$CK$1017,$B227,'Daily Log'!$CL$18:$CL$1017),0)","v":0},{"$f":"IFERROR($E227*SUMIF('Daily Log'!$CN$18:$CN$1017,$B227,'Daily Log'!$CO$18:$CO$1017),0)","v":0}]
[null,"AB07 1307: CALAMARI",null,null,1,0,{"$f":"IFERROR($E228*SUMIF('Daily Log'!$B$18:$B$1017,$B228,'Daily Log'!$C$18:$C$1017),0)","v":0},{"$f":"IFERROR($E228*SUMIF('Daily Log'!$E$18:$E$1017,$B228,'Daily Log'!$F$18:$F$1017),0)","v":0},{"$f":"IFERROR($E228*SUMIF('Daily Log'!$H$18:$H$1017,$B228,'Daily Log'!$I$18:$I$1017),0)","v":0},{"$f":"IFERROR($E228*SUMIF('Daily Log'!$K$18:$K$1017,$B228,'Daily Log'!$L$18:$L$1017),0)","v":0},{"$f":"IFERROR($E228*SUMIF('Daily Log'!$N$18:$N$1017,$B228,'Daily Log'!$O$18:$O$1017),0)","v":0},{"$f":"IFERROR($E228*SUMIF('Daily Log'!$Q$18:$Q$1017,$B228,'Daily Log'!$R$18:$R$1017),0)","v":0},{"$f":"IFERROR($E228*SUMIF('Daily Log'!$T$18:$T$1017,$B228,'Daily Log'!$U$18:$U$1017),0)","v":0},{"$f":"IFERROR($E228*SUMIF('Daily Log'!$W$18:$W$1017,$B228,'Daily Log'!$X$18:$X$1017),0)","v":0},{"$f":"IFERROR($E228*SUMIF('Daily Log'!$Z$18:$Z$1017,$B228,'Daily Log'!$AA$18:$AA$1017),0)","v":0},{"$f":"IFERROR($E228*SUMIF('Daily Log'!$AC$18:$AC$1017,$B228,'Daily Log'!$AD$18:$AD$1017),0)","v":0},{"$f":"IFERROR($E228*SUMIF('Daily Log'!$AF$18:$AF$1017,$B228,'Daily Log'!$AG$18:$AG$1017),0)","v":0},{"$f":"IFERROR($E228*SUMIF('Daily Log'!$AI$18:$AI$1017,$B228,'Daily Log'!$AJ$18:$AJ$1017),0)","v":0},{"$f":"IFERROR($E228*SUMIF('Daily Log'!$AL$18:$AL$1017,$B228,'Daily Log'!$AM$18:$AM$1017),0)","v":0},{"$f":"IFERROR($E228*SUMIF('Daily Log'!$AO$18:$AO$1017,$B228,'Daily Log'!$AP$18:$AP$1017),0)","v":0},{"$f":"IFERROR($E228*SUMIF('Daily Log'!$AR$18:$AR$1017,$B228,'Daily Log'!$AS$18:$AS$1017),0)","v":0},{"$f":"IFERROR($E228*SUMIF('Daily Log'!$AU$18:$AU$1017,$B228,'Daily Log'!$AV$18:$AV$1017),0)","v":0},{"$f":"IFERROR($E228*SUMIF('Daily Log'!$AX$18:$AX$1017,$B228,'Daily Log'!$AY$18:$AY$1017),0)","v":0},{"$f":"IFERROR($E228*SUMIF('Daily Log'!$BA$18:$BA$1017,$B228,'Daily Log'!$BB$18:$BB$1017),0)","v":0},{"$f":"IFERROR($E228*SUMIF('Daily Log'!$BD$18:$BD$1017,$B228,'Daily Log'!$BE$18:$BE$1017),0)","v":0},{"$f":"IFERROR($E228*SUMIF('Daily Log'!$BG$18:$BG$1017,$B228,'Daily Log'!$BH$18:$BH$1017),0)","v":0},{"$f":"IFERROR($E228*SUMIF('Daily Log'!$BJ$18:$BJ$1017,$B228,'Daily Log'!$BK$18:$BK$1017),0)","v":0},{"$f":"IFERROR($E228*SUMIF('Daily Log'!$BM$18:$BM$1017,$B228,'Daily Log'!$BN$18:$BN$1017),0)","v":0},{"$f":"IFERROR($E228*SUMIF('Daily Log'!$BP$18:$BP$1017,$B228,'Daily Log'!$BQ$18:$BQ$1017),0)","v":0},{"$f":"IFERROR($E228*SUMIF('Daily Log'!$BS$18:$BS$1017,$B228,'Daily Log'!$BT$18:$BT$1017),0)","v":0},{"$f":"IFERROR($E228*SUMIF('Daily Log'!$BV$18:$BV$1017,$B228,'Daily Log'!$BW$18:$BW$1017),0)","v":0},{"$f":"IFERROR($E228*SUMIF('Daily Log'!$BY$18:$BY$1017,$B228,'Daily Log'!$BZ$18:$BZ$1017),0)","v":0},{"$f":"IFERROR($E228*SUMIF('Daily Log'!$CB$18:$CB$1017,$B228,'Daily Log'!$CC$18:$CC$1017),0)","v":0},{"$f":"IFERROR($E228*SUMIF('Daily Log'!$CE$18:$CE$1017,$B228,'Daily Log'!$CF$18:$CF$1017),0)","v":0},{"$f":"IFERROR($E228*SUMIF('Daily Log'!$CH$18:$CH$1017,$B228,'Daily Log'!$CI$18:$CI$1017),0)","v":0},{"$f":"IFERROR($E228*SUMIF('Daily Log'!$CK$18:$CK$1017,$B228,'Daily Log'!$CL$18:$CL$1017),0)","v":0},{"$f":"IFERROR($E228*SUMIF('Daily Log'!$CN$18:$CN$1017,$B228,'Daily Log'!$CO$18:$CO$1017),0)","v":0}]
[null,"ZAB08 1308 MC RING",null,null,1,10,{"$f":"IFERROR($E229*SUMIF('Daily Log'!$B$18:$B$1017,$B229,'Daily Log'!$C$18:$C$1017),0)","v":0},{"$f":"IFERROR($E229*SUMIF('Daily Log'!$E$18:$E$1017,$B229,'Daily Log'!$F$18:$F$1017),0)","v":0},{"$f":"IFERROR($E229*SUMIF('Daily Log'!$H$18:$H$1017,$B229,'Daily Log'!$I$18:$I$1017),0)","v":0},{"$f":"IFERROR($E229*SUMIF('Daily Log'!$K$18:$K$1017,$B229,'Daily Log'!$L$18:$L$1017),0)","v":0},{"$f":"IFERROR($E229*SUMIF('Daily Log'!$N$18:$N$1017,$B229,'Daily Log'!$O$18:$O$1017),0)","v":0},{"$f":"IFERROR($E229*SUMIF('Daily Log'!$Q$18:$Q$1017,$B229,'Daily Log'!$R$18:$R$1017),0)","v":0},{"$f":"IFERROR($E229*SUMIF('Daily Log'!$T$18:$T$1017,$B229,'Daily Log'!$U$18:$U$1017),0)","v":0},{"$f":"IFERROR($E229*SUMIF('Daily Log'!$W$18:$W$1017,$B229,'Daily Log'!$X$18:$X$1017),0)","v":0},{"$f":"IFERROR($E229*SUMIF('Daily Log'!$Z$18:$Z$1017,$B229,'Daily Log'!$AA$18:$AA$1017),0)","v":0},{"$f":"IFERROR($E229*SUMIF('Daily Log'!$AC$18:$AC$1017,$B229,'Daily Log'!$AD$18:$AD$1017),0)","v":0},{"$f":"IFERROR($E229*SUMIF('Daily Log'!$AF$18:$AF$1017,$B229,'Daily Log'!$AG$18:$AG$1017),0)","v":0},{"$f":"IFERROR($E229*SUMIF('Daily Log'!$AI$18:$AI$1017,$B229,'Daily Log'!$AJ$18:$AJ$1017),0)","v":0},{"$f":"IFERROR($E229*SUMIF('Daily Log'!$AL$18:$AL$1017,$B229,'Daily Log'!$AM$18:$AM$1017),0)","v":0},{"$f":"IFERROR($E229*SUMIF('Daily Log'!$AO$18:$AO$1017,$B229,'Daily Log'!$AP$18:$AP$1017),0)","v":0},{"$f":"IFERROR($E229*SUMIF('Daily Log'!$AR$18:$AR$1017,$B229,'Daily Log'!$AS$18:$AS$1017),0)","v":0},{"$f":"IFERROR($E229*SUMIF('Daily Log'!$AU$18:$AU$1017,$B229,'Daily Log'!$AV$18:$AV$1017),0)","v":0},{"$f":"IFERROR($E229*SUMIF('Daily Log'!$AX$18:$AX$1017,$B229,'Daily Log'!$AY$18:$AY$1017),0)","v":0},{"$f":"IFERROR($E229*SUMIF('Daily Log'!$BA$18:$BA$1017,$B229,'Daily Log'!$BB$18:$BB$1017),0)","v":0},{"$f":"IFERROR($E229*SUMIF('Daily Log'!$BD$18:$BD$1017,$B229,'Daily Log'!$BE$18:$BE$1017),0)","v":0},{"$f":"IFERROR($E229*SUMIF('Daily Log'!$BG$18:$BG$1017,$B229,'Daily Log'!$BH$18:$BH$1017),0)","v":0},{"$f":"IFERROR($E229*SUMIF('Daily Log'!$BJ$18:$BJ$1017,$B229,'Daily Log'!$BK$18:$BK$1017),0)","v":0},{"$f":"IFERROR($E229*SUMIF('Daily Log'!$BM$18:$BM$1017,$B229,'Daily Log'!$BN$18:$BN$1017),0)","v":0},{"$f":"IFERROR($E229*SUMIF('Daily Log'!$BP$18:$BP$1017,$B229,'Daily Log'!$BQ$18:$BQ$1017),0)","v":0},{"$f":"IFERROR($E229*SUMIF('Daily Log'!$BS$18:$BS$1017,$B229,'Daily Log'!$BT$18:$BT$1017),0)","v":0},{"$f":"IFERROR($E229*SUMIF('Daily Log'!$BV$18:$BV$1017,$B229,'Daily Log'!$BW$18:$BW$1017),0)","v":0},{"$f":"IFERROR($E229*SUMIF('Daily Log'!$BY$18:$BY$1017,$B229,'Daily Log'!$BZ$18:$BZ$1017),0)","v":0},{"$f":"IFERROR($E229*SUMIF('Daily Log'!$CB$18:$CB$1017,$B229,'Daily Log'!$CC$18:$CC$1017),0)","v":0},{"$f":"IFERROR($E229*SUMIF('Daily Log'!$CE$18:$CE$1017,$B229,'Daily Log'!$CF$18:$CF$1017),0)","v":0},{"$f":"IFERROR($E229*SUMIF('Daily Log'!$CH$18:$CH$1017,$B229,'Daily Log'!$CI$18:$CI$1017),0)","v":0},{"$f":"IFERROR($E229*SUMIF('Daily Log'!$CK$18:$CK$1017,$B229,'Daily Log'!$CL$18:$CL$1017),0)","v":10},{"$f":"IFERROR($E229*SUMIF('Daily Log'!$CN$18:$CN$1017,$B229,'Daily Log'!$CO$18:$CO$1017),0)","v":0}]
[null,"ZAB09 1309:MC SPIRAL F",null,null,1,13,{"$f":"IFERROR($E230*SUMIF('Daily Log'!$B$18:$B$1017,$B230,'Daily Log'!$C$18:$C$1017),0)","v":0},{"$f":"IFERROR($E230*SUMIF('Daily Log'!$E$18:$E$1017,$B230,'Daily Log'!$F$18:$F$1017),0)","v":0},{"$f":"IFERROR($E230*SUMIF('Daily Log'!$H$18:$H$1017,$B230,'Daily Log'!$I$18:$I$1017),0)","v":0},{"$f":"IFERROR($E230*SUMIF('Daily Log'!$K$18:$K$1017,$B230,'Daily Log'!$L$18:$L$1017),0)","v":0},{"$f":"IFERROR($E230*SUMIF('Daily Log'!$N$18:$N$1017,$B230,'Daily Log'!$O$18:$O$1017),0)","v":0},{"$f":"IFERROR($E230*SUMIF('Daily Log'!$Q$18:$Q$1017,$B230,'Daily Log'!$R$18:$R$1017),0)","v":0},{"$f":"IFERROR($E230*SUMIF('Daily Log'!$T$18:$T$1017,$B230,'Daily Log'!$U$18:$U$1017),0)","v":0},{"$f":"IFERROR($E230*SUMIF('Daily Log'!$W$18:$W$1017,$B230,'Daily Log'!$X$18:$X$1017),0)","v":0},{"$f":"IFERROR($E230*SUMIF('Daily Log'!$Z$18:$Z$1017,$B230,'Daily Log'!$AA$18:$AA$1017),0)","v":0},{"$f":"IFERROR($E230*SUMIF('Daily Log'!$AC$18:$AC$1017,$B230,'Daily Log'!$AD$18:$AD$1017),0)","v":0},{"$f":"IFERROR($E230*SUMIF('Daily Log'!$AF$18:$AF$1017,$B230,'Daily Log'!$AG$18:$AG$1017),0)","v":0},{"$f":"IFERROR($E230*SUMIF('Daily Log'!$AI$18:$AI$1017,$B230,'Daily Log'!$AJ$18:$AJ$1017),0)","v":0},{"$f":"IFERROR($E230*SUMIF('Daily Log'!$AL$18:$AL$1017,$B230,'Daily Log'!$AM$18:$AM$1017),0)","v":0},{"$f":"IFERROR($E230*SUMIF('Daily Log'!$AO$18:$AO$1017,$B230,'Daily Log'!$AP$18:$AP$1017),0)","v":0},{"$f":"IFERROR($E230*SUMIF('Daily Log'!$AR$18:$AR$1017,$B230,'Daily Log'!$AS$18:$AS$1017),0)","v":0},{"$f":"IFERROR($E230*SUMIF('Daily Log'!$AU$18:$AU$1017,$B230,'Daily Log'!$AV$18:$AV$1017),0)","v":0},{"$f":"IFERROR($E230*SUMIF('Daily Log'!$AX$18:$AX$1017,$B230,'Daily Log'!$AY$18:$AY$1017),0)","v":0},{"$f":"IFERROR($E230*SUMIF('Daily Log'!$BA$18:$BA$1017,$B230,'Daily Log'!$BB$18:$BB$1017),0)","v":0},{"$f":"IFERROR($E230*SUMIF('Daily Log'!$BD$18:$BD$1017,$B230,'Daily Log'!$BE$18:$BE$1017),0)","v":0},{"$f":"IFERROR($E230*SUMIF('Daily Log'!$BG$18:$BG$1017,$B230,'Daily Log'!$BH$18:$BH$1017),0)","v":0},{"$f":"IFERROR($E230*SUMIF('Daily Log'!$BJ$18:$BJ$1017,$B230,'Daily Log'!$BK$18:$BK$1017),0)","v":0},{"$f":"IFERROR($E230*SUMIF('Daily Log'!$BM$18:$BM$1017,$B230,'Daily Log'!$BN$18:$BN$1017),0)","v":0},{"$f":"IFERROR($E230*SUMIF('Daily Log'!$BP$18:$BP$1017,$B230,'Daily Log'!$BQ$18:$BQ$1017),0)","v":0},{"$f":"IFERROR($E230*SUMIF('Daily Log'!$BS$18:$BS$1017,$B230,'Daily Log'!$BT$18:$BT$1017),0)","v":0},{"$f":"IFERROR($E230*SUMIF('Daily Log'!$BV$18:$BV$1017,$B230,'Daily Log'!$BW$18:$BW$1017),0)","v":0},{"$f":"IFERROR($E230*SUMIF('Daily Log'!$BY$18:$BY$1017,$B230,'Daily Log'!$BZ$18:$BZ$1017),0)","v":0},{"$f":"IFERROR($E230*SUMIF('Daily Log'!$CB$18:$CB$1017,$B230,'Daily Log'!$CC$18:$CC$1017),0)","v":0},{"$f":"IFERROR($E230*SUMIF('Daily Log'!$CE$18:$CE$1017,$B230,'Daily Log'!$CF$18:$CF$1017),0)","v":0},{"$f":"IFERROR($E230*SUMIF('Daily Log'!$CH$18:$CH$1017,$B230,'Daily Log'!$CI$18:$CI$1017),0)","v":0},{"$f":"IFERROR($E230*SUMIF('Daily Log'!$CK$18:$CK$1017,$B230,'Daily Log'!$CL$18:$CL$1017),0)","v":13},{"$f":"IFERROR($E230*SUMIF('Daily Log'!$CN$18:$CN$1017,$B230,'Daily Log'!$CO$18:$CO$1017),0)","v":0}]
[null,"ZAB10 1310:MC HP SMILE",null,null,1,3,{"$f":"IFERROR($E231*SUMIF('Daily Log'!$B$18:$B$1017,$B231,'Daily Log'!$C$18:$C$1017),0)","v":0},{"$f":"IFERROR($E231*SUMIF('Daily Log'!$E$18:$E$1017,$B231,'Daily Log'!$F$18:$F$1017),0)","v":0},{"$f":"IFERROR($E231*SUMIF('Daily Log'!$H$18:$H$1017,$B231,'Daily Log'!$I$18:$I$1017),0)","v":0},{"$f":"IFERROR($E231*SUMIF('Daily Log'!$K$18:$K$1017,$B231,'Daily Log'!$L$18:$L$1017),0)","v":0},{"$f":"IFERROR($E231*SUMIF('Daily Log'!$N$18:$N$1017,$B231,'Daily Log'!$O$18:$O$1017),0)","v":0},{"$f":"IFERROR($E231*SUMIF('Daily Log'!$Q$18:$Q$1017,$B231,'Daily Log'!$R$18:$R$1017),0)","v":0},{"$f":"IFERROR($E231*SUMIF('Daily Log'!$T$18:$T$1017,$B231,'Daily Log'!$U$18:$U$1017),0)","v":0},{"$f":"IFERROR($E231*SUMIF('Daily Log'!$W$18:$W$1017,$B231,'Daily Log'!$X$18:$X$1017),0)","v":0},{"$f":"IFERROR($E231*SUMIF('Daily Log'!$Z$18:$Z$1017,$B231,'Daily Log'!$AA$18:$AA$1017),0)","v":0},{"$f":"IFERROR($E231*SUMIF('Daily Log'!$AC$18:$AC$1017,$B231,'Daily Log'!$AD$18:$AD$1017),0)","v":0},{"$f":"IFERROR($E231*SUMIF('Daily Log'!$AF$18:$AF$1017,$B231,'Daily Log'!$AG$18:$AG$1017),0)","v":0},{"$f":"IFERROR($E231*SUMIF('Daily Log'!$AI$18:$AI$1017,$B231,'Daily Log'!$AJ$18:$AJ$1017),0)","v":0},{"$f":"IFERROR($E231*SUMIF('Daily Log'!$AL$18:$AL$1017,$B231,'Daily Log'!$AM$18:$AM$1017),0)","v":0},{"$f":"IFERROR($E231*SUMIF('Daily Log'!$AO$18:$AO$1017,$B231,'Daily Log'!$AP$18:$AP$1017),0)","v":0},{"$f":"IFERROR($E231*SUMIF('Daily Log'!$AR$18:$AR$1017,$B231,'Daily Log'!$AS$18:$AS$1017),0)","v":0},{"$f":"IFERROR($E231*SUMIF('Daily Log'!$AU$18:$AU$1017,$B231,'Daily Log'!$AV$18:$AV$1017),0)","v":0},{"$f":"IFERROR($E231*SUMIF('Daily Log'!$AX$18:$AX$1017,$B231,'Daily Log'!$AY$18:$AY$1017),0)","v":0},{"$f":"IFERROR($E231*SUMIF('Daily Log'!$BA$18:$BA$1017,$B231,'Daily Log'!$BB$18:$BB$1017),0)","v":0},{"$f":"IFERROR($E231*SUMIF('Daily Log'!$BD$18:$BD$1017,$B231,'Daily Log'!$BE$18:$BE$1017),0)","v":0},{"$f":"IFERROR($E231*SUMIF('Daily Log'!$BG$18:$BG$1017,$B231,'Daily Log'!$BH$18:$BH$1017),0)","v":0},{"$f":"IFERROR($E231*SUMIF('Daily Log'!$BJ$18:$BJ$1017,$B231,'Daily Log'!$BK$18:$BK$1017),0)","v":0},{"$f":"IFERROR($E231*SUMIF('Daily Log'!$BM$18:$BM$1017,$B231,'Daily Log'!$BN$18:$BN$1017),0)","v":0},{"$f":"IFERROR($E231*SUMIF('Daily Log'!$BP$18:$BP$1017,$B231,'Daily Log'!$BQ$18:$BQ$1017),0)","v":0},{"$f":"IFERROR($E231*SUMIF('Daily Log'!$BS$18:$BS$1017,$B231,'Daily Log'!$BT$18:$BT$1017),0)","v":0},{"$f":"IFERROR($E231*SUMIF('Daily Log'!$BV$18:$BV$1017,$B231,'Daily Log'!$BW$18:$BW$1017),0)","v":0},{"$f":"IFERROR($E231*SUMIF('Daily Log'!$BY$18:$BY$1017,$B231,'Daily Log'!$BZ$18:$BZ$1017),0)","v":0},{"$f":"IFERROR($E231*SUMIF('Daily Log'!$CB$18:$CB$1017,$B231,'Daily Log'!$CC$18:$CC$1017),0)","v":0},{"$f":"IFERROR($E231*SUMIF('Daily Log'!$CE$18:$CE$1017,$B231,'Daily Log'!$CF$18:$CF$1017),0)","v":0},{"$f":"IFERROR($E231*SUMIF('Daily Log'!$CH$18:$CH$1017,$B231,'Daily Log'!$CI$18:$CI$1017),0)","v":0},{"$f":"IFERROR($E231*SUMIF('Daily Log'!$CK$18:$CK$1017,$B231,'Daily Log'!$CL$18:$CL$1017),0)","v":3},{"$f":"IFERROR($E231*SUMIF('Daily Log'!$CN$18:$CN$1017,$B231,'Daily Log'!$CO$18:$CO$1017),0)","v":0}]
[null,"ZAB11 1311:MC HASH BRW",null,null,1,7,{"$f":"IFERROR($E232*SUMIF('Daily Log'!$B$18:$B$1017,$B232,'Daily Log'!$C$18:$C$1017),0)","v":0},{"$f":"IFERROR($E232*SUMIF('Daily Log'!$E$18:$E$1017,$B232,'Daily Log'!$F$18:$F$1017),0)","v":0},{"$f":"IFERROR($E232*SUMIF('Daily Log'!$H$18:$H$1017,$B232,'Daily Log'!$I$18:$I$1017),0)","v":0},{"$f":"IFERROR($E232*SUMIF('Daily Log'!$K$18:$K$1017,$B232,'Daily Log'!$L$18:$L$1017),0)","v":0},{"$f":"IFERROR($E232*SUMIF('Daily Log'!$N$18:$N$1017,$B232,'Daily Log'!$O$18:$O$1017),0)","v":0},{"$f":"IFERROR($E232*SUMIF('Daily Log'!$Q$18:$Q$1017,$B232,'Daily Log'!$R$18:$R$1017),0)","v":0},{"$f":"IFERROR($E232*SUMIF('Daily Log'!$T$18:$T$1017,$B232,'Daily Log'!$U$18:$U$1017),0)","v":0},{"$f":"IFERROR($E232*SUMIF('Daily Log'!$W$18:$W$1017,$B232,'Daily Log'!$X$18:$X$1017),0)","v":0},{"$f":"IFERROR($E232*SUMIF('Daily Log'!$Z$18:$Z$1017,$B232,'Daily Log'!$AA$18:$AA$1017),0)","v":0},{"$f":"IFERROR($E232*SUMIF('Daily Log'!$AC$18:$AC$1017,$B232,'Daily Log'!$AD$18:$AD$1017),0)","v":0},{"$f":"IFERROR($E232*SUMIF('Daily Log'!$AF$18:$AF$1017,$B232,'Daily Log'!$AG$18:$AG$1017),0)","v":0},{"$f":"IFERROR($E232*SUMIF('Daily Log'!$AI$18:$AI$1017,$B232,'Daily Log'!$AJ$18:$AJ$1017),0)","v":0},{"$f":"IFERROR($E232*SUMIF('Daily Log'!$AL$18:$AL$1017,$B232,'Daily Log'!$AM$18:$AM$1017),0)","v":0},{"$f":"IFERROR($E232*SUMIF('Daily Log'!$AO$18:$AO$1017,$B232,'Daily Log'!$AP$18:$AP$1017),0)","v":0},{"$f":"IFERROR($E232*SUMIF('Daily Log'!$AR$18:$AR$1017,$B232,'Daily Log'!$AS$18:$AS$1017),0)","v":0},{"$f":"IFERROR($E232*SUMIF('Daily Log'!$AU$18:$AU$1017,$B232,'Daily Log'!$AV$18:$AV$1017),0)","v":0},{"$f":"IFERROR($E232*SUMIF('Daily Log'!$AX$18:$AX$1017,$B232,'Daily Log'!$AY$18:$AY$1017),0)","v":0},{"$f":"IFERROR($E232*SUMIF('Daily Log'!$BA$18:$BA$1017,$B232,'Daily Log'!$BB$18:$BB$1017),0)","v":0},{"$f":"IFERROR($E232*SUMIF('Daily Log'!$BD$18:$BD$1017,$B232,'Daily Log'!$BE$18:$BE$1017),0)","v":0},{"$f":"IFERROR($E232*SUMIF('Daily Log'!$BG$18:$BG$1017,$B232,'Daily Log'!$BH$18:$BH$1017),0)","v":0},{"$f":"IFERROR($E232*SUMIF('Daily Log'!$BJ$18:$BJ$1017,$B232,'Daily Log'!$BK$18:$BK$1017),0)","v":0},{"$f":"IFERROR($E232*SUMIF('Daily Log'!$BM$18:$BM$1017,$B232,'Daily Log'!$BN$18:$BN$1017),0)","v":0},{"$f":"IFERROR($E232*SUMIF('Daily Log'!$BP$18:$BP$1017,$B232,'Daily Log'!$BQ$18:$BQ$1017),0)","v":0},{"$f":"IFERROR($E232*SUMIF('Daily Log'!$BS$18:$BS$1017,$B232,'Daily Log'!$BT$18:$BT$1017),0)","v":0},{"$f":"IFERROR($E232*SUMIF('Daily Log'!$BV$18:$BV$1017,$B232,'Daily Log'!$BW$18:$BW$1017),0)","v":0},{"$f":"IFERROR($E232*SUMIF('Daily Log'!$BY$18:$BY$1017,$B232,'Daily Log'!$BZ$18:$BZ$1017),0)","v":0},{"$f":"IFERROR($E232*SUMIF('Daily Log'!$CB$18:$CB$1017,$B232,'Daily Log'!$CC$18:$CC$1017),0)","v":0},{"$f":"IFERROR($E232*SUMIF('Daily Log'!$CE$18:$CE$1017,$B232,'Daily Log'!$CF$18:$CF$1017),0)","v":0},{"$f":"IFERROR($E232*SUMIF('Daily Log'!$CH$18:$CH$1017,$B232,'Daily Log'!$CI$18:$CI$1017),0)","v":0},{"$f":"IFERROR($E232*SUMIF('Daily Log'!$CK$18:$CK$1017,$B232,'Daily Log'!$CL$18:$CL$1017),0)","v":7},{"$f":"IFERROR($E232*SUMIF('Daily Log'!$CN$18:$CN$1017,$B232,'Daily Log'!$CO$18:$CO$1017),0)","v":0}]
[null,"ZTC01 80001:CHK HAM",null,null,1,1,{"$f":"IFERROR($E233*SUMIF('Daily Log'!$B$18:$B$1017,$B233,'Daily Log'!$C$18:$C$1017),0)","v":0},{"$f":"IFERROR($E233*SUMIF('Daily Log'!$E$18:$E$1017,$B233,'Daily Log'!$F$18:$F$1017),0)","v":0},{"$f":"IFERROR($E233*SUMIF('Daily Log'!$H$18:$H$1017,$B233,'Daily Log'!$I$18:$I$1017),0)","v":0},{"$f":"IFERROR($E233*SUMIF('Daily Log'!$K$18:$K$1017,$B233,'Daily Log'!$L$18:$L$1017),0)","v":0},{"$f":"IFERROR($E233*SUMIF('Daily Log'!$N$18:$N$1017,$B233,'Daily Log'!$O$18:$O$1017),0)","v":0},{"$f":"IFERROR($E233*SUMIF('Daily Log'!$Q$18:$Q$1017,$B233,'Daily Log'!$R$18:$R$1017),0)","v":0},{"$f":"IFERROR($E233*SUMIF('Daily Log'!$T$18:$T$1017,$B233,'Daily Log'!$U$18:$U$1017),0)","v":0},{"$f":"IFERROR($E233*SUMIF('Daily Log'!$W$18:$W$1017,$B233,'Daily Log'!$X$18:$X$1017),0)","v":0},{"$f":"IFERROR($E233*SUMIF('Daily Log'!$Z$18:$Z$1017,$B233,'Daily Log'!$AA$18:$AA$1017),0)","v":0},{"$f":"IFERROR($E233*SUMIF('Daily Log'!$AC$18:$AC$1017,$B233,'Daily Log'!$AD$18:$AD$1017),0)","v":0},{"$f":"IFERROR($E233*SUMIF('Daily Log'!$AF$18:$AF$1017,$B233,'Daily Log'!$AG$18:$AG$1017),0)","v":0},{"$f":"IFERROR($E233*SUMIF('Daily Log'!$AI$18:$AI$1017,$B233,'Daily Log'!$AJ$18:$AJ$1017),0)","v":0},{"$f":"IFERROR($E233*SUMIF('Daily Log'!$AL$18:$AL$1017,$B233,'Daily Log'!$AM$18:$AM$1017),0)","v":0},{"$f":"IFERROR($E233*SUMIF('Daily Log'!$AO$18:$AO$1017,$B233,'Daily Log'!$AP$18:$AP$1017),0)","v":0},{"$f":"IFERROR($E233*SUMIF('Daily Log'!$AR$18:$AR$1017,$B233,'Daily Log'!$AS$18:$AS$1017),0)","v":0},{"$f":"IFERROR($E233*SUMIF('Daily Log'!$AU$18:$AU$1017,$B233,'Daily Log'!$AV$18:$AV$1017),0)","v":0},{"$f":"IFERROR($E233*SUMIF('Daily Log'!$AX$18:$AX$1017,$B233,'Daily Log'!$AY$18:$AY$1017),0)","v":0},{"$f":"IFERROR($E233*SUMIF('Daily Log'!$BA$18:$BA$1017,$B233,'Daily Log'!$BB$18:$BB$1017),0)","v":0},{"$f":"IFERROR($E233*SUMIF('Daily Log'!$BD$18:$BD$1017,$B233,'Daily Log'!$BE$18:$BE$1017),0)","v":0},{"$f":"IFERROR($E233*SUMIF('Daily Log'!$BG$18:$BG$1017,$B233,'Daily Log'!$BH$18:$BH$1017),0)","v":0},{"$f":"IFERROR($E233*SUMIF('Daily Log'!$BJ$18:$BJ$1017,$B233,'Daily Log'!$BK$18:$BK$1017),0)","v":0},{"$f":"IFERROR($E233*SUMIF('Daily Log'!$BM$18:$BM$1017,$B233,'Daily Log'!$BN$18:$BN$1017),0)","v":0},{"$f":"IFERROR($E233*SUMIF('Daily Log'!$BP$18:$BP$1017,$B233,'Daily Log'!$BQ$18:$BQ$1017),0)","v":0},{"$f":"IFERROR($E233*SUMIF('Daily Log'!$BS$18:$BS$1017,$B233,'Daily Log'!$BT$18:$BT$1017),0)","v":0},{"$f":"IFERROR($E233*SUMIF('Daily Log'!$BV$18:$BV$1017,$B233,'Daily Log'!$BW$18:$BW$1017),0)","v":0},{"$f":"IFERROR($E233*SUMIF('Daily Log'!$BY$18:$BY$1017,$B233,'Daily Log'!$BZ$18:$BZ$1017),0)","v":0},{"$f":"IFERROR($E233*SUMIF('Daily Log'!$CB$18:$CB$1017,$B233,'Daily Log'!$CC$18:$CC$1017),0)","v":0},{"$f":"IFERROR($E233*SUMIF('Daily Log'!$CE$18:$CE$1017,$B233,'Daily Log'!$CF$18:$CF$1017),0)","v":0},{"$f":"IFERROR($E233*SUMIF('Daily Log'!$CH$18:$CH$1017,$B233,'Daily Log'!$CI$18:$CI$1017),0)","v":0},{"$f":"IFERROR($E233*SUMIF('Daily Log'!$CK$18:$CK$1017,$B233,'Daily Log'!$CL$18:$CL$1017),0)","v":1},{"$f":"IFERROR($E233*SUMIF('Daily Log'!$CN$18:$CN$1017,$B233,'Daily Log'!$CO$18:$CO$1017),0)","v":0}]
[null,"ZTC02 80002:CHK KIDNEY",null,null,1,2,{"$f":"IFERROR($E234*SUMIF('Daily Log'!$B$18:$B$1017,$B234,'Daily Log'!$C$18:$C$1017),0)","v":0},{"$f":"IFERROR($E234*SUMIF('Daily Log'!$E$18:$E$1017,$B234,'Daily Log'!$F$18:$F$1017),0)","v":0},{"$f":"IFERROR($E234*SUMIF('Daily Log'!$H$18:$H$1017,$B234,'Daily Log'!$I$18:$I$1017),0)","v":0},{"$f":"IFERROR($E234*SUMIF('Daily Log'!$K$18:$K$1017,$B234,'Daily Log'!$L$18:$L$1017),0)","v":0},{"$f":"IFERROR($E234*SUMIF('Daily Log'!$N$18:$N$1017,$B234,'Daily Log'!$O$18:$O$1017),0)","v":0},{"$f":"IFERROR($E234*SUMIF('Daily Log'!$Q$18:$Q$1017,$B234,'Daily Log'!$R$18:$R$1017),0)","v":0},{"$f":"IFERROR($E234*SUMIF('Daily Log'!$T$18:$T$1017,$B234,'Daily Log'!$U$18:$U$1017),0)","v":0},{"$f":"IFERROR($E234*SUMIF('Daily Log'!$W$18:$W$1017,$B234,'Daily Log'!$X$18:$X$1017),0)","v":0},{"$f":"IFERROR($E234*SUMIF('Daily Log'!$Z$18:$Z$1017,$B234,'Daily Log'!$AA$18:$AA$1017),0)","v":0},{"$f":"IFERROR($E234*SUMIF('Daily Log'!$AC$18:$AC$1017,$B234,'Daily Log'!$AD$18:$AD$1017),0)","v":0},{"$f":"IFERROR($E234*SUMIF('Daily Log'!$AF$18:$AF$1017,$B234,'Daily Log'!$AG$18:$AG$1017),0)","v":0},{"$f":"IFERROR($E234*SUMIF('Daily Log'!$AI$18:$AI$1017,$B234,'Daily Log'!$AJ$18:$AJ$1017),0)","v":0},{"$f":"IFERROR($E234*SUMIF('Daily Log'!$AL$18:$AL$1017,$B234,'Daily Log'!$AM$18:$AM$1017),0)","v":0},{"$f":"IFERROR($E234*SUMIF('Daily Log'!$AO$18:$AO$1017,$B234,'Daily Log'!$AP$18:$AP$1017),0)","v":0},{"$f":"IFERROR($E234*SUMIF('Daily Log'!$AR$18:$AR$1017,$B234,'Daily Log'!$AS$18:$AS$1017),0)","v":0},{"$f":"IFERROR($E234*SUMIF('Daily Log'!$AU$18:$AU$1017,$B234,'Daily Log'!$AV$18:$AV$1017),0)","v":0},{"$f":"IFERROR($E234*SUMIF('Daily Log'!$AX$18:$AX$1017,$B234,'Daily Log'!$AY$18:$AY$1017),0)","v":0},{"$f":"IFERROR($E234*SUMIF('Daily Log'!$BA$18:$BA$1017,$B234,'Daily Log'!$BB$18:$BB$1017),0)","v":0},{"$f":"IFERROR($E234*SUMIF('Daily Log'!$BD$18:$BD$1017,$B234,'Daily Log'!$BE$18:$BE$1017),0)","v":0},{"$f":"IFERROR($E234*SUMIF('Daily Log'!$BG$18:$BG$1017,$B234,'Daily Log'!$BH$18:$BH$1017),0)","v":0},{"$f":"IFERROR($E234*SUMIF('Daily Log'!$BJ$18:$BJ$1017,$B234,'Daily Log'!$BK$18:$BK$1017),0)","v":0},{"$f":"IFERROR($E234*SUMIF('Daily Log'!$BM$18:$BM$1017,$B234,'Daily Log'!$BN$18:$BN$1017),0)","v":0},{"$f":"IFERROR($E234*SUMIF('Daily Log'!$BP$18:$BP$1017,$B234,'Daily Log'!$BQ$18:$BQ$1017),0)","v":0},{"$f":"IFERROR($E234*SUMIF('Daily Log'!$BS$18:$BS$1017,$B234,'Daily Log'!$BT$18:$BT$1017),0)","v":0},{"$f":"IFERROR($E234*SUMIF('Daily Log'!$BV$18:$BV$1017,$B234,'Daily Log'!$BW$18:$BW$1017),0)","v":0},{"$f":"IFERROR($E234*SUMIF('Daily Log'!$BY$18:$BY$1017,$B234,'Daily Log'!$BZ$18:$BZ$1017),0)","v":0},{"$f":"IFERROR($E234*SUMIF('Daily Log'!$CB$18:$CB$1017,$B234,'Daily Log'!$CC$18:$CC$1017),0)","v":0},{"$f":"IFERROR($E234*SUMIF('Daily Log'!$CE$18:$CE$1017,$B234,'Daily Log'!$CF$18:$CF$1017),0)","v":0},{"$f":"IFERROR($E234*SUMIF('Daily Log'!$CH$18:$CH$1017,$B234,'Daily Log'!$CI$18:$CI$1017),0)","v":0},{"$f":"IFERROR($E234*SUMIF('Daily Log'!$CK$18:$CK$1017,$B234,'Daily Log'!$CL$18:$CL$1017),0)","v":2},{"$f":"IFERROR($E234*SUMIF('Daily Log'!$CN$18:$CN$1017,$B234,'Daily Log'!$CO$18:$CO$1017),0)","v":0}]
[null,"ZTC03 80003:COC SAUSG",null,null,1,2,{"$f":"IFERROR($E235*SUMIF('Daily Log'!$B$18:$B$1017,$B235,'Daily Log'!$C$18:$C$1017),0)","v":0},{"$f":"IFERROR($E235*SUMIF('Daily Log'!$E$18:$E$1017,$B235,'Daily Log'!$F$18:$F$1017),0)","v":0},{"$f":"IFERROR($E235*SUMIF('Daily Log'!$H$18:$H$1017,$B235,'Daily Log'!$I$18:$I$1017),0)","v":0},{"$f":"IFERROR($E235*SUMIF('Daily Log'!$K$18:$K$1017,$B235,'Daily Log'!$L$18:$L$1017),0)","v":0},{"$f":"IFERROR($E235*SUMIF('Daily Log'!$N$18:$N$1017,$B235,'Daily Log'!$O$18:$O$1017),0)","v":0},{"$f":"IFERROR($E235*SUMIF('Daily Log'!$Q$18:$Q$1017,$B235,'Daily Log'!$R$18:$R$1017),0)","v":0},{"$f":"IFERROR($E235*SUMIF('Daily Log'!$T$18:$T$1017,$B235,'Daily Log'!$U$18:$U$1017),0)","v":0},{"$f":"IFERROR($E235*SUMIF('Daily Log'!$W$18:$W$1017,$B235,'Daily Log'!$X$18:$X$1017),0)","v":0},{"$f":"IFERROR($E235*SUMIF('Daily Log'!$Z$18:$Z$1017,$B235,'Daily Log'!$AA$18:$AA$1017),0)","v":0},{"$f":"IFERROR($E235*SUMIF('Daily Log'!$AC$18:$AC$1017,$B235,'Daily Log'!$AD$18:$AD$1017),0)","v":0},{"$f":"IFERROR($E235*SUMIF('Daily Log'!$AF$18:$AF$1017,$B235,'Daily Log'!$AG$18:$AG$1017),0)","v":0},{"$f":"IFERROR($E235*SUMIF('Daily Log'!$AI$18:$AI$1017,$B235,'Daily Log'!$AJ$18:$AJ$1017),0)","v":0},{"$f":"IFERROR($E235*SUMIF('Daily Log'!$AL$18:$AL$1017,$B235,'Daily Log'!$AM$18:$AM$1017),0)","v":0},{"$f":"IFERROR($E235*SUMIF('Daily Log'!$AO$18:$AO$1017,$B235,'Daily Log'!$AP$18:$AP$1017),0)","v":0},{"$f":"IFERROR($E235*SUMIF('Daily Log'!$AR$18:$AR$1017,$B235,'Daily Log'!$AS$18:$AS$1017),0)","v":0},{"$f":"IFERROR($E235*SUMIF('Daily Log'!$AU$18:$AU$1017,$B235,'Daily Log'!$AV$18:$AV$1017),0)","v":0},{"$f":"IFERROR($E235*SUMIF('Daily Log'!$AX$18:$AX$1017,$B235,'Daily Log'!$AY$18:$AY$1017),0)","v":0},{"$f":"IFERROR($E235*SUMIF('Daily Log'!$BA$18:$BA$1017,$B235,'Daily Log'!$BB$18:$BB$1017),0)","v":0},{"$f":"IFERROR($E235*SUMIF('Daily Log'!$BD$18:$BD$1017,$B235,'Daily Log'!$BE$18:$BE$1017),0)","v":0},{"$f":"IFERROR($E235*SUMIF('Daily Log'!$BG$18:$BG$1017,$B235,'Daily Log'!$BH$18:$BH$1017),0)","v":0},{"$f":"IFERROR($E235*SUMIF('Daily Log'!$BJ$18:$BJ$1017,$B235,'Daily Log'!$BK$18:$BK$1017),0)","v":0},{"$f":"IFERROR($E235*SUMIF('Daily Log'!$BM$18:$BM$1017,$B235,'Daily Log'!$BN$18:$BN$1017),0)","v":0},{"$f":"IFERROR($E235*SUMIF('Daily Log'!$BP$18:$BP$1017,$B235,'Daily Log'!$BQ$18:$BQ$1017),0)","v":0},{"$f":"IFERROR($E235*SUMIF('Daily Log'!$BS$18:$BS$1017,$B235,'Daily Log'!$BT$18:$BT$1017),0)","v":0},{"$f":"IFERROR($E235*SUMIF('Daily Log'!$BV$18:$BV$1017,$B235,'Daily Log'!$BW$18:$BW$1017),0)","v":0},{"$f":"IFERROR($E235*SUMIF('Daily Log'!$BY$18:$BY$1017,$B235,'Daily Log'!$BZ$18:$BZ$1017),0)","v":0},{"$f":"IFERROR($E235*SUMIF('Daily Log'!$CB$18:$CB$1017,$B235,'Daily Log'!$CC$18:$CC$1017),0)","v":0},{"$f":"IFERROR($E235*SUMIF('Daily Log'!$CE$18:$CE$1017,$B235,'Daily Log'!$CF$18:$CF$1017),0)","v":0},{"$f":"IFERROR($E235*SUMIF('Daily Log'!$CH$18:$CH$1017,$B235,'Daily Log'!$CI$18:$CI$1017),0)","v":0},{"$f":"IFERROR($E235*SUMIF('Daily Log'!$CK$18:$CK$1017,$B235,'Daily Log'!$CL$18:$CL$1017),0)","v":2},{"$f":"IFERROR($E235*SUMIF('Daily Log'!$CN$18:$CN$1017,$B235,'Daily Log'!$CO$18:$CO$1017),0)","v":0}]
[null,"ZTC04 80004:CHK SAUSG",null,null,1,4,{"$f":"IFERROR($E236*SUMIF('Daily Log'!$B$18:$B$1017,$B236,'Daily Log'!$C$18:$C$1017),0)","v":0},{"$f":"IFERROR($E236*SUMIF('Daily Log'!$E$18:$E$1017,$B236,'Daily Log'!$F$18:$F$1017),0)","v":0},{"$f":"IFERROR($E236*SUMIF('Daily Log'!$H$18:$H$1017,$B236,'Daily Log'!$I$18:$I$1017),0)","v":0},{"$f":"IFERROR($E236*SUMIF('Daily Log'!$K$18:$K$1017,$B236,'Daily Log'!$L$18:$L$1017),0)","v":0},{"$f":"IFERROR($E236*SUMIF('Daily Log'!$N$18:$N$1017,$B236,'Daily Log'!$O$18:$O$1017),0)","v":0},{"$f":"IFERROR($E236*SUMIF('Daily Log'!$Q$18:$Q$1017,$B236,'Daily Log'!$R$18:$R$1017),0)","v":0},{"$f":"IFERROR($E236*SUMIF('Daily Log'!$T$18:$T$1017,$B236,'Daily Log'!$U$18:$U$1017),0)","v":0},{"$f":"IFERROR($E236*SUMIF('Daily Log'!$W$18:$W$1017,$B236,'Daily Log'!$X$18:$X$1017),0)","v":0},{"$f":"IFERROR($E236*SUMIF('Daily Log'!$Z$18:$Z$1017,$B236,'Daily Log'!$AA$18:$AA$1017),0)","v":0},{"$f":"IFERROR($E236*SUMIF('Daily Log'!$AC$18:$AC$1017,$B236,'Daily Log'!$AD$18:$AD$1017),0)","v":0},{"$f":"IFERROR($E236*SUMIF('Daily Log'!$AF$18:$AF$1017,$B236,'Daily Log'!$AG$18:$AG$1017),0)","v":0},{"$f":"IFERROR($E236*SUMIF('Daily Log'!$AI$18:$AI$1017,$B236,'Daily Log'!$AJ$18:$AJ$1017),0)","v":0},{"$f":"IFERROR($E236*SUMIF('Daily Log'!$AL$18:$AL$1017,$B236,'Daily Log'!$AM$18:$AM$1017),0)","v":0},{"$f":"IFERROR($E236*SUMIF('Daily Log'!$AO$18:$AO$1017,$B236,'Daily Log'!$AP$18:$AP$1017),0)","v":0},{"$f":"IFERROR($E236*SUMIF('Daily Log'!$AR$18:$AR$1017,$B236,'Daily Log'!$AS$18:$AS$1017),0)","v":0},{"$f":"IFERROR($E236*SUMIF('Daily Log'!$AU$18:$AU$1017,$B236,'Daily Log'!$AV$18:$AV$1017),0)","v":0},{"$f":"IFERROR($E236*SUMIF('Daily Log'!$AX$18:$AX$1017,$B236,'Daily Log'!$AY$18:$AY$1017),0)","v":0},{"$f":"IFERROR($E236*SUMIF('Daily Log'!$BA$18:$BA$1017,$B236,'Daily Log'!$BB$18:$BB$1017),0)","v":0},{"$f":"IFERROR($E236*SUMIF('Daily Log'!$BD$18:$BD$1017,$B236,'Daily Log'!$BE$18:$BE$1017),0)","v":0},{"$f":"IFERROR($E236*SUMIF('Daily Log'!$BG$18:$BG$1017,$B236,'Daily Log'!$BH$18:$BH$1017),0)","v":0},{"$f":"IFERROR($E236*SUMIF('Daily Log'!$BJ$18:$BJ$1017,$B236,'Daily Log'!$BK$18:$BK$1017),0)","v":0},{"$f":"IFERROR($E236*SUMIF('Daily Log'!$BM$18:$BM$1017,$B236,'Daily Log'!$BN$18:$BN$1017),0)","v":0},{"$f":"IFERROR($E236*SUMIF('Daily Log'!$BP$18:$BP$1017,$B236,'Daily Log'!$BQ$18:$BQ$1017),0)","v":0},{"$f":"IFERROR($E236*SUMIF('Daily Log'!$BS$18:$BS$1017,$B236,'Daily Log'!$BT$18:$BT$1017),0)","v":0},{"$f":"IFERROR($E236*SUMIF('Daily Log'!$BV$18:$BV$1017,$B236,'Daily Log'!$BW$18:$BW$1017),0)","v":0},{"$f":"IFERROR($E236*SUMIF('Daily Log'!$BY$18:$BY$1017,$B236,'Daily Log'!$BZ$18:$BZ$1017),0)","v":0},{"$f":"IFERROR($E236*SUMIF('Daily Log'!$CB$18:$CB$1017,$B236,'Daily Log'!$CC$18:$CC$1017),0)","v":0},{"$f":"IFERROR($E236*SUMIF('Daily Log'!$CE$18:$CE$1017,$B236,'Daily Log'!$CF$18:$CF$1017),0)","v":0},{"$f":"IFERROR($E236*SUMIF('Daily Log'!$CH$18:$CH$1017,$B236,'Daily Log'!$CI$18:$CI$1017),0)","v":0},{"$f":"IFERROR($E236*SUMIF('Daily Log'!$CK$18:$CK$1017,$B236,'Daily Log'!$CL$18:$CL$1017),0)","v":4},{"$f":"IFERROR($E236*SUMIF('Daily Log'!$CN$18:$CN$1017,$B236,'Daily Log'!$CO$18:$CO$1017),0)","v":0}]
[null,"ZTC05 80005:HAM&BEAN",null,null,1,1,{"$f":"IFERROR($E237*SUMIF('Daily Log'!$B$18:$B$1017,$B237,'Daily Log'!$C$18:$C$1017),0)","v":0},{"$f":"IFERROR($E237*SUMIF('Daily Log'!$E$18:$E$1017,$B237,'Daily Log'!$F$18:$F$1017),0)","v":0},{"$f":"IFERROR($E237*SUMIF('Daily Log'!$H$18:$H$1017,$B237,'Daily Log'!$I$18:$I$1017),0)","v":0},{"$f":"IFERROR($E237*SUMIF('Daily Log'!$K$18:$K$1017,$B237,'Daily Log'!$L$18:$L$1017),0)","v":0},{"$f":"IFERROR($E237*SUMIF('Daily Log'!$N$18:$N$1017,$B237,'Daily Log'!$O$18:$O$1017),0)","v":0},{"$f":"IFERROR($E237*SUMIF('Daily Log'!$Q$18:$Q$1017,$B237,'Daily Log'!$R$18:$R$1017),0)","v":0},{"$f":"IFERROR($E237*SUMIF('Daily Log'!$T$18:$T$1017,$B237,'Daily Log'!$U$18:$U$1017),0)","v":0},{"$f":"IFERROR($E237*SUMIF('Daily Log'!$W$18:$W$1017,$B237,'Daily Log'!$X$18:$X$1017),0)","v":0},{"$f":"IFERROR($E237*SUMIF('Daily Log'!$Z$18:$Z$1017,$B237,'Daily Log'!$AA$18:$AA$1017),0)","v":0},{"$f":"IFERROR($E237*SUMIF('Daily Log'!$AC$18:$AC$1017,$B237,'Daily Log'!$AD$18:$AD$1017),0)","v":0},{"$f":"IFERROR($E237*SUMIF('Daily Log'!$AF$18:$AF$1017,$B237,'Daily Log'!$AG$18:$AG$1017),0)","v":0},{"$f":"IFERROR($E237*SUMIF('Daily Log'!$AI$18:$AI$1017,$B237,'Daily Log'!$AJ$18:$AJ$1017),0)","v":0},{"$f":"IFERROR($E237*SUMIF('Daily Log'!$AL$18:$AL$1017,$B237,'Daily Log'!$AM$18:$AM$1017),0)","v":0},{"$f":"IFERROR($E237*SUMIF('Daily Log'!$AO$18:$AO$1017,$B237,'Daily Log'!$AP$18:$AP$1017),0)","v":0},{"$f":"IFERROR($E237*SUMIF('Daily Log'!$AR$18:$AR$1017,$B237,'Daily Log'!$AS$18:$AS$1017),0)","v":0},{"$f":"IFERROR($E237*SUMIF('Daily Log'!$AU$18:$AU$1017,$B237,'Daily Log'!$AV$18:$AV$1017),0)","v":0},{"$f":"IFERROR($E237*SUMIF('Daily Log'!$AX$18:$AX$1017,$B237,'Daily Log'!$AY$18:$AY$1017),0)","v":0},{"$f":"IFERROR($E237*SUMIF('Daily Log'!$BA$18:$BA$1017,$B237,'Daily Log'!$BB$18:$BB$1017),0)","v":0},{"$f":"IFERROR($E237*SUMIF('Daily Log'!$BD$18:$BD$1017,$B237,'Daily Log'!$BE$18:$BE$1017),0)","v":0},{"$f":"IFERROR($E237*SUMIF('Daily Log'!$BG$18:$BG$1017,$B237,'Daily Log'!$BH$18:$BH$1017),0)","v":0},{"$f":"IFERROR($E237*SUMIF('Daily Log'!$BJ$18:$BJ$1017,$B237,'Daily Log'!$BK$18:$BK$1017),0)","v":0},{"$f":"IFERROR($E237*SUMIF('Daily Log'!$BM$18:$BM$1017,$B237,'Daily Log'!$BN$18:$BN$1017),0)","v":0},{"$f":"IFERROR($E237*SUMIF('Daily Log'!$BP$18:$BP$1017,$B237,'Daily Log'!$BQ$18:$BQ$1017),0)","v":0},{"$f":"IFERROR($E237*SUMIF('Daily Log'!$BS$18:$BS$1017,$B237,'Daily Log'!$BT$18:$BT$1017),0)","v":0},{"$f":"IFERROR($E237*SUMIF('Daily Log'!$BV$18:$BV$1017,$B237,'Daily Log'!$BW$18:$BW$1017),0)","v":0},{"$f":"IFERROR($E237*SUMIF('Daily Log'!$BY$18:$BY$1017,$B237,'Daily Log'!$BZ$18:$BZ$1017),0)","v":0},{"$f":"IFERROR($E237*SUMIF('Daily Log'!$CB$18:$CB$1017,$B237,'Daily Log'!$CC$18:$CC$1017),0)","v":0},{"$f":"IFERROR($E237*SUMIF('Daily Log'!$CE$18:$CE$1017,$B237,'Daily Log'!$CF$18:$CF$1017),0)","v":0},{"$f":"IFERROR($E237*SUMIF('Daily Log'!$CH$18:$CH$1017,$B237,'Daily Log'!$CI$18:$CI$1017),0)","v":0},{"$f":"IFERROR($E237*SUMIF('Daily Log'!$CK$18:$CK$1017,$B237,'Daily Log'!$CL$18:$CL$1017),0)","v":1},{"$f":"IFERROR($E237*SUMIF('Daily Log'!$CN$18:$CN$1017,$B237,'Daily Log'!$CO$18:$CO$1017),0)","v":0}]
[null,"ZTC06 80006:CHK WING",null,null,1,20,{"$f":"IFERROR($E238*SUMIF('Daily Log'!$B$18:$B$1017,$B238,'Daily Log'!$C$18:$C$1017),0)","v":0},{"$f":"IFERROR($E238*SUMIF('Daily Log'!$E$18:$E$1017,$B238,'Daily Log'!$F$18:$F$1017),0)","v":0},{"$f":"IFERROR($E238*SUMIF('Daily Log'!$H$18:$H$1017,$B238,'Daily Log'!$I$18:$I$1017),0)","v":0},{"$f":"IFERROR($E238*SUMIF('Daily Log'!$K$18:$K$1017,$B238,'Daily Log'!$L$18:$L$1017),0)","v":0},{"$f":"IFERROR($E238*SUMIF('Daily Log'!$N$18:$N$1017,$B238,'Daily Log'!$O$18:$O$1017),0)","v":0},{"$f":"IFERROR($E238*SUMIF('Daily Log'!$Q$18:$Q$1017,$B238,'Daily Log'!$R$18:$R$1017),0)","v":0},{"$f":"IFERROR($E238*SUMIF('Daily Log'!$T$18:$T$1017,$B238,'Daily Log'!$U$18:$U$1017),0)","v":0},{"$f":"IFERROR($E238*SUMIF('Daily Log'!$W$18:$W$1017,$B238,'Daily Log'!$X$18:$X$1017),0)","v":0},{"$f":"IFERROR($E238*SUMIF('Daily Log'!$Z$18:$Z$1017,$B238,'Daily Log'!$AA$18:$AA$1017),0)","v":0},{"$f":"IFERROR($E238*SUMIF('Daily Log'!$AC$18:$AC$1017,$B238,'Daily Log'!$AD$18:$AD$1017),0)","v":0},{"$f":"IFERROR($E238*SUMIF('Daily Log'!$AF$18:$AF$1017,$B238,'Daily Log'!$AG$18:$AG$1017),0)","v":0},{"$f":"IFERROR($E238*SUMIF('Daily Log'!$AI$18:$AI$1017,$B238,'Daily Log'!$AJ$18:$AJ$1017),0)","v":0},{"$f":"IFERROR($E238*SUMIF('Daily Log'!$AL$18:$AL$1017,$B238,'Daily Log'!$AM$18:$AM$1017),0)","v":0},{"$f":"IFERROR($E238*SUMIF('Daily Log'!$AO$18:$AO$1017,$B238,'Daily Log'!$AP$18:$AP$1017),0)","v":0},{"$f":"IFERROR($E238*SUMIF('Daily Log'!$AR$18:$AR$1017,$B238,'Daily Log'!$AS$18:$AS$1017),0)","v":0},{"$f":"IFERROR($E238*SUMIF('Daily Log'!$AU$18:$AU$1017,$B238,'Daily Log'!$AV$18:$AV$1017),0)","v":0},{"$f":"IFERROR($E238*SUMIF('Daily Log'!$AX$18:$AX$1017,$B238,'Daily Log'!$AY$18:$AY$1017),0)","v":0},{"$f":"IFERROR($E238*SUMIF('Daily Log'!$BA$18:$BA$1017,$B238,'Daily Log'!$BB$18:$BB$1017),0)","v":0},{"$f":"IFERROR($E238*SUMIF('Daily Log'!$BD$18:$BD$1017,$B238,'Daily Log'!$BE$18:$BE$1017),0)","v":0},{"$f":"IFERROR($E238*SUMIF('Daily Log'!$BG$18:$BG$1017,$B238,'Daily Log'!$BH$18:$BH$1017),0)","v":0},{"$f":"IFERROR($E238*SUMIF('Daily Log'!$BJ$18:$BJ$1017,$B238,'Daily Log'!$BK$18:$BK$1017),0)","v":0},{"$f":"IFERROR($E238*SUMIF('Daily Log'!$BM$18:$BM$1017,$B238,'Daily Log'!$BN$18:$BN$1017),0)","v":0},{"$f":"IFERROR($E238*SUMIF('Daily Log'!$BP$18:$BP$1017,$B238,'Daily Log'!$BQ$18:$BQ$1017),0)","v":0},{"$f":"IFERROR($E238*SUMIF('Daily Log'!$BS$18:$BS$1017,$B238,'Daily Log'!$BT$18:$BT$1017),0)","v":0},{"$f":"IFERROR($E238*SUMIF('Daily Log'!$BV$18:$BV$1017,$B238,'Daily Log'!$BW$18:$BW$1017),0)","v":0},{"$f":"IFERROR($E238*SUMIF('Daily Log'!$BY$18:$BY$1017,$B238,'Daily Log'!$BZ$18:$BZ$1017),0)","v":0},{"$f":"IFERROR($E238*SUMIF('Daily Log'!$CB$18:$CB$1017,$B238,'Daily Log'!$CC$18:$CC$1017),0)","v":0},{"$f":"IFERROR($E238*SUMIF('Daily Log'!$CE$18:$CE$1017,$B238,'Daily Log'!$CF$18:$CF$1017),0)","v":0},{"$f":"IFERROR($E238*SUMIF('Daily Log'!$CH$18:$CH$1017,$B238,'Daily Log'!$CI$18:$CI$1017),0)","v":0},{"$f":"IFERROR($E238*SUMIF('Daily Log'!$CK$18:$CK$1017,$B238,'Daily Log'!$CL$18:$CL$1017),0)","v":20},{"$f":"IFERROR($E238*SUMIF('Daily Log'!$CN$18:$CN$1017,$B238,'Daily Log'!$CO$18:$CO$1017),0)","v":0}]
[null,"ZTC07 80007:CHEE H DOG",null,null,1,10,{"$f":"IFERROR($E239*SUMIF('Daily Log'!$B$18:$B$1017,$B239,'Daily Log'!$C$18:$C$1017),0)","v":0},{"$f":"IFERROR($E239*SUMIF('Daily Log'!$E$18:$E$1017,$B239,'Daily Log'!$F$18:$F$1017),0)","v":0},{"$f":"IFERROR($E239*SUMIF('Daily Log'!$H$18:$H$1017,$B239,'Daily Log'!$I$18:$I$1017),0)","v":0},{"$f":"IFERROR($E239*SUMIF('Daily Log'!$K$18:$K$1017,$B239,'Daily Log'!$L$18:$L$1017),0)","v":0},{"$f":"IFERROR($E239*SUMIF('Daily Log'!$N$18:$N$1017,$B239,'Daily Log'!$O$18:$O$1017),0)","v":0},{"$f":"IFERROR($E239*SUMIF('Daily Log'!$Q$18:$Q$1017,$B239,'Daily Log'!$R$18:$R$1017),0)","v":0},{"$f":"IFERROR($E239*SUMIF('Daily Log'!$T$18:$T$1017,$B239,'Daily Log'!$U$18:$U$1017),0)","v":0},{"$f":"IFERROR($E239*SUMIF('Daily Log'!$W$18:$W$1017,$B239,'Daily Log'!$X$18:$X$1017),0)","v":0},{"$f":"IFERROR($E239*SUMIF('Daily Log'!$Z$18:$Z$1017,$B239,'Daily Log'!$AA$18:$AA$1017),0)","v":0},{"$f":"IFERROR($E239*SUMIF('Daily Log'!$AC$18:$AC$1017,$B239,'Daily Log'!$AD$18:$AD$1017),0)","v":0},{"$f":"IFERROR($E239*SUMIF('Daily Log'!$AF$18:$AF$1017,$B239,'Daily Log'!$AG$18:$AG$1017),0)","v":0},{"$f":"IFERROR($E239*SUMIF('Daily Log'!$AI$18:$AI$1017,$B239,'Daily Log'!$AJ$18:$AJ$1017),0)","v":0},{"$f":"IFERROR($E239*SUMIF('Daily Log'!$AL$18:$AL$1017,$B239,'Daily Log'!$AM$18:$AM$1017),0)","v":0},{"$f":"IFERROR($E239*SUMIF('Daily Log'!$AO$18:$AO$1017,$B239,'Daily Log'!$AP$18:$AP$1017),0)","v":0},{"$f":"IFERROR($E239*SUMIF('Daily Log'!$AR$18:$AR$1017,$B239,'Daily Log'!$AS$18:$AS$1017),0)","v":0},{"$f":"IFERROR($E239*SUMIF('Daily Log'!$AU$18:$AU$1017,$B239,'Daily Log'!$AV$18:$AV$1017),0)","v":0},{"$f":"IFERROR($E239*SUMIF('Daily Log'!$AX$18:$AX$1017,$B239,'Daily Log'!$AY$18:$AY$1017),0)","v":0},{"$f":"IFERROR($E239*SUMIF('Daily Log'!$BA$18:$BA$1017,$B239,'Daily Log'!$BB$18:$BB$1017),0)","v":0},{"$f":"IFERROR($E239*SUMIF('Daily Log'!$BD$18:$BD$1017,$B239,'Daily Log'!$BE$18:$BE$1017),0)","v":0},{"$f":"IFERROR($E239*SUMIF('Daily Log'!$BG$18:$BG$1017,$B239,'Daily Log'!$BH$18:$BH$1017),0)","v":0},{"$f":"IFERROR($E239*SUMIF('Daily Log'!$BJ$18:$BJ$1017,$B239,'Daily Log'!$BK$18:$BK$1017),0)","v":0},{"$f":"IFERROR($E239*SUMIF('Daily Log'!$BM$18:$BM$1017,$B239,'Daily Log'!$BN$18:$BN$1017),0)","v":0},{"$f":"IFERROR($E239*SUMIF('Daily Log'!$BP$18:$BP$1017,$B239,'Daily Log'!$BQ$18:$BQ$1017),0)","v":0},{"$f":"IFERROR($E239*SUMIF('Daily Log'!$BS$18:$BS$1017,$B239,'Daily Log'!$BT$18:$BT$1017),0)","v":0},{"$f":"IFERROR($E239*SUMIF('Daily Log'!$BV$18:$BV$1017,$B239,'Daily Log'!$BW$18:$BW$1017),0)","v":0},{"$f":"IFERROR($E239*SUMIF('Daily Log'!$BY$18:$BY$1017,$B239,'Daily Log'!$BZ$18:$BZ$1017),0)","v":0},{"$f":"IFERROR($E239*SUMIF('Daily Log'!$CB$18:$CB$1017,$B239,'Daily Log'!$CC$18:$CC$1017),0)","v":0},{"$f":"IFERROR($E239*SUMIF('Daily Log'!$CE$18:$CE$1017,$B239,'Daily Log'!$CF$18:$CF$1017),0)","v":0},{"$f":"IFERROR($E239*SUMIF('Daily Log'!$CH$18:$CH$1017,$B239,'Daily Log'!$CI$18:$CI$1017),0)","v":0},{"$f":"IFERROR($E239*SUMIF('Daily Log'!$CK$18:$CK$1017,$B239,'Daily Log'!$CL$18:$CL$1017),0)","v":10},{"$f":"IFERROR($E239*SUMIF('Daily Log'!$CN$18:$CN$1017,$B239,'Daily Log'!$CO$18:$CO$1017),0)","v":0}]
[null,"ZTC08 80008:TRK STICK",null,null,1,3,{"$f":"IFERROR($E240*SUMIF('Daily Log'!$B$18:$B$1017,$B240,'Daily Log'!$C$18:$C$1017),0)","v":0},{"$f":"IFERROR($E240*SUMIF('Daily Log'!$E$18:$E$1017,$B240,'Daily Log'!$F$18:$F$1017),0)","v":0},{"$f":"IFERROR($E240*SUMIF('Daily Log'!$H$18:$H$1017,$B240,'Daily Log'!$I$18:$I$1017),0)","v":0},{"$f":"IFERROR($E240*SUMIF('Daily Log'!$K$18:$K$1017,$B240,'Daily Log'!$L$18:$L$1017),0)","v":0},{"$f":"IFERROR($E240*SUMIF('Daily Log'!$N$18:$N$1017,$B240,'Daily Log'!$O$18:$O$1017),0)","v":0},{"$f":"IFERROR($E240*SUMIF('Daily Log'!$Q$18:$Q$1017,$B240,'Daily Log'!$R$18:$R$1017),0)","v":0},{"$f":"IFERROR($E240*SUMIF('Daily Log'!$T$18:$T$1017,$B240,'Daily Log'!$U$18:$U$1017),0)","v":0},{"$f":"IFERROR($E240*SUMIF('Daily Log'!$W$18:$W$1017,$B240,'Daily Log'!$X$18:$X$1017),0)","v":0},{"$f":"IFERROR($E240*SUMIF('Daily Log'!$Z$18:$Z$1017,$B240,'Daily Log'!$AA$18:$AA$1017),0)","v":0},{"$f":"IFERROR($E240*SUMIF('Daily Log'!$AC$18:$AC$1017,$B240,'Daily Log'!$AD$18:$AD$1017),0)","v":0},{"$f":"IFERROR($E240*SUMIF('Daily Log'!$AF$18:$AF$1017,$B240,'Daily Log'!$AG$18:$AG$1017),0)","v":0},{"$f":"IFERROR($E240*SUMIF('Daily Log'!$AI$18:$AI$1017,$B240,'Daily Log'!$AJ$18:$AJ$1017),0)","v":0},{"$f":"IFERROR($E240*SUMIF('Daily Log'!$AL$18:$AL$1017,$B240,'Daily Log'!$AM$18:$AM$1017),0)","v":0},{"$f":"IFERROR($E240*SUMIF('Daily Log'!$AO$18:$AO$1017,$B240,'Daily Log'!$AP$18:$AP$1017),0)","v":0},{"$f":"IFERROR($E240*SUMIF('Daily Log'!$AR$18:$AR$1017,$B240,'Daily Log'!$AS$18:$AS$1017),0)","v":0},{"$f":"IFERROR($E240*SUMIF('Daily Log'!$AU$18:$AU$1017,$B240,'Daily Log'!$AV$18:$AV$1017),0)","v":0},{"$f":"IFERROR($E240*SUMIF('Daily Log'!$AX$18:$AX$1017,$B240,'Daily Log'!$AY$18:$AY$1017),0)","v":0},{"$f":"IFERROR($E240*SUMIF('Daily Log'!$BA$18:$BA$1017,$B240,'Daily Log'!$BB$18:$BB$1017),0)","v":0},{"$f":"IFERROR($E240*SUMIF('Daily Log'!$BD$18:$BD$1017,$B240,'Daily Log'!$BE$18:$BE$1017),0)","v":0},{"$f":"IFERROR($E240*SUMIF('Daily Log'!$BG$18:$BG$1017,$B240,'Daily Log'!$BH$18:$BH$1017),0)","v":0},{"$f":"IFERROR($E240*SUMIF('Daily Log'!$BJ$18:$BJ$1017,$B240,'Daily Log'!$BK$18:$BK$1017),0)","v":0},{"$f":"IFERROR($E240*SUMIF('Daily Log'!$BM$18:$BM$1017,$B240,'Daily Log'!$BN$18:$BN$1017),0)","v":0},{"$f":"IFERROR($E240*SUMIF('Daily Log'!$BP$18:$BP$1017,$B240,'Daily Log'!$BQ$18:$BQ$1017),0)","v":0},{"$f":"IFERROR($E240*SUMIF('Daily Log'!$BS$18:$BS$1017,$B240,'Daily Log'!$BT$18:$BT$1017),0)","v":0},{"$f":"IFERROR($E240*SUMIF('Daily Log'!$BV$18:$BV$1017,$B240,'Daily Log'!$BW$18:$BW$1017),0)","v":0},{"$f":"IFERROR($E240*SUMIF('Daily Log'!$BY$18:$BY$1017,$B240,'Daily Log'!$BZ$18:$BZ$1017),0)","v":0},{"$f":"IFERROR($E240*SUMIF('Daily Log'!$CB$18:$CB$1017,$B240,'Daily Log'!$CC$18:$CC$1017),0)","v":0},{"$f":"IFERROR($E240*SUMIF('Daily Log'!$CE$18:$CE$1017,$B240,'Daily Log'!$CF$18:$CF$1017),0)","v":0},{"$f":"IFERROR($E240*SUMIF('Daily Log'!$CH$18:$CH$1017,$B240,'Daily Log'!$CI$18:$CI$1017),0)","v":0},{"$f":"IFERROR($E240*SUMIF('Daily Log'!$CK$18:$CK$1017,$B240,'Daily Log'!$CL$18:$CL$1017),0)","v":3},{"$f":"IFERROR($E240*SUMIF('Daily Log'!$CN$18:$CN$1017,$B240,'Daily Log'!$CO$18:$CO$1017),0)","v":0}]
[null,"ZTC15 80015:MT BAL",null,null,1,8,{"$f":"IFERROR($E241*SUMIF('Daily Log'!$B$18:$B$1017,$B241,'Daily Log'!$C$18:$C$1017),0)","v":0},{"$f":"IFERROR($E241*SUMIF('Daily Log'!$E$18:$E$1017,$B241,'Daily Log'!$F$18:$F$1017),0)","v":0},{"$f":"IFERROR($E241*SUMIF('Daily Log'!$H$18:$H$1017,$B241,'Daily Log'!$I$18:$I$1017),0)","v":0},{"$f":"IFERROR($E241*SUMIF('Daily Log'!$K$18:$K$1017,$B241,'Daily Log'!$L$18:$L$1017),0)","v":0},{"$f":"IFERROR($E241*SUMIF('Daily Log'!$N$18:$N$1017,$B241,'Daily Log'!$O$18:$O$1017),0)","v":0},{"$f":"IFERROR($E241*SUMIF('Daily Log'!$Q$18:$Q$1017,$B241,'Daily Log'!$R$18:$R$1017),0)","v":0},{"$f":"IFERROR($E241*SUMIF('Daily Log'!$T$18:$T$1017,$B241,'Daily Log'!$U$18:$U$1017),0)","v":0},{"$f":"IFERROR($E241*SUMIF('Daily Log'!$W$18:$W$1017,$B241,'Daily Log'!$X$18:$X$1017),0)","v":0},{"$f":"IFERROR($E241*SUMIF('Daily Log'!$Z$18:$Z$1017,$B241,'Daily Log'!$AA$18:$AA$1017),0)","v":0},{"$f":"IFERROR($E241*SUMIF('Daily Log'!$AC$18:$AC$1017,$B241,'Daily Log'!$AD$18:$AD$1017),0)","v":0},{"$f":"IFERROR($E241*SUMIF('Daily Log'!$AF$18:$AF$1017,$B241,'Daily Log'!$AG$18:$AG$1017),0)","v":0},{"$f":"IFERROR($E241*SUMIF('Daily Log'!$AI$18:$AI$1017,$B241,'Daily Log'!$AJ$18:$AJ$1017),0)","v":0},{"$f":"IFERROR($E241*SUMIF('Daily Log'!$AL$18:$AL$1017,$B241,'Daily Log'!$AM$18:$AM$1017),0)","v":0},{"$f":"IFERROR($E241*SUMIF('Daily Log'!$AO$18:$AO$1017,$B241,'Daily Log'!$AP$18:$AP$1017),0)","v":0},{"$f":"IFERROR($E241*SUMIF('Daily Log'!$AR$18:$AR$1017,$B241,'Daily Log'!$AS$18:$AS$1017),0)","v":0},{"$f":"IFERROR($E241*SUMIF('Daily Log'!$AU$18:$AU$1017,$B241,'Daily Log'!$AV$18:$AV$1017),0)","v":0},{"$f":"IFERROR($E241*SUMIF('Daily Log'!$AX$18:$AX$1017,$B241,'Daily Log'!$AY$18:$AY$1017),0)","v":0},{"$f":"IFERROR($E241*SUMIF('Daily Log'!$BA$18:$BA$1017,$B241,'Daily Log'!$BB$18:$BB$1017),0)","v":0},{"$f":"IFERROR($E241*SUMIF('Daily Log'!$BD$18:$BD$1017,$B241,'Daily Log'!$BE$18:$BE$1017),0)","v":0},{"$f":"IFERROR($E241*SUMIF('Daily Log'!$BG$18:$BG$1017,$B241,'Daily Log'!$BH$18:$BH$1017),0)","v":0},{"$f":"IFERROR($E241*SUMIF('Daily Log'!$BJ$18:$BJ$1017,$B241,'Daily Log'!$BK$18:$BK$1017),0)","v":0},{"$f":"IFERROR($E241*SUMIF('Daily Log'!$BM$18:$BM$1017,$B241,'Daily Log'!$BN$18:$BN$1017),0)","v":0},{"$f":"IFERROR($E241*SUMIF('Daily Log'!$BP$18:$BP$1017,$B241,'Daily Log'!$BQ$18:$BQ$1017),0)","v":0},{"$f":"IFERROR($E241*SUMIF('Daily Log'!$BS$18:$BS$1017,$B241,'Daily Log'!$BT$18:$BT$1017),0)","v":0},{"$f":"IFERROR($E241*SUMIF('Daily Log'!$BV$18:$BV$1017,$B241,'Daily Log'!$BW$18:$BW$1017),0)","v":0},{"$f":"IFERROR($E241*SUMIF('Daily Log'!$BY$18:$BY$1017,$B241,'Daily Log'!$BZ$18:$BZ$1017),0)","v":0},{"$f":"IFERROR($E241*SUMIF('Daily Log'!$CB$18:$CB$1017,$B241,'Daily Log'!$CC$18:$CC$1017),0)","v":0},{"$f":"IFERROR($E241*SUMIF('Daily Log'!$CE$18:$CE$1017,$B241,'Daily Log'!$CF$18:$CF$1017),0)","v":0},{"$f":"IFERROR($E241*SUMIF('Daily Log'!$CH$18:$CH$1017,$B241,'Daily Log'!$CI$18:$CI$1017),0)","v":0},{"$f":"IFERROR($E241*SUMIF('Daily Log'!$CK$18:$CK$1017,$B241,'Daily Log'!$CL$18:$CL$1017),0)","v":8},{"$f":"IFERROR($E241*SUMIF('Daily Log'!$CN$18:$CN$1017,$B241,'Daily Log'!$CO$18:$CO$1017),0)","v":0}]
[null,"ZTC16 80016:BACON",null,null,1,3,{"$f":"IFERROR($E242*SUMIF('Daily Log'!$B$18:$B$1017,$B242,'Daily Log'!$C$18:$C$1017),0)","v":0},{"$f":"IFERROR($E242*SUMIF('Daily Log'!$E$18:$E$1017,$B242,'Daily Log'!$F$18:$F$1017),0)","v":0},{"$f":"IFERROR($E242*SUMIF('Daily Log'!$H$18:$H$1017,$B242,'Daily Log'!$I$18:$I$1017),0)","v":0},{"$f":"IFERROR($E242*SUMIF('Daily Log'!$K$18:$K$1017,$B242,'Daily Log'!$L$18:$L$1017),0)","v":0},{"$f":"IFERROR($E242*SUMIF('Daily Log'!$N$18:$N$1017,$B242,'Daily Log'!$O$18:$O$1017),0)","v":0},{"$f":"IFERROR($E242*SUMIF('Daily Log'!$Q$18:$Q$1017,$B242,'Daily Log'!$R$18:$R$1017),0)","v":0},{"$f":"IFERROR($E242*SUMIF('Daily Log'!$T$18:$T$1017,$B242,'Daily Log'!$U$18:$U$1017),0)","v":0},{"$f":"IFERROR($E242*SUMIF('Daily Log'!$W$18:$W$1017,$B242,'Daily Log'!$X$18:$X$1017),0)","v":0},{"$f":"IFERROR($E242*SUMIF('Daily Log'!$Z$18:$Z$1017,$B242,'Daily Log'!$AA$18:$AA$1017),0)","v":0},{"$f":"IFERROR($E242*SUMIF('Daily Log'!$AC$18:$AC$1017,$B242,'Daily Log'!$AD$18:$AD$1017),0)","v":0},{"$f":"IFERROR($E242*SUMIF('Daily Log'!$AF$18:$AF$1017,$B242,'Daily Log'!$AG$18:$AG$1017),0)","v":0},{"$f":"IFERROR($E242*SUMIF('Daily Log'!$AI$18:$AI$1017,$B242,'Daily Log'!$AJ$18:$AJ$1017),0)","v":0},{"$f":"IFERROR($E242*SUMIF('Daily Log'!$AL$18:$AL$1017,$B242,'Daily Log'!$AM$18:$AM$1017),0)","v":0},{"$f":"IFERROR($E242*SUMIF('Daily Log'!$AO$18:$AO$1017,$B242,'Daily Log'!$AP$18:$AP$1017),0)","v":0},{"$f":"IFERROR($E242*SUMIF('Daily Log'!$AR$18:$AR$1017,$B242,'Daily Log'!$AS$18:$AS$1017),0)","v":0},{"$f":"IFERROR($E242*SUMIF('Daily Log'!$AU$18:$AU$1017,$B242,'Daily Log'!$AV$18:$AV$1017),0)","v":0},{"$f":"IFERROR($E242*SUMIF('Daily Log'!$AX$18:$AX$1017,$B242,'Daily Log'!$AY$18:$AY$1017),0)","v":0},{"$f":"IFERROR($E242*SUMIF('Daily Log'!$BA$18:$BA$1017,$B242,'Daily Log'!$BB$18:$BB$1017),0)","v":0},{"$f":"IFERROR($E242*SUMIF('Daily Log'!$BD$18:$BD$1017,$B242,'Daily Log'!$BE$18:$BE$1017),0)","v":0},{"$f":"IFERROR($E242*SUMIF('Daily Log'!$BG$18:$BG$1017,$B242,'Daily Log'!$BH$18:$BH$1017),0)","v":0},{"$f":"IFERROR($E242*SUMIF('Daily Log'!$BJ$18:$BJ$1017,$B242,'Daily Log'!$BK$18:$BK$1017),0)","v":0},{"$f":"IFERROR($E242*SUMIF('Daily Log'!$BM$18:$BM$1017,$B242,'Daily Log'!$BN$18:$BN$1017),0)","v":0},{"$f":"IFERROR($E242*SUMIF('Daily Log'!$BP$18:$BP$1017,$B242,'Daily Log'!$BQ$18:$BQ$1017),0)","v":0},{"$f":"IFERROR($E242*SUMIF('Daily Log'!$BS$18:$BS$1017,$B242,'Daily Log'!$BT$18:$BT$1017),0)","v":0},{"$f":"IFERROR($E242*SUMIF('Daily Log'!$BV$18:$BV$1017,$B242,'Daily Log'!$BW$18:$BW$1017),0)","v":0},{"$f":"IFERROR($E242*SUMIF('Daily Log'!$BY$18:$BY$1017,$B242,'Daily Log'!$BZ$18:$BZ$1017),0)","v":0},{"$f":"IFERROR($E242*SUMIF('Daily Log'!$CB$18:$CB$1017,$B242,'Daily Log'!$CC$18:$CC$1017),0)","v":0},{"$f":"IFERROR($E242*SUMIF('Daily Log'!$CE$18:$CE$1017,$B242,'Daily Log'!$CF$18:$CF$1017),0)","v":0},{"$f":"IFERROR($E242*SUMIF('Daily Log'!$CH$18:$CH$1017,$B242,'Daily Log'!$CI$18:$CI$1017),0)","v":0},{"$f":"IFERROR($E242*SUMIF('Daily Log'!$CK$18:$CK$1017,$B242,'Daily Log'!$CL$18:$CL$1017),0)","v":3},{"$f":"IFERROR($E242*SUMIF('Daily Log'!$CN$18:$CN$1017,$B242,'Daily Log'!$CO$18:$CO$1017),0)","v":0}]
[null,"ZTC17 80017:F WONTO",null,null,1,6,{"$f":"IFERROR($E243*SUMIF('Daily Log'!$B$18:$B$1017,$B243,'Daily Log'!$C$18:$C$1017),0)","v":0},{"$f":"IFERROR($E243*SUMIF('Daily Log'!$E$18:$E$1017,$B243,'Daily Log'!$F$18:$F$1017),0)","v":0},{"$f":"IFERROR($E243*SUMIF('Daily Log'!$H$18:$H$1017,$B243,'Daily Log'!$I$18:$I$1017),0)","v":0},{"$f":"IFERROR($E243*SUMIF('Daily Log'!$K$18:$K$1017,$B243,'Daily Log'!$L$18:$L$1017),0)","v":0},{"$f":"IFERROR($E243*SUMIF('Daily Log'!$N$18:$N$1017,$B243,'Daily Log'!$O$18:$O$1017),0)","v":0},{"$f":"IFERROR($E243*SUMIF('Daily Log'!$Q$18:$Q$1017,$B243,'Daily Log'!$R$18:$R$1017),0)","v":0},{"$f":"IFERROR($E243*SUMIF('Daily Log'!$T$18:$T$1017,$B243,'Daily Log'!$U$18:$U$1017),0)","v":0},{"$f":"IFERROR($E243*SUMIF('Daily Log'!$W$18:$W$1017,$B243,'Daily Log'!$X$18:$X$1017),0)","v":0},{"$f":"IFERROR($E243*SUMIF('Daily Log'!$Z$18:$Z$1017,$B243,'Daily Log'!$AA$18:$AA$1017),0)","v":0},{"$f":"IFERROR($E243*SUMIF('Daily Log'!$AC$18:$AC$1017,$B243,'Daily Log'!$AD$18:$AD$1017),0)","v":0},{"$f":"IFERROR($E243*SUMIF('Daily Log'!$AF$18:$AF$1017,$B243,'Daily Log'!$AG$18:$AG$1017),0)","v":0},{"$f":"IFERROR($E243*SUMIF('Daily Log'!$AI$18:$AI$1017,$B243,'Daily Log'!$AJ$18:$AJ$1017),0)","v":0},{"$f":"IFERROR($E243*SUMIF('Daily Log'!$AL$18:$AL$1017,$B243,'Daily Log'!$AM$18:$AM$1017),0)","v":0},{"$f":"IFERROR($E243*SUMIF('Daily Log'!$AO$18:$AO$1017,$B243,'Daily Log'!$AP$18:$AP$1017),0)","v":0},{"$f":"IFERROR($E243*SUMIF('Daily Log'!$AR$18:$AR$1017,$B243,'Daily Log'!$AS$18:$AS$1017),0)","v":0},{"$f":"IFERROR($E243*SUMIF('Daily Log'!$AU$18:$AU$1017,$B243,'Daily Log'!$AV$18:$AV$1017),0)","v":0},{"$f":"IFERROR($E243*SUMIF('Daily Log'!$AX$18:$AX$1017,$B243,'Daily Log'!$AY$18:$AY$1017),0)","v":0},{"$f":"IFERROR($E243*SUMIF('Daily Log'!$BA$18:$BA$1017,$B243,'Daily Log'!$BB$18:$BB$1017),0)","v":0},{"$f":"IFERROR($E243*SUMIF('Daily Log'!$BD$18:$BD$1017,$B243,'Daily Log'!$BE$18:$BE$1017),0)","v":0},{"$f":"IFERROR($E243*SUMIF('Daily Log'!$BG$18:$BG$1017,$B243,'Daily Log'!$BH$18:$BH$1017),0)","v":0},{"$f":"IFERROR($E243*SUMIF('Daily Log'!$BJ$18:$BJ$1017,$B243,'Daily Log'!$BK$18:$BK$1017),0)","v":0},{"$f":"IFERROR($E243*SUMIF('Daily Log'!$BM$18:$BM$1017,$B243,'Daily Log'!$BN$18:$BN$1017),0)","v":0},{"$f":"IFERROR($E243*SUMIF('Daily Log'!$BP$18:$BP$1017,$B243,'Daily Log'!$BQ$18:$BQ$1017),0)","v":0},{"$f":"IFERROR($E243*SUMIF('Daily Log'!$BS$18:$BS$1017,$B243,'Daily Log'!$BT$18:$BT$1017),0)","v":0},{"$f":"IFERROR($E243*SUMIF('Daily Log'!$BV$18:$BV$1017,$B243,'Daily Log'!$BW$18:$BW$1017),0)","v":0},{"$f":"IFERROR($E243*SUMIF('Daily Log'!$BY$18:$BY$1017,$B243,'Daily Log'!$BZ$18:$BZ$1017),0)","v":0},{"$f":"IFERROR($E243*SUMIF('Daily Log'!$CB$18:$CB$1017,$B243,'Daily Log'!$CC$18:$CC$1017),0)","v":0},{"$f":"IFERROR($E243*SUMIF('Daily Log'!$CE$18:$CE$1017,$B243,'Daily Log'!$CF$18:$CF$1017),0)","v":0},{"$f":"IFERROR($E243*SUMIF('Daily Log'!$CH$18:$CH$1017,$B243,'Daily Log'!$CI$18:$CI$1017),0)","v":0},{"$f":"IFERROR($E243*SUMIF('Daily Log'!$CK$18:$CK$1017,$B243,'Daily Log'!$CL$18:$CL$1017),0)","v":6},{"$f":"IFERROR($E243*SUMIF('Daily Log'!$CN$18:$CN$1017,$B243,'Daily Log'!$CO$18:$CO$1017),0)","v":0}]
[null,"ZTC18 80018:WX RL",null,null,1,3,{"$f":"IFERROR($E244*SUMIF('Daily Log'!$B$18:$B$1017,$B244,'Daily Log'!$C$18:$C$1017),0)","v":0},{"$f":"IFERROR($E244*SUMIF('Daily Log'!$E$18:$E$1017,$B244,'Daily Log'!$F$18:$F$1017),0)","v":0},{"$f":"IFERROR($E244*SUMIF('Daily Log'!$H$18:$H$1017,$B244,'Daily Log'!$I$18:$I$1017),0)","v":0},{"$f":"IFERROR($E244*SUMIF('Daily Log'!$K$18:$K$1017,$B244,'Daily Log'!$L$18:$L$1017),0)","v":0},{"$f":"IFERROR($E244*SUMIF('Daily Log'!$N$18:$N$1017,$B244,'Daily Log'!$O$18:$O$1017),0)","v":0},{"$f":"IFERROR($E244*SUMIF('Daily Log'!$Q$18:$Q$1017,$B244,'Daily Log'!$R$18:$R$1017),0)","v":0},{"$f":"IFERROR($E244*SUMIF('Daily Log'!$T$18:$T$1017,$B244,'Daily Log'!$U$18:$U$1017),0)","v":0},{"$f":"IFERROR($E244*SUMIF('Daily Log'!$W$18:$W$1017,$B244,'Daily Log'!$X$18:$X$1017),0)","v":0},{"$f":"IFERROR($E244*SUMIF('Daily Log'!$Z$18:$Z$1017,$B244,'Daily Log'!$AA$18:$AA$1017),0)","v":0},{"$f":"IFERROR($E244*SUMIF('Daily Log'!$AC$18:$AC$1017,$B244,'Daily Log'!$AD$18:$AD$1017),0)","v":0},{"$f":"IFERROR($E244*SUMIF('Daily Log'!$AF$18:$AF$1017,$B244,'Daily Log'!$AG$18:$AG$1017),0)","v":0},{"$f":"IFERROR($E244*SUMIF('Daily Log'!$AI$18:$AI$1017,$B244,'Daily Log'!$AJ$18:$AJ$1017),0)","v":0},{"$f":"IFERROR($E244*SUMIF('Daily Log'!$AL$18:$AL$1017,$B244,'Daily Log'!$AM$18:$AM$1017),0)","v":0},{"$f":"IFERROR($E244*SUMIF('Daily Log'!$AO$18:$AO$1017,$B244,'Daily Log'!$AP$18:$AP$1017),0)","v":0},{"$f":"IFERROR($E244*SUMIF('Daily Log'!$AR$18:$AR$1017,$B244,'Daily Log'!$AS$18:$AS$1017),0)","v":0},{"$f":"IFERROR($E244*SUMIF('Daily Log'!$AU$18:$AU$1017,$B244,'Daily Log'!$AV$18:$AV$1017),0)","v":0},{"$f":"IFERROR($E244*SUMIF('Daily Log'!$AX$18:$AX$1017,$B244,'Daily Log'!$AY$18:$AY$1017),0)","v":0},{"$f":"IFERROR($E244*SUMIF('Daily Log'!$BA$18:$BA$1017,$B244,'Daily Log'!$BB$18:$BB$1017),0)","v":0},{"$f":"IFERROR($E244*SUMIF('Daily Log'!$BD$18:$BD$1017,$B244,'Daily Log'!$BE$18:$BE$1017),0)","v":0},{"$f":"IFERROR($E244*SUMIF('Daily Log'!$BG$18:$BG$1017,$B244,'Daily Log'!$BH$18:$BH$1017),0)","v":0},{"$f":"IFERROR($E244*SUMIF('Daily Log'!$BJ$18:$BJ$1017,$B244,'Daily Log'!$BK$18:$BK$1017),0)","v":0},{"$f":"IFERROR($E244*SUMIF('Daily Log'!$BM$18:$BM$1017,$B244,'Daily Log'!$BN$18:$BN$1017),0)","v":0},{"$f":"IFERROR($E244*SUMIF('Daily Log'!$BP$18:$BP$1017,$B244,'Daily Log'!$BQ$18:$BQ$1017),0)","v":0},{"$f":"IFERROR($E244*SUMIF('Daily Log'!$BS$18:$BS$1017,$B244,'Daily Log'!$BT$18:$BT$1017),0)","v":0},{"$f":"IFERROR($E244*SUMIF('Daily Log'!$BV$18:$BV$1017,$B244,'Daily Log'!$BW$18:$BW$1017),0)","v":0},{"$f":"IFERROR($E244*SUMIF('Daily Log'!$BY$18:$BY$1017,$B244,'Daily Log'!$BZ$18:$BZ$1017),0)","v":0},{"$f":"IFERROR($E244*SUMIF('Daily Log'!$CB$18:$CB$1017,$B244,'Daily Log'!$CC$18:$CC$1017),0)","v":0},{"$f":"IFERROR($E244*SUMIF('Daily Log'!$CE$18:$CE$1017,$B244,'Daily Log'!$CF$18:$CF$1017),0)","v":0},{"$f":"IFERROR($E244*SUMIF('Daily Log'!$CH$18:$CH$1017,$B244,'Daily Log'!$CI$18:$CI$1017),0)","v":0},{"$f":"IFERROR($E244*SUMIF('Daily Log'!$CK$18:$CK$1017,$B244,'Daily Log'!$CL$18:$CL$1017),0)","v":3},{"$f":"IFERROR($E244*SUMIF('Daily Log'!$CN$18:$CN$1017,$B244,'Daily Log'!$CO$18:$CO$1017),0)","v":0}]
[null,"ZTC19 80019:DUMPLING",null,null,1,7,{"$f":"IFERROR($E245*SUMIF('Daily Log'!$B$18:$B$1017,$B245,'Daily Log'!$C$18:$C$1017),0)","v":0},{"$f":"IFERROR($E245*SUMIF('Daily Log'!$E$18:$E$1017,$B245,'Daily Log'!$F$18:$F$1017),0)","v":0},{"$f":"IFERROR($E245*SUMIF('Daily Log'!$H$18:$H$1017,$B245,'Daily Log'!$I$18:$I$1017),0)","v":0},{"$f":"IFERROR($E245*SUMIF('Daily Log'!$K$18:$K$1017,$B245,'Daily Log'!$L$18:$L$1017),0)","v":0},{"$f":"IFERROR($E245*SUMIF('Daily Log'!$N$18:$N$1017,$B245,'Daily Log'!$O$18:$O$1017),0)","v":0},{"$f":"IFERROR($E245*SUMIF('Daily Log'!$Q$18:$Q$1017,$B245,'Daily Log'!$R$18:$R$1017),0)","v":0},{"$f":"IFERROR($E245*SUMIF('Daily Log'!$T$18:$T$1017,$B245,'Daily Log'!$U$18:$U$1017),0)","v":0},{"$f":"IFERROR($E245*SUMIF('Daily Log'!$W$18:$W$1017,$B245,'Daily Log'!$X$18:$X$1017),0)","v":0},{"$f":"IFERROR($E245*SUMIF('Daily Log'!$Z$18:$Z$1017,$B245,'Daily Log'!$AA$18:$AA$1017),0)","v":0},{"$f":"IFERROR($E245*SUMIF('Daily Log'!$AC$18:$AC$1017,$B245,'Daily Log'!$AD$18:$AD$1017),0)","v":0},{"$f":"IFERROR($E245*SUMIF('Daily Log'!$AF$18:$AF$1017,$B245,'Daily Log'!$AG$18:$AG$1017),0)","v":0},{"$f":"IFERROR($E245*SUMIF('Daily Log'!$AI$18:$AI$1017,$B245,'Daily Log'!$AJ$18:$AJ$1017),0)","v":0},{"$f":"IFERROR($E245*SUMIF('Daily Log'!$AL$18:$AL$1017,$B245,'Daily Log'!$AM$18:$AM$1017),0)","v":0},{"$f":"IFERROR($E245*SUMIF('Daily Log'!$AO$18:$AO$1017,$B245,'Daily Log'!$AP$18:$AP$1017),0)","v":0},{"$f":"IFERROR($E245*SUMIF('Daily Log'!$AR$18:$AR$1017,$B245,'Daily Log'!$AS$18:$AS$1017),0)","v":0},{"$f":"IFERROR($E245*SUMIF('Daily Log'!$AU$18:$AU$1017,$B245,'Daily Log'!$AV$18:$AV$1017),0)","v":0},{"$f":"IFERROR($E245*SUMIF('Daily Log'!$AX$18:$AX$1017,$B245,'Daily Log'!$AY$18:$AY$1017),0)","v":0},{"$f":"IFERROR($E245*SUMIF('Daily Log'!$BA$18:$BA$1017,$B245,'Daily Log'!$BB$18:$BB$1017),0)","v":0},{"$f":"IFERROR($E245*SUMIF('Daily Log'!$BD$18:$BD$1017,$B245,'Daily Log'!$BE$18:$BE$1017),0)","v":0},{"$f":"IFERROR($E245*SUMIF('Daily Log'!$BG$18:$BG$1017,$B245,'Daily Log'!$BH$18:$BH$1017),0)","v":0},{"$f":"IFERROR($E245*SUMIF('Daily Log'!$BJ$18:$BJ$1017,$B245,'Daily Log'!$BK$18:$BK$1017),0)","v":0},{"$f":"IFERROR($E245*SUMIF('Daily Log'!$BM$18:$BM$1017,$B245,'Daily Log'!$BN$18:$BN$1017),0)","v":0},{"$f":"IFERROR($E245*SUMIF('Daily Log'!$BP$18:$BP$1017,$B245,'Daily Log'!$BQ$18:$BQ$1017),0)","v":0},{"$f":"IFERROR($E245*SUMIF('Daily Log'!$BS$18:$BS$1017,$B245,'Daily Log'!$BT$18:$BT$1017),0)","v":0},{"$f":"IFERROR($E245*SUMIF('Daily Log'!$BV$18:$BV$1017,$B245,'Daily Log'!$BW$18:$BW$1017),0)","v":0},{"$f":"IFERROR($E245*SUMIF('Daily Log'!$BY$18:$BY$1017,$B245,'Daily Log'!$BZ$18:$BZ$1017),0)","v":0},{"$f":"IFERROR($E245*SUMIF('Daily Log'!$CB$18:$CB$1017,$B245,'Daily Log'!$CC$18:$CC$1017),0)","v":0},{"$f":"IFERROR($E245*SUMIF('Daily Log'!$CE$18:$CE$1017,$B245,'Daily Log'!$CF$18:$CF$1017),0)","v":0},{"$f":"IFERROR($E245*SUMIF('Daily Log'!$CH$18:$CH$1017,$B245,'Daily Log'!$CI$18:$CI$1017),0)","v":0},{"$f":"IFERROR($E245*SUMIF('Daily Log'!$CK$18:$CK$1017,$B245,'Daily Log'!$CL$18:$CL$1017),0)","v":7},{"$f":"IFERROR($E245*SUMIF('Daily Log'!$CN$18:$CN$1017,$B245,'Daily Log'!$CO$18:$CO$1017),0)","v":0}]
[null,"ZTC23 80023:KANG KONG",null,null,1,4,{"$f":"IFERROR($E246*SUMIF('Daily Log'!$B$18:$B$1017,$B246,'Daily Log'!$C$18:$C$1017),0)","v":0},{"$f":"IFERROR($E246*SUMIF('Daily Log'!$E$18:$E$1017,$B246,'Daily Log'!$F$18:$F$1017),0)","v":0},{"$f":"IFERROR($E246*SUMIF('Daily Log'!$H$18:$H$1017,$B246,'Daily Log'!$I$18:$I$1017),0)","v":0},{"$f":"IFERROR($E246*SUMIF('Daily Log'!$K$18:$K$1017,$B246,'Daily Log'!$L$18:$L$1017),0)","v":0},{"$f":"IFERROR($E246*SUMIF('Daily Log'!$N$18:$N$1017,$B246,'Daily Log'!$O$18:$O$1017),0)","v":0},{"$f":"IFERROR($E246*SUMIF('Daily Log'!$Q$18:$Q$1017,$B246,'Daily Log'!$R$18:$R$1017),0)","v":0},{"$f":"IFERROR($E246*SUMIF('Daily Log'!$T$18:$T$1017,$B246,'Daily Log'!$U$18:$U$1017),0)","v":0},{"$f":"IFERROR($E246*SUMIF('Daily Log'!$W$18:$W$1017,$B246,'Daily Log'!$X$18:$X$1017),0)","v":0},{"$f":"IFERROR($E246*SUMIF('Daily Log'!$Z$18:$Z$1017,$B246,'Daily Log'!$AA$18:$AA$1017),0)","v":0},{"$f":"IFERROR($E246*SUMIF('Daily Log'!$AC$18:$AC$1017,$B246,'Daily Log'!$AD$18:$AD$1017),0)","v":0},{"$f":"IFERROR($E246*SUMIF('Daily Log'!$AF$18:$AF$1017,$B246,'Daily Log'!$AG$18:$AG$1017),0)","v":0},{"$f":"IFERROR($E246*SUMIF('Daily Log'!$AI$18:$AI$1017,$B246,'Daily Log'!$AJ$18:$AJ$1017),0)","v":0},{"$f":"IFERROR($E246*SUMIF('Daily Log'!$AL$18:$AL$1017,$B246,'Daily Log'!$AM$18:$AM$1017),0)","v":0},{"$f":"IFERROR($E246*SUMIF('Daily Log'!$AO$18:$AO$1017,$B246,'Daily Log'!$AP$18:$AP$1017),0)","v":0},{"$f":"IFERROR($E246*SUMIF('Daily Log'!$AR$18:$AR$1017,$B246,'Daily Log'!$AS$18:$AS$1017),0)","v":0},{"$f":"IFERROR($E246*SUMIF('Daily Log'!$AU$18:$AU$1017,$B246,'Daily Log'!$AV$18:$AV$1017),0)","v":0},{"$f":"IFERROR($E246*SUMIF('Daily Log'!$AX$18:$AX$1017,$B246,'Daily Log'!$AY$18:$AY$1017),0)","v":0},{"$f":"IFERROR($E246*SUMIF('Daily Log'!$BA$18:$BA$1017,$B246,'Daily Log'!$BB$18:$BB$1017),0)","v":0},{"$f":"IFERROR($E246*SUMIF('Daily Log'!$BD$18:$BD$1017,$B246,'Daily Log'!$BE$18:$BE$1017),0)","v":0},{"$f":"IFERROR($E246*SUMIF('Daily Log'!$BG$18:$BG$1017,$B246,'Daily Log'!$BH$18:$BH$1017),0)","v":0},{"$f":"IFERROR($E246*SUMIF('Daily Log'!$BJ$18:$BJ$1017,$B246,'Daily Log'!$BK$18:$BK$1017),0)","v":0},{"$f":"IFERROR($E246*SUMIF('Daily Log'!$BM$18:$BM$1017,$B246,'Daily Log'!$BN$18:$BN$1017),0)","v":0},{"$f":"IFERROR($E246*SUMIF('Daily Log'!$BP$18:$BP$1017,$B246,'Daily Log'!$BQ$18:$BQ$1017),0)","v":0},{"$f":"IFERROR($E246*SUMIF('Daily Log'!$BS$18:$BS$1017,$B246,'Daily Log'!$BT$18:$BT$1017),0)","v":0},{"$f":"IFERROR($E246*SUMIF('Daily Log'!$BV$18:$BV$1017,$B246,'Daily Log'!$BW$18:$BW$1017),0)","v":0},{"$f":"IFERROR($E246*SUMIF('Daily Log'!$BY$18:$BY$1017,$B246,'Daily Log'!$BZ$18:$BZ$1017),0)","v":0},{"$f":"IFERROR($E246*SUMIF('Daily Log'!$CB$18:$CB$1017,$B246,'Daily Log'!$CC$18:$CC$1017),0)","v":0},{"$f":"IFERROR($E246*SUMIF('Daily Log'!$CE$18:$CE$1017,$B246,'Daily Log'!$CF$18:$CF$1017),0)","v":0},{"$f":"IFERROR($E246*SUMIF('Daily Log'!$CH$18:$CH$1017,$B246,'Daily Log'!$CI$18:$CI$1017),0)","v":0},{"$f":"IFERROR($E246*SUMIF('Daily Log'!$CK$18:$CK$1017,$B246,'Daily Log'!$CL$18:$CL$1017),0)","v":4},{"$f":"IFERROR($E246*SUMIF('Daily Log'!$CN$18:$CN$1017,$B246,'Daily Log'!$CO$18:$CO$1017),0)","v":0}]
[null,"ZTC24 80024:BROCCOLI",null,null,1,2,{"$f":"IFERROR($E247*SUMIF('Daily Log'!$B$18:$B$1017,$B247,'Daily Log'!$C$18:$C$1017),0)","v":0},{"$f":"IFERROR($E247*SUMIF('Daily Log'!$E$18:$E$1017,$B247,'Daily Log'!$F$18:$F$1017),0)","v":0},{"$f":"IFERROR($E247*SUMIF('Daily Log'!$H$18:$H$1017,$B247,'Daily Log'!$I$18:$I$1017),0)","v":0},{"$f":"IFERROR($E247*SUMIF('Daily Log'!$K$18:$K$1017,$B247,'Daily Log'!$L$18:$L$1017),0)","v":0},{"$f":"IFERROR($E247*SUMIF('Daily Log'!$N$18:$N$1017,$B247,'Daily Log'!$O$18:$O$1017),0)","v":0},{"$f":"IFERROR($E247*SUMIF('Daily Log'!$Q$18:$Q$1017,$B247,'Daily Log'!$R$18:$R$1017),0)","v":0},{"$f":"IFERROR($E247*SUMIF('Daily Log'!$T$18:$T$1017,$B247,'Daily Log'!$U$18:$U$1017),0)","v":0},{"$f":"IFERROR($E247*SUMIF('Daily Log'!$W$18:$W$1017,$B247,'Daily Log'!$X$18:$X$1017),0)","v":0},{"$f":"IFERROR($E247*SUMIF('Daily Log'!$Z$18:$Z$1017,$B247,'Daily Log'!$AA$18:$AA$1017),0)","v":0},{"$f":"IFERROR($E247*SUMIF('Daily Log'!$AC$18:$AC$1017,$B247,'Daily Log'!$AD$18:$AD$1017),0)","v":0},{"$f":"IFERROR($E247*SUMIF('Daily Log'!$AF$18:$AF$1017,$B247,'Daily Log'!$AG$18:$AG$1017),0)","v":0},{"$f":"IFERROR($E247*SUMIF('Daily Log'!$AI$18:$AI$1017,$B247,'Daily Log'!$AJ$18:$AJ$1017),0)","v":0},{"$f":"IFERROR($E247*SUMIF('Daily Log'!$AL$18:$AL$1017,$B247,'Daily Log'!$AM$18:$AM$1017),0)","v":0},{"$f":"IFERROR($E247*SUMIF('Daily Log'!$AO$18:$AO$1017,$B247,'Daily Log'!$AP$18:$AP$1017),0)","v":0},{"$f":"IFERROR($E247*SUMIF('Daily Log'!$AR$18:$AR$1017,$B247,'Daily Log'!$AS$18:$AS$1017),0)","v":0},{"$f":"IFERROR($E247*SUMIF('Daily Log'!$AU$18:$AU$1017,$B247,'Daily Log'!$AV$18:$AV$1017),0)","v":0},{"$f":"IFERROR($E247*SUMIF('Daily Log'!$AX$18:$AX$1017,$B247,'Daily Log'!$AY$18:$AY$1017),0)","v":0},{"$f":"IFERROR($E247*SUMIF('Daily Log'!$BA$18:$BA$1017,$B247,'Daily Log'!$BB$18:$BB$1017),0)","v":0},{"$f":"IFERROR($E247*SUMIF('Daily Log'!$BD$18:$BD$1017,$B247,'Daily Log'!$BE$18:$BE$1017),0)","v":0},{"$f":"IFERROR($E247*SUMIF('Daily Log'!$BG$18:$BG$1017,$B247,'Daily Log'!$BH$18:$BH$1017),0)","v":0},{"$f":"IFERROR($E247*SUMIF('Daily Log'!$BJ$18:$BJ$1017,$B247,'Daily Log'!$BK$18:$BK$1017),0)","v":0},{"$f":"IFERROR($E247*SUMIF('Daily Log'!$BM$18:$BM$1017,$B247,'Daily Log'!$BN$18:$BN$1017),0)","v":0},{"$f":"IFERROR($E247*SUMIF('Daily Log'!$BP$18:$BP$1017,$B247,'Daily Log'!$BQ$18:$BQ$1017),0)","v":0},{"$f":"IFERROR($E247*SUMIF('Daily Log'!$BS$18:$BS$1017,$B247,'Daily Log'!$BT$18:$BT$1017),0)","v":0},{"$f":"IFERROR($E247*SUMIF('Daily Log'!$BV$18:$BV$1017,$B247,'Daily Log'!$BW$18:$BW$1017),0)","v":0},{"$f":"IFERROR($E247*SUMIF('Daily Log'!$BY$18:$BY$1017,$B247,'Daily Log'!$BZ$18:$BZ$1017),0)","v":0},{"$f":"IFERROR($E247*SUMIF('Daily Log'!$CB$18:$CB$1017,$B247,'Daily Log'!$CC$18:$CC$1017),0)","v":0},{"$f":"IFERROR($E247*SUMIF('Daily Log'!$CE$18:$CE$1017,$B247,'Daily Log'!$CF$18:$CF$1017),0)","v":0},{"$f":"IFERROR($E247*SUMIF('Daily Log'!$CH$18:$CH$1017,$B247,'Daily Log'!$CI$18:$CI$1017),0)","v":0},{"$f":"IFERROR($E247*SUMIF('Daily Log'!$CK$18:$CK$1017,$B247,'Daily Log'!$CL$18:$CL$1017),0)","v":2},{"$f":"IFERROR($E247*SUMIF('Daily Log'!$CN$18:$CN$1017,$B247,'Daily Log'!$CO$18:$CO$1017),0)","v":0}]
[null,"ZTC25 80025:LONG BEAN",null,null,1,2,{"$f":"IFERROR($E248*SUMIF('Daily Log'!$B$18:$B$1017,$B248,'Daily Log'!$C$18:$C$1017),0)","v":0},{"$f":"IFERROR($E248*SUMIF('Daily Log'!$E$18:$E$1017,$B248,'Daily Log'!$F$18:$F$1017),0)","v":0},{"$f":"IFERROR($E248*SUMIF('Daily Log'!$H$18:$H$1017,$B248,'Daily Log'!$I$18:$I$1017),0)","v":0},{"$f":"IFERROR($E248*SUMIF('Daily Log'!$K$18:$K$1017,$B248,'Daily Log'!$L$18:$L$1017),0)","v":0},{"$f":"IFERROR($E248*SUMIF('Daily Log'!$N$18:$N$1017,$B248,'Daily Log'!$O$18:$O$1017),0)","v":0},{"$f":"IFERROR($E248*SUMIF('Daily Log'!$Q$18:$Q$1017,$B248,'Daily Log'!$R$18:$R$1017),0)","v":0},{"$f":"IFERROR($E248*SUMIF('Daily Log'!$T$18:$T$1017,$B248,'Daily Log'!$U$18:$U$1017),0)","v":0},{"$f":"IFERROR($E248*SUMIF('Daily Log'!$W$18:$W$1017,$B248,'Daily Log'!$X$18:$X$1017),0)","v":0},{"$f":"IFERROR($E248*SUMIF('Daily Log'!$Z$18:$Z$1017,$B248,'Daily Log'!$AA$18:$AA$1017),0)","v":0},{"$f":"IFERROR($E248*SUMIF('Daily Log'!$AC$18:$AC$1017,$B248,'Daily Log'!$AD$18:$AD$1017),0)","v":0},{"$f":"IFERROR($E248*SUMIF('Daily Log'!$AF$18:$AF$1017,$B248,'Daily Log'!$AG$18:$AG$1017),0)","v":0},{"$f":"IFERROR($E248*SUMIF('Daily Log'!$AI$18:$AI$1017,$B248,'Daily Log'!$AJ$18:$AJ$1017),0)","v":0},{"$f":"IFERROR($E248*SUMIF('Daily Log'!$AL$18:$AL$1017,$B248,'Daily Log'!$AM$18:$AM$1017),0)","v":0},{"$f":"IFERROR($E248*SUMIF('Daily Log'!$AO$18:$AO$1017,$B248,'Daily Log'!$AP$18:$AP$1017),0)","v":0},{"$f":"IFERROR($E248*SUMIF('Daily Log'!$AR$18:$AR$1017,$B248,'Daily Log'!$AS$18:$AS$1017),0)","v":0},{"$f":"IFERROR($E248*SUMIF('Daily Log'!$AU$18:$AU$1017,$B248,'Daily Log'!$AV$18:$AV$1017),0)","v":0},{"$f":"IFERROR($E248*SUMIF('Daily Log'!$AX$18:$AX$1017,$B248,'Daily Log'!$AY$18:$AY$1017),0)","v":0},{"$f":"IFERROR($E248*SUMIF('Daily Log'!$BA$18:$BA$1017,$B248,'Daily Log'!$BB$18:$BB$1017),0)","v":0},{"$f":"IFERROR($E248*SUMIF('Daily Log'!$BD$18:$BD$1017,$B248,'Daily Log'!$BE$18:$BE$1017),0)","v":0},{"$f":"IFERROR($E248*SUMIF('Daily Log'!$BG$18:$BG$1017,$B248,'Daily Log'!$BH$18:$BH$1017),0)","v":0},{"$f":"IFERROR($E248*SUMIF('Daily Log'!$BJ$18:$BJ$1017,$B248,'Daily Log'!$BK$18:$BK$1017),0)","v":0},{"$f":"IFERROR($E248*SUMIF('Daily Log'!$BM$18:$BM$1017,$B248,'Daily Log'!$BN$18:$BN$1017),0)","v":0},{"$f":"IFERROR($E248*SUMIF('Daily Log'!$BP$18:$BP$1017,$B248,'Daily Log'!$BQ$18:$BQ$1017),0)","v":0},{"$f":"IFERROR($E248*SUMIF('Daily Log'!$BS$18:$BS$1017,$B248,'Daily Log'!$BT$18:$BT$1017),0)","v":0},{"$f":"IFERROR($E248*SUMIF('Daily Log'!$BV$18:$BV$1017,$B248,'Daily Log'!$BW$18:$BW$1017),0)","v":0},{"$f":"IFERROR($E248*SUMIF('Daily Log'!$BY$18:$BY$1017,$B248,'Daily Log'!$BZ$18:$BZ$1017),0)","v":0},{"$f":"IFERROR($E248*SUMIF('Daily Log'!$CB$18:$CB$1017,$B248,'Daily Log'!$CC$18:$CC$1017),0)","v":0},{"$f":"IFERROR($E248*SUMIF('Daily Log'!$CE$18:$CE$1017,$B248,'Daily Log'!$CF$18:$CF$1017),0)","v":0},{"$f":"IFERROR($E248*SUMIF('Daily Log'!$CH$18:$CH$1017,$B248,'Daily Log'!$CI$18:$CI$1017),0)","v":0},{"$f":"IFERROR($E248*SUMIF('Daily Log'!$CK$18:$CK$1017,$B248,'Daily Log'!$CL$18:$CL$1017),0)","v":2},{"$f":"IFERROR($E248*SUMIF('Daily Log'!$CN$18:$CN$1017,$B248,'Daily Log'!$CO$18:$CO$1017),0)","v":0}]
[null,"ZTC26 80026:ABALO MR",null,null,1,9,{"$f":"IFERROR($E249*SUMIF('Daily Log'!$B$18:$B$1017,$B249,'Daily Log'!$C$18:$C$1017),0)","v":0},{"$f":"IFERROR($E249*SUMIF('Daily Log'!$E$18:$E$1017,$B249,'Daily Log'!$F$18:$F$1017),0)","v":0},{"$f":"IFERROR($E249*SUMIF('Daily Log'!$H$18:$H$1017,$B249,'Daily Log'!$I$18:$I$1017),0)","v":0},{"$f":"IFERROR($E249*SUMIF('Daily Log'!$K$18:$K$1017,$B249,'Daily Log'!$L$18:$L$1017),0)","v":0},{"$f":"IFERROR($E249*SUMIF('Daily Log'!$N$18:$N$1017,$B249,'Daily Log'!$O$18:$O$1017),0)","v":0},{"$f":"IFERROR($E249*SUMIF('Daily Log'!$Q$18:$Q$1017,$B249,'Daily Log'!$R$18:$R$1017),0)","v":0},{"$f":"IFERROR($E249*SUMIF('Daily Log'!$T$18:$T$1017,$B249,'Daily Log'!$U$18:$U$1017),0)","v":0},{"$f":"IFERROR($E249*SUMIF('Daily Log'!$W$18:$W$1017,$B249,'Daily Log'!$X$18:$X$1017),0)","v":0},{"$f":"IFERROR($E249*SUMIF('Daily Log'!$Z$18:$Z$1017,$B249,'Daily Log'!$AA$18:$AA$1017),0)","v":0},{"$f":"IFERROR($E249*SUMIF('Daily Log'!$AC$18:$AC$1017,$B249,'Daily Log'!$AD$18:$AD$1017),0)","v":0},{"$f":"IFERROR($E249*SUMIF('Daily Log'!$AF$18:$AF$1017,$B249,'Daily Log'!$AG$18:$AG$1017),0)","v":0},{"$f":"IFERROR($E249*SUMIF('Daily Log'!$AI$18:$AI$1017,$B249,'Daily Log'!$AJ$18:$AJ$1017),0)","v":0},{"$f":"IFERROR($E249*SUMIF('Daily Log'!$AL$18:$AL$1017,$B249,'Daily Log'!$AM$18:$AM$1017),0)","v":0},{"$f":"IFERROR($E249*SUMIF('Daily Log'!$AO$18:$AO$1017,$B249,'Daily Log'!$AP$18:$AP$1017),0)","v":0},{"$f":"IFERROR($E249*SUMIF('Daily Log'!$AR$18:$AR$1017,$B249,'Daily Log'!$AS$18:$AS$1017),0)","v":0},{"$f":"IFERROR($E249*SUMIF('Daily Log'!$AU$18:$AU$1017,$B249,'Daily Log'!$AV$18:$AV$1017),0)","v":0},{"$f":"IFERROR($E249*SUMIF('Daily Log'!$AX$18:$AX$1017,$B249,'Daily Log'!$AY$18:$AY$1017),0)","v":0},{"$f":"IFERROR($E249*SUMIF('Daily Log'!$BA$18:$BA$1017,$B249,'Daily Log'!$BB$18:$BB$1017),0)","v":0},{"$f":"IFERROR($E249*SUMIF('Daily Log'!$BD$18:$BD$1017,$B249,'Daily Log'!$BE$18:$BE$1017),0)","v":0},{"$f":"IFERROR($E249*SUMIF('Daily Log'!$BG$18:$BG$1017,$B249,'Daily Log'!$BH$18:$BH$1017),0)","v":0},{"$f":"IFERROR($E249*SUMIF('Daily Log'!$BJ$18:$BJ$1017,$B249,'Daily Log'!$BK$18:$BK$1017),0)","v":0},{"$f":"IFERROR($E249*SUMIF('Daily Log'!$BM$18:$BM$1017,$B249,'Daily Log'!$BN$18:$BN$1017),0)","v":0},{"$f":"IFERROR($E249*SUMIF('Daily Log'!$BP$18:$BP$1017,$B249,'Daily Log'!$BQ$18:$BQ$1017),0)","v":0},{"$f":"IFERROR($E249*SUMIF('Daily Log'!$BS$18:$BS$1017,$B249,'Daily Log'!$BT$18:$BT$1017),0)","v":0},{"$f":"IFERROR($E249*SUMIF('Daily Log'!$BV$18:$BV$1017,$B249,'Daily Log'!$BW$18:$BW$1017),0)","v":0},{"$f":"IFERROR($E249*SUMIF('Daily Log'!$BY$18:$BY$1017,$B249,'Daily Log'!$BZ$18:$BZ$1017),0)","v":0},{"$f":"IFERROR($E249*SUMIF('Daily Log'!$CB$18:$CB$1017,$B249,'Daily Log'!$CC$18:$CC$1017),0)","v":0},{"$f":"IFERROR($E249*SUMIF('Daily Log'!$CE$18:$CE$1017,$B249,'Daily Log'!$CF$18:$CF$1017),0)","v":0},{"$f":"IFERROR($E249*SUMIF('Daily Log'!$CH$18:$CH$1017,$B249,'Daily Log'!$CI$18:$CI$1017),0)","v":0},{"$f":"IFERROR($E249*SUMIF('Daily Log'!$CK$18:$CK$1017,$B249,'Daily Log'!$CL$18:$CL$1017),0)","v":9},{"$f":"IFERROR($E249*SUMIF('Daily Log'!$CN$18:$CN$1017,$B249,'Daily Log'!$CO$18:$CO$1017),0)","v":0}]
[null,"ZTC28 80028:COCKLES",null,null,1,4,{"$f":"IFERROR($E250*SUMIF('Daily Log'!$B$18:$B$1017,$B250,'Daily Log'!$C$18:$C$1017),0)","v":0},{"$f":"IFERROR($E250*SUMIF('Daily Log'!$E$18:$E$1017,$B250,'Daily Log'!$F$18:$F$1017),0)","v":0},{"$f":"IFERROR($E250*SUMIF('Daily Log'!$H$18:$H$1017,$B250,'Daily Log'!$I$18:$I$1017),0)","v":0},{"$f":"IFERROR($E250*SUMIF('Daily Log'!$K$18:$K$1017,$B250,'Daily Log'!$L$18:$L$1017),0)","v":0},{"$f":"IFERROR($E250*SUMIF('Daily Log'!$N$18:$N$1017,$B250,'Daily Log'!$O$18:$O$1017),0)","v":0},{"$f":"IFERROR($E250*SUMIF('Daily Log'!$Q$18:$Q$1017,$B250,'Daily Log'!$R$18:$R$1017),0)","v":0},{"$f":"IFERROR($E250*SUMIF('Daily Log'!$T$18:$T$1017,$B250,'Daily Log'!$U$18:$U$1017),0)","v":0},{"$f":"IFERROR($E250*SUMIF('Daily Log'!$W$18:$W$1017,$B250,'Daily Log'!$X$18:$X$1017),0)","v":0},{"$f":"IFERROR($E250*SUMIF('Daily Log'!$Z$18:$Z$1017,$B250,'Daily Log'!$AA$18:$AA$1017),0)","v":0},{"$f":"IFERROR($E250*SUMIF('Daily Log'!$AC$18:$AC$1017,$B250,'Daily Log'!$AD$18:$AD$1017),0)","v":0},{"$f":"IFERROR($E250*SUMIF('Daily Log'!$AF$18:$AF$1017,$B250,'Daily Log'!$AG$18:$AG$1017),0)","v":0},{"$f":"IFERROR($E250*SUMIF('Daily Log'!$AI$18:$AI$1017,$B250,'Daily Log'!$AJ$18:$AJ$1017),0)","v":0},{"$f":"IFERROR($E250*SUMIF('Daily Log'!$AL$18:$AL$1017,$B250,'Daily Log'!$AM$18:$AM$1017),0)","v":0},{"$f":"IFERROR($E250*SUMIF('Daily Log'!$AO$18:$AO$1017,$B250,'Daily Log'!$AP$18:$AP$1017),0)","v":0},{"$f":"IFERROR($E250*SUMIF('Daily Log'!$AR$18:$AR$1017,$B250,'Daily Log'!$AS$18:$AS$1017),0)","v":0},{"$f":"IFERROR($E250*SUMIF('Daily Log'!$AU$18:$AU$1017,$B250,'Daily Log'!$AV$18:$AV$1017),0)","v":0},{"$f":"IFERROR($E250*SUMIF('Daily Log'!$AX$18:$AX$1017,$B250,'Daily Log'!$AY$18:$AY$1017),0)","v":0},{"$f":"IFERROR($E250*SUMIF('Daily Log'!$BA$18:$BA$1017,$B250,'Daily Log'!$BB$18:$BB$1017),0)","v":0},{"$f":"IFERROR($E250*SUMIF('Daily Log'!$BD$18:$BD$1017,$B250,'Daily Log'!$BE$18:$BE$1017),0)","v":0},{"$f":"IFERROR($E250*SUMIF('Daily Log'!$BG$18:$BG$1017,$B250,'Daily Log'!$BH$18:$BH$1017),0)","v":0},{"$f":"IFERROR($E250*SUMIF('Daily Log'!$BJ$18:$BJ$1017,$B250,'Daily Log'!$BK$18:$BK$1017),0)","v":0},{"$f":"IFERROR($E250*SUMIF('Daily Log'!$BM$18:$BM$1017,$B250,'Daily Log'!$BN$18:$BN$1017),0)","v":0},{"$f":"IFERROR($E250*SUMIF('Daily Log'!$BP$18:$BP$1017,$B250,'Daily Log'!$BQ$18:$BQ$1017),0)","v":0},{"$f":"IFERROR($E250*SUMIF('Daily Log'!$BS$18:$BS$1017,$B250,'Daily Log'!$BT$18:$BT$1017),0)","v":0},{"$f":"IFERROR($E250*SUMIF('Daily Log'!$BV$18:$BV$1017,$B250,'Daily Log'!$BW$18:$BW$1017),0)","v":0},{"$f":"IFERROR($E250*SUMIF('Daily Log'!$BY$18:$BY$1017,$B250,'Daily Log'!$BZ$18:$BZ$1017),0)","v":0},{"$f":"IFERROR($E250*SUMIF('Daily Log'!$CB$18:$CB$1017,$B250,'Daily Log'!$CC$18:$CC$1017),0)","v":0},{"$f":"IFERROR($E250*SUMIF('Daily Log'!$CE$18:$CE$1017,$B250,'Daily Log'!$CF$18:$CF$1017),0)","v":0},{"$f":"IFERROR($E250*SUMIF('Daily Log'!$CH$18:$CH$1017,$B250,'Daily Log'!$CI$18:$CI$1017),0)","v":0},{"$f":"IFERROR($E250*SUMIF('Daily Log'!$CK$18:$CK$1017,$B250,'Daily Log'!$CL$18:$CL$1017),0)","v":4},{"$f":"IFERROR($E250*SUMIF('Daily Log'!$CN$18:$CN$1017,$B250,'Daily Log'!$CO$18:$CO$1017),0)","v":0}]
[null,"ZTC29 80029:CTL FSH",null,null,1,{"$f":"SUM($G251:$AK251)","v":7},{"$f":"IFERROR($E251*SUMIF('Daily Log'!$B$18:$B$1017,$B251,'Daily Log'!$C$18:$C$1017),0)","v":0},{"$f":"IFERROR($E251*SUMIF('Daily Log'!$E$18:$E$1017,$B251,'Daily Log'!$F$18:$F$1017),0)","v":0},{"$f":"IFERROR($E251*SUMIF('Daily Log'!$H$18:$H$1017,$B251,'Daily Log'!$I$18:$I$1017),0)","v":0},{"$f":"IFERROR($E251*SUMIF('Daily Log'!$K$18:$K$1017,$B251,'Daily Log'!$L$18:$L$1017),0)","v":0},{"$f":"IFERROR($E251*SUMIF('Daily Log'!$N$18:$N$1017,$B251,'Daily Log'!$O$18:$O$1017),0)","v":0},{"$f":"IFERROR($E251*SUMIF('Daily Log'!$Q$18:$Q$1017,$B251,'Daily Log'!$R$18:$R$1017),0)","v":0},{"$f":"IFERROR($E251*SUMIF('Daily Log'!$T$18:$T$1017,$B251,'Daily Log'!$U$18:$U$1017),0)","v":0},{"$f":"IFERROR($E251*SUMIF('Daily Log'!$W$18:$W$1017,$B251,'Daily Log'!$X$18:$X$1017),0)","v":0},{"$f":"IFERROR($E251*SUMIF('Daily Log'!$Z$18:$Z$1017,$B251,'Daily Log'!$AA$18:$AA$1017),0)","v":0},{"$f":"IFERROR($E251*SUMIF('Daily Log'!$AC$18:$AC$1017,$B251,'Daily Log'!$AD$18:$AD$1017),0)","v":0},{"$f":"IFERROR($E251*SUMIF('Daily Log'!$AF$18:$AF$1017,$B251,'Daily Log'!$AG$18:$AG$1017),0)","v":0},{"$f":"IFERROR($E251*SUMIF('Daily Log'!$AI$18:$AI$1017,$B251,'Daily Log'!$AJ$18:$AJ$1017),0)","v":0},{"$f":"IFERROR($E251*SUMIF('Daily Log'!$AL$18:$AL$1017,$B251,'Daily Log'!$AM$18:$AM$1017),0)","v":0},{"$f":"IFERROR($E251*SUMIF('Daily Log'!$AO$18:$AO$1017,$B251,'Daily Log'!$AP$18:$AP$1017),0)","v":0},{"$f":"IFERROR($E251*SUMIF('Daily Log'!$AR$18:$AR$1017,$B251,'Daily Log'!$AS$18:$AS$1017),0)","v":0},{"$f":"IFERROR($E251*SUMIF('Daily Log'!$AU$18:$AU$1017,$B251,'Daily Log'!$AV$18:$AV$1017),0)","v":0},{"$f":"IFERROR($E251*SUMIF('Daily Log'!$AX$18:$AX$1017,$B251,'Daily Log'!$AY$18:$AY$1017),0)","v":0},{"$f":"IFERROR($E251*SUMIF('Daily Log'!$BA$18:$BA$1017,$B251,'Daily Log'!$BB$18:$BB$1017),0)","v":0},{"$f":"IFERROR($E251*SUMIF('Daily Log'!$BD$18:$BD$1017,$B251,'Daily Log'!$BE$18:$BE$1017),0)","v":0},{"$f":"IFERROR($E251*SUMIF('Daily Log'!$BG$18:$BG$1017,$B251,'Daily Log'!$BH$18:$BH$1017),0)","v":0},{"$f":"IFERROR($E251*SUMIF('Daily Log'!$BJ$18:$BJ$1017,$B251,'Daily Log'!$BK$18:$BK$1017),0)","v":0},{"$f":"IFERROR($E251*SUMIF('Daily Log'!$BM$18:$BM$1017,$B251,'Daily Log'!$BN$18:$BN$1017),0)","v":0},{"$f":"IFERROR($E251*SUMIF('Daily Log'!$BP$18:$BP$1017,$B251,'Daily Log'!$BQ$18:$BQ$1017),0)","v":0},{"$f":"IFERROR($E251*SUMIF('Daily Log'!$BS$18:$BS$1017,$B251,'Daily Log'!$BT$18:$BT$1017),0)","v":0},{"$f":"IFERROR($E251*SUMIF('Daily Log'!$BV$18:$BV$1017,$B251,'Daily Log'!$BW$18:$BW$1017),0)","v":0},{"$f":"IFERROR($E251*SUMIF('Daily Log'!$BY$18:$BY$1017,$B251,'Daily Log'!$BZ$18:$BZ$1017),0)","v":0},{"$f":"IFERROR($E251*SUMIF('Daily Log'!$CB$18:$CB$1017,$B251,'Daily Log'!$CC$18:$CC$1017),0)","v":0},{"$f":"IFERROR($E251*SUMIF('Daily Log'!$CE$18:$CE$1017,$B251,'Daily Log'!$CF$18:$CF$1017),0)","v":0},{"$f":"IFERROR($E251*SUMIF('Daily Log'!$CH$18:$CH$1017,$B251,'Daily Log'!$CI$18:$CI$1017),0)","v":0},{"$f":"IFERROR($E251*SUMIF('Daily Log'!$CK$18:$CK$1017,$B251,'Daily Log'!$CL$18:$CL$1017),0)","v":7},{"$f":"IFERROR($E251*SUMIF('Daily Log'!$CN$18:$CN$1017,$B251,'Daily Log'!$CO$18:$CO$1017),0)","v":0}]
[null,"ZTC31 80031:FSH BAL S",null,null,1,10,{"$f":"IFERROR($E252*SUMIF('Daily Log'!$B$18:$B$1017,$B252,'Daily Log'!$C$18:$C$1017),0)","v":0},{"$f":"IFERROR($E252*SUMIF('Daily Log'!$E$18:$E$1017,$B252,'Daily Log'!$F$18:$F$1017),0)","v":0},{"$f":"IFERROR($E252*SUMIF('Daily Log'!$H$18:$H$1017,$B252,'Daily Log'!$I$18:$I$1017),0)","v":0},{"$f":"IFERROR($E252*SUMIF('Daily Log'!$K$18:$K$1017,$B252,'Daily Log'!$L$18:$L$1017),0)","v":0},{"$f":"IFERROR($E252*SUMIF('Daily Log'!$N$18:$N$1017,$B252,'Daily Log'!$O$18:$O$1017),0)","v":0},{"$f":"IFERROR($E252*SUMIF('Daily Log'!$Q$18:$Q$1017,$B252,'Daily Log'!$R$18:$R$1017),0)","v":0},{"$f":"IFERROR($E252*SUMIF('Daily Log'!$T$18:$T$1017,$B252,'Daily Log'!$U$18:$U$1017),0)","v":0},{"$f":"IFERROR($E252*SUMIF('Daily Log'!$W$18:$W$1017,$B252,'Daily Log'!$X$18:$X$1017),0)","v":0},{"$f":"IFERROR($E252*SUMIF('Daily Log'!$Z$18:$Z$1017,$B252,'Daily Log'!$AA$18:$AA$1017),0)","v":0},{"$f":"IFERROR($E252*SUMIF('Daily Log'!$AC$18:$AC$1017,$B252,'Daily Log'!$AD$18:$AD$1017),0)","v":0},{"$f":"IFERROR($E252*SUMIF('Daily Log'!$AF$18:$AF$1017,$B252,'Daily Log'!$AG$18:$AG$1017),0)","v":0},{"$f":"IFERROR($E252*SUMIF('Daily Log'!$AI$18:$AI$1017,$B252,'Daily Log'!$AJ$18:$AJ$1017),0)","v":0},{"$f":"IFERROR($E252*SUMIF('Daily Log'!$AL$18:$AL$1017,$B252,'Daily Log'!$AM$18:$AM$1017),0)","v":0},{"$f":"IFERROR($E252*SUMIF('Daily Log'!$AO$18:$AO$1017,$B252,'Daily Log'!$AP$18:$AP$1017),0)","v":0},{"$f":"IFERROR($E252*SUMIF('Daily Log'!$AR$18:$AR$1017,$B252,'Daily Log'!$AS$18:$AS$1017),0)","v":0},{"$f":"IFERROR($E252*SUMIF('Daily Log'!$AU$18:$AU$1017,$B252,'Daily Log'!$AV$18:$AV$1017),0)","v":0},{"$f":"IFERROR($E252*SUMIF('Daily Log'!$AX$18:$AX$1017,$B252,'Daily Log'!$AY$18:$AY$1017),0)","v":0},{"$f":"IFERROR($E252*SUMIF('Daily Log'!$BA$18:$BA$1017,$B252,'Daily Log'!$BB$18:$BB$1017),0)","v":0},{"$f":"IFERROR($E252*SUMIF('Daily Log'!$BD$18:$BD$1017,$B252,'Daily Log'!$BE$18:$BE$1017),0)","v":0},{"$f":"IFERROR($E252*SUMIF('Daily Log'!$BG$18:$BG$1017,$B252,'Daily Log'!$BH$18:$BH$1017),0)","v":0},{"$f":"IFERROR($E252*SUMIF('Daily Log'!$BJ$18:$BJ$1017,$B252,'Daily Log'!$BK$18:$BK$1017),0)","v":0},{"$f":"IFERROR($E252*SUMIF('Daily Log'!$BM$18:$BM$1017,$B252,'Daily Log'!$BN$18:$BN$1017),0)","v":0},{"$f":"IFERROR($E252*SUMIF('Daily Log'!$BP$18:$BP$1017,$B252,'Daily Log'!$BQ$18:$BQ$1017),0)","v":0},{"$f":"IFERROR($E252*SUMIF('Daily Log'!$BS$18:$BS$1017,$B252,'Daily Log'!$BT$18:$BT$1017),0)","v":0},{"$f":"IFERROR($E252*SUMIF('Daily Log'!$BV$18:$BV$1017,$B252,'Daily Log'!$BW$18:$BW$1017),0)","v":0},{"$f":"IFERROR($E252*SUMIF('Daily Log'!$BY$18:$BY$1017,$B252,'Daily Log'!$BZ$18:$BZ$1017),0)","v":0},{"$f":"IFERROR($E252*SUMIF('Daily Log'!$CB$18:$CB$1017,$B252,'Daily Log'!$CC$18:$CC$1017),0)","v":0},{"$f":"IFERROR($E252*SUMIF('Daily Log'!$CE$18:$CE$1017,$B252,'Daily Log'!$CF$18:$CF$1017),0)","v":0},{"$f":"IFERROR($E252*SUMIF('Daily Log'!$CH$18:$CH$1017,$B252,'Daily Log'!$CI$18:$CI$1017),0)","v":0},{"$f":"IFERROR($E252*SUMIF('Daily Log'!$CK$18:$CK$1017,$B252,'Daily Log'!$CL$18:$CL$1017),0)","v":10},{"$f":"IFERROR($E252*SUMIF('Daily Log'!$CN$18:$CN$1017,$B252,'Daily Log'!$CO$18:$CO$1017),0)","v":0}]
[null,"ZTC32 80032:SOTONG",null,null,1,8,{"$f":"IFERROR($E253*SUMIF('Daily Log'!$B$18:$B$1017,$B253,'Daily Log'!$C$18:$C$1017),0)","v":0},{"$f":"IFERROR($E253*SUMIF('Daily Log'!$E$18:$E$1017,$B253,'Daily Log'!$F$18:$F$1017),0)","v":0},{"$f":"IFERROR($E253*SUMIF('Daily Log'!$H$18:$H$1017,$B253,'Daily Log'!$I$18:$I$1017),0)","v":0},{"$f":"IFERROR($E253*SUMIF('Daily Log'!$K$18:$K$1017,$B253,'Daily Log'!$L$18:$L$1017),0)","v":0},{"$f":"IFERROR($E253*SUMIF('Daily Log'!$N$18:$N$1017,$B253,'Daily Log'!$O$18:$O$1017),0)","v":0},{"$f":"IFERROR($E253*SUMIF('Daily Log'!$Q$18:$Q$1017,$B253,'Daily Log'!$R$18:$R$1017),0)","v":0},{"$f":"IFERROR($E253*SUMIF('Daily Log'!$T$18:$T$1017,$B253,'Daily Log'!$U$18:$U$1017),0)","v":0},{"$f":"IFERROR($E253*SUMIF('Daily Log'!$W$18:$W$1017,$B253,'Daily Log'!$X$18:$X$1017),0)","v":0},{"$f":"IFERROR($E253*SUMIF('Daily Log'!$Z$18:$Z$1017,$B253,'Daily Log'!$AA$18:$AA$1017),0)","v":0},{"$f":"IFERROR($E253*SUMIF('Daily Log'!$AC$18:$AC$1017,$B253,'Daily Log'!$AD$18:$AD$1017),0)","v":0},{"$f":"IFERROR($E253*SUMIF('Daily Log'!$AF$18:$AF$1017,$B253,'Daily Log'!$AG$18:$AG$1017),0)","v":0},{"$f":"IFERROR($E253*SUMIF('Daily Log'!$AI$18:$AI$1017,$B253,'Daily Log'!$AJ$18:$AJ$1017),0)","v":0},{"$f":"IFERROR($E253*SUMIF('Daily Log'!$AL$18:$AL$1017,$B253,'Daily Log'!$AM$18:$AM$1017),0)","v":0},{"$f":"IFERROR($E253*SUMIF('Daily Log'!$AO$18:$AO$1017,$B253,'Daily Log'!$AP$18:$AP$1017),0)","v":0},{"$f":"IFERROR($E253*SUMIF('Daily Log'!$AR$18:$AR$1017,$B253,'Daily Log'!$AS$18:$AS$1017),0)","v":0},{"$f":"IFERROR($E253*SUMIF('Daily Log'!$AU$18:$AU$1017,$B253,'Daily Log'!$AV$18:$AV$1017),0)","v":0},{"$f":"IFERROR($E253*SUMIF('Daily Log'!$AX$18:$AX$1017,$B253,'Daily Log'!$AY$18:$AY$1017),0)","v":0},{"$f":"IFERROR($E253*SUMIF('Daily Log'!$BA$18:$BA$1017,$B253,'Daily Log'!$BB$18:$BB$1017),0)","v":0},{"$f":"IFERROR($E253*SUMIF('Daily Log'!$BD$18:$BD$1017,$B253,'Daily Log'!$BE$18:$BE$1017),0)","v":0},{"$f":"IFERROR($E253*SUMIF('Daily Log'!$BG$18:$BG$1017,$B253,'Daily Log'!$BH$18:$BH$1017),0)","v":0},{"$f":"IFERROR($E253*SUMIF('Daily Log'!$BJ$18:$BJ$1017,$B253,'Daily Log'!$BK$18:$BK$1017),0)","v":0},{"$f":"IFERROR($E253*SUMIF('Daily Log'!$BM$18:$BM$1017,$B253,'Daily Log'!$BN$18:$BN$1017),0)","v":0},{"$f":"IFERROR($E253*SUMIF('Daily Log'!$BP$18:$BP$1017,$B253,'Daily Log'!$BQ$18:$BQ$1017),0)","v":0},{"$f":"IFERROR($E253*SUMIF('Daily Log'!$BS$18:$BS$1017,$B253,'Daily Log'!$BT$18:$BT$1017),0)","v":0},{"$f":"IFERROR($E253*SUMIF('Daily Log'!$BV$18:$BV$1017,$B253,'Daily Log'!$BW$18:$BW$1017),0)","v":0},{"$f":"IFERROR($E253*SUMIF('Daily Log'!$BY$18:$BY$1017,$B253,'Daily Log'!$BZ$18:$BZ$1017),0)","v":0},{"$f":"IFERROR($E253*SUMIF('Daily Log'!$CB$18:$CB$1017,$B253,'Daily Log'!$CC$18:$CC$1017),0)","v":0},{"$f":"IFERROR($E253*SUMIF('Daily Log'!$CE$18:$CE$1017,$B253,'Daily Log'!$CF$18:$CF$1017),0)","v":0},{"$f":"IFERROR($E253*SUMIF('Daily Log'!$CH$18:$CH$1017,$B253,'Daily Log'!$CI$18:$CI$1017),0)","v":0},{"$f":"IFERROR($E253*SUMIF('Daily Log'!$CK$18:$CK$1017,$B253,'Daily Log'!$CL$18:$CL$1017),0)","v":8},{"$f":"IFERROR($E253*SUMIF('Daily Log'!$CN$18:$CN$1017,$B253,'Daily Log'!$CO$18:$CO$1017),0)","v":0}]
[null,"ZTC33 80033:TPURA PRW",null,null,1,{"$f":"SUM($G254:$AK254)","v":7},{"$f":"IFERROR($E254*SUMIF('Daily Log'!$B$18:$B$1017,$B254,'Daily Log'!$C$18:$C$1017),0)","v":0},{"$f":"IFERROR($E254*SUMIF('Daily Log'!$E$18:$E$1017,$B254,'Daily Log'!$F$18:$F$1017),0)","v":0},{"$f":"IFERROR($E254*SUMIF('Daily Log'!$H$18:$H$1017,$B254,'Daily Log'!$I$18:$I$1017),0)","v":0},{"$f":"IFERROR($E254*SUMIF('Daily Log'!$K$18:$K$1017,$B254,'Daily Log'!$L$18:$L$1017),0)","v":0},{"$f":"IFERROR($E254*SUMIF('Daily Log'!$N$18:$N$1017,$B254,'Daily Log'!$O$18:$O$1017),0)","v":0},{"$f":"IFERROR($E254*SUMIF('Daily Log'!$Q$18:$Q$1017,$B254,'Daily Log'!$R$18:$R$1017),0)","v":0},{"$f":"IFERROR($E254*SUMIF('Daily Log'!$T$18:$T$1017,$B254,'Daily Log'!$U$18:$U$1017),0)","v":0},{"$f":"IFERROR($E254*SUMIF('Daily Log'!$W$18:$W$1017,$B254,'Daily Log'!$X$18:$X$1017),0)","v":0},{"$f":"IFERROR($E254*SUMIF('Daily Log'!$Z$18:$Z$1017,$B254,'Daily Log'!$AA$18:$AA$1017),0)","v":0},{"$f":"IFERROR($E254*SUMIF('Daily Log'!$AC$18:$AC$1017,$B254,'Daily Log'!$AD$18:$AD$1017),0)","v":0},{"$f":"IFERROR($E254*SUMIF('Daily Log'!$AF$18:$AF$1017,$B254,'Daily Log'!$AG$18:$AG$1017),0)","v":0},{"$f":"IFERROR($E254*SUMIF('Daily Log'!$AI$18:$AI$1017,$B254,'Daily Log'!$AJ$18:$AJ$1017),0)","v":0},{"$f":"IFERROR($E254*SUMIF('Daily Log'!$AL$18:$AL$1017,$B254,'Daily Log'!$AM$18:$AM$1017),0)","v":0},{"$f":"IFERROR($E254*SUMIF('Daily Log'!$AO$18:$AO$1017,$B254,'Daily Log'!$AP$18:$AP$1017),0)","v":0},{"$f":"IFERROR($E254*SUMIF('Daily Log'!$AR$18:$AR$1017,$B254,'Daily Log'!$AS$18:$AS$1017),0)","v":0},{"$f":"IFERROR($E254*SUMIF('Daily Log'!$AU$18:$AU$1017,$B254,'Daily Log'!$AV$18:$AV$1017),0)","v":0},{"$f":"IFERROR($E254*SUMIF('Daily Log'!$AX$18:$AX$1017,$B254,'Daily Log'!$AY$18:$AY$1017),0)","v":0},{"$f":"IFERROR($E254*SUMIF('Daily Log'!$BA$18:$BA$1017,$B254,'Daily Log'!$BB$18:$BB$1017),0)","v":0},{"$f":"IFERROR($E254*SUMIF('Daily Log'!$BD$18:$BD$1017,$B254,'Daily Log'!$BE$18:$BE$1017),0)","v":0},{"$f":"IFERROR($E254*SUMIF('Daily Log'!$BG$18:$BG$1017,$B254,'Daily Log'!$BH$18:$BH$1017),0)","v":0},{"$f":"IFERROR($E254*SUMIF('Daily Log'!$BJ$18:$BJ$1017,$B254,'Daily Log'!$BK$18:$BK$1017),0)","v":0},{"$f":"IFERROR($E254*SUMIF('Daily Log'!$BM$18:$BM$1017,$B254,'Daily Log'!$BN$18:$BN$1017),0)","v":0},{"$f":"IFERROR($E254*SUMIF('Daily Log'!$BP$18:$BP$1017,$B254,'Daily Log'!$BQ$18:$BQ$1017),0)","v":0},{"$f":"IFERROR($E254*SUMIF('Daily Log'!$BS$18:$BS$1017,$B254,'Daily Log'!$BT$18:$BT$1017),0)","v":0},{"$f":"IFERROR($E254*SUMIF('Daily Log'!$BV$18:$BV$1017,$B254,'Daily Log'!$BW$18:$BW$1017),0)","v":0},{"$f":"IFERROR($E254*SUMIF('Daily Log'!$BY$18:$BY$1017,$B254,'Daily Log'!$BZ$18:$BZ$1017),0)","v":0},{"$f":"IFERROR($E254*SUMIF('Daily Log'!$CB$18:$CB$1017,$B254,'Daily Log'!$CC$18:$CC$1017),0)","v":0},{"$f":"IFERROR($E254*SUMIF('Daily Log'!$CE$18:$CE$1017,$B254,'Daily Log'!$CF$18:$CF$1017),0)","v":0},{"$f":"IFERROR($E254*SUMIF('Daily Log'!$CH$18:$CH$1017,$B254,'Daily Log'!$CI$18:$CI$1017),0)","v":0},{"$f":"IFERROR($E254*SUMIF('Daily Log'!$CK$18:$CK$1017,$B254,'Daily Log'!$CL$18:$CL$1017),0)","v":7},{"$f":"IFERROR($E254*SUMIF('Daily Log'!$CN$18:$CN$1017,$B254,'Daily Log'!$CO$18:$CO$1017),0)","v":0}]
[null,"ZTC36 80036:F TF SKIN",null,null,1,3,{"$f":"IFERROR($E255*SUMIF('Daily Log'!$B$18:$B$1017,$B255,'Daily Log'!$C$18:$C$1017),0)","v":0},{"$f":"IFERROR($E255*SUMIF('Daily Log'!$E$18:$E$1017,$B255,'Daily Log'!$F$18:$F$1017),0)","v":0},{"$f":"IFERROR($E255*SUMIF('Daily Log'!$H$18:$H$1017,$B255,'Daily Log'!$I$18:$I$1017),0)","v":0},{"$f":"IFERROR($E255*SUMIF('Daily Log'!$K$18:$K$1017,$B255,'Daily Log'!$L$18:$L$1017),0)","v":0},{"$f":"IFERROR($E255*SUMIF('Daily Log'!$N$18:$N$1017,$B255,'Daily Log'!$O$18:$O$1017),0)","v":0},{"$f":"IFERROR($E255*SUMIF('Daily Log'!$Q$18:$Q$1017,$B255,'Daily Log'!$R$18:$R$1017),0)","v":0},{"$f":"IFERROR($E255*SUMIF('Daily Log'!$T$18:$T$1017,$B255,'Daily Log'!$U$18:$U$1017),0)","v":0},{"$f":"IFERROR($E255*SUMIF('Daily Log'!$W$18:$W$1017,$B255,'Daily Log'!$X$18:$X$1017),0)","v":0},{"$f":"IFERROR($E255*SUMIF('Daily Log'!$Z$18:$Z$1017,$B255,'Daily Log'!$AA$18:$AA$1017),0)","v":0},{"$f":"IFERROR($E255*SUMIF('Daily Log'!$AC$18:$AC$1017,$B255,'Daily Log'!$AD$18:$AD$1017),0)","v":0},{"$f":"IFERROR($E255*SUMIF('Daily Log'!$AF$18:$AF$1017,$B255,'Daily Log'!$AG$18:$AG$1017),0)","v":0},{"$f":"IFERROR($E255*SUMIF('Daily Log'!$AI$18:$AI$1017,$B255,'Daily Log'!$AJ$18:$AJ$1017),0)","v":0},{"$f":"IFERROR($E255*SUMIF('Daily Log'!$AL$18:$AL$1017,$B255,'Daily Log'!$AM$18:$AM$1017),0)","v":0},{"$f":"IFERROR($E255*SUMIF('Daily Log'!$AO$18:$AO$1017,$B255,'Daily Log'!$AP$18:$AP$1017),0)","v":0},{"$f":"IFERROR($E255*SUMIF('Daily Log'!$AR$18:$AR$1017,$B255,'Daily Log'!$AS$18:$AS$1017),0)","v":0},{"$f":"IFERROR($E255*SUMIF('Daily Log'!$AU$18:$AU$1017,$B255,'Daily Log'!$AV$18:$AV$1017),0)","v":0},{"$f":"IFERROR($E255*SUMIF('Daily Log'!$AX$18:$AX$1017,$B255,'Daily Log'!$AY$18:$AY$1017),0)","v":0},{"$f":"IFERROR($E255*SUMIF('Daily Log'!$BA$18:$BA$1017,$B255,'Daily Log'!$BB$18:$BB$1017),0)","v":0},{"$f":"IFERROR($E255*SUMIF('Daily Log'!$BD$18:$BD$1017,$B255,'Daily Log'!$BE$18:$BE$1017),0)","v":0},{"$f":"IFERROR($E255*SUMIF('Daily Log'!$BG$18:$BG$1017,$B255,'Daily Log'!$BH$18:$BH$1017),0)","v":0},{"$f":"IFERROR($E255*SUMIF('Daily Log'!$BJ$18:$BJ$1017,$B255,'Daily Log'!$BK$18:$BK$1017),0)","v":0},{"$f":"IFERROR($E255*SUMIF('Daily Log'!$BM$18:$BM$1017,$B255,'Daily Log'!$BN$18:$BN$1017),0)","v":0},{"$f":"IFERROR($E255*SUMIF('Daily Log'!$BP$18:$BP$1017,$B255,'Daily Log'!$BQ$18:$BQ$1017),0)","v":0},{"$f":"IFERROR($E255*SUMIF('Daily Log'!$BS$18:$BS$1017,$B255,'Daily Log'!$BT$18:$BT$1017),0)","v":0},{"$f":"IFERROR($E255*SUMIF('Daily Log'!$BV$18:$BV$1017,$B255,'Daily Log'!$BW$18:$BW$1017),0)","v":0},{"$f":"IFERROR($E255*SUMIF('Daily Log'!$BY$18:$BY$1017,$B255,'Daily Log'!$BZ$18:$BZ$1017),0)","v":0},{"$f":"IFERROR($E255*SUMIF('Daily Log'!$CB$18:$CB$1017,$B255,'Daily Log'!$CC$18:$CC$1017),0)","v":0},{"$f":"IFERROR($E255*SUMIF('Daily Log'!$CE$18:$CE$1017,$B255,'Daily Log'!$CF$18:$CF$1017),0)","v":0},{"$f":"IFERROR($E255*SUMIF('Daily Log'!$CH$18:$CH$1017,$B255,'Daily Log'!$CI$18:$CI$1017),0)","v":0},{"$f":"IFERROR($E255*SUMIF('Daily Log'!$CK$18:$CK$1017,$B255,'Daily Log'!$CL$18:$CL$1017),0)","v":3},{"$f":"IFERROR($E255*SUMIF('Daily Log'!$CN$18:$CN$1017,$B255,'Daily Log'!$CO$18:$CO$1017),0)","v":0}]
[null,"ZTC38 80038:F MANTOU",null,null,1,3,{"$f":"IFERROR($E256*SUMIF('Daily Log'!$B$18:$B$1017,$B256,'Daily Log'!$C$18:$C$1017),0)","v":0},{"$f":"IFERROR($E256*SUMIF('Daily Log'!$E$18:$E$1017,$B256,'Daily Log'!$F$18:$F$1017),0)","v":0},{"$f":"IFERROR($E256*SUMIF('Daily Log'!$H$18:$H$1017,$B256,'Daily Log'!$I$18:$I$1017),0)","v":0},{"$f":"IFERROR($E256*SUMIF('Daily Log'!$K$18:$K$1017,$B256,'Daily Log'!$L$18:$L$1017),0)","v":0},{"$f":"IFERROR($E256*SUMIF('Daily Log'!$N$18:$N$1017,$B256,'Daily Log'!$O$18:$O$1017),0)","v":0},{"$f":"IFERROR($E256*SUMIF('Daily Log'!$Q$18:$Q$1017,$B256,'Daily Log'!$R$18:$R$1017),0)","v":0},{"$f":"IFERROR($E256*SUMIF('Daily Log'!$T$18:$T$1017,$B256,'Daily Log'!$U$18:$U$1017),0)","v":0},{"$f":"IFERROR($E256*SUMIF('Daily Log'!$W$18:$W$1017,$B256,'Daily Log'!$X$18:$X$1017),0)","v":0},{"$f":"IFERROR($E256*SUMIF('Daily Log'!$Z$18:$Z$1017,$B256,'Daily Log'!$AA$18:$AA$1017),0)","v":0},{"$f":"IFERROR($E256*SUMIF('Daily Log'!$AC$18:$AC$1017,$B256,'Daily Log'!$AD$18:$AD$1017),0)","v":0},{"$f":"IFERROR($E256*SUMIF('Daily Log'!$AF$18:$AF$1017,$B256,'Daily Log'!$AG$18:$AG$1017),0)","v":0},{"$f":"IFERROR($E256*SUMIF('Daily Log'!$AI$18:$AI$1017,$B256,'Daily Log'!$AJ$18:$AJ$1017),0)","v":0},{"$f":"IFERROR($E256*SUMIF('Daily Log'!$AL$18:$AL$1017,$B256,'Daily Log'!$AM$18:$AM$1017),0)","v":0},{"$f":"IFERROR($E256*SUMIF('Daily Log'!$AO$18:$AO$1017,$B256,'Daily Log'!$AP$18:$AP$1017),0)","v":0},{"$f":"IFERROR($E256*SUMIF('Daily Log'!$AR$18:$AR$1017,$B256,'Daily Log'!$AS$18:$AS$1017),0)","v":0},{"$f":"IFERROR($E256*SUMIF('Daily Log'!$AU$18:$AU$1017,$B256,'Daily Log'!$AV$18:$AV$1017),0)","v":0},{"$f":"IFERROR($E256*SUMIF('Daily Log'!$AX$18:$AX$1017,$B256,'Daily Log'!$AY$18:$AY$1017),0)","v":0},{"$f":"IFERROR($E256*SUMIF('Daily Log'!$BA$18:$BA$1017,$B256,'Daily Log'!$BB$18:$BB$1017),0)","v":0},{"$f":"IFERROR($E256*SUMIF('Daily Log'!$BD$18:$BD$1017,$B256,'Daily Log'!$BE$18:$BE$1017),0)","v":0},{"$f":"IFERROR($E256*SUMIF('Daily Log'!$BG$18:$BG$1017,$B256,'Daily Log'!$BH$18:$BH$1017),0)","v":0},{"$f":"IFERROR($E256*SUMIF('Daily Log'!$BJ$18:$BJ$1017,$B256,'Daily Log'!$BK$18:$BK$1017),0)","v":0},{"$f":"IFERROR($E256*SUMIF('Daily Log'!$BM$18:$BM$1017,$B256,'Daily Log'!$BN$18:$BN$1017),0)","v":0},{"$f":"IFERROR($E256*SUMIF('Daily Log'!$BP$18:$BP$1017,$B256,'Daily Log'!$BQ$18:$BQ$1017),0)","v":0},{"$f":"IFERROR($E256*SUMIF('Daily Log'!$BS$18:$BS$1017,$B256,'Daily Log'!$BT$18:$BT$1017),0)","v":0},{"$f":"IFERROR($E256*SUMIF('Daily Log'!$BV$18:$BV$1017,$B256,'Daily Log'!$BW$18:$BW$1017),0)","v":0},{"$f":"IFERROR($E256*SUMIF('Daily Log'!$BY$18:$BY$1017,$B256,'Daily Log'!$BZ$18:$BZ$1017),0)","v":0},{"$f":"IFERROR($E256*SUMIF('Daily Log'!$CB$18:$CB$1017,$B256,'Daily Log'!$CC$18:$CC$1017),0)","v":0},{"$f":"IFERROR($E256*SUMIF('Daily Log'!$CE$18:$CE$1017,$B256,'Daily Log'!$CF$18:$CF$1017),0)","v":0},{"$f":"IFERROR($E256*SUMIF('Daily Log'!$CH$18:$CH$1017,$B256,'Daily Log'!$CI$18:$CI$1017),0)","v":0},{"$f":"IFERROR($E256*SUMIF('Daily Log'!$CK$18:$CK$1017,$B256,'Daily Log'!$CL$18:$CL$1017),0)","v":3},{"$f":"IFERROR($E256*SUMIF('Daily Log'!$CN$18:$CN$1017,$B256,'Daily Log'!$CO$18:$CO$1017),0)","v":0}]
[null,"ZTC39 80039:CRS F BAO",null,null,1,1,{"$f":"IFERROR($E257*SUMIF('Daily Log'!$B$18:$B$1017,$B257,'Daily Log'!$C$18:$C$1017),0)","v":0},{"$f":"IFERROR($E257*SUMIF('Daily Log'!$E$18:$E$1017,$B257,'Daily Log'!$F$18:$F$1017),0)","v":0},{"$f":"IFERROR($E257*SUMIF('Daily Log'!$H$18:$H$1017,$B257,'Daily Log'!$I$18:$I$1017),0)","v":0},{"$f":"IFERROR($E257*SUMIF('Daily Log'!$K$18:$K$1017,$B257,'Daily Log'!$L$18:$L$1017),0)","v":0},{"$f":"IFERROR($E257*SUMIF('Daily Log'!$N$18:$N$1017,$B257,'Daily Log'!$O$18:$O$1017),0)","v":0},{"$f":"IFERROR($E257*SUMIF('Daily Log'!$Q$18:$Q$1017,$B257,'Daily Log'!$R$18:$R$1017),0)","v":0},{"$f":"IFERROR($E257*SUMIF('Daily Log'!$T$18:$T$1017,$B257,'Daily Log'!$U$18:$U$1017),0)","v":0},{"$f":"IFERROR($E257*SUMIF('Daily Log'!$W$18:$W$1017,$B257,'Daily Log'!$X$18:$X$1017),0)","v":0},{"$f":"IFERROR($E257*SUMIF('Daily Log'!$Z$18:$Z$1017,$B257,'Daily Log'!$AA$18:$AA$1017),0)","v":0},{"$f":"IFERROR($E257*SUMIF('Daily Log'!$AC$18:$AC$1017,$B257,'Daily Log'!$AD$18:$AD$1017),0)","v":0},{"$f":"IFERROR($E257*SUMIF('Daily Log'!$AF$18:$AF$1017,$B257,'Daily Log'!$AG$18:$AG$1017),0)","v":0},{"$f":"IFERROR($E257*SUMIF('Daily Log'!$AI$18:$AI$1017,$B257,'Daily Log'!$AJ$18:$AJ$1017),0)","v":0},{"$f":"IFERROR($E257*SUMIF('Daily Log'!$AL$18:$AL$1017,$B257,'Daily Log'!$AM$18:$AM$1017),0)","v":0},{"$f":"IFERROR($E257*SUMIF('Daily Log'!$AO$18:$AO$1017,$B257,'Daily Log'!$AP$18:$AP$1017),0)","v":0},{"$f":"IFERROR($E257*SUMIF('Daily Log'!$AR$18:$AR$1017,$B257,'Daily Log'!$AS$18:$AS$1017),0)","v":0},{"$f":"IFERROR($E257*SUMIF('Daily Log'!$AU$18:$AU$1017,$B257,'Daily Log'!$AV$18:$AV$1017),0)","v":0},{"$f":"IFERROR($E257*SUMIF('Daily Log'!$AX$18:$AX$1017,$B257,'Daily Log'!$AY$18:$AY$1017),0)","v":0},{"$f":"IFERROR($E257*SUMIF('Daily Log'!$BA$18:$BA$1017,$B257,'Daily Log'!$BB$18:$BB$1017),0)","v":0},{"$f":"IFERROR($E257*SUMIF('Daily Log'!$BD$18:$BD$1017,$B257,'Daily Log'!$BE$18:$BE$1017),0)","v":0},{"$f":"IFERROR($E257*SUMIF('Daily Log'!$BG$18:$BG$1017,$B257,'Daily Log'!$BH$18:$BH$1017),0)","v":0},{"$f":"IFERROR($E257*SUMIF('Daily Log'!$BJ$18:$BJ$1017,$B257,'Daily Log'!$BK$18:$BK$1017),0)","v":0},{"$f":"IFERROR($E257*SUMIF('Daily Log'!$BM$18:$BM$1017,$B257,'Daily Log'!$BN$18:$BN$1017),0)","v":0},{"$f":"IFERROR($E257*SUMIF('Daily Log'!$BP$18:$BP$1017,$B257,'Daily Log'!$BQ$18:$BQ$1017),0)","v":0},{"$f":"IFERROR($E257*SUMIF('Daily Log'!$BS$18:$BS$1017,$B257,'Daily Log'!$BT$18:$BT$1017),0)","v":0},{"$f":"IFERROR($E257*SUMIF('Daily Log'!$BV$18:$BV$1017,$B257,'Daily Log'!$BW$18:$BW$1017),0)","v":0},{"$f":"IFERROR($E257*SUMIF('Daily Log'!$BY$18:$BY$1017,$B257,'Daily Log'!$BZ$18:$BZ$1017),0)","v":0},{"$f":"IFERROR($E257*SUMIF('Daily Log'!$CB$18:$CB$1017,$B257,'Daily Log'!$CC$18:$CC$1017),0)","v":0},{"$f":"IFERROR($E257*SUMIF('Daily Log'!$CE$18:$CE$1017,$B257,'Daily Log'!$CF$18:$CF$1017),0)","v":0},{"$f":"IFERROR($E257*SUMIF('Daily Log'!$CH$18:$CH$1017,$B257,'Daily Log'!$CI$18:$CI$1017),0)","v":0},{"$f":"IFERROR($E257*SUMIF('Daily Log'!$CK$18:$CK$1017,$B257,'Daily Log'!$CL$18:$CL$1017),0)","v":1},{"$f":"IFERROR($E257*SUMIF('Daily Log'!$CN$18:$CN$1017,$B257,'Daily Log'!$CO$18:$CO$1017),0)","v":0}]
[null,"ZTC40 80040:QUAIL EGGS",null,null,1,1,{"$f":"IFERROR($E258*SUMIF('Daily Log'!$B$18:$B$1017,$B258,'Daily Log'!$C$18:$C$1017),0)","v":0},{"$f":"IFERROR($E258*SUMIF('Daily Log'!$E$18:$E$1017,$B258,'Daily Log'!$F$18:$F$1017),0)","v":0},{"$f":"IFERROR($E258*SUMIF('Daily Log'!$H$18:$H$1017,$B258,'Daily Log'!$I$18:$I$1017),0)","v":0},{"$f":"IFERROR($E258*SUMIF('Daily Log'!$K$18:$K$1017,$B258,'Daily Log'!$L$18:$L$1017),0)","v":0},{"$f":"IFERROR($E258*SUMIF('Daily Log'!$N$18:$N$1017,$B258,'Daily Log'!$O$18:$O$1017),0)","v":0},{"$f":"IFERROR($E258*SUMIF('Daily Log'!$Q$18:$Q$1017,$B258,'Daily Log'!$R$18:$R$1017),0)","v":0},{"$f":"IFERROR($E258*SUMIF('Daily Log'!$T$18:$T$1017,$B258,'Daily Log'!$U$18:$U$1017),0)","v":0},{"$f":"IFERROR($E258*SUMIF('Daily Log'!$W$18:$W$1017,$B258,'Daily Log'!$X$18:$X$1017),0)","v":0},{"$f":"IFERROR($E258*SUMIF('Daily Log'!$Z$18:$Z$1017,$B258,'Daily Log'!$AA$18:$AA$1017),0)","v":0},{"$f":"IFERROR($E258*SUMIF('Daily Log'!$AC$18:$AC$1017,$B258,'Daily Log'!$AD$18:$AD$1017),0)","v":0},{"$f":"IFERROR($E258*SUMIF('Daily Log'!$AF$18:$AF$1017,$B258,'Daily Log'!$AG$18:$AG$1017),0)","v":0},{"$f":"IFERROR($E258*SUMIF('Daily Log'!$AI$18:$AI$1017,$B258,'Daily Log'!$AJ$18:$AJ$1017),0)","v":0},{"$f":"IFERROR($E258*SUMIF('Daily Log'!$AL$18:$AL$1017,$B258,'Daily Log'!$AM$18:$AM$1017),0)","v":0},{"$f":"IFERROR($E258*SUMIF('Daily Log'!$AO$18:$AO$1017,$B258,'Daily Log'!$AP$18:$AP$1017),0)","v":0},{"$f":"IFERROR($E258*SUMIF('Daily Log'!$AR$18:$AR$1017,$B258,'Daily Log'!$AS$18:$AS$1017),0)","v":0},{"$f":"IFERROR($E258*SUMIF('Daily Log'!$AU$18:$AU$1017,$B258,'Daily Log'!$AV$18:$AV$1017),0)","v":0},{"$f":"IFERROR($E258*SUMIF('Daily Log'!$AX$18:$AX$1017,$B258,'Daily Log'!$AY$18:$AY$1017),0)","v":0},{"$f":"IFERROR($E258*SUMIF('Daily Log'!$BA$18:$BA$1017,$B258,'Daily Log'!$BB$18:$BB$1017),0)","v":0},{"$f":"IFERROR($E258*SUMIF('Daily Log'!$BD$18:$BD$1017,$B258,'Daily Log'!$BE$18:$BE$1017),0)","v":0},{"$f":"IFERROR($E258*SUMIF('Daily Log'!$BG$18:$BG$1017,$B258,'Daily Log'!$BH$18:$BH$1017),0)","v":0},{"$f":"IFERROR($E258*SUMIF('Daily Log'!$BJ$18:$BJ$1017,$B258,'Daily Log'!$BK$18:$BK$1017),0)","v":0},{"$f":"IFERROR($E258*SUMIF('Daily Log'!$BM$18:$BM$1017,$B258,'Daily Log'!$BN$18:$BN$1017),0)","v":0},{"$f":"IFERROR($E258*SUMIF('Daily Log'!$BP$18:$BP$1017,$B258,'Daily Log'!$BQ$18:$BQ$1017),0)","v":0},{"$f":"IFERROR($E258*SUMIF('Daily Log'!$BS$18:$BS$1017,$B258,'Daily Log'!$BT$18:$BT$1017),0)","v":0},{"$f":"IFERROR($E258*SUMIF('Daily Log'!$BV$18:$BV$1017,$B258,'Daily Log'!$BW$18:$BW$1017),0)","v":0},{"$f":"IFERROR($E258*SUMIF('Daily Log'!$BY$18:$BY$1017,$B258,'Daily Log'!$BZ$18:$BZ$1017),0)","v":0},{"$f":"IFERROR($E258*SUMIF('Daily Log'!$CB$18:$CB$1017,$B258,'Daily Log'!$CC$18:$CC$1017),0)","v":0},{"$f":"IFERROR($E258*SUMIF('Daily Log'!$CE$18:$CE$1017,$B258,'Daily Log'!$CF$18:$CF$1017),0)","v":0},{"$f":"IFERROR($E258*SUMIF('Daily Log'!$CH$18:$CH$1017,$B258,'Daily Log'!$CI$18:$CI$1017),0)","v":0},{"$f":"IFERROR($E258*SUMIF('Daily Log'!$CK$18:$CK$1017,$B258,'Daily Log'!$CL$18:$CL$1017),0)","v":1},{"$f":"IFERROR($E258*SUMIF('Daily Log'!$CN$18:$CN$1017,$B258,'Daily Log'!$CO$18:$CO$1017),0)","v":0}]
[null,"ZTC41 80041:FSH TF PO",null,null,1,1,{"$f":"IFERROR($E259*SUMIF('Daily Log'!$B$18:$B$1017,$B259,'Daily Log'!$C$18:$C$1017),0)","v":0},{"$f":"IFERROR($E259*SUMIF('Daily Log'!$E$18:$E$1017,$B259,'Daily Log'!$F$18:$F$1017),0)","v":0},{"$f":"IFERROR($E259*SUMIF('Daily Log'!$H$18:$H$1017,$B259,'Daily Log'!$I$18:$I$1017),0)","v":0},{"$f":"IFERROR($E259*SUMIF('Daily Log'!$K$18:$K$1017,$B259,'Daily Log'!$L$18:$L$1017),0)","v":0},{"$f":"IFERROR($E259*SUMIF('Daily Log'!$N$18:$N$1017,$B259,'Daily Log'!$O$18:$O$1017),0)","v":0},{"$f":"IFERROR($E259*SUMIF('Daily Log'!$Q$18:$Q$1017,$B259,'Daily Log'!$R$18:$R$1017),0)","v":0},{"$f":"IFERROR($E259*SUMIF('Daily Log'!$T$18:$T$1017,$B259,'Daily Log'!$U$18:$U$1017),0)","v":0},{"$f":"IFERROR($E259*SUMIF('Daily Log'!$W$18:$W$1017,$B259,'Daily Log'!$X$18:$X$1017),0)","v":0},{"$f":"IFERROR($E259*SUMIF('Daily Log'!$Z$18:$Z$1017,$B259,'Daily Log'!$AA$18:$AA$1017),0)","v":0},{"$f":"IFERROR($E259*SUMIF('Daily Log'!$AC$18:$AC$1017,$B259,'Daily Log'!$AD$18:$AD$1017),0)","v":0},{"$f":"IFERROR($E259*SUMIF('Daily Log'!$AF$18:$AF$1017,$B259,'Daily Log'!$AG$18:$AG$1017),0)","v":0},{"$f":"IFERROR($E259*SUMIF('Daily Log'!$AI$18:$AI$1017,$B259,'Daily Log'!$AJ$18:$AJ$1017),0)","v":0},{"$f":"IFERROR($E259*SUMIF('Daily Log'!$AL$18:$AL$1017,$B259,'Daily Log'!$AM$18:$AM$1017),0)","v":0},{"$f":"IFERROR($E259*SUMIF('Daily Log'!$AO$18:$AO$1017,$B259,'Daily Log'!$AP$18:$AP$1017),0)","v":0},{"$f":"IFERROR($E259*SUMIF('Daily Log'!$AR$18:$AR$1017,$B259,'Daily Log'!$AS$18:$AS$1017),0)","v":0},{"$f":"IFERROR($E259*SUMIF('Daily Log'!$AU$18:$AU$1017,$B259,'Daily Log'!$AV$18:$AV$1017),0)","v":0},{"$f":"IFERROR($E259*SUMIF('Daily Log'!$AX$18:$AX$1017,$B259,'Daily Log'!$AY$18:$AY$1017),0)","v":0},{"$f":"IFERROR($E259*SUMIF('Daily Log'!$BA$18:$BA$1017,$B259,'Daily Log'!$BB$18:$BB$1017),0)","v":0},{"$f":"IFERROR($E259*SUMIF('Daily Log'!$BD$18:$BD$1017,$B259,'Daily Log'!$BE$18:$BE$1017),0)","v":0},{"$f":"IFERROR($E259*SUMIF('Daily Log'!$BG$18:$BG$1017,$B259,'Daily Log'!$BH$18:$BH$1017),0)","v":0},{"$f":"IFERROR($E259*SUMIF('Daily Log'!$BJ$18:$BJ$1017,$B259,'Daily Log'!$BK$18:$BK$1017),0)","v":0},{"$f":"IFERROR($E259*SUMIF('Daily Log'!$BM$18:$BM$1017,$B259,'Daily Log'!$BN$18:$BN$1017),0)","v":0},{"$f":"IFERROR($E259*SUMIF('Daily Log'!$BP$18:$BP$1017,$B259,'Daily Log'!$BQ$18:$BQ$1017),0)","v":0},{"$f":"IFERROR($E259*SUMIF('Daily Log'!$BS$18:$BS$1017,$B259,'Daily Log'!$BT$18:$BT$1017),0)","v":0},{"$f":"IFERROR($E259*SUMIF('Daily Log'!$BV$18:$BV$1017,$B259,'Daily Log'!$BW$18:$BW$1017),0)","v":0},{"$f":"IFERROR($E259*SUMIF('Daily Log'!$BY$18:$BY$1017,$B259,'Daily Log'!$BZ$18:$BZ$1017),0)","v":0},{"$f":"IFERROR($E259*SUMIF('Daily Log'!$CB$18:$CB$1017,$B259,'Daily Log'!$CC$18:$CC$1017),0)","v":0},{"$f":"IFERROR($E259*SUMIF('Daily Log'!$CE$18:$CE$1017,$B259,'Daily Log'!$CF$18:$CF$1017),0)","v":0},{"$f":"IFERROR($E259*SUMIF('Daily Log'!$CH$18:$CH$1017,$B259,'Daily Log'!$CI$18:$CI$1017),0)","v":0},{"$f":"IFERROR($E259*SUMIF('Daily Log'!$CK$18:$CK$1017,$B259,'Daily Log'!$CL$18:$CL$1017),0)","v":1},{"$f":"IFERROR($E259*SUMIF('Daily Log'!$CN$18:$CN$1017,$B259,'Daily Log'!$CO$18:$CO$1017),0)","v":0}]
[null,"ZTC42 80042:CRS BAO",null,null,1,2,{"$f":"IFERROR($E260*SUMIF('Daily Log'!$B$18:$B$1017,$B260,'Daily Log'!$C$18:$C$1017),0)","v":0},{"$f":"IFERROR($E260*SUMIF('Daily Log'!$E$18:$E$1017,$B260,'Daily Log'!$F$18:$F$1017),0)","v":0},{"$f":"IFERROR($E260*SUMIF('Daily Log'!$H$18:$H$1017,$B260,'Daily Log'!$I$18:$I$1017),0)","v":0},{"$f":"IFERROR($E260*SUMIF('Daily Log'!$K$18:$K$1017,$B260,'Daily Log'!$L$18:$L$1017),0)","v":0},{"$f":"IFERROR($E260*SUMIF('Daily Log'!$N$18:$N$1017,$B260,'Daily Log'!$O$18:$O$1017),0)","v":0},{"$f":"IFERROR($E260*SUMIF('Daily Log'!$Q$18:$Q$1017,$B260,'Daily Log'!$R$18:$R$1017),0)","v":0},{"$f":"IFERROR($E260*SUMIF('Daily Log'!$T$18:$T$1017,$B260,'Daily Log'!$U$18:$U$1017),0)","v":0},{"$f":"IFERROR($E260*SUMIF('Daily Log'!$W$18:$W$1017,$B260,'Daily Log'!$X$18:$X$1017),0)","v":0},{"$f":"IFERROR($E260*SUMIF('Daily Log'!$Z$18:$Z$1017,$B260,'Daily Log'!$AA$18:$AA$1017),0)","v":0},{"$f":"IFERROR($E260*SUMIF('Daily Log'!$AC$18:$AC$1017,$B260,'Daily Log'!$AD$18:$AD$1017),0)","v":0},{"$f":"IFERROR($E260*SUMIF('Daily Log'!$AF$18:$AF$1017,$B260,'Daily Log'!$AG$18:$AG$1017),0)","v":0},{"$f":"IFERROR($E260*SUMIF('Daily Log'!$AI$18:$AI$1017,$B260,'Daily Log'!$AJ$18:$AJ$1017),0)","v":0},{"$f":"IFERROR($E260*SUMIF('Daily Log'!$AL$18:$AL$1017,$B260,'Daily Log'!$AM$18:$AM$1017),0)","v":0},{"$f":"IFERROR($E260*SUMIF('Daily Log'!$AO$18:$AO$1017,$B260,'Daily Log'!$AP$18:$AP$1017),0)","v":0},{"$f":"IFERROR($E260*SUMIF('Daily Log'!$AR$18:$AR$1017,$B260,'Daily Log'!$AS$18:$AS$1017),0)","v":0},{"$f":"IFERROR($E260*SUMIF('Daily Log'!$AU$18:$AU$1017,$B260,'Daily Log'!$AV$18:$AV$1017),0)","v":0},{"$f":"IFERROR($E260*SUMIF('Daily Log'!$AX$18:$AX$1017,$B260,'Daily Log'!$AY$18:$AY$1017),0)","v":0},{"$f":"IFERROR($E260*SUMIF('Daily Log'!$BA$18:$BA$1017,$B260,'Daily Log'!$BB$18:$BB$1017),0)","v":0},{"$f":"IFERROR($E260*SUMIF('Daily Log'!$BD$18:$BD$1017,$B260,'Daily Log'!$BE$18:$BE$1017),0)","v":0},{"$f":"IFERROR($E260*SUMIF('Daily Log'!$BG$18:$BG$1017,$B260,'Daily Log'!$BH$18:$BH$1017),0)","v":0},{"$f":"IFERROR($E260*SUMIF('Daily Log'!$BJ$18:$BJ$1017,$B260,'Daily Log'!$BK$18:$BK$1017),0)","v":0},{"$f":"IFERROR($E260*SUMIF('Daily Log'!$BM$18:$BM$1017,$B260,'Daily Log'!$BN$18:$BN$1017),0)","v":0},{"$f":"IFERROR($E260*SUMIF('Daily Log'!$BP$18:$BP$1017,$B260,'Daily Log'!$BQ$18:$BQ$1017),0)","v":0},{"$f":"IFERROR($E260*SUMIF('Daily Log'!$BS$18:$BS$1017,$B260,'Daily Log'!$BT$18:$BT$1017),0)","v":0},{"$f":"IFERROR($E260*SUMIF('Daily Log'!$BV$18:$BV$1017,$B260,'Daily Log'!$BW$18:$BW$1017),0)","v":0},{"$f":"IFERROR($E260*SUMIF('Daily Log'!$BY$18:$BY$1017,$B260,'Daily Log'!$BZ$18:$BZ$1017),0)","v":0},{"$f":"IFERROR($E260*SUMIF('Daily Log'!$CB$18:$CB$1017,$B260,'Daily Log'!$CC$18:$CC$1017),0)","v":0},{"$f":"IFERROR($E260*SUMIF('Daily Log'!$CE$18:$CE$1017,$B260,'Daily Log'!$CF$18:$CF$1017),0)","v":0},{"$f":"IFERROR($E260*SUMIF('Daily Log'!$CH$18:$CH$1017,$B260,'Daily Log'!$CI$18:$CI$1017),0)","v":0},{"$f":"IFERROR($E260*SUMIF('Daily Log'!$CK$18:$CK$1017,$B260,'Daily Log'!$CL$18:$CL$1017),0)","v":2},{"$f":"IFERROR($E260*SUMIF('Daily Log'!$CN$18:$CN$1017,$B260,'Daily Log'!$CO$18:$CO$1017),0)","v":0}]
[null,"ZTC43 80043:Y DUMPLING",null,null,1,6,{"$f":"IFERROR($E261*SUMIF('Daily Log'!$B$18:$B$1017,$B261,'Daily Log'!$C$18:$C$1017),0)","v":0},{"$f":"IFERROR($E261*SUMIF('Daily Log'!$E$18:$E$1017,$B261,'Daily Log'!$F$18:$F$1017),0)","v":0},{"$f":"IFERROR($E261*SUMIF('Daily Log'!$H$18:$H$1017,$B261,'Daily Log'!$I$18:$I$1017),0)","v":0},{"$f":"IFERROR($E261*SUMIF('Daily Log'!$K$18:$K$1017,$B261,'Daily Log'!$L$18:$L$1017),0)","v":0},{"$f":"IFERROR($E261*SUMIF('Daily Log'!$N$18:$N$1017,$B261,'Daily Log'!$O$18:$O$1017),0)","v":0},{"$f":"IFERROR($E261*SUMIF('Daily Log'!$Q$18:$Q$1017,$B261,'Daily Log'!$R$18:$R$1017),0)","v":0},{"$f":"IFERROR($E261*SUMIF('Daily Log'!$T$18:$T$1017,$B261,'Daily Log'!$U$18:$U$1017),0)","v":0},{"$f":"IFERROR($E261*SUMIF('Daily Log'!$W$18:$W$1017,$B261,'Daily Log'!$X$18:$X$1017),0)","v":0},{"$f":"IFERROR($E261*SUMIF('Daily Log'!$Z$18:$Z$1017,$B261,'Daily Log'!$AA$18:$AA$1017),0)","v":0},{"$f":"IFERROR($E261*SUMIF('Daily Log'!$AC$18:$AC$1017,$B261,'Daily Log'!$AD$18:$AD$1017),0)","v":0},{"$f":"IFERROR($E261*SUMIF('Daily Log'!$AF$18:$AF$1017,$B261,'Daily Log'!$AG$18:$AG$1017),0)","v":0},{"$f":"IFERROR($E261*SUMIF('Daily Log'!$AI$18:$AI$1017,$B261,'Daily Log'!$AJ$18:$AJ$1017),0)","v":0},{"$f":"IFERROR($E261*SUMIF('Daily Log'!$AL$18:$AL$1017,$B261,'Daily Log'!$AM$18:$AM$1017),0)","v":0},{"$f":"IFERROR($E261*SUMIF('Daily Log'!$AO$18:$AO$1017,$B261,'Daily Log'!$AP$18:$AP$1017),0)","v":0},{"$f":"IFERROR($E261*SUMIF('Daily Log'!$AR$18:$AR$1017,$B261,'Daily Log'!$AS$18:$AS$1017),0)","v":0},{"$f":"IFERROR($E261*SUMIF('Daily Log'!$AU$18:$AU$1017,$B261,'Daily Log'!$AV$18:$AV$1017),0)","v":0},{"$f":"IFERROR($E261*SUMIF('Daily Log'!$AX$18:$AX$1017,$B261,'Daily Log'!$AY$18:$AY$1017),0)","v":0},{"$f":"IFERROR($E261*SUMIF('Daily Log'!$BA$18:$BA$1017,$B261,'Daily Log'!$BB$18:$BB$1017),0)","v":0},{"$f":"IFERROR($E261*SUMIF('Daily Log'!$BD$18:$BD$1017,$B261,'Daily Log'!$BE$18:$BE$1017),0)","v":0},{"$f":"IFERROR($E261*SUMIF('Daily Log'!$BG$18:$BG$1017,$B261,'Daily Log'!$BH$18:$BH$1017),0)","v":0},{"$f":"IFERROR($E261*SUMIF('Daily Log'!$BJ$18:$BJ$1017,$B261,'Daily Log'!$BK$18:$BK$1017),0)","v":0},{"$f":"IFERROR($E261*SUMIF('Daily Log'!$BM$18:$BM$1017,$B261,'Daily Log'!$BN$18:$BN$1017),0)","v":0},{"$f":"IFERROR($E261*SUMIF('Daily Log'!$BP$18:$BP$1017,$B261,'Daily Log'!$BQ$18:$BQ$1017),0)","v":0},{"$f":"IFERROR($E261*SUMIF('Daily Log'!$BS$18:$BS$1017,$B261,'Daily Log'!$BT$18:$BT$1017),0)","v":0},{"$f":"IFERROR($E261*SUMIF('Daily Log'!$BV$18:$BV$1017,$B261,'Daily Log'!$BW$18:$BW$1017),0)","v":0},{"$f":"IFERROR($E261*SUMIF('Daily Log'!$BY$18:$BY$1017,$B261,'Daily Log'!$BZ$18:$BZ$1017),0)","v":0},{"$f":"IFERROR($E261*SUMIF('Daily Log'!$CB$18:$CB$1017,$B261,'Daily Log'!$CC$18:$CC$1017),0)","v":0},{"$f":"IFERROR($E261*SUMIF('Daily Log'!$CE$18:$CE$1017,$B261,'Daily Log'!$CF$18:$CF$1017),0)","v":0},{"$f":"IFERROR($E261*SUMIF('Daily Log'!$CH$18:$CH$1017,$B261,'Daily Log'!$CI$18:$CI$1017),0)","v":0},{"$f":"IFERROR($E261*SUMIF('Daily Log'!$CK$18:$CK$1017,$B261,'Daily Log'!$CL$18:$CL$1017),0)","v":6},{"$f":"IFERROR($E261*SUMIF('Daily Log'!$CN$18:$CN$1017,$B261,'Daily Log'!$CO$18:$CO$1017),0)","v":0}]
[null,"RL01 71101:THAI CHK",null,null,1,0,{"$f":"IFERROR($E262*SUMIF('Daily Log'!$B$18:$B$1017,$B262,'Daily Log'!$C$18:$C$1017),0)","v":0},{"$f":"IFERROR($E262*SUMIF('Daily Log'!$E$18:$E$1017,$B262,'Daily Log'!$F$18:$F$1017),0)","v":0},{"$f":"IFERROR($E262*SUMIF('Daily Log'!$H$18:$H$1017,$B262,'Daily Log'!$I$18:$I$1017),0)","v":0},{"$f":"IFERROR($E262*SUMIF('Daily Log'!$K$18:$K$1017,$B262,'Daily Log'!$L$18:$L$1017),0)","v":0},{"$f":"IFERROR($E262*SUMIF('Daily Log'!$N$18:$N$1017,$B262,'Daily Log'!$O$18:$O$1017),0)","v":0},{"$f":"IFERROR($E262*SUMIF('Daily Log'!$Q$18:$Q$1017,$B262,'Daily Log'!$R$18:$R$1017),0)","v":0},{"$f":"IFERROR($E262*SUMIF('Daily Log'!$T$18:$T$1017,$B262,'Daily Log'!$U$18:$U$1017),0)","v":0},{"$f":"IFERROR($E262*SUMIF('Daily Log'!$W$18:$W$1017,$B262,'Daily Log'!$X$18:$X$1017),0)","v":0},{"$f":"IFERROR($E262*SUMIF('Daily Log'!$Z$18:$Z$1017,$B262,'Daily Log'!$AA$18:$AA$1017),0)","v":0},{"$f":"IFERROR($E262*SUMIF('Daily Log'!$AC$18:$AC$1017,$B262,'Daily Log'!$AD$18:$AD$1017),0)","v":0},{"$f":"IFERROR($E262*SUMIF('Daily Log'!$AF$18:$AF$1017,$B262,'Daily Log'!$AG$18:$AG$1017),0)","v":0},{"$f":"IFERROR($E262*SUMIF('Daily Log'!$AI$18:$AI$1017,$B262,'Daily Log'!$AJ$18:$AJ$1017),0)","v":0},{"$f":"IFERROR($E262*SUMIF('Daily Log'!$AL$18:$AL$1017,$B262,'Daily Log'!$AM$18:$AM$1017),0)","v":0},{"$f":"IFERROR($E262*SUMIF('Daily Log'!$AO$18:$AO$1017,$B262,'Daily Log'!$AP$18:$AP$1017),0)","v":0},{"$f":"IFERROR($E262*SUMIF('Daily Log'!$AR$18:$AR$1017,$B262,'Daily Log'!$AS$18:$AS$1017),0)","v":0},{"$f":"IFERROR($E262*SUMIF('Daily Log'!$AU$18:$AU$1017,$B262,'Daily Log'!$AV$18:$AV$1017),0)","v":0},{"$f":"IFERROR($E262*SUMIF('Daily Log'!$AX$18:$AX$1017,$B262,'Daily Log'!$AY$18:$AY$1017),0)","v":0},{"$f":"IFERROR($E262*SUMIF('Daily Log'!$BA$18:$BA$1017,$B262,'Daily Log'!$BB$18:$BB$1017),0)","v":0},{"$f":"IFERROR($E262*SUMIF('Daily Log'!$BD$18:$BD$1017,$B262,'Daily Log'!$BE$18:$BE$1017),0)","v":0},{"$f":"IFERROR($E262*SUMIF('Daily Log'!$BG$18:$BG$1017,$B262,'Daily Log'!$BH$18:$BH$1017),0)","v":0},{"$f":"IFERROR($E262*SUMIF('Daily Log'!$BJ$18:$BJ$1017,$B262,'Daily Log'!$BK$18:$BK$1017),0)","v":0},{"$f":"IFERROR($E262*SUMIF('Daily Log'!$BM$18:$BM$1017,$B262,'Daily Log'!$BN$18:$BN$1017),0)","v":0},{"$f":"IFERROR($E262*SUMIF('Daily Log'!$BP$18:$BP$1017,$B262,'Daily Log'!$BQ$18:$BQ$1017),0)","v":0},{"$f":"IFERROR($E262*SUMIF('Daily Log'!$BS$18:$BS$1017,$B262,'Daily Log'!$BT$18:$BT$1017),0)","v":0},{"$f":"IFERROR($E262*SUMIF('Daily Log'!$BV$18:$BV$1017,$B262,'Daily Log'!$BW$18:$BW$1017),0)","v":0},{"$f":"IFERROR($E262*SUMIF('Daily Log'!$BY$18:$BY$1017,$B262,'Daily Log'!$BZ$18:$BZ$1017),0)","v":0},{"$f":"IFERROR($E262*SUMIF('Daily Log'!$CB$18:$CB$1017,$B262,'Daily Log'!$CC$18:$CC$1017),0)","v":0},{"$f":"IFERROR($E262*SUMIF('Daily Log'!$CE$18:$CE$1017,$B262,'Daily Log'!$CF$18:$CF$1017),0)","v":0},{"$f":"IFERROR($E262*SUMIF('Daily Log'!$CH$18:$CH$1017,$B262,'Daily Log'!$CI$18:$CI$1017),0)","v":0},{"$f":"IFERROR($E262*SUMIF('Daily Log'!$CK$18:$CK$1017,$B262,'Daily Log'!$CL$18:$CL$1017),0)","v":0},{"$f":"IFERROR($E262*SUMIF('Daily Log'!$CN$18:$CN$1017,$B262,'Daily Log'!$CO$18:$CO$1017),0)","v":0}]
[null,"RL02 71102:MAMITE CHK",null,null,1,1,{"$f":"IFERROR($E263*SUMIF('Daily Log'!$B$18:$B$1017,$B263,'Daily Log'!$C$18:$C$1017),0)","v":0},{"$f":"IFERROR($E263*SUMIF('Daily Log'!$E$18:$E$1017,$B263,'Daily Log'!$F$18:$F$1017),0)","v":0},{"$f":"IFERROR($E263*SUMIF('Daily Log'!$H$18:$H$1017,$B263,'Daily Log'!$I$18:$I$1017),0)","v":0},{"$f":"IFERROR($E263*SUMIF('Daily Log'!$K$18:$K$1017,$B263,'Daily Log'!$L$18:$L$1017),0)","v":0},{"$f":"IFERROR($E263*SUMIF('Daily Log'!$N$18:$N$1017,$B263,'Daily Log'!$O$18:$O$1017),0)","v":0},{"$f":"IFERROR($E263*SUMIF('Daily Log'!$Q$18:$Q$1017,$B263,'Daily Log'!$R$18:$R$1017),0)","v":0},{"$f":"IFERROR($E263*SUMIF('Daily Log'!$T$18:$T$1017,$B263,'Daily Log'!$U$18:$U$1017),0)","v":0},{"$f":"IFERROR($E263*SUMIF('Daily Log'!$W$18:$W$1017,$B263,'Daily Log'!$X$18:$X$1017),0)","v":0},{"$f":"IFERROR($E263*SUMIF('Daily Log'!$Z$18:$Z$1017,$B263,'Daily Log'!$AA$18:$AA$1017),0)","v":0},{"$f":"IFERROR($E263*SUMIF('Daily Log'!$AC$18:$AC$1017,$B263,'Daily Log'!$AD$18:$AD$1017),0)","v":0},{"$f":"IFERROR($E263*SUMIF('Daily Log'!$AF$18:$AF$1017,$B263,'Daily Log'!$AG$18:$AG$1017),0)","v":0},{"$f":"IFERROR($E263*SUMIF('Daily Log'!$AI$18:$AI$1017,$B263,'Daily Log'!$AJ$18:$AJ$1017),0)","v":0},{"$f":"IFERROR($E263*SUMIF('Daily Log'!$AL$18:$AL$1017,$B263,'Daily Log'!$AM$18:$AM$1017),0)","v":0},{"$f":"IFERROR($E263*SUMIF('Daily Log'!$AO$18:$AO$1017,$B263,'Daily Log'!$AP$18:$AP$1017),0)","v":0},{"$f":"IFERROR($E263*SUMIF('Daily Log'!$AR$18:$AR$1017,$B263,'Daily Log'!$AS$18:$AS$1017),0)","v":0},{"$f":"IFERROR($E263*SUMIF('Daily Log'!$AU$18:$AU$1017,$B263,'Daily Log'!$AV$18:$AV$1017),0)","v":0},{"$f":"IFERROR($E263*SUMIF('Daily Log'!$AX$18:$AX$1017,$B263,'Daily Log'!$AY$18:$AY$1017),0)","v":0},{"$f":"IFERROR($E263*SUMIF('Daily Log'!$BA$18:$BA$1017,$B263,'Daily Log'!$BB$18:$BB$1017),0)","v":0},{"$f":"IFERROR($E263*SUMIF('Daily Log'!$BD$18:$BD$1017,$B263,'Daily Log'!$BE$18:$BE$1017),0)","v":0},{"$f":"IFERROR($E263*SUMIF('Daily Log'!$BG$18:$BG$1017,$B263,'Daily Log'!$BH$18:$BH$1017),0)","v":0},{"$f":"IFERROR($E263*SUMIF('Daily Log'!$BJ$18:$BJ$1017,$B263,'Daily Log'!$BK$18:$BK$1017),0)","v":0},{"$f":"IFERROR($E263*SUMIF('Daily Log'!$BM$18:$BM$1017,$B263,'Daily Log'!$BN$18:$BN$1017),0)","v":0},{"$f":"IFERROR($E263*SUMIF('Daily Log'!$BP$18:$BP$1017,$B263,'Daily Log'!$BQ$18:$BQ$1017),0)","v":0},{"$f":"IFERROR($E263*SUMIF('Daily Log'!$BS$18:$BS$1017,$B263,'Daily Log'!$BT$18:$BT$1017),0)","v":0},{"$f":"IFERROR($E263*SUMIF('Daily Log'!$BV$18:$BV$1017,$B263,'Daily Log'!$BW$18:$BW$1017),0)","v":0},{"$f":"IFERROR($E263*SUMIF('Daily Log'!$BY$18:$BY$1017,$B263,'Daily Log'!$BZ$18:$BZ$1017),0)","v":0},{"$f":"IFERROR($E263*SUMIF('Daily Log'!$CB$18:$CB$1017,$B263,'Daily Log'!$CC$18:$CC$1017),0)","v":0},{"$f":"IFERROR($E263*SUMIF('Daily Log'!$CE$18:$CE$1017,$B263,'Daily Log'!$CF$18:$CF$1017),0)","v":0},{"$f":"IFERROR($E263*SUMIF('Daily Log'!$CH$18:$CH$1017,$B263,'Daily Log'!$CI$18:$CI$1017),0)","v":0},{"$f":"IFERROR($E263*SUMIF('Daily Log'!$CK$18:$CK$1017,$B263,'Daily Log'!$CL$18:$CL$1017),0)","v":1},{"$f":"IFERROR($E263*SUMIF('Daily Log'!$CN$18:$CN$1017,$B263,'Daily Log'!$CO$18:$CO$1017),0)","v":0}]
[null,"RL05 71105:BUTTER CHK",null,null,1,1,{"$f":"IFERROR($E264*SUMIF('Daily Log'!$B$18:$B$1017,$B264,'Daily Log'!$C$18:$C$1017),0)","v":0},{"$f":"IFERROR($E264*SUMIF('Daily Log'!$E$18:$E$1017,$B264,'Daily Log'!$F$18:$F$1017),0)","v":0},{"$f":"IFERROR($E264*SUMIF('Daily Log'!$H$18:$H$1017,$B264,'Daily Log'!$I$18:$I$1017),0)","v":0},{"$f":"IFERROR($E264*SUMIF('Daily Log'!$K$18:$K$1017,$B264,'Daily Log'!$L$18:$L$1017),0)","v":0},{"$f":"IFERROR($E264*SUMIF('Daily Log'!$N$18:$N$1017,$B264,'Daily Log'!$O$18:$O$1017),0)","v":0},{"$f":"IFERROR($E264*SUMIF('Daily Log'!$Q$18:$Q$1017,$B264,'Daily Log'!$R$18:$R$1017),0)","v":0},{"$f":"IFERROR($E264*SUMIF('Daily Log'!$T$18:$T$1017,$B264,'Daily Log'!$U$18:$U$1017),0)","v":0},{"$f":"IFERROR($E264*SUMIF('Daily Log'!$W$18:$W$1017,$B264,'Daily Log'!$X$18:$X$1017),0)","v":0},{"$f":"IFERROR($E264*SUMIF('Daily Log'!$Z$18:$Z$1017,$B264,'Daily Log'!$AA$18:$AA$1017),0)","v":0},{"$f":"IFERROR($E264*SUMIF('Daily Log'!$AC$18:$AC$1017,$B264,'Daily Log'!$AD$18:$AD$1017),0)","v":0},{"$f":"IFERROR($E264*SUMIF('Daily Log'!$AF$18:$AF$1017,$B264,'Daily Log'!$AG$18:$AG$1017),0)","v":0},{"$f":"IFERROR($E264*SUMIF('Daily Log'!$AI$18:$AI$1017,$B264,'Daily Log'!$AJ$18:$AJ$1017),0)","v":0},{"$f":"IFERROR($E264*SUMIF('Daily Log'!$AL$18:$AL$1017,$B264,'Daily Log'!$AM$18:$AM$1017),0)","v":0},{"$f":"IFERROR($E264*SUMIF('Daily Log'!$AO$18:$AO$1017,$B264,'Daily Log'!$AP$18:$AP$1017),0)","v":0},{"$f":"IFERROR($E264*SUMIF('Daily Log'!$AR$18:$AR$1017,$B264,'Daily Log'!$AS$18:$AS$1017),0)","v":0},{"$f":"IFERROR($E264*SUMIF('Daily Log'!$AU$18:$AU$1017,$B264,'Daily Log'!$AV$18:$AV$1017),0)","v":0},{"$f":"IFERROR($E264*SUMIF('Daily Log'!$AX$18:$AX$1017,$B264,'Daily Log'!$AY$18:$AY$1017),0)","v":0},{"$f":"IFERROR($E264*SUMIF('Daily Log'!$BA$18:$BA$1017,$B264,'Daily Log'!$BB$18:$BB$1017),0)","v":0},{"$f":"IFERROR($E264*SUMIF('Daily Log'!$BD$18:$BD$1017,$B264,'Daily Log'!$BE$18:$BE$1017),0)","v":0},{"$f":"IFERROR($E264*SUMIF('Daily Log'!$BG$18:$BG$1017,$B264,'Daily Log'!$BH$18:$BH$1017),0)","v":0},{"$f":"IFERROR($E264*SUMIF('Daily Log'!$BJ$18:$BJ$1017,$B264,'Daily Log'!$BK$18:$BK$1017),0)","v":0},{"$f":"IFERROR($E264*SUMIF('Daily Log'!$BM$18:$BM$1017,$B264,'Daily Log'!$BN$18:$BN$1017),0)","v":0},{"$f":"IFERROR($E264*SUMIF('Daily Log'!$BP$18:$BP$1017,$B264,'Daily Log'!$BQ$18:$BQ$1017),0)","v":0},{"$f":"IFERROR($E264*SUMIF('Daily Log'!$BS$18:$BS$1017,$B264,'Daily Log'!$BT$18:$BT$1017),0)","v":0},{"$f":"IFERROR($E264*SUMIF('Daily Log'!$BV$18:$BV$1017,$B264,'Daily Log'!$BW$18:$BW$1017),0)","v":0},{"$f":"IFERROR($E264*SUMIF('Daily Log'!$BY$18:$BY$1017,$B264,'Daily Log'!$BZ$18:$BZ$1017),0)","v":0},{"$f":"IFERROR($E264*SUMIF('Daily Log'!$CB$18:$CB$1017,$B264,'Daily Log'!$CC$18:$CC$1017),0)","v":0},{"$f":"IFERROR($E264*SUMIF('Daily Log'!$CE$18:$CE$1017,$B264,'Daily Log'!$CF$18:$CF$1017),0)","v":0},{"$f":"IFERROR($E264*SUMIF('Daily Log'!$CH$18:$CH$1017,$B264,'Daily Log'!$CI$18:$CI$1017),0)","v":0},{"$f":"IFERROR($E264*SUMIF('Daily Log'!$CK$18:$CK$1017,$B264,'Daily Log'!$CL$18:$CL$1017),0)","v":1},{"$f":"IFERROR($E264*SUMIF('Daily Log'!$CN$18:$CN$1017,$B264,'Daily Log'!$CO$18:$CO$1017),0)","v":0}]
[null,"RL17 71117:THAI FSH",null,null,1,0,{"$f":"IFERROR($E265*SUMIF('Daily Log'!$B$18:$B$1017,$B265,'Daily Log'!$C$18:$C$1017),0)","v":0},{"$f":"IFERROR($E265*SUMIF('Daily Log'!$E$18:$E$1017,$B265,'Daily Log'!$F$18:$F$1017),0)","v":0},{"$f":"IFERROR($E265*SUMIF('Daily Log'!$H$18:$H$1017,$B265,'Daily Log'!$I$18:$I$1017),0)","v":0},{"$f":"IFERROR($E265*SUMIF('Daily Log'!$K$18:$K$1017,$B265,'Daily Log'!$L$18:$L$1017),0)","v":0},{"$f":"IFERROR($E265*SUMIF('Daily Log'!$N$18:$N$1017,$B265,'Daily Log'!$O$18:$O$1017),0)","v":0},{"$f":"IFERROR($E265*SUMIF('Daily Log'!$Q$18:$Q$1017,$B265,'Daily Log'!$R$18:$R$1017),0)","v":0},{"$f":"IFERROR($E265*SUMIF('Daily Log'!$T$18:$T$1017,$B265,'Daily Log'!$U$18:$U$1017),0)","v":0},{"$f":"IFERROR($E265*SUMIF('Daily Log'!$W$18:$W$1017,$B265,'Daily Log'!$X$18:$X$1017),0)","v":0},{"$f":"IFERROR($E265*SUMIF('Daily Log'!$Z$18:$Z$1017,$B265,'Daily Log'!$AA$18:$AA$1017),0)","v":0},{"$f":"IFERROR($E265*SUMIF('Daily Log'!$AC$18:$AC$1017,$B265,'Daily Log'!$AD$18:$AD$1017),0)","v":0},{"$f":"IFERROR($E265*SUMIF('Daily Log'!$AF$18:$AF$1017,$B265,'Daily Log'!$AG$18:$AG$1017),0)","v":0},{"$f":"IFERROR($E265*SUMIF('Daily Log'!$AI$18:$AI$1017,$B265,'Daily Log'!$AJ$18:$AJ$1017),0)","v":0},{"$f":"IFERROR($E265*SUMIF('Daily Log'!$AL$18:$AL$1017,$B265,'Daily Log'!$AM$18:$AM$1017),0)","v":0},{"$f":"IFERROR($E265*SUMIF('Daily Log'!$AO$18:$AO$1017,$B265,'Daily Log'!$AP$18:$AP$1017),0)","v":0},{"$f":"IFERROR($E265*SUMIF('Daily Log'!$AR$18:$AR$1017,$B265,'Daily Log'!$AS$18:$AS$1017),0)","v":0},{"$f":"IFERROR($E265*SUMIF('Daily Log'!$AU$18:$AU$1017,$B265,'Daily Log'!$AV$18:$AV$1017),0)","v":0},{"$f":"IFERROR($E265*SUMIF('Daily Log'!$AX$18:$AX$1017,$B265,'Daily Log'!$AY$18:$AY$1017),0)","v":0},{"$f":"IFERROR($E265*SUMIF('Daily Log'!$BA$18:$BA$1017,$B265,'Daily Log'!$BB$18:$BB$1017),0)","v":0},{"$f":"IFERROR($E265*SUMIF('Daily Log'!$BD$18:$BD$1017,$B265,'Daily Log'!$BE$18:$BE$1017),0)","v":0},{"$f":"IFERROR($E265*SUMIF('Daily Log'!$BG$18:$BG$1017,$B265,'Daily Log'!$BH$18:$BH$1017),0)","v":0},{"$f":"IFERROR($E265*SUMIF('Daily Log'!$BJ$18:$BJ$1017,$B265,'Daily Log'!$BK$18:$BK$1017),0)","v":0},{"$f":"IFERROR($E265*SUMIF('Daily Log'!$BM$18:$BM$1017,$B265,'Daily Log'!$BN$18:$BN$1017),0)","v":0},{"$f":"IFERROR($E265*SUMIF('Daily Log'!$BP$18:$BP$1017,$B265,'Daily Log'!$BQ$18:$BQ$1017),0)","v":0},{"$f":"IFERROR($E265*SUMIF('Daily Log'!$BS$18:$BS$1017,$B265,'Daily Log'!$BT$18:$BT$1017),0)","v":0},{"$f":"IFERROR($E265*SUMIF('Daily Log'!$BV$18:$BV$1017,$B265,'Daily Log'!$BW$18:$BW$1017),0)","v":0},{"$f":"IFERROR($E265*SUMIF('Daily Log'!$BY$18:$BY$1017,$B265,'Daily Log'!$BZ$18:$BZ$1017),0)","v":0},{"$f":"IFERROR($E265*SUMIF('Daily Log'!$CB$18:$CB$1017,$B265,'Daily Log'!$CC$18:$CC$1017),0)","v":0},{"$f":"IFERROR($E265*SUMIF('Daily Log'!$CE$18:$CE$1017,$B265,'Daily Log'!$CF$18:$CF$1017),0)","v":0},{"$f":"IFERROR($E265*SUMIF('Daily Log'!$CH$18:$CH$1017,$B265,'Daily Log'!$CI$18:$CI$1017),0)","v":0},{"$f":"IFERROR($E265*SUMIF('Daily Log'!$CK$18:$CK$1017,$B265,'Daily Log'!$CL$18:$CL$1017),0)","v":0},{"$f":"IFERROR($E265*SUMIF('Daily Log'!$CN$18:$CN$1017,$B265,'Daily Log'!$CO$18:$CO$1017),0)","v":0}]
[null,"RL18 71118:MAMITE FSH",null,null,1,0,{"$f":"IFERROR($E266*SUMIF('Daily Log'!$B$18:$B$1017,$B266,'Daily Log'!$C$18:$C$1017),0)","v":0},{"$f":"IFERROR($E266*SUMIF('Daily Log'!$E$18:$E$1017,$B266,'Daily Log'!$F$18:$F$1017),0)","v":0},{"$f":"IFERROR($E266*SUMIF('Daily Log'!$H$18:$H$1017,$B266,'Daily Log'!$I$18:$I$1017),0)","v":0},{"$f":"IFERROR($E266*SUMIF('Daily Log'!$K$18:$K$1017,$B266,'Daily Log'!$L$18:$L$1017),0)","v":0},{"$f":"IFERROR($E266*SUMIF('Daily Log'!$N$18:$N$1017,$B266,'Daily Log'!$O$18:$O$1017),0)","v":0},{"$f":"IFERROR($E266*SUMIF('Daily Log'!$Q$18:$Q$1017,$B266,'Daily Log'!$R$18:$R$1017),0)","v":0},{"$f":"IFERROR($E266*SUMIF('Daily Log'!$T$18:$T$1017,$B266,'Daily Log'!$U$18:$U$1017),0)","v":0},{"$f":"IFERROR($E266*SUMIF('Daily Log'!$W$18:$W$1017,$B266,'Daily Log'!$X$18:$X$1017),0)","v":0},{"$f":"IFERROR($E266*SUMIF('Daily Log'!$Z$18:$Z$1017,$B266,'Daily Log'!$AA$18:$AA$1017),0)","v":0},{"$f":"IFERROR($E266*SUMIF('Daily Log'!$AC$18:$AC$1017,$B266,'Daily Log'!$AD$18:$AD$1017),0)","v":0},{"$f":"IFERROR($E266*SUMIF('Daily Log'!$AF$18:$AF$1017,$B266,'Daily Log'!$AG$18:$AG$1017),0)","v":0},{"$f":"IFERROR($E266*SUMIF('Daily Log'!$AI$18:$AI$1017,$B266,'Daily Log'!$AJ$18:$AJ$1017),0)","v":0},{"$f":"IFERROR($E266*SUMIF('Daily Log'!$AL$18:$AL$1017,$B266,'Daily Log'!$AM$18:$AM$1017),0)","v":0},{"$f":"IFERROR($E266*SUMIF('Daily Log'!$AO$18:$AO$1017,$B266,'Daily Log'!$AP$18:$AP$1017),0)","v":0},{"$f":"IFERROR($E266*SUMIF('Daily Log'!$AR$18:$AR$1017,$B266,'Daily Log'!$AS$18:$AS$1017),0)","v":0},{"$f":"IFERROR($E266*SUMIF('Daily Log'!$AU$18:$AU$1017,$B266,'Daily Log'!$AV$18:$AV$1017),0)","v":0},{"$f":"IFERROR($E266*SUMIF('Daily Log'!$AX$18:$AX$1017,$B266,'Daily Log'!$AY$18:$AY$1017),0)","v":0},{"$f":"IFERROR($E266*SUMIF('Daily Log'!$BA$18:$BA$1017,$B266,'Daily Log'!$BB$18:$BB$1017),0)","v":0},{"$f":"IFERROR($E266*SUMIF('Daily Log'!$BD$18:$BD$1017,$B266,'Daily Log'!$BE$18:$BE$1017),0)","v":0},{"$f":"IFERROR($E266*SUMIF('Daily Log'!$BG$18:$BG$1017,$B266,'Daily Log'!$BH$18:$BH$1017),0)","v":0},{"$f":"IFERROR($E266*SUMIF('Daily Log'!$BJ$18:$BJ$1017,$B266,'Daily Log'!$BK$18:$BK$1017),0)","v":0},{"$f":"IFERROR($E266*SUMIF('Daily Log'!$BM$18:$BM$1017,$B266,'Daily Log'!$BN$18:$BN$1017),0)","v":0},{"$f":"IFERROR($E266*SUMIF('Daily Log'!$BP$18:$BP$1017,$B266,'Daily Log'!$BQ$18:$BQ$1017),0)","v":0},{"$f":"IFERROR($E266*SUMIF('Daily Log'!$BS$18:$BS$1017,$B266,'Daily Log'!$BT$18:$BT$1017),0)","v":0},{"$f":"IFERROR($E266*SUMIF('Daily Log'!$BV$18:$BV$1017,$B266,'Daily Log'!$BW$18:$BW$1017),0)","v":0},{"$f":"IFERROR($E266*SUMIF('Daily Log'!$BY$18:$BY$1017,$B266,'Daily Log'!$BZ$18:$BZ$1017),0)","v":0},{"$f":"IFERROR($E266*SUMIF('Daily Log'!$CB$18:$CB$1017,$B266,'Daily Log'!$CC$18:$CC$1017),0)","v":0},{"$f":"IFERROR($E266*SUMIF('Daily Log'!$CE$18:$CE$1017,$B266,'Daily Log'!$CF$18:$CF$1017),0)","v":0},{"$f":"IFERROR($E266*SUMIF('Daily Log'!$CH$18:$CH$1017,$B266,'Daily Log'!$CI$18:$CI$1017),0)","v":0},{"$f":"IFERROR($E266*SUMIF('Daily Log'!$CK$18:$CK$1017,$B266,'Daily Log'!$CL$18:$CL$1017),0)","v":0},{"$f":"IFERROR($E266*SUMIF('Daily Log'!$CN$18:$CN$1017,$B266,'Daily Log'!$CO$18:$CO$1017),0)","v":0}]
[null,"RL19 71119:BUTTER FSH",null,null,1,1,{"$f":"IFERROR($E267*SUMIF('Daily Log'!$B$18:$B$1017,$B267,'Daily Log'!$C$18:$C$1017),0)","v":0},{"$f":"IFERROR($E267*SUMIF('Daily Log'!$E$18:$E$1017,$B267,'Daily Log'!$F$18:$F$1017),0)","v":0},{"$f":"IFERROR($E267*SUMIF('Daily Log'!$H$18:$H$1017,$B267,'Daily Log'!$I$18:$I$1017),0)","v":0},{"$f":"IFERROR($E267*SUMIF('Daily Log'!$K$18:$K$1017,$B267,'Daily Log'!$L$18:$L$1017),0)","v":0},{"$f":"IFERROR($E267*SUMIF('Daily Log'!$N$18:$N$1017,$B267,'Daily Log'!$O$18:$O$1017),0)","v":0},{"$f":"IFERROR($E267*SUMIF('Daily Log'!$Q$18:$Q$1017,$B267,'Daily Log'!$R$18:$R$1017),0)","v":0},{"$f":"IFERROR($E267*SUMIF('Daily Log'!$T$18:$T$1017,$B267,'Daily Log'!$U$18:$U$1017),0)","v":0},{"$f":"IFERROR($E267*SUMIF('Daily Log'!$W$18:$W$1017,$B267,'Daily Log'!$X$18:$X$1017),0)","v":0},{"$f":"IFERROR($E267*SUMIF('Daily Log'!$Z$18:$Z$1017,$B267,'Daily Log'!$AA$18:$AA$1017),0)","v":0},{"$f":"IFERROR($E267*SUMIF('Daily Log'!$AC$18:$AC$1017,$B267,'Daily Log'!$AD$18:$AD$1017),0)","v":0},{"$f":"IFERROR($E267*SUMIF('Daily Log'!$AF$18:$AF$1017,$B267,'Daily Log'!$AG$18:$AG$1017),0)","v":0},{"$f":"IFERROR($E267*SUMIF('Daily Log'!$AI$18:$AI$1017,$B267,'Daily Log'!$AJ$18:$AJ$1017),0)","v":0},{"$f":"IFERROR($E267*SUMIF('Daily Log'!$AL$18:$AL$1017,$B267,'Daily Log'!$AM$18:$AM$1017),0)","v":0},{"$f":"IFERROR($E267*SUMIF('Daily Log'!$AO$18:$AO$1017,$B267,'Daily Log'!$AP$18:$AP$1017),0)","v":0},{"$f":"IFERROR($E267*SUMIF('Daily Log'!$AR$18:$AR$1017,$B267,'Daily Log'!$AS$18:$AS$1017),0)","v":0},{"$f":"IFERROR($E267*SUMIF('Daily Log'!$AU$18:$AU$1017,$B267,'Daily Log'!$AV$18:$AV$1017),0)","v":0},{"$f":"IFERROR($E267*SUMIF('Daily Log'!$AX$18:$AX$1017,$B267,'Daily Log'!$AY$18:$AY$1017),0)","v":0},{"$f":"IFERROR($E267*SUMIF('Daily Log'!$BA$18:$BA$1017,$B267,'Daily Log'!$BB$18:$BB$1017),0)","v":0},{"$f":"IFERROR($E267*SUMIF('Daily Log'!$BD$18:$BD$1017,$B267,'Daily Log'!$BE$18:$BE$1017),0)","v":0},{"$f":"IFERROR($E267*SUMIF('Daily Log'!$BG$18:$BG$1017,$B267,'Daily Log'!$BH$18:$BH$1017),0)","v":0},{"$f":"IFERROR($E267*SUMIF('Daily Log'!$BJ$18:$BJ$1017,$B267,'Daily Log'!$BK$18:$BK$1017),0)","v":0},{"$f":"IFERROR($E267*SUMIF('Daily Log'!$BM$18:$BM$1017,$B267,'Daily Log'!$BN$18:$BN$1017),0)","v":0},{"$f":"IFERROR($E267*SUMIF('Daily Log'!$BP$18:$BP$1017,$B267,'Daily Log'!$BQ$18:$BQ$1017),0)","v":0},{"$f":"IFERROR($E267*SUMIF('Daily Log'!$BS$18:$BS$1017,$B267,'Daily Log'!$BT$18:$BT$1017),0)","v":0},{"$f":"IFERROR($E267*SUMIF('Daily Log'!$BV$18:$BV$1017,$B267,'Daily Log'!$BW$18:$BW$1017),0)","v":0},{"$f":"IFERROR($E267*SUMIF('Daily Log'!$BY$18:$BY$1017,$B267,'Daily Log'!$BZ$18:$BZ$1017),0)","v":0},{"$f":"IFERROR($E267*SUMIF('Daily Log'!$CB$18:$CB$1017,$B267,'Daily Log'!$CC$18:$CC$1017),0)","v":0},{"$f":"IFERROR($E267*SUMIF('Daily Log'!$CE$18:$CE$1017,$B267,'Daily Log'!$CF$18:$CF$1017),0)","v":0},{"$f":"IFERROR($E267*SUMIF('Daily Log'!$CH$18:$CH$1017,$B267,'Daily Log'!$CI$18:$CI$1017),0)","v":0},{"$f":"IFERROR($E267*SUMIF('Daily Log'!$CK$18:$CK$1017,$B267,'Daily Log'!$CL$18:$CL$1017),0)","v":1},{"$f":"IFERROR($E267*SUMIF('Daily Log'!$CN$18:$CN$1017,$B267,'Daily Log'!$CO$18:$CO$1017),0)","v":0}]
[null,"RW01 71001:BP CKN CP",null,null,1,3,{"$f":"IFERROR($E268*SUMIF('Daily Log'!$B$18:$B$1017,$B268,'Daily Log'!$C$18:$C$1017),0)","v":0},{"$f":"IFERROR($E268*SUMIF('Daily Log'!$E$18:$E$1017,$B268,'Daily Log'!$F$18:$F$1017),0)","v":0},{"$f":"IFERROR($E268*SUMIF('Daily Log'!$H$18:$H$1017,$B268,'Daily Log'!$I$18:$I$1017),0)","v":0},{"$f":"IFERROR($E268*SUMIF('Daily Log'!$K$18:$K$1017,$B268,'Daily Log'!$L$18:$L$1017),0)","v":0},{"$f":"IFERROR($E268*SUMIF('Daily Log'!$N$18:$N$1017,$B268,'Daily Log'!$O$18:$O$1017),0)","v":0},{"$f":"IFERROR($E268*SUMIF('Daily Log'!$Q$18:$Q$1017,$B268,'Daily Log'!$R$18:$R$1017),0)","v":0},{"$f":"IFERROR($E268*SUMIF('Daily Log'!$T$18:$T$1017,$B268,'Daily Log'!$U$18:$U$1017),0)","v":0},{"$f":"IFERROR($E268*SUMIF('Daily Log'!$W$18:$W$1017,$B268,'Daily Log'!$X$18:$X$1017),0)","v":0},{"$f":"IFERROR($E268*SUMIF('Daily Log'!$Z$18:$Z$1017,$B268,'Daily Log'!$AA$18:$AA$1017),0)","v":0},{"$f":"IFERROR($E268*SUMIF('Daily Log'!$AC$18:$AC$1017,$B268,'Daily Log'!$AD$18:$AD$1017),0)","v":0},{"$f":"IFERROR($E268*SUMIF('Daily Log'!$AF$18:$AF$1017,$B268,'Daily Log'!$AG$18:$AG$1017),0)","v":0},{"$f":"IFERROR($E268*SUMIF('Daily Log'!$AI$18:$AI$1017,$B268,'Daily Log'!$AJ$18:$AJ$1017),0)","v":0},{"$f":"IFERROR($E268*SUMIF('Daily Log'!$AL$18:$AL$1017,$B268,'Daily Log'!$AM$18:$AM$1017),0)","v":0},{"$f":"IFERROR($E268*SUMIF('Daily Log'!$AO$18:$AO$1017,$B268,'Daily Log'!$AP$18:$AP$1017),0)","v":0},{"$f":"IFERROR($E268*SUMIF('Daily Log'!$AR$18:$AR$1017,$B268,'Daily Log'!$AS$18:$AS$1017),0)","v":0},{"$f":"IFERROR($E268*SUMIF('Daily Log'!$AU$18:$AU$1017,$B268,'Daily Log'!$AV$18:$AV$1017),0)","v":0},{"$f":"IFERROR($E268*SUMIF('Daily Log'!$AX$18:$AX$1017,$B268,'Daily Log'!$AY$18:$AY$1017),0)","v":0},{"$f":"IFERROR($E268*SUMIF('Daily Log'!$BA$18:$BA$1017,$B268,'Daily Log'!$BB$18:$BB$1017),0)","v":0},{"$f":"IFERROR($E268*SUMIF('Daily Log'!$BD$18:$BD$1017,$B268,'Daily Log'!$BE$18:$BE$1017),0)","v":0},{"$f":"IFERROR($E268*SUMIF('Daily Log'!$BG$18:$BG$1017,$B268,'Daily Log'!$BH$18:$BH$1017),0)","v":0},{"$f":"IFERROR($E268*SUMIF('Daily Log'!$BJ$18:$BJ$1017,$B268,'Daily Log'!$BK$18:$BK$1017),0)","v":0},{"$f":"IFERROR($E268*SUMIF('Daily Log'!$BM$18:$BM$1017,$B268,'Daily Log'!$BN$18:$BN$1017),0)","v":0},{"$f":"IFERROR($E268*SUMIF('Daily Log'!$BP$18:$BP$1017,$B268,'Daily Log'!$BQ$18:$BQ$1017),0)","v":0},{"$f":"IFERROR($E268*SUMIF('Daily Log'!$BS$18:$BS$1017,$B268,'Daily Log'!$BT$18:$BT$1017),0)","v":0},{"$f":"IFERROR($E268*SUMIF('Daily Log'!$BV$18:$BV$1017,$B268,'Daily Log'!$BW$18:$BW$1017),0)","v":0},{"$f":"IFERROR($E268*SUMIF('Daily Log'!$BY$18:$BY$1017,$B268,'Daily Log'!$BZ$18:$BZ$1017),0)","v":0},{"$f":"IFERROR($E268*SUMIF('Daily Log'!$CB$18:$CB$1017,$B268,'Daily Log'!$CC$18:$CC$1017),0)","v":0},{"$f":"IFERROR($E268*SUMIF('Daily Log'!$CE$18:$CE$1017,$B268,'Daily Log'!$CF$18:$CF$1017),0)","v":0},{"$f":"IFERROR($E268*SUMIF('Daily Log'!$CH$18:$CH$1017,$B268,'Daily Log'!$CI$18:$CI$1017),0)","v":0},{"$f":"IFERROR($E268*SUMIF('Daily Log'!$CK$18:$CK$1017,$B268,'Daily Log'!$CL$18:$CL$1017),0)","v":3},{"$f":"IFERROR($E268*SUMIF('Daily Log'!$CN$18:$CN$1017,$B268,'Daily Log'!$CO$18:$CO$1017),0)","v":0}]
[null,"RW03 71003:MSR CKN CP",null,null,1,0,{"$f":"IFERROR($E269*SUMIF('Daily Log'!$B$18:$B$1017,$B269,'Daily Log'!$C$18:$C$1017),0)","v":0},{"$f":"IFERROR($E269*SUMIF('Daily Log'!$E$18:$E$1017,$B269,'Daily Log'!$F$18:$F$1017),0)","v":0},{"$f":"IFERROR($E269*SUMIF('Daily Log'!$H$18:$H$1017,$B269,'Daily Log'!$I$18:$I$1017),0)","v":0},{"$f":"IFERROR($E269*SUMIF('Daily Log'!$K$18:$K$1017,$B269,'Daily Log'!$L$18:$L$1017),0)","v":0},{"$f":"IFERROR($E269*SUMIF('Daily Log'!$N$18:$N$1017,$B269,'Daily Log'!$O$18:$O$1017),0)","v":0},{"$f":"IFERROR($E269*SUMIF('Daily Log'!$Q$18:$Q$1017,$B269,'Daily Log'!$R$18:$R$1017),0)","v":0},{"$f":"IFERROR($E269*SUMIF('Daily Log'!$T$18:$T$1017,$B269,'Daily Log'!$U$18:$U$1017),0)","v":0},{"$f":"IFERROR($E269*SUMIF('Daily Log'!$W$18:$W$1017,$B269,'Daily Log'!$X$18:$X$1017),0)","v":0},{"$f":"IFERROR($E269*SUMIF('Daily Log'!$Z$18:$Z$1017,$B269,'Daily Log'!$AA$18:$AA$1017),0)","v":0},{"$f":"IFERROR($E269*SUMIF('Daily Log'!$AC$18:$AC$1017,$B269,'Daily Log'!$AD$18:$AD$1017),0)","v":0},{"$f":"IFERROR($E269*SUMIF('Daily Log'!$AF$18:$AF$1017,$B269,'Daily Log'!$AG$18:$AG$1017),0)","v":0},{"$f":"IFERROR($E269*SUMIF('Daily Log'!$AI$18:$AI$1017,$B269,'Daily Log'!$AJ$18:$AJ$1017),0)","v":0},{"$f":"IFERROR($E269*SUMIF('Daily Log'!$AL$18:$AL$1017,$B269,'Daily Log'!$AM$18:$AM$1017),0)","v":0},{"$f":"IFERROR($E269*SUMIF('Daily Log'!$AO$18:$AO$1017,$B269,'Daily Log'!$AP$18:$AP$1017),0)","v":0},{"$f":"IFERROR($E269*SUMIF('Daily Log'!$AR$18:$AR$1017,$B269,'Daily Log'!$AS$18:$AS$1017),0)","v":0},{"$f":"IFERROR($E269*SUMIF('Daily Log'!$AU$18:$AU$1017,$B269,'Daily Log'!$AV$18:$AV$1017),0)","v":0},{"$f":"IFERROR($E269*SUMIF('Daily Log'!$AX$18:$AX$1017,$B269,'Daily Log'!$AY$18:$AY$1017),0)","v":0},{"$f":"IFERROR($E269*SUMIF('Daily Log'!$BA$18:$BA$1017,$B269,'Daily Log'!$BB$18:$BB$1017),0)","v":0},{"$f":"IFERROR($E269*SUMIF('Daily Log'!$BD$18:$BD$1017,$B269,'Daily Log'!$BE$18:$BE$1017),0)","v":0},{"$f":"IFERROR($E269*SUMIF('Daily Log'!$BG$18:$BG$1017,$B269,'Daily Log'!$BH$18:$BH$1017),0)","v":0},{"$f":"IFERROR($E269*SUMIF('Daily Log'!$BJ$18:$BJ$1017,$B269,'Daily Log'!$BK$18:$BK$1017),0)","v":0},{"$f":"IFERROR($E269*SUMIF('Daily Log'!$BM$18:$BM$1017,$B269,'Daily Log'!$BN$18:$BN$1017),0)","v":0},{"$f":"IFERROR($E269*SUMIF('Daily Log'!$BP$18:$BP$1017,$B269,'Daily Log'!$BQ$18:$BQ$1017),0)","v":0},{"$f":"IFERROR($E269*SUMIF('Daily Log'!$BS$18:$BS$1017,$B269,'Daily Log'!$BT$18:$BT$1017),0)","v":0},{"$f":"IFERROR($E269*SUMIF('Daily Log'!$BV$18:$BV$1017,$B269,'Daily Log'!$BW$18:$BW$1017),0)","v":0},{"$f":"IFERROR($E269*SUMIF('Daily Log'!$BY$18:$BY$1017,$B269,'Daily Log'!$BZ$18:$BZ$1017),0)","v":0},{"$f":"IFERROR($E269*SUMIF('Daily Log'!$CB$18:$CB$1017,$B269,'Daily Log'!$CC$18:$CC$1017),0)","v":0},{"$f":"IFERROR($E269*SUMIF('Daily Log'!$CE$18:$CE$1017,$B269,'Daily Log'!$CF$18:$CF$1017),0)","v":0},{"$f":"IFERROR($E269*SUMIF('Daily Log'!$CH$18:$CH$1017,$B269,'Daily Log'!$CI$18:$CI$1017),0)","v":0},{"$f":"IFERROR($E269*SUMIF('Daily Log'!$CK$18:$CK$1017,$B269,'Daily Log'!$CL$18:$CL$1017),0)","v":0},{"$f":"IFERROR($E269*SUMIF('Daily Log'!$CN$18:$CN$1017,$B269,'Daily Log'!$CO$18:$CO$1017),0)","v":0}]
[null,"RW04 71004:CKN MARY",null,null,1,3,{"$f":"IFERROR($E270*SUMIF('Daily Log'!$B$18:$B$1017,$B270,'Daily Log'!$C$18:$C$1017),0)","v":0},{"$f":"IFERROR($E270*SUMIF('Daily Log'!$E$18:$E$1017,$B270,'Daily Log'!$F$18:$F$1017),0)","v":0},{"$f":"IFERROR($E270*SUMIF('Daily Log'!$H$18:$H$1017,$B270,'Daily Log'!$I$18:$I$1017),0)","v":0},{"$f":"IFERROR($E270*SUMIF('Daily Log'!$K$18:$K$1017,$B270,'Daily Log'!$L$18:$L$1017),0)","v":0},{"$f":"IFERROR($E270*SUMIF('Daily Log'!$N$18:$N$1017,$B270,'Daily Log'!$O$18:$O$1017),0)","v":0},{"$f":"IFERROR($E270*SUMIF('Daily Log'!$Q$18:$Q$1017,$B270,'Daily Log'!$R$18:$R$1017),0)","v":0},{"$f":"IFERROR($E270*SUMIF('Daily Log'!$T$18:$T$1017,$B270,'Daily Log'!$U$18:$U$1017),0)","v":0},{"$f":"IFERROR($E270*SUMIF('Daily Log'!$W$18:$W$1017,$B270,'Daily Log'!$X$18:$X$1017),0)","v":0},{"$f":"IFERROR($E270*SUMIF('Daily Log'!$Z$18:$Z$1017,$B270,'Daily Log'!$AA$18:$AA$1017),0)","v":0},{"$f":"IFERROR($E270*SUMIF('Daily Log'!$AC$18:$AC$1017,$B270,'Daily Log'!$AD$18:$AD$1017),0)","v":0},{"$f":"IFERROR($E270*SUMIF('Daily Log'!$AF$18:$AF$1017,$B270,'Daily Log'!$AG$18:$AG$1017),0)","v":0},{"$f":"IFERROR($E270*SUMIF('Daily Log'!$AI$18:$AI$1017,$B270,'Daily Log'!$AJ$18:$AJ$1017),0)","v":0},{"$f":"IFERROR($E270*SUMIF('Daily Log'!$AL$18:$AL$1017,$B270,'Daily Log'!$AM$18:$AM$1017),0)","v":0},{"$f":"IFERROR($E270*SUMIF('Daily Log'!$AO$18:$AO$1017,$B270,'Daily Log'!$AP$18:$AP$1017),0)","v":0},{"$f":"IFERROR($E270*SUMIF('Daily Log'!$AR$18:$AR$1017,$B270,'Daily Log'!$AS$18:$AS$1017),0)","v":0},{"$f":"IFERROR($E270*SUMIF('Daily Log'!$AU$18:$AU$1017,$B270,'Daily Log'!$AV$18:$AV$1017),0)","v":0},{"$f":"IFERROR($E270*SUMIF('Daily Log'!$AX$18:$AX$1017,$B270,'Daily Log'!$AY$18:$AY$1017),0)","v":0},{"$f":"IFERROR($E270*SUMIF('Daily Log'!$BA$18:$BA$1017,$B270,'Daily Log'!$BB$18:$BB$1017),0)","v":0},{"$f":"IFERROR($E270*SUMIF('Daily Log'!$BD$18:$BD$1017,$B270,'Daily Log'!$BE$18:$BE$1017),0)","v":0},{"$f":"IFERROR($E270*SUMIF('Daily Log'!$BG$18:$BG$1017,$B270,'Daily Log'!$BH$18:$BH$1017),0)","v":0},{"$f":"IFERROR($E270*SUMIF('Daily Log'!$BJ$18:$BJ$1017,$B270,'Daily Log'!$BK$18:$BK$1017),0)","v":0},{"$f":"IFERROR($E270*SUMIF('Daily Log'!$BM$18:$BM$1017,$B270,'Daily Log'!$BN$18:$BN$1017),0)","v":0},{"$f":"IFERROR($E270*SUMIF('Daily Log'!$BP$18:$BP$1017,$B270,'Daily Log'!$BQ$18:$BQ$1017),0)","v":0},{"$f":"IFERROR($E270*SUMIF('Daily Log'!$BS$18:$BS$1017,$B270,'Daily Log'!$BT$18:$BT$1017),0)","v":0},{"$f":"IFERROR($E270*SUMIF('Daily Log'!$BV$18:$BV$1017,$B270,'Daily Log'!$BW$18:$BW$1017),0)","v":0},{"$f":"IFERROR($E270*SUMIF('Daily Log'!$BY$18:$BY$1017,$B270,'Daily Log'!$BZ$18:$BZ$1017),0)","v":0},{"$f":"IFERROR($E270*SUMIF('Daily Log'!$CB$18:$CB$1017,$B270,'Daily Log'!$CC$18:$CC$1017),0)","v":0},{"$f":"IFERROR($E270*SUMIF('Daily Log'!$CE$18:$CE$1017,$B270,'Daily Log'!$CF$18:$CF$1017),0)","v":0},{"$f":"IFERROR($E270*SUMIF('Daily Log'!$CH$18:$CH$1017,$B270,'Daily Log'!$CI$18:$CI$1017),0)","v":0},{"$f":"IFERROR($E270*SUMIF('Daily Log'!$CK$18:$CK$1017,$B270,'Daily Log'!$CL$18:$CL$1017),0)","v":3},{"$f":"IFERROR($E270*SUMIF('Daily Log'!$CN$18:$CN$1017,$B270,'Daily Log'!$CO$18:$CO$1017),0)","v":0}]
[null,"RW05 71005:FSH&CHIP",null,null,1,4,{"$f":"IFERROR($E271*SUMIF('Daily Log'!$B$18:$B$1017,$B271,'Daily Log'!$C$18:$C$1017),0)","v":0},{"$f":"IFERROR($E271*SUMIF('Daily Log'!$E$18:$E$1017,$B271,'Daily Log'!$F$18:$F$1017),0)","v":0},{"$f":"IFERROR($E271*SUMIF('Daily Log'!$H$18:$H$1017,$B271,'Daily Log'!$I$18:$I$1017),0)","v":0},{"$f":"IFERROR($E271*SUMIF('Daily Log'!$K$18:$K$1017,$B271,'Daily Log'!$L$18:$L$1017),0)","v":0},{"$f":"IFERROR($E271*SUMIF('Daily Log'!$N$18:$N$1017,$B271,'Daily Log'!$O$18:$O$1017),0)","v":0},{"$f":"IFERROR($E271*SUMIF('Daily Log'!$Q$18:$Q$1017,$B271,'Daily Log'!$R$18:$R$1017),0)","v":0},{"$f":"IFERROR($E271*SUMIF('Daily Log'!$T$18:$T$1017,$B271,'Daily Log'!$U$18:$U$1017),0)","v":0},{"$f":"IFERROR($E271*SUMIF('Daily Log'!$W$18:$W$1017,$B271,'Daily Log'!$X$18:$X$1017),0)","v":0},{"$f":"IFERROR($E271*SUMIF('Daily Log'!$Z$18:$Z$1017,$B271,'Daily Log'!$AA$18:$AA$1017),0)","v":0},{"$f":"IFERROR($E271*SUMIF('Daily Log'!$AC$18:$AC$1017,$B271,'Daily Log'!$AD$18:$AD$1017),0)","v":0},{"$f":"IFERROR($E271*SUMIF('Daily Log'!$AF$18:$AF$1017,$B271,'Daily Log'!$AG$18:$AG$1017),0)","v":0},{"$f":"IFERROR($E271*SUMIF('Daily Log'!$AI$18:$AI$1017,$B271,'Daily Log'!$AJ$18:$AJ$1017),0)","v":0},{"$f":"IFERROR($E271*SUMIF('Daily Log'!$AL$18:$AL$1017,$B271,'Daily Log'!$AM$18:$AM$1017),0)","v":0},{"$f":"IFERROR($E271*SUMIF('Daily Log'!$AO$18:$AO$1017,$B271,'Daily Log'!$AP$18:$AP$1017),0)","v":0},{"$f":"IFERROR($E271*SUMIF('Daily Log'!$AR$18:$AR$1017,$B271,'Daily Log'!$AS$18:$AS$1017),0)","v":0},{"$f":"IFERROR($E271*SUMIF('Daily Log'!$AU$18:$AU$1017,$B271,'Daily Log'!$AV$18:$AV$1017),0)","v":0},{"$f":"IFERROR($E271*SUMIF('Daily Log'!$AX$18:$AX$1017,$B271,'Daily Log'!$AY$18:$AY$1017),0)","v":0},{"$f":"IFERROR($E271*SUMIF('Daily Log'!$BA$18:$BA$1017,$B271,'Daily Log'!$BB$18:$BB$1017),0)","v":0},{"$f":"IFERROR($E271*SUMIF('Daily Log'!$BD$18:$BD$1017,$B271,'Daily Log'!$BE$18:$BE$1017),0)","v":0},{"$f":"IFERROR($E271*SUMIF('Daily Log'!$BG$18:$BG$1017,$B271,'Daily Log'!$BH$18:$BH$1017),0)","v":0},{"$f":"IFERROR($E271*SUMIF('Daily Log'!$BJ$18:$BJ$1017,$B271,'Daily Log'!$BK$18:$BK$1017),0)","v":0},{"$f":"IFERROR($E271*SUMIF('Daily Log'!$BM$18:$BM$1017,$B271,'Daily Log'!$BN$18:$BN$1017),0)","v":0},{"$f":"IFERROR($E271*SUMIF('Daily Log'!$BP$18:$BP$1017,$B271,'Daily Log'!$BQ$18:$BQ$1017),0)","v":0},{"$f":"IFERROR($E271*SUMIF('Daily Log'!$BS$18:$BS$1017,$B271,'Daily Log'!$BT$18:$BT$1017),0)","v":0},{"$f":"IFERROR($E271*SUMIF('Daily Log'!$BV$18:$BV$1017,$B271,'Daily Log'!$BW$18:$BW$1017),0)","v":0},{"$f":"IFERROR($E271*SUMIF('Daily Log'!$BY$18:$BY$1017,$B271,'Daily Log'!$BZ$18:$BZ$1017),0)","v":0},{"$f":"IFERROR($E271*SUMIF('Daily Log'!$CB$18:$CB$1017,$B271,'Daily Log'!$CC$18:$CC$1017),0)","v":0},{"$f":"IFERROR($E271*SUMIF('Daily Log'!$CE$18:$CE$1017,$B271,'Daily Log'!$CF$18:$CF$1017),0)","v":0},{"$f":"IFERROR($E271*SUMIF('Daily Log'!$CH$18:$CH$1017,$B271,'Daily Log'!$CI$18:$CI$1017),0)","v":0},{"$f":"IFERROR($E271*SUMIF('Daily Log'!$CK$18:$CK$1017,$B271,'Daily Log'!$CL$18:$CL$1017),0)","v":4},{"$f":"IFERROR($E271*SUMIF('Daily Log'!$CN$18:$CN$1017,$B271,'Daily Log'!$CO$18:$CO$1017),0)","v":0}]
[null,"RW07 71007:CHK SALAD",null,null,1,1,{"$f":"IFERROR($E272*SUMIF('Daily Log'!$B$18:$B$1017,$B272,'Daily Log'!$C$18:$C$1017),0)","v":0},{"$f":"IFERROR($E272*SUMIF('Daily Log'!$E$18:$E$1017,$B272,'Daily Log'!$F$18:$F$1017),0)","v":0},{"$f":"IFERROR($E272*SUMIF('Daily Log'!$H$18:$H$1017,$B272,'Daily Log'!$I$18:$I$1017),0)","v":0},{"$f":"IFERROR($E272*SUMIF('Daily Log'!$K$18:$K$1017,$B272,'Daily Log'!$L$18:$L$1017),0)","v":0},{"$f":"IFERROR($E272*SUMIF('Daily Log'!$N$18:$N$1017,$B272,'Daily Log'!$O$18:$O$1017),0)","v":0},{"$f":"IFERROR($E272*SUMIF('Daily Log'!$Q$18:$Q$1017,$B272,'Daily Log'!$R$18:$R$1017),0)","v":0},{"$f":"IFERROR($E272*SUMIF('Daily Log'!$T$18:$T$1017,$B272,'Daily Log'!$U$18:$U$1017),0)","v":0},{"$f":"IFERROR($E272*SUMIF('Daily Log'!$W$18:$W$1017,$B272,'Daily Log'!$X$18:$X$1017),0)","v":0},{"$f":"IFERROR($E272*SUMIF('Daily Log'!$Z$18:$Z$1017,$B272,'Daily Log'!$AA$18:$AA$1017),0)","v":0},{"$f":"IFERROR($E272*SUMIF('Daily Log'!$AC$18:$AC$1017,$B272,'Daily Log'!$AD$18:$AD$1017),0)","v":0},{"$f":"IFERROR($E272*SUMIF('Daily Log'!$AF$18:$AF$1017,$B272,'Daily Log'!$AG$18:$AG$1017),0)","v":0},{"$f":"IFERROR($E272*SUMIF('Daily Log'!$AI$18:$AI$1017,$B272,'Daily Log'!$AJ$18:$AJ$1017),0)","v":0},{"$f":"IFERROR($E272*SUMIF('Daily Log'!$AL$18:$AL$1017,$B272,'Daily Log'!$AM$18:$AM$1017),0)","v":0},{"$f":"IFERROR($E272*SUMIF('Daily Log'!$AO$18:$AO$1017,$B272,'Daily Log'!$AP$18:$AP$1017),0)","v":0},{"$f":"IFERROR($E272*SUMIF('Daily Log'!$AR$18:$AR$1017,$B272,'Daily Log'!$AS$18:$AS$1017),0)","v":0},{"$f":"IFERROR($E272*SUMIF('Daily Log'!$AU$18:$AU$1017,$B272,'Daily Log'!$AV$18:$AV$1017),0)","v":0},{"$f":"IFERROR($E272*SUMIF('Daily Log'!$AX$18:$AX$1017,$B272,'Daily Log'!$AY$18:$AY$1017),0)","v":0},{"$f":"IFERROR($E272*SUMIF('Daily Log'!$BA$18:$BA$1017,$B272,'Daily Log'!$BB$18:$BB$1017),0)","v":0},{"$f":"IFERROR($E272*SUMIF('Daily Log'!$BD$18:$BD$1017,$B272,'Daily Log'!$BE$18:$BE$1017),0)","v":0},{"$f":"IFERROR($E272*SUMIF('Daily Log'!$BG$18:$BG$1017,$B272,'Daily Log'!$BH$18:$BH$1017),0)","v":0},{"$f":"IFERROR($E272*SUMIF('Daily Log'!$BJ$18:$BJ$1017,$B272,'Daily Log'!$BK$18:$BK$1017),0)","v":0},{"$f":"IFERROR($E272*SUMIF('Daily Log'!$BM$18:$BM$1017,$B272,'Daily Log'!$BN$18:$BN$1017),0)","v":0},{"$f":"IFERROR($E272*SUMIF('Daily Log'!$BP$18:$BP$1017,$B272,'Daily Log'!$BQ$18:$BQ$1017),0)","v":0},{"$f":"IFERROR($E272*SUMIF('Daily Log'!$BS$18:$BS$1017,$B272,'Daily Log'!$BT$18:$BT$1017),0)","v":0},{"$f":"IFERROR($E272*SUMIF('Daily Log'!$BV$18:$BV$1017,$B272,'Daily Log'!$BW$18:$BW$1017),0)","v":0},{"$f":"IFERROR($E272*SUMIF('Daily Log'!$BY$18:$BY$1017,$B272,'Daily Log'!$BZ$18:$BZ$1017),0)","v":0},{"$f":"IFERROR($E272*SUMIF('Daily Log'!$CB$18:$CB$1017,$B272,'Daily Log'!$CC$18:$CC$1017),0)","v":0},{"$f":"IFERROR($E272*SUMIF('Daily Log'!$CE$18:$CE$1017,$B272,'Daily Log'!$CF$18:$CF$1017),0)","v":0},{"$f":"IFERROR($E272*SUMIF('Daily Log'!$CH$18:$CH$1017,$B272,'Daily Log'!$CI$18:$CI$1017),0)","v":0},{"$f":"IFERROR($E272*SUMIF('Daily Log'!$CK$18:$CK$1017,$B272,'Daily Log'!$CL$18:$CL$1017),0)","v":1},{"$f":"IFERROR($E272*SUMIF('Daily Log'!$CN$18:$CN$1017,$B272,'Daily Log'!$CO$18:$CO$1017),0)","v":0}]
[null,null,null,null,1,0,{"$f":"IFERROR($E273*SUMIF('Daily Log'!$B$18:$B$1017,$B273,'Daily Log'!$C$18:$C$1017),0)","v":0},{"$f":"IFERROR($E273*SUMIF('Daily Log'!$E$18:$E$1017,$B273,'Daily Log'!$F$18:$F$1017),0)","v":0},{"$f":"IFERROR($E273*SUMIF('Daily Log'!$H$18:$H$1017,$B273,'Daily Log'!$I$18:$I$1017),0)","v":0},{"$f":"IFERROR($E273*SUMIF('Daily Log'!$K$18:$K$1017,$B273,'Daily Log'!$L$18:$L$1017),0)","v":0},{"$f":"IFERROR($E273*SUMIF('Daily Log'!$N$18:$N$1017,$B273,'Daily Log'!$O$18:$O$1017),0)","v":0},{"$f":"IFERROR($E273*SUMIF('Daily Log'!$Q$18:$Q$1017,$B273,'Daily Log'!$R$18:$R$1017),0)","v":0},{"$f":"IFERROR($E273*SUMIF('Daily Log'!$T$18:$T$1017,$B273,'Daily Log'!$U$18:$U$1017),0)","v":0},{"$f":"IFERROR($E273*SUMIF('Daily Log'!$W$18:$W$1017,$B273,'Daily Log'!$X$18:$X$1017),0)","v":0},{"$f":"IFERROR($E273*SUMIF('Daily Log'!$Z$18:$Z$1017,$B273,'Daily Log'!$AA$18:$AA$1017),0)","v":0},{"$f":"IFERROR($E273*SUMIF('Daily Log'!$AC$18:$AC$1017,$B273,'Daily Log'!$AD$18:$AD$1017),0)","v":0},{"$f":"IFERROR($E273*SUMIF('Daily Log'!$AF$18:$AF$1017,$B273,'Daily Log'!$AG$18:$AG$1017),0)","v":0},{"$f":"IFERROR($E273*SUMIF('Daily Log'!$AI$18:$AI$1017,$B273,'Daily Log'!$AJ$18:$AJ$1017),0)","v":0},{"$f":"IFERROR($E273*SUMIF('Daily Log'!$AL$18:$AL$1017,$B273,'Daily Log'!$AM$18:$AM$1017),0)","v":0},{"$f":"IFERROR($E273*SUMIF('Daily Log'!$AO$18:$AO$1017,$B273,'Daily Log'!$AP$18:$AP$1017),0)","v":0},{"$f":"IFERROR($E273*SUMIF('Daily Log'!$AR$18:$AR$1017,$B273,'Daily Log'!$AS$18:$AS$1017),0)","v":0},{"$f":"IFERROR($E273*SUMIF('Daily Log'!$AU$18:$AU$1017,$B273,'Daily Log'!$AV$18:$AV$1017),0)","v":0},{"$f":"IFERROR($E273*SUMIF('Daily Log'!$AX$18:$AX$1017,$B273,'Daily Log'!$AY$18:$AY$1017),0)","v":0},{"$f":"IFERROR($E273*SUMIF('Daily Log'!$BA$18:$BA$1017,$B273,'Daily Log'!$BB$18:$BB$1017),0)","v":0},{"$f":"IFERROR($E273*SUMIF('Daily Log'!$BD$18:$BD$1017,$B273,'Daily Log'!$BE$18:$BE$1017),0)","v":0},{"$f":"IFERROR($E273*SUMIF('Daily Log'!$BG$18:$BG$1017,$B273,'Daily Log'!$BH$18:$BH$1017),0)","v":0},{"$f":"IFERROR($E273*SUMIF('Daily Log'!$BJ$18:$BJ$1017,$B273,'Daily Log'!$BK$18:$BK$1017),0)","v":0},{"$f":"IFERROR($E273*SUMIF('Daily Log'!$BM$18:$BM$1017,$B273,'Daily Log'!$BN$18:$BN$1017),0)","v":0},{"$f":"IFERROR($E273*SUMIF('Daily Log'!$BP$18:$BP$1017,$B273,'Daily Log'!$BQ$18:$BQ$1017),0)","v":0},{"$f":"IFERROR($E273*SUMIF('Daily Log'!$BS$18:$BS$1017,$B273,'Daily Log'!$BT$18:$BT$1017),0)","v":0},{"$f":"IFERROR($E273*SUMIF('Daily Log'!$BV$18:$BV$1017,$B273,'Daily Log'!$BW$18:$BW$1017),0)","v":0},{"$f":"IFERROR($E273*SUMIF('Daily Log'!$BY$18:$BY$1017,$B273,'Daily Log'!$BZ$18:$BZ$1017),0)","v":0},{"$f":"IFERROR($E273*SUMIF('Daily Log'!$CB$18:$CB$1017,$B273,'Daily Log'!$CC$18:$CC$1017),0)","v":0},{"$f":"IFERROR($E273*SUMIF('Daily Log'!$CE$18:$CE$1017,$B273,'Daily Log'!$CF$18:$CF$1017),0)","v":0},{"$f":"IFERROR($E273*SUMIF('Daily Log'!$CH$18:$CH$1017,$B273,'Daily Log'!$CI$18:$CI$1017),0)","v":0},{"$f":"IFERROR($E273*SUMIF('Daily Log'!$CK$18:$CK$1017,$B273,'Daily Log'!$CL$18:$CL$1017),0)","v":0},{"$f":"IFERROR($E273*SUMIF('Daily Log'!$CN$18:$CN$1017,$B273,'Daily Log'!$CO$18:$CO$1017),0)","v":0}]
[null,null,null,null,1,0,{"$f":"IFERROR($E274*SUMIF('Daily Log'!$B$18:$B$1017,$B274,'Daily Log'!$C$18:$C$1017),0)","v":0},{"$f":"IFERROR($E274*SUMIF('Daily Log'!$E$18:$E$1017,$B274,'Daily Log'!$F$18:$F$1017),0)","v":0},{"$f":"IFERROR($E274*SUMIF('Daily Log'!$H$18:$H$1017,$B274,'Daily Log'!$I$18:$I$1017),0)","v":0},{"$f":"IFERROR($E274*SUMIF('Daily Log'!$K$18:$K$1017,$B274,'Daily Log'!$L$18:$L$1017),0)","v":0},{"$f":"IFERROR($E274*SUMIF('Daily Log'!$N$18:$N$1017,$B274,'Daily Log'!$O$18:$O$1017),0)","v":0},{"$f":"IFERROR($E274*SUMIF('Daily Log'!$Q$18:$Q$1017,$B274,'Daily Log'!$R$18:$R$1017),0)","v":0},{"$f":"IFERROR($E274*SUMIF('Daily Log'!$T$18:$T$1017,$B274,'Daily Log'!$U$18:$U$1017),0)","v":0},{"$f":"IFERROR($E274*SUMIF('Daily Log'!$W$18:$W$1017,$B274,'Daily Log'!$X$18:$X$1017),0)","v":0},{"$f":"IFERROR($E274*SUMIF('Daily Log'!$Z$18:$Z$1017,$B274,'Daily Log'!$AA$18:$AA$1017),0)","v":0},{"$f":"IFERROR($E274*SUMIF('Daily Log'!$AC$18:$AC$1017,$B274,'Daily Log'!$AD$18:$AD$1017),0)","v":0},{"$f":"IFERROR($E274*SUMIF('Daily Log'!$AF$18:$AF$1017,$B274,'Daily Log'!$AG$18:$AG$1017),0)","v":0},{"$f":"IFERROR($E274*SUMIF('Daily Log'!$AI$18:$AI$1017,$B274,'Daily Log'!$AJ$18:$AJ$1017),0)","v":0},{"$f":"IFERROR($E274*SUMIF('Daily Log'!$AL$18:$AL$1017,$B274,'Daily Log'!$AM$18:$AM$1017),0)","v":0},{"$f":"IFERROR($E274*SUMIF('Daily Log'!$AO$18:$AO$1017,$B274,'Daily Log'!$AP$18:$AP$1017),0)","v":0},{"$f":"IFERROR($E274*SUMIF('Daily Log'!$AR$18:$AR$1017,$B274,'Daily Log'!$AS$18:$AS$1017),0)","v":0},{"$f":"IFERROR($E274*SUMIF('Daily Log'!$AU$18:$AU$1017,$B274,'Daily Log'!$AV$18:$AV$1017),0)","v":0},{"$f":"IFERROR($E274*SUMIF('Daily Log'!$AX$18:$AX$1017,$B274,'Daily Log'!$AY$18:$AY$1017),0)","v":0},{"$f":"IFERROR($E274*SUMIF('Daily Log'!$BA$18:$BA$1017,$B274,'Daily Log'!$BB$18:$BB$1017),0)","v":0},{"$f":"IFERROR($E274*SUMIF('Daily Log'!$BD$18:$BD$1017,$B274,'Daily Log'!$BE$18:$BE$1017),0)","v":0},{"$f":"IFERROR($E274*SUMIF('Daily Log'!$BG$18:$BG$1017,$B274,'Daily Log'!$BH$18:$BH$1017),0)","v":0},{"$f":"IFERROR($E274*SUMIF('Daily Log'!$BJ$18:$BJ$1017,$B274,'Daily Log'!$BK$18:$BK$1017),0)","v":0},{"$f":"IFERROR($E274*SUMIF('Daily Log'!$BM$18:$BM$1017,$B274,'Daily Log'!$BN$18:$BN$1017),0)","v":0},{"$f":"IFERROR($E274*SUMIF('Daily Log'!$BP$18:$BP$1017,$B274,'Daily Log'!$BQ$18:$BQ$1017),0)","v":0},{"$f":"IFERROR($E274*SUMIF('Daily Log'!$BS$18:$BS$1017,$B274,'Daily Log'!$BT$18:$BT$1017),0)","v":0},{"$f":"IFERROR($E274*SUMIF('Daily Log'!$BV$18:$BV$1017,$B274,'Daily Log'!$BW$18:$BW$1017),0)","v":0},{"$f":"IFERROR($E274*SUMIF('Daily Log'!$BY$18:$BY$1017,$B274,'Daily Log'!$BZ$18:$BZ$1017),0)","v":0},{"$f":"IFERROR($E274*SUMIF('Daily Log'!$CB$18:$CB$1017,$B274,'Daily Log'!$CC$18:$CC$1017),0)","v":0},{"$f":"IFERROR($E274*SUMIF('Daily Log'!$CE$18:$CE$1017,$B274,'Daily Log'!$CF$18:$CF$1017),0)","v":0},{"$f":"IFERROR($E274*SUMIF('Daily Log'!$CH$18:$CH$1017,$B274,'Daily Log'!$CI$18:$CI$1017),0)","v":0},{"$f":"IFERROR($E274*SUMIF('Daily Log'!$CK$18:$CK$1017,$B274,'Daily Log'!$CL$18:$CL$1017),0)","v":0},{"$f":"IFERROR($E274*SUMIF('Daily Log'!$CN$18:$CN$1017,$B274,'Daily Log'!$CO$18:$CO$1017),0)","v":0}]
[null,null,null,null,1,0,{"$f":"IFERROR($E275*SUMIF('Daily Log'!$B$18:$B$1017,$B275,'Daily Log'!$C$18:$C$1017),0)","v":0},{"$f":"IFERROR($E275*SUMIF('Daily Log'!$E$18:$E$1017,$B275,'Daily Log'!$F$18:$F$1017),0)","v":0},{"$f":"IFERROR($E275*SUMIF('Daily Log'!$H$18:$H$1017,$B275,'Daily Log'!$I$18:$I$1017),0)","v":0},{"$f":"IFERROR($E275*SUMIF('Daily Log'!$K$18:$K$1017,$B275,'Daily Log'!$L$18:$L$1017),0)","v":0},{"$f":"IFERROR($E275*SUMIF('Daily Log'!$N$18:$N$1017,$B275,'Daily Log'!$O$18:$O$1017),0)","v":0},{"$f":"IFERROR($E275*SUMIF('Daily Log'!$Q$18:$Q$1017,$B275,'Daily Log'!$R$18:$R$1017),0)","v":0},{"$f":"IFERROR($E275*SUMIF('Daily Log'!$T$18:$T$1017,$B275,'Daily Log'!$U$18:$U$1017),0)","v":0},{"$f":"IFERROR($E275*SUMIF('Daily Log'!$W$18:$W$1017,$B275,'Daily Log'!$X$18:$X$1017),0)","v":0},{"$f":"IFERROR($E275*SUMIF('Daily Log'!$Z$18:$Z$1017,$B275,'Daily Log'!$AA$18:$AA$1017),0)","v":0},{"$f":"IFERROR($E275*SUMIF('Daily Log'!$AC$18:$AC$1017,$B275,'Daily Log'!$AD$18:$AD$1017),0)","v":0},{"$f":"IFERROR($E275*SUMIF('Daily Log'!$AF$18:$AF$1017,$B275,'Daily Log'!$AG$18:$AG$1017),0)","v":0},{"$f":"IFERROR($E275*SUMIF('Daily Log'!$AI$18:$AI$1017,$B275,'Daily Log'!$AJ$18:$AJ$1017),0)","v":0},{"$f":"IFERROR($E275*SUMIF('Daily Log'!$AL$18:$AL$1017,$B275,'Daily Log'!$AM$18:$AM$1017),0)","v":0},{"$f":"IFERROR($E275*SUMIF('Daily Log'!$AO$18:$AO$1017,$B275,'Daily Log'!$AP$18:$AP$1017),0)","v":0},{"$f":"IFERROR($E275*SUMIF('Daily Log'!$AR$18:$AR$1017,$B275,'Daily Log'!$AS$18:$AS$1017),0)","v":0},{"$f":"IFERROR($E275*SUMIF('Daily Log'!$AU$18:$AU$1017,$B275,'Daily Log'!$AV$18:$AV$1017),0)","v":0},{"$f":"IFERROR($E275*SUMIF('Daily Log'!$AX$18:$AX$1017,$B275,'Daily Log'!$AY$18:$AY$1017),0)","v":0},{"$f":"IFERROR($E275*SUMIF('Daily Log'!$BA$18:$BA$1017,$B275,'Daily Log'!$BB$18:$BB$1017),0)","v":0},{"$f":"IFERROR($E275*SUMIF('Daily Log'!$BD$18:$BD$1017,$B275,'Daily Log'!$BE$18:$BE$1017),0)","v":0},{"$f":"IFERROR($E275*SUMIF('Daily Log'!$BG$18:$BG$1017,$B275,'Daily Log'!$BH$18:$BH$1017),0)","v":0},{"$f":"IFERROR($E275*SUMIF('Daily Log'!$BJ$18:$BJ$1017,$B275,'Daily Log'!$BK$18:$BK$1017),0)","v":0},{"$f":"IFERROR($E275*SUMIF('Daily Log'!$BM$18:$BM$1017,$B275,'Daily Log'!$BN$18:$BN$1017),0)","v":0},{"$f":"IFERROR($E275*SUMIF('Daily Log'!$BP$18:$BP$1017,$B275,'Daily Log'!$BQ$18:$BQ$1017),0)","v":0},{"$f":"IFERROR($E275*SUMIF('Daily Log'!$BS$18:$BS$1017,$B275,'Daily Log'!$BT$18:$BT$1017),0)","v":0},{"$f":"IFERROR($E275*SUMIF('Daily Log'!$BV$18:$BV$1017,$B275,'Daily Log'!$BW$18:$BW$1017),0)","v":0},{"$f":"IFERROR($E275*SUMIF('Daily Log'!$BY$18:$BY$1017,$B275,'Daily Log'!$BZ$18:$BZ$1017),0)","v":0},{"$f":"IFERROR($E275*SUMIF('Daily Log'!$CB$18:$CB$1017,$B275,'Daily Log'!$CC$18:$CC$1017),0)","v":0},{"$f":"IFERROR($E275*SUMIF('Daily Log'!$CE$18:$CE$1017,$B275,'Daily Log'!$CF$18:$CF$1017),0)","v":0},{"$f":"IFERROR($E275*SUMIF('Daily Log'!$CH$18:$CH$1017,$B275,'Daily Log'!$CI$18:$CI$1017),0)","v":0},{"$f":"IFERROR($E275*SUMIF('Daily Log'!$CK$18:$CK$1017,$B275,'Daily Log'!$CL$18:$CL$1017),0)","v":0},{"$f":"IFERROR($E275*SUMIF('Daily Log'!$CN$18:$CN$1017,$B275,'Daily Log'!$CO$18:$CO$1017),0)","v":0}]
[null,null,null,null,1,0,{"$f":"IFERROR($E276*SUMIF('Daily Log'!$B$18:$B$1017,$B276,'Daily Log'!$C$18:$C$1017),0)","v":0},{"$f":"IFERROR($E276*SUMIF('Daily Log'!$E$18:$E$1017,$B276,'Daily Log'!$F$18:$F$1017),0)","v":0},{"$f":"IFERROR($E276*SUMIF('Daily Log'!$H$18:$H$1017,$B276,'Daily Log'!$I$18:$I$1017),0)","v":0},{"$f":"IFERROR($E276*SUMIF('Daily Log'!$K$18:$K$1017,$B276,'Daily Log'!$L$18:$L$1017),0)","v":0},{"$f":"IFERROR($E276*SUMIF('Daily Log'!$N$18:$N$1017,$B276,'Daily Log'!$O$18:$O$1017),0)","v":0},{"$f":"IFERROR($E276*SUMIF('Daily Log'!$Q$18:$Q$1017,$B276,'Daily Log'!$R$18:$R$1017),0)","v":0},{"$f":"IFERROR($E276*SUMIF('Daily Log'!$T$18:$T$1017,$B276,'Daily Log'!$U$18:$U$1017),0)","v":0},{"$f":"IFERROR($E276*SUMIF('Daily Log'!$W$18:$W$1017,$B276,'Daily Log'!$X$18:$X$1017),0)","v":0},{"$f":"IFERROR($E276*SUMIF('Daily Log'!$Z$18:$Z$1017,$B276,'Daily Log'!$AA$18:$AA$1017),0)","v":0},{"$f":"IFERROR($E276*SUMIF('Daily Log'!$AC$18:$AC$1017,$B276,'Daily Log'!$AD$18:$AD$1017),0)","v":0},{"$f":"IFERROR($E276*SUMIF('Daily Log'!$AF$18:$AF$1017,$B276,'Daily Log'!$AG$18:$AG$1017),0)","v":0},{"$f":"IFERROR($E276*SUMIF('Daily Log'!$AI$18:$AI$1017,$B276,'Daily Log'!$AJ$18:$AJ$1017),0)","v":0},{"$f":"IFERROR($E276*SUMIF('Daily Log'!$AL$18:$AL$1017,$B276,'Daily Log'!$AM$18:$AM$1017),0)","v":0},{"$f":"IFERROR($E276*SUMIF('Daily Log'!$AO$18:$AO$1017,$B276,'Daily Log'!$AP$18:$AP$1017),0)","v":0},{"$f":"IFERROR($E276*SUMIF('Daily Log'!$AR$18:$AR$1017,$B276,'Daily Log'!$AS$18:$AS$1017),0)","v":0},{"$f":"IFERROR($E276*SUMIF('Daily Log'!$AU$18:$AU$1017,$B276,'Daily Log'!$AV$18:$AV$1017),0)","v":0},{"$f":"IFERROR($E276*SUMIF('Daily Log'!$AX$18:$AX$1017,$B276,'Daily Log'!$AY$18:$AY$1017),0)","v":0},{"$f":"IFERROR($E276*SUMIF('Daily Log'!$BA$18:$BA$1017,$B276,'Daily Log'!$BB$18:$BB$1017),0)","v":0},{"$f":"IFERROR($E276*SUMIF('Daily Log'!$BD$18:$BD$1017,$B276,'Daily Log'!$BE$18:$BE$1017),0)","v":0},{"$f":"IFERROR($E276*SUMIF('Daily Log'!$BG$18:$BG$1017,$B276,'Daily Log'!$BH$18:$BH$1017),0)","v":0},{"$f":"IFERROR($E276*SUMIF('Daily Log'!$BJ$18:$BJ$1017,$B276,'Daily Log'!$BK$18:$BK$1017),0)","v":0},{"$f":"IFERROR($E276*SUMIF('Daily Log'!$BM$18:$BM$1017,$B276,'Daily Log'!$BN$18:$BN$1017),0)","v":0},{"$f":"IFERROR($E276*SUMIF('Daily Log'!$BP$18:$BP$1017,$B276,'Daily Log'!$BQ$18:$BQ$1017),0)","v":0},{"$f":"IFERROR($E276*SUMIF('Daily Log'!$BS$18:$BS$1017,$B276,'Daily Log'!$BT$18:$BT$1017),0)","v":0},{"$f":"IFERROR($E276*SUMIF('Daily Log'!$BV$18:$BV$1017,$B276,'Daily Log'!$BW$18:$BW$1017),0)","v":0},{"$f":"IFERROR($E276*SUMIF('Daily Log'!$BY$18:$BY$1017,$B276,'Daily Log'!$BZ$18:$BZ$1017),0)","v":0},{"$f":"IFERROR($E276*SUMIF('Daily Log'!$CB$18:$CB$1017,$B276,'Daily Log'!$CC$18:$CC$1017),0)","v":0},{"$f":"IFERROR($E276*SUMIF('Daily Log'!$CE$18:$CE$1017,$B276,'Daily Log'!$CF$18:$CF$1017),0)","v":0},{"$f":"IFERROR($E276*SUMIF('Daily Log'!$CH$18:$CH$1017,$B276,'Daily Log'!$CI$18:$CI$1017),0)","v":0},{"$f":"IFERROR($E276*SUMIF('Daily Log'!$CK$18:$CK$1017,$B276,'Daily Log'!$CL$18:$CL$1017),0)","v":0},{"$f":"IFERROR($E276*SUMIF('Daily Log'!$CN$18:$CN$1017,$B276,'Daily Log'!$CO$18:$CO$1017),0)","v":0}]
[null,null,null,null,1,0,{"$f":"IFERROR($E277*SUMIF('Daily Log'!$B$18:$B$1017,$B277,'Daily Log'!$C$18:$C$1017),0)","v":0},{"$f":"IFERROR($E277*SUMIF('Daily Log'!$E$18:$E$1017,$B277,'Daily Log'!$F$18:$F$1017),0)","v":0},{"$f":"IFERROR($E277*SUMIF('Daily Log'!$H$18:$H$1017,$B277,'Daily Log'!$I$18:$I$1017),0)","v":0},{"$f":"IFERROR($E277*SUMIF('Daily Log'!$K$18:$K$1017,$B277,'Daily Log'!$L$18:$L$1017),0)","v":0},{"$f":"IFERROR($E277*SUMIF('Daily Log'!$N$18:$N$1017,$B277,'Daily Log'!$O$18:$O$1017),0)","v":0},{"$f":"IFERROR($E277*SUMIF('Daily Log'!$Q$18:$Q$1017,$B277,'Daily Log'!$R$18:$R$1017),0)","v":0},{"$f":"IFERROR($E277*SUMIF('Daily Log'!$T$18:$T$1017,$B277,'Daily Log'!$U$18:$U$1017),0)","v":0},{"$f":"IFERROR($E277*SUMIF('Daily Log'!$W$18:$W$1017,$B277,'Daily Log'!$X$18:$X$1017),0)","v":0},{"$f":"IFERROR($E277*SUMIF('Daily Log'!$Z$18:$Z$1017,$B277,'Daily Log'!$AA$18:$AA$1017),0)","v":0},{"$f":"IFERROR($E277*SUMIF('Daily Log'!$AC$18:$AC$1017,$B277,'Daily Log'!$AD$18:$AD$1017),0)","v":0},{"$f":"IFERROR($E277*SUMIF('Daily Log'!$AF$18:$AF$1017,$B277,'Daily Log'!$AG$18:$AG$1017),0)","v":0},{"$f":"IFERROR($E277*SUMIF('Daily Log'!$AI$18:$AI$1017,$B277,'Daily Log'!$AJ$18:$AJ$1017),0)","v":0},{"$f":"IFERROR($E277*SUMIF('Daily Log'!$AL$18:$AL$1017,$B277,'Daily Log'!$AM$18:$AM$1017),0)","v":0},{"$f":"IFERROR($E277*SUMIF('Daily Log'!$AO$18:$AO$1017,$B277,'Daily Log'!$AP$18:$AP$1017),0)","v":0},{"$f":"IFERROR($E277*SUMIF('Daily Log'!$AR$18:$AR$1017,$B277,'Daily Log'!$AS$18:$AS$1017),0)","v":0},{"$f":"IFERROR($E277*SUMIF('Daily Log'!$AU$18:$AU$1017,$B277,'Daily Log'!$AV$18:$AV$1017),0)","v":0},{"$f":"IFERROR($E277*SUMIF('Daily Log'!$AX$18:$AX$1017,$B277,'Daily Log'!$AY$18:$AY$1017),0)","v":0},{"$f":"IFERROR($E277*SUMIF('Daily Log'!$BA$18:$BA$1017,$B277,'Daily Log'!$BB$18:$BB$1017),0)","v":0},{"$f":"IFERROR($E277*SUMIF('Daily Log'!$BD$18:$BD$1017,$B277,'Daily Log'!$BE$18:$BE$1017),0)","v":0},{"$f":"IFERROR($E277*SUMIF('Daily Log'!$BG$18:$BG$1017,$B277,'Daily Log'!$BH$18:$BH$1017),0)","v":0},{"$f":"IFERROR($E277*SUMIF('Daily Log'!$BJ$18:$BJ$1017,$B277,'Daily Log'!$BK$18:$BK$1017),0)","v":0},{"$f":"IFERROR($E277*SUMIF('Daily Log'!$BM$18:$BM$1017,$B277,'Daily Log'!$BN$18:$BN$1017),0)","v":0},{"$f":"IFERROR($E277*SUMIF('Daily Log'!$BP$18:$BP$1017,$B277,'Daily Log'!$BQ$18:$BQ$1017),0)","v":0},{"$f":"IFERROR($E277*SUMIF('Daily Log'!$BS$18:$BS$1017,$B277,'Daily Log'!$BT$18:$BT$1017),0)","v":0},{"$f":"IFERROR($E277*SUMIF('Daily Log'!$BV$18:$BV$1017,$B277,'Daily Log'!$BW$18:$BW$1017),0)","v":0},{"$f":"IFERROR($E277*SUMIF('Daily Log'!$BY$18:$BY$1017,$B277,'Daily Log'!$BZ$18:$BZ$1017),0)","v":0},{"$f":"IFERROR($E277*SUMIF('Daily Log'!$CB$18:$CB$1017,$B277,'Daily Log'!$CC$18:$CC$1017),0)","v":0},{"$f":"IFERROR($E277*SUMIF('Daily Log'!$CE$18:$CE$1017,$B277,'Daily Log'!$CF$18:$CF$1017),0)","v":0},{"$f":"IFERROR($E277*SUMIF('Daily Log'!$CH$18:$CH$1017,$B277,'Daily Log'!$CI$18:$CI$1017),0)","v":0},{"$f":"IFERROR($E277*SUMIF('Daily Log'!$CK$18:$CK$1017,$B277,'Daily Log'!$CL$18:$CL$1017),0)","v":0},{"$f":"IFERROR($E277*SUMIF('Daily Log'!$CN$18:$CN$1017,$B277,'Daily Log'!$CO$18:$CO$1017),0)","v":0}]
[null,null,null,null,1,0,{"$f":"IFERROR($E278*SUMIF('Daily Log'!$B$18:$B$1017,$B278,'Daily Log'!$C$18:$C$1017),0)","v":0},{"$f":"IFERROR($E278*SUMIF('Daily Log'!$E$18:$E$1017,$B278,'Daily Log'!$F$18:$F$1017),0)","v":0},{"$f":"IFERROR($E278*SUMIF('Daily Log'!$H$18:$H$1017,$B278,'Daily Log'!$I$18:$I$1017),0)","v":0},{"$f":"IFERROR($E278*SUMIF('Daily Log'!$K$18:$K$1017,$B278,'Daily Log'!$L$18:$L$1017),0)","v":0},{"$f":"IFERROR($E278*SUMIF('Daily Log'!$N$18:$N$1017,$B278,'Daily Log'!$O$18:$O$1017),0)","v":0},{"$f":"IFERROR($E278*SUMIF('Daily Log'!$Q$18:$Q$1017,$B278,'Daily Log'!$R$18:$R$1017),0)","v":0},{"$f":"IFERROR($E278*SUMIF('Daily Log'!$T$18:$T$1017,$B278,'Daily Log'!$U$18:$U$1017),0)","v":0},{"$f":"IFERROR($E278*SUMIF('Daily Log'!$W$18:$W$1017,$B278,'Daily Log'!$X$18:$X$1017),0)","v":0},{"$f":"IFERROR($E278*SUMIF('Daily Log'!$Z$18:$Z$1017,$B278,'Daily Log'!$AA$18:$AA$1017),0)","v":0},{"$f":"IFERROR($E278*SUMIF('Daily Log'!$AC$18:$AC$1017,$B278,'Daily Log'!$AD$18:$AD$1017),0)","v":0},{"$f":"IFERROR($E278*SUMIF('Daily Log'!$AF$18:$AF$1017,$B278,'Daily Log'!$AG$18:$AG$1017),0)","v":0},{"$f":"IFERROR($E278*SUMIF('Daily Log'!$AI$18:$AI$1017,$B278,'Daily Log'!$AJ$18:$AJ$1017),0)","v":0},{"$f":"IFERROR($E278*SUMIF('Daily Log'!$AL$18:$AL$1017,$B278,'Daily Log'!$AM$18:$AM$1017),0)","v":0},{"$f":"IFERROR($E278*SUMIF('Daily Log'!$AO$18:$AO$1017,$B278,'Daily Log'!$AP$18:$AP$1017),0)","v":0},{"$f":"IFERROR($E278*SUMIF('Daily Log'!$AR$18:$AR$1017,$B278,'Daily Log'!$AS$18:$AS$1017),0)","v":0},{"$f":"IFERROR($E278*SUMIF('Daily Log'!$AU$18:$AU$1017,$B278,'Daily Log'!$AV$18:$AV$1017),0)","v":0},{"$f":"IFERROR($E278*SUMIF('Daily Log'!$AX$18:$AX$1017,$B278,'Daily Log'!$AY$18:$AY$1017),0)","v":0},{"$f":"IFERROR($E278*SUMIF('Daily Log'!$BA$18:$BA$1017,$B278,'Daily Log'!$BB$18:$BB$1017),0)","v":0},{"$f":"IFERROR($E278*SUMIF('Daily Log'!$BD$18:$BD$1017,$B278,'Daily Log'!$BE$18:$BE$1017),0)","v":0},{"$f":"IFERROR($E278*SUMIF('Daily Log'!$BG$18:$BG$1017,$B278,'Daily Log'!$BH$18:$BH$1017),0)","v":0},{"$f":"IFERROR($E278*SUMIF('Daily Log'!$BJ$18:$BJ$1017,$B278,'Daily Log'!$BK$18:$BK$1017),0)","v":0},{"$f":"IFERROR($E278*SUMIF('Daily Log'!$BM$18:$BM$1017,$B278,'Daily Log'!$BN$18:$BN$1017),0)","v":0},{"$f":"IFERROR($E278*SUMIF('Daily Log'!$BP$18:$BP$1017,$B278,'Daily Log'!$BQ$18:$BQ$1017),0)","v":0},{"$f":"IFERROR($E278*SUMIF('Daily Log'!$BS$18:$BS$1017,$B278,'Daily Log'!$BT$18:$BT$1017),0)","v":0},{"$f":"IFERROR($E278*SUMIF('Daily Log'!$BV$18:$BV$1017,$B278,'Daily Log'!$BW$18:$BW$1017),0)","v":0},{"$f":"IFERROR($E278*SUMIF('Daily Log'!$BY$18:$BY$1017,$B278,'Daily Log'!$BZ$18:$BZ$1017),0)","v":0},{"$f":"IFERROR($E278*SUMIF('Daily Log'!$CB$18:$CB$1017,$B278,'Daily Log'!$CC$18:$CC$1017),0)","v":0},{"$f":"IFERROR($E278*SUMIF('Daily Log'!$CE$18:$CE$1017,$B278,'Daily Log'!$CF$18:$CF$1017),0)","v":0},{"$f":"IFERROR($E278*SUMIF('Daily Log'!$CH$18:$CH$1017,$B278,'Daily Log'!$CI$18:$CI$1017),0)","v":0},{"$f":"IFERROR($E278*SUMIF('Daily Log'!$CK$18:$CK$1017,$B278,'Daily Log'!$CL$18:$CL$1017),0)","v":0},{"$f":"IFERROR($E278*SUMIF('Daily Log'!$CN$18:$CN$1017,$B278,'Daily Log'!$CO$18:$CO$1017),0)","v":0}]
[null,null,null,null,1,0,{"$f":"IFERROR($E279*SUMIF('Daily Log'!$B$18:$B$1017,$B279,'Daily Log'!$C$18:$C$1017),0)","v":0},{"$f":"IFERROR($E279*SUMIF('Daily Log'!$E$18:$E$1017,$B279,'Daily Log'!$F$18:$F$1017),0)","v":0},{"$f":"IFERROR($E279*SUMIF('Daily Log'!$H$18:$H$1017,$B279,'Daily Log'!$I$18:$I$1017),0)","v":0},{"$f":"IFERROR($E279*SUMIF('Daily Log'!$K$18:$K$1017,$B279,'Daily Log'!$L$18:$L$1017),0)","v":0},{"$f":"IFERROR($E279*SUMIF('Daily Log'!$N$18:$N$1017,$B279,'Daily Log'!$O$18:$O$1017),0)","v":0},{"$f":"IFERROR($E279*SUMIF('Daily Log'!$Q$18:$Q$1017,$B279,'Daily Log'!$R$18:$R$1017),0)","v":0},{"$f":"IFERROR($E279*SUMIF('Daily Log'!$T$18:$T$1017,$B279,'Daily Log'!$U$18:$U$1017),0)","v":0},{"$f":"IFERROR($E279*SUMIF('Daily Log'!$W$18:$W$1017,$B279,'Daily Log'!$X$18:$X$1017),0)","v":0},{"$f":"IFERROR($E279*SUMIF('Daily Log'!$Z$18:$Z$1017,$B279,'Daily Log'!$AA$18:$AA$1017),0)","v":0},{"$f":"IFERROR($E279*SUMIF('Daily Log'!$AC$18:$AC$1017,$B279,'Daily Log'!$AD$18:$AD$1017),0)","v":0},{"$f":"IFERROR($E279*SUMIF('Daily Log'!$AF$18:$AF$1017,$B279,'Daily Log'!$AG$18:$AG$1017),0)","v":0},{"$f":"IFERROR($E279*SUMIF('Daily Log'!$AI$18:$AI$1017,$B279,'Daily Log'!$AJ$18:$AJ$1017),0)","v":0},{"$f":"IFERROR($E279*SUMIF('Daily Log'!$AL$18:$AL$1017,$B279,'Daily Log'!$AM$18:$AM$1017),0)","v":0},{"$f":"IFERROR($E279*SUMIF('Daily Log'!$AO$18:$AO$1017,$B279,'Daily Log'!$AP$18:$AP$1017),0)","v":0},{"$f":"IFERROR($E279*SUMIF('Daily Log'!$AR$18:$AR$1017,$B279,'Daily Log'!$AS$18:$AS$1017),0)","v":0},{"$f":"IFERROR($E279*SUMIF('Daily Log'!$AU$18:$AU$1017,$B279,'Daily Log'!$AV$18:$AV$1017),0)","v":0},{"$f":"IFERROR($E279*SUMIF('Daily Log'!$AX$18:$AX$1017,$B279,'Daily Log'!$AY$18:$AY$1017),0)","v":0},{"$f":"IFERROR($E279*SUMIF('Daily Log'!$BA$18:$BA$1017,$B279,'Daily Log'!$BB$18:$BB$1017),0)","v":0},{"$f":"IFERROR($E279*SUMIF('Daily Log'!$BD$18:$BD$1017,$B279,'Daily Log'!$BE$18:$BE$1017),0)","v":0},{"$f":"IFERROR($E279*SUMIF('Daily Log'!$BG$18:$BG$1017,$B279,'Daily Log'!$BH$18:$BH$1017),0)","v":0},{"$f":"IFERROR($E279*SUMIF('Daily Log'!$BJ$18:$BJ$1017,$B279,'Daily Log'!$BK$18:$BK$1017),0)","v":0},{"$f":"IFERROR($E279*SUMIF('Daily Log'!$BM$18:$BM$1017,$B279,'Daily Log'!$BN$18:$BN$1017),0)","v":0},{"$f":"IFERROR($E279*SUMIF('Daily Log'!$BP$18:$BP$1017,$B279,'Daily Log'!$BQ$18:$BQ$1017),0)","v":0},{"$f":"IFERROR($E279*SUMIF('Daily Log'!$BS$18:$BS$1017,$B279,'Daily Log'!$BT$18:$BT$1017),0)","v":0},{"$f":"IFERROR($E279*SUMIF('Daily Log'!$BV$18:$BV$1017,$B279,'Daily Log'!$BW$18:$BW$1017),0)","v":0},{"$f":"IFERROR($E279*SUMIF('Daily Log'!$BY$18:$BY$1017,$B279,'Daily Log'!$BZ$18:$BZ$1017),0)","v":0},{"$f":"IFERROR($E279*SUMIF('Daily Log'!$CB$18:$CB$1017,$B279,'Daily Log'!$CC$18:$CC$1017),0)","v":0},{"$f":"IFERROR($E279*SUMIF('Daily Log'!$CE$18:$CE$1017,$B279,'Daily Log'!$CF$18:$CF$1017),0)","v":0},{"$f":"IFERROR($E279*SUMIF('Daily Log'!$CH$18:$CH$1017,$B279,'Daily Log'!$CI$18:$CI$1017),0)","v":0},{"$f":"IFERROR($E279*SUMIF('Daily Log'!$CK$18:$CK$1017,$B279,'Daily Log'!$CL$18:$CL$1017),0)","v":0},{"$f":"IFERROR($E279*SUMIF('Daily Log'!$CN$18:$CN$1017,$B279,'Daily Log'!$CO$18:$CO$1017),0)","v":0}]
[null,null,null,null,1,0,{"$f":"IFERROR($E280*SUMIF('Daily Log'!$B$18:$B$1017,$B280,'Daily Log'!$C$18:$C$1017),0)","v":0},{"$f":"IFERROR($E280*SUMIF('Daily Log'!$E$18:$E$1017,$B280,'Daily Log'!$F$18:$F$1017),0)","v":0},{"$f":"IFERROR($E280*SUMIF('Daily Log'!$H$18:$H$1017,$B280,'Daily Log'!$I$18:$I$1017),0)","v":0},{"$f":"IFERROR($E280*SUMIF('Daily Log'!$K$18:$K$1017,$B280,'Daily Log'!$L$18:$L$1017),0)","v":0},{"$f":"IFERROR($E280*SUMIF('Daily Log'!$N$18:$N$1017,$B280,'Daily Log'!$O$18:$O$1017),0)","v":0},{"$f":"IFERROR($E280*SUMIF('Daily Log'!$Q$18:$Q$1017,$B280,'Daily Log'!$R$18:$R$1017),0)","v":0},{"$f":"IFERROR($E280*SUMIF('Daily Log'!$T$18:$T$1017,$B280,'Daily Log'!$U$18:$U$1017),0)","v":0},{"$f":"IFERROR($E280*SUMIF('Daily Log'!$W$18:$W$1017,$B280,'Daily Log'!$X$18:$X$1017),0)","v":0},{"$f":"IFERROR($E280*SUMIF('Daily Log'!$Z$18:$Z$1017,$B280,'Daily Log'!$AA$18:$AA$1017),0)","v":0},{"$f":"IFERROR($E280*SUMIF('Daily Log'!$AC$18:$AC$1017,$B280,'Daily Log'!$AD$18:$AD$1017),0)","v":0},{"$f":"IFERROR($E280*SUMIF('Daily Log'!$AF$18:$AF$1017,$B280,'Daily Log'!$AG$18:$AG$1017),0)","v":0},{"$f":"IFERROR($E280*SUMIF('Daily Log'!$AI$18:$AI$1017,$B280,'Daily Log'!$AJ$18:$AJ$1017),0)","v":0},{"$f":"IFERROR($E280*SUMIF('Daily Log'!$AL$18:$AL$1017,$B280,'Daily Log'!$AM$18:$AM$1017),0)","v":0},{"$f":"IFERROR($E280*SUMIF('Daily Log'!$AO$18:$AO$1017,$B280,'Daily Log'!$AP$18:$AP$1017),0)","v":0},{"$f":"IFERROR($E280*SUMIF('Daily Log'!$AR$18:$AR$1017,$B280,'Daily Log'!$AS$18:$AS$1017),0)","v":0},{"$f":"IFERROR($E280*SUMIF('Daily Log'!$AU$18:$AU$1017,$B280,'Daily Log'!$AV$18:$AV$1017),0)","v":0},{"$f":"IFERROR($E280*SUMIF('Daily Log'!$AX$18:$AX$1017,$B280,'Daily Log'!$AY$18:$AY$1017),0)","v":0},{"$f":"IFERROR($E280*SUMIF('Daily Log'!$BA$18:$BA$1017,$B280,'Daily Log'!$BB$18:$BB$1017),0)","v":0},{"$f":"IFERROR($E280*SUMIF('Daily Log'!$BD$18:$BD$1017,$B280,'Daily Log'!$BE$18:$BE$1017),0)","v":0},{"$f":"IFERROR($E280*SUMIF('Daily Log'!$BG$18:$BG$1017,$B280,'Daily Log'!$BH$18:$BH$1017),0)","v":0},{"$f":"IFERROR($E280*SUMIF('Daily Log'!$BJ$18:$BJ$1017,$B280,'Daily Log'!$BK$18:$BK$1017),0)","v":0},{"$f":"IFERROR($E280*SUMIF('Daily Log'!$BM$18:$BM$1017,$B280,'Daily Log'!$BN$18:$BN$1017),0)","v":0},{"$f":"IFERROR($E280*SUMIF('Daily Log'!$BP$18:$BP$1017,$B280,'Daily Log'!$BQ$18:$BQ$1017),0)","v":0},{"$f":"IFERROR($E280*SUMIF('Daily Log'!$BS$18:$BS$1017,$B280,'Daily Log'!$BT$18:$BT$1017),0)","v":0},{"$f":"IFERROR($E280*SUMIF('Daily Log'!$BV$18:$BV$1017,$B280,'Daily Log'!$BW$18:$BW$1017),0)","v":0},{"$f":"IFERROR($E280*SUMIF('Daily Log'!$BY$18:$BY$1017,$B280,'Daily Log'!$BZ$18:$BZ$1017),0)","v":0},{"$f":"IFERROR($E280*SUMIF('Daily Log'!$CB$18:$CB$1017,$B280,'Daily Log'!$CC$18:$CC$1017),0)","v":0},{"$f":"IFERROR($E280*SUMIF('Daily Log'!$CE$18:$CE$1017,$B280,'Daily Log'!$CF$18:$CF$1017),0)","v":0},{"$f":"IFERROR($E280*SUMIF('Daily Log'!$CH$18:$CH$1017,$B280,'Daily Log'!$CI$18:$CI$1017),0)","v":0},{"$f":"IFERROR($E280*SUMIF('Daily Log'!$CK$18:$CK$1017,$B280,'Daily Log'!$CL$18:$CL$1017),0)","v":0},{"$f":"IFERROR($E280*SUMIF('Daily Log'!$CN$18:$CN$1017,$B280,'Daily Log'!$CO$18:$CO$1017),0)","v":0}]
[null,null,null,null,12,0,{"$f":"IFERROR($E281*SUMIF('Daily Log'!$B$18:$B$1017,$B281,'Daily Log'!$C$18:$C$1017),0)","v":0},{"$f":"IFERROR($E281*SUMIF('Daily Log'!$E$18:$E$1017,$B281,'Daily Log'!$F$18:$F$1017),0)","v":0},{"$f":"IFERROR($E281*SUMIF('Daily Log'!$H$18:$H$1017,$B281,'Daily Log'!$I$18:$I$1017),0)","v":0},{"$f":"IFERROR($E281*SUMIF('Daily Log'!$K$18:$K$1017,$B281,'Daily Log'!$L$18:$L$1017),0)","v":0},{"$f":"IFERROR($E281*SUMIF('Daily Log'!$N$18:$N$1017,$B281,'Daily Log'!$O$18:$O$1017),0)","v":0},{"$f":"IFERROR($E281*SUMIF('Daily Log'!$Q$18:$Q$1017,$B281,'Daily Log'!$R$18:$R$1017),0)","v":0},{"$f":"IFERROR($E281*SUMIF('Daily Log'!$T$18:$T$1017,$B281,'Daily Log'!$U$18:$U$1017),0)","v":0},{"$f":"IFERROR($E281*SUMIF('Daily Log'!$W$18:$W$1017,$B281,'Daily Log'!$X$18:$X$1017),0)","v":0},{"$f":"IFERROR($E281*SUMIF('Daily Log'!$Z$18:$Z$1017,$B281,'Daily Log'!$AA$18:$AA$1017),0)","v":0},{"$f":"IFERROR($E281*SUMIF('Daily Log'!$AC$18:$AC$1017,$B281,'Daily Log'!$AD$18:$AD$1017),0)","v":0},{"$f":"IFERROR($E281*SUMIF('Daily Log'!$AF$18:$AF$1017,$B281,'Daily Log'!$AG$18:$AG$1017),0)","v":0},{"$f":"IFERROR($E281*SUMIF('Daily Log'!$AI$18:$AI$1017,$B281,'Daily Log'!$AJ$18:$AJ$1017),0)","v":0},{"$f":"IFERROR($E281*SUMIF('Daily Log'!$AL$18:$AL$1017,$B281,'Daily Log'!$AM$18:$AM$1017),0)","v":0},{"$f":"IFERROR($E281*SUMIF('Daily Log'!$AO$18:$AO$1017,$B281,'Daily Log'!$AP$18:$AP$1017),0)","v":0},{"$f":"IFERROR($E281*SUMIF('Daily Log'!$AR$18:$AR$1017,$B281,'Daily Log'!$AS$18:$AS$1017),0)","v":0},{"$f":"IFERROR($E281*SUMIF('Daily Log'!$AU$18:$AU$1017,$B281,'Daily Log'!$AV$18:$AV$1017),0)","v":0},{"$f":"IFERROR($E281*SUMIF('Daily Log'!$AX$18:$AX$1017,$B281,'Daily Log'!$AY$18:$AY$1017),0)","v":0},{"$f":"IFERROR($E281*SUMIF('Daily Log'!$BA$18:$BA$1017,$B281,'Daily Log'!$BB$18:$BB$1017),0)","v":0},{"$f":"IFERROR($E281*SUMIF('Daily Log'!$BD$18:$BD$1017,$B281,'Daily Log'!$BE$18:$BE$1017),0)","v":0},{"$f":"IFERROR($E281*SUMIF('Daily Log'!$BG$18:$BG$1017,$B281,'Daily Log'!$BH$18:$BH$1017),0)","v":0},{"$f":"IFERROR($E281*SUMIF('Daily Log'!$BJ$18:$BJ$1017,$B281,'Daily Log'!$BK$18:$BK$1017),0)","v":0},{"$f":"IFERROR($E281*SUMIF('Daily Log'!$BM$18:$BM$1017,$B281,'Daily Log'!$BN$18:$BN$1017),0)","v":0},{"$f":"IFERROR($E281*SUMIF('Daily Log'!$BP$18:$BP$1017,$B281,'Daily Log'!$BQ$18:$BQ$1017),0)","v":0},{"$f":"IFERROR($E281*SUMIF('Daily Log'!$BS$18:$BS$1017,$B281,'Daily Log'!$BT$18:$BT$1017),0)","v":0},{"$f":"IFERROR($E281*SUMIF('Daily Log'!$BV$18:$BV$1017,$B281,'Daily Log'!$BW$18:$BW$1017),0)","v":0},{"$f":"IFERROR($E281*SUMIF('Daily Log'!$BY$18:$BY$1017,$B281,'Daily Log'!$BZ$18:$BZ$1017),0)","v":0},{"$f":"IFERROR($E281*SUMIF('Daily Log'!$CB$18:$CB$1017,$B281,'Daily Log'!$CC$18:$CC$1017),0)","v":0},{"$f":"IFERROR($E281*SUMIF('Daily Log'!$CE$18:$CE$1017,$B281,'Daily Log'!$CF$18:$CF$1017),0)","v":0},{"$f":"IFERROR($E281*SUMIF('Daily Log'!$CH$18:$CH$1017,$B281,'Daily Log'!$CI$18:$CI$1017),0)","v":0},{"$f":"IFERROR($E281*SUMIF('Daily Log'!$CK$18:$CK$1017,$B281,'Daily Log'!$CL$18:$CL$1017),0)","v":0},{"$f":"IFERROR($E281*SUMIF('Daily Log'!$CN$18:$CN$1017,$B281,'Daily Log'!$CO$18:$CO$1017),0)","v":0}]
[null,null,null,null,1,0,{"$f":"IFERROR($E282*SUMIF('Daily Log'!$B$18:$B$1017,$B282,'Daily Log'!$C$18:$C$1017),0)","v":0},{"$f":"IFERROR($E282*SUMIF('Daily Log'!$E$18:$E$1017,$B282,'Daily Log'!$F$18:$F$1017),0)","v":0},{"$f":"IFERROR($E282*SUMIF('Daily Log'!$H$18:$H$1017,$B282,'Daily Log'!$I$18:$I$1017),0)","v":0},{"$f":"IFERROR($E282*SUMIF('Daily Log'!$K$18:$K$1017,$B282,'Daily Log'!$L$18:$L$1017),0)","v":0},{"$f":"IFERROR($E282*SUMIF('Daily Log'!$N$18:$N$1017,$B282,'Daily Log'!$O$18:$O$1017),0)","v":0},{"$f":"IFERROR($E282*SUMIF('Daily Log'!$Q$18:$Q$1017,$B282,'Daily Log'!$R$18:$R$1017),0)","v":0},{"$f":"IFERROR($E282*SUMIF('Daily Log'!$T$18:$T$1017,$B282,'Daily Log'!$U$18:$U$1017),0)","v":0},{"$f":"IFERROR($E282*SUMIF('Daily Log'!$W$18:$W$1017,$B282,'Daily Log'!$X$18:$X$1017),0)","v":0},{"$f":"IFERROR($E282*SUMIF('Daily Log'!$Z$18:$Z$1017,$B282,'Daily Log'!$AA$18:$AA$1017),0)","v":0},{"$f":"IFERROR($E282*SUMIF('Daily Log'!$AC$18:$AC$1017,$B282,'Daily Log'!$AD$18:$AD$1017),0)","v":0},{"$f":"IFERROR($E282*SUMIF('Daily Log'!$AF$18:$AF$1017,$B282,'Daily Log'!$AG$18:$AG$1017),0)","v":0},{"$f":"IFERROR($E282*SUMIF('Daily Log'!$AI$18:$AI$1017,$B282,'Daily Log'!$AJ$18:$AJ$1017),0)","v":0},{"$f":"IFERROR($E282*SUMIF('Daily Log'!$AL$18:$AL$1017,$B282,'Daily Log'!$AM$18:$AM$1017),0)","v":0},{"$f":"IFERROR($E282*SUMIF('Daily Log'!$AO$18:$AO$1017,$B282,'Daily Log'!$AP$18:$AP$1017),0)","v":0},{"$f":"IFERROR($E282*SUMIF('Daily Log'!$AR$18:$AR$1017,$B282,'Daily Log'!$AS$18:$AS$1017),0)","v":0},{"$f":"IFERROR($E282*SUMIF('Daily Log'!$AU$18:$AU$1017,$B282,'Daily Log'!$AV$18:$AV$1017),0)","v":0},{"$f":"IFERROR($E282*SUMIF('Daily Log'!$AX$18:$AX$1017,$B282,'Daily Log'!$AY$18:$AY$1017),0)","v":0},{"$f":"IFERROR($E282*SUMIF('Daily Log'!$BA$18:$BA$1017,$B282,'Daily Log'!$BB$18:$BB$1017),0)","v":0},{"$f":"IFERROR($E282*SUMIF('Daily Log'!$BD$18:$BD$1017,$B282,'Daily Log'!$BE$18:$BE$1017),0)","v":0},{"$f":"IFERROR($E282*SUMIF('Daily Log'!$BG$18:$BG$1017,$B282,'Daily Log'!$BH$18:$BH$1017),0)","v":0},{"$f":"IFERROR($E282*SUMIF('Daily Log'!$BJ$18:$BJ$1017,$B282,'Daily Log'!$BK$18:$BK$1017),0)","v":0},{"$f":"IFERROR($E282*SUMIF('Daily Log'!$BM$18:$BM$1017,$B282,'Daily Log'!$BN$18:$BN$1017),0)","v":0},{"$f":"IFERROR($E282*SUMIF('Daily Log'!$BP$18:$BP$1017,$B282,'Daily Log'!$BQ$18:$BQ$1017),0)","v":0},{"$f":"IFERROR($E282*SUMIF('Daily Log'!$BS$18:$BS$1017,$B282,'Daily Log'!$BT$18:$BT$1017),0)","v":0},{"$f":"IFERROR($E282*SUMIF('Daily Log'!$BV$18:$BV$1017,$B282,'Daily Log'!$BW$18:$BW$1017),0)","v":0},{"$f":"IFERROR($E282*SUMIF('Daily Log'!$BY$18:$BY$1017,$B282,'Daily Log'!$BZ$18:$BZ$1017),0)","v":0},{"$f":"IFERROR($E282*SUMIF('Daily Log'!$CB$18:$CB$1017,$B282,'Daily Log'!$CC$18:$CC$1017),0)","v":0},{"$f":"IFERROR($E282*SUMIF('Daily Log'!$CE$18:$CE$1017,$B282,'Daily Log'!$CF$18:$CF$1017),0)","v":0},{"$f":"IFERROR($E282*SUMIF('Daily Log'!$CH$18:$CH$1017,$B282,'Daily Log'!$CI$18:$CI$1017),0)","v":0},{"$f":"IFERROR($E282*SUMIF('Daily Log'!$CK$18:$CK$1017,$B282,'Daily Log'!$CL$18:$CL$1017),0)","v":0},{"$f":"IFERROR($E282*SUMIF('Daily Log'!$CN$18:$CN$1017,$B282,'Daily Log'!$CO$18:$CO$1017),0)","v":0}]
[null,null,null,null,1,0,{"$f":"IFERROR($E283*SUMIF('Daily Log'!$B$18:$B$1017,$B283,'Daily Log'!$C$18:$C$1017),0)","v":0},{"$f":"IFERROR($E283*SUMIF('Daily Log'!$E$18:$E$1017,$B283,'Daily Log'!$F$18:$F$1017),0)","v":0},{"$f":"IFERROR($E283*SUMIF('Daily Log'!$H$18:$H$1017,$B283,'Daily Log'!$I$18:$I$1017),0)","v":0},{"$f":"IFERROR($E283*SUMIF('Daily Log'!$K$18:$K$1017,$B283,'Daily Log'!$L$18:$L$1017),0)","v":0},{"$f":"IFERROR($E283*SUMIF('Daily Log'!$N$18:$N$1017,$B283,'Daily Log'!$O$18:$O$1017),0)","v":0},{"$f":"IFERROR($E283*SUMIF('Daily Log'!$Q$18:$Q$1017,$B283,'Daily Log'!$R$18:$R$1017),0)","v":0},{"$f":"IFERROR($E283*SUMIF('Daily Log'!$T$18:$T$1017,$B283,'Daily Log'!$U$18:$U$1017),0)","v":0},{"$f":"IFERROR($E283*SUMIF('Daily Log'!$W$18:$W$1017,$B283,'Daily Log'!$X$18:$X$1017),0)","v":0},{"$f":"IFERROR($E283*SUMIF('Daily Log'!$Z$18:$Z$1017,$B283,'Daily Log'!$AA$18:$AA$1017),0)","v":0},{"$f":"IFERROR($E283*SUMIF('Daily Log'!$AC$18:$AC$1017,$B283,'Daily Log'!$AD$18:$AD$1017),0)","v":0},{"$f":"IFERROR($E283*SUMIF('Daily Log'!$AF$18:$AF$1017,$B283,'Daily Log'!$AG$18:$AG$1017),0)","v":0},{"$f":"IFERROR($E283*SUMIF('Daily Log'!$AI$18:$AI$1017,$B283,'Daily Log'!$AJ$18:$AJ$1017),0)","v":0},{"$f":"IFERROR($E283*SUMIF('Daily Log'!$AL$18:$AL$1017,$B283,'Daily Log'!$AM$18:$AM$1017),0)","v":0},{"$f":"IFERROR($E283*SUMIF('Daily Log'!$AO$18:$AO$1017,$B283,'Daily Log'!$AP$18:$AP$1017),0)","v":0},{"$f":"IFERROR($E283*SUMIF('Daily Log'!$AR$18:$AR$1017,$B283,'Daily Log'!$AS$18:$AS$1017),0)","v":0},{"$f":"IFERROR($E283*SUMIF('Daily Log'!$AU$18:$AU$1017,$B283,'Daily Log'!$AV$18:$AV$1017),0)","v":0},{"$f":"IFERROR($E283*SUMIF('Daily Log'!$AX$18:$AX$1017,$B283,'Daily Log'!$AY$18:$AY$1017),0)","v":0},{"$f":"IFERROR($E283*SUMIF('Daily Log'!$BA$18:$BA$1017,$B283,'Daily Log'!$BB$18:$BB$1017),0)","v":0},{"$f":"IFERROR($E283*SUMIF('Daily Log'!$BD$18:$BD$1017,$B283,'Daily Log'!$BE$18:$BE$1017),0)","v":0},{"$f":"IFERROR($E283*SUMIF('Daily Log'!$BG$18:$BG$1017,$B283,'Daily Log'!$BH$18:$BH$1017),0)","v":0},{"$f":"IFERROR($E283*SUMIF('Daily Log'!$BJ$18:$BJ$1017,$B283,'Daily Log'!$BK$18:$BK$1017),0)","v":0},{"$f":"IFERROR($E283*SUMIF('Daily Log'!$BM$18:$BM$1017,$B283,'Daily Log'!$BN$18:$BN$1017),0)","v":0},{"$f":"IFERROR($E283*SUMIF('Daily Log'!$BP$18:$BP$1017,$B283,'Daily Log'!$BQ$18:$BQ$1017),0)","v":0},{"$f":"IFERROR($E283*SUMIF('Daily Log'!$BS$18:$BS$1017,$B283,'Daily Log'!$BT$18:$BT$1017),0)","v":0},{"$f":"IFERROR($E283*SUMIF('Daily Log'!$BV$18:$BV$1017,$B283,'Daily Log'!$BW$18:$BW$1017),0)","v":0},{"$f":"IFERROR($E283*SUMIF('Daily Log'!$BY$18:$BY$1017,$B283,'Daily Log'!$BZ$18:$BZ$1017),0)","v":0},{"$f":"IFERROR($E283*SUMIF('Daily Log'!$CB$18:$CB$1017,$B283,'Daily Log'!$CC$18:$CC$1017),0)","v":0},{"$f":"IFERROR($E283*SUMIF('Daily Log'!$CE$18:$CE$1017,$B283,'Daily Log'!$CF$18:$CF$1017),0)","v":0},{"$f":"IFERROR($E283*SUMIF('Daily Log'!$CH$18:$CH$1017,$B283,'Daily Log'!$CI$18:$CI$1017),0)","v":0},{"$f":"IFERROR($E283*SUMIF('Daily Log'!$CK$18:$CK$1017,$B283,'Daily Log'!$CL$18:$CL$1017),0)","v":0},{"$f":"IFERROR($E283*SUMIF('Daily Log'!$CN$18:$CN$1017,$B283,'Daily Log'!$CO$18:$CO$1017),0)","v":0}]
[null,null,null,null,1,0,{"$f":"IFERROR($E284*SUMIF('Daily Log'!$B$18:$B$1017,$B284,'Daily Log'!$C$18:$C$1017),0)","v":0},{"$f":"IFERROR($E284*SUMIF('Daily Log'!$E$18:$E$1017,$B284,'Daily Log'!$F$18:$F$1017),0)","v":0},{"$f":"IFERROR($E284*SUMIF('Daily Log'!$H$18:$H$1017,$B284,'Daily Log'!$I$18:$I$1017),0)","v":0},{"$f":"IFERROR($E284*SUMIF('Daily Log'!$K$18:$K$1017,$B284,'Daily Log'!$L$18:$L$1017),0)","v":0},{"$f":"IFERROR($E284*SUMIF('Daily Log'!$N$18:$N$1017,$B284,'Daily Log'!$O$18:$O$1017),0)","v":0},{"$f":"IFERROR($E284*SUMIF('Daily Log'!$Q$18:$Q$1017,$B284,'Daily Log'!$R$18:$R$1017),0)","v":0},{"$f":"IFERROR($E284*SUMIF('Daily Log'!$T$18:$T$1017,$B284,'Daily Log'!$U$18:$U$1017),0)","v":0},{"$f":"IFERROR($E284*SUMIF('Daily Log'!$W$18:$W$1017,$B284,'Daily Log'!$X$18:$X$1017),0)","v":0},{"$f":"IFERROR($E284*SUMIF('Daily Log'!$Z$18:$Z$1017,$B284,'Daily Log'!$AA$18:$AA$1017),0)","v":0},{"$f":"IFERROR($E284*SUMIF('Daily Log'!$AC$18:$AC$1017,$B284,'Daily Log'!$AD$18:$AD$1017),0)","v":0},{"$f":"IFERROR($E284*SUMIF('Daily Log'!$AF$18:$AF$1017,$B284,'Daily Log'!$AG$18:$AG$1017),0)","v":0},{"$f":"IFERROR($E284*SUMIF('Daily Log'!$AI$18:$AI$1017,$B284,'Daily Log'!$AJ$18:$AJ$1017),0)","v":0},{"$f":"IFERROR($E284*SUMIF('Daily Log'!$AL$18:$AL$1017,$B284,'Daily Log'!$AM$18:$AM$1017),0)","v":0},{"$f":"IFERROR($E284*SUMIF('Daily Log'!$AO$18:$AO$1017,$B284,'Daily Log'!$AP$18:$AP$1017),0)","v":0},{"$f":"IFERROR($E284*SUMIF('Daily Log'!$AR$18:$AR$1017,$B284,'Daily Log'!$AS$18:$AS$1017),0)","v":0},{"$f":"IFERROR($E284*SUMIF('Daily Log'!$AU$18:$AU$1017,$B284,'Daily Log'!$AV$18:$AV$1017),0)","v":0},{"$f":"IFERROR($E284*SUMIF('Daily Log'!$AX$18:$AX$1017,$B284,'Daily Log'!$AY$18:$AY$1017),0)","v":0},{"$f":"IFERROR($E284*SUMIF('Daily Log'!$BA$18:$BA$1017,$B284,'Daily Log'!$BB$18:$BB$1017),0)","v":0},{"$f":"IFERROR($E284*SUMIF('Daily Log'!$BD$18:$BD$1017,$B284,'Daily Log'!$BE$18:$BE$1017),0)","v":0},{"$f":"IFERROR($E284*SUMIF('Daily Log'!$BG$18:$BG$1017,$B284,'Daily Log'!$BH$18:$BH$1017),0)","v":0},{"$f":"IFERROR($E284*SUMIF('Daily Log'!$BJ$18:$BJ$1017,$B284,'Daily Log'!$BK$18:$BK$1017),0)","v":0},{"$f":"IFERROR($E284*SUMIF('Daily Log'!$BM$18:$BM$1017,$B284,'Daily Log'!$BN$18:$BN$1017),0)","v":0},{"$f":"IFERROR($E284*SUMIF('Daily Log'!$BP$18:$BP$1017,$B284,'Daily Log'!$BQ$18:$BQ$1017),0)","v":0},{"$f":"IFERROR($E284*SUMIF('Daily Log'!$BS$18:$BS$1017,$B284,'Daily Log'!$BT$18:$BT$1017),0)","v":0},{"$f":"IFERROR($E284*SUMIF('Daily Log'!$BV$18:$BV$1017,$B284,'Daily Log'!$BW$18:$BW$1017),0)","v":0},{"$f":"IFERROR($E284*SUMIF('Daily Log'!$BY$18:$BY$1017,$B284,'Daily Log'!$BZ$18:$BZ$1017),0)","v":0},{"$f":"IFERROR($E284*SUMIF('Daily Log'!$CB$18:$CB$1017,$B284,'Daily Log'!$CC$18:$CC$1017),0)","v":0},{"$f":"IFERROR($E284*SUMIF('Daily Log'!$CE$18:$CE$1017,$B284,'Daily Log'!$CF$18:$CF$1017),0)","v":0},{"$f":"IFERROR($E284*SUMIF('Daily Log'!$CH$18:$CH$1017,$B284,'Daily Log'!$CI$18:$CI$1017),0)","v":0},{"$f":"IFERROR($E284*SUMIF('Daily Log'!$CK$18:$CK$1017,$B284,'Daily Log'!$CL$18:$CL$1017),0)","v":0},{"$f":"IFERROR($E284*SUMIF('Daily Log'!$CN$18:$CN$1017,$B284,'Daily Log'!$CO$18:$CO$1017),0)","v":0}]
[null,null,null,null,1,0,{"$f":"IFERROR($E285*SUMIF('Daily Log'!$B$18:$B$1017,$B285,'Daily Log'!$C$18:$C$1017),0)","v":0},{"$f":"IFERROR($E285*SUMIF('Daily Log'!$E$18:$E$1017,$B285,'Daily Log'!$F$18:$F$1017),0)","v":0},{"$f":"IFERROR($E285*SUMIF('Daily Log'!$H$18:$H$1017,$B285,'Daily Log'!$I$18:$I$1017),0)","v":0},{"$f":"IFERROR($E285*SUMIF('Daily Log'!$K$18:$K$1017,$B285,'Daily Log'!$L$18:$L$1017),0)","v":0},{"$f":"IFERROR($E285*SUMIF('Daily Log'!$N$18:$N$1017,$B285,'Daily Log'!$O$18:$O$1017),0)","v":0},{"$f":"IFERROR($E285*SUMIF('Daily Log'!$Q$18:$Q$1017,$B285,'Daily Log'!$R$18:$R$1017),0)","v":0},{"$f":"IFERROR($E285*SUMIF('Daily Log'!$T$18:$T$1017,$B285,'Daily Log'!$U$18:$U$1017),0)","v":0},{"$f":"IFERROR($E285*SUMIF('Daily Log'!$W$18:$W$1017,$B285,'Daily Log'!$X$18:$X$1017),0)","v":0},{"$f":"IFERROR($E285*SUMIF('Daily Log'!$Z$18:$Z$1017,$B285,'Daily Log'!$AA$18:$AA$1017),0)","v":0},{"$f":"IFERROR($E285*SUMIF('Daily Log'!$AC$18:$AC$1017,$B285,'Daily Log'!$AD$18:$AD$1017),0)","v":0},{"$f":"IFERROR($E285*SUMIF('Daily Log'!$AF$18:$AF$1017,$B285,'Daily Log'!$AG$18:$AG$1017),0)","v":0},{"$f":"IFERROR($E285*SUMIF('Daily Log'!$AI$18:$AI$1017,$B285,'Daily Log'!$AJ$18:$AJ$1017),0)","v":0},{"$f":"IFERROR($E285*SUMIF('Daily Log'!$AL$18:$AL$1017,$B285,'Daily Log'!$AM$18:$AM$1017),0)","v":0},{"$f":"IFERROR($E285*SUMIF('Daily Log'!$AO$18:$AO$1017,$B285,'Daily Log'!$AP$18:$AP$1017),0)","v":0},{"$f":"IFERROR($E285*SUMIF('Daily Log'!$AR$18:$AR$1017,$B285,'Daily Log'!$AS$18:$AS$1017),0)","v":0},{"$f":"IFERROR($E285*SUMIF('Daily Log'!$AU$18:$AU$1017,$B285,'Daily Log'!$AV$18:$AV$1017),0)","v":0},{"$f":"IFERROR($E285*SUMIF('Daily Log'!$AX$18:$AX$1017,$B285,'Daily Log'!$AY$18:$AY$1017),0)","v":0},{"$f":"IFERROR($E285*SUMIF('Daily Log'!$BA$18:$BA$1017,$B285,'Daily Log'!$BB$18:$BB$1017),0)","v":0},{"$f":"IFERROR($E285*SUMIF('Daily Log'!$BD$18:$BD$1017,$B285,'Daily Log'!$BE$18:$BE$1017),0)","v":0},{"$f":"IFERROR($E285*SUMIF('Daily Log'!$BG$18:$BG$1017,$B285,'Daily Log'!$BH$18:$BH$1017),0)","v":0},{"$f":"IFERROR($E285*SUMIF('Daily Log'!$BJ$18:$BJ$1017,$B285,'Daily Log'!$BK$18:$BK$1017),0)","v":0},{"$f":"IFERROR($E285*SUMIF('Daily Log'!$BM$18:$BM$1017,$B285,'Daily Log'!$BN$18:$BN$1017),0)","v":0},{"$f":"IFERROR($E285*SUMIF('Daily Log'!$BP$18:$BP$1017,$B285,'Daily Log'!$BQ$18:$BQ$1017),0)","v":0},{"$f":"IFERROR($E285*SUMIF('Daily Log'!$BS$18:$BS$1017,$B285,'Daily Log'!$BT$18:$BT$1017),0)","v":0},{"$f":"IFERROR($E285*SUMIF('Daily Log'!$BV$18:$BV$1017,$B285,'Daily Log'!$BW$18:$BW$1017),0)","v":0},{"$f":"IFERROR($E285*SUMIF('Daily Log'!$BY$18:$BY$1017,$B285,'Daily Log'!$BZ$18:$BZ$1017),0)","v":0},{"$f":"IFERROR($E285*SUMIF('Daily Log'!$CB$18:$CB$1017,$B285,'Daily Log'!$CC$18:$CC$1017),0)","v":0},{"$f":"IFERROR($E285*SUMIF('Daily Log'!$CE$18:$CE$1017,$B285,'Daily Log'!$CF$18:$CF$1017),0)","v":0},{"$f":"IFERROR($E285*SUMIF('Daily Log'!$CH$18:$CH$1017,$B285,'Daily Log'!$CI$18:$CI$1017),0)","v":0},{"$f":"IFERROR($E285*SUMIF('Daily Log'!$CK$18:$CK$1017,$B285,'Daily Log'!$CL$18:$CL$1017),0)","v":0},{"$f":"IFERROR($E285*SUMIF('Daily Log'!$CN$18:$CN$1017,$B285,'Daily Log'!$CO$18:$CO$1017),0)","v":0}]
[null,null,null,null,3,0,{"$f":"IFERROR($E286*SUMIF('Daily Log'!$B$18:$B$1017,$B286,'Daily Log'!$C$18:$C$1017),0)","v":0},{"$f":"IFERROR($E286*SUMIF('Daily Log'!$E$18:$E$1017,$B286,'Daily Log'!$F$18:$F$1017),0)","v":0},{"$f":"IFERROR($E286*SUMIF('Daily Log'!$H$18:$H$1017,$B286,'Daily Log'!$I$18:$I$1017),0)","v":0},{"$f":"IFERROR($E286*SUMIF('Daily Log'!$K$18:$K$1017,$B286,'Daily Log'!$L$18:$L$1017),0)","v":0},{"$f":"IFERROR($E286*SUMIF('Daily Log'!$N$18:$N$1017,$B286,'Daily Log'!$O$18:$O$1017),0)","v":0},{"$f":"IFERROR($E286*SUMIF('Daily Log'!$Q$18:$Q$1017,$B286,'Daily Log'!$R$18:$R$1017),0)","v":0},{"$f":"IFERROR($E286*SUMIF('Daily Log'!$T$18:$T$1017,$B286,'Daily Log'!$U$18:$U$1017),0)","v":0},{"$f":"IFERROR($E286*SUMIF('Daily Log'!$W$18:$W$1017,$B286,'Daily Log'!$X$18:$X$1017),0)","v":0},{"$f":"IFERROR($E286*SUMIF('Daily Log'!$Z$18:$Z$1017,$B286,'Daily Log'!$AA$18:$AA$1017),0)","v":0},{"$f":"IFERROR($E286*SUMIF('Daily Log'!$AC$18:$AC$1017,$B286,'Daily Log'!$AD$18:$AD$1017),0)","v":0},{"$f":"IFERROR($E286*SUMIF('Daily Log'!$AF$18:$AF$1017,$B286,'Daily Log'!$AG$18:$AG$1017),0)","v":0},{"$f":"IFERROR($E286*SUMIF('Daily Log'!$AI$18:$AI$1017,$B286,'Daily Log'!$AJ$18:$AJ$1017),0)","v":0},{"$f":"IFERROR($E286*SUMIF('Daily Log'!$AL$18:$AL$1017,$B286,'Daily Log'!$AM$18:$AM$1017),0)","v":0},{"$f":"IFERROR($E286*SUMIF('Daily Log'!$AO$18:$AO$1017,$B286,'Daily Log'!$AP$18:$AP$1017),0)","v":0},{"$f":"IFERROR($E286*SUMIF('Daily Log'!$AR$18:$AR$1017,$B286,'Daily Log'!$AS$18:$AS$1017),0)","v":0},{"$f":"IFERROR($E286*SUMIF('Daily Log'!$AU$18:$AU$1017,$B286,'Daily Log'!$AV$18:$AV$1017),0)","v":0},{"$f":"IFERROR($E286*SUMIF('Daily Log'!$AX$18:$AX$1017,$B286,'Daily Log'!$AY$18:$AY$1017),0)","v":0},{"$f":"IFERROR($E286*SUMIF('Daily Log'!$BA$18:$BA$1017,$B286,'Daily Log'!$BB$18:$BB$1017),0)","v":0},{"$f":"IFERROR($E286*SUMIF('Daily Log'!$BD$18:$BD$1017,$B286,'Daily Log'!$BE$18:$BE$1017),0)","v":0},{"$f":"IFERROR($E286*SUMIF('Daily Log'!$BG$18:$BG$1017,$B286,'Daily Log'!$BH$18:$BH$1017),0)","v":0},{"$f":"IFERROR($E286*SUMIF('Daily Log'!$BJ$18:$BJ$1017,$B286,'Daily Log'!$BK$18:$BK$1017),0)","v":0},{"$f":"IFERROR($E286*SUMIF('Daily Log'!$BM$18:$BM$1017,$B286,'Daily Log'!$BN$18:$BN$1017),0)","v":0},{"$f":"IFERROR($E286*SUMIF('Daily Log'!$BP$18:$BP$1017,$B286,'Daily Log'!$BQ$18:$BQ$1017),0)","v":0},{"$f":"IFERROR($E286*SUMIF('Daily Log'!$BS$18:$BS$1017,$B286,'Daily Log'!$BT$18:$BT$1017),0)","v":0},{"$f":"IFERROR($E286*SUMIF('Daily Log'!$BV$18:$BV$1017,$B286,'Daily Log'!$BW$18:$BW$1017),0)","v":0},{"$f":"IFERROR($E286*SUMIF('Daily Log'!$BY$18:$BY$1017,$B286,'Daily Log'!$BZ$18:$BZ$1017),0)","v":0},{"$f":"IFERROR($E286*SUMIF('Daily Log'!$CB$18:$CB$1017,$B286,'Daily Log'!$CC$18:$CC$1017),0)","v":0},{"$f":"IFERROR($E286*SUMIF('Daily Log'!$CE$18:$CE$1017,$B286,'Daily Log'!$CF$18:$CF$1017),0)","v":0},{"$f":"IFERROR($E286*SUMIF('Daily Log'!$CH$18:$CH$1017,$B286,'Daily Log'!$CI$18:$CI$1017),0)","v":0},{"$f":"IFERROR($E286*SUMIF('Daily Log'!$CK$18:$CK$1017,$B286,'Daily Log'!$CL$18:$CL$1017),0)","v":0},{"$f":"IFERROR($E286*SUMIF('Daily Log'!$CN$18:$CN$1017,$B286,'Daily Log'!$CO$18:$CO$1017),0)","v":0}]
[null,null,null,null,1,0,{"$f":"IFERROR($E287*SUMIF('Daily Log'!$B$18:$B$1017,$B287,'Daily Log'!$C$18:$C$1017),0)","v":0},{"$f":"IFERROR($E287*SUMIF('Daily Log'!$E$18:$E$1017,$B287,'Daily Log'!$F$18:$F$1017),0)","v":0},{"$f":"IFERROR($E287*SUMIF('Daily Log'!$H$18:$H$1017,$B287,'Daily Log'!$I$18:$I$1017),0)","v":0},{"$f":"IFERROR($E287*SUMIF('Daily Log'!$K$18:$K$1017,$B287,'Daily Log'!$L$18:$L$1017),0)","v":0},{"$f":"IFERROR($E287*SUMIF('Daily Log'!$N$18:$N$1017,$B287,'Daily Log'!$O$18:$O$1017),0)","v":0},{"$f":"IFERROR($E287*SUMIF('Daily Log'!$Q$18:$Q$1017,$B287,'Daily Log'!$R$18:$R$1017),0)","v":0},{"$f":"IFERROR($E287*SUMIF('Daily Log'!$T$18:$T$1017,$B287,'Daily Log'!$U$18:$U$1017),0)","v":0},{"$f":"IFERROR($E287*SUMIF('Daily Log'!$W$18:$W$1017,$B287,'Daily Log'!$X$18:$X$1017),0)","v":0},{"$f":"IFERROR($E287*SUMIF('Daily Log'!$Z$18:$Z$1017,$B287,'Daily Log'!$AA$18:$AA$1017),0)","v":0},{"$f":"IFERROR($E287*SUMIF('Daily Log'!$AC$18:$AC$1017,$B287,'Daily Log'!$AD$18:$AD$1017),0)","v":0},{"$f":"IFERROR($E287*SUMIF('Daily Log'!$AF$18:$AF$1017,$B287,'Daily Log'!$AG$18:$AG$1017),0)","v":0},{"$f":"IFERROR($E287*SUMIF('Daily Log'!$AI$18:$AI$1017,$B287,'Daily Log'!$AJ$18:$AJ$1017),0)","v":0},{"$f":"IFERROR($E287*SUMIF('Daily Log'!$AL$18:$AL$1017,$B287,'Daily Log'!$AM$18:$AM$1017),0)","v":0},{"$f":"IFERROR($E287*SUMIF('Daily Log'!$AO$18:$AO$1017,$B287,'Daily Log'!$AP$18:$AP$1017),0)","v":0},{"$f":"IFERROR($E287*SUMIF('Daily Log'!$AR$18:$AR$1017,$B287,'Daily Log'!$AS$18:$AS$1017),0)","v":0},{"$f":"IFERROR($E287*SUMIF('Daily Log'!$AU$18:$AU$1017,$B287,'Daily Log'!$AV$18:$AV$1017),0)","v":0},{"$f":"IFERROR($E287*SUMIF('Daily Log'!$AX$18:$AX$1017,$B287,'Daily Log'!$AY$18:$AY$1017),0)","v":0},{"$f":"IFERROR($E287*SUMIF('Daily Log'!$BA$18:$BA$1017,$B287,'Daily Log'!$BB$18:$BB$1017),0)","v":0},{"$f":"IFERROR($E287*SUMIF('Daily Log'!$BD$18:$BD$1017,$B287,'Daily Log'!$BE$18:$BE$1017),0)","v":0},{"$f":"IFERROR($E287*SUMIF('Daily Log'!$BG$18:$BG$1017,$B287,'Daily Log'!$BH$18:$BH$1017),0)","v":0},{"$f":"IFERROR($E287*SUMIF('Daily Log'!$BJ$18:$BJ$1017,$B287,'Daily Log'!$BK$18:$BK$1017),0)","v":0},{"$f":"IFERROR($E287*SUMIF('Daily Log'!$BM$18:$BM$1017,$B287,'Daily Log'!$BN$18:$BN$1017),0)","v":0},{"$f":"IFERROR($E287*SUMIF('Daily Log'!$BP$18:$BP$1017,$B287,'Daily Log'!$BQ$18:$BQ$1017),0)","v":0},{"$f":"IFERROR($E287*SUMIF('Daily Log'!$BS$18:$BS$1017,$B287,'Daily Log'!$BT$18:$BT$1017),0)","v":0},{"$f":"IFERROR($E287*SUMIF('Daily Log'!$BV$18:$BV$1017,$B287,'Daily Log'!$BW$18:$BW$1017),0)","v":0},{"$f":"IFERROR($E287*SUMIF('Daily Log'!$BY$18:$BY$1017,$B287,'Daily Log'!$BZ$18:$BZ$1017),0)","v":0},{"$f":"IFERROR($E287*SUMIF('Daily Log'!$CB$18:$CB$1017,$B287,'Daily Log'!$CC$18:$CC$1017),0)","v":0},{"$f":"IFERROR($E287*SUMIF('Daily Log'!$CE$18:$CE$1017,$B287,'Daily Log'!$CF$18:$CF$1017),0)","v":0},{"$f":"IFERROR($E287*SUMIF('Daily Log'!$CH$18:$CH$1017,$B287,'Daily Log'!$CI$18:$CI$1017),0)","v":0},{"$f":"IFERROR($E287*SUMIF('Daily Log'!$CK$18:$CK$1017,$B287,'Daily Log'!$CL$18:$CL$1017),0)","v":0},{"$f":"IFERROR($E287*SUMIF('Daily Log'!$CN$18:$CN$1017,$B287,'Daily Log'!$CO$18:$CO$1017),0)","v":0}]
[null,null,null,null,1,0,{"$f":"IFERROR($E288*SUMIF('Daily Log'!$B$18:$B$1017,$B288,'Daily Log'!$C$18:$C$1017),0)","v":0},{"$f":"IFERROR($E288*SUMIF('Daily Log'!$E$18:$E$1017,$B288,'Daily Log'!$F$18:$F$1017),0)","v":0},{"$f":"IFERROR($E288*SUMIF('Daily Log'!$H$18:$H$1017,$B288,'Daily Log'!$I$18:$I$1017),0)","v":0},{"$f":"IFERROR($E288*SUMIF('Daily Log'!$K$18:$K$1017,$B288,'Daily Log'!$L$18:$L$1017),0)","v":0},{"$f":"IFERROR($E288*SUMIF('Daily Log'!$N$18:$N$1017,$B288,'Daily Log'!$O$18:$O$1017),0)","v":0},{"$f":"IFERROR($E288*SUMIF('Daily Log'!$Q$18:$Q$1017,$B288,'Daily Log'!$R$18:$R$1017),0)","v":0},{"$f":"IFERROR($E288*SUMIF('Daily Log'!$T$18:$T$1017,$B288,'Daily Log'!$U$18:$U$1017),0)","v":0},{"$f":"IFERROR($E288*SUMIF('Daily Log'!$W$18:$W$1017,$B288,'Daily Log'!$X$18:$X$1017),0)","v":0},{"$f":"IFERROR($E288*SUMIF('Daily Log'!$Z$18:$Z$1017,$B288,'Daily Log'!$AA$18:$AA$1017),0)","v":0},{"$f":"IFERROR($E288*SUMIF('Daily Log'!$AC$18:$AC$1017,$B288,'Daily Log'!$AD$18:$AD$1017),0)","v":0},{"$f":"IFERROR($E288*SUMIF('Daily Log'!$AF$18:$AF$1017,$B288,'Daily Log'!$AG$18:$AG$1017),0)","v":0},{"$f":"IFERROR($E288*SUMIF('Daily Log'!$AI$18:$AI$1017,$B288,'Daily Log'!$AJ$18:$AJ$1017),0)","v":0},{"$f":"IFERROR($E288*SUMIF('Daily Log'!$AL$18:$AL$1017,$B288,'Daily Log'!$AM$18:$AM$1017),0)","v":0},{"$f":"IFERROR($E288*SUMIF('Daily Log'!$AO$18:$AO$1017,$B288,'Daily Log'!$AP$18:$AP$1017),0)","v":0},{"$f":"IFERROR($E288*SUMIF('Daily Log'!$AR$18:$AR$1017,$B288,'Daily Log'!$AS$18:$AS$1017),0)","v":0},{"$f":"IFERROR($E288*SUMIF('Daily Log'!$AU$18:$AU$1017,$B288,'Daily Log'!$AV$18:$AV$1017),0)","v":0},{"$f":"IFERROR($E288*SUMIF('Daily Log'!$AX$18:$AX$1017,$B288,'Daily Log'!$AY$18:$AY$1017),0)","v":0},{"$f":"IFERROR($E288*SUMIF('Daily Log'!$BA$18:$BA$1017,$B288,'Daily Log'!$BB$18:$BB$1017),0)","v":0},{"$f":"IFERROR($E288*SUMIF('Daily Log'!$BD$18:$BD$1017,$B288,'Daily Log'!$BE$18:$BE$1017),0)","v":0},{"$f":"IFERROR($E288*SUMIF('Daily Log'!$BG$18:$BG$1017,$B288,'Daily Log'!$BH$18:$BH$1017),0)","v":0},{"$f":"IFERROR($E288*SUMIF('Daily Log'!$BJ$18:$BJ$1017,$B288,'Daily Log'!$BK$18:$BK$1017),0)","v":0},{"$f":"IFERROR($E288*SUMIF('Daily Log'!$BM$18:$BM$1017,$B288,'Daily Log'!$BN$18:$BN$1017),0)","v":0},{"$f":"IFERROR($E288*SUMIF('Daily Log'!$BP$18:$BP$1017,$B288,'Daily Log'!$BQ$18:$BQ$1017),0)","v":0},{"$f":"IFERROR($E288*SUMIF('Daily Log'!$BS$18:$BS$1017,$B288,'Daily Log'!$BT$18:$BT$1017),0)","v":0},{"$f":"IFERROR($E288*SUMIF('Daily Log'!$BV$18:$BV$1017,$B288,'Daily Log'!$BW$18:$BW$1017),0)","v":0},{"$f":"IFERROR($E288*SUMIF('Daily Log'!$BY$18:$BY$1017,$B288,'Daily Log'!$BZ$18:$BZ$1017),0)","v":0},{"$f":"IFERROR($E288*SUMIF('Daily Log'!$CB$18:$CB$1017,$B288,'Daily Log'!$CC$18:$CC$1017),0)","v":0},{"$f":"IFERROR($E288*SUMIF('Daily Log'!$CE$18:$CE$1017,$B288,'Daily Log'!$CF$18:$CF$1017),0)","v":0},{"$f":"IFERROR($E288*SUMIF('Daily Log'!$CH$18:$CH$1017,$B288,'Daily Log'!$CI$18:$CI$1017),0)","v":0},{"$f":"IFERROR($E288*SUMIF('Daily Log'!$CK$18:$CK$1017,$B288,'Daily Log'!$CL$18:$CL$1017),0)","v":0},{"$f":"IFERROR($E288*SUMIF('Daily Log'!$CN$18:$CN$1017,$B288,'Daily Log'!$CO$18:$CO$1017),0)","v":0}]
[null,null,null,null,1,0,{"$f":"IFERROR($E289*SUMIF('Daily Log'!$B$18:$B$1017,$B289,'Daily Log'!$C$18:$C$1017),0)","v":0},{"$f":"IFERROR($E289*SUMIF('Daily Log'!$E$18:$E$1017,$B289,'Daily Log'!$F$18:$F$1017),0)","v":0},{"$f":"IFERROR($E289*SUMIF('Daily Log'!$H$18:$H$1017,$B289,'Daily Log'!$I$18:$I$1017),0)","v":0},{"$f":"IFERROR($E289*SUMIF('Daily Log'!$K$18:$K$1017,$B289,'Daily Log'!$L$18:$L$1017),0)","v":0},{"$f":"IFERROR($E289*SUMIF('Daily Log'!$N$18:$N$1017,$B289,'Daily Log'!$O$18:$O$1017),0)","v":0},{"$f":"IFERROR($E289*SUMIF('Daily Log'!$Q$18:$Q$1017,$B289,'Daily Log'!$R$18:$R$1017),0)","v":0},{"$f":"IFERROR($E289*SUMIF('Daily Log'!$T$18:$T$1017,$B289,'Daily Log'!$U$18:$U$1017),0)","v":0},{"$f":"IFERROR($E289*SUMIF('Daily Log'!$W$18:$W$1017,$B289,'Daily Log'!$X$18:$X$1017),0)","v":0},{"$f":"IFERROR($E289*SUMIF('Daily Log'!$Z$18:$Z$1017,$B289,'Daily Log'!$AA$18:$AA$1017),0)","v":0},{"$f":"IFERROR($E289*SUMIF('Daily Log'!$AC$18:$AC$1017,$B289,'Daily Log'!$AD$18:$AD$1017),0)","v":0},{"$f":"IFERROR($E289*SUMIF('Daily Log'!$AF$18:$AF$1017,$B289,'Daily Log'!$AG$18:$AG$1017),0)","v":0},{"$f":"IFERROR($E289*SUMIF('Daily Log'!$AI$18:$AI$1017,$B289,'Daily Log'!$AJ$18:$AJ$1017),0)","v":0},{"$f":"IFERROR($E289*SUMIF('Daily Log'!$AL$18:$AL$1017,$B289,'Daily Log'!$AM$18:$AM$1017),0)","v":0},{"$f":"IFERROR($E289*SUMIF('Daily Log'!$AO$18:$AO$1017,$B289,'Daily Log'!$AP$18:$AP$1017),0)","v":0},{"$f":"IFERROR($E289*SUMIF('Daily Log'!$AR$18:$AR$1017,$B289,'Daily Log'!$AS$18:$AS$1017),0)","v":0},{"$f":"IFERROR($E289*SUMIF('Daily Log'!$AU$18:$AU$1017,$B289,'Daily Log'!$AV$18:$AV$1017),0)","v":0},{"$f":"IFERROR($E289*SUMIF('Daily Log'!$AX$18:$AX$1017,$B289,'Daily Log'!$AY$18:$AY$1017),0)","v":0},{"$f":"IFERROR($E289*SUMIF('Daily Log'!$BA$18:$BA$1017,$B289,'Daily Log'!$BB$18:$BB$1017),0)","v":0},{"$f":"IFERROR($E289*SUMIF('Daily Log'!$BD$18:$BD$1017,$B289,'Daily Log'!$BE$18:$BE$1017),0)","v":0},{"$f":"IFERROR($E289*SUMIF('Daily Log'!$BG$18:$BG$1017,$B289,'Daily Log'!$BH$18:$BH$1017),0)","v":0},{"$f":"IFERROR($E289*SUMIF('Daily Log'!$BJ$18:$BJ$1017,$B289,'Daily Log'!$BK$18:$BK$1017),0)","v":0},{"$f":"IFERROR($E289*SUMIF('Daily Log'!$BM$18:$BM$1017,$B289,'Daily Log'!$BN$18:$BN$1017),0)","v":0},{"$f":"IFERROR($E289*SUMIF('Daily Log'!$BP$18:$BP$1017,$B289,'Daily Log'!$BQ$18:$BQ$1017),0)","v":0},{"$f":"IFERROR($E289*SUMIF('Daily Log'!$BS$18:$BS$1017,$B289,'Daily Log'!$BT$18:$BT$1017),0)","v":0},{"$f":"IFERROR($E289*SUMIF('Daily Log'!$BV$18:$BV$1017,$B289,'Daily Log'!$BW$18:$BW$1017),0)","v":0},{"$f":"IFERROR($E289*SUMIF('Daily Log'!$BY$18:$BY$1017,$B289,'Daily Log'!$BZ$18:$BZ$1017),0)","v":0},{"$f":"IFERROR($E289*SUMIF('Daily Log'!$CB$18:$CB$1017,$B289,'Daily Log'!$CC$18:$CC$1017),0)","v":0},{"$f":"IFERROR($E289*SUMIF('Daily Log'!$CE$18:$CE$1017,$B289,'Daily Log'!$CF$18:$CF$1017),0)","v":0},{"$f":"IFERROR($E289*SUMIF('Daily Log'!$CH$18:$CH$1017,$B289,'Daily Log'!$CI$18:$CI$1017),0)","v":0},{"$f":"IFERROR($E289*SUMIF('Daily Log'!$CK$18:$CK$1017,$B289,'Daily Log'!$CL$18:$CL$1017),0)","v":0},{"$f":"IFERROR($E289*SUMIF('Daily Log'!$CN$18:$CN$1017,$B289,'Daily Log'!$CO$18:$CO$1017),0)","v":0}]
[null,null,null,null,1,0,{"$f":"IFERROR($E290*SUMIF('Daily Log'!$B$18:$B$1017,$B290,'Daily Log'!$C$18:$C$1017),0)","v":0},{"$f":"IFERROR($E290*SUMIF('Daily Log'!$E$18:$E$1017,$B290,'Daily Log'!$F$18:$F$1017),0)","v":0},{"$f":"IFERROR($E290*SUMIF('Daily Log'!$H$18:$H$1017,$B290,'Daily Log'!$I$18:$I$1017),0)","v":0},{"$f":"IFERROR($E290*SUMIF('Daily Log'!$K$18:$K$1017,$B290,'Daily Log'!$L$18:$L$1017),0)","v":0},{"$f":"IFERROR($E290*SUMIF('Daily Log'!$N$18:$N$1017,$B290,'Daily Log'!$O$18:$O$1017),0)","v":0},{"$f":"IFERROR($E290*SUMIF('Daily Log'!$Q$18:$Q$1017,$B290,'Daily Log'!$R$18:$R$1017),0)","v":0},{"$f":"IFERROR($E290*SUMIF('Daily Log'!$T$18:$T$1017,$B290,'Daily Log'!$U$18:$U$1017),0)","v":0},{"$f":"IFERROR($E290*SUMIF('Daily Log'!$W$18:$W$1017,$B290,'Daily Log'!$X$18:$X$1017),0)","v":0},{"$f":"IFERROR($E290*SUMIF('Daily Log'!$Z$18:$Z$1017,$B290,'Daily Log'!$AA$18:$AA$1017),0)","v":0},{"$f":"IFERROR($E290*SUMIF('Daily Log'!$AC$18:$AC$1017,$B290,'Daily Log'!$AD$18:$AD$1017),0)","v":0},{"$f":"IFERROR($E290*SUMIF('Daily Log'!$AF$18:$AF$1017,$B290,'Daily Log'!$AG$18:$AG$1017),0)","v":0},{"$f":"IFERROR($E290*SUMIF('Daily Log'!$AI$18:$AI$1017,$B290,'Daily Log'!$AJ$18:$AJ$1017),0)","v":0},{"$f":"IFERROR($E290*SUMIF('Daily Log'!$AL$18:$AL$1017,$B290,'Daily Log'!$AM$18:$AM$1017),0)","v":0},{"$f":"IFERROR($E290*SUMIF('Daily Log'!$AO$18:$AO$1017,$B290,'Daily Log'!$AP$18:$AP$1017),0)","v":0},{"$f":"IFERROR($E290*SUMIF('Daily Log'!$AR$18:$AR$1017,$B290,'Daily Log'!$AS$18:$AS$1017),0)","v":0},{"$f":"IFERROR($E290*SUMIF('Daily Log'!$AU$18:$AU$1017,$B290,'Daily Log'!$AV$18:$AV$1017),0)","v":0},{"$f":"IFERROR($E290*SUMIF('Daily Log'!$AX$18:$AX$1017,$B290,'Daily Log'!$AY$18:$AY$1017),0)","v":0},{"$f":"IFERROR($E290*SUMIF('Daily Log'!$BA$18:$BA$1017,$B290,'Daily Log'!$BB$18:$BB$1017),0)","v":0},{"$f":"IFERROR($E290*SUMIF('Daily Log'!$BD$18:$BD$1017,$B290,'Daily Log'!$BE$18:$BE$1017),0)","v":0},{"$f":"IFERROR($E290*SUMIF('Daily Log'!$BG$18:$BG$1017,$B290,'Daily Log'!$BH$18:$BH$1017),0)","v":0},{"$f":"IFERROR($E290*SUMIF('Daily Log'!$BJ$18:$BJ$1017,$B290,'Daily Log'!$BK$18:$BK$1017),0)","v":0},{"$f":"IFERROR($E290*SUMIF('Daily Log'!$BM$18:$BM$1017,$B290,'Daily Log'!$BN$18:$BN$1017),0)","v":0},{"$f":"IFERROR($E290*SUMIF('Daily Log'!$BP$18:$BP$1017,$B290,'Daily Log'!$BQ$18:$BQ$1017),0)","v":0},{"$f":"IFERROR($E290*SUMIF('Daily Log'!$BS$18:$BS$1017,$B290,'Daily Log'!$BT$18:$BT$1017),0)","v":0},{"$f":"IFERROR($E290*SUMIF('Daily Log'!$BV$18:$BV$1017,$B290,'Daily Log'!$BW$18:$BW$1017),0)","v":0},{"$f":"IFERROR($E290*SUMIF('Daily Log'!$BY$18:$BY$1017,$B290,'Daily Log'!$BZ$18:$BZ$1017),0)","v":0},{"$f":"IFERROR($E290*SUMIF('Daily Log'!$CB$18:$CB$1017,$B290,'Daily Log'!$CC$18:$CC$1017),0)","v":0},{"$f":"IFERROR($E290*SUMIF('Daily Log'!$CE$18:$CE$1017,$B290,'Daily Log'!$CF$18:$CF$1017),0)","v":0},{"$f":"IFERROR($E290*SUMIF('Daily Log'!$CH$18:$CH$1017,$B290,'Daily Log'!$CI$18:$CI$1017),0)","v":0},{"$f":"IFERROR($E290*SUMIF('Daily Log'!$CK$18:$CK$1017,$B290,'Daily Log'!$CL$18:$CL$1017),0)","v":0},{"$f":"IFERROR($E290*SUMIF('Daily Log'!$CN$18:$CN$1017,$B290,'Daily Log'!$CO$18:$CO$1017),0)","v":0}]
[null,null,null,null,1,0,{"$f":"IFERROR($E291*SUMIF('Daily Log'!$B$18:$B$1017,$B291,'Daily Log'!$C$18:$C$1017),0)","v":0},{"$f":"IFERROR($E291*SUMIF('Daily Log'!$E$18:$E$1017,$B291,'Daily Log'!$F$18:$F$1017),0)","v":0},{"$f":"IFERROR($E291*SUMIF('Daily Log'!$H$18:$H$1017,$B291,'Daily Log'!$I$18:$I$1017),0)","v":0},{"$f":"IFERROR($E291*SUMIF('Daily Log'!$K$18:$K$1017,$B291,'Daily Log'!$L$18:$L$1017),0)","v":0},{"$f":"IFERROR($E291*SUMIF('Daily Log'!$N$18:$N$1017,$B291,'Daily Log'!$O$18:$O$1017),0)","v":0},{"$f":"IFERROR($E291*SUMIF('Daily Log'!$Q$18:$Q$1017,$B291,'Daily Log'!$R$18:$R$1017),0)","v":0},{"$f":"IFERROR($E291*SUMIF('Daily Log'!$T$18:$T$1017,$B291,'Daily Log'!$U$18:$U$1017),0)","v":0},{"$f":"IFERROR($E291*SUMIF('Daily Log'!$W$18:$W$1017,$B291,'Daily Log'!$X$18:$X$1017),0)","v":0},{"$f":"IFERROR($E291*SUMIF('Daily Log'!$Z$18:$Z$1017,$B291,'Daily Log'!$AA$18:$AA$1017),0)","v":0},{"$f":"IFERROR($E291*SUMIF('Daily Log'!$AC$18:$AC$1017,$B291,'Daily Log'!$AD$18:$AD$1017),0)","v":0},{"$f":"IFERROR($E291*SUMIF('Daily Log'!$AF$18:$AF$1017,$B291,'Daily Log'!$AG$18:$AG$1017),0)","v":0},{"$f":"IFERROR($E291*SUMIF('Daily Log'!$AI$18:$AI$1017,$B291,'Daily Log'!$AJ$18:$AJ$1017),0)","v":0},{"$f":"IFERROR($E291*SUMIF('Daily Log'!$AL$18:$AL$1017,$B291,'Daily Log'!$AM$18:$AM$1017),0)","v":0},{"$f":"IFERROR($E291*SUMIF('Daily Log'!$AO$18:$AO$1017,$B291,'Daily Log'!$AP$18:$AP$1017),0)","v":0},{"$f":"IFERROR($E291*SUMIF('Daily Log'!$AR$18:$AR$1017,$B291,'Daily Log'!$AS$18:$AS$1017),0)","v":0},{"$f":"IFERROR($E291*SUMIF('Daily Log'!$AU$18:$AU$1017,$B291,'Daily Log'!$AV$18:$AV$1017),0)","v":0},{"$f":"IFERROR($E291*SUMIF('Daily Log'!$AX$18:$AX$1017,$B291,'Daily Log'!$AY$18:$AY$1017),0)","v":0},{"$f":"IFERROR($E291*SUMIF('Daily Log'!$BA$18:$BA$1017,$B291,'Daily Log'!$BB$18:$BB$1017),0)","v":0},{"$f":"IFERROR($E291*SUMIF('Daily Log'!$BD$18:$BD$1017,$B291,'Daily Log'!$BE$18:$BE$1017),0)","v":0},{"$f":"IFERROR($E291*SUMIF('Daily Log'!$BG$18:$BG$1017,$B291,'Daily Log'!$BH$18:$BH$1017),0)","v":0},{"$f":"IFERROR($E291*SUMIF('Daily Log'!$BJ$18:$BJ$1017,$B291,'Daily Log'!$BK$18:$BK$1017),0)","v":0},{"$f":"IFERROR($E291*SUMIF('Daily Log'!$BM$18:$BM$1017,$B291,'Daily Log'!$BN$18:$BN$1017),0)","v":0},{"$f":"IFERROR($E291*SUMIF('Daily Log'!$BP$18:$BP$1017,$B291,'Daily Log'!$BQ$18:$BQ$1017),0)","v":0},{"$f":"IFERROR($E291*SUMIF('Daily Log'!$BS$18:$BS$1017,$B291,'Daily Log'!$BT$18:$BT$1017),0)","v":0},{"$f":"IFERROR($E291*SUMIF('Daily Log'!$BV$18:$BV$1017,$B291,'Daily Log'!$BW$18:$BW$1017),0)","v":0},{"$f":"IFERROR($E291*SUMIF('Daily Log'!$BY$18:$BY$1017,$B291,'Daily Log'!$BZ$18:$BZ$1017),0)","v":0},{"$f":"IFERROR($E291*SUMIF('Daily Log'!$CB$18:$CB$1017,$B291,'Daily Log'!$CC$18:$CC$1017),0)","v":0},{"$f":"IFERROR($E291*SUMIF('Daily Log'!$CE$18:$CE$1017,$B291,'Daily Log'!$CF$18:$CF$1017),0)","v":0},{"$f":"IFERROR($E291*SUMIF('Daily Log'!$CH$18:$CH$1017,$B291,'Daily Log'!$CI$18:$CI$1017),0)","v":0},{"$f":"IFERROR($E291*SUMIF('Daily Log'!$CK$18:$CK$1017,$B291,'Daily Log'!$CL$18:$CL$1017),0)","v":0},{"$f":"IFERROR($E291*SUMIF('Daily Log'!$CN$18:$CN$1017,$B291,'Daily Log'!$CO$18:$CO$1017),0)","v":0}]
[null,null,null,null,1,0,{"$f":"IFERROR($E292*SUMIF('Daily Log'!$B$18:$B$1017,$B292,'Daily Log'!$C$18:$C$1017),0)","v":0},{"$f":"IFERROR($E292*SUMIF('Daily Log'!$E$18:$E$1017,$B292,'Daily Log'!$F$18:$F$1017),0)","v":0},{"$f":"IFERROR($E292*SUMIF('Daily Log'!$H$18:$H$1017,$B292,'Daily Log'!$I$18:$I$1017),0)","v":0},{"$f":"IFERROR($E292*SUMIF('Daily Log'!$K$18:$K$1017,$B292,'Daily Log'!$L$18:$L$1017),0)","v":0},{"$f":"IFERROR($E292*SUMIF('Daily Log'!$N$18:$N$1017,$B292,'Daily Log'!$O$18:$O$1017),0)","v":0},{"$f":"IFERROR($E292*SUMIF('Daily Log'!$Q$18:$Q$1017,$B292,'Daily Log'!$R$18:$R$1017),0)","v":0},{"$f":"IFERROR($E292*SUMIF('Daily Log'!$T$18:$T$1017,$B292,'Daily Log'!$U$18:$U$1017),0)","v":0},{"$f":"IFERROR($E292*SUMIF('Daily Log'!$W$18:$W$1017,$B292,'Daily Log'!$X$18:$X$1017),0)","v":0},{"$f":"IFERROR($E292*SUMIF('Daily Log'!$Z$18:$Z$1017,$B292,'Daily Log'!$AA$18:$AA$1017),0)","v":0},{"$f":"IFERROR($E292*SUMIF('Daily Log'!$AC$18:$AC$1017,$B292,'Daily Log'!$AD$18:$AD$1017),0)","v":0},{"$f":"IFERROR($E292*SUMIF('Daily Log'!$AF$18:$AF$1017,$B292,'Daily Log'!$AG$18:$AG$1017),0)","v":0},{"$f":"IFERROR($E292*SUMIF('Daily Log'!$AI$18:$AI$1017,$B292,'Daily Log'!$AJ$18:$AJ$1017),0)","v":0},{"$f":"IFERROR($E292*SUMIF('Daily Log'!$AL$18:$AL$1017,$B292,'Daily Log'!$AM$18:$AM$1017),0)","v":0},{"$f":"IFERROR($E292*SUMIF('Daily Log'!$AO$18:$AO$1017,$B292,'Daily Log'!$AP$18:$AP$1017),0)","v":0},{"$f":"IFERROR($E292*SUMIF('Daily Log'!$AR$18:$AR$1017,$B292,'Daily Log'!$AS$18:$AS$1017),0)","v":0},{"$f":"IFERROR($E292*SUMIF('Daily Log'!$AU$18:$AU$1017,$B292,'Daily Log'!$AV$18:$AV$1017),0)","v":0},{"$f":"IFERROR($E292*SUMIF('Daily Log'!$AX$18:$AX$1017,$B292,'Daily Log'!$AY$18:$AY$1017),0)","v":0},{"$f":"IFERROR($E292*SUMIF('Daily Log'!$BA$18:$BA$1017,$B292,'Daily Log'!$BB$18:$BB$1017),0)","v":0},{"$f":"IFERROR($E292*SUMIF('Daily Log'!$BD$18:$BD$1017,$B292,'Daily Log'!$BE$18:$BE$1017),0)","v":0},{"$f":"IFERROR($E292*SUMIF('Daily Log'!$BG$18:$BG$1017,$B292,'Daily Log'!$BH$18:$BH$1017),0)","v":0},{"$f":"IFERROR($E292*SUMIF('Daily Log'!$BJ$18:$BJ$1017,$B292,'Daily Log'!$BK$18:$BK$1017),0)","v":0},{"$f":"IFERROR($E292*SUMIF('Daily Log'!$BM$18:$BM$1017,$B292,'Daily Log'!$BN$18:$BN$1017),0)","v":0},{"$f":"IFERROR($E292*SUMIF('Daily Log'!$BP$18:$BP$1017,$B292,'Daily Log'!$BQ$18:$BQ$1017),0)","v":0},{"$f":"IFERROR($E292*SUMIF('Daily Log'!$BS$18:$BS$1017,$B292,'Daily Log'!$BT$18:$BT$1017),0)","v":0},{"$f":"IFERROR($E292*SUMIF('Daily Log'!$BV$18:$BV$1017,$B292,'Daily Log'!$BW$18:$BW$1017),0)","v":0},{"$f":"IFERROR($E292*SUMIF('Daily Log'!$BY$18:$BY$1017,$B292,'Daily Log'!$BZ$18:$BZ$1017),0)","v":0},{"$f":"IFERROR($E292*SUMIF('Daily Log'!$CB$18:$CB$1017,$B292,'Daily Log'!$CC$18:$CC$1017),0)","v":0},{"$f":"IFERROR($E292*SUMIF('Daily Log'!$CE$18:$CE$1017,$B292,'Daily Log'!$CF$18:$CF$1017),0)","v":0},{"$f":"IFERROR($E292*SUMIF('Daily Log'!$CH$18:$CH$1017,$B292,'Daily Log'!$CI$18:$CI$1017),0)","v":0},{"$f":"IFERROR($E292*SUMIF('Daily Log'!$CK$18:$CK$1017,$B292,'Daily Log'!$CL$18:$CL$1017),0)","v":0},{"$f":"IFERROR($E292*SUMIF('Daily Log'!$CN$18:$CN$1017,$B292,'Daily Log'!$CO$18:$CO$1017),0)","v":0}]
[null,null,null,null,1,0,{"$f":"IFERROR($E293*SUMIF('Daily Log'!$B$18:$B$1017,$B293,'Daily Log'!$C$18:$C$1017),0)","v":0},{"$f":"IFERROR($E293*SUMIF('Daily Log'!$E$18:$E$1017,$B293,'Daily Log'!$F$18:$F$1017),0)","v":0},{"$f":"IFERROR($E293*SUMIF('Daily Log'!$H$18:$H$1017,$B293,'Daily Log'!$I$18:$I$1017),0)","v":0},{"$f":"IFERROR($E293*SUMIF('Daily Log'!$K$18:$K$1017,$B293,'Daily Log'!$L$18:$L$1017),0)","v":0},{"$f":"IFERROR($E293*SUMIF('Daily Log'!$N$18:$N$1017,$B293,'Daily Log'!$O$18:$O$1017),0)","v":0},{"$f":"IFERROR($E293*SUMIF('Daily Log'!$Q$18:$Q$1017,$B293,'Daily Log'!$R$18:$R$1017),0)","v":0},{"$f":"IFERROR($E293*SUMIF('Daily Log'!$T$18:$T$1017,$B293,'Daily Log'!$U$18:$U$1017),0)","v":0},{"$f":"IFERROR($E293*SUMIF('Daily Log'!$W$18:$W$1017,$B293,'Daily Log'!$X$18:$X$1017),0)","v":0},{"$f":"IFERROR($E293*SUMIF('Daily Log'!$Z$18:$Z$1017,$B293,'Daily Log'!$AA$18:$AA$1017),0)","v":0},{"$f":"IFERROR($E293*SUMIF('Daily Log'!$AC$18:$AC$1017,$B293,'Daily Log'!$AD$18:$AD$1017),0)","v":0},{"$f":"IFERROR($E293*SUMIF('Daily Log'!$AF$18:$AF$1017,$B293,'Daily Log'!$AG$18:$AG$1017),0)","v":0},{"$f":"IFERROR($E293*SUMIF('Daily Log'!$AI$18:$AI$1017,$B293,'Daily Log'!$AJ$18:$AJ$1017),0)","v":0},{"$f":"IFERROR($E293*SUMIF('Daily Log'!$AL$18:$AL$1017,$B293,'Daily Log'!$AM$18:$AM$1017),0)","v":0},{"$f":"IFERROR($E293*SUMIF('Daily Log'!$AO$18:$AO$1017,$B293,'Daily Log'!$AP$18:$AP$1017),0)","v":0},{"$f":"IFERROR($E293*SUMIF('Daily Log'!$AR$18:$AR$1017,$B293,'Daily Log'!$AS$18:$AS$1017),0)","v":0},{"$f":"IFERROR($E293*SUMIF('Daily Log'!$AU$18:$AU$1017,$B293,'Daily Log'!$AV$18:$AV$1017),0)","v":0},{"$f":"IFERROR($E293*SUMIF('Daily Log'!$AX$18:$AX$1017,$B293,'Daily Log'!$AY$18:$AY$1017),0)","v":0},{"$f":"IFERROR($E293*SUMIF('Daily Log'!$BA$18:$BA$1017,$B293,'Daily Log'!$BB$18:$BB$1017),0)","v":0},{"$f":"IFERROR($E293*SUMIF('Daily Log'!$BD$18:$BD$1017,$B293,'Daily Log'!$BE$18:$BE$1017),0)","v":0},{"$f":"IFERROR($E293*SUMIF('Daily Log'!$BG$18:$BG$1017,$B293,'Daily Log'!$BH$18:$BH$1017),0)","v":0},{"$f":"IFERROR($E293*SUMIF('Daily Log'!$BJ$18:$BJ$1017,$B293,'Daily Log'!$BK$18:$BK$1017),0)","v":0},{"$f":"IFERROR($E293*SUMIF('Daily Log'!$BM$18:$BM$1017,$B293,'Daily Log'!$BN$18:$BN$1017),0)","v":0},{"$f":"IFERROR($E293*SUMIF('Daily Log'!$BP$18:$BP$1017,$B293,'Daily Log'!$BQ$18:$BQ$1017),0)","v":0},{"$f":"IFERROR($E293*SUMIF('Daily Log'!$BS$18:$BS$1017,$B293,'Daily Log'!$BT$18:$BT$1017),0)","v":0},{"$f":"IFERROR($E293*SUMIF('Daily Log'!$BV$18:$BV$1017,$B293,'Daily Log'!$BW$18:$BW$1017),0)","v":0},{"$f":"IFERROR($E293*SUMIF('Daily Log'!$BY$18:$BY$1017,$B293,'Daily Log'!$BZ$18:$BZ$1017),0)","v":0},{"$f":"IFERROR($E293*SUMIF('Daily Log'!$CB$18:$CB$1017,$B293,'Daily Log'!$CC$18:$CC$1017),0)","v":0},{"$f":"IFERROR($E293*SUMIF('Daily Log'!$CE$18:$CE$1017,$B293,'Daily Log'!$CF$18:$CF$1017),0)","v":0},{"$f":"IFERROR($E293*SUMIF('Daily Log'!$CH$18:$CH$1017,$B293,'Daily Log'!$CI$18:$CI$1017),0)","v":0},{"$f":"IFERROR($E293*SUMIF('Daily Log'!$CK$18:$CK$1017,$B293,'Daily Log'!$CL$18:$CL$1017),0)","v":0},{"$f":"IFERROR($E293*SUMIF('Daily Log'!$CN$18:$CN$1017,$B293,'Daily Log'!$CO$18:$CO$1017),0)","v":0}]
[null,null,null,null,1,0,{"$f":"IFERROR($E294*SUMIF('Daily Log'!$B$18:$B$1017,$B294,'Daily Log'!$C$18:$C$1017),0)","v":0},{"$f":"IFERROR($E294*SUMIF('Daily Log'!$E$18:$E$1017,$B294,'Daily Log'!$F$18:$F$1017),0)","v":0},{"$f":"IFERROR($E294*SUMIF('Daily Log'!$H$18:$H$1017,$B294,'Daily Log'!$I$18:$I$1017),0)","v":0},{"$f":"IFERROR($E294*SUMIF('Daily Log'!$K$18:$K$1017,$B294,'Daily Log'!$L$18:$L$1017),0)","v":0},{"$f":"IFERROR($E294*SUMIF('Daily Log'!$N$18:$N$1017,$B294,'Daily Log'!$O$18:$O$1017),0)","v":0},{"$f":"IFERROR($E294*SUMIF('Daily Log'!$Q$18:$Q$1017,$B294,'Daily Log'!$R$18:$R$1017),0)","v":0},{"$f":"IFERROR($E294*SUMIF('Daily Log'!$T$18:$T$1017,$B294,'Daily Log'!$U$18:$U$1017),0)","v":0},{"$f":"IFERROR($E294*SUMIF('Daily Log'!$W$18:$W$1017,$B294,'Daily Log'!$X$18:$X$1017),0)","v":0},{"$f":"IFERROR($E294*SUMIF('Daily Log'!$Z$18:$Z$1017,$B294,'Daily Log'!$AA$18:$AA$1017),0)","v":0},{"$f":"IFERROR($E294*SUMIF('Daily Log'!$AC$18:$AC$1017,$B294,'Daily Log'!$AD$18:$AD$1017),0)","v":0},{"$f":"IFERROR($E294*SUMIF('Daily Log'!$AF$18:$AF$1017,$B294,'Daily Log'!$AG$18:$AG$1017),0)","v":0},{"$f":"IFERROR($E294*SUMIF('Daily Log'!$AI$18:$AI$1017,$B294,'Daily Log'!$AJ$18:$AJ$1017),0)","v":0},{"$f":"IFERROR($E294*SUMIF('Daily Log'!$AL$18:$AL$1017,$B294,'Daily Log'!$AM$18:$AM$1017),0)","v":0},{"$f":"IFERROR($E294*SUMIF('Daily Log'!$AO$18:$AO$1017,$B294,'Daily Log'!$AP$18:$AP$1017),0)","v":0},{"$f":"IFERROR($E294*SUMIF('Daily Log'!$AR$18:$AR$1017,$B294,'Daily Log'!$AS$18:$AS$1017),0)","v":0},{"$f":"IFERROR($E294*SUMIF('Daily Log'!$AU$18:$AU$1017,$B294,'Daily Log'!$AV$18:$AV$1017),0)","v":0},{"$f":"IFERROR($E294*SUMIF('Daily Log'!$AX$18:$AX$1017,$B294,'Daily Log'!$AY$18:$AY$1017),0)","v":0},{"$f":"IFERROR($E294*SUMIF('Daily Log'!$BA$18:$BA$1017,$B294,'Daily Log'!$BB$18:$BB$1017),0)","v":0},{"$f":"IFERROR($E294*SUMIF('Daily Log'!$BD$18:$BD$1017,$B294,'Daily Log'!$BE$18:$BE$1017),0)","v":0},{"$f":"IFERROR($E294*SUMIF('Daily Log'!$BG$18:$BG$1017,$B294,'Daily Log'!$BH$18:$BH$1017),0)","v":0},{"$f":"IFERROR($E294*SUMIF('Daily Log'!$BJ$18:$BJ$1017,$B294,'Daily Log'!$BK$18:$BK$1017),0)","v":0},{"$f":"IFERROR($E294*SUMIF('Daily Log'!$BM$18:$BM$1017,$B294,'Daily Log'!$BN$18:$BN$1017),0)","v":0},{"$f":"IFERROR($E294*SUMIF('Daily Log'!$BP$18:$BP$1017,$B294,'Daily Log'!$BQ$18:$BQ$1017),0)","v":0},{"$f":"IFERROR($E294*SUMIF('Daily Log'!$BS$18:$BS$1017,$B294,'Daily Log'!$BT$18:$BT$1017),0)","v":0},{"$f":"IFERROR($E294*SUMIF('Daily Log'!$BV$18:$BV$1017,$B294,'Daily Log'!$BW$18:$BW$1017),0)","v":0},{"$f":"IFERROR($E294*SUMIF('Daily Log'!$BY$18:$BY$1017,$B294,'Daily Log'!$BZ$18:$BZ$1017),0)","v":0},{"$f":"IFERROR($E294*SUMIF('Daily Log'!$CB$18:$CB$1017,$B294,'Daily Log'!$CC$18:$CC$1017),0)","v":0},{"$f":"IFERROR($E294*SUMIF('Daily Log'!$CE$18:$CE$1017,$B294,'Daily Log'!$CF$18:$CF$1017),0)","v":0},{"$f":"IFERROR($E294*SUMIF('Daily Log'!$CH$18:$CH$1017,$B294,'Daily Log'!$CI$18:$CI$1017),0)","v":0},{"$f":"IFERROR($E294*SUMIF('Daily Log'!$CK$18:$CK$1017,$B294,'Daily Log'!$CL$18:$CL$1017),0)","v":0},{"$f":"IFERROR($E294*SUMIF('Daily Log'!$CN$18:$CN$1017,$B294,'Daily Log'!$CO$18:$CO$1017),0)","v":0}]
[null,null,null,null,1,0,{"$f":"IFERROR($E295*SUMIF('Daily Log'!$B$18:$B$1017,$B295,'Daily Log'!$C$18:$C$1017),0)","v":0},{"$f":"IFERROR($E295*SUMIF('Daily Log'!$E$18:$E$1017,$B295,'Daily Log'!$F$18:$F$1017),0)","v":0},{"$f":"IFERROR($E295*SUMIF('Daily Log'!$H$18:$H$1017,$B295,'Daily Log'!$I$18:$I$1017),0)","v":0},{"$f":"IFERROR($E295*SUMIF('Daily Log'!$K$18:$K$1017,$B295,'Daily Log'!$L$18:$L$1017),0)","v":0},{"$f":"IFERROR($E295*SUMIF('Daily Log'!$N$18:$N$1017,$B295,'Daily Log'!$O$18:$O$1017),0)","v":0},{"$f":"IFERROR($E295*SUMIF('Daily Log'!$Q$18:$Q$1017,$B295,'Daily Log'!$R$18:$R$1017),0)","v":0},{"$f":"IFERROR($E295*SUMIF('Daily Log'!$T$18:$T$1017,$B295,'Daily Log'!$U$18:$U$1017),0)","v":0},{"$f":"IFERROR($E295*SUMIF('Daily Log'!$W$18:$W$1017,$B295,'Daily Log'!$X$18:$X$1017),0)","v":0},{"$f":"IFERROR($E295*SUMIF('Daily Log'!$Z$18:$Z$1017,$B295,'Daily Log'!$AA$18:$AA$1017),0)","v":0},{"$f":"IFERROR($E295*SUMIF('Daily Log'!$AC$18:$AC$1017,$B295,'Daily Log'!$AD$18:$AD$1017),0)","v":0},{"$f":"IFERROR($E295*SUMIF('Daily Log'!$AF$18:$AF$1017,$B295,'Daily Log'!$AG$18:$AG$1017),0)","v":0},{"$f":"IFERROR($E295*SUMIF('Daily Log'!$AI$18:$AI$1017,$B295,'Daily Log'!$AJ$18:$AJ$1017),0)","v":0},{"$f":"IFERROR($E295*SUMIF('Daily Log'!$AL$18:$AL$1017,$B295,'Daily Log'!$AM$18:$AM$1017),0)","v":0},{"$f":"IFERROR($E295*SUMIF('Daily Log'!$AO$18:$AO$1017,$B295,'Daily Log'!$AP$18:$AP$1017),0)","v":0},{"$f":"IFERROR($E295*SUMIF('Daily Log'!$AR$18:$AR$1017,$B295,'Daily Log'!$AS$18:$AS$1017),0)","v":0},{"$f":"IFERROR($E295*SUMIF('Daily Log'!$AU$18:$AU$1017,$B295,'Daily Log'!$AV$18:$AV$1017),0)","v":0},{"$f":"IFERROR($E295*SUMIF('Daily Log'!$AX$18:$AX$1017,$B295,'Daily Log'!$AY$18:$AY$1017),0)","v":0},{"$f":"IFERROR($E295*SUMIF('Daily Log'!$BA$18:$BA$1017,$B295,'Daily Log'!$BB$18:$BB$1017),0)","v":0},{"$f":"IFERROR($E295*SUMIF('Daily Log'!$BD$18:$BD$1017,$B295,'Daily Log'!$BE$18:$BE$1017),0)","v":0},{"$f":"IFERROR($E295*SUMIF('Daily Log'!$BG$18:$BG$1017,$B295,'Daily Log'!$BH$18:$BH$1017),0)","v":0},{"$f":"IFERROR($E295*SUMIF('Daily Log'!$BJ$18:$BJ$1017,$B295,'Daily Log'!$BK$18:$BK$1017),0)","v":0},{"$f":"IFERROR($E295*SUMIF('Daily Log'!$BM$18:$BM$1017,$B295,'Daily Log'!$BN$18:$BN$1017),0)","v":0},{"$f":"IFERROR($E295*SUMIF('Daily Log'!$BP$18:$BP$1017,$B295,'Daily Log'!$BQ$18:$BQ$1017),0)","v":0},{"$f":"IFERROR($E295*SUMIF('Daily Log'!$BS$18:$BS$1017,$B295,'Daily Log'!$BT$18:$BT$1017),0)","v":0},{"$f":"IFERROR($E295*SUMIF('Daily Log'!$BV$18:$BV$1017,$B295,'Daily Log'!$BW$18:$BW$1017),0)","v":0},{"$f":"IFERROR($E295*SUMIF('Daily Log'!$BY$18:$BY$1017,$B295,'Daily Log'!$BZ$18:$BZ$1017),0)","v":0},{"$f":"IFERROR($E295*SUMIF('Daily Log'!$CB$18:$CB$1017,$B295,'Daily Log'!$CC$18:$CC$1017),0)","v":0},{"$f":"IFERROR($E295*SUMIF('Daily Log'!$CE$18:$CE$1017,$B295,'Daily Log'!$CF$18:$CF$1017),0)","v":0},{"$f":"IFERROR($E295*SUMIF('Daily Log'!$CH$18:$CH$1017,$B295,'Daily Log'!$CI$18:$CI$1017),0)","v":0},{"$f":"IFERROR($E295*SUMIF('Daily Log'!$CK$18:$CK$1017,$B295,'Daily Log'!$CL$18:$CL$1017),0)","v":0},{"$f":"IFERROR($E295*SUMIF('Daily Log'!$CN$18:$CN$1017,$B295,'Daily Log'!$CO$18:$CO$1017),0)","v":0}]
[null,null,null,null,1,0,{"$f":"IFERROR($E296*SUMIF('Daily Log'!$B$18:$B$1017,$B296,'Daily Log'!$C$18:$C$1017),0)","v":0},{"$f":"IFERROR($E296*SUMIF('Daily Log'!$E$18:$E$1017,$B296,'Daily Log'!$F$18:$F$1017),0)","v":0},{"$f":"IFERROR($E296*SUMIF('Daily Log'!$H$18:$H$1017,$B296,'Daily Log'!$I$18:$I$1017),0)","v":0},{"$f":"IFERROR($E296*SUMIF('Daily Log'!$K$18:$K$1017,$B296,'Daily Log'!$L$18:$L$1017),0)","v":0},{"$f":"IFERROR($E296*SUMIF('Daily Log'!$N$18:$N$1017,$B296,'Daily Log'!$O$18:$O$1017),0)","v":0},{"$f":"IFERROR($E296*SUMIF('Daily Log'!$Q$18:$Q$1017,$B296,'Daily Log'!$R$18:$R$1017),0)","v":0},{"$f":"IFERROR($E296*SUMIF('Daily Log'!$T$18:$T$1017,$B296,'Daily Log'!$U$18:$U$1017),0)","v":0},{"$f":"IFERROR($E296*SUMIF('Daily Log'!$W$18:$W$1017,$B296,'Daily Log'!$X$18:$X$1017),0)","v":0},{"$f":"IFERROR($E296*SUMIF('Daily Log'!$Z$18:$Z$1017,$B296,'Daily Log'!$AA$18:$AA$1017),0)","v":0},{"$f":"IFERROR($E296*SUMIF('Daily Log'!$AC$18:$AC$1017,$B296,'Daily Log'!$AD$18:$AD$1017),0)","v":0},{"$f":"IFERROR($E296*SUMIF('Daily Log'!$AF$18:$AF$1017,$B296,'Daily Log'!$AG$18:$AG$1017),0)","v":0},{"$f":"IFERROR($E296*SUMIF('Daily Log'!$AI$18:$AI$1017,$B296,'Daily Log'!$AJ$18:$AJ$1017),0)","v":0},{"$f":"IFERROR($E296*SUMIF('Daily Log'!$AL$18:$AL$1017,$B296,'Daily Log'!$AM$18:$AM$1017),0)","v":0},{"$f":"IFERROR($E296*SUMIF('Daily Log'!$AO$18:$AO$1017,$B296,'Daily Log'!$AP$18:$AP$1017),0)","v":0},{"$f":"IFERROR($E296*SUMIF('Daily Log'!$AR$18:$AR$1017,$B296,'Daily Log'!$AS$18:$AS$1017),0)","v":0},{"$f":"IFERROR($E296*SUMIF('Daily Log'!$AU$18:$AU$1017,$B296,'Daily Log'!$AV$18:$AV$1017),0)","v":0},{"$f":"IFERROR($E296*SUMIF('Daily Log'!$AX$18:$AX$1017,$B296,'Daily Log'!$AY$18:$AY$1017),0)","v":0},{"$f":"IFERROR($E296*SUMIF('Daily Log'!$BA$18:$BA$1017,$B296,'Daily Log'!$BB$18:$BB$1017),0)","v":0},{"$f":"IFERROR($E296*SUMIF('Daily Log'!$BD$18:$BD$1017,$B296,'Daily Log'!$BE$18:$BE$1017),0)","v":0},{"$f":"IFERROR($E296*SUMIF('Daily Log'!$BG$18:$BG$1017,$B296,'Daily Log'!$BH$18:$BH$1017),0)","v":0},{"$f":"IFERROR($E296*SUMIF('Daily Log'!$BJ$18:$BJ$1017,$B296,'Daily Log'!$BK$18:$BK$1017),0)","v":0},{"$f":"IFERROR($E296*SUMIF('Daily Log'!$BM$18:$BM$1017,$B296,'Daily Log'!$BN$18:$BN$1017),0)","v":0},{"$f":"IFERROR($E296*SUMIF('Daily Log'!$BP$18:$BP$1017,$B296,'Daily Log'!$BQ$18:$BQ$1017),0)","v":0},{"$f":"IFERROR($E296*SUMIF('Daily Log'!$BS$18:$BS$1017,$B296,'Daily Log'!$BT$18:$BT$1017),0)","v":0},{"$f":"IFERROR($E296*SUMIF('Daily Log'!$BV$18:$BV$1017,$B296,'Daily Log'!$BW$18:$BW$1017),0)","v":0},{"$f":"IFERROR($E296*SUMIF('Daily Log'!$BY$18:$BY$1017,$B296,'Daily Log'!$BZ$18:$BZ$1017),0)","v":0},{"$f":"IFERROR($E296*SUMIF('Daily Log'!$CB$18:$CB$1017,$B296,'Daily Log'!$CC$18:$CC$1017),0)","v":0},{"$f":"IFERROR($E296*SUMIF('Daily Log'!$CE$18:$CE$1017,$B296,'Daily Log'!$CF$18:$CF$1017),0)","v":0},{"$f":"IFERROR($E296*SUMIF('Daily Log'!$CH$18:$CH$1017,$B296,'Daily Log'!$CI$18:$CI$1017),0)","v":0},{"$f":"IFERROR($E296*SUMIF('Daily Log'!$CK$18:$CK$1017,$B296,'Daily Log'!$CL$18:$CL$1017),0)","v":0},{"$f":"IFERROR($E296*SUMIF('Daily Log'!$CN$18:$CN$1017,$B296,'Daily Log'!$CO$18:$CO$1017),0)","v":0}]
[null,null,null,null,1,0,{"$f":"IFERROR($E297*SUMIF('Daily Log'!$B$18:$B$1017,$B297,'Daily Log'!$C$18:$C$1017),0)","v":0},{"$f":"IFERROR($E297*SUMIF('Daily Log'!$E$18:$E$1017,$B297,'Daily Log'!$F$18:$F$1017),0)","v":0},{"$f":"IFERROR($E297*SUMIF('Daily Log'!$H$18:$H$1017,$B297,'Daily Log'!$I$18:$I$1017),0)","v":0},{"$f":"IFERROR($E297*SUMIF('Daily Log'!$K$18:$K$1017,$B297,'Daily Log'!$L$18:$L$1017),0)","v":0},{"$f":"IFERROR($E297*SUMIF('Daily Log'!$N$18:$N$1017,$B297,'Daily Log'!$O$18:$O$1017),0)","v":0},{"$f":"IFERROR($E297*SUMIF('Daily Log'!$Q$18:$Q$1017,$B297,'Daily Log'!$R$18:$R$1017),0)","v":0},{"$f":"IFERROR($E297*SUMIF('Daily Log'!$T$18:$T$1017,$B297,'Daily Log'!$U$18:$U$1017),0)","v":0},{"$f":"IFERROR($E297*SUMIF('Daily Log'!$W$18:$W$1017,$B297,'Daily Log'!$X$18:$X$1017),0)","v":0},{"$f":"IFERROR($E297*SUMIF('Daily Log'!$Z$18:$Z$1017,$B297,'Daily Log'!$AA$18:$AA$1017),0)","v":0},{"$f":"IFERROR($E297*SUMIF('Daily Log'!$AC$18:$AC$1017,$B297,'Daily Log'!$AD$18:$AD$1017),0)","v":0},{"$f":"IFERROR($E297*SUMIF('Daily Log'!$AF$18:$AF$1017,$B297,'Daily Log'!$AG$18:$AG$1017),0)","v":0},{"$f":"IFERROR($E297*SUMIF('Daily Log'!$AI$18:$AI$1017,$B297,'Daily Log'!$AJ$18:$AJ$1017),0)","v":0},{"$f":"IFERROR($E297*SUMIF('Daily Log'!$AL$18:$AL$1017,$B297,'Daily Log'!$AM$18:$AM$1017),0)","v":0},{"$f":"IFERROR($E297*SUMIF('Daily Log'!$AO$18:$AO$1017,$B297,'Daily Log'!$AP$18:$AP$1017),0)","v":0},{"$f":"IFERROR($E297*SUMIF('Daily Log'!$AR$18:$AR$1017,$B297,'Daily Log'!$AS$18:$AS$1017),0)","v":0},{"$f":"IFERROR($E297*SUMIF('Daily Log'!$AU$18:$AU$1017,$B297,'Daily Log'!$AV$18:$AV$1017),0)","v":0},{"$f":"IFERROR($E297*SUMIF('Daily Log'!$AX$18:$AX$1017,$B297,'Daily Log'!$AY$18:$AY$1017),0)","v":0},{"$f":"IFERROR($E297*SUMIF('Daily Log'!$BA$18:$BA$1017,$B297,'Daily Log'!$BB$18:$BB$1017),0)","v":0},{"$f":"IFERROR($E297*SUMIF('Daily Log'!$BD$18:$BD$1017,$B297,'Daily Log'!$BE$18:$BE$1017),0)","v":0},{"$f":"IFERROR($E297*SUMIF('Daily Log'!$BG$18:$BG$1017,$B297,'Daily Log'!$BH$18:$BH$1017),0)","v":0},{"$f":"IFERROR($E297*SUMIF('Daily Log'!$BJ$18:$BJ$1017,$B297,'Daily Log'!$BK$18:$BK$1017),0)","v":0},{"$f":"IFERROR($E297*SUMIF('Daily Log'!$BM$18:$BM$1017,$B297,'Daily Log'!$BN$18:$BN$1017),0)","v":0},{"$f":"IFERROR($E297*SUMIF('Daily Log'!$BP$18:$BP$1017,$B297,'Daily Log'!$BQ$18:$BQ$1017),0)","v":0},{"$f":"IFERROR($E297*SUMIF('Daily Log'!$BS$18:$BS$1017,$B297,'Daily Log'!$BT$18:$BT$1017),0)","v":0},{"$f":"IFERROR($E297*SUMIF('Daily Log'!$BV$18:$BV$1017,$B297,'Daily Log'!$BW$18:$BW$1017),0)","v":0},{"$f":"IFERROR($E297*SUMIF('Daily Log'!$BY$18:$BY$1017,$B297,'Daily Log'!$BZ$18:$BZ$1017),0)","v":0},{"$f":"IFERROR($E297*SUMIF('Daily Log'!$CB$18:$CB$1017,$B297,'Daily Log'!$CC$18:$CC$1017),0)","v":0},{"$f":"IFERROR($E297*SUMIF('Daily Log'!$CE$18:$CE$1017,$B297,'Daily Log'!$CF$18:$CF$1017),0)","v":0},{"$f":"IFERROR($E297*SUMIF('Daily Log'!$CH$18:$CH$1017,$B297,'Daily Log'!$CI$18:$CI$1017),0)","v":0},{"$f":"IFERROR($E297*SUMIF('Daily Log'!$CK$18:$CK$1017,$B297,'Daily Log'!$CL$18:$CL$1017),0)","v":0},{"$f":"IFERROR($E297*SUMIF('Daily Log'!$CN$18:$CN$1017,$B297,'Daily Log'!$CO$18:$CO$1017),0)","v":0}]
[null,null,null,null,1,0,{"$f":"IFERROR($E298*SUMIF('Daily Log'!$B$18:$B$1017,$B298,'Daily Log'!$C$18:$C$1017),0)","v":0},{"$f":"IFERROR($E298*SUMIF('Daily Log'!$E$18:$E$1017,$B298,'Daily Log'!$F$18:$F$1017),0)","v":0},{"$f":"IFERROR($E298*SUMIF('Daily Log'!$H$18:$H$1017,$B298,'Daily Log'!$I$18:$I$1017),0)","v":0},{"$f":"IFERROR($E298*SUMIF('Daily Log'!$K$18:$K$1017,$B298,'Daily Log'!$L$18:$L$1017),0)","v":0},{"$f":"IFERROR($E298*SUMIF('Daily Log'!$N$18:$N$1017,$B298,'Daily Log'!$O$18:$O$1017),0)","v":0},{"$f":"IFERROR($E298*SUMIF('Daily Log'!$Q$18:$Q$1017,$B298,'Daily Log'!$R$18:$R$1017),0)","v":0},{"$f":"IFERROR($E298*SUMIF('Daily Log'!$T$18:$T$1017,$B298,'Daily Log'!$U$18:$U$1017),0)","v":0},{"$f":"IFERROR($E298*SUMIF('Daily Log'!$W$18:$W$1017,$B298,'Daily Log'!$X$18:$X$1017),0)","v":0},{"$f":"IFERROR($E298*SUMIF('Daily Log'!$Z$18:$Z$1017,$B298,'Daily Log'!$AA$18:$AA$1017),0)","v":0},{"$f":"IFERROR($E298*SUMIF('Daily Log'!$AC$18:$AC$1017,$B298,'Daily Log'!$AD$18:$AD$1017),0)","v":0},{"$f":"IFERROR($E298*SUMIF('Daily Log'!$AF$18:$AF$1017,$B298,'Daily Log'!$AG$18:$AG$1017),0)","v":0},{"$f":"IFERROR($E298*SUMIF('Daily Log'!$AI$18:$AI$1017,$B298,'Daily Log'!$AJ$18:$AJ$1017),0)","v":0},{"$f":"IFERROR($E298*SUMIF('Daily Log'!$AL$18:$AL$1017,$B298,'Daily Log'!$AM$18:$AM$1017),0)","v":0},{"$f":"IFERROR($E298*SUMIF('Daily Log'!$AO$18:$AO$1017,$B298,'Daily Log'!$AP$18:$AP$1017),0)","v":0},{"$f":"IFERROR($E298*SUMIF('Daily Log'!$AR$18:$AR$1017,$B298,'Daily Log'!$AS$18:$AS$1017),0)","v":0},{"$f":"IFERROR($E298*SUMIF('Daily Log'!$AU$18:$AU$1017,$B298,'Daily Log'!$AV$18:$AV$1017),0)","v":0},{"$f":"IFERROR($E298*SUMIF('Daily Log'!$AX$18:$AX$1017,$B298,'Daily Log'!$AY$18:$AY$1017),0)","v":0},{"$f":"IFERROR($E298*SUMIF('Daily Log'!$BA$18:$BA$1017,$B298,'Daily Log'!$BB$18:$BB$1017),0)","v":0},{"$f":"IFERROR($E298*SUMIF('Daily Log'!$BD$18:$BD$1017,$B298,'Daily Log'!$BE$18:$BE$1017),0)","v":0},{"$f":"IFERROR($E298*SUMIF('Daily Log'!$BG$18:$BG$1017,$B298,'Daily Log'!$BH$18:$BH$1017),0)","v":0},{"$f":"IFERROR($E298*SUMIF('Daily Log'!$BJ$18:$BJ$1017,$B298,'Daily Log'!$BK$18:$BK$1017),0)","v":0},{"$f":"IFERROR($E298*SUMIF('Daily Log'!$BM$18:$BM$1017,$B298,'Daily Log'!$BN$18:$BN$1017),0)","v":0},{"$f":"IFERROR($E298*SUMIF('Daily Log'!$BP$18:$BP$1017,$B298,'Daily Log'!$BQ$18:$BQ$1017),0)","v":0},{"$f":"IFERROR($E298*SUMIF('Daily Log'!$BS$18:$BS$1017,$B298,'Daily Log'!$BT$18:$BT$1017),0)","v":0},{"$f":"IFERROR($E298*SUMIF('Daily Log'!$BV$18:$BV$1017,$B298,'Daily Log'!$BW$18:$BW$1017),0)","v":0},{"$f":"IFERROR($E298*SUMIF('Daily Log'!$BY$18:$BY$1017,$B298,'Daily Log'!$BZ$18:$BZ$1017),0)","v":0},{"$f":"IFERROR($E298*SUMIF('Daily Log'!$CB$18:$CB$1017,$B298,'Daily Log'!$CC$18:$CC$1017),0)","v":0},{"$f":"IFERROR($E298*SUMIF('Daily Log'!$CE$18:$CE$1017,$B298,'Daily Log'!$CF$18:$CF$1017),0)","v":0},{"$f":"IFERROR($E298*SUMIF('Daily Log'!$CH$18:$CH$1017,$B298,'Daily Log'!$CI$18:$CI$1017),0)","v":0},{"$f":"IFERROR($E298*SUMIF('Daily Log'!$CK$18:$CK$1017,$B298,'Daily Log'!$CL$18:$CL$1017),0)","v":0},{"$f":"IFERROR($E298*SUMIF('Daily Log'!$CN$18:$CN$1017,$B298,'Daily Log'!$CO$18:$CO$1017),0)","v":0}]
[null,null,null,null,1,0,{"$f":"IFERROR($E299*SUMIF('Daily Log'!$B$18:$B$1017,$B299,'Daily Log'!$C$18:$C$1017),0)","v":0},{"$f":"IFERROR($E299*SUMIF('Daily Log'!$E$18:$E$1017,$B299,'Daily Log'!$F$18:$F$1017),0)","v":0},{"$f":"IFERROR($E299*SUMIF('Daily Log'!$H$18:$H$1017,$B299,'Daily Log'!$I$18:$I$1017),0)","v":0},{"$f":"IFERROR($E299*SUMIF('Daily Log'!$K$18:$K$1017,$B299,'Daily Log'!$L$18:$L$1017),0)","v":0},{"$f":"IFERROR($E299*SUMIF('Daily Log'!$N$18:$N$1017,$B299,'Daily Log'!$O$18:$O$1017),0)","v":0},{"$f":"IFERROR($E299*SUMIF('Daily Log'!$Q$18:$Q$1017,$B299,'Daily Log'!$R$18:$R$1017),0)","v":0},{"$f":"IFERROR($E299*SUMIF('Daily Log'!$T$18:$T$1017,$B299,'Daily Log'!$U$18:$U$1017),0)","v":0},{"$f":"IFERROR($E299*SUMIF('Daily Log'!$W$18:$W$1017,$B299,'Daily Log'!$X$18:$X$1017),0)","v":0},{"$f":"IFERROR($E299*SUMIF('Daily Log'!$Z$18:$Z$1017,$B299,'Daily Log'!$AA$18:$AA$1017),0)","v":0},{"$f":"IFERROR($E299*SUMIF('Daily Log'!$AC$18:$AC$1017,$B299,'Daily Log'!$AD$18:$AD$1017),0)","v":0},{"$f":"IFERROR($E299*SUMIF('Daily Log'!$AF$18:$AF$1017,$B299,'Daily Log'!$AG$18:$AG$1017),0)","v":0},{"$f":"IFERROR($E299*SUMIF('Daily Log'!$AI$18:$AI$1017,$B299,'Daily Log'!$AJ$18:$AJ$1017),0)","v":0},{"$f":"IFERROR($E299*SUMIF('Daily Log'!$AL$18:$AL$1017,$B299,'Daily Log'!$AM$18:$AM$1017),0)","v":0},{"$f":"IFERROR($E299*SUMIF('Daily Log'!$AO$18:$AO$1017,$B299,'Daily Log'!$AP$18:$AP$1017),0)","v":0},{"$f":"IFERROR($E299*SUMIF('Daily Log'!$AR$18:$AR$1017,$B299,'Daily Log'!$AS$18:$AS$1017),0)","v":0},{"$f":"IFERROR($E299*SUMIF('Daily Log'!$AU$18:$AU$1017,$B299,'Daily Log'!$AV$18:$AV$1017),0)","v":0},{"$f":"IFERROR($E299*SUMIF('Daily Log'!$AX$18:$AX$1017,$B299,'Daily Log'!$AY$18:$AY$1017),0)","v":0},{"$f":"IFERROR($E299*SUMIF('Daily Log'!$BA$18:$BA$1017,$B299,'Daily Log'!$BB$18:$BB$1017),0)","v":0},{"$f":"IFERROR($E299*SUMIF('Daily Log'!$BD$18:$BD$1017,$B299,'Daily Log'!$BE$18:$BE$1017),0)","v":0},{"$f":"IFERROR($E299*SUMIF('Daily Log'!$BG$18:$BG$1017,$B299,'Daily Log'!$BH$18:$BH$1017),0)","v":0},{"$f":"IFERROR($E299*SUMIF('Daily Log'!$BJ$18:$BJ$1017,$B299,'Daily Log'!$BK$18:$BK$1017),0)","v":0},{"$f":"IFERROR($E299*SUMIF('Daily Log'!$BM$18:$BM$1017,$B299,'Daily Log'!$BN$18:$BN$1017),0)","v":0},{"$f":"IFERROR($E299*SUMIF('Daily Log'!$BP$18:$BP$1017,$B299,'Daily Log'!$BQ$18:$BQ$1017),0)","v":0},{"$f":"IFERROR($E299*SUMIF('Daily Log'!$BS$18:$BS$1017,$B299,'Daily Log'!$BT$18:$BT$1017),0)","v":0},{"$f":"IFERROR($E299*SUMIF('Daily Log'!$BV$18:$BV$1017,$B299,'Daily Log'!$BW$18:$BW$1017),0)","v":0},{"$f":"IFERROR($E299*SUMIF('Daily Log'!$BY$18:$BY$1017,$B299,'Daily Log'!$BZ$18:$BZ$1017),0)","v":0},{"$f":"IFERROR($E299*SUMIF('Daily Log'!$CB$18:$CB$1017,$B299,'Daily Log'!$CC$18:$CC$1017),0)","v":0},{"$f":"IFERROR($E299*SUMIF('Daily Log'!$CE$18:$CE$1017,$B299,'Daily Log'!$CF$18:$CF$1017),0)","v":0},{"$f":"IFERROR($E299*SUMIF('Daily Log'!$CH$18:$CH$1017,$B299,'Daily Log'!$CI$18:$CI$1017),0)","v":0},{"$f":"IFERROR($E299*SUMIF('Daily Log'!$CK$18:$CK$1017,$B299,'Daily Log'!$CL$18:$CL$1017),0)","v":0},{"$f":"IFERROR($E299*SUMIF('Daily Log'!$CN$18:$CN$1017,$B299,'Daily Log'!$CO$18:$CO$1017),0)","v":0}]
[null,null,null,null,1,0,{"$f":"IFERROR($E300*SUMIF('Daily Log'!$B$18:$B$1017,$B300,'Daily Log'!$C$18:$C$1017),0)","v":0},{"$f":"IFERROR($E300*SUMIF('Daily Log'!$E$18:$E$1017,$B300,'Daily Log'!$F$18:$F$1017),0)","v":0},{"$f":"IFERROR($E300*SUMIF('Daily Log'!$H$18:$H$1017,$B300,'Daily Log'!$I$18:$I$1017),0)","v":0},{"$f":"IFERROR($E300*SUMIF('Daily Log'!$K$18:$K$1017,$B300,'Daily Log'!$L$18:$L$1017),0)","v":0},{"$f":"IFERROR($E300*SUMIF('Daily Log'!$N$18:$N$1017,$B300,'Daily Log'!$O$18:$O$1017),0)","v":0},{"$f":"IFERROR($E300*SUMIF('Daily Log'!$Q$18:$Q$1017,$B300,'Daily Log'!$R$18:$R$1017),0)","v":0},{"$f":"IFERROR($E300*SUMIF('Daily Log'!$T$18:$T$1017,$B300,'Daily Log'!$U$18:$U$1017),0)","v":0},{"$f":"IFERROR($E300*SUMIF('Daily Log'!$W$18:$W$1017,$B300,'Daily Log'!$X$18:$X$1017),0)","v":0},{"$f":"IFERROR($E300*SUMIF('Daily Log'!$Z$18:$Z$1017,$B300,'Daily Log'!$AA$18:$AA$1017),0)","v":0},{"$f":"IFERROR($E300*SUMIF('Daily Log'!$AC$18:$AC$1017,$B300,'Daily Log'!$AD$18:$AD$1017),0)","v":0},{"$f":"IFERROR($E300*SUMIF('Daily Log'!$AF$18:$AF$1017,$B300,'Daily Log'!$AG$18:$AG$1017),0)","v":0},{"$f":"IFERROR($E300*SUMIF('Daily Log'!$AI$18:$AI$1017,$B300,'Daily Log'!$AJ$18:$AJ$1017),0)","v":0},{"$f":"IFERROR($E300*SUMIF('Daily Log'!$AL$18:$AL$1017,$B300,'Daily Log'!$AM$18:$AM$1017),0)","v":0},{"$f":"IFERROR($E300*SUMIF('Daily Log'!$AO$18:$AO$1017,$B300,'Daily Log'!$AP$18:$AP$1017),0)","v":0},{"$f":"IFERROR($E300*SUMIF('Daily Log'!$AR$18:$AR$1017,$B300,'Daily Log'!$AS$18:$AS$1017),0)","v":0},{"$f":"IFERROR($E300*SUMIF('Daily Log'!$AU$18:$AU$1017,$B300,'Daily Log'!$AV$18:$AV$1017),0)","v":0},{"$f":"IFERROR($E300*SUMIF('Daily Log'!$AX$18:$AX$1017,$B300,'Daily Log'!$AY$18:$AY$1017),0)","v":0},{"$f":"IFERROR($E300*SUMIF('Daily Log'!$BA$18:$BA$1017,$B300,'Daily Log'!$BB$18:$BB$1017),0)","v":0},{"$f":"IFERROR($E300*SUMIF('Daily Log'!$BD$18:$BD$1017,$B300,'Daily Log'!$BE$18:$BE$1017),0)","v":0},{"$f":"IFERROR($E300*SUMIF('Daily Log'!$BG$18:$BG$1017,$B300,'Daily Log'!$BH$18:$BH$1017),0)","v":0},{"$f":"IFERROR($E300*SUMIF('Daily Log'!$BJ$18:$BJ$1017,$B300,'Daily Log'!$BK$18:$BK$1017),0)","v":0},{"$f":"IFERROR($E300*SUMIF('Daily Log'!$BM$18:$BM$1017,$B300,'Daily Log'!$BN$18:$BN$1017),0)","v":0},{"$f":"IFERROR($E300*SUMIF('Daily Log'!$BP$18:$BP$1017,$B300,'Daily Log'!$BQ$18:$BQ$1017),0)","v":0},{"$f":"IFERROR($E300*SUMIF('Daily Log'!$BS$18:$BS$1017,$B300,'Daily Log'!$BT$18:$BT$1017),0)","v":0},{"$f":"IFERROR($E300*SUMIF('Daily Log'!$BV$18:$BV$1017,$B300,'Daily Log'!$BW$18:$BW$1017),0)","v":0},{"$f":"IFERROR($E300*SUMIF('Daily Log'!$BY$18:$BY$1017,$B300,'Daily Log'!$BZ$18:$BZ$1017),0)","v":0},{"$f":"IFERROR($E300*SUMIF('Daily Log'!$CB$18:$CB$1017,$B300,'Daily Log'!$CC$18:$CC$1017),0)","v":0},{"$f":"IFERROR($E300*SUMIF('Daily Log'!$CE$18:$CE$1017,$B300,'Daily Log'!$CF$18:$CF$1017),0)","v":0},{"$f":"IFERROR($E300*SUMIF('Daily Log'!$CH$18:$CH$1017,$B300,'Daily Log'!$CI$18:$CI$1017),0)","v":0},{"$f":"IFERROR($E300*SUMIF('Daily Log'!$CK$18:$CK$1017,$B300,'Daily Log'!$CL$18:$CL$1017),0)","v":0},{"$f":"IFERROR($E300*SUMIF('Daily Log'!$CN$18:$CN$1017,$B300,'Daily Log'!$CO$18:$CO$1017),0)","v":0}]
[null,null,null,null,1,0,{"$f":"IFERROR($E301*SUMIF('Daily Log'!$B$18:$B$1017,$B301,'Daily Log'!$C$18:$C$1017),0)","v":0},{"$f":"IFERROR($E301*SUMIF('Daily Log'!$E$18:$E$1017,$B301,'Daily Log'!$F$18:$F$1017),0)","v":0},{"$f":"IFERROR($E301*SUMIF('Daily Log'!$H$18:$H$1017,$B301,'Daily Log'!$I$18:$I$1017),0)","v":0},{"$f":"IFERROR($E301*SUMIF('Daily Log'!$K$18:$K$1017,$B301,'Daily Log'!$L$18:$L$1017),0)","v":0},{"$f":"IFERROR($E301*SUMIF('Daily Log'!$N$18:$N$1017,$B301,'Daily Log'!$O$18:$O$1017),0)","v":0},{"$f":"IFERROR($E301*SUMIF('Daily Log'!$Q$18:$Q$1017,$B301,'Daily Log'!$R$18:$R$1017),0)","v":0},{"$f":"IFERROR($E301*SUMIF('Daily Log'!$T$18:$T$1017,$B301,'Daily Log'!$U$18:$U$1017),0)","v":0},{"$f":"IFERROR($E301*SUMIF('Daily Log'!$W$18:$W$1017,$B301,'Daily Log'!$X$18:$X$1017),0)","v":0},{"$f":"IFERROR($E301*SUMIF('Daily Log'!$Z$18:$Z$1017,$B301,'Daily Log'!$AA$18:$AA$1017),0)","v":0},{"$f":"IFERROR($E301*SUMIF('Daily Log'!$AC$18:$AC$1017,$B301,'Daily Log'!$AD$18:$AD$1017),0)","v":0},{"$f":"IFERROR($E301*SUMIF('Daily Log'!$AF$18:$AF$1017,$B301,'Daily Log'!$AG$18:$AG$1017),0)","v":0},{"$f":"IFERROR($E301*SUMIF('Daily Log'!$AI$18:$AI$1017,$B301,'Daily Log'!$AJ$18:$AJ$1017),0)","v":0},{"$f":"IFERROR($E301*SUMIF('Daily Log'!$AL$18:$AL$1017,$B301,'Daily Log'!$AM$18:$AM$1017),0)","v":0},{"$f":"IFERROR($E301*SUMIF('Daily Log'!$AO$18:$AO$1017,$B301,'Daily Log'!$AP$18:$AP$1017),0)","v":0},{"$f":"IFERROR($E301*SUMIF('Daily Log'!$AR$18:$AR$1017,$B301,'Daily Log'!$AS$18:$AS$1017),0)","v":0},{"$f":"IFERROR($E301*SUMIF('Daily Log'!$AU$18:$AU$1017,$B301,'Daily Log'!$AV$18:$AV$1017),0)","v":0},{"$f":"IFERROR($E301*SUMIF('Daily Log'!$AX$18:$AX$1017,$B301,'Daily Log'!$AY$18:$AY$1017),0)","v":0},{"$f":"IFERROR($E301*SUMIF('Daily Log'!$BA$18:$BA$1017,$B301,'Daily Log'!$BB$18:$BB$1017),0)","v":0},{"$f":"IFERROR($E301*SUMIF('Daily Log'!$BD$18:$BD$1017,$B301,'Daily Log'!$BE$18:$BE$1017),0)","v":0},{"$f":"IFERROR($E301*SUMIF('Daily Log'!$BG$18:$BG$1017,$B301,'Daily Log'!$BH$18:$BH$1017),0)","v":0},{"$f":"IFERROR($E301*SUMIF('Daily Log'!$BJ$18:$BJ$1017,$B301,'Daily Log'!$BK$18:$BK$1017),0)","v":0},{"$f":"IFERROR($E301*SUMIF('Daily Log'!$BM$18:$BM$1017,$B301,'Daily Log'!$BN$18:$BN$1017),0)","v":0},{"$f":"IFERROR($E301*SUMIF('Daily Log'!$BP$18:$BP$1017,$B301,'Daily Log'!$BQ$18:$BQ$1017),0)","v":0},{"$f":"IFERROR($E301*SUMIF('Daily Log'!$BS$18:$BS$1017,$B301,'Daily Log'!$BT$18:$BT$1017),0)","v":0},{"$f":"IFERROR($E301*SUMIF('Daily Log'!$BV$18:$BV$1017,$B301,'Daily Log'!$BW$18:$BW$1017),0)","v":0},{"$f":"IFERROR($E301*SUMIF('Daily Log'!$BY$18:$BY$1017,$B301,'Daily Log'!$BZ$18:$BZ$1017),0)","v":0},{"$f":"IFERROR($E301*SUMIF('Daily Log'!$CB$18:$CB$1017,$B301,'Daily Log'!$CC$18:$CC$1017),0)","v":0},{"$f":"IFERROR($E301*SUMIF('Daily Log'!$CE$18:$CE$1017,$B301,'Daily Log'!$CF$18:$CF$1017),0)","v":0},{"$f":"IFERROR($E301*SUMIF('Daily Log'!$CH$18:$CH$1017,$B301,'Daily Log'!$CI$18:$CI$1017),0)","v":0},{"$f":"IFERROR($E301*SUMIF('Daily Log'!$CK$18:$CK$1017,$B301,'Daily Log'!$CL$18:$CL$1017),0)","v":0},{"$f":"IFERROR($E301*SUMIF('Daily Log'!$CN$18:$CN$1017,$B301,'Daily Log'!$CO$18:$CO$1017),0)","v":0}]
[null,null,null,null,4,0,{"$f":"IFERROR($E302*SUMIF('Daily Log'!$B$18:$B$1017,$B302,'Daily Log'!$C$18:$C$1017),0)","v":0},{"$f":"IFERROR($E302*SUMIF('Daily Log'!$E$18:$E$1017,$B302,'Daily Log'!$F$18:$F$1017),0)","v":0},{"$f":"IFERROR($E302*SUMIF('Daily Log'!$H$18:$H$1017,$B302,'Daily Log'!$I$18:$I$1017),0)","v":0},{"$f":"IFERROR($E302*SUMIF('Daily Log'!$K$18:$K$1017,$B302,'Daily Log'!$L$18:$L$1017),0)","v":0},{"$f":"IFERROR($E302*SUMIF('Daily Log'!$N$18:$N$1017,$B302,'Daily Log'!$O$18:$O$1017),0)","v":0},{"$f":"IFERROR($E302*SUMIF('Daily Log'!$Q$18:$Q$1017,$B302,'Daily Log'!$R$18:$R$1017),0)","v":0},{"$f":"IFERROR($E302*SUMIF('Daily Log'!$T$18:$T$1017,$B302,'Daily Log'!$U$18:$U$1017),0)","v":0},{"$f":"IFERROR($E302*SUMIF('Daily Log'!$W$18:$W$1017,$B302,'Daily Log'!$X$18:$X$1017),0)","v":0},{"$f":"IFERROR($E302*SUMIF('Daily Log'!$Z$18:$Z$1017,$B302,'Daily Log'!$AA$18:$AA$1017),0)","v":0},{"$f":"IFERROR($E302*SUMIF('Daily Log'!$AC$18:$AC$1017,$B302,'Daily Log'!$AD$18:$AD$1017),0)","v":0},{"$f":"IFERROR($E302*SUMIF('Daily Log'!$AF$18:$AF$1017,$B302,'Daily Log'!$AG$18:$AG$1017),0)","v":0},{"$f":"IFERROR($E302*SUMIF('Daily Log'!$AI$18:$AI$1017,$B302,'Daily Log'!$AJ$18:$AJ$1017),0)","v":0},{"$f":"IFERROR($E302*SUMIF('Daily Log'!$AL$18:$AL$1017,$B302,'Daily Log'!$AM$18:$AM$1017),0)","v":0},{"$f":"IFERROR($E302*SUMIF('Daily Log'!$AO$18:$AO$1017,$B302,'Daily Log'!$AP$18:$AP$1017),0)","v":0},{"$f":"IFERROR($E302*SUMIF('Daily Log'!$AR$18:$AR$1017,$B302,'Daily Log'!$AS$18:$AS$1017),0)","v":0},{"$f":"IFERROR($E302*SUMIF('Daily Log'!$AU$18:$AU$1017,$B302,'Daily Log'!$AV$18:$AV$1017),0)","v":0},{"$f":"IFERROR($E302*SUMIF('Daily Log'!$AX$18:$AX$1017,$B302,'Daily Log'!$AY$18:$AY$1017),0)","v":0},{"$f":"IFERROR($E302*SUMIF('Daily Log'!$BA$18:$BA$1017,$B302,'Daily Log'!$BB$18:$BB$1017),0)","v":0},{"$f":"IFERROR($E302*SUMIF('Daily Log'!$BD$18:$BD$1017,$B302,'Daily Log'!$BE$18:$BE$1017),0)","v":0},{"$f":"IFERROR($E302*SUMIF('Daily Log'!$BG$18:$BG$1017,$B302,'Daily Log'!$BH$18:$BH$1017),0)","v":0},{"$f":"IFERROR($E302*SUMIF('Daily Log'!$BJ$18:$BJ$1017,$B302,'Daily Log'!$BK$18:$BK$1017),0)","v":0},{"$f":"IFERROR($E302*SUMIF('Daily Log'!$BM$18:$BM$1017,$B302,'Daily Log'!$BN$18:$BN$1017),0)","v":0},{"$f":"IFERROR($E302*SUMIF('Daily Log'!$BP$18:$BP$1017,$B302,'Daily Log'!$BQ$18:$BQ$1017),0)","v":0},{"$f":"IFERROR($E302*SUMIF('Daily Log'!$BS$18:$BS$1017,$B302,'Daily Log'!$BT$18:$BT$1017),0)","v":0},{"$f":"IFERROR($E302*SUMIF('Daily Log'!$BV$18:$BV$1017,$B302,'Daily Log'!$BW$18:$BW$1017),0)","v":0},{"$f":"IFERROR($E302*SUMIF('Daily Log'!$BY$18:$BY$1017,$B302,'Daily Log'!$BZ$18:$BZ$1017),0)","v":0},{"$f":"IFERROR($E302*SUMIF('Daily Log'!$CB$18:$CB$1017,$B302,'Daily Log'!$CC$18:$CC$1017),0)","v":0},{"$f":"IFERROR($E302*SUMIF('Daily Log'!$CE$18:$CE$1017,$B302,'Daily Log'!$CF$18:$CF$1017),0)","v":0},{"$f":"IFERROR($E302*SUMIF('Daily Log'!$CH$18:$CH$1017,$B302,'Daily Log'!$CI$18:$CI$1017),0)","v":0},{"$f":"IFERROR($E302*SUMIF('Daily Log'!$CK$18:$CK$1017,$B302,'Daily Log'!$CL$18:$CL$1017),0)","v":0},{"$f":"IFERROR($E302*SUMIF('Daily Log'!$CN$18:$CN$1017,$B302,'Daily Log'!$CO$18:$CO$1017),0)","v":0}]
[null,null,null,null,1,0,{"$f":"IFERROR($E303*SUMIF('Daily Log'!$B$18:$B$1017,$B303,'Daily Log'!$C$18:$C$1017),0)","v":0},{"$f":"IFERROR($E303*SUMIF('Daily Log'!$E$18:$E$1017,$B303,'Daily Log'!$F$18:$F$1017),0)","v":0},{"$f":"IFERROR($E303*SUMIF('Daily Log'!$H$18:$H$1017,$B303,'Daily Log'!$I$18:$I$1017),0)","v":0},{"$f":"IFERROR($E303*SUMIF('Daily Log'!$K$18:$K$1017,$B303,'Daily Log'!$L$18:$L$1017),0)","v":0},{"$f":"IFERROR($E303*SUMIF('Daily Log'!$N$18:$N$1017,$B303,'Daily Log'!$O$18:$O$1017),0)","v":0},{"$f":"IFERROR($E303*SUMIF('Daily Log'!$Q$18:$Q$1017,$B303,'Daily Log'!$R$18:$R$1017),0)","v":0},{"$f":"IFERROR($E303*SUMIF('Daily Log'!$T$18:$T$1017,$B303,'Daily Log'!$U$18:$U$1017),0)","v":0},{"$f":"IFERROR($E303*SUMIF('Daily Log'!$W$18:$W$1017,$B303,'Daily Log'!$X$18:$X$1017),0)","v":0},{"$f":"IFERROR($E303*SUMIF('Daily Log'!$Z$18:$Z$1017,$B303,'Daily Log'!$AA$18:$AA$1017),0)","v":0},{"$f":"IFERROR($E303*SUMIF('Daily Log'!$AC$18:$AC$1017,$B303,'Daily Log'!$AD$18:$AD$1017),0)","v":0},{"$f":"IFERROR($E303*SUMIF('Daily Log'!$AF$18:$AF$1017,$B303,'Daily Log'!$AG$18:$AG$1017),0)","v":0},{"$f":"IFERROR($E303*SUMIF('Daily Log'!$AI$18:$AI$1017,$B303,'Daily Log'!$AJ$18:$AJ$1017),0)","v":0},{"$f":"IFERROR($E303*SUMIF('Daily Log'!$AL$18:$AL$1017,$B303,'Daily Log'!$AM$18:$AM$1017),0)","v":0},{"$f":"IFERROR($E303*SUMIF('Daily Log'!$AO$18:$AO$1017,$B303,'Daily Log'!$AP$18:$AP$1017),0)","v":0},{"$f":"IFERROR($E303*SUMIF('Daily Log'!$AR$18:$AR$1017,$B303,'Daily Log'!$AS$18:$AS$1017),0)","v":0},{"$f":"IFERROR($E303*SUMIF('Daily Log'!$AU$18:$AU$1017,$B303,'Daily Log'!$AV$18:$AV$1017),0)","v":0},{"$f":"IFERROR($E303*SUMIF('Daily Log'!$AX$18:$AX$1017,$B303,'Daily Log'!$AY$18:$AY$1017),0)","v":0},{"$f":"IFERROR($E303*SUMIF('Daily Log'!$BA$18:$BA$1017,$B303,'Daily Log'!$BB$18:$BB$1017),0)","v":0},{"$f":"IFERROR($E303*SUMIF('Daily Log'!$BD$18:$BD$1017,$B303,'Daily Log'!$BE$18:$BE$1017),0)","v":0},{"$f":"IFERROR($E303*SUMIF('Daily Log'!$BG$18:$BG$1017,$B303,'Daily Log'!$BH$18:$BH$1017),0)","v":0},{"$f":"IFERROR($E303*SUMIF('Daily Log'!$BJ$18:$BJ$1017,$B303,'Daily Log'!$BK$18:$BK$1017),0)","v":0},{"$f":"IFERROR($E303*SUMIF('Daily Log'!$BM$18:$BM$1017,$B303,'Daily Log'!$BN$18:$BN$1017),0)","v":0},{"$f":"IFERROR($E303*SUMIF('Daily Log'!$BP$18:$BP$1017,$B303,'Daily Log'!$BQ$18:$BQ$1017),0)","v":0},{"$f":"IFERROR($E303*SUMIF('Daily Log'!$BS$18:$BS$1017,$B303,'Daily Log'!$BT$18:$BT$1017),0)","v":0},{"$f":"IFERROR($E303*SUMIF('Daily Log'!$BV$18:$BV$1017,$B303,'Daily Log'!$BW$18:$BW$1017),0)","v":0},{"$f":"IFERROR($E303*SUMIF('Daily Log'!$BY$18:$BY$1017,$B303,'Daily Log'!$BZ$18:$BZ$1017),0)","v":0},{"$f":"IFERROR($E303*SUMIF('Daily Log'!$CB$18:$CB$1017,$B303,'Daily Log'!$CC$18:$CC$1017),0)","v":0},{"$f":"IFERROR($E303*SUMIF('Daily Log'!$CE$18:$CE$1017,$B303,'Daily Log'!$CF$18:$CF$1017),0)","v":0},{"$f":"IFERROR($E303*SUMIF('Daily Log'!$CH$18:$CH$1017,$B303,'Daily Log'!$CI$18:$CI$1017),0)","v":0},{"$f":"IFERROR($E303*SUMIF('Daily Log'!$CK$18:$CK$1017,$B303,'Daily Log'!$CL$18:$CL$1017),0)","v":0},{"$f":"IFERROR($E303*SUMIF('Daily Log'!$CN$18:$CN$1017,$B303,'Daily Log'!$CO$18:$CO$1017),0)","v":0}]
[null,null,null,null,4,0,{"$f":"IFERROR($E304*SUMIF('Daily Log'!$B$18:$B$1017,$B304,'Daily Log'!$C$18:$C$1017),0)","v":0},{"$f":"IFERROR($E304*SUMIF('Daily Log'!$E$18:$E$1017,$B304,'Daily Log'!$F$18:$F$1017),0)","v":0},{"$f":"IFERROR($E304*SUMIF('Daily Log'!$H$18:$H$1017,$B304,'Daily Log'!$I$18:$I$1017),0)","v":0},{"$f":"IFERROR($E304*SUMIF('Daily Log'!$K$18:$K$1017,$B304,'Daily Log'!$L$18:$L$1017),0)","v":0},{"$f":"IFERROR($E304*SUMIF('Daily Log'!$N$18:$N$1017,$B304,'Daily Log'!$O$18:$O$1017),0)","v":0},{"$f":"IFERROR($E304*SUMIF('Daily Log'!$Q$18:$Q$1017,$B304,'Daily Log'!$R$18:$R$1017),0)","v":0},{"$f":"IFERROR($E304*SUMIF('Daily Log'!$T$18:$T$1017,$B304,'Daily Log'!$U$18:$U$1017),0)","v":0},{"$f":"IFERROR($E304*SUMIF('Daily Log'!$W$18:$W$1017,$B304,'Daily Log'!$X$18:$X$1017),0)","v":0},{"$f":"IFERROR($E304*SUMIF('Daily Log'!$Z$18:$Z$1017,$B304,'Daily Log'!$AA$18:$AA$1017),0)","v":0},{"$f":"IFERROR($E304*SUMIF('Daily Log'!$AC$18:$AC$1017,$B304,'Daily Log'!$AD$18:$AD$1017),0)","v":0},{"$f":"IFERROR($E304*SUMIF('Daily Log'!$AF$18:$AF$1017,$B304,'Daily Log'!$AG$18:$AG$1017),0)","v":0},{"$f":"IFERROR($E304*SUMIF('Daily Log'!$AI$18:$AI$1017,$B304,'Daily Log'!$AJ$18:$AJ$1017),0)","v":0},{"$f":"IFERROR($E304*SUMIF('Daily Log'!$AL$18:$AL$1017,$B304,'Daily Log'!$AM$18:$AM$1017),0)","v":0},{"$f":"IFERROR($E304*SUMIF('Daily Log'!$AO$18:$AO$1017,$B304,'Daily Log'!$AP$18:$AP$1017),0)","v":0},{"$f":"IFERROR($E304*SUMIF('Daily Log'!$AR$18:$AR$1017,$B304,'Daily Log'!$AS$18:$AS$1017),0)","v":0},{"$f":"IFERROR($E304*SUMIF('Daily Log'!$AU$18:$AU$1017,$B304,'Daily Log'!$AV$18:$AV$1017),0)","v":0},{"$f":"IFERROR($E304*SUMIF('Daily Log'!$AX$18:$AX$1017,$B304,'Daily Log'!$AY$18:$AY$1017),0)","v":0},{"$f":"IFERROR($E304*SUMIF('Daily Log'!$BA$18:$BA$1017,$B304,'Daily Log'!$BB$18:$BB$1017),0)","v":0},{"$f":"IFERROR($E304*SUMIF('Daily Log'!$BD$18:$BD$1017,$B304,'Daily Log'!$BE$18:$BE$1017),0)","v":0},{"$f":"IFERROR($E304*SUMIF('Daily Log'!$BG$18:$BG$1017,$B304,'Daily Log'!$BH$18:$BH$1017),0)","v":0},{"$f":"IFERROR($E304*SUMIF('Daily Log'!$BJ$18:$BJ$1017,$B304,'Daily Log'!$BK$18:$BK$1017),0)","v":0},{"$f":"IFERROR($E304*SUMIF('Daily Log'!$BM$18:$BM$1017,$B304,'Daily Log'!$BN$18:$BN$1017),0)","v":0},{"$f":"IFERROR($E304*SUMIF('Daily Log'!$BP$18:$BP$1017,$B304,'Daily Log'!$BQ$18:$BQ$1017),0)","v":0},{"$f":"IFERROR($E304*SUMIF('Daily Log'!$BS$18:$BS$1017,$B304,'Daily Log'!$BT$18:$BT$1017),0)","v":0},{"$f":"IFERROR($E304*SUMIF('Daily Log'!$BV$18:$BV$1017,$B304,'Daily Log'!$BW$18:$BW$1017),0)","v":0},{"$f":"IFERROR($E304*SUMIF('Daily Log'!$BY$18:$BY$1017,$B304,'Daily Log'!$BZ$18:$BZ$1017),0)","v":0},{"$f":"IFERROR($E304*SUMIF('Daily Log'!$CB$18:$CB$1017,$B304,'Daily Log'!$CC$18:$CC$1017),0)","v":0},{"$f":"IFERROR($E304*SUMIF('Daily Log'!$CE$18:$CE$1017,$B304,'Daily Log'!$CF$18:$CF$1017),0)","v":0},{"$f":"IFERROR($E304*SUMIF('Daily Log'!$CH$18:$CH$1017,$B304,'Daily Log'!$CI$18:$CI$1017),0)","v":0},{"$f":"IFERROR($E304*SUMIF('Daily Log'!$CK$18:$CK$1017,$B304,'Daily Log'!$CL$18:$CL$1017),0)","v":0},{"$f":"IFERROR($E304*SUMIF('Daily Log'!$CN$18:$CN$1017,$B304,'Daily Log'!$CO$18:$CO$1017),0)","v":0}]
[null,null,null,null,4,0,{"$f":"IFERROR($E305*SUMIF('Daily Log'!$B$18:$B$1017,$B305,'Daily Log'!$C$18:$C$1017),0)","v":0},{"$f":"IFERROR($E305*SUMIF('Daily Log'!$E$18:$E$1017,$B305,'Daily Log'!$F$18:$F$1017),0)","v":0},{"$f":"IFERROR($E305*SUMIF('Daily Log'!$H$18:$H$1017,$B305,'Daily Log'!$I$18:$I$1017),0)","v":0},{"$f":"IFERROR($E305*SUMIF('Daily Log'!$K$18:$K$1017,$B305,'Daily Log'!$L$18:$L$1017),0)","v":0},{"$f":"IFERROR($E305*SUMIF('Daily Log'!$N$18:$N$1017,$B305,'Daily Log'!$O$18:$O$1017),0)","v":0},{"$f":"IFERROR($E305*SUMIF('Daily Log'!$Q$18:$Q$1017,$B305,'Daily Log'!$R$18:$R$1017),0)","v":0},{"$f":"IFERROR($E305*SUMIF('Daily Log'!$T$18:$T$1017,$B305,'Daily Log'!$U$18:$U$1017),0)","v":0},{"$f":"IFERROR($E305*SUMIF('Daily Log'!$W$18:$W$1017,$B305,'Daily Log'!$X$18:$X$1017),0)","v":0},{"$f":"IFERROR($E305*SUMIF('Daily Log'!$Z$18:$Z$1017,$B305,'Daily Log'!$AA$18:$AA$1017),0)","v":0},{"$f":"IFERROR($E305*SUMIF('Daily Log'!$AC$18:$AC$1017,$B305,'Daily Log'!$AD$18:$AD$1017),0)","v":0},{"$f":"IFERROR($E305*SUMIF('Daily Log'!$AF$18:$AF$1017,$B305,'Daily Log'!$AG$18:$AG$1017),0)","v":0},{"$f":"IFERROR($E305*SUMIF('Daily Log'!$AI$18:$AI$1017,$B305,'Daily Log'!$AJ$18:$AJ$1017),0)","v":0},{"$f":"IFERROR($E305*SUMIF('Daily Log'!$AL$18:$AL$1017,$B305,'Daily Log'!$AM$18:$AM$1017),0)","v":0},{"$f":"IFERROR($E305*SUMIF('Daily Log'!$AO$18:$AO$1017,$B305,'Daily Log'!$AP$18:$AP$1017),0)","v":0},{"$f":"IFERROR($E305*SUMIF('Daily Log'!$AR$18:$AR$1017,$B305,'Daily Log'!$AS$18:$AS$1017),0)","v":0},{"$f":"IFERROR($E305*SUMIF('Daily Log'!$AU$18:$AU$1017,$B305,'Daily Log'!$AV$18:$AV$1017),0)","v":0},{"$f":"IFERROR($E305*SUMIF('Daily Log'!$AX$18:$AX$1017,$B305,'Daily Log'!$AY$18:$AY$1017),0)","v":0},{"$f":"IFERROR($E305*SUMIF('Daily Log'!$BA$18:$BA$1017,$B305,'Daily Log'!$BB$18:$BB$1017),0)","v":0},{"$f":"IFERROR($E305*SUMIF('Daily Log'!$BD$18:$BD$1017,$B305,'Daily Log'!$BE$18:$BE$1017),0)","v":0},{"$f":"IFERROR($E305*SUMIF('Daily Log'!$BG$18:$BG$1017,$B305,'Daily Log'!$BH$18:$BH$1017),0)","v":0},{"$f":"IFERROR($E305*SUMIF('Daily Log'!$BJ$18:$BJ$1017,$B305,'Daily Log'!$BK$18:$BK$1017),0)","v":0},{"$f":"IFERROR($E305*SUMIF('Daily Log'!$BM$18:$BM$1017,$B305,'Daily Log'!$BN$18:$BN$1017),0)","v":0},{"$f":"IFERROR($E305*SUMIF('Daily Log'!$BP$18:$BP$1017,$B305,'Daily Log'!$BQ$18:$BQ$1017),0)","v":0},{"$f":"IFERROR($E305*SUMIF('Daily Log'!$BS$18:$BS$1017,$B305,'Daily Log'!$BT$18:$BT$1017),0)","v":0},{"$f":"IFERROR($E305*SUMIF('Daily Log'!$BV$18:$BV$1017,$B305,'Daily Log'!$BW$18:$BW$1017),0)","v":0},{"$f":"IFERROR($E305*SUMIF('Daily Log'!$BY$18:$BY$1017,$B305,'Daily Log'!$BZ$18:$BZ$1017),0)","v":0},{"$f":"IFERROR($E305*SUMIF('Daily Log'!$CB$18:$CB$1017,$B305,'Daily Log'!$CC$18:$CC$1017),0)","v":0},{"$f":"IFERROR($E305*SUMIF('Daily Log'!$CE$18:$CE$1017,$B305,'Daily Log'!$CF$18:$CF$1017),0)","v":0},{"$f":"IFERROR($E305*SUMIF('Daily Log'!$CH$18:$CH$1017,$B305,'Daily Log'!$CI$18:$CI$1017),0)","v":0},{"$f":"IFERROR($E305*SUMIF('Daily Log'!$CK$18:$CK$1017,$B305,'Daily Log'!$CL$18:$CL$1017),0)","v":0},{"$f":"IFERROR($E305*SUMIF('Daily Log'!$CN$18:$CN$1017,$B305,'Daily Log'!$CO$18:$CO$1017),0)","v":0}]
[null,null,null,null,1,0,{"$f":"IFERROR($E306*SUMIF('Daily Log'!$B$18:$B$1017,$B306,'Daily Log'!$C$18:$C$1017),0)","v":0},{"$f":"IFERROR($E306*SUMIF('Daily Log'!$E$18:$E$1017,$B306,'Daily Log'!$F$18:$F$1017),0)","v":0},{"$f":"IFERROR($E306*SUMIF('Daily Log'!$H$18:$H$1017,$B306,'Daily Log'!$I$18:$I$1017),0)","v":0},{"$f":"IFERROR($E306*SUMIF('Daily Log'!$K$18:$K$1017,$B306,'Daily Log'!$L$18:$L$1017),0)","v":0},{"$f":"IFERROR($E306*SUMIF('Daily Log'!$N$18:$N$1017,$B306,'Daily Log'!$O$18:$O$1017),0)","v":0},{"$f":"IFERROR($E306*SUMIF('Daily Log'!$Q$18:$Q$1017,$B306,'Daily Log'!$R$18:$R$1017),0)","v":0},{"$f":"IFERROR($E306*SUMIF('Daily Log'!$T$18:$T$1017,$B306,'Daily Log'!$U$18:$U$1017),0)","v":0},{"$f":"IFERROR($E306*SUMIF('Daily Log'!$W$18:$W$1017,$B306,'Daily Log'!$X$18:$X$1017),0)","v":0},{"$f":"IFERROR($E306*SUMIF('Daily Log'!$Z$18:$Z$1017,$B306,'Daily Log'!$AA$18:$AA$1017),0)","v":0},{"$f":"IFERROR($E306*SUMIF('Daily Log'!$AC$18:$AC$1017,$B306,'Daily Log'!$AD$18:$AD$1017),0)","v":0},{"$f":"IFERROR($E306*SUMIF('Daily Log'!$AF$18:$AF$1017,$B306,'Daily Log'!$AG$18:$AG$1017),0)","v":0},{"$f":"IFERROR($E306*SUMIF('Daily Log'!$AI$18:$AI$1017,$B306,'Daily Log'!$AJ$18:$AJ$1017),0)","v":0},{"$f":"IFERROR($E306*SUMIF('Daily Log'!$AL$18:$AL$1017,$B306,'Daily Log'!$AM$18:$AM$1017),0)","v":0},{"$f":"IFERROR($E306*SUMIF('Daily Log'!$AO$18:$AO$1017,$B306,'Daily Log'!$AP$18:$AP$1017),0)","v":0},{"$f":"IFERROR($E306*SUMIF('Daily Log'!$AR$18:$AR$1017,$B306,'Daily Log'!$AS$18:$AS$1017),0)","v":0},{"$f":"IFERROR($E306*SUMIF('Daily Log'!$AU$18:$AU$1017,$B306,'Daily Log'!$AV$18:$AV$1017),0)","v":0},{"$f":"IFERROR($E306*SUMIF('Daily Log'!$AX$18:$AX$1017,$B306,'Daily Log'!$AY$18:$AY$1017),0)","v":0},{"$f":"IFERROR($E306*SUMIF('Daily Log'!$BA$18:$BA$1017,$B306,'Daily Log'!$BB$18:$BB$1017),0)","v":0},{"$f":"IFERROR($E306*SUMIF('Daily Log'!$BD$18:$BD$1017,$B306,'Daily Log'!$BE$18:$BE$1017),0)","v":0},{"$f":"IFERROR($E306*SUMIF('Daily Log'!$BG$18:$BG$1017,$B306,'Daily Log'!$BH$18:$BH$1017),0)","v":0},{"$f":"IFERROR($E306*SUMIF('Daily Log'!$BJ$18:$BJ$1017,$B306,'Daily Log'!$BK$18:$BK$1017),0)","v":0},{"$f":"IFERROR($E306*SUMIF('Daily Log'!$BM$18:$BM$1017,$B306,'Daily Log'!$BN$18:$BN$1017),0)","v":0},{"$f":"IFERROR($E306*SUMIF('Daily Log'!$BP$18:$BP$1017,$B306,'Daily Log'!$BQ$18:$BQ$1017),0)","v":0},{"$f":"IFERROR($E306*SUMIF('Daily Log'!$BS$18:$BS$1017,$B306,'Daily Log'!$BT$18:$BT$1017),0)","v":0},{"$f":"IFERROR($E306*SUMIF('Daily Log'!$BV$18:$BV$1017,$B306,'Daily Log'!$BW$18:$BW$1017),0)","v":0},{"$f":"IFERROR($E306*SUMIF('Daily Log'!$BY$18:$BY$1017,$B306,'Daily Log'!$BZ$18:$BZ$1017),0)","v":0},{"$f":"IFERROR($E306*SUMIF('Daily Log'!$CB$18:$CB$1017,$B306,'Daily Log'!$CC$18:$CC$1017),0)","v":0},{"$f":"IFERROR($E306*SUMIF('Daily Log'!$CE$18:$CE$1017,$B306,'Daily Log'!$CF$18:$CF$1017),0)","v":0},{"$f":"IFERROR($E306*SUMIF('Daily Log'!$CH$18:$CH$1017,$B306,'Daily Log'!$CI$18:$CI$1017),0)","v":0},{"$f":"IFERROR($E306*SUMIF('Daily Log'!$CK$18:$CK$1017,$B306,'Daily Log'!$CL$18:$CL$1017),0)","v":0},{"$f":"IFERROR($E306*SUMIF('Daily Log'!$CN$18:$CN$1017,$B306,'Daily Log'!$CO$18:$CO$1017),0)","v":0}]
[null,null,null,null,4,0,{"$f":"IFERROR($E307*SUMIF('Daily Log'!$B$18:$B$1017,$B307,'Daily Log'!$C$18:$C$1017),0)","v":0},{"$f":"IFERROR($E307*SUMIF('Daily Log'!$E$18:$E$1017,$B307,'Daily Log'!$F$18:$F$1017),0)","v":0},{"$f":"IFERROR($E307*SUMIF('Daily Log'!$H$18:$H$1017,$B307,'Daily Log'!$I$18:$I$1017),0)","v":0},{"$f":"IFERROR($E307*SUMIF('Daily Log'!$K$18:$K$1017,$B307,'Daily Log'!$L$18:$L$1017),0)","v":0},{"$f":"IFERROR($E307*SUMIF('Daily Log'!$N$18:$N$1017,$B307,'Daily Log'!$O$18:$O$1017),0)","v":0},{"$f":"IFERROR($E307*SUMIF('Daily Log'!$Q$18:$Q$1017,$B307,'Daily Log'!$R$18:$R$1017),0)","v":0},{"$f":"IFERROR($E307*SUMIF('Daily Log'!$T$18:$T$1017,$B307,'Daily Log'!$U$18:$U$1017),0)","v":0},{"$f":"IFERROR($E307*SUMIF('Daily Log'!$W$18:$W$1017,$B307,'Daily Log'!$X$18:$X$1017),0)","v":0},{"$f":"IFERROR($E307*SUMIF('Daily Log'!$Z$18:$Z$1017,$B307,'Daily Log'!$AA$18:$AA$1017),0)","v":0},{"$f":"IFERROR($E307*SUMIF('Daily Log'!$AC$18:$AC$1017,$B307,'Daily Log'!$AD$18:$AD$1017),0)","v":0},{"$f":"IFERROR($E307*SUMIF('Daily Log'!$AF$18:$AF$1017,$B307,'Daily Log'!$AG$18:$AG$1017),0)","v":0},{"$f":"IFERROR($E307*SUMIF('Daily Log'!$AI$18:$AI$1017,$B307,'Daily Log'!$AJ$18:$AJ$1017),0)","v":0},{"$f":"IFERROR($E307*SUMIF('Daily Log'!$AL$18:$AL$1017,$B307,'Daily Log'!$AM$18:$AM$1017),0)","v":0},{"$f":"IFERROR($E307*SUMIF('Daily Log'!$AO$18:$AO$1017,$B307,'Daily Log'!$AP$18:$AP$1017),0)","v":0},{"$f":"IFERROR($E307*SUMIF('Daily Log'!$AR$18:$AR$1017,$B307,'Daily Log'!$AS$18:$AS$1017),0)","v":0},{"$f":"IFERROR($E307*SUMIF('Daily Log'!$AU$18:$AU$1017,$B307,'Daily Log'!$AV$18:$AV$1017),0)","v":0},{"$f":"IFERROR($E307*SUMIF('Daily Log'!$AX$18:$AX$1017,$B307,'Daily Log'!$AY$18:$AY$1017),0)","v":0},{"$f":"IFERROR($E307*SUMIF('Daily Log'!$BA$18:$BA$1017,$B307,'Daily Log'!$BB$18:$BB$1017),0)","v":0},{"$f":"IFERROR($E307*SUMIF('Daily Log'!$BD$18:$BD$1017,$B307,'Daily Log'!$BE$18:$BE$1017),0)","v":0},{"$f":"IFERROR($E307*SUMIF('Daily Log'!$BG$18:$BG$1017,$B307,'Daily Log'!$BH$18:$BH$1017),0)","v":0},{"$f":"IFERROR($E307*SUMIF('Daily Log'!$BJ$18:$BJ$1017,$B307,'Daily Log'!$BK$18:$BK$1017),0)","v":0},{"$f":"IFERROR($E307*SUMIF('Daily Log'!$BM$18:$BM$1017,$B307,'Daily Log'!$BN$18:$BN$1017),0)","v":0},{"$f":"IFERROR($E307*SUMIF('Daily Log'!$BP$18:$BP$1017,$B307,'Daily Log'!$BQ$18:$BQ$1017),0)","v":0},{"$f":"IFERROR($E307*SUMIF('Daily Log'!$BS$18:$BS$1017,$B307,'Daily Log'!$BT$18:$BT$1017),0)","v":0},{"$f":"IFERROR($E307*SUMIF('Daily Log'!$BV$18:$BV$1017,$B307,'Daily Log'!$BW$18:$BW$1017),0)","v":0},{"$f":"IFERROR($E307*SUMIF('Daily Log'!$BY$18:$BY$1017,$B307,'Daily Log'!$BZ$18:$BZ$1017),0)","v":0},{"$f":"IFERROR($E307*SUMIF('Daily Log'!$CB$18:$CB$1017,$B307,'Daily Log'!$CC$18:$CC$1017),0)","v":0},{"$f":"IFERROR($E307*SUMIF('Daily Log'!$CE$18:$CE$1017,$B307,'Daily Log'!$CF$18:$CF$1017),0)","v":0},{"$f":"IFERROR($E307*SUMIF('Daily Log'!$CH$18:$CH$1017,$B307,'Daily Log'!$CI$18:$CI$1017),0)","v":0},{"$f":"IFERROR($E307*SUMIF('Daily Log'!$CK$18:$CK$1017,$B307,'Daily Log'!$CL$18:$CL$1017),0)","v":0},{"$f":"IFERROR($E307*SUMIF('Daily Log'!$CN$18:$CN$1017,$B307,'Daily Log'!$CO$18:$CO$1017),0)","v":0}]
[null,null,null,null,4,0,{"$f":"IFERROR($E308*SUMIF('Daily Log'!$B$18:$B$1017,$B308,'Daily Log'!$C$18:$C$1017),0)","v":0},{"$f":"IFERROR($E308*SUMIF('Daily Log'!$E$18:$E$1017,$B308,'Daily Log'!$F$18:$F$1017),0)","v":0},{"$f":"IFERROR($E308*SUMIF('Daily Log'!$H$18:$H$1017,$B308,'Daily Log'!$I$18:$I$1017),0)","v":0},{"$f":"IFERROR($E308*SUMIF('Daily Log'!$K$18:$K$1017,$B308,'Daily Log'!$L$18:$L$1017),0)","v":0},{"$f":"IFERROR($E308*SUMIF('Daily Log'!$N$18:$N$1017,$B308,'Daily Log'!$O$18:$O$1017),0)","v":0},{"$f":"IFERROR($E308*SUMIF('Daily Log'!$Q$18:$Q$1017,$B308,'Daily Log'!$R$18:$R$1017),0)","v":0},{"$f":"IFERROR($E308*SUMIF('Daily Log'!$T$18:$T$1017,$B308,'Daily Log'!$U$18:$U$1017),0)","v":0},{"$f":"IFERROR($E308*SUMIF('Daily Log'!$W$18:$W$1017,$B308,'Daily Log'!$X$18:$X$1017),0)","v":0},{"$f":"IFERROR($E308*SUMIF('Daily Log'!$Z$18:$Z$1017,$B308,'Daily Log'!$AA$18:$AA$1017),0)","v":0},{"$f":"IFERROR($E308*SUMIF('Daily Log'!$AC$18:$AC$1017,$B308,'Daily Log'!$AD$18:$AD$1017),0)","v":0},{"$f":"IFERROR($E308*SUMIF('Daily Log'!$AF$18:$AF$1017,$B308,'Daily Log'!$AG$18:$AG$1017),0)","v":0},{"$f":"IFERROR($E308*SUMIF('Daily Log'!$AI$18:$AI$1017,$B308,'Daily Log'!$AJ$18:$AJ$1017),0)","v":0},{"$f":"IFERROR($E308*SUMIF('Daily Log'!$AL$18:$AL$1017,$B308,'Daily Log'!$AM$18:$AM$1017),0)","v":0},{"$f":"IFERROR($E308*SUMIF('Daily Log'!$AO$18:$AO$1017,$B308,'Daily Log'!$AP$18:$AP$1017),0)","v":0},{"$f":"IFERROR($E308*SUMIF('Daily Log'!$AR$18:$AR$1017,$B308,'Daily Log'!$AS$18:$AS$1017),0)","v":0},{"$f":"IFERROR($E308*SUMIF('Daily Log'!$AU$18:$AU$1017,$B308,'Daily Log'!$AV$18:$AV$1017),0)","v":0},{"$f":"IFERROR($E308*SUMIF('Daily Log'!$AX$18:$AX$1017,$B308,'Daily Log'!$AY$18:$AY$1017),0)","v":0},{"$f":"IFERROR($E308*SUMIF('Daily Log'!$BA$18:$BA$1017,$B308,'Daily Log'!$BB$18:$BB$1017),0)","v":0},{"$f":"IFERROR($E308*SUMIF('Daily Log'!$BD$18:$BD$1017,$B308,'Daily Log'!$BE$18:$BE$1017),0)","v":0},{"$f":"IFERROR($E308*SUMIF('Daily Log'!$BG$18:$BG$1017,$B308,'Daily Log'!$BH$18:$BH$1017),0)","v":0},{"$f":"IFERROR($E308*SUMIF('Daily Log'!$BJ$18:$BJ$1017,$B308,'Daily Log'!$BK$18:$BK$1017),0)","v":0},{"$f":"IFERROR($E308*SUMIF('Daily Log'!$BM$18:$BM$1017,$B308,'Daily Log'!$BN$18:$BN$1017),0)","v":0},{"$f":"IFERROR($E308*SUMIF('Daily Log'!$BP$18:$BP$1017,$B308,'Daily Log'!$BQ$18:$BQ$1017),0)","v":0},{"$f":"IFERROR($E308*SUMIF('Daily Log'!$BS$18:$BS$1017,$B308,'Daily Log'!$BT$18:$BT$1017),0)","v":0},{"$f":"IFERROR($E308*SUMIF('Daily Log'!$BV$18:$BV$1017,$B308,'Daily Log'!$BW$18:$BW$1017),0)","v":0},{"$f":"IFERROR($E308*SUMIF('Daily Log'!$BY$18:$BY$1017,$B308,'Daily Log'!$BZ$18:$BZ$1017),0)","v":0},{"$f":"IFERROR($E308*SUMIF('Daily Log'!$CB$18:$CB$1017,$B308,'Daily Log'!$CC$18:$CC$1017),0)","v":0},{"$f":"IFERROR($E308*SUMIF('Daily Log'!$CE$18:$CE$1017,$B308,'Daily Log'!$CF$18:$CF$1017),0)","v":0},{"$f":"IFERROR($E308*SUMIF('Daily Log'!$CH$18:$CH$1017,$B308,'Daily Log'!$CI$18:$CI$1017),0)","v":0},{"$f":"IFERROR($E308*SUMIF('Daily Log'!$CK$18:$CK$1017,$B308,'Daily Log'!$CL$18:$CL$1017),0)","v":0},{"$f":"IFERROR($E308*SUMIF('Daily Log'!$CN$18:$CN$1017,$B308,'Daily Log'!$CO$18:$CO$1017),0)","v":0}]
[null,null,null,null,1,0,{"$f":"IFERROR($E309*SUMIF('Daily Log'!$B$18:$B$1017,$B309,'Daily Log'!$C$18:$C$1017),0)","v":0},{"$f":"IFERROR($E309*SUMIF('Daily Log'!$E$18:$E$1017,$B309,'Daily Log'!$F$18:$F$1017),0)","v":0},{"$f":"IFERROR($E309*SUMIF('Daily Log'!$H$18:$H$1017,$B309,'Daily Log'!$I$18:$I$1017),0)","v":0},{"$f":"IFERROR($E309*SUMIF('Daily Log'!$K$18:$K$1017,$B309,'Daily Log'!$L$18:$L$1017),0)","v":0},{"$f":"IFERROR($E309*SUMIF('Daily Log'!$N$18:$N$1017,$B309,'Daily Log'!$O$18:$O$1017),0)","v":0},{"$f":"IFERROR($E309*SUMIF('Daily Log'!$Q$18:$Q$1017,$B309,'Daily Log'!$R$18:$R$1017),0)","v":0},{"$f":"IFERROR($E309*SUMIF('Daily Log'!$T$18:$T$1017,$B309,'Daily Log'!$U$18:$U$1017),0)","v":0},{"$f":"IFERROR($E309*SUMIF('Daily Log'!$W$18:$W$1017,$B309,'Daily Log'!$X$18:$X$1017),0)","v":0},{"$f":"IFERROR($E309*SUMIF('Daily Log'!$Z$18:$Z$1017,$B309,'Daily Log'!$AA$18:$AA$1017),0)","v":0},{"$f":"IFERROR($E309*SUMIF('Daily Log'!$AC$18:$AC$1017,$B309,'Daily Log'!$AD$18:$AD$1017),0)","v":0},{"$f":"IFERROR($E309*SUMIF('Daily Log'!$AF$18:$AF$1017,$B309,'Daily Log'!$AG$18:$AG$1017),0)","v":0},{"$f":"IFERROR($E309*SUMIF('Daily Log'!$AI$18:$AI$1017,$B309,'Daily Log'!$AJ$18:$AJ$1017),0)","v":0},{"$f":"IFERROR($E309*SUMIF('Daily Log'!$AL$18:$AL$1017,$B309,'Daily Log'!$AM$18:$AM$1017),0)","v":0},{"$f":"IFERROR($E309*SUMIF('Daily Log'!$AO$18:$AO$1017,$B309,'Daily Log'!$AP$18:$AP$1017),0)","v":0},{"$f":"IFERROR($E309*SUMIF('Daily Log'!$AR$18:$AR$1017,$B309,'Daily Log'!$AS$18:$AS$1017),0)","v":0},{"$f":"IFERROR($E309*SUMIF('Daily Log'!$AU$18:$AU$1017,$B309,'Daily Log'!$AV$18:$AV$1017),0)","v":0},{"$f":"IFERROR($E309*SUMIF('Daily Log'!$AX$18:$AX$1017,$B309,'Daily Log'!$AY$18:$AY$1017),0)","v":0},{"$f":"IFERROR($E309*SUMIF('Daily Log'!$BA$18:$BA$1017,$B309,'Daily Log'!$BB$18:$BB$1017),0)","v":0},{"$f":"IFERROR($E309*SUMIF('Daily Log'!$BD$18:$BD$1017,$B309,'Daily Log'!$BE$18:$BE$1017),0)","v":0},{"$f":"IFERROR($E309*SUMIF('Daily Log'!$BG$18:$BG$1017,$B309,'Daily Log'!$BH$18:$BH$1017),0)","v":0},{"$f":"IFERROR($E309*SUMIF('Daily Log'!$BJ$18:$BJ$1017,$B309,'Daily Log'!$BK$18:$BK$1017),0)","v":0},{"$f":"IFERROR($E309*SUMIF('Daily Log'!$BM$18:$BM$1017,$B309,'Daily Log'!$BN$18:$BN$1017),0)","v":0},{"$f":"IFERROR($E309*SUMIF('Daily Log'!$BP$18:$BP$1017,$B309,'Daily Log'!$BQ$18:$BQ$1017),0)","v":0},{"$f":"IFERROR($E309*SUMIF('Daily Log'!$BS$18:$BS$1017,$B309,'Daily Log'!$BT$18:$BT$1017),0)","v":0},{"$f":"IFERROR($E309*SUMIF('Daily Log'!$BV$18:$BV$1017,$B309,'Daily Log'!$BW$18:$BW$1017),0)","v":0},{"$f":"IFERROR($E309*SUMIF('Daily Log'!$BY$18:$BY$1017,$B309,'Daily Log'!$BZ$18:$BZ$1017),0)","v":0},{"$f":"IFERROR($E309*SUMIF('Daily Log'!$CB$18:$CB$1017,$B309,'Daily Log'!$CC$18:$CC$1017),0)","v":0},{"$f":"IFERROR($E309*SUMIF('Daily Log'!$CE$18:$CE$1017,$B309,'Daily Log'!$CF$18:$CF$1017),0)","v":0},{"$f":"IFERROR($E309*SUMIF('Daily Log'!$CH$18:$CH$1017,$B309,'Daily Log'!$CI$18:$CI$1017),0)","v":0},{"$f":"IFERROR($E309*SUMIF('Daily Log'!$CK$18:$CK$1017,$B309,'Daily Log'!$CL$18:$CL$1017),0)","v":0},{"$f":"IFERROR($E309*SUMIF('Daily Log'!$CN$18:$CN$1017,$B309,'Daily Log'!$CO$18:$CO$1017),0)","v":0}]
[null,null,null,null,1,0,{"$f":"IFERROR($E310*SUMIF('Daily Log'!$B$18:$B$1017,$B310,'Daily Log'!$C$18:$C$1017),0)","v":0},{"$f":"IFERROR($E310*SUMIF('Daily Log'!$E$18:$E$1017,$B310,'Daily Log'!$F$18:$F$1017),0)","v":0},{"$f":"IFERROR($E310*SUMIF('Daily Log'!$H$18:$H$1017,$B310,'Daily Log'!$I$18:$I$1017),0)","v":0},{"$f":"IFERROR($E310*SUMIF('Daily Log'!$K$18:$K$1017,$B310,'Daily Log'!$L$18:$L$1017),0)","v":0},{"$f":"IFERROR($E310*SUMIF('Daily Log'!$N$18:$N$1017,$B310,'Daily Log'!$O$18:$O$1017),0)","v":0},{"$f":"IFERROR($E310*SUMIF('Daily Log'!$Q$18:$Q$1017,$B310,'Daily Log'!$R$18:$R$1017),0)","v":0},{"$f":"IFERROR($E310*SUMIF('Daily Log'!$T$18:$T$1017,$B310,'Daily Log'!$U$18:$U$1017),0)","v":0},{"$f":"IFERROR($E310*SUMIF('Daily Log'!$W$18:$W$1017,$B310,'Daily Log'!$X$18:$X$1017),0)","v":0},{"$f":"IFERROR($E310*SUMIF('Daily Log'!$Z$18:$Z$1017,$B310,'Daily Log'!$AA$18:$AA$1017),0)","v":0},{"$f":"IFERROR($E310*SUMIF('Daily Log'!$AC$18:$AC$1017,$B310,'Daily Log'!$AD$18:$AD$1017),0)","v":0},{"$f":"IFERROR($E310*SUMIF('Daily Log'!$AF$18:$AF$1017,$B310,'Daily Log'!$AG$18:$AG$1017),0)","v":0},{"$f":"IFERROR($E310*SUMIF('Daily Log'!$AI$18:$AI$1017,$B310,'Daily Log'!$AJ$18:$AJ$1017),0)","v":0},{"$f":"IFERROR($E310*SUMIF('Daily Log'!$AL$18:$AL$1017,$B310,'Daily Log'!$AM$18:$AM$1017),0)","v":0},{"$f":"IFERROR($E310*SUMIF('Daily Log'!$AO$18:$AO$1017,$B310,'Daily Log'!$AP$18:$AP$1017),0)","v":0},{"$f":"IFERROR($E310*SUMIF('Daily Log'!$AR$18:$AR$1017,$B310,'Daily Log'!$AS$18:$AS$1017),0)","v":0},{"$f":"IFERROR($E310*SUMIF('Daily Log'!$AU$18:$AU$1017,$B310,'Daily Log'!$AV$18:$AV$1017),0)","v":0},{"$f":"IFERROR($E310*SUMIF('Daily Log'!$AX$18:$AX$1017,$B310,'Daily Log'!$AY$18:$AY$1017),0)","v":0},{"$f":"IFERROR($E310*SUMIF('Daily Log'!$BA$18:$BA$1017,$B310,'Daily Log'!$BB$18:$BB$1017),0)","v":0},{"$f":"IFERROR($E310*SUMIF('Daily Log'!$BD$18:$BD$1017,$B310,'Daily Log'!$BE$18:$BE$1017),0)","v":0},{"$f":"IFERROR($E310*SUMIF('Daily Log'!$BG$18:$BG$1017,$B310,'Daily Log'!$BH$18:$BH$1017),0)","v":0},{"$f":"IFERROR($E310*SUMIF('Daily Log'!$BJ$18:$BJ$1017,$B310,'Daily Log'!$BK$18:$BK$1017),0)","v":0},{"$f":"IFERROR($E310*SUMIF('Daily Log'!$BM$18:$BM$1017,$B310,'Daily Log'!$BN$18:$BN$1017),0)","v":0},{"$f":"IFERROR($E310*SUMIF('Daily Log'!$BP$18:$BP$1017,$B310,'Daily Log'!$BQ$18:$BQ$1017),0)","v":0},{"$f":"IFERROR($E310*SUMIF('Daily Log'!$BS$18:$BS$1017,$B310,'Daily Log'!$BT$18:$BT$1017),0)","v":0},{"$f":"IFERROR($E310*SUMIF('Daily Log'!$BV$18:$BV$1017,$B310,'Daily Log'!$BW$18:$BW$1017),0)","v":0},{"$f":"IFERROR($E310*SUMIF('Daily Log'!$BY$18:$BY$1017,$B310,'Daily Log'!$BZ$18:$BZ$1017),0)","v":0},{"$f":"IFERROR($E310*SUMIF('Daily Log'!$CB$18:$CB$1017,$B310,'Daily Log'!$CC$18:$CC$1017),0)","v":0},{"$f":"IFERROR($E310*SUMIF('Daily Log'!$CE$18:$CE$1017,$B310,'Daily Log'!$CF$18:$CF$1017),0)","v":0},{"$f":"IFERROR($E310*SUMIF('Daily Log'!$CH$18:$CH$1017,$B310,'Daily Log'!$CI$18:$CI$1017),0)","v":0},{"$f":"IFERROR($E310*SUMIF('Daily Log'!$CK$18:$CK$1017,$B310,'Daily Log'!$CL$18:$CL$1017),0)","v":0},{"$f":"IFERROR($E310*SUMIF('Daily Log'!$CN$18:$CN$1017,$B310,'Daily Log'!$CO$18:$CO$1017),0)","v":0}]
[null,null,null,null,1,0,{"$f":"IFERROR($E311*SUMIF('Daily Log'!$B$18:$B$1017,$B311,'Daily Log'!$C$18:$C$1017),0)","v":0},{"$f":"IFERROR($E311*SUMIF('Daily Log'!$E$18:$E$1017,$B311,'Daily Log'!$F$18:$F$1017),0)","v":0},{"$f":"IFERROR($E311*SUMIF('Daily Log'!$H$18:$H$1017,$B311,'Daily Log'!$I$18:$I$1017),0)","v":0},{"$f":"IFERROR($E311*SUMIF('Daily Log'!$K$18:$K$1017,$B311,'Daily Log'!$L$18:$L$1017),0)","v":0},{"$f":"IFERROR($E311*SUMIF('Daily Log'!$N$18:$N$1017,$B311,'Daily Log'!$O$18:$O$1017),0)","v":0},{"$f":"IFERROR($E311*SUMIF('Daily Log'!$Q$18:$Q$1017,$B311,'Daily Log'!$R$18:$R$1017),0)","v":0},{"$f":"IFERROR($E311*SUMIF('Daily Log'!$T$18:$T$1017,$B311,'Daily Log'!$U$18:$U$1017),0)","v":0},{"$f":"IFERROR($E311*SUMIF('Daily Log'!$W$18:$W$1017,$B311,'Daily Log'!$X$18:$X$1017),0)","v":0},{"$f":"IFERROR($E311*SUMIF('Daily Log'!$Z$18:$Z$1017,$B311,'Daily Log'!$AA$18:$AA$1017),0)","v":0},{"$f":"IFERROR($E311*SUMIF('Daily Log'!$AC$18:$AC$1017,$B311,'Daily Log'!$AD$18:$AD$1017),0)","v":0},{"$f":"IFERROR($E311*SUMIF('Daily Log'!$AF$18:$AF$1017,$B311,'Daily Log'!$AG$18:$AG$1017),0)","v":0},{"$f":"IFERROR($E311*SUMIF('Daily Log'!$AI$18:$AI$1017,$B311,'Daily Log'!$AJ$18:$AJ$1017),0)","v":0},{"$f":"IFERROR($E311*SUMIF('Daily Log'!$AL$18:$AL$1017,$B311,'Daily Log'!$AM$18:$AM$1017),0)","v":0},{"$f":"IFERROR($E311*SUMIF('Daily Log'!$AO$18:$AO$1017,$B311,'Daily Log'!$AP$18:$AP$1017),0)","v":0},{"$f":"IFERROR($E311*SUMIF('Daily Log'!$AR$18:$AR$1017,$B311,'Daily Log'!$AS$18:$AS$1017),0)","v":0},{"$f":"IFERROR($E311*SUMIF('Daily Log'!$AU$18:$AU$1017,$B311,'Daily Log'!$AV$18:$AV$1017),0)","v":0},{"$f":"IFERROR($E311*SUMIF('Daily Log'!$AX$18:$AX$1017,$B311,'Daily Log'!$AY$18:$AY$1017),0)","v":0},{"$f":"IFERROR($E311*SUMIF('Daily Log'!$BA$18:$BA$1017,$B311,'Daily Log'!$BB$18:$BB$1017),0)","v":0},{"$f":"IFERROR($E311*SUMIF('Daily Log'!$BD$18:$BD$1017,$B311,'Daily Log'!$BE$18:$BE$1017),0)","v":0},{"$f":"IFERROR($E311*SUMIF('Daily Log'!$BG$18:$BG$1017,$B311,'Daily Log'!$BH$18:$BH$1017),0)","v":0},{"$f":"IFERROR($E311*SUMIF('Daily Log'!$BJ$18:$BJ$1017,$B311,'Daily Log'!$BK$18:$BK$1017),0)","v":0},{"$f":"IFERROR($E311*SUMIF('Daily Log'!$BM$18:$BM$1017,$B311,'Daily Log'!$BN$18:$BN$1017),0)","v":0},{"$f":"IFERROR($E311*SUMIF('Daily Log'!$BP$18:$BP$1017,$B311,'Daily Log'!$BQ$18:$BQ$1017),0)","v":0},{"$f":"IFERROR($E311*SUMIF('Daily Log'!$BS$18:$BS$1017,$B311,'Daily Log'!$BT$18:$BT$1017),0)","v":0},{"$f":"IFERROR($E311*SUMIF('Daily Log'!$BV$18:$BV$1017,$B311,'Daily Log'!$BW$18:$BW$1017),0)","v":0},{"$f":"IFERROR($E311*SUMIF('Daily Log'!$BY$18:$BY$1017,$B311,'Daily Log'!$BZ$18:$BZ$1017),0)","v":0},{"$f":"IFERROR($E311*SUMIF('Daily Log'!$CB$18:$CB$1017,$B311,'Daily Log'!$CC$18:$CC$1017),0)","v":0},{"$f":"IFERROR($E311*SUMIF('Daily Log'!$CE$18:$CE$1017,$B311,'Daily Log'!$CF$18:$CF$1017),0)","v":0},{"$f":"IFERROR($E311*SUMIF('Daily Log'!$CH$18:$CH$1017,$B311,'Daily Log'!$CI$18:$CI$1017),0)","v":0},{"$f":"IFERROR($E311*SUMIF('Daily Log'!$CK$18:$CK$1017,$B311,'Daily Log'!$CL$18:$CL$1017),0)","v":0},{"$f":"IFERROR($E311*SUMIF('Daily Log'!$CN$18:$CN$1017,$B311,'Daily Log'!$CO$18:$CO$1017),0)","v":0}]
[null,null,null,null,1,0,{"$f":"IFERROR($E312*SUMIF('Daily Log'!$B$18:$B$1017,$B312,'Daily Log'!$C$18:$C$1017),0)","v":0},{"$f":"IFERROR($E312*SUMIF('Daily Log'!$E$18:$E$1017,$B312,'Daily Log'!$F$18:$F$1017),0)","v":0},{"$f":"IFERROR($E312*SUMIF('Daily Log'!$H$18:$H$1017,$B312,'Daily Log'!$I$18:$I$1017),0)","v":0},{"$f":"IFERROR($E312*SUMIF('Daily Log'!$K$18:$K$1017,$B312,'Daily Log'!$L$18:$L$1017),0)","v":0},{"$f":"IFERROR($E312*SUMIF('Daily Log'!$N$18:$N$1017,$B312,'Daily Log'!$O$18:$O$1017),0)","v":0},{"$f":"IFERROR($E312*SUMIF('Daily Log'!$Q$18:$Q$1017,$B312,'Daily Log'!$R$18:$R$1017),0)","v":0},{"$f":"IFERROR($E312*SUMIF('Daily Log'!$T$18:$T$1017,$B312,'Daily Log'!$U$18:$U$1017),0)","v":0},{"$f":"IFERROR($E312*SUMIF('Daily Log'!$W$18:$W$1017,$B312,'Daily Log'!$X$18:$X$1017),0)","v":0},{"$f":"IFERROR($E312*SUMIF('Daily Log'!$Z$18:$Z$1017,$B312,'Daily Log'!$AA$18:$AA$1017),0)","v":0},{"$f":"IFERROR($E312*SUMIF('Daily Log'!$AC$18:$AC$1017,$B312,'Daily Log'!$AD$18:$AD$1017),0)","v":0},{"$f":"IFERROR($E312*SUMIF('Daily Log'!$AF$18:$AF$1017,$B312,'Daily Log'!$AG$18:$AG$1017),0)","v":0},{"$f":"IFERROR($E312*SUMIF('Daily Log'!$AI$18:$AI$1017,$B312,'Daily Log'!$AJ$18:$AJ$1017),0)","v":0},{"$f":"IFERROR($E312*SUMIF('Daily Log'!$AL$18:$AL$1017,$B312,'Daily Log'!$AM$18:$AM$1017),0)","v":0},{"$f":"IFERROR($E312*SUMIF('Daily Log'!$AO$18:$AO$1017,$B312,'Daily Log'!$AP$18:$AP$1017),0)","v":0},{"$f":"IFERROR($E312*SUMIF('Daily Log'!$AR$18:$AR$1017,$B312,'Daily Log'!$AS$18:$AS$1017),0)","v":0},{"$f":"IFERROR($E312*SUMIF('Daily Log'!$AU$18:$AU$1017,$B312,'Daily Log'!$AV$18:$AV$1017),0)","v":0},{"$f":"IFERROR($E312*SUMIF('Daily Log'!$AX$18:$AX$1017,$B312,'Daily Log'!$AY$18:$AY$1017),0)","v":0},{"$f":"IFERROR($E312*SUMIF('Daily Log'!$BA$18:$BA$1017,$B312,'Daily Log'!$BB$18:$BB$1017),0)","v":0},{"$f":"IFERROR($E312*SUMIF('Daily Log'!$BD$18:$BD$1017,$B312,'Daily Log'!$BE$18:$BE$1017),0)","v":0},{"$f":"IFERROR($E312*SUMIF('Daily Log'!$BG$18:$BG$1017,$B312,'Daily Log'!$BH$18:$BH$1017),0)","v":0},{"$f":"IFERROR($E312*SUMIF('Daily Log'!$BJ$18:$BJ$1017,$B312,'Daily Log'!$BK$18:$BK$1017),0)","v":0},{"$f":"IFERROR($E312*SUMIF('Daily Log'!$BM$18:$BM$1017,$B312,'Daily Log'!$BN$18:$BN$1017),0)","v":0},{"$f":"IFERROR($E312*SUMIF('Daily Log'!$BP$18:$BP$1017,$B312,'Daily Log'!$BQ$18:$BQ$1017),0)","v":0},{"$f":"IFERROR($E312*SUMIF('Daily Log'!$BS$18:$BS$1017,$B312,'Daily Log'!$BT$18:$BT$1017),0)","v":0},{"$f":"IFERROR($E312*SUMIF('Daily Log'!$BV$18:$BV$1017,$B312,'Daily Log'!$BW$18:$BW$1017),0)","v":0},{"$f":"IFERROR($E312*SUMIF('Daily Log'!$BY$18:$BY$1017,$B312,'Daily Log'!$BZ$18:$BZ$1017),0)","v":0},{"$f":"IFERROR($E312*SUMIF('Daily Log'!$CB$18:$CB$1017,$B312,'Daily Log'!$CC$18:$CC$1017),0)","v":0},{"$f":"IFERROR($E312*SUMIF('Daily Log'!$CE$18:$CE$1017,$B312,'Daily Log'!$CF$18:$CF$1017),0)","v":0},{"$f":"IFERROR($E312*SUMIF('Daily Log'!$CH$18:$CH$1017,$B312,'Daily Log'!$CI$18:$CI$1017),0)","v":0},{"$f":"IFERROR($E312*SUMIF('Daily Log'!$CK$18:$CK$1017,$B312,'Daily Log'!$CL$18:$CL$1017),0)","v":0},{"$f":"IFERROR($E312*SUMIF('Daily Log'!$CN$18:$CN$1017,$B312,'Daily Log'!$CO$18:$CO$1017),0)","v":0}]
[null,null,null,null,null,0,{"$f":"IFERROR($E313*SUMIF('Daily Log'!$B$18:$B$1017,$B313,'Daily Log'!$C$18:$C$1017),0)","v":0},{"$f":"IFERROR($E313*SUMIF('Daily Log'!$E$18:$E$1017,$B313,'Daily Log'!$F$18:$F$1017),0)","v":0},{"$f":"IFERROR($E313*SUMIF('Daily Log'!$H$18:$H$1017,$B313,'Daily Log'!$I$18:$I$1017),0)","v":0},{"$f":"IFERROR($E313*SUMIF('Daily Log'!$K$18:$K$1017,$B313,'Daily Log'!$L$18:$L$1017),0)","v":0},{"$f":"IFERROR($E313*SUMIF('Daily Log'!$N$18:$N$1017,$B313,'Daily Log'!$O$18:$O$1017),0)","v":0},{"$f":"IFERROR($E313*SUMIF('Daily Log'!$Q$18:$Q$1017,$B313,'Daily Log'!$R$18:$R$1017),0)","v":0},{"$f":"IFERROR($E313*SUMIF('Daily Log'!$T$18:$T$1017,$B313,'Daily Log'!$U$18:$U$1017),0)","v":0},{"$f":"IFERROR($E313*SUMIF('Daily Log'!$W$18:$W$1017,$B313,'Daily Log'!$X$18:$X$1017),0)","v":0},{"$f":"IFERROR($E313*SUMIF('Daily Log'!$Z$18:$Z$1017,$B313,'Daily Log'!$AA$18:$AA$1017),0)","v":0},{"$f":"IFERROR($E313*SUMIF('Daily Log'!$AC$18:$AC$1017,$B313,'Daily Log'!$AD$18:$AD$1017),0)","v":0},{"$f":"IFERROR($E313*SUMIF('Daily Log'!$AF$18:$AF$1017,$B313,'Daily Log'!$AG$18:$AG$1017),0)","v":0},{"$f":"IFERROR($E313*SUMIF('Daily Log'!$AI$18:$AI$1017,$B313,'Daily Log'!$AJ$18:$AJ$1017),0)","v":0},{"$f":"IFERROR($E313*SUMIF('Daily Log'!$AL$18:$AL$1017,$B313,'Daily Log'!$AM$18:$AM$1017),0)","v":0},{"$f":"IFERROR($E313*SUMIF('Daily Log'!$AO$18:$AO$1017,$B313,'Daily Log'!$AP$18:$AP$1017),0)","v":0},{"$f":"IFERROR($E313*SUMIF('Daily Log'!$AR$18:$AR$1017,$B313,'Daily Log'!$AS$18:$AS$1017),0)","v":0},{"$f":"IFERROR($E313*SUMIF('Daily Log'!$AU$18:$AU$1017,$B313,'Daily Log'!$AV$18:$AV$1017),0)","v":0},{"$f":"IFERROR($E313*SUMIF('Daily Log'!$AX$18:$AX$1017,$B313,'Daily Log'!$AY$18:$AY$1017),0)","v":0},{"$f":"IFERROR($E313*SUMIF('Daily Log'!$BA$18:$BA$1017,$B313,'Daily Log'!$BB$18:$BB$1017),0)","v":0},{"$f":"IFERROR($E313*SUMIF('Daily Log'!$BD$18:$BD$1017,$B313,'Daily Log'!$BE$18:$BE$1017),0)","v":0},{"$f":"IFERROR($E313*SUMIF('Daily Log'!$BG$18:$BG$1017,$B313,'Daily Log'!$BH$18:$BH$1017),0)","v":0},{"$f":"IFERROR($E313*SUMIF('Daily Log'!$BJ$18:$BJ$1017,$B313,'Daily Log'!$BK$18:$BK$1017),0)","v":0},{"$f":"IFERROR($E313*SUMIF('Daily Log'!$BM$18:$BM$1017,$B313,'Daily Log'!$BN$18:$BN$1017),0)","v":0},{"$f":"IFERROR($E313*SUMIF('Daily Log'!$BP$18:$BP$1017,$B313,'Daily Log'!$BQ$18:$BQ$1017),0)","v":0},{"$f":"IFERROR($E313*SUMIF('Daily Log'!$BS$18:$BS$1017,$B313,'Daily Log'!$BT$18:$BT$1017),0)","v":0},{"$f":"IFERROR($E313*SUMIF('Daily Log'!$BV$18:$BV$1017,$B313,'Daily Log'!$BW$18:$BW$1017),0)","v":0},{"$f":"IFERROR($E313*SUMIF('Daily Log'!$BY$18:$BY$1017,$B313,'Daily Log'!$BZ$18:$BZ$1017),0)","v":0},{"$f":"IFERROR($E313*SUMIF('Daily Log'!$CB$18:$CB$1017,$B313,'Daily Log'!$CC$18:$CC$1017),0)","v":0},{"$f":"IFERROR($E313*SUMIF('Daily Log'!$CE$18:$CE$1017,$B313,'Daily Log'!$CF$18:$CF$1017),0)","v":0},{"$f":"IFERROR($E313*SUMIF('Daily Log'!$CH$18:$CH$1017,$B313,'Daily Log'!$CI$18:$CI$1017),0)","v":0},{"$f":"IFERROR($E313*SUMIF('Daily Log'!$CK$18:$CK$1017,$B313,'Daily Log'!$CL$18:$CL$1017),0)","v":0},{"$f":"IFERROR($E313*SUMIF('Daily Log'!$CN$18:$CN$1017,$B313,'Daily Log'!$CO$18:$CO$1017),0)","v":0}]
[null,null,null,null,null,0,{"$f":"IFERROR($E314*SUMIF('Daily Log'!$B$18:$B$1017,$B314,'Daily Log'!$C$18:$C$1017),0)","v":0},{"$f":"IFERROR($E314*SUMIF('Daily Log'!$E$18:$E$1017,$B314,'Daily Log'!$F$18:$F$1017),0)","v":0},{"$f":"IFERROR($E314*SUMIF('Daily Log'!$H$18:$H$1017,$B314,'Daily Log'!$I$18:$I$1017),0)","v":0},{"$f":"IFERROR($E314*SUMIF('Daily Log'!$K$18:$K$1017,$B314,'Daily Log'!$L$18:$L$1017),0)","v":0},{"$f":"IFERROR($E314*SUMIF('Daily Log'!$N$18:$N$1017,$B314,'Daily Log'!$O$18:$O$1017),0)","v":0},{"$f":"IFERROR($E314*SUMIF('Daily Log'!$Q$18:$Q$1017,$B314,'Daily Log'!$R$18:$R$1017),0)","v":0},{"$f":"IFERROR($E314*SUMIF('Daily Log'!$T$18:$T$1017,$B314,'Daily Log'!$U$18:$U$1017),0)","v":0},{"$f":"IFERROR($E314*SUMIF('Daily Log'!$W$18:$W$1017,$B314,'Daily Log'!$X$18:$X$1017),0)","v":0},{"$f":"IFERROR($E314*SUMIF('Daily Log'!$Z$18:$Z$1017,$B314,'Daily Log'!$AA$18:$AA$1017),0)","v":0},{"$f":"IFERROR($E314*SUMIF('Daily Log'!$AC$18:$AC$1017,$B314,'Daily Log'!$AD$18:$AD$1017),0)","v":0},{"$f":"IFERROR($E314*SUMIF('Daily Log'!$AF$18:$AF$1017,$B314,'Daily Log'!$AG$18:$AG$1017),0)","v":0},{"$f":"IFERROR($E314*SUMIF('Daily Log'!$AI$18:$AI$1017,$B314,'Daily Log'!$AJ$18:$AJ$1017),0)","v":0},{"$f":"IFERROR($E314*SUMIF('Daily Log'!$AL$18:$AL$1017,$B314,'Daily Log'!$AM$18:$AM$1017),0)","v":0},{"$f":"IFERROR($E314*SUMIF('Daily Log'!$AO$18:$AO$1017,$B314,'Daily Log'!$AP$18:$AP$1017),0)","v":0},{"$f":"IFERROR($E314*SUMIF('Daily Log'!$AR$18:$AR$1017,$B314,'Daily Log'!$AS$18:$AS$1017),0)","v":0},{"$f":"IFERROR($E314*SUMIF('Daily Log'!$AU$18:$AU$1017,$B314,'Daily Log'!$AV$18:$AV$1017),0)","v":0},{"$f":"IFERROR($E314*SUMIF('Daily Log'!$AX$18:$AX$1017,$B314,'Daily Log'!$AY$18:$AY$1017),0)","v":0},{"$f":"IFERROR($E314*SUMIF('Daily Log'!$BA$18:$BA$1017,$B314,'Daily Log'!$BB$18:$BB$1017),0)","v":0},{"$f":"IFERROR($E314*SUMIF('Daily Log'!$BD$18:$BD$1017,$B314,'Daily Log'!$BE$18:$BE$1017),0)","v":0},{"$f":"IFERROR($E314*SUMIF('Daily Log'!$BG$18:$BG$1017,$B314,'Daily Log'!$BH$18:$BH$1017),0)","v":0},{"$f":"IFERROR($E314*SUMIF('Daily Log'!$BJ$18:$BJ$1017,$B314,'Daily Log'!$BK$18:$BK$1017),0)","v":0},{"$f":"IFERROR($E314*SUMIF('Daily Log'!$BM$18:$BM$1017,$B314,'Daily Log'!$BN$18:$BN$1017),0)","v":0},{"$f":"IFERROR($E314*SUMIF('Daily Log'!$BP$18:$BP$1017,$B314,'Daily Log'!$BQ$18:$BQ$1017),0)","v":0},{"$f":"IFERROR($E314*SUMIF('Daily Log'!$BS$18:$BS$1017,$B314,'Daily Log'!$BT$18:$BT$1017),0)","v":0},{"$f":"IFERROR($E314*SUMIF('Daily Log'!$BV$18:$BV$1017,$B314,'Daily Log'!$BW$18:$BW$1017),0)","v":0},{"$f":"IFERROR($E314*SUMIF('Daily Log'!$BY$18:$BY$1017,$B314,'Daily Log'!$BZ$18:$BZ$1017),0)","v":0},{"$f":"IFERROR($E314*SUMIF('Daily Log'!$CB$18:$CB$1017,$B314,'Daily Log'!$CC$18:$CC$1017),0)","v":0},{"$f":"IFERROR($E314*SUMIF('Daily Log'!$CE$18:$CE$1017,$B314,'Daily Log'!$CF$18:$CF$1017),0)","v":0},{"$f":"IFERROR($E314*SUMIF('Daily Log'!$CH$18:$CH$1017,$B314,'Daily Log'!$CI$18:$CI$1017),0)","v":0},{"$f":"IFERROR($E314*SUMIF('Daily Log'!$CK$18:$CK$1017,$B314,'Daily Log'!$CL$18:$CL$1017),0)","v":0},{"$f":"IFERROR($E314*SUMIF('Daily Log'!$CN$18:$CN$1017,$B314,'Daily Log'!$CO$18:$CO$1017),0)","v":0}]
[null,null,null,null,null,0,{"$f":"IFERROR($E315*SUMIF('Daily Log'!$B$18:$B$1017,$B315,'Daily Log'!$C$18:$C$1017),0)","v":0},{"$f":"IFERROR($E315*SUMIF('Daily Log'!$E$18:$E$1017,$B315,'Daily Log'!$F$18:$F$1017),0)","v":0},{"$f":"IFERROR($E315*SUMIF('Daily Log'!$H$18:$H$1017,$B315,'Daily Log'!$I$18:$I$1017),0)","v":0},{"$f":"IFERROR($E315*SUMIF('Daily Log'!$K$18:$K$1017,$B315,'Daily Log'!$L$18:$L$1017),0)","v":0},{"$f":"IFERROR($E315*SUMIF('Daily Log'!$N$18:$N$1017,$B315,'Daily Log'!$O$18:$O$1017),0)","v":0},{"$f":"IFERROR($E315*SUMIF('Daily Log'!$Q$18:$Q$1017,$B315,'Daily Log'!$R$18:$R$1017),0)","v":0},{"$f":"IFERROR($E315*SUMIF('Daily Log'!$T$18:$T$1017,$B315,'Daily Log'!$U$18:$U$1017),0)","v":0},{"$f":"IFERROR($E315*SUMIF('Daily Log'!$W$18:$W$1017,$B315,'Daily Log'!$X$18:$X$1017),0)","v":0},{"$f":"IFERROR($E315*SUMIF('Daily Log'!$Z$18:$Z$1017,$B315,'Daily Log'!$AA$18:$AA$1017),0)","v":0},{"$f":"IFERROR($E315*SUMIF('Daily Log'!$AC$18:$AC$1017,$B315,'Daily Log'!$AD$18:$AD$1017),0)","v":0},{"$f":"IFERROR($E315*SUMIF('Daily Log'!$AF$18:$AF$1017,$B315,'Daily Log'!$AG$18:$AG$1017),0)","v":0},{"$f":"IFERROR($E315*SUMIF('Daily Log'!$AI$18:$AI$1017,$B315,'Daily Log'!$AJ$18:$AJ$1017),0)","v":0},{"$f":"IFERROR($E315*SUMIF('Daily Log'!$AL$18:$AL$1017,$B315,'Daily Log'!$AM$18:$AM$1017),0)","v":0},{"$f":"IFERROR($E315*SUMIF('Daily Log'!$AO$18:$AO$1017,$B315,'Daily Log'!$AP$18:$AP$1017),0)","v":0},{"$f":"IFERROR($E315*SUMIF('Daily Log'!$AR$18:$AR$1017,$B315,'Daily Log'!$AS$18:$AS$1017),0)","v":0},{"$f":"IFERROR($E315*SUMIF('Daily Log'!$AU$18:$AU$1017,$B315,'Daily Log'!$AV$18:$AV$1017),0)","v":0},{"$f":"IFERROR($E315*SUMIF('Daily Log'!$AX$18:$AX$1017,$B315,'Daily Log'!$AY$18:$AY$1017),0)","v":0},{"$f":"IFERROR($E315*SUMIF('Daily Log'!$BA$18:$BA$1017,$B315,'Daily Log'!$BB$18:$BB$1017),0)","v":0},{"$f":"IFERROR($E315*SUMIF('Daily Log'!$BD$18:$BD$1017,$B315,'Daily Log'!$BE$18:$BE$1017),0)","v":0},{"$f":"IFERROR($E315*SUMIF('Daily Log'!$BG$18:$BG$1017,$B315,'Daily Log'!$BH$18:$BH$1017),0)","v":0},{"$f":"IFERROR($E315*SUMIF('Daily Log'!$BJ$18:$BJ$1017,$B315,'Daily Log'!$BK$18:$BK$1017),0)","v":0},{"$f":"IFERROR($E315*SUMIF('Daily Log'!$BM$18:$BM$1017,$B315,'Daily Log'!$BN$18:$BN$1017),0)","v":0},{"$f":"IFERROR($E315*SUMIF('Daily Log'!$BP$18:$BP$1017,$B315,'Daily Log'!$BQ$18:$BQ$1017),0)","v":0},{"$f":"IFERROR($E315*SUMIF('Daily Log'!$BS$18:$BS$1017,$B315,'Daily Log'!$BT$18:$BT$1017),0)","v":0},{"$f":"IFERROR($E315*SUMIF('Daily Log'!$BV$18:$BV$1017,$B315,'Daily Log'!$BW$18:$BW$1017),0)","v":0},{"$f":"IFERROR($E315*SUMIF('Daily Log'!$BY$18:$BY$1017,$B315,'Daily Log'!$BZ$18:$BZ$1017),0)","v":0},{"$f":"IFERROR($E315*SUMIF('Daily Log'!$CB$18:$CB$1017,$B315,'Daily Log'!$CC$18:$CC$1017),0)","v":0},{"$f":"IFERROR($E315*SUMIF('Daily Log'!$CE$18:$CE$1017,$B315,'Daily Log'!$CF$18:$CF$1017),0)","v":0},{"$f":"IFERROR($E315*SUMIF('Daily Log'!$CH$18:$CH$1017,$B315,'Daily Log'!$CI$18:$CI$1017),0)","v":0},{"$f":"IFERROR($E315*SUMIF('Daily Log'!$CK$18:$CK$1017,$B315,'Daily Log'!$CL$18:$CL$1017),0)","v":0},{"$f":"IFERROR($E315*SUMIF('Daily Log'!$CN$18:$CN$1017,$B315,'Daily Log'!$CO$18:$CO$1017),0)","v":0}]
[null,null,null,null,null,0,{"$f":"IFERROR($E316*SUMIF('Daily Log'!$B$18:$B$1017,$B316,'Daily Log'!$C$18:$C$1017),0)","v":0},{"$f":"IFERROR($E316*SUMIF('Daily Log'!$E$18:$E$1017,$B316,'Daily Log'!$F$18:$F$1017),0)","v":0},{"$f":"IFERROR($E316*SUMIF('Daily Log'!$H$18:$H$1017,$B316,'Daily Log'!$I$18:$I$1017),0)","v":0},{"$f":"IFERROR($E316*SUMIF('Daily Log'!$K$18:$K$1017,$B316,'Daily Log'!$L$18:$L$1017),0)","v":0},{"$f":"IFERROR($E316*SUMIF('Daily Log'!$N$18:$N$1017,$B316,'Daily Log'!$O$18:$O$1017),0)","v":0},{"$f":"IFERROR($E316*SUMIF('Daily Log'!$Q$18:$Q$1017,$B316,'Daily Log'!$R$18:$R$1017),0)","v":0},{"$f":"IFERROR($E316*SUMIF('Daily Log'!$T$18:$T$1017,$B316,'Daily Log'!$U$18:$U$1017),0)","v":0},{"$f":"IFERROR($E316*SUMIF('Daily Log'!$W$18:$W$1017,$B316,'Daily Log'!$X$18:$X$1017),0)","v":0},{"$f":"IFERROR($E316*SUMIF('Daily Log'!$Z$18:$Z$1017,$B316,'Daily Log'!$AA$18:$AA$1017),0)","v":0},{"$f":"IFERROR($E316*SUMIF('Daily Log'!$AC$18:$AC$1017,$B316,'Daily Log'!$AD$18:$AD$1017),0)","v":0},{"$f":"IFERROR($E316*SUMIF('Daily Log'!$AF$18:$AF$1017,$B316,'Daily Log'!$AG$18:$AG$1017),0)","v":0},{"$f":"IFERROR($E316*SUMIF('Daily Log'!$AI$18:$AI$1017,$B316,'Daily Log'!$AJ$18:$AJ$1017),0)","v":0},{"$f":"IFERROR($E316*SUMIF('Daily Log'!$AL$18:$AL$1017,$B316,'Daily Log'!$AM$18:$AM$1017),0)","v":0},{"$f":"IFERROR($E316*SUMIF('Daily Log'!$AO$18:$AO$1017,$B316,'Daily Log'!$AP$18:$AP$1017),0)","v":0},{"$f":"IFERROR($E316*SUMIF('Daily Log'!$AR$18:$AR$1017,$B316,'Daily Log'!$AS$18:$AS$1017),0)","v":0},{"$f":"IFERROR($E316*SUMIF('Daily Log'!$AU$18:$AU$1017,$B316,'Daily Log'!$AV$18:$AV$1017),0)","v":0},{"$f":"IFERROR($E316*SUMIF('Daily Log'!$AX$18:$AX$1017,$B316,'Daily Log'!$AY$18:$AY$1017),0)","v":0},{"$f":"IFERROR($E316*SUMIF('Daily Log'!$BA$18:$BA$1017,$B316,'Daily Log'!$BB$18:$BB$1017),0)","v":0},{"$f":"IFERROR($E316*SUMIF('Daily Log'!$BD$18:$BD$1017,$B316,'Daily Log'!$BE$18:$BE$1017),0)","v":0},{"$f":"IFERROR($E316*SUMIF('Daily Log'!$BG$18:$BG$1017,$B316,'Daily Log'!$BH$18:$BH$1017),0)","v":0},{"$f":"IFERROR($E316*SUMIF('Daily Log'!$BJ$18:$BJ$1017,$B316,'Daily Log'!$BK$18:$BK$1017),0)","v":0},{"$f":"IFERROR($E316*SUMIF('Daily Log'!$BM$18:$BM$1017,$B316,'Daily Log'!$BN$18:$BN$1017),0)","v":0},{"$f":"IFERROR($E316*SUMIF('Daily Log'!$BP$18:$BP$1017,$B316,'Daily Log'!$BQ$18:$BQ$1017),0)","v":0},{"$f":"IFERROR($E316*SUMIF('Daily Log'!$BS$18:$BS$1017,$B316,'Daily Log'!$BT$18:$BT$1017),0)","v":0},{"$f":"IFERROR($E316*SUMIF('Daily Log'!$BV$18:$BV$1017,$B316,'Daily Log'!$BW$18:$BW$1017),0)","v":0},{"$f":"IFERROR($E316*SUMIF('Daily Log'!$BY$18:$BY$1017,$B316,'Daily Log'!$BZ$18:$BZ$1017),0)","v":0},{"$f":"IFERROR($E316*SUMIF('Daily Log'!$CB$18:$CB$1017,$B316,'Daily Log'!$CC$18:$CC$1017),0)","v":0},{"$f":"IFERROR($E316*SUMIF('Daily Log'!$CE$18:$CE$1017,$B316,'Daily Log'!$CF$18:$CF$1017),0)","v":0},{"$f":"IFERROR($E316*SUMIF('Daily Log'!$CH$18:$CH$1017,$B316,'Daily Log'!$CI$18:$CI$1017),0)","v":0},{"$f":"IFERROR($E316*SUMIF('Daily Log'!$CK$18:$CK$1017,$B316,'Daily Log'!$CL$18:$CL$1017),0)","v":0},{"$f":"IFERROR($E316*SUMIF('Daily Log'!$CN$18:$CN$1017,$B316,'Daily Log'!$CO$18:$CO$1017),0)","v":0}]
[null,null,null,null,null,{"$f":"SUM($G317:$AK317)","v":0},{"$f":"IFERROR($E317*SUMIF('Daily Log'!$B$18:$B$1017,$B317,'Daily Log'!$C$18:$C$1017),0)","v":0},{"$f":"IFERROR($E317*SUMIF('Daily Log'!$E$18:$E$1017,$B317,'Daily Log'!$F$18:$F$1017),0)","v":0},{"$f":"IFERROR($E317*SUMIF('Daily Log'!$H$18:$H$1017,$B317,'Daily Log'!$I$18:$I$1017),0)","v":0},{"$f":"IFERROR($E317*SUMIF('Daily Log'!$K$18:$K$1017,$B317,'Daily Log'!$L$18:$L$1017),0)","v":0},{"$f":"IFERROR($E317*SUMIF('Daily Log'!$N$18:$N$1017,$B317,'Daily Log'!$O$18:$O$1017),0)","v":0},{"$f":"IFERROR($E317*SUMIF('Daily Log'!$Q$18:$Q$1017,$B317,'Daily Log'!$R$18:$R$1017),0)","v":0},{"$f":"IFERROR($E317*SUMIF('Daily Log'!$T$18:$T$1017,$B317,'Daily Log'!$U$18:$U$1017),0)","v":0},{"$f":"IFERROR($E317*SUMIF('Daily Log'!$W$18:$W$1017,$B317,'Daily Log'!$X$18:$X$1017),0)","v":0},{"$f":"IFERROR($E317*SUMIF('Daily Log'!$Z$18:$Z$1017,$B317,'Daily Log'!$AA$18:$AA$1017),0)","v":0},{"$f":"IFERROR($E317*SUMIF('Daily Log'!$AC$18:$AC$1017,$B317,'Daily Log'!$AD$18:$AD$1017),0)","v":0},{"$f":"IFERROR($E317*SUMIF('Daily Log'!$AF$18:$AF$1017,$B317,'Daily Log'!$AG$18:$AG$1017),0)","v":0},{"$f":"IFERROR($E317*SUMIF('Daily Log'!$AI$18:$AI$1017,$B317,'Daily Log'!$AJ$18:$AJ$1017),0)","v":0},{"$f":"IFERROR($E317*SUMIF('Daily Log'!$AL$18:$AL$1017,$B317,'Daily Log'!$AM$18:$AM$1017),0)","v":0},{"$f":"IFERROR($E317*SUMIF('Daily Log'!$AO$18:$AO$1017,$B317,'Daily Log'!$AP$18:$AP$1017),0)","v":0},{"$f":"IFERROR($E317*SUMIF('Daily Log'!$AR$18:$AR$1017,$B317,'Daily Log'!$AS$18:$AS$1017),0)","v":0},{"$f":"IFERROR($E317*SUMIF('Daily Log'!$AU$18:$AU$1017,$B317,'Daily Log'!$AV$18:$AV$1017),0)","v":0},{"$f":"IFERROR($E317*SUMIF('Daily Log'!$AX$18:$AX$1017,$B317,'Daily Log'!$AY$18:$AY$1017),0)","v":0},{"$f":"IFERROR($E317*SUMIF('Daily Log'!$BA$18:$BA$1017,$B317,'Daily Log'!$BB$18:$BB$1017),0)","v":0},{"$f":"IFERROR($E317*SUMIF('Daily Log'!$BD$18:$BD$1017,$B317,'Daily Log'!$BE$18:$BE$1017),0)","v":0},{"$f":"IFERROR($E317*SUMIF('Daily Log'!$BG$18:$BG$1017,$B317,'Daily Log'!$BH$18:$BH$1017),0)","v":0},{"$f":"IFERROR($E317*SUMIF('Daily Log'!$BJ$18:$BJ$1017,$B317,'Daily Log'!$BK$18:$BK$1017),0)","v":0},{"$f":"IFERROR($E317*SUMIF('Daily Log'!$BM$18:$BM$1017,$B317,'Daily Log'!$BN$18:$BN$1017),0)","v":0},{"$f":"IFERROR($E317*SUMIF('Daily Log'!$BP$18:$BP$1017,$B317,'Daily Log'!$BQ$18:$BQ$1017),0)","v":0},{"$f":"IFERROR($E317*SUMIF('Daily Log'!$BS$18:$BS$1017,$B317,'Daily Log'!$BT$18:$BT$1017),0)","v":0},{"$f":"IFERROR($E317*SUMIF('Daily Log'!$BV$18:$BV$1017,$B317,'Daily Log'!$BW$18:$BW$1017),0)","v":0},{"$f":"IFERROR($E317*SUMIF('Daily Log'!$BY$18:$BY$1017,$B317,'Daily Log'!$BZ$18:$BZ$1017),0)","v":0},{"$f":"IFERROR($E317*SUMIF('Daily Log'!$CB$18:$CB$1017,$B317,'Daily Log'!$CC$18:$CC$1017),0)","v":0},{"$f":"IFERROR($E317*SUMIF('Daily Log'!$CE$18:$CE$1017,$B317,'Daily Log'!$CF$18:$CF$1017),0)","v":0},{"$f":"IFERROR($E317*SUMIF('Daily Log'!$CH$18:$CH$1017,$B317,'Daily Log'!$CI$18:$CI$1017),0)","v":0},{"$f":"IFERROR($E317*SUMIF('Daily Log'!$CK$18:$CK$1017,$B317,'Daily Log'!$CL$18:$CL$1017),0)","v":0},{"$f":"IFERROR($E317*SUMIF('Daily Log'!$CN$18:$CN$1017,$B317,'Daily Log'!$CO$18:$CO$1017),0)","v":0}]
[null,null,null,null,null,0,{"$f":"IFERROR($E318*SUMIF('Daily Log'!$B$18:$B$1017,$B318,'Daily Log'!$C$18:$C$1017),0)","v":0},{"$f":"IFERROR($E318*SUMIF('Daily Log'!$E$18:$E$1017,$B318,'Daily Log'!$F$18:$F$1017),0)","v":0},{"$f":"IFERROR($E318*SUMIF('Daily Log'!$H$18:$H$1017,$B318,'Daily Log'!$I$18:$I$1017),0)","v":0},{"$f":"IFERROR($E318*SUMIF('Daily Log'!$K$18:$K$1017,$B318,'Daily Log'!$L$18:$L$1017),0)","v":0},{"$f":"IFERROR($E318*SUMIF('Daily Log'!$N$18:$N$1017,$B318,'Daily Log'!$O$18:$O$1017),0)","v":0},{"$f":"IFERROR($E318*SUMIF('Daily Log'!$Q$18:$Q$1017,$B318,'Daily Log'!$R$18:$R$1017),0)","v":0},{"$f":"IFERROR($E318*SUMIF('Daily Log'!$T$18:$T$1017,$B318,'Daily Log'!$U$18:$U$1017),0)","v":0},{"$f":"IFERROR($E318*SUMIF('Daily Log'!$W$18:$W$1017,$B318,'Daily Log'!$X$18:$X$1017),0)","v":0},{"$f":"IFERROR($E318*SUMIF('Daily Log'!$Z$18:$Z$1017,$B318,'Daily Log'!$AA$18:$AA$1017),0)","v":0},{"$f":"IFERROR($E318*SUMIF('Daily Log'!$AC$18:$AC$1017,$B318,'Daily Log'!$AD$18:$AD$1017),0)","v":0},{"$f":"IFERROR($E318*SUMIF('Daily Log'!$AF$18:$AF$1017,$B318,'Daily Log'!$AG$18:$AG$1017),0)","v":0},{"$f":"IFERROR($E318*SUMIF('Daily Log'!$AI$18:$AI$1017,$B318,'Daily Log'!$AJ$18:$AJ$1017),0)","v":0},{"$f":"IFERROR($E318*SUMIF('Daily Log'!$AL$18:$AL$1017,$B318,'Daily Log'!$AM$18:$AM$1017),0)","v":0},{"$f":"IFERROR($E318*SUMIF('Daily Log'!$AO$18:$AO$1017,$B318,'Daily Log'!$AP$18:$AP$1017),0)","v":0},{"$f":"IFERROR($E318*SUMIF('Daily Log'!$AR$18:$AR$1017,$B318,'Daily Log'!$AS$18:$AS$1017),0)","v":0},{"$f":"IFERROR($E318*SUMIF('Daily Log'!$AU$18:$AU$1017,$B318,'Daily Log'!$AV$18:$AV$1017),0)","v":0},{"$f":"IFERROR($E318*SUMIF('Daily Log'!$AX$18:$AX$1017,$B318,'Daily Log'!$AY$18:$AY$1017),0)","v":0},{"$f":"IFERROR($E318*SUMIF('Daily Log'!$BA$18:$BA$1017,$B318,'Daily Log'!$BB$18:$BB$1017),0)","v":0},{"$f":"IFERROR($E318*SUMIF('Daily Log'!$BD$18:$BD$1017,$B318,'Daily Log'!$BE$18:$BE$1017),0)","v":0},{"$f":"IFERROR($E318*SUMIF('Daily Log'!$BG$18:$BG$1017,$B318,'Daily Log'!$BH$18:$BH$1017),0)","v":0},{"$f":"IFERROR($E318*SUMIF('Daily Log'!$BJ$18:$BJ$1017,$B318,'Daily Log'!$BK$18:$BK$1017),0)","v":0},{"$f":"IFERROR($E318*SUMIF('Daily Log'!$BM$18:$BM$1017,$B318,'Daily Log'!$BN$18:$BN$1017),0)","v":0},{"$f":"IFERROR($E318*SUMIF('Daily Log'!$BP$18:$BP$1017,$B318,'Daily Log'!$BQ$18:$BQ$1017),0)","v":0},{"$f":"IFERROR($E318*SUMIF('Daily Log'!$BS$18:$BS$1017,$B318,'Daily Log'!$BT$18:$BT$1017),0)","v":0},{"$f":"IFERROR($E318*SUMIF('Daily Log'!$BV$18:$BV$1017,$B318,'Daily Log'!$BW$18:$BW$1017),0)","v":0},{"$f":"IFERROR($E318*SUMIF('Daily Log'!$BY$18:$BY$1017,$B318,'Daily Log'!$BZ$18:$BZ$1017),0)","v":0},{"$f":"IFERROR($E318*SUMIF('Daily Log'!$CB$18:$CB$1017,$B318,'Daily Log'!$CC$18:$CC$1017),0)","v":0},{"$f":"IFERROR($E318*SUMIF('Daily Log'!$CE$18:$CE$1017,$B318,'Daily Log'!$CF$18:$CF$1017),0)","v":0},{"$f":"IFERROR($E318*SUMIF('Daily Log'!$CH$18:$CH$1017,$B318,'Daily Log'!$CI$18:$CI$1017),0)","v":0},{"$f":"IFERROR($E318*SUMIF('Daily Log'!$CK$18:$CK$1017,$B318,'Daily Log'!$CL$18:$CL$1017),0)","v":0},{"$f":"IFERROR($E318*SUMIF('Daily Log'!$CN$18:$CN$1017,$B318,'Daily Log'!$CO$18:$CO$1017),0)","v":0}]
[null,null,null,null,null,0,{"$f":"IFERROR($E319*SUMIF('Daily Log'!$B$18:$B$1017,$B319,'Daily Log'!$C$18:$C$1017),0)","v":0},{"$f":"IFERROR($E319*SUMIF('Daily Log'!$E$18:$E$1017,$B319,'Daily Log'!$F$18:$F$1017),0)","v":0},{"$f":"IFERROR($E319*SUMIF('Daily Log'!$H$18:$H$1017,$B319,'Daily Log'!$I$18:$I$1017),0)","v":0},{"$f":"IFERROR($E319*SUMIF('Daily Log'!$K$18:$K$1017,$B319,'Daily Log'!$L$18:$L$1017),0)","v":0},{"$f":"IFERROR($E319*SUMIF('Daily Log'!$N$18:$N$1017,$B319,'Daily Log'!$O$18:$O$1017),0)","v":0},{"$f":"IFERROR($E319*SUMIF('Daily Log'!$Q$18:$Q$1017,$B319,'Daily Log'!$R$18:$R$1017),0)","v":0},{"$f":"IFERROR($E319*SUMIF('Daily Log'!$T$18:$T$1017,$B319,'Daily Log'!$U$18:$U$1017),0)","v":0},{"$f":"IFERROR($E319*SUMIF('Daily Log'!$W$18:$W$1017,$B319,'Daily Log'!$X$18:$X$1017),0)","v":0},{"$f":"IFERROR($E319*SUMIF('Daily Log'!$Z$18:$Z$1017,$B319,'Daily Log'!$AA$18:$AA$1017),0)","v":0},{"$f":"IFERROR($E319*SUMIF('Daily Log'!$AC$18:$AC$1017,$B319,'Daily Log'!$AD$18:$AD$1017),0)","v":0},{"$f":"IFERROR($E319*SUMIF('Daily Log'!$AF$18:$AF$1017,$B319,'Daily Log'!$AG$18:$AG$1017),0)","v":0},{"$f":"IFERROR($E319*SUMIF('Daily Log'!$AI$18:$AI$1017,$B319,'Daily Log'!$AJ$18:$AJ$1017),0)","v":0},{"$f":"IFERROR($E319*SUMIF('Daily Log'!$AL$18:$AL$1017,$B319,'Daily Log'!$AM$18:$AM$1017),0)","v":0},{"$f":"IFERROR($E319*SUMIF('Daily Log'!$AO$18:$AO$1017,$B319,'Daily Log'!$AP$18:$AP$1017),0)","v":0},{"$f":"IFERROR($E319*SUMIF('Daily Log'!$AR$18:$AR$1017,$B319,'Daily Log'!$AS$18:$AS$1017),0)","v":0},{"$f":"IFERROR($E319*SUMIF('Daily Log'!$AU$18:$AU$1017,$B319,'Daily Log'!$AV$18:$AV$1017),0)","v":0},{"$f":"IFERROR($E319*SUMIF('Daily Log'!$AX$18:$AX$1017,$B319,'Daily Log'!$AY$18:$AY$1017),0)","v":0},{"$f":"IFERROR($E319*SUMIF('Daily Log'!$BA$18:$BA$1017,$B319,'Daily Log'!$BB$18:$BB$1017),0)","v":0},{"$f":"IFERROR($E319*SUMIF('Daily Log'!$BD$18:$BD$1017,$B319,'Daily Log'!$BE$18:$BE$1017),0)","v":0},{"$f":"IFERROR($E319*SUMIF('Daily Log'!$BG$18:$BG$1017,$B319,'Daily Log'!$BH$18:$BH$1017),0)","v":0},{"$f":"IFERROR($E319*SUMIF('Daily Log'!$BJ$18:$BJ$1017,$B319,'Daily Log'!$BK$18:$BK$1017),0)","v":0},{"$f":"IFERROR($E319*SUMIF('Daily Log'!$BM$18:$BM$1017,$B319,'Daily Log'!$BN$18:$BN$1017),0)","v":0},{"$f":"IFERROR($E319*SUMIF('Daily Log'!$BP$18:$BP$1017,$B319,'Daily Log'!$BQ$18:$BQ$1017),0)","v":0},{"$f":"IFERROR($E319*SUMIF('Daily Log'!$BS$18:$BS$1017,$B319,'Daily Log'!$BT$18:$BT$1017),0)","v":0},{"$f":"IFERROR($E319*SUMIF('Daily Log'!$BV$18:$BV$1017,$B319,'Daily Log'!$BW$18:$BW$1017),0)","v":0},{"$f":"IFERROR($E319*SUMIF('Daily Log'!$BY$18:$BY$1017,$B319,'Daily Log'!$BZ$18:$BZ$1017),0)","v":0},{"$f":"IFERROR($E319*SUMIF('Daily Log'!$CB$18:$CB$1017,$B319,'Daily Log'!$CC$18:$CC$1017),0)","v":0},{"$f":"IFERROR($E319*SUMIF('Daily Log'!$CE$18:$CE$1017,$B319,'Daily Log'!$CF$18:$CF$1017),0)","v":0},{"$f":"IFERROR($E319*SUMIF('Daily Log'!$CH$18:$CH$1017,$B319,'Daily Log'!$CI$18:$CI$1017),0)","v":0},{"$f":"IFERROR($E319*SUMIF('Daily Log'!$CK$18:$CK$1017,$B319,'Daily Log'!$CL$18:$CL$1017),0)","v":0},{"$f":"IFERROR($E319*SUMIF('Daily Log'!$CN$18:$CN$1017,$B319,'Daily Log'!$CO$18:$CO$1017),0)","v":0}]
[null,null,null,null,null,0,{"$f":"IFERROR($E320*SUMIF('Daily Log'!$B$18:$B$1017,$B320,'Daily Log'!$C$18:$C$1017),0)","v":0},{"$f":"IFERROR($E320*SUMIF('Daily Log'!$E$18:$E$1017,$B320,'Daily Log'!$F$18:$F$1017),0)","v":0},{"$f":"IFERROR($E320*SUMIF('Daily Log'!$H$18:$H$1017,$B320,'Daily Log'!$I$18:$I$1017),0)","v":0},{"$f":"IFERROR($E320*SUMIF('Daily Log'!$K$18:$K$1017,$B320,'Daily Log'!$L$18:$L$1017),0)","v":0},{"$f":"IFERROR($E320*SUMIF('Daily Log'!$N$18:$N$1017,$B320,'Daily Log'!$O$18:$O$1017),0)","v":0},{"$f":"IFERROR($E320*SUMIF('Daily Log'!$Q$18:$Q$1017,$B320,'Daily Log'!$R$18:$R$1017),0)","v":0},{"$f":"IFERROR($E320*SUMIF('Daily Log'!$T$18:$T$1017,$B320,'Daily Log'!$U$18:$U$1017),0)","v":0},{"$f":"IFERROR($E320*SUMIF('Daily Log'!$W$18:$W$1017,$B320,'Daily Log'!$X$18:$X$1017),0)","v":0},{"$f":"IFERROR($E320*SUMIF('Daily Log'!$Z$18:$Z$1017,$B320,'Daily Log'!$AA$18:$AA$1017),0)","v":0},{"$f":"IFERROR($E320*SUMIF('Daily Log'!$AC$18:$AC$1017,$B320,'Daily Log'!$AD$18:$AD$1017),0)","v":0},{"$f":"IFERROR($E320*SUMIF('Daily Log'!$AF$18:$AF$1017,$B320,'Daily Log'!$AG$18:$AG$1017),0)","v":0},{"$f":"IFERROR($E320*SUMIF('Daily Log'!$AI$18:$AI$1017,$B320,'Daily Log'!$AJ$18:$AJ$1017),0)","v":0},{"$f":"IFERROR($E320*SUMIF('Daily Log'!$AL$18:$AL$1017,$B320,'Daily Log'!$AM$18:$AM$1017),0)","v":0},{"$f":"IFERROR($E320*SUMIF('Daily Log'!$AO$18:$AO$1017,$B320,'Daily Log'!$AP$18:$AP$1017),0)","v":0},{"$f":"IFERROR($E320*SUMIF('Daily Log'!$AR$18:$AR$1017,$B320,'Daily Log'!$AS$18:$AS$1017),0)","v":0},{"$f":"IFERROR($E320*SUMIF('Daily Log'!$AU$18:$AU$1017,$B320,'Daily Log'!$AV$18:$AV$1017),0)","v":0},{"$f":"IFERROR($E320*SUMIF('Daily Log'!$AX$18:$AX$1017,$B320,'Daily Log'!$AY$18:$AY$1017),0)","v":0},{"$f":"IFERROR($E320*SUMIF('Daily Log'!$BA$18:$BA$1017,$B320,'Daily Log'!$BB$18:$BB$1017),0)","v":0},{"$f":"IFERROR($E320*SUMIF('Daily Log'!$BD$18:$BD$1017,$B320,'Daily Log'!$BE$18:$BE$1017),0)","v":0},{"$f":"IFERROR($E320*SUMIF('Daily Log'!$BG$18:$BG$1017,$B320,'Daily Log'!$BH$18:$BH$1017),0)","v":0},{"$f":"IFERROR($E320*SUMIF('Daily Log'!$BJ$18:$BJ$1017,$B320,'Daily Log'!$BK$18:$BK$1017),0)","v":0},{"$f":"IFERROR($E320*SUMIF('Daily Log'!$BM$18:$BM$1017,$B320,'Daily Log'!$BN$18:$BN$1017),0)","v":0},{"$f":"IFERROR($E320*SUMIF('Daily Log'!$BP$18:$BP$1017,$B320,'Daily Log'!$BQ$18:$BQ$1017),0)","v":0},{"$f":"IFERROR($E320*SUMIF('Daily Log'!$BS$18:$BS$1017,$B320,'Daily Log'!$BT$18:$BT$1017),0)","v":0},{"$f":"IFERROR($E320*SUMIF('Daily Log'!$BV$18:$BV$1017,$B320,'Daily Log'!$BW$18:$BW$1017),0)","v":0},{"$f":"IFERROR($E320*SUMIF('Daily Log'!$BY$18:$BY$1017,$B320,'Daily Log'!$BZ$18:$BZ$1017),0)","v":0},{"$f":"IFERROR($E320*SUMIF('Daily Log'!$CB$18:$CB$1017,$B320,'Daily Log'!$CC$18:$CC$1017),0)","v":0},{"$f":"IFERROR($E320*SUMIF('Daily Log'!$CE$18:$CE$1017,$B320,'Daily Log'!$CF$18:$CF$1017),0)","v":0},{"$f":"IFERROR($E320*SUMIF('Daily Log'!$CH$18:$CH$1017,$B320,'Daily Log'!$CI$18:$CI$1017),0)","v":0},{"$f":"IFERROR($E320*SUMIF('Daily Log'!$CK$18:$CK$1017,$B320,'Daily Log'!$CL$18:$CL$1017),0)","v":0},{"$f":"IFERROR($E320*SUMIF('Daily Log'!$CN$18:$CN$1017,$B320,'Daily Log'!$CO$18:$CO$1017),0)","v":0}]
[null,null,null,null,null,0,{"$f":"IFERROR($E321*SUMIF('Daily Log'!$B$18:$B$1017,$B321,'Daily Log'!$C$18:$C$1017),0)","v":0},{"$f":"IFERROR($E321*SUMIF('Daily Log'!$E$18:$E$1017,$B321,'Daily Log'!$F$18:$F$1017),0)","v":0},{"$f":"IFERROR($E321*SUMIF('Daily Log'!$H$18:$H$1017,$B321,'Daily Log'!$I$18:$I$1017),0)","v":0},{"$f":"IFERROR($E321*SUMIF('Daily Log'!$K$18:$K$1017,$B321,'Daily Log'!$L$18:$L$1017),0)","v":0},{"$f":"IFERROR($E321*SUMIF('Daily Log'!$N$18:$N$1017,$B321,'Daily Log'!$O$18:$O$1017),0)","v":0},{"$f":"IFERROR($E321*SUMIF('Daily Log'!$Q$18:$Q$1017,$B321,'Daily Log'!$R$18:$R$1017),0)","v":0},{"$f":"IFERROR($E321*SUMIF('Daily Log'!$T$18:$T$1017,$B321,'Daily Log'!$U$18:$U$1017),0)","v":0},{"$f":"IFERROR($E321*SUMIF('Daily Log'!$W$18:$W$1017,$B321,'Daily Log'!$X$18:$X$1017),0)","v":0},{"$f":"IFERROR($E321*SUMIF('Daily Log'!$Z$18:$Z$1017,$B321,'Daily Log'!$AA$18:$AA$1017),0)","v":0},{"$f":"IFERROR($E321*SUMIF('Daily Log'!$AC$18:$AC$1017,$B321,'Daily Log'!$AD$18:$AD$1017),0)","v":0},{"$f":"IFERROR($E321*SUMIF('Daily Log'!$AF$18:$AF$1017,$B321,'Daily Log'!$AG$18:$AG$1017),0)","v":0},{"$f":"IFERROR($E321*SUMIF('Daily Log'!$AI$18:$AI$1017,$B321,'Daily Log'!$AJ$18:$AJ$1017),0)","v":0},{"$f":"IFERROR($E321*SUMIF('Daily Log'!$AL$18:$AL$1017,$B321,'Daily Log'!$AM$18:$AM$1017),0)","v":0},{"$f":"IFERROR($E321*SUMIF('Daily Log'!$AO$18:$AO$1017,$B321,'Daily Log'!$AP$18:$AP$1017),0)","v":0},{"$f":"IFERROR($E321*SUMIF('Daily Log'!$AR$18:$AR$1017,$B321,'Daily Log'!$AS$18:$AS$1017),0)","v":0},{"$f":"IFERROR($E321*SUMIF('Daily Log'!$AU$18:$AU$1017,$B321,'Daily Log'!$AV$18:$AV$1017),0)","v":0},{"$f":"IFERROR($E321*SUMIF('Daily Log'!$AX$18:$AX$1017,$B321,'Daily Log'!$AY$18:$AY$1017),0)","v":0},{"$f":"IFERROR($E321*SUMIF('Daily Log'!$BA$18:$BA$1017,$B321,'Daily Log'!$BB$18:$BB$1017),0)","v":0},{"$f":"IFERROR($E321*SUMIF('Daily Log'!$BD$18:$BD$1017,$B321,'Daily Log'!$BE$18:$BE$1017),0)","v":0},{"$f":"IFERROR($E321*SUMIF('Daily Log'!$BG$18:$BG$1017,$B321,'Daily Log'!$BH$18:$BH$1017),0)","v":0},{"$f":"IFERROR($E321*SUMIF('Daily Log'!$BJ$18:$BJ$1017,$B321,'Daily Log'!$BK$18:$BK$1017),0)","v":0},{"$f":"IFERROR($E321*SUMIF('Daily Log'!$BM$18:$BM$1017,$B321,'Daily Log'!$BN$18:$BN$1017),0)","v":0},{"$f":"IFERROR($E321*SUMIF('Daily Log'!$BP$18:$BP$1017,$B321,'Daily Log'!$BQ$18:$BQ$1017),0)","v":0},{"$f":"IFERROR($E321*SUMIF('Daily Log'!$BS$18:$BS$1017,$B321,'Daily Log'!$BT$18:$BT$1017),0)","v":0},{"$f":"IFERROR($E321*SUMIF('Daily Log'!$BV$18:$BV$1017,$B321,'Daily Log'!$BW$18:$BW$1017),0)","v":0},{"$f":"IFERROR($E321*SUMIF('Daily Log'!$BY$18:$BY$1017,$B321,'Daily Log'!$BZ$18:$BZ$1017),0)","v":0},{"$f":"IFERROR($E321*SUMIF('Daily Log'!$CB$18:$CB$1017,$B321,'Daily Log'!$CC$18:$CC$1017),0)","v":0},{"$f":"IFERROR($E321*SUMIF('Daily Log'!$CE$18:$CE$1017,$B321,'Daily Log'!$CF$18:$CF$1017),0)","v":0},{"$f":"IFERROR($E321*SUMIF('Daily Log'!$CH$18:$CH$1017,$B321,'Daily Log'!$CI$18:$CI$1017),0)","v":0},{"$f":"IFERROR($E321*SUMIF('Daily Log'!$CK$18:$CK$1017,$B321,'Daily Log'!$CL$18:$CL$1017),0)","v":0},{"$f":"IFERROR($E321*SUMIF('Daily Log'!$CN$18:$CN$1017,$B321,'Daily Log'!$CO$18:$CO$1017),0)","v":0}]
[null,null,null,null,null,0,{"$f":"IFERROR($E322*SUMIF('Daily Log'!$B$18:$B$1017,$B322,'Daily Log'!$C$18:$C$1017),0)","v":0},{"$f":"IFERROR($E322*SUMIF('Daily Log'!$E$18:$E$1017,$B322,'Daily Log'!$F$18:$F$1017),0)","v":0},{"$f":"IFERROR($E322*SUMIF('Daily Log'!$H$18:$H$1017,$B322,'Daily Log'!$I$18:$I$1017),0)","v":0},{"$f":"IFERROR($E322*SUMIF('Daily Log'!$K$18:$K$1017,$B322,'Daily Log'!$L$18:$L$1017),0)","v":0},{"$f":"IFERROR($E322*SUMIF('Daily Log'!$N$18:$N$1017,$B322,'Daily Log'!$O$18:$O$1017),0)","v":0},{"$f":"IFERROR($E322*SUMIF('Daily Log'!$Q$18:$Q$1017,$B322,'Daily Log'!$R$18:$R$1017),0)","v":0},{"$f":"IFERROR($E322*SUMIF('Daily Log'!$T$18:$T$1017,$B322,'Daily Log'!$U$18:$U$1017),0)","v":0},{"$f":"IFERROR($E322*SUMIF('Daily Log'!$W$18:$W$1017,$B322,'Daily Log'!$X$18:$X$1017),0)","v":0},{"$f":"IFERROR($E322*SUMIF('Daily Log'!$Z$18:$Z$1017,$B322,'Daily Log'!$AA$18:$AA$1017),0)","v":0},{"$f":"IFERROR($E322*SUMIF('Daily Log'!$AC$18:$AC$1017,$B322,'Daily Log'!$AD$18:$AD$1017),0)","v":0},{"$f":"IFERROR($E322*SUMIF('Daily Log'!$AF$18:$AF$1017,$B322,'Daily Log'!$AG$18:$AG$1017),0)","v":0},{"$f":"IFERROR($E322*SUMIF('Daily Log'!$AI$18:$AI$1017,$B322,'Daily Log'!$AJ$18:$AJ$1017),0)","v":0},{"$f":"IFERROR($E322*SUMIF('Daily Log'!$AL$18:$AL$1017,$B322,'Daily Log'!$AM$18:$AM$1017),0)","v":0},{"$f":"IFERROR($E322*SUMIF('Daily Log'!$AO$18:$AO$1017,$B322,'Daily Log'!$AP$18:$AP$1017),0)","v":0},{"$f":"IFERROR($E322*SUMIF('Daily Log'!$AR$18:$AR$1017,$B322,'Daily Log'!$AS$18:$AS$1017),0)","v":0},{"$f":"IFERROR($E322*SUMIF('Daily Log'!$AU$18:$AU$1017,$B322,'Daily Log'!$AV$18:$AV$1017),0)","v":0},{"$f":"IFERROR($E322*SUMIF('Daily Log'!$AX$18:$AX$1017,$B322,'Daily Log'!$AY$18:$AY$1017),0)","v":0},{"$f":"IFERROR($E322*SUMIF('Daily Log'!$BA$18:$BA$1017,$B322,'Daily Log'!$BB$18:$BB$1017),0)","v":0},{"$f":"IFERROR($E322*SUMIF('Daily Log'!$BD$18:$BD$1017,$B322,'Daily Log'!$BE$18:$BE$1017),0)","v":0},{"$f":"IFERROR($E322*SUMIF('Daily Log'!$BG$18:$BG$1017,$B322,'Daily Log'!$BH$18:$BH$1017),0)","v":0},{"$f":"IFERROR($E322*SUMIF('Daily Log'!$BJ$18:$BJ$1017,$B322,'Daily Log'!$BK$18:$BK$1017),0)","v":0},{"$f":"IFERROR($E322*SUMIF('Daily Log'!$BM$18:$BM$1017,$B322,'Daily Log'!$BN$18:$BN$1017),0)","v":0},{"$f":"IFERROR($E322*SUMIF('Daily Log'!$BP$18:$BP$1017,$B322,'Daily Log'!$BQ$18:$BQ$1017),0)","v":0},{"$f":"IFERROR($E322*SUMIF('Daily Log'!$BS$18:$BS$1017,$B322,'Daily Log'!$BT$18:$BT$1017),0)","v":0},{"$f":"IFERROR($E322*SUMIF('Daily Log'!$BV$18:$BV$1017,$B322,'Daily Log'!$BW$18:$BW$1017),0)","v":0},{"$f":"IFERROR($E322*SUMIF('Daily Log'!$BY$18:$BY$1017,$B322,'Daily Log'!$BZ$18:$BZ$1017),0)","v":0},{"$f":"IFERROR($E322*SUMIF('Daily Log'!$CB$18:$CB$1017,$B322,'Daily Log'!$CC$18:$CC$1017),0)","v":0},{"$f":"IFERROR($E322*SUMIF('Daily Log'!$CE$18:$CE$1017,$B322,'Daily Log'!$CF$18:$CF$1017),0)","v":0},{"$f":"IFERROR($E322*SUMIF('Daily Log'!$CH$18:$CH$1017,$B322,'Daily Log'!$CI$18:$CI$1017),0)","v":0},{"$f":"IFERROR($E322*SUMIF('Daily Log'!$CK$18:$CK$1017,$B322,'Daily Log'!$CL$18:$CL$1017),0)","v":0},{"$f":"IFERROR($E322*SUMIF('Daily Log'!$CN$18:$CN$1017,$B322,'Daily Log'!$CO$18:$CO$1017),0)","v":0}]
[null,null,null,null,null,0,{"$f":"IFERROR($E323*SUMIF('Daily Log'!$B$18:$B$1017,$B323,'Daily Log'!$C$18:$C$1017),0)","v":0},{"$f":"IFERROR($E323*SUMIF('Daily Log'!$E$18:$E$1017,$B323,'Daily Log'!$F$18:$F$1017),0)","v":0},{"$f":"IFERROR($E323*SUMIF('Daily Log'!$H$18:$H$1017,$B323,'Daily Log'!$I$18:$I$1017),0)","v":0},{"$f":"IFERROR($E323*SUMIF('Daily Log'!$K$18:$K$1017,$B323,'Daily Log'!$L$18:$L$1017),0)","v":0},{"$f":"IFERROR($E323*SUMIF('Daily Log'!$N$18:$N$1017,$B323,'Daily Log'!$O$18:$O$1017),0)","v":0},{"$f":"IFERROR($E323*SUMIF('Daily Log'!$Q$18:$Q$1017,$B323,'Daily Log'!$R$18:$R$1017),0)","v":0},{"$f":"IFERROR($E323*SUMIF('Daily Log'!$T$18:$T$1017,$B323,'Daily Log'!$U$18:$U$1017),0)","v":0},{"$f":"IFERROR($E323*SUMIF('Daily Log'!$W$18:$W$1017,$B323,'Daily Log'!$X$18:$X$1017),0)","v":0},{"$f":"IFERROR($E323*SUMIF('Daily Log'!$Z$18:$Z$1017,$B323,'Daily Log'!$AA$18:$AA$1017),0)","v":0},{"$f":"IFERROR($E323*SUMIF('Daily Log'!$AC$18:$AC$1017,$B323,'Daily Log'!$AD$18:$AD$1017),0)","v":0},{"$f":"IFERROR($E323*SUMIF('Daily Log'!$AF$18:$AF$1017,$B323,'Daily Log'!$AG$18:$AG$1017),0)","v":0},{"$f":"IFERROR($E323*SUMIF('Daily Log'!$AI$18:$AI$1017,$B323,'Daily Log'!$AJ$18:$AJ$1017),0)","v":0},{"$f":"IFERROR($E323*SUMIF('Daily Log'!$AL$18:$AL$1017,$B323,'Daily Log'!$AM$18:$AM$1017),0)","v":0},{"$f":"IFERROR($E323*SUMIF('Daily Log'!$AO$18:$AO$1017,$B323,'Daily Log'!$AP$18:$AP$1017),0)","v":0},{"$f":"IFERROR($E323*SUMIF('Daily Log'!$AR$18:$AR$1017,$B323,'Daily Log'!$AS$18:$AS$1017),0)","v":0},{"$f":"IFERROR($E323*SUMIF('Daily Log'!$AU$18:$AU$1017,$B323,'Daily Log'!$AV$18:$AV$1017),0)","v":0},{"$f":"IFERROR($E323*SUMIF('Daily Log'!$AX$18:$AX$1017,$B323,'Daily Log'!$AY$18:$AY$1017),0)","v":0},{"$f":"IFERROR($E323*SUMIF('Daily Log'!$BA$18:$BA$1017,$B323,'Daily Log'!$BB$18:$BB$1017),0)","v":0},{"$f":"IFERROR($E323*SUMIF('Daily Log'!$BD$18:$BD$1017,$B323,'Daily Log'!$BE$18:$BE$1017),0)","v":0},{"$f":"IFERROR($E323*SUMIF('Daily Log'!$BG$18:$BG$1017,$B323,'Daily Log'!$BH$18:$BH$1017),0)","v":0},{"$f":"IFERROR($E323*SUMIF('Daily Log'!$BJ$18:$BJ$1017,$B323,'Daily Log'!$BK$18:$BK$1017),0)","v":0},{"$f":"IFERROR($E323*SUMIF('Daily Log'!$BM$18:$BM$1017,$B323,'Daily Log'!$BN$18:$BN$1017),0)","v":0},{"$f":"IFERROR($E323*SUMIF('Daily Log'!$BP$18:$BP$1017,$B323,'Daily Log'!$BQ$18:$BQ$1017),0)","v":0},{"$f":"IFERROR($E323*SUMIF('Daily Log'!$BS$18:$BS$1017,$B323,'Daily Log'!$BT$18:$BT$1017),0)","v":0},{"$f":"IFERROR($E323*SUMIF('Daily Log'!$BV$18:$BV$1017,$B323,'Daily Log'!$BW$18:$BW$1017),0)","v":0},{"$f":"IFERROR($E323*SUMIF('Daily Log'!$BY$18:$BY$1017,$B323,'Daily Log'!$BZ$18:$BZ$1017),0)","v":0},{"$f":"IFERROR($E323*SUMIF('Daily Log'!$CB$18:$CB$1017,$B323,'Daily Log'!$CC$18:$CC$1017),0)","v":0},{"$f":"IFERROR($E323*SUMIF('Daily Log'!$CE$18:$CE$1017,$B323,'Daily Log'!$CF$18:$CF$1017),0)","v":0},{"$f":"IFERROR($E323*SUMIF('Daily Log'!$CH$18:$CH$1017,$B323,'Daily Log'!$CI$18:$CI$1017),0)","v":0},{"$f":"IFERROR($E323*SUMIF('Daily Log'!$CK$18:$CK$1017,$B323,'Daily Log'!$CL$18:$CL$1017),0)","v":0},{"$f":"IFERROR($E323*SUMIF('Daily Log'!$CN$18:$CN$1017,$B323,'Daily Log'!$CO$18:$CO$1017),0)","v":0}]
[null,null,null,null,null,0,{"$f":"IFERROR($E324*SUMIF('Daily Log'!$B$18:$B$1017,$B324,'Daily Log'!$C$18:$C$1017),0)","v":0},{"$f":"IFERROR($E324*SUMIF('Daily Log'!$E$18:$E$1017,$B324,'Daily Log'!$F$18:$F$1017),0)","v":0},{"$f":"IFERROR($E324*SUMIF('Daily Log'!$H$18:$H$1017,$B324,'Daily Log'!$I$18:$I$1017),0)","v":0},{"$f":"IFERROR($E324*SUMIF('Daily Log'!$K$18:$K$1017,$B324,'Daily Log'!$L$18:$L$1017),0)","v":0},{"$f":"IFERROR($E324*SUMIF('Daily Log'!$N$18:$N$1017,$B324,'Daily Log'!$O$18:$O$1017),0)","v":0},{"$f":"IFERROR($E324*SUMIF('Daily Log'!$Q$18:$Q$1017,$B324,'Daily Log'!$R$18:$R$1017),0)","v":0},{"$f":"IFERROR($E324*SUMIF('Daily Log'!$T$18:$T$1017,$B324,'Daily Log'!$U$18:$U$1017),0)","v":0},{"$f":"IFERROR($E324*SUMIF('Daily Log'!$W$18:$W$1017,$B324,'Daily Log'!$X$18:$X$1017),0)","v":0},{"$f":"IFERROR($E324*SUMIF('Daily Log'!$Z$18:$Z$1017,$B324,'Daily Log'!$AA$18:$AA$1017),0)","v":0},{"$f":"IFERROR($E324*SUMIF('Daily Log'!$AC$18:$AC$1017,$B324,'Daily Log'!$AD$18:$AD$1017),0)","v":0},{"$f":"IFERROR($E324*SUMIF('Daily Log'!$AF$18:$AF$1017,$B324,'Daily Log'!$AG$18:$AG$1017),0)","v":0},{"$f":"IFERROR($E324*SUMIF('Daily Log'!$AI$18:$AI$1017,$B324,'Daily Log'!$AJ$18:$AJ$1017),0)","v":0},{"$f":"IFERROR($E324*SUMIF('Daily Log'!$AL$18:$AL$1017,$B324,'Daily Log'!$AM$18:$AM$1017),0)","v":0},{"$f":"IFERROR($E324*SUMIF('Daily Log'!$AO$18:$AO$1017,$B324,'Daily Log'!$AP$18:$AP$1017),0)","v":0},{"$f":"IFERROR($E324*SUMIF('Daily Log'!$AR$18:$AR$1017,$B324,'Daily Log'!$AS$18:$AS$1017),0)","v":0},{"$f":"IFERROR($E324*SUMIF('Daily Log'!$AU$18:$AU$1017,$B324,'Daily Log'!$AV$18:$AV$1017),0)","v":0},{"$f":"IFERROR($E324*SUMIF('Daily Log'!$AX$18:$AX$1017,$B324,'Daily Log'!$AY$18:$AY$1017),0)","v":0},{"$f":"IFERROR($E324*SUMIF('Daily Log'!$BA$18:$BA$1017,$B324,'Daily Log'!$BB$18:$BB$1017),0)","v":0},{"$f":"IFERROR($E324*SUMIF('Daily Log'!$BD$18:$BD$1017,$B324,'Daily Log'!$BE$18:$BE$1017),0)","v":0},{"$f":"IFERROR($E324*SUMIF('Daily Log'!$BG$18:$BG$1017,$B324,'Daily Log'!$BH$18:$BH$1017),0)","v":0},{"$f":"IFERROR($E324*SUMIF('Daily Log'!$BJ$18:$BJ$1017,$B324,'Daily Log'!$BK$18:$BK$1017),0)","v":0},{"$f":"IFERROR($E324*SUMIF('Daily Log'!$BM$18:$BM$1017,$B324,'Daily Log'!$BN$18:$BN$1017),0)","v":0},{"$f":"IFERROR($E324*SUMIF('Daily Log'!$BP$18:$BP$1017,$B324,'Daily Log'!$BQ$18:$BQ$1017),0)","v":0},{"$f":"IFERROR($E324*SUMIF('Daily Log'!$BS$18:$BS$1017,$B324,'Daily Log'!$BT$18:$BT$1017),0)","v":0},{"$f":"IFERROR($E324*SUMIF('Daily Log'!$BV$18:$BV$1017,$B324,'Daily Log'!$BW$18:$BW$1017),0)","v":0},{"$f":"IFERROR($E324*SUMIF('Daily Log'!$BY$18:$BY$1017,$B324,'Daily Log'!$BZ$18:$BZ$1017),0)","v":0},{"$f":"IFERROR($E324*SUMIF('Daily Log'!$CB$18:$CB$1017,$B324,'Daily Log'!$CC$18:$CC$1017),0)","v":0},{"$f":"IFERROR($E324*SUMIF('Daily Log'!$CE$18:$CE$1017,$B324,'Daily Log'!$CF$18:$CF$1017),0)","v":0},{"$f":"IFERROR($E324*SUMIF('Daily Log'!$CH$18:$CH$1017,$B324,'Daily Log'!$CI$18:$CI$1017),0)","v":0},{"$f":"IFERROR($E324*SUMIF('Daily Log'!$CK$18:$CK$1017,$B324,'Daily Log'!$CL$18:$CL$1017),0)","v":0},{"$f":"IFERROR($E324*SUMIF('Daily Log'!$CN$18:$CN$1017,$B324,'Daily Log'!$CO$18:$CO$1017),0)","v":0}]
[null,null,null,null,null,0,{"$f":"IFERROR($E325*SUMIF('Daily Log'!$B$18:$B$1017,$B325,'Daily Log'!$C$18:$C$1017),0)","v":0},{"$f":"IFERROR($E325*SUMIF('Daily Log'!$E$18:$E$1017,$B325,'Daily Log'!$F$18:$F$1017),0)","v":0},{"$f":"IFERROR($E325*SUMIF('Daily Log'!$H$18:$H$1017,$B325,'Daily Log'!$I$18:$I$1017),0)","v":0},{"$f":"IFERROR($E325*SUMIF('Daily Log'!$K$18:$K$1017,$B325,'Daily Log'!$L$18:$L$1017),0)","v":0},{"$f":"IFERROR($E325*SUMIF('Daily Log'!$N$18:$N$1017,$B325,'Daily Log'!$O$18:$O$1017),0)","v":0},{"$f":"IFERROR($E325*SUMIF('Daily Log'!$Q$18:$Q$1017,$B325,'Daily Log'!$R$18:$R$1017),0)","v":0},{"$f":"IFERROR($E325*SUMIF('Daily Log'!$T$18:$T$1017,$B325,'Daily Log'!$U$18:$U$1017),0)","v":0},{"$f":"IFERROR($E325*SUMIF('Daily Log'!$W$18:$W$1017,$B325,'Daily Log'!$X$18:$X$1017),0)","v":0},{"$f":"IFERROR($E325*SUMIF('Daily Log'!$Z$18:$Z$1017,$B325,'Daily Log'!$AA$18:$AA$1017),0)","v":0},{"$f":"IFERROR($E325*SUMIF('Daily Log'!$AC$18:$AC$1017,$B325,'Daily Log'!$AD$18:$AD$1017),0)","v":0},{"$f":"IFERROR($E325*SUMIF('Daily Log'!$AF$18:$AF$1017,$B325,'Daily Log'!$AG$18:$AG$1017),0)","v":0},{"$f":"IFERROR($E325*SUMIF('Daily Log'!$AI$18:$AI$1017,$B325,'Daily Log'!$AJ$18:$AJ$1017),0)","v":0},{"$f":"IFERROR($E325*SUMIF('Daily Log'!$AL$18:$AL$1017,$B325,'Daily Log'!$AM$18:$AM$1017),0)","v":0},{"$f":"IFERROR($E325*SUMIF('Daily Log'!$AO$18:$AO$1017,$B325,'Daily Log'!$AP$18:$AP$1017),0)","v":0},{"$f":"IFERROR($E325*SUMIF('Daily Log'!$AR$18:$AR$1017,$B325,'Daily Log'!$AS$18:$AS$1017),0)","v":0},{"$f":"IFERROR($E325*SUMIF('Daily Log'!$AU$18:$AU$1017,$B325,'Daily Log'!$AV$18:$AV$1017),0)","v":0},{"$f":"IFERROR($E325*SUMIF('Daily Log'!$AX$18:$AX$1017,$B325,'Daily Log'!$AY$18:$AY$1017),0)","v":0},{"$f":"IFERROR($E325*SUMIF('Daily Log'!$BA$18:$BA$1017,$B325,'Daily Log'!$BB$18:$BB$1017),0)","v":0},{"$f":"IFERROR($E325*SUMIF('Daily Log'!$BD$18:$BD$1017,$B325,'Daily Log'!$BE$18:$BE$1017),0)","v":0},{"$f":"IFERROR($E325*SUMIF('Daily Log'!$BG$18:$BG$1017,$B325,'Daily Log'!$BH$18:$BH$1017),0)","v":0},{"$f":"IFERROR($E325*SUMIF('Daily Log'!$BJ$18:$BJ$1017,$B325,'Daily Log'!$BK$18:$BK$1017),0)","v":0},{"$f":"IFERROR($E325*SUMIF('Daily Log'!$BM$18:$BM$1017,$B325,'Daily Log'!$BN$18:$BN$1017),0)","v":0},{"$f":"IFERROR($E325*SUMIF('Daily Log'!$BP$18:$BP$1017,$B325,'Daily Log'!$BQ$18:$BQ$1017),0)","v":0},{"$f":"IFERROR($E325*SUMIF('Daily Log'!$BS$18:$BS$1017,$B325,'Daily Log'!$BT$18:$BT$1017),0)","v":0},{"$f":"IFERROR($E325*SUMIF('Daily Log'!$BV$18:$BV$1017,$B325,'Daily Log'!$BW$18:$BW$1017),0)","v":0},{"$f":"IFERROR($E325*SUMIF('Daily Log'!$BY$18:$BY$1017,$B325,'Daily Log'!$BZ$18:$BZ$1017),0)","v":0},{"$f":"IFERROR($E325*SUMIF('Daily Log'!$CB$18:$CB$1017,$B325,'Daily Log'!$CC$18:$CC$1017),0)","v":0},{"$f":"IFERROR($E325*SUMIF('Daily Log'!$CE$18:$CE$1017,$B325,'Daily Log'!$CF$18:$CF$1017),0)","v":0},{"$f":"IFERROR($E325*SUMIF('Daily Log'!$CH$18:$CH$1017,$B325,'Daily Log'!$CI$18:$CI$1017),0)","v":0},{"$f":"IFERROR($E325*SUMIF('Daily Log'!$CK$18:$CK$1017,$B325,'Daily Log'!$CL$18:$CL$1017),0)","v":0},{"$f":"IFERROR($E325*SUMIF('Daily Log'!$CN$18:$CN$1017,$B325,'Daily Log'!$CO$18:$CO$1017),0)","v":0}]
[null,null,null,null,null,0,{"$f":"IFERROR($E326*SUMIF('Daily Log'!$B$18:$B$1017,$B326,'Daily Log'!$C$18:$C$1017),0)","v":0},{"$f":"IFERROR($E326*SUMIF('Daily Log'!$E$18:$E$1017,$B326,'Daily Log'!$F$18:$F$1017),0)","v":0},{"$f":"IFERROR($E326*SUMIF('Daily Log'!$H$18:$H$1017,$B326,'Daily Log'!$I$18:$I$1017),0)","v":0},{"$f":"IFERROR($E326*SUMIF('Daily Log'!$K$18:$K$1017,$B326,'Daily Log'!$L$18:$L$1017),0)","v":0},{"$f":"IFERROR($E326*SUMIF('Daily Log'!$N$18:$N$1017,$B326,'Daily Log'!$O$18:$O$1017),0)","v":0},{"$f":"IFERROR($E326*SUMIF('Daily Log'!$Q$18:$Q$1017,$B326,'Daily Log'!$R$18:$R$1017),0)","v":0},{"$f":"IFERROR($E326*SUMIF('Daily Log'!$T$18:$T$1017,$B326,'Daily Log'!$U$18:$U$1017),0)","v":0},{"$f":"IFERROR($E326*SUMIF('Daily Log'!$W$18:$W$1017,$B326,'Daily Log'!$X$18:$X$1017),0)","v":0},{"$f":"IFERROR($E326*SUMIF('Daily Log'!$Z$18:$Z$1017,$B326,'Daily Log'!$AA$18:$AA$1017),0)","v":0},{"$f":"IFERROR($E326*SUMIF('Daily Log'!$AC$18:$AC$1017,$B326,'Daily Log'!$AD$18:$AD$1017),0)","v":0},{"$f":"IFERROR($E326*SUMIF('Daily Log'!$AF$18:$AF$1017,$B326,'Daily Log'!$AG$18:$AG$1017),0)","v":0},{"$f":"IFERROR($E326*SUMIF('Daily Log'!$AI$18:$AI$1017,$B326,'Daily Log'!$AJ$18:$AJ$1017),0)","v":0},{"$f":"IFERROR($E326*SUMIF('Daily Log'!$AL$18:$AL$1017,$B326,'Daily Log'!$AM$18:$AM$1017),0)","v":0},{"$f":"IFERROR($E326*SUMIF('Daily Log'!$AO$18:$AO$1017,$B326,'Daily Log'!$AP$18:$AP$1017),0)","v":0},{"$f":"IFERROR($E326*SUMIF('Daily Log'!$AR$18:$AR$1017,$B326,'Daily Log'!$AS$18:$AS$1017),0)","v":0},{"$f":"IFERROR($E326*SUMIF('Daily Log'!$AU$18:$AU$1017,$B326,'Daily Log'!$AV$18:$AV$1017),0)","v":0},{"$f":"IFERROR($E326*SUMIF('Daily Log'!$AX$18:$AX$1017,$B326,'Daily Log'!$AY$18:$AY$1017),0)","v":0},{"$f":"IFERROR($E326*SUMIF('Daily Log'!$BA$18:$BA$1017,$B326,'Daily Log'!$BB$18:$BB$1017),0)","v":0},{"$f":"IFERROR($E326*SUMIF('Daily Log'!$BD$18:$BD$1017,$B326,'Daily Log'!$BE$18:$BE$1017),0)","v":0},{"$f":"IFERROR($E326*SUMIF('Daily Log'!$BG$18:$BG$1017,$B326,'Daily Log'!$BH$18:$BH$1017),0)","v":0},{"$f":"IFERROR($E326*SUMIF('Daily Log'!$BJ$18:$BJ$1017,$B326,'Daily Log'!$BK$18:$BK$1017),0)","v":0},{"$f":"IFERROR($E326*SUMIF('Daily Log'!$BM$18:$BM$1017,$B326,'Daily Log'!$BN$18:$BN$1017),0)","v":0},{"$f":"IFERROR($E326*SUMIF('Daily Log'!$BP$18:$BP$1017,$B326,'Daily Log'!$BQ$18:$BQ$1017),0)","v":0},{"$f":"IFERROR($E326*SUMIF('Daily Log'!$BS$18:$BS$1017,$B326,'Daily Log'!$BT$18:$BT$1017),0)","v":0},{"$f":"IFERROR($E326*SUMIF('Daily Log'!$BV$18:$BV$1017,$B326,'Daily Log'!$BW$18:$BW$1017),0)","v":0},{"$f":"IFERROR($E326*SUMIF('Daily Log'!$BY$18:$BY$1017,$B326,'Daily Log'!$BZ$18:$BZ$1017),0)","v":0},{"$f":"IFERROR($E326*SUMIF('Daily Log'!$CB$18:$CB$1017,$B326,'Daily Log'!$CC$18:$CC$1017),0)","v":0},{"$f":"IFERROR($E326*SUMIF('Daily Log'!$CE$18:$CE$1017,$B326,'Daily Log'!$CF$18:$CF$1017),0)","v":0},{"$f":"IFERROR($E326*SUMIF('Daily Log'!$CH$18:$CH$1017,$B326,'Daily Log'!$CI$18:$CI$1017),0)","v":0},{"$f":"IFERROR($E326*SUMIF('Daily Log'!$CK$18:$CK$1017,$B326,'Daily Log'!$CL$18:$CL$1017),0)","v":0},{"$f":"IFERROR($E326*SUMIF('Daily Log'!$CN$18:$CN$1017,$B326,'Daily Log'!$CO$18:$CO$1017),0)","v":0}]
[null,null,null,null,null,0,{"$f":"IFERROR($E327*SUMIF('Daily Log'!$B$18:$B$1017,$B327,'Daily Log'!$C$18:$C$1017),0)","v":0},{"$f":"IFERROR($E327*SUMIF('Daily Log'!$E$18:$E$1017,$B327,'Daily Log'!$F$18:$F$1017),0)","v":0},{"$f":"IFERROR($E327*SUMIF('Daily Log'!$H$18:$H$1017,$B327,'Daily Log'!$I$18:$I$1017),0)","v":0},{"$f":"IFERROR($E327*SUMIF('Daily Log'!$K$18:$K$1017,$B327,'Daily Log'!$L$18:$L$1017),0)","v":0},{"$f":"IFERROR($E327*SUMIF('Daily Log'!$N$18:$N$1017,$B327,'Daily Log'!$O$18:$O$1017),0)","v":0},{"$f":"IFERROR($E327*SUMIF('Daily Log'!$Q$18:$Q$1017,$B327,'Daily Log'!$R$18:$R$1017),0)","v":0},{"$f":"IFERROR($E327*SUMIF('Daily Log'!$T$18:$T$1017,$B327,'Daily Log'!$U$18:$U$1017),0)","v":0},{"$f":"IFERROR($E327*SUMIF('Daily Log'!$W$18:$W$1017,$B327,'Daily Log'!$X$18:$X$1017),0)","v":0},{"$f":"IFERROR($E327*SUMIF('Daily Log'!$Z$18:$Z$1017,$B327,'Daily Log'!$AA$18:$AA$1017),0)","v":0},{"$f":"IFERROR($E327*SUMIF('Daily Log'!$AC$18:$AC$1017,$B327,'Daily Log'!$AD$18:$AD$1017),0)","v":0},{"$f":"IFERROR($E327*SUMIF('Daily Log'!$AF$18:$AF$1017,$B327,'Daily Log'!$AG$18:$AG$1017),0)","v":0},{"$f":"IFERROR($E327*SUMIF('Daily Log'!$AI$18:$AI$1017,$B327,'Daily Log'!$AJ$18:$AJ$1017),0)","v":0},{"$f":"IFERROR($E327*SUMIF('Daily Log'!$AL$18:$AL$1017,$B327,'Daily Log'!$AM$18:$AM$1017),0)","v":0},{"$f":"IFERROR($E327*SUMIF('Daily Log'!$AO$18:$AO$1017,$B327,'Daily Log'!$AP$18:$AP$1017),0)","v":0},{"$f":"IFERROR($E327*SUMIF('Daily Log'!$AR$18:$AR$1017,$B327,'Daily Log'!$AS$18:$AS$1017),0)","v":0},{"$f":"IFERROR($E327*SUMIF('Daily Log'!$AU$18:$AU$1017,$B327,'Daily Log'!$AV$18:$AV$1017),0)","v":0},{"$f":"IFERROR($E327*SUMIF('Daily Log'!$AX$18:$AX$1017,$B327,'Daily Log'!$AY$18:$AY$1017),0)","v":0},{"$f":"IFERROR($E327*SUMIF('Daily Log'!$BA$18:$BA$1017,$B327,'Daily Log'!$BB$18:$BB$1017),0)","v":0},{"$f":"IFERROR($E327*SUMIF('Daily Log'!$BD$18:$BD$1017,$B327,'Daily Log'!$BE$18:$BE$1017),0)","v":0},{"$f":"IFERROR($E327*SUMIF('Daily Log'!$BG$18:$BG$1017,$B327,'Daily Log'!$BH$18:$BH$1017),0)","v":0},{"$f":"IFERROR($E327*SUMIF('Daily Log'!$BJ$18:$BJ$1017,$B327,'Daily Log'!$BK$18:$BK$1017),0)","v":0},{"$f":"IFERROR($E327*SUMIF('Daily Log'!$BM$18:$BM$1017,$B327,'Daily Log'!$BN$18:$BN$1017),0)","v":0},{"$f":"IFERROR($E327*SUMIF('Daily Log'!$BP$18:$BP$1017,$B327,'Daily Log'!$BQ$18:$BQ$1017),0)","v":0},{"$f":"IFERROR($E327*SUMIF('Daily Log'!$BS$18:$BS$1017,$B327,'Daily Log'!$BT$18:$BT$1017),0)","v":0},{"$f":"IFERROR($E327*SUMIF('Daily Log'!$BV$18:$BV$1017,$B327,'Daily Log'!$BW$18:$BW$1017),0)","v":0},{"$f":"IFERROR($E327*SUMIF('Daily Log'!$BY$18:$BY$1017,$B327,'Daily Log'!$BZ$18:$BZ$1017),0)","v":0},{"$f":"IFERROR($E327*SUMIF('Daily Log'!$CB$18:$CB$1017,$B327,'Daily Log'!$CC$18:$CC$1017),0)","v":0},{"$f":"IFERROR($E327*SUMIF('Daily Log'!$CE$18:$CE$1017,$B327,'Daily Log'!$CF$18:$CF$1017),0)","v":0},{"$f":"IFERROR($E327*SUMIF('Daily Log'!$CH$18:$CH$1017,$B327,'Daily Log'!$CI$18:$CI$1017),0)","v":0},{"$f":"IFERROR($E327*SUMIF('Daily Log'!$CK$18:$CK$1017,$B327,'Daily Log'!$CL$18:$CL$1017),0)","v":0},{"$f":"IFERROR($E327*SUMIF('Daily Log'!$CN$18:$CN$1017,$B327,'Daily Log'!$CO$18:$CO$1017),0)","v":0}]
[null,null,null,null,null,0,{"$f":"IFERROR($E328*SUMIF('Daily Log'!$B$18:$B$1017,$B328,'Daily Log'!$C$18:$C$1017),0)","v":0},{"$f":"IFERROR($E328*SUMIF('Daily Log'!$E$18:$E$1017,$B328,'Daily Log'!$F$18:$F$1017),0)","v":0},{"$f":"IFERROR($E328*SUMIF('Daily Log'!$H$18:$H$1017,$B328,'Daily Log'!$I$18:$I$1017),0)","v":0},{"$f":"IFERROR($E328*SUMIF('Daily Log'!$K$18:$K$1017,$B328,'Daily Log'!$L$18:$L$1017),0)","v":0},{"$f":"IFERROR($E328*SUMIF('Daily Log'!$N$18:$N$1017,$B328,'Daily Log'!$O$18:$O$1017),0)","v":0},{"$f":"IFERROR($E328*SUMIF('Daily Log'!$Q$18:$Q$1017,$B328,'Daily Log'!$R$18:$R$1017),0)","v":0},{"$f":"IFERROR($E328*SUMIF('Daily Log'!$T$18:$T$1017,$B328,'Daily Log'!$U$18:$U$1017),0)","v":0},{"$f":"IFERROR($E328*SUMIF('Daily Log'!$W$18:$W$1017,$B328,'Daily Log'!$X$18:$X$1017),0)","v":0},{"$f":"IFERROR($E328*SUMIF('Daily Log'!$Z$18:$Z$1017,$B328,'Daily Log'!$AA$18:$AA$1017),0)","v":0},{"$f":"IFERROR($E328*SUMIF('Daily Log'!$AC$18:$AC$1017,$B328,'Daily Log'!$AD$18:$AD$1017),0)","v":0},{"$f":"IFERROR($E328*SUMIF('Daily Log'!$AF$18:$AF$1017,$B328,'Daily Log'!$AG$18:$AG$1017),0)","v":0},{"$f":"IFERROR($E328*SUMIF('Daily Log'!$AI$18:$AI$1017,$B328,'Daily Log'!$AJ$18:$AJ$1017),0)","v":0},{"$f":"IFERROR($E328*SUMIF('Daily Log'!$AL$18:$AL$1017,$B328,'Daily Log'!$AM$18:$AM$1017),0)","v":0},{"$f":"IFERROR($E328*SUMIF('Daily Log'!$AO$18:$AO$1017,$B328,'Daily Log'!$AP$18:$AP$1017),0)","v":0},{"$f":"IFERROR($E328*SUMIF('Daily Log'!$AR$18:$AR$1017,$B328,'Daily Log'!$AS$18:$AS$1017),0)","v":0},{"$f":"IFERROR($E328*SUMIF('Daily Log'!$AU$18:$AU$1017,$B328,'Daily Log'!$AV$18:$AV$1017),0)","v":0},{"$f":"IFERROR($E328*SUMIF('Daily Log'!$AX$18:$AX$1017,$B328,'Daily Log'!$AY$18:$AY$1017),0)","v":0},{"$f":"IFERROR($E328*SUMIF('Daily Log'!$BA$18:$BA$1017,$B328,'Daily Log'!$BB$18:$BB$1017),0)","v":0},{"$f":"IFERROR($E328*SUMIF('Daily Log'!$BD$18:$BD$1017,$B328,'Daily Log'!$BE$18:$BE$1017),0)","v":0},{"$f":"IFERROR($E328*SUMIF('Daily Log'!$BG$18:$BG$1017,$B328,'Daily Log'!$BH$18:$BH$1017),0)","v":0},{"$f":"IFERROR($E328*SUMIF('Daily Log'!$BJ$18:$BJ$1017,$B328,'Daily Log'!$BK$18:$BK$1017),0)","v":0},{"$f":"IFERROR($E328*SUMIF('Daily Log'!$BM$18:$BM$1017,$B328,'Daily Log'!$BN$18:$BN$1017),0)","v":0},{"$f":"IFERROR($E328*SUMIF('Daily Log'!$BP$18:$BP$1017,$B328,'Daily Log'!$BQ$18:$BQ$1017),0)","v":0},{"$f":"IFERROR($E328*SUMIF('Daily Log'!$BS$18:$BS$1017,$B328,'Daily Log'!$BT$18:$BT$1017),0)","v":0},{"$f":"IFERROR($E328*SUMIF('Daily Log'!$BV$18:$BV$1017,$B328,'Daily Log'!$BW$18:$BW$1017),0)","v":0},{"$f":"IFERROR($E328*SUMIF('Daily Log'!$BY$18:$BY$1017,$B328,'Daily Log'!$BZ$18:$BZ$1017),0)","v":0},{"$f":"IFERROR($E328*SUMIF('Daily Log'!$CB$18:$CB$1017,$B328,'Daily Log'!$CC$18:$CC$1017),0)","v":0},{"$f":"IFERROR($E328*SUMIF('Daily Log'!$CE$18:$CE$1017,$B328,'Daily Log'!$CF$18:$CF$1017),0)","v":0},{"$f":"IFERROR($E328*SUMIF('Daily Log'!$CH$18:$CH$1017,$B328,'Daily Log'!$CI$18:$CI$1017),0)","v":0},{"$f":"IFERROR($E328*SUMIF('Daily Log'!$CK$18:$CK$1017,$B328,'Daily Log'!$CL$18:$CL$1017),0)","v":0},{"$f":"IFERROR($E328*SUMIF('Daily Log'!$CN$18:$CN$1017,$B328,'Daily Log'!$CO$18:$CO$1017),0)","v":0}]
[null,null,null,null,null,0,{"$f":"IFERROR($E329*SUMIF('Daily Log'!$B$18:$B$1017,$B329,'Daily Log'!$C$18:$C$1017),0)","v":0},{"$f":"IFERROR($E329*SUMIF('Daily Log'!$E$18:$E$1017,$B329,'Daily Log'!$F$18:$F$1017),0)","v":0},{"$f":"IFERROR($E329*SUMIF('Daily Log'!$H$18:$H$1017,$B329,'Daily Log'!$I$18:$I$1017),0)","v":0},{"$f":"IFERROR($E329*SUMIF('Daily Log'!$K$18:$K$1017,$B329,'Daily Log'!$L$18:$L$1017),0)","v":0},{"$f":"IFERROR($E329*SUMIF('Daily Log'!$N$18:$N$1017,$B329,'Daily Log'!$O$18:$O$1017),0)","v":0},{"$f":"IFERROR($E329*SUMIF('Daily Log'!$Q$18:$Q$1017,$B329,'Daily Log'!$R$18:$R$1017),0)","v":0},{"$f":"IFERROR($E329*SUMIF('Daily Log'!$T$18:$T$1017,$B329,'Daily Log'!$U$18:$U$1017),0)","v":0},{"$f":"IFERROR($E329*SUMIF('Daily Log'!$W$18:$W$1017,$B329,'Daily Log'!$X$18:$X$1017),0)","v":0},{"$f":"IFERROR($E329*SUMIF('Daily Log'!$Z$18:$Z$1017,$B329,'Daily Log'!$AA$18:$AA$1017),0)","v":0},{"$f":"IFERROR($E329*SUMIF('Daily Log'!$AC$18:$AC$1017,$B329,'Daily Log'!$AD$18:$AD$1017),0)","v":0},{"$f":"IFERROR($E329*SUMIF('Daily Log'!$AF$18:$AF$1017,$B329,'Daily Log'!$AG$18:$AG$1017),0)","v":0},{"$f":"IFERROR($E329*SUMIF('Daily Log'!$AI$18:$AI$1017,$B329,'Daily Log'!$AJ$18:$AJ$1017),0)","v":0},{"$f":"IFERROR($E329*SUMIF('Daily Log'!$AL$18:$AL$1017,$B329,'Daily Log'!$AM$18:$AM$1017),0)","v":0},{"$f":"IFERROR($E329*SUMIF('Daily Log'!$AO$18:$AO$1017,$B329,'Daily Log'!$AP$18:$AP$1017),0)","v":0},{"$f":"IFERROR($E329*SUMIF('Daily Log'!$AR$18:$AR$1017,$B329,'Daily Log'!$AS$18:$AS$1017),0)","v":0},{"$f":"IFERROR($E329*SUMIF('Daily Log'!$AU$18:$AU$1017,$B329,'Daily Log'!$AV$18:$AV$1017),0)","v":0},{"$f":"IFERROR($E329*SUMIF('Daily Log'!$AX$18:$AX$1017,$B329,'Daily Log'!$AY$18:$AY$1017),0)","v":0},{"$f":"IFERROR($E329*SUMIF('Daily Log'!$BA$18:$BA$1017,$B329,'Daily Log'!$BB$18:$BB$1017),0)","v":0},{"$f":"IFERROR($E329*SUMIF('Daily Log'!$BD$18:$BD$1017,$B329,'Daily Log'!$BE$18:$BE$1017),0)","v":0},{"$f":"IFERROR($E329*SUMIF('Daily Log'!$BG$18:$BG$1017,$B329,'Daily Log'!$BH$18:$BH$1017),0)","v":0},{"$f":"IFERROR($E329*SUMIF('Daily Log'!$BJ$18:$BJ$1017,$B329,'Daily Log'!$BK$18:$BK$1017),0)","v":0},{"$f":"IFERROR($E329*SUMIF('Daily Log'!$BM$18:$BM$1017,$B329,'Daily Log'!$BN$18:$BN$1017),0)","v":0},{"$f":"IFERROR($E329*SUMIF('Daily Log'!$BP$18:$BP$1017,$B329,'Daily Log'!$BQ$18:$BQ$1017),0)","v":0},{"$f":"IFERROR($E329*SUMIF('Daily Log'!$BS$18:$BS$1017,$B329,'Daily Log'!$BT$18:$BT$1017),0)","v":0},{"$f":"IFERROR($E329*SUMIF('Daily Log'!$BV$18:$BV$1017,$B329,'Daily Log'!$BW$18:$BW$1017),0)","v":0},{"$f":"IFERROR($E329*SUMIF('Daily Log'!$BY$18:$BY$1017,$B329,'Daily Log'!$BZ$18:$BZ$1017),0)","v":0},{"$f":"IFERROR($E329*SUMIF('Daily Log'!$CB$18:$CB$1017,$B329,'Daily Log'!$CC$18:$CC$1017),0)","v":0},{"$f":"IFERROR($E329*SUMIF('Daily Log'!$CE$18:$CE$1017,$B329,'Daily Log'!$CF$18:$CF$1017),0)","v":0},{"$f":"IFERROR($E329*SUMIF('Daily Log'!$CH$18:$CH$1017,$B329,'Daily Log'!$CI$18:$CI$1017),0)","v":0},{"$f":"IFERROR($E329*SUMIF('Daily Log'!$CK$18:$CK$1017,$B329,'Daily Log'!$CL$18:$CL$1017),0)","v":0},{"$f":"IFERROR($E329*SUMIF('Daily Log'!$CN$18:$CN$1017,$B329,'Daily Log'!$CO$18:$CO$1017),0)","v":0}]
[null,null,null,null,null,0,{"$f":"IFERROR($E330*SUMIF('Daily Log'!$B$18:$B$1017,$B330,'Daily Log'!$C$18:$C$1017),0)","v":0},{"$f":"IFERROR($E330*SUMIF('Daily Log'!$E$18:$E$1017,$B330,'Daily Log'!$F$18:$F$1017),0)","v":0},{"$f":"IFERROR($E330*SUMIF('Daily Log'!$H$18:$H$1017,$B330,'Daily Log'!$I$18:$I$1017),0)","v":0},{"$f":"IFERROR($E330*SUMIF('Daily Log'!$K$18:$K$1017,$B330,'Daily Log'!$L$18:$L$1017),0)","v":0},{"$f":"IFERROR($E330*SUMIF('Daily Log'!$N$18:$N$1017,$B330,'Daily Log'!$O$18:$O$1017),0)","v":0},{"$f":"IFERROR($E330*SUMIF('Daily Log'!$Q$18:$Q$1017,$B330,'Daily Log'!$R$18:$R$1017),0)","v":0},{"$f":"IFERROR($E330*SUMIF('Daily Log'!$T$18:$T$1017,$B330,'Daily Log'!$U$18:$U$1017),0)","v":0},{"$f":"IFERROR($E330*SUMIF('Daily Log'!$W$18:$W$1017,$B330,'Daily Log'!$X$18:$X$1017),0)","v":0},{"$f":"IFERROR($E330*SUMIF('Daily Log'!$Z$18:$Z$1017,$B330,'Daily Log'!$AA$18:$AA$1017),0)","v":0},{"$f":"IFERROR($E330*SUMIF('Daily Log'!$AC$18:$AC$1017,$B330,'Daily Log'!$AD$18:$AD$1017),0)","v":0},{"$f":"IFERROR($E330*SUMIF('Daily Log'!$AF$18:$AF$1017,$B330,'Daily Log'!$AG$18:$AG$1017),0)","v":0},{"$f":"IFERROR($E330*SUMIF('Daily Log'!$AI$18:$AI$1017,$B330,'Daily Log'!$AJ$18:$AJ$1017),0)","v":0},{"$f":"IFERROR($E330*SUMIF('Daily Log'!$AL$18:$AL$1017,$B330,'Daily Log'!$AM$18:$AM$1017),0)","v":0},{"$f":"IFERROR($E330*SUMIF('Daily Log'!$AO$18:$AO$1017,$B330,'Daily Log'!$AP$18:$AP$1017),0)","v":0},{"$f":"IFERROR($E330*SUMIF('Daily Log'!$AR$18:$AR$1017,$B330,'Daily Log'!$AS$18:$AS$1017),0)","v":0},{"$f":"IFERROR($E330*SUMIF('Daily Log'!$AU$18:$AU$1017,$B330,'Daily Log'!$AV$18:$AV$1017),0)","v":0},{"$f":"IFERROR($E330*SUMIF('Daily Log'!$AX$18:$AX$1017,$B330,'Daily Log'!$AY$18:$AY$1017),0)","v":0},{"$f":"IFERROR($E330*SUMIF('Daily Log'!$BA$18:$BA$1017,$B330,'Daily Log'!$BB$18:$BB$1017),0)","v":0},{"$f":"IFERROR($E330*SUMIF('Daily Log'!$BD$18:$BD$1017,$B330,'Daily Log'!$BE$18:$BE$1017),0)","v":0},{"$f":"IFERROR($E330*SUMIF('Daily Log'!$BG$18:$BG$1017,$B330,'Daily Log'!$BH$18:$BH$1017),0)","v":0},{"$f":"IFERROR($E330*SUMIF('Daily Log'!$BJ$18:$BJ$1017,$B330,'Daily Log'!$BK$18:$BK$1017),0)","v":0},{"$f":"IFERROR($E330*SUMIF('Daily Log'!$BM$18:$BM$1017,$B330,'Daily Log'!$BN$18:$BN$1017),0)","v":0},{"$f":"IFERROR($E330*SUMIF('Daily Log'!$BP$18:$BP$1017,$B330,'Daily Log'!$BQ$18:$BQ$1017),0)","v":0},{"$f":"IFERROR($E330*SUMIF('Daily Log'!$BS$18:$BS$1017,$B330,'Daily Log'!$BT$18:$BT$1017),0)","v":0},{"$f":"IFERROR($E330*SUMIF('Daily Log'!$BV$18:$BV$1017,$B330,'Daily Log'!$BW$18:$BW$1017),0)","v":0},{"$f":"IFERROR($E330*SUMIF('Daily Log'!$BY$18:$BY$1017,$B330,'Daily Log'!$BZ$18:$BZ$1017),0)","v":0},{"$f":"IFERROR($E330*SUMIF('Daily Log'!$CB$18:$CB$1017,$B330,'Daily Log'!$CC$18:$CC$1017),0)","v":0},{"$f":"IFERROR($E330*SUMIF('Daily Log'!$CE$18:$CE$1017,$B330,'Daily Log'!$CF$18:$CF$1017),0)","v":0},{"$f":"IFERROR($E330*SUMIF('Daily Log'!$CH$18:$CH$1017,$B330,'Daily Log'!$CI$18:$CI$1017),0)","v":0},{"$f":"IFERROR($E330*SUMIF('Daily Log'!$CK$18:$CK$1017,$B330,'Daily Log'!$CL$18:$CL$1017),0)","v":0},{"$f":"IFERROR($E330*SUMIF('Daily Log'!$CN$18:$CN$1017,$B330,'Daily Log'!$CO$18:$CO$1017),0)","v":0}]
[null,null,null,null,null,0,{"$f":"IFERROR($E331*SUMIF('Daily Log'!$B$18:$B$1017,$B331,'Daily Log'!$C$18:$C$1017),0)","v":0},{"$f":"IFERROR($E331*SUMIF('Daily Log'!$E$18:$E$1017,$B331,'Daily Log'!$F$18:$F$1017),0)","v":0},{"$f":"IFERROR($E331*SUMIF('Daily Log'!$H$18:$H$1017,$B331,'Daily Log'!$I$18:$I$1017),0)","v":0},{"$f":"IFERROR($E331*SUMIF('Daily Log'!$K$18:$K$1017,$B331,'Daily Log'!$L$18:$L$1017),0)","v":0},{"$f":"IFERROR($E331*SUMIF('Daily Log'!$N$18:$N$1017,$B331,'Daily Log'!$O$18:$O$1017),0)","v":0},{"$f":"IFERROR($E331*SUMIF('Daily Log'!$Q$18:$Q$1017,$B331,'Daily Log'!$R$18:$R$1017),0)","v":0},{"$f":"IFERROR($E331*SUMIF('Daily Log'!$T$18:$T$1017,$B331,'Daily Log'!$U$18:$U$1017),0)","v":0},{"$f":"IFERROR($E331*SUMIF('Daily Log'!$W$18:$W$1017,$B331,'Daily Log'!$X$18:$X$1017),0)","v":0},{"$f":"IFERROR($E331*SUMIF('Daily Log'!$Z$18:$Z$1017,$B331,'Daily Log'!$AA$18:$AA$1017),0)","v":0},{"$f":"IFERROR($E331*SUMIF('Daily Log'!$AC$18:$AC$1017,$B331,'Daily Log'!$AD$18:$AD$1017),0)","v":0},{"$f":"IFERROR($E331*SUMIF('Daily Log'!$AF$18:$AF$1017,$B331,'Daily Log'!$AG$18:$AG$1017),0)","v":0},{"$f":"IFERROR($E331*SUMIF('Daily Log'!$AI$18:$AI$1017,$B331,'Daily Log'!$AJ$18:$AJ$1017),0)","v":0},{"$f":"IFERROR($E331*SUMIF('Daily Log'!$AL$18:$AL$1017,$B331,'Daily Log'!$AM$18:$AM$1017),0)","v":0},{"$f":"IFERROR($E331*SUMIF('Daily Log'!$AO$18:$AO$1017,$B331,'Daily Log'!$AP$18:$AP$1017),0)","v":0},{"$f":"IFERROR($E331*SUMIF('Daily Log'!$AR$18:$AR$1017,$B331,'Daily Log'!$AS$18:$AS$1017),0)","v":0},{"$f":"IFERROR($E331*SUMIF('Daily Log'!$AU$18:$AU$1017,$B331,'Daily Log'!$AV$18:$AV$1017),0)","v":0},{"$f":"IFERROR($E331*SUMIF('Daily Log'!$AX$18:$AX$1017,$B331,'Daily Log'!$AY$18:$AY$1017),0)","v":0},{"$f":"IFERROR($E331*SUMIF('Daily Log'!$BA$18:$BA$1017,$B331,'Daily Log'!$BB$18:$BB$1017),0)","v":0},{"$f":"IFERROR($E331*SUMIF('Daily Log'!$BD$18:$BD$1017,$B331,'Daily Log'!$BE$18:$BE$1017),0)","v":0},{"$f":"IFERROR($E331*SUMIF('Daily Log'!$BG$18:$BG$1017,$B331,'Daily Log'!$BH$18:$BH$1017),0)","v":0},{"$f":"IFERROR($E331*SUMIF('Daily Log'!$BJ$18:$BJ$1017,$B331,'Daily Log'!$BK$18:$BK$1017),0)","v":0},{"$f":"IFERROR($E331*SUMIF('Daily Log'!$BM$18:$BM$1017,$B331,'Daily Log'!$BN$18:$BN$1017),0)","v":0},{"$f":"IFERROR($E331*SUMIF('Daily Log'!$BP$18:$BP$1017,$B331,'Daily Log'!$BQ$18:$BQ$1017),0)","v":0},{"$f":"IFERROR($E331*SUMIF('Daily Log'!$BS$18:$BS$1017,$B331,'Daily Log'!$BT$18:$BT$1017),0)","v":0},{"$f":"IFERROR($E331*SUMIF('Daily Log'!$BV$18:$BV$1017,$B331,'Daily Log'!$BW$18:$BW$1017),0)","v":0},{"$f":"IFERROR($E331*SUMIF('Daily Log'!$BY$18:$BY$1017,$B331,'Daily Log'!$BZ$18:$BZ$1017),0)","v":0},{"$f":"IFERROR($E331*SUMIF('Daily Log'!$CB$18:$CB$1017,$B331,'Daily Log'!$CC$18:$CC$1017),0)","v":0},{"$f":"IFERROR($E331*SUMIF('Daily Log'!$CE$18:$CE$1017,$B331,'Daily Log'!$CF$18:$CF$1017),0)","v":0},{"$f":"IFERROR($E331*SUMIF('Daily Log'!$CH$18:$CH$1017,$B331,'Daily Log'!$CI$18:$CI$1017),0)","v":0},{"$f":"IFERROR($E331*SUMIF('Daily Log'!$CK$18:$CK$1017,$B331,'Daily Log'!$CL$18:$CL$1017),0)","v":0},{"$f":"IFERROR($E331*SUMIF('Daily Log'!$CN$18:$CN$1017,$B331,'Daily Log'!$CO$18:$CO$1017),0)","v":0}]
[null,null,null,null,null,0,{"$f":"IFERROR($E332*SUMIF('Daily Log'!$B$18:$B$1017,$B332,'Daily Log'!$C$18:$C$1017),0)","v":0},{"$f":"IFERROR($E332*SUMIF('Daily Log'!$E$18:$E$1017,$B332,'Daily Log'!$F$18:$F$1017),0)","v":0},{"$f":"IFERROR($E332*SUMIF('Daily Log'!$H$18:$H$1017,$B332,'Daily Log'!$I$18:$I$1017),0)","v":0},{"$f":"IFERROR($E332*SUMIF('Daily Log'!$K$18:$K$1017,$B332,'Daily Log'!$L$18:$L$1017),0)","v":0},{"$f":"IFERROR($E332*SUMIF('Daily Log'!$N$18:$N$1017,$B332,'Daily Log'!$O$18:$O$1017),0)","v":0},{"$f":"IFERROR($E332*SUMIF('Daily Log'!$Q$18:$Q$1017,$B332,'Daily Log'!$R$18:$R$1017),0)","v":0},{"$f":"IFERROR($E332*SUMIF('Daily Log'!$T$18:$T$1017,$B332,'Daily Log'!$U$18:$U$1017),0)","v":0},{"$f":"IFERROR($E332*SUMIF('Daily Log'!$W$18:$W$1017,$B332,'Daily Log'!$X$18:$X$1017),0)","v":0},{"$f":"IFERROR($E332*SUMIF('Daily Log'!$Z$18:$Z$1017,$B332,'Daily Log'!$AA$18:$AA$1017),0)","v":0},{"$f":"IFERROR($E332*SUMIF('Daily Log'!$AC$18:$AC$1017,$B332,'Daily Log'!$AD$18:$AD$1017),0)","v":0},{"$f":"IFERROR($E332*SUMIF('Daily Log'!$AF$18:$AF$1017,$B332,'Daily Log'!$AG$18:$AG$1017),0)","v":0},{"$f":"IFERROR($E332*SUMIF('Daily Log'!$AI$18:$AI$1017,$B332,'Daily Log'!$AJ$18:$AJ$1017),0)","v":0},{"$f":"IFERROR($E332*SUMIF('Daily Log'!$AL$18:$AL$1017,$B332,'Daily Log'!$AM$18:$AM$1017),0)","v":0},{"$f":"IFERROR($E332*SUMIF('Daily Log'!$AO$18:$AO$1017,$B332,'Daily Log'!$AP$18:$AP$1017),0)","v":0},{"$f":"IFERROR($E332*SUMIF('Daily Log'!$AR$18:$AR$1017,$B332,'Daily Log'!$AS$18:$AS$1017),0)","v":0},{"$f":"IFERROR($E332*SUMIF('Daily Log'!$AU$18:$AU$1017,$B332,'Daily Log'!$AV$18:$AV$1017),0)","v":0},{"$f":"IFERROR($E332*SUMIF('Daily Log'!$AX$18:$AX$1017,$B332,'Daily Log'!$AY$18:$AY$1017),0)","v":0},{"$f":"IFERROR($E332*SUMIF('Daily Log'!$BA$18:$BA$1017,$B332,'Daily Log'!$BB$18:$BB$1017),0)","v":0},{"$f":"IFERROR($E332*SUMIF('Daily Log'!$BD$18:$BD$1017,$B332,'Daily Log'!$BE$18:$BE$1017),0)","v":0},{"$f":"IFERROR($E332*SUMIF('Daily Log'!$BG$18:$BG$1017,$B332,'Daily Log'!$BH$18:$BH$1017),0)","v":0},{"$f":"IFERROR($E332*SUMIF('Daily Log'!$BJ$18:$BJ$1017,$B332,'Daily Log'!$BK$18:$BK$1017),0)","v":0},{"$f":"IFERROR($E332*SUMIF('Daily Log'!$BM$18:$BM$1017,$B332,'Daily Log'!$BN$18:$BN$1017),0)","v":0},{"$f":"IFERROR($E332*SUMIF('Daily Log'!$BP$18:$BP$1017,$B332,'Daily Log'!$BQ$18:$BQ$1017),0)","v":0},{"$f":"IFERROR($E332*SUMIF('Daily Log'!$BS$18:$BS$1017,$B332,'Daily Log'!$BT$18:$BT$1017),0)","v":0},{"$f":"IFERROR($E332*SUMIF('Daily Log'!$BV$18:$BV$1017,$B332,'Daily Log'!$BW$18:$BW$1017),0)","v":0},{"$f":"IFERROR($E332*SUMIF('Daily Log'!$BY$18:$BY$1017,$B332,'Daily Log'!$BZ$18:$BZ$1017),0)","v":0},{"$f":"IFERROR($E332*SUMIF('Daily Log'!$CB$18:$CB$1017,$B332,'Daily Log'!$CC$18:$CC$1017),0)","v":0},{"$f":"IFERROR($E332*SUMIF('Daily Log'!$CE$18:$CE$1017,$B332,'Daily Log'!$CF$18:$CF$1017),0)","v":0},{"$f":"IFERROR($E332*SUMIF('Daily Log'!$CH$18:$CH$1017,$B332,'Daily Log'!$CI$18:$CI$1017),0)","v":0},{"$f":"IFERROR($E332*SUMIF('Daily Log'!$CK$18:$CK$1017,$B332,'Daily Log'!$CL$18:$CL$1017),0)","v":0},{"$f":"IFERROR($E332*SUMIF('Daily Log'!$CN$18:$CN$1017,$B332,'Daily Log'!$CO$18:$CO$1017),0)","v":0}]
[null,null,null,null,null,0,{"$f":"IFERROR($E333*SUMIF('Daily Log'!$B$18:$B$1017,$B333,'Daily Log'!$C$18:$C$1017),0)","v":0},{"$f":"IFERROR($E333*SUMIF('Daily Log'!$E$18:$E$1017,$B333,'Daily Log'!$F$18:$F$1017),0)","v":0},{"$f":"IFERROR($E333*SUMIF('Daily Log'!$H$18:$H$1017,$B333,'Daily Log'!$I$18:$I$1017),0)","v":0},{"$f":"IFERROR($E333*SUMIF('Daily Log'!$K$18:$K$1017,$B333,'Daily Log'!$L$18:$L$1017),0)","v":0},{"$f":"IFERROR($E333*SUMIF('Daily Log'!$N$18:$N$1017,$B333,'Daily Log'!$O$18:$O$1017),0)","v":0},{"$f":"IFERROR($E333*SUMIF('Daily Log'!$Q$18:$Q$1017,$B333,'Daily Log'!$R$18:$R$1017),0)","v":0},{"$f":"IFERROR($E333*SUMIF('Daily Log'!$T$18:$T$1017,$B333,'Daily Log'!$U$18:$U$1017),0)","v":0},{"$f":"IFERROR($E333*SUMIF('Daily Log'!$W$18:$W$1017,$B333,'Daily Log'!$X$18:$X$1017),0)","v":0},{"$f":"IFERROR($E333*SUMIF('Daily Log'!$Z$18:$Z$1017,$B333,'Daily Log'!$AA$18:$AA$1017),0)","v":0},{"$f":"IFERROR($E333*SUMIF('Daily Log'!$AC$18:$AC$1017,$B333,'Daily Log'!$AD$18:$AD$1017),0)","v":0},{"$f":"IFERROR($E333*SUMIF('Daily Log'!$AF$18:$AF$1017,$B333,'Daily Log'!$AG$18:$AG$1017),0)","v":0},{"$f":"IFERROR($E333*SUMIF('Daily Log'!$AI$18:$AI$1017,$B333,'Daily Log'!$AJ$18:$AJ$1017),0)","v":0},{"$f":"IFERROR($E333*SUMIF('Daily Log'!$AL$18:$AL$1017,$B333,'Daily Log'!$AM$18:$AM$1017),0)","v":0},{"$f":"IFERROR($E333*SUMIF('Daily Log'!$AO$18:$AO$1017,$B333,'Daily Log'!$AP$18:$AP$1017),0)","v":0},{"$f":"IFERROR($E333*SUMIF('Daily Log'!$AR$18:$AR$1017,$B333,'Daily Log'!$AS$18:$AS$1017),0)","v":0},{"$f":"IFERROR($E333*SUMIF('Daily Log'!$AU$18:$AU$1017,$B333,'Daily Log'!$AV$18:$AV$1017),0)","v":0},{"$f":"IFERROR($E333*SUMIF('Daily Log'!$AX$18:$AX$1017,$B333,'Daily Log'!$AY$18:$AY$1017),0)","v":0},{"$f":"IFERROR($E333*SUMIF('Daily Log'!$BA$18:$BA$1017,$B333,'Daily Log'!$BB$18:$BB$1017),0)","v":0},{"$f":"IFERROR($E333*SUMIF('Daily Log'!$BD$18:$BD$1017,$B333,'Daily Log'!$BE$18:$BE$1017),0)","v":0},{"$f":"IFERROR($E333*SUMIF('Daily Log'!$BG$18:$BG$1017,$B333,'Daily Log'!$BH$18:$BH$1017),0)","v":0},{"$f":"IFERROR($E333*SUMIF('Daily Log'!$BJ$18:$BJ$1017,$B333,'Daily Log'!$BK$18:$BK$1017),0)","v":0},{"$f":"IFERROR($E333*SUMIF('Daily Log'!$BM$18:$BM$1017,$B333,'Daily Log'!$BN$18:$BN$1017),0)","v":0},{"$f":"IFERROR($E333*SUMIF('Daily Log'!$BP$18:$BP$1017,$B333,'Daily Log'!$BQ$18:$BQ$1017),0)","v":0},{"$f":"IFERROR($E333*SUMIF('Daily Log'!$BS$18:$BS$1017,$B333,'Daily Log'!$BT$18:$BT$1017),0)","v":0},{"$f":"IFERROR($E333*SUMIF('Daily Log'!$BV$18:$BV$1017,$B333,'Daily Log'!$BW$18:$BW$1017),0)","v":0},{"$f":"IFERROR($E333*SUMIF('Daily Log'!$BY$18:$BY$1017,$B333,'Daily Log'!$BZ$18:$BZ$1017),0)","v":0},{"$f":"IFERROR($E333*SUMIF('Daily Log'!$CB$18:$CB$1017,$B333,'Daily Log'!$CC$18:$CC$1017),0)","v":0},{"$f":"IFERROR($E333*SUMIF('Daily Log'!$CE$18:$CE$1017,$B333,'Daily Log'!$CF$18:$CF$1017),0)","v":0},{"$f":"IFERROR($E333*SUMIF('Daily Log'!$CH$18:$CH$1017,$B333,'Daily Log'!$CI$18:$CI$1017),0)","v":0},{"$f":"IFERROR($E333*SUMIF('Daily Log'!$CK$18:$CK$1017,$B333,'Daily Log'!$CL$18:$CL$1017),0)","v":0},{"$f":"IFERROR($E333*SUMIF('Daily Log'!$CN$18:$CN$1017,$B333,'Daily Log'!$CO$18:$CO$1017),0)","v":0}]
[null,null,null,null,null,0,{"$f":"IFERROR($E334*SUMIF('Daily Log'!$B$18:$B$1017,$B334,'Daily Log'!$C$18:$C$1017),0)","v":0},{"$f":"IFERROR($E334*SUMIF('Daily Log'!$E$18:$E$1017,$B334,'Daily Log'!$F$18:$F$1017),0)","v":0},{"$f":"IFERROR($E334*SUMIF('Daily Log'!$H$18:$H$1017,$B334,'Daily Log'!$I$18:$I$1017),0)","v":0},{"$f":"IFERROR($E334*SUMIF('Daily Log'!$K$18:$K$1017,$B334,'Daily Log'!$L$18:$L$1017),0)","v":0},{"$f":"IFERROR($E334*SUMIF('Daily Log'!$N$18:$N$1017,$B334,'Daily Log'!$O$18:$O$1017),0)","v":0},{"$f":"IFERROR($E334*SUMIF('Daily Log'!$Q$18:$Q$1017,$B334,'Daily Log'!$R$18:$R$1017),0)","v":0},{"$f":"IFERROR($E334*SUMIF('Daily Log'!$T$18:$T$1017,$B334,'Daily Log'!$U$18:$U$1017),0)","v":0},{"$f":"IFERROR($E334*SUMIF('Daily Log'!$W$18:$W$1017,$B334,'Daily Log'!$X$18:$X$1017),0)","v":0},{"$f":"IFERROR($E334*SUMIF('Daily Log'!$Z$18:$Z$1017,$B334,'Daily Log'!$AA$18:$AA$1017),0)","v":0},{"$f":"IFERROR($E334*SUMIF('Daily Log'!$AC$18:$AC$1017,$B334,'Daily Log'!$AD$18:$AD$1017),0)","v":0},{"$f":"IFERROR($E334*SUMIF('Daily Log'!$AF$18:$AF$1017,$B334,'Daily Log'!$AG$18:$AG$1017),0)","v":0},{"$f":"IFERROR($E334*SUMIF('Daily Log'!$AI$18:$AI$1017,$B334,'Daily Log'!$AJ$18:$AJ$1017),0)","v":0},{"$f":"IFERROR($E334*SUMIF('Daily Log'!$AL$18:$AL$1017,$B334,'Daily Log'!$AM$18:$AM$1017),0)","v":0},{"$f":"IFERROR($E334*SUMIF('Daily Log'!$AO$18:$AO$1017,$B334,'Daily Log'!$AP$18:$AP$1017),0)","v":0},{"$f":"IFERROR($E334*SUMIF('Daily Log'!$AR$18:$AR$1017,$B334,'Daily Log'!$AS$18:$AS$1017),0)","v":0},{"$f":"IFERROR($E334*SUMIF('Daily Log'!$AU$18:$AU$1017,$B334,'Daily Log'!$AV$18:$AV$1017),0)","v":0},{"$f":"IFERROR($E334*SUMIF('Daily Log'!$AX$18:$AX$1017,$B334,'Daily Log'!$AY$18:$AY$1017),0)","v":0},{"$f":"IFERROR($E334*SUMIF('Daily Log'!$BA$18:$BA$1017,$B334,'Daily Log'!$BB$18:$BB$1017),0)","v":0},{"$f":"IFERROR($E334*SUMIF('Daily Log'!$BD$18:$BD$1017,$B334,'Daily Log'!$BE$18:$BE$1017),0)","v":0},{"$f":"IFERROR($E334*SUMIF('Daily Log'!$BG$18:$BG$1017,$B334,'Daily Log'!$BH$18:$BH$1017),0)","v":0},{"$f":"IFERROR($E334*SUMIF('Daily Log'!$BJ$18:$BJ$1017,$B334,'Daily Log'!$BK$18:$BK$1017),0)","v":0},{"$f":"IFERROR($E334*SUMIF('Daily Log'!$BM$18:$BM$1017,$B334,'Daily Log'!$BN$18:$BN$1017),0)","v":0},{"$f":"IFERROR($E334*SUMIF('Daily Log'!$BP$18:$BP$1017,$B334,'Daily Log'!$BQ$18:$BQ$1017),0)","v":0},{"$f":"IFERROR($E334*SUMIF('Daily Log'!$BS$18:$BS$1017,$B334,'Daily Log'!$BT$18:$BT$1017),0)","v":0},{"$f":"IFERROR($E334*SUMIF('Daily Log'!$BV$18:$BV$1017,$B334,'Daily Log'!$BW$18:$BW$1017),0)","v":0},{"$f":"IFERROR($E334*SUMIF('Daily Log'!$BY$18:$BY$1017,$B334,'Daily Log'!$BZ$18:$BZ$1017),0)","v":0},{"$f":"IFERROR($E334*SUMIF('Daily Log'!$CB$18:$CB$1017,$B334,'Daily Log'!$CC$18:$CC$1017),0)","v":0},{"$f":"IFERROR($E334*SUMIF('Daily Log'!$CE$18:$CE$1017,$B334,'Daily Log'!$CF$18:$CF$1017),0)","v":0},{"$f":"IFERROR($E334*SUMIF('Daily Log'!$CH$18:$CH$1017,$B334,'Daily Log'!$CI$18:$CI$1017),0)","v":0},{"$f":"IFERROR($E334*SUMIF('Daily Log'!$CK$18:$CK$1017,$B334,'Daily Log'!$CL$18:$CL$1017),0)","v":0},{"$f":"IFERROR($E334*SUMIF('Daily Log'!$CN$18:$CN$1017,$B334,'Daily Log'!$CO$18:$CO$1017),0)","v":0}]
[null,null,null,null,null,0,{"$f":"IFERROR($E335*SUMIF('Daily Log'!$B$18:$B$1017,$B335,'Daily Log'!$C$18:$C$1017),0)","v":0},{"$f":"IFERROR($E335*SUMIF('Daily Log'!$E$18:$E$1017,$B335,'Daily Log'!$F$18:$F$1017),0)","v":0},{"$f":"IFERROR($E335*SUMIF('Daily Log'!$H$18:$H$1017,$B335,'Daily Log'!$I$18:$I$1017),0)","v":0},{"$f":"IFERROR($E335*SUMIF('Daily Log'!$K$18:$K$1017,$B335,'Daily Log'!$L$18:$L$1017),0)","v":0},{"$f":"IFERROR($E335*SUMIF('Daily Log'!$N$18:$N$1017,$B335,'Daily Log'!$O$18:$O$1017),0)","v":0},{"$f":"IFERROR($E335*SUMIF('Daily Log'!$Q$18:$Q$1017,$B335,'Daily Log'!$R$18:$R$1017),0)","v":0},{"$f":"IFERROR($E335*SUMIF('Daily Log'!$T$18:$T$1017,$B335,'Daily Log'!$U$18:$U$1017),0)","v":0},{"$f":"IFERROR($E335*SUMIF('Daily Log'!$W$18:$W$1017,$B335,'Daily Log'!$X$18:$X$1017),0)","v":0},{"$f":"IFERROR($E335*SUMIF('Daily Log'!$Z$18:$Z$1017,$B335,'Daily Log'!$AA$18:$AA$1017),0)","v":0},{"$f":"IFERROR($E335*SUMIF('Daily Log'!$AC$18:$AC$1017,$B335,'Daily Log'!$AD$18:$AD$1017),0)","v":0},{"$f":"IFERROR($E335*SUMIF('Daily Log'!$AF$18:$AF$1017,$B335,'Daily Log'!$AG$18:$AG$1017),0)","v":0},{"$f":"IFERROR($E335*SUMIF('Daily Log'!$AI$18:$AI$1017,$B335,'Daily Log'!$AJ$18:$AJ$1017),0)","v":0},{"$f":"IFERROR($E335*SUMIF('Daily Log'!$AL$18:$AL$1017,$B335,'Daily Log'!$AM$18:$AM$1017),0)","v":0},{"$f":"IFERROR($E335*SUMIF('Daily Log'!$AO$18:$AO$1017,$B335,'Daily Log'!$AP$18:$AP$1017),0)","v":0},{"$f":"IFERROR($E335*SUMIF('Daily Log'!$AR$18:$AR$1017,$B335,'Daily Log'!$AS$18:$AS$1017),0)","v":0},{"$f":"IFERROR($E335*SUMIF('Daily Log'!$AU$18:$AU$1017,$B335,'Daily Log'!$AV$18:$AV$1017),0)","v":0},{"$f":"IFERROR($E335*SUMIF('Daily Log'!$AX$18:$AX$1017,$B335,'Daily Log'!$AY$18:$AY$1017),0)","v":0},{"$f":"IFERROR($E335*SUMIF('Daily Log'!$BA$18:$BA$1017,$B335,'Daily Log'!$BB$18:$BB$1017),0)","v":0},{"$f":"IFERROR($E335*SUMIF('Daily Log'!$BD$18:$BD$1017,$B335,'Daily Log'!$BE$18:$BE$1017),0)","v":0},{"$f":"IFERROR($E335*SUMIF('Daily Log'!$BG$18:$BG$1017,$B335,'Daily Log'!$BH$18:$BH$1017),0)","v":0},{"$f":"IFERROR($E335*SUMIF('Daily Log'!$BJ$18:$BJ$1017,$B335,'Daily Log'!$BK$18:$BK$1017),0)","v":0},{"$f":"IFERROR($E335*SUMIF('Daily Log'!$BM$18:$BM$1017,$B335,'Daily Log'!$BN$18:$BN$1017),0)","v":0},{"$f":"IFERROR($E335*SUMIF('Daily Log'!$BP$18:$BP$1017,$B335,'Daily Log'!$BQ$18:$BQ$1017),0)","v":0},{"$f":"IFERROR($E335*SUMIF('Daily Log'!$BS$18:$BS$1017,$B335,'Daily Log'!$BT$18:$BT$1017),0)","v":0},{"$f":"IFERROR($E335*SUMIF('Daily Log'!$BV$18:$BV$1017,$B335,'Daily Log'!$BW$18:$BW$1017),0)","v":0},{"$f":"IFERROR($E335*SUMIF('Daily Log'!$BY$18:$BY$1017,$B335,'Daily Log'!$BZ$18:$BZ$1017),0)","v":0},{"$f":"IFERROR($E335*SUMIF('Daily Log'!$CB$18:$CB$1017,$B335,'Daily Log'!$CC$18:$CC$1017),0)","v":0},{"$f":"IFERROR($E335*SUMIF('Daily Log'!$CE$18:$CE$1017,$B335,'Daily Log'!$CF$18:$CF$1017),0)","v":0},{"$f":"IFERROR($E335*SUMIF('Daily Log'!$CH$18:$CH$1017,$B335,'Daily Log'!$CI$18:$CI$1017),0)","v":0},{"$f":"IFERROR($E335*SUMIF('Daily Log'!$CK$18:$CK$1017,$B335,'Daily Log'!$CL$18:$CL$1017),0)","v":0},{"$f":"IFERROR($E335*SUMIF('Daily Log'!$CN$18:$CN$1017,$B335,'Daily Log'!$CO$18:$CO$1017),0)","v":0}]
[null,null,null,null,null,0,{"$f":"IFERROR($E336*SUMIF('Daily Log'!$B$18:$B$1017,$B336,'Daily Log'!$C$18:$C$1017),0)","v":0},{"$f":"IFERROR($E336*SUMIF('Daily Log'!$E$18:$E$1017,$B336,'Daily Log'!$F$18:$F$1017),0)","v":0},{"$f":"IFERROR($E336*SUMIF('Daily Log'!$H$18:$H$1017,$B336,'Daily Log'!$I$18:$I$1017),0)","v":0},{"$f":"IFERROR($E336*SUMIF('Daily Log'!$K$18:$K$1017,$B336,'Daily Log'!$L$18:$L$1017),0)","v":0},{"$f":"IFERROR($E336*SUMIF('Daily Log'!$N$18:$N$1017,$B336,'Daily Log'!$O$18:$O$1017),0)","v":0},{"$f":"IFERROR($E336*SUMIF('Daily Log'!$Q$18:$Q$1017,$B336,'Daily Log'!$R$18:$R$1017),0)","v":0},{"$f":"IFERROR($E336*SUMIF('Daily Log'!$T$18:$T$1017,$B336,'Daily Log'!$U$18:$U$1017),0)","v":0},{"$f":"IFERROR($E336*SUMIF('Daily Log'!$W$18:$W$1017,$B336,'Daily Log'!$X$18:$X$1017),0)","v":0},{"$f":"IFERROR($E336*SUMIF('Daily Log'!$Z$18:$Z$1017,$B336,'Daily Log'!$AA$18:$AA$1017),0)","v":0},{"$f":"IFERROR($E336*SUMIF('Daily Log'!$AC$18:$AC$1017,$B336,'Daily Log'!$AD$18:$AD$1017),0)","v":0},{"$f":"IFERROR($E336*SUMIF('Daily Log'!$AF$18:$AF$1017,$B336,'Daily Log'!$AG$18:$AG$1017),0)","v":0},{"$f":"IFERROR($E336*SUMIF('Daily Log'!$AI$18:$AI$1017,$B336,'Daily Log'!$AJ$18:$AJ$1017),0)","v":0},{"$f":"IFERROR($E336*SUMIF('Daily Log'!$AL$18:$AL$1017,$B336,'Daily Log'!$AM$18:$AM$1017),0)","v":0},{"$f":"IFERROR($E336*SUMIF('Daily Log'!$AO$18:$AO$1017,$B336,'Daily Log'!$AP$18:$AP$1017),0)","v":0},{"$f":"IFERROR($E336*SUMIF('Daily Log'!$AR$18:$AR$1017,$B336,'Daily Log'!$AS$18:$AS$1017),0)","v":0},{"$f":"IFERROR($E336*SUMIF('Daily Log'!$AU$18:$AU$1017,$B336,'Daily Log'!$AV$18:$AV$1017),0)","v":0},{"$f":"IFERROR($E336*SUMIF('Daily Log'!$AX$18:$AX$1017,$B336,'Daily Log'!$AY$18:$AY$1017),0)","v":0},{"$f":"IFERROR($E336*SUMIF('Daily Log'!$BA$18:$BA$1017,$B336,'Daily Log'!$BB$18:$BB$1017),0)","v":0},{"$f":"IFERROR($E336*SUMIF('Daily Log'!$BD$18:$BD$1017,$B336,'Daily Log'!$BE$18:$BE$1017),0)","v":0},{"$f":"IFERROR($E336*SUMIF('Daily Log'!$BG$18:$BG$1017,$B336,'Daily Log'!$BH$18:$BH$1017),0)","v":0},{"$f":"IFERROR($E336*SUMIF('Daily Log'!$BJ$18:$BJ$1017,$B336,'Daily Log'!$BK$18:$BK$1017),0)","v":0},{"$f":"IFERROR($E336*SUMIF('Daily Log'!$BM$18:$BM$1017,$B336,'Daily Log'!$BN$18:$BN$1017),0)","v":0},{"$f":"IFERROR($E336*SUMIF('Daily Log'!$BP$18:$BP$1017,$B336,'Daily Log'!$BQ$18:$BQ$1017),0)","v":0},{"$f":"IFERROR($E336*SUMIF('Daily Log'!$BS$18:$BS$1017,$B336,'Daily Log'!$BT$18:$BT$1017),0)","v":0},{"$f":"IFERROR($E336*SUMIF('Daily Log'!$BV$18:$BV$1017,$B336,'Daily Log'!$BW$18:$BW$1017),0)","v":0},{"$f":"IFERROR($E336*SUMIF('Daily Log'!$BY$18:$BY$1017,$B336,'Daily Log'!$BZ$18:$BZ$1017),0)","v":0},{"$f":"IFERROR($E336*SUMIF('Daily Log'!$CB$18:$CB$1017,$B336,'Daily Log'!$CC$18:$CC$1017),0)","v":0},{"$f":"IFERROR($E336*SUMIF('Daily Log'!$CE$18:$CE$1017,$B336,'Daily Log'!$CF$18:$CF$1017),0)","v":0},{"$f":"IFERROR($E336*SUMIF('Daily Log'!$CH$18:$CH$1017,$B336,'Daily Log'!$CI$18:$CI$1017),0)","v":0},{"$f":"IFERROR($E336*SUMIF('Daily Log'!$CK$18:$CK$1017,$B336,'Daily Log'!$CL$18:$CL$1017),0)","v":0},{"$f":"IFERROR($E336*SUMIF('Daily Log'!$CN$18:$CN$1017,$B336,'Daily Log'!$CO$18:$CO$1017),0)","v":0}]
[null,null,null,null,null,0,{"$f":"IFERROR($E337*SUMIF('Daily Log'!$B$18:$B$1017,$B337,'Daily Log'!$C$18:$C$1017),0)","v":0},{"$f":"IFERROR($E337*SUMIF('Daily Log'!$E$18:$E$1017,$B337,'Daily Log'!$F$18:$F$1017),0)","v":0},{"$f":"IFERROR($E337*SUMIF('Daily Log'!$H$18:$H$1017,$B337,'Daily Log'!$I$18:$I$1017),0)","v":0},{"$f":"IFERROR($E337*SUMIF('Daily Log'!$K$18:$K$1017,$B337,'Daily Log'!$L$18:$L$1017),0)","v":0},{"$f":"IFERROR($E337*SUMIF('Daily Log'!$N$18:$N$1017,$B337,'Daily Log'!$O$18:$O$1017),0)","v":0},{"$f":"IFERROR($E337*SUMIF('Daily Log'!$Q$18:$Q$1017,$B337,'Daily Log'!$R$18:$R$1017),0)","v":0},{"$f":"IFERROR($E337*SUMIF('Daily Log'!$T$18:$T$1017,$B337,'Daily Log'!$U$18:$U$1017),0)","v":0},{"$f":"IFERROR($E337*SUMIF('Daily Log'!$W$18:$W$1017,$B337,'Daily Log'!$X$18:$X$1017),0)","v":0},{"$f":"IFERROR($E337*SUMIF('Daily Log'!$Z$18:$Z$1017,$B337,'Daily Log'!$AA$18:$AA$1017),0)","v":0},{"$f":"IFERROR($E337*SUMIF('Daily Log'!$AC$18:$AC$1017,$B337,'Daily Log'!$AD$18:$AD$1017),0)","v":0},{"$f":"IFERROR($E337*SUMIF('Daily Log'!$AF$18:$AF$1017,$B337,'Daily Log'!$AG$18:$AG$1017),0)","v":0},{"$f":"IFERROR($E337*SUMIF('Daily Log'!$AI$18:$AI$1017,$B337,'Daily Log'!$AJ$18:$AJ$1017),0)","v":0},{"$f":"IFERROR($E337*SUMIF('Daily Log'!$AL$18:$AL$1017,$B337,'Daily Log'!$AM$18:$AM$1017),0)","v":0},{"$f":"IFERROR($E337*SUMIF('Daily Log'!$AO$18:$AO$1017,$B337,'Daily Log'!$AP$18:$AP$1017),0)","v":0},{"$f":"IFERROR($E337*SUMIF('Daily Log'!$AR$18:$AR$1017,$B337,'Daily Log'!$AS$18:$AS$1017),0)","v":0},{"$f":"IFERROR($E337*SUMIF('Daily Log'!$AU$18:$AU$1017,$B337,'Daily Log'!$AV$18:$AV$1017),0)","v":0},{"$f":"IFERROR($E337*SUMIF('Daily Log'!$AX$18:$AX$1017,$B337,'Daily Log'!$AY$18:$AY$1017),0)","v":0},{"$f":"IFERROR($E337*SUMIF('Daily Log'!$BA$18:$BA$1017,$B337,'Daily Log'!$BB$18:$BB$1017),0)","v":0},{"$f":"IFERROR($E337*SUMIF('Daily Log'!$BD$18:$BD$1017,$B337,'Daily Log'!$BE$18:$BE$1017),0)","v":0},{"$f":"IFERROR($E337*SUMIF('Daily Log'!$BG$18:$BG$1017,$B337,'Daily Log'!$BH$18:$BH$1017),0)","v":0},{"$f":"IFERROR($E337*SUMIF('Daily Log'!$BJ$18:$BJ$1017,$B337,'Daily Log'!$BK$18:$BK$1017),0)","v":0},{"$f":"IFERROR($E337*SUMIF('Daily Log'!$BM$18:$BM$1017,$B337,'Daily Log'!$BN$18:$BN$1017),0)","v":0},{"$f":"IFERROR($E337*SUMIF('Daily Log'!$BP$18:$BP$1017,$B337,'Daily Log'!$BQ$18:$BQ$1017),0)","v":0},{"$f":"IFERROR($E337*SUMIF('Daily Log'!$BS$18:$BS$1017,$B337,'Daily Log'!$BT$18:$BT$1017),0)","v":0},{"$f":"IFERROR($E337*SUMIF('Daily Log'!$BV$18:$BV$1017,$B337,'Daily Log'!$BW$18:$BW$1017),0)","v":0},{"$f":"IFERROR($E337*SUMIF('Daily Log'!$BY$18:$BY$1017,$B337,'Daily Log'!$BZ$18:$BZ$1017),0)","v":0},{"$f":"IFERROR($E337*SUMIF('Daily Log'!$CB$18:$CB$1017,$B337,'Daily Log'!$CC$18:$CC$1017),0)","v":0},{"$f":"IFERROR($E337*SUMIF('Daily Log'!$CE$18:$CE$1017,$B337,'Daily Log'!$CF$18:$CF$1017),0)","v":0},{"$f":"IFERROR($E337*SUMIF('Daily Log'!$CH$18:$CH$1017,$B337,'Daily Log'!$CI$18:$CI$1017),0)","v":0},{"$f":"IFERROR($E337*SUMIF('Daily Log'!$CK$18:$CK$1017,$B337,'Daily Log'!$CL$18:$CL$1017),0)","v":0},{"$f":"IFERROR($E337*SUMIF('Daily Log'!$CN$18:$CN$1017,$B337,'Daily Log'!$CO$18:$CO$1017),0)","v":0}]
[null,null,null,null,null,0,{"$f":"IFERROR($E338*SUMIF('Daily Log'!$B$18:$B$1017,$B338,'Daily Log'!$C$18:$C$1017),0)","v":0},{"$f":"IFERROR($E338*SUMIF('Daily Log'!$E$18:$E$1017,$B338,'Daily Log'!$F$18:$F$1017),0)","v":0},{"$f":"IFERROR($E338*SUMIF('Daily Log'!$H$18:$H$1017,$B338,'Daily Log'!$I$18:$I$1017),0)","v":0},{"$f":"IFERROR($E338*SUMIF('Daily Log'!$K$18:$K$1017,$B338,'Daily Log'!$L$18:$L$1017),0)","v":0},{"$f":"IFERROR($E338*SUMIF('Daily Log'!$N$18:$N$1017,$B338,'Daily Log'!$O$18:$O$1017),0)","v":0},{"$f":"IFERROR($E338*SUMIF('Daily Log'!$Q$18:$Q$1017,$B338,'Daily Log'!$R$18:$R$1017),0)","v":0},{"$f":"IFERROR($E338*SUMIF('Daily Log'!$T$18:$T$1017,$B338,'Daily Log'!$U$18:$U$1017),0)","v":0},{"$f":"IFERROR($E338*SUMIF('Daily Log'!$W$18:$W$1017,$B338,'Daily Log'!$X$18:$X$1017),0)","v":0},{"$f":"IFERROR($E338*SUMIF('Daily Log'!$Z$18:$Z$1017,$B338,'Daily Log'!$AA$18:$AA$1017),0)","v":0},{"$f":"IFERROR($E338*SUMIF('Daily Log'!$AC$18:$AC$1017,$B338,'Daily Log'!$AD$18:$AD$1017),0)","v":0},{"$f":"IFERROR($E338*SUMIF('Daily Log'!$AF$18:$AF$1017,$B338,'Daily Log'!$AG$18:$AG$1017),0)","v":0},{"$f":"IFERROR($E338*SUMIF('Daily Log'!$AI$18:$AI$1017,$B338,'Daily Log'!$AJ$18:$AJ$1017),0)","v":0},{"$f":"IFERROR($E338*SUMIF('Daily Log'!$AL$18:$AL$1017,$B338,'Daily Log'!$AM$18:$AM$1017),0)","v":0},{"$f":"IFERROR($E338*SUMIF('Daily Log'!$AO$18:$AO$1017,$B338,'Daily Log'!$AP$18:$AP$1017),0)","v":0},{"$f":"IFERROR($E338*SUMIF('Daily Log'!$AR$18:$AR$1017,$B338,'Daily Log'!$AS$18:$AS$1017),0)","v":0},{"$f":"IFERROR($E338*SUMIF('Daily Log'!$AU$18:$AU$1017,$B338,'Daily Log'!$AV$18:$AV$1017),0)","v":0},{"$f":"IFERROR($E338*SUMIF('Daily Log'!$AX$18:$AX$1017,$B338,'Daily Log'!$AY$18:$AY$1017),0)","v":0},{"$f":"IFERROR($E338*SUMIF('Daily Log'!$BA$18:$BA$1017,$B338,'Daily Log'!$BB$18:$BB$1017),0)","v":0},{"$f":"IFERROR($E338*SUMIF('Daily Log'!$BD$18:$BD$1017,$B338,'Daily Log'!$BE$18:$BE$1017),0)","v":0},{"$f":"IFERROR($E338*SUMIF('Daily Log'!$BG$18:$BG$1017,$B338,'Daily Log'!$BH$18:$BH$1017),0)","v":0},{"$f":"IFERROR($E338*SUMIF('Daily Log'!$BJ$18:$BJ$1017,$B338,'Daily Log'!$BK$18:$BK$1017),0)","v":0},{"$f":"IFERROR($E338*SUMIF('Daily Log'!$BM$18:$BM$1017,$B338,'Daily Log'!$BN$18:$BN$1017),0)","v":0},{"$f":"IFERROR($E338*SUMIF('Daily Log'!$BP$18:$BP$1017,$B338,'Daily Log'!$BQ$18:$BQ$1017),0)","v":0},{"$f":"IFERROR($E338*SUMIF('Daily Log'!$BS$18:$BS$1017,$B338,'Daily Log'!$BT$18:$BT$1017),0)","v":0},{"$f":"IFERROR($E338*SUMIF('Daily Log'!$BV$18:$BV$1017,$B338,'Daily Log'!$BW$18:$BW$1017),0)","v":0},{"$f":"IFERROR($E338*SUMIF('Daily Log'!$BY$18:$BY$1017,$B338,'Daily Log'!$BZ$18:$BZ$1017),0)","v":0},{"$f":"IFERROR($E338*SUMIF('Daily Log'!$CB$18:$CB$1017,$B338,'Daily Log'!$CC$18:$CC$1017),0)","v":0},{"$f":"IFERROR($E338*SUMIF('Daily Log'!$CE$18:$CE$1017,$B338,'Daily Log'!$CF$18:$CF$1017),0)","v":0},{"$f":"IFERROR($E338*SUMIF('Daily Log'!$CH$18:$CH$1017,$B338,'Daily Log'!$CI$18:$CI$1017),0)","v":0},{"$f":"IFERROR($E338*SUMIF('Daily Log'!$CK$18:$CK$1017,$B338,'Daily Log'!$CL$18:$CL$1017),0)","v":0},{"$f":"IFERROR($E338*SUMIF('Daily Log'!$CN$18:$CN$1017,$B338,'Daily Log'!$CO$18:$CO$1017),0)","v":0}]
[null,null,null,null,null,0,{"$f":"IFERROR($E339*SUMIF('Daily Log'!$B$18:$B$1017,$B339,'Daily Log'!$C$18:$C$1017),0)","v":0},{"$f":"IFERROR($E339*SUMIF('Daily Log'!$E$18:$E$1017,$B339,'Daily Log'!$F$18:$F$1017),0)","v":0},{"$f":"IFERROR($E339*SUMIF('Daily Log'!$H$18:$H$1017,$B339,'Daily Log'!$I$18:$I$1017),0)","v":0},{"$f":"IFERROR($E339*SUMIF('Daily Log'!$K$18:$K$1017,$B339,'Daily Log'!$L$18:$L$1017),0)","v":0},{"$f":"IFERROR($E339*SUMIF('Daily Log'!$N$18:$N$1017,$B339,'Daily Log'!$O$18:$O$1017),0)","v":0},{"$f":"IFERROR($E339*SUMIF('Daily Log'!$Q$18:$Q$1017,$B339,'Daily Log'!$R$18:$R$1017),0)","v":0},{"$f":"IFERROR($E339*SUMIF('Daily Log'!$T$18:$T$1017,$B339,'Daily Log'!$U$18:$U$1017),0)","v":0},{"$f":"IFERROR($E339*SUMIF('Daily Log'!$W$18:$W$1017,$B339,'Daily Log'!$X$18:$X$1017),0)","v":0},{"$f":"IFERROR($E339*SUMIF('Daily Log'!$Z$18:$Z$1017,$B339,'Daily Log'!$AA$18:$AA$1017),0)","v":0},{"$f":"IFERROR($E339*SUMIF('Daily Log'!$AC$18:$AC$1017,$B339,'Daily Log'!$AD$18:$AD$1017),0)","v":0},{"$f":"IFERROR($E339*SUMIF('Daily Log'!$AF$18:$AF$1017,$B339,'Daily Log'!$AG$18:$AG$1017),0)","v":0},{"$f":"IFERROR($E339*SUMIF('Daily Log'!$AI$18:$AI$1017,$B339,'Daily Log'!$AJ$18:$AJ$1017),0)","v":0},{"$f":"IFERROR($E339*SUMIF('Daily Log'!$AL$18:$AL$1017,$B339,'Daily Log'!$AM$18:$AM$1017),0)","v":0},{"$f":"IFERROR($E339*SUMIF('Daily Log'!$AO$18:$AO$1017,$B339,'Daily Log'!$AP$18:$AP$1017),0)","v":0},{"$f":"IFERROR($E339*SUMIF('Daily Log'!$AR$18:$AR$1017,$B339,'Daily Log'!$AS$18:$AS$1017),0)","v":0},{"$f":"IFERROR($E339*SUMIF('Daily Log'!$AU$18:$AU$1017,$B339,'Daily Log'!$AV$18:$AV$1017),0)","v":0},{"$f":"IFERROR($E339*SUMIF('Daily Log'!$AX$18:$AX$1017,$B339,'Daily Log'!$AY$18:$AY$1017),0)","v":0},{"$f":"IFERROR($E339*SUMIF('Daily Log'!$BA$18:$BA$1017,$B339,'Daily Log'!$BB$18:$BB$1017),0)","v":0},{"$f":"IFERROR($E339*SUMIF('Daily Log'!$BD$18:$BD$1017,$B339,'Daily Log'!$BE$18:$BE$1017),0)","v":0},{"$f":"IFERROR($E339*SUMIF('Daily Log'!$BG$18:$BG$1017,$B339,'Daily Log'!$BH$18:$BH$1017),0)","v":0},{"$f":"IFERROR($E339*SUMIF('Daily Log'!$BJ$18:$BJ$1017,$B339,'Daily Log'!$BK$18:$BK$1017),0)","v":0},{"$f":"IFERROR($E339*SUMIF('Daily Log'!$BM$18:$BM$1017,$B339,'Daily Log'!$BN$18:$BN$1017),0)","v":0},{"$f":"IFERROR($E339*SUMIF('Daily Log'!$BP$18:$BP$1017,$B339,'Daily Log'!$BQ$18:$BQ$1017),0)","v":0},{"$f":"IFERROR($E339*SUMIF('Daily Log'!$BS$18:$BS$1017,$B339,'Daily Log'!$BT$18:$BT$1017),0)","v":0},{"$f":"IFERROR($E339*SUMIF('Daily Log'!$BV$18:$BV$1017,$B339,'Daily Log'!$BW$18:$BW$1017),0)","v":0},{"$f":"IFERROR($E339*SUMIF('Daily Log'!$BY$18:$BY$1017,$B339,'Daily Log'!$BZ$18:$BZ$1017),0)","v":0},{"$f":"IFERROR($E339*SUMIF('Daily Log'!$CB$18:$CB$1017,$B339,'Daily Log'!$CC$18:$CC$1017),0)","v":0},{"$f":"IFERROR($E339*SUMIF('Daily Log'!$CE$18:$CE$1017,$B339,'Daily Log'!$CF$18:$CF$1017),0)","v":0},{"$f":"IFERROR($E339*SUMIF('Daily Log'!$CH$18:$CH$1017,$B339,'Daily Log'!$CI$18:$CI$1017),0)","v":0},{"$f":"IFERROR($E339*SUMIF('Daily Log'!$CK$18:$CK$1017,$B339,'Daily Log'!$CL$18:$CL$1017),0)","v":0},{"$f":"IFERROR($E339*SUMIF('Daily Log'!$CN$18:$CN$1017,$B339,'Daily Log'!$CO$18:$CO$1017),0)","v":0}]
[null,null,null,null,null,0,{"$f":"IFERROR($E340*SUMIF('Daily Log'!$B$18:$B$1017,$B340,'Daily Log'!$C$18:$C$1017),0)","v":0},{"$f":"IFERROR($E340*SUMIF('Daily Log'!$E$18:$E$1017,$B340,'Daily Log'!$F$18:$F$1017),0)","v":0},{"$f":"IFERROR($E340*SUMIF('Daily Log'!$H$18:$H$1017,$B340,'Daily Log'!$I$18:$I$1017),0)","v":0},{"$f":"IFERROR($E340*SUMIF('Daily Log'!$K$18:$K$1017,$B340,'Daily Log'!$L$18:$L$1017),0)","v":0},{"$f":"IFERROR($E340*SUMIF('Daily Log'!$N$18:$N$1017,$B340,'Daily Log'!$O$18:$O$1017),0)","v":0},{"$f":"IFERROR($E340*SUMIF('Daily Log'!$Q$18:$Q$1017,$B340,'Daily Log'!$R$18:$R$1017),0)","v":0},{"$f":"IFERROR($E340*SUMIF('Daily Log'!$T$18:$T$1017,$B340,'Daily Log'!$U$18:$U$1017),0)","v":0},{"$f":"IFERROR($E340*SUMIF('Daily Log'!$W$18:$W$1017,$B340,'Daily Log'!$X$18:$X$1017),0)","v":0},{"$f":"IFERROR($E340*SUMIF('Daily Log'!$Z$18:$Z$1017,$B340,'Daily Log'!$AA$18:$AA$1017),0)","v":0},{"$f":"IFERROR($E340*SUMIF('Daily Log'!$AC$18:$AC$1017,$B340,'Daily Log'!$AD$18:$AD$1017),0)","v":0},{"$f":"IFERROR($E340*SUMIF('Daily Log'!$AF$18:$AF$1017,$B340,'Daily Log'!$AG$18:$AG$1017),0)","v":0},{"$f":"IFERROR($E340*SUMIF('Daily Log'!$AI$18:$AI$1017,$B340,'Daily Log'!$AJ$18:$AJ$1017),0)","v":0},{"$f":"IFERROR($E340*SUMIF('Daily Log'!$AL$18:$AL$1017,$B340,'Daily Log'!$AM$18:$AM$1017),0)","v":0},{"$f":"IFERROR($E340*SUMIF('Daily Log'!$AO$18:$AO$1017,$B340,'Daily Log'!$AP$18:$AP$1017),0)","v":0},{"$f":"IFERROR($E340*SUMIF('Daily Log'!$AR$18:$AR$1017,$B340,'Daily Log'!$AS$18:$AS$1017),0)","v":0},{"$f":"IFERROR($E340*SUMIF('Daily Log'!$AU$18:$AU$1017,$B340,'Daily Log'!$AV$18:$AV$1017),0)","v":0},{"$f":"IFERROR($E340*SUMIF('Daily Log'!$AX$18:$AX$1017,$B340,'Daily Log'!$AY$18:$AY$1017),0)","v":0},{"$f":"IFERROR($E340*SUMIF('Daily Log'!$BA$18:$BA$1017,$B340,'Daily Log'!$BB$18:$BB$1017),0)","v":0},{"$f":"IFERROR($E340*SUMIF('Daily Log'!$BD$18:$BD$1017,$B340,'Daily Log'!$BE$18:$BE$1017),0)","v":0},{"$f":"IFERROR($E340*SUMIF('Daily Log'!$BG$18:$BG$1017,$B340,'Daily Log'!$BH$18:$BH$1017),0)","v":0},{"$f":"IFERROR($E340*SUMIF('Daily Log'!$BJ$18:$BJ$1017,$B340,'Daily Log'!$BK$18:$BK$1017),0)","v":0},{"$f":"IFERROR($E340*SUMIF('Daily Log'!$BM$18:$BM$1017,$B340,'Daily Log'!$BN$18:$BN$1017),0)","v":0},{"$f":"IFERROR($E340*SUMIF('Daily Log'!$BP$18:$BP$1017,$B340,'Daily Log'!$BQ$18:$BQ$1017),0)","v":0},{"$f":"IFERROR($E340*SUMIF('Daily Log'!$BS$18:$BS$1017,$B340,'Daily Log'!$BT$18:$BT$1017),0)","v":0},{"$f":"IFERROR($E340*SUMIF('Daily Log'!$BV$18:$BV$1017,$B340,'Daily Log'!$BW$18:$BW$1017),0)","v":0},{"$f":"IFERROR($E340*SUMIF('Daily Log'!$BY$18:$BY$1017,$B340,'Daily Log'!$BZ$18:$BZ$1017),0)","v":0},{"$f":"IFERROR($E340*SUMIF('Daily Log'!$CB$18:$CB$1017,$B340,'Daily Log'!$CC$18:$CC$1017),0)","v":0},{"$f":"IFERROR($E340*SUMIF('Daily Log'!$CE$18:$CE$1017,$B340,'Daily Log'!$CF$18:$CF$1017),0)","v":0},{"$f":"IFERROR($E340*SUMIF('Daily Log'!$CH$18:$CH$1017,$B340,'Daily Log'!$CI$18:$CI$1017),0)","v":0},{"$f":"IFERROR($E340*SUMIF('Daily Log'!$CK$18:$CK$1017,$B340,'Daily Log'!$CL$18:$CL$1017),0)","v":0},{"$f":"IFERROR($E340*SUMIF('Daily Log'!$CN$18:$CN$1017,$B340,'Daily Log'!$CO$18:$CO$1017),0)","v":0}]
[null,null,null,null,null,0,{"$f":"IFERROR($E341*SUMIF('Daily Log'!$B$18:$B$1017,$B341,'Daily Log'!$C$18:$C$1017),0)","v":0},{"$f":"IFERROR($E341*SUMIF('Daily Log'!$E$18:$E$1017,$B341,'Daily Log'!$F$18:$F$1017),0)","v":0},{"$f":"IFERROR($E341*SUMIF('Daily Log'!$H$18:$H$1017,$B341,'Daily Log'!$I$18:$I$1017),0)","v":0},{"$f":"IFERROR($E341*SUMIF('Daily Log'!$K$18:$K$1017,$B341,'Daily Log'!$L$18:$L$1017),0)","v":0},{"$f":"IFERROR($E341*SUMIF('Daily Log'!$N$18:$N$1017,$B341,'Daily Log'!$O$18:$O$1017),0)","v":0},{"$f":"IFERROR($E341*SUMIF('Daily Log'!$Q$18:$Q$1017,$B341,'Daily Log'!$R$18:$R$1017),0)","v":0},{"$f":"IFERROR($E341*SUMIF('Daily Log'!$T$18:$T$1017,$B341,'Daily Log'!$U$18:$U$1017),0)","v":0},{"$f":"IFERROR($E341*SUMIF('Daily Log'!$W$18:$W$1017,$B341,'Daily Log'!$X$18:$X$1017),0)","v":0},{"$f":"IFERROR($E341*SUMIF('Daily Log'!$Z$18:$Z$1017,$B341,'Daily Log'!$AA$18:$AA$1017),0)","v":0},{"$f":"IFERROR($E341*SUMIF('Daily Log'!$AC$18:$AC$1017,$B341,'Daily Log'!$AD$18:$AD$1017),0)","v":0},{"$f":"IFERROR($E341*SUMIF('Daily Log'!$AF$18:$AF$1017,$B341,'Daily Log'!$AG$18:$AG$1017),0)","v":0},{"$f":"IFERROR($E341*SUMIF('Daily Log'!$AI$18:$AI$1017,$B341,'Daily Log'!$AJ$18:$AJ$1017),0)","v":0},{"$f":"IFERROR($E341*SUMIF('Daily Log'!$AL$18:$AL$1017,$B341,'Daily Log'!$AM$18:$AM$1017),0)","v":0},{"$f":"IFERROR($E341*SUMIF('Daily Log'!$AO$18:$AO$1017,$B341,'Daily Log'!$AP$18:$AP$1017),0)","v":0},{"$f":"IFERROR($E341*SUMIF('Daily Log'!$AR$18:$AR$1017,$B341,'Daily Log'!$AS$18:$AS$1017),0)","v":0},{"$f":"IFERROR($E341*SUMIF('Daily Log'!$AU$18:$AU$1017,$B341,'Daily Log'!$AV$18:$AV$1017),0)","v":0},{"$f":"IFERROR($E341*SUMIF('Daily Log'!$AX$18:$AX$1017,$B341,'Daily Log'!$AY$18:$AY$1017),0)","v":0},{"$f":"IFERROR($E341*SUMIF('Daily Log'!$BA$18:$BA$1017,$B341,'Daily Log'!$BB$18:$BB$1017),0)","v":0},{"$f":"IFERROR($E341*SUMIF('Daily Log'!$BD$18:$BD$1017,$B341,'Daily Log'!$BE$18:$BE$1017),0)","v":0},{"$f":"IFERROR($E341*SUMIF('Daily Log'!$BG$18:$BG$1017,$B341,'Daily Log'!$BH$18:$BH$1017),0)","v":0},{"$f":"IFERROR($E341*SUMIF('Daily Log'!$BJ$18:$BJ$1017,$B341,'Daily Log'!$BK$18:$BK$1017),0)","v":0},{"$f":"IFERROR($E341*SUMIF('Daily Log'!$BM$18:$BM$1017,$B341,'Daily Log'!$BN$18:$BN$1017),0)","v":0},{"$f":"IFERROR($E341*SUMIF('Daily Log'!$BP$18:$BP$1017,$B341,'Daily Log'!$BQ$18:$BQ$1017),0)","v":0},{"$f":"IFERROR($E341*SUMIF('Daily Log'!$BS$18:$BS$1017,$B341,'Daily Log'!$BT$18:$BT$1017),0)","v":0},{"$f":"IFERROR($E341*SUMIF('Daily Log'!$BV$18:$BV$1017,$B341,'Daily Log'!$BW$18:$BW$1017),0)","v":0},{"$f":"IFERROR($E341*SUMIF('Daily Log'!$BY$18:$BY$1017,$B341,'Daily Log'!$BZ$18:$BZ$1017),0)","v":0},{"$f":"IFERROR($E341*SUMIF('Daily Log'!$CB$18:$CB$1017,$B341,'Daily Log'!$CC$18:$CC$1017),0)","v":0},{"$f":"IFERROR($E341*SUMIF('Daily Log'!$CE$18:$CE$1017,$B341,'Daily Log'!$CF$18:$CF$1017),0)","v":0},{"$f":"IFERROR($E341*SUMIF('Daily Log'!$CH$18:$CH$1017,$B341,'Daily Log'!$CI$18:$CI$1017),0)","v":0},{"$f":"IFERROR($E341*SUMIF('Daily Log'!$CK$18:$CK$1017,$B341,'Daily Log'!$CL$18:$CL$1017),0)","v":0},{"$f":"IFERROR($E341*SUMIF('Daily Log'!$CN$18:$CN$1017,$B341,'Daily Log'!$CO$18:$CO$1017),0)","v":0}]
[null,null,null,null,null,0,{"$f":"IFERROR($E342*SUMIF('Daily Log'!$B$18:$B$1017,$B342,'Daily Log'!$C$18:$C$1017),0)","v":0},{"$f":"IFERROR($E342*SUMIF('Daily Log'!$E$18:$E$1017,$B342,'Daily Log'!$F$18:$F$1017),0)","v":0},{"$f":"IFERROR($E342*SUMIF('Daily Log'!$H$18:$H$1017,$B342,'Daily Log'!$I$18:$I$1017),0)","v":0},{"$f":"IFERROR($E342*SUMIF('Daily Log'!$K$18:$K$1017,$B342,'Daily Log'!$L$18:$L$1017),0)","v":0},{"$f":"IFERROR($E342*SUMIF('Daily Log'!$N$18:$N$1017,$B342,'Daily Log'!$O$18:$O$1017),0)","v":0},{"$f":"IFERROR($E342*SUMIF('Daily Log'!$Q$18:$Q$1017,$B342,'Daily Log'!$R$18:$R$1017),0)","v":0},{"$f":"IFERROR($E342*SUMIF('Daily Log'!$T$18:$T$1017,$B342,'Daily Log'!$U$18:$U$1017),0)","v":0},{"$f":"IFERROR($E342*SUMIF('Daily Log'!$W$18:$W$1017,$B342,'Daily Log'!$X$18:$X$1017),0)","v":0},{"$f":"IFERROR($E342*SUMIF('Daily Log'!$Z$18:$Z$1017,$B342,'Daily Log'!$AA$18:$AA$1017),0)","v":0},{"$f":"IFERROR($E342*SUMIF('Daily Log'!$AC$18:$AC$1017,$B342,'Daily Log'!$AD$18:$AD$1017),0)","v":0},{"$f":"IFERROR($E342*SUMIF('Daily Log'!$AF$18:$AF$1017,$B342,'Daily Log'!$AG$18:$AG$1017),0)","v":0},{"$f":"IFERROR($E342*SUMIF('Daily Log'!$AI$18:$AI$1017,$B342,'Daily Log'!$AJ$18:$AJ$1017),0)","v":0},{"$f":"IFERROR($E342*SUMIF('Daily Log'!$AL$18:$AL$1017,$B342,'Daily Log'!$AM$18:$AM$1017),0)","v":0},{"$f":"IFERROR($E342*SUMIF('Daily Log'!$AO$18:$AO$1017,$B342,'Daily Log'!$AP$18:$AP$1017),0)","v":0},{"$f":"IFERROR($E342*SUMIF('Daily Log'!$AR$18:$AR$1017,$B342,'Daily Log'!$AS$18:$AS$1017),0)","v":0},{"$f":"IFERROR($E342*SUMIF('Daily Log'!$AU$18:$AU$1017,$B342,'Daily Log'!$AV$18:$AV$1017),0)","v":0},{"$f":"IFERROR($E342*SUMIF('Daily Log'!$AX$18:$AX$1017,$B342,'Daily Log'!$AY$18:$AY$1017),0)","v":0},{"$f":"IFERROR($E342*SUMIF('Daily Log'!$BA$18:$BA$1017,$B342,'Daily Log'!$BB$18:$BB$1017),0)","v":0},{"$f":"IFERROR($E342*SUMIF('Daily Log'!$BD$18:$BD$1017,$B342,'Daily Log'!$BE$18:$BE$1017),0)","v":0},{"$f":"IFERROR($E342*SUMIF('Daily Log'!$BG$18:$BG$1017,$B342,'Daily Log'!$BH$18:$BH$1017),0)","v":0},{"$f":"IFERROR($E342*SUMIF('Daily Log'!$BJ$18:$BJ$1017,$B342,'Daily Log'!$BK$18:$BK$1017),0)","v":0},{"$f":"IFERROR($E342*SUMIF('Daily Log'!$BM$18:$BM$1017,$B342,'Daily Log'!$BN$18:$BN$1017),0)","v":0},{"$f":"IFERROR($E342*SUMIF('Daily Log'!$BP$18:$BP$1017,$B342,'Daily Log'!$BQ$18:$BQ$1017),0)","v":0},{"$f":"IFERROR($E342*SUMIF('Daily Log'!$BS$18:$BS$1017,$B342,'Daily Log'!$BT$18:$BT$1017),0)","v":0},{"$f":"IFERROR($E342*SUMIF('Daily Log'!$BV$18:$BV$1017,$B342,'Daily Log'!$BW$18:$BW$1017),0)","v":0},{"$f":"IFERROR($E342*SUMIF('Daily Log'!$BY$18:$BY$1017,$B342,'Daily Log'!$BZ$18:$BZ$1017),0)","v":0},{"$f":"IFERROR($E342*SUMIF('Daily Log'!$CB$18:$CB$1017,$B342,'Daily Log'!$CC$18:$CC$1017),0)","v":0},{"$f":"IFERROR($E342*SUMIF('Daily Log'!$CE$18:$CE$1017,$B342,'Daily Log'!$CF$18:$CF$1017),0)","v":0},{"$f":"IFERROR($E342*SUMIF('Daily Log'!$CH$18:$CH$1017,$B342,'Daily Log'!$CI$18:$CI$1017),0)","v":0},{"$f":"IFERROR($E342*SUMIF('Daily Log'!$CK$18:$CK$1017,$B342,'Daily Log'!$CL$18:$CL$1017),0)","v":0},{"$f":"IFERROR($E342*SUMIF('Daily Log'!$CN$18:$CN$1017,$B342,'Daily Log'!$CO$18:$CO$1017),0)","v":0}]
[null,null,null,null,null,0,{"$f":"IFERROR($E343*SUMIF('Daily Log'!$B$18:$B$1017,$B343,'Daily Log'!$C$18:$C$1017),0)","v":0},{"$f":"IFERROR($E343*SUMIF('Daily Log'!$E$18:$E$1017,$B343,'Daily Log'!$F$18:$F$1017),0)","v":0},{"$f":"IFERROR($E343*SUMIF('Daily Log'!$H$18:$H$1017,$B343,'Daily Log'!$I$18:$I$1017),0)","v":0},{"$f":"IFERROR($E343*SUMIF('Daily Log'!$K$18:$K$1017,$B343,'Daily Log'!$L$18:$L$1017),0)","v":0},{"$f":"IFERROR($E343*SUMIF('Daily Log'!$N$18:$N$1017,$B343,'Daily Log'!$O$18:$O$1017),0)","v":0},{"$f":"IFERROR($E343*SUMIF('Daily Log'!$Q$18:$Q$1017,$B343,'Daily Log'!$R$18:$R$1017),0)","v":0},{"$f":"IFERROR($E343*SUMIF('Daily Log'!$T$18:$T$1017,$B343,'Daily Log'!$U$18:$U$1017),0)","v":0},{"$f":"IFERROR($E343*SUMIF('Daily Log'!$W$18:$W$1017,$B343,'Daily Log'!$X$18:$X$1017),0)","v":0},{"$f":"IFERROR($E343*SUMIF('Daily Log'!$Z$18:$Z$1017,$B343,'Daily Log'!$AA$18:$AA$1017),0)","v":0},{"$f":"IFERROR($E343*SUMIF('Daily Log'!$AC$18:$AC$1017,$B343,'Daily Log'!$AD$18:$AD$1017),0)","v":0},{"$f":"IFERROR($E343*SUMIF('Daily Log'!$AF$18:$AF$1017,$B343,'Daily Log'!$AG$18:$AG$1017),0)","v":0},{"$f":"IFERROR($E343*SUMIF('Daily Log'!$AI$18:$AI$1017,$B343,'Daily Log'!$AJ$18:$AJ$1017),0)","v":0},{"$f":"IFERROR($E343*SUMIF('Daily Log'!$AL$18:$AL$1017,$B343,'Daily Log'!$AM$18:$AM$1017),0)","v":0},{"$f":"IFERROR($E343*SUMIF('Daily Log'!$AO$18:$AO$1017,$B343,'Daily Log'!$AP$18:$AP$1017),0)","v":0},{"$f":"IFERROR($E343*SUMIF('Daily Log'!$AR$18:$AR$1017,$B343,'Daily Log'!$AS$18:$AS$1017),0)","v":0},{"$f":"IFERROR($E343*SUMIF('Daily Log'!$AU$18:$AU$1017,$B343,'Daily Log'!$AV$18:$AV$1017),0)","v":0},{"$f":"IFERROR($E343*SUMIF('Daily Log'!$AX$18:$AX$1017,$B343,'Daily Log'!$AY$18:$AY$1017),0)","v":0},{"$f":"IFERROR($E343*SUMIF('Daily Log'!$BA$18:$BA$1017,$B343,'Daily Log'!$BB$18:$BB$1017),0)","v":0},{"$f":"IFERROR($E343*SUMIF('Daily Log'!$BD$18:$BD$1017,$B343,'Daily Log'!$BE$18:$BE$1017),0)","v":0},{"$f":"IFERROR($E343*SUMIF('Daily Log'!$BG$18:$BG$1017,$B343,'Daily Log'!$BH$18:$BH$1017),0)","v":0},{"$f":"IFERROR($E343*SUMIF('Daily Log'!$BJ$18:$BJ$1017,$B343,'Daily Log'!$BK$18:$BK$1017),0)","v":0},{"$f":"IFERROR($E343*SUMIF('Daily Log'!$BM$18:$BM$1017,$B343,'Daily Log'!$BN$18:$BN$1017),0)","v":0},{"$f":"IFERROR($E343*SUMIF('Daily Log'!$BP$18:$BP$1017,$B343,'Daily Log'!$BQ$18:$BQ$1017),0)","v":0},{"$f":"IFERROR($E343*SUMIF('Daily Log'!$BS$18:$BS$1017,$B343,'Daily Log'!$BT$18:$BT$1017),0)","v":0},{"$f":"IFERROR($E343*SUMIF('Daily Log'!$BV$18:$BV$1017,$B343,'Daily Log'!$BW$18:$BW$1017),0)","v":0},{"$f":"IFERROR($E343*SUMIF('Daily Log'!$BY$18:$BY$1017,$B343,'Daily Log'!$BZ$18:$BZ$1017),0)","v":0},{"$f":"IFERROR($E343*SUMIF('Daily Log'!$CB$18:$CB$1017,$B343,'Daily Log'!$CC$18:$CC$1017),0)","v":0},{"$f":"IFERROR($E343*SUMIF('Daily Log'!$CE$18:$CE$1017,$B343,'Daily Log'!$CF$18:$CF$1017),0)","v":0},{"$f":"IFERROR($E343*SUMIF('Daily Log'!$CH$18:$CH$1017,$B343,'Daily Log'!$CI$18:$CI$1017),0)","v":0},{"$f":"IFERROR($E343*SUMIF('Daily Log'!$CK$18:$CK$1017,$B343,'Daily Log'!$CL$18:$CL$1017),0)","v":0},{"$f":"IFERROR($E343*SUMIF('Daily Log'!$CN$18:$CN$1017,$B343,'Daily Log'!$CO$18:$CO$1017),0)","v":0}]
[null,null,null,null,null,0,{"$f":"IFERROR($E344*SUMIF('Daily Log'!$B$18:$B$1017,$B344,'Daily Log'!$C$18:$C$1017),0)","v":0},{"$f":"IFERROR($E344*SUMIF('Daily Log'!$E$18:$E$1017,$B344,'Daily Log'!$F$18:$F$1017),0)","v":0},{"$f":"IFERROR($E344*SUMIF('Daily Log'!$H$18:$H$1017,$B344,'Daily Log'!$I$18:$I$1017),0)","v":0},{"$f":"IFERROR($E344*SUMIF('Daily Log'!$K$18:$K$1017,$B344,'Daily Log'!$L$18:$L$1017),0)","v":0},{"$f":"IFERROR($E344*SUMIF('Daily Log'!$N$18:$N$1017,$B344,'Daily Log'!$O$18:$O$1017),0)","v":0},{"$f":"IFERROR($E344*SUMIF('Daily Log'!$Q$18:$Q$1017,$B344,'Daily Log'!$R$18:$R$1017),0)","v":0},{"$f":"IFERROR($E344*SUMIF('Daily Log'!$T$18:$T$1017,$B344,'Daily Log'!$U$18:$U$1017),0)","v":0},{"$f":"IFERROR($E344*SUMIF('Daily Log'!$W$18:$W$1017,$B344,'Daily Log'!$X$18:$X$1017),0)","v":0},{"$f":"IFERROR($E344*SUMIF('Daily Log'!$Z$18:$Z$1017,$B344,'Daily Log'!$AA$18:$AA$1017),0)","v":0},{"$f":"IFERROR($E344*SUMIF('Daily Log'!$AC$18:$AC$1017,$B344,'Daily Log'!$AD$18:$AD$1017),0)","v":0},{"$f":"IFERROR($E344*SUMIF('Daily Log'!$AF$18:$AF$1017,$B344,'Daily Log'!$AG$18:$AG$1017),0)","v":0},{"$f":"IFERROR($E344*SUMIF('Daily Log'!$AI$18:$AI$1017,$B344,'Daily Log'!$AJ$18:$AJ$1017),0)","v":0},{"$f":"IFERROR($E344*SUMIF('Daily Log'!$AL$18:$AL$1017,$B344,'Daily Log'!$AM$18:$AM$1017),0)","v":0},{"$f":"IFERROR($E344*SUMIF('Daily Log'!$AO$18:$AO$1017,$B344,'Daily Log'!$AP$18:$AP$1017),0)","v":0},{"$f":"IFERROR($E344*SUMIF('Daily Log'!$AR$18:$AR$1017,$B344,'Daily Log'!$AS$18:$AS$1017),0)","v":0},{"$f":"IFERROR($E344*SUMIF('Daily Log'!$AU$18:$AU$1017,$B344,'Daily Log'!$AV$18:$AV$1017),0)","v":0},{"$f":"IFERROR($E344*SUMIF('Daily Log'!$AX$18:$AX$1017,$B344,'Daily Log'!$AY$18:$AY$1017),0)","v":0},{"$f":"IFERROR($E344*SUMIF('Daily Log'!$BA$18:$BA$1017,$B344,'Daily Log'!$BB$18:$BB$1017),0)","v":0},{"$f":"IFERROR($E344*SUMIF('Daily Log'!$BD$18:$BD$1017,$B344,'Daily Log'!$BE$18:$BE$1017),0)","v":0},{"$f":"IFERROR($E344*SUMIF('Daily Log'!$BG$18:$BG$1017,$B344,'Daily Log'!$BH$18:$BH$1017),0)","v":0},{"$f":"IFERROR($E344*SUMIF('Daily Log'!$BJ$18:$BJ$1017,$B344,'Daily Log'!$BK$18:$BK$1017),0)","v":0},{"$f":"IFERROR($E344*SUMIF('Daily Log'!$BM$18:$BM$1017,$B344,'Daily Log'!$BN$18:$BN$1017),0)","v":0},{"$f":"IFERROR($E344*SUMIF('Daily Log'!$BP$18:$BP$1017,$B344,'Daily Log'!$BQ$18:$BQ$1017),0)","v":0},{"$f":"IFERROR($E344*SUMIF('Daily Log'!$BS$18:$BS$1017,$B344,'Daily Log'!$BT$18:$BT$1017),0)","v":0},{"$f":"IFERROR($E344*SUMIF('Daily Log'!$BV$18:$BV$1017,$B344,'Daily Log'!$BW$18:$BW$1017),0)","v":0},{"$f":"IFERROR($E344*SUMIF('Daily Log'!$BY$18:$BY$1017,$B344,'Daily Log'!$BZ$18:$BZ$1017),0)","v":0},{"$f":"IFERROR($E344*SUMIF('Daily Log'!$CB$18:$CB$1017,$B344,'Daily Log'!$CC$18:$CC$1017),0)","v":0},{"$f":"IFERROR($E344*SUMIF('Daily Log'!$CE$18:$CE$1017,$B344,'Daily Log'!$CF$18:$CF$1017),0)","v":0},{"$f":"IFERROR($E344*SUMIF('Daily Log'!$CH$18:$CH$1017,$B344,'Daily Log'!$CI$18:$CI$1017),0)","v":0},{"$f":"IFERROR($E344*SUMIF('Daily Log'!$CK$18:$CK$1017,$B344,'Daily Log'!$CL$18:$CL$1017),0)","v":0},{"$f":"IFERROR($E344*SUMIF('Daily Log'!$CN$18:$CN$1017,$B344,'Daily Log'!$CO$18:$CO$1017),0)","v":0}]
[null,null,null,null,null,0,{"$f":"IFERROR($E345*SUMIF('Daily Log'!$B$18:$B$1017,$B345,'Daily Log'!$C$18:$C$1017),0)","v":0},{"$f":"IFERROR($E345*SUMIF('Daily Log'!$E$18:$E$1017,$B345,'Daily Log'!$F$18:$F$1017),0)","v":0},{"$f":"IFERROR($E345*SUMIF('Daily Log'!$H$18:$H$1017,$B345,'Daily Log'!$I$18:$I$1017),0)","v":0},{"$f":"IFERROR($E345*SUMIF('Daily Log'!$K$18:$K$1017,$B345,'Daily Log'!$L$18:$L$1017),0)","v":0},{"$f":"IFERROR($E345*SUMIF('Daily Log'!$N$18:$N$1017,$B345,'Daily Log'!$O$18:$O$1017),0)","v":0},{"$f":"IFERROR($E345*SUMIF('Daily Log'!$Q$18:$Q$1017,$B345,'Daily Log'!$R$18:$R$1017),0)","v":0},{"$f":"IFERROR($E345*SUMIF('Daily Log'!$T$18:$T$1017,$B345,'Daily Log'!$U$18:$U$1017),0)","v":0},{"$f":"IFERROR($E345*SUMIF('Daily Log'!$W$18:$W$1017,$B345,'Daily Log'!$X$18:$X$1017),0)","v":0},{"$f":"IFERROR($E345*SUMIF('Daily Log'!$Z$18:$Z$1017,$B345,'Daily Log'!$AA$18:$AA$1017),0)","v":0},{"$f":"IFERROR($E345*SUMIF('Daily Log'!$AC$18:$AC$1017,$B345,'Daily Log'!$AD$18:$AD$1017),0)","v":0},{"$f":"IFERROR($E345*SUMIF('Daily Log'!$AF$18:$AF$1017,$B345,'Daily Log'!$AG$18:$AG$1017),0)","v":0},{"$f":"IFERROR($E345*SUMIF('Daily Log'!$AI$18:$AI$1017,$B345,'Daily Log'!$AJ$18:$AJ$1017),0)","v":0},{"$f":"IFERROR($E345*SUMIF('Daily Log'!$AL$18:$AL$1017,$B345,'Daily Log'!$AM$18:$AM$1017),0)","v":0},{"$f":"IFERROR($E345*SUMIF('Daily Log'!$AO$18:$AO$1017,$B345,'Daily Log'!$AP$18:$AP$1017),0)","v":0},{"$f":"IFERROR($E345*SUMIF('Daily Log'!$AR$18:$AR$1017,$B345,'Daily Log'!$AS$18:$AS$1017),0)","v":0},{"$f":"IFERROR($E345*SUMIF('Daily Log'!$AU$18:$AU$1017,$B345,'Daily Log'!$AV$18:$AV$1017),0)","v":0},{"$f":"IFERROR($E345*SUMIF('Daily Log'!$AX$18:$AX$1017,$B345,'Daily Log'!$AY$18:$AY$1017),0)","v":0},{"$f":"IFERROR($E345*SUMIF('Daily Log'!$BA$18:$BA$1017,$B345,'Daily Log'!$BB$18:$BB$1017),0)","v":0},{"$f":"IFERROR($E345*SUMIF('Daily Log'!$BD$18:$BD$1017,$B345,'Daily Log'!$BE$18:$BE$1017),0)","v":0},{"$f":"IFERROR($E345*SUMIF('Daily Log'!$BG$18:$BG$1017,$B345,'Daily Log'!$BH$18:$BH$1017),0)","v":0},{"$f":"IFERROR($E345*SUMIF('Daily Log'!$BJ$18:$BJ$1017,$B345,'Daily Log'!$BK$18:$BK$1017),0)","v":0},{"$f":"IFERROR($E345*SUMIF('Daily Log'!$BM$18:$BM$1017,$B345,'Daily Log'!$BN$18:$BN$1017),0)","v":0},{"$f":"IFERROR($E345*SUMIF('Daily Log'!$BP$18:$BP$1017,$B345,'Daily Log'!$BQ$18:$BQ$1017),0)","v":0},{"$f":"IFERROR($E345*SUMIF('Daily Log'!$BS$18:$BS$1017,$B345,'Daily Log'!$BT$18:$BT$1017),0)","v":0},{"$f":"IFERROR($E345*SUMIF('Daily Log'!$BV$18:$BV$1017,$B345,'Daily Log'!$BW$18:$BW$1017),0)","v":0},{"$f":"IFERROR($E345*SUMIF('Daily Log'!$BY$18:$BY$1017,$B345,'Daily Log'!$BZ$18:$BZ$1017),0)","v":0},{"$f":"IFERROR($E345*SUMIF('Daily Log'!$CB$18:$CB$1017,$B345,'Daily Log'!$CC$18:$CC$1017),0)","v":0},{"$f":"IFERROR($E345*SUMIF('Daily Log'!$CE$18:$CE$1017,$B345,'Daily Log'!$CF$18:$CF$1017),0)","v":0},{"$f":"IFERROR($E345*SUMIF('Daily Log'!$CH$18:$CH$1017,$B345,'Daily Log'!$CI$18:$CI$1017),0)","v":0},{"$f":"IFERROR($E345*SUMIF('Daily Log'!$CK$18:$CK$1017,$B345,'Daily Log'!$CL$18:$CL$1017),0)","v":0},{"$f":"IFERROR($E345*SUMIF('Daily Log'!$CN$18:$CN$1017,$B345,'Daily Log'!$CO$18:$CO$1017),0)","v":0}]
[null,null,null,null,null,0,{"$f":"IFERROR($E346*SUMIF('Daily Log'!$B$18:$B$1017,$B346,'Daily Log'!$C$18:$C$1017),0)","v":0},{"$f":"IFERROR($E346*SUMIF('Daily Log'!$E$18:$E$1017,$B346,'Daily Log'!$F$18:$F$1017),0)","v":0},{"$f":"IFERROR($E346*SUMIF('Daily Log'!$H$18:$H$1017,$B346,'Daily Log'!$I$18:$I$1017),0)","v":0},{"$f":"IFERROR($E346*SUMIF('Daily Log'!$K$18:$K$1017,$B346,'Daily Log'!$L$18:$L$1017),0)","v":0},{"$f":"IFERROR($E346*SUMIF('Daily Log'!$N$18:$N$1017,$B346,'Daily Log'!$O$18:$O$1017),0)","v":0},{"$f":"IFERROR($E346*SUMIF('Daily Log'!$Q$18:$Q$1017,$B346,'Daily Log'!$R$18:$R$1017),0)","v":0},{"$f":"IFERROR($E346*SUMIF('Daily Log'!$T$18:$T$1017,$B346,'Daily Log'!$U$18:$U$1017),0)","v":0},{"$f":"IFERROR($E346*SUMIF('Daily Log'!$W$18:$W$1017,$B346,'Daily Log'!$X$18:$X$1017),0)","v":0},{"$f":"IFERROR($E346*SUMIF('Daily Log'!$Z$18:$Z$1017,$B346,'Daily Log'!$AA$18:$AA$1017),0)","v":0},{"$f":"IFERROR($E346*SUMIF('Daily Log'!$AC$18:$AC$1017,$B346,'Daily Log'!$AD$18:$AD$1017),0)","v":0},{"$f":"IFERROR($E346*SUMIF('Daily Log'!$AF$18:$AF$1017,$B346,'Daily Log'!$AG$18:$AG$1017),0)","v":0},{"$f":"IFERROR($E346*SUMIF('Daily Log'!$AI$18:$AI$1017,$B346,'Daily Log'!$AJ$18:$AJ$1017),0)","v":0},{"$f":"IFERROR($E346*SUMIF('Daily Log'!$AL$18:$AL$1017,$B346,'Daily Log'!$AM$18:$AM$1017),0)","v":0},{"$f":"IFERROR($E346*SUMIF('Daily Log'!$AO$18:$AO$1017,$B346,'Daily Log'!$AP$18:$AP$1017),0)","v":0},{"$f":"IFERROR($E346*SUMIF('Daily Log'!$AR$18:$AR$1017,$B346,'Daily Log'!$AS$18:$AS$1017),0)","v":0},{"$f":"IFERROR($E346*SUMIF('Daily Log'!$AU$18:$AU$1017,$B346,'Daily Log'!$AV$18:$AV$1017),0)","v":0},{"$f":"IFERROR($E346*SUMIF('Daily Log'!$AX$18:$AX$1017,$B346,'Daily Log'!$AY$18:$AY$1017),0)","v":0},{"$f":"IFERROR($E346*SUMIF('Daily Log'!$BA$18:$BA$1017,$B346,'Daily Log'!$BB$18:$BB$1017),0)","v":0},{"$f":"IFERROR($E346*SUMIF('Daily Log'!$BD$18:$BD$1017,$B346,'Daily Log'!$BE$18:$BE$1017),0)","v":0},{"$f":"IFERROR($E346*SUMIF('Daily Log'!$BG$18:$BG$1017,$B346,'Daily Log'!$BH$18:$BH$1017),0)","v":0},{"$f":"IFERROR($E346*SUMIF('Daily Log'!$BJ$18:$BJ$1017,$B346,'Daily Log'!$BK$18:$BK$1017),0)","v":0},{"$f":"IFERROR($E346*SUMIF('Daily Log'!$BM$18:$BM$1017,$B346,'Daily Log'!$BN$18:$BN$1017),0)","v":0},{"$f":"IFERROR($E346*SUMIF('Daily Log'!$BP$18:$BP$1017,$B346,'Daily Log'!$BQ$18:$BQ$1017),0)","v":0},{"$f":"IFERROR($E346*SUMIF('Daily Log'!$BS$18:$BS$1017,$B346,'Daily Log'!$BT$18:$BT$1017),0)","v":0},{"$f":"IFERROR($E346*SUMIF('Daily Log'!$BV$18:$BV$1017,$B346,'Daily Log'!$BW$18:$BW$1017),0)","v":0},{"$f":"IFERROR($E346*SUMIF('Daily Log'!$BY$18:$BY$1017,$B346,'Daily Log'!$BZ$18:$BZ$1017),0)","v":0},{"$f":"IFERROR($E346*SUMIF('Daily Log'!$CB$18:$CB$1017,$B346,'Daily Log'!$CC$18:$CC$1017),0)","v":0},{"$f":"IFERROR($E346*SUMIF('Daily Log'!$CE$18:$CE$1017,$B346,'Daily Log'!$CF$18:$CF$1017),0)","v":0},{"$f":"IFERROR($E346*SUMIF('Daily Log'!$CH$18:$CH$1017,$B346,'Daily Log'!$CI$18:$CI$1017),0)","v":0},{"$f":"IFERROR($E346*SUMIF('Daily Log'!$CK$18:$CK$1017,$B346,'Daily Log'!$CL$18:$CL$1017),0)","v":0},{"$f":"IFERROR($E346*SUMIF('Daily Log'!$CN$18:$CN$1017,$B346,'Daily Log'!$CO$18:$CO$1017),0)","v":0}]
[null,null,null,null,null,0,{"$f":"IFERROR($E347*SUMIF('Daily Log'!$B$18:$B$1017,$B347,'Daily Log'!$C$18:$C$1017),0)","v":0},{"$f":"IFERROR($E347*SUMIF('Daily Log'!$E$18:$E$1017,$B347,'Daily Log'!$F$18:$F$1017),0)","v":0},{"$f":"IFERROR($E347*SUMIF('Daily Log'!$H$18:$H$1017,$B347,'Daily Log'!$I$18:$I$1017),0)","v":0},{"$f":"IFERROR($E347*SUMIF('Daily Log'!$K$18:$K$1017,$B347,'Daily Log'!$L$18:$L$1017),0)","v":0},{"$f":"IFERROR($E347*SUMIF('Daily Log'!$N$18:$N$1017,$B347,'Daily Log'!$O$18:$O$1017),0)","v":0},{"$f":"IFERROR($E347*SUMIF('Daily Log'!$Q$18:$Q$1017,$B347,'Daily Log'!$R$18:$R$1017),0)","v":0},{"$f":"IFERROR($E347*SUMIF('Daily Log'!$T$18:$T$1017,$B347,'Daily Log'!$U$18:$U$1017),0)","v":0},{"$f":"IFERROR($E347*SUMIF('Daily Log'!$W$18:$W$1017,$B347,'Daily Log'!$X$18:$X$1017),0)","v":0},{"$f":"IFERROR($E347*SUMIF('Daily Log'!$Z$18:$Z$1017,$B347,'Daily Log'!$AA$18:$AA$1017),0)","v":0},{"$f":"IFERROR($E347*SUMIF('Daily Log'!$AC$18:$AC$1017,$B347,'Daily Log'!$AD$18:$AD$1017),0)","v":0},{"$f":"IFERROR($E347*SUMIF('Daily Log'!$AF$18:$AF$1017,$B347,'Daily Log'!$AG$18:$AG$1017),0)","v":0},{"$f":"IFERROR($E347*SUMIF('Daily Log'!$AI$18:$AI$1017,$B347,'Daily Log'!$AJ$18:$AJ$1017),0)","v":0},{"$f":"IFERROR($E347*SUMIF('Daily Log'!$AL$18:$AL$1017,$B347,'Daily Log'!$AM$18:$AM$1017),0)","v":0},{"$f":"IFERROR($E347*SUMIF('Daily Log'!$AO$18:$AO$1017,$B347,'Daily Log'!$AP$18:$AP$1017),0)","v":0},{"$f":"IFERROR($E347*SUMIF('Daily Log'!$AR$18:$AR$1017,$B347,'Daily Log'!$AS$18:$AS$1017),0)","v":0},{"$f":"IFERROR($E347*SUMIF('Daily Log'!$AU$18:$AU$1017,$B347,'Daily Log'!$AV$18:$AV$1017),0)","v":0},{"$f":"IFERROR($E347*SUMIF('Daily Log'!$AX$18:$AX$1017,$B347,'Daily Log'!$AY$18:$AY$1017),0)","v":0},{"$f":"IFERROR($E347*SUMIF('Daily Log'!$BA$18:$BA$1017,$B347,'Daily Log'!$BB$18:$BB$1017),0)","v":0},{"$f":"IFERROR($E347*SUMIF('Daily Log'!$BD$18:$BD$1017,$B347,'Daily Log'!$BE$18:$BE$1017),0)","v":0},{"$f":"IFERROR($E347*SUMIF('Daily Log'!$BG$18:$BG$1017,$B347,'Daily Log'!$BH$18:$BH$1017),0)","v":0},{"$f":"IFERROR($E347*SUMIF('Daily Log'!$BJ$18:$BJ$1017,$B347,'Daily Log'!$BK$18:$BK$1017),0)","v":0},{"$f":"IFERROR($E347*SUMIF('Daily Log'!$BM$18:$BM$1017,$B347,'Daily Log'!$BN$18:$BN$1017),0)","v":0},{"$f":"IFERROR($E347*SUMIF('Daily Log'!$BP$18:$BP$1017,$B347,'Daily Log'!$BQ$18:$BQ$1017),0)","v":0},{"$f":"IFERROR($E347*SUMIF('Daily Log'!$BS$18:$BS$1017,$B347,'Daily Log'!$BT$18:$BT$1017),0)","v":0},{"$f":"IFERROR($E347*SUMIF('Daily Log'!$BV$18:$BV$1017,$B347,'Daily Log'!$BW$18:$BW$1017),0)","v":0},{"$f":"IFERROR($E347*SUMIF('Daily Log'!$BY$18:$BY$1017,$B347,'Daily Log'!$BZ$18:$BZ$1017),0)","v":0},{"$f":"IFERROR($E347*SUMIF('Daily Log'!$CB$18:$CB$1017,$B347,'Daily Log'!$CC$18:$CC$1017),0)","v":0},{"$f":"IFERROR($E347*SUMIF('Daily Log'!$CE$18:$CE$1017,$B347,'Daily Log'!$CF$18:$CF$1017),0)","v":0},{"$f":"IFERROR($E347*SUMIF('Daily Log'!$CH$18:$CH$1017,$B347,'Daily Log'!$CI$18:$CI$1017),0)","v":0},{"$f":"IFERROR($E347*SUMIF('Daily Log'!$CK$18:$CK$1017,$B347,'Daily Log'!$CL$18:$CL$1017),0)","v":0},{"$f":"IFERROR($E347*SUMIF('Daily Log'!$CN$18:$CN$1017,$B347,'Daily Log'!$CO$18:$CO$1017),0)","v":0}]
[null,null,null,null,null,0,{"$f":"IFERROR($E348*SUMIF('Daily Log'!$B$18:$B$1017,$B348,'Daily Log'!$C$18:$C$1017),0)","v":0},{"$f":"IFERROR($E348*SUMIF('Daily Log'!$E$18:$E$1017,$B348,'Daily Log'!$F$18:$F$1017),0)","v":0},{"$f":"IFERROR($E348*SUMIF('Daily Log'!$H$18:$H$1017,$B348,'Daily Log'!$I$18:$I$1017),0)","v":0},{"$f":"IFERROR($E348*SUMIF('Daily Log'!$K$18:$K$1017,$B348,'Daily Log'!$L$18:$L$1017),0)","v":0},{"$f":"IFERROR($E348*SUMIF('Daily Log'!$N$18:$N$1017,$B348,'Daily Log'!$O$18:$O$1017),0)","v":0},{"$f":"IFERROR($E348*SUMIF('Daily Log'!$Q$18:$Q$1017,$B348,'Daily Log'!$R$18:$R$1017),0)","v":0},{"$f":"IFERROR($E348*SUMIF('Daily Log'!$T$18:$T$1017,$B348,'Daily Log'!$U$18:$U$1017),0)","v":0},{"$f":"IFERROR($E348*SUMIF('Daily Log'!$W$18:$W$1017,$B348,'Daily Log'!$X$18:$X$1017),0)","v":0},{"$f":"IFERROR($E348*SUMIF('Daily Log'!$Z$18:$Z$1017,$B348,'Daily Log'!$AA$18:$AA$1017),0)","v":0},{"$f":"IFERROR($E348*SUMIF('Daily Log'!$AC$18:$AC$1017,$B348,'Daily Log'!$AD$18:$AD$1017),0)","v":0},{"$f":"IFERROR($E348*SUMIF('Daily Log'!$AF$18:$AF$1017,$B348,'Daily Log'!$AG$18:$AG$1017),0)","v":0},{"$f":"IFERROR($E348*SUMIF('Daily Log'!$AI$18:$AI$1017,$B348,'Daily Log'!$AJ$18:$AJ$1017),0)","v":0},{"$f":"IFERROR($E348*SUMIF('Daily Log'!$AL$18:$AL$1017,$B348,'Daily Log'!$AM$18:$AM$1017),0)","v":0},{"$f":"IFERROR($E348*SUMIF('Daily Log'!$AO$18:$AO$1017,$B348,'Daily Log'!$AP$18:$AP$1017),0)","v":0},{"$f":"IFERROR($E348*SUMIF('Daily Log'!$AR$18:$AR$1017,$B348,'Daily Log'!$AS$18:$AS$1017),0)","v":0},{"$f":"IFERROR($E348*SUMIF('Daily Log'!$AU$18:$AU$1017,$B348,'Daily Log'!$AV$18:$AV$1017),0)","v":0},{"$f":"IFERROR($E348*SUMIF('Daily Log'!$AX$18:$AX$1017,$B348,'Daily Log'!$AY$18:$AY$1017),0)","v":0},{"$f":"IFERROR($E348*SUMIF('Daily Log'!$BA$18:$BA$1017,$B348,'Daily Log'!$BB$18:$BB$1017),0)","v":0},{"$f":"IFERROR($E348*SUMIF('Daily Log'!$BD$18:$BD$1017,$B348,'Daily Log'!$BE$18:$BE$1017),0)","v":0},{"$f":"IFERROR($E348*SUMIF('Daily Log'!$BG$18:$BG$1017,$B348,'Daily Log'!$BH$18:$BH$1017),0)","v":0},{"$f":"IFERROR($E348*SUMIF('Daily Log'!$BJ$18:$BJ$1017,$B348,'Daily Log'!$BK$18:$BK$1017),0)","v":0},{"$f":"IFERROR($E348*SUMIF('Daily Log'!$BM$18:$BM$1017,$B348,'Daily Log'!$BN$18:$BN$1017),0)","v":0},{"$f":"IFERROR($E348*SUMIF('Daily Log'!$BP$18:$BP$1017,$B348,'Daily Log'!$BQ$18:$BQ$1017),0)","v":0},{"$f":"IFERROR($E348*SUMIF('Daily Log'!$BS$18:$BS$1017,$B348,'Daily Log'!$BT$18:$BT$1017),0)","v":0},{"$f":"IFERROR($E348*SUMIF('Daily Log'!$BV$18:$BV$1017,$B348,'Daily Log'!$BW$18:$BW$1017),0)","v":0},{"$f":"IFERROR($E348*SUMIF('Daily Log'!$BY$18:$BY$1017,$B348,'Daily Log'!$BZ$18:$BZ$1017),0)","v":0},{"$f":"IFERROR($E348*SUMIF('Daily Log'!$CB$18:$CB$1017,$B348,'Daily Log'!$CC$18:$CC$1017),0)","v":0},{"$f":"IFERROR($E348*SUMIF('Daily Log'!$CE$18:$CE$1017,$B348,'Daily Log'!$CF$18:$CF$1017),0)","v":0},{"$f":"IFERROR($E348*SUMIF('Daily Log'!$CH$18:$CH$1017,$B348,'Daily Log'!$CI$18:$CI$1017),0)","v":0},{"$f":"IFERROR($E348*SUMIF('Daily Log'!$CK$18:$CK$1017,$B348,'Daily Log'!$CL$18:$CL$1017),0)","v":0},{"$f":"IFERROR($E348*SUMIF('Daily Log'!$CN$18:$CN$1017,$B348,'Daily Log'!$CO$18:$CO$1017),0)","v":0}]
[null,null,null,null,null,0,{"$f":"IFERROR($E349*SUMIF('Daily Log'!$B$18:$B$1017,$B349,'Daily Log'!$C$18:$C$1017),0)","v":0},{"$f":"IFERROR($E349*SUMIF('Daily Log'!$E$18:$E$1017,$B349,'Daily Log'!$F$18:$F$1017),0)","v":0},{"$f":"IFERROR($E349*SUMIF('Daily Log'!$H$18:$H$1017,$B349,'Daily Log'!$I$18:$I$1017),0)","v":0},{"$f":"IFERROR($E349*SUMIF('Daily Log'!$K$18:$K$1017,$B349,'Daily Log'!$L$18:$L$1017),0)","v":0},{"$f":"IFERROR($E349*SUMIF('Daily Log'!$N$18:$N$1017,$B349,'Daily Log'!$O$18:$O$1017),0)","v":0},{"$f":"IFERROR($E349*SUMIF('Daily Log'!$Q$18:$Q$1017,$B349,'Daily Log'!$R$18:$R$1017),0)","v":0},{"$f":"IFERROR($E349*SUMIF('Daily Log'!$T$18:$T$1017,$B349,'Daily Log'!$U$18:$U$1017),0)","v":0},{"$f":"IFERROR($E349*SUMIF('Daily Log'!$W$18:$W$1017,$B349,'Daily Log'!$X$18:$X$1017),0)","v":0},{"$f":"IFERROR($E349*SUMIF('Daily Log'!$Z$18:$Z$1017,$B349,'Daily Log'!$AA$18:$AA$1017),0)","v":0},{"$f":"IFERROR($E349*SUMIF('Daily Log'!$AC$18:$AC$1017,$B349,'Daily Log'!$AD$18:$AD$1017),0)","v":0},{"$f":"IFERROR($E349*SUMIF('Daily Log'!$AF$18:$AF$1017,$B349,'Daily Log'!$AG$18:$AG$1017),0)","v":0},{"$f":"IFERROR($E349*SUMIF('Daily Log'!$AI$18:$AI$1017,$B349,'Daily Log'!$AJ$18:$AJ$1017),0)","v":0},{"$f":"IFERROR($E349*SUMIF('Daily Log'!$AL$18:$AL$1017,$B349,'Daily Log'!$AM$18:$AM$1017),0)","v":0},{"$f":"IFERROR($E349*SUMIF('Daily Log'!$AO$18:$AO$1017,$B349,'Daily Log'!$AP$18:$AP$1017),0)","v":0},{"$f":"IFERROR($E349*SUMIF('Daily Log'!$AR$18:$AR$1017,$B349,'Daily Log'!$AS$18:$AS$1017),0)","v":0},{"$f":"IFERROR($E349*SUMIF('Daily Log'!$AU$18:$AU$1017,$B349,'Daily Log'!$AV$18:$AV$1017),0)","v":0},{"$f":"IFERROR($E349*SUMIF('Daily Log'!$AX$18:$AX$1017,$B349,'Daily Log'!$AY$18:$AY$1017),0)","v":0},{"$f":"IFERROR($E349*SUMIF('Daily Log'!$BA$18:$BA$1017,$B349,'Daily Log'!$BB$18:$BB$1017),0)","v":0},{"$f":"IFERROR($E349*SUMIF('Daily Log'!$BD$18:$BD$1017,$B349,'Daily Log'!$BE$18:$BE$1017),0)","v":0},{"$f":"IFERROR($E349*SUMIF('Daily Log'!$BG$18:$BG$1017,$B349,'Daily Log'!$BH$18:$BH$1017),0)","v":0},{"$f":"IFERROR($E349*SUMIF('Daily Log'!$BJ$18:$BJ$1017,$B349,'Daily Log'!$BK$18:$BK$1017),0)","v":0},{"$f":"IFERROR($E349*SUMIF('Daily Log'!$BM$18:$BM$1017,$B349,'Daily Log'!$BN$18:$BN$1017),0)","v":0},{"$f":"IFERROR($E349*SUMIF('Daily Log'!$BP$18:$BP$1017,$B349,'Daily Log'!$BQ$18:$BQ$1017),0)","v":0},{"$f":"IFERROR($E349*SUMIF('Daily Log'!$BS$18:$BS$1017,$B349,'Daily Log'!$BT$18:$BT$1017),0)","v":0},{"$f":"IFERROR($E349*SUMIF('Daily Log'!$BV$18:$BV$1017,$B349,'Daily Log'!$BW$18:$BW$1017),0)","v":0},{"$f":"IFERROR($E349*SUMIF('Daily Log'!$BY$18:$BY$1017,$B349,'Daily Log'!$BZ$18:$BZ$1017),0)","v":0},{"$f":"IFERROR($E349*SUMIF('Daily Log'!$CB$18:$CB$1017,$B349,'Daily Log'!$CC$18:$CC$1017),0)","v":0},{"$f":"IFERROR($E349*SUMIF('Daily Log'!$CE$18:$CE$1017,$B349,'Daily Log'!$CF$18:$CF$1017),0)","v":0},{"$f":"IFERROR($E349*SUMIF('Daily Log'!$CH$18:$CH$1017,$B349,'Daily Log'!$CI$18:$CI$1017),0)","v":0},{"$f":"IFERROR($E349*SUMIF('Daily Log'!$CK$18:$CK$1017,$B349,'Daily Log'!$CL$18:$CL$1017),0)","v":0},{"$f":"IFERROR($E349*SUMIF('Daily Log'!$CN$18:$CN$1017,$B349,'Daily Log'!$CO$18:$CO$1017),0)","v":0}]
[null,null,null,null,null,0,{"$f":"IFERROR($E350*SUMIF('Daily Log'!$B$18:$B$1017,$B350,'Daily Log'!$C$18:$C$1017),0)","v":0},{"$f":"IFERROR($E350*SUMIF('Daily Log'!$E$18:$E$1017,$B350,'Daily Log'!$F$18:$F$1017),0)","v":0},{"$f":"IFERROR($E350*SUMIF('Daily Log'!$H$18:$H$1017,$B350,'Daily Log'!$I$18:$I$1017),0)","v":0},{"$f":"IFERROR($E350*SUMIF('Daily Log'!$K$18:$K$1017,$B350,'Daily Log'!$L$18:$L$1017),0)","v":0},{"$f":"IFERROR($E350*SUMIF('Daily Log'!$N$18:$N$1017,$B350,'Daily Log'!$O$18:$O$1017),0)","v":0},{"$f":"IFERROR($E350*SUMIF('Daily Log'!$Q$18:$Q$1017,$B350,'Daily Log'!$R$18:$R$1017),0)","v":0},{"$f":"IFERROR($E350*SUMIF('Daily Log'!$T$18:$T$1017,$B350,'Daily Log'!$U$18:$U$1017),0)","v":0},{"$f":"IFERROR($E350*SUMIF('Daily Log'!$W$18:$W$1017,$B350,'Daily Log'!$X$18:$X$1017),0)","v":0},{"$f":"IFERROR($E350*SUMIF('Daily Log'!$Z$18:$Z$1017,$B350,'Daily Log'!$AA$18:$AA$1017),0)","v":0},{"$f":"IFERROR($E350*SUMIF('Daily Log'!$AC$18:$AC$1017,$B350,'Daily Log'!$AD$18:$AD$1017),0)","v":0},{"$f":"IFERROR($E350*SUMIF('Daily Log'!$AF$18:$AF$1017,$B350,'Daily Log'!$AG$18:$AG$1017),0)","v":0},{"$f":"IFERROR($E350*SUMIF('Daily Log'!$AI$18:$AI$1017,$B350,'Daily Log'!$AJ$18:$AJ$1017),0)","v":0},{"$f":"IFERROR($E350*SUMIF('Daily Log'!$AL$18:$AL$1017,$B350,'Daily Log'!$AM$18:$AM$1017),0)","v":0},{"$f":"IFERROR($E350*SUMIF('Daily Log'!$AO$18:$AO$1017,$B350,'Daily Log'!$AP$18:$AP$1017),0)","v":0},{"$f":"IFERROR($E350*SUMIF('Daily Log'!$AR$18:$AR$1017,$B350,'Daily Log'!$AS$18:$AS$1017),0)","v":0},{"$f":"IFERROR($E350*SUMIF('Daily Log'!$AU$18:$AU$1017,$B350,'Daily Log'!$AV$18:$AV$1017),0)","v":0},{"$f":"IFERROR($E350*SUMIF('Daily Log'!$AX$18:$AX$1017,$B350,'Daily Log'!$AY$18:$AY$1017),0)","v":0},{"$f":"IFERROR($E350*SUMIF('Daily Log'!$BA$18:$BA$1017,$B350,'Daily Log'!$BB$18:$BB$1017),0)","v":0},{"$f":"IFERROR($E350*SUMIF('Daily Log'!$BD$18:$BD$1017,$B350,'Daily Log'!$BE$18:$BE$1017),0)","v":0},{"$f":"IFERROR($E350*SUMIF('Daily Log'!$BG$18:$BG$1017,$B350,'Daily Log'!$BH$18:$BH$1017),0)","v":0},{"$f":"IFERROR($E350*SUMIF('Daily Log'!$BJ$18:$BJ$1017,$B350,'Daily Log'!$BK$18:$BK$1017),0)","v":0},{"$f":"IFERROR($E350*SUMIF('Daily Log'!$BM$18:$BM$1017,$B350,'Daily Log'!$BN$18:$BN$1017),0)","v":0},{"$f":"IFERROR($E350*SUMIF('Daily Log'!$BP$18:$BP$1017,$B350,'Daily Log'!$BQ$18:$BQ$1017),0)","v":0},{"$f":"IFERROR($E350*SUMIF('Daily Log'!$BS$18:$BS$1017,$B350,'Daily Log'!$BT$18:$BT$1017),0)","v":0},{"$f":"IFERROR($E350*SUMIF('Daily Log'!$BV$18:$BV$1017,$B350,'Daily Log'!$BW$18:$BW$1017),0)","v":0},{"$f":"IFERROR($E350*SUMIF('Daily Log'!$BY$18:$BY$1017,$B350,'Daily Log'!$BZ$18:$BZ$1017),0)","v":0},{"$f":"IFERROR($E350*SUMIF('Daily Log'!$CB$18:$CB$1017,$B350,'Daily Log'!$CC$18:$CC$1017),0)","v":0},{"$f":"IFERROR($E350*SUMIF('Daily Log'!$CE$18:$CE$1017,$B350,'Daily Log'!$CF$18:$CF$1017),0)","v":0},{"$f":"IFERROR($E350*SUMIF('Daily Log'!$CH$18:$CH$1017,$B350,'Daily Log'!$CI$18:$CI$1017),0)","v":0},{"$f":"IFERROR($E350*SUMIF('Daily Log'!$CK$18:$CK$1017,$B350,'Daily Log'!$CL$18:$CL$1017),0)","v":0},{"$f":"IFERROR($E350*SUMIF('Daily Log'!$CN$18:$CN$1017,$B350,'Daily Log'!$CO$18:$CO$1017),0)","v":0}]
[null,null,null,null,null,0,{"$f":"IFERROR($E351*SUMIF('Daily Log'!$B$18:$B$1017,$B351,'Daily Log'!$C$18:$C$1017),0)","v":0},{"$f":"IFERROR($E351*SUMIF('Daily Log'!$E$18:$E$1017,$B351,'Daily Log'!$F$18:$F$1017),0)","v":0},{"$f":"IFERROR($E351*SUMIF('Daily Log'!$H$18:$H$1017,$B351,'Daily Log'!$I$18:$I$1017),0)","v":0},{"$f":"IFERROR($E351*SUMIF('Daily Log'!$K$18:$K$1017,$B351,'Daily Log'!$L$18:$L$1017),0)","v":0},{"$f":"IFERROR($E351*SUMIF('Daily Log'!$N$18:$N$1017,$B351,'Daily Log'!$O$18:$O$1017),0)","v":0},{"$f":"IFERROR($E351*SUMIF('Daily Log'!$Q$18:$Q$1017,$B351,'Daily Log'!$R$18:$R$1017),0)","v":0},{"$f":"IFERROR($E351*SUMIF('Daily Log'!$T$18:$T$1017,$B351,'Daily Log'!$U$18:$U$1017),0)","v":0},{"$f":"IFERROR($E351*SUMIF('Daily Log'!$W$18:$W$1017,$B351,'Daily Log'!$X$18:$X$1017),0)","v":0},{"$f":"IFERROR($E351*SUMIF('Daily Log'!$Z$18:$Z$1017,$B351,'Daily Log'!$AA$18:$AA$1017),0)","v":0},{"$f":"IFERROR($E351*SUMIF('Daily Log'!$AC$18:$AC$1017,$B351,'Daily Log'!$AD$18:$AD$1017),0)","v":0},{"$f":"IFERROR($E351*SUMIF('Daily Log'!$AF$18:$AF$1017,$B351,'Daily Log'!$AG$18:$AG$1017),0)","v":0},{"$f":"IFERROR($E351*SUMIF('Daily Log'!$AI$18:$AI$1017,$B351,'Daily Log'!$AJ$18:$AJ$1017),0)","v":0},{"$f":"IFERROR($E351*SUMIF('Daily Log'!$AL$18:$AL$1017,$B351,'Daily Log'!$AM$18:$AM$1017),0)","v":0},{"$f":"IFERROR($E351*SUMIF('Daily Log'!$AO$18:$AO$1017,$B351,'Daily Log'!$AP$18:$AP$1017),0)","v":0},{"$f":"IFERROR($E351*SUMIF('Daily Log'!$AR$18:$AR$1017,$B351,'Daily Log'!$AS$18:$AS$1017),0)","v":0},{"$f":"IFERROR($E351*SUMIF('Daily Log'!$AU$18:$AU$1017,$B351,'Daily Log'!$AV$18:$AV$1017),0)","v":0},{"$f":"IFERROR($E351*SUMIF('Daily Log'!$AX$18:$AX$1017,$B351,'Daily Log'!$AY$18:$AY$1017),0)","v":0},{"$f":"IFERROR($E351*SUMIF('Daily Log'!$BA$18:$BA$1017,$B351,'Daily Log'!$BB$18:$BB$1017),0)","v":0},{"$f":"IFERROR($E351*SUMIF('Daily Log'!$BD$18:$BD$1017,$B351,'Daily Log'!$BE$18:$BE$1017),0)","v":0},{"$f":"IFERROR($E351*SUMIF('Daily Log'!$BG$18:$BG$1017,$B351,'Daily Log'!$BH$18:$BH$1017),0)","v":0},{"$f":"IFERROR($E351*SUMIF('Daily Log'!$BJ$18:$BJ$1017,$B351,'Daily Log'!$BK$18:$BK$1017),0)","v":0},{"$f":"IFERROR($E351*SUMIF('Daily Log'!$BM$18:$BM$1017,$B351,'Daily Log'!$BN$18:$BN$1017),0)","v":0},{"$f":"IFERROR($E351*SUMIF('Daily Log'!$BP$18:$BP$1017,$B351,'Daily Log'!$BQ$18:$BQ$1017),0)","v":0},{"$f":"IFERROR($E351*SUMIF('Daily Log'!$BS$18:$BS$1017,$B351,'Daily Log'!$BT$18:$BT$1017),0)","v":0},{"$f":"IFERROR($E351*SUMIF('Daily Log'!$BV$18:$BV$1017,$B351,'Daily Log'!$BW$18:$BW$1017),0)","v":0},{"$f":"IFERROR($E351*SUMIF('Daily Log'!$BY$18:$BY$1017,$B351,'Daily Log'!$BZ$18:$BZ$1017),0)","v":0},{"$f":"IFERROR($E351*SUMIF('Daily Log'!$CB$18:$CB$1017,$B351,'Daily Log'!$CC$18:$CC$1017),0)","v":0},{"$f":"IFERROR($E351*SUMIF('Daily Log'!$CE$18:$CE$1017,$B351,'Daily Log'!$CF$18:$CF$1017),0)","v":0},{"$f":"IFERROR($E351*SUMIF('Daily Log'!$CH$18:$CH$1017,$B351,'Daily Log'!$CI$18:$CI$1017),0)","v":0},{"$f":"IFERROR($E351*SUMIF('Daily Log'!$CK$18:$CK$1017,$B351,'Daily Log'!$CL$18:$CL$1017),0)","v":0},{"$f":"IFERROR($E351*SUMIF('Daily Log'!$CN$18:$CN$1017,$B351,'Daily Log'!$CO$18:$CO$1017),0)","v":0}]
[null,null,null,null,null,0,{"$f":"IFERROR($E352*SUMIF('Daily Log'!$B$18:$B$1017,$B352,'Daily Log'!$C$18:$C$1017),0)","v":0},{"$f":"IFERROR($E352*SUMIF('Daily Log'!$E$18:$E$1017,$B352,'Daily Log'!$F$18:$F$1017),0)","v":0},{"$f":"IFERROR($E352*SUMIF('Daily Log'!$H$18:$H$1017,$B352,'Daily Log'!$I$18:$I$1017),0)","v":0},{"$f":"IFERROR($E352*SUMIF('Daily Log'!$K$18:$K$1017,$B352,'Daily Log'!$L$18:$L$1017),0)","v":0},{"$f":"IFERROR($E352*SUMIF('Daily Log'!$N$18:$N$1017,$B352,'Daily Log'!$O$18:$O$1017),0)","v":0},{"$f":"IFERROR($E352*SUMIF('Daily Log'!$Q$18:$Q$1017,$B352,'Daily Log'!$R$18:$R$1017),0)","v":0},{"$f":"IFERROR($E352*SUMIF('Daily Log'!$T$18:$T$1017,$B352,'Daily Log'!$U$18:$U$1017),0)","v":0},{"$f":"IFERROR($E352*SUMIF('Daily Log'!$W$18:$W$1017,$B352,'Daily Log'!$X$18:$X$1017),0)","v":0},{"$f":"IFERROR($E352*SUMIF('Daily Log'!$Z$18:$Z$1017,$B352,'Daily Log'!$AA$18:$AA$1017),0)","v":0},{"$f":"IFERROR($E352*SUMIF('Daily Log'!$AC$18:$AC$1017,$B352,'Daily Log'!$AD$18:$AD$1017),0)","v":0},{"$f":"IFERROR($E352*SUMIF('Daily Log'!$AF$18:$AF$1017,$B352,'Daily Log'!$AG$18:$AG$1017),0)","v":0},{"$f":"IFERROR($E352*SUMIF('Daily Log'!$AI$18:$AI$1017,$B352,'Daily Log'!$AJ$18:$AJ$1017),0)","v":0},{"$f":"IFERROR($E352*SUMIF('Daily Log'!$AL$18:$AL$1017,$B352,'Daily Log'!$AM$18:$AM$1017),0)","v":0},{"$f":"IFERROR($E352*SUMIF('Daily Log'!$AO$18:$AO$1017,$B352,'Daily Log'!$AP$18:$AP$1017),0)","v":0},{"$f":"IFERROR($E352*SUMIF('Daily Log'!$AR$18:$AR$1017,$B352,'Daily Log'!$AS$18:$AS$1017),0)","v":0},{"$f":"IFERROR($E352*SUMIF('Daily Log'!$AU$18:$AU$1017,$B352,'Daily Log'!$AV$18:$AV$1017),0)","v":0},{"$f":"IFERROR($E352*SUMIF('Daily Log'!$AX$18:$AX$1017,$B352,'Daily Log'!$AY$18:$AY$1017),0)","v":0},{"$f":"IFERROR($E352*SUMIF('Daily Log'!$BA$18:$BA$1017,$B352,'Daily Log'!$BB$18:$BB$1017),0)","v":0},{"$f":"IFERROR($E352*SUMIF('Daily Log'!$BD$18:$BD$1017,$B352,'Daily Log'!$BE$18:$BE$1017),0)","v":0},{"$f":"IFERROR($E352*SUMIF('Daily Log'!$BG$18:$BG$1017,$B352,'Daily Log'!$BH$18:$BH$1017),0)","v":0},{"$f":"IFERROR($E352*SUMIF('Daily Log'!$BJ$18:$BJ$1017,$B352,'Daily Log'!$BK$18:$BK$1017),0)","v":0},{"$f":"IFERROR($E352*SUMIF('Daily Log'!$BM$18:$BM$1017,$B352,'Daily Log'!$BN$18:$BN$1017),0)","v":0},{"$f":"IFERROR($E352*SUMIF('Daily Log'!$BP$18:$BP$1017,$B352,'Daily Log'!$BQ$18:$BQ$1017),0)","v":0},{"$f":"IFERROR($E352*SUMIF('Daily Log'!$BS$18:$BS$1017,$B352,'Daily Log'!$BT$18:$BT$1017),0)","v":0},{"$f":"IFERROR($E352*SUMIF('Daily Log'!$BV$18:$BV$1017,$B352,'Daily Log'!$BW$18:$BW$1017),0)","v":0},{"$f":"IFERROR($E352*SUMIF('Daily Log'!$BY$18:$BY$1017,$B352,'Daily Log'!$BZ$18:$BZ$1017),0)","v":0},{"$f":"IFERROR($E352*SUMIF('Daily Log'!$CB$18:$CB$1017,$B352,'Daily Log'!$CC$18:$CC$1017),0)","v":0},{"$f":"IFERROR($E352*SUMIF('Daily Log'!$CE$18:$CE$1017,$B352,'Daily Log'!$CF$18:$CF$1017),0)","v":0},{"$f":"IFERROR($E352*SUMIF('Daily Log'!$CH$18:$CH$1017,$B352,'Daily Log'!$CI$18:$CI$1017),0)","v":0},{"$f":"IFERROR($E352*SUMIF('Daily Log'!$CK$18:$CK$1017,$B352,'Daily Log'!$CL$18:$CL$1017),0)","v":0},{"$f":"IFERROR($E352*SUMIF('Daily Log'!$CN$18:$CN$1017,$B352,'Daily Log'!$CO$18:$CO$1017),0)","v":0}]
[null,null,null,null,null,0,{"$f":"IFERROR($E353*SUMIF('Daily Log'!$B$18:$B$1017,$B353,'Daily Log'!$C$18:$C$1017),0)","v":0},{"$f":"IFERROR($E353*SUMIF('Daily Log'!$E$18:$E$1017,$B353,'Daily Log'!$F$18:$F$1017),0)","v":0},{"$f":"IFERROR($E353*SUMIF('Daily Log'!$H$18:$H$1017,$B353,'Daily Log'!$I$18:$I$1017),0)","v":0},{"$f":"IFERROR($E353*SUMIF('Daily Log'!$K$18:$K$1017,$B353,'Daily Log'!$L$18:$L$1017),0)","v":0},{"$f":"IFERROR($E353*SUMIF('Daily Log'!$N$18:$N$1017,$B353,'Daily Log'!$O$18:$O$1017),0)","v":0},{"$f":"IFERROR($E353*SUMIF('Daily Log'!$Q$18:$Q$1017,$B353,'Daily Log'!$R$18:$R$1017),0)","v":0},{"$f":"IFERROR($E353*SUMIF('Daily Log'!$T$18:$T$1017,$B353,'Daily Log'!$U$18:$U$1017),0)","v":0},{"$f":"IFERROR($E353*SUMIF('Daily Log'!$W$18:$W$1017,$B353,'Daily Log'!$X$18:$X$1017),0)","v":0},{"$f":"IFERROR($E353*SUMIF('Daily Log'!$Z$18:$Z$1017,$B353,'Daily Log'!$AA$18:$AA$1017),0)","v":0},{"$f":"IFERROR($E353*SUMIF('Daily Log'!$AC$18:$AC$1017,$B353,'Daily Log'!$AD$18:$AD$1017),0)","v":0},{"$f":"IFERROR($E353*SUMIF('Daily Log'!$AF$18:$AF$1017,$B353,'Daily Log'!$AG$18:$AG$1017),0)","v":0},{"$f":"IFERROR($E353*SUMIF('Daily Log'!$AI$18:$AI$1017,$B353,'Daily Log'!$AJ$18:$AJ$1017),0)","v":0},{"$f":"IFERROR($E353*SUMIF('Daily Log'!$AL$18:$AL$1017,$B353,'Daily Log'!$AM$18:$AM$1017),0)","v":0},{"$f":"IFERROR($E353*SUMIF('Daily Log'!$AO$18:$AO$1017,$B353,'Daily Log'!$AP$18:$AP$1017),0)","v":0},{"$f":"IFERROR($E353*SUMIF('Daily Log'!$AR$18:$AR$1017,$B353,'Daily Log'!$AS$18:$AS$1017),0)","v":0},{"$f":"IFERROR($E353*SUMIF('Daily Log'!$AU$18:$AU$1017,$B353,'Daily Log'!$AV$18:$AV$1017),0)","v":0},{"$f":"IFERROR($E353*SUMIF('Daily Log'!$AX$18:$AX$1017,$B353,'Daily Log'!$AY$18:$AY$1017),0)","v":0},{"$f":"IFERROR($E353*SUMIF('Daily Log'!$BA$18:$BA$1017,$B353,'Daily Log'!$BB$18:$BB$1017),0)","v":0},{"$f":"IFERROR($E353*SUMIF('Daily Log'!$BD$18:$BD$1017,$B353,'Daily Log'!$BE$18:$BE$1017),0)","v":0},{"$f":"IFERROR($E353*SUMIF('Daily Log'!$BG$18:$BG$1017,$B353,'Daily Log'!$BH$18:$BH$1017),0)","v":0},{"$f":"IFERROR($E353*SUMIF('Daily Log'!$BJ$18:$BJ$1017,$B353,'Daily Log'!$BK$18:$BK$1017),0)","v":0},{"$f":"IFERROR($E353*SUMIF('Daily Log'!$BM$18:$BM$1017,$B353,'Daily Log'!$BN$18:$BN$1017),0)","v":0},{"$f":"IFERROR($E353*SUMIF('Daily Log'!$BP$18:$BP$1017,$B353,'Daily Log'!$BQ$18:$BQ$1017),0)","v":0},{"$f":"IFERROR($E353*SUMIF('Daily Log'!$BS$18:$BS$1017,$B353,'Daily Log'!$BT$18:$BT$1017),0)","v":0},{"$f":"IFERROR($E353*SUMIF('Daily Log'!$BV$18:$BV$1017,$B353,'Daily Log'!$BW$18:$BW$1017),0)","v":0},{"$f":"IFERROR($E353*SUMIF('Daily Log'!$BY$18:$BY$1017,$B353,'Daily Log'!$BZ$18:$BZ$1017),0)","v":0},{"$f":"IFERROR($E353*SUMIF('Daily Log'!$CB$18:$CB$1017,$B353,'Daily Log'!$CC$18:$CC$1017),0)","v":0},{"$f":"IFERROR($E353*SUMIF('Daily Log'!$CE$18:$CE$1017,$B353,'Daily Log'!$CF$18:$CF$1017),0)","v":0},{"$f":"IFERROR($E353*SUMIF('Daily Log'!$CH$18:$CH$1017,$B353,'Daily Log'!$CI$18:$CI$1017),0)","v":0},{"$f":"IFERROR($E353*SUMIF('Daily Log'!$CK$18:$CK$1017,$B353,'Daily Log'!$CL$18:$CL$1017),0)","v":0},{"$f":"IFERROR($E353*SUMIF('Daily Log'!$CN$18:$CN$1017,$B353,'Daily Log'!$CO$18:$CO$1017),0)","v":0}]
[null,null,null,null,null,0,{"$f":"IFERROR($E354*SUMIF('Daily Log'!$B$18:$B$1017,$B354,'Daily Log'!$C$18:$C$1017),0)","v":0},{"$f":"IFERROR($E354*SUMIF('Daily Log'!$E$18:$E$1017,$B354,'Daily Log'!$F$18:$F$1017),0)","v":0},{"$f":"IFERROR($E354*SUMIF('Daily Log'!$H$18:$H$1017,$B354,'Daily Log'!$I$18:$I$1017),0)","v":0},{"$f":"IFERROR($E354*SUMIF('Daily Log'!$K$18:$K$1017,$B354,'Daily Log'!$L$18:$L$1017),0)","v":0},{"$f":"IFERROR($E354*SUMIF('Daily Log'!$N$18:$N$1017,$B354,'Daily Log'!$O$18:$O$1017),0)","v":0},{"$f":"IFERROR($E354*SUMIF('Daily Log'!$Q$18:$Q$1017,$B354,'Daily Log'!$R$18:$R$1017),0)","v":0},{"$f":"IFERROR($E354*SUMIF('Daily Log'!$T$18:$T$1017,$B354,'Daily Log'!$U$18:$U$1017),0)","v":0},{"$f":"IFERROR($E354*SUMIF('Daily Log'!$W$18:$W$1017,$B354,'Daily Log'!$X$18:$X$1017),0)","v":0},{"$f":"IFERROR($E354*SUMIF('Daily Log'!$Z$18:$Z$1017,$B354,'Daily Log'!$AA$18:$AA$1017),0)","v":0},{"$f":"IFERROR($E354*SUMIF('Daily Log'!$AC$18:$AC$1017,$B354,'Daily Log'!$AD$18:$AD$1017),0)","v":0},{"$f":"IFERROR($E354*SUMIF('Daily Log'!$AF$18:$AF$1017,$B354,'Daily Log'!$AG$18:$AG$1017),0)","v":0},{"$f":"IFERROR($E354*SUMIF('Daily Log'!$AI$18:$AI$1017,$B354,'Daily Log'!$AJ$18:$AJ$1017),0)","v":0},{"$f":"IFERROR($E354*SUMIF('Daily Log'!$AL$18:$AL$1017,$B354,'Daily Log'!$AM$18:$AM$1017),0)","v":0},{"$f":"IFERROR($E354*SUMIF('Daily Log'!$AO$18:$AO$1017,$B354,'Daily Log'!$AP$18:$AP$1017),0)","v":0},{"$f":"IFERROR($E354*SUMIF('Daily Log'!$AR$18:$AR$1017,$B354,'Daily Log'!$AS$18:$AS$1017),0)","v":0},{"$f":"IFERROR($E354*SUMIF('Daily Log'!$AU$18:$AU$1017,$B354,'Daily Log'!$AV$18:$AV$1017),0)","v":0},{"$f":"IFERROR($E354*SUMIF('Daily Log'!$AX$18:$AX$1017,$B354,'Daily Log'!$AY$18:$AY$1017),0)","v":0},{"$f":"IFERROR($E354*SUMIF('Daily Log'!$BA$18:$BA$1017,$B354,'Daily Log'!$BB$18:$BB$1017),0)","v":0},{"$f":"IFERROR($E354*SUMIF('Daily Log'!$BD$18:$BD$1017,$B354,'Daily Log'!$BE$18:$BE$1017),0)","v":0},{"$f":"IFERROR($E354*SUMIF('Daily Log'!$BG$18:$BG$1017,$B354,'Daily Log'!$BH$18:$BH$1017),0)","v":0},{"$f":"IFERROR($E354*SUMIF('Daily Log'!$BJ$18:$BJ$1017,$B354,'Daily Log'!$BK$18:$BK$1017),0)","v":0},{"$f":"IFERROR($E354*SUMIF('Daily Log'!$BM$18:$BM$1017,$B354,'Daily Log'!$BN$18:$BN$1017),0)","v":0},{"$f":"IFERROR($E354*SUMIF('Daily Log'!$BP$18:$BP$1017,$B354,'Daily Log'!$BQ$18:$BQ$1017),0)","v":0},{"$f":"IFERROR($E354*SUMIF('Daily Log'!$BS$18:$BS$1017,$B354,'Daily Log'!$BT$18:$BT$1017),0)","v":0},{"$f":"IFERROR($E354*SUMIF('Daily Log'!$BV$18:$BV$1017,$B354,'Daily Log'!$BW$18:$BW$1017),0)","v":0},{"$f":"IFERROR($E354*SUMIF('Daily Log'!$BY$18:$BY$1017,$B354,'Daily Log'!$BZ$18:$BZ$1017),0)","v":0},{"$f":"IFERROR($E354*SUMIF('Daily Log'!$CB$18:$CB$1017,$B354,'Daily Log'!$CC$18:$CC$1017),0)","v":0},{"$f":"IFERROR($E354*SUMIF('Daily Log'!$CE$18:$CE$1017,$B354,'Daily Log'!$CF$18:$CF$1017),0)","v":0},{"$f":"IFERROR($E354*SUMIF('Daily Log'!$CH$18:$CH$1017,$B354,'Daily Log'!$CI$18:$CI$1017),0)","v":0},{"$f":"IFERROR($E354*SUMIF('Daily Log'!$CK$18:$CK$1017,$B354,'Daily Log'!$CL$18:$CL$1017),0)","v":0},{"$f":"IFERROR($E354*SUMIF('Daily Log'!$CN$18:$CN$1017,$B354,'Daily Log'!$CO$18:$CO$1017),0)","v":0}]
[null,null,null,null,null,0,{"$f":"IFERROR($E355*SUMIF('Daily Log'!$B$18:$B$1017,$B355,'Daily Log'!$C$18:$C$1017),0)","v":0},{"$f":"IFERROR($E355*SUMIF('Daily Log'!$E$18:$E$1017,$B355,'Daily Log'!$F$18:$F$1017),0)","v":0},{"$f":"IFERROR($E355*SUMIF('Daily Log'!$H$18:$H$1017,$B355,'Daily Log'!$I$18:$I$1017),0)","v":0},{"$f":"IFERROR($E355*SUMIF('Daily Log'!$K$18:$K$1017,$B355,'Daily Log'!$L$18:$L$1017),0)","v":0},{"$f":"IFERROR($E355*SUMIF('Daily Log'!$N$18:$N$1017,$B355,'Daily Log'!$O$18:$O$1017),0)","v":0},{"$f":"IFERROR($E355*SUMIF('Daily Log'!$Q$18:$Q$1017,$B355,'Daily Log'!$R$18:$R$1017),0)","v":0},{"$f":"IFERROR($E355*SUMIF('Daily Log'!$T$18:$T$1017,$B355,'Daily Log'!$U$18:$U$1017),0)","v":0},{"$f":"IFERROR($E355*SUMIF('Daily Log'!$W$18:$W$1017,$B355,'Daily Log'!$X$18:$X$1017),0)","v":0},{"$f":"IFERROR($E355*SUMIF('Daily Log'!$Z$18:$Z$1017,$B355,'Daily Log'!$AA$18:$AA$1017),0)","v":0},{"$f":"IFERROR($E355*SUMIF('Daily Log'!$AC$18:$AC$1017,$B355,'Daily Log'!$AD$18:$AD$1017),0)","v":0},{"$f":"IFERROR($E355*SUMIF('Daily Log'!$AF$18:$AF$1017,$B355,'Daily Log'!$AG$18:$AG$1017),0)","v":0},{"$f":"IFERROR($E355*SUMIF('Daily Log'!$AI$18:$AI$1017,$B355,'Daily Log'!$AJ$18:$AJ$1017),0)","v":0},{"$f":"IFERROR($E355*SUMIF('Daily Log'!$AL$18:$AL$1017,$B355,'Daily Log'!$AM$18:$AM$1017),0)","v":0},{"$f":"IFERROR($E355*SUMIF('Daily Log'!$AO$18:$AO$1017,$B355,'Daily Log'!$AP$18:$AP$1017),0)","v":0},{"$f":"IFERROR($E355*SUMIF('Daily Log'!$AR$18:$AR$1017,$B355,'Daily Log'!$AS$18:$AS$1017),0)","v":0},{"$f":"IFERROR($E355*SUMIF('Daily Log'!$AU$18:$AU$1017,$B355,'Daily Log'!$AV$18:$AV$1017),0)","v":0},{"$f":"IFERROR($E355*SUMIF('Daily Log'!$AX$18:$AX$1017,$B355,'Daily Log'!$AY$18:$AY$1017),0)","v":0},{"$f":"IFERROR($E355*SUMIF('Daily Log'!$BA$18:$BA$1017,$B355,'Daily Log'!$BB$18:$BB$1017),0)","v":0},{"$f":"IFERROR($E355*SUMIF('Daily Log'!$BD$18:$BD$1017,$B355,'Daily Log'!$BE$18:$BE$1017),0)","v":0},{"$f":"IFERROR($E355*SUMIF('Daily Log'!$BG$18:$BG$1017,$B355,'Daily Log'!$BH$18:$BH$1017),0)","v":0},{"$f":"IFERROR($E355*SUMIF('Daily Log'!$BJ$18:$BJ$1017,$B355,'Daily Log'!$BK$18:$BK$1017),0)","v":0},{"$f":"IFERROR($E355*SUMIF('Daily Log'!$BM$18:$BM$1017,$B355,'Daily Log'!$BN$18:$BN$1017),0)","v":0},{"$f":"IFERROR($E355*SUMIF('Daily Log'!$BP$18:$BP$1017,$B355,'Daily Log'!$BQ$18:$BQ$1017),0)","v":0},{"$f":"IFERROR($E355*SUMIF('Daily Log'!$BS$18:$BS$1017,$B355,'Daily Log'!$BT$18:$BT$1017),0)","v":0},{"$f":"IFERROR($E355*SUMIF('Daily Log'!$BV$18:$BV$1017,$B355,'Daily Log'!$BW$18:$BW$1017),0)","v":0},{"$f":"IFERROR($E355*SUMIF('Daily Log'!$BY$18:$BY$1017,$B355,'Daily Log'!$BZ$18:$BZ$1017),0)","v":0},{"$f":"IFERROR($E355*SUMIF('Daily Log'!$CB$18:$CB$1017,$B355,'Daily Log'!$CC$18:$CC$1017),0)","v":0},{"$f":"IFERROR($E355*SUMIF('Daily Log'!$CE$18:$CE$1017,$B355,'Daily Log'!$CF$18:$CF$1017),0)","v":0},{"$f":"IFERROR($E355*SUMIF('Daily Log'!$CH$18:$CH$1017,$B355,'Daily Log'!$CI$18:$CI$1017),0)","v":0},{"$f":"IFERROR($E355*SUMIF('Daily Log'!$CK$18:$CK$1017,$B355,'Daily Log'!$CL$18:$CL$1017),0)","v":0},{"$f":"IFERROR($E355*SUMIF('Daily Log'!$CN$18:$CN$1017,$B355,'Daily Log'!$CO$18:$CO$1017),0)","v":0}]
[null,null,null,null,null,0,{"$f":"IFERROR($E356*SUMIF('Daily Log'!$B$18:$B$1017,$B356,'Daily Log'!$C$18:$C$1017),0)","v":0},{"$f":"IFERROR($E356*SUMIF('Daily Log'!$E$18:$E$1017,$B356,'Daily Log'!$F$18:$F$1017),0)","v":0},{"$f":"IFERROR($E356*SUMIF('Daily Log'!$H$18:$H$1017,$B356,'Daily Log'!$I$18:$I$1017),0)","v":0},{"$f":"IFERROR($E356*SUMIF('Daily Log'!$K$18:$K$1017,$B356,'Daily Log'!$L$18:$L$1017),0)","v":0},{"$f":"IFERROR($E356*SUMIF('Daily Log'!$N$18:$N$1017,$B356,'Daily Log'!$O$18:$O$1017),0)","v":0},{"$f":"IFERROR($E356*SUMIF('Daily Log'!$Q$18:$Q$1017,$B356,'Daily Log'!$R$18:$R$1017),0)","v":0},{"$f":"IFERROR($E356*SUMIF('Daily Log'!$T$18:$T$1017,$B356,'Daily Log'!$U$18:$U$1017),0)","v":0},{"$f":"IFERROR($E356*SUMIF('Daily Log'!$W$18:$W$1017,$B356,'Daily Log'!$X$18:$X$1017),0)","v":0},{"$f":"IFERROR($E356*SUMIF('Daily Log'!$Z$18:$Z$1017,$B356,'Daily Log'!$AA$18:$AA$1017),0)","v":0},{"$f":"IFERROR($E356*SUMIF('Daily Log'!$AC$18:$AC$1017,$B356,'Daily Log'!$AD$18:$AD$1017),0)","v":0},{"$f":"IFERROR($E356*SUMIF('Daily Log'!$AF$18:$AF$1017,$B356,'Daily Log'!$AG$18:$AG$1017),0)","v":0},{"$f":"IFERROR($E356*SUMIF('Daily Log'!$AI$18:$AI$1017,$B356,'Daily Log'!$AJ$18:$AJ$1017),0)","v":0},{"$f":"IFERROR($E356*SUMIF('Daily Log'!$AL$18:$AL$1017,$B356,'Daily Log'!$AM$18:$AM$1017),0)","v":0},{"$f":"IFERROR($E356*SUMIF('Daily Log'!$AO$18:$AO$1017,$B356,'Daily Log'!$AP$18:$AP$1017),0)","v":0},{"$f":"IFERROR($E356*SUMIF('Daily Log'!$AR$18:$AR$1017,$B356,'Daily Log'!$AS$18:$AS$1017),0)","v":0},{"$f":"IFERROR($E356*SUMIF('Daily Log'!$AU$18:$AU$1017,$B356,'Daily Log'!$AV$18:$AV$1017),0)","v":0},{"$f":"IFERROR($E356*SUMIF('Daily Log'!$AX$18:$AX$1017,$B356,'Daily Log'!$AY$18:$AY$1017),0)","v":0},{"$f":"IFERROR($E356*SUMIF('Daily Log'!$BA$18:$BA$1017,$B356,'Daily Log'!$BB$18:$BB$1017),0)","v":0},{"$f":"IFERROR($E356*SUMIF('Daily Log'!$BD$18:$BD$1017,$B356,'Daily Log'!$BE$18:$BE$1017),0)","v":0},{"$f":"IFERROR($E356*SUMIF('Daily Log'!$BG$18:$BG$1017,$B356,'Daily Log'!$BH$18:$BH$1017),0)","v":0},{"$f":"IFERROR($E356*SUMIF('Daily Log'!$BJ$18:$BJ$1017,$B356,'Daily Log'!$BK$18:$BK$1017),0)","v":0},{"$f":"IFERROR($E356*SUMIF('Daily Log'!$BM$18:$BM$1017,$B356,'Daily Log'!$BN$18:$BN$1017),0)","v":0},{"$f":"IFERROR($E356*SUMIF('Daily Log'!$BP$18:$BP$1017,$B356,'Daily Log'!$BQ$18:$BQ$1017),0)","v":0},{"$f":"IFERROR($E356*SUMIF('Daily Log'!$BS$18:$BS$1017,$B356,'Daily Log'!$BT$18:$BT$1017),0)","v":0},{"$f":"IFERROR($E356*SUMIF('Daily Log'!$BV$18:$BV$1017,$B356,'Daily Log'!$BW$18:$BW$1017),0)","v":0},{"$f":"IFERROR($E356*SUMIF('Daily Log'!$BY$18:$BY$1017,$B356,'Daily Log'!$BZ$18:$BZ$1017),0)","v":0},{"$f":"IFERROR($E356*SUMIF('Daily Log'!$CB$18:$CB$1017,$B356,'Daily Log'!$CC$18:$CC$1017),0)","v":0},{"$f":"IFERROR($E356*SUMIF('Daily Log'!$CE$18:$CE$1017,$B356,'Daily Log'!$CF$18:$CF$1017),0)","v":0},{"$f":"IFERROR($E356*SUMIF('Daily Log'!$CH$18:$CH$1017,$B356,'Daily Log'!$CI$18:$CI$1017),0)","v":0},{"$f":"IFERROR($E356*SUMIF('Daily Log'!$CK$18:$CK$1017,$B356,'Daily Log'!$CL$18:$CL$1017),0)","v":0},{"$f":"IFERROR($E356*SUMIF('Daily Log'!$CN$18:$CN$1017,$B356,'Daily Log'!$CO$18:$CO$1017),0)","v":0}]
[null,null,null,null,null,0,{"$f":"IFERROR($E357*SUMIF('Daily Log'!$B$18:$B$1017,$B357,'Daily Log'!$C$18:$C$1017),0)","v":0},{"$f":"IFERROR($E357*SUMIF('Daily Log'!$E$18:$E$1017,$B357,'Daily Log'!$F$18:$F$1017),0)","v":0},{"$f":"IFERROR($E357*SUMIF('Daily Log'!$H$18:$H$1017,$B357,'Daily Log'!$I$18:$I$1017),0)","v":0},{"$f":"IFERROR($E357*SUMIF('Daily Log'!$K$18:$K$1017,$B357,'Daily Log'!$L$18:$L$1017),0)","v":0},{"$f":"IFERROR($E357*SUMIF('Daily Log'!$N$18:$N$1017,$B357,'Daily Log'!$O$18:$O$1017),0)","v":0},{"$f":"IFERROR($E357*SUMIF('Daily Log'!$Q$18:$Q$1017,$B357,'Daily Log'!$R$18:$R$1017),0)","v":0},{"$f":"IFERROR($E357*SUMIF('Daily Log'!$T$18:$T$1017,$B357,'Daily Log'!$U$18:$U$1017),0)","v":0},{"$f":"IFERROR($E357*SUMIF('Daily Log'!$W$18:$W$1017,$B357,'Daily Log'!$X$18:$X$1017),0)","v":0},{"$f":"IFERROR($E357*SUMIF('Daily Log'!$Z$18:$Z$1017,$B357,'Daily Log'!$AA$18:$AA$1017),0)","v":0},{"$f":"IFERROR($E357*SUMIF('Daily Log'!$AC$18:$AC$1017,$B357,'Daily Log'!$AD$18:$AD$1017),0)","v":0},{"$f":"IFERROR($E357*SUMIF('Daily Log'!$AF$18:$AF$1017,$B357,'Daily Log'!$AG$18:$AG$1017),0)","v":0},{"$f":"IFERROR($E357*SUMIF('Daily Log'!$AI$18:$AI$1017,$B357,'Daily Log'!$AJ$18:$AJ$1017),0)","v":0},{"$f":"IFERROR($E357*SUMIF('Daily Log'!$AL$18:$AL$1017,$B357,'Daily Log'!$AM$18:$AM$1017),0)","v":0},{"$f":"IFERROR($E357*SUMIF('Daily Log'!$AO$18:$AO$1017,$B357,'Daily Log'!$AP$18:$AP$1017),0)","v":0},{"$f":"IFERROR($E357*SUMIF('Daily Log'!$AR$18:$AR$1017,$B357,'Daily Log'!$AS$18:$AS$1017),0)","v":0},{"$f":"IFERROR($E357*SUMIF('Daily Log'!$AU$18:$AU$1017,$B357,'Daily Log'!$AV$18:$AV$1017),0)","v":0},{"$f":"IFERROR($E357*SUMIF('Daily Log'!$AX$18:$AX$1017,$B357,'Daily Log'!$AY$18:$AY$1017),0)","v":0},{"$f":"IFERROR($E357*SUMIF('Daily Log'!$BA$18:$BA$1017,$B357,'Daily Log'!$BB$18:$BB$1017),0)","v":0},{"$f":"IFERROR($E357*SUMIF('Daily Log'!$BD$18:$BD$1017,$B357,'Daily Log'!$BE$18:$BE$1017),0)","v":0},{"$f":"IFERROR($E357*SUMIF('Daily Log'!$BG$18:$BG$1017,$B357,'Daily Log'!$BH$18:$BH$1017),0)","v":0},{"$f":"IFERROR($E357*SUMIF('Daily Log'!$BJ$18:$BJ$1017,$B357,'Daily Log'!$BK$18:$BK$1017),0)","v":0},{"$f":"IFERROR($E357*SUMIF('Daily Log'!$BM$18:$BM$1017,$B357,'Daily Log'!$BN$18:$BN$1017),0)","v":0},{"$f":"IFERROR($E357*SUMIF('Daily Log'!$BP$18:$BP$1017,$B357,'Daily Log'!$BQ$18:$BQ$1017),0)","v":0},{"$f":"IFERROR($E357*SUMIF('Daily Log'!$BS$18:$BS$1017,$B357,'Daily Log'!$BT$18:$BT$1017),0)","v":0},{"$f":"IFERROR($E357*SUMIF('Daily Log'!$BV$18:$BV$1017,$B357,'Daily Log'!$BW$18:$BW$1017),0)","v":0},{"$f":"IFERROR($E357*SUMIF('Daily Log'!$BY$18:$BY$1017,$B357,'Daily Log'!$BZ$18:$BZ$1017),0)","v":0},{"$f":"IFERROR($E357*SUMIF('Daily Log'!$CB$18:$CB$1017,$B357,'Daily Log'!$CC$18:$CC$1017),0)","v":0},{"$f":"IFERROR($E357*SUMIF('Daily Log'!$CE$18:$CE$1017,$B357,'Daily Log'!$CF$18:$CF$1017),0)","v":0},{"$f":"IFERROR($E357*SUMIF('Daily Log'!$CH$18:$CH$1017,$B357,'Daily Log'!$CI$18:$CI$1017),0)","v":0},{"$f":"IFERROR($E357*SUMIF('Daily Log'!$CK$18:$CK$1017,$B357,'Daily Log'!$CL$18:$CL$1017),0)","v":0},{"$f":"IFERROR($E357*SUMIF('Daily Log'!$CN$18:$CN$1017,$B357,'Daily Log'!$CO$18:$CO$1017),0)","v":0}]
[null,null,null,null,null,0,{"$f":"IFERROR($E358*SUMIF('Daily Log'!$B$18:$B$1017,$B358,'Daily Log'!$C$18:$C$1017),0)","v":0},{"$f":"IFERROR($E358*SUMIF('Daily Log'!$E$18:$E$1017,$B358,'Daily Log'!$F$18:$F$1017),0)","v":0},{"$f":"IFERROR($E358*SUMIF('Daily Log'!$H$18:$H$1017,$B358,'Daily Log'!$I$18:$I$1017),0)","v":0},{"$f":"IFERROR($E358*SUMIF('Daily Log'!$K$18:$K$1017,$B358,'Daily Log'!$L$18:$L$1017),0)","v":0},{"$f":"IFERROR($E358*SUMIF('Daily Log'!$N$18:$N$1017,$B358,'Daily Log'!$O$18:$O$1017),0)","v":0},{"$f":"IFERROR($E358*SUMIF('Daily Log'!$Q$18:$Q$1017,$B358,'Daily Log'!$R$18:$R$1017),0)","v":0},{"$f":"IFERROR($E358*SUMIF('Daily Log'!$T$18:$T$1017,$B358,'Daily Log'!$U$18:$U$1017),0)","v":0},{"$f":"IFERROR($E358*SUMIF('Daily Log'!$W$18:$W$1017,$B358,'Daily Log'!$X$18:$X$1017),0)","v":0},{"$f":"IFERROR($E358*SUMIF('Daily Log'!$Z$18:$Z$1017,$B358,'Daily Log'!$AA$18:$AA$1017),0)","v":0},{"$f":"IFERROR($E358*SUMIF('Daily Log'!$AC$18:$AC$1017,$B358,'Daily Log'!$AD$18:$AD$1017),0)","v":0},{"$f":"IFERROR($E358*SUMIF('Daily Log'!$AF$18:$AF$1017,$B358,'Daily Log'!$AG$18:$AG$1017),0)","v":0},{"$f":"IFERROR($E358*SUMIF('Daily Log'!$AI$18:$AI$1017,$B358,'Daily Log'!$AJ$18:$AJ$1017),0)","v":0},{"$f":"IFERROR($E358*SUMIF('Daily Log'!$AL$18:$AL$1017,$B358,'Daily Log'!$AM$18:$AM$1017),0)","v":0},{"$f":"IFERROR($E358*SUMIF('Daily Log'!$AO$18:$AO$1017,$B358,'Daily Log'!$AP$18:$AP$1017),0)","v":0},{"$f":"IFERROR($E358*SUMIF('Daily Log'!$AR$18:$AR$1017,$B358,'Daily Log'!$AS$18:$AS$1017),0)","v":0},{"$f":"IFERROR($E358*SUMIF('Daily Log'!$AU$18:$AU$1017,$B358,'Daily Log'!$AV$18:$AV$1017),0)","v":0},{"$f":"IFERROR($E358*SUMIF('Daily Log'!$AX$18:$AX$1017,$B358,'Daily Log'!$AY$18:$AY$1017),0)","v":0},{"$f":"IFERROR($E358*SUMIF('Daily Log'!$BA$18:$BA$1017,$B358,'Daily Log'!$BB$18:$BB$1017),0)","v":0},{"$f":"IFERROR($E358*SUMIF('Daily Log'!$BD$18:$BD$1017,$B358,'Daily Log'!$BE$18:$BE$1017),0)","v":0},{"$f":"IFERROR($E358*SUMIF('Daily Log'!$BG$18:$BG$1017,$B358,'Daily Log'!$BH$18:$BH$1017),0)","v":0},{"$f":"IFERROR($E358*SUMIF('Daily Log'!$BJ$18:$BJ$1017,$B358,'Daily Log'!$BK$18:$BK$1017),0)","v":0},{"$f":"IFERROR($E358*SUMIF('Daily Log'!$BM$18:$BM$1017,$B358,'Daily Log'!$BN$18:$BN$1017),0)","v":0},{"$f":"IFERROR($E358*SUMIF('Daily Log'!$BP$18:$BP$1017,$B358,'Daily Log'!$BQ$18:$BQ$1017),0)","v":0},{"$f":"IFERROR($E358*SUMIF('Daily Log'!$BS$18:$BS$1017,$B358,'Daily Log'!$BT$18:$BT$1017),0)","v":0},{"$f":"IFERROR($E358*SUMIF('Daily Log'!$BV$18:$BV$1017,$B358,'Daily Log'!$BW$18:$BW$1017),0)","v":0},{"$f":"IFERROR($E358*SUMIF('Daily Log'!$BY$18:$BY$1017,$B358,'Daily Log'!$BZ$18:$BZ$1017),0)","v":0},{"$f":"IFERROR($E358*SUMIF('Daily Log'!$CB$18:$CB$1017,$B358,'Daily Log'!$CC$18:$CC$1017),0)","v":0},{"$f":"IFERROR($E358*SUMIF('Daily Log'!$CE$18:$CE$1017,$B358,'Daily Log'!$CF$18:$CF$1017),0)","v":0},{"$f":"IFERROR($E358*SUMIF('Daily Log'!$CH$18:$CH$1017,$B358,'Daily Log'!$CI$18:$CI$1017),0)","v":0},{"$f":"IFERROR($E358*SUMIF('Daily Log'!$CK$18:$CK$1017,$B358,'Daily Log'!$CL$18:$CL$1017),0)","v":0},{"$f":"IFERROR($E358*SUMIF('Daily Log'!$CN$18:$CN$1017,$B358,'Daily Log'!$CO$18:$CO$1017),0)","v":0}]
[null,null,null,null,null,0,{"$f":"IFERROR($E359*SUMIF('Daily Log'!$B$18:$B$1017,$B359,'Daily Log'!$C$18:$C$1017),0)","v":0},{"$f":"IFERROR($E359*SUMIF('Daily Log'!$E$18:$E$1017,$B359,'Daily Log'!$F$18:$F$1017),0)","v":0},{"$f":"IFERROR($E359*SUMIF('Daily Log'!$H$18:$H$1017,$B359,'Daily Log'!$I$18:$I$1017),0)","v":0},{"$f":"IFERROR($E359*SUMIF('Daily Log'!$K$18:$K$1017,$B359,'Daily Log'!$L$18:$L$1017),0)","v":0},{"$f":"IFERROR($E359*SUMIF('Daily Log'!$N$18:$N$1017,$B359,'Daily Log'!$O$18:$O$1017),0)","v":0},{"$f":"IFERROR($E359*SUMIF('Daily Log'!$Q$18:$Q$1017,$B359,'Daily Log'!$R$18:$R$1017),0)","v":0},{"$f":"IFERROR($E359*SUMIF('Daily Log'!$T$18:$T$1017,$B359,'Daily Log'!$U$18:$U$1017),0)","v":0},{"$f":"IFERROR($E359*SUMIF('Daily Log'!$W$18:$W$1017,$B359,'Daily Log'!$X$18:$X$1017),0)","v":0},{"$f":"IFERROR($E359*SUMIF('Daily Log'!$Z$18:$Z$1017,$B359,'Daily Log'!$AA$18:$AA$1017),0)","v":0},{"$f":"IFERROR($E359*SUMIF('Daily Log'!$AC$18:$AC$1017,$B359,'Daily Log'!$AD$18:$AD$1017),0)","v":0},{"$f":"IFERROR($E359*SUMIF('Daily Log'!$AF$18:$AF$1017,$B359,'Daily Log'!$AG$18:$AG$1017),0)","v":0},{"$f":"IFERROR($E359*SUMIF('Daily Log'!$AI$18:$AI$1017,$B359,'Daily Log'!$AJ$18:$AJ$1017),0)","v":0},{"$f":"IFERROR($E359*SUMIF('Daily Log'!$AL$18:$AL$1017,$B359,'Daily Log'!$AM$18:$AM$1017),0)","v":0},{"$f":"IFERROR($E359*SUMIF('Daily Log'!$AO$18:$AO$1017,$B359,'Daily Log'!$AP$18:$AP$1017),0)","v":0},{"$f":"IFERROR($E359*SUMIF('Daily Log'!$AR$18:$AR$1017,$B359,'Daily Log'!$AS$18:$AS$1017),0)","v":0},{"$f":"IFERROR($E359*SUMIF('Daily Log'!$AU$18:$AU$1017,$B359,'Daily Log'!$AV$18:$AV$1017),0)","v":0},{"$f":"IFERROR($E359*SUMIF('Daily Log'!$AX$18:$AX$1017,$B359,'Daily Log'!$AY$18:$AY$1017),0)","v":0},{"$f":"IFERROR($E359*SUMIF('Daily Log'!$BA$18:$BA$1017,$B359,'Daily Log'!$BB$18:$BB$1017),0)","v":0},{"$f":"IFERROR($E359*SUMIF('Daily Log'!$BD$18:$BD$1017,$B359,'Daily Log'!$BE$18:$BE$1017),0)","v":0},{"$f":"IFERROR($E359*SUMIF('Daily Log'!$BG$18:$BG$1017,$B359,'Daily Log'!$BH$18:$BH$1017),0)","v":0},{"$f":"IFERROR($E359*SUMIF('Daily Log'!$BJ$18:$BJ$1017,$B359,'Daily Log'!$BK$18:$BK$1017),0)","v":0},{"$f":"IFERROR($E359*SUMIF('Daily Log'!$BM$18:$BM$1017,$B359,'Daily Log'!$BN$18:$BN$1017),0)","v":0},{"$f":"IFERROR($E359*SUMIF('Daily Log'!$BP$18:$BP$1017,$B359,'Daily Log'!$BQ$18:$BQ$1017),0)","v":0},{"$f":"IFERROR($E359*SUMIF('Daily Log'!$BS$18:$BS$1017,$B359,'Daily Log'!$BT$18:$BT$1017),0)","v":0},{"$f":"IFERROR($E359*SUMIF('Daily Log'!$BV$18:$BV$1017,$B359,'Daily Log'!$BW$18:$BW$1017),0)","v":0},{"$f":"IFERROR($E359*SUMIF('Daily Log'!$BY$18:$BY$1017,$B359,'Daily Log'!$BZ$18:$BZ$1017),0)","v":0},{"$f":"IFERROR($E359*SUMIF('Daily Log'!$CB$18:$CB$1017,$B359,'Daily Log'!$CC$18:$CC$1017),0)","v":0},{"$f":"IFERROR($E359*SUMIF('Daily Log'!$CE$18:$CE$1017,$B359,'Daily Log'!$CF$18:$CF$1017),0)","v":0},{"$f":"IFERROR($E359*SUMIF('Daily Log'!$CH$18:$CH$1017,$B359,'Daily Log'!$CI$18:$CI$1017),0)","v":0},{"$f":"IFERROR($E359*SUMIF('Daily Log'!$CK$18:$CK$1017,$B359,'Daily Log'!$CL$18:$CL$1017),0)","v":0},{"$f":"IFERROR($E359*SUMIF('Daily Log'!$CN$18:$CN$1017,$B359,'Daily Log'!$CO$18:$CO$1017),0)","v":0}]
[null,null,null,null,null,0,{"$f":"IFERROR($E360*SUMIF('Daily Log'!$B$18:$B$1017,$B360,'Daily Log'!$C$18:$C$1017),0)","v":0},{"$f":"IFERROR($E360*SUMIF('Daily Log'!$E$18:$E$1017,$B360,'Daily Log'!$F$18:$F$1017),0)","v":0},{"$f":"IFERROR($E360*SUMIF('Daily Log'!$H$18:$H$1017,$B360,'Daily Log'!$I$18:$I$1017),0)","v":0},{"$f":"IFERROR($E360*SUMIF('Daily Log'!$K$18:$K$1017,$B360,'Daily Log'!$L$18:$L$1017),0)","v":0},{"$f":"IFERROR($E360*SUMIF('Daily Log'!$N$18:$N$1017,$B360,'Daily Log'!$O$18:$O$1017),0)","v":0},{"$f":"IFERROR($E360*SUMIF('Daily Log'!$Q$18:$Q$1017,$B360,'Daily Log'!$R$18:$R$1017),0)","v":0},{"$f":"IFERROR($E360*SUMIF('Daily Log'!$T$18:$T$1017,$B360,'Daily Log'!$U$18:$U$1017),0)","v":0},{"$f":"IFERROR($E360*SUMIF('Daily Log'!$W$18:$W$1017,$B360,'Daily Log'!$X$18:$X$1017),0)","v":0},{"$f":"IFERROR($E360*SUMIF('Daily Log'!$Z$18:$Z$1017,$B360,'Daily Log'!$AA$18:$AA$1017),0)","v":0},{"$f":"IFERROR($E360*SUMIF('Daily Log'!$AC$18:$AC$1017,$B360,'Daily Log'!$AD$18:$AD$1017),0)","v":0},{"$f":"IFERROR($E360*SUMIF('Daily Log'!$AF$18:$AF$1017,$B360,'Daily Log'!$AG$18:$AG$1017),0)","v":0},{"$f":"IFERROR($E360*SUMIF('Daily Log'!$AI$18:$AI$1017,$B360,'Daily Log'!$AJ$18:$AJ$1017),0)","v":0},{"$f":"IFERROR($E360*SUMIF('Daily Log'!$AL$18:$AL$1017,$B360,'Daily Log'!$AM$18:$AM$1017),0)","v":0},{"$f":"IFERROR($E360*SUMIF('Daily Log'!$AO$18:$AO$1017,$B360,'Daily Log'!$AP$18:$AP$1017),0)","v":0},{"$f":"IFERROR($E360*SUMIF('Daily Log'!$AR$18:$AR$1017,$B360,'Daily Log'!$AS$18:$AS$1017),0)","v":0},{"$f":"IFERROR($E360*SUMIF('Daily Log'!$AU$18:$AU$1017,$B360,'Daily Log'!$AV$18:$AV$1017),0)","v":0},{"$f":"IFERROR($E360*SUMIF('Daily Log'!$AX$18:$AX$1017,$B360,'Daily Log'!$AY$18:$AY$1017),0)","v":0},{"$f":"IFERROR($E360*SUMIF('Daily Log'!$BA$18:$BA$1017,$B360,'Daily Log'!$BB$18:$BB$1017),0)","v":0},{"$f":"IFERROR($E360*SUMIF('Daily Log'!$BD$18:$BD$1017,$B360,'Daily Log'!$BE$18:$BE$1017),0)","v":0},{"$f":"IFERROR($E360*SUMIF('Daily Log'!$BG$18:$BG$1017,$B360,'Daily Log'!$BH$18:$BH$1017),0)","v":0},{"$f":"IFERROR($E360*SUMIF('Daily Log'!$BJ$18:$BJ$1017,$B360,'Daily Log'!$BK$18:$BK$1017),0)","v":0},{"$f":"IFERROR($E360*SUMIF('Daily Log'!$BM$18:$BM$1017,$B360,'Daily Log'!$BN$18:$BN$1017),0)","v":0},{"$f":"IFERROR($E360*SUMIF('Daily Log'!$BP$18:$BP$1017,$B360,'Daily Log'!$BQ$18:$BQ$1017),0)","v":0},{"$f":"IFERROR($E360*SUMIF('Daily Log'!$BS$18:$BS$1017,$B360,'Daily Log'!$BT$18:$BT$1017),0)","v":0},{"$f":"IFERROR($E360*SUMIF('Daily Log'!$BV$18:$BV$1017,$B360,'Daily Log'!$BW$18:$BW$1017),0)","v":0},{"$f":"IFERROR($E360*SUMIF('Daily Log'!$BY$18:$BY$1017,$B360,'Daily Log'!$BZ$18:$BZ$1017),0)","v":0},{"$f":"IFERROR($E360*SUMIF('Daily Log'!$CB$18:$CB$1017,$B360,'Daily Log'!$CC$18:$CC$1017),0)","v":0},{"$f":"IFERROR($E360*SUMIF('Daily Log'!$CE$18:$CE$1017,$B360,'Daily Log'!$CF$18:$CF$1017),0)","v":0},{"$f":"IFERROR($E360*SUMIF('Daily Log'!$CH$18:$CH$1017,$B360,'Daily Log'!$CI$18:$CI$1017),0)","v":0},{"$f":"IFERROR($E360*SUMIF('Daily Log'!$CK$18:$CK$1017,$B360,'Daily Log'!$CL$18:$CL$1017),0)","v":0},{"$f":"IFERROR($E360*SUMIF('Daily Log'!$CN$18:$CN$1017,$B360,'Daily Log'!$CO$18:$CO$1017),0)","v":0}]
[null,null,null,null,null,0,{"$f":"IFERROR($E361*SUMIF('Daily Log'!$B$18:$B$1017,$B361,'Daily Log'!$C$18:$C$1017),0)","v":0},{"$f":"IFERROR($E361*SUMIF('Daily Log'!$E$18:$E$1017,$B361,'Daily Log'!$F$18:$F$1017),0)","v":0},{"$f":"IFERROR($E361*SUMIF('Daily Log'!$H$18:$H$1017,$B361,'Daily Log'!$I$18:$I$1017),0)","v":0},{"$f":"IFERROR($E361*SUMIF('Daily Log'!$K$18:$K$1017,$B361,'Daily Log'!$L$18:$L$1017),0)","v":0},{"$f":"IFERROR($E361*SUMIF('Daily Log'!$N$18:$N$1017,$B361,'Daily Log'!$O$18:$O$1017),0)","v":0},{"$f":"IFERROR($E361*SUMIF('Daily Log'!$Q$18:$Q$1017,$B361,'Daily Log'!$R$18:$R$1017),0)","v":0},{"$f":"IFERROR($E361*SUMIF('Daily Log'!$T$18:$T$1017,$B361,'Daily Log'!$U$18:$U$1017),0)","v":0},{"$f":"IFERROR($E361*SUMIF('Daily Log'!$W$18:$W$1017,$B361,'Daily Log'!$X$18:$X$1017),0)","v":0},{"$f":"IFERROR($E361*SUMIF('Daily Log'!$Z$18:$Z$1017,$B361,'Daily Log'!$AA$18:$AA$1017),0)","v":0},{"$f":"IFERROR($E361*SUMIF('Daily Log'!$AC$18:$AC$1017,$B361,'Daily Log'!$AD$18:$AD$1017),0)","v":0},{"$f":"IFERROR($E361*SUMIF('Daily Log'!$AF$18:$AF$1017,$B361,'Daily Log'!$AG$18:$AG$1017),0)","v":0},{"$f":"IFERROR($E361*SUMIF('Daily Log'!$AI$18:$AI$1017,$B361,'Daily Log'!$AJ$18:$AJ$1017),0)","v":0},{"$f":"IFERROR($E361*SUMIF('Daily Log'!$AL$18:$AL$1017,$B361,'Daily Log'!$AM$18:$AM$1017),0)","v":0},{"$f":"IFERROR($E361*SUMIF('Daily Log'!$AO$18:$AO$1017,$B361,'Daily Log'!$AP$18:$AP$1017),0)","v":0},{"$f":"IFERROR($E361*SUMIF('Daily Log'!$AR$18:$AR$1017,$B361,'Daily Log'!$AS$18:$AS$1017),0)","v":0},{"$f":"IFERROR($E361*SUMIF('Daily Log'!$AU$18:$AU$1017,$B361,'Daily Log'!$AV$18:$AV$1017),0)","v":0},{"$f":"IFERROR($E361*SUMIF('Daily Log'!$AX$18:$AX$1017,$B361,'Daily Log'!$AY$18:$AY$1017),0)","v":0},{"$f":"IFERROR($E361*SUMIF('Daily Log'!$BA$18:$BA$1017,$B361,'Daily Log'!$BB$18:$BB$1017),0)","v":0},{"$f":"IFERROR($E361*SUMIF('Daily Log'!$BD$18:$BD$1017,$B361,'Daily Log'!$BE$18:$BE$1017),0)","v":0},{"$f":"IFERROR($E361*SUMIF('Daily Log'!$BG$18:$BG$1017,$B361,'Daily Log'!$BH$18:$BH$1017),0)","v":0},{"$f":"IFERROR($E361*SUMIF('Daily Log'!$BJ$18:$BJ$1017,$B361,'Daily Log'!$BK$18:$BK$1017),0)","v":0},{"$f":"IFERROR($E361*SUMIF('Daily Log'!$BM$18:$BM$1017,$B361,'Daily Log'!$BN$18:$BN$1017),0)","v":0},{"$f":"IFERROR($E361*SUMIF('Daily Log'!$BP$18:$BP$1017,$B361,'Daily Log'!$BQ$18:$BQ$1017),0)","v":0},{"$f":"IFERROR($E361*SUMIF('Daily Log'!$BS$18:$BS$1017,$B361,'Daily Log'!$BT$18:$BT$1017),0)","v":0},{"$f":"IFERROR($E361*SUMIF('Daily Log'!$BV$18:$BV$1017,$B361,'Daily Log'!$BW$18:$BW$1017),0)","v":0},{"$f":"IFERROR($E361*SUMIF('Daily Log'!$BY$18:$BY$1017,$B361,'Daily Log'!$BZ$18:$BZ$1017),0)","v":0},{"$f":"IFERROR($E361*SUMIF('Daily Log'!$CB$18:$CB$1017,$B361,'Daily Log'!$CC$18:$CC$1017),0)","v":0},{"$f":"IFERROR($E361*SUMIF('Daily Log'!$CE$18:$CE$1017,$B361,'Daily Log'!$CF$18:$CF$1017),0)","v":0},{"$f":"IFERROR($E361*SUMIF('Daily Log'!$CH$18:$CH$1017,$B361,'Daily Log'!$CI$18:$CI$1017),0)","v":0},{"$f":"IFERROR($E361*SUMIF('Daily Log'!$CK$18:$CK$1017,$B361,'Daily Log'!$CL$18:$CL$1017),0)","v":0},{"$f":"IFERROR($E361*SUMIF('Daily Log'!$CN$18:$CN$1017,$B361,'Daily Log'!$CO$18:$CO$1017),0)","v":0}]
[null,null,null,null,null,0,{"$f":"IFERROR($E362*SUMIF('Daily Log'!$B$18:$B$1017,$B362,'Daily Log'!$C$18:$C$1017),0)","v":0},{"$f":"IFERROR($E362*SUMIF('Daily Log'!$E$18:$E$1017,$B362,'Daily Log'!$F$18:$F$1017),0)","v":0},{"$f":"IFERROR($E362*SUMIF('Daily Log'!$H$18:$H$1017,$B362,'Daily Log'!$I$18:$I$1017),0)","v":0},{"$f":"IFERROR($E362*SUMIF('Daily Log'!$K$18:$K$1017,$B362,'Daily Log'!$L$18:$L$1017),0)","v":0},{"$f":"IFERROR($E362*SUMIF('Daily Log'!$N$18:$N$1017,$B362,'Daily Log'!$O$18:$O$1017),0)","v":0},{"$f":"IFERROR($E362*SUMIF('Daily Log'!$Q$18:$Q$1017,$B362,'Daily Log'!$R$18:$R$1017),0)","v":0},{"$f":"IFERROR($E362*SUMIF('Daily Log'!$T$18:$T$1017,$B362,'Daily Log'!$U$18:$U$1017),0)","v":0},{"$f":"IFERROR($E362*SUMIF('Daily Log'!$W$18:$W$1017,$B362,'Daily Log'!$X$18:$X$1017),0)","v":0},{"$f":"IFERROR($E362*SUMIF('Daily Log'!$Z$18:$Z$1017,$B362,'Daily Log'!$AA$18:$AA$1017),0)","v":0},{"$f":"IFERROR($E362*SUMIF('Daily Log'!$AC$18:$AC$1017,$B362,'Daily Log'!$AD$18:$AD$1017),0)","v":0},{"$f":"IFERROR($E362*SUMIF('Daily Log'!$AF$18:$AF$1017,$B362,'Daily Log'!$AG$18:$AG$1017),0)","v":0},{"$f":"IFERROR($E362*SUMIF('Daily Log'!$AI$18:$AI$1017,$B362,'Daily Log'!$AJ$18:$AJ$1017),0)","v":0},{"$f":"IFERROR($E362*SUMIF('Daily Log'!$AL$18:$AL$1017,$B362,'Daily Log'!$AM$18:$AM$1017),0)","v":0},{"$f":"IFERROR($E362*SUMIF('Daily Log'!$AO$18:$AO$1017,$B362,'Daily Log'!$AP$18:$AP$1017),0)","v":0},{"$f":"IFERROR($E362*SUMIF('Daily Log'!$AR$18:$AR$1017,$B362,'Daily Log'!$AS$18:$AS$1017),0)","v":0},{"$f":"IFERROR($E362*SUMIF('Daily Log'!$AU$18:$AU$1017,$B362,'Daily Log'!$AV$18:$AV$1017),0)","v":0},{"$f":"IFERROR($E362*SUMIF('Daily Log'!$AX$18:$AX$1017,$B362,'Daily Log'!$AY$18:$AY$1017),0)","v":0},{"$f":"IFERROR($E362*SUMIF('Daily Log'!$BA$18:$BA$1017,$B362,'Daily Log'!$BB$18:$BB$1017),0)","v":0},{"$f":"IFERROR($E362*SUMIF('Daily Log'!$BD$18:$BD$1017,$B362,'Daily Log'!$BE$18:$BE$1017),0)","v":0},{"$f":"IFERROR($E362*SUMIF('Daily Log'!$BG$18:$BG$1017,$B362,'Daily Log'!$BH$18:$BH$1017),0)","v":0},{"$f":"IFERROR($E362*SUMIF('Daily Log'!$BJ$18:$BJ$1017,$B362,'Daily Log'!$BK$18:$BK$1017),0)","v":0},{"$f":"IFERROR($E362*SUMIF('Daily Log'!$BM$18:$BM$1017,$B362,'Daily Log'!$BN$18:$BN$1017),0)","v":0},{"$f":"IFERROR($E362*SUMIF('Daily Log'!$BP$18:$BP$1017,$B362,'Daily Log'!$BQ$18:$BQ$1017),0)","v":0},{"$f":"IFERROR($E362*SUMIF('Daily Log'!$BS$18:$BS$1017,$B362,'Daily Log'!$BT$18:$BT$1017),0)","v":0},{"$f":"IFERROR($E362*SUMIF('Daily Log'!$BV$18:$BV$1017,$B362,'Daily Log'!$BW$18:$BW$1017),0)","v":0},{"$f":"IFERROR($E362*SUMIF('Daily Log'!$BY$18:$BY$1017,$B362,'Daily Log'!$BZ$18:$BZ$1017),0)","v":0},{"$f":"IFERROR($E362*SUMIF('Daily Log'!$CB$18:$CB$1017,$B362,'Daily Log'!$CC$18:$CC$1017),0)","v":0},{"$f":"IFERROR($E362*SUMIF('Daily Log'!$CE$18:$CE$1017,$B362,'Daily Log'!$CF$18:$CF$1017),0)","v":0},{"$f":"IFERROR($E362*SUMIF('Daily Log'!$CH$18:$CH$1017,$B362,'Daily Log'!$CI$18:$CI$1017),0)","v":0},{"$f":"IFERROR($E362*SUMIF('Daily Log'!$CK$18:$CK$1017,$B362,'Daily Log'!$CL$18:$CL$1017),0)","v":0},{"$f":"IFERROR($E362*SUMIF('Daily Log'!$CN$18:$CN$1017,$B362,'Daily Log'!$CO$18:$CO$1017),0)","v":0}]
[null,null,null,null,null,0,{"$f":"IFERROR($E363*SUMIF('Daily Log'!$B$18:$B$1017,$B363,'Daily Log'!$C$18:$C$1017),0)","v":0},{"$f":"IFERROR($E363*SUMIF('Daily Log'!$E$18:$E$1017,$B363,'Daily Log'!$F$18:$F$1017),0)","v":0},{"$f":"IFERROR($E363*SUMIF('Daily Log'!$H$18:$H$1017,$B363,'Daily Log'!$I$18:$I$1017),0)","v":0},{"$f":"IFERROR($E363*SUMIF('Daily Log'!$K$18:$K$1017,$B363,'Daily Log'!$L$18:$L$1017),0)","v":0},{"$f":"IFERROR($E363*SUMIF('Daily Log'!$N$18:$N$1017,$B363,'Daily Log'!$O$18:$O$1017),0)","v":0},{"$f":"IFERROR($E363*SUMIF('Daily Log'!$Q$18:$Q$1017,$B363,'Daily Log'!$R$18:$R$1017),0)","v":0},{"$f":"IFERROR($E363*SUMIF('Daily Log'!$T$18:$T$1017,$B363,'Daily Log'!$U$18:$U$1017),0)","v":0},{"$f":"IFERROR($E363*SUMIF('Daily Log'!$W$18:$W$1017,$B363,'Daily Log'!$X$18:$X$1017),0)","v":0},{"$f":"IFERROR($E363*SUMIF('Daily Log'!$Z$18:$Z$1017,$B363,'Daily Log'!$AA$18:$AA$1017),0)","v":0},{"$f":"IFERROR($E363*SUMIF('Daily Log'!$AC$18:$AC$1017,$B363,'Daily Log'!$AD$18:$AD$1017),0)","v":0},{"$f":"IFERROR($E363*SUMIF('Daily Log'!$AF$18:$AF$1017,$B363,'Daily Log'!$AG$18:$AG$1017),0)","v":0},{"$f":"IFERROR($E363*SUMIF('Daily Log'!$AI$18:$AI$1017,$B363,'Daily Log'!$AJ$18:$AJ$1017),0)","v":0},{"$f":"IFERROR($E363*SUMIF('Daily Log'!$AL$18:$AL$1017,$B363,'Daily Log'!$AM$18:$AM$1017),0)","v":0},{"$f":"IFERROR($E363*SUMIF('Daily Log'!$AO$18:$AO$1017,$B363,'Daily Log'!$AP$18:$AP$1017),0)","v":0},{"$f":"IFERROR($E363*SUMIF('Daily Log'!$AR$18:$AR$1017,$B363,'Daily Log'!$AS$18:$AS$1017),0)","v":0},{"$f":"IFERROR($E363*SUMIF('Daily Log'!$AU$18:$AU$1017,$B363,'Daily Log'!$AV$18:$AV$1017),0)","v":0},{"$f":"IFERROR($E363*SUMIF('Daily Log'!$AX$18:$AX$1017,$B363,'Daily Log'!$AY$18:$AY$1017),0)","v":0},{"$f":"IFERROR($E363*SUMIF('Daily Log'!$BA$18:$BA$1017,$B363,'Daily Log'!$BB$18:$BB$1017),0)","v":0},{"$f":"IFERROR($E363*SUMIF('Daily Log'!$BD$18:$BD$1017,$B363,'Daily Log'!$BE$18:$BE$1017),0)","v":0},{"$f":"IFERROR($E363*SUMIF('Daily Log'!$BG$18:$BG$1017,$B363,'Daily Log'!$BH$18:$BH$1017),0)","v":0},{"$f":"IFERROR($E363*SUMIF('Daily Log'!$BJ$18:$BJ$1017,$B363,'Daily Log'!$BK$18:$BK$1017),0)","v":0},{"$f":"IFERROR($E363*SUMIF('Daily Log'!$BM$18:$BM$1017,$B363,'Daily Log'!$BN$18:$BN$1017),0)","v":0},{"$f":"IFERROR($E363*SUMIF('Daily Log'!$BP$18:$BP$1017,$B363,'Daily Log'!$BQ$18:$BQ$1017),0)","v":0},{"$f":"IFERROR($E363*SUMIF('Daily Log'!$BS$18:$BS$1017,$B363,'Daily Log'!$BT$18:$BT$1017),0)","v":0},{"$f":"IFERROR($E363*SUMIF('Daily Log'!$BV$18:$BV$1017,$B363,'Daily Log'!$BW$18:$BW$1017),0)","v":0},{"$f":"IFERROR($E363*SUMIF('Daily Log'!$BY$18:$BY$1017,$B363,'Daily Log'!$BZ$18:$BZ$1017),0)","v":0},{"$f":"IFERROR($E363*SUMIF('Daily Log'!$CB$18:$CB$1017,$B363,'Daily Log'!$CC$18:$CC$1017),0)","v":0},{"$f":"IFERROR($E363*SUMIF('Daily Log'!$CE$18:$CE$1017,$B363,'Daily Log'!$CF$18:$CF$1017),0)","v":0},{"$f":"IFERROR($E363*SUMIF('Daily Log'!$CH$18:$CH$1017,$B363,'Daily Log'!$CI$18:$CI$1017),0)","v":0},{"$f":"IFERROR($E363*SUMIF('Daily Log'!$CK$18:$CK$1017,$B363,'Daily Log'!$CL$18:$CL$1017),0)","v":0},{"$f":"IFERROR($E363*SUMIF('Daily Log'!$CN$18:$CN$1017,$B363,'Daily Log'!$CO$18:$CO$1017),0)","v":0}]
[null,null,null,null,null,0,{"$f":"IFERROR($E364*SUMIF('Daily Log'!$B$18:$B$1017,$B364,'Daily Log'!$C$18:$C$1017),0)","v":0},{"$f":"IFERROR($E364*SUMIF('Daily Log'!$E$18:$E$1017,$B364,'Daily Log'!$F$18:$F$1017),0)","v":0},{"$f":"IFERROR($E364*SUMIF('Daily Log'!$H$18:$H$1017,$B364,'Daily Log'!$I$18:$I$1017),0)","v":0},{"$f":"IFERROR($E364*SUMIF('Daily Log'!$K$18:$K$1017,$B364,'Daily Log'!$L$18:$L$1017),0)","v":0},{"$f":"IFERROR($E364*SUMIF('Daily Log'!$N$18:$N$1017,$B364,'Daily Log'!$O$18:$O$1017),0)","v":0},{"$f":"IFERROR($E364*SUMIF('Daily Log'!$Q$18:$Q$1017,$B364,'Daily Log'!$R$18:$R$1017),0)","v":0},{"$f":"IFERROR($E364*SUMIF('Daily Log'!$T$18:$T$1017,$B364,'Daily Log'!$U$18:$U$1017),0)","v":0},{"$f":"IFERROR($E364*SUMIF('Daily Log'!$W$18:$W$1017,$B364,'Daily Log'!$X$18:$X$1017),0)","v":0},{"$f":"IFERROR($E364*SUMIF('Daily Log'!$Z$18:$Z$1017,$B364,'Daily Log'!$AA$18:$AA$1017),0)","v":0},{"$f":"IFERROR($E364*SUMIF('Daily Log'!$AC$18:$AC$1017,$B364,'Daily Log'!$AD$18:$AD$1017),0)","v":0},{"$f":"IFERROR($E364*SUMIF('Daily Log'!$AF$18:$AF$1017,$B364,'Daily Log'!$AG$18:$AG$1017),0)","v":0},{"$f":"IFERROR($E364*SUMIF('Daily Log'!$AI$18:$AI$1017,$B364,'Daily Log'!$AJ$18:$AJ$1017),0)","v":0},{"$f":"IFERROR($E364*SUMIF('Daily Log'!$AL$18:$AL$1017,$B364,'Daily Log'!$AM$18:$AM$1017),0)","v":0},{"$f":"IFERROR($E364*SUMIF('Daily Log'!$AO$18:$AO$1017,$B364,'Daily Log'!$AP$18:$AP$1017),0)","v":0},{"$f":"IFERROR($E364*SUMIF('Daily Log'!$AR$18:$AR$1017,$B364,'Daily Log'!$AS$18:$AS$1017),0)","v":0},{"$f":"IFERROR($E364*SUMIF('Daily Log'!$AU$18:$AU$1017,$B364,'Daily Log'!$AV$18:$AV$1017),0)","v":0},{"$f":"IFERROR($E364*SUMIF('Daily Log'!$AX$18:$AX$1017,$B364,'Daily Log'!$AY$18:$AY$1017),0)","v":0},{"$f":"IFERROR($E364*SUMIF('Daily Log'!$BA$18:$BA$1017,$B364,'Daily Log'!$BB$18:$BB$1017),0)","v":0},{"$f":"IFERROR($E364*SUMIF('Daily Log'!$BD$18:$BD$1017,$B364,'Daily Log'!$BE$18:$BE$1017),0)","v":0},{"$f":"IFERROR($E364*SUMIF('Daily Log'!$BG$18:$BG$1017,$B364,'Daily Log'!$BH$18:$BH$1017),0)","v":0},{"$f":"IFERROR($E364*SUMIF('Daily Log'!$BJ$18:$BJ$1017,$B364,'Daily Log'!$BK$18:$BK$1017),0)","v":0},{"$f":"IFERROR($E364*SUMIF('Daily Log'!$BM$18:$BM$1017,$B364,'Daily Log'!$BN$18:$BN$1017),0)","v":0},{"$f":"IFERROR($E364*SUMIF('Daily Log'!$BP$18:$BP$1017,$B364,'Daily Log'!$BQ$18:$BQ$1017),0)","v":0},{"$f":"IFERROR($E364*SUMIF('Daily Log'!$BS$18:$BS$1017,$B364,'Daily Log'!$BT$18:$BT$1017),0)","v":0},{"$f":"IFERROR($E364*SUMIF('Daily Log'!$BV$18:$BV$1017,$B364,'Daily Log'!$BW$18:$BW$1017),0)","v":0},{"$f":"IFERROR($E364*SUMIF('Daily Log'!$BY$18:$BY$1017,$B364,'Daily Log'!$BZ$18:$BZ$1017),0)","v":0},{"$f":"IFERROR($E364*SUMIF('Daily Log'!$CB$18:$CB$1017,$B364,'Daily Log'!$CC$18:$CC$1017),0)","v":0},{"$f":"IFERROR($E364*SUMIF('Daily Log'!$CE$18:$CE$1017,$B364,'Daily Log'!$CF$18:$CF$1017),0)","v":0},{"$f":"IFERROR($E364*SUMIF('Daily Log'!$CH$18:$CH$1017,$B364,'Daily Log'!$CI$18:$CI$1017),0)","v":0},{"$f":"IFERROR($E364*SUMIF('Daily Log'!$CK$18:$CK$1017,$B364,'Daily Log'!$CL$18:$CL$1017),0)","v":0},{"$f":"IFERROR($E364*SUMIF('Daily Log'!$CN$18:$CN$1017,$B364,'Daily Log'!$CO$18:$CO$1017),0)","v":0}]
[null,null,null,null,null,0,{"$f":"IFERROR($E365*SUMIF('Daily Log'!$B$18:$B$1017,$B365,'Daily Log'!$C$18:$C$1017),0)","v":0},{"$f":"IFERROR($E365*SUMIF('Daily Log'!$E$18:$E$1017,$B365,'Daily Log'!$F$18:$F$1017),0)","v":0},{"$f":"IFERROR($E365*SUMIF('Daily Log'!$H$18:$H$1017,$B365,'Daily Log'!$I$18:$I$1017),0)","v":0},{"$f":"IFERROR($E365*SUMIF('Daily Log'!$K$18:$K$1017,$B365,'Daily Log'!$L$18:$L$1017),0)","v":0},{"$f":"IFERROR($E365*SUMIF('Daily Log'!$N$18:$N$1017,$B365,'Daily Log'!$O$18:$O$1017),0)","v":0},{"$f":"IFERROR($E365*SUMIF('Daily Log'!$Q$18:$Q$1017,$B365,'Daily Log'!$R$18:$R$1017),0)","v":0},{"$f":"IFERROR($E365*SUMIF('Daily Log'!$T$18:$T$1017,$B365,'Daily Log'!$U$18:$U$1017),0)","v":0},{"$f":"IFERROR($E365*SUMIF('Daily Log'!$W$18:$W$1017,$B365,'Daily Log'!$X$18:$X$1017),0)","v":0},{"$f":"IFERROR($E365*SUMIF('Daily Log'!$Z$18:$Z$1017,$B365,'Daily Log'!$AA$18:$AA$1017),0)","v":0},{"$f":"IFERROR($E365*SUMIF('Daily Log'!$AC$18:$AC$1017,$B365,'Daily Log'!$AD$18:$AD$1017),0)","v":0},{"$f":"IFERROR($E365*SUMIF('Daily Log'!$AF$18:$AF$1017,$B365,'Daily Log'!$AG$18:$AG$1017),0)","v":0},{"$f":"IFERROR($E365*SUMIF('Daily Log'!$AI$18:$AI$1017,$B365,'Daily Log'!$AJ$18:$AJ$1017),0)","v":0},{"$f":"IFERROR($E365*SUMIF('Daily Log'!$AL$18:$AL$1017,$B365,'Daily Log'!$AM$18:$AM$1017),0)","v":0},{"$f":"IFERROR($E365*SUMIF('Daily Log'!$AO$18:$AO$1017,$B365,'Daily Log'!$AP$18:$AP$1017),0)","v":0},{"$f":"IFERROR($E365*SUMIF('Daily Log'!$AR$18:$AR$1017,$B365,'Daily Log'!$AS$18:$AS$1017),0)","v":0},{"$f":"IFERROR($E365*SUMIF('Daily Log'!$AU$18:$AU$1017,$B365,'Daily Log'!$AV$18:$AV$1017),0)","v":0},{"$f":"IFERROR($E365*SUMIF('Daily Log'!$AX$18:$AX$1017,$B365,'Daily Log'!$AY$18:$AY$1017),0)","v":0},{"$f":"IFERROR($E365*SUMIF('Daily Log'!$BA$18:$BA$1017,$B365,'Daily Log'!$BB$18:$BB$1017),0)","v":0},{"$f":"IFERROR($E365*SUMIF('Daily Log'!$BD$18:$BD$1017,$B365,'Daily Log'!$BE$18:$BE$1017),0)","v":0},{"$f":"IFERROR($E365*SUMIF('Daily Log'!$BG$18:$BG$1017,$B365,'Daily Log'!$BH$18:$BH$1017),0)","v":0},{"$f":"IFERROR($E365*SUMIF('Daily Log'!$BJ$18:$BJ$1017,$B365,'Daily Log'!$BK$18:$BK$1017),0)","v":0},{"$f":"IFERROR($E365*SUMIF('Daily Log'!$BM$18:$BM$1017,$B365,'Daily Log'!$BN$18:$BN$1017),0)","v":0},{"$f":"IFERROR($E365*SUMIF('Daily Log'!$BP$18:$BP$1017,$B365,'Daily Log'!$BQ$18:$BQ$1017),0)","v":0},{"$f":"IFERROR($E365*SUMIF('Daily Log'!$BS$18:$BS$1017,$B365,'Daily Log'!$BT$18:$BT$1017),0)","v":0},{"$f":"IFERROR($E365*SUMIF('Daily Log'!$BV$18:$BV$1017,$B365,'Daily Log'!$BW$18:$BW$1017),0)","v":0},{"$f":"IFERROR($E365*SUMIF('Daily Log'!$BY$18:$BY$1017,$B365,'Daily Log'!$BZ$18:$BZ$1017),0)","v":0},{"$f":"IFERROR($E365*SUMIF('Daily Log'!$CB$18:$CB$1017,$B365,'Daily Log'!$CC$18:$CC$1017),0)","v":0},{"$f":"IFERROR($E365*SUMIF('Daily Log'!$CE$18:$CE$1017,$B365,'Daily Log'!$CF$18:$CF$1017),0)","v":0},{"$f":"IFERROR($E365*SUMIF('Daily Log'!$CH$18:$CH$1017,$B365,'Daily Log'!$CI$18:$CI$1017),0)","v":0},{"$f":"IFERROR($E365*SUMIF('Daily Log'!$CK$18:$CK$1017,$B365,'Daily Log'!$CL$18:$CL$1017),0)","v":0},{"$f":"IFERROR($E365*SUMIF('Daily Log'!$CN$18:$CN$1017,$B365,'Daily Log'!$CO$18:$CO$1017),0)","v":0}]
[null,null,null,null,null,0,{"$f":"IFERROR($E366*SUMIF('Daily Log'!$B$18:$B$1017,$B366,'Daily Log'!$C$18:$C$1017),0)","v":0},{"$f":"IFERROR($E366*SUMIF('Daily Log'!$E$18:$E$1017,$B366,'Daily Log'!$F$18:$F$1017),0)","v":0},{"$f":"IFERROR($E366*SUMIF('Daily Log'!$H$18:$H$1017,$B366,'Daily Log'!$I$18:$I$1017),0)","v":0},{"$f":"IFERROR($E366*SUMIF('Daily Log'!$K$18:$K$1017,$B366,'Daily Log'!$L$18:$L$1017),0)","v":0},{"$f":"IFERROR($E366*SUMIF('Daily Log'!$N$18:$N$1017,$B366,'Daily Log'!$O$18:$O$1017),0)","v":0},{"$f":"IFERROR($E366*SUMIF('Daily Log'!$Q$18:$Q$1017,$B366,'Daily Log'!$R$18:$R$1017),0)","v":0},{"$f":"IFERROR($E366*SUMIF('Daily Log'!$T$18:$T$1017,$B366,'Daily Log'!$U$18:$U$1017),0)","v":0},{"$f":"IFERROR($E366*SUMIF('Daily Log'!$W$18:$W$1017,$B366,'Daily Log'!$X$18:$X$1017),0)","v":0},{"$f":"IFERROR($E366*SUMIF('Daily Log'!$Z$18:$Z$1017,$B366,'Daily Log'!$AA$18:$AA$1017),0)","v":0},{"$f":"IFERROR($E366*SUMIF('Daily Log'!$AC$18:$AC$1017,$B366,'Daily Log'!$AD$18:$AD$1017),0)","v":0},{"$f":"IFERROR($E366*SUMIF('Daily Log'!$AF$18:$AF$1017,$B366,'Daily Log'!$AG$18:$AG$1017),0)","v":0},{"$f":"IFERROR($E366*SUMIF('Daily Log'!$AI$18:$AI$1017,$B366,'Daily Log'!$AJ$18:$AJ$1017),0)","v":0},{"$f":"IFERROR($E366*SUMIF('Daily Log'!$AL$18:$AL$1017,$B366,'Daily Log'!$AM$18:$AM$1017),0)","v":0},{"$f":"IFERROR($E366*SUMIF('Daily Log'!$AO$18:$AO$1017,$B366,'Daily Log'!$AP$18:$AP$1017),0)","v":0},{"$f":"IFERROR($E366*SUMIF('Daily Log'!$AR$18:$AR$1017,$B366,'Daily Log'!$AS$18:$AS$1017),0)","v":0},{"$f":"IFERROR($E366*SUMIF('Daily Log'!$AU$18:$AU$1017,$B366,'Daily Log'!$AV$18:$AV$1017),0)","v":0},{"$f":"IFERROR($E366*SUMIF('Daily Log'!$AX$18:$AX$1017,$B366,'Daily Log'!$AY$18:$AY$1017),0)","v":0},{"$f":"IFERROR($E366*SUMIF('Daily Log'!$BA$18:$BA$1017,$B366,'Daily Log'!$BB$18:$BB$1017),0)","v":0},{"$f":"IFERROR($E366*SUMIF('Daily Log'!$BD$18:$BD$1017,$B366,'Daily Log'!$BE$18:$BE$1017),0)","v":0},{"$f":"IFERROR($E366*SUMIF('Daily Log'!$BG$18:$BG$1017,$B366,'Daily Log'!$BH$18:$BH$1017),0)","v":0},{"$f":"IFERROR($E366*SUMIF('Daily Log'!$BJ$18:$BJ$1017,$B366,'Daily Log'!$BK$18:$BK$1017),0)","v":0},{"$f":"IFERROR($E366*SUMIF('Daily Log'!$BM$18:$BM$1017,$B366,'Daily Log'!$BN$18:$BN$1017),0)","v":0},{"$f":"IFERROR($E366*SUMIF('Daily Log'!$BP$18:$BP$1017,$B366,'Daily Log'!$BQ$18:$BQ$1017),0)","v":0},{"$f":"IFERROR($E366*SUMIF('Daily Log'!$BS$18:$BS$1017,$B366,'Daily Log'!$BT$18:$BT$1017),0)","v":0},{"$f":"IFERROR($E366*SUMIF('Daily Log'!$BV$18:$BV$1017,$B366,'Daily Log'!$BW$18:$BW$1017),0)","v":0},{"$f":"IFERROR($E366*SUMIF('Daily Log'!$BY$18:$BY$1017,$B366,'Daily Log'!$BZ$18:$BZ$1017),0)","v":0},{"$f":"IFERROR($E366*SUMIF('Daily Log'!$CB$18:$CB$1017,$B366,'Daily Log'!$CC$18:$CC$1017),0)","v":0},{"$f":"IFERROR($E366*SUMIF('Daily Log'!$CE$18:$CE$1017,$B366,'Daily Log'!$CF$18:$CF$1017),0)","v":0},{"$f":"IFERROR($E366*SUMIF('Daily Log'!$CH$18:$CH$1017,$B366,'Daily Log'!$CI$18:$CI$1017),0)","v":0},{"$f":"IFERROR($E366*SUMIF('Daily Log'!$CK$18:$CK$1017,$B366,'Daily Log'!$CL$18:$CL$1017),0)","v":0},{"$f":"IFERROR($E366*SUMIF('Daily Log'!$CN$18:$CN$1017,$B366,'Daily Log'!$CO$18:$CO$1017),0)","v":0}]
[null,null,null,null,null,0,{"$f":"IFERROR($E367*SUMIF('Daily Log'!$B$18:$B$1017,$B367,'Daily Log'!$C$18:$C$1017),0)","v":0},{"$f":"IFERROR($E367*SUMIF('Daily Log'!$E$18:$E$1017,$B367,'Daily Log'!$F$18:$F$1017),0)","v":0},{"$f":"IFERROR($E367*SUMIF('Daily Log'!$H$18:$H$1017,$B367,'Daily Log'!$I$18:$I$1017),0)","v":0},{"$f":"IFERROR($E367*SUMIF('Daily Log'!$K$18:$K$1017,$B367,'Daily Log'!$L$18:$L$1017),0)","v":0},{"$f":"IFERROR($E367*SUMIF('Daily Log'!$N$18:$N$1017,$B367,'Daily Log'!$O$18:$O$1017),0)","v":0},{"$f":"IFERROR($E367*SUMIF('Daily Log'!$Q$18:$Q$1017,$B367,'Daily Log'!$R$18:$R$1017),0)","v":0},{"$f":"IFERROR($E367*SUMIF('Daily Log'!$T$18:$T$1017,$B367,'Daily Log'!$U$18:$U$1017),0)","v":0},{"$f":"IFERROR($E367*SUMIF('Daily Log'!$W$18:$W$1017,$B367,'Daily Log'!$X$18:$X$1017),0)","v":0},{"$f":"IFERROR($E367*SUMIF('Daily Log'!$Z$18:$Z$1017,$B367,'Daily Log'!$AA$18:$AA$1017),0)","v":0},{"$f":"IFERROR($E367*SUMIF('Daily Log'!$AC$18:$AC$1017,$B367,'Daily Log'!$AD$18:$AD$1017),0)","v":0},{"$f":"IFERROR($E367*SUMIF('Daily Log'!$AF$18:$AF$1017,$B367,'Daily Log'!$AG$18:$AG$1017),0)","v":0},{"$f":"IFERROR($E367*SUMIF('Daily Log'!$AI$18:$AI$1017,$B367,'Daily Log'!$AJ$18:$AJ$1017),0)","v":0},{"$f":"IFERROR($E367*SUMIF('Daily Log'!$AL$18:$AL$1017,$B367,'Daily Log'!$AM$18:$AM$1017),0)","v":0},{"$f":"IFERROR($E367*SUMIF('Daily Log'!$AO$18:$AO$1017,$B367,'Daily Log'!$AP$18:$AP$1017),0)","v":0},{"$f":"IFERROR($E367*SUMIF('Daily Log'!$AR$18:$AR$1017,$B367,'Daily Log'!$AS$18:$AS$1017),0)","v":0},{"$f":"IFERROR($E367*SUMIF('Daily Log'!$AU$18:$AU$1017,$B367,'Daily Log'!$AV$18:$AV$1017),0)","v":0},{"$f":"IFERROR($E367*SUMIF('Daily Log'!$AX$18:$AX$1017,$B367,'Daily Log'!$AY$18:$AY$1017),0)","v":0},{"$f":"IFERROR($E367*SUMIF('Daily Log'!$BA$18:$BA$1017,$B367,'Daily Log'!$BB$18:$BB$1017),0)","v":0},{"$f":"IFERROR($E367*SUMIF('Daily Log'!$BD$18:$BD$1017,$B367,'Daily Log'!$BE$18:$BE$1017),0)","v":0},{"$f":"IFERROR($E367*SUMIF('Daily Log'!$BG$18:$BG$1017,$B367,'Daily Log'!$BH$18:$BH$1017),0)","v":0},{"$f":"IFERROR($E367*SUMIF('Daily Log'!$BJ$18:$BJ$1017,$B367,'Daily Log'!$BK$18:$BK$1017),0)","v":0},{"$f":"IFERROR($E367*SUMIF('Daily Log'!$BM$18:$BM$1017,$B367,'Daily Log'!$BN$18:$BN$1017),0)","v":0},{"$f":"IFERROR($E367*SUMIF('Daily Log'!$BP$18:$BP$1017,$B367,'Daily Log'!$BQ$18:$BQ$1017),0)","v":0},{"$f":"IFERROR($E367*SUMIF('Daily Log'!$BS$18:$BS$1017,$B367,'Daily Log'!$BT$18:$BT$1017),0)","v":0},{"$f":"IFERROR($E367*SUMIF('Daily Log'!$BV$18:$BV$1017,$B367,'Daily Log'!$BW$18:$BW$1017),0)","v":0},{"$f":"IFERROR($E367*SUMIF('Daily Log'!$BY$18:$BY$1017,$B367,'Daily Log'!$BZ$18:$BZ$1017),0)","v":0},{"$f":"IFERROR($E367*SUMIF('Daily Log'!$CB$18:$CB$1017,$B367,'Daily Log'!$CC$18:$CC$1017),0)","v":0},{"$f":"IFERROR($E367*SUMIF('Daily Log'!$CE$18:$CE$1017,$B367,'Daily Log'!$CF$18:$CF$1017),0)","v":0},{"$f":"IFERROR($E367*SUMIF('Daily Log'!$CH$18:$CH$1017,$B367,'Daily Log'!$CI$18:$CI$1017),0)","v":0},{"$f":"IFERROR($E367*SUMIF('Daily Log'!$CK$18:$CK$1017,$B367,'Daily Log'!$CL$18:$CL$1017),0)","v":0},{"$f":"IFERROR($E367*SUMIF('Daily Log'!$CN$18:$CN$1017,$B367,'Daily Log'!$CO$18:$CO$1017),0)","v":0}]
[]
[null,"Copyright © 2013 by Oracle Symphony Sdn Bhd"]

{"sheet":"Daily Log","index":2,"n_rows":1019,"n_cols":96,"rows_kept":1019,"cut":false,"hidden":false,"merged":[[5,2,5,4],[7,2,7,4],[9,2,9,4]]}
[]
[]
[null,null,"DAILY LOG OF PRODUCT SALES"]
[]
[]
[null,"OUTLET",{"$f":"Summary!C6","v":"TSU"}]
[]
[null,"YEAR",{"$f":"Summary!C8","v":"2013"}]
[]
[null,"MONTH",{"$f":"Summary!C10","v":"NOVEMBER"}]
[]
[]
[]
[{"$f":"IFERROR(INDEX($CR$18:$CR$48,MAX($B$17:$CO$17),1),\"\")","v":0},{"$f":"\"DATE  \"&TEXT(Summary!G27,\"DD / MM / YYYY\")","v":"DATE  01 / 11 / 2013"},null,null,{"$f":"\"DATE  \"&TEXT(Summary!H27,\"DD / MM / YYYY\")","v":"DATE  02 / 11 / 2013"},null,null,{"$f":"\"DATE  \"&TEXT(Summary!I27,\"DD / MM / YYYY\")","v":"DATE  03 / 11 / 2013"},null,null,{"$f":"\"DATE  \"&TEXT(Summary!J27,\"DD / MM / YYYY\")","v":"DATE  04 / 11 / 2013"},null,null,{"$f":"\"DATE  \"&TEXT(Summary!K27,\"DD / MM / YYYY\")","v":"DATE  05 / 11 / 2013"},null,null,{"$f":"\"DATE  \"&TEXT(Summary!L27,\"DD / MM / YYYY\")","v":"DATE  06 / 11 / 2013"},null,null,{"$f":"\"DATE  \"&TEXT(Summary!M27,\"DD / MM / YYYY\")","v":"DATE  07 / 11 / 2013"},null,null,{"$f":"\"DATE  \"&TEXT(Summary!N27,\"DD / MM / YYYY\")","v":"DATE  08 / 11 / 2013"},null,null,{"$f":"\"DATE  \"&TEXT(Summary!O27,\"DD / MM / YYYY\")","v":"DATE  09 / 11 / 2013"},null,null,{"$f":"\"DATE  \"&TEXT(Summary!P27,\"DD / MM / YYYY\")","v":"DATE  10 / 11 / 2013"},null,null,{"$f":"\"DATE  \"&TEXT(Summary!Q27,\"DD / MM / YYYY\")","v":"DATE  11 / 11 / 2013"},null,null,{"$f":"\"DATE  \"&TEXT(Summary!R27,\"DD / MM / YYYY\")","v":"DATE  12 / 11 / 2013"},null,null,{"$f":"\"DATE  \"&TEXT(Summary!S27,\"DD / MM / YYYY\")","v":"DATE  13 / 11 / 2013"},null,null,{"$f":"\"DATE  \"&TEXT(Summary!T27,\"DD / MM / YYYY\")","v":"DATE  14 / 11 / 2013"},null,null,{"$f":"\"DATE  \"&TEXT(Summary!U27,\"DD / MM / YYYY\")","v":"DATE  15 / 11 / 2013"},null,null,{"$f":"\"DATE  \"&TEXT(Summary!V27,\"DD / MM / YYYY\")","v":"DATE  16 / 11 / 2013"},null,null,{"$f":"\"DATE  \"&TEXT(Summary!W27,\"DD / MM / YYYY\")","v":"DATE  17 / 11 / 2013"},null,null,{"$f":"\"DATE  \"&TEXT(Summary!X27,\"DD / MM / YYYY\")","v":"DATE  18 / 11 / 2013"},null,null,{"$f":"\"DATE  \"&TEXT(Summary!Y27,\"DD / MM / YYYY\")","v":"DATE  19 / 11 / 2013"},null,null,{"$f":"\"DATE  \"&TEXT(Summary!Z27,\"DD / MM / YYYY\")","v":"DATE  20 / 11 / 2013"},null,null,{"$f":"\"DATE  \"&TEXT(Summary!AA27,\"DD / MM / YYYY\")","v":"DATE  21 / 11 / 2013"},null,null,{"$f":"\"DATE  \"&TEXT(Summary!AB27,\"DD / MM / YYYY\")","v":"DATE  22 / 11 / 2013"},null,null,{"$f":"\"DATE  \"&TEXT(Summary!AC27,\"DD / MM / YYYY\")","v":"DATE  23 / 11 / 2013"},null,null,{"$f":"\"DATE  \"&TEXT(Summary!AD27,\"DD / MM / YYYY\")","v":"DATE  24 / 11 / 2013"},null,null,{"$f":"\"DATE  \"&TEXT(Summary!AE27,\"DD / MM / YYYY\")","v":"DATE  25 / 11 / 2013"},null,null,{"$f":"\"DATE  \"&TEXT(Summary!AF27,\"DD / MM / YYYY\")","v":"DATE  26 / 11 / 2013"},null,null,{"$f":"\"DATE  \"&TEXT(Summary!AG27,\"DD / MM / YYYY\")","v":"DATE  27 / 11 / 2013"},null,null,{"$f":"\"DATE  \"&TEXT(Summary!AH27,\"DD / MM / YYYY\")","v":"DATE  28 / 11 / 2013"},null,null,{"$f":"\"DATE  \"&TEXT(Summary!AI27,\"DD / MM / YYYY\")","v":"DATE  29 / 11 / 2013"},null,null,{"$f":"\"DATE  \"&TEXT(Summary!AJ27,\"DD / MM / YYYY\")","v":"DATE  30 / 11 / 2013"},null,null,{"$f":"\"DATE  \"&TEXT(Summary!AK27,\"DD / MM / YYYY\")","v":"DATE  "},null,null,"COLUMN"]
[]
[null,"PRODUCT","QUANTITY",null,"PRODUCT","QUANTITY",null,"PRODUCT","QUANTITY",null,"PRODUCT","QUANTITY",null,"PRODUCT","QUANTITY",null,"PRODUCT","QUANTITY",null,"PRODUCT","QUANTITY",null,"PRODUCT","QUANTITY",null,"PRODUCT","QUANTITY",null,"PRODUCT","QUANTITY",null,"PRODUCT","QUANTITY",null,"PRODUCT","QUANTITY",null,"PRODUCT","QUANTITY",null,"PRODUCT","QUANTITY",null,"PRODUCT","QUANTITY",null,"PRODUCT","QUANTITY",null,"PRODUCT","QUANTITY",null,"PRODUCT","QUANTITY",null,"PRODUCT","QUANTITY",null,"PRODUCT","QUANTITY",null,"PRODUCT","QUANTITY",null,"PRODUCT","QUANTITY",null,"PRODUCT","QUANTITY",null,"PRODUCT","QUANTITY",null,"PRODUCT","QUANTITY",null,"PRODUCT","QUANTITY",null,"PRODUCT","QUANTITY",null,"PRODUCT","QUANTITY",null,"PRODUCT","QUANTITY",null,"PRODUCT","QUANTITY",null,"PRODUCT","QUANTITY",null,"MONTH","COLUMN"]
[null,{"$f":"IF(B18<>\"\",1,0)","v":0},null,null,{"$f":"IF(E18<>\"\",2,0)","v":0},null,null,{"$f":"IF(H18<>\"\",3,0)","v":0},null,null,{"$f":"IF(K18<>\"\",4,0)","v":0},null,null,{"$f":"IF(N18<>\"\",5,0)","v":0},null,null,{"$f":"IF(Q18<>\"\",6,0)","v":0},null,null,{"$f":"IF(T18<>\"\",7,0)","v":0},null,null,{"$f":"IF(W18<>\"\",8,0)","v":0},null,null,{"$f":"IF(Z18<>\"\",9,0)","v":0},null,null,{"$f":"IF(AC18<>\"\",10,0)","v":0},null,null,{"$f":"IF(AF18<>\"\",11,0)","v":0},null,null,{"$f":"IF(AI18<>\"\",12,0)","v":0},null,null,{"$f":"IF(AL18<>\"\",13,0)","v":0},null,null,{"$f":"IF(AO18<>\"\",14,0)","v":0},null,null,{"$f":"IF(AR18<>\"\",15,0)","v":0},null,null,{"$f":"IF(AU18<>\"\",16,0)","v":0},null,null,{"$f":"IF(AX18<>\"\",17,0)","v":0},null,null,{"$f":"IF(BA18<>\"\",18,0)","v":0},null,null,{"$f":"IF(BD18<>\"\",19,0)","v":0},null,null,{"$f":"IF(BG18<>\"\",20,0)","v":0},null,null,{"$f":"IF(BJ18<>\"\",21,0)","v":0},null,null,{"$f":"IF(BM18<>\"\",22,0)","v":0},null,null,{"$f":"IF(BP18<>\"\",23,0)","v":0},null,null,{"$f":"IF(BS18<>\"\",24,0)","v":0},null,null,{"$f":"IF(BV18<>\"\",25,0)","v":0},null,null,{"$f":"IF(BY18<>\"\",26,0)","v":0},null,null,{"$f":"IF(CB18<>\"\",27,0)","v":0},null,null,{"$f":"IF(CE18<>\"\",28,0)","v":0},null,null,{"$f":"IF(CH18<>\"\",29,0)","v":0},null,null,{"$f":"IF(CK18<>\"\",30,0)","v":30},null,null,{"$f":"IF(CN18<>\"\",31,0)","v":0}]
[null,null,null,null,null,null,null,null,null,null,null,null,null,null,null,null,null,null,null,null,null,null,null,null,null,null,null,null,null,null,null,null,null,null,null,null,null,null,null,null,null,null,null,null,null,null,null,null,null,null,null,null,null,null,null,null,null,null,null,null,null,null,null,null,null,null,null,null,null,null,null,null,null,null,null,null,null,null,null,null,null,null,null,null,null,null,null,null,"AA02 1202:FREN FRIES",54]
[null,null,null,null,null,null,null,null,null,null,null,null,null,null,null,null,null,null,null,null,null,null,null,null,null,null,null,null,null,null,null,null,null,null,null,null,null,null,null,null,null,null,null,null,null,null,null,null,null,null,null,null,null,null,null,null,null,null,null,null,null,null,null,null,null,null,null,null,null,null,null,null,null,null,null,null,null,null,null,null,null,null,null,null,null,null,null,null,"AA04 1204:FSH BALL",4]
[null,null,null,null,null,null,null,null,null,null,null,null,null,null,null,null,null,null,null,null,null,null,null,null,null,null,null,null,null,null,null,null,null,null,null,null,null,null,null,null,null,null,null,null,null,null,null,null,null,null,null,null,null,null,null,null,null,null,null,null,null,null,null,null,null,null,null,null,null,null,null,null,null,null,null,null,null,null,null,null,null,null,null,null,null,null,null,null,"AA06 1206:SPRING RL"]
[null,null,null,null,null,null,null,null,null,null,null,null,null,null,null,null,null,null,null,null,null,null,null,null,null,null,null,null,null,null,null,null,null,null,null,null,null,null,null,null,null,null,null,null,null,null,null,null,null,null,null,null,null,null,null,null,null,null,null,null,null,null,null,null,null,null,null,null,null,null,null,null,null,null,null,null,null,null,null,null,null,null,null,null,null,null,null,null,"AA07 1207:SAUSG",5]
[null,null,null,null,null,null,null,null,null,null,null,null,null,null,null,null,null,null,null,null,null,null,null,null,null,null,null,null,null,null,null,null,null,null,null,null,null,null,null,null,null,null,null,null,null,null,null,null,null,null,null,null,null,null,null,null,null,null,null,null,null,null,null,null,null,null,null,null,null,null,null,null,null,null,null,null,null,null,null,null,null,null,null,null,null,null,null,null,"AA09 1209:SF TF",11]
[null,null,null,null,null,null,null,null,null,null,null,null,null,null,null,null,null,null,null,null,null,null,null,null,null,null,null,null,null,null,null,null,null,null,null,null,null,null,null,null,null,null,null,null,null,null,null,null,null,null,null,null,null,null,null,null,null,null,null,null,null,null,null,null,null,null,null,null,null,null,null,null,null,null,null,null,null,null,null,null,null,null,null,null,null,null,null,null,"AA10 1210:SALAD RL",4]
[null,null,null,null,null,null,null,null,null,null,null,null,null,null,null,null,null,null,null,null,null,null,null,null,null,null,null,null,null,null,null,null,null,null,null,null,null,null,null,null,null,null,null,null,null,null,null,null,null,null,null,null,null,null,null,null,null,null,null,null,null,null,null,null,null,null,null,null,null,null,null,null,null,null,null,null,null,null,null,null,null,null,null,null,null,null,null,null,"AA11 1211:BBQ CHK",4]
[null,null,null,null,null,null,null,null,null,null,null,null,null,null,null,null,null,null,null,null,null,null,null,null,null,null,null,null,null,null,null,null,null,null,null,null,null,null,null,null,null,null,null,null,null,null,null,null,null,null,null,null,null,null,null,null,null,null,null,null,null,null,null,null,null,null,null,null,null,null,null,null,null,null,null,null,null,null,null,null,null,null,null,null,null,null,null,null,"AA32 1302:NUGGET",26]
[null,null,null,null,null,null,null,null,null,null,null,null,null,null,null,null,null,null,null,null,null,null,null,null,null,null,null,null,null,null,null,null,null,null,null,null,null,null,null,null,null,null,null,null,null,null,null,null,null,null,null,null,null,null,null,null,null,null,null,null,null,null,null,null,null,null,null,null,null,null,null,null,null,null,null,null,null,null,null,null,null,null,null,null,null,null,null,null,"AA33 1303:CHK WING",29]
[null,null,null,null,null,null,null,null,null,null,null,null,null,null,null,null,null,null,null,null,null,null,null,null,null,null,null,null,null,null,null,null,null,null,null,null,null,null,null,null,null,null,null,null,null,null,null,null,null,null,null,null,null,null,null,null,null,null,null,null,null,null,null,null,null,null,null,null,null,null,null,null,null,null,null,null,null,null,null,null,null,null,null,null,null,null,null,null,"AA38 1308:MC RING",6]
[null,null,null,null,null,null,null,null,null,null,null,null,null,null,null,null,null,null,null,null,null,null,null,null,null,null,null,null,null,null,null,null,null,null,null,null,null,null,null,null,null,null,null,null,null,null,null,null,null,null,null,null,null,null,null,null,null,null,null,null,null,null,null,null,null,null,null,null,null,null,null,null,null,null,null,null,null,null,null,null,null,null,null,null,null,null,null,null,"AA39 1309:MC S.FRIES",3]
[null,null,null,null,null,null,null,null,null,null,null,null,null,null,null,null,null,null,null,null,null,null,null,null,null,null,null,null,null,null,null,null,null,null,null,null,null,null,null,null,null,null,null,null,null,null,null,null,null,null,null,null,null,null,null,null,null,null,null,null,null,null,null,null,null,null,null,null,null,null,null,null,null,null,null,null,null,null,null,null,null,null,null,null,null,null,null,null,"AA40 1310:MC HP SMIL"]
[null,null,null,null,null,null,null,null,null,null,null,null,null,null,null,null,null,null,null,null,null,null,null,null,null,null,null,null,null,null,null,null,null,null,null,null,null,null,null,null,null,null,null,null,null,null,null,null,null,null,null,null,null,null,null,null,null,null,null,null,null,null,null,null,null,null,null,null,null,null,null,null,null,null,null,null,null,null,null,null,null,null,null,null,null,null,null,null,"AA41 1311:MC HSH BRW",1]
[null,null,null,null,null,null,null,null,null,null,null,null,null,null,null,null,null,null,null,null,null,null,null,null,null,null,null,null,null,null,null,null,null,null,null,null,null,null,null,null,null,null,null,null,null,null,null,null,null,null,null,null,null,null,null,null,null,null,null,null,null,null,null,null,null,null,null,null,null,null,null,null,null,null,null,null,null,null,null,null,null,null,null,null,null,null,null,null,"AF02 91202:FREN FRIES",28]
[null,null,null,null,null,null,null,null,null,null,null,null,null,null,null,null,null,null,null,null,null,null,null,null,null,null,null,null,null,null,null,null,null,null,null,null,null,null,null,null,null,null,null,null,null,null,null,null,null,null,null,null,null,null,null,null,null,null,null,null,null,null,null,null,null,null,null,null,null,null,null,null,null,null,null,null,null,null,null,null,null,null,null,null,null,null,null,null,"AF04 91204:FSH BALL",4]
[null,null,null,null,null,null,null,null,null,null,null,null,null,null,null,null,null,null,null,null,null,null,null,null,null,null,null,null,null,null,null,null,null,null,null,null,null,null,null,null,null,null,null,null,null,null,null,null,null,null,null,null,null,null,null,null,null,null,null,null,null,null,null,null,null,null,null,null,null,null,null,null,null,null,null,null,null,null,null,null,null,null,null,null,null,null,null,null,"AF06 91206:SPRING RL",5]
[null,null,null,null,null,null,null,null,null,null,null,null,null,null,null,null,null,null,null,null,null,null,null,null,null,null,null,null,null,null,null,null,null,null,null,null,null,null,null,null,null,null,null,null,null,null,null,null,null,null,null,null,null,null,null,null,null,null,null,null,null,null,null,null,null,null,null,null,null,null,null,null,null,null,null,null,null,null,null,null,null,null,null,null,null,null,null,null,"AF07 91207:SAUSG",5]
[null,null,null,null,null,null,null,null,null,null,null,null,null,null,null,null,null,null,null,null,null,null,null,null,null,null,null,null,null,null,null,null,null,null,null,null,null,null,null,null,null,null,null,null,null,null,null,null,null,null,null,null,null,null,null,null,null,null,null,null,null,null,null,null,null,null,null,null,null,null,null,null,null,null,null,null,null,null,null,null,null,null,null,null,null,null,null,null,"AF09 91209:SF TF",8]
[null,null,null,null,null,null,null,null,null,null,null,null,null,null,null,null,null,null,null,null,null,null,null,null,null,null,null,null,null,null,null,null,null,null,null,null,null,null,null,null,null,null,null,null,null,null,null,null,null,null,null,null,null,null,null,null,null,null,null,null,null,null,null,null,null,null,null,null,null,null,null,null,null,null,null,null,null,null,null,null,null,null,null,null,null,null,null,null,"AF10 91210:SALAD RL",4]
[null,null,null,null,null,null,null,null,null,null,null,null,null,null,null,null,null,null,null,null,null,null,null,null,null,null,null,null,null,null,null,null,null,null,null,null,null,null,null,null,null,null,null,null,null,null,null,null,null,null,null,null,null,null,null,null,null,null,null,null,null,null,null,null,null,null,null,null,null,null,null,null,null,null,null,null,null,null,null,null,null,null,null,null,null,null,null,null,"AF11 91211:BBQ CHK",7]
[null,null,null,null,null,null,null,null,null,null,null,null,null,null,null,null,null,null,null,null,null,null,null,null,null,null,null,null,null,null,null,null,null,null,null,null,null,null,null,null,null,null,null,null,null,null,null,null,null,null,null,null,null,null,null,null,null,null,null,null,null,null,null,null,null,null,null,null,null,null,null,null,null,null,null,null,null,null,null,null,null,null,null,null,null,null,null,null,"AF32 91302:NUGGET",25]
[null,null,null,null,null,null,null,null,null,null,null,null,null,null,null,null,null,null,null,null,null,null,null,null,null,null,null,null,null,null,null,null,null,null,null,null,null,null,null,null,null,null,null,null,null,null,null,null,null,null,null,null,null,null,null,null,null,null,null,null,null,null,null,null,null,null,null,null,null,null,null,null,null,null,null,null,null,null,null,null,null,null,null,null,null,null,null,null,"AF33 91303:CHK WING",25]
[null,null,null,null,null,null,null,null,null,null,null,null,null,null,null,null,null,null,null,null,null,null,null,null,null,null,null,null,null,null,null,null,null,null,null,null,null,null,null,null,null,null,null,null,null,null,null,null,null,null,null,null,null,null,null,null,null,null,null,null,null,null,null,null,null,null,null,null,null,null,null,null,null,null,null,null,null,null,null,null,null,null,null,null,null,null,null,null,"AF38 91308:MC RING",3]
[null,null,null,null,null,null,null,null,null,null,null,null,null,null,null,null,null,null,null,null,null,null,null,null,null,null,null,null,null,null,null,null,null,null,null,null,null,null,null,null,null,null,null,null,null,null,null,null,null,null,null,null,null,null,null,null,null,null,null,null,null,null,null,null,null,null,null,null,null,null,null,null,null,null,null,null,null,null,null,null,null,null,null,null,null,null,null,null,"AF39 91309:MC S.FRIES",7]
[null,null,null,null,null,null,null,null,null,null,null,null,null,null,null,null,null,null,null,null,null,null,null,null,null,null,null,null,null,null,null,null,null,null,null,null,null,null,null,null,null,null,null,null,null,null,null,null,null,null,null,null,null,null,null,null,null,null,null,null,null,null,null,null,null,null,null,null,null,null,null,null,null,null,null,null,null,null,null,null,null,null,null,null,null,null,null,null,"AF40 91310:MC HP SMIL",3]
[null,null,null,null,null,null,null,null,null,null,null,null,null,null,null,null,null,null,null,null,null,null,null,null,null,null,null,null,null,null,null,null,null,null,null,null,null,null,null,null,null,null,null,null,null,null,null,null,null,null,null,null,null,null,null,null,null,null,null,null,null,null,null,null,null,null,null,null,null,null,null,null,null,null,null,null,null,null,null,null,null,null,null,null,null,null,null,null,"AF41 91311:MC HSH BRW",4]
[null,null,null,null,null,null,null,null,null,null,null,null,null,null,null,null,null,null,null,null,null,null,null,null,null,null,null,null,null,null,null,null,null,null,null,null,null,null,null,null,null,null,null,null,null,null,null,null,null,null,null,null,null,null,null,null,null,null,null,null,null,null,null,null,null,null,null,null,null,null,null,null,null,null,null,null,null,null,null,null,null,null,null,null,null,null,null,null,"AP01 1411:MC ALACARTE",11]
[null,null,null,null,null,null,null,null,null,null,null,null,null,null,null,null,null,null,null,null,null,null,null,null,null,null,null,null,null,null,null,null,null,null,null,null,null,null,null,null,null,null,null,null,null,null,null,null,null,null,null,null,null,null,null,null,null,null,null,null,null,null,null,null,null,null,null,null,null,null,null,null,null,null,null,null,null,null,null,null,null,null,null,null,null,null,null,null,"AP02 1412:MC BEER",7]
[null,null,null,null,null,null,null,null,null,null,null,null,null,null,null,null,null,null,null,null,null,null,null,null,null,null,null,null,null,null,null,null,null,null,null,null,null,null,null,null,null,null,null,null,null,null,null,null,null,null,null,null,null,null,null,null,null,null,null,null,null,null,null,null,null,null,null,null,null,null,null,null,null,null,null,null,null,null,null,null,null,null,null,null,null,null,null,null,"AS01 1401:SET 990",145]
[null,null,null,null,null,null,null,null,null,null,null,null,null,null,null,null,null,null,null,null,null,null,null,null,null,null,null,null,null,null,null,null,null,null,null,null,null,null,null,null,null,null,null,null,null,null,null,null,null,null,null,null,null,null,null,null,null,null,null,null,null,null,null,null,null,null,null,null,null,null,null,null,null,null,null,null,null,null,null,null,null,null,null,null,null,null,null,null,"AS02 1402:SET 1390",58]
[null,null,null,null,null,null,null,null,null,null,null,null,null,null,null,null,null,null,null,null,null,null,null,null,null,null,null,null,null,null,null,null,null,null,null,null,null,null,null,null,null,null,null,null,null,null,null,null,null,null,null,null,null,null,null,null,null,null,null,null,null,null,null,null,null,null,null,null,null,null,null,null,null,null,null,null,null,null,null,null,null,null,null,null,null,null,null,null,"BG01 6001:GUI BTL",9]
[null,null,null,null,null,null,null,null,null,null,null,null,null,null,null,null,null,null,null,null,null,null,null,null,null,null,null,null,null,null,null,null,null,null,null,null,null,null,null,null,null,null,null,null,null,null,null,null,null,null,null,null,null,null,null,null,null,null,null,null,null,null,null,null,null,null,null,null,null,null,null,null,null,null,null,null,null,null,null,null,null,null,null,null,null,null,null,null,"BG02 6002:GUI BKT",7]
[null,null,null,null,null,null,null,null,null,null,null,null,null,null,null,null,null,null,null,null,null,null,null,null,null,null,null,null,null,null,null,null,null,null,null,null,null,null,null,null,null,null,null,null,null,null,null,null,null,null,null,null,null,null,null,null,null,null,null,null,null,null,null,null,null,null,null,null,null,null,null,null,null,null,null,null,null,null,null,null,null,null,null,null,null,null,null,null,"BH01 5001:HEI BTL",11]
[null,null,null,null,null,null,null,null,null,null,null,null,null,null,null,null,null,null,null,null,null,null,null,null,null,null,null,null,null,null,null,null,null,null,null,null,null,null,null,null,null,null,null,null,null,null,null,null,null,null,null,null,null,null,null,null,null,null,null,null,null,null,null,null,null,null,null,null,null,null,null,null,null,null,null,null,null,null,null,null,null,null,null,null,null,null,null,null,"BH02 5002:HEI BKT",32]
[null,null,null,null,null,null,null,null,null,null,null,null,null,null,null,null,null,null,null,null,null,null,null,null,null,null,null,null,null,null,null,null,null,null,null,null,null,null,null,null,null,null,null,null,null,null,null,null,null,null,null,null,null,null,null,null,null,null,null,null,null,null,null,null,null,null,null,null,null,null,null,null,null,null,null,null,null,null,null,null,null,null,null,null,null,null,null,null,"BH03 5003:HEI RND",11]
[null,null,null,null,null,null,null,null,null,null,null,null,null,null,null,null,null,null,null,null,null,null,null,null,null,null,null,null,null,null,null,null,null,null,null,null,null,null,null,null,null,null,null,null,null,null,null,null,null,null,null,null,null,null,null,null,null,null,null,null,null,null,null,null,null,null,null,null,null,null,null,null,null,null,null,null,null,null,null,null,null,null,null,null,null,null,null,null,"BN01 8201:HOE BTL",9]
[null,null,null,null,null,null,null,null,null,null,null,null,null,null,null,null,null,null,null,null,null,null,null,null,null,null,null,null,null,null,null,null,null,null,null,null,null,null,null,null,null,null,null,null,null,null,null,null,null,null,null,null,null,null,null,null,null,null,null,null,null,null,null,null,null,null,null,null,null,null,null,null,null,null,null,null,null,null,null,null,null,null,null,null,null,null,null,null,"BN02 8202:HOE BKT",6]
[null,null,null,null,null,null,null,null,null,null,null,null,null,null,null,null,null,null,null,null,null,null,null,null,null,null,null,null,null,null,null,null,null,null,null,null,null,null,null,null,null,null,null,null,null,null,null,null,null,null,null,null,null,null,null,null,null,null,null,null,null,null,null,null,null,null,null,null,null,null,null,null,null,null,null,null,null,null,null,null,null,null,null,null,null,null,null,null,"BR01 8301:PAUL BTL",3]
[null,null,null,null,null,null,null,null,null,null,null,null,null,null,null,null,null,null,null,null,null,null,null,null,null,null,null,null,null,null,null,null,null,null,null,null,null,null,null,null,null,null,null,null,null,null,null,null,null,null,null,null,null,null,null,null,null,null,null,null,null,null,null,null,null,null,null,null,null,null,null,null,null,null,null,null,null,null,null,null,null,null,null,null,null,null,null,null,"BR02 8302:PAUL BKT",1]
[null,null,null,null,null,null,null,null,null,null,null,null,null,null,null,null,null,null,null,null,null,null,null,null,null,null,null,null,null,null,null,null,null,null,null,null,null,null,null,null,null,null,null,null,null,null,null,null,null,null,null,null,null,null,null,null,null,null,null,null,null,null,null,null,null,null,null,null,null,null,null,null,null,null,null,null,null,null,null,null,null,null,null,null,null,null,null,null,"BT01 7001:TIG BTL",11]
[null,null,null,null,null,null,null,null,null,null,null,null,null,null,null,null,null,null,null,null,null,null,null,null,null,null,null,null,null,null,null,null,null,null,null,null,null,null,null,null,null,null,null,null,null,null,null,null,null,null,null,null,null,null,null,null,null,null,null,null,null,null,null,null,null,null,null,null,null,null,null,null,null,null,null,null,null,null,null,null,null,null,null,null,null,null,null,null,"BT02 7002:TIG BKT",160]
[null,null,null,null,null,null,null,null,null,null,null,null,null,null,null,null,null,null,null,null,null,null,null,null,null,null,null,null,null,null,null,null,null,null,null,null,null,null,null,null,null,null,null,null,null,null,null,null,null,null,null,null,null,null,null,null,null,null,null,null,null,null,null,null,null,null,null,null,null,null,null,null,null,null,null,null,null,null,null,null,null,null,null,null,null,null,null,null,"BT03 7003:TIG RND",7]
[null,null,null,null,null,null,null,null,null,null,null,null,null,null,null,null,null,null,null,null,null,null,null,null,null,null,null,null,null,null,null,null,null,null,null,null,null,null,null,null,null,null,null,null,null,null,null,null,null,null,null,null,null,null,null,null,null,null,null,null,null,null,null,null,null,null,null,null,null,null,null,null,null,null,null,null,null,null,null,null,null,null,null,null,null,null,null,null,"BT04 7004:TIG 2+1",1]
[null,null,null,null,null,null,null,null,null,null,null,null,null,null,null,null,null,null,null,null,null,null,null,null,null,null,null,null,null,null,null,null,null,null,null,null,null,null,null,null,null,null,null,null,null,null,null,null,null,null,null,null,null,null,null,null,null,null,null,null,null,null,null,null,null,null,null,null,null,null,null,null,null,null,null,null,null,null,null,null,null,null,null,null,null,null,null,null,"BT05 7005:TIG RD BTL",39]
[null,null,null,null,null,null,null,null,null,null,null,null,null,null,null,null,null,null,null,null,null,null,null,null,null,null,null,null,null,null,null,null,null,null,null,null,null,null,null,null,null,null,null,null,null,null,null,null,null,null,null,null,null,null,null,null,null,null,null,null,null,null,null,null,null,null,null,null,null,null,null,null,null,null,null,null,null,null,null,null,null,null,null,null,null,null,null,null,"BT06 7006:TIG RD BKT",7]
[null,null,null,null,null,null,null,null,null,null,null,null,null,null,null,null,null,null,null,null,null,null,null,null,null,null,null,null,null,null,null,null,null,null,null,null,null,null,null,null,null,null,null,null,null,null,null,null,null,null,null,null,null,null,null,null,null,null,null,null,null,null,null,null,null,null,null,null,null,null,null,null,null,null,null,null,null,null,null,null,null,null,null,null,null,null,null,null,"BT07 7007:TIG YEP",72]
[null,null,null,null,null,null,null,null,null,null,null,null,null,null,null,null,null,null,null,null,null,null,null,null,null,null,null,null,null,null,null,null,null,null,null,null,null,null,null,null,null,null,null,null,null,null,null,null,null,null,null,null,null,null,null,null,null,null,null,null,null,null,null,null,null,null,null,null,null,null,null,null,null,null,null,null,null,null,null,null,null,null,null,null,null,null,null,null,"BW02 8102:STRONG BKT",2]
[null,null,null,null,null,null,null,null,null,null,null,null,null,null,null,null,null,null,null,null,null,null,null,null,null,null,null,null,null,null,null,null,null,null,null,null,null,null,null,null,null,null,null,null,null,null,null,null,null,null,null,null,null,null,null,null,null,null,null,null,null,null,null,null,null,null,null,null,null,null,null,null,null,null,null,null,null,null,null,null,null,null,null,null,null,null,null,null,"BY01 8001:SOME BTL",12]
[null,null,null,null,null,null,null,null,null,null,null,null,null,null,null,null,null,null,null,null,null,null,null,null,null,null,null,null,null,null,null,null,null,null,null,null,null,null,null,null,null,null,null,null,null,null,null,null,null,null,null,null,null,null,null,null,null,null,null,null,null,null,null,null,null,null,null,null,null,null,null,null,null,null,null,null,null,null,null,null,null,null,null,null,null,null,null,null,"BY02 8002:SOME BKT",4]
[null,null,null,null,null,null,null,null,null,null,null,null,null,null,null,null,null,null,null,null,null,null,null,null,null,null,null,null,null,null,null,null,null,null,null,null,null,null,null,null,null,null,null,null,null,null,null,null,null,null,null,null,null,null,null,null,null,null,null,null,null,null,null,null,null,null,null,null,null,null,null,null,null,null,null,null,null,null,null,null,null,null,null,null,null,null,null,null,"CA01 2023:7 UP",1]
[null,null,null,null,null,null,null,null,null,null,null,null,null,null,null,null,null,null,null,null,null,null,null,null,null,null,null,null,null,null,null,null,null,null,null,null,null,null,null,null,null,null,null,null,null,null,null,null,null,null,null,null,null,null,null,null,null,null,null,null,null,null,null,null,null,null,null,null,null,null,null,null,null,null,null,null,null,null,null,null,null,null,null,null,null,null,null,null,"CA02 2024:7UP REVIVE",2]
[null,null,null,null,null,null,null,null,null,null,null,null,null,null,null,null,null,null,null,null,null,null,null,null,null,null,null,null,null,null,null,null,null,null,null,null,null,null,null,null,null,null,null,null,null,null,null,null,null,null,null,null,null,null,null,null,null,null,null,null,null,null,null,null,null,null,null,null,null,null,null,null,null,null,null,null,null,null,null,null,null,null,null,null,null,null,null,null,"CA03 2025:PEPSI",6]
[null,null,null,null,null,null,null,null,null,null,null,null,null,null,null,null,null,null,null,null,null,null,null,null,null,null,null,null,null,null,null,null,null,null,null,null,null,null,null,null,null,null,null,null,null,null,null,null,null,null,null,null,null,null,null,null,null,null,null,null,null,null,null,null,null,null,null,null,null,null,null,null,null,null,null,null,null,null,null,null,null,null,null,null,null,null,null,null,"CB02 2003:NESCAFE(C)",1]
[null,null,null,null,null,null,null,null,null,null,null,null,null,null,null,null,null,null,null,null,null,null,null,null,null,null,null,null,null,null,null,null,null,null,null,null,null,null,null,null,null,null,null,null,null,null,null,null,null,null,null,null,null,null,null,null,null,null,null,null,null,null,null,null,null,null,null,null,null,null,null,null,null,null,null,null,null,null,null,null,null,null,null,null,null,null,null,null,"CB04 2007:LMN TEA(C)",2]
[null,null,null,null,null,null,null,null,null,null,null,null,null,null,null,null,null,null,null,null,null,null,null,null,null,null,null,null,null,null,null,null,null,null,null,null,null,null,null,null,null,null,null,null,null,null,null,null,null,null,null,null,null,null,null,null,null,null,null,null,null,null,null,null,null,null,null,null,null,null,null,null,null,null,null,null,null,null,null,null,null,null,null,null,null,null,null,null,"CB05 2009:GRN TEA(C)",1]
[null,null,null,null,null,null,null,null,null,null,null,null,null,null,null,null,null,null,null,null,null,null,null,null,null,null,null,null,null,null,null,null,null,null,null,null,null,null,null,null,null,null,null,null,null,null,null,null,null,null,null,null,null,null,null,null,null,null,null,null,null,null,null,null,null,null,null,null,null,null,null,null,null,null,null,null,null,null,null,null,null,null,null,null,null,null,null,null,"CB06 2011:HNY GT(C)",11]
[null,null,null,null,null,null,null,null,null,null,null,null,null,null,null,null,null,null,null,null,null,null,null,null,null,null,null,null,null,null,null,null,null,null,null,null,null,null,null,null,null,null,null,null,null,null,null,null,null,null,null,null,null,null,null,null,null,null,null,null,null,null,null,null,null,null,null,null,null,null,null,null,null,null,null,null,null,null,null,null,null,null,null,null,null,null,null,null,"CB07 2013:HONEY (C)",1]
[null,null,null,null,null,null,null,null,null,null,null,null,null,null,null,null,null,null,null,null,null,null,null,null,null,null,null,null,null,null,null,null,null,null,null,null,null,null,null,null,null,null,null,null,null,null,null,null,null,null,null,null,null,null,null,null,null,null,null,null,null,null,null,null,null,null,null,null,null,null,null,null,null,null,null,null,null,null,null,null,null,null,null,null,null,null,null,null,"CB08 2015:HNY LMN(C)",5]
[null,null,null,null,null,null,null,null,null,null,null,null,null,null,null,null,null,null,null,null,null,null,null,null,null,null,null,null,null,null,null,null,null,null,null,null,null,null,null,null,null,null,null,null,null,null,null,null,null,null,null,null,null,null,null,null,null,null,null,null,null,null,null,null,null,null,null,null,null,null,null,null,null,null,null,null,null,null,null,null,null,null,null,null,null,null,null,null,"CF01 92001:MILO(C)",505]
[null,null,null,null,null,null,null,null,null,null,null,null,null,null,null,null,null,null,null,null,null,null,null,null,null,null,null,null,null,null,null,null,null,null,null,null,null,null,null,null,null,null,null,null,null,null,null,null,null,null,null,null,null,null,null,null,null,null,null,null,null,null,null,null,null,null,null,null,null,null,null,null,null,null,null,null,null,null,null,null,null,null,null,null,null,null,null,null,"CF02 92003:NESCAFE(C)",87]
[null,null,null,null,null,null,null,null,null,null,null,null,null,null,null,null,null,null,null,null,null,null,null,null,null,null,null,null,null,null,null,null,null,null,null,null,null,null,null,null,null,null,null,null,null,null,null,null,null,null,null,null,null,null,null,null,null,null,null,null,null,null,null,null,null,null,null,null,null,null,null,null,null,null,null,null,null,null,null,null,null,null,null,null,null,null,null,null,"CF03 92005:TEA(C)",62]
[null,null,null,null,null,null,null,null,null,null,null,null,null,null,null,null,null,null,null,null,null,null,null,null,null,null,null,null,null,null,null,null,null,null,null,null,null,null,null,null,null,null,null,null,null,null,null,null,null,null,null,null,null,null,null,null,null,null,null,null,null,null,null,null,null,null,null,null,null,null,null,null,null,null,null,null,null,null,null,null,null,null,null,null,null,null,null,null,"CF04 92007:LMN TEA(C)",586]
[null,null,null,null,null,null,null,null,null,null,null,null,null,null,null,null,null,null,null,null,null,null,null,null,null,null,null,null,null,null,null,null,null,null,null,null,null,null,null,null,null,null,null,null,null,null,null,null,null,null,null,null,null,null,null,null,null,null,null,null,null,null,null,null,null,null,null,null,null,null,null,null,null,null,null,null,null,null,null,null,null,null,null,null,null,null,null,null,"CF05 92009:GRN TEA(C)",405]
[null,null,null,null,null,null,null,null,null,null,null,null,null,null,null,null,null,null,null,null,null,null,null,null,null,null,null,null,null,null,null,null,null,null,null,null,null,null,null,null,null,null,null,null,null,null,null,null,null,null,null,null,null,null,null,null,null,null,null,null,null,null,null,null,null,null,null,null,null,null,null,null,null,null,null,null,null,null,null,null,null,null,null,null,null,null,null,null,"CF06 92011:HNY GT(C)",988]
[null,null,null,null,null,null,null,null,null,null,null,null,null,null,null,null,null,null,null,null,null,null,null,null,null,null,null,null,null,null,null,null,null,null,null,null,null,null,null,null,null,null,null,null,null,null,null,null,null,null,null,null,null,null,null,null,null,null,null,null,null,null,null,null,null,null,null,null,null,null,null,null,null,null,null,null,null,null,null,null,null,null,null,null,null,null,null,null,"CF07 92013:HONEY(C)",262]
[null,null,null,null,null,null,null,null,null,null,null,null,null,null,null,null,null,null,null,null,null,null,null,null,null,null,null,null,null,null,null,null,null,null,null,null,null,null,null,null,null,null,null,null,null,null,null,null,null,null,null,null,null,null,null,null,null,null,null,null,null,null,null,null,null,null,null,null,null,null,null,null,null,null,null,null,null,null,null,null,null,null,null,null,null,null,null,null,"CF08 92015:HNY LMN(C)",870]
[null,null,null,null,null,null,null,null,null,null,null,null,null,null,null,null,null,null,null,null,null,null,null,null,null,null,null,null,null,null,null,null,null,null,null,null,null,null,null,null,null,null,null,null,null,null,null,null,null,null,null,null,null,null,null,null,null,null,null,null,null,null,null,null,null,null,null,null,null,null,null,null,null,null,null,null,null,null,null,null,null,null,null,null,null,null,null,null,"CG01 92023:7 UP",142]
[null,null,null,null,null,null,null,null,null,null,null,null,null,null,null,null,null,null,null,null,null,null,null,null,null,null,null,null,null,null,null,null,null,null,null,null,null,null,null,null,null,null,null,null,null,null,null,null,null,null,null,null,null,null,null,null,null,null,null,null,null,null,null,null,null,null,null,null,null,null,null,null,null,null,null,null,null,null,null,null,null,null,null,null,null,null,null,null,"CG02 92024:7UP REVIVE",36]
[null,null,null,null,null,null,null,null,null,null,null,null,null,null,null,null,null,null,null,null,null,null,null,null,null,null,null,null,null,null,null,null,null,null,null,null,null,null,null,null,null,null,null,null,null,null,null,null,null,null,null,null,null,null,null,null,null,null,null,null,null,null,null,null,null,null,null,null,null,null,null,null,null,null,null,null,null,null,null,null,null,null,null,null,null,null,null,null,"CG03 92025:PEPSI",449]
[null,null,null,null,null,null,null,null,null,null,null,null,null,null,null,null,null,null,null,null,null,null,null,null,null,null,null,null,null,null,null,null,null,null,null,null,null,null,null,null,null,null,null,null,null,null,null,null,null,null,null,null,null,null,null,null,null,null,null,null,null,null,null,null,null,null,null,null,null,null,null,null,null,null,null,null,null,null,null,null,null,null,null,null,null,null,null,null,"CS02 COCKTAIL 1+1",1]
[null,null,null,null,null,null,null,null,null,null,null,null,null,null,null,null,null,null,null,null,null,null,null,null,null,null,null,null,null,null,null,null,null,null,null,null,null,null,null,null,null,null,null,null,null,null,null,null,null,null,null,null,null,null,null,null,null,null,null,null,null,null,null,null,null,null,null,null,null,null,null,null,null,null,null,null,null,null,null,null,null,null,null,null,null,null,null,null,"DH01 DUNHILL",45]
[null,null,null,null,null,null,null,null,null,null,null,null,null,null,null,null,null,null,null,null,null,null,null,null,null,null,null,null,null,null,null,null,null,null,null,null,null,null,null,null,null,null,null,null,null,null,null,null,null,null,null,null,null,null,null,null,null,null,null,null,null,null,null,null,null,null,null,null,null,null,null,null,null,null,null,null,null,null,null,null,null,null,null,null,null,null,null,null,"DH02 DUNHILL LITE",9]
[null,null,null,null,null,null,null,null,null,null,null,null,null,null,null,null,null,null,null,null,null,null,null,null,null,null,null,null,null,null,null,null,null,null,null,null,null,null,null,null,null,null,null,null,null,null,null,null,null,null,null,null,null,null,null,null,null,null,null,null,null,null,null,null,null,null,null,null,null,null,null,null,null,null,null,null,null,null,null,null,null,null,null,null,null,null,null,null,"DH03 DUNHILL MT",22]
[null,null,null,null,null,null,null,null,null,null,null,null,null,null,null,null,null,null,null,null,null,null,null,null,null,null,null,null,null,null,null,null,null,null,null,null,null,null,null,null,null,null,null,null,null,null,null,null,null,null,null,null,null,null,null,null,null,null,null,null,null,null,null,null,null,null,null,null,null,null,null,null,null,null,null,null,null,null,null,null,null,null,null,null,null,null,null,null,"DH07 DUNHILL ICE",20]
[null,null,null,null,null,null,null,null,null,null,null,null,null,null,null,null,null,null,null,null,null,null,null,null,null,null,null,null,null,null,null,null,null,null,null,null,null,null,null,null,null,null,null,null,null,null,null,null,null,null,null,null,null,null,null,null,null,null,null,null,null,null,null,null,null,null,null,null,null,null,null,null,null,null,null,null,null,null,null,null,null,null,null,null,null,null,null,null,"DR11 TIDBITS",83]
[null,null,null,null,null,null,null,null,null,null,null,null,null,null,null,null,null,null,null,null,null,null,null,null,null,null,null,null,null,null,null,null,null,null,null,null,null,null,null,null,null,null,null,null,null,null,null,null,null,null,null,null,null,null,null,null,null,null,null,null,null,null,null,null,null,null,null,null,null,null,null,null,null,null,null,null,null,null,null,null,null,null,null,null,null,null,null,null,"HB01 2002:MILO(H)",2]
[null,null,null,null,null,null,null,null,null,null,null,null,null,null,null,null,null,null,null,null,null,null,null,null,null,null,null,null,null,null,null,null,null,null,null,null,null,null,null,null,null,null,null,null,null,null,null,null,null,null,null,null,null,null,null,null,null,null,null,null,null,null,null,null,null,null,null,null,null,null,null,null,null,null,null,null,null,null,null,null,null,null,null,null,null,null,null,null,"HB04 2008:LMN TEA(H)",2]
[null,null,null,null,null,null,null,null,null,null,null,null,null,null,null,null,null,null,null,null,null,null,null,null,null,null,null,null,null,null,null,null,null,null,null,null,null,null,null,null,null,null,null,null,null,null,null,null,null,null,null,null,null,null,null,null,null,null,null,null,null,null,null,null,null,null,null,null,null,null,null,null,null,null,null,null,null,null,null,null,null,null,null,null,null,null,null,null,"HB06 2012:HNY GT(H)",1]
[null,null,null,null,null,null,null,null,null,null,null,null,null,null,null,null,null,null,null,null,null,null,null,null,null,null,null,null,null,null,null,null,null,null,null,null,null,null,null,null,null,null,null,null,null,null,null,null,null,null,null,null,null,null,null,null,null,null,null,null,null,null,null,null,null,null,null,null,null,null,null,null,null,null,null,null,null,null,null,null,null,null,null,null,null,null,null,null,"HB07 2014:HONEY(H)",1]
[null,null,null,null,null,null,null,null,null,null,null,null,null,null,null,null,null,null,null,null,null,null,null,null,null,null,null,null,null,null,null,null,null,null,null,null,null,null,null,null,null,null,null,null,null,null,null,null,null,null,null,null,null,null,null,null,null,null,null,null,null,null,null,null,null,null,null,null,null,null,null,null,null,null,null,null,null,null,null,null,null,null,null,null,null,null,null,null,"HB08 2016:HNY LMN(H)",1]
[null,null,null,null,null,null,null,null,null,null,null,null,null,null,null,null,null,null,null,null,null,null,null,null,null,null,null,null,null,null,null,null,null,null,null,null,null,null,null,null,null,null,null,null,null,null,null,null,null,null,null,null,null,null,null,null,null,null,null,null,null,null,null,null,null,null,null,null,null,null,null,null,null,null,null,null,null,null,null,null,null,null,null,null,null,null,null,null,"HF01 92002:MILO(H)",447]
[null,null,null,null,null,null,null,null,null,null,null,null,null,null,null,null,null,null,null,null,null,null,null,null,null,null,null,null,null,null,null,null,null,null,null,null,null,null,null,null,null,null,null,null,null,null,null,null,null,null,null,null,null,null,null,null,null,null,null,null,null,null,null,null,null,null,null,null,null,null,null,null,null,null,null,null,null,null,null,null,null,null,null,null,null,null,null,null,"HF02 92004:NESCAFE(H)",116]
[null,null,null,null,null,null,null,null,null,null,null,null,null,null,null,null,null,null,null,null,null,null,null,null,null,null,null,null,null,null,null,null,null,null,null,null,null,null,null,null,null,null,null,null,null,null,null,null,null,null,null,null,null,null,null,null,null,null,null,null,null,null,null,null,null,null,null,null,null,null,null,null,null,null,null,null,null,null,null,null,null,null,null,null,null,null,null,null,"HF03 92006:TEA(H)",36]
[null,null,null,null,null,null,null,null,null,null,null,null,null,null,null,null,null,null,null,null,null,null,null,null,null,null,null,null,null,null,null,null,null,null,null,null,null,null,null,null,null,null,null,null,null,null,null,null,null,null,null,null,null,null,null,null,null,null,null,null,null,null,null,null,null,null,null,null,null,null,null,null,null,null,null,null,null,null,null,null,null,null,null,null,null,null,null,null,"HF04 92008:LMN TEA(H)",170]
[null,null,null,null,null,null,null,null,null,null,null,null,null,null,null,null,null,null,null,null,null,null,null,null,null,null,null,null,null,null,null,null,null,null,null,null,null,null,null,null,null,null,null,null,null,null,null,null,null,null,null,null,null,null,null,null,null,null,null,null,null,null,null,null,null,null,null,null,null,null,null,null,null,null,null,null,null,null,null,null,null,null,null,null,null,null,null,null,"HF05 92010:GRN TEA(H)",243]
[null,null,null,null,null,null,null,null,null,null,null,null,null,null,null,null,null,null,null,null,null,null,null,null,null,null,null,null,null,null,null,null,null,null,null,null,null,null,null,null,null,null,null,null,null,null,null,null,null,null,null,null,null,null,null,null,null,null,null,null,null,null,null,null,null,null,null,null,null,null,null,null,null,null,null,null,null,null,null,null,null,null,null,null,null,null,null,null,"HF06 92012:HNY GT(H)",848]
[null,null,null,null,null,null,null,null,null,null,null,null,null,null,null,null,null,null,null,null,null,null,null,null,null,null,null,null,null,null,null,null,null,null,null,null,null,null,null,null,null,null,null,null,null,null,null,null,null,null,null,null,null,null,null,null,null,null,null,null,null,null,null,null,null,null,null,null,null,null,null,null,null,null,null,null,null,null,null,null,null,null,null,null,null,null,null,null,"HF07 92014:HONEY(H)",497]
[null,null,null,null,null,null,null,null,null,null,null,null,null,null,null,null,null,null,null,null,null,null,null,null,null,null,null,null,null,null,null,null,null,null,null,null,null,null,null,null,null,null,null,null,null,null,null,null,null,null,null,null,null,null,null,null,null,null,null,null,null,null,null,null,null,null,null,null,null,null,null,null,null,null,null,null,null,null,null,null,null,null,null,null,null,null,null,null,"HF08 92016:HNY LMN(H)",1304]
[null,null,null,null,null,null,null,null,null,null,null,null,null,null,null,null,null,null,null,null,null,null,null,null,null,null,null,null,null,null,null,null,null,null,null,null,null,null,null,null,null,null,null,null,null,null,null,null,null,null,null,null,null,null,null,null,null,null,null,null,null,null,null,null,null,null,null,null,null,null,null,null,null,null,null,null,null,null,null,null,null,null,null,null,null,null,null,null,"HF09 92017:CHAMOMILE",33]
[null,null,null,null,null,null,null,null,null,null,null,null,null,null,null,null,null,null,null,null,null,null,null,null,null,null,null,null,null,null,null,null,null,null,null,null,null,null,null,null,null,null,null,null,null,null,null,null,null,null,null,null,null,null,null,null,null,null,null,null,null,null,null,null,null,null,null,null,null,null,null,null,null,null,null,null,null,null,null,null,null,null,null,null,null,null,null,null,"HF10 92018:DARJEELING",4]
[null,null,null,null,null,null,null,null,null,null,null,null,null,null,null,null,null,null,null,null,null,null,null,null,null,null,null,null,null,null,null,null,null,null,null,null,null,null,null,null,null,null,null,null,null,null,null,null,null,null,null,null,null,null,null,null,null,null,null,null,null,null,null,null,null,null,null,null,null,null,null,null,null,null,null,null,null,null,null,null,null,null,null,null,null,null,null,null,"HF11 92019:EARL GREY",34]
[null,null,null,null,null,null,null,null,null,null,null,null,null,null,null,null,null,null,null,null,null,null,null,null,null,null,null,null,null,null,null,null,null,null,null,null,null,null,null,null,null,null,null,null,null,null,null,null,null,null,null,null,null,null,null,null,null,null,null,null,null,null,null,null,null,null,null,null,null,null,null,null,null,null,null,null,null,null,null,null,null,null,null,null,null,null,null,null,"JF01 92501:GRAPE J",142]
[null,null,null,null,null,null,null,null,null,null,null,null,null,null,null,null,null,null,null,null,null,null,null,null,null,null,null,null,null,null,null,null,null,null,null,null,null,null,null,null,null,null,null,null,null,null,null,null,null,null,null,null,null,null,null,null,null,null,null,null,null,null,null,null,null,null,null,null,null,null,null,null,null,null,null,null,null,null,null,null,null,null,null,null,null,null,null,null,"JF02 92502:APPLE J",236]
[null,null,null,null,null,null,null,null,null,null,null,null,null,null,null,null,null,null,null,null,null,null,null,null,null,null,null,null,null,null,null,null,null,null,null,null,null,null,null,null,null,null,null,null,null,null,null,null,null,null,null,null,null,null,null,null,null,null,null,null,null,null,null,null,null,null,null,null,null,null,null,null,null,null,null,null,null,null,null,null,null,null,null,null,null,null,null,null,"JF03 92503:MANGO J",166]
[null,null,null,null,null,null,null,null,null,null,null,null,null,null,null,null,null,null,null,null,null,null,null,null,null,null,null,null,null,null,null,null,null,null,null,null,null,null,null,null,null,null,null,null,null,null,null,null,null,null,null,null,null,null,null,null,null,null,null,null,null,null,null,null,null,null,null,null,null,null,null,null,null,null,null,null,null,null,null,null,null,null,null,null,null,null,null,null,"JF04 92504:PASSION J",259]
[null,null,null,null,null,null,null,null,null,null,null,null,null,null,null,null,null,null,null,null,null,null,null,null,null,null,null,null,null,null,null,null,null,null,null,null,null,null,null,null,null,null,null,null,null,null,null,null,null,null,null,null,null,null,null,null,null,null,null,null,null,null,null,null,null,null,null,null,null,null,null,null,null,null,null,null,null,null,null,null,null,null,null,null,null,null,null,null,"JF05 92505:RIBENA J",240]
[null,null,null,null,null,null,null,null,null,null,null,null,null,null,null,null,null,null,null,null,null,null,null,null,null,null,null,null,null,null,null,null,null,null,null,null,null,null,null,null,null,null,null,null,null,null,null,null,null,null,null,null,null,null,null,null,null,null,null,null,null,null,null,null,null,null,null,null,null,null,null,null,null,null,null,null,null,null,null,null,null,null,null,null,null,null,null,null,"JH01 H:REGULAR",659]
[null,null,null,null,null,null,null,null,null,null,null,null,null,null,null,null,null,null,null,null,null,null,null,null,null,null,null,null,null,null,null,null,null,null,null,null,null,null,null,null,null,null,null,null,null,null,null,null,null,null,null,null,null,null,null,null,null,null,null,null,null,null,null,null,null,null,null,null,null,null,null,null,null,null,null,null,null,null,null,null,null,null,null,null,null,null,null,null,"JH02 H:MEMBER",473]
[null,null,null,null,null,null,null,null,null,null,null,null,null,null,null,null,null,null,null,null,null,null,null,null,null,null,null,null,null,null,null,null,null,null,null,null,null,null,null,null,null,null,null,null,null,null,null,null,null,null,null,null,null,null,null,null,null,null,null,null,null,null,null,null,null,null,null,null,null,null,null,null,null,null,null,null,null,null,null,null,null,null,null,null,null,null,null,null,"JH03 H:MEMBER B'DAY",29]
[null,null,null,null,null,null,null,null,null,null,null,null,null,null,null,null,null,null,null,null,null,null,null,null,null,null,null,null,null,null,null,null,null,null,null,null,null,null,null,null,null,null,null,null,null,null,null,null,null,null,null,null,null,null,null,null,null,null,null,null,null,null,null,null,null,null,null,null,null,null,null,null,null,null,null,null,null,null,null,null,null,null,null,null,null,null,null,null,"JH04 H:CHILDREN",35]
[null,null,null,null,null,null,null,null,null,null,null,null,null,null,null,null,null,null,null,null,null,null,null,null,null,null,null,null,null,null,null,null,null,null,null,null,null,null,null,null,null,null,null,null,null,null,null,null,null,null,null,null,null,null,null,null,null,null,null,null,null,null,null,null,null,null,null,null,null,null,null,null,null,null,null,null,null,null,null,null,null,null,null,null,null,null,null,null,"JH08 H:XTD S ROOM",1]
[null,null,null,null,null,null,null,null,null,null,null,null,null,null,null,null,null,null,null,null,null,null,null,null,null,null,null,null,null,null,null,null,null,null,null,null,null,null,null,null,null,null,null,null,null,null,null,null,null,null,null,null,null,null,null,null,null,null,null,null,null,null,null,null,null,null,null,null,null,null,null,null,null,null,null,null,null,null,null,null,null,null,null,null,null,null,null,null,"JH15 H:ST MEMBER",31]
[null,null,null,null,null,null,null,null,null,null,null,null,null,null,null,null,null,null,null,null,null,null,null,null,null,null,null,null,null,null,null,null,null,null,null,null,null,null,null,null,null,null,null,null,null,null,null,null,null,null,null,null,null,null,null,null,null,null,null,null,null,null,null,null,null,null,null,null,null,null,null,null,null,null,null,null,null,null,null,null,null,null,null,null,null,null,null,null,"JH16 H:ST MEM B'DAY",2]
[null,null,null,null,null,null,null,null,null,null,null,null,null,null,null,null,null,null,null,null,null,null,null,null,null,null,null,null,null,null,null,null,null,null,null,null,null,null,null,null,null,null,null,null,null,null,null,null,null,null,null,null,null,null,null,null,null,null,null,null,null,null,null,null,null,null,null,null,null,null,null,null,null,null,null,null,null,null,null,null,null,null,null,null,null,null,null,null,"JH17 H:FREEHEAD",18]
[null,null,null,null,null,null,null,null,null,null,null,null,null,null,null,null,null,null,null,null,null,null,null,null,null,null,null,null,null,null,null,null,null,null,null,null,null,null,null,null,null,null,null,null,null,null,null,null,null,null,null,null,null,null,null,null,null,null,null,null,null,null,null,null,null,null,null,null,null,null,null,null,null,null,null,null,null,null,null,null,null,null,null,null,null,null,null,null,"JH18 H:4BP",2]
[null,null,null,null,null,null,null,null,null,null,null,null,null,null,null,null,null,null,null,null,null,null,null,null,null,null,null,null,null,null,null,null,null,null,null,null,null,null,null,null,null,null,null,null,null,null,null,null,null,null,null,null,null,null,null,null,null,null,null,null,null,null,null,null,null,null,null,null,null,null,null,null,null,null,null,null,null,null,null,null,null,null,null,null,null,null,null,null,"JH20 H:MEMBER 30%",101]
[null,null,null,null,null,null,null,null,null,null,null,null,null,null,null,null,null,null,null,null,null,null,null,null,null,null,null,null,null,null,null,null,null,null,null,null,null,null,null,null,null,null,null,null,null,null,null,null,null,null,null,null,null,null,null,null,null,null,null,null,null,null,null,null,null,null,null,null,null,null,null,null,null,null,null,null,null,null,null,null,null,null,null,null,null,null,null,null,"JH21 H:STUDENT",194]
[null,null,null,null,null,null,null,null,null,null,null,null,null,null,null,null,null,null,null,null,null,null,null,null,null,null,null,null,null,null,null,null,null,null,null,null,null,null,null,null,null,null,null,null,null,null,null,null,null,null,null,null,null,null,null,null,null,null,null,null,null,null,null,null,null,null,null,null,null,null,null,null,null,null,null,null,null,null,null,null,null,null,null,null,null,null,null,null,"JH22 H:ST PHE",22]
[null,null,null,null,null,null,null,null,null,null,null,null,null,null,null,null,null,null,null,null,null,null,null,null,null,null,null,null,null,null,null,null,null,null,null,null,null,null,null,null,null,null,null,null,null,null,null,null,null,null,null,null,null,null,null,null,null,null,null,null,null,null,null,null,null,null,null,null,null,null,null,null,null,null,null,null,null,null,null,null,null,null,null,null,null,null,null,null,"JH23 H:SENIOR",2]
[null,null,null,null,null,null,null,null,null,null,null,null,null,null,null,null,null,null,null,null,null,null,null,null,null,null,null,null,null,null,null,null,null,null,null,null,null,null,null,null,null,null,null,null,null,null,null,null,null,null,null,null,null,null,null,null,null,null,null,null,null,null,null,null,null,null,null,null,null,null,null,null,null,null,null,null,null,null,null,null,null,null,null,null,null,null,null,null,"JH27 H:FREEHEAD TFO",3]
[null,null,null,null,null,null,null,null,null,null,null,null,null,null,null,null,null,null,null,null,null,null,null,null,null,null,null,null,null,null,null,null,null,null,null,null,null,null,null,null,null,null,null,null,null,null,null,null,null,null,null,null,null,null,null,null,null,null,null,null,null,null,null,null,null,null,null,null,null,null,null,null,null,null,null,null,null,null,null,null,null,null,null,null,null,null,null,null,"JH28 H:CALENDER 20%",7]
[null,null,null,null,null,null,null,null,null,null,null,null,null,null,null,null,null,null,null,null,null,null,null,null,null,null,null,null,null,null,null,null,null,null,null,null,null,null,null,null,null,null,null,null,null,null,null,null,null,null,null,null,null,null,null,null,null,null,null,null,null,null,null,null,null,null,null,null,null,null,null,null,null,null,null,null,null,null,null,null,null,null,null,null,null,null,null,null,"JH29 H:NB MEMBER",3]
[null,null,null,null,null,null,null,null,null,null,null,null,null,null,null,null,null,null,null,null,null,null,null,null,null,null,null,null,null,null,null,null,null,null,null,null,null,null,null,null,null,null,null,null,null,null,null,null,null,null,null,null,null,null,null,null,null,null,null,null,null,null,null,null,null,null,null,null,null,null,null,null,null,null,null,null,null,null,null,null,null,null,null,null,null,null,null,null,"JK01 K:REGULAR",53]
[null,null,null,null,null,null,null,null,null,null,null,null,null,null,null,null,null,null,null,null,null,null,null,null,null,null,null,null,null,null,null,null,null,null,null,null,null,null,null,null,null,null,null,null,null,null,null,null,null,null,null,null,null,null,null,null,null,null,null,null,null,null,null,null,null,null,null,null,null,null,null,null,null,null,null,null,null,null,null,null,null,null,null,null,null,null,null,null,"JK02 K:MEMBER"]
[null,null,null,null,null,null,null,null,null,null,null,null,null,null,null,null,null,null,null,null,null,null,null,null,null,null,null,null,null,null,null,null,null,null,null,null,null,null,null,null,null,null,null,null,null,null,null,null,null,null,null,null,null,null,null,null,null,null,null,null,null,null,null,null,null,null,null,null,null,null,null,null,null,null,null,null,null,null,null,null,null,null,null,null,null,null,null,null,"JK04 K:CHILDREN",90]
[null,null,null,null,null,null,null,null,null,null,null,null,null,null,null,null,null,null,null,null,null,null,null,null,null,null,null,null,null,null,null,null,null,null,null,null,null,null,null,null,null,null,null,null,null,null,null,null,null,null,null,null,null,null,null,null,null,null,null,null,null,null,null,null,null,null,null,null,null,null,null,null,null,null,null,null,null,null,null,null,null,null,null,null,null,null,null,null,"JK08 K:XTD S ROOM",1]
[null,null,null,null,null,null,null,null,null,null,null,null,null,null,null,null,null,null,null,null,null,null,null,null,null,null,null,null,null,null,null,null,null,null,null,null,null,null,null,null,null,null,null,null,null,null,null,null,null,null,null,null,null,null,null,null,null,null,null,null,null,null,null,null,null,null,null,null,null,null,null,null,null,null,null,null,null,null,null,null,null,null,null,null,null,null,null,null,"JK25 K:LUNCH",1496]
[null,null,null,null,null,null,null,null,null,null,null,null,null,null,null,null,null,null,null,null,null,null,null,null,null,null,null,null,null,null,null,null,null,null,null,null,null,null,null,null,null,null,null,null,null,null,null,null,null,null,null,null,null,null,null,null,null,null,null,null,null,null,null,null,null,null,null,null,null,null,null,null,null,null,null,null,null,null,null,null,null,null,null,null,null,null,null,null,"JM01 M:REGULAR",261]
[null,null,null,null,null,null,null,null,null,null,null,null,null,null,null,null,null,null,null,null,null,null,null,null,null,null,null,null,null,null,null,null,null,null,null,null,null,null,null,null,null,null,null,null,null,null,null,null,null,null,null,null,null,null,null,null,null,null,null,null,null,null,null,null,null,null,null,null,null,null,null,null,null,null,null,null,null,null,null,null,null,null,null,null,null,null,null,null,"JM02 M:MEMBER",167]
[null,null,null,null,null,null,null,null,null,null,null,null,null,null,null,null,null,null,null,null,null,null,null,null,null,null,null,null,null,null,null,null,null,null,null,null,null,null,null,null,null,null,null,null,null,null,null,null,null,null,null,null,null,null,null,null,null,null,null,null,null,null,null,null,null,null,null,null,null,null,null,null,null,null,null,null,null,null,null,null,null,null,null,null,null,null,null,null,"JM03 M:MEMBER B'DAY",11]
[null,null,null,null,null,null,null,null,null,null,null,null,null,null,null,null,null,null,null,null,null,null,null,null,null,null,null,null,null,null,null,null,null,null,null,null,null,null,null,null,null,null,null,null,null,null,null,null,null,null,null,null,null,null,null,null,null,null,null,null,null,null,null,null,null,null,null,null,null,null,null,null,null,null,null,null,null,null,null,null,null,null,null,null,null,null,null,null,"JM04 M:CHILDREN",7]
[null,null,null,null,null,null,null,null,null,null,null,null,null,null,null,null,null,null,null,null,null,null,null,null,null,null,null,null,null,null,null,null,null,null,null,null,null,null,null,null,null,null,null,null,null,null,null,null,null,null,null,null,null,null,null,null,null,null,null,null,null,null,null,null,null,null,null,null,null,null,null,null,null,null,null,null,null,null,null,null,null,null,null,null,null,null,null,null,"JM05 M:PROMOTION",4]
[null,null,null,null,null,null,null,null,null,null,null,null,null,null,null,null,null,null,null,null,null,null,null,null,null,null,null,null,null,null,null,null,null,null,null,null,null,null,null,null,null,null,null,null,null,null,null,null,null,null,null,null,null,null,null,null,null,null,null,null,null,null,null,null,null,null,null,null,null,null,null,null,null,null,null,null,null,null,null,null,null,null,null,null,null,null,null,null,"JM09 M:XTD M ROOM",1]
[null,null,null,null,null,null,null,null,null,null,null,null,null,null,null,null,null,null,null,null,null,null,null,null,null,null,null,null,null,null,null,null,null,null,null,null,null,null,null,null,null,null,null,null,null,null,null,null,null,null,null,null,null,null,null,null,null,null,null,null,null,null,null,null,null,null,null,null,null,null,null,null,null,null,null,null,null,null,null,null,null,null,null,null,null,null,null,null,"JM10 M:XTD B ROOM",1]
[null,null,null,null,null,null,null,null,null,null,null,null,null,null,null,null,null,null,null,null,null,null,null,null,null,null,null,null,null,null,null,null,null,null,null,null,null,null,null,null,null,null,null,null,null,null,null,null,null,null,null,null,null,null,null,null,null,null,null,null,null,null,null,null,null,null,null,null,null,null,null,null,null,null,null,null,null,null,null,null,null,null,null,null,null,null,null,null,"JM17 M:FREEHEAD",8]
[null,null,null,null,null,null,null,null,null,null,null,null,null,null,null,null,null,null,null,null,null,null,null,null,null,null,null,null,null,null,null,null,null,null,null,null,null,null,null,null,null,null,null,null,null,null,null,null,null,null,null,null,null,null,null,null,null,null,null,null,null,null,null,null,null,null,null,null,null,null,null,null,null,null,null,null,null,null,null,null,null,null,null,null,null,null,null,null,"JM18 M:4BP",8]
[null,null,null,null,null,null,null,null,null,null,null,null,null,null,null,null,null,null,null,null,null,null,null,null,null,null,null,null,null,null,null,null,null,null,null,null,null,null,null,null,null,null,null,null,null,null,null,null,null,null,null,null,null,null,null,null,null,null,null,null,null,null,null,null,null,null,null,null,null,null,null,null,null,null,null,null,null,null,null,null,null,null,null,null,null,null,null,null,"JM20 M:MEMBER 30%",22]
[null,null,null,null,null,null,null,null,null,null,null,null,null,null,null,null,null,null,null,null,null,null,null,null,null,null,null,null,null,null,null,null,null,null,null,null,null,null,null,null,null,null,null,null,null,null,null,null,null,null,null,null,null,null,null,null,null,null,null,null,null,null,null,null,null,null,null,null,null,null,null,null,null,null,null,null,null,null,null,null,null,null,null,null,null,null,null,null,"JM24 M:LADIES",187]
[null,null,null,null,null,null,null,null,null,null,null,null,null,null,null,null,null,null,null,null,null,null,null,null,null,null,null,null,null,null,null,null,null,null,null,null,null,null,null,null,null,null,null,null,null,null,null,null,null,null,null,null,null,null,null,null,null,null,null,null,null,null,null,null,null,null,null,null,null,null,null,null,null,null,null,null,null,null,null,null,null,null,null,null,null,null,null,null,"JM29 M:NB MEMBER",3]
[null,null,null,null,null,null,null,null,null,null,null,null,null,null,null,null,null,null,null,null,null,null,null,null,null,null,null,null,null,null,null,null,null,null,null,null,null,null,null,null,null,null,null,null,null,null,null,null,null,null,null,null,null,null,null,null,null,null,null,null,null,null,null,null,null,null,null,null,null,null,null,null,null,null,null,null,null,null,null,null,null,null,null,null,null,null,null,null,"JN01 N:REGULAR",978]
[null,null,null,null,null,null,null,null,null,null,null,null,null,null,null,null,null,null,null,null,null,null,null,null,null,null,null,null,null,null,null,null,null,null,null,null,null,null,null,null,null,null,null,null,null,null,null,null,null,null,null,null,null,null,null,null,null,null,null,null,null,null,null,null,null,null,null,null,null,null,null,null,null,null,null,null,null,null,null,null,null,null,null,null,null,null,null,null,"JN02 N:MEMBER",804]
[null,null,null,null,null,null,null,null,null,null,null,null,null,null,null,null,null,null,null,null,null,null,null,null,null,null,null,null,null,null,null,null,null,null,null,null,null,null,null,null,null,null,null,null,null,null,null,null,null,null,null,null,null,null,null,null,null,null,null,null,null,null,null,null,null,null,null,null,null,null,null,null,null,null,null,null,null,null,null,null,null,null,null,null,null,null,null,null,"JN03 N:MEMBER B'DAY",70]
[null,null,null,null,null,null,null,null,null,null,null,null,null,null,null,null,null,null,null,null,null,null,null,null,null,null,null,null,null,null,null,null,null,null,null,null,null,null,null,null,null,null,null,null,null,null,null,null,null,null,null,null,null,null,null,null,null,null,null,null,null,null,null,null,null,null,null,null,null,null,null,null,null,null,null,null,null,null,null,null,null,null,null,null,null,null,null,null,"JN04 N:CHILDREN",76]
[null,null,null,null,null,null,null,null,null,null,null,null,null,null,null,null,null,null,null,null,null,null,null,null,null,null,null,null,null,null,null,null,null,null,null,null,null,null,null,null,null,null,null,null,null,null,null,null,null,null,null,null,null,null,null,null,null,null,null,null,null,null,null,null,null,null,null,null,null,null,null,null,null,null,null,null,null,null,null,null,null,null,null,null,null,null,null,null,"JN05 N:PROMOTION",129]
[null,null,null,null,null,null,null,null,null,null,null,null,null,null,null,null,null,null,null,null,null,null,null,null,null,null,null,null,null,null,null,null,null,null,null,null,null,null,null,null,null,null,null,null,null,null,null,null,null,null,null,null,null,null,null,null,null,null,null,null,null,null,null,null,null,null,null,null,null,null,null,null,null,null,null,null,null,null,null,null,null,null,null,null,null,null,null,null,"JN08 N:XTD S ROOM",2]
[null,null,null,null,null,null,null,null,null,null,null,null,null,null,null,null,null,null,null,null,null,null,null,null,null,null,null,null,null,null,null,null,null,null,null,null,null,null,null,null,null,null,null,null,null,null,null,null,null,null,null,null,null,null,null,null,null,null,null,null,null,null,null,null,null,null,null,null,null,null,null,null,null,null,null,null,null,null,null,null,null,null,null,null,null,null,null,null,"JN09 N:XTD M ROOM",2]
[null,null,null,null,null,null,null,null,null,null,null,null,null,null,null,null,null,null,null,null,null,null,null,null,null,null,null,null,null,null,null,null,null,null,null,null,null,null,null,null,null,null,null,null,null,null,null,null,null,null,null,null,null,null,null,null,null,null,null,null,null,null,null,null,null,null,null,null,null,null,null,null,null,null,null,null,null,null,null,null,null,null,null,null,null,null,null,null,"JN10 N:XTD B ROOM",1]
[null,null,null,null,null,null,null,null,null,null,null,null,null,null,null,null,null,null,null,null,null,null,null,null,null,null,null,null,null,null,null,null,null,null,null,null,null,null,null,null,null,null,null,null,null,null,null,null,null,null,null,null,null,null,null,null,null,null,null,null,null,null,null,null,null,null,null,null,null,null,null,null,null,null,null,null,null,null,null,null,null,null,null,null,null,null,null,null,"JN17 N:FREEHEAD",70]
[null,null,null,null,null,null,null,null,null,null,null,null,null,null,null,null,null,null,null,null,null,null,null,null,null,null,null,null,null,null,null,null,null,null,null,null,null,null,null,null,null,null,null,null,null,null,null,null,null,null,null,null,null,null,null,null,null,null,null,null,null,null,null,null,null,null,null,null,null,null,null,null,null,null,null,null,null,null,null,null,null,null,null,null,null,null,null,null,"JN18 N:4BP",19]
[null,null,null,null,null,null,null,null,null,null,null,null,null,null,null,null,null,null,null,null,null,null,null,null,null,null,null,null,null,null,null,null,null,null,null,null,null,null,null,null,null,null,null,null,null,null,null,null,null,null,null,null,null,null,null,null,null,null,null,null,null,null,null,null,null,null,null,null,null,null,null,null,null,null,null,null,null,null,null,null,null,null,null,null,null,null,null,null,"JN19 N:MEMBER 4BP",2]
[null,null,null,null,null,null,null,null,null,null,null,null,null,null,null,null,null,null,null,null,null,null,null,null,null,null,null,null,null,null,null,null,null,null,null,null,null,null,null,null,null,null,null,null,null,null,null,null,null,null,null,null,null,null,null,null,null,null,null,null,null,null,null,null,null,null,null,null,null,null,null,null,null,null,null,null,null,null,null,null,null,null,null,null,null,null,null,null,"JN20 N:MEMBER 30%",205]
[null,null,null,null,null,null,null,null,null,null,null,null,null,null,null,null,null,null,null,null,null,null,null,null,null,null,null,null,null,null,null,null,null,null,null,null,null,null,null,null,null,null,null,null,null,null,null,null,null,null,null,null,null,null,null,null,null,null,null,null,null,null,null,null,null,null,null,null,null,null,null,null,null,null,null,null,null,null,null,null,null,null,null,null,null,null,null,null,"JN27 N:FREEHEAD TFO",4]
[null,null,null,null,null,null,null,null,null,null,null,null,null,null,null,null,null,null,null,null,null,null,null,null,null,null,null,null,null,null,null,null,null,null,null,null,null,null,null,null,null,null,null,null,null,null,null,null,null,null,null,null,null,null,null,null,null,null,null,null,null,null,null,null,null,null,null,null,null,null,null,null,null,null,null,null,null,null,null,null,null,null,null,null,null,null,null,null,"JN29 N:NB MEMBER",26]
[null,null,null,null,null,null,null,null,null,null,null,null,null,null,null,null,null,null,null,null,null,null,null,null,null,null,null,null,null,null,null,null,null,null,null,null,null,null,null,null,null,null,null,null,null,null,null,null,null,null,null,null,null,null,null,null,null,null,null,null,null,null,null,null,null,null,null,null,null,null,null,null,null,null,null,null,null,null,null,null,null,null,null,null,null,null,null,null,"JN30 N:AEON PROMOTION",7]
[null,null,null,null,null,null,null,null,null,null,null,null,null,null,null,null,null,null,null,null,null,null,null,null,null,null,null,null,null,null,null,null,null,null,null,null,null,null,null,null,null,null,null,null,null,null,null,null,null,null,null,null,null,null,null,null,null,null,null,null,null,null,null,null,null,null,null,null,null,null,null,null,null,null,null,null,null,null,null,null,null,null,null,null,null,null,null,null,"JN31 N:MAXIS 50%",8]
[null,null,null,null,null,null,null,null,null,null,null,null,null,null,null,null,null,null,null,null,null,null,null,null,null,null,null,null,null,null,null,null,null,null,null,null,null,null,null,null,null,null,null,null,null,null,null,null,null,null,null,null,null,null,null,null,null,null,null,null,null,null,null,null,null,null,null,null,null,null,null,null,null,null,null,null,null,null,null,null,null,null,null,null,null,null,null,null,"JN32 N:YEP MEM 50%",269]
[null,null,null,null,null,null,null,null,null,null,null,null,null,null,null,null,null,null,null,null,null,null,null,null,null,null,null,null,null,null,null,null,null,null,null,null,null,null,null,null,null,null,null,null,null,null,null,null,null,null,null,null,null,null,null,null,null,null,null,null,null,null,null,null,null,null,null,null,null,null,null,null,null,null,null,null,null,null,null,null,null,null,null,null,null,null,null,null,"JN33 N:YEP MEM 30%",74]
[null,null,null,null,null,null,null,null,null,null,null,null,null,null,null,null,null,null,null,null,null,null,null,null,null,null,null,null,null,null,null,null,null,null,null,null,null,null,null,null,null,null,null,null,null,null,null,null,null,null,null,null,null,null,null,null,null,null,null,null,null,null,null,null,null,null,null,null,null,null,null,null,null,null,null,null,null,null,null,null,null,null,null,null,null,null,null,null,"JU01 2501:GRAPE J",2]
[null,null,null,null,null,null,null,null,null,null,null,null,null,null,null,null,null,null,null,null,null,null,null,null,null,null,null,null,null,null,null,null,null,null,null,null,null,null,null,null,null,null,null,null,null,null,null,null,null,null,null,null,null,null,null,null,null,null,null,null,null,null,null,null,null,null,null,null,null,null,null,null,null,null,null,null,null,null,null,null,null,null,null,null,null,null,null,null,"JU02 2502:APPLE J",1]
[null,null,null,null,null,null,null,null,null,null,null,null,null,null,null,null,null,null,null,null,null,null,null,null,null,null,null,null,null,null,null,null,null,null,null,null,null,null,null,null,null,null,null,null,null,null,null,null,null,null,null,null,null,null,null,null,null,null,null,null,null,null,null,null,null,null,null,null,null,null,null,null,null,null,null,null,null,null,null,null,null,null,null,null,null,null,null,null,"JU03 2503:MANGO J"]
[null,null,null,null,null,null,null,null,null,null,null,null,null,null,null,null,null,null,null,null,null,null,null,null,null,null,null,null,null,null,null,null,null,null,null,null,null,null,null,null,null,null,null,null,null,null,null,null,null,null,null,null,null,null,null,null,null,null,null,null,null,null,null,null,null,null,null,null,null,null,null,null,null,null,null,null,null,null,null,null,null,null,null,null,null,null,null,null,"LC01 1101:THAI CHK",40]
[null,null,null,null,null,null,null,null,null,null,null,null,null,null,null,null,null,null,null,null,null,null,null,null,null,null,null,null,null,null,null,null,null,null,null,null,null,null,null,null,null,null,null,null,null,null,null,null,null,null,null,null,null,null,null,null,null,null,null,null,null,null,null,null,null,null,null,null,null,null,null,null,null,null,null,null,null,null,null,null,null,null,null,null,null,null,null,null,"LC02 1102:MAMITE CHK",56]
[null,null,null,null,null,null,null,null,null,null,null,null,null,null,null,null,null,null,null,null,null,null,null,null,null,null,null,null,null,null,null,null,null,null,null,null,null,null,null,null,null,null,null,null,null,null,null,null,null,null,null,null,null,null,null,null,null,null,null,null,null,null,null,null,null,null,null,null,null,null,null,null,null,null,null,null,null,null,null,null,null,null,null,null,null,null,null,null,"LC05 1105:BUTTER CHK",71]
[null,null,null,null,null,null,null,null,null,null,null,null,null,null,null,null,null,null,null,null,null,null,null,null,null,null,null,null,null,null,null,null,null,null,null,null,null,null,null,null,null,null,null,null,null,null,null,null,null,null,null,null,null,null,null,null,null,null,null,null,null,null,null,null,null,null,null,null,null,null,null,null,null,null,null,null,null,null,null,null,null,null,null,null,null,null,null,null,"LC17 1117:THAI FSH",16]
[null,null,null,null,null,null,null,null,null,null,null,null,null,null,null,null,null,null,null,null,null,null,null,null,null,null,null,null,null,null,null,null,null,null,null,null,null,null,null,null,null,null,null,null,null,null,null,null,null,null,null,null,null,null,null,null,null,null,null,null,null,null,null,null,null,null,null,null,null,null,null,null,null,null,null,null,null,null,null,null,null,null,null,null,null,null,null,null,"LC18 1118:MAMITE FSH",15]
[null,null,null,null,null,null,null,null,null,null,null,null,null,null,null,null,null,null,null,null,null,null,null,null,null,null,null,null,null,null,null,null,null,null,null,null,null,null,null,null,null,null,null,null,null,null,null,null,null,null,null,null,null,null,null,null,null,null,null,null,null,null,null,null,null,null,null,null,null,null,null,null,null,null,null,null,null,null,null,null,null,null,null,null,null,null,null,null,"LC19 1119:BUTTER FSH",22]
[null,null,null,null,null,null,null,null,null,null,null,null,null,null,null,null,null,null,null,null,null,null,null,null,null,null,null,null,null,null,null,null,null,null,null,null,null,null,null,null,null,null,null,null,null,null,null,null,null,null,null,null,null,null,null,null,null,null,null,null,null,null,null,null,null,null,null,null,null,null,null,null,null,null,null,null,null,null,null,null,null,null,null,null,null,null,null,null,"LF01 91101:THAI CHK",71]
[null,null,null,null,null,null,null,null,null,null,null,null,null,null,null,null,null,null,null,null,null,null,null,null,null,null,null,null,null,null,null,null,null,null,null,null,null,null,null,null,null,null,null,null,null,null,null,null,null,null,null,null,null,null,null,null,null,null,null,null,null,null,null,null,null,null,null,null,null,null,null,null,null,null,null,null,null,null,null,null,null,null,null,null,null,null,null,null,"LF02 91102:MAMITE CHK",97]
[null,null,null,null,null,null,null,null,null,null,null,null,null,null,null,null,null,null,null,null,null,null,null,null,null,null,null,null,null,null,null,null,null,null,null,null,null,null,null,null,null,null,null,null,null,null,null,null,null,null,null,null,null,null,null,null,null,null,null,null,null,null,null,null,null,null,null,null,null,null,null,null,null,null,null,null,null,null,null,null,null,null,null,null,null,null,null,null,"LF05 91105:BUTTER CHK",116]
[null,null,null,null,null,null,null,null,null,null,null,null,null,null,null,null,null,null,null,null,null,null,null,null,null,null,null,null,null,null,null,null,null,null,null,null,null,null,null,null,null,null,null,null,null,null,null,null,null,null,null,null,null,null,null,null,null,null,null,null,null,null,null,null,null,null,null,null,null,null,null,null,null,null,null,null,null,null,null,null,null,null,null,null,null,null,null,null,"LF17 91117:THAI FSH",29]
[null,null,null,null,null,null,null,null,null,null,null,null,null,null,null,null,null,null,null,null,null,null,null,null,null,null,null,null,null,null,null,null,null,null,null,null,null,null,null,null,null,null,null,null,null,null,null,null,null,null,null,null,null,null,null,null,null,null,null,null,null,null,null,null,null,null,null,null,null,null,null,null,null,null,null,null,null,null,null,null,null,null,null,null,null,null,null,null,"LF18 91118:MAMITE FSH",36]
[null,null,null,null,null,null,null,null,null,null,null,null,null,null,null,null,null,null,null,null,null,null,null,null,null,null,null,null,null,null,null,null,null,null,null,null,null,null,null,null,null,null,null,null,null,null,null,null,null,null,null,null,null,null,null,null,null,null,null,null,null,null,null,null,null,null,null,null,null,null,null,null,null,null,null,null,null,null,null,null,null,null,null,null,null,null,null,null,"LF19 91119:BUTTER FSH",57]
[null,null,null,null,null,null,null,null,null,null,null,null,null,null,null,null,null,null,null,null,null,null,null,null,null,null,null,null,null,null,null,null,null,null,null,null,null,null,null,null,null,null,null,null,null,null,null,null,null,null,null,null,null,null,null,null,null,null,null,null,null,null,null,null,null,null,null,null,null,null,null,null,null,null,null,null,null,null,null,null,null,null,null,null,null,null,null,null,"MC02 MIC COVER X 3",49]
[null,null,null,null,null,null,null,null,null,null,null,null,null,null,null,null,null,null,null,null,null,null,null,null,null,null,null,null,null,null,null,null,null,null,null,null,null,null,null,null,null,null,null,null,null,null,null,null,null,null,null,null,null,null,null,null,null,null,null,null,null,null,null,null,null,null,null,null,null,null,null,null,null,null,null,null,null,null,null,null,null,null,null,null,null,null,null,null,"OS01 FREEHEAD (R)",103]
[null,null,null,null,null,null,null,null,null,null,null,null,null,null,null,null,null,null,null,null,null,null,null,null,null,null,null,null,null,null,null,null,null,null,null,null,null,null,null,null,null,null,null,null,null,null,null,null,null,null,null,null,null,null,null,null,null,null,null,null,null,null,null,null,null,null,null,null,null,null,null,null,null,null,null,null,null,null,null,null,null,null,null,null,null,null,null,null,"OS12 REBATE RM10",309]
[null,null,null,null,null,null,null,null,null,null,null,null,null,null,null,null,null,null,null,null,null,null,null,null,null,null,null,null,null,null,null,null,null,null,null,null,null,null,null,null,null,null,null,null,null,null,null,null,null,null,null,null,null,null,null,null,null,null,null,null,null,null,null,null,null,null,null,null,null,null,null,null,null,null,null,null,null,null,null,null,null,null,null,null,null,null,null,null,"OU02 LIGHTER",21]
[null,null,null,null,null,null,null,null,null,null,null,null,null,null,null,null,null,null,null,null,null,null,null,null,null,null,null,null,null,null,null,null,null,null,null,null,null,null,null,null,null,null,null,null,null,null,null,null,null,null,null,null,null,null,null,null,null,null,null,null,null,null,null,null,null,null,null,null,null,null,null,null,null,null,null,null,null,null,null,null,null,null,null,null,null,null,null,null,"OU03 MISC FEE",2]
[null,null,null,null,null,null,null,null,null,null,null,null,null,null,null,null,null,null,null,null,null,null,null,null,null,null,null,null,null,null,null,null,null,null,null,null,null,null,null,null,null,null,null,null,null,null,null,null,null,null,null,null,null,null,null,null,null,null,null,null,null,null,null,null,null,null,null,null,null,null,null,null,null,null,null,null,null,null,null,null,null,null,null,null,null,null,null,null,"OW04 PENALTY",1]
[null,null,null,null,null,null,null,null,null,null,null,null,null,null,null,null,null,null,null,null,null,null,null,null,null,null,null,null,null,null,null,null,null,null,null,null,null,null,null,null,null,null,null,null,null,null,null,null,null,null,null,null,null,null,null,null,null,null,null,null,null,null,null,null,null,null,null,null,null,null,null,null,null,null,null,null,null,null,null,null,null,null,null,null,null,null,null,null,"OX01 REGULAR MEM CARD",103]
[null,null,null,null,null,null,null,null,null,null,null,null,null,null,null,null,null,null,null,null,null,null,null,null,null,null,null,null,null,null,null,null,null,null,null,null,null,null,null,null,null,null,null,null,null,null,null,null,null,null,null,null,null,null,null,null,null,null,null,null,null,null,null,null,null,null,null,null,null,null,null,null,null,null,null,null,null,null,null,null,null,null,null,null,null,null,null,null,"OX02 REGULAR REPLACE",5]
[null,null,null,null,null,null,null,null,null,null,null,null,null,null,null,null,null,null,null,null,null,null,null,null,null,null,null,null,null,null,null,null,null,null,null,null,null,null,null,null,null,null,null,null,null,null,null,null,null,null,null,null,null,null,null,null,null,null,null,null,null,null,null,null,null,null,null,null,null,null,null,null,null,null,null,null,null,null,null,null,null,null,null,null,null,null,null,null,"OX11 AEON MEMBER CARD",24]
[null,null,null,null,null,null,null,null,null,null,null,null,null,null,null,null,null,null,null,null,null,null,null,null,null,null,null,null,null,null,null,null,null,null,null,null,null,null,null,null,null,null,null,null,null,null,null,null,null,null,null,null,null,null,null,null,null,null,null,null,null,null,null,null,null,null,null,null,null,null,null,null,null,null,null,null,null,null,null,null,null,null,null,null,null,null,null,null,"OX21 ST MEM CARD",4]
[null,null,null,null,null,null,null,null,null,null,null,null,null,null,null,null,null,null,null,null,null,null,null,null,null,null,null,null,null,null,null,null,null,null,null,null,null,null,null,null,null,null,null,null,null,null,null,null,null,null,null,null,null,null,null,null,null,null,null,null,null,null,null,null,null,null,null,null,null,null,null,null,null,null,null,null,null,null,null,null,null,null,null,null,null,null,null,null,"OX22 ST REPLACE",3]
[null,null,null,null,null,null,null,null,null,null,null,null,null,null,null,null,null,null,null,null,null,null,null,null,null,null,null,null,null,null,null,null,null,null,null,null,null,null,null,null,null,null,null,null,null,null,null,null,null,null,null,null,null,null,null,null,null,null,null,null,null,null,null,null,null,null,null,null,null,null,null,null,null,null,null,null,null,null,null,null,null,null,null,null,null,null,null,null,"PN12 N:10BP (10%)",1]
[null,null,null,null,null,null,null,null,null,null,null,null,null,null,null,null,null,null,null,null,null,null,null,null,null,null,null,null,null,null,null,null,null,null,null,null,null,null,null,null,null,null,null,null,null,null,null,null,null,null,null,null,null,null,null,null,null,null,null,null,null,null,null,null,null,null,null,null,null,null,null,null,null,null,null,null,null,null,null,null,null,null,null,null,null,null,null,null,"PN13 N:10BP (20%)",1]
[null,null,null,null,null,null,null,null,null,null,null,null,null,null,null,null,null,null,null,null,null,null,null,null,null,null,null,null,null,null,null,null,null,null,null,null,null,null,null,null,null,null,null,null,null,null,null,null,null,null,null,null,null,null,null,null,null,null,null,null,null,null,null,null,null,null,null,null,null,null,null,null,null,null,null,null,null,null,null,null,null,null,null,null,null,null,null,null,"RL02 71102:MAMITE CHK",1]
[null,null,null,null,null,null,null,null,null,null,null,null,null,null,null,null,null,null,null,null,null,null,null,null,null,null,null,null,null,null,null,null,null,null,null,null,null,null,null,null,null,null,null,null,null,null,null,null,null,null,null,null,null,null,null,null,null,null,null,null,null,null,null,null,null,null,null,null,null,null,null,null,null,null,null,null,null,null,null,null,null,null,null,null,null,null,null,null,"RL05 71105:BUTTER CHK",1]
[null,null,null,null,"15001:Member Card",6,null,"14031:SD-Ice Jasmine Green Tea",11,null,null,null,null,null,null,null,null,null,null,null,null,null,null,null,null,null,null,null,null,null,null,null,null,null,null,null,null,null,null,null,null,null,null,null,null,null,"14031:SD-Ice Jasmine Green Tea",18,null,null,null,null,null,null,null,null,null,null,null,null,null,null,null,null,null,null,null,null,null,null,null,null,null,null,null,null,null,null,null,null,null,null,null,null,null,null,null,null,"RL19 71119:BUTTER FSH",1]
[null,null,null,null,"15004:ST Renew Member Card",1,null,"14033:SD-Ice Honey Green Tea",4,null,null,null,null,null,null,null,null,null,null,null,null,null,null,null,null,null,null,null,null,null,null,null,null,null,null,null,null,null,null,null,null,null,null,null,null,null,"14033:SD-Ice Honey Green Tea",9,null,null,null,null,null,null,null,null,null,null,null,null,null,null,null,null,null,null,null,null,null,null,null,null,null,null,null,null,null,null,null,null,null,null,null,null,null,null,null,null,"RQ01 1601:ADD RICE",81]
[null,null,null,null,"15005:58 Member Card",6,null,"15001:Member Card",13,null,null,null,null,null,null,null,null,null,null,null,null,null,null,null,null,null,null,null,null,null,null,null,null,null,null,null,null,null,null,null,null,null,null,null,null,null,"15001:Member Card",17,null,null,null,null,null,null,null,null,null,null,null,null,null,null,null,null,null,null,null,null,null,null,null,null,null,null,null,null,null,null,null,null,null,null,null,null,null,null,null,null,"RQ03 ADD SAUCE 1000",4]
[null,null,null,null,"19013:7 Up Jug",4,null,"15002:Renew Member Card",1,null,null,null,null,null,null,null,null,null,null,null,null,null,null,null,null,null,null,null,null,null,null,null,null,null,null,null,null,null,null,null,null,null,null,null,null,null,"15002:Renew Member Card",1,null,null,null,null,null,null,null,null,null,null,null,null,null,null,null,null,null,null,null,null,null,null,null,null,null,null,null,null,null,null,null,null,null,null,null,null,null,null,null,null,"RQ06 ADD SAUCE BUTTER",7]
[null,null,null,null,"30001:Appetizer Combo Set A",18,null,"15003:ST Member Card",5,null,null,null,null,null,null,null,null,null,null,null,null,null,null,null,null,null,null,null,null,null,null,null,null,null,null,null,null,null,null,null,null,null,null,null,null,null,"15003:ST Member Card",1,null,null,null,null,null,null,null,null,null,null,null,null,null,null,null,null,null,null,null,null,null,null,null,null,null,null,null,null,null,null,null,null,null,null,null,null,null,null,null,null,"RQ07 ADD SAUCE C.PADI",5]
[null,null,null,null,"30002:Appetizer Combo Set B",13,null,"15005:58 Member Card",2,null,null,null,null,null,null,null,null,null,null,null,null,null,null,null,null,null,null,null,null,null,null,null,null,null,null,null,null,null,null,null,null,null,null,null,null,null,"15005:58 Member Card",2,null,null,null,null,null,null,null,null,null,null,null,null,null,null,null,null,null,null,null,null,null,null,null,null,null,null,null,null,null,null,null,null,null,null,null,null,null,null,null,null,"RQ10 ADD SAUCE MAYO",25]
[null,null,null,null,"30005:Lok Lok Special Package C ",1,null,"30001:Appetizer Combo Set A",19,null,null,null,null,null,null,null,null,null,null,null,null,null,null,null,null,null,null,null,null,null,null,null,null,null,null,null,null,null,null,null,null,null,null,null,null,null,"30001:Appetizer Combo Set A",15,null,null,null,null,null,null,null,null,null,null,null,null,null,null,null,null,null,null,null,null,null,null,null,null,null,null,null,null,null,null,null,null,null,null,null,null,null,null,null,null,"RQ11 ADD SAUCE MAMITE",2]
[null,null,null,null,null,null,null,"30002:Appetizer Combo Set B",6,null,null,null,null,null,null,null,null,null,null,null,null,null,null,null,null,null,null,null,null,null,null,null,null,null,null,null,null,null,null,null,null,null,null,null,null,null,"30002:Appetizer Combo Set B",12,null,null,null,null,null,null,null,null,null,null,null,null,null,null,null,null,null,null,null,null,null,null,null,null,null,null,null,null,null,null,null,null,null,null,null,null,null,null,null,null,"RQ12 ADD SAUCE MR",3]
[null,null,null,null,null,null,null,"30003:Combo Lok Lok Package A",1,null,null,null,null,null,null,null,null,null,null,null,null,null,null,null,null,null,null,null,null,null,null,null,null,null,null,null,null,null,null,null,null,null,null,null,null,null,"30003:Combo Lok Lok Package A",2,null,null,null,null,null,null,null,null,null,null,null,null,null,null,null,null,null,null,null,null,null,null,null,null,null,null,null,null,null,null,null,null,null,null,null,null,null,null,null,null,"RQ14 ADD SAUCE TARTAR",5]
[null,null,null,null,null,null,null,"30005:Lok Lok Special Package C ",2,null,null,null,null,null,null,null,null,null,null,null,null,null,null,null,null,null,null,null,null,null,null,null,null,null,null,null,null,null,null,null,null,null,null,null,null,null,"30013:Lok Lok Platter A",6,null,null,null,null,null,null,null,null,null,null,null,null,null,null,null,null,null,null,null,null,null,null,null,null,null,null,null,null,null,null,null,null,null,null,null,null,null,null,null,null,"RQ15 ADD SAUCE THAI",1]
[null,null,null,null,null,null,null,null,null,null,null,null,null,null,null,null,null,null,null,null,null,null,null,null,null,null,null,null,null,null,null,null,null,null,null,null,null,null,null,null,null,null,null,null,null,null,"30015:Lok Lok Platter",6,null,null,null,null,null,null,null,null,null,null,null,null,null,null,null,null,null,null,null,null,null,null,null,null,null,null,null,null,null,null,null,null,null,null,null,null,null,null,null,null,"RQ17 1603:ADD F.EGG",7]
[null,null,null,null,null,null,null,null,null,null,null,null,null,null,null,null,null,null,null,null,null,null,null,null,null,null,null,null,null,null,null,null,null,null,null,null,null,null,null,null,null,null,null,null,null,null,null,null,null,null,null,null,null,null,null,null,null,null,null,null,null,null,null,null,null,null,null,null,null,null,null,null,null,null,null,null,null,null,null,null,null,null,null,null,null,null,null,null,"RS02 71202:FREN FRIES",5]
[null,null,null,null,null,null,null,null,null,null,null,null,null,null,null,null,null,null,null,null,null,null,null,null,null,null,null,null,null,null,null,null,null,null,null,null,null,null,null,null,null,null,null,null,null,null,null,null,null,null,null,null,null,null,null,null,null,null,null,null,null,null,null,null,null,null,null,null,null,null,null,null,null,null,null,null,null,null,null,null,null,null,null,null,null,null,null,null,"RS04 71204:FSH BALL",2]
[null,null,null,null,null,null,null,null,null,null,null,null,null,null,null,null,null,null,null,null,null,null,null,null,null,null,null,null,null,null,null,null,null,null,null,null,null,null,null,null,null,null,null,null,null,null,null,null,null,null,null,null,null,null,null,null,null,null,null,null,null,null,null,null,null,null,null,null,null,null,null,null,null,null,null,null,null,null,null,null,null,null,null,null,null,null,null,null,"RS07 71207:SAUSG",1]
[null,null,null,null,null,null,null,null,null,null,null,null,null,null,null,null,null,null,null,null,null,null,null,null,null,null,null,null,null,null,null,null,null,null,null,null,null,null,null,null,null,null,null,null,null,null,null,null,null,null,null,null,null,null,null,null,null,null,null,null,null,null,null,null,null,null,null,null,null,null,null,null,null,null,null,null,null,null,null,null,null,null,null,null,null,null,null,null,"RS09 71209:SF TF",1]
[null,null,null,null,null,null,null,null,null,null,null,null,null,null,null,null,null,null,null,null,null,null,null,null,null,null,null,null,null,null,null,null,null,null,null,null,null,null,null,null,null,null,null,null,null,null,null,null,null,null,null,null,null,null,null,null,null,null,null,null,null,null,null,null,null,null,null,null,null,null,null,null,null,null,null,null,null,null,null,null,null,null,null,null,null,null,null,null,"RS11 71211:BBQ CHK",1]
[null,null,null,null,null,null,null,null,null,null,null,null,null,null,null,null,null,null,null,null,null,null,null,null,null,null,null,null,null,null,null,null,null,null,null,null,null,null,null,null,null,null,null,null,null,null,null,null,null,null,null,null,null,null,null,null,null,null,null,null,null,null,null,null,null,null,null,null,null,null,null,null,null,null,null,null,null,null,null,null,null,null,null,null,null,null,null,null,"RS32 71302:NUGGET",7]
[null,null,null,null,null,null,null,null,null,null,null,null,null,null,null,null,null,null,null,null,null,null,null,null,null,null,null,null,null,null,null,null,null,null,null,null,null,null,null,null,null,null,null,null,null,null,null,null,null,null,null,null,null,null,null,null,null,null,null,null,null,null,null,null,null,null,null,null,null,null,null,null,null,null,null,null,null,null,null,null,null,null,null,null,null,null,null,null,"RS33 71303:CHK WING",3]
[null,null,null,null,null,null,null,null,null,null,null,null,null,null,null,null,null,null,null,null,null,null,null,null,null,null,null,null,null,null,null,null,null,null,null,null,null,null,null,null,null,null,null,null,null,null,null,null,null,null,null,null,null,null,null,null,null,null,null,null,null,null,null,null,null,null,null,null,null,null,null,null,null,null,null,null,null,null,null,null,null,null,null,null,null,null,null,null,"RS38 71308:MC RING",1]
[null,null,null,null,null,null,null,null,null,null,null,null,null,null,null,null,null,null,null,null,null,null,null,null,null,null,null,null,null,null,null,null,null,null,null,null,null,null,null,null,null,null,null,null,null,null,null,null,null,null,null,null,null,null,null,null,null,null,null,null,null,null,null,null,null,null,null,null,null,null,null,null,null,null,null,null,null,null,null,null,null,null,null,null,null,null,null,null,"RS39 71309:MC S.FRIES",2]
[{"$f":"IFERROR(IF(INDIRECT($A$14&ROW())<>\"\",COUNTIF([1]Summary!$B$30:$B$1029,INDIRECT($A$14&ROW())),\"\"),\"\")","v":""},null,null,null,null,null,null,null,null,null,null,null,null,null,null,null,null,null,null,null,null,null,null,null,null,null,null,null,null,null,null,null,null,null,null,null,null,null,null,null,null,null,null,null,null,null,null,null,null,null,null,null,null,null,null,null,null,null,null,null,null,null,null,null,null,null,null,null,null,null,null,null,null,null,null,null,null,null,null,null,null,null,null,null,null,null,null,null,"RS40 71310:MC HP SMIL",1]
[{"$f":"IFERROR(IF(INDIRECT($A$14&ROW())<>\"\",COUNTIF([1]Summary!$B$30:$B$1029,INDIRECT($A$14&ROW())),\"\"),\"\")","v":""},null,null,null,null,null,null,null,null,null,null,null,null,null,null,null,null,null,null,null,null,null,null,null,null,null,null,null,null,null,null,null,null,null,null,null,null,null,null,null,null,null,null,null,null,null,null,null,null,null,null,null,null,null,null,null,null,null,null,null,null,null,null,null,null,null,null,null,null,null,null,null,null,null,null,null,null,null,null,null,null,null,null,null,null,null,null,null,"RS41 71311:MC HSH BRW",1]
[{"$f":"IFERROR(IF(INDIRECT($A$14&ROW())<>\"\",COUNTIF([1]Summary!$B$30:$B$1029,INDIRECT($A$14&ROW())),\"\"),\"\")","v":""},null,null,null,null,null,null,null,null,null,null,null,null,null,null,null,null,null,null,null,null,null,null,null,null,null,null,null,null,null,null,null,null,null,null,null,null,null,null,null,null,null,null,null,null,null,null,null,null,null,null,null,null,null,null,null,null,null,null,null,null,null,null,null,null,null,null,null,null,null,null,null,null,null,null,null,null,null,null,null,null,null,null,null,null,null,null,null,"RW01 71001:BP CKN CP",3]
[{"$f":"IFERROR(IF(INDIRECT($A$14&ROW())<>\"\",COUNTIF([1]Summary!$B$30:$B$1029,INDIRECT($A$14&ROW())),\"\"),\"\")","v":""},null,null,null,null,null,null,null,null,null,null,null,null,null,null,null,null,null,null,null,null,null,null,null,null,null,null,null,null,null,null,null,null,null,null,null,null,null,null,null,null,null,null,null,null,null,null,null,null,null,null,null,null,null,null,null,null,null,null,null,null,null,null,null,null,null,null,null,null,null,null,null,null,null,null,null,null,null,null,null,null,null,null,null,null,null,null,null,"RW03 71003:MR CKN CP",3]
[{"$f":"IFERROR(IF(INDIRECT($A$14&ROW())<>\"\",COUNTIF([1]Summary!$B$30:$B$1029,INDIRECT($A$14&ROW())),\"\"),\"\")","v":""},null,null,null,null,null,null,null,null,null,null,null,null,null,null,null,null,null,null,null,null,null,null,null,null,null,null,null,null,null,null,null,null,null,null,null,null,null,null,null,null,null,null,null,null,null,null,null,null,null,null,null,null,null,null,null,null,null,null,null,null,null,null,null,null,null,null,null,null,null,null,null,null,null,null,null,null,null,null,null,null,null,null,null,null,null,null,null,"RW04 71004:CKN MARY",3]
[{"$f":"IFERROR(IF(INDIRECT($A$14&ROW())<>\"\",COUNTIF([1]Summary!$B$30:$B$1029,INDIRECT($A$14&ROW())),\"\"),\"\")","v":""},null,null,null,null,null,null,null,null,null,null,null,null,null,null,null,null,null,null,null,null,null,null,null,null,null,null,null,null,null,null,null,null,null,null,null,null,null,null,null,null,null,null,null,null,null,null,null,null,null,null,null,null,null,null,null,null,null,null,null,null,null,null,null,null,null,null,null,null,null,null,null,null,null,null,null,null,null,null,null,null,null,null,null,null,null,null,null,"RW05 71005:FSH&CHIP",4]
[{"$f":"IFERROR(IF(INDIRECT($A$14&ROW())<>\"\",COUNTIF([1]Summary!$B$30:$B$1029,INDIRECT($A$14&ROW())),\"\"),\"\")","v":""},null,null,null,null,null,null,null,null,null,null,null,null,null,null,null,null,null,null,null,null,null,null,null,null,null,null,null,null,null,null,null,null,null,null,null,null,null,null,null,null,null,null,null,null,null,null,null,null,null,null,null,null,null,null,null,null,null,null,null,null,null,null,null,null,null,null,null,null,null,null,null,null,null,null,null,null,null,null,null,null,null,null,null,null,null,null,null,"RW07 71007:CHK SALAD",1]
[{"$f":"IFERROR(IF(INDIRECT($A$14&ROW())<>\"\",COUNTIF([1]Summary!$B$30:$B$1029,INDIRECT($A$14&ROW())),\"\"),\"\")","v":""},null,null,null,null,null,null,null,null,null,null,null,null,null,null,null,null,null,null,null,null,null,null,null,null,null,null,null,null,null,null,null,null,null,null,null,null,null,null,null,null,null,null,null,null,null,null,null,null,null,null,null,null,null,null,null,null,null,null,null,null,null,null,null,null,null,null,null,null,null,null,null,null,null,null,null,null,null,null,null,null,null,null,null,null,null,null,null,"SD01 2701:7UP PPMINT"]
[{"$f":"IFERROR(IF(INDIRECT($A$14&ROW())<>\"\",COUNTIF([1]Summary!$B$30:$B$1029,INDIRECT($A$14&ROW())),\"\"),\"\")","v":""},null,null,null,null,null,null,null,null,null,null,null,null,null,null,null,null,null,null,null,null,null,null,null,null,null,null,null,null,null,null,null,null,null,null,null,null,null,null,null,null,null,null,null,null,null,null,null,null,null,null,null,null,null,null,null,null,null,null,null,null,null,null,null,null,null,null,null,null,null,null,null,null,null,null,null,null,null,null,null,null,null,null,null,null,null,null,null,"SF01 92601:GRAPE SO",70]
[{"$f":"IFERROR(IF(INDIRECT($A$14&ROW())<>\"\",COUNTIF([1]Summary!$B$30:$B$1029,INDIRECT($A$14&ROW())),\"\"),\"\")","v":""},null,null,null,null,null,null,null,null,null,null,null,null,null,null,null,null,null,null,null,null,null,null,null,null,null,null,null,null,null,null,null,null,null,null,null,null,null,null,null,null,null,null,null,null,null,null,null,null,null,null,null,null,null,null,null,null,null,null,null,null,null,null,null,null,null,null,null,null,null,null,null,null,null,null,null,null,null,null,null,null,null,null,null,null,null,null,null,"SF02 92602:APPLE SO",101]
[{"$f":"IFERROR(IF(INDIRECT($A$14&ROW())<>\"\",COUNTIF([1]Summary!$B$30:$B$1029,INDIRECT($A$14&ROW())),\"\"),\"\")","v":""},null,null,null,null,null,null,null,null,null,null,null,null,null,null,null,null,null,null,null,null,null,null,null,null,null,null,null,null,null,null,null,null,null,null,null,null,null,null,null,null,null,null,null,null,null,null,null,null,null,null,null,null,null,null,null,null,null,null,null,null,null,null,null,null,null,null,null,null,null,null,null,null,null,null,null,null,null,null,null,null,null,null,null,null,null,null,null,"SF03 92603:MANGO SO",47]
[{"$f":"IFERROR(IF(INDIRECT($A$14&ROW())<>\"\",COUNTIF([1]Summary!$B$30:$B$1029,INDIRECT($A$14&ROW())),\"\"),\"\")","v":""},null,null,null,null,null,null,null,null,null,null,null,null,null,null,null,null,null,null,null,null,null,null,null,null,null,null,null,null,null,null,null,null,null,null,null,null,null,null,null,null,null,null,null,null,null,null,null,null,null,null,null,null,null,null,null,null,null,null,null,null,null,null,null,null,null,null,null,null,null,null,null,null,null,null,null,null,null,null,null,null,null,null,null,null,null,null,null,"SF04 92604:PASSION SO",74]
[{"$f":"IFERROR(IF(INDIRECT($A$14&ROW())<>\"\",COUNTIF([1]Summary!$B$30:$B$1029,INDIRECT($A$14&ROW())),\"\"),\"\")","v":""},null,null,null,null,null,null,null,null,null,null,null,null,null,null,null,null,null,null,null,null,null,null,null,null,null,null,null,null,null,null,null,null,null,null,null,null,null,null,null,null,null,null,null,null,null,null,null,null,null,null,null,null,null,null,null,null,null,null,null,null,null,null,null,null,null,null,null,null,null,null,null,null,null,null,null,null,null,null,null,null,null,null,null,null,null,null,null,"SF05 92605:RIBENA SO",116]
[{"$f":"IFERROR(IF(INDIRECT($A$14&ROW())<>\"\",COUNTIF([1]Summary!$B$30:$B$1029,INDIRECT($A$14&ROW())),\"\"),\"\")","v":""},null,null,null,null,null,null,null,null,null,null,null,null,null,null,null,null,null,null,null,null,null,null,null,null,null,null,null,null,null,null,null,null,null,null,null,null,null,null,null,null,null,null,null,null,null,null,null,null,null,null,null,null,null,null,null,null,null,null,null,null,null,null,null,null,null,null,null,null,null,null,null,null,null,null,null,null,null,null,null,null,null,null,null,null,null,null,null,"SG01 92701:7UP PPMINT",37]
[{"$f":"IFERROR(IF(INDIRECT($A$14&ROW())<>\"\",COUNTIF([1]Summary!$B$30:$B$1029,INDIRECT($A$14&ROW())),\"\"),\"\")","v":""},null,null,null,null,null,null,null,null,null,null,null,null,null,null,null,null,null,null,null,null,null,null,null,null,null,null,null,null,null,null,null,null,null,null,null,null,null,null,null,null,null,null,null,null,null,null,null,null,null,null,null,null,null,null,null,null,null,null,null,null,null,null,null,null,null,null,null,null,null,null,null,null,null,null,null,null,null,null,null,null,null,null,null,null,null,null,null,"SG03 92703:ROSE TEA",35]
[{"$f":"IFERROR(IF(INDIRECT($A$14&ROW())<>\"\",COUNTIF([1]Summary!$B$30:$B$1029,INDIRECT($A$14&ROW())),\"\"),\"\")","v":""},null,null,null,null,null,null,null,null,null,null,null,null,null,null,null,null,null,null,null,null,null,null,null,null,null,null,null,null,null,null,null,null,null,null,null,null,null,null,null,null,null,null,null,null,null,null,null,null,null,null,null,null,null,null,null,null,null,null,null,null,null,null,null,null,null,null,null,null,null,null,null,null,null,null,null,null,null,null,null,null,null,null,null,null,null,null,null,"SM02 2802:APPLE SM",1]
[{"$f":"IFERROR(IF(INDIRECT($A$14&ROW())<>\"\",COUNTIF([1]Summary!$B$30:$B$1029,INDIRECT($A$14&ROW())),\"\"),\"\")","v":""},null,null,null,null,null,null,null,null,null,null,null,null,null,null,null,null,null,null,null,null,null,null,null,null,null,null,null,null,null,null,null,null,null,null,null,null,null,null,null,null,null,null,null,null,null,null,null,null,null,null,null,null,null,null,null,null,null,null,null,null,null,null,null,null,null,null,null,null,null,null,null,null,null,null,null,null,null,null,null,null,null,null,null,null,null,null,null,"SM10 2821:CHOCO SM",1]
[{"$f":"IFERROR(IF(INDIRECT($A$14&ROW())<>\"\",COUNTIF([1]Summary!$B$30:$B$1029,INDIRECT($A$14&ROW())),\"\"),\"\")","v":""},null,null,null,null,null,null,null,null,null,null,null,null,null,null,null,null,null,null,null,null,null,null,null,null,null,null,null,null,null,null,null,null,null,null,null,null,null,null,null,null,null,null,null,null,null,null,null,null,null,null,null,null,null,null,null,null,null,null,null,null,null,null,null,null,null,null,null,null,null,null,null,null,null,null,null,null,null,null,null,null,null,null,null,null,null,null,null,"TA03 82025:PEPSI",2]
[{"$f":"IFERROR(IF(INDIRECT($A$14&ROW())<>\"\",COUNTIF([1]Summary!$B$30:$B$1029,INDIRECT($A$14&ROW())),\"\"),\"\")","v":""},null,null,null,null,null,null,null,null,null,null,null,null,null,null,null,null,null,null,null,null,null,null,null,null,null,null,null,null,null,null,null,null,null,null,null,null,null,null,null,null,null,null,null,null,null,null,null,null,null,null,null,null,null,null,null,null,null,null,null,null,null,null,null,null,null,null,null,null,null,null,null,null,null,null,null,null,null,null,null,null,null,null,null,null,null,null,null,"TC02 81102:MAMITE CHK",1]
[{"$f":"IFERROR(IF(INDIRECT($A$14&ROW())<>\"\",COUNTIF([1]Summary!$B$30:$B$1029,INDIRECT($A$14&ROW())),\"\"),\"\")","v":""},null,null,null,null,null,null,null,null,null,null,null,null,null,null,null,null,null,null,null,null,null,null,null,null,null,null,null,null,null,null,null,null,null,null,null,null,null,null,null,null,null,null,null,null,null,null,null,null,null,null,null,null,null,null,null,null,null,null,null,null,null,null,null,null,null,null,null,null,null,null,null,null,null,null,null,null,null,null,null,null,null,null,null,null,null,null,null,"TE01 80028:COCKLES",20]
[{"$f":"IFERROR(IF(INDIRECT($A$14&ROW())<>\"\",COUNTIF([1]Summary!$B$30:$B$1029,INDIRECT($A$14&ROW())),\"\"),\"\")","v":""},null,null,null,null,null,null,null,null,null,null,null,null,null,null,null,null,null,null,null,null,null,null,null,null,null,null,null,null,null,null,null,null,null,null,null,null,null,null,null,null,null,null,null,null,null,null,null,null,null,null,null,null,null,null,null,null,null,null,null,null,null,null,null,null,null,null,null,null,null,null,null,null,null,null,null,null,null,null,null,null,null,null,null,null,null,null,null,"TE02 80029:CTL FSH",6]
[{"$f":"IFERROR(IF(INDIRECT($A$14&ROW())<>\"\",COUNTIF([1]Summary!$B$30:$B$1029,INDIRECT($A$14&ROW())),\"\"),\"\")","v":""},null,null,null,null,null,null,null,null,null,null,null,null,null,null,null,null,null,null,null,null,null,null,null,null,null,null,null,null,null,null,null,null,null,null,null,null,null,null,null,null,null,null,null,null,null,null,null,null,null,null,null,null,null,null,null,null,null,null,null,null,null,null,null,null,null,null,null,null,null,null,null,null,null,null,null,null,null,null,null,null,null,null,null,null,null,null,null,"TE03 80030:CRB STICK",20]
[{"$f":"IFERROR(IF(INDIRECT($A$14&ROW())<>\"\",COUNTIF([1]Summary!$B$30:$B$1029,INDIRECT($A$14&ROW())),\"\"),\"\")","v":""},null,null,null,null,null,null,null,null,null,null,null,null,null,null,null,null,null,null,null,null,null,null,null,null,null,null,null,null,null,null,null,null,null,null,null,null,null,null,null,null,null,null,null,null,null,null,null,null,null,null,null,null,null,null,null,null,null,null,null,null,null,null,null,null,null,null,null,null,null,null,null,null,null,null,null,null,null,null,null,null,null,null,null,null,null,null,null,"TE04 80031:FSH BAL S",110]
[{"$f":"IFERROR(IF(INDIRECT($A$14&ROW())<>\"\",COUNTIF([1]Summary!$B$30:$B$1029,INDIRECT($A$14&ROW())),\"\"),\"\")","v":""},null,null,null,null,null,null,null,null,null,null,null,null,null,null,null,null,null,null,null,null,null,null,null,null,null,null,null,null,null,null,null,null,null,null,null,null,null,null,null,null,null,null,null,null,null,null,null,null,null,null,null,null,null,null,null,null,null,null,null,null,null,null,null,null,null,null,null,null,null,null,null,null,null,null,null,null,null,null,null,null,null,null,null,null,null,null,null,"TE05 80032:SOTONG",13]
[{"$f":"IFERROR(IF(INDIRECT($A$14&ROW())<>\"\",COUNTIF([1]Summary!$B$30:$B$1029,INDIRECT($A$14&ROW())),\"\"),\"\")","v":""},null,null,null,null,null,null,null,null,null,null,null,null,null,null,null,null,null,null,null,null,null,null,null,null,null,null,null,null,null,null,null,null,null,null,null,null,null,null,null,null,null,null,null,null,null,null,null,null,null,null,null,null,null,null,null,null,null,null,null,null,null,null,null,null,null,null,null,null,null,null,null,null,null,null,null,null,null,null,null,null,null,null,null,null,null,null,null,"TE06 80033:TPURA PRW",20]
[{"$f":"IFERROR(IF(INDIRECT($A$14&ROW())<>\"\",COUNTIF([1]Summary!$B$30:$B$1029,INDIRECT($A$14&ROW())),\"\"),\"\")","v":""},null,null,null,null,null,null,null,null,null,null,null,null,null,null,null,null,null,null,null,null,null,null,null,null,null,null,null,null,null,null,null,null,null,null,null,null,null,null,null,null,null,null,null,null,null,null,null,null,null,null,null,null,null,null,null,null,null,null,null,null,null,null,null,null,null,null,null,null,null,null,null,null,null,null,null,null,null,null,null,null,null,null,null,null,null,null,null,"TE07 80034:BBQ FSH SK",15]
[{"$f":"IFERROR(IF(INDIRECT($A$14&ROW())<>\"\",COUNTIF([1]Summary!$B$30:$B$1029,INDIRECT($A$14&ROW())),\"\"),\"\")","v":""},null,null,null,null,null,null,null,null,null,null,null,null,null,null,null,null,null,null,null,null,null,null,null,null,null,null,null,null,null,null,null,null,null,null,null,null,null,null,null,null,null,null,null,null,null,null,null,null,null,null,null,null,null,null,null,null,null,null,null,null,null,null,null,null,null,null,null,null,null,null,null,null,null,null,null,null,null,null,null,null,null,null,null,null,null,null,null,"TF04 82007:LMN TEA(C)",1]
[{"$f":"IFERROR(IF(INDIRECT($A$14&ROW())<>\"\",COUNTIF([1]Summary!$B$30:$B$1029,INDIRECT($A$14&ROW())),\"\"),\"\")","v":""},null,null,null,null,null,null,null,null,null,null,null,null,null,null,null,null,null,null,null,null,null,null,null,null,null,null,null,null,null,null,null,null,null,null,null,null,null,null,null,null,null,null,null,null,null,null,null,null,null,null,null,null,null,null,null,null,null,null,null,null,null,null,null,null,null,null,null,null,null,null,null,null,null,null,null,null,null,null,null,null,null,null,null,null,null,null,null,"TG01 82026:BM WATER",1]
[{"$f":"IFERROR(IF(INDIRECT($A$14&ROW())<>\"\",COUNTIF([1]Summary!$B$30:$B$1029,INDIRECT($A$14&ROW())),\"\"),\"\")","v":""},null,null,null,null,null,null,null,null,null,null,null,null,null,null,null,null,null,null,null,null,null,null,null,null,null,null,null,null,null,null,null,null,null,null,null,null,null,null,null,null,null,null,null,null,null,null,null,null,null,null,null,null,null,null,null,null,null,null,null,null,null,null,null,null,null,null,null,null,null,null,null,null,null,null,null,null,null,null,null,null,null,null,null,null,null,null,null,"TH01 82002:MILO(H)",3]
[{"$f":"IFERROR(IF(INDIRECT($A$14&ROW())<>\"\",COUNTIF([1]Summary!$B$30:$B$1029,INDIRECT($A$14&ROW())),\"\"),\"\")","v":""},null,null,null,null,null,null,null,null,null,null,null,null,null,null,null,null,null,null,null,null,null,null,null,null,null,null,null,null,null,null,null,null,null,null,null,null,null,null,null,null,null,null,null,null,null,null,null,null,null,null,null,null,null,null,null,null,null,null,null,null,null,null,null,null,null,null,null,null,null,null,null,null,null,null,null,null,null,null,null,null,null,null,null,null,null,null,null,"TH08 82016:HNY LMN(H)",1]
[{"$f":"IFERROR(IF(INDIRECT($A$14&ROW())<>\"\",COUNTIF([1]Summary!$B$30:$B$1029,INDIRECT($A$14&ROW())),\"\"),\"\")","v":""},null,null,null,null,null,null,null,null,null,null,null,null,null,null,null,null,null,null,null,null,null,null,null,null,null,null,null,null,null,null,null,null,null,null,null,null,null,null,null,null,null,null,null,null,null,null,null,null,null,null,null,null,null,null,null,null,null,null,null,null,null,null,null,null,null,null,null,null,null,null,null,null,null,null,null,null,null,null,null,null,null,null,null,null,null,null,null,"TI03 85003:HEI RND",1]
[{"$f":"IFERROR(IF(INDIRECT($A$14&ROW())<>\"\",COUNTIF([1]Summary!$B$30:$B$1029,INDIRECT($A$14&ROW())),\"\"),\"\")","v":""},null,null,null,null,null,null,null,null,null,null,null,null,null,null,null,null,null,null,null,null,null,null,null,null,null,null,null,null,null,null,null,null,null,null,null,null,null,null,null,null,null,null,null,null,null,null,null,null,null,null,null,null,null,null,null,null,null,null,null,null,null,null,null,null,null,null,null,null,null,null,null,null,null,null,null,null,null,null,null,null,null,null,null,null,null,null,null,"TL01 LOK PACKAGE A",13]
[{"$f":"IFERROR(IF(INDIRECT($A$14&ROW())<>\"\",COUNTIF([1]Summary!$B$30:$B$1029,INDIRECT($A$14&ROW())),\"\"),\"\")","v":""},null,null,null,null,null,null,null,null,null,null,null,null,null,null,null,null,null,null,null,null,null,null,null,null,null,null,null,null,null,null,null,null,null,null,null,null,null,null,null,null,null,null,null,null,null,null,null,null,null,null,null,null,null,null,null,null,null,null,null,null,null,null,null,null,null,null,null,null,null,null,null,null,null,null,null,null,null,null,null,null,null,null,null,null,null,null,null,"TL02 LOK PACKAGE B",6]
[{"$f":"IFERROR(IF(INDIRECT($A$14&ROW())<>\"\",COUNTIF([1]Summary!$B$30:$B$1029,INDIRECT($A$14&ROW())),\"\"),\"\")","v":""},null,null,null,null,null,null,null,null,null,null,null,null,null,null,null,null,null,null,null,null,null,null,null,null,null,null,null,null,null,null,null,null,null,null,null,null,null,null,null,null,null,null,null,null,null,null,null,null,null,null,null,null,null,null,null,null,null,null,null,null,null,null,null,null,null,null,null,null,null,null,null,null,null,null,null,null,null,null,null,null,null,null,null,null,null,null,null,"TL03 LOK PACKAGE C",14]
[{"$f":"IFERROR(IF(INDIRECT($A$14&ROW())<>\"\",COUNTIF([1]Summary!$B$30:$B$1029,INDIRECT($A$14&ROW())),\"\"),\"\")","v":""},null,null,null,null,null,null,null,null,null,null,null,null,null,null,null,null,null,null,null,null,null,null,null,null,null,null,null,null,null,null,null,null,null,null,null,null,null,null,null,null,null,null,null,null,null,null,null,null,null,null,null,null,null,null,null,null,null,null,null,null,null,null,null,null,null,null,null,null,null,null,null,null,null,null,null,null,null,null,null,null,null,null,null,null,null,null,null,"TL04 LOK PLATTER",8]
[{"$f":"IFERROR(IF(INDIRECT($A$14&ROW())<>\"\",COUNTIF([1]Summary!$B$30:$B$1029,INDIRECT($A$14&ROW())),\"\"),\"\")","v":""},null,null,null,null,null,null,null,null,null,null,null,null,null,null,null,null,null,null,null,null,null,null,null,null,null,null,null,null,null,null,null,null,null,null,null,null,null,null,null,null,null,null,null,null,null,null,null,null,null,null,null,null,null,null,null,null,null,null,null,null,null,null,null,null,null,null,null,null,null,null,null,null,null,null,null,null,null,null,null,null,null,null,null,null,null,null,null,"TL05 PLATTER A",3]
[{"$f":"IFERROR(IF(INDIRECT($A$14&ROW())<>\"\",COUNTIF([1]Summary!$B$30:$B$1029,INDIRECT($A$14&ROW())),\"\"),\"\")","v":""},null,null,null,null,null,null,null,null,null,null,null,null,null,null,null,null,null,null,null,null,null,null,null,null,null,null,null,null,null,null,null,null,null,null,null,null,null,null,null,null,null,null,null,null,null,null,null,null,null,null,null,null,null,null,null,null,null,null,null,null,null,null,null,null,null,null,null,null,null,null,null,null,null,null,null,null,null,null,null,null,null,null,null,null,null,null,null,"TL06 PLATTER B",3]
[{"$f":"IFERROR(IF(INDIRECT($A$14&ROW())<>\"\",COUNTIF([1]Summary!$B$30:$B$1029,INDIRECT($A$14&ROW())),\"\"),\"\")","v":""},null,null,null,null,null,null,null,null,null,null,null,null,null,null,null,null,null,null,null,null,null,null,null,null,null,null,null,null,null,null,null,null,null,null,null,null,null,null,null,null,null,null,null,null,null,null,null,null,null,null,null,null,null,null,null,null,null,null,null,null,null,null,null,null,null,null,null,null,null,null,null,null,null,null,null,null,null,null,null,null,null,null,null,null,null,null,null,"TM01 80001:CHK HAM",24]
[{"$f":"IFERROR(IF(INDIRECT($A$14&ROW())<>\"\",COUNTIF([1]Summary!$B$30:$B$1029,INDIRECT($A$14&ROW())),\"\"),\"\")","v":""},null,null,null,null,null,null,null,null,null,null,null,null,null,null,null,null,null,null,null,null,null,null,null,null,null,null,null,null,null,null,null,null,null,null,null,null,null,null,null,null,null,null,null,null,null,null,null,null,null,null,null,null,null,null,null,null,null,null,null,null,null,null,null,null,null,null,null,null,null,null,null,null,null,null,null,null,null,null,null,null,null,null,null,null,null,null,null,"TM02 80002:CHK KIDNEY",49]
[{"$f":"IFERROR(IF(INDIRECT($A$14&ROW())<>\"\",COUNTIF([1]Summary!$B$30:$B$1029,INDIRECT($A$14&ROW())),\"\"),\"\")","v":""},null,null,null,null,null,null,null,null,null,null,null,null,null,null,null,null,null,null,null,null,null,null,null,null,null,null,null,null,null,null,null,null,null,null,null,null,null,null,null,null,null,null,null,null,null,null,null,null,null,null,null,null,null,null,null,null,null,null,null,null,null,null,null,null,null,null,null,null,null,null,null,null,null,null,null,null,null,null,null,null,null,null,null,null,null,null,null,"TM03 80003:COC SAUSG",25]
[{"$f":"IFERROR(IF(INDIRECT($A$14&ROW())<>\"\",COUNTIF([1]Summary!$B$30:$B$1029,INDIRECT($A$14&ROW())),\"\"),\"\")","v":""},null,null,null,null,null,null,null,null,null,null,null,null,null,null,null,null,null,null,null,null,null,null,null,null,null,null,null,null,null,null,null,null,null,null,null,null,null,null,null,null,null,null,null,null,null,null,null,null,null,null,null,null,null,null,null,null,null,null,null,null,null,null,null,null,null,null,null,null,null,null,null,null,null,null,null,null,null,null,null,null,null,null,null,null,null,null,null,"TM04 80004:CHK SAUSG",14]
[{"$f":"IFERROR(IF(INDIRECT($A$14&ROW())<>\"\",COUNTIF([1]Summary!$B$30:$B$1029,INDIRECT($A$14&ROW())),\"\"),\"\")","v":""},null,null,null,null,null,null,null,null,null,null,null,null,null,null,null,null,null,null,null,null,null,null,null,null,null,null,null,null,null,null,null,null,null,null,null,null,null,null,null,null,null,null,null,null,null,null,null,null,null,null,null,null,null,null,null,null,null,null,null,null,null,null,null,null,null,null,null,null,null,null,null,null,null,null,null,null,null,null,null,null,null,null,null,null,null,null,null,"TM05 80005:HAM&BEAN",28]
[{"$f":"IFERROR(IF(INDIRECT($A$14&ROW())<>\"\",COUNTIF([1]Summary!$B$30:$B$1029,INDIRECT($A$14&ROW())),\"\"),\"\")","v":""},null,null,null,null,null,null,null,null,null,null,null,null,null,null,null,null,null,null,null,null,null,null,null,null,null,null,null,null,null,null,null,null,null,null,null,null,null,null,null,null,null,null,null,null,null,null,null,null,null,null,null,null,null,null,null,null,null,null,null,null,null,null,null,null,null,null,null,null,null,null,null,null,null,null,null,null,null,null,null,null,null,null,null,null,null,null,null,"TM06 80006:CHK WING",67]
[{"$f":"IFERROR(IF(INDIRECT($A$14&ROW())<>\"\",COUNTIF([1]Summary!$B$30:$B$1029,INDIRECT($A$14&ROW())),\"\"),\"\")","v":""},null,null,null,null,null,null,null,null,null,null,null,null,null,null,null,null,null,null,null,null,null,null,null,null,null,null,null,null,null,null,null,null,null,null,null,null,null,null,null,null,null,null,null,null,null,null,null,null,null,null,null,null,null,null,null,null,null,null,null,null,null,null,null,null,null,null,null,null,null,null,null,null,null,null,null,null,null,null,null,null,null,null,null,null,null,null,null,"TM07 80007:CHEE H DOG",51]
[{"$f":"IFERROR(IF(INDIRECT($A$14&ROW())<>\"\",COUNTIF([1]Summary!$B$30:$B$1029,INDIRECT($A$14&ROW())),\"\"),\"\")","v":""},null,null,null,null,null,null,null,null,null,null,null,null,null,null,null,null,null,null,null,null,null,null,null,null,null,null,null,null,null,null,null,null,null,null,null,null,null,null,null,null,null,null,null,null,null,null,null,null,null,null,null,null,null,null,null,null,null,null,null,null,null,null,null,null,null,null,null,null,null,null,null,null,null,null,null,null,null,null,null,null,null,null,null,null,null,null,null,"TM08 80008:TRK STICK",4]
[{"$f":"IFERROR(IF(INDIRECT($A$14&ROW())<>\"\",COUNTIF([1]Summary!$B$30:$B$1029,INDIRECT($A$14&ROW())),\"\"),\"\")","v":""},null,null,null,null,null,null,null,null,null,null,null,null,null,null,null,null,null,null,null,null,null,null,null,null,null,null,null,null,null,null,null,null,null,null,null,null,null,null,null,null,null,null,null,null,null,null,null,null,null,null,null,null,null,null,null,null,null,null,null,null,null,null,null,null,null,null,null,null,null,null,null,null,null,null,null,null,null,null,null,null,null,null,null,null,null,null,null,"TM09 80009:CHEE HAM",56]
[{"$f":"IFERROR(IF(INDIRECT($A$14&ROW())<>\"\",COUNTIF([1]Summary!$B$30:$B$1029,INDIRECT($A$14&ROW())),\"\"),\"\")","v":""},null,null,null,null,null,null,null,null,null,null,null,null,null,null,null,null,null,null,null,null,null,null,null,null,null,null,null,null,null,null,null,null,null,null,null,null,null,null,null,null,null,null,null,null,null,null,null,null,null,null,null,null,null,null,null,null,null,null,null,null,null,null,null,null,null,null,null,null,null,null,null,null,null,null,null,null,null,null,null,null,null,null,null,null,null,null,null,"TM10 80010:CRAB HAM",19]
[{"$f":"IFERROR(IF(INDIRECT($A$14&ROW())<>\"\",COUNTIF([1]Summary!$B$30:$B$1029,INDIRECT($A$14&ROW())),\"\"),\"\")","v":""},null,null,null,null,null,null,null,null,null,null,null,null,null,null,null,null,null,null,null,null,null,null,null,null,null,null,null,null,null,null,null,null,null,null,null,null,null,null,null,null,null,null,null,null,null,null,null,null,null,null,null,null,null,null,null,null,null,null,null,null,null,null,null,null,null,null,null,null,null,null,null,null,null,null,null,null,null,null,null,null,null,null,null,null,null,null,null,"TM11 80011:F CHK BAL",7]
[{"$f":"IFERROR(IF(INDIRECT($A$14&ROW())<>\"\",COUNTIF([1]Summary!$B$30:$B$1029,INDIRECT($A$14&ROW())),\"\"),\"\")","v":""},null,null,null,null,null,null,null,null,null,null,null,null,null,null,null,null,null,null,null,null,null,null,null,null,null,null,null,null,null,null,null,null,null,null,null,null,null,null,null,null,null,null,null,null,null,null,null,null,null,null,null,null,null,null,null,null,null,null,null,null,null,null,null,null,null,null,null,null,null,null,null,null,null,null,null,null,null,null,null,null,null,null,null,null,null,null,null,"TM12 80012:DCK MT",52]
[{"$f":"IFERROR(IF(INDIRECT($A$14&ROW())<>\"\",COUNTIF([1]Summary!$B$30:$B$1029,INDIRECT($A$14&ROW())),\"\"),\"\")","v":""},null,null,null,null,null,null,null,null,null,null,null,null,null,null,null,null,null,null,null,null,null,null,null,null,null,null,null,null,null,null,null,null,null,null,null,null,null,null,null,null,null,null,null,null,null,null,null,null,null,null,null,null,null,null,null,null,null,null,null,null,null,null,null,null,null,null,null,null,null,null,null,null,null,null,null,null,null,null,null,null,null,null,null,null,null,null,null,"TM13 80013:SCLOP SHL",10]
[{"$f":"IFERROR(IF(INDIRECT($A$14&ROW())<>\"\",COUNTIF([1]Summary!$B$30:$B$1029,INDIRECT($A$14&ROW())),\"\"),\"\")","v":""},null,null,null,null,null,null,null,null,null,null,null,null,null,null,null,null,null,null,null,null,null,null,null,null,null,null,null,null,null,null,null,null,null,null,null,null,null,null,null,null,null,null,null,null,null,null,null,null,null,null,null,null,null,null,null,null,null,null,null,null,null,null,null,null,null,null,null,null,null,null,null,null,null,null,null,null,null,null,null,null,null,null,null,null,null,null,null,"TM14 80014:CN C SAUSG",3]
[{"$f":"IFERROR(IF(INDIRECT($A$14&ROW())<>\"\",COUNTIF([1]Summary!$B$30:$B$1029,INDIRECT($A$14&ROW())),\"\"),\"\")","v":""},null,null,null,null,null,null,null,null,null,null,null,null,null,null,null,null,null,null,null,null,null,null,null,null,null,null,null,null,null,null,null,null,null,null,null,null,null,null,null,null,null,null,null,null,null,null,null,null,null,null,null,null,null,null,null,null,null,null,null,null,null,null,null,null,null,null,null,null,null,null,null,null,null,null,null,null,null,null,null,null,null,null,null,null,null,null,null,"TO01 80035:F SMS YAM",35]
[{"$f":"IFERROR(IF(INDIRECT($A$14&ROW())<>\"\",COUNTIF([1]Summary!$B$30:$B$1029,INDIRECT($A$14&ROW())),\"\"),\"\")","v":""},null,null,null,null,null,null,null,null,null,null,null,null,null,null,null,null,null,null,null,null,null,null,null,null,null,null,null,null,null,null,null,null,null,null,null,null,null,null,null,null,null,null,null,null,null,null,null,null,null,null,null,null,null,null,null,null,null,null,null,null,null,null,null,null,null,null,null,null,null,null,null,null,null,null,null,null,null,null,null,null,null,null,null,null,null,null,null,"TO02 80036:F TF SKIN",43]
[{"$f":"IFERROR(IF(INDIRECT($A$14&ROW())<>\"\",COUNTIF([1]Summary!$B$30:$B$1029,INDIRECT($A$14&ROW())),\"\"),\"\")","v":""},null,null,null,null,null,null,null,null,null,null,null,null,null,null,null,null,null,null,null,null,null,null,null,null,null,null,null,null,null,null,null,null,null,null,null,null,null,null,null,null,null,null,null,null,null,null,null,null,null,null,null,null,null,null,null,null,null,null,null,null,null,null,null,null,null,null,null,null,null,null,null,null,null,null,null,null,null,null,null,null,null,null,null,null,null,null,null,"TO03 80037:TF PO",8]
[{"$f":"IFERROR(IF(INDIRECT($A$14&ROW())<>\"\",COUNTIF([1]Summary!$B$30:$B$1029,INDIRECT($A$14&ROW())),\"\"),\"\")","v":""},null,null,null,null,null,null,null,null,null,null,null,null,null,null,null,null,null,null,null,null,null,null,null,null,null,null,null,null,null,null,null,null,null,null,null,null,null,null,null,null,null,null,null,null,null,null,null,null,null,null,null,null,null,null,null,null,null,null,null,null,null,null,null,null,null,null,null,null,null,null,null,null,null,null,null,null,null,null,null,null,null,null,null,null,null,null,null,"TO04 80038:F MANTOU",29]
[{"$f":"IFERROR(IF(INDIRECT($A$14&ROW())<>\"\",COUNTIF([1]Summary!$B$30:$B$1029,INDIRECT($A$14&ROW())),\"\"),\"\")","v":""},null,null,null,null,null,null,null,null,null,null,null,null,null,null,null,null,null,null,null,null,null,null,null,null,null,null,null,null,null,null,null,null,null,null,null,null,null,null,null,null,null,null,null,null,null,null,null,null,null,null,null,null,null,null,null,null,null,null,null,null,null,null,null,null,null,null,null,null,null,null,null,null,null,null,null,null,null,null,null,null,null,null,null,null,null,null,null,"TO05 80039:CRS F BAO",3]
[{"$f":"IFERROR(IF(INDIRECT($A$14&ROW())<>\"\",COUNTIF([1]Summary!$B$30:$B$1029,INDIRECT($A$14&ROW())),\"\"),\"\")","v":""},null,null,null,null,null,null,null,null,null,null,null,null,null,null,null,null,null,null,null,null,null,null,null,null,null,null,null,null,null,null,null,null,null,null,null,null,null,null,null,null,null,null,null,null,null,null,null,null,null,null,null,null,null,null,null,null,null,null,null,null,null,null,null,null,null,null,null,null,null,null,null,null,null,null,null,null,null,null,null,null,null,null,null,null,null,null,null,"TO06 80040:QUAIL EGGS",37]
[{"$f":"IFERROR(IF(INDIRECT($A$14&ROW())<>\"\",COUNTIF([1]Summary!$B$30:$B$1029,INDIRECT($A$14&ROW())),\"\"),\"\")","v":""},null,null,null,null,null,null,null,null,null,null,null,null,null,null,null,null,null,null,null,null,null,null,null,null,null,null,null,null,null,null,null,null,null,null,null,null,null,null,null,null,null,null,null,null,null,null,null,null,null,null,null,null,null,null,null,null,null,null,null,null,null,null,null,null,null,null,null,null,null,null,null,null,null,null,null,null,null,null,null,null,null,null,null,null,null,null,null,"TO07 80041:FSH TF PO",5]
[{"$f":"IFERROR(IF(INDIRECT($A$14&ROW())<>\"\",COUNTIF([1]Summary!$B$30:$B$1029,INDIRECT($A$14&ROW())),\"\"),\"\")","v":""},null,null,null,null,null,null,null,null,null,null,null,null,null,null,null,null,null,null,null,null,null,null,null,null,null,null,null,null,null,null,null,null,null,null,null,null,null,null,null,null,null,null,null,null,null,null,null,null,null,null,null,null,null,null,null,null,null,null,null,null,null,null,null,null,null,null,null,null,null,null,null,null,null,null,null,null,null,null,null,null,null,null,null,null,null,null,null,"TO08 80042:CRS BAO",10]
[{"$f":"IFERROR(IF(INDIRECT($A$14&ROW())<>\"\",COUNTIF([1]Summary!$B$30:$B$1029,INDIRECT($A$14&ROW())),\"\"),\"\")","v":""},null,null,null,null,null,null,null,null,null,null,null,null,null,null,null,null,null,null,null,null,null,null,null,null,null,null,null,null,null,null,null,null,null,null,null,null,null,null,null,null,null,null,null,null,null,null,null,null,null,null,null,null,null,null,null,null,null,null,null,null,null,null,null,null,null,null,null,null,null,null,null,null,null,null,null,null,null,null,null,null,null,null,null,null,null,null,null,"TO09 80043:Y DUMPLING",5]
[{"$f":"IFERROR(IF(INDIRECT($A$14&ROW())<>\"\",COUNTIF([1]Summary!$B$30:$B$1029,INDIRECT($A$14&ROW())),\"\"),\"\")","v":""},null,null,null,null,null,null,null,null,null,null,null,null,null,null,null,null,null,null,null,null,null,null,null,null,null,null,null,null,null,null,null,null,null,null,null,null,null,null,null,null,null,null,null,null,null,null,null,null,null,null,null,null,null,null,null,null,null,null,null,null,null,null,null,null,null,null,null,null,null,null,null,null,null,null,null,null,null,null,null,null,null,null,null,null,null,null,null,"TO10 80044:QC EGGS",56]
[{"$f":"IFERROR(IF(INDIRECT($A$14&ROW())<>\"\",COUNTIF([1]Summary!$B$30:$B$1029,INDIRECT($A$14&ROW())),\"\"),\"\")","v":""},null,null,null,null,null,null,null,null,null,null,null,null,null,null,null,null,null,null,null,null,null,null,null,null,null,null,null,null,null,null,null,null,null,null,null,null,null,null,null,null,null,null,null,null,null,null,null,null,null,null,null,null,null,null,null,null,null,null,null,null,null,null,null,null,null,null,null,null,null,null,null,null,null,null,null,null,null,null,null,null,null,null,null,null,null,null,null,"TO11 80045:SF TF",87]
[{"$f":"IFERROR(IF(INDIRECT($A$14&ROW())<>\"\",COUNTIF([1]Summary!$B$30:$B$1029,INDIRECT($A$14&ROW())),\"\"),\"\")","v":""},null,null,null,null,null,null,null,null,null,null,null,null,null,null,null,null,null,null,null,null,null,null,null,null,null,null,null,null,null,null,null,null,null,null,null,null,null,null,null,null,null,null,null,null,null,null,null,null,null,null,null,null,null,null,null,null,null,null,null,null,null,null,null,null,null,null,null,null,null,null,null,null,null,null,null,null,null,null,null,null,null,null,null,null,null,null,null,"TP01 80015:MT BAL",96]
[{"$f":"IFERROR(IF(INDIRECT($A$14&ROW())<>\"\",COUNTIF([1]Summary!$B$30:$B$1029,INDIRECT($A$14&ROW())),\"\"),\"\")","v":""},null,null,null,null,null,null,null,null,null,null,null,null,null,null,null,null,null,null,null,null,null,null,null,null,null,null,null,null,null,null,null,null,null,null,null,null,null,null,null,null,null,null,null,null,null,null,null,null,null,null,null,null,null,null,null,null,null,null,null,null,null,null,null,null,null,null,null,null,null,null,null,null,null,null,null,null,null,null,null,null,null,null,null,null,null,null,null,"TP02 80016:BACON",23]
[{"$f":"IFERROR(IF(INDIRECT($A$14&ROW())<>\"\",COUNTIF([1]Summary!$B$30:$B$1029,INDIRECT($A$14&ROW())),\"\"),\"\")","v":""},null,null,null,null,null,null,null,null,null,null,null,null,null,null,null,null,null,null,null,null,null,null,null,null,null,null,null,null,null,null,null,null,null,null,null,null,null,null,null,null,null,null,null,null,null,null,null,null,null,null,null,null,null,null,null,null,null,null,null,null,null,null,null,null,null,null,null,null,null,null,null,null,null,null,null,null,null,null,null,null,null,null,null,null,null,null,null,"TP03 80017:F WONTON",12]
[{"$f":"IFERROR(IF(INDIRECT($A$14&ROW())<>\"\",COUNTIF([1]Summary!$B$30:$B$1029,INDIRECT($A$14&ROW())),\"\"),\"\")","v":""},null,null,null,null,null,null,null,null,null,null,null,null,null,null,null,null,null,null,null,null,null,null,null,null,null,null,null,null,null,null,null,null,null,null,null,null,null,null,null,null,null,null,null,null,null,null,null,null,null,null,null,null,null,null,null,null,null,null,null,null,null,null,null,null,null,null,null,null,null,null,null,null,null,null,null,null,null,null,null,null,null,null,null,null,null,null,null,"TP04 80018:WX RL",26]
[{"$f":"IFERROR(IF(INDIRECT($A$14&ROW())<>\"\",COUNTIF([1]Summary!$B$30:$B$1029,INDIRECT($A$14&ROW())),\"\"),\"\")","v":""},null,null,null,null,null,null,null,null,null,null,null,null,null,null,null,null,null,null,null,null,null,null,null,null,null,null,null,null,null,null,null,null,null,null,null,null,null,null,null,null,null,null,null,null,null,null,null,null,null,null,null,null,null,null,null,null,null,null,null,null,null,null,null,null,null,null,null,null,null,null,null,null,null,null,null,null,null,null,null,null,null,null,null,null,null,null,null,"TP05 80019:DUMPLING",30]
[{"$f":"IFERROR(IF(INDIRECT($A$14&ROW())<>\"\",COUNTIF([1]Summary!$B$30:$B$1029,INDIRECT($A$14&ROW())),\"\"),\"\")","v":""},null,null,null,null,null,null,null,null,null,null,null,null,null,null,null,null,null,null,null,null,null,null,null,null,null,null,null,null,null,null,null,null,null,null,null,null,null,null,null,null,null,null,null,null,null,null,null,null,null,null,null,null,null,null,null,null,null,null,null,null,null,null,null,null,null,null,null,null,null,null,null,null,null,null,null,null,null,null,null,null,null,null,null,null,null,null,null,"TP06 80020:TW SAUSG",105]
[{"$f":"IFERROR(IF(INDIRECT($A$14&ROW())<>\"\",COUNTIF([1]Summary!$B$30:$B$1029,INDIRECT($A$14&ROW())),\"\"),\"\")","v":""},null,null,null,null,null,null,null,null,null,null,null,null,null,null,null,null,null,null,null,null,null,null,null,null,null,null,null,null,null,null,null,null,null,null,null,null,null,null,null,null,null,null,null,null,null,null,null,null,null,null,null,null,null,null,null,null,null,null,null,null,null,null,null,null,null,null,null,null,null,null,null,null,null,null,null,null,null,null,null,null,null,null,null,null,null,null,null,"TP07 80021:ENA BC ROL",83]
[{"$f":"IFERROR(IF(INDIRECT($A$14&ROW())<>\"\",COUNTIF([1]Summary!$B$30:$B$1029,INDIRECT($A$14&ROW())),\"\"),\"\")","v":""},null,null,null,null,null,null,null,null,null,null,null,null,null,null,null,null,null,null,null,null,null,null,null,null,null,null,null,null,null,null,null,null,null,null,null,null,null,null,null,null,null,null,null,null,null,null,null,null,null,null,null,null,null,null,null,null,null,null,null,null,null,null,null,null,null,null,null,null,null,null,null,null,null,null,null,null,null,null,null,null,null,null,null,null,null,null,null,"TP08 80022:NAN RU MT",12]
[{"$f":"IFERROR(IF(INDIRECT($A$14&ROW())<>\"\",COUNTIF([1]Summary!$B$30:$B$1029,INDIRECT($A$14&ROW())),\"\"),\"\")","v":""},null,null,null,null,null,null,null,null,null,null,null,null,null,null,null,null,null,null,null,null,null,null,null,null,null,null,null,null,null,null,null,null,null,null,null,null,null,null,null,null,null,null,null,null,null,null,null,null,null,null,null,null,null,null,null,null,null,null,null,null,null,null,null,null,null,null,null,null,null,null,null,null,null,null,null,null,null,null,null,null,null,null,null,null,null,null,null,"TU03 82503:MANGO J",1]
[{"$f":"IFERROR(IF(INDIRECT($A$14&ROW())<>\"\",COUNTIF([1]Summary!$B$30:$B$1029,INDIRECT($A$14&ROW())),\"\"),\"\")","v":""},null,null,null,null,null,null,null,null,null,null,null,null,null,null,null,null,null,null,null,null,null,null,null,null,null,null,null,null,null,null,null,null,null,null,null,null,null,null,null,null,null,null,null,null,null,null,null,null,null,null,null,null,null,null,null,null,null,null,null,null,null,null,null,null,null,null,null,null,null,null,null,null,null,null,null,null,null,null,null,null,null,null,null,null,null,null,null,"TV01 80023:KANG KONG",39]
[{"$f":"IFERROR(IF(INDIRECT($A$14&ROW())<>\"\",COUNTIF([1]Summary!$B$30:$B$1029,INDIRECT($A$14&ROW())),\"\"),\"\")","v":""},null,null,null,null,null,null,null,null,null,null,null,null,null,null,null,null,null,null,null,null,null,null,null,null,null,null,null,null,null,null,null,null,null,null,null,null,null,null,null,null,null,null,null,null,null,null,null,null,null,null,null,null,null,null,null,null,null,null,null,null,null,null,null,null,null,null,null,null,null,null,null,null,null,null,null,null,null,null,null,null,null,null,null,null,null,null,null,"TV02 80024:BROCCOLI",65]
[{"$f":"IFERROR(IF(INDIRECT($A$14&ROW())<>\"\",COUNTIF([1]Summary!$B$30:$B$1029,INDIRECT($A$14&ROW())),\"\"),\"\")","v":""},null,null,null,null,null,null,null,null,null,null,null,null,null,null,null,null,null,null,null,null,null,null,null,null,null,null,null,null,null,null,null,null,null,null,null,null,null,null,null,null,null,null,null,null,null,null,null,null,null,null,null,null,null,null,null,null,null,null,null,null,null,null,null,null,null,null,null,null,null,null,null,null,null,null,null,null,null,null,null,null,null,null,null,null,null,null,null,"TV03 80025:LONG BEAN",63]
[{"$f":"IFERROR(IF(INDIRECT($A$14&ROW())<>\"\",COUNTIF([1]Summary!$B$30:$B$1029,INDIRECT($A$14&ROW())),\"\"),\"\")","v":""},null,null,null,null,null,null,null,null,null,null,null,null,null,null,null,null,null,null,null,null,null,null,null,null,null,null,null,null,null,null,null,null,null,null,null,null,null,null,null,null,null,null,null,null,null,null,null,null,null,null,null,null,null,null,null,null,null,null,null,null,null,null,null,null,null,null,null,null,null,null,null,null,null,null,null,null,null,null,null,null,null,null,null,null,null,null,null,"TV04 80026:ABALO MR",109]
[{"$f":"IFERROR(IF(INDIRECT($A$14&ROW())<>\"\",COUNTIF([1]Summary!$B$30:$B$1029,INDIRECT($A$14&ROW())),\"\"),\"\")","v":""},null,null,null,null,null,null,null,null,null,null,null,null,null,null,null,null,null,null,null,null,null,null,null,null,null,null,null,null,null,null,null,null,null,null,null,null,null,null,null,null,null,null,null,null,null,null,null,null,null,null,null,null,null,null,null,null,null,null,null,null,null,null,null,null,null,null,null,null,null,null,null,null,null,null,null,null,null,null,null,null,null,null,null,null,null,null,null,"TV05 80027:OYSTER MR",2]
[{"$f":"IFERROR(IF(INDIRECT($A$14&ROW())<>\"\",COUNTIF([1]Summary!$B$30:$B$1029,INDIRECT($A$14&ROW())),\"\"),\"\")","v":""},null,null,null,null,null,null,null,null,null,null,null,null,null,null,null,null,null,null,null,null,null,null,null,null,null,null,null,null,null,null,null,null,null,null,null,null,null,null,null,null,null,null,null,null,null,null,null,null,null,null,null,null,null,null,null,null,null,null,null,null,null,null,null,null,null,null,null,null,null,null,null,null,null,null,null,null,null,null,null,null,null,null,null,null,null,null,null,"TW01 81001:BP CKN CP",1]
[{"$f":"IFERROR(IF(INDIRECT($A$14&ROW())<>\"\",COUNTIF([1]Summary!$B$30:$B$1029,INDIRECT($A$14&ROW())),\"\"),\"\")","v":""},null,null,null,null,null,null,null,null,null,null,null,null,null,null,null,null,null,null,null,null,null,null,null,null,null,null,null,null,null,null,null,null,null,null,null,null,null,null,null,null,null,null,null,null,null,null,null,null,null,null,null,null,null,null,null,null,null,null,null,null,null,null,null,null,null,null,null,null,null,null,null,null,null,null,null,null,null,null,null,null,null,null,null,null,null,null,null,"TW02 81003:MR CKN CP",1]
[{"$f":"IFERROR(IF(INDIRECT($A$14&ROW())<>\"\",COUNTIF([1]Summary!$B$30:$B$1029,INDIRECT($A$14&ROW())),\"\"),\"\")","v":""},null,null,null,null,null,null,null,null,null,null,null,null,null,null,null,null,null,null,null,null,null,null,null,null,null,null,null,null,null,null,null,null,null,null,null,null,null,null,null,null,null,null,null,null,null,null,null,null,null,null,null,null,null,null,null,null,null,null,null,null,null,null,null,null,null,null,null,null,null,null,null,null,null,null,null,null,null,null,null,null,null,null,null,null,null,null,null,"WA01 2026:BM WATER",7]
[{"$f":"IFERROR(IF(INDIRECT($A$14&ROW())<>\"\",COUNTIF([1]Summary!$B$30:$B$1029,INDIRECT($A$14&ROW())),\"\"),\"\")","v":""},null,null,null,null,null,null,null,null,null,null,null,null,null,null,null,null,null,null,null,null,null,null,null,null,null,null,null,null,null,null,null,null,null,null,null,null,null,null,null,null,null,null,null,null,null,null,null,null,null,null,null,null,null,null,null,null,null,null,null,null,null,null,null,null,null,null,null,null,null,null,null,null,null,null,null,null,null,null,null,null,null,null,null,null,null,null,null,"WF01 91001:BP CHK CP",313]
[{"$f":"IFERROR(IF(INDIRECT($A$14&ROW())<>\"\",COUNTIF([1]Summary!$B$30:$B$1029,INDIRECT($A$14&ROW())),\"\"),\"\")","v":""},null,null,null,null,null,null,null,null,null,null,null,null,null,null,null,null,null,null,null,null,null,null,null,null,null,null,null,null,null,null,null,null,null,null,null,null,null,null,null,null,null,null,null,null,null,null,null,null,null,null,null,null,null,null,null,null,null,null,null,null,null,null,null,null,null,null,null,null,null,null,null,null,null,null,null,null,null,null,null,null,null,null,null,null,null,null,null,"WF03 91003:MR CHK CP",308]
[{"$f":"IFERROR(IF(INDIRECT($A$14&ROW())<>\"\",COUNTIF([1]Summary!$B$30:$B$1029,INDIRECT($A$14&ROW())),\"\"),\"\")","v":""},null,null,null,null,null,null,null,null,null,null,null,null,null,null,null,null,null,null,null,null,null,null,null,null,null,null,null,null,null,null,null,null,null,null,null,null,null,null,null,null,null,null,null,null,null,null,null,null,null,null,null,null,null,null,null,null,null,null,null,null,null,null,null,null,null,null,null,null,null,null,null,null,null,null,null,null,null,null,null,null,null,null,null,null,null,null,null,"WF04 91004:CKN MARY",106]
[{"$f":"IFERROR(IF(INDIRECT($A$14&ROW())<>\"\",COUNTIF([1]Summary!$B$30:$B$1029,INDIRECT($A$14&ROW())),\"\"),\"\")","v":""},null,null,null,null,null,null,null,null,null,null,null,null,null,null,null,null,null,null,null,null,null,null,null,null,null,null,null,null,null,null,null,null,null,null,null,null,null,null,null,null,null,null,null,null,null,null,null,null,null,null,null,null,null,null,null,null,null,null,null,null,null,null,null,null,null,null,null,null,null,null,null,null,null,null,null,null,null,null,null,null,null,null,null,null,null,null,null,"WF05 91005:FSH&CHIP",209]
[{"$f":"IFERROR(IF(INDIRECT($A$14&ROW())<>\"\",COUNTIF([1]Summary!$B$30:$B$1029,INDIRECT($A$14&ROW())),\"\"),\"\")","v":""},null,null,null,null,null,null,null,null,null,null,null,null,null,null,null,null,null,null,null,null,null,null,null,null,null,null,null,null,null,null,null,null,null,null,null,null,null,null,null,null,null,null,null,null,null,null,null,null,null,null,null,null,null,null,null,null,null,null,null,null,null,null,null,null,null,null,null,null,null,null,null,null,null,null,null,null,null,null,null,null,null,null,null,null,null,null,null,"WF07 91007:CHK SALAD",27]
[{"$f":"IFERROR(IF(INDIRECT($A$14&ROW())<>\"\",COUNTIF([1]Summary!$B$30:$B$1029,INDIRECT($A$14&ROW())),\"\"),\"\")","v":""},null,null,null,null,null,null,null,null,null,null,null,null,null,null,null,null,null,null,null,null,null,null,null,null,null,null,null,null,null,null,null,null,null,null,null,null,null,null,null,null,null,null,null,null,null,null,null,null,null,null,null,null,null,null,null,null,null,null,null,null,null,null,null,null,null,null,null,null,null,null,null,null,null,null,null,null,null,null,null,null,null,null,null,null,null,null,null,"WG01 92026:PLN WATER",330]
[{"$f":"IFERROR(IF(INDIRECT($A$14&ROW())<>\"\",COUNTIF([1]Summary!$B$30:$B$1029,INDIRECT($A$14&ROW())),\"\"),\"\")","v":""},null,null,null,null,null,null,null,null,null,null,null,null,null,null,null,null,null,null,null,null,null,null,null,null,null,null,null,null,null,null,null,null,null,null,null,null,null,null,null,null,null,null,null,null,null,null,null,null,null,null,null,null,null,null,null,null,null,null,null,null,null,null,null,null,null,null,null,null,null,null,null,null,null,null,null,null,null,null,null,null,null,null,null,null,null,null,null,"WT01 1001:BP CKN CP",90]
[{"$f":"IFERROR(IF(INDIRECT($A$14&ROW())<>\"\",COUNTIF([1]Summary!$B$30:$B$1029,INDIRECT($A$14&ROW())),\"\"),\"\")","v":""},null,null,null,null,null,null,null,null,null,null,null,null,null,null,null,null,null,null,null,null,null,null,null,null,null,null,null,null,null,null,null,null,null,null,null,null,null,null,null,null,null,null,null,null,null,null,null,null,null,null,null,null,null,null,null,null,null,null,null,null,null,null,null,null,null,null,null,null,null,null,null,null,null,null,null,null,null,null,null,null,null,null,null,null,null,null,null,"WT03 1003:MSR CKN CP",81]
[{"$f":"IFERROR(IF(INDIRECT($A$14&ROW())<>\"\",COUNTIF([1]Summary!$B$30:$B$1029,INDIRECT($A$14&ROW())),\"\"),\"\")","v":""},null,null,null,null,null,null,null,null,null,null,null,null,null,null,null,null,null,null,null,null,null,null,null,null,null,null,null,null,null,null,null,null,null,null,null,null,null,null,null,null,null,null,null,null,null,null,null,null,null,null,null,null,null,null,null,null,null,null,null,null,null,null,null,null,null,null,null,null,null,null,null,null,null,null,null,null,null,null,null,null,null,null,null,null,null,null,null,"WT04 1004:CKN MARY",22]
[{"$f":"IFERROR(IF(INDIRECT($A$14&ROW())<>\"\",COUNTIF([1]Summary!$B$30:$B$1029,INDIRECT($A$14&ROW())),\"\"),\"\")","v":""},null,null,null,null,null,null,null,null,null,null,null,null,null,null,null,null,null,null,null,null,null,null,null,null,null,null,null,null,null,null,null,null,null,null,null,null,null,null,null,null,null,null,null,null,null,null,null,null,null,null,null,null,null,null,null,null,null,null,null,null,null,null,null,null,null,null,null,null,null,null,null,null,null,null,null,null,null,null,null,null,null,null,null,null,null,null,null,"WT05 1005:FSH&CHIP",44]
[{"$f":"IFERROR(IF(INDIRECT($A$14&ROW())<>\"\",COUNTIF([1]Summary!$B$30:$B$1029,INDIRECT($A$14&ROW())),\"\"),\"\")","v":""},null,null,null,null,null,null,null,null,null,null,null,null,null,null,null,null,null,null,null,null,null,null,null,null,null,null,null,null,null,null,null,null,null,null,null,null,null,null,null,null,null,null,null,null,null,null,null,null,null,null,null,null,null,null,null,null,null,null,null,null,null,null,null,null,null,null,null,null,null,null,null,null,null,null,null,null,null,null,null,null,null,null,null,null,null,null,null,"WT07 1007:CHK SALAD",11]
[{"$f":"IFERROR(IF(INDIRECT($A$14&ROW())<>\"\",COUNTIF([1]Summary!$B$30:$B$1029,INDIRECT($A$14&ROW())),\"\"),\"\")","v":""},null,null,null,null,null,null,null,null,null,null,null,null,null,null,null,null,null,null,null,null,null,null,null,null,null,null,null,null,null,null,null,null,null,null,null,null,null,null,null,null,null,null,null,null,null,null,null,null,null,null,null,null,null,null,null,null,null,null,null,null,null,null,null,null,null,null,null,null,null,null,null,null,null,null,null,null,null,null,null,null,null,null,null,null,null,null,null,"ZAA02 1202:FREN FRIES",109]
[{"$f":"IFERROR(IF(INDIRECT($A$14&ROW())<>\"\",COUNTIF([1]Summary!$B$30:$B$1029,INDIRECT($A$14&ROW())),\"\"),\"\")","v":""},null,null,null,null,null,null,null,null,null,null,null,null,null,null,null,null,null,null,null,null,null,null,null,null,null,null,null,null,null,null,null,null,null,null,null,null,null,null,null,null,null,null,null,null,null,null,null,null,null,null,null,null,null,null,null,null,null,null,null,null,null,null,null,null,null,null,null,null,null,null,null,null,null,null,null,null,null,null,null,null,null,null,null,null,null,null,null,"ZAA04 1204:FSHBALL",39]
[{"$f":"IFERROR(IF(INDIRECT($A$14&ROW())<>\"\",COUNTIF([1]Summary!$B$30:$B$1029,INDIRECT($A$14&ROW())),\"\"),\"\")","v":""},null,null,null,null,null,null,null,null,null,null,null,null,null,null,null,null,null,null,null,null,null,null,null,null,null,null,null,null,null,null,null,null,null,null,null,null,null,null,null,null,null,null,null,null,null,null,null,null,null,null,null,null,null,null,null,null,null,null,null,null,null,null,null,null,null,null,null,null,null,null,null,null,null,null,null,null,null,null,null,null,null,null,null,null,null,null,null,"ZAA06 1206:SPRING RL",11]
[{"$f":"IFERROR(IF(INDIRECT($A$14&ROW())<>\"\",COUNTIF([1]Summary!$B$30:$B$1029,INDIRECT($A$14&ROW())),\"\"),\"\")","v":""},null,null,null,null,null,null,null,null,null,null,null,null,null,null,null,null,null,null,null,null,null,null,null,null,null,null,null,null,null,null,null,null,null,null,null,null,null,null,null,null,null,null,null,null,null,null,null,null,null,null,null,null,null,null,null,null,null,null,null,null,null,null,null,null,null,null,null,null,null,null,null,null,null,null,null,null,null,null,null,null,null,null,null,null,null,null,null,"ZAA07 1207:SAUSG",31]
[{"$f":"IFERROR(IF(INDIRECT($A$14&ROW())<>\"\",COUNTIF([1]Summary!$B$30:$B$1029,INDIRECT($A$14&ROW())),\"\"),\"\")","v":""},null,null,null,null,null,null,null,null,null,null,null,null,null,null,null,null,null,null,null,null,null,null,null,null,null,null,null,null,null,null,null,null,null,null,null,null,null,null,null,null,null,null,null,null,null,null,null,null,null,null,null,null,null,null,null,null,null,null,null,null,null,null,null,null,null,null,null,null,null,null,null,null,null,null,null,null,null,null,null,null,null,null,null,null,null,null,null,"ZAA08 1208:HOTDOG BUN"]
[{"$f":"IFERROR(IF(INDIRECT($A$14&ROW())<>\"\",COUNTIF([1]Summary!$B$30:$B$1029,INDIRECT($A$14&ROW())),\"\"),\"\")","v":""},null,null,null,null,null,null,null,null,null,null,null,null,null,null,null,null,null,null,null,null,null,null,null,null,null,null,null,null,null,null,null,null,null,null,null,null,null,null,null,null,null,null,null,null,null,null,null,null,null,null,null,null,null,null,null,null,null,null,null,null,null,null,null,null,null,null,null,null,null,null,null,null,null,null,null,null,null,null,null,null,null,null,null,null,null,null,null,"ZAA09 1209:SF TF",59]
[{"$f":"IFERROR(IF(INDIRECT($A$14&ROW())<>\"\",COUNTIF([1]Summary!$B$30:$B$1029,INDIRECT($A$14&ROW())),\"\"),\"\")","v":""},null,null,null,null,null,null,null,null,null,null,null,null,null,null,null,null,null,null,null,null,null,null,null,null,null,null,null,null,null,null,null,null,null,null,null,null,null,null,null,null,null,null,null,null,null,null,null,null,null,null,null,null,null,null,null,null,null,null,null,null,null,null,null,null,null,null,null,null,null,null,null,null,null,null,null,null,null,null,null,null,null,null,null,null,null,null,null,"ZAA10 1210:SALAD RL",20]
[{"$f":"IFERROR(IF(INDIRECT($A$14&ROW())<>\"\",COUNTIF([1]Summary!$B$30:$B$1029,INDIRECT($A$14&ROW())),\"\"),\"\")","v":""},null,null,null,null,null,null,null,null,null,null,null,null,null,null,null,null,null,null,null,null,null,null,null,null,null,null,null,null,null,null,null,null,null,null,null,null,null,null,null,null,null,null,null,null,null,null,null,null,null,null,null,null,null,null,null,null,null,null,null,null,null,null,null,null,null,null,null,null,null,null,null,null,null,null,null,null,null,null,null,null,null,null,null,null,null,null,null,"ZAA11 1211:BBQ CHK",21]
[{"$f":"IFERROR(IF(INDIRECT($A$14&ROW())<>\"\",COUNTIF([1]Summary!$B$30:$B$1029,INDIRECT($A$14&ROW())),\"\"),\"\")","v":""},null,null,null,null,null,null,null,null,null,null,null,null,null,null,null,null,null,null,null,null,null,null,null,null,null,null,null,null,null,null,null,null,null,null,null,null,null,null,null,null,null,null,null,null,null,null,null,null,null,null,null,null,null,null,null,null,null,null,null,null,null,null,null,null,null,null,null,null,null,null,null,null,null,null,null,null,null,null,null,null,null,null,null,null,null,null,null,"ZAB02 1302:NUGGET",40]
[{"$f":"IFERROR(IF(INDIRECT($A$14&ROW())<>\"\",COUNTIF([1]Summary!$B$30:$B$1029,INDIRECT($A$14&ROW())),\"\"),\"\")","v":""},null,null,null,null,null,null,null,null,null,null,null,null,null,null,null,null,null,null,null,null,null,null,null,null,null,null,null,null,null,null,null,null,null,null,null,null,null,null,null,null,null,null,null,null,null,null,null,null,null,null,null,null,null,null,null,null,null,null,null,null,null,null,null,null,null,null,null,null,null,null,null,null,null,null,null,null,null,null,null,null,null,null,null,null,null,null,null,"ZAB03 1303:CHK WING",43]
[{"$f":"IFERROR(IF(INDIRECT($A$14&ROW())<>\"\",COUNTIF([1]Summary!$B$30:$B$1029,INDIRECT($A$14&ROW())),\"\"),\"\")","v":""},null,null,null,null,null,null,null,null,null,null,null,null,null,null,null,null,null,null,null,null,null,null,null,null,null,null,null,null,null,null,null,null,null,null,null,null,null,null,null,null,null,null,null,null,null,null,null,null,null,null,null,null,null,null,null,null,null,null,null,null,null,null,null,null,null,null,null,null,null,null,null,null,null,null,null,null,null,null,null,null,null,null,null,null,null,null,null,"ZAB08 1308 MC RING",10]
[{"$f":"IFERROR(IF(INDIRECT($A$14&ROW())<>\"\",COUNTIF([1]Summary!$B$30:$B$1029,INDIRECT($A$14&ROW())),\"\"),\"\")","v":""},null,null,null,null,null,null,null,null,null,null,null,null,null,null,null,null,null,null,null,null,null,null,null,null,null,null,null,null,null,null,null,null,null,null,null,null,null,null,null,null,null,null,null,null,null,null,null,null,null,null,null,null,null,null,null,null,null,null,null,null,null,null,null,null,null,null,null,null,null,null,null,null,null,null,null,null,null,null,null,null,null,null,null,null,null,null,null,"ZAB09 1309:MC SPIRAL F",13]
[{"$f":"IFERROR(IF(INDIRECT($A$14&ROW())<>\"\",COUNTIF([1]Summary!$B$30:$B$1029,INDIRECT($A$14&ROW())),\"\"),\"\")","v":""},null,null,null,null,null,null,null,null,null,null,null,null,null,null,null,null,null,null,null,null,null,null,null,null,null,null,null,null,null,null,null,null,null,null,null,null,null,null,null,null,null,null,null,null,null,null,null,null,null,null,null,null,null,null,null,null,null,null,null,null,null,null,null,null,null,null,null,null,null,null,null,null,null,null,null,null,null,null,null,null,null,null,null,null,null,null,null,"ZAB10 1310:MC HP SMILE",3]
[{"$f":"IFERROR(IF(INDIRECT($A$14&ROW())<>\"\",COUNTIF([1]Summary!$B$30:$B$1029,INDIRECT($A$14&ROW())),\"\"),\"\")","v":""},null,null,null,null,null,null,null,null,null,null,null,null,null,null,null,null,null,null,null,null,null,null,null,null,null,null,null,null,null,null,null,null,null,null,null,null,null,null,null,null,null,null,null,null,null,null,null,null,null,null,null,null,null,null,null,null,null,null,null,null,null,null,null,null,null,null,null,null,null,null,null,null,null,null,null,null,null,null,null,null,null,null,null,null,null,null,null,"ZAB11 1311:MC HASH BRW",7]
[{"$f":"IFERROR(IF(INDIRECT($A$14&ROW())<>\"\",COUNTIF([1]Summary!$B$30:$B$1029,INDIRECT($A$14&ROW())),\"\"),\"\")","v":""},null,null,null,null,null,null,null,null,null,null,null,null,null,null,null,null,null,null,null,null,null,null,null,null,null,null,null,null,null,null,null,null,null,null,null,null,null,null,null,null,null,null,null,null,null,null,null,null,null,null,null,null,null,null,null,null,null,null,null,null,null,null,null,null,null,null,null,null,null,null,null,null,null,null,null,null,null,null,null,null,null,null,null,null,null,null,null,"ZBC01 COLD",35]
[{"$f":"IFERROR(IF(INDIRECT($A$14&ROW())<>\"\",COUNTIF([1]Summary!$B$30:$B$1029,INDIRECT($A$14&ROW())),\"\"),\"\")","v":""},null,null,null,null,null,null,null,null,null,null,null,null,null,null,null,null,null,null,null,null,null,null,null,null,null,null,null,null,null,null,null,null,null,null,null,null,null,null,null,null,null,null,null,null,null,null,null,null,null,null,null,null,null,null,null,null,null,null,null,null,null,null,null,null,null,null,null,null,null,null,null,null,null,null,null,null,null,null,null,null,null,null,null,null,null,null,null,"ZBC02 HOT",10]
[{"$f":"IFERROR(IF(INDIRECT($A$14&ROW())<>\"\",COUNTIF([1]Summary!$B$30:$B$1029,INDIRECT($A$14&ROW())),\"\"),\"\")","v":""},null,null,null,null,null,null,null,null,null,null,null,null,null,null,null,null,null,null,null,null,null,null,null,null,null,null,null,null,null,null,null,null,null,null,null,null,null,null,null,null,null,null,null,null,null,null,null,null,null,null,null,null,null,null,null,null,null,null,null,null,null,null,null,null,null,null,null,null,null,null,null,null,null,null,null,null,null,null,null,null,null,null,null,null,null,null,null,"ZBC03 WARM",84]
[{"$f":"IFERROR(IF(INDIRECT($A$14&ROW())<>\"\",COUNTIF([1]Summary!$B$30:$B$1029,INDIRECT($A$14&ROW())),\"\"),\"\")","v":""},null,null,null,null,null,null,null,null,null,null,null,null,null,null,null,null,null,null,null,null,null,null,null,null,null,null,null,null,null,null,null,null,null,null,null,null,null,null,null,null,null,null,null,null,null,null,null,null,null,null,null,null,null,null,null,null,null,null,null,null,null,null,null,null,null,null,null,null,null,null,null,null,null,null,null,null,null,null,null,null,null,null,null,null,null,null,null,"ZBC04 LESS ICE",63]
[{"$f":"IFERROR(IF(INDIRECT($A$14&ROW())<>\"\",COUNTIF([1]Summary!$B$30:$B$1029,INDIRECT($A$14&ROW())),\"\"),\"\")","v":""},null,null,null,null,null,null,null,null,null,null,null,null,null,null,null,null,null,null,null,null,null,null,null,null,null,null,null,null,null,null,null,null,null,null,null,null,null,null,null,null,null,null,null,null,null,null,null,null,null,null,null,null,null,null,null,null,null,null,null,null,null,null,null,null,null,null,null,null,null,null,null,null,null,null,null,null,null,null,null,null,null,null,null,null,null,null,null,"ZBC05 MORE ICE",4]
[{"$f":"IFERROR(IF(INDIRECT($A$14&ROW())<>\"\",COUNTIF([1]Summary!$B$30:$B$1029,INDIRECT($A$14&ROW())),\"\"),\"\")","v":""},null,null,null,null,null,null,null,null,null,null,null,null,null,null,null,null,null,null,null,null,null,null,null,null,null,null,null,null,null,null,null,null,null,null,null,null,null,null,null,null,null,null,null,null,null,null,null,null,null,null,null,null,null,null,null,null,null,null,null,null,null,null,null,null,null,null,null,null,null,null,null,null,null,null,null,null,null,null,null,null,null,null,null,null,null,null,null,"ZBC06 NO ICE",58]
[{"$f":"IFERROR(IF(INDIRECT($A$14&ROW())<>\"\",COUNTIF([1]Summary!$B$30:$B$1029,INDIRECT($A$14&ROW())),\"\"),\"\")","v":""},null,null,null,null,null,null,null,null,null,null,null,null,null,null,null,null,null,null,null,null,null,null,null,null,null,null,null,null,null,null,null,null,null,null,null,null,null,null,null,null,null,null,null,null,null,null,null,null,null,null,null,null,null,null,null,null,null,null,null,null,null,null,null,null,null,null,null,null,null,null,null,null,null,null,null,null,null,null,null,null,null,null,null,null,null,null,null,"ZBC07 LESS SWEET",3]
[{"$f":"IFERROR(IF(INDIRECT($A$14&ROW())<>\"\",COUNTIF([1]Summary!$B$30:$B$1029,INDIRECT($A$14&ROW())),\"\"),\"\")","v":""},null,null,null,null,null,null,null,null,null,null,null,null,null,null,null,null,null,null,null,null,null,null,null,null,null,null,null,null,null,null,null,null,null,null,null,null,null,null,null,null,null,null,null,null,null,null,null,null,null,null,null,null,null,null,null,null,null,null,null,null,null,null,null,null,null,null,null,null,null,null,null,null,null,null,null,null,null,null,null,null,null,null,null,null,null,null,null,"ZBC10 LESS LEMON",1]
[{"$f":"IFERROR(IF(INDIRECT($A$14&ROW())<>\"\",COUNTIF([1]Summary!$B$30:$B$1029,INDIRECT($A$14&ROW())),\"\"),\"\")","v":""},null,null,null,null,null,null,null,null,null,null,null,null,null,null,null,null,null,null,null,null,null,null,null,null,null,null,null,null,null,null,null,null,null,null,null,null,null,null,null,null,null,null,null,null,null,null,null,null,null,null,null,null,null,null,null,null,null,null,null,null,null,null,null,null,null,null,null,null,null,null,null,null,null,null,null,null,null,null,null,null,null,null,null,null,null,null,null,"ZBC11 MORE LEMON",5]
[{"$f":"IFERROR(IF(INDIRECT($A$14&ROW())<>\"\",COUNTIF([1]Summary!$B$30:$B$1029,INDIRECT($A$14&ROW())),\"\"),\"\")","v":""},null,null,null,null,null,null,null,null,null,null,null,null,null,null,null,null,null,null,null,null,null,null,null,null,null,null,null,null,null,null,null,null,null,null,null,null,null,null,null,null,null,null,null,null,null,null,null,null,null,null,null,null,null,null,null,null,null,null,null,null,null,null,null,null,null,null,null,null,null,null,null,null,null,null,null,null,null,null,null,null,null,null,null,null,null,null,null,"ZBC14 BEER GLASS",9]
[{"$f":"IFERROR(IF(INDIRECT($A$14&ROW())<>\"\",COUNTIF([1]Summary!$B$30:$B$1029,INDIRECT($A$14&ROW())),\"\"),\"\")","v":""},null,null,null,null,null,null,null,null,null,null,null,null,null,null,null,null,null,null,null,null,null,null,null,null,null,null,null,null,null,null,null,null,null,null,null,null,null,null,null,null,null,null,null,null,null,null,null,null,null,null,null,null,null,null,null,null,null,null,null,null,null,null,null,null,null,null,null,null,null,null,null,null,null,null,null,null,null,null,null,null,null,null,null,null,null,null,null,"ZBC15 ICE BUCKET",5]
[{"$f":"IFERROR(IF(INDIRECT($A$14&ROW())<>\"\",COUNTIF([1]Summary!$B$30:$B$1029,INDIRECT($A$14&ROW())),\"\"),\"\")","v":""},null,null,null,null,null,null,null,null,null,null,null,null,null,null,null,null,null,null,null,null,null,null,null,null,null,null,null,null,null,null,null,null,null,null,null,null,null,null,null,null,null,null,null,null,null,null,null,null,null,null,null,null,null,null,null,null,null,null,null,null,null,null,null,null,null,null,null,null,null,null,null,null,null,null,null,null,null,null,null,null,null,null,null,null,null,null,null,"ZBC16 TAKE AWAY",1]
[{"$f":"IFERROR(IF(INDIRECT($A$14&ROW())<>\"\",COUNTIF([1]Summary!$B$30:$B$1029,INDIRECT($A$14&ROW())),\"\"),\"\")","v":""},null,null,null,null,null,null,null,null,null,null,null,null,null,null,null,null,null,null,null,null,null,null,null,null,null,null,null,null,null,null,null,null,null,null,null,null,null,null,null,null,null,null,null,null,null,null,null,null,null,null,null,null,null,null,null,null,null,null,null,null,null,null,null,null,null,null,null,null,null,null,null,null,null,null,null,null,null,null,null,null,null,null,null,null,null,null,null,"ZBM01 TIG MEM BKT"]
[{"$f":"IFERROR(IF(INDIRECT($A$14&ROW())<>\"\",COUNTIF([1]Summary!$B$30:$B$1029,INDIRECT($A$14&ROW())),\"\"),\"\")","v":""},null,null,null,null,null,null,null,null,null,null,null,null,null,null,null,null,null,null,null,null,null,null,null,null,null,null,null,null,null,null,null,null,null,null,null,null,null,null,null,null,null,null,null,null,null,null,null,null,null,null,null,null,null,null,null,null,null,null,null,null,null,null,null,null,null,null,null,null,null,null,null,null,null,null,null,null,null,null,null,null,null,null,null,null,null,null,null,"ZBM02 HEI MEM EX BKT",6]
[{"$f":"IFERROR(IF(INDIRECT($A$14&ROW())<>\"\",COUNTIF([1]Summary!$B$30:$B$1029,INDIRECT($A$14&ROW())),\"\"),\"\")","v":""},null,null,null,null,null,null,null,null,null,null,null,null,null,null,null,null,null,null,null,null,null,null,null,null,null,null,null,null,null,null,null,null,null,null,null,null,null,null,null,null,null,null,null,null,null,null,null,null,null,null,null,null,null,null,null,null,null,null,null,null,null,null,null,null,null,null,null,null,null,null,null,null,null,null,null,null,null,null,null,null,null,null,null,null,null,null,null,"ZBR01 TIG BKT",81]
[{"$f":"IFERROR(IF(INDIRECT($A$14&ROW())<>\"\",COUNTIF([1]Summary!$B$30:$B$1029,INDIRECT($A$14&ROW())),\"\"),\"\")","v":""},null,null,null,null,null,null,null,null,null,null,null,null,null,null,null,null,null,null,null,null,null,null,null,null,null,null,null,null,null,null,null,null,null,null,null,null,null,null,null,null,null,null,null,null,null,null,null,null,null,null,null,null,null,null,null,null,null,null,null,null,null,null,null,null,null,null,null,null,null,null,null,null,null,null,null,null,null,null,null,null,null,null,null,null,null,null,null,"ZBR02 HEI EX BKT",18]
[{"$f":"IFERROR(IF(INDIRECT($A$14&ROW())<>\"\",COUNTIF([1]Summary!$B$30:$B$1029,INDIRECT($A$14&ROW())),\"\"),\"\")","v":""},null,null,null,null,null,null,null,null,null,null,null,null,null,null,null,null,null,null,null,null,null,null,null,null,null,null,null,null,null,null,null,null,null,null,null,null,null,null,null,null,null,null,null,null,null,null,null,null,null,null,null,null,null,null,null,null,null,null,null,null,null,null,null,null,null,null,null,null,null,null,null,null,null,null,null,null,null,null,null,null,null,null,null,null,null,null,null,"ZCB01 SCREWDRIVER",1]
[{"$f":"IFERROR(IF(INDIRECT($A$14&ROW())<>\"\",COUNTIF([1]Summary!$B$30:$B$1029,INDIRECT($A$14&ROW())),\"\"),\"\")","v":""},null,null,null,null,null,null,null,null,null,null,null,null,null,null,null,null,null,null,null,null,null,null,null,null,null,null,null,null,null,null,null,null,null,null,null,null,null,null,null,null,null,null,null,null,null,null,null,null,null,null,null,null,null,null,null,null,null,null,null,null,null,null,null,null,null,null,null,null,null,null,null,null,null,null,null,null,null,null,null,null,null,null,null,null,null,null,null,"ZCB02 VODKA RIBENA",1]
[{"$f":"IFERROR(IF(INDIRECT($A$14&ROW())<>\"\",COUNTIF([1]Summary!$B$30:$B$1029,INDIRECT($A$14&ROW())),\"\"),\"\")","v":""},null,null,null,null,null,null,null,null,null,null,null,null,null,null,null,null,null,null,null,null,null,null,null,null,null,null,null,null,null,null,null,null,null,null,null,null,null,null,null,null,null,null,null,null,null,null,null,null,null,null,null,null,null,null,null,null,null,null,null,null,null,null,null,null,null,null,null,null,null,null,null,null,null,null,null,null,null,null,null,null,null,null,null,null,null,null,null,"ZKC16 TAKE AWAY",1]
[{"$f":"IFERROR(IF(INDIRECT($A$14&ROW())<>\"\",COUNTIF([1]Summary!$B$30:$B$1029,INDIRECT($A$14&ROW())),\"\"),\"\")","v":""},null,null,null,null,null,null,null,null,null,null,null,null,null,null,null,null,null,null,null,null,null,null,null,null,null,null,null,null,null,null,null,null,null,null,null,null,null,null,null,null,null,null,null,null,null,null,null,null,null,null,null,null,null,null,null,null,null,null,null,null,null,null,null,null,null,null,null,null,null,null,null,null,null,null,null,null,null,null,null,null,null,null,null,null,null,null,null,"ZKC17 REMARK - ADD BP",6]
[{"$f":"IFERROR(IF(INDIRECT($A$14&ROW())<>\"\",COUNTIF([1]Summary!$B$30:$B$1029,INDIRECT($A$14&ROW())),\"\"),\"\")","v":""},null,null,null,null,null,null,null,null,null,null,null,null,null,null,null,null,null,null,null,null,null,null,null,null,null,null,null,null,null,null,null,null,null,null,null,null,null,null,null,null,null,null,null,null,null,null,null,null,null,null,null,null,null,null,null,null,null,null,null,null,null,null,null,null,null,null,null,null,null,null,null,null,null,null,null,null,null,null,null,null,null,null,null,null,null,null,null,"ZRM01 REASON - CHARGE",2]
[{"$f":"IFERROR(IF(INDIRECT($A$14&ROW())<>\"\",COUNTIF([1]Summary!$B$30:$B$1029,INDIRECT($A$14&ROW())),\"\"),\"\")","v":""},null,null,null,null,null,null,null,null,null,null,null,null,null,null,null,null,null,null,null,null,null,null,null,null,null,null,null,null,null,null,null,null,null,null,null,null,null,null,null,null,null,null,null,null,null,null,null,null,null,null,null,null,null,null,null,null,null,null,null,null,null,null,null,null,null,null,null,null,null,null,null,null,null,null,null,null,null,null,null,null,null,null,null,null,null,null,null,"ZTC01 80001:CHK HAM",1]
[{"$f":"IFERROR(IF(INDIRECT($A$14&ROW())<>\"\",COUNTIF([1]Summary!$B$30:$B$1029,INDIRECT($A$14&ROW())),\"\"),\"\")","v":""},null,null,null,null,null,null,null,null,null,null,null,null,null,null,null,null,null,null,null,null,null,null,null,null,null,null,null,null,null,null,null,null,null,null,null,null,null,null,null,null,null,null,null,null,null,null,null,null,null,null,null,null,null,null,null,null,null,null,null,null,null,null,null,null,null,null,null,null,null,null,null,null,null,null,null,null,null,null,null,null,null,null,null,null,null,null,null,"ZTC02 80002:CHK KIDNEY",2]
[{"$f":"IFERROR(IF(INDIRECT($A$14&ROW())<>\"\",COUNTIF([1]Summary!$B$30:$B$1029,INDIRECT($A$14&ROW())),\"\"),\"\")","v":""},null,null,null,null,null,null,null,null,null,null,null,null,null,null,null,null,null,null,null,null,null,null,null,null,null,null,null,null,null,null,null,null,null,null,null,null,null,null,null,null,null,null,null,null,null,null,null,null,null,null,null,null,null,null,null,null,null,null,null,null,null,null,null,null,null,null,null,null,null,null,null,null,null,null,null,null,null,null,null,null,null,null,null,null,null,null,null,"ZTC03 80003:COC SAUSG",2]
[{"$f":"IFERROR(IF(INDIRECT($A$14&ROW())<>\"\",COUNTIF([1]Summary!$B$30:$B$1029,INDIRECT($A$14&ROW())),\"\"),\"\")","v":""},null,null,null,null,null,null,null,null,null,null,null,null,null,null,null,null,null,null,null,null,null,null,null,null,null,null,null,null,null,null,null,null,null,null,null,null,null,null,null,null,null,null,null,null,null,null,null,null,null,null,null,null,null,null,null,null,null,null,null,null,null,null,null,null,null,null,null,null,null,null,null,null,null,null,null,null,null,null,null,null,null,null,null,null,null,null,null,"ZTC04 80004:CHK SAUSG",4]
[{"$f":"IFERROR(IF(INDIRECT($A$14&ROW())<>\"\",COUNTIF([1]Summary!$B$30:$B$1029,INDIRECT($A$14&ROW())),\"\"),\"\")","v":""},null,null,null,null,null,null,null,null,null,null,null,null,null,null,null,null,null,null,null,null,null,null,null,null,null,null,null,null,null,null,null,null,null,null,null,null,null,null,null,null,null,null,null,null,null,null,null,null,null,null,null,null,null,null,null,null,null,null,null,null,null,null,null,null,null,null,null,null,null,null,null,null,null,null,null,null,null,null,null,null,null,null,null,null,null,null,null,"ZTC05 80005:HAM&BEAN",1]
[{"$f":"IFERROR(IF(INDIRECT($A$14&ROW())<>\"\",COUNTIF([1]Summary!$B$30:$B$1029,INDIRECT($A$14&ROW())),\"\"),\"\")","v":""},null,null,null,null,null,null,null,null,null,null,null,null,null,null,null,null,null,null,null,null,null,null,null,null,null,null,null,null,null,null,null,null,null,null,null,null,null,null,null,null,null,null,null,null,null,null,null,null,null,null,null,null,null,null,null,null,null,null,null,null,null,null,null,null,null,null,null,null,null,null,null,null,null,null,null,null,null,null,null,null,null,null,null,null,null,null,null,"ZTC06 80006:CHK WING",20]
[{"$f":"IFERROR(IF(INDIRECT($A$14&ROW())<>\"\",COUNTIF([1]Summary!$B$30:$B$1029,INDIRECT($A$14&ROW())),\"\"),\"\")","v":""},null,null,null,null,null,null,null,null,null,null,null,null,null,null,null,null,null,null,null,null,null,null,null,null,null,null,null,null,null,null,null,null,null,null,null,null,null,null,null,null,null,null,null,null,null,null,null,null,null,null,null,null,null,null,null,null,null,null,null,null,null,null,null,null,null,null,null,null,null,null,null,null,null,null,null,null,null,null,null,null,null,null,null,null,null,null,null,"ZTC07 80007:CHEE H DOG",10]
[{"$f":"IFERROR(IF(INDIRECT($A$14&ROW())<>\"\",COUNTIF([1]Summary!$B$30:$B$1029,INDIRECT($A$14&ROW())),\"\"),\"\")","v":""},null,null,null,null,null,null,null,null,null,null,null,null,null,null,null,null,null,null,null,null,null,null,null,null,null,null,null,null,null,null,null,null,null,null,null,null,null,null,null,null,null,null,null,null,null,null,null,null,null,null,null,null,null,null,null,null,null,null,null,null,null,null,null,null,null,null,null,null,null,null,null,null,null,null,null,null,null,null,null,null,null,null,null,null,null,null,null,"ZTC08 80008:TRK STICK",3]
[{"$f":"IFERROR(IF(INDIRECT($A$14&ROW())<>\"\",COUNTIF([1]Summary!$B$30:$B$1029,INDIRECT($A$14&ROW())),\"\"),\"\")","v":""},null,null,null,null,null,null,null,null,null,null,null,null,null,null,null,null,null,null,null,null,null,null,null,null,null,null,null,null,null,null,null,null,null,null,null,null,null,null,null,null,null,null,null,null,null,null,null,null,null,null,null,null,null,null,null,null,null,null,null,null,null,null,null,null,null,null,null,null,null,null,null,null,null,null,null,null,null,null,null,null,null,null,null,null,null,null,null,"ZTC15 80015:MT BAL",8]
[{"$f":"IFERROR(IF(INDIRECT($A$14&ROW())<>\"\",COUNTIF([1]Summary!$B$30:$B$1029,INDIRECT($A$14&ROW())),\"\"),\"\")","v":""},null,null,null,null,null,null,null,null,null,null,null,null,null,null,null,null,null,null,null,null,null,null,null,null,null,null,null,null,null,null,null,null,null,null,null,null,null,null,null,null,null,null,null,null,null,null,null,null,null,null,null,null,null,null,null,null,null,null,null,null,null,null,null,null,null,null,null,null,null,null,null,null,null,null,null,null,null,null,null,null,null,null,null,null,null,null,null,"ZTC16 80016:BACON",3]
[{"$f":"IFERROR(IF(INDIRECT($A$14&ROW())<>\"\",COUNTIF([1]Summary!$B$30:$B$1029,INDIRECT($A$14&ROW())),\"\"),\"\")","v":""},null,null,null,null,null,null,null,null,null,null,null,null,null,null,null,null,null,null,null,null,null,null,null,null,null,null,null,null,null,null,null,null,null,null,null,null,null,null,null,null,null,null,null,null,null,null,null,null,null,null,null,null,null,null,null,null,null,null,null,null,null,null,null,null,null,null,null,null,null,null,null,null,null,null,null,null,null,null,null,null,null,null,null,null,null,null,null,"ZTC17 80017:F WONTO",6]
[{"$f":"IFERROR(IF(INDIRECT($A$14&ROW())<>\"\",COUNTIF([1]Summary!$B$30:$B$1029,INDIRECT($A$14&ROW())),\"\"),\"\")","v":""},null,null,null,null,null,null,null,null,null,null,null,null,null,null,null,null,null,null,null,null,null,null,null,null,null,null,null,null,null,null,null,null,null,null,null,null,null,null,null,null,null,null,null,null,null,null,null,null,null,null,null,null,null,null,null,null,null,null,null,null,null,null,null,null,null,null,null,null,null,null,null,null,null,null,null,null,null,null,null,null,null,null,null,null,null,null,null,"ZTC18 80018:WX RL",3]
[{"$f":"IFERROR(IF(INDIRECT($A$14&ROW())<>\"\",COUNTIF([1]Summary!$B$30:$B$1029,INDIRECT($A$14&ROW())),\"\"),\"\")","v":""},null,null,null,null,null,null,null,null,null,null,null,null,null,null,null,null,null,null,null,null,null,null,null,null,null,null,null,null,null,null,null,null,null,null,null,null,null,null,null,null,null,null,null,null,null,null,null,null,null,null,null,null,null,null,null,null,null,null,null,null,null,null,null,null,null,null,null,null,null,null,null,null,null,null,null,null,null,null,null,null,null,null,null,null,null,null,null,"ZTC19 80019:DUMPLING",7]
[{"$f":"IFERROR(IF(INDIRECT($A$14&ROW())<>\"\",COUNTIF([1]Summary!$B$30:$B$1029,INDIRECT($A$14&ROW())),\"\"),\"\")","v":""},null,null,null,null,null,null,null,null,null,null,null,null,null,null,null,null,null,null,null,null,null,null,null,null,null,null,null,null,null,null,null,null,null,null,null,null,null,null,null,null,null,null,null,null,null,null,null,null,null,null,null,null,null,null,null,null,null,null,null,null,null,null,null,null,null,null,null,null,null,null,null,null,null,null,null,null,null,null,null,null,null,null,null,null,null,null,null,"ZTC23 80023:KANG KONG",4]
[{"$f":"IFERROR(IF(INDIRECT($A$14&ROW())<>\"\",COUNTIF([1]Summary!$B$30:$B$1029,INDIRECT($A$14&ROW())),\"\"),\"\")","v":""},null,null,null,null,null,null,null,null,null,null,null,null,null,null,null,null,null,null,null,null,null,null,null,null,null,null,null,null,null,null,null,null,null,null,null,null,null,null,null,null,null,null,null,null,null,null,null,null,null,null,null,null,null,null,null,null,null,null,null,null,null,null,null,null,null,null,null,null,null,null,null,null,null,null,null,null,null,null,null,null,null,null,null,null,null,null,null,"ZTC24 80024:BROCCOLI",2]
[{"$f":"IFERROR(IF(INDIRECT($A$14&ROW())<>\"\",COUNTIF([1]Summary!$B$30:$B$1029,INDIRECT($A$14&ROW())),\"\"),\"\")","v":""},null,null,null,null,null,null,null,null,null,null,null,null,null,null,null,null,null,null,null,null,null,null,null,null,null,null,null,null,null,null,null,null,null,null,null,null,null,null,null,null,null,null,null,null,null,null,null,null,null,null,null,null,null,null,null,null,null,null,null,null,null,null,null,null,null,null,null,null,null,null,null,null,null,null,null,null,null,null,null,null,null,null,null,null,null,null,null,"ZTC25 80025:LONG BEAN",2]
[{"$f":"IFERROR(IF(INDIRECT($A$14&ROW())<>\"\",COUNTIF([1]Summary!$B$30:$B$1029,INDIRECT($A$14&ROW())),\"\"),\"\")","v":""},null,null,null,null,null,null,null,null,null,null,null,null,null,null,null,null,null,null,null,null,null,null,null,null,null,null,null,null,null,null,null,null,null,null,null,null,null,null,null,null,null,null,null,null,null,null,null,null,null,null,null,null,null,null,null,null,null,null,null,null,null,null,null,null,null,null,null,null,null,null,null,null,null,null,null,null,null,null,null,null,null,null,null,null,null,null,null,"ZTC26 80026:ABALO MR",9]
[{"$f":"IFERROR(IF(INDIRECT($A$14&ROW())<>\"\",COUNTIF([1]Summary!$B$30:$B$1029,INDIRECT($A$14&ROW())),\"\"),\"\")","v":""},null,null,null,null,null,null,null,null,null,null,null,null,null,null,null,null,null,null,null,null,null,null,null,null,null,null,null,null,null,null,null,null,null,null,null,null,null,null,null,null,null,null,null,null,null,null,null,null,null,null,null,null,null,null,null,null,null,null,null,null,null,null,null,null,null,null,null,null,null,null,null,null,null,null,null,null,null,null,null,null,null,null,null,null,null,null,null,"ZTC28 80028:COCKLES",4]
[{"$f":"IFERROR(IF(INDIRECT($A$14&ROW())<>\"\",COUNTIF([1]Summary!$B$30:$B$1029,INDIRECT($A$14&ROW())),\"\"),\"\")","v":""},null,null,null,null,null,null,null,null,null,null,null,null,null,null,null,null,null,null,null,null,null,null,null,null,null,null,null,null,null,null,null,null,null,null,null,null,null,null,null,null,null,null,null,null,null,null,null,null,null,null,null,null,null,null,null,null,null,null,null,null,null,null,null,null,null,null,null,null,null,null,null,null,null,null,null,null,null,null,null,null,null,null,null,null,null,null,null,"ZTC29 80029:CTL FSH",7]
[{"$f":"IFERROR(IF(INDIRECT($A$14&ROW())<>\"\",COUNTIF([1]Summary!$B$30:$B$1029,INDIRECT($A$14&ROW())),\"\"),\"\")","v":""},null,null,null,null,null,null,null,null,null,null,null,null,null,null,null,null,null,null,null,null,null,null,null,null,null,null,null,null,null,null,null,null,null,null,null,null,null,null,null,null,null,null,null,null,null,null,null,null,null,null,null,null,null,null,null,null,null,null,null,null,null,null,null,null,null,null,null,null,null,null,null,null,null,null,null,null,null,null,null,null,null,null,null,null,null,null,null,"ZTC31 80031:FSH BAL S",10]
[{"$f":"IFERROR(IF(INDIRECT($A$14&ROW())<>\"\",COUNTIF([1]Summary!$B$30:$B$1029,INDIRECT($A$14&ROW())),\"\"),\"\")","v":""},null,null,null,null,null,null,null,null,null,null,null,null,null,null,null,null,null,null,null,null,null,null,null,null,null,null,null,null,null,null,null,null,null,null,null,null,null,null,null,null,null,null,null,null,null,null,null,null,null,null,null,null,null,null,null,null,null,null,null,null,null,null,null,null,null,null,null,null,null,null,null,null,null,null,null,null,null,null,null,null,null,null,null,null,null,null,null,"ZTC32 80032:SOTONG",8]
[{"$f":"IFERROR(IF(INDIRECT($A$14&ROW())<>\"\",COUNTIF([1]Summary!$B$30:$B$1029,INDIRECT($A$14&ROW())),\"\"),\"\")","v":""},null,null,null,null,null,null,null,null,null,null,null,null,null,null,null,null,null,null,null,null,null,null,null,null,null,null,null,null,null,null,null,null,null,null,null,null,null,null,null,null,null,null,null,null,null,null,null,null,null,null,null,null,null,null,null,null,null,null,null,null,null,null,null,null,null,null,null,null,null,null,null,null,null,null,null,null,null,null,null,null,null,null,null,null,null,null,null,"ZTC33 80033:TPURA PRW",7]
[{"$f":"IFERROR(IF(INDIRECT($A$14&ROW())<>\"\",COUNTIF([1]Summary!$B$30:$B$1029,INDIRECT($A$14&ROW())),\"\"),\"\")","v":""},null,null,null,null,null,null,null,null,null,null,null,null,null,null,null,null,null,null,null,null,null,null,null,null,null,null,null,null,null,null,null,null,null,null,null,null,null,null,null,null,null,null,null,null,null,null,null,null,null,null,null,null,null,null,null,null,null,null,null,null,null,null,null,null,null,null,null,null,null,null,null,null,null,null,null,null,null,null,null,null,null,null,null,null,null,null,null,"ZTC36 80036:F TF SKIN",3]
[{"$f":"IFERROR(IF(INDIRECT($A$14&ROW())<>\"\",COUNTIF([1]Summary!$B$30:$B$1029,INDIRECT($A$14&ROW())),\"\"),\"\")","v":""},null,null,null,null,null,null,null,null,null,null,null,null,null,null,null,null,null,null,null,null,null,null,null,null,null,null,null,null,null,null,null,null,null,null,null,null,null,null,null,null,null,null,null,null,null,null,null,null,null,null,null,null,null,null,null,null,null,null,null,null,null,null,null,null,null,null,null,null,null,null,null,null,null,null,null,null,null,null,null,null,null,null,null,null,null,null,null,"ZTC38 80038:F MANTOU",3]
[{"$f":"IFERROR(IF(INDIRECT($A$14&ROW())<>\"\",COUNTIF([1]Summary!$B$30:$B$1029,INDIRECT($A$14&ROW())),\"\"),\"\")","v":""},null,null,null,null,null,null,null,null,null,null,null,null,null,null,null,null,null,null,null,null,null,null,null,null,null,null,null,null,null,null,null,null,null,null,null,null,null,null,null,null,null,null,null,null,null,null,null,null,null,null,null,null,null,null,null,null,null,null,null,null,null,null,null,null,null,null,null,null,null,null,null,null,null,null,null,null,null,null,null,null,null,null,null,null,null,null,null,"ZTC39 80039:CRS F BAO",1]
[{"$f":"IFERROR(IF(INDIRECT($A$14&ROW())<>\"\",COUNTIF([1]Summary!$B$30:$B$1029,INDIRECT($A$14&ROW())),\"\"),\"\")","v":""},null,null,null,null,null,null,null,null,null,null,null,null,null,null,null,null,null,null,null,null,null,null,null,null,null,null,null,null,null,null,null,null,null,null,null,null,null,null,null,null,null,null,null,null,null,null,null,null,null,null,null,null,null,null,null,null,null,null,null,null,null,null,null,null,null,null,null,null,null,null,null,null,null,null,null,null,null,null,null,null,null,null,null,null,null,null,null,"ZTC40 80040:QUAIL EGGS",1]
[{"$f":"IFERROR(IF(INDIRECT($A$14&ROW())<>\"\",COUNTIF([1]Summary!$B$30:$B$1029,INDIRECT($A$14&ROW())),\"\"),\"\")","v":""},null,null,null,null,null,null,null,null,null,null,null,null,null,null,null,null,null,null,null,null,null,null,null,null,null,null,null,null,null,null,null,null,null,null,null,null,null,null,null,null,null,null,null,null,null,null,null,null,null,null,null,null,null,null,null,null,null,null,null,null,null,null,null,null,null,null,null,null,null,null,null,null,null,null,null,null,null,null,null,null,null,null,null,null,null,null,null,"ZTC41 80041:FSH TF PO",1]
[{"$f":"IFERROR(IF(INDIRECT($A$14&ROW())<>\"\",COUNTIF([1]Summary!$B$30:$B$1029,INDIRECT($A$14&ROW())),\"\"),\"\")","v":""},null,null,null,null,null,null,null,null,null,null,null,null,null,null,null,null,null,null,null,null,null,null,null,null,null,null,null,null,null,null,null,null,null,null,null,null,null,null,null,null,null,null,null,null,null,null,null,null,null,null,null,null,null,null,null,null,null,null,null,null,null,null,null,null,null,null,null,null,null,null,null,null,null,null,null,null,null,null,null,null,null,null,null,null,null,null,null,"ZTC42 80042:CRS BAO",2]
[{"$f":"IFERROR(IF(INDIRECT($A$14&ROW())<>\"\",COUNTIF([1]Summary!$B$30:$B$1029,INDIRECT($A$14&ROW())),\"\"),\"\")","v":""},null,null,null,null,null,null,null,null,null,null,null,null,null,null,null,null,null,null,null,null,null,null,null,null,null,null,null,null,null,null,null,null,null,null,null,null,null,null,null,null,null,null,null,null,null,null,null,null,null,null,null,null,null,null,null,null,null,null,null,null,null,null,null,null,null,null,null,null,null,null,null,null,null,null,null,null,null,null,null,null,null,null,null,null,null,null,null,"ZTC43 80043:Y DUMPLING",6]
[{"$f":"IFERROR(IF(INDIRECT($A$14&ROW())<>\"\",COUNTIF([1]Summary!$B$30:$B$1029,INDIRECT($A$14&ROW())),\"\"),\"\")","v":""}]
[{"$f":"IFERROR(IF(INDIRECT($A$14&ROW())<>\"\",COUNTIF([1]Summary!$B$30:$B$1029,INDIRECT($A$14&ROW())),\"\"),\"\")","v":""}]
[{"$f":"IFERROR(IF(INDIRECT($A$14&ROW())<>\"\",COUNTIF([1]Summary!$B$30:$B$1029,INDIRECT($A$14&ROW())),\"\"),\"\")","v":""}]
[{"$f":"IFERROR(IF(INDIRECT($A$14&ROW())<>\"\",COUNTIF([1]Summary!$B$30:$B$1029,INDIRECT($A$14&ROW())),\"\"),\"\")","v":""}]
[{"$f":"IFERROR(IF(INDIRECT($A$14&ROW())<>\"\",COUNTIF([1]Summary!$B$30:$B$1029,INDIRECT($A$14&ROW())),\"\"),\"\")","v":""}]
[{"$f":"IFERROR(IF(INDIRECT($A$14&ROW())<>\"\",COUNTIF([1]Summary!$B$30:$B$1029,INDIRECT($A$14&ROW())),\"\"),\"\")","v":""}]
[{"$f":"IFERROR(IF(INDIRECT($A$14&ROW())<>\"\",COUNTIF([1]Summary!$B$30:$B$1029,INDIRECT($A$14&ROW())),\"\"),\"\")","v":""}]
[{"$f":"IFERROR(IF(INDIRECT($A$14&ROW())<>\"\",COUNTIF([1]Summary!$B$30:$B$1029,INDIRECT($A$14&ROW())),\"\"),\"\")","v":""}]
[{"$f":"IFERROR(IF(INDIRECT($A$14&ROW())<>\"\",COUNTIF([1]Summary!$B$30:$B$1029,INDIRECT($A$14&ROW())),\"\"),\"\")","v":""}]
[{"$f":"IFERROR(IF(INDIRECT($A$14&ROW())<>\"\",COUNTIF([1]Summary!$B$30:$B$1029,INDIRECT($A$14&ROW())),\"\"),\"\")","v":""}]
[{"$f":"IFERROR(IF(INDIRECT($A$14&ROW())<>\"\",COUNTIF([1]Summary!$B$30:$B$1029,INDIRECT($A$14&ROW())),\"\"),\"\")","v":""}]
[{"$f":"IFERROR(IF(INDIRECT($A$14&ROW())<>\"\",COUNTIF([1]Summary!$B$30:$B$1029,INDIRECT($A$14&ROW())),\"\"),\"\")","v":""}]
[{"$f":"IFERROR(IF(INDIRECT($A$14&ROW())<>\"\",COUNTIF([1]Summary!$B$30:$B$1029,INDIRECT($A$14&ROW())),\"\"),\"\")","v":""}]
[{"$f":"IFERROR(IF(INDIRECT($A$14&ROW())<>\"\",COUNTIF([1]Summary!$B$30:$B$1029,INDIRECT($A$14&ROW())),\"\"),\"\")","v":""}]
[{"$f":"IFERROR(IF(INDIRECT($A$14&ROW())<>\"\",COUNTIF([1]Summary!$B$30:$B$1029,INDIRECT($A$14&ROW())),\"\"),\"\")","v":""}]
[{"$f":"IFERROR(IF(INDIRECT($A$14&ROW())<>\"\",COUNTIF([1]Summary!$B$30:$B$1029,INDIRECT($A$14&ROW())),\"\"),\"\")","v":""}]
[{"$f":"IFERROR(IF(INDIRECT($A$14&ROW())<>\"\",COUNTIF([1]Summary!$B$30:$B$1029,INDIRECT($A$14&ROW())),\"\"),\"\")","v":""}]
[{"$f":"IFERROR(IF(INDIRECT($A$14&ROW())<>\"\",COUNTIF([1]Summary!$B$30:$B$1029,INDIRECT($A$14&ROW())),\"\"),\"\")","v":""}]
[{"$f":"IFERROR(IF(INDIRECT($A$14&ROW())<>\"\",COUNTIF([1]Summary!$B$30:$B$1029,INDIRECT($A$14&ROW())),\"\"),\"\")","v":""}]
[{"$f":"IFERROR(IF(INDIRECT($A$14&ROW())<>\"\",COUNTIF([1]Summary!$B$30:$B$1029,INDIRECT($A$14&ROW())),\"\"),\"\")","v":""}]
[{"$f":"IFERROR(IF(INDIRECT($A$14&ROW())<>\"\",COUNTIF([1]Summary!$B$30:$B$1029,INDIRECT($A$14&ROW())),\"\"),\"\")","v":""}]
[{"$f":"IFERROR(IF(INDIRECT($A$14&ROW())<>\"\",COUNTIF([1]Summary!$B$30:$B$1029,INDIRECT($A$14&ROW())),\"\"),\"\")","v":""}]
[{"$f":"IFERROR(IF(INDIRECT($A$14&ROW())<>\"\",COUNTIF([1]Summary!$B$30:$B$1029,INDIRECT($A$14&ROW())),\"\"),\"\")","v":""}]
[{"$f":"IFERROR(IF(INDIRECT($A$14&ROW())<>\"\",COUNTIF([1]Summary!$B$30:$B$1029,INDIRECT($A$14&ROW())),\"\"),\"\")","v":""}]
[{"$f":"IFERROR(IF(INDIRECT($A$14&ROW())<>\"\",COUNTIF([1]Summary!$B$30:$B$1029,INDIRECT($A$14&ROW())),\"\"),\"\")","v":""}]
[{"$f":"IFERROR(IF(INDIRECT($A$14&ROW())<>\"\",COUNTIF([1]Summary!$B$30:$B$1029,INDIRECT($A$14&ROW())),\"\"),\"\")","v":""}]
[{"$f":"IFERROR(IF(INDIRECT($A$14&ROW())<>\"\",COUNTIF([1]Summary!$B$30:$B$1029,INDIRECT($A$14&ROW())),\"\"),\"\")","v":""}]
[{"$f":"IFERROR(IF(INDIRECT($A$14&ROW())<>\"\",COUNTIF([1]Summary!$B$30:$B$1029,INDIRECT($A$14&ROW())),\"\"),\"\")","v":""}]
[{"$f":"IFERROR(IF(INDIRECT($A$14&ROW())<>\"\",COUNTIF([1]Summary!$B$30:$B$1029,INDIRECT($A$14&ROW())),\"\"),\"\")","v":""}]
[{"$f":"IFERROR(IF(INDIRECT($A$14&ROW())<>\"\",COUNTIF([1]Summary!$B$30:$B$1029,INDIRECT($A$14&ROW())),\"\"),\"\")","v":""}]
[{"$f":"IFERROR(IF(INDIRECT($A$14&ROW())<>\"\",COUNTIF([1]Summary!$B$30:$B$1029,INDIRECT($A$14&ROW())),\"\"),\"\")","v":""}]
[{"$f":"IFERROR(IF(INDIRECT($A$14&ROW())<>\"\",COUNTIF([1]Summary!$B$30:$B$1029,INDIRECT($A$14&ROW())),\"\"),\"\")","v":""}]
[{"$f":"IFERROR(IF(INDIRECT($A$14&ROW())<>\"\",COUNTIF([1]Summary!$B$30:$B$1029,INDIRECT($A$14&ROW())),\"\"),\"\")","v":""}]
[{"$f":"IFERROR(IF(INDIRECT($A$14&ROW())<>\"\",COUNTIF([1]Summary!$B$30:$B$1029,INDIRECT($A$14&ROW())),\"\"),\"\")","v":""}]
[{"$f":"IFERROR(IF(INDIRECT($A$14&ROW())<>\"\",COUNTIF([1]Summary!$B$30:$B$1029,INDIRECT($A$14&ROW())),\"\"),\"\")","v":""}]
[{"$f":"IFERROR(IF(INDIRECT($A$14&ROW())<>\"\",COUNTIF([1]Summary!$B$30:$B$1029,INDIRECT($A$14&ROW())),\"\"),\"\")","v":""}]
[{"$f":"IFERROR(IF(INDIRECT($A$14&ROW())<>\"\",COUNTIF([1]Summary!$B$30:$B$1029,INDIRECT($A$14&ROW())),\"\"),\"\")","v":""}]
[{"$f":"IFERROR(IF(INDIRECT($A$14&ROW())<>\"\",COUNTIF([1]Summary!$B$30:$B$1029,INDIRECT($A$14&ROW())),\"\"),\"\")","v":""}]
[{"$f":"IFERROR(IF(INDIRECT($A$14&ROW())<>\"\",COUNTIF([1]Summary!$B$30:$B$1029,INDIRECT($A$14&ROW())),\"\"),\"\")","v":""}]
[{"$f":"IFERROR(IF(INDIRECT($A$14&ROW())<>\"\",COUNTIF([1]Summary!$B$30:$B$1029,INDIRECT($A$14&ROW())),\"\"),\"\")","v":""}]
[{"$f":"IFERROR(IF(INDIRECT($A$14&ROW())<>\"\",COUNTIF([1]Summary!$B$30:$B$1029,INDIRECT($A$14&ROW())),\"\"),\"\")","v":""}]
[{"$f":"IFERROR(IF(INDIRECT($A$14&ROW())<>\"\",COUNTIF([1]Summary!$B$30:$B$1029,INDIRECT($A$14&ROW())),\"\"),\"\")","v":""}]
[{"$f":"IFERROR(IF(INDIRECT($A$14&ROW())<>\"\",COUNTIF([1]Summary!$B$30:$B$1029,INDIRECT($A$14&ROW())),\"\"),\"\")","v":""}]
[{"$f":"IFERROR(IF(INDIRECT($A$14&ROW())<>\"\",COUNTIF([1]Summary!$B$30:$B$1029,INDIRECT($A$14&ROW())),\"\"),\"\")","v":""}]
[{"$f":"IFERROR(IF(INDIRECT($A$14&ROW())<>\"\",COUNTIF([1]Summary!$B$30:$B$1029,INDIRECT($A$14&ROW())),\"\"),\"\")","v":""}]
[{"$f":"IFERROR(IF(INDIRECT($A$14&ROW())<>\"\",COUNTIF([1]Summary!$B$30:$B$1029,INDIRECT($A$14&ROW())),\"\"),\"\")","v":""}]
[{"$f":"IFERROR(IF(INDIRECT($A$14&ROW())<>\"\",COUNTIF([1]Summary!$B$30:$B$1029,INDIRECT($A$14&ROW())),\"\"),\"\")","v":""}]
[{"$f":"IFERROR(IF(INDIRECT($A$14&ROW())<>\"\",COUNTIF([1]Summary!$B$30:$B$1029,INDIRECT($A$14&ROW())),\"\"),\"\")","v":""}]
[{"$f":"IFERROR(IF(INDIRECT($A$14&ROW())<>\"\",COUNTIF([1]Summary!$B$30:$B$1029,INDIRECT($A$14&ROW())),\"\"),\"\")","v":""}]
[{"$f":"IFERROR(IF(INDIRECT($A$14&ROW())<>\"\",COUNTIF([1]Summary!$B$30:$B$1029,INDIRECT($A$14&ROW())),\"\"),\"\")","v":""}]
[{"$f":"IFERROR(IF(INDIRECT($A$14&ROW())<>\"\",COUNTIF([1]Summary!$B$30:$B$1029,INDIRECT($A$14&ROW())),\"\"),\"\")","v":""}]
[{"$f":"IFERROR(IF(INDIRECT($A$14&ROW())<>\"\",COUNTIF([1]Summary!$B$30:$B$1029,INDIRECT($A$14&ROW())),\"\"),\"\")","v":""}]
[{"$f":"IFERROR(IF(INDIRECT($A$14&ROW())<>\"\",COUNTIF([1]Summary!$B$30:$B$1029,INDIRECT($A$14&ROW())),\"\"),\"\")","v":""}]
[{"$f":"IFERROR(IF(INDIRECT($A$14&ROW())<>\"\",COUNTIF([1]Summary!$B$30:$B$1029,INDIRECT($A$14&ROW())),\"\"),\"\")","v":""}]
[{"$f":"IFERROR(IF(INDIRECT($A$14&ROW())<>\"\",COUNTIF([1]Summary!$B$30:$B$1029,INDIRECT($A$14&ROW())),\"\"),\"\")","v":""}]
[{"$f":"IFERROR(IF(INDIRECT($A$14&ROW())<>\"\",COUNTIF([1]Summary!$B$30:$B$1029,INDIRECT($A$14&ROW())),\"\"),\"\")","v":""}]
[{"$f":"IFERROR(IF(INDIRECT($A$14&ROW())<>\"\",COUNTIF([1]Summary!$B$30:$B$1029,INDIRECT($A$14&ROW())),\"\"),\"\")","v":""}]
[{"$f":"IFERROR(IF(INDIRECT($A$14&ROW())<>\"\",COUNTIF([1]Summary!$B$30:$B$1029,INDIRECT($A$14&ROW())),\"\"),\"\")","v":""}]
[{"$f":"IFERROR(IF(INDIRECT($A$14&ROW())<>\"\",COUNTIF([1]Summary!$B$30:$B$1029,INDIRECT($A$14&ROW())),\"\"),\"\")","v":""}]
[{"$f":"IFERROR(IF(INDIRECT($A$14&ROW())<>\"\",COUNTIF([1]Summary!$B$30:$B$1029,INDIRECT($A$14&ROW())),\"\"),\"\")","v":""}]
[{"$f":"IFERROR(IF(INDIRECT($A$14&ROW())<>\"\",COUNTIF([1]Summary!$B$30:$B$1029,INDIRECT($A$14&ROW())),\"\"),\"\")","v":""}]
[{"$f":"IFERROR(IF(INDIRECT($A$14&ROW())<>\"\",COUNTIF([1]Summary!$B$30:$B$1029,INDIRECT($A$14&ROW())),\"\"),\"\")","v":""}]
[{"$f":"IFERROR(IF(INDIRECT($A$14&ROW())<>\"\",COUNTIF([1]Summary!$B$30:$B$1029,INDIRECT($A$14&ROW())),\"\"),\"\")","v":""}]
[{"$f":"IFERROR(IF(INDIRECT($A$14&ROW())<>\"\",COUNTIF([1]Summary!$B$30:$B$1029,INDIRECT($A$14&ROW())),\"\"),\"\")","v":""}]
[{"$f":"IFERROR(IF(INDIRECT($A$14&ROW())<>\"\",COUNTIF([1]Summary!$B$30:$B$1029,INDIRECT($A$14&ROW())),\"\"),\"\")","v":""}]
[{"$f":"IFERROR(IF(INDIRECT($A$14&ROW())<>\"\",COUNTIF([1]Summary!$B$30:$B$1029,INDIRECT($A$14&ROW())),\"\"),\"\")","v":""}]
[{"$f":"IFERROR(IF(INDIRECT($A$14&ROW())<>\"\",COUNTIF([1]Summary!$B$30:$B$1029,INDIRECT($A$14&ROW())),\"\"),\"\")","v":""}]
[{"$f":"IFERROR(IF(INDIRECT($A$14&ROW())<>\"\",COUNTIF([1]Summary!$B$30:$B$1029,INDIRECT($A$14&ROW())),\"\"),\"\")","v":""}]
[{"$f":"IFERROR(IF(INDIRECT($A$14&ROW())<>\"\",COUNTIF([1]Summary!$B$30:$B$1029,INDIRECT($A$14&ROW())),\"\"),\"\")","v":""}]
[{"$f":"IFERROR(IF(INDIRECT($A$14&ROW())<>\"\",COUNTIF([1]Summary!$B$30:$B$1029,INDIRECT($A$14&ROW())),\"\"),\"\")","v":""}]
[{"$f":"IFERROR(IF(INDIRECT($A$14&ROW())<>\"\",COUNTIF([1]Summary!$B$30:$B$1029,INDIRECT($A$14&ROW())),\"\"),\"\")","v":""}]
[{"$f":"IFERROR(IF(INDIRECT($A$14&ROW())<>\"\",COUNTIF([1]Summary!$B$30:$B$1029,INDIRECT($A$14&ROW())),\"\"),\"\")","v":""}]
[{"$f":"IFERROR(IF(INDIRECT($A$14&ROW())<>\"\",COUNTIF([1]Summary!$B$30:$B$1029,INDIRECT($A$14&ROW())),\"\"),\"\")","v":""}]
[{"$f":"IFERROR(IF(INDIRECT($A$14&ROW())<>\"\",COUNTIF([1]Summary!$B$30:$B$1029,INDIRECT($A$14&ROW())),\"\"),\"\")","v":""}]
[{"$f":"IFERROR(IF(INDIRECT($A$14&ROW())<>\"\",COUNTIF([1]Summary!$B$30:$B$1029,INDIRECT($A$14&ROW())),\"\"),\"\")","v":""}]
[{"$f":"IFERROR(IF(INDIRECT($A$14&ROW())<>\"\",COUNTIF([1]Summary!$B$30:$B$1029,INDIRECT($A$14&ROW())),\"\"),\"\")","v":""}]
[{"$f":"IFERROR(IF(INDIRECT($A$14&ROW())<>\"\",COUNTIF([1]Summary!$B$30:$B$1029,INDIRECT($A$14&ROW())),\"\"),\"\")","v":""}]
[{"$f":"IFERROR(IF(INDIRECT($A$14&ROW())<>\"\",COUNTIF([1]Summary!$B$30:$B$1029,INDIRECT($A$14&ROW())),\"\"),\"\")","v":""}]
[{"$f":"IFERROR(IF(INDIRECT($A$14&ROW())<>\"\",COUNTIF([1]Summary!$B$30:$B$1029,INDIRECT($A$14&ROW())),\"\"),\"\")","v":""}]
[{"$f":"IFERROR(IF(INDIRECT($A$14&ROW())<>\"\",COUNTIF([1]Summary!$B$30:$B$1029,INDIRECT($A$14&ROW())),\"\"),\"\")","v":""}]
[{"$f":"IFERROR(IF(INDIRECT($A$14&ROW())<>\"\",COUNTIF([1]Summary!$B$30:$B$1029,INDIRECT($A$14&ROW())),\"\"),\"\")","v":""}]
[{"$f":"IFERROR(IF(INDIRECT($A$14&ROW())<>\"\",COUNTIF([1]Summary!$B$30:$B$1029,INDIRECT($A$14&ROW())),\"\"),\"\")","v":""}]
[{"$f":"IFERROR(IF(INDIRECT($A$14&ROW())<>\"\",COUNTIF([1]Summary!$B$30:$B$1029,INDIRECT($A$14&ROW())),\"\"),\"\")","v":""}]
[{"$f":"IFERROR(IF(INDIRECT($A$14&ROW())<>\"\",COUNTIF([1]Summary!$B$30:$B$1029,INDIRECT($A$14&ROW())),\"\"),\"\")","v":""}]
[{"$f":"IFERROR(IF(INDIRECT($A$14&ROW())<>\"\",COUNTIF([1]Summary!$B$30:$B$1029,INDIRECT($A$14&ROW())),\"\"),\"\")","v":""}]
[{"$f":"IFERROR(IF(INDIRECT($A$14&ROW())<>\"\",COUNTIF([1]Summary!$B$30:$B$1029,INDIRECT($A$14&ROW())),\"\"),\"\")","v":""}]
[{"$f":"IFERROR(IF(INDIRECT($A$14&ROW())<>\"\",COUNTIF([1]Summary!$B$30:$B$1029,INDIRECT($A$14&ROW())),\"\"),\"\")","v":""}]
[{"$f":"IFERROR(IF(INDIRECT($A$14&ROW())<>\"\",COUNTIF([1]Summary!$B$30:$B$1029,INDIRECT($A$14&ROW())),\"\"),\"\")","v":""}]
[{"$f":"IFERROR(IF(INDIRECT($A$14&ROW())<>\"\",COUNTIF([1]Summary!$B$30:$B$1029,INDIRECT($A$14&ROW())),\"\"),\"\")","v":""}]
[{"$f":"IFERROR(IF(INDIRECT($A$14&ROW())<>\"\",COUNTIF([1]Summary!$B$30:$B$1029,INDIRECT($A$14&ROW())),\"\"),\"\")","v":""}]
[{"$f":"IFERROR(IF(INDIRECT($A$14&ROW())<>\"\",COUNTIF([1]Summary!$B$30:$B$1029,INDIRECT($A$14&ROW())),\"\"),\"\")","v":""}]
[{"$f":"IFERROR(IF(INDIRECT($A$14&ROW())<>\"\",COUNTIF([1]Summary!$B$30:$B$1029,INDIRECT($A$14&ROW())),\"\"),\"\")","v":""}]
[{"$f":"IFERROR(IF(INDIRECT($A$14&ROW())<>\"\",COUNTIF([1]Summary!$B$30:$B$1029,INDIRECT($A$14&ROW())),\"\"),\"\")","v":""}]
[{"$f":"IFERROR(IF(INDIRECT($A$14&ROW())<>\"\",COUNTIF([1]Summary!$B$30:$B$1029,INDIRECT($A$14&ROW())),\"\"),\"\")","v":""}]
[{"$f":"IFERROR(IF(INDIRECT($A$14&ROW())<>\"\",COUNTIF([1]Summary!$B$30:$B$1029,INDIRECT($A$14&ROW())),\"\"),\"\")","v":""}]
[{"$f":"IFERROR(IF(INDIRECT($A$14&ROW())<>\"\",COUNTIF([1]Summary!$B$30:$B$1029,INDIRECT($A$14&ROW())),\"\"),\"\")","v":""}]
[{"$f":"IFERROR(IF(INDIRECT($A$14&ROW())<>\"\",COUNTIF([1]Summary!$B$30:$B$1029,INDIRECT($A$14&ROW())),\"\"),\"\")","v":""}]
[{"$f":"IFERROR(IF(INDIRECT($A$14&ROW())<>\"\",COUNTIF([1]Summary!$B$30:$B$1029,INDIRECT($A$14&ROW())),\"\"),\"\")","v":""}]
[{"$f":"IFERROR(IF(INDIRECT($A$14&ROW())<>\"\",COUNTIF([1]Summary!$B$30:$B$1029,INDIRECT($A$14&ROW())),\"\"),\"\")","v":""}]
[{"$f":"IFERROR(IF(INDIRECT($A$14&ROW())<>\"\",COUNTIF([1]Summary!$B$30:$B$1029,INDIRECT($A$14&ROW())),\"\"),\"\")","v":""}]
[{"$f":"IFERROR(IF(INDIRECT($A$14&ROW())<>\"\",COUNTIF([1]Summary!$B$30:$B$1029,INDIRECT($A$14&ROW())),\"\"),\"\")","v":""}]
[{"$f":"IFERROR(IF(INDIRECT($A$14&ROW())<>\"\",COUNTIF([1]Summary!$B$30:$B$1029,INDIRECT($A$14&ROW())),\"\"),\"\")","v":""}]
[{"$f":"IFERROR(IF(INDIRECT($A$14&ROW())<>\"\",COUNTIF([1]Summary!$B$30:$B$1029,INDIRECT($A$14&ROW())),\"\"),\"\")","v":""}]
[{"$f":"IFERROR(IF(INDIRECT($A$14&ROW())<>\"\",COUNTIF([1]Summary!$B$30:$B$1029,INDIRECT($A$14&ROW())),\"\"),\"\")","v":""}]
[{"$f":"IFERROR(IF(INDIRECT($A$14&ROW())<>\"\",COUNTIF([1]Summary!$B$30:$B$1029,INDIRECT($A$14&ROW())),\"\"),\"\")","v":""}]
[{"$f":"IFERROR(IF(INDIRECT($A$14&ROW())<>\"\",COUNTIF([1]Summary!$B$30:$B$1029,INDIRECT($A$14&ROW())),\"\"),\"\")","v":""}]
[{"$f":"IFERROR(IF(INDIRECT($A$14&ROW())<>\"\",COUNTIF([1]Summary!$B$30:$B$1029,INDIRECT($A$14&ROW())),\"\"),\"\")","v":""}]
[{"$f":"IFERROR(IF(INDIRECT($A$14&ROW())<>\"\",COUNTIF([1]Summary!$B$30:$B$1029,INDIRECT($A$14&ROW())),\"\"),\"\")","v":""}]
[{"$f":"IFERROR(IF(INDIRECT($A$14&ROW())<>\"\",COUNTIF([1]Summary!$B$30:$B$1029,INDIRECT($A$14&ROW())),\"\"),\"\")","v":""}]
[{"$f":"IFERROR(IF(INDIRECT($A$14&ROW())<>\"\",COUNTIF([1]Summary!$B$30:$B$1029,INDIRECT($A$14&ROW())),\"\"),\"\")","v":""}]
[{"$f":"IFERROR(IF(INDIRECT($A$14&ROW())<>\"\",COUNTIF([1]Summary!$B$30:$B$1029,INDIRECT($A$14&ROW())),\"\"),\"\")","v":""}]
[{"$f":"IFERROR(IF(INDIRECT($A$14&ROW())<>\"\",COUNTIF([1]Summary!$B$30:$B$1029,INDIRECT($A$14&ROW())),\"\"),\"\")","v":""}]
[{"$f":"IFERROR(IF(INDIRECT($A$14&ROW())<>\"\",COUNTIF([1]Summary!$B$30:$B$1029,INDIRECT($A$14&ROW())),\"\"),\"\")","v":""}]
[{"$f":"IFERROR(IF(INDIRECT($A$14&ROW())<>\"\",COUNTIF([1]Summary!$B$30:$B$1029,INDIRECT($A$14&ROW())),\"\"),\"\")","v":""}]
[{"$f":"IFERROR(IF(INDIRECT($A$14&ROW())<>\"\",COUNTIF([1]Summary!$B$30:$B$1029,INDIRECT($A$14&ROW())),\"\"),\"\")","v":""}]
[{"$f":"IFERROR(IF(INDIRECT($A$14&ROW())<>\"\",COUNTIF([1]Summary!$B$30:$B$1029,INDIRECT($A$14&ROW())),\"\"),\"\")","v":""}]
[{"$f":"IFERROR(IF(INDIRECT($A$14&ROW())<>\"\",COUNTIF([1]Summary!$B$30:$B$1029,INDIRECT($A$14&ROW())),\"\"),\"\")","v":""}]
[{"$f":"IFERROR(IF(INDIRECT($A$14&ROW())<>\"\",COUNTIF([1]Summary!$B$30:$B$1029,INDIRECT($A$14&ROW())),\"\"),\"\")","v":""}]
[{"$f":"IFERROR(IF(INDIRECT($A$14&ROW())<>\"\",COUNTIF([1]Summary!$B$30:$B$1029,INDIRECT($A$14&ROW())),\"\"),\"\")","v":""}]
[{"$f":"IFERROR(IF(INDIRECT($A$14&ROW())<>\"\",COUNTIF([1]Summary!$B$30:$B$1029,INDIRECT($A$14&ROW())),\"\"),\"\")","v":""}]
[{"$f":"IFERROR(IF(INDIRECT($A$14&ROW())<>\"\",COUNTIF([1]Summary!$B$30:$B$1029,INDIRECT($A$14&ROW())),\"\"),\"\")","v":""}]
[{"$f":"IFERROR(IF(INDIRECT($A$14&ROW())<>\"\",COUNTIF([1]Summary!$B$30:$B$1029,INDIRECT($A$14&ROW())),\"\"),\"\")","v":""}]
[{"$f":"IFERROR(IF(INDIRECT($A$14&ROW())<>\"\",COUNTIF([1]Summary!$B$30:$B$1029,INDIRECT($A$14&ROW())),\"\"),\"\")","v":""}]
[{"$f":"IFERROR(IF(INDIRECT($A$14&ROW())<>\"\",COUNTIF([1]Summary!$B$30:$B$1029,INDIRECT($A$14&ROW())),\"\"),\"\")","v":""}]
[{"$f":"IFERROR(IF(INDIRECT($A$14&ROW())<>\"\",COUNTIF([1]Summary!$B$30:$B$1029,INDIRECT($A$14&ROW())),\"\"),\"\")","v":""}]
[{"$f":"IFERROR(IF(INDIRECT($A$14&ROW())<>\"\",COUNTIF([1]Summary!$B$30:$B$1029,INDIRECT($A$14&ROW())),\"\"),\"\")","v":""}]
[{"$f":"IFERROR(IF(INDIRECT($A$14&ROW())<>\"\",COUNTIF([1]Summary!$B$30:$B$1029,INDIRECT($A$14&ROW())),\"\"),\"\")","v":""}]
[{"$f":"IFERROR(IF(INDIRECT($A$14&ROW())<>\"\",COUNTIF([1]Summary!$B$30:$B$1029,INDIRECT($A$14&ROW())),\"\"),\"\")","v":""}]
[{"$f":"IFERROR(IF(INDIRECT($A$14&ROW())<>\"\",COUNTIF([1]Summary!$B$30:$B$1029,INDIRECT($A$14&ROW())),\"\"),\"\")","v":""}]
[{"$f":"IFERROR(IF(INDIRECT($A$14&ROW())<>\"\",COUNTIF([1]Summary!$B$30:$B$1029,INDIRECT($A$14&ROW())),\"\"),\"\")","v":""}]
[{"$f":"IFERROR(IF(INDIRECT($A$14&ROW())<>\"\",COUNTIF([1]Summary!$B$30:$B$1029,INDIRECT($A$14&ROW())),\"\"),\"\")","v":""}]
[{"$f":"IFERROR(IF(INDIRECT($A$14&ROW())<>\"\",COUNTIF([1]Summary!$B$30:$B$1029,INDIRECT($A$14&ROW())),\"\"),\"\")","v":""}]
[{"$f":"IFERROR(IF(INDIRECT($A$14&ROW())<>\"\",COUNTIF([1]Summary!$B$30:$B$1029,INDIRECT($A$14&ROW())),\"\"),\"\")","v":""}]
[{"$f":"IFERROR(IF(INDIRECT($A$14&ROW())<>\"\",COUNTIF([1]Summary!$B$30:$B$1029,INDIRECT($A$14&ROW())),\"\"),\"\")","v":""}]
[{"$f":"IFERROR(IF(INDIRECT($A$14&ROW())<>\"\",COUNTIF([1]Summary!$B$30:$B$1029,INDIRECT($A$14&ROW())),\"\"),\"\")","v":""}]
[{"$f":"IFERROR(IF(INDIRECT($A$14&ROW())<>\"\",COUNTIF([1]Summary!$B$30:$B$1029,INDIRECT($A$14&ROW())),\"\"),\"\")","v":""}]
[{"$f":"IFERROR(IF(INDIRECT($A$14&ROW())<>\"\",COUNTIF([1]Summary!$B$30:$B$1029,INDIRECT($A$14&ROW())),\"\"),\"\")","v":""}]
[{"$f":"IFERROR(IF(INDIRECT($A$14&ROW())<>\"\",COUNTIF([1]Summary!$B$30:$B$1029,INDIRECT($A$14&ROW())),\"\"),\"\")","v":""}]
[{"$f":"IFERROR(IF(INDIRECT($A$14&ROW())<>\"\",COUNTIF([1]Summary!$B$30:$B$1029,INDIRECT($A$14&ROW())),\"\"),\"\")","v":""}]
[{"$f":"IFERROR(IF(INDIRECT($A$14&ROW())<>\"\",COUNTIF([1]Summary!$B$30:$B$1029,INDIRECT($A$14&ROW())),\"\"),\"\")","v":""}]
[{"$f":"IFERROR(IF(INDIRECT($A$14&ROW())<>\"\",COUNTIF([1]Summary!$B$30:$B$1029,INDIRECT($A$14&ROW())),\"\"),\"\")","v":""}]
[{"$f":"IFERROR(IF(INDIRECT($A$14&ROW())<>\"\",COUNTIF([1]Summary!$B$30:$B$1029,INDIRECT($A$14&ROW())),\"\"),\"\")","v":""}]
[{"$f":"IFERROR(IF(INDIRECT($A$14&ROW())<>\"\",COUNTIF([1]Summary!$B$30:$B$1029,INDIRECT($A$14&ROW())),\"\"),\"\")","v":""}]
[{"$f":"IFERROR(IF(INDIRECT($A$14&ROW())<>\"\",COUNTIF([1]Summary!$B$30:$B$1029,INDIRECT($A$14&ROW())),\"\"),\"\")","v":""}]
[{"$f":"IFERROR(IF(INDIRECT($A$14&ROW())<>\"\",COUNTIF([1]Summary!$B$30:$B$1029,INDIRECT($A$14&ROW())),\"\"),\"\")","v":""}]
[{"$f":"IFERROR(IF(INDIRECT($A$14&ROW())<>\"\",COUNTIF([1]Summary!$B$30:$B$1029,INDIRECT($A$14&ROW())),\"\"),\"\")","v":""}]
[{"$f":"IFERROR(IF(INDIRECT($A$14&ROW())<>\"\",COUNTIF([1]Summary!$B$30:$B$1029,INDIRECT($A$14&ROW())),\"\"),\"\")","v":""}]
[{"$f":"IFERROR(IF(INDIRECT($A$14&ROW())<>\"\",COUNTIF([1]Summary!$B$30:$B$1029,INDIRECT($A$14&ROW())),\"\"),\"\")","v":""}]
[{"$f":"IFERROR(IF(INDIRECT($A$14&ROW())<>\"\",COUNTIF([1]Summary!$B$30:$B$1029,INDIRECT($A$14&ROW())),\"\"),\"\")","v":""}]
[{"$f":"IFERROR(IF(INDIRECT($A$14&ROW())<>\"\",COUNTIF([1]Summary!$B$30:$B$1029,INDIRECT($A$14&ROW())),\"\"),\"\")","v":""}]
[{"$f":"IFERROR(IF(INDIRECT($A$14&ROW())<>\"\",COUNTIF([1]Summary!$B$30:$B$1029,INDIRECT($A$14&ROW())),\"\"),\"\")","v":""}]
[{"$f":"IFERROR(IF(INDIRECT($A$14&ROW())<>\"\",COUNTIF([1]Summary!$B$30:$B$1029,INDIRECT($A$14&ROW())),\"\"),\"\")","v":""}]
[{"$f":"IFERROR(IF(INDIRECT($A$14&ROW())<>\"\",COUNTIF([1]Summary!$B$30:$B$1029,INDIRECT($A$14&ROW())),\"\"),\"\")","v":""}]
[{"$f":"IFERROR(IF(INDIRECT($A$14&ROW())<>\"\",COUNTIF([1]Summary!$B$30:$B$1029,INDIRECT($A$14&ROW())),\"\"),\"\")","v":""}]
[{"$f":"IFERROR(IF(INDIRECT($A$14&ROW())<>\"\",COUNTIF([1]Summary!$B$30:$B$1029,INDIRECT($A$14&ROW())),\"\"),\"\")","v":""}]
[{"$f":"IFERROR(IF(INDIRECT($A$14&ROW())<>\"\",COUNTIF([1]Summary!$B$30:$B$1029,INDIRECT($A$14&ROW())),\"\"),\"\")","v":""}]
[{"$f":"IFERROR(IF(INDIRECT($A$14&ROW())<>\"\",COUNTIF([1]Summary!$B$30:$B$1029,INDIRECT($A$14&ROW())),\"\"),\"\")","v":""}]
[{"$f":"IFERROR(IF(INDIRECT($A$14&ROW())<>\"\",COUNTIF([1]Summary!$B$30:$B$1029,INDIRECT($A$14&ROW())),\"\"),\"\")","v":""}]
[{"$f":"IFERROR(IF(INDIRECT($A$14&ROW())<>\"\",COUNTIF([1]Summary!$B$30:$B$1029,INDIRECT($A$14&ROW())),\"\"),\"\")","v":""}]
[{"$f":"IFERROR(IF(INDIRECT($A$14&ROW())<>\"\",COUNTIF([1]Summary!$B$30:$B$1029,INDIRECT($A$14&ROW())),\"\"),\"\")","v":""}]
[{"$f":"IFERROR(IF(INDIRECT($A$14&ROW())<>\"\",COUNTIF([1]Summary!$B$30:$B$1029,INDIRECT($A$14&ROW())),\"\"),\"\")","v":""}]
[{"$f":"IFERROR(IF(INDIRECT($A$14&ROW())<>\"\",COUNTIF([1]Summary!$B$30:$B$1029,INDIRECT($A$14&ROW())),\"\"),\"\")","v":""}]
[{"$f":"IFERROR(IF(INDIRECT($A$14&ROW())<>\"\",COUNTIF([1]Summary!$B$30:$B$1029,INDIRECT($A$14&ROW())),\"\"),\"\")","v":""}]
[{"$f":"IFERROR(IF(INDIRECT($A$14&ROW())<>\"\",COUNTIF([1]Summary!$B$30:$B$1029,INDIRECT($A$14&ROW())),\"\"),\"\")","v":""}]
[{"$f":"IFERROR(IF(INDIRECT($A$14&ROW())<>\"\",COUNTIF([1]Summary!$B$30:$B$1029,INDIRECT($A$14&ROW())),\"\"),\"\")","v":""}]
[{"$f":"IFERROR(IF(INDIRECT($A$14&ROW())<>\"\",COUNTIF([1]Summary!$B$30:$B$1029,INDIRECT($A$14&ROW())),\"\"),\"\")","v":""}]
[{"$f":"IFERROR(IF(INDIRECT($A$14&ROW())<>\"\",COUNTIF([1]Summary!$B$30:$B$1029,INDIRECT($A$14&ROW())),\"\"),\"\")","v":""}]
[{"$f":"IFERROR(IF(INDIRECT($A$14&ROW())<>\"\",COUNTIF([1]Summary!$B$30:$B$1029,INDIRECT($A$14&ROW())),\"\"),\"\")","v":""}]
[{"$f":"IFERROR(IF(INDIRECT($A$14&ROW())<>\"\",COUNTIF([1]Summary!$B$30:$B$1029,INDIRECT($A$14&ROW())),\"\"),\"\")","v":""}]
[{"$f":"IFERROR(IF(INDIRECT($A$14&ROW())<>\"\",COUNTIF([1]Summary!$B$30:$B$1029,INDIRECT($A$14&ROW())),\"\"),\"\")","v":""}]
[{"$f":"IFERROR(IF(INDIRECT($A$14&ROW())<>\"\",COUNTIF([1]Summary!$B$30:$B$1029,INDIRECT($A$14&ROW())),\"\"),\"\")","v":""}]
[{"$f":"IFERROR(IF(INDIRECT($A$14&ROW())<>\"\",COUNTIF([1]Summary!$B$30:$B$1029,INDIRECT($A$14&ROW())),\"\"),\"\")","v":""}]
[{"$f":"IFERROR(IF(INDIRECT($A$14&ROW())<>\"\",COUNTIF([1]Summary!$B$30:$B$1029,INDIRECT($A$14&ROW())),\"\"),\"\")","v":""}]
[{"$f":"IFERROR(IF(INDIRECT($A$14&ROW())<>\"\",COUNTIF([1]Summary!$B$30:$B$1029,INDIRECT($A$14&ROW())),\"\"),\"\")","v":""}]
[{"$f":"IFERROR(IF(INDIRECT($A$14&ROW())<>\"\",COUNTIF([1]Summary!$B$30:$B$1029,INDIRECT($A$14&ROW())),\"\"),\"\")","v":""}]
[{"$f":"IFERROR(IF(INDIRECT($A$14&ROW())<>\"\",COUNTIF([1]Summary!$B$30:$B$1029,INDIRECT($A$14&ROW())),\"\"),\"\")","v":""}]
[{"$f":"IFERROR(IF(INDIRECT($A$14&ROW())<>\"\",COUNTIF([1]Summary!$B$30:$B$1029,INDIRECT($A$14&ROW())),\"\"),\"\")","v":""}]
[{"$f":"IFERROR(IF(INDIRECT($A$14&ROW())<>\"\",COUNTIF([1]Summary!$B$30:$B$1029,INDIRECT($A$14&ROW())),\"\"),\"\")","v":""}]
[{"$f":"IFERROR(IF(INDIRECT($A$14&ROW())<>\"\",COUNTIF([1]Summary!$B$30:$B$1029,INDIRECT($A$14&ROW())),\"\"),\"\")","v":""}]
[{"$f":"IFERROR(IF(INDIRECT($A$14&ROW())<>\"\",COUNTIF([1]Summary!$B$30:$B$1029,INDIRECT($A$14&ROW())),\"\"),\"\")","v":""}]
[{"$f":"IFERROR(IF(INDIRECT($A$14&ROW())<>\"\",COUNTIF([1]Summary!$B$30:$B$1029,INDIRECT($A$14&ROW())),\"\"),\"\")","v":""}]
[{"$f":"IFERROR(IF(INDIRECT($A$14&ROW())<>\"\",COUNTIF([1]Summary!$B$30:$B$1029,INDIRECT($A$14&ROW())),\"\"),\"\")","v":""}]
[{"$f":"IFERROR(IF(INDIRECT($A$14&ROW())<>\"\",COUNTIF([1]Summary!$B$30:$B$1029,INDIRECT($A$14&ROW())),\"\"),\"\")","v":""}]
[{"$f":"IFERROR(IF(INDIRECT($A$14&ROW())<>\"\",COUNTIF([1]Summary!$B$30:$B$1029,INDIRECT($A$14&ROW())),\"\"),\"\")","v":""}]
[{"$f":"IFERROR(IF(INDIRECT($A$14&ROW())<>\"\",COUNTIF([1]Summary!$B$30:$B$1029,INDIRECT($A$14&ROW())),\"\"),\"\")","v":""}]
[{"$f":"IFERROR(IF(INDIRECT($A$14&ROW())<>\"\",COUNTIF([1]Summary!$B$30:$B$1029,INDIRECT($A$14&ROW())),\"\"),\"\")","v":""}]
[{"$f":"IFERROR(IF(INDIRECT($A$14&ROW())<>\"\",COUNTIF([1]Summary!$B$30:$B$1029,INDIRECT($A$14&ROW())),\"\"),\"\")","v":""}]
[{"$f":"IFERROR(IF(INDIRECT($A$14&ROW())<>\"\",COUNTIF([1]Summary!$B$30:$B$1029,INDIRECT($A$14&ROW())),\"\"),\"\")","v":""}]
[{"$f":"IFERROR(IF(INDIRECT($A$14&ROW())<>\"\",COUNTIF([1]Summary!$B$30:$B$1029,INDIRECT($A$14&ROW())),\"\"),\"\")","v":""}]
[{"$f":"IFERROR(IF(INDIRECT($A$14&ROW())<>\"\",COUNTIF([1]Summary!$B$30:$B$1029,INDIRECT($A$14&ROW())),\"\"),\"\")","v":""}]
[{"$f":"IFERROR(IF(INDIRECT($A$14&ROW())<>\"\",COUNTIF([1]Summary!$B$30:$B$1029,INDIRECT($A$14&ROW())),\"\"),\"\")","v":""}]
[{"$f":"IFERROR(IF(INDIRECT($A$14&ROW())<>\"\",COUNTIF([1]Summary!$B$30:$B$1029,INDIRECT($A$14&ROW())),\"\"),\"\")","v":""}]
[{"$f":"IFERROR(IF(INDIRECT($A$14&ROW())<>\"\",COUNTIF([1]Summary!$B$30:$B$1029,INDIRECT($A$14&ROW())),\"\"),\"\")","v":""}]
[{"$f":"IFERROR(IF(INDIRECT($A$14&ROW())<>\"\",COUNTIF([1]Summary!$B$30:$B$1029,INDIRECT($A$14&ROW())),\"\"),\"\")","v":""}]
[{"$f":"IFERROR(IF(INDIRECT($A$14&ROW())<>\"\",COUNTIF([1]Summary!$B$30:$B$1029,INDIRECT($A$14&ROW())),\"\"),\"\")","v":""}]
[{"$f":"IFERROR(IF(INDIRECT($A$14&ROW())<>\"\",COUNTIF([1]Summary!$B$30:$B$1029,INDIRECT($A$14&ROW())),\"\"),\"\")","v":""}]
[{"$f":"IFERROR(IF(INDIRECT($A$14&ROW())<>\"\",COUNTIF([1]Summary!$B$30:$B$1029,INDIRECT($A$14&ROW())),\"\"),\"\")","v":""}]
[{"$f":"IFERROR(IF(INDIRECT($A$14&ROW())<>\"\",COUNTIF([1]Summary!$B$30:$B$1029,INDIRECT($A$14&ROW())),\"\"),\"\")","v":""}]
[{"$f":"IFERROR(IF(INDIRECT($A$14&ROW())<>\"\",COUNTIF([1]Summary!$B$30:$B$1029,INDIRECT($A$14&ROW())),\"\"),\"\")","v":""}]
[{"$f":"IFERROR(IF(INDIRECT($A$14&ROW())<>\"\",COUNTIF([1]Summary!$B$30:$B$1029,INDIRECT($A$14&ROW())),\"\"),\"\")","v":""}]
[{"$f":"IFERROR(IF(INDIRECT($A$14&ROW())<>\"\",COUNTIF([1]Summary!$B$30:$B$1029,INDIRECT($A$14&ROW())),\"\"),\"\")","v":""}]
[{"$f":"IFERROR(IF(INDIRECT($A$14&ROW())<>\"\",COUNTIF([1]Summary!$B$30:$B$1029,INDIRECT($A$14&ROW())),\"\"),\"\")","v":""}]
[{"$f":"IFERROR(IF(INDIRECT($A$14&ROW())<>\"\",COUNTIF([1]Summary!$B$30:$B$1029,INDIRECT($A$14&ROW())),\"\"),\"\")","v":""}]
[{"$f":"IFERROR(IF(INDIRECT($A$14&ROW())<>\"\",COUNTIF([1]Summary!$B$30:$B$1029,INDIRECT($A$14&ROW())),\"\"),\"\")","v":""}]
[{"$f":"IFERROR(IF(INDIRECT($A$14&ROW())<>\"\",COUNTIF([1]Summary!$B$30:$B$1029,INDIRECT($A$14&ROW())),\"\"),\"\")","v":""}]
[{"$f":"IFERROR(IF(INDIRECT($A$14&ROW())<>\"\",COUNTIF([1]Summary!$B$30:$B$1029,INDIRECT($A$14&ROW())),\"\"),\"\")","v":""}]
[{"$f":"IFERROR(IF(INDIRECT($A$14&ROW())<>\"\",COUNTIF([1]Summary!$B$30:$B$1029,INDIRECT($A$14&ROW())),\"\"),\"\")","v":""}]
[{"$f":"IFERROR(IF(INDIRECT($A$14&ROW())<>\"\",COUNTIF([1]Summary!$B$30:$B$1029,INDIRECT($A$14&ROW())),\"\"),\"\")","v":""}]
[{"$f":"IFERROR(IF(INDIRECT($A$14&ROW())<>\"\",COUNTIF([1]Summary!$B$30:$B$1029,INDIRECT($A$14&ROW())),\"\"),\"\")","v":""}]
[{"$f":"IFERROR(IF(INDIRECT($A$14&ROW())<>\"\",COUNTIF([1]Summary!$B$30:$B$1029,INDIRECT($A$14&ROW())),\"\"),\"\")","v":""}]
[{"$f":"IFERROR(IF(INDIRECT($A$14&ROW())<>\"\",COUNTIF([1]Summary!$B$30:$B$1029,INDIRECT($A$14&ROW())),\"\"),\"\")","v":""}]
[{"$f":"IFERROR(IF(INDIRECT($A$14&ROW())<>\"\",COUNTIF([1]Summary!$B$30:$B$1029,INDIRECT($A$14&ROW())),\"\"),\"\")","v":""}]
[{"$f":"IFERROR(IF(INDIRECT($A$14&ROW())<>\"\",COUNTIF([1]Summary!$B$30:$B$1029,INDIRECT($A$14&ROW())),\"\"),\"\")","v":""}]
[{"$f":"IFERROR(IF(INDIRECT($A$14&ROW())<>\"\",COUNTIF([1]Summary!$B$30:$B$1029,INDIRECT($A$14&ROW())),\"\"),\"\")","v":""}]
[{"$f":"IFERROR(IF(INDIRECT($A$14&ROW())<>\"\",COUNTIF([1]Summary!$B$30:$B$1029,INDIRECT($A$14&ROW())),\"\"),\"\")","v":""}]
[{"$f":"IFERROR(IF(INDIRECT($A$14&ROW())<>\"\",COUNTIF([1]Summary!$B$30:$B$1029,INDIRECT($A$14&ROW())),\"\"),\"\")","v":""}]
[{"$f":"IFERROR(IF(INDIRECT($A$14&ROW())<>\"\",COUNTIF([1]Summary!$B$30:$B$1029,INDIRECT($A$14&ROW())),\"\"),\"\")","v":""}]
[{"$f":"IFERROR(IF(INDIRECT($A$14&ROW())<>\"\",COUNTIF([1]Summary!$B$30:$B$1029,INDIRECT($A$14&ROW())),\"\"),\"\")","v":""}]
[{"$f":"IFERROR(IF(INDIRECT($A$14&ROW())<>\"\",COUNTIF([1]Summary!$B$30:$B$1029,INDIRECT($A$14&ROW())),\"\"),\"\")","v":""}]
[{"$f":"IFERROR(IF(INDIRECT($A$14&ROW())<>\"\",COUNTIF([1]Summary!$B$30:$B$1029,INDIRECT($A$14&ROW())),\"\"),\"\")","v":""}]
[{"$f":"IFERROR(IF(INDIRECT($A$14&ROW())<>\"\",COUNTIF([1]Summary!$B$30:$B$1029,INDIRECT($A$14&ROW())),\"\"),\"\")","v":""}]
[{"$f":"IFERROR(IF(INDIRECT($A$14&ROW())<>\"\",COUNTIF([1]Summary!$B$30:$B$1029,INDIRECT($A$14&ROW())),\"\"),\"\")","v":""}]
[{"$f":"IFERROR(IF(INDIRECT($A$14&ROW())<>\"\",COUNTIF([1]Summary!$B$30:$B$1029,INDIRECT($A$14&ROW())),\"\"),\"\")","v":""}]
[{"$f":"IFERROR(IF(INDIRECT($A$14&ROW())<>\"\",COUNTIF([1]Summary!$B$30:$B$1029,INDIRECT($A$14&ROW())),\"\"),\"\")","v":""}]
[{"$f":"IFERROR(IF(INDIRECT($A$14&ROW())<>\"\",COUNTIF([1]Summary!$B$30:$B$1029,INDIRECT($A$14&ROW())),\"\"),\"\")","v":""}]
[{"$f":"IFERROR(IF(INDIRECT($A$14&ROW())<>\"\",COUNTIF([1]Summary!$B$30:$B$1029,INDIRECT($A$14&ROW())),\"\"),\"\")","v":""}]
[{"$f":"IFERROR(IF(INDIRECT($A$14&ROW())<>\"\",COUNTIF([1]Summary!$B$30:$B$1029,INDIRECT($A$14&ROW())),\"\"),\"\")","v":""}]
[{"$f":"IFERROR(IF(INDIRECT($A$14&ROW())<>\"\",COUNTIF([1]Summary!$B$30:$B$1029,INDIRECT($A$14&ROW())),\"\"),\"\")","v":""}]
[{"$f":"IFERROR(IF(INDIRECT($A$14&ROW())<>\"\",COUNTIF([1]Summary!$B$30:$B$1029,INDIRECT($A$14&ROW())),\"\"),\"\")","v":""}]
[{"$f":"IFERROR(IF(INDIRECT($A$14&ROW())<>\"\",COUNTIF([1]Summary!$B$30:$B$1029,INDIRECT($A$14&ROW())),\"\"),\"\")","v":""}]
[{"$f":"IFERROR(IF(INDIRECT($A$14&ROW())<>\"\",COUNTIF([1]Summary!$B$30:$B$1029,INDIRECT($A$14&ROW())),\"\"),\"\")","v":""}]
[{"$f":"IFERROR(IF(INDIRECT($A$14&ROW())<>\"\",COUNTIF([1]Summary!$B$30:$B$1029,INDIRECT($A$14&ROW())),\"\"),\"\")","v":""}]
[{"$f":"IFERROR(IF(INDIRECT($A$14&ROW())<>\"\",COUNTIF([1]Summary!$B$30:$B$1029,INDIRECT($A$14&ROW())),\"\"),\"\")","v":""}]
[{"$f":"IFERROR(IF(INDIRECT($A$14&ROW())<>\"\",COUNTIF([1]Summary!$B$30:$B$1029,INDIRECT($A$14&ROW())),\"\"),\"\")","v":""}]
[{"$f":"IFERROR(IF(INDIRECT($A$14&ROW())<>\"\",COUNTIF([1]Summary!$B$30:$B$1029,INDIRECT($A$14&ROW())),\"\"),\"\")","v":""}]
[{"$f":"IFERROR(IF(INDIRECT($A$14&ROW())<>\"\",COUNTIF([1]Summary!$B$30:$B$1029,INDIRECT($A$14&ROW())),\"\"),\"\")","v":""}]
[{"$f":"IFERROR(IF(INDIRECT($A$14&ROW())<>\"\",COUNTIF([1]Summary!$B$30:$B$1029,INDIRECT($A$14&ROW())),\"\"),\"\")","v":""}]
[{"$f":"IFERROR(IF(INDIRECT($A$14&ROW())<>\"\",COUNTIF([1]Summary!$B$30:$B$1029,INDIRECT($A$14&ROW())),\"\"),\"\")","v":""}]
[{"$f":"IFERROR(IF(INDIRECT($A$14&ROW())<>\"\",COUNTIF([1]Summary!$B$30:$B$1029,INDIRECT($A$14&ROW())),\"\"),\"\")","v":""}]
[{"$f":"IFERROR(IF(INDIRECT($A$14&ROW())<>\"\",COUNTIF([1]Summary!$B$30:$B$1029,INDIRECT($A$14&ROW())),\"\"),\"\")","v":""}]
[{"$f":"IFERROR(IF(INDIRECT($A$14&ROW())<>\"\",COUNTIF([1]Summary!$B$30:$B$1029,INDIRECT($A$14&ROW())),\"\"),\"\")","v":""}]
[{"$f":"IFERROR(IF(INDIRECT($A$14&ROW())<>\"\",COUNTIF([1]Summary!$B$30:$B$1029,INDIRECT($A$14&ROW())),\"\"),\"\")","v":""}]
[{"$f":"IFERROR(IF(INDIRECT($A$14&ROW())<>\"\",COUNTIF([1]Summary!$B$30:$B$1029,INDIRECT($A$14&ROW())),\"\"),\"\")","v":""}]
[{"$f":"IFERROR(IF(INDIRECT($A$14&ROW())<>\"\",COUNTIF([1]Summary!$B$30:$B$1029,INDIRECT($A$14&ROW())),\"\"),\"\")","v":""}]
[{"$f":"IFERROR(IF(INDIRECT($A$14&ROW())<>\"\",COUNTIF([1]Summary!$B$30:$B$1029,INDIRECT($A$14&ROW())),\"\"),\"\")","v":""}]
[{"$f":"IFERROR(IF(INDIRECT($A$14&ROW())<>\"\",COUNTIF([1]Summary!$B$30:$B$1029,INDIRECT($A$14&ROW())),\"\"),\"\")","v":""}]
[{"$f":"IFERROR(IF(INDIRECT($A$14&ROW())<>\"\",COUNTIF([1]Summary!$B$30:$B$1029,INDIRECT($A$14&ROW())),\"\"),\"\")","v":""}]
[{"$f":"IFERROR(IF(INDIRECT($A$14&ROW())<>\"\",COUNTIF([1]Summary!$B$30:$B$1029,INDIRECT($A$14&ROW())),\"\"),\"\")","v":""}]
[{"$f":"IFERROR(IF(INDIRECT($A$14&ROW())<>\"\",COUNTIF([1]Summary!$B$30:$B$1029,INDIRECT($A$14&ROW())),\"\"),\"\")","v":""}]
[{"$f":"IFERROR(IF(INDIRECT($A$14&ROW())<>\"\",COUNTIF([1]Summary!$B$30:$B$1029,INDIRECT($A$14&ROW())),\"\"),\"\")","v":""}]
[{"$f":"IFERROR(IF(INDIRECT($A$14&ROW())<>\"\",COUNTIF([1]Summary!$B$30:$B$1029,INDIRECT($A$14&ROW())),\"\"),\"\")","v":""}]
[{"$f":"IFERROR(IF(INDIRECT($A$14&ROW())<>\"\",COUNTIF([1]Summary!$B$30:$B$1029,INDIRECT($A$14&ROW())),\"\"),\"\")","v":""}]
[{"$f":"IFERROR(IF(INDIRECT($A$14&ROW())<>\"\",COUNTIF([1]Summary!$B$30:$B$1029,INDIRECT($A$14&ROW())),\"\"),\"\")","v":""}]
[{"$f":"IFERROR(IF(INDIRECT($A$14&ROW())<>\"\",COUNTIF([1]Summary!$B$30:$B$1029,INDIRECT($A$14&ROW())),\"\"),\"\")","v":""}]
[{"$f":"IFERROR(IF(INDIRECT($A$14&ROW())<>\"\",COUNTIF([1]Summary!$B$30:$B$1029,INDIRECT($A$14&ROW())),\"\"),\"\")","v":""}]
[{"$f":"IFERROR(IF(INDIRECT($A$14&ROW())<>\"\",COUNTIF([1]Summary!$B$30:$B$1029,INDIRECT($A$14&ROW())),\"\"),\"\")","v":""}]
[{"$f":"IFERROR(IF(INDIRECT($A$14&ROW())<>\"\",COUNTIF([1]Summary!$B$30:$B$1029,INDIRECT($A$14&ROW())),\"\"),\"\")","v":""}]
[{"$f":"IFERROR(IF(INDIRECT($A$14&ROW())<>\"\",COUNTIF([1]Summary!$B$30:$B$1029,INDIRECT($A$14&ROW())),\"\"),\"\")","v":""}]
[{"$f":"IFERROR(IF(INDIRECT($A$14&ROW())<>\"\",COUNTIF([1]Summary!$B$30:$B$1029,INDIRECT($A$14&ROW())),\"\"),\"\")","v":""}]
[{"$f":"IFERROR(IF(INDIRECT($A$14&ROW())<>\"\",COUNTIF([1]Summary!$B$30:$B$1029,INDIRECT($A$14&ROW())),\"\"),\"\")","v":""}]
[{"$f":"IFERROR(IF(INDIRECT($A$14&ROW())<>\"\",COUNTIF([1]Summary!$B$30:$B$1029,INDIRECT($A$14&ROW())),\"\"),\"\")","v":""}]
[{"$f":"IFERROR(IF(INDIRECT($A$14&ROW())<>\"\",COUNTIF([1]Summary!$B$30:$B$1029,INDIRECT($A$14&ROW())),\"\"),\"\")","v":""}]
[{"$f":"IFERROR(IF(INDIRECT($A$14&ROW())<>\"\",COUNTIF([1]Summary!$B$30:$B$1029,INDIRECT($A$14&ROW())),\"\"),\"\")","v":""}]
[{"$f":"IFERROR(IF(INDIRECT($A$14&ROW())<>\"\",COUNTIF([1]Summary!$B$30:$B$1029,INDIRECT($A$14&ROW())),\"\"),\"\")","v":""}]
[{"$f":"IFERROR(IF(INDIRECT($A$14&ROW())<>\"\",COUNTIF([1]Summary!$B$30:$B$1029,INDIRECT($A$14&ROW())),\"\"),\"\")","v":""}]
[{"$f":"IFERROR(IF(INDIRECT($A$14&ROW())<>\"\",COUNTIF([1]Summary!$B$30:$B$1029,INDIRECT($A$14&ROW())),\"\"),\"\")","v":""}]
[{"$f":"IFERROR(IF(INDIRECT($A$14&ROW())<>\"\",COUNTIF([1]Summary!$B$30:$B$1029,INDIRECT($A$14&ROW())),\"\"),\"\")","v":""}]
[{"$f":"IFERROR(IF(INDIRECT($A$14&ROW())<>\"\",COUNTIF([1]Summary!$B$30:$B$1029,INDIRECT($A$14&ROW())),\"\"),\"\")","v":""}]
[{"$f":"IFERROR(IF(INDIRECT($A$14&ROW())<>\"\",COUNTIF([1]Summary!$B$30:$B$1029,INDIRECT($A$14&ROW())),\"\"),\"\")","v":""}]
[{"$f":"IFERROR(IF(INDIRECT($A$14&ROW())<>\"\",COUNTIF([1]Summary!$B$30:$B$1029,INDIRECT($A$14&ROW())),\"\"),\"\")","v":""}]
[{"$f":"IFERROR(IF(INDIRECT($A$14&ROW())<>\"\",COUNTIF([1]Summary!$B$30:$B$1029,INDIRECT($A$14&ROW())),\"\"),\"\")","v":""}]
[{"$f":"IFERROR(IF(INDIRECT($A$14&ROW())<>\"\",COUNTIF([1]Summary!$B$30:$B$1029,INDIRECT($A$14&ROW())),\"\"),\"\")","v":""}]
[{"$f":"IFERROR(IF(INDIRECT($A$14&ROW())<>\"\",COUNTIF([1]Summary!$B$30:$B$1029,INDIRECT($A$14&ROW())),\"\"),\"\")","v":""}]
[{"$f":"IFERROR(IF(INDIRECT($A$14&ROW())<>\"\",COUNTIF([1]Summary!$B$30:$B$1029,INDIRECT($A$14&ROW())),\"\"),\"\")","v":""}]
[{"$f":"IFERROR(IF(INDIRECT($A$14&ROW())<>\"\",COUNTIF([1]Summary!$B$30:$B$1029,INDIRECT($A$14&ROW())),\"\"),\"\")","v":""}]
[{"$f":"IFERROR(IF(INDIRECT($A$14&ROW())<>\"\",COUNTIF([1]Summary!$B$30:$B$1029,INDIRECT($A$14&ROW())),\"\"),\"\")","v":""}]
[{"$f":"IFERROR(IF(INDIRECT($A$14&ROW())<>\"\",COUNTIF([1]Summary!$B$30:$B$1029,INDIRECT($A$14&ROW())),\"\"),\"\")","v":""}]
[{"$f":"IFERROR(IF(INDIRECT($A$14&ROW())<>\"\",COUNTIF([1]Summary!$B$30:$B$1029,INDIRECT($A$14&ROW())),\"\"),\"\")","v":""}]
[{"$f":"IFERROR(IF(INDIRECT($A$14&ROW())<>\"\",COUNTIF([1]Summary!$B$30:$B$1029,INDIRECT($A$14&ROW())),\"\"),\"\")","v":""}]
[{"$f":"IFERROR(IF(INDIRECT($A$14&ROW())<>\"\",COUNTIF([1]Summary!$B$30:$B$1029,INDIRECT($A$14&ROW())),\"\"),\"\")","v":""}]
[{"$f":"IFERROR(IF(INDIRECT($A$14&ROW())<>\"\",COUNTIF([1]Summary!$B$30:$B$1029,INDIRECT($A$14&ROW())),\"\"),\"\")","v":""}]
[{"$f":"IFERROR(IF(INDIRECT($A$14&ROW())<>\"\",COUNTIF([1]Summary!$B$30:$B$1029,INDIRECT($A$14&ROW())),\"\"),\"\")","v":""}]
[{"$f":"IFERROR(IF(INDIRECT($A$14&ROW())<>\"\",COUNTIF([1]Summary!$B$30:$B$1029,INDIRECT($A$14&ROW())),\"\"),\"\")","v":""}]
[{"$f":"IFERROR(IF(INDIRECT($A$14&ROW())<>\"\",COUNTIF([1]Summary!$B$30:$B$1029,INDIRECT($A$14&ROW())),\"\"),\"\")","v":""}]
[{"$f":"IFERROR(IF(INDIRECT($A$14&ROW())<>\"\",COUNTIF([1]Summary!$B$30:$B$1029,INDIRECT($A$14&ROW())),\"\"),\"\")","v":""}]
[{"$f":"IFERROR(IF(INDIRECT($A$14&ROW())<>\"\",COUNTIF([1]Summary!$B$30:$B$1029,INDIRECT($A$14&ROW())),\"\"),\"\")","v":""}]
[{"$f":"IFERROR(IF(INDIRECT($A$14&ROW())<>\"\",COUNTIF([1]Summary!$B$30:$B$1029,INDIRECT($A$14&ROW())),\"\"),\"\")","v":""}]
[{"$f":"IFERROR(IF(INDIRECT($A$14&ROW())<>\"\",COUNTIF([1]Summary!$B$30:$B$1029,INDIRECT($A$14&ROW())),\"\"),\"\")","v":""}]
[{"$f":"IFERROR(IF(INDIRECT($A$14&ROW())<>\"\",COUNTIF([1]Summary!$B$30:$B$1029,INDIRECT($A$14&ROW())),\"\"),\"\")","v":""}]
[{"$f":"IFERROR(IF(INDIRECT($A$14&ROW())<>\"\",COUNTIF([1]Summary!$B$30:$B$1029,INDIRECT($A$14&ROW())),\"\"),\"\")","v":""}]
[{"$f":"IFERROR(IF(INDIRECT($A$14&ROW())<>\"\",COUNTIF([1]Summary!$B$30:$B$1029,INDIRECT($A$14&ROW())),\"\"),\"\")","v":""}]
[{"$f":"IFERROR(IF(INDIRECT($A$14&ROW())<>\"\",COUNTIF([1]Summary!$B$30:$B$1029,INDIRECT($A$14&ROW())),\"\"),\"\")","v":""}]
[{"$f":"IFERROR(IF(INDIRECT($A$14&ROW())<>\"\",COUNTIF([1]Summary!$B$30:$B$1029,INDIRECT($A$14&ROW())),\"\"),\"\")","v":""}]
[{"$f":"IFERROR(IF(INDIRECT($A$14&ROW())<>\"\",COUNTIF([1]Summary!$B$30:$B$1029,INDIRECT($A$14&ROW())),\"\"),\"\")","v":""}]
[{"$f":"IFERROR(IF(INDIRECT($A$14&ROW())<>\"\",COUNTIF([1]Summary!$B$30:$B$1029,INDIRECT($A$14&ROW())),\"\"),\"\")","v":""}]
[{"$f":"IFERROR(IF(INDIRECT($A$14&ROW())<>\"\",COUNTIF([1]Summary!$B$30:$B$1029,INDIRECT($A$14&ROW())),\"\"),\"\")","v":""}]
[{"$f":"IFERROR(IF(INDIRECT($A$14&ROW())<>\"\",COUNTIF([1]Summary!$B$30:$B$1029,INDIRECT($A$14&ROW())),\"\"),\"\")","v":""}]
[{"$f":"IFERROR(IF(INDIRECT($A$14&ROW())<>\"\",COUNTIF([1]Summary!$B$30:$B$1029,INDIRECT($A$14&ROW())),\"\"),\"\")","v":""}]
[{"$f":"IFERROR(IF(INDIRECT($A$14&ROW())<>\"\",COUNTIF([1]Summary!$B$30:$B$1029,INDIRECT($A$14&ROW())),\"\"),\"\")","v":""}]
[{"$f":"IFERROR(IF(INDIRECT($A$14&ROW())<>\"\",COUNTIF([1]Summary!$B$30:$B$1029,INDIRECT($A$14&ROW())),\"\"),\"\")","v":""}]
[{"$f":"IFERROR(IF(INDIRECT($A$14&ROW())<>\"\",COUNTIF([1]Summary!$B$30:$B$1029,INDIRECT($A$14&ROW())),\"\"),\"\")","v":""}]
[{"$f":"IFERROR(IF(INDIRECT($A$14&ROW())<>\"\",COUNTIF([1]Summary!$B$30:$B$1029,INDIRECT($A$14&ROW())),\"\"),\"\")","v":""}]
[{"$f":"IFERROR(IF(INDIRECT($A$14&ROW())<>\"\",COUNTIF([1]Summary!$B$30:$B$1029,INDIRECT($A$14&ROW())),\"\"),\"\")","v":""}]
[{"$f":"IFERROR(IF(INDIRECT($A$14&ROW())<>\"\",COUNTIF([1]Summary!$B$30:$B$1029,INDIRECT($A$14&ROW())),\"\"),\"\")","v":""}]
[{"$f":"IFERROR(IF(INDIRECT($A$14&ROW())<>\"\",COUNTIF([1]Summary!$B$30:$B$1029,INDIRECT($A$14&ROW())),\"\"),\"\")","v":""}]
[{"$f":"IFERROR(IF(INDIRECT($A$14&ROW())<>\"\",COUNTIF([1]Summary!$B$30:$B$1029,INDIRECT($A$14&ROW())),\"\"),\"\")","v":""}]
[{"$f":"IFERROR(IF(INDIRECT($A$14&ROW())<>\"\",COUNTIF([1]Summary!$B$30:$B$1029,INDIRECT($A$14&ROW())),\"\"),\"\")","v":""}]
[{"$f":"IFERROR(IF(INDIRECT($A$14&ROW())<>\"\",COUNTIF([1]Summary!$B$30:$B$1029,INDIRECT($A$14&ROW())),\"\"),\"\")","v":""}]
[{"$f":"IFERROR(IF(INDIRECT($A$14&ROW())<>\"\",COUNTIF([1]Summary!$B$30:$B$1029,INDIRECT($A$14&ROW())),\"\"),\"\")","v":""}]
[{"$f":"IFERROR(IF(INDIRECT($A$14&ROW())<>\"\",COUNTIF([1]Summary!$B$30:$B$1029,INDIRECT($A$14&ROW())),\"\"),\"\")","v":""}]
[{"$f":"IFERROR(IF(INDIRECT($A$14&ROW())<>\"\",COUNTIF([1]Summary!$B$30:$B$1029,INDIRECT($A$14&ROW())),\"\"),\"\")","v":""}]
[{"$f":"IFERROR(IF(INDIRECT($A$14&ROW())<>\"\",COUNTIF([1]Summary!$B$30:$B$1029,INDIRECT($A$14&ROW())),\"\"),\"\")","v":""}]
[{"$f":"IFERROR(IF(INDIRECT($A$14&ROW())<>\"\",COUNTIF([1]Summary!$B$30:$B$1029,INDIRECT($A$14&ROW())),\"\"),\"\")","v":""}]
[{"$f":"IFERROR(IF(INDIRECT($A$14&ROW())<>\"\",COUNTIF([1]Summary!$B$30:$B$1029,INDIRECT($A$14&ROW())),\"\"),\"\")","v":""}]
[{"$f":"IFERROR(IF(INDIRECT($A$14&ROW())<>\"\",COUNTIF([1]Summary!$B$30:$B$1029,INDIRECT($A$14&ROW())),\"\"),\"\")","v":""}]
[{"$f":"IFERROR(IF(INDIRECT($A$14&ROW())<>\"\",COUNTIF([1]Summary!$B$30:$B$1029,INDIRECT($A$14&ROW())),\"\"),\"\")","v":""}]
[{"$f":"IFERROR(IF(INDIRECT($A$14&ROW())<>\"\",COUNTIF([1]Summary!$B$30:$B$1029,INDIRECT($A$14&ROW())),\"\"),\"\")","v":""}]
[{"$f":"IFERROR(IF(INDIRECT($A$14&ROW())<>\"\",COUNTIF([1]Summary!$B$30:$B$1029,INDIRECT($A$14&ROW())),\"\"),\"\")","v":""}]
[{"$f":"IFERROR(IF(INDIRECT($A$14&ROW())<>\"\",COUNTIF([1]Summary!$B$30:$B$1029,INDIRECT($A$14&ROW())),\"\"),\"\")","v":""}]
[{"$f":"IFERROR(IF(INDIRECT($A$14&ROW())<>\"\",COUNTIF([1]Summary!$B$30:$B$1029,INDIRECT($A$14&ROW())),\"\"),\"\")","v":""}]
[{"$f":"IFERROR(IF(INDIRECT($A$14&ROW())<>\"\",COUNTIF([1]Summary!$B$30:$B$1029,INDIRECT($A$14&ROW())),\"\"),\"\")","v":""}]
[{"$f":"IFERROR(IF(INDIRECT($A$14&ROW())<>\"\",COUNTIF([1]Summary!$B$30:$B$1029,INDIRECT($A$14&ROW())),\"\"),\"\")","v":""}]
[{"$f":"IFERROR(IF(INDIRECT($A$14&ROW())<>\"\",COUNTIF([1]Summary!$B$30:$B$1029,INDIRECT($A$14&ROW())),\"\"),\"\")","v":""}]
[{"$f":"IFERROR(IF(INDIRECT($A$14&ROW())<>\"\",COUNTIF([1]Summary!$B$30:$B$1029,INDIRECT($A$14&ROW())),\"\"),\"\")","v":""}]
[{"$f":"IFERROR(IF(INDIRECT($A$14&ROW())<>\"\",COUNTIF([1]Summary!$B$30:$B$1029,INDIRECT($A$14&ROW())),\"\"),\"\")","v":""}]
[{"$f":"IFERROR(IF(INDIRECT($A$14&ROW())<>\"\",COUNTIF([1]Summary!$B$30:$B$1029,INDIRECT($A$14&ROW())),\"\"),\"\")","v":""}]
[{"$f":"IFERROR(IF(INDIRECT($A$14&ROW())<>\"\",COUNTIF([1]Summary!$B$30:$B$1029,INDIRECT($A$14&ROW())),\"\"),\"\")","v":""}]
[{"$f":"IFERROR(IF(INDIRECT($A$14&ROW())<>\"\",COUNTIF([1]Summary!$B$30:$B$1029,INDIRECT($A$14&ROW())),\"\"),\"\")","v":""}]
[{"$f":"IFERROR(IF(INDIRECT($A$14&ROW())<>\"\",COUNTIF([1]Summary!$B$30:$B$1029,INDIRECT($A$14&ROW())),\"\"),\"\")","v":""}]
[{"$f":"IFERROR(IF(INDIRECT($A$14&ROW())<>\"\",COUNTIF([1]Summary!$B$30:$B$1029,INDIRECT($A$14&ROW())),\"\"),\"\")","v":""}]
[{"$f":"IFERROR(IF(INDIRECT($A$14&ROW())<>\"\",COUNTIF([1]Summary!$B$30:$B$1029,INDIRECT($A$14&ROW())),\"\"),\"\")","v":""}]
[{"$f":"IFERROR(IF(INDIRECT($A$14&ROW())<>\"\",COUNTIF([1]Summary!$B$30:$B$1029,INDIRECT($A$14&ROW())),\"\"),\"\")","v":""}]
[{"$f":"IFERROR(IF(INDIRECT($A$14&ROW())<>\"\",COUNTIF([1]Summary!$B$30:$B$1029,INDIRECT($A$14&ROW())),\"\"),\"\")","v":""}]
[{"$f":"IFERROR(IF(INDIRECT($A$14&ROW())<>\"\",COUNTIF([1]Summary!$B$30:$B$1029,INDIRECT($A$14&ROW())),\"\"),\"\")","v":""}]
[{"$f":"IFERROR(IF(INDIRECT($A$14&ROW())<>\"\",COUNTIF([1]Summary!$B$30:$B$1029,INDIRECT($A$14&ROW())),\"\"),\"\")","v":""}]
[{"$f":"IFERROR(IF(INDIRECT($A$14&ROW())<>\"\",COUNTIF([1]Summary!$B$30:$B$1029,INDIRECT($A$14&ROW())),\"\"),\"\")","v":""}]
[{"$f":"IFERROR(IF(INDIRECT($A$14&ROW())<>\"\",COUNTIF([1]Summary!$B$30:$B$1029,INDIRECT($A$14&ROW())),\"\"),\"\")","v":""}]
[{"$f":"IFERROR(IF(INDIRECT($A$14&ROW())<>\"\",COUNTIF([1]Summary!$B$30:$B$1029,INDIRECT($A$14&ROW())),\"\"),\"\")","v":""}]
[{"$f":"IFERROR(IF(INDIRECT($A$14&ROW())<>\"\",COUNTIF([1]Summary!$B$30:$B$1029,INDIRECT($A$14&ROW())),\"\"),\"\")","v":""}]
[{"$f":"IFERROR(IF(INDIRECT($A$14&ROW())<>\"\",COUNTIF([1]Summary!$B$30:$B$1029,INDIRECT($A$14&ROW())),\"\"),\"\")","v":""}]
[{"$f":"IFERROR(IF(INDIRECT($A$14&ROW())<>\"\",COUNTIF([1]Summary!$B$30:$B$1029,INDIRECT($A$14&ROW())),\"\"),\"\")","v":""}]
[{"$f":"IFERROR(IF(INDIRECT($A$14&ROW())<>\"\",COUNTIF([1]Summary!$B$30:$B$1029,INDIRECT($A$14&ROW())),\"\"),\"\")","v":""}]
[{"$f":"IFERROR(IF(INDIRECT($A$14&ROW())<>\"\",COUNTIF([1]Summary!$B$30:$B$1029,INDIRECT($A$14&ROW())),\"\"),\"\")","v":""}]
[{"$f":"IFERROR(IF(INDIRECT($A$14&ROW())<>\"\",COUNTIF([1]Summary!$B$30:$B$1029,INDIRECT($A$14&ROW())),\"\"),\"\")","v":""}]
[{"$f":"IFERROR(IF(INDIRECT($A$14&ROW())<>\"\",COUNTIF([1]Summary!$B$30:$B$1029,INDIRECT($A$14&ROW())),\"\"),\"\")","v":""}]
[{"$f":"IFERROR(IF(INDIRECT($A$14&ROW())<>\"\",COUNTIF([1]Summary!$B$30:$B$1029,INDIRECT($A$14&ROW())),\"\"),\"\")","v":""}]
[{"$f":"IFERROR(IF(INDIRECT($A$14&ROW())<>\"\",COUNTIF([1]Summary!$B$30:$B$1029,INDIRECT($A$14&ROW())),\"\"),\"\")","v":""}]
[{"$f":"IFERROR(IF(INDIRECT($A$14&ROW())<>\"\",COUNTIF([1]Summary!$B$30:$B$1029,INDIRECT($A$14&ROW())),\"\"),\"\")","v":""}]
[{"$f":"IFERROR(IF(INDIRECT($A$14&ROW())<>\"\",COUNTIF([1]Summary!$B$30:$B$1029,INDIRECT($A$14&ROW())),\"\"),\"\")","v":""}]
[{"$f":"IFERROR(IF(INDIRECT($A$14&ROW())<>\"\",COUNTIF([1]Summary!$B$30:$B$1029,INDIRECT($A$14&ROW())),\"\"),\"\")","v":""}]
[{"$f":"IFERROR(IF(INDIRECT($A$14&ROW())<>\"\",COUNTIF([1]Summary!$B$30:$B$1029,INDIRECT($A$14&ROW())),\"\"),\"\")","v":""}]
[{"$f":"IFERROR(IF(INDIRECT($A$14&ROW())<>\"\",COUNTIF([1]Summary!$B$30:$B$1029,INDIRECT($A$14&ROW())),\"\"),\"\")","v":""}]
[{"$f":"IFERROR(IF(INDIRECT($A$14&ROW())<>\"\",COUNTIF([1]Summary!$B$30:$B$1029,INDIRECT($A$14&ROW())),\"\"),\"\")","v":""}]
[{"$f":"IFERROR(IF(INDIRECT($A$14&ROW())<>\"\",COUNTIF([1]Summary!$B$30:$B$1029,INDIRECT($A$14&ROW())),\"\"),\"\")","v":""}]
[{"$f":"IFERROR(IF(INDIRECT($A$14&ROW())<>\"\",COUNTIF([1]Summary!$B$30:$B$1029,INDIRECT($A$14&ROW())),\"\"),\"\")","v":""}]
[{"$f":"IFERROR(IF(INDIRECT($A$14&ROW())<>\"\",COUNTIF([1]Summary!$B$30:$B$1029,INDIRECT($A$14&ROW())),\"\"),\"\")","v":""}]
[{"$f":"IFERROR(IF(INDIRECT($A$14&ROW())<>\"\",COUNTIF([1]Summary!$B$30:$B$1029,INDIRECT($A$14&ROW())),\"\"),\"\")","v":""}]
[{"$f":"IFERROR(IF(INDIRECT($A$14&ROW())<>\"\",COUNTIF([1]Summary!$B$30:$B$1029,INDIRECT($A$14&ROW())),\"\"),\"\")","v":""}]
[{"$f":"IFERROR(IF(INDIRECT($A$14&ROW())<>\"\",COUNTIF([1]Summary!$B$30:$B$1029,INDIRECT($A$14&ROW())),\"\"),\"\")","v":""}]
[{"$f":"IFERROR(IF(INDIRECT($A$14&ROW())<>\"\",COUNTIF([1]Summary!$B$30:$B$1029,INDIRECT($A$14&ROW())),\"\"),\"\")","v":""}]
[{"$f":"IFERROR(IF(INDIRECT($A$14&ROW())<>\"\",COUNTIF([1]Summary!$B$30:$B$1029,INDIRECT($A$14&ROW())),\"\"),\"\")","v":""}]
[{"$f":"IFERROR(IF(INDIRECT($A$14&ROW())<>\"\",COUNTIF([1]Summary!$B$30:$B$1029,INDIRECT($A$14&ROW())),\"\"),\"\")","v":""}]
[{"$f":"IFERROR(IF(INDIRECT($A$14&ROW())<>\"\",COUNTIF([1]Summary!$B$30:$B$1029,INDIRECT($A$14&ROW())),\"\"),\"\")","v":""}]
[{"$f":"IFERROR(IF(INDIRECT($A$14&ROW())<>\"\",COUNTIF([1]Summary!$B$30:$B$1029,INDIRECT($A$14&ROW())),\"\"),\"\")","v":""}]
[{"$f":"IFERROR(IF(INDIRECT($A$14&ROW())<>\"\",COUNTIF([1]Summary!$B$30:$B$1029,INDIRECT($A$14&ROW())),\"\"),\"\")","v":""}]
[{"$f":"IFERROR(IF(INDIRECT($A$14&ROW())<>\"\",COUNTIF([1]Summary!$B$30:$B$1029,INDIRECT($A$14&ROW())),\"\"),\"\")","v":""}]
[{"$f":"IFERROR(IF(INDIRECT($A$14&ROW())<>\"\",COUNTIF([1]Summary!$B$30:$B$1029,INDIRECT($A$14&ROW())),\"\"),\"\")","v":""}]
[{"$f":"IFERROR(IF(INDIRECT($A$14&ROW())<>\"\",COUNTIF([1]Summary!$B$30:$B$1029,INDIRECT($A$14&ROW())),\"\"),\"\")","v":""}]
[{"$f":"IFERROR(IF(INDIRECT($A$14&ROW())<>\"\",COUNTIF([1]Summary!$B$30:$B$1029,INDIRECT($A$14&ROW())),\"\"),\"\")","v":""}]
[{"$f":"IFERROR(IF(INDIRECT($A$14&ROW())<>\"\",COUNTIF([1]Summary!$B$30:$B$1029,INDIRECT($A$14&ROW())),\"\"),\"\")","v":""}]
[{"$f":"IFERROR(IF(INDIRECT($A$14&ROW())<>\"\",COUNTIF([1]Summary!$B$30:$B$1029,INDIRECT($A$14&ROW())),\"\"),\"\")","v":""}]
[{"$f":"IFERROR(IF(INDIRECT($A$14&ROW())<>\"\",COUNTIF([1]Summary!$B$30:$B$1029,INDIRECT($A$14&ROW())),\"\"),\"\")","v":""}]
[{"$f":"IFERROR(IF(INDIRECT($A$14&ROW())<>\"\",COUNTIF([1]Summary!$B$30:$B$1029,INDIRECT($A$14&ROW())),\"\"),\"\")","v":""}]
[{"$f":"IFERROR(IF(INDIRECT($A$14&ROW())<>\"\",COUNTIF([1]Summary!$B$30:$B$1029,INDIRECT($A$14&ROW())),\"\"),\"\")","v":""}]
[{"$f":"IFERROR(IF(INDIRECT($A$14&ROW())<>\"\",COUNTIF([1]Summary!$B$30:$B$1029,INDIRECT($A$14&ROW())),\"\"),\"\")","v":""}]
[{"$f":"IFERROR(IF(INDIRECT($A$14&ROW())<>\"\",COUNTIF([1]Summary!$B$30:$B$1029,INDIRECT($A$14&ROW())),\"\"),\"\")","v":""}]
[{"$f":"IFERROR(IF(INDIRECT($A$14&ROW())<>\"\",COUNTIF([1]Summary!$B$30:$B$1029,INDIRECT($A$14&ROW())),\"\"),\"\")","v":""}]
[{"$f":"IFERROR(IF(INDIRECT($A$14&ROW())<>\"\",COUNTIF([1]Summary!$B$30:$B$1029,INDIRECT($A$14&ROW())),\"\"),\"\")","v":""}]
[{"$f":"IFERROR(IF(INDIRECT($A$14&ROW())<>\"\",COUNTIF([1]Summary!$B$30:$B$1029,INDIRECT($A$14&ROW())),\"\"),\"\")","v":""}]
[{"$f":"IFERROR(IF(INDIRECT($A$14&ROW())<>\"\",COUNTIF([1]Summary!$B$30:$B$1029,INDIRECT($A$14&ROW())),\"\"),\"\")","v":""}]
[{"$f":"IFERROR(IF(INDIRECT($A$14&ROW())<>\"\",COUNTIF([1]Summary!$B$30:$B$1029,INDIRECT($A$14&ROW())),\"\"),\"\")","v":""}]
[{"$f":"IFERROR(IF(INDIRECT($A$14&ROW())<>\"\",COUNTIF([1]Summary!$B$30:$B$1029,INDIRECT($A$14&ROW())),\"\"),\"\")","v":""}]
[{"$f":"IFERROR(IF(INDIRECT($A$14&ROW())<>\"\",COUNTIF([1]Summary!$B$30:$B$1029,INDIRECT($A$14&ROW())),\"\"),\"\")","v":""}]
[{"$f":"IFERROR(IF(INDIRECT($A$14&ROW())<>\"\",COUNTIF([1]Summary!$B$30:$B$1029,INDIRECT($A$14&ROW())),\"\"),\"\")","v":""}]
[{"$f":"IFERROR(IF(INDIRECT($A$14&ROW())<>\"\",COUNTIF([1]Summary!$B$30:$B$1029,INDIRECT($A$14&ROW())),\"\"),\"\")","v":""}]
[{"$f":"IFERROR(IF(INDIRECT($A$14&ROW())<>\"\",COUNTIF([1]Summary!$B$30:$B$1029,INDIRECT($A$14&ROW())),\"\"),\"\")","v":""}]
[{"$f":"IFERROR(IF(INDIRECT($A$14&ROW())<>\"\",COUNTIF([1]Summary!$B$30:$B$1029,INDIRECT($A$14&ROW())),\"\"),\"\")","v":""}]
[{"$f":"IFERROR(IF(INDIRECT($A$14&ROW())<>\"\",COUNTIF([1]Summary!$B$30:$B$1029,INDIRECT($A$14&ROW())),\"\"),\"\")","v":""}]
[{"$f":"IFERROR(IF(INDIRECT($A$14&ROW())<>\"\",COUNTIF([1]Summary!$B$30:$B$1029,INDIRECT($A$14&ROW())),\"\"),\"\")","v":""}]
[{"$f":"IFERROR(IF(INDIRECT($A$14&ROW())<>\"\",COUNTIF([1]Summary!$B$30:$B$1029,INDIRECT($A$14&ROW())),\"\"),\"\")","v":""}]
[{"$f":"IFERROR(IF(INDIRECT($A$14&ROW())<>\"\",COUNTIF([1]Summary!$B$30:$B$1029,INDIRECT($A$14&ROW())),\"\"),\"\")","v":""}]
[{"$f":"IFERROR(IF(INDIRECT($A$14&ROW())<>\"\",COUNTIF([1]Summary!$B$30:$B$1029,INDIRECT($A$14&ROW())),\"\"),\"\")","v":""}]
[{"$f":"IFERROR(IF(INDIRECT($A$14&ROW())<>\"\",COUNTIF([1]Summary!$B$30:$B$1029,INDIRECT($A$14&ROW())),\"\"),\"\")","v":""}]
[{"$f":"IFERROR(IF(INDIRECT($A$14&ROW())<>\"\",COUNTIF([1]Summary!$B$30:$B$1029,INDIRECT($A$14&ROW())),\"\"),\"\")","v":""}]
[{"$f":"IFERROR(IF(INDIRECT($A$14&ROW())<>\"\",COUNTIF([1]Summary!$B$30:$B$1029,INDIRECT($A$14&ROW())),\"\"),\"\")","v":""}]
[{"$f":"IFERROR(IF(INDIRECT($A$14&ROW())<>\"\",COUNTIF([1]Summary!$B$30:$B$1029,INDIRECT($A$14&ROW())),\"\"),\"\")","v":""}]
[{"$f":"IFERROR(IF(INDIRECT($A$14&ROW())<>\"\",COUNTIF([1]Summary!$B$30:$B$1029,INDIRECT($A$14&ROW())),\"\"),\"\")","v":""}]
[{"$f":"IFERROR(IF(INDIRECT($A$14&ROW())<>\"\",COUNTIF([1]Summary!$B$30:$B$1029,INDIRECT($A$14&ROW())),\"\"),\"\")","v":""}]
[{"$f":"IFERROR(IF(INDIRECT($A$14&ROW())<>\"\",COUNTIF([1]Summary!$B$30:$B$1029,INDIRECT($A$14&ROW())),\"\"),\"\")","v":""}]
[{"$f":"IFERROR(IF(INDIRECT($A$14&ROW())<>\"\",COUNTIF([1]Summary!$B$30:$B$1029,INDIRECT($A$14&ROW())),\"\"),\"\")","v":""}]
[{"$f":"IFERROR(IF(INDIRECT($A$14&ROW())<>\"\",COUNTIF([1]Summary!$B$30:$B$1029,INDIRECT($A$14&ROW())),\"\"),\"\")","v":""}]
[{"$f":"IFERROR(IF(INDIRECT($A$14&ROW())<>\"\",COUNTIF([1]Summary!$B$30:$B$1029,INDIRECT($A$14&ROW())),\"\"),\"\")","v":""}]
[{"$f":"IFERROR(IF(INDIRECT($A$14&ROW())<>\"\",COUNTIF([1]Summary!$B$30:$B$1029,INDIRECT($A$14&ROW())),\"\"),\"\")","v":""}]
[{"$f":"IFERROR(IF(INDIRECT($A$14&ROW())<>\"\",COUNTIF([1]Summary!$B$30:$B$1029,INDIRECT($A$14&ROW())),\"\"),\"\")","v":""}]
[{"$f":"IFERROR(IF(INDIRECT($A$14&ROW())<>\"\",COUNTIF([1]Summary!$B$30:$B$1029,INDIRECT($A$14&ROW())),\"\"),\"\")","v":""}]
[{"$f":"IFERROR(IF(INDIRECT($A$14&ROW())<>\"\",COUNTIF([1]Summary!$B$30:$B$1029,INDIRECT($A$14&ROW())),\"\"),\"\")","v":""}]
[{"$f":"IFERROR(IF(INDIRECT($A$14&ROW())<>\"\",COUNTIF([1]Summary!$B$30:$B$1029,INDIRECT($A$14&ROW())),\"\"),\"\")","v":""}]
[{"$f":"IFERROR(IF(INDIRECT($A$14&ROW())<>\"\",COUNTIF([1]Summary!$B$30:$B$1029,INDIRECT($A$14&ROW())),\"\"),\"\")","v":""}]
[{"$f":"IFERROR(IF(INDIRECT($A$14&ROW())<>\"\",COUNTIF([1]Summary!$B$30:$B$1029,INDIRECT($A$14&ROW())),\"\"),\"\")","v":""}]
[{"$f":"IFERROR(IF(INDIRECT($A$14&ROW())<>\"\",COUNTIF([1]Summary!$B$30:$B$1029,INDIRECT($A$14&ROW())),\"\"),\"\")","v":""}]
[{"$f":"IFERROR(IF(INDIRECT($A$14&ROW())<>\"\",COUNTIF([1]Summary!$B$30:$B$1029,INDIRECT($A$14&ROW())),\"\"),\"\")","v":""}]
[{"$f":"IFERROR(IF(INDIRECT($A$14&ROW())<>\"\",COUNTIF([1]Summary!$B$30:$B$1029,INDIRECT($A$14&ROW())),\"\"),\"\")","v":""}]
[{"$f":"IFERROR(IF(INDIRECT($A$14&ROW())<>\"\",COUNTIF([1]Summary!$B$30:$B$1029,INDIRECT($A$14&ROW())),\"\"),\"\")","v":""}]
[{"$f":"IFERROR(IF(INDIRECT($A$14&ROW())<>\"\",COUNTIF([1]Summary!$B$30:$B$1029,INDIRECT($A$14&ROW())),\"\"),\"\")","v":""}]
[{"$f":"IFERROR(IF(INDIRECT($A$14&ROW())<>\"\",COUNTIF([1]Summary!$B$30:$B$1029,INDIRECT($A$14&ROW())),\"\"),\"\")","v":""}]
[{"$f":"IFERROR(IF(INDIRECT($A$14&ROW())<>\"\",COUNTIF([1]Summary!$B$30:$B$1029,INDIRECT($A$14&ROW())),\"\"),\"\")","v":""}]
[{"$f":"IFERROR(IF(INDIRECT($A$14&ROW())<>\"\",COUNTIF([1]Summary!$B$30:$B$1029,INDIRECT($A$14&ROW())),\"\"),\"\")","v":""}]
[{"$f":"IFERROR(IF(INDIRECT($A$14&ROW())<>\"\",COUNTIF([1]Summary!$B$30:$B$1029,INDIRECT($A$14&ROW())),\"\"),\"\")","v":""}]
[{"$f":"IFERROR(IF(INDIRECT($A$14&ROW())<>\"\",COUNTIF([1]Summary!$B$30:$B$1029,INDIRECT($A$14&ROW())),\"\"),\"\")","v":""}]
[{"$f":"IFERROR(IF(INDIRECT($A$14&ROW())<>\"\",COUNTIF([1]Summary!$B$30:$B$1029,INDIRECT($A$14&ROW())),\"\"),\"\")","v":""}]
[{"$f":"IFERROR(IF(INDIRECT($A$14&ROW())<>\"\",COUNTIF([1]Summary!$B$30:$B$1029,INDIRECT($A$14&ROW())),\"\"),\"\")","v":""}]
[{"$f":"IFERROR(IF(INDIRECT($A$14&ROW())<>\"\",COUNTIF([1]Summary!$B$30:$B$1029,INDIRECT($A$14&ROW())),\"\"),\"\")","v":""}]
[{"$f":"IFERROR(IF(INDIRECT($A$14&ROW())<>\"\",COUNTIF([1]Summary!$B$30:$B$1029,INDIRECT($A$14&ROW())),\"\"),\"\")","v":""}]
[{"$f":"IFERROR(IF(INDIRECT($A$14&ROW())<>\"\",COUNTIF([1]Summary!$B$30:$B$1029,INDIRECT($A$14&ROW())),\"\"),\"\")","v":""}]
[{"$f":"IFERROR(IF(INDIRECT($A$14&ROW())<>\"\",COUNTIF([1]Summary!$B$30:$B$1029,INDIRECT($A$14&ROW())),\"\"),\"\")","v":""}]
[{"$f":"IFERROR(IF(INDIRECT($A$14&ROW())<>\"\",COUNTIF([1]Summary!$B$30:$B$1029,INDIRECT($A$14&ROW())),\"\"),\"\")","v":""}]
[{"$f":"IFERROR(IF(INDIRECT($A$14&ROW())<>\"\",COUNTIF([1]Summary!$B$30:$B$1029,INDIRECT($A$14&ROW())),\"\"),\"\")","v":""}]
[{"$f":"IFERROR(IF(INDIRECT($A$14&ROW())<>\"\",COUNTIF([1]Summary!$B$30:$B$1029,INDIRECT($A$14&ROW())),\"\"),\"\")","v":""}]
[{"$f":"IFERROR(IF(INDIRECT($A$14&ROW())<>\"\",COUNTIF([1]Summary!$B$30:$B$1029,INDIRECT($A$14&ROW())),\"\"),\"\")","v":""}]
[{"$f":"IFERROR(IF(INDIRECT($A$14&ROW())<>\"\",COUNTIF([1]Summary!$B$30:$B$1029,INDIRECT($A$14&ROW())),\"\"),\"\")","v":""}]
[{"$f":"IFERROR(IF(INDIRECT($A$14&ROW())<>\"\",COUNTIF([1]Summary!$B$30:$B$1029,INDIRECT($A$14&ROW())),\"\"),\"\")","v":""}]
[{"$f":"IFERROR(IF(INDIRECT($A$14&ROW())<>\"\",COUNTIF([1]Summary!$B$30:$B$1029,INDIRECT($A$14&ROW())),\"\"),\"\")","v":""}]
[{"$f":"IFERROR(IF(INDIRECT($A$14&ROW())<>\"\",COUNTIF([1]Summary!$B$30:$B$1029,INDIRECT($A$14&ROW())),\"\"),\"\")","v":""}]
[{"$f":"IFERROR(IF(INDIRECT($A$14&ROW())<>\"\",COUNTIF([1]Summary!$B$30:$B$1029,INDIRECT($A$14&ROW())),\"\"),\"\")","v":""}]
[{"$f":"IFERROR(IF(INDIRECT($A$14&ROW())<>\"\",COUNTIF([1]Summary!$B$30:$B$1029,INDIRECT($A$14&ROW())),\"\"),\"\")","v":""}]
[{"$f":"IFERROR(IF(INDIRECT($A$14&ROW())<>\"\",COUNTIF([1]Summary!$B$30:$B$1029,INDIRECT($A$14&ROW())),\"\"),\"\")","v":""}]
[{"$f":"IFERROR(IF(INDIRECT($A$14&ROW())<>\"\",COUNTIF([1]Summary!$B$30:$B$1029,INDIRECT($A$14&ROW())),\"\"),\"\")","v":""}]
[{"$f":"IFERROR(IF(INDIRECT($A$14&ROW())<>\"\",COUNTIF([1]Summary!$B$30:$B$1029,INDIRECT($A$14&ROW())),\"\"),\"\")","v":""}]
[{"$f":"IFERROR(IF(INDIRECT($A$14&ROW())<>\"\",COUNTIF([1]Summary!$B$30:$B$1029,INDIRECT($A$14&ROW())),\"\"),\"\")","v":""}]
[{"$f":"IFERROR(IF(INDIRECT($A$14&ROW())<>\"\",COUNTIF([1]Summary!$B$30:$B$1029,INDIRECT($A$14&ROW())),\"\"),\"\")","v":""}]
[{"$f":"IFERROR(IF(INDIRECT($A$14&ROW())<>\"\",COUNTIF([1]Summary!$B$30:$B$1029,INDIRECT($A$14&ROW())),\"\"),\"\")","v":""}]
[{"$f":"IFERROR(IF(INDIRECT($A$14&ROW())<>\"\",COUNTIF([1]Summary!$B$30:$B$1029,INDIRECT($A$14&ROW())),\"\"),\"\")","v":""}]
[{"$f":"IFERROR(IF(INDIRECT($A$14&ROW())<>\"\",COUNTIF([1]Summary!$B$30:$B$1029,INDIRECT($A$14&ROW())),\"\"),\"\")","v":""}]
[{"$f":"IFERROR(IF(INDIRECT($A$14&ROW())<>\"\",COUNTIF([1]Summary!$B$30:$B$1029,INDIRECT($A$14&ROW())),\"\"),\"\")","v":""}]
[{"$f":"IFERROR(IF(INDIRECT($A$14&ROW())<>\"\",COUNTIF([1]Summary!$B$30:$B$1029,INDIRECT($A$14&ROW())),\"\"),\"\")","v":""}]
[{"$f":"IFERROR(IF(INDIRECT($A$14&ROW())<>\"\",COUNTIF([1]Summary!$B$30:$B$1029,INDIRECT($A$14&ROW())),\"\"),\"\")","v":""}]
[{"$f":"IFERROR(IF(INDIRECT($A$14&ROW())<>\"\",COUNTIF([1]Summary!$B$30:$B$1029,INDIRECT($A$14&ROW())),\"\"),\"\")","v":""}]
[{"$f":"IFERROR(IF(INDIRECT($A$14&ROW())<>\"\",COUNTIF([1]Summary!$B$30:$B$1029,INDIRECT($A$14&ROW())),\"\"),\"\")","v":""}]
[{"$f":"IFERROR(IF(INDIRECT($A$14&ROW())<>\"\",COUNTIF([1]Summary!$B$30:$B$1029,INDIRECT($A$14&ROW())),\"\"),\"\")","v":""}]
[{"$f":"IFERROR(IF(INDIRECT($A$14&ROW())<>\"\",COUNTIF([1]Summary!$B$30:$B$1029,INDIRECT($A$14&ROW())),\"\"),\"\")","v":""}]
[{"$f":"IFERROR(IF(INDIRECT($A$14&ROW())<>\"\",COUNTIF([1]Summary!$B$30:$B$1029,INDIRECT($A$14&ROW())),\"\"),\"\")","v":""}]
[{"$f":"IFERROR(IF(INDIRECT($A$14&ROW())<>\"\",COUNTIF([1]Summary!$B$30:$B$1029,INDIRECT($A$14&ROW())),\"\"),\"\")","v":""}]
[{"$f":"IFERROR(IF(INDIRECT($A$14&ROW())<>\"\",COUNTIF([1]Summary!$B$30:$B$1029,INDIRECT($A$14&ROW())),\"\"),\"\")","v":""}]
[{"$f":"IFERROR(IF(INDIRECT($A$14&ROW())<>\"\",COUNTIF([1]Summary!$B$30:$B$1029,INDIRECT($A$14&ROW())),\"\"),\"\")","v":""}]
[{"$f":"IFERROR(IF(INDIRECT($A$14&ROW())<>\"\",COUNTIF([1]Summary!$B$30:$B$1029,INDIRECT($A$14&ROW())),\"\"),\"\")","v":""}]
[{"$f":"IFERROR(IF(INDIRECT($A$14&ROW())<>\"\",COUNTIF([1]Summary!$B$30:$B$1029,INDIRECT($A$14&ROW())),\"\"),\"\")","v":""}]
[{"$f":"IFERROR(IF(INDIRECT($A$14&ROW())<>\"\",COUNTIF([1]Summary!$B$30:$B$1029,INDIRECT($A$14&ROW())),\"\"),\"\")","v":""}]
[{"$f":"IFERROR(IF(INDIRECT($A$14&ROW())<>\"\",COUNTIF([1]Summary!$B$30:$B$1029,INDIRECT($A$14&ROW())),\"\"),\"\")","v":""}]
[{"$f":"IFERROR(IF(INDIRECT($A$14&ROW())<>\"\",COUNTIF([1]Summary!$B$30:$B$1029,INDIRECT($A$14&ROW())),\"\"),\"\")","v":""}]
[{"$f":"IFERROR(IF(INDIRECT($A$14&ROW())<>\"\",COUNTIF([1]Summary!$B$30:$B$1029,INDIRECT($A$14&ROW())),\"\"),\"\")","v":""}]
[{"$f":"IFERROR(IF(INDIRECT($A$14&ROW())<>\"\",COUNTIF([1]Summary!$B$30:$B$1029,INDIRECT($A$14&ROW())),\"\"),\"\")","v":""}]
[{"$f":"IFERROR(IF(INDIRECT($A$14&ROW())<>\"\",COUNTIF([1]Summary!$B$30:$B$1029,INDIRECT($A$14&ROW())),\"\"),\"\")","v":""}]
[{"$f":"IFERROR(IF(INDIRECT($A$14&ROW())<>\"\",COUNTIF([1]Summary!$B$30:$B$1029,INDIRECT($A$14&ROW())),\"\"),\"\")","v":""}]
[{"$f":"IFERROR(IF(INDIRECT($A$14&ROW())<>\"\",COUNTIF([1]Summary!$B$30:$B$1029,INDIRECT($A$14&ROW())),\"\"),\"\")","v":""}]
[{"$f":"IFERROR(IF(INDIRECT($A$14&ROW())<>\"\",COUNTIF([1]Summary!$B$30:$B$1029,INDIRECT($A$14&ROW())),\"\"),\"\")","v":""}]
[{"$f":"IFERROR(IF(INDIRECT($A$14&ROW())<>\"\",COUNTIF([1]Summary!$B$30:$B$1029,INDIRECT($A$14&ROW())),\"\"),\"\")","v":""}]
[{"$f":"IFERROR(IF(INDIRECT($A$14&ROW())<>\"\",COUNTIF([1]Summary!$B$30:$B$1029,INDIRECT($A$14&ROW())),\"\"),\"\")","v":""}]
[{"$f":"IFERROR(IF(INDIRECT($A$14&ROW())<>\"\",COUNTIF([1]Summary!$B$30:$B$1029,INDIRECT($A$14&ROW())),\"\"),\"\")","v":""}]
[{"$f":"IFERROR(IF(INDIRECT($A$14&ROW())<>\"\",COUNTIF([1]Summary!$B$30:$B$1029,INDIRECT($A$14&ROW())),\"\"),\"\")","v":""}]
[{"$f":"IFERROR(IF(INDIRECT($A$14&ROW())<>\"\",COUNTIF([1]Summary!$B$30:$B$1029,INDIRECT($A$14&ROW())),\"\"),\"\")","v":""}]
[{"$f":"IFERROR(IF(INDIRECT($A$14&ROW())<>\"\",COUNTIF([1]Summary!$B$30:$B$1029,INDIRECT($A$14&ROW())),\"\"),\"\")","v":""}]
[{"$f":"IFERROR(IF(INDIRECT($A$14&ROW())<>\"\",COUNTIF([1]Summary!$B$30:$B$1029,INDIRECT($A$14&ROW())),\"\"),\"\")","v":""}]
[{"$f":"IFERROR(IF(INDIRECT($A$14&ROW())<>\"\",COUNTIF([1]Summary!$B$30:$B$1029,INDIRECT($A$14&ROW())),\"\"),\"\")","v":""}]
[{"$f":"IFERROR(IF(INDIRECT($A$14&ROW())<>\"\",COUNTIF([1]Summary!$B$30:$B$1029,INDIRECT($A$14&ROW())),\"\"),\"\")","v":""}]
[{"$f":"IFERROR(IF(INDIRECT($A$14&ROW())<>\"\",COUNTIF([1]Summary!$B$30:$B$1029,INDIRECT($A$14&ROW())),\"\"),\"\")","v":""}]
[{"$f":"IFERROR(IF(INDIRECT($A$14&ROW())<>\"\",COUNTIF([1]Summary!$B$30:$B$1029,INDIRECT($A$14&ROW())),\"\"),\"\")","v":""}]
[{"$f":"IFERROR(IF(INDIRECT($A$14&ROW())<>\"\",COUNTIF([1]Summary!$B$30:$B$1029,INDIRECT($A$14&ROW())),\"\"),\"\")","v":""}]
[{"$f":"IFERROR(IF(INDIRECT($A$14&ROW())<>\"\",COUNTIF([1]Summary!$B$30:$B$1029,INDIRECT($A$14&ROW())),\"\"),\"\")","v":""}]
[{"$f":"IFERROR(IF(INDIRECT($A$14&ROW())<>\"\",COUNTIF([1]Summary!$B$30:$B$1029,INDIRECT($A$14&ROW())),\"\"),\"\")","v":""}]
[{"$f":"IFERROR(IF(INDIRECT($A$14&ROW())<>\"\",COUNTIF([1]Summary!$B$30:$B$1029,INDIRECT($A$14&ROW())),\"\"),\"\")","v":""}]
[{"$f":"IFERROR(IF(INDIRECT($A$14&ROW())<>\"\",COUNTIF([1]Summary!$B$30:$B$1029,INDIRECT($A$14&ROW())),\"\"),\"\")","v":""}]
[{"$f":"IFERROR(IF(INDIRECT($A$14&ROW())<>\"\",COUNTIF([1]Summary!$B$30:$B$1029,INDIRECT($A$14&ROW())),\"\"),\"\")","v":""}]
[{"$f":"IFERROR(IF(INDIRECT($A$14&ROW())<>\"\",COUNTIF([1]Summary!$B$30:$B$1029,INDIRECT($A$14&ROW())),\"\"),\"\")","v":""}]
[{"$f":"IFERROR(IF(INDIRECT($A$14&ROW())<>\"\",COUNTIF([1]Summary!$B$30:$B$1029,INDIRECT($A$14&ROW())),\"\"),\"\")","v":""}]
[{"$f":"IFERROR(IF(INDIRECT($A$14&ROW())<>\"\",COUNTIF([1]Summary!$B$30:$B$1029,INDIRECT($A$14&ROW())),\"\"),\"\")","v":""}]
[{"$f":"IFERROR(IF(INDIRECT($A$14&ROW())<>\"\",COUNTIF([1]Summary!$B$30:$B$1029,INDIRECT($A$14&ROW())),\"\"),\"\")","v":""}]
[{"$f":"IFERROR(IF(INDIRECT($A$14&ROW())<>\"\",COUNTIF([1]Summary!$B$30:$B$1029,INDIRECT($A$14&ROW())),\"\"),\"\")","v":""}]
[{"$f":"IFERROR(IF(INDIRECT($A$14&ROW())<>\"\",COUNTIF([1]Summary!$B$30:$B$1029,INDIRECT($A$14&ROW())),\"\"),\"\")","v":""}]
[{"$f":"IFERROR(IF(INDIRECT($A$14&ROW())<>\"\",COUNTIF([1]Summary!$B$30:$B$1029,INDIRECT($A$14&ROW())),\"\"),\"\")","v":""}]
[{"$f":"IFERROR(IF(INDIRECT($A$14&ROW())<>\"\",COUNTIF([1]Summary!$B$30:$B$1029,INDIRECT($A$14&ROW())),\"\"),\"\")","v":""}]
[{"$f":"IFERROR(IF(INDIRECT($A$14&ROW())<>\"\",COUNTIF([1]Summary!$B$30:$B$1029,INDIRECT($A$14&ROW())),\"\"),\"\")","v":""}]
[{"$f":"IFERROR(IF(INDIRECT($A$14&ROW())<>\"\",COUNTIF([1]Summary!$B$30:$B$1029,INDIRECT($A$14&ROW())),\"\"),\"\")","v":""}]
[{"$f":"IFERROR(IF(INDIRECT($A$14&ROW())<>\"\",COUNTIF([1]Summary!$B$30:$B$1029,INDIRECT($A$14&ROW())),\"\"),\"\")","v":""}]
[{"$f":"IFERROR(IF(INDIRECT($A$14&ROW())<>\"\",COUNTIF([1]Summary!$B$30:$B$1029,INDIRECT($A$14&ROW())),\"\"),\"\")","v":""}]
[{"$f":"IFERROR(IF(INDIRECT($A$14&ROW())<>\"\",COUNTIF([1]Summary!$B$30:$B$1029,INDIRECT($A$14&ROW())),\"\"),\"\")","v":""}]
[{"$f":"IFERROR(IF(INDIRECT($A$14&ROW())<>\"\",COUNTIF([1]Summary!$B$30:$B$1029,INDIRECT($A$14&ROW())),\"\"),\"\")","v":""}]
[{"$f":"IFERROR(IF(INDIRECT($A$14&ROW())<>\"\",COUNTIF([1]Summary!$B$30:$B$1029,INDIRECT($A$14&ROW())),\"\"),\"\")","v":""}]
[{"$f":"IFERROR(IF(INDIRECT($A$14&ROW())<>\"\",COUNTIF([1]Summary!$B$30:$B$1029,INDIRECT($A$14&ROW())),\"\"),\"\")","v":""}]
[{"$f":"IFERROR(IF(INDIRECT($A$14&ROW())<>\"\",COUNTIF([1]Summary!$B$30:$B$1029,INDIRECT($A$14&ROW())),\"\"),\"\")","v":""}]
[{"$f":"IFERROR(IF(INDIRECT($A$14&ROW())<>\"\",COUNTIF([1]Summary!$B$30:$B$1029,INDIRECT($A$14&ROW())),\"\"),\"\")","v":""}]
[{"$f":"IFERROR(IF(INDIRECT($A$14&ROW())<>\"\",COUNTIF([1]Summary!$B$30:$B$1029,INDIRECT($A$14&ROW())),\"\"),\"\")","v":""}]
[{"$f":"IFERROR(IF(INDIRECT($A$14&ROW())<>\"\",COUNTIF([1]Summary!$B$30:$B$1029,INDIRECT($A$14&ROW())),\"\"),\"\")","v":""}]
[{"$f":"IFERROR(IF(INDIRECT($A$14&ROW())<>\"\",COUNTIF([1]Summary!$B$30:$B$1029,INDIRECT($A$14&ROW())),\"\"),\"\")","v":""}]
[{"$f":"IFERROR(IF(INDIRECT($A$14&ROW())<>\"\",COUNTIF([1]Summary!$B$30:$B$1029,INDIRECT($A$14&ROW())),\"\"),\"\")","v":""}]
[{"$f":"IFERROR(IF(INDIRECT($A$14&ROW())<>\"\",COUNTIF([1]Summary!$B$30:$B$1029,INDIRECT($A$14&ROW())),\"\"),\"\")","v":""}]
[{"$f":"IFERROR(IF(INDIRECT($A$14&ROW())<>\"\",COUNTIF([1]Summary!$B$30:$B$1029,INDIRECT($A$14&ROW())),\"\"),\"\")","v":""}]
[{"$f":"IFERROR(IF(INDIRECT($A$14&ROW())<>\"\",COUNTIF([1]Summary!$B$30:$B$1029,INDIRECT($A$14&ROW())),\"\"),\"\")","v":""}]
[{"$f":"IFERROR(IF(INDIRECT($A$14&ROW())<>\"\",COUNTIF([1]Summary!$B$30:$B$1029,INDIRECT($A$14&ROW())),\"\"),\"\")","v":""}]
[{"$f":"IFERROR(IF(INDIRECT($A$14&ROW())<>\"\",COUNTIF([1]Summary!$B$30:$B$1029,INDIRECT($A$14&ROW())),\"\"),\"\")","v":""}]
[{"$f":"IFERROR(IF(INDIRECT($A$14&ROW())<>\"\",COUNTIF([1]Summary!$B$30:$B$1029,INDIRECT($A$14&ROW())),\"\"),\"\")","v":""}]
[{"$f":"IFERROR(IF(INDIRECT($A$14&ROW())<>\"\",COUNTIF([1]Summary!$B$30:$B$1029,INDIRECT($A$14&ROW())),\"\"),\"\")","v":""}]
[{"$f":"IFERROR(IF(INDIRECT($A$14&ROW())<>\"\",COUNTIF([1]Summary!$B$30:$B$1029,INDIRECT($A$14&ROW())),\"\"),\"\")","v":""}]
[{"$f":"IFERROR(IF(INDIRECT($A$14&ROW())<>\"\",COUNTIF([1]Summary!$B$30:$B$1029,INDIRECT($A$14&ROW())),\"\"),\"\")","v":""}]
[{"$f":"IFERROR(IF(INDIRECT($A$14&ROW())<>\"\",COUNTIF([1]Summary!$B$30:$B$1029,INDIRECT($A$14&ROW())),\"\"),\"\")","v":""}]
[{"$f":"IFERROR(IF(INDIRECT($A$14&ROW())<>\"\",COUNTIF([1]Summary!$B$30:$B$1029,INDIRECT($A$14&ROW())),\"\"),\"\")","v":""}]
[{"$f":"IFERROR(IF(INDIRECT($A$14&ROW())<>\"\",COUNTIF([1]Summary!$B$30:$B$1029,INDIRECT($A$14&ROW())),\"\"),\"\")","v":""}]
[{"$f":"IFERROR(IF(INDIRECT($A$14&ROW())<>\"\",COUNTIF([1]Summary!$B$30:$B$1029,INDIRECT($A$14&ROW())),\"\"),\"\")","v":""}]
[{"$f":"IFERROR(IF(INDIRECT($A$14&ROW())<>\"\",COUNTIF([1]Summary!$B$30:$B$1029,INDIRECT($A$14&ROW())),\"\"),\"\")","v":""}]
[{"$f":"IFERROR(IF(INDIRECT($A$14&ROW())<>\"\",COUNTIF([1]Summary!$B$30:$B$1029,INDIRECT($A$14&ROW())),\"\"),\"\")","v":""}]
[{"$f":"IFERROR(IF(INDIRECT($A$14&ROW())<>\"\",COUNTIF([1]Summary!$B$30:$B$1029,INDIRECT($A$14&ROW())),\"\"),\"\")","v":""}]
[{"$f":"IFERROR(IF(INDIRECT($A$14&ROW())<>\"\",COUNTIF([1]Summary!$B$30:$B$1029,INDIRECT($A$14&ROW())),\"\"),\"\")","v":""}]
[{"$f":"IFERROR(IF(INDIRECT($A$14&ROW())<>\"\",COUNTIF([1]Summary!$B$30:$B$1029,INDIRECT($A$14&ROW())),\"\"),\"\")","v":""}]
[{"$f":"IFERROR(IF(INDIRECT($A$14&ROW())<>\"\",COUNTIF([1]Summary!$B$30:$B$1029,INDIRECT($A$14&ROW())),\"\"),\"\")","v":""}]
[{"$f":"IFERROR(IF(INDIRECT($A$14&ROW())<>\"\",COUNTIF([1]Summary!$B$30:$B$1029,INDIRECT($A$14&ROW())),\"\"),\"\")","v":""}]
[{"$f":"IFERROR(IF(INDIRECT($A$14&ROW())<>\"\",COUNTIF([1]Summary!$B$30:$B$1029,INDIRECT($A$14&ROW())),\"\"),\"\")","v":""}]
[{"$f":"IFERROR(IF(INDIRECT($A$14&ROW())<>\"\",COUNTIF([1]Summary!$B$30:$B$1029,INDIRECT($A$14&ROW())),\"\"),\"\")","v":""}]
[{"$f":"IFERROR(IF(INDIRECT($A$14&ROW())<>\"\",COUNTIF([1]Summary!$B$30:$B$1029,INDIRECT($A$14&ROW())),\"\"),\"\")","v":""}]
[{"$f":"IFERROR(IF(INDIRECT($A$14&ROW())<>\"\",COUNTIF([1]Summary!$B$30:$B$1029,INDIRECT($A$14&ROW())),\"\"),\"\")","v":""}]
[{"$f":"IFERROR(IF(INDIRECT($A$14&ROW())<>\"\",COUNTIF([1]Summary!$B$30:$B$1029,INDIRECT($A$14&ROW())),\"\"),\"\")","v":""}]
[{"$f":"IFERROR(IF(INDIRECT($A$14&ROW())<>\"\",COUNTIF([1]Summary!$B$30:$B$1029,INDIRECT($A$14&ROW())),\"\"),\"\")","v":""}]
[{"$f":"IFERROR(IF(INDIRECT($A$14&ROW())<>\"\",COUNTIF([1]Summary!$B$30:$B$1029,INDIRECT($A$14&ROW())),\"\"),\"\")","v":""}]
[{"$f":"IFERROR(IF(INDIRECT($A$14&ROW())<>\"\",COUNTIF([1]Summary!$B$30:$B$1029,INDIRECT($A$14&ROW())),\"\"),\"\")","v":""}]
[{"$f":"IFERROR(IF(INDIRECT($A$14&ROW())<>\"\",COUNTIF([1]Summary!$B$30:$B$1029,INDIRECT($A$14&ROW())),\"\"),\"\")","v":""}]
[{"$f":"IFERROR(IF(INDIRECT($A$14&ROW())<>\"\",COUNTIF([1]Summary!$B$30:$B$1029,INDIRECT($A$14&ROW())),\"\"),\"\")","v":""}]
[{"$f":"IFERROR(IF(INDIRECT($A$14&ROW())<>\"\",COUNTIF([1]Summary!$B$30:$B$1029,INDIRECT($A$14&ROW())),\"\"),\"\")","v":""}]
[{"$f":"IFERROR(IF(INDIRECT($A$14&ROW())<>\"\",COUNTIF([1]Summary!$B$30:$B$1029,INDIRECT($A$14&ROW())),\"\"),\"\")","v":""}]
[{"$f":"IFERROR(IF(INDIRECT($A$14&ROW())<>\"\",COUNTIF([1]Summary!$B$30:$B$1029,INDIRECT($A$14&ROW())),\"\"),\"\")","v":""}]
[{"$f":"IFERROR(IF(INDIRECT($A$14&ROW())<>\"\",COUNTIF([1]Summary!$B$30:$B$1029,INDIRECT($A$14&ROW())),\"\"),\"\")","v":""}]
[{"$f":"IFERROR(IF(INDIRECT($A$14&ROW())<>\"\",COUNTIF([1]Summary!$B$30:$B$1029,INDIRECT($A$14&ROW())),\"\"),\"\")","v":""}]
[{"$f":"IFERROR(IF(INDIRECT($A$14&ROW())<>\"\",COUNTIF([1]Summary!$B$30:$B$1029,INDIRECT($A$14&ROW())),\"\"),\"\")","v":""}]
[{"$f":"IFERROR(IF(INDIRECT($A$14&ROW())<>\"\",COUNTIF([1]Summary!$B$30:$B$1029,INDIRECT($A$14&ROW())),\"\"),\"\")","v":""}]
[{"$f":"IFERROR(IF(INDIRECT($A$14&ROW())<>\"\",COUNTIF([1]Summary!$B$30:$B$1029,INDIRECT($A$14&ROW())),\"\"),\"\")","v":""}]
[{"$f":"IFERROR(IF(INDIRECT($A$14&ROW())<>\"\",COUNTIF([1]Summary!$B$30:$B$1029,INDIRECT($A$14&ROW())),\"\"),\"\")","v":""}]
[{"$f":"IFERROR(IF(INDIRECT($A$14&ROW())<>\"\",COUNTIF([1]Summary!$B$30:$B$1029,INDIRECT($A$14&ROW())),\"\"),\"\")","v":""}]
[{"$f":"IFERROR(IF(INDIRECT($A$14&ROW())<>\"\",COUNTIF([1]Summary!$B$30:$B$1029,INDIRECT($A$14&ROW())),\"\"),\"\")","v":""}]
[{"$f":"IFERROR(IF(INDIRECT($A$14&ROW())<>\"\",COUNTIF([1]Summary!$B$30:$B$1029,INDIRECT($A$14&ROW())),\"\"),\"\")","v":""}]
[{"$f":"IFERROR(IF(INDIRECT($A$14&ROW())<>\"\",COUNTIF([1]Summary!$B$30:$B$1029,INDIRECT($A$14&ROW())),\"\"),\"\")","v":""}]
[{"$f":"IFERROR(IF(INDIRECT($A$14&ROW())<>\"\",COUNTIF([1]Summary!$B$30:$B$1029,INDIRECT($A$14&ROW())),\"\"),\"\")","v":""}]
[{"$f":"IFERROR(IF(INDIRECT($A$14&ROW())<>\"\",COUNTIF([1]Summary!$B$30:$B$1029,INDIRECT($A$14&ROW())),\"\"),\"\")","v":""}]
[{"$f":"IFERROR(IF(INDIRECT($A$14&ROW())<>\"\",COUNTIF([1]Summary!$B$30:$B$1029,INDIRECT($A$14&ROW())),\"\"),\"\")","v":""}]
[{"$f":"IFERROR(IF(INDIRECT($A$14&ROW())<>\"\",COUNTIF([1]Summary!$B$30:$B$1029,INDIRECT($A$14&ROW())),\"\"),\"\")","v":""}]
[{"$f":"IFERROR(IF(INDIRECT($A$14&ROW())<>\"\",COUNTIF([1]Summary!$B$30:$B$1029,INDIRECT($A$14&ROW())),\"\"),\"\")","v":""}]
[{"$f":"IFERROR(IF(INDIRECT($A$14&ROW())<>\"\",COUNTIF([1]Summary!$B$30:$B$1029,INDIRECT($A$14&ROW())),\"\"),\"\")","v":""}]
[{"$f":"IFERROR(IF(INDIRECT($A$14&ROW())<>\"\",COUNTIF([1]Summary!$B$30:$B$1029,INDIRECT($A$14&ROW())),\"\"),\"\")","v":""}]
[{"$f":"IFERROR(IF(INDIRECT($A$14&ROW())<>\"\",COUNTIF([1]Summary!$B$30:$B$1029,INDIRECT($A$14&ROW())),\"\"),\"\")","v":""}]
[{"$f":"IFERROR(IF(INDIRECT($A$14&ROW())<>\"\",COUNTIF([1]Summary!$B$30:$B$1029,INDIRECT($A$14&ROW())),\"\"),\"\")","v":""}]
[{"$f":"IFERROR(IF(INDIRECT($A$14&ROW())<>\"\",COUNTIF([1]Summary!$B$30:$B$1029,INDIRECT($A$14&ROW())),\"\"),\"\")","v":""}]
[{"$f":"IFERROR(IF(INDIRECT($A$14&ROW())<>\"\",COUNTIF([1]Summary!$B$30:$B$1029,INDIRECT($A$14&ROW())),\"\"),\"\")","v":""}]
[{"$f":"IFERROR(IF(INDIRECT($A$14&ROW())<>\"\",COUNTIF([1]Summary!$B$30:$B$1029,INDIRECT($A$14&ROW())),\"\"),\"\")","v":""}]
[{"$f":"IFERROR(IF(INDIRECT($A$14&ROW())<>\"\",COUNTIF([1]Summary!$B$30:$B$1029,INDIRECT($A$14&ROW())),\"\"),\"\")","v":""}]
[{"$f":"IFERROR(IF(INDIRECT($A$14&ROW())<>\"\",COUNTIF([1]Summary!$B$30:$B$1029,INDIRECT($A$14&ROW())),\"\"),\"\")","v":""}]
[{"$f":"IFERROR(IF(INDIRECT($A$14&ROW())<>\"\",COUNTIF([1]Summary!$B$30:$B$1029,INDIRECT($A$14&ROW())),\"\"),\"\")","v":""}]
[{"$f":"IFERROR(IF(INDIRECT($A$14&ROW())<>\"\",COUNTIF([1]Summary!$B$30:$B$1029,INDIRECT($A$14&ROW())),\"\"),\"\")","v":""}]
[{"$f":"IFERROR(IF(INDIRECT($A$14&ROW())<>\"\",COUNTIF([1]Summary!$B$30:$B$1029,INDIRECT($A$14&ROW())),\"\"),\"\")","v":""}]
[{"$f":"IFERROR(IF(INDIRECT($A$14&ROW())<>\"\",COUNTIF([1]Summary!$B$30:$B$1029,INDIRECT($A$14&ROW())),\"\"),\"\")","v":""}]
[{"$f":"IFERROR(IF(INDIRECT($A$14&ROW())<>\"\",COUNTIF([1]Summary!$B$30:$B$1029,INDIRECT($A$14&ROW())),\"\"),\"\")","v":""}]
[{"$f":"IFERROR(IF(INDIRECT($A$14&ROW())<>\"\",COUNTIF([1]Summary!$B$30:$B$1029,INDIRECT($A$14&ROW())),\"\"),\"\")","v":""}]
[{"$f":"IFERROR(IF(INDIRECT($A$14&ROW())<>\"\",COUNTIF([1]Summary!$B$30:$B$1029,INDIRECT($A$14&ROW())),\"\"),\"\")","v":""}]
[{"$f":"IFERROR(IF(INDIRECT($A$14&ROW())<>\"\",COUNTIF([1]Summary!$B$30:$B$1029,INDIRECT($A$14&ROW())),\"\"),\"\")","v":""}]
[{"$f":"IFERROR(IF(INDIRECT($A$14&ROW())<>\"\",COUNTIF([1]Summary!$B$30:$B$1029,INDIRECT($A$14&ROW())),\"\"),\"\")","v":""}]
[{"$f":"IFERROR(IF(INDIRECT($A$14&ROW())<>\"\",COUNTIF([1]Summary!$B$30:$B$1029,INDIRECT($A$14&ROW())),\"\"),\"\")","v":""}]
[{"$f":"IFERROR(IF(INDIRECT($A$14&ROW())<>\"\",COUNTIF([1]Summary!$B$30:$B$1029,INDIRECT($A$14&ROW())),\"\"),\"\")","v":""}]
[{"$f":"IFERROR(IF(INDIRECT($A$14&ROW())<>\"\",COUNTIF([1]Summary!$B$30:$B$1029,INDIRECT($A$14&ROW())),\"\"),\"\")","v":""}]
[{"$f":"IFERROR(IF(INDIRECT($A$14&ROW())<>\"\",COUNTIF([1]Summary!$B$30:$B$1029,INDIRECT($A$14&ROW())),\"\"),\"\")","v":""}]
[{"$f":"IFERROR(IF(INDIRECT($A$14&ROW())<>\"\",COUNTIF([1]Summary!$B$30:$B$1029,INDIRECT($A$14&ROW())),\"\"),\"\")","v":""}]
[{"$f":"IFERROR(IF(INDIRECT($A$14&ROW())<>\"\",COUNTIF([1]Summary!$B$30:$B$1029,INDIRECT($A$14&ROW())),\"\"),\"\")","v":""}]
[{"$f":"IFERROR(IF(INDIRECT($A$14&ROW())<>\"\",COUNTIF([1]Summary!$B$30:$B$1029,INDIRECT($A$14&ROW())),\"\"),\"\")","v":""}]
[{"$f":"IFERROR(IF(INDIRECT($A$14&ROW())<>\"\",COUNTIF([1]Summary!$B$30:$B$1029,INDIRECT($A$14&ROW())),\"\"),\"\")","v":""}]
[{"$f":"IFERROR(IF(INDIRECT($A$14&ROW())<>\"\",COUNTIF([1]Summary!$B$30:$B$1029,INDIRECT($A$14&ROW())),\"\"),\"\")","v":""}]
[{"$f":"IFERROR(IF(INDIRECT($A$14&ROW())<>\"\",COUNTIF([1]Summary!$B$30:$B$1029,INDIRECT($A$14&ROW())),\"\"),\"\")","v":""}]
[{"$f":"IFERROR(IF(INDIRECT($A$14&ROW())<>\"\",COUNTIF([1]Summary!$B$30:$B$1029,INDIRECT($A$14&ROW())),\"\"),\"\")","v":""}]
[{"$f":"IFERROR(IF(INDIRECT($A$14&ROW())<>\"\",COUNTIF([1]Summary!$B$30:$B$1029,INDIRECT($A$14&ROW())),\"\"),\"\")","v":""}]
[{"$f":"IFERROR(IF(INDIRECT($A$14&ROW())<>\"\",COUNTIF([1]Summary!$B$30:$B$1029,INDIRECT($A$14&ROW())),\"\"),\"\")","v":""}]
[{"$f":"IFERROR(IF(INDIRECT($A$14&ROW())<>\"\",COUNTIF([1]Summary!$B$30:$B$1029,INDIRECT($A$14&ROW())),\"\"),\"\")","v":""}]
[{"$f":"IFERROR(IF(INDIRECT($A$14&ROW())<>\"\",COUNTIF([1]Summary!$B$30:$B$1029,INDIRECT($A$14&ROW())),\"\"),\"\")","v":""}]
[{"$f":"IFERROR(IF(INDIRECT($A$14&ROW())<>\"\",COUNTIF([1]Summary!$B$30:$B$1029,INDIRECT($A$14&ROW())),\"\"),\"\")","v":""}]
[{"$f":"IFERROR(IF(INDIRECT($A$14&ROW())<>\"\",COUNTIF([1]Summary!$B$30:$B$1029,INDIRECT($A$14&ROW())),\"\"),\"\")","v":""}]
[{"$f":"IFERROR(IF(INDIRECT($A$14&ROW())<>\"\",COUNTIF([1]Summary!$B$30:$B$1029,INDIRECT($A$14&ROW())),\"\"),\"\")","v":""}]
[{"$f":"IFERROR(IF(INDIRECT($A$14&ROW())<>\"\",COUNTIF([1]Summary!$B$30:$B$1029,INDIRECT($A$14&ROW())),\"\"),\"\")","v":""}]
[{"$f":"IFERROR(IF(INDIRECT($A$14&ROW())<>\"\",COUNTIF([1]Summary!$B$30:$B$1029,INDIRECT($A$14&ROW())),\"\"),\"\")","v":""}]
[{"$f":"IFERROR(IF(INDIRECT($A$14&ROW())<>\"\",COUNTIF([1]Summary!$B$30:$B$1029,INDIRECT($A$14&ROW())),\"\"),\"\")","v":""}]
[{"$f":"IFERROR(IF(INDIRECT($A$14&ROW())<>\"\",COUNTIF([1]Summary!$B$30:$B$1029,INDIRECT($A$14&ROW())),\"\"),\"\")","v":""}]
[{"$f":"IFERROR(IF(INDIRECT($A$14&ROW())<>\"\",COUNTIF([1]Summary!$B$30:$B$1029,INDIRECT($A$14&ROW())),\"\"),\"\")","v":""}]
[{"$f":"IFERROR(IF(INDIRECT($A$14&ROW())<>\"\",COUNTIF([1]Summary!$B$30:$B$1029,INDIRECT($A$14&ROW())),\"\"),\"\")","v":""}]
[{"$f":"IFERROR(IF(INDIRECT($A$14&ROW())<>\"\",COUNTIF([1]Summary!$B$30:$B$1029,INDIRECT($A$14&ROW())),\"\"),\"\")","v":""}]
[{"$f":"IFERROR(IF(INDIRECT($A$14&ROW())<>\"\",COUNTIF([1]Summary!$B$30:$B$1029,INDIRECT($A$14&ROW())),\"\"),\"\")","v":""}]
[{"$f":"IFERROR(IF(INDIRECT($A$14&ROW())<>\"\",COUNTIF([1]Summary!$B$30:$B$1029,INDIRECT($A$14&ROW())),\"\"),\"\")","v":""}]
[{"$f":"IFERROR(IF(INDIRECT($A$14&ROW())<>\"\",COUNTIF([1]Summary!$B$30:$B$1029,INDIRECT($A$14&ROW())),\"\"),\"\")","v":""}]
[{"$f":"IFERROR(IF(INDIRECT($A$14&ROW())<>\"\",COUNTIF([1]Summary!$B$30:$B$1029,INDIRECT($A$14&ROW())),\"\"),\"\")","v":""}]
[{"$f":"IFERROR(IF(INDIRECT($A$14&ROW())<>\"\",COUNTIF([1]Summary!$B$30:$B$1029,INDIRECT($A$14&ROW())),\"\"),\"\")","v":""}]
[{"$f":"IFERROR(IF(INDIRECT($A$14&ROW())<>\"\",COUNTIF([1]Summary!$B$30:$B$1029,INDIRECT($A$14&ROW())),\"\"),\"\")","v":""}]
[{"$f":"IFERROR(IF(INDIRECT($A$14&ROW())<>\"\",COUNTIF([1]Summary!$B$30:$B$1029,INDIRECT($A$14&ROW())),\"\"),\"\")","v":""}]
[{"$f":"IFERROR(IF(INDIRECT($A$14&ROW())<>\"\",COUNTIF([1]Summary!$B$30:$B$1029,INDIRECT($A$14&ROW())),\"\"),\"\")","v":""}]
[{"$f":"IFERROR(IF(INDIRECT($A$14&ROW())<>\"\",COUNTIF([1]Summary!$B$30:$B$1029,INDIRECT($A$14&ROW())),\"\"),\"\")","v":""}]
[{"$f":"IFERROR(IF(INDIRECT($A$14&ROW())<>\"\",COUNTIF([1]Summary!$B$30:$B$1029,INDIRECT($A$14&ROW())),\"\"),\"\")","v":""}]
[{"$f":"IFERROR(IF(INDIRECT($A$14&ROW())<>\"\",COUNTIF([1]Summary!$B$30:$B$1029,INDIRECT($A$14&ROW())),\"\"),\"\")","v":""}]
[{"$f":"IFERROR(IF(INDIRECT($A$14&ROW())<>\"\",COUNTIF([1]Summary!$B$30:$B$1029,INDIRECT($A$14&ROW())),\"\"),\"\")","v":""}]
[{"$f":"IFERROR(IF(INDIRECT($A$14&ROW())<>\"\",COUNTIF([1]Summary!$B$30:$B$1029,INDIRECT($A$14&ROW())),\"\"),\"\")","v":""}]
[{"$f":"IFERROR(IF(INDIRECT($A$14&ROW())<>\"\",COUNTIF([1]Summary!$B$30:$B$1029,INDIRECT($A$14&ROW())),\"\"),\"\")","v":""}]
[{"$f":"IFERROR(IF(INDIRECT($A$14&ROW())<>\"\",COUNTIF([1]Summary!$B$30:$B$1029,INDIRECT($A$14&ROW())),\"\"),\"\")","v":""}]
[{"$f":"IFERROR(IF(INDIRECT($A$14&ROW())<>\"\",COUNTIF([1]Summary!$B$30:$B$1029,INDIRECT($A$14&ROW())),\"\"),\"\")","v":""}]
[{"$f":"IFERROR(IF(INDIRECT($A$14&ROW())<>\"\",COUNTIF([1]Summary!$B$30:$B$1029,INDIRECT($A$14&ROW())),\"\"),\"\")","v":""}]
[{"$f":"IFERROR(IF(INDIRECT($A$14&ROW())<>\"\",COUNTIF([1]Summary!$B$30:$B$1029,INDIRECT($A$14&ROW())),\"\"),\"\")","v":""}]
[{"$f":"IFERROR(IF(INDIRECT($A$14&ROW())<>\"\",COUNTIF([1]Summary!$B$30:$B$1029,INDIRECT($A$14&ROW())),\"\"),\"\")","v":""}]
[{"$f":"IFERROR(IF(INDIRECT($A$14&ROW())<>\"\",COUNTIF([1]Summary!$B$30:$B$1029,INDIRECT($A$14&ROW())),\"\"),\"\")","v":""}]
[{"$f":"IFERROR(IF(INDIRECT($A$14&ROW())<>\"\",COUNTIF([1]Summary!$B$30:$B$1029,INDIRECT($A$14&ROW())),\"\"),\"\")","v":""}]
[{"$f":"IFERROR(IF(INDIRECT($A$14&ROW())<>\"\",COUNTIF([1]Summary!$B$30:$B$1029,INDIRECT($A$14&ROW())),\"\"),\"\")","v":""}]
[{"$f":"IFERROR(IF(INDIRECT($A$14&ROW())<>\"\",COUNTIF([1]Summary!$B$30:$B$1029,INDIRECT($A$14&ROW())),\"\"),\"\")","v":""}]
[{"$f":"IFERROR(IF(INDIRECT($A$14&ROW())<>\"\",COUNTIF([1]Summary!$B$30:$B$1029,INDIRECT($A$14&ROW())),\"\"),\"\")","v":""}]
[{"$f":"IFERROR(IF(INDIRECT($A$14&ROW())<>\"\",COUNTIF([1]Summary!$B$30:$B$1029,INDIRECT($A$14&ROW())),\"\"),\"\")","v":""}]
[{"$f":"IFERROR(IF(INDIRECT($A$14&ROW())<>\"\",COUNTIF([1]Summary!$B$30:$B$1029,INDIRECT($A$14&ROW())),\"\"),\"\")","v":""}]
[{"$f":"IFERROR(IF(INDIRECT($A$14&ROW())<>\"\",COUNTIF([1]Summary!$B$30:$B$1029,INDIRECT($A$14&ROW())),\"\"),\"\")","v":""}]
[{"$f":"IFERROR(IF(INDIRECT($A$14&ROW())<>\"\",COUNTIF([1]Summary!$B$30:$B$1029,INDIRECT($A$14&ROW())),\"\"),\"\")","v":""}]
[{"$f":"IFERROR(IF(INDIRECT($A$14&ROW())<>\"\",COUNTIF([1]Summary!$B$30:$B$1029,INDIRECT($A$14&ROW())),\"\"),\"\")","v":""}]
[{"$f":"IFERROR(IF(INDIRECT($A$14&ROW())<>\"\",COUNTIF([1]Summary!$B$30:$B$1029,INDIRECT($A$14&ROW())),\"\"),\"\")","v":""}]
[{"$f":"IFERROR(IF(INDIRECT($A$14&ROW())<>\"\",COUNTIF([1]Summary!$B$30:$B$1029,INDIRECT($A$14&ROW())),\"\"),\"\")","v":""}]
[{"$f":"IFERROR(IF(INDIRECT($A$14&ROW())<>\"\",COUNTIF([1]Summary!$B$30:$B$1029,INDIRECT($A$14&ROW())),\"\"),\"\")","v":""}]
[{"$f":"IFERROR(IF(INDIRECT($A$14&ROW())<>\"\",COUNTIF([1]Summary!$B$30:$B$1029,INDIRECT($A$14&ROW())),\"\"),\"\")","v":""}]
[{"$f":"IFERROR(IF(INDIRECT($A$14&ROW())<>\"\",COUNTIF([1]Summary!$B$30:$B$1029,INDIRECT($A$14&ROW())),\"\"),\"\")","v":""}]
[{"$f":"IFERROR(IF(INDIRECT($A$14&ROW())<>\"\",COUNTIF([1]Summary!$B$30:$B$1029,INDIRECT($A$14&ROW())),\"\"),\"\")","v":""}]
[{"$f":"IFERROR(IF(INDIRECT($A$14&ROW())<>\"\",COUNTIF([1]Summary!$B$30:$B$1029,INDIRECT($A$14&ROW())),\"\"),\"\")","v":""}]
[{"$f":"IFERROR(IF(INDIRECT($A$14&ROW())<>\"\",COUNTIF([1]Summary!$B$30:$B$1029,INDIRECT($A$14&ROW())),\"\"),\"\")","v":""}]
[{"$f":"IFERROR(IF(INDIRECT($A$14&ROW())<>\"\",COUNTIF([1]Summary!$B$30:$B$1029,INDIRECT($A$14&ROW())),\"\"),\"\")","v":""}]
[{"$f":"IFERROR(IF(INDIRECT($A$14&ROW())<>\"\",COUNTIF([1]Summary!$B$30:$B$1029,INDIRECT($A$14&ROW())),\"\"),\"\")","v":""}]
[{"$f":"IFERROR(IF(INDIRECT($A$14&ROW())<>\"\",COUNTIF([1]Summary!$B$30:$B$1029,INDIRECT($A$14&ROW())),\"\"),\"\")","v":""}]
[{"$f":"IFERROR(IF(INDIRECT($A$14&ROW())<>\"\",COUNTIF([1]Summary!$B$30:$B$1029,INDIRECT($A$14&ROW())),\"\"),\"\")","v":""}]
[{"$f":"IFERROR(IF(INDIRECT($A$14&ROW())<>\"\",COUNTIF([1]Summary!$B$30:$B$1029,INDIRECT($A$14&ROW())),\"\"),\"\")","v":""}]
[{"$f":"IFERROR(IF(INDIRECT($A$14&ROW())<>\"\",COUNTIF([1]Summary!$B$30:$B$1029,INDIRECT($A$14&ROW())),\"\"),\"\")","v":""}]
[{"$f":"IFERROR(IF(INDIRECT($A$14&ROW())<>\"\",COUNTIF([1]Summary!$B$30:$B$1029,INDIRECT($A$14&ROW())),\"\"),\"\")","v":""}]
[{"$f":"IFERROR(IF(INDIRECT($A$14&ROW())<>\"\",COUNTIF([1]Summary!$B$30:$B$1029,INDIRECT($A$14&ROW())),\"\"),\"\")","v":""}]
[{"$f":"IFERROR(IF(INDIRECT($A$14&ROW())<>\"\",COUNTIF([1]Summary!$B$30:$B$1029,INDIRECT($A$14&ROW())),\"\"),\"\")","v":""}]
[{"$f":"IFERROR(IF(INDIRECT($A$14&ROW())<>\"\",COUNTIF([1]Summary!$B$30:$B$1029,INDIRECT($A$14&ROW())),\"\"),\"\")","v":""}]
[{"$f":"IFERROR(IF(INDIRECT($A$14&ROW())<>\"\",COUNTIF([1]Summary!$B$30:$B$1029,INDIRECT($A$14&ROW())),\"\"),\"\")","v":""}]
[{"$f":"IFERROR(IF(INDIRECT($A$14&ROW())<>\"\",COUNTIF([1]Summary!$B$30:$B$1029,INDIRECT($A$14&ROW())),\"\"),\"\")","v":""}]
[{"$f":"IFERROR(IF(INDIRECT($A$14&ROW())<>\"\",COUNTIF([1]Summary!$B$30:$B$1029,INDIRECT($A$14&ROW())),\"\"),\"\")","v":""}]
[{"$f":"IFERROR(IF(INDIRECT($A$14&ROW())<>\"\",COUNTIF([1]Summary!$B$30:$B$1029,INDIRECT($A$14&ROW())),\"\"),\"\")","v":""}]
[{"$f":"IFERROR(IF(INDIRECT($A$14&ROW())<>\"\",COUNTIF([1]Summary!$B$30:$B$1029,INDIRECT($A$14&ROW())),\"\"),\"\")","v":""}]
[{"$f":"IFERROR(IF(INDIRECT($A$14&ROW())<>\"\",COUNTIF([1]Summary!$B$30:$B$1029,INDIRECT($A$14&ROW())),\"\"),\"\")","v":""}]
[{"$f":"IFERROR(IF(INDIRECT($A$14&ROW())<>\"\",COUNTIF([1]Summary!$B$30:$B$1029,INDIRECT($A$14&ROW())),\"\"),\"\")","v":""}]
[]
[null,"Copyright © 2013 by Oracle Symphony Sdn Bhd"]

{"sheet":"STOCK ANALYSIS","index":3,"n_rows":79,"n_cols":18,"rows_kept":79,"cut":false,"hidden":false,"merged":[[59,1,59,4],[61,1,61,4],[26,1,26,2],[58,1,58,2],[36,1,36,17],[28,1,28,17],[6,3,6,4],[9,3,9,4],[21,1,21,17],[41,1,41,2],[43,1,43,17]]}
[]
[]
[null,null,"MONTHLY KITCHEN STOCK SUMMARY "]
[null,null,"每月厨房货物总结表"]
[]
[]
[null,null,"OUTLET KITCHEN ","TSU"]
[null,null,"分行厨房"]
[]
[null,null,"YEAR / MONTH","OCT 2013"]
[null,null,"年/月"]
[]
[]
[]
[null,"ITEM","PRODUCT DESCRIPTION","PRICE","UOM","FOR TSU KITCHEN "]
[null,"项目","食材产品","价格","单位","A","B","C","D","E","F","G","H","I","J","K","L","M"]
[null,null,null,null,null,null,null,null,null,null,null,null,"=C+D+E+F+G","=A+B-H",null,"=J-I","=K / I","=UP*K"]
[null,null,null,null,null,"OPENING","PURCHASE","USAGE ","USAGE ","DISPOSED","USAGE ","USAGE ","TOTAL","BOOKING","STOCK ","DIFF.","DIFF.","LOSS/GAIN"]
[null,null,null,null,null,"STOCK","购买数量","IN K LUNCH ","IN SIDE ORDER","STOCK","CUSTOMER REQ","IN OTHER ","USAGE ","INVENTORY","TAKE "]
[null,null,null,null,null,"上月存货",null,"K LUNCH 用量","附加菜 用量","本月抛弃","顾客请求","其他用途","总用量","账面存货","本月点货","差异","%差异","盈亏 (RM)"]
[]
[null,"MAIN SAUCE 主要酱料"]
[null,{"$f":"[2]Database!$B23","v":"S01"},"BLACK PEPPER SAUCE",1.8,"KG 公斤",null,null,{"$f":"SUMIF('SAUCE USAGE'!$F$11:$F$12,C23,'SAUCE USAGE'!$H$11:$H$12)/1000","v":{"$error":"#N/A"}},{"$f":"SUMIF('SAUCE USAGE'!$F$43:$F$50,C23,'SAUCE USAGE'!$H$43:$H$50)/1000","v":0},null,{"$f":"SUMIF('SAUCE USAGE'!$F$15:$F$27,C23,'SAUCE USAGE'!$H$15:$H$27)/1000","v":{"$error":"#N/A"}},null,{"$f":"SUM(H23:L23)","v":{"$error":"#N/A"}},{"$f":"+F23+G23-M23","v":{"$error":"#N/A"}},{"$f":"SUMIF('CLOSING STOCK'!$B$68:$B$70,'STOCK ANALYSIS'!C23,'CLOSING STOCK'!$L$68:$L$71)","v":0},{"$f":"+O23-N23","v":{"$error":"#N/A"}},{"$f":"IF(N23=0,\"\",P23/N23)","v":{"$error":"#N/A"}},{"$f":"+P23*D23","v":{"$error":"#N/A"}}]
[null,{"$f":"[2]Database!$B24","v":"S02"},"BUTTER SAUCE ",4.4000000000000004,"KG 公斤",null,null,{"$f":"SUMIF('SAUCE USAGE'!$F$30:$F$33,C24,'SAUCE USAGE'!$H$30:$H$33)/1000","v":{"$error":"#N/A"}},{"$f":"SUMIF('SAUCE USAGE'!$F$43:$F$50,C24,'SAUCE USAGE'!$H$43:$H$50)/1000","v":{"$error":"#N/A"}},null,{"$f":"SUMIF('SAUCE USAGE'!$F$15:$F$27,C24,'SAUCE USAGE'!$H$15:$H$27)/1000","v":{"$error":"#N/A"}},null,{"$f":"SUM(H24:L24)","v":{"$error":"#N/A"}},{"$f":"+F24+G24-M24","v":{"$error":"#N/A"}},{"$f":"SUMIF('CLOSING STOCK'!$B$68:$B$70,'STOCK ANALYSIS'!C24,'CLOSING STOCK'!$L$68:$L$71)","v":0},{"$f":"+O24-N24","v":{"$error":"#N/A"}},{"$error":"#N/A"},{"$f":"+P24*D24","v":{"$error":"#N/A"}}]
[null,{"$f":"[2]Database!$B25","v":"S03"},"MUSHROOM SAUCE",2.2999999999999998,"KG 公斤",null,null,{"$f":"SUMIF('SAUCE USAGE'!$F$11:$F$12,C25,'SAUCE USAGE'!$H$11:$H$12)/1000","v":{"$error":"#N/A"}},{"$f":"SUMIF('SAUCE USAGE'!$F$43:$F$50,C25,'SAUCE USAGE'!$H$43:$H$50)/1000","v":0},null,{"$f":"SUMIF('SAUCE USAGE'!$F$15:$F$27,C25,'SAUCE USAGE'!$H$15:$H$27)/1000","v":{"$error":"#N/A"}},null,{"$error":"#N/A"},{"$f":"+F25+G25-M25","v":{"$error":"#N/A"}},{"$f":"SUMIF('CLOSING STOCK'!$B$68:$B$70,'STOCK ANALYSIS'!C25,'CLOSING STOCK'!$L$68:$L$71)","v":0},{"$error":"#N/A"},{"$error":"#N/A"},{"$error":"#N/A"}]
[]
[null,"GRAND TOTAL ",null,null,null,null,null,null,null,null,null,null,null,null,null,null,null,{"$f":"SUM(R22:R26)","v":{"$error":"#N/A"}}]
[]
[null,{"$f":"+O29*D29","v":0}]
[null,"ITEM","PRODUCT DESCRIPTION","PRICE","UOM","FOR TSU KITCHEN "]
[null,"项目","食材产品","价格","单位","A","B","C","D","E","F","G","H","I","J","K","L","M"]
[null,null,null,null,null,null,null,null,null,null,null,null,"=C+D+E+F+G","=A+B-H",null,"=J-I","=K / I","=UP*K"]
[null,null,null,null,null,"OPENING","PURCHASE","USAGE ","USAGE ","DISPOSED","USAGE ","USAGE ","TOTAL","BOOKING","STOCK ","DIFF.","DIFF.","LOSS/GAIN"]
[null,null,null,null,null,"STOCK","购买数量","IN K LUNCH ","IN SIDE ORDER","STOCK","IN STAFF FOOD","IN OTHER ","USAGE ","INVENTORY","TAKE "]
[null,null,null,null,null,"上月存货",null,"K LUNCH 用量","附加菜 用量","本月抛弃","员工餐用量","其他用途","总用量","账面存货","本月点货","差异","%差异","盈亏 (RM)"]
[]
[null,"MAIN COURSE 主餐食材"]
[null,1,"CHICKEN CHOP (MARINATED)",3,"PCS 片",null,null,{"$f":"SUMIF(#REF!,C38,#REF!)","v":{"$error":"#REF!"}},{"$f":"SUMIF('SIDE ORDER & FOC'!$Q$11:$S$183,C38,'SIDE ORDER & FOC'!$S$11:$S$183)","v":284.5},null,null,null,{"$f":"SUM(H38:L38)","v":{"$error":"#REF!"}},{"$f":"+F38+G38-M38","v":{"$error":"#REF!"}},{"$f":"SUMIF('CLOSING STOCK'!$B$15:$B$35,'STOCK ANALYSIS'!C38,'CLOSING STOCK'!$L$15:$L$35)","v":0},{"$f":"+O38-N38","v":{"$error":"#REF!"}},{"$f":"IF(N38=0,\"\",P38/N38)","v":{"$error":"#REF!"}},{"$f":"+P38*D38","v":{"$error":"#REF!"}}]
[null,{"$f":"+B38+1","v":2},"CHICKEN WINGS (MARINATED)",1.2,"PCS 片",null,null,{"$f":"SUMIF(#REF!,C39,#REF!)","v":{"$error":"#REF!"}},{"$f":"SUMIF('SIDE ORDER & FOC'!$Q$11:$S$183,C39,'SIDE ORDER & FOC'!$S$11:$S$183)","v":216},null,null,null,{"$f":"SUM(H39:L39)","v":{"$error":"#REF!"}},{"$error":"#REF!"},{"$f":"SUMIF('CLOSING STOCK'!$B$15:$B$35,'STOCK ANALYSIS'!C39,'CLOSING STOCK'!$L$15:$L$35)","v":0},{"$f":"+O39-N39","v":{"$error":"#REF!"}},{"$error":"#REF!"},{"$f":"+P39*D39","v":{"$error":"#REF!"}}]
[null,{"$f":"+B39+1","v":3},"FISH & CHIP ",2.73,"PCS 片",null,null,{"$f":"SUMIF(#REF!,C40,#REF!)","v":{"$error":"#REF!"}},{"$f":"SUMIF('SIDE ORDER & FOC'!$Q$11:$S$183,C40,'SIDE ORDER & FOC'!$S$11:$S$183)","v":70.5},null,null,null,{"$error":"#REF!"},{"$error":"#REF!"},{"$f":"SUMIF('CLOSING STOCK'!$B$15:$B$35,'STOCK ANALYSIS'!C40,'CLOSING STOCK'!$L$15:$L$35)","v":0},{"$error":"#REF!"},{"$error":"#REF!"},{"$error":"#REF!"}]
[]
[null,"GRAND TOTAL ",null,null,null,null,null,null,null,null,null,null,null,null,null,null,null,{"$f":"SUM(R37:R41)","v":{"$error":"#REF!"}}]
[]
[null,"SNACKS MATERIAL   小吃食材"]
[null,4,"MCCAIN ONION RING",0.17,"PCS 片",null,null,{"$f":"SUMIF(#REF!,C45,#REF!)","v":{"$error":"#REF!"}},{"$f":"SUMIF('SIDE ORDER & FOC'!$Q$11:$S$79,C45,'SIDE ORDER & FOC'!$S$11:$S$79)","v":272},null,null,null,{"$error":"#REF!"},{"$f":"+F45+G45-M45","v":{"$error":"#REF!"}},{"$f":"SUMIF('CLOSING STOCK'!$B$15:$B$35,'STOCK ANALYSIS'!C45,'CLOSING STOCK'!$L$15:$L$35)","v":0},{"$f":"+O45-N45","v":{"$error":"#REF!"}},{"$error":"#REF!"},{"$f":"+P45*D45","v":{"$error":"#REF!"}}]
[null,5,"MCCAIN SMILES",0.12,"PCS 片",null,null,{"$f":"SUMIF(#REF!,C46,#REF!)","v":{"$error":"#REF!"}},{"$f":"SUMIF('SIDE ORDER & FOC'!$Q$11:$S$79,C46,'SIDE ORDER & FOC'!$S$11:$S$79)","v":132},null,null,null,{"$error":"#REF!"},{"$error":"#REF!"},{"$f":"SUMIF('CLOSING STOCK'!$B$15:$B$35,'STOCK ANALYSIS'!C46,'CLOSING STOCK'!$L$15:$L$35)","v":0},{"$error":"#REF!"},{"$error":"#REF!"},{"$f":"+P46*D46","v":{"$error":"#REF!"}}]
[null,6,"MCCAIN VERSITOT",0.06,"PCS 片",null,null,{"$f":"SUMIF(#REF!,C47,#REF!)","v":{"$error":"#REF!"}},{"$f":"SUMIF('SIDE ORDER & FOC'!$Q$11:$S$79,C47,'SIDE ORDER & FOC'!$S$11:$S$79)","v":264},null,null,null,{"$error":"#REF!"},{"$error":"#REF!"},{"$f":"SUMIF('CLOSING STOCK'!$B$15:$B$35,'STOCK ANALYSIS'!C47,'CLOSING STOCK'!$L$15:$L$35)","v":0},{"$error":"#REF!"},{"$error":"#REF!"},{"$error":"#REF!"}]
[null,7,"MCCAIN SPIRAL FRIES",7.87,"KG 公斤",null,null,{"$f":"SUMIF(#REF!,C48,#REF!)","v":{"$error":"#REF!"}},{"$f":"SUMIF('SIDE ORDER & FOC'!$Q$11:$S$79,C48,'SIDE ORDER & FOC'!$S$11:$S$79)","v":2.82},null,null,null,{"$error":"#REF!"},{"$error":"#REF!"},{"$f":"SUMIF('CLOSING STOCK'!$B$15:$B$35,'STOCK ANALYSIS'!C48,'CLOSING STOCK'!$L$15:$L$35)","v":0},{"$error":"#REF!"},{"$error":"#REF!"},{"$error":"#REF!"}]
[null,8,"BBQ CHICKEN ",0.25,"PCS 片",null,null,{"$f":"SUMIF(#REF!,C49,#REF!)","v":{"$error":"#REF!"}},{"$f":"SUMIF('SIDE ORDER & FOC'!$Q$11:$S$79,C49,'SIDE ORDER & FOC'!$S$11:$S$79)","v":200},null,null,null,{"$error":"#REF!"},{"$f":"+F49+G49-M49","v":{"$error":"#REF!"}},{"$f":"SUMIF('CLOSING STOCK'!$B$15:$B$35,'STOCK ANALYSIS'!C49,'CLOSING STOCK'!$L$15:$L$35)","v":0},{"$f":"+O49-N49","v":{"$error":"#REF!"}},{"$f":"IF(N49=0,\"\",P49/N49)","v":{"$error":"#REF!"}},{"$f":"+P49*D49","v":{"$error":"#REF!"}}]
[null,7,"CHICKEN NUGGET",0.27,"PCS 片",null,null,{"$f":"SUMIF(#REF!,C50,#REF!)","v":{"$error":"#REF!"}},{"$f":"SUMIF('SIDE ORDER & FOC'!$Q$11:$S$79,C50,'SIDE ORDER & FOC'!$S$11:$S$79)","v":396},null,null,null,{"$error":"#REF!"},{"$error":"#REF!"},{"$f":"SUMIF('CLOSING STOCK'!$B$15:$B$35,'STOCK ANALYSIS'!C50,'CLOSING STOCK'!$L$15:$L$35)","v":0},{"$error":"#REF!"},{"$error":"#REF!"},{"$error":"#REF!"}]
[null,10,"CHICKEN SAUSAGE ",1.17,"PCS 片",null,null,{"$f":"SUMIF(#REF!,C51,#REF!)","v":{"$error":"#REF!"}},{"$f":"SUMIF('SIDE ORDER & FOC'!$Q$11:$S$79,C51,'SIDE ORDER & FOC'!$S$11:$S$79)","v":41},null,null,null,{"$error":"#REF!"},{"$error":"#REF!"},{"$f":"SUMIF('CLOSING STOCK'!$B$15:$B$35,'STOCK ANALYSIS'!C51,'CLOSING STOCK'!$L$15:$L$35)","v":0},{"$error":"#REF!"},{"$error":"#REF!"},{"$error":"#REF!"}]
[null,11,"FISH BALL (SMALL)",0.2,"PCS 片",null,null,{"$f":"SUMIF(#REF!,C52,#REF!)","v":{"$error":"#REF!"}},{"$f":"SUMIF('SIDE ORDER & FOC'!$Q$11:$S$79,C52,'SIDE ORDER & FOC'!$S$11:$S$79)","v":64},null,null,null,{"$error":"#REF!"},{"$error":"#REF!"},{"$f":"SUMIF('CLOSING STOCK'!$B$15:$B$35,'STOCK ANALYSIS'!C52,'CLOSING STOCK'!$L$15:$L$35)","v":0},{"$error":"#REF!"},{"$error":"#REF!"},{"$error":"#REF!"}]
[null,12,"HOT DOG BUN ",0.4,"PCS 片",null,null,{"$f":"SUMIF(#REF!,C53,#REF!)","v":{"$error":"#REF!"}},{"$f":"SUMIF('SIDE ORDER & FOC'!$Q$11:$S$79,C53,'SIDE ORDER & FOC'!$S$11:$S$79)","v":0},null,null,null,{"$error":"#REF!"},{"$error":"#REF!"},{"$f":"SUMIF('CLOSING STOCK'!$B$15:$B$35,'STOCK ANALYSIS'!C53,'CLOSING STOCK'!$L$15:$L$35)","v":0},{"$error":"#REF!"},{"$error":"#REF!"},{"$error":"#REF!"}]
[null,13,"SALAD ROLL ",0.45,"PCS 片",null,null,{"$f":"SUMIF(#REF!,C54,#REF!)","v":{"$error":"#REF!"}},{"$f":"SUMIF('SIDE ORDER & FOC'!$Q$11:$S$79,C54,'SIDE ORDER & FOC'!$S$11:$S$79)","v":96},null,null,null,{"$error":"#REF!"},{"$error":"#REF!"},{"$f":"SUMIF('CLOSING STOCK'!$B$15:$B$35,'STOCK ANALYSIS'!C54,'CLOSING STOCK'!$L$15:$L$35)","v":0},{"$error":"#REF!"},{"$error":"#REF!"},{"$error":"#REF!"}]
[null,14,"SEAFOOD TOFU ",0.26,"PCS 片",null,null,{"$f":"SUMIF(#REF!,C55,#REF!)","v":{"$error":"#REF!"}},{"$f":"SUMIF('SIDE ORDER & FOC'!$Q$11:$S$79,C55,'SIDE ORDER & FOC'!$S$11:$S$79)","v":420},null,null,null,{"$error":"#REF!"},{"$error":"#REF!"},{"$f":"SUMIF('CLOSING STOCK'!$B$15:$B$35,'STOCK ANALYSIS'!C55,'CLOSING STOCK'!$L$15:$L$35)","v":0},{"$error":"#REF!"},{"$error":"#REF!"},{"$error":"#REF!"}]
[null,15,"SPRING ROLL",0.4,"PCS 片",null,null,{"$f":"SUMIF(#REF!,C56,#REF!)","v":{"$error":"#REF!"}},{"$f":"SUMIF('SIDE ORDER & FOC'!$Q$11:$S$79,C56,'SIDE ORDER & FOC'!$S$11:$S$79)","v":44},null,null,null,{"$error":"#REF!"},{"$error":"#REF!"},{"$f":"SUMIF('CLOSING STOCK'!$B$15:$B$35,'STOCK ANALYSIS'!C56,'CLOSING STOCK'!$L$15:$L$35)","v":0},{"$error":"#REF!"},{"$error":"#REF!"},{"$error":"#REF!"}]
[]
[]
[null,"GRAND TOTAL ",null,null,null,null,null,null,null,null,null,null,null,null,null,null,null,{"$f":"SUM(R43:R58)","v":{"$error":"#REF!"}}]
[null,"**exclude the usage for lok lok bar "]
[]
[null,"COMPARISON OF TOTAL LOSSES",null,null,null,null,null,null,null,null,"COMPARISON OF ACTUAL USAGE "]
[null,"NO","CATEGORIES",null,null,"SEPT","OCT","DIFF",null,null,"NO",null,null,null,null,"SEPT","OCT","DIFF"]
[null,null,null,null,null,"RM ","RM ","%",null,null,null,null,null,null,null,"PCS","PCS","%"]
[null,1,"MAIN SAUCE 主要酱料",null,null,-91.145000000000024,{"$f":"+R27","v":{"$error":"#N/A"}},{"$f":"(+G65-F65)/F65","v":{"$error":"#N/A"}},null,null,1,"CHICKEN CHOP (MARINATED)",null,null,null,2277,{"$f":"+M38","v":{"$error":"#REF!"}},{"$f":"(+Q65-P65)/P65","v":{"$error":"#REF!"}}]
[null,2,"MAIN COURSE MATERIAL 主餐食材",null,null,-123.67500000000001,{"$f":"+R42","v":{"$error":"#REF!"}},{"$f":"(+G66-F66)/F66","v":{"$error":"#REF!"}},null,null,2,"CHICKEN WINGS (MARINATED)",null,null,null,780,{"$f":"+M39","v":{"$error":"#REF!"}},{"$f":"(+Q66-P66)/P66","v":{"$error":"#REF!"}}]
[null,3,"SNACKS MATERIAL   小吃食材",null,null,-258.0138,{"$f":"+R59","v":{"$error":"#REF!"}},{"$f":"(+G67-F67)/F67","v":{"$error":"#REF!"}},null,null,3,"FISH & CHIP ",null,null,null,741.5,{"$error":"#REF!"},{"$error":"#REF!"}]
[null,null,null,null,null,null,null,null,null,null,{"$f":"+K67+1","v":4},"MCCAIN ONION RING",null,null,null,1016,{"$f":"+M45","v":{"$error":"#REF!"}},{"$error":"#REF!"}]
[null,null,null,null,null,null,null,null,null,null,{"$f":"+K68+1","v":5},"MCCAIN SMILES",null,null,null,442,{"$f":"+M46","v":{"$error":"#REF!"}},{"$error":"#REF!"}]
[null,null,null,null,null,null,null,null,null,null,6,"MCCAIN VERSITOT",null,null,null,1100,{"$error":"#REF!"},{"$error":"#REF!"}]
[null,null,null,null,null,null,null,null,null,null,7,"MCCAIN SPIRAL FRIES",null,null,null,22.66,{"$error":"#REF!"},{"$error":"#REF!"}]
[null,null,null,null,null,null,null,null,null,null,8,"BBQ CHICKEN ",null,null,null,528,{"$error":"#REF!"},{"$error":"#REF!"}]
[null,null,null,null,null,null,null,null,null,null,9,"CHICKEN NUGGET",null,null,null,1733,{"$error":"#REF!"},{"$error":"#REF!"}]
[null,null,null,null,null,null,null,null,null,null,10,"CHICKEN SAUSAGE ",null,null,null,194,{"$error":"#REF!"},{"$error":"#REF!"}]
[null,null,null,null,null,null,null,null,null,null,11,"FISH BALL (SMALL)",null,null,null,1047,{"$error":"#REF!"},{"$error":"#REF!"}]
[null,null,null,null,null,null,null,null,null,null,12,"HOT DOG BUN ",null,null,null,46,{"$error":"#REF!"},{"$error":"#REF!"}]
[null,null,null,null,null,null,null,null,null,null,13,"SALAD ROLL ",null,null,null,278,{"$error":"#REF!"},{"$error":"#REF!"}]
[null,null,null,null,null,null,null,null,null,null,14,"SEAFOOD TOFU ",null,null,null,1094,{"$error":"#REF!"},{"$error":"#REF!"}]
[null,null,null,null,null,null,null,null,null,null,15,"SPRING ROLL",null,null,null,132,{"$error":"#REF!"},{"$error":"#REF!"}]

{"sheet":"CLOSING STOCK","index":4,"n_rows":135,"n_cols":14,"rows_kept":135,"cut":false,"hidden":false,"merged":[[11,11,11,12],[4,1,4,4],[5,1,5,4],[7,0,7,2],[11,5,11,6],[11,7,11,8],[11,9,11,10]]}
[]
[null,"LOUDSPEAKER KARAOKE "]
[null,"MONTHLY KITCHEN  STOCK TAKE "]
[]
[null,"DEPARTMENT : JB TSU OUTLET"]
[null,"DATE      : 1.12.2013 (CLOSING STOCK VALUE FOR OCT  )"]
[]
[]
["Price Changed"]
[]
[]
[null,"ITEMS 物品","中文","Packing     包装","U/P","(WHOLE PACK.)",null,"CONVERT",null,"(PARTIAL PACK)",null,"TOTAL ",null,"TOTAL "]
[null,null,null,null,"RM","Qty","UOM ",{"$f":"+F13","v":"Qty"},{"$f":"+G13","v":"UOM "},"QTY","UOM","QTY","UOM","RM "]
["FROZEN FOOD 冷冻食品"]
["(A ) MEAT 肉类","CHICKEN CHOP (MARINATED)","鸡扒","2KG/8PCS=1PKT/5PCS",3,null,"pkt",5,"pcs",null,"pcs",{"$f":"(+H15*F15)+J15","v":0},"pcs",{"$f":"+L15*E15","v":0}]
[null,"CHICKEN WINGS (MARINATED)","鸡翅","1PKT/2KG=1PKT/12PCS",1.2,null,"pkt",12,"pcs",null,"pcs",{"$f":"(+H16*F16)+J16","v":0},"pcs",{"$f":"+L16*E16","v":0}]
[null,"WHOLE CHICKEN ","全鸡",null,6.5,null,"kg ",1,"kg",null,"pcs",{"$f":"(+H17*F17)+J17","v":0},"kg",{"$f":"+L17*E17","v":0}]
[]
["( B  ) MC Cain 产品","MCCAIN ONION RING","洋葱圈","1 CTN *8 PKT *60 PCS",0.16700000000000001,null,"pkt",60,"pcs",null,"pcs",0,"pcs",{"$f":"+L19*E19","v":0}]
[null,"MCCAIN SPIRAL FRIES","卷曲薯条","1CTN *6 PKT *1.8KG",7.87,null,"pkt",1.8,"kg",null,"kg",0,"kg",{"$f":"+L20*E20","v":0}]
[null,"MCCAIN SMILES","笑脸","1CTN *6 PKT *105 PCS ",0.12,null,"pkt",105,"pcs",null,"pcs",0,"pcs ",{"$f":"+L21*E21","v":0}]
[null,"MCCAIN VERSITOT","粒粒","1CTN *6 PKT *220 PCS ",6.3E-2,null,"pkt",220,"pcs",null,"pcs",0,"pcs",{"$f":"+L22*E22","v":0}]
[]
["( C ) FISH BALL ","FISH BALL (SMALL)","鱼丸","1 PKT * 20 PCS ",0.2,null,"pkt",20,"pcs",null,"pcs",0,"pcs ",{"$f":"+L24*E24","v":0}]
[]
["(D ) OTHERS 其他","CHICKEN SAUSAGE ","鸡肉香肠","1 PKT * 9PCS",1.17,null,"pkt",9,"pcs",null,"pcs",0,"pcs ",{"$f":"+L26*E26","v":0}]
[null,"CRAB STICK (FILAMENT STICK)","蟹柳","1CTN * 16 PCS",0.125,null,"pkt",16,"pcs",null,"pcs",0,"pcs ",0]
[null,"CRINKLE CUT ( FRENCH FRIES)","薯条有牙","1CTN * 10 PKT * 1KG",4.5,null,"pkt",1,"kg",null,"kg",{"$f":"(+H28*F28)+J28","v":0},"kg",{"$f":"+L28*E28","v":0}]
[null,"SEAFOOD TOFU ","海鲜豆腐","1 PKT * 26 PCS",0.26,null,"pkt",26,"pcs",null,"pcs",0,"pcs ",0]
[null,"CHICKEN NUGGET","天妇罗鸡肉块","1PKT * 36 PCS ",0.27,null,"pkt",36,"pcs",null,"pcs",0,"pcs ",0]
[null,"SALAD ROLL ","莎拉卷","1PKT *10PCS",0.45,null,"pkt",10,"pcs",null,"pcs",0,"pcs ",0]
[null,"SPRING ROLL","春卷","1PKT *10PCS",0.4,null,"pkt",10,"pcs",null,"pcs",0,"pcs ",0]
[null,"FISH & CHIP ","鱼扒","1PKT* 5 PCS",2.73,null,"pkt",5,"pcs",null,"pcs",0,"pcs ",0]
[null,"BBQ CHICKEN ","鸡肉干","1PKT*500G *46PCS",0.25,null,"pkt",46,"pcs",null,"pcs",0,"pcs ",0]
[null,"HOT DOG BUN ","香肠面包","PCS",0.4,null,"pcs",1,{"$f":"+G35","v":"pcs"},null,"pcs",{"$f":"(+H35*F35)+J35","v":0},"pcs",{"$f":"+L35*E35","v":0}]
[]
["NOODLES 面类 "]
[null,"SPAGHETTI","意大利面","1CTN * 20PKT",4.17,null,"pkt",1,"pkt",null,"pkt",{"$f":"(+H38*F38)+J38","v":0},"pkt",{"$f":"+L38*E38","v":0}]
[null,"SU HOON","冬粉","1 PKT * 5KG ",5,null,"pkt",1,"pkt",null,"pkt",{"$f":"(+H39*F39)+J39","v":0},"pkt",{"$f":"+L39*E39","v":0}]
[null,"UDON NOODLES","乌东面","1 CTN * 30 PKT *200G",1.1000000000000001,null,"ctn",1,"pkt",null,"pkt",{"$f":"(+H40*F40)+J40","v":0},"pkt",{"$f":"+L40*E40","v":0}]
[null,"MEE HOON","米粉","1PKT * 2.5kg",8.5,null,"pkt",1,"pkt",null,"pkt",{"$f":"(+H41*F41)+J41","v":0},"pkt",{"$f":"+L41*E41","v":0}]
[]
["RICE米"]
[null,"THAI FRAGRANT RICE (AAA) ","香米","1 PKT * 50 KG ",180,null,"PKT",1,"PKT",null,null,{"$f":"(+H44*F44)+J44","v":0},"PKT",{"$f":"+L44*E44","v":0}]
[]
["CONDIMENT 调味料"]
["(A ) Soy  sauce生抽","SOY SAUCE ( B)","上生抽（小）","1 TUB * 5.4 KG ",17,null,"btl",1,{"$f":"+G47","v":"btl"},null,"btl",{"$f":"(+H47*F47)+J47","v":0},"btl",{"$f":"+L47*E47","v":0}]
[null,"DARK SOY SAUCE (SPECIAL A)","金珠油","1TUB * 5KG",29.8,null,"btl",{"$f":"+H47","v":1},{"$f":"+G48","v":"btl"},null,"btl",{"$f":"(+H48*F48)+J48","v":0},"btl",{"$f":"+L48*E48","v":0}]
[null,"OYSTER SAUCE ( SPECIAL ) ","上蚝油","1 TUB * 5 KG ",16,null,"btl",{"$f":"+H48","v":1},{"$f":"+G49","v":"btl"},null,"btl",{"$f":"(+H49*F49)+J49","v":0},"btl",{"$f":"+L49*E49","v":0}]
[]
["(B) Chilli / Tomato "]
[null,"CHILI SAUCE ( A )","辣椒酱","1 TUB  * 4.9 kg",12.5,null,"tub",1,{"$f":"+G52","v":"tub"},null,"tub",{"$f":"(+H52*F52)+J52","v":0},"tub",{"$f":"+L52*E52","v":0}]
[null,"THAI CHILI SAUCE ","泰式酱","1 TUB  *3.2kg",21,null,"tub",1,{"$f":"+G53","v":"tub"},null,"tub",0,"tub",0]
[null,"TOMATO SAUCE (SPECIAL)","番茄酱","1 TUB * 5 KG ",15,null,"tub",1,{"$f":"+G54","v":"tub"},null,"tub",0,"tub",0]
[]
["(C ) Salad Sauce 沙拉酱"]
["-LADY  CHOICE ","LC TARTAR SAUCE","鞑靼酱","1CTN*4 TUB *3LIT",30,null,"tub",1,{"$f":"+G57","v":"tub"},null,{"$f":"+G57","v":"tub"},0,{"$f":"+G57","v":"tub"},0]
[null,"LC THOUSAND ISLAND DRESSING                       ","千岛酱","1 CTN*6 TUB *2.4 LIT ",23.8,null,"tub",1,{"$f":"+G58","v":"tub"},null,{"$f":"+G58","v":"tub"},0,{"$f":"+G58","v":"tub"},0]
[null,"LC REAL MAYONNAISE ","蛋黄酱","1CTN*4 TUB *3LIT",28,null,"tub",1,{"$f":"+G59","v":"tub"},null,{"$f":"+G59","v":"tub"},0,{"$f":"+G59","v":"tub"},0]
[null,"LC COLESLAW DRESSING ","沙拉酱","1CTN*4 TUB *3LIT",26.9,null,"tub",1,{"$f":"+G60","v":"tub"},null,{"$f":"+G60","v":"tub"},0,{"$f":"+G60","v":"tub"},0]
["(D)OTHER 其他"]
[null,"NACHO CHEESE DIP","NACHO 酱","1 CTN*4TONG*2.9LIT",16.55,null,"btl",1,{"$f":"+G62","v":"btl"},null,"btl",0,"btl",0]
[null,"WINE HUA TIAO CHEW   ( SHAO HSING)                                         ","花雕酒（绍兴）","1BTL * 640ML",5.8,null,"btl",1,{"$f":"+G63","v":"btl"},null,"btl",{"$f":"(+H63*F63)+J63","v":0},"btl",{"$f":"+L63*E63","v":0}]
[null,"FISH SAUCE","鱼露","1BTL",2.4,null,"btl",1,{"$f":"+G64","v":"btl"},null,"btl",{"$f":"(+H64*F64)+J64","v":0},"btl",{"$f":"+L64*E64","v":0}]
[null,"HP SAUCE","HP 酱","1BTL",9,null,"btl",1,{"$f":"+G65","v":"btl"},null,"btl",{"$f":"(+H65*F65)+J65","v":0},"btl",{"$f":"+L65*E65","v":0}]
[]
["PREPARED SAUCE 自制酱料"]
[null,"BLACK PEPPER SAUCE","黑椒酱","1 PKT * 3.8 KG",3.22,null,"pkt",1,"kg",null,"kg",{"$f":"(+H68*F68)+J68","v":0},"kg",{"$f":"+L68*E68","v":0}]
[null,"BUTTER SAUCE ","奶油酱","1 PKT * 2.6 KG",9.7100000000000009,null,"pkt",1,"kg",null,"kg",{"$f":"(+H69*F69)+J69","v":0},"kg",{"$f":"+L69*E69","v":0}]
[null,"MUSHROOM SAUCE","蘑菇酱","1 PKT * 4 KG",5.42,null,"pkt",1,"kg",null,"kg",{"$f":"(+H70*F70)+J70","v":0},"kg",{"$f":"+L70*E70","v":0}]
[]
["OIL 油类"]
[null,"COOKING OIL ( KNIFE)","刀标食用油","1CTN*4TONG*5KG",14.7,null,"btl",4,"tong ",null,"tong ",{"$f":"(+H73*F73)+J73","v":0},"btl",{"$f":"+L73*E73","v":0}]
[null,"ESSENTIAL FRAGRANCE OIL","清香油 ","1CTN*4TONG*5KG",13.35,null,"btl",4,{"$f":"+G74","v":"btl"},null,"btl",{"$f":"(+H74*F74)+J74","v":0},"btl",{"$f":"+L74*E74","v":0}]
[null,"HAI WANG OIL","海王生油","1CTN*4TONG*5KG",14.7,null,"ctn ",4,{"$f":"+G75","v":"ctn "},null,"btl",{"$f":"(+H75*F75)+J75","v":0},"btl",{"$f":"+L75*E75","v":0}]
[null,"SESAME OIL  （SPECIAL)","红麻油 ","1 BTL * 750 ML ",43,null,"btl",1,{"$f":"+G76","v":"btl"},null,"btl",{"$f":"(+H76*F76)+J76","v":0},"btl",{"$f":"+L76*E76","v":0}]
[]
["POWDER 粉类"]
["(A)KNORR BRAND","KN CHICKEN STOCK                                         ","(家乐)鸡精粉","1CTN *6PKT *1.2 kg",18.600000000000001,null,"pkt",1,{"$f":"+G79","v":"pkt"},null,null,{"$f":"(+H79*F79)+J79","v":0},"pkt",{"$f":"+L79*E79","v":0}]
[null,"KN DEMI-GLACE BROWN SAUCE MIX               ","(家乐)黄揭汁粉","1CTN *6PKT *1 kg",20.5,null,"pkt",1,"pkt",null,null,0,"pkt",0]
[]
["(B)FLOUR","FLOUR SUPERIOR (WINDMILL)                              ","风车粉","1PKT *1KG",7.5,null,"pkt",1,"pkt",null,null,0,"pkt",0]
[null,"FLOUR TAPIOCA                                                      ","薯粉","1PKT *1KG",2.6,null,"pkt",1,"pkt",null,null,0,"pkt",0]
[null,"FLOUR WHEAT (ANCHOR)                                ","面粉","1PKT *1KG",2.2000000000000002,null,"pkt",1,"pkt",null,null,0,"pkt",0]
[null,"ADABI TEPUNG AYAM","炸鸡粉","1PKT * 250G",3.3,null,"pkt",1,"pkt",null,null,0,"pkt",0]
[null,"AJINORIKI ","味精粉","1CTN*20PKT*1KG",8.5,null,"pkt",1,"pkt",null,null,0,"pkt",0]
[null,"POWDER CURRY (BABA)","(BABA)加厘粉","1PKT * 250G",3.4,null,"pkt",1,"pkt",null,null,0,"pkt",0]
[null,"POWDER CURRY (BABA)","(BABA)加厘粉","1PKT * 1KG ",14,null,"pkt",1,"pkt",null,null,{"$f":"(+H88*F88)+J88","v":0},"pkt",{"$f":"+L88*E88","v":0}]
[null,"POWDER CURRY WATCH BRAND (ENGLAND)                     ","英式咖哩粉","1CTN*36BTL *115G",6,null,"pkt",1,"pkt",null,null,0,"pkt",0]
[null,"POWDER CUSTARD","鸡仔粉","1PKT * 300GM",3.8,null,"pkt",1,"pkt",null,null,0,"pkt",0]
[null,"POWDER WHITE PEPPER                                     ","白胡椒粉(平)","1PKT * 300GM",5.5,null,"pkt",1,"pkt",null,null,0,"pkt",0]
[null,"POWDER BLACK PEPPER                                     ","黑胡椒粉(平)","1PKT * 300GM",8.6999999999999993,null,"pkt",1,"pkt",null,null,{"$f":"(+H92*F92)+J92","v":0},"pkt",0]
[null,"PEPPER BLACK (CORN WHOLE)                          ","黑胡椒粒","PER KG",29,null,"pkt",1,"pkt",null,null,0,"pkt",0]
[null,"ROYAL BAKING POWDER ","发酵粉","1BTL * 450 G",12,null,"pkt",1,"pkt",null,null,0,"pkt",0]
[null,"ZONG WEI ","总味","1PKT * 500 G",5.65,null,"pkt",1,"pkt",null,null,0,"pkt",0]
[]
["CREAM/ MILK / JUICE 忌廉 /牛奶 /汁"]
[null,"CARNATION MILK","淡奶","1CTN *48 CAN *400G",2.8,null,"can",1,"can",null,null,{"$f":"(+H98*F98)+J98","v":0},{"$f":"+G98","v":"can"},{"$f":"+L98*E98","v":0}]
[null,"MILK TEA POT                                                          ","茶壶牛奶","1CTN *48 CAN *505G",2.6,null,"can",{"$f":"+H98","v":1},{"$f":"+I98","v":"can"},null,null,null,{"$f":"+G99","v":"can"},{"$f":"+L99*E99","v":0}]
[null,"MILK COCONUT (RASAKU)                                    ","椰浆水","1PKT",2.2999999999999998,null,"pkt",1,"pkt",null,null,null,{"$f":"+G100","v":"pkt"},{"$f":"+L100*E100","v":0}]
[null,"(ANCHOR )FULL CREAM MLIK-UHT","全脂速溶奶粉","1CTN*12PKT * 1 LIT",{"$f":"52.2/12","v":4.3500000000000005},null,"pkt",1,"pkt",null,null,{"$f":"(+H101*F101)+J101","v":0},{"$f":"+G101","v":"pkt"},{"$f":"+L101*E101","v":0}]
[]
["EGG 鸡蛋"]
[null,"EGG","鸡蛋","1TRAY * 30 PCS ",0.36,null,"PCS",1,"PCS",null,null,{"$f":"(+H104*F104)+J104","v":0},"PCS",{"$f":"+L104*E104","v":0}]
[]
["SUGER / SALT 糖与盐"]
[null,"COARSE SUGAR ","粗糖","1 PKT * 1 KG",2.5,null,"pkt",1,"pkt",null,"pkt",{"$f":"(+H107*F107)+J107","v":0},"pkt",{"$f":"+L107*E107","v":0}]
[null,"CASTER SUGAR ","幼糖","1 PKT * 500 G",2.5,null,"pkt",1,"pkt",null,"pkt",{"$f":"(+H108*F108)+J108","v":0},"pkt",{"$f":"+L108*E108","v":0}]
[null,"SOFT BROWN SUGAR ","黄糖","1 PKT * 500 G",2.8,null,"pkt",1,"pkt",null,"pkt",null,"pkt",{"$f":"+L109*E109","v":0}]
[null,"VACUUM SALT ","幼盐","1PKT*20BAG * 400 G",0.43,null,"pkt",1,"pkt",null,"pkt",{"$f":"(+H110*F110)+J110","v":0},"pkt",{"$f":"+L110*E110","v":0}]
[]
["GROCERIES 杂货"]
[null,"A1 CHICKEN SOUP ","A1 鸡汤料","1 PKT * 35 G",4.7,null,"pkt",1,{"$f":"+G113","v":"pkt"},null,null,{"$f":"(+H113*F113)+J113","v":0},"pkt",{"$f":"+L113*E113","v":0}]
[null,"MUSHROOM (CAN )","罐头蘑菇","CAN ",{"$f":"12.25/5","v":2.4500000000000002},null,"can",1,"can",null,null,{"$f":"(+H114*F114)+J114","v":0},"can",{"$f":"+L114*E114","v":0}]
[null,"SARDINE ","沙丁鱼","CAN ",2.5,null,"can",1,"can ",null,null,{"$f":"(+H115*F115)+J115","v":0},"can",{"$f":"+L115*E115","v":0}]
[null,"BAKED BEAN","茄汁豆","1CTN*24CAN*425G ",1.84,null,"can",1,{"$f":"+G116","v":"can"},null,null,0,"can",0]
[null,"BEANCURD RED PRESERVED","南乳(罐)","1 CTN *36BTL *250G",1.95,null,"can",1,{"$f":"+G117","v":"can"},null,null,0,"can",0]
[null,"BEANCURD WHITE PRESERVED                ","大石付乳","1 CTN *36BTL *350G",2.2999999999999998,null,"can",1,"can",null,null,0,"can",0]
[null,"BREADCRUMB (SWISSBEAR)","面包碎","1CTN * 8 PKT * 1 KG",6,null,"pkt",1,"pkt",null,null,0,"pkt",0]
[null,"SILVER FISH","江鱼仔","PER KG",29,null,"pkt",1,"pkt",null,null,0,"kg",0]
[null,"IKAN MASIN","咸鱼",null,12,null,"pkt",1,"pkt",null,null,0,"pkt",0]
["G.TOTAL FOR FOOD MATERIAL  ",null,null,null,null,null,null,null,null,null,null,null,null,{"$f":"SUM(N12:N121)","v":0}]
["OTHERS 其他"]
[null,"DISHWASHING ","洗碗精","1DRUM *10 LIT",14,null,"drum",1,"drum",null,null,0,"drum",0]
[null,"LUNCH BOX","午餐饭盒","PCS",6.9000000000000006E-2,null,"pcs",1,"pcs",null,null,0,"pcs",0]
[null,"H/M Roll","透明纸袋","10\" * 16\"  (1PKT*1KG)",8,null,"roll",1,{"$f":"+G126","v":"roll"},null,null,{"$f":"(+F126*H126)+J126","v":0},{"$f":"+G126","v":"roll"},0]
[null,"H/M Roll","透明纸袋","8\" * 10\" (1PKT*700G)",8,null,"roll",1,{"$f":"+G127","v":"roll"},null,null,{"$f":"(+F127*H127)+J127","v":0},{"$f":"+G127","v":"roll"},0]
[null,"OIL ABSORBING PAPER ","吸油纸 (长）","1CTN * 16 PKT * 250 PCS",5.125,null,"ctn",16,{"$f":"+G128","v":"ctn"},null,"pkt",{"$f":"(+F128*H128)+J128","v":0},"pkt",{"$f":"+L128*E128","v":0}]
[null,"DOYLEY PAPER","花边吸油纸","1CTN * 8 PKT * 200PCS",10,null,"ctn",8,"pkt",null,"pkt",{"$f":"(+H129*F129)+J129","v":0},"pkt",{"$f":"+L129*E129","v":0}]
[]
[]
["G.TOTAL  ( FOOD MATERIAL + OTHERS)",null,null,null,null,null,null,null,null,null,null,null,null,{"$f":"+N122+N124+N125+N126+N127+N128+N129","v":0}]
[]
["REMARKS:"]
["XIAO SHU BOUGHT FROM MINI SKUDAI ( LUNCH BOX  , H/M ROLL )"]

{"sheet":"DAILY FOC ","index":5,"n_rows":79,"n_cols":68,"rows_kept":79,"cut":false,"hidden":true,"merged":[[6,12,6,13],[6,14,6,15],[6,16,6,17],[6,50,6,51],[6,52,6,53],[6,30,6,31],[6,32,6,33],[6,34,6,35],[6,36,6,37],[6,38,6,39],[6,40,6,41],[0,0,0,11],[6,42,6,43],[6,44,6,45],[6,46,6,47],[6,48,6,49],[6,18,6,19],[6,20,6,21],[6,22,6,23],[6,24,6,25],[6,26,6,27],[6,28,6,29],[6,2,6,3],[6,4,6,5],[6,6,6,7],[6,8,6,9],[6,10,6,11],[6,54,6,55],[6,56,6,57],[6,58,6,59],[6,60,6,61],[6,62,6,63]]}
["MONTHLY FOC RECORD"]
[]
[{"$f":"+'SIDE ORDER & FOC'!A3","v":"Outlet :"},{"$f":"+'SIDE ORDER & FOC'!B3","v":"TSU OUTLET "}]
[{"$f":"+'SIDE ORDER & FOC'!A4","v":"Month :"},{"$f":"+'SIDE ORDER & FOC'!B4","v":"2013-11-01"}]
[]
[]
["Item","S/P",1,null,{"$f":"+C7+1","v":2},null,{"$f":"+E7+1","v":3},null,{"$f":"+G7+1","v":4},null,{"$f":"+I7+1","v":5},null,{"$f":"+K7+1","v":6},null,{"$f":"+M7+1","v":7},null,{"$f":"+O7+1","v":8},null,{"$f":"+Q7+1","v":9},null,{"$f":"+S7+1","v":10},null,{"$f":"+U7+1","v":11},null,{"$f":"+W7+1","v":12},null,{"$f":"+Y7+1","v":13},null,{"$f":"+AA7+1","v":14},null,{"$f":"+AC7+1","v":15},null,{"$f":"+AE7+1","v":16},null,{"$f":"+AG7+1","v":17},null,{"$f":"+AI7+1","v":18},null,{"$f":"+AK7+1","v":19},null,{"$f":"+AM7+1","v":20},null,{"$f":"+AO7+1","v":21},null,{"$f":"+AQ7+1","v":22},null,{"$f":"+AS7+1","v":23},null,{"$f":"+AU7+1","v":24},null,{"$f":"+AW7+1","v":25},null,{"$f":"+AY7+1","v":26},null,{"$f":"+BA7+1","v":27},null,{"$f":"+BC7+1","v":28},null,{"$f":"+BE7+1","v":29},null,{"$f":"+BG7+1","v":30},null,{"$f":"+BI7+1","v":31},null,null,"TOTAL","TOTAL","%"]
[null,"RM","Q","RM","Q","RM","Q","RM","Q","RM","Q","RM","Q","RM","Q","RM","Q","RM","Q","RM","Q","RM","Q","RM","Q","RM","Q","RM","Q","RM","Q","RM","Q","RM","Q","RM","Q","RM","Q","RM","Q","RM","Q","RM","Q","RM","Q","RM","Q","RM","Q","RM","Q","RM","Q","RM","Q","RM","Q","RM","Q","RM","Q","RM",null,"Q","RM"]
["11401:Add Rice-加饭",{"$f":"SUMIF('SIDE ORDER & FOC'!$B$11:$B$77,'DAILY FOC '!A9,'SIDE ORDER & FOC'!$C$11:$C$77)","v":0},0,{"$f":"C9*B9","v":0},0,{"$f":"E9*B9","v":0},0,{"$f":"G9*B9","v":0},0,{"$f":"I9*B9","v":0},0,{"$f":"K9*B9","v":0},0,{"$f":"M9*B9","v":0},0,{"$f":"O9*B9","v":0},0,{"$f":"Q9*B9","v":0},0,{"$f":"S9*B9","v":0},0,{"$f":"U9*B9","v":0},0,{"$f":"W9*B9","v":0},0,{"$f":"Y9*B9","v":0},0,{"$f":"AA9*B9","v":0},0,{"$f":"AC9*B9","v":0},0,{"$f":"AE9*B9","v":0},0,{"$f":"AG9*B9","v":0},0,{"$f":"AI9*B9","v":0},0,{"$f":"AK9*B9","v":0},0,{"$f":"AM9*B9","v":0},0,{"$f":"AO9*B9","v":0},0,{"$f":"AQ9*B9","v":0},0,{"$f":"AS9*B9","v":0},0,{"$f":"AU9*B9","v":0},0,{"$f":"AW9*B9","v":0},0,{"$f":"AY9*B9","v":0},0,{"$f":"BA9*B9","v":0},0,{"$f":"BC9*B9","v":0},0,{"$f":"BE9*B9","v":0},0,{"$f":"BG9*B9","v":0},0,{"$f":"BI9*B9","v":0},0,{"$f":"BK9*B9","v":0},null,{"$f":"C9+E9+G9+I9+K9+M9+O9+Q9+S9+U9+W9+Y9+AA9+AC9+AE9+AG9+AI9+AK9+AM9+AO9+AQ9+AS9+AU9+AW9+AY9+BA9+BC9+BE9+BG9+BI9+BK9","v":0},{"$f":"BN9*B9","v":0}]
["11402:Add Egg-加蛋",{"$f":"SUMIF('SIDE ORDER & FOC'!$B$11:$B$77,'DAILY FOC '!A10,'SIDE ORDER & FOC'!$C$11:$C$77)","v":0},0,0,0,0,0,0,0,0,0,0,0,0,0,0,0,0,0,0,0,0,0,0,0,0,0,0,0,0,0,0,0,0,0,0,0,0,0,0,0,0,0,0,0,0,0,0,0,0,0,0,0,0,0,0,0,0,0,0,0,0,0,0,null,{"$f":"C10+E10+G10+I10+K10+M10+O10+Q10+S10+U10+W10+Y10+AA10+AC10+AE10+AG10+AI10+AK10+AM10+AO10+AQ10+AS10+AU10+AW10+AY10+BA10+BC10+BE10+BG10+BI10+BK10","v":0},0]
["11501:C01-泰式鸡饭",{"$f":"SUMIF('SIDE ORDER & FOC'!$B$11:$B$77,'DAILY FOC '!A11,'SIDE ORDER & FOC'!$C$11:$C$77)","v":0},0,0,0,0,0,0,0,0,0,0,0,0,0,0,0,0,0,0,0,0,0,0,0,0,0,0,0,0,0,0,0,0,0,0,0,0,0,0,0,0,1,0,0,0,0,0,0,0,0,0,0,0,0,0,0,0,0,0,1,0,0,0,null,2,0]
["11502:C02-妈蜜鸡饭",{"$f":"SUMIF('SIDE ORDER & FOC'!$B$11:$B$77,'DAILY FOC '!A12,'SIDE ORDER & FOC'!$C$11:$C$77)","v":0},0,0,0,0,0,0,0,0,0,0,0,0,0,0,0,0,0,0,0,0,0,0,0,0,0,0,0,0,0,0,0,0,0,0,0,0,0,0,0,0,0,0,0,0,0,0,0,0,0,0,0,0,0,0,0,0,0,0,0,0,0,0,null,0,0]
["11505:C03-奶油鸡饭",{"$f":"SUMIF('SIDE ORDER & FOC'!$B$11:$B$77,'DAILY FOC '!A13,'SIDE ORDER & FOC'!$C$11:$C$77)","v":0},0,0,0,0,0,0,0,0,0,0,0,0,0,0,0,0,0,0,0,0,0,0,0,0,0,0,0,0,0,0,0,0,0,0,0,0,0,0,0,0,0,0,1,0,0,0,0,0,0,0,0,0,0,0,0,0,0,0,1,0,0,0,null,2,0]
["11506:C04-港式炒饭",{"$f":"SUMIF('SIDE ORDER & FOC'!$B$11:$B$77,'DAILY FOC '!A14,'SIDE ORDER & FOC'!$C$11:$C$77)","v":0},0,0,0,0,0,0,0,0,0,0,0,0,0,0,0,0,0,0,0,0,0,0,0,0,0,0,0,0,0,0,0,0,0,0,0,0,0,0,0,0,0,0,0,0,0,0,0,0,0,0,0,0,0,0,0,0,0,0,0,0,0,0,null,0,0]
["11507:C07-泰式鱼扒饭",{"$f":"SUMIF('SIDE ORDER & FOC'!$B$11:$B$77,'DAILY FOC '!A15,'SIDE ORDER & FOC'!$C$11:$C$77)","v":0},0,0,0,0,0,0,0,0,0,0,0,0,0,0,0,0,0,0,0,0,0,0,0,0,0,0,0,0,0,0,0,0,0,0,0,0,0,0,0,0,0,0,0,0,0,0,0,0,0,0,0,0,0,0,0,0,0,0,0,0,0,0,null,0,0]
["11508:C08-妈蜜鱼扒饭",{"$f":"SUMIF('SIDE ORDER & FOC'!$B$11:$B$77,'DAILY FOC '!A16,'SIDE ORDER & FOC'!$C$11:$C$77)","v":0},0,0,0,0,0,0,0,0,0,0,0,0,0,0,0,0,0,0,0,0,0,0,0,0,0,0,0,0,0,0,0,0,0,0,0,0,0,0,0,0,0,0,0,0,0,0,0,0,0,0,0,0,0,0,0,0,0,0,0,0,0,0,null,0,0]
["11509:C09-奶油鱼扒饭",{"$f":"SUMIF('SIDE ORDER & FOC'!$B$11:$B$77,'DAILY FOC '!A17,'SIDE ORDER & FOC'!$C$11:$C$77)","v":0},0,0,0,0,0,0,0,0,0,0,0,0,0,0,0,0,0,0,0,0,0,0,0,0,0,0,0,0,0,0,0,0,0,0,0,0,0,0,0,0,0,0,0,0,0,0,0,0,0,0,0,0,0,0,0,0,0,0,0,0,0,0,null,0,0]
["11510:C05-黑椒乌冬面",{"$f":"SUMIF('SIDE ORDER & FOC'!$B$11:$B$77,'DAILY FOC '!A18,'SIDE ORDER & FOC'!$C$11:$C$77)","v":0},0,{"$f":"C18*B18","v":0},0,0,0,0,0,0,0,0,0,0,0,0,0,0,0,0,0,0,0,0,0,0,0,0,0,0,0,0,0,0,0,0,0,0,0,0,0,0,0,0,0,0,0,0,0,0,0,0,0,0,0,0,0,0,0,0,0,0,0,0,null,0,0]
["11517:S02-小薯脆脆",{"$f":"SUMIF('SIDE ORDER & FOC'!$B$11:$B$77,'DAILY FOC '!A19,'SIDE ORDER & FOC'!$C$11:$C$77)","v":0},0,0,0,0,0,0,0,0,0,0,0,0,0,0,0,0,0,0,0,0,0,0,0,0,0,0,0,0,0,0,0,0,0,0,0,0,0,0,0,0,0,0,0,0,0,0,0,0,0,0,0,0,0,0,0,0,0,0,0,0,0,0,null,0,0]
["11519:S06-小小鱼丸",{"$f":"SUMIF('SIDE ORDER & FOC'!$B$11:$B$77,'DAILY FOC '!A20,'SIDE ORDER & FOC'!$C$11:$C$77)","v":0},0,0,0,0,0,0,0,0,0,0,0,0,0,0,0,0,0,0,0,0,0,0,0,0,0,0,0,0,0,0,0,0,0,0,0,0,0,0,0,0,0,0,0,0,0,0,0,0,0,0,0,0,0,0,0,0,0,0,0,0,0,0,null,0,0]
["11521:S12-家乡春卷",{"$f":"SUMIF('SIDE ORDER & FOC'!$B$11:$B$77,'DAILY FOC '!A21,'SIDE ORDER & FOC'!$C$11:$C$77)","v":0},0,0,0,0,0,0,0,0,0,0,0,0,0,0,0,0,0,0,0,0,0,0,0,0,0,0,0,0,0,0,0,0,0,0,0,0,0,0,0,0,0,0,0,0,0,0,0,0,0,0,0,0,0,0,0,0,0,0,0,0,0,0,null,0,0]
["11522:S11-洋葱圈圈",{"$f":"SUMIF('SIDE ORDER & FOC'!$B$11:$B$77,'DAILY FOC '!A22,'SIDE ORDER & FOC'!$C$11:$C$77)","v":0},0,0,0,0,0,0,0,0,0,0,0,0,0,0,0,0,0,0,0,0,0,0,0,0,0,0,0,0,1,0,0,0,0,0,0,0,0,0,0,0,0,0,0,0,0,0,0,0,0,0,0,0,0,0,0,0,0,0,0,0,0,0,null,1,0]
["11525:S07-小鸡块块",{"$f":"SUMIF('SIDE ORDER & FOC'!$B$11:$B$77,'DAILY FOC '!A23,'SIDE ORDER & FOC'!$C$11:$C$77)","v":0},0,0,0,0,0,0,0,0,0,0,0,0,0,0,0,0,0,0,0,0,0,0,0,0,0,0,0,0,0,0,0,0,0,0,0,0,0,0,0,0,0,0,0,0,0,0,0,0,0,0,0,0,0,0,0,0,0,0,0,0,0,0,null,0,0]
["11528:S05-小乳鸡翅",{"$f":"SUMIF('SIDE ORDER & FOC'!$B$11:$B$77,'DAILY FOC '!A24,'SIDE ORDER & FOC'!$C$11:$C$77)","v":0},0,0,0,0,0,0,0,0,0,0,0,0,1,0,0,0,0,0,0,0,0,0,0,0,0,0,0,0,0,0,0,0,0,0,0,0,0,0,0,0,0,0,0,0,0,0,0,0,0,0,0,0,0,0,0,0,0,0,0,0,0,0,null,1,0]
["11525:S05-小鸡块块",{"$f":"SUMIF('SIDE ORDER & FOC'!$B$11:$B$77,'DAILY FOC '!A25,'SIDE ORDER & FOC'!$C$11:$C$77)","v":0},0,0,0,0,0,0,0,0,0,0,0,0,0,0,0,0,0,0,0,0,0,0,0,0,0,0,0,0,0,0,0,0,0,0,0,0,0,0,0,0,0,0,0,0,0,0,0,0,0,0,0,0,0,0,0,0,0,0,0,0,0,0,null,0,0]
["11528:S07-小乳鸡翅",{"$f":"SUMIF('SIDE ORDER & FOC'!$B$11:$B$77,'DAILY FOC '!A26,'SIDE ORDER & FOC'!$C$11:$C$77)","v":0},0,0,0,0,0,0,0,0,0,0,0,0,0,0,0,0,0,0,0,0,0,0,0,0,0,0,0,0,0,0,0,0,0,0,0,0,0,0,0,0,0,0,0,0,0,0,0,0,0,0,0,0,0,0,0,0,0,0,0,0,0,0,null,0,0]
["11531:W01-香煎鸡扒",{"$f":"SUMIF('SIDE ORDER & FOC'!$B$11:$B$77,'DAILY FOC '!A27,'SIDE ORDER & FOC'!$C$11:$C$77)","v":0},0,0,0,0,0,0,0,0,0,0,0,0,1,0,0,0,0,0,0,0,0,0,0,0,0,0,0,0,1,0,0,0,0,0,0,0,0,0,0,0,0,0,0,0,4,0,0,0,0,0,0,0,0,0,0,0,0,0,0,0,0,0,null,6,0]
["11532:W03-马里兰鸡扒",{"$f":"SUMIF('SIDE ORDER & FOC'!$B$11:$B$77,'DAILY FOC '!A28,'SIDE ORDER & FOC'!$C$11:$C$77)","v":0},0,0,0,0,0,0,0,0,0,0,0,0,0,0,0,0,0,0,0,0,0,0,0,0,0,0,0,0,0,0,0,0,0,0,0,0,0,0,0,0,0,0,0,0,0,0,0,0,0,0,0,0,0,0,0,0,0,0,0,0,0,0,null,0,0]
["11533:W02-香炸鱼扒",{"$f":"SUMIF('SIDE ORDER & FOC'!$B$11:$B$77,'DAILY FOC '!A29,'SIDE ORDER & FOC'!$C$11:$C$77)","v":0},0,0,0,0,0,0,0,0,0,0,0,0,0,0,0,0,0,0,0,0,0,0,0,0,0,0,0,0,0,0,0,0,0,0,0,0,0,0,0,0,0,0,0,0,0,0,0,0,0,0,0,0,0,0,0,0,0,0,0,0,0,0,null,0,0]
["11535:W04-鸡扒沙拉",{"$f":"SUMIF('SIDE ORDER & FOC'!$B$11:$B$77,'DAILY FOC '!A30,'SIDE ORDER & FOC'!$C$11:$C$77)","v":0},0,0,1,0,0,0,0,0,0,0,0,0,0,0,0,0,0,0,0,0,0,0,0,0,0,0,0,0,0,0,0,0,0,0,0,0,0,0,0,0,0,0,0,0,0,0,0,0,0,0,0,0,0,0,0,0,0,0,0,0,0,0,null,1,0]
["11540:S01-小热狗包",{"$f":"SUMIF('SIDE ORDER & FOC'!$B$11:$B$77,'DAILY FOC '!A31,'SIDE ORDER & FOC'!$C$11:$C$77)","v":0},0,0,0,0,0,0,0,0,0,0,0,0,0,0,0,0,0,0,0,0,0,0,0,0,0,0,0,0,0,0,0,0,0,0,0,0,0,0,0,0,0,0,0,0,0,0,0,0,0,0,0,0,0,0,0,0,0,0,0,0,0,0,null,0,0]
["11542:S04-小肠弯弯",{"$f":"SUMIF('SIDE ORDER & FOC'!$B$11:$B$77,'DAILY FOC '!A32,'SIDE ORDER & FOC'!$C$11:$C$77)","v":0},0,{"$f":"C32*B32","v":0},0,{"$f":"E32*B32","v":0},0,{"$f":"G32*B32","v":0},0,{"$f":"I32*B32","v":0},0,{"$f":"K32*B32","v":0},0,{"$f":"M32*B32","v":0},0,{"$f":"O32*B32","v":0},0,{"$f":"Q32*B32","v":0},0,{"$f":"S32*B32","v":0},0,{"$f":"U32*B32","v":0},0,{"$f":"W32*B32","v":0},0,{"$f":"Y32*B32","v":0},0,{"$f":"AA32*B32","v":0},0,{"$f":"AC32*B32","v":0},0,{"$f":"AE32*B32","v":0},0,{"$f":"AG32*B32","v":0},0,{"$f":"AI32*B32","v":0},0,{"$f":"AK32*B32","v":0},0,{"$f":"AM32*B32","v":0},0,{"$f":"AO32*B32","v":0},0,{"$f":"AQ32*B32","v":0},0,{"$f":"AS32*B32","v":0},0,{"$f":"AU32*B32","v":0},0,{"$f":"AW32*B32","v":0},0,{"$f":"AY32*B32","v":0},0,{"$f":"BA32*B32","v":0},0,{"$f":"BC32*B32","v":0},0,{"$f":"BE32*B32","v":0},0,{"$f":"BG32*B32","v":0},0,{"$f":"BI32*B32","v":0},0,{"$f":"BK32*B32","v":0},null,{"$f":"C32+E32+G32+I32+K32+M32+O32+Q32+S32+U32+W32+Y32+AA32+AC32+AE32+AG32+AI32+AK32+AM32+AO32+AQ32+AS32+AU32+AW32+AY32+BA32+BC32+BE32+BG32+BI32+BK32","v":0},{"$f":"BN32*B32","v":0}]
["11543:S08-海鲜豆腐",{"$f":"SUMIF('SIDE ORDER & FOC'!$B$11:$B$77,'DAILY FOC '!A33,'SIDE ORDER & FOC'!$C$11:$C$77)","v":0},0,0,0,0,0,0,0,0,0,0,0,0,0,0,0,0,0,0,0,0,0,0,0,0,0,0,0,0,0,0,0,0,0,0,0,0,0,0,0,0,0,0,0,0,0,0,0,0,0,0,0,0,0,0,0,0,0,0,0,0,0,0,null,0,0]
["11544:S09-沙律卷卷",{"$f":"SUMIF('SIDE ORDER & FOC'!$B$11:$B$77,'DAILY FOC '!A34,'SIDE ORDER & FOC'!$C$11:$C$77)","v":0},0,0,0,0,0,0,0,0,0,0,0,0,0,0,0,0,0,0,0,0,0,0,0,0,0,0,0,0,0,0,0,0,0,0,0,0,0,0,0,0,0,0,0,0,0,0,0,0,0,0,0,0,0,0,0,0,0,0,0,0,0,0,null,0,0]
["11545:S10-金钱肉干",{"$f":"SUMIF('SIDE ORDER & FOC'!$B$11:$B$77,'DAILY FOC '!A35,'SIDE ORDER & FOC'!$C$11:$C$77)","v":0},0,0,0,0,0,0,0,0,0,0,0,0,0,0,0,0,0,0,0,0,0,0,0,0,0,0,0,0,0,0,0,0,0,0,0,0,0,0,0,0,0,0,0,0,0,0,0,0,0,0,0,0,0,0,0,0,0,0,0,0,0,0,null,0,0]
["11901:McCain Platter",{"$f":"SUMIF('SIDE ORDER & FOC'!$B$11:$B$77,'DAILY FOC '!A36,'SIDE ORDER & FOC'!$C$11:$C$77)","v":0},0,0,0,0,0,0,0,0,0,0,0,0,0,0,0,0,0,0,0,0,0,0,0,0,0,0,0,0,0,0,0,0,0,0,0,0,0,0,0,0,0,0,0,0,0,0,0,0,0,0,0,0,0,0,0,0,0,0,0,0,0,0,null,0,0]
["11902:McCain Beer",{"$f":"SUMIF('SIDE ORDER & FOC'!$B$11:$B$77,'DAILY FOC '!A37,'SIDE ORDER & FOC'!$C$11:$C$77)","v":0},0,0,0,0,0,0,0,0,0,0,0,0,0,0,0,0,0,0,0,0,0,0,0,0,0,0,0,0,0,0,0,0,0,0,0,0,0,0,0,0,0,0,0,0,0,0,0,0,0,0,0,0,0,0,0,0,0,0,0,0,0,0,null,0,0]
["11903:MC03-螺旋薯条",{"$f":"SUMIF('SIDE ORDER & FOC'!$B$11:$B$77,'DAILY FOC '!A38,'SIDE ORDER & FOC'!$C$11:$C$77)","v":0},0,0,0,0,0,0,0,0,0,0,0,0,0,0,0,0,0,0,0,0,0,0,0,0,0,0,0,0,0,0,0,0,0,0,0,0,0,0,0,0,0,0,1,0,0,0,0,0,0,0,0,0,0,0,0,0,0,0,0,0,0,0,null,1,0]
["11904:MC04-迷你薯饼",{"$f":"SUMIF('SIDE ORDER & FOC'!$B$11:$B$77,'DAILY FOC '!A39,'SIDE ORDER & FOC'!$C$11:$C$77)","v":0},0,0,0,0,0,0,0,0,0,0,0,0,0,0,0,0,0,0,0,0,0,0,0,0,0,0,0,0,0,0,0,0,0,0,0,0,0,0,0,0,0,0,0,0,0,0,0,0,0,0,0,0,0,0,0,0,0,0,0,0,0,0,null,0,0]
["11905:MC05-笑面薯饼",{"$f":"SUMIF('SIDE ORDER & FOC'!$B$11:$B$77,'DAILY FOC '!A40,'SIDE ORDER & FOC'!$C$11:$C$77)","v":0},0,0,0,0,0,0,0,0,0,0,0,0,0,0,0,0,0,0,0,0,0,0,0,0,0,0,0,0,0,0,0,0,0,0,0,0,0,0,0,0,0,0,0,0,0,0,0,0,0,0,0,0,0,0,0,0,0,0,0,0,0,0,null,0,0]
["Total Foc","-",{"$f":"SUM(C9:C40)","v":0},0,1,0,0,0,0,0,0,0,0,0,2,0,0,0,0,0,0,0,0,0,0,0,0,0,0,0,2,0,0,0,{"$f":"SUM(AI9:AI40)","v":0},0,0,0,0,0,0,0,1,0,2,0,4,0,0,0,0,0,0,0,0,0,0,0,0,0,2,0,0,0,null,{"$f":"SUM(BN9:BN40)","v":14},{"$f":"SUM(BO9:BO40)","v":0}]
[]
["LOK LOK "]
["11001:Lok01-鸡肉火腿",{"$f":"SUMIF('SIDE ORDER & FOC'!$B$11:$B$283,'DAILY FOC '!A44,'SIDE ORDER & FOC'!$C$11:$C$283)","v":0},0,{"$f":"C44*B44","v":0},0,{"$f":"E44*B44","v":0},0,{"$f":"G44*B44","v":0},0,{"$f":"I44*B44","v":0},0,{"$f":"K44*B44","v":0},0,{"$f":"M44*B44","v":0},0,{"$f":"O44*B44","v":0},0,{"$f":"Q44*B44","v":0},0,{"$f":"S44*B44","v":0},0,{"$f":"U44*B44","v":0},0,{"$f":"W44*B44","v":0},0,{"$f":"Y44*B44","v":0},0,{"$f":"AA44*B44","v":0},0,{"$f":"AC44*B44","v":0},0,{"$f":"AE44*B44","v":0},0,{"$f":"AG44*B44","v":0},0,{"$f":"AI44*B44","v":0},0,{"$f":"AK44*B44","v":0},0,{"$f":"AM44*B44","v":0},0,{"$f":"AO44*B44","v":0},0,{"$f":"AQ44*B44","v":0},0,{"$f":"AS44*B44","v":0},0,{"$f":"AU44*B44","v":0},0,{"$f":"AW44*B44","v":0},0,{"$f":"AY44*B44","v":0},0,{"$f":"BA44*B44","v":0},0,{"$f":"BC44*B44","v":0},0,{"$f":"BE44*B44","v":0},0,{"$f":"BG44*B44","v":0},0,{"$f":"BI44*B44","v":0},0,{"$f":"BK44*B44","v":0},null,{"$f":"C44+E44+G44+I44+K44+M44+O44+Q44+S44+U44+W44+Y44+AA44+AC44+AE44+AG44+AI44+AK44+AM44+AO44+AQ44+AS44+AU44+AW44+AY44+BA44+BC44+BE44+BG44+BI44+BK44","v":0},{"$f":"BN44*B44","v":0}]
["11002:Lok02-烧鸡肾",{"$f":"SUMIF('SIDE ORDER & FOC'!$B$11:$B$283,'DAILY FOC '!A45,'SIDE ORDER & FOC'!$C$11:$C$283)","v":0},0,0,0,0,0,0,0,0,0,0,0,0,0,0,0,0,0,0,0,0,0,0,0,0,0,0,0,0,0,0,0,0,0,0,0,0,0,0,0,0,0,0,0,0,0,0,0,0,0,0,0,0,0,0,0,0,0,0,0,0,0,0,null,0,0]
["11003:Lok03-鸡尾酒香肠",{"$f":"SUMIF('SIDE ORDER & FOC'!$B$11:$B$283,'DAILY FOC '!A46,'SIDE ORDER & FOC'!$C$11:$C$283)","v":0},0,0,0,0,0,0,0,0,0,0,0,0,0,0,0,0,0,0,0,0,0,0,0,0,0,0,0,0,0,0,0,0,0,0,0,0,0,0,0,0,0,0,0,0,0,0,0,0,0,0,0,0,0,0,0,0,0,0,0,0,0,0,null,0,0]
["11004:Lok04-鸡肉香肠",{"$f":"SUMIF('SIDE ORDER & FOC'!$B$11:$B$283,'DAILY FOC '!A47,'SIDE ORDER & FOC'!$C$11:$C$283)","v":0},0,0,0,0,0,0,0,0,0,0,0,0,0,0,0,0,0,0,0,0,0,0,0,0,0,0,0,0,0,0,0,0,0,0,0,0,0,0,0,0,0,0,0,0,0,0,0,0,0,0,0,0,0,0,0,0,0,0,0,0,0,0,null,0,0]
["11005:Lok05-去骨烧鸡翼",{"$f":"SUMIF('SIDE ORDER & FOC'!$B$11:$B$283,'DAILY FOC '!A48,'SIDE ORDER & FOC'!$C$11:$C$283)","v":0},0,0,0,0,0,0,0,0,0,0,0,0,0,0,0,0,0,0,0,0,0,0,0,0,0,0,0,0,0,0,0,0,0,0,0,0,0,0,0,0,0,0,0,0,0,0,0,0,0,0,0,0,0,0,0,0,0,0,0,0,0,0,null,0,0]
["11006:Lok06-芝士香肠",{"$f":"SUMIF('SIDE ORDER & FOC'!$B$11:$B$283,'DAILY FOC '!A49,'SIDE ORDER & FOC'!$C$11:$C$283)","v":0},0,0,0,0,0,0,0,0,0,0,0,0,0,0,0,0,0,0,0,0,0,0,0,0,0,0,0,0,0,0,0,0,0,0,0,0,0,0,0,0,0,0,0,0,0,0,0,0,0,0,0,0,0,0,0,0,0,0,0,0,0,0,null,0,0]
["11007:Lok07-烧烤鸭肉",{"$f":"SUMIF('SIDE ORDER & FOC'!$B$11:$B$283,'DAILY FOC '!A50,'SIDE ORDER & FOC'!$C$11:$C$283)","v":0},0,0,0,0,0,0,0,0,0,0,0,0,0,0,0,0,0,0,0,0,0,0,0,0,0,0,0,0,0,0,0,0,0,0,0,0,0,0,0,0,0,0,0,0,0,0,0,0,0,0,0,0,0,0,0,0,0,0,0,0,0,0,null,0,0]
["11008:Lok08-猪肉圆",{"$f":"SUMIF('SIDE ORDER & FOC'!$B$11:$B$283,'DAILY FOC '!A51,'SIDE ORDER & FOC'!$C$11:$C$283)","v":0},0,0,0,0,0,0,0,0,0,0,0,0,0,0,0,0,0,0,0,0,0,0,0,0,0,0,0,0,0,0,0,0,0,0,0,0,0,0,0,0,0,0,0,0,0,0,0,0,0,0,0,0,0,0,0,0,0,0,0,0,0,0,null,0,0]
["11009:Lok09-培根",{"$f":"SUMIF('SIDE ORDER & FOC'!$B$11:$B$283,'DAILY FOC '!A52,'SIDE ORDER & FOC'!$C$11:$C$283)","v":0},0,0,0,0,0,0,0,0,0,0,0,0,0,0,0,0,0,0,0,0,0,0,0,0,0,0,0,0,0,0,0,0,0,0,0,0,0,0,0,0,0,0,0,0,0,0,0,0,0,0,0,0,0,0,0,0,0,0,0,0,0,0,null,0,0]
["11010:Lok10-炸云吞",{"$f":"SUMIF('SIDE ORDER & FOC'!$B$11:$B$283,'DAILY FOC '!A53,'SIDE ORDER & FOC'!$C$11:$C$283)","v":0},0,0,0,0,0,0,0,0,0,0,0,0,0,0,0,0,0,0,0,0,0,0,0,0,0,0,0,0,0,0,0,0,0,0,0,0,0,0,0,0,0,0,0,0,0,0,0,0,0,0,0,0,0,0,0,0,0,0,0,0,0,0,null,0,0]
["11011:Lok11-五香肉卷",{"$f":"SUMIF('SIDE ORDER & FOC'!$B$11:$B$283,'DAILY FOC '!A54,'SIDE ORDER & FOC'!$C$11:$C$283)","v":0},0,0,0,0,0,0,0,0,0,0,0,0,0,0,0,0,0,0,0,0,0,0,0,0,0,0,0,0,0,0,0,0,0,0,0,0,0,0,0,0,0,0,0,0,0,0,0,0,0,0,0,0,0,0,0,0,0,0,0,0,0,0,null,0,0]
["11012:Lok12-台湾香肠",{"$f":"SUMIF('SIDE ORDER & FOC'!$B$11:$B$283,'DAILY FOC '!A55,'SIDE ORDER & FOC'!$C$11:$C$283)","v":0},0,0,0,0,0,0,0,0,0,0,0,0,0,0,0,0,0,0,0,0,0,0,0,0,0,0,0,0,0,0,0,0,0,0,0,0,0,0,0,0,0,0,0,0,0,0,0,0,0,0,0,0,0,0,0,0,0,0,0,0,0,0,null,0,0]
["11013:Lok13-金菇培根卷",{"$f":"SUMIF('SIDE ORDER & FOC'!$B$11:$B$283,'DAILY FOC '!A56,'SIDE ORDER & FOC'!$C$11:$C$283)","v":0},0,0,0,0,0,0,0,0,0,0,0,0,0,0,0,0,0,0,0,0,0,0,0,0,0,0,0,0,0,0,0,0,0,0,0,0,0,0,0,0,0,0,0,0,0,0,0,0,0,0,0,0,0,0,0,0,0,0,0,0,0,0,null,0,0]
["11014:Lok14-空心菜",{"$f":"SUMIF('SIDE ORDER & FOC'!$B$11:$B$283,'DAILY FOC '!A57,'SIDE ORDER & FOC'!$C$11:$C$283)","v":0},0,0,0,0,0,0,0,0,0,0,0,0,0,0,0,0,0,0,0,0,0,0,0,0,0,0,0,0,0,0,0,0,0,0,0,0,0,0,0,0,0,0,0,0,0,0,0,0,0,0,0,0,0,0,0,0,0,0,0,0,0,0,null,0,0]
["11015:Lok15-西兰花",{"$f":"SUMIF('SIDE ORDER & FOC'!$B$11:$B$283,'DAILY FOC '!A58,'SIDE ORDER & FOC'!$C$11:$C$283)","v":0},0,0,0,0,0,0,0,0,0,0,0,0,0,0,0,0,0,0,0,0,0,0,0,0,0,0,0,0,0,0,0,0,0,0,0,0,0,0,0,0,0,0,0,0,0,0,0,0,0,0,0,0,0,0,0,0,0,0,0,0,0,0,null,0,0]
["11016:Lok16-长豆",{"$f":"SUMIF('SIDE ORDER & FOC'!$B$11:$B$283,'DAILY FOC '!A59,'SIDE ORDER & FOC'!$C$11:$C$283)","v":0},0,0,0,0,0,0,0,0,0,0,0,0,0,0,0,0,0,0,0,0,0,0,0,0,0,0,0,0,0,0,0,0,0,0,0,0,0,0,0,0,0,0,0,0,0,0,0,0,0,0,0,0,0,0,0,0,0,0,0,0,0,0,null,0,0]
["11017:Lok17-羊角豆",{"$f":"SUMIF('SIDE ORDER & FOC'!$B$11:$B$283,'DAILY FOC '!A60,'SIDE ORDER & FOC'!$C$11:$C$283)","v":0},0,0,0,0,0,0,0,0,0,0,0,0,0,0,0,0,0,0,0,0,0,0,0,0,0,0,0,0,0,0,0,0,0,0,0,0,0,0,0,0,0,0,0,0,0,0,0,0,0,0,0,0,0,0,0,0,0,0,0,0,0,0,null,0,0]
["11018:Lok18-炸鲍鱼菇",{"$f":"SUMIF('SIDE ORDER & FOC'!$B$11:$B$283,'DAILY FOC '!A61,'SIDE ORDER & FOC'!$C$11:$C$283)","v":0},0,0,0,0,0,0,0,0,0,0,0,0,0,0,0,0,0,0,0,0,0,0,0,0,0,0,0,0,0,0,0,0,0,0,0,0,0,0,0,0,0,0,0,0,0,0,0,0,0,0,0,0,0,0,0,0,0,0,0,0,0,0,null,0,0]
["11019:Lok19-鉗",{"$f":"SUMIF('SIDE ORDER & FOC'!$B$11:$B$283,'DAILY FOC '!A62,'SIDE ORDER & FOC'!$C$11:$C$283)","v":0},0,0,0,0,0,0,0,0,0,0,0,0,0,0,0,0,0,0,0,0,0,0,0,0,0,0,0,0,0,0,0,0,0,0,0,0,0,0,0,0,0,0,0,0,0,0,0,0,0,0,0,0,0,0,0,0,0,0,0,0,0,0,null,0,0]
["11020:Lok20-鱿鱼",{"$f":"SUMIF('SIDE ORDER & FOC'!$B$11:$B$283,'DAILY FOC '!A63,'SIDE ORDER & FOC'!$C$11:$C$283)","v":0},0,0,0,0,0,0,0,0,0,0,0,0,0,0,0,0,0,0,0,0,0,0,0,0,0,0,0,0,0,0,0,0,0,0,0,0,0,0,0,0,0,0,0,0,0,0,0,0,0,0,0,0,0,0,0,0,0,0,0,0,0,0,null,0,0]
["11021:Lok21-蟹条",{"$f":"SUMIF('SIDE ORDER & FOC'!$B$11:$B$283,'DAILY FOC '!A64,'SIDE ORDER & FOC'!$C$11:$C$283)","v":0},0,0,0,0,0,0,0,0,0,0,0,0,0,0,0,0,0,0,0,0,0,0,0,0,0,0,0,0,0,0,0,0,0,0,0,0,0,0,0,0,0,0,0,0,0,0,0,0,0,0,0,0,0,0,0,0,0,0,0,0,0,0,null,0,0]
["11022:Lok22-鱼丸（小）",{"$f":"SUMIF('SIDE ORDER & FOC'!$B$11:$B$283,'DAILY FOC '!A65,'SIDE ORDER & FOC'!$C$11:$C$283)","v":0},0,0,0,0,0,0,0,0,0,0,0,0,0,0,0,0,0,0,0,0,0,0,0,0,0,0,0,0,0,0,0,0,0,0,0,0,0,0,0,0,0,0,0,0,0,0,0,0,0,0,0,0,0,0,0,0,0,0,0,0,0,0,null,0,0]
["11023:Lok23-苏东",{"$f":"SUMIF('SIDE ORDER & FOC'!$B$11:$B$283,'DAILY FOC '!A66,'SIDE ORDER & FOC'!$C$11:$C$283)","v":0},0,0,0,0,0,0,0,0,0,0,0,0,0,0,0,0,0,0,0,0,0,0,0,0,0,0,0,0,0,0,0,0,0,0,0,0,0,0,0,0,0,0,0,0,0,0,0,0,0,0,0,0,0,0,0,0,0,0,0,0,0,0,null,0,0]
["11024:Lok24-天妇罗虾",{"$f":"SUMIF('SIDE ORDER & FOC'!$B$11:$B$283,'DAILY FOC '!A67,'SIDE ORDER & FOC'!$C$11:$C$283)","v":0},0,0,0,0,0,0,0,0,0,0,0,0,0,0,0,0,0,0,0,0,0,0,0,0,0,0,0,0,0,0,0,0,0,0,0,0,0,0,0,0,0,0,0,0,0,0,0,0,0,0,0,0,0,0,0,0,0,0,0,0,0,0,null,0,0]
["11025:Lok25-苏东丸",{"$f":"SUMIF('SIDE ORDER & FOC'!$B$11:$B$283,'DAILY FOC '!A68,'SIDE ORDER & FOC'!$C$11:$C$283)","v":0},0,0,0,0,0,0,0,0,0,0,0,0,0,0,0,0,0,0,0,0,0,0,0,0,0,0,0,0,0,0,0,0,0,0,0,0,0,0,0,0,0,0,0,0,0,0,0,0,0,0,0,0,0,0,0,0,0,0,0,0,0,0,null,0,0]
["11026:Lok26-小章鱼",{"$f":"SUMIF('SIDE ORDER & FOC'!$B$11:$B$283,'DAILY FOC '!A69,'SIDE ORDER & FOC'!$C$11:$C$283)","v":0},0,0,0,0,0,0,0,0,0,0,0,0,0,0,0,0,0,0,0,0,0,0,0,0,0,0,0,0,0,0,0,0,0,0,0,0,0,0,0,0,0,0,0,0,0,0,0,0,0,0,0,0,0,0,0,0,0,0,0,0,0,0,null,0,0]
["11027:Lok27-福州鱼丸（大）",{"$f":"SUMIF('SIDE ORDER & FOC'!$B$11:$B$283,'DAILY FOC '!A70,'SIDE ORDER & FOC'!$C$11:$C$283)","v":0},0,0,0,0,0,0,0,0,0,0,0,0,0,0,0,0,0,0,0,0,0,0,0,0,0,0,0,0,0,0,0,0,0,0,0,0,0,0,0,0,0,0,0,0,0,0,0,0,0,0,0,0,0,0,0,0,0,0,0,0,0,0,null,0,0]
["11028:Lok28-澳洲绿蚌",{"$f":"SUMIF('SIDE ORDER & FOC'!$B$11:$B$283,'DAILY FOC '!A71,'SIDE ORDER & FOC'!$C$11:$C$283)","v":0},0,0,0,0,0,0,0,0,0,0,0,0,0,0,0,0,0,0,0,0,0,0,0,0,0,0,0,0,0,0,0,0,0,0,0,0,0,0,0,0,0,0,0,0,0,0,0,0,0,0,0,0,0,0,0,0,0,0,0,0,0,0,null,0,0]
["11029:Lok29-炸芋头角",{"$f":"SUMIF('SIDE ORDER & FOC'!$B$11:$B$283,'DAILY FOC '!A72,'SIDE ORDER & FOC'!$C$11:$C$283)","v":0},0,0,0,0,0,0,0,0,0,0,0,0,0,0,0,0,0,0,0,0,0,0,0,0,0,0,0,0,0,0,0,0,0,0,0,0,0,0,0,0,0,0,0,0,0,0,0,0,0,0,0,0,0,0,0,0,0,0,0,0,0,0,null,0,0]
["11030:Lok30-炸腐皮",{"$f":"SUMIF('SIDE ORDER & FOC'!$B$11:$B$283,'DAILY FOC '!A73,'SIDE ORDER & FOC'!$C$11:$C$283)","v":0},0,0,0,0,0,0,0,0,0,0,0,0,0,0,0,0,0,0,0,0,0,0,0,0,0,0,0,0,0,0,0,0,0,0,0,0,0,0,0,0,0,0,0,0,0,0,0,0,0,0,0,0,0,0,0,0,0,0,0,0,0,0,null,0,0]
["11031:Lok31-豆卜",{"$f":"SUMIF('SIDE ORDER & FOC'!$B$11:$B$283,'DAILY FOC '!A74,'SIDE ORDER & FOC'!$C$11:$C$283)","v":0},0,0,0,0,0,0,0,0,0,0,0,0,0,0,0,0,0,0,0,0,0,0,0,0,0,0,0,0,0,0,0,0,0,0,0,0,0,0,0,0,0,0,0,0,0,0,0,0,0,0,0,0,0,0,0,0,0,0,0,0,0,0,null,0,0]
["11032:Lok32-鹌鹑蛋",{"$f":"SUMIF('SIDE ORDER & FOC'!$B$11:$B$283,'DAILY FOC '!A75,'SIDE ORDER & FOC'!$C$11:$C$283)","v":0},0,0,0,0,0,0,0,0,0,0,0,0,0,0,0,0,0,0,0,0,0,0,0,0,0,0,0,0,0,0,0,0,0,0,0,0,0,0,0,0,0,0,0,0,0,0,0,0,0,0,0,0,0,0,0,0,0,0,0,0,0,0,null,0,0]
["11033:Lok33-鹌鹑皮蛋",{"$f":"SUMIF('SIDE ORDER & FOC'!$B$11:$B$283,'DAILY FOC '!A76,'SIDE ORDER & FOC'!$C$11:$C$283)","v":0},0,0,0,0,0,0,0,0,0,0,0,0,0,0,0,0,0,0,0,0,0,0,0,0,0,0,0,0,0,0,0,0,0,0,0,0,0,0,0,0,0,0,0,0,0,0,0,0,0,0,0,0,0,0,0,0,0,0,0,0,0,0,null,0,0]
["11034:Lok34-海鲜豆腐",{"$f":"SUMIF('SIDE ORDER & FOC'!$B$11:$B$283,'DAILY FOC '!A77,'SIDE ORDER & FOC'!$C$11:$C$283)","v":0},0,0,0,0,0,0,0,0,0,0,0,0,0,0,0,0,0,0,0,0,0,0,0,0,0,0,0,0,0,0,0,0,0,0,0,0,0,0,0,0,0,0,0,0,0,0,0,0,0,0,0,0,0,0,0,0,0,0,0,0,0,0,null,0,0]
[]
["Total Foc","-",{"$f":"SUM(C9:C78)","v":0},{"$f":"SUM(D44:D78)","v":0},{"$f":"SUM(E9:E78)","v":2},{"$f":"SUM(F44:F77)","v":0},{"$f":"SUM(G9:G78)","v":0},{"$f":"SUM(H44:H77)","v":0},{"$f":"SUM(I9:I78)","v":0},{"$f":"SUM(J44:J77)","v":0},{"$f":"SUM(K9:K78)","v":0},{"$f":"SUM(L44:L77)","v":0},{"$f":"SUM(M9:M78)","v":0},{"$f":"SUM(H79:M79)","v":0},{"$f":"SUM(O9:O78)","v":4},{"$f":"SUM(J79:O79)","v":4},0,{"$f":"SUM(C79:Q79)","v":10},0,{"$f":"SUM(N79:S79)","v":18},{"$f":"SUM(S79:T79)","v":18},{"$f":"SUM(V44:V78)","v":0},{"$f":"SUM(W9:W78)","v":0},{"$f":"SUM(R79:W79)","v":46},{"$f":"SUM(Y9:Y78)","v":0},{"$f":"SUM(T79:Y79)","v":82},{"$f":"SUM(AA9:AA78)","v":0},{"$f":"SUM(V79:AA79)","v":128},{"$f":"SUM(AC9:AC78)","v":0},{"$f":"SUM(X79:AC79)","v":256},{"$f":"SUM(AE9:AE78)","v":4},{"$f":"SUM(Z79:AE79)","v":470},{"$f":"SUM(AG9:AG78)","v":0},{"$f":"SUM(AB79:AG79)","v":858},{"$f":"SUM(AI9:AI78)","v":0},{"$f":"SUM(AD79:AI79)","v":1588},{"$f":"SUM(AK9:AK78)","v":0},{"$f":"SUM(AF79:AK79)","v":2916},{"$f":"SUM(W79:AL79)","v":6348},{"$f":"SUM(AN44:AN78)","v":0},{"$f":"SUM(AO44:AO78)","v":0},{"$f":"SUM(AP44:AP78)","v":0},{"$f":"SUM(AQ44:AQ78)","v":0},{"$f":"SUM(AL79:AQ79)","v":9264},{"$f":"SUM(AS9:AS78)","v":4},{"$f":"SUM(AN79:AS79)","v":9268},{"$f":"SUM(AU9:AU78)","v":8},{"$f":"SUM(AP79:AU79)","v":18544},{"$f":"SUM(AW9:AW78)","v":0},{"$f":"SUM(AR79:AW79)","v":37088},{"$f":"SUM(AY9:AY78)","v":0},{"$f":"SUM(AT79:AY79)","v":64908},{"$f":"SUM(BA9:BA78)","v":0},{"$f":"SUM(AV79:BA79)","v":120540},0,{"$f":"SUM(AX79:BC79)","v":222536},0,{"$f":"SUM(AZ79:BE79)","v":407984},{"$f":"SUM(BG9:BG78)","v":0},{"$f":"SUM(BB79:BG79)","v":751060},4,{"$f":"SUM(BD79:BI79)","v":1381584},0,{"$f":"SUM(BF79:BK79)","v":2540632},null,{"$f":"SUM(BN44:BN78)","v":0},{"$f":"SUM(BO44:BO78)","v":0}]

{"sheet":"SAUCE USAGE","index":6,"n_rows":62,"n_cols":9,"rows_kept":62,"cut":false,"hidden":true,"merged":[[6,5,6,7],[51,0,51,2]]}
["MONTHLY SERVINGS: SAUCE "]
[]
[{"$f":"+'[3]K-LUNCH & K DINNER'!A3","v":"Outlet :"},{"$f":"+'[3]K-LUNCH & K DINNER'!B3","v":"TSU OUTLET "}]
[{"$f":"+'[3]K-LUNCH & K DINNER'!A4","v":"Month :"},{"$f":"+#REF!","v":{"$error":"#REF!"}}]
[]
[]
[null,null,null,"FROM POS",null,"USAGE"]
["NO","Item","COST","SERVINGS",null,"MATERIAL ","RECIPE","TOTAL","TOTAL COST"]
[null,null,"RM","Q",null,"Q","GRAM","GRAM ","RM"]
[null,"ALL USAGE",null,null,null,null,null,null,{"$f":"+H10*C10","v":0}]
[1,"11537:M/S 蘑菇酱",4.5999999999999999E-3,{"$f":"VLOOKUP(B11,Summary!$B$30:$AK$365,5,FALSE)","v":{"$error":"#N/A"}},null,"MUSHROOM SAUCE",50,{"$f":"+G11*D11","v":{"$error":"#N/A"}},{"$f":"+H11*C11","v":{"$error":"#N/A"}}]
[{"$f":"+A11+1","v":2},"11539:B/P-黑椒酱",3.0000000000000001E-3,{"$f":"VLOOKUP(B12,Summary!$B$30:$AK$365,5,FALSE)","v":{"$error":"#N/A"}},null,"BLACK PEPPER SAUCE",30,{"$f":"+G12*D12","v":{"$error":"#N/A"}},{"$f":"+H12*C12","v":{"$error":"#N/A"}}]
[]
[null,"CUSTOMER REQUEST",null,null,null,null,null,null,0]
[{"$f":"+A12+1","v":3},"11801:R-B/P Sauce ",3.0000000000000001E-3,{"$f":"VLOOKUP(B15,Summary!$B$30:$AK$365,5,FALSE)","v":{"$error":"#N/A"}},null,"BLACK PEPPER SAUCE",30,{"$error":"#N/A"},{"$error":"#N/A"}]
[{"$f":"+A15+1","v":4},"11802:R-Mushroom Sauce",4.5999999999999999E-3,{"$f":"VLOOKUP(B16,Summary!$B$30:$AK$365,5,FALSE)","v":{"$error":"#N/A"}},null,"MUSHROOM SAUCE",50,{"$error":"#N/A"},{"$error":"#N/A"}]
[5,"11803:R-Butter Sauce",0.01,{"$f":"VLOOKUP(B17,Summary!$B$30:$AK$365,5,FALSE)","v":{"$error":"#N/A"}},null,"BUTTER SAUCE ",30,{"$error":"#N/A"},{"$error":"#N/A"}]
[6,"11804:R-Thousand Island",0.01,{"$f":"VLOOKUP(B18,Summary!$B$30:$AK$365,5,FALSE)","v":{"$error":"#N/A"}},null,"THOUSAND ISLAND",30,{"$error":"#N/A"},{"$error":"#N/A"}]
[7,"11805:R-Tar Tar Sauce",0.01,{"$f":"VLOOKUP(B19,Summary!$B$30:$AK$365,5,FALSE)","v":{"$error":"#N/A"}},null,"TAR TAR SAUCE",40,{"$error":"#N/A"},{"$error":"#N/A"}]
[8,"11806:R-Mayonaisse",8.9999999999999993E-3,{"$f":"VLOOKUP(B20,Summary!$B$30:$AK$365,5,FALSE)","v":{"$error":"#N/A"}},null,"MAYONAISSE",40,{"$error":"#N/A"},{"$error":"#N/A"}]
[9,"11807:R-Thai Style Sauce",6.4999999999999997E-3,{"$f":"VLOOKUP(B21,Summary!$B$30:$AK$365,5,FALSE)","v":{"$error":"#N/A"}},null,"THAI STYLE SAUCE ",38,{"$error":"#N/A"},{"$error":"#N/A"}]
[10,"11808:R-Marmite Sauce",1.6000000000000001E-3,{"$f":"VLOOKUP(B22,Summary!$B$30:$AK$365,5,FALSE)","v":{"$error":"#N/A"}},null,"MARMITE SAUCE",30,{"$error":"#N/A"},{"$error":"#N/A"}]
[11,"11809:R-Tomato Sauce",3.0000000000000001E-3,{"$f":"VLOOKUP(B23,Summary!$B$30:$AK$365,5,FALSE)","v":{"$error":"#N/A"}},null,"TOMATO SAUCE",30,{"$error":"#N/A"},{"$error":"#N/A"}]
[12,"11810:R-Gravy Sauce",null,{"$f":"VLOOKUP(B24,Summary!$B$30:$AK$365,5,FALSE)","v":{"$error":"#N/A"}},null,null,null,null,0]
[13,"11811:R-Sambal Sauce",null,{"$f":"VLOOKUP(B25,Summary!$B$30:$AK$365,5,FALSE)","v":{"$error":"#N/A"}},null,null,null,null,0]
[14,"118152:R-Bolognaise Sauce",null,{"$f":"VLOOKUP(B26,Summary!$B$30:$AK$365,5,FALSE)","v":{"$error":"#N/A"}},null,null,null,null,0]
[15,"11813:R-Chilli Padi",3.0000000000000001E-3,{"$f":"VLOOKUP(B27,Summary!$B$30:$AK$365,5,FALSE)","v":{"$error":"#N/A"}},null,"CHILLI SAUCE",33.299999999999997,{"$f":"+G27*D27","v":{"$error":"#N/A"}},{"$error":"#N/A"}]
[]
[null,"K LUNCH",null,null,null,null,null,null,{"$f":"+H29*C29","v":0}]
[16,"11602:L -C02-妈蜜鸡饭",1.6000000000000001E-3,{"$f":"VLOOKUP(B30,Summary!$B$30:$AK$365,5,FALSE)","v":{"$error":"#N/A"}},null,"MARMITE SAUCE",30,{"$f":"+G30*D30","v":{"$error":"#N/A"}},{"$f":"+H30*C30","v":{"$error":"#N/A"}}]
[17,"11605:L -C03-奶油鸡饭",0.01,{"$f":"VLOOKUP(B31,Summary!$B$30:$AK$365,5,FALSE)","v":{"$error":"#N/A"}},null,"BUTTER SAUCE ",30,{"$f":"+G31*D31","v":{"$error":"#N/A"}},{"$f":"+H31*C31","v":{"$error":"#N/A"}}]
[18,"11608:L-C08-妈蜜鱼扒饭",1.6000000000000001E-3,{"$f":"VLOOKUP(B32,Summary!$B$30:$AK$365,5,FALSE)","v":{"$error":"#N/A"}},null,"MARMITE SAUCE",30,{"$f":"+G32*D32","v":{"$error":"#N/A"}},{"$f":"+H32*C32","v":{"$error":"#N/A"}}]
[19,"11609:L-C09-奶油鱼扒饭",0.01,{"$f":"VLOOKUP(B33,Summary!$B$30:$AK$365,5,FALSE)","v":{"$error":"#N/A"}},null,"BUTTER SAUCE ",30,{"$f":"+G33*D33","v":{"$error":"#N/A"}},{"$f":"+H33*C33","v":{"$error":"#N/A"}}]
[]
[null,"K DINNER ",null,null,null,null,null,null,{"$f":"+H35*C35","v":0}]
[20,"11702:D -C02-妈蜜鸡饭",1.6000000000000001E-3,{"$f":"VLOOKUP(B36,Summary!$B$30:$AK$365,5,FALSE)","v":{"$error":"#N/A"}},null,"MARMITE SAUCE",30,{"$error":"#N/A"},{"$error":"#N/A"}]
[21,"11705:D -C03-奶油鸡饭",0.01,{"$f":"VLOOKUP(B37,Summary!$B$30:$AK$365,5,FALSE)","v":{"$error":"#N/A"}},null,"BUTTER SAUCE ",30,{"$error":"#N/A"},{"$error":"#N/A"}]
[22,"11778:D -C08-妈蜜鱼片饭",1.6000000000000001E-3,{"$f":"VLOOKUP(B38,Summary!$B$30:$AK$365,5,FALSE)","v":{"$error":"#N/A"}},null,"MARMITE SAUCE",30,{"$error":"#N/A"},{"$error":"#N/A"}]
[23,"11779:D -C09-奶油鱼片饭",0.01,{"$f":"VLOOKUP(B39,Summary!$B$30:$AK$365,5,FALSE)","v":{"$error":"#N/A"}},null,"BUTTER SAUCE ",30,{"$error":"#N/A"},{"$error":"#N/A"}]
[]
[]
[null,"SIDE ORDER",null,null,null,null,null,null,0]
[24,"11502:C02-妈蜜鸡饭",1.6000000000000001E-3,{"$f":"VLOOKUP(B43,Summary!$B$30:$AK$365,5,FALSE)","v":{"$error":"#N/A"}},null,"MARMITE SAUCE",30,{"$error":"#N/A"},{"$error":"#N/A"}]
[25,"11505:C03-奶油鸡饭",0.01,{"$f":"VLOOKUP(B44,Summary!$B$30:$AK$365,5,FALSE)","v":{"$error":"#N/A"}},null,"BUTTER SAUCE ",30,{"$error":"#N/A"},{"$error":"#N/A"}]
[26,"11508:C08-妈蜜鱼扒饭",1.6000000000000001E-3,{"$f":"VLOOKUP(B45,Summary!$B$30:$AK$365,5,FALSE)","v":{"$error":"#N/A"}},null,"MARMITE SAUCE",30,{"$error":"#N/A"},{"$error":"#N/A"}]
[27,"11509:C09-奶油鱼扒饭",0.01,{"$f":"VLOOKUP(B46,Summary!$B$30:$AK$365,5,FALSE)","v":{"$error":"#N/A"}},null,"BUTTER SAUCE ",30,{"$error":"#N/A"},{"$error":"#N/A"}]
[]
[]
[]
[]
[]
["Total Sales / COST",null,null,null,null,null,null,null,{"$f":"SUM(I11:I51)","v":{"$error":"#N/A"}}]
[]
[]
[]
[]
[]
[]
[]
[]
[]
[null,null,null,null,null,null,null,{"$f":"SUBTOTAL(9,H11:H16)","v":{"$error":"#N/A"}}]

{"sheet":"SIDE ORDER & FOC","index":7,"n_rows":178,"n_cols":19,"rows_kept":178,"cut":false,"hidden":false,"merged":[[7,16,7,18],[83,13,83,14],[177,0,177,2],[182,9,182,11],[83,16,83,18],[7,13,7,14],[77,0,77,2],[7,3,7,4],[7,6,7,7],[7,8,7,9],[181,9,181,11],[0,0,0,12],[7,10,77,10],[83,3,83,4],[83,6,83,7],[83,8,83,9],[7,11,7,12],[83,11,83,12],[6,3,6,4],[6,6,6,7],[6,8,6,9],[82,3,82,4],[82,6,82,7],[82,8,82,9]]}
["MONTHLY SALES FOOD RECORD ( SIDE ORDER & FOC )"]
[]
["Outlet :","TSU OUTLET "]
["Month :","2013-11-01",null,"FROM 18TH TILL END OF THE MONTH "]
[]
["PART (A)  LOCAL DELIGHTS /WESTERN CRUISE / SNAKCS"]
[null,null,null,"(A)",null,null,"(B)",null,"(A) - (B)"]
[null,null,null,"SIDE ORDER                 (INCLUDING FOC)",null,null,"FOC",null,"SIDE ORDER                        (NETT SALES)",null,null,"SIDE ORDER                        (NETT COST)",null,"FOC (COST)",null,null,"USAGE"]
["NO","Item","S/P","Sales","TOTAL",null,"Sales","TOTAL","Sales","TOTAL",null,"COST","TOTAL","COST","TOTAL",null,"MATERIAL ","RECIPE","TOTAL"]
[null,null,"RM","Q","RM",null,"Q","RM","Q","RM",null,"RM","RM","RM","RM",null,"Q","Q","Q"]
[1,"RQ01 1601:ADD RICE",1,{"$f":"VLOOKUP(B11,Summary!$B$30:$AK$367,5,FALSE)","v":81},{"$f":"D11*C11","v":81},null,{"$f":"SUMIF('DAILY FOC '!$A$9:$A$80,'SIDE ORDER & FOC'!B11,'DAILY FOC '!$BN$9:$BN$80)","v":0},{"$f":"G11*C11","v":0},{"$f":"+D11-G11","v":81},{"$f":"+I11*C11","v":81},null,{"$f":"SUMIF(DATABASE!$E$3:$E$37,'SIDE ORDER & FOC'!B11,DATABASE!$F$3:$F$37)","v":0.5},{"$f":"+L11*I11","v":40.5},{"$f":"+L11","v":0.5},{"$f":"+N11*G11","v":0}]
[{"$f":"+A11+1","v":2},"RQ02 1602:ADD F.EGG",1,{"$f":"VLOOKUP(B12,Summary!$B$30:$AK$367,5,FALSE)","v":0},{"$f":"D12*C12","v":0},null,{"$f":"SUMIF('DAILY FOC '!$A$9:$A$80,'SIDE ORDER & FOC'!B12,'DAILY FOC '!$BN$9:$BN$80)","v":0},{"$f":"G12*C12","v":0},{"$f":"+D12-G12","v":0},{"$f":"+I12*C12","v":0},null,{"$f":"SUMIF(DATABASE!$E$3:$E$37,'SIDE ORDER & FOC'!B12,DATABASE!$F$3:$F$37)","v":0.35},0,{"$f":"+L12","v":0.35},0]
[{"$f":"+A12+1","v":3},"LC01 1101:THAI CHK",9.9,{"$f":"VLOOKUP(B13,Summary!$B$30:$AK$367,5,FALSE)","v":40},396,null,{"$f":"SUMIF('DAILY FOC '!$A$9:$A$80,'SIDE ORDER & FOC'!B13,'DAILY FOC '!$BN$9:$BN$80)","v":0},0,40,{"$f":"+I13*C13","v":396},null,{"$f":"SUMIF(DATABASE!$E$3:$E$37,'SIDE ORDER & FOC'!B13,DATABASE!$F$3:$F$37)","v":2.7},108,2.7,0,null,"CHICKEN CHOP (MARINATED)",0.5,{"$f":"+R13*D13","v":20}]
[4,"LC02 1102:MAMITE CHK",9.9,{"$f":"VLOOKUP(B14,Summary!$B$30:$AK$367,5,FALSE)","v":56},554.4,null,{"$f":"SUMIF('DAILY FOC '!$A$9:$A$80,'SIDE ORDER & FOC'!B14,'DAILY FOC '!$BN$9:$BN$80)","v":0},0,56,554.4,null,{"$f":"SUMIF(DATABASE!$E$3:$E$37,'SIDE ORDER & FOC'!B14,DATABASE!$F$3:$F$37)","v":2.2000000000000002},123.20000000000002,2.2000000000000002,0,null,"CHICKEN CHOP (MARINATED)",0.5,{"$f":"+R14*D14","v":28}]
[5,"LC05 1105:BUTTER CHK",9.9,{"$f":"VLOOKUP(B15,Summary!$B$30:$AK$367,5,FALSE)","v":71},702.9,null,{"$f":"SUMIF('DAILY FOC '!$A$9:$A$80,'SIDE ORDER & FOC'!B15,'DAILY FOC '!$BN$9:$BN$80)","v":0},0,71,702.9,null,{"$f":"SUMIF(DATABASE!$E$3:$E$37,'SIDE ORDER & FOC'!B15,DATABASE!$F$3:$F$37)","v":2.4500000000000002},173.95000000000002,2.4500000000000002,0,null,"CHICKEN CHOP (MARINATED)",0.5,{"$f":"+R15*D15","v":35.5}]
[6]
[7,"LC17 1117:THAI FSH",9.9,{"$f":"VLOOKUP(B17,Summary!$B$30:$AK$367,5,FALSE)","v":16},158.4,null,{"$f":"SUMIF('DAILY FOC '!$A$9:$A$80,'SIDE ORDER & FOC'!B17,'DAILY FOC '!$BN$9:$BN$80)","v":0},0,16,158.4,null,{"$f":"SUMIF(DATABASE!$E$3:$E$37,'SIDE ORDER & FOC'!B17,DATABASE!$F$3:$F$37)","v":2.57},41.12,2.57,0,null,"FISH & CHIP ",0.5,{"$f":"+R17*D17","v":8}]
[8,"LC18 1118:MAMITE FSH",9.9,{"$f":"VLOOKUP(B18,Summary!$B$30:$AK$367,5,FALSE)","v":15},148.5,null,{"$f":"SUMIF('DAILY FOC '!$A$9:$A$80,'SIDE ORDER & FOC'!B18,'DAILY FOC '!$BN$9:$BN$80)","v":0},0,15,148.5,null,{"$f":"SUMIF(DATABASE!$E$3:$E$37,'SIDE ORDER & FOC'!B18,DATABASE!$F$3:$F$37)","v":2.0699999999999998},31.049999999999997,2.0699999999999998,0,null,"FISH & CHIP ",0.5,7.5]
[9,"LC19 1119:BUTTER FSH",9.9,{"$f":"VLOOKUP(B19,Summary!$B$30:$AK$367,5,FALSE)","v":22},217.8,null,{"$f":"SUMIF('DAILY FOC '!$A$9:$A$80,'SIDE ORDER & FOC'!B19,'DAILY FOC '!$BN$9:$BN$80)","v":0},0,22,217.8,null,{"$f":"SUMIF(DATABASE!$E$3:$E$37,'SIDE ORDER & FOC'!B19,DATABASE!$F$3:$F$37)","v":2.3199999999999998},51.04,2.3199999999999998,0,null,"FISH & CHIP ",0.5,{"$f":"+R19*D19","v":11}]
[10]
[11,"AA02 1202:FREN FRIES",5.9,{"$f":"VLOOKUP(B21,Summary!$B$30:$AK$367,5,FALSE)","v":54},318.60000000000002,null,{"$f":"SUMIF('DAILY FOC '!$A$9:$A$80,'SIDE ORDER & FOC'!B21,'DAILY FOC '!$BN$9:$BN$80)","v":0},0,54,318.60000000000002,null,{"$f":"SUMIF(DATABASE!$E$3:$E$37,'SIDE ORDER & FOC'!B21,DATABASE!$F$3:$F$37)","v":1.51},81.540000000000006,1.51,0]
[12,"AA04 1204:FSH BALL",5.9,{"$f":"VLOOKUP(B22,Summary!$B$30:$AK$367,5,FALSE)","v":4},23.6,null,{"$f":"SUMIF('DAILY FOC '!$A$9:$A$80,'SIDE ORDER & FOC'!B22,'DAILY FOC '!$BN$9:$BN$80)","v":0},0,4,23.6,null,{"$f":"SUMIF(DATABASE!$E$3:$E$37,'SIDE ORDER & FOC'!B22,DATABASE!$F$3:$F$37)","v":1.7},6.8,1.7,0,null,"FISH BALL (SMALL)",8,{"$f":"+R22*D22","v":32}]
[13,"AA06 1206:SPRING RL",5.9,{"$f":"VLOOKUP(B23,Summary!$B$30:$AK$367,5,FALSE)","v":0},0,null,{"$f":"SUMIF('DAILY FOC '!$A$9:$A$80,'SIDE ORDER & FOC'!B23,'DAILY FOC '!$BN$9:$BN$80)","v":0},0,0,0,null,{"$f":"SUMIF(DATABASE!$E$3:$E$37,'SIDE ORDER & FOC'!B23,DATABASE!$F$3:$F$37)","v":1.7},0,1.7,0,null,"SPRING ROLL",4,0]
[14,"AA38 1308:MC RING",7.9,{"$f":"VLOOKUP(B24,Summary!$B$30:$AK$367,5,FALSE)","v":6},47.400000000000006,null,{"$f":"SUMIF('DAILY FOC '!$A$9:$A$80,'SIDE ORDER & FOC'!B24,'DAILY FOC '!$BN$9:$BN$80)","v":0},0,6,47.400000000000006,null,{"$f":"SUMIF(DATABASE!$E$3:$E$37,'SIDE ORDER & FOC'!B24,DATABASE!$F$3:$F$37)","v":1.4},8.3999999999999986,1.4,0,null,"MCCAIN ONION RING",8,{"$f":"+R24*D24","v":48}]
[15,"AA32 1302:NUGGET",5.9,{"$f":"VLOOKUP(B25,Summary!$B$30:$AK$367,5,FALSE)","v":26},153.4,null,{"$f":"SUMIF('DAILY FOC '!$A$9:$A$80,'SIDE ORDER & FOC'!B25,'DAILY FOC '!$BN$9:$BN$80)","v":0},0,26,153.4,null,{"$f":"SUMIF(DATABASE!$E$3:$E$37,'SIDE ORDER & FOC'!B25,DATABASE!$F$3:$F$37)","v":1.61},41.86,1.61,0,null,"CHICKEN NUGGET",6,{"$f":"+R25*D25","v":156}]
[16,"AA33 1303:CHK WING",7.9,{"$f":"VLOOKUP(B26,Summary!$B$30:$AK$367,5,FALSE)","v":29},229.10000000000002,null,{"$f":"SUMIF('DAILY FOC '!$A$9:$A$80,'SIDE ORDER & FOC'!B26,'DAILY FOC '!$BN$9:$BN$80)","v":0},0,29,229.10000000000002,null,{"$f":"SUMIF(DATABASE!$E$3:$E$37,'SIDE ORDER & FOC'!B26,DATABASE!$F$3:$F$37)","v":3.7},107.30000000000001,3.7,0,null,"CHICKEN WINGS (MARINATED)",3,87]
[17,"WT01 1001:BP CKN CP",12.9,{"$f":"VLOOKUP(B27,Summary!$B$30:$AK$367,5,FALSE)","v":90},1161,null,{"$f":"SUMIF('DAILY FOC '!$A$9:$A$80,'SIDE ORDER & FOC'!B27,'DAILY FOC '!$BN$9:$BN$80)","v":0},0,90,1161,null,{"$f":"SUMIF(DATABASE!$E$3:$E$37,'SIDE ORDER & FOC'!B27,DATABASE!$F$3:$F$37)","v":3.97},357.3,3.97,0,null,"CHICKEN CHOP (MARINATED)",1,{"$f":"+R27*D27","v":90}]
[18,"WT03 1003:MSR CKN CP",12.9,{"$f":"VLOOKUP(B28,Summary!$B$30:$AK$367,5,FALSE)","v":81},1044.9000000000001,null,{"$f":"SUMIF('DAILY FOC '!$A$9:$A$80,'SIDE ORDER & FOC'!B28,'DAILY FOC '!$BN$9:$BN$80)","v":0},{"$f":"G28*C28","v":0},{"$f":"+D28-G28","v":81},{"$f":"+I28*C28","v":1044.9000000000001},null,{"$f":"SUMIF(DATABASE!$E$3:$E$37,'SIDE ORDER & FOC'!B28,DATABASE!$F$3:$F$37)","v":4.0999999999999996},{"$f":"+L28*I28","v":332.09999999999997},{"$f":"+L28","v":4.0999999999999996},{"$f":"+N28*G28","v":0},null,"CHICKEN CHOP (MARINATED)",1,{"$f":"+R28*D28","v":81}]
[19,"WT04 1004:CKN MARY",12.9,{"$f":"VLOOKUP(B29,Summary!$B$30:$AK$367,5,FALSE)","v":22},283.8,null,{"$f":"SUMIF('DAILY FOC '!$A$9:$A$80,'SIDE ORDER & FOC'!B29,'DAILY FOC '!$BN$9:$BN$80)","v":0},0,22,283.8,null,{"$f":"SUMIF(DATABASE!$E$3:$E$37,'SIDE ORDER & FOC'!B29,DATABASE!$F$3:$F$37)","v":4.7699999999999996},104.94,4.7699999999999996,0,null,"CHICKEN CHOP (MARINATED)",1,{"$f":"+R29*D29","v":22}]
[20,"WT05 1005:FSH&CHIP",12.9,{"$f":"VLOOKUP(B30,Summary!$B$30:$AK$367,5,FALSE)","v":44},567.6,null,{"$f":"SUMIF('DAILY FOC '!$A$9:$A$80,'SIDE ORDER & FOC'!B30,'DAILY FOC '!$BN$9:$BN$80)","v":0},0,44,567.6,null,{"$f":"SUMIF(DATABASE!$E$3:$E$37,'SIDE ORDER & FOC'!B30,DATABASE!$F$3:$F$37)","v":4.25},187,4.25,0,null,"FISH & CHIP ",1,44]
[21,"WT07 1007:CHK SALAD",12.9,{"$f":"VLOOKUP(B31,Summary!$B$30:$AK$367,5,FALSE)","v":11},141.9,null,{"$f":"SUMIF('DAILY FOC '!$A$9:$A$80,'SIDE ORDER & FOC'!B31,'DAILY FOC '!$BN$9:$BN$80)","v":0},0,11,141.9,null,{"$f":"SUMIF(DATABASE!$E$3:$E$37,'SIDE ORDER & FOC'!B31,DATABASE!$F$3:$F$37)","v":2.65},29.15,2.65,0,null,"CHICKEN CHOP (MARINATED)",0.5,5.5]
[22,"AA08 1208:HOTDOG BUN",5.9,{"$f":"VLOOKUP(B32,Summary!$B$30:$AK$367,5,FALSE)","v":0},0,null,{"$f":"SUMIF('DAILY FOC '!$A$9:$A$80,'SIDE ORDER & FOC'!B32,'DAILY FOC '!$BN$9:$BN$80)","v":0},0,0,0,null,{"$f":"SUMIF(DATABASE!$E$3:$E$37,'SIDE ORDER & FOC'!B32,DATABASE!$F$3:$F$37)","v":2.04},0,2.04,0,null,"CHICKEN SAUSAGE ",1,0]
[null,null,null,null,null,null,null,null,null,null,null,null,null,null,null,null,"HOT DOG BUN ",1,{"$f":"+R33*D32","v":0}]
[{"$f":"+A32+1","v":23},"AA07 1207:SAUSG",5.9,{"$f":"VLOOKUP(B34,Summary!$B$30:$AK$367,5,FALSE)","v":5},29.5,null,{"$f":"SUMIF('DAILY FOC '!$A$9:$A$80,'SIDE ORDER & FOC'!B34,'DAILY FOC '!$BN$9:$BN$80)","v":0},0,5,29.5,null,{"$f":"SUMIF(DATABASE!$E$3:$E$37,'SIDE ORDER & FOC'!B34,DATABASE!$F$3:$F$37)","v":2.44},12.2,2.44,0,null,"CHICKEN SAUSAGE ",2,10]
[24,"AA09 1209:SF TF",5.9,{"$f":"VLOOKUP(B35,Summary!$B$30:$AK$367,5,FALSE)","v":11},64.900000000000006,null,{"$f":"SUMIF('DAILY FOC '!$A$9:$A$80,'SIDE ORDER & FOC'!B35,'DAILY FOC '!$BN$9:$BN$80)","v":0},0,11,64.900000000000006,null,{"$f":"SUMIF(DATABASE!$E$3:$E$37,'SIDE ORDER & FOC'!B35,DATABASE!$F$3:$F$37)","v":1.66},18.259999999999998,1.66,0,null,"SEAFOOD TOFU ",6,66]
[25,"AA10 1210:SALAD RL",5.9,{"$f":"VLOOKUP(B36,Summary!$B$30:$AK$367,5,FALSE)","v":4},23.6,null,{"$f":"SUMIF('DAILY FOC '!$A$9:$A$80,'SIDE ORDER & FOC'!B36,'DAILY FOC '!$BN$9:$BN$80)","v":0},0,4,23.6,null,{"$f":"SUMIF(DATABASE!$E$3:$E$37,'SIDE ORDER & FOC'!B36,DATABASE!$F$3:$F$37)","v":1.9},7.6,1.9,0,null,"SALAD ROLL ",4,16]
[26,"AA11 1211:BBQ CHK",5.9,{"$f":"VLOOKUP(B37,Summary!$B$30:$AK$367,5,FALSE)","v":4},23.6,null,{"$f":"SUMIF('DAILY FOC '!$A$9:$A$80,'SIDE ORDER & FOC'!B37,'DAILY FOC '!$BN$9:$BN$80)","v":0},0,4,23.6,null,{"$f":"SUMIF(DATABASE!$E$3:$E$37,'SIDE ORDER & FOC'!B37,DATABASE!$F$3:$F$37)","v":2.1},8.4,2.1,0,null,"BBQ CHICKEN ",8,32]
[27,"AP01 1411:MC ALACARTE",16.899999999999999,{"$f":"VLOOKUP(B38,Summary!$B$30:$AK$367,5,FALSE)","v":11},185.89999999999998,null,{"$f":"SUMIF('DAILY FOC '!$A$9:$A$80,'SIDE ORDER & FOC'!B38,'DAILY FOC '!$BN$9:$BN$80)","v":0},0,11,185.89999999999998,null,{"$f":"SUMIF(DATABASE!$E$3:$E$37,'SIDE ORDER & FOC'!B38,DATABASE!$F$3:$F$37)","v":4.5999999999999996},50.599999999999994,4.5999999999999996,0,null,"MCCAIN VERSITOT",8,{"$f":"+R38*D38","v":88}]
[null,null,null,null,null,null,null,null,null,null,null,null,null,null,null,null,"MCCAIN SMILES",6,{"$f":"+R39*D38","v":66}]
[null,null,null,null,null,null,null,null,null,null,null,null,null,null,null,null,"MCCAIN ONION RING",8,{"$f":"+R40*D38","v":88}]
[null,null,null,null,null,null,null,null,null,null,null,null,null,null,null,null,"MCCAIN SPIRAL FRIES",0.12,{"$f":"+R41*D38","v":1.3199999999999998}]
[{"$f":"+A38+1","v":28},"AP02 1412:MC BEER",12.9,{"$f":"VLOOKUP(B42,Summary!$B$30:$AK$367,5,FALSE)","v":7},90.3,null,{"$f":"SUMIF('DAILY FOC '!$A$9:$A$80,'SIDE ORDER & FOC'!B42,'DAILY FOC '!$BN$9:$BN$80)","v":0},0,7,90.3,null,{"$f":"SUMIF(DATABASE!$E$3:$E$37,'SIDE ORDER & FOC'!B42,DATABASE!$F$3:$F$37)","v":4.5999999999999996},32.199999999999996,{"$f":"+L42","v":4.5999999999999996},0,null,"MCCAIN VERSITOT",8,{"$f":"+R42*D42","v":56}]
[null,null,null,null,null,null,null,null,null,null,null,null,null,null,null,null,"MCCAIN SMILES",6,{"$f":"+R43*D42","v":42}]
[null,null,null,null,null,null,null,null,null,null,null,null,null,null,null,null,"MCCAIN ONION RING",8,{"$f":"+R44*D42","v":56}]
[null,null,null,null,null,null,null,null,null,null,null,null,null,null,null,null,"MCCAIN SPIRAL FRIES",0.12,{"$f":"+R45*D42","v":0.84}]
[30,"AA39 1309:MC S.FRIES",7.9,{"$f":"VLOOKUP(B46,Summary!$B$30:$AK$367,5,FALSE)","v":3},23.700000000000003,null,{"$f":"SUMIF('DAILY FOC '!$A$9:$A$80,'SIDE ORDER & FOC'!B46,'DAILY FOC '!$BN$9:$BN$80)","v":0},{"$f":"G46*C46","v":0},{"$f":"+D46-G46","v":3},{"$f":"+I46*C46","v":23.700000000000003},null,{"$f":"SUMIF(DATABASE!$E$3:$E$37,'SIDE ORDER & FOC'!B46,DATABASE!$F$3:$F$37)","v":1.72},{"$f":"+L46*I46","v":5.16},{"$f":"+L46","v":1.72},{"$f":"+N46*G46","v":0},null,"MCCAIN SPIRAL FRIES",0.22,{"$f":"+R46*D46","v":0.66}]
[31,"AA41 1311:MC HSH BRW",7.9,{"$f":"VLOOKUP(B47,Summary!$B$30:$AK$367,5,FALSE)","v":1},7.9,null,{"$f":"SUMIF('DAILY FOC '!$A$9:$A$80,'SIDE ORDER & FOC'!#REF!,'DAILY FOC '!$BN$9:$BN$80)","v":0},0,1,7.9,null,{"$f":"SUMIF(DATABASE!$E$3:$E$37,'SIDE ORDER & FOC'!#REF!,DATABASE!$F$3:$F$37)","v":0},0,0,0,null,"MCCAIN VERSITOT",15,{"$f":"+R47*D47","v":15}]
[32,"AA40 1310:MC HP SMIL",7.9,{"$f":"VLOOKUP(B48,Summary!$B$30:$AK$367,5,FALSE)","v":0},0,null,{"$f":"SUMIF('DAILY FOC '!$A$9:$A$80,'SIDE ORDER & FOC'!B48,'DAILY FOC '!$BN$9:$BN$80)","v":0},0,0,0,null,{"$f":"SUMIF(DATABASE!$E$3:$E$37,'SIDE ORDER & FOC'!B48,DATABASE!$F$3:$F$37)","v":1.34},0,1.34,0,null,"MCCAIN SMILES",8,{"$f":"+R48*D48","v":0}]
[]
[null,"SET 9.90"]
[33,"AA01 1201:SFD STICK"]
[{"$f":"+A51+1","v":34},"ZAA02 1202:FREN FRIES",{"$f":"9.9/2","v":4.95},{"$f":"VLOOKUP(B52,Summary!$B$30:$AK$367,5,FALSE)","v":109},{"$f":"D52*C52","v":539.55000000000007},null,{"$f":"SUMIF('DAILY FOC '!$A$9:$A$80,'SIDE ORDER & FOC'!B52,'DAILY FOC '!$BN$9:$BN$80)","v":0},{"$f":"G52*C52","v":0},{"$f":"+D52-G52","v":109},{"$f":"+I52*C52","v":539.55000000000007},null,{"$f":"SUMIF(DATABASE!$N$3:$N$44,'SIDE ORDER & FOC'!B52,DATABASE!$O$3:$O$49)","v":1.51},{"$f":"+L52*I52","v":164.59},{"$f":"+L52","v":1.51},{"$f":"+N52*G52","v":0}]
[{"$f":"+A52+1","v":35},"ZAA04 1204:FSHBALL",{"$f":"9.9/2","v":4.95},{"$f":"VLOOKUP(B53,Summary!$B$30:$AK$367,5,FALSE)","v":39},193.05,null,{"$f":"SUMIF('DAILY FOC '!$A$9:$A$80,'SIDE ORDER & FOC'!B53,'DAILY FOC '!$BN$9:$BN$80)","v":0},0,39,193.05,null,null,0,0,0]
[36,"ZAA04 1204:FSHBALL",4.95,{"$f":"VLOOKUP(B54,Summary!$B$30:$AK$367,5,FALSE)","v":39},193.05,null,{"$f":"SUMIF('DAILY FOC '!$A$9:$A$80,'SIDE ORDER & FOC'!B54,'DAILY FOC '!$BN$9:$BN$80)","v":0},0,39,193.05,null,{"$f":"SUMIF(DATABASE!$N$3:$N$44,'SIDE ORDER & FOC'!B54,DATABASE!$O$3:$O$49)","v":1.7},66.3,1.7,0,null,"FISH BALL (SMALL)",8,32]
[37,"ZAA06 1206:SPRING RL",4.95,{"$f":"VLOOKUP(B55,Summary!$B$30:$AK$367,5,FALSE)","v":11},54.45,null,{"$f":"SUMIF('DAILY FOC '!$A$9:$A$80,'SIDE ORDER & FOC'!B55,'DAILY FOC '!$BN$9:$BN$80)","v":0},0,11,54.45,null,{"$f":"SUMIF(DATABASE!$N$3:$N$44,'SIDE ORDER & FOC'!B55,DATABASE!$O$3:$O$49)","v":1.7},18.7,1.7,0,null,"SPRING ROLL",4,0]
[38,"ZAA06 1206:SPRING RL",4.95,{"$f":"VLOOKUP(B56,Summary!$B$30:$AK$367,5,FALSE)","v":11},54.45,null,{"$f":"SUMIF('DAILY FOC '!$A$9:$A$80,'SIDE ORDER & FOC'!B56,'DAILY FOC '!$BN$9:$BN$80)","v":0},0,11,54.45,null,{"$f":"SUMIF(DATABASE!$N$3:$N$44,'SIDE ORDER & FOC'!B56,DATABASE!$O$3:$O$49)","v":1.7},18.7,1.7,0,null,"SPRING ROLL",4,{"$f":"+R56*D56","v":44}]
[39,"ZAA07 1207:SAUSG",4.95,{"$f":"VLOOKUP(B57,Summary!$B$30:$AK$367,5,FALSE)","v":31},153.45000000000002,null,{"$f":"SUMIF('DAILY FOC '!$A$9:$A$80,'SIDE ORDER & FOC'!B57,'DAILY FOC '!$BN$9:$BN$80)","v":0},0,31,153.45000000000002,null,{"$f":"SUMIF(DATABASE!$N$3:$N$44,'SIDE ORDER & FOC'!B57,DATABASE!$O$3:$O$49)","v":2.44},75.64,2.44,0,null,"CHICKEN SAUSAGE ",1,{"$f":"+R57*D57","v":31}]
[40,"ZAA08 1208:HOTDOG BUN",4.95,{"$f":"VLOOKUP(B58,Summary!$B$30:$AK$367,5,FALSE)","v":0},0,null,{"$f":"SUMIF('DAILY FOC '!$A$9:$A$80,'SIDE ORDER & FOC'!B58,'DAILY FOC '!$BN$9:$BN$80)","v":0},0,0,0,null,{"$f":"SUMIF(DATABASE!$N$3:$N$44,'SIDE ORDER & FOC'!B58,DATABASE!$O$3:$O$49)","v":2.04},0,2.04,0,null,"CHICKEN SAUSAGE ",1,{"$f":"+R58*D58","v":0}]
[null,null,null,null,null,null,null,null,null,null,null,null,null,null,null,null,"HOT DOG BUN ",1,{"$f":"+R59*D58","v":0}]
[{"$f":"+A58+1","v":41},"ZAA09 1209:SF TF",4.95,{"$f":"VLOOKUP(B60,Summary!$B$30:$AK$367,5,FALSE)","v":59},{"$f":"D60*C60","v":292.05},null,{"$f":"SUMIF('DAILY FOC '!$A$9:$A$80,'SIDE ORDER & FOC'!B60,'DAILY FOC '!$BN$9:$BN$80)","v":0},{"$f":"G60*C60","v":0},{"$f":"+D60-G60","v":59},{"$f":"+I60*C60","v":292.05},null,{"$f":"SUMIF(DATABASE!$N$3:$N$44,'SIDE ORDER & FOC'!B60,DATABASE!$O$3:$O$49)","v":1.66},97.94,1.66,0,null,"SEAFOOD TOFU ",6,{"$f":"+R60*D60","v":354}]
[42,"ZAA10 1210:SALAD RL",4.95,{"$f":"VLOOKUP(B61,Summary!$B$30:$AK$367,5,FALSE)","v":20},99,null,{"$f":"SUMIF('DAILY FOC '!$A$9:$A$80,'SIDE ORDER & FOC'!B61,'DAILY FOC '!$BN$9:$BN$80)","v":0},0,20,99,null,{"$f":"SUMIF(DATABASE!$N$3:$N$44,'SIDE ORDER & FOC'!B61,DATABASE!$O$3:$O$49)","v":1.9},38,1.9,0,null,"SALAD ROLL ",4,{"$f":"+R61*D61","v":80}]
[43,"ZAA11 1211:BBQ CHK",4.95,{"$f":"VLOOKUP(B62,Summary!$B$30:$AK$367,5,FALSE)","v":21},103.95,null,{"$f":"SUMIF('DAILY FOC '!$A$9:$A$80,'SIDE ORDER & FOC'!B62,'DAILY FOC '!$BN$9:$BN$80)","v":0},0,21,103.95,null,{"$f":"SUMIF(DATABASE!$N$3:$N$44,'SIDE ORDER & FOC'!B62,DATABASE!$O$3:$O$49)","v":2.1},44.1,2.1,0,null,"BBQ CHICKEN ",8,168]
[]
[null,"SET 13.90"]
[44,"AB01 1301:DUMPLING",null,null,null,null,null,null,null,null,null,{"$f":"SUMIF(DATABASE!$N$3:$N$44,'SIDE ORDER & FOC'!B65,DATABASE!$O$3:$O$49)","v":0},0,0,0]
[{"$f":"+A65+1","v":45},"ZAB02 1302:NUGGET",{"$f":"13.9/2","v":6.95},{"$f":"VLOOKUP(B66,Summary!$B$30:$AK$367,5,FALSE)","v":40},{"$f":"D66*C66","v":278},null,{"$f":"SUMIF('DAILY FOC '!$A$9:$A$80,'SIDE ORDER & FOC'!B66,'DAILY FOC '!$BN$9:$BN$80)","v":0},{"$f":"G66*C66","v":0},{"$f":"+D66-G66","v":40},{"$f":"+I66*C66","v":278},null,{"$f":"SUMIF(DATABASE!$N$3:$N$44,'SIDE ORDER & FOC'!B66,DATABASE!$O$3:$O$49)","v":1.61},64.400000000000006,1.61,0,null,"CHICKEN NUGGET",6,{"$f":"+R66*D66","v":240}]
[{"$f":"+A66+1","v":46},"ZAB03 1303:CHK WING",{"$f":"13.9/2","v":6.95},{"$f":"VLOOKUP(B67,Summary!$B$30:$AK$367,5,FALSE)","v":43},298.85000000000002,null,{"$f":"SUMIF('DAILY FOC '!$A$9:$A$80,'SIDE ORDER & FOC'!B67,'DAILY FOC '!$BN$9:$BN$80)","v":0},0,43,298.85000000000002,null,{"$f":"SUMIF(DATABASE!$N$3:$N$44,'SIDE ORDER & FOC'!B67,DATABASE!$O$3:$O$49)","v":3.7},159.1,3.7,0,null,"CHICKEN WINGS (MARINATED)",3,129]
[47,"AB04 1304:IKAN BILIS",6.95,{"$f":"VLOOKUP(B68,Summary!$B$30:$AK$367,5,FALSE)","v":0},0,null,{"$f":"SUMIF('DAILY FOC '!$A$9:$A$80,'SIDE ORDER & FOC'!B68,'DAILY FOC '!$BN$9:$BN$80)","v":0},0,0,0,null,{"$f":"SUMIF(DATABASE!$N$3:$N$44,'SIDE ORDER & FOC'!B68,DATABASE!$O$3:$O$49)","v":0},0,0,0]
[48,"AB05 1305:THAI RL",6.95,{"$f":"VLOOKUP(B69,Summary!$B$30:$AK$367,5,FALSE)","v":0},0,null,{"$f":"SUMIF('DAILY FOC '!$A$9:$A$80,'SIDE ORDER & FOC'!B69,'DAILY FOC '!$BN$9:$BN$80)","v":0},0,0,0,null,{"$f":"SUMIF(DATABASE!$N$3:$N$44,'SIDE ORDER & FOC'!B69,DATABASE!$O$3:$O$49)","v":0},0,0,0]
[49,"AB06 1306:DF WING",6.95,{"$f":"VLOOKUP(B70,Summary!$B$30:$AK$367,5,FALSE)","v":0},0,null,{"$f":"SUMIF('DAILY FOC '!$A$9:$A$80,'SIDE ORDER & FOC'!B70,'DAILY FOC '!$BN$9:$BN$80)","v":0},0,0,0,null,{"$f":"SUMIF(DATABASE!$N$3:$N$44,'SIDE ORDER & FOC'!B70,DATABASE!$O$3:$O$49)","v":0},0,0,0]
[50,"AB07 1307: CALAMARI",6.95,{"$f":"VLOOKUP(B71,Summary!$B$30:$AK$367,5,FALSE)","v":0},0,null,{"$f":"SUMIF('DAILY FOC '!$A$9:$A$80,'SIDE ORDER & FOC'!B71,'DAILY FOC '!$BN$9:$BN$80)","v":0},0,0,0,null,{"$f":"SUMIF(DATABASE!$N$3:$N$44,'SIDE ORDER & FOC'!B71,DATABASE!$O$3:$O$49)","v":0},0,0,0]
[51,"ZAB08 1308 MC RING",6.95,{"$f":"VLOOKUP(B72,Summary!$B$30:$AK$367,5,FALSE)","v":10},69.5,null,{"$f":"SUMIF('DAILY FOC '!$A$9:$A$80,'SIDE ORDER & FOC'!B72,'DAILY FOC '!$BN$9:$BN$80)","v":0},0,10,69.5,null,{"$f":"SUMIF(DATABASE!$N$3:$N$44,'SIDE ORDER & FOC'!B72,DATABASE!$O$3:$O$49)","v":1.4},14,1.4,0,null,"MCCAIN ONION RING",8,{"$f":"+R72*D72","v":80}]
[52,"ZAB09 1309:MC SPIRAL F",6.95,{"$f":"VLOOKUP(B73,Summary!$B$30:$AK$367,5,FALSE)","v":13},90.350000000000009,null,{"$f":"SUMIF('DAILY FOC '!$A$9:$A$80,'SIDE ORDER & FOC'!B73,'DAILY FOC '!$BN$9:$BN$80)","v":0},0,13,90.350000000000009,null,{"$f":"SUMIF(DATABASE!$N$3:$N$44,'SIDE ORDER & FOC'!B73,DATABASE!$O$3:$O$49)","v":1.72},22.36,1.72,0]
[53,"ZAB10 1310:MC HP SMILE",6.95,{"$f":"VLOOKUP(B74,Summary!$B$30:$AK$367,5,FALSE)","v":3},20.85,null,{"$f":"SUMIF('DAILY FOC '!$A$9:$A$80,'SIDE ORDER & FOC'!B74,'DAILY FOC '!$BN$9:$BN$80)","v":0},0,3,20.85,null,{"$f":"SUMIF(DATABASE!$N$3:$N$44,'SIDE ORDER & FOC'!B74,DATABASE!$O$3:$O$49)","v":1.34},4.0200000000000005,1.34,0,null,"MCCAIN SMILES",8,{"$f":"+R74*D74","v":24}]
[54,"ZAB11 1311:MC HASH BRW",6.95,{"$f":"VLOOKUP(B75,Summary!$B$30:$AK$367,5,FALSE)","v":7},48.65,null,{"$f":"SUMIF('DAILY FOC '!$A$9:$A$80,'SIDE ORDER & FOC'!B75,'DAILY FOC '!$BN$9:$BN$80)","v":0},0,7,48.65,null,{"$f":"SUMIF(DATABASE!$N$3:$N$44,'SIDE ORDER & FOC'!B75,DATABASE!$O$3:$O$49)","v":0.59},4.13,0.59,0,null,"MCCAIN VERSITOT",15,{"$f":"+R75*D75","v":105}]
[]
[]
["Total Sales / COST",null,null,{"$f":"SUM(D11:D77)","v":1170},{"$f":"SUM(E11:E77)","v":9168.9000000000015},null,{"$f":"SUM(G11:G77)","v":0},0,{"$f":"SUM(I11:I77)","v":1170},{"$f":"SUM(J11:J77)","v":9168.9000000000015},null,null,{"$f":"SUM(M11:M77)","v":2751.65},null,{"$f":"SUM(O11:O77)","v":0}]
[]
[]
[]
["PART (B)  LOK LOK ITEMS"]
[null,null,null,"(A)",null,null,"(B)",null,"(A) - (B)"]
[null,null,null,"SIDE ORDER                 (INCLUDING FOC)",null,null,"FOC",null,"SIDE ORDER                        (NETT SALES)",null,null,"SIDE ORDER                        (NETT COST)",null,"FOC (COST)",null,null,"USAGE"]
["NO","Item","S/P","Sales","TOTAL",null,"Sales","TOTAL","Sales","TOTAL",null,"COST","TOTAL","COST","TOTAL",null,"MATERIAL ","RECIPE","TOTAL"]
[null,null,"RM","Q","RM",null,"Q","RM","Q","RM",null,"RM","RM","RM","RM",null,"Q","Q","Q"]
[1,"TW01 81001:BP CKN CP",12.9,{"$f":"VLOOKUP(B87,Summary!$B$30:$AK$367,5,FALSE)","v":1},{"$f":"D87*C87","v":12.9},null,{"$f":"SUMIF('DAILY FOC '!$A$9:$A$200,'SIDE ORDER & FOC'!B87,'DAILY FOC '!$BN$9:$BN$200)","v":0},{"$f":"G87*C87","v":0},{"$f":"+D87-G87","v":1},{"$f":"+I87*C87","v":12.9},null,{"$f":"SUMIF(DATABASE!$K$2:$K$28,'SIDE ORDER & FOC'!B87,DATABASE!$L$2:$L$21)","v":3.97},{"$f":"+L87*I87","v":3.97},{"$f":"+L87","v":3.97},{"$f":"+N87*G87","v":0},null,"CHICKEN CHOP (MARINATED)",1,{"$f":"+R87*D87","v":1}]
[{"$f":"+A87+1","v":2},"TW02 81003:MR CKN CP",12.9,{"$f":"VLOOKUP(B88,Summary!$B$30:$AK$367,5,FALSE)","v":1},{"$f":"D88*C88","v":12.9},null,{"$f":"SUMIF('DAILY FOC '!$A$9:$A$200,'SIDE ORDER & FOC'!B88,'DAILY FOC '!$BN$9:$BN$200)","v":0},0,{"$f":"+D88-G88","v":1},12.9,null,{"$f":"SUMIF(DATABASE!$K$2:$K$28,'SIDE ORDER & FOC'!B88,DATABASE!$L$2:$L$21)","v":4.0999999999999996},4.0999999999999996,{"$f":"+L88","v":4.0999999999999996},{"$f":"+N88*G88","v":0},null,"CHICKEN CHOP (MARINATED)",1,{"$f":"+R88*D88","v":1}]
[{"$f":"+A88+1","v":3},"TW03 81004:CKN MARY",12.9,{"$f":"VLOOKUP(B89,Summary!$B$30:$AK$367,5,FALSE)","v":0},0,null,{"$f":"SUMIF('DAILY FOC '!$A$9:$A$200,'SIDE ORDER & FOC'!B89,'DAILY FOC '!$BN$9:$BN$200)","v":0},0,0,0,null,{"$f":"SUMIF(DATABASE!$K$2:$K$28,'SIDE ORDER & FOC'!B89,DATABASE!$L$2:$L$21)","v":4.7699999999999996},0,4.7699999999999996,0,null,"CHICKEN CHOP (MARINATED)",1,{"$f":"+R89*D89","v":0}]
[4,"TW04 81005:FSH&CHIP",12.9,{"$f":"VLOOKUP(B90,Summary!$B$30:$AK$367,5,FALSE)","v":0},0,null,{"$f":"SUMIF('DAILY FOC '!$A$9:$A$200,'SIDE ORDER & FOC'!B90,'DAILY FOC '!$BN$9:$BN$200)","v":0},{"$f":"G90*C90","v":0},{"$f":"+D90-G90","v":0},{"$f":"+I90*C90","v":0},null,{"$f":"SUMIF(DATABASE!$K$2:$K$28,'SIDE ORDER & FOC'!B90,DATABASE!$L$2:$L$21)","v":4.25},{"$f":"+L90*I90","v":0},{"$f":"+L90","v":4.25},{"$f":"+N90*G90","v":0},null,"FISH & CHIP ",1,{"$f":"+R90*D90","v":0}]
[5,"TW05 81007:CHK SALAD",12.9,{"$f":"VLOOKUP(B91,Summary!$B$30:$AK$367,5,FALSE)","v":0},0,null,{"$f":"SUMIF('DAILY FOC '!$A$9:$A$200,'SIDE ORDER & FOC'!B91,'DAILY FOC '!$BN$9:$BN$200)","v":0},0,{"$f":"+D91-G91","v":0},0,null,{"$f":"SUMIF(DATABASE!$K$2:$K$28,'SIDE ORDER & FOC'!B91,DATABASE!$L$2:$L$21)","v":2.65},0,{"$f":"+L91","v":2.65},{"$f":"+N91*G91","v":0},null,"CHICKEN CHOP (MARINATED)",0.5,0]
[6,"TC01 81101:THAI CHK",9.9,{"$f":"VLOOKUP(B92,Summary!$B$30:$AK$367,5,FALSE)","v":0},0,null,{"$f":"SUMIF('DAILY FOC '!$A$9:$A$200,'SIDE ORDER & FOC'!B92,'DAILY FOC '!$BN$9:$BN$200)","v":0},0,0,0,null,{"$f":"SUMIF(DATABASE!$K$2:$K$28,'SIDE ORDER & FOC'!B92,DATABASE!$L$2:$L$21)","v":2.7},0,2.7,0,null,"CHICKEN CHOP (MARINATED)",0.5,{"$f":"+R92*D92","v":0}]
[7,"TC02 81102:MAMITE CHK",9.9,{"$f":"VLOOKUP(B93,Summary!$B$30:$AK$367,5,FALSE)","v":1},9.9,null,{"$f":"SUMIF('DAILY FOC '!$A$9:$A$200,'SIDE ORDER & FOC'!B93,'DAILY FOC '!$BN$9:$BN$200)","v":0},{"$f":"G93*C93","v":0},{"$f":"+D93-G93","v":1},{"$f":"+I93*C93","v":9.9},null,{"$f":"SUMIF(DATABASE!$K$2:$K$28,'SIDE ORDER & FOC'!B93,DATABASE!$L$2:$L$21)","v":2.2000000000000002},{"$f":"+L93*I93","v":2.2000000000000002},{"$f":"+L93","v":2.2000000000000002},{"$f":"+N93*G93","v":0},null,"CHICKEN CHOP (MARINATED)",0.5,{"$f":"+R93*D93","v":0.5}]
[8,"TC03 81105:BUTTER CHK",9.9,{"$f":"VLOOKUP(B94,Summary!$B$30:$AK$367,5,FALSE)","v":0},0,null,{"$f":"SUMIF('DAILY FOC '!$A$9:$A$200,'SIDE ORDER & FOC'!B94,'DAILY FOC '!$BN$9:$BN$200)","v":0},0,{"$f":"+D94-G94","v":0},0,null,{"$f":"SUMIF(DATABASE!$K$2:$K$28,'SIDE ORDER & FOC'!B94,DATABASE!$L$2:$L$21)","v":2.4500000000000002},{"$f":"+L94*I94","v":0},{"$f":"+L94","v":2.4500000000000002},{"$f":"+N94*G94","v":0},null,"CHICKEN CHOP (MARINATED)",0.5,{"$f":"+R94*D94","v":0}]
[9,"TC04 81117:THAI FSH",9.9,{"$f":"VLOOKUP(B95,Summary!$B$30:$AK$367,5,FALSE)","v":0},0,null,{"$f":"SUMIF('DAILY FOC '!$A$9:$A$200,'SIDE ORDER & FOC'!B95,'DAILY FOC '!$BN$9:$BN$200)","v":0},{"$f":"G95*C95","v":0},{"$f":"+D95-G95","v":0},{"$f":"+I95*C95","v":0},null,{"$f":"SUMIF(DATABASE!$K$2:$K$28,'SIDE ORDER & FOC'!B95,DATABASE!$L$2:$L$21)","v":2.57},{"$f":"+L95*I95","v":0},{"$f":"+L95","v":2.57},{"$f":"+N95*G95","v":0},null,"FISH & CHIP ",0.5,{"$f":"+R95*D95","v":0}]
[10,"TC05 81118:MAMITE FSH",9.9,{"$f":"VLOOKUP(B96,Summary!$B$30:$AK$367,5,FALSE)","v":0},0,null,{"$f":"SUMIF('DAILY FOC '!$A$9:$A$200,'SIDE ORDER & FOC'!B96,'DAILY FOC '!$BN$9:$BN$200)","v":0},0,{"$f":"+D96-G96","v":0},0,null,{"$f":"SUMIF(DATABASE!$K$2:$K$28,'SIDE ORDER & FOC'!B96,DATABASE!$L$2:$L$21)","v":2.0699999999999998},0,{"$f":"+L96","v":2.0699999999999998},{"$f":"+N96*G96","v":0},null,"FISH & CHIP ",0.5,{"$f":"+R96*D96","v":0}]
[11,"TC06 81119:BUTTER FSH",9.9,{"$f":"VLOOKUP(B97,Summary!$B$30:$AK$367,5,FALSE)","v":0},0,null,{"$f":"SUMIF('DAILY FOC '!$A$9:$A$200,'SIDE ORDER & FOC'!B97,'DAILY FOC '!$BN$9:$BN$200)","v":0},0,0,0,null,{"$f":"SUMIF(DATABASE!$K$2:$K$28,'SIDE ORDER & FOC'!B97,DATABASE!$L$2:$L$21)","v":2.3199999999999998},0,2.3199999999999998,0,null,"FISH & CHIP ",0.5,{"$f":"+R97*D97","v":0}]
[12,"TM01 80001:CHK HAM",1.5,{"$f":"VLOOKUP(B98,Summary!$B$30:$AK$367,5,FALSE)","v":24},{"$f":"D98*C98","v":36},null,{"$f":"SUMIF('DAILY FOC '!$A$9:$A$200,'SIDE ORDER & FOC'!B98,'DAILY FOC '!$BN$9:$BN$200)","v":0},0,{"$f":"+D98-G98","v":24},36,null,{"$f":"SUMIF(DATABASE!$H$3:$H$41,'SIDE ORDER & FOC'!B98,DATABASE!$I$3:$I$41)","v":0.25},6,{"$f":"+L98","v":0.25},{"$f":"+N98*G98","v":0},null,"CHICKEN HAM",3,{"$f":"+R98*D98","v":72}]
[13,"TM02 80002:CHK KIDNEY",1.5,{"$f":"VLOOKUP(B99,Summary!$B$30:$AK$367,5,FALSE)","v":49},{"$f":"D99*C99","v":73.5},null,{"$f":"SUMIF('DAILY FOC '!$A$9:$A$200,'SIDE ORDER & FOC'!B99,'DAILY FOC '!$BN$9:$BN$200)","v":0},0,{"$f":"+D99-G99","v":49},73.5,null,{"$f":"SUMIF(DATABASE!$H$3:$H$41,'SIDE ORDER & FOC'!B99,DATABASE!$I$3:$I$41)","v":0.35},17.149999999999999,{"$f":"+L99","v":0.35},{"$f":"+N99*G99","v":0},null,"CHICKEN KIDNEY",4,{"$f":"+R99*D99","v":196}]
[14,"TM03 80003:COC SAUSG",2,{"$f":"VLOOKUP(B100,Summary!$B$30:$AK$367,5,FALSE)","v":25},50,null,{"$f":"SUMIF('DAILY FOC '!$A$9:$A$200,'SIDE ORDER & FOC'!B100,'DAILY FOC '!$BN$9:$BN$200)","v":0},0,25,50,null,{"$f":"SUMIF(DATABASE!$H$3:$H$41,'SIDE ORDER & FOC'!B100,DATABASE!$I$3:$I$41)","v":0.4},10,0.4,0,null,"CHICKEN COCKTAIL SAUSAGE ",3,{"$f":"+R100*D100","v":75}]
[15,"TM04 80004:CHK SAUSG",2,{"$f":"VLOOKUP(B101,Summary!$B$30:$AK$367,5,FALSE)","v":14},28,null,{"$f":"SUMIF('DAILY FOC '!$A$9:$A$200,'SIDE ORDER & FOC'!B101,'DAILY FOC '!$BN$9:$BN$200)","v":0},0,14,28,null,{"$f":"SUMIF(DATABASE!$H$3:$H$41,'SIDE ORDER & FOC'!B101,DATABASE!$I$3:$I$41)","v":0.6},8.4,0.6,0,null,"CHICKEN SAUSAGE ",1,14]
[16,"TM05 80005:HAM&BEAN",2,{"$f":"VLOOKUP(B102,Summary!$B$30:$AK$367,5,FALSE)","v":28},{"$f":"D102*C102","v":56},null,{"$f":"SUMIF('DAILY FOC '!$A$9:$A$200,'SIDE ORDER & FOC'!B102,'DAILY FOC '!$BN$9:$BN$200)","v":0},{"$f":"G102*C102","v":0},{"$f":"+D102-G102","v":28},{"$f":"+I102*C102","v":56},null,{"$f":"SUMIF(DATABASE!$H$3:$H$41,'SIDE ORDER & FOC'!B102,DATABASE!$I$3:$I$41)","v":0.85},{"$f":"+L102*I102","v":23.8},{"$f":"+L102","v":0.85},{"$f":"+N102*G102","v":0},null,"HAM AND BEAN SPROUTS",4,{"$f":"+R102*D102","v":112}]
[17,"TM06 80006:CHK WING",2.5,{"$f":"VLOOKUP(B103,Summary!$B$30:$AK$367,5,FALSE)","v":67},167.5,null,{"$f":"SUMIF('DAILY FOC '!$A$9:$A$200,'SIDE ORDER & FOC'!B103,'DAILY FOC '!$BN$9:$BN$200)","v":0},0,67,167.5,null,{"$f":"SUMIF(DATABASE!$H$3:$H$41,'SIDE ORDER & FOC'!B103,DATABASE!$I$3:$I$41)","v":0.8},53.6,0.8,0,null,"BONELESS CHICKEN WING",1,67]
[18,"TM07 80007:CHEE H DOG",2.5,{"$f":"VLOOKUP(B104,Summary!$B$30:$AK$367,5,FALSE)","v":51},127.5,null,{"$f":"SUMIF('DAILY FOC '!$A$9:$A$200,'SIDE ORDER & FOC'!B104,'DAILY FOC '!$BN$9:$BN$200)","v":0},0,51,127.5,null,{"$f":"SUMIF(DATABASE!$H$3:$H$41,'SIDE ORDER & FOC'!B104,DATABASE!$I$3:$I$41)","v":1.95},99.45,1.95,0,null,"CHEESE SAUSAGE ",1,51]
[19,"TM08 80008:TRK STICK",2.5,{"$f":"VLOOKUP(B105,Summary!$B$30:$AK$367,5,FALSE)","v":4},{"$f":"D105*C105","v":10},null,{"$f":"SUMIF('DAILY FOC '!$A$9:$A$200,'SIDE ORDER & FOC'!B105,'DAILY FOC '!$BN$9:$BN$200)","v":0},{"$f":"G105*C105","v":0},{"$f":"+D105-G105","v":4},{"$f":"+I105*C105","v":10},null,{"$f":"SUMIF(DATABASE!$H$3:$H$41,'SIDE ORDER & FOC'!B105,DATABASE!$I$3:$I$41)","v":0.8},{"$f":"+L105*I105","v":3.2},{"$f":"+L105","v":0.8},{"$f":"+N105*G105","v":0},null,"TURKEY STICK",1,{"$f":"+R105*D105","v":4}]
[20,"TM09 80009:CHEE HAM",3,{"$f":"VLOOKUP(B106,Summary!$B$30:$AK$367,5,FALSE)","v":56},{"$f":"D106*C106","v":168},null,{"$f":"SUMIF('DAILY FOC '!$A$9:$A$200,'SIDE ORDER & FOC'!B106,'DAILY FOC '!$BN$9:$BN$200)","v":0},{"$f":"G106*C106","v":0},{"$f":"+D106-G106","v":56},{"$f":"+I106*C106","v":168},null,{"$f":"SUMIF(DATABASE!$H$3:$H$41,'SIDE ORDER & FOC'!B106,DATABASE!$I$3:$I$41)","v":0.97},{"$f":"+L106*I106","v":54.32},{"$f":"+L106","v":0.97},{"$f":"+N106*G106","v":0},null,"CHEESE CHICKEN HAM",3,{"$f":"+R106*D106","v":168}]
[21,"TM10 80010:CRAB HAM",3,{"$f":"VLOOKUP(B107,Summary!$B$30:$AK$367,5,FALSE)","v":19},{"$f":"D107*C107","v":57},null,{"$f":"SUMIF('DAILY FOC '!$A$9:$A$200,'SIDE ORDER & FOC'!B107,'DAILY FOC '!$BN$9:$BN$200)","v":0},{"$f":"G107*C107","v":0},{"$f":"+D107-G107","v":19},{"$f":"+I107*C107","v":57},null,{"$f":"SUMIF(DATABASE!$H$3:$H$41,'SIDE ORDER & FOC'!B107,DATABASE!$I$3:$I$41)","v":1.19},{"$f":"+L107*I107","v":22.61},{"$f":"+L107","v":1.19},{"$f":"+N107*G107","v":0},null,"CRABMEAT HAM",3,{"$f":"+R107*D107","v":57}]
[22,"TM11 80011:F CHK BAL",3,{"$f":"VLOOKUP(B108,Summary!$B$30:$AK$367,5,FALSE)","v":7},{"$f":"D108*C108","v":21},null,{"$f":"SUMIF('DAILY FOC '!$A$9:$A$200,'SIDE ORDER & FOC'!B108,'DAILY FOC '!$BN$9:$BN$200)","v":0},{"$f":"G108*C108","v":0},{"$f":"+D108-G108","v":7},{"$f":"+I108*C108","v":21},null,{"$f":"SUMIF(DATABASE!$H$3:$H$56,'SIDE ORDER & FOC'!B108,DATABASE!$I$3:$I$56)","v":1.08},{"$f":"+L108*I108","v":7.5600000000000005},{"$f":"+L108","v":1.08},{"$f":"+N108*G108","v":0},null,"FRIED CHICKEN BALLS",3,{"$f":"+R108*D108","v":21}]
[23,"TM12 80012:DCK MT",4,{"$f":"VLOOKUP(B109,Summary!$B$30:$AK$367,5,FALSE)","v":52},208,null,{"$f":"SUMIF('DAILY FOC '!$A$9:$A$200,'SIDE ORDER & FOC'!B109,'DAILY FOC '!$BN$9:$BN$200)","v":0},{"$f":"G109*C109","v":0},52,{"$f":"+I109*C109","v":208},null,{"$f":"SUMIF(DATABASE!$H$3:$H$41,'SIDE ORDER & FOC'!B109,DATABASE!$I$3:$I$41)","v":0},0,0,0,null,"BBQ DUCK MEAT",1,52]
[24,"TM13 80013:SCLOP SHL",4,{"$f":"VLOOKUP(B110,Summary!$B$30:$AK$367,5,FALSE)","v":10},{"$f":"D110*C110","v":40},null,{"$f":"SUMIF('DAILY FOC '!$A$9:$A$200,'SIDE ORDER & FOC'!B110,'DAILY FOC '!$BN$9:$BN$200)","v":0},{"$f":"G110*C110","v":0},{"$f":"+D110-G110","v":10},{"$f":"+I110*C110","v":40},null,{"$f":"SUMIF(DATABASE!$H$3:$H$56,'SIDE ORDER & FOC'!B110,DATABASE!$I$3:$I$56)","v":1.3},{"$f":"+L110*I110","v":13},{"$f":"+L110","v":1.3},{"$f":"+N110*G110","v":0},null,"CHICKEN SCALLOP‘S SHELL",2,{"$f":"+R110*D110","v":20}]
[25,"TM14 80014:CN C SAUSG",4,{"$f":"VLOOKUP(B111,Summary!$B$30:$AK$367,5,FALSE)","v":3},12,null,{"$f":"SUMIF('DAILY FOC '!$A$9:$A$200,'SIDE ORDER & FOC'!B111,'DAILY FOC '!$BN$9:$BN$200)","v":0},0,3,12,null,{"$f":"SUMIF(DATABASE!$H$3:$H$56,'SIDE ORDER & FOC'!B111,DATABASE!$I$3:$I$56)","v":1.38},{"$f":"+L111*I111","v":4.1399999999999997},{"$f":"+L111","v":1.38},{"$f":"+N111*G111","v":0},null,"CHINESE CHICKEN SAUSAGE",3,9]
[26,"TP01 80015:MT BAL",2,{"$f":"VLOOKUP(B112,Summary!$B$30:$AK$367,5,FALSE)","v":96},192,null,{"$f":"SUMIF('DAILY FOC '!$A$9:$A$200,'SIDE ORDER & FOC'!B112,'DAILY FOC '!$BN$9:$BN$200)","v":0},0,96,192,null,{"$f":"SUMIF(DATABASE!$H$3:$H$41,'SIDE ORDER & FOC'!B112,DATABASE!$I$3:$I$41)","v":0.45},43.2,0.45,0,null,"PORK MEATBALL",6,576]
[27,"TP02 80016:BACON",2.5,{"$f":"VLOOKUP(B113,Summary!$B$30:$AK$367,5,FALSE)","v":23},57.5,null,{"$f":"SUMIF('DAILY FOC '!$A$9:$A$200,'SIDE ORDER & FOC'!B113,'DAILY FOC '!$BN$9:$BN$200)","v":0},0,23,57.5,null,{"$f":"SUMIF(DATABASE!$H$3:$H$41,'SIDE ORDER & FOC'!B113,DATABASE!$I$3:$I$41)","v":0.75},17.25,0.75,0,null,"BACON",1,23]
[28,"TP03 80017:F WONTON",2.5,{"$f":"VLOOKUP(B114,Summary!$B$30:$AK$367,5,FALSE)","v":12},30,null,{"$f":"SUMIF('DAILY FOC '!$A$9:$A$200,'SIDE ORDER & FOC'!B114,'DAILY FOC '!$BN$9:$BN$200)","v":0},0,12,30,null,{"$f":"SUMIF(DATABASE!$H$3:$H$41,'SIDE ORDER & FOC'!B114,DATABASE!$I$3:$I$41)","v":0.8},9.6000000000000014,0.8,0,null,"FRIED WONTAN",4,48]
[29,"TP04 80018:WX RL",2.5,{"$f":"VLOOKUP(B115,Summary!$B$30:$AK$367,5,FALSE)","v":26},65,null,{"$f":"SUMIF('DAILY FOC '!$A$9:$A$200,'SIDE ORDER & FOC'!B115,'DAILY FOC '!$BN$9:$BN$200)","v":0},0,26,65,null,{"$f":"SUMIF(DATABASE!$H$3:$H$41,'SIDE ORDER & FOC'!B115,DATABASE!$I$3:$I$41)","v":0},0,0,0,null,"FIVE SPICES ROLL",5,130]
[30,"TP05 80019:DUMPLING",2.5,{"$f":"VLOOKUP(B116,Summary!$B$30:$AK$367,5,FALSE)","v":30},{"$f":"D116*C116","v":75},null,{"$f":"SUMIF('DAILY FOC '!$A$9:$A$200,'SIDE ORDER & FOC'!B116,'DAILY FOC '!$BN$9:$BN$200)","v":0},{"$f":"G116*C116","v":0},{"$f":"+D116-G116","v":30},{"$f":"+I116*C116","v":75},null,{"$f":"SUMIF(DATABASE!$H$3:$H$56,'SIDE ORDER & FOC'!B116,DATABASE!$I$3:$I$56)","v":0.63},{"$f":"+L116*I116","v":18.899999999999999},{"$f":"+L116","v":0.63},{"$f":"+N116*G116","v":0},null,"GOLD DUMPLINGS",3,{"$f":"+R116*D116","v":90}]
[31,"TP06 80020:TW SAUSG",3,{"$f":"VLOOKUP(B117,Summary!$B$30:$AK$367,5,FALSE)","v":105},315,null,{"$f":"SUMIF('DAILY FOC '!$A$9:$A$200,'SIDE ORDER & FOC'!B117,'DAILY FOC '!$BN$9:$BN$200)","v":0},0,105,315,null,{"$f":"SUMIF(DATABASE!$H$3:$H$41,'SIDE ORDER & FOC'!B117,DATABASE!$I$3:$I$41)","v":0},0,0,0,null,"TAIWAN SAUSAGE",1,105]
[32,"TP07 80021:ENA BC ROL",3,{"$f":"VLOOKUP(B118,Summary!$B$30:$AK$367,5,FALSE)","v":83},249,null,{"$f":"SUMIF('DAILY FOC '!$A$9:$A$200,'SIDE ORDER & FOC'!B118,'DAILY FOC '!$BN$9:$BN$200)","v":0},0,83,249,null,{"$f":"SUMIF(DATABASE!$H$3:$H$41,'SIDE ORDER & FOC'!B118,DATABASE!$I$3:$I$41)","v":0},0,0,0,null,"ENOKI AND BACON ROLL",4,332]
[33,"TP08 80022:NAN RU MT",3,{"$f":"VLOOKUP(B119,Summary!$B$30:$AK$367,5,FALSE)","v":12},{"$f":"D119*C119","v":36},null,{"$f":"SUMIF('DAILY FOC '!$A$9:$A$200,'SIDE ORDER & FOC'!B119,'DAILY FOC '!$BN$9:$BN$200)","v":0},{"$f":"G119*C119","v":0},{"$f":"+D119-G119","v":12},{"$f":"+I119*C119","v":36},null,{"$f":"SUMIF(DATABASE!$H$3:$H$56,'SIDE ORDER & FOC'!B119,DATABASE!$I$3:$I$56)","v":1.03},{"$f":"+L119*I119","v":12.36},{"$f":"+L119","v":1.03},{"$f":"+N119*G119","v":0},null,"RED FERMENTED BEANCURD FRIED MEAT",1,{"$f":"+R119*D119","v":12}]
[34,"TV01 80023:KANG KONG",1.5,{"$f":"VLOOKUP(B120,Summary!$B$30:$AK$367,5,FALSE)","v":39},58.5,null,{"$f":"SUMIF('DAILY FOC '!$A$9:$A$200,'SIDE ORDER & FOC'!B120,'DAILY FOC '!$BN$9:$BN$200)","v":0},0,39,58.5,null,{"$f":"SUMIF(DATABASE!$H$3:$H$41,'SIDE ORDER & FOC'!B120,DATABASE!$I$3:$I$41)","v":0},0,0,0,null,"KANGKONG",4,156]
[35,"TV02 80024:BROCCOLI",1.5,{"$f":"VLOOKUP(B121,Summary!$B$30:$AK$367,5,FALSE)","v":65},97.5,null,{"$f":"SUMIF('DAILY FOC '!$A$9:$A$200,'SIDE ORDER & FOC'!B121,'DAILY FOC '!$BN$9:$BN$200)","v":0},0,65,97.5,null,{"$f":"SUMIF(DATABASE!$H$3:$H$41,'SIDE ORDER & FOC'!B121,DATABASE!$I$3:$I$41)","v":0},0,0,0,null,"BROCCOLI",3,195]
[36,"TV03 80025:LONG BEAN",1.5,{"$f":"VLOOKUP(B122,Summary!$B$30:$AK$367,5,FALSE)","v":63},94.5,null,{"$f":"SUMIF('DAILY FOC '!$A$9:$A$200,'SIDE ORDER & FOC'!B122,'DAILY FOC '!$BN$9:$BN$200)","v":0},0,63,94.5,null,{"$f":"SUMIF(DATABASE!$H$3:$H$41,'SIDE ORDER & FOC'!B122,DATABASE!$I$3:$I$41)","v":0},0,0,0,null,"LONG BEAN",9,567]
[37,"TV04 80026:ABALO MR",2,{"$f":"VLOOKUP(B123,Summary!$B$30:$AK$367,5,FALSE)","v":109},218,null,{"$f":"SUMIF('DAILY FOC '!$A$9:$A$200,'SIDE ORDER & FOC'!B123,'DAILY FOC '!$BN$9:$BN$200)","v":0},0,109,218,null,{"$f":"SUMIF(DATABASE!$H$3:$H$41,'SIDE ORDER & FOC'!B123,DATABASE!$I$3:$I$41)","v":0},0,0,0,null,"ABALON MUSHROOM",3,327]
[38,"TV05 80027:OYSTER MR",2,{"$f":"VLOOKUP(B124,Summary!$B$30:$AK$367,5,FALSE)","v":2},{"$f":"D124*C124","v":4},null,{"$f":"SUMIF('DAILY FOC '!$A$9:$A$200,'SIDE ORDER & FOC'!B124,'DAILY FOC '!$BN$9:$BN$200)","v":0},{"$f":"G124*C124","v":0},{"$f":"+D124-G124","v":2},{"$f":"+I124*C124","v":4},null,{"$f":"SUMIF(DATABASE!$H$3:$H$56,'SIDE ORDER & FOC'!B124,DATABASE!$I$3:$I$56)","v":0.6},{"$f":"+L124*I124","v":1.2},{"$f":"+L124","v":0.6},{"$f":"+N124*G124","v":0},null,"OYSTER MUSHROOM",5,{"$f":"+R124*D124","v":10}]
[{"$f":"+A124+1","v":39},"TE01 80028:COCKLES",2,{"$f":"VLOOKUP(B125,Summary!$B$30:$AK$367,5,FALSE)","v":20},40,null,{"$f":"SUMIF('DAILY FOC '!$A$9:$A$200,'SIDE ORDER & FOC'!B125,'DAILY FOC '!$BN$9:$BN$200)","v":0},0,20,40,0,{"$f":"SUMIF(DATABASE!$H$3:$H$41,'SIDE ORDER & FOC'!B125,DATABASE!$I$3:$I$41)","v":0.4},8,0.4,0,null,"COCKLES",9,180]
[40,"TE02 80029:CTL FSH",1.5,{"$f":"VLOOKUP(B126,Summary!$B$30:$AK$367,5,FALSE)","v":6},9,null,{"$f":"SUMIF('DAILY FOC '!$A$9:$A$200,'SIDE ORDER & FOC'!B126,'DAILY FOC '!$BN$9:$BN$200)","v":0},0,6,9,null,{"$f":"SUMIF(DATABASE!$H$3:$H$41,'SIDE ORDER & FOC'!B126,DATABASE!$I$3:$I$41)","v":0.4},2.4000000000000004,0.4,0,null,"CUTTLEFISH ",4,24]
[41,"TE03 80030:CRB STICK",1.5,{"$f":"VLOOKUP(B127,Summary!$B$30:$AK$367,5,FALSE)","v":20},30,null,{"$f":"SUMIF('DAILY FOC '!$A$9:$A$200,'SIDE ORDER & FOC'!B127,'DAILY FOC '!$BN$9:$BN$200)","v":0},0,20,30,null,{"$f":"SUMIF(DATABASE!$H$3:$H$41,'SIDE ORDER & FOC'!B127,DATABASE!$I$3:$I$41)","v":0.5},10,0.5,0,null,"CRABSTICK ",2,40]
[42,"TE04 80031:FSH BAL S",1.5,{"$f":"VLOOKUP(B128,Summary!$B$30:$AK$367,5,FALSE)","v":110},165,null,{"$f":"SUMIF('DAILY FOC '!$A$9:$A$200,'SIDE ORDER & FOC'!B128,'DAILY FOC '!$BN$9:$BN$200)","v":0},0,110,165,null,{"$f":"SUMIF(DATABASE!$H$3:$H$41,'SIDE ORDER & FOC'!B128,DATABASE!$I$3:$I$41)","v":0.5},55,0.5,0,null,"FISH BALL (SMALL)",5,550]
[43,"TE05 80032:SOTONG",2,{"$f":"VLOOKUP(B129,Summary!$B$30:$AK$367,5,FALSE)","v":13},{"$f":"D129*C129","v":26},null,{"$f":"SUMIF('DAILY FOC '!$A$9:$A$200,'SIDE ORDER & FOC'!B129,'DAILY FOC '!$BN$9:$BN$200)","v":0},{"$f":"G129*C129","v":0},{"$f":"+D129-G129","v":13},{"$f":"+I129*C129","v":26},null,{"$f":"SUMIF(DATABASE!$H$3:$H$41,'SIDE ORDER & FOC'!B129,DATABASE!$I$3:$I$41)","v":0.75},{"$f":"+L129*I129","v":9.75},{"$f":"+L129","v":0.75},{"$f":"+N129*G129","v":0},null,"SOTONG",4,{"$f":"+R129*D129","v":52}]
[44,"TE06 80033:TPURA PRW",2,{"$f":"VLOOKUP(B130,Summary!$B$30:$AK$367,5,FALSE)","v":20},{"$f":"D130*C130","v":40},null,{"$f":"SUMIF('DAILY FOC '!$A$9:$A$200,'SIDE ORDER & FOC'!B130,'DAILY FOC '!$BN$9:$BN$200)","v":0},{"$f":"G130*C130","v":0},{"$f":"+D130-G130","v":20},{"$f":"+I130*C130","v":40},null,{"$f":"SUMIF(DATABASE!$H$3:$H$41,'SIDE ORDER & FOC'!B130,DATABASE!$I$3:$I$41)","v":0.45},{"$f":"+L130*I130","v":9},0.45,{"$f":"+N130*G130","v":0},null,"TEMPURA PRAWN",1,20]
[45,"TE07 80034:BBQ FSH SK",4,{"$f":"VLOOKUP(B131,Summary!$B$30:$AK$367,5,FALSE)","v":15},60,null,{"$f":"SUMIF('DAILY FOC '!$A$9:$A$200,'SIDE ORDER & FOC'!B131,'DAILY FOC '!$BN$9:$BN$200)","v":0},0,15,60,null,{"$f":"SUMIF(DATABASE!$H$3:$H$56,'SIDE ORDER & FOC'!B131,DATABASE!$I$3:$I$56)","v":0.4},{"$f":"+L131*I131","v":6},{"$f":"+L131","v":0.4},{"$f":"+N131*G131","v":0},null,"BARBECUE FISH SKIN",1,{"$f":"+R131*D131","v":15}]
[46,"TO01 80035:F SMS YAM",1.5,{"$f":"VLOOKUP(B132,Summary!$B$30:$AK$367,5,FALSE)","v":35},52.5,null,{"$f":"SUMIF('DAILY FOC '!$A$9:$A$200,'SIDE ORDER & FOC'!B132,'DAILY FOC '!$BN$9:$BN$200)","v":0},0,35,52.5,null,{"$f":"SUMIF(DATABASE!$H$3:$H$41,'SIDE ORDER & FOC'!B132,DATABASE!$I$3:$I$41)","v":0},0,0,0,null,"SAMOSA YAM",4,140]
[47,"TO02 80036:F TF SKIN",1.5,{"$f":"VLOOKUP(B133,Summary!$B$30:$AK$367,5,FALSE)","v":43},64.5,null,{"$f":"SUMIF('DAILY FOC '!$A$9:$A$200,'SIDE ORDER & FOC'!B133,'DAILY FOC '!$BN$9:$BN$200)","v":0},0,43,64.5,null,{"$f":"SUMIF(DATABASE!$H$3:$H$41,'SIDE ORDER & FOC'!B133,DATABASE!$I$3:$I$41)","v":0.25},10.75,0.25,0,null,"FRIED TOFU SKIN",3,129]
[48,"TO03 80037:TF PO",1.5,{"$f":"VLOOKUP(B134,Summary!$B$30:$AK$367,5,FALSE)","v":8},12,null,{"$f":"SUMIF('DAILY FOC '!$A$9:$A$200,'SIDE ORDER & FOC'!B134,'DAILY FOC '!$BN$9:$BN$200)","v":0},0,8,12,null,{"$f":"SUMIF(DATABASE!$H$3:$H$41,'SIDE ORDER & FOC'!B134,DATABASE!$I$3:$I$41)","v":0.25},2,0.25,0,null,"TOFU POK ",3,24]
[49,"TO04 80038:F MANTOU",1.5,{"$f":"VLOOKUP(B135,Summary!$B$30:$AK$367,5,FALSE)","v":29},{"$f":"D135*C135","v":43.5},null,{"$f":"SUMIF('DAILY FOC '!$A$9:$A$200,'SIDE ORDER & FOC'!B135,'DAILY FOC '!$BN$9:$BN$200)","v":0},{"$f":"G135*C135","v":0},{"$f":"+D135-G135","v":29},{"$f":"+I135*C135","v":43.5},null,{"$f":"SUMIF(DATABASE!$H$3:$H$56,'SIDE ORDER & FOC'!B135,DATABASE!$I$3:$I$56)","v":0.57999999999999996},{"$f":"+L135*I135","v":16.82},{"$f":"+L135","v":0.57999999999999996},{"$f":"+N135*G135","v":0},null,"FRIED MANTOU",2,{"$f":"+R135*D135","v":58}]
[50,"TO05 80039:CRS F BAO",1.5,{"$f":"VLOOKUP(B136,Summary!$B$30:$AK$367,5,FALSE)","v":3},{"$f":"D136*C136","v":4.5},null,{"$f":"SUMIF('DAILY FOC '!$A$9:$A$200,'SIDE ORDER & FOC'!B136,'DAILY FOC '!$BN$9:$BN$200)","v":0},{"$f":"G136*C136","v":0},{"$f":"+D136-G136","v":3},{"$f":"+I136*C136","v":4.5},null,{"$f":"SUMIF(DATABASE!$H$3:$H$56,'SIDE ORDER & FOC'!B136,DATABASE!$I$3:$I$56)","v":0.4},{"$f":"+L136*I136","v":1.2000000000000002},{"$f":"+L136","v":0.4},{"$f":"+N136*G136","v":0},null,"CRISPY FRIED BAO",1,{"$f":"+R136*D136","v":3}]
[51,"TO06 80040:QUAIL EGGS",2,{"$f":"VLOOKUP(B137,Summary!$B$30:$AK$367,5,FALSE)","v":37},74,null,{"$f":"SUMIF('DAILY FOC '!$A$9:$A$200,'SIDE ORDER & FOC'!B137,'DAILY FOC '!$BN$9:$BN$200)","v":0},0,37,74,null,{"$f":"SUMIF(DATABASE!$H$3:$H$41,'SIDE ORDER & FOC'!B137,DATABASE!$I$3:$I$41)","v":0.52},19.240000000000002,0.52,0,null,"QUAIL EGGS",4,148]
[52,"TO07 80041:FSH TF PO",2,{"$f":"VLOOKUP(B138,Summary!$B$30:$AK$367,5,FALSE)","v":5},{"$f":"D138*C138","v":10},null,{"$f":"SUMIF('DAILY FOC '!$A$9:$A$200,'SIDE ORDER & FOC'!B138,'DAILY FOC '!$BN$9:$BN$200)","v":0},{"$f":"G138*C138","v":0},{"$f":"+D138-G138","v":5},{"$f":"+I138*C138","v":10},null,{"$f":"SUMIF(DATABASE!$H$3:$H$56,'SIDE ORDER & FOC'!B138,DATABASE!$I$3:$I$56)","v":0.66},{"$f":"+L138*I138","v":3.3000000000000003},{"$f":"+L138","v":0.66},{"$f":"+N138*G138","v":0},null,"FISH MEAT TOFU POK",2,{"$f":"+R138*D138","v":10}]
[53,"TO08 80042:CRS BAO",2.5,{"$f":"VLOOKUP(B139,Summary!$B$30:$AK$367,5,FALSE)","v":10},{"$f":"D139*C139","v":25},null,{"$f":"SUMIF('DAILY FOC '!$A$9:$A$200,'SIDE ORDER & FOC'!B139,'DAILY FOC '!$BN$9:$BN$200)","v":0},{"$f":"G139*C139","v":0},{"$f":"+D139-G139","v":10},{"$f":"+I139*C139","v":25},null,{"$f":"SUMIF(DATABASE!$H$3:$H$56,'SIDE ORDER & FOC'!B139,DATABASE!$I$3:$I$56)","v":0.76},{"$f":"+L139*I139","v":7.6},{"$f":"+L139","v":0.76},{"$f":"+N139*G139","v":0},null,"CRISPY BAO",2,{"$f":"+R139*D139","v":20}]
[54,"TO09 80043:Y DUMPLING",2.5,{"$f":"VLOOKUP(B140,Summary!$B$30:$AK$367,5,FALSE)","v":5},{"$f":"D140*C140","v":12.5},null,{"$f":"SUMIF('DAILY FOC '!$A$9:$A$200,'SIDE ORDER & FOC'!B140,'DAILY FOC '!$BN$9:$BN$200)","v":0},{"$f":"G140*C140","v":0},{"$f":"+D140-G140","v":5},{"$f":"+I140*C140","v":12.5},null,{"$f":"SUMIF(DATABASE!$H$3:$H$56,'SIDE ORDER & FOC'!B140,DATABASE!$I$3:$I$56)","v":0.69},{"$f":"+L140*I140","v":3.4499999999999997},{"$f":"+L140","v":0.69},{"$f":"+N140*G140","v":0},null,"YOLK DUMPLINGS",3,{"$f":"+R140*D140","v":15}]
[55,"TO10 80044:QC EGGS",3,{"$f":"VLOOKUP(B141,Summary!$B$30:$AK$367,5,FALSE)","v":56},168,null,{"$f":"SUMIF('DAILY FOC '!$A$9:$A$200,'SIDE ORDER & FOC'!B141,'DAILY FOC '!$BN$9:$BN$200)","v":0},0,56,168,null,{"$f":"SUMIF(DATABASE!$H$3:$H$41,'SIDE ORDER & FOC'!B141,DATABASE!$I$3:$I$41)","v":0.9},50.4,0.9,0,null,"QUILL CENTURY EGG",4,224]
[56,"TO11 80045:SF TF",3,{"$f":"VLOOKUP(B142,Summary!$B$30:$AK$367,5,FALSE)","v":87},261,null,{"$f":"SUMIF('DAILY FOC '!$A$9:$A$200,'SIDE ORDER & FOC'!B142,'DAILY FOC '!$BN$9:$BN$200)","v":0},0,87,261,null,{"$f":"SUMIF(DATABASE!$H$3:$H$41,'SIDE ORDER & FOC'!B142,DATABASE!$I$3:$I$41)","v":0.8},69.600000000000009,0.8,0,null,"SEAFOOD TOFU",3,261]
[]
[null,"PACK"]
[57,"ZTC01 80001:CHK HAM",null,{"$f":"VLOOKUP(B145,Summary!$B$30:$AK$367,5,FALSE)","v":1},{"$f":"D145*C145","v":0},null,{"$f":"SUMIF('DAILY FOC '!$A$9:$A$200,'SIDE ORDER & FOC'!B145,'DAILY FOC '!$BN$9:$BN$200)","v":0},{"$f":"G145*C145","v":0},{"$f":"+D145-G145","v":1},{"$f":"+I145*C145","v":0},null,{"$f":"SUMIF(DATABASE!$N$33:$N$65,'SIDE ORDER & FOC'!B145,DATABASE!$O$33:$O$62)","v":0.25},{"$f":"+L145*I145","v":0.25},{"$f":"+L145","v":0.25},{"$f":"+N145*G145","v":0},null,"CHICKEN HAM",3,72]
[{"$f":"+A145+1","v":58},"ZTC02 80002:CHK KIDNEY",null,{"$f":"VLOOKUP(B146,Summary!$B$30:$AK$367,5,FALSE)","v":2},{"$f":"D146*C146","v":0},null,{"$f":"SUMIF('DAILY FOC '!$A$9:$A$200,'SIDE ORDER & FOC'!B146,'DAILY FOC '!$BN$9:$BN$200)","v":0},{"$f":"G146*C146","v":0},{"$f":"+D146-G146","v":2},{"$f":"+I146*C146","v":0},null,{"$f":"SUMIF(DATABASE!$N$33:$N$65,'SIDE ORDER & FOC'!B146,DATABASE!$O$33:$O$62)","v":0.35},{"$f":"+L146*I146","v":0.7},{"$f":"+L146","v":0.35},{"$f":"+N146*G146","v":0},null,"CHICKEN KIDNEY",4,196]
[{"$f":"+A146+1","v":59},"ZTC03 80003:COC SAUSG",null,{"$f":"VLOOKUP(B147,Summary!$B$30:$AK$367,5,FALSE)","v":2},0,null,{"$f":"SUMIF('DAILY FOC '!$A$9:$A$200,'SIDE ORDER & FOC'!B147,'DAILY FOC '!$BN$9:$BN$200)","v":0},0,2,0,null,{"$f":"SUMIF(DATABASE!$N$33:$N$65,'SIDE ORDER & FOC'!B147,DATABASE!$O$33:$O$62)","v":0.4},0.8,0.4,0,null,"CHICKEN COCKTAIL SAUSAGE ",3,75]
[60,"ZTC04 80004:CHK SAUSG",null,{"$f":"VLOOKUP(B148,Summary!$B$30:$AK$367,5,FALSE)","v":4},0,null,{"$f":"SUMIF('DAILY FOC '!$A$9:$A$200,'SIDE ORDER & FOC'!B148,'DAILY FOC '!$BN$9:$BN$200)","v":0},0,4,0,null,{"$f":"SUMIF(DATABASE!$N$33:$N$65,'SIDE ORDER & FOC'!B148,DATABASE!$O$33:$O$62)","v":0.6},2.4,0.6,0,null,"CHICKEN SAUSAGE ",1,14]
[61,"ZTC05 80005:HAM&BEAN",null,{"$f":"VLOOKUP(B149,Summary!$B$30:$AK$367,5,FALSE)","v":1},0,null,{"$f":"SUMIF('DAILY FOC '!$A$9:$A$200,'SIDE ORDER & FOC'!B149,'DAILY FOC '!$BN$9:$BN$200)","v":0},0,1,0,null,{"$f":"SUMIF(DATABASE!$N$33:$N$65,'SIDE ORDER & FOC'!B149,DATABASE!$O$33:$O$62)","v":0.85},0.85,0.85,0,null,"HAM AND BEAN SPROUTS",4,112]
[62,"ZTC06 80006:CHK WING",null,{"$f":"VLOOKUP(B150,Summary!$B$30:$AK$367,5,FALSE)","v":20},0,null,{"$f":"SUMIF('DAILY FOC '!$A$9:$A$200,'SIDE ORDER & FOC'!B150,'DAILY FOC '!$BN$9:$BN$200)","v":0},0,20,0,null,{"$f":"SUMIF(DATABASE!$N$33:$N$65,'SIDE ORDER & FOC'!B150,DATABASE!$O$33:$O$62)","v":0.8},16,0.8,0,null,"BONELESS CHICKEN WING",1,67]
[63,"ZTC07 80007:CHEE H DOG",null,{"$f":"VLOOKUP(B151,Summary!$B$30:$AK$367,5,FALSE)","v":10},0,null,{"$f":"SUMIF('DAILY FOC '!$A$9:$A$200,'SIDE ORDER & FOC'!B151,'DAILY FOC '!$BN$9:$BN$200)","v":0},0,10,0,null,{"$f":"SUMIF(DATABASE!$N$33:$N$65,'SIDE ORDER & FOC'!B151,DATABASE!$O$33:$O$62)","v":1.95},19.5,1.95,0,null,"CHEESE SAUSAGE ",1,51]
[64,"ZTC08 80008:TRK STICK",null,{"$f":"VLOOKUP(B152,Summary!$B$30:$AK$367,5,FALSE)","v":3},0,null,{"$f":"SUMIF('DAILY FOC '!$A$9:$A$200,'SIDE ORDER & FOC'!B152,'DAILY FOC '!$BN$9:$BN$200)","v":0},0,3,0,null,{"$f":"SUMIF(DATABASE!$N$33:$N$65,'SIDE ORDER & FOC'!B152,DATABASE!$O$33:$O$62)","v":0.8},2.4000000000000004,0.8,0,null,"TURKEY STICK",1,4]
[65,"ZTC15 80015:MT BAL",null,{"$f":"VLOOKUP(B153,Summary!$B$30:$AK$367,5,FALSE)","v":8},0,null,{"$f":"SUMIF('DAILY FOC '!$A$9:$A$200,'SIDE ORDER & FOC'!B153,'DAILY FOC '!$BN$9:$BN$200)","v":0},0,8,0,null,{"$f":"SUMIF(DATABASE!$N$33:$N$65,'SIDE ORDER & FOC'!B153,DATABASE!$O$33:$O$62)","v":0.45},3.6,0.45,0,null,"PORK MEATBALL",6,576]
[66,"ZTC16 80016:BACON",null,{"$f":"VLOOKUP(B154,Summary!$B$30:$AK$367,5,FALSE)","v":3},0,null,{"$f":"SUMIF('DAILY FOC '!$A$9:$A$200,'SIDE ORDER & FOC'!B154,'DAILY FOC '!$BN$9:$BN$200)","v":0},0,3,0,null,{"$f":"SUMIF(DATABASE!$N$33:$N$65,'SIDE ORDER & FOC'!B154,DATABASE!$O$33:$O$62)","v":0.75},2.25,0.75,0,null,"BACON",1,23]
[67,"ZTC17 80017:F WONTO",null,{"$f":"VLOOKUP(B155,Summary!$B$30:$AK$367,5,FALSE)","v":6},0,null,{"$f":"SUMIF('DAILY FOC '!$A$9:$A$200,'SIDE ORDER & FOC'!B155,'DAILY FOC '!$BN$9:$BN$200)","v":0},0,6,0,null,{"$f":"SUMIF(DATABASE!$N$33:$N$65,'SIDE ORDER & FOC'!B155,DATABASE!$O$33:$O$62)","v":0.8},4.8000000000000007,0.8,0,null,"FRIED WONTAN",4,48]
[68,"ZTC18 80018:WX RL",null,{"$f":"VLOOKUP(B156,Summary!$B$30:$AK$367,5,FALSE)","v":3},0,null,{"$f":"SUMIF('DAILY FOC '!$A$9:$A$200,'SIDE ORDER & FOC'!B156,'DAILY FOC '!$BN$9:$BN$200)","v":0},0,3,0,null,{"$f":"SUMIF(DATABASE!$N$33:$N$65,'SIDE ORDER & FOC'!B156,DATABASE!$O$33:$O$62)","v":0.6},1.7999999999999998,0.6,0,null,"FIVE SPICES ROLL",5,130]
[69,"ZTC19 80019:DUMPLING",null,{"$f":"VLOOKUP(B157,Summary!$B$30:$AK$367,5,FALSE)","v":7},0,null,{"$f":"SUMIF('DAILY FOC '!$A$9:$A$200,'SIDE ORDER & FOC'!B157,'DAILY FOC '!$BN$9:$BN$200)","v":0},0,7,0,null,{"$f":"SUMIF(DATABASE!$N$33:$N$65,'SIDE ORDER & FOC'!B157,DATABASE!$O$33:$O$62)","v":0.63},4.41,0.63,0,null,"GOLD DUMPLINGS",3,90]
[70,"ZTC23 80023:KANG KONG",null,{"$f":"VLOOKUP(B158,Summary!$B$30:$AK$367,5,FALSE)","v":4},0,null,{"$f":"SUMIF('DAILY FOC '!$A$9:$A$200,'SIDE ORDER & FOC'!B158,'DAILY FOC '!$BN$9:$BN$200)","v":0},0,4,0,null,{"$f":"SUMIF(DATABASE!$N$33:$N$65,'SIDE ORDER & FOC'!B158,DATABASE!$O$33:$O$62)","v":0.1},0.4,0.1,0,null,"KANGKONG",4,90]
[71,"ZTC24 80024:BROCCOLI",null,{"$f":"VLOOKUP(B159,Summary!$B$30:$AK$367,5,FALSE)","v":2},0,null,{"$f":"SUMIF('DAILY FOC '!$A$9:$A$200,'SIDE ORDER & FOC'!B159,'DAILY FOC '!$BN$9:$BN$200)","v":0},0,2,0,null,{"$f":"SUMIF(DATABASE!$N$33:$N$65,'SIDE ORDER & FOC'!B159,DATABASE!$O$33:$O$62)","v":0.4},0.8,0.4,0,null,"BROCCOLI",3,90]
[72,"ZTC25 80025:LONG BEAN",null,{"$f":"VLOOKUP(B160,Summary!$B$30:$AK$367,5,FALSE)","v":2},{"$f":"D160*C160","v":0},null,{"$f":"SUMIF('DAILY FOC '!$A$9:$A$200,'SIDE ORDER & FOC'!B160,'DAILY FOC '!$BN$9:$BN$200)","v":0},{"$f":"G160*C160","v":0},{"$f":"+D160-G160","v":2},{"$f":"+I160*C160","v":0},null,{"$f":"SUMIF(DATABASE!$N$33:$N$65,'SIDE ORDER & FOC'!B160,DATABASE!$O$33:$O$62)","v":0.35},{"$f":"+L160*I160","v":0.7},{"$f":"+L160","v":0.35},{"$f":"+N160*G160","v":0},null,"LONG BEAN",9,90]
[73,"ZTC26 80026:ABALO MR",null,{"$f":"VLOOKUP(B161,Summary!$B$30:$AK$367,5,FALSE)","v":9},0,null,{"$f":"SUMIF('DAILY FOC '!$A$9:$A$200,'SIDE ORDER & FOC'!B161,'DAILY FOC '!$BN$9:$BN$200)","v":0},0,9,0,null,{"$f":"SUMIF(DATABASE!$N$33:$N$65,'SIDE ORDER & FOC'!B161,DATABASE!$O$33:$O$62)","v":0.45},4.05,0.45,0,null,"ABALON MUSHROOM",3,327]
[74,"ZTC28 80028:COCKLES",null,{"$f":"VLOOKUP(B162,Summary!$B$30:$AK$367,5,FALSE)","v":4},0,null,{"$f":"SUMIF('DAILY FOC '!$A$9:$A$200,'SIDE ORDER & FOC'!B162,'DAILY FOC '!$BN$9:$BN$200)","v":0},0,4,0,null,{"$f":"SUMIF(DATABASE!$N$33:$N$65,'SIDE ORDER & FOC'!B162,DATABASE!$O$33:$O$62)","v":0.4},1.6,0.4,0,null,"COCKLES",9,180]
[75,"ZTC29 80029:CTL FSH",null,{"$f":"VLOOKUP(B163,Summary!$B$30:$AK$367,5,FALSE)","v":7},0,null,{"$f":"SUMIF('DAILY FOC '!$A$9:$A$200,'SIDE ORDER & FOC'!B163,'DAILY FOC '!$BN$9:$BN$200)","v":0},0,7,0,null,{"$f":"SUMIF(DATABASE!$N$33:$N$65,'SIDE ORDER & FOC'!B163,DATABASE!$O$33:$O$62)","v":0.4},2.8000000000000003,0.4,0,null,"CUTTLEFISH ",4,24]
[76,"ZTC31 80031:FSH BAL S",null,{"$f":"VLOOKUP(B164,Summary!$B$30:$AK$367,5,FALSE)","v":10},0,null,{"$f":"SUMIF('DAILY FOC '!$A$9:$A$200,'SIDE ORDER & FOC'!B164,'DAILY FOC '!$BN$9:$BN$200)","v":0},0,10,0,null,{"$f":"SUMIF(DATABASE!$N$33:$N$65,'SIDE ORDER & FOC'!B164,DATABASE!$O$33:$O$62)","v":0.5},5,0.5,0,null,"FISH BALL (SMALL)",5,550]
[77,"ZTC32 80032:SOTONG",null,{"$f":"VLOOKUP(B165,Summary!$B$30:$AK$367,5,FALSE)","v":8},0,null,{"$f":"SUMIF('DAILY FOC '!$A$9:$A$200,'SIDE ORDER & FOC'!B165,'DAILY FOC '!$BN$9:$BN$200)","v":0},0,8,0,null,{"$f":"SUMIF(DATABASE!$N$33:$N$65,'SIDE ORDER & FOC'!B165,DATABASE!$O$33:$O$62)","v":0.75},6,0.75,0,null,"SOTONG",4,52]
[78,"ZTC33 80033:TPURA PRW",null,{"$f":"VLOOKUP(B166,Summary!$B$30:$AK$367,5,FALSE)","v":7},0,null,{"$f":"SUMIF('DAILY FOC '!$A$9:$A$200,'SIDE ORDER & FOC'!B166,'DAILY FOC '!$BN$9:$BN$200)","v":0},0,7,0,null,{"$f":"SUMIF(DATABASE!$N$33:$N$65,'SIDE ORDER & FOC'!B166,DATABASE!$O$33:$O$62)","v":0.45},3.15,0.45,0,null,"TEMPURA PRAWN",1,20]
[79,"ZTC36 80036:F TF SKIN",null,{"$f":"VLOOKUP(B167,Summary!$B$30:$AK$367,5,FALSE)","v":3},0,null,{"$f":"SUMIF('DAILY FOC '!$A$9:$A$200,'SIDE ORDER & FOC'!B167,'DAILY FOC '!$BN$9:$BN$200)","v":0},0,3,0,null,{"$f":"SUMIF(DATABASE!$N$33:$N$65,'SIDE ORDER & FOC'!B167,DATABASE!$O$33:$O$62)","v":0.25},0.75,0.25,0,null,"FRIED TOFU SKIN",3,{"$f":"+R167*D167","v":9}]
[80,"ZTC38 80038:F MANTOU",null,{"$f":"VLOOKUP(B168,Summary!$B$30:$AK$367,5,FALSE)","v":3},0,null,{"$f":"SUMIF('DAILY FOC '!$A$9:$A$200,'SIDE ORDER & FOC'!B168,'DAILY FOC '!$BN$9:$BN$200)","v":0},0,3,0,null,{"$f":"SUMIF(DATABASE!$N$33:$N$65,'SIDE ORDER & FOC'!B168,DATABASE!$O$33:$O$62)","v":0.57999999999999996},1.7399999999999998,0.57999999999999996,0,null,"FRIED MANTOU",2,58]
[81,"ZTC39 80039:CRS F BAO",null,{"$f":"VLOOKUP(B169,Summary!$B$30:$AK$367,5,FALSE)","v":1},0,null,{"$f":"SUMIF('DAILY FOC '!$A$9:$A$200,'SIDE ORDER & FOC'!B169,'DAILY FOC '!$BN$9:$BN$200)","v":0},0,1,0,null,{"$f":"SUMIF(DATABASE!$N$33:$N$65,'SIDE ORDER & FOC'!B169,DATABASE!$O$33:$O$62)","v":0.4},0.4,0.4,0,null,"CRISPY FRIED BAO",1,3]
[82,"ZTC40 80040:QUAIL EGGS",null,{"$f":"VLOOKUP(B170,Summary!$B$30:$AK$367,5,FALSE)","v":1},0,null,{"$f":"SUMIF('DAILY FOC '!$A$9:$A$200,'SIDE ORDER & FOC'!B170,'DAILY FOC '!$BN$9:$BN$200)","v":0},0,1,0,null,{"$f":"SUMIF(DATABASE!$N$33:$N$65,'SIDE ORDER & FOC'!B170,DATABASE!$O$33:$O$62)","v":0.52},0.52,0.52,0,null,"QUAIL EGGS",4,148]
[83,"ZTC41 80041:FSH TF PO",null,{"$f":"VLOOKUP(B171,Summary!$B$30:$AK$367,5,FALSE)","v":1},{"$f":"D171*C171","v":0},null,{"$f":"SUMIF('DAILY FOC '!$A$9:$A$200,'SIDE ORDER & FOC'!B171,'DAILY FOC '!$BN$9:$BN$200)","v":0},{"$f":"G171*C171","v":0},{"$f":"+D171-G171","v":1},{"$f":"+I171*C171","v":0},null,{"$f":"SUMIF(DATABASE!$N$33:$N$65,'SIDE ORDER & FOC'!B171,DATABASE!$O$33:$O$62)","v":0.66},{"$f":"+L171*I171","v":0.66},{"$f":"+L171","v":0.66},{"$f":"+N171*G171","v":0},null,"FISH MEAT TOFU POK",2,10]
[84,"ZTC42 80042:CRS BAO",null,{"$f":"VLOOKUP(B172,Summary!$B$30:$AK$367,5,FALSE)","v":2},0,null,{"$f":"SUMIF('DAILY FOC '!$A$9:$A$200,'SIDE ORDER & FOC'!B172,'DAILY FOC '!$BN$9:$BN$200)","v":0},0,2,0,null,{"$f":"SUMIF(DATABASE!$N$33:$N$65,'SIDE ORDER & FOC'!B172,DATABASE!$O$33:$O$62)","v":0.76},1.52,0.76,0,null,"CRISPY BAO",2,20]
[85,"ZTC43 80043:Y DUMPLING",null,{"$f":"VLOOKUP(B173,Summary!$B$30:$AK$367,5,FALSE)","v":6},0,null,{"$f":"SUMIF('DAILY FOC '!$A$9:$A$200,'SIDE ORDER & FOC'!B173,'DAILY FOC '!$BN$9:$BN$200)","v":0},0,6,0,null,{"$f":"SUMIF(DATABASE!$N$33:$N$65,'SIDE ORDER & FOC'!B173,DATABASE!$O$33:$O$62)","v":0.69},4.1399999999999997,0.69,0,null,"YOLK DUMPLINGS",3,15]
[]
[]
[]
[]
["Total Sales / COST",null,null,{"$f":"SUM(D87:D142)","v":1599},{"$f":"SUM(E98:E177)","v":3644},null,{"$f":"SUM(G98:G142)","v":0},{"$f":"SUM(H98:H177)","v":0},{"$f":"SUM(I98:I142)","v":1596},{"$f":"SUM(J98:J177)","v":3644},null,null,{"$f":"SUM(M87:M177)","v":814.50999999999976},null,{"$f":"SUM(O98:O177)","v":0}]

{"sheet":"K LUNCH & K DINNER","index":8,"n_rows":40,"n_cols":19,"rows_kept":40,"cut":false,"hidden":false,"merged":[[39,0,39,2],[0,0,0,12],[2,4,2,8],[5,3,5,4],[5,7,5,8],[5,11,5,12],[5,16,5,17]]}
["MONTHLY SALES FOOD RECORD ( K LUNCH & K DINNER)"]
[]
["Outlet :","TSU OUTLET "]
["Month :","2013-11-01","FROM 18TH TILL END OF THE MONTH "]
[]
[null,null,null,"K-LUNCH",null,null,null,"REDEEM",null,null,null,"TOTAL COST",null,null,null,null,"USAGE"]
["NO","Item","Cost","Sales","TOTAL",null,"Item","Sales","TOTAL",null,null,"Sales","TOTAL",null,null,"MATERIAL ","RECIPE","TOTAL"]
[null,null,"RM","Q","RM",null,null,"Q","RM",null,null,"Q","RM",null,null,"Q","Q","Q"]
[null,"K LUNCH ",null,null,null,null,"REDEEM"]
[1,"LF01 91101:THAI CHK",{"$f":"SUMIF(DATABASE!$B$3:$B$36,B10,DATABASE!$C$3:$C$40)","v":2.7},{"$f":"VLOOKUP(B10,Summary!$B$30:$AK$367,5,FALSE)","v":71},{"$f":"D10*C10","v":191.70000000000002},null,"RL01 71101:THAI CHK",{"$f":"VLOOKUP(G10,Summary!$B$30:$AK$367,5,FALSE)","v":0},{"$f":"+H10*C10","v":0},null,null,{"$f":"+D10+H10","v":71},{"$f":"L10*C10","v":191.70000000000002},null,null,"CHICKEN CHOP (MARINATED)",0.5,{"$f":"+Q10*L10","v":35.5}]
[{"$f":"+A10+1","v":2},"LF02 91102:MAMITE CHK",{"$f":"SUMIF(DATABASE!$B$3:$B$36,B11,DATABASE!$C$3:$C$40)","v":2.2000000000000002},{"$f":"VLOOKUP(B11,Summary!$B$30:$AK$367,5,FALSE)","v":97},213.4,null,"RL02 71102:MAMITE CHK",{"$f":"VLOOKUP(G11,Summary!$B$30:$AK$367,5,FALSE)","v":1},{"$f":"+H11*C11","v":2.2000000000000002},null,null,{"$f":"+D11+H11","v":98},{"$f":"L11*C11","v":215.60000000000002},null,null,"CHICKEN CHOP (MARINATED)",0.5,{"$f":"+Q11*L11","v":49}]
[{"$f":"+A11+1","v":3},"LF05 91105:BUTTER CHK",{"$f":"SUMIF(DATABASE!$B$3:$B$36,B12,DATABASE!$C$3:$C$40)","v":2.4500000000000002},{"$f":"VLOOKUP(B12,Summary!$B$30:$AK$367,5,FALSE)","v":116},284.20000000000005,null,"RL05 71105:BUTTER CHK",{"$f":"VLOOKUP(G12,Summary!$B$30:$AK$367,5,FALSE)","v":1},2.4500000000000002,null,null,117,{"$f":"L12*C12","v":286.65000000000003},null,null,"CHICKEN CHOP (MARINATED)",0.5,58.5]
[]
[4,"LF17 91117:THAI FSH",{"$f":"SUMIF(DATABASE!$B$3:$B$36,B14,DATABASE!$C$3:$C$40)","v":2.57},{"$f":"VLOOKUP(B14,Summary!$B$30:$AK$367,5,FALSE)","v":29},74.53,null,"RL17 71117:THAI FSH",{"$f":"VLOOKUP(G14,Summary!$B$30:$AK$367,5,FALSE)","v":0},{"$f":"+H14*C14","v":0},null,null,29,{"$f":"L14*C14","v":74.53},null,null,"FISH & CHIP ",0.5,{"$f":"+Q14*L14","v":14.5}]
[5,"LF18 91118:MAMITE FSH",{"$f":"SUMIF(DATABASE!$B$3:$B$36,B15,DATABASE!$C$3:$C$40)","v":2.0699999999999998},{"$f":"VLOOKUP(B15,Summary!$B$30:$AK$367,5,FALSE)","v":36},74.52,null,"RL18 71118:MAMITE FSH",{"$f":"VLOOKUP(G15,Summary!$B$30:$AK$367,5,FALSE)","v":0},0,null,null,36,{"$f":"L15*C15","v":74.52},null,null,"FISH & CHIP ",0.5,18]
[6,"LF19 91119:BUTTER FSH",{"$f":"SUMIF(DATABASE!$B$3:$B$36,B16,DATABASE!$C$3:$C$40)","v":2.3199999999999998},{"$f":"VLOOKUP(B16,Summary!$B$30:$AK$367,5,FALSE)","v":57},132.23999999999998,null,"RL19 71119:BUTTER FSH",{"$f":"VLOOKUP(G16,Summary!$B$30:$AK$367,5,FALSE)","v":1},2.3199999999999998,null,null,58,{"$f":"L16*C16","v":134.56},null,null,"FISH & CHIP ",0.5,29]
[]
[7,"AF02 91202:FREN FRIES",{"$f":"SUMIF(DATABASE!$B$3:$B$36,B18,DATABASE!$C$3:$C$40)","v":1.51},{"$f":"VLOOKUP(B18,Summary!$B$30:$AK$367,5,FALSE)","v":28},{"$f":"D18*C18","v":42.28},null,null,null,null,null,null,{"$f":"D18+H18","v":28},{"$f":"L18*C18","v":42.28}]
[8,"AF04 91204:FSH BALL",{"$f":"SUMIF(DATABASE!$B$3:$B$36,B19,DATABASE!$C$3:$C$40)","v":1.7},{"$f":"VLOOKUP(B19,Summary!$B$30:$AK$367,5,FALSE)","v":4},6.8,null,null,null,null,null,null,{"$f":"D19+H19","v":4},{"$f":"L19*C19","v":6.8},null,null,"FISH BALL (SMALL)",8,{"$f":"+Q19*L19","v":32}]
[9,"AF06 91206:SPRING RL",{"$f":"SUMIF(DATABASE!$B$3:$B$36,B20,DATABASE!$C$3:$C$40)","v":1.7},{"$f":"VLOOKUP(B20,Summary!$B$30:$AK$367,5,FALSE)","v":5},8.5,null,null,null,null,null,null,{"$f":"D20+H20","v":5},{"$f":"L20*C20","v":8.5},null,null,"SPRING ROLL",4,20]
[10,"AF38 91308:MC RING",{"$f":"SUMIF(DATABASE!$B$3:$B$36,B21,DATABASE!$C$3:$C$40)","v":1.4},{"$f":"VLOOKUP(B21,Summary!$B$30:$AK$367,5,FALSE)","v":3},4.1999999999999993,null,null,null,null,null,null,{"$f":"D21+H21","v":3},{"$f":"L21*C21","v":4.1999999999999993},null,null,"MCCAIN ONION RING",8,24]
[11,"AF32 91302:NUGGET",{"$f":"SUMIF(DATABASE!$B$3:$B$36,B22,DATABASE!$C$3:$C$40)","v":1.61},{"$f":"VLOOKUP(B22,Summary!$B$30:$AK$367,5,FALSE)","v":25},40.25,null,null,null,null,null,null,{"$f":"D22+H22","v":25},{"$f":"L22*C22","v":40.25},null,null,"CHICKEN NUGGET",8,200]
[12,"AF33 91303:CHK WING",{"$f":"SUMIF(DATABASE!$B$3:$B$36,B23,DATABASE!$C$3:$C$40)","v":3.7},{"$f":"VLOOKUP(B23,Summary!$B$30:$AK$367,5,FALSE)","v":25},92.5,null,null,null,null,null,null,{"$f":"D23+H23","v":25},{"$f":"L23*C23","v":92.5},null,null,"CHICKEN WINGS (MARINATED)",3,75]
[13,"WF01 91001:BP CHK CP",{"$f":"SUMIF(DATABASE!$B$3:$B$36,B24,DATABASE!$C$3:$C$40)","v":3.97},{"$f":"VLOOKUP(B24,Summary!$B$30:$AK$367,5,FALSE)","v":313},1242.6100000000001,null,"RW01 71001:BP CKN CP",{"$f":"VLOOKUP(G24,Summary!$B$30:$AK$367,5,FALSE)","v":3},{"$f":"+H24*C24","v":11.91},null,null,{"$f":"D24+H24","v":316},{"$f":"L24*C24","v":1254.52},null,null,"CHICKEN CHOP (MARINATED)",1,316]
[14,"WF03 91003:MR CHK CP",{"$f":"SUMIF(DATABASE!$B$3:$B$36,B25,DATABASE!$C$3:$C$40)","v":4.0999999999999996},{"$f":"VLOOKUP(B25,Summary!$B$30:$AK$367,5,FALSE)","v":308},1262.8,null,"RW03 71003:MSR CKN CP",{"$f":"VLOOKUP(G25,Summary!$B$30:$AK$367,5,FALSE)","v":0},0,null,null,null,null,null,null,"CHICKEN CHOP (MARINATED)",1,0]
[{"$f":"+A24+1","v":14},"WF04 91004:CKN MARY",{"$f":"SUMIF(DATABASE!$B$3:$B$36,B26,DATABASE!$C$3:$C$40)","v":4.7699999999999996},{"$f":"VLOOKUP(B26,Summary!$B$30:$AK$367,5,FALSE)","v":106},505.61999999999995,null,"RW04 71004:CKN MARY",{"$f":"VLOOKUP(G26,Summary!$B$30:$AK$367,5,FALSE)","v":3},14.309999999999999,null,null,{"$f":"D26+H26","v":109},{"$f":"L26*C26","v":519.92999999999995},null,null,"CHICKEN CHOP (MARINATED)",1,109]
[15,"WF05 91005:FSH&CHIP",{"$f":"SUMIF(DATABASE!$B$3:$B$36,B27,DATABASE!$C$3:$C$40)","v":4.25},{"$f":"VLOOKUP(B27,Summary!$B$30:$AK$367,5,FALSE)","v":209},888.25,null,"RW05 71005:FSH&CHIP",{"$f":"VLOOKUP(G27,Summary!$B$30:$AK$367,5,FALSE)","v":4},{"$f":"+H27*C27","v":17},null,null,{"$f":"D27+H27","v":213},{"$f":"L27*C27","v":905.25},null,null,"FISH & CHIP ",1,213]
[16,"WF07 91007:CHK SALAD",{"$f":"SUMIF(DATABASE!$B$3:$B$36,B28,DATABASE!$C$3:$C$40)","v":2.65},{"$f":"VLOOKUP(B28,Summary!$B$30:$AK$367,5,FALSE)","v":27},71.55,null,"RW07 71007:CHK SALAD",{"$f":"VLOOKUP(G28,Summary!$B$30:$AK$367,5,FALSE)","v":1},2.65,null,null,{"$f":"D28+H28","v":28},{"$f":"L28*C28","v":74.2},null,null,"CHICKEN CHOP (MARINATED)",0.5,14,{"$f":"SUBTOTAL(9,R10:R28)","v":1207.5}]
[17,"AF08 91208:HOTDOG BUN",{"$f":"SUMIF(DATABASE!$B$3:$B$36,B29,DATABASE!$C$3:$C$40)","v":2.04},{"$f":"VLOOKUP(B29,Summary!$B$30:$AK$367,5,FALSE)","v":0},0,null,null,null,null,null,null,{"$f":"D29+H29","v":0},{"$f":"L29*C29","v":0},null,null,"CHICKEN SAUSAGE ",1,{"$f":"+Q29*$L$29","v":0}]
[null,null,null,null,null,null,null,null,null,null,null,null,null,null,null,"HOT DOG BUN ",1,{"$f":"+Q30*$L$29","v":0}]
[{"$f":"+A29+1","v":18},"AF07 91207:SAUSG",{"$f":"SUMIF(DATABASE!$B$3:$B$36,B31,DATABASE!$C$3:$C$40)","v":2.44},{"$f":"VLOOKUP(B31,Summary!$B$30:$AK$367,5,FALSE)","v":5},12.2,null,null,null,null,null,null,{"$f":"D31+H31","v":5},{"$f":"L31*C31","v":12.2},null,null,"CHICKEN SAUSAGE ",2,10]
[19,"AF09 91209:SF TF",{"$f":"SUMIF(DATABASE!$B$3:$B$36,B32,DATABASE!$C$3:$C$40)","v":1.66},{"$f":"VLOOKUP(B32,Summary!$B$30:$AK$367,5,FALSE)","v":8},13.28,null,null,null,null,null,null,{"$f":"D32+H32","v":8},{"$f":"L32*C32","v":13.28},null,null,"SEAFOOD TOFU ",6,{"$f":"+Q32*L32","v":48}]
[20,"AF10 91210:SALAD RL",{"$f":"SUMIF(DATABASE!$B$3:$B$36,B33,DATABASE!$C$3:$C$40)","v":1.9},{"$f":"VLOOKUP(B33,Summary!$B$30:$AK$367,5,FALSE)","v":4},7.6,null,null,null,null,null,null,{"$f":"D33+H33","v":4},{"$f":"L33*C33","v":7.6},null,null,"SALAD ROLL ",4,16]
[21,"AF11 91211:BBQ CHK",{"$f":"SUMIF(DATABASE!$B$3:$B$36,B34,DATABASE!$C$3:$C$40)","v":2.1},{"$f":"VLOOKUP(B34,Summary!$B$30:$AK$367,5,FALSE)","v":7},14.700000000000001,null,null,null,null,null,null,{"$f":"D34+H34","v":7},{"$f":"L34*C34","v":14.700000000000001},null,null,"BBQ CHICKEN ",8,56]
[24,"AF39 91309:MC S.FRIES",{"$f":"SUMIF(DATABASE!$B$3:$B$36,B35,DATABASE!$C$3:$C$40)","v":1.72},{"$f":"VLOOKUP(B35,Summary!$B$30:$AK$367,5,FALSE)","v":7},12.04,null,null,null,null,null,null,{"$f":"D35+H35","v":7},{"$f":"L35*C35","v":12.04},null,null,"MCCAIN SPIRAL FRIES",0.22,3.96]
[25,"AF41 91311:MC HSH BRW",{"$f":"SUMIF(DATABASE!$B$3:$B$36,B36,DATABASE!$C$3:$C$40)","v":0.59},{"$f":"VLOOKUP(B36,Summary!$B$30:$AK$367,5,FALSE)","v":4},2.36,null,null,null,null,null,null,{"$f":"D36+H36","v":4},{"$f":"L36*C36","v":2.36},null,null,"MCCAIN VERSITOT",15,{"$f":"+Q36*L36","v":60}]
[26,"AF40 91310:MC HP SMIL",{"$f":"SUMIF(DATABASE!$B$3:$B$36,B37,DATABASE!$C$3:$C$40)","v":1.34},{"$f":"VLOOKUP(B37,Summary!$B$30:$AK$367,5,FALSE)","v":3},4.0200000000000005,null,null,null,null,null,null,{"$f":"D37+H37","v":3},{"$f":"L37*C37","v":4.0200000000000005},null,null,"MCCAIN SMILES",8,16]
[]
[]
["Total Sales / COST",null,null,{"$f":"SUM(D10:D39)","v":1497},{"$f":"SUM(E9:E39)","v":5202.1500000000005},null,null,{"$f":"SUM(H10:H34)","v":14},{"$f":"SUM(I10:I39)","v":52.839999999999996},null,null,{"$f":"SUM(L10:L39)","v":1203},{"$f":"SUM(M10:M39)","v":3992.1899999999991}]

{"sheet":"SIDE ORDER (COMBINED OLD CODE)","index":9,"n_rows":96,"n_cols":16,"rows_kept":96,"cut":false,"hidden":false,"merged":[]}
[null,null,null,"(A)",null,"(B)","(A) + (B)"]
[null,null,null,"NEW CODE SALES",null,"OLD CODE SALES","TOTAL SALES"]
[null,null,null,"SIDE ORDER                 (INCLUDING FOC)",null,null,null,null,null,null,"FOC (COST)",null,null,"USAGE"]
["NO","Item","S/P","Sales","TOTAL",null,null,"COST","TOTAL SALES","TOTAL COST","COST","TOTAL",null,"MATERIAL ","RECIPE","TOTAL"]
[null,null,"RM","Q","RM",null,null,"RM","RM","RM","RM","RM",null,"Q","Q","Q"]
[1,"TW01 81001:BP CKN CP",12.9,1,12.9,null,{"$f":"+D6+F6","v":1},3.97,{"$f":"+G6*C6","v":12.9},{"$f":"+H6*G6","v":3.97},3.97,0,null,"CHICKEN CHOP (MARINATED)",1,1]
[2,"TW02 81003:MR CKN CP",12.9,1,12.9,null,{"$f":"+D7+F7","v":1},4.0999999999999996,{"$f":"+G7*C7","v":12.9},{"$f":"+H7*G7","v":4.0999999999999996},4.0999999999999996,0,null,"CHICKEN CHOP (MARINATED)",1,1]
[3,"TW03 81004:CKN MARY",12.9,0,0,null,0,4.7699999999999996,0,{"$f":"+H8*G8","v":0},4.7699999999999996,0,null,"CHICKEN CHOP (MARINATED)",1,0]
[4,"TW04 81005:FSH&CHIP",12.9,0,0,null,0,4.25,0,{"$f":"+H9*G9","v":0},4.25,0,null,"FISH & CHIP ",1,0]
[5,"TW05 81007:CHK SALAD",12.9,0,0,null,0,2.65,0,{"$f":"+H10*G10","v":0},2.65,0,null,"CHICKEN CHOP (MARINATED)",0.5,0]
[6,"TC01 81101:THAI CHK",9.9,0,0,null,0,2.7,0,{"$f":"+H11*G11","v":0},2.7,0,null,"CHICKEN CHOP (MARINATED)",0.5,0]
[7,"TC02 81102:MAMITE CHK",9.9,1,9.9,null,1,2.2000000000000002,9.9,{"$f":"+H12*G12","v":2.2000000000000002},2.2000000000000002,0,null,"CHICKEN CHOP (MARINATED)",0.5,0.5]
[8,"TC03 81105:BUTTER CHK",9.9,0,0,null,0,2.4500000000000002,0,{"$f":"+H13*G13","v":0},2.4500000000000002,0,null,"CHICKEN CHOP (MARINATED)",0.5,0]
[9,"TC04 81117:THAI FSH",9.9,0,0,null,0,2.57,0,{"$f":"+H14*G14","v":0},2.57,0,null,"FISH & CHIP ",0.5,0]
[10,"TC05 81118:MAMITE FSH",9.9,0,0,null,0,2.0699999999999998,0,{"$f":"+H15*G15","v":0},2.0699999999999998,0,null,"FISH & CHIP ",0.5,0]
[11,"TC06 81119:BUTTER FSH",9.9,0,0,null,0,2.3199999999999998,0,{"$f":"+H16*G16","v":0},2.3199999999999998,0,null,"FISH & CHIP ",0.5,0]
[12,"TM01 80001:CHK HAM",1.5,24,36,48,72,0.25,108,{"$f":"+H17*G17","v":18},0.25,0,null,"CHICKEN HAM",3,72]
[13,"TM02 80002:CHK KIDNEY",1.5,49,73.5,92,141,0.35,211.5,{"$f":"+H18*G18","v":49.349999999999994},0.35,0,null,"CHICKEN KIDNEY",4,196]
[14,"TM03 80003:COC SAUSG",2,25,50,40,65,0.4,130,{"$f":"+H19*G19","v":26},0.4,0,null,"CHICKEN COCKTAIL SAUSAGE ",3,75]
[15,"TM04 80004:CHK SAUSG",2,14,28,20,34,0.6,68,{"$f":"+H20*G20","v":20.399999999999999},0.6,0,null,"CHICKEN SAUSAGE ",1,14]
[16,"TM05 80005:HAM&BEAN",2,28,56,39,67,0.85,134,{"$f":"+H21*G21","v":56.949999999999996},0.85,0,null,"HAM AND BEAN SPROUTS",4,112]
[17,"TM06 80006:CHK WING",2.5,67,167.5,152,219,0.8,547.5,{"$f":"+H22*G22","v":175.20000000000002},0.8,0,null,"BONELESS CHICKEN WING",1,67]
[18,"TM07 80007:CHEE H DOG",2.5,51,127.5,107,158,1.95,395,{"$f":"+H23*G23","v":308.09999999999997},1.95,0,null,"CHEESE SAUSAGE ",1,51]
[19,"TM08 80008:TRK STICK",2.5,4,10,10,14,0.8,35,{"$f":"+H24*G24","v":11.200000000000001},0.8,0,null,"TURKEY STICK",1,4]
[20,"TM09 80009:CHEE HAM",3,56,168,79,135,0.97,405,{"$f":"+H25*G25","v":130.94999999999999},0.97,0,null,"CHEESE CHICKEN HAM",3,168]
[21,"TM10 80010:CRAB HAM",3,19,57,33,52,1.19,156,{"$f":"+H26*G26","v":61.879999999999995},1.19,0,null,"CRABMEAT HAM",3,57]
[22,"TM11 80011:F CHK BAL",3,7,21,11,18,1.08,54,{"$f":"+H27*G27","v":19.440000000000001},1.08,0,null,"FRIED CHICKEN BALLS",3,21]
[23,"TM12 80012:DCK MT",4,52,208,94,146,0,584,{"$f":"+H28*G28","v":0},0,0,null,"BBQ DUCK MEAT",1,52]
[24,"TM13 80013:SCLOP SHL",4,10,40,4,14,1.3,56,{"$f":"+H29*G29","v":18.2},1.3,0,null,"CHICKEN SCALLOP‘S SHELL",2,20]
[25,"TM14 80014:CN C SAUSG",4,3,12,18,21,1.38,84,{"$f":"+H30*G30","v":28.979999999999997},1.38,0,null,"CHINESE CHICKEN SAUSAGE",3,9]
[26,"TP01 80015:MT BAL",2,96,192,179,275,0.45,550,{"$f":"+H31*G31","v":123.75},0.45,0,null,"PORK MEATBALL",6,576]
[27,"TP02 80016:BACON",2.5,23,57.5,58,81,0.75,202.5,{"$f":"+H32*G32","v":60.75},0.75,0,null,"BACON",1,23]
[28,"TP03 80017:F WONTON",2.5,12,30,42,54,0.8,135,{"$f":"+H33*G33","v":43.2},0.8,0,null,"FRIED WONTAN",4,48]
[29,"TP04 80018:WX RL",2.5,26,65,45,71,0,177.5,{"$f":"+H34*G34","v":0},0,0,null,"FIVE SPICES ROLL",5,130]
[30,"TP05 80019:DUMPLING",2.5,30,75,50,80,0.63,200,{"$f":"+H35*G35","v":50.4},0.63,0,null,"GOLD DUMPLINGS",3,90]
[31,"TP06 80020:TW SAUSG",3,105,315,162,267,0,801,{"$f":"+H36*G36","v":0},0,0,null,"TAIWAN SAUSAGE",1,105]
[32,"TP07 80021:ENA BC ROL",3,83,249,145,228,0,684,{"$f":"+H37*G37","v":0},0,0,null,"ENOKI AND BACON ROLL",4,332]
[33,"TP08 80022:NAN RU MT",3,12,36,31,43,1.03,129,{"$f":"+H38*G38","v":44.29},1.03,0,null,"RED FERMENTED BEANCURD FRIED MEAT",1,12]
[34,"TV01 80023:KANG KONG",1.5,39,58.5,68,107,0,160.5,{"$f":"+H39*G39","v":0},0,0,null,"KANGKONG",4,156]
[35,"TV02 80024:BROCCOLI",1.5,65,97.5,127,192,0,288,{"$f":"+H40*G40","v":0},0,0,null,"BROCCOLI",3,195]
[36,"TV03 80025:LONG BEAN",1.5,63,94.5,95,158,0,237,{"$f":"+H41*G41","v":0},0,0,null,"LONG BEAN",9,567]
[37,"TV04 80026:ABALO MR",2,109,218,179,288,0,576,{"$f":"+H42*G42","v":0},0,0,null,"ABALON MUSHROOM",3,327]
[38,"TV05 80027:OYSTER MR",2,2,4,15,17,0.6,34,{"$f":"+H43*G43","v":10.199999999999999},0.6,0,null,"OYSTER MUSHROOM",5,10]
[39,"TE01 80028:COCKLES",2,20,40,17,37,0.4,74,{"$f":"+H44*G44","v":14.8},0.4,0,null,"COCKLES",9,180]
[40,"TE02 80029:CTL FSH",1.5,6,9,26,32,0.4,48,{"$f":"+H45*G45","v":12.8},0.4,0,null,"CUTTLEFISH ",4,24]
[41,"TE03 80030:CRB STICK",1.5,20,30,48,68,0.5,102,{"$f":"+H46*G46","v":34},0.5,0,null,"CRABSTICK ",2,40]
[42,"TE04 80031:FSH BAL S",1.5,110,165,195,305,0.5,457.5,{"$f":"+H47*G47","v":152.5},0.5,0,null,"FISH BALL (SMALL)",5,550]
[43,"TE05 80032:SOTONG",2,13,26,18,31,0.75,62,{"$f":"+H48*G48","v":23.25},0.75,0,null,"SOTONG",4,52]
[44,"TE06 80033:TPURA PRW",2,20,40,45,65,0.45,130,{"$f":"+H49*G49","v":29.25},0.45,0,null,"TEMPURA PRAWN",1,20]
[45,"TE07 80034:BBQ FSH SK",4,15,60,22,37,0.4,148,{"$f":"+H50*G50","v":14.8},0.4,0,null,"BARBECUE FISH SKIN",1,15]
[46,"TO01 80035:F SMS YAM",1.5,35,52.5,90,125,0,187.5,{"$f":"+H51*G51","v":0},0,0,null,"SAMOSA YAM",4,140]
[47,"TO02 80036:F TF SKIN",1.5,43,64.5,132,175,0.25,262.5,{"$f":"+H52*G52","v":43.75},0.25,0,null,"FRIED TOFU SKIN",3,129]
[48,"TO03 80037:TF PO",1.5,8,12,21,29,0.25,43.5,{"$f":"+H53*G53","v":7.25},0.25,0,null,"TOFU POK ",3,24]
[49,"TO04 80038:F MANTOU",1.5,29,43.5,60,89,0.57999999999999996,133.5,{"$f":"+H54*G54","v":51.62},0.57999999999999996,0,null,"FRIED MANTOU",2,58]
[50,"TO05 80039:CRS F BAO",1.5,3,4.5,5,8,0.4,12,{"$f":"+H55*G55","v":3.2},0.4,0,null,"CRISPY FRIED BAO",1,3]
[51,"TO06 80040:QUAIL EGGS",2,37,74,82,119,0.52,238,{"$f":"+H56*G56","v":61.88},0.52,0,null,"QUAIL EGGS",4,148]
[52,"TO07 80041:FSH TF PO",2,5,10,16,21,0.66,42,{"$f":"+H57*G57","v":13.860000000000001},0.66,0,null,"FISH MEAT TOFU POK",2,10]
[53,"TO08 80042:CRS BAO",2.5,10,25,0,10,0.76,25,{"$f":"+H58*G58","v":7.6},0.76,0,null,"CRISPY BAO",2,20]
[54,"TO09 80043:Y DUMPLING",2.5,5,12.5,8,13,0.69,32.5,{"$f":"+H59*G59","v":8.9699999999999989},0.69,0,null,"YOLK DUMPLINGS",3,15]
[55,"TO10 80044:QC EGGS",3,56,168,69,125,0.9,375,{"$f":"+H60*G60","v":112.5},0.9,0,null,"QUILL CENTURY EGG",4,224]
[56,"TO11 80045:SF TF",3,87,261,138,225,0.8,675,{"$f":"+H61*G61","v":180},0.8,0,null,"SEAFOOD TOFU",3,261]
[null,null,null,null,null,null,null,null,{"$f":"SUM(I6:I61)","v":10226.200000000001},{"$f":"SUM(J6:J61)","v":2039.54}]
[]
[null,"PACK"]
[57,"ZTC01 80001:CHK HAM",null,1,0,null,null,0,null,0,0,0,null,"CHICKEN HAM",3,72]
[58,"ZTC02 80002:CHK KIDNEY",null,2,0,null,null,0,null,0,0,0,null,"CHICKEN KIDNEY",4,196]
[59,"ZTC03 80003:COC SAUSG",null,2,0,null,null,0,null,0,0,0,null,"CHICKEN COCKTAIL SAUSAGE ",3,75]
[60,"ZTC04 80004:CHK SAUSG",null,4,0,null,null,0,null,0,0,0,null,"CHICKEN SAUSAGE ",1,14]
[61,"ZTC05 80005:HAM&BEAN",null,1,0,null,null,0,null,0,0,0,null,"HAM AND BEAN SPROUTS",4,112]
[62,"ZTC06 80006:CHK WING",null,20,0,null,null,0,null,0,0,0,null,"BONELESS CHICKEN WING",1,67]
[63,"ZTC07 80007:CHEE H DOG",null,10,0,null,null,0,null,0,0,0,null,"CHEESE SAUSAGE ",1,51]
[64,"ZTC08 80008:TRK STICK",null,3,0,null,null,0,null,0,0,0,null,"TURKEY STICK",1,4]
[65,"ZTC15 80015:MT BAL",null,8,0,null,null,0,null,0,0,0,null,"PORK MEATBALL",6,576]
[66,"ZTC16 80016:BACON",null,3,0,null,null,0,null,0,0,0,null,"BACON",1,23]
[67,"ZTC17 80017:F WONTO",null,6,0,null,null,0,null,0,0,0,null,"FRIED WONTAN",4,48]
[68,"ZTC18 80018:WX RL",null,3,0,null,null,0,null,0,0,0,null,"FIVE SPICES ROLL",5,130]
[69,"ZTC19 80019:DUMPLING",null,7,0,null,null,0,null,0,0,0,null,"GOLD DUMPLINGS",3,90]
[70,"ZTC23 80023:KANG KONG",null,4,0,null,null,0,null,0,0,0]
[71,"ZTC24 80024:BROCCOLI",null,2,0,null,null,0,null,0,0,0]
[72,"ZTC25 80025:LONG BEAN",null,2,0,null,null,0,null,0,0,0]
[73,"ZTC26 80026:ABALO MR",null,9,0,null,null,0,null,0,0,0]
[74,"ZTC28 80028:COCKLES",null,4,0,null,null,0,null,0,0,0,null,"COCKLES",9,180]
[75,"ZTC29 80029:CTL FSH",null,7,0,null,null,0,null,0,0,0,null,"CUTTLEFISH ",4,24]
[76,"ZTC31 80031:FSH BAL S",null,10,0,null,null,0,null,0,0,0,null,"FISH BALL (SMALL)",5,550]
[77,"ZTC32 80032:SOTONG",null,8,0,null,null,0,null,0,0,0,null,"SOTONG",4,52]
[78,"ZTC33 80033:TPURA PRW",null,7,0,null,null,0,null,0,0,0,null,"TEMPURA PRAWN",1,20]
[79,"ZTC36 80036:F TF SKIN",null,3,0,null,null,0,null,0,0,0]
[80,"ZTC38 80038:F MANTOU",null,3,0,null,null,0,null,0,0,0,null,"FRIED MANTOU",2,58]
[81,"ZTC39 80039:CRS F BAO",null,1,0,null,null,0,null,0,0,0,null,"CRISPY FRIED BAO",1,3]
[82,"ZTC40 80040:QUAIL EGGS",null,1,0,null,null,0,null,0,0,0,null,"QUAIL EGGS",4,148]
[83,"ZTC41 80041:FSH TF PO",null,1,0,null,null,0,null,0,0,0,null,"FISH MEAT TOFU POK",2,10]
[84,"ZTC42 80042:CRS BAO",null,2,0,null,null,0,null,0,0,0,null,"CRISPY BAO",2,20]
[85,"ZTC43 80043:Y DUMPLING",null,6,0,null,null,0,null,0,0,0,null,"YOLK DUMPLINGS",3,15]
[]
[]
["Total Sales / COST",null,null,1599,3644,null,null,null,null,720.5200000000001,null,0]

{"sheet":"KLKD & REDEEM COMBINED OLD CODE","index":10,"n_rows":40,"n_cols":19,"rows_kept":40,"cut":false,"hidden":false,"merged":[[39,0,39,2],[0,0,0,12],[2,4,2,8],[5,3,5,4],[5,7,5,8],[5,11,5,12],[5,16,5,17]]}
["MONTHLY SALES FOOD RECORD ( K LUNCH & K DINNER)"]
[]
["Outlet :","TSU OUTLET "]
["Month :","2013-11-01"]
[]
[null,null,null,"K-LUNCH",null,null,null,"REDEEM",null,null,"OLD CODE","TOTAL COST",null,null,null,null,"USAGE"]
["NO","Item","Cost","Sales","TOTAL",null,"Item","Sales","TOTAL",null,"Sales","Sales","TOTAL",null,null,"MATERIAL ","RECIPE","TOTAL"]
[null,null,"RM","Q","RM",null,null,"Q","RM",null,"Q","Q","RM",null,null,"Q","Q","Q"]
[null,"K LUNCH ",null,null,null,null,"REDEEM"]
[1,"LF01 91101:THAI CHK",{"$f":"SUMIF(DATABASE!$B$3:$B$36,B10,DATABASE!$C$3:$C$40)","v":2.7},{"$f":"VLOOKUP(B10,Summary!$B$30:$AK$367,5,FALSE)","v":71},{"$f":"D10*C10","v":191.70000000000002},null,"RL01 71101:THAI CHK",{"$f":"VLOOKUP(G10,Summary!$B$30:$AK$367,5,FALSE)","v":0},{"$f":"+H10*C10","v":0},null,94,{"$f":"+D10+H10+K10","v":165},{"$f":"L10*C10","v":445.50000000000006},null,null,"CHICKEN CHOP (MARINATED)",0.5,{"$f":"+Q10*L10","v":82.5}]
[{"$f":"+A10+1","v":2},"LF02 91102:MAMITE CHK",{"$f":"SUMIF(DATABASE!$B$3:$B$36,B11,DATABASE!$C$3:$C$40)","v":2.2000000000000002},{"$f":"VLOOKUP(B11,Summary!$B$30:$AK$367,5,FALSE)","v":97},213.4,null,"RL02 71102:MAMITE CHK",{"$f":"VLOOKUP(G11,Summary!$B$30:$AK$367,5,FALSE)","v":1},{"$f":"+H11*C11","v":2.2000000000000002},null,129,{"$f":"+D11+H11+K11","v":227},499.40000000000003,null,null,"CHICKEN CHOP (MARINATED)",0.5,{"$f":"+Q11*L11","v":113.5}]
[{"$f":"+A11+1","v":3},"LF05 91105:BUTTER CHK",{"$f":"SUMIF(DATABASE!$B$3:$B$36,B12,DATABASE!$C$3:$C$40)","v":2.4500000000000002},{"$f":"VLOOKUP(B12,Summary!$B$30:$AK$367,5,FALSE)","v":116},284.20000000000005,null,"RL05 71105:BUTTER CHK",{"$f":"VLOOKUP(G12,Summary!$B$30:$AK$367,5,FALSE)","v":1},2.4500000000000002,null,173,290,710.5,null,null,"CHICKEN CHOP (MARINATED)",0.5,145]
[]
[{"$f":"+A13+1","v":1},"LF17 91117:THAI FSH",{"$f":"SUMIF(DATABASE!$B$3:$B$36,B14,DATABASE!$C$3:$C$40)","v":2.57},{"$f":"VLOOKUP(B14,Summary!$B$30:$AK$367,5,FALSE)","v":29},74.53,null,"RL17 71117:THAI FSH",{"$f":"VLOOKUP(G14,Summary!$B$30:$AK$367,5,FALSE)","v":0},{"$f":"+H14*C14","v":0},null,48,77,197.89,null,null,"FISH & CHIP ",0.5,{"$f":"+Q14*L14","v":38.5}]
[2,"LF18 91118:MAMITE FSH",{"$f":"SUMIF(DATABASE!$B$3:$B$36,B15,DATABASE!$C$3:$C$40)","v":2.0699999999999998},{"$f":"VLOOKUP(B15,Summary!$B$30:$AK$367,5,FALSE)","v":36},74.52,null,"RL18 71118:MAMITE FSH",{"$f":"VLOOKUP(G15,Summary!$B$30:$AK$367,5,FALSE)","v":0},0,null,48,84,173.88,null,null,"FISH & CHIP ",0.5,42]
[3,"LF19 91119:BUTTER FSH",{"$f":"SUMIF(DATABASE!$B$3:$B$36,B16,DATABASE!$C$3:$C$40)","v":2.3199999999999998},{"$f":"VLOOKUP(B16,Summary!$B$30:$AK$367,5,FALSE)","v":57},132.23999999999998,null,"RL19 71119:BUTTER FSH",{"$f":"VLOOKUP(G16,Summary!$B$30:$AK$367,5,FALSE)","v":1},2.3199999999999998,null,61,119,276.08,null,null,"FISH & CHIP ",0.5,59.5]
[]
[{"$f":"+A17+1","v":1},"AF02 91202:FREN FRIES",{"$f":"SUMIF(DATABASE!$B$3:$B$36,B18,DATABASE!$C$3:$C$40)","v":1.51},{"$f":"VLOOKUP(B18,Summary!$B$30:$AK$367,5,FALSE)","v":28},{"$f":"D18*C18","v":42.28},null,null,null,null,null,null,28,42.28]
[2,"AF04 91204:FSH BALL",{"$f":"SUMIF(DATABASE!$B$3:$B$36,B19,DATABASE!$C$3:$C$40)","v":1.7},{"$f":"VLOOKUP(B19,Summary!$B$30:$AK$367,5,FALSE)","v":4},6.8,null,null,null,null,null,null,4,6.8,null,null,"FISH BALL (SMALL)",8,{"$f":"+Q19*L19","v":32}]
[3,"AF06 91206:SPRING RL",{"$f":"SUMIF(DATABASE!$B$3:$B$36,B20,DATABASE!$C$3:$C$40)","v":1.7},{"$f":"VLOOKUP(B20,Summary!$B$30:$AK$367,5,FALSE)","v":5},8.5,null,null,null,null,null,null,5,8.5,null,null,"SPRING ROLL",4,20]
[4,"AF38 91308:MC RING",{"$f":"SUMIF(DATABASE!$B$3:$B$36,B21,DATABASE!$C$3:$C$40)","v":1.4},{"$f":"VLOOKUP(B21,Summary!$B$30:$AK$367,5,FALSE)","v":3},4.1999999999999993,null,null,null,null,null,null,3,4.1999999999999993,null,null,"MCCAIN ONION RING",8,24]
[5,"AF32 91302:NUGGET",{"$f":"SUMIF(DATABASE!$B$3:$B$36,B22,DATABASE!$C$3:$C$40)","v":1.61},{"$f":"VLOOKUP(B22,Summary!$B$30:$AK$367,5,FALSE)","v":25},40.25,null,null,null,null,null,null,25,40.25,null,null,"CHICKEN NUGGET",8,200]
[6,"AF33 91303:CHK WING",{"$f":"SUMIF(DATABASE!$B$3:$B$36,B23,DATABASE!$C$3:$C$40)","v":3.7},{"$f":"VLOOKUP(B23,Summary!$B$30:$AK$367,5,FALSE)","v":25},92.5,null,null,null,null,null,null,25,92.5,null,null,"CHICKEN WINGS (MARINATED)",3,75]
[7,"WF01 91001:BP CHK CP",{"$f":"SUMIF(DATABASE!$B$3:$B$36,B24,DATABASE!$C$3:$C$40)","v":3.97},{"$f":"VLOOKUP(B24,Summary!$B$30:$AK$367,5,FALSE)","v":313},1242.6100000000001,null,"RW01 71001:BP CKN CP",{"$f":"VLOOKUP(G24,Summary!$B$30:$AK$367,5,FALSE)","v":3},{"$f":"+H24*C24","v":11.91},null,734,1050,4168.5,null,null,"CHICKEN CHOP (MARINATED)",1,1050]
[8,"WF03 91003:MR CHK CP",{"$f":"SUMIF(DATABASE!$B$3:$B$36,B25,DATABASE!$C$3:$C$40)","v":4.0999999999999996},{"$f":"VLOOKUP(B25,Summary!$B$30:$AK$367,5,FALSE)","v":308},1262.8,null,"RW03 71003:MSR CKN CP",{"$f":"VLOOKUP(G25,Summary!$B$30:$AK$367,5,FALSE)","v":0},0,null,null,{"$f":"+D25+H25+K25","v":308},{"$f":"L25*C25","v":1262.8},null,null,"CHICKEN CHOP (MARINATED)",1,308]
[{"$f":"+A24+1","v":8},"WF04 91004:CKN MARY",{"$f":"SUMIF(DATABASE!$B$3:$B$36,B26,DATABASE!$C$3:$C$40)","v":4.7699999999999996},{"$f":"VLOOKUP(B26,Summary!$B$30:$AK$367,5,FALSE)","v":106},505.61999999999995,null,"RW04 71004:CKN MARY",{"$f":"VLOOKUP(G26,Summary!$B$30:$AK$367,5,FALSE)","v":3},14.309999999999999,null,152,261,1244.9699999999998,null,null,"CHICKEN CHOP (MARINATED)",1,261]
[9,"WF05 91005:FSH&CHIP",{"$f":"SUMIF(DATABASE!$B$3:$B$36,B27,DATABASE!$C$3:$C$40)","v":4.25},{"$f":"VLOOKUP(B27,Summary!$B$30:$AK$367,5,FALSE)","v":209},888.25,null,"RW05 71005:FSH&CHIP",{"$f":"VLOOKUP(G27,Summary!$B$30:$AK$367,5,FALSE)","v":4},17,null,303,516,2193,null,null,"FISH & CHIP ",1,516]
[10,"WF07 91007:CHK SALAD",{"$f":"SUMIF(DATABASE!$B$3:$B$36,B28,DATABASE!$C$3:$C$40)","v":2.65},{"$f":"VLOOKUP(B28,Summary!$B$30:$AK$367,5,FALSE)","v":27},71.55,null,"RW07 71007:CHK SALAD",{"$f":"VLOOKUP(G28,Summary!$B$30:$AK$367,5,FALSE)","v":1},2.65,null,38,66,174.9,null,null,"CHICKEN CHOP (MARINATED)",0.5,33,{"$f":"SUBTOTAL(9,R10:R28)","v":3000}]
[11,"AF08 91208:HOTDOG BUN",{"$f":"SUMIF(DATABASE!$B$3:$B$36,B29,DATABASE!$C$3:$C$40)","v":2.04},{"$f":"VLOOKUP(B29,Summary!$B$30:$AK$367,5,FALSE)","v":0},0,null,null,null,null,null,7,7,14.280000000000001,null,null,"CHICKEN SAUSAGE ",1,{"$f":"+Q29*$L$29","v":7}]
[null,null,null,null,null,null,null,null,null,null,null,null,null,null,null,"HOT DOG BUN ",1,{"$f":"+Q30*$L$29","v":7}]
[{"$f":"+A29+1","v":12},"AF07 91207:SAUSG",{"$f":"SUMIF(DATABASE!$B$3:$B$36,B31,DATABASE!$C$3:$C$40)","v":2.44},{"$f":"VLOOKUP(B31,Summary!$B$30:$AK$367,5,FALSE)","v":5},12.2,null,null,null,null,null,7,{"$f":"+D31+H31+K31","v":12},{"$f":"L31*C31","v":29.28},null,null,"CHICKEN SAUSAGE ",2,24]
[13,"AF09 91209:SF TF",{"$f":"SUMIF(DATABASE!$B$3:$B$36,B32,DATABASE!$C$3:$C$40)","v":1.66},{"$f":"VLOOKUP(B32,Summary!$B$30:$AK$367,5,FALSE)","v":8},13.28,null,null,null,null,null,16,24,39.839999999999996,null,null,"SEAFOOD TOFU ",6,{"$f":"+Q32*L32","v":144}]
[14,"AF10 91210:SALAD RL",{"$f":"SUMIF(DATABASE!$B$3:$B$36,B33,DATABASE!$C$3:$C$40)","v":1.9},{"$f":"VLOOKUP(B33,Summary!$B$30:$AK$367,5,FALSE)","v":4},7.6,null,null,null,null,null,8,12,22.799999999999997,null,null,"SALAD ROLL ",4,48]
[15,"AF11 91211:BBQ CHK",{"$f":"SUMIF(DATABASE!$B$3:$B$36,B34,DATABASE!$C$3:$C$40)","v":2.1},{"$f":"VLOOKUP(B34,Summary!$B$30:$AK$367,5,FALSE)","v":7},14.700000000000001,null,null,null,null,null,4,11,23.1,null,null,"BBQ CHICKEN ",8,88]
[24,"AF39 91309:MC S.FRIES",{"$f":"SUMIF(DATABASE!$B$3:$B$36,B35,DATABASE!$C$3:$C$40)","v":1.72},{"$f":"VLOOKUP(B35,Summary!$B$30:$AK$367,5,FALSE)","v":7},12.04,null,null,null,null,null,22,29,49.88,null,null,"MCCAIN SPIRAL FRIES",0.22,3.96]
[25,"AF41 91311:MC HSH BRW",{"$f":"SUMIF(DATABASE!$B$3:$B$36,B36,DATABASE!$C$3:$C$40)","v":0.59},{"$f":"VLOOKUP(B36,Summary!$B$30:$AK$367,5,FALSE)","v":4},2.36,null,null,null,null,null,11,15,8.85,null,null,"MCCAIN VERSITOT",15,{"$f":"+Q36*L36","v":225}]
[26,"AF40 91310:MC HP SMIL",{"$f":"SUMIF(DATABASE!$B$3:$B$36,B37,DATABASE!$C$3:$C$40)","v":1.34},{"$f":"VLOOKUP(B37,Summary!$B$30:$AK$367,5,FALSE)","v":3},4.0200000000000005,null,null,null,null,null,3,6,8.0400000000000009,null,null,"MCCAIN SMILES",8,16]
[]
[]
["Total Sales / COST",null,null,{"$f":"SUM(D10:D39)","v":1497},{"$f":"SUM(E9:E39)","v":5202.1500000000005},null,null,{"$f":"SUM(H10:H34)","v":14},{"$f":"SUM(I10:I39)","v":52.839999999999996},null,null,{"$f":"SUM(L10:L39)","v":3369},{"$f":"SUM(M10:M39)","v":11738.020000000002}]