{"text_format":"1","workbook":"xlsx","n_sheets":10,"sheets":["DATABASE","Summary","Daily Log","STOCK ANALYSIS","CLOSING STOCK","K-LUNCH & K DINNER","LOK LOK ","SIDE ORDER & FOC","DAILY FOC","SAUCE USAGE"],"not_rendered":{"charts":0,"images":5,"macros":0,"external_links":7,"defined_names":14,"comments":2,"pivot_tables":0},"unopened":[],"bounds":{"document_bytes":16777216,"sheet_cells":100000,"rows_first":2000,"rows_last":500,"rows_between":2000,"halvings":0,"cell_chars":16384,"cell_head_chars":4096},"cells_cut":0,"cells_raw":0,"read":"whole","date_system":"1900"}

{"sheet":"DATABASE","index":0,"n_rows":81,"n_cols":16,"rows_kept":81,"cut":false,"hidden":false,"merged":[]}
[null,null,"COST",null,null,null,null,null,"COST",null,null,null,"COST",null,null,"COST"]
[]
[null,"DH01 91101:THAI CHK",3.29,null,null,"DC01 1101:THAI CHK",null,null,{"$f":"+C3","v":3.29},null,null,"JK101 LLB Thai Chk Ric",{"$f":"+I3","v":3.29},null,"JM101 C.Chicken Sausag",0.39]
[null,"DH02 91102:MAMITE CHK",3.02,null,null,"DC02 1102:MAMITE CHK",null,null,{"$f":"+C4","v":3.02},null,null,"JK102 Marmite Chk Rice",{"$f":"+I4","v":3.02},null,"JM102 Beef Ball",0.65]
[null,"DH03 91103:KO PO CHK",3.45,null,null,"DC03 1103:KO PO CHK",null,null,3.45,null,null,null,null,null,"JM103 Chicken Kidney",1]
[null,"DH04 91104:S&S CHK",3.45,null,null,"DC04 1104:S&S CHK",null,null,3.45,null,null,"JK104 S&S Chk Rice",{"$f":"+I6","v":3.45},null,"JM104 Chicken Liver",1]
[null,"DH05 91105:BUTTER CHK",3.32,null,null,"DC05 1105:BUTTER CHK",null,null,3.32,null,null,"JK105 B.Cream.Chk Rice",3.32,null,"JM105 Cheese C.Sausage",0.8]
[null,"DH06 91106:HK F.RICE",3.16,null,null,"DC06 1106:HK F.RICE",null,null,3.16,null,null,"JK106 H.K Fried Rice",3.16,null,"JM106 B.P C.Sausage",0.8]
[null,"DH07 91107:SBL F.RICE",2.41,null,null,"DC07 1107:SBL F.RICE",null,null,2.41,null,null,"JK107 LLBSambal F.Rice",2.41,null,"JM107 S.Fill beef Ball",1.05]
[null,"DH08 91108:SBL F.MEE",2.8,null,null,"DC08 1108:SBL F.MEE",null,null,2.8,null,null,"JK108 LLB S.Fried MEE",2.8,null,"JM108 Pandan Chicken",1.64]
[null,"DH09 91109:BP UDON",2.08,null,null,"DC09 1109:BP UDON",null,null,2.08,null,null,"JK109 LLB BP Udon Mee",2.08,null,"JM109 S. Duck Breast",2.13]
[null,"DH10 91110:NISSIN",2.3199999999999998,null,null,"DC10 1110:NISSIN",null,null,2.3199999999999998,null,null,"JK110 LLB Nisin Noodle",2.3199999999999998,null,"JM110 Grill.B.Chk.Wing",2.8]
[null,"DH11 91111:VEG RICE",1.6,null,null,"DC11 1111:VEG RICE",null,null,1.6,null,null,"JK111 LLB S.M.Ver Rice",{"$f":"+I13","v":1.6},null,"JN211 Pork Meatball s",0.55000000000000004]
[null,"DH12 91112:NASI LEMAK",3.56,null,null,"DC12 1112:NASI LEMAK",null,null,3.56]
[null,"DH13 91113:KUEY TEOW",3.16,null,null,"DC13 1113:KUEY TEOW",null,null,3.16,null,null,null,null,null,"JN213 P. Sauage Slices",0.96]
[null,"DH14 91114:F.BALL MEE",2.59,null,null,"DC14 1114:F.BALL MEE",null,null,2.59,null,null,null,null,null,"JN214 Pork Dumplings",1.2]
[null,"DH15 91115:CHK NOODLE",4.71,null,null,"DC15 1115:CHK NOODLE",null,null,4.71,null,null,"JK115 LLB B.Noodle.Chk",{"$f":"+I17","v":4.71},null,"JN215 Pork Meatball B",0.78]
[null,"DH16 91116:MGL CHK",3.54,null,null,"DC16 1116:MGL CHICKEN",null,null,3.54,null,null,"JK116 LLB Mon.Chk Rice",3.54,null,"JN216 Pork Liver",1.2]
[null,"DG01 91001:BP CHK CP",4.41,null,null,"DB01 1001:BP CKN CP",null,null,4.41,null,null,"JK001 LLB BP CHK CHOP",4.41,null,"JN217 Taiwan Sausage",1.02]
[null,"DG02 91002:GVY CHK CP",4.43,null,null,"DB02 1002:GVY CHK CP",null,null,4.43,null,null,"JK002 LLB G.S C. CHOP",4.43,null,"JN218 Bacon",0.95]
[null,"DG03 91003:MSR CHK CP",4.75,null,null,"DB03 1003:MSR CKN CP",null,null,4.75,null,null,"JK003 LLB MSR CHK CHOP",4.75,null,"JN219 Pork Rinds",1.5]
[null,"DG04 91004:CKN MARY",5.98,null,null,"DB04 1004:CKN MARY",null,null,5.98,null,null,"JK004 LLB CHK MARRYLAN",5.98,null,"JN220 Sauce Filll Ball",1.5]
[null,"DG05 91005:FISH&CHIP",4.32,null,null,"DB05 1005:FISH&CHIP",null,null,4.32,null,null,"JK005 LLB Fish & Chip",4.32]
[null,"DG06 91006:SPAGHETTI",2.1,null,null,"DB06 1006:SPAGHETTI",null,null,2.1,null,null,"JK006 LLB Spaghetti",2.1,null,"JN222 Enoki Bacon Roll",1.5]
[null,"DG07 91007:CHK SALAD",4.9400000000000004,null,null,"DB07 1007:CHK SALAD",null,null,4.9400000000000004,null,null,"JK007 LLB CHK .C.SALAD",4.9400000000000004,null,"JO323 Fish Wanton",0.45]
[null,"DI01 91201:SFD STICK",2,null,null,"DD01 1201:SFD STICK",null,null,2,null,null,null,null,null,"JO324 M. Fried F. Cake",0.6]
[null,null,null,null,null,null,null,null,null,null,null,null,null,null,"JO325 Spicy Fish Cake",0.48]
[null,null,null,null,null,null,null,null,null,null,null,null,null,null,"JO326 Fresh Clam",1.5]
[null,"DI02 91202:FREN FRIES",1.76,null,null,"DD02 1202:FREN FRIES",null,null,{"$f":"+C29","v":1.76},null,null,null,null,null,"JO327 Wu Xiang F.Ball",0.7]
[null,"DI03 91203:GOLD MROOM",2.15,null,null,"DD03 1203:GOLD MROOM",null,null,{"$f":"+C30","v":2.15},null,null,null,null,null,"JO328 Xi Dao Fish Ball",0.65]
[null,"DI04 91204:FISHBALL",1.56,null,null,"DD04 1204:FISHBALL",null,null,1.56,null,null,null,null,null,"JO329 Fish Ball (S)",0.65]
[null,"DI05 91205:RAINBOW RL",2.5,null,null,"DD05 1205:RAINBOW RL",null,null,2.5,null,null,null,null,null,"JO330 Tofu Fish Ball",0.6]
[null,"DI06 91206:SPRING RL",2.67,null,null,"DD06 1206:SPRING RL",null,null,2.67,null,null,null,null,null,"JO331 Prawn Ball",0.39]
[null,"DI07 91207:SAUSAGE",1.24,null,null,"DD07 1207:SAUSAGE",null,null,1.24,null,null,null,null,null,"JO332 Abalone Slices",0.72]
[null,"DI08 91208:HOTDOG BUN",null,null,null,null,null,null,null,null,null,null,null,null,"JO333 Prawn C. sausage",0.56999999999999995]
[null,"DI09 91209:SFD TOFU",null,null,null,null,null,null,null,null,null,null,null,null,"JO334 FISH BALL BIG",1]
[null,"DI10 91301:DUMPLING",4.5,null,null,"DD10 1301:DUMPLING",null,null,{"$f":"+C37","v":4.5},null,null,null,null,null,"JO335 Tempura Prawn",0.9]
[null,"DI11 91302:NUGGET",2.4300000000000002,null,null,"DD11 1302:NUGGET",null,null,{"$f":"+C38","v":2.4300000000000002},null,null,null,null,null,"JO336 Breaded CarbClaw",0.9]
[null,"DI12 91303:CHK WING",3.97,null,null,"DD12 1303:CHK WING",null,null,3.97,null,null,null,null,null,"JO337 C.Shrimp.F.Paste",0.73]
[null,"DI13 91304:IKAN BILIS",2.1800000000000002,null,null,"DD13 1304:IKAN BILIS",null,null,2.1800000000000002,null,null,null,null,null,"JO338 Otak Fish Paste",0.67]
[null,"DI14 91305:THAI RL",3.61,null,null,"DD14 1305:THAI RL",null,null,3.61,null,null,null,null,null,"JO339 Salmon Ball",0.9]
[null,"DI15 91306:SLVR FISH",null,null,null,"DD15 1306:SLVR FISH",null,null,0,null,null,null,null,null,"JO340 Fuzhou Fish Ball",1.29]
[null,"DI16 91307:D/F C.WING",4.3099999999999996,null,null,"DD16 1307:D.F C/WING",null,null,4.3099999999999996,null,null,null,null,null,"JO341 Scallop Ball",1.02]
[null,"DI17 91308:C/CALAMARI",3.69,null,null,"DD17 1308 C/CALAMARI",null,null,3.69,null,null,null,null,null,"JO342 Taiwan C.F. Ball",1.17]
[null,"DI18 91309:Mc O.RINGS",1.72,null,null,"DD18 1309 Mc C/O.RING",null,null,1.72,null,null,null,null,null,"JO343 Cuttlefish Roll",1.06]
[null,"DI19 91310:McSPIRAL.F",1.72,null,null,"DD19 1310:Mc SPIRAL/F",null,null,1.72,null,null,null,null,null,"JO344 M.Seafood Ball",1.02]
[null,"DI20 91311Mc H/SMILES",1.34,null,null,"DD20 1311:Mc H/SMILES",null,null,1.34,null,null,null,null,null,"JO345 Cuttlefish",1.5]
[null,"DI21 91312:Mc HASH.B",0.59,null,null,"DD21 1312:Mc HASH BRW",null,null,0.59,null,null,null,null,null,"JO346 Shisamo",1.5]
[null,null,null,null,null,"ZAB01 1201:SFD STICK",null,null,2,null,null,null,null,null,"JO347 Tiger Prawn",1.5]
[null,null,null,null,null,null,null,null,null,null,null,null,null,null,"JP448 Botton Mushroom",0.6]
[null,null,null,null,null,"ZAB02 1202:FRIES",null,null,1.76,null,null,null,null,null,"JP449 Kang Kong",0.4]
[null,null,null,null,null,"ZAB03 1203:GOLD MROOM",null,null,2.15,null,null,null,null,null,"JP450 Broccali",0.5]
[null,null,null,null,null,"ZAB04 1204:F.BALL",null,null,1.56,null,null,null,null,null,"JP451 Long Bean",0.3]
[null,null,null,null,null,"ZAB06 1206:SPRING RL",null,null,2.5,null,null,null,null,null,"JP452 Fried A.Mushroom",0.4]
[null,null,null,null,null,"ZAB07 1207:SAUSAGE",null,null,2.67,null,null,null,null,null,"JP453 Shiitake Mushrom",0.7]
[null,null,null,null,null,"ZAC02 1302:NUGGET",null,null,1.24,null,null,null,null,null,"JQ554 M.Fish Eggplant",0.52]
[null,null,null,null,null,"ZAC03 1303:CHK WING",null,null,3.97,null,null,null,null,null,"JQ555 M.Fish Chilli",0.52]
[null,null,null,null,null,"ZAC04 1304:IKAN BILIS",null,null,2.1800000000000002,null,null,null,null,null,"JQ556 M.Fish Lady's F",0.52]
[null,null,null,null,null,"ZAC05 1305:THAI RL",null,null,3.61,null,null,null,null,null,"JQ557 Chrisy Beabcurd",0.33]
[null,null,null,null,null,"ZAC07 1307:D/F C.WINGS",null,null,4.3099999999999996,null,null,null,null,null,"JQ558 Quail Eggs",0.56000000000000005]
[null,null,null,null,null,"ZAC08 1308:C/CALAMARI",null,null,3.69,null,null,null,null,null,"JQ559 Fried Wanton",0.9]
[null,null,null,null,null,"ZAC09 1309:Mc /O.RINGS",null,null,1.72,null,null,null,null,null,"JQ560 L.G.Potato Samos",0.7]
[null,null,null,null,null,"ZAC10 1310:Mc SPIRAL/F",null,null,1.72,null,null,null,null,null,"JQ561 F.Vege Ball",0.75]
[null,null,null,null,null,"ZAC11 1311:Mc H/SMILES",null,null,1.34,null,null,null,null,null,"JQ562 Minced Fish Ball",1.02]
[null,null,null,null,null,"ZAC12 1312:Mc HASH/B",null,null,0.59,null,null,null,null,null,"JQ563 Seafood Tofu",0.87]
[null,null,null,null,null,"DL01 3001:6'HAWAIIAN",null,null,3.25,null,null,null,null,null,"JQ564 Spring Roll",1]
[null,null,null,null,null,"DL02 3002:6'SMOKE BBQ",null,null,4.59,null,null,null,null,null,"JQ565 Quail Century Eg",0.81]
[null,null,null,null,null,"DL03 3003:6'SEAFOOD",null,null,5.13,null,null,null,null,null,"JQ566 Thai Roll",1.2]
[null,null,null,null,null,"DL04 3004:6'SPICY BUF",null,null,2.99,null,null,null,null,null,"JQ567 Cheese S.Tofu",1.02]
[null,null,null,null,null,"DL05 3005:6'VEGGIE",null,null,3.62,null,null,null,null,null,"JQ568 Rice Skin  Roll",1.2]
[null,null,null,null,null,"DL06 3001:9'HAWAIIAN",null,null,5.79,null,null,null,null,null,"JR01 PACKAGE A",8.2799999999999994]
[null,null,null,null,null,"DL07 3002:9'SMOKED",null,null,8.2100000000000009,null,null,null,null,null,"JR02 PACKAGE B",8.4600000000000009]
[null,null,null,null,null,"DL08 3003:9'SEAFOOD",null,null,9.48]
[null,null,null,null,null,"DL09 3004:9'SPICY B",null,null,5.38]
[null,null,null,null,null,"DL10 3005:9'VEGGIE",null,null,6.96]
[null,null,null,null,null,"DM01 SNACK PLATTER(A)",null,null,4.5999999999999996]
[null,null,null,null,null,"DM02 SNACK PLATTER(B)",null,null,4.5999999999999996]
[null,null,null,null,null,"DM03 CNY platter(A)",null,null,9.81]
[null,null,null,null,null,"DM04 CNY platter (B)",null,null,9.81]
[null,null,null,null,null,"DF01 ADD RICE",null,null,0.5]
[null,null,null,null,null,"DF02 ADD F.EGG",null,null,0.34]

{"sheet":"Summary","index":1,"n_rows":442,"n_cols":37,"rows_kept":442,"cut":false,"hidden":false,"merged":[[5,2,5,3],[7,2,7,3],[9,2,9,3],[28,1,28,2],[371,1,371,2],[372,1,372,2],[373,1,373,2],[374,1,374,2],[375,1,375,2],[376,1,376,2],[377,1,377,2],[378,1,378,2],[379,1,379,2],[380,1,380,2],[381,1,381,2],[382,1,382,2],[383,1,383,2],[384,1,384,2],[385,1,385,2],[386,1,386,2],[387,1,387,2],[388,1,388,2],[389,1,389,2],[390,1,390,2],[391,1,391,2],[392,1,392,2],[393,1,393,2],[394,1,394,2],[395,1,395,2],[396,1,396,2],[397,1,397,2],[398,1,398,2],[399,1,399,2],[400,1,400,2],[401,1,401,2],[402,1,402,2],[403,1,403,2],[404,1,404,2],[405,1,405,2],[406,1,406,2],[407,1,407,2],[408,1,408,2],[409,1,409,2],[410,1,410,2],[411,1,411,2],[412,1,412,2],[413,1,413,2],[414,1,414,2],[415,1,415,2],[416,1,416,2],[417,1,417,2],[418,1,418,2],[419,1,419,2],[420,1,420,2],[421,1,421,2],[422,1,422,2],[423,1,423,2],[424,1,424,2],[425,1,425,2],[426,1,426,2],[427,1,427,2],[428,1,428,2],[429,1,429,2],[430,1,430,2],[431,1,431,2],[437,1,437,2],[438,1,438,2],[439,1,439,2],[432,1,432,2],[433,1,433,2],[434,1,434,2],[435,1,435,2],[436,1,436,2]]}
[]
[]
[null,null,"SUMMARY OF PRODUCT SALES IN MONTH"]
[]
[]
[null,"OUTLET",{"$f":"MID(CELL(\"FILENAME\",$A$1),FIND(\"[\",CELL(\"FILENAME\",$A$1))+1,3)","v":"CCS"}]
[]
[null,"YEAR",{"$f":"MID(CELL(\"FILENAME\",$A$1),FIND(\"[\",CELL(\"FILENAME\",$A$1))+4,4)","v":"2013"}]
[]
[null,"MONTH",{"$f":"INDEX($C$12:$C$23,MID(CELL(\"FILENAME\",$A$1),FIND(\"[\",CELL(\"FILENAME\",$A$1))+8,2),1)","v":"OCTOBER"}]
[]
[null,"MONTH","JANUARY"]
[null,null,"FEBRUARY"]
[null,null,"MARCH"]
[null,null,"APRIL"]
[null,null,"MAY"]
[null,null,"JUNE"]
[null,null,"JULY"]
[null,null,"AUGUST"]
[null,null,"SEPTEMBER"]
[null,null,"OCTOBER"]
[null,null,"NOVEMBER"]
[null,null,"DECEMBER"]
[]
[]
[null,"PRODUCT",null,"CATEGORY","QTY","QUANTITIES SOLD IN MONTH"]
[null,null,null,null,"PER","TOTAL",{"$f":"DATE(C8,MID(CELL(\"FILENAME\",$A$1),FIND(\"[\",CELL(\"FILENAME\",$A$1))+8,2),1)","v":"2013-10-01"},{"$f":"IFERROR(IF(MONTH(G27+1)<=MONTH($G$27),G27+1,\"\"),\"\")","v":"2013-10-02"},{"$f":"IFERROR(IF(MONTH(H27+1)<=MONTH($G$27),H27+1,\"\"),\"\")","v":"2013-10-03"},"2013-10-04","2013-10-05","2013-10-06","2013-10-07","2013-10-08","2013-10-09","2013-10-10","2013-10-11","2013-10-12","2013-10-13","2013-10-14","2013-10-15","2013-10-16","2013-10-17","2013-10-18","2013-10-19","2013-10-20","2013-10-21","2013-10-22","2013-10-23","2013-10-24","2013-10-25","2013-10-26","2013-10-27","2013-10-28","2013-10-29","2013-10-30","2013-10-31"]
[null,null,null,null,"ITEM"]
[]
[null,"BA01 K : 4BP",null,"BEER",12,{"$f":"SUM($G30:$AK30)","v":0},{"$f":"IFERROR($E30*SUMIF('[1]Daily Log'!$B$18:$B$1017,$B30,'[1]Daily Log'!$C$18:$C$1017),0)","v":0},{"$f":"IFERROR($E30*SUMIF('[2]Daily Log'!$E$18:$E$1017,$B30,'[2]Daily Log'!$F$18:$F$1017),0)","v":0},{"$f":"IFERROR($E30*SUMIF('[3]Daily Log'!$H$18:$H$1017,$B30,'[3]Daily Log'!$I$18:$I$1017),0)","v":0},{"$f":"IFERROR($E30*SUMIF('[3]Daily Log'!$K$18:$K$1017,$B30,'[3]Daily Log'!$L$18:$L$1017),0)","v":0},{"$f":"IFERROR($E30*SUMIF('[3]Daily Log'!$N$18:$N$1017,$B30,'[3]Daily Log'!$O$18:$O$1017),0)","v":0},{"$f":"IFERROR($E30*SUMIF('[3]Daily Log'!$Q$18:$Q$1017,$B30,'[3]Daily Log'!$R$18:$R$1017),0)","v":0},{"$f":"IFERROR($E30*SUMIF('[3]Daily Log'!$T$18:$T$1017,$B30,'[3]Daily Log'!$U$18:$U$1017),0)","v":0},{"$f":"IFERROR($E30*SUMIF('[3]Daily Log'!$W$18:$W$1017,$B30,'[3]Daily Log'!$X$18:$X$1017),0)","v":0},{"$f":"IFERROR($E30*SUMIF('[3]Daily Log'!$Z$18:$Z$1017,$B30,'[3]Daily Log'!$AA$18:$AA$1017),0)","v":0},{"$f":"IFERROR($E30*SUMIF('[3]Daily Log'!$AC$18:$AC$1017,$B30,'[3]Daily Log'!$AD$18:$AD$1017),0)","v":0},{"$f":"IFERROR($E30*SUMIF('[3]Daily Log'!$AF$18:$AF$1017,$B30,'[3]Daily Log'!$AG$18:$AG$1017),0)","v":0},{"$f":"IFERROR($E30*SUMIF('[3]Daily Log'!$AI$18:$AI$1017,$B30,'[3]Daily Log'!$AJ$18:$AJ$1017),0)","v":0},{"$f":"IFERROR($E30*SUMIF('[3]Daily Log'!$AL$18:$AL$1017,$B30,'[3]Daily Log'!$AM$18:$AM$1017),0)","v":0},{"$f":"IFERROR($E30*SUMIF('[3]Daily Log'!$AO$18:$AO$1017,$B30,'[3]Daily Log'!$AP$18:$AP$1017),0)","v":0},{"$f":"IFERROR($E30*SUMIF('[3]Daily Log'!$AR$18:$AR$1017,$B30,'[3]Daily Log'!$AS$18:$AS$1017),0)","v":0},{"$f":"IFERROR($E30*SUMIF('[3]Daily Log'!$AU$18:$AU$1017,$B30,'[3]Daily Log'!$AV$18:$AV$1017),0)","v":0},{"$f":"IFERROR($E30*SUMIF('[3]Daily Log'!$AX$18:$AX$1017,$B30,'[3]Daily Log'!$AY$18:$AY$1017),0)","v":0},{"$f":"IFERROR($E30*SUMIF('[3]Daily Log'!$BA$18:$BA$1017,$B30,'[3]Daily Log'!$BB$18:$BB$1017),0)","v":0},{"$f":"IFERROR($E30*SUMIF('[3]Daily Log'!$BD$18:$BD$1017,$B30,'[3]Daily Log'!$BE$18:$BE$1017),0)","v":0},{"$f":"IFERROR($E30*SUMIF('[3]Daily Log'!$BG$18:$BG$1017,$B30,'[3]Daily Log'!$BH$18:$BH$1017),0)","v":0},{"$f":"IFERROR($E30*SUMIF('[3]Daily Log'!$BJ$18:$BJ$1017,$B30,'[3]Daily Log'!$BK$18:$BK$1017),0)","v":0},{"$f":"IFERROR($E30*SUMIF('[3]Daily Log'!$BM$18:$BM$1017,$B30,'[3]Daily Log'!$BN$18:$BN$1017),0)","v":0},{"$f":"IFERROR($E30*SUMIF('[3]Daily Log'!$BP$18:$BP$1017,$B30,'[3]Daily Log'!$BQ$18:$BQ$1017),0)","v":0},{"$f":"IFERROR($E30*SUMIF('[3]Daily Log'!$BS$18:$BS$1017,$B30,'[3]Daily Log'!$BT$18:$BT$1017),0)","v":0},{"$f":"IFERROR($E30*SUMIF('[3]Daily Log'!$BV$18:$BV$1017,$B30,'[3]Daily Log'!$BW$18:$BW$1017),0)","v":0},{"$f":"IFERROR($E30*SUMIF('[3]Daily Log'!$BY$18:$BY$1017,$B30,'[3]Daily Log'!$BZ$18:$BZ$1017),0)","v":0},{"$f":"IFERROR($E30*SUMIF('[3]Daily Log'!$CB$18:$CB$1017,$B30,'[3]Daily Log'!$CC$18:$CC$1017),0)","v":0},{"$f":"IFERROR($E30*SUMIF('[3]Daily Log'!$CE$18:$CE$1017,$B30,'[3]Daily Log'!$CF$18:$CF$1017),0)","v":0},{"$f":"IFERROR($E30*SUMIF('[3]Daily Log'!$CH$18:$CH$1017,$B30,'[3]Daily Log'!$CI$18:$CI$1017),0)","v":0},{"$f":"IFERROR($E30*SUMIF('Daily Log'!$CK$18:$CK$1017,$B30,'Daily Log'!$CL$18:$CL$1017),0)","v":0},{"$f":"IFERROR($E30*SUMIF('[3]Daily Log'!$CN$18:$CN$1017,$B30,'[3]Daily Log'!$CO$18:$CO$1017),0)","v":0}]
[null,"BA02 H : 4BP",null,"BEER",12,{"$f":"SUM($G31:$AK31)","v":0},null,null,null,null,null,null,null,null,null,null,null,null,null,null,null,null,null,null,null,null,null,null,null,null,null,null,null,null,null,{"$f":"IFERROR($E31*SUMIF('Daily Log'!$CK$18:$CK$1017,$B31,'Daily Log'!$CL$18:$CL$1017),0)","v":0},{"$f":"IFERROR($E31*SUMIF('Daily Log'!$CN$18:$CN$1017,$B31,'Daily Log'!$CO$18:$CO$1017),0)","v":0}]
[null,"BA03 H : 4BP MEMBER",null,"BEER",12,0,null,null,null,null,null,null,null,null,null,null,null,null,null,null,null,null,null,null,null,null,null,null,null,null,null,null,null,null,null,{"$f":"IFERROR($E32*SUMIF('Daily Log'!$CK$18:$CK$1017,$B32,'Daily Log'!$CL$18:$CL$1017),0)","v":0},{"$f":"IFERROR($E32*SUMIF('Daily Log'!$CN$18:$CN$1017,$B32,'Daily Log'!$CO$18:$CO$1017),0)","v":0}]
[null,"BA04 N : 4BP",null,"BEER",12,0,null,null,null,null,null,null,null,null,null,null,null,null,null,null,null,null,null,null,null,null,null,null,null,null,null,null,null,null,null,{"$f":"IFERROR($E33*SUMIF('Daily Log'!$CK$18:$CK$1017,$B33,'Daily Log'!$CL$18:$CL$1017),0)","v":0},{"$f":"IFERROR($E33*SUMIF('Daily Log'!$CN$18:$CN$1017,$B33,'Daily Log'!$CO$18:$CO$1017),0)","v":0}]
[null,"BA05 N : 4BP MEMBER",null,"BEER",12,0,null,null,null,null,null,null,null,null,null,null,null,null,null,null,null,null,null,null,null,null,null,null,null,null,null,null,null,null,null,{"$f":"IFERROR($E34*SUMIF('Daily Log'!$CK$18:$CK$1017,$B34,'Daily Log'!$CL$18:$CL$1017),0)","v":0},{"$f":"IFERROR($E34*SUMIF('Daily Log'!$CN$18:$CN$1017,$B34,'Daily Log'!$CO$18:$CO$1017),0)","v":0}]
[null,"BA06 M : 4BP",null,"BEER",12,0,null,null,null,null,null,null,null,null,null,null,null,null,null,null,null,null,null,null,null,null,null,null,null,null,null,null,null,null,null,{"$f":"IFERROR($E35*SUMIF('Daily Log'!$CK$18:$CK$1017,$B35,'Daily Log'!$CL$18:$CL$1017),0)","v":0},{"$f":"IFERROR($E35*SUMIF('Daily Log'!$CN$18:$CN$1017,$B35,'Daily Log'!$CO$18:$CO$1017),0)","v":0}]
[null,"BA07 M : 4BP MEMBER",null,"BEER",12,0,null,null,null,null,null,null,null,null,null,null,null,null,null,null,null,null,null,null,null,null,null,null,null,null,null,null,null,null,null,{"$f":"IFERROR($E36*SUMIF('Daily Log'!$CK$18:$CK$1017,$B36,'Daily Log'!$CL$18:$CL$1017),0)","v":0},{"$f":"IFERROR($E36*SUMIF('Daily Log'!$CN$18:$CN$1017,$B36,'Daily Log'!$CO$18:$CO$1017),0)","v":0}]
[null,"BA08 GUINNESS BTL",null,"BEER",1,1,null,null,null,null,null,null,null,null,null,null,null,null,null,null,null,null,null,null,null,null,null,null,null,null,null,null,null,null,null,{"$f":"IFERROR($E37*SUMIF('Daily Log'!$CK$18:$CK$1017,$B37,'Daily Log'!$CL$18:$CL$1017),0)","v":0},{"$f":"IFERROR($E37*SUMIF('Daily Log'!$CN$18:$CN$1017,$B37,'Daily Log'!$CO$18:$CO$1017),0)","v":1}]
[null,"BA09 GUINNESS BKT",null,"BEER",4,4,null,null,null,null,null,null,null,null,null,null,null,null,null,null,null,null,null,null,null,null,null,null,null,null,null,null,null,null,null,{"$f":"IFERROR($E38*SUMIF('Daily Log'!$CK$18:$CK$1017,$B38,'Daily Log'!$CL$18:$CL$1017),0)","v":4},{"$f":"IFERROR($E38*SUMIF('Daily Log'!$CN$18:$CN$1017,$B38,'Daily Log'!$CO$18:$CO$1017),0)","v":0}]
[null,"BA10 GUINNESS RND",null,"BEER",12,0,null,null,null,null,null,null,null,null,null,null,null,null,null,null,null,null,null,null,null,null,null,null,null,null,null,null,null,null,null,{"$f":"IFERROR($E39*SUMIF('Daily Log'!$CK$18:$CK$1017,$B39,'Daily Log'!$CL$18:$CL$1017),0)","v":0},{"$f":"IFERROR($E39*SUMIF('Daily Log'!$CN$18:$CN$1017,$B39,'Daily Log'!$CO$18:$CO$1017),0)","v":0}]
[null,"BA11 HEINEKEN BTL",null,"BEER",1,4,null,null,null,null,null,null,null,null,null,null,null,null,null,null,null,null,null,null,null,null,null,null,null,null,null,null,null,null,null,{"$f":"IFERROR($E40*SUMIF('Daily Log'!$CK$18:$CK$1017,$B40,'Daily Log'!$CL$18:$CL$1017),0)","v":4},{"$f":"IFERROR($E40*SUMIF('Daily Log'!$CN$18:$CN$1017,$B40,'Daily Log'!$CO$18:$CO$1017),0)","v":0}]
[null,"BA12 HEINEKEN BKT",null,"BEER",4,0,null,null,null,null,null,null,null,null,null,null,null,null,null,null,null,null,null,null,null,null,null,null,null,null,null,null,null,null,null,{"$f":"IFERROR($E41*SUMIF('Daily Log'!$CK$18:$CK$1017,$B41,'Daily Log'!$CL$18:$CL$1017),0)","v":0},{"$f":"IFERROR($E41*SUMIF('Daily Log'!$CN$18:$CN$1017,$B41,'Daily Log'!$CO$18:$CO$1017),0)","v":0}]
[null,"BA13 HEINEKEN RND",null,"BEER",12,0,null,null,null,null,null,null,null,null,null,null,null,null,null,null,null,null,null,null,null,null,null,null,null,null,null,null,null,null,null,{"$f":"IFERROR($E42*SUMIF('Daily Log'!$CK$18:$CK$1017,$B42,'Daily Log'!$CL$18:$CL$1017),0)","v":0},{"$f":"IFERROR($E42*SUMIF('Daily Log'!$CN$18:$CN$1017,$B42,'Daily Log'!$CO$18:$CO$1017),0)","v":0}]
[null,"BA14 TIGER BTL",null,"BEER",1,0,null,null,null,null,null,null,null,null,null,null,null,null,null,null,null,null,null,null,null,null,null,null,null,null,null,null,null,null,null,{"$f":"IFERROR($E43*SUMIF('Daily Log'!$CK$18:$CK$1017,$B43,'Daily Log'!$CL$18:$CL$1017),0)","v":0},{"$f":"IFERROR($E43*SUMIF('Daily Log'!$CN$18:$CN$1017,$B43,'Daily Log'!$CO$18:$CO$1017),0)","v":0}]
[null,"BA15 TIGER BKT",null,"BEER",4,0,null,null,null,null,null,null,null,null,null,null,null,null,null,null,null,null,null,null,null,null,null,null,null,null,null,null,null,null,null,{"$f":"IFERROR($E44*SUMIF('Daily Log'!$CK$18:$CK$1017,$B44,'Daily Log'!$CL$18:$CL$1017),0)","v":0},{"$f":"IFERROR($E44*SUMIF('Daily Log'!$CN$18:$CN$1017,$B44,'Daily Log'!$CO$18:$CO$1017),0)","v":0}]
[null,"BA16 TIGER RND",null,"BEER",12,0,null,null,null,null,null,null,null,null,null,null,null,null,null,null,null,null,null,null,null,null,null,null,null,null,null,null,null,null,null,{"$f":"IFERROR($E45*SUMIF('Daily Log'!$CK$18:$CK$1017,$B45,'Daily Log'!$CL$18:$CL$1017),0)","v":0},{"$f":"IFERROR($E45*SUMIF('Daily Log'!$CN$18:$CN$1017,$B45,'Daily Log'!$CO$18:$CO$1017),0)","v":0}]
[null,"BA17 TIGER 3+1",null,"BEER",0,0,null,null,null,null,null,null,null,null,null,null,null,null,null,null,null,null,null,null,null,null,null,null,null,null,null,null,null,null,null,{"$f":"IFERROR($E46*SUMIF('Daily Log'!$CK$18:$CK$1017,$B46,'Daily Log'!$CL$18:$CL$1017),0)","v":0},{"$f":"IFERROR($E46*SUMIF('Daily Log'!$CN$18:$CN$1017,$B46,'Daily Log'!$CO$18:$CO$1017),0)","v":0}]
[null,"BA19 Tiger 2+1",null,"BEER",12,0,null,null,null,null,null,null,null,null,null,null,null,null,null,null,null,null,null,null,null,null,null,null,null,null,null,null,null,null,null,{"$f":"IFERROR($E47*SUMIF('Daily Log'!$CK$18:$CK$1017,$B47,'Daily Log'!$CL$18:$CL$1017),0)","v":0},{"$f":"IFERROR($E47*SUMIF('Daily Log'!$CN$18:$CN$1017,$B47,'Daily Log'!$CO$18:$CO$1017),0)","v":0}]
[null,"BA20 Heineken 3+1",null,"BEER",16,0,null,null,null,null,null,null,null,null,null,null,null,null,null,null,null,null,null,null,null,null,null,null,null,null,null,null,null,null,null,{"$f":"IFERROR($E48*SUMIF('Daily Log'!$CK$18:$CK$1017,$B48,'Daily Log'!$CL$18:$CL$1017),0)","v":0},{"$f":"IFERROR($E48*SUMIF('Daily Log'!$CN$18:$CN$1017,$B48,'Daily Log'!$CO$18:$CO$1017),0)","v":0}]
[null,"CA01 GRAPE J",null,"SIDE ORDER-JUICE",1,0,null,null,null,null,null,null,null,null,null,null,null,null,null,null,null,null,null,null,null,null,null,null,null,null,null,null,null,null,null,{"$f":"IFERROR($E49*SUMIF('Daily Log'!$CK$18:$CK$1017,$B49,'Daily Log'!$CL$18:$CL$1017),0)","v":0},{"$f":"IFERROR($E49*SUMIF('Daily Log'!$CN$18:$CN$1017,$B49,'Daily Log'!$CO$18:$CO$1017),0)","v":0}]
[null,"CA02 APPLE J",null,"SIDE ORDER-JUICE",1,0,null,null,null,null,null,null,null,null,null,null,null,null,null,null,null,null,null,null,null,null,null,null,null,null,null,null,null,null,null,{"$f":"IFERROR($E50*SUMIF('Daily Log'!$CK$18:$CK$1017,$B50,'Daily Log'!$CL$18:$CL$1017),0)","v":0},{"$f":"IFERROR($E50*SUMIF('Daily Log'!$CN$18:$CN$1017,$B50,'Daily Log'!$CO$18:$CO$1017),0)","v":0}]
[null,"CA03 KIWI J",null,"SIDE ORDER-JUICE",1,0,null,null,null,null,null,null,null,null,null,null,null,null,null,null,null,null,null,null,null,null,null,null,null,null,null,null,null,null,null,{"$f":"IFERROR($E51*SUMIF('Daily Log'!$CK$18:$CK$1017,$B51,'Daily Log'!$CL$18:$CL$1017),0)","v":0},{"$f":"IFERROR($E51*SUMIF('Daily Log'!$CN$18:$CN$1017,$B51,'Daily Log'!$CO$18:$CO$1017),0)","v":0}]
[null,"CA04 MANGO J",null,"SIDE ORDER-JUICE",1,0,null,null,null,null,null,null,null,null,null,null,null,null,null,null,null,null,null,null,null,null,null,null,null,null,null,null,null,null,null,{"$f":"IFERROR($E52*SUMIF('Daily Log'!$CK$18:$CK$1017,$B52,'Daily Log'!$CL$18:$CL$1017),0)","v":0},{"$f":"IFERROR($E52*SUMIF('Daily Log'!$CN$18:$CN$1017,$B52,'Daily Log'!$CO$18:$CO$1017),0)","v":0}]
[null,"CA05 PASSION J",null,"SIDE ORDER-JUICE",1,0,null,null,null,null,null,null,null,null,null,null,null,null,null,null,null,null,null,null,null,null,null,null,null,null,null,null,null,null,null,{"$f":"IFERROR($E53*SUMIF('Daily Log'!$CK$18:$CK$1017,$B53,'Daily Log'!$CL$18:$CL$1017),0)","v":0},{"$f":"IFERROR($E53*SUMIF('Daily Log'!$CN$18:$CN$1017,$B53,'Daily Log'!$CO$18:$CO$1017),0)","v":0}]
[null,"CA06 RIBENA J",null,"SIDE ORDER-JUICE",1,0,null,null,null,null,null,null,null,null,null,null,null,null,null,null,null,null,null,null,null,null,null,null,null,null,null,null,null,null,null,{"$f":"IFERROR($E54*SUMIF('Daily Log'!$CK$18:$CK$1017,$B54,'Daily Log'!$CL$18:$CL$1017),0)","v":0},{"$f":"IFERROR($E54*SUMIF('Daily Log'!$CN$18:$CN$1017,$B54,'Daily Log'!$CO$18:$CO$1017),0)","v":0}]
[null,"CB01 GRAPE SO",null,"SIDE ORDER-SODA",1,0,null,null,null,null,null,null,null,null,null,null,null,null,null,null,null,null,null,null,null,null,null,null,null,null,null,null,null,null,null,{"$f":"IFERROR($E55*SUMIF('Daily Log'!$CK$18:$CK$1017,$B55,'Daily Log'!$CL$18:$CL$1017),0)","v":0},{"$f":"IFERROR($E55*SUMIF('Daily Log'!$CN$18:$CN$1017,$B55,'Daily Log'!$CO$18:$CO$1017),0)","v":0}]
[null,"CB02 APPLE SO",null,"SIDE ORDER-SODA",1,0,null,null,null,null,null,null,null,null,null,null,null,null,null,null,null,null,null,null,null,null,null,null,null,null,null,null,null,null,null,{"$f":"IFERROR($E56*SUMIF('Daily Log'!$CK$18:$CK$1017,$B56,'Daily Log'!$CL$18:$CL$1017),0)","v":0},{"$f":"IFERROR($E56*SUMIF('Daily Log'!$CN$18:$CN$1017,$B56,'Daily Log'!$CO$18:$CO$1017),0)","v":0}]
[null,"CB03 KIWI SO",null,"SIDE ORDER-SODA",1,0,null,null,null,null,null,null,null,null,null,null,null,null,null,null,null,null,null,null,null,null,null,null,null,null,null,null,null,null,null,{"$f":"IFERROR($E57*SUMIF('Daily Log'!$CK$18:$CK$1017,$B57,'Daily Log'!$CL$18:$CL$1017),0)","v":0},{"$f":"IFERROR($E57*SUMIF('Daily Log'!$CN$18:$CN$1017,$B57,'Daily Log'!$CO$18:$CO$1017),0)","v":0}]
[null,"CB04 MANGO SO",null,"SIDE ORDER-SODA",1,0,null,null,null,null,null,null,null,null,null,null,null,null,null,null,null,null,null,null,null,null,null,null,null,null,null,null,null,null,null,{"$f":"IFERROR($E58*SUMIF('Daily Log'!$CK$18:$CK$1017,$B58,'Daily Log'!$CL$18:$CL$1017),0)","v":0},{"$f":"IFERROR($E58*SUMIF('Daily Log'!$CN$18:$CN$1017,$B58,'Daily Log'!$CO$18:$CO$1017),0)","v":0}]
[null,"CB05 PASSION SO",null,"SIDE ORDER-SODA",1,0,null,null,null,null,null,null,null,null,null,null,null,null,null,null,null,null,null,null,null,null,null,null,null,null,null,null,null,null,null,{"$f":"IFERROR($E59*SUMIF('Daily Log'!$CK$18:$CK$1017,$B59,'Daily Log'!$CL$18:$CL$1017),0)","v":0},{"$f":"IFERROR($E59*SUMIF('Daily Log'!$CN$18:$CN$1017,$B59,'Daily Log'!$CO$18:$CO$1017),0)","v":0}]
[null,"CB06 RIBENA SO",null,"SIDE ORDER-SODA",1,0,null,null,null,null,null,null,null,null,null,null,null,null,null,null,null,null,null,null,null,null,null,null,null,null,null,null,null,null,null,{"$f":"IFERROR($E60*SUMIF('Daily Log'!$CK$18:$CK$1017,$B60,'Daily Log'!$CL$18:$CL$1017),0)","v":0},{"$f":"IFERROR($E60*SUMIF('Daily Log'!$CN$18:$CN$1017,$B60,'Daily Log'!$CO$18:$CO$1017),0)","v":0}]
[null,"CC01 GRAPE SM",null,"SIDE ORDER-SMOOTHIES",1,0,null,null,null,null,null,null,null,null,null,null,null,null,null,null,null,null,null,null,null,null,null,null,null,null,null,null,null,null,null,{"$f":"IFERROR($E61*SUMIF('Daily Log'!$CK$18:$CK$1017,$B61,'Daily Log'!$CL$18:$CL$1017),0)","v":0},{"$f":"IFERROR($E61*SUMIF('Daily Log'!$CN$18:$CN$1017,$B61,'Daily Log'!$CO$18:$CO$1017),0)","v":0}]
[null,"CC02 APPLE SM",null,"SIDE ORDER-SMOOTHIES",1,0,null,null,null,null,null,null,null,null,null,null,null,null,null,null,null,null,null,null,null,null,null,null,null,null,null,null,null,null,null,{"$f":"IFERROR($E62*SUMIF('Daily Log'!$CK$18:$CK$1017,$B62,'Daily Log'!$CL$18:$CL$1017),0)","v":0},{"$f":"IFERROR($E62*SUMIF('Daily Log'!$CN$18:$CN$1017,$B62,'Daily Log'!$CO$18:$CO$1017),0)","v":0}]
[null,"CC03 KIWI SM",null,"SIDE ORDER-SMOOTHIES",1,0,null,null,null,null,null,null,null,null,null,null,null,null,null,null,null,null,null,null,null,null,null,null,null,null,null,null,null,null,null,{"$f":"IFERROR($E63*SUMIF('Daily Log'!$CK$18:$CK$1017,$B63,'Daily Log'!$CL$18:$CL$1017),0)","v":0},{"$f":"IFERROR($E63*SUMIF('Daily Log'!$CN$18:$CN$1017,$B63,'Daily Log'!$CO$18:$CO$1017),0)","v":0}]
[null,"CC04 MANGO SM",null,"SIDE ORDER-SMOOTHIES",1,0,null,null,null,null,null,null,null,null,null,null,null,null,null,null,null,null,null,null,null,null,null,null,null,null,null,null,null,null,null,{"$f":"IFERROR($E64*SUMIF('Daily Log'!$CK$18:$CK$1017,$B64,'Daily Log'!$CL$18:$CL$1017),0)","v":0},{"$f":"IFERROR($E64*SUMIF('Daily Log'!$CN$18:$CN$1017,$B64,'Daily Log'!$CO$18:$CO$1017),0)","v":0}]
[null,"CC05 PASSION SM",null,"SIDE ORDER-SMOOTHIES",1,0,null,null,null,null,null,null,null,null,null,null,null,null,null,null,null,null,null,null,null,null,null,null,null,null,null,null,null,null,null,{"$f":"IFERROR($E65*SUMIF('Daily Log'!$CK$18:$CK$1017,$B65,'Daily Log'!$CL$18:$CL$1017),0)","v":0},{"$f":"IFERROR($E65*SUMIF('Daily Log'!$CN$18:$CN$1017,$B65,'Daily Log'!$CO$18:$CO$1017),0)","v":0}]
[null,"CC06 RIBENA SM",null,"SIDE ORDER-SMOOTHIES",1,0,null,null,null,null,null,null,null,null,null,null,null,null,null,null,null,null,null,null,null,null,null,null,null,null,null,null,null,null,null,{"$f":"IFERROR($E66*SUMIF('Daily Log'!$CK$18:$CK$1017,$B66,'Daily Log'!$CL$18:$CL$1017),0)","v":0},{"$f":"IFERROR($E66*SUMIF('Daily Log'!$CN$18:$CN$1017,$B66,'Daily Log'!$CO$18:$CO$1017),0)","v":0}]
[null,"CC07 CAPPUCINNO SM",null,"SIDE ORDER-SMOOTHIES",1,0,null,null,null,null,null,null,null,null,null,null,null,null,null,null,null,null,null,null,null,null,null,null,null,null,null,null,null,null,null,{"$f":"IFERROR($E67*SUMIF('Daily Log'!$CK$18:$CK$1017,$B67,'Daily Log'!$CL$18:$CL$1017),0)","v":0},{"$f":"IFERROR($E67*SUMIF('Daily Log'!$CN$18:$CN$1017,$B67,'Daily Log'!$CO$18:$CO$1017),0)","v":0}]
[null,"CC08 CHOCOLATE SM",null,"SIDE ORDER-SMOOTHIES",1,0,null,null,null,null,null,null,null,null,null,null,null,null,null,null,null,null,null,null,null,null,null,null,null,null,null,null,null,null,null,{"$f":"IFERROR($E68*SUMIF('Daily Log'!$CK$18:$CK$1017,$B68,'Daily Log'!$CL$18:$CL$1017),0)","v":0},{"$f":"IFERROR($E68*SUMIF('Daily Log'!$CN$18:$CN$1017,$B68,'Daily Log'!$CO$18:$CO$1017),0)","v":0}]
[null,"CC09 MOCHA SM",null,"SIDE ORDER-SMOOTHIES",1,0,null,null,null,null,null,null,null,null,null,null,null,null,null,null,null,null,null,null,null,null,null,null,null,null,null,null,null,null,null,{"$f":"IFERROR($E69*SUMIF('Daily Log'!$CK$18:$CK$1017,$B69,'Daily Log'!$CL$18:$CL$1017),0)","v":0},{"$f":"IFERROR($E69*SUMIF('Daily Log'!$CN$18:$CN$1017,$B69,'Daily Log'!$CO$18:$CO$1017),0)","v":0}]
[null,"CD01 7 UP",null,"SIDE ORDER-SOFT DRINKS",1,0,null,null,null,null,null,null,null,null,null,null,null,null,null,null,null,null,null,null,null,null,null,null,null,null,null,null,null,null,null,{"$f":"IFERROR($E70*SUMIF('Daily Log'!$CK$18:$CK$1017,$B70,'Daily Log'!$CL$18:$CL$1017),0)","v":0},{"$f":"IFERROR($E70*SUMIF('Daily Log'!$CN$18:$CN$1017,$B70,'Daily Log'!$CO$18:$CO$1017),0)","v":0}]
[null,"CD02 7 UP REVIVE",null,"SIDE ORDER-SOFT DRINKS",1,0,null,null,null,null,null,null,null,null,null,null,null,null,null,null,null,null,null,null,null,null,null,null,null,null,null,null,null,null,null,{"$f":"IFERROR($E71*SUMIF('Daily Log'!$CK$18:$CK$1017,$B71,'Daily Log'!$CL$18:$CL$1017),0)","v":0},{"$f":"IFERROR($E71*SUMIF('Daily Log'!$CN$18:$CN$1017,$B71,'Daily Log'!$CO$18:$CO$1017),0)","v":0}]
[null,"CD03 PEPSI",null,"SIDE ORDER-SOFT DRINKS",1,0,null,null,null,null,null,null,null,null,null,null,null,null,null,null,null,null,null,null,null,null,null,null,null,null,null,null,null,null,null,{"$f":"IFERROR($E72*SUMIF('Daily Log'!$CK$18:$CK$1017,$B72,'Daily Log'!$CL$18:$CL$1017),0)","v":0},{"$f":"IFERROR($E72*SUMIF('Daily Log'!$CN$18:$CN$1017,$B72,'Daily Log'!$CO$18:$CO$1017),0)","v":0}]
[null,"CE01 MILO (C)",null,"SIDE ORDER-COLD BEVERAGE",1,0,null,null,null,null,null,null,null,null,null,null,null,null,null,null,null,null,null,null,null,null,null,null,null,null,null,null,null,null,null,{"$f":"IFERROR($E73*SUMIF('Daily Log'!$CK$18:$CK$1017,$B73,'Daily Log'!$CL$18:$CL$1017),0)","v":0},{"$f":"IFERROR($E73*SUMIF('Daily Log'!$CN$18:$CN$1017,$B73,'Daily Log'!$CO$18:$CO$1017),0)","v":0}]
[null,"CE02 NESCAFE (C)",null,"SIDE ORDER-COLD BEVERAGE",1,0,null,null,null,null,null,null,null,null,null,null,null,null,null,null,null,null,null,null,null,null,null,null,null,null,null,null,null,null,null,{"$f":"IFERROR($E74*SUMIF('Daily Log'!$CK$18:$CK$1017,$B74,'Daily Log'!$CL$18:$CL$1017),0)","v":0},{"$f":"IFERROR($E74*SUMIF('Daily Log'!$CN$18:$CN$1017,$B74,'Daily Log'!$CO$18:$CO$1017),0)","v":0}]
[null,"CE03 TEA (C)",null,"SIDE ORDER-COLD BEVERAGE",1,0,null,null,null,null,null,null,null,null,null,null,null,null,null,null,null,null,null,null,null,null,null,null,null,null,null,null,null,null,null,{"$f":"IFERROR($E75*SUMIF('Daily Log'!$CK$18:$CK$1017,$B75,'Daily Log'!$CL$18:$CL$1017),0)","v":0},{"$f":"IFERROR($E75*SUMIF('Daily Log'!$CN$18:$CN$1017,$B75,'Daily Log'!$CO$18:$CO$1017),0)","v":0}]
[null,"CE04 LEMON TEA (C)",null,"SIDE ORDER-COLD BEVERAGE",1,0,null,null,null,null,null,null,null,null,null,null,null,null,null,null,null,null,null,null,null,null,null,null,null,null,null,null,null,null,null,{"$f":"IFERROR($E76*SUMIF('Daily Log'!$CK$18:$CK$1017,$B76,'Daily Log'!$CL$18:$CL$1017),0)","v":0},{"$f":"IFERROR($E76*SUMIF('Daily Log'!$CN$18:$CN$1017,$B76,'Daily Log'!$CO$18:$CO$1017),0)","v":0}]
[null,"CE05 GRN TEA (C)",null,"SIDE ORDER-COLD BEVERAGE",1,0,null,null,null,null,null,null,null,null,null,null,null,null,null,null,null,null,null,null,null,null,null,null,null,null,null,null,null,null,null,{"$f":"IFERROR($E77*SUMIF('Daily Log'!$CK$18:$CK$1017,$B77,'Daily Log'!$CL$18:$CL$1017),0)","v":0},{"$f":"IFERROR($E77*SUMIF('Daily Log'!$CN$18:$CN$1017,$B77,'Daily Log'!$CO$18:$CO$1017),0)","v":0}]
[null,"CE06 HNY GRN TEA (C)",null,"SIDE ORDER-COLD BEVERAGE",1,1,null,null,null,null,null,null,null,null,null,null,null,null,null,null,null,null,null,null,null,null,null,null,null,null,null,null,null,null,null,{"$f":"IFERROR($E78*SUMIF('Daily Log'!$CK$18:$CK$1017,$B78,'Daily Log'!$CL$18:$CL$1017),0)","v":1},{"$f":"IFERROR($E78*SUMIF('Daily Log'!$CN$18:$CN$1017,$B78,'Daily Log'!$CO$18:$CO$1017),0)","v":0}]
[null,"CE07 HONEY (C)",null,"SIDE ORDER-COLD BEVERAGE",1,0,null,null,null,null,null,null,null,null,null,null,null,null,null,null,null,null,null,null,null,null,null,null,null,null,null,null,null,null,null,{"$f":"IFERROR($E79*SUMIF('Daily Log'!$CK$18:$CK$1017,$B79,'Daily Log'!$CL$18:$CL$1017),0)","v":0},{"$f":"IFERROR($E79*SUMIF('Daily Log'!$CN$18:$CN$1017,$B79,'Daily Log'!$CO$18:$CO$1017),0)","v":0}]
[null,"CE08 LEMON HONEY (C)",null,"SIDE ORDER-COLD BEVERAGE",1,0,null,null,null,null,null,null,null,null,null,null,null,null,null,null,null,null,null,null,null,null,null,null,null,null,null,null,null,null,null,{"$f":"IFERROR($E80*SUMIF('Daily Log'!$CK$18:$CK$1017,$B80,'Daily Log'!$CL$18:$CL$1017),0)","v":0},{"$f":"IFERROR($E80*SUMIF('Daily Log'!$CN$18:$CN$1017,$B80,'Daily Log'!$CO$18:$CO$1017),0)","v":0}]
[null,"CF01 MILO (H)",null,"SIDE ORDER-HOT BEVERAGE",1,0,null,null,null,null,null,null,null,null,null,null,null,null,null,null,null,null,null,null,null,null,null,null,null,null,null,null,null,null,null,{"$f":"IFERROR($E81*SUMIF('Daily Log'!$CK$18:$CK$1017,$B81,'Daily Log'!$CL$18:$CL$1017),0)","v":0},{"$f":"IFERROR($E81*SUMIF('Daily Log'!$CN$18:$CN$1017,$B81,'Daily Log'!$CO$18:$CO$1017),0)","v":0}]
[null,"CF02 NESCAFE (H)",null,"SIDE ORDER-HOT BEVERAGE",1,0,null,null,null,null,null,null,null,null,null,null,null,null,null,null,null,null,null,null,null,null,null,null,null,null,null,null,null,null,null,{"$f":"IFERROR($E82*SUMIF('Daily Log'!$CK$18:$CK$1017,$B82,'Daily Log'!$CL$18:$CL$1017),0)","v":0},{"$f":"IFERROR($E82*SUMIF('Daily Log'!$CN$18:$CN$1017,$B82,'Daily Log'!$CO$18:$CO$1017),0)","v":0}]
[null,"CF03 TEA (H)",null,"SIDE ORDER-HOT BEVERAGE",1,0,null,null,null,null,null,null,null,null,null,null,null,null,null,null,null,null,null,null,null,null,null,null,null,null,null,null,null,null,null,{"$f":"IFERROR($E83*SUMIF('Daily Log'!$CK$18:$CK$1017,$B83,'Daily Log'!$CL$18:$CL$1017),0)","v":0},{"$f":"IFERROR($E83*SUMIF('Daily Log'!$CN$18:$CN$1017,$B83,'Daily Log'!$CO$18:$CO$1017),0)","v":0}]
[null,"CF04 LEMON TEA (H)",null,"SIDE ORDER-HOT BEVERAGE",1,0,null,null,null,null,null,null,null,null,null,null,null,null,null,null,null,null,null,null,null,null,null,null,null,null,null,null,null,null,null,{"$f":"IFERROR($E84*SUMIF('Daily Log'!$CK$18:$CK$1017,$B84,'Daily Log'!$CL$18:$CL$1017),0)","v":0},{"$f":"IFERROR($E84*SUMIF('Daily Log'!$CN$18:$CN$1017,$B84,'Daily Log'!$CO$18:$CO$1017),0)","v":0}]
[null,"CF05 GRN TEA (H)",null,"SIDE ORDER-HOT BEVERAGE",1,0,null,null,null,null,null,null,null,null,null,null,null,null,null,null,null,null,null,null,null,null,null,null,null,null,null,null,null,null,null,{"$f":"IFERROR($E85*SUMIF('Daily Log'!$CK$18:$CK$1017,$B85,'Daily Log'!$CL$18:$CL$1017),0)","v":0},{"$f":"IFERROR($E85*SUMIF('Daily Log'!$CN$18:$CN$1017,$B85,'Daily Log'!$CO$18:$CO$1017),0)","v":0}]
[null,"CF06 HNY GRN TEA (H)",null,"SIDE ORDER-HOT BEVERAGE",1,0,null,null,null,null,null,null,null,null,null,null,null,null,null,null,null,null,null,null,null,null,null,null,null,null,null,null,null,null,null,{"$f":"IFERROR($E86*SUMIF('Daily Log'!$CK$18:$CK$1017,$B86,'Daily Log'!$CL$18:$CL$1017),0)","v":0},{"$f":"IFERROR($E86*SUMIF('Daily Log'!$CN$18:$CN$1017,$B86,'Daily Log'!$CO$18:$CO$1017),0)","v":0}]
[null,"CF07 HONEY (H)",null,"SIDE ORDER-HOT BEVERAGE",1,0,null,null,null,null,null,null,null,null,null,null,null,null,null,null,null,null,null,null,null,null,null,null,null,null,null,null,null,null,null,{"$f":"IFERROR($E87*SUMIF('Daily Log'!$CK$18:$CK$1017,$B87,'Daily Log'!$CL$18:$CL$1017),0)","v":0},{"$f":"IFERROR($E87*SUMIF('Daily Log'!$CN$18:$CN$1017,$B87,'Daily Log'!$CO$18:$CO$1017),0)","v":0}]
[null,"CF08 LEMON HONEY (H)",null,"SIDE ORDER-HOT BEVERAGE",1,0,null,null,null,null,null,null,null,null,null,null,null,null,null,null,null,null,null,null,null,null,null,null,null,null,null,null,null,null,null,{"$f":"IFERROR($E88*SUMIF('Daily Log'!$CK$18:$CK$1017,$B88,'Daily Log'!$CL$18:$CL$1017),0)","v":0},{"$f":"IFERROR($E88*SUMIF('Daily Log'!$CN$18:$CN$1017,$B88,'Daily Log'!$CO$18:$CO$1017),0)","v":0}]
[null,"CF09 CAPPUCCINO (H)",null,"SIDE ORDER-HOT BEVERAGE",1,0,null,null,null,null,null,null,null,null,null,null,null,null,null,null,null,null,null,null,null,null,null,null,null,null,null,null,null,null,null,{"$f":"IFERROR($E89*SUMIF('Daily Log'!$CK$18:$CK$1017,$B89,'Daily Log'!$CL$18:$CL$1017),0)","v":0},{"$f":"IFERROR($E89*SUMIF('Daily Log'!$CN$18:$CN$1017,$B89,'Daily Log'!$CO$18:$CO$1017),0)","v":0}]
[null,"CF10 CHOCOLATE (H)",null,"SIDE ORDER-HOT BEVERAGE",1,0,null,null,null,null,null,null,null,null,null,null,null,null,null,null,null,null,null,null,null,null,null,null,null,null,null,null,null,null,null,{"$f":"IFERROR($E90*SUMIF('Daily Log'!$CK$18:$CK$1017,$B90,'Daily Log'!$CL$18:$CL$1017),0)","v":0},{"$f":"IFERROR($E90*SUMIF('Daily Log'!$CN$18:$CN$1017,$B90,'Daily Log'!$CO$18:$CO$1017),0)","v":0}]
[null,"CF11 MOCHA (H)",null,"SIDE ORDER-HOT BEVERAGE",1,0,null,null,null,null,null,null,null,null,null,null,null,null,null,null,null,null,null,null,null,null,null,null,null,null,null,null,null,null,null,{"$f":"IFERROR($E91*SUMIF('Daily Log'!$CK$18:$CK$1017,$B91,'Daily Log'!$CL$18:$CL$1017),0)","v":0},{"$f":"IFERROR($E91*SUMIF('Daily Log'!$CN$18:$CN$1017,$B91,'Daily Log'!$CO$18:$CO$1017),0)","v":0}]
[null,"CF12 CHAMOMILE (H)",null,"SIDE ORDER-HOT BEVERAGE",1,0,null,null,null,null,null,null,null,null,null,null,null,null,null,null,null,null,null,null,null,null,null,null,null,null,null,null,null,null,null,{"$f":"IFERROR($E92*SUMIF('Daily Log'!$CK$18:$CK$1017,$B92,'Daily Log'!$CL$18:$CL$1017),0)","v":0},{"$f":"IFERROR($E92*SUMIF('Daily Log'!$CN$18:$CN$1017,$B92,'Daily Log'!$CO$18:$CO$1017),0)","v":0}]
[null,"CF13 DARJEELING (H)",null,"SIDE ORDER-HOT BEVERAGE",1,0,null,null,null,null,null,null,null,null,null,null,null,null,null,null,null,null,null,null,null,null,null,null,null,null,null,null,null,null,null,{"$f":"IFERROR($E93*SUMIF('Daily Log'!$CK$18:$CK$1017,$B93,'Daily Log'!$CL$18:$CL$1017),0)","v":0},{"$f":"IFERROR($E93*SUMIF('Daily Log'!$CN$18:$CN$1017,$B93,'Daily Log'!$CO$18:$CO$1017),0)","v":0}]
[null,"CF14 EARL GREY (H)",null,"SIDE ORDER-HOT BEVERAGE",1,{"$f":"SUM($G94:$AK94)","v":0},null,null,null,null,null,null,null,null,null,null,null,null,null,null,null,null,null,null,null,null,null,null,null,null,null,null,null,null,null,{"$f":"IFERROR($E94*SUMIF('Daily Log'!$CK$18:$CK$1017,$B94,'Daily Log'!$CL$18:$CL$1017),0)","v":0},{"$f":"IFERROR($E94*SUMIF('Daily Log'!$CN$18:$CN$1017,$B94,'Daily Log'!$CO$18:$CO$1017),0)","v":0}]
[null,"CG01 MINERAL WATER",null,"MINERAL WATER ",1,0,null,null,null,null,null,null,null,null,null,null,null,null,null,null,null,null,null,null,null,null,null,null,null,null,null,null,null,null,null,{"$f":"IFERROR($E95*SUMIF('Daily Log'!$CK$18:$CK$1017,$B95,'Daily Log'!$CL$18:$CL$1017),0)","v":0},{"$f":"IFERROR($E95*SUMIF('Daily Log'!$CN$18:$CN$1017,$B95,'Daily Log'!$CO$18:$CO$1017),0)","v":0}]
[null,"CH01 7 UP JUG",null,"JUG",1,0,null,null,null,null,null,null,null,null,null,null,null,null,null,null,null,null,null,null,null,null,null,null,null,null,null,null,null,null,null,{"$f":"IFERROR($E96*SUMIF('Daily Log'!$CK$18:$CK$1017,$B96,'Daily Log'!$CL$18:$CL$1017),0)","v":0},{"$f":"IFERROR($E96*SUMIF('Daily Log'!$CN$18:$CN$1017,$B96,'Daily Log'!$CO$18:$CO$1017),0)","v":0}]
[null,"CH02 GRN TEA JUG",null,"JUG",1,0,null,null,null,null,null,null,null,null,null,null,null,null,null,null,null,null,null,null,null,null,null,null,null,null,null,null,null,null,null,{"$f":"IFERROR($E97*SUMIF('Daily Log'!$CK$18:$CK$1017,$B97,'Daily Log'!$CL$18:$CL$1017),0)","v":0},{"$f":"IFERROR($E97*SUMIF('Daily Log'!$CN$18:$CN$1017,$B97,'Daily Log'!$CO$18:$CO$1017),0)","v":0}]
[null,"CH03 PEPSI JUG",null,"JUG",1,0,null,null,null,null,null,null,null,null,null,null,null,null,null,null,null,null,null,null,null,null,null,null,null,null,null,null,null,null,null,{"$f":"IFERROR($E98*SUMIF('Daily Log'!$CK$18:$CK$1017,$B98,'Daily Log'!$CL$18:$CL$1017),0)","v":0},{"$f":"IFERROR($E98*SUMIF('Daily Log'!$CN$18:$CN$1017,$B98,'Daily Log'!$CO$18:$CO$1017),0)","v":0}]
[null,"CH04 RIBENA JUG",null,"JUG",1,0,null,null,null,null,null,null,null,null,null,null,null,null,null,null,null,null,null,null,null,null,null,null,null,null,null,null,null,null,null,{"$f":"IFERROR($E99*SUMIF('Daily Log'!$CK$18:$CK$1017,$B99,'Daily Log'!$CL$18:$CL$1017),0)","v":0},{"$f":"IFERROR($E99*SUMIF('Daily Log'!$CN$18:$CN$1017,$B99,'Daily Log'!$CO$18:$CO$1017),0)","v":0}]
[null,"CI01 GRAPE J",null,"FFD-JUICE",1,16,null,null,null,null,null,null,null,null,null,null,null,null,null,null,null,null,null,null,null,null,null,null,null,null,null,null,null,null,null,{"$f":"IFERROR($E100*SUMIF('Daily Log'!$CK$18:$CK$1017,$B100,'Daily Log'!$CL$18:$CL$1017),0)","v":6},{"$f":"IFERROR($E100*SUMIF('Daily Log'!$CN$18:$CN$1017,$B100,'Daily Log'!$CO$18:$CO$1017),0)","v":10}]
[null,"CI02 APPLE J",null,"FFD-JUICE",1,28,null,null,null,null,null,null,null,null,null,null,null,null,null,null,null,null,null,null,null,null,null,null,null,null,null,null,null,null,null,{"$f":"IFERROR($E101*SUMIF('Daily Log'!$CK$18:$CK$1017,$B101,'Daily Log'!$CL$18:$CL$1017),0)","v":14},{"$f":"IFERROR($E101*SUMIF('Daily Log'!$CN$18:$CN$1017,$B101,'Daily Log'!$CO$18:$CO$1017),0)","v":14}]
[null,"CI04 MANGO J",null,"FFD-JUICE",1,16,null,null,null,null,null,null,null,null,null,null,null,null,null,null,null,null,null,null,null,null,null,null,null,null,null,null,null,null,null,{"$f":"IFERROR($E102*SUMIF('Daily Log'!$CK$18:$CK$1017,$B102,'Daily Log'!$CL$18:$CL$1017),0)","v":10},{"$f":"IFERROR($E102*SUMIF('Daily Log'!$CN$18:$CN$1017,$B102,'Daily Log'!$CO$18:$CO$1017),0)","v":6}]
[null,"CI05 PASSION J",null,"FFD-JUICE",1,53,null,null,null,null,null,null,null,null,null,null,null,null,null,null,null,null,null,null,null,null,null,null,null,null,null,null,null,null,null,{"$f":"IFERROR($E103*SUMIF('Daily Log'!$CK$18:$CK$1017,$B103,'Daily Log'!$CL$18:$CL$1017),0)","v":28},{"$f":"IFERROR($E103*SUMIF('Daily Log'!$CN$18:$CN$1017,$B103,'Daily Log'!$CO$18:$CO$1017),0)","v":25}]
[null,"CI06 RIBENA J",null,"FFD-JUICE",1,28,null,null,null,null,null,null,null,null,null,null,null,null,null,null,null,null,null,null,null,null,null,null,null,null,null,null,null,null,null,{"$f":"IFERROR($E104*SUMIF('Daily Log'!$CK$18:$CK$1017,$B104,'Daily Log'!$CL$18:$CL$1017),0)","v":19},{"$f":"IFERROR($E104*SUMIF('Daily Log'!$CN$18:$CN$1017,$B104,'Daily Log'!$CO$18:$CO$1017),0)","v":9}]
[null,"CJ01 GRAPE SO",null,"FFD-SODA",1,2,null,null,null,null,null,null,null,null,null,null,null,null,null,null,null,null,null,null,null,null,null,null,null,null,null,null,null,null,null,{"$f":"IFERROR($E105*SUMIF('Daily Log'!$CK$18:$CK$1017,$B105,'Daily Log'!$CL$18:$CL$1017),0)","v":1},{"$f":"IFERROR($E105*SUMIF('Daily Log'!$CN$18:$CN$1017,$B105,'Daily Log'!$CO$18:$CO$1017),0)","v":1}]
[null,"CJ02 APPLE SO",null,"FFD-SODA",1,1,null,null,null,null,null,null,null,null,null,null,null,null,null,null,null,null,null,null,null,null,null,null,null,null,null,null,null,null,null,{"$f":"IFERROR($E106*SUMIF('Daily Log'!$CK$18:$CK$1017,$B106,'Daily Log'!$CL$18:$CL$1017),0)","v":1},{"$f":"IFERROR($E106*SUMIF('Daily Log'!$CN$18:$CN$1017,$B106,'Daily Log'!$CO$18:$CO$1017),0)","v":0}]
[null,"CJ04 MANGO SO",null,"FFD-SODA",1,0,null,null,null,null,null,null,null,null,null,null,null,null,null,null,null,null,null,null,null,null,null,null,null,null,null,null,null,null,null,{"$f":"IFERROR($E107*SUMIF('Daily Log'!$CK$18:$CK$1017,$B107,'Daily Log'!$CL$18:$CL$1017),0)","v":0},{"$f":"IFERROR($E107*SUMIF('Daily Log'!$CN$18:$CN$1017,$B107,'Daily Log'!$CO$18:$CO$1017),0)","v":0}]
[null,"CJ05 PASSION SO",null,"FFD-SODA",1,2,null,null,null,null,null,null,null,null,null,null,null,null,null,null,null,null,null,null,null,null,null,null,null,null,null,null,null,null,null,{"$f":"IFERROR($E108*SUMIF('Daily Log'!$CK$18:$CK$1017,$B108,'Daily Log'!$CL$18:$CL$1017),0)","v":2},{"$f":"IFERROR($E108*SUMIF('Daily Log'!$CN$18:$CN$1017,$B108,'Daily Log'!$CO$18:$CO$1017),0)","v":0}]
[null,"CJ06 RIBENA SO",null,"FFD-SODA",1,8,null,null,null,null,null,null,null,null,null,null,null,null,null,null,null,null,null,null,null,null,null,null,null,null,null,null,null,null,null,{"$f":"IFERROR($E109*SUMIF('Daily Log'!$CK$18:$CK$1017,$B109,'Daily Log'!$CL$18:$CL$1017),0)","v":7},{"$f":"IFERROR($E109*SUMIF('Daily Log'!$CN$18:$CN$1017,$B109,'Daily Log'!$CO$18:$CO$1017),0)","v":1}]
[null,"CL01 7 UP",null,"FFD-SOFT DRINKS",1,18,null,null,null,null,null,null,null,null,null,null,null,null,null,null,null,null,null,null,null,null,null,null,null,null,null,null,null,null,null,{"$f":"IFERROR($E110*SUMIF('Daily Log'!$CK$18:$CK$1017,$B110,'Daily Log'!$CL$18:$CL$1017),0)","v":11},{"$f":"IFERROR($E110*SUMIF('Daily Log'!$CN$18:$CN$1017,$B110,'Daily Log'!$CO$18:$CO$1017),0)","v":7}]
[null,"CL02 7 UP REVIVE",null,"FFD-SOFT DRINKS",1,1,null,null,null,null,null,null,null,null,null,null,null,null,null,null,null,null,null,null,null,null,null,null,null,null,null,null,null,null,null,{"$f":"IFERROR($E111*SUMIF('Daily Log'!$CK$18:$CK$1017,$B111,'Daily Log'!$CL$18:$CL$1017),0)","v":1},{"$f":"IFERROR($E111*SUMIF('Daily Log'!$CN$18:$CN$1017,$B111,'Daily Log'!$CO$18:$CO$1017),0)","v":0}]
[null,"CL03 PEPSI",null,"FFD-SOFT DRINKS",1,24,null,null,null,null,null,null,null,null,null,null,null,null,null,null,null,null,null,null,null,null,null,null,null,null,null,null,null,null,null,{"$f":"IFERROR($E112*SUMIF('Daily Log'!$CK$18:$CK$1017,$B112,'Daily Log'!$CL$18:$CL$1017),0)","v":8},{"$f":"IFERROR($E112*SUMIF('Daily Log'!$CN$18:$CN$1017,$B112,'Daily Log'!$CO$18:$CO$1017),0)","v":16}]
[null,"CM01 MILO (C)",null,"FFD-COLD BEVERAGES",1,43,null,null,null,null,null,null,null,null,null,null,null,null,null,null,null,null,null,null,null,null,null,null,null,null,null,null,null,null,null,{"$f":"IFERROR($E113*SUMIF('Daily Log'!$CK$18:$CK$1017,$B113,'Daily Log'!$CL$18:$CL$1017),0)","v":24},{"$f":"IFERROR($E113*SUMIF('Daily Log'!$CN$18:$CN$1017,$B113,'Daily Log'!$CO$18:$CO$1017),0)","v":19}]
[null,"CM02 NESCAFE (C)",null,"FFD-COLD BEVERAGES",1,19,null,null,null,null,null,null,null,null,null,null,null,null,null,null,null,null,null,null,null,null,null,null,null,null,null,null,null,null,null,{"$f":"IFERROR($E114*SUMIF('Daily Log'!$CK$18:$CK$1017,$B114,'Daily Log'!$CL$18:$CL$1017),0)","v":11},{"$f":"IFERROR($E114*SUMIF('Daily Log'!$CN$18:$CN$1017,$B114,'Daily Log'!$CO$18:$CO$1017),0)","v":8}]
[null,"CM03 TEA (C)",null,"FFD-COLD BEVERAGES",1,21,null,null,null,null,null,null,null,null,null,null,null,null,null,null,null,null,null,null,null,null,null,null,null,null,null,null,null,null,null,{"$f":"IFERROR($E115*SUMIF('Daily Log'!$CK$18:$CK$1017,$B115,'Daily Log'!$CL$18:$CL$1017),0)","v":7},{"$f":"IFERROR($E115*SUMIF('Daily Log'!$CN$18:$CN$1017,$B115,'Daily Log'!$CO$18:$CO$1017),0)","v":14}]
[null,"CM04 LEMON TEA (C)",null,"FFD-COLD BEVERAGES",1,42,null,null,null,null,null,null,null,null,null,null,null,null,null,null,null,null,null,null,null,null,null,null,null,null,null,null,null,null,null,{"$f":"IFERROR($E116*SUMIF('Daily Log'!$CK$18:$CK$1017,$B116,'Daily Log'!$CL$18:$CL$1017),0)","v":22},{"$f":"IFERROR($E116*SUMIF('Daily Log'!$CN$18:$CN$1017,$B116,'Daily Log'!$CO$18:$CO$1017),0)","v":20}]
[null,"CM05 GRN TEA (C)",null,"FFD-COLD BEVERAGES",1,64,null,null,null,null,null,null,null,null,null,null,null,null,null,null,null,null,null,null,null,null,null,null,null,null,null,null,null,null,null,{"$f":"IFERROR($E117*SUMIF('Daily Log'!$CK$18:$CK$1017,$B117,'Daily Log'!$CL$18:$CL$1017),0)","v":27},{"$f":"IFERROR($E117*SUMIF('Daily Log'!$CN$18:$CN$1017,$B117,'Daily Log'!$CO$18:$CO$1017),0)","v":37}]
[null,"CM06 HNY GRN TEA (C)",null,"FFD-COLD BEVERAGES",1,113,null,null,null,null,null,null,null,null,null,null,null,null,null,null,null,null,null,null,null,null,null,null,null,null,null,null,null,null,null,{"$f":"IFERROR($E118*SUMIF('Daily Log'!$CK$18:$CK$1017,$B118,'Daily Log'!$CL$18:$CL$1017),0)","v":48},{"$f":"IFERROR($E118*SUMIF('Daily Log'!$CN$18:$CN$1017,$B118,'Daily Log'!$CO$18:$CO$1017),0)","v":65}]
[null,"CM07 HONEY (C)",null,"FFD-COLD BEVERAGES",1,36,null,null,null,null,null,null,null,null,null,null,null,null,null,null,null,null,null,null,null,null,null,null,null,null,null,null,null,null,null,{"$f":"IFERROR($E119*SUMIF('Daily Log'!$CK$18:$CK$1017,$B119,'Daily Log'!$CL$18:$CL$1017),0)","v":13},{"$f":"IFERROR($E119*SUMIF('Daily Log'!$CN$18:$CN$1017,$B119,'Daily Log'!$CO$18:$CO$1017),0)","v":23}]
[null,"CM08 LEMON HONEY (C)",null,"FFD-COLD BEVERAGES",1,125,null,null,null,null,null,null,null,null,null,null,null,null,null,null,null,null,null,null,null,null,null,null,null,null,null,null,null,null,null,{"$f":"IFERROR($E120*SUMIF('Daily Log'!$CK$18:$CK$1017,$B120,'Daily Log'!$CL$18:$CL$1017),0)","v":65},{"$f":"IFERROR($E120*SUMIF('Daily Log'!$CN$18:$CN$1017,$B120,'Daily Log'!$CO$18:$CO$1017),0)","v":60}]
[null,"CN01 MILO (H)",null,"FFD-HOT BEVERAGES",1,28,null,null,null,null,null,null,null,null,null,null,null,null,null,null,null,null,null,null,null,null,null,null,null,null,null,null,null,null,null,{"$f":"IFERROR($E121*SUMIF('Daily Log'!$CK$18:$CK$1017,$B121,'Daily Log'!$CL$18:$CL$1017),0)","v":12},{"$f":"IFERROR($E121*SUMIF('Daily Log'!$CN$18:$CN$1017,$B121,'Daily Log'!$CO$18:$CO$1017),0)","v":16}]
[null,"CN02 NESCAFE (H)",null,"FFD-HOT BEVERAGES",1,7,null,null,null,null,null,null,null,null,null,null,null,null,null,null,null,null,null,null,null,null,null,null,null,null,null,null,null,null,null,{"$f":"IFERROR($E122*SUMIF('Daily Log'!$CK$18:$CK$1017,$B122,'Daily Log'!$CL$18:$CL$1017),0)","v":5},{"$f":"IFERROR($E122*SUMIF('Daily Log'!$CN$18:$CN$1017,$B122,'Daily Log'!$CO$18:$CO$1017),0)","v":2}]
[null,"CN03 TEA (H)",null,"FFD-HOT BEVERAGES",1,3,null,null,null,null,null,null,null,null,null,null,null,null,null,null,null,null,null,null,null,null,null,null,null,null,null,null,null,null,null,{"$f":"IFERROR($E123*SUMIF('Daily Log'!$CK$18:$CK$1017,$B123,'Daily Log'!$CL$18:$CL$1017),0)","v":1},{"$f":"IFERROR($E123*SUMIF('Daily Log'!$CN$18:$CN$1017,$B123,'Daily Log'!$CO$18:$CO$1017),0)","v":2}]
[null,"CN04 LEMON TEA (H)",null,"FFD-HOT BEVERAGES",1,5,null,null,null,null,null,null,null,null,null,null,null,null,null,null,null,null,null,null,null,null,null,null,null,null,null,null,null,null,null,{"$f":"IFERROR($E124*SUMIF('Daily Log'!$CK$18:$CK$1017,$B124,'Daily Log'!$CL$18:$CL$1017),0)","v":3},{"$f":"IFERROR($E124*SUMIF('Daily Log'!$CN$18:$CN$1017,$B124,'Daily Log'!$CO$18:$CO$1017),0)","v":2}]
[null,"CN05 GRN TEA (H)",null,"FFD-HOT BEVERAGES",1,12,null,null,null,null,null,null,null,null,null,null,null,null,null,null,null,null,null,null,null,null,null,null,null,null,null,null,null,null,null,{"$f":"IFERROR($E125*SUMIF('Daily Log'!$CK$18:$CK$1017,$B125,'Daily Log'!$CL$18:$CL$1017),0)","v":7},{"$f":"IFERROR($E125*SUMIF('Daily Log'!$CN$18:$CN$1017,$B125,'Daily Log'!$CO$18:$CO$1017),0)","v":5}]
[null,"CN06 HNY GRN TEA (H)",null,"FFD-HOT BEVERAGES",1,57,null,null,null,null,null,null,null,null,null,null,null,null,null,null,null,null,null,null,null,null,null,null,null,null,null,null,null,null,null,{"$f":"IFERROR($E126*SUMIF('Daily Log'!$CK$18:$CK$1017,$B126,'Daily Log'!$CL$18:$CL$1017),0)","v":24},{"$f":"IFERROR($E126*SUMIF('Daily Log'!$CN$18:$CN$1017,$B126,'Daily Log'!$CO$18:$CO$1017),0)","v":33}]
[null,"CN07 HONEY (H)",null,"FFD-HOT BEVERAGES",1,41,null,null,null,null,null,null,null,null,null,null,null,null,null,null,null,null,null,null,null,null,null,null,null,null,null,null,null,null,null,{"$f":"IFERROR($E127*SUMIF('Daily Log'!$CK$18:$CK$1017,$B127,'Daily Log'!$CL$18:$CL$1017),0)","v":19},{"$f":"IFERROR($E127*SUMIF('Daily Log'!$CN$18:$CN$1017,$B127,'Daily Log'!$CO$18:$CO$1017),0)","v":22}]
[null,"CN08 LEMON HONEY (H)",null,"FFD-HOT BEVERAGES",1,109,null,null,null,null,null,null,null,null,null,null,null,null,null,null,null,null,null,null,null,null,null,null,null,null,null,null,null,null,null,{"$f":"IFERROR($E128*SUMIF('Daily Log'!$CK$18:$CK$1017,$B128,'Daily Log'!$CL$18:$CL$1017),0)","v":58},{"$f":"IFERROR($E128*SUMIF('Daily Log'!$CN$18:$CN$1017,$B128,'Daily Log'!$CO$18:$CO$1017),0)","v":51}]
[null,"CN12 CHAMOMILE (H)",null,"FFD-HOT BEVERAGES",1,2,null,null,null,null,null,null,null,null,null,null,null,null,null,null,null,null,null,null,null,null,null,null,null,null,null,null,null,null,null,{"$f":"IFERROR($E129*SUMIF('Daily Log'!$CK$18:$CK$1017,$B129,'Daily Log'!$CL$18:$CL$1017),0)","v":0},{"$f":"IFERROR($E129*SUMIF('Daily Log'!$CN$18:$CN$1017,$B129,'Daily Log'!$CO$18:$CO$1017),0)","v":2}]
[null,"CN13 DARJEELING (H)",null,"FFD-HOT BEVERAGES",1,3,null,null,null,null,null,null,null,null,null,null,null,null,null,null,null,null,null,null,null,null,null,null,null,null,null,null,null,null,null,{"$f":"IFERROR($E130*SUMIF('Daily Log'!$CK$18:$CK$1017,$B130,'Daily Log'!$CL$18:$CL$1017),0)","v":1},{"$f":"IFERROR($E130*SUMIF('Daily Log'!$CN$18:$CN$1017,$B130,'Daily Log'!$CO$18:$CO$1017),0)","v":2}]
[null,"CN14 EARL GREY (H)",null,"FFD-HOT BEVERAGES",1,5,null,null,null,null,null,null,null,null,null,null,null,null,null,null,null,null,null,null,null,null,null,null,null,null,null,null,null,null,null,{"$f":"IFERROR($E131*SUMIF('Daily Log'!$CK$18:$CK$1017,$B131,'Daily Log'!$CL$18:$CL$1017),0)","v":4},{"$f":"IFERROR($E131*SUMIF('Daily Log'!$CN$18:$CN$1017,$B131,'Daily Log'!$CO$18:$CO$1017),0)","v":1}]
[null,"DB01 1001:BP CKN CP",null,"SIDE ORDER- WESTERN CRUISE ",1,2,null,null,null,null,null,null,null,null,null,null,null,null,null,null,null,null,null,null,null,null,null,null,null,null,null,null,null,null,null,{"$f":"IFERROR($E132*SUMIF('Daily Log'!$CK$18:$CK$1017,$B132,'Daily Log'!$CL$18:$CL$1017),0)","v":0},{"$f":"IFERROR($E132*SUMIF('Daily Log'!$CN$18:$CN$1017,$B132,'Daily Log'!$CO$18:$CO$1017),0)","v":2}]
[null,"DB02 1002:GVY CHK CP",null,"SIDE ORDER- WESTERN CRUISE ",1,0,null,null,null,null,null,null,null,null,null,null,null,null,null,null,null,null,null,null,null,null,null,null,null,null,null,null,null,null,null,{"$f":"IFERROR($E133*SUMIF('Daily Log'!$CK$18:$CK$1017,$B133,'Daily Log'!$CL$18:$CL$1017),0)","v":0},{"$f":"IFERROR($E133*SUMIF('Daily Log'!$CN$18:$CN$1017,$B133,'Daily Log'!$CO$18:$CO$1017),0)","v":0}]
[null,"DB03 1003:MSR CKN CP",null,"SIDE ORDER- WESTERN CRUISE ",1,6,null,null,null,null,null,null,null,null,null,null,null,null,null,null,null,null,null,null,null,null,null,null,null,null,null,null,null,null,null,{"$f":"IFERROR($E134*SUMIF('Daily Log'!$CK$18:$CK$1017,$B134,'Daily Log'!$CL$18:$CL$1017),0)","v":4},{"$f":"IFERROR($E134*SUMIF('Daily Log'!$CN$18:$CN$1017,$B134,'Daily Log'!$CO$18:$CO$1017),0)","v":2}]
[null,"DB04 1004:CKN MARY",null,"SIDE ORDER- WESTERN CRUISE ",1,2,null,null,null,null,null,null,null,null,null,null,null,null,null,null,null,null,null,null,null,null,null,null,null,null,null,null,null,null,null,{"$f":"IFERROR($E135*SUMIF('Daily Log'!$CK$18:$CK$1017,$B135,'Daily Log'!$CL$18:$CL$1017),0)","v":0},{"$f":"IFERROR($E135*SUMIF('Daily Log'!$CN$18:$CN$1017,$B135,'Daily Log'!$CO$18:$CO$1017),0)","v":2}]
[null,"DB05 1005:FISH&CHIP",null,"SIDE ORDER- WESTERN CRUISE ",1,0,null,null,null,null,null,null,null,null,null,null,null,null,null,null,null,null,null,null,null,null,null,null,null,null,null,null,null,null,null,{"$f":"IFERROR($E136*SUMIF('Daily Log'!$CK$18:$CK$1017,$B136,'Daily Log'!$CL$18:$CL$1017),0)","v":0},{"$f":"IFERROR($E136*SUMIF('Daily Log'!$CN$18:$CN$1017,$B136,'Daily Log'!$CO$18:$CO$1017),0)","v":0}]
[null,"DB06 1006:SPAGHETTI",null,"SIDE ORDER- WESTERN CRUISE ",1,1,null,null,null,null,null,null,null,null,null,null,null,null,null,null,null,null,null,null,null,null,null,null,null,null,null,null,null,null,null,{"$f":"IFERROR($E137*SUMIF('Daily Log'!$CK$18:$CK$1017,$B137,'Daily Log'!$CL$18:$CL$1017),0)","v":1},{"$f":"IFERROR($E137*SUMIF('Daily Log'!$CN$18:$CN$1017,$B137,'Daily Log'!$CO$18:$CO$1017),0)","v":0}]
[null,"DB07 1007:CHK SALAD",null,"SIDE ORDER- WESTERN CRUISE ",1,1,null,null,null,null,null,null,null,null,null,null,null,null,null,null,null,null,null,null,null,null,null,null,null,null,null,null,null,null,null,{"$f":"IFERROR($E138*SUMIF('Daily Log'!$CK$18:$CK$1017,$B138,'Daily Log'!$CL$18:$CL$1017),0)","v":0},{"$f":"IFERROR($E138*SUMIF('Daily Log'!$CN$18:$CN$1017,$B138,'Daily Log'!$CO$18:$CO$1017),0)","v":1}]
[null,"DC01 1101:THAI CHK",null,"SIDE ORDER- LOCAL DELIGHTS",1,4,null,null,null,null,null,null,null,null,null,null,null,null,null,null,null,null,null,null,null,null,null,null,null,null,null,null,null,null,null,{"$f":"IFERROR($E139*SUMIF('Daily Log'!$CK$18:$CK$1017,$B139,'Daily Log'!$CL$18:$CL$1017),0)","v":1},{"$f":"IFERROR($E139*SUMIF('Daily Log'!$CN$18:$CN$1017,$B139,'Daily Log'!$CO$18:$CO$1017),0)","v":3}]
[null,"DC02 1102:MAMITE CHK",null,"SIDE ORDER- LOCAL DELIGHTS",1,7,null,null,null,null,null,null,null,null,null,null,null,null,null,null,null,null,null,null,null,null,null,null,null,null,null,null,null,null,null,{"$f":"IFERROR($E140*SUMIF('Daily Log'!$CK$18:$CK$1017,$B140,'Daily Log'!$CL$18:$CL$1017),0)","v":5},{"$f":"IFERROR($E140*SUMIF('Daily Log'!$CN$18:$CN$1017,$B140,'Daily Log'!$CO$18:$CO$1017),0)","v":2}]
[null,"DC03 1103:KO PO CHK",null,"SIDE ORDER- LOCAL DELIGHTS",1,0,null,null,null,null,null,null,null,null,null,null,null,null,null,null,null,null,null,null,null,null,null,null,null,null,null,null,null,null,null,{"$f":"IFERROR($E141*SUMIF('Daily Log'!$CK$18:$CK$1017,$B141,'Daily Log'!$CL$18:$CL$1017),0)","v":0},{"$f":"IFERROR($E141*SUMIF('Daily Log'!$CN$18:$CN$1017,$B141,'Daily Log'!$CO$18:$CO$1017),0)","v":0}]
[null,"DC04 1104:S&S CHK",null,"SIDE ORDER- LOCAL DELIGHTS",1,1,null,null,null,null,null,null,null,null,null,null,null,null,null,null,null,null,null,null,null,null,null,null,null,null,null,null,null,null,null,{"$f":"IFERROR($E142*SUMIF('Daily Log'!$CK$18:$CK$1017,$B142,'Daily Log'!$CL$18:$CL$1017),0)","v":1},{"$f":"IFERROR($E142*SUMIF('Daily Log'!$CN$18:$CN$1017,$B142,'Daily Log'!$CO$18:$CO$1017),0)","v":0}]
[null,"DC05 1105:BUTTER CHK",null,"SIDE ORDER- LOCAL DELIGHTS",1,10,null,null,null,null,null,null,null,null,null,null,null,null,null,null,null,null,null,null,null,null,null,null,null,null,null,null,null,null,null,{"$f":"IFERROR($E143*SUMIF('Daily Log'!$CK$18:$CK$1017,$B143,'Daily Log'!$CL$18:$CL$1017),0)","v":3},{"$f":"IFERROR($E143*SUMIF('Daily Log'!$CN$18:$CN$1017,$B143,'Daily Log'!$CO$18:$CO$1017),0)","v":7}]
[null,"DC06 1106:HK F.RICE",null,"SIDE ORDER- LOCAL DELIGHTS",1,0,null,null,null,null,null,null,null,null,null,null,null,null,null,null,null,null,null,null,null,null,null,null,null,null,null,null,null,null,null,{"$f":"IFERROR($E144*SUMIF('Daily Log'!$CK$18:$CK$1017,$B144,'Daily Log'!$CL$18:$CL$1017),0)","v":0},{"$f":"IFERROR($E144*SUMIF('Daily Log'!$CN$18:$CN$1017,$B144,'Daily Log'!$CO$18:$CO$1017),0)","v":0}]
[null,"DC07 1107:SBL F.RICE",null,"SIDE ORDER- LOCAL DELIGHTS",1,0,null,null,null,null,null,null,null,null,null,null,null,null,null,null,null,null,null,null,null,null,null,null,null,null,null,null,null,null,null,{"$f":"IFERROR($E145*SUMIF('Daily Log'!$CK$18:$CK$1017,$B145,'Daily Log'!$CL$18:$CL$1017),0)","v":0},{"$f":"IFERROR($E145*SUMIF('Daily Log'!$CN$18:$CN$1017,$B145,'Daily Log'!$CO$18:$CO$1017),0)","v":0}]
[null,"DC08 1108:SBL F.MEE",null,"SIDE ORDER- LOCAL DELIGHTS",1,0,null,null,null,null,null,null,null,null,null,null,null,null,null,null,null,null,null,null,null,null,null,null,null,null,null,null,null,null,null,{"$f":"IFERROR($E146*SUMIF('Daily Log'!$CK$18:$CK$1017,$B146,'Daily Log'!$CL$18:$CL$1017),0)","v":0},{"$f":"IFERROR($E146*SUMIF('Daily Log'!$CN$18:$CN$1017,$B146,'Daily Log'!$CO$18:$CO$1017),0)","v":0}]
[null,"DC09 1109:BP UDON",null,"SIDE ORDER- LOCAL DELIGHTS",1,2,null,null,null,null,null,null,null,null,null,null,null,null,null,null,null,null,null,null,null,null,null,null,null,null,null,null,null,null,null,{"$f":"IFERROR($E147*SUMIF('Daily Log'!$CK$18:$CK$1017,$B147,'Daily Log'!$CL$18:$CL$1017),0)","v":2},{"$f":"IFERROR($E147*SUMIF('Daily Log'!$CN$18:$CN$1017,$B147,'Daily Log'!$CO$18:$CO$1017),0)","v":0}]
["","DC10 1110:NISSIN",null,"SIDE ORDER- LOCAL DELIGHTS",1,0,null,null,null,null,null,null,null,null,null,null,null,null,null,null,null,null,null,null,null,null,null,null,null,null,null,null,null,null,null,{"$f":"IFERROR($E148*SUMIF('Daily Log'!$CK$18:$CK$1017,$B148,'Daily Log'!$CL$18:$CL$1017),0)","v":0},{"$f":"IFERROR($E148*SUMIF('Daily Log'!$CN$18:$CN$1017,$B148,'Daily Log'!$CO$18:$CO$1017),0)","v":0}]
[null,"DC11 1111:VEG RICE",null,"SIDE ORDER- LOCAL DELIGHTS",1,0,null,null,null,null,null,null,null,null,null,null,null,null,null,null,null,null,null,null,null,null,null,null,null,null,null,null,null,null,null,{"$f":"IFERROR($E149*SUMIF('Daily Log'!$CK$18:$CK$1017,$B149,'Daily Log'!$CL$18:$CL$1017),0)","v":0},{"$f":"IFERROR($E149*SUMIF('Daily Log'!$CN$18:$CN$1017,$B149,'Daily Log'!$CO$18:$CO$1017),0)","v":0}]
[null,"DC12 1112:NASI LEMAK",null,"SIDE ORDER- LOCAL DELIGHTS",1,0,null,null,null,null,null,null,null,null,null,null,null,null,null,null,null,null,null,null,null,null,null,null,null,null,null,null,null,null,null,{"$f":"IFERROR($E150*SUMIF('Daily Log'!$CK$18:$CK$1017,$B150,'Daily Log'!$CL$18:$CL$1017),0)","v":0},{"$f":"IFERROR($E150*SUMIF('Daily Log'!$CN$18:$CN$1017,$B150,'Daily Log'!$CO$18:$CO$1017),0)","v":0}]
[null,"DC13 1113:KUEY TEOW",null,"SIDE ORDER- LOCAL DELIGHTS",1,0,null,null,null,null,null,null,null,null,null,null,null,null,null,null,null,null,null,null,null,null,null,null,null,null,null,null,null,null,null,{"$f":"IFERROR($E151*SUMIF('Daily Log'!$CK$18:$CK$1017,$B151,'Daily Log'!$CL$18:$CL$1017),0)","v":0},{"$f":"IFERROR($E151*SUMIF('Daily Log'!$CN$18:$CN$1017,$B151,'Daily Log'!$CO$18:$CO$1017),0)","v":0}]
[null,"DC14 1114:F.BALL MEE",null,"SIDE ORDER- LOCAL DELIGHTS",1,0,null,null,null,null,null,null,null,null,null,null,null,null,null,null,null,null,null,null,null,null,null,null,null,null,null,null,null,null,null,{"$f":"IFERROR($E152*SUMIF('Daily Log'!$CK$18:$CK$1017,$B152,'Daily Log'!$CL$18:$CL$1017),0)","v":0},{"$f":"IFERROR($E152*SUMIF('Daily Log'!$CN$18:$CN$1017,$B152,'Daily Log'!$CO$18:$CO$1017),0)","v":0}]
[null,"DC15 1115:CHK NOODLE",null,"SIDE ORDER- LOCAL DELIGHTS",1,0,null,null,null,null,null,null,null,null,null,null,null,null,null,null,null,null,null,null,null,null,null,null,null,null,null,null,null,null,null,{"$f":"IFERROR($E153*SUMIF('Daily Log'!$CK$18:$CK$1017,$B153,'Daily Log'!$CL$18:$CL$1017),0)","v":0},{"$f":"IFERROR($E153*SUMIF('Daily Log'!$CN$18:$CN$1017,$B153,'Daily Log'!$CO$18:$CO$1017),0)","v":0}]
[null,"DC16 1116:MGL CHICKEN",null,"SIDE ORDER- LOCAL DELIGHTS",1,0,null,null,null,null,null,null,null,null,null,null,null,null,null,null,null,null,null,null,null,null,null,null,null,null,null,null,null,null,null,{"$f":"IFERROR($E154*SUMIF('Daily Log'!$CK$18:$CK$1017,$B154,'Daily Log'!$CL$18:$CL$1017),0)","v":0},{"$f":"IFERROR($E154*SUMIF('Daily Log'!$CN$18:$CN$1017,$B154,'Daily Log'!$CO$18:$CO$1017),0)","v":0}]
[null,"DD01 1201:SFD STICK",null,"SIDE ORDER- APPETIZER",1,0,null,null,null,null,null,null,null,null,null,null,null,null,null,null,null,null,null,null,null,null,null,null,null,null,null,null,null,null,null,{"$f":"IFERROR($E155*SUMIF('Daily Log'!$CK$18:$CK$1017,$B155,'Daily Log'!$CL$18:$CL$1017),0)","v":0},{"$f":"IFERROR($E155*SUMIF('Daily Log'!$CN$18:$CN$1017,$B155,'Daily Log'!$CO$18:$CO$1017),0)","v":0}]
[null,"DD02 1202:FREN FRIES",null,"SIDE ORDER- APPETIZER",1,6,null,null,null,null,null,null,null,null,null,null,null,null,null,null,null,null,null,null,null,null,null,null,null,null,null,null,null,null,null,{"$f":"IFERROR($E156*SUMIF('Daily Log'!$CK$18:$CK$1017,$B156,'Daily Log'!$CL$18:$CL$1017),0)","v":4},{"$f":"IFERROR($E156*SUMIF('Daily Log'!$CN$18:$CN$1017,$B156,'Daily Log'!$CO$18:$CO$1017),0)","v":2}]
[null,"DD03 1203:GOLD MROOM",null,"SIDE ORDER- APPETIZER",1,1,null,null,null,null,null,null,null,null,null,null,null,null,null,null,null,null,null,null,null,null,null,null,null,null,null,null,null,null,null,{"$f":"IFERROR($E157*SUMIF('Daily Log'!$CK$18:$CK$1017,$B157,'Daily Log'!$CL$18:$CL$1017),0)","v":1},{"$f":"IFERROR($E157*SUMIF('Daily Log'!$CN$18:$CN$1017,$B157,'Daily Log'!$CO$18:$CO$1017),0)","v":0}]
[null,"DD04 1204:FISHBALL",null,"SIDE ORDER- APPETIZER",1,2,null,null,null,null,null,null,null,null,null,null,null,null,null,null,null,null,null,null,null,null,null,null,null,null,null,null,null,null,null,{"$f":"IFERROR($E158*SUMIF('Daily Log'!$CK$18:$CK$1017,$B158,'Daily Log'!$CL$18:$CL$1017),0)","v":0},{"$f":"IFERROR($E158*SUMIF('Daily Log'!$CN$18:$CN$1017,$B158,'Daily Log'!$CO$18:$CO$1017),0)","v":2}]
[null,"DD05 1205:RAINBOW RL",null,"SIDE ORDER- APPETIZER",1,0,null,null,null,null,null,null,null,null,null,null,null,null,null,null,null,null,null,null,null,null,null,null,null,null,null,null,null,null,null,{"$f":"IFERROR($E159*SUMIF('Daily Log'!$CK$18:$CK$1017,$B159,'Daily Log'!$CL$18:$CL$1017),0)","v":0},{"$f":"IFERROR($E159*SUMIF('Daily Log'!$CN$18:$CN$1017,$B159,'Daily Log'!$CO$18:$CO$1017),0)","v":0}]
[null,"DD06 1206:SPRING RL",null,"SIDE ORDER- APPETIZER",1,1,null,null,null,null,null,null,null,null,null,null,null,null,null,null,null,null,null,null,null,null,null,null,null,null,null,null,null,null,null,{"$f":"IFERROR($E160*SUMIF('Daily Log'!$CK$18:$CK$1017,$B160,'Daily Log'!$CL$18:$CL$1017),0)","v":1},{"$f":"IFERROR($E160*SUMIF('Daily Log'!$CN$18:$CN$1017,$B160,'Daily Log'!$CO$18:$CO$1017),0)","v":0}]
[null,"DD07 1207:SAUSAGE",null,"SIDE ORDER- APPETIZER",1,{"$f":"SUM($G161:$AK161)","v":0},null,null,null,null,null,null,null,null,null,null,null,null,null,null,null,null,null,null,null,null,null,null,null,null,null,null,null,null,null,{"$f":"IFERROR($E161*SUMIF('Daily Log'!$CK$18:$CK$1017,$B161,'Daily Log'!$CL$18:$CL$1017),0)","v":0},{"$f":"IFERROR($E161*SUMIF('Daily Log'!$CN$18:$CN$1017,$B161,'Daily Log'!$CO$18:$CO$1017),0)","v":0}]
[null,"DD08 1208:HOTDOG BUN",null,"SIDE ORDER- APPETIZER",1,0,null,null,null,null,null,null,null,null,null,null,null,null,null,null,null,null,null,null,null,null,null,null,null,null,null,null,null,null,null,{"$f":"IFERROR($E162*SUMIF('Daily Log'!$CK$18:$CK$1017,$B162,'Daily Log'!$CL$18:$CL$1017),0)","v":0},{"$f":"IFERROR($E162*SUMIF('Daily Log'!$CN$18:$CN$1017,$B162,'Daily Log'!$CO$18:$CO$1017),0)","v":0}]
[null,"DD09 1209:SFD TOFU",null,"SIDE ORDER- APPETIZER",1,0,null,null,null,null,null,null,null,null,null,null,null,null,null,null,null,null,null,null,null,null,null,null,null,null,null,null,null,null,null,{"$f":"IFERROR($E163*SUMIF('Daily Log'!$CK$18:$CK$1017,$B163,'Daily Log'!$CL$18:$CL$1017),0)","v":0},{"$f":"IFERROR($E163*SUMIF('Daily Log'!$CN$18:$CN$1017,$B163,'Daily Log'!$CO$18:$CO$1017),0)","v":0}]
[null,"DD10 1301:DUMPLING",null,"SIDE ORDER- APPETIZER",1,0,null,null,null,null,null,null,null,null,null,null,null,null,null,null,null,null,null,null,null,null,null,null,null,null,null,null,null,null,null,{"$f":"IFERROR($E164*SUMIF('Daily Log'!$CK$18:$CK$1017,$B164,'Daily Log'!$CL$18:$CL$1017),0)","v":0},{"$f":"IFERROR($E164*SUMIF('Daily Log'!$CN$18:$CN$1017,$B164,'Daily Log'!$CO$18:$CO$1017),0)","v":0}]
[null,"DD11 1302:NUGGET",null,"SIDE ORDER- APPETIZER",1,0,null,null,null,null,null,null,null,null,null,null,null,null,null,null,null,null,null,null,null,null,null,null,null,null,null,null,null,null,null,{"$f":"IFERROR($E165*SUMIF('Daily Log'!$CK$18:$CK$1017,$B165,'Daily Log'!$CL$18:$CL$1017),0)","v":0},{"$f":"IFERROR($E165*SUMIF('Daily Log'!$CN$18:$CN$1017,$B165,'Daily Log'!$CO$18:$CO$1017),0)","v":0}]
[null,"DD12 1303:CHK WING",null,"SIDE ORDER- APPETIZER",1,1,null,null,null,null,null,null,null,null,null,null,null,null,null,null,null,null,null,null,null,null,null,null,null,null,null,null,null,null,null,{"$f":"IFERROR($E166*SUMIF('Daily Log'!$CK$18:$CK$1017,$B166,'Daily Log'!$CL$18:$CL$1017),0)","v":0},{"$f":"IFERROR($E166*SUMIF('Daily Log'!$CN$18:$CN$1017,$B166,'Daily Log'!$CO$18:$CO$1017),0)","v":1}]
[null,"DD13 1304:IKAN BILIS",null,"SIDE ORDER- APPETIZER",1,2,null,null,null,null,null,null,null,null,null,null,null,null,null,null,null,null,null,null,null,null,null,null,null,null,null,null,null,null,null,{"$f":"IFERROR($E167*SUMIF('Daily Log'!$CK$18:$CK$1017,$B167,'Daily Log'!$CL$18:$CL$1017),0)","v":0},{"$f":"IFERROR($E167*SUMIF('Daily Log'!$CN$18:$CN$1017,$B167,'Daily Log'!$CO$18:$CO$1017),0)","v":2}]
[null,"DD14 1305:THAI RL",null,"SIDE ORDER- APPETIZER",1,0,null,null,null,null,null,null,null,null,null,null,null,null,null,null,null,null,null,null,null,null,null,null,null,null,null,null,null,null,null,{"$f":"IFERROR($E168*SUMIF('Daily Log'!$CK$18:$CK$1017,$B168,'Daily Log'!$CL$18:$CL$1017),0)","v":0},{"$f":"IFERROR($E168*SUMIF('Daily Log'!$CN$18:$CN$1017,$B168,'Daily Log'!$CO$18:$CO$1017),0)","v":0}]
[null,"DD15 1306:SLVR FISH",null,"SIDE ORDER- APPETIZER",1,0,null,null,null,null,null,null,null,null,null,null,null,null,null,null,null,null,null,null,null,null,null,null,null,null,null,null,null,null,null,{"$f":"IFERROR($E169*SUMIF('Daily Log'!$CK$18:$CK$1017,$B169,'Daily Log'!$CL$18:$CL$1017),0)","v":0},{"$f":"IFERROR($E169*SUMIF('Daily Log'!$CN$18:$CN$1017,$B169,'Daily Log'!$CO$18:$CO$1017),0)","v":0}]
[null,"DD16 1307:D.F C/WING",null,"SIDE ORDER- APPETIZER",1,0,null,null,null,null,null,null,null,null,null,null,null,null,null,null,null,null,null,null,null,null,null,null,null,null,null,null,null,null,null,{"$f":"IFERROR($E170*SUMIF('Daily Log'!$CK$18:$CK$1017,$B170,'Daily Log'!$CL$18:$CL$1017),0)","v":0},{"$f":"IFERROR($E170*SUMIF('Daily Log'!$CN$18:$CN$1017,$B170,'Daily Log'!$CO$18:$CO$1017),0)","v":0}]
[null,"DD17 1308 C/CALAMARI",null,"SIDE ORDER- APPETIZER",1,0,null,null,null,null,null,null,null,null,null,null,null,null,null,null,null,null,null,null,null,null,null,null,null,null,null,null,null,null,null,{"$f":"IFERROR($E171*SUMIF('Daily Log'!$CK$18:$CK$1017,$B171,'Daily Log'!$CL$18:$CL$1017),0)","v":0},{"$f":"IFERROR($E171*SUMIF('Daily Log'!$CN$18:$CN$1017,$B171,'Daily Log'!$CO$18:$CO$1017),0)","v":0}]
[null,"DD18 1309 Mc C/O.RING",null,"SIDE ORDER- APPETIZER",1,0,null,null,null,null,null,null,null,null,null,null,null,null,null,null,null,null,null,null,null,null,null,null,null,null,null,null,null,null,null,{"$f":"IFERROR($E172*SUMIF('Daily Log'!$CK$18:$CK$1017,$B172,'Daily Log'!$CL$18:$CL$1017),0)","v":0},{"$f":"IFERROR($E172*SUMIF('Daily Log'!$CN$18:$CN$1017,$B172,'Daily Log'!$CO$18:$CO$1017),0)","v":0}]
[null,"DD19 1310:Mc SPIRAL/F",null,"SIDE ORDER- APPETIZER",1,0,null,null,null,null,null,null,null,null,null,null,null,null,null,null,null,null,null,null,null,null,null,null,null,null,null,null,null,null,null,{"$f":"IFERROR($E173*SUMIF('Daily Log'!$CK$18:$CK$1017,$B173,'Daily Log'!$CL$18:$CL$1017),0)","v":0},{"$f":"IFERROR($E173*SUMIF('Daily Log'!$CN$18:$CN$1017,$B173,'Daily Log'!$CO$18:$CO$1017),0)","v":0}]
[null,"DD20 1311:Mc H/SMILES",null,"SIDE ORDER- APPETIZER",1,0,null,null,null,null,null,null,null,null,null,null,null,null,null,null,null,null,null,null,null,null,null,null,null,null,null,null,null,null,null,{"$f":"IFERROR($E174*SUMIF('Daily Log'!$CK$18:$CK$1017,$B174,'Daily Log'!$CL$18:$CL$1017),0)","v":0},{"$f":"IFERROR($E174*SUMIF('Daily Log'!$CN$18:$CN$1017,$B174,'Daily Log'!$CO$18:$CO$1017),0)","v":0}]
[null,"DD21 1312:Mc HASH BRW",null,"SIDE ORDER- APPETIZER",1,0,null,null,null,null,null,null,null,null,null,null,null,null,null,null,null,null,null,null,null,null,null,null,null,null,null,null,null,null,null,{"$f":"IFERROR($E175*SUMIF('Daily Log'!$CK$18:$CK$1017,$B175,'Daily Log'!$CL$18:$CL$1017),0)","v":0},{"$f":"IFERROR($E175*SUMIF('Daily Log'!$CN$18:$CN$1017,$B175,'Daily Log'!$CO$18:$CO$1017),0)","v":0}]
[null,"DF01 ADD RICE",null,"SIDE ORDER-OTHERS",1,0,null,null,null,null,null,null,null,null,null,null,null,null,null,null,null,null,null,null,null,null,null,null,null,null,null,null,null,null,null,{"$f":"IFERROR($E176*SUMIF('Daily Log'!$CK$18:$CK$1017,$B176,'Daily Log'!$CL$18:$CL$1017),0)","v":0},{"$f":"IFERROR($E176*SUMIF('Daily Log'!$CN$18:$CN$1017,$B176,'Daily Log'!$CO$18:$CO$1017),0)","v":0}]
[null,"DF02 ADD F.EGG",null,"SIDE ORDER-OTHERS",1,0,null,null,null,null,null,null,null,null,null,null,null,null,null,null,null,null,null,null,null,null,null,null,null,null,null,null,null,null,null,{"$f":"IFERROR($E177*SUMIF('Daily Log'!$CK$18:$CK$1017,$B177,'Daily Log'!$CL$18:$CL$1017),0)","v":0},{"$f":"IFERROR($E177*SUMIF('Daily Log'!$CN$18:$CN$1017,$B177,'Daily Log'!$CO$18:$CO$1017),0)","v":0}]
[null,"DF03 ADD SAUCE 1000",null,"SAUCE",1,0,null,null,null,null,null,null,null,null,null,null,null,null,null,null,null,null,null,null,null,null,null,null,null,null,null,null,null,null,null,{"$f":"IFERROR($E178*SUMIF('Daily Log'!$CK$18:$CK$1017,$B178,'Daily Log'!$CL$18:$CL$1017),0)","v":0},{"$f":"IFERROR($E178*SUMIF('Daily Log'!$CN$18:$CN$1017,$B178,'Daily Log'!$CO$18:$CO$1017),0)","v":0}]
[null,"DF04 ADD SAUCE BOLO",null,"SAUCE",1,0,null,null,null,null,null,null,null,null,null,null,null,null,null,null,null,null,null,null,null,null,null,null,null,null,null,null,null,null,null,{"$f":"IFERROR($E179*SUMIF('Daily Log'!$CK$18:$CK$1017,$B179,'Daily Log'!$CL$18:$CL$1017),0)","v":0},{"$f":"IFERROR($E179*SUMIF('Daily Log'!$CN$18:$CN$1017,$B179,'Daily Log'!$CO$18:$CO$1017),0)","v":0}]
[null,"DF05 ADD SAUCE BP",null,"SAUCE",1,0,null,null,null,null,null,null,null,null,null,null,null,null,null,null,null,null,null,null,null,null,null,null,null,null,null,null,null,null,null,{"$f":"IFERROR($E180*SUMIF('Daily Log'!$CK$18:$CK$1017,$B180,'Daily Log'!$CL$18:$CL$1017),0)","v":0},{"$f":"IFERROR($E180*SUMIF('Daily Log'!$CN$18:$CN$1017,$B180,'Daily Log'!$CO$18:$CO$1017),0)","v":0}]
[null,"DF06 ADD SAUCE BUTTER",null,"SAUCE",1,0,null,null,null,null,null,null,null,null,null,null,null,null,null,null,null,null,null,null,null,null,null,null,null,null,null,null,null,null,null,{"$f":"IFERROR($E181*SUMIF('Daily Log'!$CK$18:$CK$1017,$B181,'Daily Log'!$CL$18:$CL$1017),0)","v":0},{"$f":"IFERROR($E181*SUMIF('Daily Log'!$CN$18:$CN$1017,$B181,'Daily Log'!$CO$18:$CO$1017),0)","v":0}]
[null,"DF07 ADD SAUCE C.PADI",null,"SAUCE",1,0,null,null,null,null,null,null,null,null,null,null,null,null,null,null,null,null,null,null,null,null,null,null,null,null,null,null,null,null,null,{"$f":"IFERROR($E182*SUMIF('Daily Log'!$CK$18:$CK$1017,$B182,'Daily Log'!$CL$18:$CL$1017),0)","v":0},{"$f":"IFERROR($E182*SUMIF('Daily Log'!$CN$18:$CN$1017,$B182,'Daily Log'!$CO$18:$CO$1017),0)","v":0}]
[null,"DF08 ADD SAUCE GS",null,"SAUCE",1,0,null,null,null,null,null,null,null,null,null,null,null,null,null,null,null,null,null,null,null,null,null,null,null,null,null,null,null,null,null,{"$f":"IFERROR($E183*SUMIF('Daily Log'!$CK$18:$CK$1017,$B183,'Daily Log'!$CL$18:$CL$1017),0)","v":0},{"$f":"IFERROR($E183*SUMIF('Daily Log'!$CN$18:$CN$1017,$B183,'Daily Log'!$CO$18:$CO$1017),0)","v":0}]
[null,"DF09 ADD SAUCE MAYO",null,"SAUCE",1,6,null,null,null,null,null,null,null,null,null,null,null,null,null,null,null,null,null,null,null,null,null,null,null,null,null,null,null,null,null,{"$f":"IFERROR($E184*SUMIF('Daily Log'!$CK$18:$CK$1017,$B184,'Daily Log'!$CL$18:$CL$1017),0)","v":5},{"$f":"IFERROR($E184*SUMIF('Daily Log'!$CN$18:$CN$1017,$B184,'Daily Log'!$CO$18:$CO$1017),0)","v":1}]
[null,"DF10 ADD SAUCE MMITE",null,"SAUCE",1,0,null,null,null,null,null,null,null,null,null,null,null,null,null,null,null,null,null,null,null,null,null,null,null,null,null,null,null,null,null,{"$f":"IFERROR($E185*SUMIF('Daily Log'!$CK$18:$CK$1017,$B185,'Daily Log'!$CL$18:$CL$1017),0)","v":0},{"$f":"IFERROR($E185*SUMIF('Daily Log'!$CN$18:$CN$1017,$B185,'Daily Log'!$CO$18:$CO$1017),0)","v":0}]
[null,"DF11 ADD SAUCE MR",null,"SAUCE",1,0,null,null,null,null,null,null,null,null,null,null,null,null,null,null,null,null,null,null,null,null,null,null,null,null,null,null,null,null,null,{"$f":"IFERROR($E186*SUMIF('Daily Log'!$CK$18:$CK$1017,$B186,'Daily Log'!$CL$18:$CL$1017),0)","v":0},{"$f":"IFERROR($E186*SUMIF('Daily Log'!$CN$18:$CN$1017,$B186,'Daily Log'!$CO$18:$CO$1017),0)","v":0}]
[null,"DF12 ADD SAUCE SAMBAL",null,"SAUCE",1,0,null,null,null,null,null,null,null,null,null,null,null,null,null,null,null,null,null,null,null,null,null,null,null,null,null,null,null,null,null,{"$f":"IFERROR($E187*SUMIF('Daily Log'!$CK$18:$CK$1017,$B187,'Daily Log'!$CL$18:$CL$1017),0)","v":0},{"$f":"IFERROR($E187*SUMIF('Daily Log'!$CN$18:$CN$1017,$B187,'Daily Log'!$CO$18:$CO$1017),0)","v":0}]
[null,"DF13 ADD SAUCE THAI",null,"SAUCE",1,0,null,null,null,null,null,null,null,null,null,null,null,null,null,null,null,null,null,null,null,null,null,null,null,null,null,null,null,null,null,{"$f":"IFERROR($E188*SUMIF('Daily Log'!$CK$18:$CK$1017,$B188,'Daily Log'!$CL$18:$CL$1017),0)","v":0},{"$f":"IFERROR($E188*SUMIF('Daily Log'!$CN$18:$CN$1017,$B188,'Daily Log'!$CO$18:$CO$1017),0)","v":0}]
[null,"DF14 ADD SAUCE TOMATO",null,"SAUCE",1,0,null,null,null,null,null,null,null,null,null,null,null,null,null,null,null,null,null,null,null,null,null,null,null,null,null,null,null,null,null,{"$f":"IFERROR($E189*SUMIF('Daily Log'!$CK$18:$CK$1017,$B189,'Daily Log'!$CL$18:$CL$1017),0)","v":0},{"$f":"IFERROR($E189*SUMIF('Daily Log'!$CN$18:$CN$1017,$B189,'Daily Log'!$CO$18:$CO$1017),0)","v":0}]
[null,"DF15 ADD TATA SAUCE",null,"SAUCE",1,0,null,null,null,null,null,null,null,null,null,null,null,null,null,null,null,null,null,null,null,null,null,null,null,null,null,null,null,null,null,{"$f":"IFERROR($E190*SUMIF('Daily Log'!$CK$18:$CK$1017,$B190,'Daily Log'!$CL$18:$CL$1017),0)","v":0},{"$f":"IFERROR($E190*SUMIF('Daily Log'!$CN$18:$CN$1017,$B190,'Daily Log'!$CO$18:$CO$1017),0)","v":0}]
[null,"DF16 ADD SAUCE CHEES",null,"SAUCE",1,0,null,null,null,null,null,null,null,null,null,null,null,null,null,null,null,null,null,null,null,null,null,null,null,null,null,null,null,null,null,{"$f":"IFERROR($E191*SUMIF('Daily Log'!$CK$18:$CK$1017,$B191,'Daily Log'!$CL$18:$CL$1017),0)","v":0},{"$f":"IFERROR($E191*SUMIF('Daily Log'!$CN$18:$CN$1017,$B191,'Daily Log'!$CO$18:$CO$1017),0)","v":0}]
[null,"DG01 91001:BP CHK CP",null,"KLKD-WESTERN CRUISE ",1,18,null,null,null,null,null,null,null,null,null,null,null,null,null,null,null,null,null,null,null,null,null,null,null,null,null,null,null,null,null,{"$f":"IFERROR($E192*SUMIF('Daily Log'!$CK$18:$CK$1017,$B192,'Daily Log'!$CL$18:$CL$1017),0)","v":11},{"$f":"IFERROR($E192*SUMIF('Daily Log'!$CN$18:$CN$1017,$B192,'Daily Log'!$CO$18:$CO$1017),0)","v":7}]
[null,"DG02 91002:GVY CHK CP",null,"KLKD-WESTERN CRUISE ",1,5,null,null,null,null,null,null,null,null,null,null,null,null,null,null,null,null,null,null,null,null,null,null,null,null,null,null,null,null,null,{"$f":"IFERROR($E193*SUMIF('Daily Log'!$CK$18:$CK$1017,$B193,'Daily Log'!$CL$18:$CL$1017),0)","v":4},{"$f":"IFERROR($E193*SUMIF('Daily Log'!$CN$18:$CN$1017,$B193,'Daily Log'!$CO$18:$CO$1017),0)","v":1}]
[null,"DG03 91003:MSR CHK CP",null,"KLKD-WESTERN CRUISE ",1,15,null,null,null,null,null,null,null,null,null,null,null,null,null,null,null,null,null,null,null,null,null,null,null,null,null,null,null,null,null,{"$f":"IFERROR($E194*SUMIF('Daily Log'!$CK$18:$CK$1017,$B194,'Daily Log'!$CL$18:$CL$1017),0)","v":10},{"$f":"IFERROR($E194*SUMIF('Daily Log'!$CN$18:$CN$1017,$B194,'Daily Log'!$CO$18:$CO$1017),0)","v":5}]
[null,"DG04 91004:CKN MARY",null,"KLKD-WESTERN CRUISE ",1,10,null,null,null,null,null,null,null,null,null,null,null,null,null,null,null,null,null,null,null,null,null,null,null,null,null,null,null,null,null,{"$f":"IFERROR($E195*SUMIF('Daily Log'!$CK$18:$CK$1017,$B195,'Daily Log'!$CL$18:$CL$1017),0)","v":4},{"$f":"IFERROR($E195*SUMIF('Daily Log'!$CN$18:$CN$1017,$B195,'Daily Log'!$CO$18:$CO$1017),0)","v":6}]
[null,"DG05 91005:FISH&CHIP",null,"KLKD-WESTERN CRUISE ",1,12,null,null,null,null,null,null,null,null,null,null,null,null,null,null,null,null,null,null,null,null,null,null,null,null,null,null,null,null,null,{"$f":"IFERROR($E196*SUMIF('Daily Log'!$CK$18:$CK$1017,$B196,'Daily Log'!$CL$18:$CL$1017),0)","v":4},{"$f":"IFERROR($E196*SUMIF('Daily Log'!$CN$18:$CN$1017,$B196,'Daily Log'!$CO$18:$CO$1017),0)","v":8}]
[null,"DG06 91006:SPAGHETTI",null,"KLKD-WESTERN CRUISE ",1,12,null,null,null,null,null,null,null,null,null,null,null,null,null,null,null,null,null,null,null,null,null,null,null,null,null,null,null,null,null,{"$f":"IFERROR($E197*SUMIF('Daily Log'!$CK$18:$CK$1017,$B197,'Daily Log'!$CL$18:$CL$1017),0)","v":3},{"$f":"IFERROR($E197*SUMIF('Daily Log'!$CN$18:$CN$1017,$B197,'Daily Log'!$CO$18:$CO$1017),0)","v":9}]
[null,"DG07 91007:CHK SALAD",null,"KLKD-WESTERN CRUISE ",1,5,null,null,null,null,null,null,null,null,null,null,null,null,null,null,null,null,null,null,null,null,null,null,null,null,null,null,null,null,null,{"$f":"IFERROR($E198*SUMIF('Daily Log'!$CK$18:$CK$1017,$B198,'Daily Log'!$CL$18:$CL$1017),0)","v":1},{"$f":"IFERROR($E198*SUMIF('Daily Log'!$CN$18:$CN$1017,$B198,'Daily Log'!$CO$18:$CO$1017),0)","v":4}]
[null,"DH01 91101:THAI CHK",null,"KLKD-LOCAL DELIGHTS",1,3,null,null,null,null,null,null,null,null,null,null,null,null,null,null,null,null,null,null,null,null,null,null,null,null,null,null,null,null,null,{"$f":"IFERROR($E199*SUMIF('Daily Log'!$CK$18:$CK$1017,$B199,'Daily Log'!$CL$18:$CL$1017),0)","v":2},{"$f":"IFERROR($E199*SUMIF('Daily Log'!$CN$18:$CN$1017,$B199,'Daily Log'!$CO$18:$CO$1017),0)","v":1}]
[null,"DH02 91102:MAMITE CHK",null,"KLKD-LOCAL DELIGHTS",1,7,null,null,null,null,null,null,null,null,null,null,null,null,null,null,null,null,null,null,null,null,null,null,null,null,null,null,null,null,null,{"$f":"IFERROR($E200*SUMIF('Daily Log'!$CK$18:$CK$1017,$B200,'Daily Log'!$CL$18:$CL$1017),0)","v":6},{"$f":"IFERROR($E200*SUMIF('Daily Log'!$CN$18:$CN$1017,$B200,'Daily Log'!$CO$18:$CO$1017),0)","v":1}]
[null,"DH03 91103:KO PO CHK",null,"KLKD-LOCAL DELIGHTS",1,0,null,null,null,null,null,null,null,null,null,null,null,null,null,null,null,null,null,null,null,null,null,null,null,null,null,null,null,null,null,{"$f":"IFERROR($E201*SUMIF('Daily Log'!$CK$18:$CK$1017,$B201,'Daily Log'!$CL$18:$CL$1017),0)","v":0},{"$f":"IFERROR($E201*SUMIF('Daily Log'!$CN$18:$CN$1017,$B201,'Daily Log'!$CO$18:$CO$1017),0)","v":0}]
[null,"DH04 91104:S&S CHK",null,"KLKD-LOCAL DELIGHTS",1,1,null,null,null,null,null,null,null,null,null,null,null,null,null,null,null,null,null,null,null,null,null,null,null,null,null,null,null,null,null,{"$f":"IFERROR($E202*SUMIF('Daily Log'!$CK$18:$CK$1017,$B202,'Daily Log'!$CL$18:$CL$1017),0)","v":0},{"$f":"IFERROR($E202*SUMIF('Daily Log'!$CN$18:$CN$1017,$B202,'Daily Log'!$CO$18:$CO$1017),0)","v":1}]
[null,"DH05 91105:BUTTER CHK",null,"KLKD-LOCAL DELIGHTS",1,5,null,null,null,null,null,null,null,null,null,null,null,null,null,null,null,null,null,null,null,null,null,null,null,null,null,null,null,null,null,{"$f":"IFERROR($E203*SUMIF('Daily Log'!$CK$18:$CK$1017,$B203,'Daily Log'!$CL$18:$CL$1017),0)","v":1},{"$f":"IFERROR($E203*SUMIF('Daily Log'!$CN$18:$CN$1017,$B203,'Daily Log'!$CO$18:$CO$1017),0)","v":4}]
[null,"DH06 91106:HK F.RICE",null,"KLKD-LOCAL DELIGHTS",1,3,null,null,null,null,null,null,null,null,null,null,null,null,null,null,null,null,null,null,null,null,null,null,null,null,null,null,null,null,null,{"$f":"IFERROR($E204*SUMIF('Daily Log'!$CK$18:$CK$1017,$B204,'Daily Log'!$CL$18:$CL$1017),0)","v":1},{"$f":"IFERROR($E204*SUMIF('Daily Log'!$CN$18:$CN$1017,$B204,'Daily Log'!$CO$18:$CO$1017),0)","v":2}]
[null,"DH07 91107:SBL F.RICE",null,"KLKD-LOCAL DELIGHTS",1,2,null,null,null,null,null,null,null,null,null,null,null,null,null,null,null,null,null,null,null,null,null,null,null,null,null,null,null,null,null,{"$f":"IFERROR($E205*SUMIF('Daily Log'!$CK$18:$CK$1017,$B205,'Daily Log'!$CL$18:$CL$1017),0)","v":2},{"$f":"IFERROR($E205*SUMIF('Daily Log'!$CN$18:$CN$1017,$B205,'Daily Log'!$CO$18:$CO$1017),0)","v":0}]
[null,"DH08 91108:SBL F.MEE",null,"KLKD-LOCAL DELIGHTS",1,1,null,null,null,null,null,null,null,null,null,null,null,null,null,null,null,null,null,null,null,null,null,null,null,null,null,null,null,null,null,{"$f":"IFERROR($E206*SUMIF('Daily Log'!$CK$18:$CK$1017,$B206,'Daily Log'!$CL$18:$CL$1017),0)","v":0},{"$f":"IFERROR($E206*SUMIF('Daily Log'!$CN$18:$CN$1017,$B206,'Daily Log'!$CO$18:$CO$1017),0)","v":1}]
[null,"DH09 91109:BP UDON",null,"KLKD-LOCAL DELIGHTS",1,3,null,null,null,null,null,null,null,null,null,null,null,null,null,null,null,null,null,null,null,null,null,null,null,null,null,null,null,null,null,{"$f":"IFERROR($E207*SUMIF('Daily Log'!$CK$18:$CK$1017,$B207,'Daily Log'!$CL$18:$CL$1017),0)","v":1},{"$f":"IFERROR($E207*SUMIF('Daily Log'!$CN$18:$CN$1017,$B207,'Daily Log'!$CO$18:$CO$1017),0)","v":2}]
[null,"DH10 91110:NISSIN",null,"KLKD-LOCAL DELIGHTS",1,2,null,null,null,null,null,null,null,null,null,null,null,null,null,null,null,null,null,null,null,null,null,null,null,null,null,null,null,null,null,{"$f":"IFERROR($E208*SUMIF('Daily Log'!$CK$18:$CK$1017,$B208,'Daily Log'!$CL$18:$CL$1017),0)","v":0},{"$f":"IFERROR($E208*SUMIF('Daily Log'!$CN$18:$CN$1017,$B208,'Daily Log'!$CO$18:$CO$1017),0)","v":2}]
[null,"DH11 91111:VEG RICE",null,"KLKD-LOCAL DELIGHTS",1,0,null,null,null,null,null,null,null,null,null,null,null,null,null,null,null,null,null,null,null,null,null,null,null,null,null,null,null,null,null,{"$f":"IFERROR($E209*SUMIF('Daily Log'!$CK$18:$CK$1017,$B209,'Daily Log'!$CL$18:$CL$1017),0)","v":0},{"$f":"IFERROR($E209*SUMIF('Daily Log'!$CN$18:$CN$1017,$B209,'Daily Log'!$CO$18:$CO$1017),0)","v":0}]
[null,"DH12 91112:NASI LEMAK",null,"KLKD-LOCAL DELIGHTS",1,0,null,null,null,null,null,null,null,null,null,null,null,null,null,null,null,null,null,null,null,null,null,null,null,null,null,null,null,null,null,{"$f":"IFERROR($E210*SUMIF('Daily Log'!$CK$18:$CK$1017,$B210,'Daily Log'!$CL$18:$CL$1017),0)","v":0},{"$f":"IFERROR($E210*SUMIF('Daily Log'!$CN$18:$CN$1017,$B210,'Daily Log'!$CO$18:$CO$1017),0)","v":0}]
[null,"DH13 91113:KUEY TEOW",null,"KLKD-LOCAL DELIGHTS",1,0,null,null,null,null,null,null,null,null,null,null,null,null,null,null,null,null,null,null,null,null,null,null,null,null,null,null,null,null,null,{"$f":"IFERROR($E211*SUMIF('Daily Log'!$CK$18:$CK$1017,$B211,'Daily Log'!$CL$18:$CL$1017),0)","v":0},{"$f":"IFERROR($E211*SUMIF('Daily Log'!$CN$18:$CN$1017,$B211,'Daily Log'!$CO$18:$CO$1017),0)","v":0}]
[null,"DH14 91114:F.BALL MEE",null,"KLKD-LOCAL DELIGHTS",1,0,null,null,null,null,null,null,null,null,null,null,null,null,null,null,null,null,null,null,null,null,null,null,null,null,null,null,null,null,null,{"$f":"IFERROR($E212*SUMIF('Daily Log'!$CK$18:$CK$1017,$B212,'Daily Log'!$CL$18:$CL$1017),0)","v":0},{"$f":"IFERROR($E212*SUMIF('Daily Log'!$CN$18:$CN$1017,$B212,'Daily Log'!$CO$18:$CO$1017),0)","v":0}]
[null,"DH15 91115:CHK NOODLE",null,"KLKD-LOCAL DELIGHTS",1,0,null,null,null,null,null,null,null,null,null,null,null,null,null,null,null,null,null,null,null,null,null,null,null,null,null,null,null,null,null,{"$f":"IFERROR($E213*SUMIF('Daily Log'!$CK$18:$CK$1017,$B213,'Daily Log'!$CL$18:$CL$1017),0)","v":0},{"$f":"IFERROR($E213*SUMIF('Daily Log'!$CN$18:$CN$1017,$B213,'Daily Log'!$CO$18:$CO$1017),0)","v":0}]
[null,"DH16 91116:MGL CHK",null,"KLKD-LOCAL DELIGHTS",1,4,null,null,null,null,null,null,null,null,null,null,null,null,null,null,null,null,null,null,null,null,null,null,null,null,null,null,null,null,null,{"$f":"IFERROR($E214*SUMIF('Daily Log'!$CK$18:$CK$1017,$B214,'Daily Log'!$CL$18:$CL$1017),0)","v":2},{"$f":"IFERROR($E214*SUMIF('Daily Log'!$CN$18:$CN$1017,$B214,'Daily Log'!$CO$18:$CO$1017),0)","v":2}]
[null,"DI01 91201:SFD STICK",null,"KLKD-APPETIZER",1,0,null,null,null,null,null,null,null,null,null,null,null,null,null,null,null,null,null,null,null,null,null,null,null,null,null,null,null,null,null,{"$f":"IFERROR($E215*SUMIF('Daily Log'!$CK$18:$CK$1017,$B215,'Daily Log'!$CL$18:$CL$1017),0)","v":0},{"$f":"IFERROR($E215*SUMIF('Daily Log'!$CN$18:$CN$1017,$B215,'Daily Log'!$CO$18:$CO$1017),0)","v":0}]
[null,"DI02 91202:FREN FRIES",null,"KLKD-APPETIZER",1,1,null,null,null,null,null,null,null,null,null,null,null,null,null,null,null,null,null,null,null,null,null,null,null,null,null,null,null,null,null,{"$f":"IFERROR($E216*SUMIF('Daily Log'!$CK$18:$CK$1017,$B216,'Daily Log'!$CL$18:$CL$1017),0)","v":1},{"$f":"IFERROR($E216*SUMIF('Daily Log'!$CN$18:$CN$1017,$B216,'Daily Log'!$CO$18:$CO$1017),0)","v":0}]
[null,"DI03 91203:GOLD MROOM",null,"KLKD-APPETIZER",1,0,null,null,null,null,null,null,null,null,null,null,null,null,null,null,null,null,null,null,null,null,null,null,null,null,null,null,null,null,null,{"$f":"IFERROR($E217*SUMIF('Daily Log'!$CK$18:$CK$1017,$B217,'Daily Log'!$CL$18:$CL$1017),0)","v":0},{"$f":"IFERROR($E217*SUMIF('Daily Log'!$CN$18:$CN$1017,$B217,'Daily Log'!$CO$18:$CO$1017),0)","v":0}]
[null,"DI04 91204:FISHBALL",null,"KLKD-APPETIZER",1,0,null,null,null,null,null,null,null,null,null,null,null,null,null,null,null,null,null,null,null,null,null,null,null,null,null,null,null,null,null,{"$f":"IFERROR($E218*SUMIF('Daily Log'!$CK$18:$CK$1017,$B218,'Daily Log'!$CL$18:$CL$1017),0)","v":0},{"$f":"IFERROR($E218*SUMIF('Daily Log'!$CN$18:$CN$1017,$B218,'Daily Log'!$CO$18:$CO$1017),0)","v":0}]
[null,"DI05 91205:RAINBOW RL",null,"KLKD-APPETIZER",1,0,null,null,null,null,null,null,null,null,null,null,null,null,null,null,null,null,null,null,null,null,null,null,null,null,null,null,null,null,null,{"$f":"IFERROR($E219*SUMIF('Daily Log'!$CK$18:$CK$1017,$B219,'Daily Log'!$CL$18:$CL$1017),0)","v":0},{"$f":"IFERROR($E219*SUMIF('Daily Log'!$CN$18:$CN$1017,$B219,'Daily Log'!$CO$18:$CO$1017),0)","v":0}]
[null,"DI06 91206:SPRING RL",null,"KLKD-APPETIZER",1,0,null,null,null,null,null,null,null,null,null,null,null,null,null,null,null,null,null,null,null,null,null,null,null,null,null,null,null,null,null,{"$f":"IFERROR($E220*SUMIF('Daily Log'!$CK$18:$CK$1017,$B220,'Daily Log'!$CL$18:$CL$1017),0)","v":0},{"$f":"IFERROR($E220*SUMIF('Daily Log'!$CN$18:$CN$1017,$B220,'Daily Log'!$CO$18:$CO$1017),0)","v":0}]
[null,"DI07 91207:SAUSAGE",null,"KLKD-APPETIZER",1,0,null,null,null,null,null,null,null,null,null,null,null,null,null,null,null,null,null,null,null,null,null,null,null,null,null,null,null,null,null,{"$f":"IFERROR($E221*SUMIF('Daily Log'!$CK$18:$CK$1017,$B221,'Daily Log'!$CL$18:$CL$1017),0)","v":0},{"$f":"IFERROR($E221*SUMIF('Daily Log'!$CN$18:$CN$1017,$B221,'Daily Log'!$CO$18:$CO$1017),0)","v":0}]
[null,"DI08 91208:HOTDOG BUN",null,"KLKD-APPETIZER",1,0,null,null,null,null,null,null,null,null,null,null,null,null,null,null,null,null,null,null,null,null,null,null,null,null,null,null,null,null,null,{"$f":"IFERROR($E222*SUMIF('Daily Log'!$CK$18:$CK$1017,$B222,'Daily Log'!$CL$18:$CL$1017),0)","v":0},{"$f":"IFERROR($E222*SUMIF('Daily Log'!$CN$18:$CN$1017,$B222,'Daily Log'!$CO$18:$CO$1017),0)","v":0}]
[null,"DI09 91209:SFD TOFU",null,"KLKD-APPETIZER",1,0,null,null,null,null,null,null,null,null,null,null,null,null,null,null,null,null,null,null,null,null,null,null,null,null,null,null,null,null,null,{"$f":"IFERROR($E223*SUMIF('Daily Log'!$CK$18:$CK$1017,$B223,'Daily Log'!$CL$18:$CL$1017),0)","v":0},{"$f":"IFERROR($E223*SUMIF('Daily Log'!$CN$18:$CN$1017,$B223,'Daily Log'!$CO$18:$CO$1017),0)","v":0}]
[null,"DI10 91301:DUMPLING",null,"KLKD-APPETIZER",1,0,null,null,null,null,null,null,null,null,null,null,null,null,null,null,null,null,null,null,null,null,null,null,null,null,null,null,null,null,null,{"$f":"IFERROR($E224*SUMIF('Daily Log'!$CK$18:$CK$1017,$B224,'Daily Log'!$CL$18:$CL$1017),0)","v":0},{"$f":"IFERROR($E224*SUMIF('Daily Log'!$CN$18:$CN$1017,$B224,'Daily Log'!$CO$18:$CO$1017),0)","v":0}]
[null,"DI11 91302:NUGGET",null,"KLKD-APPETIZER",1,{"$f":"SUM($G225:$AK225)","v":2},null,null,null,null,null,null,null,null,null,null,null,null,null,null,null,null,null,null,null,null,null,null,null,null,null,null,null,null,null,{"$f":"IFERROR($E225*SUMIF('Daily Log'!$CK$18:$CK$1017,$B225,'Daily Log'!$CL$18:$CL$1017),0)","v":2},{"$f":"IFERROR($E225*SUMIF('Daily Log'!$CN$18:$CN$1017,$B225,'Daily Log'!$CO$18:$CO$1017),0)","v":0}]
[null,"DI12 91303:CHK WING",null,"KLKD-APPETIZER",1,1,null,null,null,null,null,null,null,null,null,null,null,null,null,null,null,null,null,null,null,null,null,null,null,null,null,null,null,null,null,{"$f":"IFERROR($E226*SUMIF('Daily Log'!$CK$18:$CK$1017,$B226,'Daily Log'!$CL$18:$CL$1017),0)","v":1},{"$f":"IFERROR($E226*SUMIF('Daily Log'!$CN$18:$CN$1017,$B226,'Daily Log'!$CO$18:$CO$1017),0)","v":0}]
[null,"DI13 91304:IKAN BILIS",null,"KLKD-APPETIZER",1,0,null,null,null,null,null,null,null,null,null,null,null,null,null,null,null,null,null,null,null,null,null,null,null,null,null,null,null,null,null,{"$f":"IFERROR($E227*SUMIF('Daily Log'!$CK$18:$CK$1017,$B227,'Daily Log'!$CL$18:$CL$1017),0)","v":0},{"$f":"IFERROR($E227*SUMIF('Daily Log'!$CN$18:$CN$1017,$B227,'Daily Log'!$CO$18:$CO$1017),0)","v":0}]
[null,"DI14 91305:THAI RL",null,"KLKD-APPETIZER",1,0,null,null,null,null,null,null,null,null,null,null,null,null,null,null,null,null,null,null,null,null,null,null,null,null,null,null,null,null,null,{"$f":"IFERROR($E228*SUMIF('Daily Log'!$CK$18:$CK$1017,$B228,'Daily Log'!$CL$18:$CL$1017),0)","v":0},{"$f":"IFERROR($E228*SUMIF('Daily Log'!$CN$18:$CN$1017,$B228,'Daily Log'!$CO$18:$CO$1017),0)","v":0}]
[null,"DI15 91306:SLVR FISH",null,"KLKD-APPETIZER",1,0,null,null,null,null,null,null,null,null,null,null,null,null,null,null,null,null,null,null,null,null,null,null,null,null,null,null,null,null,null,{"$f":"IFERROR($E229*SUMIF('Daily Log'!$CK$18:$CK$1017,$B229,'Daily Log'!$CL$18:$CL$1017),0)","v":0},{"$f":"IFERROR($E229*SUMIF('Daily Log'!$CN$18:$CN$1017,$B229,'Daily Log'!$CO$18:$CO$1017),0)","v":0}]
[null,"DI16 91307:D/F C.WING",null,"KLKD-APPETIZER",1,0,null,null,null,null,null,null,null,null,null,null,null,null,null,null,null,null,null,null,null,null,null,null,null,null,null,null,null,null,null,{"$f":"IFERROR($E230*SUMIF('Daily Log'!$CK$18:$CK$1017,$B230,'Daily Log'!$CL$18:$CL$1017),0)","v":0},{"$f":"IFERROR($E230*SUMIF('Daily Log'!$CN$18:$CN$1017,$B230,'Daily Log'!$CO$18:$CO$1017),0)","v":0}]
[null,"DI17 91308:C/CALAMARI",null,"KLKD-APPETIZER",1,0,null,null,null,null,null,null,null,null,null,null,null,null,null,null,null,null,null,null,null,null,null,null,null,null,null,null,null,null,null,{"$f":"IFERROR($E231*SUMIF('Daily Log'!$CK$18:$CK$1017,$B231,'Daily Log'!$CL$18:$CL$1017),0)","v":0},{"$f":"IFERROR($E231*SUMIF('Daily Log'!$CN$18:$CN$1017,$B231,'Daily Log'!$CO$18:$CO$1017),0)","v":0}]
[null,"DI18 91309:Mc O.RINGS",null,"KLKD-APPETIZER",1,1,null,null,null,null,null,null,null,null,null,null,null,null,null,null,null,null,null,null,null,null,null,null,null,null,null,null,null,null,null,{"$f":"IFERROR($E232*SUMIF('Daily Log'!$CK$18:$CK$1017,$B232,'Daily Log'!$CL$18:$CL$1017),0)","v":1},{"$f":"IFERROR($E232*SUMIF('Daily Log'!$CN$18:$CN$1017,$B232,'Daily Log'!$CO$18:$CO$1017),0)","v":0}]
[null,"DI19 91310:McSPIRAL.F",null,"KLKD-APPETIZER",1,0,null,null,null,null,null,null,null,null,null,null,null,null,null,null,null,null,null,null,null,null,null,null,null,null,null,null,null,null,null,{"$f":"IFERROR($E233*SUMIF('Daily Log'!$CK$18:$CK$1017,$B233,'Daily Log'!$CL$18:$CL$1017),0)","v":0},{"$f":"IFERROR($E233*SUMIF('Daily Log'!$CN$18:$CN$1017,$B233,'Daily Log'!$CO$18:$CO$1017),0)","v":0}]
[null,"DI20 91311Mc H/SMILES",null,"KLKD-APPETIZER",1,0,null,null,null,null,null,null,null,null,null,null,null,null,null,null,null,null,null,null,null,null,null,null,null,null,null,null,null,null,null,{"$f":"IFERROR($E234*SUMIF('Daily Log'!$CK$18:$CK$1017,$B234,'Daily Log'!$CL$18:$CL$1017),0)","v":0},{"$f":"IFERROR($E234*SUMIF('Daily Log'!$CN$18:$CN$1017,$B234,'Daily Log'!$CO$18:$CO$1017),0)","v":0}]
[null,"DI21 91312:Mc HASH.B",null,"KLKD-APPETIZER",1,0,null,null,null,null,null,null,null,null,null,null,null,null,null,null,null,null,null,null,null,null,null,null,null,null,null,null,null,null,null,{"$f":"IFERROR($E235*SUMIF('Daily Log'!$CK$18:$CK$1017,$B235,'Daily Log'!$CL$18:$CL$1017),0)","v":0},{"$f":"IFERROR($E235*SUMIF('Daily Log'!$CN$18:$CN$1017,$B235,'Daily Log'!$CO$18:$CO$1017),0)","v":0}]
[null,"DL01 3001:6'HAWAIIAN",null,"SIDE ORDER -APPETIZER (PIZZA)",1,0,null,null,null,null,null,null,null,null,null,null,null,null,null,null,null,null,null,null,null,null,null,null,null,null,null,null,null,null,null,{"$f":"IFERROR($E236*SUMIF('Daily Log'!$CK$18:$CK$1017,$B236,'Daily Log'!$CL$18:$CL$1017),0)","v":0},{"$f":"IFERROR($E236*SUMIF('Daily Log'!$CN$18:$CN$1017,$B236,'Daily Log'!$CO$18:$CO$1017),0)","v":0}]
[null,"DL02 3002:6'SMOKE BBQ",null,"SIDE ORDER -APPETIZER (PIZZA)",1,0,null,null,null,null,null,null,null,null,null,null,null,null,null,null,null,null,null,null,null,null,null,null,null,null,null,null,null,null,null,{"$f":"IFERROR($E237*SUMIF('Daily Log'!$CK$18:$CK$1017,$B237,'Daily Log'!$CL$18:$CL$1017),0)","v":0},{"$f":"IFERROR($E237*SUMIF('Daily Log'!$CN$18:$CN$1017,$B237,'Daily Log'!$CO$18:$CO$1017),0)","v":0}]
[null,"DL03 3003:6'SEAFOOD",null,"SIDE ORDER -APPETIZER (PIZZA)",1,0,null,null,null,null,null,null,null,null,null,null,null,null,null,null,null,null,null,null,null,null,null,null,null,null,null,null,null,null,null,{"$f":"IFERROR($E238*SUMIF('Daily Log'!$CK$18:$CK$1017,$B238,'Daily Log'!$CL$18:$CL$1017),0)","v":0},{"$f":"IFERROR($E238*SUMIF('Daily Log'!$CN$18:$CN$1017,$B238,'Daily Log'!$CO$18:$CO$1017),0)","v":0}]
[null,"DL04 3004:6'SPICY BUF",null,"SIDE ORDER -APPETIZER (PIZZA)",1,0,null,null,null,null,null,null,null,null,null,null,null,null,null,null,null,null,null,null,null,null,null,null,null,null,null,null,null,null,null,{"$f":"IFERROR($E239*SUMIF('Daily Log'!$CK$18:$CK$1017,$B239,'Daily Log'!$CL$18:$CL$1017),0)","v":0},{"$f":"IFERROR($E239*SUMIF('Daily Log'!$CN$18:$CN$1017,$B239,'Daily Log'!$CO$18:$CO$1017),0)","v":0}]
[null,"DL05 3005:6'VEGGIE",null,"SIDE ORDER -APPETIZER (PIZZA)",1,0,null,null,null,null,null,null,null,null,null,null,null,null,null,null,null,null,null,null,null,null,null,null,null,null,null,null,null,null,null,{"$f":"IFERROR($E240*SUMIF('Daily Log'!$CK$18:$CK$1017,$B240,'Daily Log'!$CL$18:$CL$1017),0)","v":0},{"$f":"IFERROR($E240*SUMIF('Daily Log'!$CN$18:$CN$1017,$B240,'Daily Log'!$CO$18:$CO$1017),0)","v":0}]
[null,"DL06 3001:9'HAWAIIAN",null,"SIDE ORDER -APPETIZER (PIZZA)",1,0,null,null,null,null,null,null,null,null,null,null,null,null,null,null,null,null,null,null,null,null,null,null,null,null,null,null,null,null,null,{"$f":"IFERROR($E241*SUMIF('Daily Log'!$CK$18:$CK$1017,$B241,'Daily Log'!$CL$18:$CL$1017),0)","v":0},{"$f":"IFERROR($E241*SUMIF('Daily Log'!$CN$18:$CN$1017,$B241,'Daily Log'!$CO$18:$CO$1017),0)","v":0}]
[null,"DL07 3002:9'SMOKED",null,"SIDE ORDER -APPETIZER (PIZZA)",1,0,null,null,null,null,null,null,null,null,null,null,null,null,null,null,null,null,null,null,null,null,null,null,null,null,null,null,null,null,null,{"$f":"IFERROR($E242*SUMIF('Daily Log'!$CK$18:$CK$1017,$B242,'Daily Log'!$CL$18:$CL$1017),0)","v":0},{"$f":"IFERROR($E242*SUMIF('Daily Log'!$CN$18:$CN$1017,$B242,'Daily Log'!$CO$18:$CO$1017),0)","v":0}]
[null,"DL08 3003:9'SEAFOOD",null,"SIDE ORDER -APPETIZER (PIZZA)",1,0,null,null,null,null,null,null,null,null,null,null,null,null,null,null,null,null,null,null,null,null,null,null,null,null,null,null,null,null,null,{"$f":"IFERROR($E243*SUMIF('Daily Log'!$CK$18:$CK$1017,$B243,'Daily Log'!$CL$18:$CL$1017),0)","v":0},{"$f":"IFERROR($E243*SUMIF('Daily Log'!$CN$18:$CN$1017,$B243,'Daily Log'!$CO$18:$CO$1017),0)","v":0}]
[null,"DL09 3004:9'SPICY B",null,"SIDE ORDER -APPETIZER (PIZZA)",1,0,null,null,null,null,null,null,null,null,null,null,null,null,null,null,null,null,null,null,null,null,null,null,null,null,null,null,null,null,null,{"$f":"IFERROR($E244*SUMIF('Daily Log'!$CK$18:$CK$1017,$B244,'Daily Log'!$CL$18:$CL$1017),0)","v":0},{"$f":"IFERROR($E244*SUMIF('Daily Log'!$CN$18:$CN$1017,$B244,'Daily Log'!$CO$18:$CO$1017),0)","v":0}]
[null,"DL10 3005:9'VEGGIE",null,"SIDE ORDER -APPETIZER (PIZZA)",1,0,null,null,null,null,null,null,null,null,null,null,null,null,null,null,null,null,null,null,null,null,null,null,null,null,null,null,null,null,null,{"$f":"IFERROR($E245*SUMIF('Daily Log'!$CK$18:$CK$1017,$B245,'Daily Log'!$CL$18:$CL$1017),0)","v":0},{"$f":"IFERROR($E245*SUMIF('Daily Log'!$CN$18:$CN$1017,$B245,'Daily Log'!$CO$18:$CO$1017),0)","v":0}]
[null,"DM01 SNACK PLATTER(A)",null,"PLATTER",1,0,null,null,null,null,null,null,null,null,null,null,null,null,null,null,null,null,null,null,null,null,null,null,null,null,null,null,null,null,null,{"$f":"IFERROR($E246*SUMIF('Daily Log'!$CK$18:$CK$1017,$B246,'Daily Log'!$CL$18:$CL$1017),0)","v":0},{"$f":"IFERROR($E246*SUMIF('Daily Log'!$CN$18:$CN$1017,$B246,'Daily Log'!$CO$18:$CO$1017),0)","v":0}]
[null,"DM02 SNACK PLATTER(B)",null,"PLATTER",1,0,null,null,null,null,null,null,null,null,null,null,null,null,null,null,null,null,null,null,null,null,null,null,null,null,null,null,null,null,null,{"$f":"IFERROR($E247*SUMIF('Daily Log'!$CK$18:$CK$1017,$B247,'Daily Log'!$CL$18:$CL$1017),0)","v":0},{"$f":"IFERROR($E247*SUMIF('Daily Log'!$CN$18:$CN$1017,$B247,'Daily Log'!$CO$18:$CO$1017),0)","v":0}]
[null,"DM03 CNY platter(A)",null,"PLATTER",1,0,null,null,null,null,null,null,null,null,null,null,null,null,null,null,null,null,null,null,null,null,null,null,null,null,null,null,null,null,null,{"$f":"IFERROR($E248*SUMIF('Daily Log'!$CK$18:$CK$1017,$B248,'Daily Log'!$CL$18:$CL$1017),0)","v":0},{"$f":"IFERROR($E248*SUMIF('Daily Log'!$CN$18:$CN$1017,$B248,'Daily Log'!$CO$18:$CO$1017),0)","v":0}]
[null,"DM04 CNY platter (B)",null,"PLATTER",1,0,null,null,null,null,null,null,null,null,null,null,null,null,null,null,null,null,null,null,null,null,null,null,null,null,null,null,null,null,null,{"$f":"IFERROR($E249*SUMIF('Daily Log'!$CK$18:$CK$1017,$B249,'Daily Log'!$CL$18:$CL$1017),0)","v":0},{"$f":"IFERROR($E249*SUMIF('Daily Log'!$CN$18:$CN$1017,$B249,'Daily Log'!$CO$18:$CO$1017),0)","v":0}]
[null,"GA01 DUNHILL",null,"CIGARETTE",1,0,null,null,null,null,null,null,null,null,null,null,null,null,null,null,null,null,null,null,null,null,null,null,null,null,null,null,null,null,null,{"$f":"IFERROR($E250*SUMIF('Daily Log'!$CK$18:$CK$1017,$B250,'Daily Log'!$CL$18:$CL$1017),0)","v":0},{"$f":"IFERROR($E250*SUMIF('Daily Log'!$CN$18:$CN$1017,$B250,'Daily Log'!$CO$18:$CO$1017),0)","v":0}]
[null,"GA02 KENT",null,"CIGARETTE",1,0,null,null,null,null,null,null,null,null,null,null,null,null,null,null,null,null,null,null,null,null,null,null,null,null,null,null,null,null,null,{"$f":"IFERROR($E251*SUMIF('Daily Log'!$CK$18:$CK$1017,$B251,'Daily Log'!$CL$18:$CL$1017),0)","v":0},{"$f":"IFERROR($E251*SUMIF('Daily Log'!$CN$18:$CN$1017,$B251,'Daily Log'!$CO$18:$CO$1017),0)","v":0}]
[null,"GE01 DUNHILL",null,"CIGARETTE",1,2,null,null,null,null,null,null,null,null,null,null,null,null,null,null,null,null,null,null,null,null,null,null,null,null,null,null,null,null,null,{"$f":"IFERROR($E252*SUMIF('Daily Log'!$CK$18:$CK$1017,$B252,'Daily Log'!$CL$18:$CL$1017),0)","v":1},{"$f":"IFERROR($E252*SUMIF('Daily Log'!$CN$18:$CN$1017,$B252,'Daily Log'!$CO$18:$CO$1017),0)","v":1}]
[null,"GE02 DUNHILL LITE",null,"CIGARETTE",1,1,null,null,null,null,null,null,null,null,null,null,null,null,null,null,null,null,null,null,null,null,null,null,null,null,null,null,null,null,null,{"$f":"IFERROR($E253*SUMIF('Daily Log'!$CK$18:$CK$1017,$B253,'Daily Log'!$CL$18:$CL$1017),0)","v":0},{"$f":"IFERROR($E253*SUMIF('Daily Log'!$CN$18:$CN$1017,$B253,'Daily Log'!$CO$18:$CO$1017),0)","v":1}]
[null,"GE03 DUNHILL MT",null,"CIGARETTE",1,0,null,null,null,null,null,null,null,null,null,null,null,null,null,null,null,null,null,null,null,null,null,null,null,null,null,null,null,null,null,{"$f":"IFERROR($E254*SUMIF('Daily Log'!$CK$18:$CK$1017,$B254,'Daily Log'!$CL$18:$CL$1017),0)","v":0},{"$f":"IFERROR($E254*SUMIF('Daily Log'!$CN$18:$CN$1017,$B254,'Daily Log'!$CO$18:$CO$1017),0)","v":0}]
[null,"GE04 DUNHILL MT LITE",null,"CIGARETTE",1,0,null,null,null,null,null,null,null,null,null,null,null,null,null,null,null,null,null,null,null,null,null,null,null,null,null,null,null,null,null,{"$f":"IFERROR($E255*SUMIF('Daily Log'!$CK$18:$CK$1017,$B255,'Daily Log'!$CL$18:$CL$1017),0)","v":0},{"$f":"IFERROR($E255*SUMIF('Daily Log'!$CN$18:$CN$1017,$B255,'Daily Log'!$CO$18:$CO$1017),0)","v":0}]
[null,"GE05 DUNHILL BOOST",null,"CIGARETTE",1,0,null,null,null,null,null,null,null,null,null,null,null,null,null,null,null,null,null,null,null,null,null,null,null,null,null,null,null,null,null,{"$f":"IFERROR($E256*SUMIF('Daily Log'!$CK$18:$CK$1017,$B256,'Daily Log'!$CL$18:$CL$1017),0)","v":0},{"$f":"IFERROR($E256*SUMIF('Daily Log'!$CN$18:$CN$1017,$B256,'Daily Log'!$CO$18:$CO$1017),0)","v":0}]
[null,"GE06 DUNHILL SWITCH",null,"CIGARETTE",1,0,null,null,null,null,null,null,null,null,null,null,null,null,null,null,null,null,null,null,null,null,null,null,null,null,null,null,null,null,null,{"$f":"IFERROR($E257*SUMIF('Daily Log'!$CK$18:$CK$1017,$B257,'Daily Log'!$CL$18:$CL$1017),0)","v":0},{"$f":"IFERROR($E257*SUMIF('Daily Log'!$CN$18:$CN$1017,$B257,'Daily Log'!$CO$18:$CO$1017),0)","v":0}]
[null,"GE07 DUNHILL ICE",null,"CIGARETTE",1,1,null,null,null,null,null,null,null,null,null,null,null,null,null,null,null,null,null,null,null,null,null,null,null,null,null,null,null,null,null,{"$f":"IFERROR($E258*SUMIF('Daily Log'!$CK$18:$CK$1017,$B258,'Daily Log'!$CL$18:$CL$1017),0)","v":0},{"$f":"IFERROR($E258*SUMIF('Daily Log'!$CN$18:$CN$1017,$B258,'Daily Log'!$CO$18:$CO$1017),0)","v":1}]
[null,"GF01 KENT ORIGINAL",null,"CIGARETTE",1,0,null,null,null,null,null,null,null,null,null,null,null,null,null,null,null,null,null,null,null,null,null,null,null,null,null,null,null,null,null,{"$f":"IFERROR($E259*SUMIF('Daily Log'!$CK$18:$CK$1017,$B259,'Daily Log'!$CL$18:$CL$1017),0)","v":0},{"$f":"IFERROR($E259*SUMIF('Daily Log'!$CN$18:$CN$1017,$B259,'Daily Log'!$CO$18:$CO$1017),0)","v":0}]
[null,"GF02 KENT FUTURA",null,"CIGARETTE",1,0,null,null,null,null,null,null,null,null,null,null,null,null,null,null,null,null,null,null,null,null,null,null,null,null,null,null,null,null,null,{"$f":"IFERROR($E260*SUMIF('Daily Log'!$CK$18:$CK$1017,$B260,'Daily Log'!$CL$18:$CL$1017),0)","v":0},{"$f":"IFERROR($E260*SUMIF('Daily Log'!$CN$18:$CN$1017,$B260,'Daily Log'!$CO$18:$CO$1017),0)","v":0}]
[null,"GF03 KENT MINTEK",null,"CIGARETTE",1,0,null,null,null,null,null,null,null,null,null,null,null,null,null,null,null,null,null,null,null,null,null,null,null,null,null,null,null,null,null,{"$f":"IFERROR($E261*SUMIF('Daily Log'!$CK$18:$CK$1017,$B261,'Daily Log'!$CL$18:$CL$1017),0)","v":0},{"$f":"IFERROR($E261*SUMIF('Daily Log'!$CN$18:$CN$1017,$B261,'Daily Log'!$CO$18:$CO$1017),0)","v":0}]
[null,"GF04 KENT NEO",null,"CIGARETTE",1,0,null,null,null,null,null,null,null,null,null,null,null,null,null,null,null,null,null,null,null,null,null,null,null,null,null,null,null,null,null,{"$f":"IFERROR($E262*SUMIF('Daily Log'!$CK$18:$CK$1017,$B262,'Daily Log'!$CL$18:$CL$1017),0)","v":0},{"$f":"IFERROR($E262*SUMIF('Daily Log'!$CN$18:$CN$1017,$B262,'Daily Log'!$CO$18:$CO$1017),0)","v":0}]
[null,"ZAB01 1201:SFD STICK",null,"COMBO-SNAKCS",1,1,null,null,null,null,null,null,null,null,null,null,null,null,null,null,null,null,null,null,null,null,null,null,null,null,null,null,null,null,null,{"$f":"IFERROR($E263*SUMIF('Daily Log'!$CK$18:$CK$1017,$B263,'Daily Log'!$CL$18:$CL$1017),0)","v":0},{"$f":"IFERROR($E263*SUMIF('Daily Log'!$CN$18:$CN$1017,$B263,'Daily Log'!$CO$18:$CO$1017),0)","v":1}]
[null,"ZAB02 1202:FRIES",null,"COMBO-SNAKCS",1,8,null,null,null,null,null,null,null,null,null,null,null,null,null,null,null,null,null,null,null,null,null,null,null,null,null,null,null,null,null,{"$f":"IFERROR($E264*SUMIF('Daily Log'!$CK$18:$CK$1017,$B264,'Daily Log'!$CL$18:$CL$1017),0)","v":2},{"$f":"IFERROR($E264*SUMIF('Daily Log'!$CN$18:$CN$1017,$B264,'Daily Log'!$CO$18:$CO$1017),0)","v":6}]
[null,"ZAB03 1203:GOLD MROOM",null,"COMBO-SNAKCS",1,3,null,null,null,null,null,null,null,null,null,null,null,null,null,null,null,null,null,null,null,null,null,null,null,null,null,null,null,null,null,{"$f":"IFERROR($E265*SUMIF('Daily Log'!$CK$18:$CK$1017,$B265,'Daily Log'!$CL$18:$CL$1017),0)","v":3},{"$f":"IFERROR($E265*SUMIF('Daily Log'!$CN$18:$CN$1017,$B265,'Daily Log'!$CO$18:$CO$1017),0)","v":0}]
[null,"ZAB04 1204:F.BALL",null,"COMBO-SNAKCS",1,0,null,null,null,null,null,null,null,null,null,null,null,null,null,null,null,null,null,null,null,null,null,null,null,null,null,null,null,null,null,{"$f":"IFERROR($E266*SUMIF('Daily Log'!$CK$18:$CK$1017,$B266,'Daily Log'!$CL$18:$CL$1017),0)","v":0},{"$f":"IFERROR($E266*SUMIF('Daily Log'!$CN$18:$CN$1017,$B266,'Daily Log'!$CO$18:$CO$1017),0)","v":0}]
[null,"ZAB06 1206:SPRING RL",null,"COMBO-SNAKCS",1,3,null,null,null,null,null,null,null,null,null,null,null,null,null,null,null,null,null,null,null,null,null,null,null,null,null,null,null,null,null,{"$f":"IFERROR($E267*SUMIF('Daily Log'!$CK$18:$CK$1017,$B267,'Daily Log'!$CL$18:$CL$1017),0)","v":1},{"$f":"IFERROR($E267*SUMIF('Daily Log'!$CN$18:$CN$1017,$B267,'Daily Log'!$CO$18:$CO$1017),0)","v":2}]
[null,"ZAB07 1207:SAUSAGE",null,"COMBO-SNAKCS",1,3,null,null,null,null,null,null,null,null,null,null,null,null,null,null,null,null,null,null,null,null,null,null,null,null,null,null,null,null,null,{"$f":"IFERROR($E268*SUMIF('Daily Log'!$CK$18:$CK$1017,$B268,'Daily Log'!$CL$18:$CL$1017),0)","v":0},{"$f":"IFERROR($E268*SUMIF('Daily Log'!$CN$18:$CN$1017,$B268,'Daily Log'!$CO$18:$CO$1017),0)","v":3}]
[null,"ZAC02 1302:NUGGET",null,"COMBO-SNAKCS",1,10,null,null,null,null,null,null,null,null,null,null,null,null,null,null,null,null,null,null,null,null,null,null,null,null,null,null,null,null,null,{"$f":"IFERROR($E269*SUMIF('Daily Log'!$CK$18:$CK$1017,$B269,'Daily Log'!$CL$18:$CL$1017),0)","v":2},{"$f":"IFERROR($E269*SUMIF('Daily Log'!$CN$18:$CN$1017,$B269,'Daily Log'!$CO$18:$CO$1017),0)","v":8}]
[null,"ZAC03 1303:CHK WING",null,"COMBO-SNAKCS",1,4,null,null,null,null,null,null,null,null,null,null,null,null,null,null,null,null,null,null,null,null,null,null,null,null,null,null,null,null,null,{"$f":"IFERROR($E270*SUMIF('Daily Log'!$CK$18:$CK$1017,$B270,'Daily Log'!$CL$18:$CL$1017),0)","v":3},{"$f":"IFERROR($E270*SUMIF('Daily Log'!$CN$18:$CN$1017,$B270,'Daily Log'!$CO$18:$CO$1017),0)","v":1}]
[null,"ZAC04 1304:IKAN BILIS",null,"COMBO-SNAKCS",1,1,null,null,null,null,null,null,null,null,null,null,null,null,null,null,null,null,null,null,null,null,null,null,null,null,null,null,null,null,null,{"$f":"IFERROR($E271*SUMIF('Daily Log'!$CK$18:$CK$1017,$B271,'Daily Log'!$CL$18:$CL$1017),0)","v":1},{"$f":"IFERROR($E271*SUMIF('Daily Log'!$CN$18:$CN$1017,$B271,'Daily Log'!$CO$18:$CO$1017),0)","v":0}]
[null,"ZAC05 1305:THAI RL",null,"COMBO-SNAKCS",1,1,null,null,null,null,null,null,null,null,null,null,null,null,null,null,null,null,null,null,null,null,null,null,null,null,null,null,null,null,null,{"$f":"IFERROR($E272*SUMIF('Daily Log'!$CK$18:$CK$1017,$B272,'Daily Log'!$CL$18:$CL$1017),0)","v":0},{"$f":"IFERROR($E272*SUMIF('Daily Log'!$CN$18:$CN$1017,$B272,'Daily Log'!$CO$18:$CO$1017),0)","v":1}]
[null,"ZAC07 1307:D/F C.WINGS",null,"COMBO-SNAKCS",1,3,null,null,null,null,null,null,null,null,null,null,null,null,null,null,null,null,null,null,null,null,null,null,null,null,null,null,null,null,null,{"$f":"IFERROR($E273*SUMIF('Daily Log'!$CK$18:$CK$1017,$B273,'Daily Log'!$CL$18:$CL$1017),0)","v":1},{"$f":"IFERROR($E273*SUMIF('Daily Log'!$CN$18:$CN$1017,$B273,'Daily Log'!$CO$18:$CO$1017),0)","v":2}]
[null,"ZAC08 1308:C/CALAMARI",null,"COMBO-SNAKCS",1,0,null,null,null,null,null,null,null,null,null,null,null,null,null,null,null,null,null,null,null,null,null,null,null,null,null,null,null,null,null,{"$f":"IFERROR($E274*SUMIF('Daily Log'!$CK$18:$CK$1017,$B274,'Daily Log'!$CL$18:$CL$1017),0)","v":0},{"$f":"IFERROR($E274*SUMIF('Daily Log'!$CN$18:$CN$1017,$B274,'Daily Log'!$CO$18:$CO$1017),0)","v":0}]
[null,"ZAC09 1309:Mc /O.RINGS",null,"COMBO-SNAKCS",1,0,null,null,null,null,null,null,null,null,null,null,null,null,null,null,null,null,null,null,null,null,null,null,null,null,null,null,null,null,null,{"$f":"IFERROR($E275*SUMIF('Daily Log'!$CK$18:$CK$1017,$B275,'Daily Log'!$CL$18:$CL$1017),0)","v":0},{"$f":"IFERROR($E275*SUMIF('Daily Log'!$CN$18:$CN$1017,$B275,'Daily Log'!$CO$18:$CO$1017),0)","v":0}]
[null,"ZAC10 1310:Mc SPIRAL/F",null,"COMBO-SNAKCS",1,0,null,null,null,null,null,null,null,null,null,null,null,null,null,null,null,null,null,null,null,null,null,null,null,null,null,null,null,null,null,{"$f":"IFERROR($E276*SUMIF('Daily Log'!$CK$18:$CK$1017,$B276,'Daily Log'!$CL$18:$CL$1017),0)","v":0},{"$f":"IFERROR($E276*SUMIF('Daily Log'!$CN$18:$CN$1017,$B276,'Daily Log'!$CO$18:$CO$1017),0)","v":0}]
[null,"ZAC11 1311:Mc H/SMILES",null,"COMBO-SNAKCS",1,0,null,null,null,null,null,null,null,null,null,null,null,null,null,null,null,null,null,null,null,null,null,null,null,null,null,null,null,null,null,{"$f":"IFERROR($E277*SUMIF('Daily Log'!$CK$18:$CK$1017,$B277,'Daily Log'!$CL$18:$CL$1017),0)","v":0},{"$f":"IFERROR($E277*SUMIF('Daily Log'!$CN$18:$CN$1017,$B277,'Daily Log'!$CO$18:$CO$1017),0)","v":0}]
[null,"ZAC12 1312:Mc HASH/B",null,"COMBO-SNAKCS",1,1,null,null,null,null,null,null,null,null,null,null,null,null,null,null,null,null,null,null,null,null,null,null,null,null,null,null,null,null,null,{"$f":"IFERROR($E278*SUMIF('Daily Log'!$CK$18:$CK$1017,$B278,'Daily Log'!$CL$18:$CL$1017),0)","v":1},{"$f":"IFERROR($E278*SUMIF('Daily Log'!$CN$18:$CN$1017,$B278,'Daily Log'!$CO$18:$CO$1017),0)","v":0}]
[null,"JK001 LLB BP CHK CHOP",null,"LLB -MAIN COURSE ",1,{"$f":"SUM($G279:$AK279)","v":0},{"$f":"IFERROR($E279*SUMIF('Daily Log'!B18:B242,Summary!$B$279,'Daily Log'!C18:C292),0)","v":0},null,null,null,null,null,null,null,null,null,null,null,null,null,null,null,null,null,null,null,null,null,null,null,null,null,null,null,null,{"$f":"IFERROR($E279*SUMIF('Daily Log'!$CK$18:$CK$1017,$B279,'Daily Log'!$CL$18:$CL$1017),0)","v":0},{"$f":"IFERROR($E279*SUMIF('Daily Log'!$CN$18:$CN$1017,$B279,'Daily Log'!$CO$18:$CO$1017),0)","v":0}]
[null,"JK002 LLB G.S C. CHOP",null,"LLB -MAIN COURSE ",1,0,null,null,null,null,null,null,null,null,null,null,null,null,null,null,null,null,null,null,null,null,null,null,null,null,null,null,null,null,null,{"$f":"IFERROR($E280*SUMIF('Daily Log'!$CK$18:$CK$1017,$B280,'Daily Log'!$CL$18:$CL$1017),0)","v":0}]
[null,"JK003 LLB MSR CHK CHOP",null,"LLB -MAIN COURSE ",1,0,null,null,null,null,null,null,null,null,null,null,null,null,null,null,null,null,null,null,null,null,null,null,null,null,null,null,null,null,null,{"$f":"IFERROR($E281*SUMIF('Daily Log'!$CK$18:$CK$1017,$B281,'Daily Log'!$CL$18:$CL$1017),0)","v":0}]
[null,"JK004 LLB CHK MARRYLAN",null,"LLB -MAIN COURSE ",1,0,null,null,null,null,null,null,null,null,null,null,null,null,null,null,null,null,null,null,null,null,null,null,null,null,null,null,null,null,null,{"$f":"IFERROR($E282*SUMIF('Daily Log'!$CK$18:$CK$1017,$B282,'Daily Log'!$CL$18:$CL$1017),0)","v":0}]
[null,"JK005 LLB Fish & Chip",null,"LLB -MAIN COURSE ",1,0,null,null,null,null,null,null,null,null,null,null,null,null,null,null,null,null,null,null,null,null,null,null,null,null,null,null,null,null,null,{"$f":"IFERROR($E283*SUMIF('Daily Log'!$CK$18:$CK$1017,$B283,'Daily Log'!$CL$18:$CL$1017),0)","v":0}]
[null,"JK006 LLB Spaghetti",null,"LLB -MAIN COURSE ",1,0,null,null,null,null,null,null,null,null,null,null,null,null,null,null,null,null,null,null,null,null,null,null,null,null,null,null,null,null,null,{"$f":"IFERROR($E284*SUMIF('Daily Log'!$CK$18:$CK$1017,$B284,'Daily Log'!$CL$18:$CL$1017),0)","v":0}]
[null,"JK007 LLB CHK .C.SALAD",null,"LLB -MAIN COURSE ",1,0,null,null,null,null,null,null,null,null,null,null,null,null,null,null,null,null,null,null,null,null,null,null,null,null,null,null,null,null,null,{"$f":"IFERROR($E285*SUMIF('Daily Log'!$CK$18:$CK$1017,$B285,'Daily Log'!$CL$18:$CL$1017),0)","v":0}]
[null,"JK101 LLB Thai Chk Ric",null,"LLB -MAIN COURSE ",1,0,null,null,null,null,null,null,null,null,null,null,null,null,null,null,null,null,null,null,null,null,null,null,null,null,null,null,null,null,null,{"$f":"IFERROR($E286*SUMIF('Daily Log'!$CK$18:$CK$1017,$B286,'Daily Log'!$CL$18:$CL$1017),0)","v":0}]
[null,"JK102 Marmite Chk Rice",null,"LLB -MAIN COURSE ",1,0,null,null,null,null,null,null,null,null,null,null,null,null,null,null,null,null,null,null,null,null,null,null,null,null,null,null,null,null,null,{"$f":"IFERROR($E287*SUMIF('Daily Log'!$CK$18:$CK$1017,$B287,'Daily Log'!$CL$18:$CL$1017),0)","v":0}]
[null,"JK104 S&S Chk Rice",null,"LLB -MAIN COURSE ",1,0,{"$f":"IFERROR($E288*SUMIF('Daily Log'!$CK$18:$CK$1017,#REF!,'Daily Log'!$CL$18:$CL$1017),0)","v":0},{"$f":"IFERROR($E288*SUMIF('Daily Log'!$CK$18:$CK$1017,#REF!,'Daily Log'!$CL$18:$CL$1017),0)","v":0},{"$f":"IFERROR($E288*SUMIF('Daily Log'!$CK$18:$CK$1017,#REF!,'Daily Log'!$CL$18:$CL$1017),0)","v":0},{"$f":"IFERROR($E288*SUMIF('Daily Log'!$CK$18:$CK$1017,#REF!,'Daily Log'!$CL$18:$CL$1017),0)","v":0},{"$f":"IFERROR($E288*SUMIF('Daily Log'!$CK$18:$CK$1017,#REF!,'Daily Log'!$CL$18:$CL$1017),0)","v":0},{"$f":"IFERROR($E288*SUMIF('Daily Log'!$CK$18:$CK$1017,#REF!,'Daily Log'!$CL$18:$CL$1017),0)","v":0},{"$f":"IFERROR($E288*SUMIF('Daily Log'!$CK$18:$CK$1017,#REF!,'Daily Log'!$CL$18:$CL$1017),0)","v":0},{"$f":"IFERROR($E288*SUMIF('Daily Log'!$CK$18:$CK$1017,#REF!,'Daily Log'!$CL$18:$CL$1017),0)","v":0},{"$f":"IFERROR($E288*SUMIF('Daily Log'!$CK$18:$CK$1017,#REF!,'Daily Log'!$CL$18:$CL$1017),0)","v":0},{"$f":"IFERROR($E288*SUMIF('Daily Log'!$CK$18:$CK$1017,#REF!,'Daily Log'!$CL$18:$CL$1017),0)","v":0},{"$f":"IFERROR($E288*SUMIF('Daily Log'!$CK$18:$CK$1017,#REF!,'Daily Log'!$CL$18:$CL$1017),0)","v":0},{"$f":"IFERROR($E288*SUMIF('Daily Log'!$CK$18:$CK$1017,#REF!,'Daily Log'!$CL$18:$CL$1017),0)","v":0},{"$f":"IFERROR($E288*SUMIF('Daily Log'!$CK$18:$CK$1017,#REF!,'Daily Log'!$CL$18:$CL$1017),0)","v":0},{"$f":"IFERROR($E288*SUMIF('Daily Log'!$CK$18:$CK$1017,#REF!,'Daily Log'!$CL$18:$CL$1017),0)","v":0},{"$f":"IFERROR($E288*SUMIF('Daily Log'!$CK$18:$CK$1017,#REF!,'Daily Log'!$CL$18:$CL$1017),0)","v":0},{"$f":"IFERROR($E288*SUMIF('Daily Log'!$CK$18:$CK$1017,#REF!,'Daily Log'!$CL$18:$CL$1017),0)","v":0},{"$f":"IFERROR($E288*SUMIF('Daily Log'!$CK$18:$CK$1017,#REF!,'Daily Log'!$CL$18:$CL$1017),0)","v":0},{"$f":"IFERROR($E288*SUMIF('Daily Log'!$CK$18:$CK$1017,#REF!,'Daily Log'!$CL$18:$CL$1017),0)","v":0},{"$f":"IFERROR($E288*SUMIF('Daily Log'!$CK$18:$CK$1017,#REF!,'Daily Log'!$CL$18:$CL$1017),0)","v":0},{"$f":"IFERROR($E288*SUMIF('Daily Log'!$CK$18:$CK$1017,#REF!,'Daily Log'!$CL$18:$CL$1017),0)","v":0},{"$f":"IFERROR($E288*SUMIF('Daily Log'!$CK$18:$CK$1017,#REF!,'Daily Log'!$CL$18:$CL$1017),0)","v":0},{"$f":"IFERROR($E288*SUMIF('Daily Log'!$CK$18:$CK$1017,#REF!,'Daily Log'!$CL$18:$CL$1017),0)","v":0},{"$f":"IFERROR($E288*SUMIF('Daily Log'!$CK$18:$CK$1017,#REF!,'Daily Log'!$CL$18:$CL$1017),0)","v":0},{"$f":"IFERROR($E288*SUMIF('Daily Log'!$CK$18:$CK$1017,#REF!,'Daily Log'!$CL$18:$CL$1017),0)","v":0},{"$f":"IFERROR($E288*SUMIF('Daily Log'!$CK$18:$CK$1017,#REF!,'Daily Log'!$CL$18:$CL$1017),0)","v":0},{"$f":"IFERROR($E288*SUMIF('Daily Log'!$CK$18:$CK$1017,#REF!,'Daily Log'!$CL$18:$CL$1017),0)","v":0},{"$f":"IFERROR($E288*SUMIF('Daily Log'!$CK$18:$CK$1017,#REF!,'Daily Log'!$CL$18:$CL$1017),0)","v":0},{"$f":"IFERROR($E288*SUMIF('Daily Log'!$CK$18:$CK$1017,#REF!,'Daily Log'!$CL$18:$CL$1017),0)","v":0},{"$f":"IFERROR($E288*SUMIF('Daily Log'!$CK$18:$CK$1017,A288,'Daily Log'!$CL$18:$CL$1017),0)","v":0},{"$f":"IFERROR($E288*SUMIF('Daily Log'!$CK$18:$CK$1017,B288,'Daily Log'!$CL$18:$CL$1017),0)","v":0}]
[null,"JK105 B.Cream.Chk Rice",null,"LLB -MAIN COURSE ",1,0,null,null,null,null,null,null,null,null,null,null,null,null,null,null,null,null,null,null,null,null,null,null,null,null,null,null,null,null,null,{"$f":"IFERROR($E289*SUMIF('Daily Log'!$CK$18:$CK$1017,$B289,'Daily Log'!$CL$18:$CL$1017),0)","v":0}]
[null,"JK106 H.K Fried Rice",null,"LLB -MAIN COURSE ",1,0,null,null,null,null,null,null,null,null,null,null,null,null,null,null,null,null,null,null,null,null,null,null,null,null,null,null,null,null,null,{"$f":"IFERROR($E290*SUMIF('Daily Log'!$CK$18:$CK$1017,$B290,'Daily Log'!$CL$18:$CL$1017),0)","v":0}]
[null,"JK107 LLBSambal F.Rice",null,"LLB -MAIN COURSE ",1,0,null,null,null,null,null,null,null,null,null,null,null,null,null,null,null,null,null,null,null,null,null,null,null,null,null,null,null,null,null,{"$f":"IFERROR($E291*SUMIF('Daily Log'!$CK$18:$CK$1017,$B291,'Daily Log'!$CL$18:$CL$1017),0)","v":0}]
[null,"JK108 LLB S.Fried MEE",null,"LLB -MAIN COURSE ",1,0,null,null,null,null,null,null,null,null,null,null,null,null,null,null,null,null,null,null,null,null,null,null,null,null,null,null,null,null,null,{"$f":"IFERROR($E292*SUMIF('Daily Log'!$CK$18:$CK$1017,$B292,'Daily Log'!$CL$18:$CL$1017),0)","v":0}]
[null,"JK109 LLB BP Udon Mee",null,"LLB -MAIN COURSE ",1,0,null,null,null,null,null,null,null,null,null,null,null,null,null,null,null,null,null,null,null,null,null,null,null,null,null,null,null,null,null,{"$f":"IFERROR($E293*SUMIF('Daily Log'!$CK$18:$CK$1017,$B293,'Daily Log'!$CL$18:$CL$1017),0)","v":0}]
[null,"JK110 LLB Nisin Noodle",null,"LLB -MAIN COURSE ",1,0,null,null,null,null,null,null,null,null,null,null,null,null,null,null,null,null,null,null,null,null,null,null,null,null,null,null,null,null,null,{"$f":"IFERROR($E294*SUMIF('Daily Log'!$CK$18:$CK$1017,$B294,'Daily Log'!$CL$18:$CL$1017),0)","v":0}]
[null,"JK111 LLB S.M.Ver Rice",null,"LLB -MAIN COURSE ",1,0,null,null,null,null,null,null,null,null,null,null,null,null,null,null,null,null,null,null,null,null,null,null,null,null,null,null,null,null,null,{"$f":"IFERROR($E295*SUMIF('Daily Log'!$CK$18:$CK$1017,$B295,'Daily Log'!$CL$18:$CL$1017),0)","v":0}]
[null,"JK115 LLB B.Noodle.Chk",null,"LLB -MAIN COURSE ",1,0,null,null,null,null,null,null,null,null,null,null,null,null,null,null,null,null,null,null,null,null,null,null,null,null,null,null,null,null,null,{"$f":"IFERROR($E296*SUMIF('Daily Log'!$CK$18:$CK$1017,$B296,'Daily Log'!$CL$18:$CL$1017),0)","v":0}]
[null,"JK116 LLB Mon.Chk Rice",null,"LLB -MAIN COURSE ",1,0,null,null,null,null,null,null,null,null,null,null,null,null,null,null,null,null,null,null,null,null,null,null,null,null,null,null,null,null,null,{"$f":"IFERROR($E297*SUMIF('Daily Log'!$CK$18:$CK$1017,$B297,'Daily Log'!$CL$18:$CL$1017),0)","v":0}]
[null,"JM101 C.Chicken Sausag",null,"LLB -LOK LOK STICK",1,0,null,null,null,null,null,null,null,null,null,null,null,null,null,null,null,null,null,null,null,null,null,null,null,null,null,null,null,null,null,{"$f":"IFERROR($E298*SUMIF('Daily Log'!$CK$18:$CK$1017,$B298,'Daily Log'!$CL$18:$CL$1017),0)","v":0}]
[null,"JM102 Beef Ball",null,"LLB -LOK LOK STICK",1,0,null,null,null,null,null,null,null,null,null,null,null,null,null,null,null,null,null,null,null,null,null,null,null,null,null,null,null,null,null,{"$f":"IFERROR($E299*SUMIF('Daily Log'!$CK$18:$CK$1017,$B299,'Daily Log'!$CL$18:$CL$1017),0)","v":0}]
[null,"JM103 Chicken Kidney",null,"LLB -LOK LOK STICK",1,0,null,null,null,null,null,null,null,null,null,null,null,null,null,null,null,null,null,null,null,null,null,null,null,null,null,null,null,null,null,{"$f":"IFERROR($E300*SUMIF('Daily Log'!$CK$18:$CK$1017,$B300,'Daily Log'!$CL$18:$CL$1017),0)","v":0}]
[null,"JM104 Chicken Liver",null,"LLB -LOK LOK STICK",1,0,null,null,null,null,null,null,null,null,null,null,null,null,null,null,null,null,null,null,null,null,null,null,null,null,null,null,null,null,null,{"$f":"IFERROR($E301*SUMIF('Daily Log'!$CK$18:$CK$1017,$B301,'Daily Log'!$CL$18:$CL$1017),0)","v":0}]
[null,"JM105 Cheese C.Sausage",null,"LLB -LOK LOK STICK",1,3,null,null,null,null,null,null,null,null,null,null,null,null,null,null,null,null,null,null,null,null,null,null,null,null,null,null,null,null,null,{"$f":"IFERROR($E302*SUMIF('Daily Log'!$CK$18:$CK$1017,$B302,'Daily Log'!$CL$18:$CL$1017),0)","v":0},{"$f":"IFERROR($E302*SUMIF('Daily Log'!$CN$18:$CN$1017,$B302,'Daily Log'!$CO$18:$CO$1017),0)","v":3}]
[null,"JM106 B.P C.Sausage",null,"LLB -LOK LOK STICK",1,1,null,null,null,null,null,null,null,null,null,null,null,null,null,null,null,null,null,null,null,null,null,null,null,null,null,null,null,null,null,{"$f":"IFERROR($E303*SUMIF('Daily Log'!$CK$18:$CK$1017,$B303,'Daily Log'!$CL$18:$CL$1017),0)","v":0},{"$f":"IFERROR($E303*SUMIF('Daily Log'!$CN$18:$CN$1017,$B303,'Daily Log'!$CO$18:$CO$1017),0)","v":1}]
[null,"JM107 S.Fill beef Ball",null,"LLB -LOK LOK STICK",1,0,null,null,null,null,null,null,null,null,null,null,null,null,null,null,null,null,null,null,null,null,null,null,null,null,null,null,null,null,null,{"$f":"IFERROR($E304*SUMIF('Daily Log'!$CK$18:$CK$1017,$B304,'Daily Log'!$CL$18:$CL$1017),0)","v":0},{"$f":"IFERROR($E304*SUMIF('Daily Log'!$CN$18:$CN$1017,$B304,'Daily Log'!$CO$18:$CO$1017),0)","v":0}]
[null,"JM108 Pandan Chicken",null,"LLB -LOK LOK STICK",1,0,null,null,null,null,null,null,null,null,null,null,null,null,null,null,null,null,null,null,null,null,null,null,null,null,null,null,null,null,null,{"$f":"IFERROR($E305*SUMIF('Daily Log'!$CK$18:$CK$1017,$B305,'Daily Log'!$CL$18:$CL$1017),0)","v":0},{"$f":"IFERROR($E305*SUMIF('Daily Log'!$CN$18:$CN$1017,$B305,'Daily Log'!$CO$18:$CO$1017),0)","v":0}]
[null,"JM109 S. Duck Breast",null,"LLB -LOK LOK STICK",1,0,null,null,null,null,null,null,null,null,null,null,null,null,null,null,null,null,null,null,null,null,null,null,null,null,null,null,null,null,null,{"$f":"IFERROR($E306*SUMIF('Daily Log'!$CK$18:$CK$1017,$B306,'Daily Log'!$CL$18:$CL$1017),0)","v":0},{"$f":"IFERROR($E306*SUMIF('Daily Log'!$CN$18:$CN$1017,$B306,'Daily Log'!$CO$18:$CO$1017),0)","v":0}]
[null,"JM110 Grill.B.Chk.Wing",null,"LLB -LOK LOK STICK",1,0,null,null,null,null,null,null,null,null,null,null,null,null,null,null,null,null,null,null,null,null,null,null,null,null,null,null,null,null,null,{"$f":"IFERROR($E307*SUMIF('Daily Log'!$CK$18:$CK$1017,$B307,'Daily Log'!$CL$18:$CL$1017),0)","v":0},{"$f":"IFERROR($E307*SUMIF('Daily Log'!$CN$18:$CN$1017,$B307,'Daily Log'!$CO$18:$CO$1017),0)","v":0}]
[null,"JN211 Pork Meatball s",null,"LLB -LOK LOK STICK",1,8,null,null,null,null,null,null,null,null,null,null,null,null,null,null,null,null,null,null,null,null,null,null,null,null,null,null,null,null,null,{"$f":"IFERROR($E308*SUMIF('Daily Log'!$CK$18:$CK$1017,$B308,'Daily Log'!$CL$18:$CL$1017),0)","v":1},{"$f":"IFERROR($E308*SUMIF('Daily Log'!$CN$18:$CN$1017,$B308,'Daily Log'!$CO$18:$CO$1017),0)","v":7}]
[null,"JN213 P. Sauage Slices",null,"LLB -LOK LOK STICK",1,0,null,null,null,null,null,null,null,null,null,null,null,null,null,null,null,null,null,null,null,null,null,null,null,null,null,null,null,null,null,{"$f":"IFERROR($E309*SUMIF('Daily Log'!$CK$18:$CK$1017,$B309,'Daily Log'!$CL$18:$CL$1017),0)","v":0},{"$f":"IFERROR($E309*SUMIF('Daily Log'!$CN$18:$CN$1017,$B309,'Daily Log'!$CO$18:$CO$1017),0)","v":0}]
[null,"JN214 Pork Dumplings",null,"LLB -LOK LOK STICK",1,2,null,null,null,null,null,null,null,null,null,null,null,null,null,null,null,null,null,null,null,null,null,null,null,null,null,null,null,null,null,{"$f":"IFERROR($E310*SUMIF('Daily Log'!$CK$18:$CK$1017,$B310,'Daily Log'!$CL$18:$CL$1017),0)","v":0},{"$f":"IFERROR($E310*SUMIF('Daily Log'!$CN$18:$CN$1017,$B310,'Daily Log'!$CO$18:$CO$1017),0)","v":2}]
[null,"JN215 Pork Meatball B",null,"LLB -LOK LOK STICK",1,5,null,null,null,null,null,null,null,null,null,null,null,null,null,null,null,null,null,null,null,null,null,null,null,null,null,null,null,null,null,{"$f":"IFERROR($E311*SUMIF('Daily Log'!$CK$18:$CK$1017,$B311,'Daily Log'!$CL$18:$CL$1017),0)","v":0},{"$f":"IFERROR($E311*SUMIF('Daily Log'!$CN$18:$CN$1017,$B311,'Daily Log'!$CO$18:$CO$1017),0)","v":5}]
[null,"JN216 Pork Liver",null,"LLB -LOK LOK STICK",1,{"$f":"SUM($G312:$AK312)","v":0},null,null,null,null,null,null,null,null,null,null,null,null,null,null,null,null,null,null,null,null,null,null,null,null,null,null,null,null,null,{"$f":"IFERROR($E312*SUMIF('Daily Log'!$CK$18:$CK$1017,$B312,'Daily Log'!$CL$18:$CL$1017),0)","v":0},{"$f":"IFERROR($E312*SUMIF('Daily Log'!$CN$18:$CN$1017,$B312,'Daily Log'!$CO$18:$CO$1017),0)","v":0}]
[null,"JN217 Taiwan Sausage",null,"LLB -LOK LOK STICK",1,2,null,null,null,null,null,null,null,null,null,null,null,null,null,null,null,null,null,null,null,null,null,null,null,null,null,null,null,null,null,{"$f":"IFERROR($E313*SUMIF('Daily Log'!$CK$18:$CK$1017,$B313,'Daily Log'!$CL$18:$CL$1017),0)","v":0},{"$f":"IFERROR($E313*SUMIF('Daily Log'!$CN$18:$CN$1017,$B313,'Daily Log'!$CO$18:$CO$1017),0)","v":2}]
[null,"JN218 Bacon",null,"LLB -LOK LOK STICK",1,3,null,null,null,null,null,null,null,null,null,null,null,null,null,null,null,null,null,null,null,null,null,null,null,null,null,null,null,null,null,{"$f":"IFERROR($E314*SUMIF('Daily Log'!$CK$18:$CK$1017,$B314,'Daily Log'!$CL$18:$CL$1017),0)","v":0},{"$f":"IFERROR($E314*SUMIF('Daily Log'!$CN$18:$CN$1017,$B314,'Daily Log'!$CO$18:$CO$1017),0)","v":3}]
[null,"JN219 Pork Rinds",null,"LLB -LOK LOK STICK",1,0,null,null,null,null,null,null,null,null,null,null,null,null,null,null,null,null,null,null,null,null,null,null,null,null,null,null,null,null,null,{"$f":"IFERROR($E315*SUMIF('Daily Log'!$CK$18:$CK$1017,$B315,'Daily Log'!$CL$18:$CL$1017),0)","v":0},{"$f":"IFERROR($E315*SUMIF('Daily Log'!$CN$18:$CN$1017,$B315,'Daily Log'!$CO$18:$CO$1017),0)","v":0}]
[null,"JN220 Sauce Filll Ball",null,"LLB -LOK LOK STICK",1,1,null,null,null,null,null,null,null,null,null,null,null,null,null,null,null,null,null,null,null,null,null,null,null,null,null,null,null,null,null,{"$f":"IFERROR($E316*SUMIF('Daily Log'!$CK$18:$CK$1017,$B316,'Daily Log'!$CL$18:$CL$1017),0)","v":0},{"$f":"IFERROR($E316*SUMIF('Daily Log'!$CN$18:$CN$1017,$B316,'Daily Log'!$CO$18:$CO$1017),0)","v":1}]
[null,"JN222 Enoki Bacon Roll",null,"LLB -LOK LOK STICK",1,0,null,null,null,null,null,null,null,null,null,null,null,null,null,null,null,null,null,null,null,null,null,null,null,null,null,null,null,null,null,{"$f":"IFERROR($E317*SUMIF('Daily Log'!$CK$18:$CK$1017,$B317,'Daily Log'!$CL$18:$CL$1017),0)","v":0},{"$f":"IFERROR($E317*SUMIF('Daily Log'!$CN$18:$CN$1017,$B317,'Daily Log'!$CO$18:$CO$1017),0)","v":0}]
[null,"JO323 Fish Wanton",null,"LLB -LOK LOK STICK",1,0,null,null,null,null,null,null,null,null,null,null,null,null,null,null,null,null,null,null,null,null,null,null,null,null,null,null,null,null,null,{"$f":"IFERROR($E318*SUMIF('Daily Log'!$CK$18:$CK$1017,$B318,'Daily Log'!$CL$18:$CL$1017),0)","v":0},{"$f":"IFERROR($E318*SUMIF('Daily Log'!$CN$18:$CN$1017,$B318,'Daily Log'!$CO$18:$CO$1017),0)","v":0}]
[null,"JO324 M. Fried F. Cake",null,"LLB -LOK LOK STICK",1,1,null,null,null,null,null,null,null,null,null,null,null,null,null,null,null,null,null,null,null,null,null,null,null,null,null,null,null,null,null,{"$f":"IFERROR($E319*SUMIF('Daily Log'!$CK$18:$CK$1017,$B319,'Daily Log'!$CL$18:$CL$1017),0)","v":0},{"$f":"IFERROR($E319*SUMIF('Daily Log'!$CN$18:$CN$1017,$B319,'Daily Log'!$CO$18:$CO$1017),0)","v":1}]
[null,"JO325 Spicy Fish Cake",null,"LLB -LOK LOK STICK",1,1,null,null,null,null,null,null,null,null,null,null,null,null,null,null,null,null,null,null,null,null,null,null,null,null,null,null,null,null,null,{"$f":"IFERROR($E320*SUMIF('Daily Log'!$CK$18:$CK$1017,$B320,'Daily Log'!$CL$18:$CL$1017),0)","v":0},{"$f":"IFERROR($E320*SUMIF('Daily Log'!$CN$18:$CN$1017,$B320,'Daily Log'!$CO$18:$CO$1017),0)","v":1}]
[null,"JO326 Fresh Clam",null,"LLB -LOK LOK STICK",1,0,null,null,null,null,null,null,null,null,null,null,null,null,null,null,null,null,null,null,null,null,null,null,null,null,null,null,null,null,null,{"$f":"IFERROR($E321*SUMIF('Daily Log'!$CK$18:$CK$1017,$B321,'Daily Log'!$CL$18:$CL$1017),0)","v":0},{"$f":"IFERROR($E321*SUMIF('Daily Log'!$CN$18:$CN$1017,$B321,'Daily Log'!$CO$18:$CO$1017),0)","v":0}]
[null,"JO327 Wu Xiang F.Ball",null,"LLB -LOK LOK STICK",1,0,null,null,null,null,null,null,null,null,null,null,null,null,null,null,null,null,null,null,null,null,null,null,null,null,null,null,null,null,null,{"$f":"IFERROR($E322*SUMIF('Daily Log'!$CK$18:$CK$1017,$B322,'Daily Log'!$CL$18:$CL$1017),0)","v":0},{"$f":"IFERROR($E322*SUMIF('Daily Log'!$CN$18:$CN$1017,$B322,'Daily Log'!$CO$18:$CO$1017),0)","v":0}]
[null,"JO328 Xi Dao Fish Ball",null,"LLB -LOK LOK STICK",1,1,null,null,null,null,null,null,null,null,null,null,null,null,null,null,null,null,null,null,null,null,null,null,null,null,null,null,null,null,null,{"$f":"IFERROR($E323*SUMIF('Daily Log'!$CK$18:$CK$1017,$B323,'Daily Log'!$CL$18:$CL$1017),0)","v":0},{"$f":"IFERROR($E323*SUMIF('Daily Log'!$CN$18:$CN$1017,$B323,'Daily Log'!$CO$18:$CO$1017),0)","v":1}]
[null,"JO329 Fish Ball (S)",null,"LLB -LOK LOK STICK",1,2,null,null,null,null,null,null,null,null,null,null,null,null,null,null,null,null,null,null,null,null,null,null,null,null,null,null,null,null,null,{"$f":"IFERROR($E324*SUMIF('Daily Log'!$CK$18:$CK$1017,$B324,'Daily Log'!$CL$18:$CL$1017),0)","v":1},{"$f":"IFERROR($E324*SUMIF('Daily Log'!$CN$18:$CN$1017,$B324,'Daily Log'!$CO$18:$CO$1017),0)","v":1}]
[null,"JO330 Tofu Fish Ball",null,"LLB -LOK LOK STICK",1,0,null,null,null,null,null,null,null,null,null,null,null,null,null,null,null,null,null,null,null,null,null,null,null,null,null,null,null,null,null,{"$f":"IFERROR($E325*SUMIF('Daily Log'!$CK$18:$CK$1017,$B325,'Daily Log'!$CL$18:$CL$1017),0)","v":0},{"$f":"IFERROR($E325*SUMIF('Daily Log'!$CN$18:$CN$1017,$B325,'Daily Log'!$CO$18:$CO$1017),0)","v":0}]
[null,"JO331 Prawn Ball",null,"LLB -LOK LOK STICK",1,0,null,null,null,null,null,null,null,null,null,null,null,null,null,null,null,null,null,null,null,null,null,null,null,null,null,null,null,null,null,{"$f":"IFERROR($E326*SUMIF('Daily Log'!$CK$18:$CK$1017,$B326,'Daily Log'!$CL$18:$CL$1017),0)","v":0},{"$f":"IFERROR($E326*SUMIF('Daily Log'!$CN$18:$CN$1017,$B326,'Daily Log'!$CO$18:$CO$1017),0)","v":0}]
[null,"JO332 Abalone Slices",null,"LLB -LOK LOK STICK",1,5,null,null,null,null,null,null,null,null,null,null,null,null,null,null,null,null,null,null,null,null,null,null,null,null,null,null,null,null,null,{"$f":"IFERROR($E327*SUMIF('Daily Log'!$CK$18:$CK$1017,$B327,'Daily Log'!$CL$18:$CL$1017),0)","v":0},{"$f":"IFERROR($E327*SUMIF('Daily Log'!$CN$18:$CN$1017,$B327,'Daily Log'!$CO$18:$CO$1017),0)","v":5}]
[null,"JO333 Prawn C. sausage",null,"LLB -LOK LOK STICK",1,0,null,null,null,null,null,null,null,null,null,null,null,null,null,null,null,null,null,null,null,null,null,null,null,null,null,null,null,null,null,{"$f":"IFERROR($E328*SUMIF('Daily Log'!$CK$18:$CK$1017,$B328,'Daily Log'!$CL$18:$CL$1017),0)","v":0},{"$f":"IFERROR($E328*SUMIF('Daily Log'!$CN$18:$CN$1017,$B328,'Daily Log'!$CO$18:$CO$1017),0)","v":0}]
[null,"JO334 FISH BALL BIG",null,"LLB -LOK LOK STICK",1,0,null,null,null,null,null,null,null,null,null,null,null,null,null,null,null,null,null,null,null,null,null,null,null,null,null,null,null,null,null,{"$f":"IFERROR($E329*SUMIF('Daily Log'!$CK$18:$CK$1017,$B329,'Daily Log'!$CL$18:$CL$1017),0)","v":0},{"$f":"IFERROR($E329*SUMIF('Daily Log'!$CN$18:$CN$1017,$B329,'Daily Log'!$CO$18:$CO$1017),0)","v":0}]
[null,"JO335 Tempura Prawn",null,"LLB -LOK LOK STICK",1,0,null,null,null,null,null,null,null,null,null,null,null,null,null,null,null,null,null,null,null,null,null,null,null,null,null,null,null,null,null,{"$f":"IFERROR($E330*SUMIF('Daily Log'!$CK$18:$CK$1017,$B330,'Daily Log'!$CL$18:$CL$1017),0)","v":0},{"$f":"IFERROR($E330*SUMIF('Daily Log'!$CN$18:$CN$1017,$B330,'Daily Log'!$CO$18:$CO$1017),0)","v":0}]
[null,"JO336 Breaded CarbClaw",null,"LLB -LOK LOK STICK",1,1,null,null,null,null,null,null,null,null,null,null,null,null,null,null,null,null,null,null,null,null,null,null,null,null,null,null,null,null,null,{"$f":"IFERROR($E331*SUMIF('Daily Log'!$CK$18:$CK$1017,$B331,'Daily Log'!$CL$18:$CL$1017),0)","v":0},{"$f":"IFERROR($E331*SUMIF('Daily Log'!$CN$18:$CN$1017,$B331,'Daily Log'!$CO$18:$CO$1017),0)","v":1}]
[null,"JO337 C.Shrimp.F.Paste",null,"LLB -LOK LOK STICK",1,0,null,null,null,null,null,null,null,null,null,null,null,null,null,null,null,null,null,null,null,null,null,null,null,null,null,null,null,null,null,{"$f":"IFERROR($E332*SUMIF('Daily Log'!$CK$18:$CK$1017,$B332,'Daily Log'!$CL$18:$CL$1017),0)","v":0},{"$f":"IFERROR($E332*SUMIF('Daily Log'!$CN$18:$CN$1017,$B332,'Daily Log'!$CO$18:$CO$1017),0)","v":0}]
[null,"JO338 Otak Fish Paste",null,"LLB -LOK LOK STICK",1,0,null,null,null,null,null,null,null,null,null,null,null,null,null,null,null,null,null,null,null,null,null,null,null,null,null,null,null,null,null,{"$f":"IFERROR($E333*SUMIF('Daily Log'!$CK$18:$CK$1017,$B333,'Daily Log'!$CL$18:$CL$1017),0)","v":0},{"$f":"IFERROR($E333*SUMIF('Daily Log'!$CN$18:$CN$1017,$B333,'Daily Log'!$CO$18:$CO$1017),0)","v":0}]
[null,"JO339 Salmon Ball",null,"LLB -LOK LOK STICK",1,0,null,null,null,null,null,null,null,null,null,null,null,null,null,null,null,null,null,null,null,null,null,null,null,null,null,null,null,null,null,{"$f":"IFERROR($E334*SUMIF('Daily Log'!$CK$18:$CK$1017,$B334,'Daily Log'!$CL$18:$CL$1017),0)","v":0},{"$f":"IFERROR($E334*SUMIF('Daily Log'!$CN$18:$CN$1017,$B334,'Daily Log'!$CO$18:$CO$1017),0)","v":0}]
[null,"JO340 Fuzhou Fish Ball",null,"LLB -LOK LOK STICK",1,1,null,null,null,null,null,null,null,null,null,null,null,null,null,null,null,null,null,null,null,null,null,null,null,null,null,null,null,null,null,{"$f":"IFERROR($E335*SUMIF('Daily Log'!$CK$18:$CK$1017,$B335,'Daily Log'!$CL$18:$CL$1017),0)","v":0},{"$f":"IFERROR($E335*SUMIF('Daily Log'!$CN$18:$CN$1017,$B335,'Daily Log'!$CO$18:$CO$1017),0)","v":1}]
[null,"JO341 Scallop Ball",null,"LLB -LOK LOK STICK",1,0,null,null,null,null,null,null,null,null,null,null,null,null,null,null,null,null,null,null,null,null,null,null,null,null,null,null,null,null,null,{"$f":"IFERROR($E336*SUMIF('Daily Log'!$CK$18:$CK$1017,$B336,'Daily Log'!$CL$18:$CL$1017),0)","v":0},{"$f":"IFERROR($E336*SUMIF('Daily Log'!$CN$18:$CN$1017,$B336,'Daily Log'!$CO$18:$CO$1017),0)","v":0}]
[null,"JO342 Taiwan C.F. Ball",null,"LLB -LOK LOK STICK",1,0,null,null,null,null,null,null,null,null,null,null,null,null,null,null,null,null,null,null,null,null,null,null,null,null,null,null,null,null,null,{"$f":"IFERROR($E337*SUMIF('Daily Log'!$CK$18:$CK$1017,$B337,'Daily Log'!$CL$18:$CL$1017),0)","v":0},{"$f":"IFERROR($E337*SUMIF('Daily Log'!$CN$18:$CN$1017,$B337,'Daily Log'!$CO$18:$CO$1017),0)","v":0}]
[null,"JO343 Cuttlefish Roll",null,"LLB -LOK LOK STICK",1,2,null,null,null,null,null,null,null,null,null,null,null,null,null,null,null,null,null,null,null,null,null,null,null,null,null,null,null,null,null,{"$f":"IFERROR($E338*SUMIF('Daily Log'!$CK$18:$CK$1017,$B338,'Daily Log'!$CL$18:$CL$1017),0)","v":0},{"$f":"IFERROR($E338*SUMIF('Daily Log'!$CN$18:$CN$1017,$B338,'Daily Log'!$CO$18:$CO$1017),0)","v":2}]
[null,"JO344 M.Seafood Ball",null,"LLB -LOK LOK STICK",1,3,null,null,null,null,null,null,null,null,null,null,null,null,null,null,null,null,null,null,null,null,null,null,null,null,null,null,null,null,null,{"$f":"IFERROR($E339*SUMIF('Daily Log'!$CK$18:$CK$1017,$B339,'Daily Log'!$CL$18:$CL$1017),0)","v":2},{"$f":"IFERROR($E339*SUMIF('Daily Log'!$CN$18:$CN$1017,$B339,'Daily Log'!$CO$18:$CO$1017),0)","v":1}]
[null,"JO345 Cuttlefish",null,"LLB -LOK LOK STICK",1,0,null,null,null,null,null,null,null,null,null,null,null,null,null,null,null,null,null,null,null,null,null,null,null,null,null,null,null,null,null,{"$f":"IFERROR($E340*SUMIF('Daily Log'!$CK$18:$CK$1017,$B340,'Daily Log'!$CL$18:$CL$1017),0)","v":0},{"$f":"IFERROR($E340*SUMIF('Daily Log'!$CN$18:$CN$1017,$B340,'Daily Log'!$CO$18:$CO$1017),0)","v":0}]
[null,"JO346 Shisamo",null,"LLB -LOK LOK STICK",1,0,null,null,null,null,null,null,null,null,null,null,null,null,null,null,null,null,null,null,null,null,null,null,null,null,null,null,null,null,null,{"$f":"IFERROR($E341*SUMIF('Daily Log'!$CK$18:$CK$1017,$B341,'Daily Log'!$CL$18:$CL$1017),0)","v":0},{"$f":"IFERROR($E341*SUMIF('Daily Log'!$CN$18:$CN$1017,$B341,'Daily Log'!$CO$18:$CO$1017),0)","v":0}]
[null,"JO347 Tiger Prawn",null,"LLB -LOK LOK STICK",1,0,null,null,null,null,null,null,null,null,null,null,null,null,null,null,null,null,null,null,null,null,null,null,null,null,null,null,null,null,null,{"$f":"IFERROR($E342*SUMIF('Daily Log'!$CK$18:$CK$1017,$B342,'Daily Log'!$CL$18:$CL$1017),0)","v":0},{"$f":"IFERROR($E342*SUMIF('Daily Log'!$CN$18:$CN$1017,$B342,'Daily Log'!$CO$18:$CO$1017),0)","v":0}]
[null,"JP448 Botton Mushroom",null,"LLB -LOK LOK STICK",1,2,null,null,null,null,null,null,null,null,null,null,null,null,null,null,null,null,null,null,null,null,null,null,null,null,null,null,null,null,null,{"$f":"IFERROR($E343*SUMIF('Daily Log'!$CK$18:$CK$1017,$B343,'Daily Log'!$CL$18:$CL$1017),0)","v":1},{"$f":"IFERROR($E343*SUMIF('Daily Log'!$CN$18:$CN$1017,$B343,'Daily Log'!$CO$18:$CO$1017),0)","v":1}]
[null,"JP449 Kang Kong",null,"LLB -LOK LOK STICK",1,6,null,null,null,null,null,null,null,null,null,null,null,null,null,null,null,null,null,null,null,null,null,null,null,null,null,null,null,null,null,{"$f":"IFERROR($E344*SUMIF('Daily Log'!$CK$18:$CK$1017,$B344,'Daily Log'!$CL$18:$CL$1017),0)","v":1},{"$f":"IFERROR($E344*SUMIF('Daily Log'!$CN$18:$CN$1017,$B344,'Daily Log'!$CO$18:$CO$1017),0)","v":5}]
[null,"JP450 Broccali",null,"LLB -LOK LOK STICK",1,3,null,null,null,null,null,null,null,null,null,null,null,null,null,null,null,null,null,null,null,null,null,null,null,null,null,null,null,null,null,{"$f":"IFERROR($E345*SUMIF('Daily Log'!$CK$18:$CK$1017,$B345,'Daily Log'!$CL$18:$CL$1017),0)","v":0},{"$f":"IFERROR($E345*SUMIF('Daily Log'!$CN$18:$CN$1017,$B345,'Daily Log'!$CO$18:$CO$1017),0)","v":3}]
[null,"JP451 Long Bean",null,"LLB -LOK LOK STICK",1,1,null,null,null,null,null,null,null,null,null,null,null,null,null,null,null,null,null,null,null,null,null,null,null,null,null,null,null,null,null,{"$f":"IFERROR($E346*SUMIF('Daily Log'!$CK$18:$CK$1017,$B346,'Daily Log'!$CL$18:$CL$1017),0)","v":0},{"$f":"IFERROR($E346*SUMIF('Daily Log'!$CN$18:$CN$1017,$B346,'Daily Log'!$CO$18:$CO$1017),0)","v":1}]
[null,"JP452 Fried A.Mushroom",null,"LLB -LOK LOK STICK",1,0,null,null,null,null,null,null,null,null,null,null,null,null,null,null,null,null,null,null,null,null,null,null,null,null,null,null,null,null,null,{"$f":"IFERROR($E347*SUMIF('Daily Log'!$CK$18:$CK$1017,$B347,'Daily Log'!$CL$18:$CL$1017),0)","v":0},{"$f":"IFERROR($E347*SUMIF('Daily Log'!$CN$18:$CN$1017,$B347,'Daily Log'!$CO$18:$CO$1017),0)","v":0}]
[null,"JP453 Shiitake Mushrom",null,"LLB -LOK LOK STICK",1,4,null,null,null,null,null,null,null,null,null,null,null,null,null,null,null,null,null,null,null,null,null,null,null,null,null,null,null,null,null,{"$f":"IFERROR($E348*SUMIF('Daily Log'!$CK$18:$CK$1017,$B348,'Daily Log'!$CL$18:$CL$1017),0)","v":1},{"$f":"IFERROR($E348*SUMIF('Daily Log'!$CN$18:$CN$1017,$B348,'Daily Log'!$CO$18:$CO$1017),0)","v":3}]
[null,"JQ554 M.Fish Eggplant",null,"LLB -LOK LOK STICK",1,0,null,null,null,null,null,null,null,null,null,null,null,null,null,null,null,null,null,null,null,null,null,null,null,null,null,null,null,null,null,{"$f":"IFERROR($E349*SUMIF('Daily Log'!$CK$18:$CK$1017,$B349,'Daily Log'!$CL$18:$CL$1017),0)","v":0},{"$f":"IFERROR($E349*SUMIF('Daily Log'!$CN$18:$CN$1017,$B349,'Daily Log'!$CO$18:$CO$1017),0)","v":0}]
[null,"JQ555 M.Fish Chilli",null,"LLB -LOK LOK STICK",1,0,null,null,null,null,null,null,null,null,null,null,null,null,null,null,null,null,null,null,null,null,null,null,null,null,null,null,null,null,null,{"$f":"IFERROR($E350*SUMIF('Daily Log'!$CK$18:$CK$1017,$B350,'Daily Log'!$CL$18:$CL$1017),0)","v":0},{"$f":"IFERROR($E350*SUMIF('Daily Log'!$CN$18:$CN$1017,$B350,'Daily Log'!$CO$18:$CO$1017),0)","v":0}]
[null,"JQ556 M.Fish Lady's F",null,"LLB -LOK LOK STICK",1,0,null,null,null,null,null,null,null,null,null,null,null,null,null,null,null,null,null,null,null,null,null,null,null,null,null,null,null,null,null,{"$f":"IFERROR($E351*SUMIF('Daily Log'!$CK$18:$CK$1017,$B351,'Daily Log'!$CL$18:$CL$1017),0)","v":0},{"$f":"IFERROR($E351*SUMIF('Daily Log'!$CN$18:$CN$1017,$B351,'Daily Log'!$CO$18:$CO$1017),0)","v":0}]
[null,"JQ557 Chrisy Beabcurd",null,"LLB -LOK LOK STICK",1,3,null,null,null,null,null,null,null,null,null,null,null,null,null,null,null,null,null,null,null,null,null,null,null,null,null,null,null,null,null,{"$f":"IFERROR($E352*SUMIF('Daily Log'!$CK$18:$CK$1017,$B352,'Daily Log'!$CL$18:$CL$1017),0)","v":0},{"$f":"IFERROR($E352*SUMIF('Daily Log'!$CN$18:$CN$1017,$B352,'Daily Log'!$CO$18:$CO$1017),0)","v":3}]
[null,"JQ558 Quail Eggs",null,"LLB -LOK LOK STICK",1,11,null,null,null,null,null,null,null,null,null,null,null,null,null,null,null,null,null,null,null,null,null,null,null,null,null,null,null,null,null,{"$f":"IFERROR($E353*SUMIF('Daily Log'!$CK$18:$CK$1017,$B353,'Daily Log'!$CL$18:$CL$1017),0)","v":0},{"$f":"IFERROR($E353*SUMIF('Daily Log'!$CN$18:$CN$1017,$B353,'Daily Log'!$CO$18:$CO$1017),0)","v":11}]
[null,"JQ559 Fried Wanton",null,"LLB -LOK LOK STICK",1,0,null,null,null,null,null,null,null,null,null,null,null,null,null,null,null,null,null,null,null,null,null,null,null,null,null,null,null,null,null,{"$f":"IFERROR($E354*SUMIF('Daily Log'!$CK$18:$CK$1017,$B354,'Daily Log'!$CL$18:$CL$1017),0)","v":0},{"$f":"IFERROR($E354*SUMIF('Daily Log'!$CN$18:$CN$1017,$B354,'Daily Log'!$CO$18:$CO$1017),0)","v":0}]
[null,"JQ560 L.G.Potato Samos",null,"LLB -LOK LOK STICK",1,0,null,null,null,null,null,null,null,null,null,null,null,null,null,null,null,null,null,null,null,null,null,null,null,null,null,null,null,null,null,{"$f":"IFERROR($E355*SUMIF('Daily Log'!$CK$18:$CK$1017,$B355,'Daily Log'!$CL$18:$CL$1017),0)","v":0},{"$f":"IFERROR($E355*SUMIF('Daily Log'!$CN$18:$CN$1017,$B355,'Daily Log'!$CO$18:$CO$1017),0)","v":0}]
[null,"JQ561 F.Vege Ball",null,"LLB -LOK LOK STICK",1,0,null,null,null,null,null,null,null,null,null,null,null,null,null,null,null,null,null,null,null,null,null,null,null,null,null,null,null,null,null,{"$f":"IFERROR($E356*SUMIF('Daily Log'!$CK$18:$CK$1017,$B356,'Daily Log'!$CL$18:$CL$1017),0)","v":0},{"$f":"IFERROR($E356*SUMIF('Daily Log'!$CN$18:$CN$1017,$B356,'Daily Log'!$CO$18:$CO$1017),0)","v":0}]
[null,"JQ562 Minced Fish Ball",null,"LLB -LOK LOK STICK",1,0,null,null,null,null,null,null,null,null,null,null,null,null,null,null,null,null,null,null,null,null,null,null,null,null,null,null,null,null,null,{"$f":"IFERROR($E357*SUMIF('Daily Log'!$CK$18:$CK$1017,$B357,'Daily Log'!$CL$18:$CL$1017),0)","v":0},{"$f":"IFERROR($E357*SUMIF('Daily Log'!$CN$18:$CN$1017,$B357,'Daily Log'!$CO$18:$CO$1017),0)","v":0}]
[null,"JQ563 Seafood Tofu",null,"LLB -LOK LOK STICK",1,2,null,null,null,null,null,null,null,null,null,null,null,null,null,null,null,null,null,null,null,null,null,null,null,null,null,null,null,null,null,{"$f":"IFERROR($E358*SUMIF('Daily Log'!$CK$18:$CK$1017,$B358,'Daily Log'!$CL$18:$CL$1017),0)","v":0},{"$f":"IFERROR($E358*SUMIF('Daily Log'!$CN$18:$CN$1017,$B358,'Daily Log'!$CO$18:$CO$1017),0)","v":2}]
[null,"JQ564 Spring Roll",null,"LLB -LOK LOK STICK",1,0,null,null,null,null,null,null,null,null,null,null,null,null,null,null,null,null,null,null,null,null,null,null,null,null,null,null,null,null,null,{"$f":"IFERROR($E359*SUMIF('Daily Log'!$CK$18:$CK$1017,$B359,'Daily Log'!$CL$18:$CL$1017),0)","v":0},{"$f":"IFERROR($E359*SUMIF('Daily Log'!$CN$18:$CN$1017,$B359,'Daily Log'!$CO$18:$CO$1017),0)","v":0}]
[null,"JQ565 Quail Century Eg",null,"LLB -LOK LOK STICK",1,2,null,null,null,null,null,null,null,null,null,null,null,null,null,null,null,null,null,null,null,null,null,null,null,null,null,null,null,null,null,{"$f":"IFERROR($E360*SUMIF('Daily Log'!$CK$18:$CK$1017,$B360,'Daily Log'!$CL$18:$CL$1017),0)","v":0},{"$f":"IFERROR($E360*SUMIF('Daily Log'!$CN$18:$CN$1017,$B360,'Daily Log'!$CO$18:$CO$1017),0)","v":2}]
[null,"JQ566 Thai Roll",null,"LLB -LOK LOK STICK",1,1,null,null,null,null,null,null,null,null,null,null,null,null,null,null,null,null,null,null,null,null,null,null,null,null,null,null,null,null,null,{"$f":"IFERROR($E361*SUMIF('Daily Log'!$CK$18:$CK$1017,$B361,'Daily Log'!$CL$18:$CL$1017),0)","v":0},{"$f":"IFERROR($E361*SUMIF('Daily Log'!$CN$18:$CN$1017,$B361,'Daily Log'!$CO$18:$CO$1017),0)","v":1}]
[null,"JQ567 Cheese S.Tofu",null,"LLB -LOK LOK STICK",1,1,null,null,null,null,null,null,null,null,null,null,null,null,null,null,null,null,null,null,null,null,null,null,null,null,null,null,null,null,null,{"$f":"IFERROR($E362*SUMIF('Daily Log'!$CK$18:$CK$1017,$B362,'Daily Log'!$CL$18:$CL$1017),0)","v":0},{"$f":"IFERROR($E362*SUMIF('Daily Log'!$CN$18:$CN$1017,$B362,'Daily Log'!$CO$18:$CO$1017),0)","v":1}]
[null,"JR01 PACKAGE A",null,"LLB -LOK LOK PACKAGE",1,0,null,null,null,null,null,null,null,null,null,null,null,null,null,null,null,null,null,null,null,null,null,null,null,null,null,null,null,null,null,{"$f":"IFERROR($E363*SUMIF('Daily Log'!$CK$18:$CK$1017,$B363,'Daily Log'!$CL$18:$CL$1017),0)","v":0},{"$f":"IFERROR($E363*SUMIF('Daily Log'!$CN$18:$CN$1017,$B363,'Daily Log'!$CO$18:$CO$1017),0)","v":0}]
[null,"JR02 PACKAGE B",null,"LLB -LOK LOK PACKAGE",1,1,null,null,null,null,null,null,null,null,null,null,null,null,null,null,null,null,null,null,null,null,null,null,null,null,null,null,null,null,null,{"$f":"IFERROR($E364*SUMIF('Daily Log'!$CK$18:$CK$1017,$B364,'Daily Log'!$CL$18:$CL$1017),0)","v":1},{"$f":"IFERROR($E364*SUMIF('Daily Log'!$CN$18:$CN$1017,$B364,'Daily Log'!$CO$18:$CO$1017),0)","v":0}]
[null,"JQ568 Rice Skin  Roll",null,"LLB -LOK LOK STICK",1,1,null,null,null,null,null,null,null,null,null,null,null,null,null,null,null,null,null,null,null,null,null,null,null,null,null,null,null,null,null,{"$f":"IFERROR($E365*SUMIF('Daily Log'!$CK$18:$CK$1017,$B365,'Daily Log'!$CL$18:$CL$1017),0)","v":0},{"$f":"IFERROR($E365*SUMIF('Daily Log'!$CN$18:$CN$1017,$B365,'Daily Log'!$CO$18:$CO$1017),0)","v":1}]
[null,null,null,null,null,{"$f":"SUM($G366:$AK366)","v":0},null,null,null,null,null,null,null,null,null,null,null,null,null,null,null,null,null,null,null,null,null,null,null,null,null,null,null,null,null,{"$f":"IFERROR($E366*SUMIF('Daily Log'!$CN$18:$CN$1017,$B366,'Daily Log'!$CO$18:$CO$1017),0)","v":0},{"$f":"IFERROR($E366*SUMIF('Daily Log'!$CN$18:$CN$1017,$B366,'Daily Log'!$CO$18:$CO$1017),0)","v":0}]
[null,null,null,null,null,{"$f":"SUM($G367:$AK367)","v":0},null,null,null,null,null,null,null,null,null,null,null,null,null,null,null,null,null,null,null,null,null,null,null,null,null,null,null,null,null,{"$f":"IFERROR($E367*SUMIF('Daily Log'!$CN$18:$CN$1017,$B367,'Daily Log'!$CO$18:$CO$1017),0)","v":0},{"$f":"IFERROR($E367*SUMIF('[4]Daily Log'!$CN$18:$CN$1017,$B367,'[4]Daily Log'!$CO$18:$CO$1017),0)","v":0}]
[null,null,null,null,null,0,null,null,null,null,null,null,null,null,null,null,null,null,null,null,null,null,null,null,null,null,null,null,null,null,null,null,null,null,null,{"$f":"IFERROR($E368*SUMIF('Daily Log'!$CN$18:$CN$1017,$B368,'Daily Log'!$CO$18:$CO$1017),0)","v":0},{"$f":"IFERROR($E368*SUMIF('[4]Daily Log'!$CN$18:$CN$1017,$B368,'[4]Daily Log'!$CO$18:$CO$1017),0)","v":0}]
[null,null,null,null,null,0,null,null,null,null,null,null,null,null,null,null,null,null,null,null,null,null,null,null,null,null,null,null,null,null,null,null,null,null,null,{"$f":"IFERROR($E369*SUMIF('Daily Log'!$CN$18:$CN$1017,$B369,'Daily Log'!$CO$18:$CO$1017),0)","v":0},{"$f":"IFERROR($E369*SUMIF('[4]Daily Log'!$CN$18:$CN$1017,$B369,'[4]Daily Log'!$CO$18:$CO$1017),0)","v":0}]
[null,null,null,null,null,0,null,null,null,null,null,null,null,null,null,null,null,null,null,null,null,null,null,null,null,null,null,null,null,null,null,null,null,null,null,null,{"$f":"IFERROR($E370*SUMIF('[4]Daily Log'!$CN$18:$CN$1017,$B370,'[4]Daily Log'!$CO$18:$CO$1017),0)","v":0}]
[null,null,null,null,null,0,null,null,null,null,null,null,null,null,null,null,null,null,null,null,null,null,null,null,null,null,null,null,null,null,null,null,null,null,null,null,{"$f":"IFERROR($E371*SUMIF('[4]Daily Log'!$CN$18:$CN$1017,$B371,'[4]Daily Log'!$CO$18:$CO$1017),0)","v":0}]
[null,null,null,null,null,0,null,null,null,null,null,null,null,null,null,null,null,null,null,null,null,null,null,null,null,null,null,null,null,null,null,null,null,null,null,null,{"$f":"IFERROR($E372*SUMIF('[4]Daily Log'!$CN$18:$CN$1017,$B372,'[4]Daily Log'!$CO$18:$CO$1017),0)","v":0}]
[null,null,null,null,null,0,null,null,null,null,null,null,null,null,null,null,null,null,null,null,null,null,null,null,null,null,null,null,null,null,null,null,null,null,null,null,{"$f":"IFERROR($E373*SUMIF('[4]Daily Log'!$CN$18:$CN$1017,$B373,'[4]Daily Log'!$CO$18:$CO$1017),0)","v":0}]
[null,null,null,null,null,0,null,null,null,null,null,null,null,null,null,null,null,null,null,null,null,null,null,null,null,null,null,null,null,null,null,null,null,null,null,null,{"$f":"IFERROR($E374*SUMIF('[4]Daily Log'!$CN$18:$CN$1017,$B374,'[4]Daily Log'!$CO$18:$CO$1017),0)","v":0}]
[null,null,null,null,null,0,null,null,null,null,null,null,null,null,null,null,null,null,null,null,null,null,null,null,null,null,null,null,null,null,null,null,null,null,null,null,{"$f":"IFERROR($E375*SUMIF('[4]Daily Log'!$CN$18:$CN$1017,$B375,'[4]Daily Log'!$CO$18:$CO$1017),0)","v":0}]
[null,null,null,null,null,0,null,null,null,null,null,null,null,null,null,null,null,null,null,null,null,null,null,null,null,null,null,null,null,null,null,null,null,null,null,null,{"$f":"IFERROR($E376*SUMIF('[4]Daily Log'!$CN$18:$CN$1017,$B376,'[4]Daily Log'!$CO$18:$CO$1017),0)","v":0}]
[null,null,null,null,null,0,null,null,null,null,null,null,null,null,null,null,null,null,null,null,null,null,null,null,null,null,null,null,null,null,null,null,null,null,null,null,{"$f":"IFERROR($E377*SUMIF('[4]Daily Log'!$CN$18:$CN$1017,$B377,'[4]Daily Log'!$CO$18:$CO$1017),0)","v":0}]
[null,null,null,null,null,0,null,null,null,null,null,null,null,null,null,null,null,null,null,null,null,null,null,null,null,null,null,null,null,null,null,null,null,null,null,null,{"$f":"IFERROR($E378*SUMIF('[4]Daily Log'!$CN$18:$CN$1017,$B378,'[4]Daily Log'!$CO$18:$CO$1017),0)","v":0}]
[null,null,null,null,null,0,null,null,null,null,null,null,null,null,null,null,null,null,null,null,null,null,null,null,null,null,null,null,null,null,null,null,null,null,null,null,{"$f":"IFERROR($E379*SUMIF('[4]Daily Log'!$CN$18:$CN$1017,$B379,'[4]Daily Log'!$CO$18:$CO$1017),0)","v":0}]
[null,null,null,null,null,0,null,null,null,null,null,null,null,null,null,null,null,null,null,null,null,null,null,null,null,null,null,null,null,null,null,null,null,null,null,null,{"$f":"IFERROR($E380*SUMIF('[4]Daily Log'!$CN$18:$CN$1017,$B380,'[4]Daily Log'!$CO$18:$CO$1017),0)","v":0}]
[null,null,null,null,null,0,null,null,null,null,null,null,null,null,null,null,null,null,null,null,null,null,null,null,null,null,null,null,null,null,null,null,null,null,null,null,{"$f":"IFERROR($E381*SUMIF('[4]Daily Log'!$CN$18:$CN$1017,$B381,'[4]Daily Log'!$CO$18:$CO$1017),0)","v":0}]
[null,null,null,null,null,0,null,null,null,null,null,null,null,null,null,null,null,null,null,null,null,null,null,null,null,null,null,null,null,null,null,null,null,null,null,null,{"$f":"IFERROR($E382*SUMIF('[4]Daily Log'!$CN$18:$CN$1017,$B382,'[4]Daily Log'!$CO$18:$CO$1017),0)","v":0}]
[null,null,null,null,null,0,null,null,null,null,null,null,null,null,null,null,null,null,null,null,null,null,null,null,null,null,null,null,null,null,null,null,null,null,null,null,{"$f":"IFERROR($E383*SUMIF('[4]Daily Log'!$CN$18:$CN$1017,$B383,'[4]Daily Log'!$CO$18:$CO$1017),0)","v":0}]
[null,null,null,null,null,0,null,null,null,null,null,null,null,null,null,null,null,null,null,null,null,null,null,null,null,null,null,null,null,null,null,null,null,null,null,null,{"$f":"IFERROR($E384*SUMIF('[4]Daily Log'!$CN$18:$CN$1017,$B384,'[4]Daily Log'!$CO$18:$CO$1017),0)","v":0}]
[null,null,null,null,null,0,null,null,null,null,null,null,null,null,null,null,null,null,null,null,null,null,null,null,null,null,null,null,null,null,null,null,null,null,null,null,{"$f":"IFERROR($E385*SUMIF('[4]Daily Log'!$CN$18:$CN$1017,$B385,'[4]Daily Log'!$CO$18:$CO$1017),0)","v":0}]
[null,null,null,null,null,0,null,null,null,null,null,null,null,null,null,null,null,null,null,null,null,null,null,null,null,null,null,null,null,null,null,null,null,null,null,null,{"$f":"IFERROR($E386*SUMIF('[4]Daily Log'!$CN$18:$CN$1017,$B386,'[4]Daily Log'!$CO$18:$CO$1017),0)","v":0}]
[null,null,null,null,null,0,null,null,null,null,null,null,null,null,null,null,null,null,null,null,null,null,null,null,null,null,null,null,null,null,null,null,null,null,null,null,{"$f":"IFERROR($E387*SUMIF('[4]Daily Log'!$CN$18:$CN$1017,$B387,'[4]Daily Log'!$CO$18:$CO$1017),0)","v":0}]
[null,null,null,null,null,0,null,null,null,null,null,null,null,null,null,null,null,null,null,null,null,null,null,null,null,null,null,null,null,null,null,null,null,null,null,null,{"$f":"IFERROR($E388*SUMIF('[4]Daily Log'!$CN$18:$CN$1017,$B388,'[4]Daily Log'!$CO$18:$CO$1017),0)","v":0}]
[null,null,null,null,null,0,null,null,null,null,null,null,null,null,null,null,null,null,null,null,null,null,null,null,null,null,null,null,null,null,null,null,null,null,null,null,{"$f":"IFERROR($E389*SUMIF('[4]Daily Log'!$CN$18:$CN$1017,$B389,'[4]Daily Log'!$CO$18:$CO$1017),0)","v":0}]
[null,null,null,null,null,0,null,null,null,null,null,null,null,null,null,null,null,null,null,null,null,null,null,null,null,null,null,null,null,null,null,null,null,null,null,null,{"$f":"IFERROR($E390*SUMIF('[4]Daily Log'!$CN$18:$CN$1017,$B390,'[4]Daily Log'!$CO$18:$CO$1017),0)","v":0}]
[null,null,null,null,null,0,null,null,null,null,null,null,null,null,null,null,null,null,null,null,null,null,null,null,null,null,null,null,null,null,null,null,null,null,null,null,{"$f":"IFERROR($E391*SUMIF('[4]Daily Log'!$CN$18:$CN$1017,$B391,'[4]Daily Log'!$CO$18:$CO$1017),0)","v":0}]
[null,null,null,null,null,0,null,null,null,null,null,null,null,null,null,null,null,null,null,null,null,null,null,null,null,null,null,null,null,null,null,null,null,null,null,null,{"$f":"IFERROR($E392*SUMIF('[4]Daily Log'!$CN$18:$CN$1017,$B392,'[4]Daily Log'!$CO$18:$CO$1017),0)","v":0}]
[null,null,null,null,null,0,null,null,null,null,null,null,null,null,null,null,null,null,null,null,null,null,null,null,null,null,null,null,null,null,null,null,null,null,null,null,{"$f":"IFERROR($E393*SUMIF('[4]Daily Log'!$CN$18:$CN$1017,$B393,'[4]Daily Log'!$CO$18:$CO$1017),0)","v":0}]
[null,null,null,null,null,0,null,null,null,null,null,null,null,null,null,null,null,null,null,null,null,null,null,null,null,null,null,null,null,null,null,null,null,null,null,null,{"$f":"IFERROR($E394*SUMIF('[4]Daily Log'!$CN$18:$CN$1017,$B394,'[4]Daily Log'!$CO$18:$CO$1017),0)","v":0}]
[null,null,null,null,null,0,null,null,null,null,null,null,null,null,null,null,null,null,null,null,null,null,null,null,null,null,null,null,null,null,null,null,null,null,null,null,{"$f":"IFERROR($E395*SUMIF('[4]Daily Log'!$CN$18:$CN$1017,$B395,'[4]Daily Log'!$CO$18:$CO$1017),0)","v":0}]
[null,null,null,null,null,0,null,null,null,null,null,null,null,null,null,null,null,null,null,null,null,null,null,null,null,null,null,null,null,null,null,null,null,null,null,null,{"$f":"IFERROR($E396*SUMIF('[4]Daily Log'!$CN$18:$CN$1017,$B396,'[4]Daily Log'!$CO$18:$CO$1017),0)","v":0}]
[null,null,null,null,null,0,null,null,null,null,null,null,null,null,null,null,null,null,null,null,null,null,null,null,null,null,null,null,null,null,null,null,null,null,null,null,{"$f":"IFERROR($E397*SUMIF('[4]Daily Log'!$CN$18:$CN$1017,$B397,'[4]Daily Log'!$CO$18:$CO$1017),0)","v":0}]
[null,null,null,null,null,0,null,null,null,null,null,null,null,null,null,null,null,null,null,null,null,null,null,null,null,null,null,null,null,null,null,null,null,null,null,null,{"$f":"IFERROR($E398*SUMIF('[4]Daily Log'!$CN$18:$CN$1017,$B398,'[4]Daily Log'!$CO$18:$CO$1017),0)","v":0}]
[null,null,null,null,null,0,null,null,null,null,null,null,null,null,null,null,null,null,null,null,null,null,null,null,null,null,null,null,null,null,null,null,null,null,null,null,{"$f":"IFERROR($E399*SUMIF('[4]Daily Log'!$CN$18:$CN$1017,$B399,'[4]Daily Log'!$CO$18:$CO$1017),0)","v":0}]
[null,null,null,null,null,0,null,null,null,null,null,null,null,null,null,null,null,null,null,null,null,null,null,null,null,null,null,null,null,null,null,null,null,null,null,null,{"$f":"IFERROR($E400*SUMIF('[4]Daily Log'!$CN$18:$CN$1017,$B400,'[4]Daily Log'!$CO$18:$CO$1017),0)","v":0}]
[null,null,null,null,null,0,null,null,null,null,null,null,null,null,null,null,null,null,null,null,null,null,null,null,null,null,null,null,null,null,null,null,null,null,null,null,{"$f":"IFERROR($E401*SUMIF('[4]Daily Log'!$CN$18:$CN$1017,$B401,'[4]Daily Log'!$CO$18:$CO$1017),0)","v":0}]
[null,null,null,null,null,0,null,null,null,null,null,null,null,null,null,null,null,null,null,null,null,null,null,null,null,null,null,null,null,null,null,null,null,null,null,null,{"$f":"IFERROR($E402*SUMIF('[4]Daily Log'!$CN$18:$CN$1017,$B402,'[4]Daily Log'!$CO$18:$CO$1017),0)","v":0}]
[null,null,null,null,null,0,null,null,null,null,null,null,null,null,null,null,null,null,null,null,null,null,null,null,null,null,null,null,null,null,null,null,null,null,null,null,{"$f":"IFERROR($E403*SUMIF('[4]Daily Log'!$CN$18:$CN$1017,$B403,'[4]Daily Log'!$CO$18:$CO$1017),0)","v":0}]
[null,null,null,null,null,0,null,null,null,null,null,null,null,null,null,null,null,null,null,null,null,null,null,null,null,null,null,null,null,null,null,null,null,null,null,null,{"$f":"IFERROR($E404*SUMIF('[4]Daily Log'!$CN$18:$CN$1017,$B404,'[4]Daily Log'!$CO$18:$CO$1017),0)","v":0}]
[null,null,null,null,null,0,null,null,null,null,null,null,null,null,null,null,null,null,null,null,null,null,null,null,null,null,null,null,null,null,null,null,null,null,null,null,{"$f":"IFERROR($E405*SUMIF('[4]Daily Log'!$CN$18:$CN$1017,$B405,'[4]Daily Log'!$CO$18:$CO$1017),0)","v":0}]
[null,null,null,null,null,0,null,null,null,null,null,null,null,null,null,null,null,null,null,null,null,null,null,null,null,null,null,null,null,null,null,null,null,null,null,null,{"$f":"IFERROR($E406*SUMIF('[4]Daily Log'!$CN$18:$CN$1017,$B406,'[4]Daily Log'!$CO$18:$CO$1017),0)","v":0}]
[null,null,null,null,null,0,null,null,null,null,null,null,null,null,null,null,null,null,null,null,null,null,null,null,null,null,null,null,null,null,null,null,null,null,null,null,{"$f":"IFERROR($E407*SUMIF('[4]Daily Log'!$CN$18:$CN$1017,$B407,'[4]Daily Log'!$CO$18:$CO$1017),0)","v":0}]
[null,null,null,null,null,0,null,null,null,null,null,null,null,null,null,null,null,null,null,null,null,null,null,null,null,null,null,null,null,null,null,null,null,null,null,null,{"$f":"IFERROR($E408*SUMIF('[4]Daily Log'!$CN$18:$CN$1017,$B408,'[4]Daily Log'!$CO$18:$CO$1017),0)","v":0}]
[null,null,null,null,null,{"$f":"SUM($G409:$AK409)","v":0},null,null,null,null,null,null,null,null,null,null,null,null,null,null,null,null,null,null,null,null,null,null,null,null,null,null,null,null,null,null,{"$f":"IFERROR($E409*SUMIF('[4]Daily Log'!$CN$18:$CN$1017,$B409,'[4]Daily Log'!$CO$18:$CO$1017),0)","v":0}]
[null,null,null,null,null,0,null,null,null,null,null,null,null,null,null,null,null,null,null,null,null,null,null,null,null,null,null,null,null,null,null,null,null,null,null,null,{"$f":"IFERROR($E410*SUMIF('[4]Daily Log'!$CN$18:$CN$1017,$B410,'[4]Daily Log'!$CO$18:$CO$1017),0)","v":0}]
[null,null,null,null,null,0,null,null,null,null,null,null,null,null,null,null,null,null,null,null,null,null,null,null,null,null,null,null,null,null,null,null,null,null,null,null,{"$f":"IFERROR($E411*SUMIF('[4]Daily Log'!$CN$18:$CN$1017,$B411,'[4]Daily Log'!$CO$18:$CO$1017),0)","v":0}]
[null,null,null,null,null,0,null,null,null,null,null,null,null,null,null,null,null,null,null,null,null,null,null,null,null,null,null,null,null,null,null,null,null,null,null,null,{"$f":"IFERROR($E412*SUMIF('[4]Daily Log'!$CN$18:$CN$1017,$B412,'[4]Daily Log'!$CO$18:$CO$1017),0)","v":0}]
[null,null,null,null,null,0,null,null,null,null,null,null,null,null,null,null,null,null,null,null,null,null,null,null,null,null,null,null,null,null,null,null,null,null,null,null,{"$f":"IFERROR($E413*SUMIF('[4]Daily Log'!$CN$18:$CN$1017,$B413,'[4]Daily Log'!$CO$18:$CO$1017),0)","v":0}]
[null,null,null,null,null,0,null,null,null,null,null,null,null,null,null,null,null,null,null,null,null,null,null,null,null,null,null,null,null,null,null,null,null,null,null,null,{"$f":"IFERROR($E414*SUMIF('[4]Daily Log'!$CN$18:$CN$1017,$B414,'[4]Daily Log'!$CO$18:$CO$1017),0)","v":0}]
[null,null,null,null,null,0,null,null,null,null,null,null,null,null,null,null,null,null,null,null,null,null,null,null,null,null,null,null,null,null,null,null,null,null,null,null,{"$f":"IFERROR($E415*SUMIF('[4]Daily Log'!$CN$18:$CN$1017,$B415,'[4]Daily Log'!$CO$18:$CO$1017),0)","v":0}]
[null,null,null,null,null,0,null,null,null,null,null,null,null,null,null,null,null,null,null,null,null,null,null,null,null,null,null,null,null,null,null,null,null,null,null,null,{"$f":"IFERROR($E416*SUMIF('[4]Daily Log'!$CN$18:$CN$1017,$B416,'[4]Daily Log'!$CO$18:$CO$1017),0)","v":0}]
[null,null,null,null,null,0,null,null,null,null,null,null,null,null,null,null,null,null,null,null,null,null,null,null,null,null,null,null,null,null,null,null,null,null,null,null,{"$f":"IFERROR($E417*SUMIF('[4]Daily Log'!$CN$18:$CN$1017,$B417,'[4]Daily Log'!$CO$18:$CO$1017),0)","v":0}]
[null,null,null,null,null,0,null,null,null,null,null,null,null,null,null,null,null,null,null,null,null,null,null,null,null,null,null,null,null,null,null,null,null,null,null,null,{"$f":"IFERROR($E418*SUMIF('[4]Daily Log'!$CN$18:$CN$1017,$B418,'[4]Daily Log'!$CO$18:$CO$1017),0)","v":0}]
[null,null,null,null,null,0,null,null,null,null,null,null,null,null,null,null,null,null,null,null,null,null,null,null,null,null,null,null,null,null,null,null,null,null,null,null,{"$f":"IFERROR($E419*SUMIF('[4]Daily Log'!$CN$18:$CN$1017,$B419,'[4]Daily Log'!$CO$18:$CO$1017),0)","v":0}]
[null,null,null,null,null,0,null,null,null,null,null,null,null,null,null,null,null,null,null,null,null,null,null,null,null,null,null,null,null,null,null,null,null,null,null,null,{"$f":"IFERROR($E420*SUMIF('[4]Daily Log'!$CN$18:$CN$1017,$B420,'[4]Daily Log'!$CO$18:$CO$1017),0)","v":0}]
[null,null,null,null,null,0,null,null,null,null,null,null,null,null,null,null,null,null,null,null,null,null,null,null,null,null,null,null,null,null,null,null,null,null,null,null,{"$f":"IFERROR($E421*SUMIF('[4]Daily Log'!$CN$18:$CN$1017,$B421,'[4]Daily Log'!$CO$18:$CO$1017),0)","v":0}]
[null,null,null,null,null,0,null,null,null,null,null,null,null,null,null,null,null,null,null,null,null,null,null,null,null,null,null,null,null,null,null,null,null,null,null,null,{"$f":"IFERROR($E422*SUMIF('[4]Daily Log'!$CN$18:$CN$1017,$B422,'[4]Daily Log'!$CO$18:$CO$1017),0)","v":0}]
[null,null,null,null,null,0,{"$f":"IFERROR($E423*SUMIF('[4]Daily Log'!$B$18:$B$1017,$B423,'[4]Daily Log'!$C$18:$C$1017),0)","v":0},{"$f":"IFERROR($E423*SUMIF('[4]Daily Log'!$E$18:$E$1017,$B423,'[4]Daily Log'!$F$18:$F$1017),0)","v":0},{"$f":"IFERROR($E423*SUMIF('[4]Daily Log'!$H$18:$H$1017,$B423,'[4]Daily Log'!$I$18:$I$1017),0)","v":0},{"$f":"IFERROR($E423*SUMIF('[4]Daily Log'!$K$18:$K$1017,$B423,'[4]Daily Log'!$L$18:$L$1017),0)","v":0},{"$f":"IFERROR($E423*SUMIF('[4]Daily Log'!$N$18:$N$1017,$B423,'[4]Daily Log'!$O$18:$O$1017),0)","v":0},{"$f":"IFERROR($E423*SUMIF('[4]Daily Log'!$Q$18:$Q$1017,$B423,'[4]Daily Log'!$R$18:$R$1017),0)","v":0},{"$f":"IFERROR($E423*SUMIF('[4]Daily Log'!$T$18:$T$1017,$B423,'[4]Daily Log'!$U$18:$U$1017),0)","v":0},{"$f":"IFERROR($E423*SUMIF('[4]Daily Log'!$W$18:$W$1017,$B423,'[4]Daily Log'!$X$18:$X$1017),0)","v":0},{"$f":"IFERROR($E423*SUMIF('[4]Daily Log'!$Z$18:$Z$1017,$B423,'[4]Daily Log'!$AA$18:$AA$1017),0)","v":0},{"$f":"IFERROR($E423*SUMIF('[4]Daily Log'!$AC$18:$AC$1017,$B423,'[4]Daily Log'!$AD$18:$AD$1017),0)","v":0},{"$f":"IFERROR($E423*SUMIF('[4]Daily Log'!$AF$18:$AF$1017,$B423,'[4]Daily Log'!$AG$18:$AG$1017),0)","v":0},{"$f":"IFERROR($E423*SUMIF('[4]Daily Log'!$AI$18:$AI$1017,$B423,'[4]Daily Log'!$AJ$18:$AJ$1017),0)","v":0},{"$f":"IFERROR($E423*SUMIF('[4]Daily Log'!$AL$18:$AL$1017,$B423,'[4]Daily Log'!$AM$18:$AM$1017),0)","v":0},{"$f":"IFERROR($E423*SUMIF('[4]Daily Log'!$AO$18:$AO$1017,$B423,'[4]Daily Log'!$AP$18:$AP$1017),0)","v":0},{"$f":"IFERROR($E423*SUMIF('[4]Daily Log'!$AR$18:$AR$1017,$B423,'[4]Daily Log'!$AS$18:$AS$1017),0)","v":0},{"$f":"IFERROR($E423*SUMIF('[4]Daily Log'!$AU$18:$AU$1017,$B423,'[4]Daily Log'!$AV$18:$AV$1017),0)","v":0},{"$f":"IFERROR($E423*SUMIF('[4]Daily Log'!$AX$18:$AX$1017,$B423,'[4]Daily Log'!$AY$18:$AY$1017),0)","v":0},{"$f":"IFERROR($E423*SUMIF('[4]Daily Log'!$BA$18:$BA$1017,$B423,'[4]Daily Log'!$BB$18:$BB$1017),0)","v":0},{"$f":"IFERROR($E423*SUMIF('[4]Daily Log'!$BD$18:$BD$1017,$B423,'[4]Daily Log'!$BE$18:$BE$1017),0)","v":0},{"$f":"IFERROR($E423*SUMIF('[4]Daily Log'!$BG$18:$BG$1017,$B423,'[4]Daily Log'!$BH$18:$BH$1017),0)","v":0},{"$f":"IFERROR($E423*SUMIF('[4]Daily Log'!$BJ$18:$BJ$1017,$B423,'[4]Daily Log'!$BK$18:$BK$1017),0)","v":0},{"$f":"IFERROR($E423*SUMIF('[4]Daily Log'!$BM$18:$BM$1017,$B423,'[4]Daily Log'!$BN$18:$BN$1017),0)","v":0},{"$f":"IFERROR($E423*SUMIF('[4]Daily Log'!$BP$18:$BP$1017,$B423,'[4]Daily Log'!$BQ$18:$BQ$1017),0)","v":0},{"$f":"IFERROR($E423*SUMIF('[4]Daily Log'!$BS$18:$BS$1017,$B423,'[4]Daily Log'!$BT$18:$BT$1017),0)","v":0},{"$f":"IFERROR($E423*SUMIF('[4]Daily Log'!$BV$18:$BV$1017,$B423,'[4]Daily Log'!$BW$18:$BW$1017),0)","v":0},{"$f":"IFERROR($E423*SUMIF('[4]Daily Log'!$BY$18:$BY$1017,$B423,'[4]Daily Log'!$BZ$18:$BZ$1017),0)","v":0},{"$f":"IFERROR($E423*SUMIF('[4]Daily Log'!$CB$18:$CB$1017,$B423,'[4]Daily Log'!$CC$18:$CC$1017),0)","v":0},{"$f":"IFERROR($E423*SUMIF('[4]Daily Log'!$CE$18:$CE$1017,$B423,'[4]Daily Log'!$CF$18:$CF$1017),0)","v":0},{"$f":"IFERROR($E423*SUMIF('[4]Daily Log'!$CH$18:$CH$1017,$B423,'[4]Daily Log'!$CI$18:$CI$1017),0)","v":0},{"$f":"IFERROR($E423*SUMIF('[4]Daily Log'!$CK$18:$CK$1017,$B423,'[4]Daily Log'!$CL$18:$CL$1017),0)","v":0},{"$f":"IFERROR($E423*SUMIF('[4]Daily Log'!$CN$18:$CN$1017,$B423,'[4]Daily Log'!$CO$18:$CO$1017),0)","v":0}]
[null,null,null,null,null,0,{"$f":"IFERROR($E424*SUMIF('[4]Daily Log'!$B$18:$B$1017,$B424,'[4]Daily Log'!$C$18:$C$1017),0)","v":0},{"$f":"IFERROR($E424*SUMIF('[4]Daily Log'!$E$18:$E$1017,$B424,'[4]Daily Log'!$F$18:$F$1017),0)","v":0},{"$f":"IFERROR($E424*SUMIF('[4]Daily Log'!$H$18:$H$1017,$B424,'[4]Daily Log'!$I$18:$I$1017),0)","v":0},{"$f":"IFERROR($E424*SUMIF('[4]Daily Log'!$K$18:$K$1017,$B424,'[4]Daily Log'!$L$18:$L$1017),0)","v":0},{"$f":"IFERROR($E424*SUMIF('[4]Daily Log'!$N$18:$N$1017,$B424,'[4]Daily Log'!$O$18:$O$1017),0)","v":0},{"$f":"IFERROR($E424*SUMIF('[4]Daily Log'!$Q$18:$Q$1017,$B424,'[4]Daily Log'!$R$18:$R$1017),0)","v":0},{"$f":"IFERROR($E424*SUMIF('[4]Daily Log'!$T$18:$T$1017,$B424,'[4]Daily Log'!$U$18:$U$1017),0)","v":0},{"$f":"IFERROR($E424*SUMIF('[4]Daily Log'!$W$18:$W$1017,$B424,'[4]Daily Log'!$X$18:$X$1017),0)","v":0},{"$f":"IFERROR($E424*SUMIF('[4]Daily Log'!$Z$18:$Z$1017,$B424,'[4]Daily Log'!$AA$18:$AA$1017),0)","v":0},{"$f":"IFERROR($E424*SUMIF('[4]Daily Log'!$AC$18:$AC$1017,$B424,'[4]Daily Log'!$AD$18:$AD$1017),0)","v":0},{"$f":"IFERROR($E424*SUMIF('[4]Daily Log'!$AF$18:$AF$1017,$B424,'[4]Daily Log'!$AG$18:$AG$1017),0)","v":0},{"$f":"IFERROR($E424*SUMIF('[4]Daily Log'!$AI$18:$AI$1017,$B424,'[4]Daily Log'!$AJ$18:$AJ$1017),0)","v":0},{"$f":"IFERROR($E424*SUMIF('[4]Daily Log'!$AL$18:$AL$1017,$B424,'[4]Daily Log'!$AM$18:$AM$1017),0)","v":0},{"$f":"IFERROR($E424*SUMIF('[4]Daily Log'!$AO$18:$AO$1017,$B424,'[4]Daily Log'!$AP$18:$AP$1017),0)","v":0},{"$f":"IFERROR($E424*SUMIF('[4]Daily Log'!$AR$18:$AR$1017,$B424,'[4]Daily Log'!$AS$18:$AS$1017),0)","v":0},{"$f":"IFERROR($E424*SUMIF('[4]Daily Log'!$AU$18:$AU$1017,$B424,'[4]Daily Log'!$AV$18:$AV$1017),0)","v":0},{"$f":"IFERROR($E424*SUMIF('[4]Daily Log'!$AX$18:$AX$1017,$B424,'[4]Daily Log'!$AY$18:$AY$1017),0)","v":0},{"$f":"IFERROR($E424*SUMIF('[4]Daily Log'!$BA$18:$BA$1017,$B424,'[4]Daily Log'!$BB$18:$BB$1017),0)","v":0},{"$f":"IFERROR($E424*SUMIF('[4]Daily Log'!$BD$18:$BD$1017,$B424,'[4]Daily Log'!$BE$18:$BE$1017),0)","v":0},{"$f":"IFERROR($E424*SUMIF('[4]Daily Log'!$BG$18:$BG$1017,$B424,'[4]Daily Log'!$BH$18:$BH$1017),0)","v":0},{"$f":"IFERROR($E424*SUMIF('[4]Daily Log'!$BJ$18:$BJ$1017,$B424,'[4]Daily Log'!$BK$18:$BK$1017),0)","v":0},{"$f":"IFERROR($E424*SUMIF('[4]Daily Log'!$BM$18:$BM$1017,$B424,'[4]Daily Log'!$BN$18:$BN$1017),0)","v":0},{"$f":"IFERROR($E424*SUMIF('[4]Daily Log'!$BP$18:$BP$1017,$B424,'[4]Daily Log'!$BQ$18:$BQ$1017),0)","v":0},{"$f":"IFERROR($E424*SUMIF('[4]Daily Log'!$BS$18:$BS$1017,$B424,'[4]Daily Log'!$BT$18:$BT$1017),0)","v":0},{"$f":"IFERROR($E424*SUMIF('[4]Daily Log'!$BV$18:$BV$1017,$B424,'[4]Daily Log'!$BW$18:$BW$1017),0)","v":0},{"$f":"IFERROR($E424*SUMIF('[4]Daily Log'!$BY$18:$BY$1017,$B424,'[4]Daily Log'!$BZ$18:$BZ$1017),0)","v":0},{"$f":"IFERROR($E424*SUMIF('[4]Daily Log'!$CB$18:$CB$1017,$B424,'[4]Daily Log'!$CC$18:$CC$1017),0)","v":0},{"$f":"IFERROR($E424*SUMIF('[4]Daily Log'!$CE$18:$CE$1017,$B424,'[4]Daily Log'!$CF$18:$CF$1017),0)","v":0},{"$f":"IFERROR($E424*SUMIF('[4]Daily Log'!$CH$18:$CH$1017,$B424,'[4]Daily Log'!$CI$18:$CI$1017),0)","v":0},{"$f":"IFERROR($E424*SUMIF('[4]Daily Log'!$CK$18:$CK$1017,$B424,'[4]Daily Log'!$CL$18:$CL$1017),0)","v":0},{"$f":"IFERROR($E424*SUMIF('[4]Daily Log'!$CN$18:$CN$1017,$B424,'[4]Daily Log'!$CO$18:$CO$1017),0)","v":0}]
[null,null,null,null,null,0,{"$f":"IFERROR($E425*SUMIF('[4]Daily Log'!$B$18:$B$1017,$B425,'[4]Daily Log'!$C$18:$C$1017),0)","v":0},{"$f":"IFERROR($E425*SUMIF('[4]Daily Log'!$E$18:$E$1017,$B425,'[4]Daily Log'!$F$18:$F$1017),0)","v":0},{"$f":"IFERROR($E425*SUMIF('[4]Daily Log'!$H$18:$H$1017,$B425,'[4]Daily Log'!$I$18:$I$1017),0)","v":0},{"$f":"IFERROR($E425*SUMIF('[4]Daily Log'!$K$18:$K$1017,$B425,'[4]Daily Log'!$L$18:$L$1017),0)","v":0},{"$f":"IFERROR($E425*SUMIF('[4]Daily Log'!$N$18:$N$1017,$B425,'[4]Daily Log'!$O$18:$O$1017),0)","v":0},{"$f":"IFERROR($E425*SUMIF('[4]Daily Log'!$Q$18:$Q$1017,$B425,'[4]Daily Log'!$R$18:$R$1017),0)","v":0},{"$f":"IFERROR($E425*SUMIF('[4]Daily Log'!$T$18:$T$1017,$B425,'[4]Daily Log'!$U$18:$U$1017),0)","v":0},{"$f":"IFERROR($E425*SUMIF('[4]Daily Log'!$W$18:$W$1017,$B425,'[4]Daily Log'!$X$18:$X$1017),0)","v":0},{"$f":"IFERROR($E425*SUMIF('[4]Daily Log'!$Z$18:$Z$1017,$B425,'[4]Daily Log'!$AA$18:$AA$1017),0)","v":0},{"$f":"IFERROR($E425*SUMIF('[4]Daily Log'!$AC$18:$AC$1017,$B425,'[4]Daily Log'!$AD$18:$AD$1017),0)","v":0},{"$f":"IFERROR($E425*SUMIF('[4]Daily Log'!$AF$18:$AF$1017,$B425,'[4]Daily Log'!$AG$18:$AG$1017),0)","v":0},{"$f":"IFERROR($E425*SUMIF('[4]Daily Log'!$AI$18:$AI$1017,$B425,'[4]Daily Log'!$AJ$18:$AJ$1017),0)","v":0},{"$f":"IFERROR($E425*SUMIF('[4]Daily Log'!$AL$18:$AL$1017,$B425,'[4]Daily Log'!$AM$18:$AM$1017),0)","v":0},{"$f":"IFERROR($E425*SUMIF('[4]Daily Log'!$AO$18:$AO$1017,$B425,'[4]Daily Log'!$AP$18:$AP$1017),0)","v":0},{"$f":"IFERROR($E425*SUMIF('[4]Daily Log'!$AR$18:$AR$1017,$B425,'[4]Daily Log'!$AS$18:$AS$1017),0)","v":0},{"$f":"IFERROR($E425*SUMIF('[4]Daily Log'!$AU$18:$AU$1017,$B425,'[4]Daily Log'!$AV$18:$AV$1017),0)","v":0},{"$f":"IFERROR($E425*SUMIF('[4]Daily Log'!$AX$18:$AX$1017,$B425,'[4]Daily Log'!$AY$18:$AY$1017),0)","v":0},{"$f":"IFERROR($E425*SUMIF('[4]Daily Log'!$BA$18:$BA$1017,$B425,'[4]Daily Log'!$BB$18:$BB$1017),0)","v":0},{"$f":"IFERROR($E425*SUMIF('[4]Daily Log'!$BD$18:$BD$1017,$B425,'[4]Daily Log'!$BE$18:$BE$1017),0)","v":0},{"$f":"IFERROR($E425*SUMIF('[4]Daily Log'!$BG$18:$BG$1017,$B425,'[4]Daily Log'!$BH$18:$BH$1017),0)","v":0},{"$f":"IFERROR($E425*SUMIF('[4]Daily Log'!$BJ$18:$BJ$1017,$B425,'[4]Daily Log'!$BK$18:$BK$1017),0)","v":0},{"$f":"IFERROR($E425*SUMIF('[4]Daily Log'!$BM$18:$BM$1017,$B425,'[4]Daily Log'!$BN$18:$BN$1017),0)","v":0},{"$f":"IFERROR($E425*SUMIF('[4]Daily Log'!$BP$18:$BP$1017,$B425,'[4]Daily Log'!$BQ$18:$BQ$1017),0)","v":0},{"$f":"IFERROR($E425*SUMIF('[4]Daily Log'!$BS$18:$BS$1017,$B425,'[4]Daily Log'!$BT$18:$BT$1017),0)","v":0},{"$f":"IFERROR($E425*SUMIF('[4]Daily Log'!$BV$18:$BV$1017,$B425,'[4]Daily Log'!$BW$18:$BW$1017),0)","v":0},{"$f":"IFERROR($E425*SUMIF('[4]Daily Log'!$BY$18:$BY$1017,$B425,'[4]Daily Log'!$BZ$18:$BZ$1017),0)","v":0},{"$f":"IFERROR($E425*SUMIF('[4]Daily Log'!$CB$18:$CB$1017,$B425,'[4]Daily Log'!$CC$18:$CC$1017),0)","v":0},{"$f":"IFERROR($E425*SUMIF('[4]Daily Log'!$CE$18:$CE$1017,$B425,'[4]Daily Log'!$CF$18:$CF$1017),0)","v":0},{"$f":"IFERROR($E425*SUMIF('[4]Daily Log'!$CH$18:$CH$1017,$B425,'[4]Daily Log'!$CI$18:$CI$1017),0)","v":0},{"$f":"IFERROR($E425*SUMIF('[4]Daily Log'!$CK$18:$CK$1017,$B425,'[4]Daily Log'!$CL$18:$CL$1017),0)","v":0},{"$f":"IFERROR($E425*SUMIF('[4]Daily Log'!$CN$18:$CN$1017,$B425,'[4]Daily Log'!$CO$18:$CO$1017),0)","v":0}]
[null,null,null,null,null,0,{"$f":"IFERROR($E426*SUMIF('[4]Daily Log'!$B$18:$B$1017,$B426,'[4]Daily Log'!$C$18:$C$1017),0)","v":0},{"$f":"IFERROR($E426*SUMIF('[4]Daily Log'!$E$18:$E$1017,$B426,'[4]Daily Log'!$F$18:$F$1017),0)","v":0},{"$f":"IFERROR($E426*SUMIF('[4]Daily Log'!$H$18:$H$1017,$B426,'[4]Daily Log'!$I$18:$I$1017),0)","v":0},{"$f":"IFERROR($E426*SUMIF('[4]Daily Log'!$K$18:$K$1017,$B426,'[4]Daily Log'!$L$18:$L$1017),0)","v":0},{"$f":"IFERROR($E426*SUMIF('[4]Daily Log'!$N$18:$N$1017,$B426,'[4]Daily Log'!$O$18:$O$1017),0)","v":0},{"$f":"IFERROR($E426*SUMIF('[4]Daily Log'!$Q$18:$Q$1017,$B426,'[4]Daily Log'!$R$18:$R$1017),0)","v":0},{"$f":"IFERROR($E426*SUMIF('[4]Daily Log'!$T$18:$T$1017,$B426,'[4]Daily Log'!$U$18:$U$1017),0)","v":0},{"$f":"IFERROR($E426*SUMIF('[4]Daily Log'!$W$18:$W$1017,$B426,'[4]Daily Log'!$X$18:$X$1017),0)","v":0},{"$f":"IFERROR($E426*SUMIF('[4]Daily Log'!$Z$18:$Z$1017,$B426,'[4]Daily Log'!$AA$18:$AA$1017),0)","v":0},{"$f":"IFERROR($E426*SUMIF('[4]Daily Log'!$AC$18:$AC$1017,$B426,'[4]Daily Log'!$AD$18:$AD$1017),0)","v":0},{"$f":"IFERROR($E426*SUMIF('[4]Daily Log'!$AF$18:$AF$1017,$B426,'[4]Daily Log'!$AG$18:$AG$1017),0)","v":0},{"$f":"IFERROR($E426*SUMIF('[4]Daily Log'!$AI$18:$AI$1017,$B426,'[4]Daily Log'!$AJ$18:$AJ$1017),0)","v":0},{"$f":"IFERROR($E426*SUMIF('[4]Daily Log'!$AL$18:$AL$1017,$B426,'[4]Daily Log'!$AM$18:$AM$1017),0)","v":0},{"$f":"IFERROR($E426*SUMIF('[4]Daily Log'!$AO$18:$AO$1017,$B426,'[4]Daily Log'!$AP$18:$AP$1017),0)","v":0},{"$f":"IFERROR($E426*SUMIF('[4]Daily Log'!$AR$18:$AR$1017,$B426,'[4]Daily Log'!$AS$18:$AS$1017),0)","v":0},{"$f":"IFERROR($E426*SUMIF('[4]Daily Log'!$AU$18:$AU$1017,$B426,'[4]Daily Log'!$AV$18:$AV$1017),0)","v":0},{"$f":"IFERROR($E426*SUMIF('[4]Daily Log'!$AX$18:$AX$1017,$B426,'[4]Daily Log'!$AY$18:$AY$1017),0)","v":0},{"$f":"IFERROR($E426*SUMIF('[4]Daily Log'!$BA$18:$BA$1017,$B426,'[4]Daily Log'!$BB$18:$BB$1017),0)","v":0},{"$f":"IFERROR($E426*SUMIF('[4]Daily Log'!$BD$18:$BD$1017,$B426,'[4]Daily Log'!$BE$18:$BE$1017),0)","v":0},{"$f":"IFERROR($E426*SUMIF('[4]Daily Log'!$BG$18:$BG$1017,$B426,'[4]Daily Log'!$BH$18:$BH$1017),0)","v":0},{"$f":"IFERROR($E426*SUMIF('[4]Daily Log'!$BJ$18:$BJ$1017,$B426,'[4]Daily Log'!$BK$18:$BK$1017),0)","v":0},{"$f":"IFERROR($E426*SUMIF('[4]Daily Log'!$BM$18:$BM$1017,$B426,'[4]Daily Log'!$BN$18:$BN$1017),0)","v":0},{"$f":"IFERROR($E426*SUMIF('[4]Daily Log'!$BP$18:$BP$1017,$B426,'[4]Daily Log'!$BQ$18:$BQ$1017),0)","v":0},{"$f":"IFERROR($E426*SUMIF('[4]Daily Log'!$BS$18:$BS$1017,$B426,'[4]Daily Log'!$BT$18:$BT$1017),0)","v":0},{"$f":"IFERROR($E426*SUMIF('[4]Daily Log'!$BV$18:$BV$1017,$B426,'[4]Daily Log'!$BW$18:$BW$1017),0)","v":0},{"$f":"IFERROR($E426*SUMIF('[4]Daily Log'!$BY$18:$BY$1017,$B426,'[4]Daily Log'!$BZ$18:$BZ$1017),0)","v":0},{"$f":"IFERROR($E426*SUMIF('[4]Daily Log'!$CB$18:$CB$1017,$B426,'[4]Daily Log'!$CC$18:$CC$1017),0)","v":0},{"$f":"IFERROR($E426*SUMIF('[4]Daily Log'!$CE$18:$CE$1017,$B426,'[4]Daily Log'!$CF$18:$CF$1017),0)","v":0},{"$f":"IFERROR($E426*SUMIF('[4]Daily Log'!$CH$18:$CH$1017,$B426,'[4]Daily Log'!$CI$18:$CI$1017),0)","v":0},{"$f":"IFERROR($E426*SUMIF('[4]Daily Log'!$CK$18:$CK$1017,$B426,'[4]Daily Log'!$CL$18:$CL$1017),0)","v":0},{"$f":"IFERROR($E426*SUMIF('[4]Daily Log'!$CN$18:$CN$1017,$B426,'[4]Daily Log'!$CO$18:$CO$1017),0)","v":0}]
[null,null,null,null,null,0,{"$f":"IFERROR($E427*SUMIF('[4]Daily Log'!$B$18:$B$1017,$B427,'[4]Daily Log'!$C$18:$C$1017),0)","v":0},{"$f":"IFERROR($E427*SUMIF('[4]Daily Log'!$E$18:$E$1017,$B427,'[4]Daily Log'!$F$18:$F$1017),0)","v":0},{"$f":"IFERROR($E427*SUMIF('[4]Daily Log'!$H$18:$H$1017,$B427,'[4]Daily Log'!$I$18:$I$1017),0)","v":0},{"$f":"IFERROR($E427*SUMIF('[4]Daily Log'!$K$18:$K$1017,$B427,'[4]Daily Log'!$L$18:$L$1017),0)","v":0},{"$f":"IFERROR($E427*SUMIF('[4]Daily Log'!$N$18:$N$1017,$B427,'[4]Daily Log'!$O$18:$O$1017),0)","v":0},{"$f":"IFERROR($E427*SUMIF('[4]Daily Log'!$Q$18:$Q$1017,$B427,'[4]Daily Log'!$R$18:$R$1017),0)","v":0},{"$f":"IFERROR($E427*SUMIF('[4]Daily Log'!$T$18:$T$1017,$B427,'[4]Daily Log'!$U$18:$U$1017),0)","v":0},{"$f":"IFERROR($E427*SUMIF('[4]Daily Log'!$W$18:$W$1017,$B427,'[4]Daily Log'!$X$18:$X$1017),0)","v":0},{"$f":"IFERROR($E427*SUMIF('[4]Daily Log'!$Z$18:$Z$1017,$B427,'[4]Daily Log'!$AA$18:$AA$1017),0)","v":0},{"$f":"IFERROR($E427*SUMIF('[4]Daily Log'!$AC$18:$AC$1017,$B427,'[4]Daily Log'!$AD$18:$AD$1017),0)","v":0},{"$f":"IFERROR($E427*SUMIF('[4]Daily Log'!$AF$18:$AF$1017,$B427,'[4]Daily Log'!$AG$18:$AG$1017),0)","v":0},{"$f":"IFERROR($E427*SUMIF('[4]Daily Log'!$AI$18:$AI$1017,$B427,'[4]Daily Log'!$AJ$18:$AJ$1017),0)","v":0},{"$f":"IFERROR($E427*SUMIF('[4]Daily Log'!$AL$18:$AL$1017,$B427,'[4]Daily Log'!$AM$18:$AM$1017),0)","v":0},{"$f":"IFERROR($E427*SUMIF('[4]Daily Log'!$AO$18:$AO$1017,$B427,'[4]Daily Log'!$AP$18:$AP$1017),0)","v":0},{"$f":"IFERROR($E427*SUMIF('[4]Daily Log'!$AR$18:$AR$1017,$B427,'[4]Daily Log'!$AS$18:$AS$1017),0)","v":0},{"$f":"IFERROR($E427*SUMIF('[4]Daily Log'!$AU$18:$AU$1017,$B427,'[4]Daily Log'!$AV$18:$AV$1017),0)","v":0},{"$f":"IFERROR($E427*SUMIF('[4]Daily Log'!$AX$18:$AX$1017,$B427,'[4]Daily Log'!$AY$18:$AY$1017),0)","v":0},{"$f":"IFERROR($E427*SUMIF('[4]Daily Log'!$BA$18:$BA$1017,$B427,'[4]Daily Log'!$BB$18:$BB$1017),0)","v":0},{"$f":"IFERROR($E427*SUMIF('[4]Daily Log'!$BD$18:$BD$1017,$B427,'[4]Daily Log'!$BE$18:$BE$1017),0)","v":0},{"$f":"IFERROR($E427*SUMIF('[4]Daily Log'!$BG$18:$BG$1017,$B427,'[4]Daily Log'!$BH$18:$BH$1017),0)","v":0},{"$f":"IFERROR($E427*SUMIF('[4]Daily Log'!$BJ$18:$BJ$1017,$B427,'[4]Daily Log'!$BK$18:$BK$1017),0)","v":0},{"$f":"IFERROR($E427*SUMIF('[4]Daily Log'!$BM$18:$BM$1017,$B427,'[4]Daily Log'!$BN$18:$BN$1017),0)","v":0},{"$f":"IFERROR($E427*SUMIF('[4]Daily Log'!$BP$18:$BP$1017,$B427,'[4]Daily Log'!$BQ$18:$BQ$1017),0)","v":0},{"$f":"IFERROR($E427*SUMIF('[4]Daily Log'!$BS$18:$BS$1017,$B427,'[4]Daily Log'!$BT$18:$BT$1017),0)","v":0},{"$f":"IFERROR($E427*SUMIF('[4]Daily Log'!$BV$18:$BV$1017,$B427,'[4]Daily Log'!$BW$18:$BW$1017),0)","v":0},{"$f":"IFERROR($E427*SUMIF('[4]Daily Log'!$BY$18:$BY$1017,$B427,'[4]Daily Log'!$BZ$18:$BZ$1017),0)","v":0},{"$f":"IFERROR($E427*SUMIF('[4]Daily Log'!$CB$18:$CB$1017,$B427,'[4]Daily Log'!$CC$18:$CC$1017),0)","v":0},{"$f":"IFERROR($E427*SUMIF('[4]Daily Log'!$CE$18:$CE$1017,$B427,'[4]Daily Log'!$CF$18:$CF$1017),0)","v":0},{"$f":"IFERROR($E427*SUMIF('[4]Daily Log'!$CH$18:$CH$1017,$B427,'[4]Daily Log'!$CI$18:$CI$1017),0)","v":0},{"$f":"IFERROR($E427*SUMIF('[4]Daily Log'!$CK$18:$CK$1017,$B427,'[4]Daily Log'!$CL$18:$CL$1017),0)","v":0},{"$f":"IFERROR($E427*SUMIF('[4]Daily Log'!$CN$18:$CN$1017,$B427,'[4]Daily Log'!$CO$18:$CO$1017),0)","v":0}]
[null,null,null,null,null,0,{"$f":"IFERROR($E428*SUMIF('[4]Daily Log'!$B$18:$B$1017,$B428,'[4]Daily Log'!$C$18:$C$1017),0)","v":0},{"$f":"IFERROR($E428*SUMIF('[4]Daily Log'!$E$18:$E$1017,$B428,'[4]Daily Log'!$F$18:$F$1017),0)","v":0},{"$f":"IFERROR($E428*SUMIF('[4]Daily Log'!$H$18:$H$1017,$B428,'[4]Daily Log'!$I$18:$I$1017),0)","v":0},{"$f":"IFERROR($E428*SUMIF('[4]Daily Log'!$K$18:$K$1017,$B428,'[4]Daily Log'!$L$18:$L$1017),0)","v":0},{"$f":"IFERROR($E428*SUMIF('[4]Daily Log'!$N$18:$N$1017,$B428,'[4]Daily Log'!$O$18:$O$1017),0)","v":0},{"$f":"IFERROR($E428*SUMIF('[4]Daily Log'!$Q$18:$Q$1017,$B428,'[4]Daily Log'!$R$18:$R$1017),0)","v":0},{"$f":"IFERROR($E428*SUMIF('[4]Daily Log'!$T$18:$T$1017,$B428,'[4]Daily Log'!$U$18:$U$1017),0)","v":0},{"$f":"IFERROR($E428*SUMIF('[4]Daily Log'!$W$18:$W$1017,$B428,'[4]Daily Log'!$X$18:$X$1017),0)","v":0},{"$f":"IFERROR($E428*SUMIF('[4]Daily Log'!$Z$18:$Z$1017,$B428,'[4]Daily Log'!$AA$18:$AA$1017),0)","v":0},{"$f":"IFERROR($E428*SUMIF('[4]Daily Log'!$AC$18:$AC$1017,$B428,'[4]Daily Log'!$AD$18:$AD$1017),0)","v":0},{"$f":"IFERROR($E428*SUMIF('[4]Daily Log'!$AF$18:$AF$1017,$B428,'[4]Daily Log'!$AG$18:$AG$1017),0)","v":0},{"$f":"IFERROR($E428*SUMIF('[4]Daily Log'!$AI$18:$AI$1017,$B428,'[4]Daily Log'!$AJ$18:$AJ$1017),0)","v":0},{"$f":"IFERROR($E428*SUMIF('[4]Daily Log'!$AL$18:$AL$1017,$B428,'[4]Daily Log'!$AM$18:$AM$1017),0)","v":0},{"$f":"IFERROR($E428*SUMIF('[4]Daily Log'!$AO$18:$AO$1017,$B428,'[4]Daily Log'!$AP$18:$AP$1017),0)","v":0},{"$f":"IFERROR($E428*SUMIF('[4]Daily Log'!$AR$18:$AR$1017,$B428,'[4]Daily Log'!$AS$18:$AS$1017),0)","v":0},{"$f":"IFERROR($E428*SUMIF('[4]Daily Log'!$AU$18:$AU$1017,$B428,'[4]Daily Log'!$AV$18:$AV$1017),0)","v":0},{"$f":"IFERROR($E428*SUMIF('[4]Daily Log'!$AX$18:$AX$1017,$B428,'[4]Daily Log'!$AY$18:$AY$1017),0)","v":0},{"$f":"IFERROR($E428*SUMIF('[4]Daily Log'!$BA$18:$BA$1017,$B428,'[4]Daily Log'!$BB$18:$BB$1017),0)","v":0},{"$f":"IFERROR($E428*SUMIF('[4]Daily Log'!$BD$18:$BD$1017,$B428,'[4]Daily Log'!$BE$18:$BE$1017),0)","v":0},{"$f":"IFERROR($E428*SUMIF('[4]Daily Log'!$BG$18:$BG$1017,$B428,'[4]Daily Log'!$BH$18:$BH$1017),0)","v":0},{"$f":"IFERROR($E428*SUMIF('[4]Daily Log'!$BJ$18:$BJ$1017,$B428,'[4]Daily Log'!$BK$18:$BK$1017),0)","v":0},{"$f":"IFERROR($E428*SUMIF('[4]Daily Log'!$BM$18:$BM$1017,$B428,'[4]Daily Log'!$BN$18:$BN$1017),0)","v":0},{"$f":"IFERROR($E428*SUMIF('[4]Daily Log'!$BP$18:$BP$1017,$B428,'[4]Daily Log'!$BQ$18:$BQ$1017),0)","v":0},{"$f":"IFERROR($E428*SUMIF('[4]Daily Log'!$BS$18:$BS$1017,$B428,'[4]Daily Log'!$BT$18:$BT$1017),0)","v":0},{"$f":"IFERROR($E428*SUMIF('[4]Daily Log'!$BV$18:$BV$1017,$B428,'[4]Daily Log'!$BW$18:$BW$1017),0)","v":0},{"$f":"IFERROR($E428*SUMIF('[4]Daily Log'!$BY$18:$BY$1017,$B428,'[4]Daily Log'!$BZ$18:$BZ$1017),0)","v":0},{"$f":"IFERROR($E428*SUMIF('[4]Daily Log'!$CB$18:$CB$1017,$B428,'[4]Daily Log'!$CC$18:$CC$1017),0)","v":0},{"$f":"IFERROR($E428*SUMIF('[4]Daily Log'!$CE$18:$CE$1017,$B428,'[4]Daily Log'!$CF$18:$CF$1017),0)","v":0},{"$f":"IFERROR($E428*SUMIF('[4]Daily Log'!$CH$18:$CH$1017,$B428,'[4]Daily Log'!$CI$18:$CI$1017),0)","v":0},{"$f":"IFERROR($E428*SUMIF('[4]Daily Log'!$CK$18:$CK$1017,$B428,'[4]Daily Log'!$CL$18:$CL$1017),0)","v":0},{"$f":"IFERROR($E428*SUMIF('[4]Daily Log'!$CN$18:$CN$1017,$B428,'[4]Daily Log'!$CO$18:$CO$1017),0)","v":0}]
[null,null,null,null,null,0,{"$f":"IFERROR($E429*SUMIF('[4]Daily Log'!$B$18:$B$1017,$B429,'[4]Daily Log'!$C$18:$C$1017),0)","v":0},{"$f":"IFERROR($E429*SUMIF('[4]Daily Log'!$E$18:$E$1017,$B429,'[4]Daily Log'!$F$18:$F$1017),0)","v":0},{"$f":"IFERROR($E429*SUMIF('[4]Daily Log'!$H$18:$H$1017,$B429,'[4]Daily Log'!$I$18:$I$1017),0)","v":0},{"$f":"IFERROR($E429*SUMIF('[4]Daily Log'!$K$18:$K$1017,$B429,'[4]Daily Log'!$L$18:$L$1017),0)","v":0},{"$f":"IFERROR($E429*SUMIF('[4]Daily Log'!$N$18:$N$1017,$B429,'[4]Daily Log'!$O$18:$O$1017),0)","v":0},{"$f":"IFERROR($E429*SUMIF('[4]Daily Log'!$Q$18:$Q$1017,$B429,'[4]Daily Log'!$R$18:$R$1017),0)","v":0},{"$f":"IFERROR($E429*SUMIF('[4]Daily Log'!$T$18:$T$1017,$B429,'[4]Daily Log'!$U$18:$U$1017),0)","v":0},{"$f":"IFERROR($E429*SUMIF('[4]Daily Log'!$W$18:$W$1017,$B429,'[4]Daily Log'!$X$18:$X$1017),0)","v":0},{"$f":"IFERROR($E429*SUMIF('[4]Daily Log'!$Z$18:$Z$1017,$B429,'[4]Daily Log'!$AA$18:$AA$1017),0)","v":0},{"$f":"IFERROR($E429*SUMIF('[4]Daily Log'!$AC$18:$AC$1017,$B429,'[4]Daily Log'!$AD$18:$AD$1017),0)","v":0},{"$f":"IFERROR($E429*SUMIF('[4]Daily Log'!$AF$18:$AF$1017,$B429,'[4]Daily Log'!$AG$18:$AG$1017),0)","v":0},{"$f":"IFERROR($E429*SUMIF('[4]Daily Log'!$AI$18:$AI$1017,$B429,'[4]Daily Log'!$AJ$18:$AJ$1017),0)","v":0},{"$f":"IFERROR($E429*SUMIF('[4]Daily Log'!$AL$18:$AL$1017,$B429,'[4]Daily Log'!$AM$18:$AM$1017),0)","v":0},{"$f":"IFERROR($E429*SUMIF('[4]Daily Log'!$AO$18:$AO$1017,$B429,'[4]Daily Log'!$AP$18:$AP$1017),0)","v":0},{"$f":"IFERROR($E429*SUMIF('[4]Daily Log'!$AR$18:$AR$1017,$B429,'[4]Daily Log'!$AS$18:$AS$1017),0)","v":0},{"$f":"IFERROR($E429*SUMIF('[4]Daily Log'!$AU$18:$AU$1017,$B429,'[4]Daily Log'!$AV$18:$AV$1017),0)","v":0},{"$f":"IFERROR($E429*SUMIF('[4]Daily Log'!$AX$18:$AX$1017,$B429,'[4]Daily Log'!$AY$18:$AY$1017),0)","v":0},{"$f":"IFERROR($E429*SUMIF('[4]Daily Log'!$BA$18:$BA$1017,$B429,'[4]Daily Log'!$BB$18:$BB$1017),0)","v":0},{"$f":"IFERROR($E429*SUMIF('[4]Daily Log'!$BD$18:$BD$1017,$B429,'[4]Daily Log'!$BE$18:$BE$1017),0)","v":0},{"$f":"IFERROR($E429*SUMIF('[4]Daily Log'!$BG$18:$BG$1017,$B429,'[4]Daily Log'!$BH$18:$BH$1017),0)","v":0},{"$f":"IFERROR($E429*SUMIF('[4]Daily Log'!$BJ$18:$BJ$1017,$B429,'[4]Daily Log'!$BK$18:$BK$1017),0)","v":0},{"$f":"IFERROR($E429*SUMIF('[4]Daily Log'!$BM$18:$BM$1017,$B429,'[4]Daily Log'!$BN$18:$BN$1017),0)","v":0},{"$f":"IFERROR($E429*SUMIF('[4]Daily Log'!$BP$18:$BP$1017,$B429,'[4]Daily Log'!$BQ$18:$BQ$1017),0)","v":0},{"$f":"IFERROR($E429*SUMIF('[4]Daily Log'!$BS$18:$BS$1017,$B429,'[4]Daily Log'!$BT$18:$BT$1017),0)","v":0},{"$f":"IFERROR($E429*SUMIF('[4]Daily Log'!$BV$18:$BV$1017,$B429,'[4]Daily Log'!$BW$18:$BW$1017),0)","v":0},{"$f":"IFERROR($E429*SUMIF('[4]Daily Log'!$BY$18:$BY$1017,$B429,'[4]Daily Log'!$BZ$18:$BZ$1017),0)","v":0},{"$f":"IFERROR($E429*SUMIF('[4]Daily Log'!$CB$18:$CB$1017,$B429,'[4]Daily Log'!$CC$18:$CC$1017),0)","v":0},{"$f":"IFERROR($E429*SUMIF('[4]Daily Log'!$CE$18:$CE$1017,$B429,'[4]Daily Log'!$CF$18:$CF$1017),0)","v":0},{"$f":"IFERROR($E429*SUMIF('[4]Daily Log'!$CH$18:$CH$1017,$B429,'[4]Daily Log'!$CI$18:$CI$1017),0)","v":0},{"$f":"IFERROR($E429*SUMIF('[4]Daily Log'!$CK$18:$CK$1017,$B429,'[4]Daily Log'!$CL$18:$CL$1017),0)","v":0},{"$f":"IFERROR($E429*SUMIF('[4]Daily Log'!$CN$18:$CN$1017,$B429,'[4]Daily Log'!$CO$18:$CO$1017),0)","v":0}]
[null,null,null,null,null,0,{"$f":"IFERROR($E430*SUMIF('[4]Daily Log'!$B$18:$B$1017,$B430,'[4]Daily Log'!$C$18:$C$1017),0)","v":0},{"$f":"IFERROR($E430*SUMIF('[4]Daily Log'!$E$18:$E$1017,$B430,'[4]Daily Log'!$F$18:$F$1017),0)","v":0},{"$f":"IFERROR($E430*SUMIF('[4]Daily Log'!$H$18:$H$1017,$B430,'[4]Daily Log'!$I$18:$I$1017),0)","v":0},{"$f":"IFERROR($E430*SUMIF('[4]Daily Log'!$K$18:$K$1017,$B430,'[4]Daily Log'!$L$18:$L$1017),0)","v":0},{"$f":"IFERROR($E430*SUMIF('[4]Daily Log'!$N$18:$N$1017,$B430,'[4]Daily Log'!$O$18:$O$1017),0)","v":0},{"$f":"IFERROR($E430*SUMIF('[4]Daily Log'!$Q$18:$Q$1017,$B430,'[4]Daily Log'!$R$18:$R$1017),0)","v":0},{"$f":"IFERROR($E430*SUMIF('[4]Daily Log'!$T$18:$T$1017,$B430,'[4]Daily Log'!$U$18:$U$1017),0)","v":0},{"$f":"IFERROR($E430*SUMIF('[4]Daily Log'!$W$18:$W$1017,$B430,'[4]Daily Log'!$X$18:$X$1017),0)","v":0},{"$f":"IFERROR($E430*SUMIF('[4]Daily Log'!$Z$18:$Z$1017,$B430,'[4]Daily Log'!$AA$18:$AA$1017),0)","v":0},{"$f":"IFERROR($E430*SUMIF('[4]Daily Log'!$AC$18:$AC$1017,$B430,'[4]Daily Log'!$AD$18:$AD$1017),0)","v":0},{"$f":"IFERROR($E430*SUMIF('[4]Daily Log'!$AF$18:$AF$1017,$B430,'[4]Daily Log'!$AG$18:$AG$1017),0)","v":0},{"$f":"IFERROR($E430*SUMIF('[4]Daily Log'!$AI$18:$AI$1017,$B430,'[4]Daily Log'!$AJ$18:$AJ$1017),0)","v":0},{"$f":"IFERROR($E430*SUMIF('[4]Daily Log'!$AL$18:$AL$1017,$B430,'[4]Daily Log'!$AM$18:$AM$1017),0)","v":0},{"$f":"IFERROR($E430*SUMIF('[4]Daily Log'!$AO$18:$AO$1017,$B430,'[4]Daily Log'!$AP$18:$AP$1017),0)","v":0},{"$f":"IFERROR($E430*SUMIF('[4]Daily Log'!$AR$18:$AR$1017,$B430,'[4]Daily Log'!$AS$18:$AS$1017),0)","v":0},{"$f":"IFERROR($E430*SUMIF('[4]Daily Log'!$AU$18:$AU$1017,$B430,'[4]Daily Log'!$AV$18:$AV$1017),0)","v":0},{"$f":"IFERROR($E430*SUMIF('[4]Daily Log'!$AX$18:$AX$1017,$B430,'[4]Daily Log'!$AY$18:$AY$1017),0)","v":0},{"$f":"IFERROR($E430*SUMIF('[4]Daily Log'!$BA$18:$BA$1017,$B430,'[4]Daily Log'!$BB$18:$BB$1017),0)","v":0},{"$f":"IFERROR($E430*SUMIF('[4]Daily Log'!$BD$18:$BD$1017,$B430,'[4]Daily Log'!$BE$18:$BE$1017),0)","v":0},{"$f":"IFERROR($E430*SUMIF('[4]Daily Log'!$BG$18:$BG$1017,$B430,'[4]Daily Log'!$BH$18:$BH$1017),0)","v":0},{"$f":"IFERROR($E430*SUMIF('[4]Daily Log'!$BJ$18:$BJ$1017,$B430,'[4]Daily Log'!$BK$18:$BK$1017),0)","v":0},{"$f":"IFERROR($E430*SUMIF('[4]Daily Log'!$BM$18:$BM$1017,$B430,'[4]Daily Log'!$BN$18:$BN$1017),0)","v":0},{"$f":"IFERROR($E430*SUMIF('[4]Daily Log'!$BP$18:$BP$1017,$B430,'[4]Daily Log'!$BQ$18:$BQ$1017),0)","v":0},{"$f":"IFERROR($E430*SUMIF('[4]Daily Log'!$BS$18:$BS$1017,$B430,'[4]Daily Log'!$BT$18:$BT$1017),0)","v":0},{"$f":"IFERROR($E430*SUMIF('[4]Daily Log'!$BV$18:$BV$1017,$B430,'[4]Daily Log'!$BW$18:$BW$1017),0)","v":0},{"$f":"IFERROR($E430*SUMIF('[4]Daily Log'!$BY$18:$BY$1017,$B430,'[4]Daily Log'!$BZ$18:$BZ$1017),0)","v":0},{"$f":"IFERROR($E430*SUMIF('[4]Daily Log'!$CB$18:$CB$1017,$B430,'[4]Daily Log'!$CC$18:$CC$1017),0)","v":0},{"$f":"IFERROR($E430*SUMIF('[4]Daily Log'!$CE$18:$CE$1017,$B430,'[4]Daily Log'!$CF$18:$CF$1017),0)","v":0},{"$f":"IFERROR($E430*SUMIF('[4]Daily Log'!$CH$18:$CH$1017,$B430,'[4]Daily Log'!$CI$18:$CI$1017),0)","v":0},{"$f":"IFERROR($E430*SUMIF('[4]Daily Log'!$CK$18:$CK$1017,$B430,'[4]Daily Log'!$CL$18:$CL$1017),0)","v":0},{"$f":"IFERROR($E430*SUMIF('[4]Daily Log'!$CN$18:$CN$1017,$B430,'[4]Daily Log'!$CO$18:$CO$1017),0)","v":0}]
[null,null,null,null,null,0,{"$f":"IFERROR($E431*SUMIF('[4]Daily Log'!$B$18:$B$1017,$B431,'[4]Daily Log'!$C$18:$C$1017),0)","v":0},{"$f":"IFERROR($E431*SUMIF('[4]Daily Log'!$E$18:$E$1017,$B431,'[4]Daily Log'!$F$18:$F$1017),0)","v":0},{"$f":"IFERROR($E431*SUMIF('[4]Daily Log'!$H$18:$H$1017,$B431,'[4]Daily Log'!$I$18:$I$1017),0)","v":0},{"$f":"IFERROR($E431*SUMIF('[4]Daily Log'!$K$18:$K$1017,$B431,'[4]Daily Log'!$L$18:$L$1017),0)","v":0},{"$f":"IFERROR($E431*SUMIF('[4]Daily Log'!$N$18:$N$1017,$B431,'[4]Daily Log'!$O$18:$O$1017),0)","v":0},{"$f":"IFERROR($E431*SUMIF('[4]Daily Log'!$Q$18:$Q$1017,$B431,'[4]Daily Log'!$R$18:$R$1017),0)","v":0},{"$f":"IFERROR($E431*SUMIF('[4]Daily Log'!$T$18:$T$1017,$B431,'[4]Daily Log'!$U$18:$U$1017),0)","v":0},{"$f":"IFERROR($E431*SUMIF('[4]Daily Log'!$W$18:$W$1017,$B431,'[4]Daily Log'!$X$18:$X$1017),0)","v":0},{"$f":"IFERROR($E431*SUMIF('[4]Daily Log'!$Z$18:$Z$1017,$B431,'[4]Daily Log'!$AA$18:$AA$1017),0)","v":0},{"$f":"IFERROR($E431*SUMIF('[4]Daily Log'!$AC$18:$AC$1017,$B431,'[4]Daily Log'!$AD$18:$AD$1017),0)","v":0},{"$f":"IFERROR($E431*SUMIF('[4]Daily Log'!$AF$18:$AF$1017,$B431,'[4]Daily Log'!$AG$18:$AG$1017),0)","v":0},{"$f":"IFERROR($E431*SUMIF('[4]Daily Log'!$AI$18:$AI$1017,$B431,'[4]Daily Log'!$AJ$18:$AJ$1017),0)","v":0},{"$f":"IFERROR($E431*SUMIF('[4]Daily Log'!$AL$18:$AL$1017,$B431,'[4]Daily Log'!$AM$18:$AM$1017),0)","v":0},{"$f":"IFERROR($E431*SUMIF('[4]Daily Log'!$AO$18:$AO$1017,$B431,'[4]Daily Log'!$AP$18:$AP$1017),0)","v":0},{"$f":"IFERROR($E431*SUMIF('[4]Daily Log'!$AR$18:$AR$1017,$B431,'[4]Daily Log'!$AS$18:$AS$1017),0)","v":0},{"$f":"IFERROR($E431*SUMIF('[4]Daily Log'!$AU$18:$AU$1017,$B431,'[4]Daily Log'!$AV$18:$AV$1017),0)","v":0},{"$f":"IFERROR($E431*SUMIF('[4]Daily Log'!$AX$18:$AX$1017,$B431,'[4]Daily Log'!$AY$18:$AY$1017),0)","v":0},{"$f":"IFERROR($E431*SUMIF('[4]Daily Log'!$BA$18:$BA$1017,$B431,'[4]Daily Log'!$BB$18:$BB$1017),0)","v":0},{"$f":"IFERROR($E431*SUMIF('[4]Daily Log'!$BD$18:$BD$1017,$B431,'[4]Daily Log'!$BE$18:$BE$1017),0)","v":0},{"$f":"IFERROR($E431*SUMIF('[4]Daily Log'!$BG$18:$BG$1017,$B431,'[4]Daily Log'!$BH$18:$BH$1017),0)","v":0},{"$f":"IFERROR($E431*SUMIF('[4]Daily Log'!$BJ$18:$BJ$1017,$B431,'[4]Daily Log'!$BK$18:$BK$1017),0)","v":0},{"$f":"IFERROR($E431*SUMIF('[4]Daily Log'!$BM$18:$BM$1017,$B431,'[4]Daily Log'!$BN$18:$BN$1017),0)","v":0},{"$f":"IFERROR($E431*SUMIF('[4]Daily Log'!$BP$18:$BP$1017,$B431,'[4]Daily Log'!$BQ$18:$BQ$1017),0)","v":0},{"$f":"IFERROR($E431*SUMIF('[4]Daily Log'!$BS$18:$BS$1017,$B431,'[4]Daily Log'!$BT$18:$BT$1017),0)","v":0},{"$f":"IFERROR($E431*SUMIF('[4]Daily Log'!$BV$18:$BV$1017,$B431,'[4]Daily Log'!$BW$18:$BW$1017),0)","v":0},{"$f":"IFERROR($E431*SUMIF('[4]Daily Log'!$BY$18:$BY$1017,$B431,'[4]Daily Log'!$BZ$18:$BZ$1017),0)","v":0},{"$f":"IFERROR($E431*SUMIF('[4]Daily Log'!$CB$18:$CB$1017,$B431,'[4]Daily Log'!$CC$18:$CC$1017),0)","v":0},{"$f":"IFERROR($E431*SUMIF('[4]Daily Log'!$CE$18:$CE$1017,$B431,'[4]Daily Log'!$CF$18:$CF$1017),0)","v":0},{"$f":"IFERROR($E431*SUMIF('[4]Daily Log'!$CH$18:$CH$1017,$B431,'[4]Daily Log'!$CI$18:$CI$1017),0)","v":0},{"$f":"IFERROR($E431*SUMIF('[4]Daily Log'!$CK$18:$CK$1017,$B431,'[4]Daily Log'!$CL$18:$CL$1017),0)","v":0},{"$f":"IFERROR($E431*SUMIF('[4]Daily Log'!$CN$18:$CN$1017,$B431,'[4]Daily Log'!$CO$18:$CO$1017),0)","v":0}]
[null,null,null,null,null,0,{"$f":"IFERROR($E432*SUMIF('[4]Daily Log'!$B$18:$B$1017,$B432,'[4]Daily Log'!$C$18:$C$1017),0)","v":0},{"$f":"IFERROR($E432*SUMIF('[4]Daily Log'!$E$18:$E$1017,$B432,'[4]Daily Log'!$F$18:$F$1017),0)","v":0},{"$f":"IFERROR($E432*SUMIF('[4]Daily Log'!$H$18:$H$1017,$B432,'[4]Daily Log'!$I$18:$I$1017),0)","v":0},{"$f":"IFERROR($E432*SUMIF('[4]Daily Log'!$K$18:$K$1017,$B432,'[4]Daily Log'!$L$18:$L$1017),0)","v":0},{"$f":"IFERROR($E432*SUMIF('[4]Daily Log'!$N$18:$N$1017,$B432,'[4]Daily Log'!$O$18:$O$1017),0)","v":0},{"$f":"IFERROR($E432*SUMIF('[4]Daily Log'!$Q$18:$Q$1017,$B432,'[4]Daily Log'!$R$18:$R$1017),0)","v":0},{"$f":"IFERROR($E432*SUMIF('[4]Daily Log'!$T$18:$T$1017,$B432,'[4]Daily Log'!$U$18:$U$1017),0)","v":0},{"$f":"IFERROR($E432*SUMIF('[4]Daily Log'!$W$18:$W$1017,$B432,'[4]Daily Log'!$X$18:$X$1017),0)","v":0},{"$f":"IFERROR($E432*SUMIF('[4]Daily Log'!$Z$18:$Z$1017,$B432,'[4]Daily Log'!$AA$18:$AA$1017),0)","v":0},{"$f":"IFERROR($E432*SUMIF('[4]Daily Log'!$AC$18:$AC$1017,$B432,'[4]Daily Log'!$AD$18:$AD$1017),0)","v":0},{"$f":"IFERROR($E432*SUMIF('[4]Daily Log'!$AF$18:$AF$1017,$B432,'[4]Daily Log'!$AG$18:$AG$1017),0)","v":0},{"$f":"IFERROR($E432*SUMIF('[4]Daily Log'!$AI$18:$AI$1017,$B432,'[4]Daily Log'!$AJ$18:$AJ$1017),0)","v":0},{"$f":"IFERROR($E432*SUMIF('[4]Daily Log'!$AL$18:$AL$1017,$B432,'[4]Daily Log'!$AM$18:$AM$1017),0)","v":0},{"$f":"IFERROR($E432*SUMIF('[4]Daily Log'!$AO$18:$AO$1017,$B432,'[4]Daily Log'!$AP$18:$AP$1017),0)","v":0},{"$f":"IFERROR($E432*SUMIF('[4]Daily Log'!$AR$18:$AR$1017,$B432,'[4]Daily Log'!$AS$18:$AS$1017),0)","v":0},{"$f":"IFERROR($E432*SUMIF('[4]Daily Log'!$AU$18:$AU$1017,$B432,'[4]Daily Log'!$AV$18:$AV$1017),0)","v":0},{"$f":"IFERROR($E432*SUMIF('[4]Daily Log'!$AX$18:$AX$1017,$B432,'[4]Daily Log'!$AY$18:$AY$1017),0)","v":0},{"$f":"IFERROR($E432*SUMIF('[4]Daily Log'!$BA$18:$BA$1017,$B432,'[4]Daily Log'!$BB$18:$BB$1017),0)","v":0},{"$f":"IFERROR($E432*SUMIF('[4]Daily Log'!$BD$18:$BD$1017,$B432,'[4]Daily Log'!$BE$18:$BE$1017),0)","v":0},{"$f":"IFERROR($E432*SUMIF('[4]Daily Log'!$BG$18:$BG$1017,$B432,'[4]Daily Log'!$BH$18:$BH$1017),0)","v":0},{"$f":"IFERROR($E432*SUMIF('[4]Daily Log'!$BJ$18:$BJ$1017,$B432,'[4]Daily Log'!$BK$18:$BK$1017),0)","v":0},{"$f":"IFERROR($E432*SUMIF('[4]Daily Log'!$BM$18:$BM$1017,$B432,'[4]Daily Log'!$BN$18:$BN$1017),0)","v":0},{"$f":"IFERROR($E432*SUMIF('[4]Daily Log'!$BP$18:$BP$1017,$B432,'[4]Daily Log'!$BQ$18:$BQ$1017),0)","v":0},{"$f":"IFERROR($E432*SUMIF('[4]Daily Log'!$BS$18:$BS$1017,$B432,'[4]Daily Log'!$BT$18:$BT$1017),0)","v":0},{"$f":"IFERROR($E432*SUMIF('[4]Daily Log'!$BV$18:$BV$1017,$B432,'[4]Daily Log'!$BW$18:$BW$1017),0)","v":0},{"$f":"IFERROR($E432*SUMIF('[4]Daily Log'!$BY$18:$BY$1017,$B432,'[4]Daily Log'!$BZ$18:$BZ$1017),0)","v":0},{"$f":"IFERROR($E432*SUMIF('[4]Daily Log'!$CB$18:$CB$1017,$B432,'[4]Daily Log'!$CC$18:$CC$1017),0)","v":0},{"$f":"IFERROR($E432*SUMIF('[4]Daily Log'!$CE$18:$CE$1017,$B432,'[4]Daily Log'!$CF$18:$CF$1017),0)","v":0},{"$f":"IFERROR($E432*SUMIF('[4]Daily Log'!$CH$18:$CH$1017,$B432,'[4]Daily Log'!$CI$18:$CI$1017),0)","v":0},{"$f":"IFERROR($E432*SUMIF('[4]Daily Log'!$CK$18:$CK$1017,$B432,'[4]Daily Log'!$CL$18:$CL$1017),0)","v":0},{"$f":"IFERROR($E432*SUMIF('[4]Daily Log'!$CN$18:$CN$1017,$B432,'[4]Daily Log'!$CO$18:$CO$1017),0)","v":0}]
[null,null,null,null,null,0,{"$f":"IFERROR($E433*SUMIF('[4]Daily Log'!$B$18:$B$1017,$B433,'[4]Daily Log'!$C$18:$C$1017),0)","v":0},{"$f":"IFERROR($E433*SUMIF('[4]Daily Log'!$E$18:$E$1017,$B433,'[4]Daily Log'!$F$18:$F$1017),0)","v":0},{"$f":"IFERROR($E433*SUMIF('[4]Daily Log'!$H$18:$H$1017,$B433,'[4]Daily Log'!$I$18:$I$1017),0)","v":0},{"$f":"IFERROR($E433*SUMIF('[4]Daily Log'!$K$18:$K$1017,$B433,'[4]Daily Log'!$L$18:$L$1017),0)","v":0},{"$f":"IFERROR($E433*SUMIF('[4]Daily Log'!$N$18:$N$1017,$B433,'[4]Daily Log'!$O$18:$O$1017),0)","v":0},{"$f":"IFERROR($E433*SUMIF('[4]Daily Log'!$Q$18:$Q$1017,$B433,'[4]Daily Log'!$R$18:$R$1017),0)","v":0},{"$f":"IFERROR($E433*SUMIF('[4]Daily Log'!$T$18:$T$1017,$B433,'[4]Daily Log'!$U$18:$U$1017),0)","v":0},{"$f":"IFERROR($E433*SUMIF('[4]Daily Log'!$W$18:$W$1017,$B433,'[4]Daily Log'!$X$18:$X$1017),0)","v":0},{"$f":"IFERROR($E433*SUMIF('[4]Daily Log'!$Z$18:$Z$1017,$B433,'[4]Daily Log'!$AA$18:$AA$1017),0)","v":0},{"$f":"IFERROR($E433*SUMIF('[4]Daily Log'!$AC$18:$AC$1017,$B433,'[4]Daily Log'!$AD$18:$AD$1017),0)","v":0},{"$f":"IFERROR($E433*SUMIF('[4]Daily Log'!$AF$18:$AF$1017,$B433,'[4]Daily Log'!$AG$18:$AG$1017),0)","v":0},{"$f":"IFERROR($E433*SUMIF('[4]Daily Log'!$AI$18:$AI$1017,$B433,'[4]Daily Log'!$AJ$18:$AJ$1017),0)","v":0},{"$f":"IFERROR($E433*SUMIF('[4]Daily Log'!$AL$18:$AL$1017,$B433,'[4]Daily Log'!$AM$18:$AM$1017),0)","v":0},{"$f":"IFERROR($E433*SUMIF('[4]Daily Log'!$AO$18:$AO$1017,$B433,'[4]Daily Log'!$AP$18:$AP$1017),0)","v":0},{"$f":"IFERROR($E433*SUMIF('[4]Daily Log'!$AR$18:$AR$1017,$B433,'[4]Daily Log'!$AS$18:$AS$1017),0)","v":0},{"$f":"IFERROR($E433*SUMIF('[4]Daily Log'!$AU$18:$AU$1017,$B433,'[4]Daily Log'!$AV$18:$AV$1017),0)","v":0},{"$f":"IFERROR($E433*SUMIF('[4]Daily Log'!$AX$18:$AX$1017,$B433,'[4]Daily Log'!$AY$18:$AY$1017),0)","v":0},{"$f":"IFERROR($E433*SUMIF('[4]Daily Log'!$BA$18:$BA$1017,$B433,'[4]Daily Log'!$BB$18:$BB$1017),0)","v":0},{"$f":"IFERROR($E433*SUMIF('[4]Daily Log'!$BD$18:$BD$1017,$B433,'[4]Daily Log'!$BE$18:$BE$1017),0)","v":0},{"$f":"IFERROR($E433*SUMIF('[4]Daily Log'!$BG$18:$BG$1017,$B433,'[4]Daily Log'!$BH$18:$BH$1017),0)","v":0},{"$f":"IFERROR($E433*SUMIF('[4]Daily Log'!$BJ$18:$BJ$1017,$B433,'[4]Daily Log'!$BK$18:$BK$1017),0)","v":0},{"$f":"IFERROR($E433*SUMIF('[4]Daily Log'!$BM$18:$BM$1017,$B433,'[4]Daily Log'!$BN$18:$BN$1017),0)","v":0},{"$f":"IFERROR($E433*SUMIF('[4]Daily Log'!$BP$18:$BP$1017,$B433,'[4]Daily Log'!$BQ$18:$BQ$1017),0)","v":0},{"$f":"IFERROR($E433*SUMIF('[4]Daily Log'!$BS$18:$BS$1017,$B433,'[4]Daily Log'!$BT$18:$BT$1017),0)","v":0},{"$f":"IFERROR($E433*SUMIF('[4]Daily Log'!$BV$18:$BV$1017,$B433,'[4]Daily Log'!$BW$18:$BW$1017),0)","v":0},{"$f":"IFERROR($E433*SUMIF('[4]Daily Log'!$BY$18:$BY$1017,$B433,'[4]Daily Log'!$BZ$18:$BZ$1017),0)","v":0},{"$f":"IFERROR($E433*SUMIF('[4]Daily Log'!$CB$18:$CB$1017,$B433,'[4]Daily Log'!$CC$18:$CC$1017),0)","v":0},{"$f":"IFERROR($E433*SUMIF('[4]Daily Log'!$CE$18:$CE$1017,$B433,'[4]Daily Log'!$CF$18:$CF$1017),0)","v":0},{"$f":"IFERROR($E433*SUMIF('[4]Daily Log'!$CH$18:$CH$1017,$B433,'[4]Daily Log'!$CI$18:$CI$1017),0)","v":0},{"$f":"IFERROR($E433*SUMIF('[4]Daily Log'!$CK$18:$CK$1017,$B433,'[4]Daily Log'!$CL$18:$CL$1017),0)","v":0},{"$f":"IFERROR($E433*SUMIF('[4]Daily Log'!$CN$18:$CN$1017,$B433,'[4]Daily Log'!$CO$18:$CO$1017),0)","v":0}]
[null,null,null,null,null,0,{"$f":"IFERROR($E434*SUMIF('[4]Daily Log'!$B$18:$B$1017,$B434,'[4]Daily Log'!$C$18:$C$1017),0)","v":0},{"$f":"IFERROR($E434*SUMIF('[4]Daily Log'!$E$18:$E$1017,$B434,'[4]Daily Log'!$F$18:$F$1017),0)","v":0},{"$f":"IFERROR($E434*SUMIF('[4]Daily Log'!$H$18:$H$1017,$B434,'[4]Daily Log'!$I$18:$I$1017),0)","v":0},{"$f":"IFERROR($E434*SUMIF('[4]Daily Log'!$K$18:$K$1017,$B434,'[4]Daily Log'!$L$18:$L$1017),0)","v":0},{"$f":"IFERROR($E434*SUMIF('[4]Daily Log'!$N$18:$N$1017,$B434,'[4]Daily Log'!$O$18:$O$1017),0)","v":0},{"$f":"IFERROR($E434*SUMIF('[4]Daily Log'!$Q$18:$Q$1017,$B434,'[4]Daily Log'!$R$18:$R$1017),0)","v":0},{"$f":"IFERROR($E434*SUMIF('[4]Daily Log'!$T$18:$T$1017,$B434,'[4]Daily Log'!$U$18:$U$1017),0)","v":0},{"$f":"IFERROR($E434*SUMIF('[4]Daily Log'!$W$18:$W$1017,$B434,'[4]Daily Log'!$X$18:$X$1017),0)","v":0},{"$f":"IFERROR($E434*SUMIF('[4]Daily Log'!$Z$18:$Z$1017,$B434,'[4]Daily Log'!$AA$18:$AA$1017),0)","v":0},{"$f":"IFERROR($E434*SUMIF('[4]Daily Log'!$AC$18:$AC$1017,$B434,'[4]Daily Log'!$AD$18:$AD$1017),0)","v":0},{"$f":"IFERROR($E434*SUMIF('[4]Daily Log'!$AF$18:$AF$1017,$B434,'[4]Daily Log'!$AG$18:$AG$1017),0)","v":0},{"$f":"IFERROR($E434*SUMIF('[4]Daily Log'!$AI$18:$AI$1017,$B434,'[4]Daily Log'!$AJ$18:$AJ$1017),0)","v":0},{"$f":"IFERROR($E434*SUMIF('[4]Daily Log'!$AL$18:$AL$1017,$B434,'[4]Daily Log'!$AM$18:$AM$1017),0)","v":0},{"$f":"IFERROR($E434*SUMIF('[4]Daily Log'!$AO$18:$AO$1017,$B434,'[4]Daily Log'!$AP$18:$AP$1017),0)","v":0},{"$f":"IFERROR($E434*SUMIF('[4]Daily Log'!$AR$18:$AR$1017,$B434,'[4]Daily Log'!$AS$18:$AS$1017),0)","v":0},{"$f":"IFERROR($E434*SUMIF('[4]Daily Log'!$AU$18:$AU$1017,$B434,'[4]Daily Log'!$AV$18:$AV$1017),0)","v":0},{"$f":"IFERROR($E434*SUMIF('[4]Daily Log'!$AX$18:$AX$1017,$B434,'[4]Daily Log'!$AY$18:$AY$1017),0)","v":0},{"$f":"IFERROR($E434*SUMIF('[4]Daily Log'!$BA$18:$BA$1017,$B434,'[4]Daily Log'!$BB$18:$BB$1017),0)","v":0},{"$f":"IFERROR($E434*SUMIF('[4]Daily Log'!$BD$18:$BD$1017,$B434,'[4]Daily Log'!$BE$18:$BE$1017),0)","v":0},{"$f":"IFERROR($E434*SUMIF('[4]Daily Log'!$BG$18:$BG$1017,$B434,'[4]Daily Log'!$BH$18:$BH$1017),0)","v":0},{"$f":"IFERROR($E434*SUMIF('[4]Daily Log'!$BJ$18:$BJ$1017,$B434,'[4]Daily Log'!$BK$18:$BK$1017),0)","v":0},{"$f":"IFERROR($E434*SUMIF('[4]Daily Log'!$BM$18:$BM$1017,$B434,'[4]Daily Log'!$BN$18:$BN$1017),0)","v":0},{"$f":"IFERROR($E434*SUMIF('[4]Daily Log'!$BP$18:$BP$1017,$B434,'[4]Daily Log'!$BQ$18:$BQ$1017),0)","v":0},{"$f":"IFERROR($E434*SUMIF('[4]Daily Log'!$BS$18:$BS$1017,$B434,'[4]Daily Log'!$BT$18:$BT$1017),0)","v":0},{"$f":"IFERROR($E434*SUMIF('[4]Daily Log'!$BV$18:$BV$1017,$B434,'[4]Daily Log'!$BW$18:$BW$1017),0)","v":0},{"$f":"IFERROR($E434*SUMIF('[4]Daily Log'!$BY$18:$BY$1017,$B434,'[4]Daily Log'!$BZ$18:$BZ$1017),0)","v":0},{"$f":"IFERROR($E434*SUMIF('[4]Daily Log'!$CB$18:$CB$1017,$B434,'[4]Daily Log'!$CC$18:$CC$1017),0)","v":0},{"$f":"IFERROR($E434*SUMIF('[4]Daily Log'!$CE$18:$CE$1017,$B434,'[4]Daily Log'!$CF$18:$CF$1017),0)","v":0},{"$f":"IFERROR($E434*SUMIF('[4]Daily Log'!$CH$18:$CH$1017,$B434,'[4]Daily Log'!$CI$18:$CI$1017),0)","v":0},{"$f":"IFERROR($E434*SUMIF('[4]Daily Log'!$CK$18:$CK$1017,$B434,'[4]Daily Log'!$CL$18:$CL$1017),0)","v":0},{"$f":"IFERROR($E434*SUMIF('[4]Daily Log'!$CN$18:$CN$1017,$B434,'[4]Daily Log'!$CO$18:$CO$1017),0)","v":0}]
[null,null,null,null,null,0,{"$f":"IFERROR($E435*SUMIF('[4]Daily Log'!$B$18:$B$1017,$B435,'[4]Daily Log'!$C$18:$C$1017),0)","v":0},{"$f":"IFERROR($E435*SUMIF('[4]Daily Log'!$E$18:$E$1017,$B435,'[4]Daily Log'!$F$18:$F$1017),0)","v":0},{"$f":"IFERROR($E435*SUMIF('[4]Daily Log'!$H$18:$H$1017,$B435,'[4]Daily Log'!$I$18:$I$1017),0)","v":0},{"$f":"IFERROR($E435*SUMIF('[4]Daily Log'!$K$18:$K$1017,$B435,'[4]Daily Log'!$L$18:$L$1017),0)","v":0},{"$f":"IFERROR($E435*SUMIF('[4]Daily Log'!$N$18:$N$1017,$B435,'[4]Daily Log'!$O$18:$O$1017),0)","v":0},{"$f":"IFERROR($E435*SUMIF('[4]Daily Log'!$Q$18:$Q$1017,$B435,'[4]Daily Log'!$R$18:$R$1017),0)","v":0},{"$f":"IFERROR($E435*SUMIF('[4]Daily Log'!$T$18:$T$1017,$B435,'[4]Daily Log'!$U$18:$U$1017),0)","v":0},{"$f":"IFERROR($E435*SUMIF('[4]Daily Log'!$W$18:$W$1017,$B435,'[4]Daily Log'!$X$18:$X$1017),0)","v":0},{"$f":"IFERROR($E435*SUMIF('[4]Daily Log'!$Z$18:$Z$1017,$B435,'[4]Daily Log'!$AA$18:$AA$1017),0)","v":0},{"$f":"IFERROR($E435*SUMIF('[4]Daily Log'!$AC$18:$AC$1017,$B435,'[4]Daily Log'!$AD$18:$AD$1017),0)","v":0},{"$f":"IFERROR($E435*SUMIF('[4]Daily Log'!$AF$18:$AF$1017,$B435,'[4]Daily Log'!$AG$18:$AG$1017),0)","v":0},{"$f":"IFERROR($E435*SUMIF('[4]Daily Log'!$AI$18:$AI$1017,$B435,'[4]Daily Log'!$AJ$18:$AJ$1017),0)","v":0},{"$f":"IFERROR($E435*SUMIF('[4]Daily Log'!$AL$18:$AL$1017,$B435,'[4]Daily Log'!$AM$18:$AM$1017),0)","v":0},{"$f":"IFERROR($E435*SUMIF('[4]Daily Log'!$AO$18:$AO$1017,$B435,'[4]Daily Log'!$AP$18:$AP$1017),0)","v":0},{"$f":"IFERROR($E435*SUMIF('[4]Daily Log'!$AR$18:$AR$1017,$B435,'[4]Daily Log'!$AS$18:$AS$1017),0)","v":0},{"$f":"IFERROR($E435*SUMIF('[4]Daily Log'!$AU$18:$AU$1017,$B435,'[4]Daily Log'!$AV$18:$AV$1017),0)","v":0},{"$f":"IFERROR($E435*SUMIF('[4]Daily Log'!$AX$18:$AX$1017,$B435,'[4]Daily Log'!$AY$18:$AY$1017),0)","v":0},{"$f":"IFERROR($E435*SUMIF('[4]Daily Log'!$BA$18:$BA$1017,$B435,'[4]Daily Log'!$BB$18:$BB$1017),0)","v":0},{"$f":"IFERROR($E435*SUMIF('[4]Daily Log'!$BD$18:$BD$1017,$B435,'[4]Daily Log'!$BE$18:$BE$1017),0)","v":0},{"$f":"IFERROR($E435*SUMIF('[4]Daily Log'!$BG$18:$BG$1017,$B435,'[4]Daily Log'!$BH$18:$BH$1017),0)","v":0},{"$f":"IFERROR($E435*SUMIF('[4]Daily Log'!$BJ$18:$BJ$1017,$B435,'[4]Daily Log'!$BK$18:$BK$1017),0)","v":0},{"$f":"IFERROR($E435*SUMIF('[4]Daily Log'!$BM$18:$BM$1017,$B435,'[4]Daily Log'!$BN$18:$BN$1017),0)","v":0},{"$f":"IFERROR($E435*SUMIF('[4]Daily Log'!$BP$18:$BP$1017,$B435,'[4]Daily Log'!$BQ$18:$BQ$1017),0)","v":0},{"$f":"IFERROR($E435*SUMIF('[4]Daily Log'!$BS$18:$BS$1017,$B435,'[4]Daily Log'!$BT$18:$BT$1017),0)","v":0},{"$f":"IFERROR($E435*SUMIF('[4]Daily Log'!$BV$18:$BV$1017,$B435,'[4]Daily Log'!$BW$18:$BW$1017),0)","v":0},{"$f":"IFERROR($E435*SUMIF('[4]Daily Log'!$BY$18:$BY$1017,$B435,'[4]Daily Log'!$BZ$18:$BZ$1017),0)","v":0},{"$f":"IFERROR($E435*SUMIF('[4]Daily Log'!$CB$18:$CB$1017,$B435,'[4]Daily Log'!$CC$18:$CC$1017),0)","v":0},{"$f":"IFERROR($E435*SUMIF('[4]Daily Log'!$CE$18:$CE$1017,$B435,'[4]Daily Log'!$CF$18:$CF$1017),0)","v":0},{"$f":"IFERROR($E435*SUMIF('[4]Daily Log'!$CH$18:$CH$1017,$B435,'[4]Daily Log'!$CI$18:$CI$1017),0)","v":0},{"$f":"IFERROR($E435*SUMIF('[4]Daily Log'!$CK$18:$CK$1017,$B435,'[4]Daily Log'!$CL$18:$CL$1017),0)","v":0},{"$f":"IFERROR($E435*SUMIF('[4]Daily Log'!$CN$18:$CN$1017,$B435,'[4]Daily Log'!$CO$18:$CO$1017),0)","v":0}]
[null,null,null,null,null,0,{"$f":"IFERROR($E436*SUMIF('[4]Daily Log'!$B$18:$B$1017,$B436,'[4]Daily Log'!$C$18:$C$1017),0)","v":0},{"$f":"IFERROR($E436*SUMIF('[4]Daily Log'!$E$18:$E$1017,$B436,'[4]Daily Log'!$F$18:$F$1017),0)","v":0},{"$f":"IFERROR($E436*SUMIF('[4]Daily Log'!$H$18:$H$1017,$B436,'[4]Daily Log'!$I$18:$I$1017),0)","v":0},{"$f":"IFERROR($E436*SUMIF('[4]Daily Log'!$K$18:$K$1017,$B436,'[4]Daily Log'!$L$18:$L$1017),0)","v":0},{"$f":"IFERROR($E436*SUMIF('[4]Daily Log'!$N$18:$N$1017,$B436,'[4]Daily Log'!$O$18:$O$1017),0)","v":0},{"$f":"IFERROR($E436*SUMIF('[4]Daily Log'!$Q$18:$Q$1017,$B436,'[4]Daily Log'!$R$18:$R$1017),0)","v":0},{"$f":"IFERROR($E436*SUMIF('[4]Daily Log'!$T$18:$T$1017,$B436,'[4]Daily Log'!$U$18:$U$1017),0)","v":0},{"$f":"IFERROR($E436*SUMIF('[4]Daily Log'!$W$18:$W$1017,$B436,'[4]Daily Log'!$X$18:$X$1017),0)","v":0},{"$f":"IFERROR($E436*SUMIF('[4]Daily Log'!$Z$18:$Z$1017,$B436,'[4]Daily Log'!$AA$18:$AA$1017),0)","v":0},{"$f":"IFERROR($E436*SUMIF('[4]Daily Log'!$AC$18:$AC$1017,$B436,'[4]Daily Log'!$AD$18:$AD$1017),0)","v":0},{"$f":"IFERROR($E436*SUMIF('[4]Daily Log'!$AF$18:$AF$1017,$B436,'[4]Daily Log'!$AG$18:$AG$1017),0)","v":0},{"$f":"IFERROR($E436*SUMIF('[4]Daily Log'!$AI$18:$AI$1017,$B436,'[4]Daily Log'!$AJ$18:$AJ$1017),0)","v":0},{"$f":"IFERROR($E436*SUMIF('[4]Daily Log'!$AL$18:$AL$1017,$B436,'[4]Daily Log'!$AM$18:$AM$1017),0)","v":0},{"$f":"IFERROR($E436*SUMIF('[4]Daily Log'!$AO$18:$AO$1017,$B436,'[4]Daily Log'!$AP$18:$AP$1017),0)","v":0},{"$f":"IFERROR($E436*SUMIF('[4]Daily Log'!$AR$18:$AR$1017,$B436,'[4]Daily Log'!$AS$18:$AS$1017),0)","v":0},{"$f":"IFERROR($E436*SUMIF('[4]Daily Log'!$AU$18:$AU$1017,$B436,'[4]Daily Log'!$AV$18:$AV$1017),0)","v":0},{"$f":"IFERROR($E436*SUMIF('[4]Daily Log'!$AX$18:$AX$1017,$B436,'[4]Daily Log'!$AY$18:$AY$1017),0)","v":0},{"$f":"IFERROR($E436*SUMIF('[4]Daily Log'!$BA$18:$BA$1017,$B436,'[4]Daily Log'!$BB$18:$BB$1017),0)","v":0},{"$f":"IFERROR($E436*SUMIF('[4]Daily Log'!$BD$18:$BD$1017,$B436,'[4]Daily Log'!$BE$18:$BE$1017),0)","v":0},{"$f":"IFERROR($E436*SUMIF('[4]Daily Log'!$BG$18:$BG$1017,$B436,'[4]Daily Log'!$BH$18:$BH$1017),0)","v":0},{"$f":"IFERROR($E436*SUMIF('[4]Daily Log'!$BJ$18:$BJ$1017,$B436,'[4]Daily Log'!$BK$18:$BK$1017),0)","v":0},{"$f":"IFERROR($E436*SUMIF('[4]Daily Log'!$BM$18:$BM$1017,$B436,'[4]Daily Log'!$BN$18:$BN$1017),0)","v":0},{"$f":"IFERROR($E436*SUMIF('[4]Daily Log'!$BP$18:$BP$1017,$B436,'[4]Daily Log'!$BQ$18:$BQ$1017),0)","v":0},{"$f":"IFERROR($E436*SUMIF('[4]Daily Log'!$BS$18:$BS$1017,$B436,'[4]Daily Log'!$BT$18:$BT$1017),0)","v":0},{"$f":"IFERROR($E436*SUMIF('[4]Daily Log'!$BV$18:$BV$1017,$B436,'[4]Daily Log'!$BW$18:$BW$1017),0)","v":0},{"$f":"IFERROR($E436*SUMIF('[4]Daily Log'!$BY$18:$BY$1017,$B436,'[4]Daily Log'!$BZ$18:$BZ$1017),0)","v":0},{"$f":"IFERROR($E436*SUMIF('[4]Daily Log'!$CB$18:$CB$1017,$B436,'[4]Daily Log'!$CC$18:$CC$1017),0)","v":0},{"$f":"IFERROR($E436*SUMIF('[4]Daily Log'!$CE$18:$CE$1017,$B436,'[4]Daily Log'!$CF$18:$CF$1017),0)","v":0},{"$f":"IFERROR($E436*SUMIF('[4]Daily Log'!$CH$18:$CH$1017,$B436,'[4]Daily Log'!$CI$18:$CI$1017),0)","v":0},{"$f":"IFERROR($E436*SUMIF('[4]Daily Log'!$CK$18:$CK$1017,$B436,'[4]Daily Log'!$CL$18:$CL$1017),0)","v":0},{"$f":"IFERROR($E436*SUMIF('[4]Daily Log'!$CN$18:$CN$1017,$B436,'[4]Daily Log'!$CO$18:$CO$1017),0)","v":0}]
[null,null,null,null,null,0,{"$f":"IFERROR($E437*SUMIF('[4]Daily Log'!$B$18:$B$1017,$B437,'[4]Daily Log'!$C$18:$C$1017),0)","v":0},{"$f":"IFERROR($E437*SUMIF('[4]Daily Log'!$E$18:$E$1017,$B437,'[4]Daily Log'!$F$18:$F$1017),0)","v":0},{"$f":"IFERROR($E437*SUMIF('[4]Daily Log'!$H$18:$H$1017,$B437,'[4]Daily Log'!$I$18:$I$1017),0)","v":0},{"$f":"IFERROR($E437*SUMIF('[4]Daily Log'!$K$18:$K$1017,$B437,'[4]Daily Log'!$L$18:$L$1017),0)","v":0},{"$f":"IFERROR($E437*SUMIF('[4]Daily Log'!$N$18:$N$1017,$B437,'[4]Daily Log'!$O$18:$O$1017),0)","v":0},{"$f":"IFERROR($E437*SUMIF('[4]Daily Log'!$Q$18:$Q$1017,$B437,'[4]Daily Log'!$R$18:$R$1017),0)","v":0},{"$f":"IFERROR($E437*SUMIF('[4]Daily Log'!$T$18:$T$1017,$B437,'[4]Daily Log'!$U$18:$U$1017),0)","v":0},{"$f":"IFERROR($E437*SUMIF('[4]Daily Log'!$W$18:$W$1017,$B437,'[4]Daily Log'!$X$18:$X$1017),0)","v":0},{"$f":"IFERROR($E437*SUMIF('[4]Daily Log'!$Z$18:$Z$1017,$B437,'[4]Daily Log'!$AA$18:$AA$1017),0)","v":0},{"$f":"IFERROR($E437*SUMIF('[4]Daily Log'!$AC$18:$AC$1017,$B437,'[4]Daily Log'!$AD$18:$AD$1017),0)","v":0},{"$f":"IFERROR($E437*SUMIF('[4]Daily Log'!$AF$18:$AF$1017,$B437,'[4]Daily Log'!$AG$18:$AG$1017),0)","v":0},{"$f":"IFERROR($E437*SUMIF('[4]Daily Log'!$AI$18:$AI$1017,$B437,'[4]Daily Log'!$AJ$18:$AJ$1017),0)","v":0},{"$f":"IFERROR($E437*SUMIF('[4]Daily Log'!$AL$18:$AL$1017,$B437,'[4]Daily Log'!$AM$18:$AM$1017),0)","v":0},{"$f":"IFERROR($E437*SUMIF('[4]Daily Log'!$AO$18:$AO$1017,$B437,'[4]Daily Log'!$AP$18:$AP$1017),0)","v":0},{"$f":"IFERROR($E437*SUMIF('[4]Daily Log'!$AR$18:$AR$1017,$B437,'[4]Daily Log'!$AS$18:$AS$1017),0)","v":0},{"$f":"IFERROR($E437*SUMIF('[4]Daily Log'!$AU$18:$AU$1017,$B437,'[4]Daily Log'!$AV$18:$AV$1017),0)","v":0},{"$f":"IFERROR($E437*SUMIF('[4]Daily Log'!$AX$18:$AX$1017,$B437,'[4]Daily Log'!$AY$18:$AY$1017),0)","v":0},{"$f":"IFERROR($E437*SUMIF('[4]Daily Log'!$BA$18:$BA$1017,$B437,'[4]Daily Log'!$BB$18:$BB$1017),0)","v":0},{"$f":"IFERROR($E437*SUMIF('[4]Daily Log'!$BD$18:$BD$1017,$B437,'[4]Daily Log'!$BE$18:$BE$1017),0)","v":0},{"$f":"IFERROR($E437*SUMIF('[4]Daily Log'!$BG$18:$BG$1017,$B437,'[4]Daily Log'!$BH$18:$BH$1017),0)","v":0},{"$f":"IFERROR($E437*SUMIF('[4]Daily Log'!$BJ$18:$BJ$1017,$B437,'[4]Daily Log'!$BK$18:$BK$1017),0)","v":0},{"$f":"IFERROR($E437*SUMIF('[4]Daily Log'!$BM$18:$BM$1017,$B437,'[4]Daily Log'!$BN$18:$BN$1017),0)","v":0},{"$f":"IFERROR($E437*SUMIF('[4]Daily Log'!$BP$18:$BP$1017,$B437,'[4]Daily Log'!$BQ$18:$BQ$1017),0)","v":0},{"$f":"IFERROR($E437*SUMIF('[4]Daily Log'!$BS$18:$BS$1017,$B437,'[4]Daily Log'!$BT$18:$BT$1017),0)","v":0},{"$f":"IFERROR($E437*SUMIF('[4]Daily Log'!$BV$18:$BV$1017,$B437,'[4]Daily Log'!$BW$18:$BW$1017),0)","v":0},{"$f":"IFERROR($E437*SUMIF('[4]Daily Log'!$BY$18:$BY$1017,$B437,'[4]Daily Log'!$BZ$18:$BZ$1017),0)","v":0},{"$f":"IFERROR($E437*SUMIF('[4]Daily Log'!$CB$18:$CB$1017,$B437,'[4]Daily Log'!$CC$18:$CC$1017),0)","v":0},{"$f":"IFERROR($E437*SUMIF('[4]Daily Log'!$CE$18:$CE$1017,$B437,'[4]Daily Log'!$CF$18:$CF$1017),0)","v":0},{"$f":"IFERROR($E437*SUMIF('[4]Daily Log'!$CH$18:$CH$1017,$B437,'[4]Daily Log'!$CI$18:$CI$1017),0)","v":0},{"$f":"IFERROR($E437*SUMIF('[4]Daily Log'!$CK$18:$CK$1017,$B437,'[4]Daily Log'!$CL$18:$CL$1017),0)","v":0},{"$f":"IFERROR($E437*SUMIF('[4]Daily Log'!$CN$18:$CN$1017,$B437,'[4]Daily Log'!$CO$18:$CO$1017),0)","v":0}]
[null,null,null,null,null,0,{"$f":"IFERROR($E438*SUMIF('[4]Daily Log'!$B$18:$B$1017,$B438,'[4]Daily Log'!$C$18:$C$1017),0)","v":0},{"$f":"IFERROR($E438*SUMIF('[4]Daily Log'!$E$18:$E$1017,$B438,'[4]Daily Log'!$F$18:$F$1017),0)","v":0},{"$f":"IFERROR($E438*SUMIF('[4]Daily Log'!$H$18:$H$1017,$B438,'[4]Daily Log'!$I$18:$I$1017),0)","v":0},{"$f":"IFERROR($E438*SUMIF('[4]Daily Log'!$K$18:$K$1017,$B438,'[4]Daily Log'!$L$18:$L$1017),0)","v":0},{"$f":"IFERROR($E438*SUMIF('[4]Daily Log'!$N$18:$N$1017,$B438,'[4]Daily Log'!$O$18:$O$1017),0)","v":0},{"$f":"IFERROR($E438*SUMIF('[4]Daily Log'!$Q$18:$Q$1017,$B438,'[4]Daily Log'!$R$18:$R$1017),0)","v":0},{"$f":"IFERROR($E438*SUMIF('[4]Daily Log'!$T$18:$T$1017,$B438,'[4]Daily Log'!$U$18:$U$1017),0)","v":0},{"$f":"IFERROR($E438*SUMIF('[4]Daily Log'!$W$18:$W$1017,$B438,'[4]Daily Log'!$X$18:$X$1017),0)","v":0},{"$f":"IFERROR($E438*SUMIF('[4]Daily Log'!$Z$18:$Z$1017,$B438,'[4]Daily Log'!$AA$18:$AA$1017),0)","v":0},{"$f":"IFERROR($E438*SUMIF('[4]Daily Log'!$AC$18:$AC$1017,$B438,'[4]Daily Log'!$AD$18:$AD$1017),0)","v":0},{"$f":"IFERROR($E438*SUMIF('[4]Daily Log'!$AF$18:$AF$1017,$B438,'[4]Daily Log'!$AG$18:$AG$1017),0)","v":0},{"$f":"IFERROR($E438*SUMIF('[4]Daily Log'!$AI$18:$AI$1017,$B438,'[4]Daily Log'!$AJ$18:$AJ$1017),0)","v":0},{"$f":"IFERROR($E438*SUMIF('[4]Daily Log'!$AL$18:$AL$1017,$B438,'[4]Daily Log'!$AM$18:$AM$1017),0)","v":0},{"$f":"IFERROR($E438*SUMIF('[4]Daily Log'!$AO$18:$AO$1017,$B438,'[4]Daily Log'!$AP$18:$AP$1017),0)","v":0},{"$f":"IFERROR($E438*SUMIF('[4]Daily Log'!$AR$18:$AR$1017,$B438,'[4]Daily Log'!$AS$18:$AS$1017),0)","v":0},{"$f":"IFERROR($E438*SUMIF('[4]Daily Log'!$AU$18:$AU$1017,$B438,'[4]Daily Log'!$AV$18:$AV$1017),0)","v":0},{"$f":"IFERROR($E438*SUMIF('[4]Daily Log'!$AX$18:$AX$1017,$B438,'[4]Daily Log'!$AY$18:$AY$1017),0)","v":0},{"$f":"IFERROR($E438*SUMIF('[4]Daily Log'!$BA$18:$BA$1017,$B438,'[4]Daily Log'!$BB$18:$BB$1017),0)","v":0},{"$f":"IFERROR($E438*SUMIF('[4]Daily Log'!$BD$18:$BD$1017,$B438,'[4]Daily Log'!$BE$18:$BE$1017),0)","v":0},{"$f":"IFERROR($E438*SUMIF('[4]Daily Log'!$BG$18:$BG$1017,$B438,'[4]Daily Log'!$BH$18:$BH$1017),0)","v":0},{"$f":"IFERROR($E438*SUMIF('[4]Daily Log'!$BJ$18:$BJ$1017,$B438,'[4]Daily Log'!$BK$18:$BK$1017),0)","v":0},{"$f":"IFERROR($E438*SUMIF('[4]Daily Log'!$BM$18:$BM$1017,$B438,'[4]Daily Log'!$BN$18:$BN$1017),0)","v":0},{"$f":"IFERROR($E438*SUMIF('[4]Daily Log'!$BP$18:$BP$1017,$B438,'[4]Daily Log'!$BQ$18:$BQ$1017),0)","v":0},{"$f":"IFERROR($E438*SUMIF('[4]Daily Log'!$BS$18:$BS$1017,$B438,'[4]Daily Log'!$BT$18:$BT$1017),0)","v":0},{"$f":"IFERROR($E438*SUMIF('[4]Daily Log'!$BV$18:$BV$1017,$B438,'[4]Daily Log'!$BW$18:$BW$1017),0)","v":0},{"$f":"IFERROR($E438*SUMIF('[4]Daily Log'!$BY$18:$BY$1017,$B438,'[4]Daily Log'!$BZ$18:$BZ$1017),0)","v":0},{"$f":"IFERROR($E438*SUMIF('[4]Daily Log'!$CB$18:$CB$1017,$B438,'[4]Daily Log'!$CC$18:$CC$1017),0)","v":0},{"$f":"IFERROR($E438*SUMIF('[4]Daily Log'!$CE$18:$CE$1017,$B438,'[4]Daily Log'!$CF$18:$CF$1017),0)","v":0},{"$f":"IFERROR($E438*SUMIF('[4]Daily Log'!$CH$18:$CH$1017,$B438,'[4]Daily Log'!$CI$18:$CI$1017),0)","v":0},{"$f":"IFERROR($E438*SUMIF('[4]Daily Log'!$CK$18:$CK$1017,$B438,'[4]Daily Log'!$CL$18:$CL$1017),0)","v":0},{"$f":"IFERROR($E438*SUMIF('[4]Daily Log'!$CN$18:$CN$1017,$B438,'[4]Daily Log'!$CO$18:$CO$1017),0)","v":0}]
[null,null,null,null,null,0,{"$f":"IFERROR($E439*SUMIF('[4]Daily Log'!$B$18:$B$1017,$B439,'[4]Daily Log'!$C$18:$C$1017),0)","v":0},{"$f":"IFERROR($E439*SUMIF('[4]Daily Log'!$E$18:$E$1017,$B439,'[4]Daily Log'!$F$18:$F$1017),0)","v":0},{"$f":"IFERROR($E439*SUMIF('[4]Daily Log'!$H$18:$H$1017,$B439,'[4]Daily Log'!$I$18:$I$1017),0)","v":0},{"$f":"IFERROR($E439*SUMIF('[4]Daily Log'!$K$18:$K$1017,$B439,'[4]Daily Log'!$L$18:$L$1017),0)","v":0},{"$f":"IFERROR($E439*SUMIF('[4]Daily Log'!$N$18:$N$1017,$B439,'[4]Daily Log'!$O$18:$O$1017),0)","v":0},{"$f":"IFERROR($E439*SUMIF('[4]Daily Log'!$Q$18:$Q$1017,$B439,'[4]Daily Log'!$R$18:$R$1017),0)","v":0},{"$f":"IFERROR($E439*SUMIF('[4]Daily Log'!$T$18:$T$1017,$B439,'[4]Daily Log'!$U$18:$U$1017),0)","v":0},{"$f":"IFERROR($E439*SUMIF('[4]Daily Log'!$W$18:$W$1017,$B439,'[4]Daily Log'!$X$18:$X$1017),0)","v":0},{"$f":"IFERROR($E439*SUMIF('[4]Daily Log'!$Z$18:$Z$1017,$B439,'[4]Daily Log'!$AA$18:$AA$1017),0)","v":0},{"$f":"IFERROR($E439*SUMIF('[4]Daily Log'!$AC$18:$AC$1017,$B439,'[4]Daily Log'!$AD$18:$AD$1017),0)","v":0},{"$f":"IFERROR($E439*SUMIF('[4]Daily Log'!$AF$18:$AF$1017,$B439,'[4]Daily Log'!$AG$18:$AG$1017),0)","v":0},{"$f":"IFERROR($E439*SUMIF('[4]Daily Log'!$AI$18:$AI$1017,$B439,'[4]Daily Log'!$AJ$18:$AJ$1017),0)","v":0},{"$f":"IFERROR($E439*SUMIF('[4]Daily Log'!$AL$18:$AL$1017,$B439,'[4]Daily Log'!$AM$18:$AM$1017),0)","v":0},{"$f":"IFERROR($E439*SUMIF('[4]Daily Log'!$AO$18:$AO$1017,$B439,'[4]Daily Log'!$AP$18:$AP$1017),0)","v":0},{"$f":"IFERROR($E439*SUMIF('[4]Daily Log'!$AR$18:$AR$1017,$B439,'[4]Daily Log'!$AS$18:$AS$1017),0)","v":0},{"$f":"IFERROR($E439*SUMIF('[4]Daily Log'!$AU$18:$AU$1017,$B439,'[4]Daily Log'!$AV$18:$AV$1017),0)","v":0},{"$f":"IFERROR($E439*SUMIF('[4]Daily Log'!$AX$18:$AX$1017,$B439,'[4]Daily Log'!$AY$18:$AY$1017),0)","v":0},{"$f":"IFERROR($E439*SUMIF('[4]Daily Log'!$BA$18:$BA$1017,$B439,'[4]Daily Log'!$BB$18:$BB$1017),0)","v":0},{"$f":"IFERROR($E439*SUMIF('[4]Daily Log'!$BD$18:$BD$1017,$B439,'[4]Daily Log'!$BE$18:$BE$1017),0)","v":0},{"$f":"IFERROR($E439*SUMIF('[4]Daily Log'!$BG$18:$BG$1017,$B439,'[4]Daily Log'!$BH$18:$BH$1017),0)","v":0},{"$f":"IFERROR($E439*SUMIF('[4]Daily Log'!$BJ$18:$BJ$1017,$B439,'[4]Daily Log'!$BK$18:$BK$1017),0)","v":0},{"$f":"IFERROR($E439*SUMIF('[4]Daily Log'!$BM$18:$BM$1017,$B439,'[4]Daily Log'!$BN$18:$BN$1017),0)","v":0},{"$f":"IFERROR($E439*SUMIF('[4]Daily Log'!$BP$18:$BP$1017,$B439,'[4]Daily Log'!$BQ$18:$BQ$1017),0)","v":0},{"$f":"IFERROR($E439*SUMIF('[4]Daily Log'!$BS$18:$BS$1017,$B439,'[4]Daily Log'!$BT$18:$BT$1017),0)","v":0},{"$f":"IFERROR($E439*SUMIF('[4]Daily Log'!$BV$18:$BV$1017,$B439,'[4]Daily Log'!$BW$18:$BW$1017),0)","v":0},{"$f":"IFERROR($E439*SUMIF('[4]Daily Log'!$BY$18:$BY$1017,$B439,'[4]Daily Log'!$BZ$18:$BZ$1017),0)","v":0},{"$f":"IFERROR($E439*SUMIF('[4]Daily Log'!$CB$18:$CB$1017,$B439,'[4]Daily Log'!$CC$18:$CC$1017),0)","v":0},{"$f":"IFERROR($E439*SUMIF('[4]Daily Log'!$CE$18:$CE$1017,$B439,'[4]Daily Log'!$CF$18:$CF$1017),0)","v":0},{"$f":"IFERROR($E439*SUMIF('[4]Daily Log'!$CH$18:$CH$1017,$B439,'[4]Daily Log'!$CI$18:$CI$1017),0)","v":0},{"$f":"IFERROR($E439*SUMIF('[4]Daily Log'!$CK$18:$CK$1017,$B439,'[4]Daily Log'!$CL$18:$CL$1017),0)","v":0},{"$f":"IFERROR($E439*SUMIF('[4]Daily Log'!$CN$18:$CN$1017,$B439,'[4]Daily Log'!$CO$18:$CO$1017),0)","v":0}]
[null,null,null,null,null,0,{"$f":"IFERROR($E440*SUMIF('[4]Daily Log'!$B$18:$B$1017,$B440,'[4]Daily Log'!$C$18:$C$1017),0)","v":0},{"$f":"IFERROR($E440*SUMIF('[4]Daily Log'!$E$18:$E$1017,$B440,'[4]Daily Log'!$F$18:$F$1017),0)","v":0},{"$f":"IFERROR($E440*SUMIF('[4]Daily Log'!$H$18:$H$1017,$B440,'[4]Daily Log'!$I$18:$I$1017),0)","v":0},{"$f":"IFERROR($E440*SUMIF('[4]Daily Log'!$K$18:$K$1017,$B440,'[4]Daily Log'!$L$18:$L$1017),0)","v":0},{"$f":"IFERROR($E440*SUMIF('[4]Daily Log'!$N$18:$N$1017,$B440,'[4]Daily Log'!$O$18:$O$1017),0)","v":0},{"$f":"IFERROR($E440*SUMIF('[4]Daily Log'!$Q$18:$Q$1017,$B440,'[4]Daily Log'!$R$18:$R$1017),0)","v":0},{"$f":"IFERROR($E440*SUMIF('[4]Daily Log'!$T$18:$T$1017,$B440,'[4]Daily Log'!$U$18:$U$1017),0)","v":0},{"$f":"IFERROR($E440*SUMIF('[4]Daily Log'!$W$18:$W$1017,$B440,'[4]Daily Log'!$X$18:$X$1017),0)","v":0},{"$f":"IFERROR($E440*SUMIF('[4]Daily Log'!$Z$18:$Z$1017,$B440,'[4]Daily Log'!$AA$18:$AA$1017),0)","v":0},{"$f":"IFERROR($E440*SUMIF('[4]Daily Log'!$AC$18:$AC$1017,$B440,'[4]Daily Log'!$AD$18:$AD$1017),0)","v":0},{"$f":"IFERROR($E440*SUMIF('[4]Daily Log'!$AF$18:$AF$1017,$B440,'[4]Daily Log'!$AG$18:$AG$1017),0)","v":0},{"$f":"IFERROR($E440*SUMIF('[4]Daily Log'!$AI$18:$AI$1017,$B440,'[4]Daily Log'!$AJ$18:$AJ$1017),0)","v":0},{"$f":"IFERROR($E440*SUMIF('[4]Daily Log'!$AL$18:$AL$1017,$B440,'[4]Daily Log'!$AM$18:$AM$1017),0)","v":0},{"$f":"IFERROR($E440*SUMIF('[4]Daily Log'!$AO$18:$AO$1017,$B440,'[4]Daily Log'!$AP$18:$AP$1017),0)","v":0},{"$f":"IFERROR($E440*SUMIF('[4]Daily Log'!$AR$18:$AR$1017,$B440,'[4]Daily Log'!$AS$18:$AS$1017),0)","v":0},{"$f":"IFERROR($E440*SUMIF('[4]Daily Log'!$AU$18:$AU$1017,$B440,'[4]Daily Log'!$AV$18:$AV$1017),0)","v":0},{"$f":"IFERROR($E440*SUMIF('[4]Daily Log'!$AX$18:$AX$1017,$B440,'[4]Daily Log'!$AY$18:$AY$1017),0)","v":0},{"$f":"IFERROR($E440*SUMIF('[4]Daily Log'!$BA$18:$BA$1017,$B440,'[4]Daily Log'!$BB$18:$BB$1017),0)","v":0},{"$f":"IFERROR($E440*SUMIF('[4]Daily Log'!$BD$18:$BD$1017,$B440,'[4]Daily Log'!$BE$18:$BE$1017),0)","v":0},{"$f":"IFERROR($E440*SUMIF('[4]Daily Log'!$BG$18:$BG$1017,$B440,'[4]Daily Log'!$BH$18:$BH$1017),0)","v":0},{"$f":"IFERROR($E440*SUMIF('[4]Daily Log'!$BJ$18:$BJ$1017,$B440,'[4]Daily Log'!$BK$18:$BK$1017),0)","v":0},{"$f":"IFERROR($E440*SUMIF('[4]Daily Log'!$BM$18:$BM$1017,$B440,'[4]Daily Log'!$BN$18:$BN$1017),0)","v":0},{"$f":"IFERROR($E440*SUMIF('[4]Daily Log'!$BP$18:$BP$1017,$B440,'[4]Daily Log'!$BQ$18:$BQ$1017),0)","v":0},{"$f":"IFERROR($E440*SUMIF('[4]Daily Log'!$BS$18:$BS$1017,$B440,'[4]Daily Log'!$BT$18:$BT$1017),0)","v":0},{"$f":"IFERROR($E440*SUMIF('[4]Daily Log'!$BV$18:$BV$1017,$B440,'[4]Daily Log'!$BW$18:$BW$1017),0)","v":0},{"$f":"IFERROR($E440*SUMIF('[4]Daily Log'!$BY$18:$BY$1017,$B440,'[4]Daily Log'!$BZ$18:$BZ$1017),0)","v":0},{"$f":"IFERROR($E440*SUMIF('[4]Daily Log'!$CB$18:$CB$1017,$B440,'[4]Daily Log'!$CC$18:$CC$1017),0)","v":0},{"$f":"IFERROR($E440*SUMIF('[4]Daily Log'!$CE$18:$CE$1017,$B440,'[4]Daily Log'!$CF$18:$CF$1017),0)","v":0},{"$f":"IFERROR($E440*SUMIF('[4]Daily Log'!$CH$18:$CH$1017,$B440,'[4]Daily Log'!$CI$18:$CI$1017),0)","v":0},{"$f":"IFERROR($E440*SUMIF('[4]Daily Log'!$CK$18:$CK$1017,$B440,'[4]Daily Log'!$CL$18:$CL$1017),0)","v":0},{"$f":"IFERROR($E440*SUMIF('[4]Daily Log'!$CN$18:$CN$1017,$B440,'[4]Daily Log'!$CO$18:$CO$1017),0)","v":0}]
[]
[null,"Copyright © 2013 by Oracle Symphony Sdn Bhd"]

{"sheet":"Daily Log","index":2,"n_rows":1048,"n_cols":96,"rows_kept":1048,"cut":false,"hidden":false,"merged":[[5,2,5,4],[7,2,7,4],[9,2,9,4]]}
[]
[]
[null,null,"DAILY LOG OF PRODUCT SALES"]
[]
[]
[null,"OUTLET",{"$f":"Summary!C6","v":"CCS"}]
[]
[null,"YEAR",{"$f":"Summary!C8","v":"2013"}]
[]
[null,"MONTH",{"$f":"Summary!C10","v":"OCTOBER"}]
[]
[]
[]
[{"$f":"IFERROR(INDEX($CR$18:$CR$48,MAX($B$17:$CO$17),1),\"\")","v":0},{"$f":"\"DATE  \"&TEXT(Summary!G27,\"DD / MM / YYYY\")","v":"DATE  01 / 10 / 2013"},null,null,{"$f":"\"DATE  \"&TEXT(Summary!H27,\"DD / MM / YYYY\")","v":"DATE  02 / 10 / 2013"},null,null,{"$f":"\"DATE  \"&TEXT(Summary!I27,\"DD / MM / YYYY\")","v":"DATE  03 / 10 / 2013"},null,null,{"$f":"\"DATE  \"&TEXT(Summary!J27,\"DD / MM / YYYY\")","v":"DATE  04 / 10 / 2013"},null,null,{"$f":"\"DATE  \"&TEXT(Summary!K27,\"DD / MM / YYYY\")","v":"DATE  05 / 10 / 2013"},null,null,{"$f":"\"DATE  \"&TEXT(Summary!L27,\"DD / MM / YYYY\")","v":"DATE  06 / 10 / 2013"},null,null,{"$f":"\"DATE  \"&TEXT(Summary!M27,\"DD / MM / YYYY\")","v":"DATE  07 / 10 / 2013"},null,null,{"$f":"\"DATE  \"&TEXT(Summary!N27,\"DD / MM / YYYY\")","v":"DATE  08 / 10 / 2013"},null,null,{"$f":"\"DATE  \"&TEXT(Summary!O27,\"DD / MM / YYYY\")","v":"DATE  09 / 10 / 2013"},null,null,{"$f":"\"DATE  \"&TEXT(Summary!P27,\"DD / MM / YYYY\")","v":"DATE  10 / 10 / 2013"},null,null,{"$f":"\"DATE  \"&TEXT(Summary!Q27,\"DD / MM / YYYY\")","v":"DATE  11 / 10 / 2013"},null,null,{"$f":"\"DATE  \"&TEXT(Summary!R27,\"DD / MM / YYYY\")","v":"DATE  12 / 10 / 2013"},null,null,{"$f":"\"DATE  \"&TEXT(Summary!S27,\"DD / MM / YYYY\")","v":"DATE  13 / 10 / 2013"},null,null,{"$f":"\"DATE  \"&TEXT(Summary!T27,\"DD / MM / YYYY\")","v":"DATE  14 / 10 / 2013"},null,null,{"$f":"\"DATE  \"&TEXT(Summary!U27,\"DD / MM / YYYY\")","v":"DATE  15 / 10 / 2013"},null,null,{"$f":"\"DATE  \"&TEXT(Summary!V27,\"DD / MM / YYYY\")","v":"DATE  16 / 10 / 2013"},null,null,{"$f":"\"DATE  \"&TEXT(Summary!W27,\"DD / MM / YYYY\")","v":"DATE  17 / 10 / 2013"},null,null,{"$f":"\"DATE  \"&TEXT(Summary!X27,\"DD / MM / YYYY\")","v":"DATE  18 / 10 / 2013"},null,null,{"$f":"\"DATE  \"&TEXT(Summary!Y27,\"DD / MM / YYYY\")","v":"DATE  19 / 10 / 2013"},null,null,{"$f":"\"DATE  \"&TEXT(Summary!Z27,\"DD / MM / YYYY\")","v":"DATE  20 / 10 / 2013"},null,null,{"$f":"\"DATE  \"&TEXT(Summary!AA27,\"DD / MM / YYYY\")","v":"DATE  21 / 10 / 2013"},null,null,{"$f":"\"DATE  \"&TEXT(Summary!AB27,\"DD / MM / YYYY\")","v":"DATE  22 / 10 / 2013"},null,null,{"$f":"\"DATE  \"&TEXT(Summary!AC27,\"DD / MM / YYYY\")","v":"DATE  23 / 10 / 2013"},null,null,{"$f":"\"DATE  \"&TEXT(Summary!AD27,\"DD / MM / YYYY\")","v":"DATE  24 / 10 / 2013"},null,null,{"$f":"\"DATE  \"&TEXT(Summary!AE27,\"DD / MM / YYYY\")","v":"DATE  25 / 10 / 2013"},null,null,{"$f":"\"DATE  \"&TEXT(Summary!AF27,\"DD / MM / YYYY\")","v":"DATE  26 / 10 / 2013"},null,null,{"$f":"\"DATE  \"&TEXT(Summary!AG27,\"DD / MM / YYYY\")","v":"DATE  27 / 10 / 2013"},null,null,{"$f":"\"DATE  \"&TEXT(Summary!AH27,\"DD / MM / YYYY\")","v":"DATE  28 / 10 / 2013"},null,null,{"$f":"\"DATE  \"&TEXT(Summary!AI27,\"DD / MM / YYYY\")","v":"DATE  29 / 10 / 2013"},null,null,{"$f":"\"DATE  \"&TEXT(Summary!AJ27,\"DD / MM / YYYY\")","v":"DATE  30 / 10 / 2013"},null,null,{"$f":"\"DATE  \"&TEXT(Summary!AK27,\"DD / MM / YYYY\")","v":"DATE  31 / 10 / 2013"},null,null,"COLUMN"]
[]
[null,"PRODUCT","QUANTITY",null,"PRODUCT","QUANTITY",null,"PRODUCT","QUANTITY",null,"PRODUCT","QUANTITY",null,"PRODUCT","QUANTITY",null,"PRODUCT","QUANTITY",null,"PRODUCT","QUANTITY",null,"PRODUCT","QUANTITY",null,"PRODUCT","QUANTITY",null,"PRODUCT","QUANTITY",null,"PRODUCT","QUANTITY",null,"PRODUCT","QUANTITY",null,"PRODUCT","QUANTITY",null,"PRODUCT","QUANTITY",null,"PRODUCT","QUANTITY",null,"PRODUCT","QUANTITY",null,"PRODUCT","QUANTITY",null,"PRODUCT","QUANTITY",null,"PRODUCT","QUANTITY",null,"PRODUCT","QUANTITY",null,"PRODUCT","QUANTITY",null,"PRODUCT","QUANTITY",null,"PRODUCT","QUANTITY",null,"PRODUCT","QUANTITY",null,"PRODUCT","QUANTITY",null,"PRODUCT","QUANTITY",null,"PRODUCT","QUANTITY",null,"PRODUCT","QUANTITY",null,"PRODUCT","QUANTITY",null,"PRODUCT","QUANTITY",null,"PRODUCT","QUANTITY",null,"MONTH","COLUMN"]
[null,{"$f":"IF(B18<>\"\",1,0)","v":1},null,null,{"$f":"IF(E18<>\"\",2,0)","v":2},null,null,{"$f":"IF(H18<>\"\",3,0)","v":3},null,null,{"$f":"IF(K18<>\"\",4,0)","v":4},null,null,{"$f":"IF(N18<>\"\",5,0)","v":5},null,null,{"$f":"IF(Q18<>\"\",6,0)","v":6},null,null,{"$f":"IF(T18<>\"\",7,0)","v":7},null,null,{"$f":"IF(W18<>\"\",8,0)","v":8},null,null,{"$f":"IF(Z18<>\"\",9,0)","v":9},null,null,{"$f":"IF(AC18<>\"\",10,0)","v":10},null,null,{"$f":"IF(AF18<>\"\",11,0)","v":11},null,null,{"$f":"IF(AI18<>\"\",12,0)","v":12},null,null,{"$f":"IF(AL18<>\"\",13,0)","v":13},null,null,{"$f":"IF(AO18<>\"\",14,0)","v":14},null,null,{"$f":"IF(AR18<>\"\",15,0)","v":15},null,null,{"$f":"IF(AU18<>\"\",16,0)","v":16},null,null,{"$f":"IF(AX18<>\"\",17,0)","v":17},null,null,{"$f":"IF(BA18<>\"\",23,0)","v":23},null,null,{"$f":"IF(BD18<>\"\",23,0)","v":23},null,null,{"$f":"IF(BG18<>\"\",23,0)","v":23},null,null,{"$f":"IF(BJ18<>\"\",23,0)","v":23},null,null,{"$f":"IF(BM18<>\"\",23,0)","v":23},null,null,{"$f":"IF(BP18<>\"\",23,0)","v":23},null,null,{"$f":"IF(BS18<>\"\",24,0)","v":24},null,null,{"$f":"IF(BV18<>\"\",25,0)","v":25},null,null,{"$f":"IF(BY18<>\"\",26,0)","v":26},null,null,{"$f":"IF(CB18<>\"\",27,0)","v":27},null,null,{"$f":"IF(CE18<>\"\",28,0)","v":28},null,null,{"$f":"IF(CH18<>\"\",29,0)","v":29},null,null,{"$f":"IF(CK18<>\"\",30,0)","v":30},null,null,{"$f":"IF(CN18<>\"\",23,0)","v":23}]
[{"$f":"IFERROR(IF(INDIRECT($A$14&ROW())<>\"\",COUNTIF([7]Summary!$B$30:$B$1105,INDIRECT($A$14&ROW())),\"\"),\"\")","v":""},"AA04 K-LUNCH",25,null,"AA04 K-LUNCH",28,null,"AA04 K-LUNCH",79,null,"AA04 K-LUNCH",43,null,"AA04 K-LUNCH",58,null,"AA04 K-LUNCH",104,null,"AA02 K : MEMBER",1,null,"AA01 K : REGULAR",3,null,"AA01 K : REGULAR",1,null,"AA01 K : REGULAR",2,null,"AA04 K-LUNCH",27,null,"AA04 K-LUNCH",60,null,"AA02 K : MEMBER",3,null,"AA02 K : MEMBER",null,null,"AA04 K-LUNCH",140,null,"AA01 K : REGULAR",1,null,"AA04 K-LUNCH",45,null,"AA04 K-LUNCH",23,null,"AA04 K-LUNCH",41,null,"AA04 K-LUNCH",92,null,"AA04 K-LUNCH",19,null,"AA04 K-LUNCH",28,null,"AA04 K-LUNCH",17,null,"AA02 K : MEMBER",3,null,"AA04 K-LUNCH",71,null,"AA04 K-LUNCH",78,null,"AA04 K-LUNCH",107,null,"AA01 K : REGULAR",1,null,"AA04 K-LUNCH",41,null,"AA01 K : REGULAR",2,null,"AA04 K-LUNCH",47]
[{"$f":"IFERROR(IF(INDIRECT($A$14&ROW())<>\"\",COUNTIF([7]Summary!$B$30:$B$1105,INDIRECT($A$14&ROW())),\"\"),\"\")","v":""},"AB01 H : REGULAR",11,null,"AA05 K : CHILDREN",1,null,"AA05 K : CHILDREN",3,null,"AA05 K : CHILDREN",1,null,"AA05 K : CHILDREN",6,null,"AA05 K : CHILDREN",3,null,"AA04 K-LUNCH",40,null,"AA04 K-LUNCH",26,null,"AA04 K-LUNCH",28,null,"AA02 K : MEMBER",2,null,"AB01 H : REGULAR",18,null,"AA05 K : CHILDREN",2,null,"AA04 K-LUNCH",119,null,"AA04 K-LUNCH",45,null,"AA05 K : CHILDREN",5,null,"AA04 K-LUNCH",18,null,"AB01 H : REGULAR",17,null,"AB01 H : REGULAR",12,null,"AA05 K : CHILDREN",1,null,"AA05 K : CHILDREN",5,null,"AB01 H : REGULAR",21,null,"AA05 K : CHILDREN",1,null,"AB01 H : REGULAR",11,null,"AA04 K-LUNCH",10,null,"AB01 H : REGULAR",20,null,"AA06 K : MEMBER B'DAY",1,null,"AA05 K : CHILDREN",5,null,"AA04 K-LUNCH",50,null,"AB01 H : REGULAR",13,null,"AA02 K : MEMBER",7,null,"AB01 H : REGULAR",21]
[{"$f":"IFERROR(IF(INDIRECT($A$14&ROW())<>\"\",COUNTIF([7]Summary!$B$30:$B$1105,INDIRECT($A$14&ROW())),\"\"),\"\")","v":""},"AB02 H : MEMBER",null,null,"AB01 H : REGULAR",20,null,"AA11 K : FREEHEAD (R)",1,null,"AB01 H : REGULAR",31,null,"AA06 K : MEMBER B'DAY",1,null,"AB01 H : REGULAR",31,null,"AA05 K : CHILDREN",1,null,"AA05 K : CHILDREN",1,null,"AA09 K : FREEHEAD (B)",1,null,"AA04 K-LUNCH",29,null,"AB02 H : MEMBER",8,null,"AB01 H : REGULAR",48,null,"AA05 K : CHILDREN",4,null,"AA05 K : CHILDREN",5,null,"AB01 H : REGULAR",66,null,"AA05 K : CHILDREN",1,null,"AB05 H : STUDENT",14,null,"AB02 H : MEMBER",2,null,"AA06 K : MEMBER B'DAY",1,null,"AA06 K : MEMBER B'DAY",1,null,"AB02 H : MEMBER",2,null,"AA06 K : MEMBER B'DAY",1,null,"AB02 H : MEMBER",2,null,"AB01 H : REGULAR",12,null,"AB02 H : MEMBER",12,null,"AA17 K : XTD M ROOM",1,null,"AB01 H : REGULAR",71,null,"AA05 K : CHILDREN",1,null,"AB03 H : MEMBER 30%",5,null,"AA04 K-LUNCH",28,null,"AB05 H : STUDENT",31]
[{"$f":"IFERROR(IF(INDIRECT($A$14&ROW())<>\"\",COUNTIF([7]Summary!$B$30:$B$1105,INDIRECT($A$14&ROW())),\"\"),\"\")","v":""},"AB03 H : MEMBER 30%",18,null,"AB02 H : MEMBER",5,null,"AB01 H : REGULAR",17,null,"AB02 H : MEMBER",4,null,"AB01 H : REGULAR",47,null,"AB02 H : MEMBER",8,null,"AB01 H : REGULAR",21,null,"AB01 H : REGULAR",23,null,"AB01 H : REGULAR",15,null,"AB01 H : REGULAR",21,null,"AB05 H : STUDENT",63,null,"AB02 H : MEMBER",14,null,"AA11 K : FREEHEAD (R)",1,null,"AB01 H : REGULAR",41,null,"AB02 H : MEMBER",50,null,"AA06 K : MEMBER B'DAY",1,null,"AC01 N : REGULAR",55,null,"AB05 H : STUDENT",42,null,"AB01 H : REGULAR",57,null,"AA16 K : XTD S ROOM",2,null,"AB05 H : STUDENT",25,null,"AB01 H : REGULAR",12,null,"AB05 H : STUDENT",21,null,"AB02 H : MEMBER",5,null,"AB05 H : STUDENT",26,null,"AB01 H : REGULAR",54,null,"AB02 H : MEMBER",13,null,"AB01 H : REGULAR",7,null,"AB05 H : STUDENT",11,null,"AB01 H : REGULAR",6,null,"AB22 H: FB LIKED 50%",3]
[{"$f":"IFERROR(IF(INDIRECT($A$14&ROW())<>\"\",COUNTIF([7]Summary!$B$30:$B$1105,INDIRECT($A$14&ROW())),\"\"),\"\")","v":""},"AB05 H : STUDENT",12,null,"AB05 H : STUDENT",26,null,"AB02 H : MEMBER",4,null,"AB05 H : STUDENT",60,null,"AB02 H : MEMBER",22,null,"AB07 H : CHILDREN",4,null,"AB02 H : MEMBER",2,null,"AB03 H : MEMBER 30%",13,null,"AB02 H : MEMBER",4,null,"AB02 H : MEMBER",11,null,"AB22 H: FB LIKED 50%",7,null,"AB07 H : CHILDREN",7,null,"AB01 H : REGULAR",56,null,"AB02 H : MEMBER",9,null,"AB07 H : CHILDREN",14,null,"AB01 H : REGULAR",22,null,"AC02 N : MEMBER",12,null,"AB07 H : CHILDREN",3,null,"AB02 H : MEMBER",6,null,"AB01 H : REGULAR",44,null,"AB08 H : MEMBER B'DAY",1,null,"AB03 H : MEMBER 30%",6,null,"AC01 N : REGULAR",56,null,"AB05 H : STUDENT",6,null,"AB13 H : FREEHEAD (R)",1,null,"AB02 H : MEMBER",14,null,"AB07 H : CHILDREN",2,null,"AB02 H : MEMBER",8,null,"AB17 H : XTD S ROOM",1,null,"AB05 H : STUDENT",35,null,"AB50 H:Student Mem",1]
[{"$f":"IFERROR(IF(INDIRECT($A$14&ROW())<>\"\",COUNTIF([7]Summary!$B$30:$B$1105,INDIRECT($A$14&ROW())),\"\"),\"\")","v":""},"AB07 H : CHILDREN",3,null,"AB07 H : CHILDREN",3,null,"AB05 H : STUDENT",46,null,"AB17 H : XTD S ROOM",1,null,"AB08 H : MEMBER B'DAY",1,null,"AB22 H: FB LIKED 50%",14,null,"AB05 H : STUDENT",15,null,"AB05 H : STUDENT",32,null,"AB05 H : STUDENT",29,null,"AB05 H : STUDENT",18,null,"AC01 N : REGULAR",65,null,"AB08 H : MEMBER B'DAY",4,null,"AB02 H : MEMBER",14,null,"AB05 H : STUDENT",24,null,"AC01 N : REGULAR",55,null,"AB02 H : MEMBER",5,null,"AC05 K-DINNER",38,null,"AB13 H : FREEHEAD (R)",1,null,"AB07 H : CHILDREN",2,null,"AB02 H : MEMBER",16,null,"AB14 H : Buy 3 Free 1",null,null,"AB05 H : STUDENT",13,null,"AC02 N : MEMBER",23,null,"AB14 H : Buy 3 Free 1",1,null,"AB22 H: FB LIKED 50%",11,null,"AB07 H : CHILDREN",1,null,"AB13 H : FREEHEAD (R)",2,null,"AB05 H : STUDENT",25,null,"AB22 H: FB LIKED 50%",5,null,"AB07 H : CHILDREN",2,null,"AC01 N : REGULAR",43]
[{"$f":"IFERROR(IF(INDIRECT($A$14&ROW())<>\"\",COUNTIF([7]Summary!$B$30:$B$1105,INDIRECT($A$14&ROW())),\"\"),\"\")","v":""},"AB13 H : FREEHEAD (R)",1,null,"AB22 H: FB LIKED 50%",3,null,"AB17 H : XTD S ROOM",1,null,"AB22 H: FB LIKED 50%",3,null,"AB13 H : FREEHEAD (R)",1,null,"AC01 N : REGULAR",52,null,"AB18 H : XTD M ROOM",1,null,"AB07 H : CHILDREN",6,null,"AB22 H: FB LIKED 50%",7,null,"AB07 H : CHILDREN",1,null,"AC02 N : MEMBER",36,null,"AB13 H : FREEHEAD (R)",2,null,"AB07 H : CHILDREN",8,null,"AC01 N : REGULAR",74,null,"AC02 N : MEMBER",51,null,"AB05 H : STUDENT",19,null,"AC06 N : CHILDREN",3,null,"AB22 H: FB LIKED 50%",9,null,"AB08 H : MEMBER B'DAY",2,null,"AB22 H: FB LIKED 50%",29,null,"AB22 H: FB LIKED 50%",8,null,"AB22 H: FB LIKED 50%",2,null,"AC05 K-DINNER",31,null,"AC01 N : REGULAR",26,null,"AB50 H:Student Mem",1,null,"AB08 H : MEMBER B'DAY",2,null,"AB17 H : XTD S ROOM",1,null,"AB07 H : CHILDREN",1,null,"AC01 N : REGULAR",24,null,"AB13 H : FREEHEAD (R)",1,null,"AC02 N : MEMBER",37]
[{"$f":"IFERROR(IF(INDIRECT($A$14&ROW())<>\"\",COUNTIF([7]Summary!$B$30:$B$1105,INDIRECT($A$14&ROW())),\"\"),\"\")","v":""},"AC01 N : REGULAR",36,null,"AC01 N : REGULAR",53,null,"AB22 H: FB LIKED 50%",10,null,"AB50 H:Student Mem",3,null,"AB22 H: FB LIKED 50%",3,null,"AC02 N : MEMBER",51,null,"AB22 H: FB LIKED 50%",4,null,"AB08 H : MEMBER B'DAY",1,null,"AC01 N : REGULAR",83,null,"AB14 H : Buy 3 Free 1",1,null,"AC05 K-DINNER",30,null,"AB17 H : XTD S ROOM",1,null,"AB13 H : FREEHEAD (R)",2,null,"AC02 N : MEMBER",91,null,"AC05 K-DINNER",59,null,"AB07 H : CHILDREN",1,null,"AC07 N : MEMBER B'DAY",1,null,"AC01 N : REGULAR",96,null,"AB13 H : FREEHEAD (R)",3,null,"AC01 N : REGULAR",25,null,"AC01 N : REGULAR",42,null,"AC01 N : REGULAR",29,null,"AC06 N : CHILDREN",1,null,"AC02 N : MEMBER",21,null,"AC01 N : REGULAR",80,null,"AB13 H : FREEHEAD (R)",5,null,"AB22 H: FB LIKED 50%",28,null,"AC01 N : REGULAR",41,null,"AC02 N : MEMBER",3,null,"AC01 N : REGULAR",63,null,"AC05 K-DINNER",9]
[{"$f":"IFERROR(IF(INDIRECT($A$14&ROW())<>\"\",COUNTIF([7]Summary!$B$30:$B$1105,INDIRECT($A$14&ROW())),\"\"),\"\")","v":""},"AC02 N : MEMBER",null,null,"AC02 N : MEMBER",9,null,"AC01 N : REGULAR",51,null,"AC01 N : REGULAR",72,null,"AC01 N : REGULAR",97,null,"AC05 K-DINNER",36,null,"AC01 N : REGULAR",57,null,"AB50 H:Student Mem",2,null,"AC05 K-DINNER",18,null,"AB22 H: FB LIKED 50%",3,null,"AC07 N : MEMBER B'DAY",2,null,"AB22 H: FB LIKED 50%",9,null,"AB18 H : XTD M ROOM",1,null,"AC03 N : MEMBER 30%",null,null,"AC06 N : CHILDREN",4,null,"AB13 H : FREEHEAD (R)",1,null,"AC12 N : FREEHEAD (R)",2,null,"AC02 N : MEMBER",51,null,"AB22 H: FB LIKED 50%",12,null,"AC02 N : MEMBER",22,null,"AC02 N : MEMBER",27,null,"AC03 N : MEMBER 30%",80,null,"AC07 N : MEMBER B'DAY",3,null,"AC05 K-DINNER",29,null,"AC02 N : MEMBER",37,null,"AB22 H: FB LIKED 50%",9,null,"AB50 H:Student Mem",3,null,"AC02 N : MEMBER",40,null,"AC03 N : MEMBER 30%",44,null,"AC02 N : MEMBER",1,null,"AC07 N : MEMBER B'DAY",3]
[{"$f":"IFERROR(IF(INDIRECT($A$14&ROW())<>\"\",COUNTIF([7]Summary!$B$30:$B$1105,INDIRECT($A$14&ROW())),\"\"),\"\")","v":""},"AC03 N : MEMBER 30%",54,null,"AC05 K-DINNER",20,null,"AC02 N : MEMBER",15,null,"AC02 N : MEMBER",40,null,"AC02 N : MEMBER",66,null,"AC06 N : CHILDREN",2,null,"AC02 N : MEMBER",17,null,"AC01 N : REGULAR",19,null,"AC06 N : CHILDREN",2,null,"AB50 H:Student Mem",1,null,"AC12 N : FREEHEAD (R)",2,null,"AC01 N : REGULAR",83,null,"AB22 H: FB LIKED 50%",11,null,"AC05 K-DINNER",56,null,"AC17 N : XTD S ROOM",1,null,"AB22 H: FB LIKED 50%",5,null,"AC13 N : Buy 3 Free 1",1,null,"AC05 K-DINNER",19,null,"AB50 H:Student Mem",2,null,"AC05 K-DINNER",26,null,"AC05 K-DINNER",7,null,"AC05 K-DINNER",22,null,"AC12 N : FREEHEAD (R)",1,null,"AC07 N : MEMBER B'DAY",1,null,"AC05 K-DINNER",37,null,"AB50 H:Student Mem",5,null,"AC01 N : REGULAR",41,null,"AC05 K-DINNER",30,null,"AC05 K-DINNER",13,null,"AC05 K-DINNER",29,null,"AC12 N : FREEHEAD (R)",1]
[{"$f":"IFERROR(IF(INDIRECT($A$14&ROW())<>\"\",COUNTIF([7]Summary!$B$30:$B$1105,INDIRECT($A$14&ROW())),\"\"),\"\")","v":""},"AC05 K-DINNER",20,null,"AC07 N : MEMBER B'DAY",1,null,"AC05 K-DINNER",23,null,"AC05 K-DINNER",34,null,"AC05 K-DINNER",53,null,"AC12 N : FREEHEAD (R)",3,null,"AC05 K-DINNER",29,null,"AC02 N : MEMBER",null,null,"AC12 N : FREEHEAD (R)",8,null,"AC01 N : REGULAR",44,null,"AC17 N : XTD S ROOM",1,null,"AC02 N : MEMBER",50,null,"AC01 N : REGULAR",52,null,"AC06 N : CHILDREN",4,null,"AD01 M : REGULAR",11,null,"AB50 H:Student Mem",1,null,"AD01 M : REGULAR",9,null,"AC06 N : CHILDREN",5,null,"AC01 N : REGULAR",91,null,"AC06 N : CHILDREN",2,null,"AC07 N : MEMBER B'DAY",2,null,"AC06 N : CHILDREN",6,null,"AC35 N : 1+1",21,null,"AC12 N : FREEHEAD (R)",2,null,"AC06 N : CHILDREN",8,null,"AC01 N : REGULAR",83,null,"AC02 N : MEMBER",21,null,"AC06 N : CHILDREN",4,null,"AC06 N : CHILDREN",4,null,"AC06 N : CHILDREN",1,null,"AD01 M : REGULAR",23]
[{"$f":"IFERROR(IF(INDIRECT($A$14&ROW())<>\"\",COUNTIF([7]Summary!$B$30:$B$1105,INDIRECT($A$14&ROW())),\"\"),\"\")","v":""},"AC06 N : CHILDREN",2,null,"AC12 N : FREEHEAD (R)",4,null,"AC07 N : MEMBER B'DAY",4,null,"AC06 N : CHILDREN",2,null,"AC06 N : CHILDREN",10,null,"AC29 N:9.0 Ver",10,null,"AC07 N : MEMBER B'DAY",1,null,"AC03 N : MEMBER 30%",63,null,"AC18 N : XTD M ROOM",1,null,"AC02 N : MEMBER",47,null,"AC18 N : XTD M ROOM",1,null,"AC05 K-DINNER",110,null,"AC02 N : MEMBER",55,null,"AC07 N : MEMBER B'DAY",2,null,"AD02 M : MEMBER",12,null,"AC01 N : REGULAR",60,null,"AD05 M : LADIES",17,null,"AC07 N : MEMBER B'DAY",3,null,"AC02 N : MEMBER",22,null,"AC13 N : Buy 3 Free 1",1,null,"AC12 N : FREEHEAD (R)",4,null,"AC07 N : MEMBER B'DAY",1,null,"AC36 N : 1+1 Aeon",5,null,"AD01 M : REGULAR",9,null,"AC07 N : MEMBER B'DAY",1,null,"AC02 N : MEMBER",39,null,"AC05 K-DINNER",42,null,"AC07 N : MEMBER B'DAY",1,null,"AC07 N : MEMBER B'DAY",2,null,"AC07 N : MEMBER B'DAY",1,null,"AD05 M : LADIES",21]
[{"$f":"IFERROR(IF(INDIRECT($A$14&ROW())<>\"\",COUNTIF([7]Summary!$B$30:$B$1105,INDIRECT($A$14&ROW())),\"\"),\"\")","v":""},"AC08 N : STAFF B'DAY",1,null,"AC17 N : XTD S ROOM",1,null,"AC12 N : FREEHEAD (R)",7,null,"AC07 N : MEMBER B'DAY",1,null,"AC07 N : MEMBER B'DAY",2,null,"AD01 M : REGULAR",21,null,"AC12 N : FREEHEAD (R)",3,null,"AC05 K-DINNER",15,null,"AC35 N : 1+1",17,null,"AC05 K-DINNER",30,null,"AD01 M : REGULAR",18,null,"AC06 N : CHILDREN",10,null,"AC05 K-DINNER",36,null,"AC12 N : FREEHEAD (R)",1,null,"BA02 H : 4BP",3,null,"AC02 N : MEMBER",6,null,"BA08 GUINNESS BTL",1,null,"AC12 N : FREEHEAD (R)",5,null,"AC05 K-DINNER",21,null,"AD01 M : REGULAR",19,null,"AC19 N : XTD B ROOM",2,null,"AC12 N : FREEHEAD (R)",2,null,"AD01 M : REGULAR",7,null,"AD05 M : LADIES",21,null,"AC10 N : FREEHEAD (B)",1,null,"AC05 K-DINNER",25,null,"AC06 N : CHILDREN",2,null,"AC12 N : FREEHEAD (R)",1,null,"AD01 M : REGULAR",11,null,"AC12 N : FREEHEAD (R)",1,null,"AD06 M : CHILDREN",1]
[{"$f":"IFERROR(IF(INDIRECT($A$14&ROW())<>\"\",COUNTIF([7]Summary!$B$30:$B$1105,INDIRECT($A$14&ROW())),\"\"),\"\")","v":""},"AC18 N : XTD M ROOM",1,null,"AC18 N : XTD M ROOM",2,null,"AC17 N : XTD S ROOM",2,null,"AC12 N : FREEHEAD (R)",3,null,"AC12 N : FREEHEAD (R)",2,null,"AD05 M : LADIES",29,null,"AC18 N : XTD M ROOM",null,null,"AC07 N : MEMBER B'DAY",1,null,"AC36 N : 1+1 Aeon",8,null,"AC06 N : CHILDREN",5,null,"AD02 M : MEMBER",11,null,"AC07 N : MEMBER B'DAY",1,null,"AC06 N : CHILDREN",3,null,"AC17 N : XTD S ROOM",3,null,"BA04 N : 4BP",3,null,"AC05 K-DINNER",15,null,"BD05 N : 4BP PROMO",4,null,"AD01 M : REGULAR",23,null,"AC06 N : CHILDREN",4,null,"AD02 M : MEMBER",5,null,"AD01 M : REGULAR",10,null,"AC17 N : XTD S ROOM",null,null,"AD05 M : LADIES",18,null,"BA09 GUINNESS BKT",1,null,"AC12 N : FREEHEAD (R)",1,null,"AC06 N : CHILDREN",3,null,"AC12 N : FREEHEAD (R)",2,null,"AD01 M : REGULAR",2,null,"AD03 M : MEMBER 30%",7,null,"AC19 N : XTD B ROOM",1,null,"BA08 GUINNESS BTL",1]
[{"$f":"IFERROR(IF(INDIRECT($A$14&ROW())<>\"\",COUNTIF([7]Summary!$B$30:$B$1105,INDIRECT($A$14&ROW())),\"\"),\"\")","v":""},"AD01 M : REGULAR",10,null,"AC24 N:Student Mem",1,null,"AD01 M : REGULAR",14,null,"AD01 M : REGULAR",28,null,"AD01 M : REGULAR",76,null,"BA15 TIGER BKT",1,null,"AD01 M : REGULAR",16,null,"AD01 M : REGULAR",8,null,"AD01 M : REGULAR",12,null,"AC07 N : MEMBER B'DAY",2,null,"BA15 TIGER BKT",2,null,"AC12 N : FREEHEAD (R)",3,null,"AC07 N : MEMBER B'DAY",2,null,"AC18 N : XTD M ROOM",1,null,"BA08 GUINNESS BTL",2,null,"AC06 N : CHILDREN",2,null,"BD06 N : 4BP MEMBER",3,null,"AD02 M : MEMBER",23,null,"AC07 N : MEMBER B'DAY",3,null,"AD05 M : LADIES",14,null,"AD02 M : MEMBER",3,null,"AC18 N : XTD M ROOM",1,null,"AD06 M : CHILDREN",1,null,"BA11 HEINEKEN BTL",1,null,"AC18 N : XTD M ROOM",1,null,"AC07 N : MEMBER B'DAY",3,null,"AD01 M : REGULAR",8,null,"AD05 M : LADIES",7,null,"AD05 M : LADIES",9,null,"AC35 N : 1+1",20,null,"BD05 N : 4BP PROMO",1]
[{"$f":"IFERROR(IF(INDIRECT($A$14&ROW())<>\"\",COUNTIF([7]Summary!$B$30:$B$1105,INDIRECT($A$14&ROW())),\"\"),\"\")","v":""},"AD03 M : MEMBER 30%",8,null,"AC35 N : 1+1",12,null,"AD05 M : LADIES",11,null,"AD02 M : MEMBER",6,null,"AD02 M : MEMBER",12,null,"BD05 N : 4BP PROMO",1,null,"AD05 M : LADIES",14,null,"AD03 M : MEMBER 30%",3,null,"AD05 M : LADIES",19,null,"AC12 N : FREEHEAD (R)",4,null,"BD03 H : 4BP PROMO",1,null,"AC18 N : XTD M ROOM",2,null,"AC12 N : FREEHEAD (R)",3,null,"AD01 M : REGULAR",34,null,"BA12 HEINEKEN BKT",2,null,"AC18 N : XTD M ROOM",1,null,"BD12 HEI 2 x BKT MEME",1,null,"AD15 M : XTD S ROOM",1,null,"AC12 N : FREEHEAD (R)",3,null,"AD06 M : CHILDREN",3,null,"AD05 M : LADIES",12,null,"AC24 N:Student Mem",3,null,"AD16 M : XTD M ROOM",3,null,"BD05 N : 4BP PROMO",2,null,"AD01 M : REGULAR",25,null,"AC12 N : FREEHEAD (R)",2,null,"AD05 M : LADIES",13,null,"BD05 N : 4BP PROMO",1,null,"BD05 N : 4BP PROMO",3,null,"AC36 N : 1+1 Aeon",3,null,"BD06 N : 4BP MEMBER",6]
[{"$f":"IFERROR(IF(INDIRECT($A$14&ROW())<>\"\",COUNTIF([7]Summary!$B$30:$B$1105,INDIRECT($A$14&ROW())),\"\"),\"\")","v":""},"AD05 M : LADIES",18,null,"AC36 N : 1+1 Aeon",3,null,"BA11 HEINEKEN BTL",3,null,"AD07 M : MEMBER B'DAY",1,null,"AD06 M : CHILDREN",1,null,"BD06 N : 4BP MEMBER",3,null,"AD06 M : CHILDREN",1,null,"AD05 M : LADIES",6,null,"AD16 M : XTD M ROOM",1,null,"AC13 N : Buy 3 Free 1",1,null,"BD05 N : 4BP PROMO",9,null,"AD01 M : REGULAR",55,null,"AC17 N : XTD S ROOM",1,null,"AD02 M : MEMBER",9,null,"BA15 TIGER BKT",2,null,"AC35 N : 1+1",22,null,"BD13 TIGER 2 x BKT",4,null,"BA28 HOEGAARDEN BKT",1,null,"AC17 N : XTD S ROOM",2,null,"BD05 N : 4BP PROMO",4,null,"BA08 GUINNESS BTL",2,null,"AD03 M : MEMBER 30%",13,null,"AD30 M :1+1",2,null,"BD06 N : 4BP MEMBER",2,null,"AD02 M : MEMBER",10,null,"AC16 N : EVENT",1,null,"BD03 H : 4BP PROMO",1,null,"BD06 N : 4BP MEMBER",2,null,"BD06 N : 4BP MEMBER",1,null,"AD01 M : REGULAR",9,null,"BD13 TIGER 2 x BKT",11]
[{"$f":"IFERROR(IF(INDIRECT($A$14&ROW())<>\"\",COUNTIF([7]Summary!$B$30:$B$1105,INDIRECT($A$14&ROW())),\"\"),\"\")","v":""},"AD16 M : XTD M ROOM",null,null,"AD01 M : REGULAR",13,null,"BA14 TIGER BTL",1,null,"BA09 GUINNESS BKT",1,null,"AD07 M : MEMBER B'DAY",1,null,"BD09 GUI 2 x BKT",1,null,"AD14 M : EVENT",1,null,"BA08 GUINNESS BTL",1,null,"AD30 M :1+1",1,null,"AC24 N:Student Mem",1,null,"BD06 N : 4BP MEMBER",3,null,"AD02 M : MEMBER",27,null,"AC18 N : XTD M ROOM",1,null,"AD15 M : XTD S ROOM",3,null,"BA16 TIGER RND",2,null,"AC36 N : 1+1 Aeon",3,null,"BD14 TIGER 2x BKT MEM",4,null,"BD05 N : 4BP PROMO",4,null,"AD01 M : REGULAR",44,null,"BD06 N : 4BP MEMBER",1,null,"BA15 TIGER BKT",1,null,"AD05 M : LADIES",2,null,"BA11 HEINEKEN BTL",1,null,"BD07 M : 4BP PROMO",2,null,"AD06 M : CHILDREN",1,null,"AC17 N : XTD S ROOM",1,null,"BD05 N : 4BP PROMO",2,null,"BD09 GUI 2 x BKT",1,null,"BD09 GUI 2 x BKT",2,null,"AD05 M : LADIES",22,null,"BD14 TIGER 2x BKT MEM",4]
[{"$f":"IFERROR(IF(INDIRECT($A$14&ROW())<>\"\",COUNTIF([7]Summary!$B$30:$B$1105,INDIRECT($A$14&ROW())),\"\"),\"\")","v":""},"BA08 GUINNESS BTL",1,null,"AD05 M : LADIES",10,null,"BD03 H : 4BP PROMO",2,null,"BA15 TIGER BKT",1,null,"AD15 M : XTD S ROOM",1,null,"BD12 HEI 2 x BKT MEME",3,null,"BA08 GUINNESS BTL",2,null,"BA11 HEINEKEN BTL",1,null,"BA11 HEINEKEN BTL",1,null,"AD01 M : REGULAR",7,null,"BD07 M : 4BP PROMO",3,null,"AD11 M : FREEHEAD (R)",1,null,"AC19 N : XTD B ROOM",null,null,"BA04 N : 4BP",7,null,"CF10 CHOCOLATE (H)",1,null,"AD01 M : REGULAR",19,null,"CC08 CHOCOLATE SM",1,null,"BD06 N : 4BP MEMBER",2,null,"AD02 M : MEMBER",8,null,"BD11 HEI 2 x BKT",1,null,"BD05 N : 4BP PROMO",5,null,"AD16 M : XTD M ROOM",1,null,"BA20 Heineken 3+1",1,null,"BD10 GUI 2 x BKT MEM",1,null,"BA06 M : 4BP",1,null,"AD01 M : REGULAR",32,null,"BD06 N : 4BP MEMBER",4,null,"BD14 TIGER 2x BKT MEM",5,null,"BD11 HEI 2 x BKT",3,null,"AD30 M :1+1",5,null,"CI01 GRAPE J",10]
[{"$f":"IFERROR(IF(INDIRECT($A$14&ROW())<>\"\",COUNTIF([7]Summary!$B$30:$B$1105,INDIRECT($A$14&ROW())),\"\"),\"\")","v":""},"BD05 N : 4BP PROMO",5,null,"AD15 M : XTD S ROOM",null,null,"BD05 N : 4BP PROMO",1,null,"BD05 N : 4BP PROMO",3,null,"AD16 M : XTD M ROOM",2,null,"BD13 TIGER 2 x BKT",3,null,"BA14 TIGER BTL",2,null,"BA15 TIGER BKT",null,null,"BA14 TIGER BTL",2,null,"AD05 M : LADIES",20,null,"BD13 TIGER 2 x BKT",3,null,"BA27 HOEGAARDEN BTL",1,null,"AD01 M : REGULAR",10,null,"BA08 GUINNESS BTL",2,null,"CI01 GRAPE J",21,null,"AD05 M : LADIES",30,null,"CE08 LEMON HONEY (C)",2,null,"BD07 M : 4BP PROMO",2,null,"AD15 M : XTD S ROOM",null,null,"BD13 TIGER 2 x BKT",7,null,"BD06 N : 4BP MEMBER",4,null,"BA23 SOMERSBY BTL",1,null,"BD05 N : 4BP PROMO",5,null,"BD13 TIGER 2 x BKT",2,null,"BA15 TIGER BKT",1,null,"AD02 M : MEMBER",6,null,"BD09 GUI 2 x BKT",null,null,"CI01 GRAPE J",8,null,"BD13 TIGER 2 x BKT",3,null,"BA09 GUINNESS BKT",1,null,"CI02 APPLE J",14]
[{"$f":"IFERROR(IF(INDIRECT($A$14&ROW())<>\"\",COUNTIF([7]Summary!$B$30:$B$1105,INDIRECT($A$14&ROW())),\"\"),\"\")","v":""},"BD06 N : 4BP MEMBER",1,null,"AD30 M :1+1",1,null,"BD06 N : 4BP MEMBER",2,null,"BD06 N : 4BP MEMBER",9,null,"BA12 HEINEKEN BKT",1,null,"BD14 TIGER 2x BKT MEM",5,null,"BD05 N : 4BP PROMO",2,null,"BD05 N : 4BP PROMO",3,null,"BA23 SOMERSBY BTL",1,null,"BD05 N : 4BP PROMO",8,null,"BD14 TIGER 2x BKT MEM",3,null,"BD05 N : 4BP PROMO",7,null,"AD02 M : MEMBER",1,null,"BA09 GUINNESS BKT",1,null,"CI02 APPLE J",28,null,"AD15 M : XTD S ROOM",3,null,"CF02 NESCAFE (H)",1,null,"BD11 HEI 2 x BKT",1,null,"AD16 M : XTD M ROOM",3,null,"BD14 TIGER 2x BKT MEM",3,null,"BD10 GUI 2 x BKT MEM",1,null,"BA26 STRONGBOW BKT",1,null,"BD06 N : 4BP MEMBER",8,null,"BD14 TIGER 2x BKT MEM",4,null,"BD05 N : 4BP PROMO",5,null,"AD17 M : XTD B ROOM",1,null,"BD11 HEI 2 x BKT",2,null,"CI02 APPLE J",25,null,"BD14 TIGER 2x BKT MEM",2,null,"BA11 HEINEKEN BTL",4,null,"CI04 MANGO J",6]
[{"$f":"IFERROR(IF(INDIRECT($A$14&ROW())<>\"\",COUNTIF([7]Summary!$B$30:$B$1105,INDIRECT($A$14&ROW())),\"\"),\"\")","v":""},"BD12 HEI 2 x BKT MEME",1,null,"BD05 N : 4BP PROMO",3,null,"BD11 HEI 2 x BKT",3,null,"BD07 M : 4BP PROMO",1,null,"BD05 N : 4BP PROMO",5,null,"CE01 MILO (C)",2,null,"BD07 M : 4BP PROMO",1,null,"BD06 N : 4BP MEMBER",1,null,"BD05 N : 4BP PROMO",2,null,"BD13 TIGER 2 x BKT",1,null,"CE06 HNY GRN TEA (C)",1,null,"BD06 N : 4BP MEMBER",11,null,"AD05 M : LADIES",6,null,"BA10 GUINNESS RND",2,null,"CI04 MANGO J",24,null,"BD05 N : 4BP PROMO",4,null,"CI01 GRAPE J",8,null,"BD12 HEI 2 x BKT MEME",1,null,"BA14 TIGER BTL",1,null,"CD01 7 UP",1,null,"BD14 TIGER 2x BKT MEM",1,null,"BD04 H : 4BP MEMBER",1,null,"BD10 GUI 2 x BKT MEM",3,null,"CI01 GRAPE J",3,null,"BD06 N : 4BP MEMBER",3,null,"BA12 HEINEKEN BKT",1,null,"BD13 TIGER 2 x BKT",7,null,"CI04 MANGO J",8,null,"CI01 GRAPE J",8,null,"BD05 N : 4BP PROMO",4,null,"CI05 PASSION J",25]
[{"$f":"IFERROR(IF(INDIRECT($A$14&ROW())<>\"\",COUNTIF([7]Summary!$B$30:$B$1105,INDIRECT($A$14&ROW())),\"\"),\"\")","v":""},"BD13 TIGER 2 x BKT",3,null,"BD06 N : 4BP MEMBER",7,null,"BD12 HEI 2 x BKT MEME",3,null,"BD09 GUI 2 x BKT",1,null,"BD06 N : 4BP MEMBER",8,null,"CF01 MILO (H)",1,null,"BD08 M : 4BP MEMBER",null,null,"BD09 GUI 2 x BKT",1,null,"BD06 N : 4BP MEMBER",2,null,"BD14 TIGER 2x BKT MEM",7,null,"CG01 MINERAL WATER",5,null,"BD07 M : 4BP PROMO",1,null,"AD07 M : MEMBER B'DAY",1,null,"BA12 HEINEKEN BKT",null,null,"CI05 PASSION J",40,null,"BD06 N : 4BP MEMBER",3,null,"CI02 APPLE J",19,null,"BD13 TIGER 2 x BKT",3,null,"BA28 HOEGAARDEN BKT",1,null,"CF05 GRN TEA (H)",1,null,"CF05 GRN TEA (H)",1,null,"BD05 N : 4BP PROMO",1,null,"BD11 HEI 2 x BKT",1,null,"CI02 APPLE J",13,null,"BD10 GUI 2 x BKT MEM",1,null,"BA23 SOMERSBY BTL",1,null,"BD14 TIGER 2x BKT MEM",3,null,"CI05 PASSION J",23,null,"CI02 APPLE J",18,null,"BD06 N : 4BP MEMBER",4,null,"CI06 RIBENA J",9]
[{"$f":"IFERROR(IF(INDIRECT($A$14&ROW())<>\"\",COUNTIF([7]Summary!$B$30:$B$1105,INDIRECT($A$14&ROW())),\"\"),\"\")","v":""},"BD14 TIGER 2x BKT MEM",5,null,"BD13 TIGER 2 x BKT",9,null,"BD13 TIGER 2 x BKT",2,null,"BD11 HEI 2 x BKT",1,null,"BD07 M : 4BP PROMO",1,null,"CI01 GRAPE J",5,null,"BD13 TIGER 2 x BKT",1,null,"BD10 GUI 2 x BKT MEM",1,null,"BD07 M : 4BP PROMO",2,null,"CA01 GRAPE J",1,null,"CH01 7 UP JUG",1,null,"BD12 HEI 2 x BKT MEME",1,null,"BA15 TIGER BKT",1,null,"BA13 HEINEKEN RND",3,null,"CI06 RIBENA J",38,null,"BD09 GUI 2 x BKT",1,null,"CI04 MANGO J",9,null,"BD14 TIGER 2x BKT MEM",6,null,"BD05 N : 4BP PROMO",3,null,"CF06 HNY GRN TEA (H)",2,null,"CF06 HNY GRN TEA (H)",1,null,"BD12 HEI 2 x BKT MEME",1,null,"BD12 HEI 2 x BKT MEME",2,null,"CI04 MANGO J",9,null,"BD12 HEI 2 x BKT MEME",1,null,"BD05 N : 4BP PROMO",7,null,"CC03 KIWI SM",null,null,"CI06 RIBENA J",21,null,"CI04 MANGO J",10,null,"BD07 M : 4BP PROMO",4,null,"CJ01 GRAPE SO",1]
[{"$f":"IFERROR(IF(INDIRECT($A$14&ROW())<>\"\",COUNTIF([7]Summary!$B$30:$B$1105,INDIRECT($A$14&ROW())),\"\"),\"\")","v":""},"BD17 N : 4BP MEM DAY",1,null,"BD14 TIGER 2x BKT MEM",8,null,"BD14 TIGER 2x BKT MEM",7,null,"BD13 TIGER 2 x BKT",1,null,"BD09 GUI 2 x BKT",1,null,"CI02 APPLE J",21,null,"BD14 TIGER 2x BKT MEM",9,null,"BD11 HEI 2 x BKT",1,null,"BD11 HEI 2 x BKT",1,null,"CA02 APPLE J",1,null,"CH02 GRN TEA JUG",1,null,"BD13 TIGER 2 x BKT",2,null,"BA16 TIGER RND",1,null,"BA14 TIGER BTL",1,null,"CJ01 GRAPE SO",2,null,"BD11 HEI 2 x BKT",1,null,"CI05 PASSION J",25,null,"CI01 GRAPE J",6,null,"BD06 N : 4BP MEMBER",5,null,"CI01 GRAPE J",10,null,"CF08 LEMON HONEY (H)",1,null,"BD13 TIGER 2 x BKT",3,null,"BD13 TIGER 2 x BKT",4,null,"CI05 PASSION J",8,null,"BD13 TIGER 2 x BKT",4,null,"BD06 N : 4BP MEMBER",16,null,"CC05 PASSION SM",null,null,"CJ01 GRAPE SO",1,null,"CI05 PASSION J",12,null,"BD09 GUI 2 x BKT",1,null,"CJ06 RIBENA SO",1]
[{"$f":"IFERROR(IF(INDIRECT($A$14&ROW())<>\"\",COUNTIF([7]Summary!$B$30:$B$1105,INDIRECT($A$14&ROW())),\"\"),\"\")","v":""},"BD18 M : 4BP MEM DAY",null,null,"CD03 PEPSI",null,null,"CI01 GRAPE J",10,null,"BD14 TIGER 2x BKT MEM",2,null,"BD11 HEI 2 x BKT",1,null,"CI04 MANGO J",23,null,"CE05 GRN TEA (C)",null,null,"BD12 HEI 2 x BKT MEME",null,null,"BD13 TIGER 2 x BKT",4,null,"CE04 LEMON TEA (C)",1,null,"CH03 PEPSI JUG",1,null,"BD14 TIGER 2x BKT MEM",4,null,"BA28 HOEGAARDEN BKT",1,null,"BA15 TIGER BKT",4,null,"CJ02 APPLE SO",1,null,"BD13 TIGER 2 x BKT",13,null,"CI06 RIBENA J",31,null,"CI02 APPLE J",13,null,"BD08 M : 4BP MEMBER",2,null,"CI02 APPLE J",16,null,"CI01 GRAPE J",5,null,"BD14 TIGER 2x BKT MEM",3,null,"BD14 TIGER 2x BKT MEM",7,null,"CI06 RIBENA J",15,null,"BD14 TIGER 2x BKT MEM",6,null,"BD08 M : 4BP MEMBER",2,null,"CC06 RIBENA SM",null,null,"CJ02 APPLE SO",3,null,"CI06 RIBENA J",22,null,"BD10 GUI 2 x BKT MEM",2,null,"CL01 7 UP",7]
[{"$f":"IFERROR(IF(INDIRECT($A$14&ROW())<>\"\",COUNTIF([7]Summary!$B$30:$B$1105,INDIRECT($A$14&ROW())),\"\"),\"\")","v":""},"CA02 APPLE J",1,null,"CI01 GRAPE J",3,null,"CI02 APPLE J",16,null,"CA06 RIBENA J",1,null,"BD13 TIGER 2 x BKT",8,null,"CI05 PASSION J",20,null,"CF08 LEMON HONEY (H)",1,null,"BD13 TIGER 2 x BKT",3,null,"BD14 TIGER 2x BKT MEM",17,null,"CI01 GRAPE J",14,null,"CH05 SODA JUG",1,null,"CA02 APPLE J",1,null,"BD03 H : 4BP PROMO",3,null,"BA16 TIGER RND",2,null,"CJ05 PASSION SO",4,null,"BD14 TIGER 2x BKT MEM",10,null,"CJ02 APPLE SO",2,null,"CI04 MANGO J",13,null,"BD10 GUI 2 x BKT MEM",1,null,"CI04 MANGO J",12,null,"CI02 APPLE J",14,null,"BD17 N : 4BP MEM DAY",1,null,"CI01 GRAPE J",5,null,"CJ02 APPLE SO",1,null,"CE03 TEA (C)",1,null,"BD10 GUI 2 x BKT MEM",1,null,"CC07 CAPPUCINNO SM",null,null,"CJ05 PASSION SO",1,null,"CJ01 GRAPE SO",1,null,"BD12 HEI 2 x BKT MEME",1,null,"CL03 PEPSI",16]
[{"$f":"IFERROR(IF(INDIRECT($A$14&ROW())<>\"\",COUNTIF([7]Summary!$B$30:$B$1105,INDIRECT($A$14&ROW())),\"\"),\"\")","v":""},"CH01 7 UP JUG",2,null,"CI02 APPLE J",17,null,"CI04 MANGO J",24,null,"CC07 CAPPUCINNO SM",1,null,"BD14 TIGER 2x BKT MEM",1,null,"CI06 RIBENA J",34,null,"CI01 GRAPE J",12,null,"BD14 TIGER 2x BKT MEM",5,null,"CI01 GRAPE J",13,null,"CI02 APPLE J",22,null,"CI01 GRAPE J",14,null,"CA06 RIBENA J",1,null,"BD05 N : 4BP PROMO",2,null,"BA28 HOEGAARDEN BKT",1,null,"CJ06 RIBENA SO",5,null,"CE04 LEMON TEA (C)",1,null,"CJ06 RIBENA SO",3,null,"CI05 PASSION J",29,null,"BD13 TIGER 2 x BKT",6,null,"CI05 PASSION J",26,null,"CI04 MANGO J",17,null,"CI01 GRAPE J",7,null,"CI02 APPLE J",9,null,"CJ05 PASSION SO",1,null,"CI01 GRAPE J",13,null,"BD13 TIGER 2 x BKT",3,null,"CD03 PEPSI",1,null,"CJ06 RIBENA SO",1,null,"CJ06 RIBENA SO",1,null,"BD13 TIGER 2 x BKT",2,null,"CM01 MILO (C)",19]
[{"$f":"IFERROR(IF(INDIRECT($A$14&ROW())<>\"\",COUNTIF([7]Summary!$B$30:$B$1105,INDIRECT($A$14&ROW())),\"\"),\"\")","v":""},"CH03 PEPSI JUG",1,null,"CI04 MANGO J",6,null,"CI05 PASSION J",29,null,"CI01 GRAPE J",6,null,"CC07 CAPPUCINNO SM",1,null,"CJ01 GRAPE SO",2,null,"CI02 APPLE J",11,null,"BD17 N : 4BP MEM DAY",1,null,"CI02 APPLE J",16,null,"CI04 MANGO J",24,null,"CI02 APPLE J",19,null,"CE04 LEMON TEA (C)",1,null,"BD06 N : 4BP MEMBER",4,null,"BD14 TIGER 2x BKT MEM",null,null,"CL01 7 UP",17,null,"CI01 GRAPE J",9,null,"CL01 7 UP",17,null,"CI06 RIBENA J",45,null,"BD14 TIGER 2x BKT MEM",1,null,"CI06 RIBENA J",22,null,"CI05 PASSION J",19,null,"CI02 APPLE J",14,null,"CI04 MANGO J",16,null,"CL01 7 UP",5,null,"CI02 APPLE J",19,null,"BD14 TIGER 2x BKT MEM",19,null,"CI01 GRAPE J",6,null,"CL01 7 UP",8,null,"CL01 7 UP",25,null,"BD14 TIGER 2x BKT MEM",6,null,"CM02 NESCAFE (C)",8]
[{"$f":"IFERROR(IF(INDIRECT($A$14&ROW())<>\"\",COUNTIF([7]Summary!$B$30:$B$1105,INDIRECT($A$14&ROW())),\"\"),\"\")","v":""},"CH06 WATER JUG",1,null,"CI05 PASSION J",23,null,"CI06 RIBENA J",18,null,"CI02 APPLE J",22,null,"CD01 7 UP",1,null,"CJ02 APPLE SO",3,null,"CI04 MANGO J",8,null,"CC07 CAPPUCINNO SM",1,null,"CI04 MANGO J",18,null,"CI05 PASSION J",20,null,"CI04 MANGO J",16,null,"CE05 GRN TEA (C)",1,null,"BD08 M : 4BP MEMBER",3,null,"CI01 GRAPE J",13,null,"CL02 7 UP REVIVE",6,null,"CI02 APPLE J",6,null,"CL02 7 UP REVIVE",1,null,"CJ01 GRAPE SO",2,null,"CE05 GRN TEA (C)",1,null,"CJ01 GRAPE SO",2,null,"CI06 RIBENA J",9,null,"CI04 MANGO J",7,null,"CI05 PASSION J",12,null,"CL02 7 UP REVIVE",3,null,"CI04 MANGO J",24,null,"CE06 HNY GRN TEA (C)",1,null,"CI02 APPLE J",22,null,"CL02 7 UP REVIVE",2,null,"CL02 7 UP REVIVE",1,null,"CE06 HNY GRN TEA (C)",1,null,"CM03 TEA (C)",14]
[{"$f":"IFERROR(IF(INDIRECT($A$14&ROW())<>\"\",COUNTIF([7]Summary!$B$30:$B$1105,INDIRECT($A$14&ROW())),\"\"),\"\")","v":""},"CI01 GRAPE J",5,null,"CI06 RIBENA J",18,null,"CJ01 GRAPE SO",1,null,"CI04 MANGO J",16,null,"CE05 GRN TEA (C)",1,null,"CJ04 MANGO SO",1,null,"CI05 PASSION J",24,null,"CC08 CHOCOLATE SM",1,null,"CI05 PASSION J",29,null,"CI06 RIBENA J",20,null,"CI05 PASSION J",26,null,"CF01 MILO (H)",1,null,"BD10 GUI 2 x BKT MEM",1,null,"CI02 APPLE J",14,null,"CL03 PEPSI",27,null,"CI04 MANGO J",12,null,"CL03 PEPSI",14,null,"CJ06 RIBENA SO",4,null,"CF01 MILO (H)",1,null,"CJ02 APPLE SO",4,null,"CJ01 GRAPE SO",1,null,"CI05 PASSION J",13,null,"CI06 RIBENA J",21,null,"CL03 PEPSI",14,null,"CI05 PASSION J",39,null,"CF08 LEMON HONEY (H)",2,null,"CI04 MANGO J",22,null,"CL03 PEPSI",13,null,"CL03 PEPSI",29,null,"CI01 GRAPE J",6,null,"CM04 LEMON TEA (C)",20]
[{"$f":"IFERROR(IF(INDIRECT($A$14&ROW())<>\"\",COUNTIF([7]Summary!$B$30:$B$1105,INDIRECT($A$14&ROW())),\"\"),\"\")","v":""},"CI02 APPLE J",15,null,"CJ01 GRAPE SO",3,null,"CJ04 MANGO SO",1,null,"CI05 PASSION J",34,null,"CE08 LEMON HONEY (C)",1,null,"CJ06 RIBENA SO",4,null,"CI06 RIBENA J",27,null,"CI01 GRAPE J",5,null,"CI06 RIBENA J",22,null,"CJ01 GRAPE SO",1,null,"CI06 RIBENA J",21,null,"CG01 MINERAL WATER",3,null,"BD11 HEI 2 x BKT",2,null,"CI04 MANGO J",19,null,"CM01 MILO (C)",37,null,"CI05 PASSION J",18,null,"CM01 MILO (C)",13,null,"CL01 7 UP",19,null,"CF04 LEMON TEA (H)",1,null,"CJ05 PASSION SO",2,null,"CJ02 APPLE SO",1,null,"CI06 RIBENA J",17,null,"CJ01 GRAPE SO",4,null,"CM01 MILO (C)",9,null,"CI06 RIBENA J",35,null,"CI01 GRAPE J",13,null,"CI05 PASSION J",32,null,"CM01 MILO (C)",28,null,"CM01 MILO (C)",12,null,"CI02 APPLE J",14,null,"CM05 GRN TEA (C)",37]
[{"$f":"IFERROR(IF(INDIRECT($A$14&ROW())<>\"\",COUNTIF([7]Summary!$B$30:$B$1105,INDIRECT($A$14&ROW())),\"\"),\"\")","v":""},"CI04 MANGO J",11,null,"CJ02 APPLE SO",2,null,"CJ05 PASSION SO",4,null,"CI06 RIBENA J",24,null,"CF06 HNY GRN TEA (H)",4,null,"CL01 7 UP",24,null,"CJ02 APPLE SO",2,null,"CI02 APPLE J",19,null,"CJ01 GRAPE SO",3,null,"CJ05 PASSION SO",1,null,"CJ02 APPLE SO",6,null,"CI01 GRAPE J",22,null,"BD12 HEI 2 x BKT MEME",1,null,"CI05 PASSION J",30,null,"CM02 NESCAFE (C)",17,null,"CI06 RIBENA J",19,null,"CM02 NESCAFE (C)",5,null,"CL02 7 UP REVIVE",7,null,"CF06 HNY GRN TEA (H)",1,null,"CJ06 RIBENA SO",3,null,"CJ06 RIBENA SO",3,null,"CJ02 APPLE SO",1,null,"CJ02 APPLE SO",6,null,"CM02 NESCAFE (C)",8,null,"CJ01 GRAPE SO",2,null,"CI02 APPLE J",25,null,"CI06 RIBENA J",29,null,"CM02 NESCAFE (C)",4,null,"CM02 NESCAFE (C)",3,null,"CI04 MANGO J",10,null,"CM06 HNY GRN TEA (C)",65]
[{"$f":"IFERROR(IF(INDIRECT($A$14&ROW())<>\"\",COUNTIF([7]Summary!$B$30:$B$1105,INDIRECT($A$14&ROW())),\"\"),\"\")","v":""},"CI05 PASSION J",20,null,"CJ04 MANGO SO",2,null,"CJ06 RIBENA SO",8,null,"CJ01 GRAPE SO",1,null,"CF08 LEMON HONEY (H)",2,null,"CL02 7 UP REVIVE",2,null,"CJ06 RIBENA SO",2,null,"CI04 MANGO J",9,null,"CJ06 RIBENA SO",2,null,"CJ06 RIBENA SO",3,null,"CJ05 PASSION SO",7,null,"CI02 APPLE J",26,null,"BD13 TIGER 2 x BKT",8,null,"CI06 RIBENA J",41,null,"CM03 TEA (C)",7,null,"CJ01 GRAPE SO",3,null,"CM03 TEA (C)",6,null,"CL03 PEPSI",14,null,"CI01 GRAPE J",13,null,"CL01 7 UP",10,null,"CL01 7 UP",5,null,"CJ05 PASSION SO",2,null,"CJ05 PASSION SO",1,null,"CM03 TEA (C)",16,null,"CJ04 MANGO SO",1,null,"CI04 MANGO J",13,null,"CJ05 PASSION SO",2,null,"CM03 TEA (C)",9,null,"CM03 TEA (C)",6,null,"CI05 PASSION J",28,null,"CM07 HONEY (C)",23]
[{"$f":"IFERROR(IF(INDIRECT($A$14&ROW())<>\"\",COUNTIF([7]Summary!$B$30:$B$1105,INDIRECT($A$14&ROW())),\"\"),\"\")","v":""},"CI06 RIBENA J",25,null,"CJ05 PASSION SO",4,null,"CL01 7 UP",7,null,"CJ02 APPLE SO",4,null,"CH03 PEPSI JUG",2,null,"CL03 PEPSI",54,null,"CL01 7 UP",10,null,"CI05 PASSION J",21,null,"CL01 7 UP",7,null,"CL01 7 UP",10,null,"CJ06 RIBENA SO",3,null,"CI04 MANGO J",24,null,"BD14 TIGER 2x BKT MEM",3,null,"CJ01 GRAPE SO",4,null,"CM04 LEMON TEA (C)",69,null,"CJ02 APPLE SO",2,null,"CM04 LEMON TEA (C)",35,null,"CM01 MILO (C)",30,null,"CI02 APPLE J",25,null,"CL03 PEPSI",30,null,"CL02 7 UP REVIVE",3,null,"CJ06 RIBENA SO",7,null,"CJ06 RIBENA SO",1,null,"CM04 LEMON TEA (C)",22,null,"CJ06 RIBENA SO",1,null,"CI05 PASSION J",35,null,"CJ06 RIBENA SO",2,null,"CM04 LEMON TEA (C)",42,null,"CM04 LEMON TEA (C)",19,null,"CI06 RIBENA J",19,null,"CM08 LEMON HONEY (C)",60]
[{"$f":"IFERROR(IF(INDIRECT($A$14&ROW())<>\"\",COUNTIF([7]Summary!$B$30:$B$1105,INDIRECT($A$14&ROW())),\"\"),\"\")","v":""},"CJ06 RIBENA SO",1,null,"CJ06 RIBENA SO",8,null,"CL02 7 UP REVIVE",2,null,"CJ04 MANGO SO",1,null,"CI01 GRAPE J",20,null,"CM01 MILO (C)",28,null,"CL03 PEPSI",14,null,"CI06 RIBENA J",8,null,"CL02 7 UP REVIVE",3,null,"CL03 PEPSI",19,null,"CL01 7 UP",19,null,"CI05 PASSION J",41,null,"BD17 N : 4BP MEM DAY",1,null,"CJ02 APPLE SO",4,null,"CM05 GRN TEA (C)",53,null,"CJ05 PASSION SO",2,null,"CM05 GRN TEA (C)",26,null,"CM02 NESCAFE (C)",8,null,"CI04 MANGO J",18,null,"CM01 MILO (C)",24,null,"CL03 PEPSI",11,null,"CL01 7 UP",4,null,"CL01 7 UP",7,null,"CM05 GRN TEA (C)",26,null,"CL01 7 UP",8,null,"CI06 RIBENA J",24,null,"CL01 7 UP",6,null,"CM05 GRN TEA (C)",33,null,"CM05 GRN TEA (C)",44,null,"CJ01 GRAPE SO",1,null,"CN01 MILO (H)",16]
[{"$f":"IFERROR(IF(INDIRECT($A$14&ROW())<>\"\",COUNTIF([7]Summary!$B$30:$B$1105,INDIRECT($A$14&ROW())),\"\"),\"\")","v":""},"CL01 7 UP",10,null,"CL01 7 UP",4,null,"CL03 PEPSI",20,null,"CJ05 PASSION SO",3,null,"CI02 APPLE J",32,null,"CM02 NESCAFE (C)",16,null,"CM01 MILO (C)",27,null,"CJ01 GRAPE SO",2,null,"CL03 PEPSI",32,null,"CM01 MILO (C)",28,null,"CL02 7 UP REVIVE",2,null,"CI06 RIBENA J",44,null,"CA04 MANGO J",2,null,"CJ04 MANGO SO",2,null,"CM06 HNY GRN TEA (C)",95,null,"CJ06 RIBENA SO",5,null,"CM06 HNY GRN TEA (C)",48,null,"CM03 TEA (C)",10,null,"CI05 PASSION J",27,null,"CM02 NESCAFE (C)",7,null,"CM01 MILO (C)",13,null,"CL03 PEPSI",5,null,"CL03 PEPSI",13,null,"CM06 HNY GRN TEA (C)",26,null,"CL02 7 UP REVIVE",1,null,"CJ01 GRAPE SO",1,null,"CL02 7 UP REVIVE",3,null,"CM06 HNY GRN TEA (C)",33,null,"CM06 HNY GRN TEA (C)",42,null,"CJ02 APPLE SO",1,null,"CN02 NESCAFE (H)",2]
[{"$f":"IFERROR(IF(INDIRECT($A$14&ROW())<>\"\",COUNTIF([7]Summary!$B$30:$B$1105,INDIRECT($A$14&ROW())),\"\"),\"\")","v":""},"CL02 7 UP REVIVE",3,null,"CL02 7 UP REVIVE",3,null,"CM01 MILO (C)",20,null,"CJ06 RIBENA SO",4,null,"CI04 MANGO J",15,null,"CM03 TEA (C)",10,null,"CM02 NESCAFE (C)",4,null,"CJ02 APPLE SO",1,null,"CM01 MILO (C)",30,null,"CM02 NESCAFE (C)",5,null,"CL03 PEPSI",32,null,"CJ01 GRAPE SO",3,null,"CD01 7 UP",1,null,"CJ05 PASSION SO",1,null,"CM07 HONEY (C)",18,null,"CL01 7 UP",8,null,"CM07 HONEY (C)",9,null,"CM04 LEMON TEA (C)",49,null,"CI06 RIBENA J",28,null,"CM03 TEA (C)",12,null,"CM02 NESCAFE (C)",3,null,"CM01 MILO (C)",36,null,"CM01 MILO (C)",21,null,"CM07 HONEY (C)",13,null,"CL03 PEPSI",19,null,"CJ02 APPLE SO",7,null,"CL03 PEPSI",34,null,"CM07 HONEY (C)",9,null,"CM07 HONEY (C)",8,null,"CJ05 PASSION SO",2,null,"CN03 TEA (H)",2]
[{"$f":"IFERROR(IF(INDIRECT($A$14&ROW())<>\"\",COUNTIF([7]Summary!$B$30:$B$1105,INDIRECT($A$14&ROW())),\"\"),\"\")","v":""},"CL03 PEPSI",15,null,"CL03 PEPSI",10,null,"CM02 NESCAFE (C)",5,null,"CL01 7 UP",13,null,"CI05 PASSION J",44,null,"CM04 LEMON TEA (C)",40,null,"CM03 TEA (C)",6,null,"CJ05 PASSION SO",1,null,"CM02 NESCAFE (C)",11,null,"CM03 TEA (C)",12,null,"CM01 MILO (C)",28,null,"CJ02 APPLE SO",3,null,"CD02 7 UP REVIVE",1,null,"CL01 7 UP",22,null,"CM08 LEMON HONEY (C)",111,null,"CL02 7 UP REVIVE",5,null,"CM08 LEMON HONEY (C)",50,null,"CM05 GRN TEA (C)",73,null,"CJ02 APPLE SO",2,null,"CM04 LEMON TEA (C)",35,null,"CM03 TEA (C)",9,null,"CM02 NESCAFE (C)",3,null,"CM02 NESCAFE (C)",4,null,"CM08 LEMON HONEY (C)",32,null,"CM01 MILO (C)",21,null,"CJ04 MANGO SO",1,null,"CM01 MILO (C)",28,null,"CM08 LEMON HONEY (C)",46,null,"CM08 LEMON HONEY (C)",71,null,"CJ06 RIBENA SO",7,null,"CN04 LEMON TEA (H)",2]
[{"$f":"IFERROR(IF(INDIRECT($A$14&ROW())<>\"\",COUNTIF([7]Summary!$B$30:$B$1105,INDIRECT($A$14&ROW())),\"\"),\"\")","v":""},"CM01 MILO (C)",31,null,"CM01 MILO (C)",20,null,"CM03 TEA (C)",19,null,"CL02 7 UP REVIVE",5,null,"CI06 RIBENA J",40,null,"CM05 GRN TEA (C)",81,null,"CM04 LEMON TEA (C)",26,null,"CJ06 RIBENA SO",3,null,"CM03 TEA (C)",17,null,"CM04 LEMON TEA (C)",26,null,"CM02 NESCAFE (C)",7,null,"CJ04 MANGO SO",1,null,"CD03 PEPSI",6,null,"CL03 PEPSI",51,null,"CN01 MILO (H)",27,null,"CL03 PEPSI",17,null,"CN01 MILO (H)",8,null,"CM06 HNY GRN TEA (C)",84,null,"CJ04 MANGO SO",1,null,"CM05 GRN TEA (C)",30,null,"CM04 LEMON TEA (C)",22,null,"CM03 TEA (C)",7,null,"CM03 TEA (C)",3,null,"CN01 MILO (H)",10,null,"CM02 NESCAFE (C)",9,null,"CJ05 PASSION SO",2,null,"CM02 NESCAFE (C)",12,null,"CN01 MILO (H)",22,null,"CN01 MILO (H)",15,null,"CL01 7 UP",11,null,"CN05 GRN TEA (H)",5]
[{"$f":"IFERROR(IF(INDIRECT($A$14&ROW())<>\"\",COUNTIF([7]Summary!$B$30:$B$1105,INDIRECT($A$14&ROW())),\"\"),\"\")","v":""},"CM02 NESCAFE (C)",8,null,"CM02 NESCAFE (C)",7,null,"CM04 LEMON TEA (C)",47,null,"CL03 PEPSI",21,null,"CJ01 GRAPE SO",1,null,"CM06 HNY GRN TEA (C)",77,null,"CM05 GRN TEA (C)",49,null,"CL01 7 UP",11,null,"CM04 LEMON TEA (C)",23,null,"CM05 GRN TEA (C)",33,null,"CM03 TEA (C)",5,null,"CJ05 PASSION SO",3,null,"CE04 LEMON TEA (C)",1,null,"CM01 MILO (C)",38,null,"CN02 NESCAFE (H)",9,null,"CM01 MILO (C)",7,null,"CN02 NESCAFE (H)",5,null,"CM07 HONEY (C)",21,null,"CJ05 PASSION SO",2,null,"CM06 HNY GRN TEA (C)",68,null,"CM05 GRN TEA (C)",39,null,"CM04 LEMON TEA (C)",41,null,"CM04 LEMON TEA (C)",23,null,"CN02 NESCAFE (H)",4,null,"CM03 TEA (C)",5,null,"CJ06 RIBENA SO",1,null,"CM03 TEA (C)",7,null,"CN02 NESCAFE (H)",5,null,"CN02 NESCAFE (H)",3,null,"CL02 7 UP REVIVE",1,null,"CN06 HNY GRN TEA (H)",33]
[{"$f":"IFERROR(IF(INDIRECT($A$14&ROW())<>\"\",COUNTIF([7]Summary!$B$30:$B$1105,INDIRECT($A$14&ROW())),\"\"),\"\")","v":""},"CM03 TEA (C)",11,null,"CM03 TEA (C)",12,null,"CM05 GRN TEA (C)",53,null,"CM01 MILO (C)",31,null,"CJ02 APPLE SO",2,null,"CM07 HONEY (C)",20,null,"CM06 HNY GRN TEA (C)",43,null,"CL02 7 UP REVIVE",1,null,"CM05 GRN TEA (C)",39,null,"CM06 HNY GRN TEA (C)",63,null,"CM04 LEMON TEA (C)",30,null,"CJ06 RIBENA SO",4,null,"CE05 GRN TEA (C)",1,null,"CM02 NESCAFE (C)",9,null,"CN03 TEA (H)",3,null,"CM02 NESCAFE (C)",6,null,"CN03 TEA (H)",1,null,"CM08 LEMON HONEY (C)",73,null,"CL01 7 UP",13,null,"CM07 HONEY (C)",18,null,"CM06 HNY GRN TEA (C)",46,null,"CM05 GRN TEA (C)",38,null,"CM05 GRN TEA (C)",56,null,"CN04 LEMON TEA (H)",4,null,"CM04 LEMON TEA (C)",45,null,"CL01 7 UP",12,null,"CM04 LEMON TEA (C)",51,null,"CN03 TEA (H)",3,null,"CN04 LEMON TEA (H)",3,null,"CL03 PEPSI",8,null,"CN07 HONEY (H)",22]
[{"$f":"IFERROR(IF(INDIRECT($A$14&ROW())<>\"\",COUNTIF([7]Summary!$B$30:$B$1105,INDIRECT($A$14&ROW())),\"\"),\"\")","v":""},"CM04 LEMON TEA (C)",30,null,"CM04 LEMON TEA (C)",28,null,"CM06 HNY GRN TEA (C)",47,null,"CM02 NESCAFE (C)",8,null,"CJ06 RIBENA SO",3,null,"CM08 LEMON HONEY (C)",78,null,"CM07 HONEY (C)",16,null,"CL03 PEPSI",16,null,"CM06 HNY GRN TEA (C)",48,null,"CM07 HONEY (C)",12,null,"CM05 GRN TEA (C)",25,null,"CL01 7 UP",32,null,"CI01 GRAPE J",15,null,"CM03 TEA (C)",16,null,"CN04 LEMON TEA (H)",5,null,"CM03 TEA (C)",9,null,"CN04 LEMON TEA (H)",1,null,"CN01 MILO (H)",36,null,"CL02 7 UP REVIVE",2,null,"CM08 LEMON HONEY (C)",70,null,"CM07 HONEY (C)",13,null,"CM06 HNY GRN TEA (C)",47,null,"CM06 HNY GRN TEA (C)",71,null,"CN05 GRN TEA (H)",9,null,"CM05 GRN TEA (C)",55,null,"CL02 7 UP REVIVE",8,null,"CM05 GRN TEA (C)",42,null,"CN04 LEMON TEA (H)",4,null,"CN05 GRN TEA (H)",7,null,"CM01 MILO (C)",24,null,"CN08 LEMON HONEY (H)",51]
[{"$f":"IFERROR(IF(INDIRECT($A$14&ROW())<>\"\",COUNTIF([7]Summary!$B$30:$B$1105,INDIRECT($A$14&ROW())),\"\"),\"\")","v":""},"CM05 GRN TEA (C)",45,null,"CM05 GRN TEA (C)",32,null,"CM07 HONEY (C)",15,null,"CM03 TEA (C)",13,null,"CL01 7 UP",19,null,"CN01 MILO (H)",21,null,"CM08 LEMON HONEY (C)",52,null,"CM01 MILO (C)",40,null,"CM07 HONEY (C)",11,null,"CM08 LEMON HONEY (C)",94,null,"CM06 HNY GRN TEA (C)",58,null,"CL03 PEPSI",55,null,"CI02 APPLE J",20,null,"CM04 LEMON TEA (C)",63,null,"CN05 GRN TEA (H)",7,null,"CM04 LEMON TEA (C)",45,null,"CN05 GRN TEA (H)",4,null,"CN02 NESCAFE (H)",11,null,"CL03 PEPSI",27,null,"CN01 MILO (H)",30,null,"CM08 LEMON HONEY (C)",60,null,"CM07 HONEY (C)",17,null,"CM07 HONEY (C)",18,null,"CN06 HNY GRN TEA (H)",9,null,"CM06 HNY GRN TEA (C)",88,null,"CL03 PEPSI",37,null,"CM06 HNY GRN TEA (C)",66,null,"CN05 GRN TEA (H)",12,null,"CN06 HNY GRN TEA (H)",7,null,"CM02 NESCAFE (C)",11,null,"CN12 CHAMOMILE (H)",2]
[{"$f":"IFERROR(IF(INDIRECT($A$14&ROW())<>\"\",COUNTIF([7]Summary!$B$30:$B$1105,INDIRECT($A$14&ROW())),\"\"),\"\")","v":""},"CM06 HNY GRN TEA (C)",58,null,"CM06 HNY GRN TEA (C)",54,null,"CM08 LEMON HONEY (C)",63,null,"CM04 LEMON TEA (C)",41,null,"CL02 7 UP REVIVE",3,null,"CN02 NESCAFE (H)",9,null,"CN01 MILO (H)",8,null,"CM02 NESCAFE (C)",2,null,"CM08 LEMON HONEY (C)",55,null,"CN01 MILO (H)",19,null,"CM07 HONEY (C)",13,null,"CM01 MILO (C)",29,null,"CI04 MANGO J",19,null,"CM05 GRN TEA (C)",53,null,"CN06 HNY GRN TEA (H)",32,null,"CM05 GRN TEA (C)",38,null,"CN06 HNY GRN TEA (H)",6,null,"CN04 LEMON TEA (H)",11,null,"CM01 MILO (C)",11,null,"CN02 NESCAFE (H)",4,null,"CN01 MILO (H)",10,null,"CM08 LEMON HONEY (C)",59,null,"CM08 LEMON HONEY (C)",52,null,"CN07 HONEY (H)",6,null,"CM07 HONEY (C)",12,null,"CM01 MILO (C)",29,null,"CM07 HONEY (C)",18,null,"CN06 HNY GRN TEA (H)",11,null,"CN07 HONEY (H)",19,null,"CM03 TEA (C)",7,null,"CN13 DARJEELING (H)",2]
[{"$f":"IFERROR(IF(INDIRECT($A$14&ROW())<>\"\",COUNTIF([7]Summary!$B$30:$B$1105,INDIRECT($A$14&ROW())),\"\"),\"\")","v":""},"CM07 HONEY (C)",33,null,"CM07 HONEY (C)",13,null,"CN01 MILO (H)",19,null,"CM05 GRN TEA (C)",71,null,"CL03 PEPSI",44,null,"CN03 TEA (H)",2,null,"CN02 NESCAFE (H)",1,null,"CM03 TEA (C)",12,null,"CN01 MILO (H)",10,null,"CN02 NESCAFE (H)",6,null,"CM08 LEMON HONEY (C)",71,null,"CM02 NESCAFE (C)",8,null,"CI05 PASSION J",38,null,"CM06 HNY GRN TEA (C)",106,null,"CN07 HONEY (H)",14,null,"CM06 HNY GRN TEA (C)",26,null,"CN07 HONEY (H)",10,null,"CN05 GRN TEA (H)",18,null,"CM02 NESCAFE (C)",16,null,"CN03 TEA (H)",2,null,"CN02 NESCAFE (H)",3,null,"CN01 MILO (H)",23,null,"CN01 MILO (H)",13,null,"CN08 LEMON HONEY (H)",47,null,"CM08 LEMON HONEY (C)",114,null,"CM02 NESCAFE (C)",15,null,"CM08 LEMON HONEY (C)",100,null,"CN07 HONEY (H)",19,null,"CN08 LEMON HONEY (H)",41,null,"CM04 LEMON TEA (C)",22,null,"CN14 EARL GREY (H)",1]
[{"$f":"IFERROR(IF(INDIRECT($A$14&ROW())<>\"\",COUNTIF([7]Summary!$B$30:$B$1105,INDIRECT($A$14&ROW())),\"\"),\"\")","v":""},"CM08 LEMON HONEY (C)",62,null,"CM08 LEMON HONEY (C)",57,null,"CN02 NESCAFE (H)",2,null,"CM06 HNY GRN TEA (C)",78,null,"CM01 MILO (C)",48,null,"CN04 LEMON TEA (H)",6,null,"CN03 TEA (H)",2,null,"CM04 LEMON TEA (C)",35,null,"CN02 NESCAFE (H)",5,null,"CN04 LEMON TEA (H)",7,null,"CN01 MILO (H)",18,null,"CM03 TEA (C)",17,null,"CI06 RIBENA J",29,null,"CM07 HONEY (C)",28,null,"CN08 LEMON HONEY (H)",86,null,"CM07 HONEY (C)",18,null,"CN08 LEMON HONEY (H)",39,null,"CN06 HNY GRN TEA (H)",46,null,"CM03 TEA (C)",12,null,"CN04 LEMON TEA (H)",4,null,"CN04 LEMON TEA (H)",7,null,"CN02 NESCAFE (H)",1,null,"CN02 NESCAFE (H)",1,null,"CN14 EARL GREY (H)",4,null,"CN01 MILO (H)",34,null,"CM03 TEA (C)",18,null,"CN01 MILO (H)",38,null,"CN08 LEMON HONEY (H)",40,null,"CN12 CHAMOMILE (H)",1,null,"CM05 GRN TEA (C)",27,null,"CO02 PLAIN WATER",29]
[{"$f":"IFERROR(IF(INDIRECT($A$14&ROW())<>\"\",COUNTIF([7]Summary!$B$30:$B$1105,INDIRECT($A$14&ROW())),\"\"),\"\")","v":""},"CN01 MILO (H)",23,null,"CN01 MILO (H)",30,null,"CN04 LEMON TEA (H)",2,null,"CM07 HONEY (C)",28,null,"CM02 NESCAFE (C)",10,null,"CN05 GRN TEA (H)",14,null,"CN04 LEMON TEA (H)",2,null,"CM05 GRN TEA (C)",57,null,"CN03 TEA (H)",2,null,"CN05 GRN TEA (H)",8,null,"CN02 NESCAFE (H)",3,null,"CM04 LEMON TEA (C)",56,null,"CJ01 GRAPE SO",2,null,"CM08 LEMON HONEY (C)",149,null,"CN12 CHAMOMILE (H)",8,null,"CM08 LEMON HONEY (C)",58,null,"CN12 CHAMOMILE (H)",1,null,"CN07 HONEY (H)",19,null,"CM04 LEMON TEA (C)",41,null,"CN05 GRN TEA (H)",15,null,"CN05 GRN TEA (H)",5,null,"CN03 TEA (H)",2,null,"CN03 TEA (H)",2,null,"CO02 PLAIN WATER",23,null,"CN02 NESCAFE (H)",4,null,"CM04 LEMON TEA (C)",53,null,"CN02 NESCAFE (H)",11,null,"CN12 CHAMOMILE (H)",2,null,"CO02 PLAIN WATER",14,null,"CM06 HNY GRN TEA (C)",48,null,"DB01 1001:BP CKN CP",2]
[{"$f":"IFERROR(IF(INDIRECT($A$14&ROW())<>\"\",COUNTIF([7]Summary!$B$30:$B$1105,INDIRECT($A$14&ROW())),\"\"),\"\")","v":""},"CN02 NESCAFE (H)",3,null,"CN02 NESCAFE (H)",1,null,"CN05 GRN TEA (H)",6,null,"CM08 LEMON HONEY (C)",106,null,"CM03 TEA (C)",11,null,"CN06 HNY GRN TEA (H)",20,null,"CN05 GRN TEA (H)",9,null,"CM06 HNY GRN TEA (C)",35,null,"CN04 LEMON TEA (H)",8,null,"CN06 HNY GRN TEA (H)",12,null,"CN04 LEMON TEA (H)",2,null,"CM05 GRN TEA (C)",73,null,"CJ02 APPLE SO",3,null,"CN01 MILO (H)",30,null,"CN13 DARJEELING (H)",1,null,"CN01 MILO (H)",22,null,"CO02 PLAIN WATER",25,null,"CN08 LEMON HONEY (H)",47,null,"CM05 GRN TEA (C)",45,null,"CN06 HNY GRN TEA (H)",20,null,"CN06 HNY GRN TEA (H)",17,null,"CN04 LEMON TEA (H)",4,null,"CN04 LEMON TEA (H)",1,null,"DB01 1001:BP CKN CP",2,null,"CN03 TEA (H)",3,null,"CM05 GRN TEA (C)",47,null,"CN03 TEA (H)",3,null,"CN14 EARL GREY (H)",2,null,"DB01 1001:BP CKN CP",1,null,"CM07 HONEY (C)",13,null,"DB03 1003:MSR CKN CP",2]
[{"$f":"IFERROR(IF(INDIRECT($A$14&ROW())<>\"\",COUNTIF([7]Summary!$B$30:$B$1105,INDIRECT($A$14&ROW())),\"\"),\"\")","v":""},"CN03 TEA (H)",2,null,"CN03 TEA (H)",2,null,"CN06 HNY GRN TEA (H)",10,null,"CN01 MILO (H)",13,null,"CM04 LEMON TEA (C)",72,null,"CN07 HONEY (H)",11,null,"CN06 HNY GRN TEA (H)",17,null,"CM07 HONEY (C)",8,null,"CN05 GRN TEA (H)",6,null,"CN07 HONEY (H)",28,null,"CN05 GRN TEA (H)",25,null,"CM06 HNY GRN TEA (C)",72,null,"CJ04 MANGO SO",1,null,"CN02 NESCAFE (H)",3,null,"CN14 EARL GREY (H)",1,null,"CN02 NESCAFE (H)",3,null,"DB01 1001:BP CKN CP",1,null,"CN12 CHAMOMILE (H)",6,null,"CM06 HNY GRN TEA (C)",60,null,"CN07 HONEY (H)",23,null,"CN07 HONEY (H)",10,null,"CN05 GRN TEA (H)",7,null,"CN05 GRN TEA (H)",11,null,"DB03 1003:MSR CKN CP",2,null,"CN04 LEMON TEA (H)",6,null,"CM06 HNY GRN TEA (C)",79,null,"CN04 LEMON TEA (H)",8,null,"CO02 PLAIN WATER",30,null,"DB03 1003:MSR CKN CP",3,null,"CM08 LEMON HONEY (C)",65,null,"DB04 1004:CKN MARY",2]
[{"$f":"IFERROR(IF(INDIRECT($A$14&ROW())<>\"\",COUNTIF([7]Summary!$B$30:$B$1105,INDIRECT($A$14&ROW())),\"\"),\"\")","v":""},"CN04 LEMON TEA (H)",5,null,"CN04 LEMON TEA (H)",1,null,"CN07 HONEY (H)",25,null,"CN02 NESCAFE (H)",4,null,"CM05 GRN TEA (C)",57,null,"CN08 LEMON HONEY (H)",33,null,"CN07 HONEY (H)",13,null,"CM08 LEMON HONEY (C)",72,null,"CN06 HNY GRN TEA (H)",22,null,"CN08 LEMON HONEY (H)",46,null,"CN06 HNY GRN TEA (H)",49,null,"CM07 HONEY (C)",23,null,"CJ05 PASSION SO",2,null,"CN03 TEA (H)",3,null,"CO02 PLAIN WATER",58,null,"CN04 LEMON TEA (H)",7,null,"DB02 1002:GVY CHK CP",1,null,"CN13 DARJEELING (H)",1,null,"CM07 HONEY (C)",21,null,"CN08 LEMON HONEY (H)",28,null,"CN08 LEMON HONEY (H)",34,null,"CN06 HNY GRN TEA (H)",23,null,"CN06 HNY GRN TEA (H)",9,null,"DB05 1005:FISH&CHIP",1,null,"CN05 GRN TEA (H)",14,null,"CM07 HONEY (C)",12,null,"CN05 GRN TEA (H)",18,null,"DB01 1001:BP CKN CP",1,null,"DB04 1004:CKN MARY",1,null,"CN01 MILO (H)",12,null,"DB07 1007:CHK SALAD",1]
[{"$f":"IFERROR(IF(INDIRECT($A$14&ROW())<>\"\",COUNTIF([7]Summary!$B$30:$B$1105,INDIRECT($A$14&ROW())),\"\"),\"\")","v":""},"CN05 GRN TEA (H)",4,null,"CN05 GRN TEA (H)",7,null,"CN08 LEMON HONEY (H)",77,null,"CN04 LEMON TEA (H)",9,null,"CM06 HNY GRN TEA (C)",107,null,"CN12 CHAMOMILE (H)",2,null,"CN08 LEMON HONEY (H)",19,null,"CN01 MILO (H)",15,null,"CN07 HONEY (H)",2,null,"CN12 CHAMOMILE (H)",2,null,"CN07 HONEY (H)",11,null,"CM08 LEMON HONEY (C)",97,null,"CJ06 RIBENA SO",4,null,"CN04 LEMON TEA (H)",7,null,"DB01 1001:BP CKN CP",4,null,"CN05 GRN TEA (H)",2,null,"DB03 1003:MSR CKN CP",3,null,"CO02 PLAIN WATER",30,null,"CM08 LEMON HONEY (C)",90,null,"CN12 CHAMOMILE (H)",1,null,"CN12 CHAMOMILE (H)",1,null,"CN07 HONEY (H)",17,null,"CN07 HONEY (H)",29,null,"DB06 1006:SPAGHETTI",2,null,"CN06 HNY GRN TEA (H)",23,null,"CM08 LEMON HONEY (C)",103,null,"CN06 HNY GRN TEA (H)",39,null,"DB02 1002:GVY CHK CP",1,null,"DB07 1007:CHK SALAD",1,null,"CN02 NESCAFE (H)",5,null,"DC01 1101:THAI CHK",3]
[{"$f":"IFERROR(IF(INDIRECT($A$14&ROW())<>\"\",COUNTIF([7]Summary!$B$30:$B$1105,INDIRECT($A$14&ROW())),\"\"),\"\")","v":""},"CN06 HNY GRN TEA (H)",19,null,"CN06 HNY GRN TEA (H)",12,null,"CN12 CHAMOMILE (H)",1,null,"CN05 GRN TEA (H)",14,null,"CM07 HONEY (C)",13,null,"CN14 EARL GREY (H)",1,null,"CN14 EARL GREY (H)",2,null,"CN04 LEMON TEA (H)",7,null,"CN08 LEMON HONEY (H)",31,null,"CN13 DARJEELING (H)",1,null,"CN08 LEMON HONEY (H)",59,null,"CN01 MILO (H)",50,null,"CL01 7 UP",15,null,"CN05 GRN TEA (H)",15,null,"DB03 1003:MSR CKN CP",2,null,"CN06 HNY GRN TEA (H)",14,null,"DB04 1004:CKN MARY",2,null,"DB01 1001:BP CKN CP",3,null,"CN01 MILO (H)",31,null,"CO02 PLAIN WATER",37,null,"CN14 EARL GREY (H)",1,null,"CN08 LEMON HONEY (H)",38,null,"CN08 LEMON HONEY (H)",48,null,"DC10 1110:NISSIN",3,null,"CN07 HONEY (H)",23,null,"CN01 MILO (H)",23,null,"CN07 HONEY (H)",12,null,"DB03 1003:MSR CKN CP",1,null,"DC01 1101:THAI CHK",8,null,"CN03 TEA (H)",1,null,"DC02 1102:MAMITE CHK",2]
[{"$f":"IFERROR(IF(INDIRECT($A$14&ROW())<>\"\",COUNTIF([7]Summary!$B$30:$B$1105,INDIRECT($A$14&ROW())),\"\"),\"\")","v":""},"CN07 HONEY (H)",14,null,"CN07 HONEY (H)",7,null,"CO02 PLAIN WATER",47,null,"CN06 HNY GRN TEA (H)",30,null,"CM08 LEMON HONEY (C)",147,null,"CO02 PLAIN WATER",23,null,"CO02 PLAIN WATER",24,null,"CN05 GRN TEA (H)",4,null,"CN13 DARJEELING (H)",1,null,"CO02 PLAIN WATER",33,null,"CN12 CHAMOMILE (H)",8,null,"CN02 NESCAFE (H)",11,null,"CL02 7 UP REVIVE",2,null,"CN06 HNY GRN TEA (H)",24,null,"DB04 1004:CKN MARY",2,null,"CN07 HONEY (H)",12,null,"DB06 1006:SPAGHETTI",2,null,"DB03 1003:MSR CKN CP",1,null,"CN02 NESCAFE (H)",15,null,"DB01 1001:BP CKN CP",1,null,"CO02 PLAIN WATER",27,null,"CN12 CHAMOMILE (H)",4,null,"CN12 CHAMOMILE (H)",1,null,"DD02 1202:FREN FRIES",3,null,"CN08 LEMON HONEY (H)",59,null,"CN02 NESCAFE (H)",8,null,"CN08 LEMON HONEY (H)",58,null,"DB04 1004:CKN MARY",3,null,"DC02 1102:MAMITE CHK",3,null,"CN04 LEMON TEA (H)",3,null,"DC05 1105:BUTTER CHK",7]
[{"$f":"IFERROR(IF(INDIRECT($A$14&ROW())<>\"\",COUNTIF([7]Summary!$B$30:$B$1105,INDIRECT($A$14&ROW())),\"\"),\"\")","v":""},"CN08 LEMON HONEY (H)",36,null,"CN08 LEMON HONEY (H)",47,null,"DB03 1003:MSR CKN CP",3,null,"CN07 HONEY (H)",16,null,"CN01 MILO (H)",42,null,"DB01 1001:BP CKN CP",4,null,"DB02 1002:GVY CHK CP",1,null,"CN06 HNY GRN TEA (H)",15,null,"CO02 PLAIN WATER",29,null,"DB01 1001:BP CKN CP",3,null,"CN14 EARL GREY (H)",8,null,"CN04 LEMON TEA (H)",18,null,"CL03 PEPSI",28,null,"CN07 HONEY (H)",21,null,"DB05 1005:FISH&CHIP",1,null,"CN08 LEMON HONEY (H)",47,null,"DB07 1007:CHK SALAD",1,null,"DC01 1101:THAI CHK",1,null,"CN03 TEA (H)",1,null,"DB05 1005:FISH&CHIP",1,null,"DB02 1002:GVY CHK CP",1,null,"CN13 DARJEELING (H)",1,null,"CN13 DARJEELING (H)",1,null,"DD07 1207:SAUSAGE",1,null,"CN12 CHAMOMILE (H)",3,null,"CN03 TEA (H)",3,null,"CN12 CHAMOMILE (H)",4,null,"DB05 1005:FISH&CHIP",2,null,"DC04 1104:S&S CHK",1,null,"CN05 GRN TEA (H)",7,null,"DD02 1202:FREN FRIES",2]
[{"$f":"IFERROR(IF(INDIRECT($A$14&ROW())<>\"\",COUNTIF([7]Summary!$B$30:$B$1105,INDIRECT($A$14&ROW())),\"\"),\"\")","v":""},"CN12 CHAMOMILE (H)",2,null,"CN12 CHAMOMILE (H)",1,null,"DB04 1004:CKN MARY",1,null,"CN08 LEMON HONEY (H)",57,null,"CN02 NESCAFE (H)",4,null,"DB02 1002:GVY CHK CP",1,null,"DB03 1003:MSR CKN CP",3,null,"CN07 HONEY (H)",5,null,"DB01 1001:BP CKN CP",4,null,"DB03 1003:MSR CKN CP",3,null,"CO02 PLAIN WATER",22,null,"CN05 GRN TEA (H)",22,null,"CM01 MILO (C)",27,null,"CN08 LEMON HONEY (H)",82,null,"DB06 1006:SPAGHETTI",1,null,"CN12 CHAMOMILE (H)",8,null,"DC01 1101:THAI CHK",2,null,"DC02 1102:MAMITE CHK",1,null,"CN04 LEMON TEA (H)",11,null,"DB07 1007:CHK SALAD",2,null,"DB03 1003:MSR CKN CP",7,null,"CN14 EARL GREY (H)",3,null,"CN14 EARL GREY (H)",1,null,"DD11 1302:NUGGET",1,null,"CN13 DARJEELING (H)",1,null,"CN04 LEMON TEA (H)",4,null,"CN14 EARL GREY (H)",4,null,"DB06 1006:SPAGHETTI",1,null,"DC05 1105:BUTTER CHK",5,null,"CN06 HNY GRN TEA (H)",24,null,"DD04 1204:FISHBALL",2]
[{"$f":"IFERROR(IF(INDIRECT($A$14&ROW())<>\"\",COUNTIF([7]Summary!$B$30:$B$1105,INDIRECT($A$14&ROW())),\"\"),\"\")","v":""},"CN14 EARL GREY (H)",1,null,"CN13 DARJEELING (H)",1,null,"DB06 1006:SPAGHETTI",1,null,"CN12 CHAMOMILE (H)",1,null,"CN03 TEA (H)",2,null,"DB03 1003:MSR CKN CP",2,null,"DB06 1006:SPAGHETTI",2,null,"CN08 LEMON HONEY (H)",42,null,"DB03 1003:MSR CKN CP",3,null,"DB05 1005:FISH&CHIP",1,null,"DB01 1001:BP CKN CP",5,null,"CN06 HNY GRN TEA (H)",34,null,"CM02 NESCAFE (C)",11,null,"CN12 CHAMOMILE (H)",3,null,"DC01 1101:THAI CHK",3,null,"CO02 PLAIN WATER",21,null,"DC05 1105:BUTTER CHK",5,null,"DC05 1105:BUTTER CHK",4,null,"CN05 GRN TEA (H)",21,null,"DC01 1101:THAI CHK",1,null,"DB04 1004:CKN MARY",3,null,"CO02 PLAIN WATER",16,null,"CO02 PLAIN WATER",19,null,"DD12 1303:CHK WING",2,null,"CN14 EARL GREY (H)",2,null,"CN05 GRN TEA (H)",10,null,"CO02 PLAIN WATER",26,null,"DC01 1101:THAI CHK",2,null,"DC06 1106:HK F.RICE",2,null,"CN07 HONEY (H)",19,null,"DD12 1303:CHK WING",1]
[{"$f":"IFERROR(IF(INDIRECT($A$14&ROW())<>\"\",COUNTIF([7]Summary!$B$30:$B$1105,INDIRECT($A$14&ROW())),\"\"),\"\")","v":""},"CO02 PLAIN WATER",37,null,"CN14 EARL GREY (H)",4,null,"DC01 1101:THAI CHK",3,null,"CN14 EARL GREY (H)",1,null,"CN04 LEMON TEA (H)",8,null,"DC02 1102:MAMITE CHK",1,null,"DC01 1101:THAI CHK",3,null,"CN12 CHAMOMILE (H)",1,null,"DB05 1005:FISH&CHIP",1,null,"DB06 1006:SPAGHETTI",1,null,"DB03 1003:MSR CKN CP",null,null,"CN07 HONEY (H)",21,null,"CM03 TEA (C)",7,null,"CN14 EARL GREY (H)",6,null,"DC02 1102:MAMITE CHK",4,null,"DB01 1001:BP CKN CP",3,null,"DC06 1106:HK F.RICE",2,null,"DC06 1106:HK F.RICE",2,null,"CN06 HNY GRN TEA (H)",26,null,"DC04 1104:S&S CHK",1,null,"DB06 1006:SPAGHETTI",1,null,"DB01 1001:BP CKN CP",5,null,"DB01 1001:BP CKN CP",3,null,"DD16 1307:D.F C/WING",1,null,"CO02 PLAIN WATER",46,null,"CN06 HNY GRN TEA (H)",35,null,"DB01 1001:BP CKN CP",2,null,"DC02 1102:MAMITE CHK",1,null,"DC07 1107:SBL F.RICE",2,null,"CN08 LEMON HONEY (H)",58,null,"DD13 1304:IKAN BILIS",2]
[{"$f":"IFERROR(IF(INDIRECT($A$14&ROW())<>\"\",COUNTIF([7]Summary!$B$30:$B$1105,INDIRECT($A$14&ROW())),\"\"),\"\")","v":""},"DB01 1001:BP CKN CP",1,null,"CO02 PLAIN WATER",23,null,"DC02 1102:MAMITE CHK",3,null,"CO02 PLAIN WATER",50,null,"CN05 GRN TEA (H)",13,null,"DC05 1105:BUTTER CHK",1,null,"DC05 1105:BUTTER CHK",4,null,"CN14 EARL GREY (H)",3,null,"DC01 1101:THAI CHK",2,null,"DC01 1101:THAI CHK",3,null,"DB04 1004:CKN MARY",4,null,"CN08 LEMON HONEY (H)",64,null,"CM04 LEMON TEA (C)",43,null,"CO02 PLAIN WATER",29,null,"DC05 1105:BUTTER CHK",1,null,"DB03 1003:MSR CKN CP",4,null,"DC10 1110:NISSIN",2,null,"DC09 1109:BP UDON",3,null,"CN07 HONEY (H)",17,null,"DC05 1105:BUTTER CHK",3,null,"DB07 1007:CHK SALAD",1,null,"DB02 1002:GVY CHK CP",3,null,"DB02 1002:GVY CHK CP",3,null,"DE01 SET 990",1,null,"DB01 1001:BP CKN CP",3,null,"CN07 HONEY (H)",15,null,"DB03 1003:MSR CKN CP",3,null,"DC05 1105:BUTTER CHK",2,null,"DC09 1109:BP UDON",1,null,"CN13 DARJEELING (H)",1,null,"DE01 SET 990",6]
[{"$f":"IFERROR(IF(INDIRECT($A$14&ROW())<>\"\",COUNTIF([7]Summary!$B$30:$B$1105,INDIRECT($A$14&ROW())),\"\"),\"\")","v":""},"DB02 1002:GVY CHK CP",1,null,"DB01 1001:BP CKN CP",3,null,"DC05 1105:BUTTER CHK",1,null,"DB01 1001:BP CKN CP",6,null,"CN06 HNY GRN TEA (H)",33,null,"DC10 1110:NISSIN",1,null,"DC06 1106:HK F.RICE",1,null,"CO02 PLAIN WATER",28,null,"DC04 1104:S&S CHK",1,null,"DC02 1102:MAMITE CHK",2,null,"DB05 1005:FISH&CHIP",2,null,"CN12 CHAMOMILE (H)",5,null,"CM05 GRN TEA (C)",70,null,"DB01 1001:BP CKN CP",11,null,"DC06 1106:HK F.RICE",4,null,"DB04 1004:CKN MARY",1,null,"DC15 1115:CHK NOODLE",1,null,"DC15 1115:CHK NOODLE",3,null,"CN08 LEMON HONEY (H)",76,null,"DC06 1106:HK F.RICE",1,null,"DC01 1101:THAI CHK",3,null,"DB05 1005:FISH&CHIP",5,null,"DB03 1003:MSR CKN CP",5,null,"DE02 SET 1390",1,null,"DB03 1003:MSR CKN CP",3,null,"CN08 LEMON HONEY (H)",53,null,"DB05 1005:FISH&CHIP",1,null,"DC06 1106:HK F.RICE",1,null,"DC10 1110:NISSIN",1,null,"CN14 EARL GREY (H)",4,null,"DE02 SET 1390",6]
[{"$f":"IFERROR(IF(INDIRECT($A$14&ROW())<>\"\",COUNTIF([7]Summary!$B$30:$B$1105,INDIRECT($A$14&ROW())),\"\"),\"\")","v":""},"DB03 1003:MSR CKN CP",3,null,"DB03 1003:MSR CKN CP",1,null,"DC06 1106:HK F.RICE",3,null,"DB03 1003:MSR CKN CP",5,null,"CN07 HONEY (H)",9,null,"DC15 1115:CHK NOODLE",1,null,"DC07 1107:SBL F.RICE",1,null,"DB04 1004:CKN MARY",1,null,"DC05 1105:BUTTER CHK",2,null,"DC05 1105:BUTTER CHK",7,null,"DB06 1006:SPAGHETTI",3,null,"CN13 DARJEELING (H)",2,null,"CM06 HNY GRN TEA (C)",45,null,"DB03 1003:MSR CKN CP",4,null,"DC07 1107:SBL F.RICE",3,null,"DB05 1005:FISH&CHIP",3,null,"DD02 1202:FREN FRIES",4,null,"DD02 1202:FREN FRIES",3,null,"CN12 CHAMOMILE (H)",3,null,"DC15 1115:CHK NOODLE",1,null,"DC02 1102:MAMITE CHK",1,null,"DB06 1006:SPAGHETTI",3,null,"DB04 1004:CKN MARY",5,null,"DF03 ADD SAUCE 1000",2,null,"DB05 1005:FISH&CHIP",2,null,"CN12 CHAMOMILE (H)",2,null,"DC01 1101:THAI CHK",1,null,"DC10 1110:NISSIN",1,null,"DD06 1206:SPRING RL",1,null,"CO02 PLAIN WATER",22,null,"DF09 ADD SAUCE MAYO",1]
[{"$f":"IFERROR(IF(INDIRECT($A$14&ROW())<>\"\",COUNTIF([7]Summary!$B$30:$B$1105,INDIRECT($A$14&ROW())),\"\"),\"\")","v":""},"DB07 1007:CHK SALAD",1,null,"DB06 1006:SPAGHETTI",1,null,"DC10 1110:NISSIN",2,null,"DB05 1005:FISH&CHIP",2,null,"CN08 LEMON HONEY (H)",75,null,"DC16 1116:MGL CHICKEN",3,null,"DC09 1109:BP UDON",1,null,"DB06 1006:SPAGHETTI",2,null,"DC06 1106:HK F.RICE",2,null,"DC06 1106:HK F.RICE",2,null,"DB07 1007:CHK SALAD",2,null,"CN14 EARL GREY (H)",6,null,"CM07 HONEY (C)",27,null,"DB04 1004:CKN MARY",3,null,"DC10 1110:NISSIN",null,null,"DB06 1006:SPAGHETTI",1,null,"DD12 1303:CHK WING",1,null,"DD07 1207:SAUSAGE",1,null,"CN14 EARL GREY (H)",4,null,"DD02 1202:FREN FRIES",4,null,"DC04 1104:S&S CHK",1,null,"DC01 1101:THAI CHK",1,null,"DB05 1005:FISH&CHIP",1,null,"DF07 ADD SAUCE C.PADI",1,null,"DB06 1006:SPAGHETTI",1,null,"CO02 PLAIN WATER",32,null,"DC02 1102:MAMITE CHK",2,null,"DC15 1115:CHK NOODLE",1,null,"DD07 1207:SAUSAGE",1,null,"DB03 1003:MSR CKN CP",4,null,"DG01 91001:BP CHK CP",7]
[{"$f":"IFERROR(IF(INDIRECT($A$14&ROW())<>\"\",COUNTIF([7]Summary!$B$30:$B$1105,INDIRECT($A$14&ROW())),\"\"),\"\")","v":""},"DC05 1105:BUTTER CHK",2,null,"DB07 1007:CHK SALAD",2,null,"DC15 1115:CHK NOODLE",1,null,"DB06 1006:SPAGHETTI",2,null,"CN12 CHAMOMILE (H)",10,null,"DD02 1202:FREN FRIES",null,null,"DC10 1110:NISSIN",2,null,"DC01 1101:THAI CHK",5,null,"DC07 1107:SBL F.RICE",1,null,"DC07 1107:SBL F.RICE",1,null,"DC01 1101:THAI CHK",2,null,"CO02 PLAIN WATER",50,null,"CM08 LEMON HONEY (C)",63,null,"DB05 1005:FISH&CHIP",1,null,"DC15 1115:CHK NOODLE",1,null,"DC01 1101:THAI CHK",2,null,"DD14 1305:THAI RL",1,null,"DD11 1302:NUGGET",1,null,"CO02 PLAIN WATER",20,null,"DD03 1203:GOLD MROOM",1,null,"DC05 1105:BUTTER CHK",8,null,"DC04 1104:S&S CHK",2,null,"DB06 1006:SPAGHETTI",2,null,"DF09 ADD SAUCE MAYO",1,null,"DB07 1007:CHK SALAD",1,null,"DB01 1001:BP CKN CP",3,null,"DC05 1105:BUTTER CHK",3,null,"DC16 1116:MGL CHICKEN",1,null,"DD21 1312:Mc HASH BRW",1,null,"DB06 1006:SPAGHETTI",1,null,"DG02 91002:GVY CHK CP",1]
[{"$f":"IFERROR(IF(INDIRECT($A$14&ROW())<>\"\",COUNTIF([7]Summary!$B$30:$B$1105,INDIRECT($A$14&ROW())),\"\"),\"\")","v":""},"DC06 1106:HK F.RICE",2,null,"DC01 1101:THAI CHK",2,null,"DD02 1202:FREN FRIES",4,null,"DB07 1007:CHK SALAD",1,null,"CN13 DARJEELING (H)",1,null,"DD04 1204:FISHBALL",1,null,"DC11 1111:VEG RICE",1,null,"DC02 1102:MAMITE CHK",2,null,"DC09 1109:BP UDON",2,null,"DC09 1109:BP UDON",1,null,"DC02 1102:MAMITE CHK",4,null,"DB01 1001:BP CKN CP",4,null,"CN01 MILO (H)",19,null,"DB06 1006:SPAGHETTI",4,null,"DC16 1116:MGL CHICKEN",1,null,"DC02 1102:MAMITE CHK",2,null,"DD16 1307:D.F C/WING",3,null,"DD16 1307:D.F C/WING",1,null,"DB01 1001:BP CKN CP",4,null,"DD07 1207:SAUSAGE",1,null,"DC07 1107:SBL F.RICE",3,null,"DC05 1105:BUTTER CHK",7,null,"DB07 1007:CHK SALAD",3,null,"DF11 ADD SAUCE MR",1,null,"DC01 1101:THAI CHK",2,null,"DB03 1003:MSR CKN CP",4,null,"DC06 1106:HK F.RICE",2,null,"DD02 1202:FREN FRIES",2,null,"DE01 SET 990",1,null,"DC01 1101:THAI CHK",1,null,"DG03 91003:MSR CHK CP",5]
[{"$f":"IFERROR(IF(INDIRECT($A$14&ROW())<>\"\",COUNTIF([7]Summary!$B$30:$B$1105,INDIRECT($A$14&ROW())),\"\"),\"\")","v":""},"DC07 1107:SBL F.RICE",1,null,"DC04 1104:S&S CHK",1,null,"DD03 1203:GOLD MROOM",1,null,"DC01 1101:THAI CHK",1,null,"CN14 EARL GREY (H)",4,null,"DD06 1206:SPRING RL",1,null,"DD02 1202:FREN FRIES",6,null,"DC04 1104:S&S CHK",1,null,"DC10 1110:NISSIN",1,null,"DC10 1110:NISSIN",1,null,"DC05 1105:BUTTER CHK",8,null,"DB02 1002:GVY CHK CP",1,null,"CN02 NESCAFE (H)",6,null,"DC01 1101:THAI CHK",1,null,"DD02 1202:FREN FRIES",4,null,"DC04 1104:S&S CHK",1,null,"DD18 1309 Mc C/O.RING",1,null,"DD18 1309 Mc C/O.RING",1,null,"DB03 1003:MSR CKN CP",3,null,"DD11 1302:NUGGET",3,null,"DC09 1109:BP UDON",2,null,"DC06 1106:HK F.RICE",1,null,"DC02 1102:MAMITE CHK",3,null,"DF14 ADD SAUCE TOMATO",1,null,"DC05 1105:BUTTER CHK",4,null,"DB05 1005:FISH&CHIP",1,null,"DC08 1108:SBL F.MEE",1,null,"DD07 1207:SAUSAGE",1,null,"DE02 SET 1390",5,null,"DC02 1102:MAMITE CHK",5,null,"DG04 91004:CKN MARY",6]
[{"$f":"IFERROR(IF(INDIRECT($A$14&ROW())<>\"\",COUNTIF([7]Summary!$B$30:$B$1105,INDIRECT($A$14&ROW())),\"\"),\"\")","v":""},"DC09 1109:BP UDON",3,null,"DC05 1105:BUTTER CHK",4,null,"DD12 1303:CHK WING",1,null,"DC02 1102:MAMITE CHK",3,null,"CO02 PLAIN WATER",50,null,"DD11 1302:NUGGET",null,null,"DD03 1203:GOLD MROOM",null,null,"DC05 1105:BUTTER CHK",4,null,"DC15 1115:CHK NOODLE",1,null,"DC11 1111:VEG RICE",1,null,"DC06 1106:HK F.RICE",1,null,"DB03 1003:MSR CKN CP",4,null,"CN03 TEA (H)",2,null,"DC02 1102:MAMITE CHK",1,null,"DD03 1203:GOLD MROOM",null,null,"DC05 1105:BUTTER CHK",7,null,"DE01 SET 990",3,null,"DD21 1312:Mc HASH BRW",1,null,"DB04 1004:CKN MARY",2,null,"DD12 1303:CHK WING",1,null,"DC10 1110:NISSIN",1,null,"DC07 1107:SBL F.RICE",3,null,"DC04 1104:S&S CHK",3,null,"DG01 91001:BP CHK CP",6,null,"DC07 1107:SBL F.RICE",1,null,"DB06 1006:SPAGHETTI",2,null,"DD01 1201:SFD STICK",1,null,"DD11 1302:NUGGET",1,null,"DF02 ADD F.EGG",1,null,"DC04 1104:S&S CHK",1,null,"DG05 91005:FISH&CHIP",8]
[{"$f":"IFERROR(IF(INDIRECT($A$14&ROW())<>\"\",COUNTIF([7]Summary!$B$30:$B$1105,INDIRECT($A$14&ROW())),\"\"),\"\")","v":""},"DC16 1116:MGL CHICKEN",1,null,"DC06 1106:HK F.RICE",1,null,"DD13 1304:IKAN BILIS",2,null,"DC04 1104:S&S CHK",1,null,"DB01 1001:BP CKN CP",3,null,"DD16 1307:D.F C/WING",1,null,"DD14 1305:THAI RL",1,null,"DC06 1106:HK F.RICE",1,null,"DC16 1116:MGL CHICKEN",1,null,"DC15 1115:CHK NOODLE",2,null,"DC10 1110:NISSIN",1,null,"DB04 1004:CKN MARY",1,null,"CN04 LEMON TEA (H)",10,null,"DC05 1105:BUTTER CHK",5,null,"DD07 1207:SAUSAGE",2,null,"DC06 1106:HK F.RICE",2,null,"DE02 SET 1390",1,null,"DE01 SET 990",9,null,"DB05 1005:FISH&CHIP",1,null,"DE01 SET 990",8,null,"DC11 1111:VEG RICE",1,null,"DC09 1109:BP UDON",1,null,"DC05 1105:BUTTER CHK",5,null,"DG02 91002:GVY CHK CP",1,null,"DC09 1109:BP UDON",1,null,"DB07 1007:CHK SALAD",1,null,"DD02 1202:FREN FRIES",3,null,"DE01 SET 990",2,null,"DF07 ADD SAUCE C.PADI",2,null,"DC05 1105:BUTTER CHK",3,null,"DG06 91006:SPAGHETTI",9]
[{"$f":"IFERROR(IF(INDIRECT($A$14&ROW())<>\"\",COUNTIF([7]Summary!$B$30:$B$1105,INDIRECT($A$14&ROW())),\"\"),\"\")","v":""},"DD02 1202:FREN FRIES",null,null,"DC07 1107:SBL F.RICE",2,null,"DD17 1308 C/CALAMARI",2,null,"DC05 1105:BUTTER CHK",6,null,"DB03 1003:MSR CKN CP",3,null,"DD17 1308 C/CALAMARI",1,null,"DD19 1310:Mc SPIRAL/F",1,null,"DC07 1107:SBL F.RICE",2,null,"DD02 1202:FREN FRIES",2,null,"DD02 1202:FREN FRIES",4,null,"DC11 1111:VEG RICE",2,null,"DB05 1005:FISH&CHIP",2,null,"CN05 GRN TEA (H)",24,null,"DC06 1106:HK F.RICE",4,null,"DD11 1302:NUGGET",1,null,"DC07 1107:SBL F.RICE",2,null,"DF01 ADD RICE",2,null,"DE02 SET 1390",4,null,"DB06 1006:SPAGHETTI",2,null,"DE02 SET 1390",3,null,"DC15 1115:CHK NOODLE",3,null,"DC10 1110:NISSIN",1,null,"DC06 1106:HK F.RICE",1,null,"DG03 91003:MSR CHK CP",7,null,"DC10 1110:NISSIN",2,null,"DC01 1101:THAI CHK",2,null,"DD11 1302:NUGGET",1,null,"DF13 ADD SAUCE THAI",2,null,"DF09 ADD SAUCE MAYO",1,null,"DC09 1109:BP UDON",2,null,"DG07 91007:CHK SALAD",4]
[{"$f":"IFERROR(IF(INDIRECT($A$14&ROW())<>\"\",COUNTIF([7]Summary!$B$30:$B$1105,INDIRECT($A$14&ROW())),\"\"),\"\")","v":""},"DD03 1203:GOLD MROOM",1,null,"DC08 1108:SBL F.MEE",1,null,"DD21 1312:Mc HASH BRW",1,null,"DC06 1106:HK F.RICE",6,null,"DB04 1004:CKN MARY",1,null,"DE01 SET 990",6,null,"DE01 SET 990",7,null,"DC08 1108:SBL F.MEE",1,null,"DD07 1207:SAUSAGE",null,null,"DD11 1302:NUGGET",1,null,"DC15 1115:CHK NOODLE",1,null,"DB06 1006:SPAGHETTI",2,null,"CN06 HNY GRN TEA (H)",22,null,"DC07 1107:SBL F.RICE",1,null,"DD12 1303:CHK WING",1,null,"DC08 1108:SBL F.MEE",null,null,"DF07 ADD SAUCE C.PADI",2,null,"DF03 ADD SAUCE 1000",1,null,"DC01 1101:THAI CHK",2,null,"DF07 ADD SAUCE C.PADI",3,null,"DC16 1116:MGL CHICKEN",3,null,"DC15 1115:CHK NOODLE",1,null,"DC09 1109:BP UDON",3,null,"DG04 91004:CKN MARY",3,null,"DC16 1116:MGL CHICKEN",1,null,"DC02 1102:MAMITE CHK",1,null,"DE01 SET 990",6,null,"DF14 ADD SAUCE TOMATO",2,null,"DF11 ADD SAUCE MR",2,null,"DD02 1202:FREN FRIES",4,null,"DH01 91101:THAI CHK",1]
[{"$f":"IFERROR(IF(INDIRECT($A$14&ROW())<>\"\",COUNTIF([7]Summary!$B$30:$B$1105,INDIRECT($A$14&ROW())),\"\"),\"\")","v":""},"DD07 1207:SAUSAGE",1,null,"DC16 1116:MGL CHICKEN",1,null,"DE01 SET 990",3,null,"DC07 1107:SBL F.RICE",1,null,"DB05 1005:FISH&CHIP",1,null,"DE02 SET 1390",5,null,"DE02 SET 1390",4,null,"DC10 1110:NISSIN",3,null,"DD11 1302:NUGGET",1,null,"DD16 1307:D.F C/WING",1,null,"DC16 1116:MGL CHICKEN",2,null,"DB07 1007:CHK SALAD",1,null,"CN07 HONEY (H)",22,null,"DC09 1109:BP UDON",1,null,"DD18 1309 Mc C/O.RING",1,null,"DD01 1201:SFD STICK",1,null,"DF09 ADD SAUCE MAYO",4,null,"DF07 ADD SAUCE C.PADI",3,null,"DC02 1102:MAMITE CHK",2,null,"DF09 ADD SAUCE MAYO",3,null,"DD02 1202:FREN FRIES",3,null,"DC16 1116:MGL CHICKEN",1,null,"DC15 1115:CHK NOODLE",2,null,"DG05 91005:FISH&CHIP",6,null,"DD06 1206:SPRING RL",1,null,"DC04 1104:S&S CHK",2,null,"DE02 SET 1390",3,null,"DG01 91001:BP CHK CP",7,null,"DG01 91001:BP CHK CP",10,null,"DD03 1203:GOLD MROOM",1,null,"DH02 91102:MAMITE CHK",1]
[{"$f":"IFERROR(IF(INDIRECT($A$14&ROW())<>\"\",COUNTIF([7]Summary!$B$30:$B$1105,INDIRECT($A$14&ROW())),\"\"),\"\")","v":""},"DD17 1308 C/CALAMARI",1,null,"DD06 1206:SPRING RL",2,null,"DE02 SET 1390",1,null,"DC10 1110:NISSIN",2,null,"DB06 1006:SPAGHETTI",3,null,"DF07 ADD SAUCE C.PADI",1,null,"DF01 ADD RICE",3,null,"DC15 1115:CHK NOODLE",1,null,"DE01 SET 990",1,null,"DE01 SET 990",7,null,"DD02 1202:FREN FRIES",3,null,"DC01 1101:THAI CHK",3,null,"CN08 LEMON HONEY (H)",56,null,"DC10 1110:NISSIN",1,null,"DD21 1312:Mc HASH BRW",1,null,"DD02 1202:FREN FRIES",5,null,"DF11 ADD SAUCE MR",2,null,"DF09 ADD SAUCE MAYO",2,null,"DC04 1104:S&S CHK",2,null,"DF14 ADD SAUCE TOMATO",4,null,"DD03 1203:GOLD MROOM",1,null,"DD01 1201:SFD STICK",1,null,"DC16 1116:MGL CHICKEN",1,null,"DG06 91006:SPAGHETTI",2,null,"DD12 1303:CHK WING",4,null,"DC05 1105:BUTTER CHK",4,null,"DF03 ADD SAUCE 1000",1,null,"DG02 91002:GVY CHK CP",3,null,"DG02 91002:GVY CHK CP",1,null,"DD06 1206:SPRING RL",1,null,"DH04 91104:S&S CHK",1]
[{"$f":"IFERROR(IF(INDIRECT($A$14&ROW())<>\"\",COUNTIF([7]Summary!$B$30:$B$1105,INDIRECT($A$14&ROW())),\"\"),\"\")","v":""},"DE01 SET 990",4,null,"DD07 1207:SAUSAGE",1,null,"DF01 ADD RICE",1,null,"DC15 1115:CHK NOODLE",1,null,"DB07 1007:CHK SALAD",3,null,"DF09 ADD SAUCE MAYO",4,null,"DF09 ADD SAUCE MAYO",4,null,"DD02 1202:FREN FRIES",2,null,"DE02 SET 1390",2,null,"DE02 SET 1390",2,null,"DD03 1203:GOLD MROOM",1,null,"DC04 1104:S&S CHK",3,null,"CN12 CHAMOMILE (H)",5,null,"DC16 1116:MGL CHICKEN",2,null,"DE01 SET 990",4,null,"DD11 1302:NUGGET",1,null,"DF14 ADD SAUCE TOMATO",4,null,"DG01 91001:BP CHK CP",5,null,"DC05 1105:BUTTER CHK",2,null,"DF15 ADD TATA SAUCE",1,null,"DD06 1206:SPRING RL",2,null,"DD02 1202:FREN FRIES",2,null,"DD02 1202:FREN FRIES",1,null,"DH01 91101:THAI CHK",2,null,"DF03 ADD SAUCE 1000",1,null,"DC06 1106:HK F.RICE",1,null,"DF09 ADD SAUCE MAYO",5,null,"DG03 91003:MSR CHK CP",10,null,"DG03 91003:MSR CHK CP",10,null,"DE01 SET 990",3,null,"DH05 91105:BUTTER CHK",4]
[{"$f":"IFERROR(IF(INDIRECT($A$14&ROW())<>\"\",COUNTIF([7]Summary!$B$30:$B$1105,INDIRECT($A$14&ROW())),\"\"),\"\")","v":""},"DE02 SET 1390",4,null,"DD11 1302:NUGGET",2,null,"DF09 ADD SAUCE MAYO",1,null,"DD01 1201:SFD STICK",1,null,"DC01 1101:THAI CHK",3,null,"DF14 ADD SAUCE TOMATO",4,null,"DF14 ADD SAUCE TOMATO",1,null,"DD04 1204:FISHBALL",1,null,"DF01 ADD RICE",5,null,"DF01 ADD RICE",4,null,"DD07 1207:SAUSAGE",2,null,"DC05 1105:BUTTER CHK",6,null,"CN13 DARJEELING (H)",1,null,"DD02 1202:FREN FRIES",5,null,"DE02 SET 1390",5,null,"DD12 1303:CHK WING",3,null,"DF15 ADD TATA SAUCE",1,null,"DG03 91003:MSR CHK CP",8,null,"DC06 1106:HK F.RICE",2,null,"DG01 91001:BP CHK CP",18,null,"DD07 1207:SAUSAGE",1,null,"DD03 1203:GOLD MROOM",1,null,"DD03 1203:GOLD MROOM",1,null,"DH02 91102:MAMITE CHK",1,null,"DF07 ADD SAUCE C.PADI",1,null,"DC07 1107:SBL F.RICE",1,null,"DF14 ADD SAUCE TOMATO",3,null,"DG04 91004:CKN MARY",7,null,"DG04 91004:CKN MARY",5,null,"DE02 SET 1390",4,null,"DH06 91106:HK F.RICE",2]
[{"$f":"IFERROR(IF(INDIRECT($A$14&ROW())<>\"\",COUNTIF([7]Summary!$B$30:$B$1105,INDIRECT($A$14&ROW())),\"\"),\"\")","v":""},"DF05 ADD SAUCE BP",1,null,"DE01 SET 990",6,null,"DG01 91001:BP CHK CP",15,null,"DD02 1202:FREN FRIES",3,null,"DC02 1102:MAMITE CHK",4,null,"DG01 91001:BP CHK CP",21,null,"DG01 91001:BP CHK CP",9,null,"DD11 1302:NUGGET",1,null,"DF07 ADD SAUCE C.PADI",1,null,"DF02 ADD F.EGG",2,null,"DD11 1302:NUGGET",3,null,"DC06 1106:HK F.RICE",7,null,"CN14 EARL GREY (H)",5,null,"DD03 1203:GOLD MROOM",1,null,"DF03 ADD SAUCE 1000",2,null,"DD13 1304:IKAN BILIS",1,null,"DF16 ADD SAUCE CHEES",1,null,"DG04 91004:CKN MARY",6,null,"DC07 1107:SBL F.RICE",3,null,"DG02 91002:GVY CHK CP",4,null,"DD12 1303:CHK WING",1,null,"DD11 1302:NUGGET",1,null,"DD07 1207:SAUSAGE",2,null,"DH05 91105:BUTTER CHK",2,null,"DF09 ADD SAUCE MAYO",2,null,"DC10 1110:NISSIN",1,null,"DG01 91001:BP CHK CP",21,null,"DG05 91005:FISH&CHIP",8,null,"DG05 91005:FISH&CHIP",8,null,"DF09 ADD SAUCE MAYO",5,null,"DH08 91108:SBL F.MEE",1]
[{"$f":"IFERROR(IF(INDIRECT($A$14&ROW())<>\"\",COUNTIF([7]Summary!$B$30:$B$1105,INDIRECT($A$14&ROW())),\"\"),\"\")","v":""},"DF07 ADD SAUCE C.PADI",6,null,"DE02 SET 1390",5,null,"DG02 91002:GVY CHK CP",1,null,"DD07 1207:SAUSAGE",1,null,"DC04 1104:S&S CHK",1,null,"DG02 91002:GVY CHK CP",1,null,"DG02 91002:GVY CHK CP",3,null,"DD12 1303:CHK WING",1,null,"DF09 ADD SAUCE MAYO",1,null,"DF05 ADD SAUCE BP",1,null,"DD12 1303:CHK WING",2,null,"DC07 1107:SBL F.RICE",3,null,"CO02 PLAIN WATER",41,null,"DD07 1207:SAUSAGE",1,null,"DF09 ADD SAUCE MAYO",6,null,"DE01 SET 990",7,null,"DG01 91001:BP CHK CP",14,null,"DG05 91005:FISH&CHIP",7,null,"DC15 1115:CHK NOODLE",1,null,"DG03 91003:MSR CHK CP",19,null,"DE01 SET 990",2,null,"DD16 1307:D.F C/WING",1,null,"DD11 1302:NUGGET",1,null,"DH06 91106:HK F.RICE",3,null,"DF14 ADD SAUCE TOMATO",1,null,"DD02 1202:FREN FRIES",3,null,"DG02 91002:GVY CHK CP",2,null,"DG06 91006:SPAGHETTI",4,null,"DG06 91006:SPAGHETTI",2,null,"DG01 91001:BP CHK CP",11,null,"DH09 91109:BP UDON",2]
[{"$f":"IFERROR(IF(INDIRECT($A$14&ROW())<>\"\",COUNTIF([7]Summary!$B$30:$B$1105,INDIRECT($A$14&ROW())),\"\"),\"\")","v":""},"DF09 ADD SAUCE MAYO",2,null,"DF01 ADD RICE",1,null,"DG03 91003:MSR CHK CP",14,null,"DD11 1302:NUGGET",1,null,"DC05 1105:BUTTER CHK",6,null,"DG03 91003:MSR CHK CP",21,null,"DG03 91003:MSR CHK CP",15,null,"DE01 SET 990",6,null,"DF14 ADD SAUCE TOMATO",1,null,"DF07 ADD SAUCE C.PADI",1,null,"DD13 1304:IKAN BILIS",1,null,"DC10 1110:NISSIN",2,null,"DB02 1002:GVY CHK CP",1,null,"DD11 1302:NUGGET",3,null,"DF14 ADD SAUCE TOMATO",8,null,"DE02 SET 1390",2,null,"DG02 91002:GVY CHK CP",5,null,"DG06 91006:SPAGHETTI",2,null,"DD02 1202:FREN FRIES",3,null,"DG04 91004:CKN MARY",8,null,"DE02 SET 1390",3,null,"DD18 1309 Mc C/O.RING",1,null,"DD12 1303:CHK WING",2,null,"DH07 91107:SBL F.RICE",2,null,"DF15 ADD TATA SAUCE",2,null,"DD07 1207:SAUSAGE",1,null,"DG03 91003:MSR CHK CP",26,null,"DG07 91007:CHK SALAD",3,null,"DG07 91007:CHK SALAD",3,null,"DG02 91002:GVY CHK CP",4,null,"DH10 91110:NISSIN",2]
[{"$f":"IFERROR(IF(INDIRECT($A$14&ROW())<>\"\",COUNTIF([7]Summary!$B$30:$B$1105,INDIRECT($A$14&ROW())),\"\"),\"\")","v":""},"DF14 ADD SAUCE TOMATO",1,null,"DF11 ADD SAUCE MR",1,null,"DG04 91004:CKN MARY",7,null,"DD14 1305:THAI RL",1,null,"DC06 1106:HK F.RICE",3,null,"DG04 91004:CKN MARY",10,null,"DG04 91004:CKN MARY",6,null,"DE02 SET 1390",4,null,"DF15 ADD TATA SAUCE",1,null,"DF09 ADD SAUCE MAYO",8,null,"DD21 1312:Mc HASH BRW",1,null,"DC16 1116:MGL CHICKEN",1,null,"DB03 1003:MSR CKN CP",2,null,"DD12 1303:CHK WING",2,null,"DG01 91001:BP CHK CP",43,null,"DF01 ADD RICE",2,null,"DG03 91003:MSR CHK CP",7,null,"DG07 91007:CHK SALAD",1,null,"DD06 1206:SPRING RL",1,null,"DG05 91005:FISH&CHIP",12,null,"DF02 ADD F.EGG",1,null,"DE01 SET 990",7,null,"DD18 1309 Mc C/O.RING",2,null,"DH09 91109:BP UDON",1,null,"DG01 91001:BP CHK CP",13,null,"DD16 1307:D.F C/WING",1,null,"DG04 91004:CKN MARY",15,null,"DH01 91101:THAI CHK",5,null,"DH01 91101:THAI CHK",3,null,"DG03 91003:MSR CHK CP",10,null,"DH16 91116:MGL CHK",2]
[{"$f":"IFERROR(IF(INDIRECT($A$14&ROW())<>\"\",COUNTIF([7]Summary!$B$30:$B$1105,INDIRECT($A$14&ROW())),\"\"),\"\")","v":""},"DG01 91001:BP CHK CP",10,null,"DF14 ADD SAUCE TOMATO",1,null,"DG05 91005:FISH&CHIP",17,null,"DD16 1307:D.F C/WING",1,null,"DC07 1107:SBL F.RICE",2,null,"DG05 91005:FISH&CHIP",15,null,"DG05 91005:FISH&CHIP",8,null,"DF01 ADD RICE",1,null,"DG01 91001:BP CHK CP",4,null,"DF14 ADD SAUCE TOMATO",3,null,"DE01 SET 990",2,null,"DD02 1202:FREN FRIES",9,null,"DB04 1004:CKN MARY",2,null,"DD18 1309 Mc C/O.RING",1,null,"DG02 91002:GVY CHK CP",12,null,"DF03 ADD SAUCE 1000",1,null,"DG04 91004:CKN MARY",4,null,"DH01 91101:THAI CHK",2,null,"DD12 1303:CHK WING",3,null,"DG06 91006:SPAGHETTI",5,null,"DF07 ADD SAUCE C.PADI",1,null,"DE02 SET 1390",3,null,"DE01 SET 990",4,null,"DH16 91116:MGL CHK",1,null,"DG02 91002:GVY CHK CP",6,null,"DD21 1312:Mc HASH BRW",1,null,"DG05 91005:FISH&CHIP",10,null,"DH02 91102:MAMITE CHK",3,null,"DH02 91102:MAMITE CHK",1,null,"DG04 91004:CKN MARY",4,null,"EA01 TIDBITS",2]
[{"$f":"IFERROR(IF(INDIRECT($A$14&ROW())<>\"\",COUNTIF([7]Summary!$B$30:$B$1105,INDIRECT($A$14&ROW())),\"\"),\"\")","v":""},"DG02 91002:GVY CHK CP",2,null,"DG01 91001:BP CHK CP",11,null,"DG06 91006:SPAGHETTI",2,null,"DE01 SET 990",7,null,"DC09 1109:BP UDON",2,null,"DG06 91006:SPAGHETTI",6,null,"DG06 91006:SPAGHETTI",3,null,"DF09 ADD SAUCE MAYO",4,null,"DG02 91002:GVY CHK CP",1,null,"DG01 91001:BP CHK CP",9,null,"DE02 SET 1390",4,null,"DD11 1302:NUGGET",5,null,"DB05 1005:FISH&CHIP",2,null,"DD19 1310:Mc SPIRAL/F",1,null,"DG03 91003:MSR CHK CP",41,null,"DF07 ADD SAUCE C.PADI",1,null,"DG05 91005:FISH&CHIP",7,null,"DH02 91102:MAMITE CHK",2,null,"DD13 1304:IKAN BILIS",1,null,"DG07 91007:CHK SALAD",7,null,"DF09 ADD SAUCE MAYO",2,null,"DF07 ADD SAUCE C.PADI",1,null,"DF01 ADD RICE",1,null,"DI12 91303:CHK WING",1,null,"DG03 91003:MSR CHK CP",17,null,"DE01 SET 990",5,null,"DG06 91006:SPAGHETTI",15,null,"DH04 91104:S&S CHK",3,null,"DH05 91105:BUTTER CHK",4,null,"DG05 91005:FISH&CHIP",4,null,"GD02 MIKE COVER 03",1]
[{"$f":"IFERROR(IF(INDIRECT($A$14&ROW())<>\"\",COUNTIF([7]Summary!$B$30:$B$1105,INDIRECT($A$14&ROW())),\"\"),\"\")","v":""},"DG03 91003:MSR CHK CP",14,null,"DG02 91002:GVY CHK CP",4,null,"DG07 91007:CHK SALAD",3,null,"DE02 SET 1390",6,null,"DC11 1111:VEG RICE",2,null,"DG07 91007:CHK SALAD",2,null,"DG07 91007:CHK SALAD",3,null,"DF14 ADD SAUCE TOMATO",3,null,"DG03 91003:MSR CHK CP",9,null,"DG02 91002:GVY CHK CP",3,null,"DF03 ADD SAUCE 1000",4,null,"DD12 1303:CHK WING",3,null,"DB06 1006:SPAGHETTI",2,null,"DE01 SET 990",7,null,"DG04 91004:CKN MARY",9,null,"DF09 ADD SAUCE MAYO",6,null,"DG06 91006:SPAGHETTI",8,null,"DH05 91105:BUTTER CHK",2,null,"DD18 1309 Mc C/O.RING",1,null,"DH01 91101:THAI CHK",3,null,"DG01 91001:BP CHK CP",4,null,"DF09 ADD SAUCE MAYO",2,null,"DF07 ADD SAUCE C.PADI",1,null,"DI16 91307:D/F C.WING",1,null,"DG04 91004:CKN MARY",13,null,"DE02 SET 1390",1,null,"DG07 91007:CHK SALAD",5,null,"DH05 91105:BUTTER CHK",9,null,"DH06 91106:HK F.RICE",1,null,"DG06 91006:SPAGHETTI",3,null,"GE01 DUNHILL",1]
[{"$f":"IFERROR(IF(INDIRECT($A$14&ROW())<>\"\",COUNTIF([7]Summary!$B$30:$B$1105,INDIRECT($A$14&ROW())),\"\"),\"\")","v":""},"DG04 91004:CKN MARY",1,null,"DG03 91003:MSR CHK CP",7,null,"DH01 91101:THAI CHK",2,null,"DF05 ADD SAUCE BP",1,null,"DC15 1115:CHK NOODLE",1,null,"DH01 91101:THAI CHK",5,null,"DH01 91101:THAI CHK",1,null,"DF15 ADD TATA SAUCE",1,null,"DG04 91004:CKN MARY",6,null,"DG03 91003:MSR CHK CP",12,null,"DF07 ADD SAUCE C.PADI",1,null,"DD13 1304:IKAN BILIS",1,null,"DB07 1007:CHK SALAD",1,null,"DE02 SET 1390",5,null,"DG05 91005:FISH&CHIP",21,null,"DF13 ADD SAUCE THAI",1,null,"DG07 91007:CHK SALAD",3,null,"DH06 91106:HK F.RICE",3,null,"DE01 SET 990",5,null,"DH02 91102:MAMITE CHK",9,null,"DG02 91002:GVY CHK CP",1,null,"DF14 ADD SAUCE TOMATO",7,null,"DG01 91001:BP CHK CP",6,null,"EA01 TIDBITS",1,null,"DG05 91005:FISH&CHIP",13,null,"DF01 ADD RICE",2,null,"DH01 91101:THAI CHK",4,null,"DH06 91106:HK F.RICE",3,null,"DH10 91110:NISSIN",1,null,"DG07 91007:CHK SALAD",1,null,"GE02 DUNHILL LITE",1]
[{"$f":"IFERROR(IF(INDIRECT($A$14&ROW())<>\"\",COUNTIF([7]Summary!$B$30:$B$1105,INDIRECT($A$14&ROW())),\"\"),\"\")","v":""},"DG05 91005:FISH&CHIP",5,null,"DG05 91005:FISH&CHIP",4,null,"DH02 91102:MAMITE CHK",5,null,"DF07 ADD SAUCE C.PADI",1,null,"DD02 1202:FREN FRIES",4,null,"DH02 91102:MAMITE CHK",12,null,"DH02 91102:MAMITE CHK",1,null,"DG01 91001:BP CHK CP",10,null,"DG05 91005:FISH&CHIP",3,null,"DG04 91004:CKN MARY",4,null,"DF14 ADD SAUCE TOMATO",6,null,"DD17 1308 C/CALAMARI",null,null,"DC02 1102:MAMITE CHK",1,null,"DF01 ADD RICE",1,null,"DG06 91006:SPAGHETTI",14,null,"DF14 ADD SAUCE TOMATO",1,null,"DH01 91101:THAI CHK",2,null,"DI11 91302:NUGGET",2,null,"DE02 SET 1390",1,null,"DH05 91105:BUTTER CHK",6,null,"DG03 91003:MSR CHK CP",3,null,"DG01 91001:BP CHK CP",9,null,"DG03 91003:MSR CHK CP",5,null,"GC01 CARD NEW",2,null,"DG06 91006:SPAGHETTI",4,null,"DF09 ADD SAUCE MAYO",2,null,"DH02 91102:MAMITE CHK",6,null,"DH07 91107:SBL F.RICE",2,null,"DH16 91116:MGL CHK",2,null,"DH01 91101:THAI CHK",2,null,"GE07 DUNHILL ICE",1]
[{"$f":"IFERROR(IF(INDIRECT($A$14&ROW())<>\"\",COUNTIF([7]Summary!$B$30:$B$1105,INDIRECT($A$14&ROW())),\"\"),\"\")","v":""},"DG06 91006:SPAGHETTI",1,null,"DG06 91006:SPAGHETTI",4,null,"DH04 91104:S&S CHK",3,null,"DF09 ADD SAUCE MAYO",6,null,"DD11 1302:NUGGET",3,null,"DH04 91104:S&S CHK",1,null,"DH05 91105:BUTTER CHK",3,null,"DG02 91002:GVY CHK CP",1,null,"DG06 91006:SPAGHETTI",1,null,"DG05 91005:FISH&CHIP",4,null,"DG01 91001:BP CHK CP",7,null,"DD18 1309 Mc C/O.RING",2,null,"DC05 1105:BUTTER CHK",1,null,"DF02 ADD F.EGG",3,null,"DG07 91007:CHK SALAD",4,null,"DF15 ADD TATA SAUCE",1,null,"DH02 91102:MAMITE CHK",3,null,"DI16 91307:D/F C.WING",2,null,"DF03 ADD SAUCE 1000",1,null,"DH06 91106:HK F.RICE",5,null,"DG04 91004:CKN MARY",3,null,"DG02 91002:GVY CHK CP",2,null,"DG04 91004:CKN MARY",13,null,"GD02 MIKE COVER 03",1,null,"DG07 91007:CHK SALAD",4,null,"DF14 ADD SAUCE TOMATO",2,null,"DH05 91105:BUTTER CHK",14,null,"DH08 91108:SBL F.MEE",1,null,"DI11 91302:NUGGET",1,null,"DH02 91102:MAMITE CHK",6,null,"JG201 LLB L. Tea (C)",1]
[{"$f":"IFERROR(IF(INDIRECT($A$14&ROW())<>\"\",COUNTIF([7]Summary!$B$30:$B$1105,INDIRECT($A$14&ROW())),\"\"),\"\")","v":""},"DG07 91007:CHK SALAD",1,null,"DG07 91007:CHK SALAD",2,null,"DH05 91105:BUTTER CHK",6,null,"DF11 ADD SAUCE MR",2,null,"DD21 1312:Mc HASH BRW",1,null,"DH05 91105:BUTTER CHK",8,null,"DH06 91106:HK F.RICE",1,null,"DG03 91003:MSR CHK CP",7,null,"DH01 91101:THAI CHK",2,null,"DG06 91006:SPAGHETTI",2,null,"DG03 91003:MSR CHK CP",9,null,"DE01 SET 990",9,null,"DC06 1106:HK F.RICE",1,null,"DF03 ADD SAUCE 1000",5,null,"DH01 91101:THAI CHK",7,null,"DG01 91001:BP CHK CP",2,null,"DH05 91105:BUTTER CHK",9,null,"GA09 LIGHTER",3,null,"DF07 ADD SAUCE C.PADI",1,null,"DH07 91107:SBL F.RICE",2,null,"DG05 91005:FISH&CHIP",3,null,"DG03 91003:MSR CHK CP",7,null,"DG05 91005:FISH&CHIP",7,null,"GE01 DUNHILL",null,null,"DH01 91101:THAI CHK",3,null,"DG01 91001:BP CHK CP",11,null,"DH06 91106:HK F.RICE",2,null,"DH09 91109:BP UDON",3,null,"DI16 91307:D/F C.WING",1,null,"DH05 91105:BUTTER CHK",1,null,"JG202 LLBGreen Tea (C)",1]
[{"$f":"IFERROR(IF(INDIRECT($A$14&ROW())<>\"\",COUNTIF([7]Summary!$B$30:$B$1105,INDIRECT($A$14&ROW())),\"\"),\"\")","v":""},"DH02 91102:MAMITE CHK",1,null,"DH01 91101:THAI CHK",3,null,"DH06 91106:HK F.RICE",9,null,"DF14 ADD SAUCE TOMATO",3,null,"DE01 SET 990",10,null,"DH06 91106:HK F.RICE",1,null,"DH07 91107:SBL F.RICE",1,null,"DG04 91004:CKN MARY",4,null,"DH04 91104:S&S CHK",4,null,"DG07 91007:CHK SALAD",6,null,"DG04 91004:CKN MARY",4,null,"DE02 SET 1390",5,null,"DC09 1109:BP UDON",1,null,"DF07 ADD SAUCE C.PADI",3,null,"DH02 91102:MAMITE CHK",3,null,"DG03 91003:MSR CHK CP",1,null,"DH06 91106:HK F.RICE",1,null,"GC01 CARD NEW",6,null,"DF09 ADD SAUCE MAYO",1,null,"DH09 91109:BP UDON",1,null,"DG06 91006:SPAGHETTI",3,null,"DG04 91004:CKN MARY",6,null,"DG06 91006:SPAGHETTI",2,null,"GE06 DUNHILL SWITCH",1,null,"DH02 91102:MAMITE CHK",4,null,"DG02 91002:GVY CHK CP",4,null,"DH07 91107:SBL F.RICE",3,null,"DH11 91111:VEG RICE",1,null,"DI21 91312:Mc HASH.B",1,null,"DH06 91106:HK F.RICE",1,null,"JG203 LLB Chrysanthemu",2]
[{"$f":"IFERROR(IF(INDIRECT($A$14&ROW())<>\"\",COUNTIF([7]Summary!$B$30:$B$1105,INDIRECT($A$14&ROW())),\"\"),\"\")","v":""},"DH05 91105:BUTTER CHK",3,null,"DH02 91102:MAMITE CHK",1,null,"DH07 91107:SBL F.RICE",4,null,"DG01 91001:BP CHK CP",11,null,"DE02 SET 1390",6,null,"DH08 91108:SBL F.MEE",2,null,"DH09 91109:BP UDON",5,null,"DG05 91005:FISH&CHIP",4,null,"DH05 91105:BUTTER CHK",2,null,"DH01 91101:THAI CHK",2,null,"DG05 91005:FISH&CHIP",5,null,"DF01 ADD RICE",1,null,"DC10 1110:NISSIN",1,null,"DF09 ADD SAUCE MAYO",6,null,"DH05 91105:BUTTER CHK",7,null,"DG04 91004:CKN MARY",2,null,"DH07 91107:SBL F.RICE",3,null,"GC05 AEON MEMBER 50%",1,null,"DF14 ADD SAUCE TOMATO",2,null,"DH11 91111:VEG RICE",2,null,"DH01 91101:THAI CHK",1,null,"DG05 91005:FISH&CHIP",8,null,"DG07 91007:CHK SALAD",2,null,"JG201 LLB L. Tea (C)",1,null,"DH05 91105:BUTTER CHK",10,null,"DG03 91003:MSR CHK CP",20,null,"DH08 91108:SBL F.MEE",2,null,"DH15 91115:CHK NOODLE",1,null,"EA01 TIDBITS",1,null,"DH07 91107:SBL F.RICE",2,null,"JG204 Soya Milk",3]
[{"$f":"IFERROR(IF(INDIRECT($A$14&ROW())<>\"\",COUNTIF([7]Summary!$B$30:$B$1105,INDIRECT($A$14&ROW())),\"\"),\"\")","v":""},"DH06 91106:HK F.RICE",2,null,"DH05 91105:BUTTER CHK",null,null,"DH09 91109:BP UDON",1,null,"DG03 91003:MSR CHK CP",20,null,"DF07 ADD SAUCE C.PADI",1,null,"DH09 91109:BP UDON",4,null,"DH10 91110:NISSIN",1,null,"DG06 91006:SPAGHETTI",3,null,"DH06 91106:HK F.RICE",2,null,"DH02 91102:MAMITE CHK",5,null,"DG06 91006:SPAGHETTI",1,null,"DF03 ADD SAUCE 1000",1,null,"DC16 1116:MGL CHICKEN",3,null,"DF11 ADD SAUCE MR",1,null,"DH06 91106:HK F.RICE",4,null,"DG05 91005:FISH&CHIP",4,null,"DH09 91109:BP UDON",4,null,"GD01 MIKE COVER 01",1,null,"DF15 ADD TATA SAUCE",1,null,"DH15 91115:CHK NOODLE",4,null,"DH05 91105:BUTTER CHK",2,null,"DG06 91006:SPAGHETTI",3,null,"DH01 91101:THAI CHK",1,null,"JG208 7UP",1,null,"DH06 91106:HK F.RICE",2,null,"DG04 91004:CKN MARY",13,null,"DH09 91109:BP UDON",3,null,"DH16 91116:MGL CHK",2,null,"GA09 LIGHTER",1,null,"DH09 91109:BP UDON",1,null,"JG205 Chicau",1]
[{"$f":"IFERROR(IF(INDIRECT($A$14&ROW())<>\"\",COUNTIF([7]Summary!$B$30:$B$1105,INDIRECT($A$14&ROW())),\"\"),\"\")","v":""},"DH07 91107:SBL F.RICE",2,null,"DH06 91106:HK F.RICE",3,null,"DH10 91110:NISSIN",2,null,"DG04 91004:CKN MARY",12,null,"DF09 ADD SAUCE MAYO",5,null,"DH10 91110:NISSIN",1,null,"DH15 91115:CHK NOODLE",2,null,"DG07 91007:CHK SALAD",1,null,"DH09 91109:BP UDON",1,null,"DH05 91105:BUTTER CHK",2,null,"DG07 91007:CHK SALAD",3,null,"DF07 ADD SAUCE C.PADI",5,null,"DD02 1202:FREN FRIES",2,null,"DF14 ADD SAUCE TOMATO",9,null,"DH07 91107:SBL F.RICE",3,null,"DG06 91006:SPAGHETTI",1,null,"DH15 91115:CHK NOODLE",3,null,"GD02 MIKE COVER 03",3,null,"DG01 91001:BP CHK CP",8,null,"DI03 91203:GOLD MROOM",1,null,"DH06 91106:HK F.RICE",3,null,"DG07 91007:CHK SALAD",1,null,"DH02 91102:MAMITE CHK",1,null,"JG209 Ribena",1,null,"DH07 91107:SBL F.RICE",2,null,"DG05 91005:FISH&CHIP",9,null,"DH10 91110:NISSIN",2,null,"DI11 91302:NUGGET",1,null,"GC01 CARD NEW",3,null,"DH16 91116:MGL CHK",2,null,"JG207 Pepsi",1]
[{"$f":"IFERROR(IF(INDIRECT($A$14&ROW())<>\"\",COUNTIF([7]Summary!$B$30:$B$1105,INDIRECT($A$14&ROW())),\"\"),\"\")","v":""},"DH09 91109:BP UDON",1,null,"DH07 91107:SBL F.RICE",2,null,"DH11 91111:VEG RICE",1,null,"DG05 91005:FISH&CHIP",10,null,"DF14 ADD SAUCE TOMATO",4,null,"DH15 91115:CHK NOODLE",2,null,"DI12 91303:CHK WING",6,null,"DH05 91105:BUTTER CHK",1,null,"DH10 91110:NISSIN",1,null,"DH06 91106:HK F.RICE",2,null,"DH01 91101:THAI CHK",1,null,"DF08 ADD SAUCE GS",1,null,"DD07 1207:SAUSAGE",3,null,"DF15 ADD TATA SAUCE",1,null,"DH09 91109:BP UDON",2,null,"DH01 91101:THAI CHK",1,null,"DH16 91116:MGL CHK",1,null,"GE01 DUNHILL",1,null,"DG02 91002:GVY CHK CP",5,null,"DI06 91206:SPRING RL",1,null,"DH07 91107:SBL F.RICE",1,null,"DH01 91101:THAI CHK",1,null,"DH04 91104:S&S CHK",2,null,"JK110 LLB Nisin Noodle",1,null,"DH09 91109:BP UDON",1,null,"DG06 91006:SPAGHETTI",4,null,"DH15 91115:CHK NOODLE",2,null,"DI12 91303:CHK WING",4,null,"GD01 MIKE COVER 01",2,null,"DI02 91202:FREN FRIES",1,null,"JG208 7UP",2]
[{"$f":"IFERROR(IF(INDIRECT($A$14&ROW())<>\"\",COUNTIF([7]Summary!$B$30:$B$1105,INDIRECT($A$14&ROW())),\"\"),\"\")","v":""},"DH15 91115:CHK NOODLE",1,null,"DH08 91108:SBL F.MEE",1,null,"DH15 91115:CHK NOODLE",1,null,"DG06 91006:SPAGHETTI",4,null,"DG01 91001:BP CHK CP",18,null,"DH16 91116:MGL CHK",3,null,"DI16 91307:D/F C.WING",1,null,"DH06 91106:HK F.RICE",1,null,"DH15 91115:CHK NOODLE",1,null,"DH09 91109:BP UDON",3,null,"DH02 91102:MAMITE CHK",2,null,"DF09 ADD SAUCE MAYO",12,null,"DD11 1302:NUGGET",2,null,"DG01 91001:BP CHK CP",13,null,"DH10 91110:NISSIN",3,null,"DH02 91102:MAMITE CHK",2,null,"DI02 91202:FREN FRIES",1,null,"JG201 LLB L. Tea (C)",1,null,"DG03 91003:MSR CHK CP",16,null,"DI11 91302:NUGGET",4,null,"DH09 91109:BP UDON",1,null,"DH02 91102:MAMITE CHK",1,null,"DH05 91105:BUTTER CHK",2,null,"JM105 Cheese C.Sausage",1,null,"DH10 91110:NISSIN",2,null,"DG07 91007:CHK SALAD",6,null,"DH16 91116:MGL CHK",2,null,"DM01 SNACK PLATTER(A)",1,null,"GE02 DUNHILL LITE",null,null,"DI11 91302:NUGGET",2,null,"JG209 Ribena",2]
[{"$f":"IFERROR(IF(INDIRECT($A$14&ROW())<>\"\",COUNTIF([7]Summary!$B$30:$B$1105,INDIRECT($A$14&ROW())),\"\"),\"\")","v":""},"DI12 91303:CHK WING",1,null,"DH09 91109:BP UDON",1,null,"DH16 91116:MGL CHK",1,null,"DG07 91007:CHK SALAD",2,null,"DG02 91002:GVY CHK CP",7,null,"DI02 91202:FREN FRIES",4,null,"GA09 LIGHTER",1,null,"DH07 91107:SBL F.RICE",1,null,"DH16 91116:MGL CHK",1,null,"DH11 91111:VEG RICE",1,null,"DH04 91104:S&S CHK",2,null,"DF14 ADD SAUCE TOMATO",12,null,"DD12 1303:CHK WING",2,null,"DG02 91002:GVY CHK CP",5,null,"DH11 91111:VEG RICE",2,null,"DH04 91104:S&S CHK",2,null,"DI03 91203:GOLD MROOM",1,null,"JG210 Mineral Water",1,null,"DG05 91005:FISH&CHIP",3,null,"DI12 91303:CHK WING",3,null,"DH15 91115:CHK NOODLE",1,null,"DH04 91104:S&S CHK",2,null,"DH06 91106:HK F.RICE",1,null,"JM106 B.P C.Sausage",1,null,"DH15 91115:CHK NOODLE",4,null,"DH02 91102:MAMITE CHK",8,null,"DI01 91201:SFD STICK",1,null,"GC01 CARD NEW",1,null,"GE03 DUNHILL MT",1,null,"DI12 91303:CHK WING",1,null,"JG210 Mineral Water",1]
[{"$f":"IFERROR(IF(INDIRECT($A$14&ROW())<>\"\",COUNTIF([7]Summary!$B$30:$B$1105,INDIRECT($A$14&ROW())),\"\"),\"\")","v":""},"DM02 SNACK PLATTER(B)",1,null,"DH11 91111:VEG RICE",2,null,"DI11 91302:NUGGET",2,null,"DH01 91101:THAI CHK",1,null,"DG03 91003:MSR CHK CP",17,null,"DI03 91203:GOLD MROOM",1,null,"GC01 CARD NEW",3,null,"DH09 91109:BP UDON",3,null,"DI02 91202:FREN FRIES",2,null,"DH15 91115:CHK NOODLE",1,null,"DH05 91105:BUTTER CHK",5,null,"DG01 91001:BP CHK CP",24,null,"DD16 1307:D.F C/WING",1,null,"DG03 91003:MSR CHK CP",16,null,"DH15 91115:CHK NOODLE",2,null,"DH05 91105:BUTTER CHK",1,null,"DI07 91207:SAUSAGE",1,null,"JM101 C.Chicken Sausag",1,null,"DG07 91007:CHK SALAD",1,null,"DI21 91312:Mc HASH.B",2,null,"DM02 SNACK PLATTER(B)",1,null,"DH05 91105:BUTTER CHK",3,null,"DH10 91110:NISSIN",1,null,"JM107 S.Fill beef Ball",1,null,"DI02 91202:FREN FRIES",1,null,"DH05 91105:BUTTER CHK",5,null,"DI02 91202:FREN FRIES",3,null,"GE02 DUNHILL LITE",3,null,"JG202 LLBGreen Tea (C)",1,null,"DI18 91309:Mc O.RINGS",1,null,"JH110 LLB SOMERSBY BTL",1]
[{"$f":"IFERROR(IF(INDIRECT($A$14&ROW())<>\"\",COUNTIF([7]Summary!$B$30:$B$1105,INDIRECT($A$14&ROW())),\"\"),\"\")","v":""},"GA09 LIGHTER",1,null,"DH15 91115:CHK NOODLE",2,null,"DI12 91303:CHK WING",2,null,"DH02 91102:MAMITE CHK",3,null,"DG04 91004:CKN MARY",10,null,"DI04 91204:FISHBALL",1,null,"GD02 MIKE COVER 03",3,null,"DH11 91111:VEG RICE",1,null,"DI11 91302:NUGGET",2,null,"DH16 91116:MGL CHK",1,null,"DH06 91106:HK F.RICE",2,null,"DG02 91002:GVY CHK CP",9,null,"DE01 SET 990",7,null,"DG04 91004:CKN MARY",10,null,"DH16 91116:MGL CHK",2,null,"DH06 91106:HK F.RICE",1,null,"DI11 91302:NUGGET",1,null,"JM102 Beef Ball",2,null,"DH01 91101:THAI CHK",4,null,"GC01 CARD NEW",1,null,"GA09 LIGHTER",1,null,"DH06 91106:HK F.RICE",1,null,"DH16 91116:MGL CHK",2,null,"JN211 Pork Meatball s",1,null,"DI06 91206:SPRING RL",1,null,"DH06 91106:HK F.RICE",5,null,"DI04 91204:FISHBALL",1,null,"GE07 DUNHILL ICE",1,null,"JG207 Pepsi",1,null,"GE01 DUNHILL",1,null,"JH114 LLB H.GAARDEN BT",1]
[{"$f":"IFERROR(IF(INDIRECT($A$14&ROW())<>\"\",COUNTIF([7]Summary!$B$30:$B$1105,INDIRECT($A$14&ROW())),\"\"),\"\")","v":""},"GC01 CARD NEW",3,null,"DH16 91116:MGL CHK",1,null,"DI14 91305:THAI RL",1,null,"DH04 91104:S&S CHK",1,null,"DG05 91005:FISH&CHIP",13,null,"DI07 91207:SAUSAGE",2,null,"GE01 DUNHILL",2,null,"DH16 91116:MGL CHK",2,null,"DI12 91303:CHK WING",3,null,"DI12 91303:CHK WING",1,null,"DH07 91107:SBL F.RICE",4,null,"DG03 91003:MSR CHK CP",26,null,"DE02 SET 1390",6,null,"DG05 91005:FISH&CHIP",18,null,"DI01 91201:SFD STICK",null,null,"DH07 91107:SBL F.RICE",2,null,"DI12 91303:CHK WING",2,null,"JM105 Cheese C.Sausage",8,null,"DH02 91102:MAMITE CHK",1,null,"GC05 AEON MEMBER 50%",1,null,"GC01 CARD NEW",2,null,"DH09 91109:BP UDON",2,null,"DI11 91302:NUGGET",1,null,"JN215 Pork Meatball B",3,null,"DI07 91207:SAUSAGE",1,null,"DH09 91109:BP UDON",1,null,"DI07 91207:SAUSAGE",1,null,"JG201 LLB L. Tea (C)",2,null,"JK007 LLB CHK .C.SALAD",1,null,"JH104 LLB HEINEKEN BTL",2,null,"JK106 H.K Fried Rice",1]
[{"$f":"IFERROR(IF(INDIRECT($A$14&ROW())<>\"\",COUNTIF([7]Summary!$B$30:$B$1105,INDIRECT($A$14&ROW())),\"\"),\"\")","v":""},"GC05 AEON MEMBER 50%",2,null,"GA09 LIGHTER",1,null,"DI17 91308:C/CALAMARI",2,null,"DH05 91105:BUTTER CHK",2,null,"DG06 91006:SPAGHETTI",4,null,"DI11 91302:NUGGET",4,null,"JG209 Ribena",1,null,"DI11 91302:NUGGET",1,null,"DI19 91310:McSPIRAL.F",1,null,"DI17 91308:C/CALAMARI",1,null,"DH08 91108:SBL F.MEE",1,null,"DG04 91004:CKN MARY",25,null,"DF07 ADD SAUCE C.PADI",1,null,"DG06 91006:SPAGHETTI",4,null,"DI02 91202:FREN FRIES",5,null,"DH11 91111:VEG RICE",1,null,"DI14 91305:THAI RL",2,null,"JM106 B.P C.Sausage",1,null,"DH04 91104:S&S CHK",2,null,"GE02 DUNHILL LITE",1,null,"JG202 LLBGreen Tea (C)",1,null,"DH16 91116:MGL CHK",1,null,"DI12 91303:CHK WING",2,null,"JN218 Bacon",2,null,"DI11 91302:NUGGET",1,null,"DH10 91110:NISSIN",1,null,"DI11 91302:NUGGET",2,null,"JG202 LLBGreen Tea (C)",2,null,"JK106 H.K Fried Rice",1,null,"JN211 Pork Meatball s",1,null,"JM101 C.Chicken Sausag",3]
[{"$f":"IFERROR(IF(INDIRECT($A$14&ROW())<>\"\",COUNTIF([7]Summary!$B$30:$B$1105,INDIRECT($A$14&ROW())),\"\"),\"\")","v":""},"GE07 DUNHILL ICE",1,null,"GC01 CARD NEW",1,null,"DI19 91310:McSPIRAL.F",1,null,"DH06 91106:HK F.RICE",1,null,"DG07 91007:CHK SALAD",1,null,"DI12 91303:CHK WING",3,null,"JK005 LLB Fish & Chip",1,null,"DI18 91309:Mc O.RINGS",1,null,"EA01 TIDBITS",2,null,"DM01 SNACK PLATTER(A)",1,null,"DH09 91109:BP UDON",3,null,"DG05 91005:FISH&CHIP",18,null,"DF09 ADD SAUCE MAYO",4,null,"DG07 91007:CHK SALAD",2,null,"DI04 91204:FISHBALL",2,null,"DI01 91201:SFD STICK",1,null,"DI17 91308:C/CALAMARI",null,null,"JM107 S.Fill beef Ball",1,null,"DH05 91105:BUTTER CHK",7,null,"GE07 DUNHILL ICE",1,null,"JG204 Soya Milk",1,null,"DI02 91202:FREN FRIES",2,null,"DM01 SNACK PLATTER(A)",1,null,"JO328 Xi Dao Fish Ball",2,null,"DI12 91303:CHK WING",3,null,"DH15 91115:CHK NOODLE",2,null,"DI12 91303:CHK WING",4,null,"JG205 Chicau",1,null,"JM102 Beef Ball",2,null,"JO329 Fish Ball (S)",1,null,"JM102 Beef Ball",1]
[{"$f":"IFERROR(IF(INDIRECT($A$14&ROW())<>\"\",COUNTIF([7]Summary!$B$30:$B$1105,INDIRECT($A$14&ROW())),\"\"),\"\")","v":""},"JG202 LLBGreen Tea (C)",2,null,"GC05 AEON MEMBER 50%",3,null,"GA09 LIGHTER",1,null,"DH07 91107:SBL F.RICE",1,null,"DH01 91101:THAI CHK",1,null,"DI14 91305:THAI RL",1,null,"JM105 Cheese C.Sausage",9,null,"GA09 LIGHTER",1,null,"GC01 CARD NEW",2,null,"GA09 LIGHTER",1,null,"DH10 91110:NISSIN",2,null,"DG06 91006:SPAGHETTI",12,null,"DF14 ADD SAUCE TOMATO",4,null,"DH01 91101:THAI CHK",2,null,"DI07 91207:SAUSAGE",2,null,"DI02 91202:FREN FRIES",4,null,"DI21 91312:Mc HASH.B",2,null,"JM108 Pandan Chicken",1,null,"DH06 91106:HK F.RICE",2,null,"JG201 LLB L. Tea (C)",1,null,"JG207 Pepsi",1,null,"DI11 91302:NUGGET",1,null,"EA01 TIDBITS",3,null,"JO332 Abalone Slices",1,null,"DI16 91307:D/F C.WING",1,null,"DH16 91116:MGL CHK",2,null,"DI16 91307:D/F C.WING",2,null,"JG206 7up Revive",1,null,"JM105 Cheese C.Sausage",4,null,"JO344 M.Seafood Ball",2,null,"JM105 Cheese C.Sausage",3]
[{"$f":"IFERROR(IF(INDIRECT($A$14&ROW())<>\"\",COUNTIF([7]Summary!$B$30:$B$1105,INDIRECT($A$14&ROW())),\"\"),\"\")","v":""},"JG204 Soya Milk",1,null,"GE01 DUNHILL",2,null,"GC01 CARD NEW",8,null,"DH09 91109:BP UDON",2,null,"DH02 91102:MAMITE CHK",3,null,"DI16 91307:D/F C.WING",2,null,"JM107 S.Fill beef Ball",1,null,"GD02 MIKE COVER 03",1,null,"GE01 DUNHILL",1,null,"GC01 CARD NEW",4,null,"DH16 91116:MGL CHK",2,null,"DG07 91007:CHK SALAD",2,null,"DF15 ADD TATA SAUCE",3,null,"DH02 91102:MAMITE CHK",3,null,"DI11 91302:NUGGET",2,null,"DI07 91207:SAUSAGE",1,null,"DM01 SNACK PLATTER(A)",1,null,"JM109 S. Duck Breast",3,null,"DH07 91107:SBL F.RICE",3,null,"JK007 LLB CHK .C.SALAD",1,null,"JK105 B.Cream.Chk Rice",1,null,"GC01 CARD NEW",4,null,"GD02 MIKE COVER 03",2,null,"JO334 FISH BALL BIG",1,null,"DI18 91309:Mc O.RINGS",1,null,"DI01 91201:SFD STICK",1,null,"DI18 91309:Mc O.RINGS",1,null,"JH111 LLB SOMERSBY BKT",1,null,"JM106 B.P C.Sausage",5,null,"JP448 Botton Mushroom",1,null,"JM106 B.P C.Sausage",1]
[{"$f":"IFERROR(IF(INDIRECT($A$14&ROW())<>\"\",COUNTIF([7]Summary!$B$30:$B$1105,INDIRECT($A$14&ROW())),\"\"),\"\")","v":""},"JG206 7up Revive",1,null,"JG201 LLB L. Tea (C)",2,null,"GE01 DUNHILL",2,null,"DH15 91115:CHK NOODLE",2,null,"DH04 91104:S&S CHK",2,null,"DI19 91310:McSPIRAL.F",1,null,"JN211 Pork Meatball s",1,null,"GE01 DUNHILL",1,null,"GE07 DUNHILL ICE",1,null,"GC05 AEON MEMBER 50%",2,null,"DI04 91204:FISHBALL",1,null,"DH01 91101:THAI CHK",4,null,"DG01 91001:BP CHK CP",21,null,"DH04 91104:S&S CHK",1,null,"DI12 91303:CHK WING",5,null,"DI11 91302:NUGGET",1,null,"DM02 SNACK PLATTER(B)",1,null,"JM110 Grill.B.Chk.Wing",7,null,"DH11 91111:VEG RICE",1,null,"JM105 Cheese C.Sausage",1,null,"JM101 C.Chicken Sausag",4,null,"GC05 AEON MEMBER 50%",1,null,"GE01 DUNHILL",2,null,"JO337 C.Shrimp.F.Paste",4,null,"DI21 91312:Mc HASH.B",1,null,"DI02 91202:FREN FRIES",2,null,"GA09 LIGHTER",1,null,"JM106 B.P C.Sausage",2,null,"JM107 S.Fill beef Ball",2,null,"JP449 Kang Kong",1,null,"JM107 S.Fill beef Ball"]
[{"$f":"IFERROR(IF(INDIRECT($A$14&ROW())<>\"\",COUNTIF([7]Summary!$B$30:$B$1105,INDIRECT($A$14&ROW())),\"\"),\"\")","v":""},"JG210 Mineral Water",1,null,"JG202 LLBGreen Tea (C)",4,null,"GE05 DUNHILL BOOST",1,null,"DH16 91116:MGL CHK",2,null,"DH05 91105:BUTTER CHK",7,null,"DI21 91312:Mc HASH.B",2,null,"JN212 Wu Xiang Roll s",2,null,"JG201 LLB L. Tea (C)",2,null,"JG201 LLB L. Tea (C)",6,null,"GD02 MIKE COVER 03",1,null,"DI06 91206:SPRING RL",1,null,"DH02 91102:MAMITE CHK",10,null,"DG02 91002:GVY CHK CP",6,null,"DH05 91105:BUTTER CHK",6,null,"DI16 91307:D/F C.WING",1,null,"DI12 91303:CHK WING",4,null,"GC01 CARD NEW",1,null,"JN211 Pork Meatball s",5,null,"DH16 91116:MGL CHK",5,null,"JN212 Wu Xiang Roll s",1,null,"JM102 Beef Ball",2,null,"GD01 MIKE COVER 01",2,null,"GE02 DUNHILL LITE",null,null,"JO338 Otak Fish Paste",1,null,"DM01 SNACK PLATTER(A)",1,null,"DI07 91207:SAUSAGE",2,null,"GC01 CARD NEW",2,null,"JN211 Pork Meatball s",1,null,"JM110 Grill.B.Chk.Wing",2,null,"JP453 Shiitake Mushrom",1,null,"JN211 Pork Meatball s",7]
[{"$f":"IFERROR(IF(INDIRECT($A$14&ROW())<>\"\",COUNTIF([7]Summary!$B$30:$B$1105,INDIRECT($A$14&ROW())),\"\"),\"\")","v":""},"JM101 C.Chicken Sausag",1,null,"JG204 Soya Milk",1,null,"GE06 DUNHILL SWITCH",1,null,"DI02 91202:FREN FRIES",1,null,"DH06 91106:HK F.RICE",2,null,"DM02 SNACK PLATTER(B)",1,null,"JN215 Pork Meatball B",2,null,"JG202 LLBGreen Tea (C)",1,null,"JG202 LLBGreen Tea (C)",1,null,"GE01 DUNHILL",1,null,"DI12 91303:CHK WING",1,null,"DH04 91104:S&S CHK",1,null,"DG03 91003:MSR CHK CP",23,null,"DH06 91106:HK F.RICE",6,null,"DI18 91309:Mc O.RINGS",1,null,"DI13 91304:IKAN BILIS",1,null,"GD02 MIKE COVER 03",2,null,"JN212 Wu Xiang Roll s",1,null,"DI02 91202:FREN FRIES",1,null,"JO327 Wu Xiang F.Ball",1,null,"JM105 Cheese C.Sausage",2,null,"GD02 MIKE COVER 03",1,null,"GE03 DUNHILL MT",1,null,"JO343 Cuttlefish Roll",1,null,"DM02 SNACK PLATTER(B)",1,null,"DI11 91302:NUGGET",3,null,"GD02 MIKE COVER 03",1,null,"JN215 Pork Meatball B",1,null,"JN214 Pork Dumplings",1,null,"JR02 PACKAGE B",1,null,"JN214 Pork Dumplings",2]
[{"$f":"IFERROR(IF(INDIRECT($A$14&ROW())<>\"\",COUNTIF([7]Summary!$B$30:$B$1105,INDIRECT($A$14&ROW())),\"\"),\"\")","v":""},"JM102 Beef Ball",1,null,"JG209 Ribena",1,null,"JG201 LLB L. Tea (C)",2,null,"DI04 91204:FISHBALL",1,null,"DH07 91107:SBL F.RICE",1,null,"GA09 LIGHTER",1,null,"JN217 Taiwan Sausage",9,null,"JG203 LLB Chrysanthemu",1,null,"JG207 Pepsi",1,null,"GE03 DUNHILL MT",1,null,"DI14 91305:THAI RL",1,null,"DH05 91105:BUTTER CHK",4,null,"DG04 91004:CKN MARY",11,null,"DH07 91107:SBL F.RICE",2,null,"DI21 91312:Mc HASH.B",3,null,"DI16 91307:D/F C.WING",1,null,"JG201 LLB L. Tea (C)",1,null,"JN213 P. Sauage Slices",3,null,"DI03 91203:GOLD MROOM",1,null,"JO331 Prawn Ball",1,null,"JN212 Wu Xiang Roll s",1,null,"GE02 DUNHILL LITE",1,null,"GE07 DUNHILL ICE",1,null,"JP450 Broccali",1,null,"GA09 LIGHTER",1,null,"DI12 91303:CHK WING",1,null,"JG202 LLBGreen Tea (C)",3,null,"JN218 Bacon",1,null,"JN215 Pork Meatball B",4,null,"JT102 Tiger 2 BTK Pro",1,null,"JN215 Pork Meatball B",5]
[{"$f":"IFERROR(IF(INDIRECT($A$14&ROW())<>\"\",COUNTIF([7]Summary!$B$30:$B$1105,INDIRECT($A$14&ROW())),\"\"),\"\")","v":""},"JM106 B.P C.Sausage",1,null,"JM102 Beef Ball",1,null,"JG202 LLBGreen Tea (C)",2,null,"DI12 91303:CHK WING",1,null,"DH09 91109:BP UDON",3,null,"GC01 CARD NEW",5,null,"JN222 Enoki Bacon Roll",4,null,"JG204 Soya Milk",1,null,"JG208 7UP",1,null,"JG201 LLB L. Tea (C)",2,null,"DM01 SNACK PLATTER(A)",1,null,"DH06 91106:HK F.RICE",12,null,"DG05 91005:FISH&CHIP",16,null,"DH15 91115:CHK NOODLE",2,null,"GC01 CARD NEW",2,null,"EA01 TIDBITS",1,null,"JG203 LLB Chrysanthemu",3,null,"JN214 Pork Dumplings",2,null,"DI11 91302:NUGGET",2,null,"JQ557 Chrisy Beabcurd",2,null,"JN214 Pork Dumplings",1,null,"JG201 LLB L. Tea (C)",2,null,"JG201 LLB L. Tea (C)",1,null,"JP451 Long Bean",1,null,"GC01 CARD NEW",3,null,"DI14 91305:THAI RL",1,null,"JG203 LLB Chrysanthemu",1,null,"JO328 Xi Dao Fish Ball",5,null,"JN217 Taiwan Sausage",5,null,"ZAA01 GUINNESS EX BKT",2,null,"JN217 Taiwan Sausage",2]
[{"$f":"IFERROR(IF(INDIRECT($A$14&ROW())<>\"\",COUNTIF([7]Summary!$B$30:$B$1105,INDIRECT($A$14&ROW())),\"\"),\"\")","v":""},"JM108 Pandan Chicken",3,null,"JM106 B.P C.Sausage",1,null,"JG203 LLB Chrysanthemu",1,null,"EA01 TIDBITS",1,null,"DH11 91111:VEG RICE",1,null,"GC05 AEON MEMBER 50%",1,null,"JO324 M. Fried F. Cake",2,null,"JH104 LLB HEINEKEN BTL",2,null,"JG209 Ribena",2,null,"JG203 LLB Chrysanthemu",2,null,"GA09 LIGHTER",2,null,"DH07 91107:SBL F.RICE",1,null,"DG06 91006:SPAGHETTI",12,null,"DI01 91201:SFD STICK",1,null,"GD02 MIKE COVER 03",4,null,"GC01 CARD NEW",3,null,"JG206 7up Revive",2,null,"JN215 Pork Meatball B",4,null,"GA09 LIGHTER",4,null,"JT101 Tiger BKT Pro",1,null,"JN215 Pork Meatball B",2,null,"JG202 LLBGreen Tea (C)",1,null,"JG202 LLBGreen Tea (C)",1,null,"JP452 Fried A.Mushroom",1,null,"GC03 Student Mem Card",1,null,"DI19 91310:McSPIRAL.F",null,null,"JG204 Soya Milk",null,null,"JO331 Prawn Ball",1,null,"JN220 Sauce Filll Ball",2,null,"ZAB02 1202:FRIES",2,null,"JN218 Bacon",3]
[{"$f":"IFERROR(IF(INDIRECT($A$14&ROW())<>\"\",COUNTIF([7]Summary!$B$30:$B$1105,INDIRECT($A$14&ROW())),\"\"),\"\")","v":""},"JM110 Grill.B.Chk.Wing",3,null,"JN211 Pork Meatball s",1,null,"JH112 LLB S.BOW BTL",1,null,"GC01 CARD NEW",6,null,"DH15 91115:CHK NOODLE",2,null,"GD02 MIKE COVER 03",1,null,"JO326 Fresh Clam",1,null,"JK002 LLB G.S C. CHOP",1,null,"JG210 Mineral Water",1,null,"JG204 Soya Milk",2,null,"GC01 CARD NEW",2,null,"DH09 91109:BP UDON",4,null,"DG07 91007:CHK SALAD",8,null,"DI04 91204:FISHBALL",1,null,"GE03 DUNHILL MT",1,null,"GE01 DUNHILL",1,null,"JG207 Pepsi",1,null,"JN217 Taiwan Sausage",6,null,"GC01 CARD NEW",6,null,"ZAB02 1202:FRIES",7,null,"JN217 Taiwan Sausage",6,null,"JG205 Chicau",1,null,"JG203 LLB Chrysanthemu",6,null,"JQ558 Quail Eggs",2,null,"GD02 MIKE COVER 03",1,null,"DI20 91311Mc H/SMILES",1,null,"JG205 Chicau",1,null,"JO332 Abalone Slices",1,null,"JO328 Xi Dao Fish Ball",1,null,"ZAB03 1203:GOLD MROOM",3,null,"JN220 Sauce Filll Ball",1]
[{"$f":"IFERROR(IF(INDIRECT($A$14&ROW())<>\"\",COUNTIF([7]Summary!$B$30:$B$1105,INDIRECT($A$14&ROW())),\"\"),\"\")","v":""},"JN211 Pork Meatball s",1,null,"JN212 Wu Xiang Roll s",3,null,"JH114 LLB H.GAARDEN BT",1,null,"GC02 CARD REPLACE",1,null,"DH16 91116:MGL CHK",2,null,"GE01 DUNHILL",3,null,"JO327 Wu Xiang F.Ball",1,null,"JK109 LLB BP Udon Mee",1,null,"JK115 LLB B.Noodle.Chk",1,null,"JG207 Pepsi",1,null,"GC05 AEON MEMBER 50%",2,null,"DH10 91110:NISSIN",1,null,"DH01 91101:THAI CHK",4,null,"DI07 91207:SAUSAGE",1,null,"JG201 LLB L. Tea (C)",4,null,"JG201 LLB L. Tea (C)",1,null,"JG210 Mineral Water",2,null,"JN218 Bacon",6,null,"GC03 Student Mem Card",1,null,"ZAB03 1203:GOLD MROOM",3,null,"JN218 Bacon",1,null,"JG210 Mineral Water",1,null,"JH112 LLB S.BOW BTL",1,null,"JQ561 F.Vege Ball",1,null,"GE02 DUNHILL LITE",3,null,"DI21 91312:Mc HASH.B",1,null,"JG207 Pepsi",1,null,"JO335 Tempura Prawn",1,null,"JO337 C.Shrimp.F.Paste",3,null,"ZAB06 1206:SPRING RL",1,null,"JO324 M. Fried F. Cake",1]
[{"$f":"IFERROR(IF(INDIRECT($A$14&ROW())<>\"\",COUNTIF([7]Summary!$B$30:$B$1105,INDIRECT($A$14&ROW())),\"\"),\"\")","v":""},"JN215 Pork Meatball B",4,null,"JN215 Pork Meatball B",4,null,"JK109 LLB BP Udon Mee",1,null,"GC05 AEON MEMBER 50%",1,null,"DI02 91202:FREN FRIES",5,null,"GE02 DUNHILL LITE",1,null,"JO329 Fish Ball (S)",2,null,"JM101 C.Chicken Sausag",2,null,"JM101 C.Chicken Sausag",2,null,"JG208 7UP",1,null,"GD02 MIKE COVER 03",2,null,"DH15 91115:CHK NOODLE",6,null,"DH02 91102:MAMITE CHK",4,null,"DI11 91302:NUGGET",1,null,"JG202 LLBGreen Tea (C)",2,null,"JG202 LLBGreen Tea (C)",1,null,"JM101 C.Chicken Sausag",2,null,"JN219 Pork Rinds",1,null,"GD02 MIKE COVER 03",2,null,"ZAB04 1204:F.BALL",2,null,"JN220 Sauce Filll Ball",2,null,"JK106 H.K Fried Rice",2,null,"JH117 LLB PAULANER BKT",1,null,"JQ567 Cheese S.Tofu",1,null,"GE07 DUNHILL ICE",1,null,"GC01 CARD NEW",4,null,"JG209 Ribena",1,null,"JO337 C.Shrimp.F.Paste",1,null,"JO341 Scallop Ball",1,null,"ZAC02 1302:NUGGET",2,null,"JO325 Spicy Fish Cake",1]
[{"$f":"IFERROR(IF(INDIRECT($A$14&ROW())<>\"\",COUNTIF([7]Summary!$B$30:$B$1105,INDIRECT($A$14&ROW())),\"\"),\"\")","v":""},"JN217 Taiwan Sausage",5,null,"JN217 Taiwan Sausage",1,null,"JM105 Cheese C.Sausage",2,null,"GD02 MIKE COVER 03",1,null,"DI03 91203:GOLD MROOM",1,null,"GE07 DUNHILL ICE",1,null,"JO330 Tofu Fish Ball",8,null,"JM102 Beef Ball",1,null,"JM102 Beef Ball",1,null,"JM101 C.Chicken Sausag",4,null,"GE01 DUNHILL",1,null,"DH16 91116:MGL CHK",1,null,"DH04 91104:S&S CHK",3,null,"DI12 91303:CHK WING",6,null,"JG203 LLB Chrysanthemu",1,null,"JG204 Soya Milk",1,null,"JM102 Beef Ball",2,null,"JN220 Sauce Filll Ball",2,null,"GE01 DUNHILL",4,null,"ZAB06 1206:SPRING RL",1,null,"JO324 M. Fried F. Cake",1,null,"JK107 LLBSambal F.Rice",1,null,"JM101 C.Chicken Sausag",3,null,"JT101 Tiger BKT Pro",null,null,"JG201 LLB L. Tea (C)",1,null,"GC03 Student Mem Card",3,null,"JG210 Mineral Water",2,null,"JO341 Scallop Ball",2,null,"JQ557 Chrisy Beabcurd",2,null,"ZAC03 1303:CHK WING",3,null,"JO328 Xi Dao Fish Ball",1]
[{"$f":"IFERROR(IF(INDIRECT($A$14&ROW())<>\"\",COUNTIF([7]Summary!$B$30:$B$1105,INDIRECT($A$14&ROW())),\"\"),\"\")","v":""},"JN218 Bacon",2,null,"JO328 Xi Dao Fish Ball",3,null,"JM106 B.P C.Sausage",3,null,"GE01 DUNHILL",2,null,"DI06 91206:SPRING RL",1,null,"JG201 LLB L. Tea (C)",1,null,"JO332 Abalone Slices",3,null,"JM105 Cheese C.Sausage",1,null,"JM105 Cheese C.Sausage",8,null,"JM105 Cheese C.Sausage",2,null,"GE02 DUNHILL LITE",1,null,"DI02 91202:FREN FRIES",1,null,"DH05 91105:BUTTER CHK",7,null,"DI16 91307:D/F C.WING",1,null,"JG209 Ribena",3,null,"JG205 Chicau",1,null,"JM105 Cheese C.Sausage",1,null,"JN222 Enoki Bacon Roll",3,null,"GE02 DUNHILL LITE",2,null,"ZAB07 1207:SAUSAGE",3,null,"JO328 Xi Dao Fish Ball",3,null,"JM102 Beef Ball",1,null,"JM102 Beef Ball",1,null,"JT102 Tiger 2 BTK Pro",4,null,"JG204 Soya Milk",1,null,"GE02 DUNHILL LITE",1,null,"JK110 LLB Nisin Noodle",1,null,"JP448 Botton Mushroom",2,null,"JQ559 Fried Wanton",2,null,"ZAC04 1304:IKAN BILIS",1,null,"JO329 Fish Ball (S)",1]
[{"$f":"IFERROR(IF(INDIRECT($A$14&ROW())<>\"\",COUNTIF([7]Summary!$B$30:$B$1105,INDIRECT($A$14&ROW())),\"\"),\"\")","v":""},"JN220 Sauce Filll Ball",1,null,"JO330 Tofu Fish Ball",1,null,"JM108 Pandan Chicken",1,null,"GE03 DUNHILL MT",1,null,"DI11 91302:NUGGET",1,null,"JG203 LLB Chrysanthemu",1,null,"JO335 Tempura Prawn",1,null,"JM106 B.P C.Sausage",1,null,"JM106 B.P C.Sausage",1,null,"JM106 B.P C.Sausage",1,null,"GE07 DUNHILL ICE",1,null,"DI04 91204:FISHBALL",1,null,"DH06 91106:HK F.RICE",8,null,"DM02 SNACK PLATTER(B)",1,null,"JH110 LLB SOMERSBY BTL",1,null,"JG207 Pepsi",2,null,"JM109 S. Duck Breast",1,null,"JO323 Fish Wanton",1,null,"GE07 DUNHILL ICE",2,null,"ZAC02 1302:NUGGET",3,null,"JO329 Fish Ball (S)",1,null,"JN211 Pork Meatball s",1,null,"JM105 Cheese C.Sausage",3,null,"ZAA01 GUINNESS EX BKT",1,null,"JG205 Chicau",2,null,"GE03 DUNHILL MT",1,null,"JN211 Pork Meatball s",1,null,"JP449 Kang Kong",1,null,"JQ563 Seafood Tofu",4,null,"ZAC07 1307:D/F C.WINGS",1,null,"JO332 Abalone Slices",5]
[{"$f":"IFERROR(IF(INDIRECT($A$14&ROW())<>\"\",COUNTIF([7]Summary!$B$30:$B$1105,INDIRECT($A$14&ROW())),\"\"),\"\")","v":""},"JO324 M. Fried F. Cake",1,null,"JO343 Cuttlefish Roll",1,null,"JN211 Pork Meatball s",2,null,"JG202 LLBGreen Tea (C)",null,null,"DI12 91303:CHK WING",6,null,"JG209 Ribena",1,null,"JO339 Salmon Ball",1,null,"JM107 S.Fill beef Ball",3,null,"JM110 Grill.B.Chk.Wing",2,null,"JM110 Grill.B.Chk.Wing",2,null,"JG201 LLB L. Tea (C)",5,null,"DI11 91302:NUGGET",3,null,"DH07 91107:SBL F.RICE",2,null,"GA09 LIGHTER",1,null,"JK001 LLB BP CHK CHOP",2,null,"JG210 Mineral Water",1,null,"JN211 Pork Meatball s",6,null,"JO329 Fish Ball (S)",1,null,"JG201 LLB L. Tea (C)",5,null,"ZAC03 1303:CHK WING",1,null,"JO331 Prawn Ball",1,null,"JN215 Pork Meatball B",1,null,"JM106 B.P C.Sausage",2,null,"ZAA02 HEINEKEN EX BKT",5,null,"JG208 7UP",1,null,"JG201 LLB L. Tea (C)",2,null,"JN212 Wu Xiang Roll s",2,null,"JP450 Broccali",1,null,"JT101 Tiger BKT Pro",1,null,"ZAC12 1312:Mc HASH/B",1,null,"JO336 Breaded CarbClaw",1]
[{"$f":"IFERROR(IF(INDIRECT($A$14&ROW())<>\"\",COUNTIF([7]Summary!$B$30:$B$1105,INDIRECT($A$14&ROW())),\"\"),\"\")","v":""},"JO325 Spicy Fish Cake",1,null,"JO347 Tiger Prawn",1,null,"JN212 Wu Xiang Roll s",11,null,"JG204 Soya Milk",null,null,"DI17 91308:C/CALAMARI",2,null,"JH117 LLB PAULANER BKT",3,null,"JP448 Botton Mushroom",1,null,"JN212 Wu Xiang Roll s",1,null,"JN211 Pork Meatball s",7,null,"JN211 Pork Meatball s",2,null,"JG202 LLBGreen Tea (C)",3,null,"DI12 91303:CHK WING",2,null,"DH09 91109:BP UDON",2,null,"GC01 CARD NEW",2,null,"JK101 LLB Thai Chk Ric",1,null,"JK003 LLB MSR CHK CHOP",1,null,"JN215 Pork Meatball B",4,null,"JO337 C.Shrimp.F.Paste",1,null,"JG202 LLBGreen Tea (C)",3,null,"ZAC04 1304:IKAN BILIS",null,null,"JO332 Abalone Slices",3,null,"JN217 Taiwan Sausage",1,null,"JN211 Pork Meatball s",2,null,"ZAB02 1202:FRIES",1,null,"JG209 Ribena",1,null,"JG203 LLB Chrysanthemu",1,null,"JN213 P. Sauage Slices",2,null,"JP452 Fried A.Mushroom",2,null,"JT102 Tiger 2 BTK Pro",2,null,"ZAD01 COLD",3,null,"JO340 Fuzhou Fish Ball",1]
[{"$f":"IFERROR(IF(INDIRECT($A$14&ROW())<>\"\",COUNTIF([7]Summary!$B$30:$B$1105,INDIRECT($A$14&ROW())),\"\"),\"\")","v":""},"JO329 Fish Ball (S)",1,null,"JP448 Botton Mushroom",1,null,"JN215 Pork Meatball B",6,null,"JG206 7up Revive",4,null,"DI19 91310:McSPIRAL.F",1,null,"JM102 Beef Ball",2,null,"JP449 Kang Kong",1,null,"JN214 Pork Dumplings",2,null,"JN212 Wu Xiang Roll s",2,null,"JN212 Wu Xiang Roll s",3,null,"JG203 LLB Chrysanthemu",2,null,"DI18 91309:Mc O.RINGS",1,null,"DH10 91110:NISSIN",4,null,"GC02 CARD REPLACE",1,null,"JM101 C.Chicken Sausag",5,null,"JK105 B.Cream.Chk Rice",1,null,"JN217 Taiwan Sausage",3,null,"JO339 Salmon Ball",2,null,"JG203 LLB Chrysanthemu",1,null,"ZAC05 1305:THAI RL",1,null,"JO336 Breaded CarbClaw",1,null,"JN220 Sauce Filll Ball",1,null,"JN212 Wu Xiang Roll s",2,null,"ZAB04 1204:F.BALL",1,null,"JH111 LLB SOMERSBY BKT",1,null,"JG206 7up Revive",1,null,"JN214 Pork Dumplings",1,null,"JQ557 Chrisy Beabcurd",1,null,"ZAB03 1203:GOLD MROOM",1,null,"ZAD02 HOT",3,null,"JO343 Cuttlefish Roll",2]
[{"$f":"IFERROR(IF(INDIRECT($A$14&ROW())<>\"\",COUNTIF([7]Summary!$B$30:$B$1105,INDIRECT($A$14&ROW())),\"\"),\"\")","v":""},"JO330 Tofu Fish Ball",2,null,"JP449 Kang Kong",1,null,"JN217 Taiwan Sausage",6,null,"JG208 7UP",1,null,"DM01 SNACK PLATTER(A)",1,null,"JN215 Pork Meatball B",5,null,"JP452 Fried A.Mushroom",1,null,"JN215 Pork Meatball B",3,null,"JN214 Pork Dumplings",1,null,"JN214 Pork Dumplings",2,null,"JG204 Soya Milk",2,null,"DI19 91310:McSPIRAL.F",2,null,"DH11 91111:VEG RICE",3,null,"GD02 MIKE COVER 03",1,null,"JM105 Cheese C.Sausage",2,null,"JM101 C.Chicken Sausag",2,null,"JN218 Bacon",2,null,"JO341 Scallop Ball",1,null,"JG204 Soya Milk",5,null,"ZAC12 1312:Mc HASH/B",1,null,"JO340 Fuzhou Fish Ball",1,null,"JO328 Xi Dao Fish Ball",1,null,"JN214 Pork Dumplings",2,null,"ZAC02 1302:NUGGET",1,null,"JK003 LLB MSR CHK CHOP",1,null,"JG209 Ribena",1,null,"JN215 Pork Meatball B",1,null,"JQ558 Quail Eggs",1,null,"ZAB07 1207:SAUSAGE",1,null,"ZAD03 WARM",11,null,"JO344 M.Seafood Ball",1]
[{"$f":"IFERROR(IF(INDIRECT($A$14&ROW())<>\"\",COUNTIF([7]Summary!$B$30:$B$1105,INDIRECT($A$14&ROW())),\"\"),\"\")","v":""},"JO331 Prawn Ball",1,null,"JP452 Fried A.Mushroom",1,null,"JN220 Sauce Filll Ball",3,null,"JG209 Ribena",1,null,"GC01 CARD NEW",2,null,"JN217 Taiwan Sausage",5,null,"JP453 Shiitake Mushrom",1,null,"JN217 Taiwan Sausage",1,null,"JN215 Pork Meatball B",4,null,"JN215 Pork Meatball B",1,null,"JG206 7up Revive",2,null,"DM01 SNACK PLATTER(A)",4,null,"DH15 91115:CHK NOODLE",1,null,"GE01 DUNHILL",2,null,"JM106 B.P C.Sausage",2,null,"JM105 Cheese C.Sausage",3,null,"JN220 Sauce Filll Ball",2,null,"JO342 Taiwan C.F. Ball",1,null,"JG205 Chicau",3,null,"ZAD01 COLD",4,null,"JP448 Botton Mushroom",1,null,"JO332 Abalone Slices",1,null,"JN217 Taiwan Sausage",6,null,"ZAC05 1305:THAI RL",1,null,"JK115 LLB B.Noodle.Chk",1,null,"JG210 Mineral Water",3,null,"JN217 Taiwan Sausage",3,null,"JQ565 Quail Century Eg",3,null,"ZAC02 1302:NUGGET",3,null,"ZAD04 LESS ICE",30,null,"JP448 Botton Mushroom",1]
[{"$f":"IFERROR(IF(INDIRECT($A$14&ROW())<>\"\",COUNTIF([7]Summary!$B$30:$B$1105,INDIRECT($A$14&ROW())),\"\"),\"\")","v":""},"JO332 Abalone Slices",1,null,"JP453 Shiitake Mushrom",1,null,"JO324 M. Fried F. Cake",1,null,"JH104 LLB HEINEKEN BTL",3,null,"GC05 AEON MEMBER 50%",1,null,"JN218 Bacon",2,null,"JQ556 M.Fish Lady's F",1,null,"JN218 Bacon",1,null,"JN217 Taiwan Sausage",4,null,"JN217 Taiwan Sausage",3,null,"JG207 Pepsi",3,null,"GA09 LIGHTER",1,null,"DH16 91116:MGL CHK",1,null,"GE03 DUNHILL MT",1,null,"JM107 S.Fill beef Ball",2,null,"JM106 B.P C.Sausage",4,null,"JO323 Fish Wanton",1,null,"JP448 Botton Mushroom",8,null,"JG207 Pepsi",1,null,"ZAD02 HOT",7,null,"JP450 Broccali",2,null,"JO343 Cuttlefish Roll",1,null,"JN218 Bacon",1,null,"ZAD01 COLD",4,null,"JM101 C.Chicken Sausag",1,null,"JH110 LLB SOMERSBY BTL",2,null,"JN218 Bacon",1,null,"JT102 Tiger 2 BTK Pro",1,null,"ZAC03 1303:CHK WING",2,null,"ZAD06 NO ICE",7,null,"JP449 Kang Kong",5]
[{"$f":"IFERROR(IF(INDIRECT($A$14&ROW())<>\"\",COUNTIF([7]Summary!$B$30:$B$1105,INDIRECT($A$14&ROW())),\"\"),\"\")","v":""},"JO334 FISH BALL BIG",2,null,"JQ557 Chrisy Beabcurd",2,null,"JO327 Wu Xiang F.Ball",2,null,"JK115 LLB B.Noodle.Chk",1,null,"GD01 MIKE COVER 01",2,null,"JN220 Sauce Filll Ball",1,null,"JQ557 Chrisy Beabcurd",2,null,"JN220 Sauce Filll Ball",2,null,"JN218 Bacon",4,null,"JN220 Sauce Filll Ball",5,null,"JG209 Ribena",1,null,"GC01 CARD NEW",5,null,"DI01 91201:SFD STICK",1,null,"JG203 LLB Chrysanthemu",1,null,"JM108 Pandan Chicken",1,null,"JM108 Pandan Chicken",2,null,"JO327 Wu Xiang F.Ball",1,null,"JP449 Kang Kong",3,null,"JG209 Ribena",1,null,"ZAD03 WARM",16,null,"JP453 Shiitake Mushrom",3,null,"JP450 Broccali",1,null,"JN219 Pork Rinds",1,null,"ZAD02 HOT",2,null,"JM105 Cheese C.Sausage",1,null,"JK105 B.Cream.Chk Rice",1,null,"JO328 Xi Dao Fish Ball",7,null,"ZAB03 1203:GOLD MROOM",1,null,"ZAC04 1304:IKAN BILIS",1,null,"ZAD07 LESS SWEET",3,null,"JP450 Broccali",3]
[{"$f":"IFERROR(IF(INDIRECT($A$14&ROW())<>\"\",COUNTIF([7]Summary!$B$30:$B$1105,INDIRECT($A$14&ROW())),\"\"),\"\")","v":""},"JO336 Breaded CarbClaw",4,null,"JQ558 Quail Eggs",4,null,"JO328 Xi Dao Fish Ball",4,null,"JM109 S. Duck Breast",1,null,"GE01 DUNHILL",2,null,"JN222 Enoki Bacon Roll",2,null,"JQ559 Fried Wanton",1,null,"JO325 Spicy Fish Cake",1,null,"JN220 Sauce Filll Ball",2,null,"JO323 Fish Wanton",1,null,"JG210 Mineral Water",2,null,"GC05 AEON MEMBER 50%",3,null,"DI02 91202:FREN FRIES",2,null,"JG204 Soya Milk",2,null,"JM109 S. Duck Breast",1,null,"JM109 S. Duck Breast",2,null,"JO329 Fish Ball (S)",1,null,"JP450 Broccali",7,null,"JG210 Mineral Water",3,null,"ZAD04 LESS ICE",38,null,"JQ557 Chrisy Beabcurd",4,null,"JP453 Shiitake Mushrom",1,null,"JO323 Fish Wanton",2,null,"ZAD03 WARM",9,null,"JM107 S.Fill beef Ball",1,null,"JM101 C.Chicken Sausag",3,null,"JO336 Breaded CarbClaw",1,null,"ZAB04 1204:F.BALL",1,null,"ZAC07 1307:D/F C.WINGS",2,null,"ZAD11 MORE SPICY",1,null,"JP451 Long Bean",1]
[{"$f":"IFERROR(IF(INDIRECT($A$14&ROW())<>\"\",COUNTIF([7]Summary!$B$30:$B$1105,INDIRECT($A$14&ROW())),\"\"),\"\")","v":""},"JO339 Salmon Ball",2,null,"JQ565 Quail Century Eg",1,null,"JO329 Fish Ball (S)",1,null,"JN211 Pork Meatball s",2,null,"GE07 DUNHILL ICE",null,null,"JO325 Spicy Fish Cake",1,null,"JQ563 Seafood Tofu",1,null,"JO326 Fresh Clam",5,null,"JO323 Fish Wanton",1,null,"JO328 Xi Dao Fish Ball",4,null,"JH110 LLB SOMERSBY BTL",1,null,"GD02 MIKE COVER 03",1,null,"DI07 91207:SAUSAGE",1,null,"JG205 Chicau",1,null,"JN211 Pork Meatball s",3,null,"JM110 Grill.B.Chk.Wing",5,null,"JO334 FISH BALL BIG",1,null,"JP451 Long Bean",2,null,"JH104 LLB HEINEKEN BTL",1,null,"ZAD06 NO ICE",9,null,"JQ558 Quail Eggs",3,null,"JQ557 Chrisy Beabcurd",2,null,"JO324 M. Fried F. Cake",2,null,"ZAD04 LESS ICE",17,null,"JM108 Pandan Chicken",1,null,"JM105 Cheese C.Sausage",1,null,"JO337 C.Shrimp.F.Paste",1,null,"ZAB06 1206:SPRING RL",1,null,"ZAC09 1309:Mc /O.RINGS",1,null,"ZAD13 ADD LEMON",3,null,"JP453 Shiitake Mushrom",3]
[{"$f":"IFERROR(IF(INDIRECT($A$14&ROW())<>\"\",COUNTIF([7]Summary!$B$30:$B$1105,INDIRECT($A$14&ROW())),\"\"),\"\")","v":""},"JO342 Taiwan C.F. Ball",null,null,"JT102 Tiger 2 BTK Pro",1,null,"JO330 Tofu Fish Ball",1,null,"JN213 P. Sauage Slices",1,null,"JG201 LLB L. Tea (C)",4,null,"JO327 Wu Xiang F.Ball",1,null,"JQ564 Spring Roll",1,null,"JO327 Wu Xiang F.Ball",3,null,"JO325 Spicy Fish Cake",5,null,"JO337 C.Shrimp.F.Paste",1,null,"JH114 LLB H.GAARDEN BT",3,null,"GE01 DUNHILL",2,null,"DI11 91302:NUGGET",4,null,"JG207 Pepsi",4,null,"JN212 Wu Xiang Roll s",2,null,"JN211 Pork Meatball s",3,null,"JO337 C.Shrimp.F.Paste",3,null,"JP452 Fried A.Mushroom",8,null,"JH110 LLB SOMERSBY BTL",1,null,"ZAD07 LESS SWEET",4,null,"JQ563 Seafood Tofu",3,null,"JQ563 Seafood Tofu",1,null,"JO328 Xi Dao Fish Ball",3,null,"ZAD06 NO ICE",3,null,"JN214 Pork Dumplings",1,null,"JM107 S.Fill beef Ball",1,null,"JO339 Salmon Ball",1,null,"ZAB07 1207:SAUSAGE",1,null,"ZAC12 1312:Mc HASH/B",1,null,"ZAD16 1 ICE ONLY",5,null,"JQ557 Chrisy Beabcurd",3]
[{"$f":"IFERROR(IF(INDIRECT($A$14&ROW())<>\"\",COUNTIF([7]Summary!$B$30:$B$1105,INDIRECT($A$14&ROW())),\"\"),\"\")","v":""},"JO343 Cuttlefish Roll",3,null,"ZAA01 GUINNESS EX BKT",1,null,"JO332 Abalone Slices",3,null,"JN215 Pork Meatball B",1,null,"JG202 LLBGreen Tea (C)",2,null,"JO329 Fish Ball (S)",4,null,"JQ565 Quail Century Eg",1,null,"JO332 Abalone Slices",1,null,"JO326 Fresh Clam",2,null,"JO338 Otak Fish Paste",1,null,"JK101 LLB Thai Chk Ric",1,null,"GE02 DUNHILL LITE",1,null,"DI12 91303:CHK WING",9,null,"JG209 Ribena",1,null,"JN215 Pork Meatball B",5,null,"JN213 P. Sauage Slices",1,null,"JO338 Otak Fish Paste",1,null,"JP453 Shiitake Mushrom",3,null,"JH112 LLB S.BOW BTL",1,null,"ZAD13 ADD LEMON",12,null,"JQ565 Quail Century Eg",1,null,"JT101 Tiger BKT Pro",2,null,"JO331 Prawn Ball",1,null,"ZAD07 LESS SWEET",1,null,"JN215 Pork Meatball B",3,null,"JM110 Grill.B.Chk.Wing",5,null,"JO340 Fuzhou Fish Ball",1,null,"ZAD02 HOT",5,null,"ZAD01 COLD",2,null,"ZAD17 WITHOUT SUGAR",1,null,"JQ558 Quail Eggs",11]
[{"$f":"IFERROR(IF(INDIRECT($A$14&ROW())<>\"\",COUNTIF([7]Summary!$B$30:$B$1105,INDIRECT($A$14&ROW())),\"\"),\"\")","v":""},"JP448 Botton Mushroom",1,null,"ZAB01 1201:SFD STICK",1,null,"JO334 FISH BALL BIG",1,null,"JN218 Bacon",1,null,"JG203 LLB Chrysanthemu",4,null,"JO330 Tofu Fish Ball",1,null,"JQ567 Cheese S.Tofu",5,null,"JO334 FISH BALL BIG",1,null,"JO327 Wu Xiang F.Ball",1,null,"JO343 Cuttlefish Roll",1,null,"JK115 LLB B.Noodle.Chk",1,null,"GE04 DUNHILL MT LITE",1,null,"DI16 91307:D/F C.WING",1,null,"JG210 Mineral Water",1,null,"JN217 Taiwan Sausage",1,null,"JN215 Pork Meatball B",4,null,"JO342 Taiwan C.F. Ball",5,null,"JQ554 M.Fish Eggplant",1,null,"JH114 LLB H.GAARDEN BT",1,null,"ZAD16 EDDIE",2,null,"JQ567 Cheese S.Tofu",3,null,"JT102 Tiger 2 BTK Pro",1,null,"JO334 FISH BALL BIG",2,null,"ZAD13 ADD LEMON",1,null,"JN216 Pork Liver",1,null,"JN211 Pork Meatball s",1,null,"JO346 Shisamo",5,null,"ZAD03 WARM",15,null,"ZAD02 HOT",2,null,"ZAD19 KAU KAU",2,null,"JQ563 Seafood Tofu",2]
[{"$f":"IFERROR(IF(INDIRECT($A$14&ROW())<>\"\",COUNTIF([7]Summary!$B$30:$B$1105,INDIRECT($A$14&ROW())),\"\"),\"\")","v":""},"JP449 Kang Kong",2,null,"ZAB03 1203:GOLD MROOM",3,null,"JO336 Breaded CarbClaw",5,null,"JN220 Sauce Filll Ball",2,null,"JG204 Soya Milk",1,null,"JO336 Breaded CarbClaw",1,null,"JQ568 Rice Skin  Roll",1,null,"JO336 Breaded CarbClaw",2,null,"JO328 Xi Dao Fish Ball",10,null,"JP449 Kang Kong",1,null,"JK116 LLB Mon.Chk Rice",1,null,"JG201 LLB L. Tea (C)",5,null,"DI21 91312:Mc HASH.B",1,null,"JK004 LLB CHK MARRYLAN",1,null,"JO323 Fish Wanton",4,null,"JN217 Taiwan Sausage",4,null,"JP448 Botton Mushroom",1,null,"JQ561 F.Vege Ball",3,null,"JH116 LLB PAULANER BTL",1,null,"ZAD17 WITHOUT SUGAR",1,null,"JT102 Tiger 2 BTK Pro",5,null,"ZAB02 1202:FRIES",8,null,"JO337 C.Shrimp.F.Paste",2,null,"ZAD17 WITHOUT SUGAR",2,null,"JN217 Taiwan Sausage",3,null,"JN215 Pork Meatball B",4,null,"JP448 Botton Mushroom",1,null,"ZAD04 LESS ICE",24,null,"ZAD03 WARM",10,null,"ZAD20 JUG",6,null,"JQ565 Quail Century Eg",2]
[{"$f":"IFERROR(IF(INDIRECT($A$14&ROW())<>\"\",COUNTIF([7]Summary!$B$30:$B$1105,INDIRECT($A$14&ROW())),\"\"),\"\")","v":""},"JP450 Broccali",3,null,"ZAB04 1204:F.BALL",2,null,"JO337 C.Shrimp.F.Paste",1,null,"JO327 Wu Xiang F.Ball",1,null,"JG205 Chicau",1,null,"JO344 M.Seafood Ball",1,null,"JT101 Tiger BKT Pro",1,null,"JO344 M.Seafood Ball",2,null,"JO329 Fish Ball (S)",2,null,"JP450 Broccali",1,null,"JM105 Cheese C.Sausage",5,null,"JG202 LLBGreen Tea (C)",2,null,"GA09 LIGHTER",1,null,"JK105 B.Cream.Chk Rice",3,null,"JO324 M. Fried F. Cake",1,null,"JN218 Bacon",3,null,"JP449 Kang Kong",1,null,"JQ563 Seafood Tofu",1,null,"JK001 LLB BP CHK CHOP",1,null,"ZAD20 JUG",4,null,"ZAA01 GUINNESS EX BKT",2,null,"ZAB04 1204:F.BALL",2,null,"JO338 Otak Fish Paste",1,null,"ZAD20 JUG",7,null,"JN218 Bacon",3,null,"JN216 Pork Liver",1,null,"JP449 Kang Kong",2,null,"ZAD06 NO ICE",6,null,"ZAD04 LESS ICE",31,null,"ZAD21 TAKE AWAY",1,null,"JQ566 Thai Roll",1]
[{"$f":"IFERROR(IF(INDIRECT($A$14&ROW())<>\"\",COUNTIF([7]Summary!$B$30:$B$1105,INDIRECT($A$14&ROW())),\"\"),\"\")","v":""},"JP451 Long Bean",1,null,"ZAB06 1206:SPRING RL",2,null,"JO338 Otak Fish Paste",2,null,"JO328 Xi Dao Fish Ball",3,null,"JG206 7up Revive",1,null,"JP449 Kang Kong",3,null,"JT102 Tiger 2 BTK Pro",5,null,"JP448 Botton Mushroom",3,null,"JO330 Tofu Fish Ball",5,null,"JP452 Fried A.Mushroom",2,null,"JM106 B.P C.Sausage",2,null,"JG203 LLB Chrysanthemu",2,null,"GC01 CARD NEW",6,null,"JK106 H.K Fried Rice",1,null,"JO329 Fish Ball (S)",2,null,"JN222 Enoki Bacon Roll",3,null,"JP450 Broccali",2,null,"JQ565 Quail Century Eg",3,null,"JK102 Marmite Chk Rice",1,null,"ZAD25 + SAUCE BUTTER",1,null,"ZAA02 HEINEKEN EX BKT",6,null,"ZAB06 1206:SPRING RL",2,null,"JO340 Fuzhou Fish Ball",1,null,"ZAD36 BEER GLASS",19,null,"JN220 Sauce Filll Ball",1,null,"JN217 Taiwan Sausage",1,null,"JP450 Broccali",2,null,"ZAD07 LESS SWEET",2,null,"ZAD06 NO ICE",16,null,"ZAD36 BEER GLASS",15,null,"JQ567 Cheese S.Tofu",1]
[{"$f":"IFERROR(IF(INDIRECT($A$14&ROW())<>\"\",COUNTIF([7]Summary!$B$30:$B$1105,INDIRECT($A$14&ROW())),\"\"),\"\")","v":""},"JP452 Fried A.Mushroom",2,null,"ZAB07 1207:SAUSAGE",4,null,"JO341 Scallop Ball",1,null,"JO331 Prawn Ball",1,null,"JG208 7UP",1,null,"JP450 Broccali",1,null,"ZAB02 1202:FRIES",7,null,"JP449 Kang Kong",1,null,"JO332 Abalone Slices",1,null,"JQ554 M.Fish Eggplant",1,null,"JN211 Pork Meatball s",10,null,"JG205 Chicau",1,null,"GC02 CARD REPLACE",1,null,"JK108 LLB S.Fried MEE",null,null,"JO332 Abalone Slices",3,null,"JO324 M. Fried F. Cake",1,null,"JP452 Fried A.Mushroom",1,null,"JQ566 Thai Roll",2,null,"JK105 B.Cream.Chk Rice",1,null,"ZAD36 BEER GLASS",16,null,"ZAB02 1202:FRIES",2,null,"ZAB07 1207:SAUSAGE",2,null,"JO343 Cuttlefish Roll",1,null,"ZAD37 ICE BUCKET",5,null,"JN222 Enoki Bacon Roll",3,null,"JN218 Bacon",2,null,"JP452 Fried A.Mushroom",2,null,"ZAD13 ADD LEMON",13,null,"ZAD07 LESS SWEET",1,null,"ZAD37 ICE BUCKET",5,null,"JQ568 Rice Skin  Roll",1]
[{"$f":"IFERROR(IF(INDIRECT($A$14&ROW())<>\"\",COUNTIF([7]Summary!$B$30:$B$1105,INDIRECT($A$14&ROW())),\"\"),\"\")","v":""},"JP453 Shiitake Mushrom",1,null,"ZAC02 1302:NUGGET",2,null,"JO342 Taiwan C.F. Ball",3,null,"JO343 Cuttlefish Roll",2,null,"JG209 Ribena",1,null,"JP452 Fried A.Mushroom",2,null,"ZAB03 1203:GOLD MROOM",1,null,"JP451 Long Bean",1,null,"JO336 Breaded CarbClaw",1,null,"JQ555 M.Fish Chilli",1,null,"JN213 P. Sauage Slices",3,null,"JG207 Pepsi",1,null,"GD02 MIKE COVER 03",2,null,"JM101 C.Chicken Sausag",2,null,"JO334 FISH BALL BIG",7,null,"JO332 Abalone Slices",4,null,"JP453 Shiitake Mushrom",1,null,"JQ567 Cheese S.Tofu",2,null,"JK107 LLBSambal F.Rice",1,null,"ZAD37 ICE BUCKET",4,null,"ZAB03 1203:GOLD MROOM",1,null,"ZAC02 1302:NUGGET",1,null,"JO344 M.Seafood Ball",1,null,"ZZZZZ WRONG KEY",null,null,"JO323 Fish Wanton",2,null,"JN220 Sauce Filll Ball",1,null,"JQ557 Chrisy Beabcurd",1,null,"ZAD14 MORE SWEET",2,null,"ZAD13 ADD LEMON",4,null,"ZZZZZ CHANGE K DINNER",null,null,"JT102 Tiger 2 BTK Pro",6]
[{"$f":"IFERROR(IF(INDIRECT($A$14&ROW())<>\"\",COUNTIF([7]Summary!$B$30:$B$1105,INDIRECT($A$14&ROW())),\"\"),\"\")","v":""},"JQ557 Chrisy Beabcurd",1,null,"ZAC03 1303:CHK WING",3,null,"JO343 Cuttlefish Roll",2,null,"JP448 Botton Mushroom",1,null,"JG210 Mineral Water",5,null,"JP453 Shiitake Mushrom",2,null,"ZAB04 1204:F.BALL",1,null,"JP453 Shiitake Mushrom",2,null,"JO338 Otak Fish Paste",1,null,"JQ557 Chrisy Beabcurd",2,null,"JN214 Pork Dumplings",3,null,"JG208 7UP",2,null,"GE01 DUNHILL",1,null,"JM102 Beef Ball",1,null,"JO336 Breaded CarbClaw",3,null,"JO335 Tempura Prawn",2,null,"JQ554 M.Fish Eggplant",2,null,"JQ568 Rice Skin  Roll",1,null,"JK111 LLB S.M.Ver Rice",1,null,"ZZZZZ CHANGE MEM",null,null,"ZAB07 1207:SAUSAGE",1,null,"ZAC03 1303:CHK WING",2,null,"JP449 Kang Kong",4,null,null,null,null,"JO324 M. Fried F. Cake",1,null,"JN222 Enoki Bacon Roll",2,null,"JQ558 Quail Eggs",1,null,"ZAD16 LESS LEMON",1,null,"ZAD16 MORE LEMON",3,null,null,null,null,"ZAB01 1201:SFD STICK",1]
[{"$f":"IFERROR(IF(INDIRECT($A$14&ROW())<>\"\",COUNTIF([7]Summary!$B$30:$B$1105,INDIRECT($A$14&ROW())),\"\"),\"\")","v":""},"JQ558 Quail Eggs",5,null,"ZAC09 1309:Mc /O.RINGS",1,null,"JP449 Kang Kong",3,null,"JP450 Broccali",2,null,"JK006 LLB Spaghetti",1,null,"JQ555 M.Fish Chilli",1,null,"ZAB06 1206:SPRING RL",2,null,"JQ559 Fried Wanton",1,null,"JO339 Salmon Ball",1,null,"JQ558 Quail Eggs",2,null,"JN215 Pork Meatball B",4,null,"JG209 Ribena",2,null,"GE02 DUNHILL LITE",1,null,"JM105 Cheese C.Sausage",3,null,"JO337 C.Shrimp.F.Paste",1,null,"JO337 C.Shrimp.F.Paste",2,null,"JQ557 Chrisy Beabcurd",2,null,"JR02 PACKAGE B",2,null,"JK115 LLB B.Noodle.Chk",2,null,null,null,null,"ZAC02 1302:NUGGET",2,null,"ZAC07 1307:D/F C.WINGS",3,null,"JP450 Broccali",5,null,null,null,null,"JO329 Fish Ball (S)",1,null,"JO328 Xi Dao Fish Ball",2,null,"JR01 PACKAGE A",2,null,"ZAD20 JUG",3,null,"ZAD17 WITHOUT SUGAR",3,null,null,null,null,"ZAB02 1202:FRIES",6]
[{"$f":"IFERROR(IF(INDIRECT($A$14&ROW())<>\"\",COUNTIF([7]Summary!$B$30:$B$1105,INDIRECT($A$14&ROW())),\"\"),\"\")","v":""},"JQ561 F.Vege Ball",1,null,"ZAC10 1310:Mc SPIRAL/F",2,null,"JP450 Broccali",1,null,"JQ557 Chrisy Beabcurd",1,null,"JM101 C.Chicken Sausag",1,null,"JQ558 Quail Eggs",7,null,"ZAB07 1207:SAUSAGE",3,null,"JQ561 F.Vege Ball",2,null,"JO341 Scallop Ball",2,null,"JQ561 F.Vege Ball",1,null,"JN217 Taiwan Sausage",8,null,"JG210 Mineral Water",1,null,"JM101 C.Chicken Sausag",3,null,"JM107 S.Fill beef Ball",1,null,"JO338 Otak Fish Paste",1,null,"JO338 Otak Fish Paste",1,null,"JQ558 Quail Eggs",3,null,"JT102 Tiger 2 BTK Pro",3,null,"JM101 C.Chicken Sausag",2,null,null,null,null,"ZAC07 1307:D/F C.WINGS",2,null,"ZAD01 COLD",2,null,"JP451 Long Bean",1,null,null,null,null,"JO334 FISH BALL BIG",1,null,"JO332 Abalone Slices",1,null,"JR02 PACKAGE B",1,null,"ZAD36 BEER GLASS",33,null,"ZAD19 KAU KAU",1,null,null,null,null,"ZAB06 1206:SPRING RL",2]
[{"$f":"IFERROR(IF(INDIRECT($A$14&ROW())<>\"\",COUNTIF([7]Summary!$B$30:$B$1105,INDIRECT($A$14&ROW())),\"\"),\"\")","v":""},"JQ562 Minced Fish Ball",1,null,"ZAC11 1311:Mc H/SMILES",1,null,"JP451 Long Bean",1,null,"JQ558 Quail Eggs",5,null,"JM105 Cheese C.Sausage",3,null,"JQ563 Seafood Tofu",1,null,"ZAC02 1302:NUGGET",1,null,"JQ562 Minced Fish Ball",1,null,"JP448 Botton Mushroom",4,null,"JQ567 Cheese S.Tofu",3,null,"JN218 Bacon",2,null,"JH104 LLB HEINEKEN BTL",1,null,"JN212 Wu Xiang Roll s",2,null,"JM110 Grill.B.Chk.Wing",2,null,"JO339 Salmon Ball",1,null,"JO341 Scallop Ball",2,null,"JQ560 L.G.Potato Samos",1,null,"ZAB01 1201:SFD STICK",2,null,"JM105 Cheese C.Sausage",5,null,null,null,null,"ZAC12 1312:Mc HASH/B",2,null,"ZAD02 HOT",2,null,"JP452 Fried A.Mushroom",4,null,null,null,null,"JO337 C.Shrimp.F.Paste",2,null,"JO333 Prawn C. sausage",1,null,"JT101 Tiger BKT Pro",2,null,"ZAD37 ICE BUCKET",5,null,"ZAD20 JUG",6,null,null,null,null,"ZAB07 1207:SAUSAGE",3]
[{"$f":"IFERROR(IF(INDIRECT($A$14&ROW())<>\"\",COUNTIF([7]Summary!$B$30:$B$1105,INDIRECT($A$14&ROW())),\"\"),\"\")","v":""},"JQ565 Quail Century Eg",1,null,"ZAC12 1312:Mc HASH/B",1,null,"JP452 Fried A.Mushroom",3,null,"JQ559 Fried Wanton",2,null,"JM106 B.P C.Sausage",2,null,"JQ566 Thai Roll",1,null,"ZAC03 1303:CHK WING",2,null,"JQ563 Seafood Tofu",1,null,"JP449 Kang Kong",4,null,"JR02 PACKAGE B",1,null,"JN220 Sauce Filll Ball",4,null,"JH110 LLB SOMERSBY BTL",1,null,"JN215 Pork Meatball B",1,null,"JN211 Pork Meatball s",2,null,"JO342 Taiwan C.F. Ball",1,null,"JO342 Taiwan C.F. Ball",1,null,"JQ565 Quail Century Eg",2,null,"ZAB02 1202:FRIES",7,null,"JM106 B.P C.Sausage",1,null,null,null,null,"ZAD01 COLD",8,null,"ZAD03 WARM",13,null,"JQ557 Chrisy Beabcurd",9,null,null,null,null,"JO338 Otak Fish Paste",1,null,"JO334 FISH BALL BIG",1,null,"JT102 Tiger 2 BTK Pro",3,null,"ZZZZZ WRONG PRICING",null,null,"ZAD36 BEER GLASS",23,null,null,null,null,"ZAC02 1302:NUGGET",8]
[{"$f":"IFERROR(IF(INDIRECT($A$14&ROW())<>\"\",COUNTIF([7]Summary!$B$30:$B$1105,INDIRECT($A$14&ROW())),\"\"),\"\")","v":""},"JT101 Tiger BKT Pro",null,null,"ZAD01 COLD",3,null,"JQ556 M.Fish Lady's F",1,null,"JQ565 Quail Century Eg",2,null,"JN211 Pork Meatball s",7,null,"JQ567 Cheese S.Tofu",3,null,"ZAC07 1307:D/F C.WINGS",1,null,"JQ567 Cheese S.Tofu",3,null,"JP453 Shiitake Mushrom",1,null,"ZAA01 GUINNESS EX BKT",1,null,"JN222 Enoki Bacon Roll",6,null,"JK001 LLB BP CHK CHOP",1,null,"JN216 Pork Liver",1,null,"JN215 Pork Meatball B",4,null,"JO345 Cuttlefish",1,null,"JO343 Cuttlefish Roll",2,null,"JQ567 Cheese S.Tofu",1,null,"ZAB03 1203:GOLD MROOM",2,null,"JM107 S.Fill beef Ball",2,null,null,null,null,"ZAD02 HOT",3,null,"ZAD04 LESS ICE",26,null,"JQ558 Quail Eggs",3,null,null,null,null,"JO339 Salmon Ball",1,null,"JO337 C.Shrimp.F.Paste",2,null,"ZAA02 HEINEKEN EX BKT",3,null,null,null,null,"ZAD37 ICE BUCKET",7,null,null,null,null,"ZAC03 1303:CHK WING",1]
[{"$f":"IFERROR(IF(INDIRECT($A$14&ROW())<>\"\",COUNTIF([7]Summary!$B$30:$B$1105,INDIRECT($A$14&ROW())),\"\"),\"\")","v":""},"JT102 Tiger 2 BTK Pro",2,null,"ZAD02 HOT",1,null,"JQ557 Chrisy Beabcurd",3,null,"JQ566 Thai Roll",1,null,"JN212 Wu Xiang Roll s",1,null,"JR01 PACKAGE A",1,null,"ZAC08 1308:C/CALAMARI",1,null,"JR02 PACKAGE B",1,null,"JQ557 Chrisy Beabcurd",4,null,"ZAB01 1201:SFD STICK",2,null,"JO323 Fish Wanton",3,null,"JK106 H.K Fried Rice",1,null,"JO323 Fish Wanton",2,null,"JN217 Taiwan Sausage",2,null,"JO346 Shisamo",1,null,"JO344 M.Seafood Ball",4,null,"JQ568 Rice Skin  Roll",1,null,"ZAB06 1206:SPRING RL",4,null,"JN211 Pork Meatball s",3,null,null,null,null,"ZAD03 WARM",14,null,"ZAD06 NO ICE",5,null,"JQ559 Fried Wanton",3,null,null,null,null,"JO341 Scallop Ball",1,null,"JO339 Salmon Ball",1,null,"ZAB01 1201:SFD STICK",1,null,null,null,null,"ZZZZZ CHANGE K DINNER",null,null,null,null,null,"ZAC05 1305:THAI RL",1]
[{"$f":"IFERROR(IF(INDIRECT($A$14&ROW())<>\"\",COUNTIF([7]Summary!$B$30:$B$1105,INDIRECT($A$14&ROW())),\"\"),\"\")","v":""},"ZAB01 1201:SFD STICK",1,null,"ZAD03 WARM",9,null,"JQ558 Quail Eggs",8,null,"JQ567 Cheese S.Tofu",2,null,"JN213 P. Sauage Slices",4,null,"JR02 PACKAGE B",1,null,"ZAC09 1309:Mc /O.RINGS",1,null,"ZAB02 1202:FRIES",7,null,"JQ558 Quail Eggs",2,null,"ZAB02 1202:FRIES",7,null,"JO326 Fresh Clam",2,null,"JM102 Beef Ball",2,null,"JO325 Spicy Fish Cake",1,null,"JN218 Bacon",2,null,"JP448 Botton Mushroom",4,null,"JP449 Kang Kong",9,null,"JT101 Tiger BKT Pro",1,null,"ZAB07 1207:SAUSAGE",3,null,"JN212 Wu Xiang Roll s",1,null,null,null,null,"ZAD04 LESS ICE",18,null,"ZAD07 LESS SWEET",6,null,"JQ561 F.Vege Ball",4,null,null,null,null,"JO342 Taiwan C.F. Ball",1,null,"JO342 Taiwan C.F. Ball",2,null,"ZAB02 1202:FRIES",4,null,null,null,null,null,null,null,null,null,null,"ZAC07 1307:D/F C.WINGS",2]
[{"$f":"IFERROR(IF(INDIRECT($A$14&ROW())<>\"\",COUNTIF([7]Summary!$B$30:$B$1105,INDIRECT($A$14&ROW())),\"\"),\"\")","v":""},"ZAB03 1203:GOLD MROOM",1,null,"ZAD04 LESS ICE",28,null,"JQ559 Fried Wanton",2,null,"JT101 Tiger BKT Pro",2,null,"JN215 Pork Meatball B",4,null,"JT101 Tiger BKT Pro",3,null,"ZAC10 1310:Mc SPIRAL/F",2,null,"ZAB03 1203:GOLD MROOM",1,null,"JQ563 Seafood Tofu",1,null,"ZAB04 1204:F.BALL",1,null,"JO327 Wu Xiang F.Ball",2,null,"JN211 Pork Meatball s",5,null,"JO334 FISH BALL BIG",1,null,"JN220 Sauce Filll Ball",1,null,"JP449 Kang Kong",1,null,"JP450 Broccali",2,null,"JT102 Tiger 2 BTK Pro",7,null,"ZAC02 1302:NUGGET",4,null,"JN213 P. Sauage Slices",2,null,null,null,null,"ZAD06 NO ICE",7,null,"ZAD13 ADD LEMON",8,null,"JQ563 Seafood Tofu",5,null,null,null,null,"JO343 Cuttlefish Roll",2,null,"JQ557 Chrisy Beabcurd",3,null,"ZAB03 1203:GOLD MROOM",3,null,null,null,null,null,null,null,null,null,null,"ZAD01 COLD",3]
[{"$f":"IFERROR(IF(INDIRECT($A$14&ROW())<>\"\",COUNTIF([7]Summary!$B$30:$B$1105,INDIRECT($A$14&ROW())),\"\"),\"\")","v":""},"ZAB04 1204:F.BALL",1,null,"ZAD06 NO ICE",7,null,"JQ563 Seafood Tofu",3,null,"JT102 Tiger 2 BTK Pro",6,null,"JN217 Taiwan Sausage",3,null,"JT102 Tiger 2 BTK Pro",2,null,"ZAD01 COLD",1,null,"ZAB06 1206:SPRING RL",1,null,"JQ565 Quail Century Eg",1,null,"ZAB07 1207:SAUSAGE",4,null,"JO328 Xi Dao Fish Ball",1,null,"JN213 P. Sauage Slices",1,null,"JO337 C.Shrimp.F.Paste",1,null,"JN222 Enoki Bacon Roll",1,null,"JQ557 Chrisy Beabcurd",7,null,"JQ554 M.Fish Eggplant",1,null,"ZAB02 1202:FRIES",5,null,"ZAC07 1307:D/F C.WINGS",3,null,"JN214 Pork Dumplings",1,null,null,null,null,"ZAD07 LESS SWEET",8,null,"ZAD14 MORE SWEET",1,null,"JQ565 Quail Century Eg",4,null,null,null,null,"JO344 M.Seafood Ball",1,null,"JQ563 Seafood Tofu",2,null,"ZAB06 1206:SPRING RL",2,null,null,null,null,null,null,null,null,null,null,"ZAD02 HOT",3]
[{"$f":"IFERROR(IF(INDIRECT($A$14&ROW())<>\"\",COUNTIF([7]Summary!$B$30:$B$1105,INDIRECT($A$14&ROW())),\"\"),\"\")","v":""},"ZAB06 1206:SPRING RL",2,null,"ZAD07 LESS SWEET",6,null,"JQ565 Quail Century Eg",2,null,"ZAA01 GUINNESS EX BKT",1,null,"JN218 Bacon",2,null,"ZAB01 1201:SFD STICK",1,null,"ZAD02 HOT",2,null,"ZAB07 1207:SAUSAGE",3,null,"JQ567 Cheese S.Tofu",1,null,"ZAC02 1302:NUGGET",2,null,"JO330 Tofu Fish Ball",5,null,"JN215 Pork Meatball B",2,null,"JO342 Taiwan C.F. Ball",2,null,"JO325 Spicy Fish Cake",2,null,"JQ558 Quail Eggs",4,null,"JQ555 M.Fish Chilli",1,null,"ZAB07 1207:SAUSAGE",1,null,"ZAC12 1312:Mc HASH/B",1,null,"JN215 Pork Meatball B",3,null,null,null,null,"ZAD13 ADD LEMON",3,null,"ZAD16 NO MEAT",2,null,"JQ566 Thai Roll",1,null,null,null,null,"JO346 Shisamo",1,null,"JQ565 Quail Century Eg",3,null,"ZAB07 1207:SAUSAGE",2,null,null,null,null,null,null,null,null,null,null,"ZAD03 WARM",13]
[{"$f":"IFERROR(IF(INDIRECT($A$14&ROW())<>\"\",COUNTIF([7]Summary!$B$30:$B$1105,INDIRECT($A$14&ROW())),\"\"),\"\")","v":""},"ZAB07 1207:SAUSAGE",3,null,"ZAD13 ADD LEMON",13,null,"JQ566 Thai Roll",1,null,"ZAA02 HEINEKEN EX BKT",5,null,"JN220 Sauce Filll Ball",2,null,"ZAB02 1202:FRIES",6,null,"ZAD03 WARM",16,null,"ZAC02 1302:NUGGET",2,null,"JR02 PACKAGE B",1,null,"ZAC03 1303:CHK WING",1,null,"JO332 Abalone Slices",1,null,"JN217 Taiwan Sausage",6,null,"JO344 M.Seafood Ball",2,null,"JO329 Fish Ball (S)",2,null,"JQ561 F.Vege Ball",2,null,"JQ556 M.Fish Lady's F",2,null,"ZAC03 1303:CHK WING",1,null,"ZAD01 COLD",6,null,"JN216 Pork Liver",2,null,null,null,null,"ZAD14 MORE SWEET",1,null,"ZAD17 WITHOUT SUGAR",4,null,"JQ567 Cheese S.Tofu",7,null,null,null,null,"JP449 Kang Kong",5,null,"JQ567 Cheese S.Tofu",4,null,"ZAC03 1303:CHK WING",3,null,null,null,null,null,null,null,null,null,null,"ZAD04 LESS ICE",36]
[{"$f":"IFERROR(IF(INDIRECT($A$14&ROW())<>\"\",COUNTIF([7]Summary!$B$30:$B$1105,INDIRECT($A$14&ROW())),\"\"),\"\")","v":""},"ZAC02 1302:NUGGET",3,null,"ZAD16 KIWI",5,null,"JQ567 Cheese S.Tofu",1,null,"ZAB02 1202:FRIES",6,null,"JN222 Enoki Bacon Roll",1,null,"ZAB03 1203:GOLD MROOM",3,null,"ZAD04 LESS ICE",27,null,"ZAC03 1303:CHK WING",1,null,"JT101 Tiger BKT Pro",3,null,"ZAC09 1309:Mc /O.RINGS",1,null,"JO335 Tempura Prawn",1,null,"JN218 Bacon",4,null,"JQ567 Cheese S.Tofu",2,null,"JO330 Tofu Fish Ball",1,null,"JQ562 Minced Fish Ball",1,null,"JQ557 Chrisy Beabcurd",5,null,"ZAC05 1305:THAI RL",1,null,"ZAD02 HOT",2,null,"JN217 Taiwan Sausage",5,null,null,null,null,"ZAD16 LESS HNY",1,null,"ZAD20 JUG",3,null,"JQ568 Rice Skin  Roll",1,null,null,null,null,"JP450 Broccali",5,null,"JR02 PACKAGE B",1,null,"ZAC04 1304:IKAN BILIS",1,null,null,null,null,null,null,null,null,null,null,"ZAD06 NO ICE",4]
[{"$f":"IFERROR(IF(INDIRECT($A$14&ROW())<>\"\",COUNTIF([7]Summary!$B$30:$B$1105,INDIRECT($A$14&ROW())),\"\"),\"\")","v":""},"ZAC03 1303:CHK WING",1,null,"ZAD17 WITHOUT SUGAR",4,null,"JQ568 Rice Skin  Roll",2,null,"ZAB03 1203:GOLD MROOM",1,null,"JO324 M. Fried F. Cake",2,null,"ZAB06 1206:SPRING RL",1,null,"ZAD06 NO ICE",3,null,"ZAC07 1307:D/F C.WINGS",3,null,"JT102 Tiger 2 BTK Pro",1,null,"ZAD01 COLD",5,null,"JO344 M.Seafood Ball",2,null,"JN220 Sauce Filll Ball",5,null,"JT102 Tiger 2 BTK Pro",1,null,"JO335 Tempura Prawn",1,null,"JQ563 Seafood Tofu",7,null,"JQ558 Quail Eggs",2,null,"ZAD01 COLD",2,null,"ZAD03 WARM",20,null,"JN220 Sauce Filll Ball",null,null,null,null,null,"ZAD17 WITHOUT SUGAR",4,null,"ZAD26 + CILLI PADI",1,null,"JT101 Tiger BKT Pro",1,null,null,null,null,"JP451 Long Bean",2,null,"JT101 Tiger BKT Pro",3,null,"ZAC07 1307:D/F C.WINGS",2,null,null,null,null,null,null,null,null,null,null,"ZAD07 LESS SWEET",4]
[{"$f":"IFERROR(IF(INDIRECT($A$14&ROW())<>\"\",COUNTIF([7]Summary!$B$30:$B$1105,INDIRECT($A$14&ROW())),\"\"),\"\")","v":""},"ZAC07 1307:D/F C.WINGS",2,null,"ZAD19 KAU KAU",1,null,"JT102 Tiger 2 BTK Pro",1,null,"ZAB04 1204:F.BALL",3,null,"JO325 Spicy Fish Cake",1,null,"ZAB07 1207:SAUSAGE",1,null,"ZAD07 LESS SWEET",4,null,"ZAC10 1310:Mc SPIRAL/F",1,null,"ZAB07 1207:SAUSAGE",2,null,"ZAD02 HOT",7,null,"JO346 Shisamo",2,null,"JN222 Enoki Bacon Roll",3,null,"ZAB02 1202:FRIES",8,null,"JO336 Breaded CarbClaw",1,null,"JQ565 Quail Century Eg",4,null,"JQ559 Fried Wanton",1,null,"ZAD02 HOT",2,null,"ZAD04 LESS ICE",59,null,"JN221 Roasted Pork",1,null,null,null,null,"ZAD20 JUG",2,null,"ZAD36 BEER GLASS",13,null,"ZAA02 HEINEKEN EX BKT",6,null,null,null,null,"JP452 Fried A.Mushroom",2,null,"JT102 Tiger 2 BTK Pro",3,null,"ZAD01 COLD",1,null,null,null,null,null,null,null,null,null,null,"ZAD13 ADD LEMON",3]
[{"$f":"IFERROR(IF(INDIRECT($A$14&ROW())<>\"\",COUNTIF([7]Summary!$B$30:$B$1105,INDIRECT($A$14&ROW())),\"\"),\"\")","v":""},"ZAC09 1309:Mc /O.RINGS",1,null,"ZAD20 JUG",6,null,"ZAB02 1202:FRIES",1,null,"ZAB06 1206:SPRING RL",2,null,"JO326 Fresh Clam",1,null,"ZAC02 1302:NUGGET",2,null,"ZAD13 ADD LEMON",7,null,"ZAC12 1312:Mc HASH/B",1,null,"ZAC02 1302:NUGGET",1,null,"ZAD03 WARM",20,null,"JP448 Botton Mushroom",2,null,"JO323 Fish Wanton",1,null,"ZAB03 1203:GOLD MROOM",2,null,"JO337 C.Shrimp.F.Paste",1,null,"JQ566 Thai Roll",2,null,"JQ560 L.G.Potato Samos",1,null,"ZAD03 WARM",14,null,"ZAD06 NO ICE",22,null,"JN222 Enoki Bacon Roll",1,null,null,null,null,"ZAD30 + SAUCE MR",1,null,"ZAD37 ICE BUCKET",4,null,"ZAB01 1201:SFD STICK",1,null,null,null,null,"JP453 Shiitake Mushrom",2,null,"ZAA01 GUINNESS EX BKT",null,null,"ZAD02 HOT",6,null,null,null,null,null,null,null,null,null,null,"ZAD16 NO SAUSAGE",4]
[{"$f":"IFERROR(IF(INDIRECT($A$14&ROW())<>\"\",COUNTIF([7]Summary!$B$30:$B$1105,INDIRECT($A$14&ROW())),\"\"),\"\")","v":""},"ZAC10 1310:Mc SPIRAL/F",1,null,"ZAD24 + SAUCE BP",1,null,"ZAB03 1203:GOLD MROOM",2,null,"ZAB07 1207:SAUSAGE",2,null,"JO327 Wu Xiang F.Ball",1,null,"ZAC04 1304:IKAN BILIS",2,null,"ZAD16 LESS LEMON",1,null,"ZAD01 COLD",1,null,"ZAC08 1308:C/CALAMARI",1,null,"ZAD04 LESS ICE",30,null,"JP449 Kang Kong",2,null,"JO325 Spicy Fish Cake",1,null,"ZAB04 1204:F.BALL",1,null,"JO341 Scallop Ball",2,null,"JQ567 Cheese S.Tofu",2,null,"JQ563 Seafood Tofu",1,null,"ZAD04 LESS ICE",9,null,"ZAD07 LESS SWEET",13,null,"JO324 M. Fried F. Cake",1,null,null,null,null,"ZAD36 BEER GLASS",13,null,"ZAE02 HEI MEM EX BKT",3,null,"ZAB02 1202:FRIES",3,null,null,null,null,"JQ557 Chrisy Beabcurd",1,null,"ZAA02 HEINEKEN EX BKT",3,null,"ZAD03 WARM",13,null,null,null,null,null,null,null,null,null,null,"ZAD17 WITHOUT SUGAR",1]
[{"$f":"IFERROR(IF(INDIRECT($A$14&ROW())<>\"\",COUNTIF([7]Summary!$B$30:$B$1105,INDIRECT($A$14&ROW())),\"\"),\"\")","v":""},"ZAD01 COLD",11,null,"ZAD36 BEER GLASS",11,null,"ZAB04 1204:F.BALL",1,null,"ZAC02 1302:NUGGET",3,null,"JO328 Xi Dao Fish Ball",4,null,"ZAC08 1308:C/CALAMARI",1,null,"ZAD17 WITHOUT SUGAR",2,null,"ZAD02 HOT",3,null,"ZAC10 1310:Mc SPIRAL/F",1,null,"ZAD06 NO ICE",19,null,"JP450 Broccali",1,null,"JO329 Fish Ball (S)",3,null,"ZAB07 1207:SAUSAGE",3,null,"JO343 Cuttlefish Roll",1,null,"JQ568 Rice Skin  Roll",1,null,"JQ567 Cheese S.Tofu",3,null,"ZAD06 NO ICE",12,null,"ZAD12 NO VEGGIE",1,null,"JO332 Abalone Slices",2,null,null,null,null,"ZAD37 ICE BUCKET",5,null,"ZZZZZ 30PER DISCOUNT",null,null,"ZAB03 1203:GOLD MROOM",1,null,null,null,null,"JQ558 Quail Eggs",2,null,"ZAB02 1202:FRIES",6,null,"ZAD04 LESS ICE",44,null,null,null,null,null,null,null,null,null,null,"ZAD19 KAU KAU",3]
[{"$f":"IFERROR(IF(INDIRECT($A$14&ROW())<>\"\",COUNTIF([7]Summary!$B$30:$B$1105,INDIRECT($A$14&ROW())),\"\"),\"\")","v":""},"ZAD02 HOT",6,null,"ZAD37 ICE BUCKET",3,null,"ZAB07 1207:SAUSAGE",2,null,"ZAC07 1307:D/F C.WINGS",2,null,"JO329 Fish Ball (S)",1,null,"ZAC10 1310:Mc SPIRAL/F",3,null,"ZAD20 JUG",5,null,"ZAD03 WARM",13,null,"ZAC12 1312:Mc HASH/B",1,null,"ZAD07 LESS SWEET",6,null,"JQ554 M.Fish Eggplant",1,null,"JO330 Tofu Fish Ball",1,null,"ZAC02 1302:NUGGET",1,null,"JO346 Shisamo",2,null,"JT101 Tiger BKT Pro",1,null,"JQ568 Rice Skin  Roll",2,null,"ZAD13 ADD LEMON",9,null,"ZAD13 ADD LEMON",4,null,"JO336 Breaded CarbClaw",1,null,"ZAD37 ICE BUCKET",12,null,"ZZZZZ VOUCHER EXPIRED",null,null,null,null,null,"ZAB04 1204:F.BALL",1,null,null,null,null,"JQ561 F.Vege Ball",1,null,"ZAB03 1203:GOLD MROOM",2,null,"ZAD06 NO ICE",13,null,null,null,null,null,null,null,null,null,null,"ZAD20 JUG",5]
[{"$f":"IFERROR(IF(INDIRECT($A$14&ROW())<>\"\",COUNTIF([7]Summary!$B$30:$B$1105,INDIRECT($A$14&ROW())),\"\"),\"\")","v":""},"ZAD03 WARM",13,null,"ZZZZZ WRONG KEY",null,null,"ZAC08 1308:C/CALAMARI",1,null,"ZAC08 1308:C/CALAMARI",2,null,"JO330 Tofu Fish Ball",2,null,"ZAC12 1312:Mc HASH/B",2,null,"ZAD25 + SAUCE BUTTER",1,null,"ZAD04 LESS ICE",16,null,"ZAD01 COLD",4,null,"ZAD16 LESS LEMON",1,null,"JQ555 M.Fish Chilli",1,null,"JO334 FISH BALL BIG",1,null,"ZAC03 1303:CHK WING",6,null,"JP449 Kang Kong",1,null,"JT102 Tiger 2 BTK Pro",1,null,"JR01 PACKAGE A",1,null,"ZAD16 ADD SALT",2,null,"ZAD14 MORE SWEET",1,null,"JO339 Salmon Ball",1,null,"ZZZZZ APPLY MEM",null,null,"ZAD36 BEER GLASS",26,null,null,null,null,"ZAB07 1207:SAUSAGE",2,null,null,null,null,"JQ567 Cheese S.Tofu",2,null,"ZAB07 1207:SAUSAGE",2,null,"ZAD07 LESS SWEET",5,null,null,null,null,null,null,null,null,null,null,"ZAD36 BEER GLASS",24]
[{"$f":"IFERROR(IF(INDIRECT($A$14&ROW())<>\"\",COUNTIF([7]Summary!$B$30:$B$1105,INDIRECT($A$14&ROW())),\"\"),\"\")","v":""},"ZAD04 LESS ICE",34,null,null,null,null,"ZAC10 1310:Mc SPIRAL/F",1,null,"ZAC09 1309:Mc /O.RINGS",2,null,"JO331 Prawn Ball",1,null,"ZAD01 COLD",2,null,"ZAD30 + SAUCE MR",1,null,"ZAD06 NO ICE",8,null,"ZAD02 HOT",4,null,"ZAD17 WITHOUT SUGAR",5,null,"JQ556 M.Fish Lady's F",1,null,"JO336 Breaded CarbClaw",1,null,"ZAC05 1305:THAI RL",1,null,"JP453 Shiitake Mushrom",2,null,"ZAB02 1202:FRIES",3,null,"JR02 PACKAGE B",1,null,"ZAD17 WITHOUT SUGAR",3,null,"ZAD16 1 GLASS ICE",1,null,"JO343 Cuttlefish Roll",1,null,null,null,null,"ZAD37 ICE BUCKET",8,null,null,null,null,"ZAD01 COLD",1,null,null,null,null,"JQ568 Rice Skin  Roll",1,null,"ZAC02 1302:NUGGET",2,null,"ZAD13 ADD LEMON",3,null,null,null,null,null,null,null,null,null,null,"ZAD37 ICE BUCKET",5]
[{"$f":"IFERROR(IF(INDIRECT($A$14&ROW())<>\"\",COUNTIF([7]Summary!$B$30:$B$1105,INDIRECT($A$14&ROW())),\"\"),\"\")","v":""},"ZAD05 MORE ICE",1,null,null,null,null,"ZAD01 COLD",5,null,"ZAC10 1310:Mc SPIRAL/F",1,null,"JO334 FISH BALL BIG",2,null,"ZAD02 HOT",4,null,"ZAD36 BEER GLASS",22,null,"ZAD07 LESS SWEET",7,null,"ZAD03 WARM",9,null,"ZAD20 JUG",6,null,"JQ557 Chrisy Beabcurd",7,null,"JO337 C.Shrimp.F.Paste",1,null,"ZAC07 1307:D/F C.WINGS",2,null,"JQ557 Chrisy Beabcurd",2,null,"ZAB04 1204:F.BALL",2,null,"JT101 Tiger BKT Pro",3,null,"ZAD20 JUG",5,null,"ZAD17 WITHOUT SUGAR",8,null,"JO344 M.Seafood Ball",2,null,null,null,null,"ZZZZZ SOLD OUT",null,null,null,null,null,"ZAD02 HOT",1,null,null,null,null,"JR01 PACKAGE A",1,null,"ZAD01 COLD",1,null,"ZAD16 ADD MORE LEMON",4,null,null,null,null,null,null,null,null,null,null,"ZZZZZ FOOD SPOIL"]
[{"$f":"IFERROR(IF(INDIRECT($A$14&ROW())<>\"\",COUNTIF([7]Summary!$B$30:$B$1105,INDIRECT($A$14&ROW())),\"\"),\"\")","v":""},"ZAD06 NO ICE",10,null,null,null,null,"ZAD02 HOT",8,null,"ZAC12 1312:Mc HASH/B",2,null,"JO336 Breaded CarbClaw",4,null,"ZAD03 WARM",14,null,"ZAD37 ICE BUCKET",6,null,"ZAD13 ADD LEMON",11,null,"ZAD04 LESS ICE",35,null,"ZAD36 BEER GLASS",14,null,"JQ558 Quail Eggs",7,null,"JO338 Otak Fish Paste",1,null,"ZAC11 1311:Mc H/SMILES",1,null,"JQ558 Quail Eggs",4,null,"ZAB06 1206:SPRING RL",2,null,"JT102 Tiger 2 BTK Pro",1,null,"ZAD36 BEER GLASS",25,null,"ZAD19 KAU KAU",1,null,"JO345 Cuttlefish",2,null,null,null,null,null,null,null,null,null,null,"ZAD03 WARM",16,null,null,null,null,"JT101 Tiger BKT Pro",1,null,"ZAD02 HOT",3,null,"ZAD17 WITHOUT SUGAR",1]
[{"$f":"IFERROR(IF(INDIRECT($A$14&ROW())<>\"\",COUNTIF([7]Summary!$B$30:$B$1105,INDIRECT($A$14&ROW())),\"\"),\"\")","v":""},"ZAD07 LESS SWEET",6,null,null,null,null,"ZAD03 WARM",14,null,"ZAD01 COLD",9,null,"JO337 C.Shrimp.F.Paste",2,null,"ZAD04 LESS ICE",46,null,"ZZZZZ CHANGE TO FOC",null,null,"ZAD16 VEGETABLES ONLY",1,null,"ZAD06 NO ICE",9,null,"ZAD37 ICE BUCKET",5,null,"JQ561 F.Vege Ball",1,null,"JO339 Salmon Ball",1,null,"ZAC12 1312:Mc HASH/B",1,null,"JQ559 Fried Wanton",3,null,"ZAB07 1207:SAUSAGE",1,null,"ZAB01 1201:SFD STICK",1,null,"ZAD37 ICE BUCKET",9,null,"ZAD20 JUG",11,null,"JP448 Botton Mushroom",3,null,null,null,null,null,null,null,null,null,null,"ZAD04 LESS ICE",26,null,null,null,null,"JT102 Tiger 2 BTK Pro",8,null,"ZAD03 WARM",17,null,"ZAD19 KAU KAU",3]
[{"$f":"IFERROR(IF(INDIRECT($A$14&ROW())<>\"\",COUNTIF([7]Summary!$B$30:$B$1105,INDIRECT($A$14&ROW())),\"\"),\"\")","v":""},"ZAD13 ADD LEMON",8,null,null,null,null,"ZAD04 LESS ICE",23,null,"ZAD02 HOT",3,null,"JO338 Otak Fish Paste",2,null,"ZAD06 NO ICE",13,null,null,null,null,"ZAD17 WITHOUT SUGAR",2,null,"ZAD07 LESS SWEET",6,null,"ZZZZZ CHANGE REGULAR",null,null,"JQ565 Quail Century Eg",2,null,"JO344 M.Seafood Ball",1,null,"ZAD01 COLD",3,null,"JQ560 L.G.Potato Samos",1,null,"ZAC02 1302:NUGGET",2,null,"ZAB02 1202:FRIES",7,null,"ZZZZZ CHANGE K DINNER",null,null,"ZAD36 BEER GLASS",24,null,"JP449 Kang Kong",2,null,null,null,null,null,null,null,null,null,null,"ZAD06 NO ICE",14,null,null,null,null,"ZAA02 HEINEKEN EX BKT",3,null,"ZAD04 LESS ICE",64,null,"ZAD20 JUG",3]
[{"$f":"IFERROR(IF(INDIRECT($A$14&ROW())<>\"\",COUNTIF([7]Summary!$B$30:$B$1105,INDIRECT($A$14&ROW())),\"\"),\"\")","v":""},"ZAD16 ICE ONLY",5,null,null,null,null,"ZAD06 NO ICE",7,null,"ZAD03 WARM",27,null,"JO339 Salmon Ball",1,null,"ZAD07 LESS SWEET",1,null,null,null,null,"ZAD20 JUG",7,null,"ZAD13 ADD LEMON",12,null,null,null,null,"JT101 Tiger BKT Pro",3,null,"JP448 Botton Mushroom",2,null,"ZAD02 HOT",6,null,"JQ561 F.Vege Ball",1,null,"ZAC03 1303:CHK WING",2,null,"ZAB06 1206:SPRING RL",4,null,null,null,null,"ZAD37 ICE BUCKET",5,null,"JP452 Fried A.Mushroom",2,null,null,null,null,null,null,null,null,null,null,"ZAD07 LESS SWEET",2,null,null,null,null,"ZAD01 COLD",5,null,"ZAD06 NO ICE",7,null,"ZAD23 + SOUCE BOLO",2]
[{"$f":"IFERROR(IF(INDIRECT($A$14&ROW())<>\"\",COUNTIF([7]Summary!$B$30:$B$1105,INDIRECT($A$14&ROW())),\"\"),\"\")","v":""},"ZAD17 WITHOUT SUGAR",6,null,null,null,null,"ZAD07 LESS SWEET",6,null,"ZAD04 LESS ICE",25,null,"JO342 Taiwan C.F. Ball",3,null,"ZAD13 ADD LEMON",13,null,null,null,null,"ZAD36 BEER GLASS",12,null,"ZAD16 LESS HONEY",3,null,null,null,null,"JT102 Tiger 2 BTK Pro",3,null,"JP450 Broccali",1,null,"ZAD03 WARM",23,null,"JQ563 Seafood Tofu",2,null,"ZAC05 1305:THAI RL",1,null,"ZAB07 1207:SAUSAGE",2,null,null,null,null,null,null,null,"JQ557 Chrisy Beabcurd",2,null,null,null,null,null,null,null,null,null,null,"ZAD13 ADD LEMON",4,null,null,null,null,"ZAD02 HOT",1,null,"ZAD07 LESS SWEET",2,null,"ZAD36 BEER GLASS",28]
[{"$f":"IFERROR(IF(INDIRECT($A$14&ROW())<>\"\",COUNTIF([7]Summary!$B$30:$B$1105,INDIRECT($A$14&ROW())),\"\"),\"\")","v":""},"ZAD20 JUG",7,null,null,null,null,"ZAD13 ADD LEMON",11,null,"ZAD06 NO ICE",13,null,"JO343 Cuttlefish Roll",1,null,"ZAD16 LESS LEMON",2,null,null,null,null,"ZAD37 ICE BUCKET",4,null,"ZAD17 WITHOUT SUGAR",4,null,null,null,null,"ZAA02 HEINEKEN EX BKT",6,null,"JP452 Fried A.Mushroom",5,null,"ZAD04 LESS ICE",36,null,"JQ565 Quail Century Eg",1,null,"ZAC07 1307:D/F C.WINGS",1,null,"ZAC03 1303:CHK WING",1,null,null,null,null,null,null,null,"JQ558 Quail Eggs",2,null,null,null,null,null,null,null,null,null,null,"ZAD16 3 ICE",2,null,null,null,null,"ZAD03 WARM",33,null,"ZAD13 ADD LEMON",4,null,"ZAD37 ICE BUCKET",11]
[{"$f":"IFERROR(IF(INDIRECT($A$14&ROW())<>\"\",COUNTIF([7]Summary!$B$30:$B$1105,INDIRECT($A$14&ROW())),\"\"),\"\")","v":""},"ZAD36 BEER GLASS",9,null,null,null,null,"ZAD16 EXTRA HONEY",3,null,"ZAD07 LESS SWEET",1,null,"JO344 M.Seafood Ball",2,null,"ZAD17 WITHOUT SUGAR",3,null,null,null,null,"ZAE02 HEI MEM EX BKT",3,null,"ZAD19 KAU KAU",1,null,null,null,null,"ZAB02 1202:FRIES",1,null,"JP453 Shiitake Mushrom",2,null,"ZAD06 NO ICE",13,null,"JQ567 Cheese S.Tofu",3,null,"ZAC11 1311:Mc H/SMILES",1,null,"ZAC05 1305:THAI RL",1,null,null,null,null,null,null,null,"JQ563 Seafood Tofu",2,null,null,null,null,null,null,null,null,null,null,"ZAD17 WITHOUT SUGAR",2,null,null,null,null,"ZAD04 LESS ICE",45,null,"ZAD16 TAKE AWAY",6,null,"ZZZZZ RECEPT DOUBLE KE"]
[{"$f":"IFERROR(IF(INDIRECT($A$14&ROW())<>\"\",COUNTIF([7]Summary!$B$30:$B$1105,INDIRECT($A$14&ROW())),\"\"),\"\")","v":""},"ZAD37 ICE BUCKET",3,null,null,null,null,"ZAD17 WITHOUT SUGAR",4,null,"ZAD13 ADD LEMON",6,null,"JO347 Tiger Prawn",1,null,"ZAD19 KAU KAU",5,null,null,null,null,"ZZZZZ CUS CANCEL",null,null,"ZAD20 JUG",5,null,null,null,null,"ZAB03 1203:GOLD MROOM",1,null,"JQ556 M.Fish Lady's F",1,null,"ZAD07 LESS SWEET",6,null,"JR01 PACKAGE A",1,null,"ZAC12 1312:Mc HASH/B",3,null,"ZAC09 1309:Mc /O.RINGS",1,null,null,null,null,null,null,null,"JQ565 Quail Century Eg",6,null,null,null,null,null,null,null,null,null,null,"ZAD20 JUG",11,null,null,null,null,"ZAD06 NO ICE",17,null,"ZAD17 WITHOUT SUGAR",5]
[{"$f":"IFERROR(IF(INDIRECT($A$14&ROW())<>\"\",COUNTIF([7]Summary!$B$30:$B$1105,INDIRECT($A$14&ROW())),\"\"),\"\")","v":""},"ZAE02 HEI MEM EX BKT",3,null,null,null,null,"ZAD20 JUG",12,null,"ZAD16 VEGGIE ONLY",2,null,"JP448 Botton Mushroom",3,null,"ZAD20 JUG",7,null,null,null,null,null,null,null,"ZAD21 TAKE AWAY",1,null,null,null,null,"ZAB04 1204:F.BALL",1,null,"JQ557 Chrisy Beabcurd",4,null,"ZAD13 ADD LEMON",11,null,"JR02 PACKAGE B",1,null,"ZAD01 COLD",6,null,"ZAC12 1312:Mc HASH/B",1,null,null,null,null,null,null,null,"JQ567 Cheese S.Tofu",2,null,null,null,null,null,null,null,null,null,null,"ZAD36 BEER GLASS",25,null,null,null,null,"ZAD07 LESS SWEET",6,null,"ZAD20 JUG",10]
[{"$f":"IFERROR(IF(INDIRECT($A$14&ROW())<>\"\",COUNTIF([7]Summary!$B$30:$B$1105,INDIRECT($A$14&ROW())),\"\"),\"\")","v":""},"ZZZZZ CUS CANCEL",null,null,null,null,null,"ZAD36 BEER GLASS",22,null,"ZAD17 WITHOUT SUGAR",10,null,"JP449 Kang Kong",3,null,"ZAD36 BEER GLASS",24,null,null,null,null,null,null,null,"ZAD36 BEER GLASS",36,null,null,null,null,"ZAB06 1206:SPRING RL",1,null,"JQ558 Quail Eggs",1,null,"ZAD16 LESS SAUCE",2,null,"JT101 Tiger BKT Pro",1,null,"ZAD02 HOT",5,null,"ZAD01 COLD",3,null,null,null,null,null,null,null,"JR02 PACKAGE B",2,null,null,null,null,null,null,null,null,null,null,"ZAD37 ICE BUCKET",6,null,null,null,null,"ZAD08 LESS OILY",1,null,"ZAD21 TAKE AWAY",2]
[{"$f":"IFERROR(IF(INDIRECT($A$14&ROW())<>\"\",COUNTIF([7]Summary!$B$30:$B$1105,INDIRECT($A$14&ROW())),\"\"),\"\")","v":""},null,null,null,null,null,null,"ZAD37 ICE BUCKET",4,null,"ZAD20 JUG",8,null,"JP450 Broccali",1,null,"ZAD37 ICE BUCKET",10,null,null,null,null,null,null,null,"ZAD37 ICE BUCKET",10,null,null,null,null,"ZAC02 1302:NUGGET",2,null,"JQ563 Seafood Tofu",4,null,"ZAD17 WITHOUT SUGAR",2,null,"JT102 Tiger 2 BTK Pro",7,null,"ZAD03 WARM",29,null,"ZAD02 HOT",5,null,null,null,null,null,null,null,"JT101 Tiger BKT Pro",4,null,null,null,null,null,null,null,null,null,null,"ZZZZZ WRONG KEY",null,null,null,null,null,"ZAD13 ADD LEMON",7,null,"ZAD24 + SAUCE BP",1]
[{"$f":"IFERROR(IF(INDIRECT($A$14&ROW())<>\"\",COUNTIF([7]Summary!$B$30:$B$1105,INDIRECT($A$14&ROW())),\"\"),\"\")","v":""},null,null,null,null,null,null,"ZZZZZ WRONG COUNT",null,null,"ZAD21 TAKE AWAY",1,null,"JP451 Long Bean",1,null,"ZZZZZ CUS CANCEL",null,null,null,null,null,null,null,null,"ZZZZZ WRONG KEY",null,null,null,null,null,"ZAC07 1307:D/F C.WINGS",1,null,"JQ567 Cheese S.Tofu",1,null,"ZAD20 JUG",5,null,"ZAA01 GUINNESS EX BKT",3,null,"ZAD04 LESS ICE",74,null,"ZAD03 WARM",8,null,null,null,null,null,null,null,"JT102 Tiger 2 BTK Pro",1,null,null,null,null,null,null,null,null,null,null,null,null,null,null,null,null,"ZAD16 3 BIJI ICE",7,null,"ZAD36 BEER GLASS",21]
[{"$f":"IFERROR(IF(INDIRECT($A$14&ROW())<>\"\",COUNTIF([7]Summary!$B$30:$B$1105,INDIRECT($A$14&ROW())),\"\"),\"\")","v":""},null,null,null,null,null,null,null,null,null,"ZAD36 BEER GLASS",27,null,"JP452 Fried A.Mushroom",4,null,null,null,null,null,null,null,null,null,null,null,null,null,null,null,null,"ZAC08 1308:C/CALAMARI",1,null,"JR01 PACKAGE A",1,null,"ZAD24 + SAUCE BP",1,null,"ZAB01 1201:SFD STICK",1,null,"ZAD06 NO ICE",19,null,"ZAD04 LESS ICE",24,null,null,null,null,null,null,null,"ZAA01 GUINNESS EX BKT",3,null,null,null,null,null,null,null,null,null,null,null,null,null,null,null,null,"ZAD17 WITHOUT SUGAR",2,null,"ZAD37 ICE BUCKET",5]
[{"$f":"IFERROR(IF(INDIRECT($A$14&ROW())<>\"\",COUNTIF([7]Summary!$B$30:$B$1105,INDIRECT($A$14&ROW())),\"\"),\"\")","v":""},null,null,null,null,null,null,null,null,null,"ZAD37 ICE BUCKET",8,null,"JQ557 Chrisy Beabcurd",8,null,null,null,null,null,null,null,null,null,null,null,null,null,null,null,null,"ZAC09 1309:Mc /O.RINGS",1,null,"JT101 Tiger BKT Pro",2,null,"ZAD36 BEER GLASS",34,null,"ZAB02 1202:FRIES",6,null,"ZAD07 LESS SWEET",9,null,"ZAD06 NO ICE",3,null,null,null,null,null,null,null,"ZAA02 HEINEKEN EX BKT",6,null,null,null,null,null,null,null,null,null,null,null,null,null,null,null,null,"ZAD19 KAU KAU",2,null,"ZZZZZ SOLD OUT"]
[{"$f":"IFERROR(IF(INDIRECT($A$14&ROW())<>\"\",COUNTIF([7]Summary!$B$30:$B$1105,INDIRECT($A$14&ROW())),\"\"),\"\")","v":""},null,null,null,null,null,null,null,null,null,"ZZZZZ CHANGE 4BP",null,null,"JQ558 Quail Eggs",5,null,null,null,null,null,null,null,null,null,null,null,null,null,null,null,null,"ZAC10 1310:Mc SPIRAL/F",1,null,"ZAA01 GUINNESS EX BKT",1,null,"ZAD37 ICE BUCKET",10,null,"ZAB03 1203:GOLD MROOM",2,null,"ZAD13 ADD LEMON",13,null,"ZAD07 LESS SWEET",3,null,null,null,null,null,null,null,"ZAB02 1202:FRIES",7,null,null,null,null,null,null,null,null,null,null,null,null,null,null,null,null,"ZAD20 JUG",8]
[{"$f":"IFERROR(IF(INDIRECT($A$14&ROW())<>\"\",COUNTIF([7]Summary!$B$30:$B$1105,INDIRECT($A$14&ROW())),\"\"),\"\")","v":""},null,null,null,null,null,null,null,null,null,null,null,null,"JQ559 Fried Wanton",1,null,null,null,null,null,null,null,null,null,null,null,null,null,null,null,null,"ZAC12 1312:Mc HASH/B",2,null,"ZAA02 HEINEKEN EX BKT",5,null,"ZZZZZ CHANGE K LUNCH",null,null,"ZAB04 1204:F.BALL",3,null,"ZAD16 ADD SALT",5,null,"ZAD11 MORE SPICY",1,null,null,null,null,null,null,null,"ZAB04 1204:F.BALL",1,null,null,null,null,null,null,null,null,null,null,null,null,null,null,null,null,"ZAD24 + SAUCE BP",1]
[{"$f":"IFERROR(IF(INDIRECT($A$14&ROW())<>\"\",COUNTIF([7]Summary!$B$30:$B$1105,INDIRECT($A$14&ROW())),\"\"),\"\")","v":""},null,null,null,null,null,null,null,null,null,null,null,null,"JQ563 Seafood Tofu",1,null,null,null,null,null,null,null,null,null,null,null,null,null,null,null,null,"ZAD01 COLD",3,null,"ZAB02 1202:FRIES",9,null,null,null,null,"ZAB06 1206:SPRING RL",1,null,"ZAD17 WITHOUT SUGAR",6,null,"ZAD13 ADD LEMON",20,null,null,null,null,null,null,null,"ZAB06 1206:SPRING RL",1,null,null,null,null,null,null,null,null,null,null,null,null,null,null,null,null,"ZAD30 + SAUCE MR",1]
[{"$f":"IFERROR(IF(INDIRECT($A$14&ROW())<>\"\",COUNTIF([7]Summary!$B$30:$B$1105,INDIRECT($A$14&ROW())),\"\"),\"\")","v":""},null,null,null,null,null,null,null,null,null,null,null,null,"JQ565 Quail Century Eg",4,null,null,null,null,null,null,null,null,null,null,null,null,null,null,null,null,"ZAD02 HOT",7,null,"ZAB03 1203:GOLD MROOM",1,null,null,null,null,"ZAB07 1207:SAUSAGE",1,null,"ZAD20 JUG",8,null,"ZAD16 ICE ONLY",1,null,null,null,null,null,null,null,"ZAB07 1207:SAUSAGE",1,null,null,null,null,null,null,null,null,null,null,null,null,null,null,null,null,"ZAD36 BEER GLASS",21]
[{"$f":"IFERROR(IF(INDIRECT($A$14&ROW())<>\"\",COUNTIF([7]Summary!$B$30:$B$1105,INDIRECT($A$14&ROW())),\"\"),\"\")","v":""},null,null,null,null,null,null,null,null,null,null,null,null,"ZAB02 1202:FRIES",7,null,null,null,null,null,null,null,null,null,null,null,null,null,null,null,null,"ZAD03 WARM",22,null,"ZAB04 1204:F.BALL",4,null,null,null,null,"ZAC02 1302:NUGGET",3,null,"ZAD36 BEER GLASS",10,null,"ZAD17 WITHOUT SUGAR",1,null,null,null,null,null,null,null,"ZAC02 1302:NUGGET",1,null,null,null,null,null,null,null,null,null,null,null,null,null,null,null,null,"ZAD37 ICE BUCKET",9]
[{"$f":"IFERROR(IF(INDIRECT($A$14&ROW())<>\"\",COUNTIF([7]Summary!$B$30:$B$1105,INDIRECT($A$14&ROW())),\"\"),\"\")","v":""},null,null,null,null,null,null,null,null,null,null,null,null,"ZAB03 1203:GOLD MROOM",4,null,null,null,null,null,null,null,null,null,null,null,null,null,null,null,null,"ZAD04 LESS ICE",45,null,"ZAB06 1206:SPRING RL",1,null,null,null,null,"ZAC03 1303:CHK WING",2,null,"ZAD37 ICE BUCKET",3,null,"ZAD20 JUG",9,null,null,null,null,null,null,null,"ZAC03 1303:CHK WING",1,null,null,null,null,null,null,null,null,null,null,null,null,null,null,null,null,"ZZZZZ CHANGE K LUNCH"]
[{"$f":"IFERROR(IF(INDIRECT($A$14&ROW())<>\"\",COUNTIF([7]Summary!$B$30:$B$1105,INDIRECT($A$14&ROW())),\"\"),\"\")","v":""},null,null,null,null,null,null,null,null,null,null,null,null,"ZAB06 1206:SPRING RL",3,null,null,null,null,null,null,null,null,null,null,null,null,null,null,null,null,"ZAD06 NO ICE",4,null,"ZAB07 1207:SAUSAGE",3,null,null,null,null,"ZAC04 1304:IKAN BILIS",3,null,"ZZZZZ CHANGE K LUNCH",null,null,"ZAD21 TAKE AWAY",1,null,null,null,null,null,null,null,"ZAD01 COLD",7]
[{"$f":"IFERROR(IF(INDIRECT($A$14&ROW())<>\"\",COUNTIF([7]Summary!$B$30:$B$1105,INDIRECT($A$14&ROW())),\"\"),\"\")","v":""},null,null,null,null,null,null,null,null,null,null,null,null,"ZAB07 1207:SAUSAGE",6,null,null,null,null,null,null,null,null,null,null,null,null,null,null,null,null,"ZAD07 LESS SWEET",2,null,"ZAC02 1302:NUGGET",3,null,null,null,null,"ZAC10 1310:Mc SPIRAL/F",null,null,null,null,null,"ZAD36 BEER GLASS",33,null,null,null,null,null,null,null,"ZAD02 HOT",4]
[{"$f":"IFERROR(IF(INDIRECT($A$14&ROW())<>\"\",COUNTIF([7]Summary!$B$30:$B$1105,INDIRECT($A$14&ROW())),\"\"),\"\")","v":""},null,null,null,null,null,null,null,null,null,null,null,null,"ZAC02 1302:NUGGET",4,null,null,null,null,null,null,null,null,null,null,null,null,null,null,null,null,"ZAD10 LESS SPICY",1,null,"ZAC03 1303:CHK WING",5,null,null,null,null,"ZAC11 1311:Mc H/SMILES",1,null,null,null,null,"ZAD37 ICE BUCKET",11,null,null,null,null,null,null,null,"ZAD03 WARM",14]
[{"$f":"IFERROR(IF(INDIRECT($A$14&ROW())<>\"\",COUNTIF([7]Summary!$B$30:$B$1105,INDIRECT($A$14&ROW())),\"\"),\"\")","v":""},null,null,null,null,null,null,null,null,null,null,null,null,"ZAC03 1303:CHK WING",2,null,null,null,null,null,null,null,null,null,null,null,null,null,null,null,null,"ZAD13 ADD LEMON",8,null,"ZAC07 1307:D/F C.WINGS",1,null,null,null,null,"ZAC12 1312:Mc HASH/B",1,null,null,null,null,"ZZZZZ APPLY MEM",null,null,null,null,null,null,null,null,"ZAD04 LESS ICE",49]
[{"$f":"IFERROR(IF(INDIRECT($A$14&ROW())<>\"\",COUNTIF([7]Summary!$B$30:$B$1105,INDIRECT($A$14&ROW())),\"\"),\"\")","v":""},null,null,null,null,null,null,null,null,null,null,null,null,"ZAC07 1307:D/F C.WINGS",2,null,null,null,null,null,null,null,null,null,null,null,null,null,null,null,null,"ZAD16 A FEW OF ICE ONL",3,null,"ZAC08 1308:C/CALAMARI",null,null,null,null,null,"ZAD01 COLD",4,null,null,null,null,null,null,null,null,null,null,null,null,null,"ZAD06 NO ICE",10]
[{"$f":"IFERROR(IF(INDIRECT($A$14&ROW())<>\"\",COUNTIF([7]Summary!$B$30:$B$1105,INDIRECT($A$14&ROW())),\"\"),\"\")","v":""},null,null,null,null,null,null,null,null,null,null,null,null,"ZAC08 1308:C/CALAMARI",2,null,null,null,null,null,null,null,null,null,null,null,null,null,null,null,null,"ZAD17 WITHOUT SUGAR",2,null,"ZAC10 1310:Mc SPIRAL/F",1,null,null,null,null,"ZAD02 HOT",3,null,null,null,null,null,null,null,null,null,null,null,null,null,"ZAD07 LESS SWEET",5]
[{"$f":"IFERROR(IF(INDIRECT($A$14&ROW())<>\"\",COUNTIF([7]Summary!$B$30:$B$1105,INDIRECT($A$14&ROW())),\"\"),\"\")","v":""},null,null,null,null,null,null,null,null,null,null,null,null,"ZAC12 1312:Mc HASH/B",2,null,null,null,null,null,null,null,null,null,null,null,null,null,null,null,null,"ZAD20 JUG",3,null,"ZAD01 COLD",7,null,null,null,null,"ZAD03 WARM",18,null,null,null,null,null,null,null,null,null,null,null,null,null,"ZAD13 ADD LEMON",14]
[{"$f":"IFERROR(IF(INDIRECT($A$14&ROW())<>\"\",COUNTIF([7]Summary!$B$30:$B$1105,INDIRECT($A$14&ROW())),\"\"),\"\")","v":""},null,null,null,null,null,null,null,null,null,null,null,null,"ZAD01 COLD",4,null,null,null,null,null,null,null,null,null,null,null,null,null,null,null,null,"ZAD28 + SAUCE MAYO",1,null,"ZAD02 HOT",6,null,null,null,null,"ZAD04 LESS ICE",37,null,null,null,null,null,null,null,null,null,null,null,null,null,"ZAD14 MORE SWEET",2]
[{"$f":"IFERROR(IF(INDIRECT($A$14&ROW())<>\"\",COUNTIF([7]Summary!$B$30:$B$1105,INDIRECT($A$14&ROW())),\"\"),\"\")","v":""},null,null,null,null,null,null,null,null,null,null,null,null,"ZAD02 HOT",1,null,null,null,null,null,null,null,null,null,null,null,null,null,null,null,null,"ZAD36 BEER GLASS",25,null,"ZAD03 WARM",22,null,null,null,null,"ZAD06 NO ICE",22,null,null,null,null,null,null,null,null,null,null,null,null,null,"ZAD16 ICE ONLY",2]
[{"$f":"IFERROR(IF(INDIRECT($A$14&ROW())<>\"\",COUNTIF([7]Summary!$B$30:$B$1105,INDIRECT($A$14&ROW())),\"\"),\"\")","v":""},null,null,null,null,null,null,null,null,null,null,null,null,"ZAD03 WARM",31,null,null,null,null,null,null,null,null,null,null,null,null,null,null,null,null,"ZAD37 ICE BUCKET",7,null,"ZAD04 LESS ICE",66,null,null,null,null,"ZAD07 LESS SWEET",4,null,null,null,null,null,null,null,null,null,null,null,null,null,"ZAD17 WITHOUT SUGAR",4]
[{"$f":"IFERROR(IF(INDIRECT($A$14&ROW())<>\"\",COUNTIF([7]Summary!$B$30:$B$1105,INDIRECT($A$14&ROW())),\"\"),\"\")","v":""},null,null,null,null,null,null,null,null,null,null,null,null,"ZAD04 LESS ICE",80,null,null,null,null,null,null,null,null,null,null,null,null,null,null,null,null,"ZZZZZ CHANGE MEM",null,null,"ZAD06 NO ICE",27,null,null,null,null,"ZAD12 NO VEGGIE",1,null,null,null,null,null,null,null,null,null,null,null,null,null,"ZAD19 KAU KAU",1]
[{"$f":"IFERROR(IF(INDIRECT($A$14&ROW())<>\"\",COUNTIF([7]Summary!$B$30:$B$1105,INDIRECT($A$14&ROW())),\"\"),\"\")","v":""},null,null,null,null,null,null,null,null,null,null,null,null,"ZAD05 MORE ICE",1,null,null,null,null,null,null,null,null,null,null,null,null,null,null,null,null,null,null,null,"ZAD07 LESS SWEET",4,null,null,null,null,"ZAD13 ADD LEMON",19,null,null,null,null,null,null,null,null,null,null,null,null,null,"ZAD20 JUG",3]
[{"$f":"IFERROR(IF(INDIRECT($A$14&ROW())<>\"\",COUNTIF([7]Summary!$B$30:$B$1105,INDIRECT($A$14&ROW())),\"\"),\"\")","v":""},null,null,null,null,null,null,null,null,null,null,null,null,"ZAD06 NO ICE",16,null,null,null,null,null,null,null,null,null,null,null,null,null,null,null,null,null,null,null,"ZAD13 ADD LEMON",3,null,null,null,null,"ZAD14 MORE SWEET",4,null,null,null,null,null,null,null,null,null,null,null,null,null,"ZAD21 TAKE AWAY",3]
[{"$f":"IFERROR(IF(INDIRECT($A$14&ROW())<>\"\",COUNTIF([7]Summary!$B$30:$B$1105,INDIRECT($A$14&ROW())),\"\"),\"\")","v":""},null,null,null,null,null,null,null,null,null,null,null,null,"ZAD07 LESS SWEET",4,null,null,null,null,null,null,null,null,null,null,null,null,null,null,null,null,null,null,null,"ZAD16 SEPARATE SAUCE",3,null,null,null,null,"ZAD16 MORE BUTTER SOUC",3,null,null,null,null,null,null,null,null,null,null,null,null,null,"ZAD25 + SAUCE BUTTER",2]
[{"$f":"IFERROR(IF(INDIRECT($A$14&ROW())<>\"\",COUNTIF([7]Summary!$B$30:$B$1105,INDIRECT($A$14&ROW())),\"\"),\"\")","v":""},null,null,null,null,null,null,null,null,null,null,null,null,"ZAD13 ADD LEMON",7,null,null,null,null,null,null,null,null,null,null,null,null,null,null,null,null,null,null,null,"ZAD17 WITHOUT SUGAR",5,null,null,null,null,"ZAD17 WITHOUT SUGAR",4,null,null,null,null,null,null,null,null,null,null,null,null,null,"ZAD36 BEER GLASS",23]
[{"$f":"IFERROR(IF(INDIRECT($A$14&ROW())<>\"\",COUNTIF([7]Summary!$B$30:$B$1105,INDIRECT($A$14&ROW())),\"\"),\"\")","v":""},null,null,null,null,null,null,null,null,null,null,null,null,"ZAD15 VEGGIE ONLY",1,null,null,null,null,null,null,null,null,null,null,null,null,null,null,null,null,null,null,null,"ZAD19 KAU KAU",1,null,null,null,null,"ZAD20 JUG",5,null,null,null,null,null,null,null,null,null,null,null,null,null,"ZAD37 ICE BUCKET",6]
[{"$f":"IFERROR(IF(INDIRECT($A$14&ROW())<>\"\",COUNTIF([7]Summary!$B$30:$B$1105,INDIRECT($A$14&ROW())),\"\"),\"\")","v":""},null,null,null,null,null,null,null,null,null,null,null,null,"ZAD16 LESS HNY",1,null,null,null,null,null,null,null,null,null,null,null,null,null,null,null,null,null,null,null,"ZAD20 JUG",16,null,null,null,null,"ZAD36 BEER GLASS",29]
[{"$f":"IFERROR(IF(INDIRECT($A$14&ROW())<>\"\",COUNTIF([7]Summary!$B$30:$B$1105,INDIRECT($A$14&ROW())),\"\"),\"\")","v":""},null,null,null,null,null,null,null,null,null,null,null,null,"ZAD17 WITHOUT SUGAR",5,null,null,null,null,null,null,null,null,null,null,null,null,null,null,null,null,null,null,null,"ZAD26 + CILLI PADI",5,null,null,null,null,"ZAD37 ICE BUCKET",9]
[{"$f":"IFERROR(IF(INDIRECT($A$14&ROW())<>\"\",COUNTIF([7]Summary!$B$30:$B$1105,INDIRECT($A$14&ROW())),\"\"),\"\")","v":""},null,null,null,null,null,null,null,null,null,null,null,null,"ZAD20 JUG",9,null,null,null,null,null,null,null,null,null,null,null,null,null,null,null,null,null,null,null,"ZAD36 BEER GLASS",40,null,null,null,null,"ZZZZZ WRONG KEY"]
[{"$f":"IFERROR(IF(INDIRECT($A$14&ROW())<>\"\",COUNTIF([7]Summary!$B$30:$B$1105,INDIRECT($A$14&ROW())),\"\"),\"\")","v":""},null,null,null,null,null,null,null,null,null,null,null,null,"ZAD36 BEER GLASS",5,null,null,null,null,null,null,null,null,null,null,null,null,null,null,null,null,null,null,null,"ZAD37 ICE BUCKET",5]
[{"$f":"IFERROR(IF(INDIRECT($A$14&ROW())<>\"\",COUNTIF([7]Summary!$B$30:$B$1105,INDIRECT($A$14&ROW())),\"\"),\"\")","v":""},null,null,null,null,null,null,null,null,null,null,null,null,"ZAD37 ICE BUCKET",2,null,null,null,null,null,null,null,null,null,null,null,null,null,null,null,null,null,null,null,"ZZZZZ CHANGE K DINNER"]
[{"$f":"IFERROR(IF(INDIRECT($A$14&ROW())<>\"\",COUNTIF([7]Summary!$B$30:$B$1105,INDIRECT($A$14&ROW())),\"\"),\"\")","v":""},null,null,null,null,null,null,null,null,null,null,null,null,"ZZZZZ WRONG KEY"]
[{"$f":"IFERROR(IF(INDIRECT($A$14&ROW())<>\"\",COUNTIF([7]Summary!$B$30:$B$1105,INDIRECT($A$14&ROW())),\"\"),\"\")","v":""}]
[{"$f":"IFERROR(IF(INDIRECT($A$14&ROW())<>\"\",COUNTIF([7]Summary!$B$30:$B$1105,INDIRECT($A$14&ROW())),\"\"),\"\")","v":""}]
[{"$f":"IFERROR(IF(INDIRECT($A$14&ROW())<>\"\",COUNTIF([7]Summary!$B$30:$B$1105,INDIRECT($A$14&ROW())),\"\"),\"\")","v":""}]
[{"$f":"IFERROR(IF(INDIRECT($A$14&ROW())<>\"\",COUNTIF([7]Summary!$B$30:$B$1105,INDIRECT($A$14&ROW())),\"\"),\"\")","v":""}]
[{"$f":"IFERROR(IF(INDIRECT($A$14&ROW())<>\"\",COUNTIF([7]Summary!$B$30:$B$1105,INDIRECT($A$14&ROW())),\"\"),\"\")","v":""}]
[{"$f":"IFERROR(IF(INDIRECT($A$14&ROW())<>\"\",COUNTIF([7]Summary!$B$30:$B$1105,INDIRECT($A$14&ROW())),\"\"),\"\")","v":""}]
[{"$f":"IFERROR(IF(INDIRECT($A$14&ROW())<>\"\",COUNTIF([7]Summary!$B$30:$B$1105,INDIRECT($A$14&ROW())),\"\"),\"\")","v":""}]
[{"$f":"IFERROR(IF(INDIRECT($A$14&ROW())<>\"\",COUNTIF([7]Summary!$B$30:$B$1105,INDIRECT($A$14&ROW())),\"\"),\"\")","v":""}]
[{"$f":"IFERROR(IF(INDIRECT($A$14&ROW())<>\"\",COUNTIF([7]Summary!$B$30:$B$1105,INDIRECT($A$14&ROW())),\"\"),\"\")","v":""}]
[{"$f":"IFERROR(IF(INDIRECT($A$14&ROW())<>\"\",COUNTIF([7]Summary!$B$30:$B$1105,INDIRECT($A$14&ROW())),\"\"),\"\")","v":""}]
[{"$f":"IFERROR(IF(INDIRECT($A$14&ROW())<>\"\",COUNTIF([7]Summary!$B$30:$B$1105,INDIRECT($A$14&ROW())),\"\"),\"\")","v":""}]
[{"$f":"IFERROR(IF(INDIRECT($A$14&ROW())<>\"\",COUNTIF([7]Summary!$B$30:$B$1105,INDIRECT($A$14&ROW())),\"\"),\"\")","v":""}]
[{"$f":"IFERROR(IF(INDIRECT($A$14&ROW())<>\"\",COUNTIF([7]Summary!$B$30:$B$1105,INDIRECT($A$14&ROW())),\"\"),\"\")","v":""}]
[{"$f":"IFERROR(IF(INDIRECT($A$14&ROW())<>\"\",COUNTIF([7]Summary!$B$30:$B$1105,INDIRECT($A$14&ROW())),\"\"),\"\")","v":""}]
[{"$f":"IFERROR(IF(INDIRECT($A$14&ROW())<>\"\",COUNTIF([7]Summary!$B$30:$B$1105,INDIRECT($A$14&ROW())),\"\"),\"\")","v":""}]
[{"$f":"IFERROR(IF(INDIRECT($A$14&ROW())<>\"\",COUNTIF([7]Summary!$B$30:$B$1105,INDIRECT($A$14&ROW())),\"\"),\"\")","v":""}]
[{"$f":"IFERROR(IF(INDIRECT($A$14&ROW())<>\"\",COUNTIF([7]Summary!$B$30:$B$1105,INDIRECT($A$14&ROW())),\"\"),\"\")","v":""}]
[{"$f":"IFERROR(IF(INDIRECT($A$14&ROW())<>\"\",COUNTIF([7]Summary!$B$30:$B$1105,INDIRECT($A$14&ROW())),\"\"),\"\")","v":""}]
[{"$f":"IFERROR(IF(INDIRECT($A$14&ROW())<>\"\",COUNTIF([7]Summary!$B$30:$B$1105,INDIRECT($A$14&ROW())),\"\"),\"\")","v":""}]
[{"$f":"IFERROR(IF(INDIRECT($A$14&ROW())<>\"\",COUNTIF([7]Summary!$B$30:$B$1105,INDIRECT($A$14&ROW())),\"\"),\"\")","v":""}]
[{"$f":"IFERROR(IF(INDIRECT($A$14&ROW())<>\"\",COUNTIF([7]Summary!$B$30:$B$1105,INDIRECT($A$14&ROW())),\"\"),\"\")","v":""}]
[{"$f":"IFERROR(IF(INDIRECT($A$14&ROW())<>\"\",COUNTIF([7]Summary!$B$30:$B$1105,INDIRECT($A$14&ROW())),\"\"),\"\")","v":""}]
[{"$f":"IFERROR(IF(INDIRECT($A$14&ROW())<>\"\",COUNTIF([7]Summary!$B$30:$B$1105,INDIRECT($A$14&ROW())),\"\"),\"\")","v":""}]
[{"$f":"IFERROR(IF(INDIRECT($A$14&ROW())<>\"\",COUNTIF([7]Summary!$B$30:$B$1105,INDIRECT($A$14&ROW())),\"\"),\"\")","v":""}]
[{"$f":"IFERROR(IF(INDIRECT($A$14&ROW())<>\"\",COUNTIF([7]Summary!$B$30:$B$1105,INDIRECT($A$14&ROW())),\"\"),\"\")","v":""}]
[{"$f":"IFERROR(IF(INDIRECT($A$14&ROW())<>\"\",COUNTIF([7]Summary!$B$30:$B$1105,INDIRECT($A$14&ROW())),\"\"),\"\")","v":""}]
[{"$f":"IFERROR(IF(INDIRECT($A$14&ROW())<>\"\",COUNTIF([7]Summary!$B$30:$B$1105,INDIRECT($A$14&ROW())),\"\"),\"\")","v":""}]
[{"$f":"IFERROR(IF(INDIRECT($A$14&ROW())<>\"\",COUNTIF([7]Summary!$B$30:$B$1105,INDIRECT($A$14&ROW())),\"\"),\"\")","v":""}]
[{"$f":"IFERROR(IF(INDIRECT($A$14&ROW())<>\"\",COUNTIF([7]Summary!$B$30:$B$1105,INDIRECT($A$14&ROW())),\"\"),\"\")","v":""}]
[{"$f":"IFERROR(IF(INDIRECT($A$14&ROW())<>\"\",COUNTIF([7]Summary!$B$30:$B$1105,INDIRECT($A$14&ROW())),\"\"),\"\")","v":""}]
[{"$f":"IFERROR(IF(INDIRECT($A$14&ROW())<>\"\",COUNTIF([7]Summary!$B$30:$B$1105,INDIRECT($A$14&ROW())),\"\"),\"\")","v":""}]
[{"$f":"IFERROR(IF(INDIRECT($A$14&ROW())<>\"\",COUNTIF([7]Summary!$B$30:$B$1105,INDIRECT($A$14&ROW())),\"\"),\"\")","v":""}]
[{"$f":"IFERROR(IF(INDIRECT($A$14&ROW())<>\"\",COUNTIF([7]Summary!$B$30:$B$1105,INDIRECT($A$14&ROW())),\"\"),\"\")","v":""}]
[{"$f":"IFERROR(IF(INDIRECT($A$14&ROW())<>\"\",COUNTIF([7]Summary!$B$30:$B$1105,INDIRECT($A$14&ROW())),\"\"),\"\")","v":""}]
[{"$f":"IFERROR(IF(INDIRECT($A$14&ROW())<>\"\",COUNTIF([7]Summary!$B$30:$B$1105,INDIRECT($A$14&ROW())),\"\"),\"\")","v":""}]
[{"$f":"IFERROR(IF(INDIRECT($A$14&ROW())<>\"\",COUNTIF([7]Summary!$B$30:$B$1105,INDIRECT($A$14&ROW())),\"\"),\"\")","v":""}]
[{"$f":"IFERROR(IF(INDIRECT($A$14&ROW())<>\"\",COUNTIF([7]Summary!$B$30:$B$1105,INDIRECT($A$14&ROW())),\"\"),\"\")","v":""}]
[{"$f":"IFERROR(IF(INDIRECT($A$14&ROW())<>\"\",COUNTIF([7]Summary!$B$30:$B$1105,INDIRECT($A$14&ROW())),\"\"),\"\")","v":""}]
[{"$f":"IFERROR(IF(INDIRECT($A$14&ROW())<>\"\",COUNTIF([7]Summary!$B$30:$B$1105,INDIRECT($A$14&ROW())),\"\"),\"\")","v":""}]
[{"$f":"IFERROR(IF(INDIRECT($A$14&ROW())<>\"\",COUNTIF([7]Summary!$B$30:$B$1105,INDIRECT($A$14&ROW())),\"\"),\"\")","v":""}]
[{"$f":"IFERROR(IF(INDIRECT($A$14&ROW())<>\"\",COUNTIF([7]Summary!$B$30:$B$1105,INDIRECT($A$14&ROW())),\"\"),\"\")","v":""}]
[{"$f":"IFERROR(IF(INDIRECT($A$14&ROW())<>\"\",COUNTIF([7]Summary!$B$30:$B$1105,INDIRECT($A$14&ROW())),\"\"),\"\")","v":""}]
[{"$f":"IFERROR(IF(INDIRECT($A$14&ROW())<>\"\",COUNTIF([7]Summary!$B$30:$B$1105,INDIRECT($A$14&ROW())),\"\"),\"\")","v":""}]
[{"$f":"IFERROR(IF(INDIRECT($A$14&ROW())<>\"\",COUNTIF([7]Summary!$B$30:$B$1105,INDIRECT($A$14&ROW())),\"\"),\"\")","v":""}]
[{"$f":"IFERROR(IF(INDIRECT($A$14&ROW())<>\"\",COUNTIF([7]Summary!$B$30:$B$1105,INDIRECT($A$14&ROW())),\"\"),\"\")","v":""}]
[{"$f":"IFERROR(IF(INDIRECT($A$14&ROW())<>\"\",COUNTIF([7]Summary!$B$30:$B$1105,INDIRECT($A$14&ROW())),\"\"),\"\")","v":""}]
[{"$f":"IFERROR(IF(INDIRECT($A$14&ROW())<>\"\",COUNTIF([7]Summary!$B$30:$B$1105,INDIRECT($A$14&ROW())),\"\"),\"\")","v":""}]
[{"$f":"IFERROR(IF(INDIRECT($A$14&ROW())<>\"\",COUNTIF([7]Summary!$B$30:$B$1105,INDIRECT($A$14&ROW())),\"\"),\"\")","v":""}]
[{"$f":"IFERROR(IF(INDIRECT($A$14&ROW())<>\"\",COUNTIF([7]Summary!$B$30:$B$1105,INDIRECT($A$14&ROW())),\"\"),\"\")","v":""}]
[{"$f":"IFERROR(IF(INDIRECT($A$14&ROW())<>\"\",COUNTIF([7]Summary!$B$30:$B$1105,INDIRECT($A$14&ROW())),\"\"),\"\")","v":""}]
[{"$f":"IFERROR(IF(INDIRECT($A$14&ROW())<>\"\",COUNTIF([7]Summary!$B$30:$B$1105,INDIRECT($A$14&ROW())),\"\"),\"\")","v":""}]
[{"$f":"IFERROR(IF(INDIRECT($A$14&ROW())<>\"\",COUNTIF([7]Summary!$B$30:$B$1105,INDIRECT($A$14&ROW())),\"\"),\"\")","v":""}]
[{"$f":"IFERROR(IF(INDIRECT($A$14&ROW())<>\"\",COUNTIF([7]Summary!$B$30:$B$1105,INDIRECT($A$14&ROW())),\"\"),\"\")","v":""}]
[{"$f":"IFERROR(IF(INDIRECT($A$14&ROW())<>\"\",COUNTIF([7]Summary!$B$30:$B$1105,INDIRECT($A$14&ROW())),\"\"),\"\")","v":""}]
[{"$f":"IFERROR(IF(INDIRECT($A$14&ROW())<>\"\",COUNTIF([7]Summary!$B$30:$B$1105,INDIRECT($A$14&ROW())),\"\"),\"\")","v":""}]
[{"$f":"IFERROR(IF(INDIRECT($A$14&ROW())<>\"\",COUNTIF([7]Summary!$B$30:$B$1105,INDIRECT($A$14&ROW())),\"\"),\"\")","v":""}]
[{"$f":"IFERROR(IF(INDIRECT($A$14&ROW())<>\"\",COUNTIF([7]Summary!$B$30:$B$1105,INDIRECT($A$14&ROW())),\"\"),\"\")","v":""}]
[{"$f":"IFERROR(IF(INDIRECT($A$14&ROW())<>\"\",COUNTIF([7]Summary!$B$30:$B$1105,INDIRECT($A$14&ROW())),\"\"),\"\")","v":""}]
[{"$f":"IFERROR(IF(INDIRECT($A$14&ROW())<>\"\",COUNTIF([7]Summary!$B$30:$B$1105,INDIRECT($A$14&ROW())),\"\"),\"\")","v":""}]
[{"$f":"IFERROR(IF(INDIRECT($A$14&ROW())<>\"\",COUNTIF([7]Summary!$B$30:$B$1105,INDIRECT($A$14&ROW())),\"\"),\"\")","v":""}]
[{"$f":"IFERROR(IF(INDIRECT($A$14&ROW())<>\"\",COUNTIF([7]Summary!$B$30:$B$1105,INDIRECT($A$14&ROW())),\"\"),\"\")","v":""}]
[{"$f":"IFERROR(IF(INDIRECT($A$14&ROW())<>\"\",COUNTIF([7]Summary!$B$30:$B$1105,INDIRECT($A$14&ROW())),\"\"),\"\")","v":""}]
[{"$f":"IFERROR(IF(INDIRECT($A$14&ROW())<>\"\",COUNTIF([7]Summary!$B$30:$B$1105,INDIRECT($A$14&ROW())),\"\"),\"\")","v":""}]
[{"$f":"IFERROR(IF(INDIRECT($A$14&ROW())<>\"\",COUNTIF([7]Summary!$B$30:$B$1105,INDIRECT($A$14&ROW())),\"\"),\"\")","v":""}]
[{"$f":"IFERROR(IF(INDIRECT($A$14&ROW())<>\"\",COUNTIF(Summary!$B$30:$B$1105,INDIRECT($A$14&ROW())),\"\"),\"\")","v":""}]
[{"$f":"IFERROR(IF(INDIRECT($A$14&ROW())<>\"\",COUNTIF(Summary!$B$30:$B$1105,INDIRECT($A$14&ROW())),\"\"),\"\")","v":""}]
[{"$f":"IFERROR(IF(INDIRECT($A$14&ROW())<>\"\",COUNTIF(Summary!$B$30:$B$1105,INDIRECT($A$14&ROW())),\"\"),\"\")","v":""}]
[{"$f":"IFERROR(IF(INDIRECT($A$14&ROW())<>\"\",COUNTIF(Summary!$B$30:$B$1105,INDIRECT($A$14&ROW())),\"\"),\"\")","v":""}]
[{"$f":"IFERROR(IF(INDIRECT($A$14&ROW())<>\"\",COUNTIF(Summary!$B$30:$B$1105,INDIRECT($A$14&ROW())),\"\"),\"\")","v":""}]
[{"$f":"IFERROR(IF(INDIRECT($A$14&ROW())<>\"\",COUNTIF(Summary!$B$30:$B$1105,INDIRECT($A$14&ROW())),\"\"),\"\")","v":""}]
[{"$f":"IFERROR(IF(INDIRECT($A$14&ROW())<>\"\",COUNTIF(Summary!$B$30:$B$1105,INDIRECT($A$14&ROW())),\"\"),\"\")","v":""}]
[{"$f":"IFERROR(IF(INDIRECT($A$14&ROW())<>\"\",COUNTIF(Summary!$B$30:$B$1105,INDIRECT($A$14&ROW())),\"\"),\"\")","v":""}]
[{"$f":"IFERROR(IF(INDIRECT($A$14&ROW())<>\"\",COUNTIF(Summary!$B$30:$B$1105,INDIRECT($A$14&ROW())),\"\"),\"\")","v":""}]
[{"$f":"IFERROR(IF(INDIRECT($A$14&ROW())<>\"\",COUNTIF(Summary!$B$30:$B$1105,INDIRECT($A$14&ROW())),\"\"),\"\")","v":""}]
[{"$f":"IFERROR(IF(INDIRECT($A$14&ROW())<>\"\",COUNTIF(Summary!$B$30:$B$1105,INDIRECT($A$14&ROW())),\"\"),\"\")","v":""}]
[{"$f":"IFERROR(IF(INDIRECT($A$14&ROW())<>\"\",COUNTIF(Summary!$B$30:$B$1105,INDIRECT($A$14&ROW())),\"\"),\"\")","v":""}]
[{"$f":"IFERROR(IF(INDIRECT($A$14&ROW())<>\"\",COUNTIF(Summary!$B$30:$B$1105,INDIRECT($A$14&ROW())),\"\"),\"\")","v":""}]
[{"$f":"IFERROR(IF(INDIRECT($A$14&ROW())<>\"\",COUNTIF(Summary!$B$30:$B$1105,INDIRECT($A$14&ROW())),\"\"),\"\")","v":""}]
[{"$f":"IFERROR(IF(INDIRECT($A$14&ROW())<>\"\",COUNTIF(Summary!$B$30:$B$1105,INDIRECT($A$14&ROW())),\"\"),\"\")","v":""}]
[{"$f":"IFERROR(IF(INDIRECT($A$14&ROW())<>\"\",COUNTIF(Summary!$B$30:$B$1105,INDIRECT($A$14&ROW())),\"\"),\"\")","v":""}]
[{"$f":"IFERROR(IF(INDIRECT($A$14&ROW())<>\"\",COUNTIF(Summary!$B$30:$B$1105,INDIRECT($A$14&ROW())),\"\"),\"\")","v":""}]
[{"$f":"IFERROR(IF(INDIRECT($A$14&ROW())<>\"\",COUNTIF(Summary!$B$30:$B$1105,INDIRECT($A$14&ROW())),\"\"),\"\")","v":""}]
[{"$f":"IFERROR(IF(INDIRECT($A$14&ROW())<>\"\",COUNTIF(Summary!$B$30:$B$1105,INDIRECT($A$14&ROW())),\"\"),\"\")","v":""}]
[{"$f":"IFERROR(IF(INDIRECT($A$14&ROW())<>\"\",COUNTIF(Summary!$B$30:$B$1105,INDIRECT($A$14&ROW())),\"\"),\"\")","v":""}]
[{"$f":"IFERROR(IF(INDIRECT($A$14&ROW())<>\"\",COUNTIF(Summary!$B$30:$B$1105,INDIRECT($A$14&ROW())),\"\"),\"\")","v":""}]
[{"$f":"IFERROR(IF(INDIRECT($A$14&ROW())<>\"\",COUNTIF(Summary!$B$30:$B$1105,INDIRECT($A$14&ROW())),\"\"),\"\")","v":""}]
[{"$f":"IFERROR(IF(INDIRECT($A$14&ROW())<>\"\",COUNTIF(Summary!$B$30:$B$1105,INDIRECT($A$14&ROW())),\"\"),\"\")","v":""}]
[{"$f":"IFERROR(IF(INDIRECT($A$14&ROW())<>\"\",COUNTIF(Summary!$B$30:$B$1105,INDIRECT($A$14&ROW())),\"\"),\"\")","v":""}]
[{"$f":"IFERROR(IF(INDIRECT($A$14&ROW())<>\"\",COUNTIF(Summary!$B$30:$B$1105,INDIRECT($A$14&ROW())),\"\"),\"\")","v":""}]
[{"$f":"IFERROR(IF(INDIRECT($A$14&ROW())<>\"\",COUNTIF(Summary!$B$30:$B$1105,INDIRECT($A$14&ROW())),\"\"),\"\")","v":""}]
[{"$f":"IFERROR(IF(INDIRECT($A$14&ROW())<>\"\",COUNTIF(Summary!$B$30:$B$1105,INDIRECT($A$14&ROW())),\"\"),\"\")","v":""}]
[{"$f":"IFERROR(IF(INDIRECT($A$14&ROW())<>\"\",COUNTIF(Summary!$B$30:$B$1105,INDIRECT($A$14&ROW())),\"\"),\"\")","v":""}]
[{"$f":"IFERROR(IF(INDIRECT($A$14&ROW())<>\"\",COUNTIF(Summary!$B$30:$B$1105,INDIRECT($A$14&ROW())),\"\"),\"\")","v":""}]
[{"$f":"IFERROR(IF(INDIRECT($A$14&ROW())<>\"\",COUNTIF(Summary!$B$30:$B$1105,INDIRECT($A$14&ROW())),\"\"),\"\")","v":""}]
[{"$f":"IFERROR(IF(INDIRECT($A$14&ROW())<>\"\",COUNTIF(Summary!$B$30:$B$1105,INDIRECT($A$14&ROW())),\"\"),\"\")","v":""}]
[{"$f":"IFERROR(IF(INDIRECT($A$14&ROW())<>\"\",COUNTIF(Summary!$B$30:$B$1105,INDIRECT($A$14&ROW())),\"\"),\"\")","v":""}]
[{"$f":"IFERROR(IF(INDIRECT($A$14&ROW())<>\"\",COUNTIF(Summary!$B$30:$B$1105,INDIRECT($A$14&ROW())),\"\"),\"\")","v":""}]
[{"$f":"IFERROR(IF(INDIRECT($A$14&ROW())<>\"\",COUNTIF(Summary!$B$30:$B$1105,INDIRECT($A$14&ROW())),\"\"),\"\")","v":""}]
[{"$f":"IFERROR(IF(INDIRECT($A$14&ROW())<>\"\",COUNTIF(Summary!$B$30:$B$1105,INDIRECT($A$14&ROW())),\"\"),\"\")","v":""}]
[{"$f":"IFERROR(IF(INDIRECT($A$14&ROW())<>\"\",COUNTIF(Summary!$B$30:$B$1105,INDIRECT($A$14&ROW())),\"\"),\"\")","v":""}]
[{"$f":"IFERROR(IF(INDIRECT($A$14&ROW())<>\"\",COUNTIF(Summary!$B$30:$B$1105,INDIRECT($A$14&ROW())),\"\"),\"\")","v":""}]
[{"$f":"IFERROR(IF(INDIRECT($A$14&ROW())<>\"\",COUNTIF(Summary!$B$30:$B$1105,INDIRECT($A$14&ROW())),\"\"),\"\")","v":""}]
[{"$f":"IFERROR(IF(INDIRECT($A$14&ROW())<>\"\",COUNTIF(Summary!$B$30:$B$1105,INDIRECT($A$14&ROW())),\"\"),\"\")","v":""}]
[{"$f":"IFERROR(IF(INDIRECT($A$14&ROW())<>\"\",COUNTIF(Summary!$B$30:$B$1105,INDIRECT($A$14&ROW())),\"\"),\"\")","v":""}]
[{"$f":"IFERROR(IF(INDIRECT($A$14&ROW())<>\"\",COUNTIF(Summary!$B$30:$B$1105,INDIRECT($A$14&ROW())),\"\"),\"\")","v":""}]
[{"$f":"IFERROR(IF(INDIRECT($A$14&ROW())<>\"\",COUNTIF(Summary!$B$30:$B$1105,INDIRECT($A$14&ROW())),\"\"),\"\")","v":""}]
[{"$f":"IFERROR(IF(INDIRECT($A$14&ROW())<>\"\",COUNTIF(Summary!$B$30:$B$1105,INDIRECT($A$14&ROW())),\"\"),\"\")","v":""}]
[{"$f":"IFERROR(IF(INDIRECT($A$14&ROW())<>\"\",COUNTIF(Summary!$B$30:$B$1105,INDIRECT($A$14&ROW())),\"\"),\"\")","v":""}]
[{"$f":"IFERROR(IF(INDIRECT($A$14&ROW())<>\"\",COUNTIF(Summary!$B$30:$B$1105,INDIRECT($A$14&ROW())),\"\"),\"\")","v":""}]
[{"$f":"IFERROR(IF(INDIRECT($A$14&ROW())<>\"\",COUNTIF(Summary!$B$30:$B$1105,INDIRECT($A$14&ROW())),\"\"),\"\")","v":""}]
[{"$f":"IFERROR(IF(INDIRECT($A$14&ROW())<>\"\",COUNTIF(Summary!$B$30:$B$1105,INDIRECT($A$14&ROW())),\"\"),\"\")","v":""}]
[{"$f":"IFERROR(IF(INDIRECT($A$14&ROW())<>\"\",COUNTIF(Summary!$B$30:$B$1105,INDIRECT($A$14&ROW())),\"\"),\"\")","v":""}]
[{"$f":"IFERROR(IF(INDIRECT($A$14&ROW())<>\"\",COUNTIF(Summary!$B$30:$B$1105,INDIRECT($A$14&ROW())),\"\"),\"\")","v":""}]
[{"$f":"IFERROR(IF(INDIRECT($A$14&ROW())<>\"\",COUNTIF(Summary!$B$30:$B$1105,INDIRECT($A$14&ROW())),\"\"),\"\")","v":""}]
[{"$f":"IFERROR(IF(INDIRECT($A$14&ROW())<>\"\",COUNTIF(Summary!$B$30:$B$1105,INDIRECT($A$14&ROW())),\"\"),\"\")","v":""}]
[{"$f":"IFERROR(IF(INDIRECT($A$14&ROW())<>\"\",COUNTIF(Summary!$B$30:$B$1105,INDIRECT($A$14&ROW())),\"\"),\"\")","v":""}]
[{"$f":"IFERROR(IF(INDIRECT($A$14&ROW())<>\"\",COUNTIF(Summary!$B$30:$B$1105,INDIRECT($A$14&ROW())),\"\"),\"\")","v":""}]
[{"$f":"IFERROR(IF(INDIRECT($A$14&ROW())<>\"\",COUNTIF(Summary!$B$30:$B$1105,INDIRECT($A$14&ROW())),\"\"),\"\")","v":""}]
[{"$f":"IFERROR(IF(INDIRECT($A$14&ROW())<>\"\",COUNTIF(Summary!$B$30:$B$1105,INDIRECT($A$14&ROW())),\"\"),\"\")","v":""}]
[{"$f":"IFERROR(IF(INDIRECT($A$14&ROW())<>\"\",COUNTIF(Summary!$B$30:$B$1105,INDIRECT($A$14&ROW())),\"\"),\"\")","v":""}]
[{"$f":"IFERROR(IF(INDIRECT($A$14&ROW())<>\"\",COUNTIF(Summary!$B$30:$B$1105,INDIRECT($A$14&ROW())),\"\"),\"\")","v":""}]
[{"$f":"IFERROR(IF(INDIRECT($A$14&ROW())<>\"\",COUNTIF(Summary!$B$30:$B$1105,INDIRECT($A$14&ROW())),\"\"),\"\")","v":""}]
[{"$f":"IFERROR(IF(INDIRECT($A$14&ROW())<>\"\",COUNTIF(Summary!$B$30:$B$1105,INDIRECT($A$14&ROW())),\"\"),\"\")","v":""}]
[{"$f":"IFERROR(IF(INDIRECT($A$14&ROW())<>\"\",COUNTIF(Summary!$B$30:$B$1105,INDIRECT($A$14&ROW())),\"\"),\"\")","v":""}]
[{"$f":"IFERROR(IF(INDIRECT($A$14&ROW())<>\"\",COUNTIF(Summary!$B$30:$B$1105,INDIRECT($A$14&ROW())),\"\"),\"\")","v":""}]
[{"$f":"IFERROR(IF(INDIRECT($A$14&ROW())<>\"\",COUNTIF(Summary!$B$30:$B$1105,INDIRECT($A$14&ROW())),\"\"),\"\")","v":""}]
[{"$f":"IFERROR(IF(INDIRECT($A$14&ROW())<>\"\",COUNTIF(Summary!$B$30:$B$1105,INDIRECT($A$14&ROW())),\"\"),\"\")","v":""}]
[{"$f":"IFERROR(IF(INDIRECT($A$14&ROW())<>\"\",COUNTIF(Summary!$B$30:$B$1105,INDIRECT($A$14&ROW())),\"\"),\"\")","v":""}]
[{"$f":"IFERROR(IF(INDIRECT($A$14&ROW())<>\"\",COUNTIF(Summary!$B$30:$B$1105,INDIRECT($A$14&ROW())),\"\"),\"\")","v":""}]
[{"$f":"IFERROR(IF(INDIRECT($A$14&ROW())<>\"\",COUNTIF(Summary!$B$30:$B$1105,INDIRECT($A$14&ROW())),\"\"),\"\")","v":""}]
[{"$f":"IFERROR(IF(INDIRECT($A$14&ROW())<>\"\",COUNTIF(Summary!$B$30:$B$1105,INDIRECT($A$14&ROW())),\"\"),\"\")","v":""}]
[{"$f":"IFERROR(IF(INDIRECT($A$14&ROW())<>\"\",COUNTIF(Summary!$B$30:$B$1105,INDIRECT($A$14&ROW())),\"\"),\"\")","v":""}]
[{"$f":"IFERROR(IF(INDIRECT($A$14&ROW())<>\"\",COUNTIF(Summary!$B$30:$B$1105,INDIRECT($A$14&ROW())),\"\"),\"\")","v":""}]
[{"$f":"IFERROR(IF(INDIRECT($A$14&ROW())<>\"\",COUNTIF(Summary!$B$30:$B$1105,INDIRECT($A$14&ROW())),\"\"),\"\")","v":""}]
[{"$f":"IFERROR(IF(INDIRECT($A$14&ROW())<>\"\",COUNTIF(Summary!$B$30:$B$1105,INDIRECT($A$14&ROW())),\"\"),\"\")","v":""}]
[{"$f":"IFERROR(IF(INDIRECT($A$14&ROW())<>\"\",COUNTIF(Summary!$B$30:$B$1105,INDIRECT($A$14&ROW())),\"\"),\"\")","v":""}]
[{"$f":"IFERROR(IF(INDIRECT($A$14&ROW())<>\"\",COUNTIF(Summary!$B$30:$B$1105,INDIRECT($A$14&ROW())),\"\"),\"\")","v":""}]
[{"$f":"IFERROR(IF(INDIRECT($A$14&ROW())<>\"\",COUNTIF(Summary!$B$30:$B$1105,INDIRECT($A$14&ROW())),\"\"),\"\")","v":""}]
[{"$f":"IFERROR(IF(INDIRECT($A$14&ROW())<>\"\",COUNTIF(Summary!$B$30:$B$1105,INDIRECT($A$14&ROW())),\"\"),\"\")","v":""}]
[{"$f":"IFERROR(IF(INDIRECT($A$14&ROW())<>\"\",COUNTIF(Summary!$B$30:$B$1105,INDIRECT($A$14&ROW())),\"\"),\"\")","v":""}]
[{"$f":"IFERROR(IF(INDIRECT($A$14&ROW())<>\"\",COUNTIF(Summary!$B$30:$B$1105,INDIRECT($A$14&ROW())),\"\"),\"\")","v":""}]
[{"$f":"IFERROR(IF(INDIRECT($A$14&ROW())<>\"\",COUNTIF(Summary!$B$30:$B$1105,INDIRECT($A$14&ROW())),\"\"),\"\")","v":""}]
[{"$f":"IFERROR(IF(INDIRECT($A$14&ROW())<>\"\",COUNTIF(Summary!$B$30:$B$1105,INDIRECT($A$14&ROW())),\"\"),\"\")","v":""}]
[{"$f":"IFERROR(IF(INDIRECT($A$14&ROW())<>\"\",COUNTIF(Summary!$B$30:$B$1105,INDIRECT($A$14&ROW())),\"\"),\"\")","v":""}]
[{"$f":"IFERROR(IF(INDIRECT($A$14&ROW())<>\"\",COUNTIF(Summary!$B$30:$B$1105,INDIRECT($A$14&ROW())),\"\"),\"\")","v":""}]
[{"$f":"IFERROR(IF(INDIRECT($A$14&ROW())<>\"\",COUNTIF(Summary!$B$30:$B$1105,INDIRECT($A$14&ROW())),\"\"),\"\")","v":""}]
[{"$f":"IFERROR(IF(INDIRECT($A$14&ROW())<>\"\",COUNTIF(Summary!$B$30:$B$1105,INDIRECT($A$14&ROW())),\"\"),\"\")","v":""}]
[{"$f":"IFERROR(IF(INDIRECT($A$14&ROW())<>\"\",COUNTIF(Summary!$B$30:$B$1105,INDIRECT($A$14&ROW())),\"\"),\"\")","v":""}]
[{"$f":"IFERROR(IF(INDIRECT($A$14&ROW())<>\"\",COUNTIF(Summary!$B$30:$B$1105,INDIRECT($A$14&ROW())),\"\"),\"\")","v":""}]
[{"$f":"IFERROR(IF(INDIRECT($A$14&ROW())<>\"\",COUNTIF(Summary!$B$30:$B$1105,INDIRECT($A$14&ROW())),\"\"),\"\")","v":""}]
[{"$f":"IFERROR(IF(INDIRECT($A$14&ROW())<>\"\",COUNTIF(Summary!$B$30:$B$1105,INDIRECT($A$14&ROW())),\"\"),\"\")","v":""}]
[{"$f":"IFERROR(IF(INDIRECT($A$14&ROW())<>\"\",COUNTIF(Summary!$B$30:$B$1105,INDIRECT($A$14&ROW())),\"\"),\"\")","v":""}]
[{"$f":"IFERROR(IF(INDIRECT($A$14&ROW())<>\"\",COUNTIF(Summary!$B$30:$B$1105,INDIRECT($A$14&ROW())),\"\"),\"\")","v":""}]
[{"$f":"IFERROR(IF(INDIRECT($A$14&ROW())<>\"\",COUNTIF(Summary!$B$30:$B$1105,INDIRECT($A$14&ROW())),\"\"),\"\")","v":""}]
[{"$f":"IFERROR(IF(INDIRECT($A$14&ROW())<>\"\",COUNTIF(Summary!$B$30:$B$1105,INDIRECT($A$14&ROW())),\"\"),\"\")","v":""}]
[{"$f":"IFERROR(IF(INDIRECT($A$14&ROW())<>\"\",COUNTIF(Summary!$B$30:$B$1105,INDIRECT($A$14&ROW())),\"\"),\"\")","v":""}]
[{"$f":"IFERROR(IF(INDIRECT($A$14&ROW())<>\"\",COUNTIF(Summary!$B$30:$B$1105,INDIRECT($A$14&ROW())),\"\"),\"\")","v":""}]
[{"$f":"IFERROR(IF(INDIRECT($A$14&ROW())<>\"\",COUNTIF(Summary!$B$30:$B$1105,INDIRECT($A$14&ROW())),\"\"),\"\")","v":""}]
[{"$f":"IFERROR(IF(INDIRECT($A$14&ROW())<>\"\",COUNTIF(Summary!$B$30:$B$1105,INDIRECT($A$14&ROW())),\"\"),\"\")","v":""}]
[{"$f":"IFERROR(IF(INDIRECT($A$14&ROW())<>\"\",COUNTIF(Summary!$B$30:$B$1105,INDIRECT($A$14&ROW())),\"\"),\"\")","v":""}]
[{"$f":"IFERROR(IF(INDIRECT($A$14&ROW())<>\"\",COUNTIF(Summary!$B$30:$B$1105,INDIRECT($A$14&ROW())),\"\"),\"\")","v":""}]
[{"$f":"IFERROR(IF(INDIRECT($A$14&ROW())<>\"\",COUNTIF(Summary!$B$30:$B$1105,INDIRECT($A$14&ROW())),\"\"),\"\")","v":""}]
[{"$f":"IFERROR(IF(INDIRECT($A$14&ROW())<>\"\",COUNTIF(Summary!$B$30:$B$1105,INDIRECT($A$14&ROW())),\"\"),\"\")","v":""}]
[{"$f":"IFERROR(IF(INDIRECT($A$14&ROW())<>\"\",COUNTIF(Summary!$B$30:$B$1105,INDIRECT($A$14&ROW())),\"\"),\"\")","v":""}]
[{"$f":"IFERROR(IF(INDIRECT($A$14&ROW())<>\"\",COUNTIF(Summary!$B$30:$B$1105,INDIRECT($A$14&ROW())),\"\"),\"\")","v":""}]
[{"$f":"IFERROR(IF(INDIRECT($A$14&ROW())<>\"\",COUNTIF(Summary!$B$30:$B$1105,INDIRECT($A$14&ROW())),\"\"),\"\")","v":""}]
[{"$f":"IFERROR(IF(INDIRECT($A$14&ROW())<>\"\",COUNTIF(Summary!$B$30:$B$1105,INDIRECT($A$14&ROW())),\"\"),\"\")","v":""}]
[{"$f":"IFERROR(IF(INDIRECT($A$14&ROW())<>\"\",COUNTIF(Summary!$B$30:$B$1105,INDIRECT($A$14&ROW())),\"\"),\"\")","v":""}]
[{"$f":"IFERROR(IF(INDIRECT($A$14&ROW())<>\"\",COUNTIF(Summary!$B$30:$B$1105,INDIRECT($A$14&ROW())),\"\"),\"\")","v":""}]
[{"$f":"IFERROR(IF(INDIRECT($A$14&ROW())<>\"\",COUNTIF(Summary!$B$30:$B$1105,INDIRECT($A$14&ROW())),\"\"),\"\")","v":""}]
[{"$f":"IFERROR(IF(INDIRECT($A$14&ROW())<>\"\",COUNTIF(Summary!$B$30:$B$1105,INDIRECT($A$14&ROW())),\"\"),\"\")","v":""}]
[{"$f":"IFERROR(IF(INDIRECT($A$14&ROW())<>\"\",COUNTIF(Summary!$B$30:$B$1105,INDIRECT($A$14&ROW())),\"\"),\"\")","v":""}]
[{"$f":"IFERROR(IF(INDIRECT($A$14&ROW())<>\"\",COUNTIF(Summary!$B$30:$B$1105,INDIRECT($A$14&ROW())),\"\"),\"\")","v":""}]
[{"$f":"IFERROR(IF(INDIRECT($A$14&ROW())<>\"\",COUNTIF(Summary!$B$30:$B$1105,INDIRECT($A$14&ROW())),\"\"),\"\")","v":""}]
[{"$f":"IFERROR(IF(INDIRECT($A$14&ROW())<>\"\",COUNTIF(Summary!$B$30:$B$1105,INDIRECT($A$14&ROW())),\"\"),\"\")","v":""}]
[{"$f":"IFERROR(IF(INDIRECT($A$14&ROW())<>\"\",COUNTIF(Summary!$B$30:$B$1105,INDIRECT($A$14&ROW())),\"\"),\"\")","v":""}]
[{"$f":"IFERROR(IF(INDIRECT($A$14&ROW())<>\"\",COUNTIF(Summary!$B$30:$B$1105,INDIRECT($A$14&ROW())),\"\"),\"\")","v":""}]
[{"$f":"IFERROR(IF(INDIRECT($A$14&ROW())<>\"\",COUNTIF(Summary!$B$30:$B$1105,INDIRECT($A$14&ROW())),\"\"),\"\")","v":""}]
[{"$f":"IFERROR(IF(INDIRECT($A$14&ROW())<>\"\",COUNTIF(Summary!$B$30:$B$1105,INDIRECT($A$14&ROW())),\"\"),\"\")","v":""}]
[{"$f":"IFERROR(IF(INDIRECT($A$14&ROW())<>\"\",COUNTIF(Summary!$B$30:$B$1105,INDIRECT($A$14&ROW())),\"\"),\"\")","v":""}]
[{"$f":"IFERROR(IF(INDIRECT($A$14&ROW())<>\"\",COUNTIF(Summary!$B$30:$B$1105,INDIRECT($A$14&ROW())),\"\"),\"\")","v":""}]
[{"$f":"IFERROR(IF(INDIRECT($A$14&ROW())<>\"\",COUNTIF(Summary!$B$30:$B$1105,INDIRECT($A$14&ROW())),\"\"),\"\")","v":""}]
[{"$f":"IFERROR(IF(INDIRECT($A$14&ROW())<>\"\",COUNTIF(Summary!$B$30:$B$1105,INDIRECT($A$14&ROW())),\"\"),\"\")","v":""}]
[{"$f":"IFERROR(IF(INDIRECT($A$14&ROW())<>\"\",COUNTIF(Summary!$B$30:$B$1105,INDIRECT($A$14&ROW())),\"\"),\"\")","v":""}]
[{"$f":"IFERROR(IF(INDIRECT($A$14&ROW())<>\"\",COUNTIF(Summary!$B$30:$B$1105,INDIRECT($A$14&ROW())),\"\"),\"\")","v":""}]
[{"$f":"IFERROR(IF(INDIRECT($A$14&ROW())<>\"\",COUNTIF(Summary!$B$30:$B$1105,INDIRECT($A$14&ROW())),\"\"),\"\")","v":""}]
[{"$f":"IFERROR(IF(INDIRECT($A$14&ROW())<>\"\",COUNTIF(Summary!$B$30:$B$1105,INDIRECT($A$14&ROW())),\"\"),\"\")","v":""}]
[{"$f":"IFERROR(IF(INDIRECT($A$14&ROW())<>\"\",COUNTIF(Summary!$B$30:$B$1105,INDIRECT($A$14&ROW())),\"\"),\"\")","v":""}]
[{"$f":"IFERROR(IF(INDIRECT($A$14&ROW())<>\"\",COUNTIF(Summary!$B$30:$B$1105,INDIRECT($A$14&ROW())),\"\"),\"\")","v":""}]
[{"$f":"IFERROR(IF(INDIRECT($A$14&ROW())<>\"\",COUNTIF(Summary!$B$30:$B$1105,INDIRECT($A$14&ROW())),\"\"),\"\")","v":""}]
[{"$f":"IFERROR(IF(INDIRECT($A$14&ROW())<>\"\",COUNTIF(Summary!$B$30:$B$1105,INDIRECT($A$14&ROW())),\"\"),\"\")","v":""}]
[{"$f":"IFERROR(IF(INDIRECT($A$14&ROW())<>\"\",COUNTIF(Summary!$B$30:$B$1105,INDIRECT($A$14&ROW())),\"\"),\"\")","v":""}]
[{"$f":"IFERROR(IF(INDIRECT($A$14&ROW())<>\"\",COUNTIF(Summary!$B$30:$B$1105,INDIRECT($A$14&ROW())),\"\"),\"\")","v":""}]
[{"$f":"IFERROR(IF(INDIRECT($A$14&ROW())<>\"\",COUNTIF(Summary!$B$30:$B$1105,INDIRECT($A$14&ROW())),\"\"),\"\")","v":""}]
[{"$f":"IFERROR(IF(INDIRECT($A$14&ROW())<>\"\",COUNTIF(Summary!$B$30:$B$1105,INDIRECT($A$14&ROW())),\"\"),\"\")","v":""}]
[{"$f":"IFERROR(IF(INDIRECT($A$14&ROW())<>\"\",COUNTIF(Summary!$B$30:$B$1105,INDIRECT($A$14&ROW())),\"\"),\"\")","v":""}]
[{"$f":"IFERROR(IF(INDIRECT($A$14&ROW())<>\"\",COUNTIF(Summary!$B$30:$B$1105,INDIRECT($A$14&ROW())),\"\"),\"\")","v":""}]
[{"$f":"IFERROR(IF(INDIRECT($A$14&ROW())<>\"\",COUNTIF(Summary!$B$30:$B$1105,INDIRECT($A$14&ROW())),\"\"),\"\")","v":""}]
[{"$f":"IFERROR(IF(INDIRECT($A$14&ROW())<>\"\",COUNTIF(Summary!$B$30:$B$1105,INDIRECT($A$14&ROW())),\"\"),\"\")","v":""}]
[{"$f":"IFERROR(IF(INDIRECT($A$14&ROW())<>\"\",COUNTIF(Summary!$B$30:$B$1105,INDIRECT($A$14&ROW())),\"\"),\"\")","v":""}]
[{"$f":"IFERROR(IF(INDIRECT($A$14&ROW())<>\"\",COUNTIF(Summary!$B$30:$B$1105,INDIRECT($A$14&ROW())),\"\"),\"\")","v":""}]
[{"$f":"IFERROR(IF(INDIRECT($A$14&ROW())<>\"\",COUNTIF(Summary!$B$30:$B$1105,INDIRECT($A$14&ROW())),\"\"),\"\")","v":""}]
[{"$f":"IFERROR(IF(INDIRECT($A$14&ROW())<>\"\",COUNTIF(Summary!$B$30:$B$1105,INDIRECT($A$14&ROW())),\"\"),\"\")","v":""}]
[{"$f":"IFERROR(IF(INDIRECT($A$14&ROW())<>\"\",COUNTIF(Summary!$B$30:$B$1105,INDIRECT($A$14&ROW())),\"\"),\"\")","v":""}]
[{"$f":"IFERROR(IF(INDIRECT($A$14&ROW())<>\"\",COUNTIF(Summary!$B$30:$B$1105,INDIRECT($A$14&ROW())),\"\"),\"\")","v":""}]
[{"$f":"IFERROR(IF(INDIRECT($A$14&ROW())<>\"\",COUNTIF(Summary!$B$30:$B$1105,INDIRECT($A$14&ROW())),\"\"),\"\")","v":""}]
[{"$f":"IFERROR(IF(INDIRECT($A$14&ROW())<>\"\",COUNTIF(Summary!$B$30:$B$1105,INDIRECT($A$14&ROW())),\"\"),\"\")","v":""}]
[{"$f":"IFERROR(IF(INDIRECT($A$14&ROW())<>\"\",COUNTIF(Summary!$B$30:$B$1105,INDIRECT($A$14&ROW())),\"\"),\"\")","v":""}]
[{"$f":"IFERROR(IF(INDIRECT($A$14&ROW())<>\"\",COUNTIF(Summary!$B$30:$B$1105,INDIRECT($A$14&ROW())),\"\"),\"\")","v":""}]
[{"$f":"IFERROR(IF(INDIRECT($A$14&ROW())<>\"\",COUNTIF(Summary!$B$30:$B$1105,INDIRECT($A$14&ROW())),\"\"),\"\")","v":""}]
[{"$f":"IFERROR(IF(INDIRECT($A$14&ROW())<>\"\",COUNTIF(Summary!$B$30:$B$1105,INDIRECT($A$14&ROW())),\"\"),\"\")","v":""}]
[{"$f":"IFERROR(IF(INDIRECT($A$14&ROW())<>\"\",COUNTIF(Summary!$B$30:$B$1105,INDIRECT($A$14&ROW())),\"\"),\"\")","v":""}]
[{"$f":"IFERROR(IF(INDIRECT($A$14&ROW())<>\"\",COUNTIF(Summary!$B$30:$B$1105,INDIRECT($A$14&ROW())),\"\"),\"\")","v":""}]
[{"$f":"IFERROR(IF(INDIRECT($A$14&ROW())<>\"\",COUNTIF(Summary!$B$30:$B$1105,INDIRECT($A$14&ROW())),\"\"),\"\")","v":""}]
[{"$f":"IFERROR(IF(INDIRECT($A$14&ROW())<>\"\",COUNTIF(Summary!$B$30:$B$1105,INDIRECT($A$14&ROW())),\"\"),\"\")","v":""}]
[{"$f":"IFERROR(IF(INDIRECT($A$14&ROW())<>\"\",COUNTIF(Summary!$B$30:$B$1105,INDIRECT($A$14&ROW())),\"\"),\"\")","v":""}]
[{"$f":"IFERROR(IF(INDIRECT($A$14&ROW())<>\"\",COUNTIF(Summary!$B$30:$B$1105,INDIRECT($A$14&ROW())),\"\"),\"\")","v":""}]
[{"$f":"IFERROR(IF(INDIRECT($A$14&ROW())<>\"\",COUNTIF(Summary!$B$30:$B$1105,INDIRECT($A$14&ROW())),\"\"),\"\")","v":""}]
[{"$f":"IFERROR(IF(INDIRECT($A$14&ROW())<>\"\",COUNTIF(Summary!$B$30:$B$1105,INDIRECT($A$14&ROW())),\"\"),\"\")","v":""}]
[{"$f":"IFERROR(IF(INDIRECT($A$14&ROW())<>\"\",COUNTIF(Summary!$B$30:$B$1105,INDIRECT($A$14&ROW())),\"\"),\"\")","v":""}]
[{"$f":"IFERROR(IF(INDIRECT($A$14&ROW())<>\"\",COUNTIF(Summary!$B$30:$B$1105,INDIRECT($A$14&ROW())),\"\"),\"\")","v":""}]
[{"$f":"IFERROR(IF(INDIRECT($A$14&ROW())<>\"\",COUNTIF(Summary!$B$30:$B$1105,INDIRECT($A$14&ROW())),\"\"),\"\")","v":""}]
[{"$f":"IFERROR(IF(INDIRECT($A$14&ROW())<>\"\",COUNTIF(Summary!$B$30:$B$1105,INDIRECT($A$14&ROW())),\"\"),\"\")","v":""}]
[{"$f":"IFERROR(IF(INDIRECT($A$14&ROW())<>\"\",COUNTIF(Summary!$B$30:$B$1105,INDIRECT($A$14&ROW())),\"\"),\"\")","v":""}]
[{"$f":"IFERROR(IF(INDIRECT($A$14&ROW())<>\"\",COUNTIF(Summary!$B$30:$B$1105,INDIRECT($A$14&ROW())),\"\"),\"\")","v":""}]
[{"$f":"IFERROR(IF(INDIRECT($A$14&ROW())<>\"\",COUNTIF(Summary!$B$30:$B$1105,INDIRECT($A$14&ROW())),\"\"),\"\")","v":""}]
[{"$f":"IFERROR(IF(INDIRECT($A$14&ROW())<>\"\",COUNTIF(Summary!$B$30:$B$1105,INDIRECT($A$14&ROW())),\"\"),\"\")","v":""}]
[{"$f":"IFERROR(IF(INDIRECT($A$14&ROW())<>\"\",COUNTIF(Summary!$B$30:$B$1105,INDIRECT($A$14&ROW())),\"\"),\"\")","v":""}]
[{"$f":"IFERROR(IF(INDIRECT($A$14&ROW())<>\"\",COUNTIF(Summary!$B$30:$B$1105,INDIRECT($A$14&ROW())),\"\"),\"\")","v":""}]
[{"$f":"IFERROR(IF(INDIRECT($A$14&ROW())<>\"\",COUNTIF(Summary!$B$30:$B$1105,INDIRECT($A$14&ROW())),\"\"),\"\")","v":""}]
[{"$f":"IFERROR(IF(INDIRECT($A$14&ROW())<>\"\",COUNTIF(Summary!$B$30:$B$1105,INDIRECT($A$14&ROW())),\"\"),\"\")","v":""}]
[{"$f":"IFERROR(IF(INDIRECT($A$14&ROW())<>\"\",COUNTIF(Summary!$B$30:$B$1105,INDIRECT($A$14&ROW())),\"\"),\"\")","v":""}]
[{"$f":"IFERROR(IF(INDIRECT($A$14&ROW())<>\"\",COUNTIF(Summary!$B$30:$B$1105,INDIRECT($A$14&ROW())),\"\"),\"\")","v":""}]
[{"$f":"IFERROR(IF(INDIRECT($A$14&ROW())<>\"\",COUNTIF(Summary!$B$30:$B$1105,INDIRECT($A$14&ROW())),\"\"),\"\")","v":""}]
[{"$f":"IFERROR(IF(INDIRECT($A$14&ROW())<>\"\",COUNTIF(Summary!$B$30:$B$1105,INDIRECT($A$14&ROW())),\"\"),\"\")","v":""}]
[{"$f":"IFERROR(IF(INDIRECT($A$14&ROW())<>\"\",COUNTIF(Summary!$B$30:$B$1105,INDIRECT($A$14&ROW())),\"\"),\"\")","v":""}]
[{"$f":"IFERROR(IF(INDIRECT($A$14&ROW())<>\"\",COUNTIF(Summary!$B$30:$B$1105,INDIRECT($A$14&ROW())),\"\"),\"\")","v":""}]
[{"$f":"IFERROR(IF(INDIRECT($A$14&ROW())<>\"\",COUNTIF(Summary!$B$30:$B$1105,INDIRECT($A$14&ROW())),\"\"),\"\")","v":""}]
[{"$f":"IFERROR(IF(INDIRECT($A$14&ROW())<>\"\",COUNTIF(Summary!$B$30:$B$1105,INDIRECT($A$14&ROW())),\"\"),\"\")","v":""}]
[{"$f":"IFERROR(IF(INDIRECT($A$14&ROW())<>\"\",COUNTIF(Summary!$B$30:$B$1105,INDIRECT($A$14&ROW())),\"\"),\"\")","v":""}]
[{"$f":"IFERROR(IF(INDIRECT($A$14&ROW())<>\"\",COUNTIF(Summary!$B$30:$B$1105,INDIRECT($A$14&ROW())),\"\"),\"\")","v":""}]
[{"$f":"IFERROR(IF(INDIRECT($A$14&ROW())<>\"\",COUNTIF(Summary!$B$30:$B$1105,INDIRECT($A$14&ROW())),\"\"),\"\")","v":""}]
[{"$f":"IFERROR(IF(INDIRECT($A$14&ROW())<>\"\",COUNTIF(Summary!$B$30:$B$1105,INDIRECT($A$14&ROW())),\"\"),\"\")","v":""}]
[{"$f":"IFERROR(IF(INDIRECT($A$14&ROW())<>\"\",COUNTIF(Summary!$B$30:$B$1105,INDIRECT($A$14&ROW())),\"\"),\"\")","v":""}]
[{"$f":"IFERROR(IF(INDIRECT($A$14&ROW())<>\"\",COUNTIF(Summary!$B$30:$B$1105,INDIRECT($A$14&ROW())),\"\"),\"\")","v":""}]
[{"$f":"IFERROR(IF(INDIRECT($A$14&ROW())<>\"\",COUNTIF(Summary!$B$30:$B$1105,INDIRECT($A$14&ROW())),\"\"),\"\")","v":""}]
[{"$f":"IFERROR(IF(INDIRECT($A$14&ROW())<>\"\",COUNTIF(Summary!$B$30:$B$1105,INDIRECT($A$14&ROW())),\"\"),\"\")","v":""}]
[{"$f":"IFERROR(IF(INDIRECT($A$14&ROW())<>\"\",COUNTIF(Summary!$B$30:$B$1105,INDIRECT($A$14&ROW())),\"\"),\"\")","v":""}]
[{"$f":"IFERROR(IF(INDIRECT($A$14&ROW())<>\"\",COUNTIF(Summary!$B$30:$B$1105,INDIRECT($A$14&ROW())),\"\"),\"\")","v":""}]
[{"$f":"IFERROR(IF(INDIRECT($A$14&ROW())<>\"\",COUNTIF(Summary!$B$30:$B$1105,INDIRECT($A$14&ROW())),\"\"),\"\")","v":""}]
[{"$f":"IFERROR(IF(INDIRECT($A$14&ROW())<>\"\",COUNTIF(Summary!$B$30:$B$1105,INDIRECT($A$14&ROW())),\"\"),\"\")","v":""}]
[{"$f":"IFERROR(IF(INDIRECT($A$14&ROW())<>\"\",COUNTIF(Summary!$B$30:$B$1105,INDIRECT($A$14&ROW())),\"\"),\"\")","v":""}]
[{"$f":"IFERROR(IF(INDIRECT($A$14&ROW())<>\"\",COUNTIF(Summary!$B$30:$B$1105,INDIRECT($A$14&ROW())),\"\"),\"\")","v":""}]
[{"$f":"IFERROR(IF(INDIRECT($A$14&ROW())<>\"\",COUNTIF(Summary!$B$30:$B$1105,INDIRECT($A$14&ROW())),\"\"),\"\")","v":""}]
[{"$f":"IFERROR(IF(INDIRECT($A$14&ROW())<>\"\",COUNTIF(Summary!$B$30:$B$1105,INDIRECT($A$14&ROW())),\"\"),\"\")","v":""}]
[{"$f":"IFERROR(IF(INDIRECT($A$14&ROW())<>\"\",COUNTIF(Summary!$B$30:$B$1105,INDIRECT($A$14&ROW())),\"\"),\"\")","v":""}]
[{"$f":"IFERROR(IF(INDIRECT($A$14&ROW())<>\"\",COUNTIF(Summary!$B$30:$B$1105,INDIRECT($A$14&ROW())),\"\"),\"\")","v":""}]
[{"$f":"IFERROR(IF(INDIRECT($A$14&ROW())<>\"\",COUNTIF(Summary!$B$30:$B$1105,INDIRECT($A$14&ROW())),\"\"),\"\")","v":""}]
[{"$f":"IFERROR(IF(INDIRECT($A$14&ROW())<>\"\",COUNTIF(Summary!$B$30:$B$1105,INDIRECT($A$14&ROW())),\"\"),\"\")","v":""}]
[{"$f":"IFERROR(IF(INDIRECT($A$14&ROW())<>\"\",COUNTIF(Summary!$B$30:$B$1105,INDIRECT($A$14&ROW())),\"\"),\"\")","v":""}]
[{"$f":"IFERROR(IF(INDIRECT($A$14&ROW())<>\"\",COUNTIF(Summary!$B$30:$B$1105,INDIRECT($A$14&ROW())),\"\"),\"\")","v":""}]
[{"$f":"IFERROR(IF(INDIRECT($A$14&ROW())<>\"\",COUNTIF(Summary!$B$30:$B$1105,INDIRECT($A$14&ROW())),\"\"),\"\")","v":""}]
[{"$f":"IFERROR(IF(INDIRECT($A$14&ROW())<>\"\",COUNTIF(Summary!$B$30:$B$1105,INDIRECT($A$14&ROW())),\"\"),\"\")","v":""}]
[{"$f":"IFERROR(IF(INDIRECT($A$14&ROW())<>\"\",COUNTIF(Summary!$B$30:$B$1105,INDIRECT($A$14&ROW())),\"\"),\"\")","v":""}]
[{"$f":"IFERROR(IF(INDIRECT($A$14&ROW())<>\"\",COUNTIF(Summary!$B$30:$B$1105,INDIRECT($A$14&ROW())),\"\"),\"\")","v":""}]
[{"$f":"IFERROR(IF(INDIRECT($A$14&ROW())<>\"\",COUNTIF(Summary!$B$30:$B$1105,INDIRECT($A$14&ROW())),\"\"),\"\")","v":""}]
[{"$f":"IFERROR(IF(INDIRECT($A$14&ROW())<>\"\",COUNTIF(Summary!$B$30:$B$1105,INDIRECT($A$14&ROW())),\"\"),\"\")","v":""}]
[{"$f":"IFERROR(IF(INDIRECT($A$14&ROW())<>\"\",COUNTIF(Summary!$B$30:$B$1105,INDIRECT($A$14&ROW())),\"\"),\"\")","v":""}]
[{"$f":"IFERROR(IF(INDIRECT($A$14&ROW())<>\"\",COUNTIF(Summary!$B$30:$B$1105,INDIRECT($A$14&ROW())),\"\"),\"\")","v":""}]
[{"$f":"IFERROR(IF(INDIRECT($A$14&ROW())<>\"\",COUNTIF(Summary!$B$30:$B$1105,INDIRECT($A$14&ROW())),\"\"),\"\")","v":""}]
[{"$f":"IFERROR(IF(INDIRECT($A$14&ROW())<>\"\",COUNTIF(Summary!$B$30:$B$1105,INDIRECT($A$14&ROW())),\"\"),\"\")","v":""}]
[{"$f":"IFERROR(IF(INDIRECT($A$14&ROW())<>\"\",COUNTIF(Summary!$B$30:$B$1105,INDIRECT($A$14&ROW())),\"\"),\"\")","v":""}]
[{"$f":"IFERROR(IF(INDIRECT($A$14&ROW())<>\"\",COUNTIF(Summary!$B$30:$B$1105,INDIRECT($A$14&ROW())),\"\"),\"\")","v":""}]
[{"$f":"IFERROR(IF(INDIRECT($A$14&ROW())<>\"\",COUNTIF(Summary!$B$30:$B$1105,INDIRECT($A$14&ROW())),\"\"),\"\")","v":""}]
[{"$f":"IFERROR(IF(INDIRECT($A$14&ROW())<>\"\",COUNTIF(Summary!$B$30:$B$1105,INDIRECT($A$14&ROW())),\"\"),\"\")","v":""}]
[{"$f":"IFERROR(IF(INDIRECT($A$14&ROW())<>\"\",COUNTIF(Summary!$B$30:$B$1105,INDIRECT($A$14&ROW())),\"\"),\"\")","v":""}]
[{"$f":"IFERROR(IF(INDIRECT($A$14&ROW())<>\"\",COUNTIF(Summary!$B$30:$B$1105,INDIRECT($A$14&ROW())),\"\"),\"\")","v":""}]
[{"$f":"IFERROR(IF(INDIRECT($A$14&ROW())<>\"\",COUNTIF(Summary!$B$30:$B$1105,INDIRECT($A$14&ROW())),\"\"),\"\")","v":""}]
[{"$f":"IFERROR(IF(INDIRECT($A$14&ROW())<>\"\",COUNTIF(Summary!$B$30:$B$1105,INDIRECT($A$14&ROW())),\"\"),\"\")","v":""}]
[{"$f":"IFERROR(IF(INDIRECT($A$14&ROW())<>\"\",COUNTIF(Summary!$B$30:$B$1105,INDIRECT($A$14&ROW())),\"\"),\"\")","v":""}]
[{"$f":"IFERROR(IF(INDIRECT($A$14&ROW())<>\"\",COUNTIF(Summary!$B$30:$B$1105,INDIRECT($A$14&ROW())),\"\"),\"\")","v":""}]
[{"$f":"IFERROR(IF(INDIRECT($A$14&ROW())<>\"\",COUNTIF(Summary!$B$30:$B$1105,INDIRECT($A$14&ROW())),\"\"),\"\")","v":""}]
[{"$f":"IFERROR(IF(INDIRECT($A$14&ROW())<>\"\",COUNTIF(Summary!$B$30:$B$1105,INDIRECT($A$14&ROW())),\"\"),\"\")","v":""}]
[{"$f":"IFERROR(IF(INDIRECT($A$14&ROW())<>\"\",COUNTIF(Summary!$B$30:$B$1105,INDIRECT($A$14&ROW())),\"\"),\"\")","v":""}]
[{"$f":"IFERROR(IF(INDIRECT($A$14&ROW())<>\"\",COUNTIF(Summary!$B$30:$B$1105,INDIRECT($A$14&ROW())),\"\"),\"\")","v":""}]
[{"$f":"IFERROR(IF(INDIRECT($A$14&ROW())<>\"\",COUNTIF(Summary!$B$30:$B$1105,INDIRECT($A$14&ROW())),\"\"),\"\")","v":""}]
[{"$f":"IFERROR(IF(INDIRECT($A$14&ROW())<>\"\",COUNTIF(Summary!$B$30:$B$1105,INDIRECT($A$14&ROW())),\"\"),\"\")","v":""}]
[{"$f":"IFERROR(IF(INDIRECT($A$14&ROW())<>\"\",COUNTIF(Summary!$B$30:$B$1105,INDIRECT($A$14&ROW())),\"\"),\"\")","v":""}]
[{"$f":"IFERROR(IF(INDIRECT($A$14&ROW())<>\"\",COUNTIF(Summary!$B$30:$B$1105,INDIRECT($A$14&ROW())),\"\"),\"\")","v":""}]
[{"$f":"IFERROR(IF(INDIRECT($A$14&ROW())<>\"\",COUNTIF(Summary!$B$30:$B$1105,INDIRECT($A$14&ROW())),\"\"),\"\")","v":""}]
[{"$f":"IFERROR(IF(INDIRECT($A$14&ROW())<>\"\",COUNTIF(Summary!$B$30:$B$1105,INDIRECT($A$14&ROW())),\"\"),\"\")","v":""}]
[{"$f":"IFERROR(IF(INDIRECT($A$14&ROW())<>\"\",COUNTIF(Summary!$B$30:$B$1105,INDIRECT($A$14&ROW())),\"\"),\"\")","v":""}]
[{"$f":"IFERROR(IF(INDIRECT($A$14&ROW())<>\"\",COUNTIF(Summary!$B$30:$B$1105,INDIRECT($A$14&ROW())),\"\"),\"\")","v":""}]
[{"$f":"IFERROR(IF(INDIRECT($A$14&ROW())<>\"\",COUNTIF(Summary!$B$30:$B$1105,INDIRECT($A$14&ROW())),\"\"),\"\")","v":""}]
[{"$f":"IFERROR(IF(INDIRECT($A$14&ROW())<>\"\",COUNTIF(Summary!$B$30:$B$1105,INDIRECT($A$14&ROW())),\"\"),\"\")","v":""}]
[{"$f":"IFERROR(IF(INDIRECT($A$14&ROW())<>\"\",COUNTIF(Summary!$B$30:$B$1105,INDIRECT($A$14&ROW())),\"\"),\"\")","v":""}]
[{"$f":"IFERROR(IF(INDIRECT($A$14&ROW())<>\"\",COUNTIF(Summary!$B$30:$B$1105,INDIRECT($A$14&ROW())),\"\"),\"\")","v":""}]
[{"$f":"IFERROR(IF(INDIRECT($A$14&ROW())<>\"\",COUNTIF(Summary!$B$30:$B$1105,INDIRECT($A$14&ROW())),\"\"),\"\")","v":""}]
[{"$f":"IFERROR(IF(INDIRECT($A$14&ROW())<>\"\",COUNTIF(Summary!$B$30:$B$1105,INDIRECT($A$14&ROW())),\"\"),\"\")","v":""}]
[{"$f":"IFERROR(IF(INDIRECT($A$14&ROW())<>\"\",COUNTIF(Summary!$B$30:$B$1105,INDIRECT($A$14&ROW())),\"\"),\"\")","v":""}]
[{"$f":"IFERROR(IF(INDIRECT($A$14&ROW())<>\"\",COUNTIF(Summary!$B$30:$B$1105,INDIRECT($A$14&ROW())),\"\"),\"\")","v":""}]
[{"$f":"IFERROR(IF(INDIRECT($A$14&ROW())<>\"\",COUNTIF(Summary!$B$30:$B$1105,INDIRECT($A$14&ROW())),\"\"),\"\")","v":""}]
[{"$f":"IFERROR(IF(INDIRECT($A$14&ROW())<>\"\",COUNTIF(Summary!$B$30:$B$1105,INDIRECT($A$14&ROW())),\"\"),\"\")","v":""}]
[{"$f":"IFERROR(IF(INDIRECT($A$14&ROW())<>\"\",COUNTIF(Summary!$B$30:$B$1105,INDIRECT($A$14&ROW())),\"\"),\"\")","v":""}]
[{"$f":"IFERROR(IF(INDIRECT($A$14&ROW())<>\"\",COUNTIF(Summary!$B$30:$B$1105,INDIRECT($A$14&ROW())),\"\"),\"\")","v":""}]
[{"$f":"IFERROR(IF(INDIRECT($A$14&ROW())<>\"\",COUNTIF(Summary!$B$30:$B$1105,INDIRECT($A$14&ROW())),\"\"),\"\")","v":""}]
[{"$f":"IFERROR(IF(INDIRECT($A$14&ROW())<>\"\",COUNTIF(Summary!$B$30:$B$1105,INDIRECT($A$14&ROW())),\"\"),\"\")","v":""}]
[{"$f":"IFERROR(IF(INDIRECT($A$14&ROW())<>\"\",COUNTIF(Summary!$B$30:$B$1105,INDIRECT($A$14&ROW())),\"\"),\"\")","v":""}]
[{"$f":"IFERROR(IF(INDIRECT($A$14&ROW())<>\"\",COUNTIF(Summary!$B$30:$B$1105,INDIRECT($A$14&ROW())),\"\"),\"\")","v":""}]
[{"$f":"IFERROR(IF(INDIRECT($A$14&ROW())<>\"\",COUNTIF(Summary!$B$30:$B$1105,INDIRECT($A$14&ROW())),\"\"),\"\")","v":""}]
[{"$f":"IFERROR(IF(INDIRECT($A$14&ROW())<>\"\",COUNTIF(Summary!$B$30:$B$1105,INDIRECT($A$14&ROW())),\"\"),\"\")","v":""}]
[{"$f":"IFERROR(IF(INDIRECT($A$14&ROW())<>\"\",COUNTIF(Summary!$B$30:$B$1105,INDIRECT($A$14&ROW())),\"\"),\"\")","v":""}]
[{"$f":"IFERROR(IF(INDIRECT($A$14&ROW())<>\"\",COUNTIF(Summary!$B$30:$B$1105,INDIRECT($A$14&ROW())),\"\"),\"\")","v":""}]
[{"$f":"IFERROR(IF(INDIRECT($A$14&ROW())<>\"\",COUNTIF(Summary!$B$30:$B$1105,INDIRECT($A$14&ROW())),\"\"),\"\")","v":""}]
[{"$f":"IFERROR(IF(INDIRECT($A$14&ROW())<>\"\",COUNTIF(Summary!$B$30:$B$1105,INDIRECT($A$14&ROW())),\"\"),\"\")","v":""}]
[{"$f":"IFERROR(IF(INDIRECT($A$14&ROW())<>\"\",COUNTIF(Summary!$B$30:$B$1105,INDIRECT($A$14&ROW())),\"\"),\"\")","v":""}]
[{"$f":"IFERROR(IF(INDIRECT($A$14&ROW())<>\"\",COUNTIF(Summary!$B$30:$B$1105,INDIRECT($A$14&ROW())),\"\"),\"\")","v":""}]
[{"$f":"IFERROR(IF(INDIRECT($A$14&ROW())<>\"\",COUNTIF(Summary!$B$30:$B$1105,INDIRECT($A$14&ROW())),\"\"),\"\")","v":""}]
[{"$f":"IFERROR(IF(INDIRECT($A$14&ROW())<>\"\",COUNTIF(Summary!$B$30:$B$1105,INDIRECT($A$14&ROW())),\"\"),\"\")","v":""}]
[{"$f":"IFERROR(IF(INDIRECT($A$14&ROW())<>\"\",COUNTIF(Summary!$B$30:$B$1105,INDIRECT($A$14&ROW())),\"\"),\"\")","v":""}]
[{"$f":"IFERROR(IF(INDIRECT($A$14&ROW())<>\"\",COUNTIF(Summary!$B$30:$B$1105,INDIRECT($A$14&ROW())),\"\"),\"\")","v":""}]
[{"$f":"IFERROR(IF(INDIRECT($A$14&ROW())<>\"\",COUNTIF(Summary!$B$30:$B$1105,INDIRECT($A$14&ROW())),\"\"),\"\")","v":""}]
[{"$f":"IFERROR(IF(INDIRECT($A$14&ROW())<>\"\",COUNTIF(Summary!$B$30:$B$1105,INDIRECT($A$14&ROW())),\"\"),\"\")","v":""}]
[{"$f":"IFERROR(IF(INDIRECT($A$14&ROW())<>\"\",COUNTIF(Summary!$B$30:$B$1105,INDIRECT($A$14&ROW())),\"\"),\"\")","v":""}]
[{"$f":"IFERROR(IF(INDIRECT($A$14&ROW())<>\"\",COUNTIF(Summary!$B$30:$B$1105,INDIRECT($A$14&ROW())),\"\"),\"\")","v":""}]
[{"$f":"IFERROR(IF(INDIRECT($A$14&ROW())<>\"\",COUNTIF(Summary!$B$30:$B$1105,INDIRECT($A$14&ROW())),\"\"),\"\")","v":""}]
[{"$f":"IFERROR(IF(INDIRECT($A$14&ROW())<>\"\",COUNTIF(Summary!$B$30:$B$1105,INDIRECT($A$14&ROW())),\"\"),\"\")","v":""}]
[{"$f":"IFERROR(IF(INDIRECT($A$14&ROW())<>\"\",COUNTIF(Summary!$B$30:$B$1105,INDIRECT($A$14&ROW())),\"\"),\"\")","v":""}]
[{"$f":"IFERROR(IF(INDIRECT($A$14&ROW())<>\"\",COUNTIF(Summary!$B$30:$B$1105,INDIRECT($A$14&ROW())),\"\"),\"\")","v":""}]
[{"$f":"IFERROR(IF(INDIRECT($A$14&ROW())<>\"\",COUNTIF(Summary!$B$30:$B$1105,INDIRECT($A$14&ROW())),\"\"),\"\")","v":""}]
[{"$f":"IFERROR(IF(INDIRECT($A$14&ROW())<>\"\",COUNTIF(Summary!$B$30:$B$1105,INDIRECT($A$14&ROW())),\"\"),\"\")","v":""}]
[{"$f":"IFERROR(IF(INDIRECT($A$14&ROW())<>\"\",COUNTIF(Summary!$B$30:$B$1105,INDIRECT($A$14&ROW())),\"\"),\"\")","v":""}]
[{"$f":"IFERROR(IF(INDIRECT($A$14&ROW())<>\"\",COUNTIF(Summary!$B$30:$B$1105,INDIRECT($A$14&ROW())),\"\"),\"\")","v":""}]
[{"$f":"IFERROR(IF(INDIRECT($A$14&ROW())<>\"\",COUNTIF(Summary!$B$30:$B$1105,INDIRECT($A$14&ROW())),\"\"),\"\")","v":""}]
[{"$f":"IFERROR(IF(INDIRECT($A$14&ROW())<>\"\",COUNTIF(Summary!$B$30:$B$1105,INDIRECT($A$14&ROW())),\"\"),\"\")","v":""}]
[{"$f":"IFERROR(IF(INDIRECT($A$14&ROW())<>\"\",COUNTIF(Summary!$B$30:$B$1105,INDIRECT($A$14&ROW())),\"\"),\"\")","v":""}]
[{"$f":"IFERROR(IF(INDIRECT($A$14&ROW())<>\"\",COUNTIF(Summary!$B$30:$B$1105,INDIRECT($A$14&ROW())),\"\"),\"\")","v":""}]
[{"$f":"IFERROR(IF(INDIRECT($A$14&ROW())<>\"\",COUNTIF(Summary!$B$30:$B$1105,INDIRECT($A$14&ROW())),\"\"),\"\")","v":""}]
[{"$f":"IFERROR(IF(INDIRECT($A$14&ROW())<>\"\",COUNTIF(Summary!$B$30:$B$1105,INDIRECT($A$14&ROW())),\"\"),\"\")","v":""}]
[{"$f":"IFERROR(IF(INDIRECT($A$14&ROW())<>\"\",COUNTIF(Summary!$B$30:$B$1105,INDIRECT($A$14&ROW())),\"\"),\"\")","v":""}]
[{"$f":"IFERROR(IF(INDIRECT($A$14&ROW())<>\"\",COUNTIF(Summary!$B$30:$B$1105,INDIRECT($A$14&ROW())),\"\"),\"\")","v":""}]
[{"$f":"IFERROR(IF(INDIRECT($A$14&ROW())<>\"\",COUNTIF(Summary!$B$30:$B$1105,INDIRECT($A$14&ROW())),\"\"),\"\")","v":""}]
[{"$f":"IFERROR(IF(INDIRECT($A$14&ROW())<>\"\",COUNTIF(Summary!$B$30:$B$1105,INDIRECT($A$14&ROW())),\"\"),\"\")","v":""}]
[{"$f":"IFERROR(IF(INDIRECT($A$14&ROW())<>\"\",COUNTIF(Summary!$B$30:$B$1105,INDIRECT($A$14&ROW())),\"\"),\"\")","v":""}]
[{"$f":"IFERROR(IF(INDIRECT($A$14&ROW())<>\"\",COUNTIF(Summary!$B$30:$B$1105,INDIRECT($A$14&ROW())),\"\"),\"\")","v":""}]
[{"$f":"IFERROR(IF(INDIRECT($A$14&ROW())<>\"\",COUNTIF(Summary!$B$30:$B$1105,INDIRECT($A$14&ROW())),\"\"),\"\")","v":""}]
[{"$f":"IFERROR(IF(INDIRECT($A$14&ROW())<>\"\",COUNTIF(Summary!$B$30:$B$1105,INDIRECT($A$14&ROW())),\"\"),\"\")","v":""}]
[{"$f":"IFERROR(IF(INDIRECT($A$14&ROW())<>\"\",COUNTIF(Summary!$B$30:$B$1105,INDIRECT($A$14&ROW())),\"\"),\"\")","v":""}]
[{"$f":"IFERROR(IF(INDIRECT($A$14&ROW())<>\"\",COUNTIF(Summary!$B$30:$B$1105,INDIRECT($A$14&ROW())),\"\"),\"\")","v":""}]
[{"$f":"IFERROR(IF(INDIRECT($A$14&ROW())<>\"\",COUNTIF(Summary!$B$30:$B$1105,INDIRECT($A$14&ROW())),\"\"),\"\")","v":""}]
[{"$f":"IFERROR(IF(INDIRECT($A$14&ROW())<>\"\",COUNTIF(Summary!$B$30:$B$1105,INDIRECT($A$14&ROW())),\"\"),\"\")","v":""}]
[{"$f":"IFERROR(IF(INDIRECT($A$14&ROW())<>\"\",COUNTIF(Summary!$B$30:$B$1105,INDIRECT($A$14&ROW())),\"\"),\"\")","v":""}]
[{"$f":"IFERROR(IF(INDIRECT($A$14&ROW())<>\"\",COUNTIF(Summary!$B$30:$B$1105,INDIRECT($A$14&ROW())),\"\"),\"\")","v":""}]
[{"$f":"IFERROR(IF(INDIRECT($A$14&ROW())<>\"\",COUNTIF(Summary!$B$30:$B$1105,INDIRECT($A$14&ROW())),\"\"),\"\")","v":""}]
[{"$f":"IFERROR(IF(INDIRECT($A$14&ROW())<>\"\",COUNTIF(Summary!$B$30:$B$1105,INDIRECT($A$14&ROW())),\"\"),\"\")","v":""}]
[{"$f":"IFERROR(IF(INDIRECT($A$14&ROW())<>\"\",COUNTIF(Summary!$B$30:$B$1105,INDIRECT($A$14&ROW())),\"\"),\"\")","v":""}]
[{"$f":"IFERROR(IF(INDIRECT($A$14&ROW())<>\"\",COUNTIF(Summary!$B$30:$B$1105,INDIRECT($A$14&ROW())),\"\"),\"\")","v":""}]
[{"$f":"IFERROR(IF(INDIRECT($A$14&ROW())<>\"\",COUNTIF(Summary!$B$30:$B$1105,INDIRECT($A$14&ROW())),\"\"),\"\")","v":""}]
[{"$f":"IFERROR(IF(INDIRECT($A$14&ROW())<>\"\",COUNTIF(Summary!$B$30:$B$1105,INDIRECT($A$14&ROW())),\"\"),\"\")","v":""}]
[{"$f":"IFERROR(IF(INDIRECT($A$14&ROW())<>\"\",COUNTIF(Summary!$B$30:$B$1105,INDIRECT($A$14&ROW())),\"\"),\"\")","v":""}]
[{"$f":"IFERROR(IF(INDIRECT($A$14&ROW())<>\"\",COUNTIF(Summary!$B$30:$B$1105,INDIRECT($A$14&ROW())),\"\"),\"\")","v":""}]
[{"$f":"IFERROR(IF(INDIRECT($A$14&ROW())<>\"\",COUNTIF(Summary!$B$30:$B$1105,INDIRECT($A$14&ROW())),\"\"),\"\")","v":""}]
[{"$f":"IFERROR(IF(INDIRECT($A$14&ROW())<>\"\",COUNTIF(Summary!$B$30:$B$1105,INDIRECT($A$14&ROW())),\"\"),\"\")","v":""}]
[{"$f":"IFERROR(IF(INDIRECT($A$14&ROW())<>\"\",COUNTIF(Summary!$B$30:$B$1105,INDIRECT($A$14&ROW())),\"\"),\"\")","v":""}]
[{"$f":"IFERROR(IF(INDIRECT($A$14&ROW())<>\"\",COUNTIF(Summary!$B$30:$B$1105,INDIRECT($A$14&ROW())),\"\"),\"\")","v":""}]
[{"$f":"IFERROR(IF(INDIRECT($A$14&ROW())<>\"\",COUNTIF(Summary!$B$30:$B$1105,INDIRECT($A$14&ROW())),\"\"),\"\")","v":""}]
[{"$f":"IFERROR(IF(INDIRECT($A$14&ROW())<>\"\",COUNTIF(Summary!$B$30:$B$1105,INDIRECT($A$14&ROW())),\"\"),\"\")","v":""}]
[{"$f":"IFERROR(IF(INDIRECT($A$14&ROW())<>\"\",COUNTIF(Summary!$B$30:$B$1105,INDIRECT($A$14&ROW())),\"\"),\"\")","v":""}]
[{"$f":"IFERROR(IF(INDIRECT($A$14&ROW())<>\"\",COUNTIF(Summary!$B$30:$B$1105,INDIRECT($A$14&ROW())),\"\"),\"\")","v":""}]
[{"$f":"IFERROR(IF(INDIRECT($A$14&ROW())<>\"\",COUNTIF(Summary!$B$30:$B$1105,INDIRECT($A$14&ROW())),\"\"),\"\")","v":""}]
[{"$f":"IFERROR(IF(INDIRECT($A$14&ROW())<>\"\",COUNTIF(Summary!$B$30:$B$1105,INDIRECT($A$14&ROW())),\"\"),\"\")","v":""}]
[{"$f":"IFERROR(IF(INDIRECT($A$14&ROW())<>\"\",COUNTIF(Summary!$B$30:$B$1105,INDIRECT($A$14&ROW())),\"\"),\"\")","v":""}]
[{"$f":"IFERROR(IF(INDIRECT($A$14&ROW())<>\"\",COUNTIF(Summary!$B$30:$B$1105,INDIRECT($A$14&ROW())),\"\"),\"\")","v":""}]
[{"$f":"IFERROR(IF(INDIRECT($A$14&ROW())<>\"\",COUNTIF(Summary!$B$30:$B$1105,INDIRECT($A$14&ROW())),\"\"),\"\")","v":""}]
[{"$f":"IFERROR(IF(INDIRECT($A$14&ROW())<>\"\",COUNTIF(Summary!$B$30:$B$1105,INDIRECT($A$14&ROW())),\"\"),\"\")","v":""}]
[{"$f":"IFERROR(IF(INDIRECT($A$14&ROW())<>\"\",COUNTIF(Summary!$B$30:$B$1105,INDIRECT($A$14&ROW())),\"\"),\"\")","v":""}]
[{"$f":"IFERROR(IF(INDIRECT($A$14&ROW())<>\"\",COUNTIF(Summary!$B$30:$B$1105,INDIRECT($A$14&ROW())),\"\"),\"\")","v":""}]
[{"$f":"IFERROR(IF(INDIRECT($A$14&ROW())<>\"\",COUNTIF(Summary!$B$30:$B$1105,INDIRECT($A$14&ROW())),\"\"),\"\")","v":""}]
[{"$f":"IFERROR(IF(INDIRECT($A$14&ROW())<>\"\",COUNTIF(Summary!$B$30:$B$1105,INDIRECT($A$14&ROW())),\"\"),\"\")","v":""}]
[{"$f":"IFERROR(IF(INDIRECT($A$14&ROW())<>\"\",COUNTIF(Summary!$B$30:$B$1105,INDIRECT($A$14&ROW())),\"\"),\"\")","v":""}]
[{"$f":"IFERROR(IF(INDIRECT($A$14&ROW())<>\"\",COUNTIF(Summary!$B$30:$B$1105,INDIRECT($A$14&ROW())),\"\"),\"\")","v":""}]
[{"$f":"IFERROR(IF(INDIRECT($A$14&ROW())<>\"\",COUNTIF(Summary!$B$30:$B$1105,INDIRECT($A$14&ROW())),\"\"),\"\")","v":""}]
[{"$f":"IFERROR(IF(INDIRECT($A$14&ROW())<>\"\",COUNTIF(Summary!$B$30:$B$1105,INDIRECT($A$14&ROW())),\"\"),\"\")","v":""}]
[{"$f":"IFERROR(IF(INDIRECT($A$14&ROW())<>\"\",COUNTIF(Summary!$B$30:$B$1105,INDIRECT($A$14&ROW())),\"\"),\"\")","v":""}]
[{"$f":"IFERROR(IF(INDIRECT($A$14&ROW())<>\"\",COUNTIF(Summary!$B$30:$B$1105,INDIRECT($A$14&ROW())),\"\"),\"\")","v":""}]
[{"$f":"IFERROR(IF(INDIRECT($A$14&ROW())<>\"\",COUNTIF(Summary!$B$30:$B$1105,INDIRECT($A$14&ROW())),\"\"),\"\")","v":""}]
[{"$f":"IFERROR(IF(INDIRECT($A$14&ROW())<>\"\",COUNTIF(Summary!$B$30:$B$1105,INDIRECT($A$14&ROW())),\"\"),\"\")","v":""}]
[{"$f":"IFERROR(IF(INDIRECT($A$14&ROW())<>\"\",COUNTIF(Summary!$B$30:$B$1105,INDIRECT($A$14&ROW())),\"\"),\"\")","v":""}]
[{"$f":"IFERROR(IF(INDIRECT($A$14&ROW())<>\"\",COUNTIF(Summary!$B$30:$B$1105,INDIRECT($A$14&ROW())),\"\"),\"\")","v":""}]
[{"$f":"IFERROR(IF(INDIRECT($A$14&ROW())<>\"\",COUNTIF(Summary!$B$30:$B$1105,INDIRECT($A$14&ROW())),\"\"),\"\")","v":""}]
[{"$f":"IFERROR(IF(INDIRECT($A$14&ROW())<>\"\",COUNTIF(Summary!$B$30:$B$1105,INDIRECT($A$14&ROW())),\"\"),\"\")","v":""}]
[{"$f":"IFERROR(IF(INDIRECT($A$14&ROW())<>\"\",COUNTIF(Summary!$B$30:$B$1105,INDIRECT($A$14&ROW())),\"\"),\"\")","v":""}]
[{"$f":"IFERROR(IF(INDIRECT($A$14&ROW())<>\"\",COUNTIF(Summary!$B$30:$B$1105,INDIRECT($A$14&ROW())),\"\"),\"\")","v":""}]
[{"$f":"IFERROR(IF(INDIRECT($A$14&ROW())<>\"\",COUNTIF(Summary!$B$30:$B$1105,INDIRECT($A$14&ROW())),\"\"),\"\")","v":""}]
[{"$f":"IFERROR(IF(INDIRECT($A$14&ROW())<>\"\",COUNTIF(Summary!$B$30:$B$1105,INDIRECT($A$14&ROW())),\"\"),\"\")","v":""}]
[{"$f":"IFERROR(IF(INDIRECT($A$14&ROW())<>\"\",COUNTIF(Summary!$B$30:$B$1105,INDIRECT($A$14&ROW())),\"\"),\"\")","v":""}]
[{"$f":"IFERROR(IF(INDIRECT($A$14&ROW())<>\"\",COUNTIF(Summary!$B$30:$B$1105,INDIRECT($A$14&ROW())),\"\"),\"\")","v":""}]
[{"$f":"IFERROR(IF(INDIRECT($A$14&ROW())<>\"\",COUNTIF(Summary!$B$30:$B$1105,INDIRECT($A$14&ROW())),\"\"),\"\")","v":""}]
[{"$f":"IFERROR(IF(INDIRECT($A$14&ROW())<>\"\",COUNTIF(Summary!$B$30:$B$1105,INDIRECT($A$14&ROW())),\"\"),\"\")","v":""}]
[{"$f":"IFERROR(IF(INDIRECT($A$14&ROW())<>\"\",COUNTIF(Summary!$B$30:$B$1105,INDIRECT($A$14&ROW())),\"\"),\"\")","v":""}]
[{"$f":"IFERROR(IF(INDIRECT($A$14&ROW())<>\"\",COUNTIF(Summary!$B$30:$B$1105,INDIRECT($A$14&ROW())),\"\"),\"\")","v":""}]
[{"$f":"IFERROR(IF(INDIRECT($A$14&ROW())<>\"\",COUNTIF(Summary!$B$30:$B$1105,INDIRECT($A$14&ROW())),\"\"),\"\")","v":""}]
[{"$f":"IFERROR(IF(INDIRECT($A$14&ROW())<>\"\",COUNTIF(Summary!$B$30:$B$1105,INDIRECT($A$14&ROW())),\"\"),\"\")","v":""}]
[{"$f":"IFERROR(IF(INDIRECT($A$14&ROW())<>\"\",COUNTIF(Summary!$B$30:$B$1105,INDIRECT($A$14&ROW())),\"\"),\"\")","v":""}]
[{"$f":"IFERROR(IF(INDIRECT($A$14&ROW())<>\"\",COUNTIF(Summary!$B$30:$B$1105,INDIRECT($A$14&ROW())),\"\"),\"\")","v":""}]
[{"$f":"IFERROR(IF(INDIRECT($A$14&ROW())<>\"\",COUNTIF(Summary!$B$30:$B$1105,INDIRECT($A$14&ROW())),\"\"),\"\")","v":""}]
[{"$f":"IFERROR(IF(INDIRECT($A$14&ROW())<>\"\",COUNTIF(Summary!$B$30:$B$1105,INDIRECT($A$14&ROW())),\"\"),\"\")","v":""}]
[{"$f":"IFERROR(IF(INDIRECT($A$14&ROW())<>\"\",COUNTIF(Summary!$B$30:$B$1105,INDIRECT($A$14&ROW())),\"\"),\"\")","v":""}]
[{"$f":"IFERROR(IF(INDIRECT($A$14&ROW())<>\"\",COUNTIF(Summary!$B$30:$B$1105,INDIRECT($A$14&ROW())),\"\"),\"\")","v":""}]
[{"$f":"IFERROR(IF(INDIRECT($A$14&ROW())<>\"\",COUNTIF(Summary!$B$30:$B$1105,INDIRECT($A$14&ROW())),\"\"),\"\")","v":""}]
[{"$f":"IFERROR(IF(INDIRECT($A$14&ROW())<>\"\",COUNTIF(Summary!$B$30:$B$1105,INDIRECT($A$14&ROW())),\"\"),\"\")","v":""}]
[{"$f":"IFERROR(IF(INDIRECT($A$14&ROW())<>\"\",COUNTIF(Summary!$B$30:$B$1105,INDIRECT($A$14&ROW())),\"\"),\"\")","v":""}]
[{"$f":"IFERROR(IF(INDIRECT($A$14&ROW())<>\"\",COUNTIF(Summary!$B$30:$B$1105,INDIRECT($A$14&ROW())),\"\"),\"\")","v":""}]
[{"$f":"IFERROR(IF(INDIRECT($A$14&ROW())<>\"\",COUNTIF(Summary!$B$30:$B$1105,INDIRECT($A$14&ROW())),\"\"),\"\")","v":""}]
[{"$f":"IFERROR(IF(INDIRECT($A$14&ROW())<>\"\",COUNTIF(Summary!$B$30:$B$1105,INDIRECT($A$14&ROW())),\"\"),\"\")","v":""}]
[{"$f":"IFERROR(IF(INDIRECT($A$14&ROW())<>\"\",COUNTIF(Summary!$B$30:$B$1105,INDIRECT($A$14&ROW())),\"\"),\"\")","v":""}]
[{"$f":"IFERROR(IF(INDIRECT($A$14&ROW())<>\"\",COUNTIF(Summary!$B$30:$B$1105,INDIRECT($A$14&ROW())),\"\"),\"\")","v":""}]
[{"$f":"IFERROR(IF(INDIRECT($A$14&ROW())<>\"\",COUNTIF(Summary!$B$30:$B$1105,INDIRECT($A$14&ROW())),\"\"),\"\")","v":""}]
[{"$f":"IFERROR(IF(INDIRECT($A$14&ROW())<>\"\",COUNTIF(Summary!$B$30:$B$1105,INDIRECT($A$14&ROW())),\"\"),\"\")","v":""},null,null,null,null,null,null,null,null,null,null,null,null,null,null,null,null,null,null,null,null,null,null,null,null,null,null,null,null,null,null,null,null,null,null,null,null,null,null,null,null,null,null,null,null,null,null,null,null,null,null,null,null,null,null,null,null,null,null,null,null,null,null,null,null,1]
[{"$f":"IFERROR(IF(INDIRECT($A$14&ROW())<>\"\",COUNTIF(Summary!$B$30:$B$1105,INDIRECT($A$14&ROW())),\"\"),\"\")","v":""},null,null,null,null,null,null,null,null,null,null,null,null,null,null,null,null,null,null,null,null,null,null,null,null,null,null,null,null,null,null,null,null,null,null,null,null,null,null,null,null,null,null,null,null,null,null,null,null,null,null,null,null,null,null,null,null,null,null,null,null,null,null,null,null,1]
[{"$f":"IFERROR(IF(INDIRECT($A$14&ROW())<>\"\",COUNTIF(Summary!$B$30:$B$1105,INDIRECT($A$14&ROW())),\"\"),\"\")","v":""},null,null,null,null,null,null,null,null,null,null,null,null,null,null,null,null,null,null,null,null,null,null,null,null,null,null,null,null,null,null,null,null,null,null,null,null,null,null,null,null,null,null,null,null,null,null,null,null,null,null,null,null,null,null,null,null,null,null,null,null,null,null,null,null,1]
[{"$f":"IFERROR(IF(INDIRECT($A$14&ROW())<>\"\",COUNTIF(Summary!$B$30:$B$1105,INDIRECT($A$14&ROW())),\"\"),\"\")","v":""},null,null,null,null,null,null,null,null,null,null,null,null,null,null,null,null,null,null,null,null,null,null,null,null,null,null,null,null,null,null,null,null,null,null,null,null,null,null,null,null,null,null,null,null,null,null,null,null,null,null,null,null,null,null,null,null,null,null,null,null,null,null,null,null,1]
[{"$f":"IFERROR(IF(INDIRECT($A$14&ROW())<>\"\",COUNTIF(Summary!$B$30:$B$1105,INDIRECT($A$14&ROW())),\"\"),\"\")","v":""},null,null,null,null,null,null,null,null,null,null,null,null,null,null,null,null,null,null,null,null,null,null,null,null,null,null,null,null,null,null,null,null,null,null,null,null,null,null,null,null,null,null,null,null,null,null,null,null,null,null,null,null,null,null,null,null,null,null,null,null,null,null,null,null,2]
[{"$f":"IFERROR(IF(INDIRECT($A$14&ROW())<>\"\",COUNTIF(Summary!$B$30:$B$1105,INDIRECT($A$14&ROW())),\"\"),\"\")","v":""},null,null,null,null,null,null,null,null,null,null,null,null,null,null,null,null,null,null,null,null,null,null,null,null,null,null,null,null,null,null,null,null,null,null,null,null,null,null,null,null,null,null,null,null,null,null,null,null,null,null,null,null,null,null,null,null,null,null,null,null,null,null,null,null,1]
[{"$f":"IFERROR(IF(INDIRECT($A$14&ROW())<>\"\",COUNTIF(Summary!$B$30:$B$1105,INDIRECT($A$14&ROW())),\"\"),\"\")","v":""},null,null,null,null,null,null,null,null,null,null,null,null,null,null,null,null,null,null,null,null,null,null,null,null,null,null,null,null,null,null,null,null,null,null,null,null,null,null,null,null,null,null,null,null,null,null,null,null,null,null,null,null,null,null,null,null,null,null,null,null,null,null,null,null,1]
[{"$f":"IFERROR(IF(INDIRECT($A$14&ROW())<>\"\",COUNTIF(Summary!$B$30:$B$1105,INDIRECT($A$14&ROW())),\"\"),\"\")","v":""},null,null,null,null,null,null,null,null,null,null,null,null,null,null,null,null,null,null,null,null,null,null,null,null,null,null,null,null,null,null,null,null,null,null,null,null,null,null,null,null,null,null,null,null,null,null,null,null,null,null,null,null,null,null,null,null,null,null,null,null,null,null,null,null,1]
[{"$f":"IFERROR(IF(INDIRECT($A$14&ROW())<>\"\",COUNTIF(Summary!$B$30:$B$1105,INDIRECT($A$14&ROW())),\"\"),\"\")","v":""},null,null,null,null,null,null,null,null,null,null,null,null,null,null,null,null,null,null,null,null,null,null,null,null,null,null,null,null,null,null,null,null,null,null,null,null,null,null,null,null,null,null,null,null,null,null,null,null,null,null,null,null,null,null,null,null,null,null,null,null,null,null,null,null,1]
[{"$f":"IFERROR(IF(INDIRECT($A$14&ROW())<>\"\",COUNTIF(Summary!$B$30:$B$1105,INDIRECT($A$14&ROW())),\"\"),\"\")","v":""},null,null,null,null,null,null,null,null,null,null,null,null,null,null,null,null,null,null,null,null,null,null,null,null,null,null,null,null,null,null,null,null,null,null,null,null,null,null,null,null,null,null,null,null,null,null,null,null,null,null,null,null,null,null,null,null,null,null,null,null,null,null,null,null,1]
[{"$f":"IFERROR(IF(INDIRECT($A$14&ROW())<>\"\",COUNTIF(Summary!$B$30:$B$1105,INDIRECT($A$14&ROW())),\"\"),\"\")","v":""},null,null,null,null,null,null,null,null,null,null,null,null,null,null,null,null,null,null,null,null,null,null,null,null,null,null,null,null,null,null,null,null,null,null,null,null,null,null,null,null,null,null,null,null,null,null,null,null,null,null,null,null,null,null,null,null,null,null,null,null,null,null,null,null,3]
[{"$f":"IFERROR(IF(INDIRECT($A$14&ROW())<>\"\",COUNTIF(Summary!$B$30:$B$1105,INDIRECT($A$14&ROW())),\"\"),\"\")","v":""},null,null,null,null,null,null,null,null,null,null,null,null,null,null,null,null,null,null,null,null,null,null,null,null,null,null,null,null,null,null,null,null,null,null,null,null,null,null,null,null,null,null,null,null,null,null,null,null,null,null,null,null,null,null,null,null,null,null,null,null,null,null,null,null,1]
[{"$f":"IFERROR(IF(INDIRECT($A$14&ROW())<>\"\",COUNTIF(Summary!$B$30:$B$1105,INDIRECT($A$14&ROW())),\"\"),\"\")","v":""},null,null,null,null,null,null,null,null,null,null,null,null,null,null,null,null,null,null,null,null,null,null,null,null,null,null,null,null,null,null,null,null,null,null,null,null,null,null,null,null,null,null,null,null,null,null,null,null,null,null,null,null,null,null,null,null,null,null,null,null,null,null,null,null,1]
[{"$f":"IFERROR(IF(INDIRECT($A$14&ROW())<>\"\",COUNTIF(Summary!$B$30:$B$1105,INDIRECT($A$14&ROW())),\"\"),\"\")","v":""},null,null,null,null,null,null,null,null,null,null,null,null,null,null,null,null,null,null,null,null,null,null,null,null,null,null,null,null,null,null,null,null,null,null,null,null,null,null,null,null,null,null,null,null,null,null,null,null,null,null,null,null,null,null,null,null,null,null,null,null,null,null,null,null,2]
[{"$f":"IFERROR(IF(INDIRECT($A$14&ROW())<>\"\",COUNTIF(Summary!$B$30:$B$1105,INDIRECT($A$14&ROW())),\"\"),\"\")","v":""},null,null,null,null,null,null,null,null,null,null,null,null,null,null,null,null,null,null,null,null,null,null,null,null,null,null,null,null,null,null,null,null,null,null,null,null,null,null,null,null,null,null,null,null,null,null,null,null,null,null,null,null,null,null,null,null,null,null,null,null,null,null,null,null,1]
[{"$f":"IFERROR(IF(INDIRECT($A$14&ROW())<>\"\",COUNTIF(Summary!$B$30:$B$1105,INDIRECT($A$14&ROW())),\"\"),\"\")","v":""},null,null,null,null,null,null,null,null,null,null,null,null,null,null,null,null,null,null,null,null,null,null,null,null,null,null,null,null,null,null,null,null,null,null,null,null,null,null,null,null,null,null,null,null,null,null,null,null,null,null,null,null,null,null,null,null,null,null,null,null,null,null,null,null,1]
[{"$f":"IFERROR(IF(INDIRECT($A$14&ROW())<>\"\",COUNTIF(Summary!$B$30:$B$1105,INDIRECT($A$14&ROW())),\"\"),\"\")","v":""},null,null,null,null,null,null,null,null,null,null,null,null,null,null,null,null,null,null,null,null,null,null,null,null,null,null,null,null,null,null,null,null,null,null,null,null,null,null,null,null,null,null,null,null,null,null,null,null,null,null,null,null,null,null,null,null,null,null,null,null,null,null,null,null,1]
[{"$f":"IFERROR(IF(INDIRECT($A$14&ROW())<>\"\",COUNTIF(Summary!$B$30:$B$1105,INDIRECT($A$14&ROW())),\"\"),\"\")","v":""},null,null,null,null,null,null,null,null,null,null,null,null,null,null,null,null,null,null,null,null,null,null,null,null,null,null,null,null,null,null,null,null,null,null,null,null,null,null,null,null,null,null,null,null,null,null,null,null,null,null,null,null,null,null,null,null,null,null,null,null,null,null,null,null,4]
[{"$f":"IFERROR(IF(INDIRECT($A$14&ROW())<>\"\",COUNTIF(Summary!$B$30:$B$1105,INDIRECT($A$14&ROW())),\"\"),\"\")","v":""},null,null,null,null,null,null,null,null,null,null,null,null,null,null,null,null,null,null,null,null,null,null,null,null,null,null,null,null,null,null,null,null,null,null,null,null,null,null,null,null,null,null,null,null,null,null,null,null,null,null,null,null,null,null,null,null,null,null,null,null,null,null,null,null,1]
[{"$f":"IFERROR(IF(INDIRECT($A$14&ROW())<>\"\",COUNTIF(Summary!$B$30:$B$1105,INDIRECT($A$14&ROW())),\"\"),\"\")","v":""},null,null,null,null,null,null,null,null,null,null,null,null,null,null,null,null,null,null,null,null,null,null,null,null,null,null,null,null,null,null,null,null,null,null,null,null,null,null,null,null,null,null,null,null,null,null,null,null,null,null,null,null,null,null,null,null,null,null,null,null,null,null,null,null,1]
[{"$f":"IFERROR(IF(INDIRECT($A$14&ROW())<>\"\",COUNTIF(Summary!$B$30:$B$1105,INDIRECT($A$14&ROW())),\"\"),\"\")","v":""},null,null,null,null,null,null,null,null,null,null,null,null,null,null,null,null,null,null,null,null,null,null,null,null,null,null,null,null,null,null,null,null,null,null,null,null,null,null,null,null,null,null,null,null,null,null,null,null,null,null,null,null,null,null,null,null,null,null,null,null,null,null,null,null,1]
[{"$f":"IFERROR(IF(INDIRECT($A$14&ROW())<>\"\",COUNTIF(Summary!$B$30:$B$1105,INDIRECT($A$14&ROW())),\"\"),\"\")","v":""},null,null,null,null,null,null,null,null,null,null,null,null,null,null,null,null,null,null,null,null,null,null,null,null,null,null,null,null,null,null,null,null,null,null,null,null,null,null,null,null,null,null,null,null,null,null,null,null,null,null,null,null,null,null,null,null,null,null,null,null,null,null,null,null,1]
[{"$f":"IFERROR(IF(INDIRECT($A$14&ROW())<>\"\",COUNTIF(Summary!$B$30:$B$1105,INDIRECT($A$14&ROW())),\"\"),\"\")","v":""},null,null,null,null,null,null,null,null,null,null,null,null,null,null,null,null,null,null,null,null,null,null,null,null,null,null,null,null,null,null,null,null,null,null,null,null,null,null,null,null,null,null,null,null,null,null,null,null,null,null,null,null,null,null,null,null,null,null,null,null,null,null,null,null,1]
[{"$f":"IFERROR(IF(INDIRECT($A$14&ROW())<>\"\",COUNTIF(Summary!$B$30:$B$1105,INDIRECT($A$14&ROW())),\"\"),\"\")","v":""},null,null,null,null,null,null,null,null,null,null,null,null,null,null,null,null,null,null,null,null,null,null,null,null,null,null,null,null,null,null,null,null,null,null,null,null,null,null,null,null,null,null,null,null,null,null,null,null,null,null,null,null,null,null,null,null,null,null,null,null,null,null,null,null,1]
[{"$f":"IFERROR(IF(INDIRECT($A$14&ROW())<>\"\",COUNTIF(Summary!$B$30:$B$1105,INDIRECT($A$14&ROW())),\"\"),\"\")","v":""},null,null,null,null,null,null,null,null,null,null,null,null,null,null,null,null,null,null,null,null,null,null,null,null,null,null,null,null,null,null,null,null,null,null,null,null,null,null,null,null,null,null,null,null,null,null,null,null,null,null,null,null,null,null,null,null,null,null,null,null,null,null,null,null,1]
[{"$f":"IFERROR(IF(INDIRECT($A$14&ROW())<>\"\",COUNTIF(Summary!$B$30:$B$1105,INDIRECT($A$14&ROW())),\"\"),\"\")","v":""},null,null,null,null,null,null,null,null,null,null,null,null,null,null,null,null,null,null,null,null,null,null,null,null,null,null,null,null,null,null,null,null,null,null,null,null,null,null,null,null,null,null,null,null,null,null,null,null,null,null,null,null,null,null,null,null,null,null,null,null,null,null,null,null,1]
[{"$f":"IFERROR(IF(INDIRECT($A$14&ROW())<>\"\",COUNTIF(Summary!$B$30:$B$1105,INDIRECT($A$14&ROW())),\"\"),\"\")","v":""},null,null,null,null,null,null,null,null,null,null,null,null,null,null,null,null,null,null,null,null,null,null,null,null,null,null,null,null,null,null,null,null,null,null,null,null,null,null,null,null,null,null,null,null,null,null,null,null,null,null,null,null,null,null,null,null,null,null,null,null,null,null,null,null,1]
[{"$f":"IFERROR(IF(INDIRECT($A$14&ROW())<>\"\",COUNTIF(Summary!$B$30:$B$1105,INDIRECT($A$14&ROW())),\"\"),\"\")","v":""},null,null,null,null,null,null,null,null,null,null,null,null,null,null,null,null,null,null,null,null,null,null,null,null,null,null,null,null,null,null,null,null,null,null,null,null,null,null,null,null,null,null,null,null,null,null,null,null,null,null,null,null,null,null,null,null,null,null,null,null,null,null,null,null,1]
[{"$f":"IFERROR(IF(INDIRECT($A$14&ROW())<>\"\",COUNTIF(Summary!$B$30:$B$1105,INDIRECT($A$14&ROW())),\"\"),\"\")","v":""},null,null,null,null,null,null,null,null,null,null,null,null,null,null,null,null,null,null,null,null,null,null,null,null,null,null,null,null,null,null,null,null,null,null,null,null,null,null,null,null,null,null,null,null,null,null,null,null,null,null,null,null,null,null,null,null,null,null,null,null,null,null,null,null,1]
[{"$f":"IFERROR(IF(INDIRECT($A$14&ROW())<>\"\",COUNTIF(Summary!$B$30:$B$1105,INDIRECT($A$14&ROW())),\"\"),\"\")","v":""},null,null,null,null,null,null,null,null,null,null,null,null,null,null,null,null,null,null,null,null,null,null,null,null,null,null,null,null,null,null,null,null,null,null,null,null,null,null,null,null,null,null,null,null,null,null,null,null,null,null,null,null,null,null,null,null,null,null,null,null,null,null,null,null,1]
[{"$f":"IFERROR(IF(INDIRECT($A$14&ROW())<>\"\",COUNTIF(Summary!$B$30:$B$1105,INDIRECT($A$14&ROW())),\"\"),\"\")","v":""},null,null,null,null,null,null,null,null,null,null,null,null,null,null,null,null,null,null,null,null,null,null,null,null,null,null,null,null,null,null,null,null,null,null,null,null,null,null,null,null,null,null,null,null,null,null,null,null,null,null,null,null,null,null,null,null,null,null,null,null,null,null,null,null,1]
[{"$f":"IFERROR(IF(INDIRECT($A$14&ROW())<>\"\",COUNTIF(Summary!$B$30:$B$1105,INDIRECT($A$14&ROW())),\"\"),\"\")","v":""},null,null,null,null,null,null,null,null,null,null,null,null,null,null,null,null,null,null,null,null,null,null,null,null,null,null,null,null,null,null,null,null,null,null,null,null,null,null,null,null,null,null,null,null,null,null,null,null,null,null,null,null,null,null,null,null,null,null,null,null,null,null,null,null,1]
[{"$f":"IFERROR(IF(INDIRECT($A$14&ROW())<>\"\",COUNTIF(Summary!$B$30:$B$1105,INDIRECT($A$14&ROW())),\"\"),\"\")","v":""},null,null,null,null,null,null,null,null,null,null,null,null,null,null,null,null,null,null,null,null,null,null,null,null,null,null,null,null,null,null,null,null,null,null,null,null,null,null,null,null,null,null,null,null,null,null,null,null,null,null,null,null,null,null,null,null,null,null,null,null,null,null,null,null,1]
[{"$f":"IFERROR(IF(INDIRECT($A$14&ROW())<>\"\",COUNTIF(Summary!$B$30:$B$1105,INDIRECT($A$14&ROW())),\"\"),\"\")","v":""},null,null,null,null,null,null,null,null,null,null,null,null,null,null,null,null,null,null,null,null,null,null,null,null,null,null,null,null,null,null,null,null,null,null,null,null,null,null,null,null,null,null,null,null,null,null,null,null,null,null,null,null,null,null,null,null,null,null,null,null,null,null,null,null,1]
[{"$f":"IFERROR(IF(INDIRECT($A$14&ROW())<>\"\",COUNTIF(Summary!$B$30:$B$1105,INDIRECT($A$14&ROW())),\"\"),\"\")","v":""},null,null,null,null,null,null,null,null,null,null,null,null,null,null,null,null,null,null,null,null,null,null,null,null,null,null,null,null,null,null,null,null,null,null,null,null,null,null,null,null,null,null,null,null,null,null,null,null,null,null,null,null,null,null,null,null,null,null,null,null,null,null,null,null,1]
[{"$f":"IFERROR(IF(INDIRECT($A$14&ROW())<>\"\",COUNTIF(Summary!$B$30:$B$1105,INDIRECT($A$14&ROW())),\"\"),\"\")","v":""},null,null,null,null,null,null,null,null,null,null,null,null,null,null,null,null,null,null,null,null,null,null,null,null,null,null,null,null,null,null,null,null,null,null,null,null,null,null,null,null,null,null,null,null,null,null,null,null,null,null,null,null,null,null,null,null,null,null,null,null,null,null,null,null,1]
[{"$f":"IFERROR(IF(INDIRECT($A$14&ROW())<>\"\",COUNTIF(Summary!$B$30:$B$1105,INDIRECT($A$14&ROW())),\"\"),\"\")","v":""},null,null,null,null,null,null,null,null,null,null,null,null,null,null,null,null,null,null,null,null,null,null,null,null,null,null,null,null,null,null,null,null,null,null,null,null,null,null,null,null,null,null,null,null,null,null,null,null,null,null,null,null,null,null,null,null,null,null,null,null,null,null,null,null,1]
[{"$f":"IFERROR(IF(INDIRECT($A$14&ROW())<>\"\",COUNTIF(Summary!$B$30:$B$1105,INDIRECT($A$14&ROW())),\"\"),\"\")","v":""},null,null,null,null,null,null,null,null,null,null,null,null,null,null,null,null,null,null,null,null,null,null,null,null,null,null,null,null,null,null,null,null,null,null,null,null,null,null,null,null,null,null,null,null,null,null,null,null,null,null,null,null,null,null,null,null,null,null,null,null,null,null,null,null,1]
[{"$f":"IFERROR(IF(INDIRECT($A$14&ROW())<>\"\",COUNTIF(Summary!$B$30:$B$1105,INDIRECT($A$14&ROW())),\"\"),\"\")","v":""},null,null,null,null,null,null,null,null,null,null,null,null,null,null,null,null,null,null,null,null,null,null,null,null,null,null,null,null,null,null,null,null,null,null,null,null,null,null,null,null,null,null,null,null,null,null,null,null,null,null,null,null,null,null,null,null,null,null,null,null,null,null,null,null,1]
[{"$f":"IFERROR(IF(INDIRECT($A$14&ROW())<>\"\",COUNTIF(Summary!$B$30:$B$1105,INDIRECT($A$14&ROW())),\"\"),\"\")","v":""},null,null,null,null,null,null,null,null,null,null,null,null,null,null,null,null,null,null,null,null,null,null,null,null,null,null,null,null,null,null,null,null,null,null,null,null,null,null,null,null,null,null,null,null,null,null,null,null,null,null,null,null,null,null,null,null,null,null,null,null,null,null,null,null,1]
[{"$f":"IFERROR(IF(INDIRECT($A$14&ROW())<>\"\",COUNTIF(Summary!$B$30:$B$1105,INDIRECT($A$14&ROW())),\"\"),\"\")","v":""},null,null,null,null,null,null,null,null,null,null,null,null,null,null,null,null,null,null,null,null,null,null,null,null,null,null,null,null,null,null,null,null,null,null,null,null,null,null,null,null,null,null,null,null,null,null,null,null,null,null,null,null,null,null,null,null,null,null,null,null,null,null,null,null,1]
[{"$f":"IFERROR(IF(INDIRECT($A$14&ROW())<>\"\",COUNTIF(Summary!$B$30:$B$1105,INDIRECT($A$14&ROW())),\"\"),\"\")","v":""},null,null,null,null,null,null,null,null,null,null,null,null,null,null,null,null,null,null,null,null,null,null,null,null,null,null,null,null,null,null,null,null,null,null,null,null,null,null,null,null,null,null,null,null,null,null,null,null,null,null,null,null,null,null,null,null,null,null,null,null,null,null,null,null,1]
[{"$f":"IFERROR(IF(INDIRECT($A$14&ROW())<>\"\",COUNTIF(Summary!$B$30:$B$1105,INDIRECT($A$14&ROW())),\"\"),\"\")","v":""},null,null,null,null,null,null,null,null,null,null,null,null,null,null,null,null,null,null,null,null,null,null,null,null,null,null,null,null,null,null,null,null,null,null,null,null,null,null,null,null,null,null,null,null,null,null,null,null,null,null,null,null,null,null,null,null,null,null,null,null,null,null,null,null,4]
[{"$f":"IFERROR(IF(INDIRECT($A$14&ROW())<>\"\",COUNTIF(Summary!$B$30:$B$1105,INDIRECT($A$14&ROW())),\"\"),\"\")","v":""},null,null,null,null,null,null,null,null,null,null,null,null,null,null,null,null,null,null,null,null,null,null,null,null,null,null,null,null,null,null,null,null,null,null,null,null,null,null,null,null,null,null,null,null,null,null,null,null,null,null,null,null,null,null,null,null,null,null,null,null,null,null,null,null,1]
[{"$f":"IFERROR(IF(INDIRECT($A$14&ROW())<>\"\",COUNTIF(Summary!$B$30:$B$1105,INDIRECT($A$14&ROW())),\"\"),\"\")","v":""},null,null,null,null,null,null,null,null,null,null,null,null,null,null,null,null,null,null,null,null,null,null,null,null,null,null,null,null,null,null,null,null,null,null,null,null,null,null,null,null,null,null,null,null,null,null,null,null,null,null,null,null,null,null,null,null,null,null,null,null,null,null,null,null,1]
[{"$f":"IFERROR(IF(INDIRECT($A$14&ROW())<>\"\",COUNTIF(Summary!$B$30:$B$1105,INDIRECT($A$14&ROW())),\"\"),\"\")","v":""},null,null,null,null,null,null,null,null,null,null,null,null,null,null,null,null,null,null,null,null,null,null,null,null,null,null,null,null,null,null,null,null,null,null,null,null,null,null,null,null,null,null,null,null,null,null,null,null,null,null,null,null,null,null,null,null,null,null,null,null,null,null,null,null,1]
[{"$f":"IFERROR(IF(INDIRECT($A$14&ROW())<>\"\",COUNTIF(Summary!$B$30:$B$1105,INDIRECT($A$14&ROW())),\"\"),\"\")","v":""},null,null,null,null,null,null,null,null,null,null,null,null,null,null,null,null,null,null,null,null,null,null,null,null,null,null,null,null,null,null,null,null,null,null,null,null,null,null,null,null,null,null,null,null,null,null,null,null,null,null,null,null,null,null,null,null,null,null,null,null,null,null,null,null,1]
[{"$f":"IFERROR(IF(INDIRECT($A$14&ROW())<>\"\",COUNTIF(Summary!$B$30:$B$1105,INDIRECT($A$14&ROW())),\"\"),\"\")","v":""},null,null,null,null,null,null,null,null,null,null,null,null,null,null,null,null,null,null,null,null,null,null,null,null,null,null,null,null,null,null,null,null,null,null,null,null,null,null,null,null,null,null,null,null,null,null,null,null,null,null,null,null,null,null,null,null,null,null,null,null,null,null,null,null,1]
[{"$f":"IFERROR(IF(INDIRECT($A$14&ROW())<>\"\",COUNTIF(Summary!$B$30:$B$1105,INDIRECT($A$14&ROW())),\"\"),\"\")","v":""},null,null,null,null,null,null,null,null,null,null,null,null,null,null,null,null,null,null,null,null,null,null,null,null,null,null,null,null,null,null,null,null,null,null,null,null,null,null,null,null,null,null,null,null,null,null,null,null,null,null,null,null,null,null,null,null,null,null,null,null,null,null,null,null,1]
[{"$f":"IFERROR(IF(INDIRECT($A$14&ROW())<>\"\",COUNTIF(Summary!$B$30:$B$1105,INDIRECT($A$14&ROW())),\"\"),\"\")","v":""},null,null,null,null,null,null,null,null,null,null,null,null,null,null,null,null,null,null,null,null,null,null,null,null,null,null,null,null,null,null,null,null,null,null,null,null,null,null,null,null,null,null,null,null,null,null,null,null,null,null,null,null,null,null,null,null,null,null,null,null,null,null,null,null,1]
[{"$f":"IFERROR(IF(INDIRECT($A$14&ROW())<>\"\",COUNTIF(Summary!$B$30:$B$1105,INDIRECT($A$14&ROW())),\"\"),\"\")","v":""},null,null,null,null,null,null,null,null,null,null,null,null,null,null,null,null,null,null,null,null,null,null,null,null,null,null,null,null,null,null,null,null,null,null,null,null,null,null,null,null,null,null,null,null,null,null,null,null,null,null,null,null,null,null,null,null,null,null,null,null,null,null,null,null,1]
[{"$f":"IFERROR(IF(INDIRECT($A$14&ROW())<>\"\",COUNTIF(Summary!$B$30:$B$1105,INDIRECT($A$14&ROW())),\"\"),\"\")","v":""},null,null,null,null,null,null,null,null,null,null,null,null,null,null,null,null,null,null,null,null,null,null,null,null,null,null,null,null,null,null,null,null,null,null,null,null,null,null,null,null,null,null,null,null,null,null,null,null,null,null,null,null,null,null,null,null,null,null,null,null,null,null,null,null,1]
[{"$f":"IFERROR(IF(INDIRECT($A$14&ROW())<>\"\",COUNTIF(Summary!$B$30:$B$1105,INDIRECT($A$14&ROW())),\"\"),\"\")","v":""},null,null,null,null,null,null,null,null,null,null,null,null,null,null,null,null,null,null,null,null,null,null,null,null,null,null,null,null,null,null,null,null,null,null,null,null,null,null,null,null,null,null,null,null,null,null,null,null,null,null,null,null,null,null,null,null,null,null,null,null,null,null,null,null,1]
[{"$f":"IFERROR(IF(INDIRECT($A$14&ROW())<>\"\",COUNTIF(Summary!$B$30:$B$1105,INDIRECT($A$14&ROW())),\"\"),\"\")","v":""},null,null,null,null,null,null,null,null,null,null,null,null,null,null,null,null,null,null,null,null,null,null,null,null,null,null,null,null,null,null,null,null,null,null,null,null,null,null,null,null,null,null,null,null,null,null,null,null,null,null,null,null,null,null,null,null,null,null,null,null,null,null,null,null,1]
[{"$f":"IFERROR(IF(INDIRECT($A$14&ROW())<>\"\",COUNTIF(Summary!$B$30:$B$1105,INDIRECT($A$14&ROW())),\"\"),\"\")","v":""},null,null,null,null,null,null,null,null,null,null,null,null,null,null,null,null,null,null,null,null,null,null,null,null,null,null,null,null,null,null,null,null,null,null,null,null,null,null,null,null,null,null,null,null,null,null,null,null,null,null,null,null,null,null,null,null,null,null,null,null,null,null,null,null,1]
[{"$f":"IFERROR(IF(INDIRECT($A$14&ROW())<>\"\",COUNTIF(Summary!$B$30:$B$1105,INDIRECT($A$14&ROW())),\"\"),\"\")","v":""},null,null,null,null,null,null,null,null,null,null,null,null,null,null,null,null,null,null,null,null,null,null,null,null,null,null,null,null,null,null,null,null,null,null,null,null,null,null,null,null,null,null,null,null,null,null,null,null,null,null,null,null,null,null,null,null,null,null,null,null,null,null,null,null,1]
[{"$f":"IFERROR(IF(INDIRECT($A$14&ROW())<>\"\",COUNTIF(Summary!$B$30:$B$1105,INDIRECT($A$14&ROW())),\"\"),\"\")","v":""},null,null,null,null,null,null,null,null,null,null,null,null,null,null,null,null,null,null,null,null,null,null,null,null,null,null,null,null,null,null,null,null,null,null,null,null,null,null,null,null,null,null,null,null,null,null,null,null,null,null,null,null,null,null,null,null,null,null,null,null,null,null,null,null,1]
[{"$f":"IFERROR(IF(INDIRECT($A$14&ROW())<>\"\",COUNTIF(Summary!$B$30:$B$1105,INDIRECT($A$14&ROW())),\"\"),\"\")","v":""},null,null,null,null,null,null,null,null,null,null,null,null,null,null,null,null,null,null,null,null,null,null,null,null,null,null,null,null,null,null,null,null,null,null,null,null,null,null,null,null,null,null,null,null,null,null,null,null,null,null,null,null,null,null,null,null,null,null,null,null,null,null,null,null,1]
[{"$f":"IFERROR(IF(INDIRECT($A$14&ROW())<>\"\",COUNTIF(Summary!$B$30:$B$1105,INDIRECT($A$14&ROW())),\"\"),\"\")","v":""},null,null,null,null,null,null,null,null,null,null,null,null,null,null,null,null,null,null,null,null,null,null,null,null,null,null,null,null,null,null,null,null,null,null,null,null,null,null,null,null,null,null,null,null,null,null,null,null,null,null,null,null,null,null,null,null,null,null,null,null,null,null,null,null,1]
[{"$f":"IFERROR(IF(INDIRECT($A$14&ROW())<>\"\",COUNTIF(Summary!$B$30:$B$1105,INDIRECT($A$14&ROW())),\"\"),\"\")","v":""},null,null,null,null,null,null,null,null,null,null,null,null,null,null,null,null,null,null,null,null,null,null,null,null,null,null,null,null,null,null,null,null,null,null,null,null,null,null,null,null,null,null,null,null,null,null,null,null,null,null,null,null,null,null,null,null,null,null,null,null,null,null,null,null,1]
[{"$f":"IFERROR(IF(INDIRECT($A$14&ROW())<>\"\",COUNTIF(Summary!$B$30:$B$1105,INDIRECT($A$14&ROW())),\"\"),\"\")","v":""},null,null,null,null,null,null,null,null,null,null,null,null,null,null,null,null,null,null,null,null,null,null,null,null,null,null,null,null,null,null,null,null,null,null,null,null,null,null,null,null,null,null,null,null,null,null,null,null,null,null,null,null,null,null,null,null,null,null,null,null,null,null,null,null,1]
[{"$f":"IFERROR(IF(INDIRECT($A$14&ROW())<>\"\",COUNTIF(Summary!$B$30:$B$1105,INDIRECT($A$14&ROW())),\"\"),\"\")","v":""},null,null,null,null,null,null,null,null,null,null,null,null,null,null,null,null,null,null,null,null,null,null,null,null,null,null,null,null,null,null,null,null,null,null,null,null,null,null,null,null,null,null,null,null,null,null,null,null,null,null,null,null,null,null,null,null,null,null,null,null,null,null,null,null,1]
[{"$f":"IFERROR(IF(INDIRECT($A$14&ROW())<>\"\",COUNTIF(Summary!$B$30:$B$1105,INDIRECT($A$14&ROW())),\"\"),\"\")","v":""},null,null,null,null,null,null,null,null,null,null,null,null,null,null,null,null,null,null,null,null,null,null,null,null,null,null,null,null,null,null,null,null,null,null,null,null,null,null,null,null,null,null,null,null,null,null,null,null,null,null,null,null,null,null,null,null,null,null,null,null,null,null,null,null,2]
[{"$f":"IFERROR(IF(INDIRECT($A$14&ROW())<>\"\",COUNTIF(Summary!$B$30:$B$1105,INDIRECT($A$14&ROW())),\"\"),\"\")","v":""},null,null,null,null,null,null,null,null,null,null,null,null,null,null,null,null,null,null,null,null,null,null,null,null,null,null,null,null,null,null,null,null,null,null,null,null,null,null,null,null,null,null,null,null,null,null,null,null,null,null,null,null,null,null,null,null,null,null,null,null,null,null,null,null,1]
[{"$f":"IFERROR(IF(INDIRECT($A$14&ROW())<>\"\",COUNTIF(Summary!$B$30:$B$1105,INDIRECT($A$14&ROW())),\"\"),\"\")","v":""},null,null,null,null,null,null,null,null,null,null,null,null,null,null,null,null,null,null,null,null,null,null,null,null,null,null,null,null,null,null,null,null,null,null,null,null,null,null,null,null,null,null,null,null,null,null,null,null,null,null,null,null,null,null,null,null,null,null,null,null,null,null,null,null,1]
[{"$f":"IFERROR(IF(INDIRECT($A$14&ROW())<>\"\",COUNTIF(Summary!$B$30:$B$1105,INDIRECT($A$14&ROW())),\"\"),\"\")","v":""},null,null,null,null,null,null,null,null,null,null,null,null,null,null,null,null,null,null,null,null,null,null,null,null,null,null,null,null,null,null,null,null,null,null,null,null,null,null,null,null,null,null,null,null,null,null,null,null,null,null,null,null,null,null,null,null,null,null,null,null,null,null,null,null,1]
[{"$f":"IFERROR(IF(INDIRECT($A$14&ROW())<>\"\",COUNTIF(Summary!$B$30:$B$1105,INDIRECT($A$14&ROW())),\"\"),\"\")","v":""},null,null,null,null,null,null,null,null,null,null,null,null,null,null,null,null,null,null,null,null,null,null,null,null,null,null,null,null,null,null,null,null,null,null,null,null,null,null,null,null,null,null,null,null,null,null,null,null,null,null,null,null,null,null,null,null,null,null,null,null,null,null,null,null,1]
[{"$f":"IFERROR(IF(INDIRECT($A$14&ROW())<>\"\",COUNTIF(Summary!$B$30:$B$1105,INDIRECT($A$14&ROW())),\"\"),\"\")","v":""},null,null,null,null,null,null,null,null,null,null,null,null,null,null,null,null,null,null,null,null,null,null,null,null,null,null,null,null,null,null,null,null,null,null,null,null,null,null,null,null,null,null,null,null,null,null,null,null,null,null,null,null,null,null,null,null,null,null,null,null,null,null,null,null,1]
[{"$f":"IFERROR(IF(INDIRECT($A$14&ROW())<>\"\",COUNTIF(Summary!$B$30:$B$1105,INDIRECT($A$14&ROW())),\"\"),\"\")","v":""},null,null,null,null,null,null,null,null,null,null,null,null,null,null,null,null,null,null,null,null,null,null,null,null,null,null,null,null,null,null,null,null,null,null,null,null,null,null,null,null,null,null,null,null,null,null,null,null,null,null,null,null,null,null,null,null,null,null,null,null,null,null,null,null,1]
[{"$f":"IFERROR(IF(INDIRECT($A$14&ROW())<>\"\",COUNTIF(Summary!$B$30:$B$1105,INDIRECT($A$14&ROW())),\"\"),\"\")","v":""},null,null,null,null,null,null,null,null,null,null,null,null,null,null,null,null,null,null,null,null,null,null,null,null,null,null,null,null,null,null,null,null,null,null,null,null,null,null,null,null,null,null,null,null,null,null,null,null,null,null,null,null,null,null,null,null,null,null,null,null,null,null,null,null,1]
[{"$f":"IFERROR(IF(INDIRECT($A$14&ROW())<>\"\",COUNTIF(Summary!$B$30:$B$1105,INDIRECT($A$14&ROW())),\"\"),\"\")","v":""},null,null,null,null,null,null,null,null,null,null,null,null,null,null,null,null,null,null,null,null,null,null,null,null,null,null,null,null,null,null,null,null,null,null,null,null,null,null,null,null,null,null,null,null,null,null,null,null,null,null,null,null,null,null,null,null,null,null,null,null,null,null,null,null,1]
[{"$f":"IFERROR(IF(INDIRECT($A$14&ROW())<>\"\",COUNTIF(Summary!$B$30:$B$1105,INDIRECT($A$14&ROW())),\"\"),\"\")","v":""},null,null,null,null,null,null,null,null,null,null,null,null,null,null,null,null,null,null,null,null,null,null,null,null,null,null,null,null,null,null,null,null,null,null,null,null,null,null,null,null,null,null,null,null,null,null,null,null,null,null,null,null,null,null,null,null,null,null,null,null,null,null,null,null,1]
[{"$f":"IFERROR(IF(INDIRECT($A$14&ROW())<>\"\",COUNTIF(Summary!$B$30:$B$1105,INDIRECT($A$14&ROW())),\"\"),\"\")","v":""},null,null,null,null,null,null,null,null,null,null,null,null,null,null,null,null,null,null,null,null,null,null,null,null,null,null,null,null,null,null,null,null,null,null,null,null,null,null,null,null,null,null,null,null,null,null,null,null,null,null,null,null,null,null,null,null,null,null,null,null,null,null,null,null,1]
[{"$f":"IFERROR(IF(INDIRECT($A$14&ROW())<>\"\",COUNTIF(Summary!$B$30:$B$1105,INDIRECT($A$14&ROW())),\"\"),\"\")","v":""},null,null,null,null,null,null,null,null,null,null,null,null,null,null,null,null,null,null,null,null,null,null,null,null,null,null,null,null,null,null,null,null,null,null,null,null,null,null,null,null,null,null,null,null,null,null,null,null,null,null,null,null,null,null,null,null,null,null,null,null,null,null,null,null,1]
[{"$f":"IFERROR(IF(INDIRECT($A$14&ROW())<>\"\",COUNTIF(Summary!$B$30:$B$1105,INDIRECT($A$14&ROW())),\"\"),\"\")","v":""},null,null,null,null,null,null,null,null,null,null,null,null,null,null,null,null,null,null,null,null,null,null,null,null,null,null,null,null,null,null,null,null,null,null,null,null,null,null,null,null,null,null,null,null,null,null,null,null,null,null,null,null,null,null,null,null,null,null,null,null,null,null,null,null,1]
[{"$f":"IFERROR(IF(INDIRECT($A$14&ROW())<>\"\",COUNTIF(Summary!$B$30:$B$1105,INDIRECT($A$14&ROW())),\"\"),\"\")","v":""},null,null,null,null,null,null,null,null,null,null,null,null,null,null,null,null,null,null,null,null,null,null,null,null,null,null,null,null,null,null,null,null,null,null,null,null,null,null,null,null,null,null,null,null,null,null,null,null,null,null,null,null,null,null,null,null,null,null,null,null,null,null,null,null,1]
[{"$f":"IFERROR(IF(INDIRECT($A$14&ROW())<>\"\",COUNTIF(Summary!$B$30:$B$1105,INDIRECT($A$14&ROW())),\"\"),\"\")","v":""},null,null,null,null,null,null,null,null,null,null,null,null,null,null,null,null,null,null,null,null,null,null,null,null,null,null,null,null,null,null,null,null,null,null,null,null,null,null,null,null,null,null,null,null,null,null,null,null,null,null,null,null,null,null,null,null,null,null,null,null,null,null,null,null,1]
[{"$f":"IFERROR(IF(INDIRECT($A$14&ROW())<>\"\",COUNTIF(Summary!$B$30:$B$1105,INDIRECT($A$14&ROW())),\"\"),\"\")","v":""},null,null,null,null,null,null,null,null,null,null,null,null,null,null,null,null,null,null,null,null,null,null,null,null,null,null,null,null,null,null,null,null,null,null,null,null,null,null,null,null,null,null,null,null,null,null,null,null,null,null,null,null,null,null,null,null,null,null,null,null,null,null,null,null,1]
[{"$f":"IFERROR(IF(INDIRECT($A$14&ROW())<>\"\",COUNTIF(Summary!$B$30:$B$1105,INDIRECT($A$14&ROW())),\"\"),\"\")","v":""},null,null,null,null,null,null,null,null,null,null,null,null,null,null,null,null,null,null,null,null,null,null,null,null,null,null,null,null,null,null,null,null,null,null,null,null,null,null,null,null,null,null,null,null,null,null,null,null,null,null,null,null,null,null,null,null,null,null,null,null,null,null,null,null,1]
[{"$f":"IFERROR(IF(INDIRECT($A$14&ROW())<>\"\",COUNTIF(Summary!$B$30:$B$1105,INDIRECT($A$14&ROW())),\"\"),\"\")","v":""},null,null,null,null,null,null,null,null,null,null,null,null,null,null,null,null,null,null,null,null,null,null,null,null,null,null,null,null,null,null,null,null,null,null,null,null,null,null,null,null,null,null,null,null,null,null,null,null,null,null,null,null,null,null,null,null,null,null,null,null,null,null,null,null,1]
[{"$f":"IFERROR(IF(INDIRECT($A$14&ROW())<>\"\",COUNTIF(Summary!$B$30:$B$1105,INDIRECT($A$14&ROW())),\"\"),\"\")","v":""},null,null,null,null,null,null,null,null,null,null,null,null,null,null,null,null,null,null,null,null,null,null,null,null,null,null,null,null,null,null,null,null,null,null,null,null,null,null,null,null,null,null,null,null,null,null,null,null,null,null,null,null,null,null,null,null,null,null,null,null,null,null,null,null,1]
[{"$f":"IFERROR(IF(INDIRECT($A$14&ROW())<>\"\",COUNTIF(Summary!$B$30:$B$1105,INDIRECT($A$14&ROW())),\"\"),\"\")","v":""},null,null,null,null,null,null,null,null,null,null,null,null,null,null,null,null,null,null,null,null,null,null,null,null,null,null,null,null,null,null,null,null,null,null,null,null,null,null,null,null,null,null,null,null,null,null,null,null,null,null,null,null,null,null,null,null,null,null,null,null,null,null,null,null,1]
[{"$f":"IFERROR(IF(INDIRECT($A$14&ROW())<>\"\",COUNTIF(Summary!$B$30:$B$1105,INDIRECT($A$14&ROW())),\"\"),\"\")","v":""},null,null,null,null,null,null,null,null,null,null,null,null,null,null,null,null,null,null,null,null,null,null,null,null,null,null,null,null,null,null,null,null,null,null,null,null,null,null,null,null,null,null,null,null,null,null,null,null,null,null,null,null,null,null,null,null,null,null,null,null,null,null,null,null,1]
[{"$f":"IFERROR(IF(INDIRECT($A$14&ROW())<>\"\",COUNTIF(Summary!$B$30:$B$1105,INDIRECT($A$14&ROW())),\"\"),\"\")","v":""},null,null,null,null,null,null,null,null,null,null,null,null,null,null,null,null,null,null,null,null,null,null,null,null,null,null,null,null,null,null,null,null,null,null,null,null,null,null,null,null,null,null,null,null,null,null,null,null,null,null,null,null,null,null,null,null,null,null,null,null,null,null,null,null,1]
[{"$f":"IFERROR(IF(INDIRECT($A$14&ROW())<>\"\",COUNTIF(Summary!$B$30:$B$1105,INDIRECT($A$14&ROW())),\"\"),\"\")","v":""},null,null,null,null,null,null,null,null,null,null,null,null,null,null,null,null,null,null,null,null,null,null,null,null,null,null,null,null,null,null,null,null,null,null,null,null,null,null,null,null,null,null,null,null,null,null,null,null,null,null,null,null,null,null,null,null,null,null,null,null,null,null,null,null,1]
[{"$f":"IFERROR(IF(INDIRECT($A$14&ROW())<>\"\",COUNTIF(Summary!$B$30:$B$1105,INDIRECT($A$14&ROW())),\"\"),\"\")","v":""},null,null,null,null,null,null,null,null,null,null,null,null,null,null,null,null,null,null,null,null,null,null,null,null,null,null,null,null,null,null,null,null,null,null,null,null,null,null,null,null,null,null,null,null,null,null,null,null,null,null,null,null,null,null,null,null,null,null,null,null,null,null,null,null,1]
[{"$f":"IFERROR(IF(INDIRECT($A$14&ROW())<>\"\",COUNTIF(Summary!$B$30:$B$1105,INDIRECT($A$14&ROW())),\"\"),\"\")","v":""},null,null,null,null,null,null,null,null,null,null,null,null,null,null,null,null,null,null,null,null,null,null,null,null,null,null,null,null,null,null,null,null,null,null,null,null,null,null,null,null,null,null,null,null,null,null,null,null,null,null,null,null,null,null,null,null,null,null,null,null,null,null,null,null,1]
[{"$f":"IFERROR(IF(INDIRECT($A$14&ROW())<>\"\",COUNTIF(Summary!$B$30:$B$1105,INDIRECT($A$14&ROW())),\"\"),\"\")","v":""},null,null,null,null,null,null,null,null,null,null,null,null,null,null,null,null,null,null,null,null,null,null,null,null,null,null,null,null,null,null,null,null,null,null,null,null,null,null,null,null,null,null,null,null,null,null,null,null,null,null,null,null,null,null,null,null,null,null,null,null,null,null,null,null,1]
[{"$f":"IFERROR(IF(INDIRECT($A$14&ROW())<>\"\",COUNTIF(Summary!$B$30:$B$1105,INDIRECT($A$14&ROW())),\"\"),\"\")","v":""},null,null,null,null,null,null,null,null,null,null,null,null,null,null,null,null,null,null,null,null,null,null,null,null,null,null,null,null,null,null,null,null,null,null,null,null,null,null,null,null,null,null,null,null,null,null,null,null,null,null,null,null,null,null,null,null,null,null,null,null,null,null,null,null,1]
[{"$f":"IFERROR(IF(INDIRECT($A$14&ROW())<>\"\",COUNTIF(Summary!$B$30:$B$1105,INDIRECT($A$14&ROW())),\"\"),\"\")","v":""},null,null,null,null,null,null,null,null,null,null,null,null,null,null,null,null,null,null,null,null,null,null,null,null,null,null,null,null,null,null,null,null,null,null,null,null,null,null,null,null,null,null,null,null,null,null,null,null,null,null,null,null,null,null,null,null,null,null,null,null,null,null,null,null,1]
[{"$f":"IFERROR(IF(INDIRECT($A$14&ROW())<>\"\",COUNTIF(Summary!$B$30:$B$1105,INDIRECT($A$14&ROW())),\"\"),\"\")","v":""},null,null,null,null,null,null,null,null,null,null,null,null,null,null,null,null,null,null,null,null,null,null,null,null,null,null,null,null,null,null,null,null,null,null,null,null,null,null,null,null,null,null,null,null,null,null,null,null,null,null,null,null,null,null,null,null,null,null,null,null,null,null,null,null,1]
[{"$f":"IFERROR(IF(INDIRECT($A$14&ROW())<>\"\",COUNTIF(Summary!$B$30:$B$1105,INDIRECT($A$14&ROW())),\"\"),\"\")","v":""},null,null,null,null,null,null,null,null,null,null,null,null,null,null,null,null,null,null,null,null,null,null,null,null,null,null,null,null,null,null,null,null,null,null,null,null,null,null,null,null,null,null,null,null,null,null,null,null,null,null,null,null,null,null,null,null,null,null,null,null,null,null,null,null,1]
[{"$f":"IFERROR(IF(INDIRECT($A$14&ROW())<>\"\",COUNTIF(Summary!$B$30:$B$1105,INDIRECT($A$14&ROW())),\"\"),\"\")","v":""},null,null,null,null,null,null,null,null,null,null,null,null,null,null,null,null,null,null,null,null,null,null,null,null,null,null,null,null,null,null,null,null,null,null,null,null,null,null,null,null,null,null,null,null,null,null,null,null,null,null,null,null,null,null,null,null,null,null,null,null,null,null,null,null,1]
[{"$f":"IFERROR(IF(INDIRECT($A$14&ROW())<>\"\",COUNTIF(Summary!$B$30:$B$1105,INDIRECT($A$14&ROW())),\"\"),\"\")","v":""},null,null,null,null,null,null,null,null,null,null,null,null,null,null,null,null,null,null,null,null,null,null,null,null,null,null,null,null,null,null,null,null,null,null,null,null,null,null,null,null,null,null,null,null,null,null,null,null,null,null,null,null,null,null,null,null,null,null,null,null,null,null,null,null,1]
[{"$f":"IFERROR(IF(INDIRECT($A$14&ROW())<>\"\",COUNTIF(Summary!$B$30:$B$1105,INDIRECT($A$14&ROW())),\"\"),\"\")","v":""},null,null,null,null,null,null,null,null,null,null,null,null,null,null,null,null,null,null,null,null,null,null,null,null,null,null,null,null,null,null,null,null,null,null,null,null,null,null,null,null,null,null,null,null,null,null,null,null,null,null,null,null,null,null,null,null,null,null,null,null,null,null,null,null,1]
[{"$f":"IFERROR(IF(INDIRECT($A$14&ROW())<>\"\",COUNTIF(Summary!$B$30:$B$1105,INDIRECT($A$14&ROW())),\"\"),\"\")","v":""},null,null,null,null,null,null,null,null,null,null,null,null,null,null,null,null,null,null,null,null,null,null,null,null,null,null,null,null,null,null,null,null,null,null,null,null,null,null,null,null,null,null,null,null,null,null,null,null,null,null,null,null,null,null,null,null,null,null,null,null,null,null,null,null,1]
[{"$f":"IFERROR(IF(INDIRECT($A$14&ROW())<>\"\",COUNTIF(Summary!$B$30:$B$1105,INDIRECT($A$14&ROW())),\"\"),\"\")","v":""},null,null,null,null,null,null,null,null,null,null,null,null,null,null,null,null,null,null,null,null,null,null,null,null,null,null,null,null,null,null,null,null,null,null,null,null,null,null,null,null,null,null,null,null,null,null,null,null,null,null,null,null,null,null,null,null,null,null,null,null,null,null,null,null,3]
[{"$f":"IFERROR(IF(INDIRECT($A$14&ROW())<>\"\",COUNTIF(Summary!$B$30:$B$1105,INDIRECT($A$14&ROW())),\"\"),\"\")","v":""},null,null,null,null,null,null,null,null,null,null,null,null,null,null,null,null,null,null,null,null,null,null,null,null,null,null,null,null,null,null,null,null,null,null,null,null,null,null,null,null,null,null,null,null,null,null,null,null,null,null,null,null,null,null,null,null,null,null,null,null,null,null,null,null,1]
[{"$f":"IFERROR(IF(INDIRECT($A$14&ROW())<>\"\",COUNTIF(Summary!$B$30:$B$1105,INDIRECT($A$14&ROW())),\"\"),\"\")","v":""},null,null,null,null,null,null,null,null,null,null,null,null,null,null,null,null,null,null,null,null,null,null,null,null,null,null,null,null,null,null,null,null,null,null,null,null,null,null,null,null,null,null,null,null,null,null,null,null,null,null,null,null,null,null,null,null,null,null,null,null,null,null,null,null,1]
[{"$f":"IFERROR(IF(INDIRECT($A$14&ROW())<>\"\",COUNTIF(Summary!$B$30:$B$1105,INDIRECT($A$14&ROW())),\"\"),\"\")","v":""},null,null,null,null,null,null,null,null,null,null,null,null,null,null,null,null,null,null,null,null,null,null,null,null,null,null,null,null,null,null,null,null,null,null,null,null,null,null,null,null,null,null,null,null,null,null,null,null,null,null,null,null,null,null,null,null,null,null,null,null,null,null,null,null,-1]
[{"$f":"IFERROR(IF(INDIRECT($A$14&ROW())<>\"\",COUNTIF(Summary!$B$30:$B$1105,INDIRECT($A$14&ROW())),\"\"),\"\")","v":""},null,null,null,null,null,null,null,null,null,null,null,null,null,null,null,null,null,null,null,null,null,null,null,null,null,null,null,null,null,null,null,null,null,null,null,null,null,null,null,null,null,null,null,null,null,null,null,null,null,null,null,null,null,null,null,null,null,null,null,null,null,null,null,null,1]
[{"$f":"IFERROR(IF(INDIRECT($A$14&ROW())<>\"\",COUNTIF(Summary!$B$30:$B$1105,INDIRECT($A$14&ROW())),\"\"),\"\")","v":""},null,null,null,null,null,null,null,null,null,null,null,null,null,null,null,null,null,null,null,null,null,null,null,null,null,null,null,null,null,null,null,null,null,null,null,null,null,null,null,null,null,null,null,null,null,null,null,null,null,null,null,null,null,null,null,null,null,null,null,null,null,null,null,null,1]
[{"$f":"IFERROR(IF(INDIRECT($A$14&ROW())<>\"\",COUNTIF(Summary!$B$30:$B$1105,INDIRECT($A$14&ROW())),\"\"),\"\")","v":""},null,null,null,null,null,null,null,null,null,null,null,null,null,null,null,null,null,null,null,null,null,null,null,null,null,null,null,null,null,null,null,null,null,null,null,null,null,null,null,null,null,null,null,null,null,null,null,null,null,null,null,null,null,null,null,null,null,null,null,null,null,null,null,null,-1]
[{"$f":"IFERROR(IF(INDIRECT($A$14&ROW())<>\"\",COUNTIF(Summary!$B$30:$B$1105,INDIRECT($A$14&ROW())),\"\"),\"\")","v":""},null,null,null,null,null,null,null,null,null,null,null,null,null,null,null,null,null,null,null,null,null,null,null,null,null,null,null,null,null,null,null,null,null,null,null,null,null,null,null,null,null,null,null,null,null,null,null,null,null,null,null,null,null,null,null,null,null,null,null,null,null,null,null,null,1]
[{"$f":"IFERROR(IF(INDIRECT($A$14&ROW())<>\"\",COUNTIF(Summary!$B$30:$B$1105,INDIRECT($A$14&ROW())),\"\"),\"\")","v":""},null,null,null,null,null,null,null,null,null,null,null,null,null,null,null,null,null,null,null,null,null,null,null,null,null,null,null,null,null,null,null,null,null,null,null,null,null,null,null,null,null,null,null,null,null,null,null,null,null,null,null,null,null,null,null,null,null,null,null,null,null,null,null,null,1]
[{"$f":"IFERROR(IF(INDIRECT($A$14&ROW())<>\"\",COUNTIF(Summary!$B$30:$B$1105,INDIRECT($A$14&ROW())),\"\"),\"\")","v":""},null,null,null,null,null,null,null,null,null,null,null,null,null,null,null,null,null,null,null,null,null,null,null,null,null,null,null,null,null,null,null,null,null,null,null,null,null,null,null,null,null,null,null,null,null,null,null,null,null,null,null,null,null,null,null,null,null,null,null,null,null,null,null,null,1]
[{"$f":"IFERROR(IF(INDIRECT($A$14&ROW())<>\"\",COUNTIF(Summary!$B$30:$B$1105,INDIRECT($A$14&ROW())),\"\"),\"\")","v":""},null,null,null,null,null,null,null,null,null,null,null,null,null,null,null,null,null,null,null,null,null,null,null,null,null,null,null,null,null,null,null,null,null,null,null,null,null,null,null,null,null,null,null,null,null,null,null,null,null,null,null,null,null,null,null,null,null,null,null,null,null,null,null,null,-1]
[{"$f":"IFERROR(IF(INDIRECT($A$14&ROW())<>\"\",COUNTIF(Summary!$B$30:$B$1105,INDIRECT($A$14&ROW())),\"\"),\"\")","v":""},null,null,null,null,null,null,null,null,null,null,null,null,null,null,null,null,null,null,null,null,null,null,null,null,null,null,null,null,null,null,null,null,null,null,null,null,null,null,null,null,null,null,null,null,null,null,null,null,null,null,null,null,null,null,null,null,null,null,null,null,null,null,null,null,1]
[{"$f":"IFERROR(IF(INDIRECT($A$14&ROW())<>\"\",COUNTIF(Summary!$B$30:$B$1105,INDIRECT($A$14&ROW())),\"\"),\"\")","v":""},null,null,null,null,null,null,null,null,null,null,null,null,null,null,null,null,null,null,null,null,null,null,null,null,null,null,null,null,null,null,null,null,null,null,null,null,null,null,null,null,null,null,null,null,null,null,null,null,null,null,null,null,null,null,null,null,null,null,null,null,null,null,null,null,1]
[{"$f":"IFERROR(IF(INDIRECT($A$14&ROW())<>\"\",COUNTIF(Summary!$B$30:$B$1105,INDIRECT($A$14&ROW())),\"\"),\"\")","v":""},null,null,null,null,null,null,null,null,null,null,null,null,null,null,null,null,null,null,null,null,null,null,null,null,null,null,null,null,null,null,null,null,null,null,null,null,null,null,null,null,null,null,null,null,null,null,null,null,null,null,null,null,null,null,null,null,null,null,null,null,null,null,null,null,1]
[{"$f":"IFERROR(IF(INDIRECT($A$14&ROW())<>\"\",COUNTIF(Summary!$B$30:$B$1105,INDIRECT($A$14&ROW())),\"\"),\"\")","v":""},null,null,null,null,null,null,null,null,null,null,null,null,null,null,null,null,null,null,null,null,null,null,null,null,null,null,null,null,null,null,null,null,null,null,null,null,null,null,null,null,null,null,null,null,null,null,null,null,null,null,null,null,null,null,null,null,null,null,null,null,null,null,null,null,1]
[{"$f":"IFERROR(IF(INDIRECT($A$14&ROW())<>\"\",COUNTIF(Summary!$B$30:$B$1105,INDIRECT($A$14&ROW())),\"\"),\"\")","v":""},null,null,null,null,null,null,null,null,null,null,null,null,null,null,null,null,null,null,null,null,null,null,null,null,null,null,null,null,null,null,null,null,null,null,null,null,null,null,null,null,null,null,null,null,null,null,null,null,null,null,null,null,null,null,null,null,null,null,null,null,null,null,null,null,1]
[{"$f":"IFERROR(IF(INDIRECT($A$14&ROW())<>\"\",COUNTIF(Summary!$B$30:$B$1105,INDIRECT($A$14&ROW())),\"\"),\"\")","v":""},null,null,null,null,null,null,null,null,null,null,null,null,null,null,null,null,null,null,null,null,null,null,null,null,null,null,null,null,null,null,null,null,null,null,null,null,null,null,null,null,null,null,null,null,null,null,null,null,null,null,null,null,null,null,null,null,null,null,null,null,null,null,null,null,1]
[{"$f":"IFERROR(IF(INDIRECT($A$14&ROW())<>\"\",COUNTIF(Summary!$B$30:$B$1105,INDIRECT($A$14&ROW())),\"\"),\"\")","v":""},null,null,null,null,null,null,null,null,null,null,null,null,null,null,null,null,null,null,null,null,null,null,null,null,null,null,null,null,null,null,null,null,null,null,null,null,null,null,null,null,null,null,null,null,null,null,null,null,null,null,null,null,null,null,null,null,null,null,null,null,null,null,null,null,1]
[{"$f":"IFERROR(IF(INDIRECT($A$14&ROW())<>\"\",COUNTIF(Summary!$B$30:$B$1105,INDIRECT($A$14&ROW())),\"\"),\"\")","v":""},null,null,null,null,null,null,null,null,null,null,null,null,null,null,null,null,null,null,null,null,null,null,null,null,null,null,null,null,null,null,null,null,null,null,null,null,null,null,null,null,null,null,null,null,null,null,null,null,null,null,null,null,null,null,null,null,null,null,null,null,null,null,null,null,1]
[{"$f":"IFERROR(IF(INDIRECT($A$14&ROW())<>\"\",COUNTIF(Summary!$B$30:$B$1105,INDIRECT($A$14&ROW())),\"\"),\"\")","v":""},null,null,null,null,null,null,null,null,null,null,null,null,null,null,null,null,null,null,null,null,null,null,null,null,null,null,null,null,null,null,null,null,null,null,null,null,null,null,null,null,null,null,null,null,null,null,null,null,null,null,null,null,null,null,null,null,null,null,null,null,null,null,null,null,1]
[{"$f":"IFERROR(IF(INDIRECT($A$14&ROW())<>\"\",COUNTIF(Summary!$B$30:$B$1105,INDIRECT($A$14&ROW())),\"\"),\"\")","v":""},null,null,null,null,null,null,null,null,null,null,null,null,null,null,null,null,null,null,null,null,null,null,null,null,null,null,null,null,null,null,null,null,null,null,null,null,null,null,null,null,null,null,null,null,null,null,null,null,null,null,null,null,null,null,null,null,null,null,null,null,null,null,null,null,1]
[{"$f":"IFERROR(IF(INDIRECT($A$14&ROW())<>\"\",COUNTIF(Summary!$B$30:$B$1105,INDIRECT($A$14&ROW())),\"\"),\"\")","v":""},null,null,null,null,null,null,null,null,null,null,null,null,null,null,null,null,null,null,null,null,null,null,null,null,null,null,null,null,null,null,null,null,null,null,null,null,null,null,null,null,null,null,null,null,null,null,null,null,null,null,null,null,null,null,null,null,null,null,null,null,null,null,null,null,1]
[{"$f":"IFERROR(IF(INDIRECT($A$14&ROW())<>\"\",COUNTIF(Summary!$B$30:$B$1105,INDIRECT($A$14&ROW())),\"\"),\"\")","v":""},null,null,null,null,null,null,null,null,null,null,null,null,null,null,null,null,null,null,null,null,null,null,null,null,null,null,null,null,null,null,null,null,null,null,null,null,null,null,null,null,null,null,null,null,null,null,null,null,null,null,null,null,null,null,null,null,null,null,null,null,null,null,null,null,1]
[{"$f":"IFERROR(IF(INDIRECT($A$14&ROW())<>\"\",COUNTIF(Summary!$B$30:$B$1105,INDIRECT($A$14&ROW())),\"\"),\"\")","v":""},null,null,null,null,null,null,null,null,null,null,null,null,null,null,null,null,null,null,null,null,null,null,null,null,null,null,null,null,null,null,null,null,null,null,null,null,null,null,null,null,null,null,null,null,null,null,null,null,null,null,null,null,null,null,null,null,null,null,null,null,null,null,null,null,1]
[{"$f":"IFERROR(IF(INDIRECT($A$14&ROW())<>\"\",COUNTIF(Summary!$B$30:$B$1105,INDIRECT($A$14&ROW())),\"\"),\"\")","v":""},null,null,null,null,null,null,null,null,null,null,null,null,null,null,null,null,null,null,null,null,null,null,null,null,null,null,null,null,null,null,null,null,null,null,null,null,null,null,null,null,null,null,null,null,null,null,null,null,null,null,null,null,null,null,null,null,null,null,null,null,null,null,null,null,1]
[{"$f":"IFERROR(IF(INDIRECT($A$14&ROW())<>\"\",COUNTIF(Summary!$B$30:$B$1105,INDIRECT($A$14&ROW())),\"\"),\"\")","v":""},null,null,null,null,null,null,null,null,null,null,null,null,null,null,null,null,null,null,null,null,null,null,null,null,null,null,null,null,null,null,null,null,null,null,null,null,null,null,null,null,null,null,null,null,null,null,null,null,null,null,null,null,null,null,null,null,null,null,null,null,null,null,null,null,1]
[{"$f":"IFERROR(IF(INDIRECT($A$14&ROW())<>\"\",COUNTIF(Summary!$B$30:$B$1105,INDIRECT($A$14&ROW())),\"\"),\"\")","v":""},null,null,null,null,null,null,null,null,null,null,null,null,null,null,null,null,null,null,null,null,null,null,null,null,null,null,null,null,null,null,null,null,null,null,null,null,null,null,null,null,null,null,null,null,null,null,null,null,null,null,null,null,null,null,null,null,null,null,null,null,null,null,null,null,1]
[{"$f":"IFERROR(IF(INDIRECT($A$14&ROW())<>\"\",COUNTIF(Summary!$B$30:$B$1105,INDIRECT($A$14&ROW())),\"\"),\"\")","v":""},null,null,null,null,null,null,null,null,null,null,null,null,null,null,null,null,null,null,null,null,null,null,null,null,null,null,null,null,null,null,null,null,null,null,null,null,null,null,null,null,null,null,null,null,null,null,null,null,null,null,null,null,null,null,null,null,null,null,null,null,null,null,null,null,1]
[{"$f":"IFERROR(IF(INDIRECT($A$14&ROW())<>\"\",COUNTIF(Summary!$B$30:$B$1105,INDIRECT($A$14&ROW())),\"\"),\"\")","v":""},null,null,null,null,null,null,null,null,null,null,null,null,null,null,null,null,null,null,null,null,null,null,null,null,null,null,null,null,null,null,null,null,null,null,null,null,null,null,null,null,null,null,null,null,null,null,null,null,null,null,null,null,null,null,null,null,null,null,null,null,null,null,null,null,1]
[{"$f":"IFERROR(IF(INDIRECT($A$14&ROW())<>\"\",COUNTIF(Summary!$B$30:$B$1105,INDIRECT($A$14&ROW())),\"\"),\"\")","v":""},null,null,null,null,null,null,null,null,null,null,null,null,null,null,null,null,null,null,null,null,null,null,null,null,null,null,null,null,null,null,null,null,null,null,null,null,null,null,null,null,null,null,null,null,null,null,null,null,null,null,null,null,null,null,null,null,null,null,null,null,null,null,null,null,1]
[{"$f":"IFERROR(IF(INDIRECT($A$14&ROW())<>\"\",COUNTIF(Summary!$B$30:$B$1105,INDIRECT($A$14&ROW())),\"\"),\"\")","v":""},null,null,null,null,null,null,null,null,null,null,null,null,null,null,null,null,null,null,null,null,null,null,null,null,null,null,null,null,null,null,null,null,null,null,null,null,null,null,null,null,null,null,null,null,null,null,null,null,null,null,null,null,null,null,null,null,null,null,null,null,null,null,null,null,1]
[{"$f":"IFERROR(IF(INDIRECT($A$14&ROW())<>\"\",COUNTIF(Summary!$B$30:$B$1105,INDIRECT($A$14&ROW())),\"\"),\"\")","v":""},null,null,null,null,null,null,null,null,null,null,null,null,null,null,null,null,null,null,null,null,null,null,null,null,null,null,null,null,null,null,null,null,null,null,null,null,null,null,null,null,null,null,null,null,null,null,null,null,null,null,null,null,null,null,null,null,null,null,null,null,null,null,null,null,1]
[{"$f":"IFERROR(IF(INDIRECT($A$14&ROW())<>\"\",COUNTIF(Summary!$B$30:$B$1105,INDIRECT($A$14&ROW())),\"\"),\"\")","v":""},null,null,null,null,null,null,null,null,null,null,null,null,null,null,null,null,null,null,null,null,null,null,null,null,null,null,null,null,null,null,null,null,null,null,null,null,null,null,null,null,null,null,null,null,null,null,null,null,null,null,null,null,null,null,null,null,null,null,null,null,null,null,null,null,1]
[{"$f":"IFERROR(IF(INDIRECT($A$14&ROW())<>\"\",COUNTIF(Summary!$B$30:$B$1105,INDIRECT($A$14&ROW())),\"\"),\"\")","v":""},null,null,null,null,null,null,null,null,null,null,null,null,null,null,null,null,null,null,null,null,null,null,null,null,null,null,null,null,null,null,null,null,null,null,null,null,null,null,null,null,null,null,null,null,null,null,null,null,null,null,null,null,null,null,null,null,null,null,null,null,null,null,null,null,1]
[{"$f":"IFERROR(IF(INDIRECT($A$14&ROW())<>\"\",COUNTIF(Summary!$B$30:$B$1105,INDIRECT($A$14&ROW())),\"\"),\"\")","v":""},null,null,null,null,null,null,null,null,null,null,null,null,null,null,null,null,null,null,null,null,null,null,null,null,null,null,null,null,null,null,null,null,null,null,null,null,null,null,null,null,null,null,null,null,null,null,null,null,null,null,null,null,null,null,null,null,null,null,null,null,null,null,null,null,1]
[{"$f":"IFERROR(IF(INDIRECT($A$14&ROW())<>\"\",COUNTIF(Summary!$B$30:$B$1105,INDIRECT($A$14&ROW())),\"\"),\"\")","v":""},null,null,null,null,null,null,null,null,null,null,null,null,null,null,null,null,null,null,null,null,null,null,null,null,null,null,null,null,null,null,null,null,null,null,null,null,null,null,null,null,null,null,null,null,null,null,null,null,null,null,null,null,null,null,null,null,null,null,null,null,null,null,null,null,1]
[{"$f":"IFERROR(IF(INDIRECT($A$14&ROW())<>\"\",COUNTIF(Summary!$B$30:$B$1105,INDIRECT($A$14&ROW())),\"\"),\"\")","v":""},null,null,null,null,null,null,null,null,null,null,null,null,null,null,null,null,null,null,null,null,null,null,null,null,null,null,null,null,null,null,null,null,null,null,null,null,null,null,null,null,null,null,null,null,null,null,null,null,null,null,null,null,null,null,null,null,null,null,null,null,null,null,null,null,1]
[{"$f":"IFERROR(IF(INDIRECT($A$14&ROW())<>\"\",COUNTIF(Summary!$B$30:$B$1105,INDIRECT($A$14&ROW())),\"\"),\"\")","v":""},null,null,null,null,null,null,null,null,null,null,null,null,null,null,null,null,null,null,null,null,null,null,null,null,null,null,null,null,null,null,null,null,null,null,null,null,null,null,null,null,null,null,null,null,null,null,null,null,null,null,null,null,null,null,null,null,null,null,null,null,null,null,null,null,1]
[{"$f":"IFERROR(IF(INDIRECT($A$14&ROW())<>\"\",COUNTIF(Summary!$B$30:$B$1105,INDIRECT($A$14&ROW())),\"\"),\"\")","v":""},null,null,null,null,null,null,null,null,null,null,null,null,null,null,null,null,null,null,null,null,null,null,null,null,null,null,null,null,null,null,null,null,null,null,null,null,null,null,null,null,null,null,null,null,null,null,null,null,null,null,null,null,null,null,null,null,null,null,null,null,null,null,null,null,-1]
[{"$f":"IFERROR(IF(INDIRECT($A$14&ROW())<>\"\",COUNTIF(Summary!$B$30:$B$1105,INDIRECT($A$14&ROW())),\"\"),\"\")","v":""},null,null,null,null,null,null,null,null,null,null,null,null,null,null,null,null,null,null,null,null,null,null,null,null,null,null,null,null,null,null,null,null,null,null,null,null,null,null,null,null,null,null,null,null,null,null,null,null,null,null,null,null,null,null,null,null,null,null,null,null,null,null,null,null,-1]
[{"$f":"IFERROR(IF(INDIRECT($A$14&ROW())<>\"\",COUNTIF(Summary!$B$30:$B$1105,INDIRECT($A$14&ROW())),\"\"),\"\")","v":""},null,null,null,null,null,null,null,null,null,null,null,null,null,null,null,null,null,null,null,null,null,null,null,null,null,null,null,null,null,null,null,null,null,null,null,null,null,null,null,null,null,null,null,null,null,null,null,null,null,null,null,null,null,null,null,null,null,null,null,null,null,null,null,null,-1]
[{"$f":"IFERROR(IF(INDIRECT($A$14&ROW())<>\"\",COUNTIF(Summary!$B$30:$B$1105,INDIRECT($A$14&ROW())),\"\"),\"\")","v":""},null,null,null,null,null,null,null,null,null,null,null,null,null,null,null,null,null,null,null,null,null,null,null,null,null,null,null,null,null,null,null,null,null,null,null,null,null,null,null,null,null,null,null,null,null,null,null,null,null,null,null,null,null,null,null,null,null,null,null,null,null,null,null,null,-1]
[{"$f":"IFERROR(IF(INDIRECT($A$14&ROW())<>\"\",COUNTIF(Summary!$B$30:$B$1105,INDIRECT($A$14&ROW())),\"\"),\"\")","v":""},null,null,null,null,null,null,null,null,null,null,null,null,null,null,null,null,null,null,null,null,null,null,null,null,null,null,null,null,null,null,null,null,null,null,null,null,null,null,null,null,null,null,null,null,null,null,null,null,null,null,null,null,null,null,null,null,null,null,null,null,null,null,null,null,1]
[{"$f":"IFERROR(IF(INDIRECT($A$14&ROW())<>\"\",COUNTIF(Summary!$B$30:$B$1105,INDIRECT($A$14&ROW())),\"\"),\"\")","v":""},null,null,null,null,null,null,null,null,null,null,null,null,null,null,null,null,null,null,null,null,null,null,null,null,null,null,null,null,null,null,null,null,null,null,null,null,null,null,null,null,null,null,null,null,null,null,null,null,null,null,null,null,null,null,null,null,null,null,null,null,null,null,null,null,1]
[{"$f":"IFERROR(IF(INDIRECT($A$14&ROW())<>\"\",COUNTIF(Summary!$B$30:$B$1105,INDIRECT($A$14&ROW())),\"\"),\"\")","v":""},null,null,null,null,null,null,null,null,null,null,null,null,null,null,null,null,null,null,null,null,null,null,null,null,null,null,null,null,null,null,null,null,null,null,null,null,null,null,null,null,null,null,null,null,null,null,null,null,null,null,null,null,null,null,null,null,null,null,null,null,null,null,null,null,1]
[{"$f":"IFERROR(IF(INDIRECT($A$14&ROW())<>\"\",COUNTIF(Summary!$B$30:$B$1105,INDIRECT($A$14&ROW())),\"\"),\"\")","v":""},null,null,null,null,null,null,null,null,null,null,null,null,null,null,null,null,null,null,null,null,null,null,null,null,null,null,null,null,null,null,null,null,null,null,null,null,null,null,null,null,null,null,null,null,null,null,null,null,null,null,null,null,null,null,null,null,null,null,null,null,null,null,null,null,1]
[{"$f":"IFERROR(IF(INDIRECT($A$14&ROW())<>\"\",COUNTIF(Summary!$B$30:$B$1105,INDIRECT($A$14&ROW())),\"\"),\"\")","v":""},null,null,null,null,null,null,null,null,null,null,null,null,null,null,null,null,null,null,null,null,null,null,null,null,null,null,null,null,null,null,null,null,null,null,null,null,null,null,null,null,null,null,null,null,null,null,null,null,null,null,null,null,null,null,null,null,null,null,null,null,null,null,null,null,1]
[{"$f":"IFERROR(IF(INDIRECT($A$14&ROW())<>\"\",COUNTIF(Summary!$B$30:$B$1105,INDIRECT($A$14&ROW())),\"\"),\"\")","v":""},null,null,null,null,null,null,null,null,null,null,null,null,null,null,null,null,null,null,null,null,null,null,null,null,null,null,null,null,null,null,null,null,null,null,null,null,null,null,null,null,null,null,null,null,null,null,null,null,null,null,null,null,null,null,null,null,null,null,null,null,null,null,null,null,-1]
[{"$f":"IFERROR(IF(INDIRECT($A$14&ROW())<>\"\",COUNTIF(Summary!$B$30:$B$1105,INDIRECT($A$14&ROW())),\"\"),\"\")","v":""},null,null,null,null,null,null,null,null,null,null,null,null,null,null,null,null,null,null,null,null,null,null,null,null,null,null,null,null,null,null,null,null,null,null,null,null,null,null,null,null,null,null,null,null,null,null,null,null,null,null,null,null,null,null,null,null,null,null,null,null,null,null,null,null,-1]
[{"$f":"IFERROR(IF(INDIRECT($A$14&ROW())<>\"\",COUNTIF(Summary!$B$30:$B$1105,INDIRECT($A$14&ROW())),\"\"),\"\")","v":""},null,null,null,null,null,null,null,null,null,null,null,null,null,null,null,null,null,null,null,null,null,null,null,null,null,null,null,null,null,null,null,null,null,null,null,null,null,null,null,null,null,null,null,null,null,null,null,null,null,null,null,null,null,null,null,null,null,null,null,null,null,null,null,null,-1]
[{"$f":"IFERROR(IF(INDIRECT($A$14&ROW())<>\"\",COUNTIF(Summary!$B$30:$B$1105,INDIRECT($A$14&ROW())),\"\"),\"\")","v":""},null,null,null,null,null,null,null,null,null,null,null,null,null,null,null,null,null,null,null,null,null,null,null,null,null,null,null,null,null,null,null,null,null,null,null,null,null,null,null,null,null,null,null,null,null,null,null,null,null,null,null,null,null,null,null,null,null,null,null,null,null,null,null,null,-1]
[{"$f":"IFERROR(IF(INDIRECT($A$14&ROW())<>\"\",COUNTIF(Summary!$B$30:$B$1105,INDIRECT($A$14&ROW())),\"\"),\"\")","v":""},null,null,null,null,null,null,null,null,null,null,null,null,null,null,null,null,null,null,null,null,null,null,null,null,null,null,null,null,null,null,null,null,null,null,null,null,null,null,null,null,null,null,null,null,null,null,null,null,null,null,null,null,null,null,null,null,null,null,null,null,null,null,null,null,1]
[{"$f":"IFERROR(IF(INDIRECT($A$14&ROW())<>\"\",COUNTIF(Summary!$B$30:$B$1105,INDIRECT($A$14&ROW())),\"\"),\"\")","v":""},null,null,null,null,null,null,null,null,null,null,null,null,null,null,null,null,null,null,null,null,null,null,null,null,null,null,null,null,null,null,null,null,null,null,null,null,null,null,null,null,null,null,null,null,null,null,null,null,null,null,null,null,null,null,null,null,null,null,null,null,null,null,null,null,1]
[{"$f":"IFERROR(IF(INDIRECT($A$14&ROW())<>\"\",COUNTIF(Summary!$B$30:$B$1105,INDIRECT($A$14&ROW())),\"\"),\"\")","v":""},null,null,null,null,null,null,null,null,null,null,null,null,null,null,null,null,null,null,null,null,null,null,null,null,null,null,null,null,null,null,null,null,null,null,null,null,null,null,null,null,null,null,null,null,null,null,null,null,null,null,null,null,null,null,null,null,null,null,null,null,null,null,null,null,1]
[{"$f":"IFERROR(IF(INDIRECT($A$14&ROW())<>\"\",COUNTIF(Summary!$B$30:$B$1105,INDIRECT($A$14&ROW())),\"\"),\"\")","v":""}]
[{"$f":"IFERROR(IF(INDIRECT($A$14&ROW())<>\"\",COUNTIF(Summary!$B$30:$B$1105,INDIRECT($A$14&ROW())),\"\"),\"\")","v":""}]
[{"$f":"IFERROR(IF(INDIRECT($A$14&ROW())<>\"\",COUNTIF(Summary!$B$30:$B$1105,INDIRECT($A$14&ROW())),\"\"),\"\")","v":""}]
[{"$f":"IFERROR(IF(INDIRECT($A$14&ROW())<>\"\",COUNTIF(Summary!$B$30:$B$1105,INDIRECT($A$14&ROW())),\"\"),\"\")","v":""}]
[{"$f":"IFERROR(IF(INDIRECT($A$14&ROW())<>\"\",COUNTIF(Summary!$B$30:$B$1105,INDIRECT($A$14&ROW())),\"\"),\"\")","v":""}]
[{"$f":"IFERROR(IF(INDIRECT($A$14&ROW())<>\"\",COUNTIF(Summary!$B$30:$B$1105,INDIRECT($A$14&ROW())),\"\"),\"\")","v":""}]
[{"$f":"IFERROR(IF(INDIRECT($A$14&ROW())<>\"\",COUNTIF(Summary!$B$30:$B$1105,INDIRECT($A$14&ROW())),\"\"),\"\")","v":""}]
[{"$f":"IFERROR(IF(INDIRECT($A$14&ROW())<>\"\",COUNTIF(Summary!$B$30:$B$1105,INDIRECT($A$14&ROW())),\"\"),\"\")","v":""}]
[{"$f":"IFERROR(IF(INDIRECT($A$14&ROW())<>\"\",COUNTIF(Summary!$B$30:$B$1105,INDIRECT($A$14&ROW())),\"\"),\"\")","v":""}]
[{"$f":"IFERROR(IF(INDIRECT($A$14&ROW())<>\"\",COUNTIF(Summary!$B$30:$B$1105,INDIRECT($A$14&ROW())),\"\"),\"\")","v":""}]
[{"$f":"IFERROR(IF(INDIRECT($A$14&ROW())<>\"\",COUNTIF(Summary!$B$30:$B$1105,INDIRECT($A$14&ROW())),\"\"),\"\")","v":""}]
[{"$f":"IFERROR(IF(INDIRECT($A$14&ROW())<>\"\",COUNTIF(Summary!$B$30:$B$1105,INDIRECT($A$14&ROW())),\"\"),\"\")","v":""}]
[{"$f":"IFERROR(IF(INDIRECT($A$14&ROW())<>\"\",COUNTIF(Summary!$B$30:$B$1105,INDIRECT($A$14&ROW())),\"\"),\"\")","v":""}]
[{"$f":"IFERROR(IF(INDIRECT($A$14&ROW())<>\"\",COUNTIF(Summary!$B$30:$B$1105,INDIRECT($A$14&ROW())),\"\"),\"\")","v":""}]
[{"$f":"IFERROR(IF(INDIRECT($A$14&ROW())<>\"\",COUNTIF(Summary!$B$30:$B$1105,INDIRECT($A$14&ROW())),\"\"),\"\")","v":""}]
[{"$f":"IFERROR(IF(INDIRECT($A$14&ROW())<>\"\",COUNTIF(Summary!$B$30:$B$1105,INDIRECT($A$14&ROW())),\"\"),\"\")","v":""}]
[{"$f":"IFERROR(IF(INDIRECT($A$14&ROW())<>\"\",COUNTIF(Summary!$B$30:$B$1105,INDIRECT($A$14&ROW())),\"\"),\"\")","v":""}]
[{"$f":"IFERROR(IF(INDIRECT($A$14&ROW())<>\"\",COUNTIF(Summary!$B$30:$B$1105,INDIRECT($A$14&ROW())),\"\"),\"\")","v":""}]
[{"$f":"IFERROR(IF(INDIRECT($A$14&ROW())<>\"\",COUNTIF(Summary!$B$30:$B$1105,INDIRECT($A$14&ROW())),\"\"),\"\")","v":""}]
[{"$f":"IFERROR(IF(INDIRECT($A$14&ROW())<>\"\",COUNTIF(Summary!$B$30:$B$1105,INDIRECT($A$14&ROW())),\"\"),\"\")","v":""}]
[{"$f":"IFERROR(IF(INDIRECT($A$14&ROW())<>\"\",COUNTIF(Summary!$B$30:$B$1105,INDIRECT($A$14&ROW())),\"\"),\"\")","v":""}]
[{"$f":"IFERROR(IF(INDIRECT($A$14&ROW())<>\"\",COUNTIF(Summary!$B$30:$B$1105,INDIRECT($A$14&ROW())),\"\"),\"\")","v":""}]
[{"$f":"IFERROR(IF(INDIRECT($A$14&ROW())<>\"\",COUNTIF(Summary!$B$30:$B$1105,INDIRECT($A$14&ROW())),\"\"),\"\")","v":""}]
[{"$f":"IFERROR(IF(INDIRECT($A$14&ROW())<>\"\",COUNTIF(Summary!$B$30:$B$1105,INDIRECT($A$14&ROW())),\"\"),\"\")","v":""}]
[{"$f":"IFERROR(IF(INDIRECT($A$14&ROW())<>\"\",COUNTIF(Summary!$B$30:$B$1105,INDIRECT($A$14&ROW())),\"\"),\"\")","v":""}]
[{"$f":"IFERROR(IF(INDIRECT($A$14&ROW())<>\"\",COUNTIF(Summary!$B$30:$B$1105,INDIRECT($A$14&ROW())),\"\"),\"\")","v":""}]
[{"$f":"IFERROR(IF(INDIRECT($A$14&ROW())<>\"\",COUNTIF(Summary!$B$30:$B$1105,INDIRECT($A$14&ROW())),\"\"),\"\")","v":""}]
[{"$f":"IFERROR(IF(INDIRECT($A$14&ROW())<>\"\",COUNTIF(Summary!$B$30:$B$1105,INDIRECT($A$14&ROW())),\"\"),\"\")","v":""}]
[{"$f":"IFERROR(IF(INDIRECT($A$14&ROW())<>\"\",COUNTIF(Summary!$B$30:$B$1105,INDIRECT($A$14&ROW())),\"\"),\"\")","v":""}]
[{"$f":"IFERROR(IF(INDIRECT($A$14&ROW())<>\"\",COUNTIF(Summary!$B$30:$B$1105,INDIRECT($A$14&ROW())),\"\"),\"\")","v":""}]
[{"$f":"IFERROR(IF(INDIRECT($A$14&ROW())<>\"\",COUNTIF(Summary!$B$30:$B$1105,INDIRECT($A$14&ROW())),\"\"),\"\")","v":""}]
[{"$f":"IFERROR(IF(INDIRECT($A$14&ROW())<>\"\",COUNTIF(Summary!$B$30:$B$1105,INDIRECT($A$14&ROW())),\"\"),\"\")","v":""}]
[{"$f":"IFERROR(IF(INDIRECT($A$14&ROW())<>\"\",COUNTIF(Summary!$B$30:$B$1105,INDIRECT($A$14&ROW())),\"\"),\"\")","v":""}]
[{"$f":"IFERROR(IF(INDIRECT($A$14&ROW())<>\"\",COUNTIF(Summary!$B$30:$B$1105,INDIRECT($A$14&ROW())),\"\"),\"\")","v":""}]
[{"$f":"IFERROR(IF(INDIRECT($A$14&ROW())<>\"\",COUNTIF(Summary!$B$30:$B$1105,INDIRECT($A$14&ROW())),\"\"),\"\")","v":""}]
[{"$f":"IFERROR(IF(INDIRECT($A$14&ROW())<>\"\",COUNTIF(Summary!$B$30:$B$1105,INDIRECT($A$14&ROW())),\"\"),\"\")","v":""}]
[{"$f":"IFERROR(IF(INDIRECT($A$14&ROW())<>\"\",COUNTIF(Summary!$B$30:$B$1105,INDIRECT($A$14&ROW())),\"\"),\"\")","v":""}]
[{"$f":"IFERROR(IF(INDIRECT($A$14&ROW())<>\"\",COUNTIF(Summary!$B$30:$B$1105,INDIRECT($A$14&ROW())),\"\"),\"\")","v":""}]
[{"$f":"IFERROR(IF(INDIRECT($A$14&ROW())<>\"\",COUNTIF(Summary!$B$30:$B$1105,INDIRECT($A$14&ROW())),\"\"),\"\")","v":""}]
[{"$f":"IFERROR(IF(INDIRECT($A$14&ROW())<>\"\",COUNTIF(Summary!$B$30:$B$1105,INDIRECT($A$14&ROW())),\"\"),\"\")","v":""}]
[{"$f":"IFERROR(IF(INDIRECT($A$14&ROW())<>\"\",COUNTIF(Summary!$B$30:$B$1105,INDIRECT($A$14&ROW())),\"\"),\"\")","v":""}]
[{"$f":"IFERROR(IF(INDIRECT($A$14&ROW())<>\"\",COUNTIF(Summary!$B$30:$B$1105,INDIRECT($A$14&ROW())),\"\"),\"\")","v":""}]
[{"$f":"IFERROR(IF(INDIRECT($A$14&ROW())<>\"\",COUNTIF(Summary!$B$30:$B$1105,INDIRECT($A$14&ROW())),\"\"),\"\")","v":""}]
[{"$f":"IFERROR(IF(INDIRECT($A$14&ROW())<>\"\",COUNTIF(Summary!$B$30:$B$1105,INDIRECT($A$14&ROW())),\"\"),\"\")","v":""}]
[{"$f":"IFERROR(IF(INDIRECT($A$14&ROW())<>\"\",COUNTIF(Summary!$B$30:$B$1105,INDIRECT($A$14&ROW())),\"\"),\"\")","v":""}]
[{"$f":"IFERROR(IF(INDIRECT($A$14&ROW())<>\"\",COUNTIF(Summary!$B$30:$B$1105,INDIRECT($A$14&ROW())),\"\"),\"\")","v":""}]
[{"$f":"IFERROR(IF(INDIRECT($A$14&ROW())<>\"\",COUNTIF(Summary!$B$30:$B$1105,INDIRECT($A$14&ROW())),\"\"),\"\")","v":""}]
[{"$f":"IFERROR(IF(INDIRECT($A$14&ROW())<>\"\",COUNTIF(Summary!$B$30:$B$1105,INDIRECT($A$14&ROW())),\"\"),\"\")","v":""}]
[{"$f":"IFERROR(IF(INDIRECT($A$14&ROW())<>\"\",COUNTIF(Summary!$B$30:$B$1105,INDIRECT($A$14&ROW())),\"\"),\"\")","v":""}]
[{"$f":"IFERROR(IF(INDIRECT($A$14&ROW())<>\"\",COUNTIF(Summary!$B$30:$B$1105,INDIRECT($A$14&ROW())),\"\"),\"\")","v":""}]
[{"$f":"IFERROR(IF(INDIRECT($A$14&ROW())<>\"\",COUNTIF(Summary!$B$30:$B$1105,INDIRECT($A$14&ROW())),\"\"),\"\")","v":""}]
[{"$f":"IFERROR(IF(INDIRECT($A$14&ROW())<>\"\",COUNTIF(Summary!$B$30:$B$1105,INDIRECT($A$14&ROW())),\"\"),\"\")","v":""}]
[{"$f":"IFERROR(IF(INDIRECT($A$14&ROW())<>\"\",COUNTIF(Summary!$B$30:$B$1105,INDIRECT($A$14&ROW())),\"\"),\"\")","v":""}]
[{"$f":"IFERROR(IF(INDIRECT($A$14&ROW())<>\"\",COUNTIF(Summary!$B$30:$B$1105,INDIRECT($A$14&ROW())),\"\"),\"\")","v":""}]
[{"$f":"IFERROR(IF(INDIRECT($A$14&ROW())<>\"\",COUNTIF(Summary!$B$30:$B$1105,INDIRECT($A$14&ROW())),\"\"),\"\")","v":""}]
[{"$f":"IFERROR(IF(INDIRECT($A$14&ROW())<>\"\",COUNTIF(Summary!$B$30:$B$1105,INDIRECT($A$14&ROW())),\"\"),\"\")","v":""}]
[{"$f":"IFERROR(IF(INDIRECT($A$14&ROW())<>\"\",COUNTIF(Summary!$B$30:$B$1105,INDIRECT($A$14&ROW())),\"\"),\"\")","v":""}]
[{"$f":"IFERROR(IF(INDIRECT($A$14&ROW())<>\"\",COUNTIF(Summary!$B$30:$B$1105,INDIRECT($A$14&ROW())),\"\"),\"\")","v":""}]
[{"$f":"IFERROR(IF(INDIRECT($A$14&ROW())<>\"\",COUNTIF(Summary!$B$30:$B$1105,INDIRECT($A$14&ROW())),\"\"),\"\")","v":""}]
[{"$f":"IFERROR(IF(INDIRECT($A$14&ROW())<>\"\",COUNTIF(Summary!$B$30:$B$1105,INDIRECT($A$14&ROW())),\"\"),\"\")","v":""}]
[{"$f":"IFERROR(IF(INDIRECT($A$14&ROW())<>\"\",COUNTIF(Summary!$B$30:$B$1105,INDIRECT($A$14&ROW())),\"\"),\"\")","v":""}]
[{"$f":"IFERROR(IF(INDIRECT($A$14&ROW())<>\"\",COUNTIF(Summary!$B$30:$B$1105,INDIRECT($A$14&ROW())),\"\"),\"\")","v":""}]
[{"$f":"IFERROR(IF(INDIRECT($A$14&ROW())<>\"\",COUNTIF(Summary!$B$30:$B$1105,INDIRECT($A$14&ROW())),\"\"),\"\")","v":""}]
[{"$f":"IFERROR(IF(INDIRECT($A$14&ROW())<>\"\",COUNTIF(Summary!$B$30:$B$1105,INDIRECT($A$14&ROW())),\"\"),\"\")","v":""}]
[{"$f":"IFERROR(IF(INDIRECT($A$14&ROW())<>\"\",COUNTIF(Summary!$B$30:$B$1105,INDIRECT($A$14&ROW())),\"\"),\"\")","v":""}]
[{"$f":"IFERROR(IF(INDIRECT($A$14&ROW())<>\"\",COUNTIF(Summary!$B$30:$B$1105,INDIRECT($A$14&ROW())),\"\"),\"\")","v":""}]
[{"$f":"IFERROR(IF(INDIRECT($A$14&ROW())<>\"\",COUNTIF(Summary!$B$30:$B$1105,INDIRECT($A$14&ROW())),\"\"),\"\")","v":""}]
[{"$f":"IFERROR(IF(INDIRECT($A$14&ROW())<>\"\",COUNTIF(Summary!$B$30:$B$1105,INDIRECT($A$14&ROW())),\"\"),\"\")","v":""}]
[{"$f":"IFERROR(IF(INDIRECT($A$14&ROW())<>\"\",COUNTIF(Summary!$B$30:$B$1105,INDIRECT($A$14&ROW())),\"\"),\"\")","v":""}]
[{"$f":"IFERROR(IF(INDIRECT($A$14&ROW())<>\"\",COUNTIF(Summary!$B$30:$B$1105,INDIRECT($A$14&ROW())),\"\"),\"\")","v":""}]
[{"$f":"IFERROR(IF(INDIRECT($A$14&ROW())<>\"\",COUNTIF(Summary!$B$30:$B$1105,INDIRECT($A$14&ROW())),\"\"),\"\")","v":""}]
[{"$f":"IFERROR(IF(INDIRECT($A$14&ROW())<>\"\",COUNTIF(Summary!$B$30:$B$1105,INDIRECT($A$14&ROW())),\"\"),\"\")","v":""}]
[{"$f":"IFERROR(IF(INDIRECT($A$14&ROW())<>\"\",COUNTIF(Summary!$B$30:$B$1105,INDIRECT($A$14&ROW())),\"\"),\"\")","v":""}]
[{"$f":"IFERROR(IF(INDIRECT($A$14&ROW())<>\"\",COUNTIF(Summary!$B$30:$B$1105,INDIRECT($A$14&ROW())),\"\"),\"\")","v":""}]
[{"$f":"IFERROR(IF(INDIRECT($A$14&ROW())<>\"\",COUNTIF(Summary!$B$30:$B$1105,INDIRECT($A$14&ROW())),\"\"),\"\")","v":""}]
[{"$f":"IFERROR(IF(INDIRECT($A$14&ROW())<>\"\",COUNTIF(Summary!$B$30:$B$1105,INDIRECT($A$14&ROW())),\"\"),\"\")","v":""}]
[{"$f":"IFERROR(IF(INDIRECT($A$14&ROW())<>\"\",COUNTIF(Summary!$B$30:$B$1105,INDIRECT($A$14&ROW())),\"\"),\"\")","v":""}]
[{"$f":"IFERROR(IF(INDIRECT($A$14&ROW())<>\"\",COUNTIF(Summary!$B$30:$B$1105,INDIRECT($A$14&ROW())),\"\"),\"\")","v":""}]
[{"$f":"IFERROR(IF(INDIRECT($A$14&ROW())<>\"\",COUNTIF(Summary!$B$30:$B$1105,INDIRECT($A$14&ROW())),\"\"),\"\")","v":""}]
[{"$f":"IFERROR(IF(INDIRECT($A$14&ROW())<>\"\",COUNTIF(Summary!$B$30:$B$1105,INDIRECT($A$14&ROW())),\"\"),\"\")","v":""}]
[{"$f":"IFERROR(IF(INDIRECT($A$14&ROW())<>\"\",COUNTIF(Summary!$B$30:$B$1105,INDIRECT($A$14&ROW())),\"\"),\"\")","v":""}]
[{"$f":"IFERROR(IF(INDIRECT($A$14&ROW())<>\"\",COUNTIF(Summary!$B$30:$B$1105,INDIRECT($A$14&ROW())),\"\"),\"\")","v":""}]
[{"$f":"IFERROR(IF(INDIRECT($A$14&ROW())<>\"\",COUNTIF(Summary!$B$30:$B$1105,INDIRECT($A$14&ROW())),\"\"),\"\")","v":""}]
[{"$f":"IFERROR(IF(INDIRECT($A$14&ROW())<>\"\",COUNTIF(Summary!$B$30:$B$1105,INDIRECT($A$14&ROW())),\"\"),\"\")","v":""}]
[{"$f":"IFERROR(IF(INDIRECT($A$14&ROW())<>\"\",COUNTIF(Summary!$B$30:$B$1105,INDIRECT($A$14&ROW())),\"\"),\"\")","v":""}]
[{"$f":"IFERROR(IF(INDIRECT($A$14&ROW())<>\"\",COUNTIF(Summary!$B$30:$B$1105,INDIRECT($A$14&ROW())),\"\"),\"\")","v":""}]
[{"$f":"IFERROR(IF(INDIRECT($A$14&ROW())<>\"\",COUNTIF(Summary!$B$30:$B$1105,INDIRECT($A$14&ROW())),\"\"),\"\")","v":""}]
[{"$f":"IFERROR(IF(INDIRECT($A$14&ROW())<>\"\",COUNTIF(Summary!$B$30:$B$1105,INDIRECT($A$14&ROW())),\"\"),\"\")","v":""}]
[{"$f":"IFERROR(IF(INDIRECT($A$14&ROW())<>\"\",COUNTIF(Summary!$B$30:$B$1105,INDIRECT($A$14&ROW())),\"\"),\"\")","v":""}]
[{"$f":"IFERROR(IF(INDIRECT($A$14&ROW())<>\"\",COUNTIF(Summary!$B$30:$B$1105,INDIRECT($A$14&ROW())),\"\"),\"\")","v":""}]
[{"$f":"IFERROR(IF(INDIRECT($A$14&ROW())<>\"\",COUNTIF(Summary!$B$30:$B$1105,INDIRECT($A$14&ROW())),\"\"),\"\")","v":""}]
[{"$f":"IFERROR(IF(INDIRECT($A$14&ROW())<>\"\",COUNTIF(Summary!$B$30:$B$1105,INDIRECT($A$14&ROW())),\"\"),\"\")","v":""}]
[{"$f":"IFERROR(IF(INDIRECT($A$14&ROW())<>\"\",COUNTIF(Summary!$B$30:$B$1105,INDIRECT($A$14&ROW())),\"\"),\"\")","v":""}]
[{"$f":"IFERROR(IF(INDIRECT($A$14&ROW())<>\"\",COUNTIF(Summary!$B$30:$B$1105,INDIRECT($A$14&ROW())),\"\"),\"\")","v":""}]
[{"$f":"IFERROR(IF(INDIRECT($A$14&ROW())<>\"\",COUNTIF(Summary!$B$30:$B$1105,INDIRECT($A$14&ROW())),\"\"),\"\")","v":""}]
[{"$f":"IFERROR(IF(INDIRECT($A$14&ROW())<>\"\",COUNTIF(Summary!$B$30:$B$1105,INDIRECT($A$14&ROW())),\"\"),\"\")","v":""}]
[{"$f":"IFERROR(IF(INDIRECT($A$14&ROW())<>\"\",COUNTIF(Summary!$B$30:$B$1105,INDIRECT($A$14&ROW())),\"\"),\"\")","v":""}]
[{"$f":"IFERROR(IF(INDIRECT($A$14&ROW())<>\"\",COUNTIF(Summary!$B$30:$B$1105,INDIRECT($A$14&ROW())),\"\"),\"\")","v":""}]
[{"$f":"IFERROR(IF(INDIRECT($A$14&ROW())<>\"\",COUNTIF(Summary!$B$30:$B$1105,INDIRECT($A$14&ROW())),\"\"),\"\")","v":""}]
[{"$f":"IFERROR(IF(INDIRECT($A$14&ROW())<>\"\",COUNTIF(Summary!$B$30:$B$1105,INDIRECT($A$14&ROW())),\"\"),\"\")","v":""}]
[{"$f":"IFERROR(IF(INDIRECT($A$14&ROW())<>\"\",COUNTIF(Summary!$B$30:$B$1105,INDIRECT($A$14&ROW())),\"\"),\"\")","v":""}]
[{"$f":"IFERROR(IF(INDIRECT($A$14&ROW())<>\"\",COUNTIF(Summary!$B$30:$B$1105,INDIRECT($A$14&ROW())),\"\"),\"\")","v":""}]
[{"$f":"IFERROR(IF(INDIRECT($A$14&ROW())<>\"\",COUNTIF(Summary!$B$30:$B$1105,INDIRECT($A$14&ROW())),\"\"),\"\")","v":""}]
[{"$f":"IFERROR(IF(INDIRECT($A$14&ROW())<>\"\",COUNTIF(Summary!$B$30:$B$1105,INDIRECT($A$14&ROW())),\"\"),\"\")","v":""}]
[{"$f":"IFERROR(IF(INDIRECT($A$14&ROW())<>\"\",COUNTIF(Summary!$B$30:$B$1105,INDIRECT($A$14&ROW())),\"\"),\"\")","v":""}]
[{"$f":"IFERROR(IF(INDIRECT($A$14&ROW())<>\"\",COUNTIF(Summary!$B$30:$B$1105,INDIRECT($A$14&ROW())),\"\"),\"\")","v":""}]
[{"$f":"IFERROR(IF(INDIRECT($A$14&ROW())<>\"\",COUNTIF(Summary!$B$30:$B$1105,INDIRECT($A$14&ROW())),\"\"),\"\")","v":""}]
[{"$f":"IFERROR(IF(INDIRECT($A$14&ROW())<>\"\",COUNTIF(Summary!$B$30:$B$1105,INDIRECT($A$14&ROW())),\"\"),\"\")","v":""}]
[{"$f":"IFERROR(IF(INDIRECT($A$14&ROW())<>\"\",COUNTIF(Summary!$B$30:$B$1105,INDIRECT($A$14&ROW())),\"\"),\"\")","v":""}]
[{"$f":"IFERROR(IF(INDIRECT($A$14&ROW())<>\"\",COUNTIF(Summary!$B$30:$B$1105,INDIRECT($A$14&ROW())),\"\"),\"\")","v":""}]
[{"$f":"IFERROR(IF(INDIRECT($A$14&ROW())<>\"\",COUNTIF(Summary!$B$30:$B$1105,INDIRECT($A$14&ROW())),\"\"),\"\")","v":""}]
[{"$f":"IFERROR(IF(INDIRECT($A$14&ROW())<>\"\",COUNTIF(Summary!$B$30:$B$1105,INDIRECT($A$14&ROW())),\"\"),\"\")","v":""}]
[{"$f":"IFERROR(IF(INDIRECT($A$14&ROW())<>\"\",COUNTIF(Summary!$B$30:$B$1105,INDIRECT($A$14&ROW())),\"\"),\"\")","v":""}]
[{"$f":"IFERROR(IF(INDIRECT($A$14&ROW())<>\"\",COUNTIF(Summary!$B$30:$B$1105,INDIRECT($A$14&ROW())),\"\"),\"\")","v":""}]
[{"$f":"IFERROR(IF(INDIRECT($A$14&ROW())<>\"\",COUNTIF(Summary!$B$30:$B$1105,INDIRECT($A$14&ROW())),\"\"),\"\")","v":""}]
[{"$f":"IFERROR(IF(INDIRECT($A$14&ROW())<>\"\",COUNTIF(Summary!$B$30:$B$1105,INDIRECT($A$14&ROW())),\"\"),\"\")","v":""}]
[{"$f":"IFERROR(IF(INDIRECT($A$14&ROW())<>\"\",COUNTIF(Summary!$B$30:$B$1105,INDIRECT($A$14&ROW())),\"\"),\"\")","v":""}]
[{"$f":"IFERROR(IF(INDIRECT($A$14&ROW())<>\"\",COUNTIF(Summary!$B$30:$B$1105,INDIRECT($A$14&ROW())),\"\"),\"\")","v":""}]
[{"$f":"IFERROR(IF(INDIRECT($A$14&ROW())<>\"\",COUNTIF(Summary!$B$30:$B$1105,INDIRECT($A$14&ROW())),\"\"),\"\")","v":""}]
[{"$f":"IFERROR(IF(INDIRECT($A$14&ROW())<>\"\",COUNTIF(Summary!$B$30:$B$1105,INDIRECT($A$14&ROW())),\"\"),\"\")","v":""}]
[{"$f":"IFERROR(IF(INDIRECT($A$14&ROW())<>\"\",COUNTIF(Summary!$B$30:$B$1105,INDIRECT($A$14&ROW())),\"\"),\"\")","v":""}]
[{"$f":"IFERROR(IF(INDIRECT($A$14&ROW())<>\"\",COUNTIF(Summary!$B$30:$B$1105,INDIRECT($A$14&ROW())),\"\"),\"\")","v":""}]
[{"$f":"IFERROR(IF(INDIRECT($A$14&ROW())<>\"\",COUNTIF(Summary!$B$30:$B$1105,INDIRECT($A$14&ROW())),\"\"),\"\")","v":""}]
[{"$f":"IFERROR(IF(INDIRECT($A$14&ROW())<>\"\",COUNTIF(Summary!$B$30:$B$1105,INDIRECT($A$14&ROW())),\"\"),\"\")","v":""}]
[{"$f":"IFERROR(IF(INDIRECT($A$14&ROW())<>\"\",COUNTIF(Summary!$B$30:$B$1105,INDIRECT($A$14&ROW())),\"\"),\"\")","v":""}]
[{"$f":"IFERROR(IF(INDIRECT($A$14&ROW())<>\"\",COUNTIF(Summary!$B$30:$B$1105,INDIRECT($A$14&ROW())),\"\"),\"\")","v":""}]
[{"$f":"IFERROR(IF(INDIRECT($A$14&ROW())<>\"\",COUNTIF(Summary!$B$30:$B$1105,INDIRECT($A$14&ROW())),\"\"),\"\")","v":""}]
[{"$f":"IFERROR(IF(INDIRECT($A$14&ROW())<>\"\",COUNTIF(Summary!$B$30:$B$1105,INDIRECT($A$14&ROW())),\"\"),\"\")","v":""}]
[{"$f":"IFERROR(IF(INDIRECT($A$14&ROW())<>\"\",COUNTIF(Summary!$B$30:$B$1105,INDIRECT($A$14&ROW())),\"\"),\"\")","v":""}]
[{"$f":"IFERROR(IF(INDIRECT($A$14&ROW())<>\"\",COUNTIF(Summary!$B$30:$B$1105,INDIRECT($A$14&ROW())),\"\"),\"\")","v":""}]
[{"$f":"IFERROR(IF(INDIRECT($A$14&ROW())<>\"\",COUNTIF(Summary!$B$30:$B$1105,INDIRECT($A$14&ROW())),\"\"),\"\")","v":""}]
[{"$f":"IFERROR(IF(INDIRECT($A$14&ROW())<>\"\",COUNTIF(Summary!$B$30:$B$1105,INDIRECT($A$14&ROW())),\"\"),\"\")","v":""}]
[{"$f":"IFERROR(IF(INDIRECT($A$14&ROW())<>\"\",COUNTIF(Summary!$B$30:$B$1105,INDIRECT($A$14&ROW())),\"\"),\"\")","v":""}]
[{"$f":"IFERROR(IF(INDIRECT($A$14&ROW())<>\"\",COUNTIF(Summary!$B$30:$B$1105,INDIRECT($A$14&ROW())),\"\"),\"\")","v":""}]
[{"$f":"IFERROR(IF(INDIRECT($A$14&ROW())<>\"\",COUNTIF(Summary!$B$30:$B$1105,INDIRECT($A$14&ROW())),\"\"),\"\")","v":""}]
[{"$f":"IFERROR(IF(INDIRECT($A$14&ROW())<>\"\",COUNTIF(Summary!$B$30:$B$1105,INDIRECT($A$14&ROW())),\"\"),\"\")","v":""}]
[{"$f":"IFERROR(IF(INDIRECT($A$14&ROW())<>\"\",COUNTIF(Summary!$B$30:$B$1105,INDIRECT($A$14&ROW())),\"\"),\"\")","v":""}]
[{"$f":"IFERROR(IF(INDIRECT($A$14&ROW())<>\"\",COUNTIF(Summary!$B$30:$B$1105,INDIRECT($A$14&ROW())),\"\"),\"\")","v":""}]
[{"$f":"IFERROR(IF(INDIRECT($A$14&ROW())<>\"\",COUNTIF(Summary!$B$30:$B$1105,INDIRECT($A$14&ROW())),\"\"),\"\")","v":""}]
[{"$f":"IFERROR(IF(INDIRECT($A$14&ROW())<>\"\",COUNTIF(Summary!$B$30:$B$1105,INDIRECT($A$14&ROW())),\"\"),\"\")","v":""}]
[{"$f":"IFERROR(IF(INDIRECT($A$14&ROW())<>\"\",COUNTIF(Summary!$B$30:$B$1105,INDIRECT($A$14&ROW())),\"\"),\"\")","v":""}]
[{"$f":"IFERROR(IF(INDIRECT($A$14&ROW())<>\"\",COUNTIF(Summary!$B$30:$B$1105,INDIRECT($A$14&ROW())),\"\"),\"\")","v":""}]
[{"$f":"IFERROR(IF(INDIRECT($A$14&ROW())<>\"\",COUNTIF(Summary!$B$30:$B$1105,INDIRECT($A$14&ROW())),\"\"),\"\")","v":""}]
[{"$f":"IFERROR(IF(INDIRECT($A$14&ROW())<>\"\",COUNTIF(Summary!$B$30:$B$1105,INDIRECT($A$14&ROW())),\"\"),\"\")","v":""}]
[{"$f":"IFERROR(IF(INDIRECT($A$14&ROW())<>\"\",COUNTIF(Summary!$B$30:$B$1105,INDIRECT($A$14&ROW())),\"\"),\"\")","v":""}]
[{"$f":"IFERROR(IF(INDIRECT($A$14&ROW())<>\"\",COUNTIF(Summary!$B$30:$B$1105,INDIRECT($A$14&ROW())),\"\"),\"\")","v":""}]
[{"$f":"IFERROR(IF(INDIRECT($A$14&ROW())<>\"\",COUNTIF(Summary!$B$30:$B$1105,INDIRECT($A$14&ROW())),\"\"),\"\")","v":""}]
[{"$f":"IFERROR(IF(INDIRECT($A$14&ROW())<>\"\",COUNTIF(Summary!$B$30:$B$1105,INDIRECT($A$14&ROW())),\"\"),\"\")","v":""}]
[{"$f":"IFERROR(IF(INDIRECT($A$14&ROW())<>\"\",COUNTIF(Summary!$B$30:$B$1105,INDIRECT($A$14&ROW())),\"\"),\"\")","v":""}]
[{"$f":"IFERROR(IF(INDIRECT($A$14&ROW())<>\"\",COUNTIF(Summary!$B$30:$B$1105,INDIRECT($A$14&ROW())),\"\"),\"\")","v":""}]
[{"$f":"IFERROR(IF(INDIRECT($A$14&ROW())<>\"\",COUNTIF(Summary!$B$30:$B$1105,INDIRECT($A$14&ROW())),\"\"),\"\")","v":""}]
[{"$f":"IFERROR(IF(INDIRECT($A$14&ROW())<>\"\",COUNTIF(Summary!$B$30:$B$1105,INDIRECT($A$14&ROW())),\"\"),\"\")","v":""}]
[{"$f":"IFERROR(IF(INDIRECT($A$14&ROW())<>\"\",COUNTIF(Summary!$B$30:$B$1105,INDIRECT($A$14&ROW())),\"\"),\"\")","v":""}]
[{"$f":"IFERROR(IF(INDIRECT($A$14&ROW())<>\"\",COUNTIF(Summary!$B$30:$B$1105,INDIRECT($A$14&ROW())),\"\"),\"\")","v":""}]
[{"$f":"IFERROR(IF(INDIRECT($A$14&ROW())<>\"\",COUNTIF(Summary!$B$30:$B$1105,INDIRECT($A$14&ROW())),\"\"),\"\")","v":""}]
[{"$f":"IFERROR(IF(INDIRECT($A$14&ROW())<>\"\",COUNTIF(Summary!$B$30:$B$1105,INDIRECT($A$14&ROW())),\"\"),\"\")","v":""}]
[{"$f":"IFERROR(IF(INDIRECT($A$14&ROW())<>\"\",COUNTIF(Summary!$B$30:$B$1105,INDIRECT($A$14&ROW())),\"\"),\"\")","v":""}]
[{"$f":"IFERROR(IF(INDIRECT($A$14&ROW())<>\"\",COUNTIF(Summary!$B$30:$B$1105,INDIRECT($A$14&ROW())),\"\"),\"\")","v":""}]
[{"$f":"IFERROR(IF(INDIRECT($A$14&ROW())<>\"\",COUNTIF(Summary!$B$30:$B$1105,INDIRECT($A$14&ROW())),\"\"),\"\")","v":""}]
[{"$f":"IFERROR(IF(INDIRECT($A$14&ROW())<>\"\",COUNTIF(Summary!$B$30:$B$1105,INDIRECT($A$14&ROW())),\"\"),\"\")","v":""}]
[{"$f":"IFERROR(IF(INDIRECT($A$14&ROW())<>\"\",COUNTIF(Summary!$B$30:$B$1105,INDIRECT($A$14&ROW())),\"\"),\"\")","v":""}]
[{"$f":"IFERROR(IF(INDIRECT($A$14&ROW())<>\"\",COUNTIF(Summary!$B$30:$B$1105,INDIRECT($A$14&ROW())),\"\"),\"\")","v":""}]
[{"$f":"IFERROR(IF(INDIRECT($A$14&ROW())<>\"\",COUNTIF(Summary!$B$30:$B$1105,INDIRECT($A$14&ROW())),\"\"),\"\")","v":""}]
[{"$f":"IFERROR(IF(INDIRECT($A$14&ROW())<>\"\",COUNTIF(Summary!$B$30:$B$1105,INDIRECT($A$14&ROW())),\"\"),\"\")","v":""}]
[{"$f":"IFERROR(IF(INDIRECT($A$14&ROW())<>\"\",COUNTIF(Summary!$B$30:$B$1105,INDIRECT($A$14&ROW())),\"\"),\"\")","v":""}]
[{"$f":"IFERROR(IF(INDIRECT($A$14&ROW())<>\"\",COUNTIF(Summary!$B$30:$B$1105,INDIRECT($A$14&ROW())),\"\"),\"\")","v":""}]
[{"$f":"IFERROR(IF(INDIRECT($A$14&ROW())<>\"\",COUNTIF(Summary!$B$30:$B$1105,INDIRECT($A$14&ROW())),\"\"),\"\")","v":""}]
[{"$f":"IFERROR(IF(INDIRECT($A$14&ROW())<>\"\",COUNTIF(Summary!$B$30:$B$1105,INDIRECT($A$14&ROW())),\"\"),\"\")","v":""}]
[{"$f":"IFERROR(IF(INDIRECT($A$14&ROW())<>\"\",COUNTIF(Summary!$B$30:$B$1105,INDIRECT($A$14&ROW())),\"\"),\"\")","v":""}]
[{"$f":"IFERROR(IF(INDIRECT($A$14&ROW())<>\"\",COUNTIF(Summary!$B$30:$B$1105,INDIRECT($A$14&ROW())),\"\"),\"\")","v":""}]
[{"$f":"IFERROR(IF(INDIRECT($A$14&ROW())<>\"\",COUNTIF(Summary!$B$30:$B$1105,INDIRECT($A$14&ROW())),\"\"),\"\")","v":""}]
[{"$f":"IFERROR(IF(INDIRECT($A$14&ROW())<>\"\",COUNTIF(Summary!$B$30:$B$1105,INDIRECT($A$14&ROW())),\"\"),\"\")","v":""}]
[{"$f":"IFERROR(IF(INDIRECT($A$14&ROW())<>\"\",COUNTIF(Summary!$B$30:$B$1105,INDIRECT($A$14&ROW())),\"\"),\"\")","v":""}]
[{"$f":"IFERROR(IF(INDIRECT($A$14&ROW())<>\"\",COUNTIF(Summary!$B$30:$B$1105,INDIRECT($A$14&ROW())),\"\"),\"\")","v":""}]
[{"$f":"IFERROR(IF(INDIRECT($A$14&ROW())<>\"\",COUNTIF(Summary!$B$30:$B$1105,INDIRECT($A$14&ROW())),\"\"),\"\")","v":""}]
[{"$f":"IFERROR(IF(INDIRECT($A$14&ROW())<>\"\",COUNTIF(Summary!$B$30:$B$1105,INDIRECT($A$14&ROW())),\"\"),\"\")","v":""}]
[{"$f":"IFERROR(IF(INDIRECT($A$14&ROW())<>\"\",COUNTIF(Summary!$B$30:$B$1105,INDIRECT($A$14&ROW())),\"\"),\"\")","v":""}]
[{"$f":"IFERROR(IF(INDIRECT($A$14&ROW())<>\"\",COUNTIF(Summary!$B$30:$B$1105,INDIRECT($A$14&ROW())),\"\"),\"\")","v":""}]
[{"$f":"IFERROR(IF(INDIRECT($A$14&ROW())<>\"\",COUNTIF(Summary!$B$30:$B$1105,INDIRECT($A$14&ROW())),\"\"),\"\")","v":""}]
[{"$f":"IFERROR(IF(INDIRECT($A$14&ROW())<>\"\",COUNTIF(Summary!$B$30:$B$1105,INDIRECT($A$14&ROW())),\"\"),\"\")","v":""}]
[{"$f":"IFERROR(IF(INDIRECT($A$14&ROW())<>\"\",COUNTIF(Summary!$B$30:$B$1105,INDIRECT($A$14&ROW())),\"\"),\"\")","v":""}]
[{"$f":"IFERROR(IF(INDIRECT($A$14&ROW())<>\"\",COUNTIF(Summary!$B$30:$B$1105,INDIRECT($A$14&ROW())),\"\"),\"\")","v":""}]
[{"$f":"IFERROR(IF(INDIRECT($A$14&ROW())<>\"\",COUNTIF(Summary!$B$30:$B$1105,INDIRECT($A$14&ROW())),\"\"),\"\")","v":""}]
[{"$f":"IFERROR(IF(INDIRECT($A$14&ROW())<>\"\",COUNTIF(Summary!$B$30:$B$1105,INDIRECT($A$14&ROW())),\"\"),\"\")","v":""}]
[{"$f":"IFERROR(IF(INDIRECT($A$14&ROW())<>\"\",COUNTIF(Summary!$B$30:$B$1105,INDIRECT($A$14&ROW())),\"\"),\"\")","v":""}]
[{"$f":"IFERROR(IF(INDIRECT($A$14&ROW())<>\"\",COUNTIF(Summary!$B$30:$B$1105,INDIRECT($A$14&ROW())),\"\"),\"\")","v":""}]
[{"$f":"IFERROR(IF(INDIRECT($A$14&ROW())<>\"\",COUNTIF(Summary!$B$30:$B$1105,INDIRECT($A$14&ROW())),\"\"),\"\")","v":""}]
[{"$f":"IFERROR(IF(INDIRECT($A$14&ROW())<>\"\",COUNTIF(Summary!$B$30:$B$1105,INDIRECT($A$14&ROW())),\"\"),\"\")","v":""}]
[{"$f":"IFERROR(IF(INDIRECT($A$14&ROW())<>\"\",COUNTIF(Summary!$B$30:$B$1105,INDIRECT($A$14&ROW())),\"\"),\"\")","v":""}]
[{"$f":"IFERROR(IF(INDIRECT($A$14&ROW())<>\"\",COUNTIF(Summary!$B$30:$B$1105,INDIRECT($A$14&ROW())),\"\"),\"\")","v":""}]
[{"$f":"IFERROR(IF(INDIRECT($A$14&ROW())<>\"\",COUNTIF(Summary!$B$30:$B$1105,INDIRECT($A$14&ROW())),\"\"),\"\")","v":""}]
[{"$f":"IFERROR(IF(INDIRECT($A$14&ROW())<>\"\",COUNTIF(Summary!$B$30:$B$1105,INDIRECT($A$14&ROW())),\"\"),\"\")","v":""}]
[{"$f":"IFERROR(IF(INDIRECT($A$14&ROW())<>\"\",COUNTIF(Summary!$B$30:$B$1105,INDIRECT($A$14&ROW())),\"\"),\"\")","v":""}]
[{"$f":"IFERROR(IF(INDIRECT($A$14&ROW())<>\"\",COUNTIF(Summary!$B$30:$B$1105,INDIRECT($A$14&ROW())),\"\"),\"\")","v":""}]
[{"$f":"IFERROR(IF(INDIRECT($A$14&ROW())<>\"\",COUNTIF(Summary!$B$30:$B$1105,INDIRECT($A$14&ROW())),\"\"),\"\")","v":""}]
[{"$f":"IFERROR(IF(INDIRECT($A$14&ROW())<>\"\",COUNTIF(Summary!$B$30:$B$1105,INDIRECT($A$14&ROW())),\"\"),\"\")","v":""}]
[{"$f":"IFERROR(IF(INDIRECT($A$14&ROW())<>\"\",COUNTIF(Summary!$B$30:$B$1105,INDIRECT($A$14&ROW())),\"\"),\"\")","v":""}]
[{"$f":"IFERROR(IF(INDIRECT($A$14&ROW())<>\"\",COUNTIF(Summary!$B$30:$B$1105,INDIRECT($A$14&ROW())),\"\"),\"\")","v":""}]
[{"$f":"IFERROR(IF(INDIRECT($A$14&ROW())<>\"\",COUNTIF(Summary!$B$30:$B$1105,INDIRECT($A$14&ROW())),\"\"),\"\")","v":""}]
[{"$f":"IFERROR(IF(INDIRECT($A$14&ROW())<>\"\",COUNTIF(Summary!$B$30:$B$1105,INDIRECT($A$14&ROW())),\"\"),\"\")","v":""}]
[{"$f":"IFERROR(IF(INDIRECT($A$14&ROW())<>\"\",COUNTIF(Summary!$B$30:$B$1105,INDIRECT($A$14&ROW())),\"\"),\"\")","v":""}]
[{"$f":"IFERROR(IF(INDIRECT($A$14&ROW())<>\"\",COUNTIF(Summary!$B$30:$B$1105,INDIRECT($A$14&ROW())),\"\"),\"\")","v":""}]
[{"$f":"IFERROR(IF(INDIRECT($A$14&ROW())<>\"\",COUNTIF(Summary!$B$30:$B$1105,INDIRECT($A$14&ROW())),\"\"),\"\")","v":""}]
[{"$f":"IFERROR(IF(INDIRECT($A$14&ROW())<>\"\",COUNTIF(Summary!$B$30:$B$1105,INDIRECT($A$14&ROW())),\"\"),\"\")","v":""}]
[{"$f":"IFERROR(IF(INDIRECT($A$14&ROW())<>\"\",COUNTIF(Summary!$B$30:$B$1105,INDIRECT($A$14&ROW())),\"\"),\"\")","v":""}]
[{"$f":"IFERROR(IF(INDIRECT($A$14&ROW())<>\"\",COUNTIF(Summary!$B$30:$B$1105,INDIRECT($A$14&ROW())),\"\"),\"\")","v":""}]
[{"$f":"IFERROR(IF(INDIRECT($A$14&ROW())<>\"\",COUNTIF(Summary!$B$30:$B$1105,INDIRECT($A$14&ROW())),\"\"),\"\")","v":""}]
[{"$f":"IFERROR(IF(INDIRECT($A$14&ROW())<>\"\",COUNTIF(Summary!$B$30:$B$1105,INDIRECT($A$14&ROW())),\"\"),\"\")","v":""}]
[{"$f":"IFERROR(IF(INDIRECT($A$14&ROW())<>\"\",COUNTIF(Summary!$B$30:$B$1105,INDIRECT($A$14&ROW())),\"\"),\"\")","v":""}]
[{"$f":"IFERROR(IF(INDIRECT($A$14&ROW())<>\"\",COUNTIF(Summary!$B$30:$B$1105,INDIRECT($A$14&ROW())),\"\"),\"\")","v":""}]
[{"$f":"IFERROR(IF(INDIRECT($A$14&ROW())<>\"\",COUNTIF(Summary!$B$30:$B$1105,INDIRECT($A$14&ROW())),\"\"),\"\")","v":""}]
[{"$f":"IFERROR(IF(INDIRECT($A$14&ROW())<>\"\",COUNTIF(Summary!$B$30:$B$1105,INDIRECT($A$14&ROW())),\"\"),\"\")","v":""}]
[{"$f":"IFERROR(IF(INDIRECT($A$14&ROW())<>\"\",COUNTIF(Summary!$B$30:$B$1105,INDIRECT($A$14&ROW())),\"\"),\"\")","v":""}]
[{"$f":"IFERROR(IF(INDIRECT($A$14&ROW())<>\"\",COUNTIF(Summary!$B$30:$B$1105,INDIRECT($A$14&ROW())),\"\"),\"\")","v":""}]
[{"$f":"IFERROR(IF(INDIRECT($A$14&ROW())<>\"\",COUNTIF(Summary!$B$30:$B$1105,INDIRECT($A$14&ROW())),\"\"),\"\")","v":""}]
[{"$f":"IFERROR(IF(INDIRECT($A$14&ROW())<>\"\",COUNTIF(Summary!$B$30:$B$1105,INDIRECT($A$14&ROW())),\"\"),\"\")","v":""}]
[{"$f":"IFERROR(IF(INDIRECT($A$14&ROW())<>\"\",COUNTIF(Summary!$B$30:$B$1105,INDIRECT($A$14&ROW())),\"\"),\"\")","v":""}]
[{"$f":"IFERROR(IF(INDIRECT($A$14&ROW())<>\"\",COUNTIF(Summary!$B$30:$B$1105,INDIRECT($A$14&ROW())),\"\"),\"\")","v":""}]
[{"$f":"IFERROR(IF(INDIRECT($A$14&ROW())<>\"\",COUNTIF(Summary!$B$30:$B$1105,INDIRECT($A$14&ROW())),\"\"),\"\")","v":""}]
[{"$f":"IFERROR(IF(INDIRECT($A$14&ROW())<>\"\",COUNTIF(Summary!$B$30:$B$1105,INDIRECT($A$14&ROW())),\"\"),\"\")","v":""}]
[{"$f":"IFERROR(IF(INDIRECT($A$14&ROW())<>\"\",COUNTIF(Summary!$B$30:$B$1105,INDIRECT($A$14&ROW())),\"\"),\"\")","v":""}]
[{"$f":"IFERROR(IF(INDIRECT($A$14&ROW())<>\"\",COUNTIF(Summary!$B$30:$B$1105,INDIRECT($A$14&ROW())),\"\"),\"\")","v":""}]
[{"$f":"IFERROR(IF(INDIRECT($A$14&ROW())<>\"\",COUNTIF(Summary!$B$30:$B$1105,INDIRECT($A$14&ROW())),\"\"),\"\")","v":""}]
[{"$f":"IFERROR(IF(INDIRECT($A$14&ROW())<>\"\",COUNTIF(Summary!$B$30:$B$1105,INDIRECT($A$14&ROW())),\"\"),\"\")","v":""}]
[{"$f":"IFERROR(IF(INDIRECT($A$14&ROW())<>\"\",COUNTIF(Summary!$B$30:$B$1105,INDIRECT($A$14&ROW())),\"\"),\"\")","v":""}]
[{"$f":"IFERROR(IF(INDIRECT($A$14&ROW())<>\"\",COUNTIF(Summary!$B$30:$B$1105,INDIRECT($A$14&ROW())),\"\"),\"\")","v":""}]
[{"$f":"IFERROR(IF(INDIRECT($A$14&ROW())<>\"\",COUNTIF(Summary!$B$30:$B$1105,INDIRECT($A$14&ROW())),\"\"),\"\")","v":""}]
[{"$f":"IFERROR(IF(INDIRECT($A$14&ROW())<>\"\",COUNTIF(Summary!$B$30:$B$1105,INDIRECT($A$14&ROW())),\"\"),\"\")","v":""}]
[{"$f":"IFERROR(IF(INDIRECT($A$14&ROW())<>\"\",COUNTIF(Summary!$B$30:$B$1105,INDIRECT($A$14&ROW())),\"\"),\"\")","v":""}]
[{"$f":"IFERROR(IF(INDIRECT($A$14&ROW())<>\"\",COUNTIF(Summary!$B$30:$B$1105,INDIRECT($A$14&ROW())),\"\"),\"\")","v":""}]
[{"$f":"IFERROR(IF(INDIRECT($A$14&ROW())<>\"\",COUNTIF(Summary!$B$30:$B$1105,INDIRECT($A$14&ROW())),\"\"),\"\")","v":""}]
[{"$f":"IFERROR(IF(INDIRECT($A$14&ROW())<>\"\",COUNTIF(Summary!$B$30:$B$1105,INDIRECT($A$14&ROW())),\"\"),\"\")","v":""}]
[{"$f":"IFERROR(IF(INDIRECT($A$14&ROW())<>\"\",COUNTIF(Summary!$B$30:$B$1105,INDIRECT($A$14&ROW())),\"\"),\"\")","v":""}]
[{"$f":"IFERROR(IF(INDIRECT($A$14&ROW())<>\"\",COUNTIF(Summary!$B$30:$B$1105,INDIRECT($A$14&ROW())),\"\"),\"\")","v":""}]
[{"$f":"IFERROR(IF(INDIRECT($A$14&ROW())<>\"\",COUNTIF(Summary!$B$30:$B$1105,INDIRECT($A$14&ROW())),\"\"),\"\")","v":""}]
[{"$f":"IFERROR(IF(INDIRECT($A$14&ROW())<>\"\",COUNTIF(Summary!$B$30:$B$1105,INDIRECT($A$14&ROW())),\"\"),\"\")","v":""}]
[{"$f":"IFERROR(IF(INDIRECT($A$14&ROW())<>\"\",COUNTIF(Summary!$B$30:$B$1105,INDIRECT($A$14&ROW())),\"\"),\"\")","v":""}]
[{"$f":"IFERROR(IF(INDIRECT($A$14&ROW())<>\"\",COUNTIF(Summary!$B$30:$B$1105,INDIRECT($A$14&ROW())),\"\"),\"\")","v":""}]
[{"$f":"IFERROR(IF(INDIRECT($A$14&ROW())<>\"\",COUNTIF(Summary!$B$30:$B$1105,INDIRECT($A$14&ROW())),\"\"),\"\")","v":""}]
[{"$f":"IFERROR(IF(INDIRECT($A$14&ROW())<>\"\",COUNTIF(Summary!$B$30:$B$1105,INDIRECT($A$14&ROW())),\"\"),\"\")","v":""}]
[{"$f":"IFERROR(IF(INDIRECT($A$14&ROW())<>\"\",COUNTIF(Summary!$B$30:$B$1105,INDIRECT($A$14&ROW())),\"\"),\"\")","v":""}]
[]
[null,"Copyright © 2013 by Oracle Symphony Sdn Bhd"]
[]
[null,null,null,null,null,null,null,null,null,null,null,null,null,null,null,null,null,null,null,null,null,null,null,null,null,null,null,null,null,null,null,null,null,null,null,null,null,null,null,null,null,null,null,null,null,null,null,null,null,null,null,null,"DH16 91116:MGL CHK",1]
[null,null,null,null,null,null,null,null,null,null,null,null,null,null,null,null,null,null,null,null,null,null,null,null,null,null,null,null,null,null,null,null,null,null,null,null,null,null,null,null,null,null,null,null,null,null,null,null,null,null,null,null,"DD02 1202:FREN FRIES",1]
[null,null,null,null,null,null,null,null,null,null,null,null,null,null,null,null,null,null,null,null,null,null,null,null,null,null,null,null,null,null,null,null,null,null,null,null,null,null,null,null,null,null,null,null,null,null,null,null,null,null,null,null,"DD02 1202:FREN FRIES",1]
[null,null,null,null,null,null,null,null,null,null,null,null,null,null,null,null,null,null,null,null,null,null,null,null,null,null,null,null,null,null,null,null,null,null,null,null,null,null,null,null,null,null,null,null,null,null,null,null,null,null,null,null,"DD17 1308 C/CALAMARI",1]
[null,null,null,null,null,null,null,null,null,null,null,null,null,null,null,null,null,null,null,null,null,null,null,null,null,null,null,null,null,null,null,null,null,null,null,null,null,null,null,null,null,null,null,null,null,null,null,null,null,null,null,null,"DD21 1312:Mc HASH BRW",1]
[null,null,null,null,null,null,null,null,null,null,null,null,null,null,null,null,null,null,null,null,null,null,null,null,null,null,null,null,null,null,null,null,null,null,null,null,null,null,null,null,null,null,null,null,null,null,null,null,null,null,null,null,"DI11 91302:NUGGET",1]
[null,null,null,null,null,null,null,null,null,null,null,null,null,null,null,null,null,null,null,null,null,null,null,null,null,null,null,null,null,null,null,null,null,null,null,null,null,null,null,null,null,null,null,null,null,null,null,null,null,null,null,null,"DE02 SET 1390",1]
[null,null,null,null,null,null,null,null,null,null,null,null,null,null,null,null,null,null,null,null,null,null,null,null,null,null,null,null,null,null,null,null,null,null,null,null,null,null,null,null,null,null,null,null,null,null,null,null,null,null,null,null,"DE02 SET 1390",1]
[null,null,null,null,null,null,null,null,null,null,null,null,null,null,null,null,null,null,null,null,null,null,null,null,null,null,null,null,null,null,null,null,null,null,null,null,null,null,null,null,null,null,null,null,null,null,null,null,null,null,null,null,"DE02 SET 1390",1]
[null,null,null,null,null,null,null,null,null,null,null,null,null,null,null,null,null,null,null,null,null,null,null,null,null,null,null,null,null,null,null,null,null,null,null,null,null,null,null,null,null,null,null,null,null,null,null,null,null,null,null,null,"DE01 SET 990",1]
[null,null,null,null,null,null,null,null,null,null,null,null,null,null,null,null,null,null,null,null,null,null,null,null,null,null,null,null,null,null,null,null,null,null,null,null,null,null,null,null,null,null,null,null,null,null,null,null,null,null,null,null,"DE01 SET 990",1]
[null,null,null,null,null,null,null,null,null,null,null,null,null,null,null,null,null,null,null,null,null,null,null,null,null,null,null,null,null,null,null,null,null,null,null,null,null,null,null,null,null,null,null,null,null,null,null,null,null,null,null,null,"DE01 SET 990",1]
[null,null,null,null,null,null,null,null,null,null,null,null,null,null,null,null,null,null,null,null,null,null,null,null,null,null,null,null,null,null,null,null,null,null,null,null,null,null,null,null,null,null,null,null,null,null,null,null,null,null,null,null,"DE01 SET 990",1]
[null,null,null,null,null,null,null,null,null,null,null,null,null,null,null,null,null,null,null,null,null,null,null,null,null,null,null,null,null,null,null,null,null,null,null,null,null,null,null,null,null,null,null,null,null,null,null,null,null,null,null,null,"DF07 ADD SAUCE C.PADI",1]
[null,null,null,null,null,null,null,null,null,null,null,null,null,null,null,null,null,null,null,null,null,null,null,null,null,null,null,null,null,null,null,null,null,null,null,null,null,null,null,null,null,null,null,null,null,null,null,null,null,null,null,null,"DF09 ADD SAUCE MAYO",1]
[null,null,null,null,null,null,null,null,null,null,null,null,null,null,null,null,null,null,null,null,null,null,null,null,null,null,null,null,null,null,null,null,null,null,null,null,null,null,null,null,null,null,null,null,null,null,null,null,null,null,null,null,"DF14 ADD SAUCE TOMATO",1]
[null,null,null,null,null,null,null,null,null,null,null,null,null,null,null,null,null,null,null,null,null,null,null,null,null,null,null,null,null,null,null,null,null,null,null,null,null,null,null,null,null,null,null,null,null,null,null,null,null,null,null,null,"DF14 ADD SAUCE TOMATO",1]
[null,null,null,null,null,null,null,null,null,null,null,null,null,null,null,null,null,null,null,null,null,null,null,null,null,null,null,null,null,null,null,null,null,null,null,null,null,null,null,null,null,null,null,null,null,null,null,null,null,null,null,null,"GA09 LIGHTER",1]
[null,null,null,null,null,null,null,null,null,null,null,null,null,null,null,null,null,null,null,null,null,null,null,null,null,null,null,null,null,null,null,null,null,null,null,null,null,null,null,null,null,null,null,null,null,null,null,null,null,null,null,null,"GC01 CARD NEW",1]
[null,null,null,null,null,null,null,null,null,null,null,null,null,null,null,null,null,null,null,null,null,null,null,null,null,null,null,null,null,null,null,null,null,null,null,null,null,null,null,null,null,null,null,null,null,null,null,null,null,null,null,null,"GC01 CARD NEW",1]
[null,null,null,null,null,null,null,null,null,null,null,null,null,null,null,null,null,null,null,null,null,null,null,null,null,null,null,null,null,null,null,null,null,null,null,null,null,null,null,null,null,null,null,null,null,null,null,null,null,null,null,null,"GC01 CARD NEW",1]
[null,null,null,null,null,null,null,null,null,null,null,null,null,null,null,null,null,null,null,null,null,null,null,null,null,null,null,null,null,null,null,null,null,null,null,null,null,null,null,null,null,null,null,null,null,null,null,null,null,null,null,null,"GD02 MIKE COVER 03",1]
[null,null,null,null,null,null,null,null,null,null,null,null,null,null,null,null,null,null,null,null,null,null,null,null,null,null,null,null,null,null,null,null,null,null,null,null,null,null,null,null,null,null,null,null,null,null,null,null,null,null,null,null,"DL06 3001:9'HAWAIIAN",1]
[null,null,null,null,null,null,null,null,null,null,null,null,null,null,null,null,null,null,null,null,null,null,null,null,null,null,null,null,null,null,null,null,null,null,null,null,null,null,null,null,null,null,null,null,null,null,null,null,null,null,null,null,"DL06 3001:9'HAWAIIAN",1]
[null,null,null,null,null,null,null,null,null,null,null,null,null,null,null,null,null,null,null,null,null,null,null,null,null,null,null,null,null,null,null,null,null,null,null,null,null,null,null,null,null,null,null,null,null,null,null,null,null,null,null,null,"AC33 N : XTD VIP ROOM",1]
[null,null,null,null,null,null,null,null,null,null,null,null,null,null,null,null,null,null,null,null,null,null,null,null,null,null,null,null,null,null,null,null,null,null,null,null,null,null,null,null,null,null,null,null,null,null,null,null,null,null,null,null,"GE07 DUNHILL ICE",1]
[null,null,null,null,null,null,null,null,null,null,null,null,null,null,null,null,null,null,null,null,null,null,null,null,null,null,null,null,null,null,null,null,null,null,null,null,null,null,null,null,null,null,null,null,null,null,null,null,null,null,null,null,"GE02 DUNHILL LITE",1]
[null,null,null,null,null,null,null,null,null,null,null,null,null,null,null,null,null,null,null,null,null,null,null,null,null,null,null,null,null,null,null,null,null,null,null,null,null,null,null,null,null,null,null,null,null,null,null,null,null,null,null,null,"GE04 DUNHILL MT LITE",1]

{"sheet":"STOCK ANALYSIS","index":3,"n_rows":93,"n_cols":20,"rows_kept":93,"cut":false,"hidden":false,"merged":[[17,19,18,19],[71,1,71,4],[78,1,78,4],[6,3,6,4],[9,3,9,4],[42,1,42,2],[31,1,31,2],[61,1,61,2]]}
[]
[]
[null,null,"MONTHLY KITCHEN STOCK SUMMARY "]
[null,null,"每月厨房货物总结表"]
[]
[]
[null,null,"OUTLET KITCHEN ","CCS"]
[null,null,"分行厨房"]
[]
[null,null,"YEAR / MONTH","SEPTEMBER  2013"]
[null,null,"年/月"]
[]
[]
[]
[null,"ITEM","PRODUCT DESCRIPTION","PRICE","UOM","FOR CCS KITCHEN "]
[null,"项目","食材产品","价格","单位","A","B","C","D","E","F","G","H","I","J","K","L","M","M","N"]
[null,null,null,null,null,null,null,null,null,null,null,null,null,"=C+D+E+F+G","=A+B-H",null,"=K-J","=L / J","=UP*L","=L / I"]
[null,null,null,null,null,"OPENING","PURCHASE","USAGE ","USAGE ","USAGE ","CUSTOMER REQUEST /","DISPOSED","USAGE ","TOTAL","BOOKING","STOCK ","DIFF.","DIFF.","LOSS/GAIN","STOCK DIFF OVER USAGE"]
[null,null,null,null,null,"STOCK",null,"IN K LUNCH & K DINNER","IN SIDE ORDER","IN LOK LOK","STAFF MEAL","STOCK","IN LOK LOK","USAGE ","INVENTORY","TAKE "]
[null,null,null,null,null,"上月存货","购买数量","K LUNCH / DINNER  用量","附加菜 用量","渌渌 用量","顾客请求/员工餐","本月抛弃","渌渌用量","总用量","账面存货","本月点货","差异","%差异","盈亏 (RM)"]
[]
["MAIN SAUCE 主要酱料"]
[null,1,"BLACK PEPPER SAUCE",3.88,"KG",3.2,38.299999999999997,{"$f":"SUMIF('SAUCE USAGE'!$J$26:$J$66,C23,'SAUCE USAGE'!$L$26:$L$66)/1000","v":1.62},{"$f":"SUMIF('SAUCE USAGE'!$J$69:$J$109,C23,'SAUCE USAGE'!$L$69:$L$109)/1000","v":0.18},{"$f":"SUMIF('SAUCE USAGE'!$J$110:$J$128,'STOCK ANALYSIS'!C23,'SAUCE USAGE'!$L$110:$L$128)/1000","v":0},{"$f":"SUMIF('SAUCE USAGE'!$J$11:$J$24,C23,'SAUCE USAGE'!$L$11:$L$24)/1000","v":0},null,null,{"$f":"SUM(H23:M23)","v":1.8},{"$f":"+F23+G23-N23","v":39.700000000000003},{"$f":"SUMIF('CLOSING STOCK'!$B$108:$B$119,'STOCK ANALYSIS'!C23,'CLOSING STOCK'!$L$108:$L$119)","v":3.3},{"$f":"+P23-O23","v":-36.400000000000006},{"$f":"IF(O23=0,\"\",Q23/O23)","v":-0.91687657430730485},{"$f":"+Q23*D23","v":-141.23200000000003},{"$f":"+Q23/N23","v":-20.222222222222225}]
[null,2,"BLACK PEPPER SAUCE (UDON)",3.88,"KG",1.9,4.3,{"$f":"SUMIF('SAUCE USAGE'!$J$26:$J$66,C24,'SAUCE USAGE'!$L$26:$L$66)/1000","v":0.21},{"$f":"SUMIF('SAUCE USAGE'!$J$69:$J$109,C24,'SAUCE USAGE'!$L$69:$L$109)/1000","v":0.14000000000000001},{"$f":"SUMIF('SAUCE USAGE'!$J$110:$J$128,'STOCK ANALYSIS'!C24,'SAUCE USAGE'!$L$110:$L$128)/1000","v":0},{"$f":"SUMIF('SAUCE USAGE'!$J$11:$J$24,C24,'SAUCE USAGE'!$L$11:$L$24)/1000","v":0},null,null,{"$f":"SUM(H24:M24)","v":0.35},5.85,{"$f":"SUMIF('CLOSING STOCK'!$B$108:$B$119,'STOCK ANALYSIS'!C24,'CLOSING STOCK'!$L$108:$L$119)","v":1.7},{"$f":"+P24-O24","v":-4.1499999999999995},-0.70940170940170932,{"$f":"+Q24*D24","v":-16.101999999999997},{"$f":"+Q24/N24","v":-11.857142857142856}]
[null,{"$f":"+B24+1","v":3},"BOLOGNESE SAUCE",11.35,"KG",7.9,12,{"$f":"SUMIF('SAUCE USAGE'!$J$26:$J$66,C25,'SAUCE USAGE'!$L$26:$L$66)/1000","v":1.8},{"$f":"SUMIF('SAUCE USAGE'!$J$69:$J$109,C25,'SAUCE USAGE'!$L$69:$L$109)/1000","v":0.15},{"$f":"SUMIF('SAUCE USAGE'!$J$110:$J$128,'STOCK ANALYSIS'!C25,'SAUCE USAGE'!$L$110:$L$128)/1000","v":0},{"$f":"SUMIF('SAUCE USAGE'!$J$11:$J$24,C25,'SAUCE USAGE'!$L$11:$L$24)/1000","v":0},null,null,1.95,17.95,{"$f":"SUMIF('CLOSING STOCK'!$B$108:$B$119,'STOCK ANALYSIS'!C25,'CLOSING STOCK'!$L$108:$L$119)","v":6.5},-11.45,-0.63788300835654599,-129.95749999999998,-5.8717948717948714]
[null,{"$f":"+B25+1","v":4},"BUTTER CREAM SAUCE",5.9,"KG",0.5,16.812000000000001,{"$f":"SUMIF('SAUCE USAGE'!$J$26:$J$66,C26,'SAUCE USAGE'!$L$26:$L$66)/1000","v":0.375},{"$f":"SUMIF('SAUCE USAGE'!$J$69:$J$109,C26,'SAUCE USAGE'!$L$69:$L$109)/1000","v":0.75},{"$f":"SUMIF('SAUCE USAGE'!$J$110:$J$128,'STOCK ANALYSIS'!C26,'SAUCE USAGE'!$L$110:$L$128)/1000","v":0},{"$f":"SUMIF('SAUCE USAGE'!$J$11:$J$24,C26,'SAUCE USAGE'!$L$11:$L$24)/1000","v":0},null,null,1.125,16.187000000000001,{"$f":"SUMIF('CLOSING STOCK'!$B$108:$B$119,'STOCK ANALYSIS'!C26,'CLOSING STOCK'!$L$108:$L$119)","v":0.2},{"$f":"+P26-O26","v":-15.987000000000002},{"$f":"IF(O26=0,\"\",Q26/O26)","v":-0.98764440600481873},-94.323300000000017,{"$f":"+Q26/N26","v":-14.210666666666668}]
[null,5,"GRAVY SAUCE",3.3,"KG",1.8,12.6,{"$f":"SUMIF('SAUCE USAGE'!$J$26:$J$66,C27,'SAUCE USAGE'!$L$26:$L$66)/1000","v":0.45},{"$f":"SUMIF('SAUCE USAGE'!$J$69:$J$109,C27,'SAUCE USAGE'!$L$69:$L$109)/1000","v":0},{"$f":"SUMIF('SAUCE USAGE'!$J$110:$J$128,'STOCK ANALYSIS'!C27,'SAUCE USAGE'!$L$110:$L$128)/1000","v":0},{"$f":"SUMIF('SAUCE USAGE'!$J$11:$J$24,C27,'SAUCE USAGE'!$L$11:$L$24)/1000","v":0},null,null,0.45,13.950000000000001,{"$f":"SUMIF('CLOSING STOCK'!$B$108:$B$119,'STOCK ANALYSIS'!C27,'CLOSING STOCK'!$L$108:$L$119)","v":2.5},-11.450000000000001,-0.82078853046594979,-37.785000000000004,-25.444444444444446]
[null,6,"MARMITE SAUCE ",2,"KG",4.5,16.2,{"$f":"SUMIF('SAUCE USAGE'!$J$26:$J$66,C28,'SAUCE USAGE'!$L$26:$L$66)/1000","v":0.56000000000000005},{"$f":"SUMIF('SAUCE USAGE'!$J$69:$J$109,C28,'SAUCE USAGE'!$L$69:$L$109)/1000","v":0.56000000000000005},{"$f":"SUMIF('SAUCE USAGE'!$J$110:$J$128,'STOCK ANALYSIS'!C28,'SAUCE USAGE'!$L$110:$L$128)/1000","v":0},{"$f":"SUMIF('SAUCE USAGE'!$J$11:$J$24,C28,'SAUCE USAGE'!$L$11:$L$24)/1000","v":0},null,null,1.1200000000000001,19.579999999999998,{"$f":"SUMIF('CLOSING STOCK'!$B$108:$B$119,'STOCK ANALYSIS'!C28,'CLOSING STOCK'!$L$108:$L$119)","v":4.4000000000000004},-15.179999999999998,-0.7752808988764045,-30.359999999999996,-13.553571428571425]
[null,7,"MUSHROOM SAUCE",6.78,"KG",3.4,43.8,{"$f":"SUMIF('SAUCE USAGE'!$J$26:$J$66,C29,'SAUCE USAGE'!$L$26:$L$66)/1000","v":1.35},{"$f":"SUMIF('SAUCE USAGE'!$J$69:$J$109,C29,'SAUCE USAGE'!$L$69:$L$109)/1000","v":0.54},{"$f":"SUMIF('SAUCE USAGE'!$J$110:$J$128,'STOCK ANALYSIS'!C29,'SAUCE USAGE'!$L$110:$L$128)/1000","v":0},{"$f":"SUMIF('SAUCE USAGE'!$J$11:$J$24,C29,'SAUCE USAGE'!$L$11:$L$24)/1000","v":0},null,null,1.8900000000000001,45.309999999999995,{"$f":"SUMIF('CLOSING STOCK'!$B$108:$B$119,'STOCK ANALYSIS'!C29,'CLOSING STOCK'!$L$108:$L$119)","v":3.3},-42.01,-0.92716839549768271,-284.82780000000002,-22.227513227513224]
[null,8,"SAMBAL (FRIED)SAUCE",9.07,"KG",9.1999999999999993,7.9,{"$f":"SUMIF('SAUCE USAGE'!$J$26:$J$66,C30,'SAUCE USAGE'!$L$26:$L$66)/1000","v":1.86},{"$f":"SUMIF('SAUCE USAGE'!$J$69:$J$109,C30,'SAUCE USAGE'!$L$69:$L$109)/1000","v":1.77},{"$f":"SUMIF('SAUCE USAGE'!$J$110:$J$128,'STOCK ANALYSIS'!C30,'SAUCE USAGE'!$L$110:$L$128)/1000","v":0},{"$f":"SUMIF('SAUCE USAGE'!$J$11:$J$24,C30,'SAUCE USAGE'!$L$11:$L$24)/1000","v":0},null,null,3.63,13.470000000000002,{"$f":"SUMIF('CLOSING STOCK'!$B$108:$B$119,'STOCK ANALYSIS'!C30,'CLOSING STOCK'!$L$108:$L$119)","v":0},-13.470000000000002,-1,-122.17290000000003,-3.7107438016528933]
[null,{"$f":"+B30+1","v":9},"SWEET & SOUR SAUCE",1.88,"KG",5.2,12.6,{"$f":"SUMIF('SAUCE USAGE'!$J$26:$J$66,C31,'SAUCE USAGE'!$L$26:$L$66)/1000","v":0.2},{"$f":"SUMIF('SAUCE USAGE'!$J$69:$J$109,C31,'SAUCE USAGE'!$L$69:$L$109)/1000","v":0.2},{"$f":"SUMIF('SAUCE USAGE'!$J$110:$J$128,'STOCK ANALYSIS'!C31,'SAUCE USAGE'!$L$110:$L$128)/1000","v":0},{"$f":"SUMIF('SAUCE USAGE'!$J$11:$J$24,C31,'SAUCE USAGE'!$L$11:$L$24)/1000","v":0},null,null,0.4,17.400000000000002,{"$f":"SUMIF('CLOSING STOCK'!$B$108:$B$119,'STOCK ANALYSIS'!C31,'CLOSING STOCK'!$L$108:$L$119)","v":2.2000000000000002},-15.200000000000003,-0.87356321839080464,-28.576000000000004,-38.000000000000007]
[null,"GRAND TOTAL ",null,null,null,null,null,null,null,null,null,null,null,null,null,null,null,null,{"$f":"SUM(S23:S31)","v":-885.33650000000011}]
[]
["MAIN COURSE MATERIAL 主餐食材"]
[null,1,"CHICKEN CHOP (MARINATED)",3.34,"PCS",374,2051,{"$f":"SUMIF('K-LUNCH & K DINNER'!$H$10:$H$55,C35,'K-LUNCH & K DINNER'!$J$10:$J$55)","v":66.2},{"$f":"SUMIF('SIDE ORDER & FOC'!$Q$11:$Q$204,C35,'SIDE ORDER & FOC'!$S$11:$S$204)","v":25.52},{"$f":"SUMIF('LOK LOK '!$R$11:$R$30,C35,'LOK LOK '!$T$11:$T$30)","v":0},15,null,null,{"$f":"SUM(H35:M35)","v":106.72},{"$f":"+F35+G35-N35","v":2318.2800000000002},{"$f":"SUMIF('CLOSING STOCK'!$B$12:$B$18,'STOCK ANALYSIS'!C35,'CLOSING STOCK'!$L$12:$L$19)","v":357},{"$f":"+P35-O35","v":-1961.2800000000002},{"$f":"IF(O35=0,\"\",Q35/O35)","v":-0.84600652207671201},{"$f":"+Q35*D35","v":-6550.6752000000006},-18.377811094452774]
[]
[null,2,"CHICKEN WING  (MARINATED)",1.17,"PCS",33,419,{"$f":"SUMIF('K-LUNCH & K DINNER'!$H$10:$H$55,C37,'K-LUNCH & K DINNER'!$J$10:$J$55)","v":3},{"$f":"SUMIF('SIDE ORDER & FOC'!$Q$11:$Q$204,C37,'SIDE ORDER & FOC'!$S$11:$S$204)","v":24},{"$f":"SUMIF('LOK LOK '!$R$12:$R$128,C37,'LOK LOK '!$T$11:$T$128)","v":0},null,null,null,{"$f":"SUM(H37:M37)","v":27},{"$f":"+F37+G37-N37","v":425},{"$f":"SUMIF('CLOSING STOCK'!$B$12:$B$18,'STOCK ANALYSIS'!C37,'CLOSING STOCK'!$L$12:$L$19)","v":9},{"$f":"+P37-O37","v":-416},-0.97882352941176476]
[null,3,"CHICKEN WINGS (NON -MARINATED)",1.17,"PCS",26,311,{"$f":"SUMIF('K-LUNCH & K DINNER'!$H$10:$H$55,C38,'K-LUNCH & K DINNER'!$J$10:$J$55)","v":0},{"$f":"SUMIF('SIDE ORDER & FOC'!$Q$11:$Q$204,C38,'SIDE ORDER & FOC'!$S$11:$S$204)","v":0},{"$f":"SUMIF('LOK LOK '!$R$12:$R$128,C38,'LOK LOK '!$T$11:$T$128)","v":0},null,3,null,{"$f":"SUM(H38:M38)","v":3},{"$f":"+F38+G38-N38","v":334},{"$f":"SUMIF('CLOSING STOCK'!$B$12:$B$18,'STOCK ANALYSIS'!C38,'CLOSING STOCK'!$L$12:$L$19)","v":24},-310,-0.92814371257485029]
[null,null,"CHICKEN WINGS -TOTAL",1.17,"PCS",{"$f":"SUM(F37:F38)","v":59},{"$f":"SUM(G37:G38)","v":730},{"$f":"SUM(H37:H38)","v":3},{"$f":"SUM(I37:I38)","v":24},{"$f":"SUM(J37:J38)","v":0},0,{"$f":"SUM(L37:L38)","v":3},null,{"$f":"SUM(N37:N38)","v":30},759,33,-726,-1.906967241986615,{"$f":"+Q39*D39","v":-849.42},-24.2]
[]
[null,4,"DORY FISH FILLET ",2.4900000000000002,"PCS",18,359,{"$f":"SUMIF('K-LUNCH & K DINNER'!$H$10:$H$55,C41,'K-LUNCH & K DINNER'!$J$10:$J$55)","v":12},{"$f":"SUMIF('SIDE ORDER & FOC'!$Q$11:$Q$204,C41,'SIDE ORDER & FOC'!$S$11:$S$204)","v":0},{"$f":"SUMIF('LOK LOK '!$R$12:$R$128,C41,'LOK LOK '!$T$11:$T$128)","v":0},16,null,null,{"$f":"SUM(H41:M41)","v":28},{"$f":"+F41+G41-N41","v":349},{"$f":"SUMIF('CLOSING STOCK'!$B$12:$B$20,'STOCK ANALYSIS'!C41,'CLOSING STOCK'!$L$12:$L$20)","v":55},{"$f":"+P41-O41","v":-294},-0.84240687679083093,-732.06000000000006,-10.5]
[]
[null,"GRAND TOTAL ",null,null,null,null,null,null,null,null,null,null,null,null,null,null,null,null,{"$f":"SUM(S35:S42)","v":-8132.1552000000011}]
[]
["SNACKS MATERIAL   小吃食材"]
[null,5,"MCCAIN ONION RING",0.17,"PCS",565,480,{"$f":"SUMIF('K-LUNCH & K DINNER'!$H$10:$H$55,C46,'K-LUNCH & K DINNER'!$J$10:$J$55)","v":8},{"$f":"SUMIF('SIDE ORDER & FOC'!$Q$11:$Q$204,C46,'SIDE ORDER & FOC'!$S$11:$S$204)","v":0},null,null,null,null,{"$f":"SUM(H46:M46)","v":8},{"$f":"+F46+G46-N46","v":1037},{"$f":"SUMIF('CLOSING STOCK'!$B$12:$B$49,'STOCK ANALYSIS'!C46,'CLOSING STOCK'!$L$12:$L$49)","v":761},-276,{"$f":"IF(O46=0,\"\",Q46/O46)","v":-0.26615236258437802},{"$f":"+Q46*D46","v":-46.92},-34.5]
[null,6,"MCCAIN SMILES",0.12,"PCS",603,630,{"$f":"SUMIF('K-LUNCH & K DINNER'!$H$10:$H$55,C47,'K-LUNCH & K DINNER'!$J$10:$J$55)","v":0},{"$f":"SUMIF('SIDE ORDER & FOC'!$Q$11:$Q$204,C47,'SIDE ORDER & FOC'!$S$11:$S$204)","v":0},null,null,null,null,0,{"$f":"+F47+G47-N47","v":1233},{"$f":"SUMIF('CLOSING STOCK'!$B$12:$B$49,'STOCK ANALYSIS'!C47,'CLOSING STOCK'!$L$12:$L$49)","v":972},-261,-0.21167883211678831,{"$f":"+Q47*D47","v":-31.32},{"$error":"#DIV/0!"}]
[null,7,"MCCAIN VERSITOT",0.06,"PCS",565,1320,{"$f":"SUMIF('K-LUNCH & K DINNER'!$H$10:$H$55,C48,'K-LUNCH & K DINNER'!$J$10:$J$55)","v":0},{"$f":"SUMIF('SIDE ORDER & FOC'!$Q$11:$Q$204,C48,'SIDE ORDER & FOC'!$S$11:$S$204)","v":15},null,null,null,null,15,{"$f":"+F48+G48-N48","v":1870},{"$f":"SUMIF('CLOSING STOCK'!$B$12:$B$49,'STOCK ANALYSIS'!C48,'CLOSING STOCK'!$L$12:$L$49)","v":1178},-692,-0.37005347593582888,-41.519999999999996,-46.133333333333333]
[null,{"$f":"+B48+1","v":8},"MCCAIN SPIRAL FRIES",7.87,"KG",5.6,10.8,{"$f":"SUMIF('K-LUNCH & K DINNER'!$H$10:$H$55,C49,'K-LUNCH & K DINNER'!$J$10:$J$55)","v":0},{"$f":"SUMIF('SIDE ORDER & FOC'!$Q$11:$Q$204,C49,'SIDE ORDER & FOC'!$S$11:$S$204)","v":0},null,null,null,null,0,-1.56,{"$f":"SUMIF('CLOSING STOCK'!$B$12:$B$49,'STOCK ANALYSIS'!C49,'CLOSING STOCK'!$L$12:$L$49)","v":6.24},7.8000000000000007,-5,61.38600000000001,{"$error":"#DIV/0!"}]
[null,{"$f":"+B49+1","v":9},"CALAMARI RING",0.47,"PCS",72,375,{"$f":"SUMIF('K-LUNCH & K DINNER'!$H$10:$H$55,C50,'K-LUNCH & K DINNER'!$J$10:$J$55)","v":0},{"$f":"SUMIF('SIDE ORDER & FOC'!$Q$11:$Q$204,C50,'SIDE ORDER & FOC'!$S$11:$S$204)","v":0},null,null,null,null,0,{"$f":"+F50+G50-N50","v":447},{"$f":"SUMIF('CLOSING STOCK'!$B$12:$B$49,'STOCK ANALYSIS'!C50,'CLOSING STOCK'!$L$12:$L$49)","v":67},{"$f":"+P50-O50","v":-380},{"$f":"IF(O50=0,\"\",Q50/O50)","v":-0.85011185682326618},-178.6,{"$error":"#DIV/0!"}]
[null,10,"CHICKEN NUGGET",0.26,"PCS",384,936,{"$f":"SUMIF('K-LUNCH & K DINNER'!$H$10:$H$55,C51,'K-LUNCH & K DINNER'!$J$10:$J$55)","v":16},{"$f":"SUMIF('SIDE ORDER & FOC'!$Q$11:$Q$204,C51,'SIDE ORDER & FOC'!$S$11:$S$204)","v":80},null,null,null,null,96,1224,{"$f":"SUMIF('CLOSING STOCK'!$B$12:$B$49,'STOCK ANALYSIS'!C51,'CLOSING STOCK'!$L$12:$L$49)","v":223},-1001,-0.81781045751633985,-260.26,-10.427083333333334]
[null,11,"CHICKEN SAUSAGE ",0.23,"PCS",229,600,{"$f":"SUMIF('K-LUNCH & K DINNER'!$H$10:$H$55,C52,'K-LUNCH & K DINNER'!$J$10:$J$55)","v":3},{"$f":"SUMIF('SIDE ORDER & FOC'!$Q$11:$Q$204,C52,'SIDE ORDER & FOC'!$S$11:$S$204)","v":12},null,24,null,null,{"$f":"SUM(H52:M52)","v":39},790,{"$f":"SUMIF('CLOSING STOCK'!$B$12:$B$49,'STOCK ANALYSIS'!C52,'CLOSING STOCK'!$L$12:$L$49)","v":244},-546,-0.69113924050632913,-125.58000000000001,-14]
[null,12,"FISH BALL (BIG)",0.24,"PCS",100,240,{"$f":"SUMIF('K-LUNCH & K DINNER'!$H$10:$H$55,C53,'K-LUNCH & K DINNER'!$J$10:$J$55)","v":0},{"$f":"SUMIF('SIDE ORDER & FOC'!$Q$11:$Q$204,C53,'SIDE ORDER & FOC'!$S$11:$S$204)","v":12},{"$f":"44*3","v":132},null,null,null,{"$f":"SUM(H53:M53)","v":144},196,{"$f":"SUMIF('CLOSING STOCK'!$B$12:$B$49,'STOCK ANALYSIS'!C53,'CLOSING STOCK'!$L$12:$L$49)","v":43},-153,-0.78061224489795922,-36.72,-1.0625]
[null,13,"SALMON BALL",0.27,"PCS",41,90,{"$f":"SUMIF('K-LUNCH & K DINNER'!$H$10:$H$55,C54,'K-LUNCH & K DINNER'!$J$10:$J$55)","v":0},{"$f":"SUMIF('SIDE ORDER & FOC'!$Q$11:$Q$204,C54,'SIDE ORDER & FOC'!$S$11:$S$204)","v":2},{"$f":"31*3","v":93},null,null,null,{"$f":"SUM(H54:M54)","v":95},36,{"$f":"SUMIF('CLOSING STOCK'!$B$12:$B$49,'STOCK ANALYSIS'!C54,'CLOSING STOCK'!$L$12:$L$49)","v":66},30,0.83333333333333337,8.1000000000000014,0.31578947368421051]
[null,14,"SEAFOOD TOFU ",0.33,"PCS",41,165,{"$f":"SUMIF('K-LUNCH & K DINNER'!$H$10:$H$55,C55,'K-LUNCH & K DINNER'!$J$10:$J$55)","v":0},{"$f":"SUMIF('SIDE ORDER & FOC'!$Q$11:$Q$204,C55,'SIDE ORDER & FOC'!$S$11:$S$204)","v":2},{"$f":"56*3","v":168},null,null,null,170,36,69,33,0.91666666666666663,10.89,0.19411764705882353]
[null,15,"SOTONG BALL",0.17,"PCS",102,0,{"$f":"SUMIF('K-LUNCH & K DINNER'!$H$10:$H$55,C56,'K-LUNCH & K DINNER'!$J$10:$J$55)","v":0},{"$f":"SUMIF('SIDE ORDER & FOC'!$Q$11:$Q$204,C56,'SIDE ORDER & FOC'!$S$11:$S$204)","v":2},null,null,null,null,2,100,{"$f":"SUMIF('CLOSING STOCK'!$B$12:$B$49,'STOCK ANALYSIS'!C56,'CLOSING STOCK'!$L$12:$L$49)","v":48},-52,-0.52,-8.84,-26]
[null,16,"SPRING ROLL",0.27,"PCS",177,520,{"$f":"SUMIF('K-LUNCH & K DINNER'!$H$10:$H$55,C57,'K-LUNCH & K DINNER'!$J$10:$J$55)","v":0},{"$f":"SUMIF('SIDE ORDER & FOC'!$Q$11:$Q$204,C57,'SIDE ORDER & FOC'!$S$11:$S$204)","v":32},{"$f":"49*2","v":98},null,null,null,130,567,{"$f":"SUMIF('CLOSING STOCK'!$B$12:$B$49,'STOCK ANALYSIS'!C57,'CLOSING STOCK'!$L$12:$L$49)","v":92},-475,-0.83774250440917108,-128.25,-3.6538461538461537]
[null,17,"THAI ROLL",0.45,"PCS",197,105,{"$f":"SUMIF('K-LUNCH & K DINNER'!$H$10:$H$55,C58,'K-LUNCH & K DINNER'!$J$10:$J$55)","v":0},{"$f":"SUMIF('SIDE ORDER & FOC'!$Q$11:$Q$204,C58,'SIDE ORDER & FOC'!$S$11:$S$204)","v":7},{"$f":"31*2","v":62},null,null,null,69,233,{"$f":"SUMIF('CLOSING STOCK'!$B$12:$B$49,'STOCK ANALYSIS'!C58,'CLOSING STOCK'!$L$12:$L$49)","v":173},-60,-0.25751072961373389,-27,-0.86956521739130432]
[null,18,"6\" PIZZA BASE ",1.25,"PCS",0,0,{"$f":"SUMIF('K-LUNCH & K DINNER'!$H$10:$H$55,C59,'K-LUNCH & K DINNER'!$J$10:$J$55)","v":0},{"$f":"SUMIF('SIDE ORDER & FOC'!$Q$11:$Q$204,C59,'SIDE ORDER & FOC'!$S$11:$S$204)","v":0},null,null,null,null,0,0,{"$f":"SUMIF('CLOSING STOCK'!$B$30:$B$32,'STOCK ANALYSIS'!C59,'CLOSING STOCK'!$L$30:$L$31)","v":0},{"$f":"+P59-O59","v":0},"",0,0]
[null,19,"9\" PIZZA BASE ",2.2999999999999998,"PCS",0,0,{"$f":"SUMIF('K-LUNCH & K DINNER'!$H$10:$H$55,C60,'K-LUNCH & K DINNER'!$J$10:$J$55)","v":0},{"$f":"SUMIF('SIDE ORDER & FOC'!$Q$11:$Q$204,C60,'SIDE ORDER & FOC'!$S$11:$S$204)","v":0},null,null,null,null,0,0,{"$f":"SUMIF('CLOSING STOCK'!$B$30:$B$32,'STOCK ANALYSIS'!C60,'CLOSING STOCK'!$L$30:$L$31)","v":0},0,"",0,0]
[]
[null,"GRAND TOTAL ",null,null,null,null,null,null,null,null,null,null,null,null,null,null,null,null,{"$f":"SUM(S46:S61)","v":-804.63400000000001}]
[]
[null,null,"** CLOSING STOCK FOR SNACK FOOD ( NO.12.13.14.16 AND 17 ) EXCLUDE STOCK WHICH KEPT AT LOK LOK BAR "]
[null,null,"** THE PURCHASE QUANTITY OF SNACK FOOD ( NO .12.13.14.16. AND  17 ) HAVE INCLUDED LOK LOK , THEREFORE , WE SHOULD DEDUCT THE QUANTITY WHICH IS TRANSFERRED FOR LOK LOK PRODUCTION "]
[]
[]
[]
[]
[]
[]
[null,"COMPARISON OF TOTAL LOSSES",null,null,null,null,null,null,null,"COMPARISON OF ACTUAL USAGE "]
[null,"NO","CATEGORIES",null,null,"AUG","SEPT","DIFF",null,"NO",null,null,null,null,null,"AUG","SEPT","DIFF"]
[null,null,null,null,null,"PCS","PCS","%",null,null,null,null,null,null,null,"PCS","PCS","%"]
[null,1,"MAIN SAUCE 主要酱料",null,null,517.27079999999978,{"$f":"+S32","v":-885.33650000000011},{"$f":"(+G75-F75)/F75","v":-2.7115532135198825},null,1,{"$f":"+C35","v":"CHICKEN CHOP (MARINATED)"},null,null,null,null,2492.1999999999998,{"$f":"+N35","v":106.72},{"$f":"(+Q75-P75)/P75","v":-0.95717839659738391}]
[null,2,"MAIN COURSE MATERIAL 主餐食材",null,null,-99.372000000000597,{"$f":"+S43","v":-8132.1552000000011},80.835478806906906,null,2,{"$f":"+C39","v":"CHICKEN WINGS -TOTAL"},null,null,null,null,722,{"$f":"+N39","v":30},{"$f":"(+Q76-P76)/P76","v":-0.95844875346260383}]
[null,3,"SNACKS MATERIAL   小吃食材",null,null,7.8691999999999993,{"$f":"+S62","v":-804.63400000000001},-103.2510547450821,null,3,{"$f":"+C41","v":"DORY FISH FILLET "},null,null,null,null,336,{"$f":"+N41","v":28},-0.91666666666666663]
[null,null,null,null,null,null,null,null,null,4,{"$f":"+C46","v":"MCCAIN ONION RING"},null,null,null,null,536,{"$f":"+N46","v":8},-0.9850746268656716]
[null,"GRAND TOTAL ",null,null,null,{"$f":"SUM(F75:F78)","v":425.76799999999918},{"$f":"SUM(G75:G78)","v":-9822.1257000000005},null,null,5,{"$f":"+C47","v":"MCCAIN SMILES"},null,null,null,null,336,0,-1]
[null,null,null,null,null,null,null,null,null,6,"MCCAIN VERSITOT",null,null,null,null,903,15,-0.98338870431893688]
[null,null,null,null,null,null,null,null,null,7,"MCCAIN SPIRAL FRIES",null,null,null,null,1.56,0,-1]
[null,"COMPARISON OF ACTUAL USAGE  (SAUCE)",null,null,null,null,null,null,null,8,"CALAMARI RING",null,null,null,null,364,0,-1]
[null,null,null,null,null,null,null,null,null,9,"CHICKEN NUGGET",null,null,null,null,1120,96,-0.91428571428571426]
[null,"NO","CATEGORIES",null,null,"AUG","SEPT","DIFF",null,10,"CHICKEN SAUSAGE ",null,null,null,null,680,39,-0.94264705882352939]
[null,null,null,null,null,"KG","KG","%",null,11,"FISH BALL (BIG)",null,null,null,null,348,144,-0.58620689655172409]
[null,1,{"$f":"+C23","v":"BLACK PEPPER SAUCE"},null,null,54.89,{"$f":"+N23","v":1.8},{"$f":"(+G86-F86)/F86","v":-0.96720714155583898},null,{"$f":"+J85+1","v":12},{"$f":"+C54","v":"SALMON BALL"},null,null,null,null,56,95,0.6964285714285714]
[null,2,{"$f":"+C24","v":"BLACK PEPPER SAUCE (UDON)"},null,null,6.51,{"$f":"+N24","v":0.35},-0.94623655913978499,null,{"$f":"+J86+1","v":13},{"$f":"+C55","v":"SEAFOOD TOFU "},null,null,null,null,56,170,2.0357142857142856]
[null,3,{"$f":"+C25","v":"BOLOGNESE SAUCE"},null,null,43.489999999999995,{"$f":"+N25","v":1.95},-0.95516210623131748,null,14,"SOTONG BALL",null,null,null,null,56,2,-0.9642857142857143]
[null,{"$f":"+B88+1","v":4},{"$f":"+C27","v":"GRAVY SAUCE"},null,null,13.5,{"$f":"+N27","v":0.45},{"$f":"(+G89-F89)/F89","v":-0.96666666666666667},null,15,"SPRING ROLL",null,null,null,null,512,130,-0.74609375]
[null,{"$f":"+B89+1","v":5},"MARMITE SAUCE ",null,null,18.149999999999999,1.1200000000000001,-0.93829201101928372,null,16,"THAI ROLL",null,null,null,null,189,69,-0.63492063492063489]
[null,6,"MUSHROOM SAUCE",null,null,57.83,1.8900000000000001,-0.96731800103752374,null,17,"6\" PIZZA BASE ",null,null,null,null,18,0,0]
[null,7,"SAMBAL (FRIED)SAUCE",null,null,7.4700000000000006,3.63,-0.51405622489959846,null,18,"9\" PIZZA BASE ",null,null,null,null,0,0,0]
[null,8,"SWEET & SOUR SAUCE",null,null,17.2,0.4,-0.9767441860465117]

{"sheet":"CLOSING STOCK","index":4,"n_rows":212,"n_cols":18,"rows_kept":212,"cut":false,"hidden":false,"merged":[[8,11,8,12],[3,1,3,4],[4,1,4,4],[8,5,8,6],[8,7,8,8],[8,9,8,10]]}
[null,"LOUDSPEAKER KARAOKE "]
[null,"MONTHLY KITCHEN  STOCK TAKE "]
[]
[null,"OUTLET : CCS KITCHEN "]
[null,"DATE      : 01.10.2013 (CLOSING STOCK VALUE FOR SEPT)"]
[]
["Price Changed"]
[]
[null,"ITEMS 物品","中文","Packing     包装","U/P","(WHOLE PACK.)",null,"CONVERT",null,"(PARTIAL PACK)",null,"TOTAL ",null,"TOTAL ","完整包装",null,"部分包装"]
[null,null,null,null,"RM","Qty","UOM ",{"$f":"+F10","v":"Qty"},{"$f":"+G10","v":"UOM "},"QTY","UOM","QTY","UOM","RM ","Qty","UOM ","Qty","UOM "]
["FROZEN FOOD 冷冻食品"]
["(A ) MEAT 肉类","CHICKEN CHOP (MARINATED)","鸡扒","1 PKT * 10 PCS",3.34,null,"PKT",10,"PCS",357,"PCS",{"$f":"+J12+(H12*F12)","v":357},"PCS",{"$f":"+L12*E12","v":1192.3799999999999},null,"包",null,"片"]
[null,"CHICKEN CHOP ( ORIGINAL)","鸡扒(未加工）","1 PKT * 1 KG",11.8,null,"PKT",1,"KG",50,"KG",50,"KG ",590,null,"包",null,"片"]
[null,"WHOLE CHICKEN","全鸡","1 PKT * 1 KG",8.4,null,"KG",1,"KG",12.3,"KG",12.3,"KG ",103.32000000000001,null,"公斤",null,"公斤"]
[null,"CHICKEN WING  (MARINATED)","腌制鸡翅膀","1PKT*21 PCS",1.17,null,"PKT",21,"PCS",9,"PCS",9,"PCS",10.53,null,"包",null,"片"]
[null,"CHICKEN WINGS (NON -MARINATED)","未腌制鸡翅膀","PER PCS",1.17,null,"PKT",1,"KG",24,"PCS",{"$f":"+J16+(H16*F16)","v":24},"PCS",{"$f":"+L16*E16","v":28.08}]
[null,"CHICKEN WING ","未腌制鸡翅膀","PER KG ",9.6999999999999993,null,"KG",1,"KG",null,"KG",0,"KG ",0,null,"公斤"]
[null,"MINCED CHICKEN ","鸡肉碎","1PKT * 1 KG",12.5,null,"PKT",1,{"$f":"+G18","v":"PKT"},null,"PKT",0,"PKT",0,null,"包"]
[]
["(B ) SEAFOOD 海鲜类","DORY FISH FILLET ","多利鱼","1 PKT*16PCS",2.4900000000000002,null,"PKT",16,"PCS",55,"PCS",{"$f":"+J20+(H20*F20)","v":55},{"$f":"+K20","v":"PCS"},{"$f":"+L20*E20","v":136.95000000000002},null,"包",null,"片"]
[null,"DORRY FISH FILLET ","多利鱼","1CTN *6PCS",56,4,"CTN",1,"CTN",null,"KG",{"$f":"+J21+(H21*F21)","v":4},"CTN",{"$f":"+L21*E21","v":224},null,"箱",null,"片"]
[null,"TAIL PRAWN 41/50","有尾虾","1PKT*1KG*45PCS",{"$f":"24.5/45","v":0.5444444444444444},4,"PKT",45,"PCS",17,"PCS",{"$f":"+J22+(H22*F22)","v":197},{"$f":"+K22","v":"PCS"},{"$f":"+L22*E22","v":107.25555555555555},null,"包",null,"只"]
[]
["(C ) MC Cain 产品","MCCAIN ONION RING","洋葱圈","1CTN*8PKT*60 PCS * 907 GM",0.17,12,"PKT",60,"PCS",41,"PCS",{"$f":"+J24+(H24*F24)","v":761},"PCS",{"$f":"+L24*E24","v":129.37},null,"包",null,"粒"]
[null,"MCCAIN SMILES","笑脸","1CTN*6PKT*105 PCS * 1.8 KG",0.13,8,"PKT",105,"PCS",132,"PCS",{"$f":"+J25+(H25*F25)","v":972},{"$f":"+I25","v":"PCS"},{"$f":"+L25*E25","v":126.36},null,"包",null,"粒"]
[null,"MCCAIN VERSITOT","粒粒","1CTN*6PKT*220 PCS * 2.27 KG",6.3636363636363602E-2,5,"PKT",220,"PCS",78,"PCS",1178,{"$f":"+I26","v":"PCS"},{"$f":"+L26*E26","v":74.963636363636326},null,"包",null,"粒"]
[null,"MC CAIN SPICY WEDGES POTATO","薯仔角","1PKT * 2.2KG*250 PCS",{"$f":"14.17/250","v":5.6680000000000001E-2},null,"PKT",250,"PCS",null,"PCS",0,{"$f":"+I27","v":"PCS"},{"$f":"+L27*E27","v":0},null,"包",null,"粒"]
[null,"MCCAIN SPIRAL FRIES","卷曲薯条","1CTN*6PKT*1.8 KG",{"$f":"14.17/1.8","v":7.8722222222222218},3,"PKT",1.8,"KG ",0.84,"KG",6.24,{"$f":"+I28","v":"KG "},{"$f":"+L28*E28","v":49.122666666666667},null,"包",null,"公斤"]
[]
["(D ) PIZZA BASE ","6\" PIZZA BASE ","披萨皮6寸","1ctn * 160pcs",1.25,null,"CTN",160,"PCS",null,"PCS",0,"PCS",{"$f":"+L30*E30","v":0},null,"箱",null,"片 "]
[null,"9\" PIZZA BASE ","披萨皮9寸","1ctn * 30pcs",2.2999999999999998,null,"CTN",30,"PCS",null,"PCS",0,"PCS",{"$f":"+L31*E31","v":0},null,"箱",null,"片 "]
[]
[]
["(E  ) FISH /SALMON/SOTONG","SALMON BALL","三文鱼丸","1CTN * 20PKTS *30PCS * 500G",0.27,1,"PKT",30,"PCS",36,"PCS",{"$f":"+J34+(H34*F34)","v":66},{"$f":"+K34","v":"PCS"},{"$f":"+L34*E34","v":17.82},null,"包",null,"粒"]
["         BALL ","SOTONG BALL","苏东丸","1CTN * 20PKTS*50PCS  * 1KG",{"$f":"8.5/50","v":0.17},null,"PKT",50,"PCS",48,"PCS",{"$f":"+J35+(H35*F35)","v":48},{"$f":"+K35","v":"PCS"},{"$f":"+L35*E35","v":8.16},null,"包",null,"粒"]
[null,"FISH BALL (BIG)","大白鱼丸","1CTN * 10PKTS*40PCS * 1KG",0.24,1,"PKT",40,"PCS",3,"PCS",{"$f":"+J36+(H36*F36)","v":43},{"$f":"+K36","v":"PCS"},{"$f":"+L36*E36","v":10.32},null,"包",null,"粒"]
[null,"WHITE FISH BALL - SMALL (CHILLED)","小白鱼丸","1CTN * 20PKTS*100PCS * 1KG",9.5000000000000001E-2,null,"PKT",100,"PCS",null,"PCS",{"$f":"+J37+(H37*F37)","v":0},{"$f":"+K37","v":"PCS"},{"$f":"+L37*E37","v":0},null,"包",null,"粒"]
[]
["(F ) OTHERS 其他"]
[null,"CALAMARI RING","苏东圈","1PKT*300G * 15PCS",0.46666666666666667,4,"PKT",15,"PCS",7,"PCS",{"$f":"+J40+(H40*F40)","v":67},"PCS",{"$f":"+L40*E40","v":31.266666666666666},null,"包",null,"粒"]
[null,"CHICKEN HAM","鸡肉火腿","1CTN * 50PKT*500G*10PCS",0.55000000000000004,2,"PKT",10,"PCS",9,"PCS",29,{"$f":"+K41","v":"PCS"},15.950000000000001,null,"包",null,"条"]
[null,"CHICKEN SAUSAGE ","鸡肉香肠","1CTN *32PKTS * 10PCS",0.23,24,"PKT",10,"PCS",4,"PCS",244,"PCS",56.120000000000005,null,"包",null,"条"]
[null,"SPRING ROLL","春卷","1CTN * 50PKTS *20PCS",0.26500000000000001,3,"PKT",20,"PCS",32,"PCS",92,"PCS",24.380000000000003,null,"包",null,"条"]
[null,"CRAB STICK (FILAMENT STICK)","蟹柳","1CTN * 20PKT*30PCS*1KG",0.28999999999999998,4,"PKT",30,"PCS",11,"PCS",131,"PCS",37.989999999999995,null,"包",null,"条"]
[null,"THAI ROLL","泰式卷","1CTN *50PKTS* 15PCS",0.45,11,"PKT",15,"PCS",8,"PCS",173,"PCS",77.850000000000009,null,"包",null,"个"]
[null,"FISH CAKE -DODO (BIG)","鱼饼","1PKT *1KG*10PCS",0.98,3,"PKT",10,"PCS",7,"PCS",37,"PCS",36.26,null,"包",null,"公斤"]
[null,"FRENCH FRIES CRINCLE CUT ","薯条有牙","1CTN * 10 PKT * 1KG",4.8,3,"PKT",1,"KG",0.2,{"$f":"+I47","v":"KG"},3.2,"KG",15.36,null,"包",null,"个"]
[null,"SEAFOOD TOFU ","海鲜豆腐","1 PKT * 33 PCS",0.33,1,"PKT",33,"PCS",36,"PCS",69,{"$f":"+K48","v":"PCS"},22.77,null,"包",null,"个"]
[null,"CHICKEN NUGGET","天妇罗鸡肉块","1PKT * 36 PCS ",0.26,6,"PKT",36,"PCS",7,"PCS",223,{"$f":"+K49","v":"PCS"},57.980000000000004]
[]
["CHEESE PRODUCTS 芝士产品"]
[null,"CHEESE MOZZARELLA SHREDDED","芝士碎","1PKT * 1 KG",39,9,"PKT",1,"PKT",null,null,{"$f":"+J52+(H52*F52)","v":9},{"$f":"+G52","v":"PKT"},{"$f":"+L52*E52","v":351},null,"包"]
[null,"PAMECAN CHEESE ","芝士粉","1PKT * 1 KG",23,0.5,"PKT",1,{"$f":"+G53","v":"PKT"},null,null,{"$f":"+J53+(H53*F53)","v":0.5},{"$f":"+G53","v":"PKT"},{"$f":"+L53*E53","v":11.5},null,"包"]
[null,"SHREDDED MILD CHEDDAR CHEESE","瑞士乳酪","1PKT*2KG ",11.5,2,"PKT",1,{"$f":"+G54","v":"PKT"},null,null,{"$f":"+J54+(H54*F54)","v":2},{"$f":"+G54","v":"PKT"},{"$f":"+L54*E54","v":23},null,"包"]
[null,"TROPIC CHOICE NACHOS CHEESE DIP","玉米片奶酪","1TUB*3KG",48,null,"TUB",1,{"$f":"+G55","v":"TUB"},null,null,{"$f":"+J55+(H55*F55)","v":0},{"$f":"+G55","v":"TUB"},{"$f":"+L55*E55","v":0},null,"包"]
[]
["NOODLES 面类"]
[null,"KUEY TEOH ","粿条","1PKT * 1KG",1.5,2,"PKT",1,"PKT",null,null,{"$f":"+J58+(+H58*F58)","v":2},"PKT",{"$f":"+L58*E58","v":3},null,"包"]
[null,"MEE KUNING","黄面","1PKT * 1KG",1.7,2,"PKT",1,"PKT",null,null,2,"PKT",3.4,null,"包"]
[null,"NDL SESAME OIL NISSIN                ","出前一丁面","1CTN*12 PKT * 100 GM ",6.666666666666667,41,"PKT",1,"PKT",null,null,41,{"$f":"+G60","v":"PKT"},273.33333333333337,null,"包"]
[null,"RAMEN","日式拉面","1CTN * 12PKT *12PCS",0.9,5,"PKT",12,"PCS",8,{"$f":"+M61","v":"PCS"},68,"PCS",61.2,null,"包"]
[null,"SPAGHETTI","意大利面","1 PKT* 500 GM",2.5,31,"PKT",1,"PKT",null,null,31,{"$f":"+G62","v":"PKT"},77.5,null,"包"]
[null,"UDON NOODLES","乌东面","1 PKT*200 GM",1.1000000000000001,32,"PKT",1,"PKT",null,null,32,{"$f":"+G63","v":"PKT"},35.200000000000003,null,"包"]
[]
["RICE 米"]
[null,"WANGI IMP.THAI - PEARL ","泰国香米","1PKT * 10 KG ",42.95,12,"PKT",1,{"$f":"+I67","v":"PKT "},null,null,{"$f":"+J66+(+H66*F66)","v":12},{"$f":"+G66","v":"PKT"},{"$f":"+L66*E66","v":515.40000000000009},null,"包"]
[null,"RICE  ( RAMBUTAN)","红毛丹米","1PKT * 10 KG ",27.5,3,"PKT",1,"PKT ",null,null,{"$f":"+J67+(+H67*F67)","v":3},"PKT",{"$f":"+L67*E67","v":82.5},null,"包"]
[]
["CONDIMENT 调味料"]
["(A ) Soy  sauce","MCM SAUCE OYSTER                                            ","(美中美)蚝油","1 TUB * 5 KG",10,null,"TUB",1,"TUB",null,null,{"$f":"+J70+(+H70*F70)","v":0},{"$f":"+G70","v":"TUB"},{"$f":"+L70*E70","v":0},null,"瓶 "]
[null,"MCM SAUCE SOY DARK (2)                               ","(美中美)加晒","1 TUB * 5 KG",19.5,1,"TUB",1,"TUB",null,null,1,"TUB",19.5,null,"瓶 "]
[null,"MCM SAUCE SOY LIGHT( 4KG)                            ","(美中美)生抽","1 TUB * 4 KG",7.5,1,"TUB",1,"TUB",null,null,1,"TUB",7.5,null,"瓶 "]
[null,"BENTONG SAUCE SOY LIGHT","文东生抽","1TUB* 1.6 KG",10,null,"TUB",1,"TUB",null,null,0,"TUB",0,null,"瓶 "]
[null,"BENTONG SAUCE SOY LIGHT","文东生抽","1TUB* 1.3 KG",9,1,"TUB",1,"TUB",null,null,1,"TUB",9,null,"瓶 "]
[null,"STH OYSTER SAUCE (TONG)","新泰兴蚝油（桶）","1TONG*5KG",10.5,1,"TONG",1,"TONG",null,null,1,{"$f":"+G75","v":"TONG"},10.5]
[]
["(B) Chilli / Tomato ","KIMBALL CHILI SAUCE(PKT)","(KIMBALL)辣椒酱","1CNT*12PKT*1kg",3.54,17,"PKT",1,{"$f":"+G77","v":"PKT"},null,null,{"$f":"+J77+(+H77*F77)","v":17},{"$f":"+G77","v":"PKT"},{"$f":"+L77*E77","v":60.18},null,"包"]
[null,"KIMBALL TOMATO SAUCE(PKT)","(KIMBALL)蕃茄酱","1CNT*12PKT*1kg",3.7,23,"PKT",1,{"$f":"+G78","v":"PKT"},null,null,{"$f":"+J78+(+H78*F78)","v":23},{"$f":"+G78","v":"PKT"},{"$f":"+L78*E78","v":85.100000000000009},null,"包"]
[null,"KN PRONTO ITALIAN TOMATO SAUCE","(家乐)番茄肉粒酱","1TIN * 2KG",24,null,"TUB",1,{"$f":"+G79","v":"TUB"},null,null,{"$f":"+J79+(+H79*F79)","v":0},{"$f":"+G79","v":"TUB"},{"$f":"+L79*E79","v":0},null,"罐"]
[null,"KIMBALL TOMATO PUREE","(KIMBALL)番茄膏","1CTN *24CAN *430G",3.8,2,"CAN",1,{"$f":"+G80","v":"CAN"},null,null,{"$f":"+J80+(+H80*F80)","v":2},{"$f":"+G80","v":"CAN"},{"$f":"+L80*E80","v":7.6},null,"罐"]
[]
["(C ) Salad Sauce 沙拉酱","LC COLESLAW DRESSING                                   ","沙拉酱","1 CTN*4 TUB *3 LIT ",27.9,null,"TUB",1,{"$f":"+G82","v":"TUB"},null,null,{"$f":"+J82+(+H82*F82)","v":0},{"$f":"+G82","v":"TUB"},{"$f":"+L82*E82","v":0},null,"桶"]
[null,"LC MAYO MAGIC              (PKT)                                     ","蛋黄酱 ( 包）","1 CTN*4 PKT *3 LIT ",18.899999999999999,null,"PKT",1,{"$f":"+G83","v":"PKT"},null,null,{"$f":"+J83+(+H83*F83)","v":0},{"$f":"+G83","v":"PKT"},{"$f":"+L83*E83","v":0},null,"桶"]
[null,"LC TARTAR SAUCE                                              ","鞑靼酱","1 CTN*6 TUB *3 LIT",31.5,2,"TUB",1,{"$f":"+G84","v":"TUB"},null,null,{"$f":"+J84+(+H84*F84)","v":2},{"$f":"+G84","v":"TUB"},{"$f":"+L84*E84","v":63},null,"桶"]
[null,"LC THOUSAND ISLAND DRESSING                       ","千岛酱","1 CTN*6 TUB *2.4 LIT",25.5,3,"TUB",1,{"$f":"+G85","v":"TUB"},null,null,{"$f":"+J85+(+H85*F85)","v":3},{"$f":"+G85","v":"TUB"},{"$f":"+L85*E85","v":76.5},null,"桶"]
[]
["(D) MCM Product","MCM VINEGAR WHITE                                           ","(美中美)白醋","1 TUB * 4000G",6.5,1,"TUB",1,"TUB",null,null,{"$f":"+J87+(+H87*F87)","v":1},{"$f":"+G87","v":"TUB"},{"$f":"+L87*E87","v":6.5},null,"桶"]
[null,"MCM SAUCE SOURPLUM                                    ","(美中美)酸梅酱","1 TUB * 3KG",16.5,1,"TUB",1,"TUB",null,null,{"$f":"+J88+(+H88*F88)","v":1},{"$f":"+G88","v":"TUB"},{"$f":"+L88*E88","v":16.5},null,"桶"]
[null,"MCM TAUCU PASTE                                           ","(美中美)蘑豆酱","1 TUB * 3KG",11.5,1,"TUB",1,"TUB",null,null,{"$f":"+J89+(+H89*F89)","v":1},{"$f":"+G89","v":"TUB"},{"$f":"+L89*E89","v":11.5},null,"桶"]
[]
["(E ) OTHERS 其他","A1 Sauce","A1 汁"," 1BTL * 630ML ",7,null,"BTL",1,{"$f":"+G91","v":"BTL"},null,null,{"$f":"+J91+(+H91*F91)","v":0},"BTL",{"$f":"+L91*E91","v":0},null,"瓶 "]
[null,"DIPPING FOR CHIKEN (TONG)                                ","泰国-点鸡汁","1CTN*3TUB*5KG",37,2,"TUB",1,"TUB",null,null,2,"TUB",74,null,"桶"]
[null,"FISH SAUCE","鱼露","1 BTL * 750 ML ",2.2000000000000002,null,"BTL",1,"BTL",null,null,0,"BTL",0,null,"瓶 "]
[null,"H.P SAUCE","Hp酱","1BTL *220GM",5.5,null,"BTL",1,"BTL",null,null,0,"BTL",0,null,"瓶 "]
[null,"KN BARBEQUE SAUCE","烧烤酱","1TUB * 900G ",25,1,"TUB",1,"TUB",null,null,1,{"$f":"+I95","v":"TUB"},25,null,"瓶 "]
[null,"LKK CHU HOU PASTE                              ","(李)柱侯酱","1 CAN *2.2KG",25.5,null,"CAN",1,"CAN",null,null,0,"CAN",0,null,"桶"]
[null,"MAGGI SEASONING","(美极)调味料","1CTN*6BTL*790ML",17.5,2,"BTL",1,"BTL",null,null,2,"BTL",35,null,"罐"]
[null,"PASTE PRAWN (HK) SALTED","咸虾酱","1CAN * 227 G",4.9000000000000004,4,"CAN",1,"CAN",null,null,4,"CAN",19.600000000000001,null,"罐"]
[null,"RICE WINE    (HAI-O)","白米酒(兴兴发）","1 BTL * 640ML",4.95,2,"BTL",1,"BTL",null,null,2,"BTL",9.9,null,"瓶 "]
[null,"SATAY SAUCE","沙爹酱","1PKT * 1KG",21.5,4,"PKT",1,"PKT",null,null,4,"PKT",86,null,"包"]
[null,"SAUCE LEA & PERRIN (LP)                                     ","LP调味汁","1 BTL *290ML",7.7,1,"BTL",1,"BTL",null,null,1,"BTL ",7.7,null,"瓶 "]
[null,"SAUCE TABASCO","辣酱油","1BTL * 60ml",6.5,1,"BTL ",1,"BTL ",null,null,1,{"$f":"+I102","v":"BTL "},6.5,null,"瓶 "]
[null,"VINEGAR (RED) -ELISEN","大红浙醋","1BTL*640ML",5.2,1,"BTL",1,"BTL",null,null,1,{"$f":"+I103","v":"BTL"},5.2,null,"瓶 "]
[null,"VINEGER GREATWALL","长城淅醋","1BTL * 667ML",3.3,1,"BTL",1,"BTL",null,null,1,{"$f":"+I104","v":"BTL"},3.3,null,"瓶 "]
[null,"WINE HUA TIAO CHEW (A)                                                ","花雕酒(尖塔)","1 BTL * 640ML",4.95,1,"BTL",1,{"$f":"+G105","v":"BTL"},null,null,1,{"$f":"+I105","v":"BTL"},4.95,null,"瓶"]
[]
["PREPARED SAUCE 自制酱料"]
[null,"BLACK PEPPER SAUCE","黑椒酱","TUB*3.7KG",3.02,null,"TUB",3.7,{"$f":"+K108","v":"KG"},3.3,"KG",{"$f":"+J108+(+H108*F108)","v":3.3},{"$f":"+K108","v":"KG"},{"$f":"+L108*E108","v":9.9659999999999993},null,"桶",null,"公斤"]
[null,"BLACK PEPPER SAUCE (UDON)","黑椒酱 (乌冬面）","TUB*4 KG",3.88,null,"TUB",4,{"$f":"+I108","v":"KG"},1.7,"KG",1.7,{"$f":"+K109","v":"KG"},6.5960000000000001,null,"桶",null,"公斤"]
[null,"BOLOGNESE SAUCE","肉酱意粉酱","1 PKT*2KG",11.35,null,"PKT",2,{"$f":"+I109","v":"KG"},6.5,"KG",6.5,"KG",73.774999999999991]
[null,"GRAVY SAUCE","鸡汁","TUB*1.6 KG",3.3,null,"TUB",1.6,"KG",2.5,"KG",2.5,"KG",8.25]
[null,"MARMITE SAUCE ","妈蜜汁","TUB*4.50KG",2,null,"TUB",4.5,"KG",4.4000000000000004,"KG",4.4000000000000004,"KG",8.8000000000000007]
[null,"MUSHROOM SAUCE","蘑菇酱","TUB*3.7 KG",6.78,null,"TUB",3.7,"KG",3.3,"KG",3.3,"KG",22.373999999999999,null,"包",null,"公斤"]
[null,"SAMBAL (NASI LEMAK )","叁巴酱","TUB*6KG",7.39,null,"TUB",6,"KG",8.75,"KG",{"$f":"+J114+(+H114*F114)","v":8.75},{"$f":"+K114","v":"KG"},{"$f":"+L114*E114","v":64.662499999999994},null,"桶",null,"公斤"]
[null,"SWEET & SOUR SAUCE","糖醋酱","TUB*4KG",1.88,null,"TUB",4,"KG",2.2000000000000002,"KG",2.2000000000000002,"KG",4.1360000000000001,null,"桶",null,"公斤"]
[null,"THAI SAUCE","泰式酱","1TUB*7.1 KG",7.1,null,"TUB",7.1,"KG",3.2,"KG",{"$f":"+J116+(+H116*F116)","v":3.2},{"$f":"+K116","v":"KG"},{"$f":"+L116*E116","v":22.72},null,"桶",null,"公斤"]
[null,"BUTTER CREAM SAUCE","奶油酱","1TUB*1.2KG",6.36,null,"TUB",1.2,"KG",0.2,"KG",{"$f":"+J117+(+H117*F117)","v":0.2},{"$f":"+K117","v":"KG"},{"$f":"+L117*E117","v":1.2720000000000002}]
[null,"SAUCE DRY NOODLE","干捞面酱","1TUB*3.6KG",8.9600000000000009,null,"TUB",3.6,"KG",0.8,"KG",{"$f":"+J118+(+H118*F118)","v":0.8},{"$f":"+K118","v":"KG"},{"$f":"+L118*E118","v":7.168000000000001}]
[null,"MIX SEASONING","厨房总味","1TUB*940GM",9.8699999999999992,null,"TUB",0.94,"KG",0.75,"KG",{"$f":"+J119+(+H119*F119)","v":0.75},{"$f":"+K119","v":"KG"},{"$f":"+L119*E119","v":7.4024999999999999}]
[]
["OIL 油"]
[null,"COOKING OIL","食油","1CTN *17PKT * 1KG",2.7,4,"CTN",17,"PKT",3,"PKT",{"$f":"+J122+(+H122*F122)","v":71},"PKT",{"$f":"+L122*E122","v":191.70000000000002},null,"箱",null,"包"]
[null,"OIL CORN DAISY                                                ","包蜀油"," 1TUB *3KG",29.5,1,"TUB",1,{"$f":"+G123","v":"TUB"},null,null,{"$f":"+J123+(+H123*F123)","v":1},{"$f":"+G123","v":"TUB"},{"$f":"+L123*E123","v":29.5},null,"桶"]
[null,"OIL SESAME CY                                   ","麻油(胡泉益)鹿牌","1 TIN * 6KG",43,null,"TIN",1,{"$f":"+G124","v":"TIN"},null,null,{"$f":"+J124+(+H124*F124)","v":0},{"$f":"+G124","v":"TIN"},{"$f":"+L124*E124","v":0},null,"桶"]
[null,"OLIVE OIL","橄榄油","1 BTL * 1 LIT ",20.5,null,"BTL",1,"KG",null,null,{"$f":"+J125+(+H125*F125)","v":0},{"$f":"+G125","v":"BTL"},{"$f":"+L125*E125","v":0},null,"瓶"]
[]
[]
["POWDER 粉类"]
["(A ) KNORR BRAND","KN CHICKEN STOCK                                         ","(家乐)鸡精粉","1ctn*6pkt*1.2kg",17.899999999999999,2,"PKT",1,"PKT",null,null,{"$f":"+J129+(+H129*F129)","v":2},{"$f":"+G129","v":"PKT"},{"$f":"+L129*E129","v":35.799999999999997},null,"包"]
[null,"KN DEMI-GLACE BROWN SAUCE MIX               ","(家乐)黄揭汁粉","1ctn*6pkt*1kg",20.9,4,"PKT",1,"PKT",null,null,{"$f":"+J130+(+H130*F130)","v":4},{"$f":"+G130","v":"PKT"},{"$f":"+L130*E130","v":83.6},null,"包"]
[null,"KN INSTANT CHICKEN GRAVY MIX                 ","(家乐)即溶鸡肉汁","1ctn*6pkt*1kg",23.9,null,"PKT",1,"PKT",null,null,{"$f":"+J131+(+H131*F131)","v":0},{"$f":"+G131","v":"PKT"},{"$f":"+L131*E131","v":0},null,"包"]
[null,"KN TENDERIZER ","（家乐）松肉粉","1btl*453.6gm",6.9,1,"BTL ",1,{"$f":"+G132","v":"BTL "},null,null,{"$f":"+J132+(+H132*F132)","v":1},{"$f":"+G132","v":"BTL "},{"$f":"+L132*E132","v":6.9},null,"罐"]
[null,"KN TEPUNG GORENG AYAM","(家乐)酥炸脆鸡粉","1ctn*12pkt*1kg",12,2,"PKT",1,"PKT",null,null,{"$f":"+J133+(+H133*F133)","v":2},{"$f":"+G133","v":"PKT"},{"$f":"+L133*E133","v":24},null,"包"]
[]
["(B ) FLOUR","FLOUR SUPERIOR (WINDMILL)                              ","风车粉","1pkt*1kg",6.5,1.2,"KG",1,"KG",null,null,{"$f":"+J135+(+H135*F135)","v":1.2},{"$f":"+G135","v":"KG"},{"$f":"+L135*E135","v":7.8},null,"包"]
[null,"FLOUR TAPIOCA                                                      ","薯粉","1pkt*1kg",2.9,9,"PKT",1,"KG",null,null,{"$f":"+J136+(+H136*F136)","v":9},{"$f":"+G136","v":"PKT"},{"$f":"+L136*E136","v":26.099999999999998},null,"包"]
[null,"FLOUR WHEAT (ANCHOR)                                ","面粉","1pkt*1kg",2.7,2,"PKT",1,"KG",null,null,{"$f":"+J137+(+H137*F137)","v":2},{"$f":"+G137","v":"PKT"},{"$f":"+L137*E137","v":5.4},null,"包"]
[null,"FLOUR RICE","粘米粉","1PKT * 500G",1.9,null,"PKT",1,"KG",null,null,{"$f":"+J138+(+H138*F138)","v":0},{"$f":"+G138","v":"PKT"},{"$f":"+L138*E138","v":0},null,"包"]
[]
["(C  ) OTHERS","AJINOMOTO","味精粉","1CTN*20PKT*1KG",9.5,null,"PKT",1,"PKT",null,null,{"$f":"+J140+(+H140*F140)","v":0},"PKT",{"$f":"+L140*E140","v":0},null,"包"]
[null,"CUMIN (JINTAN PUTIH)                   ","小茴粉","1ctn*40pkt*70g",4.5,null,"PKT",1,{"$f":"+G141","v":"PKT"},null,null,0,{"$f":"+G141","v":"PKT"},0,null,"包"]
[null,"DRIED CHILI POWDER","辣椒干粉","1ctn*40pkt*250g",6,0.65,"GM",1,"GM",null,null,0.65,"GM",3.9000000000000004,null,"包"]
[null,"DRIED CHILI POWDER","辣椒干粉","1CTN *40PKT *250G",28,1.2,"KG",1,"KG",null,null,1.2,"KG",33.6]
[null,"PARPIKA ","灯笼椒粉","1pkt*100gm",{"$f":"+[5]Mar!E224","v":5.9},1,"PKT",1,"PKT",null,null,1,"PKT",5.9,null,"包"]
[null,"PEPPER BLACK (CORN WHOLE)                          ","黑胡椒粒","PER KG",4.8,null,"PKT",1,"PKT",null,null,0,"PKT",0,null,"包"]
[null,"POWDER CURRY (BABA)","(BABA)加厘粉","1pkt*250g",8,14,"KG",1,"KG",null,null,14,"KG",112,null,"包"]
[null,"POWDER CURRY WATCH BRAND (ENGLAND)                     ","英式咖哩粉","1ctn*36btl*115g",null,null,null,null,null,null,null,null,null,null,null,"罐"]
[null,"POWDER CUSTARD","鸡仔粉","1pkt*300gm",null,null,null,null,null,null,null,null,null,null,null,"包"]
[null,"POWDER FIVE SPICE              ","五香粉(博安堂)","1pkt*300gm",0.06,null,"PKT",1,"GM",null,{"$f":"+I149","v":"GM"},{"$f":"+J149+(+H149*F149)","v":0},{"$f":"+K149","v":"GM"},{"$f":"+L149*E149","v":0},null,"包"]
[null,"POWDER MUSTARD","黄芥辣粉","1tub*454gm",5.5E-2,null,"PKT",1,"GM",430,"GM",430,"GM",23.65,null,"包"]
[null,"POWDER WHITE PEPPER                                     ","白胡椒粉(平)","1pkt*500gm",6.6000000000000003E-2,null,"PKT",1,"GM",160,"GM",160,"GM",10.56,null,"包"]
[null,"TURMERIC (KUNYIT)                              ","黄姜粉","1pkt*250g",1.4E-2,null,"PKT",1,"GM",300,"GM",300,"GM",4.2,null,"包"]
[null,"TURMERIC (KUNYIT)                              ","黄姜粉","1PKT * 250G",7.0000000000000007E-2,null,"PKT",1,"GM",93,"GM",93,"GM",6.5100000000000007]
[null,"WHITE BREADCRUMB","面包粉","1pkt*1Kkg",4.4999999999999998E-2,null,"PKT",1,"GM",110,"GM",110,"GM",4.95,null,"包"]
[null,null,null,null,15,null,"PKT",1,"KG",0.3,"KG",0.3,"KG",4.5]
["HERBS & SPICES 香料类"]
[null,"BASIL WHOLE","九层塔香草","GRAM ",2.9,7,"CAN",1,{"$f":"+G157","v":"CAN"},null,null,{"$f":"+J157+(+H157*F157)","v":7},{"$f":"+G157","v":"CAN"},{"$f":"+L157*E157","v":20.3},null,"公斤"]
[null,"BAY LEAVES WHOLE","月桂叶","GRAM ",3.8,null,"PKT",1,{"$f":"+G158","v":"PKT"},null,null,0,{"$f":"+G158","v":"PKT"},0,null,"公斤"]
[null,"DING XIANG(CENGKIH)","丁香","GRAM ",2.75,5,"CAN",1,{"$f":"+G159","v":"CAN"},null,null,5,"CAN",13.75,null,"公斤"]
[null,"FUNGUS BLACK                                         ","木耳","GRAM ",12.5,null,"PKT",1,"PKT",null,null,0,"PKT",0,null,"公斤"]
[null,"OREGANO WHOLE","区里卡诺香草","GRAM ",8.5,1,"BTL",1,"BTL",null,null,1,"BTL",8.5,null,"公斤"]
[null,"ROSEMARY WHOLE","迷迭香","GRAM ",8.5,null,"BTL",1,"BTL",null,null,0,"BTL",0,null,"公斤"]
[null,null,null,null,8.8000000000000007,null,"PKT",1,"PKT",null,null,0,"PKT",{"$f":"+L163*E163","v":0}]
["CREAM / MILK / JUICE  忌廉/牛奶/汁",null,null,null,4.25,null,"BTL",1,"BTL",null,null,0,"BTL",0]
[null,"CARNATION MILK","三花生奶","1CTN *48 CAN *400G",null,null,null,null,null,null,null,null,null,null,null,"罐"]
[null,"GREENFIELD FULL CREAM MILK （INDONESIA）","全脂牛奶","1 PKT * 1 LIT",null,null,null,null,null,null,null,null,null,null,null,"包"]
[null,"MILK TEA POT                                                          ","茶壶牛奶","1CTN *48 CAN *505G",0.37,209,"PCS",1,{"$f":"+G167","v":"PCS"},null,null,{"$f":"+J167+(+H167*F167)","v":209},{"$f":"+G167","v":"PCS"},{"$f":"+L167*E167","v":77.33},null,"罐"]
[null,"GREENFIELD UHT WHIPPING CREAM","液体奶油","1PKT * 1 LIT",null,null,null,null,null,null,null,null,null,null,null,"包"]
[null,"LEMON JUICE","柠檬汁","1BTL * 2LIT ",null,null,null,null,null,null,null,null,null,null,null,{"$f":"+P125","v":"瓶"}]
[null,"LIME JUICE","酸柑汁","1BTL * 2LIT ",2.7,3,"PKT",1,{"$f":"+G170","v":"PKT"},null,null,{"$f":"+J170+(+H170*F170)","v":3},{"$f":"+G170","v":"PKT"},{"$f":"+L170*E170","v":8.1000000000000014},null,"瓶"]
[null,"MILK COCONUT (RASAKU)                                    ","椰汁","1PKT * 1 LIT",0.57999999999999996,8,"PKT",1,{"$f":"+G171","v":"PKT"},null,null,{"$f":"+J171+(+H171*F171)","v":8},"PKT",{"$f":"+L171*E171","v":4.6399999999999997},null,"包"]
[null,"ORANGE JUICE","橙汁","1BTL * 2LIT ",null,null,null,null,null,null,null,null,null,null,null,"瓶"]
[]
["EGG 鸡蛋 ",null,null,null,20,1,"KG",1,{"$f":"+G174","v":"KG"},null,null,{"$f":"+J174+(+H174*F174)","v":1},{"$f":"+G174","v":"KG"},{"$f":"+L174*E174","v":20}]
[null,"EGG","鸡蛋","NOS",1.8,2,"CAN",1,{"$f":"+G175","v":"CAN"},null,null,{"$f":"+J175+(+H175*F175)","v":2},{"$f":"+G175","v":"CAN"},{"$f":"+L175*E175","v":3.6},null,"粒"]
[null,null,null,null,2,4,"CAN",1,"CAN",null,null,4,"CAN",8]
["SUGAR / SALT 糖与盐",null,null,null,2,4,"CAN",1,"CAN",null,null,4,"CAN",8]
[null,"SUGER WHITE FINE","幼白糖","1CTN*24PKT*1KG",3.9,1,"CAN",1,"CAN",null,null,1,"CAN",3.9,null,"包"]
[null,"SALT FINE (PKT)                                                       ","幼盐(包)","1CTN*12PKT*450GM",2.2000000000000002,1,"CAN",1,"CAN",null,null,1,"CAN",2.2000000000000002,null,"包"]
[null,null,null,null,24.9,1,"CAN",1,"CAN",null,null,1,"CAN",24.9]
["GROCERIES 杂货",null,null,null,34,null,"TIN",1,"TIN",null,null,0,"TIN",0]
[null,"IKAN BILIS (B)","金钱鱼肉","PER KG",2.4,3,"CAN",1,"CAN",null,null,3,"CAN",7.1999999999999993,null,"罐"]
[null,"BAKED BEAN                                                ","茄汁豆","1CTN*24CAN *425G",2.35,6,"CAN",1,"CAN",null,null,6,"CAN",14.100000000000001,null,"公斤"]
[null,"BEANCURD RED PRESERVED","南乳(罐)","1 CTN *36BTL *250G",14,null,"KG",1,"KG",null,null,0,"KG",0,null,"罐"]
[null,"BEANCURD WHITE PRESERVED                ","大石付乳","1 CTN *36BTL *350G",0,null,"KG",1,"KG",null,null,0,"KG",0,null,"罐"]
[null,"DOU CHU LI ","豆豉粒","1 CAN *500G",0,null,"CTN",1,"CTN",null,null,0,"CTN",0,null,"罐"]
[null,"MALTOSE","麦芽糖","1CAN* 350G",2.9,2,"CAN",1,"CAN",null,null,2,"CAN",5.8,null,"罐"]
[null,"MARMITE","妈蜜汁","1CAN* 470G",45,2,"TUB ",1,"TUB ",null,null,2,"TUB ",90,null,"罐"]
[null,"MASHED POTATO POWDER","薯泥粉","1TIN* 2.2KG",6.5,null,"PKT",1,"PKT",null,null,0,"PKT",0,null,"包"]
[null,"MUSHROOM BUTTON                               ","蘑菇","1CTN*24CAN *425G",2.5,6,"CAN",1,"CAN",null,null,6,"CAN",15,null,"罐"]
[null,"MUSHROOM STRAW ","草菇","1CTN*24CAN *425G",3.5,null,"CAN",1,"CAN",null,null,0,"CAN",0,null,"罐"]
[null,"NUT CANDLENUT (BUAH KERAS)                   ","石古仔","1 PKT * 1KG",9.5,null,"PKT",1,"PKT",null,null,0,"PKT",0,null,"包"]
[null,"NUT GROUND                                                ","花生米","1 PKT * 1KG",24,1.3,"KG",1,{"$f":"+G193","v":"KG"},null,null,{"$f":"+J193+(+H193*F193)","v":1.3},"KG",{"$f":"+L193*E193","v":31.200000000000003},null,"包"]
[null,"PICKLED LETTUCE","罐头菜心","1CTN*48CAN*170G",null,null,null,null,null,null,null,null,null,null,null,"罐"]
[null,"PINEAPPLE (SLICE)","黄梨片","1TIN * 565G",null,null,null,null,null,null,null,null,null,{"$f":"SUM(N12:N194)","v":6496.3338585858592},null,"罐"]
[null,"PLANTA CHEF","白兰她","1TUB*4.8KG",null,null,null,null,null,null,null,null,null,null,null,"桶"]
[null,"PRESERVED VEGETABLE","包装菜蒲碎","1PKT *120G",null,null,null,null,null,null,null,null,null,null,null,"包"]
[null,"SARDINE","沙丁鱼","1CTN*24CAN *425G",13.5,null,"DRUM",1,{"$f":"+G198","v":"DRUM"},null,null,{"$f":"+J198+(+H198*F198)","v":0},{"$f":"+I198","v":"DRUM"},{"$f":"+L198*E198","v":0},null,"罐"]
[null,"SESAME SEED WHITE","白芝麻","1 PKT * 1KG",0.4,191,"PCS",1,{"$f":"+G199","v":"PCS"},null,null,{"$f":"+J199+(+H199*F199)","v":191},"PKT",{"$f":"+L199*E199","v":76.400000000000006},null,"包"]
[null,"SILVER FISH","白饭银鱼","1PKT*50GM",3.5,40,"PKT",1,{"$f":"+G200","v":"PKT"},null,null,{"$f":"+J200+(+H200*F200)","v":40},"PKT",{"$f":"+L200*E200","v":140},null,"包"]
[null,"VE-TSIN POWDER-SMALL","佛手味精","1BTL*94.5G",null,null,null,null,null,null,null,null,null,null,null,"罐 "]
[null,"VG DRIED CHILI                                                      ","辣椒干","1 PKT * 1KG",null,null,null,null,null,null,null,null,null,{"$f":"+N200+N199+N198+N195","v":6712.7338585858588},null,"包"]
[null,"Dried Prawn","虾米","1 PKT * 1KG"]
[]
["G.TOTAL FOR FOOD MATERIAL  "]
[]
["OTHERS 其他"]
[null,"DISHWASHING ","洗碗精","1DRUM*10 LIT",null,null,null,null,null,null,null,null,null,null,null,"桶"]
[null,"LUNCH BOX SET","打包饭盒","PCS"]
[null,"OIL ABSORBING PAPER","吸油纸","1CTN*20PKT"]
[]
["G.TOTAL  ( FOOD MATERIAL + OTHERS)"]

{"sheet":"K-LUNCH & K DINNER","index":5,"n_rows":56,"n_cols":10,"rows_kept":56,"cut":false,"hidden":false,"merged":[[0,0,0,4],[55,0,55,2],[5,8,5,9]]}
["MONTHLY SALES FOOD RECORD ( K LUNCH & K DINNER)"]
[]
["Outlet :","CCS OUTLET"]
["Month :","2013-09-01"]
[]
[null,null,null,"K-LUNCH & K DINNER","TOTAL COST ",null,null,null,"USAGE"]
["NO","MENU ITEM","Cost","Sales",null,null,null,"MATERIAL  USED","PORTION","TOTAL"]
[null,null,"RM","Q","RM",null,null,"Q","Q","Q"]
[]
[1,"DH01 91101:THAI CHK",{"$f":"SUMIF(DATABASE!$B$3:$B$73,'K-LUNCH & K DINNER'!B10,DATABASE!$C$3:$C$73)","v":3.29},{"$f":"VLOOKUP(B10,Summary!$B$30:$AK$475,5,FALSE)","v":3},{"$f":"+D10*C10","v":9.870000000000001},null,null,"CHICKEN CHOP (MARINATED)",0.66,{"$f":"+I10*D10","v":1.98}]
[{"$f":"+A10+1","v":2},"DH02 91102:MAMITE CHK",{"$f":"SUMIF(DATABASE!$B$3:$B$73,'K-LUNCH & K DINNER'!B11,DATABASE!$C$3:$C$73)","v":3.02},{"$f":"VLOOKUP(B11,Summary!$B$30:$AK$475,5,FALSE)","v":7},{"$f":"+D11*C11","v":21.14},null,null,"CHICKEN CHOP (MARINATED)",0.66,4.62]
[{"$f":"+A11+1","v":3},"DH03 91103:KO PO CHK",{"$f":"SUMIF(DATABASE!$B$3:$B$73,'K-LUNCH & K DINNER'!B12,DATABASE!$C$3:$C$73)","v":3.45},{"$f":"VLOOKUP(B12,Summary!$B$30:$AK$475,5,FALSE)","v":0},0,null,null,"CHICKEN CHOP (MARINATED)",0.66,0]
[4,"DH04 91104:S&S CHK",{"$f":"SUMIF(DATABASE!$B$3:$B$73,'K-LUNCH & K DINNER'!B13,DATABASE!$C$3:$C$73)","v":3.45},{"$f":"VLOOKUP(B13,Summary!$B$30:$AK$475,5,FALSE)","v":1},3.45,null,null,"CHICKEN CHOP (MARINATED)",0.66,0.66]
[5,"DH05 91105:BUTTER CHK",{"$f":"SUMIF(DATABASE!$B$3:$B$73,'K-LUNCH & K DINNER'!B14,DATABASE!$C$3:$C$73)","v":3.32},{"$f":"VLOOKUP(B14,Summary!$B$30:$AK$475,5,FALSE)","v":5},16.599999999999998,null,null,"CHICKEN CHOP (MARINATED)",0.66,3.3000000000000003]
[6,"DH06 91106:HK F.RICE",{"$f":"SUMIF(DATABASE!$B$3:$B$73,'K-LUNCH & K DINNER'!B15,DATABASE!$C$3:$C$73)","v":3.16},{"$f":"VLOOKUP(B15,Summary!$B$30:$AK$475,5,FALSE)","v":3},9.48,null,null,null,null,0]
[7,"DH07 91107:SBL F.RICE",{"$f":"SUMIF(DATABASE!$B$3:$B$73,'K-LUNCH & K DINNER'!B16,DATABASE!$C$3:$C$73)","v":2.41},{"$f":"+Summary!F148","v":0},0,null,null,null,null,0]
[8,"DH08 91108:SBL F.MEE",{"$f":"SUMIF(DATABASE!$B$3:$B$73,'K-LUNCH & K DINNER'!B17,DATABASE!$C$3:$C$73)","v":2.8},{"$f":"VLOOKUP(B17,Summary!$B$30:$AK$475,5,FALSE)","v":1},2.8,null,null,null,null,0]
[9,"DH09 91109:BP UDON",{"$f":"SUMIF(DATABASE!$B$3:$B$73,'K-LUNCH & K DINNER'!B18,DATABASE!$C$3:$C$73)","v":2.08},{"$f":"VLOOKUP(B18,Summary!$B$30:$AK$475,5,FALSE)","v":3},6.24,null,null,null,null,0]
[10,"DH10 91110:NISSIN",{"$f":"SUMIF(DATABASE!$B$3:$B$73,'K-LUNCH & K DINNER'!B19,DATABASE!$C$3:$C$73)","v":2.3199999999999998},{"$f":"VLOOKUP(B19,Summary!$B$30:$AK$475,5,FALSE)","v":2},4.6399999999999997,null,null,"CHICKEN SAUSAGE ",1.5,3]
[11,"DH11 91111:VEG RICE",{"$f":"SUMIF(DATABASE!$B$3:$B$73,'K-LUNCH & K DINNER'!B20,DATABASE!$C$3:$C$73)","v":1.6},{"$f":"VLOOKUP(B20,Summary!$B$30:$AK$475,5,FALSE)","v":0},0,null,null,null,null,0]
[12,"DH12 91112:NASI LEMAK",{"$f":"SUMIF(DATABASE!$B$3:$B$73,'K-LUNCH & K DINNER'!B21,DATABASE!$C$3:$C$73)","v":3.56},{"$f":"VLOOKUP(B21,Summary!$B$30:$AK$475,5,FALSE)","v":0},0,null,null,"CHICKEN WINGS (NON -MARINATED)",1,0]
[13,"DH13 91113:KUEY TEOW",{"$f":"SUMIF(DATABASE!$B$3:$B$73,'K-LUNCH & K DINNER'!B22,DATABASE!$C$3:$C$73)","v":3.16},{"$f":"VLOOKUP(B22,Summary!$B$30:$AK$475,5,FALSE)","v":0},0,null,null,null,null,0]
[14,"DH14 91114:F.BALL MEE",{"$f":"SUMIF(DATABASE!$B$3:$B$73,'K-LUNCH & K DINNER'!B23,DATABASE!$C$3:$C$73)","v":2.59},{"$f":"VLOOKUP(B23,Summary!$B$30:$AK$475,5,FALSE)","v":0},0,null,null,"FISH BALL (SMALL)",5,0]
[15,"DH15 91115:CHK NOODLE",{"$f":"SUMIF(DATABASE!$B$3:$B$73,'K-LUNCH & K DINNER'!B24,DATABASE!$C$3:$C$73)","v":4.71},{"$f":"VLOOKUP(B24,Summary!$B$30:$AK$475,5,FALSE)","v":0},0,null,null,"CHICKEN CHOP (MARINATED)",1,0]
[16,"DH16 91116:MGL CHK",{"$f":"SUMIF(DATABASE!$B$3:$B$73,'K-LUNCH & K DINNER'!B25,DATABASE!$C$3:$C$73)","v":3.54},{"$f":"VLOOKUP(B25,Summary!$B$30:$AK$475,5,FALSE)","v":4},14.16,null,null,"CHICKEN CHOP (MARINATED)",0.66,{"$f":"+I25*D25","v":2.64}]
[{"$f":"+A25+1","v":17},"DG01 91001:BP CHK CP",{"$f":"SUMIF(DATABASE!$B$3:$B$73,'K-LUNCH & K DINNER'!B26,DATABASE!$C$3:$C$73)","v":4.41},{"$f":"VLOOKUP(B26,Summary!$B$30:$AK$475,5,FALSE)","v":18},{"$f":"+D26*C26","v":79.38},null,null,"CHICKEN CHOP (MARINATED)",1,18]
[{"$f":"+A26+1","v":18},"DG02 91002:GVY CHK CP",{"$f":"SUMIF(DATABASE!$B$3:$B$73,'K-LUNCH & K DINNER'!B27,DATABASE!$C$3:$C$73)","v":4.43},{"$f":"VLOOKUP(B27,Summary!$B$30:$AK$475,5,FALSE)","v":5},22.15,null,null,"CHICKEN CHOP (MARINATED)",1,5]
[19,"DG03 91003:MSR CHK CP",{"$f":"SUMIF(DATABASE!$B$3:$B$73,'K-LUNCH & K DINNER'!B28,DATABASE!$C$3:$C$73)","v":4.75},{"$f":"VLOOKUP(B28,Summary!$B$30:$AK$475,5,FALSE)","v":15},71.25,null,null,"CHICKEN CHOP (MARINATED)",1,15]
[20,"DG04 91004:CKN MARY",{"$f":"SUMIF(DATABASE!$B$3:$B$73,'K-LUNCH & K DINNER'!B29,DATABASE!$C$3:$C$73)","v":5.98},{"$f":"VLOOKUP(B29,Summary!$B$30:$AK$475,5,FALSE)","v":10},59.800000000000004,null,null,"CHICKEN CHOP (MARINATED)",1,10]
[21,"DG05 91005:FISH&CHIP",{"$f":"SUMIF(DATABASE!$B$3:$B$73,'K-LUNCH & K DINNER'!B30,DATABASE!$C$3:$C$73)","v":4.32},{"$f":"VLOOKUP(B30,Summary!$B$30:$AK$475,5,FALSE)","v":12},51.84,null,null,"DORY FISH FILLET ",1,12]
[22,"DG06 91006:SPAGHETTI",{"$f":"SUMIF(DATABASE!$B$3:$B$73,'K-LUNCH & K DINNER'!B31,DATABASE!$C$3:$C$73)","v":2.1},{"$f":"VLOOKUP(B31,Summary!$B$30:$AK$475,5,FALSE)","v":12},25.200000000000003]
[23,"DG07 91007:CHK SALAD",{"$f":"SUMIF(DATABASE!$B$3:$B$73,'K-LUNCH & K DINNER'!B32,DATABASE!$C$3:$C$73)","v":4.9400000000000004},{"$f":"VLOOKUP(B32,Summary!$B$30:$AK$475,5,FALSE)","v":5},24.700000000000003,null,null,"CHICKEN CHOP (MARINATED)",1,{"$f":"+I32*D32","v":5}]
[24,"DI01 91201:SFD STICK",{"$f":"SUMIF(DATABASE!$B$3:$B$73,'K-LUNCH & K DINNER'!B33,DATABASE!$C$3:$C$73)","v":2},{"$f":"VLOOKUP(B33,Summary!$B$30:$AK$475,5,FALSE)","v":0},0,null,null,"SOTONG BALL",2,{"$f":"+I33*$D$33","v":0}]
[null,null,null,null,null,null,null,"SALMON BALL",2,{"$f":"+I34*$D$33","v":0}]
[null,null,null,null,null,null,null,"SEAFOOD TOFU ",2,{"$f":"+I35*$D$33","v":0}]
[25,"DI02 91202:FREN FRIES",{"$f":"SUMIF(DATABASE!$B$3:$B$73,'K-LUNCH & K DINNER'!B36,DATABASE!$C$3:$C$73)","v":1.76},{"$f":"VLOOKUP(B36,Summary!$B$30:$AK$475,5,FALSE)","v":1},1.76,null,null,null,null,{"$f":"+I36*D36","v":0}]
[26,"DI03 91203:GOLD MROOM",{"$f":"SUMIF(DATABASE!$B$3:$B$73,'K-LUNCH & K DINNER'!B37,DATABASE!$C$3:$C$73)","v":2.15},{"$f":"VLOOKUP(B37,Summary!$B$30:$AK$475,5,FALSE)","v":0},0,null,null,null,null,0]
[27,"DI04 91204:FISHBALL",{"$f":"SUMIF(DATABASE!$B$3:$B$73,'K-LUNCH & K DINNER'!B38,DATABASE!$C$3:$C$73)","v":1.56},{"$f":"VLOOKUP(B38,Summary!$B$30:$AK$475,5,FALSE)","v":0},0,null,null,"FISH BALL (BIG)",6,{"$f":"+I38*D38","v":0}]
[28,"DI05 91205:RAINBOW RL",{"$f":"SUMIF(DATABASE!$B$3:$B$73,'K-LUNCH & K DINNER'!B39,DATABASE!$C$3:$C$73)","v":2.5},{"$f":"VLOOKUP(B39,Summary!$B$30:$AK$475,5,FALSE)","v":0},0,null,null,"RAINBOW ROLL",1,{"$f":"+I39*D39","v":0}]
[29,"DI06 91206:SPRING RL",{"$f":"SUMIF(DATABASE!$B$3:$B$73,'K-LUNCH & K DINNER'!B40,DATABASE!$C$3:$C$73)","v":2.67},{"$f":"VLOOKUP(B40,Summary!$B$30:$AK$475,5,FALSE)","v":0},0,null,null,"SPRING ROLL",8,0]
[30,"DI07 91207:SAUSAGE",{"$f":"SUMIF(DATABASE!$B$3:$B$73,'K-LUNCH & K DINNER'!B41,DATABASE!$C$3:$C$73)","v":1.24},{"$f":"VLOOKUP(B41,Summary!$B$30:$AK$475,5,FALSE)","v":0},0,null,null,"CHICKEN SAUSAGE ",4,{"$f":"+I41*D41","v":0}]
[31,"DI08 91208:HOTDOG BUN",{"$f":"SUMIF(DATABASE!$B$3:$B$73,'K-LUNCH & K DINNER'!B42,DATABASE!$C$3:$C$73)","v":0},{"$f":"VLOOKUP(B42,Summary!$B$30:$AK$475,5,FALSE)","v":0},0,null,null,"HOTDOG",null,0]
[32,"DI09 91209:SFD TOFU",{"$f":"SUMIF(DATABASE!$B$3:$B$73,'K-LUNCH & K DINNER'!B43,DATABASE!$C$3:$C$73)","v":0},{"$f":"VLOOKUP(B43,Summary!$B$30:$AK$475,5,FALSE)","v":0},0,null,null,"SEAFOOD TOFU ",null,0]
[24,"DI10 91301:DUMPLING",{"$f":"SUMIF(DATABASE!$B$3:$B$73,'K-LUNCH & K DINNER'!B44,DATABASE!$C$3:$C$73)","v":4.5},{"$f":"VLOOKUP(B44,Summary!$B$30:$AK$475,5,FALSE)","v":0},0,null,null,"DUMPLING ",6,0]
[25,"DI11 91302:NUGGET",{"$f":"SUMIF(DATABASE!$B$3:$B$73,'K-LUNCH & K DINNER'!B45,DATABASE!$C$3:$C$73)","v":2.4300000000000002},{"$f":"VLOOKUP(B45,Summary!$B$30:$AK$475,5,FALSE)","v":2},4.8600000000000003,null,null,"CHICKEN NUGGET",8,{"$f":"+I45*D45","v":16}]
[26,"DI12 91303:CHK WING",{"$f":"SUMIF(DATABASE!$B$3:$B$73,'K-LUNCH & K DINNER'!B46,DATABASE!$C$3:$C$73)","v":3.97},{"$f":"VLOOKUP(B46,Summary!$B$30:$AK$475,5,FALSE)","v":1},3.97,null,null,"CHICKEN WING  (MARINATED)",3,3]
[27,"DI13 91304:IKAN BILIS",{"$f":"SUMIF(DATABASE!$B$3:$B$73,'K-LUNCH & K DINNER'!B47,DATABASE!$C$3:$C$73)","v":2.1800000000000002},{"$f":"VLOOKUP(B47,Summary!$B$30:$AK$475,5,FALSE)","v":0},0,null,null,null,null,0]
[28,"DI14 91305:THAI RL",{"$f":"SUMIF(DATABASE!$B$3:$B$73,'K-LUNCH & K DINNER'!B48,DATABASE!$C$3:$C$73)","v":3.61},{"$f":"VLOOKUP(B48,Summary!$B$30:$AK$475,5,FALSE)","v":0},0,null,null,"THAI ROLL",7,0]
[29,"DI15 91306:SLVR FISH",{"$f":"SUMIF(DATABASE!$B$3:$B$73,'K-LUNCH & K DINNER'!B49,DATABASE!$C$3:$C$73)","v":0},{"$f":"VLOOKUP(B49,Summary!$B$30:$AK$475,5,FALSE)","v":0},0,null,null,null,null,0]
[30,"DI16 91307:D/F C.WING",{"$f":"SUMIF(DATABASE!$B$3:$B$73,'K-LUNCH & K DINNER'!B50,DATABASE!$C$3:$C$73)","v":4.3099999999999996},{"$f":"VLOOKUP(B50,Summary!$B$30:$AK$475,5,FALSE)","v":0},0,null,null,"CHICKEN WING  (MARINATED)",3,0]
[31,"DI17 91308:C/CALAMARI",{"$f":"SUMIF(DATABASE!$B$3:$B$73,'K-LUNCH & K DINNER'!B51,DATABASE!$C$3:$C$73)","v":3.69},{"$f":"VLOOKUP(B51,Summary!$B$30:$AK$475,5,FALSE)","v":0},0,null,null,"CALAMARI RING",7,0]
[32,"DI18 91309:Mc O.RINGS",{"$f":"SUMIF(DATABASE!$B$3:$B$73,'K-LUNCH & K DINNER'!B52,DATABASE!$C$3:$C$73)","v":1.72},{"$f":"VLOOKUP(B52,Summary!$B$30:$AK$475,5,FALSE)","v":1},1.72,null,null,"MCCAIN ONION RING",8,{"$f":"+I52*D52","v":8}]
[33,"DI19 91310:McSPIRAL.F",{"$f":"SUMIF(DATABASE!$B$3:$B$73,'K-LUNCH & K DINNER'!B53,DATABASE!$C$3:$C$73)","v":1.72},{"$f":"VLOOKUP(B53,Summary!$B$30:$AK$475,5,FALSE)","v":0},0,null,null,"MCCAIN SPIRAL FRIES",0.22,{"$f":"+I53*D53","v":0}]
[34,"DI20 91311Mc H/SMILES",{"$f":"SUMIF(DATABASE!$B$3:$B$73,'K-LUNCH & K DINNER'!B54,DATABASE!$C$3:$C$73)","v":1.34},{"$f":"VLOOKUP(B54,Summary!$B$30:$AK$475,5,FALSE)","v":0},0,null,null,"MCCAIN SMILES",8,{"$f":"+I54*D54","v":0}]
[35,"DI21 91312:Mc HASH.B",{"$f":"SUMIF(DATABASE!$B$3:$B$73,'K-LUNCH & K DINNER'!B55,DATABASE!$C$3:$C$73)","v":0.59},{"$f":"VLOOKUP(B55,Summary!$B$30:$AK$475,5,FALSE)","v":0},0,null,null,"MCCAIN VERSITOT",15,{"$f":"+I55*D55","v":0}]
["Total Sales / COST",null,null,{"$f":"SUM(D10:D55)","v":111},{"$f":"SUM(E10:E55)","v":435.01}]

{"sheet":"LOK LOK ","index":6,"n_rows":130,"n_cols":20,"rows_kept":130,"cut":false,"hidden":false,"merged":[[127,1,127,3],[0,1,0,13],[7,17,7,19],[7,4,7,5],[7,7,7,8],[7,9,7,10],[7,12,7,13],[7,14,7,15],[6,4,6,5],[6,7,6,8],[6,9,6,10],[43,1,43,3]]}
[null,"MONTHLY SALES FOOD RECORD ( LOK LOK BAR COUNTER )"]
[]
[null,{"$f":"+'K-LUNCH & K DINNER'!A3","v":"Outlet :"},{"$f":"+'K-LUNCH & K DINNER'!B3","v":"CCS OUTLET"}]
[null,{"$f":"+'K-LUNCH & K DINNER'!A4","v":"Month :"},{"$f":"+'K-LUNCH & K DINNER'!B4","v":"2013-09-01"}]
[]
[null,"CCS LOK LOK BAR SALES"]
[null,null,null,null,"(A)",null,null,"(B)",null,"(A) - (B)"]
[null,null,null,null,"SIDE ORDER                 (INCLUDING FOC)",null,null,"FOC",null,"SIDE ORDER                        (NETT SALES)",null,null,"SIDE ORDER                        (NETT COST)",null,"FOC (COST)",null,null,"USAGE"]
[null,"NO","MENU ITEM","S/P","Sales","TOTAL",null,"Sales","TOTAL","Sales","TOTAL",null,"COST","TOTAL","COST","TOTAL",null,"MATERIAL ","RECIPE","TOTAL"]
[null,null,null,"RM","Q","RM",null,"Q","RM","Q","RM",null,"RM","RM","RM","RM",null,"Q","Q","Q"]
[null,null,"MAIN COURSE"]
["Grilled Chicken Chop (Black Pepper Sauce)",1,"JK001 LLB BP CHK CHOP",12.9,{"$f":"VLOOKUP(C12,Summary!$B$30:$AK$475,5,FALSE)","v":0},{"$f":"E12*D12","v":0},null,null,null,{"$f":"+E12-H12","v":0},{"$f":"+J12*D12","v":0},null,{"$f":"SUMIF(DATABASE!$L$3:$L$26,'LOK LOK '!C12,DATABASE!$M$3:$M$26)","v":4.41},{"$f":"+M12*J12","v":0},{"$f":"+M12","v":4.41},{"$f":"+O12*H12","v":0},null,"CHICKEN CHOP (MARINATED)",1,{"$f":"+S12*E12","v":0}]
["Grilled Chicken Chop (Gravy Sauce)",{"$f":"+B12+1","v":2},"JK002 LLB G.S C. CHOP",12.9,{"$f":"VLOOKUP(C13,Summary!$B$30:$AK$475,5,FALSE)","v":0},{"$f":"E13*D13","v":0},null,null,null,{"$f":"+E13-H13","v":0},{"$f":"+J13*D13","v":0},null,{"$f":"SUMIF(DATABASE!$L$3:$L$26,'LOK LOK '!C13,DATABASE!$M$3:$M$26)","v":4.43},{"$f":"+M13*J13","v":0},{"$f":"+M13","v":4.43},{"$f":"+O13*H13","v":0},null,"CHICKEN CHOP (MARINATED)",1,{"$f":"+S13*E13","v":0}]
["Grilled Chicken Chop (Black Pepper Sauce)",3,"JK003 LLB MSR CHK CHOP",12.9,{"$f":"VLOOKUP(C14,Summary!$B$30:$AK$475,5,FALSE)","v":0},0,null,null,null,0,0,null,{"$f":"SUMIF(DATABASE!$L$3:$L$26,'LOK LOK '!C14,DATABASE!$M$3:$M$26)","v":4.75},0,4.75,0,null,"CHICKEN CHOP (MARINATED)",1,0]
["Grilled Chicken Chop (Mushroom Sauce)",4,"JK004 LLB CHK MARRYLAN",12.9,{"$f":"VLOOKUP(C15,Summary!$B$30:$AK$475,5,FALSE)","v":0},0,null,null,null,0,0,null,{"$f":"SUMIF(DATABASE!$L$3:$L$26,'LOK LOK '!C15,DATABASE!$M$3:$M$26)","v":5.98},0,5.98,0,null,"CHICKEN CHOP (MARINATED)",1,0]
["Fish & Chip",5,"JK005 LLB Fish & Chip",12.9,{"$f":"VLOOKUP(C16,Summary!$B$30:$AK$475,5,FALSE)","v":0},0,null,null,null,0,0,null,{"$f":"SUMIF(DATABASE!$L$3:$L$26,'LOK LOK '!C16,DATABASE!$M$3:$M$26)","v":4.32},0,4.32,0,null,"DORY FISH FILLET ",1,0]
["Spaghetti Bolognese (Chicken)",6,"JK006 LLB Spaghetti",12.9,{"$f":"VLOOKUP(C17,Summary!$B$30:$AK$475,5,FALSE)","v":0},0,null,null,null,0,0,null,{"$f":"SUMIF(DATABASE!$L$3:$L$26,'LOK LOK '!C17,DATABASE!$M$3:$M$26)","v":2.1},0,2.1,0]
["Chicken Chop Salad",7,"JK007 LLB CHK .C.SALAD",12.9,{"$f":"VLOOKUP(C18,Summary!$B$30:$AK$475,5,FALSE)","v":0},0,null,null,null,0,0,null,{"$f":"SUMIF(DATABASE!$L$3:$L$26,'LOK LOK '!C18,DATABASE!$M$3:$M$26)","v":4.9400000000000004},0,4.9400000000000004,0,null,"CHICKEN CHOP (MARINATED)",1,0]
["Thai Style Chicken Chop With Rice",8,"JK101 LLB Thai Chk Ric",9.9,{"$f":"VLOOKUP(C19,Summary!$B$30:$AK$475,5,FALSE)","v":0},0,null,null,null,0,0,null,{"$f":"SUMIF(DATABASE!$L$3:$L$26,'LOK LOK '!C19,DATABASE!$M$3:$M$26)","v":3.29},0,3.29,0,null,"CHICKEN CHOP (MARINATED)",0.66,0]
["Marmite Style Chicken Chop With Rice",9,"JK102 Marmite Chk Rice",9.9,{"$f":"VLOOKUP(C20,Summary!$B$30:$AK$475,5,FALSE)","v":0},0,null,null,null,0,0,null,{"$f":"SUMIF(DATABASE!$L$3:$L$26,'LOK LOK '!C20,DATABASE!$M$3:$M$26)","v":3.02},0,3.02,0,null,"CHICKEN CHOP (MARINATED)",0.66,0]
["Sweet & Sour Chicken Chop With Rice",10,"JK104 S&S Chk Rice",9.9,{"$f":"VLOOKUP(C21,Summary!$B$30:$AK$475,5,FALSE)","v":0},0,null,null,null,0,0,null,{"$f":"SUMIF(DATABASE!$L$3:$L$26,'LOK LOK '!C21,DATABASE!$M$3:$M$26)","v":3.45},0,3.45,0,null,"CHICKEN CHOP (MARINATED)",0.66,0]
["Butter Cream Chicken Chop With Rice",11,"JK105 B.Cream.Chk Rice",9.9,{"$f":"VLOOKUP(C22,Summary!$B$30:$AK$475,5,FALSE)","v":0},0,null,null,null,0,0,null,{"$f":"SUMIF(DATABASE!$L$3:$L$26,'LOK LOK '!C22,DATABASE!$M$3:$M$26)","v":3.32},0,3.32,0,null,"CHICKEN CHOP (MARINATED)",0.66,{"$f":"+S22*E22","v":0}]
["Hong Kong Style Fried Rice",12,"JK106 H.K Fried Rice",9.9,{"$f":"VLOOKUP(C23,Summary!$B$30:$AK$475,5,FALSE)","v":0},0,null,null,null,0,0,null,{"$f":"SUMIF(DATABASE!$L$3:$L$26,'LOK LOK '!C23,DATABASE!$M$3:$M$26)","v":3.16},0,3.16,0]
["Sambal Fried Rice",13,"JK107 LLBSambal F.Rice",9.9,{"$f":"VLOOKUP(C24,Summary!$B$30:$AK$475,5,FALSE)","v":0},0,null,null,null,0,0,null,{"$f":"SUMIF(DATABASE!$L$3:$L$26,'LOK LOK '!C24,DATABASE!$M$3:$M$26)","v":2.41},0,2.41,0]
["Sambal Fried MEE",14,"JK108 LLB S.Fried MEE",9.9,{"$f":"VLOOKUP(C25,Summary!$B$30:$AK$475,5,FALSE)","v":0},0,null,null,null,0,0,null,{"$f":"SUMIF(DATABASE!$L$3:$L$26,'LOK LOK '!C25,DATABASE!$M$3:$M$26)","v":2.8},0,2.8,0]
["Black Pepper Udon Mee",15,"JK109 LLB BP Udon Mee",9.9,{"$f":"VLOOKUP(C26,Summary!$B$30:$AK$475,5,FALSE)","v":0},0,null,null,null,0,0,null,{"$f":"SUMIF(DATABASE!$L$3:$L$26,'LOK LOK '!C26,DATABASE!$M$3:$M$26)","v":2.08},0,2.08,0]
["Nissin Noodle",16,"JK110 LLB Nisin Noodle",9.9,{"$f":"VLOOKUP(C27,Summary!$B$30:$AK$475,5,FALSE)","v":0},0,null,null,null,0,0,null,{"$f":"SUMIF(DATABASE!$L$3:$L$26,'LOK LOK '!C27,DATABASE!$M$3:$M$26)","v":2.3199999999999998},0,2.3199999999999998,0,null,"CHICKEN SAUSAGE ",1.5,{"$f":"+S27*E27","v":0}]
["Stir Fried Mixed Vegetabes With Rice",17,"JK111 LLB S.M.Ver Rice",9.9,{"$f":"VLOOKUP(C28,Summary!$B$30:$AK$475,5,FALSE)","v":0},0,null,null,null,0,0,null,{"$f":"SUMIF(DATABASE!$L$3:$L$26,'LOK LOK '!C28,DATABASE!$M$3:$M$26)","v":1.6},0,1.6,0]
["Braised Noodle With Chicken Chop",18,"JK115 LLB B.Noodle.Chk",9.9,{"$f":"VLOOKUP(C29,Summary!$B$30:$AK$475,5,FALSE)","v":0},0,null,null,null,0,0,null,{"$f":"SUMIF(DATABASE!$L$3:$L$26,'LOK LOK '!C29,DATABASE!$M$3:$M$26)","v":4.71},0,4.71,0]
["Mongolian Chicken Chop With Rice",19,"JK116 LLB Mon.Chk Rice",9.9,{"$f":"VLOOKUP(C30,Summary!$B$30:$AK$475,5,FALSE)","v":0},0,null,null,null,0,0,null,{"$f":"SUMIF(DATABASE!$L$3:$L$26,'LOK LOK '!C30,DATABASE!$M$3:$M$26)","v":3.54},0,3.54,0,null,"CHICKEN CHOP (MARINATED)",0.66,{"$f":"+S30*E30","v":0}]
[]
[null,null,"PIZZA"]
[null,1]
[null,{"$f":"+B33+1","v":2}]
[null,3]
[null,4]
[null,5]
[null,6]
[null,7]
[null,{"$f":"+B39+1","v":8}]
[null,9]
[null,10]
[]
[null,"Total Sales / COST",null,null,{"$f":"SUM(E11:E43)","v":0},{"$f":"SUM(F11:F42)","v":0},null,{"$f":"SUM(H11:H43)","v":0},{"$f":"SUM(I11:I42)","v":0},{"$f":"SUM(J11:J43)","v":0},{"$f":"SUM(K11:K42)","v":0},null,{"$f":"SUM(M11:M43)","v":66.63000000000001},{"$f":"SUM(N11:N42)","v":0},{"$f":"SUM(O11:O43)","v":66.63000000000001},{"$f":"SUM(P11:P42)","v":0}]
[]
[null,null,"LOK LOK "]
["Cocktail Chicken Sausage",1,"JM101 C.Chicken Sausag",1.5,41,{"$f":"E47*D47","v":61.5},null,null,{"$f":"H47*D47","v":0},{"$f":"+E47-H47","v":41},{"$f":"+J47*D47","v":61.5},null,{"$f":"SUMIF(DATABASE!$O$3:$O$78,'LOK LOK '!C47,DATABASE!$P$3:$P$77)","v":0.39},{"$f":"+M47*J47","v":15.99},{"$f":"+M47","v":0.39},{"$f":"+O47*H47","v":0},null,"CHICKEN SAUSAGE",3,{"$f":"+S47*E47","v":123}]
["Beef Ball",{"$f":"+B47+1","v":2},"JM102 Beef Ball",2,20,{"$f":"E48*D48","v":40},null,null,0,20,40,null,{"$f":"SUMIF(DATABASE!$O$3:$O$78,'LOK LOK '!C48,DATABASE!$P$3:$P$77)","v":0.65},{"$f":"+M48*J48","v":13},{"$f":"+M48","v":0.65},0,null,"BEEF BALL",3,{"$f":"+S48*E48","v":60}]
["Chicken Kidney",{"$f":"+B48+1","v":3},"JM103 Chicken Kidney",2.5,null,0,null,null,0,0,0,null,{"$f":"SUMIF(DATABASE!$O$3:$O$78,'LOK LOK '!C49,DATABASE!$P$3:$P$77)","v":1},0,1,0,null,"CHICKEN KIDNEY",3,0]
["Chicken Liver",4,"JM104 Chicken Liver",2.5,null,0,null,null,0,0,0,null,{"$f":"SUMIF(DATABASE!$O$3:$O$78,'LOK LOK '!C50,DATABASE!$P$3:$P$77)","v":1},0,1,0,null,"CHICKEN LIVER",3,0]
["Cheese Chicken Sausage",5,"JM105 Cheese C.Sausage",2.5,686,1715,null,null,0,0,0,null,{"$f":"SUMIF(DATABASE!$O$3:$O$78,'LOK LOK '!C51,DATABASE!$P$3:$P$77)","v":0.8},0,0.8,0,null,"CHESS C.SAUSAGE",1,686]
["Black Pepper Chicken Sausage",6,"JM106 B.P C.Sausage",2.5,31,77.5,null,null,0,31,77.5,null,{"$f":"SUMIF(DATABASE!$O$3:$O$78,'LOK LOK '!C52,DATABASE!$P$3:$P$77)","v":0.8},24.8,0.8,0,null,null,1,31]
["Sauce-Filled Beef Ball",7,"JM107 S.Fill beef Ball",3,15,45,null,null,0,15,45,null,{"$f":"SUMIF(DATABASE!$O$3:$O$78,'LOK LOK '!C53,DATABASE!$P$3:$P$77)","v":1.05},15.75,1.05,0,null,"BEEF BALL",3,45]
["Pandan Chicken",8,"JM108 Pandan Chicken",4,9,36,null,null,0,9,36,null,{"$f":"SUMIF(DATABASE!$O$3:$O$78,'LOK LOK '!C54,DATABASE!$P$3:$P$77)","v":1.64},14.76,1.64,0,null,"PANDAN CHICKEN",2,18]
["Smoked Duck Breast",9,"JM109 S. Duck Breast",4,8,32,null,null,0,8,32,null,{"$f":"SUMIF(DATABASE!$O$3:$O$78,'LOK LOK '!C55,DATABASE!$P$3:$P$77)","v":2.13},17.04,2.13,0,null,"DUCK BREAST",2,16]
["Grilled Boneless Chicken Wing",10,"JM110 Grill.B.Chk.Wing",4,28,112,null,null,0,0,0,null,{"$f":"SUMIF(DATABASE!$O$3:$O$78,'LOK LOK '!C56,DATABASE!$P$3:$P$77)","v":2.8},0,2.8,0,null,null,1,28]
["Pork Meatball (Small)",11,"JN211 Pork Meatball s",2,75,150,null,null,0,0,0,null,{"$f":"SUMIF(DATABASE!$O$3:$O$78,'LOK LOK '!C57,DATABASE!$P$3:$P$77)","v":0.55000000000000004},0,0.55000000000000004,0,null,"PORK MEATBALL (S)",5,375]
["Wu Xiang Roll (Small)",{"$f":"+B57+1","v":12},null,null,35,null,null,null,null,null,null,null,{"$f":"SUMIF(DATABASE!$O$3:$O$78,'LOK LOK '!C58,DATABASE!$P$3:$P$77)","v":0},null,0,null,null,null,null,0]
["Pork Sausage Slices",{"$f":"+B58+1","v":13},"JN213 P. Sauage Slices",2.5,17,42.5,null,null,0,17,42.5,null,{"$f":"SUMIF(DATABASE!$O$3:$O$78,'LOK LOK '!C59,DATABASE!$P$3:$P$77)","v":0.96},16.32,0.96,0,null,null,null,0]
["Pork Dumplings",14,"JN214 Pork Dumplings",2.5,19,47.5,null,null,0,0,0,null,{"$f":"SUMIF(DATABASE!$O$3:$O$78,'LOK LOK '!C60,DATABASE!$P$3:$P$77)","v":1.2},0,1.2,0,null,"PORK DUMPLINGS",3,57]
["Pork Meatball (Big)",15,"JN215 Pork Meatball B",2.5,89,222.5,null,null,0,0,0,null,{"$f":"SUMIF(DATABASE!$O$3:$O$78,'LOK LOK '!C61,DATABASE!$P$3:$P$77)","v":0.78},0,0.78,0,null,"PORK MEATBALL (B)",null,0]
["Pork Liver",16,"JN216 Pork Liver",3,5,15,null,null,0,5,15,null,{"$f":"SUMIF(DATABASE!$O$3:$O$78,'LOK LOK '!C62,DATABASE!$P$3:$P$77)","v":1.2},6,1.2,0,null,"PORK LIVER",3,15]
["Taiwan Sausage",17,"JN217 Taiwan Sausage",3,99,297,null,null,0,99,297,null,{"$f":"SUMIF(DATABASE!$O$3:$O$78,'LOK LOK '!C63,DATABASE!$P$3:$P$77)","v":1.02},100.98,1.02,0,null,"TAIWAN SAUSAGE",3,297]
["Bacon",18,"JN218 Bacon",3,45,135,null,null,0,45,135,null,{"$f":"SUMIF(DATABASE!$O$3:$O$78,'LOK LOK '!C64,DATABASE!$P$3:$P$77)","v":0.95},42.75,0.95,0,null,"BACON",1,45]
["Pork Rinds",19,"JN219 Pork Rinds",4,2,8,null,null,0,2,8,null,{"$f":"SUMIF(DATABASE!$O$3:$O$78,'LOK LOK '!C65,DATABASE!$P$3:$P$77)","v":1.5},3,1.5,0,null,"PORK RINDS",2,4]
["Sauce-Filled Pork Meatball",20,"JN220 Sauce Filll Ball",4,40,160,null,null,0,40,160,null,{"$f":"SUMIF(DATABASE!$O$3:$O$78,'LOK LOK '!C66,DATABASE!$P$3:$P$77)","v":1.5},60,1.5,0,null,null,null,0]
["Roasted Pork",21,null,null,1,null,null,null,null,1,null,null,{"$f":"SUMIF(DATABASE!$O$3:$O$78,'LOK LOK '!C67,DATABASE!$P$3:$P$77)","v":0},0,0,null,null,null,null,0]
["Enoki with Bacon Roll",22,"JN222 Enoki Bacon Roll",4,29,116,null,null,0,29,116,null,{"$f":"SUMIF(DATABASE!$O$3:$O$78,'LOK LOK '!C68,DATABASE!$P$3:$P$77)","v":1.5},43.5,1.5,0,null,"ENOKI BACON",3,87]
["Fish Wanton",23,"JO323 Fish Wanton",1.5,18,27,null,null,0,18,27,null,{"$f":"SUMIF(DATABASE!$O$3:$O$78,'LOK LOK '!C69,DATABASE!$P$3:$P$77)","v":0.45},8.1,0.45,0,null,"FISH WANTON",3,54]
["Mini Fried Fish Cake",24,"JO324 M. Fried F. Cake",1.5,14,21,null,null,0,14,21,null,{"$f":"SUMIF(DATABASE!$O$3:$O$78,'LOK LOK '!C70,DATABASE!$P$3:$P$77)","v":0.6},8.4,0.6,0,null,null,null,0]
["Spicy Fish Cake",25,"JO325 Spicy Fish Cake",1.5,14,21,null,null,0,14,21,null,{"$f":"SUMIF(DATABASE!$O$3:$O$78,'LOK LOK '!C71,DATABASE!$P$3:$P$77)","v":0.48},6.72,0.48,0,null,null,null,0]
["Clam",26,"JO326 Fresh Clam",1.5,11,16.5,null,null,0,11,16.5,null,{"$f":"SUMIF(DATABASE!$O$3:$O$78,'LOK LOK '!C72,DATABASE!$P$3:$P$77)","v":1.5},16.5,1.5,0,null,null,null,0]
["Wu Xiang Fish Ball",27,"JO327 Wu Xiang F.Ball",2,14,28,null,null,0,14,28,null,{"$f":"SUMIF(DATABASE!$O$3:$O$78,'LOK LOK '!C73,DATABASE!$P$3:$P$77)","v":0.7},9.7999999999999989,0.7,0,null,null,null,0]
["Xi Dao Fish Ball ",28,"JO328 Xi Dao Fish Ball",2,54,{"$f":"E74*D74","v":108},null,null,0,0,{"$f":"+J74*D74","v":0},null,{"$f":"SUMIF(DATABASE!$O$3:$O$78,'LOK LOK '!C74,DATABASE!$P$3:$P$77)","v":0.65},0,0.65,0,null,"FISH BALL",5,270]
["Fish Ball (Small)",29,"JO329 Fish Ball (S)",2,24,{"$f":"E75*D75","v":48},null,null,{"$f":"H75*D75","v":0},0,{"$f":"+J75*D75","v":0},null,{"$f":"SUMIF(DATABASE!$O$3:$O$78,'LOK LOK '!C75,DATABASE!$P$3:$P$77)","v":0.65},0,0.65,0,null,"FISH BALL (S )",5,120]
["Tofu Fish Ball ",30,"JO330 Tofu Fish Ball",2,27,54,null,null,0,0,0,null,{"$f":"SUMIF(DATABASE!$O$3:$O$78,'LOK LOK '!C76,DATABASE!$P$3:$P$77)","v":0.6},0,0.6,0,null,"TOFU FISH BALL",3,81]
["Prawn Ball",31,"JO331 Prawn Ball",2,7,{"$f":"E77*D77","v":14},null,null,{"$f":"H77*D77","v":0},{"$f":"+E77-H77","v":7},{"$f":"+J77*D77","v":14},null,{"$f":"SUMIF(DATABASE!$O$3:$O$78,'LOK LOK '!C77,DATABASE!$P$3:$P$77)","v":0.39},2.73,0.39,0,null,"PRAWN BALL",3,21]
["Abalone Slices",32,"JO332 Abalone Slices",2,31,62,null,null,0,31,{"$f":"+J78*D78","v":62},null,{"$f":"SUMIF(DATABASE!$O$3:$O$78,'LOK LOK '!C78,DATABASE!$P$3:$P$77)","v":0.72},22.32,0.72,0,null,"ABALONE SLICES",3,93]
["Prawn Cocktail Sausage",33,"JO333 Prawn C. sausage",2,1,2,null,null,0,1,2,null,{"$f":"SUMIF(DATABASE!$O$3:$O$78,'LOK LOK '!C79,DATABASE!$P$3:$P$77)","v":0.56999999999999995},0.56999999999999995,0.56999999999999995,0,null,"PRAWN. C.SAUSAGE",3,3]
["Fish Ball (Big)",34,"JO334 FISH BALL BIG",2.5,21,52.5,null,null,0,0,0,null,{"$f":"SUMIF(DATABASE!$O$3:$O$78,'LOK LOK '!C80,DATABASE!$P$3:$P$77)","v":1},0,1,0,null,"FISH BALL (B)",3,63]
["Tempura Prawn",35,"JO335 Tempura Prawn",2.5,6,15,null,null,{"$f":"H81*D81","v":0},6,{"$f":"+J81*D81","v":15},null,{"$f":"SUMIF(DATABASE!$O$3:$O$78,'LOK LOK '!C81,DATABASE!$P$3:$P$77)","v":0.9},5.4,0.9,0,null,"TEMPURA PRAWN",1,6]
["Breaded Crab Claw",36,"JO336 Breaded CarbClaw",2.5,26,65,null,null,0,26,65,null,{"$f":"SUMIF(DATABASE!$O$3:$O$78,'LOK LOK '!C82,DATABASE!$P$3:$P$77)","v":0.9},23.400000000000002,0.9,0,null,null,null,0]
["Cheese Shrimp with Fish Paste ",37,"JO337 C.Shrimp.F.Paste",2.5,29,72.5,null,null,0,0,0,null,{"$f":"SUMIF(DATABASE!$O$3:$O$78,'LOK LOK '!C83,DATABASE!$P$3:$P$77)","v":0.73},0,0.73,0,null,null,null,0]
["Otak Fish Paste",38,"JO338 Otak Fish Paste",2.5,13,32.5,null,null,0,13,32.5,null,{"$f":"SUMIF(DATABASE!$O$3:$O$78,'LOK LOK '!C84,DATABASE!$P$3:$P$77)","v":0.67},8.7100000000000009,0.67,0,null,null,null,0]
["Salmon Ball",39,"JO339 Salmon Ball",2.5,13,{"$f":"E85*D85","v":32.5},null,null,{"$f":"H85*D85","v":0},{"$f":"+E85-H85","v":13},{"$f":"+J85*D85","v":32.5},null,{"$f":"SUMIF(DATABASE!$O$3:$O$78,'LOK LOK '!C85,DATABASE!$P$3:$P$77)","v":0.9},{"$f":"+M85*J85","v":11.700000000000001},{"$f":"+M85","v":0.9},{"$f":"+O85*H85","v":0},null,"SALMON BALL",3,39]
["Fuzhou Fish Ball",40,"JO340 Fuzhou Fish Ball",3,4,12,null,null,0,4,12,null,{"$f":"SUMIF(DATABASE!$O$3:$O$78,'LOK LOK '!C86,DATABASE!$P$3:$P$77)","v":1.29},5.16,1.29,0,null,null,null,0]
["Scallop Ball",41,"JO341 Scallop Ball",3,12,36,null,null,0,12,36,null,{"$f":"SUMIF(DATABASE!$O$3:$O$78,'LOK LOK '!C87,DATABASE!$P$3:$P$77)","v":1.02},12.24,1.02,0,null,"SCALLOP BALL",3,36]
["Taiwan Cuttlefish Ball",42,"JO342 Taiwan C.F. Ball",3,19,{"$f":"E88*D88","v":57},null,null,{"$f":"H88*D88","v":0},{"$f":"+E88-H88","v":19},{"$f":"+J88*D88","v":57},null,{"$f":"SUMIF(DATABASE!$O$3:$O$78,'LOK LOK '!C88,DATABASE!$P$3:$P$77)","v":1.17},{"$f":"+M88*J88","v":22.229999999999997},{"$f":"+M88","v":1.17},{"$f":"+O88*H88","v":0},null,"TAIWAN C.F. BALL",3,57]
["Cuttlefish Roll",43,"JO343 Cuttlefish Roll",3,21,63,null,null,0,21,63,null,{"$f":"SUMIF(DATABASE!$O$3:$O$78,'LOK LOK '!C89,DATABASE!$P$3:$P$77)","v":1.06},22.26,1.06,0,null,null,null,0]
["Mushroom Seafood Ball",44,"JO344 M.Seafood Ball",3,21,63,null,null,0,21,63,null,{"$f":"SUMIF(DATABASE!$O$3:$O$78,'LOK LOK '!C90,DATABASE!$P$3:$P$77)","v":1.02},21.42,1.02,0,null,null,null,0]
["Cuttlefish",45,"JO345 Cuttlefish",3,3,9,null,null,0,3,9,null,{"$f":"SUMIF(DATABASE!$O$3:$O$78,'LOK LOK '!C91,DATABASE!$P$3:$P$77)","v":1.5},4.5,1.5,0,null,null,null,0]
["Shisamo",46,"JO346 Shisamo",4,11,44,null,null,0,11,44,null,{"$f":"SUMIF(DATABASE!$O$3:$O$78,'LOK LOK '!C92,DATABASE!$P$3:$P$77)","v":1.5},16.5,1.5,0,null,null,null,0]
["Tiger Prawn",47,"JO347 Tiger Prawn",4,2,8,null,null,0,2,8,null,{"$f":"SUMIF(DATABASE!$O$3:$O$78,'LOK LOK '!C93,DATABASE!$P$3:$P$77)","v":1.5},3,1.5,0,null,"TIGER PRAWN",3,6]
["Bottom Mushroom",48,"JP448 Botton Mushroom",1.5,40,60,null,null,0,40,60,null,{"$f":"SUMIF(DATABASE!$O$3:$O$78,'LOK LOK '!C94,DATABASE!$P$3:$P$77)","v":0.6},24,0.6,0,null,null,null,0]
["Kang Kong",49,"JP449 Kang Kong",1.5,56,84,null,null,0,56,84,null,{"$f":"SUMIF(DATABASE!$O$3:$O$78,'LOK LOK '!C95,DATABASE!$P$3:$P$77)","v":0.4},22.400000000000002,0.4,0,null,null,null,0]
["Broccoli",50,"JP450 Broccali",1.5,42,63,null,null,0,42,63,null,{"$f":"SUMIF(DATABASE!$O$3:$O$78,'LOK LOK '!C96,DATABASE!$P$3:$P$77)","v":0.5},21,0.5,0,null,null,null,0]
["Long Bean",51,"JP451 Long Bean",1.5,11,16.5,null,null,0,11,16.5,null,{"$f":"SUMIF(DATABASE!$O$3:$O$78,'LOK LOK '!C97,DATABASE!$P$3:$P$77)","v":0.3},3.3,0.3,0,null,null,null,0]
["Fried Abalone Mushroom",52,"JP452 Fried A.Mushroom",2,42,84,null,null,0,42,84,null,{"$f":"SUMIF(DATABASE!$O$3:$O$78,'LOK LOK '!C98,DATABASE!$P$3:$P$77)","v":0.4},16.8,0.4,0,null,null,null,0]
["Shiitake Mushroom",53,"JP453 Shiitake Mushrom",2,26,52,null,null,0,26,52,null,{"$f":"SUMIF(DATABASE!$O$3:$O$78,'LOK LOK '!C99,DATABASE!$P$3:$P$77)","v":0.7},18.2,0.7,0,null,null,null,0]
["Minced Fish Eggplant",54,"JQ554 M.Fish Eggplant",1.5,6,9,null,null,0,6,9,null,{"$f":"SUMIF(DATABASE!$O$3:$O$78,'LOK LOK '!C100,DATABASE!$P$3:$P$77)","v":0.52},3.12,0.52,0,null,null,null,0]
["Minced Fish Chili",55,"JQ555 M.Fish Chilli",1.5,4,6,null,null,0,4,6,null,{"$f":"SUMIF(DATABASE!$O$3:$O$78,'LOK LOK '!C101,DATABASE!$P$3:$P$77)","v":0.52},2.08,0.52,0,null,null,null,0]
["Minced Fish Lady's Finger",56,"JQ556 M.Fish Lady's F",1.5,6,9,null,null,0,6,9,null,{"$f":"SUMIF(DATABASE!$O$3:$O$78,'LOK LOK '!C102,DATABASE!$P$3:$P$77)","v":0.52},3.12,0.52,0,null,null,null,0]
["Crispy Mini Beancurd",57,"JQ557 Chrisy Beabcurd",1.5,80,120,null,null,0,80,120,null,{"$f":"SUMIF(DATABASE!$O$3:$O$78,'LOK LOK '!C103,DATABASE!$P$3:$P$77)","v":0.33},26.400000000000002,0.33,0,null,null,null,0]
["Quail Eggs",58,"JQ558 Quail Eggs",1.5,84,126,null,null,0,84,126,null,{"$f":"SUMIF(DATABASE!$O$3:$O$78,'LOK LOK '!C104,DATABASE!$P$3:$P$77)","v":0.56000000000000005},47.040000000000006,0.56000000000000005,0,null,"QUAIL EGGS",4,336]
["Fried Wanton",59,"JQ559 Fried Wanton",2,16,32,null,null,0,16,32,null,{"$f":"SUMIF(DATABASE!$O$3:$O$78,'LOK LOK '!C105,DATABASE!$P$3:$P$77)","v":0.9},14.4,0.9,0,null,"FRIED WANTON ",3,48]
["Lemon Grass Potato Samosa",60,"JQ560 L.G.Potato Samos",2,3,6,null,null,0,3,6,null,{"$f":"SUMIF(DATABASE!$O$3:$O$78,'LOK LOK '!C106,DATABASE!$P$3:$P$77)","v":0.7},2.0999999999999996,0.7,0,null,null,null,0]
["Flavored Vege Ball",61,"JQ561 F.Vege Ball",2,17,34,null,null,0,17,34,null,{"$f":"SUMIF(DATABASE!$O$3:$O$78,'LOK LOK '!C107,DATABASE!$P$3:$P$77)","v":0.75},12.75,0.75,0,null,"VEGE BALL",3,51]
["Minded Fish Ball",62,"JQ562 Minced Fish Ball",2.5,3,7.5,null,null,0,3,7.5,null,{"$f":"SUMIF(DATABASE!$O$3:$O$78,'LOK LOK '!C108,DATABASE!$P$3:$P$77)","v":1.02},3.06,1.02,0,null,"SEAFOOD TOFU ",3,9]
["Seafood Tofu",63,"JQ563 Seafood Tofu",2.5,42,105,null,null,0,42,105,null,{"$f":"SUMIF(DATABASE!$O$3:$O$78,'LOK LOK '!C109,DATABASE!$P$3:$P$77)","v":0.87},36.54,0.87,0,null,"SPRING ROLL",2,84]
["Spring Roll",64,"JQ564 Spring Roll",2.5,1,2.5,null,null,0,1,2.5,null,{"$f":"SUMIF(DATABASE!$O$3:$O$78,'LOK LOK '!C110,DATABASE!$P$3:$P$77)","v":1},1,1,0,null,null,null,0]
["Quail Century Egg",65,"JQ565 Quail Century Eg",2.5,43,107.5,null,null,0,43,107.5,null,{"$f":"SUMIF(DATABASE!$O$3:$O$78,'LOK LOK '!C111,DATABASE!$P$3:$P$77)","v":0.81},34.830000000000005,0.81,0,null,"QUAIL CENTURY EGG",3,129]
["Thai Roll",66,"JQ566 Thai Roll",3,9,27,null,null,0,9,27,null,{"$f":"SUMIF(DATABASE!$O$3:$O$78,'LOK LOK '!C112,DATABASE!$P$3:$P$77)","v":1.2},10.799999999999999,1.2,0,null,"THAI ROLL",2,{"$f":"+S112*E112","v":18}]
["Cheese Seafood Tofu",67,"JQ567 Cheese S.Tofu",3,52,156,null,null,0,52,156,null,{"$f":"SUMIF(DATABASE!$O$3:$O$78,'LOK LOK '!C113,DATABASE!$P$3:$P$77)","v":1.02},53.04,1.02,0,null,null,null,0]
["Rice Skin Roll",68,"JQ568 Rice Skin  Roll",3,11,33,null,null,0,11,33,null,{"$f":"SUMIF(DATABASE!$O$3:$O$78,'LOK LOK '!C114,DATABASE!$P$3:$P$77)","v":1.2},13.2,1.2,0,null,null,null,0]
[null,69,"JR01 PACKAGE A",18.8,7,{"$f":"E115*D115","v":131.6},null,null,{"$f":"H115*D115","v":0},{"$f":"+E115-H115","v":7},{"$f":"+J115*D115","v":131.6},null,{"$f":"SUMIF(DATABASE!$O$3:$O$78,'LOK LOK '!C115,DATABASE!$P$3:$P$77)","v":8.2799999999999994},{"$f":"+M115*J115","v":57.959999999999994},{"$f":"+M115","v":8.2799999999999994},{"$f":"+O115*H115","v":0},null,null,null,0]
[null,null,null,null,null,null,null,null,null,null,null,null,null,null,null,null,null,null,null,0]
[null,null,null,null,null,null,null,null,null,null,null,null,null,null,null,null,null,null,null,0]
[null,null,null,null,null,null,null,null,null,null,null,null,null,null,null,null,null,null,null,0]
[null,null,null,null,null,null,null,null,null,null,null,null,null,null,null,null,null,null,null,0]
[]
[]
[]
[]
[]
[null,70,"JR02 PACKAGE B",18.8,{"$f":"VLOOKUP(C125,Summary!$B$30:$AK$475,5,FALSE)","v":1},18.8,null,null,0,1,18.8,null,{"$f":"SUMIF(DATABASE!$O$3:$O$78,'LOK LOK '!C125,DATABASE!$P$3:$P$77)","v":8.4600000000000009},8.4600000000000009,8.4600000000000009,0]
[]
[]
[null,"Total Sales / COST",null,null,{"$f":"SUM(E47:E127)","v":2312},{"$f":"SUM(F47:F127)","v":5566.4000000000005},null,{"$f":"SUM(H26:H126)","v":0},{"$f":"SUM(I11:I127)","v":0},{"$f":"SUM(J47:J127)","v":1225},{"$f":"SUM(K47:K127)","v":2984.4},null,null,{"$f":"SUM(N47:N127)","v":1041.1499999999999},null,{"$f":"SUM(P47:P127)","v":0}]
[]
[null,null,"NEW ADDED  CODE 69 AND 70"]

{"sheet":"SIDE ORDER & FOC","index":7,"n_rows":201,"n_cols":20,"rows_kept":201,"cut":false,"hidden":false,"merged":[[7,16,7,18],[166,9,166,11],[7,13,7,14],[109,0,109,2],[7,3,7,4],[7,6,7,7],[7,8,7,9],[165,9,165,11],[0,0,0,12],[7,11,7,12],[6,3,6,4],[6,6,6,7],[6,8,6,9]]}
["MONTHLY SALES FOOD RECORD ( SIDE ORDER & FOC )"]
[]
[{"$f":"+'K-LUNCH & K DINNER'!A3","v":"Outlet :"},{"$f":"+'K-LUNCH & K DINNER'!B3","v":"CCS OUTLET"}]
[{"$f":"+'K-LUNCH & K DINNER'!A4","v":"Month :"},{"$f":"+'K-LUNCH & K DINNER'!B4","v":"2013-09-01"}]
[]
["LOCAL DELIGHTS / WESTERN CRUISE / APPETIZER "]
[null,null,null,"(A)",null,null,"(B)",null,"(A) - (B)"]
[null,null,null,"SIDE ORDER                 (INCLUDING FOC)",null,null,"FOC",null,"SIDE ORDER                        (NETT SALES)",null,null,"SIDE ORDER                        (NETT COST)",null,"FOC (COST)",null,null,"USAGE"]
["NO","MENU ITEM","S/P","Sales","TOTAL",null,"Sales","TOTAL","Sales","TOTAL",null,"COST","TOTAL","COST","TOTAL",null,"MATERIAL ","RECIPE","TOTAL"]
[null,null,"RM","Q","RM",null,"Q","RM","Q","RM",null,"RM","RM","RM","RM",null,"Q","Q","Q"]
[1,"DF01 ADD RICE",1,{"$f":"VLOOKUP(B11,Summary!$B$30:$AK$475,5,FALSE)","v":0},{"$f":"D11*C11","v":0},null,{"$f":"SUMIF('DAILY FOC'!$A$9:$A$62,'SIDE ORDER & FOC'!B11,'DAILY FOC'!$BN$9:$BN$63)","v":0},{"$f":"G11*C11","v":0},{"$f":"+D11-G11","v":0},{"$f":"+I11*C11","v":0},null,{"$f":"SUMIF(DATABASE!$F$3:$F$89,B11,DATABASE!$I$3:$I$81)","v":0.5},{"$f":"+L11*I11","v":0},{"$f":"+L11","v":0.5},{"$f":"+N11*G11","v":0}]
[{"$f":"+A11+1","v":2},"DF02 ADD F.EGG",1.5,{"$f":"VLOOKUP(B12,Summary!$B$30:$AK$475,5,FALSE)","v":0},0,null,{"$f":"SUMIF('DAILY FOC'!$A$9:$A$62,'SIDE ORDER & FOC'!B12,'DAILY FOC'!$BN$9:$BN$63)","v":0},0,{"$f":"+D12-G12","v":0},0,null,{"$f":"SUMIF(DATABASE!$F$3:$F$89,B12,DATABASE!$I$3:$I$81)","v":0.34},0,0.34,0]
[3,"DC01 1101:THAI CHK",9.9,{"$f":"VLOOKUP(B13,Summary!$B$30:$AK$475,5,FALSE)","v":4},39.6,null,{"$f":"SUMIF('DAILY FOC'!$A$9:$A$62,'SIDE ORDER & FOC'!B13,'DAILY FOC'!$BN$9:$BN$63)","v":0},0,4,39.6,null,{"$f":"SUMIF(DATABASE!$F$3:$F$89,B13,DATABASE!$I$3:$I$81)","v":3.29},13.16,3.29,0,null,"CHICKEN CHOP (MARINATED)",0.66,{"$f":"+R13*D13","v":2.64}]
[4,"DC02 1102:MAMITE CHK",9.9,{"$f":"VLOOKUP(B14,Summary!$B$30:$AK$475,5,FALSE)","v":7},69.3,null,{"$f":"SUMIF('DAILY FOC'!$A$9:$A$62,'SIDE ORDER & FOC'!B14,'DAILY FOC'!$BN$9:$BN$63)","v":0},0,7,69.3,null,{"$f":"SUMIF(DATABASE!$F$3:$F$89,B14,DATABASE!$I$3:$I$81)","v":3.02},21.14,3.02,0,null,"CHICKEN CHOP (MARINATED)",0.66,{"$f":"+R14*D14","v":4.62}]
[5,"DC03 1103:KO PO CHK",9.9,{"$f":"VLOOKUP(B15,Summary!$B$30:$AK$475,5,FALSE)","v":0},0,null,{"$f":"SUMIF('DAILY FOC'!$A$9:$A$62,'SIDE ORDER & FOC'!B15,'DAILY FOC'!$BN$9:$BN$63)","v":0},0,0,0,null,{"$f":"SUMIF(DATABASE!$F$3:$F$89,B15,DATABASE!$I$3:$I$81)","v":3.45},0,3.45,0,null,"CHICKEN CHOP (MARINATED)",0.66,{"$f":"+R15*D15","v":0}]
[6,"DC04 1104:S&S CHK",9.9,{"$f":"VLOOKUP(B16,Summary!$B$30:$AK$475,5,FALSE)","v":1},9.9,null,{"$f":"SUMIF('DAILY FOC'!$A$9:$A$62,'SIDE ORDER & FOC'!B16,'DAILY FOC'!$BN$9:$BN$63)","v":0},0,1,9.9,null,{"$f":"SUMIF(DATABASE!$F$3:$F$89,B16,DATABASE!$I$3:$I$81)","v":3.45},3.45,3.45,0,null,"CHICKEN CHOP (MARINATED)",0.66,{"$f":"+R16*D16","v":0.66}]
[7,"DC05 1105:BUTTER CHK",9.9,{"$f":"VLOOKUP(B17,Summary!$B$30:$AK$475,5,FALSE)","v":10},99,null,{"$f":"SUMIF('DAILY FOC'!$A$9:$A$62,'SIDE ORDER & FOC'!B17,'DAILY FOC'!$BN$9:$BN$63)","v":1},9.9,9,89.100000000000009,null,{"$f":"SUMIF(DATABASE!$F$3:$F$89,B17,DATABASE!$I$3:$I$81)","v":3.32},29.88,3.32,3.32,null,"CHICKEN CHOP (MARINATED)",0.66,{"$f":"+R17*D17","v":6.6000000000000005}]
[8,"DC06 1106:HK F.RICE",9.9,{"$f":"VLOOKUP(B18,Summary!$B$30:$AK$475,5,FALSE)","v":0},0,null,{"$f":"SUMIF('DAILY FOC'!$A$9:$A$62,'SIDE ORDER & FOC'!B18,'DAILY FOC'!$BN$9:$BN$63)","v":0},0,0,0,null,{"$f":"SUMIF(DATABASE!$F$3:$F$89,B18,DATABASE!$I$3:$I$81)","v":3.16},0,3.16,0]
[9,"DC07 1107:SBL F.RICE",9.9,{"$f":"VLOOKUP(B19,Summary!$B$30:$AK$475,5,FALSE)","v":0},0,null,{"$f":"SUMIF('DAILY FOC'!$A$9:$A$62,'SIDE ORDER & FOC'!B19,'DAILY FOC'!$BN$9:$BN$63)","v":0},0,0,0,null,{"$f":"SUMIF(DATABASE!$F$3:$F$89,B19,DATABASE!$I$3:$I$81)","v":2.41},0,2.41,0]
[10,"DC08 1108:SBL F.MEE",9.9,{"$f":"VLOOKUP(B20,Summary!$B$30:$AK$475,5,FALSE)","v":0},0,null,{"$f":"SUMIF('DAILY FOC'!$A$9:$A$62,'SIDE ORDER & FOC'!B20,'DAILY FOC'!$BN$9:$BN$63)","v":0},0,0,0,null,{"$f":"SUMIF(DATABASE!$F$3:$F$89,B20,DATABASE!$I$3:$I$81)","v":2.8},0,2.8,0]
[11,"DC09 1109:BP UDON",9.9,{"$f":"VLOOKUP(B21,Summary!$B$30:$AK$475,5,FALSE)","v":2},19.8,null,{"$f":"SUMIF('DAILY FOC'!$A$9:$A$62,'SIDE ORDER & FOC'!B21,'DAILY FOC'!$BN$9:$BN$63)","v":0},0,2,19.8,null,{"$f":"SUMIF(DATABASE!$F$3:$F$89,B21,DATABASE!$I$3:$I$81)","v":2.08},4.16,2.08,0]
[12,"DC10 1110:NISSIN",9.9,{"$f":"VLOOKUP(B22,Summary!$B$30:$AK$475,5,FALSE)","v":0},0,null,{"$f":"SUMIF('DAILY FOC'!$A$9:$A$62,'SIDE ORDER & FOC'!B22,'DAILY FOC'!$BN$9:$BN$63)","v":0},0,0,0,null,{"$f":"SUMIF(DATABASE!$F$3:$F$89,B22,DATABASE!$I$3:$I$81)","v":2.3199999999999998},0,2.3199999999999998,0,null,"CHICKEN SAUSAGE ",1.5,{"$f":"+R22*D22","v":0}]
[13,"DC11 1111:VEG RICE",9.9,{"$f":"VLOOKUP(B23,Summary!$B$30:$AK$475,5,FALSE)","v":0},0,null,{"$f":"SUMIF('DAILY FOC'!$A$9:$A$62,'SIDE ORDER & FOC'!B23,'DAILY FOC'!$BN$9:$BN$63)","v":0},0,0,0,null,{"$f":"SUMIF(DATABASE!$F$3:$F$89,B23,DATABASE!$I$3:$I$81)","v":1.6},0,1.6,0]
[14,"DC12 1112:NASI LEMAK",9.9,{"$f":"VLOOKUP(B24,Summary!$B$30:$AK$475,5,FALSE)","v":0},0,null,{"$f":"SUMIF('DAILY FOC'!$A$9:$A$62,'SIDE ORDER & FOC'!B24,'DAILY FOC'!$BN$9:$BN$63)","v":0},0,0,0,null,{"$f":"SUMIF(DATABASE!$F$3:$F$89,B24,DATABASE!$I$3:$I$81)","v":3.56},0,3.56,0,null,"CHICKEN WINGS (NON -MARINATED)",1,{"$f":"+R24*D24","v":0}]
[15,"DC13 1113:KUEY TEOW",9.9,{"$f":"VLOOKUP(B25,Summary!$B$30:$AK$475,5,FALSE)","v":0},0,null,{"$f":"SUMIF('DAILY FOC'!$A$9:$A$62,'SIDE ORDER & FOC'!B25,'DAILY FOC'!$BN$9:$BN$63)","v":0},0,0,0,null,{"$f":"SUMIF(DATABASE!$F$3:$F$89,B25,DATABASE!$I$3:$I$81)","v":3.16},0,3.16,0]
[16,"DC14 1114:F.BALL MEE",9.9,{"$f":"VLOOKUP(B26,Summary!$B$30:$AK$475,5,FALSE)","v":0},0,null,{"$f":"SUMIF('DAILY FOC'!$A$9:$A$62,'SIDE ORDER & FOC'!B26,'DAILY FOC'!$BN$9:$BN$63)","v":0},0,0,0,null,{"$f":"SUMIF(DATABASE!$F$3:$F$89,B26,DATABASE!$I$3:$I$81)","v":2.59},0,2.59,0,null,"FISH BALL (SMALL)",5,{"$f":"+R26*D26","v":0}]
[17,"DC15 1115:CHK NOODLE",9.9,{"$f":"VLOOKUP(B27,Summary!$B$30:$AK$475,5,FALSE)","v":0},0,null,{"$f":"SUMIF('DAILY FOC'!$A$9:$A$62,'SIDE ORDER & FOC'!B27,'DAILY FOC'!$BN$9:$BN$63)","v":0},0,0,0,null,{"$f":"SUMIF(DATABASE!$F$3:$F$89,B27,DATABASE!$I$3:$I$81)","v":4.71},0,4.71,0,null,"CHICKEN CHOP (MARINATED)",1,0]
[18,"DC16 1116:MGL CHICKEN",9.9,{"$f":"VLOOKUP(B28,Summary!$B$30:$AK$475,5,FALSE)","v":0},0,null,{"$f":"SUMIF('DAILY FOC'!$A$9:$A$62,'SIDE ORDER & FOC'!B28,'DAILY FOC'!$BN$9:$BN$63)","v":0},0,0,0,null,{"$f":"SUMIF(DATABASE!$F$3:$F$89,B28,DATABASE!$I$3:$I$81)","v":3.54},0,3.54,0,null,"CHICKEN CHOP (MARINATED)",0.66,0]
[19,"DB01 1001:BP CKN CP",12.9,{"$f":"VLOOKUP(B29,Summary!$B$30:$AK$475,5,FALSE)","v":2},25.8,null,{"$f":"SUMIF('DAILY FOC'!$A$9:$A$62,'SIDE ORDER & FOC'!B29,'DAILY FOC'!$BN$9:$BN$63)","v":1},12.9,1,12.9,null,{"$f":"SUMIF(DATABASE!$F$3:$F$89,B29,DATABASE!$I$3:$I$81)","v":4.41},4.41,4.41,4.41,null,"CHICKEN CHOP (MARINATED)",1,2]
[20,"DB02 1002:GVY CHK CP",12.9,{"$f":"VLOOKUP(B30,Summary!$B$30:$AK$475,5,FALSE)","v":0},0,null,{"$f":"SUMIF('DAILY FOC'!$A$9:$A$62,'SIDE ORDER & FOC'!B30,'DAILY FOC'!$BN$9:$BN$63)","v":0},0,0,0,null,{"$f":"SUMIF(DATABASE!$F$3:$F$89,B30,DATABASE!$I$3:$I$81)","v":4.43},0,4.43,0,null,"CHICKEN CHOP (MARINATED)",1,0]
[21,"DB03 1003:MSR CKN CP",12.9,{"$f":"VLOOKUP(B31,Summary!$B$30:$AK$475,5,FALSE)","v":6},77.400000000000006,null,{"$f":"SUMIF('DAILY FOC'!$A$9:$A$62,'SIDE ORDER & FOC'!B31,'DAILY FOC'!$BN$9:$BN$63)","v":0},0,6,77.400000000000006,null,{"$f":"SUMIF(DATABASE!$F$3:$F$89,B31,DATABASE!$I$3:$I$81)","v":4.75},28.5,4.75,0,null,"CHICKEN CHOP (MARINATED)",1,6]
[22,"DB04 1004:CKN MARY",12.9,{"$f":"VLOOKUP(B32,Summary!$B$30:$AK$475,5,FALSE)","v":2},25.8,null,{"$f":"SUMIF('DAILY FOC'!$A$9:$A$62,'SIDE ORDER & FOC'!B32,'DAILY FOC'!$BN$9:$BN$63)","v":0},0,2,25.8,null,{"$f":"SUMIF(DATABASE!$F$3:$F$89,B32,DATABASE!$I$3:$I$81)","v":5.98},11.96,5.98,0,null,"CHICKEN CHOP (MARINATED)",1,2]
[23,"DB05 1005:FISH&CHIP",12.9,{"$f":"VLOOKUP(B33,Summary!$B$30:$AK$475,5,FALSE)","v":0},0,null,{"$f":"SUMIF('DAILY FOC'!$A$9:$A$62,'SIDE ORDER & FOC'!B33,'DAILY FOC'!$BN$9:$BN$63)","v":0},0,0,0,null,{"$f":"SUMIF(DATABASE!$F$3:$F$89,B33,DATABASE!$I$3:$I$81)","v":4.32},0,4.32,0,null,"DORY FISH FILLET ",1,0]
[24,"DB06 1006:SPAGHETTI",12.9,{"$f":"VLOOKUP(B34,Summary!$B$30:$AK$475,5,FALSE)","v":1},12.9,null,{"$f":"SUMIF('DAILY FOC'!$A$9:$A$62,'SIDE ORDER & FOC'!B34,'DAILY FOC'!$BN$9:$BN$63)","v":0},0,1,12.9,null,{"$f":"SUMIF(DATABASE!$F$3:$F$89,B34,DATABASE!$I$3:$I$81)","v":2.1},2.1,2.1,0]
[25,"DB07 1007:CHK SALAD",12.9,{"$f":"VLOOKUP(B35,Summary!$B$30:$AK$475,5,FALSE)","v":1},12.9,null,{"$f":"SUMIF('DAILY FOC'!$A$9:$A$62,'SIDE ORDER & FOC'!B35,'DAILY FOC'!$BN$9:$BN$63)","v":2},25.8,-1,-12.9,null,{"$f":"SUMIF(DATABASE!$F$3:$F$89,B35,DATABASE!$I$3:$I$81)","v":4.9400000000000004},-4.9400000000000004,4.9400000000000004,9.8800000000000008,null,"CHICKEN CHOP (MARINATED)",1,{"$f":"+R35*D35","v":1}]
[26,"DD01 1201:SFD STICK",5.9,{"$f":"VLOOKUP(B36,Summary!$B$30:$AK$475,5,FALSE)","v":0},0,null,{"$f":"SUMIF('DAILY FOC'!$A$9:$A$62,'SIDE ORDER & FOC'!B36,'DAILY FOC'!$BN$9:$BN$63)","v":0},0,0,0,null,{"$f":"SUMIF(DATABASE!$F$3:$F$89,B36,DATABASE!$I$3:$I$81)","v":2},0,2,0,null,"SOTONG BALL",2,{"$f":"+R36*$D$36","v":0}]
[null,null,null,null,null,null,null,null,null,null,null,null,null,null,null,null,"SALMON BALL",2,{"$f":"+R37*$D$36","v":0}]
[null,null,null,null,null,null,null,null,null,null,null,null,null,null,null,null,"SEAFOOD TOFU ",2,{"$f":"+R38*$D$36","v":0}]
[{"$f":"+A36+1","v":27},"DD02 1202:FREN FRIES",5.9,{"$f":"VLOOKUP(B39,Summary!$B$30:$AK$475,5,FALSE)","v":6},{"$f":"D39*C39","v":35.400000000000006},null,{"$f":"SUMIF('DAILY FOC'!$A$9:$A$62,'SIDE ORDER & FOC'!B39,'DAILY FOC'!$BN$9:$BN$63)","v":0},{"$f":"G39*C39","v":0},{"$f":"+D39-G39","v":6},{"$f":"+I39*C39","v":35.400000000000006},null,{"$f":"SUMIF(DATABASE!$F$3:$F$89,B39,DATABASE!$I$3:$I$81)","v":1.76},{"$f":"+L39*I39","v":10.56},{"$f":"+L39","v":1.76},{"$f":"+N39*G39","v":0}]
[{"$f":"+A39+1","v":28},"DD03 1203:GOLD MROOM",5.9,{"$f":"VLOOKUP(B40,Summary!$B$30:$AK$475,5,FALSE)","v":1},5.9,null,{"$f":"SUMIF('DAILY FOC'!$A$9:$A$62,'SIDE ORDER & FOC'!B40,'DAILY FOC'!$BN$9:$BN$63)","v":0},0,1,5.9,null,{"$f":"SUMIF(DATABASE!$F$3:$F$89,B40,DATABASE!$I$3:$I$81)","v":2.15},2.15,2.15,0]
[29,"DD04 1204:FISHBALL",5.9,{"$f":"VLOOKUP(B41,Summary!$B$30:$AK$475,5,FALSE)","v":2},11.8,null,{"$f":"SUMIF('DAILY FOC'!$A$9:$A$62,'SIDE ORDER & FOC'!B41,'DAILY FOC'!$BN$9:$BN$63)","v":0},0,2,11.8,null,{"$f":"SUMIF(DATABASE!$F$3:$F$89,B41,DATABASE!$I$3:$I$81)","v":1.56},3.12,1.56,0,null,"FISH BALL (BIG)",6,{"$f":"+R41*D41","v":12}]
[30,"DD05 1205:RAINBOW RL",5.9,{"$f":"VLOOKUP(B42,Summary!$B$30:$AK$475,5,FALSE)","v":0},0,null,{"$f":"SUMIF('DAILY FOC'!$A$9:$A$62,'SIDE ORDER & FOC'!B42,'DAILY FOC'!$BN$9:$BN$63)","v":0},0,0,0,null,{"$f":"SUMIF(DATABASE!$F$3:$F$89,B42,DATABASE!$I$3:$I$81)","v":2.5},0,2.5,0,null,"RAINBOW ROLL",1,0]
[31,"DD06 1206:SPRING RL",5.9,{"$f":"VLOOKUP(B43,Summary!$B$30:$AK$475,5,FALSE)","v":1},5.9,null,{"$f":"SUMIF('DAILY FOC'!$A$9:$A$62,'SIDE ORDER & FOC'!B43,'DAILY FOC'!$BN$9:$BN$63)","v":0},0,1,5.9,null,{"$f":"SUMIF(DATABASE!$F$3:$F$89,B43,DATABASE!$I$3:$I$81)","v":2.67},2.67,2.67,0,null,"SPRING ROLL",8,8]
[32,"DD07 1207:SAUSAGE",5.9,{"$f":"VLOOKUP(B44,Summary!$B$30:$AK$475,5,FALSE)","v":0},0,null,{"$f":"SUMIF('DAILY FOC'!$A$9:$A$62,'SIDE ORDER & FOC'!B44,'DAILY FOC'!$BN$9:$BN$63)","v":1},5.9,-1,-5.9,null,{"$f":"SUMIF(DATABASE!$F$3:$F$89,B44,DATABASE!$I$3:$I$81)","v":1.24},-1.24,1.24,1.24,null,"CHICKEN SAUSAGE ",4,0]
[33,"DD10 1301:DUMPLING",5.9,{"$f":"VLOOKUP(B45,Summary!$B$30:$AK$475,5,FALSE)","v":0},0,null,{"$f":"SUMIF('DAILY FOC'!$A$9:$A$62,'SIDE ORDER & FOC'!B45,'DAILY FOC'!$BN$9:$BN$63)","v":0},0,0,0,null,{"$f":"SUMIF(DATABASE!$F$3:$F$89,B45,DATABASE!$I$3:$I$81)","v":4.5},0,4.5,0,null,"DUMPLING ",6,0]
[34,"DD11 1302:NUGGET",7.9,{"$f":"VLOOKUP(B46,Summary!$B$30:$AK$475,5,FALSE)","v":0},0,null,{"$f":"SUMIF('DAILY FOC'!$A$9:$A$62,'SIDE ORDER & FOC'!B46,'DAILY FOC'!$BN$9:$BN$63)","v":0},0,0,0,null,{"$f":"SUMIF(DATABASE!$F$3:$F$89,B46,DATABASE!$I$3:$I$81)","v":2.4300000000000002},0,2.4300000000000002,0,null,"CHICKEN NUGGET",8,0]
[35,"DD12 1303:CHK WING",7.9,{"$f":"VLOOKUP(B47,Summary!$B$30:$AK$475,5,FALSE)","v":1},7.9,null,{"$f":"SUMIF('DAILY FOC'!$A$9:$A$62,'SIDE ORDER & FOC'!B47,'DAILY FOC'!$BN$9:$BN$63)","v":0},0,1,7.9,null,{"$f":"SUMIF(DATABASE!$F$3:$F$89,B47,DATABASE!$I$3:$I$81)","v":3.97},3.97,3.97,0,null,"CHICKEN WING  (MARINATED)",3,3,105]
[36,"DD13 1304:IKAN BILIS",7.9,{"$f":"VLOOKUP(B48,Summary!$B$30:$AK$475,5,FALSE)","v":2},15.8,null,{"$f":"SUMIF('DAILY FOC'!$A$9:$A$62,'SIDE ORDER & FOC'!B48,'DAILY FOC'!$BN$9:$BN$63)","v":0},0,2,15.8,null,{"$f":"SUMIF(DATABASE!$F$3:$F$89,B48,DATABASE!$I$3:$I$81)","v":2.1800000000000002},4.3600000000000003,2.1800000000000002,0,null,null,null,0]
[37,"DD14 1305:THAI RL",7.9,{"$f":"VLOOKUP(B49,Summary!$B$30:$AK$475,5,FALSE)","v":0},0,null,{"$f":"SUMIF('DAILY FOC'!$A$9:$A$62,'SIDE ORDER & FOC'!B49,'DAILY FOC'!$BN$9:$BN$63)","v":1},7.9,-1,-7.9,null,{"$f":"SUMIF(DATABASE!$F$3:$F$89,B49,DATABASE!$I$3:$I$81)","v":3.61},-3.61,3.61,3.61,null,"THAI ROLL",7,0]
[38,"DD15 1306:SLVR FISH",7.9,{"$f":"VLOOKUP(B50,Summary!$B$30:$AK$475,5,FALSE)","v":0},0,null,{"$f":"SUMIF('DAILY FOC'!$A$9:$A$62,'SIDE ORDER & FOC'!B50,'DAILY FOC'!$BN$9:$BN$63)","v":0},0,0,0,null,{"$f":"SUMIF(DATABASE!$F$3:$F$89,B50,DATABASE!$I$3:$I$81)","v":0},0,0,0,null,null,null,0]
[39,"DD16 1307:D.F C/WING",7.9,{"$f":"VLOOKUP(B51,Summary!$B$30:$AK$475,5,FALSE)","v":0},0,null,{"$f":"SUMIF('DAILY FOC'!$A$9:$A$62,'SIDE ORDER & FOC'!B51,'DAILY FOC'!$BN$9:$BN$63)","v":1},7.9,-1,-7.9,null,{"$f":"SUMIF(DATABASE!$F$3:$F$89,B51,DATABASE!$I$3:$I$81)","v":4.3099999999999996},-4.3099999999999996,4.3099999999999996,4.3099999999999996,null,"CHICKEN WING  (MARINATED)",3,0,48]
[40,"DD17 1308 C/CALAMARI",7.9,{"$f":"VLOOKUP(B52,Summary!$B$30:$AK$475,5,FALSE)","v":0},0,null,{"$f":"SUMIF('DAILY FOC'!$A$9:$A$62,'SIDE ORDER & FOC'!B52,'DAILY FOC'!$BN$9:$BN$63)","v":0},0,0,0,null,{"$f":"SUMIF(DATABASE!$F$3:$F$89,B52,DATABASE!$I$3:$I$81)","v":3.69},0,3.69,0,null,"CALAMARI RING",7,0]
[41,"DD18 1309 Mc C/O.RING",7.9,{"$f":"VLOOKUP(B53,Summary!$B$30:$AK$475,5,FALSE)","v":0},0,null,{"$f":"SUMIF('DAILY FOC'!$A$9:$A$62,'SIDE ORDER & FOC'!B53,'DAILY FOC'!$BN$9:$BN$63)","v":0},0,0,0,null,{"$f":"SUMIF(DATABASE!$F$3:$F$89,B53,DATABASE!$I$3:$I$81)","v":1.72},0,1.72,0,null,"MCCAIN ONION RING",8,0]
[42,"DD19 1310:Mc SPIRAL/F",7.9,{"$f":"VLOOKUP(B54,Summary!$B$30:$AK$475,5,FALSE)","v":0},0,null,{"$f":"SUMIF('DAILY FOC'!$A$9:$A$62,'SIDE ORDER & FOC'!B54,'DAILY FOC'!$BN$9:$BN$63)","v":0},0,0,0,null,{"$f":"SUMIF(DATABASE!$F$3:$F$89,B54,DATABASE!$I$3:$I$81)","v":1.72},0,1.72,0,null,"MCCAIN SPIRAL FRIES",0.22,0]
[43,"DD20 1311:Mc H/SMILES",7.9,{"$f":"VLOOKUP(B55,Summary!$B$30:$AK$475,5,FALSE)","v":0},0,null,{"$f":"SUMIF('DAILY FOC'!$A$9:$A$62,'SIDE ORDER & FOC'!B55,'DAILY FOC'!$BN$9:$BN$63)","v":0},0,0,0,null,{"$f":"SUMIF(DATABASE!$F$3:$F$89,B55,DATABASE!$I$3:$I$81)","v":1.34},0,1.34,0,null,"MCCAIN SMILES",8,0]
[44,"DD21 1312:Mc HASH BRW",7.9,{"$f":"VLOOKUP(B56,Summary!$B$30:$AK$475,5,FALSE)","v":0},0,null,{"$f":"SUMIF('DAILY FOC'!$A$9:$A$62,'SIDE ORDER & FOC'!B56,'DAILY FOC'!$BN$9:$BN$63)","v":0},0,0,0,null,{"$f":"SUMIF(DATABASE!$F$3:$F$89,B56,DATABASE!$I$3:$I$81)","v":0.59},0,0.59,0,null,"MCCAIN VERSITOT",15,0]
[]
[null,"COMBO SET"]
[1,"ZAB01 1201:SFD STICK",4.95,{"$f":"VLOOKUP(B59,Summary!$B$30:$AK$475,5,FALSE)","v":1},{"$f":"D59*C59","v":4.95},null,null,null,{"$f":"+D59-G59","v":1},{"$f":"+I59*C59","v":4.95},null,{"$f":"SUMIF(DATABASE!$F$3:$F$89,B59,DATABASE!$I$3:$I$81)","v":2},{"$f":"+L59*I59","v":2},{"$f":"+L59","v":2},{"$f":"+N59*G59","v":0},null,"SOTONG BALL",2,{"$f":"+R59*D59","v":2}]
[null,null,null,null,null,null,null,null,null,null,null,null,null,null,null,null,"SALMON BALL",2,{"$f":"+R60*$D$59","v":2}]
[null,null,null,null,null,null,null,null,null,null,null,null,null,null,null,null,"SEAFOOD TOFU ",2,{"$f":"+R61*$D$59","v":2}]
[{"$f":"+A59+1","v":2},"ZAB02 1202:FRIES",4.95,{"$f":"VLOOKUP(B62,Summary!$B$30:$AK$475,5,FALSE)","v":8},{"$f":"D62*C62","v":39.6},null,null,null,{"$f":"+D62-G62","v":8},{"$f":"+I62*C62","v":39.6},null,{"$f":"SUMIF(DATABASE!$F$3:$F$89,B62,DATABASE!$I$3:$I$81)","v":1.76},{"$f":"+L62*I62","v":14.08},{"$f":"+L62","v":1.76},{"$f":"+N62*G62","v":0},null,null,null,{"$f":"+R62*D62","v":0}]
[{"$f":"+A62+1","v":3},"ZAB03 1203:GOLD MROOM",4.95,{"$f":"VLOOKUP(B63,Summary!$B$30:$AK$475,5,FALSE)","v":3},14.850000000000001,null,null,null,3,14.850000000000001,null,{"$f":"SUMIF(DATABASE!$F$3:$F$89,B63,DATABASE!$I$3:$I$81)","v":2.15},6.4499999999999993,2.15,0,null,null,null,0]
[4,"ZAB04 1204:F.BALL",4.95,{"$f":"VLOOKUP(B64,Summary!$B$30:$AK$475,5,FALSE)","v":0},0,null,null,null,0,0,null,{"$f":"SUMIF(DATABASE!$F$3:$F$89,B64,DATABASE!$I$3:$I$81)","v":1.56},0,1.56,0,null,"FISH BALL (BIG)",6,0]
[5,"ZAB06 1206:SPRING RL",4.95,{"$f":"VLOOKUP(B65,Summary!$B$30:$AK$475,5,FALSE)","v":3},14.850000000000001,null,null,null,3,14.850000000000001,null,{"$f":"SUMIF(DATABASE!$F$3:$F$89,B65,DATABASE!$I$3:$I$81)","v":2.5},7.5,2.5,0,null,"SPRING ROLL",8,24]
[6,"ZAB07 1207:SAUSAGE",4.95,{"$f":"VLOOKUP(B66,Summary!$B$30:$AK$475,5,FALSE)","v":3},14.850000000000001,null,null,null,3,14.850000000000001,null,{"$f":"SUMIF(DATABASE!$F$3:$F$89,B66,DATABASE!$I$3:$I$81)","v":2.67},8.01,2.67,0,null,"CHICKEN SAUSAGE ",4,12]
[7,"ZAC02 1302:NUGGET",6.95,{"$f":"VLOOKUP(B67,Summary!$B$30:$AK$475,5,FALSE)","v":10},69.5,null,null,null,10,69.5,null,{"$f":"SUMIF(DATABASE!$F$3:$F$89,B67,DATABASE!$I$3:$I$81)","v":1.24},12.4,1.24,0,null,"CHICKEN NUGGET",8,80]
[8,"ZAC03 1303:CHK WING",6.95,{"$f":"VLOOKUP(B68,Summary!$B$30:$AK$475,5,FALSE)","v":4},27.8,null,null,null,4,27.8,null,{"$f":"SUMIF(DATABASE!$F$3:$F$89,B68,DATABASE!$I$3:$I$81)","v":3.97},15.88,3.97,0,null,"CHICKEN WING  (MARINATED)",3,12]
[9,"ZAC04 1304:IKAN BILIS",6.95,{"$f":"VLOOKUP(B69,Summary!$B$30:$AK$475,5,FALSE)","v":1},6.95,null,null,null,1,6.95,null,{"$f":"SUMIF(DATABASE!$F$3:$F$89,B69,DATABASE!$I$3:$I$81)","v":2.1800000000000002},2.1800000000000002,2.1800000000000002,0,null,null,null,0]
[10,"ZAC05 1305:THAI RL",6.95,{"$f":"VLOOKUP(B70,Summary!$B$30:$AK$475,5,FALSE)","v":1},6.95,null,null,null,1,6.95,null,{"$f":"SUMIF(DATABASE!$F$3:$F$89,B70,DATABASE!$I$3:$I$81)","v":3.61},3.61,3.61,0,null,"THAI ROLL",7,7]
[11,"ZAC07 1307:D/F C.WINGS",6.95,{"$f":"VLOOKUP(B71,Summary!$B$30:$AK$475,5,FALSE)","v":3},20.85,null,null,null,3,20.85,null,{"$f":"SUMIF(DATABASE!$F$3:$F$89,B71,DATABASE!$I$3:$I$81)","v":4.3099999999999996},12.93,4.3099999999999996,0,null,"CHICKEN WING  (MARINATED)",3,9]
[12,"ZAC08 1308:C/CALAMARI",6.95,{"$f":"VLOOKUP(B72,Summary!$B$30:$AK$475,5,FALSE)","v":0},0,null,null,null,0,0,null,{"$f":"SUMIF(DATABASE!$F$3:$F$89,B72,DATABASE!$I$3:$I$81)","v":3.69},0,3.69,0,null,"CALAMARI RING",7,0]
[13,"ZAC09 1309:Mc /O.RINGS",6.95,{"$f":"VLOOKUP(B73,Summary!$B$30:$AK$475,5,FALSE)","v":0},0,null,null,null,0,0,null,{"$f":"SUMIF(DATABASE!$F$3:$F$89,B73,DATABASE!$I$3:$I$81)","v":1.72},0,1.72,0,null,"MCCAIN ONION RING",8,0]
[14,"ZAC10 1310:Mc SPIRAL/F",6.95,{"$f":"VLOOKUP(B74,Summary!$B$30:$AK$475,5,FALSE)","v":0},0,null,null,null,0,0,null,{"$f":"SUMIF(DATABASE!$F$3:$F$89,B74,DATABASE!$I$3:$I$81)","v":1.72},0,1.72,0,null,"MCCAIN SPIRAL FRIES",0.22,0]
[15,"ZAC11 1311:Mc H/SMILES",6.95,{"$f":"VLOOKUP(B75,Summary!$B$30:$AK$475,5,FALSE)","v":0},0,null,null,null,0,0,null,{"$f":"SUMIF(DATABASE!$F$3:$F$89,B75,DATABASE!$I$3:$I$81)","v":1.34},0,1.34,0,null,"MCCAIN SMILES",8,0]
[16,"ZAC12 1312:Mc HASH/B",6.95,{"$f":"VLOOKUP(B76,Summary!$B$30:$AK$475,5,FALSE)","v":1},6.95,null,null,null,1,6.95,null,{"$f":"SUMIF(DATABASE!$F$3:$F$89,B76,DATABASE!$I$3:$I$81)","v":0.59},0.59,0.59,0,null,"MCCAIN VERSITOT",15,15]
[]
[null,"HOMEMADE PIZZA"]
[1,"DL01 3001:6'HAWAIIAN",12.9,{"$f":"VLOOKUP(B79,Summary!$B$30:$AK$475,5,FALSE)","v":0},{"$f":"D79*C79","v":0},null,{"$f":"SUMIF('DAILY FOC'!$A$9:$A$62,'SIDE ORDER & FOC'!B79,'DAILY FOC'!$BN$9:$BN$63)","v":0},{"$f":"G79*C79","v":0},{"$f":"+D79-G79","v":0},{"$f":"+I79*C79","v":0},null,{"$f":"SUMIF(DATABASE!$F$3:$F$89,B79,DATABASE!$I$3:$I$81)","v":3.25},{"$f":"+L79*I79","v":0},{"$f":"+L79","v":3.25},{"$f":"+N79*G79","v":0},null,"6\" PIZZA BASE ",1,{"$f":"+R79*D79","v":0}]
[{"$f":"+A79+1","v":2},"DL02 3002:6'SMOKE BBQ",12.9,{"$f":"VLOOKUP(B80,Summary!$B$30:$AK$475,5,FALSE)","v":0},{"$f":"D80*C80","v":0},null,{"$f":"SUMIF('DAILY FOC'!$A$9:$A$62,'SIDE ORDER & FOC'!B80,'DAILY FOC'!$BN$9:$BN$63)","v":0},{"$f":"G80*C80","v":0},{"$f":"+D80-G80","v":0},{"$f":"+I80*C80","v":0},null,{"$f":"SUMIF(DATABASE!$F$3:$F$89,B80,DATABASE!$I$3:$I$81)","v":4.59},{"$f":"+L80*I80","v":0},{"$f":"+L80","v":4.59},{"$f":"+N80*G80","v":0},null,"CHICKEN CHOP (MARINATED)",0.5,{"$f":"+R80*$D$80","v":0}]
[null,null,null,null,null,null,null,null,null,null,null,null,null,null,null,null,"6\" PIZZA BASE ",1,{"$f":"+R81*$D$80","v":0}]
[{"$f":"+A80+1","v":3},"DL03 3003:6'SEAFOOD",12.9,{"$f":"VLOOKUP(B82,Summary!$B$30:$AK$475,5,FALSE)","v":0},{"$f":"D82*C82","v":0},null,{"$f":"SUMIF('DAILY FOC'!$A$9:$A$62,'SIDE ORDER & FOC'!B82,'DAILY FOC'!$BN$9:$BN$63)","v":0},{"$f":"G82*C82","v":0},{"$f":"+D82-G82","v":0},{"$f":"+I82*C82","v":0},null,{"$f":"SUMIF(DATABASE!$F$3:$F$89,B82,DATABASE!$I$3:$I$81)","v":5.13},{"$f":"+L82*I82","v":0},{"$f":"+L82","v":5.13},{"$f":"+N82*G82","v":0},null,"6\" PIZZA BASE ",1,{"$f":"+R82*D82","v":0}]
[{"$f":"+A82+1","v":4},"DL04 3004:6'SPICY BUF",12.9,{"$f":"VLOOKUP(B83,Summary!$B$30:$AK$475,5,FALSE)","v":0},{"$f":"D83*C83","v":0},null,{"$f":"SUMIF('DAILY FOC'!$A$9:$A$62,'SIDE ORDER & FOC'!B83,'DAILY FOC'!$BN$9:$BN$63)","v":0},{"$f":"G83*C83","v":0},{"$f":"+D83-G83","v":0},{"$f":"+I83*C83","v":0},null,{"$f":"SUMIF(DATABASE!$F$3:$F$89,B83,DATABASE!$I$3:$I$81)","v":2.99},{"$f":"+L83*I83","v":0},{"$f":"+L83","v":2.99},{"$f":"+N83*G83","v":0},null,"CHICKEN SAUSAGE ",1,{"$f":"+R83*$D$83","v":0}]
[null,null,null,null,null,null,null,null,null,null,null,null,null,null,null,null,"6\" PIZZA BASE ",1,{"$f":"+R84*D84","v":0}]
[{"$f":"+A83+1","v":5},"DL05 3005:6'VEGGIE",12.9,{"$f":"VLOOKUP(B85,Summary!$B$30:$AK$475,5,FALSE)","v":0},{"$f":"D85*C85","v":0},null,{"$f":"SUMIF('DAILY FOC'!$A$9:$A$62,'SIDE ORDER & FOC'!B85,'DAILY FOC'!$BN$9:$BN$63)","v":0},{"$f":"G85*C85","v":0},{"$f":"+D85-G85","v":0},{"$f":"+I85*C85","v":0},null,{"$f":"SUMIF(DATABASE!$F$3:$F$89,B85,DATABASE!$I$3:$I$81)","v":3.62},{"$f":"+L85*I85","v":0},{"$f":"+L85","v":3.62},{"$f":"+N85*G85","v":0},null,"6\" PIZZA BASE ",1,0]
[{"$f":"+A85+1","v":6},"DL06 3001:9'HAWAIIAN",16.899999999999999,{"$f":"VLOOKUP(B86,Summary!$B$30:$AK$475,5,FALSE)","v":0},{"$f":"D86*C86","v":0},null,{"$f":"SUMIF('DAILY FOC'!$A$9:$A$62,'SIDE ORDER & FOC'!B86,'DAILY FOC'!$BN$9:$BN$63)","v":0},{"$f":"G86*C86","v":0},{"$f":"+D86-G86","v":0},{"$f":"+I86*C86","v":0},null,{"$f":"SUMIF(DATABASE!$F$3:$F$89,B86,DATABASE!$I$3:$I$81)","v":5.79},{"$f":"+L86*I86","v":0},{"$f":"+L86","v":5.79},{"$f":"+N86*G86","v":0},null,"9\" PIZZA BASE ",1,0]
[null,null,null,null,null,null,null,null,null,null,null,null,null,null,null,null,"CHICKEN HAM",2,0]
[{"$f":"+A86+1","v":7},"DL07 3002:9'SMOKED",16.899999999999999,{"$f":"VLOOKUP(B88,Summary!$B$30:$AK$475,5,FALSE)","v":0},{"$f":"D88*C88","v":0},null,{"$f":"SUMIF('DAILY FOC'!$A$9:$A$62,'SIDE ORDER & FOC'!B88,'DAILY FOC'!$BN$9:$BN$63)","v":0},{"$f":"G88*C88","v":0},{"$f":"+D88-G88","v":0},{"$f":"+I88*C88","v":0},null,{"$f":"SUMIF(DATABASE!$F$3:$F$89,B88,DATABASE!$I$3:$I$81)","v":8.2100000000000009},{"$f":"+L88*I88","v":0},{"$f":"+L88","v":8.2100000000000009},{"$f":"+N88*G88","v":0},null,"9\" PIZZA BASE ",1,0]
[null,null,null,null,null,null,null,null,null,null,null,null,null,null,null,null,"CHICKEN WING  (MARINATED)",1,0]
[{"$f":"+A88+1","v":8},"DL08 3003:9'SEAFOOD",16.899999999999999,{"$f":"VLOOKUP(B90,Summary!$B$30:$AK$475,5,FALSE)","v":0},{"$f":"D90*C90","v":0},null,{"$f":"SUMIF('DAILY FOC'!$A$9:$A$62,'SIDE ORDER & FOC'!B90,'DAILY FOC'!$BN$9:$BN$63)","v":0},{"$f":"G90*C90","v":0},{"$f":"+D90-G90","v":0},{"$f":"+I90*C90","v":0},null,{"$f":"SUMIF(DATABASE!$F$3:$F$89,B90,DATABASE!$I$3:$I$81)","v":9.48},{"$f":"+L90*I90","v":0},{"$f":"+L90","v":9.48},{"$f":"+N90*G90","v":0},null,"9\" PIZZA BASE ",1,0]
[{"$f":"+A90+1","v":9},"DL09 3004:9'SPICY B",16.899999999999999,{"$f":"VLOOKUP(B91,Summary!$B$30:$AK$475,5,FALSE)","v":0},{"$f":"D91*C91","v":0},null,{"$f":"SUMIF('DAILY FOC'!$A$9:$A$62,'SIDE ORDER & FOC'!B91,'DAILY FOC'!$BN$9:$BN$63)","v":0},{"$f":"G91*C91","v":0},{"$f":"+D91-G91","v":0},{"$f":"+I91*C91","v":0},null,{"$f":"SUMIF(DATABASE!$F$3:$F$89,B91,DATABASE!$I$3:$I$81)","v":5.38},{"$f":"+L91*I91","v":0},{"$f":"+L91","v":5.38},{"$f":"+N91*G91","v":0},null,"CHICKEN SAUSAGE ",1,{"$f":"+R91*$D$91","v":0}]
[null,null,null,null,null,null,null,null,null,null,null,null,null,null,null,null,"9\" PIZZA BASE ",1,{"$f":"+R92*$D$91","v":0}]
[10,"DL10 3005:9'VEGGIE",16.899999999999999,{"$f":"VLOOKUP(B93,Summary!$B$30:$AK$475,5,FALSE)","v":0},{"$f":"D93*C93","v":0},null,{"$f":"SUMIF('DAILY FOC'!$A$9:$A$62,'SIDE ORDER & FOC'!B93,'DAILY FOC'!$BN$9:$BN$63)","v":0},{"$f":"G93*C93","v":0},{"$f":"+D93-G93","v":0},{"$f":"+I93*C93","v":0},null,{"$f":"SUMIF(DATABASE!$F$3:$F$89,B93,DATABASE!$I$3:$I$81)","v":6.96},{"$f":"+L93*I93","v":0},{"$f":"+L93","v":6.96},{"$f":"+N93*G93","v":0},null,"9\" PIZZA BASE ",1,{"$f":"+R93*D93","v":0}]
[]
[null,"PLATTER"]
[1,"DM01 SNACK PLATTER(A)",16.899999999999999,{"$f":"VLOOKUP(B96,Summary!$B$30:$AK$475,5,FALSE)","v":0},{"$f":"D96*C96","v":0},null,{"$f":"SUMIF('DAILY FOC'!$A$9:$A$62,'SIDE ORDER & FOC'!B96,'DAILY FOC'!$BN$9:$BN$63)","v":0},null,{"$f":"+D96-G96","v":0},{"$f":"+I96*C96","v":0},null,{"$f":"SUMIF(DATABASE!$F$3:$F$89,B96,DATABASE!$I$3:$I$81)","v":4.5999999999999996},{"$f":"+L96*I96","v":0},{"$f":"+L96","v":4.5999999999999996},{"$f":"+N96*G96","v":0},null,"MCCAIN VERSITOT",8,{"$f":"+R96*$D$96","v":0}]
[null,null,null,null,null,null,null,null,null,null,null,null,null,null,null,null,"MCCAIN SMILES",6,{"$f":"+R97*$D$96","v":0}]
[null,null,null,null,null,null,null,null,null,null,null,null,null,null,null,null,"MCCAIN ONION RING",8,{"$f":"+R98*$D$96","v":0}]
[null,null,null,null,null,null,null,null,null,null,null,null,null,null,null,null,"MCCAIN SPIRAL FRIES",0.12,{"$f":"+R99*$D$96","v":0}]
[2,"DM02 SNACK PLATTER(B)",12.9,{"$f":"VLOOKUP(B100,Summary!$B$30:$AK$475,5,FALSE)","v":0},{"$f":"D100*C100","v":0},null,null,null,{"$f":"+D100-G100","v":0},{"$f":"+I100*C100","v":0},null,{"$f":"SUMIF(DATABASE!$F$3:$F$89,B100,DATABASE!$I$3:$I$81)","v":4.5999999999999996},{"$f":"+L100*I100","v":0},{"$f":"+L100","v":4.5999999999999996},{"$f":"+N100*G100","v":0},null,"MCCAIN VERSITOT",8,{"$f":"+R100*$D$100","v":0}]
[null,null,null,null,null,null,null,null,null,null,null,null,null,null,null,null,"MCCAIN SMILES",6,{"$f":"+R101*$D$100","v":0}]
[null,null,null,null,null,null,null,null,null,null,null,null,null,null,null,null,"MCCAIN ONION RING",8,{"$f":"+R102*$D$100","v":0}]
[null,null,null,null,null,null,null,null,null,null,null,null,null,null,null,null,"MCCAIN SPIRAL FRIES",0.12,{"$f":"+R103*$D$96","v":0}]
[3,"DM03 CNY platter(A)",19.899999999999999,{"$f":"VLOOKUP(B104,Summary!$B$30:$AK$475,5,FALSE)","v":0},{"$f":"D104*C104","v":0},null,null,null,{"$f":"+D104-G104","v":0},{"$f":"+I104*C104","v":0},null,{"$f":"SUMIF(DATABASE!$F$3:$F$89,B104,DATABASE!$I$3:$I$81)","v":9.81},{"$f":"+L104*I104","v":0},{"$f":"+L104","v":9.81},{"$f":"+N104*G104","v":0},null,"CHICKEN WINGS (NON -MARINATED)",4,{"$f":"+R104*D104","v":0}]
[null,null,null,null,null,null,null,null,null,null,null,null,null,null,null,null,"MCCAIN ONION RING",8,{"$f":"+R105*$D$104","v":0}]
[4,"DM04 CNY platter (B)",23.9,{"$f":"VLOOKUP(B106,Summary!$B$30:$AK$475,5,FALSE)","v":0},{"$f":"D106*C106","v":0},null,null,null,{"$f":"+D106-G106","v":0},{"$f":"+I106*C106","v":0},null,{"$f":"SUMIF(DATABASE!$F$3:$F$89,B106,DATABASE!$I$3:$I$81)","v":9.81},{"$f":"+L106*I106","v":0},{"$f":"+L106","v":9.81},{"$f":"+N106*G106","v":0},null,"CHICKEN WINGS (NON -MARINATED)",4,{"$f":"+R106*$D$106","v":0}]
[null,null,null,null,null,null,null,null,null,null,null,null,null,null,null,null,"MCCAIN ONION RING",8,{"$f":"+R107*$D$106","v":0}]
[]
[]
["Total Sales / COST",null,null,{"$f":"SUM(D11:D109)","v":87},{"$f":"SUM(E11:E109)","v":703.20000000000016},null,{"$f":"SUM(G11:G108)","v":7},{"$f":"SUM(H11:H109)","v":70.3},{"$f":"SUM(I11:I109)","v":80},{"$f":"SUM(J11:J109)","v":632.9000000000002},null,null,{"$f":"SUM(M11:M109)","v":217.12},null,{"$f":"SUM(O11:O109)","v":26.769999999999996}]
[]
[]
[]
[]
[]
[]
[]
[]
[]
[]
[]
[]
[]
[]
[]
[]
[]
[]
[]
[]
[]
[]
[]
[]
[]
[]
[]
[]
[]
[]
[]
[]
[]
[]
[]
[]
[]
[]
[]
[]
[]
[]
[]
[]
[]
[]
[]
[]
[]
[]
[]
[]
[]
[]
[]
[]
[]
[]
[]
[]
[]
[]
[]
[]
[]
[]
[]
[]
[]
[]
[]
[]
[]
[]
[]
[]
[]
[]
[]
[]
[]
[]
[]
[]
[]
[]
[]
[]
[]
[]
[null,null,null,null,null,null,null,null,null,null,null,null,null,null,null,null,null,null,{"$f":"SUBTOTAL(9,S13:S89)","v":213.51999999999998}]

{"sheet":"DAILY FOC","index":8,"n_rows":62,"n_cols":68,"rows_kept":62,"cut":false,"hidden":false,"merged":[[2,1,2,7],[3,1,3,7],[6,12,6,13],[6,14,6,15],[6,16,6,17],[6,18,6,19],[6,2,6,3],[6,4,6,5],[6,6,6,7],[6,8,6,9],[6,10,6,11],[6,42,6,43],[6,20,6,21],[6,22,6,23],[6,24,6,25],[6,26,6,27],[6,28,6,29],[6,30,6,31],[6,32,6,33],[6,34,6,35],[6,36,6,37],[6,38,6,39],[6,40,6,41],[6,56,6,57],[6,58,6,59],[6,60,6,61],[6,62,6,63],[6,44,6,45],[6,46,6,47],[6,48,6,49],[6,50,6,51],[6,52,6,53],[6,54,6,55]]}
["DAILY FOC RECORD "]
[]
["Outlet :","CCS OUTLET"]
["Month :",{"$f":"+'K-LUNCH & K DINNER'!B4","v":"2013-09-01"}]
[]
[]
["Item","S/P",1,null,{"$f":"+C7+1","v":2},null,{"$f":"+E7+1","v":3},null,{"$f":"+G7+1","v":4},null,{"$f":"+I7+1","v":5},null,{"$f":"+K7+1","v":6},null,{"$f":"+M7+1","v":7},null,{"$f":"+O7+1","v":8},null,{"$f":"+Q7+1","v":9},null,{"$f":"+S7+1","v":10},null,{"$f":"+U7+1","v":11},null,{"$f":"+W7+1","v":12},null,{"$f":"+Y7+1","v":13},null,{"$f":"+AA7+1","v":14},null,{"$f":"+AC7+1","v":15},null,{"$f":"+AE7+1","v":16},null,{"$f":"+AG7+1","v":17},null,{"$f":"+AI7+1","v":18},null,{"$f":"+AK7+1","v":19},null,{"$f":"+AM7+1","v":20},null,{"$f":"+AO7+1","v":21},null,{"$f":"+AQ7+1","v":22},null,{"$f":"+AS7+1","v":23},null,{"$f":"+AU7+1","v":24},null,{"$f":"+AW7+1","v":25},null,{"$f":"+AY7+1","v":26},null,{"$f":"+BA7+1","v":27},null,{"$f":"+BC7+1","v":28},null,{"$f":"+BE7+1","v":29},null,{"$f":"+BG7+1","v":30},null,{"$f":"+BI7+1","v":31},null,null,"TOTAL","TOTAL","%"]
[null,"RM","Q","RM","Q","RM","Q","RM","Q","RM","Q","RM","Q","RM","Q","RM","Q","RM","Q","RM","Q","RM","Q","RM","Q","RM","Q","RM","Q","RM","Q","RM","Q","RM","Q","RM","Q","RM","Q","RM","Q","RM","Q","RM","Q","RM","Q","RM","Q","RM","Q","RM","Q","RM","Q","RM","Q","RM","Q","RM","Q","RM","Q","RM",null,"Q","RM"]
["DF01 ADD RICE",1,0,{"$f":"C9*B9","v":0},0,{"$f":"E9*B9","v":0},0,{"$f":"G9*B9","v":0},0,{"$f":"I9*B9","v":0},0,{"$f":"K9*B9","v":0},0,{"$f":"M9*B9","v":0},0,{"$f":"O9*B9","v":0},0,{"$f":"Q9*B9","v":0},0,{"$f":"S9*B9","v":0},0,{"$f":"U9*B9","v":0},0,{"$f":"W9*B9","v":0},0,{"$f":"Y9*B9","v":0},0,{"$f":"AA9*B9","v":0},0,{"$f":"AC9*B9","v":0},0,{"$f":"AE9*B9","v":0},0,{"$f":"AG9*B9","v":0},0,{"$f":"AI9*B9","v":0},0,{"$f":"AK9*B9","v":0},0,{"$f":"AM9*B9","v":0},0,{"$f":"AO9*B9","v":0},0,{"$f":"AQ9*B9","v":0},0,{"$f":"AS9*B9","v":0},0,{"$f":"AU9*B9","v":0},0,{"$f":"AW9*B9","v":0},0,{"$f":"AY9*B9","v":0},0,{"$f":"BA9*B9","v":0},0,{"$f":"BC9*B9","v":0},0,{"$f":"BE9*B9","v":0},0,{"$f":"BG9*B9","v":0},0,{"$f":"BI9*B9","v":0},0,{"$f":"BK9*B9","v":0},null,{"$f":"C9+E9+G9+I9+K9+M9+O9+Q9+S9+U9+W9+Y9+AA9+AC9+AE9+AG9+AI9+AK9+AM9+AO9+AQ9+AS9+AU9+AW9+AY9+BA9+BC9+BE9+BG9+BI9+BK9","v":0},{"$f":"BN9*B9","v":0}]
["DF02 ADD F.EGG",1.5,0,0,0,0,0,0,0,0,0,0,0,0,0,0,0,0,0,0,0,0,0,0,0,0,0,0,0,0,0,0,0,0,0,0,0,0,0,0,0,0,0,0,0,0,0,0,0,0,0,0,0,0,0,0,0,0,0,0,0,0,0,0,null,0,0]
["DC01 1101:THAI CHK",9.9,0,{"$f":"C11*B11","v":0},0,{"$f":"E11*B11","v":0},0,{"$f":"G11*B11","v":0},0,{"$f":"I11*B11","v":0},0,{"$f":"K11*B11","v":0},0,{"$f":"M11*B11","v":0},0,{"$f":"O11*B11","v":0},0,{"$f":"Q11*B11","v":0},0,{"$f":"S11*B11","v":0},0,{"$f":"U11*B11","v":0},0,{"$f":"W11*B11","v":0},0,{"$f":"Y11*B11","v":0},0,{"$f":"AA11*B11","v":0},0,{"$f":"AC11*B11","v":0},0,{"$f":"AE11*B11","v":0},0,{"$f":"AG11*B11","v":0},0,{"$f":"AI11*B11","v":0},0,{"$f":"AK11*B11","v":0},0,{"$f":"AM11*B11","v":0},0,{"$f":"AO11*B11","v":0},0,{"$f":"AQ11*B11","v":0},0,{"$f":"AS11*B11","v":0},0,{"$f":"AU11*B11","v":0},0,{"$f":"AW11*B11","v":0},0,{"$f":"AY11*B11","v":0},0,{"$f":"BA11*B11","v":0},0,{"$f":"BC11*B11","v":0},0,{"$f":"BE11*B11","v":0},0,{"$f":"BG11*B11","v":0},0,{"$f":"BI11*B11","v":0},0,{"$f":"BK11*B11","v":0},null,{"$f":"C11+E11+G11+I11+K11+M11+O11+Q11+S11+U11+W11+Y11+AA11+AC11+AE11+AG11+AI11+AK11+AM11+AO11+AQ11+AS11+AU11+AW11+AY11+BA11+BC11+BE11+BG11+BI11+BK11","v":0},{"$f":"BN11*B11","v":0}]
["DC02 1102:MAMITE CHK",9.9,0,0,0,0,0,0,0,0,0,0,0,0,0,0,0,0,0,0,0,0,0,0,0,0,0,0,0,0,0,0,0,0,0,0,0,0,0,0,0,0,0,0,0,0,0,0,0,0,0,0,0,0,0,0,0,0,0,0,0,0,0,0,null,0,0]
["DC03 1103:KO PO CHK",9.9,0,0,0,0,0,0,0,0,0,0,0,0,0,0,0,0,0,0,0,0,0,0,0,0,0,0,0,0,0,0,0,0,0,0,0,0,0,0,0,0,0,0,0,0,0,0,0,0,0,0,0,0,0,0,0,0,0,0,0,0,0,0,null,0,0]
["DC04 1104:S&S CHK",9.9,0,0,0,0,0,0,0,0,0,0,0,0,0,0,0,0,0,0,0,0,0,0,0,0,0,0,0,0,0,0,0,0,0,0,0,0,0,0,0,0,0,0,0,0,0,0,0,0,0,0,0,0,0,0,0,0,0,0,0,0,0,0,null,0,0]
["DC05 1105:BUTTER CHK",9.9,0,0,0,0,0,0,0,0,0,0,0,0,0,0,0,0,0,0,0,0,0,0,0,0,0,0,0,0,0,0,0,0,0,0,1,9.9,0,0,0,0,0,0,0,0,0,0,0,0,0,0,0,0,0,0,0,0,0,0,0,0,0,0,null,1,9.9]
["DC06 1106:HK F.RICE",9.9,0,0,0,0,0,0,0,0,0,0,0,0,0,0,0,0,0,0,0,0,0,0,0,0,0,0,0,0,0,0,0,0,0,0,0,0,0,0,0,0,0,0,0,0,0,0,0,0,0,0,0,0,0,0,0,0,0,0,0,0,0,0,null,0,0]
["DC07 1107:SBL F.RICE",9.9,0,0,0,0,0,0,0,0,0,0,0,0,0,0,0,0,0,0,0,0,0,0,0,0,0,0,0,0,0,0,0,0,0,0,0,0,0,0,0,0,0,0,0,0,0,0,0,0,0,0,0,0,0,0,0,0,0,0,0,0,0,0,null,0,0]
["DC08 1108:SBL F.MEE",9.9,0,0,0,0,0,0,0,0,0,0,0,0,0,0,0,0,0,0,0,0,0,0,0,0,0,0,0,0,0,0,0,0,0,0,0,0,0,0,0,0,0,0,0,0,0,0,0,0,0,0,0,0,0,0,0,0,0,0,0,0,0,0,null,0,0]
["DC09 1109:BP UDON",9.9,0,0,0,0,0,0,0,0,0,0,0,0,0,0,0,0,0,0,0,0,0,0,0,0,0,0,0,0,0,0,0,0,0,0,0,0,0,0,0,0,0,0,0,0,0,0,0,0,0,0,0,0,0,0,0,0,0,0,0,0,0,0,null,0,0]
["DC10 1110:NISSIN",9.9,0,0,0,0,0,0,0,0,0,0,0,0,0,0,0,0,0,0,0,0,0,0,0,0,0,0,0,0,0,0,0,0,0,0,0,0,0,0,0,0,0,0,0,0,0,0,0,0,0,0,0,0,0,0,0,0,0,0,0,0,0,0,null,0,0]
["DC11 1111:VEG RICE",9.9,0,0,0,0,0,0,0,0,0,0,0,0,0,0,0,0,0,0,0,0,0,0,0,0,0,0,0,0,0,0,0,0,0,0,0,0,0,0,0,0,0,0,0,0,0,0,0,0,0,0,0,0,0,0,0,0,0,0,0,0,0,0,null,0,0]
["DC12 1112:NASI LEMAK",9.9,0,0,0,0,0,0,0,0,0,0,0,0,0,0,0,0,0,0,0,0,0,0,0,0,0,0,0,0,0,0,0,0,0,0,0,0,0,0,0,0,0,0,0,0,0,0,0,0,0,0,0,0,0,0,0,0,0,0,0,0,0,0,null,0,0]
["DC13 1113:KUEY TEOW",9.9,0,0,0,0,0,0,0,0,0,0,0,0,0,0,0,0,0,0,0,0,0,0,0,0,0,0,0,0,0,0,0,0,0,0,0,0,0,0,0,0,0,0,0,0,0,0,0,0,0,0,0,0,0,0,0,0,0,0,0,0,0,0,null,0,0]
["DC14 1114:F.BALL MEE",9.9,0,0,0,0,0,0,0,0,0,0,0,0,0,0,0,0,0,0,0,0,0,0,0,0,0,0,0,0,0,0,0,0,0,0,0,0,0,0,0,0,0,0,0,0,0,0,0,0,0,0,0,0,0,0,0,0,0,0,0,0,0,0,null,0,0]
["DC15 1115:CHK NOODLE",9.9,0,0,0,0,0,0,0,0,0,0,0,0,0,0,0,0,0,0,0,0,0,0,0,0,0,0,0,0,0,0,0,0,0,0,0,0,0,0,0,0,0,0,0,0,0,0,0,0,0,0,0,0,0,0,0,0,0,0,0,0,0,0,null,0,0]
["DC16 1116:MGL CHICKEN",9.9,0,0,0,0,0,0,0,0,0,0,0,0,0,0,0,0,0,0,0,0,0,0,0,0,0,0,0,0,0,0,0,0,0,0,0,0,0,0,0,0,0,0,0,0,0,0,0,0,0,0,0,0,0,0,0,0,0,0,0,0,0,0,null,0,0]
["DB01 1001:BP CKN CP",12.9,0,0,0,0,0,0,0,0,1,12.9,0,0,0,0,0,0,0,0,0,0,0,0,0,0,0,0,0,0,0,0,0,0,0,0,0,0,0,0,0,0,0,0,0,0,0,0,0,0,0,0,0,0,0,0,0,0,0,0,0,0,0,0,null,1,12.9]
["DB02 1002:GVY CHK CP",12.9,0,0,0,0,0,0,0,0,0,0,0,0,0,0,0,0,0,0,0,0,0,0,0,0,0,0,0,0,0,0,0,0,0,0,0,0,0,0,0,0,0,0,0,0,0,0,0,0,0,0,0,0,0,0,0,0,0,0,0,0,0,0,null,0,0]
["DB03 1003:MSR CKN CP",12.9,0,0,0,0,0,0,0,0,0,0,0,0,0,0,0,0,0,0,0,0,0,0,0,0,0,0,0,0,0,0,0,0,0,0,0,0,0,0,0,0,0,0,0,0,0,0,0,0,0,0,0,0,0,0,0,0,0,0,0,0,0,0,null,0,0]
["DB04 1004:CKN MARY",12.9,0,0,0,0,0,0,0,0,0,0,0,0,0,0,0,0,0,0,0,0,0,0,0,0,0,0,0,0,0,0,0,0,0,0,0,0,0,0,0,0,0,0,0,0,0,0,0,0,0,0,0,0,0,0,0,0,0,0,0,0,0,0,null,0,0]
["DB05 1005:FISH&CHIP",12.9,0,0,0,0,0,0,0,0,0,0,0,0,0,0,0,0,0,0,0,0,0,0,0,0,0,0,0,0,0,0,0,0,0,0,0,0,0,0,0,0,0,0,0,0,0,0,0,0,0,0,0,0,0,0,0,0,0,0,0,0,0,0,null,0,0]
["DB06 1006:SPAGHETTI",12.9,0,0,0,0,0,0,0,0,0,0,0,0,0,0,0,0,0,0,0,0,0,0,0,0,0,0,0,0,0,0,0,0,0,0,0,0,0,0,0,0,0,0,0,0,0,0,0,0,0,0,0,0,0,0,0,0,0,0,0,0,0,0,null,0,0]
["DB07 1007:CHK SALAD",12.9,1,12.9,0,0,0,0,0,0,0,0,0,0,0,0,0,0,0,0,0,0,0,0,0,0,0,0,0,0,0,0,0,0,0,0,0,0,0,0,1,12.9,0,0,0,0,0,0,0,0,0,0,0,0,0,0,0,0,0,0,0,0,0,0,null,2,25.8]
["DD01 1201:SFD STICK",5.9,0,0,0,0,0,0,0,0,0,0,0,0,0,0,0,0,0,0,0,0,0,0,0,0,0,0,0,0,0,0,0,0,0,0,0,0,0,0,0,0,0,0,0,0,0,0,0,0,0,0,0,0,0,0,0,0,0,0,0,0,0,0,null,0,0]
["DD02 1202:FREN FRIES",5.9,0,0,0,0,0,0,0,0,0,0,0,0,0,0,0,0,0,0,0,0,0,0,0,0,0,0,0,0,0,0,0,0,0,0,0,0,0,0,0,0,0,0,0,0,0,0,0,0,0,0,0,0,0,0,0,0,0,0,0,0,0,0,null,0,0]
["DD03 1203:GOLD MROOM",5.9,0,0,0,0,0,0,0,0,0,0,0,0,0,0,0,0,0,0,0,0,0,0,0,0,0,0,0,0,0,0,0,0,0,0,0,0,0,0,0,0,0,0,0,0,0,0,0,0,0,0,0,0,0,0,0,0,0,0,0,0,0,0,null,0,0]
["DD04 1204:FISHBALL",5.9,0,0,0,0,0,0,0,0,0,0,0,0,0,0,0,0,0,0,0,0,0,0,0,0,0,0,0,0,0,0,0,0,0,0,0,0,0,0,0,0,0,0,0,0,0,0,0,0,0,0,0,0,0,0,0,0,0,0,0,0,0,0,null,0,0]
["DD05 1205:RAINBOW RL",5.9,0,0,0,0,0,0,0,0,0,0,0,0,0,0,0,0,0,0,0,0,0,0,0,0,0,0,0,0,0,0,0,0,0,0,0,0,0,0,0,0,0,0,0,0,0,0,0,0,0,0,0,0,0,0,0,0,0,0,0,0,0,0,null,0,0]
["DD06 1206:SPRING RL",5.9,0,0,0,0,0,0,0,0,0,0,0,0,0,0,0,0,0,0,0,0,0,0,0,0,0,0,0,0,0,0,0,0,0,0,0,0,0,0,0,0,0,0,0,0,0,0,0,0,0,0,0,0,0,0,0,0,0,0,0,0,0,0,null,0,0]
["DD07 1207:SAUSAGE",5.9,0,0,0,0,0,0,0,0,0,0,0,0,0,0,0,0,0,0,0,0,0,0,0,0,0,0,0,0,0,0,0,0,0,0,0,0,0,0,1,5.9,0,0,0,0,0,0,0,0,0,0,0,0,0,0,0,0,0,0,0,0,0,0,null,1,5.9]
["DD10 1301:DUMPLING",7.9,0,0,0,0,0,0,0,0,0,0,0,0,0,0,0,0,0,0,0,0,0,0,0,0,0,0,0,0,0,0,0,0,0,0,0,0,0,0,0,0,0,0,0,0,0,0,0,0,0,0,0,0,0,0,0,0,0,0,0,0,0,0,null,0,0]
["DD11 1302:NUGGET",7.9,0,0,0,0,0,0,0,0,0,0,0,0,0,0,0,0,0,0,0,0,0,0,0,0,0,0,0,0,0,0,0,0,0,0,0,0,0,0,0,0,0,0,0,0,0,0,0,0,0,0,0,0,0,0,0,0,0,0,0,0,0,0,null,0,0]
["DD12 1303:CHK WING",7.9,0,0,0,0,0,0,0,0,0,0,0,0,0,0,0,0,0,0,0,0,0,0,0,0,0,0,0,0,0,0,0,0,0,0,0,0,0,0,0,0,0,0,0,0,0,0,0,0,0,0,0,0,0,0,0,0,0,0,0,0,0,0,null,0,0]
["DD13 1304:IKAN BILIS",7.9,0,0,0,0,0,0,0,0,0,0,0,0,0,0,0,0,0,0,0,0,0,0,0,0,0,0,0,0,0,0,0,0,0,0,0,0,0,0,0,0,0,0,0,0,0,0,0,0,0,0,0,0,0,0,0,0,0,0,0,0,0,0,null,0,0]
["DD14 1305:THAI RL",7.9,0,0,0,0,0,0,0,0,1,7.9,0,0,0,0,0,0,0,0,0,0,0,0,0,0,0,0,0,0,0,0,0,0,0,0,0,0,0,0,0,0,0,0,0,0,0,0,0,0,0,0,0,0,0,0,0,0,0,0,0,0,0,0,null,1,7.9]
["DD15 1306:SLVR FISH",7.9,0,0,0,0,0,0,0,0,0,0,0,0,0,0,0,0,0,0,0,0,0,0,0,0,0,0,0,0,0,0,0,0,0,0,0,0,0,0,0,0,0,0,0,0,0,0,0,0,0,0,0,0,0,0,0,0,0,0,0,0,0,0,null,0,0]
["DD16 1307:D.F C/WING",7.9,0,0,0,0,0,0,0,0,0,0,0,0,0,0,0,0,0,{"$f":"S47*B47","v":0},0,0,0,0,0,0,0,0,0,0,0,0,0,0,0,0,1,7.9,0,0,0,0,0,0,0,0,0,0,0,0,0,0,0,0,0,0,0,0,0,0,0,0,0,0,null,1,7.9]
["DD17 1308 C/CALAMARI",7.9,0,0,0,0,0,0,0,0,0,0,0,0,0,0,0,0,0,{"$f":"S48*B48","v":0},0,0,0,0,0,0,0,0,0,0,0,0,0,0,0,0,0,0,0,0,0,0,0,0,0,0,0,0,0,0,0,0,0,0,0,0,0,0,0,0,0,0,0,0,null,0,0]
["DD18 1309 Mc C/O.RING",7.9,0,0,0,0,0,0,0,0,0,0,0,0,0,0,0,0,0,{"$f":"S49*B49","v":0},0,0,0,0,0,0,0,0,0,0,0,0,0,0,0,0,0,0,0,0,0,0,0,0,0,0,0,0,0,0,0,0,0,0,0,0,0,0,0,0,0,0,0,0,null,0,0]
["DD19 1310:Mc SPIRAL/F",7.9,0,0,0,0,0,0,0,0,0,0,0,0,0,0,0,0,0,{"$f":"S50*D50","v":0},0,0,0,0,0,0,0,0,0,0,0,0,0,0,0,0,0,0,0,0,0,0,0,0,0,0,0,0,0,0,0,0,0,0,0,0,0,0,0,0,0,0,0,0,null,0,0]
["DD20 1311:Mc H/SMILES",7.9,0,0,0,0,0,0,0,0,0,0,0,0,0,0,0,0,0,{"$f":"S51*B51","v":0},0,0,0,0,0,0,0,0,0,0,0,0,0,0,0,0,0,0,0,0,0,0,0,0,0,0,0,0,0,0,0,0,0,0,0,0,0,0,0,0,0,0,0,0,null,0,0]
["DD21 1312:Mc HASH BRW",7.9,0,0,0,0,0,0,0,0,0,0,0,0,0,0,0,0,0,{"$f":"S52*B52","v":0},0,0,0,0,0,0,0,0,0,0,0,0,0,0,0,0,0,0,0,0,0,0,0,0,0,0,0,0,0,0,0,0,0,0,0,0,0,0,0,0,0,0,0,0,null,0,0]
["DL01 3001:6'HAWAIIAN",12.9,0,{"$f":"C53*B53","v":0},0,{"$f":"E53*B53","v":0},0,0,0,{"$f":"I53*B53","v":0},0,0,0,0,0,0,0,0,0,0,0,0,0,0,0,0,0,0,0,0,0,0,0,{"$f":"AG53*AF53","v":0},0,0,0,0,0,0,0,0,0,0,0,0,0,0,0,0,0,0,0,0,0,0,0,0,0,{"$f":"BG53*B53","v":0},0,0,0,0,null,0,0]
["DL02 3002:6'SMOKE BBQ",12.9,0,{"$f":"C54*B54","v":0},0,{"$f":"E54*B54","v":0},0,0,0,{"$f":"I54*B54","v":0},0,0,0,0,0,0,0,0,0,0,0,0,0,0,0,0,0,0,0,0,0,0,0,0,0,0,0,0,0,0,0,0,0,0,0,0,0,0,0,0,0,0,0,0,0,0,0,0,0,{"$f":"BG54*B54","v":0},0,0,0,0,null,0,0]
["DL03 3003:6'SEAFOOD",12.9,0,0,0,0,0,0,0,0,0,0,0,{"$f":"M55*B55","v":0},0,0,0,0,0,0,0,0,0,0,0,0,0,0,0,0,0,0,0,0,0,0,0,0,0,0,0,0,0,0,0,0,0,0,0,0,0,0,0,0,0,0,0,0,0,0,0,0,0,0,null,0,0]
["DL04 3004:6'SPICY BUF",12.9,0,0,0,0,0,0,0,0,0,0,0,0,0,0,0,0,0,0,0,0,0,0,0,0,0,0,0,0,0,0,0,0,0,0,0,0,0,0,0,0,0,0,0,0,0,0,0,0,0,0,0,0,0,0,0,0,0,0,0,0,0,0,null,0,0]
["DL05 3005:6'VEGGIE",16.899999999999999,0,0,0,0,0,0,0,0,0,0,0,0,0,0,0,0,0,0,0,0,0,0,0,0,0,0,0,0,0,0,0,0,0,0,0,0,0,0,0,0,0,0,0,0,0,0,0,0,0,0,0,0,0,0,0,0,0,0,0,0,0,0,null,0,0]
["DL06 3001:9'HAWAIIAN",16.899999999999999,0,0,0,0,0,0,0,0,0,0,0,0,0,0,0,0,0,0,0,0,0,0,0,0,0,0,0,0,0,0,0,0,0,0,0,0,0,0,0,0,0,0,0,0,0,0,0,0,0,0,0,0,0,0,0,0,0,0,0,0,0,0,null,0,0]
["DL07 3002:9'SMOKED",16.899999999999999,0,0,0,0,0,0,0,0,0,0,0,0,0,0,0,0,0,0,0,0,0,0,0,0,0,0,0,0,0,0,0,0,0,0,0,0,0,0,0,0,0,0,0,0,0,0,0,0,0,0,0,0,0,0,0,0,0,0,0,0,0,0,null,0,0]
["DL08 3003:9'SEAFOOD",12.9,0,0,0,0,0,0,0,0,0,0,0,0,0,0,0,0,0,0,0,0,0,0,0,0,0,0,0,0,0,0,0,0,0,0,0,0,0,0,0,0,0,0,0,0,0,0,0,0,0,0,0,0,0,0,0,0,0,0,0,0,0,0,null,0,0]
["DL09 3004:9'SPICY B",null,0,{"$f":"C61*B61","v":0},0,{"$f":"E61*B61","v":0},0,{"$f":"G61*B61","v":0},0,{"$f":"I61*B61","v":0},0,{"$f":"K61*B61","v":0},0,{"$f":"M61*B61","v":0},0,{"$f":"O61*B61","v":0},0,{"$f":"Q61*B61","v":0},0,{"$f":"S61*B61","v":0},0,{"$f":"U61*B61","v":0},0,{"$f":"W61*B61","v":0},0,{"$f":"Y61*B61","v":0},0,{"$f":"AA61*B61","v":0},0,{"$f":"AC61*B61","v":0},0,{"$f":"AE61*B61","v":0},0,{"$f":"AG61*B61","v":0},0,{"$f":"AI61*B61","v":0},0,{"$f":"AK61*B61","v":0},0,{"$f":"AM61*B61","v":0},0,{"$f":"AO61*B61","v":0},0,{"$f":"AQ61*B61","v":0},0,{"$f":"AS61*B61","v":0},0,{"$f":"AU61*B61","v":0},0,{"$f":"AW61*B61","v":0},0,{"$f":"AY61*B61","v":0},0,{"$f":"BA61*B61","v":0},0,{"$f":"BC61*B61","v":0},0,{"$f":"BE61*B61","v":0},0,{"$f":"BG61*B61","v":0},0,{"$f":"BI61*B61","v":0},0,{"$f":"BK61*B61","v":0},null,{"$f":"C61+E61+G61+I61+K61+M61+O61+Q61+S61+U61+W61+Y61+AA61+AC61+AE61+AG61+AI61+AK61+AM61+AO61+AQ61+AS61+AU61+AW61+AY61+BA61+BC61+BE61+BG61+BI61+BK61","v":0},{"$f":"BN61*B61","v":0}]
["DL10 3005:9'VEGGIE",null,0,0,0,0,0,0,0,0,0,0,0,0,0,0,0,0,0,0,0,0,0,0,0,0,0,0,0,0,0,0,0,0,0,0,0,0,0,0,0,0,0,0,0,0,0,0,0,0,0,0,0,0,0,0,0,0,0,0,0,0,0,0,null,0,0]

{"sheet":"SAUCE USAGE","index":9,"n_rows":128,"n_cols":13,"rows_kept":128,"cut":false,"hidden":false,"merged":[[6,9,6,11],[0,0,0,4]]}
["MONTHLY SERVINGS: SAUCE "]
[]
[{"$f":"+'[6]K-LUNCH & K DINNER'!A3","v":"Outlet :"},{"$f":"+'K-LUNCH & K DINNER'!B3","v":"CCS OUTLET"}]
[{"$f":"+'[6]K-LUNCH & K DINNER'!A4","v":"Month :"},{"$f":"+'LOK LOK '!C4","v":"2013-09-01"}]
[]
[]
[null,null,null,"FROM SYSTEM ",null,null,"FROM SYSTEM ",null,null,"USAGE"]
["NO","Item","COST","SERVINGS",null,"Item","SERVINGS","TOTAL ",null,"MATERIAL ","RECIPE","TOTAL","TOTAL COST"]
[null,null,"RM","Q",null,null,"Q","Q",null,"Q","GRAM","GRAM ","RM"]
[null,"REQUEST BY CUSTOMERS",null,null,null,null,null,null,null,"ALL PORTION DECREASED BY 10 GRAM"]
[1,"DF03 ADD SAUCE 1000",1.0800000000000001E-2,{"$f":"VLOOKUP(B11,Summary!$B$30:$AK$475,5,FALSE)","v":0},null,null,null,{"$f":"+G11+D11","v":0},null,"DRESSING THOUSAND ISLAND",55,{"$f":"+K11*H11","v":0},{"$f":"+L11*C11","v":0}]
[{"$f":"+A11+1","v":2},"DF04 ADD SAUCE BOLO",1.14E-2,{"$f":"VLOOKUP(B12,Summary!$B$30:$AK$475,5,FALSE)","v":0},null,null,null,0,null,"BOLOGNESE SAUCE",140,{"$f":"+K12*H12","v":0},0]
[{"$f":"+A12+1","v":3},"DF05 ADD SAUCE BP",3.0000000000000001E-3,{"$f":"VLOOKUP(B13,Summary!$B$30:$AK$475,5,FALSE)","v":0},null,null,null,0,null,"BLACK PEPPER SAUCE",80,0,0]
[4,"DF06 ADD SAUCE BUTTER",5.8999999999999999E-3,{"$f":"VLOOKUP(B14,Summary!$B$30:$AK$475,5,FALSE)","v":0},null,null,null,0,null,"BUTTER CREAM SAUCE",65,0,0]
[5,"DF07 ADD SAUCE C.PADI",{"$f":"0.13/30","v":4.3333333333333331E-3},{"$f":"VLOOKUP(B15,Summary!$B$30:$AK$475,5,FALSE)","v":0},null,null,null,0,null,"SAUCE CHILLI (KIMBALL)",20,0,{"$f":"+L15*C15","v":0}]
[6,"DF08 ADD SAUCE GS",3.3E-3,{"$f":"VLOOKUP(B16,Summary!$B$30:$AK$475,5,FALSE)","v":0},null,null,null,0,null,"GRAVY SAUCE",80,0,0]
[7,"DF09 ADD SAUCE MAYO",6.3E-3,{"$f":"VLOOKUP(B17,Summary!$B$30:$AK$475,5,FALSE)","v":6},null,null,null,6,null,"MAYONNAISE",70,420,2.6459999999999999]
[8,"DF10 ADD SAUCE MMITE",2E-3,{"$f":"VLOOKUP(B18,Summary!$B$30:$AK$475,5,FALSE)","v":0},null,null,null,0,null,"MARMITE SAUCE ",70,0,0]
[9,"DF11 ADD SAUCE MR",6.7999999999999996E-3,{"$f":"VLOOKUP(B19,Summary!$B$30:$AK$475,5,FALSE)","v":0},null,null,null,0,null,"MUSHROOM SAUCE",80,0,0]
[10,"DF12 ADD SAUCE SAMBAL",8.2500000000000004E-3,{"$f":"VLOOKUP(B20,Summary!$B$30:$AK$475,5,FALSE)","v":0},null,null,null,0,null,"SAMBAL SAUCE (NASI)",110,0,0]
[11,"DF13 ADD SAUCE THAI",{"$f":"0.27/38","v":7.1052631578947369E-3},{"$f":"VLOOKUP(B21,Summary!$B$30:$AK$475,5,FALSE)","v":0},null,null,null,0,null,"THAI SAUCE",65,0,0]
[12,"DF14 ADD SAUCE TOMATO",3.5000000000000001E-3,{"$f":"VLOOKUP(B22,Summary!$B$30:$AK$475,5,FALSE)","v":0},null,null,null,0,null,"TOMATO SAUCE ( KIMBALL )",20,0,0]
[13,"DF15 ADD TATA SAUCE",1.24E-2,{"$f":"VLOOKUP(B23,Summary!$B$30:$AK$475,5,FALSE)","v":0},null,null,null,0,null,"TARTAR SAUCE",28,0,0]
[14,"DF16 ADD SAUCE CHEES",null,{"$f":"VLOOKUP(B24,Summary!$B$30:$AK$475,5,FALSE)","v":0},null,null,null,0,null,"NACHO CHEESE DIP ",70,0,0]
[null,"KLKD"]
[15,"DH01 91101:THAI CHK",{"$f":"0.27/38","v":7.1052631578947369E-3},{"$f":"VLOOKUP(B26,Summary!$B$30:$AK$475,5,FALSE)","v":3},null,null,null,{"$f":"+G26+D26","v":3},null,"THAI SAUCE",75,{"$f":"+K26*H26","v":225},{"$f":"+L26*C26","v":1.5986842105263157}]
[{"$f":"+A26+1","v":16},"DH02 91102:MAMITE CHK",2E-3,{"$f":"VLOOKUP(B27,Summary!$B$30:$AK$475,5,FALSE)","v":7},null,null,null,{"$f":"+G27+D27","v":7},null,"MARMITE SAUCE ",80,{"$f":"+K27*H27","v":560},{"$f":"+L27*C27","v":1.1200000000000001}]
[{"$f":"+A27+1","v":17},"DH03 91103:KO PO CHK",1.5E-3,{"$f":"VLOOKUP(B28,Summary!$B$30:$AK$475,5,FALSE)","v":0},null,null,null,0,null,"KONG PO SAUCE",180,0,0]
[18,"DH04 91104:S&S CHK",{"$f":"0.38/200","v":1.9E-3},{"$f":"VLOOKUP(B29,Summary!$B$30:$AK$475,5,FALSE)","v":1},null,null,null,1,null,"SWEET & SOUR SAUCE",200,200,0.38]
[19,"DH05 91105:BUTTER CHK",5.8999999999999999E-3,{"$f":"VLOOKUP(B30,Summary!$B$30:$AK$475,5,FALSE)","v":5},null,null,null,5,null,"BUTTER CREAM SAUCE",75,{"$f":"+K30*H30","v":375},2.2124999999999999]
[20,"DH06 91106:HK F.RICE",{"$f":"0.28/30","v":9.3333333333333341E-3},{"$f":"VLOOKUP(B31,Summary!$B$30:$AK$475,5,FALSE)","v":3},null,null,null,3,null,null,null,{"$f":"+K31*H31","v":0},0]
[21,"DH07 91107:SBL F.RICE",9.1000000000000004E-3,{"$f":"VLOOKUP(B32,Summary!$B$30:$AK$475,5,FALSE)","v":2},null,null,null,2,null,"SAMBAL (FRIED)SAUCE",30,60,0.54600000000000004]
[22,"DH08 91108:SBL F.MEE",9.1000000000000004E-3,{"$f":"VLOOKUP(B33,Summary!$B$30:$AK$475,5,FALSE)","v":1},null,null,null,1,null,"SAMBAL (FRIED)SAUCE",30,{"$f":"+K33*H33","v":30},0.27300000000000002]
[23,"DH09 91109:BP UDON",3.8999999999999998E-3,{"$f":"VLOOKUP(B34,Summary!$B$30:$AK$475,5,FALSE)","v":3},null,null,null,3,null,"BLACK PEPPER SAUCE (UDON)",70,{"$f":"+K34*H34","v":210},0.81899999999999995]
[24,"DH10 91110:NISSIN",{"$f":"0.7/80","v":8.7499999999999991E-3},{"$f":"VLOOKUP(B35,Summary!$B$30:$AK$475,5,FALSE)","v":2},null,null,null,2,null,null,null,{"$f":"+K35*H35","v":0},0]
[{"$f":"+A35+1","v":25},"DH11 91111:VEG RICE",{"$f":"0.28/90","v":3.1111111111111114E-3},{"$f":"VLOOKUP(B36,Summary!$B$30:$AK$475,5,FALSE)","v":0},null,null,null,0,null,null,null,0,0]
[{"$f":"+A36+1","v":26},"DH12 91112:NASI LEMAK",7.4000000000000003E-3,{"$f":"VLOOKUP(B37,Summary!$B$30:$AK$475,5,FALSE)","v":0},null,null,null,0,null,"SAMBAL SAUCE (NASI)",110,0,0]
[27,"DH13 91113:KUEY TEOW",9.1000000000000004E-3,{"$f":"VLOOKUP(B38,Summary!$B$30:$AK$475,5,FALSE)","v":0},null,null,null,0,null,"SAMBAL (FRIED)SAUCE",30,0,0]
[28,"DH14 91114:F.BALL MEE",{"$f":"0.75/130","v":5.7692307692307696E-3},{"$f":"VLOOKUP(B39,Summary!$B$30:$AK$475,5,FALSE)","v":0},null,null,null,0,null,null,null,0,0]
[{"$f":"+A39+1","v":29},"DH15 91115:CHK NOODLE",1.5E-3,{"$f":"VLOOKUP(B40,Summary!$B$30:$AK$475,5,FALSE)","v":0},null,null,null,0,null,"DRY NOODLE SAUCE",25,0,0]
[30,"DG01 91001:BP CHK CP",3.0000000000000001E-3,{"$f":"VLOOKUP(B41,Summary!$B$30:$AK$475,5,FALSE)","v":18},null,null,null,{"$f":"+G41+D41","v":18},null,"BLACK PEPPER SAUCE",90,{"$f":"+K41*H41","v":1620},4.8600000000000003]
[31,"DH16 91116:MGL CHK",{"$f":"0.7/80","v":8.7499999999999991E-3},{"$f":"VLOOKUP(B42,Summary!$B$30:$AK$475,5,FALSE)","v":4},null,null,null,{"$f":"+G42+D42","v":4},null,"MONGOLIAN SAUCE",80,{"$f":"+K42*H42","v":320}]
[32,"DG02 91002:GVY CHK CP",6.7999999999999996E-3,{"$f":"VLOOKUP(B43,Summary!$B$30:$AK$475,5,FALSE)","v":5},null,null,null,5,null,"GRAVY SAUCE",90,{"$f":"+K43*H43","v":450},3.0599999999999996]
[33,"DG03 91003:MSR CHK CP",{"$f":"0.27/38","v":7.1052631578947369E-3},{"$f":"VLOOKUP(B44,Summary!$B$30:$AK$475,5,FALSE)","v":15},null,null,null,15,null,"MUSHROOM SAUCE",90,{"$f":"+K44*H44","v":1350},9.5921052631578956]
[34,"DG04 91004:CKN MARY",7.1052631578947369E-3,{"$f":"VLOOKUP(B45,Summary!$B$30:$AK$475,5,FALSE)","v":10},null,null,null,10,null,"DRESSING THOUSAND ISLAND",30,{"$f":"+K45*H45","v":300},2.1315789473684212]
[35,"DG05 91005:FISH&CHIP",1.24E-2,{"$f":"VLOOKUP(B46,Summary!$B$30:$AK$475,5,FALSE)","v":12},null,null,null,12,null,"TARTAR SAUCE",30,360,4.4639999999999995]
[36,"DG06 91006:SPAGHETTI",1.14E-2,{"$f":"VLOOKUP(B47,Summary!$B$30:$AK$475,5,FALSE)","v":12},null,null,null,12,null,"BOLOGNESE SAUCE",150,1800,20.52]
[37,"DG07 91007:CHK SALAD",{"$f":"0.7/65","v":1.0769230769230769E-2},{"$f":"VLOOKUP(B48,Summary!$B$30:$AK$475,5,FALSE)","v":5},null,null,null,5,null,"DRESSING THOUSAND ISLAND",65,325,3.5]
[38,"DI01 91201:SFD STICK",{"$f":"0.27/38","v":7.1052631578947369E-3},{"$f":"VLOOKUP(B49,Summary!$B$30:$AK$475,5,FALSE)","v":0},null,null,null,0,null,"THAI SAUCE",38,0,0]
[39,"DI02 91202:FREN FRIES",{"$f":"0.13/30","v":4.3333333333333331E-3},{"$f":"VLOOKUP(B50,Summary!$B$30:$AK$475,5,FALSE)","v":1},null,null,null,1,null,"SAUCE CHILLI (KIMBALL)",30,30,0.13]
[40,"DI03 91203:GOLD MROOM",{"$f":"0.28/30","v":9.3333333333333341E-3},{"$f":"VLOOKUP(B51,Summary!$B$30:$AK$475,5,FALSE)","v":0},null,null,null,0,null,null,null,0,0]
[41,"DI04 91204:FISHBALL",4.3E-3,{"$f":"VLOOKUP(B52,Summary!$B$30:$AK$475,5,FALSE)","v":0},null,null,null,0,null,"SAUCE CHILLI (KIMBALL)",30,0,0]
[42,"DI05 91205:RAINBOW RL",1.24E-2,{"$f":"VLOOKUP(B53,Summary!$B$30:$AK$475,5,FALSE)","v":0},null,null,null,0,null,"TARTAR SAUCE",38,0,0]
[43,"DI06 91206:SPRING RL",1.24E-2,{"$f":"VLOOKUP(B54,Summary!$B$30:$AK$475,5,FALSE)","v":0},null,null,null,0,null,"TARTAR SAUCE",30,0,0]
[44,"DI07 91207:SAUSAGE",{"$f":"0.32/30","v":1.0666666666666666E-2},{"$f":"VLOOKUP(B55,Summary!$B$30:$AK$475,5,FALSE)","v":0},null,null,null,0,null,"SAUCE CHILLI (KIMBALL)",30,0,0]
[45,"DI10 91301:DUMPLING",{"$f":"0.2/30","v":6.6666666666666671E-3},{"$f":"VLOOKUP(B56,Summary!$B$30:$AK$475,5,FALSE)","v":0},null,null,null,0,null,null,null,0,0]
[46,"DI11 91302:NUGGET",{"$f":"0.2/30","v":6.6666666666666671E-3},{"$f":"VLOOKUP(B57,Summary!$B$30:$AK$475,5,FALSE)","v":2},null,null,null,2,null,"SAUCE CHILLI (KIMBALL)",30,60,0.4]
[47,"DI12 91303:CHK WING",{"$f":"0.2/30","v":6.6666666666666671E-3},{"$f":"VLOOKUP(B58,Summary!$B$30:$AK$475,5,FALSE)","v":1},null,null,null,1,null,"THAI SAUCE",38,38,0.25333333333333335]
[48,"DI13 91304:IKAN BILIS",9.1000000000000004E-3,{"$f":"VLOOKUP(B59,Summary!$B$30:$AK$475,5,FALSE)","v":0},null,null,null,0,null,"SAMBAL (FRIED)SAUCE",30,1770,16.106999999999999]
[49,"DI14 91305:THAI RL",{"$f":"0.2/30","v":6.6666666666666671E-3},{"$f":"VLOOKUP(B60,Summary!$B$30:$AK$475,5,FALSE)","v":0},null,null,null,0,null,"THAI SAUCE",38,{"$f":"+K60*H60","v":0},{"$f":"+L60*C60","v":0}]
[50,"DI16 91307:D/F C.WING",{"$f":"0.32/30","v":1.0666666666666666E-2},{"$f":"VLOOKUP(B61,Summary!$B$30:$AK$475,5,FALSE)","v":0},null,null,null,0,null,"SAUCE CHILLI (KIMBALL)",30,0,0]
[51,"DI17 91308:C/CALAMARI",1.24E-2,{"$f":"VLOOKUP(B62,Summary!$B$30:$AK$475,5,FALSE)","v":0},null,null,null,0,null,"TARTAR SAUCE",30,0,0]
[52,"DI18 91309:Mc O.RINGS",1.24E-2,{"$f":"VLOOKUP(B63,Summary!$B$30:$AK$475,5,FALSE)","v":1},null,null,null,1,null,"TARTAR SAUCE",30,{"$f":"+K63*H63","v":30},0.372]
[53,"DI19 91310:McSPIRAL.F",6.3E-3,{"$f":"VLOOKUP(B64,Summary!$B$30:$AK$475,5,FALSE)","v":0},null,null,null,0,null,"MAYONNAISE",30,0,0]
[54,"DI20 91311Mc H/SMILES",6.3E-3,{"$f":"VLOOKUP(B65,Summary!$B$30:$AK$475,5,FALSE)","v":0},null,null,null,0,null,"MAYONNAISE",30,{"$f":"+K65*H65","v":0},{"$f":"+L65*C65","v":0}]
[55,"DI21 91312:Mc HASH.B",6.3E-3,{"$f":"VLOOKUP(B66,Summary!$B$30:$AK$475,5,FALSE)","v":0},null,null,null,0,null,"MAYONNAISE",30,{"$f":"+K66*H66","v":0},{"$f":"+L66*C66","v":0}]
[null,null,null,null,null,null,null,0,null,null,null,0,0]
[null,"SIDE ORDER",null,null,null,null,null,0]
[{"$f":"+A66+1","v":56},"DC01 1101:THAI CHK",{"$f":"0.27/38","v":7.1052631578947369E-3},{"$f":"VLOOKUP(B69,Summary!$B$30:$AK$475,5,FALSE)","v":4},null,null,null,4,null,"THAI SAUCE",75,{"$f":"+K69*H69","v":300},{"$f":"+L69*C69","v":2.1315789473684212}]
[{"$f":"+A69+1","v":57},"DC02 1102:MAMITE CHK",2E-3,{"$f":"VLOOKUP(B70,Summary!$B$30:$AK$475,5,FALSE)","v":7},null,null,null,7,null,"MARMITE SAUCE ",80,{"$f":"+K70*H70","v":560},{"$f":"+L70*C70","v":1.1200000000000001}]
[{"$f":"+A70+1","v":58},"DC03 1103:KO PO CHK",1.5E-3,{"$f":"VLOOKUP(B71,Summary!$B$30:$AK$475,5,FALSE)","v":0},null,null,null,0,null,"KONG PO SAUCE",180,0,0]
[59,"DC04 1104:S&S CHK",{"$f":"0.38/200","v":1.9E-3},{"$f":"VLOOKUP(B72,Summary!$B$30:$AK$475,5,FALSE)","v":1},null,null,null,1,null,"SWEET & SOUR SAUCE",200,200,0.38]
[60,"DC05 1105:BUTTER CHK",5.8999999999999999E-3,{"$f":"VLOOKUP(B73,Summary!$B$30:$AK$475,5,FALSE)","v":10},null,null,null,10,null,"BUTTER CREAM SAUCE",75,{"$f":"+K73*H73","v":750},4.4249999999999998]
[61,"DC06 1106:HK F.RICE",{"$f":"0.28/30","v":9.3333333333333341E-3},{"$f":"VLOOKUP(B74,Summary!$B$30:$AK$475,5,FALSE)","v":0},null,null,null,0,null,null,null,{"$f":"+K74*H74","v":0},0]
[62,"DC07 1107:SBL F.RICE",9.1000000000000004E-3,{"$f":"VLOOKUP(B75,Summary!$B$30:$AK$475,5,FALSE)","v":0},null,null,null,0,null,"SAMBAL (FRIED)SAUCE",30,{"$f":"+K75*H75","v":0},0]
[63,"DC08 1108:SBL F.MEE",9.1000000000000004E-3,{"$f":"VLOOKUP(B76,Summary!$B$30:$AK$475,5,FALSE)","v":0},null,null,null,0,null,"SAMBAL (FRIED)SAUCE",30,{"$f":"+K76*H76","v":0},0]
[64,"DC09 1109:BP UDON",3.8999999999999998E-3,{"$f":"VLOOKUP(B77,Summary!$B$30:$AK$475,5,FALSE)","v":2},null,null,null,2,null,"BLACK PEPPER SAUCE (UDON)",70,{"$f":"+K77*H77","v":140},0.54599999999999993]
[65,"DC10 1110:NISSIN",{"$f":"0.7/80","v":8.7499999999999991E-3},{"$f":"VLOOKUP(B78,Summary!$B$30:$AK$475,5,FALSE)","v":0},null,null,null,0,null,null,null,{"$f":"+K78*H78","v":0},0]
[66,"DC11 1111:VEG RICE",{"$f":"0.28/90","v":3.1111111111111114E-3},{"$f":"VLOOKUP(B79,Summary!$B$30:$AK$475,5,FALSE)","v":0},null,null,null,0,null,null,null,0,0]
[67,"DC12 1112:NASI LEMAK",7.4000000000000003E-3,{"$f":"VLOOKUP(B80,Summary!$B$30:$AK$475,5,FALSE)","v":0},null,null,null,0,null,"SAMBAL SAUCE (NASI)",110,0,0]
[68,"DC13 1113:KUEY TEOW",9.1000000000000004E-3,{"$f":"VLOOKUP(B81,Summary!$B$30:$AK$475,5,FALSE)","v":0},null,null,null,0,null,"SAMBAL (FRIED)SAUCE",30,0,0]
[69,"DC14 1114:F.BALL MEE",{"$f":"0.75/130","v":5.7692307692307696E-3},{"$f":"VLOOKUP(B82,Summary!$B$30:$AK$475,5,FALSE)","v":0},null,null,null,0,null,null,null,0,0]
[70,"DC15 1115:CHK NOODLE",1.5E-3,{"$f":"VLOOKUP(B83,Summary!$B$30:$AK$475,5,FALSE)","v":0},null,null,null,0,null,"DRY NOODLE SAUCE",25,0,0]
[71,"DB01 1001:BP CKN CP",3.0000000000000001E-3,{"$f":"VLOOKUP(B84,Summary!$B$30:$AK$475,5,FALSE)","v":2},null,null,null,2,null,"BLACK PEPPER SAUCE",90,{"$f":"+K84*H84","v":180},0.54]
[72,"DC16 1116:MGL CHICKEN",{"$f":"0.7/80","v":8.7499999999999991E-3},{"$f":"VLOOKUP(B85,Summary!$B$30:$AK$475,5,FALSE)","v":0},null,null,null,0,null,"MONGOLIAN SAUCE",80,{"$f":"+K85*H85","v":0},0]
[73,"DB02 1002:GVY CHK CP",6.7999999999999996E-3,{"$f":"VLOOKUP(B86,Summary!$B$30:$AK$475,5,FALSE)","v":0},null,null,null,0,null,"GRAVY SAUCE",90,{"$f":"+K86*H86","v":0},{"$f":"+L86*C86","v":0}]
[74,"DB03 1003:MSR CKN CP",{"$f":"0.27/38","v":7.1052631578947369E-3},{"$f":"VLOOKUP(B87,Summary!$B$30:$AK$475,5,FALSE)","v":6},null,null,null,6,null,"MUSHROOM SAUCE",90,{"$f":"+K87*H87","v":540},3.8368421052631581]
[75,"DB04 1004:CKN MARY",7.1052631578947369E-3,{"$f":"VLOOKUP(B88,Summary!$B$30:$AK$475,5,FALSE)","v":2},null,null,null,2,null,"DRESSING THOUSAND ISLAND",30,60,0.4263157894736842]
[76,"DB05 1005:FISH&CHIP",1.24E-2,{"$f":"VLOOKUP(B89,Summary!$B$30:$AK$475,5,FALSE)","v":0},null,null,null,0,null,"TARTAR SAUCE",30,0,0]
[77,"DB06 1006:SPAGHETTI",1.14E-2,{"$f":"VLOOKUP(B90,Summary!$B$30:$AK$475,5,FALSE)","v":1},null,null,null,1,null,"BOLOGNESE SAUCE",150,150,1.71]
[78,"DB07 1007:CHK SALAD",{"$f":"0.7/65","v":1.0769230769230769E-2},{"$f":"VLOOKUP(B91,Summary!$B$30:$AK$475,5,FALSE)","v":1},null,null,null,1,null,"DRESSING THOUSAND ISLAND",65,65,0.7]
[79,"DD01 1201:SFD STICK",{"$f":"0.27/38","v":7.1052631578947369E-3},{"$f":"VLOOKUP(B92,Summary!$B$30:$AK$475,5,FALSE)","v":0},null,null,null,0,null,"THAI SAUCE",38,0,0]
[80,"DD02 1202:FREN FRIES",{"$f":"0.13/30","v":4.3333333333333331E-3},{"$f":"VLOOKUP(B93,Summary!$B$30:$AK$475,5,FALSE)","v":6},null,null,null,6,null,"SAUCE CHILLI (KIMBALL)",30,180,0.77999999999999992]
[81,"DD03 1203:GOLD MROOM",{"$f":"0.28/30","v":9.3333333333333341E-3},{"$f":"VLOOKUP(B94,Summary!$B$30:$AK$475,5,FALSE)","v":1},null,null,null,1,null,null,null,0,0]
[82,"DD04 1204:FISHBALL",4.3E-3,{"$f":"VLOOKUP(B95,Summary!$B$30:$AK$475,5,FALSE)","v":2},null,null,null,2,null,"SAUCE CHILLI (KIMBALL)",30,60,0.25800000000000001]
[83,"DD05 1205:RAINBOW RL",1.24E-2,{"$f":"VLOOKUP(B96,Summary!$B$30:$AK$475,5,FALSE)","v":0},null,null,null,0,null,"TARTAR SAUCE",38,0,0]
[84,"DD06 1206:SPRING RL",1.24E-2,{"$f":"VLOOKUP(B97,Summary!$B$30:$AK$475,5,FALSE)","v":1},null,null,null,1,null,"TARTAR SAUCE",30,30,0.372]
[85,"DD07 1207:SAUSAGE",{"$f":"0.32/30","v":1.0666666666666666E-2},{"$f":"VLOOKUP(B98,Summary!$B$30:$AK$475,5,FALSE)","v":0},null,null,null,0,null,"SAUCE CHILLI (KIMBALL)",30,0,0]
[86,"DD10 1301:DUMPLING",{"$f":"0.2/30","v":6.6666666666666671E-3},{"$f":"VLOOKUP(B99,Summary!$B$30:$AK$475,5,FALSE)","v":0},null,null,null,0,null,null,null,0,0]
[87,"DD11 1302:NUGGET",{"$f":"0.2/30","v":6.6666666666666671E-3},{"$f":"VLOOKUP(B100,Summary!$B$30:$AK$475,5,FALSE)","v":0},null,null,null,0,null,"SAUCE CHILLI (KIMBALL)",30,0,0]
[88,"DD12 1303:CHK WING",{"$f":"0.2/30","v":6.6666666666666671E-3},{"$f":"VLOOKUP(B101,Summary!$B$30:$AK$475,5,FALSE)","v":1},null,null,null,1,null,"THAI SAUCE",38,38,0.25333333333333335]
[89,"DD13 1304:IKAN BILIS",9.1000000000000004E-3,{"$f":"VLOOKUP(B102,Summary!$B$30:$AK$475,5,FALSE)","v":2},null,null,null,2,null,"SAMBAL (FRIED)SAUCE",30,1770,16.106999999999999]
[90,"DD14 1305:THAI RL",{"$f":"0.2/30","v":6.6666666666666671E-3},{"$f":"VLOOKUP(B103,Summary!$B$30:$AK$475,5,FALSE)","v":0},null,null,null,0,null,"THAI SAUCE",38,{"$f":"+K103*H103","v":0},{"$f":"+L103*C103","v":0}]
[91,"DD16 1307:D.F C/WING",{"$f":"0.32/30","v":1.0666666666666666E-2},{"$f":"VLOOKUP(B104,Summary!$B$30:$AK$475,5,FALSE)","v":0},null,null,null,0,null,"SAUCE CHILLI (KIMBALL)",30,0,0]
[92,"DD17 1308 C/CALAMARI",1.24E-2,{"$f":"VLOOKUP(B105,Summary!$B$30:$AK$475,5,FALSE)","v":0},null,null,null,0,null,"TARTAR SAUCE",30,0,0]
[93,"DD18 1309 Mc C/O.RING",1.24E-2,{"$f":"VLOOKUP(B106,Summary!$B$30:$AK$475,5,FALSE)","v":0},null,null,null,{"$f":"+G106+D106","v":0},null,"TARTAR SAUCE",30,0,0]
[94,"DD19 1310:Mc SPIRAL/F",6.3E-3,{"$f":"VLOOKUP(B107,Summary!$B$30:$AK$475,5,FALSE)","v":0},null,null,null,0,null,"MAYONNAISE",30,0,0]
[95,"DD20 1311:Mc H/SMILES",6.3E-3,{"$f":"VLOOKUP(B108,Summary!$B$30:$AK$475,5,FALSE)","v":0},null,null,null,0,null,"MAYONNAISE",30,0,0]
[96,"DD21 1312:Mc HASH BRW",6.3E-3,{"$f":"VLOOKUP(B109,Summary!$B$30:$AK$475,5,FALSE)","v":0},null,null,null,0,null,"MAYONNAISE",30,0,0]
[{"$f":"+A109+1","v":97},"JK001 LLB BP CHK CHOP",3.0000000000000001E-3,{"$f":"SUMIF('LOK LOK '!$C$12:$C$30,'SAUCE USAGE'!B110,'LOK LOK '!$E$12:$E$30)","v":0},null,null,null,{"$f":"+G110+D110","v":0},null,"BLACK PEPPER SAUCE",90,{"$f":"+K110*H110","v":0},{"$f":"+L110*C110","v":0}]
[{"$f":"+A110+1","v":98},"JK002 LLB G.S C. CHOP",{"$f":"0.7/80","v":8.7499999999999991E-3},{"$f":"SUMIF('LOK LOK '!$C$12:$C$30,'SAUCE USAGE'!B111,'LOK LOK '!$E$12:$E$30)","v":0},null,null,null,{"$f":"+G111+D111","v":0},null,"MONGOLIAN SAUCE",80,{"$f":"+K111*H111","v":0},0]
[99,"JK003 LLB MSR CHK CHOP",6.7999999999999996E-3,{"$f":"SUMIF('LOK LOK '!$C$12:$C$30,'SAUCE USAGE'!B112,'LOK LOK '!$E$12:$E$30)","v":0},null,null,null,0,null,"GRAVY SAUCE",90,{"$f":"+K112*H112","v":0},0]
[100,"JK004 LLB CHK MARRYLAN",7.1052631578947369E-3,{"$f":"SUMIF('LOK LOK '!$C$12:$C$30,'SAUCE USAGE'!B113,'LOK LOK '!$E$12:$E$30)","v":0},null,null,null,0,null,"MUSHROOM SAUCE",90,{"$f":"+K113*H113","v":0},0]
[101,"JK005 LLB Fish & Chip",1.24E-2,{"$f":"SUMIF('LOK LOK '!$C$12:$C$30,'SAUCE USAGE'!B114,'LOK LOK '!$E$12:$E$30)","v":0},null,null,null,{"$f":"+G114+D114","v":0},null,"DRESSING THOUSAND ISLAND",30,0,0]
[102,"JK006 LLB Spaghetti",1.14E-2,{"$f":"SUMIF('LOK LOK '!$C$12:$C$30,'SAUCE USAGE'!B115,'LOK LOK '!$E$12:$E$30)","v":0},null,null,null,0,null,"BOLOGNESE SAUCE",150,0,0]
[103,"JK007 LLB CHK .C.SALAD",{"$f":"0.7/65","v":1.0769230769230769E-2},{"$f":"SUMIF('LOK LOK '!$C$12:$C$30,'SAUCE USAGE'!B116,'LOK LOK '!$E$12:$E$30)","v":0},null,null,null,0,null,"DRESSING THOUSAND ISLAND",65,0,0]
[104,"JK101 LLB Thai Chk Ric",7.1052631578947369E-3,{"$f":"SUMIF('LOK LOK '!$C$12:$C$30,'SAUCE USAGE'!B117,'LOK LOK '!$E$12:$E$30)","v":0},null,null,null,{"$f":"+G117+D117","v":0},null,"THAI SAUCE",75,{"$f":"+K117*H117","v":0},0]
[105,"JK102 Marmite Chk Rice",2E-3,{"$f":"SUMIF('LOK LOK '!$C$12:$C$30,'SAUCE USAGE'!B118,'LOK LOK '!$E$12:$E$30)","v":0},null,null,null,0,null,"MARMITE SAUCE ",80,{"$f":"+K118*H118","v":0},0]
[106,"JK104 S&S Chk Rice",1.5E-3,{"$f":"SUMIF('LOK LOK '!$C$12:$C$30,'SAUCE USAGE'!B119,'LOK LOK '!$E$12:$E$30)","v":0},null,null,null,0,null,"SWEET & SOUR SAUCE",200,{"$f":"+K119*H120","v":0},0]
[107,"JK105 B.Cream.Chk Rice",1.9E-3,{"$f":"SUMIF('LOK LOK '!$C$12:$C$30,'SAUCE USAGE'!B120,'LOK LOK '!$E$12:$E$30)","v":0},null,null,null,0,null,"BUTTER CREAM SAUCE",75,{"$f":"+K120*H121","v":0},0]
[108,"JK106 H.K Fried Rice",5.8999999999999999E-3,{"$f":"SUMIF('LOK LOK '!$C$12:$C$30,'SAUCE USAGE'!B121,'LOK LOK '!$E$12:$E$30)","v":0},null,null,null,0,null,null,null,null,0]
[109,"JK107 LLBSambal F.Rice",null,{"$f":"SUMIF('LOK LOK '!$C$12:$C$30,'SAUCE USAGE'!B122,'LOK LOK '!$E$12:$E$30)","v":0},null,null,null,0,null,null,null,null,0]
[110,"JK108 LLB S.Fried MEE",null,{"$f":"SUMIF('LOK LOK '!$C$12:$C$30,'SAUCE USAGE'!B123,'LOK LOK '!$E$12:$E$30)","v":0},null,null,null,0,null,null,null,null,0]
[111,"JK109 LLB BP Udon Mee",null,{"$f":"SUMIF('LOK LOK '!$C$12:$C$30,'SAUCE USAGE'!B124,'LOK LOK '!$E$12:$E$30)","v":0},null,null,null,0,null,"BLACK PEPPER SAUCE (UDON)",70,{"$f":"+K124*H124","v":0},0]
[112,"JK110 LLB Nisin Noodle",null,{"$f":"SUMIF('LOK LOK '!$C$12:$C$30,'SAUCE USAGE'!B125,'LOK LOK '!$E$12:$E$30)","v":0},null,null,null,0,null,null,null,null,0]
[113,"JK111 LLB S.M.Ver Rice",null,{"$f":"SUMIF('LOK LOK '!$C$12:$C$30,'SAUCE USAGE'!B126,'LOK LOK '!$E$12:$E$30)","v":0},null,null,null,{"$f":"+G126+D126","v":0},null,null,null,null,0]
[114,"JK115 LLB B.Noodle.Chk",null,{"$f":"SUMIF('LOK LOK '!$C$12:$C$30,'SAUCE USAGE'!B127,'LOK LOK '!$E$12:$E$30)","v":0},null,null,null,0,null,null,null,null,0]
[115,"JK116 LLB Mon.Chk Rice",null,{"$f":"SUMIF('LOK LOK '!$C$12:$C$30,'SAUCE USAGE'!B128,'LOK LOK '!$E$12:$E$30)","v":0},null,null,null,0,null,"MONGOLIAN SAUCE",80,{"$f":"+K128*H128","v":0},0]