{"text_format":"1","workbook":"xlsx","n_sheets":8,"sheets":["DATABASE ","Summary","Daily Log","STOCK ANALYSIS","K-LUNCH & K DINNER","SIDE ORDER & FOC","DAILY FOC ","SAUCE USAGE"],"not_rendered":{"charts":0,"images":2,"macros":0,"external_links":4,"defined_names":11,"comments":0,"pivot_tables":0},"unopened":[],"bounds":{"document_bytes":16777216,"sheet_cells":100000,"rows_first":2000,"rows_last":500,"rows_between":2000,"halvings":0,"cell_chars":16384,"cell_head_chars":4096},"cells_cut":0,"cells_raw":0,"read":"whole","date_system":"1900"}

{"sheet":"DATABASE ","index":0,"n_rows":33,"n_cols":6,"rows_kept":33,"cut":false,"hidden":true,"merged":[]}
["DATABASE -COST "]
[]
[null,null,"COST",null,null,"COST"]
[null,"11601:L -C01-泰式鸡饭",2.7,null,"11501:C01-泰式鸡饭",{"$f":"+C4","v":2.7}]
[null,"11602:L -C02-妈蜜鸡饭",2.2000000000000002,null,"11502:C02-妈蜜鸡饭",{"$f":"+C5","v":2.2000000000000002}]
[null,"11605:L -C03-奶油鸡饭",2.4500000000000002,null,"11505:C03-奶油鸡饭",2.4500000000000002]
[null,"11606:L -C04-港式炒饭",2.4500000000000002,null,"11506:C04-港式炒饭",2.4500000000000002]
[null,"11607:L-C07-泰式鱼扒饭",2.57,null,"11507:C07-泰式鱼扒饭",2.57]
[null,"11608:L-C08-妈蜜鱼扒饭",2.0699999999999998,null,"11508:C08-妈蜜鱼扒饭",2.0699999999999998]
[null,"11609:L-C09-奶油鱼扒饭",2.3199999999999998,null,"11509:C09-奶油鱼扒饭",2.3199999999999998]
[null,"11610:L -C05-黑椒乌冬面",2.6,null,"11510:C05-黑椒乌冬面",2.6]
[null,"11617:L -S02-小薯脆脆",1.45,null,"11517:S02-小薯脆脆",1.45]
[null,"11619:L -S06-小小鱼丸",1.7,null,"11519:S06-小小鱼丸",1.7]
[null,"11621:L -S12-家乡春卷",1.7,null,"11521:S12-家乡春卷",1.7]
[null,"11622:L -S11-洋葱圈圈",1.4,null,"11522:S11-洋葱圈圈",1.4]
[null,"11625:L -S05-小鸡块块",2.2599999999999998,null,"11525:S05-小鸡块块",2.2599999999999998]
[null,"11628:L -S07-小乳鸡翅",3.7,null,"11528:S07-小乳鸡翅",3.7]
[null,"11631:L -W01-香煎鸡扒",3.95,null,"11531:W01-香煎鸡扒",3.95]
[null,"11632:L -W03-马里兰鸡扒",4.75,null,"11532:W03-马里兰鸡扒",4.75]
[null,"11633:L -W02-香炸鱼扒",4.2300000000000004,null,"11533:W02-香炸鱼扒",4.2300000000000004]
[null,"11635:L -W04-鸡扒沙拉",2.65,null,"11535:W04-鸡扒沙拉",2.65]
[null,"11640:L -S01-小热狗包",2.04,null,"11540:S01-小热狗包",2.04]
[null,"11642:L -S04-小肠弯弯",2.44,null,"11542:S04-小肠弯弯",2.44]
[null,"11643:L -S08-海鲜豆腐",1.66,null,"11543:S08-海鲜豆腐",1.66]
[null,"11644:L -S09-沙律卷卷",1.9,null,"11544:S09-沙律卷卷",1.9]
[null,"11645:L -S10-金钱肉干",2.1,null,"11545:S10-金钱肉干",2.1]
[null,"11646:L-MC03-螺旋薯条",1.72,null,"11901:McCain Platter",4.5999999999999996]
[null,"11647:L-MC04-迷你薯饼",0.59,null,"11902:McCain Beer",4.5999999999999996]
[null,"11648:L-MC05-笑面薯饼",1.34,null,"11903:MC03-螺旋薯条",1.72]
[null,null,null,null,"11904:MC04-迷你薯饼",0.59]
[null,null,null,null,"11905:MC05-笑面薯饼",1.34]
[null,null,null,null,"11401:Add Rice-加饭",0.5]
[null,null,null,null,"11402:Add Egg-加蛋",0.35]

{"sheet":"Summary","index":1,"n_rows":376,"n_cols":37,"rows_kept":376,"cut":false,"hidden":false,"merged":[[264,1,264,2],[265,1,265,2],[257,1,257,2],[258,1,258,2],[259,1,259,2],[260,1,260,2],[261,1,261,2],[262,1,262,2],[263,1,263,2],[5,2,5,3],[7,2,7,3],[9,2,9,3],[28,1,28,2],[168,1,168,2],[266,1,266,2],[267,1,267,2],[268,1,268,2],[269,1,269,2],[270,1,270,2],[271,1,271,2],[272,1,272,2],[273,1,273,2],[274,1,274,2],[275,1,275,2],[276,1,276,2],[277,1,277,2],[278,1,278,2],[279,1,279,2],[280,1,280,2],[281,1,281,2],[282,1,282,2],[283,1,283,2],[284,1,284,2],[285,1,285,2],[313,1,313,2],[314,1,314,2],[286,1,286,2],[287,1,287,2],[288,1,288,2],[315,1,315,2],[316,1,316,2],[317,1,317,2],[318,1,318,2],[319,1,319,2],[320,1,320,2],[321,1,321,2],[322,1,322,2],[323,1,323,2],[324,1,324,2],[325,1,325,2],[326,1,326,2],[327,1,327,2],[328,1,328,2],[329,1,329,2],[330,1,330,2],[331,1,331,2],[332,1,332,2],[333,1,333,2],[334,1,334,2],[335,1,335,2],[336,1,336,2],[337,1,337,2],[338,1,338,2],[339,1,339,2],[340,1,340,2],[341,1,341,2],[342,1,342,2],[343,1,343,2],[344,1,344,2],[345,1,345,2],[346,1,346,2],[347,1,347,2],[348,1,348,2],[349,1,349,2],[350,1,350,2],[351,1,351,2],[352,1,352,2],[353,1,353,2],[354,1,354,2],[355,1,355,2],[356,1,356,2],[357,1,357,2],[358,1,358,2],[359,1,359,2],[360,1,360,2],[361,1,361,2],[362,1,362,2],[363,1,363,2],[364,1,364,2],[370,1,370,2],[371,1,371,2],[372,1,372,2],[373,1,373,2],[365,1,365,2],[366,1,366,2],[367,1,367,2],[368,1,368,2],[369,1,369,2]]}
[]
[]
[null,null,"SUMMARY OF PRODUCT SALES IN MONTH"]
[]
[]
[null,"OUTLET",{"$f":"MID(CELL(\"FILENAME\",$A$1),FIND(\"[\",CELL(\"FILENAME\",$A$1))+1,3)","v":"TSU"}]
[]
[null,"YEAR",{"$f":"MID(CELL(\"FILENAME\",$A$1),FIND(\"[\",CELL(\"FILENAME\",$A$1))+4,4)","v":"2013"}]
[]
[null,"MONTH",{"$f":"INDEX($C$12:$C$23,MID(CELL(\"FILENAME\",$A$1),FIND(\"[\",CELL(\"FILENAME\",$A$1))+8,2),1)","v":"OCTOBER"}]
[]
[null,"MONTH","JANUARY"]
[null,null,"FEBRUARY"]
[null,null,"MARCH"]
[null,null,"APRIL"]
[null,null,"MAY"]
[null,null,"JUNE"]
[null,null,"JULY"]
[null,null,"AUGUST"]
[null,null,"SEPTEMBER"]
[null,null,"OCTOBER"]
[null,null,"NOVEMBER"]
[null,null,"DECEMBER"]
[]
[]
[null,"PRODUCT",null,"CATEGORY","QTY","QUANTITIES SOLD IN MONTH"]
[null,null,null,null,"PER","TOTAL",{"$f":"DATE(C8,MID(CELL(\"FILENAME\",$A$1),FIND(\"[\",CELL(\"FILENAME\",$A$1))+8,2),1)","v":"2013-10-01"},{"$f":"IFERROR(IF(MONTH(G27+1)<=MONTH($G$27),G27+1,\"\"),\"\")","v":"2013-10-02"},{"$f":"IFERROR(IF(MONTH(H27+1)<=MONTH($G$27),H27+1,\"\"),\"\")","v":"2013-10-03"},"2013-10-04","2013-10-05","2013-10-06","2013-10-07","2013-10-08","2013-10-09","2013-10-10","2013-10-11","2013-10-12","2013-10-13","2013-10-14","2013-10-15","2013-10-16","2013-10-17","2013-10-18","2013-10-19","2013-10-20","2013-10-21","2013-10-22","2013-10-23","2013-10-24","2013-10-25","2013-10-26","2013-10-27","2013-10-28","2013-10-29","2013-10-30","2013-10-31"]
[null,null,null,null,"ITEM"]
[]
[null,"10101:Heineken Bottle",null,"BEER",1,{"$f":"SUM($G30:$AK30)","v":9},{"$f":"IFERROR($E30*SUMIF('Daily Log'!$B$18:$B$1017,$B30,'Daily Log'!$C$18:$C$1017),0)","v":0},{"$f":"IFERROR($E30*SUMIF('Daily Log'!$E$18:$E$1017,$B30,'Daily Log'!$F$18:$F$1017),0)","v":0},{"$f":"IFERROR($E30*SUMIF('Daily Log'!$H$18:$H$1017,$B30,'Daily Log'!$I$18:$I$1017),0)","v":0},{"$f":"IFERROR($E30*SUMIF('Daily Log'!$K$18:$K$1017,$B30,'Daily Log'!$L$18:$L$1017),0)","v":0},{"$f":"IFERROR($E30*SUMIF('Daily Log'!$N$18:$N$1017,$B30,'Daily Log'!$O$18:$O$1017),0)","v":0},{"$f":"IFERROR($E30*SUMIF('Daily Log'!$Q$18:$Q$1017,$B30,'Daily Log'!$R$18:$R$1017),0)","v":0},{"$f":"IFERROR($E30*SUMIF('Daily Log'!$T$18:$T$1017,$B30,'Daily Log'!$U$18:$U$1017),0)","v":0},{"$f":"IFERROR($E30*SUMIF('Daily Log'!$W$18:$W$1017,$B30,'Daily Log'!$X$18:$X$1017),0)","v":2},{"$f":"IFERROR($E30*SUMIF('Daily Log'!$Z$18:$Z$1017,$B30,'Daily Log'!$AA$18:$AA$1017),0)","v":3},{"$f":"IFERROR($E30*SUMIF('Daily Log'!$AC$18:$AC$1017,$B30,'Daily Log'!$AD$18:$AD$1017),0)","v":1},{"$f":"IFERROR($E30*SUMIF('Daily Log'!$AF$18:$AF$1017,$B30,'Daily Log'!$AG$18:$AG$1017),0)","v":1},{"$f":"IFERROR($E30*SUMIF('Daily Log'!$AI$18:$AI$1017,$B30,'Daily Log'!$AJ$18:$AJ$1017),0)","v":2},{"$f":"IFERROR($E30*SUMIF('Daily Log'!$AL$18:$AL$1017,$B30,'Daily Log'!$AM$18:$AM$1017),0)","v":0},{"$f":"IFERROR($E30*SUMIF('Daily Log'!$AO$18:$AO$1017,$B30,'Daily Log'!$AP$18:$AP$1017),0)","v":0},{"$f":"IFERROR($E30*SUMIF('Daily Log'!$AR$18:$AR$1017,$B30,'Daily Log'!$AS$18:$AS$1017),0)","v":0},{"$f":"IFERROR($E30*SUMIF('Daily Log'!$AU$18:$AU$1017,$B30,'Daily Log'!$AV$18:$AV$1017),0)","v":0},{"$f":"IFERROR($E30*SUMIF('Daily Log'!$AX$18:$AX$1017,$B30,'Daily Log'!$AY$18:$AY$1017),0)","v":0},{"$f":"IFERROR($E30*SUMIF('Daily Log'!$BA$18:$BA$1017,$B30,'Daily Log'!$BB$18:$BB$1017),0)","v":0},{"$f":"IFERROR($E30*SUMIF('Daily Log'!$BD$18:$BD$1017,$B30,'Daily Log'!$BE$18:$BE$1017),0)","v":0},{"$f":"IFERROR($E30*SUMIF('Daily Log'!$BG$18:$BG$1017,$B30,'Daily Log'!$BH$18:$BH$1017),0)","v":0},{"$f":"IFERROR($E30*SUMIF('Daily Log'!$BJ$18:$BJ$1017,$B30,'Daily Log'!$BK$18:$BK$1017),0)","v":0},{"$f":"IFERROR($E30*SUMIF('Daily Log'!$BM$18:$BM$1017,$B30,'Daily Log'!$BN$18:$BN$1017),0)","v":0},{"$f":"IFERROR($E30*SUMIF('Daily Log'!$BP$18:$BP$1017,$B30,'Daily Log'!$BQ$18:$BQ$1017),0)","v":0},{"$f":"IFERROR($E30*SUMIF('Daily Log'!$BS$18:$BS$1017,$B30,'Daily Log'!$BT$18:$BT$1017),0)","v":0},{"$f":"IFERROR($E30*SUMIF('Daily Log'!$BV$18:$BV$1017,$B30,'Daily Log'!$BW$18:$BW$1017),0)","v":0},{"$f":"IFERROR($E30*SUMIF('Daily Log'!$BY$18:$BY$1017,$B30,'Daily Log'!$BZ$18:$BZ$1017),0)","v":0},{"$f":"IFERROR($E30*SUMIF('Daily Log'!$CB$18:$CB$1017,$B30,'Daily Log'!$CC$18:$CC$1017),0)","v":0},{"$f":"IFERROR($E30*SUMIF('Daily Log'!$CE$18:$CE$1017,$B30,'Daily Log'!$CF$18:$CF$1017),0)","v":0},{"$f":"IFERROR($E30*SUMIF('Daily Log'!$CH$18:$CH$1017,$B30,'Daily Log'!$CI$18:$CI$1017),0)","v":0},{"$f":"IFERROR($E30*SUMIF('Daily Log'!$CK$18:$CK$1017,$B30,'Daily Log'!$CL$18:$CL$1017),0)","v":0},{"$f":"IFERROR($E30*SUMIF('Daily Log'!$CN$18:$CN$1017,$B30,'Daily Log'!$CO$18:$CO$1017),0)","v":0}]
[null,"10103:Heineken Buket",null,"BEER",4,352,{"$f":"IFERROR($E31*SUMIF('Daily Log'!$B$18:$B$1017,$B31,'Daily Log'!$C$18:$C$1017),0)","v":0},{"$f":"IFERROR($E31*SUMIF('Daily Log'!$E$18:$E$1017,$B31,'Daily Log'!$F$18:$F$1017),0)","v":0},{"$f":"IFERROR($E31*SUMIF('Daily Log'!$H$18:$H$1017,$B31,'Daily Log'!$I$18:$I$1017),0)","v":0},{"$f":"IFERROR($E31*SUMIF('Daily Log'!$K$18:$K$1017,$B31,'Daily Log'!$L$18:$L$1017),0)","v":0},{"$f":"IFERROR($E31*SUMIF('Daily Log'!$N$18:$N$1017,$B31,'Daily Log'!$O$18:$O$1017),0)","v":0},{"$f":"IFERROR($E31*SUMIF('Daily Log'!$Q$18:$Q$1017,$B31,'Daily Log'!$R$18:$R$1017),0)","v":0},{"$f":"IFERROR($E31*SUMIF('Daily Log'!$T$18:$T$1017,$B31,'Daily Log'!$U$18:$U$1017),0)","v":12},{"$f":"IFERROR($E31*SUMIF('Daily Log'!$W$18:$W$1017,$B31,'Daily Log'!$X$18:$X$1017),0)","v":36},{"$f":"IFERROR($E31*SUMIF('Daily Log'!$Z$18:$Z$1017,$B31,'Daily Log'!$AA$18:$AA$1017),0)","v":44},{"$f":"IFERROR($E31*SUMIF('Daily Log'!$AC$18:$AC$1017,$B31,'Daily Log'!$AD$18:$AD$1017),0)","v":52},{"$f":"IFERROR($E31*SUMIF('Daily Log'!$AF$18:$AF$1017,$B31,'Daily Log'!$AG$18:$AG$1017),0)","v":36},{"$f":"IFERROR($E31*SUMIF('Daily Log'!$AI$18:$AI$1017,$B31,'Daily Log'!$AJ$18:$AJ$1017),0)","v":152},{"$f":"IFERROR($E31*SUMIF('Daily Log'!$AL$18:$AL$1017,$B31,'Daily Log'!$AM$18:$AM$1017),0)","v":20},{"$f":"IFERROR($E31*SUMIF('Daily Log'!$AO$18:$AO$1017,$B31,'Daily Log'!$AP$18:$AP$1017),0)","v":0},{"$f":"IFERROR($E31*SUMIF('Daily Log'!$AR$18:$AR$1017,$B31,'Daily Log'!$AS$18:$AS$1017),0)","v":0},{"$f":"IFERROR($E31*SUMIF('Daily Log'!$AU$18:$AU$1017,$B31,'Daily Log'!$AV$18:$AV$1017),0)","v":0},{"$f":"IFERROR($E31*SUMIF('Daily Log'!$AX$18:$AX$1017,$B31,'Daily Log'!$AY$18:$AY$1017),0)","v":0},{"$f":"IFERROR($E31*SUMIF('Daily Log'!$BA$18:$BA$1017,$B31,'Daily Log'!$BB$18:$BB$1017),0)","v":0},{"$f":"IFERROR($E31*SUMIF('Daily Log'!$BD$18:$BD$1017,$B31,'Daily Log'!$BE$18:$BE$1017),0)","v":0},{"$f":"IFERROR($E31*SUMIF('Daily Log'!$BG$18:$BG$1017,$B31,'Daily Log'!$BH$18:$BH$1017),0)","v":0},{"$f":"IFERROR($E31*SUMIF('Daily Log'!$BJ$18:$BJ$1017,$B31,'Daily Log'!$BK$18:$BK$1017),0)","v":0},{"$f":"IFERROR($E31*SUMIF('Daily Log'!$BM$18:$BM$1017,$B31,'Daily Log'!$BN$18:$BN$1017),0)","v":0},{"$f":"IFERROR($E31*SUMIF('Daily Log'!$BP$18:$BP$1017,$B31,'Daily Log'!$BQ$18:$BQ$1017),0)","v":0},{"$f":"IFERROR($E31*SUMIF('Daily Log'!$BS$18:$BS$1017,$B31,'Daily Log'!$BT$18:$BT$1017),0)","v":0},{"$f":"IFERROR($E31*SUMIF('Daily Log'!$BV$18:$BV$1017,$B31,'Daily Log'!$BW$18:$BW$1017),0)","v":0},{"$f":"IFERROR($E31*SUMIF('Daily Log'!$BY$18:$BY$1017,$B31,'Daily Log'!$BZ$18:$BZ$1017),0)","v":0},{"$f":"IFERROR($E31*SUMIF('Daily Log'!$CB$18:$CB$1017,$B31,'Daily Log'!$CC$18:$CC$1017),0)","v":0},{"$f":"IFERROR($E31*SUMIF('Daily Log'!$CE$18:$CE$1017,$B31,'Daily Log'!$CF$18:$CF$1017),0)","v":0},{"$f":"IFERROR($E31*SUMIF('Daily Log'!$CH$18:$CH$1017,$B31,'Daily Log'!$CI$18:$CI$1017),0)","v":0},{"$f":"IFERROR($E31*SUMIF('Daily Log'!$CK$18:$CK$1017,$B31,'Daily Log'!$CL$18:$CL$1017),0)","v":0},{"$f":"IFERROR($E31*SUMIF('Daily Log'!$CN$18:$CN$1017,$B31,'Daily Log'!$CO$18:$CO$1017),0)","v":0}]
[null,"10104:Heineken Round",null,"BEER",12,0,{"$f":"IFERROR($E32*SUMIF('Daily Log'!$B$18:$B$1017,$B32,'Daily Log'!$C$18:$C$1017),0)","v":0},{"$f":"IFERROR($E32*SUMIF('Daily Log'!$E$18:$E$1017,$B32,'Daily Log'!$F$18:$F$1017),0)","v":0},{"$f":"IFERROR($E32*SUMIF('Daily Log'!$H$18:$H$1017,$B32,'Daily Log'!$I$18:$I$1017),0)","v":0},{"$f":"IFERROR($E32*SUMIF('Daily Log'!$K$18:$K$1017,$B32,'Daily Log'!$L$18:$L$1017),0)","v":0},{"$f":"IFERROR($E32*SUMIF('Daily Log'!$N$18:$N$1017,$B32,'Daily Log'!$O$18:$O$1017),0)","v":0},{"$f":"IFERROR($E32*SUMIF('Daily Log'!$Q$18:$Q$1017,$B32,'Daily Log'!$R$18:$R$1017),0)","v":0},{"$f":"IFERROR($E32*SUMIF('Daily Log'!$T$18:$T$1017,$B32,'Daily Log'!$U$18:$U$1017),0)","v":0},{"$f":"IFERROR($E32*SUMIF('Daily Log'!$W$18:$W$1017,$B32,'Daily Log'!$X$18:$X$1017),0)","v":0},{"$f":"IFERROR($E32*SUMIF('Daily Log'!$Z$18:$Z$1017,$B32,'Daily Log'!$AA$18:$AA$1017),0)","v":0},{"$f":"IFERROR($E32*SUMIF('Daily Log'!$AC$18:$AC$1017,$B32,'Daily Log'!$AD$18:$AD$1017),0)","v":0},{"$f":"IFERROR($E32*SUMIF('Daily Log'!$AF$18:$AF$1017,$B32,'Daily Log'!$AG$18:$AG$1017),0)","v":0},{"$f":"IFERROR($E32*SUMIF('Daily Log'!$AI$18:$AI$1017,$B32,'Daily Log'!$AJ$18:$AJ$1017),0)","v":0},{"$f":"IFERROR($E32*SUMIF('Daily Log'!$AL$18:$AL$1017,$B32,'Daily Log'!$AM$18:$AM$1017),0)","v":0},{"$f":"IFERROR($E32*SUMIF('Daily Log'!$AO$18:$AO$1017,$B32,'Daily Log'!$AP$18:$AP$1017),0)","v":0},{"$f":"IFERROR($E32*SUMIF('Daily Log'!$AR$18:$AR$1017,$B32,'Daily Log'!$AS$18:$AS$1017),0)","v":0},{"$f":"IFERROR($E32*SUMIF('Daily Log'!$AU$18:$AU$1017,$B32,'Daily Log'!$AV$18:$AV$1017),0)","v":0},{"$f":"IFERROR($E32*SUMIF('Daily Log'!$AX$18:$AX$1017,$B32,'Daily Log'!$AY$18:$AY$1017),0)","v":0},{"$f":"IFERROR($E32*SUMIF('Daily Log'!$BA$18:$BA$1017,$B32,'Daily Log'!$BB$18:$BB$1017),0)","v":0},{"$f":"IFERROR($E32*SUMIF('Daily Log'!$BD$18:$BD$1017,$B32,'Daily Log'!$BE$18:$BE$1017),0)","v":0},{"$f":"IFERROR($E32*SUMIF('Daily Log'!$BG$18:$BG$1017,$B32,'Daily Log'!$BH$18:$BH$1017),0)","v":0},{"$f":"IFERROR($E32*SUMIF('Daily Log'!$BJ$18:$BJ$1017,$B32,'Daily Log'!$BK$18:$BK$1017),0)","v":0},{"$f":"IFERROR($E32*SUMIF('Daily Log'!$BM$18:$BM$1017,$B32,'Daily Log'!$BN$18:$BN$1017),0)","v":0},{"$f":"IFERROR($E32*SUMIF('Daily Log'!$BP$18:$BP$1017,$B32,'Daily Log'!$BQ$18:$BQ$1017),0)","v":0},{"$f":"IFERROR($E32*SUMIF('Daily Log'!$BS$18:$BS$1017,$B32,'Daily Log'!$BT$18:$BT$1017),0)","v":0},{"$f":"IFERROR($E32*SUMIF('Daily Log'!$BV$18:$BV$1017,$B32,'Daily Log'!$BW$18:$BW$1017),0)","v":0},{"$f":"IFERROR($E32*SUMIF('Daily Log'!$BY$18:$BY$1017,$B32,'Daily Log'!$BZ$18:$BZ$1017),0)","v":0},{"$f":"IFERROR($E32*SUMIF('Daily Log'!$CB$18:$CB$1017,$B32,'Daily Log'!$CC$18:$CC$1017),0)","v":0},{"$f":"IFERROR($E32*SUMIF('Daily Log'!$CE$18:$CE$1017,$B32,'Daily Log'!$CF$18:$CF$1017),0)","v":0},{"$f":"IFERROR($E32*SUMIF('Daily Log'!$CH$18:$CH$1017,$B32,'Daily Log'!$CI$18:$CI$1017),0)","v":0},{"$f":"IFERROR($E32*SUMIF('Daily Log'!$CK$18:$CK$1017,$B32,'Daily Log'!$CL$18:$CL$1017),0)","v":0},{"$f":"IFERROR($E32*SUMIF('Daily Log'!$CN$18:$CN$1017,$B32,'Daily Log'!$CO$18:$CO$1017),0)","v":0}]
[null,"10201:Tiger Bottle",null,"BEER",1,8,{"$f":"IFERROR($E33*SUMIF('Daily Log'!$B$18:$B$1017,$B33,'Daily Log'!$C$18:$C$1017),0)","v":0},{"$f":"IFERROR($E33*SUMIF('Daily Log'!$E$18:$E$1017,$B33,'Daily Log'!$F$18:$F$1017),0)","v":0},{"$f":"IFERROR($E33*SUMIF('Daily Log'!$H$18:$H$1017,$B33,'Daily Log'!$I$18:$I$1017),0)","v":0},{"$f":"IFERROR($E33*SUMIF('Daily Log'!$K$18:$K$1017,$B33,'Daily Log'!$L$18:$L$1017),0)","v":0},{"$f":"IFERROR($E33*SUMIF('Daily Log'!$N$18:$N$1017,$B33,'Daily Log'!$O$18:$O$1017),0)","v":0},{"$f":"IFERROR($E33*SUMIF('Daily Log'!$Q$18:$Q$1017,$B33,'Daily Log'!$R$18:$R$1017),0)","v":0},{"$f":"IFERROR($E33*SUMIF('Daily Log'!$T$18:$T$1017,$B33,'Daily Log'!$U$18:$U$1017),0)","v":1},{"$f":"IFERROR($E33*SUMIF('Daily Log'!$W$18:$W$1017,$B33,'Daily Log'!$X$18:$X$1017),0)","v":2},{"$f":"IFERROR($E33*SUMIF('Daily Log'!$Z$18:$Z$1017,$B33,'Daily Log'!$AA$18:$AA$1017),0)","v":0},{"$f":"IFERROR($E33*SUMIF('Daily Log'!$AC$18:$AC$1017,$B33,'Daily Log'!$AD$18:$AD$1017),0)","v":0},{"$f":"IFERROR($E33*SUMIF('Daily Log'!$AF$18:$AF$1017,$B33,'Daily Log'!$AG$18:$AG$1017),0)","v":0},{"$f":"IFERROR($E33*SUMIF('Daily Log'!$AI$18:$AI$1017,$B33,'Daily Log'!$AJ$18:$AJ$1017),0)","v":4},{"$f":"IFERROR($E33*SUMIF('Daily Log'!$AL$18:$AL$1017,$B33,'Daily Log'!$AM$18:$AM$1017),0)","v":1},{"$f":"IFERROR($E33*SUMIF('Daily Log'!$AO$18:$AO$1017,$B33,'Daily Log'!$AP$18:$AP$1017),0)","v":0},{"$f":"IFERROR($E33*SUMIF('Daily Log'!$AR$18:$AR$1017,$B33,'Daily Log'!$AS$18:$AS$1017),0)","v":0},{"$f":"IFERROR($E33*SUMIF('Daily Log'!$AU$18:$AU$1017,$B33,'Daily Log'!$AV$18:$AV$1017),0)","v":0},{"$f":"IFERROR($E33*SUMIF('Daily Log'!$AX$18:$AX$1017,$B33,'Daily Log'!$AY$18:$AY$1017),0)","v":0},{"$f":"IFERROR($E33*SUMIF('Daily Log'!$BA$18:$BA$1017,$B33,'Daily Log'!$BB$18:$BB$1017),0)","v":0},{"$f":"IFERROR($E33*SUMIF('Daily Log'!$BD$18:$BD$1017,$B33,'Daily Log'!$BE$18:$BE$1017),0)","v":0},{"$f":"IFERROR($E33*SUMIF('Daily Log'!$BG$18:$BG$1017,$B33,'Daily Log'!$BH$18:$BH$1017),0)","v":0},{"$f":"IFERROR($E33*SUMIF('Daily Log'!$BJ$18:$BJ$1017,$B33,'Daily Log'!$BK$18:$BK$1017),0)","v":0},{"$f":"IFERROR($E33*SUMIF('Daily Log'!$BM$18:$BM$1017,$B33,'Daily Log'!$BN$18:$BN$1017),0)","v":0},{"$f":"IFERROR($E33*SUMIF('Daily Log'!$BP$18:$BP$1017,$B33,'Daily Log'!$BQ$18:$BQ$1017),0)","v":0},{"$f":"IFERROR($E33*SUMIF('Daily Log'!$BS$18:$BS$1017,$B33,'Daily Log'!$BT$18:$BT$1017),0)","v":0},{"$f":"IFERROR($E33*SUMIF('Daily Log'!$BV$18:$BV$1017,$B33,'Daily Log'!$BW$18:$BW$1017),0)","v":0},{"$f":"IFERROR($E33*SUMIF('Daily Log'!$BY$18:$BY$1017,$B33,'Daily Log'!$BZ$18:$BZ$1017),0)","v":0},{"$f":"IFERROR($E33*SUMIF('Daily Log'!$CB$18:$CB$1017,$B33,'Daily Log'!$CC$18:$CC$1017),0)","v":0},{"$f":"IFERROR($E33*SUMIF('Daily Log'!$CE$18:$CE$1017,$B33,'Daily Log'!$CF$18:$CF$1017),0)","v":0},{"$f":"IFERROR($E33*SUMIF('Daily Log'!$CH$18:$CH$1017,$B33,'Daily Log'!$CI$18:$CI$1017),0)","v":0},{"$f":"IFERROR($E33*SUMIF('Daily Log'!$CK$18:$CK$1017,$B33,'Daily Log'!$CL$18:$CL$1017),0)","v":0},{"$f":"IFERROR($E33*SUMIF('Daily Log'!$CN$18:$CN$1017,$B33,'Daily Log'!$CO$18:$CO$1017),0)","v":0}]
[null,"10203:Tiger Buket",null,"BEER",4,904,{"$f":"IFERROR($E34*SUMIF('Daily Log'!$B$18:$B$1017,$B34,'Daily Log'!$C$18:$C$1017),0)","v":0},{"$f":"IFERROR($E34*SUMIF('Daily Log'!$E$18:$E$1017,$B34,'Daily Log'!$F$18:$F$1017),0)","v":0},{"$f":"IFERROR($E34*SUMIF('Daily Log'!$H$18:$H$1017,$B34,'Daily Log'!$I$18:$I$1017),0)","v":0},{"$f":"IFERROR($E34*SUMIF('Daily Log'!$K$18:$K$1017,$B34,'Daily Log'!$L$18:$L$1017),0)","v":0},{"$f":"IFERROR($E34*SUMIF('Daily Log'!$N$18:$N$1017,$B34,'Daily Log'!$O$18:$O$1017),0)","v":0},{"$f":"IFERROR($E34*SUMIF('Daily Log'!$Q$18:$Q$1017,$B34,'Daily Log'!$R$18:$R$1017),0)","v":0},{"$f":"IFERROR($E34*SUMIF('Daily Log'!$T$18:$T$1017,$B34,'Daily Log'!$U$18:$U$1017),0)","v":136},{"$f":"IFERROR($E34*SUMIF('Daily Log'!$W$18:$W$1017,$B34,'Daily Log'!$X$18:$X$1017),0)","v":60},{"$f":"IFERROR($E34*SUMIF('Daily Log'!$Z$18:$Z$1017,$B34,'Daily Log'!$AA$18:$AA$1017),0)","v":108},{"$f":"IFERROR($E34*SUMIF('Daily Log'!$AC$18:$AC$1017,$B34,'Daily Log'!$AD$18:$AD$1017),0)","v":60},{"$f":"IFERROR($E34*SUMIF('Daily Log'!$AF$18:$AF$1017,$B34,'Daily Log'!$AG$18:$AG$1017),0)","v":152},{"$f":"IFERROR($E34*SUMIF('Daily Log'!$AI$18:$AI$1017,$B34,'Daily Log'!$AJ$18:$AJ$1017),0)","v":228},{"$f":"IFERROR($E34*SUMIF('Daily Log'!$AL$18:$AL$1017,$B34,'Daily Log'!$AM$18:$AM$1017),0)","v":160},{"$f":"IFERROR($E34*SUMIF('Daily Log'!$AO$18:$AO$1017,$B34,'Daily Log'!$AP$18:$AP$1017),0)","v":0},{"$f":"IFERROR($E34*SUMIF('Daily Log'!$AR$18:$AR$1017,$B34,'Daily Log'!$AS$18:$AS$1017),0)","v":0},{"$f":"IFERROR($E34*SUMIF('Daily Log'!$AU$18:$AU$1017,$B34,'Daily Log'!$AV$18:$AV$1017),0)","v":0},{"$f":"IFERROR($E34*SUMIF('Daily Log'!$AX$18:$AX$1017,$B34,'Daily Log'!$AY$18:$AY$1017),0)","v":0},{"$f":"IFERROR($E34*SUMIF('Daily Log'!$BA$18:$BA$1017,$B34,'Daily Log'!$BB$18:$BB$1017),0)","v":0},{"$f":"IFERROR($E34*SUMIF('Daily Log'!$BD$18:$BD$1017,$B34,'Daily Log'!$BE$18:$BE$1017),0)","v":0},{"$f":"IFERROR($E34*SUMIF('Daily Log'!$BG$18:$BG$1017,$B34,'Daily Log'!$BH$18:$BH$1017),0)","v":0},{"$f":"IFERROR($E34*SUMIF('Daily Log'!$BJ$18:$BJ$1017,$B34,'Daily Log'!$BK$18:$BK$1017),0)","v":0},{"$f":"IFERROR($E34*SUMIF('Daily Log'!$BM$18:$BM$1017,$B34,'Daily Log'!$BN$18:$BN$1017),0)","v":0},{"$f":"IFERROR($E34*SUMIF('Daily Log'!$BP$18:$BP$1017,$B34,'Daily Log'!$BQ$18:$BQ$1017),0)","v":0},{"$f":"IFERROR($E34*SUMIF('Daily Log'!$BS$18:$BS$1017,$B34,'Daily Log'!$BT$18:$BT$1017),0)","v":0},{"$f":"IFERROR($E34*SUMIF('Daily Log'!$BV$18:$BV$1017,$B34,'Daily Log'!$BW$18:$BW$1017),0)","v":0},{"$f":"IFERROR($E34*SUMIF('Daily Log'!$BY$18:$BY$1017,$B34,'Daily Log'!$BZ$18:$BZ$1017),0)","v":0},{"$f":"IFERROR($E34*SUMIF('Daily Log'!$CB$18:$CB$1017,$B34,'Daily Log'!$CC$18:$CC$1017),0)","v":0},{"$f":"IFERROR($E34*SUMIF('Daily Log'!$CE$18:$CE$1017,$B34,'Daily Log'!$CF$18:$CF$1017),0)","v":0},{"$f":"IFERROR($E34*SUMIF('Daily Log'!$CH$18:$CH$1017,$B34,'Daily Log'!$CI$18:$CI$1017),0)","v":0},{"$f":"IFERROR($E34*SUMIF('Daily Log'!$CK$18:$CK$1017,$B34,'Daily Log'!$CL$18:$CL$1017),0)","v":0},{"$f":"IFERROR($E34*SUMIF('Daily Log'!$CN$18:$CN$1017,$B34,'Daily Log'!$CO$18:$CO$1017),0)","v":0}]
[null,"10204:Tiger Round",null,"BEER",12,0,{"$f":"IFERROR($E35*SUMIF('Daily Log'!$B$18:$B$1017,$B35,'Daily Log'!$C$18:$C$1017),0)","v":0},{"$f":"IFERROR($E35*SUMIF('Daily Log'!$E$18:$E$1017,$B35,'Daily Log'!$F$18:$F$1017),0)","v":0},{"$f":"IFERROR($E35*SUMIF('Daily Log'!$H$18:$H$1017,$B35,'Daily Log'!$I$18:$I$1017),0)","v":0},{"$f":"IFERROR($E35*SUMIF('Daily Log'!$K$18:$K$1017,$B35,'Daily Log'!$L$18:$L$1017),0)","v":0},{"$f":"IFERROR($E35*SUMIF('Daily Log'!$N$18:$N$1017,$B35,'Daily Log'!$O$18:$O$1017),0)","v":0},{"$f":"IFERROR($E35*SUMIF('Daily Log'!$Q$18:$Q$1017,$B35,'Daily Log'!$R$18:$R$1017),0)","v":0},{"$f":"IFERROR($E35*SUMIF('Daily Log'!$T$18:$T$1017,$B35,'Daily Log'!$U$18:$U$1017),0)","v":0},{"$f":"IFERROR($E35*SUMIF('Daily Log'!$W$18:$W$1017,$B35,'Daily Log'!$X$18:$X$1017),0)","v":0},{"$f":"IFERROR($E35*SUMIF('Daily Log'!$Z$18:$Z$1017,$B35,'Daily Log'!$AA$18:$AA$1017),0)","v":0},{"$f":"IFERROR($E35*SUMIF('Daily Log'!$AC$18:$AC$1017,$B35,'Daily Log'!$AD$18:$AD$1017),0)","v":0},{"$f":"IFERROR($E35*SUMIF('Daily Log'!$AF$18:$AF$1017,$B35,'Daily Log'!$AG$18:$AG$1017),0)","v":0},{"$f":"IFERROR($E35*SUMIF('Daily Log'!$AI$18:$AI$1017,$B35,'Daily Log'!$AJ$18:$AJ$1017),0)","v":0},{"$f":"IFERROR($E35*SUMIF('Daily Log'!$AL$18:$AL$1017,$B35,'Daily Log'!$AM$18:$AM$1017),0)","v":0},{"$f":"IFERROR($E35*SUMIF('Daily Log'!$AO$18:$AO$1017,$B35,'Daily Log'!$AP$18:$AP$1017),0)","v":0},{"$f":"IFERROR($E35*SUMIF('Daily Log'!$AR$18:$AR$1017,$B35,'Daily Log'!$AS$18:$AS$1017),0)","v":0},{"$f":"IFERROR($E35*SUMIF('Daily Log'!$AU$18:$AU$1017,$B35,'Daily Log'!$AV$18:$AV$1017),0)","v":0},{"$f":"IFERROR($E35*SUMIF('Daily Log'!$AX$18:$AX$1017,$B35,'Daily Log'!$AY$18:$AY$1017),0)","v":0},{"$f":"IFERROR($E35*SUMIF('Daily Log'!$BA$18:$BA$1017,$B35,'Daily Log'!$BB$18:$BB$1017),0)","v":0},{"$f":"IFERROR($E35*SUMIF('Daily Log'!$BD$18:$BD$1017,$B35,'Daily Log'!$BE$18:$BE$1017),0)","v":0},{"$f":"IFERROR($E35*SUMIF('Daily Log'!$BG$18:$BG$1017,$B35,'Daily Log'!$BH$18:$BH$1017),0)","v":0},{"$f":"IFERROR($E35*SUMIF('Daily Log'!$BJ$18:$BJ$1017,$B35,'Daily Log'!$BK$18:$BK$1017),0)","v":0},{"$f":"IFERROR($E35*SUMIF('Daily Log'!$BM$18:$BM$1017,$B35,'Daily Log'!$BN$18:$BN$1017),0)","v":0},{"$f":"IFERROR($E35*SUMIF('Daily Log'!$BP$18:$BP$1017,$B35,'Daily Log'!$BQ$18:$BQ$1017),0)","v":0},{"$f":"IFERROR($E35*SUMIF('Daily Log'!$BS$18:$BS$1017,$B35,'Daily Log'!$BT$18:$BT$1017),0)","v":0},{"$f":"IFERROR($E35*SUMIF('Daily Log'!$BV$18:$BV$1017,$B35,'Daily Log'!$BW$18:$BW$1017),0)","v":0},{"$f":"IFERROR($E35*SUMIF('Daily Log'!$BY$18:$BY$1017,$B35,'Daily Log'!$BZ$18:$BZ$1017),0)","v":0},{"$f":"IFERROR($E35*SUMIF('Daily Log'!$CB$18:$CB$1017,$B35,'Daily Log'!$CC$18:$CC$1017),0)","v":0},{"$f":"IFERROR($E35*SUMIF('Daily Log'!$CE$18:$CE$1017,$B35,'Daily Log'!$CF$18:$CF$1017),0)","v":0},{"$f":"IFERROR($E35*SUMIF('Daily Log'!$CH$18:$CH$1017,$B35,'Daily Log'!$CI$18:$CI$1017),0)","v":0},{"$f":"IFERROR($E35*SUMIF('Daily Log'!$CK$18:$CK$1017,$B35,'Daily Log'!$CL$18:$CL$1017),0)","v":0},{"$f":"IFERROR($E35*SUMIF('Daily Log'!$CN$18:$CN$1017,$B35,'Daily Log'!$CO$18:$CO$1017),0)","v":0}]
[null,"08001:Grape Juice",null,"COLD BEVERAGE",1,83,{"$f":"IFERROR($E36*SUMIF('Daily Log'!$B$18:$B$1017,$B36,'Daily Log'!$C$18:$C$1017),0)","v":0},{"$f":"IFERROR($E36*SUMIF('Daily Log'!$E$18:$E$1017,$B36,'Daily Log'!$F$18:$F$1017),0)","v":0},{"$f":"IFERROR($E36*SUMIF('Daily Log'!$H$18:$H$1017,$B36,'Daily Log'!$I$18:$I$1017),0)","v":0},{"$f":"IFERROR($E36*SUMIF('Daily Log'!$K$18:$K$1017,$B36,'Daily Log'!$L$18:$L$1017),0)","v":0},{"$f":"IFERROR($E36*SUMIF('Daily Log'!$N$18:$N$1017,$B36,'Daily Log'!$O$18:$O$1017),0)","v":0},{"$f":"IFERROR($E36*SUMIF('Daily Log'!$Q$18:$Q$1017,$B36,'Daily Log'!$R$18:$R$1017),0)","v":0},{"$f":"IFERROR($E36*SUMIF('Daily Log'!$T$18:$T$1017,$B36,'Daily Log'!$U$18:$U$1017),0)","v":9},{"$f":"IFERROR($E36*SUMIF('Daily Log'!$W$18:$W$1017,$B36,'Daily Log'!$X$18:$X$1017),0)","v":8},{"$f":"IFERROR($E36*SUMIF('Daily Log'!$Z$18:$Z$1017,$B36,'Daily Log'!$AA$18:$AA$1017),0)","v":6},{"$f":"IFERROR($E36*SUMIF('Daily Log'!$AC$18:$AC$1017,$B36,'Daily Log'!$AD$18:$AD$1017),0)","v":8},{"$f":"IFERROR($E36*SUMIF('Daily Log'!$AF$18:$AF$1017,$B36,'Daily Log'!$AG$18:$AG$1017),0)","v":16},{"$f":"IFERROR($E36*SUMIF('Daily Log'!$AI$18:$AI$1017,$B36,'Daily Log'!$AJ$18:$AJ$1017),0)","v":7},{"$f":"IFERROR($E36*SUMIF('Daily Log'!$AL$18:$AL$1017,$B36,'Daily Log'!$AM$18:$AM$1017),0)","v":29},{"$f":"IFERROR($E36*SUMIF('Daily Log'!$AO$18:$AO$1017,$B36,'Daily Log'!$AP$18:$AP$1017),0)","v":0},{"$f":"IFERROR($E36*SUMIF('Daily Log'!$AR$18:$AR$1017,$B36,'Daily Log'!$AS$18:$AS$1017),0)","v":0},{"$f":"IFERROR($E36*SUMIF('Daily Log'!$AU$18:$AU$1017,$B36,'Daily Log'!$AV$18:$AV$1017),0)","v":0},{"$f":"IFERROR($E36*SUMIF('Daily Log'!$AX$18:$AX$1017,$B36,'Daily Log'!$AY$18:$AY$1017),0)","v":0},{"$f":"IFERROR($E36*SUMIF('Daily Log'!$BA$18:$BA$1017,$B36,'Daily Log'!$BB$18:$BB$1017),0)","v":0},{"$f":"IFERROR($E36*SUMIF('Daily Log'!$BD$18:$BD$1017,$B36,'Daily Log'!$BE$18:$BE$1017),0)","v":0},{"$f":"IFERROR($E36*SUMIF('Daily Log'!$BG$18:$BG$1017,$B36,'Daily Log'!$BH$18:$BH$1017),0)","v":0},{"$f":"IFERROR($E36*SUMIF('Daily Log'!$BJ$18:$BJ$1017,$B36,'Daily Log'!$BK$18:$BK$1017),0)","v":0},{"$f":"IFERROR($E36*SUMIF('Daily Log'!$BM$18:$BM$1017,$B36,'Daily Log'!$BN$18:$BN$1017),0)","v":0},{"$f":"IFERROR($E36*SUMIF('Daily Log'!$BP$18:$BP$1017,$B36,'Daily Log'!$BQ$18:$BQ$1017),0)","v":0},{"$f":"IFERROR($E36*SUMIF('Daily Log'!$BS$18:$BS$1017,$B36,'Daily Log'!$BT$18:$BT$1017),0)","v":0},{"$f":"IFERROR($E36*SUMIF('Daily Log'!$BV$18:$BV$1017,$B36,'Daily Log'!$BW$18:$BW$1017),0)","v":0},{"$f":"IFERROR($E36*SUMIF('Daily Log'!$BY$18:$BY$1017,$B36,'Daily Log'!$BZ$18:$BZ$1017),0)","v":0},{"$f":"IFERROR($E36*SUMIF('Daily Log'!$CB$18:$CB$1017,$B36,'Daily Log'!$CC$18:$CC$1017),0)","v":0},{"$f":"IFERROR($E36*SUMIF('Daily Log'!$CE$18:$CE$1017,$B36,'Daily Log'!$CF$18:$CF$1017),0)","v":0},{"$f":"IFERROR($E36*SUMIF('Daily Log'!$CH$18:$CH$1017,$B36,'Daily Log'!$CI$18:$CI$1017),0)","v":0},{"$f":"IFERROR($E36*SUMIF('Daily Log'!$CK$18:$CK$1017,$B36,'Daily Log'!$CL$18:$CL$1017),0)","v":0},{"$f":"IFERROR($E36*SUMIF('Daily Log'!$CN$18:$CN$1017,$B36,'Daily Log'!$CO$18:$CO$1017),0)","v":0}]
[null,"08002:Grape Soda",null,"COLD BEVERAGE",1,58,{"$f":"IFERROR($E37*SUMIF('Daily Log'!$B$18:$B$1017,$B37,'Daily Log'!$C$18:$C$1017),0)","v":0},{"$f":"IFERROR($E37*SUMIF('Daily Log'!$E$18:$E$1017,$B37,'Daily Log'!$F$18:$F$1017),0)","v":0},{"$f":"IFERROR($E37*SUMIF('Daily Log'!$H$18:$H$1017,$B37,'Daily Log'!$I$18:$I$1017),0)","v":0},{"$f":"IFERROR($E37*SUMIF('Daily Log'!$K$18:$K$1017,$B37,'Daily Log'!$L$18:$L$1017),0)","v":0},{"$f":"IFERROR($E37*SUMIF('Daily Log'!$N$18:$N$1017,$B37,'Daily Log'!$O$18:$O$1017),0)","v":0},{"$f":"IFERROR($E37*SUMIF('Daily Log'!$Q$18:$Q$1017,$B37,'Daily Log'!$R$18:$R$1017),0)","v":0},{"$f":"IFERROR($E37*SUMIF('Daily Log'!$T$18:$T$1017,$B37,'Daily Log'!$U$18:$U$1017),0)","v":14},{"$f":"IFERROR($E37*SUMIF('Daily Log'!$W$18:$W$1017,$B37,'Daily Log'!$X$18:$X$1017),0)","v":6},{"$f":"IFERROR($E37*SUMIF('Daily Log'!$Z$18:$Z$1017,$B37,'Daily Log'!$AA$18:$AA$1017),0)","v":9},{"$f":"IFERROR($E37*SUMIF('Daily Log'!$AC$18:$AC$1017,$B37,'Daily Log'!$AD$18:$AD$1017),0)","v":7},{"$f":"IFERROR($E37*SUMIF('Daily Log'!$AF$18:$AF$1017,$B37,'Daily Log'!$AG$18:$AG$1017),0)","v":2},{"$f":"IFERROR($E37*SUMIF('Daily Log'!$AI$18:$AI$1017,$B37,'Daily Log'!$AJ$18:$AJ$1017),0)","v":14},{"$f":"IFERROR($E37*SUMIF('Daily Log'!$AL$18:$AL$1017,$B37,'Daily Log'!$AM$18:$AM$1017),0)","v":6},{"$f":"IFERROR($E37*SUMIF('Daily Log'!$AO$18:$AO$1017,$B37,'Daily Log'!$AP$18:$AP$1017),0)","v":0},{"$f":"IFERROR($E37*SUMIF('Daily Log'!$AR$18:$AR$1017,$B37,'Daily Log'!$AS$18:$AS$1017),0)","v":0},{"$f":"IFERROR($E37*SUMIF('Daily Log'!$AU$18:$AU$1017,$B37,'Daily Log'!$AV$18:$AV$1017),0)","v":0},{"$f":"IFERROR($E37*SUMIF('Daily Log'!$AX$18:$AX$1017,$B37,'Daily Log'!$AY$18:$AY$1017),0)","v":0},{"$f":"IFERROR($E37*SUMIF('Daily Log'!$BA$18:$BA$1017,$B37,'Daily Log'!$BB$18:$BB$1017),0)","v":0},{"$f":"IFERROR($E37*SUMIF('Daily Log'!$BD$18:$BD$1017,$B37,'Daily Log'!$BE$18:$BE$1017),0)","v":0},{"$f":"IFERROR($E37*SUMIF('Daily Log'!$BG$18:$BG$1017,$B37,'Daily Log'!$BH$18:$BH$1017),0)","v":0},{"$f":"IFERROR($E37*SUMIF('Daily Log'!$BJ$18:$BJ$1017,$B37,'Daily Log'!$BK$18:$BK$1017),0)","v":0},{"$f":"IFERROR($E37*SUMIF('Daily Log'!$BM$18:$BM$1017,$B37,'Daily Log'!$BN$18:$BN$1017),0)","v":0},{"$f":"IFERROR($E37*SUMIF('Daily Log'!$BP$18:$BP$1017,$B37,'Daily Log'!$BQ$18:$BQ$1017),0)","v":0},{"$f":"IFERROR($E37*SUMIF('Daily Log'!$BS$18:$BS$1017,$B37,'Daily Log'!$BT$18:$BT$1017),0)","v":0},{"$f":"IFERROR($E37*SUMIF('Daily Log'!$BV$18:$BV$1017,$B37,'Daily Log'!$BW$18:$BW$1017),0)","v":0},{"$f":"IFERROR($E37*SUMIF('Daily Log'!$BY$18:$BY$1017,$B37,'Daily Log'!$BZ$18:$BZ$1017),0)","v":0},{"$f":"IFERROR($E37*SUMIF('Daily Log'!$CB$18:$CB$1017,$B37,'Daily Log'!$CC$18:$CC$1017),0)","v":0},{"$f":"IFERROR($E37*SUMIF('Daily Log'!$CE$18:$CE$1017,$B37,'Daily Log'!$CF$18:$CF$1017),0)","v":0},{"$f":"IFERROR($E37*SUMIF('Daily Log'!$CH$18:$CH$1017,$B37,'Daily Log'!$CI$18:$CI$1017),0)","v":0},{"$f":"IFERROR($E37*SUMIF('Daily Log'!$CK$18:$CK$1017,$B37,'Daily Log'!$CL$18:$CL$1017),0)","v":0},{"$f":"IFERROR($E37*SUMIF('Daily Log'!$CN$18:$CN$1017,$B37,'Daily Log'!$CO$18:$CO$1017),0)","v":0}]
[null,"08003:Green Apple Juice",null,"COLD BEVERAGE",1,168,{"$f":"IFERROR($E38*SUMIF('Daily Log'!$B$18:$B$1017,$B38,'Daily Log'!$C$18:$C$1017),0)","v":0},{"$f":"IFERROR($E38*SUMIF('Daily Log'!$E$18:$E$1017,$B38,'Daily Log'!$F$18:$F$1017),0)","v":0},{"$f":"IFERROR($E38*SUMIF('Daily Log'!$H$18:$H$1017,$B38,'Daily Log'!$I$18:$I$1017),0)","v":0},{"$f":"IFERROR($E38*SUMIF('Daily Log'!$K$18:$K$1017,$B38,'Daily Log'!$L$18:$L$1017),0)","v":0},{"$f":"IFERROR($E38*SUMIF('Daily Log'!$N$18:$N$1017,$B38,'Daily Log'!$O$18:$O$1017),0)","v":0},{"$f":"IFERROR($E38*SUMIF('Daily Log'!$Q$18:$Q$1017,$B38,'Daily Log'!$R$18:$R$1017),0)","v":0},{"$f":"IFERROR($E38*SUMIF('Daily Log'!$T$18:$T$1017,$B38,'Daily Log'!$U$18:$U$1017),0)","v":21},{"$f":"IFERROR($E38*SUMIF('Daily Log'!$W$18:$W$1017,$B38,'Daily Log'!$X$18:$X$1017),0)","v":17},{"$f":"IFERROR($E38*SUMIF('Daily Log'!$Z$18:$Z$1017,$B38,'Daily Log'!$AA$18:$AA$1017),0)","v":34},{"$f":"IFERROR($E38*SUMIF('Daily Log'!$AC$18:$AC$1017,$B38,'Daily Log'!$AD$18:$AD$1017),0)","v":34},{"$f":"IFERROR($E38*SUMIF('Daily Log'!$AF$18:$AF$1017,$B38,'Daily Log'!$AG$18:$AG$1017),0)","v":20},{"$f":"IFERROR($E38*SUMIF('Daily Log'!$AI$18:$AI$1017,$B38,'Daily Log'!$AJ$18:$AJ$1017),0)","v":19},{"$f":"IFERROR($E38*SUMIF('Daily Log'!$AL$18:$AL$1017,$B38,'Daily Log'!$AM$18:$AM$1017),0)","v":23},{"$f":"IFERROR($E38*SUMIF('Daily Log'!$AO$18:$AO$1017,$B38,'Daily Log'!$AP$18:$AP$1017),0)","v":0},{"$f":"IFERROR($E38*SUMIF('Daily Log'!$AR$18:$AR$1017,$B38,'Daily Log'!$AS$18:$AS$1017),0)","v":0},{"$f":"IFERROR($E38*SUMIF('Daily Log'!$AU$18:$AU$1017,$B38,'Daily Log'!$AV$18:$AV$1017),0)","v":0},{"$f":"IFERROR($E38*SUMIF('Daily Log'!$AX$18:$AX$1017,$B38,'Daily Log'!$AY$18:$AY$1017),0)","v":0},{"$f":"IFERROR($E38*SUMIF('Daily Log'!$BA$18:$BA$1017,$B38,'Daily Log'!$BB$18:$BB$1017),0)","v":0},{"$f":"IFERROR($E38*SUMIF('Daily Log'!$BD$18:$BD$1017,$B38,'Daily Log'!$BE$18:$BE$1017),0)","v":0},{"$f":"IFERROR($E38*SUMIF('Daily Log'!$BG$18:$BG$1017,$B38,'Daily Log'!$BH$18:$BH$1017),0)","v":0},{"$f":"IFERROR($E38*SUMIF('Daily Log'!$BJ$18:$BJ$1017,$B38,'Daily Log'!$BK$18:$BK$1017),0)","v":0},{"$f":"IFERROR($E38*SUMIF('Daily Log'!$BM$18:$BM$1017,$B38,'Daily Log'!$BN$18:$BN$1017),0)","v":0},{"$f":"IFERROR($E38*SUMIF('Daily Log'!$BP$18:$BP$1017,$B38,'Daily Log'!$BQ$18:$BQ$1017),0)","v":0},{"$f":"IFERROR($E38*SUMIF('Daily Log'!$BS$18:$BS$1017,$B38,'Daily Log'!$BT$18:$BT$1017),0)","v":0},{"$f":"IFERROR($E38*SUMIF('Daily Log'!$BV$18:$BV$1017,$B38,'Daily Log'!$BW$18:$BW$1017),0)","v":0},{"$f":"IFERROR($E38*SUMIF('Daily Log'!$BY$18:$BY$1017,$B38,'Daily Log'!$BZ$18:$BZ$1017),0)","v":0},{"$f":"IFERROR($E38*SUMIF('Daily Log'!$CB$18:$CB$1017,$B38,'Daily Log'!$CC$18:$CC$1017),0)","v":0},{"$f":"IFERROR($E38*SUMIF('Daily Log'!$CE$18:$CE$1017,$B38,'Daily Log'!$CF$18:$CF$1017),0)","v":0},{"$f":"IFERROR($E38*SUMIF('Daily Log'!$CH$18:$CH$1017,$B38,'Daily Log'!$CI$18:$CI$1017),0)","v":0},{"$f":"IFERROR($E38*SUMIF('Daily Log'!$CK$18:$CK$1017,$B38,'Daily Log'!$CL$18:$CL$1017),0)","v":0},{"$f":"IFERROR($E38*SUMIF('Daily Log'!$CN$18:$CN$1017,$B38,'Daily Log'!$CO$18:$CO$1017),0)","v":0}]
[null,"08004:Green Apple Soda",null,"COLD BEVERAGE",1,54,{"$f":"IFERROR($E39*SUMIF('Daily Log'!$B$18:$B$1017,$B39,'Daily Log'!$C$18:$C$1017),0)","v":0},{"$f":"IFERROR($E39*SUMIF('Daily Log'!$E$18:$E$1017,$B39,'Daily Log'!$F$18:$F$1017),0)","v":0},{"$f":"IFERROR($E39*SUMIF('Daily Log'!$H$18:$H$1017,$B39,'Daily Log'!$I$18:$I$1017),0)","v":0},{"$f":"IFERROR($E39*SUMIF('Daily Log'!$K$18:$K$1017,$B39,'Daily Log'!$L$18:$L$1017),0)","v":0},{"$f":"IFERROR($E39*SUMIF('Daily Log'!$N$18:$N$1017,$B39,'Daily Log'!$O$18:$O$1017),0)","v":0},{"$f":"IFERROR($E39*SUMIF('Daily Log'!$Q$18:$Q$1017,$B39,'Daily Log'!$R$18:$R$1017),0)","v":0},{"$f":"IFERROR($E39*SUMIF('Daily Log'!$T$18:$T$1017,$B39,'Daily Log'!$U$18:$U$1017),0)","v":9},{"$f":"IFERROR($E39*SUMIF('Daily Log'!$W$18:$W$1017,$B39,'Daily Log'!$X$18:$X$1017),0)","v":5},{"$f":"IFERROR($E39*SUMIF('Daily Log'!$Z$18:$Z$1017,$B39,'Daily Log'!$AA$18:$AA$1017),0)","v":7},{"$f":"IFERROR($E39*SUMIF('Daily Log'!$AC$18:$AC$1017,$B39,'Daily Log'!$AD$18:$AD$1017),0)","v":4},{"$f":"IFERROR($E39*SUMIF('Daily Log'!$AF$18:$AF$1017,$B39,'Daily Log'!$AG$18:$AG$1017),0)","v":10},{"$f":"IFERROR($E39*SUMIF('Daily Log'!$AI$18:$AI$1017,$B39,'Daily Log'!$AJ$18:$AJ$1017),0)","v":9},{"$f":"IFERROR($E39*SUMIF('Daily Log'!$AL$18:$AL$1017,$B39,'Daily Log'!$AM$18:$AM$1017),0)","v":10},{"$f":"IFERROR($E39*SUMIF('Daily Log'!$AO$18:$AO$1017,$B39,'Daily Log'!$AP$18:$AP$1017),0)","v":0},{"$f":"IFERROR($E39*SUMIF('Daily Log'!$AR$18:$AR$1017,$B39,'Daily Log'!$AS$18:$AS$1017),0)","v":0},{"$f":"IFERROR($E39*SUMIF('Daily Log'!$AU$18:$AU$1017,$B39,'Daily Log'!$AV$18:$AV$1017),0)","v":0},{"$f":"IFERROR($E39*SUMIF('Daily Log'!$AX$18:$AX$1017,$B39,'Daily Log'!$AY$18:$AY$1017),0)","v":0},{"$f":"IFERROR($E39*SUMIF('Daily Log'!$BA$18:$BA$1017,$B39,'Daily Log'!$BB$18:$BB$1017),0)","v":0},{"$f":"IFERROR($E39*SUMIF('Daily Log'!$BD$18:$BD$1017,$B39,'Daily Log'!$BE$18:$BE$1017),0)","v":0},{"$f":"IFERROR($E39*SUMIF('Daily Log'!$BG$18:$BG$1017,$B39,'Daily Log'!$BH$18:$BH$1017),0)","v":0},{"$f":"IFERROR($E39*SUMIF('Daily Log'!$BJ$18:$BJ$1017,$B39,'Daily Log'!$BK$18:$BK$1017),0)","v":0},{"$f":"IFERROR($E39*SUMIF('Daily Log'!$BM$18:$BM$1017,$B39,'Daily Log'!$BN$18:$BN$1017),0)","v":0},{"$f":"IFERROR($E39*SUMIF('Daily Log'!$BP$18:$BP$1017,$B39,'Daily Log'!$BQ$18:$BQ$1017),0)","v":0},{"$f":"IFERROR($E39*SUMIF('Daily Log'!$BS$18:$BS$1017,$B39,'Daily Log'!$BT$18:$BT$1017),0)","v":0},{"$f":"IFERROR($E39*SUMIF('Daily Log'!$BV$18:$BV$1017,$B39,'Daily Log'!$BW$18:$BW$1017),0)","v":0},{"$f":"IFERROR($E39*SUMIF('Daily Log'!$BY$18:$BY$1017,$B39,'Daily Log'!$BZ$18:$BZ$1017),0)","v":0},{"$f":"IFERROR($E39*SUMIF('Daily Log'!$CB$18:$CB$1017,$B39,'Daily Log'!$CC$18:$CC$1017),0)","v":0},{"$f":"IFERROR($E39*SUMIF('Daily Log'!$CE$18:$CE$1017,$B39,'Daily Log'!$CF$18:$CF$1017),0)","v":0},{"$f":"IFERROR($E39*SUMIF('Daily Log'!$CH$18:$CH$1017,$B39,'Daily Log'!$CI$18:$CI$1017),0)","v":0},{"$f":"IFERROR($E39*SUMIF('Daily Log'!$CK$18:$CK$1017,$B39,'Daily Log'!$CL$18:$CL$1017),0)","v":0},{"$f":"IFERROR($E39*SUMIF('Daily Log'!$CN$18:$CN$1017,$B39,'Daily Log'!$CO$18:$CO$1017),0)","v":0}]
[null,"08005:Passion Fruit Juice",null,"COLD BEVERAGE",1,151,{"$f":"IFERROR($E40*SUMIF('Daily Log'!$B$18:$B$1017,$B40,'Daily Log'!$C$18:$C$1017),0)","v":0},{"$f":"IFERROR($E40*SUMIF('Daily Log'!$E$18:$E$1017,$B40,'Daily Log'!$F$18:$F$1017),0)","v":0},{"$f":"IFERROR($E40*SUMIF('Daily Log'!$H$18:$H$1017,$B40,'Daily Log'!$I$18:$I$1017),0)","v":0},{"$f":"IFERROR($E40*SUMIF('Daily Log'!$K$18:$K$1017,$B40,'Daily Log'!$L$18:$L$1017),0)","v":0},{"$f":"IFERROR($E40*SUMIF('Daily Log'!$N$18:$N$1017,$B40,'Daily Log'!$O$18:$O$1017),0)","v":0},{"$f":"IFERROR($E40*SUMIF('Daily Log'!$Q$18:$Q$1017,$B40,'Daily Log'!$R$18:$R$1017),0)","v":0},{"$f":"IFERROR($E40*SUMIF('Daily Log'!$T$18:$T$1017,$B40,'Daily Log'!$U$18:$U$1017),0)","v":11},{"$f":"IFERROR($E40*SUMIF('Daily Log'!$W$18:$W$1017,$B40,'Daily Log'!$X$18:$X$1017),0)","v":26},{"$f":"IFERROR($E40*SUMIF('Daily Log'!$Z$18:$Z$1017,$B40,'Daily Log'!$AA$18:$AA$1017),0)","v":19},{"$f":"IFERROR($E40*SUMIF('Daily Log'!$AC$18:$AC$1017,$B40,'Daily Log'!$AD$18:$AD$1017),0)","v":16},{"$f":"IFERROR($E40*SUMIF('Daily Log'!$AF$18:$AF$1017,$B40,'Daily Log'!$AG$18:$AG$1017),0)","v":22},{"$f":"IFERROR($E40*SUMIF('Daily Log'!$AI$18:$AI$1017,$B40,'Daily Log'!$AJ$18:$AJ$1017),0)","v":34},{"$f":"IFERROR($E40*SUMIF('Daily Log'!$AL$18:$AL$1017,$B40,'Daily Log'!$AM$18:$AM$1017),0)","v":23},{"$f":"IFERROR($E40*SUMIF('Daily Log'!$AO$18:$AO$1017,$B40,'Daily Log'!$AP$18:$AP$1017),0)","v":0},{"$f":"IFERROR($E40*SUMIF('Daily Log'!$AR$18:$AR$1017,$B40,'Daily Log'!$AS$18:$AS$1017),0)","v":0},{"$f":"IFERROR($E40*SUMIF('Daily Log'!$AU$18:$AU$1017,$B40,'Daily Log'!$AV$18:$AV$1017),0)","v":0},{"$f":"IFERROR($E40*SUMIF('Daily Log'!$AX$18:$AX$1017,$B40,'Daily Log'!$AY$18:$AY$1017),0)","v":0},{"$f":"IFERROR($E40*SUMIF('Daily Log'!$BA$18:$BA$1017,$B40,'Daily Log'!$BB$18:$BB$1017),0)","v":0},{"$f":"IFERROR($E40*SUMIF('Daily Log'!$BD$18:$BD$1017,$B40,'Daily Log'!$BE$18:$BE$1017),0)","v":0},{"$f":"IFERROR($E40*SUMIF('Daily Log'!$BG$18:$BG$1017,$B40,'Daily Log'!$BH$18:$BH$1017),0)","v":0},{"$f":"IFERROR($E40*SUMIF('Daily Log'!$BJ$18:$BJ$1017,$B40,'Daily Log'!$BK$18:$BK$1017),0)","v":0},{"$f":"IFERROR($E40*SUMIF('Daily Log'!$BM$18:$BM$1017,$B40,'Daily Log'!$BN$18:$BN$1017),0)","v":0},{"$f":"IFERROR($E40*SUMIF('Daily Log'!$BP$18:$BP$1017,$B40,'Daily Log'!$BQ$18:$BQ$1017),0)","v":0},{"$f":"IFERROR($E40*SUMIF('Daily Log'!$BS$18:$BS$1017,$B40,'Daily Log'!$BT$18:$BT$1017),0)","v":0},{"$f":"IFERROR($E40*SUMIF('Daily Log'!$BV$18:$BV$1017,$B40,'Daily Log'!$BW$18:$BW$1017),0)","v":0},{"$f":"IFERROR($E40*SUMIF('Daily Log'!$BY$18:$BY$1017,$B40,'Daily Log'!$BZ$18:$BZ$1017),0)","v":0},{"$f":"IFERROR($E40*SUMIF('Daily Log'!$CB$18:$CB$1017,$B40,'Daily Log'!$CC$18:$CC$1017),0)","v":0},{"$f":"IFERROR($E40*SUMIF('Daily Log'!$CE$18:$CE$1017,$B40,'Daily Log'!$CF$18:$CF$1017),0)","v":0},{"$f":"IFERROR($E40*SUMIF('Daily Log'!$CH$18:$CH$1017,$B40,'Daily Log'!$CI$18:$CI$1017),0)","v":0},{"$f":"IFERROR($E40*SUMIF('Daily Log'!$CK$18:$CK$1017,$B40,'Daily Log'!$CL$18:$CL$1017),0)","v":0},{"$f":"IFERROR($E40*SUMIF('Daily Log'!$CN$18:$CN$1017,$B40,'Daily Log'!$CO$18:$CO$1017),0)","v":0}]
[null,"08006:Passion Fruit Soda",null,"COLD BEVERAGE",1,53,{"$f":"IFERROR($E41*SUMIF('Daily Log'!$B$18:$B$1017,$B41,'Daily Log'!$C$18:$C$1017),0)","v":0},{"$f":"IFERROR($E41*SUMIF('Daily Log'!$E$18:$E$1017,$B41,'Daily Log'!$F$18:$F$1017),0)","v":0},{"$f":"IFERROR($E41*SUMIF('Daily Log'!$H$18:$H$1017,$B41,'Daily Log'!$I$18:$I$1017),0)","v":0},{"$f":"IFERROR($E41*SUMIF('Daily Log'!$K$18:$K$1017,$B41,'Daily Log'!$L$18:$L$1017),0)","v":0},{"$f":"IFERROR($E41*SUMIF('Daily Log'!$N$18:$N$1017,$B41,'Daily Log'!$O$18:$O$1017),0)","v":0},{"$f":"IFERROR($E41*SUMIF('Daily Log'!$Q$18:$Q$1017,$B41,'Daily Log'!$R$18:$R$1017),0)","v":0},{"$f":"IFERROR($E41*SUMIF('Daily Log'!$T$18:$T$1017,$B41,'Daily Log'!$U$18:$U$1017),0)","v":5},{"$f":"IFERROR($E41*SUMIF('Daily Log'!$W$18:$W$1017,$B41,'Daily Log'!$X$18:$X$1017),0)","v":3},{"$f":"IFERROR($E41*SUMIF('Daily Log'!$Z$18:$Z$1017,$B41,'Daily Log'!$AA$18:$AA$1017),0)","v":14},{"$f":"IFERROR($E41*SUMIF('Daily Log'!$AC$18:$AC$1017,$B41,'Daily Log'!$AD$18:$AD$1017),0)","v":7},{"$f":"IFERROR($E41*SUMIF('Daily Log'!$AF$18:$AF$1017,$B41,'Daily Log'!$AG$18:$AG$1017),0)","v":3},{"$f":"IFERROR($E41*SUMIF('Daily Log'!$AI$18:$AI$1017,$B41,'Daily Log'!$AJ$18:$AJ$1017),0)","v":8},{"$f":"IFERROR($E41*SUMIF('Daily Log'!$AL$18:$AL$1017,$B41,'Daily Log'!$AM$18:$AM$1017),0)","v":13},{"$f":"IFERROR($E41*SUMIF('Daily Log'!$AO$18:$AO$1017,$B41,'Daily Log'!$AP$18:$AP$1017),0)","v":0},{"$f":"IFERROR($E41*SUMIF('Daily Log'!$AR$18:$AR$1017,$B41,'Daily Log'!$AS$18:$AS$1017),0)","v":0},{"$f":"IFERROR($E41*SUMIF('Daily Log'!$AU$18:$AU$1017,$B41,'Daily Log'!$AV$18:$AV$1017),0)","v":0},{"$f":"IFERROR($E41*SUMIF('Daily Log'!$AX$18:$AX$1017,$B41,'Daily Log'!$AY$18:$AY$1017),0)","v":0},{"$f":"IFERROR($E41*SUMIF('Daily Log'!$BA$18:$BA$1017,$B41,'Daily Log'!$BB$18:$BB$1017),0)","v":0},{"$f":"IFERROR($E41*SUMIF('Daily Log'!$BD$18:$BD$1017,$B41,'Daily Log'!$BE$18:$BE$1017),0)","v":0},{"$f":"IFERROR($E41*SUMIF('Daily Log'!$BG$18:$BG$1017,$B41,'Daily Log'!$BH$18:$BH$1017),0)","v":0},{"$f":"IFERROR($E41*SUMIF('Daily Log'!$BJ$18:$BJ$1017,$B41,'Daily Log'!$BK$18:$BK$1017),0)","v":0},{"$f":"IFERROR($E41*SUMIF('Daily Log'!$BM$18:$BM$1017,$B41,'Daily Log'!$BN$18:$BN$1017),0)","v":0},{"$f":"IFERROR($E41*SUMIF('Daily Log'!$BP$18:$BP$1017,$B41,'Daily Log'!$BQ$18:$BQ$1017),0)","v":0},{"$f":"IFERROR($E41*SUMIF('Daily Log'!$BS$18:$BS$1017,$B41,'Daily Log'!$BT$18:$BT$1017),0)","v":0},{"$f":"IFERROR($E41*SUMIF('Daily Log'!$BV$18:$BV$1017,$B41,'Daily Log'!$BW$18:$BW$1017),0)","v":0},{"$f":"IFERROR($E41*SUMIF('Daily Log'!$BY$18:$BY$1017,$B41,'Daily Log'!$BZ$18:$BZ$1017),0)","v":0},{"$f":"IFERROR($E41*SUMIF('Daily Log'!$CB$18:$CB$1017,$B41,'Daily Log'!$CC$18:$CC$1017),0)","v":0},{"$f":"IFERROR($E41*SUMIF('Daily Log'!$CE$18:$CE$1017,$B41,'Daily Log'!$CF$18:$CF$1017),0)","v":0},{"$f":"IFERROR($E41*SUMIF('Daily Log'!$CH$18:$CH$1017,$B41,'Daily Log'!$CI$18:$CI$1017),0)","v":0},{"$f":"IFERROR($E41*SUMIF('Daily Log'!$CK$18:$CK$1017,$B41,'Daily Log'!$CL$18:$CL$1017),0)","v":0},{"$f":"IFERROR($E41*SUMIF('Daily Log'!$CN$18:$CN$1017,$B41,'Daily Log'!$CO$18:$CO$1017),0)","v":0}]
[null,"08007:Mango Juice",null,"COLD BEVERAGE",1,72,{"$f":"IFERROR($E42*SUMIF('Daily Log'!$B$18:$B$1017,$B42,'Daily Log'!$C$18:$C$1017),0)","v":0},{"$f":"IFERROR($E42*SUMIF('Daily Log'!$E$18:$E$1017,$B42,'Daily Log'!$F$18:$F$1017),0)","v":0},{"$f":"IFERROR($E42*SUMIF('Daily Log'!$H$18:$H$1017,$B42,'Daily Log'!$I$18:$I$1017),0)","v":0},{"$f":"IFERROR($E42*SUMIF('Daily Log'!$K$18:$K$1017,$B42,'Daily Log'!$L$18:$L$1017),0)","v":0},{"$f":"IFERROR($E42*SUMIF('Daily Log'!$N$18:$N$1017,$B42,'Daily Log'!$O$18:$O$1017),0)","v":0},{"$f":"IFERROR($E42*SUMIF('Daily Log'!$Q$18:$Q$1017,$B42,'Daily Log'!$R$18:$R$1017),0)","v":0},{"$f":"IFERROR($E42*SUMIF('Daily Log'!$T$18:$T$1017,$B42,'Daily Log'!$U$18:$U$1017),0)","v":6},{"$f":"IFERROR($E42*SUMIF('Daily Log'!$W$18:$W$1017,$B42,'Daily Log'!$X$18:$X$1017),0)","v":12},{"$f":"IFERROR($E42*SUMIF('Daily Log'!$Z$18:$Z$1017,$B42,'Daily Log'!$AA$18:$AA$1017),0)","v":14},{"$f":"IFERROR($E42*SUMIF('Daily Log'!$AC$18:$AC$1017,$B42,'Daily Log'!$AD$18:$AD$1017),0)","v":11},{"$f":"IFERROR($E42*SUMIF('Daily Log'!$AF$18:$AF$1017,$B42,'Daily Log'!$AG$18:$AG$1017),0)","v":11},{"$f":"IFERROR($E42*SUMIF('Daily Log'!$AI$18:$AI$1017,$B42,'Daily Log'!$AJ$18:$AJ$1017),0)","v":7},{"$f":"IFERROR($E42*SUMIF('Daily Log'!$AL$18:$AL$1017,$B42,'Daily Log'!$AM$18:$AM$1017),0)","v":11},{"$f":"IFERROR($E42*SUMIF('Daily Log'!$AO$18:$AO$1017,$B42,'Daily Log'!$AP$18:$AP$1017),0)","v":0},{"$f":"IFERROR($E42*SUMIF('Daily Log'!$AR$18:$AR$1017,$B42,'Daily Log'!$AS$18:$AS$1017),0)","v":0},{"$f":"IFERROR($E42*SUMIF('Daily Log'!$AU$18:$AU$1017,$B42,'Daily Log'!$AV$18:$AV$1017),0)","v":0},{"$f":"IFERROR($E42*SUMIF('Daily Log'!$AX$18:$AX$1017,$B42,'Daily Log'!$AY$18:$AY$1017),0)","v":0},{"$f":"IFERROR($E42*SUMIF('Daily Log'!$BA$18:$BA$1017,$B42,'Daily Log'!$BB$18:$BB$1017),0)","v":0},{"$f":"IFERROR($E42*SUMIF('Daily Log'!$BD$18:$BD$1017,$B42,'Daily Log'!$BE$18:$BE$1017),0)","v":0},{"$f":"IFERROR($E42*SUMIF('Daily Log'!$BG$18:$BG$1017,$B42,'Daily Log'!$BH$18:$BH$1017),0)","v":0},{"$f":"IFERROR($E42*SUMIF('Daily Log'!$BJ$18:$BJ$1017,$B42,'Daily Log'!$BK$18:$BK$1017),0)","v":0},{"$f":"IFERROR($E42*SUMIF('Daily Log'!$BM$18:$BM$1017,$B42,'Daily Log'!$BN$18:$BN$1017),0)","v":0},{"$f":"IFERROR($E42*SUMIF('Daily Log'!$BP$18:$BP$1017,$B42,'Daily Log'!$BQ$18:$BQ$1017),0)","v":0},{"$f":"IFERROR($E42*SUMIF('Daily Log'!$BS$18:$BS$1017,$B42,'Daily Log'!$BT$18:$BT$1017),0)","v":0},{"$f":"IFERROR($E42*SUMIF('Daily Log'!$BV$18:$BV$1017,$B42,'Daily Log'!$BW$18:$BW$1017),0)","v":0},{"$f":"IFERROR($E42*SUMIF('Daily Log'!$BY$18:$BY$1017,$B42,'Daily Log'!$BZ$18:$BZ$1017),0)","v":0},{"$f":"IFERROR($E42*SUMIF('Daily Log'!$CB$18:$CB$1017,$B42,'Daily Log'!$CC$18:$CC$1017),0)","v":0},{"$f":"IFERROR($E42*SUMIF('Daily Log'!$CE$18:$CE$1017,$B42,'Daily Log'!$CF$18:$CF$1017),0)","v":0},{"$f":"IFERROR($E42*SUMIF('Daily Log'!$CH$18:$CH$1017,$B42,'Daily Log'!$CI$18:$CI$1017),0)","v":0},{"$f":"IFERROR($E42*SUMIF('Daily Log'!$CK$18:$CK$1017,$B42,'Daily Log'!$CL$18:$CL$1017),0)","v":0},{"$f":"IFERROR($E42*SUMIF('Daily Log'!$CN$18:$CN$1017,$B42,'Daily Log'!$CO$18:$CO$1017),0)","v":0}]
[null,"08008:Mango Soda",null,"COLD BEVERAGE",1,44,{"$f":"IFERROR($E43*SUMIF('Daily Log'!$B$18:$B$1017,$B43,'Daily Log'!$C$18:$C$1017),0)","v":0},{"$f":"IFERROR($E43*SUMIF('Daily Log'!$E$18:$E$1017,$B43,'Daily Log'!$F$18:$F$1017),0)","v":0},{"$f":"IFERROR($E43*SUMIF('Daily Log'!$H$18:$H$1017,$B43,'Daily Log'!$I$18:$I$1017),0)","v":0},{"$f":"IFERROR($E43*SUMIF('Daily Log'!$K$18:$K$1017,$B43,'Daily Log'!$L$18:$L$1017),0)","v":0},{"$f":"IFERROR($E43*SUMIF('Daily Log'!$N$18:$N$1017,$B43,'Daily Log'!$O$18:$O$1017),0)","v":0},{"$f":"IFERROR($E43*SUMIF('Daily Log'!$Q$18:$Q$1017,$B43,'Daily Log'!$R$18:$R$1017),0)","v":0},{"$f":"IFERROR($E43*SUMIF('Daily Log'!$T$18:$T$1017,$B43,'Daily Log'!$U$18:$U$1017),0)","v":4},{"$f":"IFERROR($E43*SUMIF('Daily Log'!$W$18:$W$1017,$B43,'Daily Log'!$X$18:$X$1017),0)","v":11},{"$f":"IFERROR($E43*SUMIF('Daily Log'!$Z$18:$Z$1017,$B43,'Daily Log'!$AA$18:$AA$1017),0)","v":8},{"$f":"IFERROR($E43*SUMIF('Daily Log'!$AC$18:$AC$1017,$B43,'Daily Log'!$AD$18:$AD$1017),0)","v":5},{"$f":"IFERROR($E43*SUMIF('Daily Log'!$AF$18:$AF$1017,$B43,'Daily Log'!$AG$18:$AG$1017),0)","v":3},{"$f":"IFERROR($E43*SUMIF('Daily Log'!$AI$18:$AI$1017,$B43,'Daily Log'!$AJ$18:$AJ$1017),0)","v":8},{"$f":"IFERROR($E43*SUMIF('Daily Log'!$AL$18:$AL$1017,$B43,'Daily Log'!$AM$18:$AM$1017),0)","v":5},{"$f":"IFERROR($E43*SUMIF('Daily Log'!$AO$18:$AO$1017,$B43,'Daily Log'!$AP$18:$AP$1017),0)","v":0},{"$f":"IFERROR($E43*SUMIF('Daily Log'!$AR$18:$AR$1017,$B43,'Daily Log'!$AS$18:$AS$1017),0)","v":0},{"$f":"IFERROR($E43*SUMIF('Daily Log'!$AU$18:$AU$1017,$B43,'Daily Log'!$AV$18:$AV$1017),0)","v":0},{"$f":"IFERROR($E43*SUMIF('Daily Log'!$AX$18:$AX$1017,$B43,'Daily Log'!$AY$18:$AY$1017),0)","v":0},{"$f":"IFERROR($E43*SUMIF('Daily Log'!$BA$18:$BA$1017,$B43,'Daily Log'!$BB$18:$BB$1017),0)","v":0},{"$f":"IFERROR($E43*SUMIF('Daily Log'!$BD$18:$BD$1017,$B43,'Daily Log'!$BE$18:$BE$1017),0)","v":0},{"$f":"IFERROR($E43*SUMIF('Daily Log'!$BG$18:$BG$1017,$B43,'Daily Log'!$BH$18:$BH$1017),0)","v":0},{"$f":"IFERROR($E43*SUMIF('Daily Log'!$BJ$18:$BJ$1017,$B43,'Daily Log'!$BK$18:$BK$1017),0)","v":0},{"$f":"IFERROR($E43*SUMIF('Daily Log'!$BM$18:$BM$1017,$B43,'Daily Log'!$BN$18:$BN$1017),0)","v":0},{"$f":"IFERROR($E43*SUMIF('Daily Log'!$BP$18:$BP$1017,$B43,'Daily Log'!$BQ$18:$BQ$1017),0)","v":0},{"$f":"IFERROR($E43*SUMIF('Daily Log'!$BS$18:$BS$1017,$B43,'Daily Log'!$BT$18:$BT$1017),0)","v":0},{"$f":"IFERROR($E43*SUMIF('Daily Log'!$BV$18:$BV$1017,$B43,'Daily Log'!$BW$18:$BW$1017),0)","v":0},{"$f":"IFERROR($E43*SUMIF('Daily Log'!$BY$18:$BY$1017,$B43,'Daily Log'!$BZ$18:$BZ$1017),0)","v":0},{"$f":"IFERROR($E43*SUMIF('Daily Log'!$CB$18:$CB$1017,$B43,'Daily Log'!$CC$18:$CC$1017),0)","v":0},{"$f":"IFERROR($E43*SUMIF('Daily Log'!$CE$18:$CE$1017,$B43,'Daily Log'!$CF$18:$CF$1017),0)","v":0},{"$f":"IFERROR($E43*SUMIF('Daily Log'!$CH$18:$CH$1017,$B43,'Daily Log'!$CI$18:$CI$1017),0)","v":0},{"$f":"IFERROR($E43*SUMIF('Daily Log'!$CK$18:$CK$1017,$B43,'Daily Log'!$CL$18:$CL$1017),0)","v":0},{"$f":"IFERROR($E43*SUMIF('Daily Log'!$CN$18:$CN$1017,$B43,'Daily Log'!$CO$18:$CO$1017),0)","v":0}]
[null,"08018:Ribena",null,"COLD BEVERAGE",1,171,{"$f":"IFERROR($E44*SUMIF('Daily Log'!$B$18:$B$1017,$B44,'Daily Log'!$C$18:$C$1017),0)","v":0},{"$f":"IFERROR($E44*SUMIF('Daily Log'!$E$18:$E$1017,$B44,'Daily Log'!$F$18:$F$1017),0)","v":0},{"$f":"IFERROR($E44*SUMIF('Daily Log'!$H$18:$H$1017,$B44,'Daily Log'!$I$18:$I$1017),0)","v":0},{"$f":"IFERROR($E44*SUMIF('Daily Log'!$K$18:$K$1017,$B44,'Daily Log'!$L$18:$L$1017),0)","v":0},{"$f":"IFERROR($E44*SUMIF('Daily Log'!$N$18:$N$1017,$B44,'Daily Log'!$O$18:$O$1017),0)","v":0},{"$f":"IFERROR($E44*SUMIF('Daily Log'!$Q$18:$Q$1017,$B44,'Daily Log'!$R$18:$R$1017),0)","v":0},{"$f":"IFERROR($E44*SUMIF('Daily Log'!$T$18:$T$1017,$B44,'Daily Log'!$U$18:$U$1017),0)","v":19},{"$f":"IFERROR($E44*SUMIF('Daily Log'!$W$18:$W$1017,$B44,'Daily Log'!$X$18:$X$1017),0)","v":24},{"$f":"IFERROR($E44*SUMIF('Daily Log'!$Z$18:$Z$1017,$B44,'Daily Log'!$AA$18:$AA$1017),0)","v":22},{"$f":"IFERROR($E44*SUMIF('Daily Log'!$AC$18:$AC$1017,$B44,'Daily Log'!$AD$18:$AD$1017),0)","v":13},{"$f":"IFERROR($E44*SUMIF('Daily Log'!$AF$18:$AF$1017,$B44,'Daily Log'!$AG$18:$AG$1017),0)","v":38},{"$f":"IFERROR($E44*SUMIF('Daily Log'!$AI$18:$AI$1017,$B44,'Daily Log'!$AJ$18:$AJ$1017),0)","v":19},{"$f":"IFERROR($E44*SUMIF('Daily Log'!$AL$18:$AL$1017,$B44,'Daily Log'!$AM$18:$AM$1017),0)","v":36},{"$f":"IFERROR($E44*SUMIF('Daily Log'!$AO$18:$AO$1017,$B44,'Daily Log'!$AP$18:$AP$1017),0)","v":0},{"$f":"IFERROR($E44*SUMIF('Daily Log'!$AR$18:$AR$1017,$B44,'Daily Log'!$AS$18:$AS$1017),0)","v":0},{"$f":"IFERROR($E44*SUMIF('Daily Log'!$AU$18:$AU$1017,$B44,'Daily Log'!$AV$18:$AV$1017),0)","v":0},{"$f":"IFERROR($E44*SUMIF('Daily Log'!$AX$18:$AX$1017,$B44,'Daily Log'!$AY$18:$AY$1017),0)","v":0},{"$f":"IFERROR($E44*SUMIF('Daily Log'!$BA$18:$BA$1017,$B44,'Daily Log'!$BB$18:$BB$1017),0)","v":0},{"$f":"IFERROR($E44*SUMIF('Daily Log'!$BD$18:$BD$1017,$B44,'Daily Log'!$BE$18:$BE$1017),0)","v":0},{"$f":"IFERROR($E44*SUMIF('Daily Log'!$BG$18:$BG$1017,$B44,'Daily Log'!$BH$18:$BH$1017),0)","v":0},{"$f":"IFERROR($E44*SUMIF('Daily Log'!$BJ$18:$BJ$1017,$B44,'Daily Log'!$BK$18:$BK$1017),0)","v":0},{"$f":"IFERROR($E44*SUMIF('Daily Log'!$BM$18:$BM$1017,$B44,'Daily Log'!$BN$18:$BN$1017),0)","v":0},{"$f":"IFERROR($E44*SUMIF('Daily Log'!$BP$18:$BP$1017,$B44,'Daily Log'!$BQ$18:$BQ$1017),0)","v":0},{"$f":"IFERROR($E44*SUMIF('Daily Log'!$BS$18:$BS$1017,$B44,'Daily Log'!$BT$18:$BT$1017),0)","v":0},{"$f":"IFERROR($E44*SUMIF('Daily Log'!$BV$18:$BV$1017,$B44,'Daily Log'!$BW$18:$BW$1017),0)","v":0},{"$f":"IFERROR($E44*SUMIF('Daily Log'!$BY$18:$BY$1017,$B44,'Daily Log'!$BZ$18:$BZ$1017),0)","v":0},{"$f":"IFERROR($E44*SUMIF('Daily Log'!$CB$18:$CB$1017,$B44,'Daily Log'!$CC$18:$CC$1017),0)","v":0},{"$f":"IFERROR($E44*SUMIF('Daily Log'!$CE$18:$CE$1017,$B44,'Daily Log'!$CF$18:$CF$1017),0)","v":0},{"$f":"IFERROR($E44*SUMIF('Daily Log'!$CH$18:$CH$1017,$B44,'Daily Log'!$CI$18:$CI$1017),0)","v":0},{"$f":"IFERROR($E44*SUMIF('Daily Log'!$CK$18:$CK$1017,$B44,'Daily Log'!$CL$18:$CL$1017),0)","v":0},{"$f":"IFERROR($E44*SUMIF('Daily Log'!$CN$18:$CN$1017,$B44,'Daily Log'!$CO$18:$CO$1017),0)","v":0}]
[null,"08018S:RIBENA SODA",null,"COLD BEVERAGE",1,71,{"$f":"IFERROR($E45*SUMIF('Daily Log'!$B$18:$B$1017,$B45,'Daily Log'!$C$18:$C$1017),0)","v":0},{"$f":"IFERROR($E45*SUMIF('Daily Log'!$E$18:$E$1017,$B45,'Daily Log'!$F$18:$F$1017),0)","v":0},{"$f":"IFERROR($E45*SUMIF('Daily Log'!$H$18:$H$1017,$B45,'Daily Log'!$I$18:$I$1017),0)","v":0},{"$f":"IFERROR($E45*SUMIF('Daily Log'!$K$18:$K$1017,$B45,'Daily Log'!$L$18:$L$1017),0)","v":0},{"$f":"IFERROR($E45*SUMIF('Daily Log'!$N$18:$N$1017,$B45,'Daily Log'!$O$18:$O$1017),0)","v":0},{"$f":"IFERROR($E45*SUMIF('Daily Log'!$Q$18:$Q$1017,$B45,'Daily Log'!$R$18:$R$1017),0)","v":0},{"$f":"IFERROR($E45*SUMIF('Daily Log'!$T$18:$T$1017,$B45,'Daily Log'!$U$18:$U$1017),0)","v":8},{"$f":"IFERROR($E45*SUMIF('Daily Log'!$W$18:$W$1017,$B45,'Daily Log'!$X$18:$X$1017),0)","v":20},{"$f":"IFERROR($E45*SUMIF('Daily Log'!$Z$18:$Z$1017,$B45,'Daily Log'!$AA$18:$AA$1017),0)","v":6},{"$f":"IFERROR($E45*SUMIF('Daily Log'!$AC$18:$AC$1017,$B45,'Daily Log'!$AD$18:$AD$1017),0)","v":17},{"$f":"IFERROR($E45*SUMIF('Daily Log'!$AF$18:$AF$1017,$B45,'Daily Log'!$AG$18:$AG$1017),0)","v":2},{"$f":"IFERROR($E45*SUMIF('Daily Log'!$AI$18:$AI$1017,$B45,'Daily Log'!$AJ$18:$AJ$1017),0)","v":7},{"$f":"IFERROR($E45*SUMIF('Daily Log'!$AL$18:$AL$1017,$B45,'Daily Log'!$AM$18:$AM$1017),0)","v":11},{"$f":"IFERROR($E45*SUMIF('Daily Log'!$AO$18:$AO$1017,$B45,'Daily Log'!$AP$18:$AP$1017),0)","v":0},{"$f":"IFERROR($E45*SUMIF('Daily Log'!$AR$18:$AR$1017,$B45,'Daily Log'!$AS$18:$AS$1017),0)","v":0},{"$f":"IFERROR($E45*SUMIF('Daily Log'!$AU$18:$AU$1017,$B45,'Daily Log'!$AV$18:$AV$1017),0)","v":0},{"$f":"IFERROR($E45*SUMIF('Daily Log'!$AX$18:$AX$1017,$B45,'Daily Log'!$AY$18:$AY$1017),0)","v":0},{"$f":"IFERROR($E45*SUMIF('Daily Log'!$BA$18:$BA$1017,$B45,'Daily Log'!$BB$18:$BB$1017),0)","v":0},{"$f":"IFERROR($E45*SUMIF('Daily Log'!$BD$18:$BD$1017,$B45,'Daily Log'!$BE$18:$BE$1017),0)","v":0},{"$f":"IFERROR($E45*SUMIF('Daily Log'!$BG$18:$BG$1017,$B45,'Daily Log'!$BH$18:$BH$1017),0)","v":0},{"$f":"IFERROR($E45*SUMIF('Daily Log'!$BJ$18:$BJ$1017,$B45,'Daily Log'!$BK$18:$BK$1017),0)","v":0},{"$f":"IFERROR($E45*SUMIF('Daily Log'!$BM$18:$BM$1017,$B45,'Daily Log'!$BN$18:$BN$1017),0)","v":0},{"$f":"IFERROR($E45*SUMIF('Daily Log'!$BP$18:$BP$1017,$B45,'Daily Log'!$BQ$18:$BQ$1017),0)","v":0},{"$f":"IFERROR($E45*SUMIF('Daily Log'!$BS$18:$BS$1017,$B45,'Daily Log'!$BT$18:$BT$1017),0)","v":0},{"$f":"IFERROR($E45*SUMIF('Daily Log'!$BV$18:$BV$1017,$B45,'Daily Log'!$BW$18:$BW$1017),0)","v":0},{"$f":"IFERROR($E45*SUMIF('Daily Log'!$BY$18:$BY$1017,$B45,'Daily Log'!$BZ$18:$BZ$1017),0)","v":0},{"$f":"IFERROR($E45*SUMIF('Daily Log'!$CB$18:$CB$1017,$B45,'Daily Log'!$CC$18:$CC$1017),0)","v":0},{"$f":"IFERROR($E45*SUMIF('Daily Log'!$CE$18:$CE$1017,$B45,'Daily Log'!$CF$18:$CF$1017),0)","v":0},{"$f":"IFERROR($E45*SUMIF('Daily Log'!$CH$18:$CH$1017,$B45,'Daily Log'!$CI$18:$CI$1017),0)","v":0},{"$f":"IFERROR($E45*SUMIF('Daily Log'!$CK$18:$CK$1017,$B45,'Daily Log'!$CL$18:$CL$1017),0)","v":0},{"$f":"IFERROR($E45*SUMIF('Daily Log'!$CN$18:$CN$1017,$B45,'Daily Log'!$CO$18:$CO$1017),0)","v":0}]
[null,"08019:Ice Milo",null,"COLD BEVERAGE",1,248,{"$f":"IFERROR($E46*SUMIF('Daily Log'!$B$18:$B$1017,$B46,'Daily Log'!$C$18:$C$1017),0)","v":0},{"$f":"IFERROR($E46*SUMIF('Daily Log'!$E$18:$E$1017,$B46,'Daily Log'!$F$18:$F$1017),0)","v":0},{"$f":"IFERROR($E46*SUMIF('Daily Log'!$H$18:$H$1017,$B46,'Daily Log'!$I$18:$I$1017),0)","v":0},{"$f":"IFERROR($E46*SUMIF('Daily Log'!$K$18:$K$1017,$B46,'Daily Log'!$L$18:$L$1017),0)","v":0},{"$f":"IFERROR($E46*SUMIF('Daily Log'!$N$18:$N$1017,$B46,'Daily Log'!$O$18:$O$1017),0)","v":0},{"$f":"IFERROR($E46*SUMIF('Daily Log'!$Q$18:$Q$1017,$B46,'Daily Log'!$R$18:$R$1017),0)","v":0},{"$f":"IFERROR($E46*SUMIF('Daily Log'!$T$18:$T$1017,$B46,'Daily Log'!$U$18:$U$1017),0)","v":44},{"$f":"IFERROR($E46*SUMIF('Daily Log'!$W$18:$W$1017,$B46,'Daily Log'!$X$18:$X$1017),0)","v":23},{"$f":"IFERROR($E46*SUMIF('Daily Log'!$Z$18:$Z$1017,$B46,'Daily Log'!$AA$18:$AA$1017),0)","v":29},{"$f":"IFERROR($E46*SUMIF('Daily Log'!$AC$18:$AC$1017,$B46,'Daily Log'!$AD$18:$AD$1017),0)","v":35},{"$f":"IFERROR($E46*SUMIF('Daily Log'!$AF$18:$AF$1017,$B46,'Daily Log'!$AG$18:$AG$1017),0)","v":27},{"$f":"IFERROR($E46*SUMIF('Daily Log'!$AI$18:$AI$1017,$B46,'Daily Log'!$AJ$18:$AJ$1017),0)","v":33},{"$f":"IFERROR($E46*SUMIF('Daily Log'!$AL$18:$AL$1017,$B46,'Daily Log'!$AM$18:$AM$1017),0)","v":57},{"$f":"IFERROR($E46*SUMIF('Daily Log'!$AO$18:$AO$1017,$B46,'Daily Log'!$AP$18:$AP$1017),0)","v":0},{"$f":"IFERROR($E46*SUMIF('Daily Log'!$AR$18:$AR$1017,$B46,'Daily Log'!$AS$18:$AS$1017),0)","v":0},{"$f":"IFERROR($E46*SUMIF('Daily Log'!$AU$18:$AU$1017,$B46,'Daily Log'!$AV$18:$AV$1017),0)","v":0},{"$f":"IFERROR($E46*SUMIF('Daily Log'!$AX$18:$AX$1017,$B46,'Daily Log'!$AY$18:$AY$1017),0)","v":0},{"$f":"IFERROR($E46*SUMIF('Daily Log'!$BA$18:$BA$1017,$B46,'Daily Log'!$BB$18:$BB$1017),0)","v":0},{"$f":"IFERROR($E46*SUMIF('Daily Log'!$BD$18:$BD$1017,$B46,'Daily Log'!$BE$18:$BE$1017),0)","v":0},{"$f":"IFERROR($E46*SUMIF('Daily Log'!$BG$18:$BG$1017,$B46,'Daily Log'!$BH$18:$BH$1017),0)","v":0},{"$f":"IFERROR($E46*SUMIF('Daily Log'!$BJ$18:$BJ$1017,$B46,'Daily Log'!$BK$18:$BK$1017),0)","v":0},{"$f":"IFERROR($E46*SUMIF('Daily Log'!$BM$18:$BM$1017,$B46,'Daily Log'!$BN$18:$BN$1017),0)","v":0},{"$f":"IFERROR($E46*SUMIF('Daily Log'!$BP$18:$BP$1017,$B46,'Daily Log'!$BQ$18:$BQ$1017),0)","v":0},{"$f":"IFERROR($E46*SUMIF('Daily Log'!$BS$18:$BS$1017,$B46,'Daily Log'!$BT$18:$BT$1017),0)","v":0},{"$f":"IFERROR($E46*SUMIF('Daily Log'!$BV$18:$BV$1017,$B46,'Daily Log'!$BW$18:$BW$1017),0)","v":0},{"$f":"IFERROR($E46*SUMIF('Daily Log'!$BY$18:$BY$1017,$B46,'Daily Log'!$BZ$18:$BZ$1017),0)","v":0},{"$f":"IFERROR($E46*SUMIF('Daily Log'!$CB$18:$CB$1017,$B46,'Daily Log'!$CC$18:$CC$1017),0)","v":0},{"$f":"IFERROR($E46*SUMIF('Daily Log'!$CE$18:$CE$1017,$B46,'Daily Log'!$CF$18:$CF$1017),0)","v":0},{"$f":"IFERROR($E46*SUMIF('Daily Log'!$CH$18:$CH$1017,$B46,'Daily Log'!$CI$18:$CI$1017),0)","v":0},{"$f":"IFERROR($E46*SUMIF('Daily Log'!$CK$18:$CK$1017,$B46,'Daily Log'!$CL$18:$CL$1017),0)","v":0},{"$f":"IFERROR($E46*SUMIF('Daily Log'!$CN$18:$CN$1017,$B46,'Daily Log'!$CO$18:$CO$1017),0)","v":0}]
[null,"08021:Ice Nescafe",null,"COLD BEVERAGE",1,51,{"$f":"IFERROR($E47*SUMIF('Daily Log'!$B$18:$B$1017,$B47,'Daily Log'!$C$18:$C$1017),0)","v":0},{"$f":"IFERROR($E47*SUMIF('Daily Log'!$E$18:$E$1017,$B47,'Daily Log'!$F$18:$F$1017),0)","v":0},{"$f":"IFERROR($E47*SUMIF('Daily Log'!$H$18:$H$1017,$B47,'Daily Log'!$I$18:$I$1017),0)","v":0},{"$f":"IFERROR($E47*SUMIF('Daily Log'!$K$18:$K$1017,$B47,'Daily Log'!$L$18:$L$1017),0)","v":0},{"$f":"IFERROR($E47*SUMIF('Daily Log'!$N$18:$N$1017,$B47,'Daily Log'!$O$18:$O$1017),0)","v":0},{"$f":"IFERROR($E47*SUMIF('Daily Log'!$Q$18:$Q$1017,$B47,'Daily Log'!$R$18:$R$1017),0)","v":0},{"$f":"IFERROR($E47*SUMIF('Daily Log'!$T$18:$T$1017,$B47,'Daily Log'!$U$18:$U$1017),0)","v":4},{"$f":"IFERROR($E47*SUMIF('Daily Log'!$W$18:$W$1017,$B47,'Daily Log'!$X$18:$X$1017),0)","v":12},{"$f":"IFERROR($E47*SUMIF('Daily Log'!$Z$18:$Z$1017,$B47,'Daily Log'!$AA$18:$AA$1017),0)","v":8},{"$f":"IFERROR($E47*SUMIF('Daily Log'!$AC$18:$AC$1017,$B47,'Daily Log'!$AD$18:$AD$1017),0)","v":9},{"$f":"IFERROR($E47*SUMIF('Daily Log'!$AF$18:$AF$1017,$B47,'Daily Log'!$AG$18:$AG$1017),0)","v":6},{"$f":"IFERROR($E47*SUMIF('Daily Log'!$AI$18:$AI$1017,$B47,'Daily Log'!$AJ$18:$AJ$1017),0)","v":4},{"$f":"IFERROR($E47*SUMIF('Daily Log'!$AL$18:$AL$1017,$B47,'Daily Log'!$AM$18:$AM$1017),0)","v":8},{"$f":"IFERROR($E47*SUMIF('Daily Log'!$AO$18:$AO$1017,$B47,'Daily Log'!$AP$18:$AP$1017),0)","v":0},{"$f":"IFERROR($E47*SUMIF('Daily Log'!$AR$18:$AR$1017,$B47,'Daily Log'!$AS$18:$AS$1017),0)","v":0},{"$f":"IFERROR($E47*SUMIF('Daily Log'!$AU$18:$AU$1017,$B47,'Daily Log'!$AV$18:$AV$1017),0)","v":0},{"$f":"IFERROR($E47*SUMIF('Daily Log'!$AX$18:$AX$1017,$B47,'Daily Log'!$AY$18:$AY$1017),0)","v":0},{"$f":"IFERROR($E47*SUMIF('Daily Log'!$BA$18:$BA$1017,$B47,'Daily Log'!$BB$18:$BB$1017),0)","v":0},{"$f":"IFERROR($E47*SUMIF('Daily Log'!$BD$18:$BD$1017,$B47,'Daily Log'!$BE$18:$BE$1017),0)","v":0},{"$f":"IFERROR($E47*SUMIF('Daily Log'!$BG$18:$BG$1017,$B47,'Daily Log'!$BH$18:$BH$1017),0)","v":0},{"$f":"IFERROR($E47*SUMIF('Daily Log'!$BJ$18:$BJ$1017,$B47,'Daily Log'!$BK$18:$BK$1017),0)","v":0},{"$f":"IFERROR($E47*SUMIF('Daily Log'!$BM$18:$BM$1017,$B47,'Daily Log'!$BN$18:$BN$1017),0)","v":0},{"$f":"IFERROR($E47*SUMIF('Daily Log'!$BP$18:$BP$1017,$B47,'Daily Log'!$BQ$18:$BQ$1017),0)","v":0},{"$f":"IFERROR($E47*SUMIF('Daily Log'!$BS$18:$BS$1017,$B47,'Daily Log'!$BT$18:$BT$1017),0)","v":0},{"$f":"IFERROR($E47*SUMIF('Daily Log'!$BV$18:$BV$1017,$B47,'Daily Log'!$BW$18:$BW$1017),0)","v":0},{"$f":"IFERROR($E47*SUMIF('Daily Log'!$BY$18:$BY$1017,$B47,'Daily Log'!$BZ$18:$BZ$1017),0)","v":0},{"$f":"IFERROR($E47*SUMIF('Daily Log'!$CB$18:$CB$1017,$B47,'Daily Log'!$CC$18:$CC$1017),0)","v":0},{"$f":"IFERROR($E47*SUMIF('Daily Log'!$CE$18:$CE$1017,$B47,'Daily Log'!$CF$18:$CF$1017),0)","v":0},{"$f":"IFERROR($E47*SUMIF('Daily Log'!$CH$18:$CH$1017,$B47,'Daily Log'!$CI$18:$CI$1017),0)","v":0},{"$f":"IFERROR($E47*SUMIF('Daily Log'!$CK$18:$CK$1017,$B47,'Daily Log'!$CL$18:$CL$1017),0)","v":0},{"$f":"IFERROR($E47*SUMIF('Daily Log'!$CN$18:$CN$1017,$B47,'Daily Log'!$CO$18:$CO$1017),0)","v":0}]
[null,"08023:Ice Tea",null,"COLD BEVERAGE",1,24,{"$f":"IFERROR($E48*SUMIF('Daily Log'!$B$18:$B$1017,$B48,'Daily Log'!$C$18:$C$1017),0)","v":0},{"$f":"IFERROR($E48*SUMIF('Daily Log'!$E$18:$E$1017,$B48,'Daily Log'!$F$18:$F$1017),0)","v":0},{"$f":"IFERROR($E48*SUMIF('Daily Log'!$H$18:$H$1017,$B48,'Daily Log'!$I$18:$I$1017),0)","v":0},{"$f":"IFERROR($E48*SUMIF('Daily Log'!$K$18:$K$1017,$B48,'Daily Log'!$L$18:$L$1017),0)","v":0},{"$f":"IFERROR($E48*SUMIF('Daily Log'!$N$18:$N$1017,$B48,'Daily Log'!$O$18:$O$1017),0)","v":0},{"$f":"IFERROR($E48*SUMIF('Daily Log'!$Q$18:$Q$1017,$B48,'Daily Log'!$R$18:$R$1017),0)","v":0},{"$f":"IFERROR($E48*SUMIF('Daily Log'!$T$18:$T$1017,$B48,'Daily Log'!$U$18:$U$1017),0)","v":2},{"$f":"IFERROR($E48*SUMIF('Daily Log'!$W$18:$W$1017,$B48,'Daily Log'!$X$18:$X$1017),0)","v":2},{"$f":"IFERROR($E48*SUMIF('Daily Log'!$Z$18:$Z$1017,$B48,'Daily Log'!$AA$18:$AA$1017),0)","v":5},{"$f":"IFERROR($E48*SUMIF('Daily Log'!$AC$18:$AC$1017,$B48,'Daily Log'!$AD$18:$AD$1017),0)","v":2},{"$f":"IFERROR($E48*SUMIF('Daily Log'!$AF$18:$AF$1017,$B48,'Daily Log'!$AG$18:$AG$1017),0)","v":2},{"$f":"IFERROR($E48*SUMIF('Daily Log'!$AI$18:$AI$1017,$B48,'Daily Log'!$AJ$18:$AJ$1017),0)","v":2},{"$f":"IFERROR($E48*SUMIF('Daily Log'!$AL$18:$AL$1017,$B48,'Daily Log'!$AM$18:$AM$1017),0)","v":9},{"$f":"IFERROR($E48*SUMIF('Daily Log'!$AO$18:$AO$1017,$B48,'Daily Log'!$AP$18:$AP$1017),0)","v":0},{"$f":"IFERROR($E48*SUMIF('Daily Log'!$AR$18:$AR$1017,$B48,'Daily Log'!$AS$18:$AS$1017),0)","v":0},{"$f":"IFERROR($E48*SUMIF('Daily Log'!$AU$18:$AU$1017,$B48,'Daily Log'!$AV$18:$AV$1017),0)","v":0},{"$f":"IFERROR($E48*SUMIF('Daily Log'!$AX$18:$AX$1017,$B48,'Daily Log'!$AY$18:$AY$1017),0)","v":0},{"$f":"IFERROR($E48*SUMIF('Daily Log'!$BA$18:$BA$1017,$B48,'Daily Log'!$BB$18:$BB$1017),0)","v":0},{"$f":"IFERROR($E48*SUMIF('Daily Log'!$BD$18:$BD$1017,$B48,'Daily Log'!$BE$18:$BE$1017),0)","v":0},{"$f":"IFERROR($E48*SUMIF('Daily Log'!$BG$18:$BG$1017,$B48,'Daily Log'!$BH$18:$BH$1017),0)","v":0},{"$f":"IFERROR($E48*SUMIF('Daily Log'!$BJ$18:$BJ$1017,$B48,'Daily Log'!$BK$18:$BK$1017),0)","v":0},{"$f":"IFERROR($E48*SUMIF('Daily Log'!$BM$18:$BM$1017,$B48,'Daily Log'!$BN$18:$BN$1017),0)","v":0},{"$f":"IFERROR($E48*SUMIF('Daily Log'!$BP$18:$BP$1017,$B48,'Daily Log'!$BQ$18:$BQ$1017),0)","v":0},{"$f":"IFERROR($E48*SUMIF('Daily Log'!$BS$18:$BS$1017,$B48,'Daily Log'!$BT$18:$BT$1017),0)","v":0},{"$f":"IFERROR($E48*SUMIF('Daily Log'!$BV$18:$BV$1017,$B48,'Daily Log'!$BW$18:$BW$1017),0)","v":0},{"$f":"IFERROR($E48*SUMIF('Daily Log'!$BY$18:$BY$1017,$B48,'Daily Log'!$BZ$18:$BZ$1017),0)","v":0},{"$f":"IFERROR($E48*SUMIF('Daily Log'!$CB$18:$CB$1017,$B48,'Daily Log'!$CC$18:$CC$1017),0)","v":0},{"$f":"IFERROR($E48*SUMIF('Daily Log'!$CE$18:$CE$1017,$B48,'Daily Log'!$CF$18:$CF$1017),0)","v":0},{"$f":"IFERROR($E48*SUMIF('Daily Log'!$CH$18:$CH$1017,$B48,'Daily Log'!$CI$18:$CI$1017),0)","v":0},{"$f":"IFERROR($E48*SUMIF('Daily Log'!$CK$18:$CK$1017,$B48,'Daily Log'!$CL$18:$CL$1017),0)","v":0},{"$f":"IFERROR($E48*SUMIF('Daily Log'!$CN$18:$CN$1017,$B48,'Daily Log'!$CO$18:$CO$1017),0)","v":0}]
[null,"08025:Ice Lemon Tea",null,"COLD BEVERAGE",1,328,{"$f":"IFERROR($E49*SUMIF('Daily Log'!$B$18:$B$1017,$B49,'Daily Log'!$C$18:$C$1017),0)","v":0},{"$f":"IFERROR($E49*SUMIF('Daily Log'!$E$18:$E$1017,$B49,'Daily Log'!$F$18:$F$1017),0)","v":0},{"$f":"IFERROR($E49*SUMIF('Daily Log'!$H$18:$H$1017,$B49,'Daily Log'!$I$18:$I$1017),0)","v":0},{"$f":"IFERROR($E49*SUMIF('Daily Log'!$K$18:$K$1017,$B49,'Daily Log'!$L$18:$L$1017),0)","v":0},{"$f":"IFERROR($E49*SUMIF('Daily Log'!$N$18:$N$1017,$B49,'Daily Log'!$O$18:$O$1017),0)","v":0},{"$f":"IFERROR($E49*SUMIF('Daily Log'!$Q$18:$Q$1017,$B49,'Daily Log'!$R$18:$R$1017),0)","v":0},{"$f":"IFERROR($E49*SUMIF('Daily Log'!$T$18:$T$1017,$B49,'Daily Log'!$U$18:$U$1017),0)","v":45},{"$f":"IFERROR($E49*SUMIF('Daily Log'!$W$18:$W$1017,$B49,'Daily Log'!$X$18:$X$1017),0)","v":27},{"$f":"IFERROR($E49*SUMIF('Daily Log'!$Z$18:$Z$1017,$B49,'Daily Log'!$AA$18:$AA$1017),0)","v":60},{"$f":"IFERROR($E49*SUMIF('Daily Log'!$AC$18:$AC$1017,$B49,'Daily Log'!$AD$18:$AD$1017),0)","v":52},{"$f":"IFERROR($E49*SUMIF('Daily Log'!$AF$18:$AF$1017,$B49,'Daily Log'!$AG$18:$AG$1017),0)","v":48},{"$f":"IFERROR($E49*SUMIF('Daily Log'!$AI$18:$AI$1017,$B49,'Daily Log'!$AJ$18:$AJ$1017),0)","v":26},{"$f":"IFERROR($E49*SUMIF('Daily Log'!$AL$18:$AL$1017,$B49,'Daily Log'!$AM$18:$AM$1017),0)","v":70},{"$f":"IFERROR($E49*SUMIF('Daily Log'!$AO$18:$AO$1017,$B49,'Daily Log'!$AP$18:$AP$1017),0)","v":0},{"$f":"IFERROR($E49*SUMIF('Daily Log'!$AR$18:$AR$1017,$B49,'Daily Log'!$AS$18:$AS$1017),0)","v":0},{"$f":"IFERROR($E49*SUMIF('Daily Log'!$AU$18:$AU$1017,$B49,'Daily Log'!$AV$18:$AV$1017),0)","v":0},{"$f":"IFERROR($E49*SUMIF('Daily Log'!$AX$18:$AX$1017,$B49,'Daily Log'!$AY$18:$AY$1017),0)","v":0},{"$f":"IFERROR($E49*SUMIF('Daily Log'!$BA$18:$BA$1017,$B49,'Daily Log'!$BB$18:$BB$1017),0)","v":0},{"$f":"IFERROR($E49*SUMIF('Daily Log'!$BD$18:$BD$1017,$B49,'Daily Log'!$BE$18:$BE$1017),0)","v":0},{"$f":"IFERROR($E49*SUMIF('Daily Log'!$BG$18:$BG$1017,$B49,'Daily Log'!$BH$18:$BH$1017),0)","v":0},{"$f":"IFERROR($E49*SUMIF('Daily Log'!$BJ$18:$BJ$1017,$B49,'Daily Log'!$BK$18:$BK$1017),0)","v":0},{"$f":"IFERROR($E49*SUMIF('Daily Log'!$BM$18:$BM$1017,$B49,'Daily Log'!$BN$18:$BN$1017),0)","v":0},{"$f":"IFERROR($E49*SUMIF('Daily Log'!$BP$18:$BP$1017,$B49,'Daily Log'!$BQ$18:$BQ$1017),0)","v":0},{"$f":"IFERROR($E49*SUMIF('Daily Log'!$BS$18:$BS$1017,$B49,'Daily Log'!$BT$18:$BT$1017),0)","v":0},{"$f":"IFERROR($E49*SUMIF('Daily Log'!$BV$18:$BV$1017,$B49,'Daily Log'!$BW$18:$BW$1017),0)","v":0},{"$f":"IFERROR($E49*SUMIF('Daily Log'!$BY$18:$BY$1017,$B49,'Daily Log'!$BZ$18:$BZ$1017),0)","v":0},{"$f":"IFERROR($E49*SUMIF('Daily Log'!$CB$18:$CB$1017,$B49,'Daily Log'!$CC$18:$CC$1017),0)","v":0},{"$f":"IFERROR($E49*SUMIF('Daily Log'!$CE$18:$CE$1017,$B49,'Daily Log'!$CF$18:$CF$1017),0)","v":0},{"$f":"IFERROR($E49*SUMIF('Daily Log'!$CH$18:$CH$1017,$B49,'Daily Log'!$CI$18:$CI$1017),0)","v":0},{"$f":"IFERROR($E49*SUMIF('Daily Log'!$CK$18:$CK$1017,$B49,'Daily Log'!$CL$18:$CL$1017),0)","v":0},{"$f":"IFERROR($E49*SUMIF('Daily Log'!$CN$18:$CN$1017,$B49,'Daily Log'!$CO$18:$CO$1017),0)","v":0}]
[null,"08027:Ice Honey",null,"COLD BEVERAGE",1,121,{"$f":"IFERROR($E50*SUMIF('Daily Log'!$B$18:$B$1017,$B50,'Daily Log'!$C$18:$C$1017),0)","v":0},{"$f":"IFERROR($E50*SUMIF('Daily Log'!$E$18:$E$1017,$B50,'Daily Log'!$F$18:$F$1017),0)","v":0},{"$f":"IFERROR($E50*SUMIF('Daily Log'!$H$18:$H$1017,$B50,'Daily Log'!$I$18:$I$1017),0)","v":0},{"$f":"IFERROR($E50*SUMIF('Daily Log'!$K$18:$K$1017,$B50,'Daily Log'!$L$18:$L$1017),0)","v":0},{"$f":"IFERROR($E50*SUMIF('Daily Log'!$N$18:$N$1017,$B50,'Daily Log'!$O$18:$O$1017),0)","v":0},{"$f":"IFERROR($E50*SUMIF('Daily Log'!$Q$18:$Q$1017,$B50,'Daily Log'!$R$18:$R$1017),0)","v":0},{"$f":"IFERROR($E50*SUMIF('Daily Log'!$T$18:$T$1017,$B50,'Daily Log'!$U$18:$U$1017),0)","v":11},{"$f":"IFERROR($E50*SUMIF('Daily Log'!$W$18:$W$1017,$B50,'Daily Log'!$X$18:$X$1017),0)","v":7},{"$f":"IFERROR($E50*SUMIF('Daily Log'!$Z$18:$Z$1017,$B50,'Daily Log'!$AA$18:$AA$1017),0)","v":11},{"$f":"IFERROR($E50*SUMIF('Daily Log'!$AC$18:$AC$1017,$B50,'Daily Log'!$AD$18:$AD$1017),0)","v":22},{"$f":"IFERROR($E50*SUMIF('Daily Log'!$AF$18:$AF$1017,$B50,'Daily Log'!$AG$18:$AG$1017),0)","v":26},{"$f":"IFERROR($E50*SUMIF('Daily Log'!$AI$18:$AI$1017,$B50,'Daily Log'!$AJ$18:$AJ$1017),0)","v":10},{"$f":"IFERROR($E50*SUMIF('Daily Log'!$AL$18:$AL$1017,$B50,'Daily Log'!$AM$18:$AM$1017),0)","v":34},{"$f":"IFERROR($E50*SUMIF('Daily Log'!$AO$18:$AO$1017,$B50,'Daily Log'!$AP$18:$AP$1017),0)","v":0},{"$f":"IFERROR($E50*SUMIF('Daily Log'!$AR$18:$AR$1017,$B50,'Daily Log'!$AS$18:$AS$1017),0)","v":0},{"$f":"IFERROR($E50*SUMIF('Daily Log'!$AU$18:$AU$1017,$B50,'Daily Log'!$AV$18:$AV$1017),0)","v":0},{"$f":"IFERROR($E50*SUMIF('Daily Log'!$AX$18:$AX$1017,$B50,'Daily Log'!$AY$18:$AY$1017),0)","v":0},{"$f":"IFERROR($E50*SUMIF('Daily Log'!$BA$18:$BA$1017,$B50,'Daily Log'!$BB$18:$BB$1017),0)","v":0},{"$f":"IFERROR($E50*SUMIF('Daily Log'!$BD$18:$BD$1017,$B50,'Daily Log'!$BE$18:$BE$1017),0)","v":0},{"$f":"IFERROR($E50*SUMIF('Daily Log'!$BG$18:$BG$1017,$B50,'Daily Log'!$BH$18:$BH$1017),0)","v":0},{"$f":"IFERROR($E50*SUMIF('Daily Log'!$BJ$18:$BJ$1017,$B50,'Daily Log'!$BK$18:$BK$1017),0)","v":0},{"$f":"IFERROR($E50*SUMIF('Daily Log'!$BM$18:$BM$1017,$B50,'Daily Log'!$BN$18:$BN$1017),0)","v":0},{"$f":"IFERROR($E50*SUMIF('Daily Log'!$BP$18:$BP$1017,$B50,'Daily Log'!$BQ$18:$BQ$1017),0)","v":0},{"$f":"IFERROR($E50*SUMIF('Daily Log'!$BS$18:$BS$1017,$B50,'Daily Log'!$BT$18:$BT$1017),0)","v":0},{"$f":"IFERROR($E50*SUMIF('Daily Log'!$BV$18:$BV$1017,$B50,'Daily Log'!$BW$18:$BW$1017),0)","v":0},{"$f":"IFERROR($E50*SUMIF('Daily Log'!$BY$18:$BY$1017,$B50,'Daily Log'!$BZ$18:$BZ$1017),0)","v":0},{"$f":"IFERROR($E50*SUMIF('Daily Log'!$CB$18:$CB$1017,$B50,'Daily Log'!$CC$18:$CC$1017),0)","v":0},{"$f":"IFERROR($E50*SUMIF('Daily Log'!$CE$18:$CE$1017,$B50,'Daily Log'!$CF$18:$CF$1017),0)","v":0},{"$f":"IFERROR($E50*SUMIF('Daily Log'!$CH$18:$CH$1017,$B50,'Daily Log'!$CI$18:$CI$1017),0)","v":0},{"$f":"IFERROR($E50*SUMIF('Daily Log'!$CK$18:$CK$1017,$B50,'Daily Log'!$CL$18:$CL$1017),0)","v":0},{"$f":"IFERROR($E50*SUMIF('Daily Log'!$CN$18:$CN$1017,$B50,'Daily Log'!$CO$18:$CO$1017),0)","v":0}]
[null,"08029:Ice Honey Lemon",null,"COLD BEVERAGE",1,515,{"$f":"IFERROR($E51*SUMIF('Daily Log'!$B$18:$B$1017,$B51,'Daily Log'!$C$18:$C$1017),0)","v":0},{"$f":"IFERROR($E51*SUMIF('Daily Log'!$E$18:$E$1017,$B51,'Daily Log'!$F$18:$F$1017),0)","v":0},{"$f":"IFERROR($E51*SUMIF('Daily Log'!$H$18:$H$1017,$B51,'Daily Log'!$I$18:$I$1017),0)","v":0},{"$f":"IFERROR($E51*SUMIF('Daily Log'!$K$18:$K$1017,$B51,'Daily Log'!$L$18:$L$1017),0)","v":0},{"$f":"IFERROR($E51*SUMIF('Daily Log'!$N$18:$N$1017,$B51,'Daily Log'!$O$18:$O$1017),0)","v":0},{"$f":"IFERROR($E51*SUMIF('Daily Log'!$Q$18:$Q$1017,$B51,'Daily Log'!$R$18:$R$1017),0)","v":0},{"$f":"IFERROR($E51*SUMIF('Daily Log'!$T$18:$T$1017,$B51,'Daily Log'!$U$18:$U$1017),0)","v":64},{"$f":"IFERROR($E51*SUMIF('Daily Log'!$W$18:$W$1017,$B51,'Daily Log'!$X$18:$X$1017),0)","v":68},{"$f":"IFERROR($E51*SUMIF('Daily Log'!$Z$18:$Z$1017,$B51,'Daily Log'!$AA$18:$AA$1017),0)","v":61},{"$f":"IFERROR($E51*SUMIF('Daily Log'!$AC$18:$AC$1017,$B51,'Daily Log'!$AD$18:$AD$1017),0)","v":88},{"$f":"IFERROR($E51*SUMIF('Daily Log'!$AF$18:$AF$1017,$B51,'Daily Log'!$AG$18:$AG$1017),0)","v":70},{"$f":"IFERROR($E51*SUMIF('Daily Log'!$AI$18:$AI$1017,$B51,'Daily Log'!$AJ$18:$AJ$1017),0)","v":99},{"$f":"IFERROR($E51*SUMIF('Daily Log'!$AL$18:$AL$1017,$B51,'Daily Log'!$AM$18:$AM$1017),0)","v":65},{"$f":"IFERROR($E51*SUMIF('Daily Log'!$AO$18:$AO$1017,$B51,'Daily Log'!$AP$18:$AP$1017),0)","v":0},{"$f":"IFERROR($E51*SUMIF('Daily Log'!$AR$18:$AR$1017,$B51,'Daily Log'!$AS$18:$AS$1017),0)","v":0},{"$f":"IFERROR($E51*SUMIF('Daily Log'!$AU$18:$AU$1017,$B51,'Daily Log'!$AV$18:$AV$1017),0)","v":0},{"$f":"IFERROR($E51*SUMIF('Daily Log'!$AX$18:$AX$1017,$B51,'Daily Log'!$AY$18:$AY$1017),0)","v":0},{"$f":"IFERROR($E51*SUMIF('Daily Log'!$BA$18:$BA$1017,$B51,'Daily Log'!$BB$18:$BB$1017),0)","v":0},{"$f":"IFERROR($E51*SUMIF('Daily Log'!$BD$18:$BD$1017,$B51,'Daily Log'!$BE$18:$BE$1017),0)","v":0},{"$f":"IFERROR($E51*SUMIF('Daily Log'!$BG$18:$BG$1017,$B51,'Daily Log'!$BH$18:$BH$1017),0)","v":0},{"$f":"IFERROR($E51*SUMIF('Daily Log'!$BJ$18:$BJ$1017,$B51,'Daily Log'!$BK$18:$BK$1017),0)","v":0},{"$f":"IFERROR($E51*SUMIF('Daily Log'!$BM$18:$BM$1017,$B51,'Daily Log'!$BN$18:$BN$1017),0)","v":0},{"$f":"IFERROR($E51*SUMIF('Daily Log'!$BP$18:$BP$1017,$B51,'Daily Log'!$BQ$18:$BQ$1017),0)","v":0},{"$f":"IFERROR($E51*SUMIF('Daily Log'!$BS$18:$BS$1017,$B51,'Daily Log'!$BT$18:$BT$1017),0)","v":0},{"$f":"IFERROR($E51*SUMIF('Daily Log'!$BV$18:$BV$1017,$B51,'Daily Log'!$BW$18:$BW$1017),0)","v":0},{"$f":"IFERROR($E51*SUMIF('Daily Log'!$BY$18:$BY$1017,$B51,'Daily Log'!$BZ$18:$BZ$1017),0)","v":0},{"$f":"IFERROR($E51*SUMIF('Daily Log'!$CB$18:$CB$1017,$B51,'Daily Log'!$CC$18:$CC$1017),0)","v":0},{"$f":"IFERROR($E51*SUMIF('Daily Log'!$CE$18:$CE$1017,$B51,'Daily Log'!$CF$18:$CF$1017),0)","v":0},{"$f":"IFERROR($E51*SUMIF('Daily Log'!$CH$18:$CH$1017,$B51,'Daily Log'!$CI$18:$CI$1017),0)","v":0},{"$f":"IFERROR($E51*SUMIF('Daily Log'!$CK$18:$CK$1017,$B51,'Daily Log'!$CL$18:$CL$1017),0)","v":0},{"$f":"IFERROR($E51*SUMIF('Daily Log'!$CN$18:$CN$1017,$B51,'Daily Log'!$CO$18:$CO$1017),0)","v":0}]
[null,"08031:Ice Jasmine Green Tea",null,"COLD BEVERAGE",1,206,{"$f":"IFERROR($E52*SUMIF('Daily Log'!$B$18:$B$1017,$B52,'Daily Log'!$C$18:$C$1017),0)","v":0},{"$f":"IFERROR($E52*SUMIF('Daily Log'!$E$18:$E$1017,$B52,'Daily Log'!$F$18:$F$1017),0)","v":0},{"$f":"IFERROR($E52*SUMIF('Daily Log'!$H$18:$H$1017,$B52,'Daily Log'!$I$18:$I$1017),0)","v":0},{"$f":"IFERROR($E52*SUMIF('Daily Log'!$K$18:$K$1017,$B52,'Daily Log'!$L$18:$L$1017),0)","v":0},{"$f":"IFERROR($E52*SUMIF('Daily Log'!$N$18:$N$1017,$B52,'Daily Log'!$O$18:$O$1017),0)","v":0},{"$f":"IFERROR($E52*SUMIF('Daily Log'!$Q$18:$Q$1017,$B52,'Daily Log'!$R$18:$R$1017),0)","v":0},{"$f":"IFERROR($E52*SUMIF('Daily Log'!$T$18:$T$1017,$B52,'Daily Log'!$U$18:$U$1017),0)","v":28},{"$f":"IFERROR($E52*SUMIF('Daily Log'!$W$18:$W$1017,$B52,'Daily Log'!$X$18:$X$1017),0)","v":35},{"$f":"IFERROR($E52*SUMIF('Daily Log'!$Z$18:$Z$1017,$B52,'Daily Log'!$AA$18:$AA$1017),0)","v":19},{"$f":"IFERROR($E52*SUMIF('Daily Log'!$AC$18:$AC$1017,$B52,'Daily Log'!$AD$18:$AD$1017),0)","v":33},{"$f":"IFERROR($E52*SUMIF('Daily Log'!$AF$18:$AF$1017,$B52,'Daily Log'!$AG$18:$AG$1017),0)","v":38},{"$f":"IFERROR($E52*SUMIF('Daily Log'!$AI$18:$AI$1017,$B52,'Daily Log'!$AJ$18:$AJ$1017),0)","v":24},{"$f":"IFERROR($E52*SUMIF('Daily Log'!$AL$18:$AL$1017,$B52,'Daily Log'!$AM$18:$AM$1017),0)","v":29},{"$f":"IFERROR($E52*SUMIF('Daily Log'!$AO$18:$AO$1017,$B52,'Daily Log'!$AP$18:$AP$1017),0)","v":0},{"$f":"IFERROR($E52*SUMIF('Daily Log'!$AR$18:$AR$1017,$B52,'Daily Log'!$AS$18:$AS$1017),0)","v":0},{"$f":"IFERROR($E52*SUMIF('Daily Log'!$AU$18:$AU$1017,$B52,'Daily Log'!$AV$18:$AV$1017),0)","v":0},{"$f":"IFERROR($E52*SUMIF('Daily Log'!$AX$18:$AX$1017,$B52,'Daily Log'!$AY$18:$AY$1017),0)","v":0},{"$f":"IFERROR($E52*SUMIF('Daily Log'!$BA$18:$BA$1017,$B52,'Daily Log'!$BB$18:$BB$1017),0)","v":0},{"$f":"IFERROR($E52*SUMIF('Daily Log'!$BD$18:$BD$1017,$B52,'Daily Log'!$BE$18:$BE$1017),0)","v":0},{"$f":"IFERROR($E52*SUMIF('Daily Log'!$BG$18:$BG$1017,$B52,'Daily Log'!$BH$18:$BH$1017),0)","v":0},{"$f":"IFERROR($E52*SUMIF('Daily Log'!$BJ$18:$BJ$1017,$B52,'Daily Log'!$BK$18:$BK$1017),0)","v":0},{"$f":"IFERROR($E52*SUMIF('Daily Log'!$BM$18:$BM$1017,$B52,'Daily Log'!$BN$18:$BN$1017),0)","v":0},{"$f":"IFERROR($E52*SUMIF('Daily Log'!$BP$18:$BP$1017,$B52,'Daily Log'!$BQ$18:$BQ$1017),0)","v":0},{"$f":"IFERROR($E52*SUMIF('Daily Log'!$BS$18:$BS$1017,$B52,'Daily Log'!$BT$18:$BT$1017),0)","v":0},{"$f":"IFERROR($E52*SUMIF('Daily Log'!$BV$18:$BV$1017,$B52,'Daily Log'!$BW$18:$BW$1017),0)","v":0},{"$f":"IFERROR($E52*SUMIF('Daily Log'!$BY$18:$BY$1017,$B52,'Daily Log'!$BZ$18:$BZ$1017),0)","v":0},{"$f":"IFERROR($E52*SUMIF('Daily Log'!$CB$18:$CB$1017,$B52,'Daily Log'!$CC$18:$CC$1017),0)","v":0},{"$f":"IFERROR($E52*SUMIF('Daily Log'!$CE$18:$CE$1017,$B52,'Daily Log'!$CF$18:$CF$1017),0)","v":0},{"$f":"IFERROR($E52*SUMIF('Daily Log'!$CH$18:$CH$1017,$B52,'Daily Log'!$CI$18:$CI$1017),0)","v":0},{"$f":"IFERROR($E52*SUMIF('Daily Log'!$CK$18:$CK$1017,$B52,'Daily Log'!$CL$18:$CL$1017),0)","v":0},{"$f":"IFERROR($E52*SUMIF('Daily Log'!$CN$18:$CN$1017,$B52,'Daily Log'!$CO$18:$CO$1017),0)","v":0}]
[null,"08033:Ice Honey Green Tea",null,"COLD BEVERAGE",1,627,{"$f":"IFERROR($E53*SUMIF('Daily Log'!$B$18:$B$1017,$B53,'Daily Log'!$C$18:$C$1017),0)","v":0},{"$f":"IFERROR($E53*SUMIF('Daily Log'!$E$18:$E$1017,$B53,'Daily Log'!$F$18:$F$1017),0)","v":0},{"$f":"IFERROR($E53*SUMIF('Daily Log'!$H$18:$H$1017,$B53,'Daily Log'!$I$18:$I$1017),0)","v":0},{"$f":"IFERROR($E53*SUMIF('Daily Log'!$K$18:$K$1017,$B53,'Daily Log'!$L$18:$L$1017),0)","v":0},{"$f":"IFERROR($E53*SUMIF('Daily Log'!$N$18:$N$1017,$B53,'Daily Log'!$O$18:$O$1017),0)","v":0},{"$f":"IFERROR($E53*SUMIF('Daily Log'!$Q$18:$Q$1017,$B53,'Daily Log'!$R$18:$R$1017),0)","v":0},{"$f":"IFERROR($E53*SUMIF('Daily Log'!$T$18:$T$1017,$B53,'Daily Log'!$U$18:$U$1017),0)","v":60},{"$f":"IFERROR($E53*SUMIF('Daily Log'!$W$18:$W$1017,$B53,'Daily Log'!$X$18:$X$1017),0)","v":84},{"$f":"IFERROR($E53*SUMIF('Daily Log'!$Z$18:$Z$1017,$B53,'Daily Log'!$AA$18:$AA$1017),0)","v":90},{"$f":"IFERROR($E53*SUMIF('Daily Log'!$AC$18:$AC$1017,$B53,'Daily Log'!$AD$18:$AD$1017),0)","v":67},{"$f":"IFERROR($E53*SUMIF('Daily Log'!$AF$18:$AF$1017,$B53,'Daily Log'!$AG$18:$AG$1017),0)","v":106},{"$f":"IFERROR($E53*SUMIF('Daily Log'!$AI$18:$AI$1017,$B53,'Daily Log'!$AJ$18:$AJ$1017),0)","v":93},{"$f":"IFERROR($E53*SUMIF('Daily Log'!$AL$18:$AL$1017,$B53,'Daily Log'!$AM$18:$AM$1017),0)","v":127},{"$f":"IFERROR($E53*SUMIF('Daily Log'!$AO$18:$AO$1017,$B53,'Daily Log'!$AP$18:$AP$1017),0)","v":0},{"$f":"IFERROR($E53*SUMIF('Daily Log'!$AR$18:$AR$1017,$B53,'Daily Log'!$AS$18:$AS$1017),0)","v":0},{"$f":"IFERROR($E53*SUMIF('Daily Log'!$AU$18:$AU$1017,$B53,'Daily Log'!$AV$18:$AV$1017),0)","v":0},{"$f":"IFERROR($E53*SUMIF('Daily Log'!$AX$18:$AX$1017,$B53,'Daily Log'!$AY$18:$AY$1017),0)","v":0},{"$f":"IFERROR($E53*SUMIF('Daily Log'!$BA$18:$BA$1017,$B53,'Daily Log'!$BB$18:$BB$1017),0)","v":0},{"$f":"IFERROR($E53*SUMIF('Daily Log'!$BD$18:$BD$1017,$B53,'Daily Log'!$BE$18:$BE$1017),0)","v":0},{"$f":"IFERROR($E53*SUMIF('Daily Log'!$BG$18:$BG$1017,$B53,'Daily Log'!$BH$18:$BH$1017),0)","v":0},{"$f":"IFERROR($E53*SUMIF('Daily Log'!$BJ$18:$BJ$1017,$B53,'Daily Log'!$BK$18:$BK$1017),0)","v":0},{"$f":"IFERROR($E53*SUMIF('Daily Log'!$BM$18:$BM$1017,$B53,'Daily Log'!$BN$18:$BN$1017),0)","v":0},{"$f":"IFERROR($E53*SUMIF('Daily Log'!$BP$18:$BP$1017,$B53,'Daily Log'!$BQ$18:$BQ$1017),0)","v":0},{"$f":"IFERROR($E53*SUMIF('Daily Log'!$BS$18:$BS$1017,$B53,'Daily Log'!$BT$18:$BT$1017),0)","v":0},{"$f":"IFERROR($E53*SUMIF('Daily Log'!$BV$18:$BV$1017,$B53,'Daily Log'!$BW$18:$BW$1017),0)","v":0},{"$f":"IFERROR($E53*SUMIF('Daily Log'!$BY$18:$BY$1017,$B53,'Daily Log'!$BZ$18:$BZ$1017),0)","v":0},{"$f":"IFERROR($E53*SUMIF('Daily Log'!$CB$18:$CB$1017,$B53,'Daily Log'!$CC$18:$CC$1017),0)","v":0},{"$f":"IFERROR($E53*SUMIF('Daily Log'!$CE$18:$CE$1017,$B53,'Daily Log'!$CF$18:$CF$1017),0)","v":0},{"$f":"IFERROR($E53*SUMIF('Daily Log'!$CH$18:$CH$1017,$B53,'Daily Log'!$CI$18:$CI$1017),0)","v":0},{"$f":"IFERROR($E53*SUMIF('Daily Log'!$CK$18:$CK$1017,$B53,'Daily Log'!$CL$18:$CL$1017),0)","v":0},{"$f":"IFERROR($E53*SUMIF('Daily Log'!$CN$18:$CN$1017,$B53,'Daily Log'!$CO$18:$CO$1017),0)","v":0}]
[null,"09005:Passion Fruit Juice",null,"COLD BEVERAGE",1,0,{"$f":"IFERROR($E54*SUMIF('Daily Log'!$B$18:$B$1017,$B54,'Daily Log'!$C$18:$C$1017),0)","v":0},{"$f":"IFERROR($E54*SUMIF('Daily Log'!$E$18:$E$1017,$B54,'Daily Log'!$F$18:$F$1017),0)","v":0},{"$f":"IFERROR($E54*SUMIF('Daily Log'!$H$18:$H$1017,$B54,'Daily Log'!$I$18:$I$1017),0)","v":0},{"$f":"IFERROR($E54*SUMIF('Daily Log'!$K$18:$K$1017,$B54,'Daily Log'!$L$18:$L$1017),0)","v":0},{"$f":"IFERROR($E54*SUMIF('Daily Log'!$N$18:$N$1017,$B54,'Daily Log'!$O$18:$O$1017),0)","v":0},{"$f":"IFERROR($E54*SUMIF('Daily Log'!$Q$18:$Q$1017,$B54,'Daily Log'!$R$18:$R$1017),0)","v":0},{"$f":"IFERROR($E54*SUMIF('Daily Log'!$T$18:$T$1017,$B54,'Daily Log'!$U$18:$U$1017),0)","v":0},{"$f":"IFERROR($E54*SUMIF('Daily Log'!$W$18:$W$1017,$B54,'Daily Log'!$X$18:$X$1017),0)","v":0},{"$f":"IFERROR($E54*SUMIF('Daily Log'!$Z$18:$Z$1017,$B54,'Daily Log'!$AA$18:$AA$1017),0)","v":0},{"$f":"IFERROR($E54*SUMIF('Daily Log'!$AC$18:$AC$1017,$B54,'Daily Log'!$AD$18:$AD$1017),0)","v":0},{"$f":"IFERROR($E54*SUMIF('Daily Log'!$AF$18:$AF$1017,$B54,'Daily Log'!$AG$18:$AG$1017),0)","v":0},{"$f":"IFERROR($E54*SUMIF('Daily Log'!$AI$18:$AI$1017,$B54,'Daily Log'!$AJ$18:$AJ$1017),0)","v":0},{"$f":"IFERROR($E54*SUMIF('Daily Log'!$AL$18:$AL$1017,$B54,'Daily Log'!$AM$18:$AM$1017),0)","v":0},{"$f":"IFERROR($E54*SUMIF('Daily Log'!$AO$18:$AO$1017,$B54,'Daily Log'!$AP$18:$AP$1017),0)","v":0},{"$f":"IFERROR($E54*SUMIF('Daily Log'!$AR$18:$AR$1017,$B54,'Daily Log'!$AS$18:$AS$1017),0)","v":0},{"$f":"IFERROR($E54*SUMIF('Daily Log'!$AU$18:$AU$1017,$B54,'Daily Log'!$AV$18:$AV$1017),0)","v":0},{"$f":"IFERROR($E54*SUMIF('Daily Log'!$AX$18:$AX$1017,$B54,'Daily Log'!$AY$18:$AY$1017),0)","v":0},{"$f":"IFERROR($E54*SUMIF('Daily Log'!$BA$18:$BA$1017,$B54,'Daily Log'!$BB$18:$BB$1017),0)","v":0},{"$f":"IFERROR($E54*SUMIF('Daily Log'!$BD$18:$BD$1017,$B54,'Daily Log'!$BE$18:$BE$1017),0)","v":0},{"$f":"IFERROR($E54*SUMIF('Daily Log'!$BG$18:$BG$1017,$B54,'Daily Log'!$BH$18:$BH$1017),0)","v":0},{"$f":"IFERROR($E54*SUMIF('Daily Log'!$BJ$18:$BJ$1017,$B54,'Daily Log'!$BK$18:$BK$1017),0)","v":0},{"$f":"IFERROR($E54*SUMIF('Daily Log'!$BM$18:$BM$1017,$B54,'Daily Log'!$BN$18:$BN$1017),0)","v":0},{"$f":"IFERROR($E54*SUMIF('Daily Log'!$BP$18:$BP$1017,$B54,'Daily Log'!$BQ$18:$BQ$1017),0)","v":0},{"$f":"IFERROR($E54*SUMIF('Daily Log'!$BS$18:$BS$1017,$B54,'Daily Log'!$BT$18:$BT$1017),0)","v":0},{"$f":"IFERROR($E54*SUMIF('Daily Log'!$BV$18:$BV$1017,$B54,'Daily Log'!$BW$18:$BW$1017),0)","v":0},{"$f":"IFERROR($E54*SUMIF('Daily Log'!$BY$18:$BY$1017,$B54,'Daily Log'!$BZ$18:$BZ$1017),0)","v":0},{"$f":"IFERROR($E54*SUMIF('Daily Log'!$CB$18:$CB$1017,$B54,'Daily Log'!$CC$18:$CC$1017),0)","v":0},{"$f":"IFERROR($E54*SUMIF('Daily Log'!$CE$18:$CE$1017,$B54,'Daily Log'!$CF$18:$CF$1017),0)","v":0},{"$f":"IFERROR($E54*SUMIF('Daily Log'!$CH$18:$CH$1017,$B54,'Daily Log'!$CI$18:$CI$1017),0)","v":0},{"$f":"IFERROR($E54*SUMIF('Daily Log'!$CK$18:$CK$1017,$B54,'Daily Log'!$CL$18:$CL$1017),0)","v":0},{"$f":"IFERROR($E54*SUMIF('Daily Log'!$CN$18:$CN$1017,$B54,'Daily Log'!$CO$18:$CO$1017),0)","v":0}]
[null,"09033:Ice Honey Green Tea",null,"COLD BEVERAGE",1,2,{"$f":"IFERROR($E55*SUMIF('Daily Log'!$B$18:$B$1017,$B55,'Daily Log'!$C$18:$C$1017),0)","v":0},{"$f":"IFERROR($E55*SUMIF('Daily Log'!$E$18:$E$1017,$B55,'Daily Log'!$F$18:$F$1017),0)","v":0},{"$f":"IFERROR($E55*SUMIF('Daily Log'!$H$18:$H$1017,$B55,'Daily Log'!$I$18:$I$1017),0)","v":0},{"$f":"IFERROR($E55*SUMIF('Daily Log'!$K$18:$K$1017,$B55,'Daily Log'!$L$18:$L$1017),0)","v":0},{"$f":"IFERROR($E55*SUMIF('Daily Log'!$N$18:$N$1017,$B55,'Daily Log'!$O$18:$O$1017),0)","v":0},{"$f":"IFERROR($E55*SUMIF('Daily Log'!$Q$18:$Q$1017,$B55,'Daily Log'!$R$18:$R$1017),0)","v":0},{"$f":"IFERROR($E55*SUMIF('Daily Log'!$T$18:$T$1017,$B55,'Daily Log'!$U$18:$U$1017),0)","v":0},{"$f":"IFERROR($E55*SUMIF('Daily Log'!$W$18:$W$1017,$B55,'Daily Log'!$X$18:$X$1017),0)","v":0},{"$f":"IFERROR($E55*SUMIF('Daily Log'!$Z$18:$Z$1017,$B55,'Daily Log'!$AA$18:$AA$1017),0)","v":0},{"$f":"IFERROR($E55*SUMIF('Daily Log'!$AC$18:$AC$1017,$B55,'Daily Log'!$AD$18:$AD$1017),0)","v":0},{"$f":"IFERROR($E55*SUMIF('Daily Log'!$AF$18:$AF$1017,$B55,'Daily Log'!$AG$18:$AG$1017),0)","v":1},{"$f":"IFERROR($E55*SUMIF('Daily Log'!$AI$18:$AI$1017,$B55,'Daily Log'!$AJ$18:$AJ$1017),0)","v":0},{"$f":"IFERROR($E55*SUMIF('Daily Log'!$AL$18:$AL$1017,$B55,'Daily Log'!$AM$18:$AM$1017),0)","v":1},{"$f":"IFERROR($E55*SUMIF('Daily Log'!$AO$18:$AO$1017,$B55,'Daily Log'!$AP$18:$AP$1017),0)","v":0},{"$f":"IFERROR($E55*SUMIF('Daily Log'!$AR$18:$AR$1017,$B55,'Daily Log'!$AS$18:$AS$1017),0)","v":0},{"$f":"IFERROR($E55*SUMIF('Daily Log'!$AU$18:$AU$1017,$B55,'Daily Log'!$AV$18:$AV$1017),0)","v":0},{"$f":"IFERROR($E55*SUMIF('Daily Log'!$AX$18:$AX$1017,$B55,'Daily Log'!$AY$18:$AY$1017),0)","v":0},{"$f":"IFERROR($E55*SUMIF('Daily Log'!$BA$18:$BA$1017,$B55,'Daily Log'!$BB$18:$BB$1017),0)","v":0},{"$f":"IFERROR($E55*SUMIF('Daily Log'!$BD$18:$BD$1017,$B55,'Daily Log'!$BE$18:$BE$1017),0)","v":0},{"$f":"IFERROR($E55*SUMIF('Daily Log'!$BG$18:$BG$1017,$B55,'Daily Log'!$BH$18:$BH$1017),0)","v":0},{"$f":"IFERROR($E55*SUMIF('Daily Log'!$BJ$18:$BJ$1017,$B55,'Daily Log'!$BK$18:$BK$1017),0)","v":0},{"$f":"IFERROR($E55*SUMIF('Daily Log'!$BM$18:$BM$1017,$B55,'Daily Log'!$BN$18:$BN$1017),0)","v":0},{"$f":"IFERROR($E55*SUMIF('Daily Log'!$BP$18:$BP$1017,$B55,'Daily Log'!$BQ$18:$BQ$1017),0)","v":0},{"$f":"IFERROR($E55*SUMIF('Daily Log'!$BS$18:$BS$1017,$B55,'Daily Log'!$BT$18:$BT$1017),0)","v":0},{"$f":"IFERROR($E55*SUMIF('Daily Log'!$BV$18:$BV$1017,$B55,'Daily Log'!$BW$18:$BW$1017),0)","v":0},{"$f":"IFERROR($E55*SUMIF('Daily Log'!$BY$18:$BY$1017,$B55,'Daily Log'!$BZ$18:$BZ$1017),0)","v":0},{"$f":"IFERROR($E55*SUMIF('Daily Log'!$CB$18:$CB$1017,$B55,'Daily Log'!$CC$18:$CC$1017),0)","v":0},{"$f":"IFERROR($E55*SUMIF('Daily Log'!$CE$18:$CE$1017,$B55,'Daily Log'!$CF$18:$CF$1017),0)","v":0},{"$f":"IFERROR($E55*SUMIF('Daily Log'!$CH$18:$CH$1017,$B55,'Daily Log'!$CI$18:$CI$1017),0)","v":0},{"$f":"IFERROR($E55*SUMIF('Daily Log'!$CK$18:$CK$1017,$B55,'Daily Log'!$CL$18:$CL$1017),0)","v":0},{"$f":"IFERROR($E55*SUMIF('Daily Log'!$CN$18:$CN$1017,$B55,'Daily Log'!$CO$18:$CO$1017),0)","v":0}]
[null,"09034:Hot Honey Green Tea",null,"COLD BEVERAGE",1,1,{"$f":"IFERROR($E56*SUMIF('Daily Log'!$B$18:$B$1017,$B56,'Daily Log'!$C$18:$C$1017),0)","v":0},{"$f":"IFERROR($E56*SUMIF('Daily Log'!$E$18:$E$1017,$B56,'Daily Log'!$F$18:$F$1017),0)","v":0},{"$f":"IFERROR($E56*SUMIF('Daily Log'!$H$18:$H$1017,$B56,'Daily Log'!$I$18:$I$1017),0)","v":0},{"$f":"IFERROR($E56*SUMIF('Daily Log'!$K$18:$K$1017,$B56,'Daily Log'!$L$18:$L$1017),0)","v":0},{"$f":"IFERROR($E56*SUMIF('Daily Log'!$N$18:$N$1017,$B56,'Daily Log'!$O$18:$O$1017),0)","v":0},{"$f":"IFERROR($E56*SUMIF('Daily Log'!$Q$18:$Q$1017,$B56,'Daily Log'!$R$18:$R$1017),0)","v":0},{"$f":"IFERROR($E56*SUMIF('Daily Log'!$T$18:$T$1017,$B56,'Daily Log'!$U$18:$U$1017),0)","v":0},{"$f":"IFERROR($E56*SUMIF('Daily Log'!$W$18:$W$1017,$B56,'Daily Log'!$X$18:$X$1017),0)","v":0},{"$f":"IFERROR($E56*SUMIF('Daily Log'!$Z$18:$Z$1017,$B56,'Daily Log'!$AA$18:$AA$1017),0)","v":0},{"$f":"IFERROR($E56*SUMIF('Daily Log'!$AC$18:$AC$1017,$B56,'Daily Log'!$AD$18:$AD$1017),0)","v":0},{"$f":"IFERROR($E56*SUMIF('Daily Log'!$AF$18:$AF$1017,$B56,'Daily Log'!$AG$18:$AG$1017),0)","v":0},{"$f":"IFERROR($E56*SUMIF('Daily Log'!$AI$18:$AI$1017,$B56,'Daily Log'!$AJ$18:$AJ$1017),0)","v":1},{"$f":"IFERROR($E56*SUMIF('Daily Log'!$AL$18:$AL$1017,$B56,'Daily Log'!$AM$18:$AM$1017),0)","v":0},{"$f":"IFERROR($E56*SUMIF('Daily Log'!$AO$18:$AO$1017,$B56,'Daily Log'!$AP$18:$AP$1017),0)","v":0},{"$f":"IFERROR($E56*SUMIF('Daily Log'!$AR$18:$AR$1017,$B56,'Daily Log'!$AS$18:$AS$1017),0)","v":0},{"$f":"IFERROR($E56*SUMIF('Daily Log'!$AU$18:$AU$1017,$B56,'Daily Log'!$AV$18:$AV$1017),0)","v":0},{"$f":"IFERROR($E56*SUMIF('Daily Log'!$AX$18:$AX$1017,$B56,'Daily Log'!$AY$18:$AY$1017),0)","v":0},{"$f":"IFERROR($E56*SUMIF('Daily Log'!$BA$18:$BA$1017,$B56,'Daily Log'!$BB$18:$BB$1017),0)","v":0},{"$f":"IFERROR($E56*SUMIF('Daily Log'!$BD$18:$BD$1017,$B56,'Daily Log'!$BE$18:$BE$1017),0)","v":0},{"$f":"IFERROR($E56*SUMIF('Daily Log'!$BG$18:$BG$1017,$B56,'Daily Log'!$BH$18:$BH$1017),0)","v":0},{"$f":"IFERROR($E56*SUMIF('Daily Log'!$BJ$18:$BJ$1017,$B56,'Daily Log'!$BK$18:$BK$1017),0)","v":0},{"$f":"IFERROR($E56*SUMIF('Daily Log'!$BM$18:$BM$1017,$B56,'Daily Log'!$BN$18:$BN$1017),0)","v":0},{"$f":"IFERROR($E56*SUMIF('Daily Log'!$BP$18:$BP$1017,$B56,'Daily Log'!$BQ$18:$BQ$1017),0)","v":0},{"$f":"IFERROR($E56*SUMIF('Daily Log'!$BS$18:$BS$1017,$B56,'Daily Log'!$BT$18:$BT$1017),0)","v":0},{"$f":"IFERROR($E56*SUMIF('Daily Log'!$BV$18:$BV$1017,$B56,'Daily Log'!$BW$18:$BW$1017),0)","v":0},{"$f":"IFERROR($E56*SUMIF('Daily Log'!$BY$18:$BY$1017,$B56,'Daily Log'!$BZ$18:$BZ$1017),0)","v":0},{"$f":"IFERROR($E56*SUMIF('Daily Log'!$CB$18:$CB$1017,$B56,'Daily Log'!$CC$18:$CC$1017),0)","v":0},{"$f":"IFERROR($E56*SUMIF('Daily Log'!$CE$18:$CE$1017,$B56,'Daily Log'!$CF$18:$CF$1017),0)","v":0},{"$f":"IFERROR($E56*SUMIF('Daily Log'!$CH$18:$CH$1017,$B56,'Daily Log'!$CI$18:$CI$1017),0)","v":0},{"$f":"IFERROR($E56*SUMIF('Daily Log'!$CK$18:$CK$1017,$B56,'Daily Log'!$CL$18:$CL$1017),0)","v":0},{"$f":"IFERROR($E56*SUMIF('Daily Log'!$CN$18:$CN$1017,$B56,'Daily Log'!$CO$18:$CO$1017),0)","v":0}]
[null,"09042:Mocha Smoothies",null,"COLD BEVERAGE",1,0,{"$f":"IFERROR($E57*SUMIF('Daily Log'!$B$18:$B$1017,$B57,'Daily Log'!$C$18:$C$1017),0)","v":0},{"$f":"IFERROR($E57*SUMIF('Daily Log'!$E$18:$E$1017,$B57,'Daily Log'!$F$18:$F$1017),0)","v":0},{"$f":"IFERROR($E57*SUMIF('Daily Log'!$H$18:$H$1017,$B57,'Daily Log'!$I$18:$I$1017),0)","v":0},{"$f":"IFERROR($E57*SUMIF('Daily Log'!$K$18:$K$1017,$B57,'Daily Log'!$L$18:$L$1017),0)","v":0},{"$f":"IFERROR($E57*SUMIF('Daily Log'!$N$18:$N$1017,$B57,'Daily Log'!$O$18:$O$1017),0)","v":0},{"$f":"IFERROR($E57*SUMIF('Daily Log'!$Q$18:$Q$1017,$B57,'Daily Log'!$R$18:$R$1017),0)","v":0},{"$f":"IFERROR($E57*SUMIF('Daily Log'!$T$18:$T$1017,$B57,'Daily Log'!$U$18:$U$1017),0)","v":0},{"$f":"IFERROR($E57*SUMIF('Daily Log'!$W$18:$W$1017,$B57,'Daily Log'!$X$18:$X$1017),0)","v":0},{"$f":"IFERROR($E57*SUMIF('Daily Log'!$Z$18:$Z$1017,$B57,'Daily Log'!$AA$18:$AA$1017),0)","v":0},{"$f":"IFERROR($E57*SUMIF('Daily Log'!$AC$18:$AC$1017,$B57,'Daily Log'!$AD$18:$AD$1017),0)","v":0},{"$f":"IFERROR($E57*SUMIF('Daily Log'!$AF$18:$AF$1017,$B57,'Daily Log'!$AG$18:$AG$1017),0)","v":0},{"$f":"IFERROR($E57*SUMIF('Daily Log'!$AI$18:$AI$1017,$B57,'Daily Log'!$AJ$18:$AJ$1017),0)","v":0},{"$f":"IFERROR($E57*SUMIF('Daily Log'!$AL$18:$AL$1017,$B57,'Daily Log'!$AM$18:$AM$1017),0)","v":0},{"$f":"IFERROR($E57*SUMIF('Daily Log'!$AO$18:$AO$1017,$B57,'Daily Log'!$AP$18:$AP$1017),0)","v":0},{"$f":"IFERROR($E57*SUMIF('Daily Log'!$AR$18:$AR$1017,$B57,'Daily Log'!$AS$18:$AS$1017),0)","v":0},{"$f":"IFERROR($E57*SUMIF('Daily Log'!$AU$18:$AU$1017,$B57,'Daily Log'!$AV$18:$AV$1017),0)","v":0},{"$f":"IFERROR($E57*SUMIF('Daily Log'!$AX$18:$AX$1017,$B57,'Daily Log'!$AY$18:$AY$1017),0)","v":0},{"$f":"IFERROR($E57*SUMIF('Daily Log'!$BA$18:$BA$1017,$B57,'Daily Log'!$BB$18:$BB$1017),0)","v":0},{"$f":"IFERROR($E57*SUMIF('Daily Log'!$BD$18:$BD$1017,$B57,'Daily Log'!$BE$18:$BE$1017),0)","v":0},{"$f":"IFERROR($E57*SUMIF('Daily Log'!$BG$18:$BG$1017,$B57,'Daily Log'!$BH$18:$BH$1017),0)","v":0},{"$f":"IFERROR($E57*SUMIF('Daily Log'!$BJ$18:$BJ$1017,$B57,'Daily Log'!$BK$18:$BK$1017),0)","v":0},{"$f":"IFERROR($E57*SUMIF('Daily Log'!$BM$18:$BM$1017,$B57,'Daily Log'!$BN$18:$BN$1017),0)","v":0},{"$f":"IFERROR($E57*SUMIF('Daily Log'!$BP$18:$BP$1017,$B57,'Daily Log'!$BQ$18:$BQ$1017),0)","v":0},{"$f":"IFERROR($E57*SUMIF('Daily Log'!$BS$18:$BS$1017,$B57,'Daily Log'!$BT$18:$BT$1017),0)","v":0},{"$f":"IFERROR($E57*SUMIF('Daily Log'!$BV$18:$BV$1017,$B57,'Daily Log'!$BW$18:$BW$1017),0)","v":0},{"$f":"IFERROR($E57*SUMIF('Daily Log'!$BY$18:$BY$1017,$B57,'Daily Log'!$BZ$18:$BZ$1017),0)","v":0},{"$f":"IFERROR($E57*SUMIF('Daily Log'!$CB$18:$CB$1017,$B57,'Daily Log'!$CC$18:$CC$1017),0)","v":0},{"$f":"IFERROR($E57*SUMIF('Daily Log'!$CE$18:$CE$1017,$B57,'Daily Log'!$CF$18:$CF$1017),0)","v":0},{"$f":"IFERROR($E57*SUMIF('Daily Log'!$CH$18:$CH$1017,$B57,'Daily Log'!$CI$18:$CI$1017),0)","v":0},{"$f":"IFERROR($E57*SUMIF('Daily Log'!$CK$18:$CK$1017,$B57,'Daily Log'!$CL$18:$CL$1017),0)","v":0},{"$f":"IFERROR($E57*SUMIF('Daily Log'!$CN$18:$CN$1017,$B57,'Daily Log'!$CO$18:$CO$1017),0)","v":0}]
[null,"14001:SD-Grape Juice",null,"SD-COLD BEVERAGE",1,25,{"$f":"IFERROR($E58*SUMIF('Daily Log'!$B$18:$B$1017,$B58,'Daily Log'!$C$18:$C$1017),0)","v":0},{"$f":"IFERROR($E58*SUMIF('Daily Log'!$E$18:$E$1017,$B58,'Daily Log'!$F$18:$F$1017),0)","v":0},{"$f":"IFERROR($E58*SUMIF('Daily Log'!$H$18:$H$1017,$B58,'Daily Log'!$I$18:$I$1017),0)","v":0},{"$f":"IFERROR($E58*SUMIF('Daily Log'!$K$18:$K$1017,$B58,'Daily Log'!$L$18:$L$1017),0)","v":0},{"$f":"IFERROR($E58*SUMIF('Daily Log'!$N$18:$N$1017,$B58,'Daily Log'!$O$18:$O$1017),0)","v":0},{"$f":"IFERROR($E58*SUMIF('Daily Log'!$Q$18:$Q$1017,$B58,'Daily Log'!$R$18:$R$1017),0)","v":0},{"$f":"IFERROR($E58*SUMIF('Daily Log'!$T$18:$T$1017,$B58,'Daily Log'!$U$18:$U$1017),0)","v":3},{"$f":"IFERROR($E58*SUMIF('Daily Log'!$W$18:$W$1017,$B58,'Daily Log'!$X$18:$X$1017),0)","v":5},{"$f":"IFERROR($E58*SUMIF('Daily Log'!$Z$18:$Z$1017,$B58,'Daily Log'!$AA$18:$AA$1017),0)","v":3},{"$f":"IFERROR($E58*SUMIF('Daily Log'!$AC$18:$AC$1017,$B58,'Daily Log'!$AD$18:$AD$1017),0)","v":5},{"$f":"IFERROR($E58*SUMIF('Daily Log'!$AF$18:$AF$1017,$B58,'Daily Log'!$AG$18:$AG$1017),0)","v":1},{"$f":"IFERROR($E58*SUMIF('Daily Log'!$AI$18:$AI$1017,$B58,'Daily Log'!$AJ$18:$AJ$1017),0)","v":0},{"$f":"IFERROR($E58*SUMIF('Daily Log'!$AL$18:$AL$1017,$B58,'Daily Log'!$AM$18:$AM$1017),0)","v":8},{"$f":"IFERROR($E58*SUMIF('Daily Log'!$AO$18:$AO$1017,$B58,'Daily Log'!$AP$18:$AP$1017),0)","v":0},{"$f":"IFERROR($E58*SUMIF('Daily Log'!$AR$18:$AR$1017,$B58,'Daily Log'!$AS$18:$AS$1017),0)","v":0},{"$f":"IFERROR($E58*SUMIF('Daily Log'!$AU$18:$AU$1017,$B58,'Daily Log'!$AV$18:$AV$1017),0)","v":0},{"$f":"IFERROR($E58*SUMIF('Daily Log'!$AX$18:$AX$1017,$B58,'Daily Log'!$AY$18:$AY$1017),0)","v":0},{"$f":"IFERROR($E58*SUMIF('Daily Log'!$BA$18:$BA$1017,$B58,'Daily Log'!$BB$18:$BB$1017),0)","v":0},{"$f":"IFERROR($E58*SUMIF('Daily Log'!$BD$18:$BD$1017,$B58,'Daily Log'!$BE$18:$BE$1017),0)","v":0},{"$f":"IFERROR($E58*SUMIF('Daily Log'!$BG$18:$BG$1017,$B58,'Daily Log'!$BH$18:$BH$1017),0)","v":0},{"$f":"IFERROR($E58*SUMIF('Daily Log'!$BJ$18:$BJ$1017,$B58,'Daily Log'!$BK$18:$BK$1017),0)","v":0},{"$f":"IFERROR($E58*SUMIF('Daily Log'!$BM$18:$BM$1017,$B58,'Daily Log'!$BN$18:$BN$1017),0)","v":0},{"$f":"IFERROR($E58*SUMIF('Daily Log'!$BP$18:$BP$1017,$B58,'Daily Log'!$BQ$18:$BQ$1017),0)","v":0},{"$f":"IFERROR($E58*SUMIF('Daily Log'!$BS$18:$BS$1017,$B58,'Daily Log'!$BT$18:$BT$1017),0)","v":0},{"$f":"IFERROR($E58*SUMIF('Daily Log'!$BV$18:$BV$1017,$B58,'Daily Log'!$BW$18:$BW$1017),0)","v":0},{"$f":"IFERROR($E58*SUMIF('Daily Log'!$BY$18:$BY$1017,$B58,'Daily Log'!$BZ$18:$BZ$1017),0)","v":0},{"$f":"IFERROR($E58*SUMIF('Daily Log'!$CB$18:$CB$1017,$B58,'Daily Log'!$CC$18:$CC$1017),0)","v":0},{"$f":"IFERROR($E58*SUMIF('Daily Log'!$CE$18:$CE$1017,$B58,'Daily Log'!$CF$18:$CF$1017),0)","v":0},{"$f":"IFERROR($E58*SUMIF('Daily Log'!$CH$18:$CH$1017,$B58,'Daily Log'!$CI$18:$CI$1017),0)","v":0},{"$f":"IFERROR($E58*SUMIF('Daily Log'!$CK$18:$CK$1017,$B58,'Daily Log'!$CL$18:$CL$1017),0)","v":0},{"$f":"IFERROR($E58*SUMIF('Daily Log'!$CN$18:$CN$1017,$B58,'Daily Log'!$CO$18:$CO$1017),0)","v":0}]
[null,"14003:SD-Green Apple Juice",null,"SD-COLD BEVERAGE",1,18,{"$f":"IFERROR($E59*SUMIF('Daily Log'!$B$18:$B$1017,$B59,'Daily Log'!$C$18:$C$1017),0)","v":0},{"$f":"IFERROR($E59*SUMIF('Daily Log'!$E$18:$E$1017,$B59,'Daily Log'!$F$18:$F$1017),0)","v":0},{"$f":"IFERROR($E59*SUMIF('Daily Log'!$H$18:$H$1017,$B59,'Daily Log'!$I$18:$I$1017),0)","v":0},{"$f":"IFERROR($E59*SUMIF('Daily Log'!$K$18:$K$1017,$B59,'Daily Log'!$L$18:$L$1017),0)","v":0},{"$f":"IFERROR($E59*SUMIF('Daily Log'!$N$18:$N$1017,$B59,'Daily Log'!$O$18:$O$1017),0)","v":0},{"$f":"IFERROR($E59*SUMIF('Daily Log'!$Q$18:$Q$1017,$B59,'Daily Log'!$R$18:$R$1017),0)","v":0},{"$f":"IFERROR($E59*SUMIF('Daily Log'!$T$18:$T$1017,$B59,'Daily Log'!$U$18:$U$1017),0)","v":0},{"$f":"IFERROR($E59*SUMIF('Daily Log'!$W$18:$W$1017,$B59,'Daily Log'!$X$18:$X$1017),0)","v":5},{"$f":"IFERROR($E59*SUMIF('Daily Log'!$Z$18:$Z$1017,$B59,'Daily Log'!$AA$18:$AA$1017),0)","v":2},{"$f":"IFERROR($E59*SUMIF('Daily Log'!$AC$18:$AC$1017,$B59,'Daily Log'!$AD$18:$AD$1017),0)","v":6},{"$f":"IFERROR($E59*SUMIF('Daily Log'!$AF$18:$AF$1017,$B59,'Daily Log'!$AG$18:$AG$1017),0)","v":5},{"$f":"IFERROR($E59*SUMIF('Daily Log'!$AI$18:$AI$1017,$B59,'Daily Log'!$AJ$18:$AJ$1017),0)","v":0},{"$f":"IFERROR($E59*SUMIF('Daily Log'!$AL$18:$AL$1017,$B59,'Daily Log'!$AM$18:$AM$1017),0)","v":0},{"$f":"IFERROR($E59*SUMIF('Daily Log'!$AO$18:$AO$1017,$B59,'Daily Log'!$AP$18:$AP$1017),0)","v":0},{"$f":"IFERROR($E59*SUMIF('Daily Log'!$AR$18:$AR$1017,$B59,'Daily Log'!$AS$18:$AS$1017),0)","v":0},{"$f":"IFERROR($E59*SUMIF('Daily Log'!$AU$18:$AU$1017,$B59,'Daily Log'!$AV$18:$AV$1017),0)","v":0},{"$f":"IFERROR($E59*SUMIF('Daily Log'!$AX$18:$AX$1017,$B59,'Daily Log'!$AY$18:$AY$1017),0)","v":0},{"$f":"IFERROR($E59*SUMIF('Daily Log'!$BA$18:$BA$1017,$B59,'Daily Log'!$BB$18:$BB$1017),0)","v":0},{"$f":"IFERROR($E59*SUMIF('Daily Log'!$BD$18:$BD$1017,$B59,'Daily Log'!$BE$18:$BE$1017),0)","v":0},{"$f":"IFERROR($E59*SUMIF('Daily Log'!$BG$18:$BG$1017,$B59,'Daily Log'!$BH$18:$BH$1017),0)","v":0},{"$f":"IFERROR($E59*SUMIF('Daily Log'!$BJ$18:$BJ$1017,$B59,'Daily Log'!$BK$18:$BK$1017),0)","v":0},{"$f":"IFERROR($E59*SUMIF('Daily Log'!$BM$18:$BM$1017,$B59,'Daily Log'!$BN$18:$BN$1017),0)","v":0},{"$f":"IFERROR($E59*SUMIF('Daily Log'!$BP$18:$BP$1017,$B59,'Daily Log'!$BQ$18:$BQ$1017),0)","v":0},{"$f":"IFERROR($E59*SUMIF('Daily Log'!$BS$18:$BS$1017,$B59,'Daily Log'!$BT$18:$BT$1017),0)","v":0},{"$f":"IFERROR($E59*SUMIF('Daily Log'!$BV$18:$BV$1017,$B59,'Daily Log'!$BW$18:$BW$1017),0)","v":0},{"$f":"IFERROR($E59*SUMIF('Daily Log'!$BY$18:$BY$1017,$B59,'Daily Log'!$BZ$18:$BZ$1017),0)","v":0},{"$f":"IFERROR($E59*SUMIF('Daily Log'!$CB$18:$CB$1017,$B59,'Daily Log'!$CC$18:$CC$1017),0)","v":0},{"$f":"IFERROR($E59*SUMIF('Daily Log'!$CE$18:$CE$1017,$B59,'Daily Log'!$CF$18:$CF$1017),0)","v":0},{"$f":"IFERROR($E59*SUMIF('Daily Log'!$CH$18:$CH$1017,$B59,'Daily Log'!$CI$18:$CI$1017),0)","v":0},{"$f":"IFERROR($E59*SUMIF('Daily Log'!$CK$18:$CK$1017,$B59,'Daily Log'!$CL$18:$CL$1017),0)","v":0},{"$f":"IFERROR($E59*SUMIF('Daily Log'!$CN$18:$CN$1017,$B59,'Daily Log'!$CO$18:$CO$1017),0)","v":0}]
[null,"14025:SD-Ice Lemon Tea",null,"SD-COLD BEVERAGE",1,44,{"$f":"IFERROR($E60*SUMIF('Daily Log'!$B$18:$B$1017,$B60,'Daily Log'!$C$18:$C$1017),0)","v":0},{"$f":"IFERROR($E60*SUMIF('Daily Log'!$E$18:$E$1017,$B60,'Daily Log'!$F$18:$F$1017),0)","v":0},{"$f":"IFERROR($E60*SUMIF('Daily Log'!$H$18:$H$1017,$B60,'Daily Log'!$I$18:$I$1017),0)","v":0},{"$f":"IFERROR($E60*SUMIF('Daily Log'!$K$18:$K$1017,$B60,'Daily Log'!$L$18:$L$1017),0)","v":0},{"$f":"IFERROR($E60*SUMIF('Daily Log'!$N$18:$N$1017,$B60,'Daily Log'!$O$18:$O$1017),0)","v":0},{"$f":"IFERROR($E60*SUMIF('Daily Log'!$Q$18:$Q$1017,$B60,'Daily Log'!$R$18:$R$1017),0)","v":0},{"$f":"IFERROR($E60*SUMIF('Daily Log'!$T$18:$T$1017,$B60,'Daily Log'!$U$18:$U$1017),0)","v":4},{"$f":"IFERROR($E60*SUMIF('Daily Log'!$W$18:$W$1017,$B60,'Daily Log'!$X$18:$X$1017),0)","v":6},{"$f":"IFERROR($E60*SUMIF('Daily Log'!$Z$18:$Z$1017,$B60,'Daily Log'!$AA$18:$AA$1017),0)","v":7},{"$f":"IFERROR($E60*SUMIF('Daily Log'!$AC$18:$AC$1017,$B60,'Daily Log'!$AD$18:$AD$1017),0)","v":12},{"$f":"IFERROR($E60*SUMIF('Daily Log'!$AF$18:$AF$1017,$B60,'Daily Log'!$AG$18:$AG$1017),0)","v":8},{"$f":"IFERROR($E60*SUMIF('Daily Log'!$AI$18:$AI$1017,$B60,'Daily Log'!$AJ$18:$AJ$1017),0)","v":0},{"$f":"IFERROR($E60*SUMIF('Daily Log'!$AL$18:$AL$1017,$B60,'Daily Log'!$AM$18:$AM$1017),0)","v":7},{"$f":"IFERROR($E60*SUMIF('Daily Log'!$AO$18:$AO$1017,$B60,'Daily Log'!$AP$18:$AP$1017),0)","v":0},{"$f":"IFERROR($E60*SUMIF('Daily Log'!$AR$18:$AR$1017,$B60,'Daily Log'!$AS$18:$AS$1017),0)","v":0},{"$f":"IFERROR($E60*SUMIF('Daily Log'!$AU$18:$AU$1017,$B60,'Daily Log'!$AV$18:$AV$1017),0)","v":0},{"$f":"IFERROR($E60*SUMIF('Daily Log'!$AX$18:$AX$1017,$B60,'Daily Log'!$AY$18:$AY$1017),0)","v":0},{"$f":"IFERROR($E60*SUMIF('Daily Log'!$BA$18:$BA$1017,$B60,'Daily Log'!$BB$18:$BB$1017),0)","v":0},{"$f":"IFERROR($E60*SUMIF('Daily Log'!$BD$18:$BD$1017,$B60,'Daily Log'!$BE$18:$BE$1017),0)","v":0},{"$f":"IFERROR($E60*SUMIF('Daily Log'!$BG$18:$BG$1017,$B60,'Daily Log'!$BH$18:$BH$1017),0)","v":0},{"$f":"IFERROR($E60*SUMIF('Daily Log'!$BJ$18:$BJ$1017,$B60,'Daily Log'!$BK$18:$BK$1017),0)","v":0},{"$f":"IFERROR($E60*SUMIF('Daily Log'!$BM$18:$BM$1017,$B60,'Daily Log'!$BN$18:$BN$1017),0)","v":0},{"$f":"IFERROR($E60*SUMIF('Daily Log'!$BP$18:$BP$1017,$B60,'Daily Log'!$BQ$18:$BQ$1017),0)","v":0},{"$f":"IFERROR($E60*SUMIF('Daily Log'!$BS$18:$BS$1017,$B60,'Daily Log'!$BT$18:$BT$1017),0)","v":0},{"$f":"IFERROR($E60*SUMIF('Daily Log'!$BV$18:$BV$1017,$B60,'Daily Log'!$BW$18:$BW$1017),0)","v":0},{"$f":"IFERROR($E60*SUMIF('Daily Log'!$BY$18:$BY$1017,$B60,'Daily Log'!$BZ$18:$BZ$1017),0)","v":0},{"$f":"IFERROR($E60*SUMIF('Daily Log'!$CB$18:$CB$1017,$B60,'Daily Log'!$CC$18:$CC$1017),0)","v":0},{"$f":"IFERROR($E60*SUMIF('Daily Log'!$CE$18:$CE$1017,$B60,'Daily Log'!$CF$18:$CF$1017),0)","v":0},{"$f":"IFERROR($E60*SUMIF('Daily Log'!$CH$18:$CH$1017,$B60,'Daily Log'!$CI$18:$CI$1017),0)","v":0},{"$f":"IFERROR($E60*SUMIF('Daily Log'!$CK$18:$CK$1017,$B60,'Daily Log'!$CL$18:$CL$1017),0)","v":0},{"$f":"IFERROR($E60*SUMIF('Daily Log'!$CN$18:$CN$1017,$B60,'Daily Log'!$CO$18:$CO$1017),0)","v":0}]
[null,"14029:SD-Ice Honey Lemon",null,"SD-COLD BEVERAGE",1,4,{"$f":"IFERROR($E61*SUMIF('Daily Log'!$B$18:$B$1017,$B61,'Daily Log'!$C$18:$C$1017),0)","v":0},{"$f":"IFERROR($E61*SUMIF('Daily Log'!$E$18:$E$1017,$B61,'Daily Log'!$F$18:$F$1017),0)","v":0},{"$f":"IFERROR($E61*SUMIF('Daily Log'!$H$18:$H$1017,$B61,'Daily Log'!$I$18:$I$1017),0)","v":0},{"$f":"IFERROR($E61*SUMIF('Daily Log'!$K$18:$K$1017,$B61,'Daily Log'!$L$18:$L$1017),0)","v":0},{"$f":"IFERROR($E61*SUMIF('Daily Log'!$N$18:$N$1017,$B61,'Daily Log'!$O$18:$O$1017),0)","v":0},{"$f":"IFERROR($E61*SUMIF('Daily Log'!$Q$18:$Q$1017,$B61,'Daily Log'!$R$18:$R$1017),0)","v":0},{"$f":"IFERROR($E61*SUMIF('Daily Log'!$T$18:$T$1017,$B61,'Daily Log'!$U$18:$U$1017),0)","v":0},{"$f":"IFERROR($E61*SUMIF('Daily Log'!$W$18:$W$1017,$B61,'Daily Log'!$X$18:$X$1017),0)","v":2},{"$f":"IFERROR($E61*SUMIF('Daily Log'!$Z$18:$Z$1017,$B61,'Daily Log'!$AA$18:$AA$1017),0)","v":1},{"$f":"IFERROR($E61*SUMIF('Daily Log'!$AC$18:$AC$1017,$B61,'Daily Log'!$AD$18:$AD$1017),0)","v":0},{"$f":"IFERROR($E61*SUMIF('Daily Log'!$AF$18:$AF$1017,$B61,'Daily Log'!$AG$18:$AG$1017),0)","v":0},{"$f":"IFERROR($E61*SUMIF('Daily Log'!$AI$18:$AI$1017,$B61,'Daily Log'!$AJ$18:$AJ$1017),0)","v":0},{"$f":"IFERROR($E61*SUMIF('Daily Log'!$AL$18:$AL$1017,$B61,'Daily Log'!$AM$18:$AM$1017),0)","v":1},{"$f":"IFERROR($E61*SUMIF('Daily Log'!$AO$18:$AO$1017,$B61,'Daily Log'!$AP$18:$AP$1017),0)","v":0},{"$f":"IFERROR($E61*SUMIF('Daily Log'!$AR$18:$AR$1017,$B61,'Daily Log'!$AS$18:$AS$1017),0)","v":0},{"$f":"IFERROR($E61*SUMIF('Daily Log'!$AU$18:$AU$1017,$B61,'Daily Log'!$AV$18:$AV$1017),0)","v":0},{"$f":"IFERROR($E61*SUMIF('Daily Log'!$AX$18:$AX$1017,$B61,'Daily Log'!$AY$18:$AY$1017),0)","v":0},{"$f":"IFERROR($E61*SUMIF('Daily Log'!$BA$18:$BA$1017,$B61,'Daily Log'!$BB$18:$BB$1017),0)","v":0},{"$f":"IFERROR($E61*SUMIF('Daily Log'!$BD$18:$BD$1017,$B61,'Daily Log'!$BE$18:$BE$1017),0)","v":0},{"$f":"IFERROR($E61*SUMIF('Daily Log'!$BG$18:$BG$1017,$B61,'Daily Log'!$BH$18:$BH$1017),0)","v":0},{"$f":"IFERROR($E61*SUMIF('Daily Log'!$BJ$18:$BJ$1017,$B61,'Daily Log'!$BK$18:$BK$1017),0)","v":0},{"$f":"IFERROR($E61*SUMIF('Daily Log'!$BM$18:$BM$1017,$B61,'Daily Log'!$BN$18:$BN$1017),0)","v":0},{"$f":"IFERROR($E61*SUMIF('Daily Log'!$BP$18:$BP$1017,$B61,'Daily Log'!$BQ$18:$BQ$1017),0)","v":0},{"$f":"IFERROR($E61*SUMIF('Daily Log'!$BS$18:$BS$1017,$B61,'Daily Log'!$BT$18:$BT$1017),0)","v":0},{"$f":"IFERROR($E61*SUMIF('Daily Log'!$BV$18:$BV$1017,$B61,'Daily Log'!$BW$18:$BW$1017),0)","v":0},{"$f":"IFERROR($E61*SUMIF('Daily Log'!$BY$18:$BY$1017,$B61,'Daily Log'!$BZ$18:$BZ$1017),0)","v":0},{"$f":"IFERROR($E61*SUMIF('Daily Log'!$CB$18:$CB$1017,$B61,'Daily Log'!$CC$18:$CC$1017),0)","v":0},{"$f":"IFERROR($E61*SUMIF('Daily Log'!$CE$18:$CE$1017,$B61,'Daily Log'!$CF$18:$CF$1017),0)","v":0},{"$f":"IFERROR($E61*SUMIF('Daily Log'!$CH$18:$CH$1017,$B61,'Daily Log'!$CI$18:$CI$1017),0)","v":0},{"$f":"IFERROR($E61*SUMIF('Daily Log'!$CK$18:$CK$1017,$B61,'Daily Log'!$CL$18:$CL$1017),0)","v":0},{"$f":"IFERROR($E61*SUMIF('Daily Log'!$CN$18:$CN$1017,$B61,'Daily Log'!$CO$18:$CO$1017),0)","v":0}]
[null,"14031:SD-Ice Jasmine Green Tea",null,"SD-COLD BEVERAGE",1,{"$f":"SUM($G62:$AK62)","v":46},{"$f":"IFERROR($E62*SUMIF('Daily Log'!$B$18:$B$1017,$B62,'Daily Log'!$C$18:$C$1017),0)","v":0},{"$f":"IFERROR($E62*SUMIF('Daily Log'!$E$18:$E$1017,$B62,'Daily Log'!$F$18:$F$1017),0)","v":0},{"$f":"IFERROR($E62*SUMIF('Daily Log'!$H$18:$H$1017,$B62,'Daily Log'!$I$18:$I$1017),0)","v":0},{"$f":"IFERROR($E62*SUMIF('Daily Log'!$K$18:$K$1017,$B62,'Daily Log'!$L$18:$L$1017),0)","v":0},{"$f":"IFERROR($E62*SUMIF('Daily Log'!$N$18:$N$1017,$B62,'Daily Log'!$O$18:$O$1017),0)","v":0},{"$f":"IFERROR($E62*SUMIF('Daily Log'!$Q$18:$Q$1017,$B62,'Daily Log'!$R$18:$R$1017),0)","v":0},{"$f":"IFERROR($E62*SUMIF('Daily Log'!$T$18:$T$1017,$B62,'Daily Log'!$U$18:$U$1017),0)","v":2},{"$f":"IFERROR($E62*SUMIF('Daily Log'!$W$18:$W$1017,$B62,'Daily Log'!$X$18:$X$1017),0)","v":7},{"$f":"IFERROR($E62*SUMIF('Daily Log'!$Z$18:$Z$1017,$B62,'Daily Log'!$AA$18:$AA$1017),0)","v":6},{"$f":"IFERROR($E62*SUMIF('Daily Log'!$AC$18:$AC$1017,$B62,'Daily Log'!$AD$18:$AD$1017),0)","v":7},{"$f":"IFERROR($E62*SUMIF('Daily Log'!$AF$18:$AF$1017,$B62,'Daily Log'!$AG$18:$AG$1017),0)","v":5},{"$f":"IFERROR($E62*SUMIF('Daily Log'!$AI$18:$AI$1017,$B62,'Daily Log'!$AJ$18:$AJ$1017),0)","v":0},{"$f":"IFERROR($E62*SUMIF('Daily Log'!$AL$18:$AL$1017,$B62,'Daily Log'!$AM$18:$AM$1017),0)","v":19},{"$f":"IFERROR($E62*SUMIF('Daily Log'!$AO$18:$AO$1017,$B62,'Daily Log'!$AP$18:$AP$1017),0)","v":0},{"$f":"IFERROR($E62*SUMIF('Daily Log'!$AR$18:$AR$1017,$B62,'Daily Log'!$AS$18:$AS$1017),0)","v":0},{"$f":"IFERROR($E62*SUMIF('Daily Log'!$AU$18:$AU$1017,$B62,'Daily Log'!$AV$18:$AV$1017),0)","v":0},{"$f":"IFERROR($E62*SUMIF('Daily Log'!$AX$18:$AX$1017,$B62,'Daily Log'!$AY$18:$AY$1017),0)","v":0},{"$f":"IFERROR($E62*SUMIF('Daily Log'!$BA$18:$BA$1017,$B62,'Daily Log'!$BB$18:$BB$1017),0)","v":0},{"$f":"IFERROR($E62*SUMIF('Daily Log'!$BD$18:$BD$1017,$B62,'Daily Log'!$BE$18:$BE$1017),0)","v":0},{"$f":"IFERROR($E62*SUMIF('Daily Log'!$BG$18:$BG$1017,$B62,'Daily Log'!$BH$18:$BH$1017),0)","v":0},{"$f":"IFERROR($E62*SUMIF('Daily Log'!$BJ$18:$BJ$1017,$B62,'Daily Log'!$BK$18:$BK$1017),0)","v":0},{"$f":"IFERROR($E62*SUMIF('Daily Log'!$BM$18:$BM$1017,$B62,'Daily Log'!$BN$18:$BN$1017),0)","v":0},{"$f":"IFERROR($E62*SUMIF('Daily Log'!$BP$18:$BP$1017,$B62,'Daily Log'!$BQ$18:$BQ$1017),0)","v":0},{"$f":"IFERROR($E62*SUMIF('Daily Log'!$BS$18:$BS$1017,$B62,'Daily Log'!$BT$18:$BT$1017),0)","v":0},{"$f":"IFERROR($E62*SUMIF('Daily Log'!$BV$18:$BV$1017,$B62,'Daily Log'!$BW$18:$BW$1017),0)","v":0},{"$f":"IFERROR($E62*SUMIF('Daily Log'!$BY$18:$BY$1017,$B62,'Daily Log'!$BZ$18:$BZ$1017),0)","v":0},{"$f":"IFERROR($E62*SUMIF('Daily Log'!$CB$18:$CB$1017,$B62,'Daily Log'!$CC$18:$CC$1017),0)","v":0},{"$f":"IFERROR($E62*SUMIF('Daily Log'!$CE$18:$CE$1017,$B62,'Daily Log'!$CF$18:$CF$1017),0)","v":0},{"$f":"IFERROR($E62*SUMIF('Daily Log'!$CH$18:$CH$1017,$B62,'Daily Log'!$CI$18:$CI$1017),0)","v":0},{"$f":"IFERROR($E62*SUMIF('Daily Log'!$CK$18:$CK$1017,$B62,'Daily Log'!$CL$18:$CL$1017),0)","v":0},{"$f":"IFERROR($E62*SUMIF('Daily Log'!$CN$18:$CN$1017,$B62,'Daily Log'!$CO$18:$CO$1017),0)","v":0}]
[null,"14033:SD-Ice Honey Green Tea",null,"SD-COLD BEVERAGE",1,16,{"$f":"IFERROR($E63*SUMIF('Daily Log'!$B$18:$B$1017,$B63,'Daily Log'!$C$18:$C$1017),0)","v":0},{"$f":"IFERROR($E63*SUMIF('Daily Log'!$E$18:$E$1017,$B63,'Daily Log'!$F$18:$F$1017),0)","v":0},{"$f":"IFERROR($E63*SUMIF('Daily Log'!$H$18:$H$1017,$B63,'Daily Log'!$I$18:$I$1017),0)","v":0},{"$f":"IFERROR($E63*SUMIF('Daily Log'!$K$18:$K$1017,$B63,'Daily Log'!$L$18:$L$1017),0)","v":0},{"$f":"IFERROR($E63*SUMIF('Daily Log'!$N$18:$N$1017,$B63,'Daily Log'!$O$18:$O$1017),0)","v":0},{"$f":"IFERROR($E63*SUMIF('Daily Log'!$Q$18:$Q$1017,$B63,'Daily Log'!$R$18:$R$1017),0)","v":0},{"$f":"IFERROR($E63*SUMIF('Daily Log'!$T$18:$T$1017,$B63,'Daily Log'!$U$18:$U$1017),0)","v":0},{"$f":"IFERROR($E63*SUMIF('Daily Log'!$W$18:$W$1017,$B63,'Daily Log'!$X$18:$X$1017),0)","v":4},{"$f":"IFERROR($E63*SUMIF('Daily Log'!$Z$18:$Z$1017,$B63,'Daily Log'!$AA$18:$AA$1017),0)","v":0},{"$f":"IFERROR($E63*SUMIF('Daily Log'!$AC$18:$AC$1017,$B63,'Daily Log'!$AD$18:$AD$1017),0)","v":0},{"$f":"IFERROR($E63*SUMIF('Daily Log'!$AF$18:$AF$1017,$B63,'Daily Log'!$AG$18:$AG$1017),0)","v":1},{"$f":"IFERROR($E63*SUMIF('Daily Log'!$AI$18:$AI$1017,$B63,'Daily Log'!$AJ$18:$AJ$1017),0)","v":0},{"$f":"IFERROR($E63*SUMIF('Daily Log'!$AL$18:$AL$1017,$B63,'Daily Log'!$AM$18:$AM$1017),0)","v":11},{"$f":"IFERROR($E63*SUMIF('Daily Log'!$AO$18:$AO$1017,$B63,'Daily Log'!$AP$18:$AP$1017),0)","v":0},{"$f":"IFERROR($E63*SUMIF('Daily Log'!$AR$18:$AR$1017,$B63,'Daily Log'!$AS$18:$AS$1017),0)","v":0},{"$f":"IFERROR($E63*SUMIF('Daily Log'!$AU$18:$AU$1017,$B63,'Daily Log'!$AV$18:$AV$1017),0)","v":0},{"$f":"IFERROR($E63*SUMIF('Daily Log'!$AX$18:$AX$1017,$B63,'Daily Log'!$AY$18:$AY$1017),0)","v":0},{"$f":"IFERROR($E63*SUMIF('Daily Log'!$BA$18:$BA$1017,$B63,'Daily Log'!$BB$18:$BB$1017),0)","v":0},{"$f":"IFERROR($E63*SUMIF('Daily Log'!$BD$18:$BD$1017,$B63,'Daily Log'!$BE$18:$BE$1017),0)","v":0},{"$f":"IFERROR($E63*SUMIF('Daily Log'!$BG$18:$BG$1017,$B63,'Daily Log'!$BH$18:$BH$1017),0)","v":0},{"$f":"IFERROR($E63*SUMIF('Daily Log'!$BJ$18:$BJ$1017,$B63,'Daily Log'!$BK$18:$BK$1017),0)","v":0},{"$f":"IFERROR($E63*SUMIF('Daily Log'!$BM$18:$BM$1017,$B63,'Daily Log'!$BN$18:$BN$1017),0)","v":0},{"$f":"IFERROR($E63*SUMIF('Daily Log'!$BP$18:$BP$1017,$B63,'Daily Log'!$BQ$18:$BQ$1017),0)","v":0},{"$f":"IFERROR($E63*SUMIF('Daily Log'!$BS$18:$BS$1017,$B63,'Daily Log'!$BT$18:$BT$1017),0)","v":0},{"$f":"IFERROR($E63*SUMIF('Daily Log'!$BV$18:$BV$1017,$B63,'Daily Log'!$BW$18:$BW$1017),0)","v":0},{"$f":"IFERROR($E63*SUMIF('Daily Log'!$BY$18:$BY$1017,$B63,'Daily Log'!$BZ$18:$BZ$1017),0)","v":0},{"$f":"IFERROR($E63*SUMIF('Daily Log'!$CB$18:$CB$1017,$B63,'Daily Log'!$CC$18:$CC$1017),0)","v":0},{"$f":"IFERROR($E63*SUMIF('Daily Log'!$CE$18:$CE$1017,$B63,'Daily Log'!$CF$18:$CF$1017),0)","v":0},{"$f":"IFERROR($E63*SUMIF('Daily Log'!$CH$18:$CH$1017,$B63,'Daily Log'!$CI$18:$CI$1017),0)","v":0},{"$f":"IFERROR($E63*SUMIF('Daily Log'!$CK$18:$CK$1017,$B63,'Daily Log'!$CL$18:$CL$1017),0)","v":0},{"$f":"IFERROR($E63*SUMIF('Daily Log'!$CN$18:$CN$1017,$B63,'Daily Log'!$CO$18:$CO$1017),0)","v":0}]
[null,"11701:D -C01-泰式鸡饭",null,"DINNER ASIAN CRUISE ",1,0,{"$f":"IFERROR($E64*SUMIF('Daily Log'!$B$18:$B$1017,$B64,'Daily Log'!$C$18:$C$1017),0)","v":0},{"$f":"IFERROR($E64*SUMIF('Daily Log'!$E$18:$E$1017,$B64,'Daily Log'!$F$18:$F$1017),0)","v":0},{"$f":"IFERROR($E64*SUMIF('Daily Log'!$H$18:$H$1017,$B64,'Daily Log'!$I$18:$I$1017),0)","v":0},{"$f":"IFERROR($E64*SUMIF('Daily Log'!$K$18:$K$1017,$B64,'Daily Log'!$L$18:$L$1017),0)","v":0},{"$f":"IFERROR($E64*SUMIF('Daily Log'!$N$18:$N$1017,$B64,'Daily Log'!$O$18:$O$1017),0)","v":0},{"$f":"IFERROR($E64*SUMIF('Daily Log'!$Q$18:$Q$1017,$B64,'Daily Log'!$R$18:$R$1017),0)","v":0},{"$f":"IFERROR($E64*SUMIF('Daily Log'!$T$18:$T$1017,$B64,'Daily Log'!$U$18:$U$1017),0)","v":0},{"$f":"IFERROR($E64*SUMIF('Daily Log'!$W$18:$W$1017,$B64,'Daily Log'!$X$18:$X$1017),0)","v":0},{"$f":"IFERROR($E64*SUMIF('Daily Log'!$Z$18:$Z$1017,$B64,'Daily Log'!$AA$18:$AA$1017),0)","v":0},{"$f":"IFERROR($E64*SUMIF('Daily Log'!$AC$18:$AC$1017,$B64,'Daily Log'!$AD$18:$AD$1017),0)","v":0},{"$f":"IFERROR($E64*SUMIF('Daily Log'!$AF$18:$AF$1017,$B64,'Daily Log'!$AG$18:$AG$1017),0)","v":0},{"$f":"IFERROR($E64*SUMIF('Daily Log'!$AI$18:$AI$1017,$B64,'Daily Log'!$AJ$18:$AJ$1017),0)","v":0},{"$f":"IFERROR($E64*SUMIF('Daily Log'!$AL$18:$AL$1017,$B64,'Daily Log'!$AM$18:$AM$1017),0)","v":0},{"$f":"IFERROR($E64*SUMIF('Daily Log'!$AO$18:$AO$1017,$B64,'Daily Log'!$AP$18:$AP$1017),0)","v":0},{"$f":"IFERROR($E64*SUMIF('Daily Log'!$AR$18:$AR$1017,$B64,'Daily Log'!$AS$18:$AS$1017),0)","v":0},{"$f":"IFERROR($E64*SUMIF('Daily Log'!$AU$18:$AU$1017,$B64,'Daily Log'!$AV$18:$AV$1017),0)","v":0},{"$f":"IFERROR($E64*SUMIF('Daily Log'!$AX$18:$AX$1017,$B64,'Daily Log'!$AY$18:$AY$1017),0)","v":0},{"$f":"IFERROR($E64*SUMIF('Daily Log'!$BA$18:$BA$1017,$B64,'Daily Log'!$BB$18:$BB$1017),0)","v":0},{"$f":"IFERROR($E64*SUMIF('Daily Log'!$BD$18:$BD$1017,$B64,'Daily Log'!$BE$18:$BE$1017),0)","v":0},{"$f":"IFERROR($E64*SUMIF('Daily Log'!$BG$18:$BG$1017,$B64,'Daily Log'!$BH$18:$BH$1017),0)","v":0},{"$f":"IFERROR($E64*SUMIF('Daily Log'!$BJ$18:$BJ$1017,$B64,'Daily Log'!$BK$18:$BK$1017),0)","v":0},{"$f":"IFERROR($E64*SUMIF('Daily Log'!$BM$18:$BM$1017,$B64,'Daily Log'!$BN$18:$BN$1017),0)","v":0},{"$f":"IFERROR($E64*SUMIF('Daily Log'!$BP$18:$BP$1017,$B64,'Daily Log'!$BQ$18:$BQ$1017),0)","v":0},{"$f":"IFERROR($E64*SUMIF('Daily Log'!$BS$18:$BS$1017,$B64,'Daily Log'!$BT$18:$BT$1017),0)","v":0},{"$f":"IFERROR($E64*SUMIF('Daily Log'!$BV$18:$BV$1017,$B64,'Daily Log'!$BW$18:$BW$1017),0)","v":0},{"$f":"IFERROR($E64*SUMIF('Daily Log'!$BY$18:$BY$1017,$B64,'Daily Log'!$BZ$18:$BZ$1017),0)","v":0},{"$f":"IFERROR($E64*SUMIF('Daily Log'!$CB$18:$CB$1017,$B64,'Daily Log'!$CC$18:$CC$1017),0)","v":0},{"$f":"IFERROR($E64*SUMIF('Daily Log'!$CE$18:$CE$1017,$B64,'Daily Log'!$CF$18:$CF$1017),0)","v":0},{"$f":"IFERROR($E64*SUMIF('Daily Log'!$CH$18:$CH$1017,$B64,'Daily Log'!$CI$18:$CI$1017),0)","v":0},{"$f":"IFERROR($E64*SUMIF('Daily Log'!$CK$18:$CK$1017,$B64,'Daily Log'!$CL$18:$CL$1017),0)","v":0},{"$f":"IFERROR($E64*SUMIF('Daily Log'!$CN$18:$CN$1017,$B64,'Daily Log'!$CO$18:$CO$1017),0)","v":0}]
[null,"11702:D -C02-妈蜜鸡饭",null,"DINNER ASIAN CRUISE ",1,0,{"$f":"IFERROR($E65*SUMIF('Daily Log'!$B$18:$B$1017,$B65,'Daily Log'!$C$18:$C$1017),0)","v":0},{"$f":"IFERROR($E65*SUMIF('Daily Log'!$E$18:$E$1017,$B65,'Daily Log'!$F$18:$F$1017),0)","v":0},{"$f":"IFERROR($E65*SUMIF('Daily Log'!$H$18:$H$1017,$B65,'Daily Log'!$I$18:$I$1017),0)","v":0},{"$f":"IFERROR($E65*SUMIF('Daily Log'!$K$18:$K$1017,$B65,'Daily Log'!$L$18:$L$1017),0)","v":0},{"$f":"IFERROR($E65*SUMIF('Daily Log'!$N$18:$N$1017,$B65,'Daily Log'!$O$18:$O$1017),0)","v":0},{"$f":"IFERROR($E65*SUMIF('Daily Log'!$Q$18:$Q$1017,$B65,'Daily Log'!$R$18:$R$1017),0)","v":0},{"$f":"IFERROR($E65*SUMIF('Daily Log'!$T$18:$T$1017,$B65,'Daily Log'!$U$18:$U$1017),0)","v":0},{"$f":"IFERROR($E65*SUMIF('Daily Log'!$W$18:$W$1017,$B65,'Daily Log'!$X$18:$X$1017),0)","v":0},{"$f":"IFERROR($E65*SUMIF('Daily Log'!$Z$18:$Z$1017,$B65,'Daily Log'!$AA$18:$AA$1017),0)","v":0},{"$f":"IFERROR($E65*SUMIF('Daily Log'!$AC$18:$AC$1017,$B65,'Daily Log'!$AD$18:$AD$1017),0)","v":0},{"$f":"IFERROR($E65*SUMIF('Daily Log'!$AF$18:$AF$1017,$B65,'Daily Log'!$AG$18:$AG$1017),0)","v":0},{"$f":"IFERROR($E65*SUMIF('Daily Log'!$AI$18:$AI$1017,$B65,'Daily Log'!$AJ$18:$AJ$1017),0)","v":0},{"$f":"IFERROR($E65*SUMIF('Daily Log'!$AL$18:$AL$1017,$B65,'Daily Log'!$AM$18:$AM$1017),0)","v":0},{"$f":"IFERROR($E65*SUMIF('Daily Log'!$AO$18:$AO$1017,$B65,'Daily Log'!$AP$18:$AP$1017),0)","v":0},{"$f":"IFERROR($E65*SUMIF('Daily Log'!$AR$18:$AR$1017,$B65,'Daily Log'!$AS$18:$AS$1017),0)","v":0},{"$f":"IFERROR($E65*SUMIF('Daily Log'!$AU$18:$AU$1017,$B65,'Daily Log'!$AV$18:$AV$1017),0)","v":0},{"$f":"IFERROR($E65*SUMIF('Daily Log'!$AX$18:$AX$1017,$B65,'Daily Log'!$AY$18:$AY$1017),0)","v":0},{"$f":"IFERROR($E65*SUMIF('Daily Log'!$BA$18:$BA$1017,$B65,'Daily Log'!$BB$18:$BB$1017),0)","v":0},{"$f":"IFERROR($E65*SUMIF('Daily Log'!$BD$18:$BD$1017,$B65,'Daily Log'!$BE$18:$BE$1017),0)","v":0},{"$f":"IFERROR($E65*SUMIF('Daily Log'!$BG$18:$BG$1017,$B65,'Daily Log'!$BH$18:$BH$1017),0)","v":0},{"$f":"IFERROR($E65*SUMIF('Daily Log'!$BJ$18:$BJ$1017,$B65,'Daily Log'!$BK$18:$BK$1017),0)","v":0},{"$f":"IFERROR($E65*SUMIF('Daily Log'!$BM$18:$BM$1017,$B65,'Daily Log'!$BN$18:$BN$1017),0)","v":0},{"$f":"IFERROR($E65*SUMIF('Daily Log'!$BP$18:$BP$1017,$B65,'Daily Log'!$BQ$18:$BQ$1017),0)","v":0},{"$f":"IFERROR($E65*SUMIF('Daily Log'!$BS$18:$BS$1017,$B65,'Daily Log'!$BT$18:$BT$1017),0)","v":0},{"$f":"IFERROR($E65*SUMIF('Daily Log'!$BV$18:$BV$1017,$B65,'Daily Log'!$BW$18:$BW$1017),0)","v":0},{"$f":"IFERROR($E65*SUMIF('Daily Log'!$BY$18:$BY$1017,$B65,'Daily Log'!$BZ$18:$BZ$1017),0)","v":0},{"$f":"IFERROR($E65*SUMIF('Daily Log'!$CB$18:$CB$1017,$B65,'Daily Log'!$CC$18:$CC$1017),0)","v":0},{"$f":"IFERROR($E65*SUMIF('Daily Log'!$CE$18:$CE$1017,$B65,'Daily Log'!$CF$18:$CF$1017),0)","v":0},{"$f":"IFERROR($E65*SUMIF('Daily Log'!$CH$18:$CH$1017,$B65,'Daily Log'!$CI$18:$CI$1017),0)","v":0},{"$f":"IFERROR($E65*SUMIF('Daily Log'!$CK$18:$CK$1017,$B65,'Daily Log'!$CL$18:$CL$1017),0)","v":0},{"$f":"IFERROR($E65*SUMIF('Daily Log'!$CN$18:$CN$1017,$B65,'Daily Log'!$CO$18:$CO$1017),0)","v":0}]
[null,"11705:D -C03-奶油鸡饭",null,"DINNER ASIAN CRUISE ",1,0,{"$f":"IFERROR($E66*SUMIF('Daily Log'!$B$18:$B$1017,$B66,'Daily Log'!$C$18:$C$1017),0)","v":0},{"$f":"IFERROR($E66*SUMIF('Daily Log'!$E$18:$E$1017,$B66,'Daily Log'!$F$18:$F$1017),0)","v":0},{"$f":"IFERROR($E66*SUMIF('Daily Log'!$H$18:$H$1017,$B66,'Daily Log'!$I$18:$I$1017),0)","v":0},{"$f":"IFERROR($E66*SUMIF('Daily Log'!$K$18:$K$1017,$B66,'Daily Log'!$L$18:$L$1017),0)","v":0},{"$f":"IFERROR($E66*SUMIF('Daily Log'!$N$18:$N$1017,$B66,'Daily Log'!$O$18:$O$1017),0)","v":0},{"$f":"IFERROR($E66*SUMIF('Daily Log'!$Q$18:$Q$1017,$B66,'Daily Log'!$R$18:$R$1017),0)","v":0},{"$f":"IFERROR($E66*SUMIF('Daily Log'!$T$18:$T$1017,$B66,'Daily Log'!$U$18:$U$1017),0)","v":0},{"$f":"IFERROR($E66*SUMIF('Daily Log'!$W$18:$W$1017,$B66,'Daily Log'!$X$18:$X$1017),0)","v":0},{"$f":"IFERROR($E66*SUMIF('Daily Log'!$Z$18:$Z$1017,$B66,'Daily Log'!$AA$18:$AA$1017),0)","v":0},{"$f":"IFERROR($E66*SUMIF('Daily Log'!$AC$18:$AC$1017,$B66,'Daily Log'!$AD$18:$AD$1017),0)","v":0},{"$f":"IFERROR($E66*SUMIF('Daily Log'!$AF$18:$AF$1017,$B66,'Daily Log'!$AG$18:$AG$1017),0)","v":0},{"$f":"IFERROR($E66*SUMIF('Daily Log'!$AI$18:$AI$1017,$B66,'Daily Log'!$AJ$18:$AJ$1017),0)","v":0},{"$f":"IFERROR($E66*SUMIF('Daily Log'!$AL$18:$AL$1017,$B66,'Daily Log'!$AM$18:$AM$1017),0)","v":0},{"$f":"IFERROR($E66*SUMIF('Daily Log'!$AO$18:$AO$1017,$B66,'Daily Log'!$AP$18:$AP$1017),0)","v":0},{"$f":"IFERROR($E66*SUMIF('Daily Log'!$AR$18:$AR$1017,$B66,'Daily Log'!$AS$18:$AS$1017),0)","v":0},{"$f":"IFERROR($E66*SUMIF('Daily Log'!$AU$18:$AU$1017,$B66,'Daily Log'!$AV$18:$AV$1017),0)","v":0},{"$f":"IFERROR($E66*SUMIF('Daily Log'!$AX$18:$AX$1017,$B66,'Daily Log'!$AY$18:$AY$1017),0)","v":0},{"$f":"IFERROR($E66*SUMIF('Daily Log'!$BA$18:$BA$1017,$B66,'Daily Log'!$BB$18:$BB$1017),0)","v":0},{"$f":"IFERROR($E66*SUMIF('Daily Log'!$BD$18:$BD$1017,$B66,'Daily Log'!$BE$18:$BE$1017),0)","v":0},{"$f":"IFERROR($E66*SUMIF('Daily Log'!$BG$18:$BG$1017,$B66,'Daily Log'!$BH$18:$BH$1017),0)","v":0},{"$f":"IFERROR($E66*SUMIF('Daily Log'!$BJ$18:$BJ$1017,$B66,'Daily Log'!$BK$18:$BK$1017),0)","v":0},{"$f":"IFERROR($E66*SUMIF('Daily Log'!$BM$18:$BM$1017,$B66,'Daily Log'!$BN$18:$BN$1017),0)","v":0},{"$f":"IFERROR($E66*SUMIF('Daily Log'!$BP$18:$BP$1017,$B66,'Daily Log'!$BQ$18:$BQ$1017),0)","v":0},{"$f":"IFERROR($E66*SUMIF('Daily Log'!$BS$18:$BS$1017,$B66,'Daily Log'!$BT$18:$BT$1017),0)","v":0},{"$f":"IFERROR($E66*SUMIF('Daily Log'!$BV$18:$BV$1017,$B66,'Daily Log'!$BW$18:$BW$1017),0)","v":0},{"$f":"IFERROR($E66*SUMIF('Daily Log'!$BY$18:$BY$1017,$B66,'Daily Log'!$BZ$18:$BZ$1017),0)","v":0},{"$f":"IFERROR($E66*SUMIF('Daily Log'!$CB$18:$CB$1017,$B66,'Daily Log'!$CC$18:$CC$1017),0)","v":0},{"$f":"IFERROR($E66*SUMIF('Daily Log'!$CE$18:$CE$1017,$B66,'Daily Log'!$CF$18:$CF$1017),0)","v":0},{"$f":"IFERROR($E66*SUMIF('Daily Log'!$CH$18:$CH$1017,$B66,'Daily Log'!$CI$18:$CI$1017),0)","v":0},{"$f":"IFERROR($E66*SUMIF('Daily Log'!$CK$18:$CK$1017,$B66,'Daily Log'!$CL$18:$CL$1017),0)","v":0},{"$f":"IFERROR($E66*SUMIF('Daily Log'!$CN$18:$CN$1017,$B66,'Daily Log'!$CO$18:$CO$1017),0)","v":0}]
[null,"11706:D -C04-港式炒饭",null,"DINNER ASIAN CRUISE ",1,0,{"$f":"IFERROR($E67*SUMIF('Daily Log'!$B$18:$B$1017,$B67,'Daily Log'!$C$18:$C$1017),0)","v":0},{"$f":"IFERROR($E67*SUMIF('Daily Log'!$E$18:$E$1017,$B67,'Daily Log'!$F$18:$F$1017),0)","v":0},{"$f":"IFERROR($E67*SUMIF('Daily Log'!$H$18:$H$1017,$B67,'Daily Log'!$I$18:$I$1017),0)","v":0},{"$f":"IFERROR($E67*SUMIF('Daily Log'!$K$18:$K$1017,$B67,'Daily Log'!$L$18:$L$1017),0)","v":0},{"$f":"IFERROR($E67*SUMIF('Daily Log'!$N$18:$N$1017,$B67,'Daily Log'!$O$18:$O$1017),0)","v":0},{"$f":"IFERROR($E67*SUMIF('Daily Log'!$Q$18:$Q$1017,$B67,'Daily Log'!$R$18:$R$1017),0)","v":0},{"$f":"IFERROR($E67*SUMIF('Daily Log'!$T$18:$T$1017,$B67,'Daily Log'!$U$18:$U$1017),0)","v":0},{"$f":"IFERROR($E67*SUMIF('Daily Log'!$W$18:$W$1017,$B67,'Daily Log'!$X$18:$X$1017),0)","v":0},{"$f":"IFERROR($E67*SUMIF('Daily Log'!$Z$18:$Z$1017,$B67,'Daily Log'!$AA$18:$AA$1017),0)","v":0},{"$f":"IFERROR($E67*SUMIF('Daily Log'!$AC$18:$AC$1017,$B67,'Daily Log'!$AD$18:$AD$1017),0)","v":0},{"$f":"IFERROR($E67*SUMIF('Daily Log'!$AF$18:$AF$1017,$B67,'Daily Log'!$AG$18:$AG$1017),0)","v":0},{"$f":"IFERROR($E67*SUMIF('Daily Log'!$AI$18:$AI$1017,$B67,'Daily Log'!$AJ$18:$AJ$1017),0)","v":0},{"$f":"IFERROR($E67*SUMIF('Daily Log'!$AL$18:$AL$1017,$B67,'Daily Log'!$AM$18:$AM$1017),0)","v":0},{"$f":"IFERROR($E67*SUMIF('Daily Log'!$AO$18:$AO$1017,$B67,'Daily Log'!$AP$18:$AP$1017),0)","v":0},{"$f":"IFERROR($E67*SUMIF('Daily Log'!$AR$18:$AR$1017,$B67,'Daily Log'!$AS$18:$AS$1017),0)","v":0},{"$f":"IFERROR($E67*SUMIF('Daily Log'!$AU$18:$AU$1017,$B67,'Daily Log'!$AV$18:$AV$1017),0)","v":0},{"$f":"IFERROR($E67*SUMIF('Daily Log'!$AX$18:$AX$1017,$B67,'Daily Log'!$AY$18:$AY$1017),0)","v":0},{"$f":"IFERROR($E67*SUMIF('Daily Log'!$BA$18:$BA$1017,$B67,'Daily Log'!$BB$18:$BB$1017),0)","v":0},{"$f":"IFERROR($E67*SUMIF('Daily Log'!$BD$18:$BD$1017,$B67,'Daily Log'!$BE$18:$BE$1017),0)","v":0},{"$f":"IFERROR($E67*SUMIF('Daily Log'!$BG$18:$BG$1017,$B67,'Daily Log'!$BH$18:$BH$1017),0)","v":0},{"$f":"IFERROR($E67*SUMIF('Daily Log'!$BJ$18:$BJ$1017,$B67,'Daily Log'!$BK$18:$BK$1017),0)","v":0},{"$f":"IFERROR($E67*SUMIF('Daily Log'!$BM$18:$BM$1017,$B67,'Daily Log'!$BN$18:$BN$1017),0)","v":0},{"$f":"IFERROR($E67*SUMIF('Daily Log'!$BP$18:$BP$1017,$B67,'Daily Log'!$BQ$18:$BQ$1017),0)","v":0},{"$f":"IFERROR($E67*SUMIF('Daily Log'!$BS$18:$BS$1017,$B67,'Daily Log'!$BT$18:$BT$1017),0)","v":0},{"$f":"IFERROR($E67*SUMIF('Daily Log'!$BV$18:$BV$1017,$B67,'Daily Log'!$BW$18:$BW$1017),0)","v":0},{"$f":"IFERROR($E67*SUMIF('Daily Log'!$BY$18:$BY$1017,$B67,'Daily Log'!$BZ$18:$BZ$1017),0)","v":0},{"$f":"IFERROR($E67*SUMIF('Daily Log'!$CB$18:$CB$1017,$B67,'Daily Log'!$CC$18:$CC$1017),0)","v":0},{"$f":"IFERROR($E67*SUMIF('Daily Log'!$CE$18:$CE$1017,$B67,'Daily Log'!$CF$18:$CF$1017),0)","v":0},{"$f":"IFERROR($E67*SUMIF('Daily Log'!$CH$18:$CH$1017,$B67,'Daily Log'!$CI$18:$CI$1017),0)","v":0},{"$f":"IFERROR($E67*SUMIF('Daily Log'!$CK$18:$CK$1017,$B67,'Daily Log'!$CL$18:$CL$1017),0)","v":0},{"$f":"IFERROR($E67*SUMIF('Daily Log'!$CN$18:$CN$1017,$B67,'Daily Log'!$CO$18:$CO$1017),0)","v":0}]
[null,"11710:D -C05-黑椒乌冬面",null,"DINNER ASIAN CRUISE ",1,0,{"$f":"IFERROR($E68*SUMIF('Daily Log'!$B$18:$B$1017,$B68,'Daily Log'!$C$18:$C$1017),0)","v":0},{"$f":"IFERROR($E68*SUMIF('Daily Log'!$E$18:$E$1017,$B68,'Daily Log'!$F$18:$F$1017),0)","v":0},{"$f":"IFERROR($E68*SUMIF('Daily Log'!$H$18:$H$1017,$B68,'Daily Log'!$I$18:$I$1017),0)","v":0},{"$f":"IFERROR($E68*SUMIF('Daily Log'!$K$18:$K$1017,$B68,'Daily Log'!$L$18:$L$1017),0)","v":0},{"$f":"IFERROR($E68*SUMIF('Daily Log'!$N$18:$N$1017,$B68,'Daily Log'!$O$18:$O$1017),0)","v":0},{"$f":"IFERROR($E68*SUMIF('Daily Log'!$Q$18:$Q$1017,$B68,'Daily Log'!$R$18:$R$1017),0)","v":0},{"$f":"IFERROR($E68*SUMIF('Daily Log'!$T$18:$T$1017,$B68,'Daily Log'!$U$18:$U$1017),0)","v":0},{"$f":"IFERROR($E68*SUMIF('Daily Log'!$W$18:$W$1017,$B68,'Daily Log'!$X$18:$X$1017),0)","v":0},{"$f":"IFERROR($E68*SUMIF('Daily Log'!$Z$18:$Z$1017,$B68,'Daily Log'!$AA$18:$AA$1017),0)","v":0},{"$f":"IFERROR($E68*SUMIF('Daily Log'!$AC$18:$AC$1017,$B68,'Daily Log'!$AD$18:$AD$1017),0)","v":0},{"$f":"IFERROR($E68*SUMIF('Daily Log'!$AF$18:$AF$1017,$B68,'Daily Log'!$AG$18:$AG$1017),0)","v":0},{"$f":"IFERROR($E68*SUMIF('Daily Log'!$AI$18:$AI$1017,$B68,'Daily Log'!$AJ$18:$AJ$1017),0)","v":0},{"$f":"IFERROR($E68*SUMIF('Daily Log'!$AL$18:$AL$1017,$B68,'Daily Log'!$AM$18:$AM$1017),0)","v":0},{"$f":"IFERROR($E68*SUMIF('Daily Log'!$AO$18:$AO$1017,$B68,'Daily Log'!$AP$18:$AP$1017),0)","v":0},{"$f":"IFERROR($E68*SUMIF('Daily Log'!$AR$18:$AR$1017,$B68,'Daily Log'!$AS$18:$AS$1017),0)","v":0},{"$f":"IFERROR($E68*SUMIF('Daily Log'!$AU$18:$AU$1017,$B68,'Daily Log'!$AV$18:$AV$1017),0)","v":0},{"$f":"IFERROR($E68*SUMIF('Daily Log'!$AX$18:$AX$1017,$B68,'Daily Log'!$AY$18:$AY$1017),0)","v":0},{"$f":"IFERROR($E68*SUMIF('Daily Log'!$BA$18:$BA$1017,$B68,'Daily Log'!$BB$18:$BB$1017),0)","v":0},{"$f":"IFERROR($E68*SUMIF('Daily Log'!$BD$18:$BD$1017,$B68,'Daily Log'!$BE$18:$BE$1017),0)","v":0},{"$f":"IFERROR($E68*SUMIF('Daily Log'!$BG$18:$BG$1017,$B68,'Daily Log'!$BH$18:$BH$1017),0)","v":0},{"$f":"IFERROR($E68*SUMIF('Daily Log'!$BJ$18:$BJ$1017,$B68,'Daily Log'!$BK$18:$BK$1017),0)","v":0},{"$f":"IFERROR($E68*SUMIF('Daily Log'!$BM$18:$BM$1017,$B68,'Daily Log'!$BN$18:$BN$1017),0)","v":0},{"$f":"IFERROR($E68*SUMIF('Daily Log'!$BP$18:$BP$1017,$B68,'Daily Log'!$BQ$18:$BQ$1017),0)","v":0},{"$f":"IFERROR($E68*SUMIF('Daily Log'!$BS$18:$BS$1017,$B68,'Daily Log'!$BT$18:$BT$1017),0)","v":0},{"$f":"IFERROR($E68*SUMIF('Daily Log'!$BV$18:$BV$1017,$B68,'Daily Log'!$BW$18:$BW$1017),0)","v":0},{"$f":"IFERROR($E68*SUMIF('Daily Log'!$BY$18:$BY$1017,$B68,'Daily Log'!$BZ$18:$BZ$1017),0)","v":0},{"$f":"IFERROR($E68*SUMIF('Daily Log'!$CB$18:$CB$1017,$B68,'Daily Log'!$CC$18:$CC$1017),0)","v":0},{"$f":"IFERROR($E68*SUMIF('Daily Log'!$CE$18:$CE$1017,$B68,'Daily Log'!$CF$18:$CF$1017),0)","v":0},{"$f":"IFERROR($E68*SUMIF('Daily Log'!$CH$18:$CH$1017,$B68,'Daily Log'!$CI$18:$CI$1017),0)","v":0},{"$f":"IFERROR($E68*SUMIF('Daily Log'!$CK$18:$CK$1017,$B68,'Daily Log'!$CL$18:$CL$1017),0)","v":0},{"$f":"IFERROR($E68*SUMIF('Daily Log'!$CN$18:$CN$1017,$B68,'Daily Log'!$CO$18:$CO$1017),0)","v":0}]
[null,"11778:D -C08-妈蜜鱼片饭",null,"DINNER ASIAN CRUISE ",1,0,{"$f":"IFERROR($E69*SUMIF('Daily Log'!$B$18:$B$1017,$B69,'Daily Log'!$C$18:$C$1017),0)","v":0},{"$f":"IFERROR($E69*SUMIF('Daily Log'!$E$18:$E$1017,$B69,'Daily Log'!$F$18:$F$1017),0)","v":0},{"$f":"IFERROR($E69*SUMIF('Daily Log'!$H$18:$H$1017,$B69,'Daily Log'!$I$18:$I$1017),0)","v":0},{"$f":"IFERROR($E69*SUMIF('Daily Log'!$K$18:$K$1017,$B69,'Daily Log'!$L$18:$L$1017),0)","v":0},{"$f":"IFERROR($E69*SUMIF('Daily Log'!$N$18:$N$1017,$B69,'Daily Log'!$O$18:$O$1017),0)","v":0},{"$f":"IFERROR($E69*SUMIF('Daily Log'!$Q$18:$Q$1017,$B69,'Daily Log'!$R$18:$R$1017),0)","v":0},{"$f":"IFERROR($E69*SUMIF('Daily Log'!$T$18:$T$1017,$B69,'Daily Log'!$U$18:$U$1017),0)","v":0},{"$f":"IFERROR($E69*SUMIF('Daily Log'!$W$18:$W$1017,$B69,'Daily Log'!$X$18:$X$1017),0)","v":0},{"$f":"IFERROR($E69*SUMIF('Daily Log'!$Z$18:$Z$1017,$B69,'Daily Log'!$AA$18:$AA$1017),0)","v":0},{"$f":"IFERROR($E69*SUMIF('Daily Log'!$AC$18:$AC$1017,$B69,'Daily Log'!$AD$18:$AD$1017),0)","v":0},{"$f":"IFERROR($E69*SUMIF('Daily Log'!$AF$18:$AF$1017,$B69,'Daily Log'!$AG$18:$AG$1017),0)","v":0},{"$f":"IFERROR($E69*SUMIF('Daily Log'!$AI$18:$AI$1017,$B69,'Daily Log'!$AJ$18:$AJ$1017),0)","v":0},{"$f":"IFERROR($E69*SUMIF('Daily Log'!$AL$18:$AL$1017,$B69,'Daily Log'!$AM$18:$AM$1017),0)","v":0},{"$f":"IFERROR($E69*SUMIF('Daily Log'!$AO$18:$AO$1017,$B69,'Daily Log'!$AP$18:$AP$1017),0)","v":0},{"$f":"IFERROR($E69*SUMIF('Daily Log'!$AR$18:$AR$1017,$B69,'Daily Log'!$AS$18:$AS$1017),0)","v":0},{"$f":"IFERROR($E69*SUMIF('Daily Log'!$AU$18:$AU$1017,$B69,'Daily Log'!$AV$18:$AV$1017),0)","v":0},{"$f":"IFERROR($E69*SUMIF('Daily Log'!$AX$18:$AX$1017,$B69,'Daily Log'!$AY$18:$AY$1017),0)","v":0},{"$f":"IFERROR($E69*SUMIF('Daily Log'!$BA$18:$BA$1017,$B69,'Daily Log'!$BB$18:$BB$1017),0)","v":0},{"$f":"IFERROR($E69*SUMIF('Daily Log'!$BD$18:$BD$1017,$B69,'Daily Log'!$BE$18:$BE$1017),0)","v":0},{"$f":"IFERROR($E69*SUMIF('Daily Log'!$BG$18:$BG$1017,$B69,'Daily Log'!$BH$18:$BH$1017),0)","v":0},{"$f":"IFERROR($E69*SUMIF('Daily Log'!$BJ$18:$BJ$1017,$B69,'Daily Log'!$BK$18:$BK$1017),0)","v":0},{"$f":"IFERROR($E69*SUMIF('Daily Log'!$BM$18:$BM$1017,$B69,'Daily Log'!$BN$18:$BN$1017),0)","v":0},{"$f":"IFERROR($E69*SUMIF('Daily Log'!$BP$18:$BP$1017,$B69,'Daily Log'!$BQ$18:$BQ$1017),0)","v":0},{"$f":"IFERROR($E69*SUMIF('Daily Log'!$BS$18:$BS$1017,$B69,'Daily Log'!$BT$18:$BT$1017),0)","v":0},{"$f":"IFERROR($E69*SUMIF('Daily Log'!$BV$18:$BV$1017,$B69,'Daily Log'!$BW$18:$BW$1017),0)","v":0},{"$f":"IFERROR($E69*SUMIF('Daily Log'!$BY$18:$BY$1017,$B69,'Daily Log'!$BZ$18:$BZ$1017),0)","v":0},{"$f":"IFERROR($E69*SUMIF('Daily Log'!$CB$18:$CB$1017,$B69,'Daily Log'!$CC$18:$CC$1017),0)","v":0},{"$f":"IFERROR($E69*SUMIF('Daily Log'!$CE$18:$CE$1017,$B69,'Daily Log'!$CF$18:$CF$1017),0)","v":0},{"$f":"IFERROR($E69*SUMIF('Daily Log'!$CH$18:$CH$1017,$B69,'Daily Log'!$CI$18:$CI$1017),0)","v":0},{"$f":"IFERROR($E69*SUMIF('Daily Log'!$CK$18:$CK$1017,$B69,'Daily Log'!$CL$18:$CL$1017),0)","v":0},{"$f":"IFERROR($E69*SUMIF('Daily Log'!$CN$18:$CN$1017,$B69,'Daily Log'!$CO$18:$CO$1017),0)","v":0}]
[null,"11779:D -C09-奶油鱼片饭",null,"DINNER ASIAN CRUISE ",1,0,{"$f":"IFERROR($E70*SUMIF('Daily Log'!$B$18:$B$1017,$B70,'Daily Log'!$C$18:$C$1017),0)","v":0},{"$f":"IFERROR($E70*SUMIF('Daily Log'!$E$18:$E$1017,$B70,'Daily Log'!$F$18:$F$1017),0)","v":0},{"$f":"IFERROR($E70*SUMIF('Daily Log'!$H$18:$H$1017,$B70,'Daily Log'!$I$18:$I$1017),0)","v":0},{"$f":"IFERROR($E70*SUMIF('Daily Log'!$K$18:$K$1017,$B70,'Daily Log'!$L$18:$L$1017),0)","v":0},{"$f":"IFERROR($E70*SUMIF('Daily Log'!$N$18:$N$1017,$B70,'Daily Log'!$O$18:$O$1017),0)","v":0},{"$f":"IFERROR($E70*SUMIF('Daily Log'!$Q$18:$Q$1017,$B70,'Daily Log'!$R$18:$R$1017),0)","v":0},{"$f":"IFERROR($E70*SUMIF('Daily Log'!$T$18:$T$1017,$B70,'Daily Log'!$U$18:$U$1017),0)","v":0},{"$f":"IFERROR($E70*SUMIF('Daily Log'!$W$18:$W$1017,$B70,'Daily Log'!$X$18:$X$1017),0)","v":0},{"$f":"IFERROR($E70*SUMIF('Daily Log'!$Z$18:$Z$1017,$B70,'Daily Log'!$AA$18:$AA$1017),0)","v":0},{"$f":"IFERROR($E70*SUMIF('Daily Log'!$AC$18:$AC$1017,$B70,'Daily Log'!$AD$18:$AD$1017),0)","v":0},{"$f":"IFERROR($E70*SUMIF('Daily Log'!$AF$18:$AF$1017,$B70,'Daily Log'!$AG$18:$AG$1017),0)","v":0},{"$f":"IFERROR($E70*SUMIF('Daily Log'!$AI$18:$AI$1017,$B70,'Daily Log'!$AJ$18:$AJ$1017),0)","v":0},{"$f":"IFERROR($E70*SUMIF('Daily Log'!$AL$18:$AL$1017,$B70,'Daily Log'!$AM$18:$AM$1017),0)","v":0},{"$f":"IFERROR($E70*SUMIF('Daily Log'!$AO$18:$AO$1017,$B70,'Daily Log'!$AP$18:$AP$1017),0)","v":0},{"$f":"IFERROR($E70*SUMIF('Daily Log'!$AR$18:$AR$1017,$B70,'Daily Log'!$AS$18:$AS$1017),0)","v":0},{"$f":"IFERROR($E70*SUMIF('Daily Log'!$AU$18:$AU$1017,$B70,'Daily Log'!$AV$18:$AV$1017),0)","v":0},{"$f":"IFERROR($E70*SUMIF('Daily Log'!$AX$18:$AX$1017,$B70,'Daily Log'!$AY$18:$AY$1017),0)","v":0},{"$f":"IFERROR($E70*SUMIF('Daily Log'!$BA$18:$BA$1017,$B70,'Daily Log'!$BB$18:$BB$1017),0)","v":0},{"$f":"IFERROR($E70*SUMIF('Daily Log'!$BD$18:$BD$1017,$B70,'Daily Log'!$BE$18:$BE$1017),0)","v":0},{"$f":"IFERROR($E70*SUMIF('Daily Log'!$BG$18:$BG$1017,$B70,'Daily Log'!$BH$18:$BH$1017),0)","v":0},{"$f":"IFERROR($E70*SUMIF('Daily Log'!$BJ$18:$BJ$1017,$B70,'Daily Log'!$BK$18:$BK$1017),0)","v":0},{"$f":"IFERROR($E70*SUMIF('Daily Log'!$BM$18:$BM$1017,$B70,'Daily Log'!$BN$18:$BN$1017),0)","v":0},{"$f":"IFERROR($E70*SUMIF('Daily Log'!$BP$18:$BP$1017,$B70,'Daily Log'!$BQ$18:$BQ$1017),0)","v":0},{"$f":"IFERROR($E70*SUMIF('Daily Log'!$BS$18:$BS$1017,$B70,'Daily Log'!$BT$18:$BT$1017),0)","v":0},{"$f":"IFERROR($E70*SUMIF('Daily Log'!$BV$18:$BV$1017,$B70,'Daily Log'!$BW$18:$BW$1017),0)","v":0},{"$f":"IFERROR($E70*SUMIF('Daily Log'!$BY$18:$BY$1017,$B70,'Daily Log'!$BZ$18:$BZ$1017),0)","v":0},{"$f":"IFERROR($E70*SUMIF('Daily Log'!$CB$18:$CB$1017,$B70,'Daily Log'!$CC$18:$CC$1017),0)","v":0},{"$f":"IFERROR($E70*SUMIF('Daily Log'!$CE$18:$CE$1017,$B70,'Daily Log'!$CF$18:$CF$1017),0)","v":0},{"$f":"IFERROR($E70*SUMIF('Daily Log'!$CH$18:$CH$1017,$B70,'Daily Log'!$CI$18:$CI$1017),0)","v":0},{"$f":"IFERROR($E70*SUMIF('Daily Log'!$CK$18:$CK$1017,$B70,'Daily Log'!$CL$18:$CL$1017),0)","v":0},{"$f":"IFERROR($E70*SUMIF('Daily Log'!$CN$18:$CN$1017,$B70,'Daily Log'!$CO$18:$CO$1017),0)","v":0}]
[null,"11777:D -C07-泰式鱼片饭",null,"DINNER ASIAN CRUISE ",1,0,{"$f":"IFERROR($E71*SUMIF('Daily Log'!$B$18:$B$1017,$B71,'Daily Log'!$C$18:$C$1017),0)","v":0},{"$f":"IFERROR($E71*SUMIF('Daily Log'!$E$18:$E$1017,$B71,'Daily Log'!$F$18:$F$1017),0)","v":0},{"$f":"IFERROR($E71*SUMIF('Daily Log'!$H$18:$H$1017,$B71,'Daily Log'!$I$18:$I$1017),0)","v":0},{"$f":"IFERROR($E71*SUMIF('Daily Log'!$K$18:$K$1017,$B71,'Daily Log'!$L$18:$L$1017),0)","v":0},{"$f":"IFERROR($E71*SUMIF('Daily Log'!$N$18:$N$1017,$B71,'Daily Log'!$O$18:$O$1017),0)","v":0},{"$f":"IFERROR($E71*SUMIF('Daily Log'!$Q$18:$Q$1017,$B71,'Daily Log'!$R$18:$R$1017),0)","v":0},{"$f":"IFERROR($E71*SUMIF('Daily Log'!$T$18:$T$1017,$B71,'Daily Log'!$U$18:$U$1017),0)","v":0},{"$f":"IFERROR($E71*SUMIF('Daily Log'!$W$18:$W$1017,$B71,'Daily Log'!$X$18:$X$1017),0)","v":0},{"$f":"IFERROR($E71*SUMIF('Daily Log'!$Z$18:$Z$1017,$B71,'Daily Log'!$AA$18:$AA$1017),0)","v":0},{"$f":"IFERROR($E71*SUMIF('Daily Log'!$AC$18:$AC$1017,$B71,'Daily Log'!$AD$18:$AD$1017),0)","v":0},{"$f":"IFERROR($E71*SUMIF('Daily Log'!$AF$18:$AF$1017,$B71,'Daily Log'!$AG$18:$AG$1017),0)","v":0},{"$f":"IFERROR($E71*SUMIF('Daily Log'!$AI$18:$AI$1017,$B71,'Daily Log'!$AJ$18:$AJ$1017),0)","v":0},{"$f":"IFERROR($E71*SUMIF('Daily Log'!$AL$18:$AL$1017,$B71,'Daily Log'!$AM$18:$AM$1017),0)","v":0},{"$f":"IFERROR($E71*SUMIF('Daily Log'!$AO$18:$AO$1017,$B71,'Daily Log'!$AP$18:$AP$1017),0)","v":0},{"$f":"IFERROR($E71*SUMIF('Daily Log'!$AR$18:$AR$1017,$B71,'Daily Log'!$AS$18:$AS$1017),0)","v":0},{"$f":"IFERROR($E71*SUMIF('Daily Log'!$AU$18:$AU$1017,$B71,'Daily Log'!$AV$18:$AV$1017),0)","v":0},{"$f":"IFERROR($E71*SUMIF('Daily Log'!$AX$18:$AX$1017,$B71,'Daily Log'!$AY$18:$AY$1017),0)","v":0},{"$f":"IFERROR($E71*SUMIF('Daily Log'!$BA$18:$BA$1017,$B71,'Daily Log'!$BB$18:$BB$1017),0)","v":0},{"$f":"IFERROR($E71*SUMIF('Daily Log'!$BD$18:$BD$1017,$B71,'Daily Log'!$BE$18:$BE$1017),0)","v":0},{"$f":"IFERROR($E71*SUMIF('Daily Log'!$BG$18:$BG$1017,$B71,'Daily Log'!$BH$18:$BH$1017),0)","v":0},{"$f":"IFERROR($E71*SUMIF('Daily Log'!$BJ$18:$BJ$1017,$B71,'Daily Log'!$BK$18:$BK$1017),0)","v":0},{"$f":"IFERROR($E71*SUMIF('Daily Log'!$BM$18:$BM$1017,$B71,'Daily Log'!$BN$18:$BN$1017),0)","v":0},{"$f":"IFERROR($E71*SUMIF('Daily Log'!$BP$18:$BP$1017,$B71,'Daily Log'!$BQ$18:$BQ$1017),0)","v":0},{"$f":"IFERROR($E71*SUMIF('Daily Log'!$BS$18:$BS$1017,$B71,'Daily Log'!$BT$18:$BT$1017),0)","v":0},{"$f":"IFERROR($E71*SUMIF('Daily Log'!$BV$18:$BV$1017,$B71,'Daily Log'!$BW$18:$BW$1017),0)","v":0},{"$f":"IFERROR($E71*SUMIF('Daily Log'!$BY$18:$BY$1017,$B71,'Daily Log'!$BZ$18:$BZ$1017),0)","v":0},{"$f":"IFERROR($E71*SUMIF('Daily Log'!$CB$18:$CB$1017,$B71,'Daily Log'!$CC$18:$CC$1017),0)","v":0},{"$f":"IFERROR($E71*SUMIF('Daily Log'!$CE$18:$CE$1017,$B71,'Daily Log'!$CF$18:$CF$1017),0)","v":0},{"$f":"IFERROR($E71*SUMIF('Daily Log'!$CH$18:$CH$1017,$B71,'Daily Log'!$CI$18:$CI$1017),0)","v":0},{"$f":"IFERROR($E71*SUMIF('Daily Log'!$CK$18:$CK$1017,$B71,'Daily Log'!$CL$18:$CL$1017),0)","v":0},{"$f":"IFERROR($E71*SUMIF('Daily Log'!$CN$18:$CN$1017,$B71,'Daily Log'!$CO$18:$CO$1017),0)","v":0}]
[null,"11717:D -S02-小薯脆脆",null,"DINNER SNACK",1,0,{"$f":"IFERROR($E72*SUMIF('Daily Log'!$B$18:$B$1017,$B72,'Daily Log'!$C$18:$C$1017),0)","v":0},{"$f":"IFERROR($E72*SUMIF('Daily Log'!$E$18:$E$1017,$B72,'Daily Log'!$F$18:$F$1017),0)","v":0},{"$f":"IFERROR($E72*SUMIF('Daily Log'!$H$18:$H$1017,$B72,'Daily Log'!$I$18:$I$1017),0)","v":0},{"$f":"IFERROR($E72*SUMIF('Daily Log'!$K$18:$K$1017,$B72,'Daily Log'!$L$18:$L$1017),0)","v":0},{"$f":"IFERROR($E72*SUMIF('Daily Log'!$N$18:$N$1017,$B72,'Daily Log'!$O$18:$O$1017),0)","v":0},{"$f":"IFERROR($E72*SUMIF('Daily Log'!$Q$18:$Q$1017,$B72,'Daily Log'!$R$18:$R$1017),0)","v":0},{"$f":"IFERROR($E72*SUMIF('Daily Log'!$T$18:$T$1017,$B72,'Daily Log'!$U$18:$U$1017),0)","v":0},{"$f":"IFERROR($E72*SUMIF('Daily Log'!$W$18:$W$1017,$B72,'Daily Log'!$X$18:$X$1017),0)","v":0},{"$f":"IFERROR($E72*SUMIF('Daily Log'!$Z$18:$Z$1017,$B72,'Daily Log'!$AA$18:$AA$1017),0)","v":0},{"$f":"IFERROR($E72*SUMIF('Daily Log'!$AC$18:$AC$1017,$B72,'Daily Log'!$AD$18:$AD$1017),0)","v":0},{"$f":"IFERROR($E72*SUMIF('Daily Log'!$AF$18:$AF$1017,$B72,'Daily Log'!$AG$18:$AG$1017),0)","v":0},{"$f":"IFERROR($E72*SUMIF('Daily Log'!$AI$18:$AI$1017,$B72,'Daily Log'!$AJ$18:$AJ$1017),0)","v":0},{"$f":"IFERROR($E72*SUMIF('Daily Log'!$AL$18:$AL$1017,$B72,'Daily Log'!$AM$18:$AM$1017),0)","v":0},{"$f":"IFERROR($E72*SUMIF('Daily Log'!$AO$18:$AO$1017,$B72,'Daily Log'!$AP$18:$AP$1017),0)","v":0},{"$f":"IFERROR($E72*SUMIF('Daily Log'!$AR$18:$AR$1017,$B72,'Daily Log'!$AS$18:$AS$1017),0)","v":0},{"$f":"IFERROR($E72*SUMIF('Daily Log'!$AU$18:$AU$1017,$B72,'Daily Log'!$AV$18:$AV$1017),0)","v":0},{"$f":"IFERROR($E72*SUMIF('Daily Log'!$AX$18:$AX$1017,$B72,'Daily Log'!$AY$18:$AY$1017),0)","v":0},{"$f":"IFERROR($E72*SUMIF('Daily Log'!$BA$18:$BA$1017,$B72,'Daily Log'!$BB$18:$BB$1017),0)","v":0},{"$f":"IFERROR($E72*SUMIF('Daily Log'!$BD$18:$BD$1017,$B72,'Daily Log'!$BE$18:$BE$1017),0)","v":0},{"$f":"IFERROR($E72*SUMIF('Daily Log'!$BG$18:$BG$1017,$B72,'Daily Log'!$BH$18:$BH$1017),0)","v":0},{"$f":"IFERROR($E72*SUMIF('Daily Log'!$BJ$18:$BJ$1017,$B72,'Daily Log'!$BK$18:$BK$1017),0)","v":0},{"$f":"IFERROR($E72*SUMIF('Daily Log'!$BM$18:$BM$1017,$B72,'Daily Log'!$BN$18:$BN$1017),0)","v":0},{"$f":"IFERROR($E72*SUMIF('Daily Log'!$BP$18:$BP$1017,$B72,'Daily Log'!$BQ$18:$BQ$1017),0)","v":0},{"$f":"IFERROR($E72*SUMIF('Daily Log'!$BS$18:$BS$1017,$B72,'Daily Log'!$BT$18:$BT$1017),0)","v":0},{"$f":"IFERROR($E72*SUMIF('Daily Log'!$BV$18:$BV$1017,$B72,'Daily Log'!$BW$18:$BW$1017),0)","v":0},{"$f":"IFERROR($E72*SUMIF('Daily Log'!$BY$18:$BY$1017,$B72,'Daily Log'!$BZ$18:$BZ$1017),0)","v":0},{"$f":"IFERROR($E72*SUMIF('Daily Log'!$CB$18:$CB$1017,$B72,'Daily Log'!$CC$18:$CC$1017),0)","v":0},{"$f":"IFERROR($E72*SUMIF('Daily Log'!$CE$18:$CE$1017,$B72,'Daily Log'!$CF$18:$CF$1017),0)","v":0},{"$f":"IFERROR($E72*SUMIF('Daily Log'!$CH$18:$CH$1017,$B72,'Daily Log'!$CI$18:$CI$1017),0)","v":0},{"$f":"IFERROR($E72*SUMIF('Daily Log'!$CK$18:$CK$1017,$B72,'Daily Log'!$CL$18:$CL$1017),0)","v":0},{"$f":"IFERROR($E72*SUMIF('Daily Log'!$CN$18:$CN$1017,$B72,'Daily Log'!$CO$18:$CO$1017),0)","v":0}]
[null,"11719:D -S06-小小鱼丸",null,"DINNER SNACK",1,0,{"$f":"IFERROR($E73*SUMIF('Daily Log'!$B$18:$B$1017,$B73,'Daily Log'!$C$18:$C$1017),0)","v":0},{"$f":"IFERROR($E73*SUMIF('Daily Log'!$E$18:$E$1017,$B73,'Daily Log'!$F$18:$F$1017),0)","v":0},{"$f":"IFERROR($E73*SUMIF('Daily Log'!$H$18:$H$1017,$B73,'Daily Log'!$I$18:$I$1017),0)","v":0},{"$f":"IFERROR($E73*SUMIF('Daily Log'!$K$18:$K$1017,$B73,'Daily Log'!$L$18:$L$1017),0)","v":0},{"$f":"IFERROR($E73*SUMIF('Daily Log'!$N$18:$N$1017,$B73,'Daily Log'!$O$18:$O$1017),0)","v":0},{"$f":"IFERROR($E73*SUMIF('Daily Log'!$Q$18:$Q$1017,$B73,'Daily Log'!$R$18:$R$1017),0)","v":0},{"$f":"IFERROR($E73*SUMIF('Daily Log'!$T$18:$T$1017,$B73,'Daily Log'!$U$18:$U$1017),0)","v":0},{"$f":"IFERROR($E73*SUMIF('Daily Log'!$W$18:$W$1017,$B73,'Daily Log'!$X$18:$X$1017),0)","v":0},{"$f":"IFERROR($E73*SUMIF('Daily Log'!$Z$18:$Z$1017,$B73,'Daily Log'!$AA$18:$AA$1017),0)","v":0},{"$f":"IFERROR($E73*SUMIF('Daily Log'!$AC$18:$AC$1017,$B73,'Daily Log'!$AD$18:$AD$1017),0)","v":0},{"$f":"IFERROR($E73*SUMIF('Daily Log'!$AF$18:$AF$1017,$B73,'Daily Log'!$AG$18:$AG$1017),0)","v":0},{"$f":"IFERROR($E73*SUMIF('Daily Log'!$AI$18:$AI$1017,$B73,'Daily Log'!$AJ$18:$AJ$1017),0)","v":0},{"$f":"IFERROR($E73*SUMIF('Daily Log'!$AL$18:$AL$1017,$B73,'Daily Log'!$AM$18:$AM$1017),0)","v":0},{"$f":"IFERROR($E73*SUMIF('Daily Log'!$AO$18:$AO$1017,$B73,'Daily Log'!$AP$18:$AP$1017),0)","v":0},{"$f":"IFERROR($E73*SUMIF('Daily Log'!$AR$18:$AR$1017,$B73,'Daily Log'!$AS$18:$AS$1017),0)","v":0},{"$f":"IFERROR($E73*SUMIF('Daily Log'!$AU$18:$AU$1017,$B73,'Daily Log'!$AV$18:$AV$1017),0)","v":0},{"$f":"IFERROR($E73*SUMIF('Daily Log'!$AX$18:$AX$1017,$B73,'Daily Log'!$AY$18:$AY$1017),0)","v":0},{"$f":"IFERROR($E73*SUMIF('Daily Log'!$BA$18:$BA$1017,$B73,'Daily Log'!$BB$18:$BB$1017),0)","v":0},{"$f":"IFERROR($E73*SUMIF('Daily Log'!$BD$18:$BD$1017,$B73,'Daily Log'!$BE$18:$BE$1017),0)","v":0},{"$f":"IFERROR($E73*SUMIF('Daily Log'!$BG$18:$BG$1017,$B73,'Daily Log'!$BH$18:$BH$1017),0)","v":0},{"$f":"IFERROR($E73*SUMIF('Daily Log'!$BJ$18:$BJ$1017,$B73,'Daily Log'!$BK$18:$BK$1017),0)","v":0},{"$f":"IFERROR($E73*SUMIF('Daily Log'!$BM$18:$BM$1017,$B73,'Daily Log'!$BN$18:$BN$1017),0)","v":0},{"$f":"IFERROR($E73*SUMIF('Daily Log'!$BP$18:$BP$1017,$B73,'Daily Log'!$BQ$18:$BQ$1017),0)","v":0},{"$f":"IFERROR($E73*SUMIF('Daily Log'!$BS$18:$BS$1017,$B73,'Daily Log'!$BT$18:$BT$1017),0)","v":0},{"$f":"IFERROR($E73*SUMIF('Daily Log'!$BV$18:$BV$1017,$B73,'Daily Log'!$BW$18:$BW$1017),0)","v":0},{"$f":"IFERROR($E73*SUMIF('Daily Log'!$BY$18:$BY$1017,$B73,'Daily Log'!$BZ$18:$BZ$1017),0)","v":0},{"$f":"IFERROR($E73*SUMIF('Daily Log'!$CB$18:$CB$1017,$B73,'Daily Log'!$CC$18:$CC$1017),0)","v":0},{"$f":"IFERROR($E73*SUMIF('Daily Log'!$CE$18:$CE$1017,$B73,'Daily Log'!$CF$18:$CF$1017),0)","v":0},{"$f":"IFERROR($E73*SUMIF('Daily Log'!$CH$18:$CH$1017,$B73,'Daily Log'!$CI$18:$CI$1017),0)","v":0},{"$f":"IFERROR($E73*SUMIF('Daily Log'!$CK$18:$CK$1017,$B73,'Daily Log'!$CL$18:$CL$1017),0)","v":0},{"$f":"IFERROR($E73*SUMIF('Daily Log'!$CN$18:$CN$1017,$B73,'Daily Log'!$CO$18:$CO$1017),0)","v":0}]
[null,"11721:D -S12-家乡春卷",null,"DINNER SNACK",1,0,{"$f":"IFERROR($E74*SUMIF('Daily Log'!$B$18:$B$1017,$B74,'Daily Log'!$C$18:$C$1017),0)","v":0},{"$f":"IFERROR($E74*SUMIF('Daily Log'!$E$18:$E$1017,$B74,'Daily Log'!$F$18:$F$1017),0)","v":0},{"$f":"IFERROR($E74*SUMIF('Daily Log'!$H$18:$H$1017,$B74,'Daily Log'!$I$18:$I$1017),0)","v":0},{"$f":"IFERROR($E74*SUMIF('Daily Log'!$K$18:$K$1017,$B74,'Daily Log'!$L$18:$L$1017),0)","v":0},{"$f":"IFERROR($E74*SUMIF('Daily Log'!$N$18:$N$1017,$B74,'Daily Log'!$O$18:$O$1017),0)","v":0},{"$f":"IFERROR($E74*SUMIF('Daily Log'!$Q$18:$Q$1017,$B74,'Daily Log'!$R$18:$R$1017),0)","v":0},{"$f":"IFERROR($E74*SUMIF('Daily Log'!$T$18:$T$1017,$B74,'Daily Log'!$U$18:$U$1017),0)","v":0},{"$f":"IFERROR($E74*SUMIF('Daily Log'!$W$18:$W$1017,$B74,'Daily Log'!$X$18:$X$1017),0)","v":0},{"$f":"IFERROR($E74*SUMIF('Daily Log'!$Z$18:$Z$1017,$B74,'Daily Log'!$AA$18:$AA$1017),0)","v":0},{"$f":"IFERROR($E74*SUMIF('Daily Log'!$AC$18:$AC$1017,$B74,'Daily Log'!$AD$18:$AD$1017),0)","v":0},{"$f":"IFERROR($E74*SUMIF('Daily Log'!$AF$18:$AF$1017,$B74,'Daily Log'!$AG$18:$AG$1017),0)","v":0},{"$f":"IFERROR($E74*SUMIF('Daily Log'!$AI$18:$AI$1017,$B74,'Daily Log'!$AJ$18:$AJ$1017),0)","v":0},{"$f":"IFERROR($E74*SUMIF('Daily Log'!$AL$18:$AL$1017,$B74,'Daily Log'!$AM$18:$AM$1017),0)","v":0},{"$f":"IFERROR($E74*SUMIF('Daily Log'!$AO$18:$AO$1017,$B74,'Daily Log'!$AP$18:$AP$1017),0)","v":0},{"$f":"IFERROR($E74*SUMIF('Daily Log'!$AR$18:$AR$1017,$B74,'Daily Log'!$AS$18:$AS$1017),0)","v":0},{"$f":"IFERROR($E74*SUMIF('Daily Log'!$AU$18:$AU$1017,$B74,'Daily Log'!$AV$18:$AV$1017),0)","v":0},{"$f":"IFERROR($E74*SUMIF('Daily Log'!$AX$18:$AX$1017,$B74,'Daily Log'!$AY$18:$AY$1017),0)","v":0},{"$f":"IFERROR($E74*SUMIF('Daily Log'!$BA$18:$BA$1017,$B74,'Daily Log'!$BB$18:$BB$1017),0)","v":0},{"$f":"IFERROR($E74*SUMIF('Daily Log'!$BD$18:$BD$1017,$B74,'Daily Log'!$BE$18:$BE$1017),0)","v":0},{"$f":"IFERROR($E74*SUMIF('Daily Log'!$BG$18:$BG$1017,$B74,'Daily Log'!$BH$18:$BH$1017),0)","v":0},{"$f":"IFERROR($E74*SUMIF('Daily Log'!$BJ$18:$BJ$1017,$B74,'Daily Log'!$BK$18:$BK$1017),0)","v":0},{"$f":"IFERROR($E74*SUMIF('Daily Log'!$BM$18:$BM$1017,$B74,'Daily Log'!$BN$18:$BN$1017),0)","v":0},{"$f":"IFERROR($E74*SUMIF('Daily Log'!$BP$18:$BP$1017,$B74,'Daily Log'!$BQ$18:$BQ$1017),0)","v":0},{"$f":"IFERROR($E74*SUMIF('Daily Log'!$BS$18:$BS$1017,$B74,'Daily Log'!$BT$18:$BT$1017),0)","v":0},{"$f":"IFERROR($E74*SUMIF('Daily Log'!$BV$18:$BV$1017,$B74,'Daily Log'!$BW$18:$BW$1017),0)","v":0},{"$f":"IFERROR($E74*SUMIF('Daily Log'!$BY$18:$BY$1017,$B74,'Daily Log'!$BZ$18:$BZ$1017),0)","v":0},{"$f":"IFERROR($E74*SUMIF('Daily Log'!$CB$18:$CB$1017,$B74,'Daily Log'!$CC$18:$CC$1017),0)","v":0},{"$f":"IFERROR($E74*SUMIF('Daily Log'!$CE$18:$CE$1017,$B74,'Daily Log'!$CF$18:$CF$1017),0)","v":0},{"$f":"IFERROR($E74*SUMIF('Daily Log'!$CH$18:$CH$1017,$B74,'Daily Log'!$CI$18:$CI$1017),0)","v":0},{"$f":"IFERROR($E74*SUMIF('Daily Log'!$CK$18:$CK$1017,$B74,'Daily Log'!$CL$18:$CL$1017),0)","v":0},{"$f":"IFERROR($E74*SUMIF('Daily Log'!$CN$18:$CN$1017,$B74,'Daily Log'!$CO$18:$CO$1017),0)","v":0}]
[null,"11722:D -S11-洋葱圈圈",null,"DINNER SNACK",1,0,{"$f":"IFERROR($E75*SUMIF('Daily Log'!$B$18:$B$1017,$B75,'Daily Log'!$C$18:$C$1017),0)","v":0},{"$f":"IFERROR($E75*SUMIF('Daily Log'!$E$18:$E$1017,$B75,'Daily Log'!$F$18:$F$1017),0)","v":0},{"$f":"IFERROR($E75*SUMIF('Daily Log'!$H$18:$H$1017,$B75,'Daily Log'!$I$18:$I$1017),0)","v":0},{"$f":"IFERROR($E75*SUMIF('Daily Log'!$K$18:$K$1017,$B75,'Daily Log'!$L$18:$L$1017),0)","v":0},{"$f":"IFERROR($E75*SUMIF('Daily Log'!$N$18:$N$1017,$B75,'Daily Log'!$O$18:$O$1017),0)","v":0},{"$f":"IFERROR($E75*SUMIF('Daily Log'!$Q$18:$Q$1017,$B75,'Daily Log'!$R$18:$R$1017),0)","v":0},{"$f":"IFERROR($E75*SUMIF('Daily Log'!$T$18:$T$1017,$B75,'Daily Log'!$U$18:$U$1017),0)","v":0},{"$f":"IFERROR($E75*SUMIF('Daily Log'!$W$18:$W$1017,$B75,'Daily Log'!$X$18:$X$1017),0)","v":0},{"$f":"IFERROR($E75*SUMIF('Daily Log'!$Z$18:$Z$1017,$B75,'Daily Log'!$AA$18:$AA$1017),0)","v":0},{"$f":"IFERROR($E75*SUMIF('Daily Log'!$AC$18:$AC$1017,$B75,'Daily Log'!$AD$18:$AD$1017),0)","v":0},{"$f":"IFERROR($E75*SUMIF('Daily Log'!$AF$18:$AF$1017,$B75,'Daily Log'!$AG$18:$AG$1017),0)","v":0},{"$f":"IFERROR($E75*SUMIF('Daily Log'!$AI$18:$AI$1017,$B75,'Daily Log'!$AJ$18:$AJ$1017),0)","v":0},{"$f":"IFERROR($E75*SUMIF('Daily Log'!$AL$18:$AL$1017,$B75,'Daily Log'!$AM$18:$AM$1017),0)","v":0},{"$f":"IFERROR($E75*SUMIF('Daily Log'!$AO$18:$AO$1017,$B75,'Daily Log'!$AP$18:$AP$1017),0)","v":0},{"$f":"IFERROR($E75*SUMIF('Daily Log'!$AR$18:$AR$1017,$B75,'Daily Log'!$AS$18:$AS$1017),0)","v":0},{"$f":"IFERROR($E75*SUMIF('Daily Log'!$AU$18:$AU$1017,$B75,'Daily Log'!$AV$18:$AV$1017),0)","v":0},{"$f":"IFERROR($E75*SUMIF('Daily Log'!$AX$18:$AX$1017,$B75,'Daily Log'!$AY$18:$AY$1017),0)","v":0},{"$f":"IFERROR($E75*SUMIF('Daily Log'!$BA$18:$BA$1017,$B75,'Daily Log'!$BB$18:$BB$1017),0)","v":0},{"$f":"IFERROR($E75*SUMIF('Daily Log'!$BD$18:$BD$1017,$B75,'Daily Log'!$BE$18:$BE$1017),0)","v":0},{"$f":"IFERROR($E75*SUMIF('Daily Log'!$BG$18:$BG$1017,$B75,'Daily Log'!$BH$18:$BH$1017),0)","v":0},{"$f":"IFERROR($E75*SUMIF('Daily Log'!$BJ$18:$BJ$1017,$B75,'Daily Log'!$BK$18:$BK$1017),0)","v":0},{"$f":"IFERROR($E75*SUMIF('Daily Log'!$BM$18:$BM$1017,$B75,'Daily Log'!$BN$18:$BN$1017),0)","v":0},{"$f":"IFERROR($E75*SUMIF('Daily Log'!$BP$18:$BP$1017,$B75,'Daily Log'!$BQ$18:$BQ$1017),0)","v":0},{"$f":"IFERROR($E75*SUMIF('Daily Log'!$BS$18:$BS$1017,$B75,'Daily Log'!$BT$18:$BT$1017),0)","v":0},{"$f":"IFERROR($E75*SUMIF('Daily Log'!$BV$18:$BV$1017,$B75,'Daily Log'!$BW$18:$BW$1017),0)","v":0},{"$f":"IFERROR($E75*SUMIF('Daily Log'!$BY$18:$BY$1017,$B75,'Daily Log'!$BZ$18:$BZ$1017),0)","v":0},{"$f":"IFERROR($E75*SUMIF('Daily Log'!$CB$18:$CB$1017,$B75,'Daily Log'!$CC$18:$CC$1017),0)","v":0},{"$f":"IFERROR($E75*SUMIF('Daily Log'!$CE$18:$CE$1017,$B75,'Daily Log'!$CF$18:$CF$1017),0)","v":0},{"$f":"IFERROR($E75*SUMIF('Daily Log'!$CH$18:$CH$1017,$B75,'Daily Log'!$CI$18:$CI$1017),0)","v":0},{"$f":"IFERROR($E75*SUMIF('Daily Log'!$CK$18:$CK$1017,$B75,'Daily Log'!$CL$18:$CL$1017),0)","v":0},{"$f":"IFERROR($E75*SUMIF('Daily Log'!$CN$18:$CN$1017,$B75,'Daily Log'!$CO$18:$CO$1017),0)","v":0}]
[null,"11725:D -S07-小鸡块块",null,"DINNER SNACK",1,0,{"$f":"IFERROR($E76*SUMIF('Daily Log'!$B$18:$B$1017,$B76,'Daily Log'!$C$18:$C$1017),0)","v":0},{"$f":"IFERROR($E76*SUMIF('Daily Log'!$E$18:$E$1017,$B76,'Daily Log'!$F$18:$F$1017),0)","v":0},{"$f":"IFERROR($E76*SUMIF('Daily Log'!$H$18:$H$1017,$B76,'Daily Log'!$I$18:$I$1017),0)","v":0},{"$f":"IFERROR($E76*SUMIF('Daily Log'!$K$18:$K$1017,$B76,'Daily Log'!$L$18:$L$1017),0)","v":0},{"$f":"IFERROR($E76*SUMIF('Daily Log'!$N$18:$N$1017,$B76,'Daily Log'!$O$18:$O$1017),0)","v":0},{"$f":"IFERROR($E76*SUMIF('Daily Log'!$Q$18:$Q$1017,$B76,'Daily Log'!$R$18:$R$1017),0)","v":0},{"$f":"IFERROR($E76*SUMIF('Daily Log'!$T$18:$T$1017,$B76,'Daily Log'!$U$18:$U$1017),0)","v":0},{"$f":"IFERROR($E76*SUMIF('Daily Log'!$W$18:$W$1017,$B76,'Daily Log'!$X$18:$X$1017),0)","v":0},{"$f":"IFERROR($E76*SUMIF('Daily Log'!$Z$18:$Z$1017,$B76,'Daily Log'!$AA$18:$AA$1017),0)","v":0},{"$f":"IFERROR($E76*SUMIF('Daily Log'!$AC$18:$AC$1017,$B76,'Daily Log'!$AD$18:$AD$1017),0)","v":0},{"$f":"IFERROR($E76*SUMIF('Daily Log'!$AF$18:$AF$1017,$B76,'Daily Log'!$AG$18:$AG$1017),0)","v":0},{"$f":"IFERROR($E76*SUMIF('Daily Log'!$AI$18:$AI$1017,$B76,'Daily Log'!$AJ$18:$AJ$1017),0)","v":0},{"$f":"IFERROR($E76*SUMIF('Daily Log'!$AL$18:$AL$1017,$B76,'Daily Log'!$AM$18:$AM$1017),0)","v":0},{"$f":"IFERROR($E76*SUMIF('Daily Log'!$AO$18:$AO$1017,$B76,'Daily Log'!$AP$18:$AP$1017),0)","v":0},{"$f":"IFERROR($E76*SUMIF('Daily Log'!$AR$18:$AR$1017,$B76,'Daily Log'!$AS$18:$AS$1017),0)","v":0},{"$f":"IFERROR($E76*SUMIF('Daily Log'!$AU$18:$AU$1017,$B76,'Daily Log'!$AV$18:$AV$1017),0)","v":0},{"$f":"IFERROR($E76*SUMIF('Daily Log'!$AX$18:$AX$1017,$B76,'Daily Log'!$AY$18:$AY$1017),0)","v":0},{"$f":"IFERROR($E76*SUMIF('Daily Log'!$BA$18:$BA$1017,$B76,'Daily Log'!$BB$18:$BB$1017),0)","v":0},{"$f":"IFERROR($E76*SUMIF('Daily Log'!$BD$18:$BD$1017,$B76,'Daily Log'!$BE$18:$BE$1017),0)","v":0},{"$f":"IFERROR($E76*SUMIF('Daily Log'!$BG$18:$BG$1017,$B76,'Daily Log'!$BH$18:$BH$1017),0)","v":0},{"$f":"IFERROR($E76*SUMIF('Daily Log'!$BJ$18:$BJ$1017,$B76,'Daily Log'!$BK$18:$BK$1017),0)","v":0},{"$f":"IFERROR($E76*SUMIF('Daily Log'!$BM$18:$BM$1017,$B76,'Daily Log'!$BN$18:$BN$1017),0)","v":0},{"$f":"IFERROR($E76*SUMIF('Daily Log'!$BP$18:$BP$1017,$B76,'Daily Log'!$BQ$18:$BQ$1017),0)","v":0},{"$f":"IFERROR($E76*SUMIF('Daily Log'!$BS$18:$BS$1017,$B76,'Daily Log'!$BT$18:$BT$1017),0)","v":0},{"$f":"IFERROR($E76*SUMIF('Daily Log'!$BV$18:$BV$1017,$B76,'Daily Log'!$BW$18:$BW$1017),0)","v":0},{"$f":"IFERROR($E76*SUMIF('Daily Log'!$BY$18:$BY$1017,$B76,'Daily Log'!$BZ$18:$BZ$1017),0)","v":0},{"$f":"IFERROR($E76*SUMIF('Daily Log'!$CB$18:$CB$1017,$B76,'Daily Log'!$CC$18:$CC$1017),0)","v":0},{"$f":"IFERROR($E76*SUMIF('Daily Log'!$CE$18:$CE$1017,$B76,'Daily Log'!$CF$18:$CF$1017),0)","v":0},{"$f":"IFERROR($E76*SUMIF('Daily Log'!$CH$18:$CH$1017,$B76,'Daily Log'!$CI$18:$CI$1017),0)","v":0},{"$f":"IFERROR($E76*SUMIF('Daily Log'!$CK$18:$CK$1017,$B76,'Daily Log'!$CL$18:$CL$1017),0)","v":0},{"$f":"IFERROR($E76*SUMIF('Daily Log'!$CN$18:$CN$1017,$B76,'Daily Log'!$CO$18:$CO$1017),0)","v":0}]
[null,"11728:D -S05-小乳鸡翅",null,"DINNER SNACK",1,0,{"$f":"IFERROR($E77*SUMIF('Daily Log'!$B$18:$B$1017,$B77,'Daily Log'!$C$18:$C$1017),0)","v":0},{"$f":"IFERROR($E77*SUMIF('Daily Log'!$E$18:$E$1017,$B77,'Daily Log'!$F$18:$F$1017),0)","v":0},{"$f":"IFERROR($E77*SUMIF('Daily Log'!$H$18:$H$1017,$B77,'Daily Log'!$I$18:$I$1017),0)","v":0},{"$f":"IFERROR($E77*SUMIF('Daily Log'!$K$18:$K$1017,$B77,'Daily Log'!$L$18:$L$1017),0)","v":0},{"$f":"IFERROR($E77*SUMIF('Daily Log'!$N$18:$N$1017,$B77,'Daily Log'!$O$18:$O$1017),0)","v":0},{"$f":"IFERROR($E77*SUMIF('Daily Log'!$Q$18:$Q$1017,$B77,'Daily Log'!$R$18:$R$1017),0)","v":0},{"$f":"IFERROR($E77*SUMIF('Daily Log'!$T$18:$T$1017,$B77,'Daily Log'!$U$18:$U$1017),0)","v":0},{"$f":"IFERROR($E77*SUMIF('Daily Log'!$W$18:$W$1017,$B77,'Daily Log'!$X$18:$X$1017),0)","v":0},{"$f":"IFERROR($E77*SUMIF('Daily Log'!$Z$18:$Z$1017,$B77,'Daily Log'!$AA$18:$AA$1017),0)","v":0},{"$f":"IFERROR($E77*SUMIF('Daily Log'!$AC$18:$AC$1017,$B77,'Daily Log'!$AD$18:$AD$1017),0)","v":0},{"$f":"IFERROR($E77*SUMIF('Daily Log'!$AF$18:$AF$1017,$B77,'Daily Log'!$AG$18:$AG$1017),0)","v":0},{"$f":"IFERROR($E77*SUMIF('Daily Log'!$AI$18:$AI$1017,$B77,'Daily Log'!$AJ$18:$AJ$1017),0)","v":0},{"$f":"IFERROR($E77*SUMIF('Daily Log'!$AL$18:$AL$1017,$B77,'Daily Log'!$AM$18:$AM$1017),0)","v":0},{"$f":"IFERROR($E77*SUMIF('Daily Log'!$AO$18:$AO$1017,$B77,'Daily Log'!$AP$18:$AP$1017),0)","v":0},{"$f":"IFERROR($E77*SUMIF('Daily Log'!$AR$18:$AR$1017,$B77,'Daily Log'!$AS$18:$AS$1017),0)","v":0},{"$f":"IFERROR($E77*SUMIF('Daily Log'!$AU$18:$AU$1017,$B77,'Daily Log'!$AV$18:$AV$1017),0)","v":0},{"$f":"IFERROR($E77*SUMIF('Daily Log'!$AX$18:$AX$1017,$B77,'Daily Log'!$AY$18:$AY$1017),0)","v":0},{"$f":"IFERROR($E77*SUMIF('Daily Log'!$BA$18:$BA$1017,$B77,'Daily Log'!$BB$18:$BB$1017),0)","v":0},{"$f":"IFERROR($E77*SUMIF('Daily Log'!$BD$18:$BD$1017,$B77,'Daily Log'!$BE$18:$BE$1017),0)","v":0},{"$f":"IFERROR($E77*SUMIF('Daily Log'!$BG$18:$BG$1017,$B77,'Daily Log'!$BH$18:$BH$1017),0)","v":0},{"$f":"IFERROR($E77*SUMIF('Daily Log'!$BJ$18:$BJ$1017,$B77,'Daily Log'!$BK$18:$BK$1017),0)","v":0},{"$f":"IFERROR($E77*SUMIF('Daily Log'!$BM$18:$BM$1017,$B77,'Daily Log'!$BN$18:$BN$1017),0)","v":0},{"$f":"IFERROR($E77*SUMIF('Daily Log'!$BP$18:$BP$1017,$B77,'Daily Log'!$BQ$18:$BQ$1017),0)","v":0},{"$f":"IFERROR($E77*SUMIF('Daily Log'!$BS$18:$BS$1017,$B77,'Daily Log'!$BT$18:$BT$1017),0)","v":0},{"$f":"IFERROR($E77*SUMIF('Daily Log'!$BV$18:$BV$1017,$B77,'Daily Log'!$BW$18:$BW$1017),0)","v":0},{"$f":"IFERROR($E77*SUMIF('Daily Log'!$BY$18:$BY$1017,$B77,'Daily Log'!$BZ$18:$BZ$1017),0)","v":0},{"$f":"IFERROR($E77*SUMIF('Daily Log'!$CB$18:$CB$1017,$B77,'Daily Log'!$CC$18:$CC$1017),0)","v":0},{"$f":"IFERROR($E77*SUMIF('Daily Log'!$CE$18:$CE$1017,$B77,'Daily Log'!$CF$18:$CF$1017),0)","v":0},{"$f":"IFERROR($E77*SUMIF('Daily Log'!$CH$18:$CH$1017,$B77,'Daily Log'!$CI$18:$CI$1017),0)","v":0},{"$f":"IFERROR($E77*SUMIF('Daily Log'!$CK$18:$CK$1017,$B77,'Daily Log'!$CL$18:$CL$1017),0)","v":0},{"$f":"IFERROR($E77*SUMIF('Daily Log'!$CN$18:$CN$1017,$B77,'Daily Log'!$CO$18:$CO$1017),0)","v":0}]
[null,"11740:D -S01-小热狗包",null,"DINNER SNACK",1,0,{"$f":"IFERROR($E78*SUMIF('Daily Log'!$B$18:$B$1017,$B78,'Daily Log'!$C$18:$C$1017),0)","v":0},{"$f":"IFERROR($E78*SUMIF('Daily Log'!$E$18:$E$1017,$B78,'Daily Log'!$F$18:$F$1017),0)","v":0},{"$f":"IFERROR($E78*SUMIF('Daily Log'!$H$18:$H$1017,$B78,'Daily Log'!$I$18:$I$1017),0)","v":0},{"$f":"IFERROR($E78*SUMIF('Daily Log'!$K$18:$K$1017,$B78,'Daily Log'!$L$18:$L$1017),0)","v":0},{"$f":"IFERROR($E78*SUMIF('Daily Log'!$N$18:$N$1017,$B78,'Daily Log'!$O$18:$O$1017),0)","v":0},{"$f":"IFERROR($E78*SUMIF('Daily Log'!$Q$18:$Q$1017,$B78,'Daily Log'!$R$18:$R$1017),0)","v":0},{"$f":"IFERROR($E78*SUMIF('Daily Log'!$T$18:$T$1017,$B78,'Daily Log'!$U$18:$U$1017),0)","v":0},{"$f":"IFERROR($E78*SUMIF('Daily Log'!$W$18:$W$1017,$B78,'Daily Log'!$X$18:$X$1017),0)","v":0},{"$f":"IFERROR($E78*SUMIF('Daily Log'!$Z$18:$Z$1017,$B78,'Daily Log'!$AA$18:$AA$1017),0)","v":0},{"$f":"IFERROR($E78*SUMIF('Daily Log'!$AC$18:$AC$1017,$B78,'Daily Log'!$AD$18:$AD$1017),0)","v":0},{"$f":"IFERROR($E78*SUMIF('Daily Log'!$AF$18:$AF$1017,$B78,'Daily Log'!$AG$18:$AG$1017),0)","v":0},{"$f":"IFERROR($E78*SUMIF('Daily Log'!$AI$18:$AI$1017,$B78,'Daily Log'!$AJ$18:$AJ$1017),0)","v":0},{"$f":"IFERROR($E78*SUMIF('Daily Log'!$AL$18:$AL$1017,$B78,'Daily Log'!$AM$18:$AM$1017),0)","v":0},{"$f":"IFERROR($E78*SUMIF('Daily Log'!$AO$18:$AO$1017,$B78,'Daily Log'!$AP$18:$AP$1017),0)","v":0},{"$f":"IFERROR($E78*SUMIF('Daily Log'!$AR$18:$AR$1017,$B78,'Daily Log'!$AS$18:$AS$1017),0)","v":0},{"$f":"IFERROR($E78*SUMIF('Daily Log'!$AU$18:$AU$1017,$B78,'Daily Log'!$AV$18:$AV$1017),0)","v":0},{"$f":"IFERROR($E78*SUMIF('Daily Log'!$AX$18:$AX$1017,$B78,'Daily Log'!$AY$18:$AY$1017),0)","v":0},{"$f":"IFERROR($E78*SUMIF('Daily Log'!$BA$18:$BA$1017,$B78,'Daily Log'!$BB$18:$BB$1017),0)","v":0},{"$f":"IFERROR($E78*SUMIF('Daily Log'!$BD$18:$BD$1017,$B78,'Daily Log'!$BE$18:$BE$1017),0)","v":0},{"$f":"IFERROR($E78*SUMIF('Daily Log'!$BG$18:$BG$1017,$B78,'Daily Log'!$BH$18:$BH$1017),0)","v":0},{"$f":"IFERROR($E78*SUMIF('Daily Log'!$BJ$18:$BJ$1017,$B78,'Daily Log'!$BK$18:$BK$1017),0)","v":0},{"$f":"IFERROR($E78*SUMIF('Daily Log'!$BM$18:$BM$1017,$B78,'Daily Log'!$BN$18:$BN$1017),0)","v":0},{"$f":"IFERROR($E78*SUMIF('Daily Log'!$BP$18:$BP$1017,$B78,'Daily Log'!$BQ$18:$BQ$1017),0)","v":0},{"$f":"IFERROR($E78*SUMIF('Daily Log'!$BS$18:$BS$1017,$B78,'Daily Log'!$BT$18:$BT$1017),0)","v":0},{"$f":"IFERROR($E78*SUMIF('Daily Log'!$BV$18:$BV$1017,$B78,'Daily Log'!$BW$18:$BW$1017),0)","v":0},{"$f":"IFERROR($E78*SUMIF('Daily Log'!$BY$18:$BY$1017,$B78,'Daily Log'!$BZ$18:$BZ$1017),0)","v":0},{"$f":"IFERROR($E78*SUMIF('Daily Log'!$CB$18:$CB$1017,$B78,'Daily Log'!$CC$18:$CC$1017),0)","v":0},{"$f":"IFERROR($E78*SUMIF('Daily Log'!$CE$18:$CE$1017,$B78,'Daily Log'!$CF$18:$CF$1017),0)","v":0},{"$f":"IFERROR($E78*SUMIF('Daily Log'!$CH$18:$CH$1017,$B78,'Daily Log'!$CI$18:$CI$1017),0)","v":0},{"$f":"IFERROR($E78*SUMIF('Daily Log'!$CK$18:$CK$1017,$B78,'Daily Log'!$CL$18:$CL$1017),0)","v":0},{"$f":"IFERROR($E78*SUMIF('Daily Log'!$CN$18:$CN$1017,$B78,'Daily Log'!$CO$18:$CO$1017),0)","v":0}]
[null,"11742:D -S04-小肠弯弯",null,"DINNER SNACK",1,0,{"$f":"IFERROR($E79*SUMIF('Daily Log'!$B$18:$B$1017,$B79,'Daily Log'!$C$18:$C$1017),0)","v":0},{"$f":"IFERROR($E79*SUMIF('Daily Log'!$E$18:$E$1017,$B79,'Daily Log'!$F$18:$F$1017),0)","v":0},{"$f":"IFERROR($E79*SUMIF('Daily Log'!$H$18:$H$1017,$B79,'Daily Log'!$I$18:$I$1017),0)","v":0},{"$f":"IFERROR($E79*SUMIF('Daily Log'!$K$18:$K$1017,$B79,'Daily Log'!$L$18:$L$1017),0)","v":0},{"$f":"IFERROR($E79*SUMIF('Daily Log'!$N$18:$N$1017,$B79,'Daily Log'!$O$18:$O$1017),0)","v":0},{"$f":"IFERROR($E79*SUMIF('Daily Log'!$Q$18:$Q$1017,$B79,'Daily Log'!$R$18:$R$1017),0)","v":0},{"$f":"IFERROR($E79*SUMIF('Daily Log'!$T$18:$T$1017,$B79,'Daily Log'!$U$18:$U$1017),0)","v":0},{"$f":"IFERROR($E79*SUMIF('Daily Log'!$W$18:$W$1017,$B79,'Daily Log'!$X$18:$X$1017),0)","v":0},{"$f":"IFERROR($E79*SUMIF('Daily Log'!$Z$18:$Z$1017,$B79,'Daily Log'!$AA$18:$AA$1017),0)","v":0},{"$f":"IFERROR($E79*SUMIF('Daily Log'!$AC$18:$AC$1017,$B79,'Daily Log'!$AD$18:$AD$1017),0)","v":0},{"$f":"IFERROR($E79*SUMIF('Daily Log'!$AF$18:$AF$1017,$B79,'Daily Log'!$AG$18:$AG$1017),0)","v":0},{"$f":"IFERROR($E79*SUMIF('Daily Log'!$AI$18:$AI$1017,$B79,'Daily Log'!$AJ$18:$AJ$1017),0)","v":0},{"$f":"IFERROR($E79*SUMIF('Daily Log'!$AL$18:$AL$1017,$B79,'Daily Log'!$AM$18:$AM$1017),0)","v":0},{"$f":"IFERROR($E79*SUMIF('Daily Log'!$AO$18:$AO$1017,$B79,'Daily Log'!$AP$18:$AP$1017),0)","v":0},{"$f":"IFERROR($E79*SUMIF('Daily Log'!$AR$18:$AR$1017,$B79,'Daily Log'!$AS$18:$AS$1017),0)","v":0},{"$f":"IFERROR($E79*SUMIF('Daily Log'!$AU$18:$AU$1017,$B79,'Daily Log'!$AV$18:$AV$1017),0)","v":0},{"$f":"IFERROR($E79*SUMIF('Daily Log'!$AX$18:$AX$1017,$B79,'Daily Log'!$AY$18:$AY$1017),0)","v":0},{"$f":"IFERROR($E79*SUMIF('Daily Log'!$BA$18:$BA$1017,$B79,'Daily Log'!$BB$18:$BB$1017),0)","v":0},{"$f":"IFERROR($E79*SUMIF('Daily Log'!$BD$18:$BD$1017,$B79,'Daily Log'!$BE$18:$BE$1017),0)","v":0},{"$f":"IFERROR($E79*SUMIF('Daily Log'!$BG$18:$BG$1017,$B79,'Daily Log'!$BH$18:$BH$1017),0)","v":0},{"$f":"IFERROR($E79*SUMIF('Daily Log'!$BJ$18:$BJ$1017,$B79,'Daily Log'!$BK$18:$BK$1017),0)","v":0},{"$f":"IFERROR($E79*SUMIF('Daily Log'!$BM$18:$BM$1017,$B79,'Daily Log'!$BN$18:$BN$1017),0)","v":0},{"$f":"IFERROR($E79*SUMIF('Daily Log'!$BP$18:$BP$1017,$B79,'Daily Log'!$BQ$18:$BQ$1017),0)","v":0},{"$f":"IFERROR($E79*SUMIF('Daily Log'!$BS$18:$BS$1017,$B79,'Daily Log'!$BT$18:$BT$1017),0)","v":0},{"$f":"IFERROR($E79*SUMIF('Daily Log'!$BV$18:$BV$1017,$B79,'Daily Log'!$BW$18:$BW$1017),0)","v":0},{"$f":"IFERROR($E79*SUMIF('Daily Log'!$BY$18:$BY$1017,$B79,'Daily Log'!$BZ$18:$BZ$1017),0)","v":0},{"$f":"IFERROR($E79*SUMIF('Daily Log'!$CB$18:$CB$1017,$B79,'Daily Log'!$CC$18:$CC$1017),0)","v":0},{"$f":"IFERROR($E79*SUMIF('Daily Log'!$CE$18:$CE$1017,$B79,'Daily Log'!$CF$18:$CF$1017),0)","v":0},{"$f":"IFERROR($E79*SUMIF('Daily Log'!$CH$18:$CH$1017,$B79,'Daily Log'!$CI$18:$CI$1017),0)","v":0},{"$f":"IFERROR($E79*SUMIF('Daily Log'!$CK$18:$CK$1017,$B79,'Daily Log'!$CL$18:$CL$1017),0)","v":0},{"$f":"IFERROR($E79*SUMIF('Daily Log'!$CN$18:$CN$1017,$B79,'Daily Log'!$CO$18:$CO$1017),0)","v":0}]
[null,"11743:D -S08-海鲜豆腐",null,"DINNER SNACK",1,0,{"$f":"IFERROR($E80*SUMIF('Daily Log'!$B$18:$B$1017,$B80,'Daily Log'!$C$18:$C$1017),0)","v":0},{"$f":"IFERROR($E80*SUMIF('Daily Log'!$E$18:$E$1017,$B80,'Daily Log'!$F$18:$F$1017),0)","v":0},{"$f":"IFERROR($E80*SUMIF('Daily Log'!$H$18:$H$1017,$B80,'Daily Log'!$I$18:$I$1017),0)","v":0},{"$f":"IFERROR($E80*SUMIF('Daily Log'!$K$18:$K$1017,$B80,'Daily Log'!$L$18:$L$1017),0)","v":0},{"$f":"IFERROR($E80*SUMIF('Daily Log'!$N$18:$N$1017,$B80,'Daily Log'!$O$18:$O$1017),0)","v":0},{"$f":"IFERROR($E80*SUMIF('Daily Log'!$Q$18:$Q$1017,$B80,'Daily Log'!$R$18:$R$1017),0)","v":0},{"$f":"IFERROR($E80*SUMIF('Daily Log'!$T$18:$T$1017,$B80,'Daily Log'!$U$18:$U$1017),0)","v":0},{"$f":"IFERROR($E80*SUMIF('Daily Log'!$W$18:$W$1017,$B80,'Daily Log'!$X$18:$X$1017),0)","v":0},{"$f":"IFERROR($E80*SUMIF('Daily Log'!$Z$18:$Z$1017,$B80,'Daily Log'!$AA$18:$AA$1017),0)","v":0},{"$f":"IFERROR($E80*SUMIF('Daily Log'!$AC$18:$AC$1017,$B80,'Daily Log'!$AD$18:$AD$1017),0)","v":0},{"$f":"IFERROR($E80*SUMIF('Daily Log'!$AF$18:$AF$1017,$B80,'Daily Log'!$AG$18:$AG$1017),0)","v":0},{"$f":"IFERROR($E80*SUMIF('Daily Log'!$AI$18:$AI$1017,$B80,'Daily Log'!$AJ$18:$AJ$1017),0)","v":0},{"$f":"IFERROR($E80*SUMIF('Daily Log'!$AL$18:$AL$1017,$B80,'Daily Log'!$AM$18:$AM$1017),0)","v":0},{"$f":"IFERROR($E80*SUMIF('Daily Log'!$AO$18:$AO$1017,$B80,'Daily Log'!$AP$18:$AP$1017),0)","v":0},{"$f":"IFERROR($E80*SUMIF('Daily Log'!$AR$18:$AR$1017,$B80,'Daily Log'!$AS$18:$AS$1017),0)","v":0},{"$f":"IFERROR($E80*SUMIF('Daily Log'!$AU$18:$AU$1017,$B80,'Daily Log'!$AV$18:$AV$1017),0)","v":0},{"$f":"IFERROR($E80*SUMIF('Daily Log'!$AX$18:$AX$1017,$B80,'Daily Log'!$AY$18:$AY$1017),0)","v":0},{"$f":"IFERROR($E80*SUMIF('Daily Log'!$BA$18:$BA$1017,$B80,'Daily Log'!$BB$18:$BB$1017),0)","v":0},{"$f":"IFERROR($E80*SUMIF('Daily Log'!$BD$18:$BD$1017,$B80,'Daily Log'!$BE$18:$BE$1017),0)","v":0},{"$f":"IFERROR($E80*SUMIF('Daily Log'!$BG$18:$BG$1017,$B80,'Daily Log'!$BH$18:$BH$1017),0)","v":0},{"$f":"IFERROR($E80*SUMIF('Daily Log'!$BJ$18:$BJ$1017,$B80,'Daily Log'!$BK$18:$BK$1017),0)","v":0},{"$f":"IFERROR($E80*SUMIF('Daily Log'!$BM$18:$BM$1017,$B80,'Daily Log'!$BN$18:$BN$1017),0)","v":0},{"$f":"IFERROR($E80*SUMIF('Daily Log'!$BP$18:$BP$1017,$B80,'Daily Log'!$BQ$18:$BQ$1017),0)","v":0},{"$f":"IFERROR($E80*SUMIF('Daily Log'!$BS$18:$BS$1017,$B80,'Daily Log'!$BT$18:$BT$1017),0)","v":0},{"$f":"IFERROR($E80*SUMIF('Daily Log'!$BV$18:$BV$1017,$B80,'Daily Log'!$BW$18:$BW$1017),0)","v":0},{"$f":"IFERROR($E80*SUMIF('Daily Log'!$BY$18:$BY$1017,$B80,'Daily Log'!$BZ$18:$BZ$1017),0)","v":0},{"$f":"IFERROR($E80*SUMIF('Daily Log'!$CB$18:$CB$1017,$B80,'Daily Log'!$CC$18:$CC$1017),0)","v":0},{"$f":"IFERROR($E80*SUMIF('Daily Log'!$CE$18:$CE$1017,$B80,'Daily Log'!$CF$18:$CF$1017),0)","v":0},{"$f":"IFERROR($E80*SUMIF('Daily Log'!$CH$18:$CH$1017,$B80,'Daily Log'!$CI$18:$CI$1017),0)","v":0},{"$f":"IFERROR($E80*SUMIF('Daily Log'!$CK$18:$CK$1017,$B80,'Daily Log'!$CL$18:$CL$1017),0)","v":0},{"$f":"IFERROR($E80*SUMIF('Daily Log'!$CN$18:$CN$1017,$B80,'Daily Log'!$CO$18:$CO$1017),0)","v":0}]
[null,"11744:D -S09-沙律卷卷",null,"DINNER SNACK",1,0,{"$f":"IFERROR($E81*SUMIF('Daily Log'!$B$18:$B$1017,$B81,'Daily Log'!$C$18:$C$1017),0)","v":0},{"$f":"IFERROR($E81*SUMIF('Daily Log'!$E$18:$E$1017,$B81,'Daily Log'!$F$18:$F$1017),0)","v":0},{"$f":"IFERROR($E81*SUMIF('Daily Log'!$H$18:$H$1017,$B81,'Daily Log'!$I$18:$I$1017),0)","v":0},{"$f":"IFERROR($E81*SUMIF('Daily Log'!$K$18:$K$1017,$B81,'Daily Log'!$L$18:$L$1017),0)","v":0},{"$f":"IFERROR($E81*SUMIF('Daily Log'!$N$18:$N$1017,$B81,'Daily Log'!$O$18:$O$1017),0)","v":0},{"$f":"IFERROR($E81*SUMIF('Daily Log'!$Q$18:$Q$1017,$B81,'Daily Log'!$R$18:$R$1017),0)","v":0},{"$f":"IFERROR($E81*SUMIF('Daily Log'!$T$18:$T$1017,$B81,'Daily Log'!$U$18:$U$1017),0)","v":0},{"$f":"IFERROR($E81*SUMIF('Daily Log'!$W$18:$W$1017,$B81,'Daily Log'!$X$18:$X$1017),0)","v":0},{"$f":"IFERROR($E81*SUMIF('Daily Log'!$Z$18:$Z$1017,$B81,'Daily Log'!$AA$18:$AA$1017),0)","v":0},{"$f":"IFERROR($E81*SUMIF('Daily Log'!$AC$18:$AC$1017,$B81,'Daily Log'!$AD$18:$AD$1017),0)","v":0},{"$f":"IFERROR($E81*SUMIF('Daily Log'!$AF$18:$AF$1017,$B81,'Daily Log'!$AG$18:$AG$1017),0)","v":0},{"$f":"IFERROR($E81*SUMIF('Daily Log'!$AI$18:$AI$1017,$B81,'Daily Log'!$AJ$18:$AJ$1017),0)","v":0},{"$f":"IFERROR($E81*SUMIF('Daily Log'!$AL$18:$AL$1017,$B81,'Daily Log'!$AM$18:$AM$1017),0)","v":0},{"$f":"IFERROR($E81*SUMIF('Daily Log'!$AO$18:$AO$1017,$B81,'Daily Log'!$AP$18:$AP$1017),0)","v":0},{"$f":"IFERROR($E81*SUMIF('Daily Log'!$AR$18:$AR$1017,$B81,'Daily Log'!$AS$18:$AS$1017),0)","v":0},{"$f":"IFERROR($E81*SUMIF('Daily Log'!$AU$18:$AU$1017,$B81,'Daily Log'!$AV$18:$AV$1017),0)","v":0},{"$f":"IFERROR($E81*SUMIF('Daily Log'!$AX$18:$AX$1017,$B81,'Daily Log'!$AY$18:$AY$1017),0)","v":0},{"$f":"IFERROR($E81*SUMIF('Daily Log'!$BA$18:$BA$1017,$B81,'Daily Log'!$BB$18:$BB$1017),0)","v":0},{"$f":"IFERROR($E81*SUMIF('Daily Log'!$BD$18:$BD$1017,$B81,'Daily Log'!$BE$18:$BE$1017),0)","v":0},{"$f":"IFERROR($E81*SUMIF('Daily Log'!$BG$18:$BG$1017,$B81,'Daily Log'!$BH$18:$BH$1017),0)","v":0},{"$f":"IFERROR($E81*SUMIF('Daily Log'!$BJ$18:$BJ$1017,$B81,'Daily Log'!$BK$18:$BK$1017),0)","v":0},{"$f":"IFERROR($E81*SUMIF('Daily Log'!$BM$18:$BM$1017,$B81,'Daily Log'!$BN$18:$BN$1017),0)","v":0},{"$f":"IFERROR($E81*SUMIF('Daily Log'!$BP$18:$BP$1017,$B81,'Daily Log'!$BQ$18:$BQ$1017),0)","v":0},{"$f":"IFERROR($E81*SUMIF('Daily Log'!$BS$18:$BS$1017,$B81,'Daily Log'!$BT$18:$BT$1017),0)","v":0},{"$f":"IFERROR($E81*SUMIF('Daily Log'!$BV$18:$BV$1017,$B81,'Daily Log'!$BW$18:$BW$1017),0)","v":0},{"$f":"IFERROR($E81*SUMIF('Daily Log'!$BY$18:$BY$1017,$B81,'Daily Log'!$BZ$18:$BZ$1017),0)","v":0},{"$f":"IFERROR($E81*SUMIF('Daily Log'!$CB$18:$CB$1017,$B81,'Daily Log'!$CC$18:$CC$1017),0)","v":0},{"$f":"IFERROR($E81*SUMIF('Daily Log'!$CE$18:$CE$1017,$B81,'Daily Log'!$CF$18:$CF$1017),0)","v":0},{"$f":"IFERROR($E81*SUMIF('Daily Log'!$CH$18:$CH$1017,$B81,'Daily Log'!$CI$18:$CI$1017),0)","v":0},{"$f":"IFERROR($E81*SUMIF('Daily Log'!$CK$18:$CK$1017,$B81,'Daily Log'!$CL$18:$CL$1017),0)","v":0},{"$f":"IFERROR($E81*SUMIF('Daily Log'!$CN$18:$CN$1017,$B81,'Daily Log'!$CO$18:$CO$1017),0)","v":0}]
[null,"11745:D -S10-金钱肉干",null,"DINNER SNACK",1,0,{"$f":"IFERROR($E82*SUMIF('Daily Log'!$B$18:$B$1017,$B82,'Daily Log'!$C$18:$C$1017),0)","v":0},{"$f":"IFERROR($E82*SUMIF('Daily Log'!$E$18:$E$1017,$B82,'Daily Log'!$F$18:$F$1017),0)","v":0},{"$f":"IFERROR($E82*SUMIF('Daily Log'!$H$18:$H$1017,$B82,'Daily Log'!$I$18:$I$1017),0)","v":0},{"$f":"IFERROR($E82*SUMIF('Daily Log'!$K$18:$K$1017,$B82,'Daily Log'!$L$18:$L$1017),0)","v":0},{"$f":"IFERROR($E82*SUMIF('Daily Log'!$N$18:$N$1017,$B82,'Daily Log'!$O$18:$O$1017),0)","v":0},{"$f":"IFERROR($E82*SUMIF('Daily Log'!$Q$18:$Q$1017,$B82,'Daily Log'!$R$18:$R$1017),0)","v":0},{"$f":"IFERROR($E82*SUMIF('Daily Log'!$T$18:$T$1017,$B82,'Daily Log'!$U$18:$U$1017),0)","v":0},{"$f":"IFERROR($E82*SUMIF('Daily Log'!$W$18:$W$1017,$B82,'Daily Log'!$X$18:$X$1017),0)","v":0},{"$f":"IFERROR($E82*SUMIF('Daily Log'!$Z$18:$Z$1017,$B82,'Daily Log'!$AA$18:$AA$1017),0)","v":0},{"$f":"IFERROR($E82*SUMIF('Daily Log'!$AC$18:$AC$1017,$B82,'Daily Log'!$AD$18:$AD$1017),0)","v":0},{"$f":"IFERROR($E82*SUMIF('Daily Log'!$AF$18:$AF$1017,$B82,'Daily Log'!$AG$18:$AG$1017),0)","v":0},{"$f":"IFERROR($E82*SUMIF('Daily Log'!$AI$18:$AI$1017,$B82,'Daily Log'!$AJ$18:$AJ$1017),0)","v":0},{"$f":"IFERROR($E82*SUMIF('Daily Log'!$AL$18:$AL$1017,$B82,'Daily Log'!$AM$18:$AM$1017),0)","v":0},{"$f":"IFERROR($E82*SUMIF('Daily Log'!$AO$18:$AO$1017,$B82,'Daily Log'!$AP$18:$AP$1017),0)","v":0},{"$f":"IFERROR($E82*SUMIF('Daily Log'!$AR$18:$AR$1017,$B82,'Daily Log'!$AS$18:$AS$1017),0)","v":0},{"$f":"IFERROR($E82*SUMIF('Daily Log'!$AU$18:$AU$1017,$B82,'Daily Log'!$AV$18:$AV$1017),0)","v":0},{"$f":"IFERROR($E82*SUMIF('Daily Log'!$AX$18:$AX$1017,$B82,'Daily Log'!$AY$18:$AY$1017),0)","v":0},{"$f":"IFERROR($E82*SUMIF('Daily Log'!$BA$18:$BA$1017,$B82,'Daily Log'!$BB$18:$BB$1017),0)","v":0},{"$f":"IFERROR($E82*SUMIF('Daily Log'!$BD$18:$BD$1017,$B82,'Daily Log'!$BE$18:$BE$1017),0)","v":0},{"$f":"IFERROR($E82*SUMIF('Daily Log'!$BG$18:$BG$1017,$B82,'Daily Log'!$BH$18:$BH$1017),0)","v":0},{"$f":"IFERROR($E82*SUMIF('Daily Log'!$BJ$18:$BJ$1017,$B82,'Daily Log'!$BK$18:$BK$1017),0)","v":0},{"$f":"IFERROR($E82*SUMIF('Daily Log'!$BM$18:$BM$1017,$B82,'Daily Log'!$BN$18:$BN$1017),0)","v":0},{"$f":"IFERROR($E82*SUMIF('Daily Log'!$BP$18:$BP$1017,$B82,'Daily Log'!$BQ$18:$BQ$1017),0)","v":0},{"$f":"IFERROR($E82*SUMIF('Daily Log'!$BS$18:$BS$1017,$B82,'Daily Log'!$BT$18:$BT$1017),0)","v":0},{"$f":"IFERROR($E82*SUMIF('Daily Log'!$BV$18:$BV$1017,$B82,'Daily Log'!$BW$18:$BW$1017),0)","v":0},{"$f":"IFERROR($E82*SUMIF('Daily Log'!$BY$18:$BY$1017,$B82,'Daily Log'!$BZ$18:$BZ$1017),0)","v":0},{"$f":"IFERROR($E82*SUMIF('Daily Log'!$CB$18:$CB$1017,$B82,'Daily Log'!$CC$18:$CC$1017),0)","v":0},{"$f":"IFERROR($E82*SUMIF('Daily Log'!$CE$18:$CE$1017,$B82,'Daily Log'!$CF$18:$CF$1017),0)","v":0},{"$f":"IFERROR($E82*SUMIF('Daily Log'!$CH$18:$CH$1017,$B82,'Daily Log'!$CI$18:$CI$1017),0)","v":0},{"$f":"IFERROR($E82*SUMIF('Daily Log'!$CK$18:$CK$1017,$B82,'Daily Log'!$CL$18:$CL$1017),0)","v":0},{"$f":"IFERROR($E82*SUMIF('Daily Log'!$CN$18:$CN$1017,$B82,'Daily Log'!$CO$18:$CO$1017),0)","v":0}]
[null,"11731:D -W01-香煎鸡扒",null,"DINNER WESTERN CRUISE",1,0,{"$f":"IFERROR($E83*SUMIF('Daily Log'!$B$18:$B$1017,$B83,'Daily Log'!$C$18:$C$1017),0)","v":0},{"$f":"IFERROR($E83*SUMIF('Daily Log'!$E$18:$E$1017,$B83,'Daily Log'!$F$18:$F$1017),0)","v":0},{"$f":"IFERROR($E83*SUMIF('Daily Log'!$H$18:$H$1017,$B83,'Daily Log'!$I$18:$I$1017),0)","v":0},{"$f":"IFERROR($E83*SUMIF('Daily Log'!$K$18:$K$1017,$B83,'Daily Log'!$L$18:$L$1017),0)","v":0},{"$f":"IFERROR($E83*SUMIF('Daily Log'!$N$18:$N$1017,$B83,'Daily Log'!$O$18:$O$1017),0)","v":0},{"$f":"IFERROR($E83*SUMIF('Daily Log'!$Q$18:$Q$1017,$B83,'Daily Log'!$R$18:$R$1017),0)","v":0},{"$f":"IFERROR($E83*SUMIF('Daily Log'!$T$18:$T$1017,$B83,'Daily Log'!$U$18:$U$1017),0)","v":0},{"$f":"IFERROR($E83*SUMIF('Daily Log'!$W$18:$W$1017,$B83,'Daily Log'!$X$18:$X$1017),0)","v":0},{"$f":"IFERROR($E83*SUMIF('Daily Log'!$Z$18:$Z$1017,$B83,'Daily Log'!$AA$18:$AA$1017),0)","v":0},{"$f":"IFERROR($E83*SUMIF('Daily Log'!$AC$18:$AC$1017,$B83,'Daily Log'!$AD$18:$AD$1017),0)","v":0},{"$f":"IFERROR($E83*SUMIF('Daily Log'!$AF$18:$AF$1017,$B83,'Daily Log'!$AG$18:$AG$1017),0)","v":0},{"$f":"IFERROR($E83*SUMIF('Daily Log'!$AI$18:$AI$1017,$B83,'Daily Log'!$AJ$18:$AJ$1017),0)","v":0},{"$f":"IFERROR($E83*SUMIF('Daily Log'!$AL$18:$AL$1017,$B83,'Daily Log'!$AM$18:$AM$1017),0)","v":0},{"$f":"IFERROR($E83*SUMIF('Daily Log'!$AO$18:$AO$1017,$B83,'Daily Log'!$AP$18:$AP$1017),0)","v":0},{"$f":"IFERROR($E83*SUMIF('Daily Log'!$AR$18:$AR$1017,$B83,'Daily Log'!$AS$18:$AS$1017),0)","v":0},{"$f":"IFERROR($E83*SUMIF('Daily Log'!$AU$18:$AU$1017,$B83,'Daily Log'!$AV$18:$AV$1017),0)","v":0},{"$f":"IFERROR($E83*SUMIF('Daily Log'!$AX$18:$AX$1017,$B83,'Daily Log'!$AY$18:$AY$1017),0)","v":0},{"$f":"IFERROR($E83*SUMIF('Daily Log'!$BA$18:$BA$1017,$B83,'Daily Log'!$BB$18:$BB$1017),0)","v":0},{"$f":"IFERROR($E83*SUMIF('Daily Log'!$BD$18:$BD$1017,$B83,'Daily Log'!$BE$18:$BE$1017),0)","v":0},{"$f":"IFERROR($E83*SUMIF('Daily Log'!$BG$18:$BG$1017,$B83,'Daily Log'!$BH$18:$BH$1017),0)","v":0},{"$f":"IFERROR($E83*SUMIF('Daily Log'!$BJ$18:$BJ$1017,$B83,'Daily Log'!$BK$18:$BK$1017),0)","v":0},{"$f":"IFERROR($E83*SUMIF('Daily Log'!$BM$18:$BM$1017,$B83,'Daily Log'!$BN$18:$BN$1017),0)","v":0},{"$f":"IFERROR($E83*SUMIF('Daily Log'!$BP$18:$BP$1017,$B83,'Daily Log'!$BQ$18:$BQ$1017),0)","v":0},{"$f":"IFERROR($E83*SUMIF('Daily Log'!$BS$18:$BS$1017,$B83,'Daily Log'!$BT$18:$BT$1017),0)","v":0},{"$f":"IFERROR($E83*SUMIF('Daily Log'!$BV$18:$BV$1017,$B83,'Daily Log'!$BW$18:$BW$1017),0)","v":0},{"$f":"IFERROR($E83*SUMIF('Daily Log'!$BY$18:$BY$1017,$B83,'Daily Log'!$BZ$18:$BZ$1017),0)","v":0},{"$f":"IFERROR($E83*SUMIF('Daily Log'!$CB$18:$CB$1017,$B83,'Daily Log'!$CC$18:$CC$1017),0)","v":0},{"$f":"IFERROR($E83*SUMIF('Daily Log'!$CE$18:$CE$1017,$B83,'Daily Log'!$CF$18:$CF$1017),0)","v":0},{"$f":"IFERROR($E83*SUMIF('Daily Log'!$CH$18:$CH$1017,$B83,'Daily Log'!$CI$18:$CI$1017),0)","v":0},{"$f":"IFERROR($E83*SUMIF('Daily Log'!$CK$18:$CK$1017,$B83,'Daily Log'!$CL$18:$CL$1017),0)","v":0},{"$f":"IFERROR($E83*SUMIF('Daily Log'!$CN$18:$CN$1017,$B83,'Daily Log'!$CO$18:$CO$1017),0)","v":0}]
[null,"11732:D -W03-马里兰鸡扒",null,"DINNER WESTERN CRUISE",1,0,{"$f":"IFERROR($E84*SUMIF('Daily Log'!$B$18:$B$1017,$B84,'Daily Log'!$C$18:$C$1017),0)","v":0},{"$f":"IFERROR($E84*SUMIF('Daily Log'!$E$18:$E$1017,$B84,'Daily Log'!$F$18:$F$1017),0)","v":0},{"$f":"IFERROR($E84*SUMIF('Daily Log'!$H$18:$H$1017,$B84,'Daily Log'!$I$18:$I$1017),0)","v":0},{"$f":"IFERROR($E84*SUMIF('Daily Log'!$K$18:$K$1017,$B84,'Daily Log'!$L$18:$L$1017),0)","v":0},{"$f":"IFERROR($E84*SUMIF('Daily Log'!$N$18:$N$1017,$B84,'Daily Log'!$O$18:$O$1017),0)","v":0},{"$f":"IFERROR($E84*SUMIF('Daily Log'!$Q$18:$Q$1017,$B84,'Daily Log'!$R$18:$R$1017),0)","v":0},{"$f":"IFERROR($E84*SUMIF('Daily Log'!$T$18:$T$1017,$B84,'Daily Log'!$U$18:$U$1017),0)","v":0},{"$f":"IFERROR($E84*SUMIF('Daily Log'!$W$18:$W$1017,$B84,'Daily Log'!$X$18:$X$1017),0)","v":0},{"$f":"IFERROR($E84*SUMIF('Daily Log'!$Z$18:$Z$1017,$B84,'Daily Log'!$AA$18:$AA$1017),0)","v":0},{"$f":"IFERROR($E84*SUMIF('Daily Log'!$AC$18:$AC$1017,$B84,'Daily Log'!$AD$18:$AD$1017),0)","v":0},{"$f":"IFERROR($E84*SUMIF('Daily Log'!$AF$18:$AF$1017,$B84,'Daily Log'!$AG$18:$AG$1017),0)","v":0},{"$f":"IFERROR($E84*SUMIF('Daily Log'!$AI$18:$AI$1017,$B84,'Daily Log'!$AJ$18:$AJ$1017),0)","v":0},{"$f":"IFERROR($E84*SUMIF('Daily Log'!$AL$18:$AL$1017,$B84,'Daily Log'!$AM$18:$AM$1017),0)","v":0},{"$f":"IFERROR($E84*SUMIF('Daily Log'!$AO$18:$AO$1017,$B84,'Daily Log'!$AP$18:$AP$1017),0)","v":0},{"$f":"IFERROR($E84*SUMIF('Daily Log'!$AR$18:$AR$1017,$B84,'Daily Log'!$AS$18:$AS$1017),0)","v":0},{"$f":"IFERROR($E84*SUMIF('Daily Log'!$AU$18:$AU$1017,$B84,'Daily Log'!$AV$18:$AV$1017),0)","v":0},{"$f":"IFERROR($E84*SUMIF('Daily Log'!$AX$18:$AX$1017,$B84,'Daily Log'!$AY$18:$AY$1017),0)","v":0},{"$f":"IFERROR($E84*SUMIF('Daily Log'!$BA$18:$BA$1017,$B84,'Daily Log'!$BB$18:$BB$1017),0)","v":0},{"$f":"IFERROR($E84*SUMIF('Daily Log'!$BD$18:$BD$1017,$B84,'Daily Log'!$BE$18:$BE$1017),0)","v":0},{"$f":"IFERROR($E84*SUMIF('Daily Log'!$BG$18:$BG$1017,$B84,'Daily Log'!$BH$18:$BH$1017),0)","v":0},{"$f":"IFERROR($E84*SUMIF('Daily Log'!$BJ$18:$BJ$1017,$B84,'Daily Log'!$BK$18:$BK$1017),0)","v":0},{"$f":"IFERROR($E84*SUMIF('Daily Log'!$BM$18:$BM$1017,$B84,'Daily Log'!$BN$18:$BN$1017),0)","v":0},{"$f":"IFERROR($E84*SUMIF('Daily Log'!$BP$18:$BP$1017,$B84,'Daily Log'!$BQ$18:$BQ$1017),0)","v":0},{"$f":"IFERROR($E84*SUMIF('Daily Log'!$BS$18:$BS$1017,$B84,'Daily Log'!$BT$18:$BT$1017),0)","v":0},{"$f":"IFERROR($E84*SUMIF('Daily Log'!$BV$18:$BV$1017,$B84,'Daily Log'!$BW$18:$BW$1017),0)","v":0},{"$f":"IFERROR($E84*SUMIF('Daily Log'!$BY$18:$BY$1017,$B84,'Daily Log'!$BZ$18:$BZ$1017),0)","v":0},{"$f":"IFERROR($E84*SUMIF('Daily Log'!$CB$18:$CB$1017,$B84,'Daily Log'!$CC$18:$CC$1017),0)","v":0},{"$f":"IFERROR($E84*SUMIF('Daily Log'!$CE$18:$CE$1017,$B84,'Daily Log'!$CF$18:$CF$1017),0)","v":0},{"$f":"IFERROR($E84*SUMIF('Daily Log'!$CH$18:$CH$1017,$B84,'Daily Log'!$CI$18:$CI$1017),0)","v":0},{"$f":"IFERROR($E84*SUMIF('Daily Log'!$CK$18:$CK$1017,$B84,'Daily Log'!$CL$18:$CL$1017),0)","v":0},{"$f":"IFERROR($E84*SUMIF('Daily Log'!$CN$18:$CN$1017,$B84,'Daily Log'!$CO$18:$CO$1017),0)","v":0}]
[null,"11733:D -W02-香炸鱼扒",null,"DINNER WESTERN CRUISE",1,0,{"$f":"IFERROR($E85*SUMIF('Daily Log'!$B$18:$B$1017,$B85,'Daily Log'!$C$18:$C$1017),0)","v":0},{"$f":"IFERROR($E85*SUMIF('Daily Log'!$E$18:$E$1017,$B85,'Daily Log'!$F$18:$F$1017),0)","v":0},{"$f":"IFERROR($E85*SUMIF('Daily Log'!$H$18:$H$1017,$B85,'Daily Log'!$I$18:$I$1017),0)","v":0},{"$f":"IFERROR($E85*SUMIF('Daily Log'!$K$18:$K$1017,$B85,'Daily Log'!$L$18:$L$1017),0)","v":0},{"$f":"IFERROR($E85*SUMIF('Daily Log'!$N$18:$N$1017,$B85,'Daily Log'!$O$18:$O$1017),0)","v":0},{"$f":"IFERROR($E85*SUMIF('Daily Log'!$Q$18:$Q$1017,$B85,'Daily Log'!$R$18:$R$1017),0)","v":0},{"$f":"IFERROR($E85*SUMIF('Daily Log'!$T$18:$T$1017,$B85,'Daily Log'!$U$18:$U$1017),0)","v":0},{"$f":"IFERROR($E85*SUMIF('Daily Log'!$W$18:$W$1017,$B85,'Daily Log'!$X$18:$X$1017),0)","v":0},{"$f":"IFERROR($E85*SUMIF('Daily Log'!$Z$18:$Z$1017,$B85,'Daily Log'!$AA$18:$AA$1017),0)","v":0},{"$f":"IFERROR($E85*SUMIF('Daily Log'!$AC$18:$AC$1017,$B85,'Daily Log'!$AD$18:$AD$1017),0)","v":0},{"$f":"IFERROR($E85*SUMIF('Daily Log'!$AF$18:$AF$1017,$B85,'Daily Log'!$AG$18:$AG$1017),0)","v":0},{"$f":"IFERROR($E85*SUMIF('Daily Log'!$AI$18:$AI$1017,$B85,'Daily Log'!$AJ$18:$AJ$1017),0)","v":0},{"$f":"IFERROR($E85*SUMIF('Daily Log'!$AL$18:$AL$1017,$B85,'Daily Log'!$AM$18:$AM$1017),0)","v":0},{"$f":"IFERROR($E85*SUMIF('Daily Log'!$AO$18:$AO$1017,$B85,'Daily Log'!$AP$18:$AP$1017),0)","v":0},{"$f":"IFERROR($E85*SUMIF('Daily Log'!$AR$18:$AR$1017,$B85,'Daily Log'!$AS$18:$AS$1017),0)","v":0},{"$f":"IFERROR($E85*SUMIF('Daily Log'!$AU$18:$AU$1017,$B85,'Daily Log'!$AV$18:$AV$1017),0)","v":0},{"$f":"IFERROR($E85*SUMIF('Daily Log'!$AX$18:$AX$1017,$B85,'Daily Log'!$AY$18:$AY$1017),0)","v":0},{"$f":"IFERROR($E85*SUMIF('Daily Log'!$BA$18:$BA$1017,$B85,'Daily Log'!$BB$18:$BB$1017),0)","v":0},{"$f":"IFERROR($E85*SUMIF('Daily Log'!$BD$18:$BD$1017,$B85,'Daily Log'!$BE$18:$BE$1017),0)","v":0},{"$f":"IFERROR($E85*SUMIF('Daily Log'!$BG$18:$BG$1017,$B85,'Daily Log'!$BH$18:$BH$1017),0)","v":0},{"$f":"IFERROR($E85*SUMIF('Daily Log'!$BJ$18:$BJ$1017,$B85,'Daily Log'!$BK$18:$BK$1017),0)","v":0},{"$f":"IFERROR($E85*SUMIF('Daily Log'!$BM$18:$BM$1017,$B85,'Daily Log'!$BN$18:$BN$1017),0)","v":0},{"$f":"IFERROR($E85*SUMIF('Daily Log'!$BP$18:$BP$1017,$B85,'Daily Log'!$BQ$18:$BQ$1017),0)","v":0},{"$f":"IFERROR($E85*SUMIF('Daily Log'!$BS$18:$BS$1017,$B85,'Daily Log'!$BT$18:$BT$1017),0)","v":0},{"$f":"IFERROR($E85*SUMIF('Daily Log'!$BV$18:$BV$1017,$B85,'Daily Log'!$BW$18:$BW$1017),0)","v":0},{"$f":"IFERROR($E85*SUMIF('Daily Log'!$BY$18:$BY$1017,$B85,'Daily Log'!$BZ$18:$BZ$1017),0)","v":0},{"$f":"IFERROR($E85*SUMIF('Daily Log'!$CB$18:$CB$1017,$B85,'Daily Log'!$CC$18:$CC$1017),0)","v":0},{"$f":"IFERROR($E85*SUMIF('Daily Log'!$CE$18:$CE$1017,$B85,'Daily Log'!$CF$18:$CF$1017),0)","v":0},{"$f":"IFERROR($E85*SUMIF('Daily Log'!$CH$18:$CH$1017,$B85,'Daily Log'!$CI$18:$CI$1017),0)","v":0},{"$f":"IFERROR($E85*SUMIF('Daily Log'!$CK$18:$CK$1017,$B85,'Daily Log'!$CL$18:$CL$1017),0)","v":0},{"$f":"IFERROR($E85*SUMIF('Daily Log'!$CN$18:$CN$1017,$B85,'Daily Log'!$CO$18:$CO$1017),0)","v":0}]
[null,"11735:D -W04-鸡扒沙拉",null,"DINNER WESTERN CRUISE",1,0,{"$f":"IFERROR($E86*SUMIF('Daily Log'!$B$18:$B$1017,$B86,'Daily Log'!$C$18:$C$1017),0)","v":0},{"$f":"IFERROR($E86*SUMIF('Daily Log'!$E$18:$E$1017,$B86,'Daily Log'!$F$18:$F$1017),0)","v":0},{"$f":"IFERROR($E86*SUMIF('Daily Log'!$H$18:$H$1017,$B86,'Daily Log'!$I$18:$I$1017),0)","v":0},{"$f":"IFERROR($E86*SUMIF('Daily Log'!$K$18:$K$1017,$B86,'Daily Log'!$L$18:$L$1017),0)","v":0},{"$f":"IFERROR($E86*SUMIF('Daily Log'!$N$18:$N$1017,$B86,'Daily Log'!$O$18:$O$1017),0)","v":0},{"$f":"IFERROR($E86*SUMIF('Daily Log'!$Q$18:$Q$1017,$B86,'Daily Log'!$R$18:$R$1017),0)","v":0},{"$f":"IFERROR($E86*SUMIF('Daily Log'!$T$18:$T$1017,$B86,'Daily Log'!$U$18:$U$1017),0)","v":0},{"$f":"IFERROR($E86*SUMIF('Daily Log'!$W$18:$W$1017,$B86,'Daily Log'!$X$18:$X$1017),0)","v":0},{"$f":"IFERROR($E86*SUMIF('Daily Log'!$Z$18:$Z$1017,$B86,'Daily Log'!$AA$18:$AA$1017),0)","v":0},{"$f":"IFERROR($E86*SUMIF('Daily Log'!$AC$18:$AC$1017,$B86,'Daily Log'!$AD$18:$AD$1017),0)","v":0},{"$f":"IFERROR($E86*SUMIF('Daily Log'!$AF$18:$AF$1017,$B86,'Daily Log'!$AG$18:$AG$1017),0)","v":0},{"$f":"IFERROR($E86*SUMIF('Daily Log'!$AI$18:$AI$1017,$B86,'Daily Log'!$AJ$18:$AJ$1017),0)","v":0},{"$f":"IFERROR($E86*SUMIF('Daily Log'!$AL$18:$AL$1017,$B86,'Daily Log'!$AM$18:$AM$1017),0)","v":0},{"$f":"IFERROR($E86*SUMIF('Daily Log'!$AO$18:$AO$1017,$B86,'Daily Log'!$AP$18:$AP$1017),0)","v":0},{"$f":"IFERROR($E86*SUMIF('Daily Log'!$AR$18:$AR$1017,$B86,'Daily Log'!$AS$18:$AS$1017),0)","v":0},{"$f":"IFERROR($E86*SUMIF('Daily Log'!$AU$18:$AU$1017,$B86,'Daily Log'!$AV$18:$AV$1017),0)","v":0},{"$f":"IFERROR($E86*SUMIF('Daily Log'!$AX$18:$AX$1017,$B86,'Daily Log'!$AY$18:$AY$1017),0)","v":0},{"$f":"IFERROR($E86*SUMIF('Daily Log'!$BA$18:$BA$1017,$B86,'Daily Log'!$BB$18:$BB$1017),0)","v":0},{"$f":"IFERROR($E86*SUMIF('Daily Log'!$BD$18:$BD$1017,$B86,'Daily Log'!$BE$18:$BE$1017),0)","v":0},{"$f":"IFERROR($E86*SUMIF('Daily Log'!$BG$18:$BG$1017,$B86,'Daily Log'!$BH$18:$BH$1017),0)","v":0},{"$f":"IFERROR($E86*SUMIF('Daily Log'!$BJ$18:$BJ$1017,$B86,'Daily Log'!$BK$18:$BK$1017),0)","v":0},{"$f":"IFERROR($E86*SUMIF('Daily Log'!$BM$18:$BM$1017,$B86,'Daily Log'!$BN$18:$BN$1017),0)","v":0},{"$f":"IFERROR($E86*SUMIF('Daily Log'!$BP$18:$BP$1017,$B86,'Daily Log'!$BQ$18:$BQ$1017),0)","v":0},{"$f":"IFERROR($E86*SUMIF('Daily Log'!$BS$18:$BS$1017,$B86,'Daily Log'!$BT$18:$BT$1017),0)","v":0},{"$f":"IFERROR($E86*SUMIF('Daily Log'!$BV$18:$BV$1017,$B86,'Daily Log'!$BW$18:$BW$1017),0)","v":0},{"$f":"IFERROR($E86*SUMIF('Daily Log'!$BY$18:$BY$1017,$B86,'Daily Log'!$BZ$18:$BZ$1017),0)","v":0},{"$f":"IFERROR($E86*SUMIF('Daily Log'!$CB$18:$CB$1017,$B86,'Daily Log'!$CC$18:$CC$1017),0)","v":0},{"$f":"IFERROR($E86*SUMIF('Daily Log'!$CE$18:$CE$1017,$B86,'Daily Log'!$CF$18:$CF$1017),0)","v":0},{"$f":"IFERROR($E86*SUMIF('Daily Log'!$CH$18:$CH$1017,$B86,'Daily Log'!$CI$18:$CI$1017),0)","v":0},{"$f":"IFERROR($E86*SUMIF('Daily Log'!$CK$18:$CK$1017,$B86,'Daily Log'!$CL$18:$CL$1017),0)","v":0},{"$f":"IFERROR($E86*SUMIF('Daily Log'!$CN$18:$CN$1017,$B86,'Daily Log'!$CO$18:$CO$1017),0)","v":0}]
[null,"08020:Hot Milo",null,"HOT BEVERAGE",1,231,{"$f":"IFERROR($E87*SUMIF('Daily Log'!$B$18:$B$1017,$B87,'Daily Log'!$C$18:$C$1017),0)","v":0},{"$f":"IFERROR($E87*SUMIF('Daily Log'!$E$18:$E$1017,$B87,'Daily Log'!$F$18:$F$1017),0)","v":0},{"$f":"IFERROR($E87*SUMIF('Daily Log'!$H$18:$H$1017,$B87,'Daily Log'!$I$18:$I$1017),0)","v":0},{"$f":"IFERROR($E87*SUMIF('Daily Log'!$K$18:$K$1017,$B87,'Daily Log'!$L$18:$L$1017),0)","v":0},{"$f":"IFERROR($E87*SUMIF('Daily Log'!$N$18:$N$1017,$B87,'Daily Log'!$O$18:$O$1017),0)","v":0},{"$f":"IFERROR($E87*SUMIF('Daily Log'!$Q$18:$Q$1017,$B87,'Daily Log'!$R$18:$R$1017),0)","v":0},{"$f":"IFERROR($E87*SUMIF('Daily Log'!$T$18:$T$1017,$B87,'Daily Log'!$U$18:$U$1017),0)","v":29},{"$f":"IFERROR($E87*SUMIF('Daily Log'!$W$18:$W$1017,$B87,'Daily Log'!$X$18:$X$1017),0)","v":4},{"$f":"IFERROR($E87*SUMIF('Daily Log'!$Z$18:$Z$1017,$B87,'Daily Log'!$AA$18:$AA$1017),0)","v":44},{"$f":"IFERROR($E87*SUMIF('Daily Log'!$AC$18:$AC$1017,$B87,'Daily Log'!$AD$18:$AD$1017),0)","v":38},{"$f":"IFERROR($E87*SUMIF('Daily Log'!$AF$18:$AF$1017,$B87,'Daily Log'!$AG$18:$AG$1017),0)","v":33},{"$f":"IFERROR($E87*SUMIF('Daily Log'!$AI$18:$AI$1017,$B87,'Daily Log'!$AJ$18:$AJ$1017),0)","v":26},{"$f":"IFERROR($E87*SUMIF('Daily Log'!$AL$18:$AL$1017,$B87,'Daily Log'!$AM$18:$AM$1017),0)","v":57},{"$f":"IFERROR($E87*SUMIF('Daily Log'!$AO$18:$AO$1017,$B87,'Daily Log'!$AP$18:$AP$1017),0)","v":0},{"$f":"IFERROR($E87*SUMIF('Daily Log'!$AR$18:$AR$1017,$B87,'Daily Log'!$AS$18:$AS$1017),0)","v":0},{"$f":"IFERROR($E87*SUMIF('Daily Log'!$AU$18:$AU$1017,$B87,'Daily Log'!$AV$18:$AV$1017),0)","v":0},{"$f":"IFERROR($E87*SUMIF('Daily Log'!$AX$18:$AX$1017,$B87,'Daily Log'!$AY$18:$AY$1017),0)","v":0},{"$f":"IFERROR($E87*SUMIF('Daily Log'!$BA$18:$BA$1017,$B87,'Daily Log'!$BB$18:$BB$1017),0)","v":0},{"$f":"IFERROR($E87*SUMIF('Daily Log'!$BD$18:$BD$1017,$B87,'Daily Log'!$BE$18:$BE$1017),0)","v":0},{"$f":"IFERROR($E87*SUMIF('Daily Log'!$BG$18:$BG$1017,$B87,'Daily Log'!$BH$18:$BH$1017),0)","v":0},{"$f":"IFERROR($E87*SUMIF('Daily Log'!$BJ$18:$BJ$1017,$B87,'Daily Log'!$BK$18:$BK$1017),0)","v":0},{"$f":"IFERROR($E87*SUMIF('Daily Log'!$BM$18:$BM$1017,$B87,'Daily Log'!$BN$18:$BN$1017),0)","v":0},{"$f":"IFERROR($E87*SUMIF('Daily Log'!$BP$18:$BP$1017,$B87,'Daily Log'!$BQ$18:$BQ$1017),0)","v":0},{"$f":"IFERROR($E87*SUMIF('Daily Log'!$BS$18:$BS$1017,$B87,'Daily Log'!$BT$18:$BT$1017),0)","v":0},{"$f":"IFERROR($E87*SUMIF('Daily Log'!$BV$18:$BV$1017,$B87,'Daily Log'!$BW$18:$BW$1017),0)","v":0},{"$f":"IFERROR($E87*SUMIF('Daily Log'!$BY$18:$BY$1017,$B87,'Daily Log'!$BZ$18:$BZ$1017),0)","v":0},{"$f":"IFERROR($E87*SUMIF('Daily Log'!$CB$18:$CB$1017,$B87,'Daily Log'!$CC$18:$CC$1017),0)","v":0},{"$f":"IFERROR($E87*SUMIF('Daily Log'!$CE$18:$CE$1017,$B87,'Daily Log'!$CF$18:$CF$1017),0)","v":0},{"$f":"IFERROR($E87*SUMIF('Daily Log'!$CH$18:$CH$1017,$B87,'Daily Log'!$CI$18:$CI$1017),0)","v":0},{"$f":"IFERROR($E87*SUMIF('Daily Log'!$CK$18:$CK$1017,$B87,'Daily Log'!$CL$18:$CL$1017),0)","v":0},{"$f":"IFERROR($E87*SUMIF('Daily Log'!$CN$18:$CN$1017,$B87,'Daily Log'!$CO$18:$CO$1017),0)","v":0}]
[null,"08022:Hot Nescafe",null,"HOT BEVERAGE",1,67,{"$f":"IFERROR($E88*SUMIF('Daily Log'!$B$18:$B$1017,$B88,'Daily Log'!$C$18:$C$1017),0)","v":0},{"$f":"IFERROR($E88*SUMIF('Daily Log'!$E$18:$E$1017,$B88,'Daily Log'!$F$18:$F$1017),0)","v":0},{"$f":"IFERROR($E88*SUMIF('Daily Log'!$H$18:$H$1017,$B88,'Daily Log'!$I$18:$I$1017),0)","v":0},{"$f":"IFERROR($E88*SUMIF('Daily Log'!$K$18:$K$1017,$B88,'Daily Log'!$L$18:$L$1017),0)","v":0},{"$f":"IFERROR($E88*SUMIF('Daily Log'!$N$18:$N$1017,$B88,'Daily Log'!$O$18:$O$1017),0)","v":0},{"$f":"IFERROR($E88*SUMIF('Daily Log'!$Q$18:$Q$1017,$B88,'Daily Log'!$R$18:$R$1017),0)","v":0},{"$f":"IFERROR($E88*SUMIF('Daily Log'!$T$18:$T$1017,$B88,'Daily Log'!$U$18:$U$1017),0)","v":6},{"$f":"IFERROR($E88*SUMIF('Daily Log'!$W$18:$W$1017,$B88,'Daily Log'!$X$18:$X$1017),0)","v":7},{"$f":"IFERROR($E88*SUMIF('Daily Log'!$Z$18:$Z$1017,$B88,'Daily Log'!$AA$18:$AA$1017),0)","v":7},{"$f":"IFERROR($E88*SUMIF('Daily Log'!$AC$18:$AC$1017,$B88,'Daily Log'!$AD$18:$AD$1017),0)","v":15},{"$f":"IFERROR($E88*SUMIF('Daily Log'!$AF$18:$AF$1017,$B88,'Daily Log'!$AG$18:$AG$1017),0)","v":16},{"$f":"IFERROR($E88*SUMIF('Daily Log'!$AI$18:$AI$1017,$B88,'Daily Log'!$AJ$18:$AJ$1017),0)","v":9},{"$f":"IFERROR($E88*SUMIF('Daily Log'!$AL$18:$AL$1017,$B88,'Daily Log'!$AM$18:$AM$1017),0)","v":7},{"$f":"IFERROR($E88*SUMIF('Daily Log'!$AO$18:$AO$1017,$B88,'Daily Log'!$AP$18:$AP$1017),0)","v":0},{"$f":"IFERROR($E88*SUMIF('Daily Log'!$AR$18:$AR$1017,$B88,'Daily Log'!$AS$18:$AS$1017),0)","v":0},{"$f":"IFERROR($E88*SUMIF('Daily Log'!$AU$18:$AU$1017,$B88,'Daily Log'!$AV$18:$AV$1017),0)","v":0},{"$f":"IFERROR($E88*SUMIF('Daily Log'!$AX$18:$AX$1017,$B88,'Daily Log'!$AY$18:$AY$1017),0)","v":0},{"$f":"IFERROR($E88*SUMIF('Daily Log'!$BA$18:$BA$1017,$B88,'Daily Log'!$BB$18:$BB$1017),0)","v":0},{"$f":"IFERROR($E88*SUMIF('Daily Log'!$BD$18:$BD$1017,$B88,'Daily Log'!$BE$18:$BE$1017),0)","v":0},{"$f":"IFERROR($E88*SUMIF('Daily Log'!$BG$18:$BG$1017,$B88,'Daily Log'!$BH$18:$BH$1017),0)","v":0},{"$f":"IFERROR($E88*SUMIF('Daily Log'!$BJ$18:$BJ$1017,$B88,'Daily Log'!$BK$18:$BK$1017),0)","v":0},{"$f":"IFERROR($E88*SUMIF('Daily Log'!$BM$18:$BM$1017,$B88,'Daily Log'!$BN$18:$BN$1017),0)","v":0},{"$f":"IFERROR($E88*SUMIF('Daily Log'!$BP$18:$BP$1017,$B88,'Daily Log'!$BQ$18:$BQ$1017),0)","v":0},{"$f":"IFERROR($E88*SUMIF('Daily Log'!$BS$18:$BS$1017,$B88,'Daily Log'!$BT$18:$BT$1017),0)","v":0},{"$f":"IFERROR($E88*SUMIF('Daily Log'!$BV$18:$BV$1017,$B88,'Daily Log'!$BW$18:$BW$1017),0)","v":0},{"$f":"IFERROR($E88*SUMIF('Daily Log'!$BY$18:$BY$1017,$B88,'Daily Log'!$BZ$18:$BZ$1017),0)","v":0},{"$f":"IFERROR($E88*SUMIF('Daily Log'!$CB$18:$CB$1017,$B88,'Daily Log'!$CC$18:$CC$1017),0)","v":0},{"$f":"IFERROR($E88*SUMIF('Daily Log'!$CE$18:$CE$1017,$B88,'Daily Log'!$CF$18:$CF$1017),0)","v":0},{"$f":"IFERROR($E88*SUMIF('Daily Log'!$CH$18:$CH$1017,$B88,'Daily Log'!$CI$18:$CI$1017),0)","v":0},{"$f":"IFERROR($E88*SUMIF('Daily Log'!$CK$18:$CK$1017,$B88,'Daily Log'!$CL$18:$CL$1017),0)","v":0},{"$f":"IFERROR($E88*SUMIF('Daily Log'!$CN$18:$CN$1017,$B88,'Daily Log'!$CO$18:$CO$1017),0)","v":0}]
[null,"08024:Hot Tea",null,"HOT BEVERAGE",1,44,{"$f":"IFERROR($E89*SUMIF('Daily Log'!$B$18:$B$1017,$B89,'Daily Log'!$C$18:$C$1017),0)","v":0},{"$f":"IFERROR($E89*SUMIF('Daily Log'!$E$18:$E$1017,$B89,'Daily Log'!$F$18:$F$1017),0)","v":0},{"$f":"IFERROR($E89*SUMIF('Daily Log'!$H$18:$H$1017,$B89,'Daily Log'!$I$18:$I$1017),0)","v":0},{"$f":"IFERROR($E89*SUMIF('Daily Log'!$K$18:$K$1017,$B89,'Daily Log'!$L$18:$L$1017),0)","v":0},{"$f":"IFERROR($E89*SUMIF('Daily Log'!$N$18:$N$1017,$B89,'Daily Log'!$O$18:$O$1017),0)","v":0},{"$f":"IFERROR($E89*SUMIF('Daily Log'!$Q$18:$Q$1017,$B89,'Daily Log'!$R$18:$R$1017),0)","v":0},{"$f":"IFERROR($E89*SUMIF('Daily Log'!$T$18:$T$1017,$B89,'Daily Log'!$U$18:$U$1017),0)","v":2},{"$f":"IFERROR($E89*SUMIF('Daily Log'!$W$18:$W$1017,$B89,'Daily Log'!$X$18:$X$1017),0)","v":3},{"$f":"IFERROR($E89*SUMIF('Daily Log'!$Z$18:$Z$1017,$B89,'Daily Log'!$AA$18:$AA$1017),0)","v":10},{"$f":"IFERROR($E89*SUMIF('Daily Log'!$AC$18:$AC$1017,$B89,'Daily Log'!$AD$18:$AD$1017),0)","v":20},{"$f":"IFERROR($E89*SUMIF('Daily Log'!$AF$18:$AF$1017,$B89,'Daily Log'!$AG$18:$AG$1017),0)","v":0},{"$f":"IFERROR($E89*SUMIF('Daily Log'!$AI$18:$AI$1017,$B89,'Daily Log'!$AJ$18:$AJ$1017),0)","v":4},{"$f":"IFERROR($E89*SUMIF('Daily Log'!$AL$18:$AL$1017,$B89,'Daily Log'!$AM$18:$AM$1017),0)","v":5},{"$f":"IFERROR($E89*SUMIF('Daily Log'!$AO$18:$AO$1017,$B89,'Daily Log'!$AP$18:$AP$1017),0)","v":0},{"$f":"IFERROR($E89*SUMIF('Daily Log'!$AR$18:$AR$1017,$B89,'Daily Log'!$AS$18:$AS$1017),0)","v":0},{"$f":"IFERROR($E89*SUMIF('Daily Log'!$AU$18:$AU$1017,$B89,'Daily Log'!$AV$18:$AV$1017),0)","v":0},{"$f":"IFERROR($E89*SUMIF('Daily Log'!$AX$18:$AX$1017,$B89,'Daily Log'!$AY$18:$AY$1017),0)","v":0},{"$f":"IFERROR($E89*SUMIF('Daily Log'!$BA$18:$BA$1017,$B89,'Daily Log'!$BB$18:$BB$1017),0)","v":0},{"$f":"IFERROR($E89*SUMIF('Daily Log'!$BD$18:$BD$1017,$B89,'Daily Log'!$BE$18:$BE$1017),0)","v":0},{"$f":"IFERROR($E89*SUMIF('Daily Log'!$BG$18:$BG$1017,$B89,'Daily Log'!$BH$18:$BH$1017),0)","v":0},{"$f":"IFERROR($E89*SUMIF('Daily Log'!$BJ$18:$BJ$1017,$B89,'Daily Log'!$BK$18:$BK$1017),0)","v":0},{"$f":"IFERROR($E89*SUMIF('Daily Log'!$BM$18:$BM$1017,$B89,'Daily Log'!$BN$18:$BN$1017),0)","v":0},{"$f":"IFERROR($E89*SUMIF('Daily Log'!$BP$18:$BP$1017,$B89,'Daily Log'!$BQ$18:$BQ$1017),0)","v":0},{"$f":"IFERROR($E89*SUMIF('Daily Log'!$BS$18:$BS$1017,$B89,'Daily Log'!$BT$18:$BT$1017),0)","v":0},{"$f":"IFERROR($E89*SUMIF('Daily Log'!$BV$18:$BV$1017,$B89,'Daily Log'!$BW$18:$BW$1017),0)","v":0},{"$f":"IFERROR($E89*SUMIF('Daily Log'!$BY$18:$BY$1017,$B89,'Daily Log'!$BZ$18:$BZ$1017),0)","v":0},{"$f":"IFERROR($E89*SUMIF('Daily Log'!$CB$18:$CB$1017,$B89,'Daily Log'!$CC$18:$CC$1017),0)","v":0},{"$f":"IFERROR($E89*SUMIF('Daily Log'!$CE$18:$CE$1017,$B89,'Daily Log'!$CF$18:$CF$1017),0)","v":0},{"$f":"IFERROR($E89*SUMIF('Daily Log'!$CH$18:$CH$1017,$B89,'Daily Log'!$CI$18:$CI$1017),0)","v":0},{"$f":"IFERROR($E89*SUMIF('Daily Log'!$CK$18:$CK$1017,$B89,'Daily Log'!$CL$18:$CL$1017),0)","v":0},{"$f":"IFERROR($E89*SUMIF('Daily Log'!$CN$18:$CN$1017,$B89,'Daily Log'!$CO$18:$CO$1017),0)","v":0}]
[null,"08026:Hot Lemon Tea",null,"HOT BEVERAGE",1,87,{"$f":"IFERROR($E90*SUMIF('Daily Log'!$B$18:$B$1017,$B90,'Daily Log'!$C$18:$C$1017),0)","v":0},{"$f":"IFERROR($E90*SUMIF('Daily Log'!$E$18:$E$1017,$B90,'Daily Log'!$F$18:$F$1017),0)","v":0},{"$f":"IFERROR($E90*SUMIF('Daily Log'!$H$18:$H$1017,$B90,'Daily Log'!$I$18:$I$1017),0)","v":0},{"$f":"IFERROR($E90*SUMIF('Daily Log'!$K$18:$K$1017,$B90,'Daily Log'!$L$18:$L$1017),0)","v":0},{"$f":"IFERROR($E90*SUMIF('Daily Log'!$N$18:$N$1017,$B90,'Daily Log'!$O$18:$O$1017),0)","v":0},{"$f":"IFERROR($E90*SUMIF('Daily Log'!$Q$18:$Q$1017,$B90,'Daily Log'!$R$18:$R$1017),0)","v":0},{"$f":"IFERROR($E90*SUMIF('Daily Log'!$T$18:$T$1017,$B90,'Daily Log'!$U$18:$U$1017),0)","v":9},{"$f":"IFERROR($E90*SUMIF('Daily Log'!$W$18:$W$1017,$B90,'Daily Log'!$X$18:$X$1017),0)","v":11},{"$f":"IFERROR($E90*SUMIF('Daily Log'!$Z$18:$Z$1017,$B90,'Daily Log'!$AA$18:$AA$1017),0)","v":5},{"$f":"IFERROR($E90*SUMIF('Daily Log'!$AC$18:$AC$1017,$B90,'Daily Log'!$AD$18:$AD$1017),0)","v":26},{"$f":"IFERROR($E90*SUMIF('Daily Log'!$AF$18:$AF$1017,$B90,'Daily Log'!$AG$18:$AG$1017),0)","v":15},{"$f":"IFERROR($E90*SUMIF('Daily Log'!$AI$18:$AI$1017,$B90,'Daily Log'!$AJ$18:$AJ$1017),0)","v":9},{"$f":"IFERROR($E90*SUMIF('Daily Log'!$AL$18:$AL$1017,$B90,'Daily Log'!$AM$18:$AM$1017),0)","v":12},{"$f":"IFERROR($E90*SUMIF('Daily Log'!$AO$18:$AO$1017,$B90,'Daily Log'!$AP$18:$AP$1017),0)","v":0},{"$f":"IFERROR($E90*SUMIF('Daily Log'!$AR$18:$AR$1017,$B90,'Daily Log'!$AS$18:$AS$1017),0)","v":0},{"$f":"IFERROR($E90*SUMIF('Daily Log'!$AU$18:$AU$1017,$B90,'Daily Log'!$AV$18:$AV$1017),0)","v":0},{"$f":"IFERROR($E90*SUMIF('Daily Log'!$AX$18:$AX$1017,$B90,'Daily Log'!$AY$18:$AY$1017),0)","v":0},{"$f":"IFERROR($E90*SUMIF('Daily Log'!$BA$18:$BA$1017,$B90,'Daily Log'!$BB$18:$BB$1017),0)","v":0},{"$f":"IFERROR($E90*SUMIF('Daily Log'!$BD$18:$BD$1017,$B90,'Daily Log'!$BE$18:$BE$1017),0)","v":0},{"$f":"IFERROR($E90*SUMIF('Daily Log'!$BG$18:$BG$1017,$B90,'Daily Log'!$BH$18:$BH$1017),0)","v":0},{"$f":"IFERROR($E90*SUMIF('Daily Log'!$BJ$18:$BJ$1017,$B90,'Daily Log'!$BK$18:$BK$1017),0)","v":0},{"$f":"IFERROR($E90*SUMIF('Daily Log'!$BM$18:$BM$1017,$B90,'Daily Log'!$BN$18:$BN$1017),0)","v":0},{"$f":"IFERROR($E90*SUMIF('Daily Log'!$BP$18:$BP$1017,$B90,'Daily Log'!$BQ$18:$BQ$1017),0)","v":0},{"$f":"IFERROR($E90*SUMIF('Daily Log'!$BS$18:$BS$1017,$B90,'Daily Log'!$BT$18:$BT$1017),0)","v":0},{"$f":"IFERROR($E90*SUMIF('Daily Log'!$BV$18:$BV$1017,$B90,'Daily Log'!$BW$18:$BW$1017),0)","v":0},{"$f":"IFERROR($E90*SUMIF('Daily Log'!$BY$18:$BY$1017,$B90,'Daily Log'!$BZ$18:$BZ$1017),0)","v":0},{"$f":"IFERROR($E90*SUMIF('Daily Log'!$CB$18:$CB$1017,$B90,'Daily Log'!$CC$18:$CC$1017),0)","v":0},{"$f":"IFERROR($E90*SUMIF('Daily Log'!$CE$18:$CE$1017,$B90,'Daily Log'!$CF$18:$CF$1017),0)","v":0},{"$f":"IFERROR($E90*SUMIF('Daily Log'!$CH$18:$CH$1017,$B90,'Daily Log'!$CI$18:$CI$1017),0)","v":0},{"$f":"IFERROR($E90*SUMIF('Daily Log'!$CK$18:$CK$1017,$B90,'Daily Log'!$CL$18:$CL$1017),0)","v":0},{"$f":"IFERROR($E90*SUMIF('Daily Log'!$CN$18:$CN$1017,$B90,'Daily Log'!$CO$18:$CO$1017),0)","v":0}]
[null,"08028:Hot Honey",null,"HOT BEVERAGE",1,272,{"$f":"IFERROR($E91*SUMIF('Daily Log'!$B$18:$B$1017,$B91,'Daily Log'!$C$18:$C$1017),0)","v":0},{"$f":"IFERROR($E91*SUMIF('Daily Log'!$E$18:$E$1017,$B91,'Daily Log'!$F$18:$F$1017),0)","v":0},{"$f":"IFERROR($E91*SUMIF('Daily Log'!$H$18:$H$1017,$B91,'Daily Log'!$I$18:$I$1017),0)","v":0},{"$f":"IFERROR($E91*SUMIF('Daily Log'!$K$18:$K$1017,$B91,'Daily Log'!$L$18:$L$1017),0)","v":0},{"$f":"IFERROR($E91*SUMIF('Daily Log'!$N$18:$N$1017,$B91,'Daily Log'!$O$18:$O$1017),0)","v":0},{"$f":"IFERROR($E91*SUMIF('Daily Log'!$Q$18:$Q$1017,$B91,'Daily Log'!$R$18:$R$1017),0)","v":0},{"$f":"IFERROR($E91*SUMIF('Daily Log'!$T$18:$T$1017,$B91,'Daily Log'!$U$18:$U$1017),0)","v":39},{"$f":"IFERROR($E91*SUMIF('Daily Log'!$W$18:$W$1017,$B91,'Daily Log'!$X$18:$X$1017),0)","v":51},{"$f":"IFERROR($E91*SUMIF('Daily Log'!$Z$18:$Z$1017,$B91,'Daily Log'!$AA$18:$AA$1017),0)","v":20},{"$f":"IFERROR($E91*SUMIF('Daily Log'!$AC$18:$AC$1017,$B91,'Daily Log'!$AD$18:$AD$1017),0)","v":37},{"$f":"IFERROR($E91*SUMIF('Daily Log'!$AF$18:$AF$1017,$B91,'Daily Log'!$AG$18:$AG$1017),0)","v":41},{"$f":"IFERROR($E91*SUMIF('Daily Log'!$AI$18:$AI$1017,$B91,'Daily Log'!$AJ$18:$AJ$1017),0)","v":32},{"$f":"IFERROR($E91*SUMIF('Daily Log'!$AL$18:$AL$1017,$B91,'Daily Log'!$AM$18:$AM$1017),0)","v":52},{"$f":"IFERROR($E91*SUMIF('Daily Log'!$AO$18:$AO$1017,$B91,'Daily Log'!$AP$18:$AP$1017),0)","v":0},{"$f":"IFERROR($E91*SUMIF('Daily Log'!$AR$18:$AR$1017,$B91,'Daily Log'!$AS$18:$AS$1017),0)","v":0},{"$f":"IFERROR($E91*SUMIF('Daily Log'!$AU$18:$AU$1017,$B91,'Daily Log'!$AV$18:$AV$1017),0)","v":0},{"$f":"IFERROR($E91*SUMIF('Daily Log'!$AX$18:$AX$1017,$B91,'Daily Log'!$AY$18:$AY$1017),0)","v":0},{"$f":"IFERROR($E91*SUMIF('Daily Log'!$BA$18:$BA$1017,$B91,'Daily Log'!$BB$18:$BB$1017),0)","v":0},{"$f":"IFERROR($E91*SUMIF('Daily Log'!$BD$18:$BD$1017,$B91,'Daily Log'!$BE$18:$BE$1017),0)","v":0},{"$f":"IFERROR($E91*SUMIF('Daily Log'!$BG$18:$BG$1017,$B91,'Daily Log'!$BH$18:$BH$1017),0)","v":0},{"$f":"IFERROR($E91*SUMIF('Daily Log'!$BJ$18:$BJ$1017,$B91,'Daily Log'!$BK$18:$BK$1017),0)","v":0},{"$f":"IFERROR($E91*SUMIF('Daily Log'!$BM$18:$BM$1017,$B91,'Daily Log'!$BN$18:$BN$1017),0)","v":0},{"$f":"IFERROR($E91*SUMIF('Daily Log'!$BP$18:$BP$1017,$B91,'Daily Log'!$BQ$18:$BQ$1017),0)","v":0},{"$f":"IFERROR($E91*SUMIF('Daily Log'!$BS$18:$BS$1017,$B91,'Daily Log'!$BT$18:$BT$1017),0)","v":0},{"$f":"IFERROR($E91*SUMIF('Daily Log'!$BV$18:$BV$1017,$B91,'Daily Log'!$BW$18:$BW$1017),0)","v":0},{"$f":"IFERROR($E91*SUMIF('Daily Log'!$BY$18:$BY$1017,$B91,'Daily Log'!$BZ$18:$BZ$1017),0)","v":0},{"$f":"IFERROR($E91*SUMIF('Daily Log'!$CB$18:$CB$1017,$B91,'Daily Log'!$CC$18:$CC$1017),0)","v":0},{"$f":"IFERROR($E91*SUMIF('Daily Log'!$CE$18:$CE$1017,$B91,'Daily Log'!$CF$18:$CF$1017),0)","v":0},{"$f":"IFERROR($E91*SUMIF('Daily Log'!$CH$18:$CH$1017,$B91,'Daily Log'!$CI$18:$CI$1017),0)","v":0},{"$f":"IFERROR($E91*SUMIF('Daily Log'!$CK$18:$CK$1017,$B91,'Daily Log'!$CL$18:$CL$1017),0)","v":0},{"$f":"IFERROR($E91*SUMIF('Daily Log'!$CN$18:$CN$1017,$B91,'Daily Log'!$CO$18:$CO$1017),0)","v":0}]
[null,"08030:Hot Honey Lemon",null,"HOT BEVERAGE",1,817,{"$f":"IFERROR($E92*SUMIF('Daily Log'!$B$18:$B$1017,$B92,'Daily Log'!$C$18:$C$1017),0)","v":0},{"$f":"IFERROR($E92*SUMIF('Daily Log'!$E$18:$E$1017,$B92,'Daily Log'!$F$18:$F$1017),0)","v":0},{"$f":"IFERROR($E92*SUMIF('Daily Log'!$H$18:$H$1017,$B92,'Daily Log'!$I$18:$I$1017),0)","v":0},{"$f":"IFERROR($E92*SUMIF('Daily Log'!$K$18:$K$1017,$B92,'Daily Log'!$L$18:$L$1017),0)","v":0},{"$f":"IFERROR($E92*SUMIF('Daily Log'!$N$18:$N$1017,$B92,'Daily Log'!$O$18:$O$1017),0)","v":0},{"$f":"IFERROR($E92*SUMIF('Daily Log'!$Q$18:$Q$1017,$B92,'Daily Log'!$R$18:$R$1017),0)","v":0},{"$f":"IFERROR($E92*SUMIF('Daily Log'!$T$18:$T$1017,$B92,'Daily Log'!$U$18:$U$1017),0)","v":94},{"$f":"IFERROR($E92*SUMIF('Daily Log'!$W$18:$W$1017,$B92,'Daily Log'!$X$18:$X$1017),0)","v":117},{"$f":"IFERROR($E92*SUMIF('Daily Log'!$Z$18:$Z$1017,$B92,'Daily Log'!$AA$18:$AA$1017),0)","v":55},{"$f":"IFERROR($E92*SUMIF('Daily Log'!$AC$18:$AC$1017,$B92,'Daily Log'!$AD$18:$AD$1017),0)","v":140},{"$f":"IFERROR($E92*SUMIF('Daily Log'!$AF$18:$AF$1017,$B92,'Daily Log'!$AG$18:$AG$1017),0)","v":117},{"$f":"IFERROR($E92*SUMIF('Daily Log'!$AI$18:$AI$1017,$B92,'Daily Log'!$AJ$18:$AJ$1017),0)","v":121},{"$f":"IFERROR($E92*SUMIF('Daily Log'!$AL$18:$AL$1017,$B92,'Daily Log'!$AM$18:$AM$1017),0)","v":173},{"$f":"IFERROR($E92*SUMIF('Daily Log'!$AO$18:$AO$1017,$B92,'Daily Log'!$AP$18:$AP$1017),0)","v":0},{"$f":"IFERROR($E92*SUMIF('Daily Log'!$AR$18:$AR$1017,$B92,'Daily Log'!$AS$18:$AS$1017),0)","v":0},{"$f":"IFERROR($E92*SUMIF('Daily Log'!$AU$18:$AU$1017,$B92,'Daily Log'!$AV$18:$AV$1017),0)","v":0},{"$f":"IFERROR($E92*SUMIF('Daily Log'!$AX$18:$AX$1017,$B92,'Daily Log'!$AY$18:$AY$1017),0)","v":0},{"$f":"IFERROR($E92*SUMIF('Daily Log'!$BA$18:$BA$1017,$B92,'Daily Log'!$BB$18:$BB$1017),0)","v":0},{"$f":"IFERROR($E92*SUMIF('Daily Log'!$BD$18:$BD$1017,$B92,'Daily Log'!$BE$18:$BE$1017),0)","v":0},{"$f":"IFERROR($E92*SUMIF('Daily Log'!$BG$18:$BG$1017,$B92,'Daily Log'!$BH$18:$BH$1017),0)","v":0},{"$f":"IFERROR($E92*SUMIF('Daily Log'!$BJ$18:$BJ$1017,$B92,'Daily Log'!$BK$18:$BK$1017),0)","v":0},{"$f":"IFERROR($E92*SUMIF('Daily Log'!$BM$18:$BM$1017,$B92,'Daily Log'!$BN$18:$BN$1017),0)","v":0},{"$f":"IFERROR($E92*SUMIF('Daily Log'!$BP$18:$BP$1017,$B92,'Daily Log'!$BQ$18:$BQ$1017),0)","v":0},{"$f":"IFERROR($E92*SUMIF('Daily Log'!$BS$18:$BS$1017,$B92,'Daily Log'!$BT$18:$BT$1017),0)","v":0},{"$f":"IFERROR($E92*SUMIF('Daily Log'!$BV$18:$BV$1017,$B92,'Daily Log'!$BW$18:$BW$1017),0)","v":0},{"$f":"IFERROR($E92*SUMIF('Daily Log'!$BY$18:$BY$1017,$B92,'Daily Log'!$BZ$18:$BZ$1017),0)","v":0},{"$f":"IFERROR($E92*SUMIF('Daily Log'!$CB$18:$CB$1017,$B92,'Daily Log'!$CC$18:$CC$1017),0)","v":0},{"$f":"IFERROR($E92*SUMIF('Daily Log'!$CE$18:$CE$1017,$B92,'Daily Log'!$CF$18:$CF$1017),0)","v":0},{"$f":"IFERROR($E92*SUMIF('Daily Log'!$CH$18:$CH$1017,$B92,'Daily Log'!$CI$18:$CI$1017),0)","v":0},{"$f":"IFERROR($E92*SUMIF('Daily Log'!$CK$18:$CK$1017,$B92,'Daily Log'!$CL$18:$CL$1017),0)","v":0},{"$f":"IFERROR($E92*SUMIF('Daily Log'!$CN$18:$CN$1017,$B92,'Daily Log'!$CO$18:$CO$1017),0)","v":0}]
[null,"08032:Hot Jasmine Green Tea",null,"HOT BEVERAGE",1,167,{"$f":"IFERROR($E93*SUMIF('Daily Log'!$B$18:$B$1017,$B93,'Daily Log'!$C$18:$C$1017),0)","v":0},{"$f":"IFERROR($E93*SUMIF('Daily Log'!$E$18:$E$1017,$B93,'Daily Log'!$F$18:$F$1017),0)","v":0},{"$f":"IFERROR($E93*SUMIF('Daily Log'!$H$18:$H$1017,$B93,'Daily Log'!$I$18:$I$1017),0)","v":0},{"$f":"IFERROR($E93*SUMIF('Daily Log'!$K$18:$K$1017,$B93,'Daily Log'!$L$18:$L$1017),0)","v":0},{"$f":"IFERROR($E93*SUMIF('Daily Log'!$N$18:$N$1017,$B93,'Daily Log'!$O$18:$O$1017),0)","v":0},{"$f":"IFERROR($E93*SUMIF('Daily Log'!$Q$18:$Q$1017,$B93,'Daily Log'!$R$18:$R$1017),0)","v":0},{"$f":"IFERROR($E93*SUMIF('Daily Log'!$T$18:$T$1017,$B93,'Daily Log'!$U$18:$U$1017),0)","v":17},{"$f":"IFERROR($E93*SUMIF('Daily Log'!$W$18:$W$1017,$B93,'Daily Log'!$X$18:$X$1017),0)","v":20},{"$f":"IFERROR($E93*SUMIF('Daily Log'!$Z$18:$Z$1017,$B93,'Daily Log'!$AA$18:$AA$1017),0)","v":22},{"$f":"IFERROR($E93*SUMIF('Daily Log'!$AC$18:$AC$1017,$B93,'Daily Log'!$AD$18:$AD$1017),0)","v":23},{"$f":"IFERROR($E93*SUMIF('Daily Log'!$AF$18:$AF$1017,$B93,'Daily Log'!$AG$18:$AG$1017),0)","v":13},{"$f":"IFERROR($E93*SUMIF('Daily Log'!$AI$18:$AI$1017,$B93,'Daily Log'!$AJ$18:$AJ$1017),0)","v":49},{"$f":"IFERROR($E93*SUMIF('Daily Log'!$AL$18:$AL$1017,$B93,'Daily Log'!$AM$18:$AM$1017),0)","v":23},{"$f":"IFERROR($E93*SUMIF('Daily Log'!$AO$18:$AO$1017,$B93,'Daily Log'!$AP$18:$AP$1017),0)","v":0},{"$f":"IFERROR($E93*SUMIF('Daily Log'!$AR$18:$AR$1017,$B93,'Daily Log'!$AS$18:$AS$1017),0)","v":0},{"$f":"IFERROR($E93*SUMIF('Daily Log'!$AU$18:$AU$1017,$B93,'Daily Log'!$AV$18:$AV$1017),0)","v":0},{"$f":"IFERROR($E93*SUMIF('Daily Log'!$AX$18:$AX$1017,$B93,'Daily Log'!$AY$18:$AY$1017),0)","v":0},{"$f":"IFERROR($E93*SUMIF('Daily Log'!$BA$18:$BA$1017,$B93,'Daily Log'!$BB$18:$BB$1017),0)","v":0},{"$f":"IFERROR($E93*SUMIF('Daily Log'!$BD$18:$BD$1017,$B93,'Daily Log'!$BE$18:$BE$1017),0)","v":0},{"$f":"IFERROR($E93*SUMIF('Daily Log'!$BG$18:$BG$1017,$B93,'Daily Log'!$BH$18:$BH$1017),0)","v":0},{"$f":"IFERROR($E93*SUMIF('Daily Log'!$BJ$18:$BJ$1017,$B93,'Daily Log'!$BK$18:$BK$1017),0)","v":0},{"$f":"IFERROR($E93*SUMIF('Daily Log'!$BM$18:$BM$1017,$B93,'Daily Log'!$BN$18:$BN$1017),0)","v":0},{"$f":"IFERROR($E93*SUMIF('Daily Log'!$BP$18:$BP$1017,$B93,'Daily Log'!$BQ$18:$BQ$1017),0)","v":0},{"$f":"IFERROR($E93*SUMIF('Daily Log'!$BS$18:$BS$1017,$B93,'Daily Log'!$BT$18:$BT$1017),0)","v":0},{"$f":"IFERROR($E93*SUMIF('Daily Log'!$BV$18:$BV$1017,$B93,'Daily Log'!$BW$18:$BW$1017),0)","v":0},{"$f":"IFERROR($E93*SUMIF('Daily Log'!$BY$18:$BY$1017,$B93,'Daily Log'!$BZ$18:$BZ$1017),0)","v":0},{"$f":"IFERROR($E93*SUMIF('Daily Log'!$CB$18:$CB$1017,$B93,'Daily Log'!$CC$18:$CC$1017),0)","v":0},{"$f":"IFERROR($E93*SUMIF('Daily Log'!$CE$18:$CE$1017,$B93,'Daily Log'!$CF$18:$CF$1017),0)","v":0},{"$f":"IFERROR($E93*SUMIF('Daily Log'!$CH$18:$CH$1017,$B93,'Daily Log'!$CI$18:$CI$1017),0)","v":0},{"$f":"IFERROR($E93*SUMIF('Daily Log'!$CK$18:$CK$1017,$B93,'Daily Log'!$CL$18:$CL$1017),0)","v":0},{"$f":"IFERROR($E93*SUMIF('Daily Log'!$CN$18:$CN$1017,$B93,'Daily Log'!$CO$18:$CO$1017),0)","v":0}]
[null,"08034:Hot Honey Green Tea",null,"HOT BEVERAGE",1,{"$f":"SUM($G94:$AK94)","v":578},{"$f":"IFERROR($E94*SUMIF('Daily Log'!$B$18:$B$1017,$B94,'Daily Log'!$C$18:$C$1017),0)","v":0},{"$f":"IFERROR($E94*SUMIF('Daily Log'!$E$18:$E$1017,$B94,'Daily Log'!$F$18:$F$1017),0)","v":0},{"$f":"IFERROR($E94*SUMIF('Daily Log'!$H$18:$H$1017,$B94,'Daily Log'!$I$18:$I$1017),0)","v":0},{"$f":"IFERROR($E94*SUMIF('Daily Log'!$K$18:$K$1017,$B94,'Daily Log'!$L$18:$L$1017),0)","v":0},{"$f":"IFERROR($E94*SUMIF('Daily Log'!$N$18:$N$1017,$B94,'Daily Log'!$O$18:$O$1017),0)","v":0},{"$f":"IFERROR($E94*SUMIF('Daily Log'!$Q$18:$Q$1017,$B94,'Daily Log'!$R$18:$R$1017),0)","v":0},{"$f":"IFERROR($E94*SUMIF('Daily Log'!$T$18:$T$1017,$B94,'Daily Log'!$U$18:$U$1017),0)","v":74},{"$f":"IFERROR($E94*SUMIF('Daily Log'!$W$18:$W$1017,$B94,'Daily Log'!$X$18:$X$1017),0)","v":98},{"$f":"IFERROR($E94*SUMIF('Daily Log'!$Z$18:$Z$1017,$B94,'Daily Log'!$AA$18:$AA$1017),0)","v":65},{"$f":"IFERROR($E94*SUMIF('Daily Log'!$AC$18:$AC$1017,$B94,'Daily Log'!$AD$18:$AD$1017),0)","v":114},{"$f":"IFERROR($E94*SUMIF('Daily Log'!$AF$18:$AF$1017,$B94,'Daily Log'!$AG$18:$AG$1017),0)","v":69},{"$f":"IFERROR($E94*SUMIF('Daily Log'!$AI$18:$AI$1017,$B94,'Daily Log'!$AJ$18:$AJ$1017),0)","v":72},{"$f":"IFERROR($E94*SUMIF('Daily Log'!$AL$18:$AL$1017,$B94,'Daily Log'!$AM$18:$AM$1017),0)","v":86},{"$f":"IFERROR($E94*SUMIF('Daily Log'!$AO$18:$AO$1017,$B94,'Daily Log'!$AP$18:$AP$1017),0)","v":0},{"$f":"IFERROR($E94*SUMIF('Daily Log'!$AR$18:$AR$1017,$B94,'Daily Log'!$AS$18:$AS$1017),0)","v":0},{"$f":"IFERROR($E94*SUMIF('Daily Log'!$AU$18:$AU$1017,$B94,'Daily Log'!$AV$18:$AV$1017),0)","v":0},{"$f":"IFERROR($E94*SUMIF('Daily Log'!$AX$18:$AX$1017,$B94,'Daily Log'!$AY$18:$AY$1017),0)","v":0},{"$f":"IFERROR($E94*SUMIF('Daily Log'!$BA$18:$BA$1017,$B94,'Daily Log'!$BB$18:$BB$1017),0)","v":0},{"$f":"IFERROR($E94*SUMIF('Daily Log'!$BD$18:$BD$1017,$B94,'Daily Log'!$BE$18:$BE$1017),0)","v":0},{"$f":"IFERROR($E94*SUMIF('Daily Log'!$BG$18:$BG$1017,$B94,'Daily Log'!$BH$18:$BH$1017),0)","v":0},{"$f":"IFERROR($E94*SUMIF('Daily Log'!$BJ$18:$BJ$1017,$B94,'Daily Log'!$BK$18:$BK$1017),0)","v":0},{"$f":"IFERROR($E94*SUMIF('Daily Log'!$BM$18:$BM$1017,$B94,'Daily Log'!$BN$18:$BN$1017),0)","v":0},{"$f":"IFERROR($E94*SUMIF('Daily Log'!$BP$18:$BP$1017,$B94,'Daily Log'!$BQ$18:$BQ$1017),0)","v":0},{"$f":"IFERROR($E94*SUMIF('Daily Log'!$BS$18:$BS$1017,$B94,'Daily Log'!$BT$18:$BT$1017),0)","v":0},{"$f":"IFERROR($E94*SUMIF('Daily Log'!$BV$18:$BV$1017,$B94,'Daily Log'!$BW$18:$BW$1017),0)","v":0},{"$f":"IFERROR($E94*SUMIF('Daily Log'!$BY$18:$BY$1017,$B94,'Daily Log'!$BZ$18:$BZ$1017),0)","v":0},{"$f":"IFERROR($E94*SUMIF('Daily Log'!$CB$18:$CB$1017,$B94,'Daily Log'!$CC$18:$CC$1017),0)","v":0},{"$f":"IFERROR($E94*SUMIF('Daily Log'!$CE$18:$CE$1017,$B94,'Daily Log'!$CF$18:$CF$1017),0)","v":0},{"$f":"IFERROR($E94*SUMIF('Daily Log'!$CH$18:$CH$1017,$B94,'Daily Log'!$CI$18:$CI$1017),0)","v":0},{"$f":"IFERROR($E94*SUMIF('Daily Log'!$CK$18:$CK$1017,$B94,'Daily Log'!$CL$18:$CL$1017),0)","v":0},{"$f":"IFERROR($E94*SUMIF('Daily Log'!$CN$18:$CN$1017,$B94,'Daily Log'!$CO$18:$CO$1017),0)","v":0}]
[null,"14032:SD-Hot Jasmine Green Tea",null,"HOT BEVERAGE",1,3,{"$f":"IFERROR($E95*SUMIF('Daily Log'!$B$18:$B$1017,$B95,'Daily Log'!$C$18:$C$1017),0)","v":0},{"$f":"IFERROR($E95*SUMIF('Daily Log'!$E$18:$E$1017,$B95,'Daily Log'!$F$18:$F$1017),0)","v":0},{"$f":"IFERROR($E95*SUMIF('Daily Log'!$H$18:$H$1017,$B95,'Daily Log'!$I$18:$I$1017),0)","v":0},{"$f":"IFERROR($E95*SUMIF('Daily Log'!$K$18:$K$1017,$B95,'Daily Log'!$L$18:$L$1017),0)","v":0},{"$f":"IFERROR($E95*SUMIF('Daily Log'!$N$18:$N$1017,$B95,'Daily Log'!$O$18:$O$1017),0)","v":0},{"$f":"IFERROR($E95*SUMIF('Daily Log'!$Q$18:$Q$1017,$B95,'Daily Log'!$R$18:$R$1017),0)","v":0},{"$f":"IFERROR($E95*SUMIF('Daily Log'!$T$18:$T$1017,$B95,'Daily Log'!$U$18:$U$1017),0)","v":0},{"$f":"IFERROR($E95*SUMIF('Daily Log'!$W$18:$W$1017,$B95,'Daily Log'!$X$18:$X$1017),0)","v":0},{"$f":"IFERROR($E95*SUMIF('Daily Log'!$Z$18:$Z$1017,$B95,'Daily Log'!$AA$18:$AA$1017),0)","v":0},{"$f":"IFERROR($E95*SUMIF('Daily Log'!$AC$18:$AC$1017,$B95,'Daily Log'!$AD$18:$AD$1017),0)","v":3},{"$f":"IFERROR($E95*SUMIF('Daily Log'!$AF$18:$AF$1017,$B95,'Daily Log'!$AG$18:$AG$1017),0)","v":0},{"$f":"IFERROR($E95*SUMIF('Daily Log'!$AI$18:$AI$1017,$B95,'Daily Log'!$AJ$18:$AJ$1017),0)","v":0},{"$f":"IFERROR($E95*SUMIF('Daily Log'!$AL$18:$AL$1017,$B95,'Daily Log'!$AM$18:$AM$1017),0)","v":0},{"$f":"IFERROR($E95*SUMIF('Daily Log'!$AO$18:$AO$1017,$B95,'Daily Log'!$AP$18:$AP$1017),0)","v":0},{"$f":"IFERROR($E95*SUMIF('Daily Log'!$AR$18:$AR$1017,$B95,'Daily Log'!$AS$18:$AS$1017),0)","v":0},{"$f":"IFERROR($E95*SUMIF('Daily Log'!$AU$18:$AU$1017,$B95,'Daily Log'!$AV$18:$AV$1017),0)","v":0},{"$f":"IFERROR($E95*SUMIF('Daily Log'!$AX$18:$AX$1017,$B95,'Daily Log'!$AY$18:$AY$1017),0)","v":0},{"$f":"IFERROR($E95*SUMIF('Daily Log'!$BA$18:$BA$1017,$B95,'Daily Log'!$BB$18:$BB$1017),0)","v":0},{"$f":"IFERROR($E95*SUMIF('Daily Log'!$BD$18:$BD$1017,$B95,'Daily Log'!$BE$18:$BE$1017),0)","v":0},{"$f":"IFERROR($E95*SUMIF('Daily Log'!$BG$18:$BG$1017,$B95,'Daily Log'!$BH$18:$BH$1017),0)","v":0},{"$f":"IFERROR($E95*SUMIF('Daily Log'!$BJ$18:$BJ$1017,$B95,'Daily Log'!$BK$18:$BK$1017),0)","v":0},{"$f":"IFERROR($E95*SUMIF('Daily Log'!$BM$18:$BM$1017,$B95,'Daily Log'!$BN$18:$BN$1017),0)","v":0},{"$f":"IFERROR($E95*SUMIF('Daily Log'!$BP$18:$BP$1017,$B95,'Daily Log'!$BQ$18:$BQ$1017),0)","v":0},{"$f":"IFERROR($E95*SUMIF('Daily Log'!$BS$18:$BS$1017,$B95,'Daily Log'!$BT$18:$BT$1017),0)","v":0},{"$f":"IFERROR($E95*SUMIF('Daily Log'!$BV$18:$BV$1017,$B95,'Daily Log'!$BW$18:$BW$1017),0)","v":0},{"$f":"IFERROR($E95*SUMIF('Daily Log'!$BY$18:$BY$1017,$B95,'Daily Log'!$BZ$18:$BZ$1017),0)","v":0},{"$f":"IFERROR($E95*SUMIF('Daily Log'!$CB$18:$CB$1017,$B95,'Daily Log'!$CC$18:$CC$1017),0)","v":0},{"$f":"IFERROR($E95*SUMIF('Daily Log'!$CE$18:$CE$1017,$B95,'Daily Log'!$CF$18:$CF$1017),0)","v":0},{"$f":"IFERROR($E95*SUMIF('Daily Log'!$CH$18:$CH$1017,$B95,'Daily Log'!$CI$18:$CI$1017),0)","v":0},{"$f":"IFERROR($E95*SUMIF('Daily Log'!$CK$18:$CK$1017,$B95,'Daily Log'!$CL$18:$CL$1017),0)","v":0},{"$f":"IFERROR($E95*SUMIF('Daily Log'!$CN$18:$CN$1017,$B95,'Daily Log'!$CO$18:$CO$1017),0)","v":0}]
[null,"11001:Lok01-鸡肉火腿",null,"LOK LOK ",1,21,{"$f":"IFERROR($E96*SUMIF('Daily Log'!$B$18:$B$1017,$B96,'Daily Log'!$C$18:$C$1017),0)","v":0},{"$f":"IFERROR($E96*SUMIF('Daily Log'!$E$18:$E$1017,$B96,'Daily Log'!$F$18:$F$1017),0)","v":0},{"$f":"IFERROR($E96*SUMIF('Daily Log'!$H$18:$H$1017,$B96,'Daily Log'!$I$18:$I$1017),0)","v":0},{"$f":"IFERROR($E96*SUMIF('Daily Log'!$K$18:$K$1017,$B96,'Daily Log'!$L$18:$L$1017),0)","v":0},{"$f":"IFERROR($E96*SUMIF('Daily Log'!$N$18:$N$1017,$B96,'Daily Log'!$O$18:$O$1017),0)","v":0},{"$f":"IFERROR($E96*SUMIF('Daily Log'!$Q$18:$Q$1017,$B96,'Daily Log'!$R$18:$R$1017),0)","v":0},{"$f":"IFERROR($E96*SUMIF('Daily Log'!$T$18:$T$1017,$B96,'Daily Log'!$U$18:$U$1017),0)","v":2},{"$f":"IFERROR($E96*SUMIF('Daily Log'!$W$18:$W$1017,$B96,'Daily Log'!$X$18:$X$1017),0)","v":2},{"$f":"IFERROR($E96*SUMIF('Daily Log'!$Z$18:$Z$1017,$B96,'Daily Log'!$AA$18:$AA$1017),0)","v":2},{"$f":"IFERROR($E96*SUMIF('Daily Log'!$AC$18:$AC$1017,$B96,'Daily Log'!$AD$18:$AD$1017),0)","v":3},{"$f":"IFERROR($E96*SUMIF('Daily Log'!$AF$18:$AF$1017,$B96,'Daily Log'!$AG$18:$AG$1017),0)","v":5},{"$f":"IFERROR($E96*SUMIF('Daily Log'!$AI$18:$AI$1017,$B96,'Daily Log'!$AJ$18:$AJ$1017),0)","v":5},{"$f":"IFERROR($E96*SUMIF('Daily Log'!$AL$18:$AL$1017,$B96,'Daily Log'!$AM$18:$AM$1017),0)","v":2},{"$f":"IFERROR($E96*SUMIF('Daily Log'!$AO$18:$AO$1017,$B96,'Daily Log'!$AP$18:$AP$1017),0)","v":0},{"$f":"IFERROR($E96*SUMIF('Daily Log'!$AR$18:$AR$1017,$B96,'Daily Log'!$AS$18:$AS$1017),0)","v":0},{"$f":"IFERROR($E96*SUMIF('Daily Log'!$AU$18:$AU$1017,$B96,'Daily Log'!$AV$18:$AV$1017),0)","v":0},{"$f":"IFERROR($E96*SUMIF('Daily Log'!$AX$18:$AX$1017,$B96,'Daily Log'!$AY$18:$AY$1017),0)","v":0},{"$f":"IFERROR($E96*SUMIF('Daily Log'!$BA$18:$BA$1017,$B96,'Daily Log'!$BB$18:$BB$1017),0)","v":0},{"$f":"IFERROR($E96*SUMIF('Daily Log'!$BD$18:$BD$1017,$B96,'Daily Log'!$BE$18:$BE$1017),0)","v":0},{"$f":"IFERROR($E96*SUMIF('Daily Log'!$BG$18:$BG$1017,$B96,'Daily Log'!$BH$18:$BH$1017),0)","v":0},{"$f":"IFERROR($E96*SUMIF('Daily Log'!$BJ$18:$BJ$1017,$B96,'Daily Log'!$BK$18:$BK$1017),0)","v":0},{"$f":"IFERROR($E96*SUMIF('Daily Log'!$BM$18:$BM$1017,$B96,'Daily Log'!$BN$18:$BN$1017),0)","v":0},{"$f":"IFERROR($E96*SUMIF('Daily Log'!$BP$18:$BP$1017,$B96,'Daily Log'!$BQ$18:$BQ$1017),0)","v":0},{"$f":"IFERROR($E96*SUMIF('Daily Log'!$BS$18:$BS$1017,$B96,'Daily Log'!$BT$18:$BT$1017),0)","v":0},{"$f":"IFERROR($E96*SUMIF('Daily Log'!$BV$18:$BV$1017,$B96,'Daily Log'!$BW$18:$BW$1017),0)","v":0},{"$f":"IFERROR($E96*SUMIF('Daily Log'!$BY$18:$BY$1017,$B96,'Daily Log'!$BZ$18:$BZ$1017),0)","v":0},{"$f":"IFERROR($E96*SUMIF('Daily Log'!$CB$18:$CB$1017,$B96,'Daily Log'!$CC$18:$CC$1017),0)","v":0},{"$f":"IFERROR($E96*SUMIF('Daily Log'!$CE$18:$CE$1017,$B96,'Daily Log'!$CF$18:$CF$1017),0)","v":0},{"$f":"IFERROR($E96*SUMIF('Daily Log'!$CH$18:$CH$1017,$B96,'Daily Log'!$CI$18:$CI$1017),0)","v":0},{"$f":"IFERROR($E96*SUMIF('Daily Log'!$CK$18:$CK$1017,$B96,'Daily Log'!$CL$18:$CL$1017),0)","v":0},{"$f":"IFERROR($E96*SUMIF('Daily Log'!$CN$18:$CN$1017,$B96,'Daily Log'!$CO$18:$CO$1017),0)","v":0}]
[null,"11002:Lok02-烧鸡肾",null,"LOK LOK ",1,33,{"$f":"IFERROR($E97*SUMIF('Daily Log'!$B$18:$B$1017,$B97,'Daily Log'!$C$18:$C$1017),0)","v":0},{"$f":"IFERROR($E97*SUMIF('Daily Log'!$E$18:$E$1017,$B97,'Daily Log'!$F$18:$F$1017),0)","v":0},{"$f":"IFERROR($E97*SUMIF('Daily Log'!$H$18:$H$1017,$B97,'Daily Log'!$I$18:$I$1017),0)","v":0},{"$f":"IFERROR($E97*SUMIF('Daily Log'!$K$18:$K$1017,$B97,'Daily Log'!$L$18:$L$1017),0)","v":0},{"$f":"IFERROR($E97*SUMIF('Daily Log'!$N$18:$N$1017,$B97,'Daily Log'!$O$18:$O$1017),0)","v":0},{"$f":"IFERROR($E97*SUMIF('Daily Log'!$Q$18:$Q$1017,$B97,'Daily Log'!$R$18:$R$1017),0)","v":0},{"$f":"IFERROR($E97*SUMIF('Daily Log'!$T$18:$T$1017,$B97,'Daily Log'!$U$18:$U$1017),0)","v":0},{"$f":"IFERROR($E97*SUMIF('Daily Log'!$W$18:$W$1017,$B97,'Daily Log'!$X$18:$X$1017),0)","v":3},{"$f":"IFERROR($E97*SUMIF('Daily Log'!$Z$18:$Z$1017,$B97,'Daily Log'!$AA$18:$AA$1017),0)","v":7},{"$f":"IFERROR($E97*SUMIF('Daily Log'!$AC$18:$AC$1017,$B97,'Daily Log'!$AD$18:$AD$1017),0)","v":2},{"$f":"IFERROR($E97*SUMIF('Daily Log'!$AF$18:$AF$1017,$B97,'Daily Log'!$AG$18:$AG$1017),0)","v":8},{"$f":"IFERROR($E97*SUMIF('Daily Log'!$AI$18:$AI$1017,$B97,'Daily Log'!$AJ$18:$AJ$1017),0)","v":3},{"$f":"IFERROR($E97*SUMIF('Daily Log'!$AL$18:$AL$1017,$B97,'Daily Log'!$AM$18:$AM$1017),0)","v":10},{"$f":"IFERROR($E97*SUMIF('Daily Log'!$AO$18:$AO$1017,$B97,'Daily Log'!$AP$18:$AP$1017),0)","v":0},{"$f":"IFERROR($E97*SUMIF('Daily Log'!$AR$18:$AR$1017,$B97,'Daily Log'!$AS$18:$AS$1017),0)","v":0},{"$f":"IFERROR($E97*SUMIF('Daily Log'!$AU$18:$AU$1017,$B97,'Daily Log'!$AV$18:$AV$1017),0)","v":0},{"$f":"IFERROR($E97*SUMIF('Daily Log'!$AX$18:$AX$1017,$B97,'Daily Log'!$AY$18:$AY$1017),0)","v":0},{"$f":"IFERROR($E97*SUMIF('Daily Log'!$BA$18:$BA$1017,$B97,'Daily Log'!$BB$18:$BB$1017),0)","v":0},{"$f":"IFERROR($E97*SUMIF('Daily Log'!$BD$18:$BD$1017,$B97,'Daily Log'!$BE$18:$BE$1017),0)","v":0},{"$f":"IFERROR($E97*SUMIF('Daily Log'!$BG$18:$BG$1017,$B97,'Daily Log'!$BH$18:$BH$1017),0)","v":0},{"$f":"IFERROR($E97*SUMIF('Daily Log'!$BJ$18:$BJ$1017,$B97,'Daily Log'!$BK$18:$BK$1017),0)","v":0},{"$f":"IFERROR($E97*SUMIF('Daily Log'!$BM$18:$BM$1017,$B97,'Daily Log'!$BN$18:$BN$1017),0)","v":0},{"$f":"IFERROR($E97*SUMIF('Daily Log'!$BP$18:$BP$1017,$B97,'Daily Log'!$BQ$18:$BQ$1017),0)","v":0},{"$f":"IFERROR($E97*SUMIF('Daily Log'!$BS$18:$BS$1017,$B97,'Daily Log'!$BT$18:$BT$1017),0)","v":0},{"$f":"IFERROR($E97*SUMIF('Daily Log'!$BV$18:$BV$1017,$B97,'Daily Log'!$BW$18:$BW$1017),0)","v":0},{"$f":"IFERROR($E97*SUMIF('Daily Log'!$BY$18:$BY$1017,$B97,'Daily Log'!$BZ$18:$BZ$1017),0)","v":0},{"$f":"IFERROR($E97*SUMIF('Daily Log'!$CB$18:$CB$1017,$B97,'Daily Log'!$CC$18:$CC$1017),0)","v":0},{"$f":"IFERROR($E97*SUMIF('Daily Log'!$CE$18:$CE$1017,$B97,'Daily Log'!$CF$18:$CF$1017),0)","v":0},{"$f":"IFERROR($E97*SUMIF('Daily Log'!$CH$18:$CH$1017,$B97,'Daily Log'!$CI$18:$CI$1017),0)","v":0},{"$f":"IFERROR($E97*SUMIF('Daily Log'!$CK$18:$CK$1017,$B97,'Daily Log'!$CL$18:$CL$1017),0)","v":0},{"$f":"IFERROR($E97*SUMIF('Daily Log'!$CN$18:$CN$1017,$B97,'Daily Log'!$CO$18:$CO$1017),0)","v":0}]
[null,"11003:Lok03-鸡尾酒香肠",null,"LOK LOK ",1,17,{"$f":"IFERROR($E98*SUMIF('Daily Log'!$B$18:$B$1017,$B98,'Daily Log'!$C$18:$C$1017),0)","v":0},{"$f":"IFERROR($E98*SUMIF('Daily Log'!$E$18:$E$1017,$B98,'Daily Log'!$F$18:$F$1017),0)","v":0},{"$f":"IFERROR($E98*SUMIF('Daily Log'!$H$18:$H$1017,$B98,'Daily Log'!$I$18:$I$1017),0)","v":0},{"$f":"IFERROR($E98*SUMIF('Daily Log'!$K$18:$K$1017,$B98,'Daily Log'!$L$18:$L$1017),0)","v":0},{"$f":"IFERROR($E98*SUMIF('Daily Log'!$N$18:$N$1017,$B98,'Daily Log'!$O$18:$O$1017),0)","v":0},{"$f":"IFERROR($E98*SUMIF('Daily Log'!$Q$18:$Q$1017,$B98,'Daily Log'!$R$18:$R$1017),0)","v":0},{"$f":"IFERROR($E98*SUMIF('Daily Log'!$T$18:$T$1017,$B98,'Daily Log'!$U$18:$U$1017),0)","v":0},{"$f":"IFERROR($E98*SUMIF('Daily Log'!$W$18:$W$1017,$B98,'Daily Log'!$X$18:$X$1017),0)","v":0},{"$f":"IFERROR($E98*SUMIF('Daily Log'!$Z$18:$Z$1017,$B98,'Daily Log'!$AA$18:$AA$1017),0)","v":7},{"$f":"IFERROR($E98*SUMIF('Daily Log'!$AC$18:$AC$1017,$B98,'Daily Log'!$AD$18:$AD$1017),0)","v":0},{"$f":"IFERROR($E98*SUMIF('Daily Log'!$AF$18:$AF$1017,$B98,'Daily Log'!$AG$18:$AG$1017),0)","v":5},{"$f":"IFERROR($E98*SUMIF('Daily Log'!$AI$18:$AI$1017,$B98,'Daily Log'!$AJ$18:$AJ$1017),0)","v":2},{"$f":"IFERROR($E98*SUMIF('Daily Log'!$AL$18:$AL$1017,$B98,'Daily Log'!$AM$18:$AM$1017),0)","v":3},{"$f":"IFERROR($E98*SUMIF('Daily Log'!$AO$18:$AO$1017,$B98,'Daily Log'!$AP$18:$AP$1017),0)","v":0},{"$f":"IFERROR($E98*SUMIF('Daily Log'!$AR$18:$AR$1017,$B98,'Daily Log'!$AS$18:$AS$1017),0)","v":0},{"$f":"IFERROR($E98*SUMIF('Daily Log'!$AU$18:$AU$1017,$B98,'Daily Log'!$AV$18:$AV$1017),0)","v":0},{"$f":"IFERROR($E98*SUMIF('Daily Log'!$AX$18:$AX$1017,$B98,'Daily Log'!$AY$18:$AY$1017),0)","v":0},{"$f":"IFERROR($E98*SUMIF('Daily Log'!$BA$18:$BA$1017,$B98,'Daily Log'!$BB$18:$BB$1017),0)","v":0},{"$f":"IFERROR($E98*SUMIF('Daily Log'!$BD$18:$BD$1017,$B98,'Daily Log'!$BE$18:$BE$1017),0)","v":0},{"$f":"IFERROR($E98*SUMIF('Daily Log'!$BG$18:$BG$1017,$B98,'Daily Log'!$BH$18:$BH$1017),0)","v":0},{"$f":"IFERROR($E98*SUMIF('Daily Log'!$BJ$18:$BJ$1017,$B98,'Daily Log'!$BK$18:$BK$1017),0)","v":0},{"$f":"IFERROR($E98*SUMIF('Daily Log'!$BM$18:$BM$1017,$B98,'Daily Log'!$BN$18:$BN$1017),0)","v":0},{"$f":"IFERROR($E98*SUMIF('Daily Log'!$BP$18:$BP$1017,$B98,'Daily Log'!$BQ$18:$BQ$1017),0)","v":0},{"$f":"IFERROR($E98*SUMIF('Daily Log'!$BS$18:$BS$1017,$B98,'Daily Log'!$BT$18:$BT$1017),0)","v":0},{"$f":"IFERROR($E98*SUMIF('Daily Log'!$BV$18:$BV$1017,$B98,'Daily Log'!$BW$18:$BW$1017),0)","v":0},{"$f":"IFERROR($E98*SUMIF('Daily Log'!$BY$18:$BY$1017,$B98,'Daily Log'!$BZ$18:$BZ$1017),0)","v":0},{"$f":"IFERROR($E98*SUMIF('Daily Log'!$CB$18:$CB$1017,$B98,'Daily Log'!$CC$18:$CC$1017),0)","v":0},{"$f":"IFERROR($E98*SUMIF('Daily Log'!$CE$18:$CE$1017,$B98,'Daily Log'!$CF$18:$CF$1017),0)","v":0},{"$f":"IFERROR($E98*SUMIF('Daily Log'!$CH$18:$CH$1017,$B98,'Daily Log'!$CI$18:$CI$1017),0)","v":0},{"$f":"IFERROR($E98*SUMIF('Daily Log'!$CK$18:$CK$1017,$B98,'Daily Log'!$CL$18:$CL$1017),0)","v":0},{"$f":"IFERROR($E98*SUMIF('Daily Log'!$CN$18:$CN$1017,$B98,'Daily Log'!$CO$18:$CO$1017),0)","v":0}]
[null,"11004:Lok04-鸡肉香肠",null,"LOK LOK ",1,7,{"$f":"IFERROR($E99*SUMIF('Daily Log'!$B$18:$B$1017,$B99,'Daily Log'!$C$18:$C$1017),0)","v":0},{"$f":"IFERROR($E99*SUMIF('Daily Log'!$E$18:$E$1017,$B99,'Daily Log'!$F$18:$F$1017),0)","v":0},{"$f":"IFERROR($E99*SUMIF('Daily Log'!$H$18:$H$1017,$B99,'Daily Log'!$I$18:$I$1017),0)","v":0},{"$f":"IFERROR($E99*SUMIF('Daily Log'!$K$18:$K$1017,$B99,'Daily Log'!$L$18:$L$1017),0)","v":0},{"$f":"IFERROR($E99*SUMIF('Daily Log'!$N$18:$N$1017,$B99,'Daily Log'!$O$18:$O$1017),0)","v":0},{"$f":"IFERROR($E99*SUMIF('Daily Log'!$Q$18:$Q$1017,$B99,'Daily Log'!$R$18:$R$1017),0)","v":0},{"$f":"IFERROR($E99*SUMIF('Daily Log'!$T$18:$T$1017,$B99,'Daily Log'!$U$18:$U$1017),0)","v":0},{"$f":"IFERROR($E99*SUMIF('Daily Log'!$W$18:$W$1017,$B99,'Daily Log'!$X$18:$X$1017),0)","v":2},{"$f":"IFERROR($E99*SUMIF('Daily Log'!$Z$18:$Z$1017,$B99,'Daily Log'!$AA$18:$AA$1017),0)","v":2},{"$f":"IFERROR($E99*SUMIF('Daily Log'!$AC$18:$AC$1017,$B99,'Daily Log'!$AD$18:$AD$1017),0)","v":1},{"$f":"IFERROR($E99*SUMIF('Daily Log'!$AF$18:$AF$1017,$B99,'Daily Log'!$AG$18:$AG$1017),0)","v":0},{"$f":"IFERROR($E99*SUMIF('Daily Log'!$AI$18:$AI$1017,$B99,'Daily Log'!$AJ$18:$AJ$1017),0)","v":1},{"$f":"IFERROR($E99*SUMIF('Daily Log'!$AL$18:$AL$1017,$B99,'Daily Log'!$AM$18:$AM$1017),0)","v":1},{"$f":"IFERROR($E99*SUMIF('Daily Log'!$AO$18:$AO$1017,$B99,'Daily Log'!$AP$18:$AP$1017),0)","v":0},{"$f":"IFERROR($E99*SUMIF('Daily Log'!$AR$18:$AR$1017,$B99,'Daily Log'!$AS$18:$AS$1017),0)","v":0},{"$f":"IFERROR($E99*SUMIF('Daily Log'!$AU$18:$AU$1017,$B99,'Daily Log'!$AV$18:$AV$1017),0)","v":0},{"$f":"IFERROR($E99*SUMIF('Daily Log'!$AX$18:$AX$1017,$B99,'Daily Log'!$AY$18:$AY$1017),0)","v":0},{"$f":"IFERROR($E99*SUMIF('Daily Log'!$BA$18:$BA$1017,$B99,'Daily Log'!$BB$18:$BB$1017),0)","v":0},{"$f":"IFERROR($E99*SUMIF('Daily Log'!$BD$18:$BD$1017,$B99,'Daily Log'!$BE$18:$BE$1017),0)","v":0},{"$f":"IFERROR($E99*SUMIF('Daily Log'!$BG$18:$BG$1017,$B99,'Daily Log'!$BH$18:$BH$1017),0)","v":0},{"$f":"IFERROR($E99*SUMIF('Daily Log'!$BJ$18:$BJ$1017,$B99,'Daily Log'!$BK$18:$BK$1017),0)","v":0},{"$f":"IFERROR($E99*SUMIF('Daily Log'!$BM$18:$BM$1017,$B99,'Daily Log'!$BN$18:$BN$1017),0)","v":0},{"$f":"IFERROR($E99*SUMIF('Daily Log'!$BP$18:$BP$1017,$B99,'Daily Log'!$BQ$18:$BQ$1017),0)","v":0},{"$f":"IFERROR($E99*SUMIF('Daily Log'!$BS$18:$BS$1017,$B99,'Daily Log'!$BT$18:$BT$1017),0)","v":0},{"$f":"IFERROR($E99*SUMIF('Daily Log'!$BV$18:$BV$1017,$B99,'Daily Log'!$BW$18:$BW$1017),0)","v":0},{"$f":"IFERROR($E99*SUMIF('Daily Log'!$BY$18:$BY$1017,$B99,'Daily Log'!$BZ$18:$BZ$1017),0)","v":0},{"$f":"IFERROR($E99*SUMIF('Daily Log'!$CB$18:$CB$1017,$B99,'Daily Log'!$CC$18:$CC$1017),0)","v":0},{"$f":"IFERROR($E99*SUMIF('Daily Log'!$CE$18:$CE$1017,$B99,'Daily Log'!$CF$18:$CF$1017),0)","v":0},{"$f":"IFERROR($E99*SUMIF('Daily Log'!$CH$18:$CH$1017,$B99,'Daily Log'!$CI$18:$CI$1017),0)","v":0},{"$f":"IFERROR($E99*SUMIF('Daily Log'!$CK$18:$CK$1017,$B99,'Daily Log'!$CL$18:$CL$1017),0)","v":0},{"$f":"IFERROR($E99*SUMIF('Daily Log'!$CN$18:$CN$1017,$B99,'Daily Log'!$CO$18:$CO$1017),0)","v":0}]
[null,"11005:Lok06-去骨烧鸡翼",null,"LOK LOK ",1,63,{"$f":"IFERROR($E100*SUMIF('Daily Log'!$B$18:$B$1017,$B100,'Daily Log'!$C$18:$C$1017),0)","v":0},{"$f":"IFERROR($E100*SUMIF('Daily Log'!$E$18:$E$1017,$B100,'Daily Log'!$F$18:$F$1017),0)","v":0},{"$f":"IFERROR($E100*SUMIF('Daily Log'!$H$18:$H$1017,$B100,'Daily Log'!$I$18:$I$1017),0)","v":0},{"$f":"IFERROR($E100*SUMIF('Daily Log'!$K$18:$K$1017,$B100,'Daily Log'!$L$18:$L$1017),0)","v":0},{"$f":"IFERROR($E100*SUMIF('Daily Log'!$N$18:$N$1017,$B100,'Daily Log'!$O$18:$O$1017),0)","v":0},{"$f":"IFERROR($E100*SUMIF('Daily Log'!$Q$18:$Q$1017,$B100,'Daily Log'!$R$18:$R$1017),0)","v":0},{"$f":"IFERROR($E100*SUMIF('Daily Log'!$T$18:$T$1017,$B100,'Daily Log'!$U$18:$U$1017),0)","v":5},{"$f":"IFERROR($E100*SUMIF('Daily Log'!$W$18:$W$1017,$B100,'Daily Log'!$X$18:$X$1017),0)","v":8},{"$f":"IFERROR($E100*SUMIF('Daily Log'!$Z$18:$Z$1017,$B100,'Daily Log'!$AA$18:$AA$1017),0)","v":14},{"$f":"IFERROR($E100*SUMIF('Daily Log'!$AC$18:$AC$1017,$B100,'Daily Log'!$AD$18:$AD$1017),0)","v":10},{"$f":"IFERROR($E100*SUMIF('Daily Log'!$AF$18:$AF$1017,$B100,'Daily Log'!$AG$18:$AG$1017),0)","v":7},{"$f":"IFERROR($E100*SUMIF('Daily Log'!$AI$18:$AI$1017,$B100,'Daily Log'!$AJ$18:$AJ$1017),0)","v":11},{"$f":"IFERROR($E100*SUMIF('Daily Log'!$AL$18:$AL$1017,$B100,'Daily Log'!$AM$18:$AM$1017),0)","v":8},{"$f":"IFERROR($E100*SUMIF('Daily Log'!$AO$18:$AO$1017,$B100,'Daily Log'!$AP$18:$AP$1017),0)","v":0},{"$f":"IFERROR($E100*SUMIF('Daily Log'!$AR$18:$AR$1017,$B100,'Daily Log'!$AS$18:$AS$1017),0)","v":0},{"$f":"IFERROR($E100*SUMIF('Daily Log'!$AU$18:$AU$1017,$B100,'Daily Log'!$AV$18:$AV$1017),0)","v":0},{"$f":"IFERROR($E100*SUMIF('Daily Log'!$AX$18:$AX$1017,$B100,'Daily Log'!$AY$18:$AY$1017),0)","v":0},{"$f":"IFERROR($E100*SUMIF('Daily Log'!$BA$18:$BA$1017,$B100,'Daily Log'!$BB$18:$BB$1017),0)","v":0},{"$f":"IFERROR($E100*SUMIF('Daily Log'!$BD$18:$BD$1017,$B100,'Daily Log'!$BE$18:$BE$1017),0)","v":0},{"$f":"IFERROR($E100*SUMIF('Daily Log'!$BG$18:$BG$1017,$B100,'Daily Log'!$BH$18:$BH$1017),0)","v":0},{"$f":"IFERROR($E100*SUMIF('Daily Log'!$BJ$18:$BJ$1017,$B100,'Daily Log'!$BK$18:$BK$1017),0)","v":0},{"$f":"IFERROR($E100*SUMIF('Daily Log'!$BM$18:$BM$1017,$B100,'Daily Log'!$BN$18:$BN$1017),0)","v":0},{"$f":"IFERROR($E100*SUMIF('Daily Log'!$BP$18:$BP$1017,$B100,'Daily Log'!$BQ$18:$BQ$1017),0)","v":0},{"$f":"IFERROR($E100*SUMIF('Daily Log'!$BS$18:$BS$1017,$B100,'Daily Log'!$BT$18:$BT$1017),0)","v":0},{"$f":"IFERROR($E100*SUMIF('Daily Log'!$BV$18:$BV$1017,$B100,'Daily Log'!$BW$18:$BW$1017),0)","v":0},{"$f":"IFERROR($E100*SUMIF('Daily Log'!$BY$18:$BY$1017,$B100,'Daily Log'!$BZ$18:$BZ$1017),0)","v":0},{"$f":"IFERROR($E100*SUMIF('Daily Log'!$CB$18:$CB$1017,$B100,'Daily Log'!$CC$18:$CC$1017),0)","v":0},{"$f":"IFERROR($E100*SUMIF('Daily Log'!$CE$18:$CE$1017,$B100,'Daily Log'!$CF$18:$CF$1017),0)","v":0},{"$f":"IFERROR($E100*SUMIF('Daily Log'!$CH$18:$CH$1017,$B100,'Daily Log'!$CI$18:$CI$1017),0)","v":0},{"$f":"IFERROR($E100*SUMIF('Daily Log'!$CK$18:$CK$1017,$B100,'Daily Log'!$CL$18:$CL$1017),0)","v":0},{"$f":"IFERROR($E100*SUMIF('Daily Log'!$CN$18:$CN$1017,$B100,'Daily Log'!$CO$18:$CO$1017),0)","v":0}]
[null,"11006:Lok07-芝士香肠",null,"LOK LOK ",1,48,{"$f":"IFERROR($E101*SUMIF('Daily Log'!$B$18:$B$1017,$B101,'Daily Log'!$C$18:$C$1017),0)","v":0},{"$f":"IFERROR($E101*SUMIF('Daily Log'!$E$18:$E$1017,$B101,'Daily Log'!$F$18:$F$1017),0)","v":0},{"$f":"IFERROR($E101*SUMIF('Daily Log'!$H$18:$H$1017,$B101,'Daily Log'!$I$18:$I$1017),0)","v":0},{"$f":"IFERROR($E101*SUMIF('Daily Log'!$K$18:$K$1017,$B101,'Daily Log'!$L$18:$L$1017),0)","v":0},{"$f":"IFERROR($E101*SUMIF('Daily Log'!$N$18:$N$1017,$B101,'Daily Log'!$O$18:$O$1017),0)","v":0},{"$f":"IFERROR($E101*SUMIF('Daily Log'!$Q$18:$Q$1017,$B101,'Daily Log'!$R$18:$R$1017),0)","v":0},{"$f":"IFERROR($E101*SUMIF('Daily Log'!$T$18:$T$1017,$B101,'Daily Log'!$U$18:$U$1017),0)","v":6},{"$f":"IFERROR($E101*SUMIF('Daily Log'!$W$18:$W$1017,$B101,'Daily Log'!$X$18:$X$1017),0)","v":2},{"$f":"IFERROR($E101*SUMIF('Daily Log'!$Z$18:$Z$1017,$B101,'Daily Log'!$AA$18:$AA$1017),0)","v":10},{"$f":"IFERROR($E101*SUMIF('Daily Log'!$AC$18:$AC$1017,$B101,'Daily Log'!$AD$18:$AD$1017),0)","v":4},{"$f":"IFERROR($E101*SUMIF('Daily Log'!$AF$18:$AF$1017,$B101,'Daily Log'!$AG$18:$AG$1017),0)","v":13},{"$f":"IFERROR($E101*SUMIF('Daily Log'!$AI$18:$AI$1017,$B101,'Daily Log'!$AJ$18:$AJ$1017),0)","v":6},{"$f":"IFERROR($E101*SUMIF('Daily Log'!$AL$18:$AL$1017,$B101,'Daily Log'!$AM$18:$AM$1017),0)","v":7},{"$f":"IFERROR($E101*SUMIF('Daily Log'!$AO$18:$AO$1017,$B101,'Daily Log'!$AP$18:$AP$1017),0)","v":0},{"$f":"IFERROR($E101*SUMIF('Daily Log'!$AR$18:$AR$1017,$B101,'Daily Log'!$AS$18:$AS$1017),0)","v":0},{"$f":"IFERROR($E101*SUMIF('Daily Log'!$AU$18:$AU$1017,$B101,'Daily Log'!$AV$18:$AV$1017),0)","v":0},{"$f":"IFERROR($E101*SUMIF('Daily Log'!$AX$18:$AX$1017,$B101,'Daily Log'!$AY$18:$AY$1017),0)","v":0},{"$f":"IFERROR($E101*SUMIF('Daily Log'!$BA$18:$BA$1017,$B101,'Daily Log'!$BB$18:$BB$1017),0)","v":0},{"$f":"IFERROR($E101*SUMIF('Daily Log'!$BD$18:$BD$1017,$B101,'Daily Log'!$BE$18:$BE$1017),0)","v":0},{"$f":"IFERROR($E101*SUMIF('Daily Log'!$BG$18:$BG$1017,$B101,'Daily Log'!$BH$18:$BH$1017),0)","v":0},{"$f":"IFERROR($E101*SUMIF('Daily Log'!$BJ$18:$BJ$1017,$B101,'Daily Log'!$BK$18:$BK$1017),0)","v":0},{"$f":"IFERROR($E101*SUMIF('Daily Log'!$BM$18:$BM$1017,$B101,'Daily Log'!$BN$18:$BN$1017),0)","v":0},{"$f":"IFERROR($E101*SUMIF('Daily Log'!$BP$18:$BP$1017,$B101,'Daily Log'!$BQ$18:$BQ$1017),0)","v":0},{"$f":"IFERROR($E101*SUMIF('Daily Log'!$BS$18:$BS$1017,$B101,'Daily Log'!$BT$18:$BT$1017),0)","v":0},{"$f":"IFERROR($E101*SUMIF('Daily Log'!$BV$18:$BV$1017,$B101,'Daily Log'!$BW$18:$BW$1017),0)","v":0},{"$f":"IFERROR($E101*SUMIF('Daily Log'!$BY$18:$BY$1017,$B101,'Daily Log'!$BZ$18:$BZ$1017),0)","v":0},{"$f":"IFERROR($E101*SUMIF('Daily Log'!$CB$18:$CB$1017,$B101,'Daily Log'!$CC$18:$CC$1017),0)","v":0},{"$f":"IFERROR($E101*SUMIF('Daily Log'!$CE$18:$CE$1017,$B101,'Daily Log'!$CF$18:$CF$1017),0)","v":0},{"$f":"IFERROR($E101*SUMIF('Daily Log'!$CH$18:$CH$1017,$B101,'Daily Log'!$CI$18:$CI$1017),0)","v":0},{"$f":"IFERROR($E101*SUMIF('Daily Log'!$CK$18:$CK$1017,$B101,'Daily Log'!$CL$18:$CL$1017),0)","v":0},{"$f":"IFERROR($E101*SUMIF('Daily Log'!$CN$18:$CN$1017,$B101,'Daily Log'!$CO$18:$CO$1017),0)","v":0}]
[null,"11007:Lok12-烧烤鸭肉",null,"LOK LOK ",1,33,{"$f":"IFERROR($E102*SUMIF('Daily Log'!$B$18:$B$1017,$B102,'Daily Log'!$C$18:$C$1017),0)","v":0},{"$f":"IFERROR($E102*SUMIF('Daily Log'!$E$18:$E$1017,$B102,'Daily Log'!$F$18:$F$1017),0)","v":0},{"$f":"IFERROR($E102*SUMIF('Daily Log'!$H$18:$H$1017,$B102,'Daily Log'!$I$18:$I$1017),0)","v":0},{"$f":"IFERROR($E102*SUMIF('Daily Log'!$K$18:$K$1017,$B102,'Daily Log'!$L$18:$L$1017),0)","v":0},{"$f":"IFERROR($E102*SUMIF('Daily Log'!$N$18:$N$1017,$B102,'Daily Log'!$O$18:$O$1017),0)","v":0},{"$f":"IFERROR($E102*SUMIF('Daily Log'!$Q$18:$Q$1017,$B102,'Daily Log'!$R$18:$R$1017),0)","v":0},{"$f":"IFERROR($E102*SUMIF('Daily Log'!$T$18:$T$1017,$B102,'Daily Log'!$U$18:$U$1017),0)","v":3},{"$f":"IFERROR($E102*SUMIF('Daily Log'!$W$18:$W$1017,$B102,'Daily Log'!$X$18:$X$1017),0)","v":4},{"$f":"IFERROR($E102*SUMIF('Daily Log'!$Z$18:$Z$1017,$B102,'Daily Log'!$AA$18:$AA$1017),0)","v":3},{"$f":"IFERROR($E102*SUMIF('Daily Log'!$AC$18:$AC$1017,$B102,'Daily Log'!$AD$18:$AD$1017),0)","v":6},{"$f":"IFERROR($E102*SUMIF('Daily Log'!$AF$18:$AF$1017,$B102,'Daily Log'!$AG$18:$AG$1017),0)","v":5},{"$f":"IFERROR($E102*SUMIF('Daily Log'!$AI$18:$AI$1017,$B102,'Daily Log'!$AJ$18:$AJ$1017),0)","v":3},{"$f":"IFERROR($E102*SUMIF('Daily Log'!$AL$18:$AL$1017,$B102,'Daily Log'!$AM$18:$AM$1017),0)","v":9},{"$f":"IFERROR($E102*SUMIF('Daily Log'!$AO$18:$AO$1017,$B102,'Daily Log'!$AP$18:$AP$1017),0)","v":0},{"$f":"IFERROR($E102*SUMIF('Daily Log'!$AR$18:$AR$1017,$B102,'Daily Log'!$AS$18:$AS$1017),0)","v":0},{"$f":"IFERROR($E102*SUMIF('Daily Log'!$AU$18:$AU$1017,$B102,'Daily Log'!$AV$18:$AV$1017),0)","v":0},{"$f":"IFERROR($E102*SUMIF('Daily Log'!$AX$18:$AX$1017,$B102,'Daily Log'!$AY$18:$AY$1017),0)","v":0},{"$f":"IFERROR($E102*SUMIF('Daily Log'!$BA$18:$BA$1017,$B102,'Daily Log'!$BB$18:$BB$1017),0)","v":0},{"$f":"IFERROR($E102*SUMIF('Daily Log'!$BD$18:$BD$1017,$B102,'Daily Log'!$BE$18:$BE$1017),0)","v":0},{"$f":"IFERROR($E102*SUMIF('Daily Log'!$BG$18:$BG$1017,$B102,'Daily Log'!$BH$18:$BH$1017),0)","v":0},{"$f":"IFERROR($E102*SUMIF('Daily Log'!$BJ$18:$BJ$1017,$B102,'Daily Log'!$BK$18:$BK$1017),0)","v":0},{"$f":"IFERROR($E102*SUMIF('Daily Log'!$BM$18:$BM$1017,$B102,'Daily Log'!$BN$18:$BN$1017),0)","v":0},{"$f":"IFERROR($E102*SUMIF('Daily Log'!$BP$18:$BP$1017,$B102,'Daily Log'!$BQ$18:$BQ$1017),0)","v":0},{"$f":"IFERROR($E102*SUMIF('Daily Log'!$BS$18:$BS$1017,$B102,'Daily Log'!$BT$18:$BT$1017),0)","v":0},{"$f":"IFERROR($E102*SUMIF('Daily Log'!$BV$18:$BV$1017,$B102,'Daily Log'!$BW$18:$BW$1017),0)","v":0},{"$f":"IFERROR($E102*SUMIF('Daily Log'!$BY$18:$BY$1017,$B102,'Daily Log'!$BZ$18:$BZ$1017),0)","v":0},{"$f":"IFERROR($E102*SUMIF('Daily Log'!$CB$18:$CB$1017,$B102,'Daily Log'!$CC$18:$CC$1017),0)","v":0},{"$f":"IFERROR($E102*SUMIF('Daily Log'!$CE$18:$CE$1017,$B102,'Daily Log'!$CF$18:$CF$1017),0)","v":0},{"$f":"IFERROR($E102*SUMIF('Daily Log'!$CH$18:$CH$1017,$B102,'Daily Log'!$CI$18:$CI$1017),0)","v":0},{"$f":"IFERROR($E102*SUMIF('Daily Log'!$CK$18:$CK$1017,$B102,'Daily Log'!$CL$18:$CL$1017),0)","v":0},{"$f":"IFERROR($E102*SUMIF('Daily Log'!$CN$18:$CN$1017,$B102,'Daily Log'!$CO$18:$CO$1017),0)","v":0}]
[null,"11008:Lok15-猪肉圆",null,"LOK LOK ",1,63,{"$f":"IFERROR($E103*SUMIF('Daily Log'!$B$18:$B$1017,$B103,'Daily Log'!$C$18:$C$1017),0)","v":0},{"$f":"IFERROR($E103*SUMIF('Daily Log'!$E$18:$E$1017,$B103,'Daily Log'!$F$18:$F$1017),0)","v":0},{"$f":"IFERROR($E103*SUMIF('Daily Log'!$H$18:$H$1017,$B103,'Daily Log'!$I$18:$I$1017),0)","v":0},{"$f":"IFERROR($E103*SUMIF('Daily Log'!$K$18:$K$1017,$B103,'Daily Log'!$L$18:$L$1017),0)","v":0},{"$f":"IFERROR($E103*SUMIF('Daily Log'!$N$18:$N$1017,$B103,'Daily Log'!$O$18:$O$1017),0)","v":0},{"$f":"IFERROR($E103*SUMIF('Daily Log'!$Q$18:$Q$1017,$B103,'Daily Log'!$R$18:$R$1017),0)","v":0},{"$f":"IFERROR($E103*SUMIF('Daily Log'!$T$18:$T$1017,$B103,'Daily Log'!$U$18:$U$1017),0)","v":4},{"$f":"IFERROR($E103*SUMIF('Daily Log'!$W$18:$W$1017,$B103,'Daily Log'!$X$18:$X$1017),0)","v":10},{"$f":"IFERROR($E103*SUMIF('Daily Log'!$Z$18:$Z$1017,$B103,'Daily Log'!$AA$18:$AA$1017),0)","v":9},{"$f":"IFERROR($E103*SUMIF('Daily Log'!$AC$18:$AC$1017,$B103,'Daily Log'!$AD$18:$AD$1017),0)","v":5},{"$f":"IFERROR($E103*SUMIF('Daily Log'!$AF$18:$AF$1017,$B103,'Daily Log'!$AG$18:$AG$1017),0)","v":14},{"$f":"IFERROR($E103*SUMIF('Daily Log'!$AI$18:$AI$1017,$B103,'Daily Log'!$AJ$18:$AJ$1017),0)","v":8},{"$f":"IFERROR($E103*SUMIF('Daily Log'!$AL$18:$AL$1017,$B103,'Daily Log'!$AM$18:$AM$1017),0)","v":13},{"$f":"IFERROR($E103*SUMIF('Daily Log'!$AO$18:$AO$1017,$B103,'Daily Log'!$AP$18:$AP$1017),0)","v":0},{"$f":"IFERROR($E103*SUMIF('Daily Log'!$AR$18:$AR$1017,$B103,'Daily Log'!$AS$18:$AS$1017),0)","v":0},{"$f":"IFERROR($E103*SUMIF('Daily Log'!$AU$18:$AU$1017,$B103,'Daily Log'!$AV$18:$AV$1017),0)","v":0},{"$f":"IFERROR($E103*SUMIF('Daily Log'!$AX$18:$AX$1017,$B103,'Daily Log'!$AY$18:$AY$1017),0)","v":0},{"$f":"IFERROR($E103*SUMIF('Daily Log'!$BA$18:$BA$1017,$B103,'Daily Log'!$BB$18:$BB$1017),0)","v":0},{"$f":"IFERROR($E103*SUMIF('Daily Log'!$BD$18:$BD$1017,$B103,'Daily Log'!$BE$18:$BE$1017),0)","v":0},{"$f":"IFERROR($E103*SUMIF('Daily Log'!$BG$18:$BG$1017,$B103,'Daily Log'!$BH$18:$BH$1017),0)","v":0},{"$f":"IFERROR($E103*SUMIF('Daily Log'!$BJ$18:$BJ$1017,$B103,'Daily Log'!$BK$18:$BK$1017),0)","v":0},{"$f":"IFERROR($E103*SUMIF('Daily Log'!$BM$18:$BM$1017,$B103,'Daily Log'!$BN$18:$BN$1017),0)","v":0},{"$f":"IFERROR($E103*SUMIF('Daily Log'!$BP$18:$BP$1017,$B103,'Daily Log'!$BQ$18:$BQ$1017),0)","v":0},{"$f":"IFERROR($E103*SUMIF('Daily Log'!$BS$18:$BS$1017,$B103,'Daily Log'!$BT$18:$BT$1017),0)","v":0},{"$f":"IFERROR($E103*SUMIF('Daily Log'!$BV$18:$BV$1017,$B103,'Daily Log'!$BW$18:$BW$1017),0)","v":0},{"$f":"IFERROR($E103*SUMIF('Daily Log'!$BY$18:$BY$1017,$B103,'Daily Log'!$BZ$18:$BZ$1017),0)","v":0},{"$f":"IFERROR($E103*SUMIF('Daily Log'!$CB$18:$CB$1017,$B103,'Daily Log'!$CC$18:$CC$1017),0)","v":0},{"$f":"IFERROR($E103*SUMIF('Daily Log'!$CE$18:$CE$1017,$B103,'Daily Log'!$CF$18:$CF$1017),0)","v":0},{"$f":"IFERROR($E103*SUMIF('Daily Log'!$CH$18:$CH$1017,$B103,'Daily Log'!$CI$18:$CI$1017),0)","v":0},{"$f":"IFERROR($E103*SUMIF('Daily Log'!$CK$18:$CK$1017,$B103,'Daily Log'!$CL$18:$CL$1017),0)","v":0},{"$f":"IFERROR($E103*SUMIF('Daily Log'!$CN$18:$CN$1017,$B103,'Daily Log'!$CO$18:$CO$1017),0)","v":0}]
[null,"11009:Lok16-培根",null,"LOK LOK ",1,11,{"$f":"IFERROR($E104*SUMIF('Daily Log'!$B$18:$B$1017,$B104,'Daily Log'!$C$18:$C$1017),0)","v":0},{"$f":"IFERROR($E104*SUMIF('Daily Log'!$E$18:$E$1017,$B104,'Daily Log'!$F$18:$F$1017),0)","v":0},{"$f":"IFERROR($E104*SUMIF('Daily Log'!$H$18:$H$1017,$B104,'Daily Log'!$I$18:$I$1017),0)","v":0},{"$f":"IFERROR($E104*SUMIF('Daily Log'!$K$18:$K$1017,$B104,'Daily Log'!$L$18:$L$1017),0)","v":0},{"$f":"IFERROR($E104*SUMIF('Daily Log'!$N$18:$N$1017,$B104,'Daily Log'!$O$18:$O$1017),0)","v":0},{"$f":"IFERROR($E104*SUMIF('Daily Log'!$Q$18:$Q$1017,$B104,'Daily Log'!$R$18:$R$1017),0)","v":0},{"$f":"IFERROR($E104*SUMIF('Daily Log'!$T$18:$T$1017,$B104,'Daily Log'!$U$18:$U$1017),0)","v":0},{"$f":"IFERROR($E104*SUMIF('Daily Log'!$W$18:$W$1017,$B104,'Daily Log'!$X$18:$X$1017),0)","v":1},{"$f":"IFERROR($E104*SUMIF('Daily Log'!$Z$18:$Z$1017,$B104,'Daily Log'!$AA$18:$AA$1017),0)","v":3},{"$f":"IFERROR($E104*SUMIF('Daily Log'!$AC$18:$AC$1017,$B104,'Daily Log'!$AD$18:$AD$1017),0)","v":1},{"$f":"IFERROR($E104*SUMIF('Daily Log'!$AF$18:$AF$1017,$B104,'Daily Log'!$AG$18:$AG$1017),0)","v":0},{"$f":"IFERROR($E104*SUMIF('Daily Log'!$AI$18:$AI$1017,$B104,'Daily Log'!$AJ$18:$AJ$1017),0)","v":3},{"$f":"IFERROR($E104*SUMIF('Daily Log'!$AL$18:$AL$1017,$B104,'Daily Log'!$AM$18:$AM$1017),0)","v":3},{"$f":"IFERROR($E104*SUMIF('Daily Log'!$AO$18:$AO$1017,$B104,'Daily Log'!$AP$18:$AP$1017),0)","v":0},{"$f":"IFERROR($E104*SUMIF('Daily Log'!$AR$18:$AR$1017,$B104,'Daily Log'!$AS$18:$AS$1017),0)","v":0},{"$f":"IFERROR($E104*SUMIF('Daily Log'!$AU$18:$AU$1017,$B104,'Daily Log'!$AV$18:$AV$1017),0)","v":0},{"$f":"IFERROR($E104*SUMIF('Daily Log'!$AX$18:$AX$1017,$B104,'Daily Log'!$AY$18:$AY$1017),0)","v":0},{"$f":"IFERROR($E104*SUMIF('Daily Log'!$BA$18:$BA$1017,$B104,'Daily Log'!$BB$18:$BB$1017),0)","v":0},{"$f":"IFERROR($E104*SUMIF('Daily Log'!$BD$18:$BD$1017,$B104,'Daily Log'!$BE$18:$BE$1017),0)","v":0},{"$f":"IFERROR($E104*SUMIF('Daily Log'!$BG$18:$BG$1017,$B104,'Daily Log'!$BH$18:$BH$1017),0)","v":0},{"$f":"IFERROR($E104*SUMIF('Daily Log'!$BJ$18:$BJ$1017,$B104,'Daily Log'!$BK$18:$BK$1017),0)","v":0},{"$f":"IFERROR($E104*SUMIF('Daily Log'!$BM$18:$BM$1017,$B104,'Daily Log'!$BN$18:$BN$1017),0)","v":0},{"$f":"IFERROR($E104*SUMIF('Daily Log'!$BP$18:$BP$1017,$B104,'Daily Log'!$BQ$18:$BQ$1017),0)","v":0},{"$f":"IFERROR($E104*SUMIF('Daily Log'!$BS$18:$BS$1017,$B104,'Daily Log'!$BT$18:$BT$1017),0)","v":0},{"$f":"IFERROR($E104*SUMIF('Daily Log'!$BV$18:$BV$1017,$B104,'Daily Log'!$BW$18:$BW$1017),0)","v":0},{"$f":"IFERROR($E104*SUMIF('Daily Log'!$BY$18:$BY$1017,$B104,'Daily Log'!$BZ$18:$BZ$1017),0)","v":0},{"$f":"IFERROR($E104*SUMIF('Daily Log'!$CB$18:$CB$1017,$B104,'Daily Log'!$CC$18:$CC$1017),0)","v":0},{"$f":"IFERROR($E104*SUMIF('Daily Log'!$CE$18:$CE$1017,$B104,'Daily Log'!$CF$18:$CF$1017),0)","v":0},{"$f":"IFERROR($E104*SUMIF('Daily Log'!$CH$18:$CH$1017,$B104,'Daily Log'!$CI$18:$CI$1017),0)","v":0},{"$f":"IFERROR($E104*SUMIF('Daily Log'!$CK$18:$CK$1017,$B104,'Daily Log'!$CL$18:$CL$1017),0)","v":0},{"$f":"IFERROR($E104*SUMIF('Daily Log'!$CN$18:$CN$1017,$B104,'Daily Log'!$CO$18:$CO$1017),0)","v":0}]
[null,"11010:Lok17-炸云吞",null,"LOK LOK ",1,16,{"$f":"IFERROR($E105*SUMIF('Daily Log'!$B$18:$B$1017,$B105,'Daily Log'!$C$18:$C$1017),0)","v":0},{"$f":"IFERROR($E105*SUMIF('Daily Log'!$E$18:$E$1017,$B105,'Daily Log'!$F$18:$F$1017),0)","v":0},{"$f":"IFERROR($E105*SUMIF('Daily Log'!$H$18:$H$1017,$B105,'Daily Log'!$I$18:$I$1017),0)","v":0},{"$f":"IFERROR($E105*SUMIF('Daily Log'!$K$18:$K$1017,$B105,'Daily Log'!$L$18:$L$1017),0)","v":0},{"$f":"IFERROR($E105*SUMIF('Daily Log'!$N$18:$N$1017,$B105,'Daily Log'!$O$18:$O$1017),0)","v":0},{"$f":"IFERROR($E105*SUMIF('Daily Log'!$Q$18:$Q$1017,$B105,'Daily Log'!$R$18:$R$1017),0)","v":0},{"$f":"IFERROR($E105*SUMIF('Daily Log'!$T$18:$T$1017,$B105,'Daily Log'!$U$18:$U$1017),0)","v":1},{"$f":"IFERROR($E105*SUMIF('Daily Log'!$W$18:$W$1017,$B105,'Daily Log'!$X$18:$X$1017),0)","v":3},{"$f":"IFERROR($E105*SUMIF('Daily Log'!$Z$18:$Z$1017,$B105,'Daily Log'!$AA$18:$AA$1017),0)","v":2},{"$f":"IFERROR($E105*SUMIF('Daily Log'!$AC$18:$AC$1017,$B105,'Daily Log'!$AD$18:$AD$1017),0)","v":1},{"$f":"IFERROR($E105*SUMIF('Daily Log'!$AF$18:$AF$1017,$B105,'Daily Log'!$AG$18:$AG$1017),0)","v":4},{"$f":"IFERROR($E105*SUMIF('Daily Log'!$AI$18:$AI$1017,$B105,'Daily Log'!$AJ$18:$AJ$1017),0)","v":0},{"$f":"IFERROR($E105*SUMIF('Daily Log'!$AL$18:$AL$1017,$B105,'Daily Log'!$AM$18:$AM$1017),0)","v":5},{"$f":"IFERROR($E105*SUMIF('Daily Log'!$AO$18:$AO$1017,$B105,'Daily Log'!$AP$18:$AP$1017),0)","v":0},{"$f":"IFERROR($E105*SUMIF('Daily Log'!$AR$18:$AR$1017,$B105,'Daily Log'!$AS$18:$AS$1017),0)","v":0},{"$f":"IFERROR($E105*SUMIF('Daily Log'!$AU$18:$AU$1017,$B105,'Daily Log'!$AV$18:$AV$1017),0)","v":0},{"$f":"IFERROR($E105*SUMIF('Daily Log'!$AX$18:$AX$1017,$B105,'Daily Log'!$AY$18:$AY$1017),0)","v":0},{"$f":"IFERROR($E105*SUMIF('Daily Log'!$BA$18:$BA$1017,$B105,'Daily Log'!$BB$18:$BB$1017),0)","v":0},{"$f":"IFERROR($E105*SUMIF('Daily Log'!$BD$18:$BD$1017,$B105,'Daily Log'!$BE$18:$BE$1017),0)","v":0},{"$f":"IFERROR($E105*SUMIF('Daily Log'!$BG$18:$BG$1017,$B105,'Daily Log'!$BH$18:$BH$1017),0)","v":0},{"$f":"IFERROR($E105*SUMIF('Daily Log'!$BJ$18:$BJ$1017,$B105,'Daily Log'!$BK$18:$BK$1017),0)","v":0},{"$f":"IFERROR($E105*SUMIF('Daily Log'!$BM$18:$BM$1017,$B105,'Daily Log'!$BN$18:$BN$1017),0)","v":0},{"$f":"IFERROR($E105*SUMIF('Daily Log'!$BP$18:$BP$1017,$B105,'Daily Log'!$BQ$18:$BQ$1017),0)","v":0},{"$f":"IFERROR($E105*SUMIF('Daily Log'!$BS$18:$BS$1017,$B105,'Daily Log'!$BT$18:$BT$1017),0)","v":0},{"$f":"IFERROR($E105*SUMIF('Daily Log'!$BV$18:$BV$1017,$B105,'Daily Log'!$BW$18:$BW$1017),0)","v":0},{"$f":"IFERROR($E105*SUMIF('Daily Log'!$BY$18:$BY$1017,$B105,'Daily Log'!$BZ$18:$BZ$1017),0)","v":0},{"$f":"IFERROR($E105*SUMIF('Daily Log'!$CB$18:$CB$1017,$B105,'Daily Log'!$CC$18:$CC$1017),0)","v":0},{"$f":"IFERROR($E105*SUMIF('Daily Log'!$CE$18:$CE$1017,$B105,'Daily Log'!$CF$18:$CF$1017),0)","v":0},{"$f":"IFERROR($E105*SUMIF('Daily Log'!$CH$18:$CH$1017,$B105,'Daily Log'!$CI$18:$CI$1017),0)","v":0},{"$f":"IFERROR($E105*SUMIF('Daily Log'!$CK$18:$CK$1017,$B105,'Daily Log'!$CL$18:$CL$1017),0)","v":0},{"$f":"IFERROR($E105*SUMIF('Daily Log'!$CN$18:$CN$1017,$B105,'Daily Log'!$CO$18:$CO$1017),0)","v":0}]
[null,"11011:Lok18-五香肉卷",null,"LOK LOK ",1,12,{"$f":"IFERROR($E106*SUMIF('Daily Log'!$B$18:$B$1017,$B106,'Daily Log'!$C$18:$C$1017),0)","v":0},{"$f":"IFERROR($E106*SUMIF('Daily Log'!$E$18:$E$1017,$B106,'Daily Log'!$F$18:$F$1017),0)","v":0},{"$f":"IFERROR($E106*SUMIF('Daily Log'!$H$18:$H$1017,$B106,'Daily Log'!$I$18:$I$1017),0)","v":0},{"$f":"IFERROR($E106*SUMIF('Daily Log'!$K$18:$K$1017,$B106,'Daily Log'!$L$18:$L$1017),0)","v":0},{"$f":"IFERROR($E106*SUMIF('Daily Log'!$N$18:$N$1017,$B106,'Daily Log'!$O$18:$O$1017),0)","v":0},{"$f":"IFERROR($E106*SUMIF('Daily Log'!$Q$18:$Q$1017,$B106,'Daily Log'!$R$18:$R$1017),0)","v":0},{"$f":"IFERROR($E106*SUMIF('Daily Log'!$T$18:$T$1017,$B106,'Daily Log'!$U$18:$U$1017),0)","v":0},{"$f":"IFERROR($E106*SUMIF('Daily Log'!$W$18:$W$1017,$B106,'Daily Log'!$X$18:$X$1017),0)","v":2},{"$f":"IFERROR($E106*SUMIF('Daily Log'!$Z$18:$Z$1017,$B106,'Daily Log'!$AA$18:$AA$1017),0)","v":0},{"$f":"IFERROR($E106*SUMIF('Daily Log'!$AC$18:$AC$1017,$B106,'Daily Log'!$AD$18:$AD$1017),0)","v":4},{"$f":"IFERROR($E106*SUMIF('Daily Log'!$AF$18:$AF$1017,$B106,'Daily Log'!$AG$18:$AG$1017),0)","v":4},{"$f":"IFERROR($E106*SUMIF('Daily Log'!$AI$18:$AI$1017,$B106,'Daily Log'!$AJ$18:$AJ$1017),0)","v":1},{"$f":"IFERROR($E106*SUMIF('Daily Log'!$AL$18:$AL$1017,$B106,'Daily Log'!$AM$18:$AM$1017),0)","v":1},{"$f":"IFERROR($E106*SUMIF('Daily Log'!$AO$18:$AO$1017,$B106,'Daily Log'!$AP$18:$AP$1017),0)","v":0},{"$f":"IFERROR($E106*SUMIF('Daily Log'!$AR$18:$AR$1017,$B106,'Daily Log'!$AS$18:$AS$1017),0)","v":0},{"$f":"IFERROR($E106*SUMIF('Daily Log'!$AU$18:$AU$1017,$B106,'Daily Log'!$AV$18:$AV$1017),0)","v":0},{"$f":"IFERROR($E106*SUMIF('Daily Log'!$AX$18:$AX$1017,$B106,'Daily Log'!$AY$18:$AY$1017),0)","v":0},{"$f":"IFERROR($E106*SUMIF('Daily Log'!$BA$18:$BA$1017,$B106,'Daily Log'!$BB$18:$BB$1017),0)","v":0},{"$f":"IFERROR($E106*SUMIF('Daily Log'!$BD$18:$BD$1017,$B106,'Daily Log'!$BE$18:$BE$1017),0)","v":0},{"$f":"IFERROR($E106*SUMIF('Daily Log'!$BG$18:$BG$1017,$B106,'Daily Log'!$BH$18:$BH$1017),0)","v":0},{"$f":"IFERROR($E106*SUMIF('Daily Log'!$BJ$18:$BJ$1017,$B106,'Daily Log'!$BK$18:$BK$1017),0)","v":0},{"$f":"IFERROR($E106*SUMIF('Daily Log'!$BM$18:$BM$1017,$B106,'Daily Log'!$BN$18:$BN$1017),0)","v":0},{"$f":"IFERROR($E106*SUMIF('Daily Log'!$BP$18:$BP$1017,$B106,'Daily Log'!$BQ$18:$BQ$1017),0)","v":0},{"$f":"IFERROR($E106*SUMIF('Daily Log'!$BS$18:$BS$1017,$B106,'Daily Log'!$BT$18:$BT$1017),0)","v":0},{"$f":"IFERROR($E106*SUMIF('Daily Log'!$BV$18:$BV$1017,$B106,'Daily Log'!$BW$18:$BW$1017),0)","v":0},{"$f":"IFERROR($E106*SUMIF('Daily Log'!$BY$18:$BY$1017,$B106,'Daily Log'!$BZ$18:$BZ$1017),0)","v":0},{"$f":"IFERROR($E106*SUMIF('Daily Log'!$CB$18:$CB$1017,$B106,'Daily Log'!$CC$18:$CC$1017),0)","v":0},{"$f":"IFERROR($E106*SUMIF('Daily Log'!$CE$18:$CE$1017,$B106,'Daily Log'!$CF$18:$CF$1017),0)","v":0},{"$f":"IFERROR($E106*SUMIF('Daily Log'!$CH$18:$CH$1017,$B106,'Daily Log'!$CI$18:$CI$1017),0)","v":0},{"$f":"IFERROR($E106*SUMIF('Daily Log'!$CK$18:$CK$1017,$B106,'Daily Log'!$CL$18:$CL$1017),0)","v":0},{"$f":"IFERROR($E106*SUMIF('Daily Log'!$CN$18:$CN$1017,$B106,'Daily Log'!$CO$18:$CO$1017),0)","v":0}]
[null,"11012:Lok20-台湾香肠",null,"LOK LOK ",1,77,{"$f":"IFERROR($E107*SUMIF('Daily Log'!$B$18:$B$1017,$B107,'Daily Log'!$C$18:$C$1017),0)","v":0},{"$f":"IFERROR($E107*SUMIF('Daily Log'!$E$18:$E$1017,$B107,'Daily Log'!$F$18:$F$1017),0)","v":0},{"$f":"IFERROR($E107*SUMIF('Daily Log'!$H$18:$H$1017,$B107,'Daily Log'!$I$18:$I$1017),0)","v":0},{"$f":"IFERROR($E107*SUMIF('Daily Log'!$K$18:$K$1017,$B107,'Daily Log'!$L$18:$L$1017),0)","v":0},{"$f":"IFERROR($E107*SUMIF('Daily Log'!$N$18:$N$1017,$B107,'Daily Log'!$O$18:$O$1017),0)","v":0},{"$f":"IFERROR($E107*SUMIF('Daily Log'!$Q$18:$Q$1017,$B107,'Daily Log'!$R$18:$R$1017),0)","v":0},{"$f":"IFERROR($E107*SUMIF('Daily Log'!$T$18:$T$1017,$B107,'Daily Log'!$U$18:$U$1017),0)","v":5},{"$f":"IFERROR($E107*SUMIF('Daily Log'!$W$18:$W$1017,$B107,'Daily Log'!$X$18:$X$1017),0)","v":10},{"$f":"IFERROR($E107*SUMIF('Daily Log'!$Z$18:$Z$1017,$B107,'Daily Log'!$AA$18:$AA$1017),0)","v":15},{"$f":"IFERROR($E107*SUMIF('Daily Log'!$AC$18:$AC$1017,$B107,'Daily Log'!$AD$18:$AD$1017),0)","v":9},{"$f":"IFERROR($E107*SUMIF('Daily Log'!$AF$18:$AF$1017,$B107,'Daily Log'!$AG$18:$AG$1017),0)","v":13},{"$f":"IFERROR($E107*SUMIF('Daily Log'!$AI$18:$AI$1017,$B107,'Daily Log'!$AJ$18:$AJ$1017),0)","v":12},{"$f":"IFERROR($E107*SUMIF('Daily Log'!$AL$18:$AL$1017,$B107,'Daily Log'!$AM$18:$AM$1017),0)","v":13},{"$f":"IFERROR($E107*SUMIF('Daily Log'!$AO$18:$AO$1017,$B107,'Daily Log'!$AP$18:$AP$1017),0)","v":0},{"$f":"IFERROR($E107*SUMIF('Daily Log'!$AR$18:$AR$1017,$B107,'Daily Log'!$AS$18:$AS$1017),0)","v":0},{"$f":"IFERROR($E107*SUMIF('Daily Log'!$AU$18:$AU$1017,$B107,'Daily Log'!$AV$18:$AV$1017),0)","v":0},{"$f":"IFERROR($E107*SUMIF('Daily Log'!$AX$18:$AX$1017,$B107,'Daily Log'!$AY$18:$AY$1017),0)","v":0},{"$f":"IFERROR($E107*SUMIF('Daily Log'!$BA$18:$BA$1017,$B107,'Daily Log'!$BB$18:$BB$1017),0)","v":0},{"$f":"IFERROR($E107*SUMIF('Daily Log'!$BD$18:$BD$1017,$B107,'Daily Log'!$BE$18:$BE$1017),0)","v":0},{"$f":"IFERROR($E107*SUMIF('Daily Log'!$BG$18:$BG$1017,$B107,'Daily Log'!$BH$18:$BH$1017),0)","v":0},{"$f":"IFERROR($E107*SUMIF('Daily Log'!$BJ$18:$BJ$1017,$B107,'Daily Log'!$BK$18:$BK$1017),0)","v":0},{"$f":"IFERROR($E107*SUMIF('Daily Log'!$BM$18:$BM$1017,$B107,'Daily Log'!$BN$18:$BN$1017),0)","v":0},{"$f":"IFERROR($E107*SUMIF('Daily Log'!$BP$18:$BP$1017,$B107,'Daily Log'!$BQ$18:$BQ$1017),0)","v":0},{"$f":"IFERROR($E107*SUMIF('Daily Log'!$BS$18:$BS$1017,$B107,'Daily Log'!$BT$18:$BT$1017),0)","v":0},{"$f":"IFERROR($E107*SUMIF('Daily Log'!$BV$18:$BV$1017,$B107,'Daily Log'!$BW$18:$BW$1017),0)","v":0},{"$f":"IFERROR($E107*SUMIF('Daily Log'!$BY$18:$BY$1017,$B107,'Daily Log'!$BZ$18:$BZ$1017),0)","v":0},{"$f":"IFERROR($E107*SUMIF('Daily Log'!$CB$18:$CB$1017,$B107,'Daily Log'!$CC$18:$CC$1017),0)","v":0},{"$f":"IFERROR($E107*SUMIF('Daily Log'!$CE$18:$CE$1017,$B107,'Daily Log'!$CF$18:$CF$1017),0)","v":0},{"$f":"IFERROR($E107*SUMIF('Daily Log'!$CH$18:$CH$1017,$B107,'Daily Log'!$CI$18:$CI$1017),0)","v":0},{"$f":"IFERROR($E107*SUMIF('Daily Log'!$CK$18:$CK$1017,$B107,'Daily Log'!$CL$18:$CL$1017),0)","v":0},{"$f":"IFERROR($E107*SUMIF('Daily Log'!$CN$18:$CN$1017,$B107,'Daily Log'!$CO$18:$CO$1017),0)","v":0}]
[null,"11013:Lok21-金菇培根卷",null,"LOK LOK ",1,37,{"$f":"IFERROR($E108*SUMIF('Daily Log'!$B$18:$B$1017,$B108,'Daily Log'!$C$18:$C$1017),0)","v":0},{"$f":"IFERROR($E108*SUMIF('Daily Log'!$E$18:$E$1017,$B108,'Daily Log'!$F$18:$F$1017),0)","v":0},{"$f":"IFERROR($E108*SUMIF('Daily Log'!$H$18:$H$1017,$B108,'Daily Log'!$I$18:$I$1017),0)","v":0},{"$f":"IFERROR($E108*SUMIF('Daily Log'!$K$18:$K$1017,$B108,'Daily Log'!$L$18:$L$1017),0)","v":0},{"$f":"IFERROR($E108*SUMIF('Daily Log'!$N$18:$N$1017,$B108,'Daily Log'!$O$18:$O$1017),0)","v":0},{"$f":"IFERROR($E108*SUMIF('Daily Log'!$Q$18:$Q$1017,$B108,'Daily Log'!$R$18:$R$1017),0)","v":0},{"$f":"IFERROR($E108*SUMIF('Daily Log'!$T$18:$T$1017,$B108,'Daily Log'!$U$18:$U$1017),0)","v":2},{"$f":"IFERROR($E108*SUMIF('Daily Log'!$W$18:$W$1017,$B108,'Daily Log'!$X$18:$X$1017),0)","v":10},{"$f":"IFERROR($E108*SUMIF('Daily Log'!$Z$18:$Z$1017,$B108,'Daily Log'!$AA$18:$AA$1017),0)","v":8},{"$f":"IFERROR($E108*SUMIF('Daily Log'!$AC$18:$AC$1017,$B108,'Daily Log'!$AD$18:$AD$1017),0)","v":1},{"$f":"IFERROR($E108*SUMIF('Daily Log'!$AF$18:$AF$1017,$B108,'Daily Log'!$AG$18:$AG$1017),0)","v":5},{"$f":"IFERROR($E108*SUMIF('Daily Log'!$AI$18:$AI$1017,$B108,'Daily Log'!$AJ$18:$AJ$1017),0)","v":3},{"$f":"IFERROR($E108*SUMIF('Daily Log'!$AL$18:$AL$1017,$B108,'Daily Log'!$AM$18:$AM$1017),0)","v":8},{"$f":"IFERROR($E108*SUMIF('Daily Log'!$AO$18:$AO$1017,$B108,'Daily Log'!$AP$18:$AP$1017),0)","v":0},{"$f":"IFERROR($E108*SUMIF('Daily Log'!$AR$18:$AR$1017,$B108,'Daily Log'!$AS$18:$AS$1017),0)","v":0},{"$f":"IFERROR($E108*SUMIF('Daily Log'!$AU$18:$AU$1017,$B108,'Daily Log'!$AV$18:$AV$1017),0)","v":0},{"$f":"IFERROR($E108*SUMIF('Daily Log'!$AX$18:$AX$1017,$B108,'Daily Log'!$AY$18:$AY$1017),0)","v":0},{"$f":"IFERROR($E108*SUMIF('Daily Log'!$BA$18:$BA$1017,$B108,'Daily Log'!$BB$18:$BB$1017),0)","v":0},{"$f":"IFERROR($E108*SUMIF('Daily Log'!$BD$18:$BD$1017,$B108,'Daily Log'!$BE$18:$BE$1017),0)","v":0},{"$f":"IFERROR($E108*SUMIF('Daily Log'!$BG$18:$BG$1017,$B108,'Daily Log'!$BH$18:$BH$1017),0)","v":0},{"$f":"IFERROR($E108*SUMIF('Daily Log'!$BJ$18:$BJ$1017,$B108,'Daily Log'!$BK$18:$BK$1017),0)","v":0},{"$f":"IFERROR($E108*SUMIF('Daily Log'!$BM$18:$BM$1017,$B108,'Daily Log'!$BN$18:$BN$1017),0)","v":0},{"$f":"IFERROR($E108*SUMIF('Daily Log'!$BP$18:$BP$1017,$B108,'Daily Log'!$BQ$18:$BQ$1017),0)","v":0},{"$f":"IFERROR($E108*SUMIF('Daily Log'!$BS$18:$BS$1017,$B108,'Daily Log'!$BT$18:$BT$1017),0)","v":0},{"$f":"IFERROR($E108*SUMIF('Daily Log'!$BV$18:$BV$1017,$B108,'Daily Log'!$BW$18:$BW$1017),0)","v":0},{"$f":"IFERROR($E108*SUMIF('Daily Log'!$BY$18:$BY$1017,$B108,'Daily Log'!$BZ$18:$BZ$1017),0)","v":0},{"$f":"IFERROR($E108*SUMIF('Daily Log'!$CB$18:$CB$1017,$B108,'Daily Log'!$CC$18:$CC$1017),0)","v":0},{"$f":"IFERROR($E108*SUMIF('Daily Log'!$CE$18:$CE$1017,$B108,'Daily Log'!$CF$18:$CF$1017),0)","v":0},{"$f":"IFERROR($E108*SUMIF('Daily Log'!$CH$18:$CH$1017,$B108,'Daily Log'!$CI$18:$CI$1017),0)","v":0},{"$f":"IFERROR($E108*SUMIF('Daily Log'!$CK$18:$CK$1017,$B108,'Daily Log'!$CL$18:$CL$1017),0)","v":0},{"$f":"IFERROR($E108*SUMIF('Daily Log'!$CN$18:$CN$1017,$B108,'Daily Log'!$CO$18:$CO$1017),0)","v":0}]
[null,"11014:Lok23-空心菜",null,"LOK LOK ",1,31,{"$f":"IFERROR($E109*SUMIF('Daily Log'!$B$18:$B$1017,$B109,'Daily Log'!$C$18:$C$1017),0)","v":0},{"$f":"IFERROR($E109*SUMIF('Daily Log'!$E$18:$E$1017,$B109,'Daily Log'!$F$18:$F$1017),0)","v":0},{"$f":"IFERROR($E109*SUMIF('Daily Log'!$H$18:$H$1017,$B109,'Daily Log'!$I$18:$I$1017),0)","v":0},{"$f":"IFERROR($E109*SUMIF('Daily Log'!$K$18:$K$1017,$B109,'Daily Log'!$L$18:$L$1017),0)","v":0},{"$f":"IFERROR($E109*SUMIF('Daily Log'!$N$18:$N$1017,$B109,'Daily Log'!$O$18:$O$1017),0)","v":0},{"$f":"IFERROR($E109*SUMIF('Daily Log'!$Q$18:$Q$1017,$B109,'Daily Log'!$R$18:$R$1017),0)","v":0},{"$f":"IFERROR($E109*SUMIF('Daily Log'!$T$18:$T$1017,$B109,'Daily Log'!$U$18:$U$1017),0)","v":1},{"$f":"IFERROR($E109*SUMIF('Daily Log'!$W$18:$W$1017,$B109,'Daily Log'!$X$18:$X$1017),0)","v":6},{"$f":"IFERROR($E109*SUMIF('Daily Log'!$Z$18:$Z$1017,$B109,'Daily Log'!$AA$18:$AA$1017),0)","v":7},{"$f":"IFERROR($E109*SUMIF('Daily Log'!$AC$18:$AC$1017,$B109,'Daily Log'!$AD$18:$AD$1017),0)","v":4},{"$f":"IFERROR($E109*SUMIF('Daily Log'!$AF$18:$AF$1017,$B109,'Daily Log'!$AG$18:$AG$1017),0)","v":8},{"$f":"IFERROR($E109*SUMIF('Daily Log'!$AI$18:$AI$1017,$B109,'Daily Log'!$AJ$18:$AJ$1017),0)","v":1},{"$f":"IFERROR($E109*SUMIF('Daily Log'!$AL$18:$AL$1017,$B109,'Daily Log'!$AM$18:$AM$1017),0)","v":4},{"$f":"IFERROR($E109*SUMIF('Daily Log'!$AO$18:$AO$1017,$B109,'Daily Log'!$AP$18:$AP$1017),0)","v":0},{"$f":"IFERROR($E109*SUMIF('Daily Log'!$AR$18:$AR$1017,$B109,'Daily Log'!$AS$18:$AS$1017),0)","v":0},{"$f":"IFERROR($E109*SUMIF('Daily Log'!$AU$18:$AU$1017,$B109,'Daily Log'!$AV$18:$AV$1017),0)","v":0},{"$f":"IFERROR($E109*SUMIF('Daily Log'!$AX$18:$AX$1017,$B109,'Daily Log'!$AY$18:$AY$1017),0)","v":0},{"$f":"IFERROR($E109*SUMIF('Daily Log'!$BA$18:$BA$1017,$B109,'Daily Log'!$BB$18:$BB$1017),0)","v":0},{"$f":"IFERROR($E109*SUMIF('Daily Log'!$BD$18:$BD$1017,$B109,'Daily Log'!$BE$18:$BE$1017),0)","v":0},{"$f":"IFERROR($E109*SUMIF('Daily Log'!$BG$18:$BG$1017,$B109,'Daily Log'!$BH$18:$BH$1017),0)","v":0},{"$f":"IFERROR($E109*SUMIF('Daily Log'!$BJ$18:$BJ$1017,$B109,'Daily Log'!$BK$18:$BK$1017),0)","v":0},{"$f":"IFERROR($E109*SUMIF('Daily Log'!$BM$18:$BM$1017,$B109,'Daily Log'!$BN$18:$BN$1017),0)","v":0},{"$f":"IFERROR($E109*SUMIF('Daily Log'!$BP$18:$BP$1017,$B109,'Daily Log'!$BQ$18:$BQ$1017),0)","v":0},{"$f":"IFERROR($E109*SUMIF('Daily Log'!$BS$18:$BS$1017,$B109,'Daily Log'!$BT$18:$BT$1017),0)","v":0},{"$f":"IFERROR($E109*SUMIF('Daily Log'!$BV$18:$BV$1017,$B109,'Daily Log'!$BW$18:$BW$1017),0)","v":0},{"$f":"IFERROR($E109*SUMIF('Daily Log'!$BY$18:$BY$1017,$B109,'Daily Log'!$BZ$18:$BZ$1017),0)","v":0},{"$f":"IFERROR($E109*SUMIF('Daily Log'!$CB$18:$CB$1017,$B109,'Daily Log'!$CC$18:$CC$1017),0)","v":0},{"$f":"IFERROR($E109*SUMIF('Daily Log'!$CE$18:$CE$1017,$B109,'Daily Log'!$CF$18:$CF$1017),0)","v":0},{"$f":"IFERROR($E109*SUMIF('Daily Log'!$CH$18:$CH$1017,$B109,'Daily Log'!$CI$18:$CI$1017),0)","v":0},{"$f":"IFERROR($E109*SUMIF('Daily Log'!$CK$18:$CK$1017,$B109,'Daily Log'!$CL$18:$CL$1017),0)","v":0},{"$f":"IFERROR($E109*SUMIF('Daily Log'!$CN$18:$CN$1017,$B109,'Daily Log'!$CO$18:$CO$1017),0)","v":0}]
[null,"11015:Lok24-西兰花",null,"LOK LOK ",1,54,{"$f":"IFERROR($E110*SUMIF('Daily Log'!$B$18:$B$1017,$B110,'Daily Log'!$C$18:$C$1017),0)","v":0},{"$f":"IFERROR($E110*SUMIF('Daily Log'!$E$18:$E$1017,$B110,'Daily Log'!$F$18:$F$1017),0)","v":0},{"$f":"IFERROR($E110*SUMIF('Daily Log'!$H$18:$H$1017,$B110,'Daily Log'!$I$18:$I$1017),0)","v":0},{"$f":"IFERROR($E110*SUMIF('Daily Log'!$K$18:$K$1017,$B110,'Daily Log'!$L$18:$L$1017),0)","v":0},{"$f":"IFERROR($E110*SUMIF('Daily Log'!$N$18:$N$1017,$B110,'Daily Log'!$O$18:$O$1017),0)","v":0},{"$f":"IFERROR($E110*SUMIF('Daily Log'!$Q$18:$Q$1017,$B110,'Daily Log'!$R$18:$R$1017),0)","v":0},{"$f":"IFERROR($E110*SUMIF('Daily Log'!$T$18:$T$1017,$B110,'Daily Log'!$U$18:$U$1017),0)","v":5},{"$f":"IFERROR($E110*SUMIF('Daily Log'!$W$18:$W$1017,$B110,'Daily Log'!$X$18:$X$1017),0)","v":4},{"$f":"IFERROR($E110*SUMIF('Daily Log'!$Z$18:$Z$1017,$B110,'Daily Log'!$AA$18:$AA$1017),0)","v":7},{"$f":"IFERROR($E110*SUMIF('Daily Log'!$AC$18:$AC$1017,$B110,'Daily Log'!$AD$18:$AD$1017),0)","v":5},{"$f":"IFERROR($E110*SUMIF('Daily Log'!$AF$18:$AF$1017,$B110,'Daily Log'!$AG$18:$AG$1017),0)","v":10},{"$f":"IFERROR($E110*SUMIF('Daily Log'!$AI$18:$AI$1017,$B110,'Daily Log'!$AJ$18:$AJ$1017),0)","v":13},{"$f":"IFERROR($E110*SUMIF('Daily Log'!$AL$18:$AL$1017,$B110,'Daily Log'!$AM$18:$AM$1017),0)","v":10},{"$f":"IFERROR($E110*SUMIF('Daily Log'!$AO$18:$AO$1017,$B110,'Daily Log'!$AP$18:$AP$1017),0)","v":0},{"$f":"IFERROR($E110*SUMIF('Daily Log'!$AR$18:$AR$1017,$B110,'Daily Log'!$AS$18:$AS$1017),0)","v":0},{"$f":"IFERROR($E110*SUMIF('Daily Log'!$AU$18:$AU$1017,$B110,'Daily Log'!$AV$18:$AV$1017),0)","v":0},{"$f":"IFERROR($E110*SUMIF('Daily Log'!$AX$18:$AX$1017,$B110,'Daily Log'!$AY$18:$AY$1017),0)","v":0},{"$f":"IFERROR($E110*SUMIF('Daily Log'!$BA$18:$BA$1017,$B110,'Daily Log'!$BB$18:$BB$1017),0)","v":0},{"$f":"IFERROR($E110*SUMIF('Daily Log'!$BD$18:$BD$1017,$B110,'Daily Log'!$BE$18:$BE$1017),0)","v":0},{"$f":"IFERROR($E110*SUMIF('Daily Log'!$BG$18:$BG$1017,$B110,'Daily Log'!$BH$18:$BH$1017),0)","v":0},{"$f":"IFERROR($E110*SUMIF('Daily Log'!$BJ$18:$BJ$1017,$B110,'Daily Log'!$BK$18:$BK$1017),0)","v":0},{"$f":"IFERROR($E110*SUMIF('Daily Log'!$BM$18:$BM$1017,$B110,'Daily Log'!$BN$18:$BN$1017),0)","v":0},{"$f":"IFERROR($E110*SUMIF('Daily Log'!$BP$18:$BP$1017,$B110,'Daily Log'!$BQ$18:$BQ$1017),0)","v":0},{"$f":"IFERROR($E110*SUMIF('Daily Log'!$BS$18:$BS$1017,$B110,'Daily Log'!$BT$18:$BT$1017),0)","v":0},{"$f":"IFERROR($E110*SUMIF('Daily Log'!$BV$18:$BV$1017,$B110,'Daily Log'!$BW$18:$BW$1017),0)","v":0},{"$f":"IFERROR($E110*SUMIF('Daily Log'!$BY$18:$BY$1017,$B110,'Daily Log'!$BZ$18:$BZ$1017),0)","v":0},{"$f":"IFERROR($E110*SUMIF('Daily Log'!$CB$18:$CB$1017,$B110,'Daily Log'!$CC$18:$CC$1017),0)","v":0},{"$f":"IFERROR($E110*SUMIF('Daily Log'!$CE$18:$CE$1017,$B110,'Daily Log'!$CF$18:$CF$1017),0)","v":0},{"$f":"IFERROR($E110*SUMIF('Daily Log'!$CH$18:$CH$1017,$B110,'Daily Log'!$CI$18:$CI$1017),0)","v":0},{"$f":"IFERROR($E110*SUMIF('Daily Log'!$CK$18:$CK$1017,$B110,'Daily Log'!$CL$18:$CL$1017),0)","v":0},{"$f":"IFERROR($E110*SUMIF('Daily Log'!$CN$18:$CN$1017,$B110,'Daily Log'!$CO$18:$CO$1017),0)","v":0}]
[null,"11016:Lok25-长豆",null,"LOK LOK ",1,37,{"$f":"IFERROR($E111*SUMIF('Daily Log'!$B$18:$B$1017,$B111,'Daily Log'!$C$18:$C$1017),0)","v":0},{"$f":"IFERROR($E111*SUMIF('Daily Log'!$E$18:$E$1017,$B111,'Daily Log'!$F$18:$F$1017),0)","v":0},{"$f":"IFERROR($E111*SUMIF('Daily Log'!$H$18:$H$1017,$B111,'Daily Log'!$I$18:$I$1017),0)","v":0},{"$f":"IFERROR($E111*SUMIF('Daily Log'!$K$18:$K$1017,$B111,'Daily Log'!$L$18:$L$1017),0)","v":0},{"$f":"IFERROR($E111*SUMIF('Daily Log'!$N$18:$N$1017,$B111,'Daily Log'!$O$18:$O$1017),0)","v":0},{"$f":"IFERROR($E111*SUMIF('Daily Log'!$Q$18:$Q$1017,$B111,'Daily Log'!$R$18:$R$1017),0)","v":0},{"$f":"IFERROR($E111*SUMIF('Daily Log'!$T$18:$T$1017,$B111,'Daily Log'!$U$18:$U$1017),0)","v":3},{"$f":"IFERROR($E111*SUMIF('Daily Log'!$W$18:$W$1017,$B111,'Daily Log'!$X$18:$X$1017),0)","v":6},{"$f":"IFERROR($E111*SUMIF('Daily Log'!$Z$18:$Z$1017,$B111,'Daily Log'!$AA$18:$AA$1017),0)","v":9},{"$f":"IFERROR($E111*SUMIF('Daily Log'!$AC$18:$AC$1017,$B111,'Daily Log'!$AD$18:$AD$1017),0)","v":4},{"$f":"IFERROR($E111*SUMIF('Daily Log'!$AF$18:$AF$1017,$B111,'Daily Log'!$AG$18:$AG$1017),0)","v":7},{"$f":"IFERROR($E111*SUMIF('Daily Log'!$AI$18:$AI$1017,$B111,'Daily Log'!$AJ$18:$AJ$1017),0)","v":4},{"$f":"IFERROR($E111*SUMIF('Daily Log'!$AL$18:$AL$1017,$B111,'Daily Log'!$AM$18:$AM$1017),0)","v":4},{"$f":"IFERROR($E111*SUMIF('Daily Log'!$AO$18:$AO$1017,$B111,'Daily Log'!$AP$18:$AP$1017),0)","v":0},{"$f":"IFERROR($E111*SUMIF('Daily Log'!$AR$18:$AR$1017,$B111,'Daily Log'!$AS$18:$AS$1017),0)","v":0},{"$f":"IFERROR($E111*SUMIF('Daily Log'!$AU$18:$AU$1017,$B111,'Daily Log'!$AV$18:$AV$1017),0)","v":0},{"$f":"IFERROR($E111*SUMIF('Daily Log'!$AX$18:$AX$1017,$B111,'Daily Log'!$AY$18:$AY$1017),0)","v":0},{"$f":"IFERROR($E111*SUMIF('Daily Log'!$BA$18:$BA$1017,$B111,'Daily Log'!$BB$18:$BB$1017),0)","v":0},{"$f":"IFERROR($E111*SUMIF('Daily Log'!$BD$18:$BD$1017,$B111,'Daily Log'!$BE$18:$BE$1017),0)","v":0},{"$f":"IFERROR($E111*SUMIF('Daily Log'!$BG$18:$BG$1017,$B111,'Daily Log'!$BH$18:$BH$1017),0)","v":0},{"$f":"IFERROR($E111*SUMIF('Daily Log'!$BJ$18:$BJ$1017,$B111,'Daily Log'!$BK$18:$BK$1017),0)","v":0},{"$f":"IFERROR($E111*SUMIF('Daily Log'!$BM$18:$BM$1017,$B111,'Daily Log'!$BN$18:$BN$1017),0)","v":0},{"$f":"IFERROR($E111*SUMIF('Daily Log'!$BP$18:$BP$1017,$B111,'Daily Log'!$BQ$18:$BQ$1017),0)","v":0},{"$f":"IFERROR($E111*SUMIF('Daily Log'!$BS$18:$BS$1017,$B111,'Daily Log'!$BT$18:$BT$1017),0)","v":0},{"$f":"IFERROR($E111*SUMIF('Daily Log'!$BV$18:$BV$1017,$B111,'Daily Log'!$BW$18:$BW$1017),0)","v":0},{"$f":"IFERROR($E111*SUMIF('Daily Log'!$BY$18:$BY$1017,$B111,'Daily Log'!$BZ$18:$BZ$1017),0)","v":0},{"$f":"IFERROR($E111*SUMIF('Daily Log'!$CB$18:$CB$1017,$B111,'Daily Log'!$CC$18:$CC$1017),0)","v":0},{"$f":"IFERROR($E111*SUMIF('Daily Log'!$CE$18:$CE$1017,$B111,'Daily Log'!$CF$18:$CF$1017),0)","v":0},{"$f":"IFERROR($E111*SUMIF('Daily Log'!$CH$18:$CH$1017,$B111,'Daily Log'!$CI$18:$CI$1017),0)","v":0},{"$f":"IFERROR($E111*SUMIF('Daily Log'!$CK$18:$CK$1017,$B111,'Daily Log'!$CL$18:$CL$1017),0)","v":0},{"$f":"IFERROR($E111*SUMIF('Daily Log'!$CN$18:$CN$1017,$B111,'Daily Log'!$CO$18:$CO$1017),0)","v":0}]
[null,"11017:Lok17-羊角豆",null,"LOK LOK ",1,0,{"$f":"IFERROR($E112*SUMIF('Daily Log'!$B$18:$B$1017,$B112,'Daily Log'!$C$18:$C$1017),0)","v":0},{"$f":"IFERROR($E112*SUMIF('Daily Log'!$E$18:$E$1017,$B112,'Daily Log'!$F$18:$F$1017),0)","v":0},{"$f":"IFERROR($E112*SUMIF('Daily Log'!$H$18:$H$1017,$B112,'Daily Log'!$I$18:$I$1017),0)","v":0},{"$f":"IFERROR($E112*SUMIF('Daily Log'!$K$18:$K$1017,$B112,'Daily Log'!$L$18:$L$1017),0)","v":0},{"$f":"IFERROR($E112*SUMIF('Daily Log'!$N$18:$N$1017,$B112,'Daily Log'!$O$18:$O$1017),0)","v":0},{"$f":"IFERROR($E112*SUMIF('Daily Log'!$Q$18:$Q$1017,$B112,'Daily Log'!$R$18:$R$1017),0)","v":0},{"$f":"IFERROR($E112*SUMIF('Daily Log'!$T$18:$T$1017,$B112,'Daily Log'!$U$18:$U$1017),0)","v":0},{"$f":"IFERROR($E112*SUMIF('Daily Log'!$W$18:$W$1017,$B112,'Daily Log'!$X$18:$X$1017),0)","v":0},{"$f":"IFERROR($E112*SUMIF('Daily Log'!$Z$18:$Z$1017,$B112,'Daily Log'!$AA$18:$AA$1017),0)","v":0},{"$f":"IFERROR($E112*SUMIF('Daily Log'!$AC$18:$AC$1017,$B112,'Daily Log'!$AD$18:$AD$1017),0)","v":0},{"$f":"IFERROR($E112*SUMIF('Daily Log'!$AF$18:$AF$1017,$B112,'Daily Log'!$AG$18:$AG$1017),0)","v":0},{"$f":"IFERROR($E112*SUMIF('Daily Log'!$AI$18:$AI$1017,$B112,'Daily Log'!$AJ$18:$AJ$1017),0)","v":0},{"$f":"IFERROR($E112*SUMIF('Daily Log'!$AL$18:$AL$1017,$B112,'Daily Log'!$AM$18:$AM$1017),0)","v":0},{"$f":"IFERROR($E112*SUMIF('Daily Log'!$AO$18:$AO$1017,$B112,'Daily Log'!$AP$18:$AP$1017),0)","v":0},{"$f":"IFERROR($E112*SUMIF('Daily Log'!$AR$18:$AR$1017,$B112,'Daily Log'!$AS$18:$AS$1017),0)","v":0},{"$f":"IFERROR($E112*SUMIF('Daily Log'!$AU$18:$AU$1017,$B112,'Daily Log'!$AV$18:$AV$1017),0)","v":0},{"$f":"IFERROR($E112*SUMIF('Daily Log'!$AX$18:$AX$1017,$B112,'Daily Log'!$AY$18:$AY$1017),0)","v":0},{"$f":"IFERROR($E112*SUMIF('Daily Log'!$BA$18:$BA$1017,$B112,'Daily Log'!$BB$18:$BB$1017),0)","v":0},{"$f":"IFERROR($E112*SUMIF('Daily Log'!$BD$18:$BD$1017,$B112,'Daily Log'!$BE$18:$BE$1017),0)","v":0},{"$f":"IFERROR($E112*SUMIF('Daily Log'!$BG$18:$BG$1017,$B112,'Daily Log'!$BH$18:$BH$1017),0)","v":0},{"$f":"IFERROR($E112*SUMIF('Daily Log'!$BJ$18:$BJ$1017,$B112,'Daily Log'!$BK$18:$BK$1017),0)","v":0},{"$f":"IFERROR($E112*SUMIF('Daily Log'!$BM$18:$BM$1017,$B112,'Daily Log'!$BN$18:$BN$1017),0)","v":0},{"$f":"IFERROR($E112*SUMIF('Daily Log'!$BP$18:$BP$1017,$B112,'Daily Log'!$BQ$18:$BQ$1017),0)","v":0},{"$f":"IFERROR($E112*SUMIF('Daily Log'!$BS$18:$BS$1017,$B112,'Daily Log'!$BT$18:$BT$1017),0)","v":0},{"$f":"IFERROR($E112*SUMIF('Daily Log'!$BV$18:$BV$1017,$B112,'Daily Log'!$BW$18:$BW$1017),0)","v":0},{"$f":"IFERROR($E112*SUMIF('Daily Log'!$BY$18:$BY$1017,$B112,'Daily Log'!$BZ$18:$BZ$1017),0)","v":0},{"$f":"IFERROR($E112*SUMIF('Daily Log'!$CB$18:$CB$1017,$B112,'Daily Log'!$CC$18:$CC$1017),0)","v":0},{"$f":"IFERROR($E112*SUMIF('Daily Log'!$CE$18:$CE$1017,$B112,'Daily Log'!$CF$18:$CF$1017),0)","v":0},{"$f":"IFERROR($E112*SUMIF('Daily Log'!$CH$18:$CH$1017,$B112,'Daily Log'!$CI$18:$CI$1017),0)","v":0},{"$f":"IFERROR($E112*SUMIF('Daily Log'!$CK$18:$CK$1017,$B112,'Daily Log'!$CL$18:$CL$1017),0)","v":0},{"$f":"IFERROR($E112*SUMIF('Daily Log'!$CN$18:$CN$1017,$B112,'Daily Log'!$CO$18:$CO$1017),0)","v":0}]
[null,"11018:Lok26-炸鲍鱼菇",null,"LOK LOK ",1,76,{"$f":"IFERROR($E113*SUMIF('Daily Log'!$B$18:$B$1017,$B113,'Daily Log'!$C$18:$C$1017),0)","v":0},{"$f":"IFERROR($E113*SUMIF('Daily Log'!$E$18:$E$1017,$B113,'Daily Log'!$F$18:$F$1017),0)","v":0},{"$f":"IFERROR($E113*SUMIF('Daily Log'!$H$18:$H$1017,$B113,'Daily Log'!$I$18:$I$1017),0)","v":0},{"$f":"IFERROR($E113*SUMIF('Daily Log'!$K$18:$K$1017,$B113,'Daily Log'!$L$18:$L$1017),0)","v":0},{"$f":"IFERROR($E113*SUMIF('Daily Log'!$N$18:$N$1017,$B113,'Daily Log'!$O$18:$O$1017),0)","v":0},{"$f":"IFERROR($E113*SUMIF('Daily Log'!$Q$18:$Q$1017,$B113,'Daily Log'!$R$18:$R$1017),0)","v":0},{"$f":"IFERROR($E113*SUMIF('Daily Log'!$T$18:$T$1017,$B113,'Daily Log'!$U$18:$U$1017),0)","v":10},{"$f":"IFERROR($E113*SUMIF('Daily Log'!$W$18:$W$1017,$B113,'Daily Log'!$X$18:$X$1017),0)","v":10},{"$f":"IFERROR($E113*SUMIF('Daily Log'!$Z$18:$Z$1017,$B113,'Daily Log'!$AA$18:$AA$1017),0)","v":7},{"$f":"IFERROR($E113*SUMIF('Daily Log'!$AC$18:$AC$1017,$B113,'Daily Log'!$AD$18:$AD$1017),0)","v":5},{"$f":"IFERROR($E113*SUMIF('Daily Log'!$AF$18:$AF$1017,$B113,'Daily Log'!$AG$18:$AG$1017),0)","v":13},{"$f":"IFERROR($E113*SUMIF('Daily Log'!$AI$18:$AI$1017,$B113,'Daily Log'!$AJ$18:$AJ$1017),0)","v":12},{"$f":"IFERROR($E113*SUMIF('Daily Log'!$AL$18:$AL$1017,$B113,'Daily Log'!$AM$18:$AM$1017),0)","v":19},{"$f":"IFERROR($E113*SUMIF('Daily Log'!$AO$18:$AO$1017,$B113,'Daily Log'!$AP$18:$AP$1017),0)","v":0},{"$f":"IFERROR($E113*SUMIF('Daily Log'!$AR$18:$AR$1017,$B113,'Daily Log'!$AS$18:$AS$1017),0)","v":0},{"$f":"IFERROR($E113*SUMIF('Daily Log'!$AU$18:$AU$1017,$B113,'Daily Log'!$AV$18:$AV$1017),0)","v":0},{"$f":"IFERROR($E113*SUMIF('Daily Log'!$AX$18:$AX$1017,$B113,'Daily Log'!$AY$18:$AY$1017),0)","v":0},{"$f":"IFERROR($E113*SUMIF('Daily Log'!$BA$18:$BA$1017,$B113,'Daily Log'!$BB$18:$BB$1017),0)","v":0},{"$f":"IFERROR($E113*SUMIF('Daily Log'!$BD$18:$BD$1017,$B113,'Daily Log'!$BE$18:$BE$1017),0)","v":0},{"$f":"IFERROR($E113*SUMIF('Daily Log'!$BG$18:$BG$1017,$B113,'Daily Log'!$BH$18:$BH$1017),0)","v":0},{"$f":"IFERROR($E113*SUMIF('Daily Log'!$BJ$18:$BJ$1017,$B113,'Daily Log'!$BK$18:$BK$1017),0)","v":0},{"$f":"IFERROR($E113*SUMIF('Daily Log'!$BM$18:$BM$1017,$B113,'Daily Log'!$BN$18:$BN$1017),0)","v":0},{"$f":"IFERROR($E113*SUMIF('Daily Log'!$BP$18:$BP$1017,$B113,'Daily Log'!$BQ$18:$BQ$1017),0)","v":0},{"$f":"IFERROR($E113*SUMIF('Daily Log'!$BS$18:$BS$1017,$B113,'Daily Log'!$BT$18:$BT$1017),0)","v":0},{"$f":"IFERROR($E113*SUMIF('Daily Log'!$BV$18:$BV$1017,$B113,'Daily Log'!$BW$18:$BW$1017),0)","v":0},{"$f":"IFERROR($E113*SUMIF('Daily Log'!$BY$18:$BY$1017,$B113,'Daily Log'!$BZ$18:$BZ$1017),0)","v":0},{"$f":"IFERROR($E113*SUMIF('Daily Log'!$CB$18:$CB$1017,$B113,'Daily Log'!$CC$18:$CC$1017),0)","v":0},{"$f":"IFERROR($E113*SUMIF('Daily Log'!$CE$18:$CE$1017,$B113,'Daily Log'!$CF$18:$CF$1017),0)","v":0},{"$f":"IFERROR($E113*SUMIF('Daily Log'!$CH$18:$CH$1017,$B113,'Daily Log'!$CI$18:$CI$1017),0)","v":0},{"$f":"IFERROR($E113*SUMIF('Daily Log'!$CK$18:$CK$1017,$B113,'Daily Log'!$CL$18:$CL$1017),0)","v":0},{"$f":"IFERROR($E113*SUMIF('Daily Log'!$CN$18:$CN$1017,$B113,'Daily Log'!$CO$18:$CO$1017),0)","v":0}]
[null,"11019:Lok28-鉗",null,"LOK LOK ",1,13,{"$f":"IFERROR($E114*SUMIF('Daily Log'!$B$18:$B$1017,$B114,'Daily Log'!$C$18:$C$1017),0)","v":0},{"$f":"IFERROR($E114*SUMIF('Daily Log'!$E$18:$E$1017,$B114,'Daily Log'!$F$18:$F$1017),0)","v":0},{"$f":"IFERROR($E114*SUMIF('Daily Log'!$H$18:$H$1017,$B114,'Daily Log'!$I$18:$I$1017),0)","v":0},{"$f":"IFERROR($E114*SUMIF('Daily Log'!$K$18:$K$1017,$B114,'Daily Log'!$L$18:$L$1017),0)","v":0},{"$f":"IFERROR($E114*SUMIF('Daily Log'!$N$18:$N$1017,$B114,'Daily Log'!$O$18:$O$1017),0)","v":0},{"$f":"IFERROR($E114*SUMIF('Daily Log'!$Q$18:$Q$1017,$B114,'Daily Log'!$R$18:$R$1017),0)","v":0},{"$f":"IFERROR($E114*SUMIF('Daily Log'!$T$18:$T$1017,$B114,'Daily Log'!$U$18:$U$1017),0)","v":0},{"$f":"IFERROR($E114*SUMIF('Daily Log'!$W$18:$W$1017,$B114,'Daily Log'!$X$18:$X$1017),0)","v":1},{"$f":"IFERROR($E114*SUMIF('Daily Log'!$Z$18:$Z$1017,$B114,'Daily Log'!$AA$18:$AA$1017),0)","v":2},{"$f":"IFERROR($E114*SUMIF('Daily Log'!$AC$18:$AC$1017,$B114,'Daily Log'!$AD$18:$AD$1017),0)","v":6},{"$f":"IFERROR($E114*SUMIF('Daily Log'!$AF$18:$AF$1017,$B114,'Daily Log'!$AG$18:$AG$1017),0)","v":2},{"$f":"IFERROR($E114*SUMIF('Daily Log'!$AI$18:$AI$1017,$B114,'Daily Log'!$AJ$18:$AJ$1017),0)","v":0},{"$f":"IFERROR($E114*SUMIF('Daily Log'!$AL$18:$AL$1017,$B114,'Daily Log'!$AM$18:$AM$1017),0)","v":2},{"$f":"IFERROR($E114*SUMIF('Daily Log'!$AO$18:$AO$1017,$B114,'Daily Log'!$AP$18:$AP$1017),0)","v":0},{"$f":"IFERROR($E114*SUMIF('Daily Log'!$AR$18:$AR$1017,$B114,'Daily Log'!$AS$18:$AS$1017),0)","v":0},{"$f":"IFERROR($E114*SUMIF('Daily Log'!$AU$18:$AU$1017,$B114,'Daily Log'!$AV$18:$AV$1017),0)","v":0},{"$f":"IFERROR($E114*SUMIF('Daily Log'!$AX$18:$AX$1017,$B114,'Daily Log'!$AY$18:$AY$1017),0)","v":0},{"$f":"IFERROR($E114*SUMIF('Daily Log'!$BA$18:$BA$1017,$B114,'Daily Log'!$BB$18:$BB$1017),0)","v":0},{"$f":"IFERROR($E114*SUMIF('Daily Log'!$BD$18:$BD$1017,$B114,'Daily Log'!$BE$18:$BE$1017),0)","v":0},{"$f":"IFERROR($E114*SUMIF('Daily Log'!$BG$18:$BG$1017,$B114,'Daily Log'!$BH$18:$BH$1017),0)","v":0},{"$f":"IFERROR($E114*SUMIF('Daily Log'!$BJ$18:$BJ$1017,$B114,'Daily Log'!$BK$18:$BK$1017),0)","v":0},{"$f":"IFERROR($E114*SUMIF('Daily Log'!$BM$18:$BM$1017,$B114,'Daily Log'!$BN$18:$BN$1017),0)","v":0},{"$f":"IFERROR($E114*SUMIF('Daily Log'!$BP$18:$BP$1017,$B114,'Daily Log'!$BQ$18:$BQ$1017),0)","v":0},{"$f":"IFERROR($E114*SUMIF('Daily Log'!$BS$18:$BS$1017,$B114,'Daily Log'!$BT$18:$BT$1017),0)","v":0},{"$f":"IFERROR($E114*SUMIF('Daily Log'!$BV$18:$BV$1017,$B114,'Daily Log'!$BW$18:$BW$1017),0)","v":0},{"$f":"IFERROR($E114*SUMIF('Daily Log'!$BY$18:$BY$1017,$B114,'Daily Log'!$BZ$18:$BZ$1017),0)","v":0},{"$f":"IFERROR($E114*SUMIF('Daily Log'!$CB$18:$CB$1017,$B114,'Daily Log'!$CC$18:$CC$1017),0)","v":0},{"$f":"IFERROR($E114*SUMIF('Daily Log'!$CE$18:$CE$1017,$B114,'Daily Log'!$CF$18:$CF$1017),0)","v":0},{"$f":"IFERROR($E114*SUMIF('Daily Log'!$CH$18:$CH$1017,$B114,'Daily Log'!$CI$18:$CI$1017),0)","v":0},{"$f":"IFERROR($E114*SUMIF('Daily Log'!$CK$18:$CK$1017,$B114,'Daily Log'!$CL$18:$CL$1017),0)","v":0},{"$f":"IFERROR($E114*SUMIF('Daily Log'!$CN$18:$CN$1017,$B114,'Daily Log'!$CO$18:$CO$1017),0)","v":0}]
[null,"11020:Lok29-鱿鱼",null,"LOK LOK ",1,9,{"$f":"IFERROR($E115*SUMIF('Daily Log'!$B$18:$B$1017,$B115,'Daily Log'!$C$18:$C$1017),0)","v":0},{"$f":"IFERROR($E115*SUMIF('Daily Log'!$E$18:$E$1017,$B115,'Daily Log'!$F$18:$F$1017),0)","v":0},{"$f":"IFERROR($E115*SUMIF('Daily Log'!$H$18:$H$1017,$B115,'Daily Log'!$I$18:$I$1017),0)","v":0},{"$f":"IFERROR($E115*SUMIF('Daily Log'!$K$18:$K$1017,$B115,'Daily Log'!$L$18:$L$1017),0)","v":0},{"$f":"IFERROR($E115*SUMIF('Daily Log'!$N$18:$N$1017,$B115,'Daily Log'!$O$18:$O$1017),0)","v":0},{"$f":"IFERROR($E115*SUMIF('Daily Log'!$Q$18:$Q$1017,$B115,'Daily Log'!$R$18:$R$1017),0)","v":0},{"$f":"IFERROR($E115*SUMIF('Daily Log'!$T$18:$T$1017,$B115,'Daily Log'!$U$18:$U$1017),0)","v":2},{"$f":"IFERROR($E115*SUMIF('Daily Log'!$W$18:$W$1017,$B115,'Daily Log'!$X$18:$X$1017),0)","v":0},{"$f":"IFERROR($E115*SUMIF('Daily Log'!$Z$18:$Z$1017,$B115,'Daily Log'!$AA$18:$AA$1017),0)","v":1},{"$f":"IFERROR($E115*SUMIF('Daily Log'!$AC$18:$AC$1017,$B115,'Daily Log'!$AD$18:$AD$1017),0)","v":2},{"$f":"IFERROR($E115*SUMIF('Daily Log'!$AF$18:$AF$1017,$B115,'Daily Log'!$AG$18:$AG$1017),0)","v":1},{"$f":"IFERROR($E115*SUMIF('Daily Log'!$AI$18:$AI$1017,$B115,'Daily Log'!$AJ$18:$AJ$1017),0)","v":0},{"$f":"IFERROR($E115*SUMIF('Daily Log'!$AL$18:$AL$1017,$B115,'Daily Log'!$AM$18:$AM$1017),0)","v":3},{"$f":"IFERROR($E115*SUMIF('Daily Log'!$AO$18:$AO$1017,$B115,'Daily Log'!$AP$18:$AP$1017),0)","v":0},{"$f":"IFERROR($E115*SUMIF('Daily Log'!$AR$18:$AR$1017,$B115,'Daily Log'!$AS$18:$AS$1017),0)","v":0},{"$f":"IFERROR($E115*SUMIF('Daily Log'!$AU$18:$AU$1017,$B115,'Daily Log'!$AV$18:$AV$1017),0)","v":0},{"$f":"IFERROR($E115*SUMIF('Daily Log'!$AX$18:$AX$1017,$B115,'Daily Log'!$AY$18:$AY$1017),0)","v":0},{"$f":"IFERROR($E115*SUMIF('Daily Log'!$BA$18:$BA$1017,$B115,'Daily Log'!$BB$18:$BB$1017),0)","v":0},{"$f":"IFERROR($E115*SUMIF('Daily Log'!$BD$18:$BD$1017,$B115,'Daily Log'!$BE$18:$BE$1017),0)","v":0},{"$f":"IFERROR($E115*SUMIF('Daily Log'!$BG$18:$BG$1017,$B115,'Daily Log'!$BH$18:$BH$1017),0)","v":0},{"$f":"IFERROR($E115*SUMIF('Daily Log'!$BJ$18:$BJ$1017,$B115,'Daily Log'!$BK$18:$BK$1017),0)","v":0},{"$f":"IFERROR($E115*SUMIF('Daily Log'!$BM$18:$BM$1017,$B115,'Daily Log'!$BN$18:$BN$1017),0)","v":0},{"$f":"IFERROR($E115*SUMIF('Daily Log'!$BP$18:$BP$1017,$B115,'Daily Log'!$BQ$18:$BQ$1017),0)","v":0},{"$f":"IFERROR($E115*SUMIF('Daily Log'!$BS$18:$BS$1017,$B115,'Daily Log'!$BT$18:$BT$1017),0)","v":0},{"$f":"IFERROR($E115*SUMIF('Daily Log'!$BV$18:$BV$1017,$B115,'Daily Log'!$BW$18:$BW$1017),0)","v":0},{"$f":"IFERROR($E115*SUMIF('Daily Log'!$BY$18:$BY$1017,$B115,'Daily Log'!$BZ$18:$BZ$1017),0)","v":0},{"$f":"IFERROR($E115*SUMIF('Daily Log'!$CB$18:$CB$1017,$B115,'Daily Log'!$CC$18:$CC$1017),0)","v":0},{"$f":"IFERROR($E115*SUMIF('Daily Log'!$CE$18:$CE$1017,$B115,'Daily Log'!$CF$18:$CF$1017),0)","v":0},{"$f":"IFERROR($E115*SUMIF('Daily Log'!$CH$18:$CH$1017,$B115,'Daily Log'!$CI$18:$CI$1017),0)","v":0},{"$f":"IFERROR($E115*SUMIF('Daily Log'!$CK$18:$CK$1017,$B115,'Daily Log'!$CL$18:$CL$1017),0)","v":0},{"$f":"IFERROR($E115*SUMIF('Daily Log'!$CN$18:$CN$1017,$B115,'Daily Log'!$CO$18:$CO$1017),0)","v":0}]
[null,"11021:Lok30-蟹条",null,"LOK LOK ",1,28,{"$f":"IFERROR($E116*SUMIF('Daily Log'!$B$18:$B$1017,$B116,'Daily Log'!$C$18:$C$1017),0)","v":0},{"$f":"IFERROR($E116*SUMIF('Daily Log'!$E$18:$E$1017,$B116,'Daily Log'!$F$18:$F$1017),0)","v":0},{"$f":"IFERROR($E116*SUMIF('Daily Log'!$H$18:$H$1017,$B116,'Daily Log'!$I$18:$I$1017),0)","v":0},{"$f":"IFERROR($E116*SUMIF('Daily Log'!$K$18:$K$1017,$B116,'Daily Log'!$L$18:$L$1017),0)","v":0},{"$f":"IFERROR($E116*SUMIF('Daily Log'!$N$18:$N$1017,$B116,'Daily Log'!$O$18:$O$1017),0)","v":0},{"$f":"IFERROR($E116*SUMIF('Daily Log'!$Q$18:$Q$1017,$B116,'Daily Log'!$R$18:$R$1017),0)","v":0},{"$f":"IFERROR($E116*SUMIF('Daily Log'!$T$18:$T$1017,$B116,'Daily Log'!$U$18:$U$1017),0)","v":7},{"$f":"IFERROR($E116*SUMIF('Daily Log'!$W$18:$W$1017,$B116,'Daily Log'!$X$18:$X$1017),0)","v":5},{"$f":"IFERROR($E116*SUMIF('Daily Log'!$Z$18:$Z$1017,$B116,'Daily Log'!$AA$18:$AA$1017),0)","v":3},{"$f":"IFERROR($E116*SUMIF('Daily Log'!$AC$18:$AC$1017,$B116,'Daily Log'!$AD$18:$AD$1017),0)","v":2},{"$f":"IFERROR($E116*SUMIF('Daily Log'!$AF$18:$AF$1017,$B116,'Daily Log'!$AG$18:$AG$1017),0)","v":4},{"$f":"IFERROR($E116*SUMIF('Daily Log'!$AI$18:$AI$1017,$B116,'Daily Log'!$AJ$18:$AJ$1017),0)","v":2},{"$f":"IFERROR($E116*SUMIF('Daily Log'!$AL$18:$AL$1017,$B116,'Daily Log'!$AM$18:$AM$1017),0)","v":5},{"$f":"IFERROR($E116*SUMIF('Daily Log'!$AO$18:$AO$1017,$B116,'Daily Log'!$AP$18:$AP$1017),0)","v":0},{"$f":"IFERROR($E116*SUMIF('Daily Log'!$AR$18:$AR$1017,$B116,'Daily Log'!$AS$18:$AS$1017),0)","v":0},{"$f":"IFERROR($E116*SUMIF('Daily Log'!$AU$18:$AU$1017,$B116,'Daily Log'!$AV$18:$AV$1017),0)","v":0},{"$f":"IFERROR($E116*SUMIF('Daily Log'!$AX$18:$AX$1017,$B116,'Daily Log'!$AY$18:$AY$1017),0)","v":0},{"$f":"IFERROR($E116*SUMIF('Daily Log'!$BA$18:$BA$1017,$B116,'Daily Log'!$BB$18:$BB$1017),0)","v":0},{"$f":"IFERROR($E116*SUMIF('Daily Log'!$BD$18:$BD$1017,$B116,'Daily Log'!$BE$18:$BE$1017),0)","v":0},{"$f":"IFERROR($E116*SUMIF('Daily Log'!$BG$18:$BG$1017,$B116,'Daily Log'!$BH$18:$BH$1017),0)","v":0},{"$f":"IFERROR($E116*SUMIF('Daily Log'!$BJ$18:$BJ$1017,$B116,'Daily Log'!$BK$18:$BK$1017),0)","v":0},{"$f":"IFERROR($E116*SUMIF('Daily Log'!$BM$18:$BM$1017,$B116,'Daily Log'!$BN$18:$BN$1017),0)","v":0},{"$f":"IFERROR($E116*SUMIF('Daily Log'!$BP$18:$BP$1017,$B116,'Daily Log'!$BQ$18:$BQ$1017),0)","v":0},{"$f":"IFERROR($E116*SUMIF('Daily Log'!$BS$18:$BS$1017,$B116,'Daily Log'!$BT$18:$BT$1017),0)","v":0},{"$f":"IFERROR($E116*SUMIF('Daily Log'!$BV$18:$BV$1017,$B116,'Daily Log'!$BW$18:$BW$1017),0)","v":0},{"$f":"IFERROR($E116*SUMIF('Daily Log'!$BY$18:$BY$1017,$B116,'Daily Log'!$BZ$18:$BZ$1017),0)","v":0},{"$f":"IFERROR($E116*SUMIF('Daily Log'!$CB$18:$CB$1017,$B116,'Daily Log'!$CC$18:$CC$1017),0)","v":0},{"$f":"IFERROR($E116*SUMIF('Daily Log'!$CE$18:$CE$1017,$B116,'Daily Log'!$CF$18:$CF$1017),0)","v":0},{"$f":"IFERROR($E116*SUMIF('Daily Log'!$CH$18:$CH$1017,$B116,'Daily Log'!$CI$18:$CI$1017),0)","v":0},{"$f":"IFERROR($E116*SUMIF('Daily Log'!$CK$18:$CK$1017,$B116,'Daily Log'!$CL$18:$CL$1017),0)","v":0},{"$f":"IFERROR($E116*SUMIF('Daily Log'!$CN$18:$CN$1017,$B116,'Daily Log'!$CO$18:$CO$1017),0)","v":0}]
[null,"11022:Lok31-鱼丸（小）",null,"LOK LOK ",1,86,{"$f":"IFERROR($E117*SUMIF('Daily Log'!$B$18:$B$1017,$B117,'Daily Log'!$C$18:$C$1017),0)","v":0},{"$f":"IFERROR($E117*SUMIF('Daily Log'!$E$18:$E$1017,$B117,'Daily Log'!$F$18:$F$1017),0)","v":0},{"$f":"IFERROR($E117*SUMIF('Daily Log'!$H$18:$H$1017,$B117,'Daily Log'!$I$18:$I$1017),0)","v":0},{"$f":"IFERROR($E117*SUMIF('Daily Log'!$K$18:$K$1017,$B117,'Daily Log'!$L$18:$L$1017),0)","v":0},{"$f":"IFERROR($E117*SUMIF('Daily Log'!$N$18:$N$1017,$B117,'Daily Log'!$O$18:$O$1017),0)","v":0},{"$f":"IFERROR($E117*SUMIF('Daily Log'!$Q$18:$Q$1017,$B117,'Daily Log'!$R$18:$R$1017),0)","v":0},{"$f":"IFERROR($E117*SUMIF('Daily Log'!$T$18:$T$1017,$B117,'Daily Log'!$U$18:$U$1017),0)","v":6},{"$f":"IFERROR($E117*SUMIF('Daily Log'!$W$18:$W$1017,$B117,'Daily Log'!$X$18:$X$1017),0)","v":12},{"$f":"IFERROR($E117*SUMIF('Daily Log'!$Z$18:$Z$1017,$B117,'Daily Log'!$AA$18:$AA$1017),0)","v":10},{"$f":"IFERROR($E117*SUMIF('Daily Log'!$AC$18:$AC$1017,$B117,'Daily Log'!$AD$18:$AD$1017),0)","v":8},{"$f":"IFERROR($E117*SUMIF('Daily Log'!$AF$18:$AF$1017,$B117,'Daily Log'!$AG$18:$AG$1017),0)","v":17},{"$f":"IFERROR($E117*SUMIF('Daily Log'!$AI$18:$AI$1017,$B117,'Daily Log'!$AJ$18:$AJ$1017),0)","v":18},{"$f":"IFERROR($E117*SUMIF('Daily Log'!$AL$18:$AL$1017,$B117,'Daily Log'!$AM$18:$AM$1017),0)","v":15},{"$f":"IFERROR($E117*SUMIF('Daily Log'!$AO$18:$AO$1017,$B117,'Daily Log'!$AP$18:$AP$1017),0)","v":0},{"$f":"IFERROR($E117*SUMIF('Daily Log'!$AR$18:$AR$1017,$B117,'Daily Log'!$AS$18:$AS$1017),0)","v":0},{"$f":"IFERROR($E117*SUMIF('Daily Log'!$AU$18:$AU$1017,$B117,'Daily Log'!$AV$18:$AV$1017),0)","v":0},{"$f":"IFERROR($E117*SUMIF('Daily Log'!$AX$18:$AX$1017,$B117,'Daily Log'!$AY$18:$AY$1017),0)","v":0},{"$f":"IFERROR($E117*SUMIF('Daily Log'!$BA$18:$BA$1017,$B117,'Daily Log'!$BB$18:$BB$1017),0)","v":0},{"$f":"IFERROR($E117*SUMIF('Daily Log'!$BD$18:$BD$1017,$B117,'Daily Log'!$BE$18:$BE$1017),0)","v":0},{"$f":"IFERROR($E117*SUMIF('Daily Log'!$BG$18:$BG$1017,$B117,'Daily Log'!$BH$18:$BH$1017),0)","v":0},{"$f":"IFERROR($E117*SUMIF('Daily Log'!$BJ$18:$BJ$1017,$B117,'Daily Log'!$BK$18:$BK$1017),0)","v":0},{"$f":"IFERROR($E117*SUMIF('Daily Log'!$BM$18:$BM$1017,$B117,'Daily Log'!$BN$18:$BN$1017),0)","v":0},{"$f":"IFERROR($E117*SUMIF('Daily Log'!$BP$18:$BP$1017,$B117,'Daily Log'!$BQ$18:$BQ$1017),0)","v":0},{"$f":"IFERROR($E117*SUMIF('Daily Log'!$BS$18:$BS$1017,$B117,'Daily Log'!$BT$18:$BT$1017),0)","v":0},{"$f":"IFERROR($E117*SUMIF('Daily Log'!$BV$18:$BV$1017,$B117,'Daily Log'!$BW$18:$BW$1017),0)","v":0},{"$f":"IFERROR($E117*SUMIF('Daily Log'!$BY$18:$BY$1017,$B117,'Daily Log'!$BZ$18:$BZ$1017),0)","v":0},{"$f":"IFERROR($E117*SUMIF('Daily Log'!$CB$18:$CB$1017,$B117,'Daily Log'!$CC$18:$CC$1017),0)","v":0},{"$f":"IFERROR($E117*SUMIF('Daily Log'!$CE$18:$CE$1017,$B117,'Daily Log'!$CF$18:$CF$1017),0)","v":0},{"$f":"IFERROR($E117*SUMIF('Daily Log'!$CH$18:$CH$1017,$B117,'Daily Log'!$CI$18:$CI$1017),0)","v":0},{"$f":"IFERROR($E117*SUMIF('Daily Log'!$CK$18:$CK$1017,$B117,'Daily Log'!$CL$18:$CL$1017),0)","v":0},{"$f":"IFERROR($E117*SUMIF('Daily Log'!$CN$18:$CN$1017,$B117,'Daily Log'!$CO$18:$CO$1017),0)","v":0}]
[null,"11023:Lok32-苏东",null,"LOK LOK ",1,9,{"$f":"IFERROR($E118*SUMIF('Daily Log'!$B$18:$B$1017,$B118,'Daily Log'!$C$18:$C$1017),0)","v":0},{"$f":"IFERROR($E118*SUMIF('Daily Log'!$E$18:$E$1017,$B118,'Daily Log'!$F$18:$F$1017),0)","v":0},{"$f":"IFERROR($E118*SUMIF('Daily Log'!$H$18:$H$1017,$B118,'Daily Log'!$I$18:$I$1017),0)","v":0},{"$f":"IFERROR($E118*SUMIF('Daily Log'!$K$18:$K$1017,$B118,'Daily Log'!$L$18:$L$1017),0)","v":0},{"$f":"IFERROR($E118*SUMIF('Daily Log'!$N$18:$N$1017,$B118,'Daily Log'!$O$18:$O$1017),0)","v":0},{"$f":"IFERROR($E118*SUMIF('Daily Log'!$Q$18:$Q$1017,$B118,'Daily Log'!$R$18:$R$1017),0)","v":0},{"$f":"IFERROR($E118*SUMIF('Daily Log'!$T$18:$T$1017,$B118,'Daily Log'!$U$18:$U$1017),0)","v":3},{"$f":"IFERROR($E118*SUMIF('Daily Log'!$W$18:$W$1017,$B118,'Daily Log'!$X$18:$X$1017),0)","v":1},{"$f":"IFERROR($E118*SUMIF('Daily Log'!$Z$18:$Z$1017,$B118,'Daily Log'!$AA$18:$AA$1017),0)","v":4},{"$f":"IFERROR($E118*SUMIF('Daily Log'!$AC$18:$AC$1017,$B118,'Daily Log'!$AD$18:$AD$1017),0)","v":0},{"$f":"IFERROR($E118*SUMIF('Daily Log'!$AF$18:$AF$1017,$B118,'Daily Log'!$AG$18:$AG$1017),0)","v":0},{"$f":"IFERROR($E118*SUMIF('Daily Log'!$AI$18:$AI$1017,$B118,'Daily Log'!$AJ$18:$AJ$1017),0)","v":0},{"$f":"IFERROR($E118*SUMIF('Daily Log'!$AL$18:$AL$1017,$B118,'Daily Log'!$AM$18:$AM$1017),0)","v":1},{"$f":"IFERROR($E118*SUMIF('Daily Log'!$AO$18:$AO$1017,$B118,'Daily Log'!$AP$18:$AP$1017),0)","v":0},{"$f":"IFERROR($E118*SUMIF('Daily Log'!$AR$18:$AR$1017,$B118,'Daily Log'!$AS$18:$AS$1017),0)","v":0},{"$f":"IFERROR($E118*SUMIF('Daily Log'!$AU$18:$AU$1017,$B118,'Daily Log'!$AV$18:$AV$1017),0)","v":0},{"$f":"IFERROR($E118*SUMIF('Daily Log'!$AX$18:$AX$1017,$B118,'Daily Log'!$AY$18:$AY$1017),0)","v":0},{"$f":"IFERROR($E118*SUMIF('Daily Log'!$BA$18:$BA$1017,$B118,'Daily Log'!$BB$18:$BB$1017),0)","v":0},{"$f":"IFERROR($E118*SUMIF('Daily Log'!$BD$18:$BD$1017,$B118,'Daily Log'!$BE$18:$BE$1017),0)","v":0},{"$f":"IFERROR($E118*SUMIF('Daily Log'!$BG$18:$BG$1017,$B118,'Daily Log'!$BH$18:$BH$1017),0)","v":0},{"$f":"IFERROR($E118*SUMIF('Daily Log'!$BJ$18:$BJ$1017,$B118,'Daily Log'!$BK$18:$BK$1017),0)","v":0},{"$f":"IFERROR($E118*SUMIF('Daily Log'!$BM$18:$BM$1017,$B118,'Daily Log'!$BN$18:$BN$1017),0)","v":0},{"$f":"IFERROR($E118*SUMIF('Daily Log'!$BP$18:$BP$1017,$B118,'Daily Log'!$BQ$18:$BQ$1017),0)","v":0},{"$f":"IFERROR($E118*SUMIF('Daily Log'!$BS$18:$BS$1017,$B118,'Daily Log'!$BT$18:$BT$1017),0)","v":0},{"$f":"IFERROR($E118*SUMIF('Daily Log'!$BV$18:$BV$1017,$B118,'Daily Log'!$BW$18:$BW$1017),0)","v":0},{"$f":"IFERROR($E118*SUMIF('Daily Log'!$BY$18:$BY$1017,$B118,'Daily Log'!$BZ$18:$BZ$1017),0)","v":0},{"$f":"IFERROR($E118*SUMIF('Daily Log'!$CB$18:$CB$1017,$B118,'Daily Log'!$CC$18:$CC$1017),0)","v":0},{"$f":"IFERROR($E118*SUMIF('Daily Log'!$CE$18:$CE$1017,$B118,'Daily Log'!$CF$18:$CF$1017),0)","v":0},{"$f":"IFERROR($E118*SUMIF('Daily Log'!$CH$18:$CH$1017,$B118,'Daily Log'!$CI$18:$CI$1017),0)","v":0},{"$f":"IFERROR($E118*SUMIF('Daily Log'!$CK$18:$CK$1017,$B118,'Daily Log'!$CL$18:$CL$1017),0)","v":0},{"$f":"IFERROR($E118*SUMIF('Daily Log'!$CN$18:$CN$1017,$B118,'Daily Log'!$CO$18:$CO$1017),0)","v":0}]
[null,"11024:Lok33-天妇罗虾",null,"LOK LOK ",1,1,{"$f":"IFERROR($E119*SUMIF('Daily Log'!$B$18:$B$1017,$B119,'Daily Log'!$C$18:$C$1017),0)","v":0},{"$f":"IFERROR($E119*SUMIF('Daily Log'!$E$18:$E$1017,$B119,'Daily Log'!$F$18:$F$1017),0)","v":0},{"$f":"IFERROR($E119*SUMIF('Daily Log'!$H$18:$H$1017,$B119,'Daily Log'!$I$18:$I$1017),0)","v":0},{"$f":"IFERROR($E119*SUMIF('Daily Log'!$K$18:$K$1017,$B119,'Daily Log'!$L$18:$L$1017),0)","v":0},{"$f":"IFERROR($E119*SUMIF('Daily Log'!$N$18:$N$1017,$B119,'Daily Log'!$O$18:$O$1017),0)","v":0},{"$f":"IFERROR($E119*SUMIF('Daily Log'!$Q$18:$Q$1017,$B119,'Daily Log'!$R$18:$R$1017),0)","v":0},{"$f":"IFERROR($E119*SUMIF('Daily Log'!$T$18:$T$1017,$B119,'Daily Log'!$U$18:$U$1017),0)","v":0},{"$f":"IFERROR($E119*SUMIF('Daily Log'!$W$18:$W$1017,$B119,'Daily Log'!$X$18:$X$1017),0)","v":0},{"$f":"IFERROR($E119*SUMIF('Daily Log'!$Z$18:$Z$1017,$B119,'Daily Log'!$AA$18:$AA$1017),0)","v":0},{"$f":"IFERROR($E119*SUMIF('Daily Log'!$AC$18:$AC$1017,$B119,'Daily Log'!$AD$18:$AD$1017),0)","v":0},{"$f":"IFERROR($E119*SUMIF('Daily Log'!$AF$18:$AF$1017,$B119,'Daily Log'!$AG$18:$AG$1017),0)","v":0},{"$f":"IFERROR($E119*SUMIF('Daily Log'!$AI$18:$AI$1017,$B119,'Daily Log'!$AJ$18:$AJ$1017),0)","v":0},{"$f":"IFERROR($E119*SUMIF('Daily Log'!$AL$18:$AL$1017,$B119,'Daily Log'!$AM$18:$AM$1017),0)","v":1},{"$f":"IFERROR($E119*SUMIF('Daily Log'!$AO$18:$AO$1017,$B119,'Daily Log'!$AP$18:$AP$1017),0)","v":0},{"$f":"IFERROR($E119*SUMIF('Daily Log'!$AR$18:$AR$1017,$B119,'Daily Log'!$AS$18:$AS$1017),0)","v":0},{"$f":"IFERROR($E119*SUMIF('Daily Log'!$AU$18:$AU$1017,$B119,'Daily Log'!$AV$18:$AV$1017),0)","v":0},{"$f":"IFERROR($E119*SUMIF('Daily Log'!$AX$18:$AX$1017,$B119,'Daily Log'!$AY$18:$AY$1017),0)","v":0},{"$f":"IFERROR($E119*SUMIF('Daily Log'!$BA$18:$BA$1017,$B119,'Daily Log'!$BB$18:$BB$1017),0)","v":0},{"$f":"IFERROR($E119*SUMIF('Daily Log'!$BD$18:$BD$1017,$B119,'Daily Log'!$BE$18:$BE$1017),0)","v":0},{"$f":"IFERROR($E119*SUMIF('Daily Log'!$BG$18:$BG$1017,$B119,'Daily Log'!$BH$18:$BH$1017),0)","v":0},{"$f":"IFERROR($E119*SUMIF('Daily Log'!$BJ$18:$BJ$1017,$B119,'Daily Log'!$BK$18:$BK$1017),0)","v":0},{"$f":"IFERROR($E119*SUMIF('Daily Log'!$BM$18:$BM$1017,$B119,'Daily Log'!$BN$18:$BN$1017),0)","v":0},{"$f":"IFERROR($E119*SUMIF('Daily Log'!$BP$18:$BP$1017,$B119,'Daily Log'!$BQ$18:$BQ$1017),0)","v":0},{"$f":"IFERROR($E119*SUMIF('Daily Log'!$BS$18:$BS$1017,$B119,'Daily Log'!$BT$18:$BT$1017),0)","v":0},{"$f":"IFERROR($E119*SUMIF('Daily Log'!$BV$18:$BV$1017,$B119,'Daily Log'!$BW$18:$BW$1017),0)","v":0},{"$f":"IFERROR($E119*SUMIF('Daily Log'!$BY$18:$BY$1017,$B119,'Daily Log'!$BZ$18:$BZ$1017),0)","v":0},{"$f":"IFERROR($E119*SUMIF('Daily Log'!$CB$18:$CB$1017,$B119,'Daily Log'!$CC$18:$CC$1017),0)","v":0},{"$f":"IFERROR($E119*SUMIF('Daily Log'!$CE$18:$CE$1017,$B119,'Daily Log'!$CF$18:$CF$1017),0)","v":0},{"$f":"IFERROR($E119*SUMIF('Daily Log'!$CH$18:$CH$1017,$B119,'Daily Log'!$CI$18:$CI$1017),0)","v":0},{"$f":"IFERROR($E119*SUMIF('Daily Log'!$CK$18:$CK$1017,$B119,'Daily Log'!$CL$18:$CL$1017),0)","v":0},{"$f":"IFERROR($E119*SUMIF('Daily Log'!$CN$18:$CN$1017,$B119,'Daily Log'!$CO$18:$CO$1017),0)","v":0}]
[null,"11025:Lok25-苏东丸",null,"LOK LOK ",1,0,{"$f":"IFERROR($E120*SUMIF('Daily Log'!$B$18:$B$1017,$B120,'Daily Log'!$C$18:$C$1017),0)","v":0},{"$f":"IFERROR($E120*SUMIF('Daily Log'!$E$18:$E$1017,$B120,'Daily Log'!$F$18:$F$1017),0)","v":0},{"$f":"IFERROR($E120*SUMIF('Daily Log'!$H$18:$H$1017,$B120,'Daily Log'!$I$18:$I$1017),0)","v":0},{"$f":"IFERROR($E120*SUMIF('Daily Log'!$K$18:$K$1017,$B120,'Daily Log'!$L$18:$L$1017),0)","v":0},{"$f":"IFERROR($E120*SUMIF('Daily Log'!$N$18:$N$1017,$B120,'Daily Log'!$O$18:$O$1017),0)","v":0},{"$f":"IFERROR($E120*SUMIF('Daily Log'!$Q$18:$Q$1017,$B120,'Daily Log'!$R$18:$R$1017),0)","v":0},{"$f":"IFERROR($E120*SUMIF('Daily Log'!$T$18:$T$1017,$B120,'Daily Log'!$U$18:$U$1017),0)","v":0},{"$f":"IFERROR($E120*SUMIF('Daily Log'!$W$18:$W$1017,$B120,'Daily Log'!$X$18:$X$1017),0)","v":0},{"$f":"IFERROR($E120*SUMIF('Daily Log'!$Z$18:$Z$1017,$B120,'Daily Log'!$AA$18:$AA$1017),0)","v":0},{"$f":"IFERROR($E120*SUMIF('Daily Log'!$AC$18:$AC$1017,$B120,'Daily Log'!$AD$18:$AD$1017),0)","v":0},{"$f":"IFERROR($E120*SUMIF('Daily Log'!$AF$18:$AF$1017,$B120,'Daily Log'!$AG$18:$AG$1017),0)","v":0},{"$f":"IFERROR($E120*SUMIF('Daily Log'!$AI$18:$AI$1017,$B120,'Daily Log'!$AJ$18:$AJ$1017),0)","v":0},{"$f":"IFERROR($E120*SUMIF('Daily Log'!$AL$18:$AL$1017,$B120,'Daily Log'!$AM$18:$AM$1017),0)","v":0},{"$f":"IFERROR($E120*SUMIF('Daily Log'!$AO$18:$AO$1017,$B120,'Daily Log'!$AP$18:$AP$1017),0)","v":0},{"$f":"IFERROR($E120*SUMIF('Daily Log'!$AR$18:$AR$1017,$B120,'Daily Log'!$AS$18:$AS$1017),0)","v":0},{"$f":"IFERROR($E120*SUMIF('Daily Log'!$AU$18:$AU$1017,$B120,'Daily Log'!$AV$18:$AV$1017),0)","v":0},{"$f":"IFERROR($E120*SUMIF('Daily Log'!$AX$18:$AX$1017,$B120,'Daily Log'!$AY$18:$AY$1017),0)","v":0},{"$f":"IFERROR($E120*SUMIF('Daily Log'!$BA$18:$BA$1017,$B120,'Daily Log'!$BB$18:$BB$1017),0)","v":0},{"$f":"IFERROR($E120*SUMIF('Daily Log'!$BD$18:$BD$1017,$B120,'Daily Log'!$BE$18:$BE$1017),0)","v":0},{"$f":"IFERROR($E120*SUMIF('Daily Log'!$BG$18:$BG$1017,$B120,'Daily Log'!$BH$18:$BH$1017),0)","v":0},{"$f":"IFERROR($E120*SUMIF('Daily Log'!$BJ$18:$BJ$1017,$B120,'Daily Log'!$BK$18:$BK$1017),0)","v":0},{"$f":"IFERROR($E120*SUMIF('Daily Log'!$BM$18:$BM$1017,$B120,'Daily Log'!$BN$18:$BN$1017),0)","v":0},{"$f":"IFERROR($E120*SUMIF('Daily Log'!$BP$18:$BP$1017,$B120,'Daily Log'!$BQ$18:$BQ$1017),0)","v":0},{"$f":"IFERROR($E120*SUMIF('Daily Log'!$BS$18:$BS$1017,$B120,'Daily Log'!$BT$18:$BT$1017),0)","v":0},{"$f":"IFERROR($E120*SUMIF('Daily Log'!$BV$18:$BV$1017,$B120,'Daily Log'!$BW$18:$BW$1017),0)","v":0},{"$f":"IFERROR($E120*SUMIF('Daily Log'!$BY$18:$BY$1017,$B120,'Daily Log'!$BZ$18:$BZ$1017),0)","v":0},{"$f":"IFERROR($E120*SUMIF('Daily Log'!$CB$18:$CB$1017,$B120,'Daily Log'!$CC$18:$CC$1017),0)","v":0},{"$f":"IFERROR($E120*SUMIF('Daily Log'!$CE$18:$CE$1017,$B120,'Daily Log'!$CF$18:$CF$1017),0)","v":0},{"$f":"IFERROR($E120*SUMIF('Daily Log'!$CH$18:$CH$1017,$B120,'Daily Log'!$CI$18:$CI$1017),0)","v":0},{"$f":"IFERROR($E120*SUMIF('Daily Log'!$CK$18:$CK$1017,$B120,'Daily Log'!$CL$18:$CL$1017),0)","v":0},{"$f":"IFERROR($E120*SUMIF('Daily Log'!$CN$18:$CN$1017,$B120,'Daily Log'!$CO$18:$CO$1017),0)","v":0}]
[null,"11026:Lok26-小章鱼",null,"LOK LOK ",1,0,{"$f":"IFERROR($E121*SUMIF('Daily Log'!$B$18:$B$1017,$B121,'Daily Log'!$C$18:$C$1017),0)","v":0},{"$f":"IFERROR($E121*SUMIF('Daily Log'!$E$18:$E$1017,$B121,'Daily Log'!$F$18:$F$1017),0)","v":0},{"$f":"IFERROR($E121*SUMIF('Daily Log'!$H$18:$H$1017,$B121,'Daily Log'!$I$18:$I$1017),0)","v":0},{"$f":"IFERROR($E121*SUMIF('Daily Log'!$K$18:$K$1017,$B121,'Daily Log'!$L$18:$L$1017),0)","v":0},{"$f":"IFERROR($E121*SUMIF('Daily Log'!$N$18:$N$1017,$B121,'Daily Log'!$O$18:$O$1017),0)","v":0},{"$f":"IFERROR($E121*SUMIF('Daily Log'!$Q$18:$Q$1017,$B121,'Daily Log'!$R$18:$R$1017),0)","v":0},{"$f":"IFERROR($E121*SUMIF('Daily Log'!$T$18:$T$1017,$B121,'Daily Log'!$U$18:$U$1017),0)","v":0},{"$f":"IFERROR($E121*SUMIF('Daily Log'!$W$18:$W$1017,$B121,'Daily Log'!$X$18:$X$1017),0)","v":0},{"$f":"IFERROR($E121*SUMIF('Daily Log'!$Z$18:$Z$1017,$B121,'Daily Log'!$AA$18:$AA$1017),0)","v":0},{"$f":"IFERROR($E121*SUMIF('Daily Log'!$AC$18:$AC$1017,$B121,'Daily Log'!$AD$18:$AD$1017),0)","v":0},{"$f":"IFERROR($E121*SUMIF('Daily Log'!$AF$18:$AF$1017,$B121,'Daily Log'!$AG$18:$AG$1017),0)","v":0},{"$f":"IFERROR($E121*SUMIF('Daily Log'!$AI$18:$AI$1017,$B121,'Daily Log'!$AJ$18:$AJ$1017),0)","v":0},{"$f":"IFERROR($E121*SUMIF('Daily Log'!$AL$18:$AL$1017,$B121,'Daily Log'!$AM$18:$AM$1017),0)","v":0},{"$f":"IFERROR($E121*SUMIF('Daily Log'!$AO$18:$AO$1017,$B121,'Daily Log'!$AP$18:$AP$1017),0)","v":0},{"$f":"IFERROR($E121*SUMIF('Daily Log'!$AR$18:$AR$1017,$B121,'Daily Log'!$AS$18:$AS$1017),0)","v":0},{"$f":"IFERROR($E121*SUMIF('Daily Log'!$AU$18:$AU$1017,$B121,'Daily Log'!$AV$18:$AV$1017),0)","v":0},{"$f":"IFERROR($E121*SUMIF('Daily Log'!$AX$18:$AX$1017,$B121,'Daily Log'!$AY$18:$AY$1017),0)","v":0},{"$f":"IFERROR($E121*SUMIF('Daily Log'!$BA$18:$BA$1017,$B121,'Daily Log'!$BB$18:$BB$1017),0)","v":0},{"$f":"IFERROR($E121*SUMIF('Daily Log'!$BD$18:$BD$1017,$B121,'Daily Log'!$BE$18:$BE$1017),0)","v":0},{"$f":"IFERROR($E121*SUMIF('Daily Log'!$BG$18:$BG$1017,$B121,'Daily Log'!$BH$18:$BH$1017),0)","v":0},{"$f":"IFERROR($E121*SUMIF('Daily Log'!$BJ$18:$BJ$1017,$B121,'Daily Log'!$BK$18:$BK$1017),0)","v":0},{"$f":"IFERROR($E121*SUMIF('Daily Log'!$BM$18:$BM$1017,$B121,'Daily Log'!$BN$18:$BN$1017),0)","v":0},{"$f":"IFERROR($E121*SUMIF('Daily Log'!$BP$18:$BP$1017,$B121,'Daily Log'!$BQ$18:$BQ$1017),0)","v":0},{"$f":"IFERROR($E121*SUMIF('Daily Log'!$BS$18:$BS$1017,$B121,'Daily Log'!$BT$18:$BT$1017),0)","v":0},{"$f":"IFERROR($E121*SUMIF('Daily Log'!$BV$18:$BV$1017,$B121,'Daily Log'!$BW$18:$BW$1017),0)","v":0},{"$f":"IFERROR($E121*SUMIF('Daily Log'!$BY$18:$BY$1017,$B121,'Daily Log'!$BZ$18:$BZ$1017),0)","v":0},{"$f":"IFERROR($E121*SUMIF('Daily Log'!$CB$18:$CB$1017,$B121,'Daily Log'!$CC$18:$CC$1017),0)","v":0},{"$f":"IFERROR($E121*SUMIF('Daily Log'!$CE$18:$CE$1017,$B121,'Daily Log'!$CF$18:$CF$1017),0)","v":0},{"$f":"IFERROR($E121*SUMIF('Daily Log'!$CH$18:$CH$1017,$B121,'Daily Log'!$CI$18:$CI$1017),0)","v":0},{"$f":"IFERROR($E121*SUMIF('Daily Log'!$CK$18:$CK$1017,$B121,'Daily Log'!$CL$18:$CL$1017),0)","v":0},{"$f":"IFERROR($E121*SUMIF('Daily Log'!$CN$18:$CN$1017,$B121,'Daily Log'!$CO$18:$CO$1017),0)","v":0}]
[null,"11027:Lok27-福州鱼丸（大）",null,"LOK LOK ",1,0,{"$f":"IFERROR($E122*SUMIF('Daily Log'!$B$18:$B$1017,$B122,'Daily Log'!$C$18:$C$1017),0)","v":0},{"$f":"IFERROR($E122*SUMIF('Daily Log'!$E$18:$E$1017,$B122,'Daily Log'!$F$18:$F$1017),0)","v":0},{"$f":"IFERROR($E122*SUMIF('Daily Log'!$H$18:$H$1017,$B122,'Daily Log'!$I$18:$I$1017),0)","v":0},{"$f":"IFERROR($E122*SUMIF('Daily Log'!$K$18:$K$1017,$B122,'Daily Log'!$L$18:$L$1017),0)","v":0},{"$f":"IFERROR($E122*SUMIF('Daily Log'!$N$18:$N$1017,$B122,'Daily Log'!$O$18:$O$1017),0)","v":0},{"$f":"IFERROR($E122*SUMIF('Daily Log'!$Q$18:$Q$1017,$B122,'Daily Log'!$R$18:$R$1017),0)","v":0},{"$f":"IFERROR($E122*SUMIF('Daily Log'!$T$18:$T$1017,$B122,'Daily Log'!$U$18:$U$1017),0)","v":0},{"$f":"IFERROR($E122*SUMIF('Daily Log'!$W$18:$W$1017,$B122,'Daily Log'!$X$18:$X$1017),0)","v":0},{"$f":"IFERROR($E122*SUMIF('Daily Log'!$Z$18:$Z$1017,$B122,'Daily Log'!$AA$18:$AA$1017),0)","v":0},{"$f":"IFERROR($E122*SUMIF('Daily Log'!$AC$18:$AC$1017,$B122,'Daily Log'!$AD$18:$AD$1017),0)","v":0},{"$f":"IFERROR($E122*SUMIF('Daily Log'!$AF$18:$AF$1017,$B122,'Daily Log'!$AG$18:$AG$1017),0)","v":0},{"$f":"IFERROR($E122*SUMIF('Daily Log'!$AI$18:$AI$1017,$B122,'Daily Log'!$AJ$18:$AJ$1017),0)","v":0},{"$f":"IFERROR($E122*SUMIF('Daily Log'!$AL$18:$AL$1017,$B122,'Daily Log'!$AM$18:$AM$1017),0)","v":0},{"$f":"IFERROR($E122*SUMIF('Daily Log'!$AO$18:$AO$1017,$B122,'Daily Log'!$AP$18:$AP$1017),0)","v":0},{"$f":"IFERROR($E122*SUMIF('Daily Log'!$AR$18:$AR$1017,$B122,'Daily Log'!$AS$18:$AS$1017),0)","v":0},{"$f":"IFERROR($E122*SUMIF('Daily Log'!$AU$18:$AU$1017,$B122,'Daily Log'!$AV$18:$AV$1017),0)","v":0},{"$f":"IFERROR($E122*SUMIF('Daily Log'!$AX$18:$AX$1017,$B122,'Daily Log'!$AY$18:$AY$1017),0)","v":0},{"$f":"IFERROR($E122*SUMIF('Daily Log'!$BA$18:$BA$1017,$B122,'Daily Log'!$BB$18:$BB$1017),0)","v":0},{"$f":"IFERROR($E122*SUMIF('Daily Log'!$BD$18:$BD$1017,$B122,'Daily Log'!$BE$18:$BE$1017),0)","v":0},{"$f":"IFERROR($E122*SUMIF('Daily Log'!$BG$18:$BG$1017,$B122,'Daily Log'!$BH$18:$BH$1017),0)","v":0},{"$f":"IFERROR($E122*SUMIF('Daily Log'!$BJ$18:$BJ$1017,$B122,'Daily Log'!$BK$18:$BK$1017),0)","v":0},{"$f":"IFERROR($E122*SUMIF('Daily Log'!$BM$18:$BM$1017,$B122,'Daily Log'!$BN$18:$BN$1017),0)","v":0},{"$f":"IFERROR($E122*SUMIF('Daily Log'!$BP$18:$BP$1017,$B122,'Daily Log'!$BQ$18:$BQ$1017),0)","v":0},{"$f":"IFERROR($E122*SUMIF('Daily Log'!$BS$18:$BS$1017,$B122,'Daily Log'!$BT$18:$BT$1017),0)","v":0},{"$f":"IFERROR($E122*SUMIF('Daily Log'!$BV$18:$BV$1017,$B122,'Daily Log'!$BW$18:$BW$1017),0)","v":0},{"$f":"IFERROR($E122*SUMIF('Daily Log'!$BY$18:$BY$1017,$B122,'Daily Log'!$BZ$18:$BZ$1017),0)","v":0},{"$f":"IFERROR($E122*SUMIF('Daily Log'!$CB$18:$CB$1017,$B122,'Daily Log'!$CC$18:$CC$1017),0)","v":0},{"$f":"IFERROR($E122*SUMIF('Daily Log'!$CE$18:$CE$1017,$B122,'Daily Log'!$CF$18:$CF$1017),0)","v":0},{"$f":"IFERROR($E122*SUMIF('Daily Log'!$CH$18:$CH$1017,$B122,'Daily Log'!$CI$18:$CI$1017),0)","v":0},{"$f":"IFERROR($E122*SUMIF('Daily Log'!$CK$18:$CK$1017,$B122,'Daily Log'!$CL$18:$CL$1017),0)","v":0},{"$f":"IFERROR($E122*SUMIF('Daily Log'!$CN$18:$CN$1017,$B122,'Daily Log'!$CO$18:$CO$1017),0)","v":0}]
[null,"11028:Lok28-澳洲绿蚌",null,"LOK LOK ",1,0,{"$f":"IFERROR($E123*SUMIF('Daily Log'!$B$18:$B$1017,$B123,'Daily Log'!$C$18:$C$1017),0)","v":0},{"$f":"IFERROR($E123*SUMIF('Daily Log'!$E$18:$E$1017,$B123,'Daily Log'!$F$18:$F$1017),0)","v":0},{"$f":"IFERROR($E123*SUMIF('Daily Log'!$H$18:$H$1017,$B123,'Daily Log'!$I$18:$I$1017),0)","v":0},{"$f":"IFERROR($E123*SUMIF('Daily Log'!$K$18:$K$1017,$B123,'Daily Log'!$L$18:$L$1017),0)","v":0},{"$f":"IFERROR($E123*SUMIF('Daily Log'!$N$18:$N$1017,$B123,'Daily Log'!$O$18:$O$1017),0)","v":0},{"$f":"IFERROR($E123*SUMIF('Daily Log'!$Q$18:$Q$1017,$B123,'Daily Log'!$R$18:$R$1017),0)","v":0},{"$f":"IFERROR($E123*SUMIF('Daily Log'!$T$18:$T$1017,$B123,'Daily Log'!$U$18:$U$1017),0)","v":0},{"$f":"IFERROR($E123*SUMIF('Daily Log'!$W$18:$W$1017,$B123,'Daily Log'!$X$18:$X$1017),0)","v":0},{"$f":"IFERROR($E123*SUMIF('Daily Log'!$Z$18:$Z$1017,$B123,'Daily Log'!$AA$18:$AA$1017),0)","v":0},{"$f":"IFERROR($E123*SUMIF('Daily Log'!$AC$18:$AC$1017,$B123,'Daily Log'!$AD$18:$AD$1017),0)","v":0},{"$f":"IFERROR($E123*SUMIF('Daily Log'!$AF$18:$AF$1017,$B123,'Daily Log'!$AG$18:$AG$1017),0)","v":0},{"$f":"IFERROR($E123*SUMIF('Daily Log'!$AI$18:$AI$1017,$B123,'Daily Log'!$AJ$18:$AJ$1017),0)","v":0},{"$f":"IFERROR($E123*SUMIF('Daily Log'!$AL$18:$AL$1017,$B123,'Daily Log'!$AM$18:$AM$1017),0)","v":0},{"$f":"IFERROR($E123*SUMIF('Daily Log'!$AO$18:$AO$1017,$B123,'Daily Log'!$AP$18:$AP$1017),0)","v":0},{"$f":"IFERROR($E123*SUMIF('Daily Log'!$AR$18:$AR$1017,$B123,'Daily Log'!$AS$18:$AS$1017),0)","v":0},{"$f":"IFERROR($E123*SUMIF('Daily Log'!$AU$18:$AU$1017,$B123,'Daily Log'!$AV$18:$AV$1017),0)","v":0},{"$f":"IFERROR($E123*SUMIF('Daily Log'!$AX$18:$AX$1017,$B123,'Daily Log'!$AY$18:$AY$1017),0)","v":0},{"$f":"IFERROR($E123*SUMIF('Daily Log'!$BA$18:$BA$1017,$B123,'Daily Log'!$BB$18:$BB$1017),0)","v":0},{"$f":"IFERROR($E123*SUMIF('Daily Log'!$BD$18:$BD$1017,$B123,'Daily Log'!$BE$18:$BE$1017),0)","v":0},{"$f":"IFERROR($E123*SUMIF('Daily Log'!$BG$18:$BG$1017,$B123,'Daily Log'!$BH$18:$BH$1017),0)","v":0},{"$f":"IFERROR($E123*SUMIF('Daily Log'!$BJ$18:$BJ$1017,$B123,'Daily Log'!$BK$18:$BK$1017),0)","v":0},{"$f":"IFERROR($E123*SUMIF('Daily Log'!$BM$18:$BM$1017,$B123,'Daily Log'!$BN$18:$BN$1017),0)","v":0},{"$f":"IFERROR($E123*SUMIF('Daily Log'!$BP$18:$BP$1017,$B123,'Daily Log'!$BQ$18:$BQ$1017),0)","v":0},{"$f":"IFERROR($E123*SUMIF('Daily Log'!$BS$18:$BS$1017,$B123,'Daily Log'!$BT$18:$BT$1017),0)","v":0},{"$f":"IFERROR($E123*SUMIF('Daily Log'!$BV$18:$BV$1017,$B123,'Daily Log'!$BW$18:$BW$1017),0)","v":0},{"$f":"IFERROR($E123*SUMIF('Daily Log'!$BY$18:$BY$1017,$B123,'Daily Log'!$BZ$18:$BZ$1017),0)","v":0},{"$f":"IFERROR($E123*SUMIF('Daily Log'!$CB$18:$CB$1017,$B123,'Daily Log'!$CC$18:$CC$1017),0)","v":0},{"$f":"IFERROR($E123*SUMIF('Daily Log'!$CE$18:$CE$1017,$B123,'Daily Log'!$CF$18:$CF$1017),0)","v":0},{"$f":"IFERROR($E123*SUMIF('Daily Log'!$CH$18:$CH$1017,$B123,'Daily Log'!$CI$18:$CI$1017),0)","v":0},{"$f":"IFERROR($E123*SUMIF('Daily Log'!$CK$18:$CK$1017,$B123,'Daily Log'!$CL$18:$CL$1017),0)","v":0},{"$f":"IFERROR($E123*SUMIF('Daily Log'!$CN$18:$CN$1017,$B123,'Daily Log'!$CO$18:$CO$1017),0)","v":0}]
[null,"11029:Lok35-炸芋头角",null,"LOK LOK ",1,35,{"$f":"IFERROR($E124*SUMIF('Daily Log'!$B$18:$B$1017,$B124,'Daily Log'!$C$18:$C$1017),0)","v":0},{"$f":"IFERROR($E124*SUMIF('Daily Log'!$E$18:$E$1017,$B124,'Daily Log'!$F$18:$F$1017),0)","v":0},{"$f":"IFERROR($E124*SUMIF('Daily Log'!$H$18:$H$1017,$B124,'Daily Log'!$I$18:$I$1017),0)","v":0},{"$f":"IFERROR($E124*SUMIF('Daily Log'!$K$18:$K$1017,$B124,'Daily Log'!$L$18:$L$1017),0)","v":0},{"$f":"IFERROR($E124*SUMIF('Daily Log'!$N$18:$N$1017,$B124,'Daily Log'!$O$18:$O$1017),0)","v":0},{"$f":"IFERROR($E124*SUMIF('Daily Log'!$Q$18:$Q$1017,$B124,'Daily Log'!$R$18:$R$1017),0)","v":0},{"$f":"IFERROR($E124*SUMIF('Daily Log'!$T$18:$T$1017,$B124,'Daily Log'!$U$18:$U$1017),0)","v":6},{"$f":"IFERROR($E124*SUMIF('Daily Log'!$W$18:$W$1017,$B124,'Daily Log'!$X$18:$X$1017),0)","v":1},{"$f":"IFERROR($E124*SUMIF('Daily Log'!$Z$18:$Z$1017,$B124,'Daily Log'!$AA$18:$AA$1017),0)","v":6},{"$f":"IFERROR($E124*SUMIF('Daily Log'!$AC$18:$AC$1017,$B124,'Daily Log'!$AD$18:$AD$1017),0)","v":3},{"$f":"IFERROR($E124*SUMIF('Daily Log'!$AF$18:$AF$1017,$B124,'Daily Log'!$AG$18:$AG$1017),0)","v":9},{"$f":"IFERROR($E124*SUMIF('Daily Log'!$AI$18:$AI$1017,$B124,'Daily Log'!$AJ$18:$AJ$1017),0)","v":5},{"$f":"IFERROR($E124*SUMIF('Daily Log'!$AL$18:$AL$1017,$B124,'Daily Log'!$AM$18:$AM$1017),0)","v":5},{"$f":"IFERROR($E124*SUMIF('Daily Log'!$AO$18:$AO$1017,$B124,'Daily Log'!$AP$18:$AP$1017),0)","v":0},{"$f":"IFERROR($E124*SUMIF('Daily Log'!$AR$18:$AR$1017,$B124,'Daily Log'!$AS$18:$AS$1017),0)","v":0},{"$f":"IFERROR($E124*SUMIF('Daily Log'!$AU$18:$AU$1017,$B124,'Daily Log'!$AV$18:$AV$1017),0)","v":0},{"$f":"IFERROR($E124*SUMIF('Daily Log'!$AX$18:$AX$1017,$B124,'Daily Log'!$AY$18:$AY$1017),0)","v":0},{"$f":"IFERROR($E124*SUMIF('Daily Log'!$BA$18:$BA$1017,$B124,'Daily Log'!$BB$18:$BB$1017),0)","v":0},{"$f":"IFERROR($E124*SUMIF('Daily Log'!$BD$18:$BD$1017,$B124,'Daily Log'!$BE$18:$BE$1017),0)","v":0},{"$f":"IFERROR($E124*SUMIF('Daily Log'!$BG$18:$BG$1017,$B124,'Daily Log'!$BH$18:$BH$1017),0)","v":0},{"$f":"IFERROR($E124*SUMIF('Daily Log'!$BJ$18:$BJ$1017,$B124,'Daily Log'!$BK$18:$BK$1017),0)","v":0},{"$f":"IFERROR($E124*SUMIF('Daily Log'!$BM$18:$BM$1017,$B124,'Daily Log'!$BN$18:$BN$1017),0)","v":0},{"$f":"IFERROR($E124*SUMIF('Daily Log'!$BP$18:$BP$1017,$B124,'Daily Log'!$BQ$18:$BQ$1017),0)","v":0},{"$f":"IFERROR($E124*SUMIF('Daily Log'!$BS$18:$BS$1017,$B124,'Daily Log'!$BT$18:$BT$1017),0)","v":0},{"$f":"IFERROR($E124*SUMIF('Daily Log'!$BV$18:$BV$1017,$B124,'Daily Log'!$BW$18:$BW$1017),0)","v":0},{"$f":"IFERROR($E124*SUMIF('Daily Log'!$BY$18:$BY$1017,$B124,'Daily Log'!$BZ$18:$BZ$1017),0)","v":0},{"$f":"IFERROR($E124*SUMIF('Daily Log'!$CB$18:$CB$1017,$B124,'Daily Log'!$CC$18:$CC$1017),0)","v":0},{"$f":"IFERROR($E124*SUMIF('Daily Log'!$CE$18:$CE$1017,$B124,'Daily Log'!$CF$18:$CF$1017),0)","v":0},{"$f":"IFERROR($E124*SUMIF('Daily Log'!$CH$18:$CH$1017,$B124,'Daily Log'!$CI$18:$CI$1017),0)","v":0},{"$f":"IFERROR($E124*SUMIF('Daily Log'!$CK$18:$CK$1017,$B124,'Daily Log'!$CL$18:$CL$1017),0)","v":0},{"$f":"IFERROR($E124*SUMIF('Daily Log'!$CN$18:$CN$1017,$B124,'Daily Log'!$CO$18:$CO$1017),0)","v":0}]
[null,"11030:Lok36-炸腐皮",null,"LOK LOK ",1,{"$f":"SUM($G125:$AK125)","v":63},{"$f":"IFERROR($E125*SUMIF('Daily Log'!$B$18:$B$1017,$B125,'Daily Log'!$C$18:$C$1017),0)","v":0},{"$f":"IFERROR($E125*SUMIF('Daily Log'!$E$18:$E$1017,$B125,'Daily Log'!$F$18:$F$1017),0)","v":0},{"$f":"IFERROR($E125*SUMIF('Daily Log'!$H$18:$H$1017,$B125,'Daily Log'!$I$18:$I$1017),0)","v":0},{"$f":"IFERROR($E125*SUMIF('Daily Log'!$K$18:$K$1017,$B125,'Daily Log'!$L$18:$L$1017),0)","v":0},{"$f":"IFERROR($E125*SUMIF('Daily Log'!$N$18:$N$1017,$B125,'Daily Log'!$O$18:$O$1017),0)","v":0},{"$f":"IFERROR($E125*SUMIF('Daily Log'!$Q$18:$Q$1017,$B125,'Daily Log'!$R$18:$R$1017),0)","v":0},{"$f":"IFERROR($E125*SUMIF('Daily Log'!$T$18:$T$1017,$B125,'Daily Log'!$U$18:$U$1017),0)","v":2},{"$f":"IFERROR($E125*SUMIF('Daily Log'!$W$18:$W$1017,$B125,'Daily Log'!$X$18:$X$1017),0)","v":5},{"$f":"IFERROR($E125*SUMIF('Daily Log'!$Z$18:$Z$1017,$B125,'Daily Log'!$AA$18:$AA$1017),0)","v":10},{"$f":"IFERROR($E125*SUMIF('Daily Log'!$AC$18:$AC$1017,$B125,'Daily Log'!$AD$18:$AD$1017),0)","v":7},{"$f":"IFERROR($E125*SUMIF('Daily Log'!$AF$18:$AF$1017,$B125,'Daily Log'!$AG$18:$AG$1017),0)","v":14},{"$f":"IFERROR($E125*SUMIF('Daily Log'!$AI$18:$AI$1017,$B125,'Daily Log'!$AJ$18:$AJ$1017),0)","v":14},{"$f":"IFERROR($E125*SUMIF('Daily Log'!$AL$18:$AL$1017,$B125,'Daily Log'!$AM$18:$AM$1017),0)","v":11},{"$f":"IFERROR($E125*SUMIF('Daily Log'!$AO$18:$AO$1017,$B125,'Daily Log'!$AP$18:$AP$1017),0)","v":0},{"$f":"IFERROR($E125*SUMIF('Daily Log'!$AR$18:$AR$1017,$B125,'Daily Log'!$AS$18:$AS$1017),0)","v":0},{"$f":"IFERROR($E125*SUMIF('Daily Log'!$AU$18:$AU$1017,$B125,'Daily Log'!$AV$18:$AV$1017),0)","v":0},{"$f":"IFERROR($E125*SUMIF('Daily Log'!$AX$18:$AX$1017,$B125,'Daily Log'!$AY$18:$AY$1017),0)","v":0},{"$f":"IFERROR($E125*SUMIF('Daily Log'!$BA$18:$BA$1017,$B125,'Daily Log'!$BB$18:$BB$1017),0)","v":0},{"$f":"IFERROR($E125*SUMIF('Daily Log'!$BD$18:$BD$1017,$B125,'Daily Log'!$BE$18:$BE$1017),0)","v":0},{"$f":"IFERROR($E125*SUMIF('Daily Log'!$BG$18:$BG$1017,$B125,'Daily Log'!$BH$18:$BH$1017),0)","v":0},{"$f":"IFERROR($E125*SUMIF('Daily Log'!$BJ$18:$BJ$1017,$B125,'Daily Log'!$BK$18:$BK$1017),0)","v":0},{"$f":"IFERROR($E125*SUMIF('Daily Log'!$BM$18:$BM$1017,$B125,'Daily Log'!$BN$18:$BN$1017),0)","v":0},{"$f":"IFERROR($E125*SUMIF('Daily Log'!$BP$18:$BP$1017,$B125,'Daily Log'!$BQ$18:$BQ$1017),0)","v":0},{"$f":"IFERROR($E125*SUMIF('Daily Log'!$BS$18:$BS$1017,$B125,'Daily Log'!$BT$18:$BT$1017),0)","v":0},{"$f":"IFERROR($E125*SUMIF('Daily Log'!$BV$18:$BV$1017,$B125,'Daily Log'!$BW$18:$BW$1017),0)","v":0},{"$f":"IFERROR($E125*SUMIF('Daily Log'!$BY$18:$BY$1017,$B125,'Daily Log'!$BZ$18:$BZ$1017),0)","v":0},{"$f":"IFERROR($E125*SUMIF('Daily Log'!$CB$18:$CB$1017,$B125,'Daily Log'!$CC$18:$CC$1017),0)","v":0},{"$f":"IFERROR($E125*SUMIF('Daily Log'!$CE$18:$CE$1017,$B125,'Daily Log'!$CF$18:$CF$1017),0)","v":0},{"$f":"IFERROR($E125*SUMIF('Daily Log'!$CH$18:$CH$1017,$B125,'Daily Log'!$CI$18:$CI$1017),0)","v":0},{"$f":"IFERROR($E125*SUMIF('Daily Log'!$CK$18:$CK$1017,$B125,'Daily Log'!$CL$18:$CL$1017),0)","v":0},{"$f":"IFERROR($E125*SUMIF('Daily Log'!$CN$18:$CN$1017,$B125,'Daily Log'!$CO$18:$CO$1017),0)","v":0}]
[null,"11031:Lok37-豆卜",null,"LOK LOK ",1,6,{"$f":"IFERROR($E126*SUMIF('Daily Log'!$B$18:$B$1017,$B126,'Daily Log'!$C$18:$C$1017),0)","v":0},{"$f":"IFERROR($E126*SUMIF('Daily Log'!$E$18:$E$1017,$B126,'Daily Log'!$F$18:$F$1017),0)","v":0},{"$f":"IFERROR($E126*SUMIF('Daily Log'!$H$18:$H$1017,$B126,'Daily Log'!$I$18:$I$1017),0)","v":0},{"$f":"IFERROR($E126*SUMIF('Daily Log'!$K$18:$K$1017,$B126,'Daily Log'!$L$18:$L$1017),0)","v":0},{"$f":"IFERROR($E126*SUMIF('Daily Log'!$N$18:$N$1017,$B126,'Daily Log'!$O$18:$O$1017),0)","v":0},{"$f":"IFERROR($E126*SUMIF('Daily Log'!$Q$18:$Q$1017,$B126,'Daily Log'!$R$18:$R$1017),0)","v":0},{"$f":"IFERROR($E126*SUMIF('Daily Log'!$T$18:$T$1017,$B126,'Daily Log'!$U$18:$U$1017),0)","v":1},{"$f":"IFERROR($E126*SUMIF('Daily Log'!$W$18:$W$1017,$B126,'Daily Log'!$X$18:$X$1017),0)","v":0},{"$f":"IFERROR($E126*SUMIF('Daily Log'!$Z$18:$Z$1017,$B126,'Daily Log'!$AA$18:$AA$1017),0)","v":1},{"$f":"IFERROR($E126*SUMIF('Daily Log'!$AC$18:$AC$1017,$B126,'Daily Log'!$AD$18:$AD$1017),0)","v":0},{"$f":"IFERROR($E126*SUMIF('Daily Log'!$AF$18:$AF$1017,$B126,'Daily Log'!$AG$18:$AG$1017),0)","v":0},{"$f":"IFERROR($E126*SUMIF('Daily Log'!$AI$18:$AI$1017,$B126,'Daily Log'!$AJ$18:$AJ$1017),0)","v":3},{"$f":"IFERROR($E126*SUMIF('Daily Log'!$AL$18:$AL$1017,$B126,'Daily Log'!$AM$18:$AM$1017),0)","v":1},{"$f":"IFERROR($E126*SUMIF('Daily Log'!$AO$18:$AO$1017,$B126,'Daily Log'!$AP$18:$AP$1017),0)","v":0},{"$f":"IFERROR($E126*SUMIF('Daily Log'!$AR$18:$AR$1017,$B126,'Daily Log'!$AS$18:$AS$1017),0)","v":0},{"$f":"IFERROR($E126*SUMIF('Daily Log'!$AU$18:$AU$1017,$B126,'Daily Log'!$AV$18:$AV$1017),0)","v":0},{"$f":"IFERROR($E126*SUMIF('Daily Log'!$AX$18:$AX$1017,$B126,'Daily Log'!$AY$18:$AY$1017),0)","v":0},{"$f":"IFERROR($E126*SUMIF('Daily Log'!$BA$18:$BA$1017,$B126,'Daily Log'!$BB$18:$BB$1017),0)","v":0},{"$f":"IFERROR($E126*SUMIF('Daily Log'!$BD$18:$BD$1017,$B126,'Daily Log'!$BE$18:$BE$1017),0)","v":0},{"$f":"IFERROR($E126*SUMIF('Daily Log'!$BG$18:$BG$1017,$B126,'Daily Log'!$BH$18:$BH$1017),0)","v":0},{"$f":"IFERROR($E126*SUMIF('Daily Log'!$BJ$18:$BJ$1017,$B126,'Daily Log'!$BK$18:$BK$1017),0)","v":0},{"$f":"IFERROR($E126*SUMIF('Daily Log'!$BM$18:$BM$1017,$B126,'Daily Log'!$BN$18:$BN$1017),0)","v":0},{"$f":"IFERROR($E126*SUMIF('Daily Log'!$BP$18:$BP$1017,$B126,'Daily Log'!$BQ$18:$BQ$1017),0)","v":0},{"$f":"IFERROR($E126*SUMIF('Daily Log'!$BS$18:$BS$1017,$B126,'Daily Log'!$BT$18:$BT$1017),0)","v":0},{"$f":"IFERROR($E126*SUMIF('Daily Log'!$BV$18:$BV$1017,$B126,'Daily Log'!$BW$18:$BW$1017),0)","v":0},{"$f":"IFERROR($E126*SUMIF('Daily Log'!$BY$18:$BY$1017,$B126,'Daily Log'!$BZ$18:$BZ$1017),0)","v":0},{"$f":"IFERROR($E126*SUMIF('Daily Log'!$CB$18:$CB$1017,$B126,'Daily Log'!$CC$18:$CC$1017),0)","v":0},{"$f":"IFERROR($E126*SUMIF('Daily Log'!$CE$18:$CE$1017,$B126,'Daily Log'!$CF$18:$CF$1017),0)","v":0},{"$f":"IFERROR($E126*SUMIF('Daily Log'!$CH$18:$CH$1017,$B126,'Daily Log'!$CI$18:$CI$1017),0)","v":0},{"$f":"IFERROR($E126*SUMIF('Daily Log'!$CK$18:$CK$1017,$B126,'Daily Log'!$CL$18:$CL$1017),0)","v":0},{"$f":"IFERROR($E126*SUMIF('Daily Log'!$CN$18:$CN$1017,$B126,'Daily Log'!$CO$18:$CO$1017),0)","v":0}]
[null,"11032:Lok40-鹌鹑蛋",null,"LOK LOK ",1,30,{"$f":"IFERROR($E127*SUMIF('Daily Log'!$B$18:$B$1017,$B127,'Daily Log'!$C$18:$C$1017),0)","v":0},{"$f":"IFERROR($E127*SUMIF('Daily Log'!$E$18:$E$1017,$B127,'Daily Log'!$F$18:$F$1017),0)","v":0},{"$f":"IFERROR($E127*SUMIF('Daily Log'!$H$18:$H$1017,$B127,'Daily Log'!$I$18:$I$1017),0)","v":0},{"$f":"IFERROR($E127*SUMIF('Daily Log'!$K$18:$K$1017,$B127,'Daily Log'!$L$18:$L$1017),0)","v":0},{"$f":"IFERROR($E127*SUMIF('Daily Log'!$N$18:$N$1017,$B127,'Daily Log'!$O$18:$O$1017),0)","v":0},{"$f":"IFERROR($E127*SUMIF('Daily Log'!$Q$18:$Q$1017,$B127,'Daily Log'!$R$18:$R$1017),0)","v":0},{"$f":"IFERROR($E127*SUMIF('Daily Log'!$T$18:$T$1017,$B127,'Daily Log'!$U$18:$U$1017),0)","v":2},{"$f":"IFERROR($E127*SUMIF('Daily Log'!$W$18:$W$1017,$B127,'Daily Log'!$X$18:$X$1017),0)","v":4},{"$f":"IFERROR($E127*SUMIF('Daily Log'!$Z$18:$Z$1017,$B127,'Daily Log'!$AA$18:$AA$1017),0)","v":8},{"$f":"IFERROR($E127*SUMIF('Daily Log'!$AC$18:$AC$1017,$B127,'Daily Log'!$AD$18:$AD$1017),0)","v":3},{"$f":"IFERROR($E127*SUMIF('Daily Log'!$AF$18:$AF$1017,$B127,'Daily Log'!$AG$18:$AG$1017),0)","v":2},{"$f":"IFERROR($E127*SUMIF('Daily Log'!$AI$18:$AI$1017,$B127,'Daily Log'!$AJ$18:$AJ$1017),0)","v":5},{"$f":"IFERROR($E127*SUMIF('Daily Log'!$AL$18:$AL$1017,$B127,'Daily Log'!$AM$18:$AM$1017),0)","v":6},{"$f":"IFERROR($E127*SUMIF('Daily Log'!$AO$18:$AO$1017,$B127,'Daily Log'!$AP$18:$AP$1017),0)","v":0},{"$f":"IFERROR($E127*SUMIF('Daily Log'!$AR$18:$AR$1017,$B127,'Daily Log'!$AS$18:$AS$1017),0)","v":0},{"$f":"IFERROR($E127*SUMIF('Daily Log'!$AU$18:$AU$1017,$B127,'Daily Log'!$AV$18:$AV$1017),0)","v":0},{"$f":"IFERROR($E127*SUMIF('Daily Log'!$AX$18:$AX$1017,$B127,'Daily Log'!$AY$18:$AY$1017),0)","v":0},{"$f":"IFERROR($E127*SUMIF('Daily Log'!$BA$18:$BA$1017,$B127,'Daily Log'!$BB$18:$BB$1017),0)","v":0},{"$f":"IFERROR($E127*SUMIF('Daily Log'!$BD$18:$BD$1017,$B127,'Daily Log'!$BE$18:$BE$1017),0)","v":0},{"$f":"IFERROR($E127*SUMIF('Daily Log'!$BG$18:$BG$1017,$B127,'Daily Log'!$BH$18:$BH$1017),0)","v":0},{"$f":"IFERROR($E127*SUMIF('Daily Log'!$BJ$18:$BJ$1017,$B127,'Daily Log'!$BK$18:$BK$1017),0)","v":0},{"$f":"IFERROR($E127*SUMIF('Daily Log'!$BM$18:$BM$1017,$B127,'Daily Log'!$BN$18:$BN$1017),0)","v":0},{"$f":"IFERROR($E127*SUMIF('Daily Log'!$BP$18:$BP$1017,$B127,'Daily Log'!$BQ$18:$BQ$1017),0)","v":0},{"$f":"IFERROR($E127*SUMIF('Daily Log'!$BS$18:$BS$1017,$B127,'Daily Log'!$BT$18:$BT$1017),0)","v":0},{"$f":"IFERROR($E127*SUMIF('Daily Log'!$BV$18:$BV$1017,$B127,'Daily Log'!$BW$18:$BW$1017),0)","v":0},{"$f":"IFERROR($E127*SUMIF('Daily Log'!$BY$18:$BY$1017,$B127,'Daily Log'!$BZ$18:$BZ$1017),0)","v":0},{"$f":"IFERROR($E127*SUMIF('Daily Log'!$CB$18:$CB$1017,$B127,'Daily Log'!$CC$18:$CC$1017),0)","v":0},{"$f":"IFERROR($E127*SUMIF('Daily Log'!$CE$18:$CE$1017,$B127,'Daily Log'!$CF$18:$CF$1017),0)","v":0},{"$f":"IFERROR($E127*SUMIF('Daily Log'!$CH$18:$CH$1017,$B127,'Daily Log'!$CI$18:$CI$1017),0)","v":0},{"$f":"IFERROR($E127*SUMIF('Daily Log'!$CK$18:$CK$1017,$B127,'Daily Log'!$CL$18:$CL$1017),0)","v":0},{"$f":"IFERROR($E127*SUMIF('Daily Log'!$CN$18:$CN$1017,$B127,'Daily Log'!$CO$18:$CO$1017),0)","v":0}]
[null,"11033:Lok44-鹌鹑皮蛋",null,"LOK LOK ",1,30,{"$f":"IFERROR($E128*SUMIF('Daily Log'!$B$18:$B$1017,$B128,'Daily Log'!$C$18:$C$1017),0)","v":0},{"$f":"IFERROR($E128*SUMIF('Daily Log'!$E$18:$E$1017,$B128,'Daily Log'!$F$18:$F$1017),0)","v":0},{"$f":"IFERROR($E128*SUMIF('Daily Log'!$H$18:$H$1017,$B128,'Daily Log'!$I$18:$I$1017),0)","v":0},{"$f":"IFERROR($E128*SUMIF('Daily Log'!$K$18:$K$1017,$B128,'Daily Log'!$L$18:$L$1017),0)","v":0},{"$f":"IFERROR($E128*SUMIF('Daily Log'!$N$18:$N$1017,$B128,'Daily Log'!$O$18:$O$1017),0)","v":0},{"$f":"IFERROR($E128*SUMIF('Daily Log'!$Q$18:$Q$1017,$B128,'Daily Log'!$R$18:$R$1017),0)","v":0},{"$f":"IFERROR($E128*SUMIF('Daily Log'!$T$18:$T$1017,$B128,'Daily Log'!$U$18:$U$1017),0)","v":5},{"$f":"IFERROR($E128*SUMIF('Daily Log'!$W$18:$W$1017,$B128,'Daily Log'!$X$18:$X$1017),0)","v":6},{"$f":"IFERROR($E128*SUMIF('Daily Log'!$Z$18:$Z$1017,$B128,'Daily Log'!$AA$18:$AA$1017),0)","v":4},{"$f":"IFERROR($E128*SUMIF('Daily Log'!$AC$18:$AC$1017,$B128,'Daily Log'!$AD$18:$AD$1017),0)","v":2},{"$f":"IFERROR($E128*SUMIF('Daily Log'!$AF$18:$AF$1017,$B128,'Daily Log'!$AG$18:$AG$1017),0)","v":3},{"$f":"IFERROR($E128*SUMIF('Daily Log'!$AI$18:$AI$1017,$B128,'Daily Log'!$AJ$18:$AJ$1017),0)","v":5},{"$f":"IFERROR($E128*SUMIF('Daily Log'!$AL$18:$AL$1017,$B128,'Daily Log'!$AM$18:$AM$1017),0)","v":5},{"$f":"IFERROR($E128*SUMIF('Daily Log'!$AO$18:$AO$1017,$B128,'Daily Log'!$AP$18:$AP$1017),0)","v":0},{"$f":"IFERROR($E128*SUMIF('Daily Log'!$AR$18:$AR$1017,$B128,'Daily Log'!$AS$18:$AS$1017),0)","v":0},{"$f":"IFERROR($E128*SUMIF('Daily Log'!$AU$18:$AU$1017,$B128,'Daily Log'!$AV$18:$AV$1017),0)","v":0},{"$f":"IFERROR($E128*SUMIF('Daily Log'!$AX$18:$AX$1017,$B128,'Daily Log'!$AY$18:$AY$1017),0)","v":0},{"$f":"IFERROR($E128*SUMIF('Daily Log'!$BA$18:$BA$1017,$B128,'Daily Log'!$BB$18:$BB$1017),0)","v":0},{"$f":"IFERROR($E128*SUMIF('Daily Log'!$BD$18:$BD$1017,$B128,'Daily Log'!$BE$18:$BE$1017),0)","v":0},{"$f":"IFERROR($E128*SUMIF('Daily Log'!$BG$18:$BG$1017,$B128,'Daily Log'!$BH$18:$BH$1017),0)","v":0},{"$f":"IFERROR($E128*SUMIF('Daily Log'!$BJ$18:$BJ$1017,$B128,'Daily Log'!$BK$18:$BK$1017),0)","v":0},{"$f":"IFERROR($E128*SUMIF('Daily Log'!$BM$18:$BM$1017,$B128,'Daily Log'!$BN$18:$BN$1017),0)","v":0},{"$f":"IFERROR($E128*SUMIF('Daily Log'!$BP$18:$BP$1017,$B128,'Daily Log'!$BQ$18:$BQ$1017),0)","v":0},{"$f":"IFERROR($E128*SUMIF('Daily Log'!$BS$18:$BS$1017,$B128,'Daily Log'!$BT$18:$BT$1017),0)","v":0},{"$f":"IFERROR($E128*SUMIF('Daily Log'!$BV$18:$BV$1017,$B128,'Daily Log'!$BW$18:$BW$1017),0)","v":0},{"$f":"IFERROR($E128*SUMIF('Daily Log'!$BY$18:$BY$1017,$B128,'Daily Log'!$BZ$18:$BZ$1017),0)","v":0},{"$f":"IFERROR($E128*SUMIF('Daily Log'!$CB$18:$CB$1017,$B128,'Daily Log'!$CC$18:$CC$1017),0)","v":0},{"$f":"IFERROR($E128*SUMIF('Daily Log'!$CE$18:$CE$1017,$B128,'Daily Log'!$CF$18:$CF$1017),0)","v":0},{"$f":"IFERROR($E128*SUMIF('Daily Log'!$CH$18:$CH$1017,$B128,'Daily Log'!$CI$18:$CI$1017),0)","v":0},{"$f":"IFERROR($E128*SUMIF('Daily Log'!$CK$18:$CK$1017,$B128,'Daily Log'!$CL$18:$CL$1017),0)","v":0},{"$f":"IFERROR($E128*SUMIF('Daily Log'!$CN$18:$CN$1017,$B128,'Daily Log'!$CO$18:$CO$1017),0)","v":0}]
[null,"11034:Lok45-海鲜豆腐",null,"LOK LOK ",1,52,{"$f":"IFERROR($E129*SUMIF('Daily Log'!$B$18:$B$1017,$B129,'Daily Log'!$C$18:$C$1017),0)","v":0},{"$f":"IFERROR($E129*SUMIF('Daily Log'!$E$18:$E$1017,$B129,'Daily Log'!$F$18:$F$1017),0)","v":0},{"$f":"IFERROR($E129*SUMIF('Daily Log'!$H$18:$H$1017,$B129,'Daily Log'!$I$18:$I$1017),0)","v":0},{"$f":"IFERROR($E129*SUMIF('Daily Log'!$K$18:$K$1017,$B129,'Daily Log'!$L$18:$L$1017),0)","v":0},{"$f":"IFERROR($E129*SUMIF('Daily Log'!$N$18:$N$1017,$B129,'Daily Log'!$O$18:$O$1017),0)","v":0},{"$f":"IFERROR($E129*SUMIF('Daily Log'!$Q$18:$Q$1017,$B129,'Daily Log'!$R$18:$R$1017),0)","v":0},{"$f":"IFERROR($E129*SUMIF('Daily Log'!$T$18:$T$1017,$B129,'Daily Log'!$U$18:$U$1017),0)","v":7},{"$f":"IFERROR($E129*SUMIF('Daily Log'!$W$18:$W$1017,$B129,'Daily Log'!$X$18:$X$1017),0)","v":5},{"$f":"IFERROR($E129*SUMIF('Daily Log'!$Z$18:$Z$1017,$B129,'Daily Log'!$AA$18:$AA$1017),0)","v":3},{"$f":"IFERROR($E129*SUMIF('Daily Log'!$AC$18:$AC$1017,$B129,'Daily Log'!$AD$18:$AD$1017),0)","v":5},{"$f":"IFERROR($E129*SUMIF('Daily Log'!$AF$18:$AF$1017,$B129,'Daily Log'!$AG$18:$AG$1017),0)","v":13},{"$f":"IFERROR($E129*SUMIF('Daily Log'!$AI$18:$AI$1017,$B129,'Daily Log'!$AJ$18:$AJ$1017),0)","v":6},{"$f":"IFERROR($E129*SUMIF('Daily Log'!$AL$18:$AL$1017,$B129,'Daily Log'!$AM$18:$AM$1017),0)","v":13},{"$f":"IFERROR($E129*SUMIF('Daily Log'!$AO$18:$AO$1017,$B129,'Daily Log'!$AP$18:$AP$1017),0)","v":0},{"$f":"IFERROR($E129*SUMIF('Daily Log'!$AR$18:$AR$1017,$B129,'Daily Log'!$AS$18:$AS$1017),0)","v":0},{"$f":"IFERROR($E129*SUMIF('Daily Log'!$AU$18:$AU$1017,$B129,'Daily Log'!$AV$18:$AV$1017),0)","v":0},{"$f":"IFERROR($E129*SUMIF('Daily Log'!$AX$18:$AX$1017,$B129,'Daily Log'!$AY$18:$AY$1017),0)","v":0},{"$f":"IFERROR($E129*SUMIF('Daily Log'!$BA$18:$BA$1017,$B129,'Daily Log'!$BB$18:$BB$1017),0)","v":0},{"$f":"IFERROR($E129*SUMIF('Daily Log'!$BD$18:$BD$1017,$B129,'Daily Log'!$BE$18:$BE$1017),0)","v":0},{"$f":"IFERROR($E129*SUMIF('Daily Log'!$BG$18:$BG$1017,$B129,'Daily Log'!$BH$18:$BH$1017),0)","v":0},{"$f":"IFERROR($E129*SUMIF('Daily Log'!$BJ$18:$BJ$1017,$B129,'Daily Log'!$BK$18:$BK$1017),0)","v":0},{"$f":"IFERROR($E129*SUMIF('Daily Log'!$BM$18:$BM$1017,$B129,'Daily Log'!$BN$18:$BN$1017),0)","v":0},{"$f":"IFERROR($E129*SUMIF('Daily Log'!$BP$18:$BP$1017,$B129,'Daily Log'!$BQ$18:$BQ$1017),0)","v":0},{"$f":"IFERROR($E129*SUMIF('Daily Log'!$BS$18:$BS$1017,$B129,'Daily Log'!$BT$18:$BT$1017),0)","v":0},{"$f":"IFERROR($E129*SUMIF('Daily Log'!$BV$18:$BV$1017,$B129,'Daily Log'!$BW$18:$BW$1017),0)","v":0},{"$f":"IFERROR($E129*SUMIF('Daily Log'!$BY$18:$BY$1017,$B129,'Daily Log'!$BZ$18:$BZ$1017),0)","v":0},{"$f":"IFERROR($E129*SUMIF('Daily Log'!$CB$18:$CB$1017,$B129,'Daily Log'!$CC$18:$CC$1017),0)","v":0},{"$f":"IFERROR($E129*SUMIF('Daily Log'!$CE$18:$CE$1017,$B129,'Daily Log'!$CF$18:$CF$1017),0)","v":0},{"$f":"IFERROR($E129*SUMIF('Daily Log'!$CH$18:$CH$1017,$B129,'Daily Log'!$CI$18:$CI$1017),0)","v":0},{"$f":"IFERROR($E129*SUMIF('Daily Log'!$CK$18:$CK$1017,$B129,'Daily Log'!$CL$18:$CL$1017),0)","v":0},{"$f":"IFERROR($E129*SUMIF('Daily Log'!$CN$18:$CN$1017,$B129,'Daily Log'!$CO$18:$CO$1017),0)","v":0}]
[null,"11035:Lok05-豆苗火腿",null,"LOK LOK ",1,18,{"$f":"IFERROR($E130*SUMIF('Daily Log'!$B$18:$B$1017,$B130,'Daily Log'!$C$18:$C$1017),0)","v":0},{"$f":"IFERROR($E130*SUMIF('Daily Log'!$E$18:$E$1017,$B130,'Daily Log'!$F$18:$F$1017),0)","v":0},{"$f":"IFERROR($E130*SUMIF('Daily Log'!$H$18:$H$1017,$B130,'Daily Log'!$I$18:$I$1017),0)","v":0},{"$f":"IFERROR($E130*SUMIF('Daily Log'!$K$18:$K$1017,$B130,'Daily Log'!$L$18:$L$1017),0)","v":0},{"$f":"IFERROR($E130*SUMIF('Daily Log'!$N$18:$N$1017,$B130,'Daily Log'!$O$18:$O$1017),0)","v":0},{"$f":"IFERROR($E130*SUMIF('Daily Log'!$Q$18:$Q$1017,$B130,'Daily Log'!$R$18:$R$1017),0)","v":0},{"$f":"IFERROR($E130*SUMIF('Daily Log'!$T$18:$T$1017,$B130,'Daily Log'!$U$18:$U$1017),0)","v":3},{"$f":"IFERROR($E130*SUMIF('Daily Log'!$W$18:$W$1017,$B130,'Daily Log'!$X$18:$X$1017),0)","v":1},{"$f":"IFERROR($E130*SUMIF('Daily Log'!$Z$18:$Z$1017,$B130,'Daily Log'!$AA$18:$AA$1017),0)","v":2},{"$f":"IFERROR($E130*SUMIF('Daily Log'!$AC$18:$AC$1017,$B130,'Daily Log'!$AD$18:$AD$1017),0)","v":4},{"$f":"IFERROR($E130*SUMIF('Daily Log'!$AF$18:$AF$1017,$B130,'Daily Log'!$AG$18:$AG$1017),0)","v":2},{"$f":"IFERROR($E130*SUMIF('Daily Log'!$AI$18:$AI$1017,$B130,'Daily Log'!$AJ$18:$AJ$1017),0)","v":2},{"$f":"IFERROR($E130*SUMIF('Daily Log'!$AL$18:$AL$1017,$B130,'Daily Log'!$AM$18:$AM$1017),0)","v":4},{"$f":"IFERROR($E130*SUMIF('Daily Log'!$AO$18:$AO$1017,$B130,'Daily Log'!$AP$18:$AP$1017),0)","v":0},{"$f":"IFERROR($E130*SUMIF('Daily Log'!$AR$18:$AR$1017,$B130,'Daily Log'!$AS$18:$AS$1017),0)","v":0},{"$f":"IFERROR($E130*SUMIF('Daily Log'!$AU$18:$AU$1017,$B130,'Daily Log'!$AV$18:$AV$1017),0)","v":0},{"$f":"IFERROR($E130*SUMIF('Daily Log'!$AX$18:$AX$1017,$B130,'Daily Log'!$AY$18:$AY$1017),0)","v":0},{"$f":"IFERROR($E130*SUMIF('Daily Log'!$BA$18:$BA$1017,$B130,'Daily Log'!$BB$18:$BB$1017),0)","v":0},{"$f":"IFERROR($E130*SUMIF('Daily Log'!$BD$18:$BD$1017,$B130,'Daily Log'!$BE$18:$BE$1017),0)","v":0},{"$f":"IFERROR($E130*SUMIF('Daily Log'!$BG$18:$BG$1017,$B130,'Daily Log'!$BH$18:$BH$1017),0)","v":0},{"$f":"IFERROR($E130*SUMIF('Daily Log'!$BJ$18:$BJ$1017,$B130,'Daily Log'!$BK$18:$BK$1017),0)","v":0},{"$f":"IFERROR($E130*SUMIF('Daily Log'!$BM$18:$BM$1017,$B130,'Daily Log'!$BN$18:$BN$1017),0)","v":0},{"$f":"IFERROR($E130*SUMIF('Daily Log'!$BP$18:$BP$1017,$B130,'Daily Log'!$BQ$18:$BQ$1017),0)","v":0},{"$f":"IFERROR($E130*SUMIF('Daily Log'!$BS$18:$BS$1017,$B130,'Daily Log'!$BT$18:$BT$1017),0)","v":0},{"$f":"IFERROR($E130*SUMIF('Daily Log'!$BV$18:$BV$1017,$B130,'Daily Log'!$BW$18:$BW$1017),0)","v":0},{"$f":"IFERROR($E130*SUMIF('Daily Log'!$BY$18:$BY$1017,$B130,'Daily Log'!$BZ$18:$BZ$1017),0)","v":0},{"$f":"IFERROR($E130*SUMIF('Daily Log'!$CB$18:$CB$1017,$B130,'Daily Log'!$CC$18:$CC$1017),0)","v":0},{"$f":"IFERROR($E130*SUMIF('Daily Log'!$CE$18:$CE$1017,$B130,'Daily Log'!$CF$18:$CF$1017),0)","v":0},{"$f":"IFERROR($E130*SUMIF('Daily Log'!$CH$18:$CH$1017,$B130,'Daily Log'!$CI$18:$CI$1017),0)","v":0},{"$f":"IFERROR($E130*SUMIF('Daily Log'!$CK$18:$CK$1017,$B130,'Daily Log'!$CL$18:$CL$1017),0)","v":0},{"$f":"IFERROR($E130*SUMIF('Daily Log'!$CN$18:$CN$1017,$B130,'Daily Log'!$CO$18:$CO$1017),0)","v":0}]
[null,"11036:Lok08-火鸡串",null,"LOK LOK ",1,6,{"$f":"IFERROR($E131*SUMIF('Daily Log'!$B$18:$B$1017,$B131,'Daily Log'!$C$18:$C$1017),0)","v":0},{"$f":"IFERROR($E131*SUMIF('Daily Log'!$E$18:$E$1017,$B131,'Daily Log'!$F$18:$F$1017),0)","v":0},{"$f":"IFERROR($E131*SUMIF('Daily Log'!$H$18:$H$1017,$B131,'Daily Log'!$I$18:$I$1017),0)","v":0},{"$f":"IFERROR($E131*SUMIF('Daily Log'!$K$18:$K$1017,$B131,'Daily Log'!$L$18:$L$1017),0)","v":0},{"$f":"IFERROR($E131*SUMIF('Daily Log'!$N$18:$N$1017,$B131,'Daily Log'!$O$18:$O$1017),0)","v":0},{"$f":"IFERROR($E131*SUMIF('Daily Log'!$Q$18:$Q$1017,$B131,'Daily Log'!$R$18:$R$1017),0)","v":0},{"$f":"IFERROR($E131*SUMIF('Daily Log'!$T$18:$T$1017,$B131,'Daily Log'!$U$18:$U$1017),0)","v":2},{"$f":"IFERROR($E131*SUMIF('Daily Log'!$W$18:$W$1017,$B131,'Daily Log'!$X$18:$X$1017),0)","v":0},{"$f":"IFERROR($E131*SUMIF('Daily Log'!$Z$18:$Z$1017,$B131,'Daily Log'!$AA$18:$AA$1017),0)","v":0},{"$f":"IFERROR($E131*SUMIF('Daily Log'!$AC$18:$AC$1017,$B131,'Daily Log'!$AD$18:$AD$1017),0)","v":2},{"$f":"IFERROR($E131*SUMIF('Daily Log'!$AF$18:$AF$1017,$B131,'Daily Log'!$AG$18:$AG$1017),0)","v":0},{"$f":"IFERROR($E131*SUMIF('Daily Log'!$AI$18:$AI$1017,$B131,'Daily Log'!$AJ$18:$AJ$1017),0)","v":2},{"$f":"IFERROR($E131*SUMIF('Daily Log'!$AL$18:$AL$1017,$B131,'Daily Log'!$AM$18:$AM$1017),0)","v":0},{"$f":"IFERROR($E131*SUMIF('Daily Log'!$AO$18:$AO$1017,$B131,'Daily Log'!$AP$18:$AP$1017),0)","v":0},{"$f":"IFERROR($E131*SUMIF('Daily Log'!$AR$18:$AR$1017,$B131,'Daily Log'!$AS$18:$AS$1017),0)","v":0},{"$f":"IFERROR($E131*SUMIF('Daily Log'!$AU$18:$AU$1017,$B131,'Daily Log'!$AV$18:$AV$1017),0)","v":0},{"$f":"IFERROR($E131*SUMIF('Daily Log'!$AX$18:$AX$1017,$B131,'Daily Log'!$AY$18:$AY$1017),0)","v":0},{"$f":"IFERROR($E131*SUMIF('Daily Log'!$BA$18:$BA$1017,$B131,'Daily Log'!$BB$18:$BB$1017),0)","v":0},{"$f":"IFERROR($E131*SUMIF('Daily Log'!$BD$18:$BD$1017,$B131,'Daily Log'!$BE$18:$BE$1017),0)","v":0},{"$f":"IFERROR($E131*SUMIF('Daily Log'!$BG$18:$BG$1017,$B131,'Daily Log'!$BH$18:$BH$1017),0)","v":0},{"$f":"IFERROR($E131*SUMIF('Daily Log'!$BJ$18:$BJ$1017,$B131,'Daily Log'!$BK$18:$BK$1017),0)","v":0},{"$f":"IFERROR($E131*SUMIF('Daily Log'!$BM$18:$BM$1017,$B131,'Daily Log'!$BN$18:$BN$1017),0)","v":0},{"$f":"IFERROR($E131*SUMIF('Daily Log'!$BP$18:$BP$1017,$B131,'Daily Log'!$BQ$18:$BQ$1017),0)","v":0},{"$f":"IFERROR($E131*SUMIF('Daily Log'!$BS$18:$BS$1017,$B131,'Daily Log'!$BT$18:$BT$1017),0)","v":0},{"$f":"IFERROR($E131*SUMIF('Daily Log'!$BV$18:$BV$1017,$B131,'Daily Log'!$BW$18:$BW$1017),0)","v":0},{"$f":"IFERROR($E131*SUMIF('Daily Log'!$BY$18:$BY$1017,$B131,'Daily Log'!$BZ$18:$BZ$1017),0)","v":0},{"$f":"IFERROR($E131*SUMIF('Daily Log'!$CB$18:$CB$1017,$B131,'Daily Log'!$CC$18:$CC$1017),0)","v":0},{"$f":"IFERROR($E131*SUMIF('Daily Log'!$CE$18:$CE$1017,$B131,'Daily Log'!$CF$18:$CF$1017),0)","v":0},{"$f":"IFERROR($E131*SUMIF('Daily Log'!$CH$18:$CH$1017,$B131,'Daily Log'!$CI$18:$CI$1017),0)","v":0},{"$f":"IFERROR($E131*SUMIF('Daily Log'!$CK$18:$CK$1017,$B131,'Daily Log'!$CL$18:$CL$1017),0)","v":0},{"$f":"IFERROR($E131*SUMIF('Daily Log'!$CN$18:$CN$1017,$B131,'Daily Log'!$CO$18:$CO$1017),0)","v":0}]
[null,"11037:Lok09-芝士火腿",null,"LOK LOK ",1,31,{"$f":"IFERROR($E132*SUMIF('Daily Log'!$B$18:$B$1017,$B132,'Daily Log'!$C$18:$C$1017),0)","v":0},{"$f":"IFERROR($E132*SUMIF('Daily Log'!$E$18:$E$1017,$B132,'Daily Log'!$F$18:$F$1017),0)","v":0},{"$f":"IFERROR($E132*SUMIF('Daily Log'!$H$18:$H$1017,$B132,'Daily Log'!$I$18:$I$1017),0)","v":0},{"$f":"IFERROR($E132*SUMIF('Daily Log'!$K$18:$K$1017,$B132,'Daily Log'!$L$18:$L$1017),0)","v":0},{"$f":"IFERROR($E132*SUMIF('Daily Log'!$N$18:$N$1017,$B132,'Daily Log'!$O$18:$O$1017),0)","v":0},{"$f":"IFERROR($E132*SUMIF('Daily Log'!$Q$18:$Q$1017,$B132,'Daily Log'!$R$18:$R$1017),0)","v":0},{"$f":"IFERROR($E132*SUMIF('Daily Log'!$T$18:$T$1017,$B132,'Daily Log'!$U$18:$U$1017),0)","v":3},{"$f":"IFERROR($E132*SUMIF('Daily Log'!$W$18:$W$1017,$B132,'Daily Log'!$X$18:$X$1017),0)","v":2},{"$f":"IFERROR($E132*SUMIF('Daily Log'!$Z$18:$Z$1017,$B132,'Daily Log'!$AA$18:$AA$1017),0)","v":3},{"$f":"IFERROR($E132*SUMIF('Daily Log'!$AC$18:$AC$1017,$B132,'Daily Log'!$AD$18:$AD$1017),0)","v":7},{"$f":"IFERROR($E132*SUMIF('Daily Log'!$AF$18:$AF$1017,$B132,'Daily Log'!$AG$18:$AG$1017),0)","v":5},{"$f":"IFERROR($E132*SUMIF('Daily Log'!$AI$18:$AI$1017,$B132,'Daily Log'!$AJ$18:$AJ$1017),0)","v":5},{"$f":"IFERROR($E132*SUMIF('Daily Log'!$AL$18:$AL$1017,$B132,'Daily Log'!$AM$18:$AM$1017),0)","v":6},{"$f":"IFERROR($E132*SUMIF('Daily Log'!$AO$18:$AO$1017,$B132,'Daily Log'!$AP$18:$AP$1017),0)","v":0},{"$f":"IFERROR($E132*SUMIF('Daily Log'!$AR$18:$AR$1017,$B132,'Daily Log'!$AS$18:$AS$1017),0)","v":0},{"$f":"IFERROR($E132*SUMIF('Daily Log'!$AU$18:$AU$1017,$B132,'Daily Log'!$AV$18:$AV$1017),0)","v":0},{"$f":"IFERROR($E132*SUMIF('Daily Log'!$AX$18:$AX$1017,$B132,'Daily Log'!$AY$18:$AY$1017),0)","v":0},{"$f":"IFERROR($E132*SUMIF('Daily Log'!$BA$18:$BA$1017,$B132,'Daily Log'!$BB$18:$BB$1017),0)","v":0},{"$f":"IFERROR($E132*SUMIF('Daily Log'!$BD$18:$BD$1017,$B132,'Daily Log'!$BE$18:$BE$1017),0)","v":0},{"$f":"IFERROR($E132*SUMIF('Daily Log'!$BG$18:$BG$1017,$B132,'Daily Log'!$BH$18:$BH$1017),0)","v":0},{"$f":"IFERROR($E132*SUMIF('Daily Log'!$BJ$18:$BJ$1017,$B132,'Daily Log'!$BK$18:$BK$1017),0)","v":0},{"$f":"IFERROR($E132*SUMIF('Daily Log'!$BM$18:$BM$1017,$B132,'Daily Log'!$BN$18:$BN$1017),0)","v":0},{"$f":"IFERROR($E132*SUMIF('Daily Log'!$BP$18:$BP$1017,$B132,'Daily Log'!$BQ$18:$BQ$1017),0)","v":0},{"$f":"IFERROR($E132*SUMIF('Daily Log'!$BS$18:$BS$1017,$B132,'Daily Log'!$BT$18:$BT$1017),0)","v":0},{"$f":"IFERROR($E132*SUMIF('Daily Log'!$BV$18:$BV$1017,$B132,'Daily Log'!$BW$18:$BW$1017),0)","v":0},{"$f":"IFERROR($E132*SUMIF('Daily Log'!$BY$18:$BY$1017,$B132,'Daily Log'!$BZ$18:$BZ$1017),0)","v":0},{"$f":"IFERROR($E132*SUMIF('Daily Log'!$CB$18:$CB$1017,$B132,'Daily Log'!$CC$18:$CC$1017),0)","v":0},{"$f":"IFERROR($E132*SUMIF('Daily Log'!$CE$18:$CE$1017,$B132,'Daily Log'!$CF$18:$CF$1017),0)","v":0},{"$f":"IFERROR($E132*SUMIF('Daily Log'!$CH$18:$CH$1017,$B132,'Daily Log'!$CI$18:$CI$1017),0)","v":0},{"$f":"IFERROR($E132*SUMIF('Daily Log'!$CK$18:$CK$1017,$B132,'Daily Log'!$CL$18:$CL$1017),0)","v":0},{"$f":"IFERROR($E132*SUMIF('Daily Log'!$CN$18:$CN$1017,$B132,'Daily Log'!$CO$18:$CO$1017),0)","v":0}]
[null,"11038:Lok10-蟹肉火腿",null,"LOK LOK ",1,6,{"$f":"IFERROR($E133*SUMIF('Daily Log'!$B$18:$B$1017,$B133,'Daily Log'!$C$18:$C$1017),0)","v":0},{"$f":"IFERROR($E133*SUMIF('Daily Log'!$E$18:$E$1017,$B133,'Daily Log'!$F$18:$F$1017),0)","v":0},{"$f":"IFERROR($E133*SUMIF('Daily Log'!$H$18:$H$1017,$B133,'Daily Log'!$I$18:$I$1017),0)","v":0},{"$f":"IFERROR($E133*SUMIF('Daily Log'!$K$18:$K$1017,$B133,'Daily Log'!$L$18:$L$1017),0)","v":0},{"$f":"IFERROR($E133*SUMIF('Daily Log'!$N$18:$N$1017,$B133,'Daily Log'!$O$18:$O$1017),0)","v":0},{"$f":"IFERROR($E133*SUMIF('Daily Log'!$Q$18:$Q$1017,$B133,'Daily Log'!$R$18:$R$1017),0)","v":0},{"$f":"IFERROR($E133*SUMIF('Daily Log'!$T$18:$T$1017,$B133,'Daily Log'!$U$18:$U$1017),0)","v":1},{"$f":"IFERROR($E133*SUMIF('Daily Log'!$W$18:$W$1017,$B133,'Daily Log'!$X$18:$X$1017),0)","v":1},{"$f":"IFERROR($E133*SUMIF('Daily Log'!$Z$18:$Z$1017,$B133,'Daily Log'!$AA$18:$AA$1017),0)","v":1},{"$f":"IFERROR($E133*SUMIF('Daily Log'!$AC$18:$AC$1017,$B133,'Daily Log'!$AD$18:$AD$1017),0)","v":0},{"$f":"IFERROR($E133*SUMIF('Daily Log'!$AF$18:$AF$1017,$B133,'Daily Log'!$AG$18:$AG$1017),0)","v":1},{"$f":"IFERROR($E133*SUMIF('Daily Log'!$AI$18:$AI$1017,$B133,'Daily Log'!$AJ$18:$AJ$1017),0)","v":0},{"$f":"IFERROR($E133*SUMIF('Daily Log'!$AL$18:$AL$1017,$B133,'Daily Log'!$AM$18:$AM$1017),0)","v":2},{"$f":"IFERROR($E133*SUMIF('Daily Log'!$AO$18:$AO$1017,$B133,'Daily Log'!$AP$18:$AP$1017),0)","v":0},{"$f":"IFERROR($E133*SUMIF('Daily Log'!$AR$18:$AR$1017,$B133,'Daily Log'!$AS$18:$AS$1017),0)","v":0},{"$f":"IFERROR($E133*SUMIF('Daily Log'!$AU$18:$AU$1017,$B133,'Daily Log'!$AV$18:$AV$1017),0)","v":0},{"$f":"IFERROR($E133*SUMIF('Daily Log'!$AX$18:$AX$1017,$B133,'Daily Log'!$AY$18:$AY$1017),0)","v":0},{"$f":"IFERROR($E133*SUMIF('Daily Log'!$BA$18:$BA$1017,$B133,'Daily Log'!$BB$18:$BB$1017),0)","v":0},{"$f":"IFERROR($E133*SUMIF('Daily Log'!$BD$18:$BD$1017,$B133,'Daily Log'!$BE$18:$BE$1017),0)","v":0},{"$f":"IFERROR($E133*SUMIF('Daily Log'!$BG$18:$BG$1017,$B133,'Daily Log'!$BH$18:$BH$1017),0)","v":0},{"$f":"IFERROR($E133*SUMIF('Daily Log'!$BJ$18:$BJ$1017,$B133,'Daily Log'!$BK$18:$BK$1017),0)","v":0},{"$f":"IFERROR($E133*SUMIF('Daily Log'!$BM$18:$BM$1017,$B133,'Daily Log'!$BN$18:$BN$1017),0)","v":0},{"$f":"IFERROR($E133*SUMIF('Daily Log'!$BP$18:$BP$1017,$B133,'Daily Log'!$BQ$18:$BQ$1017),0)","v":0},{"$f":"IFERROR($E133*SUMIF('Daily Log'!$BS$18:$BS$1017,$B133,'Daily Log'!$BT$18:$BT$1017),0)","v":0},{"$f":"IFERROR($E133*SUMIF('Daily Log'!$BV$18:$BV$1017,$B133,'Daily Log'!$BW$18:$BW$1017),0)","v":0},{"$f":"IFERROR($E133*SUMIF('Daily Log'!$BY$18:$BY$1017,$B133,'Daily Log'!$BZ$18:$BZ$1017),0)","v":0},{"$f":"IFERROR($E133*SUMIF('Daily Log'!$CB$18:$CB$1017,$B133,'Daily Log'!$CC$18:$CC$1017),0)","v":0},{"$f":"IFERROR($E133*SUMIF('Daily Log'!$CE$18:$CE$1017,$B133,'Daily Log'!$CF$18:$CF$1017),0)","v":0},{"$f":"IFERROR($E133*SUMIF('Daily Log'!$CH$18:$CH$1017,$B133,'Daily Log'!$CI$18:$CI$1017),0)","v":0},{"$f":"IFERROR($E133*SUMIF('Daily Log'!$CK$18:$CK$1017,$B133,'Daily Log'!$CL$18:$CL$1017),0)","v":0},{"$f":"IFERROR($E133*SUMIF('Daily Log'!$CN$18:$CN$1017,$B133,'Daily Log'!$CO$18:$CO$1017),0)","v":0}]
[null,"11039:Lok11-炸鸡球",null,"LOK LOK ",1,6,{"$f":"IFERROR($E134*SUMIF('Daily Log'!$B$18:$B$1017,$B134,'Daily Log'!$C$18:$C$1017),0)","v":0},{"$f":"IFERROR($E134*SUMIF('Daily Log'!$E$18:$E$1017,$B134,'Daily Log'!$F$18:$F$1017),0)","v":0},{"$f":"IFERROR($E134*SUMIF('Daily Log'!$H$18:$H$1017,$B134,'Daily Log'!$I$18:$I$1017),0)","v":0},{"$f":"IFERROR($E134*SUMIF('Daily Log'!$K$18:$K$1017,$B134,'Daily Log'!$L$18:$L$1017),0)","v":0},{"$f":"IFERROR($E134*SUMIF('Daily Log'!$N$18:$N$1017,$B134,'Daily Log'!$O$18:$O$1017),0)","v":0},{"$f":"IFERROR($E134*SUMIF('Daily Log'!$Q$18:$Q$1017,$B134,'Daily Log'!$R$18:$R$1017),0)","v":0},{"$f":"IFERROR($E134*SUMIF('Daily Log'!$T$18:$T$1017,$B134,'Daily Log'!$U$18:$U$1017),0)","v":0},{"$f":"IFERROR($E134*SUMIF('Daily Log'!$W$18:$W$1017,$B134,'Daily Log'!$X$18:$X$1017),0)","v":1},{"$f":"IFERROR($E134*SUMIF('Daily Log'!$Z$18:$Z$1017,$B134,'Daily Log'!$AA$18:$AA$1017),0)","v":0},{"$f":"IFERROR($E134*SUMIF('Daily Log'!$AC$18:$AC$1017,$B134,'Daily Log'!$AD$18:$AD$1017),0)","v":1},{"$f":"IFERROR($E134*SUMIF('Daily Log'!$AF$18:$AF$1017,$B134,'Daily Log'!$AG$18:$AG$1017),0)","v":1},{"$f":"IFERROR($E134*SUMIF('Daily Log'!$AI$18:$AI$1017,$B134,'Daily Log'!$AJ$18:$AJ$1017),0)","v":2},{"$f":"IFERROR($E134*SUMIF('Daily Log'!$AL$18:$AL$1017,$B134,'Daily Log'!$AM$18:$AM$1017),0)","v":1},{"$f":"IFERROR($E134*SUMIF('Daily Log'!$AO$18:$AO$1017,$B134,'Daily Log'!$AP$18:$AP$1017),0)","v":0},{"$f":"IFERROR($E134*SUMIF('Daily Log'!$AR$18:$AR$1017,$B134,'Daily Log'!$AS$18:$AS$1017),0)","v":0},{"$f":"IFERROR($E134*SUMIF('Daily Log'!$AU$18:$AU$1017,$B134,'Daily Log'!$AV$18:$AV$1017),0)","v":0},{"$f":"IFERROR($E134*SUMIF('Daily Log'!$AX$18:$AX$1017,$B134,'Daily Log'!$AY$18:$AY$1017),0)","v":0},{"$f":"IFERROR($E134*SUMIF('Daily Log'!$BA$18:$BA$1017,$B134,'Daily Log'!$BB$18:$BB$1017),0)","v":0},{"$f":"IFERROR($E134*SUMIF('Daily Log'!$BD$18:$BD$1017,$B134,'Daily Log'!$BE$18:$BE$1017),0)","v":0},{"$f":"IFERROR($E134*SUMIF('Daily Log'!$BG$18:$BG$1017,$B134,'Daily Log'!$BH$18:$BH$1017),0)","v":0},{"$f":"IFERROR($E134*SUMIF('Daily Log'!$BJ$18:$BJ$1017,$B134,'Daily Log'!$BK$18:$BK$1017),0)","v":0},{"$f":"IFERROR($E134*SUMIF('Daily Log'!$BM$18:$BM$1017,$B134,'Daily Log'!$BN$18:$BN$1017),0)","v":0},{"$f":"IFERROR($E134*SUMIF('Daily Log'!$BP$18:$BP$1017,$B134,'Daily Log'!$BQ$18:$BQ$1017),0)","v":0},{"$f":"IFERROR($E134*SUMIF('Daily Log'!$BS$18:$BS$1017,$B134,'Daily Log'!$BT$18:$BT$1017),0)","v":0},{"$f":"IFERROR($E134*SUMIF('Daily Log'!$BV$18:$BV$1017,$B134,'Daily Log'!$BW$18:$BW$1017),0)","v":0},{"$f":"IFERROR($E134*SUMIF('Daily Log'!$BY$18:$BY$1017,$B134,'Daily Log'!$BZ$18:$BZ$1017),0)","v":0},{"$f":"IFERROR($E134*SUMIF('Daily Log'!$CB$18:$CB$1017,$B134,'Daily Log'!$CC$18:$CC$1017),0)","v":0},{"$f":"IFERROR($E134*SUMIF('Daily Log'!$CE$18:$CE$1017,$B134,'Daily Log'!$CF$18:$CF$1017),0)","v":0},{"$f":"IFERROR($E134*SUMIF('Daily Log'!$CH$18:$CH$1017,$B134,'Daily Log'!$CI$18:$CI$1017),0)","v":0},{"$f":"IFERROR($E134*SUMIF('Daily Log'!$CK$18:$CK$1017,$B134,'Daily Log'!$CL$18:$CL$1017),0)","v":0},{"$f":"IFERROR($E134*SUMIF('Daily Log'!$CN$18:$CN$1017,$B134,'Daily Log'!$CO$18:$CO$1017),0)","v":0}]
[null,"11040:Lok13-鸡肉带子壳",null,"LOK LOK ",1,1,{"$f":"IFERROR($E135*SUMIF('Daily Log'!$B$18:$B$1017,$B135,'Daily Log'!$C$18:$C$1017),0)","v":0},{"$f":"IFERROR($E135*SUMIF('Daily Log'!$E$18:$E$1017,$B135,'Daily Log'!$F$18:$F$1017),0)","v":0},{"$f":"IFERROR($E135*SUMIF('Daily Log'!$H$18:$H$1017,$B135,'Daily Log'!$I$18:$I$1017),0)","v":0},{"$f":"IFERROR($E135*SUMIF('Daily Log'!$K$18:$K$1017,$B135,'Daily Log'!$L$18:$L$1017),0)","v":0},{"$f":"IFERROR($E135*SUMIF('Daily Log'!$N$18:$N$1017,$B135,'Daily Log'!$O$18:$O$1017),0)","v":0},{"$f":"IFERROR($E135*SUMIF('Daily Log'!$Q$18:$Q$1017,$B135,'Daily Log'!$R$18:$R$1017),0)","v":0},{"$f":"IFERROR($E135*SUMIF('Daily Log'!$T$18:$T$1017,$B135,'Daily Log'!$U$18:$U$1017),0)","v":0},{"$f":"IFERROR($E135*SUMIF('Daily Log'!$W$18:$W$1017,$B135,'Daily Log'!$X$18:$X$1017),0)","v":0},{"$f":"IFERROR($E135*SUMIF('Daily Log'!$Z$18:$Z$1017,$B135,'Daily Log'!$AA$18:$AA$1017),0)","v":0},{"$f":"IFERROR($E135*SUMIF('Daily Log'!$AC$18:$AC$1017,$B135,'Daily Log'!$AD$18:$AD$1017),0)","v":0},{"$f":"IFERROR($E135*SUMIF('Daily Log'!$AF$18:$AF$1017,$B135,'Daily Log'!$AG$18:$AG$1017),0)","v":0},{"$f":"IFERROR($E135*SUMIF('Daily Log'!$AI$18:$AI$1017,$B135,'Daily Log'!$AJ$18:$AJ$1017),0)","v":0},{"$f":"IFERROR($E135*SUMIF('Daily Log'!$AL$18:$AL$1017,$B135,'Daily Log'!$AM$18:$AM$1017),0)","v":1},{"$f":"IFERROR($E135*SUMIF('Daily Log'!$AO$18:$AO$1017,$B135,'Daily Log'!$AP$18:$AP$1017),0)","v":0},{"$f":"IFERROR($E135*SUMIF('Daily Log'!$AR$18:$AR$1017,$B135,'Daily Log'!$AS$18:$AS$1017),0)","v":0},{"$f":"IFERROR($E135*SUMIF('Daily Log'!$AU$18:$AU$1017,$B135,'Daily Log'!$AV$18:$AV$1017),0)","v":0},{"$f":"IFERROR($E135*SUMIF('Daily Log'!$AX$18:$AX$1017,$B135,'Daily Log'!$AY$18:$AY$1017),0)","v":0},{"$f":"IFERROR($E135*SUMIF('Daily Log'!$BA$18:$BA$1017,$B135,'Daily Log'!$BB$18:$BB$1017),0)","v":0},{"$f":"IFERROR($E135*SUMIF('Daily Log'!$BD$18:$BD$1017,$B135,'Daily Log'!$BE$18:$BE$1017),0)","v":0},{"$f":"IFERROR($E135*SUMIF('Daily Log'!$BG$18:$BG$1017,$B135,'Daily Log'!$BH$18:$BH$1017),0)","v":0},{"$f":"IFERROR($E135*SUMIF('Daily Log'!$BJ$18:$BJ$1017,$B135,'Daily Log'!$BK$18:$BK$1017),0)","v":0},{"$f":"IFERROR($E135*SUMIF('Daily Log'!$BM$18:$BM$1017,$B135,'Daily Log'!$BN$18:$BN$1017),0)","v":0},{"$f":"IFERROR($E135*SUMIF('Daily Log'!$BP$18:$BP$1017,$B135,'Daily Log'!$BQ$18:$BQ$1017),0)","v":0},{"$f":"IFERROR($E135*SUMIF('Daily Log'!$BS$18:$BS$1017,$B135,'Daily Log'!$BT$18:$BT$1017),0)","v":0},{"$f":"IFERROR($E135*SUMIF('Daily Log'!$BV$18:$BV$1017,$B135,'Daily Log'!$BW$18:$BW$1017),0)","v":0},{"$f":"IFERROR($E135*SUMIF('Daily Log'!$BY$18:$BY$1017,$B135,'Daily Log'!$BZ$18:$BZ$1017),0)","v":0},{"$f":"IFERROR($E135*SUMIF('Daily Log'!$CB$18:$CB$1017,$B135,'Daily Log'!$CC$18:$CC$1017),0)","v":0},{"$f":"IFERROR($E135*SUMIF('Daily Log'!$CE$18:$CE$1017,$B135,'Daily Log'!$CF$18:$CF$1017),0)","v":0},{"$f":"IFERROR($E135*SUMIF('Daily Log'!$CH$18:$CH$1017,$B135,'Daily Log'!$CI$18:$CI$1017),0)","v":0},{"$f":"IFERROR($E135*SUMIF('Daily Log'!$CK$18:$CK$1017,$B135,'Daily Log'!$CL$18:$CL$1017),0)","v":0},{"$f":"IFERROR($E135*SUMIF('Daily Log'!$CN$18:$CN$1017,$B135,'Daily Log'!$CO$18:$CO$1017),0)","v":0}]
[null,"11041:Lok14-鸡肉腊肠",null,"LOK LOK ",1,10,{"$f":"IFERROR($E136*SUMIF('Daily Log'!$B$18:$B$1017,$B136,'Daily Log'!$C$18:$C$1017),0)","v":0},{"$f":"IFERROR($E136*SUMIF('Daily Log'!$E$18:$E$1017,$B136,'Daily Log'!$F$18:$F$1017),0)","v":0},{"$f":"IFERROR($E136*SUMIF('Daily Log'!$H$18:$H$1017,$B136,'Daily Log'!$I$18:$I$1017),0)","v":0},{"$f":"IFERROR($E136*SUMIF('Daily Log'!$K$18:$K$1017,$B136,'Daily Log'!$L$18:$L$1017),0)","v":0},{"$f":"IFERROR($E136*SUMIF('Daily Log'!$N$18:$N$1017,$B136,'Daily Log'!$O$18:$O$1017),0)","v":0},{"$f":"IFERROR($E136*SUMIF('Daily Log'!$Q$18:$Q$1017,$B136,'Daily Log'!$R$18:$R$1017),0)","v":0},{"$f":"IFERROR($E136*SUMIF('Daily Log'!$T$18:$T$1017,$B136,'Daily Log'!$U$18:$U$1017),0)","v":0},{"$f":"IFERROR($E136*SUMIF('Daily Log'!$W$18:$W$1017,$B136,'Daily Log'!$X$18:$X$1017),0)","v":2},{"$f":"IFERROR($E136*SUMIF('Daily Log'!$Z$18:$Z$1017,$B136,'Daily Log'!$AA$18:$AA$1017),0)","v":3},{"$f":"IFERROR($E136*SUMIF('Daily Log'!$AC$18:$AC$1017,$B136,'Daily Log'!$AD$18:$AD$1017),0)","v":1},{"$f":"IFERROR($E136*SUMIF('Daily Log'!$AF$18:$AF$1017,$B136,'Daily Log'!$AG$18:$AG$1017),0)","v":3},{"$f":"IFERROR($E136*SUMIF('Daily Log'!$AI$18:$AI$1017,$B136,'Daily Log'!$AJ$18:$AJ$1017),0)","v":0},{"$f":"IFERROR($E136*SUMIF('Daily Log'!$AL$18:$AL$1017,$B136,'Daily Log'!$AM$18:$AM$1017),0)","v":1},{"$f":"IFERROR($E136*SUMIF('Daily Log'!$AO$18:$AO$1017,$B136,'Daily Log'!$AP$18:$AP$1017),0)","v":0},{"$f":"IFERROR($E136*SUMIF('Daily Log'!$AR$18:$AR$1017,$B136,'Daily Log'!$AS$18:$AS$1017),0)","v":0},{"$f":"IFERROR($E136*SUMIF('Daily Log'!$AU$18:$AU$1017,$B136,'Daily Log'!$AV$18:$AV$1017),0)","v":0},{"$f":"IFERROR($E136*SUMIF('Daily Log'!$AX$18:$AX$1017,$B136,'Daily Log'!$AY$18:$AY$1017),0)","v":0},{"$f":"IFERROR($E136*SUMIF('Daily Log'!$BA$18:$BA$1017,$B136,'Daily Log'!$BB$18:$BB$1017),0)","v":0},{"$f":"IFERROR($E136*SUMIF('Daily Log'!$BD$18:$BD$1017,$B136,'Daily Log'!$BE$18:$BE$1017),0)","v":0},{"$f":"IFERROR($E136*SUMIF('Daily Log'!$BG$18:$BG$1017,$B136,'Daily Log'!$BH$18:$BH$1017),0)","v":0},{"$f":"IFERROR($E136*SUMIF('Daily Log'!$BJ$18:$BJ$1017,$B136,'Daily Log'!$BK$18:$BK$1017),0)","v":0},{"$f":"IFERROR($E136*SUMIF('Daily Log'!$BM$18:$BM$1017,$B136,'Daily Log'!$BN$18:$BN$1017),0)","v":0},{"$f":"IFERROR($E136*SUMIF('Daily Log'!$BP$18:$BP$1017,$B136,'Daily Log'!$BQ$18:$BQ$1017),0)","v":0},{"$f":"IFERROR($E136*SUMIF('Daily Log'!$BS$18:$BS$1017,$B136,'Daily Log'!$BT$18:$BT$1017),0)","v":0},{"$f":"IFERROR($E136*SUMIF('Daily Log'!$BV$18:$BV$1017,$B136,'Daily Log'!$BW$18:$BW$1017),0)","v":0},{"$f":"IFERROR($E136*SUMIF('Daily Log'!$BY$18:$BY$1017,$B136,'Daily Log'!$BZ$18:$BZ$1017),0)","v":0},{"$f":"IFERROR($E136*SUMIF('Daily Log'!$CB$18:$CB$1017,$B136,'Daily Log'!$CC$18:$CC$1017),0)","v":0},{"$f":"IFERROR($E136*SUMIF('Daily Log'!$CE$18:$CE$1017,$B136,'Daily Log'!$CF$18:$CF$1017),0)","v":0},{"$f":"IFERROR($E136*SUMIF('Daily Log'!$CH$18:$CH$1017,$B136,'Daily Log'!$CI$18:$CI$1017),0)","v":0},{"$f":"IFERROR($E136*SUMIF('Daily Log'!$CK$18:$CK$1017,$B136,'Daily Log'!$CL$18:$CL$1017),0)","v":0},{"$f":"IFERROR($E136*SUMIF('Daily Log'!$CN$18:$CN$1017,$B136,'Daily Log'!$CO$18:$CO$1017),0)","v":0}]
[null,"11042:Lok19-黄金烧卖",null,"LOK LOK ",1,15,{"$f":"IFERROR($E137*SUMIF('Daily Log'!$B$18:$B$1017,$B137,'Daily Log'!$C$18:$C$1017),0)","v":0},{"$f":"IFERROR($E137*SUMIF('Daily Log'!$E$18:$E$1017,$B137,'Daily Log'!$F$18:$F$1017),0)","v":0},{"$f":"IFERROR($E137*SUMIF('Daily Log'!$H$18:$H$1017,$B137,'Daily Log'!$I$18:$I$1017),0)","v":0},{"$f":"IFERROR($E137*SUMIF('Daily Log'!$K$18:$K$1017,$B137,'Daily Log'!$L$18:$L$1017),0)","v":0},{"$f":"IFERROR($E137*SUMIF('Daily Log'!$N$18:$N$1017,$B137,'Daily Log'!$O$18:$O$1017),0)","v":0},{"$f":"IFERROR($E137*SUMIF('Daily Log'!$Q$18:$Q$1017,$B137,'Daily Log'!$R$18:$R$1017),0)","v":0},{"$f":"IFERROR($E137*SUMIF('Daily Log'!$T$18:$T$1017,$B137,'Daily Log'!$U$18:$U$1017),0)","v":0},{"$f":"IFERROR($E137*SUMIF('Daily Log'!$W$18:$W$1017,$B137,'Daily Log'!$X$18:$X$1017),0)","v":2},{"$f":"IFERROR($E137*SUMIF('Daily Log'!$Z$18:$Z$1017,$B137,'Daily Log'!$AA$18:$AA$1017),0)","v":0},{"$f":"IFERROR($E137*SUMIF('Daily Log'!$AC$18:$AC$1017,$B137,'Daily Log'!$AD$18:$AD$1017),0)","v":5},{"$f":"IFERROR($E137*SUMIF('Daily Log'!$AF$18:$AF$1017,$B137,'Daily Log'!$AG$18:$AG$1017),0)","v":3},{"$f":"IFERROR($E137*SUMIF('Daily Log'!$AI$18:$AI$1017,$B137,'Daily Log'!$AJ$18:$AJ$1017),0)","v":0},{"$f":"IFERROR($E137*SUMIF('Daily Log'!$AL$18:$AL$1017,$B137,'Daily Log'!$AM$18:$AM$1017),0)","v":5},{"$f":"IFERROR($E137*SUMIF('Daily Log'!$AO$18:$AO$1017,$B137,'Daily Log'!$AP$18:$AP$1017),0)","v":0},{"$f":"IFERROR($E137*SUMIF('Daily Log'!$AR$18:$AR$1017,$B137,'Daily Log'!$AS$18:$AS$1017),0)","v":0},{"$f":"IFERROR($E137*SUMIF('Daily Log'!$AU$18:$AU$1017,$B137,'Daily Log'!$AV$18:$AV$1017),0)","v":0},{"$f":"IFERROR($E137*SUMIF('Daily Log'!$AX$18:$AX$1017,$B137,'Daily Log'!$AY$18:$AY$1017),0)","v":0},{"$f":"IFERROR($E137*SUMIF('Daily Log'!$BA$18:$BA$1017,$B137,'Daily Log'!$BB$18:$BB$1017),0)","v":0},{"$f":"IFERROR($E137*SUMIF('Daily Log'!$BD$18:$BD$1017,$B137,'Daily Log'!$BE$18:$BE$1017),0)","v":0},{"$f":"IFERROR($E137*SUMIF('Daily Log'!$BG$18:$BG$1017,$B137,'Daily Log'!$BH$18:$BH$1017),0)","v":0},{"$f":"IFERROR($E137*SUMIF('Daily Log'!$BJ$18:$BJ$1017,$B137,'Daily Log'!$BK$18:$BK$1017),0)","v":0},{"$f":"IFERROR($E137*SUMIF('Daily Log'!$BM$18:$BM$1017,$B137,'Daily Log'!$BN$18:$BN$1017),0)","v":0},{"$f":"IFERROR($E137*SUMIF('Daily Log'!$BP$18:$BP$1017,$B137,'Daily Log'!$BQ$18:$BQ$1017),0)","v":0},{"$f":"IFERROR($E137*SUMIF('Daily Log'!$BS$18:$BS$1017,$B137,'Daily Log'!$BT$18:$BT$1017),0)","v":0},{"$f":"IFERROR($E137*SUMIF('Daily Log'!$BV$18:$BV$1017,$B137,'Daily Log'!$BW$18:$BW$1017),0)","v":0},{"$f":"IFERROR($E137*SUMIF('Daily Log'!$BY$18:$BY$1017,$B137,'Daily Log'!$BZ$18:$BZ$1017),0)","v":0},{"$f":"IFERROR($E137*SUMIF('Daily Log'!$CB$18:$CB$1017,$B137,'Daily Log'!$CC$18:$CC$1017),0)","v":0},{"$f":"IFERROR($E137*SUMIF('Daily Log'!$CE$18:$CE$1017,$B137,'Daily Log'!$CF$18:$CF$1017),0)","v":0},{"$f":"IFERROR($E137*SUMIF('Daily Log'!$CH$18:$CH$1017,$B137,'Daily Log'!$CI$18:$CI$1017),0)","v":0},{"$f":"IFERROR($E137*SUMIF('Daily Log'!$CK$18:$CK$1017,$B137,'Daily Log'!$CL$18:$CL$1017),0)","v":0},{"$f":"IFERROR($E137*SUMIF('Daily Log'!$CN$18:$CN$1017,$B137,'Daily Log'!$CO$18:$CO$1017),0)","v":0}]
[null,"11043:Lok22-南乳炸肉",null,"LOK LOK ",1,7,{"$f":"IFERROR($E138*SUMIF('Daily Log'!$B$18:$B$1017,$B138,'Daily Log'!$C$18:$C$1017),0)","v":0},{"$f":"IFERROR($E138*SUMIF('Daily Log'!$E$18:$E$1017,$B138,'Daily Log'!$F$18:$F$1017),0)","v":0},{"$f":"IFERROR($E138*SUMIF('Daily Log'!$H$18:$H$1017,$B138,'Daily Log'!$I$18:$I$1017),0)","v":0},{"$f":"IFERROR($E138*SUMIF('Daily Log'!$K$18:$K$1017,$B138,'Daily Log'!$L$18:$L$1017),0)","v":0},{"$f":"IFERROR($E138*SUMIF('Daily Log'!$N$18:$N$1017,$B138,'Daily Log'!$O$18:$O$1017),0)","v":0},{"$f":"IFERROR($E138*SUMIF('Daily Log'!$Q$18:$Q$1017,$B138,'Daily Log'!$R$18:$R$1017),0)","v":0},{"$f":"IFERROR($E138*SUMIF('Daily Log'!$T$18:$T$1017,$B138,'Daily Log'!$U$18:$U$1017),0)","v":0},{"$f":"IFERROR($E138*SUMIF('Daily Log'!$W$18:$W$1017,$B138,'Daily Log'!$X$18:$X$1017),0)","v":0},{"$f":"IFERROR($E138*SUMIF('Daily Log'!$Z$18:$Z$1017,$B138,'Daily Log'!$AA$18:$AA$1017),0)","v":3},{"$f":"IFERROR($E138*SUMIF('Daily Log'!$AC$18:$AC$1017,$B138,'Daily Log'!$AD$18:$AD$1017),0)","v":0},{"$f":"IFERROR($E138*SUMIF('Daily Log'!$AF$18:$AF$1017,$B138,'Daily Log'!$AG$18:$AG$1017),0)","v":0},{"$f":"IFERROR($E138*SUMIF('Daily Log'!$AI$18:$AI$1017,$B138,'Daily Log'!$AJ$18:$AJ$1017),0)","v":3},{"$f":"IFERROR($E138*SUMIF('Daily Log'!$AL$18:$AL$1017,$B138,'Daily Log'!$AM$18:$AM$1017),0)","v":1},{"$f":"IFERROR($E138*SUMIF('Daily Log'!$AO$18:$AO$1017,$B138,'Daily Log'!$AP$18:$AP$1017),0)","v":0},{"$f":"IFERROR($E138*SUMIF('Daily Log'!$AR$18:$AR$1017,$B138,'Daily Log'!$AS$18:$AS$1017),0)","v":0},{"$f":"IFERROR($E138*SUMIF('Daily Log'!$AU$18:$AU$1017,$B138,'Daily Log'!$AV$18:$AV$1017),0)","v":0},{"$f":"IFERROR($E138*SUMIF('Daily Log'!$AX$18:$AX$1017,$B138,'Daily Log'!$AY$18:$AY$1017),0)","v":0},{"$f":"IFERROR($E138*SUMIF('Daily Log'!$BA$18:$BA$1017,$B138,'Daily Log'!$BB$18:$BB$1017),0)","v":0},{"$f":"IFERROR($E138*SUMIF('Daily Log'!$BD$18:$BD$1017,$B138,'Daily Log'!$BE$18:$BE$1017),0)","v":0},{"$f":"IFERROR($E138*SUMIF('Daily Log'!$BG$18:$BG$1017,$B138,'Daily Log'!$BH$18:$BH$1017),0)","v":0},{"$f":"IFERROR($E138*SUMIF('Daily Log'!$BJ$18:$BJ$1017,$B138,'Daily Log'!$BK$18:$BK$1017),0)","v":0},{"$f":"IFERROR($E138*SUMIF('Daily Log'!$BM$18:$BM$1017,$B138,'Daily Log'!$BN$18:$BN$1017),0)","v":0},{"$f":"IFERROR($E138*SUMIF('Daily Log'!$BP$18:$BP$1017,$B138,'Daily Log'!$BQ$18:$BQ$1017),0)","v":0},{"$f":"IFERROR($E138*SUMIF('Daily Log'!$BS$18:$BS$1017,$B138,'Daily Log'!$BT$18:$BT$1017),0)","v":0},{"$f":"IFERROR($E138*SUMIF('Daily Log'!$BV$18:$BV$1017,$B138,'Daily Log'!$BW$18:$BW$1017),0)","v":0},{"$f":"IFERROR($E138*SUMIF('Daily Log'!$BY$18:$BY$1017,$B138,'Daily Log'!$BZ$18:$BZ$1017),0)","v":0},{"$f":"IFERROR($E138*SUMIF('Daily Log'!$CB$18:$CB$1017,$B138,'Daily Log'!$CC$18:$CC$1017),0)","v":0},{"$f":"IFERROR($E138*SUMIF('Daily Log'!$CE$18:$CE$1017,$B138,'Daily Log'!$CF$18:$CF$1017),0)","v":0},{"$f":"IFERROR($E138*SUMIF('Daily Log'!$CH$18:$CH$1017,$B138,'Daily Log'!$CI$18:$CI$1017),0)","v":0},{"$f":"IFERROR($E138*SUMIF('Daily Log'!$CK$18:$CK$1017,$B138,'Daily Log'!$CL$18:$CL$1017),0)","v":0},{"$f":"IFERROR($E138*SUMIF('Daily Log'!$CN$18:$CN$1017,$B138,'Daily Log'!$CO$18:$CO$1017),0)","v":0}]
[null,"11044:Lok27-白雪菇",null,"LOK LOK ",1,16,{"$f":"IFERROR($E139*SUMIF('Daily Log'!$B$18:$B$1017,$B139,'Daily Log'!$C$18:$C$1017),0)","v":0},{"$f":"IFERROR($E139*SUMIF('Daily Log'!$E$18:$E$1017,$B139,'Daily Log'!$F$18:$F$1017),0)","v":0},{"$f":"IFERROR($E139*SUMIF('Daily Log'!$H$18:$H$1017,$B139,'Daily Log'!$I$18:$I$1017),0)","v":0},{"$f":"IFERROR($E139*SUMIF('Daily Log'!$K$18:$K$1017,$B139,'Daily Log'!$L$18:$L$1017),0)","v":0},{"$f":"IFERROR($E139*SUMIF('Daily Log'!$N$18:$N$1017,$B139,'Daily Log'!$O$18:$O$1017),0)","v":0},{"$f":"IFERROR($E139*SUMIF('Daily Log'!$Q$18:$Q$1017,$B139,'Daily Log'!$R$18:$R$1017),0)","v":0},{"$f":"IFERROR($E139*SUMIF('Daily Log'!$T$18:$T$1017,$B139,'Daily Log'!$U$18:$U$1017),0)","v":5},{"$f":"IFERROR($E139*SUMIF('Daily Log'!$W$18:$W$1017,$B139,'Daily Log'!$X$18:$X$1017),0)","v":3},{"$f":"IFERROR($E139*SUMIF('Daily Log'!$Z$18:$Z$1017,$B139,'Daily Log'!$AA$18:$AA$1017),0)","v":1},{"$f":"IFERROR($E139*SUMIF('Daily Log'!$AC$18:$AC$1017,$B139,'Daily Log'!$AD$18:$AD$1017),0)","v":0},{"$f":"IFERROR($E139*SUMIF('Daily Log'!$AF$18:$AF$1017,$B139,'Daily Log'!$AG$18:$AG$1017),0)","v":1},{"$f":"IFERROR($E139*SUMIF('Daily Log'!$AI$18:$AI$1017,$B139,'Daily Log'!$AJ$18:$AJ$1017),0)","v":4},{"$f":"IFERROR($E139*SUMIF('Daily Log'!$AL$18:$AL$1017,$B139,'Daily Log'!$AM$18:$AM$1017),0)","v":2},{"$f":"IFERROR($E139*SUMIF('Daily Log'!$AO$18:$AO$1017,$B139,'Daily Log'!$AP$18:$AP$1017),0)","v":0},{"$f":"IFERROR($E139*SUMIF('Daily Log'!$AR$18:$AR$1017,$B139,'Daily Log'!$AS$18:$AS$1017),0)","v":0},{"$f":"IFERROR($E139*SUMIF('Daily Log'!$AU$18:$AU$1017,$B139,'Daily Log'!$AV$18:$AV$1017),0)","v":0},{"$f":"IFERROR($E139*SUMIF('Daily Log'!$AX$18:$AX$1017,$B139,'Daily Log'!$AY$18:$AY$1017),0)","v":0},{"$f":"IFERROR($E139*SUMIF('Daily Log'!$BA$18:$BA$1017,$B139,'Daily Log'!$BB$18:$BB$1017),0)","v":0},{"$f":"IFERROR($E139*SUMIF('Daily Log'!$BD$18:$BD$1017,$B139,'Daily Log'!$BE$18:$BE$1017),0)","v":0},{"$f":"IFERROR($E139*SUMIF('Daily Log'!$BG$18:$BG$1017,$B139,'Daily Log'!$BH$18:$BH$1017),0)","v":0},{"$f":"IFERROR($E139*SUMIF('Daily Log'!$BJ$18:$BJ$1017,$B139,'Daily Log'!$BK$18:$BK$1017),0)","v":0},{"$f":"IFERROR($E139*SUMIF('Daily Log'!$BM$18:$BM$1017,$B139,'Daily Log'!$BN$18:$BN$1017),0)","v":0},{"$f":"IFERROR($E139*SUMIF('Daily Log'!$BP$18:$BP$1017,$B139,'Daily Log'!$BQ$18:$BQ$1017),0)","v":0},{"$f":"IFERROR($E139*SUMIF('Daily Log'!$BS$18:$BS$1017,$B139,'Daily Log'!$BT$18:$BT$1017),0)","v":0},{"$f":"IFERROR($E139*SUMIF('Daily Log'!$BV$18:$BV$1017,$B139,'Daily Log'!$BW$18:$BW$1017),0)","v":0},{"$f":"IFERROR($E139*SUMIF('Daily Log'!$BY$18:$BY$1017,$B139,'Daily Log'!$BZ$18:$BZ$1017),0)","v":0},{"$f":"IFERROR($E139*SUMIF('Daily Log'!$CB$18:$CB$1017,$B139,'Daily Log'!$CC$18:$CC$1017),0)","v":0},{"$f":"IFERROR($E139*SUMIF('Daily Log'!$CE$18:$CE$1017,$B139,'Daily Log'!$CF$18:$CF$1017),0)","v":0},{"$f":"IFERROR($E139*SUMIF('Daily Log'!$CH$18:$CH$1017,$B139,'Daily Log'!$CI$18:$CI$1017),0)","v":0},{"$f":"IFERROR($E139*SUMIF('Daily Log'!$CK$18:$CK$1017,$B139,'Daily Log'!$CL$18:$CL$1017),0)","v":0},{"$f":"IFERROR($E139*SUMIF('Daily Log'!$CN$18:$CN$1017,$B139,'Daily Log'!$CO$18:$CO$1017),0)","v":0}]
[null,"11045:Lok34-烤鱼皮",null,"LOK LOK ",1,9,{"$f":"IFERROR($E140*SUMIF('Daily Log'!$B$18:$B$1017,$B140,'Daily Log'!$C$18:$C$1017),0)","v":0},{"$f":"IFERROR($E140*SUMIF('Daily Log'!$E$18:$E$1017,$B140,'Daily Log'!$F$18:$F$1017),0)","v":0},{"$f":"IFERROR($E140*SUMIF('Daily Log'!$H$18:$H$1017,$B140,'Daily Log'!$I$18:$I$1017),0)","v":0},{"$f":"IFERROR($E140*SUMIF('Daily Log'!$K$18:$K$1017,$B140,'Daily Log'!$L$18:$L$1017),0)","v":0},{"$f":"IFERROR($E140*SUMIF('Daily Log'!$N$18:$N$1017,$B140,'Daily Log'!$O$18:$O$1017),0)","v":0},{"$f":"IFERROR($E140*SUMIF('Daily Log'!$Q$18:$Q$1017,$B140,'Daily Log'!$R$18:$R$1017),0)","v":0},{"$f":"IFERROR($E140*SUMIF('Daily Log'!$T$18:$T$1017,$B140,'Daily Log'!$U$18:$U$1017),0)","v":3},{"$f":"IFERROR($E140*SUMIF('Daily Log'!$W$18:$W$1017,$B140,'Daily Log'!$X$18:$X$1017),0)","v":3},{"$f":"IFERROR($E140*SUMIF('Daily Log'!$Z$18:$Z$1017,$B140,'Daily Log'!$AA$18:$AA$1017),0)","v":2},{"$f":"IFERROR($E140*SUMIF('Daily Log'!$AC$18:$AC$1017,$B140,'Daily Log'!$AD$18:$AD$1017),0)","v":0},{"$f":"IFERROR($E140*SUMIF('Daily Log'!$AF$18:$AF$1017,$B140,'Daily Log'!$AG$18:$AG$1017),0)","v":1},{"$f":"IFERROR($E140*SUMIF('Daily Log'!$AI$18:$AI$1017,$B140,'Daily Log'!$AJ$18:$AJ$1017),0)","v":0},{"$f":"IFERROR($E140*SUMIF('Daily Log'!$AL$18:$AL$1017,$B140,'Daily Log'!$AM$18:$AM$1017),0)","v":0},{"$f":"IFERROR($E140*SUMIF('Daily Log'!$AO$18:$AO$1017,$B140,'Daily Log'!$AP$18:$AP$1017),0)","v":0},{"$f":"IFERROR($E140*SUMIF('Daily Log'!$AR$18:$AR$1017,$B140,'Daily Log'!$AS$18:$AS$1017),0)","v":0},{"$f":"IFERROR($E140*SUMIF('Daily Log'!$AU$18:$AU$1017,$B140,'Daily Log'!$AV$18:$AV$1017),0)","v":0},{"$f":"IFERROR($E140*SUMIF('Daily Log'!$AX$18:$AX$1017,$B140,'Daily Log'!$AY$18:$AY$1017),0)","v":0},{"$f":"IFERROR($E140*SUMIF('Daily Log'!$BA$18:$BA$1017,$B140,'Daily Log'!$BB$18:$BB$1017),0)","v":0},{"$f":"IFERROR($E140*SUMIF('Daily Log'!$BD$18:$BD$1017,$B140,'Daily Log'!$BE$18:$BE$1017),0)","v":0},{"$f":"IFERROR($E140*SUMIF('Daily Log'!$BG$18:$BG$1017,$B140,'Daily Log'!$BH$18:$BH$1017),0)","v":0},{"$f":"IFERROR($E140*SUMIF('Daily Log'!$BJ$18:$BJ$1017,$B140,'Daily Log'!$BK$18:$BK$1017),0)","v":0},{"$f":"IFERROR($E140*SUMIF('Daily Log'!$BM$18:$BM$1017,$B140,'Daily Log'!$BN$18:$BN$1017),0)","v":0},{"$f":"IFERROR($E140*SUMIF('Daily Log'!$BP$18:$BP$1017,$B140,'Daily Log'!$BQ$18:$BQ$1017),0)","v":0},{"$f":"IFERROR($E140*SUMIF('Daily Log'!$BS$18:$BS$1017,$B140,'Daily Log'!$BT$18:$BT$1017),0)","v":0},{"$f":"IFERROR($E140*SUMIF('Daily Log'!$BV$18:$BV$1017,$B140,'Daily Log'!$BW$18:$BW$1017),0)","v":0},{"$f":"IFERROR($E140*SUMIF('Daily Log'!$BY$18:$BY$1017,$B140,'Daily Log'!$BZ$18:$BZ$1017),0)","v":0},{"$f":"IFERROR($E140*SUMIF('Daily Log'!$CB$18:$CB$1017,$B140,'Daily Log'!$CC$18:$CC$1017),0)","v":0},{"$f":"IFERROR($E140*SUMIF('Daily Log'!$CE$18:$CE$1017,$B140,'Daily Log'!$CF$18:$CF$1017),0)","v":0},{"$f":"IFERROR($E140*SUMIF('Daily Log'!$CH$18:$CH$1017,$B140,'Daily Log'!$CI$18:$CI$1017),0)","v":0},{"$f":"IFERROR($E140*SUMIF('Daily Log'!$CK$18:$CK$1017,$B140,'Daily Log'!$CL$18:$CL$1017),0)","v":0},{"$f":"IFERROR($E140*SUMIF('Daily Log'!$CN$18:$CN$1017,$B140,'Daily Log'!$CO$18:$CO$1017),0)","v":0}]
[null,"11046:Lok38-炸馒头",null,"LOK LOK ",1,24,{"$f":"IFERROR($E141*SUMIF('Daily Log'!$B$18:$B$1017,$B141,'Daily Log'!$C$18:$C$1017),0)","v":0},{"$f":"IFERROR($E141*SUMIF('Daily Log'!$E$18:$E$1017,$B141,'Daily Log'!$F$18:$F$1017),0)","v":0},{"$f":"IFERROR($E141*SUMIF('Daily Log'!$H$18:$H$1017,$B141,'Daily Log'!$I$18:$I$1017),0)","v":0},{"$f":"IFERROR($E141*SUMIF('Daily Log'!$K$18:$K$1017,$B141,'Daily Log'!$L$18:$L$1017),0)","v":0},{"$f":"IFERROR($E141*SUMIF('Daily Log'!$N$18:$N$1017,$B141,'Daily Log'!$O$18:$O$1017),0)","v":0},{"$f":"IFERROR($E141*SUMIF('Daily Log'!$Q$18:$Q$1017,$B141,'Daily Log'!$R$18:$R$1017),0)","v":0},{"$f":"IFERROR($E141*SUMIF('Daily Log'!$T$18:$T$1017,$B141,'Daily Log'!$U$18:$U$1017),0)","v":6},{"$f":"IFERROR($E141*SUMIF('Daily Log'!$W$18:$W$1017,$B141,'Daily Log'!$X$18:$X$1017),0)","v":5},{"$f":"IFERROR($E141*SUMIF('Daily Log'!$Z$18:$Z$1017,$B141,'Daily Log'!$AA$18:$AA$1017),0)","v":6},{"$f":"IFERROR($E141*SUMIF('Daily Log'!$AC$18:$AC$1017,$B141,'Daily Log'!$AD$18:$AD$1017),0)","v":1},{"$f":"IFERROR($E141*SUMIF('Daily Log'!$AF$18:$AF$1017,$B141,'Daily Log'!$AG$18:$AG$1017),0)","v":1},{"$f":"IFERROR($E141*SUMIF('Daily Log'!$AI$18:$AI$1017,$B141,'Daily Log'!$AJ$18:$AJ$1017),0)","v":4},{"$f":"IFERROR($E141*SUMIF('Daily Log'!$AL$18:$AL$1017,$B141,'Daily Log'!$AM$18:$AM$1017),0)","v":1},{"$f":"IFERROR($E141*SUMIF('Daily Log'!$AO$18:$AO$1017,$B141,'Daily Log'!$AP$18:$AP$1017),0)","v":0},{"$f":"IFERROR($E141*SUMIF('Daily Log'!$AR$18:$AR$1017,$B141,'Daily Log'!$AS$18:$AS$1017),0)","v":0},{"$f":"IFERROR($E141*SUMIF('Daily Log'!$AU$18:$AU$1017,$B141,'Daily Log'!$AV$18:$AV$1017),0)","v":0},{"$f":"IFERROR($E141*SUMIF('Daily Log'!$AX$18:$AX$1017,$B141,'Daily Log'!$AY$18:$AY$1017),0)","v":0},{"$f":"IFERROR($E141*SUMIF('Daily Log'!$BA$18:$BA$1017,$B141,'Daily Log'!$BB$18:$BB$1017),0)","v":0},{"$f":"IFERROR($E141*SUMIF('Daily Log'!$BD$18:$BD$1017,$B141,'Daily Log'!$BE$18:$BE$1017),0)","v":0},{"$f":"IFERROR($E141*SUMIF('Daily Log'!$BG$18:$BG$1017,$B141,'Daily Log'!$BH$18:$BH$1017),0)","v":0},{"$f":"IFERROR($E141*SUMIF('Daily Log'!$BJ$18:$BJ$1017,$B141,'Daily Log'!$BK$18:$BK$1017),0)","v":0},{"$f":"IFERROR($E141*SUMIF('Daily Log'!$BM$18:$BM$1017,$B141,'Daily Log'!$BN$18:$BN$1017),0)","v":0},{"$f":"IFERROR($E141*SUMIF('Daily Log'!$BP$18:$BP$1017,$B141,'Daily Log'!$BQ$18:$BQ$1017),0)","v":0},{"$f":"IFERROR($E141*SUMIF('Daily Log'!$BS$18:$BS$1017,$B141,'Daily Log'!$BT$18:$BT$1017),0)","v":0},{"$f":"IFERROR($E141*SUMIF('Daily Log'!$BV$18:$BV$1017,$B141,'Daily Log'!$BW$18:$BW$1017),0)","v":0},{"$f":"IFERROR($E141*SUMIF('Daily Log'!$BY$18:$BY$1017,$B141,'Daily Log'!$BZ$18:$BZ$1017),0)","v":0},{"$f":"IFERROR($E141*SUMIF('Daily Log'!$CB$18:$CB$1017,$B141,'Daily Log'!$CC$18:$CC$1017),0)","v":0},{"$f":"IFERROR($E141*SUMIF('Daily Log'!$CE$18:$CE$1017,$B141,'Daily Log'!$CF$18:$CF$1017),0)","v":0},{"$f":"IFERROR($E141*SUMIF('Daily Log'!$CH$18:$CH$1017,$B141,'Daily Log'!$CI$18:$CI$1017),0)","v":0},{"$f":"IFERROR($E141*SUMIF('Daily Log'!$CK$18:$CK$1017,$B141,'Daily Log'!$CL$18:$CL$1017),0)","v":0},{"$f":"IFERROR($E141*SUMIF('Daily Log'!$CN$18:$CN$1017,$B141,'Daily Log'!$CO$18:$CO$1017),0)","v":0}]
[null,"11047:Lok39-酥脆炸包",null,"LOK LOK ",1,7,{"$f":"IFERROR($E142*SUMIF('Daily Log'!$B$18:$B$1017,$B142,'Daily Log'!$C$18:$C$1017),0)","v":0},{"$f":"IFERROR($E142*SUMIF('Daily Log'!$E$18:$E$1017,$B142,'Daily Log'!$F$18:$F$1017),0)","v":0},{"$f":"IFERROR($E142*SUMIF('Daily Log'!$H$18:$H$1017,$B142,'Daily Log'!$I$18:$I$1017),0)","v":0},{"$f":"IFERROR($E142*SUMIF('Daily Log'!$K$18:$K$1017,$B142,'Daily Log'!$L$18:$L$1017),0)","v":0},{"$f":"IFERROR($E142*SUMIF('Daily Log'!$N$18:$N$1017,$B142,'Daily Log'!$O$18:$O$1017),0)","v":0},{"$f":"IFERROR($E142*SUMIF('Daily Log'!$Q$18:$Q$1017,$B142,'Daily Log'!$R$18:$R$1017),0)","v":0},{"$f":"IFERROR($E142*SUMIF('Daily Log'!$T$18:$T$1017,$B142,'Daily Log'!$U$18:$U$1017),0)","v":2},{"$f":"IFERROR($E142*SUMIF('Daily Log'!$W$18:$W$1017,$B142,'Daily Log'!$X$18:$X$1017),0)","v":0},{"$f":"IFERROR($E142*SUMIF('Daily Log'!$Z$18:$Z$1017,$B142,'Daily Log'!$AA$18:$AA$1017),0)","v":2},{"$f":"IFERROR($E142*SUMIF('Daily Log'!$AC$18:$AC$1017,$B142,'Daily Log'!$AD$18:$AD$1017),0)","v":2},{"$f":"IFERROR($E142*SUMIF('Daily Log'!$AF$18:$AF$1017,$B142,'Daily Log'!$AG$18:$AG$1017),0)","v":0},{"$f":"IFERROR($E142*SUMIF('Daily Log'!$AI$18:$AI$1017,$B142,'Daily Log'!$AJ$18:$AJ$1017),0)","v":1},{"$f":"IFERROR($E142*SUMIF('Daily Log'!$AL$18:$AL$1017,$B142,'Daily Log'!$AM$18:$AM$1017),0)","v":0},{"$f":"IFERROR($E142*SUMIF('Daily Log'!$AO$18:$AO$1017,$B142,'Daily Log'!$AP$18:$AP$1017),0)","v":0},{"$f":"IFERROR($E142*SUMIF('Daily Log'!$AR$18:$AR$1017,$B142,'Daily Log'!$AS$18:$AS$1017),0)","v":0},{"$f":"IFERROR($E142*SUMIF('Daily Log'!$AU$18:$AU$1017,$B142,'Daily Log'!$AV$18:$AV$1017),0)","v":0},{"$f":"IFERROR($E142*SUMIF('Daily Log'!$AX$18:$AX$1017,$B142,'Daily Log'!$AY$18:$AY$1017),0)","v":0},{"$f":"IFERROR($E142*SUMIF('Daily Log'!$BA$18:$BA$1017,$B142,'Daily Log'!$BB$18:$BB$1017),0)","v":0},{"$f":"IFERROR($E142*SUMIF('Daily Log'!$BD$18:$BD$1017,$B142,'Daily Log'!$BE$18:$BE$1017),0)","v":0},{"$f":"IFERROR($E142*SUMIF('Daily Log'!$BG$18:$BG$1017,$B142,'Daily Log'!$BH$18:$BH$1017),0)","v":0},{"$f":"IFERROR($E142*SUMIF('Daily Log'!$BJ$18:$BJ$1017,$B142,'Daily Log'!$BK$18:$BK$1017),0)","v":0},{"$f":"IFERROR($E142*SUMIF('Daily Log'!$BM$18:$BM$1017,$B142,'Daily Log'!$BN$18:$BN$1017),0)","v":0},{"$f":"IFERROR($E142*SUMIF('Daily Log'!$BP$18:$BP$1017,$B142,'Daily Log'!$BQ$18:$BQ$1017),0)","v":0},{"$f":"IFERROR($E142*SUMIF('Daily Log'!$BS$18:$BS$1017,$B142,'Daily Log'!$BT$18:$BT$1017),0)","v":0},{"$f":"IFERROR($E142*SUMIF('Daily Log'!$BV$18:$BV$1017,$B142,'Daily Log'!$BW$18:$BW$1017),0)","v":0},{"$f":"IFERROR($E142*SUMIF('Daily Log'!$BY$18:$BY$1017,$B142,'Daily Log'!$BZ$18:$BZ$1017),0)","v":0},{"$f":"IFERROR($E142*SUMIF('Daily Log'!$CB$18:$CB$1017,$B142,'Daily Log'!$CC$18:$CC$1017),0)","v":0},{"$f":"IFERROR($E142*SUMIF('Daily Log'!$CE$18:$CE$1017,$B142,'Daily Log'!$CF$18:$CF$1017),0)","v":0},{"$f":"IFERROR($E142*SUMIF('Daily Log'!$CH$18:$CH$1017,$B142,'Daily Log'!$CI$18:$CI$1017),0)","v":0},{"$f":"IFERROR($E142*SUMIF('Daily Log'!$CK$18:$CK$1017,$B142,'Daily Log'!$CL$18:$CL$1017),0)","v":0},{"$f":"IFERROR($E142*SUMIF('Daily Log'!$CN$18:$CN$1017,$B142,'Daily Log'!$CO$18:$CO$1017),0)","v":0}]
[null,"11048:Lok41-鱼肉豆卜",null,"LOK LOK ",1,4,{"$f":"IFERROR($E143*SUMIF('Daily Log'!$B$18:$B$1017,$B143,'Daily Log'!$C$18:$C$1017),0)","v":0},{"$f":"IFERROR($E143*SUMIF('Daily Log'!$E$18:$E$1017,$B143,'Daily Log'!$F$18:$F$1017),0)","v":0},{"$f":"IFERROR($E143*SUMIF('Daily Log'!$H$18:$H$1017,$B143,'Daily Log'!$I$18:$I$1017),0)","v":0},{"$f":"IFERROR($E143*SUMIF('Daily Log'!$K$18:$K$1017,$B143,'Daily Log'!$L$18:$L$1017),0)","v":0},{"$f":"IFERROR($E143*SUMIF('Daily Log'!$N$18:$N$1017,$B143,'Daily Log'!$O$18:$O$1017),0)","v":0},{"$f":"IFERROR($E143*SUMIF('Daily Log'!$Q$18:$Q$1017,$B143,'Daily Log'!$R$18:$R$1017),0)","v":0},{"$f":"IFERROR($E143*SUMIF('Daily Log'!$T$18:$T$1017,$B143,'Daily Log'!$U$18:$U$1017),0)","v":1},{"$f":"IFERROR($E143*SUMIF('Daily Log'!$W$18:$W$1017,$B143,'Daily Log'!$X$18:$X$1017),0)","v":0},{"$f":"IFERROR($E143*SUMIF('Daily Log'!$Z$18:$Z$1017,$B143,'Daily Log'!$AA$18:$AA$1017),0)","v":0},{"$f":"IFERROR($E143*SUMIF('Daily Log'!$AC$18:$AC$1017,$B143,'Daily Log'!$AD$18:$AD$1017),0)","v":1},{"$f":"IFERROR($E143*SUMIF('Daily Log'!$AF$18:$AF$1017,$B143,'Daily Log'!$AG$18:$AG$1017),0)","v":0},{"$f":"IFERROR($E143*SUMIF('Daily Log'!$AI$18:$AI$1017,$B143,'Daily Log'!$AJ$18:$AJ$1017),0)","v":0},{"$f":"IFERROR($E143*SUMIF('Daily Log'!$AL$18:$AL$1017,$B143,'Daily Log'!$AM$18:$AM$1017),0)","v":2},{"$f":"IFERROR($E143*SUMIF('Daily Log'!$AO$18:$AO$1017,$B143,'Daily Log'!$AP$18:$AP$1017),0)","v":0},{"$f":"IFERROR($E143*SUMIF('Daily Log'!$AR$18:$AR$1017,$B143,'Daily Log'!$AS$18:$AS$1017),0)","v":0},{"$f":"IFERROR($E143*SUMIF('Daily Log'!$AU$18:$AU$1017,$B143,'Daily Log'!$AV$18:$AV$1017),0)","v":0},{"$f":"IFERROR($E143*SUMIF('Daily Log'!$AX$18:$AX$1017,$B143,'Daily Log'!$AY$18:$AY$1017),0)","v":0},{"$f":"IFERROR($E143*SUMIF('Daily Log'!$BA$18:$BA$1017,$B143,'Daily Log'!$BB$18:$BB$1017),0)","v":0},{"$f":"IFERROR($E143*SUMIF('Daily Log'!$BD$18:$BD$1017,$B143,'Daily Log'!$BE$18:$BE$1017),0)","v":0},{"$f":"IFERROR($E143*SUMIF('Daily Log'!$BG$18:$BG$1017,$B143,'Daily Log'!$BH$18:$BH$1017),0)","v":0},{"$f":"IFERROR($E143*SUMIF('Daily Log'!$BJ$18:$BJ$1017,$B143,'Daily Log'!$BK$18:$BK$1017),0)","v":0},{"$f":"IFERROR($E143*SUMIF('Daily Log'!$BM$18:$BM$1017,$B143,'Daily Log'!$BN$18:$BN$1017),0)","v":0},{"$f":"IFERROR($E143*SUMIF('Daily Log'!$BP$18:$BP$1017,$B143,'Daily Log'!$BQ$18:$BQ$1017),0)","v":0},{"$f":"IFERROR($E143*SUMIF('Daily Log'!$BS$18:$BS$1017,$B143,'Daily Log'!$BT$18:$BT$1017),0)","v":0},{"$f":"IFERROR($E143*SUMIF('Daily Log'!$BV$18:$BV$1017,$B143,'Daily Log'!$BW$18:$BW$1017),0)","v":0},{"$f":"IFERROR($E143*SUMIF('Daily Log'!$BY$18:$BY$1017,$B143,'Daily Log'!$BZ$18:$BZ$1017),0)","v":0},{"$f":"IFERROR($E143*SUMIF('Daily Log'!$CB$18:$CB$1017,$B143,'Daily Log'!$CC$18:$CC$1017),0)","v":0},{"$f":"IFERROR($E143*SUMIF('Daily Log'!$CE$18:$CE$1017,$B143,'Daily Log'!$CF$18:$CF$1017),0)","v":0},{"$f":"IFERROR($E143*SUMIF('Daily Log'!$CH$18:$CH$1017,$B143,'Daily Log'!$CI$18:$CI$1017),0)","v":0},{"$f":"IFERROR($E143*SUMIF('Daily Log'!$CK$18:$CK$1017,$B143,'Daily Log'!$CL$18:$CL$1017),0)","v":0},{"$f":"IFERROR($E143*SUMIF('Daily Log'!$CN$18:$CN$1017,$B143,'Daily Log'!$CO$18:$CO$1017),0)","v":0}]
[null,"11049:Lok42-脆皮保",null,"LOK LOK ",1,0,{"$f":"IFERROR($E144*SUMIF('Daily Log'!$B$18:$B$1017,$B144,'Daily Log'!$C$18:$C$1017),0)","v":0},{"$f":"IFERROR($E144*SUMIF('Daily Log'!$E$18:$E$1017,$B144,'Daily Log'!$F$18:$F$1017),0)","v":0},{"$f":"IFERROR($E144*SUMIF('Daily Log'!$H$18:$H$1017,$B144,'Daily Log'!$I$18:$I$1017),0)","v":0},{"$f":"IFERROR($E144*SUMIF('Daily Log'!$K$18:$K$1017,$B144,'Daily Log'!$L$18:$L$1017),0)","v":0},{"$f":"IFERROR($E144*SUMIF('Daily Log'!$N$18:$N$1017,$B144,'Daily Log'!$O$18:$O$1017),0)","v":0},{"$f":"IFERROR($E144*SUMIF('Daily Log'!$Q$18:$Q$1017,$B144,'Daily Log'!$R$18:$R$1017),0)","v":0},{"$f":"IFERROR($E144*SUMIF('Daily Log'!$T$18:$T$1017,$B144,'Daily Log'!$U$18:$U$1017),0)","v":0},{"$f":"IFERROR($E144*SUMIF('Daily Log'!$W$18:$W$1017,$B144,'Daily Log'!$X$18:$X$1017),0)","v":0},{"$f":"IFERROR($E144*SUMIF('Daily Log'!$Z$18:$Z$1017,$B144,'Daily Log'!$AA$18:$AA$1017),0)","v":0},{"$f":"IFERROR($E144*SUMIF('Daily Log'!$AC$18:$AC$1017,$B144,'Daily Log'!$AD$18:$AD$1017),0)","v":0},{"$f":"IFERROR($E144*SUMIF('Daily Log'!$AF$18:$AF$1017,$B144,'Daily Log'!$AG$18:$AG$1017),0)","v":0},{"$f":"IFERROR($E144*SUMIF('Daily Log'!$AI$18:$AI$1017,$B144,'Daily Log'!$AJ$18:$AJ$1017),0)","v":0},{"$f":"IFERROR($E144*SUMIF('Daily Log'!$AL$18:$AL$1017,$B144,'Daily Log'!$AM$18:$AM$1017),0)","v":0},{"$f":"IFERROR($E144*SUMIF('Daily Log'!$AO$18:$AO$1017,$B144,'Daily Log'!$AP$18:$AP$1017),0)","v":0},{"$f":"IFERROR($E144*SUMIF('Daily Log'!$AR$18:$AR$1017,$B144,'Daily Log'!$AS$18:$AS$1017),0)","v":0},{"$f":"IFERROR($E144*SUMIF('Daily Log'!$AU$18:$AU$1017,$B144,'Daily Log'!$AV$18:$AV$1017),0)","v":0},{"$f":"IFERROR($E144*SUMIF('Daily Log'!$AX$18:$AX$1017,$B144,'Daily Log'!$AY$18:$AY$1017),0)","v":0},{"$f":"IFERROR($E144*SUMIF('Daily Log'!$BA$18:$BA$1017,$B144,'Daily Log'!$BB$18:$BB$1017),0)","v":0},{"$f":"IFERROR($E144*SUMIF('Daily Log'!$BD$18:$BD$1017,$B144,'Daily Log'!$BE$18:$BE$1017),0)","v":0},{"$f":"IFERROR($E144*SUMIF('Daily Log'!$BG$18:$BG$1017,$B144,'Daily Log'!$BH$18:$BH$1017),0)","v":0},{"$f":"IFERROR($E144*SUMIF('Daily Log'!$BJ$18:$BJ$1017,$B144,'Daily Log'!$BK$18:$BK$1017),0)","v":0},{"$f":"IFERROR($E144*SUMIF('Daily Log'!$BM$18:$BM$1017,$B144,'Daily Log'!$BN$18:$BN$1017),0)","v":0},{"$f":"IFERROR($E144*SUMIF('Daily Log'!$BP$18:$BP$1017,$B144,'Daily Log'!$BQ$18:$BQ$1017),0)","v":0},{"$f":"IFERROR($E144*SUMIF('Daily Log'!$BS$18:$BS$1017,$B144,'Daily Log'!$BT$18:$BT$1017),0)","v":0},{"$f":"IFERROR($E144*SUMIF('Daily Log'!$BV$18:$BV$1017,$B144,'Daily Log'!$BW$18:$BW$1017),0)","v":0},{"$f":"IFERROR($E144*SUMIF('Daily Log'!$BY$18:$BY$1017,$B144,'Daily Log'!$BZ$18:$BZ$1017),0)","v":0},{"$f":"IFERROR($E144*SUMIF('Daily Log'!$CB$18:$CB$1017,$B144,'Daily Log'!$CC$18:$CC$1017),0)","v":0},{"$f":"IFERROR($E144*SUMIF('Daily Log'!$CE$18:$CE$1017,$B144,'Daily Log'!$CF$18:$CF$1017),0)","v":0},{"$f":"IFERROR($E144*SUMIF('Daily Log'!$CH$18:$CH$1017,$B144,'Daily Log'!$CI$18:$CI$1017),0)","v":0},{"$f":"IFERROR($E144*SUMIF('Daily Log'!$CK$18:$CK$1017,$B144,'Daily Log'!$CL$18:$CL$1017),0)","v":0},{"$f":"IFERROR($E144*SUMIF('Daily Log'!$CN$18:$CN$1017,$B144,'Daily Log'!$CO$18:$CO$1017),0)","v":0}]
[null,"11049:Lok42-脆皮包",null,"LOK LOK ",1,11,{"$f":"IFERROR($E145*SUMIF('Daily Log'!$B$18:$B$1017,$B145,'Daily Log'!$C$18:$C$1017),0)","v":0},{"$f":"IFERROR($E145*SUMIF('Daily Log'!$E$18:$E$1017,$B145,'Daily Log'!$F$18:$F$1017),0)","v":0},{"$f":"IFERROR($E145*SUMIF('Daily Log'!$H$18:$H$1017,$B145,'Daily Log'!$I$18:$I$1017),0)","v":0},{"$f":"IFERROR($E145*SUMIF('Daily Log'!$K$18:$K$1017,$B145,'Daily Log'!$L$18:$L$1017),0)","v":0},{"$f":"IFERROR($E145*SUMIF('Daily Log'!$N$18:$N$1017,$B145,'Daily Log'!$O$18:$O$1017),0)","v":0},{"$f":"IFERROR($E145*SUMIF('Daily Log'!$Q$18:$Q$1017,$B145,'Daily Log'!$R$18:$R$1017),0)","v":0},{"$f":"IFERROR($E145*SUMIF('Daily Log'!$T$18:$T$1017,$B145,'Daily Log'!$U$18:$U$1017),0)","v":1},{"$f":"IFERROR($E145*SUMIF('Daily Log'!$W$18:$W$1017,$B145,'Daily Log'!$X$18:$X$1017),0)","v":2},{"$f":"IFERROR($E145*SUMIF('Daily Log'!$Z$18:$Z$1017,$B145,'Daily Log'!$AA$18:$AA$1017),0)","v":1},{"$f":"IFERROR($E145*SUMIF('Daily Log'!$AC$18:$AC$1017,$B145,'Daily Log'!$AD$18:$AD$1017),0)","v":0},{"$f":"IFERROR($E145*SUMIF('Daily Log'!$AF$18:$AF$1017,$B145,'Daily Log'!$AG$18:$AG$1017),0)","v":2},{"$f":"IFERROR($E145*SUMIF('Daily Log'!$AI$18:$AI$1017,$B145,'Daily Log'!$AJ$18:$AJ$1017),0)","v":2},{"$f":"IFERROR($E145*SUMIF('Daily Log'!$AL$18:$AL$1017,$B145,'Daily Log'!$AM$18:$AM$1017),0)","v":3},{"$f":"IFERROR($E145*SUMIF('Daily Log'!$AO$18:$AO$1017,$B145,'Daily Log'!$AP$18:$AP$1017),0)","v":0},{"$f":"IFERROR($E145*SUMIF('Daily Log'!$AR$18:$AR$1017,$B145,'Daily Log'!$AS$18:$AS$1017),0)","v":0},{"$f":"IFERROR($E145*SUMIF('Daily Log'!$AU$18:$AU$1017,$B145,'Daily Log'!$AV$18:$AV$1017),0)","v":0},{"$f":"IFERROR($E145*SUMIF('Daily Log'!$AX$18:$AX$1017,$B145,'Daily Log'!$AY$18:$AY$1017),0)","v":0},{"$f":"IFERROR($E145*SUMIF('Daily Log'!$BA$18:$BA$1017,$B145,'Daily Log'!$BB$18:$BB$1017),0)","v":0},{"$f":"IFERROR($E145*SUMIF('Daily Log'!$BD$18:$BD$1017,$B145,'Daily Log'!$BE$18:$BE$1017),0)","v":0},{"$f":"IFERROR($E145*SUMIF('Daily Log'!$BG$18:$BG$1017,$B145,'Daily Log'!$BH$18:$BH$1017),0)","v":0},{"$f":"IFERROR($E145*SUMIF('Daily Log'!$BJ$18:$BJ$1017,$B145,'Daily Log'!$BK$18:$BK$1017),0)","v":0},{"$f":"IFERROR($E145*SUMIF('Daily Log'!$BM$18:$BM$1017,$B145,'Daily Log'!$BN$18:$BN$1017),0)","v":0},{"$f":"IFERROR($E145*SUMIF('Daily Log'!$BP$18:$BP$1017,$B145,'Daily Log'!$BQ$18:$BQ$1017),0)","v":0},{"$f":"IFERROR($E145*SUMIF('Daily Log'!$BS$18:$BS$1017,$B145,'Daily Log'!$BT$18:$BT$1017),0)","v":0},{"$f":"IFERROR($E145*SUMIF('Daily Log'!$BV$18:$BV$1017,$B145,'Daily Log'!$BW$18:$BW$1017),0)","v":0},{"$f":"IFERROR($E145*SUMIF('Daily Log'!$BY$18:$BY$1017,$B145,'Daily Log'!$BZ$18:$BZ$1017),0)","v":0},{"$f":"IFERROR($E145*SUMIF('Daily Log'!$CB$18:$CB$1017,$B145,'Daily Log'!$CC$18:$CC$1017),0)","v":0},{"$f":"IFERROR($E145*SUMIF('Daily Log'!$CE$18:$CE$1017,$B145,'Daily Log'!$CF$18:$CF$1017),0)","v":0},{"$f":"IFERROR($E145*SUMIF('Daily Log'!$CH$18:$CH$1017,$B145,'Daily Log'!$CI$18:$CI$1017),0)","v":0},{"$f":"IFERROR($E145*SUMIF('Daily Log'!$CK$18:$CK$1017,$B145,'Daily Log'!$CL$18:$CL$1017),0)","v":0},{"$f":"IFERROR($E145*SUMIF('Daily Log'!$CN$18:$CN$1017,$B145,'Daily Log'!$CO$18:$CO$1017),0)","v":0}]
[null,"11050:Lok43-蛋黄家乡饺",null,"LOK LOK ",1,12,{"$f":"IFERROR($E146*SUMIF('Daily Log'!$B$18:$B$1017,$B146,'Daily Log'!$C$18:$C$1017),0)","v":0},{"$f":"IFERROR($E146*SUMIF('Daily Log'!$E$18:$E$1017,$B146,'Daily Log'!$F$18:$F$1017),0)","v":0},{"$f":"IFERROR($E146*SUMIF('Daily Log'!$H$18:$H$1017,$B146,'Daily Log'!$I$18:$I$1017),0)","v":0},{"$f":"IFERROR($E146*SUMIF('Daily Log'!$K$18:$K$1017,$B146,'Daily Log'!$L$18:$L$1017),0)","v":0},{"$f":"IFERROR($E146*SUMIF('Daily Log'!$N$18:$N$1017,$B146,'Daily Log'!$O$18:$O$1017),0)","v":0},{"$f":"IFERROR($E146*SUMIF('Daily Log'!$Q$18:$Q$1017,$B146,'Daily Log'!$R$18:$R$1017),0)","v":0},{"$f":"IFERROR($E146*SUMIF('Daily Log'!$T$18:$T$1017,$B146,'Daily Log'!$U$18:$U$1017),0)","v":2},{"$f":"IFERROR($E146*SUMIF('Daily Log'!$W$18:$W$1017,$B146,'Daily Log'!$X$18:$X$1017),0)","v":2},{"$f":"IFERROR($E146*SUMIF('Daily Log'!$Z$18:$Z$1017,$B146,'Daily Log'!$AA$18:$AA$1017),0)","v":1},{"$f":"IFERROR($E146*SUMIF('Daily Log'!$AC$18:$AC$1017,$B146,'Daily Log'!$AD$18:$AD$1017),0)","v":1},{"$f":"IFERROR($E146*SUMIF('Daily Log'!$AF$18:$AF$1017,$B146,'Daily Log'!$AG$18:$AG$1017),0)","v":3},{"$f":"IFERROR($E146*SUMIF('Daily Log'!$AI$18:$AI$1017,$B146,'Daily Log'!$AJ$18:$AJ$1017),0)","v":0},{"$f":"IFERROR($E146*SUMIF('Daily Log'!$AL$18:$AL$1017,$B146,'Daily Log'!$AM$18:$AM$1017),0)","v":3},{"$f":"IFERROR($E146*SUMIF('Daily Log'!$AO$18:$AO$1017,$B146,'Daily Log'!$AP$18:$AP$1017),0)","v":0},{"$f":"IFERROR($E146*SUMIF('Daily Log'!$AR$18:$AR$1017,$B146,'Daily Log'!$AS$18:$AS$1017),0)","v":0},{"$f":"IFERROR($E146*SUMIF('Daily Log'!$AU$18:$AU$1017,$B146,'Daily Log'!$AV$18:$AV$1017),0)","v":0},{"$f":"IFERROR($E146*SUMIF('Daily Log'!$AX$18:$AX$1017,$B146,'Daily Log'!$AY$18:$AY$1017),0)","v":0},{"$f":"IFERROR($E146*SUMIF('Daily Log'!$BA$18:$BA$1017,$B146,'Daily Log'!$BB$18:$BB$1017),0)","v":0},{"$f":"IFERROR($E146*SUMIF('Daily Log'!$BD$18:$BD$1017,$B146,'Daily Log'!$BE$18:$BE$1017),0)","v":0},{"$f":"IFERROR($E146*SUMIF('Daily Log'!$BG$18:$BG$1017,$B146,'Daily Log'!$BH$18:$BH$1017),0)","v":0},{"$f":"IFERROR($E146*SUMIF('Daily Log'!$BJ$18:$BJ$1017,$B146,'Daily Log'!$BK$18:$BK$1017),0)","v":0},{"$f":"IFERROR($E146*SUMIF('Daily Log'!$BM$18:$BM$1017,$B146,'Daily Log'!$BN$18:$BN$1017),0)","v":0},{"$f":"IFERROR($E146*SUMIF('Daily Log'!$BP$18:$BP$1017,$B146,'Daily Log'!$BQ$18:$BQ$1017),0)","v":0},{"$f":"IFERROR($E146*SUMIF('Daily Log'!$BS$18:$BS$1017,$B146,'Daily Log'!$BT$18:$BT$1017),0)","v":0},{"$f":"IFERROR($E146*SUMIF('Daily Log'!$BV$18:$BV$1017,$B146,'Daily Log'!$BW$18:$BW$1017),0)","v":0},{"$f":"IFERROR($E146*SUMIF('Daily Log'!$BY$18:$BY$1017,$B146,'Daily Log'!$BZ$18:$BZ$1017),0)","v":0},{"$f":"IFERROR($E146*SUMIF('Daily Log'!$CB$18:$CB$1017,$B146,'Daily Log'!$CC$18:$CC$1017),0)","v":0},{"$f":"IFERROR($E146*SUMIF('Daily Log'!$CE$18:$CE$1017,$B146,'Daily Log'!$CF$18:$CF$1017),0)","v":0},{"$f":"IFERROR($E146*SUMIF('Daily Log'!$CH$18:$CH$1017,$B146,'Daily Log'!$CI$18:$CI$1017),0)","v":0},{"$f":"IFERROR($E146*SUMIF('Daily Log'!$CK$18:$CK$1017,$B146,'Daily Log'!$CL$18:$CL$1017),0)","v":0},{"$f":"IFERROR($E146*SUMIF('Daily Log'!$CN$18:$CN$1017,$B146,'Daily Log'!$CO$18:$CO$1017),0)","v":0}]
[null,"11601:L -C01-泰式鸡饭",null,"K LUNCH-LOCAL DELIGHTS",1,43,{"$f":"IFERROR($E147*SUMIF('Daily Log'!$B$18:$B$1017,$B147,'Daily Log'!$C$18:$C$1017),0)","v":0},{"$f":"IFERROR($E147*SUMIF('Daily Log'!$E$18:$E$1017,$B147,'Daily Log'!$F$18:$F$1017),0)","v":0},{"$f":"IFERROR($E147*SUMIF('Daily Log'!$H$18:$H$1017,$B147,'Daily Log'!$I$18:$I$1017),0)","v":0},{"$f":"IFERROR($E147*SUMIF('Daily Log'!$K$18:$K$1017,$B147,'Daily Log'!$L$18:$L$1017),0)","v":0},{"$f":"IFERROR($E147*SUMIF('Daily Log'!$N$18:$N$1017,$B147,'Daily Log'!$O$18:$O$1017),0)","v":0},{"$f":"IFERROR($E147*SUMIF('Daily Log'!$Q$18:$Q$1017,$B147,'Daily Log'!$R$18:$R$1017),0)","v":0},{"$f":"IFERROR($E147*SUMIF('Daily Log'!$T$18:$T$1017,$B147,'Daily Log'!$U$18:$U$1017),0)","v":4},{"$f":"IFERROR($E147*SUMIF('Daily Log'!$W$18:$W$1017,$B147,'Daily Log'!$X$18:$X$1017),0)","v":2},{"$f":"IFERROR($E147*SUMIF('Daily Log'!$Z$18:$Z$1017,$B147,'Daily Log'!$AA$18:$AA$1017),0)","v":6},{"$f":"IFERROR($E147*SUMIF('Daily Log'!$AC$18:$AC$1017,$B147,'Daily Log'!$AD$18:$AD$1017),0)","v":10},{"$f":"IFERROR($E147*SUMIF('Daily Log'!$AF$18:$AF$1017,$B147,'Daily Log'!$AG$18:$AG$1017),0)","v":12},{"$f":"IFERROR($E147*SUMIF('Daily Log'!$AI$18:$AI$1017,$B147,'Daily Log'!$AJ$18:$AJ$1017),0)","v":6},{"$f":"IFERROR($E147*SUMIF('Daily Log'!$AL$18:$AL$1017,$B147,'Daily Log'!$AM$18:$AM$1017),0)","v":3},{"$f":"IFERROR($E147*SUMIF('Daily Log'!$AO$18:$AO$1017,$B147,'Daily Log'!$AP$18:$AP$1017),0)","v":0},{"$f":"IFERROR($E147*SUMIF('Daily Log'!$AR$18:$AR$1017,$B147,'Daily Log'!$AS$18:$AS$1017),0)","v":0},{"$f":"IFERROR($E147*SUMIF('Daily Log'!$AU$18:$AU$1017,$B147,'Daily Log'!$AV$18:$AV$1017),0)","v":0},{"$f":"IFERROR($E147*SUMIF('Daily Log'!$AX$18:$AX$1017,$B147,'Daily Log'!$AY$18:$AY$1017),0)","v":0},{"$f":"IFERROR($E147*SUMIF('Daily Log'!$BA$18:$BA$1017,$B147,'Daily Log'!$BB$18:$BB$1017),0)","v":0},{"$f":"IFERROR($E147*SUMIF('Daily Log'!$BD$18:$BD$1017,$B147,'Daily Log'!$BE$18:$BE$1017),0)","v":0},{"$f":"IFERROR($E147*SUMIF('Daily Log'!$BG$18:$BG$1017,$B147,'Daily Log'!$BH$18:$BH$1017),0)","v":0},{"$f":"IFERROR($E147*SUMIF('Daily Log'!$BJ$18:$BJ$1017,$B147,'Daily Log'!$BK$18:$BK$1017),0)","v":0},{"$f":"IFERROR($E147*SUMIF('Daily Log'!$BM$18:$BM$1017,$B147,'Daily Log'!$BN$18:$BN$1017),0)","v":0},{"$f":"IFERROR($E147*SUMIF('Daily Log'!$BP$18:$BP$1017,$B147,'Daily Log'!$BQ$18:$BQ$1017),0)","v":0},{"$f":"IFERROR($E147*SUMIF('Daily Log'!$BS$18:$BS$1017,$B147,'Daily Log'!$BT$18:$BT$1017),0)","v":0},{"$f":"IFERROR($E147*SUMIF('Daily Log'!$BV$18:$BV$1017,$B147,'Daily Log'!$BW$18:$BW$1017),0)","v":0},{"$f":"IFERROR($E147*SUMIF('Daily Log'!$BY$18:$BY$1017,$B147,'Daily Log'!$BZ$18:$BZ$1017),0)","v":0},{"$f":"IFERROR($E147*SUMIF('Daily Log'!$CB$18:$CB$1017,$B147,'Daily Log'!$CC$18:$CC$1017),0)","v":0},{"$f":"IFERROR($E147*SUMIF('Daily Log'!$CE$18:$CE$1017,$B147,'Daily Log'!$CF$18:$CF$1017),0)","v":0},{"$f":"IFERROR($E147*SUMIF('Daily Log'!$CH$18:$CH$1017,$B147,'Daily Log'!$CI$18:$CI$1017),0)","v":0},{"$f":"IFERROR($E147*SUMIF('Daily Log'!$CK$18:$CK$1017,$B147,'Daily Log'!$CL$18:$CL$1017),0)","v":0},{"$f":"IFERROR($E147*SUMIF('Daily Log'!$CN$18:$CN$1017,$B147,'Daily Log'!$CO$18:$CO$1017),0)","v":0}]
[null,"11602:L -C02-妈蜜鸡饭",null,"K LUNCH-LOCAL DELIGHTS",1,55,{"$f":"IFERROR($E148*SUMIF('Daily Log'!$B$18:$B$1017,$B148,'Daily Log'!$C$18:$C$1017),0)","v":0},{"$f":"IFERROR($E148*SUMIF('Daily Log'!$E$18:$E$1017,$B148,'Daily Log'!$F$18:$F$1017),0)","v":0},{"$f":"IFERROR($E148*SUMIF('Daily Log'!$H$18:$H$1017,$B148,'Daily Log'!$I$18:$I$1017),0)","v":0},{"$f":"IFERROR($E148*SUMIF('Daily Log'!$K$18:$K$1017,$B148,'Daily Log'!$L$18:$L$1017),0)","v":0},{"$f":"IFERROR($E148*SUMIF('Daily Log'!$N$18:$N$1017,$B148,'Daily Log'!$O$18:$O$1017),0)","v":0},{"$f":"IFERROR($E148*SUMIF('Daily Log'!$Q$18:$Q$1017,$B148,'Daily Log'!$R$18:$R$1017),0)","v":0},{"$f":"IFERROR($E148*SUMIF('Daily Log'!$T$18:$T$1017,$B148,'Daily Log'!$U$18:$U$1017),0)","v":5},{"$f":"IFERROR($E148*SUMIF('Daily Log'!$W$18:$W$1017,$B148,'Daily Log'!$X$18:$X$1017),0)","v":6},{"$f":"IFERROR($E148*SUMIF('Daily Log'!$Z$18:$Z$1017,$B148,'Daily Log'!$AA$18:$AA$1017),0)","v":12},{"$f":"IFERROR($E148*SUMIF('Daily Log'!$AC$18:$AC$1017,$B148,'Daily Log'!$AD$18:$AD$1017),0)","v":4},{"$f":"IFERROR($E148*SUMIF('Daily Log'!$AF$18:$AF$1017,$B148,'Daily Log'!$AG$18:$AG$1017),0)","v":10},{"$f":"IFERROR($E148*SUMIF('Daily Log'!$AI$18:$AI$1017,$B148,'Daily Log'!$AJ$18:$AJ$1017),0)","v":9},{"$f":"IFERROR($E148*SUMIF('Daily Log'!$AL$18:$AL$1017,$B148,'Daily Log'!$AM$18:$AM$1017),0)","v":9},{"$f":"IFERROR($E148*SUMIF('Daily Log'!$AO$18:$AO$1017,$B148,'Daily Log'!$AP$18:$AP$1017),0)","v":0},{"$f":"IFERROR($E148*SUMIF('Daily Log'!$AR$18:$AR$1017,$B148,'Daily Log'!$AS$18:$AS$1017),0)","v":0},{"$f":"IFERROR($E148*SUMIF('Daily Log'!$AU$18:$AU$1017,$B148,'Daily Log'!$AV$18:$AV$1017),0)","v":0},{"$f":"IFERROR($E148*SUMIF('Daily Log'!$AX$18:$AX$1017,$B148,'Daily Log'!$AY$18:$AY$1017),0)","v":0},{"$f":"IFERROR($E148*SUMIF('Daily Log'!$BA$18:$BA$1017,$B148,'Daily Log'!$BB$18:$BB$1017),0)","v":0},{"$f":"IFERROR($E148*SUMIF('Daily Log'!$BD$18:$BD$1017,$B148,'Daily Log'!$BE$18:$BE$1017),0)","v":0},{"$f":"IFERROR($E148*SUMIF('Daily Log'!$BG$18:$BG$1017,$B148,'Daily Log'!$BH$18:$BH$1017),0)","v":0},{"$f":"IFERROR($E148*SUMIF('Daily Log'!$BJ$18:$BJ$1017,$B148,'Daily Log'!$BK$18:$BK$1017),0)","v":0},{"$f":"IFERROR($E148*SUMIF('Daily Log'!$BM$18:$BM$1017,$B148,'Daily Log'!$BN$18:$BN$1017),0)","v":0},{"$f":"IFERROR($E148*SUMIF('Daily Log'!$BP$18:$BP$1017,$B148,'Daily Log'!$BQ$18:$BQ$1017),0)","v":0},{"$f":"IFERROR($E148*SUMIF('Daily Log'!$BS$18:$BS$1017,$B148,'Daily Log'!$BT$18:$BT$1017),0)","v":0},{"$f":"IFERROR($E148*SUMIF('Daily Log'!$BV$18:$BV$1017,$B148,'Daily Log'!$BW$18:$BW$1017),0)","v":0},{"$f":"IFERROR($E148*SUMIF('Daily Log'!$BY$18:$BY$1017,$B148,'Daily Log'!$BZ$18:$BZ$1017),0)","v":0},{"$f":"IFERROR($E148*SUMIF('Daily Log'!$CB$18:$CB$1017,$B148,'Daily Log'!$CC$18:$CC$1017),0)","v":0},{"$f":"IFERROR($E148*SUMIF('Daily Log'!$CE$18:$CE$1017,$B148,'Daily Log'!$CF$18:$CF$1017),0)","v":0},{"$f":"IFERROR($E148*SUMIF('Daily Log'!$CH$18:$CH$1017,$B148,'Daily Log'!$CI$18:$CI$1017),0)","v":0},{"$f":"IFERROR($E148*SUMIF('Daily Log'!$CK$18:$CK$1017,$B148,'Daily Log'!$CL$18:$CL$1017),0)","v":0},{"$f":"IFERROR($E148*SUMIF('Daily Log'!$CN$18:$CN$1017,$B148,'Daily Log'!$CO$18:$CO$1017),0)","v":0}]
[null,"11605:L -C03-奶油鸡饭",null,"K LUNCH-LOCAL DELIGHTS",1,52,{"$f":"IFERROR($E149*SUMIF('Daily Log'!$B$18:$B$1017,$B149,'Daily Log'!$C$18:$C$1017),0)","v":0},{"$f":"IFERROR($E149*SUMIF('Daily Log'!$E$18:$E$1017,$B149,'Daily Log'!$F$18:$F$1017),0)","v":0},{"$f":"IFERROR($E149*SUMIF('Daily Log'!$H$18:$H$1017,$B149,'Daily Log'!$I$18:$I$1017),0)","v":0},{"$f":"IFERROR($E149*SUMIF('Daily Log'!$K$18:$K$1017,$B149,'Daily Log'!$L$18:$L$1017),0)","v":0},{"$f":"IFERROR($E149*SUMIF('Daily Log'!$N$18:$N$1017,$B149,'Daily Log'!$O$18:$O$1017),0)","v":0},{"$f":"IFERROR($E149*SUMIF('Daily Log'!$Q$18:$Q$1017,$B149,'Daily Log'!$R$18:$R$1017),0)","v":0},{"$f":"IFERROR($E149*SUMIF('Daily Log'!$T$18:$T$1017,$B149,'Daily Log'!$U$18:$U$1017),0)","v":8},{"$f":"IFERROR($E149*SUMIF('Daily Log'!$W$18:$W$1017,$B149,'Daily Log'!$X$18:$X$1017),0)","v":5},{"$f":"IFERROR($E149*SUMIF('Daily Log'!$Z$18:$Z$1017,$B149,'Daily Log'!$AA$18:$AA$1017),0)","v":17},{"$f":"IFERROR($E149*SUMIF('Daily Log'!$AC$18:$AC$1017,$B149,'Daily Log'!$AD$18:$AD$1017),0)","v":5},{"$f":"IFERROR($E149*SUMIF('Daily Log'!$AF$18:$AF$1017,$B149,'Daily Log'!$AG$18:$AG$1017),0)","v":9},{"$f":"IFERROR($E149*SUMIF('Daily Log'!$AI$18:$AI$1017,$B149,'Daily Log'!$AJ$18:$AJ$1017),0)","v":7},{"$f":"IFERROR($E149*SUMIF('Daily Log'!$AL$18:$AL$1017,$B149,'Daily Log'!$AM$18:$AM$1017),0)","v":1},{"$f":"IFERROR($E149*SUMIF('Daily Log'!$AO$18:$AO$1017,$B149,'Daily Log'!$AP$18:$AP$1017),0)","v":0},{"$f":"IFERROR($E149*SUMIF('Daily Log'!$AR$18:$AR$1017,$B149,'Daily Log'!$AS$18:$AS$1017),0)","v":0},{"$f":"IFERROR($E149*SUMIF('Daily Log'!$AU$18:$AU$1017,$B149,'Daily Log'!$AV$18:$AV$1017),0)","v":0},{"$f":"IFERROR($E149*SUMIF('Daily Log'!$AX$18:$AX$1017,$B149,'Daily Log'!$AY$18:$AY$1017),0)","v":0},{"$f":"IFERROR($E149*SUMIF('Daily Log'!$BA$18:$BA$1017,$B149,'Daily Log'!$BB$18:$BB$1017),0)","v":0},{"$f":"IFERROR($E149*SUMIF('Daily Log'!$BD$18:$BD$1017,$B149,'Daily Log'!$BE$18:$BE$1017),0)","v":0},{"$f":"IFERROR($E149*SUMIF('Daily Log'!$BG$18:$BG$1017,$B149,'Daily Log'!$BH$18:$BH$1017),0)","v":0},{"$f":"IFERROR($E149*SUMIF('Daily Log'!$BJ$18:$BJ$1017,$B149,'Daily Log'!$BK$18:$BK$1017),0)","v":0},{"$f":"IFERROR($E149*SUMIF('Daily Log'!$BM$18:$BM$1017,$B149,'Daily Log'!$BN$18:$BN$1017),0)","v":0},{"$f":"IFERROR($E149*SUMIF('Daily Log'!$BP$18:$BP$1017,$B149,'Daily Log'!$BQ$18:$BQ$1017),0)","v":0},{"$f":"IFERROR($E149*SUMIF('Daily Log'!$BS$18:$BS$1017,$B149,'Daily Log'!$BT$18:$BT$1017),0)","v":0},{"$f":"IFERROR($E149*SUMIF('Daily Log'!$BV$18:$BV$1017,$B149,'Daily Log'!$BW$18:$BW$1017),0)","v":0},{"$f":"IFERROR($E149*SUMIF('Daily Log'!$BY$18:$BY$1017,$B149,'Daily Log'!$BZ$18:$BZ$1017),0)","v":0},{"$f":"IFERROR($E149*SUMIF('Daily Log'!$CB$18:$CB$1017,$B149,'Daily Log'!$CC$18:$CC$1017),0)","v":0},{"$f":"IFERROR($E149*SUMIF('Daily Log'!$CE$18:$CE$1017,$B149,'Daily Log'!$CF$18:$CF$1017),0)","v":0},{"$f":"IFERROR($E149*SUMIF('Daily Log'!$CH$18:$CH$1017,$B149,'Daily Log'!$CI$18:$CI$1017),0)","v":0},{"$f":"IFERROR($E149*SUMIF('Daily Log'!$CK$18:$CK$1017,$B149,'Daily Log'!$CL$18:$CL$1017),0)","v":0},{"$f":"IFERROR($E149*SUMIF('Daily Log'!$CN$18:$CN$1017,$B149,'Daily Log'!$CO$18:$CO$1017),0)","v":0}]
[null,"11606:L -C04-港式炒饭",null,"K LUNCH-LOCAL DELIGHTS",1,0,{"$f":"IFERROR($E150*SUMIF('Daily Log'!$B$18:$B$1017,$B150,'Daily Log'!$C$18:$C$1017),0)","v":0},{"$f":"IFERROR($E150*SUMIF('Daily Log'!$E$18:$E$1017,$B150,'Daily Log'!$F$18:$F$1017),0)","v":0},{"$f":"IFERROR($E150*SUMIF('Daily Log'!$H$18:$H$1017,$B150,'Daily Log'!$I$18:$I$1017),0)","v":0},{"$f":"IFERROR($E150*SUMIF('Daily Log'!$K$18:$K$1017,$B150,'Daily Log'!$L$18:$L$1017),0)","v":0},{"$f":"IFERROR($E150*SUMIF('Daily Log'!$N$18:$N$1017,$B150,'Daily Log'!$O$18:$O$1017),0)","v":0},{"$f":"IFERROR($E150*SUMIF('Daily Log'!$Q$18:$Q$1017,$B150,'Daily Log'!$R$18:$R$1017),0)","v":0},{"$f":"IFERROR($E150*SUMIF('Daily Log'!$T$18:$T$1017,$B150,'Daily Log'!$U$18:$U$1017),0)","v":0},{"$f":"IFERROR($E150*SUMIF('Daily Log'!$W$18:$W$1017,$B150,'Daily Log'!$X$18:$X$1017),0)","v":0},{"$f":"IFERROR($E150*SUMIF('Daily Log'!$Z$18:$Z$1017,$B150,'Daily Log'!$AA$18:$AA$1017),0)","v":0},{"$f":"IFERROR($E150*SUMIF('Daily Log'!$AC$18:$AC$1017,$B150,'Daily Log'!$AD$18:$AD$1017),0)","v":0},{"$f":"IFERROR($E150*SUMIF('Daily Log'!$AF$18:$AF$1017,$B150,'Daily Log'!$AG$18:$AG$1017),0)","v":0},{"$f":"IFERROR($E150*SUMIF('Daily Log'!$AI$18:$AI$1017,$B150,'Daily Log'!$AJ$18:$AJ$1017),0)","v":0},{"$f":"IFERROR($E150*SUMIF('Daily Log'!$AL$18:$AL$1017,$B150,'Daily Log'!$AM$18:$AM$1017),0)","v":0},{"$f":"IFERROR($E150*SUMIF('Daily Log'!$AO$18:$AO$1017,$B150,'Daily Log'!$AP$18:$AP$1017),0)","v":0},{"$f":"IFERROR($E150*SUMIF('Daily Log'!$AR$18:$AR$1017,$B150,'Daily Log'!$AS$18:$AS$1017),0)","v":0},{"$f":"IFERROR($E150*SUMIF('Daily Log'!$AU$18:$AU$1017,$B150,'Daily Log'!$AV$18:$AV$1017),0)","v":0},{"$f":"IFERROR($E150*SUMIF('Daily Log'!$AX$18:$AX$1017,$B150,'Daily Log'!$AY$18:$AY$1017),0)","v":0},{"$f":"IFERROR($E150*SUMIF('Daily Log'!$BA$18:$BA$1017,$B150,'Daily Log'!$BB$18:$BB$1017),0)","v":0},{"$f":"IFERROR($E150*SUMIF('Daily Log'!$BD$18:$BD$1017,$B150,'Daily Log'!$BE$18:$BE$1017),0)","v":0},{"$f":"IFERROR($E150*SUMIF('Daily Log'!$BG$18:$BG$1017,$B150,'Daily Log'!$BH$18:$BH$1017),0)","v":0},{"$f":"IFERROR($E150*SUMIF('Daily Log'!$BJ$18:$BJ$1017,$B150,'Daily Log'!$BK$18:$BK$1017),0)","v":0},{"$f":"IFERROR($E150*SUMIF('Daily Log'!$BM$18:$BM$1017,$B150,'Daily Log'!$BN$18:$BN$1017),0)","v":0},{"$f":"IFERROR($E150*SUMIF('Daily Log'!$BP$18:$BP$1017,$B150,'Daily Log'!$BQ$18:$BQ$1017),0)","v":0},{"$f":"IFERROR($E150*SUMIF('Daily Log'!$BS$18:$BS$1017,$B150,'Daily Log'!$BT$18:$BT$1017),0)","v":0},{"$f":"IFERROR($E150*SUMIF('Daily Log'!$BV$18:$BV$1017,$B150,'Daily Log'!$BW$18:$BW$1017),0)","v":0},{"$f":"IFERROR($E150*SUMIF('Daily Log'!$BY$18:$BY$1017,$B150,'Daily Log'!$BZ$18:$BZ$1017),0)","v":0},{"$f":"IFERROR($E150*SUMIF('Daily Log'!$CB$18:$CB$1017,$B150,'Daily Log'!$CC$18:$CC$1017),0)","v":0},{"$f":"IFERROR($E150*SUMIF('Daily Log'!$CE$18:$CE$1017,$B150,'Daily Log'!$CF$18:$CF$1017),0)","v":0},{"$f":"IFERROR($E150*SUMIF('Daily Log'!$CH$18:$CH$1017,$B150,'Daily Log'!$CI$18:$CI$1017),0)","v":0},{"$f":"IFERROR($E150*SUMIF('Daily Log'!$CK$18:$CK$1017,$B150,'Daily Log'!$CL$18:$CL$1017),0)","v":0},{"$f":"IFERROR($E150*SUMIF('Daily Log'!$CN$18:$CN$1017,$B150,'Daily Log'!$CO$18:$CO$1017),0)","v":0}]
[null,"11609:L -C09-奶油鱼片饭",null,"K LUNCH-LOCAL DELIGHTS",1,0,{"$f":"IFERROR($E151*SUMIF('Daily Log'!$B$18:$B$1017,$B151,'Daily Log'!$C$18:$C$1017),0)","v":0},{"$f":"IFERROR($E151*SUMIF('Daily Log'!$E$18:$E$1017,$B151,'Daily Log'!$F$18:$F$1017),0)","v":0},{"$f":"IFERROR($E151*SUMIF('Daily Log'!$H$18:$H$1017,$B151,'Daily Log'!$I$18:$I$1017),0)","v":0},{"$f":"IFERROR($E151*SUMIF('Daily Log'!$K$18:$K$1017,$B151,'Daily Log'!$L$18:$L$1017),0)","v":0},{"$f":"IFERROR($E151*SUMIF('Daily Log'!$N$18:$N$1017,$B151,'Daily Log'!$O$18:$O$1017),0)","v":0},{"$f":"IFERROR($E151*SUMIF('Daily Log'!$Q$18:$Q$1017,$B151,'Daily Log'!$R$18:$R$1017),0)","v":0},{"$f":"IFERROR($E151*SUMIF('Daily Log'!$T$18:$T$1017,$B151,'Daily Log'!$U$18:$U$1017),0)","v":0},{"$f":"IFERROR($E151*SUMIF('Daily Log'!$W$18:$W$1017,$B151,'Daily Log'!$X$18:$X$1017),0)","v":0},{"$f":"IFERROR($E151*SUMIF('Daily Log'!$Z$18:$Z$1017,$B151,'Daily Log'!$AA$18:$AA$1017),0)","v":0},{"$f":"IFERROR($E151*SUMIF('Daily Log'!$AC$18:$AC$1017,$B151,'Daily Log'!$AD$18:$AD$1017),0)","v":0},{"$f":"IFERROR($E151*SUMIF('Daily Log'!$AF$18:$AF$1017,$B151,'Daily Log'!$AG$18:$AG$1017),0)","v":0},{"$f":"IFERROR($E151*SUMIF('Daily Log'!$AI$18:$AI$1017,$B151,'Daily Log'!$AJ$18:$AJ$1017),0)","v":0},{"$f":"IFERROR($E151*SUMIF('Daily Log'!$AL$18:$AL$1017,$B151,'Daily Log'!$AM$18:$AM$1017),0)","v":0},{"$f":"IFERROR($E151*SUMIF('Daily Log'!$AO$18:$AO$1017,$B151,'Daily Log'!$AP$18:$AP$1017),0)","v":0},{"$f":"IFERROR($E151*SUMIF('Daily Log'!$AR$18:$AR$1017,$B151,'Daily Log'!$AS$18:$AS$1017),0)","v":0},{"$f":"IFERROR($E151*SUMIF('Daily Log'!$AU$18:$AU$1017,$B151,'Daily Log'!$AV$18:$AV$1017),0)","v":0},{"$f":"IFERROR($E151*SUMIF('Daily Log'!$AX$18:$AX$1017,$B151,'Daily Log'!$AY$18:$AY$1017),0)","v":0},{"$f":"IFERROR($E151*SUMIF('Daily Log'!$BA$18:$BA$1017,$B151,'Daily Log'!$BB$18:$BB$1017),0)","v":0},{"$f":"IFERROR($E151*SUMIF('Daily Log'!$BD$18:$BD$1017,$B151,'Daily Log'!$BE$18:$BE$1017),0)","v":0},{"$f":"IFERROR($E151*SUMIF('Daily Log'!$BG$18:$BG$1017,$B151,'Daily Log'!$BH$18:$BH$1017),0)","v":0},{"$f":"IFERROR($E151*SUMIF('Daily Log'!$BJ$18:$BJ$1017,$B151,'Daily Log'!$BK$18:$BK$1017),0)","v":0},{"$f":"IFERROR($E151*SUMIF('Daily Log'!$BM$18:$BM$1017,$B151,'Daily Log'!$BN$18:$BN$1017),0)","v":0},{"$f":"IFERROR($E151*SUMIF('Daily Log'!$BP$18:$BP$1017,$B151,'Daily Log'!$BQ$18:$BQ$1017),0)","v":0},{"$f":"IFERROR($E151*SUMIF('Daily Log'!$BS$18:$BS$1017,$B151,'Daily Log'!$BT$18:$BT$1017),0)","v":0},{"$f":"IFERROR($E151*SUMIF('Daily Log'!$BV$18:$BV$1017,$B151,'Daily Log'!$BW$18:$BW$1017),0)","v":0},{"$f":"IFERROR($E151*SUMIF('Daily Log'!$BY$18:$BY$1017,$B151,'Daily Log'!$BZ$18:$BZ$1017),0)","v":0},{"$f":"IFERROR($E151*SUMIF('Daily Log'!$CB$18:$CB$1017,$B151,'Daily Log'!$CC$18:$CC$1017),0)","v":0},{"$f":"IFERROR($E151*SUMIF('Daily Log'!$CE$18:$CE$1017,$B151,'Daily Log'!$CF$18:$CF$1017),0)","v":0},{"$f":"IFERROR($E151*SUMIF('Daily Log'!$CH$18:$CH$1017,$B151,'Daily Log'!$CI$18:$CI$1017),0)","v":0},{"$f":"IFERROR($E151*SUMIF('Daily Log'!$CK$18:$CK$1017,$B151,'Daily Log'!$CL$18:$CL$1017),0)","v":0},{"$f":"IFERROR($E151*SUMIF('Daily Log'!$CN$18:$CN$1017,$B151,'Daily Log'!$CO$18:$CO$1017),0)","v":0}]
[null,"11610:L -C05-黑椒乌冬面",null,"K LUNCH-LOCAL DELIGHTS",1,0,{"$f":"IFERROR($E152*SUMIF('Daily Log'!$B$18:$B$1017,$B152,'Daily Log'!$C$18:$C$1017),0)","v":0},{"$f":"IFERROR($E152*SUMIF('Daily Log'!$E$18:$E$1017,$B152,'Daily Log'!$F$18:$F$1017),0)","v":0},{"$f":"IFERROR($E152*SUMIF('Daily Log'!$H$18:$H$1017,$B152,'Daily Log'!$I$18:$I$1017),0)","v":0},{"$f":"IFERROR($E152*SUMIF('Daily Log'!$K$18:$K$1017,$B152,'Daily Log'!$L$18:$L$1017),0)","v":0},{"$f":"IFERROR($E152*SUMIF('Daily Log'!$N$18:$N$1017,$B152,'Daily Log'!$O$18:$O$1017),0)","v":0},{"$f":"IFERROR($E152*SUMIF('Daily Log'!$Q$18:$Q$1017,$B152,'Daily Log'!$R$18:$R$1017),0)","v":0},{"$f":"IFERROR($E152*SUMIF('Daily Log'!$T$18:$T$1017,$B152,'Daily Log'!$U$18:$U$1017),0)","v":0},{"$f":"IFERROR($E152*SUMIF('Daily Log'!$W$18:$W$1017,$B152,'Daily Log'!$X$18:$X$1017),0)","v":0},{"$f":"IFERROR($E152*SUMIF('Daily Log'!$Z$18:$Z$1017,$B152,'Daily Log'!$AA$18:$AA$1017),0)","v":0},{"$f":"IFERROR($E152*SUMIF('Daily Log'!$AC$18:$AC$1017,$B152,'Daily Log'!$AD$18:$AD$1017),0)","v":0},{"$f":"IFERROR($E152*SUMIF('Daily Log'!$AF$18:$AF$1017,$B152,'Daily Log'!$AG$18:$AG$1017),0)","v":0},{"$f":"IFERROR($E152*SUMIF('Daily Log'!$AI$18:$AI$1017,$B152,'Daily Log'!$AJ$18:$AJ$1017),0)","v":0},{"$f":"IFERROR($E152*SUMIF('Daily Log'!$AL$18:$AL$1017,$B152,'Daily Log'!$AM$18:$AM$1017),0)","v":0},{"$f":"IFERROR($E152*SUMIF('Daily Log'!$AO$18:$AO$1017,$B152,'Daily Log'!$AP$18:$AP$1017),0)","v":0},{"$f":"IFERROR($E152*SUMIF('Daily Log'!$AR$18:$AR$1017,$B152,'Daily Log'!$AS$18:$AS$1017),0)","v":0},{"$f":"IFERROR($E152*SUMIF('Daily Log'!$AU$18:$AU$1017,$B152,'Daily Log'!$AV$18:$AV$1017),0)","v":0},{"$f":"IFERROR($E152*SUMIF('Daily Log'!$AX$18:$AX$1017,$B152,'Daily Log'!$AY$18:$AY$1017),0)","v":0},{"$f":"IFERROR($E152*SUMIF('Daily Log'!$BA$18:$BA$1017,$B152,'Daily Log'!$BB$18:$BB$1017),0)","v":0},{"$f":"IFERROR($E152*SUMIF('Daily Log'!$BD$18:$BD$1017,$B152,'Daily Log'!$BE$18:$BE$1017),0)","v":0},{"$f":"IFERROR($E152*SUMIF('Daily Log'!$BG$18:$BG$1017,$B152,'Daily Log'!$BH$18:$BH$1017),0)","v":0},{"$f":"IFERROR($E152*SUMIF('Daily Log'!$BJ$18:$BJ$1017,$B152,'Daily Log'!$BK$18:$BK$1017),0)","v":0},{"$f":"IFERROR($E152*SUMIF('Daily Log'!$BM$18:$BM$1017,$B152,'Daily Log'!$BN$18:$BN$1017),0)","v":0},{"$f":"IFERROR($E152*SUMIF('Daily Log'!$BP$18:$BP$1017,$B152,'Daily Log'!$BQ$18:$BQ$1017),0)","v":0},{"$f":"IFERROR($E152*SUMIF('Daily Log'!$BS$18:$BS$1017,$B152,'Daily Log'!$BT$18:$BT$1017),0)","v":0},{"$f":"IFERROR($E152*SUMIF('Daily Log'!$BV$18:$BV$1017,$B152,'Daily Log'!$BW$18:$BW$1017),0)","v":0},{"$f":"IFERROR($E152*SUMIF('Daily Log'!$BY$18:$BY$1017,$B152,'Daily Log'!$BZ$18:$BZ$1017),0)","v":0},{"$f":"IFERROR($E152*SUMIF('Daily Log'!$CB$18:$CB$1017,$B152,'Daily Log'!$CC$18:$CC$1017),0)","v":0},{"$f":"IFERROR($E152*SUMIF('Daily Log'!$CE$18:$CE$1017,$B152,'Daily Log'!$CF$18:$CF$1017),0)","v":0},{"$f":"IFERROR($E152*SUMIF('Daily Log'!$CH$18:$CH$1017,$B152,'Daily Log'!$CI$18:$CI$1017),0)","v":0},{"$f":"IFERROR($E152*SUMIF('Daily Log'!$CK$18:$CK$1017,$B152,'Daily Log'!$CL$18:$CL$1017),0)","v":0},{"$f":"IFERROR($E152*SUMIF('Daily Log'!$CN$18:$CN$1017,$B152,'Daily Log'!$CO$18:$CO$1017),0)","v":0}]
[null,"11607:L -C07-泰式鱼片饭",null,"K LUNCH-LOCAL DELIGHTS",1,0,{"$f":"IFERROR($E153*SUMIF('Daily Log'!$B$18:$B$1017,$B153,'Daily Log'!$C$18:$C$1017),0)","v":0},{"$f":"IFERROR($E153*SUMIF('Daily Log'!$E$18:$E$1017,$B153,'Daily Log'!$F$18:$F$1017),0)","v":0},{"$f":"IFERROR($E153*SUMIF('Daily Log'!$H$18:$H$1017,$B153,'Daily Log'!$I$18:$I$1017),0)","v":0},{"$f":"IFERROR($E153*SUMIF('Daily Log'!$K$18:$K$1017,$B153,'Daily Log'!$L$18:$L$1017),0)","v":0},{"$f":"IFERROR($E153*SUMIF('Daily Log'!$N$18:$N$1017,$B153,'Daily Log'!$O$18:$O$1017),0)","v":0},{"$f":"IFERROR($E153*SUMIF('Daily Log'!$Q$18:$Q$1017,$B153,'Daily Log'!$R$18:$R$1017),0)","v":0},{"$f":"IFERROR($E153*SUMIF('Daily Log'!$T$18:$T$1017,$B153,'Daily Log'!$U$18:$U$1017),0)","v":0},{"$f":"IFERROR($E153*SUMIF('Daily Log'!$W$18:$W$1017,$B153,'Daily Log'!$X$18:$X$1017),0)","v":0},{"$f":"IFERROR($E153*SUMIF('Daily Log'!$Z$18:$Z$1017,$B153,'Daily Log'!$AA$18:$AA$1017),0)","v":0},{"$f":"IFERROR($E153*SUMIF('Daily Log'!$AC$18:$AC$1017,$B153,'Daily Log'!$AD$18:$AD$1017),0)","v":0},{"$f":"IFERROR($E153*SUMIF('Daily Log'!$AF$18:$AF$1017,$B153,'Daily Log'!$AG$18:$AG$1017),0)","v":0},{"$f":"IFERROR($E153*SUMIF('Daily Log'!$AI$18:$AI$1017,$B153,'Daily Log'!$AJ$18:$AJ$1017),0)","v":0},{"$f":"IFERROR($E153*SUMIF('Daily Log'!$AL$18:$AL$1017,$B153,'Daily Log'!$AM$18:$AM$1017),0)","v":0},{"$f":"IFERROR($E153*SUMIF('Daily Log'!$AO$18:$AO$1017,$B153,'Daily Log'!$AP$18:$AP$1017),0)","v":0},{"$f":"IFERROR($E153*SUMIF('Daily Log'!$AR$18:$AR$1017,$B153,'Daily Log'!$AS$18:$AS$1017),0)","v":0},{"$f":"IFERROR($E153*SUMIF('Daily Log'!$AU$18:$AU$1017,$B153,'Daily Log'!$AV$18:$AV$1017),0)","v":0},{"$f":"IFERROR($E153*SUMIF('Daily Log'!$AX$18:$AX$1017,$B153,'Daily Log'!$AY$18:$AY$1017),0)","v":0},{"$f":"IFERROR($E153*SUMIF('Daily Log'!$BA$18:$BA$1017,$B153,'Daily Log'!$BB$18:$BB$1017),0)","v":0},{"$f":"IFERROR($E153*SUMIF('Daily Log'!$BD$18:$BD$1017,$B153,'Daily Log'!$BE$18:$BE$1017),0)","v":0},{"$f":"IFERROR($E153*SUMIF('Daily Log'!$BG$18:$BG$1017,$B153,'Daily Log'!$BH$18:$BH$1017),0)","v":0},{"$f":"IFERROR($E153*SUMIF('Daily Log'!$BJ$18:$BJ$1017,$B153,'Daily Log'!$BK$18:$BK$1017),0)","v":0},{"$f":"IFERROR($E153*SUMIF('Daily Log'!$BM$18:$BM$1017,$B153,'Daily Log'!$BN$18:$BN$1017),0)","v":0},{"$f":"IFERROR($E153*SUMIF('Daily Log'!$BP$18:$BP$1017,$B153,'Daily Log'!$BQ$18:$BQ$1017),0)","v":0},{"$f":"IFERROR($E153*SUMIF('Daily Log'!$BS$18:$BS$1017,$B153,'Daily Log'!$BT$18:$BT$1017),0)","v":0},{"$f":"IFERROR($E153*SUMIF('Daily Log'!$BV$18:$BV$1017,$B153,'Daily Log'!$BW$18:$BW$1017),0)","v":0},{"$f":"IFERROR($E153*SUMIF('Daily Log'!$BY$18:$BY$1017,$B153,'Daily Log'!$BZ$18:$BZ$1017),0)","v":0},{"$f":"IFERROR($E153*SUMIF('Daily Log'!$CB$18:$CB$1017,$B153,'Daily Log'!$CC$18:$CC$1017),0)","v":0},{"$f":"IFERROR($E153*SUMIF('Daily Log'!$CE$18:$CE$1017,$B153,'Daily Log'!$CF$18:$CF$1017),0)","v":0},{"$f":"IFERROR($E153*SUMIF('Daily Log'!$CH$18:$CH$1017,$B153,'Daily Log'!$CI$18:$CI$1017),0)","v":0},{"$f":"IFERROR($E153*SUMIF('Daily Log'!$CK$18:$CK$1017,$B153,'Daily Log'!$CL$18:$CL$1017),0)","v":0},{"$f":"IFERROR($E153*SUMIF('Daily Log'!$CN$18:$CN$1017,$B153,'Daily Log'!$CO$18:$CO$1017),0)","v":0}]
[null,"11608:L -C08-妈蜜鱼片饭",null,"K LUNCH-LOCAL DELIGHTS",1,0,{"$f":"IFERROR($E154*SUMIF('Daily Log'!$B$18:$B$1017,$B154,'Daily Log'!$C$18:$C$1017),0)","v":0},{"$f":"IFERROR($E154*SUMIF('Daily Log'!$E$18:$E$1017,$B154,'Daily Log'!$F$18:$F$1017),0)","v":0},{"$f":"IFERROR($E154*SUMIF('Daily Log'!$H$18:$H$1017,$B154,'Daily Log'!$I$18:$I$1017),0)","v":0},{"$f":"IFERROR($E154*SUMIF('Daily Log'!$K$18:$K$1017,$B154,'Daily Log'!$L$18:$L$1017),0)","v":0},{"$f":"IFERROR($E154*SUMIF('Daily Log'!$N$18:$N$1017,$B154,'Daily Log'!$O$18:$O$1017),0)","v":0},{"$f":"IFERROR($E154*SUMIF('Daily Log'!$Q$18:$Q$1017,$B154,'Daily Log'!$R$18:$R$1017),0)","v":0},{"$f":"IFERROR($E154*SUMIF('Daily Log'!$T$18:$T$1017,$B154,'Daily Log'!$U$18:$U$1017),0)","v":0},{"$f":"IFERROR($E154*SUMIF('Daily Log'!$W$18:$W$1017,$B154,'Daily Log'!$X$18:$X$1017),0)","v":0},{"$f":"IFERROR($E154*SUMIF('Daily Log'!$Z$18:$Z$1017,$B154,'Daily Log'!$AA$18:$AA$1017),0)","v":0},{"$f":"IFERROR($E154*SUMIF('Daily Log'!$AC$18:$AC$1017,$B154,'Daily Log'!$AD$18:$AD$1017),0)","v":0},{"$f":"IFERROR($E154*SUMIF('Daily Log'!$AF$18:$AF$1017,$B154,'Daily Log'!$AG$18:$AG$1017),0)","v":0},{"$f":"IFERROR($E154*SUMIF('Daily Log'!$AI$18:$AI$1017,$B154,'Daily Log'!$AJ$18:$AJ$1017),0)","v":0},{"$f":"IFERROR($E154*SUMIF('Daily Log'!$AL$18:$AL$1017,$B154,'Daily Log'!$AM$18:$AM$1017),0)","v":0},{"$f":"IFERROR($E154*SUMIF('Daily Log'!$AO$18:$AO$1017,$B154,'Daily Log'!$AP$18:$AP$1017),0)","v":0},{"$f":"IFERROR($E154*SUMIF('Daily Log'!$AR$18:$AR$1017,$B154,'Daily Log'!$AS$18:$AS$1017),0)","v":0},{"$f":"IFERROR($E154*SUMIF('Daily Log'!$AU$18:$AU$1017,$B154,'Daily Log'!$AV$18:$AV$1017),0)","v":0},{"$f":"IFERROR($E154*SUMIF('Daily Log'!$AX$18:$AX$1017,$B154,'Daily Log'!$AY$18:$AY$1017),0)","v":0},{"$f":"IFERROR($E154*SUMIF('Daily Log'!$BA$18:$BA$1017,$B154,'Daily Log'!$BB$18:$BB$1017),0)","v":0},{"$f":"IFERROR($E154*SUMIF('Daily Log'!$BD$18:$BD$1017,$B154,'Daily Log'!$BE$18:$BE$1017),0)","v":0},{"$f":"IFERROR($E154*SUMIF('Daily Log'!$BG$18:$BG$1017,$B154,'Daily Log'!$BH$18:$BH$1017),0)","v":0},{"$f":"IFERROR($E154*SUMIF('Daily Log'!$BJ$18:$BJ$1017,$B154,'Daily Log'!$BK$18:$BK$1017),0)","v":0},{"$f":"IFERROR($E154*SUMIF('Daily Log'!$BM$18:$BM$1017,$B154,'Daily Log'!$BN$18:$BN$1017),0)","v":0},{"$f":"IFERROR($E154*SUMIF('Daily Log'!$BP$18:$BP$1017,$B154,'Daily Log'!$BQ$18:$BQ$1017),0)","v":0},{"$f":"IFERROR($E154*SUMIF('Daily Log'!$BS$18:$BS$1017,$B154,'Daily Log'!$BT$18:$BT$1017),0)","v":0},{"$f":"IFERROR($E154*SUMIF('Daily Log'!$BV$18:$BV$1017,$B154,'Daily Log'!$BW$18:$BW$1017),0)","v":0},{"$f":"IFERROR($E154*SUMIF('Daily Log'!$BY$18:$BY$1017,$B154,'Daily Log'!$BZ$18:$BZ$1017),0)","v":0},{"$f":"IFERROR($E154*SUMIF('Daily Log'!$CB$18:$CB$1017,$B154,'Daily Log'!$CC$18:$CC$1017),0)","v":0},{"$f":"IFERROR($E154*SUMIF('Daily Log'!$CE$18:$CE$1017,$B154,'Daily Log'!$CF$18:$CF$1017),0)","v":0},{"$f":"IFERROR($E154*SUMIF('Daily Log'!$CH$18:$CH$1017,$B154,'Daily Log'!$CI$18:$CI$1017),0)","v":0},{"$f":"IFERROR($E154*SUMIF('Daily Log'!$CK$18:$CK$1017,$B154,'Daily Log'!$CL$18:$CL$1017),0)","v":0},{"$f":"IFERROR($E154*SUMIF('Daily Log'!$CN$18:$CN$1017,$B154,'Daily Log'!$CO$18:$CO$1017),0)","v":0}]
[null,"11617:L -S02-小薯脆脆",null,"LUNCH SNACK",1,22,{"$f":"IFERROR($E155*SUMIF('Daily Log'!$B$18:$B$1017,$B155,'Daily Log'!$C$18:$C$1017),0)","v":0},{"$f":"IFERROR($E155*SUMIF('Daily Log'!$E$18:$E$1017,$B155,'Daily Log'!$F$18:$F$1017),0)","v":0},{"$f":"IFERROR($E155*SUMIF('Daily Log'!$H$18:$H$1017,$B155,'Daily Log'!$I$18:$I$1017),0)","v":0},{"$f":"IFERROR($E155*SUMIF('Daily Log'!$K$18:$K$1017,$B155,'Daily Log'!$L$18:$L$1017),0)","v":0},{"$f":"IFERROR($E155*SUMIF('Daily Log'!$N$18:$N$1017,$B155,'Daily Log'!$O$18:$O$1017),0)","v":0},{"$f":"IFERROR($E155*SUMIF('Daily Log'!$Q$18:$Q$1017,$B155,'Daily Log'!$R$18:$R$1017),0)","v":0},{"$f":"IFERROR($E155*SUMIF('Daily Log'!$T$18:$T$1017,$B155,'Daily Log'!$U$18:$U$1017),0)","v":3},{"$f":"IFERROR($E155*SUMIF('Daily Log'!$W$18:$W$1017,$B155,'Daily Log'!$X$18:$X$1017),0)","v":3},{"$f":"IFERROR($E155*SUMIF('Daily Log'!$Z$18:$Z$1017,$B155,'Daily Log'!$AA$18:$AA$1017),0)","v":4},{"$f":"IFERROR($E155*SUMIF('Daily Log'!$AC$18:$AC$1017,$B155,'Daily Log'!$AD$18:$AD$1017),0)","v":0},{"$f":"IFERROR($E155*SUMIF('Daily Log'!$AF$18:$AF$1017,$B155,'Daily Log'!$AG$18:$AG$1017),0)","v":3},{"$f":"IFERROR($E155*SUMIF('Daily Log'!$AI$18:$AI$1017,$B155,'Daily Log'!$AJ$18:$AJ$1017),0)","v":2},{"$f":"IFERROR($E155*SUMIF('Daily Log'!$AL$18:$AL$1017,$B155,'Daily Log'!$AM$18:$AM$1017),0)","v":7},{"$f":"IFERROR($E155*SUMIF('Daily Log'!$AO$18:$AO$1017,$B155,'Daily Log'!$AP$18:$AP$1017),0)","v":0},{"$f":"IFERROR($E155*SUMIF('Daily Log'!$AR$18:$AR$1017,$B155,'Daily Log'!$AS$18:$AS$1017),0)","v":0},{"$f":"IFERROR($E155*SUMIF('Daily Log'!$AU$18:$AU$1017,$B155,'Daily Log'!$AV$18:$AV$1017),0)","v":0},{"$f":"IFERROR($E155*SUMIF('Daily Log'!$AX$18:$AX$1017,$B155,'Daily Log'!$AY$18:$AY$1017),0)","v":0},{"$f":"IFERROR($E155*SUMIF('Daily Log'!$BA$18:$BA$1017,$B155,'Daily Log'!$BB$18:$BB$1017),0)","v":0},{"$f":"IFERROR($E155*SUMIF('Daily Log'!$BD$18:$BD$1017,$B155,'Daily Log'!$BE$18:$BE$1017),0)","v":0},{"$f":"IFERROR($E155*SUMIF('Daily Log'!$BG$18:$BG$1017,$B155,'Daily Log'!$BH$18:$BH$1017),0)","v":0},{"$f":"IFERROR($E155*SUMIF('Daily Log'!$BJ$18:$BJ$1017,$B155,'Daily Log'!$BK$18:$BK$1017),0)","v":0},{"$f":"IFERROR($E155*SUMIF('Daily Log'!$BM$18:$BM$1017,$B155,'Daily Log'!$BN$18:$BN$1017),0)","v":0},{"$f":"IFERROR($E155*SUMIF('Daily Log'!$BP$18:$BP$1017,$B155,'Daily Log'!$BQ$18:$BQ$1017),0)","v":0},{"$f":"IFERROR($E155*SUMIF('Daily Log'!$BS$18:$BS$1017,$B155,'Daily Log'!$BT$18:$BT$1017),0)","v":0},{"$f":"IFERROR($E155*SUMIF('Daily Log'!$BV$18:$BV$1017,$B155,'Daily Log'!$BW$18:$BW$1017),0)","v":0},{"$f":"IFERROR($E155*SUMIF('Daily Log'!$BY$18:$BY$1017,$B155,'Daily Log'!$BZ$18:$BZ$1017),0)","v":0},{"$f":"IFERROR($E155*SUMIF('Daily Log'!$CB$18:$CB$1017,$B155,'Daily Log'!$CC$18:$CC$1017),0)","v":0},{"$f":"IFERROR($E155*SUMIF('Daily Log'!$CE$18:$CE$1017,$B155,'Daily Log'!$CF$18:$CF$1017),0)","v":0},{"$f":"IFERROR($E155*SUMIF('Daily Log'!$CH$18:$CH$1017,$B155,'Daily Log'!$CI$18:$CI$1017),0)","v":0},{"$f":"IFERROR($E155*SUMIF('Daily Log'!$CK$18:$CK$1017,$B155,'Daily Log'!$CL$18:$CL$1017),0)","v":0},{"$f":"IFERROR($E155*SUMIF('Daily Log'!$CN$18:$CN$1017,$B155,'Daily Log'!$CO$18:$CO$1017),0)","v":0}]
[null,"11619:L -S06-小小鱼丸",null,"LUNCH SNACK",1,3,{"$f":"IFERROR($E156*SUMIF('Daily Log'!$B$18:$B$1017,$B156,'Daily Log'!$C$18:$C$1017),0)","v":0},{"$f":"IFERROR($E156*SUMIF('Daily Log'!$E$18:$E$1017,$B156,'Daily Log'!$F$18:$F$1017),0)","v":0},{"$f":"IFERROR($E156*SUMIF('Daily Log'!$H$18:$H$1017,$B156,'Daily Log'!$I$18:$I$1017),0)","v":0},{"$f":"IFERROR($E156*SUMIF('Daily Log'!$K$18:$K$1017,$B156,'Daily Log'!$L$18:$L$1017),0)","v":0},{"$f":"IFERROR($E156*SUMIF('Daily Log'!$N$18:$N$1017,$B156,'Daily Log'!$O$18:$O$1017),0)","v":0},{"$f":"IFERROR($E156*SUMIF('Daily Log'!$Q$18:$Q$1017,$B156,'Daily Log'!$R$18:$R$1017),0)","v":0},{"$f":"IFERROR($E156*SUMIF('Daily Log'!$T$18:$T$1017,$B156,'Daily Log'!$U$18:$U$1017),0)","v":0},{"$f":"IFERROR($E156*SUMIF('Daily Log'!$W$18:$W$1017,$B156,'Daily Log'!$X$18:$X$1017),0)","v":0},{"$f":"IFERROR($E156*SUMIF('Daily Log'!$Z$18:$Z$1017,$B156,'Daily Log'!$AA$18:$AA$1017),0)","v":3},{"$f":"IFERROR($E156*SUMIF('Daily Log'!$AC$18:$AC$1017,$B156,'Daily Log'!$AD$18:$AD$1017),0)","v":0},{"$f":"IFERROR($E156*SUMIF('Daily Log'!$AF$18:$AF$1017,$B156,'Daily Log'!$AG$18:$AG$1017),0)","v":0},{"$f":"IFERROR($E156*SUMIF('Daily Log'!$AI$18:$AI$1017,$B156,'Daily Log'!$AJ$18:$AJ$1017),0)","v":0},{"$f":"IFERROR($E156*SUMIF('Daily Log'!$AL$18:$AL$1017,$B156,'Daily Log'!$AM$18:$AM$1017),0)","v":0},{"$f":"IFERROR($E156*SUMIF('Daily Log'!$AO$18:$AO$1017,$B156,'Daily Log'!$AP$18:$AP$1017),0)","v":0},{"$f":"IFERROR($E156*SUMIF('Daily Log'!$AR$18:$AR$1017,$B156,'Daily Log'!$AS$18:$AS$1017),0)","v":0},{"$f":"IFERROR($E156*SUMIF('Daily Log'!$AU$18:$AU$1017,$B156,'Daily Log'!$AV$18:$AV$1017),0)","v":0},{"$f":"IFERROR($E156*SUMIF('Daily Log'!$AX$18:$AX$1017,$B156,'Daily Log'!$AY$18:$AY$1017),0)","v":0},{"$f":"IFERROR($E156*SUMIF('Daily Log'!$BA$18:$BA$1017,$B156,'Daily Log'!$BB$18:$BB$1017),0)","v":0},{"$f":"IFERROR($E156*SUMIF('Daily Log'!$BD$18:$BD$1017,$B156,'Daily Log'!$BE$18:$BE$1017),0)","v":0},{"$f":"IFERROR($E156*SUMIF('Daily Log'!$BG$18:$BG$1017,$B156,'Daily Log'!$BH$18:$BH$1017),0)","v":0},{"$f":"IFERROR($E156*SUMIF('Daily Log'!$BJ$18:$BJ$1017,$B156,'Daily Log'!$BK$18:$BK$1017),0)","v":0},{"$f":"IFERROR($E156*SUMIF('Daily Log'!$BM$18:$BM$1017,$B156,'Daily Log'!$BN$18:$BN$1017),0)","v":0},{"$f":"IFERROR($E156*SUMIF('Daily Log'!$BP$18:$BP$1017,$B156,'Daily Log'!$BQ$18:$BQ$1017),0)","v":0},{"$f":"IFERROR($E156*SUMIF('Daily Log'!$BS$18:$BS$1017,$B156,'Daily Log'!$BT$18:$BT$1017),0)","v":0},{"$f":"IFERROR($E156*SUMIF('Daily Log'!$BV$18:$BV$1017,$B156,'Daily Log'!$BW$18:$BW$1017),0)","v":0},{"$f":"IFERROR($E156*SUMIF('Daily Log'!$BY$18:$BY$1017,$B156,'Daily Log'!$BZ$18:$BZ$1017),0)","v":0},{"$f":"IFERROR($E156*SUMIF('Daily Log'!$CB$18:$CB$1017,$B156,'Daily Log'!$CC$18:$CC$1017),0)","v":0},{"$f":"IFERROR($E156*SUMIF('Daily Log'!$CE$18:$CE$1017,$B156,'Daily Log'!$CF$18:$CF$1017),0)","v":0},{"$f":"IFERROR($E156*SUMIF('Daily Log'!$CH$18:$CH$1017,$B156,'Daily Log'!$CI$18:$CI$1017),0)","v":0},{"$f":"IFERROR($E156*SUMIF('Daily Log'!$CK$18:$CK$1017,$B156,'Daily Log'!$CL$18:$CL$1017),0)","v":0},{"$f":"IFERROR($E156*SUMIF('Daily Log'!$CN$18:$CN$1017,$B156,'Daily Log'!$CO$18:$CO$1017),0)","v":0}]
[null,"11621:L -S12-家乡春卷",null,"LUNCH SNACK",1,3,{"$f":"IFERROR($E157*SUMIF('Daily Log'!$B$18:$B$1017,$B157,'Daily Log'!$C$18:$C$1017),0)","v":0},{"$f":"IFERROR($E157*SUMIF('Daily Log'!$E$18:$E$1017,$B157,'Daily Log'!$F$18:$F$1017),0)","v":0},{"$f":"IFERROR($E157*SUMIF('Daily Log'!$H$18:$H$1017,$B157,'Daily Log'!$I$18:$I$1017),0)","v":0},{"$f":"IFERROR($E157*SUMIF('Daily Log'!$K$18:$K$1017,$B157,'Daily Log'!$L$18:$L$1017),0)","v":0},{"$f":"IFERROR($E157*SUMIF('Daily Log'!$N$18:$N$1017,$B157,'Daily Log'!$O$18:$O$1017),0)","v":0},{"$f":"IFERROR($E157*SUMIF('Daily Log'!$Q$18:$Q$1017,$B157,'Daily Log'!$R$18:$R$1017),0)","v":0},{"$f":"IFERROR($E157*SUMIF('Daily Log'!$T$18:$T$1017,$B157,'Daily Log'!$U$18:$U$1017),0)","v":0},{"$f":"IFERROR($E157*SUMIF('Daily Log'!$W$18:$W$1017,$B157,'Daily Log'!$X$18:$X$1017),0)","v":0},{"$f":"IFERROR($E157*SUMIF('Daily Log'!$Z$18:$Z$1017,$B157,'Daily Log'!$AA$18:$AA$1017),0)","v":0},{"$f":"IFERROR($E157*SUMIF('Daily Log'!$AC$18:$AC$1017,$B157,'Daily Log'!$AD$18:$AD$1017),0)","v":0},{"$f":"IFERROR($E157*SUMIF('Daily Log'!$AF$18:$AF$1017,$B157,'Daily Log'!$AG$18:$AG$1017),0)","v":0},{"$f":"IFERROR($E157*SUMIF('Daily Log'!$AI$18:$AI$1017,$B157,'Daily Log'!$AJ$18:$AJ$1017),0)","v":0},{"$f":"IFERROR($E157*SUMIF('Daily Log'!$AL$18:$AL$1017,$B157,'Daily Log'!$AM$18:$AM$1017),0)","v":3},{"$f":"IFERROR($E157*SUMIF('Daily Log'!$AO$18:$AO$1017,$B157,'Daily Log'!$AP$18:$AP$1017),0)","v":0},{"$f":"IFERROR($E157*SUMIF('Daily Log'!$AR$18:$AR$1017,$B157,'Daily Log'!$AS$18:$AS$1017),0)","v":0},{"$f":"IFERROR($E157*SUMIF('Daily Log'!$AU$18:$AU$1017,$B157,'Daily Log'!$AV$18:$AV$1017),0)","v":0},{"$f":"IFERROR($E157*SUMIF('Daily Log'!$AX$18:$AX$1017,$B157,'Daily Log'!$AY$18:$AY$1017),0)","v":0},{"$f":"IFERROR($E157*SUMIF('Daily Log'!$BA$18:$BA$1017,$B157,'Daily Log'!$BB$18:$BB$1017),0)","v":0},{"$f":"IFERROR($E157*SUMIF('Daily Log'!$BD$18:$BD$1017,$B157,'Daily Log'!$BE$18:$BE$1017),0)","v":0},{"$f":"IFERROR($E157*SUMIF('Daily Log'!$BG$18:$BG$1017,$B157,'Daily Log'!$BH$18:$BH$1017),0)","v":0},{"$f":"IFERROR($E157*SUMIF('Daily Log'!$BJ$18:$BJ$1017,$B157,'Daily Log'!$BK$18:$BK$1017),0)","v":0},{"$f":"IFERROR($E157*SUMIF('Daily Log'!$BM$18:$BM$1017,$B157,'Daily Log'!$BN$18:$BN$1017),0)","v":0},{"$f":"IFERROR($E157*SUMIF('Daily Log'!$BP$18:$BP$1017,$B157,'Daily Log'!$BQ$18:$BQ$1017),0)","v":0},{"$f":"IFERROR($E157*SUMIF('Daily Log'!$BS$18:$BS$1017,$B157,'Daily Log'!$BT$18:$BT$1017),0)","v":0},{"$f":"IFERROR($E157*SUMIF('Daily Log'!$BV$18:$BV$1017,$B157,'Daily Log'!$BW$18:$BW$1017),0)","v":0},{"$f":"IFERROR($E157*SUMIF('Daily Log'!$BY$18:$BY$1017,$B157,'Daily Log'!$BZ$18:$BZ$1017),0)","v":0},{"$f":"IFERROR($E157*SUMIF('Daily Log'!$CB$18:$CB$1017,$B157,'Daily Log'!$CC$18:$CC$1017),0)","v":0},{"$f":"IFERROR($E157*SUMIF('Daily Log'!$CE$18:$CE$1017,$B157,'Daily Log'!$CF$18:$CF$1017),0)","v":0},{"$f":"IFERROR($E157*SUMIF('Daily Log'!$CH$18:$CH$1017,$B157,'Daily Log'!$CI$18:$CI$1017),0)","v":0},{"$f":"IFERROR($E157*SUMIF('Daily Log'!$CK$18:$CK$1017,$B157,'Daily Log'!$CL$18:$CL$1017),0)","v":0},{"$f":"IFERROR($E157*SUMIF('Daily Log'!$CN$18:$CN$1017,$B157,'Daily Log'!$CO$18:$CO$1017),0)","v":0}]
[null,"11622:L -S11-洋葱圈圈",null,"LUNCH SNACK",1,4,{"$f":"IFERROR($E158*SUMIF('Daily Log'!$B$18:$B$1017,$B158,'Daily Log'!$C$18:$C$1017),0)","v":0},{"$f":"IFERROR($E158*SUMIF('Daily Log'!$E$18:$E$1017,$B158,'Daily Log'!$F$18:$F$1017),0)","v":0},{"$f":"IFERROR($E158*SUMIF('Daily Log'!$H$18:$H$1017,$B158,'Daily Log'!$I$18:$I$1017),0)","v":0},{"$f":"IFERROR($E158*SUMIF('Daily Log'!$K$18:$K$1017,$B158,'Daily Log'!$L$18:$L$1017),0)","v":0},{"$f":"IFERROR($E158*SUMIF('Daily Log'!$N$18:$N$1017,$B158,'Daily Log'!$O$18:$O$1017),0)","v":0},{"$f":"IFERROR($E158*SUMIF('Daily Log'!$Q$18:$Q$1017,$B158,'Daily Log'!$R$18:$R$1017),0)","v":0},{"$f":"IFERROR($E158*SUMIF('Daily Log'!$T$18:$T$1017,$B158,'Daily Log'!$U$18:$U$1017),0)","v":1},{"$f":"IFERROR($E158*SUMIF('Daily Log'!$W$18:$W$1017,$B158,'Daily Log'!$X$18:$X$1017),0)","v":0},{"$f":"IFERROR($E158*SUMIF('Daily Log'!$Z$18:$Z$1017,$B158,'Daily Log'!$AA$18:$AA$1017),0)","v":0},{"$f":"IFERROR($E158*SUMIF('Daily Log'!$AC$18:$AC$1017,$B158,'Daily Log'!$AD$18:$AD$1017),0)","v":0},{"$f":"IFERROR($E158*SUMIF('Daily Log'!$AF$18:$AF$1017,$B158,'Daily Log'!$AG$18:$AG$1017),0)","v":0},{"$f":"IFERROR($E158*SUMIF('Daily Log'!$AI$18:$AI$1017,$B158,'Daily Log'!$AJ$18:$AJ$1017),0)","v":1},{"$f":"IFERROR($E158*SUMIF('Daily Log'!$AL$18:$AL$1017,$B158,'Daily Log'!$AM$18:$AM$1017),0)","v":2},{"$f":"IFERROR($E158*SUMIF('Daily Log'!$AO$18:$AO$1017,$B158,'Daily Log'!$AP$18:$AP$1017),0)","v":0},{"$f":"IFERROR($E158*SUMIF('Daily Log'!$AR$18:$AR$1017,$B158,'Daily Log'!$AS$18:$AS$1017),0)","v":0},{"$f":"IFERROR($E158*SUMIF('Daily Log'!$AU$18:$AU$1017,$B158,'Daily Log'!$AV$18:$AV$1017),0)","v":0},{"$f":"IFERROR($E158*SUMIF('Daily Log'!$AX$18:$AX$1017,$B158,'Daily Log'!$AY$18:$AY$1017),0)","v":0},{"$f":"IFERROR($E158*SUMIF('Daily Log'!$BA$18:$BA$1017,$B158,'Daily Log'!$BB$18:$BB$1017),0)","v":0},{"$f":"IFERROR($E158*SUMIF('Daily Log'!$BD$18:$BD$1017,$B158,'Daily Log'!$BE$18:$BE$1017),0)","v":0},{"$f":"IFERROR($E158*SUMIF('Daily Log'!$BG$18:$BG$1017,$B158,'Daily Log'!$BH$18:$BH$1017),0)","v":0},{"$f":"IFERROR($E158*SUMIF('Daily Log'!$BJ$18:$BJ$1017,$B158,'Daily Log'!$BK$18:$BK$1017),0)","v":0},{"$f":"IFERROR($E158*SUMIF('Daily Log'!$BM$18:$BM$1017,$B158,'Daily Log'!$BN$18:$BN$1017),0)","v":0},{"$f":"IFERROR($E158*SUMIF('Daily Log'!$BP$18:$BP$1017,$B158,'Daily Log'!$BQ$18:$BQ$1017),0)","v":0},{"$f":"IFERROR($E158*SUMIF('Daily Log'!$BS$18:$BS$1017,$B158,'Daily Log'!$BT$18:$BT$1017),0)","v":0},{"$f":"IFERROR($E158*SUMIF('Daily Log'!$BV$18:$BV$1017,$B158,'Daily Log'!$BW$18:$BW$1017),0)","v":0},{"$f":"IFERROR($E158*SUMIF('Daily Log'!$BY$18:$BY$1017,$B158,'Daily Log'!$BZ$18:$BZ$1017),0)","v":0},{"$f":"IFERROR($E158*SUMIF('Daily Log'!$CB$18:$CB$1017,$B158,'Daily Log'!$CC$18:$CC$1017),0)","v":0},{"$f":"IFERROR($E158*SUMIF('Daily Log'!$CE$18:$CE$1017,$B158,'Daily Log'!$CF$18:$CF$1017),0)","v":0},{"$f":"IFERROR($E158*SUMIF('Daily Log'!$CH$18:$CH$1017,$B158,'Daily Log'!$CI$18:$CI$1017),0)","v":0},{"$f":"IFERROR($E158*SUMIF('Daily Log'!$CK$18:$CK$1017,$B158,'Daily Log'!$CL$18:$CL$1017),0)","v":0},{"$f":"IFERROR($E158*SUMIF('Daily Log'!$CN$18:$CN$1017,$B158,'Daily Log'!$CO$18:$CO$1017),0)","v":0}]
[null,"11625:L -S07-小鸡块块",null,"LUNCH SNACK",1,0,{"$f":"IFERROR($E159*SUMIF('Daily Log'!$B$18:$B$1017,$B159,'Daily Log'!$C$18:$C$1017),0)","v":0},{"$f":"IFERROR($E159*SUMIF('Daily Log'!$E$18:$E$1017,$B159,'Daily Log'!$F$18:$F$1017),0)","v":0},{"$f":"IFERROR($E159*SUMIF('Daily Log'!$H$18:$H$1017,$B159,'Daily Log'!$I$18:$I$1017),0)","v":0},{"$f":"IFERROR($E159*SUMIF('Daily Log'!$K$18:$K$1017,$B159,'Daily Log'!$L$18:$L$1017),0)","v":0},{"$f":"IFERROR($E159*SUMIF('Daily Log'!$N$18:$N$1017,$B159,'Daily Log'!$O$18:$O$1017),0)","v":0},{"$f":"IFERROR($E159*SUMIF('Daily Log'!$Q$18:$Q$1017,$B159,'Daily Log'!$R$18:$R$1017),0)","v":0},{"$f":"IFERROR($E159*SUMIF('Daily Log'!$T$18:$T$1017,$B159,'Daily Log'!$U$18:$U$1017),0)","v":0},{"$f":"IFERROR($E159*SUMIF('Daily Log'!$W$18:$W$1017,$B159,'Daily Log'!$X$18:$X$1017),0)","v":0},{"$f":"IFERROR($E159*SUMIF('Daily Log'!$Z$18:$Z$1017,$B159,'Daily Log'!$AA$18:$AA$1017),0)","v":0},{"$f":"IFERROR($E159*SUMIF('Daily Log'!$AC$18:$AC$1017,$B159,'Daily Log'!$AD$18:$AD$1017),0)","v":0},{"$f":"IFERROR($E159*SUMIF('Daily Log'!$AF$18:$AF$1017,$B159,'Daily Log'!$AG$18:$AG$1017),0)","v":0},{"$f":"IFERROR($E159*SUMIF('Daily Log'!$AI$18:$AI$1017,$B159,'Daily Log'!$AJ$18:$AJ$1017),0)","v":0},{"$f":"IFERROR($E159*SUMIF('Daily Log'!$AL$18:$AL$1017,$B159,'Daily Log'!$AM$18:$AM$1017),0)","v":0},{"$f":"IFERROR($E159*SUMIF('Daily Log'!$AO$18:$AO$1017,$B159,'Daily Log'!$AP$18:$AP$1017),0)","v":0},{"$f":"IFERROR($E159*SUMIF('Daily Log'!$AR$18:$AR$1017,$B159,'Daily Log'!$AS$18:$AS$1017),0)","v":0},{"$f":"IFERROR($E159*SUMIF('Daily Log'!$AU$18:$AU$1017,$B159,'Daily Log'!$AV$18:$AV$1017),0)","v":0},{"$f":"IFERROR($E159*SUMIF('Daily Log'!$AX$18:$AX$1017,$B159,'Daily Log'!$AY$18:$AY$1017),0)","v":0},{"$f":"IFERROR($E159*SUMIF('Daily Log'!$BA$18:$BA$1017,$B159,'Daily Log'!$BB$18:$BB$1017),0)","v":0},{"$f":"IFERROR($E159*SUMIF('Daily Log'!$BD$18:$BD$1017,$B159,'Daily Log'!$BE$18:$BE$1017),0)","v":0},{"$f":"IFERROR($E159*SUMIF('Daily Log'!$BG$18:$BG$1017,$B159,'Daily Log'!$BH$18:$BH$1017),0)","v":0},{"$f":"IFERROR($E159*SUMIF('Daily Log'!$BJ$18:$BJ$1017,$B159,'Daily Log'!$BK$18:$BK$1017),0)","v":0},{"$f":"IFERROR($E159*SUMIF('Daily Log'!$BM$18:$BM$1017,$B159,'Daily Log'!$BN$18:$BN$1017),0)","v":0},{"$f":"IFERROR($E159*SUMIF('Daily Log'!$BP$18:$BP$1017,$B159,'Daily Log'!$BQ$18:$BQ$1017),0)","v":0},{"$f":"IFERROR($E159*SUMIF('Daily Log'!$BS$18:$BS$1017,$B159,'Daily Log'!$BT$18:$BT$1017),0)","v":0},{"$f":"IFERROR($E159*SUMIF('Daily Log'!$BV$18:$BV$1017,$B159,'Daily Log'!$BW$18:$BW$1017),0)","v":0},{"$f":"IFERROR($E159*SUMIF('Daily Log'!$BY$18:$BY$1017,$B159,'Daily Log'!$BZ$18:$BZ$1017),0)","v":0},{"$f":"IFERROR($E159*SUMIF('Daily Log'!$CB$18:$CB$1017,$B159,'Daily Log'!$CC$18:$CC$1017),0)","v":0},{"$f":"IFERROR($E159*SUMIF('Daily Log'!$CE$18:$CE$1017,$B159,'Daily Log'!$CF$18:$CF$1017),0)","v":0},{"$f":"IFERROR($E159*SUMIF('Daily Log'!$CH$18:$CH$1017,$B159,'Daily Log'!$CI$18:$CI$1017),0)","v":0},{"$f":"IFERROR($E159*SUMIF('Daily Log'!$CK$18:$CK$1017,$B159,'Daily Log'!$CL$18:$CL$1017),0)","v":0},{"$f":"IFERROR($E159*SUMIF('Daily Log'!$CN$18:$CN$1017,$B159,'Daily Log'!$CO$18:$CO$1017),0)","v":0}]
[null,"11628:L -S05-小乳鸡翅",null,"LUNCH SNACK",1,0,{"$f":"IFERROR($E160*SUMIF('Daily Log'!$B$18:$B$1017,$B160,'Daily Log'!$C$18:$C$1017),0)","v":0},{"$f":"IFERROR($E160*SUMIF('Daily Log'!$E$18:$E$1017,$B160,'Daily Log'!$F$18:$F$1017),0)","v":0},{"$f":"IFERROR($E160*SUMIF('Daily Log'!$H$18:$H$1017,$B160,'Daily Log'!$I$18:$I$1017),0)","v":0}," ",{"$f":"IFERROR($E160*SUMIF('Daily Log'!$N$18:$N$1017,$B160,'Daily Log'!$O$18:$O$1017),0)","v":0},{"$f":"IFERROR($E160*SUMIF('Daily Log'!$Q$18:$Q$1017,$B160,'Daily Log'!$R$18:$R$1017),0)","v":0},{"$f":"IFERROR($E160*SUMIF('Daily Log'!$T$18:$T$1017,$B160,'Daily Log'!$U$18:$U$1017),0)","v":0},{"$f":"IFERROR($E160*SUMIF('Daily Log'!$W$18:$W$1017,$B160,'Daily Log'!$X$18:$X$1017),0)","v":0},{"$f":"IFERROR($E160*SUMIF('Daily Log'!$Z$18:$Z$1017,$B160,'Daily Log'!$AA$18:$AA$1017),0)","v":0},{"$f":"IFERROR($E160*SUMIF('Daily Log'!$AC$18:$AC$1017,$B160,'Daily Log'!$AD$18:$AD$1017),0)","v":0},{"$f":"IFERROR($E160*SUMIF('Daily Log'!$AF$18:$AF$1017,$B160,'Daily Log'!$AG$18:$AG$1017),0)","v":0},{"$f":"IFERROR($E160*SUMIF('Daily Log'!$AI$18:$AI$1017,$B160,'Daily Log'!$AJ$18:$AJ$1017),0)","v":0},{"$f":"IFERROR($E160*SUMIF('Daily Log'!$AL$18:$AL$1017,$B160,'Daily Log'!$AM$18:$AM$1017),0)","v":0},{"$f":"IFERROR($E160*SUMIF('Daily Log'!$AO$18:$AO$1017,$B160,'Daily Log'!$AP$18:$AP$1017),0)","v":0},{"$f":"IFERROR($E160*SUMIF('Daily Log'!$AR$18:$AR$1017,$B160,'Daily Log'!$AS$18:$AS$1017),0)","v":0},{"$f":"IFERROR($E160*SUMIF('Daily Log'!$AU$18:$AU$1017,$B160,'Daily Log'!$AV$18:$AV$1017),0)","v":0},{"$f":"IFERROR($E160*SUMIF('Daily Log'!$AX$18:$AX$1017,$B160,'Daily Log'!$AY$18:$AY$1017),0)","v":0},{"$f":"IFERROR($E160*SUMIF('Daily Log'!$BA$18:$BA$1017,$B160,'Daily Log'!$BB$18:$BB$1017),0)","v":0},{"$f":"IFERROR($E160*SUMIF('Daily Log'!$BD$18:$BD$1017,$B160,'Daily Log'!$BE$18:$BE$1017),0)","v":0},{"$f":"IFERROR($E160*SUMIF('Daily Log'!$BG$18:$BG$1017,$B160,'Daily Log'!$BH$18:$BH$1017),0)","v":0},{"$f":"IFERROR($E160*SUMIF('Daily Log'!$BJ$18:$BJ$1017,$B160,'Daily Log'!$BK$18:$BK$1017),0)","v":0},{"$f":"IFERROR($E160*SUMIF('Daily Log'!$BM$18:$BM$1017,$B160,'Daily Log'!$BN$18:$BN$1017),0)","v":0},{"$f":"IFERROR($E160*SUMIF('Daily Log'!$BP$18:$BP$1017,$B160,'Daily Log'!$BQ$18:$BQ$1017),0)","v":0},{"$f":"IFERROR($E160*SUMIF('Daily Log'!$BS$18:$BS$1017,$B160,'Daily Log'!$BT$18:$BT$1017),0)","v":0},{"$f":"IFERROR($E160*SUMIF('Daily Log'!$BV$18:$BV$1017,$B160,'Daily Log'!$BW$18:$BW$1017),0)","v":0},{"$f":"IFERROR($E160*SUMIF('Daily Log'!$BY$18:$BY$1017,$B160,'Daily Log'!$BZ$18:$BZ$1017),0)","v":0},{"$f":"IFERROR($E160*SUMIF('Daily Log'!$CB$18:$CB$1017,$B160,'Daily Log'!$CC$18:$CC$1017),0)","v":0},{"$f":"IFERROR($E160*SUMIF('Daily Log'!$CE$18:$CE$1017,$B160,'Daily Log'!$CF$18:$CF$1017),0)","v":0},{"$f":"IFERROR($E160*SUMIF('Daily Log'!$CH$18:$CH$1017,$B160,'Daily Log'!$CI$18:$CI$1017),0)","v":0},{"$f":"IFERROR($E160*SUMIF('Daily Log'!$CK$18:$CK$1017,$B160,'Daily Log'!$CL$18:$CL$1017),0)","v":0},{"$f":"IFERROR($E160*SUMIF('Daily Log'!$CN$18:$CN$1017,$B160,'Daily Log'!$CO$18:$CO$1017),0)","v":0}]
[null,"11640:L -S01-小热狗包",null,"LUNCH SNACK",1,6,{"$f":"IFERROR($E161*SUMIF('Daily Log'!$B$18:$B$1017,$B161,'Daily Log'!$C$18:$C$1017),0)","v":0},{"$f":"IFERROR($E161*SUMIF('Daily Log'!$E$18:$E$1017,$B161,'Daily Log'!$F$18:$F$1017),0)","v":0},{"$f":"IFERROR($E161*SUMIF('Daily Log'!$H$18:$H$1017,$B161,'Daily Log'!$I$18:$I$1017),0)","v":0}," ",{"$f":"IFERROR($E161*SUMIF('Daily Log'!$N$18:$N$1017,$B161,'Daily Log'!$O$18:$O$1017),0)","v":0},{"$f":"IFERROR($E161*SUMIF('Daily Log'!$Q$18:$Q$1017,$B161,'Daily Log'!$R$18:$R$1017),0)","v":0},{"$f":"IFERROR($E161*SUMIF('Daily Log'!$T$18:$T$1017,$B161,'Daily Log'!$U$18:$U$1017),0)","v":0},{"$f":"IFERROR($E161*SUMIF('Daily Log'!$W$18:$W$1017,$B161,'Daily Log'!$X$18:$X$1017),0)","v":2},{"$f":"IFERROR($E161*SUMIF('Daily Log'!$Z$18:$Z$1017,$B161,'Daily Log'!$AA$18:$AA$1017),0)","v":0},{"$f":"IFERROR($E161*SUMIF('Daily Log'!$AC$18:$AC$1017,$B161,'Daily Log'!$AD$18:$AD$1017),0)","v":0},{"$f":"IFERROR($E161*SUMIF('Daily Log'!$AF$18:$AF$1017,$B161,'Daily Log'!$AG$18:$AG$1017),0)","v":2},{"$f":"IFERROR($E161*SUMIF('Daily Log'!$AI$18:$AI$1017,$B161,'Daily Log'!$AJ$18:$AJ$1017),0)","v":2},{"$f":"IFERROR($E161*SUMIF('Daily Log'!$AL$18:$AL$1017,$B161,'Daily Log'!$AM$18:$AM$1017),0)","v":0},{"$f":"IFERROR($E161*SUMIF('Daily Log'!$AO$18:$AO$1017,$B161,'Daily Log'!$AP$18:$AP$1017),0)","v":0},{"$f":"IFERROR($E161*SUMIF('Daily Log'!$AR$18:$AR$1017,$B161,'Daily Log'!$AS$18:$AS$1017),0)","v":0},{"$f":"IFERROR($E161*SUMIF('Daily Log'!$AU$18:$AU$1017,$B161,'Daily Log'!$AV$18:$AV$1017),0)","v":0},{"$f":"IFERROR($E161*SUMIF('Daily Log'!$AX$18:$AX$1017,$B161,'Daily Log'!$AY$18:$AY$1017),0)","v":0},{"$f":"IFERROR($E161*SUMIF('Daily Log'!$BA$18:$BA$1017,$B161,'Daily Log'!$BB$18:$BB$1017),0)","v":0},{"$f":"IFERROR($E161*SUMIF('Daily Log'!$BD$18:$BD$1017,$B161,'Daily Log'!$BE$18:$BE$1017),0)","v":0},{"$f":"IFERROR($E161*SUMIF('Daily Log'!$BG$18:$BG$1017,$B161,'Daily Log'!$BH$18:$BH$1017),0)","v":0},{"$f":"IFERROR($E161*SUMIF('Daily Log'!$BJ$18:$BJ$1017,$B161,'Daily Log'!$BK$18:$BK$1017),0)","v":0},{"$f":"IFERROR($E161*SUMIF('Daily Log'!$BM$18:$BM$1017,$B161,'Daily Log'!$BN$18:$BN$1017),0)","v":0},{"$f":"IFERROR($E161*SUMIF('Daily Log'!$BP$18:$BP$1017,$B161,'Daily Log'!$BQ$18:$BQ$1017),0)","v":0},{"$f":"IFERROR($E161*SUMIF('Daily Log'!$BS$18:$BS$1017,$B161,'Daily Log'!$BT$18:$BT$1017),0)","v":0},{"$f":"IFERROR($E161*SUMIF('Daily Log'!$BV$18:$BV$1017,$B161,'Daily Log'!$BW$18:$BW$1017),0)","v":0},{"$f":"IFERROR($E161*SUMIF('Daily Log'!$BY$18:$BY$1017,$B161,'Daily Log'!$BZ$18:$BZ$1017),0)","v":0},{"$f":"IFERROR($E161*SUMIF('Daily Log'!$CB$18:$CB$1017,$B161,'Daily Log'!$CC$18:$CC$1017),0)","v":0},{"$f":"IFERROR($E161*SUMIF('Daily Log'!$CE$18:$CE$1017,$B161,'Daily Log'!$CF$18:$CF$1017),0)","v":0},{"$f":"IFERROR($E161*SUMIF('Daily Log'!$CH$18:$CH$1017,$B161,'Daily Log'!$CI$18:$CI$1017),0)","v":0},{"$f":"IFERROR($E161*SUMIF('Daily Log'!$CK$18:$CK$1017,$B161,'Daily Log'!$CL$18:$CL$1017),0)","v":0},{"$f":"IFERROR($E161*SUMIF('Daily Log'!$CN$18:$CN$1017,$B161,'Daily Log'!$CO$18:$CO$1017),0)","v":0}]
["","11642:L -S04-小肠弯弯",null,"LUNCH SNACK",1,2,{"$f":"IFERROR($E162*SUMIF('Daily Log'!$B$18:$B$1017,$B162,'Daily Log'!$C$18:$C$1017),0)","v":0},{"$f":"IFERROR($E162*SUMIF('Daily Log'!$E$18:$E$1017,$B162,'Daily Log'!$F$18:$F$1017),0)","v":0},{"$f":"IFERROR($E162*SUMIF('Daily Log'!$H$18:$H$1017,$B162,'Daily Log'!$I$18:$I$1017),0)","v":0}," ",{"$f":"IFERROR($E162*SUMIF('Daily Log'!$N$18:$N$1017,$B162,'Daily Log'!$O$18:$O$1017),0)","v":0},{"$f":"IFERROR($E162*SUMIF('Daily Log'!$Q$18:$Q$1017,$B162,'Daily Log'!$R$18:$R$1017),0)","v":0},{"$f":"IFERROR($E162*SUMIF('Daily Log'!$T$18:$T$1017,$B162,'Daily Log'!$U$18:$U$1017),0)","v":0},{"$f":"IFERROR($E162*SUMIF('Daily Log'!$W$18:$W$1017,$B162,'Daily Log'!$X$18:$X$1017),0)","v":0},{"$f":"IFERROR($E162*SUMIF('Daily Log'!$Z$18:$Z$1017,$B162,'Daily Log'!$AA$18:$AA$1017),0)","v":1},{"$f":"IFERROR($E162*SUMIF('Daily Log'!$AC$18:$AC$1017,$B162,'Daily Log'!$AD$18:$AD$1017),0)","v":0},{"$f":"IFERROR($E162*SUMIF('Daily Log'!$AF$18:$AF$1017,$B162,'Daily Log'!$AG$18:$AG$1017),0)","v":1},{"$f":"IFERROR($E162*SUMIF('Daily Log'!$AI$18:$AI$1017,$B162,'Daily Log'!$AJ$18:$AJ$1017),0)","v":0},{"$f":"IFERROR($E162*SUMIF('Daily Log'!$AL$18:$AL$1017,$B162,'Daily Log'!$AM$18:$AM$1017),0)","v":0},{"$f":"IFERROR($E162*SUMIF('Daily Log'!$AO$18:$AO$1017,$B162,'Daily Log'!$AP$18:$AP$1017),0)","v":0},{"$f":"IFERROR($E162*SUMIF('Daily Log'!$AR$18:$AR$1017,$B162,'Daily Log'!$AS$18:$AS$1017),0)","v":0},{"$f":"IFERROR($E162*SUMIF('Daily Log'!$AU$18:$AU$1017,$B162,'Daily Log'!$AV$18:$AV$1017),0)","v":0},{"$f":"IFERROR($E162*SUMIF('Daily Log'!$AX$18:$AX$1017,$B162,'Daily Log'!$AY$18:$AY$1017),0)","v":0},{"$f":"IFERROR($E162*SUMIF('Daily Log'!$BA$18:$BA$1017,$B162,'Daily Log'!$BB$18:$BB$1017),0)","v":0},{"$f":"IFERROR($E162*SUMIF('Daily Log'!$BD$18:$BD$1017,$B162,'Daily Log'!$BE$18:$BE$1017),0)","v":0},{"$f":"IFERROR($E162*SUMIF('Daily Log'!$BG$18:$BG$1017,$B162,'Daily Log'!$BH$18:$BH$1017),0)","v":0},{"$f":"IFERROR($E162*SUMIF('Daily Log'!$BJ$18:$BJ$1017,$B162,'Daily Log'!$BK$18:$BK$1017),0)","v":0},{"$f":"IFERROR($E162*SUMIF('Daily Log'!$BM$18:$BM$1017,$B162,'Daily Log'!$BN$18:$BN$1017),0)","v":0},{"$f":"IFERROR($E162*SUMIF('Daily Log'!$BP$18:$BP$1017,$B162,'Daily Log'!$BQ$18:$BQ$1017),0)","v":0},{"$f":"IFERROR($E162*SUMIF('Daily Log'!$BS$18:$BS$1017,$B162,'Daily Log'!$BT$18:$BT$1017),0)","v":0},{"$f":"IFERROR($E162*SUMIF('Daily Log'!$BV$18:$BV$1017,$B162,'Daily Log'!$BW$18:$BW$1017),0)","v":0},{"$f":"IFERROR($E162*SUMIF('Daily Log'!$BY$18:$BY$1017,$B162,'Daily Log'!$BZ$18:$BZ$1017),0)","v":0},{"$f":"IFERROR($E162*SUMIF('Daily Log'!$CB$18:$CB$1017,$B162,'Daily Log'!$CC$18:$CC$1017),0)","v":0},{"$f":"IFERROR($E162*SUMIF('Daily Log'!$CE$18:$CE$1017,$B162,'Daily Log'!$CF$18:$CF$1017),0)","v":0},{"$f":"IFERROR($E162*SUMIF('Daily Log'!$CH$18:$CH$1017,$B162,'Daily Log'!$CI$18:$CI$1017),0)","v":0},{"$f":"IFERROR($E162*SUMIF('Daily Log'!$CK$18:$CK$1017,$B162,'Daily Log'!$CL$18:$CL$1017),0)","v":0},{"$f":"IFERROR($E162*SUMIF('Daily Log'!$CN$18:$CN$1017,$B162,'Daily Log'!$CO$18:$CO$1017),0)","v":0}]
[null,"11643:L -S08-海鲜豆腐",null,"LUNCH SNACK",1,4,{"$f":"IFERROR($E163*SUMIF('Daily Log'!$B$18:$B$1017,$B163,'Daily Log'!$C$18:$C$1017),0)","v":0},{"$f":"IFERROR($E163*SUMIF('Daily Log'!$E$18:$E$1017,$B163,'Daily Log'!$F$18:$F$1017),0)","v":0},{"$f":"IFERROR($E163*SUMIF('Daily Log'!$H$18:$H$1017,$B163,'Daily Log'!$I$18:$I$1017),0)","v":0}," ",{"$f":"IFERROR($E163*SUMIF('Daily Log'!$N$18:$N$1017,$B163,'Daily Log'!$O$18:$O$1017),0)","v":0},{"$f":"IFERROR($E163*SUMIF('Daily Log'!$Q$18:$Q$1017,$B163,'Daily Log'!$R$18:$R$1017),0)","v":0},{"$f":"IFERROR($E163*SUMIF('Daily Log'!$T$18:$T$1017,$B163,'Daily Log'!$U$18:$U$1017),0)","v":1},{"$f":"IFERROR($E163*SUMIF('Daily Log'!$W$18:$W$1017,$B163,'Daily Log'!$X$18:$X$1017),0)","v":1},{"$f":"IFERROR($E163*SUMIF('Daily Log'!$Z$18:$Z$1017,$B163,'Daily Log'!$AA$18:$AA$1017),0)","v":0},{"$f":"IFERROR($E163*SUMIF('Daily Log'!$AC$18:$AC$1017,$B163,'Daily Log'!$AD$18:$AD$1017),0)","v":0},{"$f":"IFERROR($E163*SUMIF('Daily Log'!$AF$18:$AF$1017,$B163,'Daily Log'!$AG$18:$AG$1017),0)","v":0},{"$f":"IFERROR($E163*SUMIF('Daily Log'!$AI$18:$AI$1017,$B163,'Daily Log'!$AJ$18:$AJ$1017),0)","v":0},{"$f":"IFERROR($E163*SUMIF('Daily Log'!$AL$18:$AL$1017,$B163,'Daily Log'!$AM$18:$AM$1017),0)","v":2},{"$f":"IFERROR($E163*SUMIF('Daily Log'!$AO$18:$AO$1017,$B163,'Daily Log'!$AP$18:$AP$1017),0)","v":0},{"$f":"IFERROR($E163*SUMIF('Daily Log'!$AR$18:$AR$1017,$B163,'Daily Log'!$AS$18:$AS$1017),0)","v":0},{"$f":"IFERROR($E163*SUMIF('Daily Log'!$AU$18:$AU$1017,$B163,'Daily Log'!$AV$18:$AV$1017),0)","v":0},{"$f":"IFERROR($E163*SUMIF('Daily Log'!$AX$18:$AX$1017,$B163,'Daily Log'!$AY$18:$AY$1017),0)","v":0},{"$f":"IFERROR($E163*SUMIF('Daily Log'!$BA$18:$BA$1017,$B163,'Daily Log'!$BB$18:$BB$1017),0)","v":0},{"$f":"IFERROR($E163*SUMIF('Daily Log'!$BD$18:$BD$1017,$B163,'Daily Log'!$BE$18:$BE$1017),0)","v":0},{"$f":"IFERROR($E163*SUMIF('Daily Log'!$BG$18:$BG$1017,$B163,'Daily Log'!$BH$18:$BH$1017),0)","v":0},{"$f":"IFERROR($E163*SUMIF('Daily Log'!$BJ$18:$BJ$1017,$B163,'Daily Log'!$BK$18:$BK$1017),0)","v":0},{"$f":"IFERROR($E163*SUMIF('Daily Log'!$BM$18:$BM$1017,$B163,'Daily Log'!$BN$18:$BN$1017),0)","v":0},{"$f":"IFERROR($E163*SUMIF('Daily Log'!$BP$18:$BP$1017,$B163,'Daily Log'!$BQ$18:$BQ$1017),0)","v":0},{"$f":"IFERROR($E163*SUMIF('Daily Log'!$BS$18:$BS$1017,$B163,'Daily Log'!$BT$18:$BT$1017),0)","v":0},{"$f":"IFERROR($E163*SUMIF('Daily Log'!$BV$18:$BV$1017,$B163,'Daily Log'!$BW$18:$BW$1017),0)","v":0},{"$f":"IFERROR($E163*SUMIF('Daily Log'!$BY$18:$BY$1017,$B163,'Daily Log'!$BZ$18:$BZ$1017),0)","v":0},{"$f":"IFERROR($E163*SUMIF('Daily Log'!$CB$18:$CB$1017,$B163,'Daily Log'!$CC$18:$CC$1017),0)","v":0},{"$f":"IFERROR($E163*SUMIF('Daily Log'!$CE$18:$CE$1017,$B163,'Daily Log'!$CF$18:$CF$1017),0)","v":0},{"$f":"IFERROR($E163*SUMIF('Daily Log'!$CH$18:$CH$1017,$B163,'Daily Log'!$CI$18:$CI$1017),0)","v":0},{"$f":"IFERROR($E163*SUMIF('Daily Log'!$CK$18:$CK$1017,$B163,'Daily Log'!$CL$18:$CL$1017),0)","v":0},{"$f":"IFERROR($E163*SUMIF('Daily Log'!$CN$18:$CN$1017,$B163,'Daily Log'!$CO$18:$CO$1017),0)","v":0}]
[null,"11644:L -S09-沙律卷卷",null,"LUNCH SNACK",1,4,{"$f":"IFERROR($E164*SUMIF('Daily Log'!$B$18:$B$1017,$B164,'Daily Log'!$C$18:$C$1017),0)","v":0},{"$f":"IFERROR($E164*SUMIF('Daily Log'!$E$18:$E$1017,$B164,'Daily Log'!$F$18:$F$1017),0)","v":0},{"$f":"IFERROR($E164*SUMIF('Daily Log'!$H$18:$H$1017,$B164,'Daily Log'!$I$18:$I$1017),0)","v":0}," ",{"$f":"IFERROR($E164*SUMIF('Daily Log'!$N$18:$N$1017,$B164,'Daily Log'!$O$18:$O$1017),0)","v":0},{"$f":"IFERROR($E164*SUMIF('Daily Log'!$Q$18:$Q$1017,$B164,'Daily Log'!$R$18:$R$1017),0)","v":0},{"$f":"IFERROR($E164*SUMIF('Daily Log'!$T$18:$T$1017,$B164,'Daily Log'!$U$18:$U$1017),0)","v":0},{"$f":"IFERROR($E164*SUMIF('Daily Log'!$W$18:$W$1017,$B164,'Daily Log'!$X$18:$X$1017),0)","v":0},{"$f":"IFERROR($E164*SUMIF('Daily Log'!$Z$18:$Z$1017,$B164,'Daily Log'!$AA$18:$AA$1017),0)","v":0},{"$f":"IFERROR($E164*SUMIF('Daily Log'!$AC$18:$AC$1017,$B164,'Daily Log'!$AD$18:$AD$1017),0)","v":1},{"$f":"IFERROR($E164*SUMIF('Daily Log'!$AF$18:$AF$1017,$B164,'Daily Log'!$AG$18:$AG$1017),0)","v":0},{"$f":"IFERROR($E164*SUMIF('Daily Log'!$AI$18:$AI$1017,$B164,'Daily Log'!$AJ$18:$AJ$1017),0)","v":1},{"$f":"IFERROR($E164*SUMIF('Daily Log'!$AL$18:$AL$1017,$B164,'Daily Log'!$AM$18:$AM$1017),0)","v":2},{"$f":"IFERROR($E164*SUMIF('Daily Log'!$AO$18:$AO$1017,$B164,'Daily Log'!$AP$18:$AP$1017),0)","v":0},{"$f":"IFERROR($E164*SUMIF('Daily Log'!$AR$18:$AR$1017,$B164,'Daily Log'!$AS$18:$AS$1017),0)","v":0},{"$f":"IFERROR($E164*SUMIF('Daily Log'!$AU$18:$AU$1017,$B164,'Daily Log'!$AV$18:$AV$1017),0)","v":0},{"$f":"IFERROR($E164*SUMIF('Daily Log'!$AX$18:$AX$1017,$B164,'Daily Log'!$AY$18:$AY$1017),0)","v":0},{"$f":"IFERROR($E164*SUMIF('Daily Log'!$BA$18:$BA$1017,$B164,'Daily Log'!$BB$18:$BB$1017),0)","v":0},{"$f":"IFERROR($E164*SUMIF('Daily Log'!$BD$18:$BD$1017,$B164,'Daily Log'!$BE$18:$BE$1017),0)","v":0},{"$f":"IFERROR($E164*SUMIF('Daily Log'!$BG$18:$BG$1017,$B164,'Daily Log'!$BH$18:$BH$1017),0)","v":0},{"$f":"IFERROR($E164*SUMIF('Daily Log'!$BJ$18:$BJ$1017,$B164,'Daily Log'!$BK$18:$BK$1017),0)","v":0},{"$f":"IFERROR($E164*SUMIF('Daily Log'!$BM$18:$BM$1017,$B164,'Daily Log'!$BN$18:$BN$1017),0)","v":0},{"$f":"IFERROR($E164*SUMIF('Daily Log'!$BP$18:$BP$1017,$B164,'Daily Log'!$BQ$18:$BQ$1017),0)","v":0},{"$f":"IFERROR($E164*SUMIF('Daily Log'!$BS$18:$BS$1017,$B164,'Daily Log'!$BT$18:$BT$1017),0)","v":0},{"$f":"IFERROR($E164*SUMIF('Daily Log'!$BV$18:$BV$1017,$B164,'Daily Log'!$BW$18:$BW$1017),0)","v":0},{"$f":"IFERROR($E164*SUMIF('Daily Log'!$BY$18:$BY$1017,$B164,'Daily Log'!$BZ$18:$BZ$1017),0)","v":0},{"$f":"IFERROR($E164*SUMIF('Daily Log'!$CB$18:$CB$1017,$B164,'Daily Log'!$CC$18:$CC$1017),0)","v":0},{"$f":"IFERROR($E164*SUMIF('Daily Log'!$CE$18:$CE$1017,$B164,'Daily Log'!$CF$18:$CF$1017),0)","v":0},{"$f":"IFERROR($E164*SUMIF('Daily Log'!$CH$18:$CH$1017,$B164,'Daily Log'!$CI$18:$CI$1017),0)","v":0},{"$f":"IFERROR($E164*SUMIF('Daily Log'!$CK$18:$CK$1017,$B164,'Daily Log'!$CL$18:$CL$1017),0)","v":0},{"$f":"IFERROR($E164*SUMIF('Daily Log'!$CN$18:$CN$1017,$B164,'Daily Log'!$CO$18:$CO$1017),0)","v":0}]
[null,"11645:L -S10-金钱肉干",null,"LUNCH SNACK",1,6,{"$f":"IFERROR($E165*SUMIF('Daily Log'!$B$18:$B$1017,$B165,'Daily Log'!$C$18:$C$1017),0)","v":0},{"$f":"IFERROR($E165*SUMIF('Daily Log'!$E$18:$E$1017,$B165,'Daily Log'!$F$18:$F$1017),0)","v":0},{"$f":"IFERROR($E165*SUMIF('Daily Log'!$H$18:$H$1017,$B165,'Daily Log'!$I$18:$I$1017),0)","v":0}," ",{"$f":"IFERROR($E165*SUMIF('Daily Log'!$N$18:$N$1017,$B165,'Daily Log'!$O$18:$O$1017),0)","v":0},{"$f":"IFERROR($E165*SUMIF('Daily Log'!$Q$18:$Q$1017,$B165,'Daily Log'!$R$18:$R$1017),0)","v":0},{"$f":"IFERROR($E165*SUMIF('Daily Log'!$T$18:$T$1017,$B165,'Daily Log'!$U$18:$U$1017),0)","v":0},{"$f":"IFERROR($E165*SUMIF('Daily Log'!$W$18:$W$1017,$B165,'Daily Log'!$X$18:$X$1017),0)","v":1},{"$f":"IFERROR($E165*SUMIF('Daily Log'!$Z$18:$Z$1017,$B165,'Daily Log'!$AA$18:$AA$1017),0)","v":2},{"$f":"IFERROR($E165*SUMIF('Daily Log'!$AC$18:$AC$1017,$B165,'Daily Log'!$AD$18:$AD$1017),0)","v":0},{"$f":"IFERROR($E165*SUMIF('Daily Log'!$AF$18:$AF$1017,$B165,'Daily Log'!$AG$18:$AG$1017),0)","v":1},{"$f":"IFERROR($E165*SUMIF('Daily Log'!$AI$18:$AI$1017,$B165,'Daily Log'!$AJ$18:$AJ$1017),0)","v":0},{"$f":"IFERROR($E165*SUMIF('Daily Log'!$AL$18:$AL$1017,$B165,'Daily Log'!$AM$18:$AM$1017),0)","v":2},{"$f":"IFERROR($E165*SUMIF('Daily Log'!$AO$18:$AO$1017,$B165,'Daily Log'!$AP$18:$AP$1017),0)","v":0},{"$f":"IFERROR($E165*SUMIF('Daily Log'!$AR$18:$AR$1017,$B165,'Daily Log'!$AS$18:$AS$1017),0)","v":0},{"$f":"IFERROR($E165*SUMIF('Daily Log'!$AU$18:$AU$1017,$B165,'Daily Log'!$AV$18:$AV$1017),0)","v":0},{"$f":"IFERROR($E165*SUMIF('Daily Log'!$AX$18:$AX$1017,$B165,'Daily Log'!$AY$18:$AY$1017),0)","v":0},{"$f":"IFERROR($E165*SUMIF('Daily Log'!$BA$18:$BA$1017,$B165,'Daily Log'!$BB$18:$BB$1017),0)","v":0},{"$f":"IFERROR($E165*SUMIF('Daily Log'!$BD$18:$BD$1017,$B165,'Daily Log'!$BE$18:$BE$1017),0)","v":0},{"$f":"IFERROR($E165*SUMIF('Daily Log'!$BG$18:$BG$1017,$B165,'Daily Log'!$BH$18:$BH$1017),0)","v":0},{"$f":"IFERROR($E165*SUMIF('Daily Log'!$BJ$18:$BJ$1017,$B165,'Daily Log'!$BK$18:$BK$1017),0)","v":0},{"$f":"IFERROR($E165*SUMIF('Daily Log'!$BM$18:$BM$1017,$B165,'Daily Log'!$BN$18:$BN$1017),0)","v":0},{"$f":"IFERROR($E165*SUMIF('Daily Log'!$BP$18:$BP$1017,$B165,'Daily Log'!$BQ$18:$BQ$1017),0)","v":0},{"$f":"IFERROR($E165*SUMIF('Daily Log'!$BS$18:$BS$1017,$B165,'Daily Log'!$BT$18:$BT$1017),0)","v":0},{"$f":"IFERROR($E165*SUMIF('Daily Log'!$BV$18:$BV$1017,$B165,'Daily Log'!$BW$18:$BW$1017),0)","v":0},{"$f":"IFERROR($E165*SUMIF('Daily Log'!$BY$18:$BY$1017,$B165,'Daily Log'!$BZ$18:$BZ$1017),0)","v":0},{"$f":"IFERROR($E165*SUMIF('Daily Log'!$CB$18:$CB$1017,$B165,'Daily Log'!$CC$18:$CC$1017),0)","v":0},{"$f":"IFERROR($E165*SUMIF('Daily Log'!$CE$18:$CE$1017,$B165,'Daily Log'!$CF$18:$CF$1017),0)","v":0},{"$f":"IFERROR($E165*SUMIF('Daily Log'!$CH$18:$CH$1017,$B165,'Daily Log'!$CI$18:$CI$1017),0)","v":0},{"$f":"IFERROR($E165*SUMIF('Daily Log'!$CK$18:$CK$1017,$B165,'Daily Log'!$CL$18:$CL$1017),0)","v":0},{"$f":"IFERROR($E165*SUMIF('Daily Log'!$CN$18:$CN$1017,$B165,'Daily Log'!$CO$18:$CO$1017),0)","v":0}]
[null,"11631:L -W01-香煎鸡扒",null,"LUNCH WESTERN CRUISE",1,298,{"$f":"IFERROR($E166*SUMIF('Daily Log'!$B$18:$B$1017,$B166,'Daily Log'!$C$18:$C$1017),0)","v":0},{"$f":"IFERROR($E166*SUMIF('Daily Log'!$E$18:$E$1017,$B166,'Daily Log'!$F$18:$F$1017),0)","v":0},{"$f":"IFERROR($E166*SUMIF('Daily Log'!$H$18:$H$1017,$B166,'Daily Log'!$I$18:$I$1017),0)","v":0},{"$f":"IFERROR($E166*SUMIF('Daily Log'!$K$18:$K$1017,$B166,'Daily Log'!$L$18:$L$1017),0)","v":0},{"$f":"IFERROR($E166*SUMIF('Daily Log'!$N$18:$N$1017,$B166,'Daily Log'!$O$18:$O$1017),0)","v":0},{"$f":"IFERROR($E166*SUMIF('Daily Log'!$Q$18:$Q$1017,$B166,'Daily Log'!$R$18:$R$1017),0)","v":0},{"$f":"IFERROR($E166*SUMIF('Daily Log'!$T$18:$T$1017,$B166,'Daily Log'!$U$18:$U$1017),0)","v":27},{"$f":"IFERROR($E166*SUMIF('Daily Log'!$W$18:$W$1017,$B166,'Daily Log'!$X$18:$X$1017),0)","v":28},{"$f":"IFERROR($E166*SUMIF('Daily Log'!$Z$18:$Z$1017,$B166,'Daily Log'!$AA$18:$AA$1017),0)","v":30},{"$f":"IFERROR($E166*SUMIF('Daily Log'!$AC$18:$AC$1017,$B166,'Daily Log'!$AD$18:$AD$1017),0)","v":32},{"$f":"IFERROR($E166*SUMIF('Daily Log'!$AF$18:$AF$1017,$B166,'Daily Log'!$AG$18:$AG$1017),0)","v":70},{"$f":"IFERROR($E166*SUMIF('Daily Log'!$AI$18:$AI$1017,$B166,'Daily Log'!$AJ$18:$AJ$1017),0)","v":67},{"$f":"IFERROR($E166*SUMIF('Daily Log'!$AL$18:$AL$1017,$B166,'Daily Log'!$AM$18:$AM$1017),0)","v":44},{"$f":"IFERROR($E166*SUMIF('Daily Log'!$AO$18:$AO$1017,$B166,'Daily Log'!$AP$18:$AP$1017),0)","v":0},{"$f":"IFERROR($E166*SUMIF('Daily Log'!$AR$18:$AR$1017,$B166,'Daily Log'!$AS$18:$AS$1017),0)","v":0},{"$f":"IFERROR($E166*SUMIF('Daily Log'!$AU$18:$AU$1017,$B166,'Daily Log'!$AV$18:$AV$1017),0)","v":0},{"$f":"IFERROR($E166*SUMIF('Daily Log'!$AX$18:$AX$1017,$B166,'Daily Log'!$AY$18:$AY$1017),0)","v":0},{"$f":"IFERROR($E166*SUMIF('Daily Log'!$BA$18:$BA$1017,$B166,'Daily Log'!$BB$18:$BB$1017),0)","v":0},{"$f":"IFERROR($E166*SUMIF('Daily Log'!$BD$18:$BD$1017,$B166,'Daily Log'!$BE$18:$BE$1017),0)","v":0},{"$f":"IFERROR($E166*SUMIF('Daily Log'!$BG$18:$BG$1017,$B166,'Daily Log'!$BH$18:$BH$1017),0)","v":0},{"$f":"IFERROR($E166*SUMIF('Daily Log'!$BJ$18:$BJ$1017,$B166,'Daily Log'!$BK$18:$BK$1017),0)","v":0},{"$f":"IFERROR($E166*SUMIF('Daily Log'!$BM$18:$BM$1017,$B166,'Daily Log'!$BN$18:$BN$1017),0)","v":0},{"$f":"IFERROR($E166*SUMIF('Daily Log'!$BP$18:$BP$1017,$B166,'Daily Log'!$BQ$18:$BQ$1017),0)","v":0},{"$f":"IFERROR($E166*SUMIF('Daily Log'!$BS$18:$BS$1017,$B166,'Daily Log'!$BT$18:$BT$1017),0)","v":0},{"$f":"IFERROR($E166*SUMIF('Daily Log'!$BV$18:$BV$1017,$B166,'Daily Log'!$BW$18:$BW$1017),0)","v":0},{"$f":"IFERROR($E166*SUMIF('Daily Log'!$BY$18:$BY$1017,$B166,'Daily Log'!$BZ$18:$BZ$1017),0)","v":0},{"$f":"IFERROR($E166*SUMIF('Daily Log'!$CB$18:$CB$1017,$B166,'Daily Log'!$CC$18:$CC$1017),0)","v":0},{"$f":"IFERROR($E166*SUMIF('Daily Log'!$CE$18:$CE$1017,$B166,'Daily Log'!$CF$18:$CF$1017),0)","v":0},{"$f":"IFERROR($E166*SUMIF('Daily Log'!$CH$18:$CH$1017,$B166,'Daily Log'!$CI$18:$CI$1017),0)","v":0},{"$f":"IFERROR($E166*SUMIF('Daily Log'!$CK$18:$CK$1017,$B166,'Daily Log'!$CL$18:$CL$1017),0)","v":0},{"$f":"IFERROR($E166*SUMIF('Daily Log'!$CN$18:$CN$1017,$B166,'Daily Log'!$CO$18:$CO$1017),0)","v":0}]
[null,"11632:L -W03-马里兰鸡扒",null,"LUNCH WESTERN CRUISE",1,60,{"$f":"IFERROR($E167*SUMIF('Daily Log'!$B$18:$B$1017,$B167,'Daily Log'!$C$18:$C$1017),0)","v":0},{"$f":"IFERROR($E167*SUMIF('Daily Log'!$E$18:$E$1017,$B167,'Daily Log'!$F$18:$F$1017),0)","v":0},{"$f":"IFERROR($E167*SUMIF('Daily Log'!$H$18:$H$1017,$B167,'Daily Log'!$I$18:$I$1017),0)","v":0},{"$f":"IFERROR($E167*SUMIF('Daily Log'!$K$18:$K$1017,$B167,'Daily Log'!$L$18:$L$1017),0)","v":0},{"$f":"IFERROR($E167*SUMIF('Daily Log'!$N$18:$N$1017,$B167,'Daily Log'!$O$18:$O$1017),0)","v":0},{"$f":"IFERROR($E167*SUMIF('Daily Log'!$Q$18:$Q$1017,$B167,'Daily Log'!$R$18:$R$1017),0)","v":0},{"$f":"IFERROR($E167*SUMIF('Daily Log'!$T$18:$T$1017,$B167,'Daily Log'!$U$18:$U$1017),0)","v":12},{"$f":"IFERROR($E167*SUMIF('Daily Log'!$W$18:$W$1017,$B167,'Daily Log'!$X$18:$X$1017),0)","v":9},{"$f":"IFERROR($E167*SUMIF('Daily Log'!$Z$18:$Z$1017,$B167,'Daily Log'!$AA$18:$AA$1017),0)","v":6},{"$f":"IFERROR($E167*SUMIF('Daily Log'!$AC$18:$AC$1017,$B167,'Daily Log'!$AD$18:$AD$1017),0)","v":5},{"$f":"IFERROR($E167*SUMIF('Daily Log'!$AF$18:$AF$1017,$B167,'Daily Log'!$AG$18:$AG$1017),0)","v":4},{"$f":"IFERROR($E167*SUMIF('Daily Log'!$AI$18:$AI$1017,$B167,'Daily Log'!$AJ$18:$AJ$1017),0)","v":17},{"$f":"IFERROR($E167*SUMIF('Daily Log'!$AL$18:$AL$1017,$B167,'Daily Log'!$AM$18:$AM$1017),0)","v":7},{"$f":"IFERROR($E167*SUMIF('Daily Log'!$AO$18:$AO$1017,$B167,'Daily Log'!$AP$18:$AP$1017),0)","v":0},{"$f":"IFERROR($E167*SUMIF('Daily Log'!$AR$18:$AR$1017,$B167,'Daily Log'!$AS$18:$AS$1017),0)","v":0},{"$f":"IFERROR($E167*SUMIF('Daily Log'!$AU$18:$AU$1017,$B167,'Daily Log'!$AV$18:$AV$1017),0)","v":0},{"$f":"IFERROR($E167*SUMIF('Daily Log'!$AX$18:$AX$1017,$B167,'Daily Log'!$AY$18:$AY$1017),0)","v":0},{"$f":"IFERROR($E167*SUMIF('Daily Log'!$BA$18:$BA$1017,$B167,'Daily Log'!$BB$18:$BB$1017),0)","v":0},{"$f":"IFERROR($E167*SUMIF('Daily Log'!$BD$18:$BD$1017,$B167,'Daily Log'!$BE$18:$BE$1017),0)","v":0},{"$f":"IFERROR($E167*SUMIF('Daily Log'!$BG$18:$BG$1017,$B167,'Daily Log'!$BH$18:$BH$1017),0)","v":0},{"$f":"IFERROR($E167*SUMIF('Daily Log'!$BJ$18:$BJ$1017,$B167,'Daily Log'!$BK$18:$BK$1017),0)","v":0},{"$f":"IFERROR($E167*SUMIF('Daily Log'!$BM$18:$BM$1017,$B167,'Daily Log'!$BN$18:$BN$1017),0)","v":0},{"$f":"IFERROR($E167*SUMIF('Daily Log'!$BP$18:$BP$1017,$B167,'Daily Log'!$BQ$18:$BQ$1017),0)","v":0},{"$f":"IFERROR($E167*SUMIF('Daily Log'!$BS$18:$BS$1017,$B167,'Daily Log'!$BT$18:$BT$1017),0)","v":0},{"$f":"IFERROR($E167*SUMIF('Daily Log'!$BV$18:$BV$1017,$B167,'Daily Log'!$BW$18:$BW$1017),0)","v":0},{"$f":"IFERROR($E167*SUMIF('Daily Log'!$BY$18:$BY$1017,$B167,'Daily Log'!$BZ$18:$BZ$1017),0)","v":0},{"$f":"IFERROR($E167*SUMIF('Daily Log'!$CB$18:$CB$1017,$B167,'Daily Log'!$CC$18:$CC$1017),0)","v":0},{"$f":"IFERROR($E167*SUMIF('Daily Log'!$CE$18:$CE$1017,$B167,'Daily Log'!$CF$18:$CF$1017),0)","v":0},{"$f":"IFERROR($E167*SUMIF('Daily Log'!$CH$18:$CH$1017,$B167,'Daily Log'!$CI$18:$CI$1017),0)","v":0},{"$f":"IFERROR($E167*SUMIF('Daily Log'!$CK$18:$CK$1017,$B167,'Daily Log'!$CL$18:$CL$1017),0)","v":0},{"$f":"IFERROR($E167*SUMIF('Daily Log'!$CN$18:$CN$1017,$B167,'Daily Log'!$CO$18:$CO$1017),0)","v":0}]
[null,"11633:L -W02-香炸鱼扒",null,"LUNCH WESTERN CRUISE",1,107,{"$f":"IFERROR($E168*SUMIF('Daily Log'!$B$18:$B$1017,$B168,'Daily Log'!$C$18:$C$1017),0)","v":0},{"$f":"IFERROR($E168*SUMIF('Daily Log'!$E$18:$E$1017,$B168,'Daily Log'!$F$18:$F$1017),0)","v":0},{"$f":"IFERROR($E168*SUMIF('Daily Log'!$H$18:$H$1017,$B168,'Daily Log'!$I$18:$I$1017),0)","v":0},{"$f":"IFERROR($E168*SUMIF('Daily Log'!$K$18:$K$1017,$B168,'Daily Log'!$L$18:$L$1017),0)","v":0},{"$f":"IFERROR($E168*SUMIF('Daily Log'!$N$18:$N$1017,$B168,'Daily Log'!$O$18:$O$1017),0)","v":0},{"$f":"IFERROR($E168*SUMIF('Daily Log'!$Q$18:$Q$1017,$B168,'Daily Log'!$R$18:$R$1017),0)","v":0},{"$f":"IFERROR($E168*SUMIF('Daily Log'!$T$18:$T$1017,$B168,'Daily Log'!$U$18:$U$1017),0)","v":12},{"$f":"IFERROR($E168*SUMIF('Daily Log'!$W$18:$W$1017,$B168,'Daily Log'!$X$18:$X$1017),0)","v":8},{"$f":"IFERROR($E168*SUMIF('Daily Log'!$Z$18:$Z$1017,$B168,'Daily Log'!$AA$18:$AA$1017),0)","v":19},{"$f":"IFERROR($E168*SUMIF('Daily Log'!$AC$18:$AC$1017,$B168,'Daily Log'!$AD$18:$AD$1017),0)","v":9},{"$f":"IFERROR($E168*SUMIF('Daily Log'!$AF$18:$AF$1017,$B168,'Daily Log'!$AG$18:$AG$1017),0)","v":20},{"$f":"IFERROR($E168*SUMIF('Daily Log'!$AI$18:$AI$1017,$B168,'Daily Log'!$AJ$18:$AJ$1017),0)","v":22},{"$f":"IFERROR($E168*SUMIF('Daily Log'!$AL$18:$AL$1017,$B168,'Daily Log'!$AM$18:$AM$1017),0)","v":17},{"$f":"IFERROR($E168*SUMIF('Daily Log'!$AO$18:$AO$1017,$B168,'Daily Log'!$AP$18:$AP$1017),0)","v":0},{"$f":"IFERROR($E168*SUMIF('Daily Log'!$AR$18:$AR$1017,$B168,'Daily Log'!$AS$18:$AS$1017),0)","v":0},{"$f":"IFERROR($E168*SUMIF('Daily Log'!$AU$18:$AU$1017,$B168,'Daily Log'!$AV$18:$AV$1017),0)","v":0},{"$f":"IFERROR($E168*SUMIF('Daily Log'!$AX$18:$AX$1017,$B168,'Daily Log'!$AY$18:$AY$1017),0)","v":0},{"$f":"IFERROR($E168*SUMIF('Daily Log'!$BA$18:$BA$1017,$B168,'Daily Log'!$BB$18:$BB$1017),0)","v":0},{"$f":"IFERROR($E168*SUMIF('Daily Log'!$BD$18:$BD$1017,$B168,'Daily Log'!$BE$18:$BE$1017),0)","v":0},{"$f":"IFERROR($E168*SUMIF('Daily Log'!$BG$18:$BG$1017,$B168,'Daily Log'!$BH$18:$BH$1017),0)","v":0},{"$f":"IFERROR($E168*SUMIF('Daily Log'!$BJ$18:$BJ$1017,$B168,'Daily Log'!$BK$18:$BK$1017),0)","v":0},{"$f":"IFERROR($E168*SUMIF('Daily Log'!$BM$18:$BM$1017,$B168,'Daily Log'!$BN$18:$BN$1017),0)","v":0},{"$f":"IFERROR($E168*SUMIF('Daily Log'!$BP$18:$BP$1017,$B168,'Daily Log'!$BQ$18:$BQ$1017),0)","v":0},{"$f":"IFERROR($E168*SUMIF('Daily Log'!$BS$18:$BS$1017,$B168,'Daily Log'!$BT$18:$BT$1017),0)","v":0},{"$f":"IFERROR($E168*SUMIF('Daily Log'!$BV$18:$BV$1017,$B168,'Daily Log'!$BW$18:$BW$1017),0)","v":0},{"$f":"IFERROR($E168*SUMIF('Daily Log'!$BY$18:$BY$1017,$B168,'Daily Log'!$BZ$18:$BZ$1017),0)","v":0},{"$f":"IFERROR($E168*SUMIF('Daily Log'!$CB$18:$CB$1017,$B168,'Daily Log'!$CC$18:$CC$1017),0)","v":0},{"$f":"IFERROR($E168*SUMIF('Daily Log'!$CE$18:$CE$1017,$B168,'Daily Log'!$CF$18:$CF$1017),0)","v":0},{"$f":"IFERROR($E168*SUMIF('Daily Log'!$CH$18:$CH$1017,$B168,'Daily Log'!$CI$18:$CI$1017),0)","v":0},{"$f":"IFERROR($E168*SUMIF('Daily Log'!$CK$18:$CK$1017,$B168,'Daily Log'!$CL$18:$CL$1017),0)","v":0},{"$f":"IFERROR($E168*SUMIF('Daily Log'!$CN$18:$CN$1017,$B168,'Daily Log'!$CO$18:$CO$1017),0)","v":0}]
[null,"11635:L -W04-鸡扒沙拉",null,"LUNCH WESTERN CRUISE",1,20,{"$f":"IFERROR($E169*SUMIF('Daily Log'!$B$18:$B$1017,$B169,'Daily Log'!$C$18:$C$1017),0)","v":0},{"$f":"IFERROR($E169*SUMIF('Daily Log'!$E$18:$E$1017,$B169,'Daily Log'!$F$18:$F$1017),0)","v":0},{"$f":"IFERROR($E169*SUMIF('Daily Log'!$H$18:$H$1017,$B169,'Daily Log'!$I$18:$I$1017),0)","v":0},{"$f":"IFERROR($E169*SUMIF('Daily Log'!$K$18:$K$1017,$B169,'Daily Log'!$L$18:$L$1017),0)","v":0},{"$f":"IFERROR($E169*SUMIF('Daily Log'!$N$18:$N$1017,$B169,'Daily Log'!$O$18:$O$1017),0)","v":0},{"$f":"IFERROR($E169*SUMIF('Daily Log'!$Q$18:$Q$1017,$B169,'Daily Log'!$R$18:$R$1017),0)","v":0},{"$f":"IFERROR($E169*SUMIF('Daily Log'!$T$18:$T$1017,$B169,'Daily Log'!$U$18:$U$1017),0)","v":4},{"$f":"IFERROR($E169*SUMIF('Daily Log'!$W$18:$W$1017,$B169,'Daily Log'!$X$18:$X$1017),0)","v":5},{"$f":"IFERROR($E169*SUMIF('Daily Log'!$Z$18:$Z$1017,$B169,'Daily Log'!$AA$18:$AA$1017),0)","v":5},{"$f":"IFERROR($E169*SUMIF('Daily Log'!$AC$18:$AC$1017,$B169,'Daily Log'!$AD$18:$AD$1017),0)","v":6},{"$f":"IFERROR($E169*SUMIF('Daily Log'!$AF$18:$AF$1017,$B169,'Daily Log'!$AG$18:$AG$1017),0)","v":0},{"$f":"IFERROR($E169*SUMIF('Daily Log'!$AI$18:$AI$1017,$B169,'Daily Log'!$AJ$18:$AJ$1017),0)","v":0},{"$f":"IFERROR($E169*SUMIF('Daily Log'!$AL$18:$AL$1017,$B169,'Daily Log'!$AM$18:$AM$1017),0)","v":0},{"$f":"IFERROR($E169*SUMIF('Daily Log'!$AO$18:$AO$1017,$B169,'Daily Log'!$AP$18:$AP$1017),0)","v":0},{"$f":"IFERROR($E169*SUMIF('Daily Log'!$AR$18:$AR$1017,$B169,'Daily Log'!$AS$18:$AS$1017),0)","v":0},{"$f":"IFERROR($E169*SUMIF('Daily Log'!$AU$18:$AU$1017,$B169,'Daily Log'!$AV$18:$AV$1017),0)","v":0},{"$f":"IFERROR($E169*SUMIF('Daily Log'!$AX$18:$AX$1017,$B169,'Daily Log'!$AY$18:$AY$1017),0)","v":0},{"$f":"IFERROR($E169*SUMIF('Daily Log'!$BA$18:$BA$1017,$B169,'Daily Log'!$BB$18:$BB$1017),0)","v":0},{"$f":"IFERROR($E169*SUMIF('Daily Log'!$BD$18:$BD$1017,$B169,'Daily Log'!$BE$18:$BE$1017),0)","v":0},{"$f":"IFERROR($E169*SUMIF('Daily Log'!$BG$18:$BG$1017,$B169,'Daily Log'!$BH$18:$BH$1017),0)","v":0},{"$f":"IFERROR($E169*SUMIF('Daily Log'!$BJ$18:$BJ$1017,$B169,'Daily Log'!$BK$18:$BK$1017),0)","v":0},{"$f":"IFERROR($E169*SUMIF('Daily Log'!$BM$18:$BM$1017,$B169,'Daily Log'!$BN$18:$BN$1017),0)","v":0},{"$f":"IFERROR($E169*SUMIF('Daily Log'!$BP$18:$BP$1017,$B169,'Daily Log'!$BQ$18:$BQ$1017),0)","v":0},{"$f":"IFERROR($E169*SUMIF('Daily Log'!$BS$18:$BS$1017,$B169,'Daily Log'!$BT$18:$BT$1017),0)","v":0},{"$f":"IFERROR($E169*SUMIF('Daily Log'!$BV$18:$BV$1017,$B169,'Daily Log'!$BW$18:$BW$1017),0)","v":0},{"$f":"IFERROR($E169*SUMIF('Daily Log'!$BY$18:$BY$1017,$B169,'Daily Log'!$BZ$18:$BZ$1017),0)","v":0},{"$f":"IFERROR($E169*SUMIF('Daily Log'!$CB$18:$CB$1017,$B169,'Daily Log'!$CC$18:$CC$1017),0)","v":0},{"$f":"IFERROR($E169*SUMIF('Daily Log'!$CE$18:$CE$1017,$B169,'Daily Log'!$CF$18:$CF$1017),0)","v":0},{"$f":"IFERROR($E169*SUMIF('Daily Log'!$CH$18:$CH$1017,$B169,'Daily Log'!$CI$18:$CI$1017),0)","v":0},{"$f":"IFERROR($E169*SUMIF('Daily Log'!$CK$18:$CK$1017,$B169,'Daily Log'!$CL$18:$CL$1017),0)","v":0},{"$f":"IFERROR($E169*SUMIF('Daily Log'!$CN$18:$CN$1017,$B169,'Daily Log'!$CO$18:$CO$1017),0)","v":0}]
[null,"11901:McCain Platter",null,"PLATTER",1,7,{"$f":"IFERROR($E170*SUMIF('Daily Log'!$B$18:$B$1017,$B170,'Daily Log'!$C$18:$C$1017),0)","v":0},{"$f":"IFERROR($E170*SUMIF('Daily Log'!$E$18:$E$1017,$B170,'Daily Log'!$F$18:$F$1017),0)","v":0},{"$f":"IFERROR($E170*SUMIF('Daily Log'!$H$18:$H$1017,$B170,'Daily Log'!$I$18:$I$1017),0)","v":0},{"$f":"IFERROR($E170*SUMIF('Daily Log'!$K$18:$K$1017,$B170,'Daily Log'!$L$18:$L$1017),0)","v":0},{"$f":"IFERROR($E170*SUMIF('Daily Log'!$N$18:$N$1017,$B170,'Daily Log'!$O$18:$O$1017),0)","v":0},{"$f":"IFERROR($E170*SUMIF('Daily Log'!$Q$18:$Q$1017,$B170,'Daily Log'!$R$18:$R$1017),0)","v":0},{"$f":"IFERROR($E170*SUMIF('Daily Log'!$T$18:$T$1017,$B170,'Daily Log'!$U$18:$U$1017),0)","v":1},{"$f":"IFERROR($E170*SUMIF('Daily Log'!$W$18:$W$1017,$B170,'Daily Log'!$X$18:$X$1017),0)","v":1},{"$f":"IFERROR($E170*SUMIF('Daily Log'!$Z$18:$Z$1017,$B170,'Daily Log'!$AA$18:$AA$1017),0)","v":1},{"$f":"IFERROR($E170*SUMIF('Daily Log'!$AC$18:$AC$1017,$B170,'Daily Log'!$AD$18:$AD$1017),0)","v":1},{"$f":"IFERROR($E170*SUMIF('Daily Log'!$AF$18:$AF$1017,$B170,'Daily Log'!$AG$18:$AG$1017),0)","v":2},{"$f":"IFERROR($E170*SUMIF('Daily Log'!$AI$18:$AI$1017,$B170,'Daily Log'!$AJ$18:$AJ$1017),0)","v":1},{"$f":"IFERROR($E170*SUMIF('Daily Log'!$AL$18:$AL$1017,$B170,'Daily Log'!$AM$18:$AM$1017),0)","v":0},{"$f":"IFERROR($E170*SUMIF('Daily Log'!$AO$18:$AO$1017,$B170,'Daily Log'!$AP$18:$AP$1017),0)","v":0},{"$f":"IFERROR($E170*SUMIF('Daily Log'!$AR$18:$AR$1017,$B170,'Daily Log'!$AS$18:$AS$1017),0)","v":0},{"$f":"IFERROR($E170*SUMIF('Daily Log'!$AU$18:$AU$1017,$B170,'Daily Log'!$AV$18:$AV$1017),0)","v":0},{"$f":"IFERROR($E170*SUMIF('Daily Log'!$AX$18:$AX$1017,$B170,'Daily Log'!$AY$18:$AY$1017),0)","v":0},{"$f":"IFERROR($E170*SUMIF('Daily Log'!$BA$18:$BA$1017,$B170,'Daily Log'!$BB$18:$BB$1017),0)","v":0},{"$f":"IFERROR($E170*SUMIF('Daily Log'!$BD$18:$BD$1017,$B170,'Daily Log'!$BE$18:$BE$1017),0)","v":0},{"$f":"IFERROR($E170*SUMIF('Daily Log'!$BG$18:$BG$1017,$B170,'Daily Log'!$BH$18:$BH$1017),0)","v":0},{"$f":"IFERROR($E170*SUMIF('Daily Log'!$BJ$18:$BJ$1017,$B170,'Daily Log'!$BK$18:$BK$1017),0)","v":0},{"$f":"IFERROR($E170*SUMIF('Daily Log'!$BM$18:$BM$1017,$B170,'Daily Log'!$BN$18:$BN$1017),0)","v":0},{"$f":"IFERROR($E170*SUMIF('Daily Log'!$BP$18:$BP$1017,$B170,'Daily Log'!$BQ$18:$BQ$1017),0)","v":0},{"$f":"IFERROR($E170*SUMIF('Daily Log'!$BS$18:$BS$1017,$B170,'Daily Log'!$BT$18:$BT$1017),0)","v":0},{"$f":"IFERROR($E170*SUMIF('Daily Log'!$BV$18:$BV$1017,$B170,'Daily Log'!$BW$18:$BW$1017),0)","v":0},{"$f":"IFERROR($E170*SUMIF('Daily Log'!$BY$18:$BY$1017,$B170,'Daily Log'!$BZ$18:$BZ$1017),0)","v":0},{"$f":"IFERROR($E170*SUMIF('Daily Log'!$CB$18:$CB$1017,$B170,'Daily Log'!$CC$18:$CC$1017),0)","v":0},{"$f":"IFERROR($E170*SUMIF('Daily Log'!$CE$18:$CE$1017,$B170,'Daily Log'!$CF$18:$CF$1017),0)","v":0},{"$f":"IFERROR($E170*SUMIF('Daily Log'!$CH$18:$CH$1017,$B170,'Daily Log'!$CI$18:$CI$1017),0)","v":0},{"$f":"IFERROR($E170*SUMIF('Daily Log'!$CK$18:$CK$1017,$B170,'Daily Log'!$CL$18:$CL$1017),0)","v":0},{"$f":"IFERROR($E170*SUMIF('Daily Log'!$CN$18:$CN$1017,$B170,'Daily Log'!$CO$18:$CO$1017),0)","v":0}]
[null,"11902:McCain Beer",null,"PLATTER",1,1,{"$f":"IFERROR($E171*SUMIF('Daily Log'!$B$18:$B$1017,$B171,'Daily Log'!$C$18:$C$1017),0)","v":0},{"$f":"IFERROR($E171*SUMIF('Daily Log'!$E$18:$E$1017,$B171,'Daily Log'!$F$18:$F$1017),0)","v":0},{"$f":"IFERROR($E171*SUMIF('Daily Log'!$H$18:$H$1017,$B171,'Daily Log'!$I$18:$I$1017),0)","v":0},{"$f":"IFERROR($E171*SUMIF('Daily Log'!$K$18:$K$1017,$B171,'Daily Log'!$L$18:$L$1017),0)","v":0},{"$f":"IFERROR($E171*SUMIF('Daily Log'!$N$18:$N$1017,$B171,'Daily Log'!$O$18:$O$1017),0)","v":0},{"$f":"IFERROR($E171*SUMIF('Daily Log'!$Q$18:$Q$1017,$B171,'Daily Log'!$R$18:$R$1017),0)","v":0},{"$f":"IFERROR($E171*SUMIF('Daily Log'!$T$18:$T$1017,$B171,'Daily Log'!$U$18:$U$1017),0)","v":0},{"$f":"IFERROR($E171*SUMIF('Daily Log'!$W$18:$W$1017,$B171,'Daily Log'!$X$18:$X$1017),0)","v":0},{"$f":"IFERROR($E171*SUMIF('Daily Log'!$Z$18:$Z$1017,$B171,'Daily Log'!$AA$18:$AA$1017),0)","v":1},{"$f":"IFERROR($E171*SUMIF('Daily Log'!$AC$18:$AC$1017,$B171,'Daily Log'!$AD$18:$AD$1017),0)","v":0},{"$f":"IFERROR($E171*SUMIF('Daily Log'!$AF$18:$AF$1017,$B171,'Daily Log'!$AG$18:$AG$1017),0)","v":0},{"$f":"IFERROR($E171*SUMIF('Daily Log'!$AI$18:$AI$1017,$B171,'Daily Log'!$AJ$18:$AJ$1017),0)","v":0},{"$f":"IFERROR($E171*SUMIF('Daily Log'!$AL$18:$AL$1017,$B171,'Daily Log'!$AM$18:$AM$1017),0)","v":0},{"$f":"IFERROR($E171*SUMIF('Daily Log'!$AO$18:$AO$1017,$B171,'Daily Log'!$AP$18:$AP$1017),0)","v":0},{"$f":"IFERROR($E171*SUMIF('Daily Log'!$AR$18:$AR$1017,$B171,'Daily Log'!$AS$18:$AS$1017),0)","v":0},{"$f":"IFERROR($E171*SUMIF('Daily Log'!$AU$18:$AU$1017,$B171,'Daily Log'!$AV$18:$AV$1017),0)","v":0},{"$f":"IFERROR($E171*SUMIF('Daily Log'!$AX$18:$AX$1017,$B171,'Daily Log'!$AY$18:$AY$1017),0)","v":0},{"$f":"IFERROR($E171*SUMIF('Daily Log'!$BA$18:$BA$1017,$B171,'Daily Log'!$BB$18:$BB$1017),0)","v":0},{"$f":"IFERROR($E171*SUMIF('Daily Log'!$BD$18:$BD$1017,$B171,'Daily Log'!$BE$18:$BE$1017),0)","v":0},{"$f":"IFERROR($E171*SUMIF('Daily Log'!$BG$18:$BG$1017,$B171,'Daily Log'!$BH$18:$BH$1017),0)","v":0},{"$f":"IFERROR($E171*SUMIF('Daily Log'!$BJ$18:$BJ$1017,$B171,'Daily Log'!$BK$18:$BK$1017),0)","v":0},{"$f":"IFERROR($E171*SUMIF('Daily Log'!$BM$18:$BM$1017,$B171,'Daily Log'!$BN$18:$BN$1017),0)","v":0},{"$f":"IFERROR($E171*SUMIF('Daily Log'!$BP$18:$BP$1017,$B171,'Daily Log'!$BQ$18:$BQ$1017),0)","v":0},{"$f":"IFERROR($E171*SUMIF('Daily Log'!$BS$18:$BS$1017,$B171,'Daily Log'!$BT$18:$BT$1017),0)","v":0},{"$f":"IFERROR($E171*SUMIF('Daily Log'!$BV$18:$BV$1017,$B171,'Daily Log'!$BW$18:$BW$1017),0)","v":0},{"$f":"IFERROR($E171*SUMIF('Daily Log'!$BY$18:$BY$1017,$B171,'Daily Log'!$BZ$18:$BZ$1017),0)","v":0},{"$f":"IFERROR($E171*SUMIF('Daily Log'!$CB$18:$CB$1017,$B171,'Daily Log'!$CC$18:$CC$1017),0)","v":0},{"$f":"IFERROR($E171*SUMIF('Daily Log'!$CE$18:$CE$1017,$B171,'Daily Log'!$CF$18:$CF$1017),0)","v":0},{"$f":"IFERROR($E171*SUMIF('Daily Log'!$CH$18:$CH$1017,$B171,'Daily Log'!$CI$18:$CI$1017),0)","v":0},{"$f":"IFERROR($E171*SUMIF('Daily Log'!$CK$18:$CK$1017,$B171,'Daily Log'!$CL$18:$CL$1017),0)","v":0},{"$f":"IFERROR($E171*SUMIF('Daily Log'!$CN$18:$CN$1017,$B171,'Daily Log'!$CO$18:$CO$1017),0)","v":0}]
[null,"11537:M/S 蘑菇酱",null,"SAUCE",1,191,{"$f":"IFERROR($E172*SUMIF('Daily Log'!$B$18:$B$1017,$B172,'Daily Log'!$C$18:$C$1017),0)","v":0},{"$f":"IFERROR($E172*SUMIF('Daily Log'!$E$18:$E$1017,$B172,'Daily Log'!$F$18:$F$1017),0)","v":0},{"$f":"IFERROR($E172*SUMIF('Daily Log'!$H$18:$H$1017,$B172,'Daily Log'!$I$18:$I$1017),0)","v":0},{"$f":"IFERROR($E172*SUMIF('Daily Log'!$K$18:$K$1017,$B172,'Daily Log'!$L$18:$L$1017),0)","v":0},{"$f":"IFERROR($E172*SUMIF('Daily Log'!$N$18:$N$1017,$B172,'Daily Log'!$O$18:$O$1017),0)","v":0},{"$f":"IFERROR($E172*SUMIF('Daily Log'!$Q$18:$Q$1017,$B172,'Daily Log'!$R$18:$R$1017),0)","v":0},{"$f":"IFERROR($E172*SUMIF('Daily Log'!$T$18:$T$1017,$B172,'Daily Log'!$U$18:$U$1017),0)","v":18},{"$f":"IFERROR($E172*SUMIF('Daily Log'!$W$18:$W$1017,$B172,'Daily Log'!$X$18:$X$1017),0)","v":11},{"$f":"IFERROR($E172*SUMIF('Daily Log'!$Z$18:$Z$1017,$B172,'Daily Log'!$AA$18:$AA$1017),0)","v":35},{"$f":"IFERROR($E172*SUMIF('Daily Log'!$AC$18:$AC$1017,$B172,'Daily Log'!$AD$18:$AD$1017),0)","v":22},{"$f":"IFERROR($E172*SUMIF('Daily Log'!$AF$18:$AF$1017,$B172,'Daily Log'!$AG$18:$AG$1017),0)","v":34},{"$f":"IFERROR($E172*SUMIF('Daily Log'!$AI$18:$AI$1017,$B172,'Daily Log'!$AJ$18:$AJ$1017),0)","v":38},{"$f":"IFERROR($E172*SUMIF('Daily Log'!$AL$18:$AL$1017,$B172,'Daily Log'!$AM$18:$AM$1017),0)","v":33},{"$f":"IFERROR($E172*SUMIF('Daily Log'!$AO$18:$AO$1017,$B172,'Daily Log'!$AP$18:$AP$1017),0)","v":0},{"$f":"IFERROR($E172*SUMIF('Daily Log'!$AR$18:$AR$1017,$B172,'Daily Log'!$AS$18:$AS$1017),0)","v":0},{"$f":"IFERROR($E172*SUMIF('Daily Log'!$AU$18:$AU$1017,$B172,'Daily Log'!$AV$18:$AV$1017),0)","v":0},{"$f":"IFERROR($E172*SUMIF('Daily Log'!$AX$18:$AX$1017,$B172,'Daily Log'!$AY$18:$AY$1017),0)","v":0},{"$f":"IFERROR($E172*SUMIF('Daily Log'!$BA$18:$BA$1017,$B172,'Daily Log'!$BB$18:$BB$1017),0)","v":0},{"$f":"IFERROR($E172*SUMIF('Daily Log'!$BD$18:$BD$1017,$B172,'Daily Log'!$BE$18:$BE$1017),0)","v":0},{"$f":"IFERROR($E172*SUMIF('Daily Log'!$BG$18:$BG$1017,$B172,'Daily Log'!$BH$18:$BH$1017),0)","v":0},{"$f":"IFERROR($E172*SUMIF('Daily Log'!$BJ$18:$BJ$1017,$B172,'Daily Log'!$BK$18:$BK$1017),0)","v":0},{"$f":"IFERROR($E172*SUMIF('Daily Log'!$BM$18:$BM$1017,$B172,'Daily Log'!$BN$18:$BN$1017),0)","v":0},{"$f":"IFERROR($E172*SUMIF('Daily Log'!$BP$18:$BP$1017,$B172,'Daily Log'!$BQ$18:$BQ$1017),0)","v":0},{"$f":"IFERROR($E172*SUMIF('Daily Log'!$BS$18:$BS$1017,$B172,'Daily Log'!$BT$18:$BT$1017),0)","v":0},{"$f":"IFERROR($E172*SUMIF('Daily Log'!$BV$18:$BV$1017,$B172,'Daily Log'!$BW$18:$BW$1017),0)","v":0},{"$f":"IFERROR($E172*SUMIF('Daily Log'!$BY$18:$BY$1017,$B172,'Daily Log'!$BZ$18:$BZ$1017),0)","v":0},{"$f":"IFERROR($E172*SUMIF('Daily Log'!$CB$18:$CB$1017,$B172,'Daily Log'!$CC$18:$CC$1017),0)","v":0},{"$f":"IFERROR($E172*SUMIF('Daily Log'!$CE$18:$CE$1017,$B172,'Daily Log'!$CF$18:$CF$1017),0)","v":0},{"$f":"IFERROR($E172*SUMIF('Daily Log'!$CH$18:$CH$1017,$B172,'Daily Log'!$CI$18:$CI$1017),0)","v":0},{"$f":"IFERROR($E172*SUMIF('Daily Log'!$CK$18:$CK$1017,$B172,'Daily Log'!$CL$18:$CL$1017),0)","v":0},{"$f":"IFERROR($E172*SUMIF('Daily Log'!$CN$18:$CN$1017,$B172,'Daily Log'!$CO$18:$CO$1017),0)","v":0}]
[null,"11539:B/P-黑椒酱",null,"SAUCE",1,{"$f":"SUM($G173:$AK173)","v":217},{"$f":"IFERROR($E173*SUMIF('Daily Log'!$B$18:$B$1017,$B173,'Daily Log'!$C$18:$C$1017),0)","v":0},{"$f":"IFERROR($E173*SUMIF('Daily Log'!$E$18:$E$1017,$B173,'Daily Log'!$F$18:$F$1017),0)","v":0},{"$f":"IFERROR($E173*SUMIF('Daily Log'!$H$18:$H$1017,$B173,'Daily Log'!$I$18:$I$1017),0)","v":0},{"$f":"IFERROR($E173*SUMIF('Daily Log'!$K$18:$K$1017,$B173,'Daily Log'!$L$18:$L$1017),0)","v":0},{"$f":"IFERROR($E173*SUMIF('Daily Log'!$N$18:$N$1017,$B173,'Daily Log'!$O$18:$O$1017),0)","v":0},{"$f":"IFERROR($E173*SUMIF('Daily Log'!$Q$18:$Q$1017,$B173,'Daily Log'!$R$18:$R$1017),0)","v":0},{"$f":"IFERROR($E173*SUMIF('Daily Log'!$T$18:$T$1017,$B173,'Daily Log'!$U$18:$U$1017),0)","v":17},{"$f":"IFERROR($E173*SUMIF('Daily Log'!$W$18:$W$1017,$B173,'Daily Log'!$X$18:$X$1017),0)","v":28},{"$f":"IFERROR($E173*SUMIF('Daily Log'!$Z$18:$Z$1017,$B173,'Daily Log'!$AA$18:$AA$1017),0)","v":18},{"$f":"IFERROR($E173*SUMIF('Daily Log'!$AC$18:$AC$1017,$B173,'Daily Log'!$AD$18:$AD$1017),0)","v":33},{"$f":"IFERROR($E173*SUMIF('Daily Log'!$AF$18:$AF$1017,$B173,'Daily Log'!$AG$18:$AG$1017),0)","v":53},{"$f":"IFERROR($E173*SUMIF('Daily Log'!$AI$18:$AI$1017,$B173,'Daily Log'!$AJ$18:$AJ$1017),0)","v":40},{"$f":"IFERROR($E173*SUMIF('Daily Log'!$AL$18:$AL$1017,$B173,'Daily Log'!$AM$18:$AM$1017),0)","v":28},{"$f":"IFERROR($E173*SUMIF('Daily Log'!$AO$18:$AO$1017,$B173,'Daily Log'!$AP$18:$AP$1017),0)","v":0},{"$f":"IFERROR($E173*SUMIF('Daily Log'!$AR$18:$AR$1017,$B173,'Daily Log'!$AS$18:$AS$1017),0)","v":0},{"$f":"IFERROR($E173*SUMIF('Daily Log'!$AU$18:$AU$1017,$B173,'Daily Log'!$AV$18:$AV$1017),0)","v":0},{"$f":"IFERROR($E173*SUMIF('Daily Log'!$AX$18:$AX$1017,$B173,'Daily Log'!$AY$18:$AY$1017),0)","v":0},{"$f":"IFERROR($E173*SUMIF('Daily Log'!$BA$18:$BA$1017,$B173,'Daily Log'!$BB$18:$BB$1017),0)","v":0},{"$f":"IFERROR($E173*SUMIF('Daily Log'!$BD$18:$BD$1017,$B173,'Daily Log'!$BE$18:$BE$1017),0)","v":0},{"$f":"IFERROR($E173*SUMIF('Daily Log'!$BG$18:$BG$1017,$B173,'Daily Log'!$BH$18:$BH$1017),0)","v":0},{"$f":"IFERROR($E173*SUMIF('Daily Log'!$BJ$18:$BJ$1017,$B173,'Daily Log'!$BK$18:$BK$1017),0)","v":0},{"$f":"IFERROR($E173*SUMIF('Daily Log'!$BM$18:$BM$1017,$B173,'Daily Log'!$BN$18:$BN$1017),0)","v":0},{"$f":"IFERROR($E173*SUMIF('Daily Log'!$BP$18:$BP$1017,$B173,'Daily Log'!$BQ$18:$BQ$1017),0)","v":0},{"$f":"IFERROR($E173*SUMIF('Daily Log'!$BS$18:$BS$1017,$B173,'Daily Log'!$BT$18:$BT$1017),0)","v":0},{"$f":"IFERROR($E173*SUMIF('Daily Log'!$BV$18:$BV$1017,$B173,'Daily Log'!$BW$18:$BW$1017),0)","v":0},{"$f":"IFERROR($E173*SUMIF('Daily Log'!$BY$18:$BY$1017,$B173,'Daily Log'!$BZ$18:$BZ$1017),0)","v":0},{"$f":"IFERROR($E173*SUMIF('Daily Log'!$CB$18:$CB$1017,$B173,'Daily Log'!$CC$18:$CC$1017),0)","v":0},{"$f":"IFERROR($E173*SUMIF('Daily Log'!$CE$18:$CE$1017,$B173,'Daily Log'!$CF$18:$CF$1017),0)","v":0},{"$f":"IFERROR($E173*SUMIF('Daily Log'!$CH$18:$CH$1017,$B173,'Daily Log'!$CI$18:$CI$1017),0)","v":0},{"$f":"IFERROR($E173*SUMIF('Daily Log'!$CK$18:$CK$1017,$B173,'Daily Log'!$CL$18:$CL$1017),0)","v":0},{"$f":"IFERROR($E173*SUMIF('Daily Log'!$CN$18:$CN$1017,$B173,'Daily Log'!$CO$18:$CO$1017),0)","v":0}]
[null,"11801:R-B/P Sauce ",null,"SAUCE",1,2,{"$f":"IFERROR($E174*SUMIF('Daily Log'!$B$18:$B$1017,$B174,'Daily Log'!$C$18:$C$1017),0)","v":0},{"$f":"IFERROR($E174*SUMIF('Daily Log'!$E$18:$E$1017,$B174,'Daily Log'!$F$18:$F$1017),0)","v":0},{"$f":"IFERROR($E174*SUMIF('Daily Log'!$H$18:$H$1017,$B174,'Daily Log'!$I$18:$I$1017),0)","v":0},{"$f":"IFERROR($E174*SUMIF('Daily Log'!$K$18:$K$1017,$B174,'Daily Log'!$L$18:$L$1017),0)","v":0},{"$f":"IFERROR($E174*SUMIF('Daily Log'!$N$18:$N$1017,$B174,'Daily Log'!$O$18:$O$1017),0)","v":0},{"$f":"IFERROR($E174*SUMIF('Daily Log'!$Q$18:$Q$1017,$B174,'Daily Log'!$R$18:$R$1017),0)","v":0},{"$f":"IFERROR($E174*SUMIF('Daily Log'!$T$18:$T$1017,$B174,'Daily Log'!$U$18:$U$1017),0)","v":0},{"$f":"IFERROR($E174*SUMIF('Daily Log'!$W$18:$W$1017,$B174,'Daily Log'!$X$18:$X$1017),0)","v":1},{"$f":"IFERROR($E174*SUMIF('Daily Log'!$Z$18:$Z$1017,$B174,'Daily Log'!$AA$18:$AA$1017),0)","v":0},{"$f":"IFERROR($E174*SUMIF('Daily Log'!$AC$18:$AC$1017,$B174,'Daily Log'!$AD$18:$AD$1017),0)","v":0},{"$f":"IFERROR($E174*SUMIF('Daily Log'!$AF$18:$AF$1017,$B174,'Daily Log'!$AG$18:$AG$1017),0)","v":1},{"$f":"IFERROR($E174*SUMIF('Daily Log'!$AI$18:$AI$1017,$B174,'Daily Log'!$AJ$18:$AJ$1017),0)","v":0},{"$f":"IFERROR($E174*SUMIF('Daily Log'!$AL$18:$AL$1017,$B174,'Daily Log'!$AM$18:$AM$1017),0)","v":0},{"$f":"IFERROR($E174*SUMIF('Daily Log'!$AO$18:$AO$1017,$B174,'Daily Log'!$AP$18:$AP$1017),0)","v":0},{"$f":"IFERROR($E174*SUMIF('Daily Log'!$AR$18:$AR$1017,$B174,'Daily Log'!$AS$18:$AS$1017),0)","v":0},{"$f":"IFERROR($E174*SUMIF('Daily Log'!$AU$18:$AU$1017,$B174,'Daily Log'!$AV$18:$AV$1017),0)","v":0},{"$f":"IFERROR($E174*SUMIF('Daily Log'!$AX$18:$AX$1017,$B174,'Daily Log'!$AY$18:$AY$1017),0)","v":0},{"$f":"IFERROR($E174*SUMIF('Daily Log'!$BA$18:$BA$1017,$B174,'Daily Log'!$BB$18:$BB$1017),0)","v":0},{"$f":"IFERROR($E174*SUMIF('Daily Log'!$BD$18:$BD$1017,$B174,'Daily Log'!$BE$18:$BE$1017),0)","v":0},{"$f":"IFERROR($E174*SUMIF('Daily Log'!$BG$18:$BG$1017,$B174,'Daily Log'!$BH$18:$BH$1017),0)","v":0},{"$f":"IFERROR($E174*SUMIF('Daily Log'!$BJ$18:$BJ$1017,$B174,'Daily Log'!$BK$18:$BK$1017),0)","v":0},{"$f":"IFERROR($E174*SUMIF('Daily Log'!$BM$18:$BM$1017,$B174,'Daily Log'!$BN$18:$BN$1017),0)","v":0},{"$f":"IFERROR($E174*SUMIF('Daily Log'!$BP$18:$BP$1017,$B174,'Daily Log'!$BQ$18:$BQ$1017),0)","v":0},{"$f":"IFERROR($E174*SUMIF('Daily Log'!$BS$18:$BS$1017,$B174,'Daily Log'!$BT$18:$BT$1017),0)","v":0},{"$f":"IFERROR($E174*SUMIF('Daily Log'!$BV$18:$BV$1017,$B174,'Daily Log'!$BW$18:$BW$1017),0)","v":0},{"$f":"IFERROR($E174*SUMIF('Daily Log'!$BY$18:$BY$1017,$B174,'Daily Log'!$BZ$18:$BZ$1017),0)","v":0},{"$f":"IFERROR($E174*SUMIF('Daily Log'!$CB$18:$CB$1017,$B174,'Daily Log'!$CC$18:$CC$1017),0)","v":0},{"$f":"IFERROR($E174*SUMIF('Daily Log'!$CE$18:$CE$1017,$B174,'Daily Log'!$CF$18:$CF$1017),0)","v":0},{"$f":"IFERROR($E174*SUMIF('Daily Log'!$CH$18:$CH$1017,$B174,'Daily Log'!$CI$18:$CI$1017),0)","v":0},{"$f":"IFERROR($E174*SUMIF('Daily Log'!$CK$18:$CK$1017,$B174,'Daily Log'!$CL$18:$CL$1017),0)","v":0},{"$f":"IFERROR($E174*SUMIF('Daily Log'!$CN$18:$CN$1017,$B174,'Daily Log'!$CO$18:$CO$1017),0)","v":0}]
[null,"11801:R-B/P Sauce ",null,"SAUCE",1,2,{"$f":"IFERROR($E175*SUMIF('Daily Log'!$B$18:$B$1017,$B175,'Daily Log'!$C$18:$C$1017),0)","v":0},{"$f":"IFERROR($E175*SUMIF('Daily Log'!$E$18:$E$1017,$B175,'Daily Log'!$F$18:$F$1017),0)","v":0},{"$f":"IFERROR($E175*SUMIF('Daily Log'!$H$18:$H$1017,$B175,'Daily Log'!$I$18:$I$1017),0)","v":0},{"$f":"IFERROR($E175*SUMIF('Daily Log'!$K$18:$K$1017,$B175,'Daily Log'!$L$18:$L$1017),0)","v":0},{"$f":"IFERROR($E175*SUMIF('Daily Log'!$N$18:$N$1017,$B175,'Daily Log'!$O$18:$O$1017),0)","v":0},{"$f":"IFERROR($E175*SUMIF('Daily Log'!$Q$18:$Q$1017,$B175,'Daily Log'!$R$18:$R$1017),0)","v":0},{"$f":"IFERROR($E175*SUMIF('Daily Log'!$T$18:$T$1017,$B175,'Daily Log'!$U$18:$U$1017),0)","v":0},{"$f":"IFERROR($E175*SUMIF('Daily Log'!$W$18:$W$1017,$B175,'Daily Log'!$X$18:$X$1017),0)","v":1},{"$f":"IFERROR($E175*SUMIF('Daily Log'!$Z$18:$Z$1017,$B175,'Daily Log'!$AA$18:$AA$1017),0)","v":0},{"$f":"IFERROR($E175*SUMIF('Daily Log'!$AC$18:$AC$1017,$B175,'Daily Log'!$AD$18:$AD$1017),0)","v":0},{"$f":"IFERROR($E175*SUMIF('Daily Log'!$AF$18:$AF$1017,$B175,'Daily Log'!$AG$18:$AG$1017),0)","v":1},{"$f":"IFERROR($E175*SUMIF('Daily Log'!$AI$18:$AI$1017,$B175,'Daily Log'!$AJ$18:$AJ$1017),0)","v":0},{"$f":"IFERROR($E175*SUMIF('Daily Log'!$AL$18:$AL$1017,$B175,'Daily Log'!$AM$18:$AM$1017),0)","v":0},{"$f":"IFERROR($E175*SUMIF('Daily Log'!$AO$18:$AO$1017,$B175,'Daily Log'!$AP$18:$AP$1017),0)","v":0},{"$f":"IFERROR($E175*SUMIF('Daily Log'!$AR$18:$AR$1017,$B175,'Daily Log'!$AS$18:$AS$1017),0)","v":0},{"$f":"IFERROR($E175*SUMIF('Daily Log'!$AU$18:$AU$1017,$B175,'Daily Log'!$AV$18:$AV$1017),0)","v":0},{"$f":"IFERROR($E175*SUMIF('Daily Log'!$AX$18:$AX$1017,$B175,'Daily Log'!$AY$18:$AY$1017),0)","v":0},{"$f":"IFERROR($E175*SUMIF('Daily Log'!$BA$18:$BA$1017,$B175,'Daily Log'!$BB$18:$BB$1017),0)","v":0},{"$f":"IFERROR($E175*SUMIF('Daily Log'!$BD$18:$BD$1017,$B175,'Daily Log'!$BE$18:$BE$1017),0)","v":0},{"$f":"IFERROR($E175*SUMIF('Daily Log'!$BG$18:$BG$1017,$B175,'Daily Log'!$BH$18:$BH$1017),0)","v":0},{"$f":"IFERROR($E175*SUMIF('Daily Log'!$BJ$18:$BJ$1017,$B175,'Daily Log'!$BK$18:$BK$1017),0)","v":0},{"$f":"IFERROR($E175*SUMIF('Daily Log'!$BM$18:$BM$1017,$B175,'Daily Log'!$BN$18:$BN$1017),0)","v":0},{"$f":"IFERROR($E175*SUMIF('Daily Log'!$BP$18:$BP$1017,$B175,'Daily Log'!$BQ$18:$BQ$1017),0)","v":0},{"$f":"IFERROR($E175*SUMIF('Daily Log'!$BS$18:$BS$1017,$B175,'Daily Log'!$BT$18:$BT$1017),0)","v":0},{"$f":"IFERROR($E175*SUMIF('Daily Log'!$BV$18:$BV$1017,$B175,'Daily Log'!$BW$18:$BW$1017),0)","v":0},{"$f":"IFERROR($E175*SUMIF('Daily Log'!$BY$18:$BY$1017,$B175,'Daily Log'!$BZ$18:$BZ$1017),0)","v":0},{"$f":"IFERROR($E175*SUMIF('Daily Log'!$CB$18:$CB$1017,$B175,'Daily Log'!$CC$18:$CC$1017),0)","v":0},{"$f":"IFERROR($E175*SUMIF('Daily Log'!$CE$18:$CE$1017,$B175,'Daily Log'!$CF$18:$CF$1017),0)","v":0},{"$f":"IFERROR($E175*SUMIF('Daily Log'!$CH$18:$CH$1017,$B175,'Daily Log'!$CI$18:$CI$1017),0)","v":0},{"$f":"IFERROR($E175*SUMIF('Daily Log'!$CK$18:$CK$1017,$B175,'Daily Log'!$CL$18:$CL$1017),0)","v":0},{"$f":"IFERROR($E175*SUMIF('Daily Log'!$CN$18:$CN$1017,$B175,'Daily Log'!$CO$18:$CO$1017),0)","v":0}]
[null,"11802:R-Mushroom Sauce",null,"SAUCE",1,1,{"$f":"IFERROR($E176*SUMIF('Daily Log'!$B$18:$B$1017,$B176,'Daily Log'!$C$18:$C$1017),0)","v":0},{"$f":"IFERROR($E176*SUMIF('Daily Log'!$E$18:$E$1017,$B176,'Daily Log'!$F$18:$F$1017),0)","v":0},{"$f":"IFERROR($E176*SUMIF('Daily Log'!$H$18:$H$1017,$B176,'Daily Log'!$I$18:$I$1017),0)","v":0},{"$f":"IFERROR($E176*SUMIF('Daily Log'!$K$18:$K$1017,$B176,'Daily Log'!$L$18:$L$1017),0)","v":0},{"$f":"IFERROR($E176*SUMIF('Daily Log'!$N$18:$N$1017,$B176,'Daily Log'!$O$18:$O$1017),0)","v":0},{"$f":"IFERROR($E176*SUMIF('Daily Log'!$Q$18:$Q$1017,$B176,'Daily Log'!$R$18:$R$1017),0)","v":0},{"$f":"IFERROR($E176*SUMIF('Daily Log'!$T$18:$T$1017,$B176,'Daily Log'!$U$18:$U$1017),0)","v":0},{"$f":"IFERROR($E176*SUMIF('Daily Log'!$W$18:$W$1017,$B176,'Daily Log'!$X$18:$X$1017),0)","v":0},{"$f":"IFERROR($E176*SUMIF('Daily Log'!$Z$18:$Z$1017,$B176,'Daily Log'!$AA$18:$AA$1017),0)","v":0},{"$f":"IFERROR($E176*SUMIF('Daily Log'!$AC$18:$AC$1017,$B176,'Daily Log'!$AD$18:$AD$1017),0)","v":0},{"$f":"IFERROR($E176*SUMIF('Daily Log'!$AF$18:$AF$1017,$B176,'Daily Log'!$AG$18:$AG$1017),0)","v":1},{"$f":"IFERROR($E176*SUMIF('Daily Log'!$AI$18:$AI$1017,$B176,'Daily Log'!$AJ$18:$AJ$1017),0)","v":0},{"$f":"IFERROR($E176*SUMIF('Daily Log'!$AL$18:$AL$1017,$B176,'Daily Log'!$AM$18:$AM$1017),0)","v":0},{"$f":"IFERROR($E176*SUMIF('Daily Log'!$AO$18:$AO$1017,$B176,'Daily Log'!$AP$18:$AP$1017),0)","v":0},{"$f":"IFERROR($E176*SUMIF('Daily Log'!$AR$18:$AR$1017,$B176,'Daily Log'!$AS$18:$AS$1017),0)","v":0},{"$f":"IFERROR($E176*SUMIF('Daily Log'!$AU$18:$AU$1017,$B176,'Daily Log'!$AV$18:$AV$1017),0)","v":0},{"$f":"IFERROR($E176*SUMIF('Daily Log'!$AX$18:$AX$1017,$B176,'Daily Log'!$AY$18:$AY$1017),0)","v":0},{"$f":"IFERROR($E176*SUMIF('Daily Log'!$BA$18:$BA$1017,$B176,'Daily Log'!$BB$18:$BB$1017),0)","v":0},{"$f":"IFERROR($E176*SUMIF('Daily Log'!$BD$18:$BD$1017,$B176,'Daily Log'!$BE$18:$BE$1017),0)","v":0},{"$f":"IFERROR($E176*SUMIF('Daily Log'!$BG$18:$BG$1017,$B176,'Daily Log'!$BH$18:$BH$1017),0)","v":0},{"$f":"IFERROR($E176*SUMIF('Daily Log'!$BJ$18:$BJ$1017,$B176,'Daily Log'!$BK$18:$BK$1017),0)","v":0},{"$f":"IFERROR($E176*SUMIF('Daily Log'!$BM$18:$BM$1017,$B176,'Daily Log'!$BN$18:$BN$1017),0)","v":0},{"$f":"IFERROR($E176*SUMIF('Daily Log'!$BP$18:$BP$1017,$B176,'Daily Log'!$BQ$18:$BQ$1017),0)","v":0},{"$f":"IFERROR($E176*SUMIF('Daily Log'!$BS$18:$BS$1017,$B176,'Daily Log'!$BT$18:$BT$1017),0)","v":0},{"$f":"IFERROR($E176*SUMIF('Daily Log'!$BV$18:$BV$1017,$B176,'Daily Log'!$BW$18:$BW$1017),0)","v":0},{"$f":"IFERROR($E176*SUMIF('Daily Log'!$BY$18:$BY$1017,$B176,'Daily Log'!$BZ$18:$BZ$1017),0)","v":0},{"$f":"IFERROR($E176*SUMIF('Daily Log'!$CB$18:$CB$1017,$B176,'Daily Log'!$CC$18:$CC$1017),0)","v":0},{"$f":"IFERROR($E176*SUMIF('Daily Log'!$CE$18:$CE$1017,$B176,'Daily Log'!$CF$18:$CF$1017),0)","v":0},{"$f":"IFERROR($E176*SUMIF('Daily Log'!$CH$18:$CH$1017,$B176,'Daily Log'!$CI$18:$CI$1017),0)","v":0},{"$f":"IFERROR($E176*SUMIF('Daily Log'!$CK$18:$CK$1017,$B176,'Daily Log'!$CL$18:$CL$1017),0)","v":0},{"$f":"IFERROR($E176*SUMIF('Daily Log'!$CN$18:$CN$1017,$B176,'Daily Log'!$CO$18:$CO$1017),0)","v":0}]
[null,"11802:R-Mushroom Sauce",null,"SAUCE",1,1,{"$f":"IFERROR($E177*SUMIF('Daily Log'!$B$18:$B$1017,$B177,'Daily Log'!$C$18:$C$1017),0)","v":0},{"$f":"IFERROR($E177*SUMIF('Daily Log'!$E$18:$E$1017,$B177,'Daily Log'!$F$18:$F$1017),0)","v":0},{"$f":"IFERROR($E177*SUMIF('Daily Log'!$H$18:$H$1017,$B177,'Daily Log'!$I$18:$I$1017),0)","v":0},{"$f":"IFERROR($E177*SUMIF('Daily Log'!$K$18:$K$1017,$B177,'Daily Log'!$L$18:$L$1017),0)","v":0},{"$f":"IFERROR($E177*SUMIF('Daily Log'!$N$18:$N$1017,$B177,'Daily Log'!$O$18:$O$1017),0)","v":0},{"$f":"IFERROR($E177*SUMIF('Daily Log'!$Q$18:$Q$1017,$B177,'Daily Log'!$R$18:$R$1017),0)","v":0},{"$f":"IFERROR($E177*SUMIF('Daily Log'!$T$18:$T$1017,$B177,'Daily Log'!$U$18:$U$1017),0)","v":0},{"$f":"IFERROR($E177*SUMIF('Daily Log'!$W$18:$W$1017,$B177,'Daily Log'!$X$18:$X$1017),0)","v":0},{"$f":"IFERROR($E177*SUMIF('Daily Log'!$Z$18:$Z$1017,$B177,'Daily Log'!$AA$18:$AA$1017),0)","v":0},{"$f":"IFERROR($E177*SUMIF('Daily Log'!$AC$18:$AC$1017,$B177,'Daily Log'!$AD$18:$AD$1017),0)","v":0},{"$f":"IFERROR($E177*SUMIF('Daily Log'!$AF$18:$AF$1017,$B177,'Daily Log'!$AG$18:$AG$1017),0)","v":1},{"$f":"IFERROR($E177*SUMIF('Daily Log'!$AI$18:$AI$1017,$B177,'Daily Log'!$AJ$18:$AJ$1017),0)","v":0},{"$f":"IFERROR($E177*SUMIF('Daily Log'!$AL$18:$AL$1017,$B177,'Daily Log'!$AM$18:$AM$1017),0)","v":0},{"$f":"IFERROR($E177*SUMIF('Daily Log'!$AO$18:$AO$1017,$B177,'Daily Log'!$AP$18:$AP$1017),0)","v":0},{"$f":"IFERROR($E177*SUMIF('Daily Log'!$AR$18:$AR$1017,$B177,'Daily Log'!$AS$18:$AS$1017),0)","v":0},{"$f":"IFERROR($E177*SUMIF('Daily Log'!$AU$18:$AU$1017,$B177,'Daily Log'!$AV$18:$AV$1017),0)","v":0},{"$f":"IFERROR($E177*SUMIF('Daily Log'!$AX$18:$AX$1017,$B177,'Daily Log'!$AY$18:$AY$1017),0)","v":0},{"$f":"IFERROR($E177*SUMIF('Daily Log'!$BA$18:$BA$1017,$B177,'Daily Log'!$BB$18:$BB$1017),0)","v":0},{"$f":"IFERROR($E177*SUMIF('Daily Log'!$BD$18:$BD$1017,$B177,'Daily Log'!$BE$18:$BE$1017),0)","v":0},{"$f":"IFERROR($E177*SUMIF('Daily Log'!$BG$18:$BG$1017,$B177,'Daily Log'!$BH$18:$BH$1017),0)","v":0},{"$f":"IFERROR($E177*SUMIF('Daily Log'!$BJ$18:$BJ$1017,$B177,'Daily Log'!$BK$18:$BK$1017),0)","v":0},{"$f":"IFERROR($E177*SUMIF('Daily Log'!$BM$18:$BM$1017,$B177,'Daily Log'!$BN$18:$BN$1017),0)","v":0},{"$f":"IFERROR($E177*SUMIF('Daily Log'!$BP$18:$BP$1017,$B177,'Daily Log'!$BQ$18:$BQ$1017),0)","v":0},{"$f":"IFERROR($E177*SUMIF('Daily Log'!$BS$18:$BS$1017,$B177,'Daily Log'!$BT$18:$BT$1017),0)","v":0},{"$f":"IFERROR($E177*SUMIF('Daily Log'!$BV$18:$BV$1017,$B177,'Daily Log'!$BW$18:$BW$1017),0)","v":0},{"$f":"IFERROR($E177*SUMIF('Daily Log'!$BY$18:$BY$1017,$B177,'Daily Log'!$BZ$18:$BZ$1017),0)","v":0},{"$f":"IFERROR($E177*SUMIF('Daily Log'!$CB$18:$CB$1017,$B177,'Daily Log'!$CC$18:$CC$1017),0)","v":0},{"$f":"IFERROR($E177*SUMIF('Daily Log'!$CE$18:$CE$1017,$B177,'Daily Log'!$CF$18:$CF$1017),0)","v":0},{"$f":"IFERROR($E177*SUMIF('Daily Log'!$CH$18:$CH$1017,$B177,'Daily Log'!$CI$18:$CI$1017),0)","v":0},{"$f":"IFERROR($E177*SUMIF('Daily Log'!$CK$18:$CK$1017,$B177,'Daily Log'!$CL$18:$CL$1017),0)","v":0},{"$f":"IFERROR($E177*SUMIF('Daily Log'!$CN$18:$CN$1017,$B177,'Daily Log'!$CO$18:$CO$1017),0)","v":0}]
[null,"11803:R-Butter Sauce",null,"SAUCE",1,8,{"$f":"IFERROR($E178*SUMIF('Daily Log'!$B$18:$B$1017,$B178,'Daily Log'!$C$18:$C$1017),0)","v":0},{"$f":"IFERROR($E178*SUMIF('Daily Log'!$E$18:$E$1017,$B178,'Daily Log'!$F$18:$F$1017),0)","v":0},{"$f":"IFERROR($E178*SUMIF('Daily Log'!$H$18:$H$1017,$B178,'Daily Log'!$I$18:$I$1017),0)","v":0},{"$f":"IFERROR($E178*SUMIF('Daily Log'!$K$18:$K$1017,$B178,'Daily Log'!$L$18:$L$1017),0)","v":0},{"$f":"IFERROR($E178*SUMIF('Daily Log'!$N$18:$N$1017,$B178,'Daily Log'!$O$18:$O$1017),0)","v":0},{"$f":"IFERROR($E178*SUMIF('Daily Log'!$Q$18:$Q$1017,$B178,'Daily Log'!$R$18:$R$1017),0)","v":0},{"$f":"IFERROR($E178*SUMIF('Daily Log'!$T$18:$T$1017,$B178,'Daily Log'!$U$18:$U$1017),0)","v":2},{"$f":"IFERROR($E178*SUMIF('Daily Log'!$W$18:$W$1017,$B178,'Daily Log'!$X$18:$X$1017),0)","v":0},{"$f":"IFERROR($E178*SUMIF('Daily Log'!$Z$18:$Z$1017,$B178,'Daily Log'!$AA$18:$AA$1017),0)","v":2},{"$f":"IFERROR($E178*SUMIF('Daily Log'!$AC$18:$AC$1017,$B178,'Daily Log'!$AD$18:$AD$1017),0)","v":4},{"$f":"IFERROR($E178*SUMIF('Daily Log'!$AF$18:$AF$1017,$B178,'Daily Log'!$AG$18:$AG$1017),0)","v":0},{"$f":"IFERROR($E178*SUMIF('Daily Log'!$AI$18:$AI$1017,$B178,'Daily Log'!$AJ$18:$AJ$1017),0)","v":0},{"$f":"IFERROR($E178*SUMIF('Daily Log'!$AL$18:$AL$1017,$B178,'Daily Log'!$AM$18:$AM$1017),0)","v":0},{"$f":"IFERROR($E178*SUMIF('Daily Log'!$AO$18:$AO$1017,$B178,'Daily Log'!$AP$18:$AP$1017),0)","v":0},{"$f":"IFERROR($E178*SUMIF('Daily Log'!$AR$18:$AR$1017,$B178,'Daily Log'!$AS$18:$AS$1017),0)","v":0},{"$f":"IFERROR($E178*SUMIF('Daily Log'!$AU$18:$AU$1017,$B178,'Daily Log'!$AV$18:$AV$1017),0)","v":0},{"$f":"IFERROR($E178*SUMIF('Daily Log'!$AX$18:$AX$1017,$B178,'Daily Log'!$AY$18:$AY$1017),0)","v":0},{"$f":"IFERROR($E178*SUMIF('Daily Log'!$BA$18:$BA$1017,$B178,'Daily Log'!$BB$18:$BB$1017),0)","v":0},{"$f":"IFERROR($E178*SUMIF('Daily Log'!$BD$18:$BD$1017,$B178,'Daily Log'!$BE$18:$BE$1017),0)","v":0},{"$f":"IFERROR($E178*SUMIF('Daily Log'!$BG$18:$BG$1017,$B178,'Daily Log'!$BH$18:$BH$1017),0)","v":0},{"$f":"IFERROR($E178*SUMIF('Daily Log'!$BJ$18:$BJ$1017,$B178,'Daily Log'!$BK$18:$BK$1017),0)","v":0},{"$f":"IFERROR($E178*SUMIF('Daily Log'!$BM$18:$BM$1017,$B178,'Daily Log'!$BN$18:$BN$1017),0)","v":0},{"$f":"IFERROR($E178*SUMIF('Daily Log'!$BP$18:$BP$1017,$B178,'Daily Log'!$BQ$18:$BQ$1017),0)","v":0},{"$f":"IFERROR($E178*SUMIF('Daily Log'!$BS$18:$BS$1017,$B178,'Daily Log'!$BT$18:$BT$1017),0)","v":0},{"$f":"IFERROR($E178*SUMIF('Daily Log'!$BV$18:$BV$1017,$B178,'Daily Log'!$BW$18:$BW$1017),0)","v":0},{"$f":"IFERROR($E178*SUMIF('Daily Log'!$BY$18:$BY$1017,$B178,'Daily Log'!$BZ$18:$BZ$1017),0)","v":0},{"$f":"IFERROR($E178*SUMIF('Daily Log'!$CB$18:$CB$1017,$B178,'Daily Log'!$CC$18:$CC$1017),0)","v":0},{"$f":"IFERROR($E178*SUMIF('Daily Log'!$CE$18:$CE$1017,$B178,'Daily Log'!$CF$18:$CF$1017),0)","v":0},{"$f":"IFERROR($E178*SUMIF('Daily Log'!$CH$18:$CH$1017,$B178,'Daily Log'!$CI$18:$CI$1017),0)","v":0},{"$f":"IFERROR($E178*SUMIF('Daily Log'!$CK$18:$CK$1017,$B178,'Daily Log'!$CL$18:$CL$1017),0)","v":0},{"$f":"IFERROR($E178*SUMIF('Daily Log'!$CN$18:$CN$1017,$B178,'Daily Log'!$CO$18:$CO$1017),0)","v":0}]
[null,"11803:R-Butter Sauce",null,"SAUCE",1,8,{"$f":"IFERROR($E179*SUMIF('Daily Log'!$B$18:$B$1017,$B179,'Daily Log'!$C$18:$C$1017),0)","v":0},{"$f":"IFERROR($E179*SUMIF('Daily Log'!$E$18:$E$1017,$B179,'Daily Log'!$F$18:$F$1017),0)","v":0},{"$f":"IFERROR($E179*SUMIF('Daily Log'!$H$18:$H$1017,$B179,'Daily Log'!$I$18:$I$1017),0)","v":0},{"$f":"IFERROR($E179*SUMIF('Daily Log'!$K$18:$K$1017,$B179,'Daily Log'!$L$18:$L$1017),0)","v":0},{"$f":"IFERROR($E179*SUMIF('Daily Log'!$N$18:$N$1017,$B179,'Daily Log'!$O$18:$O$1017),0)","v":0},{"$f":"IFERROR($E179*SUMIF('Daily Log'!$Q$18:$Q$1017,$B179,'Daily Log'!$R$18:$R$1017),0)","v":0},{"$f":"IFERROR($E179*SUMIF('Daily Log'!$T$18:$T$1017,$B179,'Daily Log'!$U$18:$U$1017),0)","v":2},{"$f":"IFERROR($E179*SUMIF('Daily Log'!$W$18:$W$1017,$B179,'Daily Log'!$X$18:$X$1017),0)","v":0},{"$f":"IFERROR($E179*SUMIF('Daily Log'!$Z$18:$Z$1017,$B179,'Daily Log'!$AA$18:$AA$1017),0)","v":2},{"$f":"IFERROR($E179*SUMIF('Daily Log'!$AC$18:$AC$1017,$B179,'Daily Log'!$AD$18:$AD$1017),0)","v":4},{"$f":"IFERROR($E179*SUMIF('Daily Log'!$AF$18:$AF$1017,$B179,'Daily Log'!$AG$18:$AG$1017),0)","v":0},{"$f":"IFERROR($E179*SUMIF('Daily Log'!$AI$18:$AI$1017,$B179,'Daily Log'!$AJ$18:$AJ$1017),0)","v":0},{"$f":"IFERROR($E179*SUMIF('Daily Log'!$AL$18:$AL$1017,$B179,'Daily Log'!$AM$18:$AM$1017),0)","v":0},{"$f":"IFERROR($E179*SUMIF('Daily Log'!$AO$18:$AO$1017,$B179,'Daily Log'!$AP$18:$AP$1017),0)","v":0},{"$f":"IFERROR($E179*SUMIF('Daily Log'!$AR$18:$AR$1017,$B179,'Daily Log'!$AS$18:$AS$1017),0)","v":0},{"$f":"IFERROR($E179*SUMIF('Daily Log'!$AU$18:$AU$1017,$B179,'Daily Log'!$AV$18:$AV$1017),0)","v":0},{"$f":"IFERROR($E179*SUMIF('Daily Log'!$AX$18:$AX$1017,$B179,'Daily Log'!$AY$18:$AY$1017),0)","v":0},{"$f":"IFERROR($E179*SUMIF('Daily Log'!$BA$18:$BA$1017,$B179,'Daily Log'!$BB$18:$BB$1017),0)","v":0},{"$f":"IFERROR($E179*SUMIF('Daily Log'!$BD$18:$BD$1017,$B179,'Daily Log'!$BE$18:$BE$1017),0)","v":0},{"$f":"IFERROR($E179*SUMIF('Daily Log'!$BG$18:$BG$1017,$B179,'Daily Log'!$BH$18:$BH$1017),0)","v":0},{"$f":"IFERROR($E179*SUMIF('Daily Log'!$BJ$18:$BJ$1017,$B179,'Daily Log'!$BK$18:$BK$1017),0)","v":0},{"$f":"IFERROR($E179*SUMIF('Daily Log'!$BM$18:$BM$1017,$B179,'Daily Log'!$BN$18:$BN$1017),0)","v":0},{"$f":"IFERROR($E179*SUMIF('Daily Log'!$BP$18:$BP$1017,$B179,'Daily Log'!$BQ$18:$BQ$1017),0)","v":0},{"$f":"IFERROR($E179*SUMIF('Daily Log'!$BS$18:$BS$1017,$B179,'Daily Log'!$BT$18:$BT$1017),0)","v":0},{"$f":"IFERROR($E179*SUMIF('Daily Log'!$BV$18:$BV$1017,$B179,'Daily Log'!$BW$18:$BW$1017),0)","v":0},{"$f":"IFERROR($E179*SUMIF('Daily Log'!$BY$18:$BY$1017,$B179,'Daily Log'!$BZ$18:$BZ$1017),0)","v":0},{"$f":"IFERROR($E179*SUMIF('Daily Log'!$CB$18:$CB$1017,$B179,'Daily Log'!$CC$18:$CC$1017),0)","v":0},{"$f":"IFERROR($E179*SUMIF('Daily Log'!$CE$18:$CE$1017,$B179,'Daily Log'!$CF$18:$CF$1017),0)","v":0},{"$f":"IFERROR($E179*SUMIF('Daily Log'!$CH$18:$CH$1017,$B179,'Daily Log'!$CI$18:$CI$1017),0)","v":0},{"$f":"IFERROR($E179*SUMIF('Daily Log'!$CK$18:$CK$1017,$B179,'Daily Log'!$CL$18:$CL$1017),0)","v":0},{"$f":"IFERROR($E179*SUMIF('Daily Log'!$CN$18:$CN$1017,$B179,'Daily Log'!$CO$18:$CO$1017),0)","v":0}]
[null,"11804:R-Thousand Island",null,"SAUCE",1,2,{"$f":"IFERROR($E180*SUMIF('Daily Log'!$B$18:$B$1017,$B180,'Daily Log'!$C$18:$C$1017),0)","v":0},{"$f":"IFERROR($E180*SUMIF('Daily Log'!$E$18:$E$1017,$B180,'Daily Log'!$F$18:$F$1017),0)","v":0},{"$f":"IFERROR($E180*SUMIF('Daily Log'!$H$18:$H$1017,$B180,'Daily Log'!$I$18:$I$1017),0)","v":0},{"$f":"IFERROR($E180*SUMIF('Daily Log'!$K$18:$K$1017,$B180,'Daily Log'!$L$18:$L$1017),0)","v":0},{"$f":"IFERROR($E180*SUMIF('Daily Log'!$N$18:$N$1017,$B180,'Daily Log'!$O$18:$O$1017),0)","v":0},{"$f":"IFERROR($E180*SUMIF('Daily Log'!$Q$18:$Q$1017,$B180,'Daily Log'!$R$18:$R$1017),0)","v":0},{"$f":"IFERROR($E180*SUMIF('Daily Log'!$T$18:$T$1017,$B180,'Daily Log'!$U$18:$U$1017),0)","v":0},{"$f":"IFERROR($E180*SUMIF('Daily Log'!$W$18:$W$1017,$B180,'Daily Log'!$X$18:$X$1017),0)","v":0},{"$f":"IFERROR($E180*SUMIF('Daily Log'!$Z$18:$Z$1017,$B180,'Daily Log'!$AA$18:$AA$1017),0)","v":2},{"$f":"IFERROR($E180*SUMIF('Daily Log'!$AC$18:$AC$1017,$B180,'Daily Log'!$AD$18:$AD$1017),0)","v":0},{"$f":"IFERROR($E180*SUMIF('Daily Log'!$AF$18:$AF$1017,$B180,'Daily Log'!$AG$18:$AG$1017),0)","v":0},{"$f":"IFERROR($E180*SUMIF('Daily Log'!$AI$18:$AI$1017,$B180,'Daily Log'!$AJ$18:$AJ$1017),0)","v":0},{"$f":"IFERROR($E180*SUMIF('Daily Log'!$AL$18:$AL$1017,$B180,'Daily Log'!$AM$18:$AM$1017),0)","v":0},{"$f":"IFERROR($E180*SUMIF('Daily Log'!$AO$18:$AO$1017,$B180,'Daily Log'!$AP$18:$AP$1017),0)","v":0},{"$f":"IFERROR($E180*SUMIF('Daily Log'!$AR$18:$AR$1017,$B180,'Daily Log'!$AS$18:$AS$1017),0)","v":0},{"$f":"IFERROR($E180*SUMIF('Daily Log'!$AU$18:$AU$1017,$B180,'Daily Log'!$AV$18:$AV$1017),0)","v":0},{"$f":"IFERROR($E180*SUMIF('Daily Log'!$AX$18:$AX$1017,$B180,'Daily Log'!$AY$18:$AY$1017),0)","v":0},{"$f":"IFERROR($E180*SUMIF('Daily Log'!$BA$18:$BA$1017,$B180,'Daily Log'!$BB$18:$BB$1017),0)","v":0},{"$f":"IFERROR($E180*SUMIF('Daily Log'!$BD$18:$BD$1017,$B180,'Daily Log'!$BE$18:$BE$1017),0)","v":0},{"$f":"IFERROR($E180*SUMIF('Daily Log'!$BG$18:$BG$1017,$B180,'Daily Log'!$BH$18:$BH$1017),0)","v":0},{"$f":"IFERROR($E180*SUMIF('Daily Log'!$BJ$18:$BJ$1017,$B180,'Daily Log'!$BK$18:$BK$1017),0)","v":0},{"$f":"IFERROR($E180*SUMIF('Daily Log'!$BM$18:$BM$1017,$B180,'Daily Log'!$BN$18:$BN$1017),0)","v":0},{"$f":"IFERROR($E180*SUMIF('Daily Log'!$BP$18:$BP$1017,$B180,'Daily Log'!$BQ$18:$BQ$1017),0)","v":0},{"$f":"IFERROR($E180*SUMIF('Daily Log'!$BS$18:$BS$1017,$B180,'Daily Log'!$BT$18:$BT$1017),0)","v":0},{"$f":"IFERROR($E180*SUMIF('Daily Log'!$BV$18:$BV$1017,$B180,'Daily Log'!$BW$18:$BW$1017),0)","v":0},{"$f":"IFERROR($E180*SUMIF('Daily Log'!$BY$18:$BY$1017,$B180,'Daily Log'!$BZ$18:$BZ$1017),0)","v":0},{"$f":"IFERROR($E180*SUMIF('Daily Log'!$CB$18:$CB$1017,$B180,'Daily Log'!$CC$18:$CC$1017),0)","v":0},{"$f":"IFERROR($E180*SUMIF('Daily Log'!$CE$18:$CE$1017,$B180,'Daily Log'!$CF$18:$CF$1017),0)","v":0},{"$f":"IFERROR($E180*SUMIF('Daily Log'!$CH$18:$CH$1017,$B180,'Daily Log'!$CI$18:$CI$1017),0)","v":0},{"$f":"IFERROR($E180*SUMIF('Daily Log'!$CK$18:$CK$1017,$B180,'Daily Log'!$CL$18:$CL$1017),0)","v":0},{"$f":"IFERROR($E180*SUMIF('Daily Log'!$CN$18:$CN$1017,$B180,'Daily Log'!$CO$18:$CO$1017),0)","v":0}]
[null,"11804:R-Thousand Island",null,"SAUCE",1,2,{"$f":"IFERROR($E181*SUMIF('Daily Log'!$B$18:$B$1017,$B181,'Daily Log'!$C$18:$C$1017),0)","v":0},{"$f":"IFERROR($E181*SUMIF('Daily Log'!$E$18:$E$1017,$B181,'Daily Log'!$F$18:$F$1017),0)","v":0},{"$f":"IFERROR($E181*SUMIF('Daily Log'!$H$18:$H$1017,$B181,'Daily Log'!$I$18:$I$1017),0)","v":0},{"$f":"IFERROR($E181*SUMIF('Daily Log'!$K$18:$K$1017,$B181,'Daily Log'!$L$18:$L$1017),0)","v":0},{"$f":"IFERROR($E181*SUMIF('Daily Log'!$N$18:$N$1017,$B181,'Daily Log'!$O$18:$O$1017),0)","v":0},{"$f":"IFERROR($E181*SUMIF('Daily Log'!$Q$18:$Q$1017,$B181,'Daily Log'!$R$18:$R$1017),0)","v":0},{"$f":"IFERROR($E181*SUMIF('Daily Log'!$T$18:$T$1017,$B181,'Daily Log'!$U$18:$U$1017),0)","v":0},{"$f":"IFERROR($E181*SUMIF('Daily Log'!$W$18:$W$1017,$B181,'Daily Log'!$X$18:$X$1017),0)","v":0},{"$f":"IFERROR($E181*SUMIF('Daily Log'!$Z$18:$Z$1017,$B181,'Daily Log'!$AA$18:$AA$1017),0)","v":2},{"$f":"IFERROR($E181*SUMIF('Daily Log'!$AC$18:$AC$1017,$B181,'Daily Log'!$AD$18:$AD$1017),0)","v":0},{"$f":"IFERROR($E181*SUMIF('Daily Log'!$AF$18:$AF$1017,$B181,'Daily Log'!$AG$18:$AG$1017),0)","v":0},{"$f":"IFERROR($E181*SUMIF('Daily Log'!$AI$18:$AI$1017,$B181,'Daily Log'!$AJ$18:$AJ$1017),0)","v":0},{"$f":"IFERROR($E181*SUMIF('Daily Log'!$AL$18:$AL$1017,$B181,'Daily Log'!$AM$18:$AM$1017),0)","v":0},{"$f":"IFERROR($E181*SUMIF('Daily Log'!$AO$18:$AO$1017,$B181,'Daily Log'!$AP$18:$AP$1017),0)","v":0},{"$f":"IFERROR($E181*SUMIF('Daily Log'!$AR$18:$AR$1017,$B181,'Daily Log'!$AS$18:$AS$1017),0)","v":0},{"$f":"IFERROR($E181*SUMIF('Daily Log'!$AU$18:$AU$1017,$B181,'Daily Log'!$AV$18:$AV$1017),0)","v":0},{"$f":"IFERROR($E181*SUMIF('Daily Log'!$AX$18:$AX$1017,$B181,'Daily Log'!$AY$18:$AY$1017),0)","v":0},{"$f":"IFERROR($E181*SUMIF('Daily Log'!$BA$18:$BA$1017,$B181,'Daily Log'!$BB$18:$BB$1017),0)","v":0},{"$f":"IFERROR($E181*SUMIF('Daily Log'!$BD$18:$BD$1017,$B181,'Daily Log'!$BE$18:$BE$1017),0)","v":0},{"$f":"IFERROR($E181*SUMIF('Daily Log'!$BG$18:$BG$1017,$B181,'Daily Log'!$BH$18:$BH$1017),0)","v":0},{"$f":"IFERROR($E181*SUMIF('Daily Log'!$BJ$18:$BJ$1017,$B181,'Daily Log'!$BK$18:$BK$1017),0)","v":0},{"$f":"IFERROR($E181*SUMIF('Daily Log'!$BM$18:$BM$1017,$B181,'Daily Log'!$BN$18:$BN$1017),0)","v":0},{"$f":"IFERROR($E181*SUMIF('Daily Log'!$BP$18:$BP$1017,$B181,'Daily Log'!$BQ$18:$BQ$1017),0)","v":0},{"$f":"IFERROR($E181*SUMIF('Daily Log'!$BS$18:$BS$1017,$B181,'Daily Log'!$BT$18:$BT$1017),0)","v":0},{"$f":"IFERROR($E181*SUMIF('Daily Log'!$BV$18:$BV$1017,$B181,'Daily Log'!$BW$18:$BW$1017),0)","v":0},{"$f":"IFERROR($E181*SUMIF('Daily Log'!$BY$18:$BY$1017,$B181,'Daily Log'!$BZ$18:$BZ$1017),0)","v":0},{"$f":"IFERROR($E181*SUMIF('Daily Log'!$CB$18:$CB$1017,$B181,'Daily Log'!$CC$18:$CC$1017),0)","v":0},{"$f":"IFERROR($E181*SUMIF('Daily Log'!$CE$18:$CE$1017,$B181,'Daily Log'!$CF$18:$CF$1017),0)","v":0},{"$f":"IFERROR($E181*SUMIF('Daily Log'!$CH$18:$CH$1017,$B181,'Daily Log'!$CI$18:$CI$1017),0)","v":0},{"$f":"IFERROR($E181*SUMIF('Daily Log'!$CK$18:$CK$1017,$B181,'Daily Log'!$CL$18:$CL$1017),0)","v":0},{"$f":"IFERROR($E181*SUMIF('Daily Log'!$CN$18:$CN$1017,$B181,'Daily Log'!$CO$18:$CO$1017),0)","v":0}]
[null,"11805:R-Tar Tar Sauce",null,"SAUCE",1,3,{"$f":"IFERROR($E182*SUMIF('Daily Log'!$B$18:$B$1017,$B182,'Daily Log'!$C$18:$C$1017),0)","v":0},{"$f":"IFERROR($E182*SUMIF('Daily Log'!$E$18:$E$1017,$B182,'Daily Log'!$F$18:$F$1017),0)","v":0},{"$f":"IFERROR($E182*SUMIF('Daily Log'!$H$18:$H$1017,$B182,'Daily Log'!$I$18:$I$1017),0)","v":0},{"$f":"IFERROR($E182*SUMIF('Daily Log'!$K$18:$K$1017,$B182,'Daily Log'!$L$18:$L$1017),0)","v":0},{"$f":"IFERROR($E182*SUMIF('Daily Log'!$N$18:$N$1017,$B182,'Daily Log'!$O$18:$O$1017),0)","v":0},{"$f":"IFERROR($E182*SUMIF('Daily Log'!$Q$18:$Q$1017,$B182,'Daily Log'!$R$18:$R$1017),0)","v":0},{"$f":"IFERROR($E182*SUMIF('Daily Log'!$T$18:$T$1017,$B182,'Daily Log'!$U$18:$U$1017),0)","v":1},{"$f":"IFERROR($E182*SUMIF('Daily Log'!$W$18:$W$1017,$B182,'Daily Log'!$X$18:$X$1017),0)","v":0},{"$f":"IFERROR($E182*SUMIF('Daily Log'!$Z$18:$Z$1017,$B182,'Daily Log'!$AA$18:$AA$1017),0)","v":0},{"$f":"IFERROR($E182*SUMIF('Daily Log'!$AC$18:$AC$1017,$B182,'Daily Log'!$AD$18:$AD$1017),0)","v":0},{"$f":"IFERROR($E182*SUMIF('Daily Log'!$AF$18:$AF$1017,$B182,'Daily Log'!$AG$18:$AG$1017),0)","v":0},{"$f":"IFERROR($E182*SUMIF('Daily Log'!$AI$18:$AI$1017,$B182,'Daily Log'!$AJ$18:$AJ$1017),0)","v":0},{"$f":"IFERROR($E182*SUMIF('Daily Log'!$AL$18:$AL$1017,$B182,'Daily Log'!$AM$18:$AM$1017),0)","v":2},{"$f":"IFERROR($E182*SUMIF('Daily Log'!$AO$18:$AO$1017,$B182,'Daily Log'!$AP$18:$AP$1017),0)","v":0},{"$f":"IFERROR($E182*SUMIF('Daily Log'!$AR$18:$AR$1017,$B182,'Daily Log'!$AS$18:$AS$1017),0)","v":0},{"$f":"IFERROR($E182*SUMIF('Daily Log'!$AU$18:$AU$1017,$B182,'Daily Log'!$AV$18:$AV$1017),0)","v":0},{"$f":"IFERROR($E182*SUMIF('Daily Log'!$AX$18:$AX$1017,$B182,'Daily Log'!$AY$18:$AY$1017),0)","v":0},{"$f":"IFERROR($E182*SUMIF('Daily Log'!$BA$18:$BA$1017,$B182,'Daily Log'!$BB$18:$BB$1017),0)","v":0},{"$f":"IFERROR($E182*SUMIF('Daily Log'!$BD$18:$BD$1017,$B182,'Daily Log'!$BE$18:$BE$1017),0)","v":0},{"$f":"IFERROR($E182*SUMIF('Daily Log'!$BG$18:$BG$1017,$B182,'Daily Log'!$BH$18:$BH$1017),0)","v":0},{"$f":"IFERROR($E182*SUMIF('Daily Log'!$BJ$18:$BJ$1017,$B182,'Daily Log'!$BK$18:$BK$1017),0)","v":0},{"$f":"IFERROR($E182*SUMIF('Daily Log'!$BM$18:$BM$1017,$B182,'Daily Log'!$BN$18:$BN$1017),0)","v":0},{"$f":"IFERROR($E182*SUMIF('Daily Log'!$BP$18:$BP$1017,$B182,'Daily Log'!$BQ$18:$BQ$1017),0)","v":0},{"$f":"IFERROR($E182*SUMIF('Daily Log'!$BS$18:$BS$1017,$B182,'Daily Log'!$BT$18:$BT$1017),0)","v":0},{"$f":"IFERROR($E182*SUMIF('Daily Log'!$BV$18:$BV$1017,$B182,'Daily Log'!$BW$18:$BW$1017),0)","v":0},{"$f":"IFERROR($E182*SUMIF('Daily Log'!$BY$18:$BY$1017,$B182,'Daily Log'!$BZ$18:$BZ$1017),0)","v":0},{"$f":"IFERROR($E182*SUMIF('Daily Log'!$CB$18:$CB$1017,$B182,'Daily Log'!$CC$18:$CC$1017),0)","v":0},{"$f":"IFERROR($E182*SUMIF('Daily Log'!$CE$18:$CE$1017,$B182,'Daily Log'!$CF$18:$CF$1017),0)","v":0},{"$f":"IFERROR($E182*SUMIF('Daily Log'!$CH$18:$CH$1017,$B182,'Daily Log'!$CI$18:$CI$1017),0)","v":0},{"$f":"IFERROR($E182*SUMIF('Daily Log'!$CK$18:$CK$1017,$B182,'Daily Log'!$CL$18:$CL$1017),0)","v":0},{"$f":"IFERROR($E182*SUMIF('Daily Log'!$CN$18:$CN$1017,$B182,'Daily Log'!$CO$18:$CO$1017),0)","v":0}]
[null,"11805:R-Tar Tar Sauce",null,"SAUCE",1,3,{"$f":"IFERROR($E183*SUMIF('Daily Log'!$B$18:$B$1017,$B183,'Daily Log'!$C$18:$C$1017),0)","v":0},{"$f":"IFERROR($E183*SUMIF('Daily Log'!$E$18:$E$1017,$B183,'Daily Log'!$F$18:$F$1017),0)","v":0},{"$f":"IFERROR($E183*SUMIF('Daily Log'!$H$18:$H$1017,$B183,'Daily Log'!$I$18:$I$1017),0)","v":0},{"$f":"IFERROR($E183*SUMIF('Daily Log'!$K$18:$K$1017,$B183,'Daily Log'!$L$18:$L$1017),0)","v":0},{"$f":"IFERROR($E183*SUMIF('Daily Log'!$N$18:$N$1017,$B183,'Daily Log'!$O$18:$O$1017),0)","v":0},{"$f":"IFERROR($E183*SUMIF('Daily Log'!$Q$18:$Q$1017,$B183,'Daily Log'!$R$18:$R$1017),0)","v":0},{"$f":"IFERROR($E183*SUMIF('Daily Log'!$T$18:$T$1017,$B183,'Daily Log'!$U$18:$U$1017),0)","v":1},{"$f":"IFERROR($E183*SUMIF('Daily Log'!$W$18:$W$1017,$B183,'Daily Log'!$X$18:$X$1017),0)","v":0},{"$f":"IFERROR($E183*SUMIF('Daily Log'!$Z$18:$Z$1017,$B183,'Daily Log'!$AA$18:$AA$1017),0)","v":0},{"$f":"IFERROR($E183*SUMIF('Daily Log'!$AC$18:$AC$1017,$B183,'Daily Log'!$AD$18:$AD$1017),0)","v":0},{"$f":"IFERROR($E183*SUMIF('Daily Log'!$AF$18:$AF$1017,$B183,'Daily Log'!$AG$18:$AG$1017),0)","v":0},{"$f":"IFERROR($E183*SUMIF('Daily Log'!$AI$18:$AI$1017,$B183,'Daily Log'!$AJ$18:$AJ$1017),0)","v":0},{"$f":"IFERROR($E183*SUMIF('Daily Log'!$AL$18:$AL$1017,$B183,'Daily Log'!$AM$18:$AM$1017),0)","v":2},{"$f":"IFERROR($E183*SUMIF('Daily Log'!$AO$18:$AO$1017,$B183,'Daily Log'!$AP$18:$AP$1017),0)","v":0},{"$f":"IFERROR($E183*SUMIF('Daily Log'!$AR$18:$AR$1017,$B183,'Daily Log'!$AS$18:$AS$1017),0)","v":0},{"$f":"IFERROR($E183*SUMIF('Daily Log'!$AU$18:$AU$1017,$B183,'Daily Log'!$AV$18:$AV$1017),0)","v":0},{"$f":"IFERROR($E183*SUMIF('Daily Log'!$AX$18:$AX$1017,$B183,'Daily Log'!$AY$18:$AY$1017),0)","v":0},{"$f":"IFERROR($E183*SUMIF('Daily Log'!$BA$18:$BA$1017,$B183,'Daily Log'!$BB$18:$BB$1017),0)","v":0},{"$f":"IFERROR($E183*SUMIF('Daily Log'!$BD$18:$BD$1017,$B183,'Daily Log'!$BE$18:$BE$1017),0)","v":0},{"$f":"IFERROR($E183*SUMIF('Daily Log'!$BG$18:$BG$1017,$B183,'Daily Log'!$BH$18:$BH$1017),0)","v":0},{"$f":"IFERROR($E183*SUMIF('Daily Log'!$BJ$18:$BJ$1017,$B183,'Daily Log'!$BK$18:$BK$1017),0)","v":0},{"$f":"IFERROR($E183*SUMIF('Daily Log'!$BM$18:$BM$1017,$B183,'Daily Log'!$BN$18:$BN$1017),0)","v":0},{"$f":"IFERROR($E183*SUMIF('Daily Log'!$BP$18:$BP$1017,$B183,'Daily Log'!$BQ$18:$BQ$1017),0)","v":0},{"$f":"IFERROR($E183*SUMIF('Daily Log'!$BS$18:$BS$1017,$B183,'Daily Log'!$BT$18:$BT$1017),0)","v":0},{"$f":"IFERROR($E183*SUMIF('Daily Log'!$BV$18:$BV$1017,$B183,'Daily Log'!$BW$18:$BW$1017),0)","v":0},{"$f":"IFERROR($E183*SUMIF('Daily Log'!$BY$18:$BY$1017,$B183,'Daily Log'!$BZ$18:$BZ$1017),0)","v":0},{"$f":"IFERROR($E183*SUMIF('Daily Log'!$CB$18:$CB$1017,$B183,'Daily Log'!$CC$18:$CC$1017),0)","v":0},{"$f":"IFERROR($E183*SUMIF('Daily Log'!$CE$18:$CE$1017,$B183,'Daily Log'!$CF$18:$CF$1017),0)","v":0},{"$f":"IFERROR($E183*SUMIF('Daily Log'!$CH$18:$CH$1017,$B183,'Daily Log'!$CI$18:$CI$1017),0)","v":0},{"$f":"IFERROR($E183*SUMIF('Daily Log'!$CK$18:$CK$1017,$B183,'Daily Log'!$CL$18:$CL$1017),0)","v":0},{"$f":"IFERROR($E183*SUMIF('Daily Log'!$CN$18:$CN$1017,$B183,'Daily Log'!$CO$18:$CO$1017),0)","v":0}]
[null,"11806:R-Mayonaisse",null,"SAUCE",1,23,{"$f":"IFERROR($E184*SUMIF('Daily Log'!$B$18:$B$1017,$B184,'Daily Log'!$C$18:$C$1017),0)","v":0},{"$f":"IFERROR($E184*SUMIF('Daily Log'!$E$18:$E$1017,$B184,'Daily Log'!$F$18:$F$1017),0)","v":0},{"$f":"IFERROR($E184*SUMIF('Daily Log'!$H$18:$H$1017,$B184,'Daily Log'!$I$18:$I$1017),0)","v":0},{"$f":"IFERROR($E184*SUMIF('Daily Log'!$K$18:$K$1017,$B184,'Daily Log'!$L$18:$L$1017),0)","v":0},{"$f":"IFERROR($E184*SUMIF('Daily Log'!$N$18:$N$1017,$B184,'Daily Log'!$O$18:$O$1017),0)","v":0},{"$f":"IFERROR($E184*SUMIF('Daily Log'!$Q$18:$Q$1017,$B184,'Daily Log'!$R$18:$R$1017),0)","v":0},{"$f":"IFERROR($E184*SUMIF('Daily Log'!$T$18:$T$1017,$B184,'Daily Log'!$U$18:$U$1017),0)","v":5},{"$f":"IFERROR($E184*SUMIF('Daily Log'!$W$18:$W$1017,$B184,'Daily Log'!$X$18:$X$1017),0)","v":6},{"$f":"IFERROR($E184*SUMIF('Daily Log'!$Z$18:$Z$1017,$B184,'Daily Log'!$AA$18:$AA$1017),0)","v":6},{"$f":"IFERROR($E184*SUMIF('Daily Log'!$AC$18:$AC$1017,$B184,'Daily Log'!$AD$18:$AD$1017),0)","v":2},{"$f":"IFERROR($E184*SUMIF('Daily Log'!$AF$18:$AF$1017,$B184,'Daily Log'!$AG$18:$AG$1017),0)","v":2},{"$f":"IFERROR($E184*SUMIF('Daily Log'!$AI$18:$AI$1017,$B184,'Daily Log'!$AJ$18:$AJ$1017),0)","v":0},{"$f":"IFERROR($E184*SUMIF('Daily Log'!$AL$18:$AL$1017,$B184,'Daily Log'!$AM$18:$AM$1017),0)","v":2},{"$f":"IFERROR($E184*SUMIF('Daily Log'!$AO$18:$AO$1017,$B184,'Daily Log'!$AP$18:$AP$1017),0)","v":0},{"$f":"IFERROR($E184*SUMIF('Daily Log'!$AR$18:$AR$1017,$B184,'Daily Log'!$AS$18:$AS$1017),0)","v":0},{"$f":"IFERROR($E184*SUMIF('Daily Log'!$AU$18:$AU$1017,$B184,'Daily Log'!$AV$18:$AV$1017),0)","v":0},{"$f":"IFERROR($E184*SUMIF('Daily Log'!$AX$18:$AX$1017,$B184,'Daily Log'!$AY$18:$AY$1017),0)","v":0},{"$f":"IFERROR($E184*SUMIF('Daily Log'!$BA$18:$BA$1017,$B184,'Daily Log'!$BB$18:$BB$1017),0)","v":0},{"$f":"IFERROR($E184*SUMIF('Daily Log'!$BD$18:$BD$1017,$B184,'Daily Log'!$BE$18:$BE$1017),0)","v":0},{"$f":"IFERROR($E184*SUMIF('Daily Log'!$BG$18:$BG$1017,$B184,'Daily Log'!$BH$18:$BH$1017),0)","v":0},{"$f":"IFERROR($E184*SUMIF('Daily Log'!$BJ$18:$BJ$1017,$B184,'Daily Log'!$BK$18:$BK$1017),0)","v":0},{"$f":"IFERROR($E184*SUMIF('Daily Log'!$BM$18:$BM$1017,$B184,'Daily Log'!$BN$18:$BN$1017),0)","v":0},{"$f":"IFERROR($E184*SUMIF('Daily Log'!$BP$18:$BP$1017,$B184,'Daily Log'!$BQ$18:$BQ$1017),0)","v":0},{"$f":"IFERROR($E184*SUMIF('Daily Log'!$BS$18:$BS$1017,$B184,'Daily Log'!$BT$18:$BT$1017),0)","v":0},{"$f":"IFERROR($E184*SUMIF('Daily Log'!$BV$18:$BV$1017,$B184,'Daily Log'!$BW$18:$BW$1017),0)","v":0},{"$f":"IFERROR($E184*SUMIF('Daily Log'!$BY$18:$BY$1017,$B184,'Daily Log'!$BZ$18:$BZ$1017),0)","v":0},{"$f":"IFERROR($E184*SUMIF('Daily Log'!$CB$18:$CB$1017,$B184,'Daily Log'!$CC$18:$CC$1017),0)","v":0},{"$f":"IFERROR($E184*SUMIF('Daily Log'!$CE$18:$CE$1017,$B184,'Daily Log'!$CF$18:$CF$1017),0)","v":0},{"$f":"IFERROR($E184*SUMIF('Daily Log'!$CH$18:$CH$1017,$B184,'Daily Log'!$CI$18:$CI$1017),0)","v":0},{"$f":"IFERROR($E184*SUMIF('Daily Log'!$CK$18:$CK$1017,$B184,'Daily Log'!$CL$18:$CL$1017),0)","v":0},{"$f":"IFERROR($E184*SUMIF('Daily Log'!$CN$18:$CN$1017,$B184,'Daily Log'!$CO$18:$CO$1017),0)","v":0}]
[null,"11806:R-Mayonaisse",null,"SAUCE",1,23,{"$f":"IFERROR($E185*SUMIF('Daily Log'!$B$18:$B$1017,$B185,'Daily Log'!$C$18:$C$1017),0)","v":0},{"$f":"IFERROR($E185*SUMIF('Daily Log'!$E$18:$E$1017,$B185,'Daily Log'!$F$18:$F$1017),0)","v":0},{"$f":"IFERROR($E185*SUMIF('Daily Log'!$H$18:$H$1017,$B185,'Daily Log'!$I$18:$I$1017),0)","v":0},{"$f":"IFERROR($E185*SUMIF('Daily Log'!$K$18:$K$1017,$B185,'Daily Log'!$L$18:$L$1017),0)","v":0},{"$f":"IFERROR($E185*SUMIF('Daily Log'!$N$18:$N$1017,$B185,'Daily Log'!$O$18:$O$1017),0)","v":0},{"$f":"IFERROR($E185*SUMIF('Daily Log'!$Q$18:$Q$1017,$B185,'Daily Log'!$R$18:$R$1017),0)","v":0},{"$f":"IFERROR($E185*SUMIF('Daily Log'!$T$18:$T$1017,$B185,'Daily Log'!$U$18:$U$1017),0)","v":5},{"$f":"IFERROR($E185*SUMIF('Daily Log'!$W$18:$W$1017,$B185,'Daily Log'!$X$18:$X$1017),0)","v":6},{"$f":"IFERROR($E185*SUMIF('Daily Log'!$Z$18:$Z$1017,$B185,'Daily Log'!$AA$18:$AA$1017),0)","v":6},{"$f":"IFERROR($E185*SUMIF('Daily Log'!$AC$18:$AC$1017,$B185,'Daily Log'!$AD$18:$AD$1017),0)","v":2},{"$f":"IFERROR($E185*SUMIF('Daily Log'!$AF$18:$AF$1017,$B185,'Daily Log'!$AG$18:$AG$1017),0)","v":2},{"$f":"IFERROR($E185*SUMIF('Daily Log'!$AI$18:$AI$1017,$B185,'Daily Log'!$AJ$18:$AJ$1017),0)","v":0},{"$f":"IFERROR($E185*SUMIF('Daily Log'!$AL$18:$AL$1017,$B185,'Daily Log'!$AM$18:$AM$1017),0)","v":2},{"$f":"IFERROR($E185*SUMIF('Daily Log'!$AO$18:$AO$1017,$B185,'Daily Log'!$AP$18:$AP$1017),0)","v":0},{"$f":"IFERROR($E185*SUMIF('Daily Log'!$AR$18:$AR$1017,$B185,'Daily Log'!$AS$18:$AS$1017),0)","v":0},{"$f":"IFERROR($E185*SUMIF('Daily Log'!$AU$18:$AU$1017,$B185,'Daily Log'!$AV$18:$AV$1017),0)","v":0},{"$f":"IFERROR($E185*SUMIF('Daily Log'!$AX$18:$AX$1017,$B185,'Daily Log'!$AY$18:$AY$1017),0)","v":0},{"$f":"IFERROR($E185*SUMIF('Daily Log'!$BA$18:$BA$1017,$B185,'Daily Log'!$BB$18:$BB$1017),0)","v":0},{"$f":"IFERROR($E185*SUMIF('Daily Log'!$BD$18:$BD$1017,$B185,'Daily Log'!$BE$18:$BE$1017),0)","v":0},{"$f":"IFERROR($E185*SUMIF('Daily Log'!$BG$18:$BG$1017,$B185,'Daily Log'!$BH$18:$BH$1017),0)","v":0},{"$f":"IFERROR($E185*SUMIF('Daily Log'!$BJ$18:$BJ$1017,$B185,'Daily Log'!$BK$18:$BK$1017),0)","v":0},{"$f":"IFERROR($E185*SUMIF('Daily Log'!$BM$18:$BM$1017,$B185,'Daily Log'!$BN$18:$BN$1017),0)","v":0},{"$f":"IFERROR($E185*SUMIF('Daily Log'!$BP$18:$BP$1017,$B185,'Daily Log'!$BQ$18:$BQ$1017),0)","v":0},{"$f":"IFERROR($E185*SUMIF('Daily Log'!$BS$18:$BS$1017,$B185,'Daily Log'!$BT$18:$BT$1017),0)","v":0},{"$f":"IFERROR($E185*SUMIF('Daily Log'!$BV$18:$BV$1017,$B185,'Daily Log'!$BW$18:$BW$1017),0)","v":0},{"$f":"IFERROR($E185*SUMIF('Daily Log'!$BY$18:$BY$1017,$B185,'Daily Log'!$BZ$18:$BZ$1017),0)","v":0},{"$f":"IFERROR($E185*SUMIF('Daily Log'!$CB$18:$CB$1017,$B185,'Daily Log'!$CC$18:$CC$1017),0)","v":0},{"$f":"IFERROR($E185*SUMIF('Daily Log'!$CE$18:$CE$1017,$B185,'Daily Log'!$CF$18:$CF$1017),0)","v":0},{"$f":"IFERROR($E185*SUMIF('Daily Log'!$CH$18:$CH$1017,$B185,'Daily Log'!$CI$18:$CI$1017),0)","v":0},{"$f":"IFERROR($E185*SUMIF('Daily Log'!$CK$18:$CK$1017,$B185,'Daily Log'!$CL$18:$CL$1017),0)","v":0},{"$f":"IFERROR($E185*SUMIF('Daily Log'!$CN$18:$CN$1017,$B185,'Daily Log'!$CO$18:$CO$1017),0)","v":0}]
[null,"11807:R-Thai Style Sauce",null,"SAUCE",1,0,{"$f":"IFERROR($E186*SUMIF('Daily Log'!$B$18:$B$1017,$B186,'Daily Log'!$C$18:$C$1017),0)","v":0},{"$f":"IFERROR($E186*SUMIF('Daily Log'!$E$18:$E$1017,$B186,'Daily Log'!$F$18:$F$1017),0)","v":0},{"$f":"IFERROR($E186*SUMIF('Daily Log'!$H$18:$H$1017,$B186,'Daily Log'!$I$18:$I$1017),0)","v":0},{"$f":"IFERROR($E186*SUMIF('Daily Log'!$K$18:$K$1017,$B186,'Daily Log'!$L$18:$L$1017),0)","v":0},{"$f":"IFERROR($E186*SUMIF('Daily Log'!$N$18:$N$1017,$B186,'Daily Log'!$O$18:$O$1017),0)","v":0},{"$f":"IFERROR($E186*SUMIF('Daily Log'!$Q$18:$Q$1017,$B186,'Daily Log'!$R$18:$R$1017),0)","v":0},{"$f":"IFERROR($E186*SUMIF('Daily Log'!$T$18:$T$1017,$B186,'Daily Log'!$U$18:$U$1017),0)","v":0},{"$f":"IFERROR($E186*SUMIF('Daily Log'!$W$18:$W$1017,$B186,'Daily Log'!$X$18:$X$1017),0)","v":0},{"$f":"IFERROR($E186*SUMIF('Daily Log'!$Z$18:$Z$1017,$B186,'Daily Log'!$AA$18:$AA$1017),0)","v":0},{"$f":"IFERROR($E186*SUMIF('Daily Log'!$AC$18:$AC$1017,$B186,'Daily Log'!$AD$18:$AD$1017),0)","v":0},{"$f":"IFERROR($E186*SUMIF('Daily Log'!$AF$18:$AF$1017,$B186,'Daily Log'!$AG$18:$AG$1017),0)","v":0},{"$f":"IFERROR($E186*SUMIF('Daily Log'!$AI$18:$AI$1017,$B186,'Daily Log'!$AJ$18:$AJ$1017),0)","v":0},{"$f":"IFERROR($E186*SUMIF('Daily Log'!$AL$18:$AL$1017,$B186,'Daily Log'!$AM$18:$AM$1017),0)","v":0},{"$f":"IFERROR($E186*SUMIF('Daily Log'!$AO$18:$AO$1017,$B186,'Daily Log'!$AP$18:$AP$1017),0)","v":0},{"$f":"IFERROR($E186*SUMIF('Daily Log'!$AR$18:$AR$1017,$B186,'Daily Log'!$AS$18:$AS$1017),0)","v":0},{"$f":"IFERROR($E186*SUMIF('Daily Log'!$AU$18:$AU$1017,$B186,'Daily Log'!$AV$18:$AV$1017),0)","v":0},{"$f":"IFERROR($E186*SUMIF('Daily Log'!$AX$18:$AX$1017,$B186,'Daily Log'!$AY$18:$AY$1017),0)","v":0},{"$f":"IFERROR($E186*SUMIF('Daily Log'!$BA$18:$BA$1017,$B186,'Daily Log'!$BB$18:$BB$1017),0)","v":0},{"$f":"IFERROR($E186*SUMIF('Daily Log'!$BD$18:$BD$1017,$B186,'Daily Log'!$BE$18:$BE$1017),0)","v":0},{"$f":"IFERROR($E186*SUMIF('Daily Log'!$BG$18:$BG$1017,$B186,'Daily Log'!$BH$18:$BH$1017),0)","v":0},{"$f":"IFERROR($E186*SUMIF('Daily Log'!$BJ$18:$BJ$1017,$B186,'Daily Log'!$BK$18:$BK$1017),0)","v":0},{"$f":"IFERROR($E186*SUMIF('Daily Log'!$BM$18:$BM$1017,$B186,'Daily Log'!$BN$18:$BN$1017),0)","v":0},{"$f":"IFERROR($E186*SUMIF('Daily Log'!$BP$18:$BP$1017,$B186,'Daily Log'!$BQ$18:$BQ$1017),0)","v":0},{"$f":"IFERROR($E186*SUMIF('Daily Log'!$BS$18:$BS$1017,$B186,'Daily Log'!$BT$18:$BT$1017),0)","v":0},{"$f":"IFERROR($E186*SUMIF('Daily Log'!$BV$18:$BV$1017,$B186,'Daily Log'!$BW$18:$BW$1017),0)","v":0},{"$f":"IFERROR($E186*SUMIF('Daily Log'!$BY$18:$BY$1017,$B186,'Daily Log'!$BZ$18:$BZ$1017),0)","v":0},{"$f":"IFERROR($E186*SUMIF('Daily Log'!$CB$18:$CB$1017,$B186,'Daily Log'!$CC$18:$CC$1017),0)","v":0},{"$f":"IFERROR($E186*SUMIF('Daily Log'!$CE$18:$CE$1017,$B186,'Daily Log'!$CF$18:$CF$1017),0)","v":0},{"$f":"IFERROR($E186*SUMIF('Daily Log'!$CH$18:$CH$1017,$B186,'Daily Log'!$CI$18:$CI$1017),0)","v":0},{"$f":"IFERROR($E186*SUMIF('Daily Log'!$CK$18:$CK$1017,$B186,'Daily Log'!$CL$18:$CL$1017),0)","v":0},{"$f":"IFERROR($E186*SUMIF('Daily Log'!$CN$18:$CN$1017,$B186,'Daily Log'!$CO$18:$CO$1017),0)","v":0}]
[null,"11808:R-Marmite Sauce",null,"SAUCE",1,1,{"$f":"IFERROR($E187*SUMIF('Daily Log'!$B$18:$B$1017,$B187,'Daily Log'!$C$18:$C$1017),0)","v":0},{"$f":"IFERROR($E187*SUMIF('Daily Log'!$E$18:$E$1017,$B187,'Daily Log'!$F$18:$F$1017),0)","v":0},{"$f":"IFERROR($E187*SUMIF('Daily Log'!$H$18:$H$1017,$B187,'Daily Log'!$I$18:$I$1017),0)","v":0},{"$f":"IFERROR($E187*SUMIF('Daily Log'!$K$18:$K$1017,$B187,'Daily Log'!$L$18:$L$1017),0)","v":0},{"$f":"IFERROR($E187*SUMIF('Daily Log'!$N$18:$N$1017,$B187,'Daily Log'!$O$18:$O$1017),0)","v":0},{"$f":"IFERROR($E187*SUMIF('Daily Log'!$Q$18:$Q$1017,$B187,'Daily Log'!$R$18:$R$1017),0)","v":0},{"$f":"IFERROR($E187*SUMIF('Daily Log'!$T$18:$T$1017,$B187,'Daily Log'!$U$18:$U$1017),0)","v":0},{"$f":"IFERROR($E187*SUMIF('Daily Log'!$W$18:$W$1017,$B187,'Daily Log'!$X$18:$X$1017),0)","v":0},{"$f":"IFERROR($E187*SUMIF('Daily Log'!$Z$18:$Z$1017,$B187,'Daily Log'!$AA$18:$AA$1017),0)","v":0},{"$f":"IFERROR($E187*SUMIF('Daily Log'!$AC$18:$AC$1017,$B187,'Daily Log'!$AD$18:$AD$1017),0)","v":0},{"$f":"IFERROR($E187*SUMIF('Daily Log'!$AF$18:$AF$1017,$B187,'Daily Log'!$AG$18:$AG$1017),0)","v":0},{"$f":"IFERROR($E187*SUMIF('Daily Log'!$AI$18:$AI$1017,$B187,'Daily Log'!$AJ$18:$AJ$1017),0)","v":1},{"$f":"IFERROR($E187*SUMIF('Daily Log'!$AL$18:$AL$1017,$B187,'Daily Log'!$AM$18:$AM$1017),0)","v":0},{"$f":"IFERROR($E187*SUMIF('Daily Log'!$AO$18:$AO$1017,$B187,'Daily Log'!$AP$18:$AP$1017),0)","v":0},{"$f":"IFERROR($E187*SUMIF('Daily Log'!$AR$18:$AR$1017,$B187,'Daily Log'!$AS$18:$AS$1017),0)","v":0},{"$f":"IFERROR($E187*SUMIF('Daily Log'!$AU$18:$AU$1017,$B187,'Daily Log'!$AV$18:$AV$1017),0)","v":0},{"$f":"IFERROR($E187*SUMIF('Daily Log'!$AX$18:$AX$1017,$B187,'Daily Log'!$AY$18:$AY$1017),0)","v":0},{"$f":"IFERROR($E187*SUMIF('Daily Log'!$BA$18:$BA$1017,$B187,'Daily Log'!$BB$18:$BB$1017),0)","v":0},{"$f":"IFERROR($E187*SUMIF('Daily Log'!$BD$18:$BD$1017,$B187,'Daily Log'!$BE$18:$BE$1017),0)","v":0},{"$f":"IFERROR($E187*SUMIF('Daily Log'!$BG$18:$BG$1017,$B187,'Daily Log'!$BH$18:$BH$1017),0)","v":0},{"$f":"IFERROR($E187*SUMIF('Daily Log'!$BJ$18:$BJ$1017,$B187,'Daily Log'!$BK$18:$BK$1017),0)","v":0},{"$f":"IFERROR($E187*SUMIF('Daily Log'!$BM$18:$BM$1017,$B187,'Daily Log'!$BN$18:$BN$1017),0)","v":0},{"$f":"IFERROR($E187*SUMIF('Daily Log'!$BP$18:$BP$1017,$B187,'Daily Log'!$BQ$18:$BQ$1017),0)","v":0},{"$f":"IFERROR($E187*SUMIF('Daily Log'!$BS$18:$BS$1017,$B187,'Daily Log'!$BT$18:$BT$1017),0)","v":0},{"$f":"IFERROR($E187*SUMIF('Daily Log'!$BV$18:$BV$1017,$B187,'Daily Log'!$BW$18:$BW$1017),0)","v":0},{"$f":"IFERROR($E187*SUMIF('Daily Log'!$BY$18:$BY$1017,$B187,'Daily Log'!$BZ$18:$BZ$1017),0)","v":0},{"$f":"IFERROR($E187*SUMIF('Daily Log'!$CB$18:$CB$1017,$B187,'Daily Log'!$CC$18:$CC$1017),0)","v":0},{"$f":"IFERROR($E187*SUMIF('Daily Log'!$CE$18:$CE$1017,$B187,'Daily Log'!$CF$18:$CF$1017),0)","v":0},{"$f":"IFERROR($E187*SUMIF('Daily Log'!$CH$18:$CH$1017,$B187,'Daily Log'!$CI$18:$CI$1017),0)","v":0},{"$f":"IFERROR($E187*SUMIF('Daily Log'!$CK$18:$CK$1017,$B187,'Daily Log'!$CL$18:$CL$1017),0)","v":0},{"$f":"IFERROR($E187*SUMIF('Daily Log'!$CN$18:$CN$1017,$B187,'Daily Log'!$CO$18:$CO$1017),0)","v":0}]
[null,"11808:R-Marmite Sauce",null,"SAUCE",1,1,{"$f":"IFERROR($E188*SUMIF('Daily Log'!$B$18:$B$1017,$B188,'Daily Log'!$C$18:$C$1017),0)","v":0},{"$f":"IFERROR($E188*SUMIF('Daily Log'!$E$18:$E$1017,$B188,'Daily Log'!$F$18:$F$1017),0)","v":0},{"$f":"IFERROR($E188*SUMIF('Daily Log'!$H$18:$H$1017,$B188,'Daily Log'!$I$18:$I$1017),0)","v":0},{"$f":"IFERROR($E188*SUMIF('Daily Log'!$K$18:$K$1017,$B188,'Daily Log'!$L$18:$L$1017),0)","v":0},{"$f":"IFERROR($E188*SUMIF('Daily Log'!$N$18:$N$1017,$B188,'Daily Log'!$O$18:$O$1017),0)","v":0},{"$f":"IFERROR($E188*SUMIF('Daily Log'!$Q$18:$Q$1017,$B188,'Daily Log'!$R$18:$R$1017),0)","v":0},{"$f":"IFERROR($E188*SUMIF('Daily Log'!$T$18:$T$1017,$B188,'Daily Log'!$U$18:$U$1017),0)","v":0},{"$f":"IFERROR($E188*SUMIF('Daily Log'!$W$18:$W$1017,$B188,'Daily Log'!$X$18:$X$1017),0)","v":0},{"$f":"IFERROR($E188*SUMIF('Daily Log'!$Z$18:$Z$1017,$B188,'Daily Log'!$AA$18:$AA$1017),0)","v":0},{"$f":"IFERROR($E188*SUMIF('Daily Log'!$AC$18:$AC$1017,$B188,'Daily Log'!$AD$18:$AD$1017),0)","v":0},{"$f":"IFERROR($E188*SUMIF('Daily Log'!$AF$18:$AF$1017,$B188,'Daily Log'!$AG$18:$AG$1017),0)","v":0},{"$f":"IFERROR($E188*SUMIF('Daily Log'!$AI$18:$AI$1017,$B188,'Daily Log'!$AJ$18:$AJ$1017),0)","v":1},{"$f":"IFERROR($E188*SUMIF('Daily Log'!$AL$18:$AL$1017,$B188,'Daily Log'!$AM$18:$AM$1017),0)","v":0},{"$f":"IFERROR($E188*SUMIF('Daily Log'!$AO$18:$AO$1017,$B188,'Daily Log'!$AP$18:$AP$1017),0)","v":0},{"$f":"IFERROR($E188*SUMIF('Daily Log'!$AR$18:$AR$1017,$B188,'Daily Log'!$AS$18:$AS$1017),0)","v":0},{"$f":"IFERROR($E188*SUMIF('Daily Log'!$AU$18:$AU$1017,$B188,'Daily Log'!$AV$18:$AV$1017),0)","v":0},{"$f":"IFERROR($E188*SUMIF('Daily Log'!$AX$18:$AX$1017,$B188,'Daily Log'!$AY$18:$AY$1017),0)","v":0},{"$f":"IFERROR($E188*SUMIF('Daily Log'!$BA$18:$BA$1017,$B188,'Daily Log'!$BB$18:$BB$1017),0)","v":0},{"$f":"IFERROR($E188*SUMIF('Daily Log'!$BD$18:$BD$1017,$B188,'Daily Log'!$BE$18:$BE$1017),0)","v":0},{"$f":"IFERROR($E188*SUMIF('Daily Log'!$BG$18:$BG$1017,$B188,'Daily Log'!$BH$18:$BH$1017),0)","v":0},{"$f":"IFERROR($E188*SUMIF('Daily Log'!$BJ$18:$BJ$1017,$B188,'Daily Log'!$BK$18:$BK$1017),0)","v":0},{"$f":"IFERROR($E188*SUMIF('Daily Log'!$BM$18:$BM$1017,$B188,'Daily Log'!$BN$18:$BN$1017),0)","v":0},{"$f":"IFERROR($E188*SUMIF('Daily Log'!$BP$18:$BP$1017,$B188,'Daily Log'!$BQ$18:$BQ$1017),0)","v":0},{"$f":"IFERROR($E188*SUMIF('Daily Log'!$BS$18:$BS$1017,$B188,'Daily Log'!$BT$18:$BT$1017),0)","v":0},{"$f":"IFERROR($E188*SUMIF('Daily Log'!$BV$18:$BV$1017,$B188,'Daily Log'!$BW$18:$BW$1017),0)","v":0},{"$f":"IFERROR($E188*SUMIF('Daily Log'!$BY$18:$BY$1017,$B188,'Daily Log'!$BZ$18:$BZ$1017),0)","v":0},{"$f":"IFERROR($E188*SUMIF('Daily Log'!$CB$18:$CB$1017,$B188,'Daily Log'!$CC$18:$CC$1017),0)","v":0},{"$f":"IFERROR($E188*SUMIF('Daily Log'!$CE$18:$CE$1017,$B188,'Daily Log'!$CF$18:$CF$1017),0)","v":0},{"$f":"IFERROR($E188*SUMIF('Daily Log'!$CH$18:$CH$1017,$B188,'Daily Log'!$CI$18:$CI$1017),0)","v":0},{"$f":"IFERROR($E188*SUMIF('Daily Log'!$CK$18:$CK$1017,$B188,'Daily Log'!$CL$18:$CL$1017),0)","v":0},{"$f":"IFERROR($E188*SUMIF('Daily Log'!$CN$18:$CN$1017,$B188,'Daily Log'!$CO$18:$CO$1017),0)","v":0}]
[null,"11808:R-Marmite Sauce",null,"SAUCE",1,null,{"$f":"IFERROR($E189*SUMIF('Daily Log'!$B$18:$B$1017,$B189,'Daily Log'!$C$18:$C$1017),0)","v":0},{"$f":"IFERROR($E189*SUMIF('Daily Log'!$E$18:$E$1017,$B189,'Daily Log'!$F$18:$F$1017),0)","v":0},{"$f":"IFERROR($E189*SUMIF('Daily Log'!$H$18:$H$1017,$B189,'Daily Log'!$I$18:$I$1017),0)","v":0},{"$f":"IFERROR($E189*SUMIF('Daily Log'!$K$18:$K$1017,$B189,'Daily Log'!$L$18:$L$1017),0)","v":0},{"$f":"IFERROR($E189*SUMIF('Daily Log'!$N$18:$N$1017,$B189,'Daily Log'!$O$18:$O$1017),0)","v":0},{"$f":"IFERROR($E189*SUMIF('Daily Log'!$Q$18:$Q$1017,$B189,'Daily Log'!$R$18:$R$1017),0)","v":0},{"$f":"IFERROR($E189*SUMIF('Daily Log'!$T$18:$T$1017,$B189,'Daily Log'!$U$18:$U$1017),0)","v":0},{"$f":"IFERROR($E189*SUMIF('Daily Log'!$W$18:$W$1017,$B189,'Daily Log'!$X$18:$X$1017),0)","v":0},{"$f":"IFERROR($E189*SUMIF('Daily Log'!$Z$18:$Z$1017,$B189,'Daily Log'!$AA$18:$AA$1017),0)","v":0},{"$f":"IFERROR($E189*SUMIF('Daily Log'!$AC$18:$AC$1017,$B189,'Daily Log'!$AD$18:$AD$1017),0)","v":0},{"$f":"IFERROR($E189*SUMIF('Daily Log'!$AF$18:$AF$1017,$B189,'Daily Log'!$AG$18:$AG$1017),0)","v":0},{"$f":"IFERROR($E189*SUMIF('Daily Log'!$AI$18:$AI$1017,$B189,'Daily Log'!$AJ$18:$AJ$1017),0)","v":1},{"$f":"IFERROR($E189*SUMIF('Daily Log'!$AL$18:$AL$1017,$B189,'Daily Log'!$AM$18:$AM$1017),0)","v":0},{"$f":"IFERROR($E189*SUMIF('Daily Log'!$AO$18:$AO$1017,$B189,'Daily Log'!$AP$18:$AP$1017),0)","v":0},{"$f":"IFERROR($E189*SUMIF('Daily Log'!$AR$18:$AR$1017,$B189,'Daily Log'!$AS$18:$AS$1017),0)","v":0},{"$f":"IFERROR($E189*SUMIF('Daily Log'!$AU$18:$AU$1017,$B189,'Daily Log'!$AV$18:$AV$1017),0)","v":0},{"$f":"IFERROR($E189*SUMIF('Daily Log'!$AX$18:$AX$1017,$B189,'Daily Log'!$AY$18:$AY$1017),0)","v":0},{"$f":"IFERROR($E189*SUMIF('Daily Log'!$BA$18:$BA$1017,$B189,'Daily Log'!$BB$18:$BB$1017),0)","v":0},{"$f":"IFERROR($E189*SUMIF('Daily Log'!$BD$18:$BD$1017,$B189,'Daily Log'!$BE$18:$BE$1017),0)","v":0},{"$f":"IFERROR($E189*SUMIF('Daily Log'!$BG$18:$BG$1017,$B189,'Daily Log'!$BH$18:$BH$1017),0)","v":0},{"$f":"IFERROR($E189*SUMIF('Daily Log'!$BJ$18:$BJ$1017,$B189,'Daily Log'!$BK$18:$BK$1017),0)","v":0},{"$f":"IFERROR($E189*SUMIF('Daily Log'!$BM$18:$BM$1017,$B189,'Daily Log'!$BN$18:$BN$1017),0)","v":0},{"$f":"IFERROR($E189*SUMIF('Daily Log'!$BP$18:$BP$1017,$B189,'Daily Log'!$BQ$18:$BQ$1017),0)","v":0},{"$f":"IFERROR($E189*SUMIF('Daily Log'!$BS$18:$BS$1017,$B189,'Daily Log'!$BT$18:$BT$1017),0)","v":0},{"$f":"IFERROR($E189*SUMIF('Daily Log'!$BV$18:$BV$1017,$B189,'Daily Log'!$BW$18:$BW$1017),0)","v":0},{"$f":"IFERROR($E189*SUMIF('Daily Log'!$BY$18:$BY$1017,$B189,'Daily Log'!$BZ$18:$BZ$1017),0)","v":0},{"$f":"IFERROR($E189*SUMIF('Daily Log'!$CB$18:$CB$1017,$B189,'Daily Log'!$CC$18:$CC$1017),0)","v":0},{"$f":"IFERROR($E189*SUMIF('Daily Log'!$CE$18:$CE$1017,$B189,'Daily Log'!$CF$18:$CF$1017),0)","v":0},{"$f":"IFERROR($E189*SUMIF('Daily Log'!$CH$18:$CH$1017,$B189,'Daily Log'!$CI$18:$CI$1017),0)","v":0},{"$f":"IFERROR($E189*SUMIF('Daily Log'!$CK$18:$CK$1017,$B189,'Daily Log'!$CL$18:$CL$1017),0)","v":0},{"$f":"IFERROR($E189*SUMIF('Daily Log'!$CN$18:$CN$1017,$B189,'Daily Log'!$CO$18:$CO$1017),0)","v":0}]
[null,"11809:R-Tomato Sauce",null,"SAUCE",1,{"$f":"SUM($G190:$AK190)","v":0},{"$f":"IFERROR($E190*SUMIF('Daily Log'!$B$18:$B$1017,$B190,'Daily Log'!$C$18:$C$1017),0)","v":0},{"$f":"IFERROR($E190*SUMIF('Daily Log'!$E$18:$E$1017,$B190,'Daily Log'!$F$18:$F$1017),0)","v":0},{"$f":"IFERROR($E190*SUMIF('Daily Log'!$H$18:$H$1017,$B190,'Daily Log'!$I$18:$I$1017),0)","v":0},{"$f":"IFERROR($E190*SUMIF('Daily Log'!$K$18:$K$1017,$B190,'Daily Log'!$L$18:$L$1017),0)","v":0},{"$f":"IFERROR($E190*SUMIF('Daily Log'!$N$18:$N$1017,$B190,'Daily Log'!$O$18:$O$1017),0)","v":0},{"$f":"IFERROR($E190*SUMIF('Daily Log'!$Q$18:$Q$1017,$B190,'Daily Log'!$R$18:$R$1017),0)","v":0},{"$f":"IFERROR($E190*SUMIF('Daily Log'!$T$18:$T$1017,$B190,'Daily Log'!$U$18:$U$1017),0)","v":0},{"$f":"IFERROR($E190*SUMIF('Daily Log'!$W$18:$W$1017,$B190,'Daily Log'!$X$18:$X$1017),0)","v":0},{"$f":"IFERROR($E190*SUMIF('Daily Log'!$Z$18:$Z$1017,$B190,'Daily Log'!$AA$18:$AA$1017),0)","v":0},{"$f":"IFERROR($E190*SUMIF('Daily Log'!$AC$18:$AC$1017,$B190,'Daily Log'!$AD$18:$AD$1017),0)","v":0},{"$f":"IFERROR($E190*SUMIF('Daily Log'!$AF$18:$AF$1017,$B190,'Daily Log'!$AG$18:$AG$1017),0)","v":0},{"$f":"IFERROR($E190*SUMIF('Daily Log'!$AI$18:$AI$1017,$B190,'Daily Log'!$AJ$18:$AJ$1017),0)","v":0},{"$f":"IFERROR($E190*SUMIF('Daily Log'!$AL$18:$AL$1017,$B190,'Daily Log'!$AM$18:$AM$1017),0)","v":0},{"$f":"IFERROR($E190*SUMIF('Daily Log'!$AO$18:$AO$1017,$B190,'Daily Log'!$AP$18:$AP$1017),0)","v":0},{"$f":"IFERROR($E190*SUMIF('Daily Log'!$AR$18:$AR$1017,$B190,'Daily Log'!$AS$18:$AS$1017),0)","v":0},{"$f":"IFERROR($E190*SUMIF('Daily Log'!$AU$18:$AU$1017,$B190,'Daily Log'!$AV$18:$AV$1017),0)","v":0},{"$f":"IFERROR($E190*SUMIF('Daily Log'!$AX$18:$AX$1017,$B190,'Daily Log'!$AY$18:$AY$1017),0)","v":0},{"$f":"IFERROR($E190*SUMIF('Daily Log'!$BA$18:$BA$1017,$B190,'Daily Log'!$BB$18:$BB$1017),0)","v":0},{"$f":"IFERROR($E190*SUMIF('Daily Log'!$BD$18:$BD$1017,$B190,'Daily Log'!$BE$18:$BE$1017),0)","v":0},{"$f":"IFERROR($E190*SUMIF('Daily Log'!$BG$18:$BG$1017,$B190,'Daily Log'!$BH$18:$BH$1017),0)","v":0},{"$f":"IFERROR($E190*SUMIF('Daily Log'!$BJ$18:$BJ$1017,$B190,'Daily Log'!$BK$18:$BK$1017),0)","v":0},{"$f":"IFERROR($E190*SUMIF('Daily Log'!$BM$18:$BM$1017,$B190,'Daily Log'!$BN$18:$BN$1017),0)","v":0},{"$f":"IFERROR($E190*SUMIF('Daily Log'!$BP$18:$BP$1017,$B190,'Daily Log'!$BQ$18:$BQ$1017),0)","v":0},{"$f":"IFERROR($E190*SUMIF('Daily Log'!$BS$18:$BS$1017,$B190,'Daily Log'!$BT$18:$BT$1017),0)","v":0},{"$f":"IFERROR($E190*SUMIF('Daily Log'!$BV$18:$BV$1017,$B190,'Daily Log'!$BW$18:$BW$1017),0)","v":0},{"$f":"IFERROR($E190*SUMIF('Daily Log'!$BY$18:$BY$1017,$B190,'Daily Log'!$BZ$18:$BZ$1017),0)","v":0},{"$f":"IFERROR($E190*SUMIF('Daily Log'!$CB$18:$CB$1017,$B190,'Daily Log'!$CC$18:$CC$1017),0)","v":0},{"$f":"IFERROR($E190*SUMIF('Daily Log'!$CE$18:$CE$1017,$B190,'Daily Log'!$CF$18:$CF$1017),0)","v":0},{"$f":"IFERROR($E190*SUMIF('Daily Log'!$CH$18:$CH$1017,$B190,'Daily Log'!$CI$18:$CI$1017),0)","v":0},{"$f":"IFERROR($E190*SUMIF('Daily Log'!$CK$18:$CK$1017,$B190,'Daily Log'!$CL$18:$CL$1017),0)","v":0},{"$f":"IFERROR($E190*SUMIF('Daily Log'!$CN$18:$CN$1017,$B190,'Daily Log'!$CO$18:$CO$1017),0)","v":0}]
[null,"11809:R-Tomato Sauce",null,"SAUCE",1,0,{"$f":"IFERROR($E191*SUMIF('Daily Log'!$B$18:$B$1017,$B191,'Daily Log'!$C$18:$C$1017),0)","v":0},{"$f":"IFERROR($E191*SUMIF('Daily Log'!$E$18:$E$1017,$B191,'Daily Log'!$F$18:$F$1017),0)","v":0},{"$f":"IFERROR($E191*SUMIF('Daily Log'!$H$18:$H$1017,$B191,'Daily Log'!$I$18:$I$1017),0)","v":0},{"$f":"IFERROR($E191*SUMIF('Daily Log'!$K$18:$K$1017,$B191,'Daily Log'!$L$18:$L$1017),0)","v":0},{"$f":"IFERROR($E191*SUMIF('Daily Log'!$N$18:$N$1017,$B191,'Daily Log'!$O$18:$O$1017),0)","v":0},{"$f":"IFERROR($E191*SUMIF('Daily Log'!$Q$18:$Q$1017,$B191,'Daily Log'!$R$18:$R$1017),0)","v":0},{"$f":"IFERROR($E191*SUMIF('Daily Log'!$T$18:$T$1017,$B191,'Daily Log'!$U$18:$U$1017),0)","v":0},{"$f":"IFERROR($E191*SUMIF('Daily Log'!$W$18:$W$1017,$B191,'Daily Log'!$X$18:$X$1017),0)","v":0},{"$f":"IFERROR($E191*SUMIF('Daily Log'!$Z$18:$Z$1017,$B191,'Daily Log'!$AA$18:$AA$1017),0)","v":0},{"$f":"IFERROR($E191*SUMIF('Daily Log'!$AC$18:$AC$1017,$B191,'Daily Log'!$AD$18:$AD$1017),0)","v":0},{"$f":"IFERROR($E191*SUMIF('Daily Log'!$AF$18:$AF$1017,$B191,'Daily Log'!$AG$18:$AG$1017),0)","v":0},{"$f":"IFERROR($E191*SUMIF('Daily Log'!$AI$18:$AI$1017,$B191,'Daily Log'!$AJ$18:$AJ$1017),0)","v":0},{"$f":"IFERROR($E191*SUMIF('Daily Log'!$AL$18:$AL$1017,$B191,'Daily Log'!$AM$18:$AM$1017),0)","v":0},{"$f":"IFERROR($E191*SUMIF('Daily Log'!$AO$18:$AO$1017,$B191,'Daily Log'!$AP$18:$AP$1017),0)","v":0},{"$f":"IFERROR($E191*SUMIF('Daily Log'!$AR$18:$AR$1017,$B191,'Daily Log'!$AS$18:$AS$1017),0)","v":0},{"$f":"IFERROR($E191*SUMIF('Daily Log'!$AU$18:$AU$1017,$B191,'Daily Log'!$AV$18:$AV$1017),0)","v":0},{"$f":"IFERROR($E191*SUMIF('Daily Log'!$AX$18:$AX$1017,$B191,'Daily Log'!$AY$18:$AY$1017),0)","v":0},{"$f":"IFERROR($E191*SUMIF('Daily Log'!$BA$18:$BA$1017,$B191,'Daily Log'!$BB$18:$BB$1017),0)","v":0},{"$f":"IFERROR($E191*SUMIF('Daily Log'!$BD$18:$BD$1017,$B191,'Daily Log'!$BE$18:$BE$1017),0)","v":0},{"$f":"IFERROR($E191*SUMIF('Daily Log'!$BG$18:$BG$1017,$B191,'Daily Log'!$BH$18:$BH$1017),0)","v":0},{"$f":"IFERROR($E191*SUMIF('Daily Log'!$BJ$18:$BJ$1017,$B191,'Daily Log'!$BK$18:$BK$1017),0)","v":0},{"$f":"IFERROR($E191*SUMIF('Daily Log'!$BM$18:$BM$1017,$B191,'Daily Log'!$BN$18:$BN$1017),0)","v":0},{"$f":"IFERROR($E191*SUMIF('Daily Log'!$BP$18:$BP$1017,$B191,'Daily Log'!$BQ$18:$BQ$1017),0)","v":0},{"$f":"IFERROR($E191*SUMIF('Daily Log'!$BS$18:$BS$1017,$B191,'Daily Log'!$BT$18:$BT$1017),0)","v":0},{"$f":"IFERROR($E191*SUMIF('Daily Log'!$BV$18:$BV$1017,$B191,'Daily Log'!$BW$18:$BW$1017),0)","v":0},{"$f":"IFERROR($E191*SUMIF('Daily Log'!$BY$18:$BY$1017,$B191,'Daily Log'!$BZ$18:$BZ$1017),0)","v":0},{"$f":"IFERROR($E191*SUMIF('Daily Log'!$CB$18:$CB$1017,$B191,'Daily Log'!$CC$18:$CC$1017),0)","v":0},{"$f":"IFERROR($E191*SUMIF('Daily Log'!$CE$18:$CE$1017,$B191,'Daily Log'!$CF$18:$CF$1017),0)","v":0},{"$f":"IFERROR($E191*SUMIF('Daily Log'!$CH$18:$CH$1017,$B191,'Daily Log'!$CI$18:$CI$1017),0)","v":0},{"$f":"IFERROR($E191*SUMIF('Daily Log'!$CK$18:$CK$1017,$B191,'Daily Log'!$CL$18:$CL$1017),0)","v":0},{"$f":"IFERROR($E191*SUMIF('Daily Log'!$CN$18:$CN$1017,$B191,'Daily Log'!$CO$18:$CO$1017),0)","v":0}]
[null,"11810:R-Gravy Sauce",null,"SAUCE",1,0,{"$f":"IFERROR($E192*SUMIF('Daily Log'!$B$18:$B$1017,$B192,'Daily Log'!$C$18:$C$1017),0)","v":0},{"$f":"IFERROR($E192*SUMIF('Daily Log'!$E$18:$E$1017,$B192,'Daily Log'!$F$18:$F$1017),0)","v":0},{"$f":"IFERROR($E192*SUMIF('Daily Log'!$H$18:$H$1017,$B192,'Daily Log'!$I$18:$I$1017),0)","v":0},{"$f":"IFERROR($E192*SUMIF('Daily Log'!$K$18:$K$1017,$B192,'Daily Log'!$L$18:$L$1017),0)","v":0},{"$f":"IFERROR($E192*SUMIF('Daily Log'!$N$18:$N$1017,$B192,'Daily Log'!$O$18:$O$1017),0)","v":0},{"$f":"IFERROR($E192*SUMIF('Daily Log'!$Q$18:$Q$1017,$B192,'Daily Log'!$R$18:$R$1017),0)","v":0},{"$f":"IFERROR($E192*SUMIF('Daily Log'!$T$18:$T$1017,$B192,'Daily Log'!$U$18:$U$1017),0)","v":0},{"$f":"IFERROR($E192*SUMIF('Daily Log'!$W$18:$W$1017,$B192,'Daily Log'!$X$18:$X$1017),0)","v":0},{"$f":"IFERROR($E192*SUMIF('Daily Log'!$Z$18:$Z$1017,$B192,'Daily Log'!$AA$18:$AA$1017),0)","v":0},{"$f":"IFERROR($E192*SUMIF('Daily Log'!$AC$18:$AC$1017,$B192,'Daily Log'!$AD$18:$AD$1017),0)","v":0},{"$f":"IFERROR($E192*SUMIF('Daily Log'!$AF$18:$AF$1017,$B192,'Daily Log'!$AG$18:$AG$1017),0)","v":0},{"$f":"IFERROR($E192*SUMIF('Daily Log'!$AI$18:$AI$1017,$B192,'Daily Log'!$AJ$18:$AJ$1017),0)","v":0},{"$f":"IFERROR($E192*SUMIF('Daily Log'!$AL$18:$AL$1017,$B192,'Daily Log'!$AM$18:$AM$1017),0)","v":0},{"$f":"IFERROR($E192*SUMIF('Daily Log'!$AO$18:$AO$1017,$B192,'Daily Log'!$AP$18:$AP$1017),0)","v":0},{"$f":"IFERROR($E192*SUMIF('Daily Log'!$AR$18:$AR$1017,$B192,'Daily Log'!$AS$18:$AS$1017),0)","v":0},{"$f":"IFERROR($E192*SUMIF('Daily Log'!$AU$18:$AU$1017,$B192,'Daily Log'!$AV$18:$AV$1017),0)","v":0},{"$f":"IFERROR($E192*SUMIF('Daily Log'!$AX$18:$AX$1017,$B192,'Daily Log'!$AY$18:$AY$1017),0)","v":0},{"$f":"IFERROR($E192*SUMIF('Daily Log'!$BA$18:$BA$1017,$B192,'Daily Log'!$BB$18:$BB$1017),0)","v":0},{"$f":"IFERROR($E192*SUMIF('Daily Log'!$BD$18:$BD$1017,$B192,'Daily Log'!$BE$18:$BE$1017),0)","v":0},{"$f":"IFERROR($E192*SUMIF('Daily Log'!$BG$18:$BG$1017,$B192,'Daily Log'!$BH$18:$BH$1017),0)","v":0},{"$f":"IFERROR($E192*SUMIF('Daily Log'!$BJ$18:$BJ$1017,$B192,'Daily Log'!$BK$18:$BK$1017),0)","v":0},{"$f":"IFERROR($E192*SUMIF('Daily Log'!$BM$18:$BM$1017,$B192,'Daily Log'!$BN$18:$BN$1017),0)","v":0},{"$f":"IFERROR($E192*SUMIF('Daily Log'!$BP$18:$BP$1017,$B192,'Daily Log'!$BQ$18:$BQ$1017),0)","v":0},{"$f":"IFERROR($E192*SUMIF('Daily Log'!$BS$18:$BS$1017,$B192,'Daily Log'!$BT$18:$BT$1017),0)","v":0},{"$f":"IFERROR($E192*SUMIF('Daily Log'!$BV$18:$BV$1017,$B192,'Daily Log'!$BW$18:$BW$1017),0)","v":0},{"$f":"IFERROR($E192*SUMIF('Daily Log'!$BY$18:$BY$1017,$B192,'Daily Log'!$BZ$18:$BZ$1017),0)","v":0},{"$f":"IFERROR($E192*SUMIF('Daily Log'!$CB$18:$CB$1017,$B192,'Daily Log'!$CC$18:$CC$1017),0)","v":0},{"$f":"IFERROR($E192*SUMIF('Daily Log'!$CE$18:$CE$1017,$B192,'Daily Log'!$CF$18:$CF$1017),0)","v":0},{"$f":"IFERROR($E192*SUMIF('Daily Log'!$CH$18:$CH$1017,$B192,'Daily Log'!$CI$18:$CI$1017),0)","v":0},{"$f":"IFERROR($E192*SUMIF('Daily Log'!$CK$18:$CK$1017,$B192,'Daily Log'!$CL$18:$CL$1017),0)","v":0},{"$f":"IFERROR($E192*SUMIF('Daily Log'!$CN$18:$CN$1017,$B192,'Daily Log'!$CO$18:$CO$1017),0)","v":0}]
[null,"11811:R-Sambal Sauce",null,"SAUCE",1,0,{"$f":"IFERROR($E193*SUMIF('Daily Log'!$B$18:$B$1017,$B193,'Daily Log'!$C$18:$C$1017),0)","v":0},{"$f":"IFERROR($E193*SUMIF('Daily Log'!$E$18:$E$1017,$B193,'Daily Log'!$F$18:$F$1017),0)","v":0},{"$f":"IFERROR($E193*SUMIF('Daily Log'!$H$18:$H$1017,$B193,'Daily Log'!$I$18:$I$1017),0)","v":0},{"$f":"IFERROR($E193*SUMIF('Daily Log'!$K$18:$K$1017,$B193,'Daily Log'!$L$18:$L$1017),0)","v":0},{"$f":"IFERROR($E193*SUMIF('Daily Log'!$N$18:$N$1017,$B193,'Daily Log'!$O$18:$O$1017),0)","v":0},{"$f":"IFERROR($E193*SUMIF('Daily Log'!$Q$18:$Q$1017,$B193,'Daily Log'!$R$18:$R$1017),0)","v":0},{"$f":"IFERROR($E193*SUMIF('Daily Log'!$T$18:$T$1017,$B193,'Daily Log'!$U$18:$U$1017),0)","v":0},{"$f":"IFERROR($E193*SUMIF('Daily Log'!$W$18:$W$1017,$B193,'Daily Log'!$X$18:$X$1017),0)","v":0},{"$f":"IFERROR($E193*SUMIF('Daily Log'!$Z$18:$Z$1017,$B193,'Daily Log'!$AA$18:$AA$1017),0)","v":0},{"$f":"IFERROR($E193*SUMIF('Daily Log'!$AC$18:$AC$1017,$B193,'Daily Log'!$AD$18:$AD$1017),0)","v":0},{"$f":"IFERROR($E193*SUMIF('Daily Log'!$AF$18:$AF$1017,$B193,'Daily Log'!$AG$18:$AG$1017),0)","v":0},{"$f":"IFERROR($E193*SUMIF('Daily Log'!$AI$18:$AI$1017,$B193,'Daily Log'!$AJ$18:$AJ$1017),0)","v":0},{"$f":"IFERROR($E193*SUMIF('Daily Log'!$AL$18:$AL$1017,$B193,'Daily Log'!$AM$18:$AM$1017),0)","v":0},{"$f":"IFERROR($E193*SUMIF('Daily Log'!$AO$18:$AO$1017,$B193,'Daily Log'!$AP$18:$AP$1017),0)","v":0},{"$f":"IFERROR($E193*SUMIF('Daily Log'!$AR$18:$AR$1017,$B193,'Daily Log'!$AS$18:$AS$1017),0)","v":0},{"$f":"IFERROR($E193*SUMIF('Daily Log'!$AU$18:$AU$1017,$B193,'Daily Log'!$AV$18:$AV$1017),0)","v":0},{"$f":"IFERROR($E193*SUMIF('Daily Log'!$AX$18:$AX$1017,$B193,'Daily Log'!$AY$18:$AY$1017),0)","v":0},{"$f":"IFERROR($E193*SUMIF('Daily Log'!$BA$18:$BA$1017,$B193,'Daily Log'!$BB$18:$BB$1017),0)","v":0},{"$f":"IFERROR($E193*SUMIF('Daily Log'!$BD$18:$BD$1017,$B193,'Daily Log'!$BE$18:$BE$1017),0)","v":0},{"$f":"IFERROR($E193*SUMIF('Daily Log'!$BG$18:$BG$1017,$B193,'Daily Log'!$BH$18:$BH$1017),0)","v":0},{"$f":"IFERROR($E193*SUMIF('Daily Log'!$BJ$18:$BJ$1017,$B193,'Daily Log'!$BK$18:$BK$1017),0)","v":0},{"$f":"IFERROR($E193*SUMIF('Daily Log'!$BM$18:$BM$1017,$B193,'Daily Log'!$BN$18:$BN$1017),0)","v":0},{"$f":"IFERROR($E193*SUMIF('Daily Log'!$BP$18:$BP$1017,$B193,'Daily Log'!$BQ$18:$BQ$1017),0)","v":0},{"$f":"IFERROR($E193*SUMIF('Daily Log'!$BS$18:$BS$1017,$B193,'Daily Log'!$BT$18:$BT$1017),0)","v":0},{"$f":"IFERROR($E193*SUMIF('Daily Log'!$BV$18:$BV$1017,$B193,'Daily Log'!$BW$18:$BW$1017),0)","v":0},{"$f":"IFERROR($E193*SUMIF('Daily Log'!$BY$18:$BY$1017,$B193,'Daily Log'!$BZ$18:$BZ$1017),0)","v":0},{"$f":"IFERROR($E193*SUMIF('Daily Log'!$CB$18:$CB$1017,$B193,'Daily Log'!$CC$18:$CC$1017),0)","v":0},{"$f":"IFERROR($E193*SUMIF('Daily Log'!$CE$18:$CE$1017,$B193,'Daily Log'!$CF$18:$CF$1017),0)","v":0},{"$f":"IFERROR($E193*SUMIF('Daily Log'!$CH$18:$CH$1017,$B193,'Daily Log'!$CI$18:$CI$1017),0)","v":0},{"$f":"IFERROR($E193*SUMIF('Daily Log'!$CK$18:$CK$1017,$B193,'Daily Log'!$CL$18:$CL$1017),0)","v":0},{"$f":"IFERROR($E193*SUMIF('Daily Log'!$CN$18:$CN$1017,$B193,'Daily Log'!$CO$18:$CO$1017),0)","v":0}]
[null,"11813:R-Chilli Padi",null,"SAUCE",1,0,{"$f":"IFERROR($E194*SUMIF('Daily Log'!$B$18:$B$1017,$B194,'Daily Log'!$C$18:$C$1017),0)","v":0},{"$f":"IFERROR($E194*SUMIF('Daily Log'!$E$18:$E$1017,$B194,'Daily Log'!$F$18:$F$1017),0)","v":0},{"$f":"IFERROR($E194*SUMIF('Daily Log'!$H$18:$H$1017,$B194,'Daily Log'!$I$18:$I$1017),0)","v":0},{"$f":"IFERROR($E194*SUMIF('Daily Log'!$K$18:$K$1017,$B194,'Daily Log'!$L$18:$L$1017),0)","v":0},{"$f":"IFERROR($E194*SUMIF('Daily Log'!$N$18:$N$1017,$B194,'Daily Log'!$O$18:$O$1017),0)","v":0},{"$f":"IFERROR($E194*SUMIF('Daily Log'!$Q$18:$Q$1017,$B194,'Daily Log'!$R$18:$R$1017),0)","v":0},{"$f":"IFERROR($E194*SUMIF('Daily Log'!$T$18:$T$1017,$B194,'Daily Log'!$U$18:$U$1017),0)","v":0},{"$f":"IFERROR($E194*SUMIF('Daily Log'!$W$18:$W$1017,$B194,'Daily Log'!$X$18:$X$1017),0)","v":0},{"$f":"IFERROR($E194*SUMIF('Daily Log'!$Z$18:$Z$1017,$B194,'Daily Log'!$AA$18:$AA$1017),0)","v":0},{"$f":"IFERROR($E194*SUMIF('Daily Log'!$AC$18:$AC$1017,$B194,'Daily Log'!$AD$18:$AD$1017),0)","v":0},{"$f":"IFERROR($E194*SUMIF('Daily Log'!$AF$18:$AF$1017,$B194,'Daily Log'!$AG$18:$AG$1017),0)","v":0},{"$f":"IFERROR($E194*SUMIF('Daily Log'!$AI$18:$AI$1017,$B194,'Daily Log'!$AJ$18:$AJ$1017),0)","v":0},{"$f":"IFERROR($E194*SUMIF('Daily Log'!$AL$18:$AL$1017,$B194,'Daily Log'!$AM$18:$AM$1017),0)","v":0},{"$f":"IFERROR($E194*SUMIF('Daily Log'!$AO$18:$AO$1017,$B194,'Daily Log'!$AP$18:$AP$1017),0)","v":0},{"$f":"IFERROR($E194*SUMIF('Daily Log'!$AR$18:$AR$1017,$B194,'Daily Log'!$AS$18:$AS$1017),0)","v":0},{"$f":"IFERROR($E194*SUMIF('Daily Log'!$AU$18:$AU$1017,$B194,'Daily Log'!$AV$18:$AV$1017),0)","v":0},{"$f":"IFERROR($E194*SUMIF('Daily Log'!$AX$18:$AX$1017,$B194,'Daily Log'!$AY$18:$AY$1017),0)","v":0},{"$f":"IFERROR($E194*SUMIF('Daily Log'!$BA$18:$BA$1017,$B194,'Daily Log'!$BB$18:$BB$1017),0)","v":0},{"$f":"IFERROR($E194*SUMIF('Daily Log'!$BD$18:$BD$1017,$B194,'Daily Log'!$BE$18:$BE$1017),0)","v":0},{"$f":"IFERROR($E194*SUMIF('Daily Log'!$BG$18:$BG$1017,$B194,'Daily Log'!$BH$18:$BH$1017),0)","v":0},{"$f":"IFERROR($E194*SUMIF('Daily Log'!$BJ$18:$BJ$1017,$B194,'Daily Log'!$BK$18:$BK$1017),0)","v":0},{"$f":"IFERROR($E194*SUMIF('Daily Log'!$BM$18:$BM$1017,$B194,'Daily Log'!$BN$18:$BN$1017),0)","v":0},{"$f":"IFERROR($E194*SUMIF('Daily Log'!$BP$18:$BP$1017,$B194,'Daily Log'!$BQ$18:$BQ$1017),0)","v":0},{"$f":"IFERROR($E194*SUMIF('Daily Log'!$BS$18:$BS$1017,$B194,'Daily Log'!$BT$18:$BT$1017),0)","v":0},{"$f":"IFERROR($E194*SUMIF('Daily Log'!$BV$18:$BV$1017,$B194,'Daily Log'!$BW$18:$BW$1017),0)","v":0},{"$f":"IFERROR($E194*SUMIF('Daily Log'!$BY$18:$BY$1017,$B194,'Daily Log'!$BZ$18:$BZ$1017),0)","v":0},{"$f":"IFERROR($E194*SUMIF('Daily Log'!$CB$18:$CB$1017,$B194,'Daily Log'!$CC$18:$CC$1017),0)","v":0},{"$f":"IFERROR($E194*SUMIF('Daily Log'!$CE$18:$CE$1017,$B194,'Daily Log'!$CF$18:$CF$1017),0)","v":0},{"$f":"IFERROR($E194*SUMIF('Daily Log'!$CH$18:$CH$1017,$B194,'Daily Log'!$CI$18:$CI$1017),0)","v":0},{"$f":"IFERROR($E194*SUMIF('Daily Log'!$CK$18:$CK$1017,$B194,'Daily Log'!$CL$18:$CL$1017),0)","v":0},{"$f":"IFERROR($E194*SUMIF('Daily Log'!$CN$18:$CN$1017,$B194,'Daily Log'!$CO$18:$CO$1017),0)","v":0}]
[null,"11813:R-Chilli Padi",null,"SAUCE",1,0,{"$f":"IFERROR($E195*SUMIF('Daily Log'!$B$18:$B$1017,$B195,'Daily Log'!$C$18:$C$1017),0)","v":0},{"$f":"IFERROR($E195*SUMIF('Daily Log'!$E$18:$E$1017,$B195,'Daily Log'!$F$18:$F$1017),0)","v":0},{"$f":"IFERROR($E195*SUMIF('Daily Log'!$H$18:$H$1017,$B195,'Daily Log'!$I$18:$I$1017),0)","v":0},{"$f":"IFERROR($E195*SUMIF('Daily Log'!$K$18:$K$1017,$B195,'Daily Log'!$L$18:$L$1017),0)","v":0},{"$f":"IFERROR($E195*SUMIF('Daily Log'!$N$18:$N$1017,$B195,'Daily Log'!$O$18:$O$1017),0)","v":0},{"$f":"IFERROR($E195*SUMIF('Daily Log'!$Q$18:$Q$1017,$B195,'Daily Log'!$R$18:$R$1017),0)","v":0},{"$f":"IFERROR($E195*SUMIF('Daily Log'!$T$18:$T$1017,$B195,'Daily Log'!$U$18:$U$1017),0)","v":0},{"$f":"IFERROR($E195*SUMIF('Daily Log'!$W$18:$W$1017,$B195,'Daily Log'!$X$18:$X$1017),0)","v":0},{"$f":"IFERROR($E195*SUMIF('Daily Log'!$Z$18:$Z$1017,$B195,'Daily Log'!$AA$18:$AA$1017),0)","v":0},{"$f":"IFERROR($E195*SUMIF('Daily Log'!$AC$18:$AC$1017,$B195,'Daily Log'!$AD$18:$AD$1017),0)","v":0},{"$f":"IFERROR($E195*SUMIF('Daily Log'!$AF$18:$AF$1017,$B195,'Daily Log'!$AG$18:$AG$1017),0)","v":0},{"$f":"IFERROR($E195*SUMIF('Daily Log'!$AI$18:$AI$1017,$B195,'Daily Log'!$AJ$18:$AJ$1017),0)","v":0},{"$f":"IFERROR($E195*SUMIF('Daily Log'!$AL$18:$AL$1017,$B195,'Daily Log'!$AM$18:$AM$1017),0)","v":0},{"$f":"IFERROR($E195*SUMIF('Daily Log'!$AO$18:$AO$1017,$B195,'Daily Log'!$AP$18:$AP$1017),0)","v":0},{"$f":"IFERROR($E195*SUMIF('Daily Log'!$AR$18:$AR$1017,$B195,'Daily Log'!$AS$18:$AS$1017),0)","v":0},{"$f":"IFERROR($E195*SUMIF('Daily Log'!$AU$18:$AU$1017,$B195,'Daily Log'!$AV$18:$AV$1017),0)","v":0},{"$f":"IFERROR($E195*SUMIF('Daily Log'!$AX$18:$AX$1017,$B195,'Daily Log'!$AY$18:$AY$1017),0)","v":0},{"$f":"IFERROR($E195*SUMIF('Daily Log'!$BA$18:$BA$1017,$B195,'Daily Log'!$BB$18:$BB$1017),0)","v":0},{"$f":"IFERROR($E195*SUMIF('Daily Log'!$BD$18:$BD$1017,$B195,'Daily Log'!$BE$18:$BE$1017),0)","v":0},{"$f":"IFERROR($E195*SUMIF('Daily Log'!$BG$18:$BG$1017,$B195,'Daily Log'!$BH$18:$BH$1017),0)","v":0},{"$f":"IFERROR($E195*SUMIF('Daily Log'!$BJ$18:$BJ$1017,$B195,'Daily Log'!$BK$18:$BK$1017),0)","v":0},{"$f":"IFERROR($E195*SUMIF('Daily Log'!$BM$18:$BM$1017,$B195,'Daily Log'!$BN$18:$BN$1017),0)","v":0},{"$f":"IFERROR($E195*SUMIF('Daily Log'!$BP$18:$BP$1017,$B195,'Daily Log'!$BQ$18:$BQ$1017),0)","v":0},{"$f":"IFERROR($E195*SUMIF('Daily Log'!$BS$18:$BS$1017,$B195,'Daily Log'!$BT$18:$BT$1017),0)","v":0},{"$f":"IFERROR($E195*SUMIF('Daily Log'!$BV$18:$BV$1017,$B195,'Daily Log'!$BW$18:$BW$1017),0)","v":0},{"$f":"IFERROR($E195*SUMIF('Daily Log'!$BY$18:$BY$1017,$B195,'Daily Log'!$BZ$18:$BZ$1017),0)","v":0},{"$f":"IFERROR($E195*SUMIF('Daily Log'!$CB$18:$CB$1017,$B195,'Daily Log'!$CC$18:$CC$1017),0)","v":0},{"$f":"IFERROR($E195*SUMIF('Daily Log'!$CE$18:$CE$1017,$B195,'Daily Log'!$CF$18:$CF$1017),0)","v":0},{"$f":"IFERROR($E195*SUMIF('Daily Log'!$CH$18:$CH$1017,$B195,'Daily Log'!$CI$18:$CI$1017),0)","v":0},{"$f":"IFERROR($E195*SUMIF('Daily Log'!$CK$18:$CK$1017,$B195,'Daily Log'!$CL$18:$CL$1017),0)","v":0},{"$f":"IFERROR($E195*SUMIF('Daily Log'!$CN$18:$CN$1017,$B195,'Daily Log'!$CO$18:$CO$1017),0)","v":0}]
[null,"11813:R-Chilli Padi",null,"SAUCE",1,0,{"$f":"IFERROR($E196*SUMIF('Daily Log'!$B$18:$B$1017,$B196,'Daily Log'!$C$18:$C$1017),0)","v":0},{"$f":"IFERROR($E196*SUMIF('Daily Log'!$E$18:$E$1017,$B196,'Daily Log'!$F$18:$F$1017),0)","v":0},{"$f":"IFERROR($E196*SUMIF('Daily Log'!$H$18:$H$1017,$B196,'Daily Log'!$I$18:$I$1017),0)","v":0},{"$f":"IFERROR($E196*SUMIF('Daily Log'!$K$18:$K$1017,$B196,'Daily Log'!$L$18:$L$1017),0)","v":0},{"$f":"IFERROR($E196*SUMIF('Daily Log'!$N$18:$N$1017,$B196,'Daily Log'!$O$18:$O$1017),0)","v":0},{"$f":"IFERROR($E196*SUMIF('Daily Log'!$Q$18:$Q$1017,$B196,'Daily Log'!$R$18:$R$1017),0)","v":0},{"$f":"IFERROR($E196*SUMIF('Daily Log'!$T$18:$T$1017,$B196,'Daily Log'!$U$18:$U$1017),0)","v":0},{"$f":"IFERROR($E196*SUMIF('Daily Log'!$W$18:$W$1017,$B196,'Daily Log'!$X$18:$X$1017),0)","v":0},{"$f":"IFERROR($E196*SUMIF('Daily Log'!$Z$18:$Z$1017,$B196,'Daily Log'!$AA$18:$AA$1017),0)","v":0},{"$f":"IFERROR($E196*SUMIF('Daily Log'!$AC$18:$AC$1017,$B196,'Daily Log'!$AD$18:$AD$1017),0)","v":0},{"$f":"IFERROR($E196*SUMIF('Daily Log'!$AF$18:$AF$1017,$B196,'Daily Log'!$AG$18:$AG$1017),0)","v":0},{"$f":"IFERROR($E196*SUMIF('Daily Log'!$AI$18:$AI$1017,$B196,'Daily Log'!$AJ$18:$AJ$1017),0)","v":0},{"$f":"IFERROR($E196*SUMIF('Daily Log'!$AL$18:$AL$1017,$B196,'Daily Log'!$AM$18:$AM$1017),0)","v":0},{"$f":"IFERROR($E196*SUMIF('Daily Log'!$AO$18:$AO$1017,$B196,'Daily Log'!$AP$18:$AP$1017),0)","v":0},{"$f":"IFERROR($E196*SUMIF('Daily Log'!$AR$18:$AR$1017,$B196,'Daily Log'!$AS$18:$AS$1017),0)","v":0},{"$f":"IFERROR($E196*SUMIF('Daily Log'!$AU$18:$AU$1017,$B196,'Daily Log'!$AV$18:$AV$1017),0)","v":0},{"$f":"IFERROR($E196*SUMIF('Daily Log'!$AX$18:$AX$1017,$B196,'Daily Log'!$AY$18:$AY$1017),0)","v":0},{"$f":"IFERROR($E196*SUMIF('Daily Log'!$BA$18:$BA$1017,$B196,'Daily Log'!$BB$18:$BB$1017),0)","v":0},{"$f":"IFERROR($E196*SUMIF('Daily Log'!$BD$18:$BD$1017,$B196,'Daily Log'!$BE$18:$BE$1017),0)","v":0},{"$f":"IFERROR($E196*SUMIF('Daily Log'!$BG$18:$BG$1017,$B196,'Daily Log'!$BH$18:$BH$1017),0)","v":0},{"$f":"IFERROR($E196*SUMIF('Daily Log'!$BJ$18:$BJ$1017,$B196,'Daily Log'!$BK$18:$BK$1017),0)","v":0},{"$f":"IFERROR($E196*SUMIF('Daily Log'!$BM$18:$BM$1017,$B196,'Daily Log'!$BN$18:$BN$1017),0)","v":0},{"$f":"IFERROR($E196*SUMIF('Daily Log'!$BP$18:$BP$1017,$B196,'Daily Log'!$BQ$18:$BQ$1017),0)","v":0},{"$f":"IFERROR($E196*SUMIF('Daily Log'!$BS$18:$BS$1017,$B196,'Daily Log'!$BT$18:$BT$1017),0)","v":0},{"$f":"IFERROR($E196*SUMIF('Daily Log'!$BV$18:$BV$1017,$B196,'Daily Log'!$BW$18:$BW$1017),0)","v":0},{"$f":"IFERROR($E196*SUMIF('Daily Log'!$BY$18:$BY$1017,$B196,'Daily Log'!$BZ$18:$BZ$1017),0)","v":0},{"$f":"IFERROR($E196*SUMIF('Daily Log'!$CB$18:$CB$1017,$B196,'Daily Log'!$CC$18:$CC$1017),0)","v":0},{"$f":"IFERROR($E196*SUMIF('Daily Log'!$CE$18:$CE$1017,$B196,'Daily Log'!$CF$18:$CF$1017),0)","v":0},{"$f":"IFERROR($E196*SUMIF('Daily Log'!$CH$18:$CH$1017,$B196,'Daily Log'!$CI$18:$CI$1017),0)","v":0},{"$f":"IFERROR($E196*SUMIF('Daily Log'!$CK$18:$CK$1017,$B196,'Daily Log'!$CL$18:$CL$1017),0)","v":0},{"$f":"IFERROR($E196*SUMIF('Daily Log'!$CN$18:$CN$1017,$B196,'Daily Log'!$CO$18:$CO$1017),0)","v":0}]
[null,"118152:R-Bolognaise Sauce",null,"SAUCE",1,0,{"$f":"IFERROR($E197*SUMIF('Daily Log'!$B$18:$B$1017,$B197,'Daily Log'!$C$18:$C$1017),0)","v":0},{"$f":"IFERROR($E197*SUMIF('Daily Log'!$E$18:$E$1017,$B197,'Daily Log'!$F$18:$F$1017),0)","v":0},{"$f":"IFERROR($E197*SUMIF('Daily Log'!$H$18:$H$1017,$B197,'Daily Log'!$I$18:$I$1017),0)","v":0},{"$f":"IFERROR($E197*SUMIF('Daily Log'!$K$18:$K$1017,$B197,'Daily Log'!$L$18:$L$1017),0)","v":0},{"$f":"IFERROR($E197*SUMIF('Daily Log'!$N$18:$N$1017,$B197,'Daily Log'!$O$18:$O$1017),0)","v":0},{"$f":"IFERROR($E197*SUMIF('Daily Log'!$Q$18:$Q$1017,$B197,'Daily Log'!$R$18:$R$1017),0)","v":0},{"$f":"IFERROR($E197*SUMIF('Daily Log'!$T$18:$T$1017,$B197,'Daily Log'!$U$18:$U$1017),0)","v":0},{"$f":"IFERROR($E197*SUMIF('Daily Log'!$W$18:$W$1017,$B197,'Daily Log'!$X$18:$X$1017),0)","v":0},{"$f":"IFERROR($E197*SUMIF('Daily Log'!$Z$18:$Z$1017,$B197,'Daily Log'!$AA$18:$AA$1017),0)","v":0},{"$f":"IFERROR($E197*SUMIF('Daily Log'!$AC$18:$AC$1017,$B197,'Daily Log'!$AD$18:$AD$1017),0)","v":0},{"$f":"IFERROR($E197*SUMIF('Daily Log'!$AF$18:$AF$1017,$B197,'Daily Log'!$AG$18:$AG$1017),0)","v":0},{"$f":"IFERROR($E197*SUMIF('Daily Log'!$AI$18:$AI$1017,$B197,'Daily Log'!$AJ$18:$AJ$1017),0)","v":0},{"$f":"IFERROR($E197*SUMIF('Daily Log'!$AL$18:$AL$1017,$B197,'Daily Log'!$AM$18:$AM$1017),0)","v":0},{"$f":"IFERROR($E197*SUMIF('Daily Log'!$AO$18:$AO$1017,$B197,'Daily Log'!$AP$18:$AP$1017),0)","v":0},{"$f":"IFERROR($E197*SUMIF('Daily Log'!$AR$18:$AR$1017,$B197,'Daily Log'!$AS$18:$AS$1017),0)","v":0},{"$f":"IFERROR($E197*SUMIF('Daily Log'!$AU$18:$AU$1017,$B197,'Daily Log'!$AV$18:$AV$1017),0)","v":0},{"$f":"IFERROR($E197*SUMIF('Daily Log'!$AX$18:$AX$1017,$B197,'Daily Log'!$AY$18:$AY$1017),0)","v":0},{"$f":"IFERROR($E197*SUMIF('Daily Log'!$BA$18:$BA$1017,$B197,'Daily Log'!$BB$18:$BB$1017),0)","v":0},{"$f":"IFERROR($E197*SUMIF('Daily Log'!$BD$18:$BD$1017,$B197,'Daily Log'!$BE$18:$BE$1017),0)","v":0},{"$f":"IFERROR($E197*SUMIF('Daily Log'!$BG$18:$BG$1017,$B197,'Daily Log'!$BH$18:$BH$1017),0)","v":0},{"$f":"IFERROR($E197*SUMIF('Daily Log'!$BJ$18:$BJ$1017,$B197,'Daily Log'!$BK$18:$BK$1017),0)","v":0},{"$f":"IFERROR($E197*SUMIF('Daily Log'!$BM$18:$BM$1017,$B197,'Daily Log'!$BN$18:$BN$1017),0)","v":0},{"$f":"IFERROR($E197*SUMIF('Daily Log'!$BP$18:$BP$1017,$B197,'Daily Log'!$BQ$18:$BQ$1017),0)","v":0},{"$f":"IFERROR($E197*SUMIF('Daily Log'!$BS$18:$BS$1017,$B197,'Daily Log'!$BT$18:$BT$1017),0)","v":0},{"$f":"IFERROR($E197*SUMIF('Daily Log'!$BV$18:$BV$1017,$B197,'Daily Log'!$BW$18:$BW$1017),0)","v":0},{"$f":"IFERROR($E197*SUMIF('Daily Log'!$BY$18:$BY$1017,$B197,'Daily Log'!$BZ$18:$BZ$1017),0)","v":0},{"$f":"IFERROR($E197*SUMIF('Daily Log'!$CB$18:$CB$1017,$B197,'Daily Log'!$CC$18:$CC$1017),0)","v":0},{"$f":"IFERROR($E197*SUMIF('Daily Log'!$CE$18:$CE$1017,$B197,'Daily Log'!$CF$18:$CF$1017),0)","v":0},{"$f":"IFERROR($E197*SUMIF('Daily Log'!$CH$18:$CH$1017,$B197,'Daily Log'!$CI$18:$CI$1017),0)","v":0},{"$f":"IFERROR($E197*SUMIF('Daily Log'!$CK$18:$CK$1017,$B197,'Daily Log'!$CL$18:$CL$1017),0)","v":0},{"$f":"IFERROR($E197*SUMIF('Daily Log'!$CN$18:$CN$1017,$B197,'Daily Log'!$CO$18:$CO$1017),0)","v":0}]
[null,"11401:Add Rice-加饭",null,"SIDE ORDER ",1,14,{"$f":"IFERROR($E198*SUMIF('Daily Log'!$B$18:$B$1017,$B198,'Daily Log'!$C$18:$C$1017),0)","v":0},{"$f":"IFERROR($E198*SUMIF('Daily Log'!$E$18:$E$1017,$B198,'Daily Log'!$F$18:$F$1017),0)","v":0},{"$f":"IFERROR($E198*SUMIF('Daily Log'!$H$18:$H$1017,$B198,'Daily Log'!$I$18:$I$1017),0)","v":0},{"$f":"IFERROR($E198*SUMIF('Daily Log'!$K$18:$K$1017,$B198,'Daily Log'!$L$18:$L$1017),0)","v":0},{"$f":"IFERROR($E198*SUMIF('Daily Log'!$N$18:$N$1017,$B198,'Daily Log'!$O$18:$O$1017),0)","v":0},{"$f":"IFERROR($E198*SUMIF('Daily Log'!$Q$18:$Q$1017,$B198,'Daily Log'!$R$18:$R$1017),0)","v":0},{"$f":"IFERROR($E198*SUMIF('Daily Log'!$T$18:$T$1017,$B198,'Daily Log'!$U$18:$U$1017),0)","v":1},{"$f":"IFERROR($E198*SUMIF('Daily Log'!$W$18:$W$1017,$B198,'Daily Log'!$X$18:$X$1017),0)","v":2},{"$f":"IFERROR($E198*SUMIF('Daily Log'!$Z$18:$Z$1017,$B198,'Daily Log'!$AA$18:$AA$1017),0)","v":3},{"$f":"IFERROR($E198*SUMIF('Daily Log'!$AC$18:$AC$1017,$B198,'Daily Log'!$AD$18:$AD$1017),0)","v":4},{"$f":"IFERROR($E198*SUMIF('Daily Log'!$AF$18:$AF$1017,$B198,'Daily Log'!$AG$18:$AG$1017),0)","v":4},{"$f":"IFERROR($E198*SUMIF('Daily Log'!$AI$18:$AI$1017,$B198,'Daily Log'!$AJ$18:$AJ$1017),0)","v":0},{"$f":"IFERROR($E198*SUMIF('Daily Log'!$AL$18:$AL$1017,$B198,'Daily Log'!$AM$18:$AM$1017),0)","v":0},{"$f":"IFERROR($E198*SUMIF('Daily Log'!$AO$18:$AO$1017,$B198,'Daily Log'!$AP$18:$AP$1017),0)","v":0},{"$f":"IFERROR($E198*SUMIF('Daily Log'!$AR$18:$AR$1017,$B198,'Daily Log'!$AS$18:$AS$1017),0)","v":0},{"$f":"IFERROR($E198*SUMIF('Daily Log'!$AU$18:$AU$1017,$B198,'Daily Log'!$AV$18:$AV$1017),0)","v":0},{"$f":"IFERROR($E198*SUMIF('Daily Log'!$AX$18:$AX$1017,$B198,'Daily Log'!$AY$18:$AY$1017),0)","v":0},{"$f":"IFERROR($E198*SUMIF('Daily Log'!$BA$18:$BA$1017,$B198,'Daily Log'!$BB$18:$BB$1017),0)","v":0},{"$f":"IFERROR($E198*SUMIF('Daily Log'!$BD$18:$BD$1017,$B198,'Daily Log'!$BE$18:$BE$1017),0)","v":0},{"$f":"IFERROR($E198*SUMIF('Daily Log'!$BG$18:$BG$1017,$B198,'Daily Log'!$BH$18:$BH$1017),0)","v":0},{"$f":"IFERROR($E198*SUMIF('Daily Log'!$BJ$18:$BJ$1017,$B198,'Daily Log'!$BK$18:$BK$1017),0)","v":0},{"$f":"IFERROR($E198*SUMIF('Daily Log'!$BM$18:$BM$1017,$B198,'Daily Log'!$BN$18:$BN$1017),0)","v":0},{"$f":"IFERROR($E198*SUMIF('Daily Log'!$BP$18:$BP$1017,$B198,'Daily Log'!$BQ$18:$BQ$1017),0)","v":0},{"$f":"IFERROR($E198*SUMIF('Daily Log'!$BS$18:$BS$1017,$B198,'Daily Log'!$BT$18:$BT$1017),0)","v":0},{"$f":"IFERROR($E198*SUMIF('Daily Log'!$BV$18:$BV$1017,$B198,'Daily Log'!$BW$18:$BW$1017),0)","v":0},{"$f":"IFERROR($E198*SUMIF('Daily Log'!$BY$18:$BY$1017,$B198,'Daily Log'!$BZ$18:$BZ$1017),0)","v":0},{"$f":"IFERROR($E198*SUMIF('Daily Log'!$CB$18:$CB$1017,$B198,'Daily Log'!$CC$18:$CC$1017),0)","v":0},{"$f":"IFERROR($E198*SUMIF('Daily Log'!$CE$18:$CE$1017,$B198,'Daily Log'!$CF$18:$CF$1017),0)","v":0},{"$f":"IFERROR($E198*SUMIF('Daily Log'!$CH$18:$CH$1017,$B198,'Daily Log'!$CI$18:$CI$1017),0)","v":0},{"$f":"IFERROR($E198*SUMIF('Daily Log'!$CK$18:$CK$1017,$B198,'Daily Log'!$CL$18:$CL$1017),0)","v":0},{"$f":"IFERROR($E198*SUMIF('Daily Log'!$CN$18:$CN$1017,$B198,'Daily Log'!$CO$18:$CO$1017),0)","v":0}]
[null,"11402:Add Egg-加蛋",null,"SIDE ORDER ",1,4,{"$f":"IFERROR($E199*SUMIF('Daily Log'!$B$18:$B$1017,$B199,'Daily Log'!$C$18:$C$1017),0)","v":0},{"$f":"IFERROR($E199*SUMIF('Daily Log'!$E$18:$E$1017,$B199,'Daily Log'!$F$18:$F$1017),0)","v":0},{"$f":"IFERROR($E199*SUMIF('Daily Log'!$H$18:$H$1017,$B199,'Daily Log'!$I$18:$I$1017),0)","v":0},{"$f":"IFERROR($E199*SUMIF('Daily Log'!$K$18:$K$1017,$B199,'Daily Log'!$L$18:$L$1017),0)","v":0},{"$f":"IFERROR($E199*SUMIF('Daily Log'!$N$18:$N$1017,$B199,'Daily Log'!$O$18:$O$1017),0)","v":0},{"$f":"IFERROR($E199*SUMIF('Daily Log'!$Q$18:$Q$1017,$B199,'Daily Log'!$R$18:$R$1017),0)","v":0},{"$f":"IFERROR($E199*SUMIF('Daily Log'!$T$18:$T$1017,$B199,'Daily Log'!$U$18:$U$1017),0)","v":0},{"$f":"IFERROR($E199*SUMIF('Daily Log'!$W$18:$W$1017,$B199,'Daily Log'!$X$18:$X$1017),0)","v":0},{"$f":"IFERROR($E199*SUMIF('Daily Log'!$Z$18:$Z$1017,$B199,'Daily Log'!$AA$18:$AA$1017),0)","v":0},{"$f":"IFERROR($E199*SUMIF('Daily Log'!$AC$18:$AC$1017,$B199,'Daily Log'!$AD$18:$AD$1017),0)","v":0},{"$f":"IFERROR($E199*SUMIF('Daily Log'!$AF$18:$AF$1017,$B199,'Daily Log'!$AG$18:$AG$1017),0)","v":3},{"$f":"IFERROR($E199*SUMIF('Daily Log'!$AI$18:$AI$1017,$B199,'Daily Log'!$AJ$18:$AJ$1017),0)","v":0},{"$f":"IFERROR($E199*SUMIF('Daily Log'!$AL$18:$AL$1017,$B199,'Daily Log'!$AM$18:$AM$1017),0)","v":1},{"$f":"IFERROR($E199*SUMIF('Daily Log'!$AO$18:$AO$1017,$B199,'Daily Log'!$AP$18:$AP$1017),0)","v":0},{"$f":"IFERROR($E199*SUMIF('Daily Log'!$AR$18:$AR$1017,$B199,'Daily Log'!$AS$18:$AS$1017),0)","v":0},{"$f":"IFERROR($E199*SUMIF('Daily Log'!$AU$18:$AU$1017,$B199,'Daily Log'!$AV$18:$AV$1017),0)","v":0},{"$f":"IFERROR($E199*SUMIF('Daily Log'!$AX$18:$AX$1017,$B199,'Daily Log'!$AY$18:$AY$1017),0)","v":0},{"$f":"IFERROR($E199*SUMIF('Daily Log'!$BA$18:$BA$1017,$B199,'Daily Log'!$BB$18:$BB$1017),0)","v":0},{"$f":"IFERROR($E199*SUMIF('Daily Log'!$BD$18:$BD$1017,$B199,'Daily Log'!$BE$18:$BE$1017),0)","v":0},{"$f":"IFERROR($E199*SUMIF('Daily Log'!$BG$18:$BG$1017,$B199,'Daily Log'!$BH$18:$BH$1017),0)","v":0},{"$f":"IFERROR($E199*SUMIF('Daily Log'!$BJ$18:$BJ$1017,$B199,'Daily Log'!$BK$18:$BK$1017),0)","v":0},{"$f":"IFERROR($E199*SUMIF('Daily Log'!$BM$18:$BM$1017,$B199,'Daily Log'!$BN$18:$BN$1017),0)","v":0},{"$f":"IFERROR($E199*SUMIF('Daily Log'!$BP$18:$BP$1017,$B199,'Daily Log'!$BQ$18:$BQ$1017),0)","v":0},{"$f":"IFERROR($E199*SUMIF('Daily Log'!$BS$18:$BS$1017,$B199,'Daily Log'!$BT$18:$BT$1017),0)","v":0},{"$f":"IFERROR($E199*SUMIF('Daily Log'!$BV$18:$BV$1017,$B199,'Daily Log'!$BW$18:$BW$1017),0)","v":0},{"$f":"IFERROR($E199*SUMIF('Daily Log'!$BY$18:$BY$1017,$B199,'Daily Log'!$BZ$18:$BZ$1017),0)","v":0},{"$f":"IFERROR($E199*SUMIF('Daily Log'!$CB$18:$CB$1017,$B199,'Daily Log'!$CC$18:$CC$1017),0)","v":0},{"$f":"IFERROR($E199*SUMIF('Daily Log'!$CE$18:$CE$1017,$B199,'Daily Log'!$CF$18:$CF$1017),0)","v":0},{"$f":"IFERROR($E199*SUMIF('Daily Log'!$CH$18:$CH$1017,$B199,'Daily Log'!$CI$18:$CI$1017),0)","v":0},{"$f":"IFERROR($E199*SUMIF('Daily Log'!$CK$18:$CK$1017,$B199,'Daily Log'!$CL$18:$CL$1017),0)","v":0},{"$f":"IFERROR($E199*SUMIF('Daily Log'!$CN$18:$CN$1017,$B199,'Daily Log'!$CO$18:$CO$1017),0)","v":0}]
[null,"11521:S12-家乡春卷",null,"SIDE ORDER -SNACK",1,8,{"$f":"IFERROR($E200*SUMIF('Daily Log'!$B$18:$B$1017,$B200,'Daily Log'!$C$18:$C$1017),0)","v":0},{"$f":"IFERROR($E200*SUMIF('Daily Log'!$E$18:$E$1017,$B200,'Daily Log'!$F$18:$F$1017),0)","v":0},{"$f":"IFERROR($E200*SUMIF('Daily Log'!$H$18:$H$1017,$B200,'Daily Log'!$I$18:$I$1017),0)","v":0},{"$f":"IFERROR($E200*SUMIF('Daily Log'!$K$18:$K$1017,$B200,'Daily Log'!$L$18:$L$1017),0)","v":0},{"$f":"IFERROR($E200*SUMIF('Daily Log'!$N$18:$N$1017,$B200,'Daily Log'!$O$18:$O$1017),0)","v":0},{"$f":"IFERROR($E200*SUMIF('Daily Log'!$Q$18:$Q$1017,$B200,'Daily Log'!$R$18:$R$1017),0)","v":0},{"$f":"IFERROR($E200*SUMIF('Daily Log'!$T$18:$T$1017,$B200,'Daily Log'!$U$18:$U$1017),0)","v":1},{"$f":"IFERROR($E200*SUMIF('Daily Log'!$W$18:$W$1017,$B200,'Daily Log'!$X$18:$X$1017),0)","v":1},{"$f":"IFERROR($E200*SUMIF('Daily Log'!$Z$18:$Z$1017,$B200,'Daily Log'!$AA$18:$AA$1017),0)","v":0},{"$f":"IFERROR($E200*SUMIF('Daily Log'!$AC$18:$AC$1017,$B200,'Daily Log'!$AD$18:$AD$1017),0)","v":2},{"$f":"IFERROR($E200*SUMIF('Daily Log'!$AF$18:$AF$1017,$B200,'Daily Log'!$AG$18:$AG$1017),0)","v":1},{"$f":"IFERROR($E200*SUMIF('Daily Log'!$AI$18:$AI$1017,$B200,'Daily Log'!$AJ$18:$AJ$1017),0)","v":2},{"$f":"IFERROR($E200*SUMIF('Daily Log'!$AL$18:$AL$1017,$B200,'Daily Log'!$AM$18:$AM$1017),0)","v":1},{"$f":"IFERROR($E200*SUMIF('Daily Log'!$AO$18:$AO$1017,$B200,'Daily Log'!$AP$18:$AP$1017),0)","v":0},{"$f":"IFERROR($E200*SUMIF('Daily Log'!$AR$18:$AR$1017,$B200,'Daily Log'!$AS$18:$AS$1017),0)","v":0},{"$f":"IFERROR($E200*SUMIF('Daily Log'!$AU$18:$AU$1017,$B200,'Daily Log'!$AV$18:$AV$1017),0)","v":0},{"$f":"IFERROR($E200*SUMIF('Daily Log'!$AX$18:$AX$1017,$B200,'Daily Log'!$AY$18:$AY$1017),0)","v":0},{"$f":"IFERROR($E200*SUMIF('Daily Log'!$BA$18:$BA$1017,$B200,'Daily Log'!$BB$18:$BB$1017),0)","v":0},{"$f":"IFERROR($E200*SUMIF('Daily Log'!$BD$18:$BD$1017,$B200,'Daily Log'!$BE$18:$BE$1017),0)","v":0},{"$f":"IFERROR($E200*SUMIF('Daily Log'!$BG$18:$BG$1017,$B200,'Daily Log'!$BH$18:$BH$1017),0)","v":0},{"$f":"IFERROR($E200*SUMIF('Daily Log'!$BJ$18:$BJ$1017,$B200,'Daily Log'!$BK$18:$BK$1017),0)","v":0},{"$f":"IFERROR($E200*SUMIF('Daily Log'!$BM$18:$BM$1017,$B200,'Daily Log'!$BN$18:$BN$1017),0)","v":0},{"$f":"IFERROR($E200*SUMIF('Daily Log'!$BP$18:$BP$1017,$B200,'Daily Log'!$BQ$18:$BQ$1017),0)","v":0},{"$f":"IFERROR($E200*SUMIF('Daily Log'!$BS$18:$BS$1017,$B200,'Daily Log'!$BT$18:$BT$1017),0)","v":0},{"$f":"IFERROR($E200*SUMIF('Daily Log'!$BV$18:$BV$1017,$B200,'Daily Log'!$BW$18:$BW$1017),0)","v":0},{"$f":"IFERROR($E200*SUMIF('Daily Log'!$BY$18:$BY$1017,$B200,'Daily Log'!$BZ$18:$BZ$1017),0)","v":0},{"$f":"IFERROR($E200*SUMIF('Daily Log'!$CB$18:$CB$1017,$B200,'Daily Log'!$CC$18:$CC$1017),0)","v":0},{"$f":"IFERROR($E200*SUMIF('Daily Log'!$CE$18:$CE$1017,$B200,'Daily Log'!$CF$18:$CF$1017),0)","v":0},{"$f":"IFERROR($E200*SUMIF('Daily Log'!$CH$18:$CH$1017,$B200,'Daily Log'!$CI$18:$CI$1017),0)","v":0},{"$f":"IFERROR($E200*SUMIF('Daily Log'!$CK$18:$CK$1017,$B200,'Daily Log'!$CL$18:$CL$1017),0)","v":0},{"$f":"IFERROR($E200*SUMIF('Daily Log'!$CN$18:$CN$1017,$B200,'Daily Log'!$CO$18:$CO$1017),0)","v":0}]
[null,"11525:S07-小鸡块块",null,"SIDE ORDER -SNACK",1,0,{"$f":"IFERROR($E201*SUMIF('Daily Log'!$B$18:$B$1017,$B201,'Daily Log'!$C$18:$C$1017),0)","v":0},{"$f":"IFERROR($E201*SUMIF('Daily Log'!$E$18:$E$1017,$B201,'Daily Log'!$F$18:$F$1017),0)","v":0},{"$f":"IFERROR($E201*SUMIF('Daily Log'!$H$18:$H$1017,$B201,'Daily Log'!$I$18:$I$1017),0)","v":0},{"$f":"IFERROR($E201*SUMIF('Daily Log'!$K$18:$K$1017,$B201,'Daily Log'!$L$18:$L$1017),0)","v":0},{"$f":"IFERROR($E201*SUMIF('Daily Log'!$N$18:$N$1017,$B201,'Daily Log'!$O$18:$O$1017),0)","v":0},{"$f":"IFERROR($E201*SUMIF('Daily Log'!$Q$18:$Q$1017,$B201,'Daily Log'!$R$18:$R$1017),0)","v":0},{"$f":"IFERROR($E201*SUMIF('Daily Log'!$T$18:$T$1017,$B201,'Daily Log'!$U$18:$U$1017),0)","v":0},{"$f":"IFERROR($E201*SUMIF('Daily Log'!$W$18:$W$1017,$B201,'Daily Log'!$X$18:$X$1017),0)","v":0},{"$f":"IFERROR($E201*SUMIF('Daily Log'!$Z$18:$Z$1017,$B201,'Daily Log'!$AA$18:$AA$1017),0)","v":0},{"$f":"IFERROR($E201*SUMIF('Daily Log'!$AC$18:$AC$1017,$B201,'Daily Log'!$AD$18:$AD$1017),0)","v":0},{"$f":"IFERROR($E201*SUMIF('Daily Log'!$AF$18:$AF$1017,$B201,'Daily Log'!$AG$18:$AG$1017),0)","v":0},{"$f":"IFERROR($E201*SUMIF('Daily Log'!$AI$18:$AI$1017,$B201,'Daily Log'!$AJ$18:$AJ$1017),0)","v":0},{"$f":"IFERROR($E201*SUMIF('Daily Log'!$AL$18:$AL$1017,$B201,'Daily Log'!$AM$18:$AM$1017),0)","v":0},{"$f":"IFERROR($E201*SUMIF('Daily Log'!$AO$18:$AO$1017,$B201,'Daily Log'!$AP$18:$AP$1017),0)","v":0},{"$f":"IFERROR($E201*SUMIF('Daily Log'!$AR$18:$AR$1017,$B201,'Daily Log'!$AS$18:$AS$1017),0)","v":0},{"$f":"IFERROR($E201*SUMIF('Daily Log'!$AU$18:$AU$1017,$B201,'Daily Log'!$AV$18:$AV$1017),0)","v":0},{"$f":"IFERROR($E201*SUMIF('Daily Log'!$AX$18:$AX$1017,$B201,'Daily Log'!$AY$18:$AY$1017),0)","v":0},{"$f":"IFERROR($E201*SUMIF('Daily Log'!$BA$18:$BA$1017,$B201,'Daily Log'!$BB$18:$BB$1017),0)","v":0},{"$f":"IFERROR($E201*SUMIF('Daily Log'!$BD$18:$BD$1017,$B201,'Daily Log'!$BE$18:$BE$1017),0)","v":0},{"$f":"IFERROR($E201*SUMIF('Daily Log'!$BG$18:$BG$1017,$B201,'Daily Log'!$BH$18:$BH$1017),0)","v":0},{"$f":"IFERROR($E201*SUMIF('Daily Log'!$BJ$18:$BJ$1017,$B201,'Daily Log'!$BK$18:$BK$1017),0)","v":0},{"$f":"IFERROR($E201*SUMIF('Daily Log'!$BM$18:$BM$1017,$B201,'Daily Log'!$BN$18:$BN$1017),0)","v":0},{"$f":"IFERROR($E201*SUMIF('Daily Log'!$BP$18:$BP$1017,$B201,'Daily Log'!$BQ$18:$BQ$1017),0)","v":0},{"$f":"IFERROR($E201*SUMIF('Daily Log'!$BS$18:$BS$1017,$B201,'Daily Log'!$BT$18:$BT$1017),0)","v":0},{"$f":"IFERROR($E201*SUMIF('Daily Log'!$BV$18:$BV$1017,$B201,'Daily Log'!$BW$18:$BW$1017),0)","v":0},{"$f":"IFERROR($E201*SUMIF('Daily Log'!$BY$18:$BY$1017,$B201,'Daily Log'!$BZ$18:$BZ$1017),0)","v":0},{"$f":"IFERROR($E201*SUMIF('Daily Log'!$CB$18:$CB$1017,$B201,'Daily Log'!$CC$18:$CC$1017),0)","v":0},{"$f":"IFERROR($E201*SUMIF('Daily Log'!$CE$18:$CE$1017,$B201,'Daily Log'!$CF$18:$CF$1017),0)","v":0},{"$f":"IFERROR($E201*SUMIF('Daily Log'!$CH$18:$CH$1017,$B201,'Daily Log'!$CI$18:$CI$1017),0)","v":0},{"$f":"IFERROR($E201*SUMIF('Daily Log'!$CK$18:$CK$1017,$B201,'Daily Log'!$CL$18:$CL$1017),0)","v":0},{"$f":"IFERROR($E201*SUMIF('Daily Log'!$CN$18:$CN$1017,$B201,'Daily Log'!$CO$18:$CO$1017),0)","v":0}]
[null,"11540:S01-小热狗包",null,"SIDE ORDER -SNACK",1,8,{"$f":"IFERROR($E202*SUMIF('Daily Log'!$B$18:$B$1017,$B202,'Daily Log'!$C$18:$C$1017),0)","v":0},{"$f":"IFERROR($E202*SUMIF('Daily Log'!$E$18:$E$1017,$B202,'Daily Log'!$F$18:$F$1017),0)","v":0},{"$f":"IFERROR($E202*SUMIF('Daily Log'!$H$18:$H$1017,$B202,'Daily Log'!$I$18:$I$1017),0)","v":0},{"$f":"IFERROR($E202*SUMIF('Daily Log'!$K$18:$K$1017,$B202,'Daily Log'!$L$18:$L$1017),0)","v":0},{"$f":"IFERROR($E202*SUMIF('Daily Log'!$N$18:$N$1017,$B202,'Daily Log'!$O$18:$O$1017),0)","v":0},{"$f":"IFERROR($E202*SUMIF('Daily Log'!$Q$18:$Q$1017,$B202,'Daily Log'!$R$18:$R$1017),0)","v":0},{"$f":"IFERROR($E202*SUMIF('Daily Log'!$T$18:$T$1017,$B202,'Daily Log'!$U$18:$U$1017),0)","v":3},{"$f":"IFERROR($E202*SUMIF('Daily Log'!$W$18:$W$1017,$B202,'Daily Log'!$X$18:$X$1017),0)","v":1},{"$f":"IFERROR($E202*SUMIF('Daily Log'!$Z$18:$Z$1017,$B202,'Daily Log'!$AA$18:$AA$1017),0)","v":0},{"$f":"IFERROR($E202*SUMIF('Daily Log'!$AC$18:$AC$1017,$B202,'Daily Log'!$AD$18:$AD$1017),0)","v":0},{"$f":"IFERROR($E202*SUMIF('Daily Log'!$AF$18:$AF$1017,$B202,'Daily Log'!$AG$18:$AG$1017),0)","v":0},{"$f":"IFERROR($E202*SUMIF('Daily Log'!$AI$18:$AI$1017,$B202,'Daily Log'!$AJ$18:$AJ$1017),0)","v":2},{"$f":"IFERROR($E202*SUMIF('Daily Log'!$AL$18:$AL$1017,$B202,'Daily Log'!$AM$18:$AM$1017),0)","v":2},{"$f":"IFERROR($E202*SUMIF('Daily Log'!$AO$18:$AO$1017,$B202,'Daily Log'!$AP$18:$AP$1017),0)","v":0},{"$f":"IFERROR($E202*SUMIF('Daily Log'!$AR$18:$AR$1017,$B202,'Daily Log'!$AS$18:$AS$1017),0)","v":0},{"$f":"IFERROR($E202*SUMIF('Daily Log'!$AU$18:$AU$1017,$B202,'Daily Log'!$AV$18:$AV$1017),0)","v":0},{"$f":"IFERROR($E202*SUMIF('Daily Log'!$AX$18:$AX$1017,$B202,'Daily Log'!$AY$18:$AY$1017),0)","v":0},{"$f":"IFERROR($E202*SUMIF('Daily Log'!$BA$18:$BA$1017,$B202,'Daily Log'!$BB$18:$BB$1017),0)","v":0},{"$f":"IFERROR($E202*SUMIF('Daily Log'!$BD$18:$BD$1017,$B202,'Daily Log'!$BE$18:$BE$1017),0)","v":0},{"$f":"IFERROR($E202*SUMIF('Daily Log'!$BG$18:$BG$1017,$B202,'Daily Log'!$BH$18:$BH$1017),0)","v":0},{"$f":"IFERROR($E202*SUMIF('Daily Log'!$BJ$18:$BJ$1017,$B202,'Daily Log'!$BK$18:$BK$1017),0)","v":0},{"$f":"IFERROR($E202*SUMIF('Daily Log'!$BM$18:$BM$1017,$B202,'Daily Log'!$BN$18:$BN$1017),0)","v":0},{"$f":"IFERROR($E202*SUMIF('Daily Log'!$BP$18:$BP$1017,$B202,'Daily Log'!$BQ$18:$BQ$1017),0)","v":0},{"$f":"IFERROR($E202*SUMIF('Daily Log'!$BS$18:$BS$1017,$B202,'Daily Log'!$BT$18:$BT$1017),0)","v":0},{"$f":"IFERROR($E202*SUMIF('Daily Log'!$BV$18:$BV$1017,$B202,'Daily Log'!$BW$18:$BW$1017),0)","v":0},{"$f":"IFERROR($E202*SUMIF('Daily Log'!$BY$18:$BY$1017,$B202,'Daily Log'!$BZ$18:$BZ$1017),0)","v":0},{"$f":"IFERROR($E202*SUMIF('Daily Log'!$CB$18:$CB$1017,$B202,'Daily Log'!$CC$18:$CC$1017),0)","v":0},{"$f":"IFERROR($E202*SUMIF('Daily Log'!$CE$18:$CE$1017,$B202,'Daily Log'!$CF$18:$CF$1017),0)","v":0},{"$f":"IFERROR($E202*SUMIF('Daily Log'!$CH$18:$CH$1017,$B202,'Daily Log'!$CI$18:$CI$1017),0)","v":0},{"$f":"IFERROR($E202*SUMIF('Daily Log'!$CK$18:$CK$1017,$B202,'Daily Log'!$CL$18:$CL$1017),0)","v":0},{"$f":"IFERROR($E202*SUMIF('Daily Log'!$CN$18:$CN$1017,$B202,'Daily Log'!$CO$18:$CO$1017),0)","v":0}]
[null,"11542:S04-小肠弯弯",null,"SIDE ORDER -SNACK",1,19,{"$f":"IFERROR($E203*SUMIF('Daily Log'!$B$18:$B$1017,$B203,'Daily Log'!$C$18:$C$1017),0)","v":0},{"$f":"IFERROR($E203*SUMIF('Daily Log'!$E$18:$E$1017,$B203,'Daily Log'!$F$18:$F$1017),0)","v":0},{"$f":"IFERROR($E203*SUMIF('Daily Log'!$H$18:$H$1017,$B203,'Daily Log'!$I$18:$I$1017),0)","v":0},{"$f":"IFERROR($E203*SUMIF('Daily Log'!$K$18:$K$1017,$B203,'Daily Log'!$L$18:$L$1017),0)","v":0},{"$f":"IFERROR($E203*SUMIF('Daily Log'!$N$18:$N$1017,$B203,'Daily Log'!$O$18:$O$1017),0)","v":0},{"$f":"IFERROR($E203*SUMIF('Daily Log'!$Q$18:$Q$1017,$B203,'Daily Log'!$R$18:$R$1017),0)","v":0},{"$f":"IFERROR($E203*SUMIF('Daily Log'!$T$18:$T$1017,$B203,'Daily Log'!$U$18:$U$1017),0)","v":3},{"$f":"IFERROR($E203*SUMIF('Daily Log'!$W$18:$W$1017,$B203,'Daily Log'!$X$18:$X$1017),0)","v":0},{"$f":"IFERROR($E203*SUMIF('Daily Log'!$Z$18:$Z$1017,$B203,'Daily Log'!$AA$18:$AA$1017),0)","v":2},{"$f":"IFERROR($E203*SUMIF('Daily Log'!$AC$18:$AC$1017,$B203,'Daily Log'!$AD$18:$AD$1017),0)","v":3},{"$f":"IFERROR($E203*SUMIF('Daily Log'!$AF$18:$AF$1017,$B203,'Daily Log'!$AG$18:$AG$1017),0)","v":2},{"$f":"IFERROR($E203*SUMIF('Daily Log'!$AI$18:$AI$1017,$B203,'Daily Log'!$AJ$18:$AJ$1017),0)","v":5},{"$f":"IFERROR($E203*SUMIF('Daily Log'!$AL$18:$AL$1017,$B203,'Daily Log'!$AM$18:$AM$1017),0)","v":4},{"$f":"IFERROR($E203*SUMIF('Daily Log'!$AO$18:$AO$1017,$B203,'Daily Log'!$AP$18:$AP$1017),0)","v":0},{"$f":"IFERROR($E203*SUMIF('Daily Log'!$AR$18:$AR$1017,$B203,'Daily Log'!$AS$18:$AS$1017),0)","v":0},{"$f":"IFERROR($E203*SUMIF('Daily Log'!$AU$18:$AU$1017,$B203,'Daily Log'!$AV$18:$AV$1017),0)","v":0},{"$f":"IFERROR($E203*SUMIF('Daily Log'!$AX$18:$AX$1017,$B203,'Daily Log'!$AY$18:$AY$1017),0)","v":0},{"$f":"IFERROR($E203*SUMIF('Daily Log'!$BA$18:$BA$1017,$B203,'Daily Log'!$BB$18:$BB$1017),0)","v":0},{"$f":"IFERROR($E203*SUMIF('Daily Log'!$BD$18:$BD$1017,$B203,'Daily Log'!$BE$18:$BE$1017),0)","v":0},{"$f":"IFERROR($E203*SUMIF('Daily Log'!$BG$18:$BG$1017,$B203,'Daily Log'!$BH$18:$BH$1017),0)","v":0},{"$f":"IFERROR($E203*SUMIF('Daily Log'!$BJ$18:$BJ$1017,$B203,'Daily Log'!$BK$18:$BK$1017),0)","v":0},{"$f":"IFERROR($E203*SUMIF('Daily Log'!$BM$18:$BM$1017,$B203,'Daily Log'!$BN$18:$BN$1017),0)","v":0},{"$f":"IFERROR($E203*SUMIF('Daily Log'!$BP$18:$BP$1017,$B203,'Daily Log'!$BQ$18:$BQ$1017),0)","v":0},{"$f":"IFERROR($E203*SUMIF('Daily Log'!$BS$18:$BS$1017,$B203,'Daily Log'!$BT$18:$BT$1017),0)","v":0},{"$f":"IFERROR($E203*SUMIF('Daily Log'!$BV$18:$BV$1017,$B203,'Daily Log'!$BW$18:$BW$1017),0)","v":0},{"$f":"IFERROR($E203*SUMIF('Daily Log'!$BY$18:$BY$1017,$B203,'Daily Log'!$BZ$18:$BZ$1017),0)","v":0},{"$f":"IFERROR($E203*SUMIF('Daily Log'!$CB$18:$CB$1017,$B203,'Daily Log'!$CC$18:$CC$1017),0)","v":0},{"$f":"IFERROR($E203*SUMIF('Daily Log'!$CE$18:$CE$1017,$B203,'Daily Log'!$CF$18:$CF$1017),0)","v":0},{"$f":"IFERROR($E203*SUMIF('Daily Log'!$CH$18:$CH$1017,$B203,'Daily Log'!$CI$18:$CI$1017),0)","v":0},{"$f":"IFERROR($E203*SUMIF('Daily Log'!$CK$18:$CK$1017,$B203,'Daily Log'!$CL$18:$CL$1017),0)","v":0},{"$f":"IFERROR($E203*SUMIF('Daily Log'!$CN$18:$CN$1017,$B203,'Daily Log'!$CO$18:$CO$1017),0)","v":0}]
[null,"11531:W01-香煎鸡扒",null,"SIDE ORDER -WESTERN CRUISE",1,109,{"$f":"IFERROR($E204*SUMIF('Daily Log'!$B$18:$B$1017,$B204,'Daily Log'!$C$18:$C$1017),0)","v":0},{"$f":"IFERROR($E204*SUMIF('Daily Log'!$E$18:$E$1017,$B204,'Daily Log'!$F$18:$F$1017),0)","v":0},{"$f":"IFERROR($E204*SUMIF('Daily Log'!$H$18:$H$1017,$B204,'Daily Log'!$I$18:$I$1017),0)","v":0},{"$f":"IFERROR($E204*SUMIF('Daily Log'!$K$18:$K$1017,$B204,'Daily Log'!$L$18:$L$1017),0)","v":0},{"$f":"IFERROR($E204*SUMIF('Daily Log'!$N$18:$N$1017,$B204,'Daily Log'!$O$18:$O$1017),0)","v":0},{"$f":"IFERROR($E204*SUMIF('Daily Log'!$Q$18:$Q$1017,$B204,'Daily Log'!$R$18:$R$1017),0)","v":0},{"$f":"IFERROR($E204*SUMIF('Daily Log'!$T$18:$T$1017,$B204,'Daily Log'!$U$18:$U$1017),0)","v":8},{"$f":"IFERROR($E204*SUMIF('Daily Log'!$W$18:$W$1017,$B204,'Daily Log'!$X$18:$X$1017),0)","v":11},{"$f":"IFERROR($E204*SUMIF('Daily Log'!$Z$18:$Z$1017,$B204,'Daily Log'!$AA$18:$AA$1017),0)","v":23},{"$f":"IFERROR($E204*SUMIF('Daily Log'!$AC$18:$AC$1017,$B204,'Daily Log'!$AD$18:$AD$1017),0)","v":23},{"$f":"IFERROR($E204*SUMIF('Daily Log'!$AF$18:$AF$1017,$B204,'Daily Log'!$AG$18:$AG$1017),0)","v":16},{"$f":"IFERROR($E204*SUMIF('Daily Log'!$AI$18:$AI$1017,$B204,'Daily Log'!$AJ$18:$AJ$1017),0)","v":11},{"$f":"IFERROR($E204*SUMIF('Daily Log'!$AL$18:$AL$1017,$B204,'Daily Log'!$AM$18:$AM$1017),0)","v":17},{"$f":"IFERROR($E204*SUMIF('Daily Log'!$AO$18:$AO$1017,$B204,'Daily Log'!$AP$18:$AP$1017),0)","v":0},{"$f":"IFERROR($E204*SUMIF('Daily Log'!$AR$18:$AR$1017,$B204,'Daily Log'!$AS$18:$AS$1017),0)","v":0},{"$f":"IFERROR($E204*SUMIF('Daily Log'!$AU$18:$AU$1017,$B204,'Daily Log'!$AV$18:$AV$1017),0)","v":0},{"$f":"IFERROR($E204*SUMIF('Daily Log'!$AX$18:$AX$1017,$B204,'Daily Log'!$AY$18:$AY$1017),0)","v":0},{"$f":"IFERROR($E204*SUMIF('Daily Log'!$BA$18:$BA$1017,$B204,'Daily Log'!$BB$18:$BB$1017),0)","v":0},{"$f":"IFERROR($E204*SUMIF('Daily Log'!$BD$18:$BD$1017,$B204,'Daily Log'!$BE$18:$BE$1017),0)","v":0},{"$f":"IFERROR($E204*SUMIF('Daily Log'!$BG$18:$BG$1017,$B204,'Daily Log'!$BH$18:$BH$1017),0)","v":0},{"$f":"IFERROR($E204*SUMIF('Daily Log'!$BJ$18:$BJ$1017,$B204,'Daily Log'!$BK$18:$BK$1017),0)","v":0},{"$f":"IFERROR($E204*SUMIF('Daily Log'!$BM$18:$BM$1017,$B204,'Daily Log'!$BN$18:$BN$1017),0)","v":0},{"$f":"IFERROR($E204*SUMIF('Daily Log'!$BP$18:$BP$1017,$B204,'Daily Log'!$BQ$18:$BQ$1017),0)","v":0},{"$f":"IFERROR($E204*SUMIF('Daily Log'!$BS$18:$BS$1017,$B204,'Daily Log'!$BT$18:$BT$1017),0)","v":0},{"$f":"IFERROR($E204*SUMIF('Daily Log'!$BV$18:$BV$1017,$B204,'Daily Log'!$BW$18:$BW$1017),0)","v":0},{"$f":"IFERROR($E204*SUMIF('Daily Log'!$BY$18:$BY$1017,$B204,'Daily Log'!$BZ$18:$BZ$1017),0)","v":0},{"$f":"IFERROR($E204*SUMIF('Daily Log'!$CB$18:$CB$1017,$B204,'Daily Log'!$CC$18:$CC$1017),0)","v":0},{"$f":"IFERROR($E204*SUMIF('Daily Log'!$CE$18:$CE$1017,$B204,'Daily Log'!$CF$18:$CF$1017),0)","v":0},{"$f":"IFERROR($E204*SUMIF('Daily Log'!$CH$18:$CH$1017,$B204,'Daily Log'!$CI$18:$CI$1017),0)","v":0},{"$f":"IFERROR($E204*SUMIF('Daily Log'!$CK$18:$CK$1017,$B204,'Daily Log'!$CL$18:$CL$1017),0)","v":0},{"$f":"IFERROR($E204*SUMIF('Daily Log'!$CN$18:$CN$1017,$B204,'Daily Log'!$CO$18:$CO$1017),0)","v":0}]
[null,"11532:W03-马里兰鸡扒",null,"SIDE ORDER -WESTERN CRUISE",1,18,{"$f":"IFERROR($E205*SUMIF('Daily Log'!$B$18:$B$1017,$B205,'Daily Log'!$C$18:$C$1017),0)","v":0},{"$f":"IFERROR($E205*SUMIF('Daily Log'!$E$18:$E$1017,$B205,'Daily Log'!$F$18:$F$1017),0)","v":0},{"$f":"IFERROR($E205*SUMIF('Daily Log'!$H$18:$H$1017,$B205,'Daily Log'!$I$18:$I$1017),0)","v":0},{"$f":"IFERROR($E205*SUMIF('Daily Log'!$K$18:$K$1017,$B205,'Daily Log'!$L$18:$L$1017),0)","v":0},{"$f":"IFERROR($E205*SUMIF('Daily Log'!$N$18:$N$1017,$B205,'Daily Log'!$O$18:$O$1017),0)","v":0},{"$f":"IFERROR($E205*SUMIF('Daily Log'!$Q$18:$Q$1017,$B205,'Daily Log'!$R$18:$R$1017),0)","v":0},{"$f":"IFERROR($E205*SUMIF('Daily Log'!$T$18:$T$1017,$B205,'Daily Log'!$U$18:$U$1017),0)","v":2},{"$f":"IFERROR($E205*SUMIF('Daily Log'!$W$18:$W$1017,$B205,'Daily Log'!$X$18:$X$1017),0)","v":5},{"$f":"IFERROR($E205*SUMIF('Daily Log'!$Z$18:$Z$1017,$B205,'Daily Log'!$AA$18:$AA$1017),0)","v":1},{"$f":"IFERROR($E205*SUMIF('Daily Log'!$AC$18:$AC$1017,$B205,'Daily Log'!$AD$18:$AD$1017),0)","v":4},{"$f":"IFERROR($E205*SUMIF('Daily Log'!$AF$18:$AF$1017,$B205,'Daily Log'!$AG$18:$AG$1017),0)","v":1},{"$f":"IFERROR($E205*SUMIF('Daily Log'!$AI$18:$AI$1017,$B205,'Daily Log'!$AJ$18:$AJ$1017),0)","v":3},{"$f":"IFERROR($E205*SUMIF('Daily Log'!$AL$18:$AL$1017,$B205,'Daily Log'!$AM$18:$AM$1017),0)","v":2},{"$f":"IFERROR($E205*SUMIF('Daily Log'!$AO$18:$AO$1017,$B205,'Daily Log'!$AP$18:$AP$1017),0)","v":0},{"$f":"IFERROR($E205*SUMIF('Daily Log'!$AR$18:$AR$1017,$B205,'Daily Log'!$AS$18:$AS$1017),0)","v":0},{"$f":"IFERROR($E205*SUMIF('Daily Log'!$AU$18:$AU$1017,$B205,'Daily Log'!$AV$18:$AV$1017),0)","v":0},{"$f":"IFERROR($E205*SUMIF('Daily Log'!$AX$18:$AX$1017,$B205,'Daily Log'!$AY$18:$AY$1017),0)","v":0},{"$f":"IFERROR($E205*SUMIF('Daily Log'!$BA$18:$BA$1017,$B205,'Daily Log'!$BB$18:$BB$1017),0)","v":0},{"$f":"IFERROR($E205*SUMIF('Daily Log'!$BD$18:$BD$1017,$B205,'Daily Log'!$BE$18:$BE$1017),0)","v":0},{"$f":"IFERROR($E205*SUMIF('Daily Log'!$BG$18:$BG$1017,$B205,'Daily Log'!$BH$18:$BH$1017),0)","v":0},{"$f":"IFERROR($E205*SUMIF('Daily Log'!$BJ$18:$BJ$1017,$B205,'Daily Log'!$BK$18:$BK$1017),0)","v":0},{"$f":"IFERROR($E205*SUMIF('Daily Log'!$BM$18:$BM$1017,$B205,'Daily Log'!$BN$18:$BN$1017),0)","v":0},{"$f":"IFERROR($E205*SUMIF('Daily Log'!$BP$18:$BP$1017,$B205,'Daily Log'!$BQ$18:$BQ$1017),0)","v":0},{"$f":"IFERROR($E205*SUMIF('Daily Log'!$BS$18:$BS$1017,$B205,'Daily Log'!$BT$18:$BT$1017),0)","v":0},{"$f":"IFERROR($E205*SUMIF('Daily Log'!$BV$18:$BV$1017,$B205,'Daily Log'!$BW$18:$BW$1017),0)","v":0},{"$f":"IFERROR($E205*SUMIF('Daily Log'!$BY$18:$BY$1017,$B205,'Daily Log'!$BZ$18:$BZ$1017),0)","v":0},{"$f":"IFERROR($E205*SUMIF('Daily Log'!$CB$18:$CB$1017,$B205,'Daily Log'!$CC$18:$CC$1017),0)","v":0},{"$f":"IFERROR($E205*SUMIF('Daily Log'!$CE$18:$CE$1017,$B205,'Daily Log'!$CF$18:$CF$1017),0)","v":0},{"$f":"IFERROR($E205*SUMIF('Daily Log'!$CH$18:$CH$1017,$B205,'Daily Log'!$CI$18:$CI$1017),0)","v":0},{"$f":"IFERROR($E205*SUMIF('Daily Log'!$CK$18:$CK$1017,$B205,'Daily Log'!$CL$18:$CL$1017),0)","v":0},{"$f":"IFERROR($E205*SUMIF('Daily Log'!$CN$18:$CN$1017,$B205,'Daily Log'!$CO$18:$CO$1017),0)","v":0}]
[null,"11533:W02-香炸鱼扒",null,"SIDE ORDER -WESTERN CRUISE",1,21,{"$f":"IFERROR($E206*SUMIF('Daily Log'!$B$18:$B$1017,$B206,'Daily Log'!$C$18:$C$1017),0)","v":0},{"$f":"IFERROR($E206*SUMIF('Daily Log'!$E$18:$E$1017,$B206,'Daily Log'!$F$18:$F$1017),0)","v":0},{"$f":"IFERROR($E206*SUMIF('Daily Log'!$H$18:$H$1017,$B206,'Daily Log'!$I$18:$I$1017),0)","v":0},{"$f":"IFERROR($E206*SUMIF('Daily Log'!$K$18:$K$1017,$B206,'Daily Log'!$L$18:$L$1017),0)","v":0},{"$f":"IFERROR($E206*SUMIF('Daily Log'!$N$18:$N$1017,$B206,'Daily Log'!$O$18:$O$1017),0)","v":0},{"$f":"IFERROR($E206*SUMIF('Daily Log'!$Q$18:$Q$1017,$B206,'Daily Log'!$R$18:$R$1017),0)","v":0},{"$f":"IFERROR($E206*SUMIF('Daily Log'!$T$18:$T$1017,$B206,'Daily Log'!$U$18:$U$1017),0)","v":1},{"$f":"IFERROR($E206*SUMIF('Daily Log'!$W$18:$W$1017,$B206,'Daily Log'!$X$18:$X$1017),0)","v":3},{"$f":"IFERROR($E206*SUMIF('Daily Log'!$Z$18:$Z$1017,$B206,'Daily Log'!$AA$18:$AA$1017),0)","v":3},{"$f":"IFERROR($E206*SUMIF('Daily Log'!$AC$18:$AC$1017,$B206,'Daily Log'!$AD$18:$AD$1017),0)","v":5},{"$f":"IFERROR($E206*SUMIF('Daily Log'!$AF$18:$AF$1017,$B206,'Daily Log'!$AG$18:$AG$1017),0)","v":5},{"$f":"IFERROR($E206*SUMIF('Daily Log'!$AI$18:$AI$1017,$B206,'Daily Log'!$AJ$18:$AJ$1017),0)","v":0},{"$f":"IFERROR($E206*SUMIF('Daily Log'!$AL$18:$AL$1017,$B206,'Daily Log'!$AM$18:$AM$1017),0)","v":4},{"$f":"IFERROR($E206*SUMIF('Daily Log'!$AO$18:$AO$1017,$B206,'Daily Log'!$AP$18:$AP$1017),0)","v":0},{"$f":"IFERROR($E206*SUMIF('Daily Log'!$AR$18:$AR$1017,$B206,'Daily Log'!$AS$18:$AS$1017),0)","v":0},{"$f":"IFERROR($E206*SUMIF('Daily Log'!$AU$18:$AU$1017,$B206,'Daily Log'!$AV$18:$AV$1017),0)","v":0},{"$f":"IFERROR($E206*SUMIF('Daily Log'!$AX$18:$AX$1017,$B206,'Daily Log'!$AY$18:$AY$1017),0)","v":0},{"$f":"IFERROR($E206*SUMIF('Daily Log'!$BA$18:$BA$1017,$B206,'Daily Log'!$BB$18:$BB$1017),0)","v":0},{"$f":"IFERROR($E206*SUMIF('Daily Log'!$BD$18:$BD$1017,$B206,'Daily Log'!$BE$18:$BE$1017),0)","v":0},{"$f":"IFERROR($E206*SUMIF('Daily Log'!$BG$18:$BG$1017,$B206,'Daily Log'!$BH$18:$BH$1017),0)","v":0},{"$f":"IFERROR($E206*SUMIF('Daily Log'!$BJ$18:$BJ$1017,$B206,'Daily Log'!$BK$18:$BK$1017),0)","v":0},{"$f":"IFERROR($E206*SUMIF('Daily Log'!$BM$18:$BM$1017,$B206,'Daily Log'!$BN$18:$BN$1017),0)","v":0},{"$f":"IFERROR($E206*SUMIF('Daily Log'!$BP$18:$BP$1017,$B206,'Daily Log'!$BQ$18:$BQ$1017),0)","v":0},{"$f":"IFERROR($E206*SUMIF('Daily Log'!$BS$18:$BS$1017,$B206,'Daily Log'!$BT$18:$BT$1017),0)","v":0},{"$f":"IFERROR($E206*SUMIF('Daily Log'!$BV$18:$BV$1017,$B206,'Daily Log'!$BW$18:$BW$1017),0)","v":0},{"$f":"IFERROR($E206*SUMIF('Daily Log'!$BY$18:$BY$1017,$B206,'Daily Log'!$BZ$18:$BZ$1017),0)","v":0},{"$f":"IFERROR($E206*SUMIF('Daily Log'!$CB$18:$CB$1017,$B206,'Daily Log'!$CC$18:$CC$1017),0)","v":0},{"$f":"IFERROR($E206*SUMIF('Daily Log'!$CE$18:$CE$1017,$B206,'Daily Log'!$CF$18:$CF$1017),0)","v":0},{"$f":"IFERROR($E206*SUMIF('Daily Log'!$CH$18:$CH$1017,$B206,'Daily Log'!$CI$18:$CI$1017),0)","v":0},{"$f":"IFERROR($E206*SUMIF('Daily Log'!$CK$18:$CK$1017,$B206,'Daily Log'!$CL$18:$CL$1017),0)","v":0},{"$f":"IFERROR($E206*SUMIF('Daily Log'!$CN$18:$CN$1017,$B206,'Daily Log'!$CO$18:$CO$1017),0)","v":0}]
[null,"11501:C01-泰式鸡饭",null,"SIDE ORDER-ASIAN CRUISE",1,36,{"$f":"IFERROR($E207*SUMIF('Daily Log'!$B$18:$B$1017,$B207,'Daily Log'!$C$18:$C$1017),0)","v":0},{"$f":"IFERROR($E207*SUMIF('Daily Log'!$E$18:$E$1017,$B207,'Daily Log'!$F$18:$F$1017),0)","v":0},{"$f":"IFERROR($E207*SUMIF('Daily Log'!$H$18:$H$1017,$B207,'Daily Log'!$I$18:$I$1017),0)","v":0},{"$f":"IFERROR($E207*SUMIF('Daily Log'!$K$18:$K$1017,$B207,'Daily Log'!$L$18:$L$1017),0)","v":0},{"$f":"IFERROR($E207*SUMIF('Daily Log'!$N$18:$N$1017,$B207,'Daily Log'!$O$18:$O$1017),0)","v":0},{"$f":"IFERROR($E207*SUMIF('Daily Log'!$Q$18:$Q$1017,$B207,'Daily Log'!$R$18:$R$1017),0)","v":0},{"$f":"IFERROR($E207*SUMIF('Daily Log'!$T$18:$T$1017,$B207,'Daily Log'!$U$18:$U$1017),0)","v":4},{"$f":"IFERROR($E207*SUMIF('Daily Log'!$W$18:$W$1017,$B207,'Daily Log'!$X$18:$X$1017),0)","v":2},{"$f":"IFERROR($E207*SUMIF('Daily Log'!$Z$18:$Z$1017,$B207,'Daily Log'!$AA$18:$AA$1017),0)","v":5},{"$f":"IFERROR($E207*SUMIF('Daily Log'!$AC$18:$AC$1017,$B207,'Daily Log'!$AD$18:$AD$1017),0)","v":13},{"$f":"IFERROR($E207*SUMIF('Daily Log'!$AF$18:$AF$1017,$B207,'Daily Log'!$AG$18:$AG$1017),0)","v":8},{"$f":"IFERROR($E207*SUMIF('Daily Log'!$AI$18:$AI$1017,$B207,'Daily Log'!$AJ$18:$AJ$1017),0)","v":0},{"$f":"IFERROR($E207*SUMIF('Daily Log'!$AL$18:$AL$1017,$B207,'Daily Log'!$AM$18:$AM$1017),0)","v":4},{"$f":"IFERROR($E207*SUMIF('Daily Log'!$AO$18:$AO$1017,$B207,'Daily Log'!$AP$18:$AP$1017),0)","v":0},{"$f":"IFERROR($E207*SUMIF('Daily Log'!$AR$18:$AR$1017,$B207,'Daily Log'!$AS$18:$AS$1017),0)","v":0},{"$f":"IFERROR($E207*SUMIF('Daily Log'!$AU$18:$AU$1017,$B207,'Daily Log'!$AV$18:$AV$1017),0)","v":0},{"$f":"IFERROR($E207*SUMIF('Daily Log'!$AX$18:$AX$1017,$B207,'Daily Log'!$AY$18:$AY$1017),0)","v":0},{"$f":"IFERROR($E207*SUMIF('Daily Log'!$BA$18:$BA$1017,$B207,'Daily Log'!$BB$18:$BB$1017),0)","v":0},{"$f":"IFERROR($E207*SUMIF('Daily Log'!$BD$18:$BD$1017,$B207,'Daily Log'!$BE$18:$BE$1017),0)","v":0},{"$f":"IFERROR($E207*SUMIF('Daily Log'!$BG$18:$BG$1017,$B207,'Daily Log'!$BH$18:$BH$1017),0)","v":0},{"$f":"IFERROR($E207*SUMIF('Daily Log'!$BJ$18:$BJ$1017,$B207,'Daily Log'!$BK$18:$BK$1017),0)","v":0},{"$f":"IFERROR($E207*SUMIF('Daily Log'!$BM$18:$BM$1017,$B207,'Daily Log'!$BN$18:$BN$1017),0)","v":0},{"$f":"IFERROR($E207*SUMIF('Daily Log'!$BP$18:$BP$1017,$B207,'Daily Log'!$BQ$18:$BQ$1017),0)","v":0},{"$f":"IFERROR($E207*SUMIF('Daily Log'!$BS$18:$BS$1017,$B207,'Daily Log'!$BT$18:$BT$1017),0)","v":0},{"$f":"IFERROR($E207*SUMIF('Daily Log'!$BV$18:$BV$1017,$B207,'Daily Log'!$BW$18:$BW$1017),0)","v":0},{"$f":"IFERROR($E207*SUMIF('Daily Log'!$BY$18:$BY$1017,$B207,'Daily Log'!$BZ$18:$BZ$1017),0)","v":0},{"$f":"IFERROR($E207*SUMIF('Daily Log'!$CB$18:$CB$1017,$B207,'Daily Log'!$CC$18:$CC$1017),0)","v":0},{"$f":"IFERROR($E207*SUMIF('Daily Log'!$CE$18:$CE$1017,$B207,'Daily Log'!$CF$18:$CF$1017),0)","v":0},{"$f":"IFERROR($E207*SUMIF('Daily Log'!$CH$18:$CH$1017,$B207,'Daily Log'!$CI$18:$CI$1017),0)","v":0},{"$f":"IFERROR($E207*SUMIF('Daily Log'!$CK$18:$CK$1017,$B207,'Daily Log'!$CL$18:$CL$1017),0)","v":0},{"$f":"IFERROR($E207*SUMIF('Daily Log'!$CN$18:$CN$1017,$B207,'Daily Log'!$CO$18:$CO$1017),0)","v":0}]
[null,"11502:C02-妈蜜鸡饭",null,"SIDE ORDER-ASIAN CRUISE",1,50,{"$f":"IFERROR($E208*SUMIF('Daily Log'!$B$18:$B$1017,$B208,'Daily Log'!$C$18:$C$1017),0)","v":0},{"$f":"IFERROR($E208*SUMIF('Daily Log'!$E$18:$E$1017,$B208,'Daily Log'!$F$18:$F$1017),0)","v":0},{"$f":"IFERROR($E208*SUMIF('Daily Log'!$H$18:$H$1017,$B208,'Daily Log'!$I$18:$I$1017),0)","v":0},{"$f":"IFERROR($E208*SUMIF('Daily Log'!$K$18:$K$1017,$B208,'Daily Log'!$L$18:$L$1017),0)","v":0},{"$f":"IFERROR($E208*SUMIF('Daily Log'!$N$18:$N$1017,$B208,'Daily Log'!$O$18:$O$1017),0)","v":0},{"$f":"IFERROR($E208*SUMIF('Daily Log'!$Q$18:$Q$1017,$B208,'Daily Log'!$R$18:$R$1017),0)","v":0},{"$f":"IFERROR($E208*SUMIF('Daily Log'!$T$18:$T$1017,$B208,'Daily Log'!$U$18:$U$1017),0)","v":10},{"$f":"IFERROR($E208*SUMIF('Daily Log'!$W$18:$W$1017,$B208,'Daily Log'!$X$18:$X$1017),0)","v":5},{"$f":"IFERROR($E208*SUMIF('Daily Log'!$Z$18:$Z$1017,$B208,'Daily Log'!$AA$18:$AA$1017),0)","v":3},{"$f":"IFERROR($E208*SUMIF('Daily Log'!$AC$18:$AC$1017,$B208,'Daily Log'!$AD$18:$AD$1017),0)","v":15},{"$f":"IFERROR($E208*SUMIF('Daily Log'!$AF$18:$AF$1017,$B208,'Daily Log'!$AG$18:$AG$1017),0)","v":6},{"$f":"IFERROR($E208*SUMIF('Daily Log'!$AI$18:$AI$1017,$B208,'Daily Log'!$AJ$18:$AJ$1017),0)","v":7},{"$f":"IFERROR($E208*SUMIF('Daily Log'!$AL$18:$AL$1017,$B208,'Daily Log'!$AM$18:$AM$1017),0)","v":4},{"$f":"IFERROR($E208*SUMIF('Daily Log'!$AO$18:$AO$1017,$B208,'Daily Log'!$AP$18:$AP$1017),0)","v":0},{"$f":"IFERROR($E208*SUMIF('Daily Log'!$AR$18:$AR$1017,$B208,'Daily Log'!$AS$18:$AS$1017),0)","v":0},{"$f":"IFERROR($E208*SUMIF('Daily Log'!$AU$18:$AU$1017,$B208,'Daily Log'!$AV$18:$AV$1017),0)","v":0},{"$f":"IFERROR($E208*SUMIF('Daily Log'!$AX$18:$AX$1017,$B208,'Daily Log'!$AY$18:$AY$1017),0)","v":0},{"$f":"IFERROR($E208*SUMIF('Daily Log'!$BA$18:$BA$1017,$B208,'Daily Log'!$BB$18:$BB$1017),0)","v":0},{"$f":"IFERROR($E208*SUMIF('Daily Log'!$BD$18:$BD$1017,$B208,'Daily Log'!$BE$18:$BE$1017),0)","v":0},{"$f":"IFERROR($E208*SUMIF('Daily Log'!$BG$18:$BG$1017,$B208,'Daily Log'!$BH$18:$BH$1017),0)","v":0},{"$f":"IFERROR($E208*SUMIF('Daily Log'!$BJ$18:$BJ$1017,$B208,'Daily Log'!$BK$18:$BK$1017),0)","v":0},{"$f":"IFERROR($E208*SUMIF('Daily Log'!$BM$18:$BM$1017,$B208,'Daily Log'!$BN$18:$BN$1017),0)","v":0},{"$f":"IFERROR($E208*SUMIF('Daily Log'!$BP$18:$BP$1017,$B208,'Daily Log'!$BQ$18:$BQ$1017),0)","v":0},{"$f":"IFERROR($E208*SUMIF('Daily Log'!$BS$18:$BS$1017,$B208,'Daily Log'!$BT$18:$BT$1017),0)","v":0},{"$f":"IFERROR($E208*SUMIF('Daily Log'!$BV$18:$BV$1017,$B208,'Daily Log'!$BW$18:$BW$1017),0)","v":0},{"$f":"IFERROR($E208*SUMIF('Daily Log'!$BY$18:$BY$1017,$B208,'Daily Log'!$BZ$18:$BZ$1017),0)","v":0},{"$f":"IFERROR($E208*SUMIF('Daily Log'!$CB$18:$CB$1017,$B208,'Daily Log'!$CC$18:$CC$1017),0)","v":0},{"$f":"IFERROR($E208*SUMIF('Daily Log'!$CE$18:$CE$1017,$B208,'Daily Log'!$CF$18:$CF$1017),0)","v":0},{"$f":"IFERROR($E208*SUMIF('Daily Log'!$CH$18:$CH$1017,$B208,'Daily Log'!$CI$18:$CI$1017),0)","v":0},{"$f":"IFERROR($E208*SUMIF('Daily Log'!$CK$18:$CK$1017,$B208,'Daily Log'!$CL$18:$CL$1017),0)","v":0},{"$f":"IFERROR($E208*SUMIF('Daily Log'!$CN$18:$CN$1017,$B208,'Daily Log'!$CO$18:$CO$1017),0)","v":0}]
[null,"11505:C03-奶油鸡饭",null,"SIDE ORDER-ASIAN CRUISE",1,68,{"$f":"IFERROR($E209*SUMIF('Daily Log'!$B$18:$B$1017,$B209,'Daily Log'!$C$18:$C$1017),0)","v":0},{"$f":"IFERROR($E209*SUMIF('Daily Log'!$E$18:$E$1017,$B209,'Daily Log'!$F$18:$F$1017),0)","v":0},{"$f":"IFERROR($E209*SUMIF('Daily Log'!$H$18:$H$1017,$B209,'Daily Log'!$I$18:$I$1017),0)","v":0},{"$f":"IFERROR($E209*SUMIF('Daily Log'!$K$18:$K$1017,$B209,'Daily Log'!$L$18:$L$1017),0)","v":0},{"$f":"IFERROR($E209*SUMIF('Daily Log'!$N$18:$N$1017,$B209,'Daily Log'!$O$18:$O$1017),0)","v":0},{"$f":"IFERROR($E209*SUMIF('Daily Log'!$Q$18:$Q$1017,$B209,'Daily Log'!$R$18:$R$1017),0)","v":0},{"$f":"IFERROR($E209*SUMIF('Daily Log'!$T$18:$T$1017,$B209,'Daily Log'!$U$18:$U$1017),0)","v":4},{"$f":"IFERROR($E209*SUMIF('Daily Log'!$W$18:$W$1017,$B209,'Daily Log'!$X$18:$X$1017),0)","v":3},{"$f":"IFERROR($E209*SUMIF('Daily Log'!$Z$18:$Z$1017,$B209,'Daily Log'!$AA$18:$AA$1017),0)","v":12},{"$f":"IFERROR($E209*SUMIF('Daily Log'!$AC$18:$AC$1017,$B209,'Daily Log'!$AD$18:$AD$1017),0)","v":18},{"$f":"IFERROR($E209*SUMIF('Daily Log'!$AF$18:$AF$1017,$B209,'Daily Log'!$AG$18:$AG$1017),0)","v":12},{"$f":"IFERROR($E209*SUMIF('Daily Log'!$AI$18:$AI$1017,$B209,'Daily Log'!$AJ$18:$AJ$1017),0)","v":9},{"$f":"IFERROR($E209*SUMIF('Daily Log'!$AL$18:$AL$1017,$B209,'Daily Log'!$AM$18:$AM$1017),0)","v":10},{"$f":"IFERROR($E209*SUMIF('Daily Log'!$AO$18:$AO$1017,$B209,'Daily Log'!$AP$18:$AP$1017),0)","v":0},{"$f":"IFERROR($E209*SUMIF('Daily Log'!$AR$18:$AR$1017,$B209,'Daily Log'!$AS$18:$AS$1017),0)","v":0},{"$f":"IFERROR($E209*SUMIF('Daily Log'!$AU$18:$AU$1017,$B209,'Daily Log'!$AV$18:$AV$1017),0)","v":0},{"$f":"IFERROR($E209*SUMIF('Daily Log'!$AX$18:$AX$1017,$B209,'Daily Log'!$AY$18:$AY$1017),0)","v":0},{"$f":"IFERROR($E209*SUMIF('Daily Log'!$BA$18:$BA$1017,$B209,'Daily Log'!$BB$18:$BB$1017),0)","v":0},{"$f":"IFERROR($E209*SUMIF('Daily Log'!$BD$18:$BD$1017,$B209,'Daily Log'!$BE$18:$BE$1017),0)","v":0},{"$f":"IFERROR($E209*SUMIF('Daily Log'!$BG$18:$BG$1017,$B209,'Daily Log'!$BH$18:$BH$1017),0)","v":0},{"$f":"IFERROR($E209*SUMIF('Daily Log'!$BJ$18:$BJ$1017,$B209,'Daily Log'!$BK$18:$BK$1017),0)","v":0},{"$f":"IFERROR($E209*SUMIF('Daily Log'!$BM$18:$BM$1017,$B209,'Daily Log'!$BN$18:$BN$1017),0)","v":0},{"$f":"IFERROR($E209*SUMIF('Daily Log'!$BP$18:$BP$1017,$B209,'Daily Log'!$BQ$18:$BQ$1017),0)","v":0},{"$f":"IFERROR($E209*SUMIF('Daily Log'!$BS$18:$BS$1017,$B209,'Daily Log'!$BT$18:$BT$1017),0)","v":0},{"$f":"IFERROR($E209*SUMIF('Daily Log'!$BV$18:$BV$1017,$B209,'Daily Log'!$BW$18:$BW$1017),0)","v":0},{"$f":"IFERROR($E209*SUMIF('Daily Log'!$BY$18:$BY$1017,$B209,'Daily Log'!$BZ$18:$BZ$1017),0)","v":0},{"$f":"IFERROR($E209*SUMIF('Daily Log'!$CB$18:$CB$1017,$B209,'Daily Log'!$CC$18:$CC$1017),0)","v":0},{"$f":"IFERROR($E209*SUMIF('Daily Log'!$CE$18:$CE$1017,$B209,'Daily Log'!$CF$18:$CF$1017),0)","v":0},{"$f":"IFERROR($E209*SUMIF('Daily Log'!$CH$18:$CH$1017,$B209,'Daily Log'!$CI$18:$CI$1017),0)","v":0},{"$f":"IFERROR($E209*SUMIF('Daily Log'!$CK$18:$CK$1017,$B209,'Daily Log'!$CL$18:$CL$1017),0)","v":0},{"$f":"IFERROR($E209*SUMIF('Daily Log'!$CN$18:$CN$1017,$B209,'Daily Log'!$CO$18:$CO$1017),0)","v":0}]
[null,"11506:C04-港式炒饭",null,"SIDE ORDER-ASIAN CRUISE",1,0,{"$f":"IFERROR($E210*SUMIF('Daily Log'!$B$18:$B$1017,$B210,'Daily Log'!$C$18:$C$1017),0)","v":0},{"$f":"IFERROR($E210*SUMIF('Daily Log'!$E$18:$E$1017,$B210,'Daily Log'!$F$18:$F$1017),0)","v":0},{"$f":"IFERROR($E210*SUMIF('Daily Log'!$H$18:$H$1017,$B210,'Daily Log'!$I$18:$I$1017),0)","v":0},{"$f":"IFERROR($E210*SUMIF('Daily Log'!$K$18:$K$1017,$B210,'Daily Log'!$L$18:$L$1017),0)","v":0},{"$f":"IFERROR($E210*SUMIF('Daily Log'!$N$18:$N$1017,$B210,'Daily Log'!$O$18:$O$1017),0)","v":0},{"$f":"IFERROR($E210*SUMIF('Daily Log'!$Q$18:$Q$1017,$B210,'Daily Log'!$R$18:$R$1017),0)","v":0},{"$f":"IFERROR($E210*SUMIF('Daily Log'!$T$18:$T$1017,$B210,'Daily Log'!$U$18:$U$1017),0)","v":0},{"$f":"IFERROR($E210*SUMIF('Daily Log'!$W$18:$W$1017,$B210,'Daily Log'!$X$18:$X$1017),0)","v":0},{"$f":"IFERROR($E210*SUMIF('Daily Log'!$Z$18:$Z$1017,$B210,'Daily Log'!$AA$18:$AA$1017),0)","v":0},{"$f":"IFERROR($E210*SUMIF('Daily Log'!$AC$18:$AC$1017,$B210,'Daily Log'!$AD$18:$AD$1017),0)","v":0},{"$f":"IFERROR($E210*SUMIF('Daily Log'!$AF$18:$AF$1017,$B210,'Daily Log'!$AG$18:$AG$1017),0)","v":0},{"$f":"IFERROR($E210*SUMIF('Daily Log'!$AI$18:$AI$1017,$B210,'Daily Log'!$AJ$18:$AJ$1017),0)","v":0},{"$f":"IFERROR($E210*SUMIF('Daily Log'!$AL$18:$AL$1017,$B210,'Daily Log'!$AM$18:$AM$1017),0)","v":0},{"$f":"IFERROR($E210*SUMIF('Daily Log'!$AO$18:$AO$1017,$B210,'Daily Log'!$AP$18:$AP$1017),0)","v":0},{"$f":"IFERROR($E210*SUMIF('Daily Log'!$AR$18:$AR$1017,$B210,'Daily Log'!$AS$18:$AS$1017),0)","v":0},{"$f":"IFERROR($E210*SUMIF('Daily Log'!$AU$18:$AU$1017,$B210,'Daily Log'!$AV$18:$AV$1017),0)","v":0},{"$f":"IFERROR($E210*SUMIF('Daily Log'!$AX$18:$AX$1017,$B210,'Daily Log'!$AY$18:$AY$1017),0)","v":0},{"$f":"IFERROR($E210*SUMIF('Daily Log'!$BA$18:$BA$1017,$B210,'Daily Log'!$BB$18:$BB$1017),0)","v":0},{"$f":"IFERROR($E210*SUMIF('Daily Log'!$BD$18:$BD$1017,$B210,'Daily Log'!$BE$18:$BE$1017),0)","v":0},{"$f":"IFERROR($E210*SUMIF('Daily Log'!$BG$18:$BG$1017,$B210,'Daily Log'!$BH$18:$BH$1017),0)","v":0},{"$f":"IFERROR($E210*SUMIF('Daily Log'!$BJ$18:$BJ$1017,$B210,'Daily Log'!$BK$18:$BK$1017),0)","v":0},{"$f":"IFERROR($E210*SUMIF('Daily Log'!$BM$18:$BM$1017,$B210,'Daily Log'!$BN$18:$BN$1017),0)","v":0},{"$f":"IFERROR($E210*SUMIF('Daily Log'!$BP$18:$BP$1017,$B210,'Daily Log'!$BQ$18:$BQ$1017),0)","v":0},{"$f":"IFERROR($E210*SUMIF('Daily Log'!$BS$18:$BS$1017,$B210,'Daily Log'!$BT$18:$BT$1017),0)","v":0},{"$f":"IFERROR($E210*SUMIF('Daily Log'!$BV$18:$BV$1017,$B210,'Daily Log'!$BW$18:$BW$1017),0)","v":0},{"$f":"IFERROR($E210*SUMIF('Daily Log'!$BY$18:$BY$1017,$B210,'Daily Log'!$BZ$18:$BZ$1017),0)","v":0},{"$f":"IFERROR($E210*SUMIF('Daily Log'!$CB$18:$CB$1017,$B210,'Daily Log'!$CC$18:$CC$1017),0)","v":0},{"$f":"IFERROR($E210*SUMIF('Daily Log'!$CE$18:$CE$1017,$B210,'Daily Log'!$CF$18:$CF$1017),0)","v":0},{"$f":"IFERROR($E210*SUMIF('Daily Log'!$CH$18:$CH$1017,$B210,'Daily Log'!$CI$18:$CI$1017),0)","v":0},{"$f":"IFERROR($E210*SUMIF('Daily Log'!$CK$18:$CK$1017,$B210,'Daily Log'!$CL$18:$CL$1017),0)","v":0},{"$f":"IFERROR($E210*SUMIF('Daily Log'!$CN$18:$CN$1017,$B210,'Daily Log'!$CO$18:$CO$1017),0)","v":0}]
[null,"11507:C07 - 泰式鱼片饭",null,"SIDE ORDER-ASIAN CRUISE",1,0,{"$f":"IFERROR($E211*SUMIF('Daily Log'!$B$18:$B$1017,$B211,'Daily Log'!$C$18:$C$1017),0)","v":0},{"$f":"IFERROR($E211*SUMIF('Daily Log'!$E$18:$E$1017,$B211,'Daily Log'!$F$18:$F$1017),0)","v":0},{"$f":"IFERROR($E211*SUMIF('Daily Log'!$H$18:$H$1017,$B211,'Daily Log'!$I$18:$I$1017),0)","v":0},{"$f":"IFERROR($E211*SUMIF('Daily Log'!$K$18:$K$1017,$B211,'Daily Log'!$L$18:$L$1017),0)","v":0},{"$f":"IFERROR($E211*SUMIF('Daily Log'!$N$18:$N$1017,$B211,'Daily Log'!$O$18:$O$1017),0)","v":0},{"$f":"IFERROR($E211*SUMIF('Daily Log'!$Q$18:$Q$1017,$B211,'Daily Log'!$R$18:$R$1017),0)","v":0},{"$f":"IFERROR($E211*SUMIF('Daily Log'!$T$18:$T$1017,$B211,'Daily Log'!$U$18:$U$1017),0)","v":0},{"$f":"IFERROR($E211*SUMIF('Daily Log'!$W$18:$W$1017,$B211,'Daily Log'!$X$18:$X$1017),0)","v":0},{"$f":"IFERROR($E211*SUMIF('Daily Log'!$Z$18:$Z$1017,$B211,'Daily Log'!$AA$18:$AA$1017),0)","v":0},{"$f":"IFERROR($E211*SUMIF('Daily Log'!$AC$18:$AC$1017,$B211,'Daily Log'!$AD$18:$AD$1017),0)","v":0},{"$f":"IFERROR($E211*SUMIF('Daily Log'!$AF$18:$AF$1017,$B211,'Daily Log'!$AG$18:$AG$1017),0)","v":0},{"$f":"IFERROR($E211*SUMIF('Daily Log'!$AI$18:$AI$1017,$B211,'Daily Log'!$AJ$18:$AJ$1017),0)","v":0},{"$f":"IFERROR($E211*SUMIF('Daily Log'!$AL$18:$AL$1017,$B211,'Daily Log'!$AM$18:$AM$1017),0)","v":0},{"$f":"IFERROR($E211*SUMIF('Daily Log'!$AO$18:$AO$1017,$B211,'Daily Log'!$AP$18:$AP$1017),0)","v":0},{"$f":"IFERROR($E211*SUMIF('Daily Log'!$AR$18:$AR$1017,$B211,'Daily Log'!$AS$18:$AS$1017),0)","v":0},{"$f":"IFERROR($E211*SUMIF('Daily Log'!$AU$18:$AU$1017,$B211,'Daily Log'!$AV$18:$AV$1017),0)","v":0},{"$f":"IFERROR($E211*SUMIF('Daily Log'!$AX$18:$AX$1017,$B211,'Daily Log'!$AY$18:$AY$1017),0)","v":0},{"$f":"IFERROR($E211*SUMIF('Daily Log'!$BA$18:$BA$1017,$B211,'Daily Log'!$BB$18:$BB$1017),0)","v":0},{"$f":"IFERROR($E211*SUMIF('Daily Log'!$BD$18:$BD$1017,$B211,'Daily Log'!$BE$18:$BE$1017),0)","v":0},{"$f":"IFERROR($E211*SUMIF('Daily Log'!$BG$18:$BG$1017,$B211,'Daily Log'!$BH$18:$BH$1017),0)","v":0},{"$f":"IFERROR($E211*SUMIF('Daily Log'!$BJ$18:$BJ$1017,$B211,'Daily Log'!$BK$18:$BK$1017),0)","v":0},{"$f":"IFERROR($E211*SUMIF('Daily Log'!$BM$18:$BM$1017,$B211,'Daily Log'!$BN$18:$BN$1017),0)","v":0},{"$f":"IFERROR($E211*SUMIF('Daily Log'!$BP$18:$BP$1017,$B211,'Daily Log'!$BQ$18:$BQ$1017),0)","v":0},{"$f":"IFERROR($E211*SUMIF('Daily Log'!$BS$18:$BS$1017,$B211,'Daily Log'!$BT$18:$BT$1017),0)","v":0},{"$f":"IFERROR($E211*SUMIF('Daily Log'!$BV$18:$BV$1017,$B211,'Daily Log'!$BW$18:$BW$1017),0)","v":0},{"$f":"IFERROR($E211*SUMIF('Daily Log'!$BY$18:$BY$1017,$B211,'Daily Log'!$BZ$18:$BZ$1017),0)","v":0},{"$f":"IFERROR($E211*SUMIF('Daily Log'!$CB$18:$CB$1017,$B211,'Daily Log'!$CC$18:$CC$1017),0)","v":0},{"$f":"IFERROR($E211*SUMIF('Daily Log'!$CE$18:$CE$1017,$B211,'Daily Log'!$CF$18:$CF$1017),0)","v":0},{"$f":"IFERROR($E211*SUMIF('Daily Log'!$CH$18:$CH$1017,$B211,'Daily Log'!$CI$18:$CI$1017),0)","v":0},{"$f":"IFERROR($E211*SUMIF('Daily Log'!$CK$18:$CK$1017,$B211,'Daily Log'!$CL$18:$CL$1017),0)","v":0},{"$f":"IFERROR($E211*SUMIF('Daily Log'!$CN$18:$CN$1017,$B211,'Daily Log'!$CO$18:$CO$1017),0)","v":0}]
[null,"11508:C08 - 妈蜜鱼片饭",null,"SIDE ORDER-ASIAN CRUISE",1,0,{"$f":"IFERROR($E212*SUMIF('Daily Log'!$B$18:$B$1017,$B212,'Daily Log'!$C$18:$C$1017),0)","v":0},{"$f":"IFERROR($E212*SUMIF('Daily Log'!$E$18:$E$1017,$B212,'Daily Log'!$F$18:$F$1017),0)","v":0},{"$f":"IFERROR($E212*SUMIF('Daily Log'!$H$18:$H$1017,$B212,'Daily Log'!$I$18:$I$1017),0)","v":0},{"$f":"IFERROR($E212*SUMIF('Daily Log'!$K$18:$K$1017,$B212,'Daily Log'!$L$18:$L$1017),0)","v":0},{"$f":"IFERROR($E212*SUMIF('Daily Log'!$N$18:$N$1017,$B212,'Daily Log'!$O$18:$O$1017),0)","v":0},{"$f":"IFERROR($E212*SUMIF('Daily Log'!$Q$18:$Q$1017,$B212,'Daily Log'!$R$18:$R$1017),0)","v":0},{"$f":"IFERROR($E212*SUMIF('Daily Log'!$T$18:$T$1017,$B212,'Daily Log'!$U$18:$U$1017),0)","v":0},{"$f":"IFERROR($E212*SUMIF('Daily Log'!$W$18:$W$1017,$B212,'Daily Log'!$X$18:$X$1017),0)","v":0},{"$f":"IFERROR($E212*SUMIF('Daily Log'!$Z$18:$Z$1017,$B212,'Daily Log'!$AA$18:$AA$1017),0)","v":0},{"$f":"IFERROR($E212*SUMIF('Daily Log'!$AC$18:$AC$1017,$B212,'Daily Log'!$AD$18:$AD$1017),0)","v":0},{"$f":"IFERROR($E212*SUMIF('Daily Log'!$AF$18:$AF$1017,$B212,'Daily Log'!$AG$18:$AG$1017),0)","v":0},{"$f":"IFERROR($E212*SUMIF('Daily Log'!$AI$18:$AI$1017,$B212,'Daily Log'!$AJ$18:$AJ$1017),0)","v":0},{"$f":"IFERROR($E212*SUMIF('Daily Log'!$AL$18:$AL$1017,$B212,'Daily Log'!$AM$18:$AM$1017),0)","v":0},{"$f":"IFERROR($E212*SUMIF('Daily Log'!$AO$18:$AO$1017,$B212,'Daily Log'!$AP$18:$AP$1017),0)","v":0},{"$f":"IFERROR($E212*SUMIF('Daily Log'!$AR$18:$AR$1017,$B212,'Daily Log'!$AS$18:$AS$1017),0)","v":0},{"$f":"IFERROR($E212*SUMIF('Daily Log'!$AU$18:$AU$1017,$B212,'Daily Log'!$AV$18:$AV$1017),0)","v":0},{"$f":"IFERROR($E212*SUMIF('Daily Log'!$AX$18:$AX$1017,$B212,'Daily Log'!$AY$18:$AY$1017),0)","v":0},{"$f":"IFERROR($E212*SUMIF('Daily Log'!$BA$18:$BA$1017,$B212,'Daily Log'!$BB$18:$BB$1017),0)","v":0},{"$f":"IFERROR($E212*SUMIF('Daily Log'!$BD$18:$BD$1017,$B212,'Daily Log'!$BE$18:$BE$1017),0)","v":0},{"$f":"IFERROR($E212*SUMIF('Daily Log'!$BG$18:$BG$1017,$B212,'Daily Log'!$BH$18:$BH$1017),0)","v":0},{"$f":"IFERROR($E212*SUMIF('Daily Log'!$BJ$18:$BJ$1017,$B212,'Daily Log'!$BK$18:$BK$1017),0)","v":0},{"$f":"IFERROR($E212*SUMIF('Daily Log'!$BM$18:$BM$1017,$B212,'Daily Log'!$BN$18:$BN$1017),0)","v":0},{"$f":"IFERROR($E212*SUMIF('Daily Log'!$BP$18:$BP$1017,$B212,'Daily Log'!$BQ$18:$BQ$1017),0)","v":0},{"$f":"IFERROR($E212*SUMIF('Daily Log'!$BS$18:$BS$1017,$B212,'Daily Log'!$BT$18:$BT$1017),0)","v":0},{"$f":"IFERROR($E212*SUMIF('Daily Log'!$BV$18:$BV$1017,$B212,'Daily Log'!$BW$18:$BW$1017),0)","v":0},{"$f":"IFERROR($E212*SUMIF('Daily Log'!$BY$18:$BY$1017,$B212,'Daily Log'!$BZ$18:$BZ$1017),0)","v":0},{"$f":"IFERROR($E212*SUMIF('Daily Log'!$CB$18:$CB$1017,$B212,'Daily Log'!$CC$18:$CC$1017),0)","v":0},{"$f":"IFERROR($E212*SUMIF('Daily Log'!$CE$18:$CE$1017,$B212,'Daily Log'!$CF$18:$CF$1017),0)","v":0},{"$f":"IFERROR($E212*SUMIF('Daily Log'!$CH$18:$CH$1017,$B212,'Daily Log'!$CI$18:$CI$1017),0)","v":0},{"$f":"IFERROR($E212*SUMIF('Daily Log'!$CK$18:$CK$1017,$B212,'Daily Log'!$CL$18:$CL$1017),0)","v":0},{"$f":"IFERROR($E212*SUMIF('Daily Log'!$CN$18:$CN$1017,$B212,'Daily Log'!$CO$18:$CO$1017),0)","v":0}]
[null,"11509:C09 - 奶油鱼片饭",null,"SIDE ORDER-ASIAN CRUISE",1,0,{"$f":"IFERROR($E213*SUMIF('Daily Log'!$B$18:$B$1017,$B213,'Daily Log'!$C$18:$C$1017),0)","v":0},{"$f":"IFERROR($E213*SUMIF('Daily Log'!$E$18:$E$1017,$B213,'Daily Log'!$F$18:$F$1017),0)","v":0},{"$f":"IFERROR($E213*SUMIF('Daily Log'!$H$18:$H$1017,$B213,'Daily Log'!$I$18:$I$1017),0)","v":0},{"$f":"IFERROR($E213*SUMIF('Daily Log'!$K$18:$K$1017,$B213,'Daily Log'!$L$18:$L$1017),0)","v":0},{"$f":"IFERROR($E213*SUMIF('Daily Log'!$N$18:$N$1017,$B213,'Daily Log'!$O$18:$O$1017),0)","v":0},{"$f":"IFERROR($E213*SUMIF('Daily Log'!$Q$18:$Q$1017,$B213,'Daily Log'!$R$18:$R$1017),0)","v":0},{"$f":"IFERROR($E213*SUMIF('Daily Log'!$T$18:$T$1017,$B213,'Daily Log'!$U$18:$U$1017),0)","v":0},{"$f":"IFERROR($E213*SUMIF('Daily Log'!$W$18:$W$1017,$B213,'Daily Log'!$X$18:$X$1017),0)","v":0},{"$f":"IFERROR($E213*SUMIF('Daily Log'!$Z$18:$Z$1017,$B213,'Daily Log'!$AA$18:$AA$1017),0)","v":0},{"$f":"IFERROR($E213*SUMIF('Daily Log'!$AC$18:$AC$1017,$B213,'Daily Log'!$AD$18:$AD$1017),0)","v":0},{"$f":"IFERROR($E213*SUMIF('Daily Log'!$AF$18:$AF$1017,$B213,'Daily Log'!$AG$18:$AG$1017),0)","v":0},{"$f":"IFERROR($E213*SUMIF('Daily Log'!$AI$18:$AI$1017,$B213,'Daily Log'!$AJ$18:$AJ$1017),0)","v":0},{"$f":"IFERROR($E213*SUMIF('Daily Log'!$AL$18:$AL$1017,$B213,'Daily Log'!$AM$18:$AM$1017),0)","v":0},{"$f":"IFERROR($E213*SUMIF('Daily Log'!$AO$18:$AO$1017,$B213,'Daily Log'!$AP$18:$AP$1017),0)","v":0},{"$f":"IFERROR($E213*SUMIF('Daily Log'!$AR$18:$AR$1017,$B213,'Daily Log'!$AS$18:$AS$1017),0)","v":0},{"$f":"IFERROR($E213*SUMIF('Daily Log'!$AU$18:$AU$1017,$B213,'Daily Log'!$AV$18:$AV$1017),0)","v":0},{"$f":"IFERROR($E213*SUMIF('Daily Log'!$AX$18:$AX$1017,$B213,'Daily Log'!$AY$18:$AY$1017),0)","v":0},{"$f":"IFERROR($E213*SUMIF('Daily Log'!$BA$18:$BA$1017,$B213,'Daily Log'!$BB$18:$BB$1017),0)","v":0},{"$f":"IFERROR($E213*SUMIF('Daily Log'!$BD$18:$BD$1017,$B213,'Daily Log'!$BE$18:$BE$1017),0)","v":0},{"$f":"IFERROR($E213*SUMIF('Daily Log'!$BG$18:$BG$1017,$B213,'Daily Log'!$BH$18:$BH$1017),0)","v":0},{"$f":"IFERROR($E213*SUMIF('Daily Log'!$BJ$18:$BJ$1017,$B213,'Daily Log'!$BK$18:$BK$1017),0)","v":0},{"$f":"IFERROR($E213*SUMIF('Daily Log'!$BM$18:$BM$1017,$B213,'Daily Log'!$BN$18:$BN$1017),0)","v":0},{"$f":"IFERROR($E213*SUMIF('Daily Log'!$BP$18:$BP$1017,$B213,'Daily Log'!$BQ$18:$BQ$1017),0)","v":0},{"$f":"IFERROR($E213*SUMIF('Daily Log'!$BS$18:$BS$1017,$B213,'Daily Log'!$BT$18:$BT$1017),0)","v":0},{"$f":"IFERROR($E213*SUMIF('Daily Log'!$BV$18:$BV$1017,$B213,'Daily Log'!$BW$18:$BW$1017),0)","v":0},{"$f":"IFERROR($E213*SUMIF('Daily Log'!$BY$18:$BY$1017,$B213,'Daily Log'!$BZ$18:$BZ$1017),0)","v":0},{"$f":"IFERROR($E213*SUMIF('Daily Log'!$CB$18:$CB$1017,$B213,'Daily Log'!$CC$18:$CC$1017),0)","v":0},{"$f":"IFERROR($E213*SUMIF('Daily Log'!$CE$18:$CE$1017,$B213,'Daily Log'!$CF$18:$CF$1017),0)","v":0},{"$f":"IFERROR($E213*SUMIF('Daily Log'!$CH$18:$CH$1017,$B213,'Daily Log'!$CI$18:$CI$1017),0)","v":0},{"$f":"IFERROR($E213*SUMIF('Daily Log'!$CK$18:$CK$1017,$B213,'Daily Log'!$CL$18:$CL$1017),0)","v":0},{"$f":"IFERROR($E213*SUMIF('Daily Log'!$CN$18:$CN$1017,$B213,'Daily Log'!$CO$18:$CO$1017),0)","v":0}]
[null,"11510:C05-黑椒乌冬面",null,"SIDE ORDER-ASIAN CRUISE",1,0,{"$f":"IFERROR($E214*SUMIF('Daily Log'!$B$18:$B$1017,$B214,'Daily Log'!$C$18:$C$1017),0)","v":0},{"$f":"IFERROR($E214*SUMIF('Daily Log'!$E$18:$E$1017,$B214,'Daily Log'!$F$18:$F$1017),0)","v":0},{"$f":"IFERROR($E214*SUMIF('Daily Log'!$H$18:$H$1017,$B214,'Daily Log'!$I$18:$I$1017),0)","v":0},{"$f":"IFERROR($E214*SUMIF('Daily Log'!$K$18:$K$1017,$B214,'Daily Log'!$L$18:$L$1017),0)","v":0},{"$f":"IFERROR($E214*SUMIF('Daily Log'!$N$18:$N$1017,$B214,'Daily Log'!$O$18:$O$1017),0)","v":0},{"$f":"IFERROR($E214*SUMIF('Daily Log'!$Q$18:$Q$1017,$B214,'Daily Log'!$R$18:$R$1017),0)","v":0},{"$f":"IFERROR($E214*SUMIF('Daily Log'!$T$18:$T$1017,$B214,'Daily Log'!$U$18:$U$1017),0)","v":0},{"$f":"IFERROR($E214*SUMIF('Daily Log'!$W$18:$W$1017,$B214,'Daily Log'!$X$18:$X$1017),0)","v":0},{"$f":"IFERROR($E214*SUMIF('Daily Log'!$Z$18:$Z$1017,$B214,'Daily Log'!$AA$18:$AA$1017),0)","v":0},{"$f":"IFERROR($E214*SUMIF('Daily Log'!$AC$18:$AC$1017,$B214,'Daily Log'!$AD$18:$AD$1017),0)","v":0},{"$f":"IFERROR($E214*SUMIF('Daily Log'!$AF$18:$AF$1017,$B214,'Daily Log'!$AG$18:$AG$1017),0)","v":0},{"$f":"IFERROR($E214*SUMIF('Daily Log'!$AI$18:$AI$1017,$B214,'Daily Log'!$AJ$18:$AJ$1017),0)","v":0},{"$f":"IFERROR($E214*SUMIF('Daily Log'!$AL$18:$AL$1017,$B214,'Daily Log'!$AM$18:$AM$1017),0)","v":0},{"$f":"IFERROR($E214*SUMIF('Daily Log'!$AO$18:$AO$1017,$B214,'Daily Log'!$AP$18:$AP$1017),0)","v":0},{"$f":"IFERROR($E214*SUMIF('Daily Log'!$AR$18:$AR$1017,$B214,'Daily Log'!$AS$18:$AS$1017),0)","v":0},{"$f":"IFERROR($E214*SUMIF('Daily Log'!$AU$18:$AU$1017,$B214,'Daily Log'!$AV$18:$AV$1017),0)","v":0},{"$f":"IFERROR($E214*SUMIF('Daily Log'!$AX$18:$AX$1017,$B214,'Daily Log'!$AY$18:$AY$1017),0)","v":0},{"$f":"IFERROR($E214*SUMIF('Daily Log'!$BA$18:$BA$1017,$B214,'Daily Log'!$BB$18:$BB$1017),0)","v":0},{"$f":"IFERROR($E214*SUMIF('Daily Log'!$BD$18:$BD$1017,$B214,'Daily Log'!$BE$18:$BE$1017),0)","v":0},{"$f":"IFERROR($E214*SUMIF('Daily Log'!$BG$18:$BG$1017,$B214,'Daily Log'!$BH$18:$BH$1017),0)","v":0},{"$f":"IFERROR($E214*SUMIF('Daily Log'!$BJ$18:$BJ$1017,$B214,'Daily Log'!$BK$18:$BK$1017),0)","v":0},{"$f":"IFERROR($E214*SUMIF('Daily Log'!$BM$18:$BM$1017,$B214,'Daily Log'!$BN$18:$BN$1017),0)","v":0},{"$f":"IFERROR($E214*SUMIF('Daily Log'!$BP$18:$BP$1017,$B214,'Daily Log'!$BQ$18:$BQ$1017),0)","v":0},{"$f":"IFERROR($E214*SUMIF('Daily Log'!$BS$18:$BS$1017,$B214,'Daily Log'!$BT$18:$BT$1017),0)","v":0},{"$f":"IFERROR($E214*SUMIF('Daily Log'!$BV$18:$BV$1017,$B214,'Daily Log'!$BW$18:$BW$1017),0)","v":0},{"$f":"IFERROR($E214*SUMIF('Daily Log'!$BY$18:$BY$1017,$B214,'Daily Log'!$BZ$18:$BZ$1017),0)","v":0},{"$f":"IFERROR($E214*SUMIF('Daily Log'!$CB$18:$CB$1017,$B214,'Daily Log'!$CC$18:$CC$1017),0)","v":0},{"$f":"IFERROR($E214*SUMIF('Daily Log'!$CE$18:$CE$1017,$B214,'Daily Log'!$CF$18:$CF$1017),0)","v":0},{"$f":"IFERROR($E214*SUMIF('Daily Log'!$CH$18:$CH$1017,$B214,'Daily Log'!$CI$18:$CI$1017),0)","v":0},{"$f":"IFERROR($E214*SUMIF('Daily Log'!$CK$18:$CK$1017,$B214,'Daily Log'!$CL$18:$CL$1017),0)","v":0},{"$f":"IFERROR($E214*SUMIF('Daily Log'!$CN$18:$CN$1017,$B214,'Daily Log'!$CO$18:$CO$1017),0)","v":0}]
[null,"11531:W01-香煎鸡扒",null,"SIDE ORDER-WESTERN CRUISE",1,109,{"$f":"IFERROR($E215*SUMIF('Daily Log'!$B$18:$B$1017,$B215,'Daily Log'!$C$18:$C$1017),0)","v":0},{"$f":"IFERROR($E215*SUMIF('Daily Log'!$E$18:$E$1017,$B215,'Daily Log'!$F$18:$F$1017),0)","v":0},{"$f":"IFERROR($E215*SUMIF('Daily Log'!$H$18:$H$1017,$B215,'Daily Log'!$I$18:$I$1017),0)","v":0},{"$f":"IFERROR($E215*SUMIF('Daily Log'!$K$18:$K$1017,$B215,'Daily Log'!$L$18:$L$1017),0)","v":0},{"$f":"IFERROR($E215*SUMIF('Daily Log'!$N$18:$N$1017,$B215,'Daily Log'!$O$18:$O$1017),0)","v":0},{"$f":"IFERROR($E215*SUMIF('Daily Log'!$Q$18:$Q$1017,$B215,'Daily Log'!$R$18:$R$1017),0)","v":0},{"$f":"IFERROR($E215*SUMIF('Daily Log'!$T$18:$T$1017,$B215,'Daily Log'!$U$18:$U$1017),0)","v":8},{"$f":"IFERROR($E215*SUMIF('Daily Log'!$W$18:$W$1017,$B215,'Daily Log'!$X$18:$X$1017),0)","v":11},{"$f":"IFERROR($E215*SUMIF('Daily Log'!$Z$18:$Z$1017,$B215,'Daily Log'!$AA$18:$AA$1017),0)","v":23},{"$f":"IFERROR($E215*SUMIF('Daily Log'!$AC$18:$AC$1017,$B215,'Daily Log'!$AD$18:$AD$1017),0)","v":23},{"$f":"IFERROR($E215*SUMIF('Daily Log'!$AF$18:$AF$1017,$B215,'Daily Log'!$AG$18:$AG$1017),0)","v":16},{"$f":"IFERROR($E215*SUMIF('Daily Log'!$AI$18:$AI$1017,$B215,'Daily Log'!$AJ$18:$AJ$1017),0)","v":11},{"$f":"IFERROR($E215*SUMIF('Daily Log'!$AL$18:$AL$1017,$B215,'Daily Log'!$AM$18:$AM$1017),0)","v":17},{"$f":"IFERROR($E215*SUMIF('Daily Log'!$AO$18:$AO$1017,$B215,'Daily Log'!$AP$18:$AP$1017),0)","v":0},{"$f":"IFERROR($E215*SUMIF('Daily Log'!$AR$18:$AR$1017,$B215,'Daily Log'!$AS$18:$AS$1017),0)","v":0},{"$f":"IFERROR($E215*SUMIF('Daily Log'!$AU$18:$AU$1017,$B215,'Daily Log'!$AV$18:$AV$1017),0)","v":0},{"$f":"IFERROR($E215*SUMIF('Daily Log'!$AX$18:$AX$1017,$B215,'Daily Log'!$AY$18:$AY$1017),0)","v":0},{"$f":"IFERROR($E215*SUMIF('Daily Log'!$BA$18:$BA$1017,$B215,'Daily Log'!$BB$18:$BB$1017),0)","v":0},{"$f":"IFERROR($E215*SUMIF('Daily Log'!$BD$18:$BD$1017,$B215,'Daily Log'!$BE$18:$BE$1017),0)","v":0},{"$f":"IFERROR($E215*SUMIF('Daily Log'!$BG$18:$BG$1017,$B215,'Daily Log'!$BH$18:$BH$1017),0)","v":0},{"$f":"IFERROR($E215*SUMIF('Daily Log'!$BJ$18:$BJ$1017,$B215,'Daily Log'!$BK$18:$BK$1017),0)","v":0},{"$f":"IFERROR($E215*SUMIF('Daily Log'!$BM$18:$BM$1017,$B215,'Daily Log'!$BN$18:$BN$1017),0)","v":0},{"$f":"IFERROR($E215*SUMIF('Daily Log'!$BP$18:$BP$1017,$B215,'Daily Log'!$BQ$18:$BQ$1017),0)","v":0},{"$f":"IFERROR($E215*SUMIF('Daily Log'!$BS$18:$BS$1017,$B215,'Daily Log'!$BT$18:$BT$1017),0)","v":0},{"$f":"IFERROR($E215*SUMIF('Daily Log'!$BV$18:$BV$1017,$B215,'Daily Log'!$BW$18:$BW$1017),0)","v":0},{"$f":"IFERROR($E215*SUMIF('Daily Log'!$BY$18:$BY$1017,$B215,'Daily Log'!$BZ$18:$BZ$1017),0)","v":0},{"$f":"IFERROR($E215*SUMIF('Daily Log'!$CB$18:$CB$1017,$B215,'Daily Log'!$CC$18:$CC$1017),0)","v":0},{"$f":"IFERROR($E215*SUMIF('Daily Log'!$CE$18:$CE$1017,$B215,'Daily Log'!$CF$18:$CF$1017),0)","v":0},{"$f":"IFERROR($E215*SUMIF('Daily Log'!$CH$18:$CH$1017,$B215,'Daily Log'!$CI$18:$CI$1017),0)","v":0},{"$f":"IFERROR($E215*SUMIF('Daily Log'!$CK$18:$CK$1017,$B215,'Daily Log'!$CL$18:$CL$1017),0)","v":0},{"$f":"IFERROR($E215*SUMIF('Daily Log'!$CN$18:$CN$1017,$B215,'Daily Log'!$CO$18:$CO$1017),0)","v":0}]
[null,"11535:W04-鸡扒沙拉",null,"SIDE ORDER-WESTERN CRUISE",1,6,{"$f":"IFERROR($E216*SUMIF('Daily Log'!$B$18:$B$1017,$B216,'Daily Log'!$C$18:$C$1017),0)","v":0},{"$f":"IFERROR($E216*SUMIF('Daily Log'!$E$18:$E$1017,$B216,'Daily Log'!$F$18:$F$1017),0)","v":0},{"$f":"IFERROR($E216*SUMIF('Daily Log'!$H$18:$H$1017,$B216,'Daily Log'!$I$18:$I$1017),0)","v":0},{"$f":"IFERROR($E216*SUMIF('Daily Log'!$K$18:$K$1017,$B216,'Daily Log'!$L$18:$L$1017),0)","v":0},{"$f":"IFERROR($E216*SUMIF('Daily Log'!$N$18:$N$1017,$B216,'Daily Log'!$O$18:$O$1017),0)","v":0},{"$f":"IFERROR($E216*SUMIF('Daily Log'!$Q$18:$Q$1017,$B216,'Daily Log'!$R$18:$R$1017),0)","v":0},{"$f":"IFERROR($E216*SUMIF('Daily Log'!$T$18:$T$1017,$B216,'Daily Log'!$U$18:$U$1017),0)","v":1},{"$f":"IFERROR($E216*SUMIF('Daily Log'!$W$18:$W$1017,$B216,'Daily Log'!$X$18:$X$1017),0)","v":0},{"$f":"IFERROR($E216*SUMIF('Daily Log'!$Z$18:$Z$1017,$B216,'Daily Log'!$AA$18:$AA$1017),0)","v":1},{"$f":"IFERROR($E216*SUMIF('Daily Log'!$AC$18:$AC$1017,$B216,'Daily Log'!$AD$18:$AD$1017),0)","v":0},{"$f":"IFERROR($E216*SUMIF('Daily Log'!$AF$18:$AF$1017,$B216,'Daily Log'!$AG$18:$AG$1017),0)","v":3},{"$f":"IFERROR($E216*SUMIF('Daily Log'!$AI$18:$AI$1017,$B216,'Daily Log'!$AJ$18:$AJ$1017),0)","v":0},{"$f":"IFERROR($E216*SUMIF('Daily Log'!$AL$18:$AL$1017,$B216,'Daily Log'!$AM$18:$AM$1017),0)","v":1},{"$f":"IFERROR($E216*SUMIF('Daily Log'!$AO$18:$AO$1017,$B216,'Daily Log'!$AP$18:$AP$1017),0)","v":0},{"$f":"IFERROR($E216*SUMIF('Daily Log'!$AR$18:$AR$1017,$B216,'Daily Log'!$AS$18:$AS$1017),0)","v":0},{"$f":"IFERROR($E216*SUMIF('Daily Log'!$AU$18:$AU$1017,$B216,'Daily Log'!$AV$18:$AV$1017),0)","v":0},{"$f":"IFERROR($E216*SUMIF('Daily Log'!$AX$18:$AX$1017,$B216,'Daily Log'!$AY$18:$AY$1017),0)","v":0},{"$f":"IFERROR($E216*SUMIF('Daily Log'!$BA$18:$BA$1017,$B216,'Daily Log'!$BB$18:$BB$1017),0)","v":0},{"$f":"IFERROR($E216*SUMIF('Daily Log'!$BD$18:$BD$1017,$B216,'Daily Log'!$BE$18:$BE$1017),0)","v":0},{"$f":"IFERROR($E216*SUMIF('Daily Log'!$BG$18:$BG$1017,$B216,'Daily Log'!$BH$18:$BH$1017),0)","v":0},{"$f":"IFERROR($E216*SUMIF('Daily Log'!$BJ$18:$BJ$1017,$B216,'Daily Log'!$BK$18:$BK$1017),0)","v":0},{"$f":"IFERROR($E216*SUMIF('Daily Log'!$BM$18:$BM$1017,$B216,'Daily Log'!$BN$18:$BN$1017),0)","v":0},{"$f":"IFERROR($E216*SUMIF('Daily Log'!$BP$18:$BP$1017,$B216,'Daily Log'!$BQ$18:$BQ$1017),0)","v":0},{"$f":"IFERROR($E216*SUMIF('Daily Log'!$BS$18:$BS$1017,$B216,'Daily Log'!$BT$18:$BT$1017),0)","v":0},{"$f":"IFERROR($E216*SUMIF('Daily Log'!$BV$18:$BV$1017,$B216,'Daily Log'!$BW$18:$BW$1017),0)","v":0},{"$f":"IFERROR($E216*SUMIF('Daily Log'!$BY$18:$BY$1017,$B216,'Daily Log'!$BZ$18:$BZ$1017),0)","v":0},{"$f":"IFERROR($E216*SUMIF('Daily Log'!$CB$18:$CB$1017,$B216,'Daily Log'!$CC$18:$CC$1017),0)","v":0},{"$f":"IFERROR($E216*SUMIF('Daily Log'!$CE$18:$CE$1017,$B216,'Daily Log'!$CF$18:$CF$1017),0)","v":0},{"$f":"IFERROR($E216*SUMIF('Daily Log'!$CH$18:$CH$1017,$B216,'Daily Log'!$CI$18:$CI$1017),0)","v":0},{"$f":"IFERROR($E216*SUMIF('Daily Log'!$CK$18:$CK$1017,$B216,'Daily Log'!$CL$18:$CL$1017),0)","v":0},{"$f":"IFERROR($E216*SUMIF('Daily Log'!$CN$18:$CN$1017,$B216,'Daily Log'!$CO$18:$CO$1017),0)","v":0}]
[null,"08046:Sky Juice",null,"SKY JUICE",1,189,{"$f":"IFERROR($E217*SUMIF('Daily Log'!$B$18:$B$1017,$B217,'Daily Log'!$C$18:$C$1017),0)","v":0},{"$f":"IFERROR($E217*SUMIF('Daily Log'!$E$18:$E$1017,$B217,'Daily Log'!$F$18:$F$1017),0)","v":0},{"$f":"IFERROR($E217*SUMIF('Daily Log'!$H$18:$H$1017,$B217,'Daily Log'!$I$18:$I$1017),0)","v":0},{"$f":"IFERROR($E217*SUMIF('Daily Log'!$K$18:$K$1017,$B217,'Daily Log'!$L$18:$L$1017),0)","v":0},{"$f":"IFERROR($E217*SUMIF('Daily Log'!$N$18:$N$1017,$B217,'Daily Log'!$O$18:$O$1017),0)","v":0},{"$f":"IFERROR($E217*SUMIF('Daily Log'!$Q$18:$Q$1017,$B217,'Daily Log'!$R$18:$R$1017),0)","v":0},{"$f":"IFERROR($E217*SUMIF('Daily Log'!$T$18:$T$1017,$B217,'Daily Log'!$U$18:$U$1017),0)","v":24},{"$f":"IFERROR($E217*SUMIF('Daily Log'!$W$18:$W$1017,$B217,'Daily Log'!$X$18:$X$1017),0)","v":24},{"$f":"IFERROR($E217*SUMIF('Daily Log'!$Z$18:$Z$1017,$B217,'Daily Log'!$AA$18:$AA$1017),0)","v":19},{"$f":"IFERROR($E217*SUMIF('Daily Log'!$AC$18:$AC$1017,$B217,'Daily Log'!$AD$18:$AD$1017),0)","v":24},{"$f":"IFERROR($E217*SUMIF('Daily Log'!$AF$18:$AF$1017,$B217,'Daily Log'!$AG$18:$AG$1017),0)","v":33},{"$f":"IFERROR($E217*SUMIF('Daily Log'!$AI$18:$AI$1017,$B217,'Daily Log'!$AJ$18:$AJ$1017),0)","v":27},{"$f":"IFERROR($E217*SUMIF('Daily Log'!$AL$18:$AL$1017,$B217,'Daily Log'!$AM$18:$AM$1017),0)","v":38},{"$f":"IFERROR($E217*SUMIF('Daily Log'!$AO$18:$AO$1017,$B217,'Daily Log'!$AP$18:$AP$1017),0)","v":0},{"$f":"IFERROR($E217*SUMIF('Daily Log'!$AR$18:$AR$1017,$B217,'Daily Log'!$AS$18:$AS$1017),0)","v":0},{"$f":"IFERROR($E217*SUMIF('Daily Log'!$AU$18:$AU$1017,$B217,'Daily Log'!$AV$18:$AV$1017),0)","v":0},{"$f":"IFERROR($E217*SUMIF('Daily Log'!$AX$18:$AX$1017,$B217,'Daily Log'!$AY$18:$AY$1017),0)","v":0},{"$f":"IFERROR($E217*SUMIF('Daily Log'!$BA$18:$BA$1017,$B217,'Daily Log'!$BB$18:$BB$1017),0)","v":0},{"$f":"IFERROR($E217*SUMIF('Daily Log'!$BD$18:$BD$1017,$B217,'Daily Log'!$BE$18:$BE$1017),0)","v":0},{"$f":"IFERROR($E217*SUMIF('Daily Log'!$BG$18:$BG$1017,$B217,'Daily Log'!$BH$18:$BH$1017),0)","v":0},{"$f":"IFERROR($E217*SUMIF('Daily Log'!$BJ$18:$BJ$1017,$B217,'Daily Log'!$BK$18:$BK$1017),0)","v":0},{"$f":"IFERROR($E217*SUMIF('Daily Log'!$BM$18:$BM$1017,$B217,'Daily Log'!$BN$18:$BN$1017),0)","v":0},{"$f":"IFERROR($E217*SUMIF('Daily Log'!$BP$18:$BP$1017,$B217,'Daily Log'!$BQ$18:$BQ$1017),0)","v":0},{"$f":"IFERROR($E217*SUMIF('Daily Log'!$BS$18:$BS$1017,$B217,'Daily Log'!$BT$18:$BT$1017),0)","v":0},{"$f":"IFERROR($E217*SUMIF('Daily Log'!$BV$18:$BV$1017,$B217,'Daily Log'!$BW$18:$BW$1017),0)","v":0},{"$f":"IFERROR($E217*SUMIF('Daily Log'!$BY$18:$BY$1017,$B217,'Daily Log'!$BZ$18:$BZ$1017),0)","v":0},{"$f":"IFERROR($E217*SUMIF('Daily Log'!$CB$18:$CB$1017,$B217,'Daily Log'!$CC$18:$CC$1017),0)","v":0},{"$f":"IFERROR($E217*SUMIF('Daily Log'!$CE$18:$CE$1017,$B217,'Daily Log'!$CF$18:$CF$1017),0)","v":0},{"$f":"IFERROR($E217*SUMIF('Daily Log'!$CH$18:$CH$1017,$B217,'Daily Log'!$CI$18:$CI$1017),0)","v":0},{"$f":"IFERROR($E217*SUMIF('Daily Log'!$CK$18:$CK$1017,$B217,'Daily Log'!$CL$18:$CL$1017),0)","v":0},{"$f":"IFERROR($E217*SUMIF('Daily Log'!$CN$18:$CN$1017,$B217,'Daily Log'!$CO$18:$CO$1017),0)","v":0}]
[null,"11517:S02-小薯脆脆",null,"SIDE ORDER-APPETIZER",1,106,{"$f":"IFERROR($E218*SUMIF('Daily Log'!$B$18:$B$1017,$B218,'Daily Log'!$C$18:$C$1017),0)","v":0},{"$f":"IFERROR($E218*SUMIF('Daily Log'!$E$18:$E$1017,$B218,'Daily Log'!$F$18:$F$1017),0)","v":0},{"$f":"IFERROR($E218*SUMIF('Daily Log'!$H$18:$H$1017,$B218,'Daily Log'!$I$18:$I$1017),0)","v":0},{"$f":"IFERROR($E218*SUMIF('Daily Log'!$K$18:$K$1017,$B218,'Daily Log'!$L$18:$L$1017),0)","v":0},{"$f":"IFERROR($E218*SUMIF('Daily Log'!$N$18:$N$1017,$B218,'Daily Log'!$O$18:$O$1017),0)","v":0},{"$f":"IFERROR($E218*SUMIF('Daily Log'!$Q$18:$Q$1017,$B218,'Daily Log'!$R$18:$R$1017),0)","v":0},{"$f":"IFERROR($E218*SUMIF('Daily Log'!$T$18:$T$1017,$B218,'Daily Log'!$U$18:$U$1017),0)","v":6},{"$f":"IFERROR($E218*SUMIF('Daily Log'!$W$18:$W$1017,$B218,'Daily Log'!$X$18:$X$1017),0)","v":7},{"$f":"IFERROR($E218*SUMIF('Daily Log'!$Z$18:$Z$1017,$B218,'Daily Log'!$AA$18:$AA$1017),0)","v":21},{"$f":"IFERROR($E218*SUMIF('Daily Log'!$AC$18:$AC$1017,$B218,'Daily Log'!$AD$18:$AD$1017),0)","v":17},{"$f":"IFERROR($E218*SUMIF('Daily Log'!$AF$18:$AF$1017,$B218,'Daily Log'!$AG$18:$AG$1017),0)","v":28},{"$f":"IFERROR($E218*SUMIF('Daily Log'!$AI$18:$AI$1017,$B218,'Daily Log'!$AJ$18:$AJ$1017),0)","v":13},{"$f":"IFERROR($E218*SUMIF('Daily Log'!$AL$18:$AL$1017,$B218,'Daily Log'!$AM$18:$AM$1017),0)","v":14},{"$f":"IFERROR($E218*SUMIF('Daily Log'!$AO$18:$AO$1017,$B218,'Daily Log'!$AP$18:$AP$1017),0)","v":0},{"$f":"IFERROR($E218*SUMIF('Daily Log'!$AR$18:$AR$1017,$B218,'Daily Log'!$AS$18:$AS$1017),0)","v":0},{"$f":"IFERROR($E218*SUMIF('Daily Log'!$AU$18:$AU$1017,$B218,'Daily Log'!$AV$18:$AV$1017),0)","v":0},{"$f":"IFERROR($E218*SUMIF('Daily Log'!$AX$18:$AX$1017,$B218,'Daily Log'!$AY$18:$AY$1017),0)","v":0},{"$f":"IFERROR($E218*SUMIF('Daily Log'!$BA$18:$BA$1017,$B218,'Daily Log'!$BB$18:$BB$1017),0)","v":0},{"$f":"IFERROR($E218*SUMIF('Daily Log'!$BD$18:$BD$1017,$B218,'Daily Log'!$BE$18:$BE$1017),0)","v":0},{"$f":"IFERROR($E218*SUMIF('Daily Log'!$BG$18:$BG$1017,$B218,'Daily Log'!$BH$18:$BH$1017),0)","v":0},{"$f":"IFERROR($E218*SUMIF('Daily Log'!$BJ$18:$BJ$1017,$B218,'Daily Log'!$BK$18:$BK$1017),0)","v":0},{"$f":"IFERROR($E218*SUMIF('Daily Log'!$BM$18:$BM$1017,$B218,'Daily Log'!$BN$18:$BN$1017),0)","v":0},{"$f":"IFERROR($E218*SUMIF('Daily Log'!$BP$18:$BP$1017,$B218,'Daily Log'!$BQ$18:$BQ$1017),0)","v":0},{"$f":"IFERROR($E218*SUMIF('Daily Log'!$BS$18:$BS$1017,$B218,'Daily Log'!$BT$18:$BT$1017),0)","v":0},{"$f":"IFERROR($E218*SUMIF('Daily Log'!$BV$18:$BV$1017,$B218,'Daily Log'!$BW$18:$BW$1017),0)","v":0},{"$f":"IFERROR($E218*SUMIF('Daily Log'!$BY$18:$BY$1017,$B218,'Daily Log'!$BZ$18:$BZ$1017),0)","v":0},{"$f":"IFERROR($E218*SUMIF('Daily Log'!$CB$18:$CB$1017,$B218,'Daily Log'!$CC$18:$CC$1017),0)","v":0},{"$f":"IFERROR($E218*SUMIF('Daily Log'!$CE$18:$CE$1017,$B218,'Daily Log'!$CF$18:$CF$1017),0)","v":0},{"$f":"IFERROR($E218*SUMIF('Daily Log'!$CH$18:$CH$1017,$B218,'Daily Log'!$CI$18:$CI$1017),0)","v":0},{"$f":"IFERROR($E218*SUMIF('Daily Log'!$CK$18:$CK$1017,$B218,'Daily Log'!$CL$18:$CL$1017),0)","v":0},{"$f":"IFERROR($E218*SUMIF('Daily Log'!$CN$18:$CN$1017,$B218,'Daily Log'!$CO$18:$CO$1017),0)","v":0}]
[null,"11519:S06-小小鱼丸",null,"SIDE ORDER-APPETIZER",1,20,{"$f":"IFERROR($E219*SUMIF('Daily Log'!$B$18:$B$1017,$B219,'Daily Log'!$C$18:$C$1017),0)","v":0},{"$f":"IFERROR($E219*SUMIF('Daily Log'!$E$18:$E$1017,$B219,'Daily Log'!$F$18:$F$1017),0)","v":0},{"$f":"IFERROR($E219*SUMIF('Daily Log'!$H$18:$H$1017,$B219,'Daily Log'!$I$18:$I$1017),0)","v":0},{"$f":"IFERROR($E219*SUMIF('Daily Log'!$K$18:$K$1017,$B219,'Daily Log'!$L$18:$L$1017),0)","v":0},{"$f":"IFERROR($E219*SUMIF('Daily Log'!$N$18:$N$1017,$B219,'Daily Log'!$O$18:$O$1017),0)","v":0},{"$f":"IFERROR($E219*SUMIF('Daily Log'!$Q$18:$Q$1017,$B219,'Daily Log'!$R$18:$R$1017),0)","v":0},{"$f":"IFERROR($E219*SUMIF('Daily Log'!$T$18:$T$1017,$B219,'Daily Log'!$U$18:$U$1017),0)","v":2},{"$f":"IFERROR($E219*SUMIF('Daily Log'!$W$18:$W$1017,$B219,'Daily Log'!$X$18:$X$1017),0)","v":1},{"$f":"IFERROR($E219*SUMIF('Daily Log'!$Z$18:$Z$1017,$B219,'Daily Log'!$AA$18:$AA$1017),0)","v":5},{"$f":"IFERROR($E219*SUMIF('Daily Log'!$AC$18:$AC$1017,$B219,'Daily Log'!$AD$18:$AD$1017),0)","v":2},{"$f":"IFERROR($E219*SUMIF('Daily Log'!$AF$18:$AF$1017,$B219,'Daily Log'!$AG$18:$AG$1017),0)","v":4},{"$f":"IFERROR($E219*SUMIF('Daily Log'!$AI$18:$AI$1017,$B219,'Daily Log'!$AJ$18:$AJ$1017),0)","v":1},{"$f":"IFERROR($E219*SUMIF('Daily Log'!$AL$18:$AL$1017,$B219,'Daily Log'!$AM$18:$AM$1017),0)","v":5},{"$f":"IFERROR($E219*SUMIF('Daily Log'!$AO$18:$AO$1017,$B219,'Daily Log'!$AP$18:$AP$1017),0)","v":0},{"$f":"IFERROR($E219*SUMIF('Daily Log'!$AR$18:$AR$1017,$B219,'Daily Log'!$AS$18:$AS$1017),0)","v":0},{"$f":"IFERROR($E219*SUMIF('Daily Log'!$AU$18:$AU$1017,$B219,'Daily Log'!$AV$18:$AV$1017),0)","v":0},{"$f":"IFERROR($E219*SUMIF('Daily Log'!$AX$18:$AX$1017,$B219,'Daily Log'!$AY$18:$AY$1017),0)","v":0},{"$f":"IFERROR($E219*SUMIF('Daily Log'!$BA$18:$BA$1017,$B219,'Daily Log'!$BB$18:$BB$1017),0)","v":0},{"$f":"IFERROR($E219*SUMIF('Daily Log'!$BD$18:$BD$1017,$B219,'Daily Log'!$BE$18:$BE$1017),0)","v":0},{"$f":"IFERROR($E219*SUMIF('Daily Log'!$BG$18:$BG$1017,$B219,'Daily Log'!$BH$18:$BH$1017),0)","v":0},{"$f":"IFERROR($E219*SUMIF('Daily Log'!$BJ$18:$BJ$1017,$B219,'Daily Log'!$BK$18:$BK$1017),0)","v":0},{"$f":"IFERROR($E219*SUMIF('Daily Log'!$BM$18:$BM$1017,$B219,'Daily Log'!$BN$18:$BN$1017),0)","v":0},{"$f":"IFERROR($E219*SUMIF('Daily Log'!$BP$18:$BP$1017,$B219,'Daily Log'!$BQ$18:$BQ$1017),0)","v":0},{"$f":"IFERROR($E219*SUMIF('Daily Log'!$BS$18:$BS$1017,$B219,'Daily Log'!$BT$18:$BT$1017),0)","v":0},{"$f":"IFERROR($E219*SUMIF('Daily Log'!$BV$18:$BV$1017,$B219,'Daily Log'!$BW$18:$BW$1017),0)","v":0},{"$f":"IFERROR($E219*SUMIF('Daily Log'!$BY$18:$BY$1017,$B219,'Daily Log'!$BZ$18:$BZ$1017),0)","v":0},{"$f":"IFERROR($E219*SUMIF('Daily Log'!$CB$18:$CB$1017,$B219,'Daily Log'!$CC$18:$CC$1017),0)","v":0},{"$f":"IFERROR($E219*SUMIF('Daily Log'!$CE$18:$CE$1017,$B219,'Daily Log'!$CF$18:$CF$1017),0)","v":0},{"$f":"IFERROR($E219*SUMIF('Daily Log'!$CH$18:$CH$1017,$B219,'Daily Log'!$CI$18:$CI$1017),0)","v":0},{"$f":"IFERROR($E219*SUMIF('Daily Log'!$CK$18:$CK$1017,$B219,'Daily Log'!$CL$18:$CL$1017),0)","v":0},{"$f":"IFERROR($E219*SUMIF('Daily Log'!$CN$18:$CN$1017,$B219,'Daily Log'!$CO$18:$CO$1017),0)","v":0}]
[null,"11522:S11-洋葱圈圈",null,"SIDE ORDER-APPETIZER",1,15,{"$f":"IFERROR($E220*SUMIF('Daily Log'!$B$18:$B$1017,$B220,'Daily Log'!$C$18:$C$1017),0)","v":0},{"$f":"IFERROR($E220*SUMIF('Daily Log'!$E$18:$E$1017,$B220,'Daily Log'!$F$18:$F$1017),0)","v":0},{"$f":"IFERROR($E220*SUMIF('Daily Log'!$H$18:$H$1017,$B220,'Daily Log'!$I$18:$I$1017),0)","v":0},{"$f":"IFERROR($E220*SUMIF('Daily Log'!$K$18:$K$1017,$B220,'Daily Log'!$L$18:$L$1017),0)","v":0},{"$f":"IFERROR($E220*SUMIF('Daily Log'!$N$18:$N$1017,$B220,'Daily Log'!$O$18:$O$1017),0)","v":0},{"$f":"IFERROR($E220*SUMIF('Daily Log'!$Q$18:$Q$1017,$B220,'Daily Log'!$R$18:$R$1017),0)","v":0},{"$f":"IFERROR($E220*SUMIF('Daily Log'!$T$18:$T$1017,$B220,'Daily Log'!$U$18:$U$1017),0)","v":3},{"$f":"IFERROR($E220*SUMIF('Daily Log'!$W$18:$W$1017,$B220,'Daily Log'!$X$18:$X$1017),0)","v":1},{"$f":"IFERROR($E220*SUMIF('Daily Log'!$Z$18:$Z$1017,$B220,'Daily Log'!$AA$18:$AA$1017),0)","v":0},{"$f":"IFERROR($E220*SUMIF('Daily Log'!$AC$18:$AC$1017,$B220,'Daily Log'!$AD$18:$AD$1017),0)","v":1},{"$f":"IFERROR($E220*SUMIF('Daily Log'!$AF$18:$AF$1017,$B220,'Daily Log'!$AG$18:$AG$1017),0)","v":7},{"$f":"IFERROR($E220*SUMIF('Daily Log'!$AI$18:$AI$1017,$B220,'Daily Log'!$AJ$18:$AJ$1017),0)","v":1},{"$f":"IFERROR($E220*SUMIF('Daily Log'!$AL$18:$AL$1017,$B220,'Daily Log'!$AM$18:$AM$1017),0)","v":2},{"$f":"IFERROR($E220*SUMIF('Daily Log'!$AO$18:$AO$1017,$B220,'Daily Log'!$AP$18:$AP$1017),0)","v":0},{"$f":"IFERROR($E220*SUMIF('Daily Log'!$AR$18:$AR$1017,$B220,'Daily Log'!$AS$18:$AS$1017),0)","v":0},{"$f":"IFERROR($E220*SUMIF('Daily Log'!$AU$18:$AU$1017,$B220,'Daily Log'!$AV$18:$AV$1017),0)","v":0},{"$f":"IFERROR($E220*SUMIF('Daily Log'!$AX$18:$AX$1017,$B220,'Daily Log'!$AY$18:$AY$1017),0)","v":0},{"$f":"IFERROR($E220*SUMIF('Daily Log'!$BA$18:$BA$1017,$B220,'Daily Log'!$BB$18:$BB$1017),0)","v":0},{"$f":"IFERROR($E220*SUMIF('Daily Log'!$BD$18:$BD$1017,$B220,'Daily Log'!$BE$18:$BE$1017),0)","v":0},{"$f":"IFERROR($E220*SUMIF('Daily Log'!$BG$18:$BG$1017,$B220,'Daily Log'!$BH$18:$BH$1017),0)","v":0},{"$f":"IFERROR($E220*SUMIF('Daily Log'!$BJ$18:$BJ$1017,$B220,'Daily Log'!$BK$18:$BK$1017),0)","v":0},{"$f":"IFERROR($E220*SUMIF('Daily Log'!$BM$18:$BM$1017,$B220,'Daily Log'!$BN$18:$BN$1017),0)","v":0},{"$f":"IFERROR($E220*SUMIF('Daily Log'!$BP$18:$BP$1017,$B220,'Daily Log'!$BQ$18:$BQ$1017),0)","v":0},{"$f":"IFERROR($E220*SUMIF('Daily Log'!$BS$18:$BS$1017,$B220,'Daily Log'!$BT$18:$BT$1017),0)","v":0},{"$f":"IFERROR($E220*SUMIF('Daily Log'!$BV$18:$BV$1017,$B220,'Daily Log'!$BW$18:$BW$1017),0)","v":0},{"$f":"IFERROR($E220*SUMIF('Daily Log'!$BY$18:$BY$1017,$B220,'Daily Log'!$BZ$18:$BZ$1017),0)","v":0},{"$f":"IFERROR($E220*SUMIF('Daily Log'!$CB$18:$CB$1017,$B220,'Daily Log'!$CC$18:$CC$1017),0)","v":0},{"$f":"IFERROR($E220*SUMIF('Daily Log'!$CE$18:$CE$1017,$B220,'Daily Log'!$CF$18:$CF$1017),0)","v":0},{"$f":"IFERROR($E220*SUMIF('Daily Log'!$CH$18:$CH$1017,$B220,'Daily Log'!$CI$18:$CI$1017),0)","v":0},{"$f":"IFERROR($E220*SUMIF('Daily Log'!$CK$18:$CK$1017,$B220,'Daily Log'!$CL$18:$CL$1017),0)","v":0},{"$f":"IFERROR($E220*SUMIF('Daily Log'!$CN$18:$CN$1017,$B220,'Daily Log'!$CO$18:$CO$1017),0)","v":0}]
[null,"11528:S05-小乳鸡翅",null,"SIDE ORDER-APPETIZER",1,0,{"$f":"IFERROR($E221*SUMIF('Daily Log'!$B$18:$B$1017,$B221,'Daily Log'!$C$18:$C$1017),0)","v":0},{"$f":"IFERROR($E221*SUMIF('Daily Log'!$E$18:$E$1017,$B221,'Daily Log'!$F$18:$F$1017),0)","v":0},{"$f":"IFERROR($E221*SUMIF('Daily Log'!$H$18:$H$1017,$B221,'Daily Log'!$I$18:$I$1017),0)","v":0},{"$f":"IFERROR($E221*SUMIF('Daily Log'!$K$18:$K$1017,$B221,'Daily Log'!$L$18:$L$1017),0)","v":0},{"$f":"IFERROR($E221*SUMIF('Daily Log'!$N$18:$N$1017,$B221,'Daily Log'!$O$18:$O$1017),0)","v":0},{"$f":"IFERROR($E221*SUMIF('Daily Log'!$Q$18:$Q$1017,$B221,'Daily Log'!$R$18:$R$1017),0)","v":0},{"$f":"IFERROR($E221*SUMIF('Daily Log'!$T$18:$T$1017,$B221,'Daily Log'!$U$18:$U$1017),0)","v":0},{"$f":"IFERROR($E221*SUMIF('Daily Log'!$W$18:$W$1017,$B221,'Daily Log'!$X$18:$X$1017),0)","v":0},{"$f":"IFERROR($E221*SUMIF('Daily Log'!$Z$18:$Z$1017,$B221,'Daily Log'!$AA$18:$AA$1017),0)","v":0},{"$f":"IFERROR($E221*SUMIF('Daily Log'!$AC$18:$AC$1017,$B221,'Daily Log'!$AD$18:$AD$1017),0)","v":0},{"$f":"IFERROR($E221*SUMIF('Daily Log'!$AF$18:$AF$1017,$B221,'Daily Log'!$AG$18:$AG$1017),0)","v":0},{"$f":"IFERROR($E221*SUMIF('Daily Log'!$AI$18:$AI$1017,$B221,'Daily Log'!$AJ$18:$AJ$1017),0)","v":0},{"$f":"IFERROR($E221*SUMIF('Daily Log'!$AL$18:$AL$1017,$B221,'Daily Log'!$AM$18:$AM$1017),0)","v":0},{"$f":"IFERROR($E221*SUMIF('Daily Log'!$AO$18:$AO$1017,$B221,'Daily Log'!$AP$18:$AP$1017),0)","v":0},{"$f":"IFERROR($E221*SUMIF('Daily Log'!$AR$18:$AR$1017,$B221,'Daily Log'!$AS$18:$AS$1017),0)","v":0},{"$f":"IFERROR($E221*SUMIF('Daily Log'!$AU$18:$AU$1017,$B221,'Daily Log'!$AV$18:$AV$1017),0)","v":0},{"$f":"IFERROR($E221*SUMIF('Daily Log'!$AX$18:$AX$1017,$B221,'Daily Log'!$AY$18:$AY$1017),0)","v":0},{"$f":"IFERROR($E221*SUMIF('Daily Log'!$BA$18:$BA$1017,$B221,'Daily Log'!$BB$18:$BB$1017),0)","v":0},{"$f":"IFERROR($E221*SUMIF('Daily Log'!$BD$18:$BD$1017,$B221,'Daily Log'!$BE$18:$BE$1017),0)","v":0},{"$f":"IFERROR($E221*SUMIF('Daily Log'!$BG$18:$BG$1017,$B221,'Daily Log'!$BH$18:$BH$1017),0)","v":0},{"$f":"IFERROR($E221*SUMIF('Daily Log'!$BJ$18:$BJ$1017,$B221,'Daily Log'!$BK$18:$BK$1017),0)","v":0},{"$f":"IFERROR($E221*SUMIF('Daily Log'!$BM$18:$BM$1017,$B221,'Daily Log'!$BN$18:$BN$1017),0)","v":0},{"$f":"IFERROR($E221*SUMIF('Daily Log'!$BP$18:$BP$1017,$B221,'Daily Log'!$BQ$18:$BQ$1017),0)","v":0},{"$f":"IFERROR($E221*SUMIF('Daily Log'!$BS$18:$BS$1017,$B221,'Daily Log'!$BT$18:$BT$1017),0)","v":0},{"$f":"IFERROR($E221*SUMIF('Daily Log'!$BV$18:$BV$1017,$B221,'Daily Log'!$BW$18:$BW$1017),0)","v":0},{"$f":"IFERROR($E221*SUMIF('Daily Log'!$BY$18:$BY$1017,$B221,'Daily Log'!$BZ$18:$BZ$1017),0)","v":0},{"$f":"IFERROR($E221*SUMIF('Daily Log'!$CB$18:$CB$1017,$B221,'Daily Log'!$CC$18:$CC$1017),0)","v":0},{"$f":"IFERROR($E221*SUMIF('Daily Log'!$CE$18:$CE$1017,$B221,'Daily Log'!$CF$18:$CF$1017),0)","v":0},{"$f":"IFERROR($E221*SUMIF('Daily Log'!$CH$18:$CH$1017,$B221,'Daily Log'!$CI$18:$CI$1017),0)","v":0},{"$f":"IFERROR($E221*SUMIF('Daily Log'!$CK$18:$CK$1017,$B221,'Daily Log'!$CL$18:$CL$1017),0)","v":0},{"$f":"IFERROR($E221*SUMIF('Daily Log'!$CN$18:$CN$1017,$B221,'Daily Log'!$CO$18:$CO$1017),0)","v":0}]
[null,"11543:S08-海鲜豆腐",null,"SIDE ORDER-APPETIZER",1,{"$f":"SUM($G222:$AK222)","v":28},{"$f":"IFERROR($E222*SUMIF('Daily Log'!$B$18:$B$1017,$B222,'Daily Log'!$C$18:$C$1017),0)","v":0},{"$f":"IFERROR($E222*SUMIF('Daily Log'!$E$18:$E$1017,$B222,'Daily Log'!$F$18:$F$1017),0)","v":0},{"$f":"IFERROR($E222*SUMIF('Daily Log'!$H$18:$H$1017,$B222,'Daily Log'!$I$18:$I$1017),0)","v":0},{"$f":"IFERROR($E222*SUMIF('Daily Log'!$K$18:$K$1017,$B222,'Daily Log'!$L$18:$L$1017),0)","v":0},{"$f":"IFERROR($E222*SUMIF('Daily Log'!$N$18:$N$1017,$B222,'Daily Log'!$O$18:$O$1017),0)","v":0},{"$f":"IFERROR($E222*SUMIF('Daily Log'!$Q$18:$Q$1017,$B222,'Daily Log'!$R$18:$R$1017),0)","v":0},{"$f":"IFERROR($E222*SUMIF('Daily Log'!$T$18:$T$1017,$B222,'Daily Log'!$U$18:$U$1017),0)","v":6},{"$f":"IFERROR($E222*SUMIF('Daily Log'!$W$18:$W$1017,$B222,'Daily Log'!$X$18:$X$1017),0)","v":4},{"$f":"IFERROR($E222*SUMIF('Daily Log'!$Z$18:$Z$1017,$B222,'Daily Log'!$AA$18:$AA$1017),0)","v":3},{"$f":"IFERROR($E222*SUMIF('Daily Log'!$AC$18:$AC$1017,$B222,'Daily Log'!$AD$18:$AD$1017),0)","v":2},{"$f":"IFERROR($E222*SUMIF('Daily Log'!$AF$18:$AF$1017,$B222,'Daily Log'!$AG$18:$AG$1017),0)","v":3},{"$f":"IFERROR($E222*SUMIF('Daily Log'!$AI$18:$AI$1017,$B222,'Daily Log'!$AJ$18:$AJ$1017),0)","v":4},{"$f":"IFERROR($E222*SUMIF('Daily Log'!$AL$18:$AL$1017,$B222,'Daily Log'!$AM$18:$AM$1017),0)","v":6},{"$f":"IFERROR($E222*SUMIF('Daily Log'!$AO$18:$AO$1017,$B222,'Daily Log'!$AP$18:$AP$1017),0)","v":0},{"$f":"IFERROR($E222*SUMIF('Daily Log'!$AR$18:$AR$1017,$B222,'Daily Log'!$AS$18:$AS$1017),0)","v":0},{"$f":"IFERROR($E222*SUMIF('Daily Log'!$AU$18:$AU$1017,$B222,'Daily Log'!$AV$18:$AV$1017),0)","v":0},{"$f":"IFERROR($E222*SUMIF('Daily Log'!$AX$18:$AX$1017,$B222,'Daily Log'!$AY$18:$AY$1017),0)","v":0},{"$f":"IFERROR($E222*SUMIF('Daily Log'!$BA$18:$BA$1017,$B222,'Daily Log'!$BB$18:$BB$1017),0)","v":0},{"$f":"IFERROR($E222*SUMIF('Daily Log'!$BD$18:$BD$1017,$B222,'Daily Log'!$BE$18:$BE$1017),0)","v":0},{"$f":"IFERROR($E222*SUMIF('Daily Log'!$BG$18:$BG$1017,$B222,'Daily Log'!$BH$18:$BH$1017),0)","v":0},{"$f":"IFERROR($E222*SUMIF('Daily Log'!$BJ$18:$BJ$1017,$B222,'Daily Log'!$BK$18:$BK$1017),0)","v":0},{"$f":"IFERROR($E222*SUMIF('Daily Log'!$BM$18:$BM$1017,$B222,'Daily Log'!$BN$18:$BN$1017),0)","v":0},{"$f":"IFERROR($E222*SUMIF('Daily Log'!$BP$18:$BP$1017,$B222,'Daily Log'!$BQ$18:$BQ$1017),0)","v":0},{"$f":"IFERROR($E222*SUMIF('Daily Log'!$BS$18:$BS$1017,$B222,'Daily Log'!$BT$18:$BT$1017),0)","v":0},{"$f":"IFERROR($E222*SUMIF('Daily Log'!$BV$18:$BV$1017,$B222,'Daily Log'!$BW$18:$BW$1017),0)","v":0},{"$f":"IFERROR($E222*SUMIF('Daily Log'!$BY$18:$BY$1017,$B222,'Daily Log'!$BZ$18:$BZ$1017),0)","v":0},{"$f":"IFERROR($E222*SUMIF('Daily Log'!$CB$18:$CB$1017,$B222,'Daily Log'!$CC$18:$CC$1017),0)","v":0},{"$f":"IFERROR($E222*SUMIF('Daily Log'!$CE$18:$CE$1017,$B222,'Daily Log'!$CF$18:$CF$1017),0)","v":0},{"$f":"IFERROR($E222*SUMIF('Daily Log'!$CH$18:$CH$1017,$B222,'Daily Log'!$CI$18:$CI$1017),0)","v":0},{"$f":"IFERROR($E222*SUMIF('Daily Log'!$CK$18:$CK$1017,$B222,'Daily Log'!$CL$18:$CL$1017),0)","v":0},{"$f":"IFERROR($E222*SUMIF('Daily Log'!$CN$18:$CN$1017,$B222,'Daily Log'!$CO$18:$CO$1017),0)","v":0}]
[null,"11544:S09-沙律卷卷",null,"SIDE ORDER-APPETIZER",1,14,{"$f":"IFERROR($E223*SUMIF('Daily Log'!$B$18:$B$1017,$B223,'Daily Log'!$C$18:$C$1017),0)","v":0},{"$f":"IFERROR($E223*SUMIF('Daily Log'!$E$18:$E$1017,$B223,'Daily Log'!$F$18:$F$1017),0)","v":0},{"$f":"IFERROR($E223*SUMIF('Daily Log'!$H$18:$H$1017,$B223,'Daily Log'!$I$18:$I$1017),0)","v":0},{"$f":"IFERROR($E223*SUMIF('Daily Log'!$K$18:$K$1017,$B223,'Daily Log'!$L$18:$L$1017),0)","v":0},{"$f":"IFERROR($E223*SUMIF('Daily Log'!$N$18:$N$1017,$B223,'Daily Log'!$O$18:$O$1017),0)","v":0},{"$f":"IFERROR($E223*SUMIF('Daily Log'!$Q$18:$Q$1017,$B223,'Daily Log'!$R$18:$R$1017),0)","v":0},{"$f":"IFERROR($E223*SUMIF('Daily Log'!$T$18:$T$1017,$B223,'Daily Log'!$U$18:$U$1017),0)","v":0},{"$f":"IFERROR($E223*SUMIF('Daily Log'!$W$18:$W$1017,$B223,'Daily Log'!$X$18:$X$1017),0)","v":1},{"$f":"IFERROR($E223*SUMIF('Daily Log'!$Z$18:$Z$1017,$B223,'Daily Log'!$AA$18:$AA$1017),0)","v":2},{"$f":"IFERROR($E223*SUMIF('Daily Log'!$AC$18:$AC$1017,$B223,'Daily Log'!$AD$18:$AD$1017),0)","v":4},{"$f":"IFERROR($E223*SUMIF('Daily Log'!$AF$18:$AF$1017,$B223,'Daily Log'!$AG$18:$AG$1017),0)","v":2},{"$f":"IFERROR($E223*SUMIF('Daily Log'!$AI$18:$AI$1017,$B223,'Daily Log'!$AJ$18:$AJ$1017),0)","v":0},{"$f":"IFERROR($E223*SUMIF('Daily Log'!$AL$18:$AL$1017,$B223,'Daily Log'!$AM$18:$AM$1017),0)","v":5},{"$f":"IFERROR($E223*SUMIF('Daily Log'!$AO$18:$AO$1017,$B223,'Daily Log'!$AP$18:$AP$1017),0)","v":0},{"$f":"IFERROR($E223*SUMIF('Daily Log'!$AR$18:$AR$1017,$B223,'Daily Log'!$AS$18:$AS$1017),0)","v":0},{"$f":"IFERROR($E223*SUMIF('Daily Log'!$AU$18:$AU$1017,$B223,'Daily Log'!$AV$18:$AV$1017),0)","v":0},{"$f":"IFERROR($E223*SUMIF('Daily Log'!$AX$18:$AX$1017,$B223,'Daily Log'!$AY$18:$AY$1017),0)","v":0},{"$f":"IFERROR($E223*SUMIF('Daily Log'!$BA$18:$BA$1017,$B223,'Daily Log'!$BB$18:$BB$1017),0)","v":0},{"$f":"IFERROR($E223*SUMIF('Daily Log'!$BD$18:$BD$1017,$B223,'Daily Log'!$BE$18:$BE$1017),0)","v":0},{"$f":"IFERROR($E223*SUMIF('Daily Log'!$BG$18:$BG$1017,$B223,'Daily Log'!$BH$18:$BH$1017),0)","v":0},{"$f":"IFERROR($E223*SUMIF('Daily Log'!$BJ$18:$BJ$1017,$B223,'Daily Log'!$BK$18:$BK$1017),0)","v":0},{"$f":"IFERROR($E223*SUMIF('Daily Log'!$BM$18:$BM$1017,$B223,'Daily Log'!$BN$18:$BN$1017),0)","v":0},{"$f":"IFERROR($E223*SUMIF('Daily Log'!$BP$18:$BP$1017,$B223,'Daily Log'!$BQ$18:$BQ$1017),0)","v":0},{"$f":"IFERROR($E223*SUMIF('Daily Log'!$BS$18:$BS$1017,$B223,'Daily Log'!$BT$18:$BT$1017),0)","v":0},{"$f":"IFERROR($E223*SUMIF('Daily Log'!$BV$18:$BV$1017,$B223,'Daily Log'!$BW$18:$BW$1017),0)","v":0},{"$f":"IFERROR($E223*SUMIF('Daily Log'!$BY$18:$BY$1017,$B223,'Daily Log'!$BZ$18:$BZ$1017),0)","v":0},{"$f":"IFERROR($E223*SUMIF('Daily Log'!$CB$18:$CB$1017,$B223,'Daily Log'!$CC$18:$CC$1017),0)","v":0},{"$f":"IFERROR($E223*SUMIF('Daily Log'!$CE$18:$CE$1017,$B223,'Daily Log'!$CF$18:$CF$1017),0)","v":0},{"$f":"IFERROR($E223*SUMIF('Daily Log'!$CH$18:$CH$1017,$B223,'Daily Log'!$CI$18:$CI$1017),0)","v":0},{"$f":"IFERROR($E223*SUMIF('Daily Log'!$CK$18:$CK$1017,$B223,'Daily Log'!$CL$18:$CL$1017),0)","v":0},{"$f":"IFERROR($E223*SUMIF('Daily Log'!$CN$18:$CN$1017,$B223,'Daily Log'!$CO$18:$CO$1017),0)","v":0}]
[null,"11545:S10-金钱肉干",null,"SIDE ORDER-APPETIZER",1,24,{"$f":"IFERROR($E224*SUMIF('Daily Log'!$B$18:$B$1017,$B224,'Daily Log'!$C$18:$C$1017),0)","v":0},{"$f":"IFERROR($E224*SUMIF('Daily Log'!$E$18:$E$1017,$B224,'Daily Log'!$F$18:$F$1017),0)","v":0},{"$f":"IFERROR($E224*SUMIF('Daily Log'!$H$18:$H$1017,$B224,'Daily Log'!$I$18:$I$1017),0)","v":0},{"$f":"IFERROR($E224*SUMIF('Daily Log'!$K$18:$K$1017,$B224,'Daily Log'!$L$18:$L$1017),0)","v":0},{"$f":"IFERROR($E224*SUMIF('Daily Log'!$N$18:$N$1017,$B224,'Daily Log'!$O$18:$O$1017),0)","v":0},{"$f":"IFERROR($E224*SUMIF('Daily Log'!$Q$18:$Q$1017,$B224,'Daily Log'!$R$18:$R$1017),0)","v":0},{"$f":"IFERROR($E224*SUMIF('Daily Log'!$T$18:$T$1017,$B224,'Daily Log'!$U$18:$U$1017),0)","v":0},{"$f":"IFERROR($E224*SUMIF('Daily Log'!$W$18:$W$1017,$B224,'Daily Log'!$X$18:$X$1017),0)","v":2},{"$f":"IFERROR($E224*SUMIF('Daily Log'!$Z$18:$Z$1017,$B224,'Daily Log'!$AA$18:$AA$1017),0)","v":5},{"$f":"IFERROR($E224*SUMIF('Daily Log'!$AC$18:$AC$1017,$B224,'Daily Log'!$AD$18:$AD$1017),0)","v":1},{"$f":"IFERROR($E224*SUMIF('Daily Log'!$AF$18:$AF$1017,$B224,'Daily Log'!$AG$18:$AG$1017),0)","v":4},{"$f":"IFERROR($E224*SUMIF('Daily Log'!$AI$18:$AI$1017,$B224,'Daily Log'!$AJ$18:$AJ$1017),0)","v":5},{"$f":"IFERROR($E224*SUMIF('Daily Log'!$AL$18:$AL$1017,$B224,'Daily Log'!$AM$18:$AM$1017),0)","v":7},{"$f":"IFERROR($E224*SUMIF('Daily Log'!$AO$18:$AO$1017,$B224,'Daily Log'!$AP$18:$AP$1017),0)","v":0},{"$f":"IFERROR($E224*SUMIF('Daily Log'!$AR$18:$AR$1017,$B224,'Daily Log'!$AS$18:$AS$1017),0)","v":0},{"$f":"IFERROR($E224*SUMIF('Daily Log'!$AU$18:$AU$1017,$B224,'Daily Log'!$AV$18:$AV$1017),0)","v":0},{"$f":"IFERROR($E224*SUMIF('Daily Log'!$AX$18:$AX$1017,$B224,'Daily Log'!$AY$18:$AY$1017),0)","v":0},{"$f":"IFERROR($E224*SUMIF('Daily Log'!$BA$18:$BA$1017,$B224,'Daily Log'!$BB$18:$BB$1017),0)","v":0},{"$f":"IFERROR($E224*SUMIF('Daily Log'!$BD$18:$BD$1017,$B224,'Daily Log'!$BE$18:$BE$1017),0)","v":0},{"$f":"IFERROR($E224*SUMIF('Daily Log'!$BG$18:$BG$1017,$B224,'Daily Log'!$BH$18:$BH$1017),0)","v":0},{"$f":"IFERROR($E224*SUMIF('Daily Log'!$BJ$18:$BJ$1017,$B224,'Daily Log'!$BK$18:$BK$1017),0)","v":0},{"$f":"IFERROR($E224*SUMIF('Daily Log'!$BM$18:$BM$1017,$B224,'Daily Log'!$BN$18:$BN$1017),0)","v":0},{"$f":"IFERROR($E224*SUMIF('Daily Log'!$BP$18:$BP$1017,$B224,'Daily Log'!$BQ$18:$BQ$1017),0)","v":0},{"$f":"IFERROR($E224*SUMIF('Daily Log'!$BS$18:$BS$1017,$B224,'Daily Log'!$BT$18:$BT$1017),0)","v":0},{"$f":"IFERROR($E224*SUMIF('Daily Log'!$BV$18:$BV$1017,$B224,'Daily Log'!$BW$18:$BW$1017),0)","v":0},{"$f":"IFERROR($E224*SUMIF('Daily Log'!$BY$18:$BY$1017,$B224,'Daily Log'!$BZ$18:$BZ$1017),0)","v":0},{"$f":"IFERROR($E224*SUMIF('Daily Log'!$CB$18:$CB$1017,$B224,'Daily Log'!$CC$18:$CC$1017),0)","v":0},{"$f":"IFERROR($E224*SUMIF('Daily Log'!$CE$18:$CE$1017,$B224,'Daily Log'!$CF$18:$CF$1017),0)","v":0},{"$f":"IFERROR($E224*SUMIF('Daily Log'!$CH$18:$CH$1017,$B224,'Daily Log'!$CI$18:$CI$1017),0)","v":0},{"$f":"IFERROR($E224*SUMIF('Daily Log'!$CK$18:$CK$1017,$B224,'Daily Log'!$CL$18:$CL$1017),0)","v":0},{"$f":"IFERROR($E224*SUMIF('Daily Log'!$CN$18:$CN$1017,$B224,'Daily Log'!$CO$18:$CO$1017),0)","v":0}]
[null,"08011:Pepsi",null,"SOFT DRINK",1,223,{"$f":"IFERROR($E225*SUMIF('Daily Log'!$B$18:$B$1017,$B225,'Daily Log'!$C$18:$C$1017),0)","v":0},{"$f":"IFERROR($E225*SUMIF('Daily Log'!$E$18:$E$1017,$B225,'Daily Log'!$F$18:$F$1017),0)","v":0},{"$f":"IFERROR($E225*SUMIF('Daily Log'!$H$18:$H$1017,$B225,'Daily Log'!$I$18:$I$1017),0)","v":0},{"$f":"IFERROR($E225*SUMIF('Daily Log'!$K$18:$K$1017,$B225,'Daily Log'!$L$18:$L$1017),0)","v":0},{"$f":"IFERROR($E225*SUMIF('Daily Log'!$N$18:$N$1017,$B225,'Daily Log'!$O$18:$O$1017),0)","v":0},{"$f":"IFERROR($E225*SUMIF('Daily Log'!$Q$18:$Q$1017,$B225,'Daily Log'!$R$18:$R$1017),0)","v":0},{"$f":"IFERROR($E225*SUMIF('Daily Log'!$T$18:$T$1017,$B225,'Daily Log'!$U$18:$U$1017),0)","v":21},{"$f":"IFERROR($E225*SUMIF('Daily Log'!$W$18:$W$1017,$B225,'Daily Log'!$X$18:$X$1017),0)","v":32},{"$f":"IFERROR($E225*SUMIF('Daily Log'!$Z$18:$Z$1017,$B225,'Daily Log'!$AA$18:$AA$1017),0)","v":31},{"$f":"IFERROR($E225*SUMIF('Daily Log'!$AC$18:$AC$1017,$B225,'Daily Log'!$AD$18:$AD$1017),0)","v":19},{"$f":"IFERROR($E225*SUMIF('Daily Log'!$AF$18:$AF$1017,$B225,'Daily Log'!$AG$18:$AG$1017),0)","v":43},{"$f":"IFERROR($E225*SUMIF('Daily Log'!$AI$18:$AI$1017,$B225,'Daily Log'!$AJ$18:$AJ$1017),0)","v":41},{"$f":"IFERROR($E225*SUMIF('Daily Log'!$AL$18:$AL$1017,$B225,'Daily Log'!$AM$18:$AM$1017),0)","v":36},{"$f":"IFERROR($E225*SUMIF('Daily Log'!$AO$18:$AO$1017,$B225,'Daily Log'!$AP$18:$AP$1017),0)","v":0},{"$f":"IFERROR($E225*SUMIF('Daily Log'!$AR$18:$AR$1017,$B225,'Daily Log'!$AS$18:$AS$1017),0)","v":0},{"$f":"IFERROR($E225*SUMIF('Daily Log'!$AU$18:$AU$1017,$B225,'Daily Log'!$AV$18:$AV$1017),0)","v":0},{"$f":"IFERROR($E225*SUMIF('Daily Log'!$AX$18:$AX$1017,$B225,'Daily Log'!$AY$18:$AY$1017),0)","v":0},{"$f":"IFERROR($E225*SUMIF('Daily Log'!$BA$18:$BA$1017,$B225,'Daily Log'!$BB$18:$BB$1017),0)","v":0},{"$f":"IFERROR($E225*SUMIF('Daily Log'!$BD$18:$BD$1017,$B225,'Daily Log'!$BE$18:$BE$1017),0)","v":0},{"$f":"IFERROR($E225*SUMIF('Daily Log'!$BG$18:$BG$1017,$B225,'Daily Log'!$BH$18:$BH$1017),0)","v":0},{"$f":"IFERROR($E225*SUMIF('Daily Log'!$BJ$18:$BJ$1017,$B225,'Daily Log'!$BK$18:$BK$1017),0)","v":0},{"$f":"IFERROR($E225*SUMIF('Daily Log'!$BM$18:$BM$1017,$B225,'Daily Log'!$BN$18:$BN$1017),0)","v":0},{"$f":"IFERROR($E225*SUMIF('Daily Log'!$BP$18:$BP$1017,$B225,'Daily Log'!$BQ$18:$BQ$1017),0)","v":0},{"$f":"IFERROR($E225*SUMIF('Daily Log'!$BS$18:$BS$1017,$B225,'Daily Log'!$BT$18:$BT$1017),0)","v":0},{"$f":"IFERROR($E225*SUMIF('Daily Log'!$BV$18:$BV$1017,$B225,'Daily Log'!$BW$18:$BW$1017),0)","v":0},{"$f":"IFERROR($E225*SUMIF('Daily Log'!$BY$18:$BY$1017,$B225,'Daily Log'!$BZ$18:$BZ$1017),0)","v":0},{"$f":"IFERROR($E225*SUMIF('Daily Log'!$CB$18:$CB$1017,$B225,'Daily Log'!$CC$18:$CC$1017),0)","v":0},{"$f":"IFERROR($E225*SUMIF('Daily Log'!$CE$18:$CE$1017,$B225,'Daily Log'!$CF$18:$CF$1017),0)","v":0},{"$f":"IFERROR($E225*SUMIF('Daily Log'!$CH$18:$CH$1017,$B225,'Daily Log'!$CI$18:$CI$1017),0)","v":0},{"$f":"IFERROR($E225*SUMIF('Daily Log'!$CK$18:$CK$1017,$B225,'Daily Log'!$CL$18:$CL$1017),0)","v":0},{"$f":"IFERROR($E225*SUMIF('Daily Log'!$CN$18:$CN$1017,$B225,'Daily Log'!$CO$18:$CO$1017),0)","v":0}]
[null,"08013:7up",null,"SOFT DRINK",1,60,{"$f":"IFERROR($E226*SUMIF('Daily Log'!$B$18:$B$1017,$B226,'Daily Log'!$C$18:$C$1017),0)","v":0},{"$f":"IFERROR($E226*SUMIF('Daily Log'!$E$18:$E$1017,$B226,'Daily Log'!$F$18:$F$1017),0)","v":0},{"$f":"IFERROR($E226*SUMIF('Daily Log'!$H$18:$H$1017,$B226,'Daily Log'!$I$18:$I$1017),0)","v":0},{"$f":"IFERROR($E226*SUMIF('Daily Log'!$K$18:$K$1017,$B226,'Daily Log'!$L$18:$L$1017),0)","v":0},{"$f":"IFERROR($E226*SUMIF('Daily Log'!$N$18:$N$1017,$B226,'Daily Log'!$O$18:$O$1017),0)","v":0},{"$f":"IFERROR($E226*SUMIF('Daily Log'!$Q$18:$Q$1017,$B226,'Daily Log'!$R$18:$R$1017),0)","v":0},{"$f":"IFERROR($E226*SUMIF('Daily Log'!$T$18:$T$1017,$B226,'Daily Log'!$U$18:$U$1017),0)","v":7},{"$f":"IFERROR($E226*SUMIF('Daily Log'!$W$18:$W$1017,$B226,'Daily Log'!$X$18:$X$1017),0)","v":4},{"$f":"IFERROR($E226*SUMIF('Daily Log'!$Z$18:$Z$1017,$B226,'Daily Log'!$AA$18:$AA$1017),0)","v":12},{"$f":"IFERROR($E226*SUMIF('Daily Log'!$AC$18:$AC$1017,$B226,'Daily Log'!$AD$18:$AD$1017),0)","v":8},{"$f":"IFERROR($E226*SUMIF('Daily Log'!$AF$18:$AF$1017,$B226,'Daily Log'!$AG$18:$AG$1017),0)","v":8},{"$f":"IFERROR($E226*SUMIF('Daily Log'!$AI$18:$AI$1017,$B226,'Daily Log'!$AJ$18:$AJ$1017),0)","v":11},{"$f":"IFERROR($E226*SUMIF('Daily Log'!$AL$18:$AL$1017,$B226,'Daily Log'!$AM$18:$AM$1017),0)","v":10},{"$f":"IFERROR($E226*SUMIF('Daily Log'!$AO$18:$AO$1017,$B226,'Daily Log'!$AP$18:$AP$1017),0)","v":0},{"$f":"IFERROR($E226*SUMIF('Daily Log'!$AR$18:$AR$1017,$B226,'Daily Log'!$AS$18:$AS$1017),0)","v":0},{"$f":"IFERROR($E226*SUMIF('Daily Log'!$AU$18:$AU$1017,$B226,'Daily Log'!$AV$18:$AV$1017),0)","v":0},{"$f":"IFERROR($E226*SUMIF('Daily Log'!$AX$18:$AX$1017,$B226,'Daily Log'!$AY$18:$AY$1017),0)","v":0},{"$f":"IFERROR($E226*SUMIF('Daily Log'!$BA$18:$BA$1017,$B226,'Daily Log'!$BB$18:$BB$1017),0)","v":0},{"$f":"IFERROR($E226*SUMIF('Daily Log'!$BD$18:$BD$1017,$B226,'Daily Log'!$BE$18:$BE$1017),0)","v":0},{"$f":"IFERROR($E226*SUMIF('Daily Log'!$BG$18:$BG$1017,$B226,'Daily Log'!$BH$18:$BH$1017),0)","v":0},{"$f":"IFERROR($E226*SUMIF('Daily Log'!$BJ$18:$BJ$1017,$B226,'Daily Log'!$BK$18:$BK$1017),0)","v":0},{"$f":"IFERROR($E226*SUMIF('Daily Log'!$BM$18:$BM$1017,$B226,'Daily Log'!$BN$18:$BN$1017),0)","v":0},{"$f":"IFERROR($E226*SUMIF('Daily Log'!$BP$18:$BP$1017,$B226,'Daily Log'!$BQ$18:$BQ$1017),0)","v":0},{"$f":"IFERROR($E226*SUMIF('Daily Log'!$BS$18:$BS$1017,$B226,'Daily Log'!$BT$18:$BT$1017),0)","v":0},{"$f":"IFERROR($E226*SUMIF('Daily Log'!$BV$18:$BV$1017,$B226,'Daily Log'!$BW$18:$BW$1017),0)","v":0},{"$f":"IFERROR($E226*SUMIF('Daily Log'!$BY$18:$BY$1017,$B226,'Daily Log'!$BZ$18:$BZ$1017),0)","v":0},{"$f":"IFERROR($E226*SUMIF('Daily Log'!$CB$18:$CB$1017,$B226,'Daily Log'!$CC$18:$CC$1017),0)","v":0},{"$f":"IFERROR($E226*SUMIF('Daily Log'!$CE$18:$CE$1017,$B226,'Daily Log'!$CF$18:$CF$1017),0)","v":0},{"$f":"IFERROR($E226*SUMIF('Daily Log'!$CH$18:$CH$1017,$B226,'Daily Log'!$CI$18:$CI$1017),0)","v":0},{"$f":"IFERROR($E226*SUMIF('Daily Log'!$CK$18:$CK$1017,$B226,'Daily Log'!$CL$18:$CL$1017),0)","v":0},{"$f":"IFERROR($E226*SUMIF('Daily Log'!$CN$18:$CN$1017,$B226,'Daily Log'!$CO$18:$CO$1017),0)","v":0}]
[null,"09011:Pepsi",null,"SOFT DRINK",1,1,{"$f":"IFERROR($E227*SUMIF('Daily Log'!$B$18:$B$1017,$B227,'Daily Log'!$C$18:$C$1017),0)","v":0},{"$f":"IFERROR($E227*SUMIF('Daily Log'!$E$18:$E$1017,$B227,'Daily Log'!$F$18:$F$1017),0)","v":0},{"$f":"IFERROR($E227*SUMIF('Daily Log'!$H$18:$H$1017,$B227,'Daily Log'!$I$18:$I$1017),0)","v":0},{"$f":"IFERROR($E227*SUMIF('Daily Log'!$K$18:$K$1017,$B227,'Daily Log'!$L$18:$L$1017),0)","v":0},{"$f":"IFERROR($E227*SUMIF('Daily Log'!$N$18:$N$1017,$B227,'Daily Log'!$O$18:$O$1017),0)","v":0},{"$f":"IFERROR($E227*SUMIF('Daily Log'!$Q$18:$Q$1017,$B227,'Daily Log'!$R$18:$R$1017),0)","v":0},{"$f":"IFERROR($E227*SUMIF('Daily Log'!$T$18:$T$1017,$B227,'Daily Log'!$U$18:$U$1017),0)","v":0},{"$f":"IFERROR($E227*SUMIF('Daily Log'!$W$18:$W$1017,$B227,'Daily Log'!$X$18:$X$1017),0)","v":0},{"$f":"IFERROR($E227*SUMIF('Daily Log'!$Z$18:$Z$1017,$B227,'Daily Log'!$AA$18:$AA$1017),0)","v":0},{"$f":"IFERROR($E227*SUMIF('Daily Log'!$AC$18:$AC$1017,$B227,'Daily Log'!$AD$18:$AD$1017),0)","v":0},{"$f":"IFERROR($E227*SUMIF('Daily Log'!$AF$18:$AF$1017,$B227,'Daily Log'!$AG$18:$AG$1017),0)","v":0},{"$f":"IFERROR($E227*SUMIF('Daily Log'!$AI$18:$AI$1017,$B227,'Daily Log'!$AJ$18:$AJ$1017),0)","v":1},{"$f":"IFERROR($E227*SUMIF('Daily Log'!$AL$18:$AL$1017,$B227,'Daily Log'!$AM$18:$AM$1017),0)","v":0},{"$f":"IFERROR($E227*SUMIF('Daily Log'!$AO$18:$AO$1017,$B227,'Daily Log'!$AP$18:$AP$1017),0)","v":0},{"$f":"IFERROR($E227*SUMIF('Daily Log'!$AR$18:$AR$1017,$B227,'Daily Log'!$AS$18:$AS$1017),0)","v":0},{"$f":"IFERROR($E227*SUMIF('Daily Log'!$AU$18:$AU$1017,$B227,'Daily Log'!$AV$18:$AV$1017),0)","v":0},{"$f":"IFERROR($E227*SUMIF('Daily Log'!$AX$18:$AX$1017,$B227,'Daily Log'!$AY$18:$AY$1017),0)","v":0},{"$f":"IFERROR($E227*SUMIF('Daily Log'!$BA$18:$BA$1017,$B227,'Daily Log'!$BB$18:$BB$1017),0)","v":0},{"$f":"IFERROR($E227*SUMIF('Daily Log'!$BD$18:$BD$1017,$B227,'Daily Log'!$BE$18:$BE$1017),0)","v":0},{"$f":"IFERROR($E227*SUMIF('Daily Log'!$BG$18:$BG$1017,$B227,'Daily Log'!$BH$18:$BH$1017),0)","v":0},{"$f":"IFERROR($E227*SUMIF('Daily Log'!$BJ$18:$BJ$1017,$B227,'Daily Log'!$BK$18:$BK$1017),0)","v":0},{"$f":"IFERROR($E227*SUMIF('Daily Log'!$BM$18:$BM$1017,$B227,'Daily Log'!$BN$18:$BN$1017),0)","v":0},{"$f":"IFERROR($E227*SUMIF('Daily Log'!$BP$18:$BP$1017,$B227,'Daily Log'!$BQ$18:$BQ$1017),0)","v":0},{"$f":"IFERROR($E227*SUMIF('Daily Log'!$BS$18:$BS$1017,$B227,'Daily Log'!$BT$18:$BT$1017),0)","v":0},{"$f":"IFERROR($E227*SUMIF('Daily Log'!$BV$18:$BV$1017,$B227,'Daily Log'!$BW$18:$BW$1017),0)","v":0},{"$f":"IFERROR($E227*SUMIF('Daily Log'!$BY$18:$BY$1017,$B227,'Daily Log'!$BZ$18:$BZ$1017),0)","v":0},{"$f":"IFERROR($E227*SUMIF('Daily Log'!$CB$18:$CB$1017,$B227,'Daily Log'!$CC$18:$CC$1017),0)","v":0},{"$f":"IFERROR($E227*SUMIF('Daily Log'!$CE$18:$CE$1017,$B227,'Daily Log'!$CF$18:$CF$1017),0)","v":0},{"$f":"IFERROR($E227*SUMIF('Daily Log'!$CH$18:$CH$1017,$B227,'Daily Log'!$CI$18:$CI$1017),0)","v":0},{"$f":"IFERROR($E227*SUMIF('Daily Log'!$CK$18:$CK$1017,$B227,'Daily Log'!$CL$18:$CL$1017),0)","v":0},{"$f":"IFERROR($E227*SUMIF('Daily Log'!$CN$18:$CN$1017,$B227,'Daily Log'!$CO$18:$CO$1017),0)","v":0}]
[null,"09014:7up Revive",null,"SOFT DRINK",1,0,{"$f":"IFERROR($E228*SUMIF('Daily Log'!$B$18:$B$1017,$B228,'Daily Log'!$C$18:$C$1017),0)","v":0},{"$f":"IFERROR($E228*SUMIF('Daily Log'!$E$18:$E$1017,$B228,'Daily Log'!$F$18:$F$1017),0)","v":0},{"$f":"IFERROR($E228*SUMIF('Daily Log'!$H$18:$H$1017,$B228,'Daily Log'!$I$18:$I$1017),0)","v":0},{"$f":"IFERROR($E228*SUMIF('Daily Log'!$K$18:$K$1017,$B228,'Daily Log'!$L$18:$L$1017),0)","v":0},{"$f":"IFERROR($E228*SUMIF('Daily Log'!$N$18:$N$1017,$B228,'Daily Log'!$O$18:$O$1017),0)","v":0},{"$f":"IFERROR($E228*SUMIF('Daily Log'!$Q$18:$Q$1017,$B228,'Daily Log'!$R$18:$R$1017),0)","v":0},{"$f":"IFERROR($E228*SUMIF('Daily Log'!$T$18:$T$1017,$B228,'Daily Log'!$U$18:$U$1017),0)","v":0},{"$f":"IFERROR($E228*SUMIF('Daily Log'!$W$18:$W$1017,$B228,'Daily Log'!$X$18:$X$1017),0)","v":0},{"$f":"IFERROR($E228*SUMIF('Daily Log'!$Z$18:$Z$1017,$B228,'Daily Log'!$AA$18:$AA$1017),0)","v":0},{"$f":"IFERROR($E228*SUMIF('Daily Log'!$AC$18:$AC$1017,$B228,'Daily Log'!$AD$18:$AD$1017),0)","v":0},{"$f":"IFERROR($E228*SUMIF('Daily Log'!$AF$18:$AF$1017,$B228,'Daily Log'!$AG$18:$AG$1017),0)","v":0},{"$f":"IFERROR($E228*SUMIF('Daily Log'!$AI$18:$AI$1017,$B228,'Daily Log'!$AJ$18:$AJ$1017),0)","v":0},{"$f":"IFERROR($E228*SUMIF('Daily Log'!$AL$18:$AL$1017,$B228,'Daily Log'!$AM$18:$AM$1017),0)","v":0},{"$f":"IFERROR($E228*SUMIF('Daily Log'!$AO$18:$AO$1017,$B228,'Daily Log'!$AP$18:$AP$1017),0)","v":0},{"$f":"IFERROR($E228*SUMIF('Daily Log'!$AR$18:$AR$1017,$B228,'Daily Log'!$AS$18:$AS$1017),0)","v":0},{"$f":"IFERROR($E228*SUMIF('Daily Log'!$AU$18:$AU$1017,$B228,'Daily Log'!$AV$18:$AV$1017),0)","v":0},{"$f":"IFERROR($E228*SUMIF('Daily Log'!$AX$18:$AX$1017,$B228,'Daily Log'!$AY$18:$AY$1017),0)","v":0},{"$f":"IFERROR($E228*SUMIF('Daily Log'!$BA$18:$BA$1017,$B228,'Daily Log'!$BB$18:$BB$1017),0)","v":0},{"$f":"IFERROR($E228*SUMIF('Daily Log'!$BD$18:$BD$1017,$B228,'Daily Log'!$BE$18:$BE$1017),0)","v":0},{"$f":"IFERROR($E228*SUMIF('Daily Log'!$BG$18:$BG$1017,$B228,'Daily Log'!$BH$18:$BH$1017),0)","v":0},{"$f":"IFERROR($E228*SUMIF('Daily Log'!$BJ$18:$BJ$1017,$B228,'Daily Log'!$BK$18:$BK$1017),0)","v":0},{"$f":"IFERROR($E228*SUMIF('Daily Log'!$BM$18:$BM$1017,$B228,'Daily Log'!$BN$18:$BN$1017),0)","v":0},{"$f":"IFERROR($E228*SUMIF('Daily Log'!$BP$18:$BP$1017,$B228,'Daily Log'!$BQ$18:$BQ$1017),0)","v":0},{"$f":"IFERROR($E228*SUMIF('Daily Log'!$BS$18:$BS$1017,$B228,'Daily Log'!$BT$18:$BT$1017),0)","v":0},{"$f":"IFERROR($E228*SUMIF('Daily Log'!$BV$18:$BV$1017,$B228,'Daily Log'!$BW$18:$BW$1017),0)","v":0},{"$f":"IFERROR($E228*SUMIF('Daily Log'!$BY$18:$BY$1017,$B228,'Daily Log'!$BZ$18:$BZ$1017),0)","v":0},{"$f":"IFERROR($E228*SUMIF('Daily Log'!$CB$18:$CB$1017,$B228,'Daily Log'!$CC$18:$CC$1017),0)","v":0},{"$f":"IFERROR($E228*SUMIF('Daily Log'!$CE$18:$CE$1017,$B228,'Daily Log'!$CF$18:$CF$1017),0)","v":0},{"$f":"IFERROR($E228*SUMIF('Daily Log'!$CH$18:$CH$1017,$B228,'Daily Log'!$CI$18:$CI$1017),0)","v":0},{"$f":"IFERROR($E228*SUMIF('Daily Log'!$CK$18:$CK$1017,$B228,'Daily Log'!$CL$18:$CL$1017),0)","v":0},{"$f":"IFERROR($E228*SUMIF('Daily Log'!$CN$18:$CN$1017,$B228,'Daily Log'!$CO$18:$CO$1017),0)","v":0}]
[null,"01101:K-Normal Price",null,null,1,19,{"$f":"IFERROR($E229*SUMIF('Daily Log'!$B$18:$B$1017,$B229,'Daily Log'!$C$18:$C$1017),0)","v":0},{"$f":"IFERROR($E229*SUMIF('Daily Log'!$E$18:$E$1017,$B229,'Daily Log'!$F$18:$F$1017),0)","v":0},{"$f":"IFERROR($E229*SUMIF('Daily Log'!$H$18:$H$1017,$B229,'Daily Log'!$I$18:$I$1017),0)","v":0},{"$f":"IFERROR($E229*SUMIF('Daily Log'!$K$18:$K$1017,$B229,'Daily Log'!$L$18:$L$1017),0)","v":0},{"$f":"IFERROR($E229*SUMIF('Daily Log'!$N$18:$N$1017,$B229,'Daily Log'!$O$18:$O$1017),0)","v":0},{"$f":"IFERROR($E229*SUMIF('Daily Log'!$Q$18:$Q$1017,$B229,'Daily Log'!$R$18:$R$1017),0)","v":0},{"$f":"IFERROR($E229*SUMIF('Daily Log'!$T$18:$T$1017,$B229,'Daily Log'!$U$18:$U$1017),0)","v":2},{"$f":"IFERROR($E229*SUMIF('Daily Log'!$W$18:$W$1017,$B229,'Daily Log'!$X$18:$X$1017),0)","v":10},{"$f":"IFERROR($E229*SUMIF('Daily Log'!$Z$18:$Z$1017,$B229,'Daily Log'!$AA$18:$AA$1017),0)","v":4},{"$f":"IFERROR($E229*SUMIF('Daily Log'!$AC$18:$AC$1017,$B229,'Daily Log'!$AD$18:$AD$1017),0)","v":3},{"$f":"IFERROR($E229*SUMIF('Daily Log'!$AF$18:$AF$1017,$B229,'Daily Log'!$AG$18:$AG$1017),0)","v":0},{"$f":"IFERROR($E229*SUMIF('Daily Log'!$AI$18:$AI$1017,$B229,'Daily Log'!$AJ$18:$AJ$1017),0)","v":0},{"$f":"IFERROR($E229*SUMIF('Daily Log'!$AL$18:$AL$1017,$B229,'Daily Log'!$AM$18:$AM$1017),0)","v":0},{"$f":"IFERROR($E229*SUMIF('Daily Log'!$AO$18:$AO$1017,$B229,'Daily Log'!$AP$18:$AP$1017),0)","v":0},{"$f":"IFERROR($E229*SUMIF('Daily Log'!$AR$18:$AR$1017,$B229,'Daily Log'!$AS$18:$AS$1017),0)","v":0},{"$f":"IFERROR($E229*SUMIF('Daily Log'!$AU$18:$AU$1017,$B229,'Daily Log'!$AV$18:$AV$1017),0)","v":0},{"$f":"IFERROR($E229*SUMIF('Daily Log'!$AX$18:$AX$1017,$B229,'Daily Log'!$AY$18:$AY$1017),0)","v":0},{"$f":"IFERROR($E229*SUMIF('Daily Log'!$BA$18:$BA$1017,$B229,'Daily Log'!$BB$18:$BB$1017),0)","v":0},{"$f":"IFERROR($E229*SUMIF('Daily Log'!$BD$18:$BD$1017,$B229,'Daily Log'!$BE$18:$BE$1017),0)","v":0},{"$f":"IFERROR($E229*SUMIF('Daily Log'!$BG$18:$BG$1017,$B229,'Daily Log'!$BH$18:$BH$1017),0)","v":0},{"$f":"IFERROR($E229*SUMIF('Daily Log'!$BJ$18:$BJ$1017,$B229,'Daily Log'!$BK$18:$BK$1017),0)","v":0},{"$f":"IFERROR($E229*SUMIF('Daily Log'!$BM$18:$BM$1017,$B229,'Daily Log'!$BN$18:$BN$1017),0)","v":0},{"$f":"IFERROR($E229*SUMIF('Daily Log'!$BP$18:$BP$1017,$B229,'Daily Log'!$BQ$18:$BQ$1017),0)","v":0},{"$f":"IFERROR($E229*SUMIF('Daily Log'!$BS$18:$BS$1017,$B229,'Daily Log'!$BT$18:$BT$1017),0)","v":0},{"$f":"IFERROR($E229*SUMIF('Daily Log'!$BV$18:$BV$1017,$B229,'Daily Log'!$BW$18:$BW$1017),0)","v":0},{"$f":"IFERROR($E229*SUMIF('Daily Log'!$BY$18:$BY$1017,$B229,'Daily Log'!$BZ$18:$BZ$1017),0)","v":0},{"$f":"IFERROR($E229*SUMIF('Daily Log'!$CB$18:$CB$1017,$B229,'Daily Log'!$CC$18:$CC$1017),0)","v":0},{"$f":"IFERROR($E229*SUMIF('Daily Log'!$CE$18:$CE$1017,$B229,'Daily Log'!$CF$18:$CF$1017),0)","v":0},{"$f":"IFERROR($E229*SUMIF('Daily Log'!$CH$18:$CH$1017,$B229,'Daily Log'!$CI$18:$CI$1017),0)","v":0},{"$f":"IFERROR($E229*SUMIF('Daily Log'!$CK$18:$CK$1017,$B229,'Daily Log'!$CL$18:$CL$1017),0)","v":0},{"$f":"IFERROR($E229*SUMIF('Daily Log'!$CN$18:$CN$1017,$B229,'Daily Log'!$CO$18:$CO$1017),0)","v":0}]
[null,"01102:K-Member Price",null,null,1,0,{"$f":"IFERROR($E230*SUMIF('Daily Log'!$B$18:$B$1017,$B230,'Daily Log'!$C$18:$C$1017),0)","v":0},{"$f":"IFERROR($E230*SUMIF('Daily Log'!$E$18:$E$1017,$B230,'Daily Log'!$F$18:$F$1017),0)","v":0},{"$f":"IFERROR($E230*SUMIF('Daily Log'!$H$18:$H$1017,$B230,'Daily Log'!$I$18:$I$1017),0)","v":0},{"$f":"IFERROR($E230*SUMIF('Daily Log'!$K$18:$K$1017,$B230,'Daily Log'!$L$18:$L$1017),0)","v":0},{"$f":"IFERROR($E230*SUMIF('Daily Log'!$N$18:$N$1017,$B230,'Daily Log'!$O$18:$O$1017),0)","v":0},{"$f":"IFERROR($E230*SUMIF('Daily Log'!$Q$18:$Q$1017,$B230,'Daily Log'!$R$18:$R$1017),0)","v":0},{"$f":"IFERROR($E230*SUMIF('Daily Log'!$T$18:$T$1017,$B230,'Daily Log'!$U$18:$U$1017),0)","v":0},{"$f":"IFERROR($E230*SUMIF('Daily Log'!$W$18:$W$1017,$B230,'Daily Log'!$X$18:$X$1017),0)","v":0},{"$f":"IFERROR($E230*SUMIF('Daily Log'!$Z$18:$Z$1017,$B230,'Daily Log'!$AA$18:$AA$1017),0)","v":0},{"$f":"IFERROR($E230*SUMIF('Daily Log'!$AC$18:$AC$1017,$B230,'Daily Log'!$AD$18:$AD$1017),0)","v":0},{"$f":"IFERROR($E230*SUMIF('Daily Log'!$AF$18:$AF$1017,$B230,'Daily Log'!$AG$18:$AG$1017),0)","v":0},{"$f":"IFERROR($E230*SUMIF('Daily Log'!$AI$18:$AI$1017,$B230,'Daily Log'!$AJ$18:$AJ$1017),0)","v":0},{"$f":"IFERROR($E230*SUMIF('Daily Log'!$AL$18:$AL$1017,$B230,'Daily Log'!$AM$18:$AM$1017),0)","v":0},{"$f":"IFERROR($E230*SUMIF('Daily Log'!$AO$18:$AO$1017,$B230,'Daily Log'!$AP$18:$AP$1017),0)","v":0},{"$f":"IFERROR($E230*SUMIF('Daily Log'!$AR$18:$AR$1017,$B230,'Daily Log'!$AS$18:$AS$1017),0)","v":0},{"$f":"IFERROR($E230*SUMIF('Daily Log'!$AU$18:$AU$1017,$B230,'Daily Log'!$AV$18:$AV$1017),0)","v":0},{"$f":"IFERROR($E230*SUMIF('Daily Log'!$AX$18:$AX$1017,$B230,'Daily Log'!$AY$18:$AY$1017),0)","v":0},{"$f":"IFERROR($E230*SUMIF('Daily Log'!$BA$18:$BA$1017,$B230,'Daily Log'!$BB$18:$BB$1017),0)","v":0},{"$f":"IFERROR($E230*SUMIF('Daily Log'!$BD$18:$BD$1017,$B230,'Daily Log'!$BE$18:$BE$1017),0)","v":0},{"$f":"IFERROR($E230*SUMIF('Daily Log'!$BG$18:$BG$1017,$B230,'Daily Log'!$BH$18:$BH$1017),0)","v":0},{"$f":"IFERROR($E230*SUMIF('Daily Log'!$BJ$18:$BJ$1017,$B230,'Daily Log'!$BK$18:$BK$1017),0)","v":0},{"$f":"IFERROR($E230*SUMIF('Daily Log'!$BM$18:$BM$1017,$B230,'Daily Log'!$BN$18:$BN$1017),0)","v":0},{"$f":"IFERROR($E230*SUMIF('Daily Log'!$BP$18:$BP$1017,$B230,'Daily Log'!$BQ$18:$BQ$1017),0)","v":0},{"$f":"IFERROR($E230*SUMIF('Daily Log'!$BS$18:$BS$1017,$B230,'Daily Log'!$BT$18:$BT$1017),0)","v":0},{"$f":"IFERROR($E230*SUMIF('Daily Log'!$BV$18:$BV$1017,$B230,'Daily Log'!$BW$18:$BW$1017),0)","v":0},{"$f":"IFERROR($E230*SUMIF('Daily Log'!$BY$18:$BY$1017,$B230,'Daily Log'!$BZ$18:$BZ$1017),0)","v":0},{"$f":"IFERROR($E230*SUMIF('Daily Log'!$CB$18:$CB$1017,$B230,'Daily Log'!$CC$18:$CC$1017),0)","v":0},{"$f":"IFERROR($E230*SUMIF('Daily Log'!$CE$18:$CE$1017,$B230,'Daily Log'!$CF$18:$CF$1017),0)","v":0},{"$f":"IFERROR($E230*SUMIF('Daily Log'!$CH$18:$CH$1017,$B230,'Daily Log'!$CI$18:$CI$1017),0)","v":0},{"$f":"IFERROR($E230*SUMIF('Daily Log'!$CK$18:$CK$1017,$B230,'Daily Log'!$CL$18:$CL$1017),0)","v":0},{"$f":"IFERROR($E230*SUMIF('Daily Log'!$CN$18:$CN$1017,$B230,'Daily Log'!$CO$18:$CO$1017),0)","v":0}]
[null,"01103:K-Children Free",null,null,1,18,{"$f":"IFERROR($E231*SUMIF('Daily Log'!$B$18:$B$1017,$B231,'Daily Log'!$C$18:$C$1017),0)","v":0},{"$f":"IFERROR($E231*SUMIF('Daily Log'!$E$18:$E$1017,$B231,'Daily Log'!$F$18:$F$1017),0)","v":0},{"$f":"IFERROR($E231*SUMIF('Daily Log'!$H$18:$H$1017,$B231,'Daily Log'!$I$18:$I$1017),0)","v":0},{"$f":"IFERROR($E231*SUMIF('Daily Log'!$K$18:$K$1017,$B231,'Daily Log'!$L$18:$L$1017),0)","v":0},{"$f":"IFERROR($E231*SUMIF('Daily Log'!$N$18:$N$1017,$B231,'Daily Log'!$O$18:$O$1017),0)","v":0},{"$f":"IFERROR($E231*SUMIF('Daily Log'!$Q$18:$Q$1017,$B231,'Daily Log'!$R$18:$R$1017),0)","v":0},{"$f":"IFERROR($E231*SUMIF('Daily Log'!$T$18:$T$1017,$B231,'Daily Log'!$U$18:$U$1017),0)","v":3},{"$f":"IFERROR($E231*SUMIF('Daily Log'!$W$18:$W$1017,$B231,'Daily Log'!$X$18:$X$1017),0)","v":3},{"$f":"IFERROR($E231*SUMIF('Daily Log'!$Z$18:$Z$1017,$B231,'Daily Log'!$AA$18:$AA$1017),0)","v":1},{"$f":"IFERROR($E231*SUMIF('Daily Log'!$AC$18:$AC$1017,$B231,'Daily Log'!$AD$18:$AD$1017),0)","v":3},{"$f":"IFERROR($E231*SUMIF('Daily Log'!$AF$18:$AF$1017,$B231,'Daily Log'!$AG$18:$AG$1017),0)","v":0},{"$f":"IFERROR($E231*SUMIF('Daily Log'!$AI$18:$AI$1017,$B231,'Daily Log'!$AJ$18:$AJ$1017),0)","v":8},{"$f":"IFERROR($E231*SUMIF('Daily Log'!$AL$18:$AL$1017,$B231,'Daily Log'!$AM$18:$AM$1017),0)","v":0},{"$f":"IFERROR($E231*SUMIF('Daily Log'!$AO$18:$AO$1017,$B231,'Daily Log'!$AP$18:$AP$1017),0)","v":0},{"$f":"IFERROR($E231*SUMIF('Daily Log'!$AR$18:$AR$1017,$B231,'Daily Log'!$AS$18:$AS$1017),0)","v":0},{"$f":"IFERROR($E231*SUMIF('Daily Log'!$AU$18:$AU$1017,$B231,'Daily Log'!$AV$18:$AV$1017),0)","v":0},{"$f":"IFERROR($E231*SUMIF('Daily Log'!$AX$18:$AX$1017,$B231,'Daily Log'!$AY$18:$AY$1017),0)","v":0},{"$f":"IFERROR($E231*SUMIF('Daily Log'!$BA$18:$BA$1017,$B231,'Daily Log'!$BB$18:$BB$1017),0)","v":0},{"$f":"IFERROR($E231*SUMIF('Daily Log'!$BD$18:$BD$1017,$B231,'Daily Log'!$BE$18:$BE$1017),0)","v":0},{"$f":"IFERROR($E231*SUMIF('Daily Log'!$BG$18:$BG$1017,$B231,'Daily Log'!$BH$18:$BH$1017),0)","v":0},{"$f":"IFERROR($E231*SUMIF('Daily Log'!$BJ$18:$BJ$1017,$B231,'Daily Log'!$BK$18:$BK$1017),0)","v":0},{"$f":"IFERROR($E231*SUMIF('Daily Log'!$BM$18:$BM$1017,$B231,'Daily Log'!$BN$18:$BN$1017),0)","v":0},{"$f":"IFERROR($E231*SUMIF('Daily Log'!$BP$18:$BP$1017,$B231,'Daily Log'!$BQ$18:$BQ$1017),0)","v":0},{"$f":"IFERROR($E231*SUMIF('Daily Log'!$BS$18:$BS$1017,$B231,'Daily Log'!$BT$18:$BT$1017),0)","v":0},{"$f":"IFERROR($E231*SUMIF('Daily Log'!$BV$18:$BV$1017,$B231,'Daily Log'!$BW$18:$BW$1017),0)","v":0},{"$f":"IFERROR($E231*SUMIF('Daily Log'!$BY$18:$BY$1017,$B231,'Daily Log'!$BZ$18:$BZ$1017),0)","v":0},{"$f":"IFERROR($E231*SUMIF('Daily Log'!$CB$18:$CB$1017,$B231,'Daily Log'!$CC$18:$CC$1017),0)","v":0},{"$f":"IFERROR($E231*SUMIF('Daily Log'!$CE$18:$CE$1017,$B231,'Daily Log'!$CF$18:$CF$1017),0)","v":0},{"$f":"IFERROR($E231*SUMIF('Daily Log'!$CH$18:$CH$1017,$B231,'Daily Log'!$CI$18:$CI$1017),0)","v":0},{"$f":"IFERROR($E231*SUMIF('Daily Log'!$CK$18:$CK$1017,$B231,'Daily Log'!$CL$18:$CL$1017),0)","v":0},{"$f":"IFERROR($E231*SUMIF('Daily Log'!$CN$18:$CN$1017,$B231,'Daily Log'!$CO$18:$CO$1017),0)","v":0}]
[null,"01115:K-Lunch",null,null,1,520,{"$f":"IFERROR($E232*SUMIF('Daily Log'!$B$18:$B$1017,$B232,'Daily Log'!$C$18:$C$1017),0)","v":0},{"$f":"IFERROR($E232*SUMIF('Daily Log'!$E$18:$E$1017,$B232,'Daily Log'!$F$18:$F$1017),0)","v":0},{"$f":"IFERROR($E232*SUMIF('Daily Log'!$H$18:$H$1017,$B232,'Daily Log'!$I$18:$I$1017),0)","v":0},{"$f":"IFERROR($E232*SUMIF('Daily Log'!$K$18:$K$1017,$B232,'Daily Log'!$L$18:$L$1017),0)","v":0},{"$f":"IFERROR($E232*SUMIF('Daily Log'!$N$18:$N$1017,$B232,'Daily Log'!$O$18:$O$1017),0)","v":0},{"$f":"IFERROR($E232*SUMIF('Daily Log'!$Q$18:$Q$1017,$B232,'Daily Log'!$R$18:$R$1017),0)","v":0},{"$f":"IFERROR($E232*SUMIF('Daily Log'!$T$18:$T$1017,$B232,'Daily Log'!$U$18:$U$1017),0)","v":92},{"$f":"IFERROR($E232*SUMIF('Daily Log'!$W$18:$W$1017,$B232,'Daily Log'!$X$18:$X$1017),0)","v":80},{"$f":"IFERROR($E232*SUMIF('Daily Log'!$Z$18:$Z$1017,$B232,'Daily Log'!$AA$18:$AA$1017),0)","v":124},{"$f":"IFERROR($E232*SUMIF('Daily Log'!$AC$18:$AC$1017,$B232,'Daily Log'!$AD$18:$AD$1017),0)","v":80},{"$f":"IFERROR($E232*SUMIF('Daily Log'!$AF$18:$AF$1017,$B232,'Daily Log'!$AG$18:$AG$1017),0)","v":144},{"$f":"IFERROR($E232*SUMIF('Daily Log'!$AI$18:$AI$1017,$B232,'Daily Log'!$AJ$18:$AJ$1017),0)","v":0},{"$f":"IFERROR($E232*SUMIF('Daily Log'!$AL$18:$AL$1017,$B232,'Daily Log'!$AM$18:$AM$1017),0)","v":0},{"$f":"IFERROR($E232*SUMIF('Daily Log'!$AO$18:$AO$1017,$B232,'Daily Log'!$AP$18:$AP$1017),0)","v":0},{"$f":"IFERROR($E232*SUMIF('Daily Log'!$AR$18:$AR$1017,$B232,'Daily Log'!$AS$18:$AS$1017),0)","v":0},{"$f":"IFERROR($E232*SUMIF('Daily Log'!$AU$18:$AU$1017,$B232,'Daily Log'!$AV$18:$AV$1017),0)","v":0},{"$f":"IFERROR($E232*SUMIF('Daily Log'!$AX$18:$AX$1017,$B232,'Daily Log'!$AY$18:$AY$1017),0)","v":0},{"$f":"IFERROR($E232*SUMIF('Daily Log'!$BA$18:$BA$1017,$B232,'Daily Log'!$BB$18:$BB$1017),0)","v":0},{"$f":"IFERROR($E232*SUMIF('Daily Log'!$BD$18:$BD$1017,$B232,'Daily Log'!$BE$18:$BE$1017),0)","v":0},{"$f":"IFERROR($E232*SUMIF('Daily Log'!$BG$18:$BG$1017,$B232,'Daily Log'!$BH$18:$BH$1017),0)","v":0},{"$f":"IFERROR($E232*SUMIF('Daily Log'!$BJ$18:$BJ$1017,$B232,'Daily Log'!$BK$18:$BK$1017),0)","v":0},{"$f":"IFERROR($E232*SUMIF('Daily Log'!$BM$18:$BM$1017,$B232,'Daily Log'!$BN$18:$BN$1017),0)","v":0},{"$f":"IFERROR($E232*SUMIF('Daily Log'!$BP$18:$BP$1017,$B232,'Daily Log'!$BQ$18:$BQ$1017),0)","v":0},{"$f":"IFERROR($E232*SUMIF('Daily Log'!$BS$18:$BS$1017,$B232,'Daily Log'!$BT$18:$BT$1017),0)","v":0},{"$f":"IFERROR($E232*SUMIF('Daily Log'!$BV$18:$BV$1017,$B232,'Daily Log'!$BW$18:$BW$1017),0)","v":0},{"$f":"IFERROR($E232*SUMIF('Daily Log'!$BY$18:$BY$1017,$B232,'Daily Log'!$BZ$18:$BZ$1017),0)","v":0},{"$f":"IFERROR($E232*SUMIF('Daily Log'!$CB$18:$CB$1017,$B232,'Daily Log'!$CC$18:$CC$1017),0)","v":0},{"$f":"IFERROR($E232*SUMIF('Daily Log'!$CE$18:$CE$1017,$B232,'Daily Log'!$CF$18:$CF$1017),0)","v":0},{"$f":"IFERROR($E232*SUMIF('Daily Log'!$CH$18:$CH$1017,$B232,'Daily Log'!$CI$18:$CI$1017),0)","v":0},{"$f":"IFERROR($E232*SUMIF('Daily Log'!$CK$18:$CK$1017,$B232,'Daily Log'!$CL$18:$CL$1017),0)","v":0},{"$f":"IFERROR($E232*SUMIF('Daily Log'!$CN$18:$CN$1017,$B232,'Daily Log'!$CO$18:$CO$1017),0)","v":0}]
[null,"01141:N-4BP",null,null,1,0,{"$f":"IFERROR($E233*SUMIF('Daily Log'!$B$18:$B$1017,$B233,'Daily Log'!$C$18:$C$1017),0)","v":0},{"$f":"IFERROR($E233*SUMIF('Daily Log'!$E$18:$E$1017,$B233,'Daily Log'!$F$18:$F$1017),0)","v":0},{"$f":"IFERROR($E233*SUMIF('Daily Log'!$H$18:$H$1017,$B233,'Daily Log'!$I$18:$I$1017),0)","v":0},{"$f":"IFERROR($E233*SUMIF('Daily Log'!$K$18:$K$1017,$B233,'Daily Log'!$L$18:$L$1017),0)","v":0},{"$f":"IFERROR($E233*SUMIF('Daily Log'!$N$18:$N$1017,$B233,'Daily Log'!$O$18:$O$1017),0)","v":0},{"$f":"IFERROR($E233*SUMIF('Daily Log'!$Q$18:$Q$1017,$B233,'Daily Log'!$R$18:$R$1017),0)","v":0},{"$f":"IFERROR($E233*SUMIF('Daily Log'!$T$18:$T$1017,$B233,'Daily Log'!$U$18:$U$1017),0)","v":0},{"$f":"IFERROR($E233*SUMIF('Daily Log'!$W$18:$W$1017,$B233,'Daily Log'!$X$18:$X$1017),0)","v":0},{"$f":"IFERROR($E233*SUMIF('Daily Log'!$Z$18:$Z$1017,$B233,'Daily Log'!$AA$18:$AA$1017),0)","v":0},{"$f":"IFERROR($E233*SUMIF('Daily Log'!$AC$18:$AC$1017,$B233,'Daily Log'!$AD$18:$AD$1017),0)","v":0},{"$f":"IFERROR($E233*SUMIF('Daily Log'!$AF$18:$AF$1017,$B233,'Daily Log'!$AG$18:$AG$1017),0)","v":0},{"$f":"IFERROR($E233*SUMIF('Daily Log'!$AI$18:$AI$1017,$B233,'Daily Log'!$AJ$18:$AJ$1017),0)","v":0},{"$f":"IFERROR($E233*SUMIF('Daily Log'!$AL$18:$AL$1017,$B233,'Daily Log'!$AM$18:$AM$1017),0)","v":0},{"$f":"IFERROR($E233*SUMIF('Daily Log'!$AO$18:$AO$1017,$B233,'Daily Log'!$AP$18:$AP$1017),0)","v":0},{"$f":"IFERROR($E233*SUMIF('Daily Log'!$AR$18:$AR$1017,$B233,'Daily Log'!$AS$18:$AS$1017),0)","v":0},{"$f":"IFERROR($E233*SUMIF('Daily Log'!$AU$18:$AU$1017,$B233,'Daily Log'!$AV$18:$AV$1017),0)","v":0},{"$f":"IFERROR($E233*SUMIF('Daily Log'!$AX$18:$AX$1017,$B233,'Daily Log'!$AY$18:$AY$1017),0)","v":0},{"$f":"IFERROR($E233*SUMIF('Daily Log'!$BA$18:$BA$1017,$B233,'Daily Log'!$BB$18:$BB$1017),0)","v":0},{"$f":"IFERROR($E233*SUMIF('Daily Log'!$BD$18:$BD$1017,$B233,'Daily Log'!$BE$18:$BE$1017),0)","v":0},{"$f":"IFERROR($E233*SUMIF('Daily Log'!$BG$18:$BG$1017,$B233,'Daily Log'!$BH$18:$BH$1017),0)","v":0},{"$f":"IFERROR($E233*SUMIF('Daily Log'!$BJ$18:$BJ$1017,$B233,'Daily Log'!$BK$18:$BK$1017),0)","v":0},{"$f":"IFERROR($E233*SUMIF('Daily Log'!$BM$18:$BM$1017,$B233,'Daily Log'!$BN$18:$BN$1017),0)","v":0},{"$f":"IFERROR($E233*SUMIF('Daily Log'!$BP$18:$BP$1017,$B233,'Daily Log'!$BQ$18:$BQ$1017),0)","v":0},{"$f":"IFERROR($E233*SUMIF('Daily Log'!$BS$18:$BS$1017,$B233,'Daily Log'!$BT$18:$BT$1017),0)","v":0},{"$f":"IFERROR($E233*SUMIF('Daily Log'!$BV$18:$BV$1017,$B233,'Daily Log'!$BW$18:$BW$1017),0)","v":0},{"$f":"IFERROR($E233*SUMIF('Daily Log'!$BY$18:$BY$1017,$B233,'Daily Log'!$BZ$18:$BZ$1017),0)","v":0},{"$f":"IFERROR($E233*SUMIF('Daily Log'!$CB$18:$CB$1017,$B233,'Daily Log'!$CC$18:$CC$1017),0)","v":0},{"$f":"IFERROR($E233*SUMIF('Daily Log'!$CE$18:$CE$1017,$B233,'Daily Log'!$CF$18:$CF$1017),0)","v":0},{"$f":"IFERROR($E233*SUMIF('Daily Log'!$CH$18:$CH$1017,$B233,'Daily Log'!$CI$18:$CI$1017),0)","v":0},{"$f":"IFERROR($E233*SUMIF('Daily Log'!$CK$18:$CK$1017,$B233,'Daily Log'!$CL$18:$CL$1017),0)","v":0},{"$f":"IFERROR($E233*SUMIF('Daily Log'!$CN$18:$CN$1017,$B233,'Daily Log'!$CO$18:$CO$1017),0)","v":0}]
[null,"01201:H-Normal Price",null,null,1,220,{"$f":"IFERROR($E234*SUMIF('Daily Log'!$B$18:$B$1017,$B234,'Daily Log'!$C$18:$C$1017),0)","v":0},{"$f":"IFERROR($E234*SUMIF('Daily Log'!$E$18:$E$1017,$B234,'Daily Log'!$F$18:$F$1017),0)","v":0},{"$f":"IFERROR($E234*SUMIF('Daily Log'!$H$18:$H$1017,$B234,'Daily Log'!$I$18:$I$1017),0)","v":0},{"$f":"IFERROR($E234*SUMIF('Daily Log'!$K$18:$K$1017,$B234,'Daily Log'!$L$18:$L$1017),0)","v":0},{"$f":"IFERROR($E234*SUMIF('Daily Log'!$N$18:$N$1017,$B234,'Daily Log'!$O$18:$O$1017),0)","v":0},{"$f":"IFERROR($E234*SUMIF('Daily Log'!$Q$18:$Q$1017,$B234,'Daily Log'!$R$18:$R$1017),0)","v":0},{"$f":"IFERROR($E234*SUMIF('Daily Log'!$T$18:$T$1017,$B234,'Daily Log'!$U$18:$U$1017),0)","v":36},{"$f":"IFERROR($E234*SUMIF('Daily Log'!$W$18:$W$1017,$B234,'Daily Log'!$X$18:$X$1017),0)","v":32},{"$f":"IFERROR($E234*SUMIF('Daily Log'!$Z$18:$Z$1017,$B234,'Daily Log'!$AA$18:$AA$1017),0)","v":50},{"$f":"IFERROR($E234*SUMIF('Daily Log'!$AC$18:$AC$1017,$B234,'Daily Log'!$AD$18:$AD$1017),0)","v":59},{"$f":"IFERROR($E234*SUMIF('Daily Log'!$AF$18:$AF$1017,$B234,'Daily Log'!$AG$18:$AG$1017),0)","v":43},{"$f":"IFERROR($E234*SUMIF('Daily Log'!$AI$18:$AI$1017,$B234,'Daily Log'!$AJ$18:$AJ$1017),0)","v":0},{"$f":"IFERROR($E234*SUMIF('Daily Log'!$AL$18:$AL$1017,$B234,'Daily Log'!$AM$18:$AM$1017),0)","v":0},{"$f":"IFERROR($E234*SUMIF('Daily Log'!$AO$18:$AO$1017,$B234,'Daily Log'!$AP$18:$AP$1017),0)","v":0},{"$f":"IFERROR($E234*SUMIF('Daily Log'!$AR$18:$AR$1017,$B234,'Daily Log'!$AS$18:$AS$1017),0)","v":0},{"$f":"IFERROR($E234*SUMIF('Daily Log'!$AU$18:$AU$1017,$B234,'Daily Log'!$AV$18:$AV$1017),0)","v":0},{"$f":"IFERROR($E234*SUMIF('Daily Log'!$AX$18:$AX$1017,$B234,'Daily Log'!$AY$18:$AY$1017),0)","v":0},{"$f":"IFERROR($E234*SUMIF('Daily Log'!$BA$18:$BA$1017,$B234,'Daily Log'!$BB$18:$BB$1017),0)","v":0},{"$f":"IFERROR($E234*SUMIF('Daily Log'!$BD$18:$BD$1017,$B234,'Daily Log'!$BE$18:$BE$1017),0)","v":0},{"$f":"IFERROR($E234*SUMIF('Daily Log'!$BG$18:$BG$1017,$B234,'Daily Log'!$BH$18:$BH$1017),0)","v":0},{"$f":"IFERROR($E234*SUMIF('Daily Log'!$BJ$18:$BJ$1017,$B234,'Daily Log'!$BK$18:$BK$1017),0)","v":0},{"$f":"IFERROR($E234*SUMIF('Daily Log'!$BM$18:$BM$1017,$B234,'Daily Log'!$BN$18:$BN$1017),0)","v":0},{"$f":"IFERROR($E234*SUMIF('Daily Log'!$BP$18:$BP$1017,$B234,'Daily Log'!$BQ$18:$BQ$1017),0)","v":0},{"$f":"IFERROR($E234*SUMIF('Daily Log'!$BS$18:$BS$1017,$B234,'Daily Log'!$BT$18:$BT$1017),0)","v":0},{"$f":"IFERROR($E234*SUMIF('Daily Log'!$BV$18:$BV$1017,$B234,'Daily Log'!$BW$18:$BW$1017),0)","v":0},{"$f":"IFERROR($E234*SUMIF('Daily Log'!$BY$18:$BY$1017,$B234,'Daily Log'!$BZ$18:$BZ$1017),0)","v":0},{"$f":"IFERROR($E234*SUMIF('Daily Log'!$CB$18:$CB$1017,$B234,'Daily Log'!$CC$18:$CC$1017),0)","v":0},{"$f":"IFERROR($E234*SUMIF('Daily Log'!$CE$18:$CE$1017,$B234,'Daily Log'!$CF$18:$CF$1017),0)","v":0},{"$f":"IFERROR($E234*SUMIF('Daily Log'!$CH$18:$CH$1017,$B234,'Daily Log'!$CI$18:$CI$1017),0)","v":0},{"$f":"IFERROR($E234*SUMIF('Daily Log'!$CK$18:$CK$1017,$B234,'Daily Log'!$CL$18:$CL$1017),0)","v":0},{"$f":"IFERROR($E234*SUMIF('Daily Log'!$CN$18:$CN$1017,$B234,'Daily Log'!$CO$18:$CO$1017),0)","v":0}]
[null,"01202:H-Member Price",null,null,1,200,{"$f":"IFERROR($E235*SUMIF('Daily Log'!$B$18:$B$1017,$B235,'Daily Log'!$C$18:$C$1017),0)","v":0},{"$f":"IFERROR($E235*SUMIF('Daily Log'!$E$18:$E$1017,$B235,'Daily Log'!$F$18:$F$1017),0)","v":0},{"$f":"IFERROR($E235*SUMIF('Daily Log'!$H$18:$H$1017,$B235,'Daily Log'!$I$18:$I$1017),0)","v":0},{"$f":"IFERROR($E235*SUMIF('Daily Log'!$K$18:$K$1017,$B235,'Daily Log'!$L$18:$L$1017),0)","v":0},{"$f":"IFERROR($E235*SUMIF('Daily Log'!$N$18:$N$1017,$B235,'Daily Log'!$O$18:$O$1017),0)","v":0},{"$f":"IFERROR($E235*SUMIF('Daily Log'!$Q$18:$Q$1017,$B235,'Daily Log'!$R$18:$R$1017),0)","v":0},{"$f":"IFERROR($E235*SUMIF('Daily Log'!$T$18:$T$1017,$B235,'Daily Log'!$U$18:$U$1017),0)","v":49},{"$f":"IFERROR($E235*SUMIF('Daily Log'!$W$18:$W$1017,$B235,'Daily Log'!$X$18:$X$1017),0)","v":0},{"$f":"IFERROR($E235*SUMIF('Daily Log'!$Z$18:$Z$1017,$B235,'Daily Log'!$AA$18:$AA$1017),0)","v":61},{"$f":"IFERROR($E235*SUMIF('Daily Log'!$AC$18:$AC$1017,$B235,'Daily Log'!$AD$18:$AD$1017),0)","v":53},{"$f":"IFERROR($E235*SUMIF('Daily Log'!$AF$18:$AF$1017,$B235,'Daily Log'!$AG$18:$AG$1017),0)","v":37},{"$f":"IFERROR($E235*SUMIF('Daily Log'!$AI$18:$AI$1017,$B235,'Daily Log'!$AJ$18:$AJ$1017),0)","v":0},{"$f":"IFERROR($E235*SUMIF('Daily Log'!$AL$18:$AL$1017,$B235,'Daily Log'!$AM$18:$AM$1017),0)","v":0},{"$f":"IFERROR($E235*SUMIF('Daily Log'!$AO$18:$AO$1017,$B235,'Daily Log'!$AP$18:$AP$1017),0)","v":0},{"$f":"IFERROR($E235*SUMIF('Daily Log'!$AR$18:$AR$1017,$B235,'Daily Log'!$AS$18:$AS$1017),0)","v":0},{"$f":"IFERROR($E235*SUMIF('Daily Log'!$AU$18:$AU$1017,$B235,'Daily Log'!$AV$18:$AV$1017),0)","v":0},{"$f":"IFERROR($E235*SUMIF('Daily Log'!$AX$18:$AX$1017,$B235,'Daily Log'!$AY$18:$AY$1017),0)","v":0},{"$f":"IFERROR($E235*SUMIF('Daily Log'!$BA$18:$BA$1017,$B235,'Daily Log'!$BB$18:$BB$1017),0)","v":0},{"$f":"IFERROR($E235*SUMIF('Daily Log'!$BD$18:$BD$1017,$B235,'Daily Log'!$BE$18:$BE$1017),0)","v":0},{"$f":"IFERROR($E235*SUMIF('Daily Log'!$BG$18:$BG$1017,$B235,'Daily Log'!$BH$18:$BH$1017),0)","v":0},{"$f":"IFERROR($E235*SUMIF('Daily Log'!$BJ$18:$BJ$1017,$B235,'Daily Log'!$BK$18:$BK$1017),0)","v":0},{"$f":"IFERROR($E235*SUMIF('Daily Log'!$BM$18:$BM$1017,$B235,'Daily Log'!$BN$18:$BN$1017),0)","v":0},{"$f":"IFERROR($E235*SUMIF('Daily Log'!$BP$18:$BP$1017,$B235,'Daily Log'!$BQ$18:$BQ$1017),0)","v":0},{"$f":"IFERROR($E235*SUMIF('Daily Log'!$BS$18:$BS$1017,$B235,'Daily Log'!$BT$18:$BT$1017),0)","v":0},{"$f":"IFERROR($E235*SUMIF('Daily Log'!$BV$18:$BV$1017,$B235,'Daily Log'!$BW$18:$BW$1017),0)","v":0},{"$f":"IFERROR($E235*SUMIF('Daily Log'!$BY$18:$BY$1017,$B235,'Daily Log'!$BZ$18:$BZ$1017),0)","v":0},{"$f":"IFERROR($E235*SUMIF('Daily Log'!$CB$18:$CB$1017,$B235,'Daily Log'!$CC$18:$CC$1017),0)","v":0},{"$f":"IFERROR($E235*SUMIF('Daily Log'!$CE$18:$CE$1017,$B235,'Daily Log'!$CF$18:$CF$1017),0)","v":0},{"$f":"IFERROR($E235*SUMIF('Daily Log'!$CH$18:$CH$1017,$B235,'Daily Log'!$CI$18:$CI$1017),0)","v":0},{"$f":"IFERROR($E235*SUMIF('Daily Log'!$CK$18:$CK$1017,$B235,'Daily Log'!$CL$18:$CL$1017),0)","v":0},{"$f":"IFERROR($E235*SUMIF('Daily Log'!$CN$18:$CN$1017,$B235,'Daily Log'!$CO$18:$CO$1017),0)","v":0}]
[null,"01203:H-Children",null,null,1,13,{"$f":"IFERROR($E236*SUMIF('Daily Log'!$B$18:$B$1017,$B236,'Daily Log'!$C$18:$C$1017),0)","v":0},{"$f":"IFERROR($E236*SUMIF('Daily Log'!$E$18:$E$1017,$B236,'Daily Log'!$F$18:$F$1017),0)","v":0},{"$f":"IFERROR($E236*SUMIF('Daily Log'!$H$18:$H$1017,$B236,'Daily Log'!$I$18:$I$1017),0)","v":0},{"$f":"IFERROR($E236*SUMIF('Daily Log'!$K$18:$K$1017,$B236,'Daily Log'!$L$18:$L$1017),0)","v":0},{"$f":"IFERROR($E236*SUMIF('Daily Log'!$N$18:$N$1017,$B236,'Daily Log'!$O$18:$O$1017),0)","v":0},{"$f":"IFERROR($E236*SUMIF('Daily Log'!$Q$18:$Q$1017,$B236,'Daily Log'!$R$18:$R$1017),0)","v":0},{"$f":"IFERROR($E236*SUMIF('Daily Log'!$T$18:$T$1017,$B236,'Daily Log'!$U$18:$U$1017),0)","v":0},{"$f":"IFERROR($E236*SUMIF('Daily Log'!$W$18:$W$1017,$B236,'Daily Log'!$X$18:$X$1017),0)","v":0},{"$f":"IFERROR($E236*SUMIF('Daily Log'!$Z$18:$Z$1017,$B236,'Daily Log'!$AA$18:$AA$1017),0)","v":3},{"$f":"IFERROR($E236*SUMIF('Daily Log'!$AC$18:$AC$1017,$B236,'Daily Log'!$AD$18:$AD$1017),0)","v":3},{"$f":"IFERROR($E236*SUMIF('Daily Log'!$AF$18:$AF$1017,$B236,'Daily Log'!$AG$18:$AG$1017),0)","v":0},{"$f":"IFERROR($E236*SUMIF('Daily Log'!$AI$18:$AI$1017,$B236,'Daily Log'!$AJ$18:$AJ$1017),0)","v":0},{"$f":"IFERROR($E236*SUMIF('Daily Log'!$AL$18:$AL$1017,$B236,'Daily Log'!$AM$18:$AM$1017),0)","v":7},{"$f":"IFERROR($E236*SUMIF('Daily Log'!$AO$18:$AO$1017,$B236,'Daily Log'!$AP$18:$AP$1017),0)","v":0},{"$f":"IFERROR($E236*SUMIF('Daily Log'!$AR$18:$AR$1017,$B236,'Daily Log'!$AS$18:$AS$1017),0)","v":0},{"$f":"IFERROR($E236*SUMIF('Daily Log'!$AU$18:$AU$1017,$B236,'Daily Log'!$AV$18:$AV$1017),0)","v":0},{"$f":"IFERROR($E236*SUMIF('Daily Log'!$AX$18:$AX$1017,$B236,'Daily Log'!$AY$18:$AY$1017),0)","v":0},{"$f":"IFERROR($E236*SUMIF('Daily Log'!$BA$18:$BA$1017,$B236,'Daily Log'!$BB$18:$BB$1017),0)","v":0},{"$f":"IFERROR($E236*SUMIF('Daily Log'!$BD$18:$BD$1017,$B236,'Daily Log'!$BE$18:$BE$1017),0)","v":0},{"$f":"IFERROR($E236*SUMIF('Daily Log'!$BG$18:$BG$1017,$B236,'Daily Log'!$BH$18:$BH$1017),0)","v":0},{"$f":"IFERROR($E236*SUMIF('Daily Log'!$BJ$18:$BJ$1017,$B236,'Daily Log'!$BK$18:$BK$1017),0)","v":0},{"$f":"IFERROR($E236*SUMIF('Daily Log'!$BM$18:$BM$1017,$B236,'Daily Log'!$BN$18:$BN$1017),0)","v":0},{"$f":"IFERROR($E236*SUMIF('Daily Log'!$BP$18:$BP$1017,$B236,'Daily Log'!$BQ$18:$BQ$1017),0)","v":0},{"$f":"IFERROR($E236*SUMIF('Daily Log'!$BS$18:$BS$1017,$B236,'Daily Log'!$BT$18:$BT$1017),0)","v":0},{"$f":"IFERROR($E236*SUMIF('Daily Log'!$BV$18:$BV$1017,$B236,'Daily Log'!$BW$18:$BW$1017),0)","v":0},{"$f":"IFERROR($E236*SUMIF('Daily Log'!$BY$18:$BY$1017,$B236,'Daily Log'!$BZ$18:$BZ$1017),0)","v":0},{"$f":"IFERROR($E236*SUMIF('Daily Log'!$CB$18:$CB$1017,$B236,'Daily Log'!$CC$18:$CC$1017),0)","v":0},{"$f":"IFERROR($E236*SUMIF('Daily Log'!$CE$18:$CE$1017,$B236,'Daily Log'!$CF$18:$CF$1017),0)","v":0},{"$f":"IFERROR($E236*SUMIF('Daily Log'!$CH$18:$CH$1017,$B236,'Daily Log'!$CI$18:$CI$1017),0)","v":0},{"$f":"IFERROR($E236*SUMIF('Daily Log'!$CK$18:$CK$1017,$B236,'Daily Log'!$CL$18:$CL$1017),0)","v":0},{"$f":"IFERROR($E236*SUMIF('Daily Log'!$CN$18:$CN$1017,$B236,'Daily Log'!$CO$18:$CO$1017),0)","v":0}]
[null,"01204:H-Member Birthday ",null,null,1,24,{"$f":"IFERROR($E237*SUMIF('Daily Log'!$B$18:$B$1017,$B237,'Daily Log'!$C$18:$C$1017),0)","v":0},{"$f":"IFERROR($E237*SUMIF('Daily Log'!$E$18:$E$1017,$B237,'Daily Log'!$F$18:$F$1017),0)","v":0},{"$f":"IFERROR($E237*SUMIF('Daily Log'!$H$18:$H$1017,$B237,'Daily Log'!$I$18:$I$1017),0)","v":0},{"$f":"IFERROR($E237*SUMIF('Daily Log'!$K$18:$K$1017,$B237,'Daily Log'!$L$18:$L$1017),0)","v":0},{"$f":"IFERROR($E237*SUMIF('Daily Log'!$N$18:$N$1017,$B237,'Daily Log'!$O$18:$O$1017),0)","v":0},{"$f":"IFERROR($E237*SUMIF('Daily Log'!$Q$18:$Q$1017,$B237,'Daily Log'!$R$18:$R$1017),0)","v":0},{"$f":"IFERROR($E237*SUMIF('Daily Log'!$T$18:$T$1017,$B237,'Daily Log'!$U$18:$U$1017),0)","v":3},{"$f":"IFERROR($E237*SUMIF('Daily Log'!$W$18:$W$1017,$B237,'Daily Log'!$X$18:$X$1017),0)","v":1},{"$f":"IFERROR($E237*SUMIF('Daily Log'!$Z$18:$Z$1017,$B237,'Daily Log'!$AA$18:$AA$1017),0)","v":4},{"$f":"IFERROR($E237*SUMIF('Daily Log'!$AC$18:$AC$1017,$B237,'Daily Log'!$AD$18:$AD$1017),0)","v":4},{"$f":"IFERROR($E237*SUMIF('Daily Log'!$AF$18:$AF$1017,$B237,'Daily Log'!$AG$18:$AG$1017),0)","v":1},{"$f":"IFERROR($E237*SUMIF('Daily Log'!$AI$18:$AI$1017,$B237,'Daily Log'!$AJ$18:$AJ$1017),0)","v":7},{"$f":"IFERROR($E237*SUMIF('Daily Log'!$AL$18:$AL$1017,$B237,'Daily Log'!$AM$18:$AM$1017),0)","v":4},{"$f":"IFERROR($E237*SUMIF('Daily Log'!$AO$18:$AO$1017,$B237,'Daily Log'!$AP$18:$AP$1017),0)","v":0},{"$f":"IFERROR($E237*SUMIF('Daily Log'!$AR$18:$AR$1017,$B237,'Daily Log'!$AS$18:$AS$1017),0)","v":0},{"$f":"IFERROR($E237*SUMIF('Daily Log'!$AU$18:$AU$1017,$B237,'Daily Log'!$AV$18:$AV$1017),0)","v":0},{"$f":"IFERROR($E237*SUMIF('Daily Log'!$AX$18:$AX$1017,$B237,'Daily Log'!$AY$18:$AY$1017),0)","v":0},{"$f":"IFERROR($E237*SUMIF('Daily Log'!$BA$18:$BA$1017,$B237,'Daily Log'!$BB$18:$BB$1017),0)","v":0},{"$f":"IFERROR($E237*SUMIF('Daily Log'!$BD$18:$BD$1017,$B237,'Daily Log'!$BE$18:$BE$1017),0)","v":0},{"$f":"IFERROR($E237*SUMIF('Daily Log'!$BG$18:$BG$1017,$B237,'Daily Log'!$BH$18:$BH$1017),0)","v":0},{"$f":"IFERROR($E237*SUMIF('Daily Log'!$BJ$18:$BJ$1017,$B237,'Daily Log'!$BK$18:$BK$1017),0)","v":0},{"$f":"IFERROR($E237*SUMIF('Daily Log'!$BM$18:$BM$1017,$B237,'Daily Log'!$BN$18:$BN$1017),0)","v":0},{"$f":"IFERROR($E237*SUMIF('Daily Log'!$BP$18:$BP$1017,$B237,'Daily Log'!$BQ$18:$BQ$1017),0)","v":0},{"$f":"IFERROR($E237*SUMIF('Daily Log'!$BS$18:$BS$1017,$B237,'Daily Log'!$BT$18:$BT$1017),0)","v":0},{"$f":"IFERROR($E237*SUMIF('Daily Log'!$BV$18:$BV$1017,$B237,'Daily Log'!$BW$18:$BW$1017),0)","v":0},{"$f":"IFERROR($E237*SUMIF('Daily Log'!$BY$18:$BY$1017,$B237,'Daily Log'!$BZ$18:$BZ$1017),0)","v":0},{"$f":"IFERROR($E237*SUMIF('Daily Log'!$CB$18:$CB$1017,$B237,'Daily Log'!$CC$18:$CC$1017),0)","v":0},{"$f":"IFERROR($E237*SUMIF('Daily Log'!$CE$18:$CE$1017,$B237,'Daily Log'!$CF$18:$CF$1017),0)","v":0},{"$f":"IFERROR($E237*SUMIF('Daily Log'!$CH$18:$CH$1017,$B237,'Daily Log'!$CI$18:$CI$1017),0)","v":0},{"$f":"IFERROR($E237*SUMIF('Daily Log'!$CK$18:$CK$1017,$B237,'Daily Log'!$CL$18:$CL$1017),0)","v":0},{"$f":"IFERROR($E237*SUMIF('Daily Log'!$CN$18:$CN$1017,$B237,'Daily Log'!$CO$18:$CO$1017),0)","v":0}]
[null,"01206:H-Student Price",null,null,1,296,{"$f":"IFERROR($E238*SUMIF('Daily Log'!$B$18:$B$1017,$B238,'Daily Log'!$C$18:$C$1017),0)","v":0},{"$f":"IFERROR($E238*SUMIF('Daily Log'!$E$18:$E$1017,$B238,'Daily Log'!$F$18:$F$1017),0)","v":0},{"$f":"IFERROR($E238*SUMIF('Daily Log'!$H$18:$H$1017,$B238,'Daily Log'!$I$18:$I$1017),0)","v":0},{"$f":"IFERROR($E238*SUMIF('Daily Log'!$K$18:$K$1017,$B238,'Daily Log'!$L$18:$L$1017),0)","v":0},{"$f":"IFERROR($E238*SUMIF('Daily Log'!$N$18:$N$1017,$B238,'Daily Log'!$O$18:$O$1017),0)","v":0},{"$f":"IFERROR($E238*SUMIF('Daily Log'!$Q$18:$Q$1017,$B238,'Daily Log'!$R$18:$R$1017),0)","v":0},{"$f":"IFERROR($E238*SUMIF('Daily Log'!$T$18:$T$1017,$B238,'Daily Log'!$U$18:$U$1017),0)","v":34},{"$f":"IFERROR($E238*SUMIF('Daily Log'!$W$18:$W$1017,$B238,'Daily Log'!$X$18:$X$1017),0)","v":37},{"$f":"IFERROR($E238*SUMIF('Daily Log'!$Z$18:$Z$1017,$B238,'Daily Log'!$AA$18:$AA$1017),0)","v":65},{"$f":"IFERROR($E238*SUMIF('Daily Log'!$AC$18:$AC$1017,$B238,'Daily Log'!$AD$18:$AD$1017),0)","v":49},{"$f":"IFERROR($E238*SUMIF('Daily Log'!$AF$18:$AF$1017,$B238,'Daily Log'!$AG$18:$AG$1017),0)","v":111},{"$f":"IFERROR($E238*SUMIF('Daily Log'!$AI$18:$AI$1017,$B238,'Daily Log'!$AJ$18:$AJ$1017),0)","v":0},{"$f":"IFERROR($E238*SUMIF('Daily Log'!$AL$18:$AL$1017,$B238,'Daily Log'!$AM$18:$AM$1017),0)","v":0},{"$f":"IFERROR($E238*SUMIF('Daily Log'!$AO$18:$AO$1017,$B238,'Daily Log'!$AP$18:$AP$1017),0)","v":0},{"$f":"IFERROR($E238*SUMIF('Daily Log'!$AR$18:$AR$1017,$B238,'Daily Log'!$AS$18:$AS$1017),0)","v":0},{"$f":"IFERROR($E238*SUMIF('Daily Log'!$AU$18:$AU$1017,$B238,'Daily Log'!$AV$18:$AV$1017),0)","v":0},{"$f":"IFERROR($E238*SUMIF('Daily Log'!$AX$18:$AX$1017,$B238,'Daily Log'!$AY$18:$AY$1017),0)","v":0},{"$f":"IFERROR($E238*SUMIF('Daily Log'!$BA$18:$BA$1017,$B238,'Daily Log'!$BB$18:$BB$1017),0)","v":0},{"$f":"IFERROR($E238*SUMIF('Daily Log'!$BD$18:$BD$1017,$B238,'Daily Log'!$BE$18:$BE$1017),0)","v":0},{"$f":"IFERROR($E238*SUMIF('Daily Log'!$BG$18:$BG$1017,$B238,'Daily Log'!$BH$18:$BH$1017),0)","v":0},{"$f":"IFERROR($E238*SUMIF('Daily Log'!$BJ$18:$BJ$1017,$B238,'Daily Log'!$BK$18:$BK$1017),0)","v":0},{"$f":"IFERROR($E238*SUMIF('Daily Log'!$BM$18:$BM$1017,$B238,'Daily Log'!$BN$18:$BN$1017),0)","v":0},{"$f":"IFERROR($E238*SUMIF('Daily Log'!$BP$18:$BP$1017,$B238,'Daily Log'!$BQ$18:$BQ$1017),0)","v":0},{"$f":"IFERROR($E238*SUMIF('Daily Log'!$BS$18:$BS$1017,$B238,'Daily Log'!$BT$18:$BT$1017),0)","v":0},{"$f":"IFERROR($E238*SUMIF('Daily Log'!$BV$18:$BV$1017,$B238,'Daily Log'!$BW$18:$BW$1017),0)","v":0},{"$f":"IFERROR($E238*SUMIF('Daily Log'!$BY$18:$BY$1017,$B238,'Daily Log'!$BZ$18:$BZ$1017),0)","v":0},{"$f":"IFERROR($E238*SUMIF('Daily Log'!$CB$18:$CB$1017,$B238,'Daily Log'!$CC$18:$CC$1017),0)","v":0},{"$f":"IFERROR($E238*SUMIF('Daily Log'!$CE$18:$CE$1017,$B238,'Daily Log'!$CF$18:$CF$1017),0)","v":0},{"$f":"IFERROR($E238*SUMIF('Daily Log'!$CH$18:$CH$1017,$B238,'Daily Log'!$CI$18:$CI$1017),0)","v":0},{"$f":"IFERROR($E238*SUMIF('Daily Log'!$CK$18:$CK$1017,$B238,'Daily Log'!$CL$18:$CL$1017),0)","v":0},{"$f":"IFERROR($E238*SUMIF('Daily Log'!$CN$18:$CN$1017,$B238,'Daily Log'!$CO$18:$CO$1017),0)","v":0}]
[null,"01221:H-ST Member Price",null,null,1,15,{"$f":"IFERROR($E239*SUMIF('Daily Log'!$B$18:$B$1017,$B239,'Daily Log'!$C$18:$C$1017),0)","v":0},{"$f":"IFERROR($E239*SUMIF('Daily Log'!$E$18:$E$1017,$B239,'Daily Log'!$F$18:$F$1017),0)","v":0},{"$f":"IFERROR($E239*SUMIF('Daily Log'!$H$18:$H$1017,$B239,'Daily Log'!$I$18:$I$1017),0)","v":0},{"$f":"IFERROR($E239*SUMIF('Daily Log'!$K$18:$K$1017,$B239,'Daily Log'!$L$18:$L$1017),0)","v":0},{"$f":"IFERROR($E239*SUMIF('Daily Log'!$N$18:$N$1017,$B239,'Daily Log'!$O$18:$O$1017),0)","v":0},{"$f":"IFERROR($E239*SUMIF('Daily Log'!$Q$18:$Q$1017,$B239,'Daily Log'!$R$18:$R$1017),0)","v":0},{"$f":"IFERROR($E239*SUMIF('Daily Log'!$T$18:$T$1017,$B239,'Daily Log'!$U$18:$U$1017),0)","v":5},{"$f":"IFERROR($E239*SUMIF('Daily Log'!$W$18:$W$1017,$B239,'Daily Log'!$X$18:$X$1017),0)","v":0},{"$f":"IFERROR($E239*SUMIF('Daily Log'!$Z$18:$Z$1017,$B239,'Daily Log'!$AA$18:$AA$1017),0)","v":3},{"$f":"IFERROR($E239*SUMIF('Daily Log'!$AC$18:$AC$1017,$B239,'Daily Log'!$AD$18:$AD$1017),0)","v":4},{"$f":"IFERROR($E239*SUMIF('Daily Log'!$AF$18:$AF$1017,$B239,'Daily Log'!$AG$18:$AG$1017),0)","v":3},{"$f":"IFERROR($E239*SUMIF('Daily Log'!$AI$18:$AI$1017,$B239,'Daily Log'!$AJ$18:$AJ$1017),0)","v":0},{"$f":"IFERROR($E239*SUMIF('Daily Log'!$AL$18:$AL$1017,$B239,'Daily Log'!$AM$18:$AM$1017),0)","v":0},{"$f":"IFERROR($E239*SUMIF('Daily Log'!$AO$18:$AO$1017,$B239,'Daily Log'!$AP$18:$AP$1017),0)","v":0},{"$f":"IFERROR($E239*SUMIF('Daily Log'!$AR$18:$AR$1017,$B239,'Daily Log'!$AS$18:$AS$1017),0)","v":0},{"$f":"IFERROR($E239*SUMIF('Daily Log'!$AU$18:$AU$1017,$B239,'Daily Log'!$AV$18:$AV$1017),0)","v":0},{"$f":"IFERROR($E239*SUMIF('Daily Log'!$AX$18:$AX$1017,$B239,'Daily Log'!$AY$18:$AY$1017),0)","v":0},{"$f":"IFERROR($E239*SUMIF('Daily Log'!$BA$18:$BA$1017,$B239,'Daily Log'!$BB$18:$BB$1017),0)","v":0},{"$f":"IFERROR($E239*SUMIF('Daily Log'!$BD$18:$BD$1017,$B239,'Daily Log'!$BE$18:$BE$1017),0)","v":0},{"$f":"IFERROR($E239*SUMIF('Daily Log'!$BG$18:$BG$1017,$B239,'Daily Log'!$BH$18:$BH$1017),0)","v":0},{"$f":"IFERROR($E239*SUMIF('Daily Log'!$BJ$18:$BJ$1017,$B239,'Daily Log'!$BK$18:$BK$1017),0)","v":0},{"$f":"IFERROR($E239*SUMIF('Daily Log'!$BM$18:$BM$1017,$B239,'Daily Log'!$BN$18:$BN$1017),0)","v":0},{"$f":"IFERROR($E239*SUMIF('Daily Log'!$BP$18:$BP$1017,$B239,'Daily Log'!$BQ$18:$BQ$1017),0)","v":0},{"$f":"IFERROR($E239*SUMIF('Daily Log'!$BS$18:$BS$1017,$B239,'Daily Log'!$BT$18:$BT$1017),0)","v":0},{"$f":"IFERROR($E239*SUMIF('Daily Log'!$BV$18:$BV$1017,$B239,'Daily Log'!$BW$18:$BW$1017),0)","v":0},{"$f":"IFERROR($E239*SUMIF('Daily Log'!$BY$18:$BY$1017,$B239,'Daily Log'!$BZ$18:$BZ$1017),0)","v":0},{"$f":"IFERROR($E239*SUMIF('Daily Log'!$CB$18:$CB$1017,$B239,'Daily Log'!$CC$18:$CC$1017),0)","v":0},{"$f":"IFERROR($E239*SUMIF('Daily Log'!$CE$18:$CE$1017,$B239,'Daily Log'!$CF$18:$CF$1017),0)","v":0},{"$f":"IFERROR($E239*SUMIF('Daily Log'!$CH$18:$CH$1017,$B239,'Daily Log'!$CI$18:$CI$1017),0)","v":0},{"$f":"IFERROR($E239*SUMIF('Daily Log'!$CK$18:$CK$1017,$B239,'Daily Log'!$CL$18:$CL$1017),0)","v":0},{"$f":"IFERROR($E239*SUMIF('Daily Log'!$CN$18:$CN$1017,$B239,'Daily Log'!$CO$18:$CO$1017),0)","v":0}]
[null,"01301:N-Normal Price",null,null,1,360,{"$f":"IFERROR($E240*SUMIF('Daily Log'!$B$18:$B$1017,$B240,'Daily Log'!$C$18:$C$1017),0)","v":0},{"$f":"IFERROR($E240*SUMIF('Daily Log'!$E$18:$E$1017,$B240,'Daily Log'!$F$18:$F$1017),0)","v":0},{"$f":"IFERROR($E240*SUMIF('Daily Log'!$H$18:$H$1017,$B240,'Daily Log'!$I$18:$I$1017),0)","v":0},{"$f":"IFERROR($E240*SUMIF('Daily Log'!$K$18:$K$1017,$B240,'Daily Log'!$L$18:$L$1017),0)","v":0},{"$f":"IFERROR($E240*SUMIF('Daily Log'!$N$18:$N$1017,$B240,'Daily Log'!$O$18:$O$1017),0)","v":0},{"$f":"IFERROR($E240*SUMIF('Daily Log'!$Q$18:$Q$1017,$B240,'Daily Log'!$R$18:$R$1017),0)","v":0},{"$f":"IFERROR($E240*SUMIF('Daily Log'!$T$18:$T$1017,$B240,'Daily Log'!$U$18:$U$1017),0)","v":107},{"$f":"IFERROR($E240*SUMIF('Daily Log'!$W$18:$W$1017,$B240,'Daily Log'!$X$18:$X$1017),0)","v":22},{"$f":"IFERROR($E240*SUMIF('Daily Log'!$Z$18:$Z$1017,$B240,'Daily Log'!$AA$18:$AA$1017),0)","v":70},{"$f":"IFERROR($E240*SUMIF('Daily Log'!$AC$18:$AC$1017,$B240,'Daily Log'!$AD$18:$AD$1017),0)","v":65},{"$f":"IFERROR($E240*SUMIF('Daily Log'!$AF$18:$AF$1017,$B240,'Daily Log'!$AG$18:$AG$1017),0)","v":0},{"$f":"IFERROR($E240*SUMIF('Daily Log'!$AI$18:$AI$1017,$B240,'Daily Log'!$AJ$18:$AJ$1017),0)","v":4},{"$f":"IFERROR($E240*SUMIF('Daily Log'!$AL$18:$AL$1017,$B240,'Daily Log'!$AM$18:$AM$1017),0)","v":92},{"$f":"IFERROR($E240*SUMIF('Daily Log'!$AO$18:$AO$1017,$B240,'Daily Log'!$AP$18:$AP$1017),0)","v":0},{"$f":"IFERROR($E240*SUMIF('Daily Log'!$AR$18:$AR$1017,$B240,'Daily Log'!$AS$18:$AS$1017),0)","v":0},{"$f":"IFERROR($E240*SUMIF('Daily Log'!$AU$18:$AU$1017,$B240,'Daily Log'!$AV$18:$AV$1017),0)","v":0},{"$f":"IFERROR($E240*SUMIF('Daily Log'!$AX$18:$AX$1017,$B240,'Daily Log'!$AY$18:$AY$1017),0)","v":0},{"$f":"IFERROR($E240*SUMIF('Daily Log'!$BA$18:$BA$1017,$B240,'Daily Log'!$BB$18:$BB$1017),0)","v":0},{"$f":"IFERROR($E240*SUMIF('Daily Log'!$BD$18:$BD$1017,$B240,'Daily Log'!$BE$18:$BE$1017),0)","v":0},{"$f":"IFERROR($E240*SUMIF('Daily Log'!$BG$18:$BG$1017,$B240,'Daily Log'!$BH$18:$BH$1017),0)","v":0},{"$f":"IFERROR($E240*SUMIF('Daily Log'!$BJ$18:$BJ$1017,$B240,'Daily Log'!$BK$18:$BK$1017),0)","v":0},{"$f":"IFERROR($E240*SUMIF('Daily Log'!$BM$18:$BM$1017,$B240,'Daily Log'!$BN$18:$BN$1017),0)","v":0},{"$f":"IFERROR($E240*SUMIF('Daily Log'!$BP$18:$BP$1017,$B240,'Daily Log'!$BQ$18:$BQ$1017),0)","v":0},{"$f":"IFERROR($E240*SUMIF('Daily Log'!$BS$18:$BS$1017,$B240,'Daily Log'!$BT$18:$BT$1017),0)","v":0},{"$f":"IFERROR($E240*SUMIF('Daily Log'!$BV$18:$BV$1017,$B240,'Daily Log'!$BW$18:$BW$1017),0)","v":0},{"$f":"IFERROR($E240*SUMIF('Daily Log'!$BY$18:$BY$1017,$B240,'Daily Log'!$BZ$18:$BZ$1017),0)","v":0},{"$f":"IFERROR($E240*SUMIF('Daily Log'!$CB$18:$CB$1017,$B240,'Daily Log'!$CC$18:$CC$1017),0)","v":0},{"$f":"IFERROR($E240*SUMIF('Daily Log'!$CE$18:$CE$1017,$B240,'Daily Log'!$CF$18:$CF$1017),0)","v":0},{"$f":"IFERROR($E240*SUMIF('Daily Log'!$CH$18:$CH$1017,$B240,'Daily Log'!$CI$18:$CI$1017),0)","v":0},{"$f":"IFERROR($E240*SUMIF('Daily Log'!$CK$18:$CK$1017,$B240,'Daily Log'!$CL$18:$CL$1017),0)","v":0},{"$f":"IFERROR($E240*SUMIF('Daily Log'!$CN$18:$CN$1017,$B240,'Daily Log'!$CO$18:$CO$1017),0)","v":0}]
[null,"01302:N-Member Price",null,null,1,391,{"$f":"IFERROR($E241*SUMIF('Daily Log'!$B$18:$B$1017,$B241,'Daily Log'!$C$18:$C$1017),0)","v":0},{"$f":"IFERROR($E241*SUMIF('Daily Log'!$E$18:$E$1017,$B241,'Daily Log'!$F$18:$F$1017),0)","v":0},{"$f":"IFERROR($E241*SUMIF('Daily Log'!$H$18:$H$1017,$B241,'Daily Log'!$I$18:$I$1017),0)","v":0},{"$f":"IFERROR($E241*SUMIF('Daily Log'!$K$18:$K$1017,$B241,'Daily Log'!$L$18:$L$1017),0)","v":0},{"$f":"IFERROR($E241*SUMIF('Daily Log'!$N$18:$N$1017,$B241,'Daily Log'!$O$18:$O$1017),0)","v":0},{"$f":"IFERROR($E241*SUMIF('Daily Log'!$Q$18:$Q$1017,$B241,'Daily Log'!$R$18:$R$1017),0)","v":0},{"$f":"IFERROR($E241*SUMIF('Daily Log'!$T$18:$T$1017,$B241,'Daily Log'!$U$18:$U$1017),0)","v":2},{"$f":"IFERROR($E241*SUMIF('Daily Log'!$W$18:$W$1017,$B241,'Daily Log'!$X$18:$X$1017),0)","v":4},{"$f":"IFERROR($E241*SUMIF('Daily Log'!$Z$18:$Z$1017,$B241,'Daily Log'!$AA$18:$AA$1017),0)","v":102},{"$f":"IFERROR($E241*SUMIF('Daily Log'!$AC$18:$AC$1017,$B241,'Daily Log'!$AD$18:$AD$1017),0)","v":111},{"$f":"IFERROR($E241*SUMIF('Daily Log'!$AF$18:$AF$1017,$B241,'Daily Log'!$AG$18:$AG$1017),0)","v":4},{"$f":"IFERROR($E241*SUMIF('Daily Log'!$AI$18:$AI$1017,$B241,'Daily Log'!$AJ$18:$AJ$1017),0)","v":56},{"$f":"IFERROR($E241*SUMIF('Daily Log'!$AL$18:$AL$1017,$B241,'Daily Log'!$AM$18:$AM$1017),0)","v":112},{"$f":"IFERROR($E241*SUMIF('Daily Log'!$AO$18:$AO$1017,$B241,'Daily Log'!$AP$18:$AP$1017),0)","v":0},{"$f":"IFERROR($E241*SUMIF('Daily Log'!$AR$18:$AR$1017,$B241,'Daily Log'!$AS$18:$AS$1017),0)","v":0},{"$f":"IFERROR($E241*SUMIF('Daily Log'!$AU$18:$AU$1017,$B241,'Daily Log'!$AV$18:$AV$1017),0)","v":0},{"$f":"IFERROR($E241*SUMIF('Daily Log'!$AX$18:$AX$1017,$B241,'Daily Log'!$AY$18:$AY$1017),0)","v":0},{"$f":"IFERROR($E241*SUMIF('Daily Log'!$BA$18:$BA$1017,$B241,'Daily Log'!$BB$18:$BB$1017),0)","v":0},{"$f":"IFERROR($E241*SUMIF('Daily Log'!$BD$18:$BD$1017,$B241,'Daily Log'!$BE$18:$BE$1017),0)","v":0},{"$f":"IFERROR($E241*SUMIF('Daily Log'!$BG$18:$BG$1017,$B241,'Daily Log'!$BH$18:$BH$1017),0)","v":0},{"$f":"IFERROR($E241*SUMIF('Daily Log'!$BJ$18:$BJ$1017,$B241,'Daily Log'!$BK$18:$BK$1017),0)","v":0},{"$f":"IFERROR($E241*SUMIF('Daily Log'!$BM$18:$BM$1017,$B241,'Daily Log'!$BN$18:$BN$1017),0)","v":0},{"$f":"IFERROR($E241*SUMIF('Daily Log'!$BP$18:$BP$1017,$B241,'Daily Log'!$BQ$18:$BQ$1017),0)","v":0},{"$f":"IFERROR($E241*SUMIF('Daily Log'!$BS$18:$BS$1017,$B241,'Daily Log'!$BT$18:$BT$1017),0)","v":0},{"$f":"IFERROR($E241*SUMIF('Daily Log'!$BV$18:$BV$1017,$B241,'Daily Log'!$BW$18:$BW$1017),0)","v":0},{"$f":"IFERROR($E241*SUMIF('Daily Log'!$BY$18:$BY$1017,$B241,'Daily Log'!$BZ$18:$BZ$1017),0)","v":0},{"$f":"IFERROR($E241*SUMIF('Daily Log'!$CB$18:$CB$1017,$B241,'Daily Log'!$CC$18:$CC$1017),0)","v":0},{"$f":"IFERROR($E241*SUMIF('Daily Log'!$CE$18:$CE$1017,$B241,'Daily Log'!$CF$18:$CF$1017),0)","v":0},{"$f":"IFERROR($E241*SUMIF('Daily Log'!$CH$18:$CH$1017,$B241,'Daily Log'!$CI$18:$CI$1017),0)","v":0},{"$f":"IFERROR($E241*SUMIF('Daily Log'!$CK$18:$CK$1017,$B241,'Daily Log'!$CL$18:$CL$1017),0)","v":0},{"$f":"IFERROR($E241*SUMIF('Daily Log'!$CN$18:$CN$1017,$B241,'Daily Log'!$CO$18:$CO$1017),0)","v":0}]
[null,"01304:N-Member Birthday",null,null,1,68,{"$f":"IFERROR($E242*SUMIF('Daily Log'!$B$18:$B$1017,$B242,'Daily Log'!$C$18:$C$1017),0)","v":0},{"$f":"IFERROR($E242*SUMIF('Daily Log'!$E$18:$E$1017,$B242,'Daily Log'!$F$18:$F$1017),0)","v":0},{"$f":"IFERROR($E242*SUMIF('Daily Log'!$H$18:$H$1017,$B242,'Daily Log'!$I$18:$I$1017),0)","v":0},{"$f":"IFERROR($E242*SUMIF('Daily Log'!$K$18:$K$1017,$B242,'Daily Log'!$L$18:$L$1017),0)","v":0},{"$f":"IFERROR($E242*SUMIF('Daily Log'!$N$18:$N$1017,$B242,'Daily Log'!$O$18:$O$1017),0)","v":0},{"$f":"IFERROR($E242*SUMIF('Daily Log'!$Q$18:$Q$1017,$B242,'Daily Log'!$R$18:$R$1017),0)","v":0},{"$f":"IFERROR($E242*SUMIF('Daily Log'!$T$18:$T$1017,$B242,'Daily Log'!$U$18:$U$1017),0)","v":3},{"$f":"IFERROR($E242*SUMIF('Daily Log'!$W$18:$W$1017,$B242,'Daily Log'!$X$18:$X$1017),0)","v":9},{"$f":"IFERROR($E242*SUMIF('Daily Log'!$Z$18:$Z$1017,$B242,'Daily Log'!$AA$18:$AA$1017),0)","v":7},{"$f":"IFERROR($E242*SUMIF('Daily Log'!$AC$18:$AC$1017,$B242,'Daily Log'!$AD$18:$AD$1017),0)","v":14},{"$f":"IFERROR($E242*SUMIF('Daily Log'!$AF$18:$AF$1017,$B242,'Daily Log'!$AG$18:$AG$1017),0)","v":10},{"$f":"IFERROR($E242*SUMIF('Daily Log'!$AI$18:$AI$1017,$B242,'Daily Log'!$AJ$18:$AJ$1017),0)","v":14},{"$f":"IFERROR($E242*SUMIF('Daily Log'!$AL$18:$AL$1017,$B242,'Daily Log'!$AM$18:$AM$1017),0)","v":11},{"$f":"IFERROR($E242*SUMIF('Daily Log'!$AO$18:$AO$1017,$B242,'Daily Log'!$AP$18:$AP$1017),0)","v":0},{"$f":"IFERROR($E242*SUMIF('Daily Log'!$AR$18:$AR$1017,$B242,'Daily Log'!$AS$18:$AS$1017),0)","v":0},{"$f":"IFERROR($E242*SUMIF('Daily Log'!$AU$18:$AU$1017,$B242,'Daily Log'!$AV$18:$AV$1017),0)","v":0},{"$f":"IFERROR($E242*SUMIF('Daily Log'!$AX$18:$AX$1017,$B242,'Daily Log'!$AY$18:$AY$1017),0)","v":0},{"$f":"IFERROR($E242*SUMIF('Daily Log'!$BA$18:$BA$1017,$B242,'Daily Log'!$BB$18:$BB$1017),0)","v":0},{"$f":"IFERROR($E242*SUMIF('Daily Log'!$BD$18:$BD$1017,$B242,'Daily Log'!$BE$18:$BE$1017),0)","v":0},{"$f":"IFERROR($E242*SUMIF('Daily Log'!$BG$18:$BG$1017,$B242,'Daily Log'!$BH$18:$BH$1017),0)","v":0},{"$f":"IFERROR($E242*SUMIF('Daily Log'!$BJ$18:$BJ$1017,$B242,'Daily Log'!$BK$18:$BK$1017),0)","v":0},{"$f":"IFERROR($E242*SUMIF('Daily Log'!$BM$18:$BM$1017,$B242,'Daily Log'!$BN$18:$BN$1017),0)","v":0},{"$f":"IFERROR($E242*SUMIF('Daily Log'!$BP$18:$BP$1017,$B242,'Daily Log'!$BQ$18:$BQ$1017),0)","v":0},{"$f":"IFERROR($E242*SUMIF('Daily Log'!$BS$18:$BS$1017,$B242,'Daily Log'!$BT$18:$BT$1017),0)","v":0},{"$f":"IFERROR($E242*SUMIF('Daily Log'!$BV$18:$BV$1017,$B242,'Daily Log'!$BW$18:$BW$1017),0)","v":0},{"$f":"IFERROR($E242*SUMIF('Daily Log'!$BY$18:$BY$1017,$B242,'Daily Log'!$BZ$18:$BZ$1017),0)","v":0},{"$f":"IFERROR($E242*SUMIF('Daily Log'!$CB$18:$CB$1017,$B242,'Daily Log'!$CC$18:$CC$1017),0)","v":0},{"$f":"IFERROR($E242*SUMIF('Daily Log'!$CE$18:$CE$1017,$B242,'Daily Log'!$CF$18:$CF$1017),0)","v":0},{"$f":"IFERROR($E242*SUMIF('Daily Log'!$CH$18:$CH$1017,$B242,'Daily Log'!$CI$18:$CI$1017),0)","v":0},{"$f":"IFERROR($E242*SUMIF('Daily Log'!$CK$18:$CK$1017,$B242,'Daily Log'!$CL$18:$CL$1017),0)","v":0},{"$f":"IFERROR($E242*SUMIF('Daily Log'!$CN$18:$CN$1017,$B242,'Daily Log'!$CO$18:$CO$1017),0)","v":0}]
[null,"01310:N-Extend (Medium)",null,null,1,2,{"$f":"IFERROR($E243*SUMIF('Daily Log'!$B$18:$B$1017,$B243,'Daily Log'!$C$18:$C$1017),0)","v":0},{"$f":"IFERROR($E243*SUMIF('Daily Log'!$E$18:$E$1017,$B243,'Daily Log'!$F$18:$F$1017),0)","v":0},{"$f":"IFERROR($E243*SUMIF('Daily Log'!$H$18:$H$1017,$B243,'Daily Log'!$I$18:$I$1017),0)","v":0},{"$f":"IFERROR($E243*SUMIF('Daily Log'!$K$18:$K$1017,$B243,'Daily Log'!$L$18:$L$1017),0)","v":0},{"$f":"IFERROR($E243*SUMIF('Daily Log'!$N$18:$N$1017,$B243,'Daily Log'!$O$18:$O$1017),0)","v":0},{"$f":"IFERROR($E243*SUMIF('Daily Log'!$Q$18:$Q$1017,$B243,'Daily Log'!$R$18:$R$1017),0)","v":0},{"$f":"IFERROR($E243*SUMIF('Daily Log'!$T$18:$T$1017,$B243,'Daily Log'!$U$18:$U$1017),0)","v":1},{"$f":"IFERROR($E243*SUMIF('Daily Log'!$W$18:$W$1017,$B243,'Daily Log'!$X$18:$X$1017),0)","v":0},{"$f":"IFERROR($E243*SUMIF('Daily Log'!$Z$18:$Z$1017,$B243,'Daily Log'!$AA$18:$AA$1017),0)","v":0},{"$f":"IFERROR($E243*SUMIF('Daily Log'!$AC$18:$AC$1017,$B243,'Daily Log'!$AD$18:$AD$1017),0)","v":0},{"$f":"IFERROR($E243*SUMIF('Daily Log'!$AF$18:$AF$1017,$B243,'Daily Log'!$AG$18:$AG$1017),0)","v":1},{"$f":"IFERROR($E243*SUMIF('Daily Log'!$AI$18:$AI$1017,$B243,'Daily Log'!$AJ$18:$AJ$1017),0)","v":0},{"$f":"IFERROR($E243*SUMIF('Daily Log'!$AL$18:$AL$1017,$B243,'Daily Log'!$AM$18:$AM$1017),0)","v":0},{"$f":"IFERROR($E243*SUMIF('Daily Log'!$AO$18:$AO$1017,$B243,'Daily Log'!$AP$18:$AP$1017),0)","v":0},{"$f":"IFERROR($E243*SUMIF('Daily Log'!$AR$18:$AR$1017,$B243,'Daily Log'!$AS$18:$AS$1017),0)","v":0},{"$f":"IFERROR($E243*SUMIF('Daily Log'!$AU$18:$AU$1017,$B243,'Daily Log'!$AV$18:$AV$1017),0)","v":0},{"$f":"IFERROR($E243*SUMIF('Daily Log'!$AX$18:$AX$1017,$B243,'Daily Log'!$AY$18:$AY$1017),0)","v":0},{"$f":"IFERROR($E243*SUMIF('Daily Log'!$BA$18:$BA$1017,$B243,'Daily Log'!$BB$18:$BB$1017),0)","v":0},{"$f":"IFERROR($E243*SUMIF('Daily Log'!$BD$18:$BD$1017,$B243,'Daily Log'!$BE$18:$BE$1017),0)","v":0},{"$f":"IFERROR($E243*SUMIF('Daily Log'!$BG$18:$BG$1017,$B243,'Daily Log'!$BH$18:$BH$1017),0)","v":0},{"$f":"IFERROR($E243*SUMIF('Daily Log'!$BJ$18:$BJ$1017,$B243,'Daily Log'!$BK$18:$BK$1017),0)","v":0},{"$f":"IFERROR($E243*SUMIF('Daily Log'!$BM$18:$BM$1017,$B243,'Daily Log'!$BN$18:$BN$1017),0)","v":0},{"$f":"IFERROR($E243*SUMIF('Daily Log'!$BP$18:$BP$1017,$B243,'Daily Log'!$BQ$18:$BQ$1017),0)","v":0},{"$f":"IFERROR($E243*SUMIF('Daily Log'!$BS$18:$BS$1017,$B243,'Daily Log'!$BT$18:$BT$1017),0)","v":0},{"$f":"IFERROR($E243*SUMIF('Daily Log'!$BV$18:$BV$1017,$B243,'Daily Log'!$BW$18:$BW$1017),0)","v":0},{"$f":"IFERROR($E243*SUMIF('Daily Log'!$BY$18:$BY$1017,$B243,'Daily Log'!$BZ$18:$BZ$1017),0)","v":0},{"$f":"IFERROR($E243*SUMIF('Daily Log'!$CB$18:$CB$1017,$B243,'Daily Log'!$CC$18:$CC$1017),0)","v":0},{"$f":"IFERROR($E243*SUMIF('Daily Log'!$CE$18:$CE$1017,$B243,'Daily Log'!$CF$18:$CF$1017),0)","v":0},{"$f":"IFERROR($E243*SUMIF('Daily Log'!$CH$18:$CH$1017,$B243,'Daily Log'!$CI$18:$CI$1017),0)","v":0},{"$f":"IFERROR($E243*SUMIF('Daily Log'!$CK$18:$CK$1017,$B243,'Daily Log'!$CL$18:$CL$1017),0)","v":0},{"$f":"IFERROR($E243*SUMIF('Daily Log'!$CN$18:$CN$1017,$B243,'Daily Log'!$CO$18:$CO$1017),0)","v":0}]
[null,"01318:N-Free Head Charge",null,null,1,47,{"$f":"IFERROR($E244*SUMIF('Daily Log'!$B$18:$B$1017,$B244,'Daily Log'!$C$18:$C$1017),0)","v":0},{"$f":"IFERROR($E244*SUMIF('Daily Log'!$E$18:$E$1017,$B244,'Daily Log'!$F$18:$F$1017),0)","v":0},{"$f":"IFERROR($E244*SUMIF('Daily Log'!$H$18:$H$1017,$B244,'Daily Log'!$I$18:$I$1017),0)","v":0},{"$f":"IFERROR($E244*SUMIF('Daily Log'!$K$18:$K$1017,$B244,'Daily Log'!$L$18:$L$1017),0)","v":0},{"$f":"IFERROR($E244*SUMIF('Daily Log'!$N$18:$N$1017,$B244,'Daily Log'!$O$18:$O$1017),0)","v":0},{"$f":"IFERROR($E244*SUMIF('Daily Log'!$Q$18:$Q$1017,$B244,'Daily Log'!$R$18:$R$1017),0)","v":0},{"$f":"IFERROR($E244*SUMIF('Daily Log'!$T$18:$T$1017,$B244,'Daily Log'!$U$18:$U$1017),0)","v":1},{"$f":"IFERROR($E244*SUMIF('Daily Log'!$W$18:$W$1017,$B244,'Daily Log'!$X$18:$X$1017),0)","v":6},{"$f":"IFERROR($E244*SUMIF('Daily Log'!$Z$18:$Z$1017,$B244,'Daily Log'!$AA$18:$AA$1017),0)","v":4},{"$f":"IFERROR($E244*SUMIF('Daily Log'!$AC$18:$AC$1017,$B244,'Daily Log'!$AD$18:$AD$1017),0)","v":8},{"$f":"IFERROR($E244*SUMIF('Daily Log'!$AF$18:$AF$1017,$B244,'Daily Log'!$AG$18:$AG$1017),0)","v":8},{"$f":"IFERROR($E244*SUMIF('Daily Log'!$AI$18:$AI$1017,$B244,'Daily Log'!$AJ$18:$AJ$1017),0)","v":14},{"$f":"IFERROR($E244*SUMIF('Daily Log'!$AL$18:$AL$1017,$B244,'Daily Log'!$AM$18:$AM$1017),0)","v":6},{"$f":"IFERROR($E244*SUMIF('Daily Log'!$AO$18:$AO$1017,$B244,'Daily Log'!$AP$18:$AP$1017),0)","v":0},{"$f":"IFERROR($E244*SUMIF('Daily Log'!$AR$18:$AR$1017,$B244,'Daily Log'!$AS$18:$AS$1017),0)","v":0},{"$f":"IFERROR($E244*SUMIF('Daily Log'!$AU$18:$AU$1017,$B244,'Daily Log'!$AV$18:$AV$1017),0)","v":0},{"$f":"IFERROR($E244*SUMIF('Daily Log'!$AX$18:$AX$1017,$B244,'Daily Log'!$AY$18:$AY$1017),0)","v":0},{"$f":"IFERROR($E244*SUMIF('Daily Log'!$BA$18:$BA$1017,$B244,'Daily Log'!$BB$18:$BB$1017),0)","v":0},{"$f":"IFERROR($E244*SUMIF('Daily Log'!$BD$18:$BD$1017,$B244,'Daily Log'!$BE$18:$BE$1017),0)","v":0},{"$f":"IFERROR($E244*SUMIF('Daily Log'!$BG$18:$BG$1017,$B244,'Daily Log'!$BH$18:$BH$1017),0)","v":0},{"$f":"IFERROR($E244*SUMIF('Daily Log'!$BJ$18:$BJ$1017,$B244,'Daily Log'!$BK$18:$BK$1017),0)","v":0},{"$f":"IFERROR($E244*SUMIF('Daily Log'!$BM$18:$BM$1017,$B244,'Daily Log'!$BN$18:$BN$1017),0)","v":0},{"$f":"IFERROR($E244*SUMIF('Daily Log'!$BP$18:$BP$1017,$B244,'Daily Log'!$BQ$18:$BQ$1017),0)","v":0},{"$f":"IFERROR($E244*SUMIF('Daily Log'!$BS$18:$BS$1017,$B244,'Daily Log'!$BT$18:$BT$1017),0)","v":0},{"$f":"IFERROR($E244*SUMIF('Daily Log'!$BV$18:$BV$1017,$B244,'Daily Log'!$BW$18:$BW$1017),0)","v":0},{"$f":"IFERROR($E244*SUMIF('Daily Log'!$BY$18:$BY$1017,$B244,'Daily Log'!$BZ$18:$BZ$1017),0)","v":0},{"$f":"IFERROR($E244*SUMIF('Daily Log'!$CB$18:$CB$1017,$B244,'Daily Log'!$CC$18:$CC$1017),0)","v":0},{"$f":"IFERROR($E244*SUMIF('Daily Log'!$CE$18:$CE$1017,$B244,'Daily Log'!$CF$18:$CF$1017),0)","v":0},{"$f":"IFERROR($E244*SUMIF('Daily Log'!$CH$18:$CH$1017,$B244,'Daily Log'!$CI$18:$CI$1017),0)","v":0},{"$f":"IFERROR($E244*SUMIF('Daily Log'!$CK$18:$CK$1017,$B244,'Daily Log'!$CL$18:$CL$1017),0)","v":0},{"$f":"IFERROR($E244*SUMIF('Daily Log'!$CN$18:$CN$1017,$B244,'Daily Log'!$CO$18:$CO$1017),0)","v":0}]
[null,"01322:N-50% HC",null,null,1,178,{"$f":"IFERROR($E245*SUMIF('Daily Log'!$B$18:$B$1017,$B245,'Daily Log'!$C$18:$C$1017),0)","v":0},{"$f":"IFERROR($E245*SUMIF('Daily Log'!$E$18:$E$1017,$B245,'Daily Log'!$F$18:$F$1017),0)","v":0},{"$f":"IFERROR($E245*SUMIF('Daily Log'!$H$18:$H$1017,$B245,'Daily Log'!$I$18:$I$1017),0)","v":0},{"$f":"IFERROR($E245*SUMIF('Daily Log'!$K$18:$K$1017,$B245,'Daily Log'!$L$18:$L$1017),0)","v":0},{"$f":"IFERROR($E245*SUMIF('Daily Log'!$N$18:$N$1017,$B245,'Daily Log'!$O$18:$O$1017),0)","v":0},{"$f":"IFERROR($E245*SUMIF('Daily Log'!$Q$18:$Q$1017,$B245,'Daily Log'!$R$18:$R$1017),0)","v":0},{"$f":"IFERROR($E245*SUMIF('Daily Log'!$T$18:$T$1017,$B245,'Daily Log'!$U$18:$U$1017),0)","v":4},{"$f":"IFERROR($E245*SUMIF('Daily Log'!$W$18:$W$1017,$B245,'Daily Log'!$X$18:$X$1017),0)","v":39},{"$f":"IFERROR($E245*SUMIF('Daily Log'!$Z$18:$Z$1017,$B245,'Daily Log'!$AA$18:$AA$1017),0)","v":21},{"$f":"IFERROR($E245*SUMIF('Daily Log'!$AC$18:$AC$1017,$B245,'Daily Log'!$AD$18:$AD$1017),0)","v":42},{"$f":"IFERROR($E245*SUMIF('Daily Log'!$AF$18:$AF$1017,$B245,'Daily Log'!$AG$18:$AG$1017),0)","v":0},{"$f":"IFERROR($E245*SUMIF('Daily Log'!$AI$18:$AI$1017,$B245,'Daily Log'!$AJ$18:$AJ$1017),0)","v":0},{"$f":"IFERROR($E245*SUMIF('Daily Log'!$AL$18:$AL$1017,$B245,'Daily Log'!$AM$18:$AM$1017),0)","v":72},{"$f":"IFERROR($E245*SUMIF('Daily Log'!$AO$18:$AO$1017,$B245,'Daily Log'!$AP$18:$AP$1017),0)","v":0},{"$f":"IFERROR($E245*SUMIF('Daily Log'!$AR$18:$AR$1017,$B245,'Daily Log'!$AS$18:$AS$1017),0)","v":0},{"$f":"IFERROR($E245*SUMIF('Daily Log'!$AU$18:$AU$1017,$B245,'Daily Log'!$AV$18:$AV$1017),0)","v":0},{"$f":"IFERROR($E245*SUMIF('Daily Log'!$AX$18:$AX$1017,$B245,'Daily Log'!$AY$18:$AY$1017),0)","v":0},{"$f":"IFERROR($E245*SUMIF('Daily Log'!$BA$18:$BA$1017,$B245,'Daily Log'!$BB$18:$BB$1017),0)","v":0},{"$f":"IFERROR($E245*SUMIF('Daily Log'!$BD$18:$BD$1017,$B245,'Daily Log'!$BE$18:$BE$1017),0)","v":0},{"$f":"IFERROR($E245*SUMIF('Daily Log'!$BG$18:$BG$1017,$B245,'Daily Log'!$BH$18:$BH$1017),0)","v":0},{"$f":"IFERROR($E245*SUMIF('Daily Log'!$BJ$18:$BJ$1017,$B245,'Daily Log'!$BK$18:$BK$1017),0)","v":0},{"$f":"IFERROR($E245*SUMIF('Daily Log'!$BM$18:$BM$1017,$B245,'Daily Log'!$BN$18:$BN$1017),0)","v":0},{"$f":"IFERROR($E245*SUMIF('Daily Log'!$BP$18:$BP$1017,$B245,'Daily Log'!$BQ$18:$BQ$1017),0)","v":0},{"$f":"IFERROR($E245*SUMIF('Daily Log'!$BS$18:$BS$1017,$B245,'Daily Log'!$BT$18:$BT$1017),0)","v":0},{"$f":"IFERROR($E245*SUMIF('Daily Log'!$BV$18:$BV$1017,$B245,'Daily Log'!$BW$18:$BW$1017),0)","v":0},{"$f":"IFERROR($E245*SUMIF('Daily Log'!$BY$18:$BY$1017,$B245,'Daily Log'!$BZ$18:$BZ$1017),0)","v":0},{"$f":"IFERROR($E245*SUMIF('Daily Log'!$CB$18:$CB$1017,$B245,'Daily Log'!$CC$18:$CC$1017),0)","v":0},{"$f":"IFERROR($E245*SUMIF('Daily Log'!$CE$18:$CE$1017,$B245,'Daily Log'!$CF$18:$CF$1017),0)","v":0},{"$f":"IFERROR($E245*SUMIF('Daily Log'!$CH$18:$CH$1017,$B245,'Daily Log'!$CI$18:$CI$1017),0)","v":0},{"$f":"IFERROR($E245*SUMIF('Daily Log'!$CK$18:$CK$1017,$B245,'Daily Log'!$CL$18:$CL$1017),0)","v":0},{"$f":"IFERROR($E245*SUMIF('Daily Log'!$CN$18:$CN$1017,$B245,'Daily Log'!$CO$18:$CO$1017),0)","v":0}]
[null,"01401:M-Normal Price",null,null,1,73,{"$f":"IFERROR($E246*SUMIF('Daily Log'!$B$18:$B$1017,$B246,'Daily Log'!$C$18:$C$1017),0)","v":0},{"$f":"IFERROR($E246*SUMIF('Daily Log'!$E$18:$E$1017,$B246,'Daily Log'!$F$18:$F$1017),0)","v":0},{"$f":"IFERROR($E246*SUMIF('Daily Log'!$H$18:$H$1017,$B246,'Daily Log'!$I$18:$I$1017),0)","v":0},{"$f":"IFERROR($E246*SUMIF('Daily Log'!$K$18:$K$1017,$B246,'Daily Log'!$L$18:$L$1017),0)","v":0},{"$f":"IFERROR($E246*SUMIF('Daily Log'!$N$18:$N$1017,$B246,'Daily Log'!$O$18:$O$1017),0)","v":0},{"$f":"IFERROR($E246*SUMIF('Daily Log'!$Q$18:$Q$1017,$B246,'Daily Log'!$R$18:$R$1017),0)","v":0},{"$f":"IFERROR($E246*SUMIF('Daily Log'!$T$18:$T$1017,$B246,'Daily Log'!$U$18:$U$1017),0)","v":10},{"$f":"IFERROR($E246*SUMIF('Daily Log'!$W$18:$W$1017,$B246,'Daily Log'!$X$18:$X$1017),0)","v":7},{"$f":"IFERROR($E246*SUMIF('Daily Log'!$Z$18:$Z$1017,$B246,'Daily Log'!$AA$18:$AA$1017),0)","v":26},{"$f":"IFERROR($E246*SUMIF('Daily Log'!$AC$18:$AC$1017,$B246,'Daily Log'!$AD$18:$AD$1017),0)","v":18},{"$f":"IFERROR($E246*SUMIF('Daily Log'!$AF$18:$AF$1017,$B246,'Daily Log'!$AG$18:$AG$1017),0)","v":4},{"$f":"IFERROR($E246*SUMIF('Daily Log'!$AI$18:$AI$1017,$B246,'Daily Log'!$AJ$18:$AJ$1017),0)","v":8},{"$f":"IFERROR($E246*SUMIF('Daily Log'!$AL$18:$AL$1017,$B246,'Daily Log'!$AM$18:$AM$1017),0)","v":0},{"$f":"IFERROR($E246*SUMIF('Daily Log'!$AO$18:$AO$1017,$B246,'Daily Log'!$AP$18:$AP$1017),0)","v":0},{"$f":"IFERROR($E246*SUMIF('Daily Log'!$AR$18:$AR$1017,$B246,'Daily Log'!$AS$18:$AS$1017),0)","v":0},{"$f":"IFERROR($E246*SUMIF('Daily Log'!$AU$18:$AU$1017,$B246,'Daily Log'!$AV$18:$AV$1017),0)","v":0},{"$f":"IFERROR($E246*SUMIF('Daily Log'!$AX$18:$AX$1017,$B246,'Daily Log'!$AY$18:$AY$1017),0)","v":0},{"$f":"IFERROR($E246*SUMIF('Daily Log'!$BA$18:$BA$1017,$B246,'Daily Log'!$BB$18:$BB$1017),0)","v":0},{"$f":"IFERROR($E246*SUMIF('Daily Log'!$BD$18:$BD$1017,$B246,'Daily Log'!$BE$18:$BE$1017),0)","v":0},{"$f":"IFERROR($E246*SUMIF('Daily Log'!$BG$18:$BG$1017,$B246,'Daily Log'!$BH$18:$BH$1017),0)","v":0},{"$f":"IFERROR($E246*SUMIF('Daily Log'!$BJ$18:$BJ$1017,$B246,'Daily Log'!$BK$18:$BK$1017),0)","v":0},{"$f":"IFERROR($E246*SUMIF('Daily Log'!$BM$18:$BM$1017,$B246,'Daily Log'!$BN$18:$BN$1017),0)","v":0},{"$f":"IFERROR($E246*SUMIF('Daily Log'!$BP$18:$BP$1017,$B246,'Daily Log'!$BQ$18:$BQ$1017),0)","v":0},{"$f":"IFERROR($E246*SUMIF('Daily Log'!$BS$18:$BS$1017,$B246,'Daily Log'!$BT$18:$BT$1017),0)","v":0},{"$f":"IFERROR($E246*SUMIF('Daily Log'!$BV$18:$BV$1017,$B246,'Daily Log'!$BW$18:$BW$1017),0)","v":0},{"$f":"IFERROR($E246*SUMIF('Daily Log'!$BY$18:$BY$1017,$B246,'Daily Log'!$BZ$18:$BZ$1017),0)","v":0},{"$f":"IFERROR($E246*SUMIF('Daily Log'!$CB$18:$CB$1017,$B246,'Daily Log'!$CC$18:$CC$1017),0)","v":0},{"$f":"IFERROR($E246*SUMIF('Daily Log'!$CE$18:$CE$1017,$B246,'Daily Log'!$CF$18:$CF$1017),0)","v":0},{"$f":"IFERROR($E246*SUMIF('Daily Log'!$CH$18:$CH$1017,$B246,'Daily Log'!$CI$18:$CI$1017),0)","v":0},{"$f":"IFERROR($E246*SUMIF('Daily Log'!$CK$18:$CK$1017,$B246,'Daily Log'!$CL$18:$CL$1017),0)","v":0},{"$f":"IFERROR($E246*SUMIF('Daily Log'!$CN$18:$CN$1017,$B246,'Daily Log'!$CO$18:$CO$1017),0)","v":0}]
[null,"01402:M-Member Price",null,null,1,0,{"$f":"IFERROR($E247*SUMIF('Daily Log'!$B$18:$B$1017,$B247,'Daily Log'!$C$18:$C$1017),0)","v":0},{"$f":"IFERROR($E247*SUMIF('Daily Log'!$E$18:$E$1017,$B247,'Daily Log'!$F$18:$F$1017),0)","v":0},{"$f":"IFERROR($E247*SUMIF('Daily Log'!$H$18:$H$1017,$B247,'Daily Log'!$I$18:$I$1017),0)","v":0},{"$f":"IFERROR($E247*SUMIF('Daily Log'!$K$18:$K$1017,$B247,'Daily Log'!$L$18:$L$1017),0)","v":0},{"$f":"IFERROR($E247*SUMIF('Daily Log'!$N$18:$N$1017,$B247,'Daily Log'!$O$18:$O$1017),0)","v":0},{"$f":"IFERROR($E247*SUMIF('Daily Log'!$Q$18:$Q$1017,$B247,'Daily Log'!$R$18:$R$1017),0)","v":0},{"$f":"IFERROR($E247*SUMIF('Daily Log'!$T$18:$T$1017,$B247,'Daily Log'!$U$18:$U$1017),0)","v":0},{"$f":"IFERROR($E247*SUMIF('Daily Log'!$W$18:$W$1017,$B247,'Daily Log'!$X$18:$X$1017),0)","v":0},{"$f":"IFERROR($E247*SUMIF('Daily Log'!$Z$18:$Z$1017,$B247,'Daily Log'!$AA$18:$AA$1017),0)","v":0},{"$f":"IFERROR($E247*SUMIF('Daily Log'!$AC$18:$AC$1017,$B247,'Daily Log'!$AD$18:$AD$1017),0)","v":0},{"$f":"IFERROR($E247*SUMIF('Daily Log'!$AF$18:$AF$1017,$B247,'Daily Log'!$AG$18:$AG$1017),0)","v":0},{"$f":"IFERROR($E247*SUMIF('Daily Log'!$AI$18:$AI$1017,$B247,'Daily Log'!$AJ$18:$AJ$1017),0)","v":0},{"$f":"IFERROR($E247*SUMIF('Daily Log'!$AL$18:$AL$1017,$B247,'Daily Log'!$AM$18:$AM$1017),0)","v":0},{"$f":"IFERROR($E247*SUMIF('Daily Log'!$AO$18:$AO$1017,$B247,'Daily Log'!$AP$18:$AP$1017),0)","v":0},{"$f":"IFERROR($E247*SUMIF('Daily Log'!$AR$18:$AR$1017,$B247,'Daily Log'!$AS$18:$AS$1017),0)","v":0},{"$f":"IFERROR($E247*SUMIF('Daily Log'!$AU$18:$AU$1017,$B247,'Daily Log'!$AV$18:$AV$1017),0)","v":0},{"$f":"IFERROR($E247*SUMIF('Daily Log'!$AX$18:$AX$1017,$B247,'Daily Log'!$AY$18:$AY$1017),0)","v":0},{"$f":"IFERROR($E247*SUMIF('Daily Log'!$BA$18:$BA$1017,$B247,'Daily Log'!$BB$18:$BB$1017),0)","v":0},{"$f":"IFERROR($E247*SUMIF('Daily Log'!$BD$18:$BD$1017,$B247,'Daily Log'!$BE$18:$BE$1017),0)","v":0},{"$f":"IFERROR($E247*SUMIF('Daily Log'!$BG$18:$BG$1017,$B247,'Daily Log'!$BH$18:$BH$1017),0)","v":0},{"$f":"IFERROR($E247*SUMIF('Daily Log'!$BJ$18:$BJ$1017,$B247,'Daily Log'!$BK$18:$BK$1017),0)","v":0},{"$f":"IFERROR($E247*SUMIF('Daily Log'!$BM$18:$BM$1017,$B247,'Daily Log'!$BN$18:$BN$1017),0)","v":0},{"$f":"IFERROR($E247*SUMIF('Daily Log'!$BP$18:$BP$1017,$B247,'Daily Log'!$BQ$18:$BQ$1017),0)","v":0},{"$f":"IFERROR($E247*SUMIF('Daily Log'!$BS$18:$BS$1017,$B247,'Daily Log'!$BT$18:$BT$1017),0)","v":0},{"$f":"IFERROR($E247*SUMIF('Daily Log'!$BV$18:$BV$1017,$B247,'Daily Log'!$BW$18:$BW$1017),0)","v":0},{"$f":"IFERROR($E247*SUMIF('Daily Log'!$BY$18:$BY$1017,$B247,'Daily Log'!$BZ$18:$BZ$1017),0)","v":0},{"$f":"IFERROR($E247*SUMIF('Daily Log'!$CB$18:$CB$1017,$B247,'Daily Log'!$CC$18:$CC$1017),0)","v":0},{"$f":"IFERROR($E247*SUMIF('Daily Log'!$CE$18:$CE$1017,$B247,'Daily Log'!$CF$18:$CF$1017),0)","v":0},{"$f":"IFERROR($E247*SUMIF('Daily Log'!$CH$18:$CH$1017,$B247,'Daily Log'!$CI$18:$CI$1017),0)","v":0},{"$f":"IFERROR($E247*SUMIF('Daily Log'!$CK$18:$CK$1017,$B247,'Daily Log'!$CL$18:$CL$1017),0)","v":0},{"$f":"IFERROR($E247*SUMIF('Daily Log'!$CN$18:$CN$1017,$B247,'Daily Log'!$CO$18:$CO$1017),0)","v":0}]
[null,"01408:M-Ladies Price",null,null,1,82,{"$f":"IFERROR($E248*SUMIF('Daily Log'!$B$18:$B$1017,$B248,'Daily Log'!$C$18:$C$1017),0)","v":0},{"$f":"IFERROR($E248*SUMIF('Daily Log'!$E$18:$E$1017,$B248,'Daily Log'!$F$18:$F$1017),0)","v":0},{"$f":"IFERROR($E248*SUMIF('Daily Log'!$H$18:$H$1017,$B248,'Daily Log'!$I$18:$I$1017),0)","v":0},{"$f":"IFERROR($E248*SUMIF('Daily Log'!$K$18:$K$1017,$B248,'Daily Log'!$L$18:$L$1017),0)","v":0},{"$f":"IFERROR($E248*SUMIF('Daily Log'!$N$18:$N$1017,$B248,'Daily Log'!$O$18:$O$1017),0)","v":0},{"$f":"IFERROR($E248*SUMIF('Daily Log'!$Q$18:$Q$1017,$B248,'Daily Log'!$R$18:$R$1017),0)","v":0},{"$f":"IFERROR($E248*SUMIF('Daily Log'!$T$18:$T$1017,$B248,'Daily Log'!$U$18:$U$1017),0)","v":14},{"$f":"IFERROR($E248*SUMIF('Daily Log'!$W$18:$W$1017,$B248,'Daily Log'!$X$18:$X$1017),0)","v":15},{"$f":"IFERROR($E248*SUMIF('Daily Log'!$Z$18:$Z$1017,$B248,'Daily Log'!$AA$18:$AA$1017),0)","v":17},{"$f":"IFERROR($E248*SUMIF('Daily Log'!$AC$18:$AC$1017,$B248,'Daily Log'!$AD$18:$AD$1017),0)","v":36},{"$f":"IFERROR($E248*SUMIF('Daily Log'!$AF$18:$AF$1017,$B248,'Daily Log'!$AG$18:$AG$1017),0)","v":0},{"$f":"IFERROR($E248*SUMIF('Daily Log'!$AI$18:$AI$1017,$B248,'Daily Log'!$AJ$18:$AJ$1017),0)","v":0},{"$f":"IFERROR($E248*SUMIF('Daily Log'!$AL$18:$AL$1017,$B248,'Daily Log'!$AM$18:$AM$1017),0)","v":0},{"$f":"IFERROR($E248*SUMIF('Daily Log'!$AO$18:$AO$1017,$B248,'Daily Log'!$AP$18:$AP$1017),0)","v":0},{"$f":"IFERROR($E248*SUMIF('Daily Log'!$AR$18:$AR$1017,$B248,'Daily Log'!$AS$18:$AS$1017),0)","v":0},{"$f":"IFERROR($E248*SUMIF('Daily Log'!$AU$18:$AU$1017,$B248,'Daily Log'!$AV$18:$AV$1017),0)","v":0},{"$f":"IFERROR($E248*SUMIF('Daily Log'!$AX$18:$AX$1017,$B248,'Daily Log'!$AY$18:$AY$1017),0)","v":0},{"$f":"IFERROR($E248*SUMIF('Daily Log'!$BA$18:$BA$1017,$B248,'Daily Log'!$BB$18:$BB$1017),0)","v":0},{"$f":"IFERROR($E248*SUMIF('Daily Log'!$BD$18:$BD$1017,$B248,'Daily Log'!$BE$18:$BE$1017),0)","v":0},{"$f":"IFERROR($E248*SUMIF('Daily Log'!$BG$18:$BG$1017,$B248,'Daily Log'!$BH$18:$BH$1017),0)","v":0},{"$f":"IFERROR($E248*SUMIF('Daily Log'!$BJ$18:$BJ$1017,$B248,'Daily Log'!$BK$18:$BK$1017),0)","v":0},{"$f":"IFERROR($E248*SUMIF('Daily Log'!$BM$18:$BM$1017,$B248,'Daily Log'!$BN$18:$BN$1017),0)","v":0},{"$f":"IFERROR($E248*SUMIF('Daily Log'!$BP$18:$BP$1017,$B248,'Daily Log'!$BQ$18:$BQ$1017),0)","v":0},{"$f":"IFERROR($E248*SUMIF('Daily Log'!$BS$18:$BS$1017,$B248,'Daily Log'!$BT$18:$BT$1017),0)","v":0},{"$f":"IFERROR($E248*SUMIF('Daily Log'!$BV$18:$BV$1017,$B248,'Daily Log'!$BW$18:$BW$1017),0)","v":0},{"$f":"IFERROR($E248*SUMIF('Daily Log'!$BY$18:$BY$1017,$B248,'Daily Log'!$BZ$18:$BZ$1017),0)","v":0},{"$f":"IFERROR($E248*SUMIF('Daily Log'!$CB$18:$CB$1017,$B248,'Daily Log'!$CC$18:$CC$1017),0)","v":0},{"$f":"IFERROR($E248*SUMIF('Daily Log'!$CE$18:$CE$1017,$B248,'Daily Log'!$CF$18:$CF$1017),0)","v":0},{"$f":"IFERROR($E248*SUMIF('Daily Log'!$CH$18:$CH$1017,$B248,'Daily Log'!$CI$18:$CI$1017),0)","v":0},{"$f":"IFERROR($E248*SUMIF('Daily Log'!$CK$18:$CK$1017,$B248,'Daily Log'!$CL$18:$CL$1017),0)","v":0},{"$f":"IFERROR($E248*SUMIF('Daily Log'!$CN$18:$CN$1017,$B248,'Daily Log'!$CO$18:$CO$1017),0)","v":0}]
[null,"01410:M-Extend (Medium)",null,null,1,2,{"$f":"IFERROR($E249*SUMIF('Daily Log'!$B$18:$B$1017,$B249,'Daily Log'!$C$18:$C$1017),0)","v":0},{"$f":"IFERROR($E249*SUMIF('Daily Log'!$E$18:$E$1017,$B249,'Daily Log'!$F$18:$F$1017),0)","v":0},{"$f":"IFERROR($E249*SUMIF('Daily Log'!$H$18:$H$1017,$B249,'Daily Log'!$I$18:$I$1017),0)","v":0},{"$f":"IFERROR($E249*SUMIF('Daily Log'!$K$18:$K$1017,$B249,'Daily Log'!$L$18:$L$1017),0)","v":0},{"$f":"IFERROR($E249*SUMIF('Daily Log'!$N$18:$N$1017,$B249,'Daily Log'!$O$18:$O$1017),0)","v":0},{"$f":"IFERROR($E249*SUMIF('Daily Log'!$Q$18:$Q$1017,$B249,'Daily Log'!$R$18:$R$1017),0)","v":0},{"$f":"IFERROR($E249*SUMIF('Daily Log'!$T$18:$T$1017,$B249,'Daily Log'!$U$18:$U$1017),0)","v":0},{"$f":"IFERROR($E249*SUMIF('Daily Log'!$W$18:$W$1017,$B249,'Daily Log'!$X$18:$X$1017),0)","v":0},{"$f":"IFERROR($E249*SUMIF('Daily Log'!$Z$18:$Z$1017,$B249,'Daily Log'!$AA$18:$AA$1017),0)","v":0},{"$f":"IFERROR($E249*SUMIF('Daily Log'!$AC$18:$AC$1017,$B249,'Daily Log'!$AD$18:$AD$1017),0)","v":0},{"$f":"IFERROR($E249*SUMIF('Daily Log'!$AF$18:$AF$1017,$B249,'Daily Log'!$AG$18:$AG$1017),0)","v":1},{"$f":"IFERROR($E249*SUMIF('Daily Log'!$AI$18:$AI$1017,$B249,'Daily Log'!$AJ$18:$AJ$1017),0)","v":1},{"$f":"IFERROR($E249*SUMIF('Daily Log'!$AL$18:$AL$1017,$B249,'Daily Log'!$AM$18:$AM$1017),0)","v":0},{"$f":"IFERROR($E249*SUMIF('Daily Log'!$AO$18:$AO$1017,$B249,'Daily Log'!$AP$18:$AP$1017),0)","v":0},{"$f":"IFERROR($E249*SUMIF('Daily Log'!$AR$18:$AR$1017,$B249,'Daily Log'!$AS$18:$AS$1017),0)","v":0},{"$f":"IFERROR($E249*SUMIF('Daily Log'!$AU$18:$AU$1017,$B249,'Daily Log'!$AV$18:$AV$1017),0)","v":0},{"$f":"IFERROR($E249*SUMIF('Daily Log'!$AX$18:$AX$1017,$B249,'Daily Log'!$AY$18:$AY$1017),0)","v":0},{"$f":"IFERROR($E249*SUMIF('Daily Log'!$BA$18:$BA$1017,$B249,'Daily Log'!$BB$18:$BB$1017),0)","v":0},{"$f":"IFERROR($E249*SUMIF('Daily Log'!$BD$18:$BD$1017,$B249,'Daily Log'!$BE$18:$BE$1017),0)","v":0},{"$f":"IFERROR($E249*SUMIF('Daily Log'!$BG$18:$BG$1017,$B249,'Daily Log'!$BH$18:$BH$1017),0)","v":0},{"$f":"IFERROR($E249*SUMIF('Daily Log'!$BJ$18:$BJ$1017,$B249,'Daily Log'!$BK$18:$BK$1017),0)","v":0},{"$f":"IFERROR($E249*SUMIF('Daily Log'!$BM$18:$BM$1017,$B249,'Daily Log'!$BN$18:$BN$1017),0)","v":0},{"$f":"IFERROR($E249*SUMIF('Daily Log'!$BP$18:$BP$1017,$B249,'Daily Log'!$BQ$18:$BQ$1017),0)","v":0},{"$f":"IFERROR($E249*SUMIF('Daily Log'!$BS$18:$BS$1017,$B249,'Daily Log'!$BT$18:$BT$1017),0)","v":0},{"$f":"IFERROR($E249*SUMIF('Daily Log'!$BV$18:$BV$1017,$B249,'Daily Log'!$BW$18:$BW$1017),0)","v":0},{"$f":"IFERROR($E249*SUMIF('Daily Log'!$BY$18:$BY$1017,$B249,'Daily Log'!$BZ$18:$BZ$1017),0)","v":0},{"$f":"IFERROR($E249*SUMIF('Daily Log'!$CB$18:$CB$1017,$B249,'Daily Log'!$CC$18:$CC$1017),0)","v":0},{"$f":"IFERROR($E249*SUMIF('Daily Log'!$CE$18:$CE$1017,$B249,'Daily Log'!$CF$18:$CF$1017),0)","v":0},{"$f":"IFERROR($E249*SUMIF('Daily Log'!$CH$18:$CH$1017,$B249,'Daily Log'!$CI$18:$CI$1017),0)","v":0},{"$f":"IFERROR($E249*SUMIF('Daily Log'!$CK$18:$CK$1017,$B249,'Daily Log'!$CL$18:$CL$1017),0)","v":0},{"$f":"IFERROR($E249*SUMIF('Daily Log'!$CN$18:$CN$1017,$B249,'Daily Log'!$CO$18:$CO$1017),0)","v":0}]
[null,"06121:NFFP-Small Price",null,null,1,0,{"$f":"IFERROR($E250*SUMIF('Daily Log'!$B$18:$B$1017,$B250,'Daily Log'!$C$18:$C$1017),0)","v":0},{"$f":"IFERROR($E250*SUMIF('Daily Log'!$E$18:$E$1017,$B250,'Daily Log'!$F$18:$F$1017),0)","v":0},{"$f":"IFERROR($E250*SUMIF('Daily Log'!$H$18:$H$1017,$B250,'Daily Log'!$I$18:$I$1017),0)","v":0},{"$f":"IFERROR($E250*SUMIF('Daily Log'!$K$18:$K$1017,$B250,'Daily Log'!$L$18:$L$1017),0)","v":0},{"$f":"IFERROR($E250*SUMIF('Daily Log'!$N$18:$N$1017,$B250,'Daily Log'!$O$18:$O$1017),0)","v":0},{"$f":"IFERROR($E250*SUMIF('Daily Log'!$Q$18:$Q$1017,$B250,'Daily Log'!$R$18:$R$1017),0)","v":0},{"$f":"IFERROR($E250*SUMIF('Daily Log'!$T$18:$T$1017,$B250,'Daily Log'!$U$18:$U$1017),0)","v":0},{"$f":"IFERROR($E250*SUMIF('Daily Log'!$W$18:$W$1017,$B250,'Daily Log'!$X$18:$X$1017),0)","v":0},{"$f":"IFERROR($E250*SUMIF('Daily Log'!$Z$18:$Z$1017,$B250,'Daily Log'!$AA$18:$AA$1017),0)","v":0},{"$f":"IFERROR($E250*SUMIF('Daily Log'!$AC$18:$AC$1017,$B250,'Daily Log'!$AD$18:$AD$1017),0)","v":0},{"$f":"IFERROR($E250*SUMIF('Daily Log'!$AF$18:$AF$1017,$B250,'Daily Log'!$AG$18:$AG$1017),0)","v":0},{"$f":"IFERROR($E250*SUMIF('Daily Log'!$AI$18:$AI$1017,$B250,'Daily Log'!$AJ$18:$AJ$1017),0)","v":0},{"$f":"IFERROR($E250*SUMIF('Daily Log'!$AL$18:$AL$1017,$B250,'Daily Log'!$AM$18:$AM$1017),0)","v":0},{"$f":"IFERROR($E250*SUMIF('Daily Log'!$AO$18:$AO$1017,$B250,'Daily Log'!$AP$18:$AP$1017),0)","v":0},{"$f":"IFERROR($E250*SUMIF('Daily Log'!$AR$18:$AR$1017,$B250,'Daily Log'!$AS$18:$AS$1017),0)","v":0},{"$f":"IFERROR($E250*SUMIF('Daily Log'!$AU$18:$AU$1017,$B250,'Daily Log'!$AV$18:$AV$1017),0)","v":0},{"$f":"IFERROR($E250*SUMIF('Daily Log'!$AX$18:$AX$1017,$B250,'Daily Log'!$AY$18:$AY$1017),0)","v":0},{"$f":"IFERROR($E250*SUMIF('Daily Log'!$BA$18:$BA$1017,$B250,'Daily Log'!$BB$18:$BB$1017),0)","v":0},{"$f":"IFERROR($E250*SUMIF('Daily Log'!$BD$18:$BD$1017,$B250,'Daily Log'!$BE$18:$BE$1017),0)","v":0},{"$f":"IFERROR($E250*SUMIF('Daily Log'!$BG$18:$BG$1017,$B250,'Daily Log'!$BH$18:$BH$1017),0)","v":0},{"$f":"IFERROR($E250*SUMIF('Daily Log'!$BJ$18:$BJ$1017,$B250,'Daily Log'!$BK$18:$BK$1017),0)","v":0},{"$f":"IFERROR($E250*SUMIF('Daily Log'!$BM$18:$BM$1017,$B250,'Daily Log'!$BN$18:$BN$1017),0)","v":0},{"$f":"IFERROR($E250*SUMIF('Daily Log'!$BP$18:$BP$1017,$B250,'Daily Log'!$BQ$18:$BQ$1017),0)","v":0},{"$f":"IFERROR($E250*SUMIF('Daily Log'!$BS$18:$BS$1017,$B250,'Daily Log'!$BT$18:$BT$1017),0)","v":0},{"$f":"IFERROR($E250*SUMIF('Daily Log'!$BV$18:$BV$1017,$B250,'Daily Log'!$BW$18:$BW$1017),0)","v":0},{"$f":"IFERROR($E250*SUMIF('Daily Log'!$BY$18:$BY$1017,$B250,'Daily Log'!$BZ$18:$BZ$1017),0)","v":0},{"$f":"IFERROR($E250*SUMIF('Daily Log'!$CB$18:$CB$1017,$B250,'Daily Log'!$CC$18:$CC$1017),0)","v":0},{"$f":"IFERROR($E250*SUMIF('Daily Log'!$CE$18:$CE$1017,$B250,'Daily Log'!$CF$18:$CF$1017),0)","v":0},{"$f":"IFERROR($E250*SUMIF('Daily Log'!$CH$18:$CH$1017,$B250,'Daily Log'!$CI$18:$CI$1017),0)","v":0},{"$f":"IFERROR($E250*SUMIF('Daily Log'!$CK$18:$CK$1017,$B250,'Daily Log'!$CL$18:$CL$1017),0)","v":0},{"$f":"IFERROR($E250*SUMIF('Daily Log'!$CN$18:$CN$1017,$B250,'Daily Log'!$CO$18:$CO$1017),0)","v":0}]
[null,"06201:NBP-Medium Price",null,null,1,0,{"$f":"IFERROR($E251*SUMIF('Daily Log'!$B$18:$B$1017,$B251,'Daily Log'!$C$18:$C$1017),0)","v":0},{"$f":"IFERROR($E251*SUMIF('Daily Log'!$E$18:$E$1017,$B251,'Daily Log'!$F$18:$F$1017),0)","v":0},{"$f":"IFERROR($E251*SUMIF('Daily Log'!$H$18:$H$1017,$B251,'Daily Log'!$I$18:$I$1017),0)","v":0},{"$f":"IFERROR($E251*SUMIF('Daily Log'!$K$18:$K$1017,$B251,'Daily Log'!$L$18:$L$1017),0)","v":0},{"$f":"IFERROR($E251*SUMIF('Daily Log'!$N$18:$N$1017,$B251,'Daily Log'!$O$18:$O$1017),0)","v":0},{"$f":"IFERROR($E251*SUMIF('Daily Log'!$Q$18:$Q$1017,$B251,'Daily Log'!$R$18:$R$1017),0)","v":0},{"$f":"IFERROR($E251*SUMIF('Daily Log'!$T$18:$T$1017,$B251,'Daily Log'!$U$18:$U$1017),0)","v":0},{"$f":"IFERROR($E251*SUMIF('Daily Log'!$W$18:$W$1017,$B251,'Daily Log'!$X$18:$X$1017),0)","v":0},{"$f":"IFERROR($E251*SUMIF('Daily Log'!$Z$18:$Z$1017,$B251,'Daily Log'!$AA$18:$AA$1017),0)","v":0},{"$f":"IFERROR($E251*SUMIF('Daily Log'!$AC$18:$AC$1017,$B251,'Daily Log'!$AD$18:$AD$1017),0)","v":0},{"$f":"IFERROR($E251*SUMIF('Daily Log'!$AF$18:$AF$1017,$B251,'Daily Log'!$AG$18:$AG$1017),0)","v":0},{"$f":"IFERROR($E251*SUMIF('Daily Log'!$AI$18:$AI$1017,$B251,'Daily Log'!$AJ$18:$AJ$1017),0)","v":0},{"$f":"IFERROR($E251*SUMIF('Daily Log'!$AL$18:$AL$1017,$B251,'Daily Log'!$AM$18:$AM$1017),0)","v":0},{"$f":"IFERROR($E251*SUMIF('Daily Log'!$AO$18:$AO$1017,$B251,'Daily Log'!$AP$18:$AP$1017),0)","v":0},{"$f":"IFERROR($E251*SUMIF('Daily Log'!$AR$18:$AR$1017,$B251,'Daily Log'!$AS$18:$AS$1017),0)","v":0},{"$f":"IFERROR($E251*SUMIF('Daily Log'!$AU$18:$AU$1017,$B251,'Daily Log'!$AV$18:$AV$1017),0)","v":0},{"$f":"IFERROR($E251*SUMIF('Daily Log'!$AX$18:$AX$1017,$B251,'Daily Log'!$AY$18:$AY$1017),0)","v":0},{"$f":"IFERROR($E251*SUMIF('Daily Log'!$BA$18:$BA$1017,$B251,'Daily Log'!$BB$18:$BB$1017),0)","v":0},{"$f":"IFERROR($E251*SUMIF('Daily Log'!$BD$18:$BD$1017,$B251,'Daily Log'!$BE$18:$BE$1017),0)","v":0},{"$f":"IFERROR($E251*SUMIF('Daily Log'!$BG$18:$BG$1017,$B251,'Daily Log'!$BH$18:$BH$1017),0)","v":0},{"$f":"IFERROR($E251*SUMIF('Daily Log'!$BJ$18:$BJ$1017,$B251,'Daily Log'!$BK$18:$BK$1017),0)","v":0},{"$f":"IFERROR($E251*SUMIF('Daily Log'!$BM$18:$BM$1017,$B251,'Daily Log'!$BN$18:$BN$1017),0)","v":0},{"$f":"IFERROR($E251*SUMIF('Daily Log'!$BP$18:$BP$1017,$B251,'Daily Log'!$BQ$18:$BQ$1017),0)","v":0},{"$f":"IFERROR($E251*SUMIF('Daily Log'!$BS$18:$BS$1017,$B251,'Daily Log'!$BT$18:$BT$1017),0)","v":0},{"$f":"IFERROR($E251*SUMIF('Daily Log'!$BV$18:$BV$1017,$B251,'Daily Log'!$BW$18:$BW$1017),0)","v":0},{"$f":"IFERROR($E251*SUMIF('Daily Log'!$BY$18:$BY$1017,$B251,'Daily Log'!$BZ$18:$BZ$1017),0)","v":0},{"$f":"IFERROR($E251*SUMIF('Daily Log'!$CB$18:$CB$1017,$B251,'Daily Log'!$CC$18:$CC$1017),0)","v":0},{"$f":"IFERROR($E251*SUMIF('Daily Log'!$CE$18:$CE$1017,$B251,'Daily Log'!$CF$18:$CF$1017),0)","v":0},{"$f":"IFERROR($E251*SUMIF('Daily Log'!$CH$18:$CH$1017,$B251,'Daily Log'!$CI$18:$CI$1017),0)","v":0},{"$f":"IFERROR($E251*SUMIF('Daily Log'!$CK$18:$CK$1017,$B251,'Daily Log'!$CL$18:$CL$1017),0)","v":0},{"$f":"IFERROR($E251*SUMIF('Daily Log'!$CN$18:$CN$1017,$B251,'Daily Log'!$CO$18:$CO$1017),0)","v":0}]
[null,"12033:Titb (Bowl)",null,null,1,60,{"$f":"IFERROR($E252*SUMIF('Daily Log'!$B$18:$B$1017,$B252,'Daily Log'!$C$18:$C$1017),0)","v":0},{"$f":"IFERROR($E252*SUMIF('Daily Log'!$E$18:$E$1017,$B252,'Daily Log'!$F$18:$F$1017),0)","v":0},{"$f":"IFERROR($E252*SUMIF('Daily Log'!$H$18:$H$1017,$B252,'Daily Log'!$I$18:$I$1017),0)","v":0},{"$f":"IFERROR($E252*SUMIF('Daily Log'!$K$18:$K$1017,$B252,'Daily Log'!$L$18:$L$1017),0)","v":0},{"$f":"IFERROR($E252*SUMIF('Daily Log'!$N$18:$N$1017,$B252,'Daily Log'!$O$18:$O$1017),0)","v":0},{"$f":"IFERROR($E252*SUMIF('Daily Log'!$Q$18:$Q$1017,$B252,'Daily Log'!$R$18:$R$1017),0)","v":0},{"$f":"IFERROR($E252*SUMIF('Daily Log'!$T$18:$T$1017,$B252,'Daily Log'!$U$18:$U$1017),0)","v":1},{"$f":"IFERROR($E252*SUMIF('Daily Log'!$W$18:$W$1017,$B252,'Daily Log'!$X$18:$X$1017),0)","v":4},{"$f":"IFERROR($E252*SUMIF('Daily Log'!$Z$18:$Z$1017,$B252,'Daily Log'!$AA$18:$AA$1017),0)","v":2},{"$f":"IFERROR($E252*SUMIF('Daily Log'!$AC$18:$AC$1017,$B252,'Daily Log'!$AD$18:$AD$1017),0)","v":10},{"$f":"IFERROR($E252*SUMIF('Daily Log'!$AF$18:$AF$1017,$B252,'Daily Log'!$AG$18:$AG$1017),0)","v":4},{"$f":"IFERROR($E252*SUMIF('Daily Log'!$AI$18:$AI$1017,$B252,'Daily Log'!$AJ$18:$AJ$1017),0)","v":34},{"$f":"IFERROR($E252*SUMIF('Daily Log'!$AL$18:$AL$1017,$B252,'Daily Log'!$AM$18:$AM$1017),0)","v":5},{"$f":"IFERROR($E252*SUMIF('Daily Log'!$AO$18:$AO$1017,$B252,'Daily Log'!$AP$18:$AP$1017),0)","v":0},{"$f":"IFERROR($E252*SUMIF('Daily Log'!$AR$18:$AR$1017,$B252,'Daily Log'!$AS$18:$AS$1017),0)","v":0},{"$f":"IFERROR($E252*SUMIF('Daily Log'!$AU$18:$AU$1017,$B252,'Daily Log'!$AV$18:$AV$1017),0)","v":0},{"$f":"IFERROR($E252*SUMIF('Daily Log'!$AX$18:$AX$1017,$B252,'Daily Log'!$AY$18:$AY$1017),0)","v":0},{"$f":"IFERROR($E252*SUMIF('Daily Log'!$BA$18:$BA$1017,$B252,'Daily Log'!$BB$18:$BB$1017),0)","v":0},{"$f":"IFERROR($E252*SUMIF('Daily Log'!$BD$18:$BD$1017,$B252,'Daily Log'!$BE$18:$BE$1017),0)","v":0},{"$f":"IFERROR($E252*SUMIF('Daily Log'!$BG$18:$BG$1017,$B252,'Daily Log'!$BH$18:$BH$1017),0)","v":0},{"$f":"IFERROR($E252*SUMIF('Daily Log'!$BJ$18:$BJ$1017,$B252,'Daily Log'!$BK$18:$BK$1017),0)","v":0},{"$f":"IFERROR($E252*SUMIF('Daily Log'!$BM$18:$BM$1017,$B252,'Daily Log'!$BN$18:$BN$1017),0)","v":0},{"$f":"IFERROR($E252*SUMIF('Daily Log'!$BP$18:$BP$1017,$B252,'Daily Log'!$BQ$18:$BQ$1017),0)","v":0},{"$f":"IFERROR($E252*SUMIF('Daily Log'!$BS$18:$BS$1017,$B252,'Daily Log'!$BT$18:$BT$1017),0)","v":0},{"$f":"IFERROR($E252*SUMIF('Daily Log'!$BV$18:$BV$1017,$B252,'Daily Log'!$BW$18:$BW$1017),0)","v":0},{"$f":"IFERROR($E252*SUMIF('Daily Log'!$BY$18:$BY$1017,$B252,'Daily Log'!$BZ$18:$BZ$1017),0)","v":0},{"$f":"IFERROR($E252*SUMIF('Daily Log'!$CB$18:$CB$1017,$B252,'Daily Log'!$CC$18:$CC$1017),0)","v":0},{"$f":"IFERROR($E252*SUMIF('Daily Log'!$CE$18:$CE$1017,$B252,'Daily Log'!$CF$18:$CF$1017),0)","v":0},{"$f":"IFERROR($E252*SUMIF('Daily Log'!$CH$18:$CH$1017,$B252,'Daily Log'!$CI$18:$CI$1017),0)","v":0},{"$f":"IFERROR($E252*SUMIF('Daily Log'!$CK$18:$CK$1017,$B252,'Daily Log'!$CL$18:$CL$1017),0)","v":0},{"$f":"IFERROR($E252*SUMIF('Daily Log'!$CN$18:$CN$1017,$B252,'Daily Log'!$CO$18:$CO$1017),0)","v":0}]
[null,"13001:Lighter",null,null,1,12,{"$f":"IFERROR($E253*SUMIF('Daily Log'!$B$18:$B$1017,$B253,'Daily Log'!$C$18:$C$1017),0)","v":0},{"$f":"IFERROR($E253*SUMIF('Daily Log'!$E$18:$E$1017,$B253,'Daily Log'!$F$18:$F$1017),0)","v":0},{"$f":"IFERROR($E253*SUMIF('Daily Log'!$H$18:$H$1017,$B253,'Daily Log'!$I$18:$I$1017),0)","v":0},{"$f":"IFERROR($E253*SUMIF('Daily Log'!$K$18:$K$1017,$B253,'Daily Log'!$L$18:$L$1017),0)","v":0},{"$f":"IFERROR($E253*SUMIF('Daily Log'!$N$18:$N$1017,$B253,'Daily Log'!$O$18:$O$1017),0)","v":0},{"$f":"IFERROR($E253*SUMIF('Daily Log'!$Q$18:$Q$1017,$B253,'Daily Log'!$R$18:$R$1017),0)","v":0},{"$f":"IFERROR($E253*SUMIF('Daily Log'!$T$18:$T$1017,$B253,'Daily Log'!$U$18:$U$1017),0)","v":0},{"$f":"IFERROR($E253*SUMIF('Daily Log'!$W$18:$W$1017,$B253,'Daily Log'!$X$18:$X$1017),0)","v":1},{"$f":"IFERROR($E253*SUMIF('Daily Log'!$Z$18:$Z$1017,$B253,'Daily Log'!$AA$18:$AA$1017),0)","v":3},{"$f":"IFERROR($E253*SUMIF('Daily Log'!$AC$18:$AC$1017,$B253,'Daily Log'!$AD$18:$AD$1017),0)","v":2},{"$f":"IFERROR($E253*SUMIF('Daily Log'!$AF$18:$AF$1017,$B253,'Daily Log'!$AG$18:$AG$1017),0)","v":3},{"$f":"IFERROR($E253*SUMIF('Daily Log'!$AI$18:$AI$1017,$B253,'Daily Log'!$AJ$18:$AJ$1017),0)","v":0},{"$f":"IFERROR($E253*SUMIF('Daily Log'!$AL$18:$AL$1017,$B253,'Daily Log'!$AM$18:$AM$1017),0)","v":3},{"$f":"IFERROR($E253*SUMIF('Daily Log'!$AO$18:$AO$1017,$B253,'Daily Log'!$AP$18:$AP$1017),0)","v":0},{"$f":"IFERROR($E253*SUMIF('Daily Log'!$AR$18:$AR$1017,$B253,'Daily Log'!$AS$18:$AS$1017),0)","v":0},{"$f":"IFERROR($E253*SUMIF('Daily Log'!$AU$18:$AU$1017,$B253,'Daily Log'!$AV$18:$AV$1017),0)","v":0},{"$f":"IFERROR($E253*SUMIF('Daily Log'!$AX$18:$AX$1017,$B253,'Daily Log'!$AY$18:$AY$1017),0)","v":0},{"$f":"IFERROR($E253*SUMIF('Daily Log'!$BA$18:$BA$1017,$B253,'Daily Log'!$BB$18:$BB$1017),0)","v":0},{"$f":"IFERROR($E253*SUMIF('Daily Log'!$BD$18:$BD$1017,$B253,'Daily Log'!$BE$18:$BE$1017),0)","v":0},{"$f":"IFERROR($E253*SUMIF('Daily Log'!$BG$18:$BG$1017,$B253,'Daily Log'!$BH$18:$BH$1017),0)","v":0},{"$f":"IFERROR($E253*SUMIF('Daily Log'!$BJ$18:$BJ$1017,$B253,'Daily Log'!$BK$18:$BK$1017),0)","v":0},{"$f":"IFERROR($E253*SUMIF('Daily Log'!$BM$18:$BM$1017,$B253,'Daily Log'!$BN$18:$BN$1017),0)","v":0},{"$f":"IFERROR($E253*SUMIF('Daily Log'!$BP$18:$BP$1017,$B253,'Daily Log'!$BQ$18:$BQ$1017),0)","v":0},{"$f":"IFERROR($E253*SUMIF('Daily Log'!$BS$18:$BS$1017,$B253,'Daily Log'!$BT$18:$BT$1017),0)","v":0},{"$f":"IFERROR($E253*SUMIF('Daily Log'!$BV$18:$BV$1017,$B253,'Daily Log'!$BW$18:$BW$1017),0)","v":0},{"$f":"IFERROR($E253*SUMIF('Daily Log'!$BY$18:$BY$1017,$B253,'Daily Log'!$BZ$18:$BZ$1017),0)","v":0},{"$f":"IFERROR($E253*SUMIF('Daily Log'!$CB$18:$CB$1017,$B253,'Daily Log'!$CC$18:$CC$1017),0)","v":0},{"$f":"IFERROR($E253*SUMIF('Daily Log'!$CE$18:$CE$1017,$B253,'Daily Log'!$CF$18:$CF$1017),0)","v":0},{"$f":"IFERROR($E253*SUMIF('Daily Log'!$CH$18:$CH$1017,$B253,'Daily Log'!$CI$18:$CI$1017),0)","v":0},{"$f":"IFERROR($E253*SUMIF('Daily Log'!$CK$18:$CK$1017,$B253,'Daily Log'!$CL$18:$CL$1017),0)","v":0},{"$f":"IFERROR($E253*SUMIF('Daily Log'!$CN$18:$CN$1017,$B253,'Daily Log'!$CO$18:$CO$1017),0)","v":0}]
[null,"13002:Cig",null,"CIGARETTE",1,0,{"$f":"IFERROR($E254*SUMIF('Daily Log'!$B$18:$B$1017,$B254,'Daily Log'!$C$18:$C$1017),0)","v":0},{"$f":"IFERROR($E254*SUMIF('Daily Log'!$E$18:$E$1017,$B254,'Daily Log'!$F$18:$F$1017),0)","v":0},{"$f":"IFERROR($E254*SUMIF('Daily Log'!$H$18:$H$1017,$B254,'Daily Log'!$I$18:$I$1017),0)","v":0},{"$f":"IFERROR($E254*SUMIF('Daily Log'!$K$18:$K$1017,$B254,'Daily Log'!$L$18:$L$1017),0)","v":0},{"$f":"IFERROR($E254*SUMIF('Daily Log'!$N$18:$N$1017,$B254,'Daily Log'!$O$18:$O$1017),0)","v":0},{"$f":"IFERROR($E254*SUMIF('Daily Log'!$Q$18:$Q$1017,$B254,'Daily Log'!$R$18:$R$1017),0)","v":0},{"$f":"IFERROR($E254*SUMIF('Daily Log'!$T$18:$T$1017,$B254,'Daily Log'!$U$18:$U$1017),0)","v":0},{"$f":"IFERROR($E254*SUMIF('Daily Log'!$W$18:$W$1017,$B254,'Daily Log'!$X$18:$X$1017),0)","v":0},{"$f":"IFERROR($E254*SUMIF('Daily Log'!$Z$18:$Z$1017,$B254,'Daily Log'!$AA$18:$AA$1017),0)","v":0},{"$f":"IFERROR($E254*SUMIF('Daily Log'!$AC$18:$AC$1017,$B254,'Daily Log'!$AD$18:$AD$1017),0)","v":0},{"$f":"IFERROR($E254*SUMIF('Daily Log'!$AF$18:$AF$1017,$B254,'Daily Log'!$AG$18:$AG$1017),0)","v":0},{"$f":"IFERROR($E254*SUMIF('Daily Log'!$AI$18:$AI$1017,$B254,'Daily Log'!$AJ$18:$AJ$1017),0)","v":0},{"$f":"IFERROR($E254*SUMIF('Daily Log'!$AL$18:$AL$1017,$B254,'Daily Log'!$AM$18:$AM$1017),0)","v":0},{"$f":"IFERROR($E254*SUMIF('Daily Log'!$AO$18:$AO$1017,$B254,'Daily Log'!$AP$18:$AP$1017),0)","v":0},{"$f":"IFERROR($E254*SUMIF('Daily Log'!$AR$18:$AR$1017,$B254,'Daily Log'!$AS$18:$AS$1017),0)","v":0},{"$f":"IFERROR($E254*SUMIF('Daily Log'!$AU$18:$AU$1017,$B254,'Daily Log'!$AV$18:$AV$1017),0)","v":0},{"$f":"IFERROR($E254*SUMIF('Daily Log'!$AX$18:$AX$1017,$B254,'Daily Log'!$AY$18:$AY$1017),0)","v":0},{"$f":"IFERROR($E254*SUMIF('Daily Log'!$BA$18:$BA$1017,$B254,'Daily Log'!$BB$18:$BB$1017),0)","v":0},{"$f":"IFERROR($E254*SUMIF('Daily Log'!$BD$18:$BD$1017,$B254,'Daily Log'!$BE$18:$BE$1017),0)","v":0},{"$f":"IFERROR($E254*SUMIF('Daily Log'!$BG$18:$BG$1017,$B254,'Daily Log'!$BH$18:$BH$1017),0)","v":0},{"$f":"IFERROR($E254*SUMIF('Daily Log'!$BJ$18:$BJ$1017,$B254,'Daily Log'!$BK$18:$BK$1017),0)","v":0},{"$f":"IFERROR($E254*SUMIF('Daily Log'!$BM$18:$BM$1017,$B254,'Daily Log'!$BN$18:$BN$1017),0)","v":0},{"$f":"IFERROR($E254*SUMIF('Daily Log'!$BP$18:$BP$1017,$B254,'Daily Log'!$BQ$18:$BQ$1017),0)","v":0},{"$f":"IFERROR($E254*SUMIF('Daily Log'!$BS$18:$BS$1017,$B254,'Daily Log'!$BT$18:$BT$1017),0)","v":0},{"$f":"IFERROR($E254*SUMIF('Daily Log'!$BV$18:$BV$1017,$B254,'Daily Log'!$BW$18:$BW$1017),0)","v":0},{"$f":"IFERROR($E254*SUMIF('Daily Log'!$BY$18:$BY$1017,$B254,'Daily Log'!$BZ$18:$BZ$1017),0)","v":0},{"$f":"IFERROR($E254*SUMIF('Daily Log'!$CB$18:$CB$1017,$B254,'Daily Log'!$CC$18:$CC$1017),0)","v":0},{"$f":"IFERROR($E254*SUMIF('Daily Log'!$CE$18:$CE$1017,$B254,'Daily Log'!$CF$18:$CF$1017),0)","v":0},{"$f":"IFERROR($E254*SUMIF('Daily Log'!$CH$18:$CH$1017,$B254,'Daily Log'!$CI$18:$CI$1017),0)","v":0},{"$f":"IFERROR($E254*SUMIF('Daily Log'!$CK$18:$CK$1017,$B254,'Daily Log'!$CL$18:$CL$1017),0)","v":0},{"$f":"IFERROR($E254*SUMIF('Daily Log'!$CN$18:$CN$1017,$B254,'Daily Log'!$CO$18:$CO$1017),0)","v":0}]
[null,"13006:MIC COVER x3",null,null,null,0,{"$f":"IFERROR($E255*SUMIF('Daily Log'!$B$18:$B$1017,$B255,'Daily Log'!$C$18:$C$1017),0)","v":0},{"$f":"IFERROR($E255*SUMIF('Daily Log'!$E$18:$E$1017,$B255,'Daily Log'!$F$18:$F$1017),0)","v":0},{"$f":"IFERROR($E255*SUMIF('Daily Log'!$H$18:$H$1017,$B255,'Daily Log'!$I$18:$I$1017),0)","v":0},{"$f":"IFERROR($E255*SUMIF('Daily Log'!$K$18:$K$1017,$B255,'Daily Log'!$L$18:$L$1017),0)","v":0},{"$f":"IFERROR($E255*SUMIF('Daily Log'!$N$18:$N$1017,$B255,'Daily Log'!$O$18:$O$1017),0)","v":0},{"$f":"IFERROR($E255*SUMIF('Daily Log'!$Q$18:$Q$1017,$B255,'Daily Log'!$R$18:$R$1017),0)","v":0},{"$f":"IFERROR($E255*SUMIF('Daily Log'!$T$18:$T$1017,$B255,'Daily Log'!$U$18:$U$1017),0)","v":0},{"$f":"IFERROR($E255*SUMIF('Daily Log'!$W$18:$W$1017,$B255,'Daily Log'!$X$18:$X$1017),0)","v":0},{"$f":"IFERROR($E255*SUMIF('Daily Log'!$Z$18:$Z$1017,$B255,'Daily Log'!$AA$18:$AA$1017),0)","v":0},{"$f":"IFERROR($E255*SUMIF('Daily Log'!$AC$18:$AC$1017,$B255,'Daily Log'!$AD$18:$AD$1017),0)","v":0},{"$f":"IFERROR($E255*SUMIF('Daily Log'!$AF$18:$AF$1017,$B255,'Daily Log'!$AG$18:$AG$1017),0)","v":0},{"$f":"IFERROR($E255*SUMIF('Daily Log'!$AI$18:$AI$1017,$B255,'Daily Log'!$AJ$18:$AJ$1017),0)","v":0},{"$f":"IFERROR($E255*SUMIF('Daily Log'!$AL$18:$AL$1017,$B255,'Daily Log'!$AM$18:$AM$1017),0)","v":0},{"$f":"IFERROR($E255*SUMIF('Daily Log'!$AO$18:$AO$1017,$B255,'Daily Log'!$AP$18:$AP$1017),0)","v":0},{"$f":"IFERROR($E255*SUMIF('Daily Log'!$AR$18:$AR$1017,$B255,'Daily Log'!$AS$18:$AS$1017),0)","v":0},{"$f":"IFERROR($E255*SUMIF('Daily Log'!$AU$18:$AU$1017,$B255,'Daily Log'!$AV$18:$AV$1017),0)","v":0},{"$f":"IFERROR($E255*SUMIF('Daily Log'!$AX$18:$AX$1017,$B255,'Daily Log'!$AY$18:$AY$1017),0)","v":0},{"$f":"IFERROR($E255*SUMIF('Daily Log'!$BA$18:$BA$1017,$B255,'Daily Log'!$BB$18:$BB$1017),0)","v":0},{"$f":"IFERROR($E255*SUMIF('Daily Log'!$BD$18:$BD$1017,$B255,'Daily Log'!$BE$18:$BE$1017),0)","v":0},{"$f":"IFERROR($E255*SUMIF('Daily Log'!$BG$18:$BG$1017,$B255,'Daily Log'!$BH$18:$BH$1017),0)","v":0},{"$f":"IFERROR($E255*SUMIF('Daily Log'!$BJ$18:$BJ$1017,$B255,'Daily Log'!$BK$18:$BK$1017),0)","v":0},{"$f":"IFERROR($E255*SUMIF('Daily Log'!$BM$18:$BM$1017,$B255,'Daily Log'!$BN$18:$BN$1017),0)","v":0},{"$f":"IFERROR($E255*SUMIF('Daily Log'!$BP$18:$BP$1017,$B255,'Daily Log'!$BQ$18:$BQ$1017),0)","v":0},{"$f":"IFERROR($E255*SUMIF('Daily Log'!$BS$18:$BS$1017,$B255,'Daily Log'!$BT$18:$BT$1017),0)","v":0},{"$f":"IFERROR($E255*SUMIF('Daily Log'!$BV$18:$BV$1017,$B255,'Daily Log'!$BW$18:$BW$1017),0)","v":0},{"$f":"IFERROR($E255*SUMIF('Daily Log'!$BY$18:$BY$1017,$B255,'Daily Log'!$BZ$18:$BZ$1017),0)","v":0},{"$f":"IFERROR($E255*SUMIF('Daily Log'!$CB$18:$CB$1017,$B255,'Daily Log'!$CC$18:$CC$1017),0)","v":0},{"$f":"IFERROR($E255*SUMIF('Daily Log'!$CE$18:$CE$1017,$B255,'Daily Log'!$CF$18:$CF$1017),0)","v":0},{"$f":"IFERROR($E255*SUMIF('Daily Log'!$CH$18:$CH$1017,$B255,'Daily Log'!$CI$18:$CI$1017),0)","v":0},{"$f":"IFERROR($E255*SUMIF('Daily Log'!$CK$18:$CK$1017,$B255,'Daily Log'!$CL$18:$CL$1017),0)","v":0},{"$f":"IFERROR($E255*SUMIF('Daily Log'!$CN$18:$CN$1017,$B255,'Daily Log'!$CO$18:$CO$1017),0)","v":0}]
[null,"14100:Staff Birthday Free",null,null,1,0,{"$f":"IFERROR($E256*SUMIF('Daily Log'!$B$18:$B$1017,$B256,'Daily Log'!$C$18:$C$1017),0)","v":0},{"$f":"IFERROR($E256*SUMIF('Daily Log'!$E$18:$E$1017,$B256,'Daily Log'!$F$18:$F$1017),0)","v":0},{"$f":"IFERROR($E256*SUMIF('Daily Log'!$H$18:$H$1017,$B256,'Daily Log'!$I$18:$I$1017),0)","v":0},{"$f":"IFERROR($E256*SUMIF('Daily Log'!$K$18:$K$1017,$B256,'Daily Log'!$L$18:$L$1017),0)","v":0},{"$f":"IFERROR($E256*SUMIF('Daily Log'!$N$18:$N$1017,$B256,'Daily Log'!$O$18:$O$1017),0)","v":0},{"$f":"IFERROR($E256*SUMIF('Daily Log'!$Q$18:$Q$1017,$B256,'Daily Log'!$R$18:$R$1017),0)","v":0},{"$f":"IFERROR($E256*SUMIF('Daily Log'!$T$18:$T$1017,$B256,'Daily Log'!$U$18:$U$1017),0)","v":0},{"$f":"IFERROR($E256*SUMIF('Daily Log'!$W$18:$W$1017,$B256,'Daily Log'!$X$18:$X$1017),0)","v":0},{"$f":"IFERROR($E256*SUMIF('Daily Log'!$Z$18:$Z$1017,$B256,'Daily Log'!$AA$18:$AA$1017),0)","v":0},{"$f":"IFERROR($E256*SUMIF('Daily Log'!$AC$18:$AC$1017,$B256,'Daily Log'!$AD$18:$AD$1017),0)","v":0},{"$f":"IFERROR($E256*SUMIF('Daily Log'!$AF$18:$AF$1017,$B256,'Daily Log'!$AG$18:$AG$1017),0)","v":0},{"$f":"IFERROR($E256*SUMIF('Daily Log'!$AI$18:$AI$1017,$B256,'Daily Log'!$AJ$18:$AJ$1017),0)","v":0},{"$f":"IFERROR($E256*SUMIF('Daily Log'!$AL$18:$AL$1017,$B256,'Daily Log'!$AM$18:$AM$1017),0)","v":0},{"$f":"IFERROR($E256*SUMIF('Daily Log'!$AO$18:$AO$1017,$B256,'Daily Log'!$AP$18:$AP$1017),0)","v":0},{"$f":"IFERROR($E256*SUMIF('Daily Log'!$AR$18:$AR$1017,$B256,'Daily Log'!$AS$18:$AS$1017),0)","v":0},{"$f":"IFERROR($E256*SUMIF('Daily Log'!$AU$18:$AU$1017,$B256,'Daily Log'!$AV$18:$AV$1017),0)","v":0},{"$f":"IFERROR($E256*SUMIF('Daily Log'!$AX$18:$AX$1017,$B256,'Daily Log'!$AY$18:$AY$1017),0)","v":0},{"$f":"IFERROR($E256*SUMIF('Daily Log'!$BA$18:$BA$1017,$B256,'Daily Log'!$BB$18:$BB$1017),0)","v":0},{"$f":"IFERROR($E256*SUMIF('Daily Log'!$BD$18:$BD$1017,$B256,'Daily Log'!$BE$18:$BE$1017),0)","v":0},{"$f":"IFERROR($E256*SUMIF('Daily Log'!$BG$18:$BG$1017,$B256,'Daily Log'!$BH$18:$BH$1017),0)","v":0},{"$f":"IFERROR($E256*SUMIF('Daily Log'!$BJ$18:$BJ$1017,$B256,'Daily Log'!$BK$18:$BK$1017),0)","v":0},{"$f":"IFERROR($E256*SUMIF('Daily Log'!$BM$18:$BM$1017,$B256,'Daily Log'!$BN$18:$BN$1017),0)","v":0},{"$f":"IFERROR($E256*SUMIF('Daily Log'!$BP$18:$BP$1017,$B256,'Daily Log'!$BQ$18:$BQ$1017),0)","v":0},{"$f":"IFERROR($E256*SUMIF('Daily Log'!$BS$18:$BS$1017,$B256,'Daily Log'!$BT$18:$BT$1017),0)","v":0},{"$f":"IFERROR($E256*SUMIF('Daily Log'!$BV$18:$BV$1017,$B256,'Daily Log'!$BW$18:$BW$1017),0)","v":0},{"$f":"IFERROR($E256*SUMIF('Daily Log'!$BY$18:$BY$1017,$B256,'Daily Log'!$BZ$18:$BZ$1017),0)","v":0},{"$f":"IFERROR($E256*SUMIF('Daily Log'!$CB$18:$CB$1017,$B256,'Daily Log'!$CC$18:$CC$1017),0)","v":0},{"$f":"IFERROR($E256*SUMIF('Daily Log'!$CE$18:$CE$1017,$B256,'Daily Log'!$CF$18:$CF$1017),0)","v":0},{"$f":"IFERROR($E256*SUMIF('Daily Log'!$CH$18:$CH$1017,$B256,'Daily Log'!$CI$18:$CI$1017),0)","v":0},{"$f":"IFERROR($E256*SUMIF('Daily Log'!$CK$18:$CK$1017,$B256,'Daily Log'!$CL$18:$CL$1017),0)","v":0},{"$f":"IFERROR($E256*SUMIF('Daily Log'!$CN$18:$CN$1017,$B256,'Daily Log'!$CO$18:$CO$1017),0)","v":0}]
[null,"15001:Member Card",null,null,1,64,{"$f":"IFERROR($E257*SUMIF('Daily Log'!$B$18:$B$1017,$B257,'Daily Log'!$C$18:$C$1017),0)","v":0},{"$f":"IFERROR($E257*SUMIF('Daily Log'!$E$18:$E$1017,$B257,'Daily Log'!$F$18:$F$1017),0)","v":0},{"$f":"IFERROR($E257*SUMIF('Daily Log'!$H$18:$H$1017,$B257,'Daily Log'!$I$18:$I$1017),0)","v":0},{"$f":"IFERROR($E257*SUMIF('Daily Log'!$K$18:$K$1017,$B257,'Daily Log'!$L$18:$L$1017),0)","v":0},{"$f":"IFERROR($E257*SUMIF('Daily Log'!$N$18:$N$1017,$B257,'Daily Log'!$O$18:$O$1017),0)","v":0},{"$f":"IFERROR($E257*SUMIF('Daily Log'!$Q$18:$Q$1017,$B257,'Daily Log'!$R$18:$R$1017),0)","v":0},{"$f":"IFERROR($E257*SUMIF('Daily Log'!$T$18:$T$1017,$B257,'Daily Log'!$U$18:$U$1017),0)","v":4},{"$f":"IFERROR($E257*SUMIF('Daily Log'!$W$18:$W$1017,$B257,'Daily Log'!$X$18:$X$1017),0)","v":6},{"$f":"IFERROR($E257*SUMIF('Daily Log'!$Z$18:$Z$1017,$B257,'Daily Log'!$AA$18:$AA$1017),0)","v":5},{"$f":"IFERROR($E257*SUMIF('Daily Log'!$AC$18:$AC$1017,$B257,'Daily Log'!$AD$18:$AD$1017),0)","v":10},{"$f":"IFERROR($E257*SUMIF('Daily Log'!$AF$18:$AF$1017,$B257,'Daily Log'!$AG$18:$AG$1017),0)","v":8},{"$f":"IFERROR($E257*SUMIF('Daily Log'!$AI$18:$AI$1017,$B257,'Daily Log'!$AJ$18:$AJ$1017),0)","v":22},{"$f":"IFERROR($E257*SUMIF('Daily Log'!$AL$18:$AL$1017,$B257,'Daily Log'!$AM$18:$AM$1017),0)","v":9},{"$f":"IFERROR($E257*SUMIF('Daily Log'!$AO$18:$AO$1017,$B257,'Daily Log'!$AP$18:$AP$1017),0)","v":0},{"$f":"IFERROR($E257*SUMIF('Daily Log'!$AR$18:$AR$1017,$B257,'Daily Log'!$AS$18:$AS$1017),0)","v":0},{"$f":"IFERROR($E257*SUMIF('Daily Log'!$AU$18:$AU$1017,$B257,'Daily Log'!$AV$18:$AV$1017),0)","v":0},{"$f":"IFERROR($E257*SUMIF('Daily Log'!$AX$18:$AX$1017,$B257,'Daily Log'!$AY$18:$AY$1017),0)","v":0},{"$f":"IFERROR($E257*SUMIF('Daily Log'!$BA$18:$BA$1017,$B257,'Daily Log'!$BB$18:$BB$1017),0)","v":0},{"$f":"IFERROR($E257*SUMIF('Daily Log'!$BD$18:$BD$1017,$B257,'Daily Log'!$BE$18:$BE$1017),0)","v":0},{"$f":"IFERROR($E257*SUMIF('Daily Log'!$BG$18:$BG$1017,$B257,'Daily Log'!$BH$18:$BH$1017),0)","v":0},{"$f":"IFERROR($E257*SUMIF('Daily Log'!$BJ$18:$BJ$1017,$B257,'Daily Log'!$BK$18:$BK$1017),0)","v":0},{"$f":"IFERROR($E257*SUMIF('Daily Log'!$BM$18:$BM$1017,$B257,'Daily Log'!$BN$18:$BN$1017),0)","v":0},{"$f":"IFERROR($E257*SUMIF('Daily Log'!$BP$18:$BP$1017,$B257,'Daily Log'!$BQ$18:$BQ$1017),0)","v":0},{"$f":"IFERROR($E257*SUMIF('Daily Log'!$BS$18:$BS$1017,$B257,'Daily Log'!$BT$18:$BT$1017),0)","v":0},{"$f":"IFERROR($E257*SUMIF('Daily Log'!$BV$18:$BV$1017,$B257,'Daily Log'!$BW$18:$BW$1017),0)","v":0},{"$f":"IFERROR($E257*SUMIF('Daily Log'!$BY$18:$BY$1017,$B257,'Daily Log'!$BZ$18:$BZ$1017),0)","v":0},{"$f":"IFERROR($E257*SUMIF('Daily Log'!$CB$18:$CB$1017,$B257,'Daily Log'!$CC$18:$CC$1017),0)","v":0},{"$f":"IFERROR($E257*SUMIF('Daily Log'!$CE$18:$CE$1017,$B257,'Daily Log'!$CF$18:$CF$1017),0)","v":0},{"$f":"IFERROR($E257*SUMIF('Daily Log'!$CH$18:$CH$1017,$B257,'Daily Log'!$CI$18:$CI$1017),0)","v":0},{"$f":"IFERROR($E257*SUMIF('Daily Log'!$CK$18:$CK$1017,$B257,'Daily Log'!$CL$18:$CL$1017),0)","v":0},{"$f":"IFERROR($E257*SUMIF('Daily Log'!$CN$18:$CN$1017,$B257,'Daily Log'!$CO$18:$CO$1017),0)","v":0}]
[null,"10403:Guinness Buket",null,"BEER",4,{"$f":"SUM($G258:$AK258)","v":52},{"$f":"IFERROR($E258*SUMIF('Daily Log'!$B$18:$B$1017,$B258,'Daily Log'!$C$18:$C$1017),0)","v":0},{"$f":"IFERROR($E258*SUMIF('Daily Log'!$E$18:$E$1017,$B258,'Daily Log'!$F$18:$F$1017),0)","v":0},{"$f":"IFERROR($E258*SUMIF('Daily Log'!$H$18:$H$1017,$B258,'Daily Log'!$I$18:$I$1017),0)","v":0},{"$f":"IFERROR($E258*SUMIF('Daily Log'!$K$18:$K$1017,$B258,'Daily Log'!$L$18:$L$1017),0)","v":0},{"$f":"IFERROR($E258*SUMIF('Daily Log'!$N$18:$N$1017,$B258,'Daily Log'!$O$18:$O$1017),0)","v":0},{"$f":"IFERROR($E258*SUMIF('Daily Log'!$Q$18:$Q$1017,$B258,'Daily Log'!$R$18:$R$1017),0)","v":0},{"$f":"IFERROR($E258*SUMIF('Daily Log'!$T$18:$T$1017,$B258,'Daily Log'!$U$18:$U$1017),0)","v":4},{"$f":"IFERROR($E258*SUMIF('Daily Log'!$W$18:$W$1017,$B258,'Daily Log'!$X$18:$X$1017),0)","v":12},{"$f":"IFERROR($E258*SUMIF('Daily Log'!$Z$18:$Z$1017,$B258,'Daily Log'!$AA$18:$AA$1017),0)","v":16},{"$f":"IFERROR($E258*SUMIF('Daily Log'!$AC$18:$AC$1017,$B258,'Daily Log'!$AD$18:$AD$1017),0)","v":8},{"$f":"IFERROR($E258*SUMIF('Daily Log'!$AF$18:$AF$1017,$B258,'Daily Log'!$AG$18:$AG$1017),0)","v":8},{"$f":"IFERROR($E258*SUMIF('Daily Log'!$AI$18:$AI$1017,$B258,'Daily Log'!$AJ$18:$AJ$1017),0)","v":0},{"$f":"IFERROR($E258*SUMIF('Daily Log'!$AL$18:$AL$1017,$B258,'Daily Log'!$AM$18:$AM$1017),0)","v":4},{"$f":"IFERROR($E258*SUMIF('Daily Log'!$AO$18:$AO$1017,$B258,'Daily Log'!$AP$18:$AP$1017),0)","v":0},{"$f":"IFERROR($E258*SUMIF('Daily Log'!$AR$18:$AR$1017,$B258,'Daily Log'!$AS$18:$AS$1017),0)","v":0},{"$f":"IFERROR($E258*SUMIF('Daily Log'!$AU$18:$AU$1017,$B258,'Daily Log'!$AV$18:$AV$1017),0)","v":0},{"$f":"IFERROR($E258*SUMIF('Daily Log'!$AX$18:$AX$1017,$B258,'Daily Log'!$AY$18:$AY$1017),0)","v":0},{"$f":"IFERROR($E258*SUMIF('Daily Log'!$BA$18:$BA$1017,$B258,'Daily Log'!$BB$18:$BB$1017),0)","v":0},{"$f":"IFERROR($E258*SUMIF('Daily Log'!$BD$18:$BD$1017,$B258,'Daily Log'!$BE$18:$BE$1017),0)","v":0},{"$f":"IFERROR($E258*SUMIF('Daily Log'!$BG$18:$BG$1017,$B258,'Daily Log'!$BH$18:$BH$1017),0)","v":0},{"$f":"IFERROR($E258*SUMIF('Daily Log'!$BJ$18:$BJ$1017,$B258,'Daily Log'!$BK$18:$BK$1017),0)","v":0},{"$f":"IFERROR($E258*SUMIF('Daily Log'!$BM$18:$BM$1017,$B258,'Daily Log'!$BN$18:$BN$1017),0)","v":0},{"$f":"IFERROR($E258*SUMIF('Daily Log'!$BP$18:$BP$1017,$B258,'Daily Log'!$BQ$18:$BQ$1017),0)","v":0},{"$f":"IFERROR($E258*SUMIF('Daily Log'!$BS$18:$BS$1017,$B258,'Daily Log'!$BT$18:$BT$1017),0)","v":0},{"$f":"IFERROR($E258*SUMIF('Daily Log'!$BV$18:$BV$1017,$B258,'Daily Log'!$BW$18:$BW$1017),0)","v":0},{"$f":"IFERROR($E258*SUMIF('Daily Log'!$BY$18:$BY$1017,$B258,'Daily Log'!$BZ$18:$BZ$1017),0)","v":0},{"$f":"IFERROR($E258*SUMIF('Daily Log'!$CB$18:$CB$1017,$B258,'Daily Log'!$CC$18:$CC$1017),0)","v":0},{"$f":"IFERROR($E258*SUMIF('Daily Log'!$CE$18:$CE$1017,$B258,'Daily Log'!$CF$18:$CF$1017),0)","v":0},{"$f":"IFERROR($E258*SUMIF('Daily Log'!$CH$18:$CH$1017,$B258,'Daily Log'!$CI$18:$CI$1017),0)","v":0},{"$f":"IFERROR($E258*SUMIF('Daily Log'!$CK$18:$CK$1017,$B258,'Daily Log'!$CL$18:$CL$1017),0)","v":0},{"$f":"IFERROR($E258*SUMIF('Daily Log'!$CN$18:$CN$1017,$B258,'Daily Log'!$CO$18:$CO$1017),0)","v":0}]
[null,"10401:Guinness Bottle",null,"BEER",1,7,{"$f":"IFERROR($E259*SUMIF('Daily Log'!$B$18:$B$1017,$B259,'Daily Log'!$C$18:$C$1017),0)","v":0},{"$f":"IFERROR($E259*SUMIF('Daily Log'!$E$18:$E$1017,$B259,'Daily Log'!$F$18:$F$1017),0)","v":0},{"$f":"IFERROR($E259*SUMIF('Daily Log'!$H$18:$H$1017,$B259,'Daily Log'!$I$18:$I$1017),0)","v":0},{"$f":"IFERROR($E259*SUMIF('Daily Log'!$K$18:$K$1017,$B259,'Daily Log'!$L$18:$L$1017),0)","v":0},{"$f":"IFERROR($E259*SUMIF('Daily Log'!$N$18:$N$1017,$B259,'Daily Log'!$O$18:$O$1017),0)","v":0},{"$f":"IFERROR($E259*SUMIF('Daily Log'!$Q$18:$Q$1017,$B259,'Daily Log'!$R$18:$R$1017),0)","v":0},{"$f":"IFERROR($E259*SUMIF('Daily Log'!$T$18:$T$1017,$B259,'Daily Log'!$U$18:$U$1017),0)","v":2},{"$f":"IFERROR($E259*SUMIF('Daily Log'!$W$18:$W$1017,$B259,'Daily Log'!$X$18:$X$1017),0)","v":2},{"$f":"IFERROR($E259*SUMIF('Daily Log'!$Z$18:$Z$1017,$B259,'Daily Log'!$AA$18:$AA$1017),0)","v":1},{"$f":"IFERROR($E259*SUMIF('Daily Log'!$AC$18:$AC$1017,$B259,'Daily Log'!$AD$18:$AD$1017),0)","v":1},{"$f":"IFERROR($E259*SUMIF('Daily Log'!$AF$18:$AF$1017,$B259,'Daily Log'!$AG$18:$AG$1017),0)","v":0},{"$f":"IFERROR($E259*SUMIF('Daily Log'!$AI$18:$AI$1017,$B259,'Daily Log'!$AJ$18:$AJ$1017),0)","v":0},{"$f":"IFERROR($E259*SUMIF('Daily Log'!$AL$18:$AL$1017,$B259,'Daily Log'!$AM$18:$AM$1017),0)","v":1},{"$f":"IFERROR($E259*SUMIF('Daily Log'!$AO$18:$AO$1017,$B259,'Daily Log'!$AP$18:$AP$1017),0)","v":0},{"$f":"IFERROR($E259*SUMIF('Daily Log'!$AR$18:$AR$1017,$B259,'Daily Log'!$AS$18:$AS$1017),0)","v":0},{"$f":"IFERROR($E259*SUMIF('Daily Log'!$AU$18:$AU$1017,$B259,'Daily Log'!$AV$18:$AV$1017),0)","v":0},{"$f":"IFERROR($E259*SUMIF('Daily Log'!$AX$18:$AX$1017,$B259,'Daily Log'!$AY$18:$AY$1017),0)","v":0},{"$f":"IFERROR($E259*SUMIF('Daily Log'!$BA$18:$BA$1017,$B259,'Daily Log'!$BB$18:$BB$1017),0)","v":0},{"$f":"IFERROR($E259*SUMIF('Daily Log'!$BD$18:$BD$1017,$B259,'Daily Log'!$BE$18:$BE$1017),0)","v":0},{"$f":"IFERROR($E259*SUMIF('Daily Log'!$BG$18:$BG$1017,$B259,'Daily Log'!$BH$18:$BH$1017),0)","v":0},{"$f":"IFERROR($E259*SUMIF('Daily Log'!$BJ$18:$BJ$1017,$B259,'Daily Log'!$BK$18:$BK$1017),0)","v":0},{"$f":"IFERROR($E259*SUMIF('Daily Log'!$BM$18:$BM$1017,$B259,'Daily Log'!$BN$18:$BN$1017),0)","v":0},{"$f":"IFERROR($E259*SUMIF('Daily Log'!$BP$18:$BP$1017,$B259,'Daily Log'!$BQ$18:$BQ$1017),0)","v":0},{"$f":"IFERROR($E259*SUMIF('Daily Log'!$BS$18:$BS$1017,$B259,'Daily Log'!$BT$18:$BT$1017),0)","v":0},{"$f":"IFERROR($E259*SUMIF('Daily Log'!$BV$18:$BV$1017,$B259,'Daily Log'!$BW$18:$BW$1017),0)","v":0},{"$f":"IFERROR($E259*SUMIF('Daily Log'!$BY$18:$BY$1017,$B259,'Daily Log'!$BZ$18:$BZ$1017),0)","v":0},{"$f":"IFERROR($E259*SUMIF('Daily Log'!$CB$18:$CB$1017,$B259,'Daily Log'!$CC$18:$CC$1017),0)","v":0},{"$f":"IFERROR($E259*SUMIF('Daily Log'!$CE$18:$CE$1017,$B259,'Daily Log'!$CF$18:$CF$1017),0)","v":0},{"$f":"IFERROR($E259*SUMIF('Daily Log'!$CH$18:$CH$1017,$B259,'Daily Log'!$CI$18:$CI$1017),0)","v":0},{"$f":"IFERROR($E259*SUMIF('Daily Log'!$CK$18:$CK$1017,$B259,'Daily Log'!$CL$18:$CL$1017),0)","v":0},{"$f":"IFERROR($E259*SUMIF('Daily Log'!$CN$18:$CN$1017,$B259,'Daily Log'!$CO$18:$CO$1017),0)","v":0}]
[null,"09031:Ice Jasmine Green Tea",null,"COLD BEVERAGE",1,0,{"$f":"IFERROR($E260*SUMIF('Daily Log'!$B$18:$B$1017,$B260,'Daily Log'!$C$18:$C$1017),0)","v":0},{"$f":"IFERROR($E260*SUMIF('Daily Log'!$E$18:$E$1017,$B260,'Daily Log'!$F$18:$F$1017),0)","v":0},{"$f":"IFERROR($E260*SUMIF('Daily Log'!$H$18:$H$1017,$B260,'Daily Log'!$I$18:$I$1017),0)","v":0},{"$f":"IFERROR($E260*SUMIF('Daily Log'!$K$18:$K$1017,$B260,'Daily Log'!$L$18:$L$1017),0)","v":0},{"$f":"IFERROR($E260*SUMIF('Daily Log'!$N$18:$N$1017,$B260,'Daily Log'!$O$18:$O$1017),0)","v":0},{"$f":"IFERROR($E260*SUMIF('Daily Log'!$Q$18:$Q$1017,$B260,'Daily Log'!$R$18:$R$1017),0)","v":0},{"$f":"IFERROR($E260*SUMIF('Daily Log'!$T$18:$T$1017,$B260,'Daily Log'!$U$18:$U$1017),0)","v":0},{"$f":"IFERROR($E260*SUMIF('Daily Log'!$W$18:$W$1017,$B260,'Daily Log'!$X$18:$X$1017),0)","v":0},{"$f":"IFERROR($E260*SUMIF('Daily Log'!$Z$18:$Z$1017,$B260,'Daily Log'!$AA$18:$AA$1017),0)","v":0},{"$f":"IFERROR($E260*SUMIF('Daily Log'!$AC$18:$AC$1017,$B260,'Daily Log'!$AD$18:$AD$1017),0)","v":0},{"$f":"IFERROR($E260*SUMIF('Daily Log'!$AF$18:$AF$1017,$B260,'Daily Log'!$AG$18:$AG$1017),0)","v":0},{"$f":"IFERROR($E260*SUMIF('Daily Log'!$AI$18:$AI$1017,$B260,'Daily Log'!$AJ$18:$AJ$1017),0)","v":0},{"$f":"IFERROR($E260*SUMIF('Daily Log'!$AL$18:$AL$1017,$B260,'Daily Log'!$AM$18:$AM$1017),0)","v":0},{"$f":"IFERROR($E260*SUMIF('Daily Log'!$AO$18:$AO$1017,$B260,'Daily Log'!$AP$18:$AP$1017),0)","v":0},{"$f":"IFERROR($E260*SUMIF('Daily Log'!$AR$18:$AR$1017,$B260,'Daily Log'!$AS$18:$AS$1017),0)","v":0},{"$f":"IFERROR($E260*SUMIF('Daily Log'!$AU$18:$AU$1017,$B260,'Daily Log'!$AV$18:$AV$1017),0)","v":0},{"$f":"IFERROR($E260*SUMIF('Daily Log'!$AX$18:$AX$1017,$B260,'Daily Log'!$AY$18:$AY$1017),0)","v":0},{"$f":"IFERROR($E260*SUMIF('Daily Log'!$BA$18:$BA$1017,$B260,'Daily Log'!$BB$18:$BB$1017),0)","v":0},{"$f":"IFERROR($E260*SUMIF('Daily Log'!$BD$18:$BD$1017,$B260,'Daily Log'!$BE$18:$BE$1017),0)","v":0},{"$f":"IFERROR($E260*SUMIF('Daily Log'!$BG$18:$BG$1017,$B260,'Daily Log'!$BH$18:$BH$1017),0)","v":0},{"$f":"IFERROR($E260*SUMIF('Daily Log'!$BJ$18:$BJ$1017,$B260,'Daily Log'!$BK$18:$BK$1017),0)","v":0},{"$f":"IFERROR($E260*SUMIF('Daily Log'!$BM$18:$BM$1017,$B260,'Daily Log'!$BN$18:$BN$1017),0)","v":0},{"$f":"IFERROR($E260*SUMIF('Daily Log'!$BP$18:$BP$1017,$B260,'Daily Log'!$BQ$18:$BQ$1017),0)","v":0},{"$f":"IFERROR($E260*SUMIF('Daily Log'!$BS$18:$BS$1017,$B260,'Daily Log'!$BT$18:$BT$1017),0)","v":0},{"$f":"IFERROR($E260*SUMIF('Daily Log'!$BV$18:$BV$1017,$B260,'Daily Log'!$BW$18:$BW$1017),0)","v":0},{"$f":"IFERROR($E260*SUMIF('Daily Log'!$BY$18:$BY$1017,$B260,'Daily Log'!$BZ$18:$BZ$1017),0)","v":0},{"$f":"IFERROR($E260*SUMIF('Daily Log'!$CB$18:$CB$1017,$B260,'Daily Log'!$CC$18:$CC$1017),0)","v":0},{"$f":"IFERROR($E260*SUMIF('Daily Log'!$CE$18:$CE$1017,$B260,'Daily Log'!$CF$18:$CF$1017),0)","v":0},{"$f":"IFERROR($E260*SUMIF('Daily Log'!$CH$18:$CH$1017,$B260,'Daily Log'!$CI$18:$CI$1017),0)","v":0},{"$f":"IFERROR($E260*SUMIF('Daily Log'!$CK$18:$CK$1017,$B260,'Daily Log'!$CL$18:$CL$1017),0)","v":0},{"$f":"IFERROR($E260*SUMIF('Daily Log'!$CN$18:$CN$1017,$B260,'Daily Log'!$CO$18:$CO$1017),0)","v":0}]
[null,"09032:Hot Jasmine Green Tea",null,"HOT BEVERAGE",1,{"$f":"SUM($G261:$AK261)","v":0},{"$f":"IFERROR($E261*SUMIF('Daily Log'!$B$18:$B$1017,$B261,'Daily Log'!$C$18:$C$1017),0)","v":0},{"$f":"IFERROR($E261*SUMIF('Daily Log'!$E$18:$E$1017,$B261,'Daily Log'!$F$18:$F$1017),0)","v":0},{"$f":"IFERROR($E261*SUMIF('Daily Log'!$H$18:$H$1017,$B261,'Daily Log'!$I$18:$I$1017),0)","v":0},{"$f":"IFERROR($E261*SUMIF('Daily Log'!$K$18:$K$1017,$B261,'Daily Log'!$L$18:$L$1017),0)","v":0},{"$f":"IFERROR($E261*SUMIF('Daily Log'!$N$18:$N$1017,$B261,'Daily Log'!$O$18:$O$1017),0)","v":0},{"$f":"IFERROR($E261*SUMIF('Daily Log'!$Q$18:$Q$1017,$B261,'Daily Log'!$R$18:$R$1017),0)","v":0},{"$f":"IFERROR($E261*SUMIF('Daily Log'!$T$18:$T$1017,$B261,'Daily Log'!$U$18:$U$1017),0)","v":0},{"$f":"IFERROR($E261*SUMIF('Daily Log'!$W$18:$W$1017,$B261,'Daily Log'!$X$18:$X$1017),0)","v":0},{"$f":"IFERROR($E261*SUMIF('Daily Log'!$Z$18:$Z$1017,$B261,'Daily Log'!$AA$18:$AA$1017),0)","v":0},{"$f":"IFERROR($E261*SUMIF('Daily Log'!$AC$18:$AC$1017,$B261,'Daily Log'!$AD$18:$AD$1017),0)","v":0},{"$f":"IFERROR($E261*SUMIF('Daily Log'!$AF$18:$AF$1017,$B261,'Daily Log'!$AG$18:$AG$1017),0)","v":0},{"$f":"IFERROR($E261*SUMIF('Daily Log'!$AI$18:$AI$1017,$B261,'Daily Log'!$AJ$18:$AJ$1017),0)","v":0},{"$f":"IFERROR($E261*SUMIF('Daily Log'!$AL$18:$AL$1017,$B261,'Daily Log'!$AM$18:$AM$1017),0)","v":0},{"$f":"IFERROR($E261*SUMIF('Daily Log'!$AO$18:$AO$1017,$B261,'Daily Log'!$AP$18:$AP$1017),0)","v":0},{"$f":"IFERROR($E261*SUMIF('Daily Log'!$AR$18:$AR$1017,$B261,'Daily Log'!$AS$18:$AS$1017),0)","v":0},{"$f":"IFERROR($E261*SUMIF('Daily Log'!$AU$18:$AU$1017,$B261,'Daily Log'!$AV$18:$AV$1017),0)","v":0},{"$f":"IFERROR($E261*SUMIF('Daily Log'!$AX$18:$AX$1017,$B261,'Daily Log'!$AY$18:$AY$1017),0)","v":0},{"$f":"IFERROR($E261*SUMIF('Daily Log'!$BA$18:$BA$1017,$B261,'Daily Log'!$BB$18:$BB$1017),0)","v":0},{"$f":"IFERROR($E261*SUMIF('Daily Log'!$BD$18:$BD$1017,$B261,'Daily Log'!$BE$18:$BE$1017),0)","v":0},{"$f":"IFERROR($E261*SUMIF('Daily Log'!$BG$18:$BG$1017,$B261,'Daily Log'!$BH$18:$BH$1017),0)","v":0},{"$f":"IFERROR($E261*SUMIF('Daily Log'!$BJ$18:$BJ$1017,$B261,'Daily Log'!$BK$18:$BK$1017),0)","v":0},{"$f":"IFERROR($E261*SUMIF('Daily Log'!$BM$18:$BM$1017,$B261,'Daily Log'!$BN$18:$BN$1017),0)","v":0},{"$f":"IFERROR($E261*SUMIF('Daily Log'!$BP$18:$BP$1017,$B261,'Daily Log'!$BQ$18:$BQ$1017),0)","v":0},{"$f":"IFERROR($E261*SUMIF('Daily Log'!$BS$18:$BS$1017,$B261,'Daily Log'!$BT$18:$BT$1017),0)","v":0},{"$f":"IFERROR($E261*SUMIF('Daily Log'!$BV$18:$BV$1017,$B261,'Daily Log'!$BW$18:$BW$1017),0)","v":0},{"$f":"IFERROR($E261*SUMIF('Daily Log'!$BY$18:$BY$1017,$B261,'Daily Log'!$BZ$18:$BZ$1017),0)","v":0},{"$f":"IFERROR($E261*SUMIF('Daily Log'!$CB$18:$CB$1017,$B261,'Daily Log'!$CC$18:$CC$1017),0)","v":0},{"$f":"IFERROR($E261*SUMIF('Daily Log'!$CE$18:$CE$1017,$B261,'Daily Log'!$CF$18:$CF$1017),0)","v":0},{"$f":"IFERROR($E261*SUMIF('Daily Log'!$CH$18:$CH$1017,$B261,'Daily Log'!$CI$18:$CI$1017),0)","v":0},{"$f":"IFERROR($E261*SUMIF('Daily Log'!$CK$18:$CK$1017,$B261,'Daily Log'!$CL$18:$CL$1017),0)","v":0},{"$f":"IFERROR($E261*SUMIF('Daily Log'!$CN$18:$CN$1017,$B261,'Daily Log'!$CO$18:$CO$1017),0)","v":0}]
[null,"09040:Cappucino Smoothies",null,"SMOOTHIES",1,0,{"$f":"IFERROR($E262*SUMIF('Daily Log'!$B$18:$B$1017,$B262,'Daily Log'!$C$18:$C$1017),0)","v":0},{"$f":"IFERROR($E262*SUMIF('Daily Log'!$E$18:$E$1017,$B262,'Daily Log'!$F$18:$F$1017),0)","v":0},{"$f":"IFERROR($E262*SUMIF('Daily Log'!$H$18:$H$1017,$B262,'Daily Log'!$I$18:$I$1017),0)","v":0},{"$f":"IFERROR($E262*SUMIF('Daily Log'!$K$18:$K$1017,$B262,'Daily Log'!$L$18:$L$1017),0)","v":0},{"$f":"IFERROR($E262*SUMIF('Daily Log'!$N$18:$N$1017,$B262,'Daily Log'!$O$18:$O$1017),0)","v":0},{"$f":"IFERROR($E262*SUMIF('Daily Log'!$Q$18:$Q$1017,$B262,'Daily Log'!$R$18:$R$1017),0)","v":0},{"$f":"IFERROR($E262*SUMIF('Daily Log'!$T$18:$T$1017,$B262,'Daily Log'!$U$18:$U$1017),0)","v":0},{"$f":"IFERROR($E262*SUMIF('Daily Log'!$W$18:$W$1017,$B262,'Daily Log'!$X$18:$X$1017),0)","v":0},{"$f":"IFERROR($E262*SUMIF('Daily Log'!$Z$18:$Z$1017,$B262,'Daily Log'!$AA$18:$AA$1017),0)","v":0},{"$f":"IFERROR($E262*SUMIF('Daily Log'!$AC$18:$AC$1017,$B262,'Daily Log'!$AD$18:$AD$1017),0)","v":0},{"$f":"IFERROR($E262*SUMIF('Daily Log'!$AF$18:$AF$1017,$B262,'Daily Log'!$AG$18:$AG$1017),0)","v":0},{"$f":"IFERROR($E262*SUMIF('Daily Log'!$AI$18:$AI$1017,$B262,'Daily Log'!$AJ$18:$AJ$1017),0)","v":0},{"$f":"IFERROR($E262*SUMIF('Daily Log'!$AL$18:$AL$1017,$B262,'Daily Log'!$AM$18:$AM$1017),0)","v":0},{"$f":"IFERROR($E262*SUMIF('Daily Log'!$AO$18:$AO$1017,$B262,'Daily Log'!$AP$18:$AP$1017),0)","v":0},{"$f":"IFERROR($E262*SUMIF('Daily Log'!$AR$18:$AR$1017,$B262,'Daily Log'!$AS$18:$AS$1017),0)","v":0},{"$f":"IFERROR($E262*SUMIF('Daily Log'!$AU$18:$AU$1017,$B262,'Daily Log'!$AV$18:$AV$1017),0)","v":0},{"$f":"IFERROR($E262*SUMIF('Daily Log'!$AX$18:$AX$1017,$B262,'Daily Log'!$AY$18:$AY$1017),0)","v":0},{"$f":"IFERROR($E262*SUMIF('Daily Log'!$BA$18:$BA$1017,$B262,'Daily Log'!$BB$18:$BB$1017),0)","v":0},{"$f":"IFERROR($E262*SUMIF('Daily Log'!$BD$18:$BD$1017,$B262,'Daily Log'!$BE$18:$BE$1017),0)","v":0},{"$f":"IFERROR($E262*SUMIF('Daily Log'!$BG$18:$BG$1017,$B262,'Daily Log'!$BH$18:$BH$1017),0)","v":0},{"$f":"IFERROR($E262*SUMIF('Daily Log'!$BJ$18:$BJ$1017,$B262,'Daily Log'!$BK$18:$BK$1017),0)","v":0},{"$f":"IFERROR($E262*SUMIF('Daily Log'!$BM$18:$BM$1017,$B262,'Daily Log'!$BN$18:$BN$1017),0)","v":0},{"$f":"IFERROR($E262*SUMIF('Daily Log'!$BP$18:$BP$1017,$B262,'Daily Log'!$BQ$18:$BQ$1017),0)","v":0},{"$f":"IFERROR($E262*SUMIF('Daily Log'!$BS$18:$BS$1017,$B262,'Daily Log'!$BT$18:$BT$1017),0)","v":0},{"$f":"IFERROR($E262*SUMIF('Daily Log'!$BV$18:$BV$1017,$B262,'Daily Log'!$BW$18:$BW$1017),0)","v":0},{"$f":"IFERROR($E262*SUMIF('Daily Log'!$BY$18:$BY$1017,$B262,'Daily Log'!$BZ$18:$BZ$1017),0)","v":0},{"$f":"IFERROR($E262*SUMIF('Daily Log'!$CB$18:$CB$1017,$B262,'Daily Log'!$CC$18:$CC$1017),0)","v":0},{"$f":"IFERROR($E262*SUMIF('Daily Log'!$CE$18:$CE$1017,$B262,'Daily Log'!$CF$18:$CF$1017),0)","v":0},{"$f":"IFERROR($E262*SUMIF('Daily Log'!$CH$18:$CH$1017,$B262,'Daily Log'!$CI$18:$CI$1017),0)","v":0},{"$f":"IFERROR($E262*SUMIF('Daily Log'!$CK$18:$CK$1017,$B262,'Daily Log'!$CL$18:$CL$1017),0)","v":0},{"$f":"IFERROR($E262*SUMIF('Daily Log'!$CN$18:$CN$1017,$B262,'Daily Log'!$CO$18:$CO$1017),0)","v":0}]
[null,"09041:Chocolate Smoothies",null,"SMOOTHIES",1,1,{"$f":"IFERROR($E263*SUMIF('Daily Log'!$B$18:$B$1017,$B263,'Daily Log'!$C$18:$C$1017),0)","v":0},{"$f":"IFERROR($E263*SUMIF('Daily Log'!$E$18:$E$1017,$B263,'Daily Log'!$F$18:$F$1017),0)","v":0},{"$f":"IFERROR($E263*SUMIF('Daily Log'!$H$18:$H$1017,$B263,'Daily Log'!$I$18:$I$1017),0)","v":0},{"$f":"IFERROR($E263*SUMIF('Daily Log'!$K$18:$K$1017,$B263,'Daily Log'!$L$18:$L$1017),0)","v":0},{"$f":"IFERROR($E263*SUMIF('Daily Log'!$N$18:$N$1017,$B263,'Daily Log'!$O$18:$O$1017),0)","v":0},{"$f":"IFERROR($E263*SUMIF('Daily Log'!$Q$18:$Q$1017,$B263,'Daily Log'!$R$18:$R$1017),0)","v":0},{"$f":"IFERROR($E263*SUMIF('Daily Log'!$T$18:$T$1017,$B263,'Daily Log'!$U$18:$U$1017),0)","v":1},{"$f":"IFERROR($E263*SUMIF('Daily Log'!$W$18:$W$1017,$B263,'Daily Log'!$X$18:$X$1017),0)","v":0},{"$f":"IFERROR($E263*SUMIF('Daily Log'!$Z$18:$Z$1017,$B263,'Daily Log'!$AA$18:$AA$1017),0)","v":0},{"$f":"IFERROR($E263*SUMIF('Daily Log'!$AC$18:$AC$1017,$B263,'Daily Log'!$AD$18:$AD$1017),0)","v":0},{"$f":"IFERROR($E263*SUMIF('Daily Log'!$AF$18:$AF$1017,$B263,'Daily Log'!$AG$18:$AG$1017),0)","v":0},{"$f":"IFERROR($E263*SUMIF('Daily Log'!$AI$18:$AI$1017,$B263,'Daily Log'!$AJ$18:$AJ$1017),0)","v":0},{"$f":"IFERROR($E263*SUMIF('Daily Log'!$AL$18:$AL$1017,$B263,'Daily Log'!$AM$18:$AM$1017),0)","v":0},{"$f":"IFERROR($E263*SUMIF('Daily Log'!$AO$18:$AO$1017,$B263,'Daily Log'!$AP$18:$AP$1017),0)","v":0},{"$f":"IFERROR($E263*SUMIF('Daily Log'!$AR$18:$AR$1017,$B263,'Daily Log'!$AS$18:$AS$1017),0)","v":0},{"$f":"IFERROR($E263*SUMIF('Daily Log'!$AU$18:$AU$1017,$B263,'Daily Log'!$AV$18:$AV$1017),0)","v":0},{"$f":"IFERROR($E263*SUMIF('Daily Log'!$AX$18:$AX$1017,$B263,'Daily Log'!$AY$18:$AY$1017),0)","v":0},{"$f":"IFERROR($E263*SUMIF('Daily Log'!$BA$18:$BA$1017,$B263,'Daily Log'!$BB$18:$BB$1017),0)","v":0},{"$f":"IFERROR($E263*SUMIF('Daily Log'!$BD$18:$BD$1017,$B263,'Daily Log'!$BE$18:$BE$1017),0)","v":0},{"$f":"IFERROR($E263*SUMIF('Daily Log'!$BG$18:$BG$1017,$B263,'Daily Log'!$BH$18:$BH$1017),0)","v":0},{"$f":"IFERROR($E263*SUMIF('Daily Log'!$BJ$18:$BJ$1017,$B263,'Daily Log'!$BK$18:$BK$1017),0)","v":0},{"$f":"IFERROR($E263*SUMIF('Daily Log'!$BM$18:$BM$1017,$B263,'Daily Log'!$BN$18:$BN$1017),0)","v":0},{"$f":"IFERROR($E263*SUMIF('Daily Log'!$BP$18:$BP$1017,$B263,'Daily Log'!$BQ$18:$BQ$1017),0)","v":0},{"$f":"IFERROR($E263*SUMIF('Daily Log'!$BS$18:$BS$1017,$B263,'Daily Log'!$BT$18:$BT$1017),0)","v":0},{"$f":"IFERROR($E263*SUMIF('Daily Log'!$BV$18:$BV$1017,$B263,'Daily Log'!$BW$18:$BW$1017),0)","v":0},{"$f":"IFERROR($E263*SUMIF('Daily Log'!$BY$18:$BY$1017,$B263,'Daily Log'!$BZ$18:$BZ$1017),0)","v":0},{"$f":"IFERROR($E263*SUMIF('Daily Log'!$CB$18:$CB$1017,$B263,'Daily Log'!$CC$18:$CC$1017),0)","v":0},{"$f":"IFERROR($E263*SUMIF('Daily Log'!$CE$18:$CE$1017,$B263,'Daily Log'!$CF$18:$CF$1017),0)","v":0},{"$f":"IFERROR($E263*SUMIF('Daily Log'!$CH$18:$CH$1017,$B263,'Daily Log'!$CI$18:$CI$1017),0)","v":0},{"$f":"IFERROR($E263*SUMIF('Daily Log'!$CK$18:$CK$1017,$B263,'Daily Log'!$CL$18:$CL$1017),0)","v":0},{"$f":"IFERROR($E263*SUMIF('Daily Log'!$CN$18:$CN$1017,$B263,'Daily Log'!$CO$18:$CO$1017),0)","v":0}]
[null,"09043:Hot Cappucino",null,"HOT BEVERAGE",1,0,{"$f":"IFERROR($E264*SUMIF('Daily Log'!$B$18:$B$1017,$B264,'Daily Log'!$C$18:$C$1017),0)","v":0},{"$f":"IFERROR($E264*SUMIF('Daily Log'!$E$18:$E$1017,$B264,'Daily Log'!$F$18:$F$1017),0)","v":0},{"$f":"IFERROR($E264*SUMIF('Daily Log'!$H$18:$H$1017,$B264,'Daily Log'!$I$18:$I$1017),0)","v":0},{"$f":"IFERROR($E264*SUMIF('Daily Log'!$K$18:$K$1017,$B264,'Daily Log'!$L$18:$L$1017),0)","v":0},{"$f":"IFERROR($E264*SUMIF('Daily Log'!$N$18:$N$1017,$B264,'Daily Log'!$O$18:$O$1017),0)","v":0},{"$f":"IFERROR($E264*SUMIF('Daily Log'!$Q$18:$Q$1017,$B264,'Daily Log'!$R$18:$R$1017),0)","v":0},{"$f":"IFERROR($E264*SUMIF('Daily Log'!$T$18:$T$1017,$B264,'Daily Log'!$U$18:$U$1017),0)","v":0},{"$f":"IFERROR($E264*SUMIF('Daily Log'!$W$18:$W$1017,$B264,'Daily Log'!$X$18:$X$1017),0)","v":0},{"$f":"IFERROR($E264*SUMIF('Daily Log'!$Z$18:$Z$1017,$B264,'Daily Log'!$AA$18:$AA$1017),0)","v":0},{"$f":"IFERROR($E264*SUMIF('Daily Log'!$AC$18:$AC$1017,$B264,'Daily Log'!$AD$18:$AD$1017),0)","v":0},{"$f":"IFERROR($E264*SUMIF('Daily Log'!$AF$18:$AF$1017,$B264,'Daily Log'!$AG$18:$AG$1017),0)","v":0},{"$f":"IFERROR($E264*SUMIF('Daily Log'!$AI$18:$AI$1017,$B264,'Daily Log'!$AJ$18:$AJ$1017),0)","v":0},{"$f":"IFERROR($E264*SUMIF('Daily Log'!$AL$18:$AL$1017,$B264,'Daily Log'!$AM$18:$AM$1017),0)","v":0},{"$f":"IFERROR($E264*SUMIF('Daily Log'!$AO$18:$AO$1017,$B264,'Daily Log'!$AP$18:$AP$1017),0)","v":0},{"$f":"IFERROR($E264*SUMIF('Daily Log'!$AR$18:$AR$1017,$B264,'Daily Log'!$AS$18:$AS$1017),0)","v":0},{"$f":"IFERROR($E264*SUMIF('Daily Log'!$AU$18:$AU$1017,$B264,'Daily Log'!$AV$18:$AV$1017),0)","v":0},{"$f":"IFERROR($E264*SUMIF('Daily Log'!$AX$18:$AX$1017,$B264,'Daily Log'!$AY$18:$AY$1017),0)","v":0},{"$f":"IFERROR($E264*SUMIF('Daily Log'!$BA$18:$BA$1017,$B264,'Daily Log'!$BB$18:$BB$1017),0)","v":0},{"$f":"IFERROR($E264*SUMIF('Daily Log'!$BD$18:$BD$1017,$B264,'Daily Log'!$BE$18:$BE$1017),0)","v":0},{"$f":"IFERROR($E264*SUMIF('Daily Log'!$BG$18:$BG$1017,$B264,'Daily Log'!$BH$18:$BH$1017),0)","v":0},{"$f":"IFERROR($E264*SUMIF('Daily Log'!$BJ$18:$BJ$1017,$B264,'Daily Log'!$BK$18:$BK$1017),0)","v":0},{"$f":"IFERROR($E264*SUMIF('Daily Log'!$BM$18:$BM$1017,$B264,'Daily Log'!$BN$18:$BN$1017),0)","v":0},{"$f":"IFERROR($E264*SUMIF('Daily Log'!$BP$18:$BP$1017,$B264,'Daily Log'!$BQ$18:$BQ$1017),0)","v":0},{"$f":"IFERROR($E264*SUMIF('Daily Log'!$BS$18:$BS$1017,$B264,'Daily Log'!$BT$18:$BT$1017),0)","v":0},{"$f":"IFERROR($E264*SUMIF('Daily Log'!$BV$18:$BV$1017,$B264,'Daily Log'!$BW$18:$BW$1017),0)","v":0},{"$f":"IFERROR($E264*SUMIF('Daily Log'!$BY$18:$BY$1017,$B264,'Daily Log'!$BZ$18:$BZ$1017),0)","v":0},{"$f":"IFERROR($E264*SUMIF('Daily Log'!$CB$18:$CB$1017,$B264,'Daily Log'!$CC$18:$CC$1017),0)","v":0},{"$f":"IFERROR($E264*SUMIF('Daily Log'!$CE$18:$CE$1017,$B264,'Daily Log'!$CF$18:$CF$1017),0)","v":0},{"$f":"IFERROR($E264*SUMIF('Daily Log'!$CH$18:$CH$1017,$B264,'Daily Log'!$CI$18:$CI$1017),0)","v":0},{"$f":"IFERROR($E264*SUMIF('Daily Log'!$CK$18:$CK$1017,$B264,'Daily Log'!$CL$18:$CL$1017),0)","v":0},{"$f":"IFERROR($E264*SUMIF('Daily Log'!$CN$18:$CN$1017,$B264,'Daily Log'!$CO$18:$CO$1017),0)","v":0}]
[null,"09044:Hot Chocolate",null,"HOT BEVERAGE",1,0,{"$f":"IFERROR($E265*SUMIF('Daily Log'!$B$18:$B$1017,$B265,'Daily Log'!$C$18:$C$1017),0)","v":0},{"$f":"IFERROR($E265*SUMIF('Daily Log'!$E$18:$E$1017,$B265,'Daily Log'!$F$18:$F$1017),0)","v":0},{"$f":"IFERROR($E265*SUMIF('Daily Log'!$H$18:$H$1017,$B265,'Daily Log'!$I$18:$I$1017),0)","v":0},{"$f":"IFERROR($E265*SUMIF('Daily Log'!$K$18:$K$1017,$B265,'Daily Log'!$L$18:$L$1017),0)","v":0},{"$f":"IFERROR($E265*SUMIF('Daily Log'!$N$18:$N$1017,$B265,'Daily Log'!$O$18:$O$1017),0)","v":0},{"$f":"IFERROR($E265*SUMIF('Daily Log'!$Q$18:$Q$1017,$B265,'Daily Log'!$R$18:$R$1017),0)","v":0},{"$f":"IFERROR($E265*SUMIF('Daily Log'!$T$18:$T$1017,$B265,'Daily Log'!$U$18:$U$1017),0)","v":0},{"$f":"IFERROR($E265*SUMIF('Daily Log'!$W$18:$W$1017,$B265,'Daily Log'!$X$18:$X$1017),0)","v":0},{"$f":"IFERROR($E265*SUMIF('Daily Log'!$Z$18:$Z$1017,$B265,'Daily Log'!$AA$18:$AA$1017),0)","v":0},{"$f":"IFERROR($E265*SUMIF('Daily Log'!$AC$18:$AC$1017,$B265,'Daily Log'!$AD$18:$AD$1017),0)","v":0},{"$f":"IFERROR($E265*SUMIF('Daily Log'!$AF$18:$AF$1017,$B265,'Daily Log'!$AG$18:$AG$1017),0)","v":0},{"$f":"IFERROR($E265*SUMIF('Daily Log'!$AI$18:$AI$1017,$B265,'Daily Log'!$AJ$18:$AJ$1017),0)","v":0},{"$f":"IFERROR($E265*SUMIF('Daily Log'!$AL$18:$AL$1017,$B265,'Daily Log'!$AM$18:$AM$1017),0)","v":0},{"$f":"IFERROR($E265*SUMIF('Daily Log'!$AO$18:$AO$1017,$B265,'Daily Log'!$AP$18:$AP$1017),0)","v":0},{"$f":"IFERROR($E265*SUMIF('Daily Log'!$AR$18:$AR$1017,$B265,'Daily Log'!$AS$18:$AS$1017),0)","v":0},{"$f":"IFERROR($E265*SUMIF('Daily Log'!$AU$18:$AU$1017,$B265,'Daily Log'!$AV$18:$AV$1017),0)","v":0},{"$f":"IFERROR($E265*SUMIF('Daily Log'!$AX$18:$AX$1017,$B265,'Daily Log'!$AY$18:$AY$1017),0)","v":0},{"$f":"IFERROR($E265*SUMIF('Daily Log'!$BA$18:$BA$1017,$B265,'Daily Log'!$BB$18:$BB$1017),0)","v":0},{"$f":"IFERROR($E265*SUMIF('Daily Log'!$BD$18:$BD$1017,$B265,'Daily Log'!$BE$18:$BE$1017),0)","v":0},{"$f":"IFERROR($E265*SUMIF('Daily Log'!$BG$18:$BG$1017,$B265,'Daily Log'!$BH$18:$BH$1017),0)","v":0},{"$f":"IFERROR($E265*SUMIF('Daily Log'!$BJ$18:$BJ$1017,$B265,'Daily Log'!$BK$18:$BK$1017),0)","v":0},{"$f":"IFERROR($E265*SUMIF('Daily Log'!$BM$18:$BM$1017,$B265,'Daily Log'!$BN$18:$BN$1017),0)","v":0},{"$f":"IFERROR($E265*SUMIF('Daily Log'!$BP$18:$BP$1017,$B265,'Daily Log'!$BQ$18:$BQ$1017),0)","v":0},{"$f":"IFERROR($E265*SUMIF('Daily Log'!$BS$18:$BS$1017,$B265,'Daily Log'!$BT$18:$BT$1017),0)","v":0},{"$f":"IFERROR($E265*SUMIF('Daily Log'!$BV$18:$BV$1017,$B265,'Daily Log'!$BW$18:$BW$1017),0)","v":0},{"$f":"IFERROR($E265*SUMIF('Daily Log'!$BY$18:$BY$1017,$B265,'Daily Log'!$BZ$18:$BZ$1017),0)","v":0},{"$f":"IFERROR($E265*SUMIF('Daily Log'!$CB$18:$CB$1017,$B265,'Daily Log'!$CC$18:$CC$1017),0)","v":0},{"$f":"IFERROR($E265*SUMIF('Daily Log'!$CE$18:$CE$1017,$B265,'Daily Log'!$CF$18:$CF$1017),0)","v":0},{"$f":"IFERROR($E265*SUMIF('Daily Log'!$CH$18:$CH$1017,$B265,'Daily Log'!$CI$18:$CI$1017),0)","v":0},{"$f":"IFERROR($E265*SUMIF('Daily Log'!$CK$18:$CK$1017,$B265,'Daily Log'!$CL$18:$CL$1017),0)","v":0},{"$f":"IFERROR($E265*SUMIF('Daily Log'!$CN$18:$CN$1017,$B265,'Daily Log'!$CO$18:$CO$1017),0)","v":0}]
[null,"09045:Hot Mocha",null,"HOT BEVERAGE",1,0,{"$f":"IFERROR($E266*SUMIF('Daily Log'!$B$18:$B$1017,$B266,'Daily Log'!$C$18:$C$1017),0)","v":0},{"$f":"IFERROR($E266*SUMIF('Daily Log'!$E$18:$E$1017,$B266,'Daily Log'!$F$18:$F$1017),0)","v":0},{"$f":"IFERROR($E266*SUMIF('Daily Log'!$H$18:$H$1017,$B266,'Daily Log'!$I$18:$I$1017),0)","v":0},{"$f":"IFERROR($E266*SUMIF('Daily Log'!$K$18:$K$1017,$B266,'Daily Log'!$L$18:$L$1017),0)","v":0},{"$f":"IFERROR($E266*SUMIF('Daily Log'!$N$18:$N$1017,$B266,'Daily Log'!$O$18:$O$1017),0)","v":0},{"$f":"IFERROR($E266*SUMIF('Daily Log'!$Q$18:$Q$1017,$B266,'Daily Log'!$R$18:$R$1017),0)","v":0},{"$f":"IFERROR($E266*SUMIF('Daily Log'!$T$18:$T$1017,$B266,'Daily Log'!$U$18:$U$1017),0)","v":0},{"$f":"IFERROR($E266*SUMIF('Daily Log'!$W$18:$W$1017,$B266,'Daily Log'!$X$18:$X$1017),0)","v":0},{"$f":"IFERROR($E266*SUMIF('Daily Log'!$Z$18:$Z$1017,$B266,'Daily Log'!$AA$18:$AA$1017),0)","v":0},{"$f":"IFERROR($E266*SUMIF('Daily Log'!$AC$18:$AC$1017,$B266,'Daily Log'!$AD$18:$AD$1017),0)","v":0},{"$f":"IFERROR($E266*SUMIF('Daily Log'!$AF$18:$AF$1017,$B266,'Daily Log'!$AG$18:$AG$1017),0)","v":0},{"$f":"IFERROR($E266*SUMIF('Daily Log'!$AI$18:$AI$1017,$B266,'Daily Log'!$AJ$18:$AJ$1017),0)","v":0},{"$f":"IFERROR($E266*SUMIF('Daily Log'!$AL$18:$AL$1017,$B266,'Daily Log'!$AM$18:$AM$1017),0)","v":0},{"$f":"IFERROR($E266*SUMIF('Daily Log'!$AO$18:$AO$1017,$B266,'Daily Log'!$AP$18:$AP$1017),0)","v":0},{"$f":"IFERROR($E266*SUMIF('Daily Log'!$AR$18:$AR$1017,$B266,'Daily Log'!$AS$18:$AS$1017),0)","v":0},{"$f":"IFERROR($E266*SUMIF('Daily Log'!$AU$18:$AU$1017,$B266,'Daily Log'!$AV$18:$AV$1017),0)","v":0},{"$f":"IFERROR($E266*SUMIF('Daily Log'!$AX$18:$AX$1017,$B266,'Daily Log'!$AY$18:$AY$1017),0)","v":0},{"$f":"IFERROR($E266*SUMIF('Daily Log'!$BA$18:$BA$1017,$B266,'Daily Log'!$BB$18:$BB$1017),0)","v":0},{"$f":"IFERROR($E266*SUMIF('Daily Log'!$BD$18:$BD$1017,$B266,'Daily Log'!$BE$18:$BE$1017),0)","v":0},{"$f":"IFERROR($E266*SUMIF('Daily Log'!$BG$18:$BG$1017,$B266,'Daily Log'!$BH$18:$BH$1017),0)","v":0},{"$f":"IFERROR($E266*SUMIF('Daily Log'!$BJ$18:$BJ$1017,$B266,'Daily Log'!$BK$18:$BK$1017),0)","v":0},{"$f":"IFERROR($E266*SUMIF('Daily Log'!$BM$18:$BM$1017,$B266,'Daily Log'!$BN$18:$BN$1017),0)","v":0},{"$f":"IFERROR($E266*SUMIF('Daily Log'!$BP$18:$BP$1017,$B266,'Daily Log'!$BQ$18:$BQ$1017),0)","v":0},{"$f":"IFERROR($E266*SUMIF('Daily Log'!$BS$18:$BS$1017,$B266,'Daily Log'!$BT$18:$BT$1017),0)","v":0},{"$f":"IFERROR($E266*SUMIF('Daily Log'!$BV$18:$BV$1017,$B266,'Daily Log'!$BW$18:$BW$1017),0)","v":0},{"$f":"IFERROR($E266*SUMIF('Daily Log'!$BY$18:$BY$1017,$B266,'Daily Log'!$BZ$18:$BZ$1017),0)","v":0},{"$f":"IFERROR($E266*SUMIF('Daily Log'!$CB$18:$CB$1017,$B266,'Daily Log'!$CC$18:$CC$1017),0)","v":0},{"$f":"IFERROR($E266*SUMIF('Daily Log'!$CE$18:$CE$1017,$B266,'Daily Log'!$CF$18:$CF$1017),0)","v":0},{"$f":"IFERROR($E266*SUMIF('Daily Log'!$CH$18:$CH$1017,$B266,'Daily Log'!$CI$18:$CI$1017),0)","v":0},{"$f":"IFERROR($E266*SUMIF('Daily Log'!$CK$18:$CK$1017,$B266,'Daily Log'!$CL$18:$CL$1017),0)","v":0},{"$f":"IFERROR($E266*SUMIF('Daily Log'!$CN$18:$CN$1017,$B266,'Daily Log'!$CO$18:$CO$1017),0)","v":0}]
[null,"09046:Mineral Water",null,"MINERAL WATER ",1,0,{"$f":"IFERROR($E267*SUMIF('Daily Log'!$B$18:$B$1017,$B267,'Daily Log'!$C$18:$C$1017),0)","v":0},{"$f":"IFERROR($E267*SUMIF('Daily Log'!$E$18:$E$1017,$B267,'Daily Log'!$F$18:$F$1017),0)","v":0},{"$f":"IFERROR($E267*SUMIF('Daily Log'!$H$18:$H$1017,$B267,'Daily Log'!$I$18:$I$1017),0)","v":0},{"$f":"IFERROR($E267*SUMIF('Daily Log'!$K$18:$K$1017,$B267,'Daily Log'!$L$18:$L$1017),0)","v":0},{"$f":"IFERROR($E267*SUMIF('Daily Log'!$N$18:$N$1017,$B267,'Daily Log'!$O$18:$O$1017),0)","v":0},{"$f":"IFERROR($E267*SUMIF('Daily Log'!$Q$18:$Q$1017,$B267,'Daily Log'!$R$18:$R$1017),0)","v":0},{"$f":"IFERROR($E267*SUMIF('Daily Log'!$T$18:$T$1017,$B267,'Daily Log'!$U$18:$U$1017),0)","v":0},{"$f":"IFERROR($E267*SUMIF('Daily Log'!$W$18:$W$1017,$B267,'Daily Log'!$X$18:$X$1017),0)","v":0},{"$f":"IFERROR($E267*SUMIF('Daily Log'!$Z$18:$Z$1017,$B267,'Daily Log'!$AA$18:$AA$1017),0)","v":0},{"$f":"IFERROR($E267*SUMIF('Daily Log'!$AC$18:$AC$1017,$B267,'Daily Log'!$AD$18:$AD$1017),0)","v":0},{"$f":"IFERROR($E267*SUMIF('Daily Log'!$AF$18:$AF$1017,$B267,'Daily Log'!$AG$18:$AG$1017),0)","v":0},{"$f":"IFERROR($E267*SUMIF('Daily Log'!$AI$18:$AI$1017,$B267,'Daily Log'!$AJ$18:$AJ$1017),0)","v":0},{"$f":"IFERROR($E267*SUMIF('Daily Log'!$AL$18:$AL$1017,$B267,'Daily Log'!$AM$18:$AM$1017),0)","v":0},{"$f":"IFERROR($E267*SUMIF('Daily Log'!$AO$18:$AO$1017,$B267,'Daily Log'!$AP$18:$AP$1017),0)","v":0},{"$f":"IFERROR($E267*SUMIF('Daily Log'!$AR$18:$AR$1017,$B267,'Daily Log'!$AS$18:$AS$1017),0)","v":0},{"$f":"IFERROR($E267*SUMIF('Daily Log'!$AU$18:$AU$1017,$B267,'Daily Log'!$AV$18:$AV$1017),0)","v":0},{"$f":"IFERROR($E267*SUMIF('Daily Log'!$AX$18:$AX$1017,$B267,'Daily Log'!$AY$18:$AY$1017),0)","v":0},{"$f":"IFERROR($E267*SUMIF('Daily Log'!$BA$18:$BA$1017,$B267,'Daily Log'!$BB$18:$BB$1017),0)","v":0},{"$f":"IFERROR($E267*SUMIF('Daily Log'!$BD$18:$BD$1017,$B267,'Daily Log'!$BE$18:$BE$1017),0)","v":0},{"$f":"IFERROR($E267*SUMIF('Daily Log'!$BG$18:$BG$1017,$B267,'Daily Log'!$BH$18:$BH$1017),0)","v":0},{"$f":"IFERROR($E267*SUMIF('Daily Log'!$BJ$18:$BJ$1017,$B267,'Daily Log'!$BK$18:$BK$1017),0)","v":0},{"$f":"IFERROR($E267*SUMIF('Daily Log'!$BM$18:$BM$1017,$B267,'Daily Log'!$BN$18:$BN$1017),0)","v":0},{"$f":"IFERROR($E267*SUMIF('Daily Log'!$BP$18:$BP$1017,$B267,'Daily Log'!$BQ$18:$BQ$1017),0)","v":0},{"$f":"IFERROR($E267*SUMIF('Daily Log'!$BS$18:$BS$1017,$B267,'Daily Log'!$BT$18:$BT$1017),0)","v":0},{"$f":"IFERROR($E267*SUMIF('Daily Log'!$BV$18:$BV$1017,$B267,'Daily Log'!$BW$18:$BW$1017),0)","v":0},{"$f":"IFERROR($E267*SUMIF('Daily Log'!$BY$18:$BY$1017,$B267,'Daily Log'!$BZ$18:$BZ$1017),0)","v":0},{"$f":"IFERROR($E267*SUMIF('Daily Log'!$CB$18:$CB$1017,$B267,'Daily Log'!$CC$18:$CC$1017),0)","v":0},{"$f":"IFERROR($E267*SUMIF('Daily Log'!$CE$18:$CE$1017,$B267,'Daily Log'!$CF$18:$CF$1017),0)","v":0},{"$f":"IFERROR($E267*SUMIF('Daily Log'!$CH$18:$CH$1017,$B267,'Daily Log'!$CI$18:$CI$1017),0)","v":0},{"$f":"IFERROR($E267*SUMIF('Daily Log'!$CK$18:$CK$1017,$B267,'Daily Log'!$CL$18:$CL$1017),0)","v":0},{"$f":"IFERROR($E267*SUMIF('Daily Log'!$CN$18:$CN$1017,$B267,'Daily Log'!$CO$18:$CO$1017),0)","v":0}]
[null,"09002:Grape Soda",null,"COLD BEVERAGE",1,1,{"$f":"IFERROR($E268*SUMIF('Daily Log'!$B$18:$B$1017,$B268,'Daily Log'!$C$18:$C$1017),0)","v":0},{"$f":"IFERROR($E268*SUMIF('Daily Log'!$E$18:$E$1017,$B268,'Daily Log'!$F$18:$F$1017),0)","v":0},{"$f":"IFERROR($E268*SUMIF('Daily Log'!$H$18:$H$1017,$B268,'Daily Log'!$I$18:$I$1017),0)","v":0},{"$f":"IFERROR($E268*SUMIF('Daily Log'!$K$18:$K$1017,$B268,'Daily Log'!$L$18:$L$1017),0)","v":0},{"$f":"IFERROR($E268*SUMIF('Daily Log'!$N$18:$N$1017,$B268,'Daily Log'!$O$18:$O$1017),0)","v":0},{"$f":"IFERROR($E268*SUMIF('Daily Log'!$Q$18:$Q$1017,$B268,'Daily Log'!$R$18:$R$1017),0)","v":0},{"$f":"IFERROR($E268*SUMIF('Daily Log'!$T$18:$T$1017,$B268,'Daily Log'!$U$18:$U$1017),0)","v":0},{"$f":"IFERROR($E268*SUMIF('Daily Log'!$W$18:$W$1017,$B268,'Daily Log'!$X$18:$X$1017),0)","v":0},{"$f":"IFERROR($E268*SUMIF('Daily Log'!$Z$18:$Z$1017,$B268,'Daily Log'!$AA$18:$AA$1017),0)","v":0},{"$f":"IFERROR($E268*SUMIF('Daily Log'!$AC$18:$AC$1017,$B268,'Daily Log'!$AD$18:$AD$1017),0)","v":0},{"$f":"IFERROR($E268*SUMIF('Daily Log'!$AF$18:$AF$1017,$B268,'Daily Log'!$AG$18:$AG$1017),0)","v":0},{"$f":"IFERROR($E268*SUMIF('Daily Log'!$AI$18:$AI$1017,$B268,'Daily Log'!$AJ$18:$AJ$1017),0)","v":0},{"$f":"IFERROR($E268*SUMIF('Daily Log'!$AL$18:$AL$1017,$B268,'Daily Log'!$AM$18:$AM$1017),0)","v":1},{"$f":"IFERROR($E268*SUMIF('Daily Log'!$AO$18:$AO$1017,$B268,'Daily Log'!$AP$18:$AP$1017),0)","v":0},{"$f":"IFERROR($E268*SUMIF('Daily Log'!$AR$18:$AR$1017,$B268,'Daily Log'!$AS$18:$AS$1017),0)","v":0},{"$f":"IFERROR($E268*SUMIF('Daily Log'!$AU$18:$AU$1017,$B268,'Daily Log'!$AV$18:$AV$1017),0)","v":0},{"$f":"IFERROR($E268*SUMIF('Daily Log'!$AX$18:$AX$1017,$B268,'Daily Log'!$AY$18:$AY$1017),0)","v":0},{"$f":"IFERROR($E268*SUMIF('Daily Log'!$BA$18:$BA$1017,$B268,'Daily Log'!$BB$18:$BB$1017),0)","v":0},{"$f":"IFERROR($E268*SUMIF('Daily Log'!$BD$18:$BD$1017,$B268,'Daily Log'!$BE$18:$BE$1017),0)","v":0},{"$f":"IFERROR($E268*SUMIF('Daily Log'!$BG$18:$BG$1017,$B268,'Daily Log'!$BH$18:$BH$1017),0)","v":0},{"$f":"IFERROR($E268*SUMIF('Daily Log'!$BJ$18:$BJ$1017,$B268,'Daily Log'!$BK$18:$BK$1017),0)","v":0},{"$f":"IFERROR($E268*SUMIF('Daily Log'!$BM$18:$BM$1017,$B268,'Daily Log'!$BN$18:$BN$1017),0)","v":0},{"$f":"IFERROR($E268*SUMIF('Daily Log'!$BP$18:$BP$1017,$B268,'Daily Log'!$BQ$18:$BQ$1017),0)","v":0},{"$f":"IFERROR($E268*SUMIF('Daily Log'!$BS$18:$BS$1017,$B268,'Daily Log'!$BT$18:$BT$1017),0)","v":0},{"$f":"IFERROR($E268*SUMIF('Daily Log'!$BV$18:$BV$1017,$B268,'Daily Log'!$BW$18:$BW$1017),0)","v":0},{"$f":"IFERROR($E268*SUMIF('Daily Log'!$BY$18:$BY$1017,$B268,'Daily Log'!$BZ$18:$BZ$1017),0)","v":0},{"$f":"IFERROR($E268*SUMIF('Daily Log'!$CB$18:$CB$1017,$B268,'Daily Log'!$CC$18:$CC$1017),0)","v":0},{"$f":"IFERROR($E268*SUMIF('Daily Log'!$CE$18:$CE$1017,$B268,'Daily Log'!$CF$18:$CF$1017),0)","v":0},{"$f":"IFERROR($E268*SUMIF('Daily Log'!$CH$18:$CH$1017,$B268,'Daily Log'!$CI$18:$CI$1017),0)","v":0},{"$f":"IFERROR($E268*SUMIF('Daily Log'!$CK$18:$CK$1017,$B268,'Daily Log'!$CL$18:$CL$1017),0)","v":0},{"$f":"IFERROR($E268*SUMIF('Daily Log'!$CN$18:$CN$1017,$B268,'Daily Log'!$CO$18:$CO$1017),0)","v":0}]
[null,"09003:Green Apple Juice",null,"COLD BEVERAGE",1,1,{"$f":"IFERROR($E269*SUMIF('Daily Log'!$B$18:$B$1017,$B269,'Daily Log'!$C$18:$C$1017),0)","v":0},{"$f":"IFERROR($E269*SUMIF('Daily Log'!$E$18:$E$1017,$B269,'Daily Log'!$F$18:$F$1017),0)","v":0},{"$f":"IFERROR($E269*SUMIF('Daily Log'!$H$18:$H$1017,$B269,'Daily Log'!$I$18:$I$1017),0)","v":0},{"$f":"IFERROR($E269*SUMIF('Daily Log'!$K$18:$K$1017,$B269,'Daily Log'!$L$18:$L$1017),0)","v":0},{"$f":"IFERROR($E269*SUMIF('Daily Log'!$N$18:$N$1017,$B269,'Daily Log'!$O$18:$O$1017),0)","v":0},{"$f":"IFERROR($E269*SUMIF('Daily Log'!$Q$18:$Q$1017,$B269,'Daily Log'!$R$18:$R$1017),0)","v":0},{"$f":"IFERROR($E269*SUMIF('Daily Log'!$T$18:$T$1017,$B269,'Daily Log'!$U$18:$U$1017),0)","v":0},{"$f":"IFERROR($E269*SUMIF('Daily Log'!$W$18:$W$1017,$B269,'Daily Log'!$X$18:$X$1017),0)","v":0},{"$f":"IFERROR($E269*SUMIF('Daily Log'!$Z$18:$Z$1017,$B269,'Daily Log'!$AA$18:$AA$1017),0)","v":0},{"$f":"IFERROR($E269*SUMIF('Daily Log'!$AC$18:$AC$1017,$B269,'Daily Log'!$AD$18:$AD$1017),0)","v":1},{"$f":"IFERROR($E269*SUMIF('Daily Log'!$AF$18:$AF$1017,$B269,'Daily Log'!$AG$18:$AG$1017),0)","v":0},{"$f":"IFERROR($E269*SUMIF('Daily Log'!$AI$18:$AI$1017,$B269,'Daily Log'!$AJ$18:$AJ$1017),0)","v":0},{"$f":"IFERROR($E269*SUMIF('Daily Log'!$AL$18:$AL$1017,$B269,'Daily Log'!$AM$18:$AM$1017),0)","v":0},{"$f":"IFERROR($E269*SUMIF('Daily Log'!$AO$18:$AO$1017,$B269,'Daily Log'!$AP$18:$AP$1017),0)","v":0},{"$f":"IFERROR($E269*SUMIF('Daily Log'!$AR$18:$AR$1017,$B269,'Daily Log'!$AS$18:$AS$1017),0)","v":0},{"$f":"IFERROR($E269*SUMIF('Daily Log'!$AU$18:$AU$1017,$B269,'Daily Log'!$AV$18:$AV$1017),0)","v":0},{"$f":"IFERROR($E269*SUMIF('Daily Log'!$AX$18:$AX$1017,$B269,'Daily Log'!$AY$18:$AY$1017),0)","v":0},{"$f":"IFERROR($E269*SUMIF('Daily Log'!$BA$18:$BA$1017,$B269,'Daily Log'!$BB$18:$BB$1017),0)","v":0},{"$f":"IFERROR($E269*SUMIF('Daily Log'!$BD$18:$BD$1017,$B269,'Daily Log'!$BE$18:$BE$1017),0)","v":0},{"$f":"IFERROR($E269*SUMIF('Daily Log'!$BG$18:$BG$1017,$B269,'Daily Log'!$BH$18:$BH$1017),0)","v":0},{"$f":"IFERROR($E269*SUMIF('Daily Log'!$BJ$18:$BJ$1017,$B269,'Daily Log'!$BK$18:$BK$1017),0)","v":0},{"$f":"IFERROR($E269*SUMIF('Daily Log'!$BM$18:$BM$1017,$B269,'Daily Log'!$BN$18:$BN$1017),0)","v":0},{"$f":"IFERROR($E269*SUMIF('Daily Log'!$BP$18:$BP$1017,$B269,'Daily Log'!$BQ$18:$BQ$1017),0)","v":0},{"$f":"IFERROR($E269*SUMIF('Daily Log'!$BS$18:$BS$1017,$B269,'Daily Log'!$BT$18:$BT$1017),0)","v":0},{"$f":"IFERROR($E269*SUMIF('Daily Log'!$BV$18:$BV$1017,$B269,'Daily Log'!$BW$18:$BW$1017),0)","v":0},{"$f":"IFERROR($E269*SUMIF('Daily Log'!$BY$18:$BY$1017,$B269,'Daily Log'!$BZ$18:$BZ$1017),0)","v":0},{"$f":"IFERROR($E269*SUMIF('Daily Log'!$CB$18:$CB$1017,$B269,'Daily Log'!$CC$18:$CC$1017),0)","v":0},{"$f":"IFERROR($E269*SUMIF('Daily Log'!$CE$18:$CE$1017,$B269,'Daily Log'!$CF$18:$CF$1017),0)","v":0},{"$f":"IFERROR($E269*SUMIF('Daily Log'!$CH$18:$CH$1017,$B269,'Daily Log'!$CI$18:$CI$1017),0)","v":0},{"$f":"IFERROR($E269*SUMIF('Daily Log'!$CK$18:$CK$1017,$B269,'Daily Log'!$CL$18:$CL$1017),0)","v":0},{"$f":"IFERROR($E269*SUMIF('Daily Log'!$CN$18:$CN$1017,$B269,'Daily Log'!$CO$18:$CO$1017),0)","v":0}]
[null,"09004:Green Apple Soda",null,"COLD BEVERAGE",1,2,{"$f":"IFERROR($E270*SUMIF('Daily Log'!$B$18:$B$1017,$B270,'Daily Log'!$C$18:$C$1017),0)","v":0},{"$f":"IFERROR($E270*SUMIF('Daily Log'!$E$18:$E$1017,$B270,'Daily Log'!$F$18:$F$1017),0)","v":0},{"$f":"IFERROR($E270*SUMIF('Daily Log'!$H$18:$H$1017,$B270,'Daily Log'!$I$18:$I$1017),0)","v":0},{"$f":"IFERROR($E270*SUMIF('Daily Log'!$K$18:$K$1017,$B270,'Daily Log'!$L$18:$L$1017),0)","v":0},{"$f":"IFERROR($E270*SUMIF('Daily Log'!$N$18:$N$1017,$B270,'Daily Log'!$O$18:$O$1017),0)","v":0},{"$f":"IFERROR($E270*SUMIF('Daily Log'!$Q$18:$Q$1017,$B270,'Daily Log'!$R$18:$R$1017),0)","v":0},{"$f":"IFERROR($E270*SUMIF('Daily Log'!$T$18:$T$1017,$B270,'Daily Log'!$U$18:$U$1017),0)","v":0},{"$f":"IFERROR($E270*SUMIF('Daily Log'!$W$18:$W$1017,$B270,'Daily Log'!$X$18:$X$1017),0)","v":0},{"$f":"IFERROR($E270*SUMIF('Daily Log'!$Z$18:$Z$1017,$B270,'Daily Log'!$AA$18:$AA$1017),0)","v":1},{"$f":"IFERROR($E270*SUMIF('Daily Log'!$AC$18:$AC$1017,$B270,'Daily Log'!$AD$18:$AD$1017),0)","v":0},{"$f":"IFERROR($E270*SUMIF('Daily Log'!$AF$18:$AF$1017,$B270,'Daily Log'!$AG$18:$AG$1017),0)","v":0},{"$f":"IFERROR($E270*SUMIF('Daily Log'!$AI$18:$AI$1017,$B270,'Daily Log'!$AJ$18:$AJ$1017),0)","v":1},{"$f":"IFERROR($E270*SUMIF('Daily Log'!$AL$18:$AL$1017,$B270,'Daily Log'!$AM$18:$AM$1017),0)","v":0},{"$f":"IFERROR($E270*SUMIF('Daily Log'!$AO$18:$AO$1017,$B270,'Daily Log'!$AP$18:$AP$1017),0)","v":0},{"$f":"IFERROR($E270*SUMIF('Daily Log'!$AR$18:$AR$1017,$B270,'Daily Log'!$AS$18:$AS$1017),0)","v":0},{"$f":"IFERROR($E270*SUMIF('Daily Log'!$AU$18:$AU$1017,$B270,'Daily Log'!$AV$18:$AV$1017),0)","v":0},{"$f":"IFERROR($E270*SUMIF('Daily Log'!$AX$18:$AX$1017,$B270,'Daily Log'!$AY$18:$AY$1017),0)","v":0},{"$f":"IFERROR($E270*SUMIF('Daily Log'!$BA$18:$BA$1017,$B270,'Daily Log'!$BB$18:$BB$1017),0)","v":0},{"$f":"IFERROR($E270*SUMIF('Daily Log'!$BD$18:$BD$1017,$B270,'Daily Log'!$BE$18:$BE$1017),0)","v":0},{"$f":"IFERROR($E270*SUMIF('Daily Log'!$BG$18:$BG$1017,$B270,'Daily Log'!$BH$18:$BH$1017),0)","v":0},{"$f":"IFERROR($E270*SUMIF('Daily Log'!$BJ$18:$BJ$1017,$B270,'Daily Log'!$BK$18:$BK$1017),0)","v":0},{"$f":"IFERROR($E270*SUMIF('Daily Log'!$BM$18:$BM$1017,$B270,'Daily Log'!$BN$18:$BN$1017),0)","v":0},{"$f":"IFERROR($E270*SUMIF('Daily Log'!$BP$18:$BP$1017,$B270,'Daily Log'!$BQ$18:$BQ$1017),0)","v":0},{"$f":"IFERROR($E270*SUMIF('Daily Log'!$BS$18:$BS$1017,$B270,'Daily Log'!$BT$18:$BT$1017),0)","v":0},{"$f":"IFERROR($E270*SUMIF('Daily Log'!$BV$18:$BV$1017,$B270,'Daily Log'!$BW$18:$BW$1017),0)","v":0},{"$f":"IFERROR($E270*SUMIF('Daily Log'!$BY$18:$BY$1017,$B270,'Daily Log'!$BZ$18:$BZ$1017),0)","v":0},{"$f":"IFERROR($E270*SUMIF('Daily Log'!$CB$18:$CB$1017,$B270,'Daily Log'!$CC$18:$CC$1017),0)","v":0},{"$f":"IFERROR($E270*SUMIF('Daily Log'!$CE$18:$CE$1017,$B270,'Daily Log'!$CF$18:$CF$1017),0)","v":0},{"$f":"IFERROR($E270*SUMIF('Daily Log'!$CH$18:$CH$1017,$B270,'Daily Log'!$CI$18:$CI$1017),0)","v":0},{"$f":"IFERROR($E270*SUMIF('Daily Log'!$CK$18:$CK$1017,$B270,'Daily Log'!$CL$18:$CL$1017),0)","v":0},{"$f":"IFERROR($E270*SUMIF('Daily Log'!$CN$18:$CN$1017,$B270,'Daily Log'!$CO$18:$CO$1017),0)","v":0}]
[null,"09006:Passion Fruit Soda",null,"COLD BEVERAGE",1,0,{"$f":"IFERROR($E271*SUMIF('Daily Log'!$B$18:$B$1017,$B271,'Daily Log'!$C$18:$C$1017),0)","v":0},{"$f":"IFERROR($E271*SUMIF('Daily Log'!$E$18:$E$1017,$B271,'Daily Log'!$F$18:$F$1017),0)","v":0},{"$f":"IFERROR($E271*SUMIF('Daily Log'!$H$18:$H$1017,$B271,'Daily Log'!$I$18:$I$1017),0)","v":0},{"$f":"IFERROR($E271*SUMIF('Daily Log'!$K$18:$K$1017,$B271,'Daily Log'!$L$18:$L$1017),0)","v":0},{"$f":"IFERROR($E271*SUMIF('Daily Log'!$N$18:$N$1017,$B271,'Daily Log'!$O$18:$O$1017),0)","v":0},{"$f":"IFERROR($E271*SUMIF('Daily Log'!$Q$18:$Q$1017,$B271,'Daily Log'!$R$18:$R$1017),0)","v":0},{"$f":"IFERROR($E271*SUMIF('Daily Log'!$T$18:$T$1017,$B271,'Daily Log'!$U$18:$U$1017),0)","v":0},{"$f":"IFERROR($E271*SUMIF('Daily Log'!$W$18:$W$1017,$B271,'Daily Log'!$X$18:$X$1017),0)","v":0},{"$f":"IFERROR($E271*SUMIF('Daily Log'!$Z$18:$Z$1017,$B271,'Daily Log'!$AA$18:$AA$1017),0)","v":0},{"$f":"IFERROR($E271*SUMIF('Daily Log'!$AC$18:$AC$1017,$B271,'Daily Log'!$AD$18:$AD$1017),0)","v":0},{"$f":"IFERROR($E271*SUMIF('Daily Log'!$AF$18:$AF$1017,$B271,'Daily Log'!$AG$18:$AG$1017),0)","v":0},{"$f":"IFERROR($E271*SUMIF('Daily Log'!$AI$18:$AI$1017,$B271,'Daily Log'!$AJ$18:$AJ$1017),0)","v":0},{"$f":"IFERROR($E271*SUMIF('Daily Log'!$AL$18:$AL$1017,$B271,'Daily Log'!$AM$18:$AM$1017),0)","v":0},{"$f":"IFERROR($E271*SUMIF('Daily Log'!$AO$18:$AO$1017,$B271,'Daily Log'!$AP$18:$AP$1017),0)","v":0},{"$f":"IFERROR($E271*SUMIF('Daily Log'!$AR$18:$AR$1017,$B271,'Daily Log'!$AS$18:$AS$1017),0)","v":0},{"$f":"IFERROR($E271*SUMIF('Daily Log'!$AU$18:$AU$1017,$B271,'Daily Log'!$AV$18:$AV$1017),0)","v":0},{"$f":"IFERROR($E271*SUMIF('Daily Log'!$AX$18:$AX$1017,$B271,'Daily Log'!$AY$18:$AY$1017),0)","v":0},{"$f":"IFERROR($E271*SUMIF('Daily Log'!$BA$18:$BA$1017,$B271,'Daily Log'!$BB$18:$BB$1017),0)","v":0},{"$f":"IFERROR($E271*SUMIF('Daily Log'!$BD$18:$BD$1017,$B271,'Daily Log'!$BE$18:$BE$1017),0)","v":0},{"$f":"IFERROR($E271*SUMIF('Daily Log'!$BG$18:$BG$1017,$B271,'Daily Log'!$BH$18:$BH$1017),0)","v":0},{"$f":"IFERROR($E271*SUMIF('Daily Log'!$BJ$18:$BJ$1017,$B271,'Daily Log'!$BK$18:$BK$1017),0)","v":0},{"$f":"IFERROR($E271*SUMIF('Daily Log'!$BM$18:$BM$1017,$B271,'Daily Log'!$BN$18:$BN$1017),0)","v":0},{"$f":"IFERROR($E271*SUMIF('Daily Log'!$BP$18:$BP$1017,$B271,'Daily Log'!$BQ$18:$BQ$1017),0)","v":0},{"$f":"IFERROR($E271*SUMIF('Daily Log'!$BS$18:$BS$1017,$B271,'Daily Log'!$BT$18:$BT$1017),0)","v":0},{"$f":"IFERROR($E271*SUMIF('Daily Log'!$BV$18:$BV$1017,$B271,'Daily Log'!$BW$18:$BW$1017),0)","v":0},{"$f":"IFERROR($E271*SUMIF('Daily Log'!$BY$18:$BY$1017,$B271,'Daily Log'!$BZ$18:$BZ$1017),0)","v":0},{"$f":"IFERROR($E271*SUMIF('Daily Log'!$CB$18:$CB$1017,$B271,'Daily Log'!$CC$18:$CC$1017),0)","v":0},{"$f":"IFERROR($E271*SUMIF('Daily Log'!$CE$18:$CE$1017,$B271,'Daily Log'!$CF$18:$CF$1017),0)","v":0},{"$f":"IFERROR($E271*SUMIF('Daily Log'!$CH$18:$CH$1017,$B271,'Daily Log'!$CI$18:$CI$1017),0)","v":0},{"$f":"IFERROR($E271*SUMIF('Daily Log'!$CK$18:$CK$1017,$B271,'Daily Log'!$CL$18:$CL$1017),0)","v":0},{"$f":"IFERROR($E271*SUMIF('Daily Log'!$CN$18:$CN$1017,$B271,'Daily Log'!$CO$18:$CO$1017),0)","v":0}]
[null,"09019:Ice Milo",null,"COLD BEVERAGE",1,0,{"$f":"IFERROR($E272*SUMIF('Daily Log'!$B$18:$B$1017,$B272,'Daily Log'!$C$18:$C$1017),0)","v":0},{"$f":"IFERROR($E272*SUMIF('Daily Log'!$E$18:$E$1017,$B272,'Daily Log'!$F$18:$F$1017),0)","v":0},{"$f":"IFERROR($E272*SUMIF('Daily Log'!$H$18:$H$1017,$B272,'Daily Log'!$I$18:$I$1017),0)","v":0},{"$f":"IFERROR($E272*SUMIF('Daily Log'!$K$18:$K$1017,$B272,'Daily Log'!$L$18:$L$1017),0)","v":0},{"$f":"IFERROR($E272*SUMIF('Daily Log'!$N$18:$N$1017,$B272,'Daily Log'!$O$18:$O$1017),0)","v":0},{"$f":"IFERROR($E272*SUMIF('Daily Log'!$Q$18:$Q$1017,$B272,'Daily Log'!$R$18:$R$1017),0)","v":0},{"$f":"IFERROR($E272*SUMIF('Daily Log'!$T$18:$T$1017,$B272,'Daily Log'!$U$18:$U$1017),0)","v":0},{"$f":"IFERROR($E272*SUMIF('Daily Log'!$W$18:$W$1017,$B272,'Daily Log'!$X$18:$X$1017),0)","v":0},{"$f":"IFERROR($E272*SUMIF('Daily Log'!$Z$18:$Z$1017,$B272,'Daily Log'!$AA$18:$AA$1017),0)","v":0},{"$f":"IFERROR($E272*SUMIF('Daily Log'!$AC$18:$AC$1017,$B272,'Daily Log'!$AD$18:$AD$1017),0)","v":0},{"$f":"IFERROR($E272*SUMIF('Daily Log'!$AF$18:$AF$1017,$B272,'Daily Log'!$AG$18:$AG$1017),0)","v":0},{"$f":"IFERROR($E272*SUMIF('Daily Log'!$AI$18:$AI$1017,$B272,'Daily Log'!$AJ$18:$AJ$1017),0)","v":0},{"$f":"IFERROR($E272*SUMIF('Daily Log'!$AL$18:$AL$1017,$B272,'Daily Log'!$AM$18:$AM$1017),0)","v":0},{"$f":"IFERROR($E272*SUMIF('Daily Log'!$AO$18:$AO$1017,$B272,'Daily Log'!$AP$18:$AP$1017),0)","v":0},{"$f":"IFERROR($E272*SUMIF('Daily Log'!$AR$18:$AR$1017,$B272,'Daily Log'!$AS$18:$AS$1017),0)","v":0},{"$f":"IFERROR($E272*SUMIF('Daily Log'!$AU$18:$AU$1017,$B272,'Daily Log'!$AV$18:$AV$1017),0)","v":0},{"$f":"IFERROR($E272*SUMIF('Daily Log'!$AX$18:$AX$1017,$B272,'Daily Log'!$AY$18:$AY$1017),0)","v":0},{"$f":"IFERROR($E272*SUMIF('Daily Log'!$BA$18:$BA$1017,$B272,'Daily Log'!$BB$18:$BB$1017),0)","v":0},{"$f":"IFERROR($E272*SUMIF('Daily Log'!$BD$18:$BD$1017,$B272,'Daily Log'!$BE$18:$BE$1017),0)","v":0},{"$f":"IFERROR($E272*SUMIF('Daily Log'!$BG$18:$BG$1017,$B272,'Daily Log'!$BH$18:$BH$1017),0)","v":0},{"$f":"IFERROR($E272*SUMIF('Daily Log'!$BJ$18:$BJ$1017,$B272,'Daily Log'!$BK$18:$BK$1017),0)","v":0},{"$f":"IFERROR($E272*SUMIF('Daily Log'!$BM$18:$BM$1017,$B272,'Daily Log'!$BN$18:$BN$1017),0)","v":0},{"$f":"IFERROR($E272*SUMIF('Daily Log'!$BP$18:$BP$1017,$B272,'Daily Log'!$BQ$18:$BQ$1017),0)","v":0},{"$f":"IFERROR($E272*SUMIF('Daily Log'!$BS$18:$BS$1017,$B272,'Daily Log'!$BT$18:$BT$1017),0)","v":0},{"$f":"IFERROR($E272*SUMIF('Daily Log'!$BV$18:$BV$1017,$B272,'Daily Log'!$BW$18:$BW$1017),0)","v":0},{"$f":"IFERROR($E272*SUMIF('Daily Log'!$BY$18:$BY$1017,$B272,'Daily Log'!$BZ$18:$BZ$1017),0)","v":0},{"$f":"IFERROR($E272*SUMIF('Daily Log'!$CB$18:$CB$1017,$B272,'Daily Log'!$CC$18:$CC$1017),0)","v":0},{"$f":"IFERROR($E272*SUMIF('Daily Log'!$CE$18:$CE$1017,$B272,'Daily Log'!$CF$18:$CF$1017),0)","v":0},{"$f":"IFERROR($E272*SUMIF('Daily Log'!$CH$18:$CH$1017,$B272,'Daily Log'!$CI$18:$CI$1017),0)","v":0},{"$f":"IFERROR($E272*SUMIF('Daily Log'!$CK$18:$CK$1017,$B272,'Daily Log'!$CL$18:$CL$1017),0)","v":0},{"$f":"IFERROR($E272*SUMIF('Daily Log'!$CN$18:$CN$1017,$B272,'Daily Log'!$CO$18:$CO$1017),0)","v":0}]
[null,"09020:Hot Milo",null,"HOT BEVERAGE",1,1,{"$f":"IFERROR($E273*SUMIF('Daily Log'!$B$18:$B$1017,$B273,'Daily Log'!$C$18:$C$1017),0)","v":0},{"$f":"IFERROR($E273*SUMIF('Daily Log'!$E$18:$E$1017,$B273,'Daily Log'!$F$18:$F$1017),0)","v":0},{"$f":"IFERROR($E273*SUMIF('Daily Log'!$H$18:$H$1017,$B273,'Daily Log'!$I$18:$I$1017),0)","v":0},{"$f":"IFERROR($E273*SUMIF('Daily Log'!$K$18:$K$1017,$B273,'Daily Log'!$L$18:$L$1017),0)","v":0},{"$f":"IFERROR($E273*SUMIF('Daily Log'!$N$18:$N$1017,$B273,'Daily Log'!$O$18:$O$1017),0)","v":0},{"$f":"IFERROR($E273*SUMIF('Daily Log'!$Q$18:$Q$1017,$B273,'Daily Log'!$R$18:$R$1017),0)","v":0},{"$f":"IFERROR($E273*SUMIF('Daily Log'!$T$18:$T$1017,$B273,'Daily Log'!$U$18:$U$1017),0)","v":0},{"$f":"IFERROR($E273*SUMIF('Daily Log'!$W$18:$W$1017,$B273,'Daily Log'!$X$18:$X$1017),0)","v":0},{"$f":"IFERROR($E273*SUMIF('Daily Log'!$Z$18:$Z$1017,$B273,'Daily Log'!$AA$18:$AA$1017),0)","v":0},{"$f":"IFERROR($E273*SUMIF('Daily Log'!$AC$18:$AC$1017,$B273,'Daily Log'!$AD$18:$AD$1017),0)","v":1},{"$f":"IFERROR($E273*SUMIF('Daily Log'!$AF$18:$AF$1017,$B273,'Daily Log'!$AG$18:$AG$1017),0)","v":0},{"$f":"IFERROR($E273*SUMIF('Daily Log'!$AI$18:$AI$1017,$B273,'Daily Log'!$AJ$18:$AJ$1017),0)","v":0},{"$f":"IFERROR($E273*SUMIF('Daily Log'!$AL$18:$AL$1017,$B273,'Daily Log'!$AM$18:$AM$1017),0)","v":0},{"$f":"IFERROR($E273*SUMIF('Daily Log'!$AO$18:$AO$1017,$B273,'Daily Log'!$AP$18:$AP$1017),0)","v":0},{"$f":"IFERROR($E273*SUMIF('Daily Log'!$AR$18:$AR$1017,$B273,'Daily Log'!$AS$18:$AS$1017),0)","v":0},{"$f":"IFERROR($E273*SUMIF('Daily Log'!$AU$18:$AU$1017,$B273,'Daily Log'!$AV$18:$AV$1017),0)","v":0},{"$f":"IFERROR($E273*SUMIF('Daily Log'!$AX$18:$AX$1017,$B273,'Daily Log'!$AY$18:$AY$1017),0)","v":0},{"$f":"IFERROR($E273*SUMIF('Daily Log'!$BA$18:$BA$1017,$B273,'Daily Log'!$BB$18:$BB$1017),0)","v":0},{"$f":"IFERROR($E273*SUMIF('Daily Log'!$BD$18:$BD$1017,$B273,'Daily Log'!$BE$18:$BE$1017),0)","v":0},{"$f":"IFERROR($E273*SUMIF('Daily Log'!$BG$18:$BG$1017,$B273,'Daily Log'!$BH$18:$BH$1017),0)","v":0},{"$f":"IFERROR($E273*SUMIF('Daily Log'!$BJ$18:$BJ$1017,$B273,'Daily Log'!$BK$18:$BK$1017),0)","v":0},{"$f":"IFERROR($E273*SUMIF('Daily Log'!$BM$18:$BM$1017,$B273,'Daily Log'!$BN$18:$BN$1017),0)","v":0},{"$f":"IFERROR($E273*SUMIF('Daily Log'!$BP$18:$BP$1017,$B273,'Daily Log'!$BQ$18:$BQ$1017),0)","v":0},{"$f":"IFERROR($E273*SUMIF('Daily Log'!$BS$18:$BS$1017,$B273,'Daily Log'!$BT$18:$BT$1017),0)","v":0},{"$f":"IFERROR($E273*SUMIF('Daily Log'!$BV$18:$BV$1017,$B273,'Daily Log'!$BW$18:$BW$1017),0)","v":0},{"$f":"IFERROR($E273*SUMIF('Daily Log'!$BY$18:$BY$1017,$B273,'Daily Log'!$BZ$18:$BZ$1017),0)","v":0},{"$f":"IFERROR($E273*SUMIF('Daily Log'!$CB$18:$CB$1017,$B273,'Daily Log'!$CC$18:$CC$1017),0)","v":0},{"$f":"IFERROR($E273*SUMIF('Daily Log'!$CE$18:$CE$1017,$B273,'Daily Log'!$CF$18:$CF$1017),0)","v":0},{"$f":"IFERROR($E273*SUMIF('Daily Log'!$CH$18:$CH$1017,$B273,'Daily Log'!$CI$18:$CI$1017),0)","v":0},{"$f":"IFERROR($E273*SUMIF('Daily Log'!$CK$18:$CK$1017,$B273,'Daily Log'!$CL$18:$CL$1017),0)","v":0},{"$f":"IFERROR($E273*SUMIF('Daily Log'!$CN$18:$CN$1017,$B273,'Daily Log'!$CO$18:$CO$1017),0)","v":0}]
[null,"09021:Ice Nescafe",null,"COLD BEVERAGE",1,2,{"$f":"IFERROR($E274*SUMIF('Daily Log'!$B$18:$B$1017,$B274,'Daily Log'!$C$18:$C$1017),0)","v":0},{"$f":"IFERROR($E274*SUMIF('Daily Log'!$E$18:$E$1017,$B274,'Daily Log'!$F$18:$F$1017),0)","v":0},{"$f":"IFERROR($E274*SUMIF('Daily Log'!$H$18:$H$1017,$B274,'Daily Log'!$I$18:$I$1017),0)","v":0},{"$f":"IFERROR($E274*SUMIF('Daily Log'!$K$18:$K$1017,$B274,'Daily Log'!$L$18:$L$1017),0)","v":0},{"$f":"IFERROR($E274*SUMIF('Daily Log'!$N$18:$N$1017,$B274,'Daily Log'!$O$18:$O$1017),0)","v":0},{"$f":"IFERROR($E274*SUMIF('Daily Log'!$Q$18:$Q$1017,$B274,'Daily Log'!$R$18:$R$1017),0)","v":0},{"$f":"IFERROR($E274*SUMIF('Daily Log'!$T$18:$T$1017,$B274,'Daily Log'!$U$18:$U$1017),0)","v":0},{"$f":"IFERROR($E274*SUMIF('Daily Log'!$W$18:$W$1017,$B274,'Daily Log'!$X$18:$X$1017),0)","v":0},{"$f":"IFERROR($E274*SUMIF('Daily Log'!$Z$18:$Z$1017,$B274,'Daily Log'!$AA$18:$AA$1017),0)","v":0},{"$f":"IFERROR($E274*SUMIF('Daily Log'!$AC$18:$AC$1017,$B274,'Daily Log'!$AD$18:$AD$1017),0)","v":1},{"$f":"IFERROR($E274*SUMIF('Daily Log'!$AF$18:$AF$1017,$B274,'Daily Log'!$AG$18:$AG$1017),0)","v":0},{"$f":"IFERROR($E274*SUMIF('Daily Log'!$AI$18:$AI$1017,$B274,'Daily Log'!$AJ$18:$AJ$1017),0)","v":1},{"$f":"IFERROR($E274*SUMIF('Daily Log'!$AL$18:$AL$1017,$B274,'Daily Log'!$AM$18:$AM$1017),0)","v":0},{"$f":"IFERROR($E274*SUMIF('Daily Log'!$AO$18:$AO$1017,$B274,'Daily Log'!$AP$18:$AP$1017),0)","v":0},{"$f":"IFERROR($E274*SUMIF('Daily Log'!$AR$18:$AR$1017,$B274,'Daily Log'!$AS$18:$AS$1017),0)","v":0},{"$f":"IFERROR($E274*SUMIF('Daily Log'!$AU$18:$AU$1017,$B274,'Daily Log'!$AV$18:$AV$1017),0)","v":0},{"$f":"IFERROR($E274*SUMIF('Daily Log'!$AX$18:$AX$1017,$B274,'Daily Log'!$AY$18:$AY$1017),0)","v":0},{"$f":"IFERROR($E274*SUMIF('Daily Log'!$BA$18:$BA$1017,$B274,'Daily Log'!$BB$18:$BB$1017),0)","v":0},{"$f":"IFERROR($E274*SUMIF('Daily Log'!$BD$18:$BD$1017,$B274,'Daily Log'!$BE$18:$BE$1017),0)","v":0},{"$f":"IFERROR($E274*SUMIF('Daily Log'!$BG$18:$BG$1017,$B274,'Daily Log'!$BH$18:$BH$1017),0)","v":0},{"$f":"IFERROR($E274*SUMIF('Daily Log'!$BJ$18:$BJ$1017,$B274,'Daily Log'!$BK$18:$BK$1017),0)","v":0},{"$f":"IFERROR($E274*SUMIF('Daily Log'!$BM$18:$BM$1017,$B274,'Daily Log'!$BN$18:$BN$1017),0)","v":0},{"$f":"IFERROR($E274*SUMIF('Daily Log'!$BP$18:$BP$1017,$B274,'Daily Log'!$BQ$18:$BQ$1017),0)","v":0},{"$f":"IFERROR($E274*SUMIF('Daily Log'!$BS$18:$BS$1017,$B274,'Daily Log'!$BT$18:$BT$1017),0)","v":0},{"$f":"IFERROR($E274*SUMIF('Daily Log'!$BV$18:$BV$1017,$B274,'Daily Log'!$BW$18:$BW$1017),0)","v":0},{"$f":"IFERROR($E274*SUMIF('Daily Log'!$BY$18:$BY$1017,$B274,'Daily Log'!$BZ$18:$BZ$1017),0)","v":0},{"$f":"IFERROR($E274*SUMIF('Daily Log'!$CB$18:$CB$1017,$B274,'Daily Log'!$CC$18:$CC$1017),0)","v":0},{"$f":"IFERROR($E274*SUMIF('Daily Log'!$CE$18:$CE$1017,$B274,'Daily Log'!$CF$18:$CF$1017),0)","v":0},{"$f":"IFERROR($E274*SUMIF('Daily Log'!$CH$18:$CH$1017,$B274,'Daily Log'!$CI$18:$CI$1017),0)","v":0},{"$f":"IFERROR($E274*SUMIF('Daily Log'!$CK$18:$CK$1017,$B274,'Daily Log'!$CL$18:$CL$1017),0)","v":0},{"$f":"IFERROR($E274*SUMIF('Daily Log'!$CN$18:$CN$1017,$B274,'Daily Log'!$CO$18:$CO$1017),0)","v":0}]
[null,"09022:Hot Nescafe",null,"HOT BEVERAGE",1,0,{"$f":"IFERROR($E275*SUMIF('Daily Log'!$B$18:$B$1017,$B275,'Daily Log'!$C$18:$C$1017),0)","v":0},{"$f":"IFERROR($E275*SUMIF('Daily Log'!$E$18:$E$1017,$B275,'Daily Log'!$F$18:$F$1017),0)","v":0},{"$f":"IFERROR($E275*SUMIF('Daily Log'!$H$18:$H$1017,$B275,'Daily Log'!$I$18:$I$1017),0)","v":0},{"$f":"IFERROR($E275*SUMIF('Daily Log'!$K$18:$K$1017,$B275,'Daily Log'!$L$18:$L$1017),0)","v":0},{"$f":"IFERROR($E275*SUMIF('Daily Log'!$N$18:$N$1017,$B275,'Daily Log'!$O$18:$O$1017),0)","v":0},{"$f":"IFERROR($E275*SUMIF('Daily Log'!$Q$18:$Q$1017,$B275,'Daily Log'!$R$18:$R$1017),0)","v":0},{"$f":"IFERROR($E275*SUMIF('Daily Log'!$T$18:$T$1017,$B275,'Daily Log'!$U$18:$U$1017),0)","v":0},{"$f":"IFERROR($E275*SUMIF('Daily Log'!$W$18:$W$1017,$B275,'Daily Log'!$X$18:$X$1017),0)","v":0},{"$f":"IFERROR($E275*SUMIF('Daily Log'!$Z$18:$Z$1017,$B275,'Daily Log'!$AA$18:$AA$1017),0)","v":0},{"$f":"IFERROR($E275*SUMIF('Daily Log'!$AC$18:$AC$1017,$B275,'Daily Log'!$AD$18:$AD$1017),0)","v":0},{"$f":"IFERROR($E275*SUMIF('Daily Log'!$AF$18:$AF$1017,$B275,'Daily Log'!$AG$18:$AG$1017),0)","v":0},{"$f":"IFERROR($E275*SUMIF('Daily Log'!$AI$18:$AI$1017,$B275,'Daily Log'!$AJ$18:$AJ$1017),0)","v":0},{"$f":"IFERROR($E275*SUMIF('Daily Log'!$AL$18:$AL$1017,$B275,'Daily Log'!$AM$18:$AM$1017),0)","v":0},{"$f":"IFERROR($E275*SUMIF('Daily Log'!$AO$18:$AO$1017,$B275,'Daily Log'!$AP$18:$AP$1017),0)","v":0},{"$f":"IFERROR($E275*SUMIF('Daily Log'!$AR$18:$AR$1017,$B275,'Daily Log'!$AS$18:$AS$1017),0)","v":0},{"$f":"IFERROR($E275*SUMIF('Daily Log'!$AU$18:$AU$1017,$B275,'Daily Log'!$AV$18:$AV$1017),0)","v":0},{"$f":"IFERROR($E275*SUMIF('Daily Log'!$AX$18:$AX$1017,$B275,'Daily Log'!$AY$18:$AY$1017),0)","v":0},{"$f":"IFERROR($E275*SUMIF('Daily Log'!$BA$18:$BA$1017,$B275,'Daily Log'!$BB$18:$BB$1017),0)","v":0},{"$f":"IFERROR($E275*SUMIF('Daily Log'!$BD$18:$BD$1017,$B275,'Daily Log'!$BE$18:$BE$1017),0)","v":0},{"$f":"IFERROR($E275*SUMIF('Daily Log'!$BG$18:$BG$1017,$B275,'Daily Log'!$BH$18:$BH$1017),0)","v":0},{"$f":"IFERROR($E275*SUMIF('Daily Log'!$BJ$18:$BJ$1017,$B275,'Daily Log'!$BK$18:$BK$1017),0)","v":0},{"$f":"IFERROR($E275*SUMIF('Daily Log'!$BM$18:$BM$1017,$B275,'Daily Log'!$BN$18:$BN$1017),0)","v":0},{"$f":"IFERROR($E275*SUMIF('Daily Log'!$BP$18:$BP$1017,$B275,'Daily Log'!$BQ$18:$BQ$1017),0)","v":0},{"$f":"IFERROR($E275*SUMIF('Daily Log'!$BS$18:$BS$1017,$B275,'Daily Log'!$BT$18:$BT$1017),0)","v":0},{"$f":"IFERROR($E275*SUMIF('Daily Log'!$BV$18:$BV$1017,$B275,'Daily Log'!$BW$18:$BW$1017),0)","v":0},{"$f":"IFERROR($E275*SUMIF('Daily Log'!$BY$18:$BY$1017,$B275,'Daily Log'!$BZ$18:$BZ$1017),0)","v":0},{"$f":"IFERROR($E275*SUMIF('Daily Log'!$CB$18:$CB$1017,$B275,'Daily Log'!$CC$18:$CC$1017),0)","v":0},{"$f":"IFERROR($E275*SUMIF('Daily Log'!$CE$18:$CE$1017,$B275,'Daily Log'!$CF$18:$CF$1017),0)","v":0},{"$f":"IFERROR($E275*SUMIF('Daily Log'!$CH$18:$CH$1017,$B275,'Daily Log'!$CI$18:$CI$1017),0)","v":0},{"$f":"IFERROR($E275*SUMIF('Daily Log'!$CK$18:$CK$1017,$B275,'Daily Log'!$CL$18:$CL$1017),0)","v":0},{"$f":"IFERROR($E275*SUMIF('Daily Log'!$CN$18:$CN$1017,$B275,'Daily Log'!$CO$18:$CO$1017),0)","v":0}]
[null,"09023:Ice Tea",null,"COLD BEVERAGE",1,0,{"$f":"IFERROR($E276*SUMIF('Daily Log'!$B$18:$B$1017,$B276,'Daily Log'!$C$18:$C$1017),0)","v":0},{"$f":"IFERROR($E276*SUMIF('Daily Log'!$E$18:$E$1017,$B276,'Daily Log'!$F$18:$F$1017),0)","v":0},{"$f":"IFERROR($E276*SUMIF('Daily Log'!$H$18:$H$1017,$B276,'Daily Log'!$I$18:$I$1017),0)","v":0},{"$f":"IFERROR($E276*SUMIF('Daily Log'!$K$18:$K$1017,$B276,'Daily Log'!$L$18:$L$1017),0)","v":0},{"$f":"IFERROR($E276*SUMIF('Daily Log'!$N$18:$N$1017,$B276,'Daily Log'!$O$18:$O$1017),0)","v":0},{"$f":"IFERROR($E276*SUMIF('Daily Log'!$Q$18:$Q$1017,$B276,'Daily Log'!$R$18:$R$1017),0)","v":0},{"$f":"IFERROR($E276*SUMIF('Daily Log'!$T$18:$T$1017,$B276,'Daily Log'!$U$18:$U$1017),0)","v":0},{"$f":"IFERROR($E276*SUMIF('Daily Log'!$W$18:$W$1017,$B276,'Daily Log'!$X$18:$X$1017),0)","v":0},{"$f":"IFERROR($E276*SUMIF('Daily Log'!$Z$18:$Z$1017,$B276,'Daily Log'!$AA$18:$AA$1017),0)","v":0},{"$f":"IFERROR($E276*SUMIF('Daily Log'!$AC$18:$AC$1017,$B276,'Daily Log'!$AD$18:$AD$1017),0)","v":0},{"$f":"IFERROR($E276*SUMIF('Daily Log'!$AF$18:$AF$1017,$B276,'Daily Log'!$AG$18:$AG$1017),0)","v":0},{"$f":"IFERROR($E276*SUMIF('Daily Log'!$AI$18:$AI$1017,$B276,'Daily Log'!$AJ$18:$AJ$1017),0)","v":0},{"$f":"IFERROR($E276*SUMIF('Daily Log'!$AL$18:$AL$1017,$B276,'Daily Log'!$AM$18:$AM$1017),0)","v":0},{"$f":"IFERROR($E276*SUMIF('Daily Log'!$AO$18:$AO$1017,$B276,'Daily Log'!$AP$18:$AP$1017),0)","v":0},{"$f":"IFERROR($E276*SUMIF('Daily Log'!$AR$18:$AR$1017,$B276,'Daily Log'!$AS$18:$AS$1017),0)","v":0},{"$f":"IFERROR($E276*SUMIF('Daily Log'!$AU$18:$AU$1017,$B276,'Daily Log'!$AV$18:$AV$1017),0)","v":0},{"$f":"IFERROR($E276*SUMIF('Daily Log'!$AX$18:$AX$1017,$B276,'Daily Log'!$AY$18:$AY$1017),0)","v":0},{"$f":"IFERROR($E276*SUMIF('Daily Log'!$BA$18:$BA$1017,$B276,'Daily Log'!$BB$18:$BB$1017),0)","v":0},{"$f":"IFERROR($E276*SUMIF('Daily Log'!$BD$18:$BD$1017,$B276,'Daily Log'!$BE$18:$BE$1017),0)","v":0},{"$f":"IFERROR($E276*SUMIF('Daily Log'!$BG$18:$BG$1017,$B276,'Daily Log'!$BH$18:$BH$1017),0)","v":0},{"$f":"IFERROR($E276*SUMIF('Daily Log'!$BJ$18:$BJ$1017,$B276,'Daily Log'!$BK$18:$BK$1017),0)","v":0},{"$f":"IFERROR($E276*SUMIF('Daily Log'!$BM$18:$BM$1017,$B276,'Daily Log'!$BN$18:$BN$1017),0)","v":0},{"$f":"IFERROR($E276*SUMIF('Daily Log'!$BP$18:$BP$1017,$B276,'Daily Log'!$BQ$18:$BQ$1017),0)","v":0},{"$f":"IFERROR($E276*SUMIF('Daily Log'!$BS$18:$BS$1017,$B276,'Daily Log'!$BT$18:$BT$1017),0)","v":0},{"$f":"IFERROR($E276*SUMIF('Daily Log'!$BV$18:$BV$1017,$B276,'Daily Log'!$BW$18:$BW$1017),0)","v":0},{"$f":"IFERROR($E276*SUMIF('Daily Log'!$BY$18:$BY$1017,$B276,'Daily Log'!$BZ$18:$BZ$1017),0)","v":0},{"$f":"IFERROR($E276*SUMIF('Daily Log'!$CB$18:$CB$1017,$B276,'Daily Log'!$CC$18:$CC$1017),0)","v":0},{"$f":"IFERROR($E276*SUMIF('Daily Log'!$CE$18:$CE$1017,$B276,'Daily Log'!$CF$18:$CF$1017),0)","v":0},{"$f":"IFERROR($E276*SUMIF('Daily Log'!$CH$18:$CH$1017,$B276,'Daily Log'!$CI$18:$CI$1017),0)","v":0},{"$f":"IFERROR($E276*SUMIF('Daily Log'!$CK$18:$CK$1017,$B276,'Daily Log'!$CL$18:$CL$1017),0)","v":0},{"$f":"IFERROR($E276*SUMIF('Daily Log'!$CN$18:$CN$1017,$B276,'Daily Log'!$CO$18:$CO$1017),0)","v":0}]
[null,"09025:Ice Lemon Tea",null,"COLD BEVERAGE",1,5,{"$f":"IFERROR($E277*SUMIF('Daily Log'!$B$18:$B$1017,$B277,'Daily Log'!$C$18:$C$1017),0)","v":0},{"$f":"IFERROR($E277*SUMIF('Daily Log'!$E$18:$E$1017,$B277,'Daily Log'!$F$18:$F$1017),0)","v":0},{"$f":"IFERROR($E277*SUMIF('Daily Log'!$H$18:$H$1017,$B277,'Daily Log'!$I$18:$I$1017),0)","v":0},{"$f":"IFERROR($E277*SUMIF('Daily Log'!$K$18:$K$1017,$B277,'Daily Log'!$L$18:$L$1017),0)","v":0},{"$f":"IFERROR($E277*SUMIF('Daily Log'!$N$18:$N$1017,$B277,'Daily Log'!$O$18:$O$1017),0)","v":0},{"$f":"IFERROR($E277*SUMIF('Daily Log'!$Q$18:$Q$1017,$B277,'Daily Log'!$R$18:$R$1017),0)","v":0},{"$f":"IFERROR($E277*SUMIF('Daily Log'!$T$18:$T$1017,$B277,'Daily Log'!$U$18:$U$1017),0)","v":1},{"$f":"IFERROR($E277*SUMIF('Daily Log'!$W$18:$W$1017,$B277,'Daily Log'!$X$18:$X$1017),0)","v":2},{"$f":"IFERROR($E277*SUMIF('Daily Log'!$Z$18:$Z$1017,$B277,'Daily Log'!$AA$18:$AA$1017),0)","v":1},{"$f":"IFERROR($E277*SUMIF('Daily Log'!$AC$18:$AC$1017,$B277,'Daily Log'!$AD$18:$AD$1017),0)","v":1},{"$f":"IFERROR($E277*SUMIF('Daily Log'!$AF$18:$AF$1017,$B277,'Daily Log'!$AG$18:$AG$1017),0)","v":0},{"$f":"IFERROR($E277*SUMIF('Daily Log'!$AI$18:$AI$1017,$B277,'Daily Log'!$AJ$18:$AJ$1017),0)","v":0},{"$f":"IFERROR($E277*SUMIF('Daily Log'!$AL$18:$AL$1017,$B277,'Daily Log'!$AM$18:$AM$1017),0)","v":0},{"$f":"IFERROR($E277*SUMIF('Daily Log'!$AO$18:$AO$1017,$B277,'Daily Log'!$AP$18:$AP$1017),0)","v":0},{"$f":"IFERROR($E277*SUMIF('Daily Log'!$AR$18:$AR$1017,$B277,'Daily Log'!$AS$18:$AS$1017),0)","v":0},{"$f":"IFERROR($E277*SUMIF('Daily Log'!$AU$18:$AU$1017,$B277,'Daily Log'!$AV$18:$AV$1017),0)","v":0},{"$f":"IFERROR($E277*SUMIF('Daily Log'!$AX$18:$AX$1017,$B277,'Daily Log'!$AY$18:$AY$1017),0)","v":0},{"$f":"IFERROR($E277*SUMIF('Daily Log'!$BA$18:$BA$1017,$B277,'Daily Log'!$BB$18:$BB$1017),0)","v":0},{"$f":"IFERROR($E277*SUMIF('Daily Log'!$BD$18:$BD$1017,$B277,'Daily Log'!$BE$18:$BE$1017),0)","v":0},{"$f":"IFERROR($E277*SUMIF('Daily Log'!$BG$18:$BG$1017,$B277,'Daily Log'!$BH$18:$BH$1017),0)","v":0},{"$f":"IFERROR($E277*SUMIF('Daily Log'!$BJ$18:$BJ$1017,$B277,'Daily Log'!$BK$18:$BK$1017),0)","v":0},{"$f":"IFERROR($E277*SUMIF('Daily Log'!$BM$18:$BM$1017,$B277,'Daily Log'!$BN$18:$BN$1017),0)","v":0},{"$f":"IFERROR($E277*SUMIF('Daily Log'!$BP$18:$BP$1017,$B277,'Daily Log'!$BQ$18:$BQ$1017),0)","v":0},{"$f":"IFERROR($E277*SUMIF('Daily Log'!$BS$18:$BS$1017,$B277,'Daily Log'!$BT$18:$BT$1017),0)","v":0},{"$f":"IFERROR($E277*SUMIF('Daily Log'!$BV$18:$BV$1017,$B277,'Daily Log'!$BW$18:$BW$1017),0)","v":0},{"$f":"IFERROR($E277*SUMIF('Daily Log'!$BY$18:$BY$1017,$B277,'Daily Log'!$BZ$18:$BZ$1017),0)","v":0},{"$f":"IFERROR($E277*SUMIF('Daily Log'!$CB$18:$CB$1017,$B277,'Daily Log'!$CC$18:$CC$1017),0)","v":0},{"$f":"IFERROR($E277*SUMIF('Daily Log'!$CE$18:$CE$1017,$B277,'Daily Log'!$CF$18:$CF$1017),0)","v":0},{"$f":"IFERROR($E277*SUMIF('Daily Log'!$CH$18:$CH$1017,$B277,'Daily Log'!$CI$18:$CI$1017),0)","v":0},{"$f":"IFERROR($E277*SUMIF('Daily Log'!$CK$18:$CK$1017,$B277,'Daily Log'!$CL$18:$CL$1017),0)","v":0},{"$f":"IFERROR($E277*SUMIF('Daily Log'!$CN$18:$CN$1017,$B277,'Daily Log'!$CO$18:$CO$1017),0)","v":0}]
[null,"09026:Hot Lemon Tea",null,"HOT BEVERAGE",1,0,{"$f":"IFERROR($E278*SUMIF('Daily Log'!$B$18:$B$1017,$B278,'Daily Log'!$C$18:$C$1017),0)","v":0},{"$f":"IFERROR($E278*SUMIF('Daily Log'!$E$18:$E$1017,$B278,'Daily Log'!$F$18:$F$1017),0)","v":0},{"$f":"IFERROR($E278*SUMIF('Daily Log'!$H$18:$H$1017,$B278,'Daily Log'!$I$18:$I$1017),0)","v":0},{"$f":"IFERROR($E278*SUMIF('Daily Log'!$K$18:$K$1017,$B278,'Daily Log'!$L$18:$L$1017),0)","v":0},{"$f":"IFERROR($E278*SUMIF('Daily Log'!$N$18:$N$1017,$B278,'Daily Log'!$O$18:$O$1017),0)","v":0},{"$f":"IFERROR($E278*SUMIF('Daily Log'!$Q$18:$Q$1017,$B278,'Daily Log'!$R$18:$R$1017),0)","v":0},{"$f":"IFERROR($E278*SUMIF('Daily Log'!$T$18:$T$1017,$B278,'Daily Log'!$U$18:$U$1017),0)","v":0},{"$f":"IFERROR($E278*SUMIF('Daily Log'!$W$18:$W$1017,$B278,'Daily Log'!$X$18:$X$1017),0)","v":0},{"$f":"IFERROR($E278*SUMIF('Daily Log'!$Z$18:$Z$1017,$B278,'Daily Log'!$AA$18:$AA$1017),0)","v":0},{"$f":"IFERROR($E278*SUMIF('Daily Log'!$AC$18:$AC$1017,$B278,'Daily Log'!$AD$18:$AD$1017),0)","v":0},{"$f":"IFERROR($E278*SUMIF('Daily Log'!$AF$18:$AF$1017,$B278,'Daily Log'!$AG$18:$AG$1017),0)","v":0},{"$f":"IFERROR($E278*SUMIF('Daily Log'!$AI$18:$AI$1017,$B278,'Daily Log'!$AJ$18:$AJ$1017),0)","v":0},{"$f":"IFERROR($E278*SUMIF('Daily Log'!$AL$18:$AL$1017,$B278,'Daily Log'!$AM$18:$AM$1017),0)","v":0},{"$f":"IFERROR($E278*SUMIF('Daily Log'!$AO$18:$AO$1017,$B278,'Daily Log'!$AP$18:$AP$1017),0)","v":0},{"$f":"IFERROR($E278*SUMIF('Daily Log'!$AR$18:$AR$1017,$B278,'Daily Log'!$AS$18:$AS$1017),0)","v":0},{"$f":"IFERROR($E278*SUMIF('Daily Log'!$AU$18:$AU$1017,$B278,'Daily Log'!$AV$18:$AV$1017),0)","v":0},{"$f":"IFERROR($E278*SUMIF('Daily Log'!$AX$18:$AX$1017,$B278,'Daily Log'!$AY$18:$AY$1017),0)","v":0},{"$f":"IFERROR($E278*SUMIF('Daily Log'!$BA$18:$BA$1017,$B278,'Daily Log'!$BB$18:$BB$1017),0)","v":0},{"$f":"IFERROR($E278*SUMIF('Daily Log'!$BD$18:$BD$1017,$B278,'Daily Log'!$BE$18:$BE$1017),0)","v":0},{"$f":"IFERROR($E278*SUMIF('Daily Log'!$BG$18:$BG$1017,$B278,'Daily Log'!$BH$18:$BH$1017),0)","v":0},{"$f":"IFERROR($E278*SUMIF('Daily Log'!$BJ$18:$BJ$1017,$B278,'Daily Log'!$BK$18:$BK$1017),0)","v":0},{"$f":"IFERROR($E278*SUMIF('Daily Log'!$BM$18:$BM$1017,$B278,'Daily Log'!$BN$18:$BN$1017),0)","v":0},{"$f":"IFERROR($E278*SUMIF('Daily Log'!$BP$18:$BP$1017,$B278,'Daily Log'!$BQ$18:$BQ$1017),0)","v":0},{"$f":"IFERROR($E278*SUMIF('Daily Log'!$BS$18:$BS$1017,$B278,'Daily Log'!$BT$18:$BT$1017),0)","v":0},{"$f":"IFERROR($E278*SUMIF('Daily Log'!$BV$18:$BV$1017,$B278,'Daily Log'!$BW$18:$BW$1017),0)","v":0},{"$f":"IFERROR($E278*SUMIF('Daily Log'!$BY$18:$BY$1017,$B278,'Daily Log'!$BZ$18:$BZ$1017),0)","v":0},{"$f":"IFERROR($E278*SUMIF('Daily Log'!$CB$18:$CB$1017,$B278,'Daily Log'!$CC$18:$CC$1017),0)","v":0},{"$f":"IFERROR($E278*SUMIF('Daily Log'!$CE$18:$CE$1017,$B278,'Daily Log'!$CF$18:$CF$1017),0)","v":0},{"$f":"IFERROR($E278*SUMIF('Daily Log'!$CH$18:$CH$1017,$B278,'Daily Log'!$CI$18:$CI$1017),0)","v":0},{"$f":"IFERROR($E278*SUMIF('Daily Log'!$CK$18:$CK$1017,$B278,'Daily Log'!$CL$18:$CL$1017),0)","v":0},{"$f":"IFERROR($E278*SUMIF('Daily Log'!$CN$18:$CN$1017,$B278,'Daily Log'!$CO$18:$CO$1017),0)","v":0}]
[null,"09027:Ice Honey",null,"COLD BEVERAGE",1,0,{"$f":"IFERROR($E279*SUMIF('Daily Log'!$B$18:$B$1017,$B279,'Daily Log'!$C$18:$C$1017),0)","v":0},{"$f":"IFERROR($E279*SUMIF('Daily Log'!$E$18:$E$1017,$B279,'Daily Log'!$F$18:$F$1017),0)","v":0},{"$f":"IFERROR($E279*SUMIF('Daily Log'!$H$18:$H$1017,$B279,'Daily Log'!$I$18:$I$1017),0)","v":0},{"$f":"IFERROR($E279*SUMIF('Daily Log'!$K$18:$K$1017,$B279,'Daily Log'!$L$18:$L$1017),0)","v":0},{"$f":"IFERROR($E279*SUMIF('Daily Log'!$N$18:$N$1017,$B279,'Daily Log'!$O$18:$O$1017),0)","v":0},{"$f":"IFERROR($E279*SUMIF('Daily Log'!$Q$18:$Q$1017,$B279,'Daily Log'!$R$18:$R$1017),0)","v":0},{"$f":"IFERROR($E279*SUMIF('Daily Log'!$T$18:$T$1017,$B279,'Daily Log'!$U$18:$U$1017),0)","v":0},{"$f":"IFERROR($E279*SUMIF('Daily Log'!$W$18:$W$1017,$B279,'Daily Log'!$X$18:$X$1017),0)","v":0},{"$f":"IFERROR($E279*SUMIF('Daily Log'!$Z$18:$Z$1017,$B279,'Daily Log'!$AA$18:$AA$1017),0)","v":0},{"$f":"IFERROR($E279*SUMIF('Daily Log'!$AC$18:$AC$1017,$B279,'Daily Log'!$AD$18:$AD$1017),0)","v":0},{"$f":"IFERROR($E279*SUMIF('Daily Log'!$AF$18:$AF$1017,$B279,'Daily Log'!$AG$18:$AG$1017),0)","v":0},{"$f":"IFERROR($E279*SUMIF('Daily Log'!$AI$18:$AI$1017,$B279,'Daily Log'!$AJ$18:$AJ$1017),0)","v":0},{"$f":"IFERROR($E279*SUMIF('Daily Log'!$AL$18:$AL$1017,$B279,'Daily Log'!$AM$18:$AM$1017),0)","v":0},{"$f":"IFERROR($E279*SUMIF('Daily Log'!$AO$18:$AO$1017,$B279,'Daily Log'!$AP$18:$AP$1017),0)","v":0},{"$f":"IFERROR($E279*SUMIF('Daily Log'!$AR$18:$AR$1017,$B279,'Daily Log'!$AS$18:$AS$1017),0)","v":0},{"$f":"IFERROR($E279*SUMIF('Daily Log'!$AU$18:$AU$1017,$B279,'Daily Log'!$AV$18:$AV$1017),0)","v":0},{"$f":"IFERROR($E279*SUMIF('Daily Log'!$AX$18:$AX$1017,$B279,'Daily Log'!$AY$18:$AY$1017),0)","v":0},{"$f":"IFERROR($E279*SUMIF('Daily Log'!$BA$18:$BA$1017,$B279,'Daily Log'!$BB$18:$BB$1017),0)","v":0},{"$f":"IFERROR($E279*SUMIF('Daily Log'!$BD$18:$BD$1017,$B279,'Daily Log'!$BE$18:$BE$1017),0)","v":0},{"$f":"IFERROR($E279*SUMIF('Daily Log'!$BG$18:$BG$1017,$B279,'Daily Log'!$BH$18:$BH$1017),0)","v":0},{"$f":"IFERROR($E279*SUMIF('Daily Log'!$BJ$18:$BJ$1017,$B279,'Daily Log'!$BK$18:$BK$1017),0)","v":0},{"$f":"IFERROR($E279*SUMIF('Daily Log'!$BM$18:$BM$1017,$B279,'Daily Log'!$BN$18:$BN$1017),0)","v":0},{"$f":"IFERROR($E279*SUMIF('Daily Log'!$BP$18:$BP$1017,$B279,'Daily Log'!$BQ$18:$BQ$1017),0)","v":0},{"$f":"IFERROR($E279*SUMIF('Daily Log'!$BS$18:$BS$1017,$B279,'Daily Log'!$BT$18:$BT$1017),0)","v":0},{"$f":"IFERROR($E279*SUMIF('Daily Log'!$BV$18:$BV$1017,$B279,'Daily Log'!$BW$18:$BW$1017),0)","v":0},{"$f":"IFERROR($E279*SUMIF('Daily Log'!$BY$18:$BY$1017,$B279,'Daily Log'!$BZ$18:$BZ$1017),0)","v":0},{"$f":"IFERROR($E279*SUMIF('Daily Log'!$CB$18:$CB$1017,$B279,'Daily Log'!$CC$18:$CC$1017),0)","v":0},{"$f":"IFERROR($E279*SUMIF('Daily Log'!$CE$18:$CE$1017,$B279,'Daily Log'!$CF$18:$CF$1017),0)","v":0},{"$f":"IFERROR($E279*SUMIF('Daily Log'!$CH$18:$CH$1017,$B279,'Daily Log'!$CI$18:$CI$1017),0)","v":0},{"$f":"IFERROR($E279*SUMIF('Daily Log'!$CK$18:$CK$1017,$B279,'Daily Log'!$CL$18:$CL$1017),0)","v":0},{"$f":"IFERROR($E279*SUMIF('Daily Log'!$CN$18:$CN$1017,$B279,'Daily Log'!$CO$18:$CO$1017),0)","v":0}]
[null,"09028:Hot Honey",null,"HOT BEVERAGE",1,0,{"$f":"IFERROR($E280*SUMIF('Daily Log'!$B$18:$B$1017,$B280,'Daily Log'!$C$18:$C$1017),0)","v":0},{"$f":"IFERROR($E280*SUMIF('Daily Log'!$E$18:$E$1017,$B280,'Daily Log'!$F$18:$F$1017),0)","v":0},{"$f":"IFERROR($E280*SUMIF('Daily Log'!$H$18:$H$1017,$B280,'Daily Log'!$I$18:$I$1017),0)","v":0},{"$f":"IFERROR($E280*SUMIF('Daily Log'!$K$18:$K$1017,$B280,'Daily Log'!$L$18:$L$1017),0)","v":0},{"$f":"IFERROR($E280*SUMIF('Daily Log'!$N$18:$N$1017,$B280,'Daily Log'!$O$18:$O$1017),0)","v":0},{"$f":"IFERROR($E280*SUMIF('Daily Log'!$Q$18:$Q$1017,$B280,'Daily Log'!$R$18:$R$1017),0)","v":0},{"$f":"IFERROR($E280*SUMIF('Daily Log'!$T$18:$T$1017,$B280,'Daily Log'!$U$18:$U$1017),0)","v":0},{"$f":"IFERROR($E280*SUMIF('Daily Log'!$W$18:$W$1017,$B280,'Daily Log'!$X$18:$X$1017),0)","v":0},{"$f":"IFERROR($E280*SUMIF('Daily Log'!$Z$18:$Z$1017,$B280,'Daily Log'!$AA$18:$AA$1017),0)","v":0},{"$f":"IFERROR($E280*SUMIF('Daily Log'!$AC$18:$AC$1017,$B280,'Daily Log'!$AD$18:$AD$1017),0)","v":0},{"$f":"IFERROR($E280*SUMIF('Daily Log'!$AF$18:$AF$1017,$B280,'Daily Log'!$AG$18:$AG$1017),0)","v":0},{"$f":"IFERROR($E280*SUMIF('Daily Log'!$AI$18:$AI$1017,$B280,'Daily Log'!$AJ$18:$AJ$1017),0)","v":0},{"$f":"IFERROR($E280*SUMIF('Daily Log'!$AL$18:$AL$1017,$B280,'Daily Log'!$AM$18:$AM$1017),0)","v":0},{"$f":"IFERROR($E280*SUMIF('Daily Log'!$AO$18:$AO$1017,$B280,'Daily Log'!$AP$18:$AP$1017),0)","v":0},{"$f":"IFERROR($E280*SUMIF('Daily Log'!$AR$18:$AR$1017,$B280,'Daily Log'!$AS$18:$AS$1017),0)","v":0},{"$f":"IFERROR($E280*SUMIF('Daily Log'!$AU$18:$AU$1017,$B280,'Daily Log'!$AV$18:$AV$1017),0)","v":0},{"$f":"IFERROR($E280*SUMIF('Daily Log'!$AX$18:$AX$1017,$B280,'Daily Log'!$AY$18:$AY$1017),0)","v":0},{"$f":"IFERROR($E280*SUMIF('Daily Log'!$BA$18:$BA$1017,$B280,'Daily Log'!$BB$18:$BB$1017),0)","v":0},{"$f":"IFERROR($E280*SUMIF('Daily Log'!$BD$18:$BD$1017,$B280,'Daily Log'!$BE$18:$BE$1017),0)","v":0},{"$f":"IFERROR($E280*SUMIF('Daily Log'!$BG$18:$BG$1017,$B280,'Daily Log'!$BH$18:$BH$1017),0)","v":0},{"$f":"IFERROR($E280*SUMIF('Daily Log'!$BJ$18:$BJ$1017,$B280,'Daily Log'!$BK$18:$BK$1017),0)","v":0},{"$f":"IFERROR($E280*SUMIF('Daily Log'!$BM$18:$BM$1017,$B280,'Daily Log'!$BN$18:$BN$1017),0)","v":0},{"$f":"IFERROR($E280*SUMIF('Daily Log'!$BP$18:$BP$1017,$B280,'Daily Log'!$BQ$18:$BQ$1017),0)","v":0},{"$f":"IFERROR($E280*SUMIF('Daily Log'!$BS$18:$BS$1017,$B280,'Daily Log'!$BT$18:$BT$1017),0)","v":0},{"$f":"IFERROR($E280*SUMIF('Daily Log'!$BV$18:$BV$1017,$B280,'Daily Log'!$BW$18:$BW$1017),0)","v":0},{"$f":"IFERROR($E280*SUMIF('Daily Log'!$BY$18:$BY$1017,$B280,'Daily Log'!$BZ$18:$BZ$1017),0)","v":0},{"$f":"IFERROR($E280*SUMIF('Daily Log'!$CB$18:$CB$1017,$B280,'Daily Log'!$CC$18:$CC$1017),0)","v":0},{"$f":"IFERROR($E280*SUMIF('Daily Log'!$CE$18:$CE$1017,$B280,'Daily Log'!$CF$18:$CF$1017),0)","v":0},{"$f":"IFERROR($E280*SUMIF('Daily Log'!$CH$18:$CH$1017,$B280,'Daily Log'!$CI$18:$CI$1017),0)","v":0},{"$f":"IFERROR($E280*SUMIF('Daily Log'!$CK$18:$CK$1017,$B280,'Daily Log'!$CL$18:$CL$1017),0)","v":0},{"$f":"IFERROR($E280*SUMIF('Daily Log'!$CN$18:$CN$1017,$B280,'Daily Log'!$CO$18:$CO$1017),0)","v":0}]
[null,"09029:Ice Honey Lemon",null,"COLD BEVERAGE",1,4,{"$f":"IFERROR($E281*SUMIF('Daily Log'!$B$18:$B$1017,$B281,'Daily Log'!$C$18:$C$1017),0)","v":0},{"$f":"IFERROR($E281*SUMIF('Daily Log'!$E$18:$E$1017,$B281,'Daily Log'!$F$18:$F$1017),0)","v":0},{"$f":"IFERROR($E281*SUMIF('Daily Log'!$H$18:$H$1017,$B281,'Daily Log'!$I$18:$I$1017),0)","v":0},{"$f":"IFERROR($E281*SUMIF('Daily Log'!$K$18:$K$1017,$B281,'Daily Log'!$L$18:$L$1017),0)","v":0},{"$f":"IFERROR($E281*SUMIF('Daily Log'!$N$18:$N$1017,$B281,'Daily Log'!$O$18:$O$1017),0)","v":0},{"$f":"IFERROR($E281*SUMIF('Daily Log'!$Q$18:$Q$1017,$B281,'Daily Log'!$R$18:$R$1017),0)","v":0},{"$f":"IFERROR($E281*SUMIF('Daily Log'!$T$18:$T$1017,$B281,'Daily Log'!$U$18:$U$1017),0)","v":1},{"$f":"IFERROR($E281*SUMIF('Daily Log'!$W$18:$W$1017,$B281,'Daily Log'!$X$18:$X$1017),0)","v":0},{"$f":"IFERROR($E281*SUMIF('Daily Log'!$Z$18:$Z$1017,$B281,'Daily Log'!$AA$18:$AA$1017),0)","v":0},{"$f":"IFERROR($E281*SUMIF('Daily Log'!$AC$18:$AC$1017,$B281,'Daily Log'!$AD$18:$AD$1017),0)","v":0},{"$f":"IFERROR($E281*SUMIF('Daily Log'!$AF$18:$AF$1017,$B281,'Daily Log'!$AG$18:$AG$1017),0)","v":0},{"$f":"IFERROR($E281*SUMIF('Daily Log'!$AI$18:$AI$1017,$B281,'Daily Log'!$AJ$18:$AJ$1017),0)","v":2},{"$f":"IFERROR($E281*SUMIF('Daily Log'!$AL$18:$AL$1017,$B281,'Daily Log'!$AM$18:$AM$1017),0)","v":1},{"$f":"IFERROR($E281*SUMIF('Daily Log'!$AO$18:$AO$1017,$B281,'Daily Log'!$AP$18:$AP$1017),0)","v":0},{"$f":"IFERROR($E281*SUMIF('Daily Log'!$AR$18:$AR$1017,$B281,'Daily Log'!$AS$18:$AS$1017),0)","v":0},{"$f":"IFERROR($E281*SUMIF('Daily Log'!$AU$18:$AU$1017,$B281,'Daily Log'!$AV$18:$AV$1017),0)","v":0},{"$f":"IFERROR($E281*SUMIF('Daily Log'!$AX$18:$AX$1017,$B281,'Daily Log'!$AY$18:$AY$1017),0)","v":0},{"$f":"IFERROR($E281*SUMIF('Daily Log'!$BA$18:$BA$1017,$B281,'Daily Log'!$BB$18:$BB$1017),0)","v":0},{"$f":"IFERROR($E281*SUMIF('Daily Log'!$BD$18:$BD$1017,$B281,'Daily Log'!$BE$18:$BE$1017),0)","v":0},{"$f":"IFERROR($E281*SUMIF('Daily Log'!$BG$18:$BG$1017,$B281,'Daily Log'!$BH$18:$BH$1017),0)","v":0},{"$f":"IFERROR($E281*SUMIF('Daily Log'!$BJ$18:$BJ$1017,$B281,'Daily Log'!$BK$18:$BK$1017),0)","v":0},{"$f":"IFERROR($E281*SUMIF('Daily Log'!$BM$18:$BM$1017,$B281,'Daily Log'!$BN$18:$BN$1017),0)","v":0},{"$f":"IFERROR($E281*SUMIF('Daily Log'!$BP$18:$BP$1017,$B281,'Daily Log'!$BQ$18:$BQ$1017),0)","v":0},{"$f":"IFERROR($E281*SUMIF('Daily Log'!$BS$18:$BS$1017,$B281,'Daily Log'!$BT$18:$BT$1017),0)","v":0},{"$f":"IFERROR($E281*SUMIF('Daily Log'!$BV$18:$BV$1017,$B281,'Daily Log'!$BW$18:$BW$1017),0)","v":0},{"$f":"IFERROR($E281*SUMIF('Daily Log'!$BY$18:$BY$1017,$B281,'Daily Log'!$BZ$18:$BZ$1017),0)","v":0},{"$f":"IFERROR($E281*SUMIF('Daily Log'!$CB$18:$CB$1017,$B281,'Daily Log'!$CC$18:$CC$1017),0)","v":0},{"$f":"IFERROR($E281*SUMIF('Daily Log'!$CE$18:$CE$1017,$B281,'Daily Log'!$CF$18:$CF$1017),0)","v":0},{"$f":"IFERROR($E281*SUMIF('Daily Log'!$CH$18:$CH$1017,$B281,'Daily Log'!$CI$18:$CI$1017),0)","v":0},{"$f":"IFERROR($E281*SUMIF('Daily Log'!$CK$18:$CK$1017,$B281,'Daily Log'!$CL$18:$CL$1017),0)","v":0},{"$f":"IFERROR($E281*SUMIF('Daily Log'!$CN$18:$CN$1017,$B281,'Daily Log'!$CO$18:$CO$1017),0)","v":0}]
[null,"09030:Hot Honey Lemon",null,"HOT BEVERAGE",1,2,{"$f":"IFERROR($E282*SUMIF('Daily Log'!$B$18:$B$1017,$B282,'Daily Log'!$C$18:$C$1017),0)","v":0},{"$f":"IFERROR($E282*SUMIF('Daily Log'!$E$18:$E$1017,$B282,'Daily Log'!$F$18:$F$1017),0)","v":0},{"$f":"IFERROR($E282*SUMIF('Daily Log'!$H$18:$H$1017,$B282,'Daily Log'!$I$18:$I$1017),0)","v":0},{"$f":"IFERROR($E282*SUMIF('Daily Log'!$K$18:$K$1017,$B282,'Daily Log'!$L$18:$L$1017),0)","v":0},{"$f":"IFERROR($E282*SUMIF('Daily Log'!$N$18:$N$1017,$B282,'Daily Log'!$O$18:$O$1017),0)","v":0},{"$f":"IFERROR($E282*SUMIF('Daily Log'!$Q$18:$Q$1017,$B282,'Daily Log'!$R$18:$R$1017),0)","v":0},{"$f":"IFERROR($E282*SUMIF('Daily Log'!$T$18:$T$1017,$B282,'Daily Log'!$U$18:$U$1017),0)","v":0},{"$f":"IFERROR($E282*SUMIF('Daily Log'!$W$18:$W$1017,$B282,'Daily Log'!$X$18:$X$1017),0)","v":0},{"$f":"IFERROR($E282*SUMIF('Daily Log'!$Z$18:$Z$1017,$B282,'Daily Log'!$AA$18:$AA$1017),0)","v":1},{"$f":"IFERROR($E282*SUMIF('Daily Log'!$AC$18:$AC$1017,$B282,'Daily Log'!$AD$18:$AD$1017),0)","v":0},{"$f":"IFERROR($E282*SUMIF('Daily Log'!$AF$18:$AF$1017,$B282,'Daily Log'!$AG$18:$AG$1017),0)","v":0},{"$f":"IFERROR($E282*SUMIF('Daily Log'!$AI$18:$AI$1017,$B282,'Daily Log'!$AJ$18:$AJ$1017),0)","v":0},{"$f":"IFERROR($E282*SUMIF('Daily Log'!$AL$18:$AL$1017,$B282,'Daily Log'!$AM$18:$AM$1017),0)","v":1},{"$f":"IFERROR($E282*SUMIF('Daily Log'!$AO$18:$AO$1017,$B282,'Daily Log'!$AP$18:$AP$1017),0)","v":0},{"$f":"IFERROR($E282*SUMIF('Daily Log'!$AR$18:$AR$1017,$B282,'Daily Log'!$AS$18:$AS$1017),0)","v":0},{"$f":"IFERROR($E282*SUMIF('Daily Log'!$AU$18:$AU$1017,$B282,'Daily Log'!$AV$18:$AV$1017),0)","v":0},{"$f":"IFERROR($E282*SUMIF('Daily Log'!$AX$18:$AX$1017,$B282,'Daily Log'!$AY$18:$AY$1017),0)","v":0},{"$f":"IFERROR($E282*SUMIF('Daily Log'!$BA$18:$BA$1017,$B282,'Daily Log'!$BB$18:$BB$1017),0)","v":0},{"$f":"IFERROR($E282*SUMIF('Daily Log'!$BD$18:$BD$1017,$B282,'Daily Log'!$BE$18:$BE$1017),0)","v":0},{"$f":"IFERROR($E282*SUMIF('Daily Log'!$BG$18:$BG$1017,$B282,'Daily Log'!$BH$18:$BH$1017),0)","v":0},{"$f":"IFERROR($E282*SUMIF('Daily Log'!$BJ$18:$BJ$1017,$B282,'Daily Log'!$BK$18:$BK$1017),0)","v":0},{"$f":"IFERROR($E282*SUMIF('Daily Log'!$BM$18:$BM$1017,$B282,'Daily Log'!$BN$18:$BN$1017),0)","v":0},{"$f":"IFERROR($E282*SUMIF('Daily Log'!$BP$18:$BP$1017,$B282,'Daily Log'!$BQ$18:$BQ$1017),0)","v":0},{"$f":"IFERROR($E282*SUMIF('Daily Log'!$BS$18:$BS$1017,$B282,'Daily Log'!$BT$18:$BT$1017),0)","v":0},{"$f":"IFERROR($E282*SUMIF('Daily Log'!$BV$18:$BV$1017,$B282,'Daily Log'!$BW$18:$BW$1017),0)","v":0},{"$f":"IFERROR($E282*SUMIF('Daily Log'!$BY$18:$BY$1017,$B282,'Daily Log'!$BZ$18:$BZ$1017),0)","v":0},{"$f":"IFERROR($E282*SUMIF('Daily Log'!$CB$18:$CB$1017,$B282,'Daily Log'!$CC$18:$CC$1017),0)","v":0},{"$f":"IFERROR($E282*SUMIF('Daily Log'!$CE$18:$CE$1017,$B282,'Daily Log'!$CF$18:$CF$1017),0)","v":0},{"$f":"IFERROR($E282*SUMIF('Daily Log'!$CH$18:$CH$1017,$B282,'Daily Log'!$CI$18:$CI$1017),0)","v":0},{"$f":"IFERROR($E282*SUMIF('Daily Log'!$CK$18:$CK$1017,$B282,'Daily Log'!$CL$18:$CL$1017),0)","v":0},{"$f":"IFERROR($E282*SUMIF('Daily Log'!$CN$18:$CN$1017,$B282,'Daily Log'!$CO$18:$CO$1017),0)","v":0}]
[null,"08015:Earl Grey",null,"HOT BEVERAGE",1,22,{"$f":"IFERROR($E283*SUMIF('Daily Log'!$B$18:$B$1017,$B283,'Daily Log'!$C$18:$C$1017),0)","v":0},{"$f":"IFERROR($E283*SUMIF('Daily Log'!$E$18:$E$1017,$B283,'Daily Log'!$F$18:$F$1017),0)","v":0},{"$f":"IFERROR($E283*SUMIF('Daily Log'!$H$18:$H$1017,$B283,'Daily Log'!$I$18:$I$1017),0)","v":0},{"$f":"IFERROR($E283*SUMIF('Daily Log'!$K$18:$K$1017,$B283,'Daily Log'!$L$18:$L$1017),0)","v":0},{"$f":"IFERROR($E283*SUMIF('Daily Log'!$N$18:$N$1017,$B283,'Daily Log'!$O$18:$O$1017),0)","v":0},{"$f":"IFERROR($E283*SUMIF('Daily Log'!$Q$18:$Q$1017,$B283,'Daily Log'!$R$18:$R$1017),0)","v":0},{"$f":"IFERROR($E283*SUMIF('Daily Log'!$T$18:$T$1017,$B283,'Daily Log'!$U$18:$U$1017),0)","v":3},{"$f":"IFERROR($E283*SUMIF('Daily Log'!$W$18:$W$1017,$B283,'Daily Log'!$X$18:$X$1017),0)","v":1},{"$f":"IFERROR($E283*SUMIF('Daily Log'!$Z$18:$Z$1017,$B283,'Daily Log'!$AA$18:$AA$1017),0)","v":1},{"$f":"IFERROR($E283*SUMIF('Daily Log'!$AC$18:$AC$1017,$B283,'Daily Log'!$AD$18:$AD$1017),0)","v":5},{"$f":"IFERROR($E283*SUMIF('Daily Log'!$AF$18:$AF$1017,$B283,'Daily Log'!$AG$18:$AG$1017),0)","v":1},{"$f":"IFERROR($E283*SUMIF('Daily Log'!$AI$18:$AI$1017,$B283,'Daily Log'!$AJ$18:$AJ$1017),0)","v":7},{"$f":"IFERROR($E283*SUMIF('Daily Log'!$AL$18:$AL$1017,$B283,'Daily Log'!$AM$18:$AM$1017),0)","v":4},{"$f":"IFERROR($E283*SUMIF('Daily Log'!$AO$18:$AO$1017,$B283,'Daily Log'!$AP$18:$AP$1017),0)","v":0},{"$f":"IFERROR($E283*SUMIF('Daily Log'!$AR$18:$AR$1017,$B283,'Daily Log'!$AS$18:$AS$1017),0)","v":0},{"$f":"IFERROR($E283*SUMIF('Daily Log'!$AU$18:$AU$1017,$B283,'Daily Log'!$AV$18:$AV$1017),0)","v":0},{"$f":"IFERROR($E283*SUMIF('Daily Log'!$AX$18:$AX$1017,$B283,'Daily Log'!$AY$18:$AY$1017),0)","v":0},{"$f":"IFERROR($E283*SUMIF('Daily Log'!$BA$18:$BA$1017,$B283,'Daily Log'!$BB$18:$BB$1017),0)","v":0},{"$f":"IFERROR($E283*SUMIF('Daily Log'!$BD$18:$BD$1017,$B283,'Daily Log'!$BE$18:$BE$1017),0)","v":0},{"$f":"IFERROR($E283*SUMIF('Daily Log'!$BG$18:$BG$1017,$B283,'Daily Log'!$BH$18:$BH$1017),0)","v":0},{"$f":"IFERROR($E283*SUMIF('Daily Log'!$BJ$18:$BJ$1017,$B283,'Daily Log'!$BK$18:$BK$1017),0)","v":0},{"$f":"IFERROR($E283*SUMIF('Daily Log'!$BM$18:$BM$1017,$B283,'Daily Log'!$BN$18:$BN$1017),0)","v":0},{"$f":"IFERROR($E283*SUMIF('Daily Log'!$BP$18:$BP$1017,$B283,'Daily Log'!$BQ$18:$BQ$1017),0)","v":0},{"$f":"IFERROR($E283*SUMIF('Daily Log'!$BS$18:$BS$1017,$B283,'Daily Log'!$BT$18:$BT$1017),0)","v":0},{"$f":"IFERROR($E283*SUMIF('Daily Log'!$BV$18:$BV$1017,$B283,'Daily Log'!$BW$18:$BW$1017),0)","v":0},{"$f":"IFERROR($E283*SUMIF('Daily Log'!$BY$18:$BY$1017,$B283,'Daily Log'!$BZ$18:$BZ$1017),0)","v":0},{"$f":"IFERROR($E283*SUMIF('Daily Log'!$CB$18:$CB$1017,$B283,'Daily Log'!$CC$18:$CC$1017),0)","v":0},{"$f":"IFERROR($E283*SUMIF('Daily Log'!$CE$18:$CE$1017,$B283,'Daily Log'!$CF$18:$CF$1017),0)","v":0},{"$f":"IFERROR($E283*SUMIF('Daily Log'!$CH$18:$CH$1017,$B283,'Daily Log'!$CI$18:$CI$1017),0)","v":0},{"$f":"IFERROR($E283*SUMIF('Daily Log'!$CK$18:$CK$1017,$B283,'Daily Log'!$CL$18:$CL$1017),0)","v":0},{"$f":"IFERROR($E283*SUMIF('Daily Log'!$CN$18:$CN$1017,$B283,'Daily Log'!$CO$18:$CO$1017),0)","v":0}]
[null,"08016:Chamomile",null,"HOT BEVERAGE",1,26,{"$f":"IFERROR($E284*SUMIF('Daily Log'!$B$18:$B$1017,$B284,'Daily Log'!$C$18:$C$1017),0)","v":0},{"$f":"IFERROR($E284*SUMIF('Daily Log'!$E$18:$E$1017,$B284,'Daily Log'!$F$18:$F$1017),0)","v":0},{"$f":"IFERROR($E284*SUMIF('Daily Log'!$H$18:$H$1017,$B284,'Daily Log'!$I$18:$I$1017),0)","v":0},{"$f":"IFERROR($E284*SUMIF('Daily Log'!$K$18:$K$1017,$B284,'Daily Log'!$L$18:$L$1017),0)","v":0},{"$f":"IFERROR($E284*SUMIF('Daily Log'!$N$18:$N$1017,$B284,'Daily Log'!$O$18:$O$1017),0)","v":0},{"$f":"IFERROR($E284*SUMIF('Daily Log'!$Q$18:$Q$1017,$B284,'Daily Log'!$R$18:$R$1017),0)","v":0},{"$f":"IFERROR($E284*SUMIF('Daily Log'!$T$18:$T$1017,$B284,'Daily Log'!$U$18:$U$1017),0)","v":2},{"$f":"IFERROR($E284*SUMIF('Daily Log'!$W$18:$W$1017,$B284,'Daily Log'!$X$18:$X$1017),0)","v":4},{"$f":"IFERROR($E284*SUMIF('Daily Log'!$Z$18:$Z$1017,$B284,'Daily Log'!$AA$18:$AA$1017),0)","v":1},{"$f":"IFERROR($E284*SUMIF('Daily Log'!$AC$18:$AC$1017,$B284,'Daily Log'!$AD$18:$AD$1017),0)","v":1},{"$f":"IFERROR($E284*SUMIF('Daily Log'!$AF$18:$AF$1017,$B284,'Daily Log'!$AG$18:$AG$1017),0)","v":3},{"$f":"IFERROR($E284*SUMIF('Daily Log'!$AI$18:$AI$1017,$B284,'Daily Log'!$AJ$18:$AJ$1017),0)","v":6},{"$f":"IFERROR($E284*SUMIF('Daily Log'!$AL$18:$AL$1017,$B284,'Daily Log'!$AM$18:$AM$1017),0)","v":9},{"$f":"IFERROR($E284*SUMIF('Daily Log'!$AO$18:$AO$1017,$B284,'Daily Log'!$AP$18:$AP$1017),0)","v":0},{"$f":"IFERROR($E284*SUMIF('Daily Log'!$AR$18:$AR$1017,$B284,'Daily Log'!$AS$18:$AS$1017),0)","v":0},{"$f":"IFERROR($E284*SUMIF('Daily Log'!$AU$18:$AU$1017,$B284,'Daily Log'!$AV$18:$AV$1017),0)","v":0},{"$f":"IFERROR($E284*SUMIF('Daily Log'!$AX$18:$AX$1017,$B284,'Daily Log'!$AY$18:$AY$1017),0)","v":0},{"$f":"IFERROR($E284*SUMIF('Daily Log'!$BA$18:$BA$1017,$B284,'Daily Log'!$BB$18:$BB$1017),0)","v":0},{"$f":"IFERROR($E284*SUMIF('Daily Log'!$BD$18:$BD$1017,$B284,'Daily Log'!$BE$18:$BE$1017),0)","v":0},{"$f":"IFERROR($E284*SUMIF('Daily Log'!$BG$18:$BG$1017,$B284,'Daily Log'!$BH$18:$BH$1017),0)","v":0},{"$f":"IFERROR($E284*SUMIF('Daily Log'!$BJ$18:$BJ$1017,$B284,'Daily Log'!$BK$18:$BK$1017),0)","v":0},{"$f":"IFERROR($E284*SUMIF('Daily Log'!$BM$18:$BM$1017,$B284,'Daily Log'!$BN$18:$BN$1017),0)","v":0},{"$f":"IFERROR($E284*SUMIF('Daily Log'!$BP$18:$BP$1017,$B284,'Daily Log'!$BQ$18:$BQ$1017),0)","v":0},{"$f":"IFERROR($E284*SUMIF('Daily Log'!$BS$18:$BS$1017,$B284,'Daily Log'!$BT$18:$BT$1017),0)","v":0},{"$f":"IFERROR($E284*SUMIF('Daily Log'!$BV$18:$BV$1017,$B284,'Daily Log'!$BW$18:$BW$1017),0)","v":0},{"$f":"IFERROR($E284*SUMIF('Daily Log'!$BY$18:$BY$1017,$B284,'Daily Log'!$BZ$18:$BZ$1017),0)","v":0},{"$f":"IFERROR($E284*SUMIF('Daily Log'!$CB$18:$CB$1017,$B284,'Daily Log'!$CC$18:$CC$1017),0)","v":0},{"$f":"IFERROR($E284*SUMIF('Daily Log'!$CE$18:$CE$1017,$B284,'Daily Log'!$CF$18:$CF$1017),0)","v":0},{"$f":"IFERROR($E284*SUMIF('Daily Log'!$CH$18:$CH$1017,$B284,'Daily Log'!$CI$18:$CI$1017),0)","v":0},{"$f":"IFERROR($E284*SUMIF('Daily Log'!$CK$18:$CK$1017,$B284,'Daily Log'!$CL$18:$CL$1017),0)","v":0},{"$f":"IFERROR($E284*SUMIF('Daily Log'!$CN$18:$CN$1017,$B284,'Daily Log'!$CO$18:$CO$1017),0)","v":0}]
[null,"08017:Darjeeling",null,"HOT BEVERAGE",1,3,{"$f":"IFERROR($E285*SUMIF('Daily Log'!$B$18:$B$1017,$B285,'Daily Log'!$C$18:$C$1017),0)","v":0},{"$f":"IFERROR($E285*SUMIF('Daily Log'!$E$18:$E$1017,$B285,'Daily Log'!$F$18:$F$1017),0)","v":0},{"$f":"IFERROR($E285*SUMIF('Daily Log'!$H$18:$H$1017,$B285,'Daily Log'!$I$18:$I$1017),0)","v":0},{"$f":"IFERROR($E285*SUMIF('Daily Log'!$K$18:$K$1017,$B285,'Daily Log'!$L$18:$L$1017),0)","v":0},{"$f":"IFERROR($E285*SUMIF('Daily Log'!$N$18:$N$1017,$B285,'Daily Log'!$O$18:$O$1017),0)","v":0},{"$f":"IFERROR($E285*SUMIF('Daily Log'!$Q$18:$Q$1017,$B285,'Daily Log'!$R$18:$R$1017),0)","v":0},{"$f":"IFERROR($E285*SUMIF('Daily Log'!$T$18:$T$1017,$B285,'Daily Log'!$U$18:$U$1017),0)","v":0},{"$f":"IFERROR($E285*SUMIF('Daily Log'!$W$18:$W$1017,$B285,'Daily Log'!$X$18:$X$1017),0)","v":0},{"$f":"IFERROR($E285*SUMIF('Daily Log'!$Z$18:$Z$1017,$B285,'Daily Log'!$AA$18:$AA$1017),0)","v":0},{"$f":"IFERROR($E285*SUMIF('Daily Log'!$AC$18:$AC$1017,$B285,'Daily Log'!$AD$18:$AD$1017),0)","v":0},{"$f":"IFERROR($E285*SUMIF('Daily Log'!$AF$18:$AF$1017,$B285,'Daily Log'!$AG$18:$AG$1017),0)","v":0},{"$f":"IFERROR($E285*SUMIF('Daily Log'!$AI$18:$AI$1017,$B285,'Daily Log'!$AJ$18:$AJ$1017),0)","v":1},{"$f":"IFERROR($E285*SUMIF('Daily Log'!$AL$18:$AL$1017,$B285,'Daily Log'!$AM$18:$AM$1017),0)","v":2},{"$f":"IFERROR($E285*SUMIF('Daily Log'!$AO$18:$AO$1017,$B285,'Daily Log'!$AP$18:$AP$1017),0)","v":0},{"$f":"IFERROR($E285*SUMIF('Daily Log'!$AR$18:$AR$1017,$B285,'Daily Log'!$AS$18:$AS$1017),0)","v":0},{"$f":"IFERROR($E285*SUMIF('Daily Log'!$AU$18:$AU$1017,$B285,'Daily Log'!$AV$18:$AV$1017),0)","v":0},{"$f":"IFERROR($E285*SUMIF('Daily Log'!$AX$18:$AX$1017,$B285,'Daily Log'!$AY$18:$AY$1017),0)","v":0},{"$f":"IFERROR($E285*SUMIF('Daily Log'!$BA$18:$BA$1017,$B285,'Daily Log'!$BB$18:$BB$1017),0)","v":0},{"$f":"IFERROR($E285*SUMIF('Daily Log'!$BD$18:$BD$1017,$B285,'Daily Log'!$BE$18:$BE$1017),0)","v":0},{"$f":"IFERROR($E285*SUMIF('Daily Log'!$BG$18:$BG$1017,$B285,'Daily Log'!$BH$18:$BH$1017),0)","v":0},{"$f":"IFERROR($E285*SUMIF('Daily Log'!$BJ$18:$BJ$1017,$B285,'Daily Log'!$BK$18:$BK$1017),0)","v":0},{"$f":"IFERROR($E285*SUMIF('Daily Log'!$BM$18:$BM$1017,$B285,'Daily Log'!$BN$18:$BN$1017),0)","v":0},{"$f":"IFERROR($E285*SUMIF('Daily Log'!$BP$18:$BP$1017,$B285,'Daily Log'!$BQ$18:$BQ$1017),0)","v":0},{"$f":"IFERROR($E285*SUMIF('Daily Log'!$BS$18:$BS$1017,$B285,'Daily Log'!$BT$18:$BT$1017),0)","v":0},{"$f":"IFERROR($E285*SUMIF('Daily Log'!$BV$18:$BV$1017,$B285,'Daily Log'!$BW$18:$BW$1017),0)","v":0},{"$f":"IFERROR($E285*SUMIF('Daily Log'!$BY$18:$BY$1017,$B285,'Daily Log'!$BZ$18:$BZ$1017),0)","v":0},{"$f":"IFERROR($E285*SUMIF('Daily Log'!$CB$18:$CB$1017,$B285,'Daily Log'!$CC$18:$CC$1017),0)","v":0},{"$f":"IFERROR($E285*SUMIF('Daily Log'!$CE$18:$CE$1017,$B285,'Daily Log'!$CF$18:$CF$1017),0)","v":0},{"$f":"IFERROR($E285*SUMIF('Daily Log'!$CH$18:$CH$1017,$B285,'Daily Log'!$CI$18:$CI$1017),0)","v":0},{"$f":"IFERROR($E285*SUMIF('Daily Log'!$CK$18:$CK$1017,$B285,'Daily Log'!$CL$18:$CL$1017),0)","v":0},{"$f":"IFERROR($E285*SUMIF('Daily Log'!$CN$18:$CN$1017,$B285,'Daily Log'!$CO$18:$CO$1017),0)","v":0}]
[null,"08014:7up Revive",null,"SOFT DRINK",1,25,{"$f":"IFERROR($E286*SUMIF('Daily Log'!$B$18:$B$1017,$B286,'Daily Log'!$C$18:$C$1017),0)","v":0},{"$f":"IFERROR($E286*SUMIF('Daily Log'!$E$18:$E$1017,$B286,'Daily Log'!$F$18:$F$1017),0)","v":0},{"$f":"IFERROR($E286*SUMIF('Daily Log'!$H$18:$H$1017,$B286,'Daily Log'!$I$18:$I$1017),0)","v":0},{"$f":"IFERROR($E286*SUMIF('Daily Log'!$K$18:$K$1017,$B286,'Daily Log'!$L$18:$L$1017),0)","v":0},{"$f":"IFERROR($E286*SUMIF('Daily Log'!$N$18:$N$1017,$B286,'Daily Log'!$O$18:$O$1017),0)","v":0},{"$f":"IFERROR($E286*SUMIF('Daily Log'!$Q$18:$Q$1017,$B286,'Daily Log'!$R$18:$R$1017),0)","v":0},{"$f":"IFERROR($E286*SUMIF('Daily Log'!$T$18:$T$1017,$B286,'Daily Log'!$U$18:$U$1017),0)","v":4},{"$f":"IFERROR($E286*SUMIF('Daily Log'!$W$18:$W$1017,$B286,'Daily Log'!$X$18:$X$1017),0)","v":5},{"$f":"IFERROR($E286*SUMIF('Daily Log'!$Z$18:$Z$1017,$B286,'Daily Log'!$AA$18:$AA$1017),0)","v":4},{"$f":"IFERROR($E286*SUMIF('Daily Log'!$AC$18:$AC$1017,$B286,'Daily Log'!$AD$18:$AD$1017),0)","v":1},{"$f":"IFERROR($E286*SUMIF('Daily Log'!$AF$18:$AF$1017,$B286,'Daily Log'!$AG$18:$AG$1017),0)","v":3},{"$f":"IFERROR($E286*SUMIF('Daily Log'!$AI$18:$AI$1017,$B286,'Daily Log'!$AJ$18:$AJ$1017),0)","v":8},{"$f":"IFERROR($E286*SUMIF('Daily Log'!$AL$18:$AL$1017,$B286,'Daily Log'!$AM$18:$AM$1017),0)","v":0},{"$f":"IFERROR($E286*SUMIF('Daily Log'!$AO$18:$AO$1017,$B286,'Daily Log'!$AP$18:$AP$1017),0)","v":0},{"$f":"IFERROR($E286*SUMIF('Daily Log'!$AR$18:$AR$1017,$B286,'Daily Log'!$AS$18:$AS$1017),0)","v":0},{"$f":"IFERROR($E286*SUMIF('Daily Log'!$AU$18:$AU$1017,$B286,'Daily Log'!$AV$18:$AV$1017),0)","v":0},{"$f":"IFERROR($E286*SUMIF('Daily Log'!$AX$18:$AX$1017,$B286,'Daily Log'!$AY$18:$AY$1017),0)","v":0},{"$f":"IFERROR($E286*SUMIF('Daily Log'!$BA$18:$BA$1017,$B286,'Daily Log'!$BB$18:$BB$1017),0)","v":0},{"$f":"IFERROR($E286*SUMIF('Daily Log'!$BD$18:$BD$1017,$B286,'Daily Log'!$BE$18:$BE$1017),0)","v":0},{"$f":"IFERROR($E286*SUMIF('Daily Log'!$BG$18:$BG$1017,$B286,'Daily Log'!$BH$18:$BH$1017),0)","v":0},{"$f":"IFERROR($E286*SUMIF('Daily Log'!$BJ$18:$BJ$1017,$B286,'Daily Log'!$BK$18:$BK$1017),0)","v":0},{"$f":"IFERROR($E286*SUMIF('Daily Log'!$BM$18:$BM$1017,$B286,'Daily Log'!$BN$18:$BN$1017),0)","v":0},{"$f":"IFERROR($E286*SUMIF('Daily Log'!$BP$18:$BP$1017,$B286,'Daily Log'!$BQ$18:$BQ$1017),0)","v":0},{"$f":"IFERROR($E286*SUMIF('Daily Log'!$BS$18:$BS$1017,$B286,'Daily Log'!$BT$18:$BT$1017),0)","v":0},{"$f":"IFERROR($E286*SUMIF('Daily Log'!$BV$18:$BV$1017,$B286,'Daily Log'!$BW$18:$BW$1017),0)","v":0},{"$f":"IFERROR($E286*SUMIF('Daily Log'!$BY$18:$BY$1017,$B286,'Daily Log'!$BZ$18:$BZ$1017),0)","v":0},{"$f":"IFERROR($E286*SUMIF('Daily Log'!$CB$18:$CB$1017,$B286,'Daily Log'!$CC$18:$CC$1017),0)","v":0},{"$f":"IFERROR($E286*SUMIF('Daily Log'!$CE$18:$CE$1017,$B286,'Daily Log'!$CF$18:$CF$1017),0)","v":0},{"$f":"IFERROR($E286*SUMIF('Daily Log'!$CH$18:$CH$1017,$B286,'Daily Log'!$CI$18:$CI$1017),0)","v":0},{"$f":"IFERROR($E286*SUMIF('Daily Log'!$CK$18:$CK$1017,$B286,'Daily Log'!$CL$18:$CL$1017),0)","v":0},{"$f":"IFERROR($E286*SUMIF('Daily Log'!$CN$18:$CN$1017,$B286,'Daily Log'!$CO$18:$CO$1017),0)","v":0}]
[null,"09013:7up",null,"SOFT DRINK",1,2,{"$f":"IFERROR($E287*SUMIF('Daily Log'!$B$18:$B$1017,$B287,'Daily Log'!$C$18:$C$1017),0)","v":0},{"$f":"IFERROR($E287*SUMIF('Daily Log'!$E$18:$E$1017,$B287,'Daily Log'!$F$18:$F$1017),0)","v":0},{"$f":"IFERROR($E287*SUMIF('Daily Log'!$H$18:$H$1017,$B287,'Daily Log'!$I$18:$I$1017),0)","v":0},{"$f":"IFERROR($E287*SUMIF('Daily Log'!$K$18:$K$1017,$B287,'Daily Log'!$L$18:$L$1017),0)","v":0},{"$f":"IFERROR($E287*SUMIF('Daily Log'!$N$18:$N$1017,$B287,'Daily Log'!$O$18:$O$1017),0)","v":0},{"$f":"IFERROR($E287*SUMIF('Daily Log'!$Q$18:$Q$1017,$B287,'Daily Log'!$R$18:$R$1017),0)","v":0},{"$f":"IFERROR($E287*SUMIF('Daily Log'!$T$18:$T$1017,$B287,'Daily Log'!$U$18:$U$1017),0)","v":1},{"$f":"IFERROR($E287*SUMIF('Daily Log'!$W$18:$W$1017,$B287,'Daily Log'!$X$18:$X$1017),0)","v":0},{"$f":"IFERROR($E287*SUMIF('Daily Log'!$Z$18:$Z$1017,$B287,'Daily Log'!$AA$18:$AA$1017),0)","v":0},{"$f":"IFERROR($E287*SUMIF('Daily Log'!$AC$18:$AC$1017,$B287,'Daily Log'!$AD$18:$AD$1017),0)","v":0},{"$f":"IFERROR($E287*SUMIF('Daily Log'!$AF$18:$AF$1017,$B287,'Daily Log'!$AG$18:$AG$1017),0)","v":0},{"$f":"IFERROR($E287*SUMIF('Daily Log'!$AI$18:$AI$1017,$B287,'Daily Log'!$AJ$18:$AJ$1017),0)","v":1},{"$f":"IFERROR($E287*SUMIF('Daily Log'!$AL$18:$AL$1017,$B287,'Daily Log'!$AM$18:$AM$1017),0)","v":0},{"$f":"IFERROR($E287*SUMIF('Daily Log'!$AO$18:$AO$1017,$B287,'Daily Log'!$AP$18:$AP$1017),0)","v":0},{"$f":"IFERROR($E287*SUMIF('Daily Log'!$AR$18:$AR$1017,$B287,'Daily Log'!$AS$18:$AS$1017),0)","v":0},{"$f":"IFERROR($E287*SUMIF('Daily Log'!$AU$18:$AU$1017,$B287,'Daily Log'!$AV$18:$AV$1017),0)","v":0},{"$f":"IFERROR($E287*SUMIF('Daily Log'!$AX$18:$AX$1017,$B287,'Daily Log'!$AY$18:$AY$1017),0)","v":0},{"$f":"IFERROR($E287*SUMIF('Daily Log'!$BA$18:$BA$1017,$B287,'Daily Log'!$BB$18:$BB$1017),0)","v":0},{"$f":"IFERROR($E287*SUMIF('Daily Log'!$BD$18:$BD$1017,$B287,'Daily Log'!$BE$18:$BE$1017),0)","v":0},{"$f":"IFERROR($E287*SUMIF('Daily Log'!$BG$18:$BG$1017,$B287,'Daily Log'!$BH$18:$BH$1017),0)","v":0},{"$f":"IFERROR($E287*SUMIF('Daily Log'!$BJ$18:$BJ$1017,$B287,'Daily Log'!$BK$18:$BK$1017),0)","v":0},{"$f":"IFERROR($E287*SUMIF('Daily Log'!$BM$18:$BM$1017,$B287,'Daily Log'!$BN$18:$BN$1017),0)","v":0},{"$f":"IFERROR($E287*SUMIF('Daily Log'!$BP$18:$BP$1017,$B287,'Daily Log'!$BQ$18:$BQ$1017),0)","v":0},{"$f":"IFERROR($E287*SUMIF('Daily Log'!$BS$18:$BS$1017,$B287,'Daily Log'!$BT$18:$BT$1017),0)","v":0},{"$f":"IFERROR($E287*SUMIF('Daily Log'!$BV$18:$BV$1017,$B287,'Daily Log'!$BW$18:$BW$1017),0)","v":0},{"$f":"IFERROR($E287*SUMIF('Daily Log'!$BY$18:$BY$1017,$B287,'Daily Log'!$BZ$18:$BZ$1017),0)","v":0},{"$f":"IFERROR($E287*SUMIF('Daily Log'!$CB$18:$CB$1017,$B287,'Daily Log'!$CC$18:$CC$1017),0)","v":0},{"$f":"IFERROR($E287*SUMIF('Daily Log'!$CE$18:$CE$1017,$B287,'Daily Log'!$CF$18:$CF$1017),0)","v":0},{"$f":"IFERROR($E287*SUMIF('Daily Log'!$CH$18:$CH$1017,$B287,'Daily Log'!$CI$18:$CI$1017),0)","v":0},{"$f":"IFERROR($E287*SUMIF('Daily Log'!$CK$18:$CK$1017,$B287,'Daily Log'!$CL$18:$CL$1017),0)","v":0},{"$f":"IFERROR($E287*SUMIF('Daily Log'!$CN$18:$CN$1017,$B287,'Daily Log'!$CO$18:$CO$1017),0)","v":0}]
[null,"10404:Guinness Round",null,"BEER",12,0,{"$f":"IFERROR($E288*SUMIF('Daily Log'!$B$18:$B$1017,$B288,'Daily Log'!$C$18:$C$1017),0)","v":0},{"$f":"IFERROR($E288*SUMIF('Daily Log'!$E$18:$E$1017,$B288,'Daily Log'!$F$18:$F$1017),0)","v":0},{"$f":"IFERROR($E288*SUMIF('Daily Log'!$H$18:$H$1017,$B288,'Daily Log'!$I$18:$I$1017),0)","v":0},{"$f":"IFERROR($E288*SUMIF('Daily Log'!$K$18:$K$1017,$B288,'Daily Log'!$L$18:$L$1017),0)","v":0},{"$f":"IFERROR($E288*SUMIF('Daily Log'!$N$18:$N$1017,$B288,'Daily Log'!$O$18:$O$1017),0)","v":0},{"$f":"IFERROR($E288*SUMIF('Daily Log'!$Q$18:$Q$1017,$B288,'Daily Log'!$R$18:$R$1017),0)","v":0},{"$f":"IFERROR($E288*SUMIF('Daily Log'!$T$18:$T$1017,$B288,'Daily Log'!$U$18:$U$1017),0)","v":0},{"$f":"IFERROR($E288*SUMIF('Daily Log'!$W$18:$W$1017,$B288,'Daily Log'!$X$18:$X$1017),0)","v":0},{"$f":"IFERROR($E288*SUMIF('Daily Log'!$Z$18:$Z$1017,$B288,'Daily Log'!$AA$18:$AA$1017),0)","v":0},{"$f":"IFERROR($E288*SUMIF('Daily Log'!$AC$18:$AC$1017,$B288,'Daily Log'!$AD$18:$AD$1017),0)","v":0},{"$f":"IFERROR($E288*SUMIF('Daily Log'!$AF$18:$AF$1017,$B288,'Daily Log'!$AG$18:$AG$1017),0)","v":0},{"$f":"IFERROR($E288*SUMIF('Daily Log'!$AI$18:$AI$1017,$B288,'Daily Log'!$AJ$18:$AJ$1017),0)","v":0},{"$f":"IFERROR($E288*SUMIF('Daily Log'!$AL$18:$AL$1017,$B288,'Daily Log'!$AM$18:$AM$1017),0)","v":0},{"$f":"IFERROR($E288*SUMIF('Daily Log'!$AO$18:$AO$1017,$B288,'Daily Log'!$AP$18:$AP$1017),0)","v":0},{"$f":"IFERROR($E288*SUMIF('Daily Log'!$AR$18:$AR$1017,$B288,'Daily Log'!$AS$18:$AS$1017),0)","v":0},{"$f":"IFERROR($E288*SUMIF('Daily Log'!$AU$18:$AU$1017,$B288,'Daily Log'!$AV$18:$AV$1017),0)","v":0},{"$f":"IFERROR($E288*SUMIF('Daily Log'!$AX$18:$AX$1017,$B288,'Daily Log'!$AY$18:$AY$1017),0)","v":0},{"$f":"IFERROR($E288*SUMIF('Daily Log'!$BA$18:$BA$1017,$B288,'Daily Log'!$BB$18:$BB$1017),0)","v":0},{"$f":"IFERROR($E288*SUMIF('Daily Log'!$BD$18:$BD$1017,$B288,'Daily Log'!$BE$18:$BE$1017),0)","v":0},{"$f":"IFERROR($E288*SUMIF('Daily Log'!$BG$18:$BG$1017,$B288,'Daily Log'!$BH$18:$BH$1017),0)","v":0},{"$f":"IFERROR($E288*SUMIF('Daily Log'!$BJ$18:$BJ$1017,$B288,'Daily Log'!$BK$18:$BK$1017),0)","v":0},{"$f":"IFERROR($E288*SUMIF('Daily Log'!$BM$18:$BM$1017,$B288,'Daily Log'!$BN$18:$BN$1017),0)","v":0},{"$f":"IFERROR($E288*SUMIF('Daily Log'!$BP$18:$BP$1017,$B288,'Daily Log'!$BQ$18:$BQ$1017),0)","v":0},{"$f":"IFERROR($E288*SUMIF('Daily Log'!$BS$18:$BS$1017,$B288,'Daily Log'!$BT$18:$BT$1017),0)","v":0},{"$f":"IFERROR($E288*SUMIF('Daily Log'!$BV$18:$BV$1017,$B288,'Daily Log'!$BW$18:$BW$1017),0)","v":0},{"$f":"IFERROR($E288*SUMIF('Daily Log'!$BY$18:$BY$1017,$B288,'Daily Log'!$BZ$18:$BZ$1017),0)","v":0},{"$f":"IFERROR($E288*SUMIF('Daily Log'!$CB$18:$CB$1017,$B288,'Daily Log'!$CC$18:$CC$1017),0)","v":0},{"$f":"IFERROR($E288*SUMIF('Daily Log'!$CE$18:$CE$1017,$B288,'Daily Log'!$CF$18:$CF$1017),0)","v":0},{"$f":"IFERROR($E288*SUMIF('Daily Log'!$CH$18:$CH$1017,$B288,'Daily Log'!$CI$18:$CI$1017),0)","v":0},{"$f":"IFERROR($E288*SUMIF('Daily Log'!$CK$18:$CK$1017,$B288,'Daily Log'!$CL$18:$CL$1017),0)","v":0},{"$f":"IFERROR($E288*SUMIF('Daily Log'!$CN$18:$CN$1017,$B288,'Daily Log'!$CO$18:$CO$1017),0)","v":0}]
[null,"09038:Mango Smoothies",null,"SMOOTHIES",1,0,{"$f":"IFERROR($E289*SUMIF('Daily Log'!$B$18:$B$1017,$B289,'Daily Log'!$C$18:$C$1017),0)","v":0},{"$f":"IFERROR($E289*SUMIF('Daily Log'!$E$18:$E$1017,$B289,'Daily Log'!$F$18:$F$1017),0)","v":0},{"$f":"IFERROR($E289*SUMIF('Daily Log'!$H$18:$H$1017,$B289,'Daily Log'!$I$18:$I$1017),0)","v":0},{"$f":"IFERROR($E289*SUMIF('Daily Log'!$K$18:$K$1017,$B289,'Daily Log'!$L$18:$L$1017),0)","v":0},{"$f":"IFERROR($E289*SUMIF('Daily Log'!$N$18:$N$1017,$B289,'Daily Log'!$O$18:$O$1017),0)","v":0},{"$f":"IFERROR($E289*SUMIF('Daily Log'!$Q$18:$Q$1017,$B289,'Daily Log'!$R$18:$R$1017),0)","v":0},{"$f":"IFERROR($E289*SUMIF('Daily Log'!$T$18:$T$1017,$B289,'Daily Log'!$U$18:$U$1017),0)","v":0},{"$f":"IFERROR($E289*SUMIF('Daily Log'!$W$18:$W$1017,$B289,'Daily Log'!$X$18:$X$1017),0)","v":0},{"$f":"IFERROR($E289*SUMIF('Daily Log'!$Z$18:$Z$1017,$B289,'Daily Log'!$AA$18:$AA$1017),0)","v":0},{"$f":"IFERROR($E289*SUMIF('Daily Log'!$AC$18:$AC$1017,$B289,'Daily Log'!$AD$18:$AD$1017),0)","v":0},{"$f":"IFERROR($E289*SUMIF('Daily Log'!$AF$18:$AF$1017,$B289,'Daily Log'!$AG$18:$AG$1017),0)","v":0},{"$f":"IFERROR($E289*SUMIF('Daily Log'!$AI$18:$AI$1017,$B289,'Daily Log'!$AJ$18:$AJ$1017),0)","v":0},{"$f":"IFERROR($E289*SUMIF('Daily Log'!$AL$18:$AL$1017,$B289,'Daily Log'!$AM$18:$AM$1017),0)","v":0},{"$f":"IFERROR($E289*SUMIF('Daily Log'!$AO$18:$AO$1017,$B289,'Daily Log'!$AP$18:$AP$1017),0)","v":0},{"$f":"IFERROR($E289*SUMIF('Daily Log'!$AR$18:$AR$1017,$B289,'Daily Log'!$AS$18:$AS$1017),0)","v":0},{"$f":"IFERROR($E289*SUMIF('Daily Log'!$AU$18:$AU$1017,$B289,'Daily Log'!$AV$18:$AV$1017),0)","v":0},{"$f":"IFERROR($E289*SUMIF('Daily Log'!$AX$18:$AX$1017,$B289,'Daily Log'!$AY$18:$AY$1017),0)","v":0},{"$f":"IFERROR($E289*SUMIF('Daily Log'!$BA$18:$BA$1017,$B289,'Daily Log'!$BB$18:$BB$1017),0)","v":0},{"$f":"IFERROR($E289*SUMIF('Daily Log'!$BD$18:$BD$1017,$B289,'Daily Log'!$BE$18:$BE$1017),0)","v":0},{"$f":"IFERROR($E289*SUMIF('Daily Log'!$BG$18:$BG$1017,$B289,'Daily Log'!$BH$18:$BH$1017),0)","v":0},{"$f":"IFERROR($E289*SUMIF('Daily Log'!$BJ$18:$BJ$1017,$B289,'Daily Log'!$BK$18:$BK$1017),0)","v":0},{"$f":"IFERROR($E289*SUMIF('Daily Log'!$BM$18:$BM$1017,$B289,'Daily Log'!$BN$18:$BN$1017),0)","v":0},{"$f":"IFERROR($E289*SUMIF('Daily Log'!$BP$18:$BP$1017,$B289,'Daily Log'!$BQ$18:$BQ$1017),0)","v":0},{"$f":"IFERROR($E289*SUMIF('Daily Log'!$BS$18:$BS$1017,$B289,'Daily Log'!$BT$18:$BT$1017),0)","v":0},{"$f":"IFERROR($E289*SUMIF('Daily Log'!$BV$18:$BV$1017,$B289,'Daily Log'!$BW$18:$BW$1017),0)","v":0},{"$f":"IFERROR($E289*SUMIF('Daily Log'!$BY$18:$BY$1017,$B289,'Daily Log'!$BZ$18:$BZ$1017),0)","v":0},{"$f":"IFERROR($E289*SUMIF('Daily Log'!$CB$18:$CB$1017,$B289,'Daily Log'!$CC$18:$CC$1017),0)","v":0},{"$f":"IFERROR($E289*SUMIF('Daily Log'!$CE$18:$CE$1017,$B289,'Daily Log'!$CF$18:$CF$1017),0)","v":0},{"$f":"IFERROR($E289*SUMIF('Daily Log'!$CH$18:$CH$1017,$B289,'Daily Log'!$CI$18:$CI$1017),0)","v":0},{"$f":"IFERROR($E289*SUMIF('Daily Log'!$CK$18:$CK$1017,$B289,'Daily Log'!$CL$18:$CL$1017),0)","v":0},{"$f":"IFERROR($E289*SUMIF('Daily Log'!$CN$18:$CN$1017,$B289,'Daily Log'!$CO$18:$CO$1017),0)","v":0}]
[null,"10301:Cocktail-Screw Driver",null,"COCKTAIL",1,1,{"$f":"IFERROR($E290*SUMIF('Daily Log'!$B$18:$B$1017,$B290,'Daily Log'!$C$18:$C$1017),0)","v":0},{"$f":"IFERROR($E290*SUMIF('Daily Log'!$E$18:$E$1017,$B290,'Daily Log'!$F$18:$F$1017),0)","v":0},{"$f":"IFERROR($E290*SUMIF('Daily Log'!$H$18:$H$1017,$B290,'Daily Log'!$I$18:$I$1017),0)","v":0},{"$f":"IFERROR($E290*SUMIF('Daily Log'!$K$18:$K$1017,$B290,'Daily Log'!$L$18:$L$1017),0)","v":0},{"$f":"IFERROR($E290*SUMIF('Daily Log'!$N$18:$N$1017,$B290,'Daily Log'!$O$18:$O$1017),0)","v":0},{"$f":"IFERROR($E290*SUMIF('Daily Log'!$Q$18:$Q$1017,$B290,'Daily Log'!$R$18:$R$1017),0)","v":0},{"$f":"IFERROR($E290*SUMIF('Daily Log'!$T$18:$T$1017,$B290,'Daily Log'!$U$18:$U$1017),0)","v":0},{"$f":"IFERROR($E290*SUMIF('Daily Log'!$W$18:$W$1017,$B290,'Daily Log'!$X$18:$X$1017),0)","v":0},{"$f":"IFERROR($E290*SUMIF('Daily Log'!$Z$18:$Z$1017,$B290,'Daily Log'!$AA$18:$AA$1017),0)","v":1},{"$f":"IFERROR($E290*SUMIF('Daily Log'!$AC$18:$AC$1017,$B290,'Daily Log'!$AD$18:$AD$1017),0)","v":0},{"$f":"IFERROR($E290*SUMIF('Daily Log'!$AF$18:$AF$1017,$B290,'Daily Log'!$AG$18:$AG$1017),0)","v":0},{"$f":"IFERROR($E290*SUMIF('Daily Log'!$AI$18:$AI$1017,$B290,'Daily Log'!$AJ$18:$AJ$1017),0)","v":0},{"$f":"IFERROR($E290*SUMIF('Daily Log'!$AL$18:$AL$1017,$B290,'Daily Log'!$AM$18:$AM$1017),0)","v":0},{"$f":"IFERROR($E290*SUMIF('Daily Log'!$AO$18:$AO$1017,$B290,'Daily Log'!$AP$18:$AP$1017),0)","v":0},{"$f":"IFERROR($E290*SUMIF('Daily Log'!$AR$18:$AR$1017,$B290,'Daily Log'!$AS$18:$AS$1017),0)","v":0},{"$f":"IFERROR($E290*SUMIF('Daily Log'!$AU$18:$AU$1017,$B290,'Daily Log'!$AV$18:$AV$1017),0)","v":0},{"$f":"IFERROR($E290*SUMIF('Daily Log'!$AX$18:$AX$1017,$B290,'Daily Log'!$AY$18:$AY$1017),0)","v":0},{"$f":"IFERROR($E290*SUMIF('Daily Log'!$BA$18:$BA$1017,$B290,'Daily Log'!$BB$18:$BB$1017),0)","v":0},{"$f":"IFERROR($E290*SUMIF('Daily Log'!$BD$18:$BD$1017,$B290,'Daily Log'!$BE$18:$BE$1017),0)","v":0},{"$f":"IFERROR($E290*SUMIF('Daily Log'!$BG$18:$BG$1017,$B290,'Daily Log'!$BH$18:$BH$1017),0)","v":0},{"$f":"IFERROR($E290*SUMIF('Daily Log'!$BJ$18:$BJ$1017,$B290,'Daily Log'!$BK$18:$BK$1017),0)","v":0},{"$f":"IFERROR($E290*SUMIF('Daily Log'!$BM$18:$BM$1017,$B290,'Daily Log'!$BN$18:$BN$1017),0)","v":0},{"$f":"IFERROR($E290*SUMIF('Daily Log'!$BP$18:$BP$1017,$B290,'Daily Log'!$BQ$18:$BQ$1017),0)","v":0},{"$f":"IFERROR($E290*SUMIF('Daily Log'!$BS$18:$BS$1017,$B290,'Daily Log'!$BT$18:$BT$1017),0)","v":0},{"$f":"IFERROR($E290*SUMIF('Daily Log'!$BV$18:$BV$1017,$B290,'Daily Log'!$BW$18:$BW$1017),0)","v":0},{"$f":"IFERROR($E290*SUMIF('Daily Log'!$BY$18:$BY$1017,$B290,'Daily Log'!$BZ$18:$BZ$1017),0)","v":0},{"$f":"IFERROR($E290*SUMIF('Daily Log'!$CB$18:$CB$1017,$B290,'Daily Log'!$CC$18:$CC$1017),0)","v":0},{"$f":"IFERROR($E290*SUMIF('Daily Log'!$CE$18:$CE$1017,$B290,'Daily Log'!$CF$18:$CF$1017),0)","v":0},{"$f":"IFERROR($E290*SUMIF('Daily Log'!$CH$18:$CH$1017,$B290,'Daily Log'!$CI$18:$CI$1017),0)","v":0},{"$f":"IFERROR($E290*SUMIF('Daily Log'!$CK$18:$CK$1017,$B290,'Daily Log'!$CL$18:$CL$1017),0)","v":0},{"$f":"IFERROR($E290*SUMIF('Daily Log'!$CN$18:$CN$1017,$B290,'Daily Log'!$CO$18:$CO$1017),0)","v":0}]
[null,"10302:Cocktail-Vodka Ribena",null,"COCKTAIL",1,1,{"$f":"IFERROR($E291*SUMIF('Daily Log'!$B$18:$B$1017,$B291,'Daily Log'!$C$18:$C$1017),0)","v":0},{"$f":"IFERROR($E291*SUMIF('Daily Log'!$E$18:$E$1017,$B291,'Daily Log'!$F$18:$F$1017),0)","v":0},{"$f":"IFERROR($E291*SUMIF('Daily Log'!$H$18:$H$1017,$B291,'Daily Log'!$I$18:$I$1017),0)","v":0},{"$f":"IFERROR($E291*SUMIF('Daily Log'!$K$18:$K$1017,$B291,'Daily Log'!$L$18:$L$1017),0)","v":0},{"$f":"IFERROR($E291*SUMIF('Daily Log'!$N$18:$N$1017,$B291,'Daily Log'!$O$18:$O$1017),0)","v":0},{"$f":"IFERROR($E291*SUMIF('Daily Log'!$Q$18:$Q$1017,$B291,'Daily Log'!$R$18:$R$1017),0)","v":0},{"$f":"IFERROR($E291*SUMIF('Daily Log'!$T$18:$T$1017,$B291,'Daily Log'!$U$18:$U$1017),0)","v":0},{"$f":"IFERROR($E291*SUMIF('Daily Log'!$W$18:$W$1017,$B291,'Daily Log'!$X$18:$X$1017),0)","v":0},{"$f":"IFERROR($E291*SUMIF('Daily Log'!$Z$18:$Z$1017,$B291,'Daily Log'!$AA$18:$AA$1017),0)","v":1},{"$f":"IFERROR($E291*SUMIF('Daily Log'!$AC$18:$AC$1017,$B291,'Daily Log'!$AD$18:$AD$1017),0)","v":0},{"$f":"IFERROR($E291*SUMIF('Daily Log'!$AF$18:$AF$1017,$B291,'Daily Log'!$AG$18:$AG$1017),0)","v":0},{"$f":"IFERROR($E291*SUMIF('Daily Log'!$AI$18:$AI$1017,$B291,'Daily Log'!$AJ$18:$AJ$1017),0)","v":0},{"$f":"IFERROR($E291*SUMIF('Daily Log'!$AL$18:$AL$1017,$B291,'Daily Log'!$AM$18:$AM$1017),0)","v":0},{"$f":"IFERROR($E291*SUMIF('Daily Log'!$AO$18:$AO$1017,$B291,'Daily Log'!$AP$18:$AP$1017),0)","v":0},{"$f":"IFERROR($E291*SUMIF('Daily Log'!$AR$18:$AR$1017,$B291,'Daily Log'!$AS$18:$AS$1017),0)","v":0},{"$f":"IFERROR($E291*SUMIF('Daily Log'!$AU$18:$AU$1017,$B291,'Daily Log'!$AV$18:$AV$1017),0)","v":0},{"$f":"IFERROR($E291*SUMIF('Daily Log'!$AX$18:$AX$1017,$B291,'Daily Log'!$AY$18:$AY$1017),0)","v":0},{"$f":"IFERROR($E291*SUMIF('Daily Log'!$BA$18:$BA$1017,$B291,'Daily Log'!$BB$18:$BB$1017),0)","v":0},{"$f":"IFERROR($E291*SUMIF('Daily Log'!$BD$18:$BD$1017,$B291,'Daily Log'!$BE$18:$BE$1017),0)","v":0},{"$f":"IFERROR($E291*SUMIF('Daily Log'!$BG$18:$BG$1017,$B291,'Daily Log'!$BH$18:$BH$1017),0)","v":0},{"$f":"IFERROR($E291*SUMIF('Daily Log'!$BJ$18:$BJ$1017,$B291,'Daily Log'!$BK$18:$BK$1017),0)","v":0},{"$f":"IFERROR($E291*SUMIF('Daily Log'!$BM$18:$BM$1017,$B291,'Daily Log'!$BN$18:$BN$1017),0)","v":0},{"$f":"IFERROR($E291*SUMIF('Daily Log'!$BP$18:$BP$1017,$B291,'Daily Log'!$BQ$18:$BQ$1017),0)","v":0},{"$f":"IFERROR($E291*SUMIF('Daily Log'!$BS$18:$BS$1017,$B291,'Daily Log'!$BT$18:$BT$1017),0)","v":0},{"$f":"IFERROR($E291*SUMIF('Daily Log'!$BV$18:$BV$1017,$B291,'Daily Log'!$BW$18:$BW$1017),0)","v":0},{"$f":"IFERROR($E291*SUMIF('Daily Log'!$BY$18:$BY$1017,$B291,'Daily Log'!$BZ$18:$BZ$1017),0)","v":0},{"$f":"IFERROR($E291*SUMIF('Daily Log'!$CB$18:$CB$1017,$B291,'Daily Log'!$CC$18:$CC$1017),0)","v":0},{"$f":"IFERROR($E291*SUMIF('Daily Log'!$CE$18:$CE$1017,$B291,'Daily Log'!$CF$18:$CF$1017),0)","v":0},{"$f":"IFERROR($E291*SUMIF('Daily Log'!$CH$18:$CH$1017,$B291,'Daily Log'!$CI$18:$CI$1017),0)","v":0},{"$f":"IFERROR($E291*SUMIF('Daily Log'!$CK$18:$CK$1017,$B291,'Daily Log'!$CL$18:$CL$1017),0)","v":0},{"$f":"IFERROR($E291*SUMIF('Daily Log'!$CN$18:$CN$1017,$B291,'Daily Log'!$CO$18:$CO$1017),0)","v":0}]
[null,"10305:Cocktail-Sangria",null,"COCKTAIL",1,0,{"$f":"IFERROR($E292*SUMIF('Daily Log'!$B$18:$B$1017,$B292,'Daily Log'!$C$18:$C$1017),0)","v":0},{"$f":"IFERROR($E292*SUMIF('Daily Log'!$E$18:$E$1017,$B292,'Daily Log'!$F$18:$F$1017),0)","v":0},{"$f":"IFERROR($E292*SUMIF('Daily Log'!$H$18:$H$1017,$B292,'Daily Log'!$I$18:$I$1017),0)","v":0},{"$f":"IFERROR($E292*SUMIF('Daily Log'!$K$18:$K$1017,$B292,'Daily Log'!$L$18:$L$1017),0)","v":0},{"$f":"IFERROR($E292*SUMIF('Daily Log'!$N$18:$N$1017,$B292,'Daily Log'!$O$18:$O$1017),0)","v":0},{"$f":"IFERROR($E292*SUMIF('Daily Log'!$Q$18:$Q$1017,$B292,'Daily Log'!$R$18:$R$1017),0)","v":0},{"$f":"IFERROR($E292*SUMIF('Daily Log'!$T$18:$T$1017,$B292,'Daily Log'!$U$18:$U$1017),0)","v":0},{"$f":"IFERROR($E292*SUMIF('Daily Log'!$W$18:$W$1017,$B292,'Daily Log'!$X$18:$X$1017),0)","v":0},{"$f":"IFERROR($E292*SUMIF('Daily Log'!$Z$18:$Z$1017,$B292,'Daily Log'!$AA$18:$AA$1017),0)","v":0},{"$f":"IFERROR($E292*SUMIF('Daily Log'!$AC$18:$AC$1017,$B292,'Daily Log'!$AD$18:$AD$1017),0)","v":0},{"$f":"IFERROR($E292*SUMIF('Daily Log'!$AF$18:$AF$1017,$B292,'Daily Log'!$AG$18:$AG$1017),0)","v":0},{"$f":"IFERROR($E292*SUMIF('Daily Log'!$AI$18:$AI$1017,$B292,'Daily Log'!$AJ$18:$AJ$1017),0)","v":0},{"$f":"IFERROR($E292*SUMIF('Daily Log'!$AL$18:$AL$1017,$B292,'Daily Log'!$AM$18:$AM$1017),0)","v":0},{"$f":"IFERROR($E292*SUMIF('Daily Log'!$AO$18:$AO$1017,$B292,'Daily Log'!$AP$18:$AP$1017),0)","v":0},{"$f":"IFERROR($E292*SUMIF('Daily Log'!$AR$18:$AR$1017,$B292,'Daily Log'!$AS$18:$AS$1017),0)","v":0},{"$f":"IFERROR($E292*SUMIF('Daily Log'!$AU$18:$AU$1017,$B292,'Daily Log'!$AV$18:$AV$1017),0)","v":0},{"$f":"IFERROR($E292*SUMIF('Daily Log'!$AX$18:$AX$1017,$B292,'Daily Log'!$AY$18:$AY$1017),0)","v":0},{"$f":"IFERROR($E292*SUMIF('Daily Log'!$BA$18:$BA$1017,$B292,'Daily Log'!$BB$18:$BB$1017),0)","v":0},{"$f":"IFERROR($E292*SUMIF('Daily Log'!$BD$18:$BD$1017,$B292,'Daily Log'!$BE$18:$BE$1017),0)","v":0},{"$f":"IFERROR($E292*SUMIF('Daily Log'!$BG$18:$BG$1017,$B292,'Daily Log'!$BH$18:$BH$1017),0)","v":0},{"$f":"IFERROR($E292*SUMIF('Daily Log'!$BJ$18:$BJ$1017,$B292,'Daily Log'!$BK$18:$BK$1017),0)","v":0},{"$f":"IFERROR($E292*SUMIF('Daily Log'!$BM$18:$BM$1017,$B292,'Daily Log'!$BN$18:$BN$1017),0)","v":0},{"$f":"IFERROR($E292*SUMIF('Daily Log'!$BP$18:$BP$1017,$B292,'Daily Log'!$BQ$18:$BQ$1017),0)","v":0},{"$f":"IFERROR($E292*SUMIF('Daily Log'!$BS$18:$BS$1017,$B292,'Daily Log'!$BT$18:$BT$1017),0)","v":0},{"$f":"IFERROR($E292*SUMIF('Daily Log'!$BV$18:$BV$1017,$B292,'Daily Log'!$BW$18:$BW$1017),0)","v":0},{"$f":"IFERROR($E292*SUMIF('Daily Log'!$BY$18:$BY$1017,$B292,'Daily Log'!$BZ$18:$BZ$1017),0)","v":0},{"$f":"IFERROR($E292*SUMIF('Daily Log'!$CB$18:$CB$1017,$B292,'Daily Log'!$CC$18:$CC$1017),0)","v":0},{"$f":"IFERROR($E292*SUMIF('Daily Log'!$CE$18:$CE$1017,$B292,'Daily Log'!$CF$18:$CF$1017),0)","v":0},{"$f":"IFERROR($E292*SUMIF('Daily Log'!$CH$18:$CH$1017,$B292,'Daily Log'!$CI$18:$CI$1017),0)","v":0},{"$f":"IFERROR($E292*SUMIF('Daily Log'!$CK$18:$CK$1017,$B292,'Daily Log'!$CL$18:$CL$1017),0)","v":0},{"$f":"IFERROR($E292*SUMIF('Daily Log'!$CN$18:$CN$1017,$B292,'Daily Log'!$CO$18:$CO$1017),0)","v":0}]
[null,"10505:Cocktail Buy 2 Free 1",null,"COCKTAIL",3,3,{"$f":"IFERROR($E293*SUMIF('Daily Log'!$B$18:$B$1017,$B293,'Daily Log'!$C$18:$C$1017),0)","v":0},{"$f":"IFERROR($E293*SUMIF('Daily Log'!$E$18:$E$1017,$B293,'Daily Log'!$F$18:$F$1017),0)","v":0},{"$f":"IFERROR($E293*SUMIF('Daily Log'!$H$18:$H$1017,$B293,'Daily Log'!$I$18:$I$1017),0)","v":0},{"$f":"IFERROR($E293*SUMIF('Daily Log'!$K$18:$K$1017,$B293,'Daily Log'!$L$18:$L$1017),0)","v":0},{"$f":"IFERROR($E293*SUMIF('Daily Log'!$N$18:$N$1017,$B293,'Daily Log'!$O$18:$O$1017),0)","v":0},{"$f":"IFERROR($E293*SUMIF('Daily Log'!$Q$18:$Q$1017,$B293,'Daily Log'!$R$18:$R$1017),0)","v":0},{"$f":"IFERROR($E293*SUMIF('Daily Log'!$T$18:$T$1017,$B293,'Daily Log'!$U$18:$U$1017),0)","v":0},{"$f":"IFERROR($E293*SUMIF('Daily Log'!$W$18:$W$1017,$B293,'Daily Log'!$X$18:$X$1017),0)","v":0},{"$f":"IFERROR($E293*SUMIF('Daily Log'!$Z$18:$Z$1017,$B293,'Daily Log'!$AA$18:$AA$1017),0)","v":3},{"$f":"IFERROR($E293*SUMIF('Daily Log'!$AC$18:$AC$1017,$B293,'Daily Log'!$AD$18:$AD$1017),0)","v":0},{"$f":"IFERROR($E293*SUMIF('Daily Log'!$AF$18:$AF$1017,$B293,'Daily Log'!$AG$18:$AG$1017),0)","v":0},{"$f":"IFERROR($E293*SUMIF('Daily Log'!$AI$18:$AI$1017,$B293,'Daily Log'!$AJ$18:$AJ$1017),0)","v":0},{"$f":"IFERROR($E293*SUMIF('Daily Log'!$AL$18:$AL$1017,$B293,'Daily Log'!$AM$18:$AM$1017),0)","v":0},{"$f":"IFERROR($E293*SUMIF('Daily Log'!$AO$18:$AO$1017,$B293,'Daily Log'!$AP$18:$AP$1017),0)","v":0},{"$f":"IFERROR($E293*SUMIF('Daily Log'!$AR$18:$AR$1017,$B293,'Daily Log'!$AS$18:$AS$1017),0)","v":0},{"$f":"IFERROR($E293*SUMIF('Daily Log'!$AU$18:$AU$1017,$B293,'Daily Log'!$AV$18:$AV$1017),0)","v":0},{"$f":"IFERROR($E293*SUMIF('Daily Log'!$AX$18:$AX$1017,$B293,'Daily Log'!$AY$18:$AY$1017),0)","v":0},{"$f":"IFERROR($E293*SUMIF('Daily Log'!$BA$18:$BA$1017,$B293,'Daily Log'!$BB$18:$BB$1017),0)","v":0},{"$f":"IFERROR($E293*SUMIF('Daily Log'!$BD$18:$BD$1017,$B293,'Daily Log'!$BE$18:$BE$1017),0)","v":0},{"$f":"IFERROR($E293*SUMIF('Daily Log'!$BG$18:$BG$1017,$B293,'Daily Log'!$BH$18:$BH$1017),0)","v":0},{"$f":"IFERROR($E293*SUMIF('Daily Log'!$BJ$18:$BJ$1017,$B293,'Daily Log'!$BK$18:$BK$1017),0)","v":0},{"$f":"IFERROR($E293*SUMIF('Daily Log'!$BM$18:$BM$1017,$B293,'Daily Log'!$BN$18:$BN$1017),0)","v":0},{"$f":"IFERROR($E293*SUMIF('Daily Log'!$BP$18:$BP$1017,$B293,'Daily Log'!$BQ$18:$BQ$1017),0)","v":0},{"$f":"IFERROR($E293*SUMIF('Daily Log'!$BS$18:$BS$1017,$B293,'Daily Log'!$BT$18:$BT$1017),0)","v":0},{"$f":"IFERROR($E293*SUMIF('Daily Log'!$BV$18:$BV$1017,$B293,'Daily Log'!$BW$18:$BW$1017),0)","v":0},{"$f":"IFERROR($E293*SUMIF('Daily Log'!$BY$18:$BY$1017,$B293,'Daily Log'!$BZ$18:$BZ$1017),0)","v":0},{"$f":"IFERROR($E293*SUMIF('Daily Log'!$CB$18:$CB$1017,$B293,'Daily Log'!$CC$18:$CC$1017),0)","v":0},{"$f":"IFERROR($E293*SUMIF('Daily Log'!$CE$18:$CE$1017,$B293,'Daily Log'!$CF$18:$CF$1017),0)","v":0},{"$f":"IFERROR($E293*SUMIF('Daily Log'!$CH$18:$CH$1017,$B293,'Daily Log'!$CI$18:$CI$1017),0)","v":0},{"$f":"IFERROR($E293*SUMIF('Daily Log'!$CK$18:$CK$1017,$B293,'Daily Log'!$CL$18:$CL$1017),0)","v":0},{"$f":"IFERROR($E293*SUMIF('Daily Log'!$CN$18:$CN$1017,$B293,'Daily Log'!$CO$18:$CO$1017),0)","v":0}]
[null,"11525:S05-小鸡块块",null,"SIDE ORDER-APPETIZER",1,48,{"$f":"IFERROR($E294*SUMIF('Daily Log'!$B$18:$B$1017,$B294,'Daily Log'!$C$18:$C$1017),0)","v":0},{"$f":"IFERROR($E294*SUMIF('Daily Log'!$E$18:$E$1017,$B294,'Daily Log'!$F$18:$F$1017),0)","v":0},{"$f":"IFERROR($E294*SUMIF('Daily Log'!$H$18:$H$1017,$B294,'Daily Log'!$I$18:$I$1017),0)","v":0},{"$f":"IFERROR($E294*SUMIF('Daily Log'!$K$18:$K$1017,$B294,'Daily Log'!$L$18:$L$1017),0)","v":0},{"$f":"IFERROR($E294*SUMIF('Daily Log'!$N$18:$N$1017,$B294,'Daily Log'!$O$18:$O$1017),0)","v":0},{"$f":"IFERROR($E294*SUMIF('Daily Log'!$Q$18:$Q$1017,$B294,'Daily Log'!$R$18:$R$1017),0)","v":0},{"$f":"IFERROR($E294*SUMIF('Daily Log'!$T$18:$T$1017,$B294,'Daily Log'!$U$18:$U$1017),0)","v":4},{"$f":"IFERROR($E294*SUMIF('Daily Log'!$W$18:$W$1017,$B294,'Daily Log'!$X$18:$X$1017),0)","v":3},{"$f":"IFERROR($E294*SUMIF('Daily Log'!$Z$18:$Z$1017,$B294,'Daily Log'!$AA$18:$AA$1017),0)","v":12},{"$f":"IFERROR($E294*SUMIF('Daily Log'!$AC$18:$AC$1017,$B294,'Daily Log'!$AD$18:$AD$1017),0)","v":10},{"$f":"IFERROR($E294*SUMIF('Daily Log'!$AF$18:$AF$1017,$B294,'Daily Log'!$AG$18:$AG$1017),0)","v":9},{"$f":"IFERROR($E294*SUMIF('Daily Log'!$AI$18:$AI$1017,$B294,'Daily Log'!$AJ$18:$AJ$1017),0)","v":4},{"$f":"IFERROR($E294*SUMIF('Daily Log'!$AL$18:$AL$1017,$B294,'Daily Log'!$AM$18:$AM$1017),0)","v":6},{"$f":"IFERROR($E294*SUMIF('Daily Log'!$AO$18:$AO$1017,$B294,'Daily Log'!$AP$18:$AP$1017),0)","v":0},{"$f":"IFERROR($E294*SUMIF('Daily Log'!$AR$18:$AR$1017,$B294,'Daily Log'!$AS$18:$AS$1017),0)","v":0},{"$f":"IFERROR($E294*SUMIF('Daily Log'!$AU$18:$AU$1017,$B294,'Daily Log'!$AV$18:$AV$1017),0)","v":0},{"$f":"IFERROR($E294*SUMIF('Daily Log'!$AX$18:$AX$1017,$B294,'Daily Log'!$AY$18:$AY$1017),0)","v":0},{"$f":"IFERROR($E294*SUMIF('Daily Log'!$BA$18:$BA$1017,$B294,'Daily Log'!$BB$18:$BB$1017),0)","v":0},{"$f":"IFERROR($E294*SUMIF('Daily Log'!$BD$18:$BD$1017,$B294,'Daily Log'!$BE$18:$BE$1017),0)","v":0},{"$f":"IFERROR($E294*SUMIF('Daily Log'!$BG$18:$BG$1017,$B294,'Daily Log'!$BH$18:$BH$1017),0)","v":0},{"$f":"IFERROR($E294*SUMIF('Daily Log'!$BJ$18:$BJ$1017,$B294,'Daily Log'!$BK$18:$BK$1017),0)","v":0},{"$f":"IFERROR($E294*SUMIF('Daily Log'!$BM$18:$BM$1017,$B294,'Daily Log'!$BN$18:$BN$1017),0)","v":0},{"$f":"IFERROR($E294*SUMIF('Daily Log'!$BP$18:$BP$1017,$B294,'Daily Log'!$BQ$18:$BQ$1017),0)","v":0},{"$f":"IFERROR($E294*SUMIF('Daily Log'!$BS$18:$BS$1017,$B294,'Daily Log'!$BT$18:$BT$1017),0)","v":0},{"$f":"IFERROR($E294*SUMIF('Daily Log'!$BV$18:$BV$1017,$B294,'Daily Log'!$BW$18:$BW$1017),0)","v":0},{"$f":"IFERROR($E294*SUMIF('Daily Log'!$BY$18:$BY$1017,$B294,'Daily Log'!$BZ$18:$BZ$1017),0)","v":0},{"$f":"IFERROR($E294*SUMIF('Daily Log'!$CB$18:$CB$1017,$B294,'Daily Log'!$CC$18:$CC$1017),0)","v":0},{"$f":"IFERROR($E294*SUMIF('Daily Log'!$CE$18:$CE$1017,$B294,'Daily Log'!$CF$18:$CF$1017),0)","v":0},{"$f":"IFERROR($E294*SUMIF('Daily Log'!$CH$18:$CH$1017,$B294,'Daily Log'!$CI$18:$CI$1017),0)","v":0},{"$f":"IFERROR($E294*SUMIF('Daily Log'!$CK$18:$CK$1017,$B294,'Daily Log'!$CL$18:$CL$1017),0)","v":0},{"$f":"IFERROR($E294*SUMIF('Daily Log'!$CN$18:$CN$1017,$B294,'Daily Log'!$CO$18:$CO$1017),0)","v":0}]
[null,"11528:S07-小乳鸡翅",null,"SIDE ORDER-APPETIZER",1,42,{"$f":"IFERROR($E295*SUMIF('Daily Log'!$B$18:$B$1017,$B295,'Daily Log'!$C$18:$C$1017),0)","v":0},{"$f":"IFERROR($E295*SUMIF('Daily Log'!$E$18:$E$1017,$B295,'Daily Log'!$F$18:$F$1017),0)","v":0},{"$f":"IFERROR($E295*SUMIF('Daily Log'!$H$18:$H$1017,$B295,'Daily Log'!$I$18:$I$1017),0)","v":0},{"$f":"IFERROR($E295*SUMIF('Daily Log'!$K$18:$K$1017,$B295,'Daily Log'!$L$18:$L$1017),0)","v":0},{"$f":"IFERROR($E295*SUMIF('Daily Log'!$N$18:$N$1017,$B295,'Daily Log'!$O$18:$O$1017),0)","v":0},{"$f":"IFERROR($E295*SUMIF('Daily Log'!$Q$18:$Q$1017,$B295,'Daily Log'!$R$18:$R$1017),0)","v":0},{"$f":"IFERROR($E295*SUMIF('Daily Log'!$T$18:$T$1017,$B295,'Daily Log'!$U$18:$U$1017),0)","v":8},{"$f":"IFERROR($E295*SUMIF('Daily Log'!$W$18:$W$1017,$B295,'Daily Log'!$X$18:$X$1017),0)","v":4},{"$f":"IFERROR($E295*SUMIF('Daily Log'!$Z$18:$Z$1017,$B295,'Daily Log'!$AA$18:$AA$1017),0)","v":6},{"$f":"IFERROR($E295*SUMIF('Daily Log'!$AC$18:$AC$1017,$B295,'Daily Log'!$AD$18:$AD$1017),0)","v":5},{"$f":"IFERROR($E295*SUMIF('Daily Log'!$AF$18:$AF$1017,$B295,'Daily Log'!$AG$18:$AG$1017),0)","v":17},{"$f":"IFERROR($E295*SUMIF('Daily Log'!$AI$18:$AI$1017,$B295,'Daily Log'!$AJ$18:$AJ$1017),0)","v":1},{"$f":"IFERROR($E295*SUMIF('Daily Log'!$AL$18:$AL$1017,$B295,'Daily Log'!$AM$18:$AM$1017),0)","v":1},{"$f":"IFERROR($E295*SUMIF('Daily Log'!$AO$18:$AO$1017,$B295,'Daily Log'!$AP$18:$AP$1017),0)","v":0},{"$f":"IFERROR($E295*SUMIF('Daily Log'!$AR$18:$AR$1017,$B295,'Daily Log'!$AS$18:$AS$1017),0)","v":0},{"$f":"IFERROR($E295*SUMIF('Daily Log'!$AU$18:$AU$1017,$B295,'Daily Log'!$AV$18:$AV$1017),0)","v":0},{"$f":"IFERROR($E295*SUMIF('Daily Log'!$AX$18:$AX$1017,$B295,'Daily Log'!$AY$18:$AY$1017),0)","v":0},{"$f":"IFERROR($E295*SUMIF('Daily Log'!$BA$18:$BA$1017,$B295,'Daily Log'!$BB$18:$BB$1017),0)","v":0},{"$f":"IFERROR($E295*SUMIF('Daily Log'!$BD$18:$BD$1017,$B295,'Daily Log'!$BE$18:$BE$1017),0)","v":0},{"$f":"IFERROR($E295*SUMIF('Daily Log'!$BG$18:$BG$1017,$B295,'Daily Log'!$BH$18:$BH$1017),0)","v":0},{"$f":"IFERROR($E295*SUMIF('Daily Log'!$BJ$18:$BJ$1017,$B295,'Daily Log'!$BK$18:$BK$1017),0)","v":0},{"$f":"IFERROR($E295*SUMIF('Daily Log'!$BM$18:$BM$1017,$B295,'Daily Log'!$BN$18:$BN$1017),0)","v":0},{"$f":"IFERROR($E295*SUMIF('Daily Log'!$BP$18:$BP$1017,$B295,'Daily Log'!$BQ$18:$BQ$1017),0)","v":0},{"$f":"IFERROR($E295*SUMIF('Daily Log'!$BS$18:$BS$1017,$B295,'Daily Log'!$BT$18:$BT$1017),0)","v":0},{"$f":"IFERROR($E295*SUMIF('Daily Log'!$BV$18:$BV$1017,$B295,'Daily Log'!$BW$18:$BW$1017),0)","v":0},{"$f":"IFERROR($E295*SUMIF('Daily Log'!$BY$18:$BY$1017,$B295,'Daily Log'!$BZ$18:$BZ$1017),0)","v":0},{"$f":"IFERROR($E295*SUMIF('Daily Log'!$CB$18:$CB$1017,$B295,'Daily Log'!$CC$18:$CC$1017),0)","v":0},{"$f":"IFERROR($E295*SUMIF('Daily Log'!$CE$18:$CE$1017,$B295,'Daily Log'!$CF$18:$CF$1017),0)","v":0},{"$f":"IFERROR($E295*SUMIF('Daily Log'!$CH$18:$CH$1017,$B295,'Daily Log'!$CI$18:$CI$1017),0)","v":0},{"$f":"IFERROR($E295*SUMIF('Daily Log'!$CK$18:$CK$1017,$B295,'Daily Log'!$CL$18:$CL$1017),0)","v":0},{"$f":"IFERROR($E295*SUMIF('Daily Log'!$CN$18:$CN$1017,$B295,'Daily Log'!$CO$18:$CO$1017),0)","v":0}]
[null,"11625:L -S05-小鸡块块",null,"LUNCH SNACK",1,12,{"$f":"IFERROR($E296*SUMIF('Daily Log'!$B$18:$B$1017,$B296,'Daily Log'!$C$18:$C$1017),0)","v":0},{"$f":"IFERROR($E296*SUMIF('Daily Log'!$E$18:$E$1017,$B296,'Daily Log'!$F$18:$F$1017),0)","v":0},{"$f":"IFERROR($E296*SUMIF('Daily Log'!$H$18:$H$1017,$B296,'Daily Log'!$I$18:$I$1017),0)","v":0},{"$f":"IFERROR($E296*SUMIF('Daily Log'!$K$18:$K$1017,$B296,'Daily Log'!$L$18:$L$1017),0)","v":0},{"$f":"IFERROR($E296*SUMIF('Daily Log'!$N$18:$N$1017,$B296,'Daily Log'!$O$18:$O$1017),0)","v":0},{"$f":"IFERROR($E296*SUMIF('Daily Log'!$Q$18:$Q$1017,$B296,'Daily Log'!$R$18:$R$1017),0)","v":0},{"$f":"IFERROR($E296*SUMIF('Daily Log'!$T$18:$T$1017,$B296,'Daily Log'!$U$18:$U$1017),0)","v":3},{"$f":"IFERROR($E296*SUMIF('Daily Log'!$W$18:$W$1017,$B296,'Daily Log'!$X$18:$X$1017),0)","v":2},{"$f":"IFERROR($E296*SUMIF('Daily Log'!$Z$18:$Z$1017,$B296,'Daily Log'!$AA$18:$AA$1017),0)","v":1},{"$f":"IFERROR($E296*SUMIF('Daily Log'!$AC$18:$AC$1017,$B296,'Daily Log'!$AD$18:$AD$1017),0)","v":0},{"$f":"IFERROR($E296*SUMIF('Daily Log'!$AF$18:$AF$1017,$B296,'Daily Log'!$AG$18:$AG$1017),0)","v":1},{"$f":"IFERROR($E296*SUMIF('Daily Log'!$AI$18:$AI$1017,$B296,'Daily Log'!$AJ$18:$AJ$1017),0)","v":2},{"$f":"IFERROR($E296*SUMIF('Daily Log'!$AL$18:$AL$1017,$B296,'Daily Log'!$AM$18:$AM$1017),0)","v":3},{"$f":"IFERROR($E296*SUMIF('Daily Log'!$AO$18:$AO$1017,$B296,'Daily Log'!$AP$18:$AP$1017),0)","v":0},{"$f":"IFERROR($E296*SUMIF('Daily Log'!$AR$18:$AR$1017,$B296,'Daily Log'!$AS$18:$AS$1017),0)","v":0},{"$f":"IFERROR($E296*SUMIF('Daily Log'!$AU$18:$AU$1017,$B296,'Daily Log'!$AV$18:$AV$1017),0)","v":0},{"$f":"IFERROR($E296*SUMIF('Daily Log'!$AX$18:$AX$1017,$B296,'Daily Log'!$AY$18:$AY$1017),0)","v":0},{"$f":"IFERROR($E296*SUMIF('Daily Log'!$BA$18:$BA$1017,$B296,'Daily Log'!$BB$18:$BB$1017),0)","v":0},{"$f":"IFERROR($E296*SUMIF('Daily Log'!$BD$18:$BD$1017,$B296,'Daily Log'!$BE$18:$BE$1017),0)","v":0},{"$f":"IFERROR($E296*SUMIF('Daily Log'!$BG$18:$BG$1017,$B296,'Daily Log'!$BH$18:$BH$1017),0)","v":0},{"$f":"IFERROR($E296*SUMIF('Daily Log'!$BJ$18:$BJ$1017,$B296,'Daily Log'!$BK$18:$BK$1017),0)","v":0},{"$f":"IFERROR($E296*SUMIF('Daily Log'!$BM$18:$BM$1017,$B296,'Daily Log'!$BN$18:$BN$1017),0)","v":0},{"$f":"IFERROR($E296*SUMIF('Daily Log'!$BP$18:$BP$1017,$B296,'Daily Log'!$BQ$18:$BQ$1017),0)","v":0},{"$f":"IFERROR($E296*SUMIF('Daily Log'!$BS$18:$BS$1017,$B296,'Daily Log'!$BT$18:$BT$1017),0)","v":0},{"$f":"IFERROR($E296*SUMIF('Daily Log'!$BV$18:$BV$1017,$B296,'Daily Log'!$BW$18:$BW$1017),0)","v":0},{"$f":"IFERROR($E296*SUMIF('Daily Log'!$BY$18:$BY$1017,$B296,'Daily Log'!$BZ$18:$BZ$1017),0)","v":0},{"$f":"IFERROR($E296*SUMIF('Daily Log'!$CB$18:$CB$1017,$B296,'Daily Log'!$CC$18:$CC$1017),0)","v":0},{"$f":"IFERROR($E296*SUMIF('Daily Log'!$CE$18:$CE$1017,$B296,'Daily Log'!$CF$18:$CF$1017),0)","v":0},{"$f":"IFERROR($E296*SUMIF('Daily Log'!$CH$18:$CH$1017,$B296,'Daily Log'!$CI$18:$CI$1017),0)","v":0},{"$f":"IFERROR($E296*SUMIF('Daily Log'!$CK$18:$CK$1017,$B296,'Daily Log'!$CL$18:$CL$1017),0)","v":0},{"$f":"IFERROR($E296*SUMIF('Daily Log'!$CN$18:$CN$1017,$B296,'Daily Log'!$CO$18:$CO$1017),0)","v":0}]
[null,"11628:L -S07-小乳鸡翅",null,"LUNCH SNACK",1,11,{"$f":"IFERROR($E297*SUMIF('Daily Log'!$B$18:$B$1017,$B297,'Daily Log'!$C$18:$C$1017),0)","v":0},{"$f":"IFERROR($E297*SUMIF('Daily Log'!$E$18:$E$1017,$B297,'Daily Log'!$F$18:$F$1017),0)","v":0},{"$f":"IFERROR($E297*SUMIF('Daily Log'!$H$18:$H$1017,$B297,'Daily Log'!$I$18:$I$1017),0)","v":0},{"$f":"IFERROR($E297*SUMIF('Daily Log'!$K$18:$K$1017,$B297,'Daily Log'!$L$18:$L$1017),0)","v":0},{"$f":"IFERROR($E297*SUMIF('Daily Log'!$N$18:$N$1017,$B297,'Daily Log'!$O$18:$O$1017),0)","v":0},{"$f":"IFERROR($E297*SUMIF('Daily Log'!$Q$18:$Q$1017,$B297,'Daily Log'!$R$18:$R$1017),0)","v":0},{"$f":"IFERROR($E297*SUMIF('Daily Log'!$T$18:$T$1017,$B297,'Daily Log'!$U$18:$U$1017),0)","v":2},{"$f":"IFERROR($E297*SUMIF('Daily Log'!$W$18:$W$1017,$B297,'Daily Log'!$X$18:$X$1017),0)","v":0},{"$f":"IFERROR($E297*SUMIF('Daily Log'!$Z$18:$Z$1017,$B297,'Daily Log'!$AA$18:$AA$1017),0)","v":3},{"$f":"IFERROR($E297*SUMIF('Daily Log'!$AC$18:$AC$1017,$B297,'Daily Log'!$AD$18:$AD$1017),0)","v":0},{"$f":"IFERROR($E297*SUMIF('Daily Log'!$AF$18:$AF$1017,$B297,'Daily Log'!$AG$18:$AG$1017),0)","v":1},{"$f":"IFERROR($E297*SUMIF('Daily Log'!$AI$18:$AI$1017,$B297,'Daily Log'!$AJ$18:$AJ$1017),0)","v":2},{"$f":"IFERROR($E297*SUMIF('Daily Log'!$AL$18:$AL$1017,$B297,'Daily Log'!$AM$18:$AM$1017),0)","v":3},{"$f":"IFERROR($E297*SUMIF('Daily Log'!$AO$18:$AO$1017,$B297,'Daily Log'!$AP$18:$AP$1017),0)","v":0},{"$f":"IFERROR($E297*SUMIF('Daily Log'!$AR$18:$AR$1017,$B297,'Daily Log'!$AS$18:$AS$1017),0)","v":0},{"$f":"IFERROR($E297*SUMIF('Daily Log'!$AU$18:$AU$1017,$B297,'Daily Log'!$AV$18:$AV$1017),0)","v":0},{"$f":"IFERROR($E297*SUMIF('Daily Log'!$AX$18:$AX$1017,$B297,'Daily Log'!$AY$18:$AY$1017),0)","v":0},{"$f":"IFERROR($E297*SUMIF('Daily Log'!$BA$18:$BA$1017,$B297,'Daily Log'!$BB$18:$BB$1017),0)","v":0},{"$f":"IFERROR($E297*SUMIF('Daily Log'!$BD$18:$BD$1017,$B297,'Daily Log'!$BE$18:$BE$1017),0)","v":0},{"$f":"IFERROR($E297*SUMIF('Daily Log'!$BG$18:$BG$1017,$B297,'Daily Log'!$BH$18:$BH$1017),0)","v":0},{"$f":"IFERROR($E297*SUMIF('Daily Log'!$BJ$18:$BJ$1017,$B297,'Daily Log'!$BK$18:$BK$1017),0)","v":0},{"$f":"IFERROR($E297*SUMIF('Daily Log'!$BM$18:$BM$1017,$B297,'Daily Log'!$BN$18:$BN$1017),0)","v":0},{"$f":"IFERROR($E297*SUMIF('Daily Log'!$BP$18:$BP$1017,$B297,'Daily Log'!$BQ$18:$BQ$1017),0)","v":0},{"$f":"IFERROR($E297*SUMIF('Daily Log'!$BS$18:$BS$1017,$B297,'Daily Log'!$BT$18:$BT$1017),0)","v":0},{"$f":"IFERROR($E297*SUMIF('Daily Log'!$BV$18:$BV$1017,$B297,'Daily Log'!$BW$18:$BW$1017),0)","v":0},{"$f":"IFERROR($E297*SUMIF('Daily Log'!$BY$18:$BY$1017,$B297,'Daily Log'!$BZ$18:$BZ$1017),0)","v":0},{"$f":"IFERROR($E297*SUMIF('Daily Log'!$CB$18:$CB$1017,$B297,'Daily Log'!$CC$18:$CC$1017),0)","v":0},{"$f":"IFERROR($E297*SUMIF('Daily Log'!$CE$18:$CE$1017,$B297,'Daily Log'!$CF$18:$CF$1017),0)","v":0},{"$f":"IFERROR($E297*SUMIF('Daily Log'!$CH$18:$CH$1017,$B297,'Daily Log'!$CI$18:$CI$1017),0)","v":0},{"$f":"IFERROR($E297*SUMIF('Daily Log'!$CK$18:$CK$1017,$B297,'Daily Log'!$CL$18:$CL$1017),0)","v":0},{"$f":"IFERROR($E297*SUMIF('Daily Log'!$CN$18:$CN$1017,$B297,'Daily Log'!$CO$18:$CO$1017),0)","v":0}]
[null,"11507:C07-泰式鱼扒饭",null,null,1,12,{"$f":"IFERROR($E298*SUMIF('Daily Log'!$B$18:$B$1017,$B298,'Daily Log'!$C$18:$C$1017),0)","v":0},{"$f":"IFERROR($E298*SUMIF('Daily Log'!$E$18:$E$1017,$B298,'Daily Log'!$F$18:$F$1017),0)","v":0},{"$f":"IFERROR($E298*SUMIF('Daily Log'!$H$18:$H$1017,$B298,'Daily Log'!$I$18:$I$1017),0)","v":0},{"$f":"IFERROR($E298*SUMIF('Daily Log'!$K$18:$K$1017,$B298,'Daily Log'!$L$18:$L$1017),0)","v":0},{"$f":"IFERROR($E298*SUMIF('Daily Log'!$N$18:$N$1017,$B298,'Daily Log'!$O$18:$O$1017),0)","v":0},{"$f":"IFERROR($E298*SUMIF('Daily Log'!$Q$18:$Q$1017,$B298,'Daily Log'!$R$18:$R$1017),0)","v":0},{"$f":"IFERROR($E298*SUMIF('Daily Log'!$T$18:$T$1017,$B298,'Daily Log'!$U$18:$U$1017),0)","v":3},{"$f":"IFERROR($E298*SUMIF('Daily Log'!$W$18:$W$1017,$B298,'Daily Log'!$X$18:$X$1017),0)","v":1},{"$f":"IFERROR($E298*SUMIF('Daily Log'!$Z$18:$Z$1017,$B298,'Daily Log'!$AA$18:$AA$1017),0)","v":2},{"$f":"IFERROR($E298*SUMIF('Daily Log'!$AC$18:$AC$1017,$B298,'Daily Log'!$AD$18:$AD$1017),0)","v":3},{"$f":"IFERROR($E298*SUMIF('Daily Log'!$AF$18:$AF$1017,$B298,'Daily Log'!$AG$18:$AG$1017),0)","v":0},{"$f":"IFERROR($E298*SUMIF('Daily Log'!$AI$18:$AI$1017,$B298,'Daily Log'!$AJ$18:$AJ$1017),0)","v":0},{"$f":"IFERROR($E298*SUMIF('Daily Log'!$AL$18:$AL$1017,$B298,'Daily Log'!$AM$18:$AM$1017),0)","v":3},{"$f":"IFERROR($E298*SUMIF('Daily Log'!$AO$18:$AO$1017,$B298,'Daily Log'!$AP$18:$AP$1017),0)","v":0},{"$f":"IFERROR($E298*SUMIF('Daily Log'!$AR$18:$AR$1017,$B298,'Daily Log'!$AS$18:$AS$1017),0)","v":0},{"$f":"IFERROR($E298*SUMIF('Daily Log'!$AU$18:$AU$1017,$B298,'Daily Log'!$AV$18:$AV$1017),0)","v":0},{"$f":"IFERROR($E298*SUMIF('Daily Log'!$AX$18:$AX$1017,$B298,'Daily Log'!$AY$18:$AY$1017),0)","v":0},{"$f":"IFERROR($E298*SUMIF('Daily Log'!$BA$18:$BA$1017,$B298,'Daily Log'!$BB$18:$BB$1017),0)","v":0},{"$f":"IFERROR($E298*SUMIF('Daily Log'!$BD$18:$BD$1017,$B298,'Daily Log'!$BE$18:$BE$1017),0)","v":0},{"$f":"IFERROR($E298*SUMIF('Daily Log'!$BG$18:$BG$1017,$B298,'Daily Log'!$BH$18:$BH$1017),0)","v":0},{"$f":"IFERROR($E298*SUMIF('Daily Log'!$BJ$18:$BJ$1017,$B298,'Daily Log'!$BK$18:$BK$1017),0)","v":0},{"$f":"IFERROR($E298*SUMIF('Daily Log'!$BM$18:$BM$1017,$B298,'Daily Log'!$BN$18:$BN$1017),0)","v":0},{"$f":"IFERROR($E298*SUMIF('Daily Log'!$BP$18:$BP$1017,$B298,'Daily Log'!$BQ$18:$BQ$1017),0)","v":0},{"$f":"IFERROR($E298*SUMIF('Daily Log'!$BS$18:$BS$1017,$B298,'Daily Log'!$BT$18:$BT$1017),0)","v":0},{"$f":"IFERROR($E298*SUMIF('Daily Log'!$BV$18:$BV$1017,$B298,'Daily Log'!$BW$18:$BW$1017),0)","v":0},{"$f":"IFERROR($E298*SUMIF('Daily Log'!$BY$18:$BY$1017,$B298,'Daily Log'!$BZ$18:$BZ$1017),0)","v":0},{"$f":"IFERROR($E298*SUMIF('Daily Log'!$CB$18:$CB$1017,$B298,'Daily Log'!$CC$18:$CC$1017),0)","v":0},{"$f":"IFERROR($E298*SUMIF('Daily Log'!$CE$18:$CE$1017,$B298,'Daily Log'!$CF$18:$CF$1017),0)","v":0},{"$f":"IFERROR($E298*SUMIF('Daily Log'!$CH$18:$CH$1017,$B298,'Daily Log'!$CI$18:$CI$1017),0)","v":0},{"$f":"IFERROR($E298*SUMIF('Daily Log'!$CK$18:$CK$1017,$B298,'Daily Log'!$CL$18:$CL$1017),0)","v":0},{"$f":"IFERROR($E298*SUMIF('Daily Log'!$CN$18:$CN$1017,$B298,'Daily Log'!$CO$18:$CO$1017),0)","v":0}]
[null,"11508:C08-妈蜜鱼扒饭",null,null,1,16,{"$f":"IFERROR($E299*SUMIF('Daily Log'!$B$18:$B$1017,$B299,'Daily Log'!$C$18:$C$1017),0)","v":0},{"$f":"IFERROR($E299*SUMIF('Daily Log'!$E$18:$E$1017,$B299,'Daily Log'!$F$18:$F$1017),0)","v":0},{"$f":"IFERROR($E299*SUMIF('Daily Log'!$H$18:$H$1017,$B299,'Daily Log'!$I$18:$I$1017),0)","v":0},{"$f":"IFERROR($E299*SUMIF('Daily Log'!$K$18:$K$1017,$B299,'Daily Log'!$L$18:$L$1017),0)","v":0},{"$f":"IFERROR($E299*SUMIF('Daily Log'!$N$18:$N$1017,$B299,'Daily Log'!$O$18:$O$1017),0)","v":0},{"$f":"IFERROR($E299*SUMIF('Daily Log'!$Q$18:$Q$1017,$B299,'Daily Log'!$R$18:$R$1017),0)","v":0},{"$f":"IFERROR($E299*SUMIF('Daily Log'!$T$18:$T$1017,$B299,'Daily Log'!$U$18:$U$1017),0)","v":3},{"$f":"IFERROR($E299*SUMIF('Daily Log'!$W$18:$W$1017,$B299,'Daily Log'!$X$18:$X$1017),0)","v":0},{"$f":"IFERROR($E299*SUMIF('Daily Log'!$Z$18:$Z$1017,$B299,'Daily Log'!$AA$18:$AA$1017),0)","v":0},{"$f":"IFERROR($E299*SUMIF('Daily Log'!$AC$18:$AC$1017,$B299,'Daily Log'!$AD$18:$AD$1017),0)","v":3},{"$f":"IFERROR($E299*SUMIF('Daily Log'!$AF$18:$AF$1017,$B299,'Daily Log'!$AG$18:$AG$1017),0)","v":3},{"$f":"IFERROR($E299*SUMIF('Daily Log'!$AI$18:$AI$1017,$B299,'Daily Log'!$AJ$18:$AJ$1017),0)","v":2},{"$f":"IFERROR($E299*SUMIF('Daily Log'!$AL$18:$AL$1017,$B299,'Daily Log'!$AM$18:$AM$1017),0)","v":5},{"$f":"IFERROR($E299*SUMIF('Daily Log'!$AO$18:$AO$1017,$B299,'Daily Log'!$AP$18:$AP$1017),0)","v":0},{"$f":"IFERROR($E299*SUMIF('Daily Log'!$AR$18:$AR$1017,$B299,'Daily Log'!$AS$18:$AS$1017),0)","v":0},{"$f":"IFERROR($E299*SUMIF('Daily Log'!$AU$18:$AU$1017,$B299,'Daily Log'!$AV$18:$AV$1017),0)","v":0},{"$f":"IFERROR($E299*SUMIF('Daily Log'!$AX$18:$AX$1017,$B299,'Daily Log'!$AY$18:$AY$1017),0)","v":0},{"$f":"IFERROR($E299*SUMIF('Daily Log'!$BA$18:$BA$1017,$B299,'Daily Log'!$BB$18:$BB$1017),0)","v":0},{"$f":"IFERROR($E299*SUMIF('Daily Log'!$BD$18:$BD$1017,$B299,'Daily Log'!$BE$18:$BE$1017),0)","v":0},{"$f":"IFERROR($E299*SUMIF('Daily Log'!$BG$18:$BG$1017,$B299,'Daily Log'!$BH$18:$BH$1017),0)","v":0},{"$f":"IFERROR($E299*SUMIF('Daily Log'!$BJ$18:$BJ$1017,$B299,'Daily Log'!$BK$18:$BK$1017),0)","v":0},{"$f":"IFERROR($E299*SUMIF('Daily Log'!$BM$18:$BM$1017,$B299,'Daily Log'!$BN$18:$BN$1017),0)","v":0},{"$f":"IFERROR($E299*SUMIF('Daily Log'!$BP$18:$BP$1017,$B299,'Daily Log'!$BQ$18:$BQ$1017),0)","v":0},{"$f":"IFERROR($E299*SUMIF('Daily Log'!$BS$18:$BS$1017,$B299,'Daily Log'!$BT$18:$BT$1017),0)","v":0},{"$f":"IFERROR($E299*SUMIF('Daily Log'!$BV$18:$BV$1017,$B299,'Daily Log'!$BW$18:$BW$1017),0)","v":0},{"$f":"IFERROR($E299*SUMIF('Daily Log'!$BY$18:$BY$1017,$B299,'Daily Log'!$BZ$18:$BZ$1017),0)","v":0},{"$f":"IFERROR($E299*SUMIF('Daily Log'!$CB$18:$CB$1017,$B299,'Daily Log'!$CC$18:$CC$1017),0)","v":0},{"$f":"IFERROR($E299*SUMIF('Daily Log'!$CE$18:$CE$1017,$B299,'Daily Log'!$CF$18:$CF$1017),0)","v":0},{"$f":"IFERROR($E299*SUMIF('Daily Log'!$CH$18:$CH$1017,$B299,'Daily Log'!$CI$18:$CI$1017),0)","v":0},{"$f":"IFERROR($E299*SUMIF('Daily Log'!$CK$18:$CK$1017,$B299,'Daily Log'!$CL$18:$CL$1017),0)","v":0},{"$f":"IFERROR($E299*SUMIF('Daily Log'!$CN$18:$CN$1017,$B299,'Daily Log'!$CO$18:$CO$1017),0)","v":0}]
[null,"11509:C09-奶油鱼扒饭",null,null,1,20,{"$f":"IFERROR($E300*SUMIF('Daily Log'!$B$18:$B$1017,$B300,'Daily Log'!$C$18:$C$1017),0)","v":0},{"$f":"IFERROR($E300*SUMIF('Daily Log'!$E$18:$E$1017,$B300,'Daily Log'!$F$18:$F$1017),0)","v":0},{"$f":"IFERROR($E300*SUMIF('Daily Log'!$H$18:$H$1017,$B300,'Daily Log'!$I$18:$I$1017),0)","v":0},{"$f":"IFERROR($E300*SUMIF('Daily Log'!$K$18:$K$1017,$B300,'Daily Log'!$L$18:$L$1017),0)","v":0},{"$f":"IFERROR($E300*SUMIF('Daily Log'!$N$18:$N$1017,$B300,'Daily Log'!$O$18:$O$1017),0)","v":0},{"$f":"IFERROR($E300*SUMIF('Daily Log'!$Q$18:$Q$1017,$B300,'Daily Log'!$R$18:$R$1017),0)","v":0},{"$f":"IFERROR($E300*SUMIF('Daily Log'!$T$18:$T$1017,$B300,'Daily Log'!$U$18:$U$1017),0)","v":3},{"$f":"IFERROR($E300*SUMIF('Daily Log'!$W$18:$W$1017,$B300,'Daily Log'!$X$18:$X$1017),0)","v":1},{"$f":"IFERROR($E300*SUMIF('Daily Log'!$Z$18:$Z$1017,$B300,'Daily Log'!$AA$18:$AA$1017),0)","v":5},{"$f":"IFERROR($E300*SUMIF('Daily Log'!$AC$18:$AC$1017,$B300,'Daily Log'!$AD$18:$AD$1017),0)","v":2},{"$f":"IFERROR($E300*SUMIF('Daily Log'!$AF$18:$AF$1017,$B300,'Daily Log'!$AG$18:$AG$1017),0)","v":1},{"$f":"IFERROR($E300*SUMIF('Daily Log'!$AI$18:$AI$1017,$B300,'Daily Log'!$AJ$18:$AJ$1017),0)","v":4},{"$f":"IFERROR($E300*SUMIF('Daily Log'!$AL$18:$AL$1017,$B300,'Daily Log'!$AM$18:$AM$1017),0)","v":4},{"$f":"IFERROR($E300*SUMIF('Daily Log'!$AO$18:$AO$1017,$B300,'Daily Log'!$AP$18:$AP$1017),0)","v":0},{"$f":"IFERROR($E300*SUMIF('Daily Log'!$AR$18:$AR$1017,$B300,'Daily Log'!$AS$18:$AS$1017),0)","v":0},{"$f":"IFERROR($E300*SUMIF('Daily Log'!$AU$18:$AU$1017,$B300,'Daily Log'!$AV$18:$AV$1017),0)","v":0},{"$f":"IFERROR($E300*SUMIF('Daily Log'!$AX$18:$AX$1017,$B300,'Daily Log'!$AY$18:$AY$1017),0)","v":0},{"$f":"IFERROR($E300*SUMIF('Daily Log'!$BA$18:$BA$1017,$B300,'Daily Log'!$BB$18:$BB$1017),0)","v":0},{"$f":"IFERROR($E300*SUMIF('Daily Log'!$BD$18:$BD$1017,$B300,'Daily Log'!$BE$18:$BE$1017),0)","v":0},{"$f":"IFERROR($E300*SUMIF('Daily Log'!$BG$18:$BG$1017,$B300,'Daily Log'!$BH$18:$BH$1017),0)","v":0},{"$f":"IFERROR($E300*SUMIF('Daily Log'!$BJ$18:$BJ$1017,$B300,'Daily Log'!$BK$18:$BK$1017),0)","v":0},{"$f":"IFERROR($E300*SUMIF('Daily Log'!$BM$18:$BM$1017,$B300,'Daily Log'!$BN$18:$BN$1017),0)","v":0},{"$f":"IFERROR($E300*SUMIF('Daily Log'!$BP$18:$BP$1017,$B300,'Daily Log'!$BQ$18:$BQ$1017),0)","v":0},{"$f":"IFERROR($E300*SUMIF('Daily Log'!$BS$18:$BS$1017,$B300,'Daily Log'!$BT$18:$BT$1017),0)","v":0},{"$f":"IFERROR($E300*SUMIF('Daily Log'!$BV$18:$BV$1017,$B300,'Daily Log'!$BW$18:$BW$1017),0)","v":0},{"$f":"IFERROR($E300*SUMIF('Daily Log'!$BY$18:$BY$1017,$B300,'Daily Log'!$BZ$18:$BZ$1017),0)","v":0},{"$f":"IFERROR($E300*SUMIF('Daily Log'!$CB$18:$CB$1017,$B300,'Daily Log'!$CC$18:$CC$1017),0)","v":0},{"$f":"IFERROR($E300*SUMIF('Daily Log'!$CE$18:$CE$1017,$B300,'Daily Log'!$CF$18:$CF$1017),0)","v":0},{"$f":"IFERROR($E300*SUMIF('Daily Log'!$CH$18:$CH$1017,$B300,'Daily Log'!$CI$18:$CI$1017),0)","v":0},{"$f":"IFERROR($E300*SUMIF('Daily Log'!$CK$18:$CK$1017,$B300,'Daily Log'!$CL$18:$CL$1017),0)","v":0},{"$f":"IFERROR($E300*SUMIF('Daily Log'!$CN$18:$CN$1017,$B300,'Daily Log'!$CO$18:$CO$1017),0)","v":0}]
[null,"11607:L-C07-泰式鱼扒饭",null,null,1,24,{"$f":"IFERROR($E301*SUMIF('Daily Log'!$B$18:$B$1017,$B301,'Daily Log'!$C$18:$C$1017),0)","v":0},{"$f":"IFERROR($E301*SUMIF('Daily Log'!$E$18:$E$1017,$B301,'Daily Log'!$F$18:$F$1017),0)","v":0},{"$f":"IFERROR($E301*SUMIF('Daily Log'!$H$18:$H$1017,$B301,'Daily Log'!$I$18:$I$1017),0)","v":0},{"$f":"IFERROR($E301*SUMIF('Daily Log'!$K$18:$K$1017,$B301,'Daily Log'!$L$18:$L$1017),0)","v":0},{"$f":"IFERROR($E301*SUMIF('Daily Log'!$N$18:$N$1017,$B301,'Daily Log'!$O$18:$O$1017),0)","v":0},{"$f":"IFERROR($E301*SUMIF('Daily Log'!$Q$18:$Q$1017,$B301,'Daily Log'!$R$18:$R$1017),0)","v":0},{"$f":"IFERROR($E301*SUMIF('Daily Log'!$T$18:$T$1017,$B301,'Daily Log'!$U$18:$U$1017),0)","v":3},{"$f":"IFERROR($E301*SUMIF('Daily Log'!$W$18:$W$1017,$B301,'Daily Log'!$X$18:$X$1017),0)","v":1},{"$f":"IFERROR($E301*SUMIF('Daily Log'!$Z$18:$Z$1017,$B301,'Daily Log'!$AA$18:$AA$1017),0)","v":7},{"$f":"IFERROR($E301*SUMIF('Daily Log'!$AC$18:$AC$1017,$B301,'Daily Log'!$AD$18:$AD$1017),0)","v":3},{"$f":"IFERROR($E301*SUMIF('Daily Log'!$AF$18:$AF$1017,$B301,'Daily Log'!$AG$18:$AG$1017),0)","v":2},{"$f":"IFERROR($E301*SUMIF('Daily Log'!$AI$18:$AI$1017,$B301,'Daily Log'!$AJ$18:$AJ$1017),0)","v":3},{"$f":"IFERROR($E301*SUMIF('Daily Log'!$AL$18:$AL$1017,$B301,'Daily Log'!$AM$18:$AM$1017),0)","v":5},{"$f":"IFERROR($E301*SUMIF('Daily Log'!$AO$18:$AO$1017,$B301,'Daily Log'!$AP$18:$AP$1017),0)","v":0},{"$f":"IFERROR($E301*SUMIF('Daily Log'!$AR$18:$AR$1017,$B301,'Daily Log'!$AS$18:$AS$1017),0)","v":0},{"$f":"IFERROR($E301*SUMIF('Daily Log'!$AU$18:$AU$1017,$B301,'Daily Log'!$AV$18:$AV$1017),0)","v":0},{"$f":"IFERROR($E301*SUMIF('Daily Log'!$AX$18:$AX$1017,$B301,'Daily Log'!$AY$18:$AY$1017),0)","v":0},{"$f":"IFERROR($E301*SUMIF('Daily Log'!$BA$18:$BA$1017,$B301,'Daily Log'!$BB$18:$BB$1017),0)","v":0},{"$f":"IFERROR($E301*SUMIF('Daily Log'!$BD$18:$BD$1017,$B301,'Daily Log'!$BE$18:$BE$1017),0)","v":0},{"$f":"IFERROR($E301*SUMIF('Daily Log'!$BG$18:$BG$1017,$B301,'Daily Log'!$BH$18:$BH$1017),0)","v":0},{"$f":"IFERROR($E301*SUMIF('Daily Log'!$BJ$18:$BJ$1017,$B301,'Daily Log'!$BK$18:$BK$1017),0)","v":0},{"$f":"IFERROR($E301*SUMIF('Daily Log'!$BM$18:$BM$1017,$B301,'Daily Log'!$BN$18:$BN$1017),0)","v":0},{"$f":"IFERROR($E301*SUMIF('Daily Log'!$BP$18:$BP$1017,$B301,'Daily Log'!$BQ$18:$BQ$1017),0)","v":0},{"$f":"IFERROR($E301*SUMIF('Daily Log'!$BS$18:$BS$1017,$B301,'Daily Log'!$BT$18:$BT$1017),0)","v":0},{"$f":"IFERROR($E301*SUMIF('Daily Log'!$BV$18:$BV$1017,$B301,'Daily Log'!$BW$18:$BW$1017),0)","v":0},{"$f":"IFERROR($E301*SUMIF('Daily Log'!$BY$18:$BY$1017,$B301,'Daily Log'!$BZ$18:$BZ$1017),0)","v":0},{"$f":"IFERROR($E301*SUMIF('Daily Log'!$CB$18:$CB$1017,$B301,'Daily Log'!$CC$18:$CC$1017),0)","v":0},{"$f":"IFERROR($E301*SUMIF('Daily Log'!$CE$18:$CE$1017,$B301,'Daily Log'!$CF$18:$CF$1017),0)","v":0},{"$f":"IFERROR($E301*SUMIF('Daily Log'!$CH$18:$CH$1017,$B301,'Daily Log'!$CI$18:$CI$1017),0)","v":0},{"$f":"IFERROR($E301*SUMIF('Daily Log'!$CK$18:$CK$1017,$B301,'Daily Log'!$CL$18:$CL$1017),0)","v":0},{"$f":"IFERROR($E301*SUMIF('Daily Log'!$CN$18:$CN$1017,$B301,'Daily Log'!$CO$18:$CO$1017),0)","v":0}]
[null,"11608:L-C08-妈蜜鱼扒饭",null,null,1,14,{"$f":"IFERROR($E302*SUMIF('Daily Log'!$B$18:$B$1017,$B302,'Daily Log'!$C$18:$C$1017),0)","v":0},{"$f":"IFERROR($E302*SUMIF('Daily Log'!$E$18:$E$1017,$B302,'Daily Log'!$F$18:$F$1017),0)","v":0},{"$f":"IFERROR($E302*SUMIF('Daily Log'!$H$18:$H$1017,$B302,'Daily Log'!$I$18:$I$1017),0)","v":0},{"$f":"IFERROR($E302*SUMIF('Daily Log'!$K$18:$K$1017,$B302,'Daily Log'!$L$18:$L$1017),0)","v":0},{"$f":"IFERROR($E302*SUMIF('Daily Log'!$N$18:$N$1017,$B302,'Daily Log'!$O$18:$O$1017),0)","v":0},{"$f":"IFERROR($E302*SUMIF('Daily Log'!$Q$18:$Q$1017,$B302,'Daily Log'!$R$18:$R$1017),0)","v":0},{"$f":"IFERROR($E302*SUMIF('Daily Log'!$T$18:$T$1017,$B302,'Daily Log'!$U$18:$U$1017),0)","v":2},{"$f":"IFERROR($E302*SUMIF('Daily Log'!$W$18:$W$1017,$B302,'Daily Log'!$X$18:$X$1017),0)","v":3},{"$f":"IFERROR($E302*SUMIF('Daily Log'!$Z$18:$Z$1017,$B302,'Daily Log'!$AA$18:$AA$1017),0)","v":4},{"$f":"IFERROR($E302*SUMIF('Daily Log'!$AC$18:$AC$1017,$B302,'Daily Log'!$AD$18:$AD$1017),0)","v":0},{"$f":"IFERROR($E302*SUMIF('Daily Log'!$AF$18:$AF$1017,$B302,'Daily Log'!$AG$18:$AG$1017),0)","v":2},{"$f":"IFERROR($E302*SUMIF('Daily Log'!$AI$18:$AI$1017,$B302,'Daily Log'!$AJ$18:$AJ$1017),0)","v":2},{"$f":"IFERROR($E302*SUMIF('Daily Log'!$AL$18:$AL$1017,$B302,'Daily Log'!$AM$18:$AM$1017),0)","v":1},{"$f":"IFERROR($E302*SUMIF('Daily Log'!$AO$18:$AO$1017,$B302,'Daily Log'!$AP$18:$AP$1017),0)","v":0},{"$f":"IFERROR($E302*SUMIF('Daily Log'!$AR$18:$AR$1017,$B302,'Daily Log'!$AS$18:$AS$1017),0)","v":0},{"$f":"IFERROR($E302*SUMIF('Daily Log'!$AU$18:$AU$1017,$B302,'Daily Log'!$AV$18:$AV$1017),0)","v":0},{"$f":"IFERROR($E302*SUMIF('Daily Log'!$AX$18:$AX$1017,$B302,'Daily Log'!$AY$18:$AY$1017),0)","v":0},{"$f":"IFERROR($E302*SUMIF('Daily Log'!$BA$18:$BA$1017,$B302,'Daily Log'!$BB$18:$BB$1017),0)","v":0},{"$f":"IFERROR($E302*SUMIF('Daily Log'!$BD$18:$BD$1017,$B302,'Daily Log'!$BE$18:$BE$1017),0)","v":0},{"$f":"IFERROR($E302*SUMIF('Daily Log'!$BG$18:$BG$1017,$B302,'Daily Log'!$BH$18:$BH$1017),0)","v":0},{"$f":"IFERROR($E302*SUMIF('Daily Log'!$BJ$18:$BJ$1017,$B302,'Daily Log'!$BK$18:$BK$1017),0)","v":0},{"$f":"IFERROR($E302*SUMIF('Daily Log'!$BM$18:$BM$1017,$B302,'Daily Log'!$BN$18:$BN$1017),0)","v":0},{"$f":"IFERROR($E302*SUMIF('Daily Log'!$BP$18:$BP$1017,$B302,'Daily Log'!$BQ$18:$BQ$1017),0)","v":0},{"$f":"IFERROR($E302*SUMIF('Daily Log'!$BS$18:$BS$1017,$B302,'Daily Log'!$BT$18:$BT$1017),0)","v":0},{"$f":"IFERROR($E302*SUMIF('Daily Log'!$BV$18:$BV$1017,$B302,'Daily Log'!$BW$18:$BW$1017),0)","v":0},{"$f":"IFERROR($E302*SUMIF('Daily Log'!$BY$18:$BY$1017,$B302,'Daily Log'!$BZ$18:$BZ$1017),0)","v":0},{"$f":"IFERROR($E302*SUMIF('Daily Log'!$CB$18:$CB$1017,$B302,'Daily Log'!$CC$18:$CC$1017),0)","v":0},{"$f":"IFERROR($E302*SUMIF('Daily Log'!$CE$18:$CE$1017,$B302,'Daily Log'!$CF$18:$CF$1017),0)","v":0},{"$f":"IFERROR($E302*SUMIF('Daily Log'!$CH$18:$CH$1017,$B302,'Daily Log'!$CI$18:$CI$1017),0)","v":0},{"$f":"IFERROR($E302*SUMIF('Daily Log'!$CK$18:$CK$1017,$B302,'Daily Log'!$CL$18:$CL$1017),0)","v":0},{"$f":"IFERROR($E302*SUMIF('Daily Log'!$CN$18:$CN$1017,$B302,'Daily Log'!$CO$18:$CO$1017),0)","v":0}]
[null,"11609:L-C09-奶油鱼扒饭",null,null,1,30,{"$f":"IFERROR($E303*SUMIF('Daily Log'!$B$18:$B$1017,$B303,'Daily Log'!$C$18:$C$1017),0)","v":0},{"$f":"IFERROR($E303*SUMIF('Daily Log'!$E$18:$E$1017,$B303,'Daily Log'!$F$18:$F$1017),0)","v":0},{"$f":"IFERROR($E303*SUMIF('Daily Log'!$H$18:$H$1017,$B303,'Daily Log'!$I$18:$I$1017),0)","v":0},{"$f":"IFERROR($E303*SUMIF('Daily Log'!$K$18:$K$1017,$B303,'Daily Log'!$L$18:$L$1017),0)","v":0},{"$f":"IFERROR($E303*SUMIF('Daily Log'!$N$18:$N$1017,$B303,'Daily Log'!$O$18:$O$1017),0)","v":0},{"$f":"IFERROR($E303*SUMIF('Daily Log'!$Q$18:$Q$1017,$B303,'Daily Log'!$R$18:$R$1017),0)","v":0},{"$f":"IFERROR($E303*SUMIF('Daily Log'!$T$18:$T$1017,$B303,'Daily Log'!$U$18:$U$1017),0)","v":4},{"$f":"IFERROR($E303*SUMIF('Daily Log'!$W$18:$W$1017,$B303,'Daily Log'!$X$18:$X$1017),0)","v":4},{"$f":"IFERROR($E303*SUMIF('Daily Log'!$Z$18:$Z$1017,$B303,'Daily Log'!$AA$18:$AA$1017),0)","v":4},{"$f":"IFERROR($E303*SUMIF('Daily Log'!$AC$18:$AC$1017,$B303,'Daily Log'!$AD$18:$AD$1017),0)","v":5},{"$f":"IFERROR($E303*SUMIF('Daily Log'!$AF$18:$AF$1017,$B303,'Daily Log'!$AG$18:$AG$1017),0)","v":3},{"$f":"IFERROR($E303*SUMIF('Daily Log'!$AI$18:$AI$1017,$B303,'Daily Log'!$AJ$18:$AJ$1017),0)","v":7},{"$f":"IFERROR($E303*SUMIF('Daily Log'!$AL$18:$AL$1017,$B303,'Daily Log'!$AM$18:$AM$1017),0)","v":3},{"$f":"IFERROR($E303*SUMIF('Daily Log'!$AO$18:$AO$1017,$B303,'Daily Log'!$AP$18:$AP$1017),0)","v":0},{"$f":"IFERROR($E303*SUMIF('Daily Log'!$AR$18:$AR$1017,$B303,'Daily Log'!$AS$18:$AS$1017),0)","v":0},{"$f":"IFERROR($E303*SUMIF('Daily Log'!$AU$18:$AU$1017,$B303,'Daily Log'!$AV$18:$AV$1017),0)","v":0},{"$f":"IFERROR($E303*SUMIF('Daily Log'!$AX$18:$AX$1017,$B303,'Daily Log'!$AY$18:$AY$1017),0)","v":0},{"$f":"IFERROR($E303*SUMIF('Daily Log'!$BA$18:$BA$1017,$B303,'Daily Log'!$BB$18:$BB$1017),0)","v":0},{"$f":"IFERROR($E303*SUMIF('Daily Log'!$BD$18:$BD$1017,$B303,'Daily Log'!$BE$18:$BE$1017),0)","v":0},{"$f":"IFERROR($E303*SUMIF('Daily Log'!$BG$18:$BG$1017,$B303,'Daily Log'!$BH$18:$BH$1017),0)","v":0},{"$f":"IFERROR($E303*SUMIF('Daily Log'!$BJ$18:$BJ$1017,$B303,'Daily Log'!$BK$18:$BK$1017),0)","v":0},{"$f":"IFERROR($E303*SUMIF('Daily Log'!$BM$18:$BM$1017,$B303,'Daily Log'!$BN$18:$BN$1017),0)","v":0},{"$f":"IFERROR($E303*SUMIF('Daily Log'!$BP$18:$BP$1017,$B303,'Daily Log'!$BQ$18:$BQ$1017),0)","v":0},{"$f":"IFERROR($E303*SUMIF('Daily Log'!$BS$18:$BS$1017,$B303,'Daily Log'!$BT$18:$BT$1017),0)","v":0},{"$f":"IFERROR($E303*SUMIF('Daily Log'!$BV$18:$BV$1017,$B303,'Daily Log'!$BW$18:$BW$1017),0)","v":0},{"$f":"IFERROR($E303*SUMIF('Daily Log'!$BY$18:$BY$1017,$B303,'Daily Log'!$BZ$18:$BZ$1017),0)","v":0},{"$f":"IFERROR($E303*SUMIF('Daily Log'!$CB$18:$CB$1017,$B303,'Daily Log'!$CC$18:$CC$1017),0)","v":0},{"$f":"IFERROR($E303*SUMIF('Daily Log'!$CE$18:$CE$1017,$B303,'Daily Log'!$CF$18:$CF$1017),0)","v":0},{"$f":"IFERROR($E303*SUMIF('Daily Log'!$CH$18:$CH$1017,$B303,'Daily Log'!$CI$18:$CI$1017),0)","v":0},{"$f":"IFERROR($E303*SUMIF('Daily Log'!$CK$18:$CK$1017,$B303,'Daily Log'!$CL$18:$CL$1017),0)","v":0},{"$f":"IFERROR($E303*SUMIF('Daily Log'!$CN$18:$CN$1017,$B303,'Daily Log'!$CO$18:$CO$1017),0)","v":0}]
[null,"11903:MC03-螺旋薯条",null,null,1,17,{"$f":"IFERROR($E304*SUMIF('Daily Log'!$B$18:$B$1017,$B304,'Daily Log'!$C$18:$C$1017),0)","v":0},{"$f":"IFERROR($E304*SUMIF('Daily Log'!$E$18:$E$1017,$B304,'Daily Log'!$F$18:$F$1017),0)","v":0},{"$f":"IFERROR($E304*SUMIF('Daily Log'!$H$18:$H$1017,$B304,'Daily Log'!$I$18:$I$1017),0)","v":0},{"$f":"IFERROR($E304*SUMIF('Daily Log'!$K$18:$K$1017,$B304,'Daily Log'!$L$18:$L$1017),0)","v":0},{"$f":"IFERROR($E304*SUMIF('Daily Log'!$N$18:$N$1017,$B304,'Daily Log'!$O$18:$O$1017),0)","v":0},{"$f":"IFERROR($E304*SUMIF('Daily Log'!$Q$18:$Q$1017,$B304,'Daily Log'!$R$18:$R$1017),0)","v":0},{"$f":"IFERROR($E304*SUMIF('Daily Log'!$T$18:$T$1017,$B304,'Daily Log'!$U$18:$U$1017),0)","v":4},{"$f":"IFERROR($E304*SUMIF('Daily Log'!$W$18:$W$1017,$B304,'Daily Log'!$X$18:$X$1017),0)","v":4},{"$f":"IFERROR($E304*SUMIF('Daily Log'!$Z$18:$Z$1017,$B304,'Daily Log'!$AA$18:$AA$1017),0)","v":1},{"$f":"IFERROR($E304*SUMIF('Daily Log'!$AC$18:$AC$1017,$B304,'Daily Log'!$AD$18:$AD$1017),0)","v":4},{"$f":"IFERROR($E304*SUMIF('Daily Log'!$AF$18:$AF$1017,$B304,'Daily Log'!$AG$18:$AG$1017),0)","v":2},{"$f":"IFERROR($E304*SUMIF('Daily Log'!$AI$18:$AI$1017,$B304,'Daily Log'!$AJ$18:$AJ$1017),0)","v":0},{"$f":"IFERROR($E304*SUMIF('Daily Log'!$AL$18:$AL$1017,$B304,'Daily Log'!$AM$18:$AM$1017),0)","v":2},{"$f":"IFERROR($E304*SUMIF('Daily Log'!$AO$18:$AO$1017,$B304,'Daily Log'!$AP$18:$AP$1017),0)","v":0},{"$f":"IFERROR($E304*SUMIF('Daily Log'!$AR$18:$AR$1017,$B304,'Daily Log'!$AS$18:$AS$1017),0)","v":0},{"$f":"IFERROR($E304*SUMIF('Daily Log'!$AU$18:$AU$1017,$B304,'Daily Log'!$AV$18:$AV$1017),0)","v":0},{"$f":"IFERROR($E304*SUMIF('Daily Log'!$AX$18:$AX$1017,$B304,'Daily Log'!$AY$18:$AY$1017),0)","v":0},{"$f":"IFERROR($E304*SUMIF('Daily Log'!$BA$18:$BA$1017,$B304,'Daily Log'!$BB$18:$BB$1017),0)","v":0},{"$f":"IFERROR($E304*SUMIF('Daily Log'!$BD$18:$BD$1017,$B304,'Daily Log'!$BE$18:$BE$1017),0)","v":0},{"$f":"IFERROR($E304*SUMIF('Daily Log'!$BG$18:$BG$1017,$B304,'Daily Log'!$BH$18:$BH$1017),0)","v":0},{"$f":"IFERROR($E304*SUMIF('Daily Log'!$BJ$18:$BJ$1017,$B304,'Daily Log'!$BK$18:$BK$1017),0)","v":0},{"$f":"IFERROR($E304*SUMIF('Daily Log'!$BM$18:$BM$1017,$B304,'Daily Log'!$BN$18:$BN$1017),0)","v":0},{"$f":"IFERROR($E304*SUMIF('Daily Log'!$BP$18:$BP$1017,$B304,'Daily Log'!$BQ$18:$BQ$1017),0)","v":0},{"$f":"IFERROR($E304*SUMIF('Daily Log'!$BS$18:$BS$1017,$B304,'Daily Log'!$BT$18:$BT$1017),0)","v":0},{"$f":"IFERROR($E304*SUMIF('Daily Log'!$BV$18:$BV$1017,$B304,'Daily Log'!$BW$18:$BW$1017),0)","v":0},{"$f":"IFERROR($E304*SUMIF('Daily Log'!$BY$18:$BY$1017,$B304,'Daily Log'!$BZ$18:$BZ$1017),0)","v":0},{"$f":"IFERROR($E304*SUMIF('Daily Log'!$CB$18:$CB$1017,$B304,'Daily Log'!$CC$18:$CC$1017),0)","v":0},{"$f":"IFERROR($E304*SUMIF('Daily Log'!$CE$18:$CE$1017,$B304,'Daily Log'!$CF$18:$CF$1017),0)","v":0},{"$f":"IFERROR($E304*SUMIF('Daily Log'!$CH$18:$CH$1017,$B304,'Daily Log'!$CI$18:$CI$1017),0)","v":0},{"$f":"IFERROR($E304*SUMIF('Daily Log'!$CK$18:$CK$1017,$B304,'Daily Log'!$CL$18:$CL$1017),0)","v":0},{"$f":"IFERROR($E304*SUMIF('Daily Log'!$CN$18:$CN$1017,$B304,'Daily Log'!$CO$18:$CO$1017),0)","v":0}]
[null,"11904:MC04-迷你薯饼",null,null,1,17,{"$f":"IFERROR($E305*SUMIF('Daily Log'!$B$18:$B$1017,$B305,'Daily Log'!$C$18:$C$1017),0)","v":0},{"$f":"IFERROR($E305*SUMIF('Daily Log'!$E$18:$E$1017,$B305,'Daily Log'!$F$18:$F$1017),0)","v":0},{"$f":"IFERROR($E305*SUMIF('Daily Log'!$H$18:$H$1017,$B305,'Daily Log'!$I$18:$I$1017),0)","v":0},{"$f":"IFERROR($E305*SUMIF('Daily Log'!$K$18:$K$1017,$B305,'Daily Log'!$L$18:$L$1017),0)","v":0},{"$f":"IFERROR($E305*SUMIF('Daily Log'!$N$18:$N$1017,$B305,'Daily Log'!$O$18:$O$1017),0)","v":0},{"$f":"IFERROR($E305*SUMIF('Daily Log'!$Q$18:$Q$1017,$B305,'Daily Log'!$R$18:$R$1017),0)","v":0},{"$f":"IFERROR($E305*SUMIF('Daily Log'!$T$18:$T$1017,$B305,'Daily Log'!$U$18:$U$1017),0)","v":4},{"$f":"IFERROR($E305*SUMIF('Daily Log'!$W$18:$W$1017,$B305,'Daily Log'!$X$18:$X$1017),0)","v":3},{"$f":"IFERROR($E305*SUMIF('Daily Log'!$Z$18:$Z$1017,$B305,'Daily Log'!$AA$18:$AA$1017),0)","v":3},{"$f":"IFERROR($E305*SUMIF('Daily Log'!$AC$18:$AC$1017,$B305,'Daily Log'!$AD$18:$AD$1017),0)","v":2},{"$f":"IFERROR($E305*SUMIF('Daily Log'!$AF$18:$AF$1017,$B305,'Daily Log'!$AG$18:$AG$1017),0)","v":2},{"$f":"IFERROR($E305*SUMIF('Daily Log'!$AI$18:$AI$1017,$B305,'Daily Log'!$AJ$18:$AJ$1017),0)","v":1},{"$f":"IFERROR($E305*SUMIF('Daily Log'!$AL$18:$AL$1017,$B305,'Daily Log'!$AM$18:$AM$1017),0)","v":2},{"$f":"IFERROR($E305*SUMIF('Daily Log'!$AO$18:$AO$1017,$B305,'Daily Log'!$AP$18:$AP$1017),0)","v":0},{"$f":"IFERROR($E305*SUMIF('Daily Log'!$AR$18:$AR$1017,$B305,'Daily Log'!$AS$18:$AS$1017),0)","v":0},{"$f":"IFERROR($E305*SUMIF('Daily Log'!$AU$18:$AU$1017,$B305,'Daily Log'!$AV$18:$AV$1017),0)","v":0},{"$f":"IFERROR($E305*SUMIF('Daily Log'!$AX$18:$AX$1017,$B305,'Daily Log'!$AY$18:$AY$1017),0)","v":0},{"$f":"IFERROR($E305*SUMIF('Daily Log'!$BA$18:$BA$1017,$B305,'Daily Log'!$BB$18:$BB$1017),0)","v":0},{"$f":"IFERROR($E305*SUMIF('Daily Log'!$BD$18:$BD$1017,$B305,'Daily Log'!$BE$18:$BE$1017),0)","v":0},{"$f":"IFERROR($E305*SUMIF('Daily Log'!$BG$18:$BG$1017,$B305,'Daily Log'!$BH$18:$BH$1017),0)","v":0},{"$f":"IFERROR($E305*SUMIF('Daily Log'!$BJ$18:$BJ$1017,$B305,'Daily Log'!$BK$18:$BK$1017),0)","v":0},{"$f":"IFERROR($E305*SUMIF('Daily Log'!$BM$18:$BM$1017,$B305,'Daily Log'!$BN$18:$BN$1017),0)","v":0},{"$f":"IFERROR($E305*SUMIF('Daily Log'!$BP$18:$BP$1017,$B305,'Daily Log'!$BQ$18:$BQ$1017),0)","v":0},{"$f":"IFERROR($E305*SUMIF('Daily Log'!$BS$18:$BS$1017,$B305,'Daily Log'!$BT$18:$BT$1017),0)","v":0},{"$f":"IFERROR($E305*SUMIF('Daily Log'!$BV$18:$BV$1017,$B305,'Daily Log'!$BW$18:$BW$1017),0)","v":0},{"$f":"IFERROR($E305*SUMIF('Daily Log'!$BY$18:$BY$1017,$B305,'Daily Log'!$BZ$18:$BZ$1017),0)","v":0},{"$f":"IFERROR($E305*SUMIF('Daily Log'!$CB$18:$CB$1017,$B305,'Daily Log'!$CC$18:$CC$1017),0)","v":0},{"$f":"IFERROR($E305*SUMIF('Daily Log'!$CE$18:$CE$1017,$B305,'Daily Log'!$CF$18:$CF$1017),0)","v":0},{"$f":"IFERROR($E305*SUMIF('Daily Log'!$CH$18:$CH$1017,$B305,'Daily Log'!$CI$18:$CI$1017),0)","v":0},{"$f":"IFERROR($E305*SUMIF('Daily Log'!$CK$18:$CK$1017,$B305,'Daily Log'!$CL$18:$CL$1017),0)","v":0},{"$f":"IFERROR($E305*SUMIF('Daily Log'!$CN$18:$CN$1017,$B305,'Daily Log'!$CO$18:$CO$1017),0)","v":0}]
[null,"11905:MC05-笑面薯饼",null,null,1,5,{"$f":"IFERROR($E306*SUMIF('Daily Log'!$B$18:$B$1017,$B306,'Daily Log'!$C$18:$C$1017),0)","v":0},{"$f":"IFERROR($E306*SUMIF('Daily Log'!$E$18:$E$1017,$B306,'Daily Log'!$F$18:$F$1017),0)","v":0},{"$f":"IFERROR($E306*SUMIF('Daily Log'!$H$18:$H$1017,$B306,'Daily Log'!$I$18:$I$1017),0)","v":0},{"$f":"IFERROR($E306*SUMIF('Daily Log'!$K$18:$K$1017,$B306,'Daily Log'!$L$18:$L$1017),0)","v":0},{"$f":"IFERROR($E306*SUMIF('Daily Log'!$N$18:$N$1017,$B306,'Daily Log'!$O$18:$O$1017),0)","v":0},{"$f":"IFERROR($E306*SUMIF('Daily Log'!$Q$18:$Q$1017,$B306,'Daily Log'!$R$18:$R$1017),0)","v":0},{"$f":"IFERROR($E306*SUMIF('Daily Log'!$T$18:$T$1017,$B306,'Daily Log'!$U$18:$U$1017),0)","v":2},{"$f":"IFERROR($E306*SUMIF('Daily Log'!$W$18:$W$1017,$B306,'Daily Log'!$X$18:$X$1017),0)","v":2},{"$f":"IFERROR($E306*SUMIF('Daily Log'!$Z$18:$Z$1017,$B306,'Daily Log'!$AA$18:$AA$1017),0)","v":0},{"$f":"IFERROR($E306*SUMIF('Daily Log'!$AC$18:$AC$1017,$B306,'Daily Log'!$AD$18:$AD$1017),0)","v":1},{"$f":"IFERROR($E306*SUMIF('Daily Log'!$AF$18:$AF$1017,$B306,'Daily Log'!$AG$18:$AG$1017),0)","v":0},{"$f":"IFERROR($E306*SUMIF('Daily Log'!$AI$18:$AI$1017,$B306,'Daily Log'!$AJ$18:$AJ$1017),0)","v":0},{"$f":"IFERROR($E306*SUMIF('Daily Log'!$AL$18:$AL$1017,$B306,'Daily Log'!$AM$18:$AM$1017),0)","v":0},{"$f":"IFERROR($E306*SUMIF('Daily Log'!$AO$18:$AO$1017,$B306,'Daily Log'!$AP$18:$AP$1017),0)","v":0},{"$f":"IFERROR($E306*SUMIF('Daily Log'!$AR$18:$AR$1017,$B306,'Daily Log'!$AS$18:$AS$1017),0)","v":0},{"$f":"IFERROR($E306*SUMIF('Daily Log'!$AU$18:$AU$1017,$B306,'Daily Log'!$AV$18:$AV$1017),0)","v":0},{"$f":"IFERROR($E306*SUMIF('Daily Log'!$AX$18:$AX$1017,$B306,'Daily Log'!$AY$18:$AY$1017),0)","v":0},{"$f":"IFERROR($E306*SUMIF('Daily Log'!$BA$18:$BA$1017,$B306,'Daily Log'!$BB$18:$BB$1017),0)","v":0},{"$f":"IFERROR($E306*SUMIF('Daily Log'!$BD$18:$BD$1017,$B306,'Daily Log'!$BE$18:$BE$1017),0)","v":0},{"$f":"IFERROR($E306*SUMIF('Daily Log'!$BG$18:$BG$1017,$B306,'Daily Log'!$BH$18:$BH$1017),0)","v":0},{"$f":"IFERROR($E306*SUMIF('Daily Log'!$BJ$18:$BJ$1017,$B306,'Daily Log'!$BK$18:$BK$1017),0)","v":0},{"$f":"IFERROR($E306*SUMIF('Daily Log'!$BM$18:$BM$1017,$B306,'Daily Log'!$BN$18:$BN$1017),0)","v":0},{"$f":"IFERROR($E306*SUMIF('Daily Log'!$BP$18:$BP$1017,$B306,'Daily Log'!$BQ$18:$BQ$1017),0)","v":0},{"$f":"IFERROR($E306*SUMIF('Daily Log'!$BS$18:$BS$1017,$B306,'Daily Log'!$BT$18:$BT$1017),0)","v":0},{"$f":"IFERROR($E306*SUMIF('Daily Log'!$BV$18:$BV$1017,$B306,'Daily Log'!$BW$18:$BW$1017),0)","v":0},{"$f":"IFERROR($E306*SUMIF('Daily Log'!$BY$18:$BY$1017,$B306,'Daily Log'!$BZ$18:$BZ$1017),0)","v":0},{"$f":"IFERROR($E306*SUMIF('Daily Log'!$CB$18:$CB$1017,$B306,'Daily Log'!$CC$18:$CC$1017),0)","v":0},{"$f":"IFERROR($E306*SUMIF('Daily Log'!$CE$18:$CE$1017,$B306,'Daily Log'!$CF$18:$CF$1017),0)","v":0},{"$f":"IFERROR($E306*SUMIF('Daily Log'!$CH$18:$CH$1017,$B306,'Daily Log'!$CI$18:$CI$1017),0)","v":0},{"$f":"IFERROR($E306*SUMIF('Daily Log'!$CK$18:$CK$1017,$B306,'Daily Log'!$CL$18:$CL$1017),0)","v":0},{"$f":"IFERROR($E306*SUMIF('Daily Log'!$CN$18:$CN$1017,$B306,'Daily Log'!$CO$18:$CO$1017),0)","v":0}]
[null,"11647:L-MC04-迷你薯饼",null,null,1,1,{"$f":"IFERROR($E307*SUMIF('Daily Log'!$B$18:$B$1017,$B307,'Daily Log'!$C$18:$C$1017),0)","v":0},{"$f":"IFERROR($E307*SUMIF('Daily Log'!$E$18:$E$1017,$B307,'Daily Log'!$F$18:$F$1017),0)","v":0},{"$f":"IFERROR($E307*SUMIF('Daily Log'!$H$18:$H$1017,$B307,'Daily Log'!$I$18:$I$1017),0)","v":0},{"$f":"IFERROR($E307*SUMIF('Daily Log'!$K$18:$K$1017,$B307,'Daily Log'!$L$18:$L$1017),0)","v":0},{"$f":"IFERROR($E307*SUMIF('Daily Log'!$N$18:$N$1017,$B307,'Daily Log'!$O$18:$O$1017),0)","v":0},{"$f":"IFERROR($E307*SUMIF('Daily Log'!$Q$18:$Q$1017,$B307,'Daily Log'!$R$18:$R$1017),0)","v":0},{"$f":"IFERROR($E307*SUMIF('Daily Log'!$T$18:$T$1017,$B307,'Daily Log'!$U$18:$U$1017),0)","v":0},{"$f":"IFERROR($E307*SUMIF('Daily Log'!$W$18:$W$1017,$B307,'Daily Log'!$X$18:$X$1017),0)","v":0},{"$f":"IFERROR($E307*SUMIF('Daily Log'!$Z$18:$Z$1017,$B307,'Daily Log'!$AA$18:$AA$1017),0)","v":0},{"$f":"IFERROR($E307*SUMIF('Daily Log'!$AC$18:$AC$1017,$B307,'Daily Log'!$AD$18:$AD$1017),0)","v":0},{"$f":"IFERROR($E307*SUMIF('Daily Log'!$AF$18:$AF$1017,$B307,'Daily Log'!$AG$18:$AG$1017),0)","v":1},{"$f":"IFERROR($E307*SUMIF('Daily Log'!$AI$18:$AI$1017,$B307,'Daily Log'!$AJ$18:$AJ$1017),0)","v":0},{"$f":"IFERROR($E307*SUMIF('Daily Log'!$AL$18:$AL$1017,$B307,'Daily Log'!$AM$18:$AM$1017),0)","v":0},{"$f":"IFERROR($E307*SUMIF('Daily Log'!$AO$18:$AO$1017,$B307,'Daily Log'!$AP$18:$AP$1017),0)","v":0},{"$f":"IFERROR($E307*SUMIF('Daily Log'!$AR$18:$AR$1017,$B307,'Daily Log'!$AS$18:$AS$1017),0)","v":0},{"$f":"IFERROR($E307*SUMIF('Daily Log'!$AU$18:$AU$1017,$B307,'Daily Log'!$AV$18:$AV$1017),0)","v":0},{"$f":"IFERROR($E307*SUMIF('Daily Log'!$AX$18:$AX$1017,$B307,'Daily Log'!$AY$18:$AY$1017),0)","v":0},{"$f":"IFERROR($E307*SUMIF('Daily Log'!$BA$18:$BA$1017,$B307,'Daily Log'!$BB$18:$BB$1017),0)","v":0},{"$f":"IFERROR($E307*SUMIF('Daily Log'!$BD$18:$BD$1017,$B307,'Daily Log'!$BE$18:$BE$1017),0)","v":0},{"$f":"IFERROR($E307*SUMIF('Daily Log'!$BG$18:$BG$1017,$B307,'Daily Log'!$BH$18:$BH$1017),0)","v":0},{"$f":"IFERROR($E307*SUMIF('Daily Log'!$BJ$18:$BJ$1017,$B307,'Daily Log'!$BK$18:$BK$1017),0)","v":0},{"$f":"IFERROR($E307*SUMIF('Daily Log'!$BM$18:$BM$1017,$B307,'Daily Log'!$BN$18:$BN$1017),0)","v":0},{"$f":"IFERROR($E307*SUMIF('Daily Log'!$BP$18:$BP$1017,$B307,'Daily Log'!$BQ$18:$BQ$1017),0)","v":0},{"$f":"IFERROR($E307*SUMIF('Daily Log'!$BS$18:$BS$1017,$B307,'Daily Log'!$BT$18:$BT$1017),0)","v":0},{"$f":"IFERROR($E307*SUMIF('Daily Log'!$BV$18:$BV$1017,$B307,'Daily Log'!$BW$18:$BW$1017),0)","v":0},{"$f":"IFERROR($E307*SUMIF('Daily Log'!$BY$18:$BY$1017,$B307,'Daily Log'!$BZ$18:$BZ$1017),0)","v":0},{"$f":"IFERROR($E307*SUMIF('Daily Log'!$CB$18:$CB$1017,$B307,'Daily Log'!$CC$18:$CC$1017),0)","v":0},{"$f":"IFERROR($E307*SUMIF('Daily Log'!$CE$18:$CE$1017,$B307,'Daily Log'!$CF$18:$CF$1017),0)","v":0},{"$f":"IFERROR($E307*SUMIF('Daily Log'!$CH$18:$CH$1017,$B307,'Daily Log'!$CI$18:$CI$1017),0)","v":0},{"$f":"IFERROR($E307*SUMIF('Daily Log'!$CK$18:$CK$1017,$B307,'Daily Log'!$CL$18:$CL$1017),0)","v":0},{"$f":"IFERROR($E307*SUMIF('Daily Log'!$CN$18:$CN$1017,$B307,'Daily Log'!$CO$18:$CO$1017),0)","v":0}]
[null,"10601:Somersby Bottle",null,"BEER",1,7,{"$f":"IFERROR($E308*SUMIF('Daily Log'!$B$18:$B$1017,$B308,'Daily Log'!$C$18:$C$1017),0)","v":0},{"$f":"IFERROR($E308*SUMIF('Daily Log'!$E$18:$E$1017,$B308,'Daily Log'!$F$18:$F$1017),0)","v":0},{"$f":"IFERROR($E308*SUMIF('Daily Log'!$H$18:$H$1017,$B308,'Daily Log'!$I$18:$I$1017),0)","v":0},{"$f":"IFERROR($E308*SUMIF('Daily Log'!$K$18:$K$1017,$B308,'Daily Log'!$L$18:$L$1017),0)","v":0},{"$f":"IFERROR($E308*SUMIF('Daily Log'!$N$18:$N$1017,$B308,'Daily Log'!$O$18:$O$1017),0)","v":0},{"$f":"IFERROR($E308*SUMIF('Daily Log'!$Q$18:$Q$1017,$B308,'Daily Log'!$R$18:$R$1017),0)","v":0},{"$f":"IFERROR($E308*SUMIF('Daily Log'!$T$18:$T$1017,$B308,'Daily Log'!$U$18:$U$1017),0)","v":1},{"$f":"IFERROR($E308*SUMIF('Daily Log'!$W$18:$W$1017,$B308,'Daily Log'!$X$18:$X$1017),0)","v":0},{"$f":"IFERROR($E308*SUMIF('Daily Log'!$Z$18:$Z$1017,$B308,'Daily Log'!$AA$18:$AA$1017),0)","v":1},{"$f":"IFERROR($E308*SUMIF('Daily Log'!$AC$18:$AC$1017,$B308,'Daily Log'!$AD$18:$AD$1017),0)","v":1},{"$f":"IFERROR($E308*SUMIF('Daily Log'!$AF$18:$AF$1017,$B308,'Daily Log'!$AG$18:$AG$1017),0)","v":0},{"$f":"IFERROR($E308*SUMIF('Daily Log'!$AI$18:$AI$1017,$B308,'Daily Log'!$AJ$18:$AJ$1017),0)","v":2},{"$f":"IFERROR($E308*SUMIF('Daily Log'!$AL$18:$AL$1017,$B308,'Daily Log'!$AM$18:$AM$1017),0)","v":2},{"$f":"IFERROR($E308*SUMIF('Daily Log'!$AO$18:$AO$1017,$B308,'Daily Log'!$AP$18:$AP$1017),0)","v":0},{"$f":"IFERROR($E308*SUMIF('Daily Log'!$AR$18:$AR$1017,$B308,'Daily Log'!$AS$18:$AS$1017),0)","v":0},{"$f":"IFERROR($E308*SUMIF('Daily Log'!$AU$18:$AU$1017,$B308,'Daily Log'!$AV$18:$AV$1017),0)","v":0},{"$f":"IFERROR($E308*SUMIF('Daily Log'!$AX$18:$AX$1017,$B308,'Daily Log'!$AY$18:$AY$1017),0)","v":0},{"$f":"IFERROR($E308*SUMIF('Daily Log'!$BA$18:$BA$1017,$B308,'Daily Log'!$BB$18:$BB$1017),0)","v":0},{"$f":"IFERROR($E308*SUMIF('Daily Log'!$BD$18:$BD$1017,$B308,'Daily Log'!$BE$18:$BE$1017),0)","v":0},{"$f":"IFERROR($E308*SUMIF('Daily Log'!$BG$18:$BG$1017,$B308,'Daily Log'!$BH$18:$BH$1017),0)","v":0},{"$f":"IFERROR($E308*SUMIF('Daily Log'!$BJ$18:$BJ$1017,$B308,'Daily Log'!$BK$18:$BK$1017),0)","v":0},{"$f":"IFERROR($E308*SUMIF('Daily Log'!$BM$18:$BM$1017,$B308,'Daily Log'!$BN$18:$BN$1017),0)","v":0},{"$f":"IFERROR($E308*SUMIF('Daily Log'!$BP$18:$BP$1017,$B308,'Daily Log'!$BQ$18:$BQ$1017),0)","v":0},{"$f":"IFERROR($E308*SUMIF('Daily Log'!$BS$18:$BS$1017,$B308,'Daily Log'!$BT$18:$BT$1017),0)","v":0},{"$f":"IFERROR($E308*SUMIF('Daily Log'!$BV$18:$BV$1017,$B308,'Daily Log'!$BW$18:$BW$1017),0)","v":0},{"$f":"IFERROR($E308*SUMIF('Daily Log'!$BY$18:$BY$1017,$B308,'Daily Log'!$BZ$18:$BZ$1017),0)","v":0},{"$f":"IFERROR($E308*SUMIF('Daily Log'!$CB$18:$CB$1017,$B308,'Daily Log'!$CC$18:$CC$1017),0)","v":0},{"$f":"IFERROR($E308*SUMIF('Daily Log'!$CE$18:$CE$1017,$B308,'Daily Log'!$CF$18:$CF$1017),0)","v":0},{"$f":"IFERROR($E308*SUMIF('Daily Log'!$CH$18:$CH$1017,$B308,'Daily Log'!$CI$18:$CI$1017),0)","v":0},{"$f":"IFERROR($E308*SUMIF('Daily Log'!$CK$18:$CK$1017,$B308,'Daily Log'!$CL$18:$CL$1017),0)","v":0},{"$f":"IFERROR($E308*SUMIF('Daily Log'!$CN$18:$CN$1017,$B308,'Daily Log'!$CO$18:$CO$1017),0)","v":0}]
[null,"10602:Somersby Bucket",null,"BEER",4,8,{"$f":"IFERROR($E309*SUMIF('Daily Log'!$B$18:$B$1017,$B309,'Daily Log'!$C$18:$C$1017),0)","v":0},{"$f":"IFERROR($E309*SUMIF('Daily Log'!$E$18:$E$1017,$B309,'Daily Log'!$F$18:$F$1017),0)","v":0},{"$f":"IFERROR($E309*SUMIF('Daily Log'!$H$18:$H$1017,$B309,'Daily Log'!$I$18:$I$1017),0)","v":0},{"$f":"IFERROR($E309*SUMIF('Daily Log'!$K$18:$K$1017,$B309,'Daily Log'!$L$18:$L$1017),0)","v":0},{"$f":"IFERROR($E309*SUMIF('Daily Log'!$N$18:$N$1017,$B309,'Daily Log'!$O$18:$O$1017),0)","v":0},{"$f":"IFERROR($E309*SUMIF('Daily Log'!$Q$18:$Q$1017,$B309,'Daily Log'!$R$18:$R$1017),0)","v":0},{"$f":"IFERROR($E309*SUMIF('Daily Log'!$T$18:$T$1017,$B309,'Daily Log'!$U$18:$U$1017),0)","v":0},{"$f":"IFERROR($E309*SUMIF('Daily Log'!$W$18:$W$1017,$B309,'Daily Log'!$X$18:$X$1017),0)","v":0},{"$f":"IFERROR($E309*SUMIF('Daily Log'!$Z$18:$Z$1017,$B309,'Daily Log'!$AA$18:$AA$1017),0)","v":0},{"$f":"IFERROR($E309*SUMIF('Daily Log'!$AC$18:$AC$1017,$B309,'Daily Log'!$AD$18:$AD$1017),0)","v":8},{"$f":"IFERROR($E309*SUMIF('Daily Log'!$AF$18:$AF$1017,$B309,'Daily Log'!$AG$18:$AG$1017),0)","v":0},{"$f":"IFERROR($E309*SUMIF('Daily Log'!$AI$18:$AI$1017,$B309,'Daily Log'!$AJ$18:$AJ$1017),0)","v":0},{"$f":"IFERROR($E309*SUMIF('Daily Log'!$AL$18:$AL$1017,$B309,'Daily Log'!$AM$18:$AM$1017),0)","v":0},{"$f":"IFERROR($E309*SUMIF('Daily Log'!$AO$18:$AO$1017,$B309,'Daily Log'!$AP$18:$AP$1017),0)","v":0},{"$f":"IFERROR($E309*SUMIF('Daily Log'!$AR$18:$AR$1017,$B309,'Daily Log'!$AS$18:$AS$1017),0)","v":0},{"$f":"IFERROR($E309*SUMIF('Daily Log'!$AU$18:$AU$1017,$B309,'Daily Log'!$AV$18:$AV$1017),0)","v":0},{"$f":"IFERROR($E309*SUMIF('Daily Log'!$AX$18:$AX$1017,$B309,'Daily Log'!$AY$18:$AY$1017),0)","v":0},{"$f":"IFERROR($E309*SUMIF('Daily Log'!$BA$18:$BA$1017,$B309,'Daily Log'!$BB$18:$BB$1017),0)","v":0},{"$f":"IFERROR($E309*SUMIF('Daily Log'!$BD$18:$BD$1017,$B309,'Daily Log'!$BE$18:$BE$1017),0)","v":0},{"$f":"IFERROR($E309*SUMIF('Daily Log'!$BG$18:$BG$1017,$B309,'Daily Log'!$BH$18:$BH$1017),0)","v":0},{"$f":"IFERROR($E309*SUMIF('Daily Log'!$BJ$18:$BJ$1017,$B309,'Daily Log'!$BK$18:$BK$1017),0)","v":0},{"$f":"IFERROR($E309*SUMIF('Daily Log'!$BM$18:$BM$1017,$B309,'Daily Log'!$BN$18:$BN$1017),0)","v":0},{"$f":"IFERROR($E309*SUMIF('Daily Log'!$BP$18:$BP$1017,$B309,'Daily Log'!$BQ$18:$BQ$1017),0)","v":0},{"$f":"IFERROR($E309*SUMIF('Daily Log'!$BS$18:$BS$1017,$B309,'Daily Log'!$BT$18:$BT$1017),0)","v":0},{"$f":"IFERROR($E309*SUMIF('Daily Log'!$BV$18:$BV$1017,$B309,'Daily Log'!$BW$18:$BW$1017),0)","v":0},{"$f":"IFERROR($E309*SUMIF('Daily Log'!$BY$18:$BY$1017,$B309,'Daily Log'!$BZ$18:$BZ$1017),0)","v":0},{"$f":"IFERROR($E309*SUMIF('Daily Log'!$CB$18:$CB$1017,$B309,'Daily Log'!$CC$18:$CC$1017),0)","v":0},{"$f":"IFERROR($E309*SUMIF('Daily Log'!$CE$18:$CE$1017,$B309,'Daily Log'!$CF$18:$CF$1017),0)","v":0},{"$f":"IFERROR($E309*SUMIF('Daily Log'!$CH$18:$CH$1017,$B309,'Daily Log'!$CI$18:$CI$1017),0)","v":0},{"$f":"IFERROR($E309*SUMIF('Daily Log'!$CK$18:$CK$1017,$B309,'Daily Log'!$CL$18:$CL$1017),0)","v":0},{"$f":"IFERROR($E309*SUMIF('Daily Log'!$CN$18:$CN$1017,$B309,'Daily Log'!$CO$18:$CO$1017),0)","v":0}]
[null,"10801:Hoegaarden Bottle",null,"BEER",1,8,{"$f":"IFERROR($E310*SUMIF('Daily Log'!$B$18:$B$1017,$B310,'Daily Log'!$C$18:$C$1017),0)","v":0},{"$f":"IFERROR($E310*SUMIF('Daily Log'!$E$18:$E$1017,$B310,'Daily Log'!$F$18:$F$1017),0)","v":0},{"$f":"IFERROR($E310*SUMIF('Daily Log'!$H$18:$H$1017,$B310,'Daily Log'!$I$18:$I$1017),0)","v":0},{"$f":"IFERROR($E310*SUMIF('Daily Log'!$K$18:$K$1017,$B310,'Daily Log'!$L$18:$L$1017),0)","v":0},{"$f":"IFERROR($E310*SUMIF('Daily Log'!$N$18:$N$1017,$B310,'Daily Log'!$O$18:$O$1017),0)","v":0},{"$f":"IFERROR($E310*SUMIF('Daily Log'!$Q$18:$Q$1017,$B310,'Daily Log'!$R$18:$R$1017),0)","v":0},{"$f":"IFERROR($E310*SUMIF('Daily Log'!$T$18:$T$1017,$B310,'Daily Log'!$U$18:$U$1017),0)","v":2},{"$f":"IFERROR($E310*SUMIF('Daily Log'!$W$18:$W$1017,$B310,'Daily Log'!$X$18:$X$1017),0)","v":0},{"$f":"IFERROR($E310*SUMIF('Daily Log'!$Z$18:$Z$1017,$B310,'Daily Log'!$AA$18:$AA$1017),0)","v":2},{"$f":"IFERROR($E310*SUMIF('Daily Log'!$AC$18:$AC$1017,$B310,'Daily Log'!$AD$18:$AD$1017),0)","v":2},{"$f":"IFERROR($E310*SUMIF('Daily Log'!$AF$18:$AF$1017,$B310,'Daily Log'!$AG$18:$AG$1017),0)","v":1},{"$f":"IFERROR($E310*SUMIF('Daily Log'!$AI$18:$AI$1017,$B310,'Daily Log'!$AJ$18:$AJ$1017),0)","v":1},{"$f":"IFERROR($E310*SUMIF('Daily Log'!$AL$18:$AL$1017,$B310,'Daily Log'!$AM$18:$AM$1017),0)","v":0},{"$f":"IFERROR($E310*SUMIF('Daily Log'!$AO$18:$AO$1017,$B310,'Daily Log'!$AP$18:$AP$1017),0)","v":0},{"$f":"IFERROR($E310*SUMIF('Daily Log'!$AR$18:$AR$1017,$B310,'Daily Log'!$AS$18:$AS$1017),0)","v":0},{"$f":"IFERROR($E310*SUMIF('Daily Log'!$AU$18:$AU$1017,$B310,'Daily Log'!$AV$18:$AV$1017),0)","v":0},{"$f":"IFERROR($E310*SUMIF('Daily Log'!$AX$18:$AX$1017,$B310,'Daily Log'!$AY$18:$AY$1017),0)","v":0},{"$f":"IFERROR($E310*SUMIF('Daily Log'!$BA$18:$BA$1017,$B310,'Daily Log'!$BB$18:$BB$1017),0)","v":0},{"$f":"IFERROR($E310*SUMIF('Daily Log'!$BD$18:$BD$1017,$B310,'Daily Log'!$BE$18:$BE$1017),0)","v":0},{"$f":"IFERROR($E310*SUMIF('Daily Log'!$BG$18:$BG$1017,$B310,'Daily Log'!$BH$18:$BH$1017),0)","v":0},{"$f":"IFERROR($E310*SUMIF('Daily Log'!$BJ$18:$BJ$1017,$B310,'Daily Log'!$BK$18:$BK$1017),0)","v":0},{"$f":"IFERROR($E310*SUMIF('Daily Log'!$BM$18:$BM$1017,$B310,'Daily Log'!$BN$18:$BN$1017),0)","v":0},{"$f":"IFERROR($E310*SUMIF('Daily Log'!$BP$18:$BP$1017,$B310,'Daily Log'!$BQ$18:$BQ$1017),0)","v":0},{"$f":"IFERROR($E310*SUMIF('Daily Log'!$BS$18:$BS$1017,$B310,'Daily Log'!$BT$18:$BT$1017),0)","v":0},{"$f":"IFERROR($E310*SUMIF('Daily Log'!$BV$18:$BV$1017,$B310,'Daily Log'!$BW$18:$BW$1017),0)","v":0},{"$f":"IFERROR($E310*SUMIF('Daily Log'!$BY$18:$BY$1017,$B310,'Daily Log'!$BZ$18:$BZ$1017),0)","v":0},{"$f":"IFERROR($E310*SUMIF('Daily Log'!$CB$18:$CB$1017,$B310,'Daily Log'!$CC$18:$CC$1017),0)","v":0},{"$f":"IFERROR($E310*SUMIF('Daily Log'!$CE$18:$CE$1017,$B310,'Daily Log'!$CF$18:$CF$1017),0)","v":0},{"$f":"IFERROR($E310*SUMIF('Daily Log'!$CH$18:$CH$1017,$B310,'Daily Log'!$CI$18:$CI$1017),0)","v":0},{"$f":"IFERROR($E310*SUMIF('Daily Log'!$CK$18:$CK$1017,$B310,'Daily Log'!$CL$18:$CL$1017),0)","v":0},{"$f":"IFERROR($E310*SUMIF('Daily Log'!$CN$18:$CN$1017,$B310,'Daily Log'!$CO$18:$CO$1017),0)","v":0}]
[null,"10802:Hoegaarden Bucket",null,"BEER",4,20,{"$f":"IFERROR($E311*SUMIF('Daily Log'!$B$18:$B$1017,$B311,'Daily Log'!$C$18:$C$1017),0)","v":0},{"$f":"IFERROR($E311*SUMIF('Daily Log'!$E$18:$E$1017,$B311,'Daily Log'!$F$18:$F$1017),0)","v":0},{"$f":"IFERROR($E311*SUMIF('Daily Log'!$H$18:$H$1017,$B311,'Daily Log'!$I$18:$I$1017),0)","v":0},{"$f":"IFERROR($E311*SUMIF('Daily Log'!$K$18:$K$1017,$B311,'Daily Log'!$L$18:$L$1017),0)","v":0},{"$f":"IFERROR($E311*SUMIF('Daily Log'!$N$18:$N$1017,$B311,'Daily Log'!$O$18:$O$1017),0)","v":0},{"$f":"IFERROR($E311*SUMIF('Daily Log'!$Q$18:$Q$1017,$B311,'Daily Log'!$R$18:$R$1017),0)","v":0},{"$f":"IFERROR($E311*SUMIF('Daily Log'!$T$18:$T$1017,$B311,'Daily Log'!$U$18:$U$1017),0)","v":8},{"$f":"IFERROR($E311*SUMIF('Daily Log'!$W$18:$W$1017,$B311,'Daily Log'!$X$18:$X$1017),0)","v":0},{"$f":"IFERROR($E311*SUMIF('Daily Log'!$Z$18:$Z$1017,$B311,'Daily Log'!$AA$18:$AA$1017),0)","v":0},{"$f":"IFERROR($E311*SUMIF('Daily Log'!$AC$18:$AC$1017,$B311,'Daily Log'!$AD$18:$AD$1017),0)","v":0},{"$f":"IFERROR($E311*SUMIF('Daily Log'!$AF$18:$AF$1017,$B311,'Daily Log'!$AG$18:$AG$1017),0)","v":4},{"$f":"IFERROR($E311*SUMIF('Daily Log'!$AI$18:$AI$1017,$B311,'Daily Log'!$AJ$18:$AJ$1017),0)","v":0},{"$f":"IFERROR($E311*SUMIF('Daily Log'!$AL$18:$AL$1017,$B311,'Daily Log'!$AM$18:$AM$1017),0)","v":8},{"$f":"IFERROR($E311*SUMIF('Daily Log'!$AO$18:$AO$1017,$B311,'Daily Log'!$AP$18:$AP$1017),0)","v":0},{"$f":"IFERROR($E311*SUMIF('Daily Log'!$AR$18:$AR$1017,$B311,'Daily Log'!$AS$18:$AS$1017),0)","v":0},{"$f":"IFERROR($E311*SUMIF('Daily Log'!$AU$18:$AU$1017,$B311,'Daily Log'!$AV$18:$AV$1017),0)","v":0},{"$f":"IFERROR($E311*SUMIF('Daily Log'!$AX$18:$AX$1017,$B311,'Daily Log'!$AY$18:$AY$1017),0)","v":0},{"$f":"IFERROR($E311*SUMIF('Daily Log'!$BA$18:$BA$1017,$B311,'Daily Log'!$BB$18:$BB$1017),0)","v":0},{"$f":"IFERROR($E311*SUMIF('Daily Log'!$BD$18:$BD$1017,$B311,'Daily Log'!$BE$18:$BE$1017),0)","v":0},{"$f":"IFERROR($E311*SUMIF('Daily Log'!$BG$18:$BG$1017,$B311,'Daily Log'!$BH$18:$BH$1017),0)","v":0},{"$f":"IFERROR($E311*SUMIF('Daily Log'!$BJ$18:$BJ$1017,$B311,'Daily Log'!$BK$18:$BK$1017),0)","v":0},{"$f":"IFERROR($E311*SUMIF('Daily Log'!$BM$18:$BM$1017,$B311,'Daily Log'!$BN$18:$BN$1017),0)","v":0},{"$f":"IFERROR($E311*SUMIF('Daily Log'!$BP$18:$BP$1017,$B311,'Daily Log'!$BQ$18:$BQ$1017),0)","v":0},{"$f":"IFERROR($E311*SUMIF('Daily Log'!$BS$18:$BS$1017,$B311,'Daily Log'!$BT$18:$BT$1017),0)","v":0},{"$f":"IFERROR($E311*SUMIF('Daily Log'!$BV$18:$BV$1017,$B311,'Daily Log'!$BW$18:$BW$1017),0)","v":0},{"$f":"IFERROR($E311*SUMIF('Daily Log'!$BY$18:$BY$1017,$B311,'Daily Log'!$BZ$18:$BZ$1017),0)","v":0},{"$f":"IFERROR($E311*SUMIF('Daily Log'!$CB$18:$CB$1017,$B311,'Daily Log'!$CC$18:$CC$1017),0)","v":0},{"$f":"IFERROR($E311*SUMIF('Daily Log'!$CE$18:$CE$1017,$B311,'Daily Log'!$CF$18:$CF$1017),0)","v":0},{"$f":"IFERROR($E311*SUMIF('Daily Log'!$CH$18:$CH$1017,$B311,'Daily Log'!$CI$18:$CI$1017),0)","v":0},{"$f":"IFERROR($E311*SUMIF('Daily Log'!$CK$18:$CK$1017,$B311,'Daily Log'!$CL$18:$CL$1017),0)","v":0},{"$f":"IFERROR($E311*SUMIF('Daily Log'!$CN$18:$CN$1017,$B311,'Daily Log'!$CO$18:$CO$1017),0)","v":0}]
[null,"10602:Somersby Bucket",null,"BEER",4,8,{"$f":"IFERROR($E312*SUMIF('Daily Log'!$B$18:$B$1017,$B312,'Daily Log'!$C$18:$C$1017),0)","v":0},{"$f":"IFERROR($E312*SUMIF('Daily Log'!$E$18:$E$1017,$B312,'Daily Log'!$F$18:$F$1017),0)","v":0},{"$f":"IFERROR($E312*SUMIF('Daily Log'!$H$18:$H$1017,$B312,'Daily Log'!$I$18:$I$1017),0)","v":0},{"$f":"IFERROR($E312*SUMIF('Daily Log'!$K$18:$K$1017,$B312,'Daily Log'!$L$18:$L$1017),0)","v":0},{"$f":"IFERROR($E312*SUMIF('Daily Log'!$N$18:$N$1017,$B312,'Daily Log'!$O$18:$O$1017),0)","v":0},{"$f":"IFERROR($E312*SUMIF('Daily Log'!$Q$18:$Q$1017,$B312,'Daily Log'!$R$18:$R$1017),0)","v":0},{"$f":"IFERROR($E312*SUMIF('Daily Log'!$T$18:$T$1017,$B312,'Daily Log'!$U$18:$U$1017),0)","v":0},{"$f":"IFERROR($E312*SUMIF('Daily Log'!$W$18:$W$1017,$B312,'Daily Log'!$X$18:$X$1017),0)","v":0},{"$f":"IFERROR($E312*SUMIF('Daily Log'!$Z$18:$Z$1017,$B312,'Daily Log'!$AA$18:$AA$1017),0)","v":0},{"$f":"IFERROR($E312*SUMIF('Daily Log'!$AC$18:$AC$1017,$B312,'Daily Log'!$AD$18:$AD$1017),0)","v":8},{"$f":"IFERROR($E312*SUMIF('Daily Log'!$AF$18:$AF$1017,$B312,'Daily Log'!$AG$18:$AG$1017),0)","v":0},{"$f":"IFERROR($E312*SUMIF('Daily Log'!$AI$18:$AI$1017,$B312,'Daily Log'!$AJ$18:$AJ$1017),0)","v":0},{"$f":"IFERROR($E312*SUMIF('Daily Log'!$AL$18:$AL$1017,$B312,'Daily Log'!$AM$18:$AM$1017),0)","v":0},{"$f":"IFERROR($E312*SUMIF('Daily Log'!$AO$18:$AO$1017,$B312,'Daily Log'!$AP$18:$AP$1017),0)","v":0},{"$f":"IFERROR($E312*SUMIF('Daily Log'!$AR$18:$AR$1017,$B312,'Daily Log'!$AS$18:$AS$1017),0)","v":0},{"$f":"IFERROR($E312*SUMIF('Daily Log'!$AU$18:$AU$1017,$B312,'Daily Log'!$AV$18:$AV$1017),0)","v":0},{"$f":"IFERROR($E312*SUMIF('Daily Log'!$AX$18:$AX$1017,$B312,'Daily Log'!$AY$18:$AY$1017),0)","v":0},{"$f":"IFERROR($E312*SUMIF('Daily Log'!$BA$18:$BA$1017,$B312,'Daily Log'!$BB$18:$BB$1017),0)","v":0},{"$f":"IFERROR($E312*SUMIF('Daily Log'!$BD$18:$BD$1017,$B312,'Daily Log'!$BE$18:$BE$1017),0)","v":0},{"$f":"IFERROR($E312*SUMIF('Daily Log'!$BG$18:$BG$1017,$B312,'Daily Log'!$BH$18:$BH$1017),0)","v":0},{"$f":"IFERROR($E312*SUMIF('Daily Log'!$BJ$18:$BJ$1017,$B312,'Daily Log'!$BK$18:$BK$1017),0)","v":0},{"$f":"IFERROR($E312*SUMIF('Daily Log'!$BM$18:$BM$1017,$B312,'Daily Log'!$BN$18:$BN$1017),0)","v":0},{"$f":"IFERROR($E312*SUMIF('Daily Log'!$BP$18:$BP$1017,$B312,'Daily Log'!$BQ$18:$BQ$1017),0)","v":0},{"$f":"IFERROR($E312*SUMIF('Daily Log'!$BS$18:$BS$1017,$B312,'Daily Log'!$BT$18:$BT$1017),0)","v":0},{"$f":"IFERROR($E312*SUMIF('Daily Log'!$BV$18:$BV$1017,$B312,'Daily Log'!$BW$18:$BW$1017),0)","v":0},{"$f":"IFERROR($E312*SUMIF('Daily Log'!$BY$18:$BY$1017,$B312,'Daily Log'!$BZ$18:$BZ$1017),0)","v":0},{"$f":"IFERROR($E312*SUMIF('Daily Log'!$CB$18:$CB$1017,$B312,'Daily Log'!$CC$18:$CC$1017),0)","v":0},{"$f":"IFERROR($E312*SUMIF('Daily Log'!$CE$18:$CE$1017,$B312,'Daily Log'!$CF$18:$CF$1017),0)","v":0},{"$f":"IFERROR($E312*SUMIF('Daily Log'!$CH$18:$CH$1017,$B312,'Daily Log'!$CI$18:$CI$1017),0)","v":0},{"$f":"IFERROR($E312*SUMIF('Daily Log'!$CK$18:$CK$1017,$B312,'Daily Log'!$CL$18:$CL$1017),0)","v":0},{"$f":"IFERROR($E312*SUMIF('Daily Log'!$CN$18:$CN$1017,$B312,'Daily Log'!$CO$18:$CO$1017),0)","v":0}]
[null,"10701:Strongbow Bottle",null,"BEER",1,1,{"$f":"IFERROR($E313*SUMIF('Daily Log'!$B$18:$B$1017,$B313,'Daily Log'!$C$18:$C$1017),0)","v":0},{"$f":"IFERROR($E313*SUMIF('Daily Log'!$E$18:$E$1017,$B313,'Daily Log'!$F$18:$F$1017),0)","v":0},{"$f":"IFERROR($E313*SUMIF('Daily Log'!$H$18:$H$1017,$B313,'Daily Log'!$I$18:$I$1017),0)","v":0},{"$f":"IFERROR($E313*SUMIF('Daily Log'!$K$18:$K$1017,$B313,'Daily Log'!$L$18:$L$1017),0)","v":0},{"$f":"IFERROR($E313*SUMIF('Daily Log'!$N$18:$N$1017,$B313,'Daily Log'!$O$18:$O$1017),0)","v":0},{"$f":"IFERROR($E313*SUMIF('Daily Log'!$Q$18:$Q$1017,$B313,'Daily Log'!$R$18:$R$1017),0)","v":0},{"$f":"IFERROR($E313*SUMIF('Daily Log'!$T$18:$T$1017,$B313,'Daily Log'!$U$18:$U$1017),0)","v":0},{"$f":"IFERROR($E313*SUMIF('Daily Log'!$W$18:$W$1017,$B313,'Daily Log'!$X$18:$X$1017),0)","v":0},{"$f":"IFERROR($E313*SUMIF('Daily Log'!$Z$18:$Z$1017,$B313,'Daily Log'!$AA$18:$AA$1017),0)","v":0},{"$f":"IFERROR($E313*SUMIF('Daily Log'!$AC$18:$AC$1017,$B313,'Daily Log'!$AD$18:$AD$1017),0)","v":0},{"$f":"IFERROR($E313*SUMIF('Daily Log'!$AF$18:$AF$1017,$B313,'Daily Log'!$AG$18:$AG$1017),0)","v":0},{"$f":"IFERROR($E313*SUMIF('Daily Log'!$AI$18:$AI$1017,$B313,'Daily Log'!$AJ$18:$AJ$1017),0)","v":0},{"$f":"IFERROR($E313*SUMIF('Daily Log'!$AL$18:$AL$1017,$B313,'Daily Log'!$AM$18:$AM$1017),0)","v":1},{"$f":"IFERROR($E313*SUMIF('Daily Log'!$AO$18:$AO$1017,$B313,'Daily Log'!$AP$18:$AP$1017),0)","v":0},{"$f":"IFERROR($E313*SUMIF('Daily Log'!$AR$18:$AR$1017,$B313,'Daily Log'!$AS$18:$AS$1017),0)","v":0},{"$f":"IFERROR($E313*SUMIF('Daily Log'!$AU$18:$AU$1017,$B313,'Daily Log'!$AV$18:$AV$1017),0)","v":0},{"$f":"IFERROR($E313*SUMIF('Daily Log'!$AX$18:$AX$1017,$B313,'Daily Log'!$AY$18:$AY$1017),0)","v":0},{"$f":"IFERROR($E313*SUMIF('Daily Log'!$BA$18:$BA$1017,$B313,'Daily Log'!$BB$18:$BB$1017),0)","v":0},{"$f":"IFERROR($E313*SUMIF('Daily Log'!$BD$18:$BD$1017,$B313,'Daily Log'!$BE$18:$BE$1017),0)","v":0},{"$f":"IFERROR($E313*SUMIF('Daily Log'!$BG$18:$BG$1017,$B313,'Daily Log'!$BH$18:$BH$1017),0)","v":0},{"$f":"IFERROR($E313*SUMIF('Daily Log'!$BJ$18:$BJ$1017,$B313,'Daily Log'!$BK$18:$BK$1017),0)","v":0},{"$f":"IFERROR($E313*SUMIF('Daily Log'!$BM$18:$BM$1017,$B313,'Daily Log'!$BN$18:$BN$1017),0)","v":0},{"$f":"IFERROR($E313*SUMIF('Daily Log'!$BP$18:$BP$1017,$B313,'Daily Log'!$BQ$18:$BQ$1017),0)","v":0},{"$f":"IFERROR($E313*SUMIF('Daily Log'!$BS$18:$BS$1017,$B313,'Daily Log'!$BT$18:$BT$1017),0)","v":0},{"$f":"IFERROR($E313*SUMIF('Daily Log'!$BV$18:$BV$1017,$B313,'Daily Log'!$BW$18:$BW$1017),0)","v":0},{"$f":"IFERROR($E313*SUMIF('Daily Log'!$BY$18:$BY$1017,$B313,'Daily Log'!$BZ$18:$BZ$1017),0)","v":0},{"$f":"IFERROR($E313*SUMIF('Daily Log'!$CB$18:$CB$1017,$B313,'Daily Log'!$CC$18:$CC$1017),0)","v":0},{"$f":"IFERROR($E313*SUMIF('Daily Log'!$CE$18:$CE$1017,$B313,'Daily Log'!$CF$18:$CF$1017),0)","v":0},{"$f":"IFERROR($E313*SUMIF('Daily Log'!$CH$18:$CH$1017,$B313,'Daily Log'!$CI$18:$CI$1017),0)","v":0},{"$f":"IFERROR($E313*SUMIF('Daily Log'!$CK$18:$CK$1017,$B313,'Daily Log'!$CL$18:$CL$1017),0)","v":0},{"$f":"IFERROR($E313*SUMIF('Daily Log'!$CN$18:$CN$1017,$B313,'Daily Log'!$CO$18:$CO$1017),0)","v":0}]
[null,"10702:Strongbow Bucket",null,"BEER",4,0,{"$f":"IFERROR($E314*SUMIF('Daily Log'!$B$18:$B$1017,$B314,'Daily Log'!$C$18:$C$1017),0)","v":0},{"$f":"IFERROR($E314*SUMIF('Daily Log'!$E$18:$E$1017,$B314,'Daily Log'!$F$18:$F$1017),0)","v":0},{"$f":"IFERROR($E314*SUMIF('Daily Log'!$H$18:$H$1017,$B314,'Daily Log'!$I$18:$I$1017),0)","v":0},{"$f":"IFERROR($E314*SUMIF('Daily Log'!$K$18:$K$1017,$B314,'Daily Log'!$L$18:$L$1017),0)","v":0},{"$f":"IFERROR($E314*SUMIF('Daily Log'!$N$18:$N$1017,$B314,'Daily Log'!$O$18:$O$1017),0)","v":0},{"$f":"IFERROR($E314*SUMIF('Daily Log'!$Q$18:$Q$1017,$B314,'Daily Log'!$R$18:$R$1017),0)","v":0},{"$f":"IFERROR($E314*SUMIF('Daily Log'!$T$18:$T$1017,$B314,'Daily Log'!$U$18:$U$1017),0)","v":0},{"$f":"IFERROR($E314*SUMIF('Daily Log'!$W$18:$W$1017,$B314,'Daily Log'!$X$18:$X$1017),0)","v":0},{"$f":"IFERROR($E314*SUMIF('Daily Log'!$Z$18:$Z$1017,$B314,'Daily Log'!$AA$18:$AA$1017),0)","v":0},{"$f":"IFERROR($E314*SUMIF('Daily Log'!$AC$18:$AC$1017,$B314,'Daily Log'!$AD$18:$AD$1017),0)","v":0},{"$f":"IFERROR($E314*SUMIF('Daily Log'!$AF$18:$AF$1017,$B314,'Daily Log'!$AG$18:$AG$1017),0)","v":0},{"$f":"IFERROR($E314*SUMIF('Daily Log'!$AI$18:$AI$1017,$B314,'Daily Log'!$AJ$18:$AJ$1017),0)","v":0},{"$f":"IFERROR($E314*SUMIF('Daily Log'!$AL$18:$AL$1017,$B314,'Daily Log'!$AM$18:$AM$1017),0)","v":0},{"$f":"IFERROR($E314*SUMIF('Daily Log'!$AO$18:$AO$1017,$B314,'Daily Log'!$AP$18:$AP$1017),0)","v":0},{"$f":"IFERROR($E314*SUMIF('Daily Log'!$AR$18:$AR$1017,$B314,'Daily Log'!$AS$18:$AS$1017),0)","v":0},{"$f":"IFERROR($E314*SUMIF('Daily Log'!$AU$18:$AU$1017,$B314,'Daily Log'!$AV$18:$AV$1017),0)","v":0},{"$f":"IFERROR($E314*SUMIF('Daily Log'!$AX$18:$AX$1017,$B314,'Daily Log'!$AY$18:$AY$1017),0)","v":0},{"$f":"IFERROR($E314*SUMIF('Daily Log'!$BA$18:$BA$1017,$B314,'Daily Log'!$BB$18:$BB$1017),0)","v":0},{"$f":"IFERROR($E314*SUMIF('Daily Log'!$BD$18:$BD$1017,$B314,'Daily Log'!$BE$18:$BE$1017),0)","v":0},{"$f":"IFERROR($E314*SUMIF('Daily Log'!$BG$18:$BG$1017,$B314,'Daily Log'!$BH$18:$BH$1017),0)","v":0},{"$f":"IFERROR($E314*SUMIF('Daily Log'!$BJ$18:$BJ$1017,$B314,'Daily Log'!$BK$18:$BK$1017),0)","v":0},{"$f":"IFERROR($E314*SUMIF('Daily Log'!$BM$18:$BM$1017,$B314,'Daily Log'!$BN$18:$BN$1017),0)","v":0},{"$f":"IFERROR($E314*SUMIF('Daily Log'!$BP$18:$BP$1017,$B314,'Daily Log'!$BQ$18:$BQ$1017),0)","v":0},{"$f":"IFERROR($E314*SUMIF('Daily Log'!$BS$18:$BS$1017,$B314,'Daily Log'!$BT$18:$BT$1017),0)","v":0},{"$f":"IFERROR($E314*SUMIF('Daily Log'!$BV$18:$BV$1017,$B314,'Daily Log'!$BW$18:$BW$1017),0)","v":0},{"$f":"IFERROR($E314*SUMIF('Daily Log'!$BY$18:$BY$1017,$B314,'Daily Log'!$BZ$18:$BZ$1017),0)","v":0},{"$f":"IFERROR($E314*SUMIF('Daily Log'!$CB$18:$CB$1017,$B314,'Daily Log'!$CC$18:$CC$1017),0)","v":0},{"$f":"IFERROR($E314*SUMIF('Daily Log'!$CE$18:$CE$1017,$B314,'Daily Log'!$CF$18:$CF$1017),0)","v":0},{"$f":"IFERROR($E314*SUMIF('Daily Log'!$CH$18:$CH$1017,$B314,'Daily Log'!$CI$18:$CI$1017),0)","v":0},{"$f":"IFERROR($E314*SUMIF('Daily Log'!$CK$18:$CK$1017,$B314,'Daily Log'!$CL$18:$CL$1017),0)","v":0},{"$f":"IFERROR($E314*SUMIF('Daily Log'!$CN$18:$CN$1017,$B314,'Daily Log'!$CO$18:$CO$1017),0)","v":0}]
[null,"10902:Paulaner Bucket",null,"BEER",4,0,{"$f":"IFERROR($E315*SUMIF('Daily Log'!$B$18:$B$1017,$B315,'Daily Log'!$C$18:$C$1017),0)","v":0},{"$f":"IFERROR($E315*SUMIF('Daily Log'!$E$18:$E$1017,$B315,'Daily Log'!$F$18:$F$1017),0)","v":0},{"$f":"IFERROR($E315*SUMIF('Daily Log'!$H$18:$H$1017,$B315,'Daily Log'!$I$18:$I$1017),0)","v":0},{"$f":"IFERROR($E315*SUMIF('Daily Log'!$K$18:$K$1017,$B315,'Daily Log'!$L$18:$L$1017),0)","v":0},{"$f":"IFERROR($E315*SUMIF('Daily Log'!$N$18:$N$1017,$B315,'Daily Log'!$O$18:$O$1017),0)","v":0},{"$f":"IFERROR($E315*SUMIF('Daily Log'!$Q$18:$Q$1017,$B315,'Daily Log'!$R$18:$R$1017),0)","v":0},{"$f":"IFERROR($E315*SUMIF('Daily Log'!$T$18:$T$1017,$B315,'Daily Log'!$U$18:$U$1017),0)","v":0},{"$f":"IFERROR($E315*SUMIF('Daily Log'!$W$18:$W$1017,$B315,'Daily Log'!$X$18:$X$1017),0)","v":0},{"$f":"IFERROR($E315*SUMIF('Daily Log'!$Z$18:$Z$1017,$B315,'Daily Log'!$AA$18:$AA$1017),0)","v":0},{"$f":"IFERROR($E315*SUMIF('Daily Log'!$AC$18:$AC$1017,$B315,'Daily Log'!$AD$18:$AD$1017),0)","v":0},{"$f":"IFERROR($E315*SUMIF('Daily Log'!$AF$18:$AF$1017,$B315,'Daily Log'!$AG$18:$AG$1017),0)","v":0},{"$f":"IFERROR($E315*SUMIF('Daily Log'!$AI$18:$AI$1017,$B315,'Daily Log'!$AJ$18:$AJ$1017),0)","v":0},{"$f":"IFERROR($E315*SUMIF('Daily Log'!$AL$18:$AL$1017,$B315,'Daily Log'!$AM$18:$AM$1017),0)","v":0},{"$f":"IFERROR($E315*SUMIF('Daily Log'!$AO$18:$AO$1017,$B315,'Daily Log'!$AP$18:$AP$1017),0)","v":0},{"$f":"IFERROR($E315*SUMIF('Daily Log'!$AR$18:$AR$1017,$B315,'Daily Log'!$AS$18:$AS$1017),0)","v":0},{"$f":"IFERROR($E315*SUMIF('Daily Log'!$AU$18:$AU$1017,$B315,'Daily Log'!$AV$18:$AV$1017),0)","v":0},{"$f":"IFERROR($E315*SUMIF('Daily Log'!$AX$18:$AX$1017,$B315,'Daily Log'!$AY$18:$AY$1017),0)","v":0},{"$f":"IFERROR($E315*SUMIF('Daily Log'!$BA$18:$BA$1017,$B315,'Daily Log'!$BB$18:$BB$1017),0)","v":0},{"$f":"IFERROR($E315*SUMIF('Daily Log'!$BD$18:$BD$1017,$B315,'Daily Log'!$BE$18:$BE$1017),0)","v":0},{"$f":"IFERROR($E315*SUMIF('Daily Log'!$BG$18:$BG$1017,$B315,'Daily Log'!$BH$18:$BH$1017),0)","v":0},{"$f":"IFERROR($E315*SUMIF('Daily Log'!$BJ$18:$BJ$1017,$B315,'Daily Log'!$BK$18:$BK$1017),0)","v":0},{"$f":"IFERROR($E315*SUMIF('Daily Log'!$BM$18:$BM$1017,$B315,'Daily Log'!$BN$18:$BN$1017),0)","v":0},{"$f":"IFERROR($E315*SUMIF('Daily Log'!$BP$18:$BP$1017,$B315,'Daily Log'!$BQ$18:$BQ$1017),0)","v":0},{"$f":"IFERROR($E315*SUMIF('Daily Log'!$BS$18:$BS$1017,$B315,'Daily Log'!$BT$18:$BT$1017),0)","v":0},{"$f":"IFERROR($E315*SUMIF('Daily Log'!$BV$18:$BV$1017,$B315,'Daily Log'!$BW$18:$BW$1017),0)","v":0},{"$f":"IFERROR($E315*SUMIF('Daily Log'!$BY$18:$BY$1017,$B315,'Daily Log'!$BZ$18:$BZ$1017),0)","v":0},{"$f":"IFERROR($E315*SUMIF('Daily Log'!$CB$18:$CB$1017,$B315,'Daily Log'!$CC$18:$CC$1017),0)","v":0},{"$f":"IFERROR($E315*SUMIF('Daily Log'!$CE$18:$CE$1017,$B315,'Daily Log'!$CF$18:$CF$1017),0)","v":0},{"$f":"IFERROR($E315*SUMIF('Daily Log'!$CH$18:$CH$1017,$B315,'Daily Log'!$CI$18:$CI$1017),0)","v":0},{"$f":"IFERROR($E315*SUMIF('Daily Log'!$CK$18:$CK$1017,$B315,'Daily Log'!$CL$18:$CL$1017),0)","v":0},{"$f":"IFERROR($E315*SUMIF('Daily Log'!$CN$18:$CN$1017,$B315,'Daily Log'!$CO$18:$CO$1017),0)","v":0}]
[null,"01154:M-HEINEKEN 2BP",null,null,1,0,{"$f":"IFERROR($E316*SUMIF('Daily Log'!$B$18:$B$1017,$B316,'Daily Log'!$C$18:$C$1017),0)","v":0},{"$f":"IFERROR($E316*SUMIF('Daily Log'!$E$18:$E$1017,$B316,'Daily Log'!$F$18:$F$1017),0)","v":0},{"$f":"IFERROR($E316*SUMIF('Daily Log'!$H$18:$H$1017,$B316,'Daily Log'!$I$18:$I$1017),0)","v":0},{"$f":"IFERROR($E316*SUMIF('Daily Log'!$K$18:$K$1017,$B316,'Daily Log'!$L$18:$L$1017),0)","v":0},{"$f":"IFERROR($E316*SUMIF('Daily Log'!$N$18:$N$1017,$B316,'Daily Log'!$O$18:$O$1017),0)","v":0},{"$f":"IFERROR($E316*SUMIF('Daily Log'!$Q$18:$Q$1017,$B316,'Daily Log'!$R$18:$R$1017),0)","v":0},{"$f":"IFERROR($E316*SUMIF('Daily Log'!$T$18:$T$1017,$B316,'Daily Log'!$U$18:$U$1017),0)","v":0},{"$f":"IFERROR($E316*SUMIF('Daily Log'!$W$18:$W$1017,$B316,'Daily Log'!$X$18:$X$1017),0)","v":0},{"$f":"IFERROR($E316*SUMIF('Daily Log'!$Z$18:$Z$1017,$B316,'Daily Log'!$AA$18:$AA$1017),0)","v":0},{"$f":"IFERROR($E316*SUMIF('Daily Log'!$AC$18:$AC$1017,$B316,'Daily Log'!$AD$18:$AD$1017),0)","v":0},{"$f":"IFERROR($E316*SUMIF('Daily Log'!$AF$18:$AF$1017,$B316,'Daily Log'!$AG$18:$AG$1017),0)","v":0},{"$f":"IFERROR($E316*SUMIF('Daily Log'!$AI$18:$AI$1017,$B316,'Daily Log'!$AJ$18:$AJ$1017),0)","v":0},{"$f":"IFERROR($E316*SUMIF('Daily Log'!$AL$18:$AL$1017,$B316,'Daily Log'!$AM$18:$AM$1017),0)","v":0},{"$f":"IFERROR($E316*SUMIF('Daily Log'!$AO$18:$AO$1017,$B316,'Daily Log'!$AP$18:$AP$1017),0)","v":0},{"$f":"IFERROR($E316*SUMIF('Daily Log'!$AR$18:$AR$1017,$B316,'Daily Log'!$AS$18:$AS$1017),0)","v":0},{"$f":"IFERROR($E316*SUMIF('Daily Log'!$AU$18:$AU$1017,$B316,'Daily Log'!$AV$18:$AV$1017),0)","v":0},{"$f":"IFERROR($E316*SUMIF('Daily Log'!$AX$18:$AX$1017,$B316,'Daily Log'!$AY$18:$AY$1017),0)","v":0},{"$f":"IFERROR($E316*SUMIF('Daily Log'!$BA$18:$BA$1017,$B316,'Daily Log'!$BB$18:$BB$1017),0)","v":0},{"$f":"IFERROR($E316*SUMIF('Daily Log'!$BD$18:$BD$1017,$B316,'Daily Log'!$BE$18:$BE$1017),0)","v":0},{"$f":"IFERROR($E316*SUMIF('Daily Log'!$BG$18:$BG$1017,$B316,'Daily Log'!$BH$18:$BH$1017),0)","v":0},{"$f":"IFERROR($E316*SUMIF('Daily Log'!$BJ$18:$BJ$1017,$B316,'Daily Log'!$BK$18:$BK$1017),0)","v":0},{"$f":"IFERROR($E316*SUMIF('Daily Log'!$BM$18:$BM$1017,$B316,'Daily Log'!$BN$18:$BN$1017),0)","v":0},{"$f":"IFERROR($E316*SUMIF('Daily Log'!$BP$18:$BP$1017,$B316,'Daily Log'!$BQ$18:$BQ$1017),0)","v":0},{"$f":"IFERROR($E316*SUMIF('Daily Log'!$BS$18:$BS$1017,$B316,'Daily Log'!$BT$18:$BT$1017),0)","v":0},{"$f":"IFERROR($E316*SUMIF('Daily Log'!$BV$18:$BV$1017,$B316,'Daily Log'!$BW$18:$BW$1017),0)","v":0},{"$f":"IFERROR($E316*SUMIF('Daily Log'!$BY$18:$BY$1017,$B316,'Daily Log'!$BZ$18:$BZ$1017),0)","v":0},{"$f":"IFERROR($E316*SUMIF('Daily Log'!$CB$18:$CB$1017,$B316,'Daily Log'!$CC$18:$CC$1017),0)","v":0},{"$f":"IFERROR($E316*SUMIF('Daily Log'!$CE$18:$CE$1017,$B316,'Daily Log'!$CF$18:$CF$1017),0)","v":0},{"$f":"IFERROR($E316*SUMIF('Daily Log'!$CH$18:$CH$1017,$B316,'Daily Log'!$CI$18:$CI$1017),0)","v":0},{"$f":"IFERROR($E316*SUMIF('Daily Log'!$CK$18:$CK$1017,$B316,'Daily Log'!$CL$18:$CL$1017),0)","v":0},{"$f":"IFERROR($E316*SUMIF('Daily Log'!$CN$18:$CN$1017,$B316,'Daily Log'!$CO$18:$CO$1017),0)","v":0}]
[null,"11646:L-MC03-螺旋薯条",null,null,1,2,{"$f":"IFERROR($E317*SUMIF('Daily Log'!$B$18:$B$1017,$B317,'Daily Log'!$C$18:$C$1017),0)","v":0},{"$f":"IFERROR($E317*SUMIF('Daily Log'!$E$18:$E$1017,$B317,'Daily Log'!$F$18:$F$1017),0)","v":0},{"$f":"IFERROR($E317*SUMIF('Daily Log'!$H$18:$H$1017,$B317,'Daily Log'!$I$18:$I$1017),0)","v":0},{"$f":"IFERROR($E317*SUMIF('Daily Log'!$K$18:$K$1017,$B317,'Daily Log'!$L$18:$L$1017),0)","v":0},{"$f":"IFERROR($E317*SUMIF('Daily Log'!$N$18:$N$1017,$B317,'Daily Log'!$O$18:$O$1017),0)","v":0},{"$f":"IFERROR($E317*SUMIF('Daily Log'!$Q$18:$Q$1017,$B317,'Daily Log'!$R$18:$R$1017),0)","v":0},{"$f":"IFERROR($E317*SUMIF('Daily Log'!$T$18:$T$1017,$B317,'Daily Log'!$U$18:$U$1017),0)","v":1},{"$f":"IFERROR($E317*SUMIF('Daily Log'!$W$18:$W$1017,$B317,'Daily Log'!$X$18:$X$1017),0)","v":0},{"$f":"IFERROR($E317*SUMIF('Daily Log'!$Z$18:$Z$1017,$B317,'Daily Log'!$AA$18:$AA$1017),0)","v":0},{"$f":"IFERROR($E317*SUMIF('Daily Log'!$AC$18:$AC$1017,$B317,'Daily Log'!$AD$18:$AD$1017),0)","v":0},{"$f":"IFERROR($E317*SUMIF('Daily Log'!$AF$18:$AF$1017,$B317,'Daily Log'!$AG$18:$AG$1017),0)","v":1},{"$f":"IFERROR($E317*SUMIF('Daily Log'!$AI$18:$AI$1017,$B317,'Daily Log'!$AJ$18:$AJ$1017),0)","v":0},{"$f":"IFERROR($E317*SUMIF('Daily Log'!$AL$18:$AL$1017,$B317,'Daily Log'!$AM$18:$AM$1017),0)","v":0},{"$f":"IFERROR($E317*SUMIF('Daily Log'!$AO$18:$AO$1017,$B317,'Daily Log'!$AP$18:$AP$1017),0)","v":0},{"$f":"IFERROR($E317*SUMIF('Daily Log'!$AR$18:$AR$1017,$B317,'Daily Log'!$AS$18:$AS$1017),0)","v":0},{"$f":"IFERROR($E317*SUMIF('Daily Log'!$AU$18:$AU$1017,$B317,'Daily Log'!$AV$18:$AV$1017),0)","v":0},{"$f":"IFERROR($E317*SUMIF('Daily Log'!$AX$18:$AX$1017,$B317,'Daily Log'!$AY$18:$AY$1017),0)","v":0},{"$f":"IFERROR($E317*SUMIF('Daily Log'!$BA$18:$BA$1017,$B317,'Daily Log'!$BB$18:$BB$1017),0)","v":0},{"$f":"IFERROR($E317*SUMIF('Daily Log'!$BD$18:$BD$1017,$B317,'Daily Log'!$BE$18:$BE$1017),0)","v":0},{"$f":"IFERROR($E317*SUMIF('Daily Log'!$BG$18:$BG$1017,$B317,'Daily Log'!$BH$18:$BH$1017),0)","v":0},{"$f":"IFERROR($E317*SUMIF('Daily Log'!$BJ$18:$BJ$1017,$B317,'Daily Log'!$BK$18:$BK$1017),0)","v":0},{"$f":"IFERROR($E317*SUMIF('Daily Log'!$BM$18:$BM$1017,$B317,'Daily Log'!$BN$18:$BN$1017),0)","v":0},{"$f":"IFERROR($E317*SUMIF('Daily Log'!$BP$18:$BP$1017,$B317,'Daily Log'!$BQ$18:$BQ$1017),0)","v":0},{"$f":"IFERROR($E317*SUMIF('Daily Log'!$BS$18:$BS$1017,$B317,'Daily Log'!$BT$18:$BT$1017),0)","v":0},{"$f":"IFERROR($E317*SUMIF('Daily Log'!$BV$18:$BV$1017,$B317,'Daily Log'!$BW$18:$BW$1017),0)","v":0},{"$f":"IFERROR($E317*SUMIF('Daily Log'!$BY$18:$BY$1017,$B317,'Daily Log'!$BZ$18:$BZ$1017),0)","v":0},{"$f":"IFERROR($E317*SUMIF('Daily Log'!$CB$18:$CB$1017,$B317,'Daily Log'!$CC$18:$CC$1017),0)","v":0},{"$f":"IFERROR($E317*SUMIF('Daily Log'!$CE$18:$CE$1017,$B317,'Daily Log'!$CF$18:$CF$1017),0)","v":0},{"$f":"IFERROR($E317*SUMIF('Daily Log'!$CH$18:$CH$1017,$B317,'Daily Log'!$CI$18:$CI$1017),0)","v":0},{"$f":"IFERROR($E317*SUMIF('Daily Log'!$CK$18:$CK$1017,$B317,'Daily Log'!$CL$18:$CL$1017),0)","v":0},{"$f":"IFERROR($E317*SUMIF('Daily Log'!$CN$18:$CN$1017,$B317,'Daily Log'!$CO$18:$CO$1017),0)","v":0}]
[null,"11648:L-MC05-笑面薯饼",null,null,1,3,{"$f":"IFERROR($E318*SUMIF('Daily Log'!$B$18:$B$1017,$B318,'Daily Log'!$C$18:$C$1017),0)","v":0},{"$f":"IFERROR($E318*SUMIF('Daily Log'!$E$18:$E$1017,$B318,'Daily Log'!$F$18:$F$1017),0)","v":0},{"$f":"IFERROR($E318*SUMIF('Daily Log'!$H$18:$H$1017,$B318,'Daily Log'!$I$18:$I$1017),0)","v":0},{"$f":"IFERROR($E318*SUMIF('Daily Log'!$K$18:$K$1017,$B318,'Daily Log'!$L$18:$L$1017),0)","v":0},{"$f":"IFERROR($E318*SUMIF('Daily Log'!$N$18:$N$1017,$B318,'Daily Log'!$O$18:$O$1017),0)","v":0},{"$f":"IFERROR($E318*SUMIF('Daily Log'!$Q$18:$Q$1017,$B318,'Daily Log'!$R$18:$R$1017),0)","v":0},{"$f":"IFERROR($E318*SUMIF('Daily Log'!$T$18:$T$1017,$B318,'Daily Log'!$U$18:$U$1017),0)","v":0},{"$f":"IFERROR($E318*SUMIF('Daily Log'!$W$18:$W$1017,$B318,'Daily Log'!$X$18:$X$1017),0)","v":0},{"$f":"IFERROR($E318*SUMIF('Daily Log'!$Z$18:$Z$1017,$B318,'Daily Log'!$AA$18:$AA$1017),0)","v":0},{"$f":"IFERROR($E318*SUMIF('Daily Log'!$AC$18:$AC$1017,$B318,'Daily Log'!$AD$18:$AD$1017),0)","v":0},{"$f":"IFERROR($E318*SUMIF('Daily Log'!$AF$18:$AF$1017,$B318,'Daily Log'!$AG$18:$AG$1017),0)","v":1},{"$f":"IFERROR($E318*SUMIF('Daily Log'!$AI$18:$AI$1017,$B318,'Daily Log'!$AJ$18:$AJ$1017),0)","v":0},{"$f":"IFERROR($E318*SUMIF('Daily Log'!$AL$18:$AL$1017,$B318,'Daily Log'!$AM$18:$AM$1017),0)","v":2},{"$f":"IFERROR($E318*SUMIF('Daily Log'!$AO$18:$AO$1017,$B318,'Daily Log'!$AP$18:$AP$1017),0)","v":0},{"$f":"IFERROR($E318*SUMIF('Daily Log'!$AR$18:$AR$1017,$B318,'Daily Log'!$AS$18:$AS$1017),0)","v":0},{"$f":"IFERROR($E318*SUMIF('Daily Log'!$AU$18:$AU$1017,$B318,'Daily Log'!$AV$18:$AV$1017),0)","v":0},{"$f":"IFERROR($E318*SUMIF('Daily Log'!$AX$18:$AX$1017,$B318,'Daily Log'!$AY$18:$AY$1017),0)","v":0},{"$f":"IFERROR($E318*SUMIF('Daily Log'!$BA$18:$BA$1017,$B318,'Daily Log'!$BB$18:$BB$1017),0)","v":0},{"$f":"IFERROR($E318*SUMIF('Daily Log'!$BD$18:$BD$1017,$B318,'Daily Log'!$BE$18:$BE$1017),0)","v":0},{"$f":"IFERROR($E318*SUMIF('Daily Log'!$BG$18:$BG$1017,$B318,'Daily Log'!$BH$18:$BH$1017),0)","v":0},{"$f":"IFERROR($E318*SUMIF('Daily Log'!$BJ$18:$BJ$1017,$B318,'Daily Log'!$BK$18:$BK$1017),0)","v":0},{"$f":"IFERROR($E318*SUMIF('Daily Log'!$BM$18:$BM$1017,$B318,'Daily Log'!$BN$18:$BN$1017),0)","v":0},{"$f":"IFERROR($E318*SUMIF('Daily Log'!$BP$18:$BP$1017,$B318,'Daily Log'!$BQ$18:$BQ$1017),0)","v":0},{"$f":"IFERROR($E318*SUMIF('Daily Log'!$BS$18:$BS$1017,$B318,'Daily Log'!$BT$18:$BT$1017),0)","v":0},{"$f":"IFERROR($E318*SUMIF('Daily Log'!$BV$18:$BV$1017,$B318,'Daily Log'!$BW$18:$BW$1017),0)","v":0},{"$f":"IFERROR($E318*SUMIF('Daily Log'!$BY$18:$BY$1017,$B318,'Daily Log'!$BZ$18:$BZ$1017),0)","v":0},{"$f":"IFERROR($E318*SUMIF('Daily Log'!$CB$18:$CB$1017,$B318,'Daily Log'!$CC$18:$CC$1017),0)","v":0},{"$f":"IFERROR($E318*SUMIF('Daily Log'!$CE$18:$CE$1017,$B318,'Daily Log'!$CF$18:$CF$1017),0)","v":0},{"$f":"IFERROR($E318*SUMIF('Daily Log'!$CH$18:$CH$1017,$B318,'Daily Log'!$CI$18:$CI$1017),0)","v":0},{"$f":"IFERROR($E318*SUMIF('Daily Log'!$CK$18:$CK$1017,$B318,'Daily Log'!$CL$18:$CL$1017),0)","v":0},{"$f":"IFERROR($E318*SUMIF('Daily Log'!$CN$18:$CN$1017,$B318,'Daily Log'!$CO$18:$CO$1017),0)","v":0}]
[null,"11034:Lok34-海鲜豆腐",null,null,1,0,{"$f":"IFERROR($E319*SUMIF('Daily Log'!$B$18:$B$1017,$B319,'Daily Log'!$C$18:$C$1017),0)","v":0},{"$f":"IFERROR($E319*SUMIF('Daily Log'!$E$18:$E$1017,$B319,'Daily Log'!$F$18:$F$1017),0)","v":0},{"$f":"IFERROR($E319*SUMIF('Daily Log'!$H$18:$H$1017,$B319,'Daily Log'!$I$18:$I$1017),0)","v":0},{"$f":"IFERROR($E319*SUMIF('Daily Log'!$K$18:$K$1017,$B319,'Daily Log'!$L$18:$L$1017),0)","v":0},{"$f":"IFERROR($E319*SUMIF('Daily Log'!$N$18:$N$1017,$B319,'Daily Log'!$O$18:$O$1017),0)","v":0},{"$f":"IFERROR($E319*SUMIF('Daily Log'!$Q$18:$Q$1017,$B319,'Daily Log'!$R$18:$R$1017),0)","v":0},{"$f":"IFERROR($E319*SUMIF('Daily Log'!$T$18:$T$1017,$B319,'Daily Log'!$U$18:$U$1017),0)","v":0},{"$f":"IFERROR($E319*SUMIF('Daily Log'!$W$18:$W$1017,$B319,'Daily Log'!$X$18:$X$1017),0)","v":0},{"$f":"IFERROR($E319*SUMIF('Daily Log'!$Z$18:$Z$1017,$B319,'Daily Log'!$AA$18:$AA$1017),0)","v":0},{"$f":"IFERROR($E319*SUMIF('Daily Log'!$AC$18:$AC$1017,$B319,'Daily Log'!$AD$18:$AD$1017),0)","v":0},{"$f":"IFERROR($E319*SUMIF('Daily Log'!$AF$18:$AF$1017,$B319,'Daily Log'!$AG$18:$AG$1017),0)","v":0},{"$f":"IFERROR($E319*SUMIF('Daily Log'!$AI$18:$AI$1017,$B319,'Daily Log'!$AJ$18:$AJ$1017),0)","v":0},{"$f":"IFERROR($E319*SUMIF('Daily Log'!$AL$18:$AL$1017,$B319,'Daily Log'!$AM$18:$AM$1017),0)","v":0},{"$f":"IFERROR($E319*SUMIF('Daily Log'!$AO$18:$AO$1017,$B319,'Daily Log'!$AP$18:$AP$1017),0)","v":0},{"$f":"IFERROR($E319*SUMIF('Daily Log'!$AR$18:$AR$1017,$B319,'Daily Log'!$AS$18:$AS$1017),0)","v":0},{"$f":"IFERROR($E319*SUMIF('Daily Log'!$AU$18:$AU$1017,$B319,'Daily Log'!$AV$18:$AV$1017),0)","v":0},{"$f":"IFERROR($E319*SUMIF('Daily Log'!$AX$18:$AX$1017,$B319,'Daily Log'!$AY$18:$AY$1017),0)","v":0},{"$f":"IFERROR($E319*SUMIF('Daily Log'!$BA$18:$BA$1017,$B319,'Daily Log'!$BB$18:$BB$1017),0)","v":0},{"$f":"IFERROR($E319*SUMIF('Daily Log'!$BD$18:$BD$1017,$B319,'Daily Log'!$BE$18:$BE$1017),0)","v":0},{"$f":"IFERROR($E319*SUMIF('Daily Log'!$BG$18:$BG$1017,$B319,'Daily Log'!$BH$18:$BH$1017),0)","v":0},{"$f":"IFERROR($E319*SUMIF('Daily Log'!$BJ$18:$BJ$1017,$B319,'Daily Log'!$BK$18:$BK$1017),0)","v":0},{"$f":"IFERROR($E319*SUMIF('Daily Log'!$BM$18:$BM$1017,$B319,'Daily Log'!$BN$18:$BN$1017),0)","v":0},{"$f":"IFERROR($E319*SUMIF('Daily Log'!$BP$18:$BP$1017,$B319,'Daily Log'!$BQ$18:$BQ$1017),0)","v":0},{"$f":"IFERROR($E319*SUMIF('Daily Log'!$BS$18:$BS$1017,$B319,'Daily Log'!$BT$18:$BT$1017),0)","v":0},{"$f":"IFERROR($E319*SUMIF('Daily Log'!$BV$18:$BV$1017,$B319,'Daily Log'!$BW$18:$BW$1017),0)","v":0},{"$f":"IFERROR($E319*SUMIF('Daily Log'!$BY$18:$BY$1017,$B319,'Daily Log'!$BZ$18:$BZ$1017),0)","v":0},{"$f":"IFERROR($E319*SUMIF('Daily Log'!$CB$18:$CB$1017,$B319,'Daily Log'!$CC$18:$CC$1017),0)","v":0},{"$f":"IFERROR($E319*SUMIF('Daily Log'!$CE$18:$CE$1017,$B319,'Daily Log'!$CF$18:$CF$1017),0)","v":0},{"$f":"IFERROR($E319*SUMIF('Daily Log'!$CH$18:$CH$1017,$B319,'Daily Log'!$CI$18:$CI$1017),0)","v":0},{"$f":"IFERROR($E319*SUMIF('Daily Log'!$CK$18:$CK$1017,$B319,'Daily Log'!$CL$18:$CL$1017),0)","v":0},{"$f":"IFERROR($E319*SUMIF('Daily Log'!$CN$18:$CN$1017,$B319,'Daily Log'!$CO$18:$CO$1017),0)","v":0}]
[null,null,null,null,null,0,{"$f":"IFERROR($E320*SUMIF('Daily Log'!$B$18:$B$1017,$B320,'Daily Log'!$C$18:$C$1017),0)","v":0},{"$f":"IFERROR($E320*SUMIF('Daily Log'!$E$18:$E$1017,$B320,'Daily Log'!$F$18:$F$1017),0)","v":0},{"$f":"IFERROR($E320*SUMIF('Daily Log'!$H$18:$H$1017,$B320,'Daily Log'!$I$18:$I$1017),0)","v":0},{"$f":"IFERROR($E320*SUMIF('Daily Log'!$K$18:$K$1017,$B320,'Daily Log'!$L$18:$L$1017),0)","v":0},{"$f":"IFERROR($E320*SUMIF('Daily Log'!$N$18:$N$1017,$B320,'Daily Log'!$O$18:$O$1017),0)","v":0},{"$f":"IFERROR($E320*SUMIF('Daily Log'!$Q$18:$Q$1017,$B320,'Daily Log'!$R$18:$R$1017),0)","v":0},{"$f":"IFERROR($E320*SUMIF('Daily Log'!$T$18:$T$1017,$B320,'Daily Log'!$U$18:$U$1017),0)","v":0},{"$f":"IFERROR($E320*SUMIF('Daily Log'!$W$18:$W$1017,$B320,'Daily Log'!$X$18:$X$1017),0)","v":0},{"$f":"IFERROR($E320*SUMIF('Daily Log'!$Z$18:$Z$1017,$B320,'Daily Log'!$AA$18:$AA$1017),0)","v":0},{"$f":"IFERROR($E320*SUMIF('Daily Log'!$AC$18:$AC$1017,$B320,'Daily Log'!$AD$18:$AD$1017),0)","v":0},{"$f":"IFERROR($E320*SUMIF('Daily Log'!$AF$18:$AF$1017,$B320,'Daily Log'!$AG$18:$AG$1017),0)","v":0},{"$f":"IFERROR($E320*SUMIF('Daily Log'!$AI$18:$AI$1017,$B320,'Daily Log'!$AJ$18:$AJ$1017),0)","v":0},{"$f":"IFERROR($E320*SUMIF('Daily Log'!$AL$18:$AL$1017,$B320,'Daily Log'!$AM$18:$AM$1017),0)","v":0},{"$f":"IFERROR($E320*SUMIF('Daily Log'!$AO$18:$AO$1017,$B320,'Daily Log'!$AP$18:$AP$1017),0)","v":0},{"$f":"IFERROR($E320*SUMIF('Daily Log'!$AR$18:$AR$1017,$B320,'Daily Log'!$AS$18:$AS$1017),0)","v":0},{"$f":"IFERROR($E320*SUMIF('Daily Log'!$AU$18:$AU$1017,$B320,'Daily Log'!$AV$18:$AV$1017),0)","v":0},{"$f":"IFERROR($E320*SUMIF('Daily Log'!$AX$18:$AX$1017,$B320,'Daily Log'!$AY$18:$AY$1017),0)","v":0},{"$f":"IFERROR($E320*SUMIF('Daily Log'!$BA$18:$BA$1017,$B320,'Daily Log'!$BB$18:$BB$1017),0)","v":0},{"$f":"IFERROR($E320*SUMIF('Daily Log'!$BD$18:$BD$1017,$B320,'Daily Log'!$BE$18:$BE$1017),0)","v":0},{"$f":"IFERROR($E320*SUMIF('Daily Log'!$BG$18:$BG$1017,$B320,'Daily Log'!$BH$18:$BH$1017),0)","v":0},{"$f":"IFERROR($E320*SUMIF('Daily Log'!$BJ$18:$BJ$1017,$B320,'Daily Log'!$BK$18:$BK$1017),0)","v":0},{"$f":"IFERROR($E320*SUMIF('Daily Log'!$BM$18:$BM$1017,$B320,'Daily Log'!$BN$18:$BN$1017),0)","v":0},{"$f":"IFERROR($E320*SUMIF('Daily Log'!$BP$18:$BP$1017,$B320,'Daily Log'!$BQ$18:$BQ$1017),0)","v":0},{"$f":"IFERROR($E320*SUMIF('Daily Log'!$BS$18:$BS$1017,$B320,'Daily Log'!$BT$18:$BT$1017),0)","v":0},{"$f":"IFERROR($E320*SUMIF('Daily Log'!$BV$18:$BV$1017,$B320,'Daily Log'!$BW$18:$BW$1017),0)","v":0},{"$f":"IFERROR($E320*SUMIF('Daily Log'!$BY$18:$BY$1017,$B320,'Daily Log'!$BZ$18:$BZ$1017),0)","v":0},{"$f":"IFERROR($E320*SUMIF('Daily Log'!$CB$18:$CB$1017,$B320,'Daily Log'!$CC$18:$CC$1017),0)","v":0},{"$f":"IFERROR($E320*SUMIF('Daily Log'!$CE$18:$CE$1017,$B320,'Daily Log'!$CF$18:$CF$1017),0)","v":0},{"$f":"IFERROR($E320*SUMIF('Daily Log'!$CH$18:$CH$1017,$B320,'Daily Log'!$CI$18:$CI$1017),0)","v":0},{"$f":"IFERROR($E320*SUMIF('Daily Log'!$CK$18:$CK$1017,$B320,'Daily Log'!$CL$18:$CL$1017),0)","v":0},{"$f":"IFERROR($E320*SUMIF('Daily Log'!$CN$18:$CN$1017,$B320,'Daily Log'!$CO$18:$CO$1017),0)","v":0}]
[null,null,null,null,null,0,{"$f":"IFERROR($E321*SUMIF('Daily Log'!$B$18:$B$1017,$B321,'Daily Log'!$C$18:$C$1017),0)","v":0},{"$f":"IFERROR($E321*SUMIF('Daily Log'!$E$18:$E$1017,$B321,'Daily Log'!$F$18:$F$1017),0)","v":0},{"$f":"IFERROR($E321*SUMIF('Daily Log'!$H$18:$H$1017,$B321,'Daily Log'!$I$18:$I$1017),0)","v":0},{"$f":"IFERROR($E321*SUMIF('Daily Log'!$K$18:$K$1017,$B321,'Daily Log'!$L$18:$L$1017),0)","v":0},{"$f":"IFERROR($E321*SUMIF('Daily Log'!$N$18:$N$1017,$B321,'Daily Log'!$O$18:$O$1017),0)","v":0},{"$f":"IFERROR($E321*SUMIF('Daily Log'!$Q$18:$Q$1017,$B321,'Daily Log'!$R$18:$R$1017),0)","v":0},{"$f":"IFERROR($E321*SUMIF('Daily Log'!$T$18:$T$1017,$B321,'Daily Log'!$U$18:$U$1017),0)","v":0},{"$f":"IFERROR($E321*SUMIF('Daily Log'!$W$18:$W$1017,$B321,'Daily Log'!$X$18:$X$1017),0)","v":0},{"$f":"IFERROR($E321*SUMIF('Daily Log'!$Z$18:$Z$1017,$B321,'Daily Log'!$AA$18:$AA$1017),0)","v":0},{"$f":"IFERROR($E321*SUMIF('Daily Log'!$AC$18:$AC$1017,$B321,'Daily Log'!$AD$18:$AD$1017),0)","v":0},{"$f":"IFERROR($E321*SUMIF('Daily Log'!$AF$18:$AF$1017,$B321,'Daily Log'!$AG$18:$AG$1017),0)","v":0},{"$f":"IFERROR($E321*SUMIF('Daily Log'!$AI$18:$AI$1017,$B321,'Daily Log'!$AJ$18:$AJ$1017),0)","v":0},{"$f":"IFERROR($E321*SUMIF('Daily Log'!$AL$18:$AL$1017,$B321,'Daily Log'!$AM$18:$AM$1017),0)","v":0},{"$f":"IFERROR($E321*SUMIF('Daily Log'!$AO$18:$AO$1017,$B321,'Daily Log'!$AP$18:$AP$1017),0)","v":0},{"$f":"IFERROR($E321*SUMIF('Daily Log'!$AR$18:$AR$1017,$B321,'Daily Log'!$AS$18:$AS$1017),0)","v":0},{"$f":"IFERROR($E321*SUMIF('Daily Log'!$AU$18:$AU$1017,$B321,'Daily Log'!$AV$18:$AV$1017),0)","v":0},{"$f":"IFERROR($E321*SUMIF('Daily Log'!$AX$18:$AX$1017,$B321,'Daily Log'!$AY$18:$AY$1017),0)","v":0},{"$f":"IFERROR($E321*SUMIF('Daily Log'!$BA$18:$BA$1017,$B321,'Daily Log'!$BB$18:$BB$1017),0)","v":0},{"$f":"IFERROR($E321*SUMIF('Daily Log'!$BD$18:$BD$1017,$B321,'Daily Log'!$BE$18:$BE$1017),0)","v":0},{"$f":"IFERROR($E321*SUMIF('Daily Log'!$BG$18:$BG$1017,$B321,'Daily Log'!$BH$18:$BH$1017),0)","v":0},{"$f":"IFERROR($E321*SUMIF('Daily Log'!$BJ$18:$BJ$1017,$B321,'Daily Log'!$BK$18:$BK$1017),0)","v":0},{"$f":"IFERROR($E321*SUMIF('Daily Log'!$BM$18:$BM$1017,$B321,'Daily Log'!$BN$18:$BN$1017),0)","v":0},{"$f":"IFERROR($E321*SUMIF('Daily Log'!$BP$18:$BP$1017,$B321,'Daily Log'!$BQ$18:$BQ$1017),0)","v":0},{"$f":"IFERROR($E321*SUMIF('Daily Log'!$BS$18:$BS$1017,$B321,'Daily Log'!$BT$18:$BT$1017),0)","v":0},{"$f":"IFERROR($E321*SUMIF('Daily Log'!$BV$18:$BV$1017,$B321,'Daily Log'!$BW$18:$BW$1017),0)","v":0},{"$f":"IFERROR($E321*SUMIF('Daily Log'!$BY$18:$BY$1017,$B321,'Daily Log'!$BZ$18:$BZ$1017),0)","v":0},{"$f":"IFERROR($E321*SUMIF('Daily Log'!$CB$18:$CB$1017,$B321,'Daily Log'!$CC$18:$CC$1017),0)","v":0},{"$f":"IFERROR($E321*SUMIF('Daily Log'!$CE$18:$CE$1017,$B321,'Daily Log'!$CF$18:$CF$1017),0)","v":0},{"$f":"IFERROR($E321*SUMIF('Daily Log'!$CH$18:$CH$1017,$B321,'Daily Log'!$CI$18:$CI$1017),0)","v":0},{"$f":"IFERROR($E321*SUMIF('Daily Log'!$CK$18:$CK$1017,$B321,'Daily Log'!$CL$18:$CL$1017),0)","v":0},{"$f":"IFERROR($E321*SUMIF('Daily Log'!$CN$18:$CN$1017,$B321,'Daily Log'!$CO$18:$CO$1017),0)","v":0}]
[null,null,null,null,null,0,{"$f":"IFERROR($E322*SUMIF('Daily Log'!$B$18:$B$1017,$B322,'Daily Log'!$C$18:$C$1017),0)","v":0},{"$f":"IFERROR($E322*SUMIF('Daily Log'!$E$18:$E$1017,$B322,'Daily Log'!$F$18:$F$1017),0)","v":0},{"$f":"IFERROR($E322*SUMIF('Daily Log'!$H$18:$H$1017,$B322,'Daily Log'!$I$18:$I$1017),0)","v":0},{"$f":"IFERROR($E322*SUMIF('Daily Log'!$K$18:$K$1017,$B322,'Daily Log'!$L$18:$L$1017),0)","v":0},{"$f":"IFERROR($E322*SUMIF('Daily Log'!$N$18:$N$1017,$B322,'Daily Log'!$O$18:$O$1017),0)","v":0},{"$f":"IFERROR($E322*SUMIF('Daily Log'!$Q$18:$Q$1017,$B322,'Daily Log'!$R$18:$R$1017),0)","v":0},{"$f":"IFERROR($E322*SUMIF('Daily Log'!$T$18:$T$1017,$B322,'Daily Log'!$U$18:$U$1017),0)","v":0},{"$f":"IFERROR($E322*SUMIF('Daily Log'!$W$18:$W$1017,$B322,'Daily Log'!$X$18:$X$1017),0)","v":0},{"$f":"IFERROR($E322*SUMIF('Daily Log'!$Z$18:$Z$1017,$B322,'Daily Log'!$AA$18:$AA$1017),0)","v":0},{"$f":"IFERROR($E322*SUMIF('Daily Log'!$AC$18:$AC$1017,$B322,'Daily Log'!$AD$18:$AD$1017),0)","v":0},{"$f":"IFERROR($E322*SUMIF('Daily Log'!$AF$18:$AF$1017,$B322,'Daily Log'!$AG$18:$AG$1017),0)","v":0},{"$f":"IFERROR($E322*SUMIF('Daily Log'!$AI$18:$AI$1017,$B322,'Daily Log'!$AJ$18:$AJ$1017),0)","v":0},{"$f":"IFERROR($E322*SUMIF('Daily Log'!$AL$18:$AL$1017,$B322,'Daily Log'!$AM$18:$AM$1017),0)","v":0},{"$f":"IFERROR($E322*SUMIF('Daily Log'!$AO$18:$AO$1017,$B322,'Daily Log'!$AP$18:$AP$1017),0)","v":0},{"$f":"IFERROR($E322*SUMIF('Daily Log'!$AR$18:$AR$1017,$B322,'Daily Log'!$AS$18:$AS$1017),0)","v":0},{"$f":"IFERROR($E322*SUMIF('Daily Log'!$AU$18:$AU$1017,$B322,'Daily Log'!$AV$18:$AV$1017),0)","v":0},{"$f":"IFERROR($E322*SUMIF('Daily Log'!$AX$18:$AX$1017,$B322,'Daily Log'!$AY$18:$AY$1017),0)","v":0},{"$f":"IFERROR($E322*SUMIF('Daily Log'!$BA$18:$BA$1017,$B322,'Daily Log'!$BB$18:$BB$1017),0)","v":0},{"$f":"IFERROR($E322*SUMIF('Daily Log'!$BD$18:$BD$1017,$B322,'Daily Log'!$BE$18:$BE$1017),0)","v":0},{"$f":"IFERROR($E322*SUMIF('Daily Log'!$BG$18:$BG$1017,$B322,'Daily Log'!$BH$18:$BH$1017),0)","v":0},{"$f":"IFERROR($E322*SUMIF('Daily Log'!$BJ$18:$BJ$1017,$B322,'Daily Log'!$BK$18:$BK$1017),0)","v":0},{"$f":"IFERROR($E322*SUMIF('Daily Log'!$BM$18:$BM$1017,$B322,'Daily Log'!$BN$18:$BN$1017),0)","v":0},{"$f":"IFERROR($E322*SUMIF('Daily Log'!$BP$18:$BP$1017,$B322,'Daily Log'!$BQ$18:$BQ$1017),0)","v":0},{"$f":"IFERROR($E322*SUMIF('Daily Log'!$BS$18:$BS$1017,$B322,'Daily Log'!$BT$18:$BT$1017),0)","v":0},{"$f":"IFERROR($E322*SUMIF('Daily Log'!$BV$18:$BV$1017,$B322,'Daily Log'!$BW$18:$BW$1017),0)","v":0},{"$f":"IFERROR($E322*SUMIF('Daily Log'!$BY$18:$BY$1017,$B322,'Daily Log'!$BZ$18:$BZ$1017),0)","v":0},{"$f":"IFERROR($E322*SUMIF('Daily Log'!$CB$18:$CB$1017,$B322,'Daily Log'!$CC$18:$CC$1017),0)","v":0},{"$f":"IFERROR($E322*SUMIF('Daily Log'!$CE$18:$CE$1017,$B322,'Daily Log'!$CF$18:$CF$1017),0)","v":0},{"$f":"IFERROR($E322*SUMIF('Daily Log'!$CH$18:$CH$1017,$B322,'Daily Log'!$CI$18:$CI$1017),0)","v":0},{"$f":"IFERROR($E322*SUMIF('Daily Log'!$CK$18:$CK$1017,$B322,'Daily Log'!$CL$18:$CL$1017),0)","v":0},{"$f":"IFERROR($E322*SUMIF('Daily Log'!$CN$18:$CN$1017,$B322,'Daily Log'!$CO$18:$CO$1017),0)","v":0}]
[null,null,null,null,null,0,{"$f":"IFERROR($E323*SUMIF('Daily Log'!$B$18:$B$1017,$B323,'Daily Log'!$C$18:$C$1017),0)","v":0},{"$f":"IFERROR($E323*SUMIF('Daily Log'!$E$18:$E$1017,$B323,'Daily Log'!$F$18:$F$1017),0)","v":0},{"$f":"IFERROR($E323*SUMIF('Daily Log'!$H$18:$H$1017,$B323,'Daily Log'!$I$18:$I$1017),0)","v":0},{"$f":"IFERROR($E323*SUMIF('Daily Log'!$K$18:$K$1017,$B323,'Daily Log'!$L$18:$L$1017),0)","v":0},{"$f":"IFERROR($E323*SUMIF('Daily Log'!$N$18:$N$1017,$B323,'Daily Log'!$O$18:$O$1017),0)","v":0},{"$f":"IFERROR($E323*SUMIF('Daily Log'!$Q$18:$Q$1017,$B323,'Daily Log'!$R$18:$R$1017),0)","v":0},{"$f":"IFERROR($E323*SUMIF('Daily Log'!$T$18:$T$1017,$B323,'Daily Log'!$U$18:$U$1017),0)","v":0},{"$f":"IFERROR($E323*SUMIF('Daily Log'!$W$18:$W$1017,$B323,'Daily Log'!$X$18:$X$1017),0)","v":0},{"$f":"IFERROR($E323*SUMIF('Daily Log'!$Z$18:$Z$1017,$B323,'Daily Log'!$AA$18:$AA$1017),0)","v":0},{"$f":"IFERROR($E323*SUMIF('Daily Log'!$AC$18:$AC$1017,$B323,'Daily Log'!$AD$18:$AD$1017),0)","v":0},{"$f":"IFERROR($E323*SUMIF('Daily Log'!$AF$18:$AF$1017,$B323,'Daily Log'!$AG$18:$AG$1017),0)","v":0},{"$f":"IFERROR($E323*SUMIF('Daily Log'!$AI$18:$AI$1017,$B323,'Daily Log'!$AJ$18:$AJ$1017),0)","v":0},{"$f":"IFERROR($E323*SUMIF('Daily Log'!$AL$18:$AL$1017,$B323,'Daily Log'!$AM$18:$AM$1017),0)","v":0},{"$f":"IFERROR($E323*SUMIF('Daily Log'!$AO$18:$AO$1017,$B323,'Daily Log'!$AP$18:$AP$1017),0)","v":0},{"$f":"IFERROR($E323*SUMIF('Daily Log'!$AR$18:$AR$1017,$B323,'Daily Log'!$AS$18:$AS$1017),0)","v":0},{"$f":"IFERROR($E323*SUMIF('Daily Log'!$AU$18:$AU$1017,$B323,'Daily Log'!$AV$18:$AV$1017),0)","v":0},{"$f":"IFERROR($E323*SUMIF('Daily Log'!$AX$18:$AX$1017,$B323,'Daily Log'!$AY$18:$AY$1017),0)","v":0},{"$f":"IFERROR($E323*SUMIF('Daily Log'!$BA$18:$BA$1017,$B323,'Daily Log'!$BB$18:$BB$1017),0)","v":0},{"$f":"IFERROR($E323*SUMIF('Daily Log'!$BD$18:$BD$1017,$B323,'Daily Log'!$BE$18:$BE$1017),0)","v":0},{"$f":"IFERROR($E323*SUMIF('Daily Log'!$BG$18:$BG$1017,$B323,'Daily Log'!$BH$18:$BH$1017),0)","v":0},{"$f":"IFERROR($E323*SUMIF('Daily Log'!$BJ$18:$BJ$1017,$B323,'Daily Log'!$BK$18:$BK$1017),0)","v":0},{"$f":"IFERROR($E323*SUMIF('Daily Log'!$BM$18:$BM$1017,$B323,'Daily Log'!$BN$18:$BN$1017),0)","v":0},{"$f":"IFERROR($E323*SUMIF('Daily Log'!$BP$18:$BP$1017,$B323,'Daily Log'!$BQ$18:$BQ$1017),0)","v":0},{"$f":"IFERROR($E323*SUMIF('Daily Log'!$BS$18:$BS$1017,$B323,'Daily Log'!$BT$18:$BT$1017),0)","v":0},{"$f":"IFERROR($E323*SUMIF('Daily Log'!$BV$18:$BV$1017,$B323,'Daily Log'!$BW$18:$BW$1017),0)","v":0},{"$f":"IFERROR($E323*SUMIF('Daily Log'!$BY$18:$BY$1017,$B323,'Daily Log'!$BZ$18:$BZ$1017),0)","v":0},{"$f":"IFERROR($E323*SUMIF('Daily Log'!$CB$18:$CB$1017,$B323,'Daily Log'!$CC$18:$CC$1017),0)","v":0},{"$f":"IFERROR($E323*SUMIF('Daily Log'!$CE$18:$CE$1017,$B323,'Daily Log'!$CF$18:$CF$1017),0)","v":0},{"$f":"IFERROR($E323*SUMIF('Daily Log'!$CH$18:$CH$1017,$B323,'Daily Log'!$CI$18:$CI$1017),0)","v":0},{"$f":"IFERROR($E323*SUMIF('Daily Log'!$CK$18:$CK$1017,$B323,'Daily Log'!$CL$18:$CL$1017),0)","v":0},{"$f":"IFERROR($E323*SUMIF('Daily Log'!$CN$18:$CN$1017,$B323,'Daily Log'!$CO$18:$CO$1017),0)","v":0}]
[null,null,null,null,null,{"$f":"SUM($G324:$AK324)","v":0},{"$f":"IFERROR($E324*SUMIF('Daily Log'!$B$18:$B$1017,$B324,'Daily Log'!$C$18:$C$1017),0)","v":0},{"$f":"IFERROR($E324*SUMIF('Daily Log'!$E$18:$E$1017,$B324,'Daily Log'!$F$18:$F$1017),0)","v":0},{"$f":"IFERROR($E324*SUMIF('Daily Log'!$H$18:$H$1017,$B324,'Daily Log'!$I$18:$I$1017),0)","v":0},{"$f":"IFERROR($E324*SUMIF('Daily Log'!$K$18:$K$1017,$B324,'Daily Log'!$L$18:$L$1017),0)","v":0},{"$f":"IFERROR($E324*SUMIF('Daily Log'!$N$18:$N$1017,$B324,'Daily Log'!$O$18:$O$1017),0)","v":0},{"$f":"IFERROR($E324*SUMIF('Daily Log'!$Q$18:$Q$1017,$B324,'Daily Log'!$R$18:$R$1017),0)","v":0},{"$f":"IFERROR($E324*SUMIF('Daily Log'!$T$18:$T$1017,$B324,'Daily Log'!$U$18:$U$1017),0)","v":0},{"$f":"IFERROR($E324*SUMIF('Daily Log'!$W$18:$W$1017,$B324,'Daily Log'!$X$18:$X$1017),0)","v":0},{"$f":"IFERROR($E324*SUMIF('Daily Log'!$Z$18:$Z$1017,$B324,'Daily Log'!$AA$18:$AA$1017),0)","v":0},{"$f":"IFERROR($E324*SUMIF('Daily Log'!$AC$18:$AC$1017,$B324,'Daily Log'!$AD$18:$AD$1017),0)","v":0},{"$f":"IFERROR($E324*SUMIF('Daily Log'!$AF$18:$AF$1017,$B324,'Daily Log'!$AG$18:$AG$1017),0)","v":0},{"$f":"IFERROR($E324*SUMIF('Daily Log'!$AI$18:$AI$1017,$B324,'Daily Log'!$AJ$18:$AJ$1017),0)","v":0},{"$f":"IFERROR($E324*SUMIF('Daily Log'!$AL$18:$AL$1017,$B324,'Daily Log'!$AM$18:$AM$1017),0)","v":0},{"$f":"IFERROR($E324*SUMIF('Daily Log'!$AO$18:$AO$1017,$B324,'Daily Log'!$AP$18:$AP$1017),0)","v":0},{"$f":"IFERROR($E324*SUMIF('Daily Log'!$AR$18:$AR$1017,$B324,'Daily Log'!$AS$18:$AS$1017),0)","v":0},{"$f":"IFERROR($E324*SUMIF('Daily Log'!$AU$18:$AU$1017,$B324,'Daily Log'!$AV$18:$AV$1017),0)","v":0},{"$f":"IFERROR($E324*SUMIF('Daily Log'!$AX$18:$AX$1017,$B324,'Daily Log'!$AY$18:$AY$1017),0)","v":0},{"$f":"IFERROR($E324*SUMIF('Daily Log'!$BA$18:$BA$1017,$B324,'Daily Log'!$BB$18:$BB$1017),0)","v":0},{"$f":"IFERROR($E324*SUMIF('Daily Log'!$BD$18:$BD$1017,$B324,'Daily Log'!$BE$18:$BE$1017),0)","v":0},{"$f":"IFERROR($E324*SUMIF('Daily Log'!$BG$18:$BG$1017,$B324,'Daily Log'!$BH$18:$BH$1017),0)","v":0},{"$f":"IFERROR($E324*SUMIF('Daily Log'!$BJ$18:$BJ$1017,$B324,'Daily Log'!$BK$18:$BK$1017),0)","v":0},{"$f":"IFERROR($E324*SUMIF('Daily Log'!$BM$18:$BM$1017,$B324,'Daily Log'!$BN$18:$BN$1017),0)","v":0},{"$f":"IFERROR($E324*SUMIF('Daily Log'!$BP$18:$BP$1017,$B324,'Daily Log'!$BQ$18:$BQ$1017),0)","v":0},{"$f":"IFERROR($E324*SUMIF('Daily Log'!$BS$18:$BS$1017,$B324,'Daily Log'!$BT$18:$BT$1017),0)","v":0},{"$f":"IFERROR($E324*SUMIF('Daily Log'!$BV$18:$BV$1017,$B324,'Daily Log'!$BW$18:$BW$1017),0)","v":0},{"$f":"IFERROR($E324*SUMIF('Daily Log'!$BY$18:$BY$1017,$B324,'Daily Log'!$BZ$18:$BZ$1017),0)","v":0},{"$f":"IFERROR($E324*SUMIF('Daily Log'!$CB$18:$CB$1017,$B324,'Daily Log'!$CC$18:$CC$1017),0)","v":0},{"$f":"IFERROR($E324*SUMIF('Daily Log'!$CE$18:$CE$1017,$B324,'Daily Log'!$CF$18:$CF$1017),0)","v":0},{"$f":"IFERROR($E324*SUMIF('Daily Log'!$CH$18:$CH$1017,$B324,'Daily Log'!$CI$18:$CI$1017),0)","v":0},{"$f":"IFERROR($E324*SUMIF('Daily Log'!$CK$18:$CK$1017,$B324,'Daily Log'!$CL$18:$CL$1017),0)","v":0},{"$f":"IFERROR($E324*SUMIF('Daily Log'!$CN$18:$CN$1017,$B324,'Daily Log'!$CO$18:$CO$1017),0)","v":0}]
[null,null,null,null,null,0,{"$f":"IFERROR($E325*SUMIF('Daily Log'!$B$18:$B$1017,$B325,'Daily Log'!$C$18:$C$1017),0)","v":0},{"$f":"IFERROR($E325*SUMIF('Daily Log'!$E$18:$E$1017,$B325,'Daily Log'!$F$18:$F$1017),0)","v":0},{"$f":"IFERROR($E325*SUMIF('Daily Log'!$H$18:$H$1017,$B325,'Daily Log'!$I$18:$I$1017),0)","v":0},{"$f":"IFERROR($E325*SUMIF('Daily Log'!$K$18:$K$1017,$B325,'Daily Log'!$L$18:$L$1017),0)","v":0},{"$f":"IFERROR($E325*SUMIF('Daily Log'!$N$18:$N$1017,$B325,'Daily Log'!$O$18:$O$1017),0)","v":0},{"$f":"IFERROR($E325*SUMIF('Daily Log'!$Q$18:$Q$1017,$B325,'Daily Log'!$R$18:$R$1017),0)","v":0},{"$f":"IFERROR($E325*SUMIF('Daily Log'!$T$18:$T$1017,$B325,'Daily Log'!$U$18:$U$1017),0)","v":0},{"$f":"IFERROR($E325*SUMIF('Daily Log'!$W$18:$W$1017,$B325,'Daily Log'!$X$18:$X$1017),0)","v":0},{"$f":"IFERROR($E325*SUMIF('Daily Log'!$Z$18:$Z$1017,$B325,'Daily Log'!$AA$18:$AA$1017),0)","v":0},{"$f":"IFERROR($E325*SUMIF('Daily Log'!$AC$18:$AC$1017,$B325,'Daily Log'!$AD$18:$AD$1017),0)","v":0},{"$f":"IFERROR($E325*SUMIF('Daily Log'!$AF$18:$AF$1017,$B325,'Daily Log'!$AG$18:$AG$1017),0)","v":0},{"$f":"IFERROR($E325*SUMIF('Daily Log'!$AI$18:$AI$1017,$B325,'Daily Log'!$AJ$18:$AJ$1017),0)","v":0},{"$f":"IFERROR($E325*SUMIF('Daily Log'!$AL$18:$AL$1017,$B325,'Daily Log'!$AM$18:$AM$1017),0)","v":0},{"$f":"IFERROR($E325*SUMIF('Daily Log'!$AO$18:$AO$1017,$B325,'Daily Log'!$AP$18:$AP$1017),0)","v":0},{"$f":"IFERROR($E325*SUMIF('Daily Log'!$AR$18:$AR$1017,$B325,'Daily Log'!$AS$18:$AS$1017),0)","v":0},{"$f":"IFERROR($E325*SUMIF('Daily Log'!$AU$18:$AU$1017,$B325,'Daily Log'!$AV$18:$AV$1017),0)","v":0},{"$f":"IFERROR($E325*SUMIF('Daily Log'!$AX$18:$AX$1017,$B325,'Daily Log'!$AY$18:$AY$1017),0)","v":0},{"$f":"IFERROR($E325*SUMIF('Daily Log'!$BA$18:$BA$1017,$B325,'Daily Log'!$BB$18:$BB$1017),0)","v":0},{"$f":"IFERROR($E325*SUMIF('Daily Log'!$BD$18:$BD$1017,$B325,'Daily Log'!$BE$18:$BE$1017),0)","v":0},{"$f":"IFERROR($E325*SUMIF('Daily Log'!$BG$18:$BG$1017,$B325,'Daily Log'!$BH$18:$BH$1017),0)","v":0},{"$f":"IFERROR($E325*SUMIF('Daily Log'!$BJ$18:$BJ$1017,$B325,'Daily Log'!$BK$18:$BK$1017),0)","v":0},{"$f":"IFERROR($E325*SUMIF('Daily Log'!$BM$18:$BM$1017,$B325,'Daily Log'!$BN$18:$BN$1017),0)","v":0},{"$f":"IFERROR($E325*SUMIF('Daily Log'!$BP$18:$BP$1017,$B325,'Daily Log'!$BQ$18:$BQ$1017),0)","v":0},{"$f":"IFERROR($E325*SUMIF('Daily Log'!$BS$18:$BS$1017,$B325,'Daily Log'!$BT$18:$BT$1017),0)","v":0},{"$f":"IFERROR($E325*SUMIF('Daily Log'!$BV$18:$BV$1017,$B325,'Daily Log'!$BW$18:$BW$1017),0)","v":0},{"$f":"IFERROR($E325*SUMIF('Daily Log'!$BY$18:$BY$1017,$B325,'Daily Log'!$BZ$18:$BZ$1017),0)","v":0},{"$f":"IFERROR($E325*SUMIF('Daily Log'!$CB$18:$CB$1017,$B325,'Daily Log'!$CC$18:$CC$1017),0)","v":0},{"$f":"IFERROR($E325*SUMIF('Daily Log'!$CE$18:$CE$1017,$B325,'Daily Log'!$CF$18:$CF$1017),0)","v":0},{"$f":"IFERROR($E325*SUMIF('Daily Log'!$CH$18:$CH$1017,$B325,'Daily Log'!$CI$18:$CI$1017),0)","v":0},{"$f":"IFERROR($E325*SUMIF('Daily Log'!$CK$18:$CK$1017,$B325,'Daily Log'!$CL$18:$CL$1017),0)","v":0},{"$f":"IFERROR($E325*SUMIF('Daily Log'!$CN$18:$CN$1017,$B325,'Daily Log'!$CO$18:$CO$1017),0)","v":0}]
[null,null,null,null,null,0,{"$f":"IFERROR($E326*SUMIF('Daily Log'!$B$18:$B$1017,$B326,'Daily Log'!$C$18:$C$1017),0)","v":0},{"$f":"IFERROR($E326*SUMIF('Daily Log'!$E$18:$E$1017,$B326,'Daily Log'!$F$18:$F$1017),0)","v":0},{"$f":"IFERROR($E326*SUMIF('Daily Log'!$H$18:$H$1017,$B326,'Daily Log'!$I$18:$I$1017),0)","v":0},{"$f":"IFERROR($E326*SUMIF('Daily Log'!$K$18:$K$1017,$B326,'Daily Log'!$L$18:$L$1017),0)","v":0},{"$f":"IFERROR($E326*SUMIF('Daily Log'!$N$18:$N$1017,$B326,'Daily Log'!$O$18:$O$1017),0)","v":0},{"$f":"IFERROR($E326*SUMIF('Daily Log'!$Q$18:$Q$1017,$B326,'Daily Log'!$R$18:$R$1017),0)","v":0},{"$f":"IFERROR($E326*SUMIF('Daily Log'!$T$18:$T$1017,$B326,'Daily Log'!$U$18:$U$1017),0)","v":0},{"$f":"IFERROR($E326*SUMIF('Daily Log'!$W$18:$W$1017,$B326,'Daily Log'!$X$18:$X$1017),0)","v":0},{"$f":"IFERROR($E326*SUMIF('Daily Log'!$Z$18:$Z$1017,$B326,'Daily Log'!$AA$18:$AA$1017),0)","v":0},{"$f":"IFERROR($E326*SUMIF('Daily Log'!$AC$18:$AC$1017,$B326,'Daily Log'!$AD$18:$AD$1017),0)","v":0},{"$f":"IFERROR($E326*SUMIF('Daily Log'!$AF$18:$AF$1017,$B326,'Daily Log'!$AG$18:$AG$1017),0)","v":0},{"$f":"IFERROR($E326*SUMIF('Daily Log'!$AI$18:$AI$1017,$B326,'Daily Log'!$AJ$18:$AJ$1017),0)","v":0},{"$f":"IFERROR($E326*SUMIF('Daily Log'!$AL$18:$AL$1017,$B326,'Daily Log'!$AM$18:$AM$1017),0)","v":0},{"$f":"IFERROR($E326*SUMIF('Daily Log'!$AO$18:$AO$1017,$B326,'Daily Log'!$AP$18:$AP$1017),0)","v":0},{"$f":"IFERROR($E326*SUMIF('Daily Log'!$AR$18:$AR$1017,$B326,'Daily Log'!$AS$18:$AS$1017),0)","v":0},{"$f":"IFERROR($E326*SUMIF('Daily Log'!$AU$18:$AU$1017,$B326,'Daily Log'!$AV$18:$AV$1017),0)","v":0},{"$f":"IFERROR($E326*SUMIF('Daily Log'!$AX$18:$AX$1017,$B326,'Daily Log'!$AY$18:$AY$1017),0)","v":0},{"$f":"IFERROR($E326*SUMIF('Daily Log'!$BA$18:$BA$1017,$B326,'Daily Log'!$BB$18:$BB$1017),0)","v":0},{"$f":"IFERROR($E326*SUMIF('Daily Log'!$BD$18:$BD$1017,$B326,'Daily Log'!$BE$18:$BE$1017),0)","v":0},{"$f":"IFERROR($E326*SUMIF('Daily Log'!$BG$18:$BG$1017,$B326,'Daily Log'!$BH$18:$BH$1017),0)","v":0},{"$f":"IFERROR($E326*SUMIF('Daily Log'!$BJ$18:$BJ$1017,$B326,'Daily Log'!$BK$18:$BK$1017),0)","v":0},{"$f":"IFERROR($E326*SUMIF('Daily Log'!$BM$18:$BM$1017,$B326,'Daily Log'!$BN$18:$BN$1017),0)","v":0},{"$f":"IFERROR($E326*SUMIF('Daily Log'!$BP$18:$BP$1017,$B326,'Daily Log'!$BQ$18:$BQ$1017),0)","v":0},{"$f":"IFERROR($E326*SUMIF('Daily Log'!$BS$18:$BS$1017,$B326,'Daily Log'!$BT$18:$BT$1017),0)","v":0},{"$f":"IFERROR($E326*SUMIF('Daily Log'!$BV$18:$BV$1017,$B326,'Daily Log'!$BW$18:$BW$1017),0)","v":0},{"$f":"IFERROR($E326*SUMIF('Daily Log'!$BY$18:$BY$1017,$B326,'Daily Log'!$BZ$18:$BZ$1017),0)","v":0},{"$f":"IFERROR($E326*SUMIF('Daily Log'!$CB$18:$CB$1017,$B326,'Daily Log'!$CC$18:$CC$1017),0)","v":0},{"$f":"IFERROR($E326*SUMIF('Daily Log'!$CE$18:$CE$1017,$B326,'Daily Log'!$CF$18:$CF$1017),0)","v":0},{"$f":"IFERROR($E326*SUMIF('Daily Log'!$CH$18:$CH$1017,$B326,'Daily Log'!$CI$18:$CI$1017),0)","v":0},{"$f":"IFERROR($E326*SUMIF('Daily Log'!$CK$18:$CK$1017,$B326,'Daily Log'!$CL$18:$CL$1017),0)","v":0},{"$f":"IFERROR($E326*SUMIF('Daily Log'!$CN$18:$CN$1017,$B326,'Daily Log'!$CO$18:$CO$1017),0)","v":0}]
[null,null,null,null,null,0,{"$f":"IFERROR($E327*SUMIF('Daily Log'!$B$18:$B$1017,$B327,'Daily Log'!$C$18:$C$1017),0)","v":0},{"$f":"IFERROR($E327*SUMIF('Daily Log'!$E$18:$E$1017,$B327,'Daily Log'!$F$18:$F$1017),0)","v":0},{"$f":"IFERROR($E327*SUMIF('Daily Log'!$H$18:$H$1017,$B327,'Daily Log'!$I$18:$I$1017),0)","v":0},{"$f":"IFERROR($E327*SUMIF('Daily Log'!$K$18:$K$1017,$B327,'Daily Log'!$L$18:$L$1017),0)","v":0},{"$f":"IFERROR($E327*SUMIF('Daily Log'!$N$18:$N$1017,$B327,'Daily Log'!$O$18:$O$1017),0)","v":0},{"$f":"IFERROR($E327*SUMIF('Daily Log'!$Q$18:$Q$1017,$B327,'Daily Log'!$R$18:$R$1017),0)","v":0},{"$f":"IFERROR($E327*SUMIF('Daily Log'!$T$18:$T$1017,$B327,'Daily Log'!$U$18:$U$1017),0)","v":0},{"$f":"IFERROR($E327*SUMIF('Daily Log'!$W$18:$W$1017,$B327,'Daily Log'!$X$18:$X$1017),0)","v":0},{"$f":"IFERROR($E327*SUMIF('Daily Log'!$Z$18:$Z$1017,$B327,'Daily Log'!$AA$18:$AA$1017),0)","v":0},{"$f":"IFERROR($E327*SUMIF('Daily Log'!$AC$18:$AC$1017,$B327,'Daily Log'!$AD$18:$AD$1017),0)","v":0},{"$f":"IFERROR($E327*SUMIF('Daily Log'!$AF$18:$AF$1017,$B327,'Daily Log'!$AG$18:$AG$1017),0)","v":0},{"$f":"IFERROR($E327*SUMIF('Daily Log'!$AI$18:$AI$1017,$B327,'Daily Log'!$AJ$18:$AJ$1017),0)","v":0},{"$f":"IFERROR($E327*SUMIF('Daily Log'!$AL$18:$AL$1017,$B327,'Daily Log'!$AM$18:$AM$1017),0)","v":0},{"$f":"IFERROR($E327*SUMIF('Daily Log'!$AO$18:$AO$1017,$B327,'Daily Log'!$AP$18:$AP$1017),0)","v":0},{"$f":"IFERROR($E327*SUMIF('Daily Log'!$AR$18:$AR$1017,$B327,'Daily Log'!$AS$18:$AS$1017),0)","v":0},{"$f":"IFERROR($E327*SUMIF('Daily Log'!$AU$18:$AU$1017,$B327,'Daily Log'!$AV$18:$AV$1017),0)","v":0},{"$f":"IFERROR($E327*SUMIF('Daily Log'!$AX$18:$AX$1017,$B327,'Daily Log'!$AY$18:$AY$1017),0)","v":0},{"$f":"IFERROR($E327*SUMIF('Daily Log'!$BA$18:$BA$1017,$B327,'Daily Log'!$BB$18:$BB$1017),0)","v":0},{"$f":"IFERROR($E327*SUMIF('Daily Log'!$BD$18:$BD$1017,$B327,'Daily Log'!$BE$18:$BE$1017),0)","v":0},{"$f":"IFERROR($E327*SUMIF('Daily Log'!$BG$18:$BG$1017,$B327,'Daily Log'!$BH$18:$BH$1017),0)","v":0},{"$f":"IFERROR($E327*SUMIF('Daily Log'!$BJ$18:$BJ$1017,$B327,'Daily Log'!$BK$18:$BK$1017),0)","v":0},{"$f":"IFERROR($E327*SUMIF('Daily Log'!$BM$18:$BM$1017,$B327,'Daily Log'!$BN$18:$BN$1017),0)","v":0},{"$f":"IFERROR($E327*SUMIF('Daily Log'!$BP$18:$BP$1017,$B327,'Daily Log'!$BQ$18:$BQ$1017),0)","v":0},{"$f":"IFERROR($E327*SUMIF('Daily Log'!$BS$18:$BS$1017,$B327,'Daily Log'!$BT$18:$BT$1017),0)","v":0},{"$f":"IFERROR($E327*SUMIF('Daily Log'!$BV$18:$BV$1017,$B327,'Daily Log'!$BW$18:$BW$1017),0)","v":0},{"$f":"IFERROR($E327*SUMIF('Daily Log'!$BY$18:$BY$1017,$B327,'Daily Log'!$BZ$18:$BZ$1017),0)","v":0},{"$f":"IFERROR($E327*SUMIF('Daily Log'!$CB$18:$CB$1017,$B327,'Daily Log'!$CC$18:$CC$1017),0)","v":0},{"$f":"IFERROR($E327*SUMIF('Daily Log'!$CE$18:$CE$1017,$B327,'Daily Log'!$CF$18:$CF$1017),0)","v":0},{"$f":"IFERROR($E327*SUMIF('Daily Log'!$CH$18:$CH$1017,$B327,'Daily Log'!$CI$18:$CI$1017),0)","v":0},{"$f":"IFERROR($E327*SUMIF('Daily Log'!$CK$18:$CK$1017,$B327,'Daily Log'!$CL$18:$CL$1017),0)","v":0},{"$f":"IFERROR($E327*SUMIF('Daily Log'!$CN$18:$CN$1017,$B327,'Daily Log'!$CO$18:$CO$1017),0)","v":0}]
[null,null,null,null,null,0,{"$f":"IFERROR($E328*SUMIF('Daily Log'!$B$18:$B$1017,$B328,'Daily Log'!$C$18:$C$1017),0)","v":0},{"$f":"IFERROR($E328*SUMIF('Daily Log'!$E$18:$E$1017,$B328,'Daily Log'!$F$18:$F$1017),0)","v":0},{"$f":"IFERROR($E328*SUMIF('Daily Log'!$H$18:$H$1017,$B328,'Daily Log'!$I$18:$I$1017),0)","v":0},{"$f":"IFERROR($E328*SUMIF('Daily Log'!$K$18:$K$1017,$B328,'Daily Log'!$L$18:$L$1017),0)","v":0},{"$f":"IFERROR($E328*SUMIF('Daily Log'!$N$18:$N$1017,$B328,'Daily Log'!$O$18:$O$1017),0)","v":0},{"$f":"IFERROR($E328*SUMIF('Daily Log'!$Q$18:$Q$1017,$B328,'Daily Log'!$R$18:$R$1017),0)","v":0},{"$f":"IFERROR($E328*SUMIF('Daily Log'!$T$18:$T$1017,$B328,'Daily Log'!$U$18:$U$1017),0)","v":0},{"$f":"IFERROR($E328*SUMIF('Daily Log'!$W$18:$W$1017,$B328,'Daily Log'!$X$18:$X$1017),0)","v":0},{"$f":"IFERROR($E328*SUMIF('Daily Log'!$Z$18:$Z$1017,$B328,'Daily Log'!$AA$18:$AA$1017),0)","v":0},{"$f":"IFERROR($E328*SUMIF('Daily Log'!$AC$18:$AC$1017,$B328,'Daily Log'!$AD$18:$AD$1017),0)","v":0},{"$f":"IFERROR($E328*SUMIF('Daily Log'!$AF$18:$AF$1017,$B328,'Daily Log'!$AG$18:$AG$1017),0)","v":0},{"$f":"IFERROR($E328*SUMIF('Daily Log'!$AI$18:$AI$1017,$B328,'Daily Log'!$AJ$18:$AJ$1017),0)","v":0},{"$f":"IFERROR($E328*SUMIF('Daily Log'!$AL$18:$AL$1017,$B328,'Daily Log'!$AM$18:$AM$1017),0)","v":0},{"$f":"IFERROR($E328*SUMIF('Daily Log'!$AO$18:$AO$1017,$B328,'Daily Log'!$AP$18:$AP$1017),0)","v":0},{"$f":"IFERROR($E328*SUMIF('Daily Log'!$AR$18:$AR$1017,$B328,'Daily Log'!$AS$18:$AS$1017),0)","v":0},{"$f":"IFERROR($E328*SUMIF('Daily Log'!$AU$18:$AU$1017,$B328,'Daily Log'!$AV$18:$AV$1017),0)","v":0},{"$f":"IFERROR($E328*SUMIF('Daily Log'!$AX$18:$AX$1017,$B328,'Daily Log'!$AY$18:$AY$1017),0)","v":0},{"$f":"IFERROR($E328*SUMIF('Daily Log'!$BA$18:$BA$1017,$B328,'Daily Log'!$BB$18:$BB$1017),0)","v":0},{"$f":"IFERROR($E328*SUMIF('Daily Log'!$BD$18:$BD$1017,$B328,'Daily Log'!$BE$18:$BE$1017),0)","v":0},{"$f":"IFERROR($E328*SUMIF('Daily Log'!$BG$18:$BG$1017,$B328,'Daily Log'!$BH$18:$BH$1017),0)","v":0},{"$f":"IFERROR($E328*SUMIF('Daily Log'!$BJ$18:$BJ$1017,$B328,'Daily Log'!$BK$18:$BK$1017),0)","v":0},{"$f":"IFERROR($E328*SUMIF('Daily Log'!$BM$18:$BM$1017,$B328,'Daily Log'!$BN$18:$BN$1017),0)","v":0},{"$f":"IFERROR($E328*SUMIF('Daily Log'!$BP$18:$BP$1017,$B328,'Daily Log'!$BQ$18:$BQ$1017),0)","v":0},{"$f":"IFERROR($E328*SUMIF('Daily Log'!$BS$18:$BS$1017,$B328,'Daily Log'!$BT$18:$BT$1017),0)","v":0},{"$f":"IFERROR($E328*SUMIF('Daily Log'!$BV$18:$BV$1017,$B328,'Daily Log'!$BW$18:$BW$1017),0)","v":0},{"$f":"IFERROR($E328*SUMIF('Daily Log'!$BY$18:$BY$1017,$B328,'Daily Log'!$BZ$18:$BZ$1017),0)","v":0},{"$f":"IFERROR($E328*SUMIF('Daily Log'!$CB$18:$CB$1017,$B328,'Daily Log'!$CC$18:$CC$1017),0)","v":0},{"$f":"IFERROR($E328*SUMIF('Daily Log'!$CE$18:$CE$1017,$B328,'Daily Log'!$CF$18:$CF$1017),0)","v":0},{"$f":"IFERROR($E328*SUMIF('Daily Log'!$CH$18:$CH$1017,$B328,'Daily Log'!$CI$18:$CI$1017),0)","v":0},{"$f":"IFERROR($E328*SUMIF('Daily Log'!$CK$18:$CK$1017,$B328,'Daily Log'!$CL$18:$CL$1017),0)","v":0},{"$f":"IFERROR($E328*SUMIF('Daily Log'!$CN$18:$CN$1017,$B328,'Daily Log'!$CO$18:$CO$1017),0)","v":0}]
[null,null,null,null,null,0,{"$f":"IFERROR($E329*SUMIF('Daily Log'!$B$18:$B$1017,$B329,'Daily Log'!$C$18:$C$1017),0)","v":0},{"$f":"IFERROR($E329*SUMIF('Daily Log'!$E$18:$E$1017,$B329,'Daily Log'!$F$18:$F$1017),0)","v":0},{"$f":"IFERROR($E329*SUMIF('Daily Log'!$H$18:$H$1017,$B329,'Daily Log'!$I$18:$I$1017),0)","v":0},{"$f":"IFERROR($E329*SUMIF('Daily Log'!$K$18:$K$1017,$B329,'Daily Log'!$L$18:$L$1017),0)","v":0},{"$f":"IFERROR($E329*SUMIF('Daily Log'!$N$18:$N$1017,$B329,'Daily Log'!$O$18:$O$1017),0)","v":0},{"$f":"IFERROR($E329*SUMIF('Daily Log'!$Q$18:$Q$1017,$B329,'Daily Log'!$R$18:$R$1017),0)","v":0},{"$f":"IFERROR($E329*SUMIF('Daily Log'!$T$18:$T$1017,$B329,'Daily Log'!$U$18:$U$1017),0)","v":0},{"$f":"IFERROR($E329*SUMIF('Daily Log'!$W$18:$W$1017,$B329,'Daily Log'!$X$18:$X$1017),0)","v":0},{"$f":"IFERROR($E329*SUMIF('Daily Log'!$Z$18:$Z$1017,$B329,'Daily Log'!$AA$18:$AA$1017),0)","v":0},{"$f":"IFERROR($E329*SUMIF('Daily Log'!$AC$18:$AC$1017,$B329,'Daily Log'!$AD$18:$AD$1017),0)","v":0},{"$f":"IFERROR($E329*SUMIF('Daily Log'!$AF$18:$AF$1017,$B329,'Daily Log'!$AG$18:$AG$1017),0)","v":0},{"$f":"IFERROR($E329*SUMIF('Daily Log'!$AI$18:$AI$1017,$B329,'Daily Log'!$AJ$18:$AJ$1017),0)","v":0},{"$f":"IFERROR($E329*SUMIF('Daily Log'!$AL$18:$AL$1017,$B329,'Daily Log'!$AM$18:$AM$1017),0)","v":0},{"$f":"IFERROR($E329*SUMIF('Daily Log'!$AO$18:$AO$1017,$B329,'Daily Log'!$AP$18:$AP$1017),0)","v":0},{"$f":"IFERROR($E329*SUMIF('Daily Log'!$AR$18:$AR$1017,$B329,'Daily Log'!$AS$18:$AS$1017),0)","v":0},{"$f":"IFERROR($E329*SUMIF('Daily Log'!$AU$18:$AU$1017,$B329,'Daily Log'!$AV$18:$AV$1017),0)","v":0},{"$f":"IFERROR($E329*SUMIF('Daily Log'!$AX$18:$AX$1017,$B329,'Daily Log'!$AY$18:$AY$1017),0)","v":0},{"$f":"IFERROR($E329*SUMIF('Daily Log'!$BA$18:$BA$1017,$B329,'Daily Log'!$BB$18:$BB$1017),0)","v":0},{"$f":"IFERROR($E329*SUMIF('Daily Log'!$BD$18:$BD$1017,$B329,'Daily Log'!$BE$18:$BE$1017),0)","v":0},{"$f":"IFERROR($E329*SUMIF('Daily Log'!$BG$18:$BG$1017,$B329,'Daily Log'!$BH$18:$BH$1017),0)","v":0},{"$f":"IFERROR($E329*SUMIF('Daily Log'!$BJ$18:$BJ$1017,$B329,'Daily Log'!$BK$18:$BK$1017),0)","v":0},{"$f":"IFERROR($E329*SUMIF('Daily Log'!$BM$18:$BM$1017,$B329,'Daily Log'!$BN$18:$BN$1017),0)","v":0},{"$f":"IFERROR($E329*SUMIF('Daily Log'!$BP$18:$BP$1017,$B329,'Daily Log'!$BQ$18:$BQ$1017),0)","v":0},{"$f":"IFERROR($E329*SUMIF('Daily Log'!$BS$18:$BS$1017,$B329,'Daily Log'!$BT$18:$BT$1017),0)","v":0},{"$f":"IFERROR($E329*SUMIF('Daily Log'!$BV$18:$BV$1017,$B329,'Daily Log'!$BW$18:$BW$1017),0)","v":0},{"$f":"IFERROR($E329*SUMIF('Daily Log'!$BY$18:$BY$1017,$B329,'Daily Log'!$BZ$18:$BZ$1017),0)","v":0},{"$f":"IFERROR($E329*SUMIF('Daily Log'!$CB$18:$CB$1017,$B329,'Daily Log'!$CC$18:$CC$1017),0)","v":0},{"$f":"IFERROR($E329*SUMIF('Daily Log'!$CE$18:$CE$1017,$B329,'Daily Log'!$CF$18:$CF$1017),0)","v":0},{"$f":"IFERROR($E329*SUMIF('Daily Log'!$CH$18:$CH$1017,$B329,'Daily Log'!$CI$18:$CI$1017),0)","v":0},{"$f":"IFERROR($E329*SUMIF('Daily Log'!$CK$18:$CK$1017,$B329,'Daily Log'!$CL$18:$CL$1017),0)","v":0},{"$f":"IFERROR($E329*SUMIF('Daily Log'!$CN$18:$CN$1017,$B329,'Daily Log'!$CO$18:$CO$1017),0)","v":0}]
[null,null,null,null,null,0,{"$f":"IFERROR($E330*SUMIF('Daily Log'!$B$18:$B$1017,$B330,'Daily Log'!$C$18:$C$1017),0)","v":0},{"$f":"IFERROR($E330*SUMIF('Daily Log'!$E$18:$E$1017,$B330,'Daily Log'!$F$18:$F$1017),0)","v":0},{"$f":"IFERROR($E330*SUMIF('Daily Log'!$H$18:$H$1017,$B330,'Daily Log'!$I$18:$I$1017),0)","v":0},{"$f":"IFERROR($E330*SUMIF('Daily Log'!$K$18:$K$1017,$B330,'Daily Log'!$L$18:$L$1017),0)","v":0},{"$f":"IFERROR($E330*SUMIF('Daily Log'!$N$18:$N$1017,$B330,'Daily Log'!$O$18:$O$1017),0)","v":0},{"$f":"IFERROR($E330*SUMIF('Daily Log'!$Q$18:$Q$1017,$B330,'Daily Log'!$R$18:$R$1017),0)","v":0},{"$f":"IFERROR($E330*SUMIF('Daily Log'!$T$18:$T$1017,$B330,'Daily Log'!$U$18:$U$1017),0)","v":0},{"$f":"IFERROR($E330*SUMIF('Daily Log'!$W$18:$W$1017,$B330,'Daily Log'!$X$18:$X$1017),0)","v":0},{"$f":"IFERROR($E330*SUMIF('Daily Log'!$Z$18:$Z$1017,$B330,'Daily Log'!$AA$18:$AA$1017),0)","v":0},{"$f":"IFERROR($E330*SUMIF('Daily Log'!$AC$18:$AC$1017,$B330,'Daily Log'!$AD$18:$AD$1017),0)","v":0},{"$f":"IFERROR($E330*SUMIF('Daily Log'!$AF$18:$AF$1017,$B330,'Daily Log'!$AG$18:$AG$1017),0)","v":0},{"$f":"IFERROR($E330*SUMIF('Daily Log'!$AI$18:$AI$1017,$B330,'Daily Log'!$AJ$18:$AJ$1017),0)","v":0},{"$f":"IFERROR($E330*SUMIF('Daily Log'!$AL$18:$AL$1017,$B330,'Daily Log'!$AM$18:$AM$1017),0)","v":0},{"$f":"IFERROR($E330*SUMIF('Daily Log'!$AO$18:$AO$1017,$B330,'Daily Log'!$AP$18:$AP$1017),0)","v":0},{"$f":"IFERROR($E330*SUMIF('Daily Log'!$AR$18:$AR$1017,$B330,'Daily Log'!$AS$18:$AS$1017),0)","v":0},{"$f":"IFERROR($E330*SUMIF('Daily Log'!$AU$18:$AU$1017,$B330,'Daily Log'!$AV$18:$AV$1017),0)","v":0},{"$f":"IFERROR($E330*SUMIF('Daily Log'!$AX$18:$AX$1017,$B330,'Daily Log'!$AY$18:$AY$1017),0)","v":0},{"$f":"IFERROR($E330*SUMIF('Daily Log'!$BA$18:$BA$1017,$B330,'Daily Log'!$BB$18:$BB$1017),0)","v":0},{"$f":"IFERROR($E330*SUMIF('Daily Log'!$BD$18:$BD$1017,$B330,'Daily Log'!$BE$18:$BE$1017),0)","v":0},{"$f":"IFERROR($E330*SUMIF('Daily Log'!$BG$18:$BG$1017,$B330,'Daily Log'!$BH$18:$BH$1017),0)","v":0},{"$f":"IFERROR($E330*SUMIF('Daily Log'!$BJ$18:$BJ$1017,$B330,'Daily Log'!$BK$18:$BK$1017),0)","v":0},{"$f":"IFERROR($E330*SUMIF('Daily Log'!$BM$18:$BM$1017,$B330,'Daily Log'!$BN$18:$BN$1017),0)","v":0},{"$f":"IFERROR($E330*SUMIF('Daily Log'!$BP$18:$BP$1017,$B330,'Daily Log'!$BQ$18:$BQ$1017),0)","v":0},{"$f":"IFERROR($E330*SUMIF('Daily Log'!$BS$18:$BS$1017,$B330,'Daily Log'!$BT$18:$BT$1017),0)","v":0},{"$f":"IFERROR($E330*SUMIF('Daily Log'!$BV$18:$BV$1017,$B330,'Daily Log'!$BW$18:$BW$1017),0)","v":0},{"$f":"IFERROR($E330*SUMIF('Daily Log'!$BY$18:$BY$1017,$B330,'Daily Log'!$BZ$18:$BZ$1017),0)","v":0},{"$f":"IFERROR($E330*SUMIF('Daily Log'!$CB$18:$CB$1017,$B330,'Daily Log'!$CC$18:$CC$1017),0)","v":0},{"$f":"IFERROR($E330*SUMIF('Daily Log'!$CE$18:$CE$1017,$B330,'Daily Log'!$CF$18:$CF$1017),0)","v":0},{"$f":"IFERROR($E330*SUMIF('Daily Log'!$CH$18:$CH$1017,$B330,'Daily Log'!$CI$18:$CI$1017),0)","v":0},{"$f":"IFERROR($E330*SUMIF('Daily Log'!$CK$18:$CK$1017,$B330,'Daily Log'!$CL$18:$CL$1017),0)","v":0},{"$f":"IFERROR($E330*SUMIF('Daily Log'!$CN$18:$CN$1017,$B330,'Daily Log'!$CO$18:$CO$1017),0)","v":0}]
[null,null,null,null,null,0,{"$f":"IFERROR($E331*SUMIF('Daily Log'!$B$18:$B$1017,$B331,'Daily Log'!$C$18:$C$1017),0)","v":0},{"$f":"IFERROR($E331*SUMIF('Daily Log'!$E$18:$E$1017,$B331,'Daily Log'!$F$18:$F$1017),0)","v":0},{"$f":"IFERROR($E331*SUMIF('Daily Log'!$H$18:$H$1017,$B331,'Daily Log'!$I$18:$I$1017),0)","v":0},{"$f":"IFERROR($E331*SUMIF('Daily Log'!$K$18:$K$1017,$B331,'Daily Log'!$L$18:$L$1017),0)","v":0},{"$f":"IFERROR($E331*SUMIF('Daily Log'!$N$18:$N$1017,$B331,'Daily Log'!$O$18:$O$1017),0)","v":0},{"$f":"IFERROR($E331*SUMIF('Daily Log'!$Q$18:$Q$1017,$B331,'Daily Log'!$R$18:$R$1017),0)","v":0},{"$f":"IFERROR($E331*SUMIF('Daily Log'!$T$18:$T$1017,$B331,'Daily Log'!$U$18:$U$1017),0)","v":0},{"$f":"IFERROR($E331*SUMIF('Daily Log'!$W$18:$W$1017,$B331,'Daily Log'!$X$18:$X$1017),0)","v":0},{"$f":"IFERROR($E331*SUMIF('Daily Log'!$Z$18:$Z$1017,$B331,'Daily Log'!$AA$18:$AA$1017),0)","v":0},{"$f":"IFERROR($E331*SUMIF('Daily Log'!$AC$18:$AC$1017,$B331,'Daily Log'!$AD$18:$AD$1017),0)","v":0},{"$f":"IFERROR($E331*SUMIF('Daily Log'!$AF$18:$AF$1017,$B331,'Daily Log'!$AG$18:$AG$1017),0)","v":0},{"$f":"IFERROR($E331*SUMIF('Daily Log'!$AI$18:$AI$1017,$B331,'Daily Log'!$AJ$18:$AJ$1017),0)","v":0},{"$f":"IFERROR($E331*SUMIF('Daily Log'!$AL$18:$AL$1017,$B331,'Daily Log'!$AM$18:$AM$1017),0)","v":0},{"$f":"IFERROR($E331*SUMIF('Daily Log'!$AO$18:$AO$1017,$B331,'Daily Log'!$AP$18:$AP$1017),0)","v":0},{"$f":"IFERROR($E331*SUMIF('Daily Log'!$AR$18:$AR$1017,$B331,'Daily Log'!$AS$18:$AS$1017),0)","v":0},{"$f":"IFERROR($E331*SUMIF('Daily Log'!$AU$18:$AU$1017,$B331,'Daily Log'!$AV$18:$AV$1017),0)","v":0},{"$f":"IFERROR($E331*SUMIF('Daily Log'!$AX$18:$AX$1017,$B331,'Daily Log'!$AY$18:$AY$1017),0)","v":0},{"$f":"IFERROR($E331*SUMIF('Daily Log'!$BA$18:$BA$1017,$B331,'Daily Log'!$BB$18:$BB$1017),0)","v":0},{"$f":"IFERROR($E331*SUMIF('Daily Log'!$BD$18:$BD$1017,$B331,'Daily Log'!$BE$18:$BE$1017),0)","v":0},{"$f":"IFERROR($E331*SUMIF('Daily Log'!$BG$18:$BG$1017,$B331,'Daily Log'!$BH$18:$BH$1017),0)","v":0},{"$f":"IFERROR($E331*SUMIF('Daily Log'!$BJ$18:$BJ$1017,$B331,'Daily Log'!$BK$18:$BK$1017),0)","v":0},{"$f":"IFERROR($E331*SUMIF('Daily Log'!$BM$18:$BM$1017,$B331,'Daily Log'!$BN$18:$BN$1017),0)","v":0},{"$f":"IFERROR($E331*SUMIF('Daily Log'!$BP$18:$BP$1017,$B331,'Daily Log'!$BQ$18:$BQ$1017),0)","v":0},{"$f":"IFERROR($E331*SUMIF('Daily Log'!$BS$18:$BS$1017,$B331,'Daily Log'!$BT$18:$BT$1017),0)","v":0},{"$f":"IFERROR($E331*SUMIF('Daily Log'!$BV$18:$BV$1017,$B331,'Daily Log'!$BW$18:$BW$1017),0)","v":0},{"$f":"IFERROR($E331*SUMIF('Daily Log'!$BY$18:$BY$1017,$B331,'Daily Log'!$BZ$18:$BZ$1017),0)","v":0},{"$f":"IFERROR($E331*SUMIF('Daily Log'!$CB$18:$CB$1017,$B331,'Daily Log'!$CC$18:$CC$1017),0)","v":0},{"$f":"IFERROR($E331*SUMIF('Daily Log'!$CE$18:$CE$1017,$B331,'Daily Log'!$CF$18:$CF$1017),0)","v":0},{"$f":"IFERROR($E331*SUMIF('Daily Log'!$CH$18:$CH$1017,$B331,'Daily Log'!$CI$18:$CI$1017),0)","v":0},{"$f":"IFERROR($E331*SUMIF('Daily Log'!$CK$18:$CK$1017,$B331,'Daily Log'!$CL$18:$CL$1017),0)","v":0},{"$f":"IFERROR($E331*SUMIF('Daily Log'!$CN$18:$CN$1017,$B331,'Daily Log'!$CO$18:$CO$1017),0)","v":0}]
[null,null,null,null,null,0,{"$f":"IFERROR($E332*SUMIF('Daily Log'!$B$18:$B$1017,$B332,'Daily Log'!$C$18:$C$1017),0)","v":0},{"$f":"IFERROR($E332*SUMIF('Daily Log'!$E$18:$E$1017,$B332,'Daily Log'!$F$18:$F$1017),0)","v":0},{"$f":"IFERROR($E332*SUMIF('Daily Log'!$H$18:$H$1017,$B332,'Daily Log'!$I$18:$I$1017),0)","v":0},{"$f":"IFERROR($E332*SUMIF('Daily Log'!$K$18:$K$1017,$B332,'Daily Log'!$L$18:$L$1017),0)","v":0},{"$f":"IFERROR($E332*SUMIF('Daily Log'!$N$18:$N$1017,$B332,'Daily Log'!$O$18:$O$1017),0)","v":0},{"$f":"IFERROR($E332*SUMIF('Daily Log'!$Q$18:$Q$1017,$B332,'Daily Log'!$R$18:$R$1017),0)","v":0},{"$f":"IFERROR($E332*SUMIF('Daily Log'!$T$18:$T$1017,$B332,'Daily Log'!$U$18:$U$1017),0)","v":0},{"$f":"IFERROR($E332*SUMIF('Daily Log'!$W$18:$W$1017,$B332,'Daily Log'!$X$18:$X$1017),0)","v":0},{"$f":"IFERROR($E332*SUMIF('Daily Log'!$Z$18:$Z$1017,$B332,'Daily Log'!$AA$18:$AA$1017),0)","v":0},{"$f":"IFERROR($E332*SUMIF('Daily Log'!$AC$18:$AC$1017,$B332,'Daily Log'!$AD$18:$AD$1017),0)","v":0},{"$f":"IFERROR($E332*SUMIF('Daily Log'!$AF$18:$AF$1017,$B332,'Daily Log'!$AG$18:$AG$1017),0)","v":0},{"$f":"IFERROR($E332*SUMIF('Daily Log'!$AI$18:$AI$1017,$B332,'Daily Log'!$AJ$18:$AJ$1017),0)","v":0},{"$f":"IFERROR($E332*SUMIF('Daily Log'!$AL$18:$AL$1017,$B332,'Daily Log'!$AM$18:$AM$1017),0)","v":0},{"$f":"IFERROR($E332*SUMIF('Daily Log'!$AO$18:$AO$1017,$B332,'Daily Log'!$AP$18:$AP$1017),0)","v":0},{"$f":"IFERROR($E332*SUMIF('Daily Log'!$AR$18:$AR$1017,$B332,'Daily Log'!$AS$18:$AS$1017),0)","v":0},{"$f":"IFERROR($E332*SUMIF('Daily Log'!$AU$18:$AU$1017,$B332,'Daily Log'!$AV$18:$AV$1017),0)","v":0},{"$f":"IFERROR($E332*SUMIF('Daily Log'!$AX$18:$AX$1017,$B332,'Daily Log'!$AY$18:$AY$1017),0)","v":0},{"$f":"IFERROR($E332*SUMIF('Daily Log'!$BA$18:$BA$1017,$B332,'Daily Log'!$BB$18:$BB$1017),0)","v":0},{"$f":"IFERROR($E332*SUMIF('Daily Log'!$BD$18:$BD$1017,$B332,'Daily Log'!$BE$18:$BE$1017),0)","v":0},{"$f":"IFERROR($E332*SUMIF('Daily Log'!$BG$18:$BG$1017,$B332,'Daily Log'!$BH$18:$BH$1017),0)","v":0},{"$f":"IFERROR($E332*SUMIF('Daily Log'!$BJ$18:$BJ$1017,$B332,'Daily Log'!$BK$18:$BK$1017),0)","v":0},{"$f":"IFERROR($E332*SUMIF('Daily Log'!$BM$18:$BM$1017,$B332,'Daily Log'!$BN$18:$BN$1017),0)","v":0},{"$f":"IFERROR($E332*SUMIF('Daily Log'!$BP$18:$BP$1017,$B332,'Daily Log'!$BQ$18:$BQ$1017),0)","v":0},{"$f":"IFERROR($E332*SUMIF('Daily Log'!$BS$18:$BS$1017,$B332,'Daily Log'!$BT$18:$BT$1017),0)","v":0},{"$f":"IFERROR($E332*SUMIF('Daily Log'!$BV$18:$BV$1017,$B332,'Daily Log'!$BW$18:$BW$1017),0)","v":0},{"$f":"IFERROR($E332*SUMIF('Daily Log'!$BY$18:$BY$1017,$B332,'Daily Log'!$BZ$18:$BZ$1017),0)","v":0},{"$f":"IFERROR($E332*SUMIF('Daily Log'!$CB$18:$CB$1017,$B332,'Daily Log'!$CC$18:$CC$1017),0)","v":0},{"$f":"IFERROR($E332*SUMIF('Daily Log'!$CE$18:$CE$1017,$B332,'Daily Log'!$CF$18:$CF$1017),0)","v":0},{"$f":"IFERROR($E332*SUMIF('Daily Log'!$CH$18:$CH$1017,$B332,'Daily Log'!$CI$18:$CI$1017),0)","v":0},{"$f":"IFERROR($E332*SUMIF('Daily Log'!$CK$18:$CK$1017,$B332,'Daily Log'!$CL$18:$CL$1017),0)","v":0},{"$f":"IFERROR($E332*SUMIF('Daily Log'!$CN$18:$CN$1017,$B332,'Daily Log'!$CO$18:$CO$1017),0)","v":0}]
[null,null,null,null,null,0,{"$f":"IFERROR($E333*SUMIF('Daily Log'!$B$18:$B$1017,$B333,'Daily Log'!$C$18:$C$1017),0)","v":0},{"$f":"IFERROR($E333*SUMIF('Daily Log'!$E$18:$E$1017,$B333,'Daily Log'!$F$18:$F$1017),0)","v":0},{"$f":"IFERROR($E333*SUMIF('Daily Log'!$H$18:$H$1017,$B333,'Daily Log'!$I$18:$I$1017),0)","v":0},{"$f":"IFERROR($E333*SUMIF('Daily Log'!$K$18:$K$1017,$B333,'Daily Log'!$L$18:$L$1017),0)","v":0},{"$f":"IFERROR($E333*SUMIF('Daily Log'!$N$18:$N$1017,$B333,'Daily Log'!$O$18:$O$1017),0)","v":0},{"$f":"IFERROR($E333*SUMIF('Daily Log'!$Q$18:$Q$1017,$B333,'Daily Log'!$R$18:$R$1017),0)","v":0},{"$f":"IFERROR($E333*SUMIF('Daily Log'!$T$18:$T$1017,$B333,'Daily Log'!$U$18:$U$1017),0)","v":0},{"$f":"IFERROR($E333*SUMIF('Daily Log'!$W$18:$W$1017,$B333,'Daily Log'!$X$18:$X$1017),0)","v":0},{"$f":"IFERROR($E333*SUMIF('Daily Log'!$Z$18:$Z$1017,$B333,'Daily Log'!$AA$18:$AA$1017),0)","v":0},{"$f":"IFERROR($E333*SUMIF('Daily Log'!$AC$18:$AC$1017,$B333,'Daily Log'!$AD$18:$AD$1017),0)","v":0},{"$f":"IFERROR($E333*SUMIF('Daily Log'!$AF$18:$AF$1017,$B333,'Daily Log'!$AG$18:$AG$1017),0)","v":0},{"$f":"IFERROR($E333*SUMIF('Daily Log'!$AI$18:$AI$1017,$B333,'Daily Log'!$AJ$18:$AJ$1017),0)","v":0},{"$f":"IFERROR($E333*SUMIF('Daily Log'!$AL$18:$AL$1017,$B333,'Daily Log'!$AM$18:$AM$1017),0)","v":0},{"$f":"IFERROR($E333*SUMIF('Daily Log'!$AO$18:$AO$1017,$B333,'Daily Log'!$AP$18:$AP$1017),0)","v":0},{"$f":"IFERROR($E333*SUMIF('Daily Log'!$AR$18:$AR$1017,$B333,'Daily Log'!$AS$18:$AS$1017),0)","v":0},{"$f":"IFERROR($E333*SUMIF('Daily Log'!$AU$18:$AU$1017,$B333,'Daily Log'!$AV$18:$AV$1017),0)","v":0},{"$f":"IFERROR($E333*SUMIF('Daily Log'!$AX$18:$AX$1017,$B333,'Daily Log'!$AY$18:$AY$1017),0)","v":0},{"$f":"IFERROR($E333*SUMIF('Daily Log'!$BA$18:$BA$1017,$B333,'Daily Log'!$BB$18:$BB$1017),0)","v":0},{"$f":"IFERROR($E333*SUMIF('Daily Log'!$BD$18:$BD$1017,$B333,'Daily Log'!$BE$18:$BE$1017),0)","v":0},{"$f":"IFERROR($E333*SUMIF('Daily Log'!$BG$18:$BG$1017,$B333,'Daily Log'!$BH$18:$BH$1017),0)","v":0},{"$f":"IFERROR($E333*SUMIF('Daily Log'!$BJ$18:$BJ$1017,$B333,'Daily Log'!$BK$18:$BK$1017),0)","v":0},{"$f":"IFERROR($E333*SUMIF('Daily Log'!$BM$18:$BM$1017,$B333,'Daily Log'!$BN$18:$BN$1017),0)","v":0},{"$f":"IFERROR($E333*SUMIF('Daily Log'!$BP$18:$BP$1017,$B333,'Daily Log'!$BQ$18:$BQ$1017),0)","v":0},{"$f":"IFERROR($E333*SUMIF('Daily Log'!$BS$18:$BS$1017,$B333,'Daily Log'!$BT$18:$BT$1017),0)","v":0},{"$f":"IFERROR($E333*SUMIF('Daily Log'!$BV$18:$BV$1017,$B333,'Daily Log'!$BW$18:$BW$1017),0)","v":0},{"$f":"IFERROR($E333*SUMIF('Daily Log'!$BY$18:$BY$1017,$B333,'Daily Log'!$BZ$18:$BZ$1017),0)","v":0},{"$f":"IFERROR($E333*SUMIF('Daily Log'!$CB$18:$CB$1017,$B333,'Daily Log'!$CC$18:$CC$1017),0)","v":0},{"$f":"IFERROR($E333*SUMIF('Daily Log'!$CE$18:$CE$1017,$B333,'Daily Log'!$CF$18:$CF$1017),0)","v":0},{"$f":"IFERROR($E333*SUMIF('Daily Log'!$CH$18:$CH$1017,$B333,'Daily Log'!$CI$18:$CI$1017),0)","v":0},{"$f":"IFERROR($E333*SUMIF('Daily Log'!$CK$18:$CK$1017,$B333,'Daily Log'!$CL$18:$CL$1017),0)","v":0},{"$f":"IFERROR($E333*SUMIF('Daily Log'!$CN$18:$CN$1017,$B333,'Daily Log'!$CO$18:$CO$1017),0)","v":0}]
[null,null,null,null,null,0,{"$f":"IFERROR($E334*SUMIF('Daily Log'!$B$18:$B$1017,$B334,'Daily Log'!$C$18:$C$1017),0)","v":0},{"$f":"IFERROR($E334*SUMIF('Daily Log'!$E$18:$E$1017,$B334,'Daily Log'!$F$18:$F$1017),0)","v":0},{"$f":"IFERROR($E334*SUMIF('Daily Log'!$H$18:$H$1017,$B334,'Daily Log'!$I$18:$I$1017),0)","v":0},{"$f":"IFERROR($E334*SUMIF('Daily Log'!$K$18:$K$1017,$B334,'Daily Log'!$L$18:$L$1017),0)","v":0},{"$f":"IFERROR($E334*SUMIF('Daily Log'!$N$18:$N$1017,$B334,'Daily Log'!$O$18:$O$1017),0)","v":0},{"$f":"IFERROR($E334*SUMIF('Daily Log'!$Q$18:$Q$1017,$B334,'Daily Log'!$R$18:$R$1017),0)","v":0},{"$f":"IFERROR($E334*SUMIF('Daily Log'!$T$18:$T$1017,$B334,'Daily Log'!$U$18:$U$1017),0)","v":0},{"$f":"IFERROR($E334*SUMIF('Daily Log'!$W$18:$W$1017,$B334,'Daily Log'!$X$18:$X$1017),0)","v":0},{"$f":"IFERROR($E334*SUMIF('Daily Log'!$Z$18:$Z$1017,$B334,'Daily Log'!$AA$18:$AA$1017),0)","v":0},{"$f":"IFERROR($E334*SUMIF('Daily Log'!$AC$18:$AC$1017,$B334,'Daily Log'!$AD$18:$AD$1017),0)","v":0},{"$f":"IFERROR($E334*SUMIF('Daily Log'!$AF$18:$AF$1017,$B334,'Daily Log'!$AG$18:$AG$1017),0)","v":0},{"$f":"IFERROR($E334*SUMIF('Daily Log'!$AI$18:$AI$1017,$B334,'Daily Log'!$AJ$18:$AJ$1017),0)","v":0},{"$f":"IFERROR($E334*SUMIF('Daily Log'!$AL$18:$AL$1017,$B334,'Daily Log'!$AM$18:$AM$1017),0)","v":0},{"$f":"IFERROR($E334*SUMIF('Daily Log'!$AO$18:$AO$1017,$B334,'Daily Log'!$AP$18:$AP$1017),0)","v":0},{"$f":"IFERROR($E334*SUMIF('Daily Log'!$AR$18:$AR$1017,$B334,'Daily Log'!$AS$18:$AS$1017),0)","v":0},{"$f":"IFERROR($E334*SUMIF('Daily Log'!$AU$18:$AU$1017,$B334,'Daily Log'!$AV$18:$AV$1017),0)","v":0},{"$f":"IFERROR($E334*SUMIF('Daily Log'!$AX$18:$AX$1017,$B334,'Daily Log'!$AY$18:$AY$1017),0)","v":0},{"$f":"IFERROR($E334*SUMIF('Daily Log'!$BA$18:$BA$1017,$B334,'Daily Log'!$BB$18:$BB$1017),0)","v":0},{"$f":"IFERROR($E334*SUMIF('Daily Log'!$BD$18:$BD$1017,$B334,'Daily Log'!$BE$18:$BE$1017),0)","v":0},{"$f":"IFERROR($E334*SUMIF('Daily Log'!$BG$18:$BG$1017,$B334,'Daily Log'!$BH$18:$BH$1017),0)","v":0},{"$f":"IFERROR($E334*SUMIF('Daily Log'!$BJ$18:$BJ$1017,$B334,'Daily Log'!$BK$18:$BK$1017),0)","v":0},{"$f":"IFERROR($E334*SUMIF('Daily Log'!$BM$18:$BM$1017,$B334,'Daily Log'!$BN$18:$BN$1017),0)","v":0},{"$f":"IFERROR($E334*SUMIF('Daily Log'!$BP$18:$BP$1017,$B334,'Daily Log'!$BQ$18:$BQ$1017),0)","v":0},{"$f":"IFERROR($E334*SUMIF('Daily Log'!$BS$18:$BS$1017,$B334,'Daily Log'!$BT$18:$BT$1017),0)","v":0},{"$f":"IFERROR($E334*SUMIF('Daily Log'!$BV$18:$BV$1017,$B334,'Daily Log'!$BW$18:$BW$1017),0)","v":0},{"$f":"IFERROR($E334*SUMIF('Daily Log'!$BY$18:$BY$1017,$B334,'Daily Log'!$BZ$18:$BZ$1017),0)","v":0},{"$f":"IFERROR($E334*SUMIF('Daily Log'!$CB$18:$CB$1017,$B334,'Daily Log'!$CC$18:$CC$1017),0)","v":0},{"$f":"IFERROR($E334*SUMIF('Daily Log'!$CE$18:$CE$1017,$B334,'Daily Log'!$CF$18:$CF$1017),0)","v":0},{"$f":"IFERROR($E334*SUMIF('Daily Log'!$CH$18:$CH$1017,$B334,'Daily Log'!$CI$18:$CI$1017),0)","v":0},{"$f":"IFERROR($E334*SUMIF('Daily Log'!$CK$18:$CK$1017,$B334,'Daily Log'!$CL$18:$CL$1017),0)","v":0},{"$f":"IFERROR($E334*SUMIF('Daily Log'!$CN$18:$CN$1017,$B334,'Daily Log'!$CO$18:$CO$1017),0)","v":0}]
[null,null,null,null,null,0,{"$f":"IFERROR($E335*SUMIF('Daily Log'!$B$18:$B$1017,$B335,'Daily Log'!$C$18:$C$1017),0)","v":0},{"$f":"IFERROR($E335*SUMIF('Daily Log'!$E$18:$E$1017,$B335,'Daily Log'!$F$18:$F$1017),0)","v":0},{"$f":"IFERROR($E335*SUMIF('Daily Log'!$H$18:$H$1017,$B335,'Daily Log'!$I$18:$I$1017),0)","v":0},{"$f":"IFERROR($E335*SUMIF('Daily Log'!$K$18:$K$1017,$B335,'Daily Log'!$L$18:$L$1017),0)","v":0},{"$f":"IFERROR($E335*SUMIF('Daily Log'!$N$18:$N$1017,$B335,'Daily Log'!$O$18:$O$1017),0)","v":0},{"$f":"IFERROR($E335*SUMIF('Daily Log'!$Q$18:$Q$1017,$B335,'Daily Log'!$R$18:$R$1017),0)","v":0},{"$f":"IFERROR($E335*SUMIF('Daily Log'!$T$18:$T$1017,$B335,'Daily Log'!$U$18:$U$1017),0)","v":0},{"$f":"IFERROR($E335*SUMIF('Daily Log'!$W$18:$W$1017,$B335,'Daily Log'!$X$18:$X$1017),0)","v":0},{"$f":"IFERROR($E335*SUMIF('Daily Log'!$Z$18:$Z$1017,$B335,'Daily Log'!$AA$18:$AA$1017),0)","v":0},{"$f":"IFERROR($E335*SUMIF('Daily Log'!$AC$18:$AC$1017,$B335,'Daily Log'!$AD$18:$AD$1017),0)","v":0},{"$f":"IFERROR($E335*SUMIF('Daily Log'!$AF$18:$AF$1017,$B335,'Daily Log'!$AG$18:$AG$1017),0)","v":0},{"$f":"IFERROR($E335*SUMIF('Daily Log'!$AI$18:$AI$1017,$B335,'Daily Log'!$AJ$18:$AJ$1017),0)","v":0},{"$f":"IFERROR($E335*SUMIF('Daily Log'!$AL$18:$AL$1017,$B335,'Daily Log'!$AM$18:$AM$1017),0)","v":0},{"$f":"IFERROR($E335*SUMIF('Daily Log'!$AO$18:$AO$1017,$B335,'Daily Log'!$AP$18:$AP$1017),0)","v":0},{"$f":"IFERROR($E335*SUMIF('Daily Log'!$AR$18:$AR$1017,$B335,'Daily Log'!$AS$18:$AS$1017),0)","v":0},{"$f":"IFERROR($E335*SUMIF('Daily Log'!$AU$18:$AU$1017,$B335,'Daily Log'!$AV$18:$AV$1017),0)","v":0},{"$f":"IFERROR($E335*SUMIF('Daily Log'!$AX$18:$AX$1017,$B335,'Daily Log'!$AY$18:$AY$1017),0)","v":0},{"$f":"IFERROR($E335*SUMIF('Daily Log'!$BA$18:$BA$1017,$B335,'Daily Log'!$BB$18:$BB$1017),0)","v":0},{"$f":"IFERROR($E335*SUMIF('Daily Log'!$BD$18:$BD$1017,$B335,'Daily Log'!$BE$18:$BE$1017),0)","v":0},{"$f":"IFERROR($E335*SUMIF('Daily Log'!$BG$18:$BG$1017,$B335,'Daily Log'!$BH$18:$BH$1017),0)","v":0},{"$f":"IFERROR($E335*SUMIF('Daily Log'!$BJ$18:$BJ$1017,$B335,'Daily Log'!$BK$18:$BK$1017),0)","v":0},{"$f":"IFERROR($E335*SUMIF('Daily Log'!$BM$18:$BM$1017,$B335,'Daily Log'!$BN$18:$BN$1017),0)","v":0},{"$f":"IFERROR($E335*SUMIF('Daily Log'!$BP$18:$BP$1017,$B335,'Daily Log'!$BQ$18:$BQ$1017),0)","v":0},{"$f":"IFERROR($E335*SUMIF('Daily Log'!$BS$18:$BS$1017,$B335,'Daily Log'!$BT$18:$BT$1017),0)","v":0},{"$f":"IFERROR($E335*SUMIF('Daily Log'!$BV$18:$BV$1017,$B335,'Daily Log'!$BW$18:$BW$1017),0)","v":0},{"$f":"IFERROR($E335*SUMIF('Daily Log'!$BY$18:$BY$1017,$B335,'Daily Log'!$BZ$18:$BZ$1017),0)","v":0},{"$f":"IFERROR($E335*SUMIF('Daily Log'!$CB$18:$CB$1017,$B335,'Daily Log'!$CC$18:$CC$1017),0)","v":0},{"$f":"IFERROR($E335*SUMIF('Daily Log'!$CE$18:$CE$1017,$B335,'Daily Log'!$CF$18:$CF$1017),0)","v":0},{"$f":"IFERROR($E335*SUMIF('Daily Log'!$CH$18:$CH$1017,$B335,'Daily Log'!$CI$18:$CI$1017),0)","v":0},{"$f":"IFERROR($E335*SUMIF('Daily Log'!$CK$18:$CK$1017,$B335,'Daily Log'!$CL$18:$CL$1017),0)","v":0},{"$f":"IFERROR($E335*SUMIF('Daily Log'!$CN$18:$CN$1017,$B335,'Daily Log'!$CO$18:$CO$1017),0)","v":0}]
[null,null,null,null,null,0,{"$f":"IFERROR($E336*SUMIF('Daily Log'!$B$18:$B$1017,$B336,'Daily Log'!$C$18:$C$1017),0)","v":0},{"$f":"IFERROR($E336*SUMIF('Daily Log'!$E$18:$E$1017,$B336,'Daily Log'!$F$18:$F$1017),0)","v":0},{"$f":"IFERROR($E336*SUMIF('Daily Log'!$H$18:$H$1017,$B336,'Daily Log'!$I$18:$I$1017),0)","v":0},{"$f":"IFERROR($E336*SUMIF('Daily Log'!$K$18:$K$1017,$B336,'Daily Log'!$L$18:$L$1017),0)","v":0},{"$f":"IFERROR($E336*SUMIF('Daily Log'!$N$18:$N$1017,$B336,'Daily Log'!$O$18:$O$1017),0)","v":0},{"$f":"IFERROR($E336*SUMIF('Daily Log'!$Q$18:$Q$1017,$B336,'Daily Log'!$R$18:$R$1017),0)","v":0},{"$f":"IFERROR($E336*SUMIF('Daily Log'!$T$18:$T$1017,$B336,'Daily Log'!$U$18:$U$1017),0)","v":0},{"$f":"IFERROR($E336*SUMIF('Daily Log'!$W$18:$W$1017,$B336,'Daily Log'!$X$18:$X$1017),0)","v":0},{"$f":"IFERROR($E336*SUMIF('Daily Log'!$Z$18:$Z$1017,$B336,'Daily Log'!$AA$18:$AA$1017),0)","v":0},{"$f":"IFERROR($E336*SUMIF('Daily Log'!$AC$18:$AC$1017,$B336,'Daily Log'!$AD$18:$AD$1017),0)","v":0},{"$f":"IFERROR($E336*SUMIF('Daily Log'!$AF$18:$AF$1017,$B336,'Daily Log'!$AG$18:$AG$1017),0)","v":0},{"$f":"IFERROR($E336*SUMIF('Daily Log'!$AI$18:$AI$1017,$B336,'Daily Log'!$AJ$18:$AJ$1017),0)","v":0},{"$f":"IFERROR($E336*SUMIF('Daily Log'!$AL$18:$AL$1017,$B336,'Daily Log'!$AM$18:$AM$1017),0)","v":0},{"$f":"IFERROR($E336*SUMIF('Daily Log'!$AO$18:$AO$1017,$B336,'Daily Log'!$AP$18:$AP$1017),0)","v":0},{"$f":"IFERROR($E336*SUMIF('Daily Log'!$AR$18:$AR$1017,$B336,'Daily Log'!$AS$18:$AS$1017),0)","v":0},{"$f":"IFERROR($E336*SUMIF('Daily Log'!$AU$18:$AU$1017,$B336,'Daily Log'!$AV$18:$AV$1017),0)","v":0},{"$f":"IFERROR($E336*SUMIF('Daily Log'!$AX$18:$AX$1017,$B336,'Daily Log'!$AY$18:$AY$1017),0)","v":0},{"$f":"IFERROR($E336*SUMIF('Daily Log'!$BA$18:$BA$1017,$B336,'Daily Log'!$BB$18:$BB$1017),0)","v":0},{"$f":"IFERROR($E336*SUMIF('Daily Log'!$BD$18:$BD$1017,$B336,'Daily Log'!$BE$18:$BE$1017),0)","v":0},{"$f":"IFERROR($E336*SUMIF('Daily Log'!$BG$18:$BG$1017,$B336,'Daily Log'!$BH$18:$BH$1017),0)","v":0},{"$f":"IFERROR($E336*SUMIF('Daily Log'!$BJ$18:$BJ$1017,$B336,'Daily Log'!$BK$18:$BK$1017),0)","v":0},{"$f":"IFERROR($E336*SUMIF('Daily Log'!$BM$18:$BM$1017,$B336,'Daily Log'!$BN$18:$BN$1017),0)","v":0},{"$f":"IFERROR($E336*SUMIF('Daily Log'!$BP$18:$BP$1017,$B336,'Daily Log'!$BQ$18:$BQ$1017),0)","v":0},{"$f":"IFERROR($E336*SUMIF('Daily Log'!$BS$18:$BS$1017,$B336,'Daily Log'!$BT$18:$BT$1017),0)","v":0},{"$f":"IFERROR($E336*SUMIF('Daily Log'!$BV$18:$BV$1017,$B336,'Daily Log'!$BW$18:$BW$1017),0)","v":0},{"$f":"IFERROR($E336*SUMIF('Daily Log'!$BY$18:$BY$1017,$B336,'Daily Log'!$BZ$18:$BZ$1017),0)","v":0},{"$f":"IFERROR($E336*SUMIF('Daily Log'!$CB$18:$CB$1017,$B336,'Daily Log'!$CC$18:$CC$1017),0)","v":0},{"$f":"IFERROR($E336*SUMIF('Daily Log'!$CE$18:$CE$1017,$B336,'Daily Log'!$CF$18:$CF$1017),0)","v":0},{"$f":"IFERROR($E336*SUMIF('Daily Log'!$CH$18:$CH$1017,$B336,'Daily Log'!$CI$18:$CI$1017),0)","v":0},{"$f":"IFERROR($E336*SUMIF('Daily Log'!$CK$18:$CK$1017,$B336,'Daily Log'!$CL$18:$CL$1017),0)","v":0},{"$f":"IFERROR($E336*SUMIF('Daily Log'!$CN$18:$CN$1017,$B336,'Daily Log'!$CO$18:$CO$1017),0)","v":0}]
[null,null,null,null,null,0,{"$f":"IFERROR($E337*SUMIF('Daily Log'!$B$18:$B$1017,$B337,'Daily Log'!$C$18:$C$1017),0)","v":0},{"$f":"IFERROR($E337*SUMIF('Daily Log'!$E$18:$E$1017,$B337,'Daily Log'!$F$18:$F$1017),0)","v":0},{"$f":"IFERROR($E337*SUMIF('Daily Log'!$H$18:$H$1017,$B337,'Daily Log'!$I$18:$I$1017),0)","v":0},{"$f":"IFERROR($E337*SUMIF('Daily Log'!$K$18:$K$1017,$B337,'Daily Log'!$L$18:$L$1017),0)","v":0},{"$f":"IFERROR($E337*SUMIF('Daily Log'!$N$18:$N$1017,$B337,'Daily Log'!$O$18:$O$1017),0)","v":0},{"$f":"IFERROR($E337*SUMIF('Daily Log'!$Q$18:$Q$1017,$B337,'Daily Log'!$R$18:$R$1017),0)","v":0},{"$f":"IFERROR($E337*SUMIF('Daily Log'!$T$18:$T$1017,$B337,'Daily Log'!$U$18:$U$1017),0)","v":0},{"$f":"IFERROR($E337*SUMIF('Daily Log'!$W$18:$W$1017,$B337,'Daily Log'!$X$18:$X$1017),0)","v":0},{"$f":"IFERROR($E337*SUMIF('Daily Log'!$Z$18:$Z$1017,$B337,'Daily Log'!$AA$18:$AA$1017),0)","v":0},{"$f":"IFERROR($E337*SUMIF('Daily Log'!$AC$18:$AC$1017,$B337,'Daily Log'!$AD$18:$AD$1017),0)","v":0},{"$f":"IFERROR($E337*SUMIF('Daily Log'!$AF$18:$AF$1017,$B337,'Daily Log'!$AG$18:$AG$1017),0)","v":0},{"$f":"IFERROR($E337*SUMIF('Daily Log'!$AI$18:$AI$1017,$B337,'Daily Log'!$AJ$18:$AJ$1017),0)","v":0},{"$f":"IFERROR($E337*SUMIF('Daily Log'!$AL$18:$AL$1017,$B337,'Daily Log'!$AM$18:$AM$1017),0)","v":0},{"$f":"IFERROR($E337*SUMIF('Daily Log'!$AO$18:$AO$1017,$B337,'Daily Log'!$AP$18:$AP$1017),0)","v":0},{"$f":"IFERROR($E337*SUMIF('Daily Log'!$AR$18:$AR$1017,$B337,'Daily Log'!$AS$18:$AS$1017),0)","v":0},{"$f":"IFERROR($E337*SUMIF('Daily Log'!$AU$18:$AU$1017,$B337,'Daily Log'!$AV$18:$AV$1017),0)","v":0},{"$f":"IFERROR($E337*SUMIF('Daily Log'!$AX$18:$AX$1017,$B337,'Daily Log'!$AY$18:$AY$1017),0)","v":0},{"$f":"IFERROR($E337*SUMIF('Daily Log'!$BA$18:$BA$1017,$B337,'Daily Log'!$BB$18:$BB$1017),0)","v":0},{"$f":"IFERROR($E337*SUMIF('Daily Log'!$BD$18:$BD$1017,$B337,'Daily Log'!$BE$18:$BE$1017),0)","v":0},{"$f":"IFERROR($E337*SUMIF('Daily Log'!$BG$18:$BG$1017,$B337,'Daily Log'!$BH$18:$BH$1017),0)","v":0},{"$f":"IFERROR($E337*SUMIF('Daily Log'!$BJ$18:$BJ$1017,$B337,'Daily Log'!$BK$18:$BK$1017),0)","v":0},{"$f":"IFERROR($E337*SUMIF('Daily Log'!$BM$18:$BM$1017,$B337,'Daily Log'!$BN$18:$BN$1017),0)","v":0},{"$f":"IFERROR($E337*SUMIF('Daily Log'!$BP$18:$BP$1017,$B337,'Daily Log'!$BQ$18:$BQ$1017),0)","v":0},{"$f":"IFERROR($E337*SUMIF('Daily Log'!$BS$18:$BS$1017,$B337,'Daily Log'!$BT$18:$BT$1017),0)","v":0},{"$f":"IFERROR($E337*SUMIF('Daily Log'!$BV$18:$BV$1017,$B337,'Daily Log'!$BW$18:$BW$1017),0)","v":0},{"$f":"IFERROR($E337*SUMIF('Daily Log'!$BY$18:$BY$1017,$B337,'Daily Log'!$BZ$18:$BZ$1017),0)","v":0},{"$f":"IFERROR($E337*SUMIF('Daily Log'!$CB$18:$CB$1017,$B337,'Daily Log'!$CC$18:$CC$1017),0)","v":0},{"$f":"IFERROR($E337*SUMIF('Daily Log'!$CE$18:$CE$1017,$B337,'Daily Log'!$CF$18:$CF$1017),0)","v":0},{"$f":"IFERROR($E337*SUMIF('Daily Log'!$CH$18:$CH$1017,$B337,'Daily Log'!$CI$18:$CI$1017),0)","v":0},{"$f":"IFERROR($E337*SUMIF('Daily Log'!$CK$18:$CK$1017,$B337,'Daily Log'!$CL$18:$CL$1017),0)","v":0},{"$f":"IFERROR($E337*SUMIF('Daily Log'!$CN$18:$CN$1017,$B337,'Daily Log'!$CO$18:$CO$1017),0)","v":0}]
[null,null,null,null,null,0,{"$f":"IFERROR($E338*SUMIF('Daily Log'!$B$18:$B$1017,$B338,'Daily Log'!$C$18:$C$1017),0)","v":0},{"$f":"IFERROR($E338*SUMIF('Daily Log'!$E$18:$E$1017,$B338,'Daily Log'!$F$18:$F$1017),0)","v":0},{"$f":"IFERROR($E338*SUMIF('Daily Log'!$H$18:$H$1017,$B338,'Daily Log'!$I$18:$I$1017),0)","v":0},{"$f":"IFERROR($E338*SUMIF('Daily Log'!$K$18:$K$1017,$B338,'Daily Log'!$L$18:$L$1017),0)","v":0},{"$f":"IFERROR($E338*SUMIF('Daily Log'!$N$18:$N$1017,$B338,'Daily Log'!$O$18:$O$1017),0)","v":0},{"$f":"IFERROR($E338*SUMIF('Daily Log'!$Q$18:$Q$1017,$B338,'Daily Log'!$R$18:$R$1017),0)","v":0},{"$f":"IFERROR($E338*SUMIF('Daily Log'!$T$18:$T$1017,$B338,'Daily Log'!$U$18:$U$1017),0)","v":0},{"$f":"IFERROR($E338*SUMIF('Daily Log'!$W$18:$W$1017,$B338,'Daily Log'!$X$18:$X$1017),0)","v":0},{"$f":"IFERROR($E338*SUMIF('Daily Log'!$Z$18:$Z$1017,$B338,'Daily Log'!$AA$18:$AA$1017),0)","v":0},{"$f":"IFERROR($E338*SUMIF('Daily Log'!$AC$18:$AC$1017,$B338,'Daily Log'!$AD$18:$AD$1017),0)","v":0},{"$f":"IFERROR($E338*SUMIF('Daily Log'!$AF$18:$AF$1017,$B338,'Daily Log'!$AG$18:$AG$1017),0)","v":0},{"$f":"IFERROR($E338*SUMIF('Daily Log'!$AI$18:$AI$1017,$B338,'Daily Log'!$AJ$18:$AJ$1017),0)","v":0},{"$f":"IFERROR($E338*SUMIF('Daily Log'!$AL$18:$AL$1017,$B338,'Daily Log'!$AM$18:$AM$1017),0)","v":0},{"$f":"IFERROR($E338*SUMIF('Daily Log'!$AO$18:$AO$1017,$B338,'Daily Log'!$AP$18:$AP$1017),0)","v":0},{"$f":"IFERROR($E338*SUMIF('Daily Log'!$AR$18:$AR$1017,$B338,'Daily Log'!$AS$18:$AS$1017),0)","v":0},{"$f":"IFERROR($E338*SUMIF('Daily Log'!$AU$18:$AU$1017,$B338,'Daily Log'!$AV$18:$AV$1017),0)","v":0},{"$f":"IFERROR($E338*SUMIF('Daily Log'!$AX$18:$AX$1017,$B338,'Daily Log'!$AY$18:$AY$1017),0)","v":0},{"$f":"IFERROR($E338*SUMIF('Daily Log'!$BA$18:$BA$1017,$B338,'Daily Log'!$BB$18:$BB$1017),0)","v":0},{"$f":"IFERROR($E338*SUMIF('Daily Log'!$BD$18:$BD$1017,$B338,'Daily Log'!$BE$18:$BE$1017),0)","v":0},{"$f":"IFERROR($E338*SUMIF('Daily Log'!$BG$18:$BG$1017,$B338,'Daily Log'!$BH$18:$BH$1017),0)","v":0},{"$f":"IFERROR($E338*SUMIF('Daily Log'!$BJ$18:$BJ$1017,$B338,'Daily Log'!$BK$18:$BK$1017),0)","v":0},{"$f":"IFERROR($E338*SUMIF('Daily Log'!$BM$18:$BM$1017,$B338,'Daily Log'!$BN$18:$BN$1017),0)","v":0},{"$f":"IFERROR($E338*SUMIF('Daily Log'!$BP$18:$BP$1017,$B338,'Daily Log'!$BQ$18:$BQ$1017),0)","v":0},{"$f":"IFERROR($E338*SUMIF('Daily Log'!$BS$18:$BS$1017,$B338,'Daily Log'!$BT$18:$BT$1017),0)","v":0},{"$f":"IFERROR($E338*SUMIF('Daily Log'!$BV$18:$BV$1017,$B338,'Daily Log'!$BW$18:$BW$1017),0)","v":0},{"$f":"IFERROR($E338*SUMIF('Daily Log'!$BY$18:$BY$1017,$B338,'Daily Log'!$BZ$18:$BZ$1017),0)","v":0},{"$f":"IFERROR($E338*SUMIF('Daily Log'!$CB$18:$CB$1017,$B338,'Daily Log'!$CC$18:$CC$1017),0)","v":0},{"$f":"IFERROR($E338*SUMIF('Daily Log'!$CE$18:$CE$1017,$B338,'Daily Log'!$CF$18:$CF$1017),0)","v":0},{"$f":"IFERROR($E338*SUMIF('Daily Log'!$CH$18:$CH$1017,$B338,'Daily Log'!$CI$18:$CI$1017),0)","v":0},{"$f":"IFERROR($E338*SUMIF('Daily Log'!$CK$18:$CK$1017,$B338,'Daily Log'!$CL$18:$CL$1017),0)","v":0},{"$f":"IFERROR($E338*SUMIF('Daily Log'!$CN$18:$CN$1017,$B338,'Daily Log'!$CO$18:$CO$1017),0)","v":0}]
[null,null,null,null,null,0,{"$f":"IFERROR($E339*SUMIF('Daily Log'!$B$18:$B$1017,$B339,'Daily Log'!$C$18:$C$1017),0)","v":0},{"$f":"IFERROR($E339*SUMIF('Daily Log'!$E$18:$E$1017,$B339,'Daily Log'!$F$18:$F$1017),0)","v":0},{"$f":"IFERROR($E339*SUMIF('Daily Log'!$H$18:$H$1017,$B339,'Daily Log'!$I$18:$I$1017),0)","v":0},{"$f":"IFERROR($E339*SUMIF('Daily Log'!$K$18:$K$1017,$B339,'Daily Log'!$L$18:$L$1017),0)","v":0},{"$f":"IFERROR($E339*SUMIF('Daily Log'!$N$18:$N$1017,$B339,'Daily Log'!$O$18:$O$1017),0)","v":0},{"$f":"IFERROR($E339*SUMIF('Daily Log'!$Q$18:$Q$1017,$B339,'Daily Log'!$R$18:$R$1017),0)","v":0},{"$f":"IFERROR($E339*SUMIF('Daily Log'!$T$18:$T$1017,$B339,'Daily Log'!$U$18:$U$1017),0)","v":0},{"$f":"IFERROR($E339*SUMIF('Daily Log'!$W$18:$W$1017,$B339,'Daily Log'!$X$18:$X$1017),0)","v":0},{"$f":"IFERROR($E339*SUMIF('Daily Log'!$Z$18:$Z$1017,$B339,'Daily Log'!$AA$18:$AA$1017),0)","v":0},{"$f":"IFERROR($E339*SUMIF('Daily Log'!$AC$18:$AC$1017,$B339,'Daily Log'!$AD$18:$AD$1017),0)","v":0},{"$f":"IFERROR($E339*SUMIF('Daily Log'!$AF$18:$AF$1017,$B339,'Daily Log'!$AG$18:$AG$1017),0)","v":0},{"$f":"IFERROR($E339*SUMIF('Daily Log'!$AI$18:$AI$1017,$B339,'Daily Log'!$AJ$18:$AJ$1017),0)","v":0},{"$f":"IFERROR($E339*SUMIF('Daily Log'!$AL$18:$AL$1017,$B339,'Daily Log'!$AM$18:$AM$1017),0)","v":0},{"$f":"IFERROR($E339*SUMIF('Daily Log'!$AO$18:$AO$1017,$B339,'Daily Log'!$AP$18:$AP$1017),0)","v":0},{"$f":"IFERROR($E339*SUMIF('Daily Log'!$AR$18:$AR$1017,$B339,'Daily Log'!$AS$18:$AS$1017),0)","v":0},{"$f":"IFERROR($E339*SUMIF('Daily Log'!$AU$18:$AU$1017,$B339,'Daily Log'!$AV$18:$AV$1017),0)","v":0},{"$f":"IFERROR($E339*SUMIF('Daily Log'!$AX$18:$AX$1017,$B339,'Daily Log'!$AY$18:$AY$1017),0)","v":0},{"$f":"IFERROR($E339*SUMIF('Daily Log'!$BA$18:$BA$1017,$B339,'Daily Log'!$BB$18:$BB$1017),0)","v":0},{"$f":"IFERROR($E339*SUMIF('Daily Log'!$BD$18:$BD$1017,$B339,'Daily Log'!$BE$18:$BE$1017),0)","v":0},{"$f":"IFERROR($E339*SUMIF('Daily Log'!$BG$18:$BG$1017,$B339,'Daily Log'!$BH$18:$BH$1017),0)","v":0},{"$f":"IFERROR($E339*SUMIF('Daily Log'!$BJ$18:$BJ$1017,$B339,'Daily Log'!$BK$18:$BK$1017),0)","v":0},{"$f":"IFERROR($E339*SUMIF('Daily Log'!$BM$18:$BM$1017,$B339,'Daily Log'!$BN$18:$BN$1017),0)","v":0},{"$f":"IFERROR($E339*SUMIF('Daily Log'!$BP$18:$BP$1017,$B339,'Daily Log'!$BQ$18:$BQ$1017),0)","v":0},{"$f":"IFERROR($E339*SUMIF('Daily Log'!$BS$18:$BS$1017,$B339,'Daily Log'!$BT$18:$BT$1017),0)","v":0},{"$f":"IFERROR($E339*SUMIF('Daily Log'!$BV$18:$BV$1017,$B339,'Daily Log'!$BW$18:$BW$1017),0)","v":0},{"$f":"IFERROR($E339*SUMIF('Daily Log'!$BY$18:$BY$1017,$B339,'Daily Log'!$BZ$18:$BZ$1017),0)","v":0},{"$f":"IFERROR($E339*SUMIF('Daily Log'!$CB$18:$CB$1017,$B339,'Daily Log'!$CC$18:$CC$1017),0)","v":0},{"$f":"IFERROR($E339*SUMIF('Daily Log'!$CE$18:$CE$1017,$B339,'Daily Log'!$CF$18:$CF$1017),0)","v":0},{"$f":"IFERROR($E339*SUMIF('Daily Log'!$CH$18:$CH$1017,$B339,'Daily Log'!$CI$18:$CI$1017),0)","v":0},{"$f":"IFERROR($E339*SUMIF('Daily Log'!$CK$18:$CK$1017,$B339,'Daily Log'!$CL$18:$CL$1017),0)","v":0},{"$f":"IFERROR($E339*SUMIF('Daily Log'!$CN$18:$CN$1017,$B339,'Daily Log'!$CO$18:$CO$1017),0)","v":0}]
[null,null,null,null,null,0,{"$f":"IFERROR($E340*SUMIF('Daily Log'!$B$18:$B$1017,$B340,'Daily Log'!$C$18:$C$1017),0)","v":0},{"$f":"IFERROR($E340*SUMIF('Daily Log'!$E$18:$E$1017,$B340,'Daily Log'!$F$18:$F$1017),0)","v":0},{"$f":"IFERROR($E340*SUMIF('Daily Log'!$H$18:$H$1017,$B340,'Daily Log'!$I$18:$I$1017),0)","v":0},{"$f":"IFERROR($E340*SUMIF('Daily Log'!$K$18:$K$1017,$B340,'Daily Log'!$L$18:$L$1017),0)","v":0},{"$f":"IFERROR($E340*SUMIF('Daily Log'!$N$18:$N$1017,$B340,'Daily Log'!$O$18:$O$1017),0)","v":0},{"$f":"IFERROR($E340*SUMIF('Daily Log'!$Q$18:$Q$1017,$B340,'Daily Log'!$R$18:$R$1017),0)","v":0},{"$f":"IFERROR($E340*SUMIF('Daily Log'!$T$18:$T$1017,$B340,'Daily Log'!$U$18:$U$1017),0)","v":0},{"$f":"IFERROR($E340*SUMIF('Daily Log'!$W$18:$W$1017,$B340,'Daily Log'!$X$18:$X$1017),0)","v":0},{"$f":"IFERROR($E340*SUMIF('Daily Log'!$Z$18:$Z$1017,$B340,'Daily Log'!$AA$18:$AA$1017),0)","v":0},{"$f":"IFERROR($E340*SUMIF('Daily Log'!$AC$18:$AC$1017,$B340,'Daily Log'!$AD$18:$AD$1017),0)","v":0},{"$f":"IFERROR($E340*SUMIF('Daily Log'!$AF$18:$AF$1017,$B340,'Daily Log'!$AG$18:$AG$1017),0)","v":0},{"$f":"IFERROR($E340*SUMIF('Daily Log'!$AI$18:$AI$1017,$B340,'Daily Log'!$AJ$18:$AJ$1017),0)","v":0},{"$f":"IFERROR($E340*SUMIF('Daily Log'!$AL$18:$AL$1017,$B340,'Daily Log'!$AM$18:$AM$1017),0)","v":0},{"$f":"IFERROR($E340*SUMIF('Daily Log'!$AO$18:$AO$1017,$B340,'Daily Log'!$AP$18:$AP$1017),0)","v":0},{"$f":"IFERROR($E340*SUMIF('Daily Log'!$AR$18:$AR$1017,$B340,'Daily Log'!$AS$18:$AS$1017),0)","v":0},{"$f":"IFERROR($E340*SUMIF('Daily Log'!$AU$18:$AU$1017,$B340,'Daily Log'!$AV$18:$AV$1017),0)","v":0},{"$f":"IFERROR($E340*SUMIF('Daily Log'!$AX$18:$AX$1017,$B340,'Daily Log'!$AY$18:$AY$1017),0)","v":0},{"$f":"IFERROR($E340*SUMIF('Daily Log'!$BA$18:$BA$1017,$B340,'Daily Log'!$BB$18:$BB$1017),0)","v":0},{"$f":"IFERROR($E340*SUMIF('Daily Log'!$BD$18:$BD$1017,$B340,'Daily Log'!$BE$18:$BE$1017),0)","v":0},{"$f":"IFERROR($E340*SUMIF('Daily Log'!$BG$18:$BG$1017,$B340,'Daily Log'!$BH$18:$BH$1017),0)","v":0},{"$f":"IFERROR($E340*SUMIF('Daily Log'!$BJ$18:$BJ$1017,$B340,'Daily Log'!$BK$18:$BK$1017),0)","v":0},{"$f":"IFERROR($E340*SUMIF('Daily Log'!$BM$18:$BM$1017,$B340,'Daily Log'!$BN$18:$BN$1017),0)","v":0},{"$f":"IFERROR($E340*SUMIF('Daily Log'!$BP$18:$BP$1017,$B340,'Daily Log'!$BQ$18:$BQ$1017),0)","v":0},{"$f":"IFERROR($E340*SUMIF('Daily Log'!$BS$18:$BS$1017,$B340,'Daily Log'!$BT$18:$BT$1017),0)","v":0},{"$f":"IFERROR($E340*SUMIF('Daily Log'!$BV$18:$BV$1017,$B340,'Daily Log'!$BW$18:$BW$1017),0)","v":0},{"$f":"IFERROR($E340*SUMIF('Daily Log'!$BY$18:$BY$1017,$B340,'Daily Log'!$BZ$18:$BZ$1017),0)","v":0},{"$f":"IFERROR($E340*SUMIF('Daily Log'!$CB$18:$CB$1017,$B340,'Daily Log'!$CC$18:$CC$1017),0)","v":0},{"$f":"IFERROR($E340*SUMIF('Daily Log'!$CE$18:$CE$1017,$B340,'Daily Log'!$CF$18:$CF$1017),0)","v":0},{"$f":"IFERROR($E340*SUMIF('Daily Log'!$CH$18:$CH$1017,$B340,'Daily Log'!$CI$18:$CI$1017),0)","v":0},{"$f":"IFERROR($E340*SUMIF('Daily Log'!$CK$18:$CK$1017,$B340,'Daily Log'!$CL$18:$CL$1017),0)","v":0},{"$f":"IFERROR($E340*SUMIF('Daily Log'!$CN$18:$CN$1017,$B340,'Daily Log'!$CO$18:$CO$1017),0)","v":0}]
[null,null,null,null,null,0,{"$f":"IFERROR($E341*SUMIF('Daily Log'!$B$18:$B$1017,$B341,'Daily Log'!$C$18:$C$1017),0)","v":0},{"$f":"IFERROR($E341*SUMIF('Daily Log'!$E$18:$E$1017,$B341,'Daily Log'!$F$18:$F$1017),0)","v":0},{"$f":"IFERROR($E341*SUMIF('Daily Log'!$H$18:$H$1017,$B341,'Daily Log'!$I$18:$I$1017),0)","v":0},{"$f":"IFERROR($E341*SUMIF('Daily Log'!$K$18:$K$1017,$B341,'Daily Log'!$L$18:$L$1017),0)","v":0},{"$f":"IFERROR($E341*SUMIF('Daily Log'!$N$18:$N$1017,$B341,'Daily Log'!$O$18:$O$1017),0)","v":0},{"$f":"IFERROR($E341*SUMIF('Daily Log'!$Q$18:$Q$1017,$B341,'Daily Log'!$R$18:$R$1017),0)","v":0},{"$f":"IFERROR($E341*SUMIF('Daily Log'!$T$18:$T$1017,$B341,'Daily Log'!$U$18:$U$1017),0)","v":0},{"$f":"IFERROR($E341*SUMIF('Daily Log'!$W$18:$W$1017,$B341,'Daily Log'!$X$18:$X$1017),0)","v":0},{"$f":"IFERROR($E341*SUMIF('Daily Log'!$Z$18:$Z$1017,$B341,'Daily Log'!$AA$18:$AA$1017),0)","v":0},{"$f":"IFERROR($E341*SUMIF('Daily Log'!$AC$18:$AC$1017,$B341,'Daily Log'!$AD$18:$AD$1017),0)","v":0},{"$f":"IFERROR($E341*SUMIF('Daily Log'!$AF$18:$AF$1017,$B341,'Daily Log'!$AG$18:$AG$1017),0)","v":0},{"$f":"IFERROR($E341*SUMIF('Daily Log'!$AI$18:$AI$1017,$B341,'Daily Log'!$AJ$18:$AJ$1017),0)","v":0},{"$f":"IFERROR($E341*SUMIF('Daily Log'!$AL$18:$AL$1017,$B341,'Daily Log'!$AM$18:$AM$1017),0)","v":0},{"$f":"IFERROR($E341*SUMIF('Daily Log'!$AO$18:$AO$1017,$B341,'Daily Log'!$AP$18:$AP$1017),0)","v":0},{"$f":"IFERROR($E341*SUMIF('Daily Log'!$AR$18:$AR$1017,$B341,'Daily Log'!$AS$18:$AS$1017),0)","v":0},{"$f":"IFERROR($E341*SUMIF('Daily Log'!$AU$18:$AU$1017,$B341,'Daily Log'!$AV$18:$AV$1017),0)","v":0},{"$f":"IFERROR($E341*SUMIF('Daily Log'!$AX$18:$AX$1017,$B341,'Daily Log'!$AY$18:$AY$1017),0)","v":0},{"$f":"IFERROR($E341*SUMIF('Daily Log'!$BA$18:$BA$1017,$B341,'Daily Log'!$BB$18:$BB$1017),0)","v":0},{"$f":"IFERROR($E341*SUMIF('Daily Log'!$BD$18:$BD$1017,$B341,'Daily Log'!$BE$18:$BE$1017),0)","v":0},{"$f":"IFERROR($E341*SUMIF('Daily Log'!$BG$18:$BG$1017,$B341,'Daily Log'!$BH$18:$BH$1017),0)","v":0},{"$f":"IFERROR($E341*SUMIF('Daily Log'!$BJ$18:$BJ$1017,$B341,'Daily Log'!$BK$18:$BK$1017),0)","v":0},{"$f":"IFERROR($E341*SUMIF('Daily Log'!$BM$18:$BM$1017,$B341,'Daily Log'!$BN$18:$BN$1017),0)","v":0},{"$f":"IFERROR($E341*SUMIF('Daily Log'!$BP$18:$BP$1017,$B341,'Daily Log'!$BQ$18:$BQ$1017),0)","v":0},{"$f":"IFERROR($E341*SUMIF('Daily Log'!$BS$18:$BS$1017,$B341,'Daily Log'!$BT$18:$BT$1017),0)","v":0},{"$f":"IFERROR($E341*SUMIF('Daily Log'!$BV$18:$BV$1017,$B341,'Daily Log'!$BW$18:$BW$1017),0)","v":0},{"$f":"IFERROR($E341*SUMIF('Daily Log'!$BY$18:$BY$1017,$B341,'Daily Log'!$BZ$18:$BZ$1017),0)","v":0},{"$f":"IFERROR($E341*SUMIF('Daily Log'!$CB$18:$CB$1017,$B341,'Daily Log'!$CC$18:$CC$1017),0)","v":0},{"$f":"IFERROR($E341*SUMIF('Daily Log'!$CE$18:$CE$1017,$B341,'Daily Log'!$CF$18:$CF$1017),0)","v":0},{"$f":"IFERROR($E341*SUMIF('Daily Log'!$CH$18:$CH$1017,$B341,'Daily Log'!$CI$18:$CI$1017),0)","v":0},{"$f":"IFERROR($E341*SUMIF('Daily Log'!$CK$18:$CK$1017,$B341,'Daily Log'!$CL$18:$CL$1017),0)","v":0},{"$f":"IFERROR($E341*SUMIF('Daily Log'!$CN$18:$CN$1017,$B341,'Daily Log'!$CO$18:$CO$1017),0)","v":0}]
[null,null,null,null,null,0,{"$f":"IFERROR($E342*SUMIF('Daily Log'!$B$18:$B$1017,$B342,'Daily Log'!$C$18:$C$1017),0)","v":0},{"$f":"IFERROR($E342*SUMIF('Daily Log'!$E$18:$E$1017,$B342,'Daily Log'!$F$18:$F$1017),0)","v":0},{"$f":"IFERROR($E342*SUMIF('Daily Log'!$H$18:$H$1017,$B342,'Daily Log'!$I$18:$I$1017),0)","v":0},{"$f":"IFERROR($E342*SUMIF('Daily Log'!$K$18:$K$1017,$B342,'Daily Log'!$L$18:$L$1017),0)","v":0},{"$f":"IFERROR($E342*SUMIF('Daily Log'!$N$18:$N$1017,$B342,'Daily Log'!$O$18:$O$1017),0)","v":0},{"$f":"IFERROR($E342*SUMIF('Daily Log'!$Q$18:$Q$1017,$B342,'Daily Log'!$R$18:$R$1017),0)","v":0},{"$f":"IFERROR($E342*SUMIF('Daily Log'!$T$18:$T$1017,$B342,'Daily Log'!$U$18:$U$1017),0)","v":0},{"$f":"IFERROR($E342*SUMIF('Daily Log'!$W$18:$W$1017,$B342,'Daily Log'!$X$18:$X$1017),0)","v":0},{"$f":"IFERROR($E342*SUMIF('Daily Log'!$Z$18:$Z$1017,$B342,'Daily Log'!$AA$18:$AA$1017),0)","v":0},{"$f":"IFERROR($E342*SUMIF('Daily Log'!$AC$18:$AC$1017,$B342,'Daily Log'!$AD$18:$AD$1017),0)","v":0},{"$f":"IFERROR($E342*SUMIF('Daily Log'!$AF$18:$AF$1017,$B342,'Daily Log'!$AG$18:$AG$1017),0)","v":0},{"$f":"IFERROR($E342*SUMIF('Daily Log'!$AI$18:$AI$1017,$B342,'Daily Log'!$AJ$18:$AJ$1017),0)","v":0},{"$f":"IFERROR($E342*SUMIF('Daily Log'!$AL$18:$AL$1017,$B342,'Daily Log'!$AM$18:$AM$1017),0)","v":0},{"$f":"IFERROR($E342*SUMIF('Daily Log'!$AO$18:$AO$1017,$B342,'Daily Log'!$AP$18:$AP$1017),0)","v":0},{"$f":"IFERROR($E342*SUMIF('Daily Log'!$AR$18:$AR$1017,$B342,'Daily Log'!$AS$18:$AS$1017),0)","v":0},{"$f":"IFERROR($E342*SUMIF('Daily Log'!$AU$18:$AU$1017,$B342,'Daily Log'!$AV$18:$AV$1017),0)","v":0},{"$f":"IFERROR($E342*SUMIF('Daily Log'!$AX$18:$AX$1017,$B342,'Daily Log'!$AY$18:$AY$1017),0)","v":0},{"$f":"IFERROR($E342*SUMIF('Daily Log'!$BA$18:$BA$1017,$B342,'Daily Log'!$BB$18:$BB$1017),0)","v":0},{"$f":"IFERROR($E342*SUMIF('Daily Log'!$BD$18:$BD$1017,$B342,'Daily Log'!$BE$18:$BE$1017),0)","v":0},{"$f":"IFERROR($E342*SUMIF('Daily Log'!$BG$18:$BG$1017,$B342,'Daily Log'!$BH$18:$BH$1017),0)","v":0},{"$f":"IFERROR($E342*SUMIF('Daily Log'!$BJ$18:$BJ$1017,$B342,'Daily Log'!$BK$18:$BK$1017),0)","v":0},{"$f":"IFERROR($E342*SUMIF('Daily Log'!$BM$18:$BM$1017,$B342,'Daily Log'!$BN$18:$BN$1017),0)","v":0},{"$f":"IFERROR($E342*SUMIF('Daily Log'!$BP$18:$BP$1017,$B342,'Daily Log'!$BQ$18:$BQ$1017),0)","v":0},{"$f":"IFERROR($E342*SUMIF('Daily Log'!$BS$18:$BS$1017,$B342,'Daily Log'!$BT$18:$BT$1017),0)","v":0},{"$f":"IFERROR($E342*SUMIF('Daily Log'!$BV$18:$BV$1017,$B342,'Daily Log'!$BW$18:$BW$1017),0)","v":0},{"$f":"IFERROR($E342*SUMIF('Daily Log'!$BY$18:$BY$1017,$B342,'Daily Log'!$BZ$18:$BZ$1017),0)","v":0},{"$f":"IFERROR($E342*SUMIF('Daily Log'!$CB$18:$CB$1017,$B342,'Daily Log'!$CC$18:$CC$1017),0)","v":0},{"$f":"IFERROR($E342*SUMIF('Daily Log'!$CE$18:$CE$1017,$B342,'Daily Log'!$CF$18:$CF$1017),0)","v":0},{"$f":"IFERROR($E342*SUMIF('Daily Log'!$CH$18:$CH$1017,$B342,'Daily Log'!$CI$18:$CI$1017),0)","v":0},{"$f":"IFERROR($E342*SUMIF('Daily Log'!$CK$18:$CK$1017,$B342,'Daily Log'!$CL$18:$CL$1017),0)","v":0},{"$f":"IFERROR($E342*SUMIF('Daily Log'!$CN$18:$CN$1017,$B342,'Daily Log'!$CO$18:$CO$1017),0)","v":0}]
[null,null,null,null,null,0,{"$f":"IFERROR($E343*SUMIF('Daily Log'!$B$18:$B$1017,$B343,'Daily Log'!$C$18:$C$1017),0)","v":0},{"$f":"IFERROR($E343*SUMIF('Daily Log'!$E$18:$E$1017,$B343,'Daily Log'!$F$18:$F$1017),0)","v":0},{"$f":"IFERROR($E343*SUMIF('Daily Log'!$H$18:$H$1017,$B343,'Daily Log'!$I$18:$I$1017),0)","v":0},{"$f":"IFERROR($E343*SUMIF('Daily Log'!$K$18:$K$1017,$B343,'Daily Log'!$L$18:$L$1017),0)","v":0},{"$f":"IFERROR($E343*SUMIF('Daily Log'!$N$18:$N$1017,$B343,'Daily Log'!$O$18:$O$1017),0)","v":0},{"$f":"IFERROR($E343*SUMIF('Daily Log'!$Q$18:$Q$1017,$B343,'Daily Log'!$R$18:$R$1017),0)","v":0},{"$f":"IFERROR($E343*SUMIF('Daily Log'!$T$18:$T$1017,$B343,'Daily Log'!$U$18:$U$1017),0)","v":0},{"$f":"IFERROR($E343*SUMIF('Daily Log'!$W$18:$W$1017,$B343,'Daily Log'!$X$18:$X$1017),0)","v":0},{"$f":"IFERROR($E343*SUMIF('Daily Log'!$Z$18:$Z$1017,$B343,'Daily Log'!$AA$18:$AA$1017),0)","v":0},{"$f":"IFERROR($E343*SUMIF('Daily Log'!$AC$18:$AC$1017,$B343,'Daily Log'!$AD$18:$AD$1017),0)","v":0},{"$f":"IFERROR($E343*SUMIF('Daily Log'!$AF$18:$AF$1017,$B343,'Daily Log'!$AG$18:$AG$1017),0)","v":0},{"$f":"IFERROR($E343*SUMIF('Daily Log'!$AI$18:$AI$1017,$B343,'Daily Log'!$AJ$18:$AJ$1017),0)","v":0},{"$f":"IFERROR($E343*SUMIF('Daily Log'!$AL$18:$AL$1017,$B343,'Daily Log'!$AM$18:$AM$1017),0)","v":0},{"$f":"IFERROR($E343*SUMIF('Daily Log'!$AO$18:$AO$1017,$B343,'Daily Log'!$AP$18:$AP$1017),0)","v":0},{"$f":"IFERROR($E343*SUMIF('Daily Log'!$AR$18:$AR$1017,$B343,'Daily Log'!$AS$18:$AS$1017),0)","v":0},{"$f":"IFERROR($E343*SUMIF('Daily Log'!$AU$18:$AU$1017,$B343,'Daily Log'!$AV$18:$AV$1017),0)","v":0},{"$f":"IFERROR($E343*SUMIF('Daily Log'!$AX$18:$AX$1017,$B343,'Daily Log'!$AY$18:$AY$1017),0)","v":0},{"$f":"IFERROR($E343*SUMIF('Daily Log'!$BA$18:$BA$1017,$B343,'Daily Log'!$BB$18:$BB$1017),0)","v":0},{"$f":"IFERROR($E343*SUMIF('Daily Log'!$BD$18:$BD$1017,$B343,'Daily Log'!$BE$18:$BE$1017),0)","v":0},{"$f":"IFERROR($E343*SUMIF('Daily Log'!$BG$18:$BG$1017,$B343,'Daily Log'!$BH$18:$BH$1017),0)","v":0},{"$f":"IFERROR($E343*SUMIF('Daily Log'!$BJ$18:$BJ$1017,$B343,'Daily Log'!$BK$18:$BK$1017),0)","v":0},{"$f":"IFERROR($E343*SUMIF('Daily Log'!$BM$18:$BM$1017,$B343,'Daily Log'!$BN$18:$BN$1017),0)","v":0},{"$f":"IFERROR($E343*SUMIF('Daily Log'!$BP$18:$BP$1017,$B343,'Daily Log'!$BQ$18:$BQ$1017),0)","v":0},{"$f":"IFERROR($E343*SUMIF('Daily Log'!$BS$18:$BS$1017,$B343,'Daily Log'!$BT$18:$BT$1017),0)","v":0},{"$f":"IFERROR($E343*SUMIF('Daily Log'!$BV$18:$BV$1017,$B343,'Daily Log'!$BW$18:$BW$1017),0)","v":0},{"$f":"IFERROR($E343*SUMIF('Daily Log'!$BY$18:$BY$1017,$B343,'Daily Log'!$BZ$18:$BZ$1017),0)","v":0},{"$f":"IFERROR($E343*SUMIF('Daily Log'!$CB$18:$CB$1017,$B343,'Daily Log'!$CC$18:$CC$1017),0)","v":0},{"$f":"IFERROR($E343*SUMIF('Daily Log'!$CE$18:$CE$1017,$B343,'Daily Log'!$CF$18:$CF$1017),0)","v":0},{"$f":"IFERROR($E343*SUMIF('Daily Log'!$CH$18:$CH$1017,$B343,'Daily Log'!$CI$18:$CI$1017),0)","v":0},{"$f":"IFERROR($E343*SUMIF('Daily Log'!$CK$18:$CK$1017,$B343,'Daily Log'!$CL$18:$CL$1017),0)","v":0},{"$f":"IFERROR($E343*SUMIF('Daily Log'!$CN$18:$CN$1017,$B343,'Daily Log'!$CO$18:$CO$1017),0)","v":0}]
[null,null,null,null,null,0,{"$f":"IFERROR($E344*SUMIF('Daily Log'!$B$18:$B$1017,$B344,'Daily Log'!$C$18:$C$1017),0)","v":0},{"$f":"IFERROR($E344*SUMIF('Daily Log'!$E$18:$E$1017,$B344,'Daily Log'!$F$18:$F$1017),0)","v":0},{"$f":"IFERROR($E344*SUMIF('Daily Log'!$H$18:$H$1017,$B344,'Daily Log'!$I$18:$I$1017),0)","v":0},{"$f":"IFERROR($E344*SUMIF('Daily Log'!$K$18:$K$1017,$B344,'Daily Log'!$L$18:$L$1017),0)","v":0},{"$f":"IFERROR($E344*SUMIF('Daily Log'!$N$18:$N$1017,$B344,'Daily Log'!$O$18:$O$1017),0)","v":0},{"$f":"IFERROR($E344*SUMIF('Daily Log'!$Q$18:$Q$1017,$B344,'Daily Log'!$R$18:$R$1017),0)","v":0},{"$f":"IFERROR($E344*SUMIF('Daily Log'!$T$18:$T$1017,$B344,'Daily Log'!$U$18:$U$1017),0)","v":0},{"$f":"IFERROR($E344*SUMIF('Daily Log'!$W$18:$W$1017,$B344,'Daily Log'!$X$18:$X$1017),0)","v":0},{"$f":"IFERROR($E344*SUMIF('Daily Log'!$Z$18:$Z$1017,$B344,'Daily Log'!$AA$18:$AA$1017),0)","v":0},{"$f":"IFERROR($E344*SUMIF('Daily Log'!$AC$18:$AC$1017,$B344,'Daily Log'!$AD$18:$AD$1017),0)","v":0},{"$f":"IFERROR($E344*SUMIF('Daily Log'!$AF$18:$AF$1017,$B344,'Daily Log'!$AG$18:$AG$1017),0)","v":0},{"$f":"IFERROR($E344*SUMIF('Daily Log'!$AI$18:$AI$1017,$B344,'Daily Log'!$AJ$18:$AJ$1017),0)","v":0},{"$f":"IFERROR($E344*SUMIF('Daily Log'!$AL$18:$AL$1017,$B344,'Daily Log'!$AM$18:$AM$1017),0)","v":0},{"$f":"IFERROR($E344*SUMIF('Daily Log'!$AO$18:$AO$1017,$B344,'Daily Log'!$AP$18:$AP$1017),0)","v":0},{"$f":"IFERROR($E344*SUMIF('Daily Log'!$AR$18:$AR$1017,$B344,'Daily Log'!$AS$18:$AS$1017),0)","v":0},{"$f":"IFERROR($E344*SUMIF('Daily Log'!$AU$18:$AU$1017,$B344,'Daily Log'!$AV$18:$AV$1017),0)","v":0},{"$f":"IFERROR($E344*SUMIF('Daily Log'!$AX$18:$AX$1017,$B344,'Daily Log'!$AY$18:$AY$1017),0)","v":0},{"$f":"IFERROR($E344*SUMIF('Daily Log'!$BA$18:$BA$1017,$B344,'Daily Log'!$BB$18:$BB$1017),0)","v":0},{"$f":"IFERROR($E344*SUMIF('Daily Log'!$BD$18:$BD$1017,$B344,'Daily Log'!$BE$18:$BE$1017),0)","v":0},{"$f":"IFERROR($E344*SUMIF('Daily Log'!$BG$18:$BG$1017,$B344,'Daily Log'!$BH$18:$BH$1017),0)","v":0},{"$f":"IFERROR($E344*SUMIF('Daily Log'!$BJ$18:$BJ$1017,$B344,'Daily Log'!$BK$18:$BK$1017),0)","v":0},{"$f":"IFERROR($E344*SUMIF('Daily Log'!$BM$18:$BM$1017,$B344,'Daily Log'!$BN$18:$BN$1017),0)","v":0},{"$f":"IFERROR($E344*SUMIF('Daily Log'!$BP$18:$BP$1017,$B344,'Daily Log'!$BQ$18:$BQ$1017),0)","v":0},{"$f":"IFERROR($E344*SUMIF('Daily Log'!$BS$18:$BS$1017,$B344,'Daily Log'!$BT$18:$BT$1017),0)","v":0},{"$f":"IFERROR($E344*SUMIF('Daily Log'!$BV$18:$BV$1017,$B344,'Daily Log'!$BW$18:$BW$1017),0)","v":0},{"$f":"IFERROR($E344*SUMIF('Daily Log'!$BY$18:$BY$1017,$B344,'Daily Log'!$BZ$18:$BZ$1017),0)","v":0},{"$f":"IFERROR($E344*SUMIF('Daily Log'!$CB$18:$CB$1017,$B344,'Daily Log'!$CC$18:$CC$1017),0)","v":0},{"$f":"IFERROR($E344*SUMIF('Daily Log'!$CE$18:$CE$1017,$B344,'Daily Log'!$CF$18:$CF$1017),0)","v":0},{"$f":"IFERROR($E344*SUMIF('Daily Log'!$CH$18:$CH$1017,$B344,'Daily Log'!$CI$18:$CI$1017),0)","v":0},{"$f":"IFERROR($E344*SUMIF('Daily Log'!$CK$18:$CK$1017,$B344,'Daily Log'!$CL$18:$CL$1017),0)","v":0},{"$f":"IFERROR($E344*SUMIF('Daily Log'!$CN$18:$CN$1017,$B344,'Daily Log'!$CO$18:$CO$1017),0)","v":0}]
[null,null,null,null,null,0,{"$f":"IFERROR($E345*SUMIF('Daily Log'!$B$18:$B$1017,$B345,'Daily Log'!$C$18:$C$1017),0)","v":0},{"$f":"IFERROR($E345*SUMIF('Daily Log'!$E$18:$E$1017,$B345,'Daily Log'!$F$18:$F$1017),0)","v":0},{"$f":"IFERROR($E345*SUMIF('Daily Log'!$H$18:$H$1017,$B345,'Daily Log'!$I$18:$I$1017),0)","v":0},{"$f":"IFERROR($E345*SUMIF('Daily Log'!$K$18:$K$1017,$B345,'Daily Log'!$L$18:$L$1017),0)","v":0},{"$f":"IFERROR($E345*SUMIF('Daily Log'!$N$18:$N$1017,$B345,'Daily Log'!$O$18:$O$1017),0)","v":0},{"$f":"IFERROR($E345*SUMIF('Daily Log'!$Q$18:$Q$1017,$B345,'Daily Log'!$R$18:$R$1017),0)","v":0},{"$f":"IFERROR($E345*SUMIF('Daily Log'!$T$18:$T$1017,$B345,'Daily Log'!$U$18:$U$1017),0)","v":0},{"$f":"IFERROR($E345*SUMIF('Daily Log'!$W$18:$W$1017,$B345,'Daily Log'!$X$18:$X$1017),0)","v":0},{"$f":"IFERROR($E345*SUMIF('Daily Log'!$Z$18:$Z$1017,$B345,'Daily Log'!$AA$18:$AA$1017),0)","v":0},{"$f":"IFERROR($E345*SUMIF('Daily Log'!$AC$18:$AC$1017,$B345,'Daily Log'!$AD$18:$AD$1017),0)","v":0},{"$f":"IFERROR($E345*SUMIF('Daily Log'!$AF$18:$AF$1017,$B345,'Daily Log'!$AG$18:$AG$1017),0)","v":0},{"$f":"IFERROR($E345*SUMIF('Daily Log'!$AI$18:$AI$1017,$B345,'Daily Log'!$AJ$18:$AJ$1017),0)","v":0},{"$f":"IFERROR($E345*SUMIF('Daily Log'!$AL$18:$AL$1017,$B345,'Daily Log'!$AM$18:$AM$1017),0)","v":0},{"$f":"IFERROR($E345*SUMIF('Daily Log'!$AO$18:$AO$1017,$B345,'Daily Log'!$AP$18:$AP$1017),0)","v":0},{"$f":"IFERROR($E345*SUMIF('Daily Log'!$AR$18:$AR$1017,$B345,'Daily Log'!$AS$18:$AS$1017),0)","v":0},{"$f":"IFERROR($E345*SUMIF('Daily Log'!$AU$18:$AU$1017,$B345,'Daily Log'!$AV$18:$AV$1017),0)","v":0},{"$f":"IFERROR($E345*SUMIF('Daily Log'!$AX$18:$AX$1017,$B345,'Daily Log'!$AY$18:$AY$1017),0)","v":0},{"$f":"IFERROR($E345*SUMIF('Daily Log'!$BA$18:$BA$1017,$B345,'Daily Log'!$BB$18:$BB$1017),0)","v":0},{"$f":"IFERROR($E345*SUMIF('Daily Log'!$BD$18:$BD$1017,$B345,'Daily Log'!$BE$18:$BE$1017),0)","v":0},{"$f":"IFERROR($E345*SUMIF('Daily Log'!$BG$18:$BG$1017,$B345,'Daily Log'!$BH$18:$BH$1017),0)","v":0},{"$f":"IFERROR($E345*SUMIF('Daily Log'!$BJ$18:$BJ$1017,$B345,'Daily Log'!$BK$18:$BK$1017),0)","v":0},{"$f":"IFERROR($E345*SUMIF('Daily Log'!$BM$18:$BM$1017,$B345,'Daily Log'!$BN$18:$BN$1017),0)","v":0},{"$f":"IFERROR($E345*SUMIF('Daily Log'!$BP$18:$BP$1017,$B345,'Daily Log'!$BQ$18:$BQ$1017),0)","v":0},{"$f":"IFERROR($E345*SUMIF('Daily Log'!$BS$18:$BS$1017,$B345,'Daily Log'!$BT$18:$BT$1017),0)","v":0},{"$f":"IFERROR($E345*SUMIF('Daily Log'!$BV$18:$BV$1017,$B345,'Daily Log'!$BW$18:$BW$1017),0)","v":0},{"$f":"IFERROR($E345*SUMIF('Daily Log'!$BY$18:$BY$1017,$B345,'Daily Log'!$BZ$18:$BZ$1017),0)","v":0},{"$f":"IFERROR($E345*SUMIF('Daily Log'!$CB$18:$CB$1017,$B345,'Daily Log'!$CC$18:$CC$1017),0)","v":0},{"$f":"IFERROR($E345*SUMIF('Daily Log'!$CE$18:$CE$1017,$B345,'Daily Log'!$CF$18:$CF$1017),0)","v":0},{"$f":"IFERROR($E345*SUMIF('Daily Log'!$CH$18:$CH$1017,$B345,'Daily Log'!$CI$18:$CI$1017),0)","v":0},{"$f":"IFERROR($E345*SUMIF('Daily Log'!$CK$18:$CK$1017,$B345,'Daily Log'!$CL$18:$CL$1017),0)","v":0},{"$f":"IFERROR($E345*SUMIF('Daily Log'!$CN$18:$CN$1017,$B345,'Daily Log'!$CO$18:$CO$1017),0)","v":0}]
[null,null,null,null,null,0,{"$f":"IFERROR($E346*SUMIF('Daily Log'!$B$18:$B$1017,$B346,'Daily Log'!$C$18:$C$1017),0)","v":0},{"$f":"IFERROR($E346*SUMIF('Daily Log'!$E$18:$E$1017,$B346,'Daily Log'!$F$18:$F$1017),0)","v":0},{"$f":"IFERROR($E346*SUMIF('Daily Log'!$H$18:$H$1017,$B346,'Daily Log'!$I$18:$I$1017),0)","v":0},{"$f":"IFERROR($E346*SUMIF('Daily Log'!$K$18:$K$1017,$B346,'Daily Log'!$L$18:$L$1017),0)","v":0},{"$f":"IFERROR($E346*SUMIF('Daily Log'!$N$18:$N$1017,$B346,'Daily Log'!$O$18:$O$1017),0)","v":0},{"$f":"IFERROR($E346*SUMIF('Daily Log'!$Q$18:$Q$1017,$B346,'Daily Log'!$R$18:$R$1017),0)","v":0},{"$f":"IFERROR($E346*SUMIF('Daily Log'!$T$18:$T$1017,$B346,'Daily Log'!$U$18:$U$1017),0)","v":0},{"$f":"IFERROR($E346*SUMIF('Daily Log'!$W$18:$W$1017,$B346,'Daily Log'!$X$18:$X$1017),0)","v":0},{"$f":"IFERROR($E346*SUMIF('Daily Log'!$Z$18:$Z$1017,$B346,'Daily Log'!$AA$18:$AA$1017),0)","v":0},{"$f":"IFERROR($E346*SUMIF('Daily Log'!$AC$18:$AC$1017,$B346,'Daily Log'!$AD$18:$AD$1017),0)","v":0},{"$f":"IFERROR($E346*SUMIF('Daily Log'!$AF$18:$AF$1017,$B346,'Daily Log'!$AG$18:$AG$1017),0)","v":0},{"$f":"IFERROR($E346*SUMIF('Daily Log'!$AI$18:$AI$1017,$B346,'Daily Log'!$AJ$18:$AJ$1017),0)","v":0},{"$f":"IFERROR($E346*SUMIF('Daily Log'!$AL$18:$AL$1017,$B346,'Daily Log'!$AM$18:$AM$1017),0)","v":0},{"$f":"IFERROR($E346*SUMIF('Daily Log'!$AO$18:$AO$1017,$B346,'Daily Log'!$AP$18:$AP$1017),0)","v":0},{"$f":"IFERROR($E346*SUMIF('Daily Log'!$AR$18:$AR$1017,$B346,'Daily Log'!$AS$18:$AS$1017),0)","v":0},{"$f":"IFERROR($E346*SUMIF('Daily Log'!$AU$18:$AU$1017,$B346,'Daily Log'!$AV$18:$AV$1017),0)","v":0},{"$f":"IFERROR($E346*SUMIF('Daily Log'!$AX$18:$AX$1017,$B346,'Daily Log'!$AY$18:$AY$1017),0)","v":0},{"$f":"IFERROR($E346*SUMIF('Daily Log'!$BA$18:$BA$1017,$B346,'Daily Log'!$BB$18:$BB$1017),0)","v":0},{"$f":"IFERROR($E346*SUMIF('Daily Log'!$BD$18:$BD$1017,$B346,'Daily Log'!$BE$18:$BE$1017),0)","v":0},{"$f":"IFERROR($E346*SUMIF('Daily Log'!$BG$18:$BG$1017,$B346,'Daily Log'!$BH$18:$BH$1017),0)","v":0},{"$f":"IFERROR($E346*SUMIF('Daily Log'!$BJ$18:$BJ$1017,$B346,'Daily Log'!$BK$18:$BK$1017),0)","v":0},{"$f":"IFERROR($E346*SUMIF('Daily Log'!$BM$18:$BM$1017,$B346,'Daily Log'!$BN$18:$BN$1017),0)","v":0},{"$f":"IFERROR($E346*SUMIF('Daily Log'!$BP$18:$BP$1017,$B346,'Daily Log'!$BQ$18:$BQ$1017),0)","v":0},{"$f":"IFERROR($E346*SUMIF('Daily Log'!$BS$18:$BS$1017,$B346,'Daily Log'!$BT$18:$BT$1017),0)","v":0},{"$f":"IFERROR($E346*SUMIF('Daily Log'!$BV$18:$BV$1017,$B346,'Daily Log'!$BW$18:$BW$1017),0)","v":0},{"$f":"IFERROR($E346*SUMIF('Daily Log'!$BY$18:$BY$1017,$B346,'Daily Log'!$BZ$18:$BZ$1017),0)","v":0},{"$f":"IFERROR($E346*SUMIF('Daily Log'!$CB$18:$CB$1017,$B346,'Daily Log'!$CC$18:$CC$1017),0)","v":0},{"$f":"IFERROR($E346*SUMIF('Daily Log'!$CE$18:$CE$1017,$B346,'Daily Log'!$CF$18:$CF$1017),0)","v":0},{"$f":"IFERROR($E346*SUMIF('Daily Log'!$CH$18:$CH$1017,$B346,'Daily Log'!$CI$18:$CI$1017),0)","v":0},{"$f":"IFERROR($E346*SUMIF('Daily Log'!$CK$18:$CK$1017,$B346,'Daily Log'!$CL$18:$CL$1017),0)","v":0},{"$f":"IFERROR($E346*SUMIF('Daily Log'!$CN$18:$CN$1017,$B346,'Daily Log'!$CO$18:$CO$1017),0)","v":0}]
[null,null,null,null,null,0,{"$f":"IFERROR($E347*SUMIF('Daily Log'!$B$18:$B$1017,$B347,'Daily Log'!$C$18:$C$1017),0)","v":0},{"$f":"IFERROR($E347*SUMIF('Daily Log'!$E$18:$E$1017,$B347,'Daily Log'!$F$18:$F$1017),0)","v":0},{"$f":"IFERROR($E347*SUMIF('Daily Log'!$H$18:$H$1017,$B347,'Daily Log'!$I$18:$I$1017),0)","v":0},{"$f":"IFERROR($E347*SUMIF('Daily Log'!$K$18:$K$1017,$B347,'Daily Log'!$L$18:$L$1017),0)","v":0},{"$f":"IFERROR($E347*SUMIF('Daily Log'!$N$18:$N$1017,$B347,'Daily Log'!$O$18:$O$1017),0)","v":0},{"$f":"IFERROR($E347*SUMIF('Daily Log'!$Q$18:$Q$1017,$B347,'Daily Log'!$R$18:$R$1017),0)","v":0},{"$f":"IFERROR($E347*SUMIF('Daily Log'!$T$18:$T$1017,$B347,'Daily Log'!$U$18:$U$1017),0)","v":0},{"$f":"IFERROR($E347*SUMIF('Daily Log'!$W$18:$W$1017,$B347,'Daily Log'!$X$18:$X$1017),0)","v":0},{"$f":"IFERROR($E347*SUMIF('Daily Log'!$Z$18:$Z$1017,$B347,'Daily Log'!$AA$18:$AA$1017),0)","v":0},{"$f":"IFERROR($E347*SUMIF('Daily Log'!$AC$18:$AC$1017,$B347,'Daily Log'!$AD$18:$AD$1017),0)","v":0},{"$f":"IFERROR($E347*SUMIF('Daily Log'!$AF$18:$AF$1017,$B347,'Daily Log'!$AG$18:$AG$1017),0)","v":0},{"$f":"IFERROR($E347*SUMIF('Daily Log'!$AI$18:$AI$1017,$B347,'Daily Log'!$AJ$18:$AJ$1017),0)","v":0},{"$f":"IFERROR($E347*SUMIF('Daily Log'!$AL$18:$AL$1017,$B347,'Daily Log'!$AM$18:$AM$1017),0)","v":0},{"$f":"IFERROR($E347*SUMIF('Daily Log'!$AO$18:$AO$1017,$B347,'Daily Log'!$AP$18:$AP$1017),0)","v":0},{"$f":"IFERROR($E347*SUMIF('Daily Log'!$AR$18:$AR$1017,$B347,'Daily Log'!$AS$18:$AS$1017),0)","v":0},{"$f":"IFERROR($E347*SUMIF('Daily Log'!$AU$18:$AU$1017,$B347,'Daily Log'!$AV$18:$AV$1017),0)","v":0},{"$f":"IFERROR($E347*SUMIF('Daily Log'!$AX$18:$AX$1017,$B347,'Daily Log'!$AY$18:$AY$1017),0)","v":0},{"$f":"IFERROR($E347*SUMIF('Daily Log'!$BA$18:$BA$1017,$B347,'Daily Log'!$BB$18:$BB$1017),0)","v":0},{"$f":"IFERROR($E347*SUMIF('Daily Log'!$BD$18:$BD$1017,$B347,'Daily Log'!$BE$18:$BE$1017),0)","v":0},{"$f":"IFERROR($E347*SUMIF('Daily Log'!$BG$18:$BG$1017,$B347,'Daily Log'!$BH$18:$BH$1017),0)","v":0},{"$f":"IFERROR($E347*SUMIF('Daily Log'!$BJ$18:$BJ$1017,$B347,'Daily Log'!$BK$18:$BK$1017),0)","v":0},{"$f":"IFERROR($E347*SUMIF('Daily Log'!$BM$18:$BM$1017,$B347,'Daily Log'!$BN$18:$BN$1017),0)","v":0},{"$f":"IFERROR($E347*SUMIF('Daily Log'!$BP$18:$BP$1017,$B347,'Daily Log'!$BQ$18:$BQ$1017),0)","v":0},{"$f":"IFERROR($E347*SUMIF('Daily Log'!$BS$18:$BS$1017,$B347,'Daily Log'!$BT$18:$BT$1017),0)","v":0},{"$f":"IFERROR($E347*SUMIF('Daily Log'!$BV$18:$BV$1017,$B347,'Daily Log'!$BW$18:$BW$1017),0)","v":0},{"$f":"IFERROR($E347*SUMIF('Daily Log'!$BY$18:$BY$1017,$B347,'Daily Log'!$BZ$18:$BZ$1017),0)","v":0},{"$f":"IFERROR($E347*SUMIF('Daily Log'!$CB$18:$CB$1017,$B347,'Daily Log'!$CC$18:$CC$1017),0)","v":0},{"$f":"IFERROR($E347*SUMIF('Daily Log'!$CE$18:$CE$1017,$B347,'Daily Log'!$CF$18:$CF$1017),0)","v":0},{"$f":"IFERROR($E347*SUMIF('Daily Log'!$CH$18:$CH$1017,$B347,'Daily Log'!$CI$18:$CI$1017),0)","v":0},{"$f":"IFERROR($E347*SUMIF('Daily Log'!$CK$18:$CK$1017,$B347,'Daily Log'!$CL$18:$CL$1017),0)","v":0},{"$f":"IFERROR($E347*SUMIF('Daily Log'!$CN$18:$CN$1017,$B347,'Daily Log'!$CO$18:$CO$1017),0)","v":0}]
[null,null,null,null,null,0,{"$f":"IFERROR($E348*SUMIF('Daily Log'!$B$18:$B$1017,$B348,'Daily Log'!$C$18:$C$1017),0)","v":0},{"$f":"IFERROR($E348*SUMIF('Daily Log'!$E$18:$E$1017,$B348,'Daily Log'!$F$18:$F$1017),0)","v":0},{"$f":"IFERROR($E348*SUMIF('Daily Log'!$H$18:$H$1017,$B348,'Daily Log'!$I$18:$I$1017),0)","v":0},{"$f":"IFERROR($E348*SUMIF('Daily Log'!$K$18:$K$1017,$B348,'Daily Log'!$L$18:$L$1017),0)","v":0},{"$f":"IFERROR($E348*SUMIF('Daily Log'!$N$18:$N$1017,$B348,'Daily Log'!$O$18:$O$1017),0)","v":0},{"$f":"IFERROR($E348*SUMIF('Daily Log'!$Q$18:$Q$1017,$B348,'Daily Log'!$R$18:$R$1017),0)","v":0},{"$f":"IFERROR($E348*SUMIF('Daily Log'!$T$18:$T$1017,$B348,'Daily Log'!$U$18:$U$1017),0)","v":0},{"$f":"IFERROR($E348*SUMIF('Daily Log'!$W$18:$W$1017,$B348,'Daily Log'!$X$18:$X$1017),0)","v":0},{"$f":"IFERROR($E348*SUMIF('Daily Log'!$Z$18:$Z$1017,$B348,'Daily Log'!$AA$18:$AA$1017),0)","v":0},{"$f":"IFERROR($E348*SUMIF('Daily Log'!$AC$18:$AC$1017,$B348,'Daily Log'!$AD$18:$AD$1017),0)","v":0},{"$f":"IFERROR($E348*SUMIF('Daily Log'!$AF$18:$AF$1017,$B348,'Daily Log'!$AG$18:$AG$1017),0)","v":0},{"$f":"IFERROR($E348*SUMIF('Daily Log'!$AI$18:$AI$1017,$B348,'Daily Log'!$AJ$18:$AJ$1017),0)","v":0},{"$f":"IFERROR($E348*SUMIF('Daily Log'!$AL$18:$AL$1017,$B348,'Daily Log'!$AM$18:$AM$1017),0)","v":0},{"$f":"IFERROR($E348*SUMIF('Daily Log'!$AO$18:$AO$1017,$B348,'Daily Log'!$AP$18:$AP$1017),0)","v":0},{"$f":"IFERROR($E348*SUMIF('Daily Log'!$AR$18:$AR$1017,$B348,'Daily Log'!$AS$18:$AS$1017),0)","v":0},{"$f":"IFERROR($E348*SUMIF('Daily Log'!$AU$18:$AU$1017,$B348,'Daily Log'!$AV$18:$AV$1017),0)","v":0},{"$f":"IFERROR($E348*SUMIF('Daily Log'!$AX$18:$AX$1017,$B348,'Daily Log'!$AY$18:$AY$1017),0)","v":0},{"$f":"IFERROR($E348*SUMIF('Daily Log'!$BA$18:$BA$1017,$B348,'Daily Log'!$BB$18:$BB$1017),0)","v":0},{"$f":"IFERROR($E348*SUMIF('Daily Log'!$BD$18:$BD$1017,$B348,'Daily Log'!$BE$18:$BE$1017),0)","v":0},{"$f":"IFERROR($E348*SUMIF('Daily Log'!$BG$18:$BG$1017,$B348,'Daily Log'!$BH$18:$BH$1017),0)","v":0},{"$f":"IFERROR($E348*SUMIF('Daily Log'!$BJ$18:$BJ$1017,$B348,'Daily Log'!$BK$18:$BK$1017),0)","v":0},{"$f":"IFERROR($E348*SUMIF('Daily Log'!$BM$18:$BM$1017,$B348,'Daily Log'!$BN$18:$BN$1017),0)","v":0},{"$f":"IFERROR($E348*SUMIF('Daily Log'!$BP$18:$BP$1017,$B348,'Daily Log'!$BQ$18:$BQ$1017),0)","v":0},{"$f":"IFERROR($E348*SUMIF('Daily Log'!$BS$18:$BS$1017,$B348,'Daily Log'!$BT$18:$BT$1017),0)","v":0},{"$f":"IFERROR($E348*SUMIF('Daily Log'!$BV$18:$BV$1017,$B348,'Daily Log'!$BW$18:$BW$1017),0)","v":0},{"$f":"IFERROR($E348*SUMIF('Daily Log'!$BY$18:$BY$1017,$B348,'Daily Log'!$BZ$18:$BZ$1017),0)","v":0},{"$f":"IFERROR($E348*SUMIF('Daily Log'!$CB$18:$CB$1017,$B348,'Daily Log'!$CC$18:$CC$1017),0)","v":0},{"$f":"IFERROR($E348*SUMIF('Daily Log'!$CE$18:$CE$1017,$B348,'Daily Log'!$CF$18:$CF$1017),0)","v":0},{"$f":"IFERROR($E348*SUMIF('Daily Log'!$CH$18:$CH$1017,$B348,'Daily Log'!$CI$18:$CI$1017),0)","v":0},{"$f":"IFERROR($E348*SUMIF('Daily Log'!$CK$18:$CK$1017,$B348,'Daily Log'!$CL$18:$CL$1017),0)","v":0},{"$f":"IFERROR($E348*SUMIF('Daily Log'!$CN$18:$CN$1017,$B348,'Daily Log'!$CO$18:$CO$1017),0)","v":0}]
[null,null,null,null,null,0,{"$f":"IFERROR($E349*SUMIF('Daily Log'!$B$18:$B$1017,$B349,'Daily Log'!$C$18:$C$1017),0)","v":0},{"$f":"IFERROR($E349*SUMIF('Daily Log'!$E$18:$E$1017,$B349,'Daily Log'!$F$18:$F$1017),0)","v":0},{"$f":"IFERROR($E349*SUMIF('Daily Log'!$H$18:$H$1017,$B349,'Daily Log'!$I$18:$I$1017),0)","v":0},{"$f":"IFERROR($E349*SUMIF('Daily Log'!$K$18:$K$1017,$B349,'Daily Log'!$L$18:$L$1017),0)","v":0},{"$f":"IFERROR($E349*SUMIF('Daily Log'!$N$18:$N$1017,$B349,'Daily Log'!$O$18:$O$1017),0)","v":0},{"$f":"IFERROR($E349*SUMIF('Daily Log'!$Q$18:$Q$1017,$B349,'Daily Log'!$R$18:$R$1017),0)","v":0},{"$f":"IFERROR($E349*SUMIF('Daily Log'!$T$18:$T$1017,$B349,'Daily Log'!$U$18:$U$1017),0)","v":0},{"$f":"IFERROR($E349*SUMIF('Daily Log'!$W$18:$W$1017,$B349,'Daily Log'!$X$18:$X$1017),0)","v":0},{"$f":"IFERROR($E349*SUMIF('Daily Log'!$Z$18:$Z$1017,$B349,'Daily Log'!$AA$18:$AA$1017),0)","v":0},{"$f":"IFERROR($E349*SUMIF('Daily Log'!$AC$18:$AC$1017,$B349,'Daily Log'!$AD$18:$AD$1017),0)","v":0},{"$f":"IFERROR($E349*SUMIF('Daily Log'!$AF$18:$AF$1017,$B349,'Daily Log'!$AG$18:$AG$1017),0)","v":0},{"$f":"IFERROR($E349*SUMIF('Daily Log'!$AI$18:$AI$1017,$B349,'Daily Log'!$AJ$18:$AJ$1017),0)","v":0},{"$f":"IFERROR($E349*SUMIF('Daily Log'!$AL$18:$AL$1017,$B349,'Daily Log'!$AM$18:$AM$1017),0)","v":0},{"$f":"IFERROR($E349*SUMIF('Daily Log'!$AO$18:$AO$1017,$B349,'Daily Log'!$AP$18:$AP$1017),0)","v":0},{"$f":"IFERROR($E349*SUMIF('Daily Log'!$AR$18:$AR$1017,$B349,'Daily Log'!$AS$18:$AS$1017),0)","v":0},{"$f":"IFERROR($E349*SUMIF('Daily Log'!$AU$18:$AU$1017,$B349,'Daily Log'!$AV$18:$AV$1017),0)","v":0},{"$f":"IFERROR($E349*SUMIF('Daily Log'!$AX$18:$AX$1017,$B349,'Daily Log'!$AY$18:$AY$1017),0)","v":0},{"$f":"IFERROR($E349*SUMIF('Daily Log'!$BA$18:$BA$1017,$B349,'Daily Log'!$BB$18:$BB$1017),0)","v":0},{"$f":"IFERROR($E349*SUMIF('Daily Log'!$BD$18:$BD$1017,$B349,'Daily Log'!$BE$18:$BE$1017),0)","v":0},{"$f":"IFERROR($E349*SUMIF('Daily Log'!$BG$18:$BG$1017,$B349,'Daily Log'!$BH$18:$BH$1017),0)","v":0},{"$f":"IFERROR($E349*SUMIF('Daily Log'!$BJ$18:$BJ$1017,$B349,'Daily Log'!$BK$18:$BK$1017),0)","v":0},{"$f":"IFERROR($E349*SUMIF('Daily Log'!$BM$18:$BM$1017,$B349,'Daily Log'!$BN$18:$BN$1017),0)","v":0},{"$f":"IFERROR($E349*SUMIF('Daily Log'!$BP$18:$BP$1017,$B349,'Daily Log'!$BQ$18:$BQ$1017),0)","v":0},{"$f":"IFERROR($E349*SUMIF('Daily Log'!$BS$18:$BS$1017,$B349,'Daily Log'!$BT$18:$BT$1017),0)","v":0},{"$f":"IFERROR($E349*SUMIF('Daily Log'!$BV$18:$BV$1017,$B349,'Daily Log'!$BW$18:$BW$1017),0)","v":0},{"$f":"IFERROR($E349*SUMIF('Daily Log'!$BY$18:$BY$1017,$B349,'Daily Log'!$BZ$18:$BZ$1017),0)","v":0},{"$f":"IFERROR($E349*SUMIF('Daily Log'!$CB$18:$CB$1017,$B349,'Daily Log'!$CC$18:$CC$1017),0)","v":0},{"$f":"IFERROR($E349*SUMIF('Daily Log'!$CE$18:$CE$1017,$B349,'Daily Log'!$CF$18:$CF$1017),0)","v":0},{"$f":"IFERROR($E349*SUMIF('Daily Log'!$CH$18:$CH$1017,$B349,'Daily Log'!$CI$18:$CI$1017),0)","v":0},{"$f":"IFERROR($E349*SUMIF('Daily Log'!$CK$18:$CK$1017,$B349,'Daily Log'!$CL$18:$CL$1017),0)","v":0},{"$f":"IFERROR($E349*SUMIF('Daily Log'!$CN$18:$CN$1017,$B349,'Daily Log'!$CO$18:$CO$1017),0)","v":0}]
[null,null,null,null,null,0,{"$f":"IFERROR($E350*SUMIF('Daily Log'!$B$18:$B$1017,$B350,'Daily Log'!$C$18:$C$1017),0)","v":0},{"$f":"IFERROR($E350*SUMIF('Daily Log'!$E$18:$E$1017,$B350,'Daily Log'!$F$18:$F$1017),0)","v":0},{"$f":"IFERROR($E350*SUMIF('Daily Log'!$H$18:$H$1017,$B350,'Daily Log'!$I$18:$I$1017),0)","v":0},{"$f":"IFERROR($E350*SUMIF('Daily Log'!$K$18:$K$1017,$B350,'Daily Log'!$L$18:$L$1017),0)","v":0},{"$f":"IFERROR($E350*SUMIF('Daily Log'!$N$18:$N$1017,$B350,'Daily Log'!$O$18:$O$1017),0)","v":0},{"$f":"IFERROR($E350*SUMIF('Daily Log'!$Q$18:$Q$1017,$B350,'Daily Log'!$R$18:$R$1017),0)","v":0},{"$f":"IFERROR($E350*SUMIF('Daily Log'!$T$18:$T$1017,$B350,'Daily Log'!$U$18:$U$1017),0)","v":0},{"$f":"IFERROR($E350*SUMIF('Daily Log'!$W$18:$W$1017,$B350,'Daily Log'!$X$18:$X$1017),0)","v":0},{"$f":"IFERROR($E350*SUMIF('Daily Log'!$Z$18:$Z$1017,$B350,'Daily Log'!$AA$18:$AA$1017),0)","v":0},{"$f":"IFERROR($E350*SUMIF('Daily Log'!$AC$18:$AC$1017,$B350,'Daily Log'!$AD$18:$AD$1017),0)","v":0},{"$f":"IFERROR($E350*SUMIF('Daily Log'!$AF$18:$AF$1017,$B350,'Daily Log'!$AG$18:$AG$1017),0)","v":0},{"$f":"IFERROR($E350*SUMIF('Daily Log'!$AI$18:$AI$1017,$B350,'Daily Log'!$AJ$18:$AJ$1017),0)","v":0},{"$f":"IFERROR($E350*SUMIF('Daily Log'!$AL$18:$AL$1017,$B350,'Daily Log'!$AM$18:$AM$1017),0)","v":0},{"$f":"IFERROR($E350*SUMIF('Daily Log'!$AO$18:$AO$1017,$B350,'Daily Log'!$AP$18:$AP$1017),0)","v":0},{"$f":"IFERROR($E350*SUMIF('Daily Log'!$AR$18:$AR$1017,$B350,'Daily Log'!$AS$18:$AS$1017),0)","v":0},{"$f":"IFERROR($E350*SUMIF('Daily Log'!$AU$18:$AU$1017,$B350,'Daily Log'!$AV$18:$AV$1017),0)","v":0},{"$f":"IFERROR($E350*SUMIF('Daily Log'!$AX$18:$AX$1017,$B350,'Daily Log'!$AY$18:$AY$1017),0)","v":0},{"$f":"IFERROR($E350*SUMIF('Daily Log'!$BA$18:$BA$1017,$B350,'Daily Log'!$BB$18:$BB$1017),0)","v":0},{"$f":"IFERROR($E350*SUMIF('Daily Log'!$BD$18:$BD$1017,$B350,'Daily Log'!$BE$18:$BE$1017),0)","v":0},{"$f":"IFERROR($E350*SUMIF('Daily Log'!$BG$18:$BG$1017,$B350,'Daily Log'!$BH$18:$BH$1017),0)","v":0},{"$f":"IFERROR($E350*SUMIF('Daily Log'!$BJ$18:$BJ$1017,$B350,'Daily Log'!$BK$18:$BK$1017),0)","v":0},{"$f":"IFERROR($E350*SUMIF('Daily Log'!$BM$18:$BM$1017,$B350,'Daily Log'!$BN$18:$BN$1017),0)","v":0},{"$f":"IFERROR($E350*SUMIF('Daily Log'!$BP$18:$BP$1017,$B350,'Daily Log'!$BQ$18:$BQ$1017),0)","v":0},{"$f":"IFERROR($E350*SUMIF('Daily Log'!$BS$18:$BS$1017,$B350,'Daily Log'!$BT$18:$BT$1017),0)","v":0},{"$f":"IFERROR($E350*SUMIF('Daily Log'!$BV$18:$BV$1017,$B350,'Daily Log'!$BW$18:$BW$1017),0)","v":0},{"$f":"IFERROR($E350*SUMIF('Daily Log'!$BY$18:$BY$1017,$B350,'Daily Log'!$BZ$18:$BZ$1017),0)","v":0},{"$f":"IFERROR($E350*SUMIF('Daily Log'!$CB$18:$CB$1017,$B350,'Daily Log'!$CC$18:$CC$1017),0)","v":0},{"$f":"IFERROR($E350*SUMIF('Daily Log'!$CE$18:$CE$1017,$B350,'Daily Log'!$CF$18:$CF$1017),0)","v":0},{"$f":"IFERROR($E350*SUMIF('Daily Log'!$CH$18:$CH$1017,$B350,'Daily Log'!$CI$18:$CI$1017),0)","v":0},{"$f":"IFERROR($E350*SUMIF('Daily Log'!$CK$18:$CK$1017,$B350,'Daily Log'!$CL$18:$CL$1017),0)","v":0},{"$f":"IFERROR($E350*SUMIF('Daily Log'!$CN$18:$CN$1017,$B350,'Daily Log'!$CO$18:$CO$1017),0)","v":0}]
[null,null,null,null,null,0,{"$f":"IFERROR($E351*SUMIF('Daily Log'!$B$18:$B$1017,$B351,'Daily Log'!$C$18:$C$1017),0)","v":0},{"$f":"IFERROR($E351*SUMIF('Daily Log'!$E$18:$E$1017,$B351,'Daily Log'!$F$18:$F$1017),0)","v":0},{"$f":"IFERROR($E351*SUMIF('Daily Log'!$H$18:$H$1017,$B351,'Daily Log'!$I$18:$I$1017),0)","v":0},{"$f":"IFERROR($E351*SUMIF('Daily Log'!$K$18:$K$1017,$B351,'Daily Log'!$L$18:$L$1017),0)","v":0},{"$f":"IFERROR($E351*SUMIF('Daily Log'!$N$18:$N$1017,$B351,'Daily Log'!$O$18:$O$1017),0)","v":0},{"$f":"IFERROR($E351*SUMIF('Daily Log'!$Q$18:$Q$1017,$B351,'Daily Log'!$R$18:$R$1017),0)","v":0},{"$f":"IFERROR($E351*SUMIF('Daily Log'!$T$18:$T$1017,$B351,'Daily Log'!$U$18:$U$1017),0)","v":0},{"$f":"IFERROR($E351*SUMIF('Daily Log'!$W$18:$W$1017,$B351,'Daily Log'!$X$18:$X$1017),0)","v":0},{"$f":"IFERROR($E351*SUMIF('Daily Log'!$Z$18:$Z$1017,$B351,'Daily Log'!$AA$18:$AA$1017),0)","v":0},{"$f":"IFERROR($E351*SUMIF('Daily Log'!$AC$18:$AC$1017,$B351,'Daily Log'!$AD$18:$AD$1017),0)","v":0},{"$f":"IFERROR($E351*SUMIF('Daily Log'!$AF$18:$AF$1017,$B351,'Daily Log'!$AG$18:$AG$1017),0)","v":0},{"$f":"IFERROR($E351*SUMIF('Daily Log'!$AI$18:$AI$1017,$B351,'Daily Log'!$AJ$18:$AJ$1017),0)","v":0},{"$f":"IFERROR($E351*SUMIF('Daily Log'!$AL$18:$AL$1017,$B351,'Daily Log'!$AM$18:$AM$1017),0)","v":0},{"$f":"IFERROR($E351*SUMIF('Daily Log'!$AO$18:$AO$1017,$B351,'Daily Log'!$AP$18:$AP$1017),0)","v":0},{"$f":"IFERROR($E351*SUMIF('Daily Log'!$AR$18:$AR$1017,$B351,'Daily Log'!$AS$18:$AS$1017),0)","v":0},{"$f":"IFERROR($E351*SUMIF('Daily Log'!$AU$18:$AU$1017,$B351,'Daily Log'!$AV$18:$AV$1017),0)","v":0},{"$f":"IFERROR($E351*SUMIF('Daily Log'!$AX$18:$AX$1017,$B351,'Daily Log'!$AY$18:$AY$1017),0)","v":0},{"$f":"IFERROR($E351*SUMIF('Daily Log'!$BA$18:$BA$1017,$B351,'Daily Log'!$BB$18:$BB$1017),0)","v":0},{"$f":"IFERROR($E351*SUMIF('Daily Log'!$BD$18:$BD$1017,$B351,'Daily Log'!$BE$18:$BE$1017),0)","v":0},{"$f":"IFERROR($E351*SUMIF('Daily Log'!$BG$18:$BG$1017,$B351,'Daily Log'!$BH$18:$BH$1017),0)","v":0},{"$f":"IFERROR($E351*SUMIF('Daily Log'!$BJ$18:$BJ$1017,$B351,'Daily Log'!$BK$18:$BK$1017),0)","v":0},{"$f":"IFERROR($E351*SUMIF('Daily Log'!$BM$18:$BM$1017,$B351,'Daily Log'!$BN$18:$BN$1017),0)","v":0},{"$f":"IFERROR($E351*SUMIF('Daily Log'!$BP$18:$BP$1017,$B351,'Daily Log'!$BQ$18:$BQ$1017),0)","v":0},{"$f":"IFERROR($E351*SUMIF('Daily Log'!$BS$18:$BS$1017,$B351,'Daily Log'!$BT$18:$BT$1017),0)","v":0},{"$f":"IFERROR($E351*SUMIF('Daily Log'!$BV$18:$BV$1017,$B351,'Daily Log'!$BW$18:$BW$1017),0)","v":0},{"$f":"IFERROR($E351*SUMIF('Daily Log'!$BY$18:$BY$1017,$B351,'Daily Log'!$BZ$18:$BZ$1017),0)","v":0},{"$f":"IFERROR($E351*SUMIF('Daily Log'!$CB$18:$CB$1017,$B351,'Daily Log'!$CC$18:$CC$1017),0)","v":0},{"$f":"IFERROR($E351*SUMIF('Daily Log'!$CE$18:$CE$1017,$B351,'Daily Log'!$CF$18:$CF$1017),0)","v":0},{"$f":"IFERROR($E351*SUMIF('Daily Log'!$CH$18:$CH$1017,$B351,'Daily Log'!$CI$18:$CI$1017),0)","v":0},{"$f":"IFERROR($E351*SUMIF('Daily Log'!$CK$18:$CK$1017,$B351,'Daily Log'!$CL$18:$CL$1017),0)","v":0},{"$f":"IFERROR($E351*SUMIF('Daily Log'!$CN$18:$CN$1017,$B351,'Daily Log'!$CO$18:$CO$1017),0)","v":0}]
[null,null,null,null,null,0,{"$f":"IFERROR($E352*SUMIF('Daily Log'!$B$18:$B$1017,$B352,'Daily Log'!$C$18:$C$1017),0)","v":0},{"$f":"IFERROR($E352*SUMIF('Daily Log'!$E$18:$E$1017,$B352,'Daily Log'!$F$18:$F$1017),0)","v":0},{"$f":"IFERROR($E352*SUMIF('Daily Log'!$H$18:$H$1017,$B352,'Daily Log'!$I$18:$I$1017),0)","v":0},{"$f":"IFERROR($E352*SUMIF('Daily Log'!$K$18:$K$1017,$B352,'Daily Log'!$L$18:$L$1017),0)","v":0},{"$f":"IFERROR($E352*SUMIF('Daily Log'!$N$18:$N$1017,$B352,'Daily Log'!$O$18:$O$1017),0)","v":0},{"$f":"IFERROR($E352*SUMIF('Daily Log'!$Q$18:$Q$1017,$B352,'Daily Log'!$R$18:$R$1017),0)","v":0},{"$f":"IFERROR($E352*SUMIF('Daily Log'!$T$18:$T$1017,$B352,'Daily Log'!$U$18:$U$1017),0)","v":0},{"$f":"IFERROR($E352*SUMIF('Daily Log'!$W$18:$W$1017,$B352,'Daily Log'!$X$18:$X$1017),0)","v":0},{"$f":"IFERROR($E352*SUMIF('Daily Log'!$Z$18:$Z$1017,$B352,'Daily Log'!$AA$18:$AA$1017),0)","v":0},{"$f":"IFERROR($E352*SUMIF('Daily Log'!$AC$18:$AC$1017,$B352,'Daily Log'!$AD$18:$AD$1017),0)","v":0},{"$f":"IFERROR($E352*SUMIF('Daily Log'!$AF$18:$AF$1017,$B352,'Daily Log'!$AG$18:$AG$1017),0)","v":0},{"$f":"IFERROR($E352*SUMIF('Daily Log'!$AI$18:$AI$1017,$B352,'Daily Log'!$AJ$18:$AJ$1017),0)","v":0},{"$f":"IFERROR($E352*SUMIF('Daily Log'!$AL$18:$AL$1017,$B352,'Daily Log'!$AM$18:$AM$1017),0)","v":0},{"$f":"IFERROR($E352*SUMIF('Daily Log'!$AO$18:$AO$1017,$B352,'Daily Log'!$AP$18:$AP$1017),0)","v":0},{"$f":"IFERROR($E352*SUMIF('Daily Log'!$AR$18:$AR$1017,$B352,'Daily Log'!$AS$18:$AS$1017),0)","v":0},{"$f":"IFERROR($E352*SUMIF('Daily Log'!$AU$18:$AU$1017,$B352,'Daily Log'!$AV$18:$AV$1017),0)","v":0},{"$f":"IFERROR($E352*SUMIF('Daily Log'!$AX$18:$AX$1017,$B352,'Daily Log'!$AY$18:$AY$1017),0)","v":0},{"$f":"IFERROR($E352*SUMIF('Daily Log'!$BA$18:$BA$1017,$B352,'Daily Log'!$BB$18:$BB$1017),0)","v":0},{"$f":"IFERROR($E352*SUMIF('Daily Log'!$BD$18:$BD$1017,$B352,'Daily Log'!$BE$18:$BE$1017),0)","v":0},{"$f":"IFERROR($E352*SUMIF('Daily Log'!$BG$18:$BG$1017,$B352,'Daily Log'!$BH$18:$BH$1017),0)","v":0},{"$f":"IFERROR($E352*SUMIF('Daily Log'!$BJ$18:$BJ$1017,$B352,'Daily Log'!$BK$18:$BK$1017),0)","v":0},{"$f":"IFERROR($E352*SUMIF('Daily Log'!$BM$18:$BM$1017,$B352,'Daily Log'!$BN$18:$BN$1017),0)","v":0},{"$f":"IFERROR($E352*SUMIF('Daily Log'!$BP$18:$BP$1017,$B352,'Daily Log'!$BQ$18:$BQ$1017),0)","v":0},{"$f":"IFERROR($E352*SUMIF('Daily Log'!$BS$18:$BS$1017,$B352,'Daily Log'!$BT$18:$BT$1017),0)","v":0},{"$f":"IFERROR($E352*SUMIF('Daily Log'!$BV$18:$BV$1017,$B352,'Daily Log'!$BW$18:$BW$1017),0)","v":0},{"$f":"IFERROR($E352*SUMIF('Daily Log'!$BY$18:$BY$1017,$B352,'Daily Log'!$BZ$18:$BZ$1017),0)","v":0},{"$f":"IFERROR($E352*SUMIF('Daily Log'!$CB$18:$CB$1017,$B352,'Daily Log'!$CC$18:$CC$1017),0)","v":0},{"$f":"IFERROR($E352*SUMIF('Daily Log'!$CE$18:$CE$1017,$B352,'Daily Log'!$CF$18:$CF$1017),0)","v":0},{"$f":"IFERROR($E352*SUMIF('Daily Log'!$CH$18:$CH$1017,$B352,'Daily Log'!$CI$18:$CI$1017),0)","v":0},{"$f":"IFERROR($E352*SUMIF('Daily Log'!$CK$18:$CK$1017,$B352,'Daily Log'!$CL$18:$CL$1017),0)","v":0},{"$f":"IFERROR($E352*SUMIF('Daily Log'!$CN$18:$CN$1017,$B352,'Daily Log'!$CO$18:$CO$1017),0)","v":0}]
[null,null,null,null,null,0,{"$f":"IFERROR($E353*SUMIF('Daily Log'!$B$18:$B$1017,$B353,'Daily Log'!$C$18:$C$1017),0)","v":0},{"$f":"IFERROR($E353*SUMIF('Daily Log'!$E$18:$E$1017,$B353,'Daily Log'!$F$18:$F$1017),0)","v":0},{"$f":"IFERROR($E353*SUMIF('Daily Log'!$H$18:$H$1017,$B353,'Daily Log'!$I$18:$I$1017),0)","v":0},{"$f":"IFERROR($E353*SUMIF('Daily Log'!$K$18:$K$1017,$B353,'Daily Log'!$L$18:$L$1017),0)","v":0},{"$f":"IFERROR($E353*SUMIF('Daily Log'!$N$18:$N$1017,$B353,'Daily Log'!$O$18:$O$1017),0)","v":0},{"$f":"IFERROR($E353*SUMIF('Daily Log'!$Q$18:$Q$1017,$B353,'Daily Log'!$R$18:$R$1017),0)","v":0},{"$f":"IFERROR($E353*SUMIF('Daily Log'!$T$18:$T$1017,$B353,'Daily Log'!$U$18:$U$1017),0)","v":0},{"$f":"IFERROR($E353*SUMIF('Daily Log'!$W$18:$W$1017,$B353,'Daily Log'!$X$18:$X$1017),0)","v":0},{"$f":"IFERROR($E353*SUMIF('Daily Log'!$Z$18:$Z$1017,$B353,'Daily Log'!$AA$18:$AA$1017),0)","v":0},{"$f":"IFERROR($E353*SUMIF('Daily Log'!$AC$18:$AC$1017,$B353,'Daily Log'!$AD$18:$AD$1017),0)","v":0},{"$f":"IFERROR($E353*SUMIF('Daily Log'!$AF$18:$AF$1017,$B353,'Daily Log'!$AG$18:$AG$1017),0)","v":0},{"$f":"IFERROR($E353*SUMIF('Daily Log'!$AI$18:$AI$1017,$B353,'Daily Log'!$AJ$18:$AJ$1017),0)","v":0},{"$f":"IFERROR($E353*SUMIF('Daily Log'!$AL$18:$AL$1017,$B353,'Daily Log'!$AM$18:$AM$1017),0)","v":0},{"$f":"IFERROR($E353*SUMIF('Daily Log'!$AO$18:$AO$1017,$B353,'Daily Log'!$AP$18:$AP$1017),0)","v":0},{"$f":"IFERROR($E353*SUMIF('Daily Log'!$AR$18:$AR$1017,$B353,'Daily Log'!$AS$18:$AS$1017),0)","v":0},{"$f":"IFERROR($E353*SUMIF('Daily Log'!$AU$18:$AU$1017,$B353,'Daily Log'!$AV$18:$AV$1017),0)","v":0},{"$f":"IFERROR($E353*SUMIF('Daily Log'!$AX$18:$AX$1017,$B353,'Daily Log'!$AY$18:$AY$1017),0)","v":0},{"$f":"IFERROR($E353*SUMIF('Daily Log'!$BA$18:$BA$1017,$B353,'Daily Log'!$BB$18:$BB$1017),0)","v":0},{"$f":"IFERROR($E353*SUMIF('Daily Log'!$BD$18:$BD$1017,$B353,'Daily Log'!$BE$18:$BE$1017),0)","v":0},{"$f":"IFERROR($E353*SUMIF('Daily Log'!$BG$18:$BG$1017,$B353,'Daily Log'!$BH$18:$BH$1017),0)","v":0},{"$f":"IFERROR($E353*SUMIF('Daily Log'!$BJ$18:$BJ$1017,$B353,'Daily Log'!$BK$18:$BK$1017),0)","v":0},{"$f":"IFERROR($E353*SUMIF('Daily Log'!$BM$18:$BM$1017,$B353,'Daily Log'!$BN$18:$BN$1017),0)","v":0},{"$f":"IFERROR($E353*SUMIF('Daily Log'!$BP$18:$BP$1017,$B353,'Daily Log'!$BQ$18:$BQ$1017),0)","v":0},{"$f":"IFERROR($E353*SUMIF('Daily Log'!$BS$18:$BS$1017,$B353,'Daily Log'!$BT$18:$BT$1017),0)","v":0},{"$f":"IFERROR($E353*SUMIF('Daily Log'!$BV$18:$BV$1017,$B353,'Daily Log'!$BW$18:$BW$1017),0)","v":0},{"$f":"IFERROR($E353*SUMIF('Daily Log'!$BY$18:$BY$1017,$B353,'Daily Log'!$BZ$18:$BZ$1017),0)","v":0},{"$f":"IFERROR($E353*SUMIF('Daily Log'!$CB$18:$CB$1017,$B353,'Daily Log'!$CC$18:$CC$1017),0)","v":0},{"$f":"IFERROR($E353*SUMIF('Daily Log'!$CE$18:$CE$1017,$B353,'Daily Log'!$CF$18:$CF$1017),0)","v":0},{"$f":"IFERROR($E353*SUMIF('Daily Log'!$CH$18:$CH$1017,$B353,'Daily Log'!$CI$18:$CI$1017),0)","v":0},{"$f":"IFERROR($E353*SUMIF('Daily Log'!$CK$18:$CK$1017,$B353,'Daily Log'!$CL$18:$CL$1017),0)","v":0},{"$f":"IFERROR($E353*SUMIF('Daily Log'!$CN$18:$CN$1017,$B353,'Daily Log'!$CO$18:$CO$1017),0)","v":0}]
[null,null,null,null,null,0,{"$f":"IFERROR($E354*SUMIF('Daily Log'!$B$18:$B$1017,$B354,'Daily Log'!$C$18:$C$1017),0)","v":0},{"$f":"IFERROR($E354*SUMIF('Daily Log'!$E$18:$E$1017,$B354,'Daily Log'!$F$18:$F$1017),0)","v":0},{"$f":"IFERROR($E354*SUMIF('Daily Log'!$H$18:$H$1017,$B354,'Daily Log'!$I$18:$I$1017),0)","v":0},{"$f":"IFERROR($E354*SUMIF('Daily Log'!$K$18:$K$1017,$B354,'Daily Log'!$L$18:$L$1017),0)","v":0},{"$f":"IFERROR($E354*SUMIF('Daily Log'!$N$18:$N$1017,$B354,'Daily Log'!$O$18:$O$1017),0)","v":0},{"$f":"IFERROR($E354*SUMIF('Daily Log'!$Q$18:$Q$1017,$B354,'Daily Log'!$R$18:$R$1017),0)","v":0},{"$f":"IFERROR($E354*SUMIF('Daily Log'!$T$18:$T$1017,$B354,'Daily Log'!$U$18:$U$1017),0)","v":0},{"$f":"IFERROR($E354*SUMIF('Daily Log'!$W$18:$W$1017,$B354,'Daily Log'!$X$18:$X$1017),0)","v":0},{"$f":"IFERROR($E354*SUMIF('Daily Log'!$Z$18:$Z$1017,$B354,'Daily Log'!$AA$18:$AA$1017),0)","v":0},{"$f":"IFERROR($E354*SUMIF('Daily Log'!$AC$18:$AC$1017,$B354,'Daily Log'!$AD$18:$AD$1017),0)","v":0},{"$f":"IFERROR($E354*SUMIF('Daily Log'!$AF$18:$AF$1017,$B354,'Daily Log'!$AG$18:$AG$1017),0)","v":0},{"$f":"IFERROR($E354*SUMIF('Daily Log'!$AI$18:$AI$1017,$B354,'Daily Log'!$AJ$18:$AJ$1017),0)","v":0},{"$f":"IFERROR($E354*SUMIF('Daily Log'!$AL$18:$AL$1017,$B354,'Daily Log'!$AM$18:$AM$1017),0)","v":0},{"$f":"IFERROR($E354*SUMIF('Daily Log'!$AO$18:$AO$1017,$B354,'Daily Log'!$AP$18:$AP$1017),0)","v":0},{"$f":"IFERROR($E354*SUMIF('Daily Log'!$AR$18:$AR$1017,$B354,'Daily Log'!$AS$18:$AS$1017),0)","v":0},{"$f":"IFERROR($E354*SUMIF('Daily Log'!$AU$18:$AU$1017,$B354,'Daily Log'!$AV$18:$AV$1017),0)","v":0},{"$f":"IFERROR($E354*SUMIF('Daily Log'!$AX$18:$AX$1017,$B354,'Daily Log'!$AY$18:$AY$1017),0)","v":0},{"$f":"IFERROR($E354*SUMIF('Daily Log'!$BA$18:$BA$1017,$B354,'Daily Log'!$BB$18:$BB$1017),0)","v":0},{"$f":"IFERROR($E354*SUMIF('Daily Log'!$BD$18:$BD$1017,$B354,'Daily Log'!$BE$18:$BE$1017),0)","v":0},{"$f":"IFERROR($E354*SUMIF('Daily Log'!$BG$18:$BG$1017,$B354,'Daily Log'!$BH$18:$BH$1017),0)","v":0},{"$f":"IFERROR($E354*SUMIF('Daily Log'!$BJ$18:$BJ$1017,$B354,'Daily Log'!$BK$18:$BK$1017),0)","v":0},{"$f":"IFERROR($E354*SUMIF('Daily Log'!$BM$18:$BM$1017,$B354,'Daily Log'!$BN$18:$BN$1017),0)","v":0},{"$f":"IFERROR($E354*SUMIF('Daily Log'!$BP$18:$BP$1017,$B354,'Daily Log'!$BQ$18:$BQ$1017),0)","v":0},{"$f":"IFERROR($E354*SUMIF('Daily Log'!$BS$18:$BS$1017,$B354,'Daily Log'!$BT$18:$BT$1017),0)","v":0},{"$f":"IFERROR($E354*SUMIF('Daily Log'!$BV$18:$BV$1017,$B354,'Daily Log'!$BW$18:$BW$1017),0)","v":0},{"$f":"IFERROR($E354*SUMIF('Daily Log'!$BY$18:$BY$1017,$B354,'Daily Log'!$BZ$18:$BZ$1017),0)","v":0},{"$f":"IFERROR($E354*SUMIF('Daily Log'!$CB$18:$CB$1017,$B354,'Daily Log'!$CC$18:$CC$1017),0)","v":0},{"$f":"IFERROR($E354*SUMIF('Daily Log'!$CE$18:$CE$1017,$B354,'Daily Log'!$CF$18:$CF$1017),0)","v":0},{"$f":"IFERROR($E354*SUMIF('Daily Log'!$CH$18:$CH$1017,$B354,'Daily Log'!$CI$18:$CI$1017),0)","v":0},{"$f":"IFERROR($E354*SUMIF('Daily Log'!$CK$18:$CK$1017,$B354,'Daily Log'!$CL$18:$CL$1017),0)","v":0},{"$f":"IFERROR($E354*SUMIF('Daily Log'!$CN$18:$CN$1017,$B354,'Daily Log'!$CO$18:$CO$1017),0)","v":0}]
[null,null,null,null,null,0,{"$f":"IFERROR($E355*SUMIF('Daily Log'!$B$18:$B$1017,$B355,'Daily Log'!$C$18:$C$1017),0)","v":0},{"$f":"IFERROR($E355*SUMIF('Daily Log'!$E$18:$E$1017,$B355,'Daily Log'!$F$18:$F$1017),0)","v":0},{"$f":"IFERROR($E355*SUMIF('Daily Log'!$H$18:$H$1017,$B355,'Daily Log'!$I$18:$I$1017),0)","v":0},{"$f":"IFERROR($E355*SUMIF('Daily Log'!$K$18:$K$1017,$B355,'Daily Log'!$L$18:$L$1017),0)","v":0},{"$f":"IFERROR($E355*SUMIF('Daily Log'!$N$18:$N$1017,$B355,'Daily Log'!$O$18:$O$1017),0)","v":0},{"$f":"IFERROR($E355*SUMIF('Daily Log'!$Q$18:$Q$1017,$B355,'Daily Log'!$R$18:$R$1017),0)","v":0},{"$f":"IFERROR($E355*SUMIF('Daily Log'!$T$18:$T$1017,$B355,'Daily Log'!$U$18:$U$1017),0)","v":0},{"$f":"IFERROR($E355*SUMIF('Daily Log'!$W$18:$W$1017,$B355,'Daily Log'!$X$18:$X$1017),0)","v":0},{"$f":"IFERROR($E355*SUMIF('Daily Log'!$Z$18:$Z$1017,$B355,'Daily Log'!$AA$18:$AA$1017),0)","v":0},{"$f":"IFERROR($E355*SUMIF('Daily Log'!$AC$18:$AC$1017,$B355,'Daily Log'!$AD$18:$AD$1017),0)","v":0},{"$f":"IFERROR($E355*SUMIF('Daily Log'!$AF$18:$AF$1017,$B355,'Daily Log'!$AG$18:$AG$1017),0)","v":0},{"$f":"IFERROR($E355*SUMIF('Daily Log'!$AI$18:$AI$1017,$B355,'Daily Log'!$AJ$18:$AJ$1017),0)","v":0},{"$f":"IFERROR($E355*SUMIF('Daily Log'!$AL$18:$AL$1017,$B355,'Daily Log'!$AM$18:$AM$1017),0)","v":0},{"$f":"IFERROR($E355*SUMIF('Daily Log'!$AO$18:$AO$1017,$B355,'Daily Log'!$AP$18:$AP$1017),0)","v":0},{"$f":"IFERROR($E355*SUMIF('Daily Log'!$AR$18:$AR$1017,$B355,'Daily Log'!$AS$18:$AS$1017),0)","v":0},{"$f":"IFERROR($E355*SUMIF('Daily Log'!$AU$18:$AU$1017,$B355,'Daily Log'!$AV$18:$AV$1017),0)","v":0},{"$f":"IFERROR($E355*SUMIF('Daily Log'!$AX$18:$AX$1017,$B355,'Daily Log'!$AY$18:$AY$1017),0)","v":0},{"$f":"IFERROR($E355*SUMIF('Daily Log'!$BA$18:$BA$1017,$B355,'Daily Log'!$BB$18:$BB$1017),0)","v":0},{"$f":"IFERROR($E355*SUMIF('Daily Log'!$BD$18:$BD$1017,$B355,'Daily Log'!$BE$18:$BE$1017),0)","v":0},{"$f":"IFERROR($E355*SUMIF('Daily Log'!$BG$18:$BG$1017,$B355,'Daily Log'!$BH$18:$BH$1017),0)","v":0},{"$f":"IFERROR($E355*SUMIF('Daily Log'!$BJ$18:$BJ$1017,$B355,'Daily Log'!$BK$18:$BK$1017),0)","v":0},{"$f":"IFERROR($E355*SUMIF('Daily Log'!$BM$18:$BM$1017,$B355,'Daily Log'!$BN$18:$BN$1017),0)","v":0},{"$f":"IFERROR($E355*SUMIF('Daily Log'!$BP$18:$BP$1017,$B355,'Daily Log'!$BQ$18:$BQ$1017),0)","v":0},{"$f":"IFERROR($E355*SUMIF('Daily Log'!$BS$18:$BS$1017,$B355,'Daily Log'!$BT$18:$BT$1017),0)","v":0},{"$f":"IFERROR($E355*SUMIF('Daily Log'!$BV$18:$BV$1017,$B355,'Daily Log'!$BW$18:$BW$1017),0)","v":0},{"$f":"IFERROR($E355*SUMIF('Daily Log'!$BY$18:$BY$1017,$B355,'Daily Log'!$BZ$18:$BZ$1017),0)","v":0},{"$f":"IFERROR($E355*SUMIF('Daily Log'!$CB$18:$CB$1017,$B355,'Daily Log'!$CC$18:$CC$1017),0)","v":0},{"$f":"IFERROR($E355*SUMIF('Daily Log'!$CE$18:$CE$1017,$B355,'Daily Log'!$CF$18:$CF$1017),0)","v":0},{"$f":"IFERROR($E355*SUMIF('Daily Log'!$CH$18:$CH$1017,$B355,'Daily Log'!$CI$18:$CI$1017),0)","v":0},{"$f":"IFERROR($E355*SUMIF('Daily Log'!$CK$18:$CK$1017,$B355,'Daily Log'!$CL$18:$CL$1017),0)","v":0},{"$f":"IFERROR($E355*SUMIF('Daily Log'!$CN$18:$CN$1017,$B355,'Daily Log'!$CO$18:$CO$1017),0)","v":0}]
[null,null,null,null,null,0,{"$f":"IFERROR($E356*SUMIF('Daily Log'!$B$18:$B$1017,$B356,'Daily Log'!$C$18:$C$1017),0)","v":0},{"$f":"IFERROR($E356*SUMIF('Daily Log'!$E$18:$E$1017,$B356,'Daily Log'!$F$18:$F$1017),0)","v":0},{"$f":"IFERROR($E356*SUMIF('Daily Log'!$H$18:$H$1017,$B356,'Daily Log'!$I$18:$I$1017),0)","v":0},{"$f":"IFERROR($E356*SUMIF('Daily Log'!$K$18:$K$1017,$B356,'Daily Log'!$L$18:$L$1017),0)","v":0},{"$f":"IFERROR($E356*SUMIF('Daily Log'!$N$18:$N$1017,$B356,'Daily Log'!$O$18:$O$1017),0)","v":0},{"$f":"IFERROR($E356*SUMIF('Daily Log'!$Q$18:$Q$1017,$B356,'Daily Log'!$R$18:$R$1017),0)","v":0},{"$f":"IFERROR($E356*SUMIF('Daily Log'!$T$18:$T$1017,$B356,'Daily Log'!$U$18:$U$1017),0)","v":0},{"$f":"IFERROR($E356*SUMIF('Daily Log'!$W$18:$W$1017,$B356,'Daily Log'!$X$18:$X$1017),0)","v":0},{"$f":"IFERROR($E356*SUMIF('Daily Log'!$Z$18:$Z$1017,$B356,'Daily Log'!$AA$18:$AA$1017),0)","v":0},{"$f":"IFERROR($E356*SUMIF('Daily Log'!$AC$18:$AC$1017,$B356,'Daily Log'!$AD$18:$AD$1017),0)","v":0},{"$f":"IFERROR($E356*SUMIF('Daily Log'!$AF$18:$AF$1017,$B356,'Daily Log'!$AG$18:$AG$1017),0)","v":0},{"$f":"IFERROR($E356*SUMIF('Daily Log'!$AI$18:$AI$1017,$B356,'Daily Log'!$AJ$18:$AJ$1017),0)","v":0},{"$f":"IFERROR($E356*SUMIF('Daily Log'!$AL$18:$AL$1017,$B356,'Daily Log'!$AM$18:$AM$1017),0)","v":0},{"$f":"IFERROR($E356*SUMIF('Daily Log'!$AO$18:$AO$1017,$B356,'Daily Log'!$AP$18:$AP$1017),0)","v":0},{"$f":"IFERROR($E356*SUMIF('Daily Log'!$AR$18:$AR$1017,$B356,'Daily Log'!$AS$18:$AS$1017),0)","v":0},{"$f":"IFERROR($E356*SUMIF('Daily Log'!$AU$18:$AU$1017,$B356,'Daily Log'!$AV$18:$AV$1017),0)","v":0},{"$f":"IFERROR($E356*SUMIF('Daily Log'!$AX$18:$AX$1017,$B356,'Daily Log'!$AY$18:$AY$1017),0)","v":0},{"$f":"IFERROR($E356*SUMIF('Daily Log'!$BA$18:$BA$1017,$B356,'Daily Log'!$BB$18:$BB$1017),0)","v":0},{"$f":"IFERROR($E356*SUMIF('Daily Log'!$BD$18:$BD$1017,$B356,'Daily Log'!$BE$18:$BE$1017),0)","v":0},{"$f":"IFERROR($E356*SUMIF('Daily Log'!$BG$18:$BG$1017,$B356,'Daily Log'!$BH$18:$BH$1017),0)","v":0},{"$f":"IFERROR($E356*SUMIF('Daily Log'!$BJ$18:$BJ$1017,$B356,'Daily Log'!$BK$18:$BK$1017),0)","v":0},{"$f":"IFERROR($E356*SUMIF('Daily Log'!$BM$18:$BM$1017,$B356,'Daily Log'!$BN$18:$BN$1017),0)","v":0},{"$f":"IFERROR($E356*SUMIF('Daily Log'!$BP$18:$BP$1017,$B356,'Daily Log'!$BQ$18:$BQ$1017),0)","v":0},{"$f":"IFERROR($E356*SUMIF('Daily Log'!$BS$18:$BS$1017,$B356,'Daily Log'!$BT$18:$BT$1017),0)","v":0},{"$f":"IFERROR($E356*SUMIF('Daily Log'!$BV$18:$BV$1017,$B356,'Daily Log'!$BW$18:$BW$1017),0)","v":0},{"$f":"IFERROR($E356*SUMIF('Daily Log'!$BY$18:$BY$1017,$B356,'Daily Log'!$BZ$18:$BZ$1017),0)","v":0},{"$f":"IFERROR($E356*SUMIF('Daily Log'!$CB$18:$CB$1017,$B356,'Daily Log'!$CC$18:$CC$1017),0)","v":0},{"$f":"IFERROR($E356*SUMIF('Daily Log'!$CE$18:$CE$1017,$B356,'Daily Log'!$CF$18:$CF$1017),0)","v":0},{"$f":"IFERROR($E356*SUMIF('Daily Log'!$CH$18:$CH$1017,$B356,'Daily Log'!$CI$18:$CI$1017),0)","v":0},{"$f":"IFERROR($E356*SUMIF('Daily Log'!$CK$18:$CK$1017,$B356,'Daily Log'!$CL$18:$CL$1017),0)","v":0},{"$f":"IFERROR($E356*SUMIF('Daily Log'!$CN$18:$CN$1017,$B356,'Daily Log'!$CO$18:$CO$1017),0)","v":0}]
[null,null,null,null,null,0,{"$f":"IFERROR($E357*SUMIF('Daily Log'!$B$18:$B$1017,$B357,'Daily Log'!$C$18:$C$1017),0)","v":0},{"$f":"IFERROR($E357*SUMIF('Daily Log'!$E$18:$E$1017,$B357,'Daily Log'!$F$18:$F$1017),0)","v":0},{"$f":"IFERROR($E357*SUMIF('Daily Log'!$H$18:$H$1017,$B357,'Daily Log'!$I$18:$I$1017),0)","v":0},{"$f":"IFERROR($E357*SUMIF('Daily Log'!$K$18:$K$1017,$B357,'Daily Log'!$L$18:$L$1017),0)","v":0},{"$f":"IFERROR($E357*SUMIF('Daily Log'!$N$18:$N$1017,$B357,'Daily Log'!$O$18:$O$1017),0)","v":0},{"$f":"IFERROR($E357*SUMIF('Daily Log'!$Q$18:$Q$1017,$B357,'Daily Log'!$R$18:$R$1017),0)","v":0},{"$f":"IFERROR($E357*SUMIF('Daily Log'!$T$18:$T$1017,$B357,'Daily Log'!$U$18:$U$1017),0)","v":0},{"$f":"IFERROR($E357*SUMIF('Daily Log'!$W$18:$W$1017,$B357,'Daily Log'!$X$18:$X$1017),0)","v":0},{"$f":"IFERROR($E357*SUMIF('Daily Log'!$Z$18:$Z$1017,$B357,'Daily Log'!$AA$18:$AA$1017),0)","v":0},{"$f":"IFERROR($E357*SUMIF('Daily Log'!$AC$18:$AC$1017,$B357,'Daily Log'!$AD$18:$AD$1017),0)","v":0},{"$f":"IFERROR($E357*SUMIF('Daily Log'!$AF$18:$AF$1017,$B357,'Daily Log'!$AG$18:$AG$1017),0)","v":0},{"$f":"IFERROR($E357*SUMIF('Daily Log'!$AI$18:$AI$1017,$B357,'Daily Log'!$AJ$18:$AJ$1017),0)","v":0},{"$f":"IFERROR($E357*SUMIF('Daily Log'!$AL$18:$AL$1017,$B357,'Daily Log'!$AM$18:$AM$1017),0)","v":0},{"$f":"IFERROR($E357*SUMIF('Daily Log'!$AO$18:$AO$1017,$B357,'Daily Log'!$AP$18:$AP$1017),0)","v":0},{"$f":"IFERROR($E357*SUMIF('Daily Log'!$AR$18:$AR$1017,$B357,'Daily Log'!$AS$18:$AS$1017),0)","v":0},{"$f":"IFERROR($E357*SUMIF('Daily Log'!$AU$18:$AU$1017,$B357,'Daily Log'!$AV$18:$AV$1017),0)","v":0},{"$f":"IFERROR($E357*SUMIF('Daily Log'!$AX$18:$AX$1017,$B357,'Daily Log'!$AY$18:$AY$1017),0)","v":0},{"$f":"IFERROR($E357*SUMIF('Daily Log'!$BA$18:$BA$1017,$B357,'Daily Log'!$BB$18:$BB$1017),0)","v":0},{"$f":"IFERROR($E357*SUMIF('Daily Log'!$BD$18:$BD$1017,$B357,'Daily Log'!$BE$18:$BE$1017),0)","v":0},{"$f":"IFERROR($E357*SUMIF('Daily Log'!$BG$18:$BG$1017,$B357,'Daily Log'!$BH$18:$BH$1017),0)","v":0},{"$f":"IFERROR($E357*SUMIF('Daily Log'!$BJ$18:$BJ$1017,$B357,'Daily Log'!$BK$18:$BK$1017),0)","v":0},{"$f":"IFERROR($E357*SUMIF('Daily Log'!$BM$18:$BM$1017,$B357,'Daily Log'!$BN$18:$BN$1017),0)","v":0},{"$f":"IFERROR($E357*SUMIF('Daily Log'!$BP$18:$BP$1017,$B357,'Daily Log'!$BQ$18:$BQ$1017),0)","v":0},{"$f":"IFERROR($E357*SUMIF('Daily Log'!$BS$18:$BS$1017,$B357,'Daily Log'!$BT$18:$BT$1017),0)","v":0},{"$f":"IFERROR($E357*SUMIF('Daily Log'!$BV$18:$BV$1017,$B357,'Daily Log'!$BW$18:$BW$1017),0)","v":0},{"$f":"IFERROR($E357*SUMIF('Daily Log'!$BY$18:$BY$1017,$B357,'Daily Log'!$BZ$18:$BZ$1017),0)","v":0},{"$f":"IFERROR($E357*SUMIF('Daily Log'!$CB$18:$CB$1017,$B357,'Daily Log'!$CC$18:$CC$1017),0)","v":0},{"$f":"IFERROR($E357*SUMIF('Daily Log'!$CE$18:$CE$1017,$B357,'Daily Log'!$CF$18:$CF$1017),0)","v":0},{"$f":"IFERROR($E357*SUMIF('Daily Log'!$CH$18:$CH$1017,$B357,'Daily Log'!$CI$18:$CI$1017),0)","v":0},{"$f":"IFERROR($E357*SUMIF('Daily Log'!$CK$18:$CK$1017,$B357,'Daily Log'!$CL$18:$CL$1017),0)","v":0},{"$f":"IFERROR($E357*SUMIF('Daily Log'!$CN$18:$CN$1017,$B357,'Daily Log'!$CO$18:$CO$1017),0)","v":0}]
[null,null,null,null,null,0,{"$f":"IFERROR($E358*SUMIF('Daily Log'!$B$18:$B$1017,$B358,'Daily Log'!$C$18:$C$1017),0)","v":0},{"$f":"IFERROR($E358*SUMIF('Daily Log'!$E$18:$E$1017,$B358,'Daily Log'!$F$18:$F$1017),0)","v":0},{"$f":"IFERROR($E358*SUMIF('Daily Log'!$H$18:$H$1017,$B358,'Daily Log'!$I$18:$I$1017),0)","v":0},{"$f":"IFERROR($E358*SUMIF('Daily Log'!$K$18:$K$1017,$B358,'Daily Log'!$L$18:$L$1017),0)","v":0},{"$f":"IFERROR($E358*SUMIF('Daily Log'!$N$18:$N$1017,$B358,'Daily Log'!$O$18:$O$1017),0)","v":0},{"$f":"IFERROR($E358*SUMIF('Daily Log'!$Q$18:$Q$1017,$B358,'Daily Log'!$R$18:$R$1017),0)","v":0},{"$f":"IFERROR($E358*SUMIF('Daily Log'!$T$18:$T$1017,$B358,'Daily Log'!$U$18:$U$1017),0)","v":0},{"$f":"IFERROR($E358*SUMIF('Daily Log'!$W$18:$W$1017,$B358,'Daily Log'!$X$18:$X$1017),0)","v":0},{"$f":"IFERROR($E358*SUMIF('Daily Log'!$Z$18:$Z$1017,$B358,'Daily Log'!$AA$18:$AA$1017),0)","v":0},{"$f":"IFERROR($E358*SUMIF('Daily Log'!$AC$18:$AC$1017,$B358,'Daily Log'!$AD$18:$AD$1017),0)","v":0},{"$f":"IFERROR($E358*SUMIF('Daily Log'!$AF$18:$AF$1017,$B358,'Daily Log'!$AG$18:$AG$1017),0)","v":0},{"$f":"IFERROR($E358*SUMIF('Daily Log'!$AI$18:$AI$1017,$B358,'Daily Log'!$AJ$18:$AJ$1017),0)","v":0},{"$f":"IFERROR($E358*SUMIF('Daily Log'!$AL$18:$AL$1017,$B358,'Daily Log'!$AM$18:$AM$1017),0)","v":0},{"$f":"IFERROR($E358*SUMIF('Daily Log'!$AO$18:$AO$1017,$B358,'Daily Log'!$AP$18:$AP$1017),0)","v":0},{"$f":"IFERROR($E358*SUMIF('Daily Log'!$AR$18:$AR$1017,$B358,'Daily Log'!$AS$18:$AS$1017),0)","v":0},{"$f":"IFERROR($E358*SUMIF('Daily Log'!$AU$18:$AU$1017,$B358,'Daily Log'!$AV$18:$AV$1017),0)","v":0},{"$f":"IFERROR($E358*SUMIF('Daily Log'!$AX$18:$AX$1017,$B358,'Daily Log'!$AY$18:$AY$1017),0)","v":0},{"$f":"IFERROR($E358*SUMIF('Daily Log'!$BA$18:$BA$1017,$B358,'Daily Log'!$BB$18:$BB$1017),0)","v":0},{"$f":"IFERROR($E358*SUMIF('Daily Log'!$BD$18:$BD$1017,$B358,'Daily Log'!$BE$18:$BE$1017),0)","v":0},{"$f":"IFERROR($E358*SUMIF('Daily Log'!$BG$18:$BG$1017,$B358,'Daily Log'!$BH$18:$BH$1017),0)","v":0},{"$f":"IFERROR($E358*SUMIF('Daily Log'!$BJ$18:$BJ$1017,$B358,'Daily Log'!$BK$18:$BK$1017),0)","v":0},{"$f":"IFERROR($E358*SUMIF('Daily Log'!$BM$18:$BM$1017,$B358,'Daily Log'!$BN$18:$BN$1017),0)","v":0},{"$f":"IFERROR($E358*SUMIF('Daily Log'!$BP$18:$BP$1017,$B358,'Daily Log'!$BQ$18:$BQ$1017),0)","v":0},{"$f":"IFERROR($E358*SUMIF('Daily Log'!$BS$18:$BS$1017,$B358,'Daily Log'!$BT$18:$BT$1017),0)","v":0},{"$f":"IFERROR($E358*SUMIF('Daily Log'!$BV$18:$BV$1017,$B358,'Daily Log'!$BW$18:$BW$1017),0)","v":0},{"$f":"IFERROR($E358*SUMIF('Daily Log'!$BY$18:$BY$1017,$B358,'Daily Log'!$BZ$18:$BZ$1017),0)","v":0},{"$f":"IFERROR($E358*SUMIF('Daily Log'!$CB$18:$CB$1017,$B358,'Daily Log'!$CC$18:$CC$1017),0)","v":0},{"$f":"IFERROR($E358*SUMIF('Daily Log'!$CE$18:$CE$1017,$B358,'Daily Log'!$CF$18:$CF$1017),0)","v":0},{"$f":"IFERROR($E358*SUMIF('Daily Log'!$CH$18:$CH$1017,$B358,'Daily Log'!$CI$18:$CI$1017),0)","v":0},{"$f":"IFERROR($E358*SUMIF('Daily Log'!$CK$18:$CK$1017,$B358,'Daily Log'!$CL$18:$CL$1017),0)","v":0},{"$f":"IFERROR($E358*SUMIF('Daily Log'!$CN$18:$CN$1017,$B358,'Daily Log'!$CO$18:$CO$1017),0)","v":0}]
[null,null,null,null,null,0,{"$f":"IFERROR($E359*SUMIF('Daily Log'!$B$18:$B$1017,$B359,'Daily Log'!$C$18:$C$1017),0)","v":0},{"$f":"IFERROR($E359*SUMIF('Daily Log'!$E$18:$E$1017,$B359,'Daily Log'!$F$18:$F$1017),0)","v":0},{"$f":"IFERROR($E359*SUMIF('Daily Log'!$H$18:$H$1017,$B359,'Daily Log'!$I$18:$I$1017),0)","v":0},{"$f":"IFERROR($E359*SUMIF('Daily Log'!$K$18:$K$1017,$B359,'Daily Log'!$L$18:$L$1017),0)","v":0},{"$f":"IFERROR($E359*SUMIF('Daily Log'!$N$18:$N$1017,$B359,'Daily Log'!$O$18:$O$1017),0)","v":0},{"$f":"IFERROR($E359*SUMIF('Daily Log'!$Q$18:$Q$1017,$B359,'Daily Log'!$R$18:$R$1017),0)","v":0},{"$f":"IFERROR($E359*SUMIF('Daily Log'!$T$18:$T$1017,$B359,'Daily Log'!$U$18:$U$1017),0)","v":0},{"$f":"IFERROR($E359*SUMIF('Daily Log'!$W$18:$W$1017,$B359,'Daily Log'!$X$18:$X$1017),0)","v":0},{"$f":"IFERROR($E359*SUMIF('Daily Log'!$Z$18:$Z$1017,$B359,'Daily Log'!$AA$18:$AA$1017),0)","v":0},{"$f":"IFERROR($E359*SUMIF('Daily Log'!$AC$18:$AC$1017,$B359,'Daily Log'!$AD$18:$AD$1017),0)","v":0},{"$f":"IFERROR($E359*SUMIF('Daily Log'!$AF$18:$AF$1017,$B359,'Daily Log'!$AG$18:$AG$1017),0)","v":0},{"$f":"IFERROR($E359*SUMIF('Daily Log'!$AI$18:$AI$1017,$B359,'Daily Log'!$AJ$18:$AJ$1017),0)","v":0},{"$f":"IFERROR($E359*SUMIF('Daily Log'!$AL$18:$AL$1017,$B359,'Daily Log'!$AM$18:$AM$1017),0)","v":0},{"$f":"IFERROR($E359*SUMIF('Daily Log'!$AO$18:$AO$1017,$B359,'Daily Log'!$AP$18:$AP$1017),0)","v":0},{"$f":"IFERROR($E359*SUMIF('Daily Log'!$AR$18:$AR$1017,$B359,'Daily Log'!$AS$18:$AS$1017),0)","v":0},{"$f":"IFERROR($E359*SUMIF('Daily Log'!$AU$18:$AU$1017,$B359,'Daily Log'!$AV$18:$AV$1017),0)","v":0},{"$f":"IFERROR($E359*SUMIF('Daily Log'!$AX$18:$AX$1017,$B359,'Daily Log'!$AY$18:$AY$1017),0)","v":0},{"$f":"IFERROR($E359*SUMIF('Daily Log'!$BA$18:$BA$1017,$B359,'Daily Log'!$BB$18:$BB$1017),0)","v":0},{"$f":"IFERROR($E359*SUMIF('Daily Log'!$BD$18:$BD$1017,$B359,'Daily Log'!$BE$18:$BE$1017),0)","v":0},{"$f":"IFERROR($E359*SUMIF('Daily Log'!$BG$18:$BG$1017,$B359,'Daily Log'!$BH$18:$BH$1017),0)","v":0},{"$f":"IFERROR($E359*SUMIF('Daily Log'!$BJ$18:$BJ$1017,$B359,'Daily Log'!$BK$18:$BK$1017),0)","v":0},{"$f":"IFERROR($E359*SUMIF('Daily Log'!$BM$18:$BM$1017,$B359,'Daily Log'!$BN$18:$BN$1017),0)","v":0},{"$f":"IFERROR($E359*SUMIF('Daily Log'!$BP$18:$BP$1017,$B359,'Daily Log'!$BQ$18:$BQ$1017),0)","v":0},{"$f":"IFERROR($E359*SUMIF('Daily Log'!$BS$18:$BS$1017,$B359,'Daily Log'!$BT$18:$BT$1017),0)","v":0},{"$f":"IFERROR($E359*SUMIF('Daily Log'!$BV$18:$BV$1017,$B359,'Daily Log'!$BW$18:$BW$1017),0)","v":0},{"$f":"IFERROR($E359*SUMIF('Daily Log'!$BY$18:$BY$1017,$B359,'Daily Log'!$BZ$18:$BZ$1017),0)","v":0},{"$f":"IFERROR($E359*SUMIF('Daily Log'!$CB$18:$CB$1017,$B359,'Daily Log'!$CC$18:$CC$1017),0)","v":0},{"$f":"IFERROR($E359*SUMIF('Daily Log'!$CE$18:$CE$1017,$B359,'Daily Log'!$CF$18:$CF$1017),0)","v":0},{"$f":"IFERROR($E359*SUMIF('Daily Log'!$CH$18:$CH$1017,$B359,'Daily Log'!$CI$18:$CI$1017),0)","v":0},{"$f":"IFERROR($E359*SUMIF('Daily Log'!$CK$18:$CK$1017,$B359,'Daily Log'!$CL$18:$CL$1017),0)","v":0},{"$f":"IFERROR($E359*SUMIF('Daily Log'!$CN$18:$CN$1017,$B359,'Daily Log'!$CO$18:$CO$1017),0)","v":0}]
[null,null,null,null,null,0,{"$f":"IFERROR($E360*SUMIF('Daily Log'!$B$18:$B$1017,$B360,'Daily Log'!$C$18:$C$1017),0)","v":0},{"$f":"IFERROR($E360*SUMIF('Daily Log'!$E$18:$E$1017,$B360,'Daily Log'!$F$18:$F$1017),0)","v":0},{"$f":"IFERROR($E360*SUMIF('Daily Log'!$H$18:$H$1017,$B360,'Daily Log'!$I$18:$I$1017),0)","v":0},{"$f":"IFERROR($E360*SUMIF('Daily Log'!$K$18:$K$1017,$B360,'Daily Log'!$L$18:$L$1017),0)","v":0},{"$f":"IFERROR($E360*SUMIF('Daily Log'!$N$18:$N$1017,$B360,'Daily Log'!$O$18:$O$1017),0)","v":0},{"$f":"IFERROR($E360*SUMIF('Daily Log'!$Q$18:$Q$1017,$B360,'Daily Log'!$R$18:$R$1017),0)","v":0},{"$f":"IFERROR($E360*SUMIF('Daily Log'!$T$18:$T$1017,$B360,'Daily Log'!$U$18:$U$1017),0)","v":0},{"$f":"IFERROR($E360*SUMIF('Daily Log'!$W$18:$W$1017,$B360,'Daily Log'!$X$18:$X$1017),0)","v":0},{"$f":"IFERROR($E360*SUMIF('Daily Log'!$Z$18:$Z$1017,$B360,'Daily Log'!$AA$18:$AA$1017),0)","v":0},{"$f":"IFERROR($E360*SUMIF('Daily Log'!$AC$18:$AC$1017,$B360,'Daily Log'!$AD$18:$AD$1017),0)","v":0},{"$f":"IFERROR($E360*SUMIF('Daily Log'!$AF$18:$AF$1017,$B360,'Daily Log'!$AG$18:$AG$1017),0)","v":0},{"$f":"IFERROR($E360*SUMIF('Daily Log'!$AI$18:$AI$1017,$B360,'Daily Log'!$AJ$18:$AJ$1017),0)","v":0},{"$f":"IFERROR($E360*SUMIF('Daily Log'!$AL$18:$AL$1017,$B360,'Daily Log'!$AM$18:$AM$1017),0)","v":0},{"$f":"IFERROR($E360*SUMIF('Daily Log'!$AO$18:$AO$1017,$B360,'Daily Log'!$AP$18:$AP$1017),0)","v":0},{"$f":"IFERROR($E360*SUMIF('Daily Log'!$AR$18:$AR$1017,$B360,'Daily Log'!$AS$18:$AS$1017),0)","v":0},{"$f":"IFERROR($E360*SUMIF('Daily Log'!$AU$18:$AU$1017,$B360,'Daily Log'!$AV$18:$AV$1017),0)","v":0},{"$f":"IFERROR($E360*SUMIF('Daily Log'!$AX$18:$AX$1017,$B360,'Daily Log'!$AY$18:$AY$1017),0)","v":0},{"$f":"IFERROR($E360*SUMIF('Daily Log'!$BA$18:$BA$1017,$B360,'Daily Log'!$BB$18:$BB$1017),0)","v":0},{"$f":"IFERROR($E360*SUMIF('Daily Log'!$BD$18:$BD$1017,$B360,'Daily Log'!$BE$18:$BE$1017),0)","v":0},{"$f":"IFERROR($E360*SUMIF('Daily Log'!$BG$18:$BG$1017,$B360,'Daily Log'!$BH$18:$BH$1017),0)","v":0},{"$f":"IFERROR($E360*SUMIF('Daily Log'!$BJ$18:$BJ$1017,$B360,'Daily Log'!$BK$18:$BK$1017),0)","v":0},{"$f":"IFERROR($E360*SUMIF('Daily Log'!$BM$18:$BM$1017,$B360,'Daily Log'!$BN$18:$BN$1017),0)","v":0},{"$f":"IFERROR($E360*SUMIF('Daily Log'!$BP$18:$BP$1017,$B360,'Daily Log'!$BQ$18:$BQ$1017),0)","v":0},{"$f":"IFERROR($E360*SUMIF('Daily Log'!$BS$18:$BS$1017,$B360,'Daily Log'!$BT$18:$BT$1017),0)","v":0},{"$f":"IFERROR($E360*SUMIF('Daily Log'!$BV$18:$BV$1017,$B360,'Daily Log'!$BW$18:$BW$1017),0)","v":0},{"$f":"IFERROR($E360*SUMIF('Daily Log'!$BY$18:$BY$1017,$B360,'Daily Log'!$BZ$18:$BZ$1017),0)","v":0},{"$f":"IFERROR($E360*SUMIF('Daily Log'!$CB$18:$CB$1017,$B360,'Daily Log'!$CC$18:$CC$1017),0)","v":0},{"$f":"IFERROR($E360*SUMIF('Daily Log'!$CE$18:$CE$1017,$B360,'Daily Log'!$CF$18:$CF$1017),0)","v":0},{"$f":"IFERROR($E360*SUMIF('Daily Log'!$CH$18:$CH$1017,$B360,'Daily Log'!$CI$18:$CI$1017),0)","v":0},{"$f":"IFERROR($E360*SUMIF('Daily Log'!$CK$18:$CK$1017,$B360,'Daily Log'!$CL$18:$CL$1017),0)","v":0},{"$f":"IFERROR($E360*SUMIF('Daily Log'!$CN$18:$CN$1017,$B360,'Daily Log'!$CO$18:$CO$1017),0)","v":0}]
[null,null,null,null,null,0,{"$f":"IFERROR($E361*SUMIF('Daily Log'!$B$18:$B$1017,$B361,'Daily Log'!$C$18:$C$1017),0)","v":0},{"$f":"IFERROR($E361*SUMIF('Daily Log'!$E$18:$E$1017,$B361,'Daily Log'!$F$18:$F$1017),0)","v":0},{"$f":"IFERROR($E361*SUMIF('Daily Log'!$H$18:$H$1017,$B361,'Daily Log'!$I$18:$I$1017),0)","v":0},{"$f":"IFERROR($E361*SUMIF('Daily Log'!$K$18:$K$1017,$B361,'Daily Log'!$L$18:$L$1017),0)","v":0},{"$f":"IFERROR($E361*SUMIF('Daily Log'!$N$18:$N$1017,$B361,'Daily Log'!$O$18:$O$1017),0)","v":0},{"$f":"IFERROR($E361*SUMIF('Daily Log'!$Q$18:$Q$1017,$B361,'Daily Log'!$R$18:$R$1017),0)","v":0},{"$f":"IFERROR($E361*SUMIF('Daily Log'!$T$18:$T$1017,$B361,'Daily Log'!$U$18:$U$1017),0)","v":0},{"$f":"IFERROR($E361*SUMIF('Daily Log'!$W$18:$W$1017,$B361,'Daily Log'!$X$18:$X$1017),0)","v":0},{"$f":"IFERROR($E361*SUMIF('Daily Log'!$Z$18:$Z$1017,$B361,'Daily Log'!$AA$18:$AA$1017),0)","v":0},{"$f":"IFERROR($E361*SUMIF('Daily Log'!$AC$18:$AC$1017,$B361,'Daily Log'!$AD$18:$AD$1017),0)","v":0},{"$f":"IFERROR($E361*SUMIF('Daily Log'!$AF$18:$AF$1017,$B361,'Daily Log'!$AG$18:$AG$1017),0)","v":0},{"$f":"IFERROR($E361*SUMIF('Daily Log'!$AI$18:$AI$1017,$B361,'Daily Log'!$AJ$18:$AJ$1017),0)","v":0},{"$f":"IFERROR($E361*SUMIF('Daily Log'!$AL$18:$AL$1017,$B361,'Daily Log'!$AM$18:$AM$1017),0)","v":0},{"$f":"IFERROR($E361*SUMIF('Daily Log'!$AO$18:$AO$1017,$B361,'Daily Log'!$AP$18:$AP$1017),0)","v":0},{"$f":"IFERROR($E361*SUMIF('Daily Log'!$AR$18:$AR$1017,$B361,'Daily Log'!$AS$18:$AS$1017),0)","v":0},{"$f":"IFERROR($E361*SUMIF('Daily Log'!$AU$18:$AU$1017,$B361,'Daily Log'!$AV$18:$AV$1017),0)","v":0},{"$f":"IFERROR($E361*SUMIF('Daily Log'!$AX$18:$AX$1017,$B361,'Daily Log'!$AY$18:$AY$1017),0)","v":0},{"$f":"IFERROR($E361*SUMIF('Daily Log'!$BA$18:$BA$1017,$B361,'Daily Log'!$BB$18:$BB$1017),0)","v":0},{"$f":"IFERROR($E361*SUMIF('Daily Log'!$BD$18:$BD$1017,$B361,'Daily Log'!$BE$18:$BE$1017),0)","v":0},{"$f":"IFERROR($E361*SUMIF('Daily Log'!$BG$18:$BG$1017,$B361,'Daily Log'!$BH$18:$BH$1017),0)","v":0},{"$f":"IFERROR($E361*SUMIF('Daily Log'!$BJ$18:$BJ$1017,$B361,'Daily Log'!$BK$18:$BK$1017),0)","v":0},{"$f":"IFERROR($E361*SUMIF('Daily Log'!$BM$18:$BM$1017,$B361,'Daily Log'!$BN$18:$BN$1017),0)","v":0},{"$f":"IFERROR($E361*SUMIF('Daily Log'!$BP$18:$BP$1017,$B361,'Daily Log'!$BQ$18:$BQ$1017),0)","v":0},{"$f":"IFERROR($E361*SUMIF('Daily Log'!$BS$18:$BS$1017,$B361,'Daily Log'!$BT$18:$BT$1017),0)","v":0},{"$f":"IFERROR($E361*SUMIF('Daily Log'!$BV$18:$BV$1017,$B361,'Daily Log'!$BW$18:$BW$1017),0)","v":0},{"$f":"IFERROR($E361*SUMIF('Daily Log'!$BY$18:$BY$1017,$B361,'Daily Log'!$BZ$18:$BZ$1017),0)","v":0},{"$f":"IFERROR($E361*SUMIF('Daily Log'!$CB$18:$CB$1017,$B361,'Daily Log'!$CC$18:$CC$1017),0)","v":0},{"$f":"IFERROR($E361*SUMIF('Daily Log'!$CE$18:$CE$1017,$B361,'Daily Log'!$CF$18:$CF$1017),0)","v":0},{"$f":"IFERROR($E361*SUMIF('Daily Log'!$CH$18:$CH$1017,$B361,'Daily Log'!$CI$18:$CI$1017),0)","v":0},{"$f":"IFERROR($E361*SUMIF('Daily Log'!$CK$18:$CK$1017,$B361,'Daily Log'!$CL$18:$CL$1017),0)","v":0},{"$f":"IFERROR($E361*SUMIF('Daily Log'!$CN$18:$CN$1017,$B361,'Daily Log'!$CO$18:$CO$1017),0)","v":0}]
[null,null,null,null,null,0,{"$f":"IFERROR($E362*SUMIF('Daily Log'!$B$18:$B$1017,$B362,'Daily Log'!$C$18:$C$1017),0)","v":0},{"$f":"IFERROR($E362*SUMIF('Daily Log'!$E$18:$E$1017,$B362,'Daily Log'!$F$18:$F$1017),0)","v":0},{"$f":"IFERROR($E362*SUMIF('Daily Log'!$H$18:$H$1017,$B362,'Daily Log'!$I$18:$I$1017),0)","v":0},{"$f":"IFERROR($E362*SUMIF('Daily Log'!$K$18:$K$1017,$B362,'Daily Log'!$L$18:$L$1017),0)","v":0},{"$f":"IFERROR($E362*SUMIF('Daily Log'!$N$18:$N$1017,$B362,'Daily Log'!$O$18:$O$1017),0)","v":0},{"$f":"IFERROR($E362*SUMIF('Daily Log'!$Q$18:$Q$1017,$B362,'Daily Log'!$R$18:$R$1017),0)","v":0},{"$f":"IFERROR($E362*SUMIF('Daily Log'!$T$18:$T$1017,$B362,'Daily Log'!$U$18:$U$1017),0)","v":0},{"$f":"IFERROR($E362*SUMIF('Daily Log'!$W$18:$W$1017,$B362,'Daily Log'!$X$18:$X$1017),0)","v":0},{"$f":"IFERROR($E362*SUMIF('Daily Log'!$Z$18:$Z$1017,$B362,'Daily Log'!$AA$18:$AA$1017),0)","v":0},{"$f":"IFERROR($E362*SUMIF('Daily Log'!$AC$18:$AC$1017,$B362,'Daily Log'!$AD$18:$AD$1017),0)","v":0},{"$f":"IFERROR($E362*SUMIF('Daily Log'!$AF$18:$AF$1017,$B362,'Daily Log'!$AG$18:$AG$1017),0)","v":0},{"$f":"IFERROR($E362*SUMIF('Daily Log'!$AI$18:$AI$1017,$B362,'Daily Log'!$AJ$18:$AJ$1017),0)","v":0},{"$f":"IFERROR($E362*SUMIF('Daily Log'!$AL$18:$AL$1017,$B362,'Daily Log'!$AM$18:$AM$1017),0)","v":0},{"$f":"IFERROR($E362*SUMIF('Daily Log'!$AO$18:$AO$1017,$B362,'Daily Log'!$AP$18:$AP$1017),0)","v":0},{"$f":"IFERROR($E362*SUMIF('Daily Log'!$AR$18:$AR$1017,$B362,'Daily Log'!$AS$18:$AS$1017),0)","v":0},{"$f":"IFERROR($E362*SUMIF('Daily Log'!$AU$18:$AU$1017,$B362,'Daily Log'!$AV$18:$AV$1017),0)","v":0},{"$f":"IFERROR($E362*SUMIF('Daily Log'!$AX$18:$AX$1017,$B362,'Daily Log'!$AY$18:$AY$1017),0)","v":0},{"$f":"IFERROR($E362*SUMIF('Daily Log'!$BA$18:$BA$1017,$B362,'Daily Log'!$BB$18:$BB$1017),0)","v":0},{"$f":"IFERROR($E362*SUMIF('Daily Log'!$BD$18:$BD$1017,$B362,'Daily Log'!$BE$18:$BE$1017),0)","v":0},{"$f":"IFERROR($E362*SUMIF('Daily Log'!$BG$18:$BG$1017,$B362,'Daily Log'!$BH$18:$BH$1017),0)","v":0},{"$f":"IFERROR($E362*SUMIF('Daily Log'!$BJ$18:$BJ$1017,$B362,'Daily Log'!$BK$18:$BK$1017),0)","v":0},{"$f":"IFERROR($E362*SUMIF('Daily Log'!$BM$18:$BM$1017,$B362,'Daily Log'!$BN$18:$BN$1017),0)","v":0},{"$f":"IFERROR($E362*SUMIF('Daily Log'!$BP$18:$BP$1017,$B362,'Daily Log'!$BQ$18:$BQ$1017),0)","v":0},{"$f":"IFERROR($E362*SUMIF('Daily Log'!$BS$18:$BS$1017,$B362,'Daily Log'!$BT$18:$BT$1017),0)","v":0},{"$f":"IFERROR($E362*SUMIF('Daily Log'!$BV$18:$BV$1017,$B362,'Daily Log'!$BW$18:$BW$1017),0)","v":0},{"$f":"IFERROR($E362*SUMIF('Daily Log'!$BY$18:$BY$1017,$B362,'Daily Log'!$BZ$18:$BZ$1017),0)","v":0},{"$f":"IFERROR($E362*SUMIF('Daily Log'!$CB$18:$CB$1017,$B362,'Daily Log'!$CC$18:$CC$1017),0)","v":0},{"$f":"IFERROR($E362*SUMIF('Daily Log'!$CE$18:$CE$1017,$B362,'Daily Log'!$CF$18:$CF$1017),0)","v":0},{"$f":"IFERROR($E362*SUMIF('Daily Log'!$CH$18:$CH$1017,$B362,'Daily Log'!$CI$18:$CI$1017),0)","v":0},{"$f":"IFERROR($E362*SUMIF('Daily Log'!$CK$18:$CK$1017,$B362,'Daily Log'!$CL$18:$CL$1017),0)","v":0},{"$f":"IFERROR($E362*SUMIF('Daily Log'!$CN$18:$CN$1017,$B362,'Daily Log'!$CO$18:$CO$1017),0)","v":0}]
[null,null,null,null,null,0,{"$f":"IFERROR($E363*SUMIF('Daily Log'!$B$18:$B$1017,$B363,'Daily Log'!$C$18:$C$1017),0)","v":0},{"$f":"IFERROR($E363*SUMIF('Daily Log'!$E$18:$E$1017,$B363,'Daily Log'!$F$18:$F$1017),0)","v":0},{"$f":"IFERROR($E363*SUMIF('Daily Log'!$H$18:$H$1017,$B363,'Daily Log'!$I$18:$I$1017),0)","v":0},{"$f":"IFERROR($E363*SUMIF('Daily Log'!$K$18:$K$1017,$B363,'Daily Log'!$L$18:$L$1017),0)","v":0},{"$f":"IFERROR($E363*SUMIF('Daily Log'!$N$18:$N$1017,$B363,'Daily Log'!$O$18:$O$1017),0)","v":0},{"$f":"IFERROR($E363*SUMIF('Daily Log'!$Q$18:$Q$1017,$B363,'Daily Log'!$R$18:$R$1017),0)","v":0},{"$f":"IFERROR($E363*SUMIF('Daily Log'!$T$18:$T$1017,$B363,'Daily Log'!$U$18:$U$1017),0)","v":0},{"$f":"IFERROR($E363*SUMIF('Daily Log'!$W$18:$W$1017,$B363,'Daily Log'!$X$18:$X$1017),0)","v":0},{"$f":"IFERROR($E363*SUMIF('Daily Log'!$Z$18:$Z$1017,$B363,'Daily Log'!$AA$18:$AA$1017),0)","v":0},{"$f":"IFERROR($E363*SUMIF('Daily Log'!$AC$18:$AC$1017,$B363,'Daily Log'!$AD$18:$AD$1017),0)","v":0},{"$f":"IFERROR($E363*SUMIF('Daily Log'!$AF$18:$AF$1017,$B363,'Daily Log'!$AG$18:$AG$1017),0)","v":0},{"$f":"IFERROR($E363*SUMIF('Daily Log'!$AI$18:$AI$1017,$B363,'Daily Log'!$AJ$18:$AJ$1017),0)","v":0},{"$f":"IFERROR($E363*SUMIF('Daily Log'!$AL$18:$AL$1017,$B363,'Daily Log'!$AM$18:$AM$1017),0)","v":0},{"$f":"IFERROR($E363*SUMIF('Daily Log'!$AO$18:$AO$1017,$B363,'Daily Log'!$AP$18:$AP$1017),0)","v":0},{"$f":"IFERROR($E363*SUMIF('Daily Log'!$AR$18:$AR$1017,$B363,'Daily Log'!$AS$18:$AS$1017),0)","v":0},{"$f":"IFERROR($E363*SUMIF('Daily Log'!$AU$18:$AU$1017,$B363,'Daily Log'!$AV$18:$AV$1017),0)","v":0},{"$f":"IFERROR($E363*SUMIF('Daily Log'!$AX$18:$AX$1017,$B363,'Daily Log'!$AY$18:$AY$1017),0)","v":0},{"$f":"IFERROR($E363*SUMIF('Daily Log'!$BA$18:$BA$1017,$B363,'Daily Log'!$BB$18:$BB$1017),0)","v":0},{"$f":"IFERROR($E363*SUMIF('Daily Log'!$BD$18:$BD$1017,$B363,'Daily Log'!$BE$18:$BE$1017),0)","v":0},{"$f":"IFERROR($E363*SUMIF('Daily Log'!$BG$18:$BG$1017,$B363,'Daily Log'!$BH$18:$BH$1017),0)","v":0},{"$f":"IFERROR($E363*SUMIF('Daily Log'!$BJ$18:$BJ$1017,$B363,'Daily Log'!$BK$18:$BK$1017),0)","v":0},{"$f":"IFERROR($E363*SUMIF('Daily Log'!$BM$18:$BM$1017,$B363,'Daily Log'!$BN$18:$BN$1017),0)","v":0},{"$f":"IFERROR($E363*SUMIF('Daily Log'!$BP$18:$BP$1017,$B363,'Daily Log'!$BQ$18:$BQ$1017),0)","v":0},{"$f":"IFERROR($E363*SUMIF('Daily Log'!$BS$18:$BS$1017,$B363,'Daily Log'!$BT$18:$BT$1017),0)","v":0},{"$f":"IFERROR($E363*SUMIF('Daily Log'!$BV$18:$BV$1017,$B363,'Daily Log'!$BW$18:$BW$1017),0)","v":0},{"$f":"IFERROR($E363*SUMIF('Daily Log'!$BY$18:$BY$1017,$B363,'Daily Log'!$BZ$18:$BZ$1017),0)","v":0},{"$f":"IFERROR($E363*SUMIF('Daily Log'!$CB$18:$CB$1017,$B363,'Daily Log'!$CC$18:$CC$1017),0)","v":0},{"$f":"IFERROR($E363*SUMIF('Daily Log'!$CE$18:$CE$1017,$B363,'Daily Log'!$CF$18:$CF$1017),0)","v":0},{"$f":"IFERROR($E363*SUMIF('Daily Log'!$CH$18:$CH$1017,$B363,'Daily Log'!$CI$18:$CI$1017),0)","v":0},{"$f":"IFERROR($E363*SUMIF('Daily Log'!$CK$18:$CK$1017,$B363,'Daily Log'!$CL$18:$CL$1017),0)","v":0},{"$f":"IFERROR($E363*SUMIF('Daily Log'!$CN$18:$CN$1017,$B363,'Daily Log'!$CO$18:$CO$1017),0)","v":0}]
[null,null,null,null,null,0,{"$f":"IFERROR($E364*SUMIF('Daily Log'!$B$18:$B$1017,$B364,'Daily Log'!$C$18:$C$1017),0)","v":0},{"$f":"IFERROR($E364*SUMIF('Daily Log'!$E$18:$E$1017,$B364,'Daily Log'!$F$18:$F$1017),0)","v":0},{"$f":"IFERROR($E364*SUMIF('Daily Log'!$H$18:$H$1017,$B364,'Daily Log'!$I$18:$I$1017),0)","v":0},{"$f":"IFERROR($E364*SUMIF('Daily Log'!$K$18:$K$1017,$B364,'Daily Log'!$L$18:$L$1017),0)","v":0},{"$f":"IFERROR($E364*SUMIF('Daily Log'!$N$18:$N$1017,$B364,'Daily Log'!$O$18:$O$1017),0)","v":0},{"$f":"IFERROR($E364*SUMIF('Daily Log'!$Q$18:$Q$1017,$B364,'Daily Log'!$R$18:$R$1017),0)","v":0},{"$f":"IFERROR($E364*SUMIF('Daily Log'!$T$18:$T$1017,$B364,'Daily Log'!$U$18:$U$1017),0)","v":0},{"$f":"IFERROR($E364*SUMIF('Daily Log'!$W$18:$W$1017,$B364,'Daily Log'!$X$18:$X$1017),0)","v":0},{"$f":"IFERROR($E364*SUMIF('Daily Log'!$Z$18:$Z$1017,$B364,'Daily Log'!$AA$18:$AA$1017),0)","v":0},{"$f":"IFERROR($E364*SUMIF('Daily Log'!$AC$18:$AC$1017,$B364,'Daily Log'!$AD$18:$AD$1017),0)","v":0},{"$f":"IFERROR($E364*SUMIF('Daily Log'!$AF$18:$AF$1017,$B364,'Daily Log'!$AG$18:$AG$1017),0)","v":0},{"$f":"IFERROR($E364*SUMIF('Daily Log'!$AI$18:$AI$1017,$B364,'Daily Log'!$AJ$18:$AJ$1017),0)","v":0},{"$f":"IFERROR($E364*SUMIF('Daily Log'!$AL$18:$AL$1017,$B364,'Daily Log'!$AM$18:$AM$1017),0)","v":0},{"$f":"IFERROR($E364*SUMIF('Daily Log'!$AO$18:$AO$1017,$B364,'Daily Log'!$AP$18:$AP$1017),0)","v":0},{"$f":"IFERROR($E364*SUMIF('Daily Log'!$AR$18:$AR$1017,$B364,'Daily Log'!$AS$18:$AS$1017),0)","v":0},{"$f":"IFERROR($E364*SUMIF('Daily Log'!$AU$18:$AU$1017,$B364,'Daily Log'!$AV$18:$AV$1017),0)","v":0},{"$f":"IFERROR($E364*SUMIF('Daily Log'!$AX$18:$AX$1017,$B364,'Daily Log'!$AY$18:$AY$1017),0)","v":0},{"$f":"IFERROR($E364*SUMIF('Daily Log'!$BA$18:$BA$1017,$B364,'Daily Log'!$BB$18:$BB$1017),0)","v":0},{"$f":"IFERROR($E364*SUMIF('Daily Log'!$BD$18:$BD$1017,$B364,'Daily Log'!$BE$18:$BE$1017),0)","v":0},{"$f":"IFERROR($E364*SUMIF('Daily Log'!$BG$18:$BG$1017,$B364,'Daily Log'!$BH$18:$BH$1017),0)","v":0},{"$f":"IFERROR($E364*SUMIF('Daily Log'!$BJ$18:$BJ$1017,$B364,'Daily Log'!$BK$18:$BK$1017),0)","v":0},{"$f":"IFERROR($E364*SUMIF('Daily Log'!$BM$18:$BM$1017,$B364,'Daily Log'!$BN$18:$BN$1017),0)","v":0},{"$f":"IFERROR($E364*SUMIF('Daily Log'!$BP$18:$BP$1017,$B364,'Daily Log'!$BQ$18:$BQ$1017),0)","v":0},{"$f":"IFERROR($E364*SUMIF('Daily Log'!$BS$18:$BS$1017,$B364,'Daily Log'!$BT$18:$BT$1017),0)","v":0},{"$f":"IFERROR($E364*SUMIF('Daily Log'!$BV$18:$BV$1017,$B364,'Daily Log'!$BW$18:$BW$1017),0)","v":0},{"$f":"IFERROR($E364*SUMIF('Daily Log'!$BY$18:$BY$1017,$B364,'Daily Log'!$BZ$18:$BZ$1017),0)","v":0},{"$f":"IFERROR($E364*SUMIF('Daily Log'!$CB$18:$CB$1017,$B364,'Daily Log'!$CC$18:$CC$1017),0)","v":0},{"$f":"IFERROR($E364*SUMIF('Daily Log'!$CE$18:$CE$1017,$B364,'Daily Log'!$CF$18:$CF$1017),0)","v":0},{"$f":"IFERROR($E364*SUMIF('Daily Log'!$CH$18:$CH$1017,$B364,'Daily Log'!$CI$18:$CI$1017),0)","v":0},{"$f":"IFERROR($E364*SUMIF('Daily Log'!$CK$18:$CK$1017,$B364,'Daily Log'!$CL$18:$CL$1017),0)","v":0},{"$f":"IFERROR($E364*SUMIF('Daily Log'!$CN$18:$CN$1017,$B364,'Daily Log'!$CO$18:$CO$1017),0)","v":0}]
[null,null,null,null,null,0,{"$f":"IFERROR($E365*SUMIF('Daily Log'!$B$18:$B$1017,$B365,'Daily Log'!$C$18:$C$1017),0)","v":0},{"$f":"IFERROR($E365*SUMIF('Daily Log'!$E$18:$E$1017,$B365,'Daily Log'!$F$18:$F$1017),0)","v":0},{"$f":"IFERROR($E365*SUMIF('Daily Log'!$H$18:$H$1017,$B365,'Daily Log'!$I$18:$I$1017),0)","v":0},{"$f":"IFERROR($E365*SUMIF('Daily Log'!$K$18:$K$1017,$B365,'Daily Log'!$L$18:$L$1017),0)","v":0},{"$f":"IFERROR($E365*SUMIF('Daily Log'!$N$18:$N$1017,$B365,'Daily Log'!$O$18:$O$1017),0)","v":0},{"$f":"IFERROR($E365*SUMIF('Daily Log'!$Q$18:$Q$1017,$B365,'Daily Log'!$R$18:$R$1017),0)","v":0},{"$f":"IFERROR($E365*SUMIF('Daily Log'!$T$18:$T$1017,$B365,'Daily Log'!$U$18:$U$1017),0)","v":0},{"$f":"IFERROR($E365*SUMIF('Daily Log'!$W$18:$W$1017,$B365,'Daily Log'!$X$18:$X$1017),0)","v":0},{"$f":"IFERROR($E365*SUMIF('Daily Log'!$Z$18:$Z$1017,$B365,'Daily Log'!$AA$18:$AA$1017),0)","v":0},{"$f":"IFERROR($E365*SUMIF('Daily Log'!$AC$18:$AC$1017,$B365,'Daily Log'!$AD$18:$AD$1017),0)","v":0},{"$f":"IFERROR($E365*SUMIF('Daily Log'!$AF$18:$AF$1017,$B365,'Daily Log'!$AG$18:$AG$1017),0)","v":0},{"$f":"IFERROR($E365*SUMIF('Daily Log'!$AI$18:$AI$1017,$B365,'Daily Log'!$AJ$18:$AJ$1017),0)","v":0},{"$f":"IFERROR($E365*SUMIF('Daily Log'!$AL$18:$AL$1017,$B365,'Daily Log'!$AM$18:$AM$1017),0)","v":0},{"$f":"IFERROR($E365*SUMIF('Daily Log'!$AO$18:$AO$1017,$B365,'Daily Log'!$AP$18:$AP$1017),0)","v":0},{"$f":"IFERROR($E365*SUMIF('Daily Log'!$AR$18:$AR$1017,$B365,'Daily Log'!$AS$18:$AS$1017),0)","v":0},{"$f":"IFERROR($E365*SUMIF('Daily Log'!$AU$18:$AU$1017,$B365,'Daily Log'!$AV$18:$AV$1017),0)","v":0},{"$f":"IFERROR($E365*SUMIF('Daily Log'!$AX$18:$AX$1017,$B365,'Daily Log'!$AY$18:$AY$1017),0)","v":0},{"$f":"IFERROR($E365*SUMIF('Daily Log'!$BA$18:$BA$1017,$B365,'Daily Log'!$BB$18:$BB$1017),0)","v":0},{"$f":"IFERROR($E365*SUMIF('Daily Log'!$BD$18:$BD$1017,$B365,'Daily Log'!$BE$18:$BE$1017),0)","v":0},{"$f":"IFERROR($E365*SUMIF('Daily Log'!$BG$18:$BG$1017,$B365,'Daily Log'!$BH$18:$BH$1017),0)","v":0},{"$f":"IFERROR($E365*SUMIF('Daily Log'!$BJ$18:$BJ$1017,$B365,'Daily Log'!$BK$18:$BK$1017),0)","v":0},{"$f":"IFERROR($E365*SUMIF('Daily Log'!$BM$18:$BM$1017,$B365,'Daily Log'!$BN$18:$BN$1017),0)","v":0},{"$f":"IFERROR($E365*SUMIF('Daily Log'!$BP$18:$BP$1017,$B365,'Daily Log'!$BQ$18:$BQ$1017),0)","v":0},{"$f":"IFERROR($E365*SUMIF('Daily Log'!$BS$18:$BS$1017,$B365,'Daily Log'!$BT$18:$BT$1017),0)","v":0},{"$f":"IFERROR($E365*SUMIF('Daily Log'!$BV$18:$BV$1017,$B365,'Daily Log'!$BW$18:$BW$1017),0)","v":0},{"$f":"IFERROR($E365*SUMIF('Daily Log'!$BY$18:$BY$1017,$B365,'Daily Log'!$BZ$18:$BZ$1017),0)","v":0},{"$f":"IFERROR($E365*SUMIF('Daily Log'!$CB$18:$CB$1017,$B365,'Daily Log'!$CC$18:$CC$1017),0)","v":0},{"$f":"IFERROR($E365*SUMIF('Daily Log'!$CE$18:$CE$1017,$B365,'Daily Log'!$CF$18:$CF$1017),0)","v":0},{"$f":"IFERROR($E365*SUMIF('Daily Log'!$CH$18:$CH$1017,$B365,'Daily Log'!$CI$18:$CI$1017),0)","v":0},{"$f":"IFERROR($E365*SUMIF('Daily Log'!$CK$18:$CK$1017,$B365,'Daily Log'!$CL$18:$CL$1017),0)","v":0},{"$f":"IFERROR($E365*SUMIF('Daily Log'!$CN$18:$CN$1017,$B365,'Daily Log'!$CO$18:$CO$1017),0)","v":0}]
[null,null,null,null,null,0,{"$f":"IFERROR($E366*SUMIF('Daily Log'!$B$18:$B$1017,$B366,'Daily Log'!$C$18:$C$1017),0)","v":0},{"$f":"IFERROR($E366*SUMIF('Daily Log'!$E$18:$E$1017,$B366,'Daily Log'!$F$18:$F$1017),0)","v":0},{"$f":"IFERROR($E366*SUMIF('Daily Log'!$H$18:$H$1017,$B366,'Daily Log'!$I$18:$I$1017),0)","v":0},{"$f":"IFERROR($E366*SUMIF('Daily Log'!$K$18:$K$1017,$B366,'Daily Log'!$L$18:$L$1017),0)","v":0},{"$f":"IFERROR($E366*SUMIF('Daily Log'!$N$18:$N$1017,$B366,'Daily Log'!$O$18:$O$1017),0)","v":0},{"$f":"IFERROR($E366*SUMIF('Daily Log'!$Q$18:$Q$1017,$B366,'Daily Log'!$R$18:$R$1017),0)","v":0},{"$f":"IFERROR($E366*SUMIF('Daily Log'!$T$18:$T$1017,$B366,'Daily Log'!$U$18:$U$1017),0)","v":0},{"$f":"IFERROR($E366*SUMIF('Daily Log'!$W$18:$W$1017,$B366,'Daily Log'!$X$18:$X$1017),0)","v":0},{"$f":"IFERROR($E366*SUMIF('Daily Log'!$Z$18:$Z$1017,$B366,'Daily Log'!$AA$18:$AA$1017),0)","v":0},{"$f":"IFERROR($E366*SUMIF('Daily Log'!$AC$18:$AC$1017,$B366,'Daily Log'!$AD$18:$AD$1017),0)","v":0},{"$f":"IFERROR($E366*SUMIF('Daily Log'!$AF$18:$AF$1017,$B366,'Daily Log'!$AG$18:$AG$1017),0)","v":0},{"$f":"IFERROR($E366*SUMIF('Daily Log'!$AI$18:$AI$1017,$B366,'Daily Log'!$AJ$18:$AJ$1017),0)","v":0},{"$f":"IFERROR($E366*SUMIF('Daily Log'!$AL$18:$AL$1017,$B366,'Daily Log'!$AM$18:$AM$1017),0)","v":0},{"$f":"IFERROR($E366*SUMIF('Daily Log'!$AO$18:$AO$1017,$B366,'Daily Log'!$AP$18:$AP$1017),0)","v":0},{"$f":"IFERROR($E366*SUMIF('Daily Log'!$AR$18:$AR$1017,$B366,'Daily Log'!$AS$18:$AS$1017),0)","v":0},{"$f":"IFERROR($E366*SUMIF('Daily Log'!$AU$18:$AU$1017,$B366,'Daily Log'!$AV$18:$AV$1017),0)","v":0},{"$f":"IFERROR($E366*SUMIF('Daily Log'!$AX$18:$AX$1017,$B366,'Daily Log'!$AY$18:$AY$1017),0)","v":0},{"$f":"IFERROR($E366*SUMIF('Daily Log'!$BA$18:$BA$1017,$B366,'Daily Log'!$BB$18:$BB$1017),0)","v":0},{"$f":"IFERROR($E366*SUMIF('Daily Log'!$BD$18:$BD$1017,$B366,'Daily Log'!$BE$18:$BE$1017),0)","v":0},{"$f":"IFERROR($E366*SUMIF('Daily Log'!$BG$18:$BG$1017,$B366,'Daily Log'!$BH$18:$BH$1017),0)","v":0},{"$f":"IFERROR($E366*SUMIF('Daily Log'!$BJ$18:$BJ$1017,$B366,'Daily Log'!$BK$18:$BK$1017),0)","v":0},{"$f":"IFERROR($E366*SUMIF('Daily Log'!$BM$18:$BM$1017,$B366,'Daily Log'!$BN$18:$BN$1017),0)","v":0},{"$f":"IFERROR($E366*SUMIF('Daily Log'!$BP$18:$BP$1017,$B366,'Daily Log'!$BQ$18:$BQ$1017),0)","v":0},{"$f":"IFERROR($E366*SUMIF('Daily Log'!$BS$18:$BS$1017,$B366,'Daily Log'!$BT$18:$BT$1017),0)","v":0},{"$f":"IFERROR($E366*SUMIF('Daily Log'!$BV$18:$BV$1017,$B366,'Daily Log'!$BW$18:$BW$1017),0)","v":0},{"$f":"IFERROR($E366*SUMIF('Daily Log'!$BY$18:$BY$1017,$B366,'Daily Log'!$BZ$18:$BZ$1017),0)","v":0},{"$f":"IFERROR($E366*SUMIF('Daily Log'!$CB$18:$CB$1017,$B366,'Daily Log'!$CC$18:$CC$1017),0)","v":0},{"$f":"IFERROR($E366*SUMIF('Daily Log'!$CE$18:$CE$1017,$B366,'Daily Log'!$CF$18:$CF$1017),0)","v":0},{"$f":"IFERROR($E366*SUMIF('Daily Log'!$CH$18:$CH$1017,$B366,'Daily Log'!$CI$18:$CI$1017),0)","v":0},{"$f":"IFERROR($E366*SUMIF('Daily Log'!$CK$18:$CK$1017,$B366,'Daily Log'!$CL$18:$CL$1017),0)","v":0},{"$f":"IFERROR($E366*SUMIF('Daily Log'!$CN$18:$CN$1017,$B366,'Daily Log'!$CO$18:$CO$1017),0)","v":0}]
[null,null,null,null,null,0,{"$f":"IFERROR($E367*SUMIF('Daily Log'!$B$18:$B$1017,$B367,'Daily Log'!$C$18:$C$1017),0)","v":0},{"$f":"IFERROR($E367*SUMIF('Daily Log'!$E$18:$E$1017,$B367,'Daily Log'!$F$18:$F$1017),0)","v":0},{"$f":"IFERROR($E367*SUMIF('Daily Log'!$H$18:$H$1017,$B367,'Daily Log'!$I$18:$I$1017),0)","v":0},{"$f":"IFERROR($E367*SUMIF('Daily Log'!$K$18:$K$1017,$B367,'Daily Log'!$L$18:$L$1017),0)","v":0},{"$f":"IFERROR($E367*SUMIF('Daily Log'!$N$18:$N$1017,$B367,'Daily Log'!$O$18:$O$1017),0)","v":0},{"$f":"IFERROR($E367*SUMIF('Daily Log'!$Q$18:$Q$1017,$B367,'Daily Log'!$R$18:$R$1017),0)","v":0},{"$f":"IFERROR($E367*SUMIF('Daily Log'!$T$18:$T$1017,$B367,'Daily Log'!$U$18:$U$1017),0)","v":0},{"$f":"IFERROR($E367*SUMIF('Daily Log'!$W$18:$W$1017,$B367,'Daily Log'!$X$18:$X$1017),0)","v":0},{"$f":"IFERROR($E367*SUMIF('Daily Log'!$Z$18:$Z$1017,$B367,'Daily Log'!$AA$18:$AA$1017),0)","v":0},{"$f":"IFERROR($E367*SUMIF('Daily Log'!$AC$18:$AC$1017,$B367,'Daily Log'!$AD$18:$AD$1017),0)","v":0},{"$f":"IFERROR($E367*SUMIF('Daily Log'!$AF$18:$AF$1017,$B367,'Daily Log'!$AG$18:$AG$1017),0)","v":0},{"$f":"IFERROR($E367*SUMIF('Daily Log'!$AI$18:$AI$1017,$B367,'Daily Log'!$AJ$18:$AJ$1017),0)","v":0},{"$f":"IFERROR($E367*SUMIF('Daily Log'!$AL$18:$AL$1017,$B367,'Daily Log'!$AM$18:$AM$1017),0)","v":0},{"$f":"IFERROR($E367*SUMIF('Daily Log'!$AO$18:$AO$1017,$B367,'Daily Log'!$AP$18:$AP$1017),0)","v":0},{"$f":"IFERROR($E367*SUMIF('Daily Log'!$AR$18:$AR$1017,$B367,'Daily Log'!$AS$18:$AS$1017),0)","v":0},{"$f":"IFERROR($E367*SUMIF('Daily Log'!$AU$18:$AU$1017,$B367,'Daily Log'!$AV$18:$AV$1017),0)","v":0},{"$f":"IFERROR($E367*SUMIF('Daily Log'!$AX$18:$AX$1017,$B367,'Daily Log'!$AY$18:$AY$1017),0)","v":0},{"$f":"IFERROR($E367*SUMIF('Daily Log'!$BA$18:$BA$1017,$B367,'Daily Log'!$BB$18:$BB$1017),0)","v":0},{"$f":"IFERROR($E367*SUMIF('Daily Log'!$BD$18:$BD$1017,$B367,'Daily Log'!$BE$18:$BE$1017),0)","v":0},{"$f":"IFERROR($E367*SUMIF('Daily Log'!$BG$18:$BG$1017,$B367,'Daily Log'!$BH$18:$BH$1017),0)","v":0},{"$f":"IFERROR($E367*SUMIF('Daily Log'!$BJ$18:$BJ$1017,$B367,'Daily Log'!$BK$18:$BK$1017),0)","v":0},{"$f":"IFERROR($E367*SUMIF('Daily Log'!$BM$18:$BM$1017,$B367,'Daily Log'!$BN$18:$BN$1017),0)","v":0},{"$f":"IFERROR($E367*SUMIF('Daily Log'!$BP$18:$BP$1017,$B367,'Daily Log'!$BQ$18:$BQ$1017),0)","v":0},{"$f":"IFERROR($E367*SUMIF('Daily Log'!$BS$18:$BS$1017,$B367,'Daily Log'!$BT$18:$BT$1017),0)","v":0},{"$f":"IFERROR($E367*SUMIF('Daily Log'!$BV$18:$BV$1017,$B367,'Daily Log'!$BW$18:$BW$1017),0)","v":0},{"$f":"IFERROR($E367*SUMIF('Daily Log'!$BY$18:$BY$1017,$B367,'Daily Log'!$BZ$18:$BZ$1017),0)","v":0},{"$f":"IFERROR($E367*SUMIF('Daily Log'!$CB$18:$CB$1017,$B367,'Daily Log'!$CC$18:$CC$1017),0)","v":0},{"$f":"IFERROR($E367*SUMIF('Daily Log'!$CE$18:$CE$1017,$B367,'Daily Log'!$CF$18:$CF$1017),0)","v":0},{"$f":"IFERROR($E367*SUMIF('Daily Log'!$CH$18:$CH$1017,$B367,'Daily Log'!$CI$18:$CI$1017),0)","v":0},{"$f":"IFERROR($E367*SUMIF('Daily Log'!$CK$18:$CK$1017,$B367,'Daily Log'!$CL$18:$CL$1017),0)","v":0},{"$f":"IFERROR($E367*SUMIF('Daily Log'!$CN$18:$CN$1017,$B367,'Daily Log'!$CO$18:$CO$1017),0)","v":0}]
[null,null,null,null,null,0,{"$f":"IFERROR($E368*SUMIF('Daily Log'!$B$18:$B$1017,$B368,'Daily Log'!$C$18:$C$1017),0)","v":0},{"$f":"IFERROR($E368*SUMIF('Daily Log'!$E$18:$E$1017,$B368,'Daily Log'!$F$18:$F$1017),0)","v":0},{"$f":"IFERROR($E368*SUMIF('Daily Log'!$H$18:$H$1017,$B368,'Daily Log'!$I$18:$I$1017),0)","v":0},{"$f":"IFERROR($E368*SUMIF('Daily Log'!$K$18:$K$1017,$B368,'Daily Log'!$L$18:$L$1017),0)","v":0},{"$f":"IFERROR($E368*SUMIF('Daily Log'!$N$18:$N$1017,$B368,'Daily Log'!$O$18:$O$1017),0)","v":0},{"$f":"IFERROR($E368*SUMIF('Daily Log'!$Q$18:$Q$1017,$B368,'Daily Log'!$R$18:$R$1017),0)","v":0},{"$f":"IFERROR($E368*SUMIF('Daily Log'!$T$18:$T$1017,$B368,'Daily Log'!$U$18:$U$1017),0)","v":0},{"$f":"IFERROR($E368*SUMIF('Daily Log'!$W$18:$W$1017,$B368,'Daily Log'!$X$18:$X$1017),0)","v":0},{"$f":"IFERROR($E368*SUMIF('Daily Log'!$Z$18:$Z$1017,$B368,'Daily Log'!$AA$18:$AA$1017),0)","v":0},{"$f":"IFERROR($E368*SUMIF('Daily Log'!$AC$18:$AC$1017,$B368,'Daily Log'!$AD$18:$AD$1017),0)","v":0},{"$f":"IFERROR($E368*SUMIF('Daily Log'!$AF$18:$AF$1017,$B368,'Daily Log'!$AG$18:$AG$1017),0)","v":0},{"$f":"IFERROR($E368*SUMIF('Daily Log'!$AI$18:$AI$1017,$B368,'Daily Log'!$AJ$18:$AJ$1017),0)","v":0},{"$f":"IFERROR($E368*SUMIF('Daily Log'!$AL$18:$AL$1017,$B368,'Daily Log'!$AM$18:$AM$1017),0)","v":0},{"$f":"IFERROR($E368*SUMIF('Daily Log'!$AO$18:$AO$1017,$B368,'Daily Log'!$AP$18:$AP$1017),0)","v":0},{"$f":"IFERROR($E368*SUMIF('Daily Log'!$AR$18:$AR$1017,$B368,'Daily Log'!$AS$18:$AS$1017),0)","v":0},{"$f":"IFERROR($E368*SUMIF('Daily Log'!$AU$18:$AU$1017,$B368,'Daily Log'!$AV$18:$AV$1017),0)","v":0},{"$f":"IFERROR($E368*SUMIF('Daily Log'!$AX$18:$AX$1017,$B368,'Daily Log'!$AY$18:$AY$1017),0)","v":0},{"$f":"IFERROR($E368*SUMIF('Daily Log'!$BA$18:$BA$1017,$B368,'Daily Log'!$BB$18:$BB$1017),0)","v":0},{"$f":"IFERROR($E368*SUMIF('Daily Log'!$BD$18:$BD$1017,$B368,'Daily Log'!$BE$18:$BE$1017),0)","v":0},{"$f":"IFERROR($E368*SUMIF('Daily Log'!$BG$18:$BG$1017,$B368,'Daily Log'!$BH$18:$BH$1017),0)","v":0},{"$f":"IFERROR($E368*SUMIF('Daily Log'!$BJ$18:$BJ$1017,$B368,'Daily Log'!$BK$18:$BK$1017),0)","v":0},{"$f":"IFERROR($E368*SUMIF('Daily Log'!$BM$18:$BM$1017,$B368,'Daily Log'!$BN$18:$BN$1017),0)","v":0},{"$f":"IFERROR($E368*SUMIF('Daily Log'!$BP$18:$BP$1017,$B368,'Daily Log'!$BQ$18:$BQ$1017),0)","v":0},{"$f":"IFERROR($E368*SUMIF('Daily Log'!$BS$18:$BS$1017,$B368,'Daily Log'!$BT$18:$BT$1017),0)","v":0},{"$f":"IFERROR($E368*SUMIF('Daily Log'!$BV$18:$BV$1017,$B368,'Daily Log'!$BW$18:$BW$1017),0)","v":0},{"$f":"IFERROR($E368*SUMIF('Daily Log'!$BY$18:$BY$1017,$B368,'Daily Log'!$BZ$18:$BZ$1017),0)","v":0},{"$f":"IFERROR($E368*SUMIF('Daily Log'!$CB$18:$CB$1017,$B368,'Daily Log'!$CC$18:$CC$1017),0)","v":0},{"$f":"IFERROR($E368*SUMIF('Daily Log'!$CE$18:$CE$1017,$B368,'Daily Log'!$CF$18:$CF$1017),0)","v":0},{"$f":"IFERROR($E368*SUMIF('Daily Log'!$CH$18:$CH$1017,$B368,'Daily Log'!$CI$18:$CI$1017),0)","v":0},{"$f":"IFERROR($E368*SUMIF('Daily Log'!$CK$18:$CK$1017,$B368,'Daily Log'!$CL$18:$CL$1017),0)","v":0},{"$f":"IFERROR($E368*SUMIF('Daily Log'!$CN$18:$CN$1017,$B368,'Daily Log'!$CO$18:$CO$1017),0)","v":0}]
[null,null,null,null,null,0,{"$f":"IFERROR($E369*SUMIF('Daily Log'!$B$18:$B$1017,$B369,'Daily Log'!$C$18:$C$1017),0)","v":0},{"$f":"IFERROR($E369*SUMIF('Daily Log'!$E$18:$E$1017,$B369,'Daily Log'!$F$18:$F$1017),0)","v":0},{"$f":"IFERROR($E369*SUMIF('Daily Log'!$H$18:$H$1017,$B369,'Daily Log'!$I$18:$I$1017),0)","v":0},{"$f":"IFERROR($E369*SUMIF('Daily Log'!$K$18:$K$1017,$B369,'Daily Log'!$L$18:$L$1017),0)","v":0},{"$f":"IFERROR($E369*SUMIF('Daily Log'!$N$18:$N$1017,$B369,'Daily Log'!$O$18:$O$1017),0)","v":0},{"$f":"IFERROR($E369*SUMIF('Daily Log'!$Q$18:$Q$1017,$B369,'Daily Log'!$R$18:$R$1017),0)","v":0},{"$f":"IFERROR($E369*SUMIF('Daily Log'!$T$18:$T$1017,$B369,'Daily Log'!$U$18:$U$1017),0)","v":0},{"$f":"IFERROR($E369*SUMIF('Daily Log'!$W$18:$W$1017,$B369,'Daily Log'!$X$18:$X$1017),0)","v":0},{"$f":"IFERROR($E369*SUMIF('Daily Log'!$Z$18:$Z$1017,$B369,'Daily Log'!$AA$18:$AA$1017),0)","v":0},{"$f":"IFERROR($E369*SUMIF('Daily Log'!$AC$18:$AC$1017,$B369,'Daily Log'!$AD$18:$AD$1017),0)","v":0},{"$f":"IFERROR($E369*SUMIF('Daily Log'!$AF$18:$AF$1017,$B369,'Daily Log'!$AG$18:$AG$1017),0)","v":0},{"$f":"IFERROR($E369*SUMIF('Daily Log'!$AI$18:$AI$1017,$B369,'Daily Log'!$AJ$18:$AJ$1017),0)","v":0},{"$f":"IFERROR($E369*SUMIF('Daily Log'!$AL$18:$AL$1017,$B369,'Daily Log'!$AM$18:$AM$1017),0)","v":0},{"$f":"IFERROR($E369*SUMIF('Daily Log'!$AO$18:$AO$1017,$B369,'Daily Log'!$AP$18:$AP$1017),0)","v":0},{"$f":"IFERROR($E369*SUMIF('Daily Log'!$AR$18:$AR$1017,$B369,'Daily Log'!$AS$18:$AS$1017),0)","v":0},{"$f":"IFERROR($E369*SUMIF('Daily Log'!$AU$18:$AU$1017,$B369,'Daily Log'!$AV$18:$AV$1017),0)","v":0},{"$f":"IFERROR($E369*SUMIF('Daily Log'!$AX$18:$AX$1017,$B369,'Daily Log'!$AY$18:$AY$1017),0)","v":0},{"$f":"IFERROR($E369*SUMIF('Daily Log'!$BA$18:$BA$1017,$B369,'Daily Log'!$BB$18:$BB$1017),0)","v":0},{"$f":"IFERROR($E369*SUMIF('Daily Log'!$BD$18:$BD$1017,$B369,'Daily Log'!$BE$18:$BE$1017),0)","v":0},{"$f":"IFERROR($E369*SUMIF('Daily Log'!$BG$18:$BG$1017,$B369,'Daily Log'!$BH$18:$BH$1017),0)","v":0},{"$f":"IFERROR($E369*SUMIF('Daily Log'!$BJ$18:$BJ$1017,$B369,'Daily Log'!$BK$18:$BK$1017),0)","v":0},{"$f":"IFERROR($E369*SUMIF('Daily Log'!$BM$18:$BM$1017,$B369,'Daily Log'!$BN$18:$BN$1017),0)","v":0},{"$f":"IFERROR($E369*SUMIF('Daily Log'!$BP$18:$BP$1017,$B369,'Daily Log'!$BQ$18:$BQ$1017),0)","v":0},{"$f":"IFERROR($E369*SUMIF('Daily Log'!$BS$18:$BS$1017,$B369,'Daily Log'!$BT$18:$BT$1017),0)","v":0},{"$f":"IFERROR($E369*SUMIF('Daily Log'!$BV$18:$BV$1017,$B369,'Daily Log'!$BW$18:$BW$1017),0)","v":0},{"$f":"IFERROR($E369*SUMIF('Daily Log'!$BY$18:$BY$1017,$B369,'Daily Log'!$BZ$18:$BZ$1017),0)","v":0},{"$f":"IFERROR($E369*SUMIF('Daily Log'!$CB$18:$CB$1017,$B369,'Daily Log'!$CC$18:$CC$1017),0)","v":0},{"$f":"IFERROR($E369*SUMIF('Daily Log'!$CE$18:$CE$1017,$B369,'Daily Log'!$CF$18:$CF$1017),0)","v":0},{"$f":"IFERROR($E369*SUMIF('Daily Log'!$CH$18:$CH$1017,$B369,'Daily Log'!$CI$18:$CI$1017),0)","v":0},{"$f":"IFERROR($E369*SUMIF('Daily Log'!$CK$18:$CK$1017,$B369,'Daily Log'!$CL$18:$CL$1017),0)","v":0},{"$f":"IFERROR($E369*SUMIF('Daily Log'!$CN$18:$CN$1017,$B369,'Daily Log'!$CO$18:$CO$1017),0)","v":0}]
[null,null,null,null,null,0,{"$f":"IFERROR($E370*SUMIF('Daily Log'!$B$18:$B$1017,$B370,'Daily Log'!$C$18:$C$1017),0)","v":0},{"$f":"IFERROR($E370*SUMIF('Daily Log'!$E$18:$E$1017,$B370,'Daily Log'!$F$18:$F$1017),0)","v":0},{"$f":"IFERROR($E370*SUMIF('Daily Log'!$H$18:$H$1017,$B370,'Daily Log'!$I$18:$I$1017),0)","v":0},{"$f":"IFERROR($E370*SUMIF('Daily Log'!$K$18:$K$1017,$B370,'Daily Log'!$L$18:$L$1017),0)","v":0},{"$f":"IFERROR($E370*SUMIF('Daily Log'!$N$18:$N$1017,$B370,'Daily Log'!$O$18:$O$1017),0)","v":0},{"$f":"IFERROR($E370*SUMIF('Daily Log'!$Q$18:$Q$1017,$B370,'Daily Log'!$R$18:$R$1017),0)","v":0},{"$f":"IFERROR($E370*SUMIF('Daily Log'!$T$18:$T$1017,$B370,'Daily Log'!$U$18:$U$1017),0)","v":0},{"$f":"IFERROR($E370*SUMIF('Daily Log'!$W$18:$W$1017,$B370,'Daily Log'!$X$18:$X$1017),0)","v":0},{"$f":"IFERROR($E370*SUMIF('Daily Log'!$Z$18:$Z$1017,$B370,'Daily Log'!$AA$18:$AA$1017),0)","v":0},{"$f":"IFERROR($E370*SUMIF('Daily Log'!$AC$18:$AC$1017,$B370,'Daily Log'!$AD$18:$AD$1017),0)","v":0},{"$f":"IFERROR($E370*SUMIF('Daily Log'!$AF$18:$AF$1017,$B370,'Daily Log'!$AG$18:$AG$1017),0)","v":0},{"$f":"IFERROR($E370*SUMIF('Daily Log'!$AI$18:$AI$1017,$B370,'Daily Log'!$AJ$18:$AJ$1017),0)","v":0},{"$f":"IFERROR($E370*SUMIF('Daily Log'!$AL$18:$AL$1017,$B370,'Daily Log'!$AM$18:$AM$1017),0)","v":0},{"$f":"IFERROR($E370*SUMIF('Daily Log'!$AO$18:$AO$1017,$B370,'Daily Log'!$AP$18:$AP$1017),0)","v":0},{"$f":"IFERROR($E370*SUMIF('Daily Log'!$AR$18:$AR$1017,$B370,'Daily Log'!$AS$18:$AS$1017),0)","v":0},{"$f":"IFERROR($E370*SUMIF('Daily Log'!$AU$18:$AU$1017,$B370,'Daily Log'!$AV$18:$AV$1017),0)","v":0},{"$f":"IFERROR($E370*SUMIF('Daily Log'!$AX$18:$AX$1017,$B370,'Daily Log'!$AY$18:$AY$1017),0)","v":0},{"$f":"IFERROR($E370*SUMIF('Daily Log'!$BA$18:$BA$1017,$B370,'Daily Log'!$BB$18:$BB$1017),0)","v":0},{"$f":"IFERROR($E370*SUMIF('Daily Log'!$BD$18:$BD$1017,$B370,'Daily Log'!$BE$18:$BE$1017),0)","v":0},{"$f":"IFERROR($E370*SUMIF('Daily Log'!$BG$18:$BG$1017,$B370,'Daily Log'!$BH$18:$BH$1017),0)","v":0},{"$f":"IFERROR($E370*SUMIF('Daily Log'!$BJ$18:$BJ$1017,$B370,'Daily Log'!$BK$18:$BK$1017),0)","v":0},{"$f":"IFERROR($E370*SUMIF('Daily Log'!$BM$18:$BM$1017,$B370,'Daily Log'!$BN$18:$BN$1017),0)","v":0},{"$f":"IFERROR($E370*SUMIF('Daily Log'!$BP$18:$BP$1017,$B370,'Daily Log'!$BQ$18:$BQ$1017),0)","v":0},{"$f":"IFERROR($E370*SUMIF('Daily Log'!$BS$18:$BS$1017,$B370,'Daily Log'!$BT$18:$BT$1017),0)","v":0},{"$f":"IFERROR($E370*SUMIF('Daily Log'!$BV$18:$BV$1017,$B370,'Daily Log'!$BW$18:$BW$1017),0)","v":0},{"$f":"IFERROR($E370*SUMIF('Daily Log'!$BY$18:$BY$1017,$B370,'Daily Log'!$BZ$18:$BZ$1017),0)","v":0},{"$f":"IFERROR($E370*SUMIF('Daily Log'!$CB$18:$CB$1017,$B370,'Daily Log'!$CC$18:$CC$1017),0)","v":0},{"$f":"IFERROR($E370*SUMIF('Daily Log'!$CE$18:$CE$1017,$B370,'Daily Log'!$CF$18:$CF$1017),0)","v":0},{"$f":"IFERROR($E370*SUMIF('Daily Log'!$CH$18:$CH$1017,$B370,'Daily Log'!$CI$18:$CI$1017),0)","v":0},{"$f":"IFERROR($E370*SUMIF('Daily Log'!$CK$18:$CK$1017,$B370,'Daily Log'!$CL$18:$CL$1017),0)","v":0},{"$f":"IFERROR($E370*SUMIF('Daily Log'!$CN$18:$CN$1017,$B370,'Daily Log'!$CO$18:$CO$1017),0)","v":0}]
[null,null,null,null,null,0,{"$f":"IFERROR($E371*SUMIF('Daily Log'!$B$18:$B$1017,$B371,'Daily Log'!$C$18:$C$1017),0)","v":0},{"$f":"IFERROR($E371*SUMIF('Daily Log'!$E$18:$E$1017,$B371,'Daily Log'!$F$18:$F$1017),0)","v":0},{"$f":"IFERROR($E371*SUMIF('Daily Log'!$H$18:$H$1017,$B371,'Daily Log'!$I$18:$I$1017),0)","v":0},{"$f":"IFERROR($E371*SUMIF('Daily Log'!$K$18:$K$1017,$B371,'Daily Log'!$L$18:$L$1017),0)","v":0},{"$f":"IFERROR($E371*SUMIF('Daily Log'!$N$18:$N$1017,$B371,'Daily Log'!$O$18:$O$1017),0)","v":0},{"$f":"IFERROR($E371*SUMIF('Daily Log'!$Q$18:$Q$1017,$B371,'Daily Log'!$R$18:$R$1017),0)","v":0},{"$f":"IFERROR($E371*SUMIF('Daily Log'!$T$18:$T$1017,$B371,'Daily Log'!$U$18:$U$1017),0)","v":0},{"$f":"IFERROR($E371*SUMIF('Daily Log'!$W$18:$W$1017,$B371,'Daily Log'!$X$18:$X$1017),0)","v":0},{"$f":"IFERROR($E371*SUMIF('Daily Log'!$Z$18:$Z$1017,$B371,'Daily Log'!$AA$18:$AA$1017),0)","v":0},{"$f":"IFERROR($E371*SUMIF('Daily Log'!$AC$18:$AC$1017,$B371,'Daily Log'!$AD$18:$AD$1017),0)","v":0},{"$f":"IFERROR($E371*SUMIF('Daily Log'!$AF$18:$AF$1017,$B371,'Daily Log'!$AG$18:$AG$1017),0)","v":0},{"$f":"IFERROR($E371*SUMIF('Daily Log'!$AI$18:$AI$1017,$B371,'Daily Log'!$AJ$18:$AJ$1017),0)","v":0},{"$f":"IFERROR($E371*SUMIF('Daily Log'!$AL$18:$AL$1017,$B371,'Daily Log'!$AM$18:$AM$1017),0)","v":0},{"$f":"IFERROR($E371*SUMIF('Daily Log'!$AO$18:$AO$1017,$B371,'Daily Log'!$AP$18:$AP$1017),0)","v":0},{"$f":"IFERROR($E371*SUMIF('Daily Log'!$AR$18:$AR$1017,$B371,'Daily Log'!$AS$18:$AS$1017),0)","v":0},{"$f":"IFERROR($E371*SUMIF('Daily Log'!$AU$18:$AU$1017,$B371,'Daily Log'!$AV$18:$AV$1017),0)","v":0},{"$f":"IFERROR($E371*SUMIF('Daily Log'!$AX$18:$AX$1017,$B371,'Daily Log'!$AY$18:$AY$1017),0)","v":0},{"$f":"IFERROR($E371*SUMIF('Daily Log'!$BA$18:$BA$1017,$B371,'Daily Log'!$BB$18:$BB$1017),0)","v":0},{"$f":"IFERROR($E371*SUMIF('Daily Log'!$BD$18:$BD$1017,$B371,'Daily Log'!$BE$18:$BE$1017),0)","v":0},{"$f":"IFERROR($E371*SUMIF('Daily Log'!$BG$18:$BG$1017,$B371,'Daily Log'!$BH$18:$BH$1017),0)","v":0},{"$f":"IFERROR($E371*SUMIF('Daily Log'!$BJ$18:$BJ$1017,$B371,'Daily Log'!$BK$18:$BK$1017),0)","v":0},{"$f":"IFERROR($E371*SUMIF('Daily Log'!$BM$18:$BM$1017,$B371,'Daily Log'!$BN$18:$BN$1017),0)","v":0},{"$f":"IFERROR($E371*SUMIF('Daily Log'!$BP$18:$BP$1017,$B371,'Daily Log'!$BQ$18:$BQ$1017),0)","v":0},{"$f":"IFERROR($E371*SUMIF('Daily Log'!$BS$18:$BS$1017,$B371,'Daily Log'!$BT$18:$BT$1017),0)","v":0},{"$f":"IFERROR($E371*SUMIF('Daily Log'!$BV$18:$BV$1017,$B371,'Daily Log'!$BW$18:$BW$1017),0)","v":0},{"$f":"IFERROR($E371*SUMIF('Daily Log'!$BY$18:$BY$1017,$B371,'Daily Log'!$BZ$18:$BZ$1017),0)","v":0},{"$f":"IFERROR($E371*SUMIF('Daily Log'!$CB$18:$CB$1017,$B371,'Daily Log'!$CC$18:$CC$1017),0)","v":0},{"$f":"IFERROR($E371*SUMIF('Daily Log'!$CE$18:$CE$1017,$B371,'Daily Log'!$CF$18:$CF$1017),0)","v":0},{"$f":"IFERROR($E371*SUMIF('Daily Log'!$CH$18:$CH$1017,$B371,'Daily Log'!$CI$18:$CI$1017),0)","v":0},{"$f":"IFERROR($E371*SUMIF('Daily Log'!$CK$18:$CK$1017,$B371,'Daily Log'!$CL$18:$CL$1017),0)","v":0},{"$f":"IFERROR($E371*SUMIF('Daily Log'!$CN$18:$CN$1017,$B371,'Daily Log'!$CO$18:$CO$1017),0)","v":0}]
[null,null,null,null,null,0,{"$f":"IFERROR($E372*SUMIF('Daily Log'!$B$18:$B$1017,$B372,'Daily Log'!$C$18:$C$1017),0)","v":0},{"$f":"IFERROR($E372*SUMIF('Daily Log'!$E$18:$E$1017,$B372,'Daily Log'!$F$18:$F$1017),0)","v":0},{"$f":"IFERROR($E372*SUMIF('Daily Log'!$H$18:$H$1017,$B372,'Daily Log'!$I$18:$I$1017),0)","v":0},{"$f":"IFERROR($E372*SUMIF('Daily Log'!$K$18:$K$1017,$B372,'Daily Log'!$L$18:$L$1017),0)","v":0},{"$f":"IFERROR($E372*SUMIF('Daily Log'!$N$18:$N$1017,$B372,'Daily Log'!$O$18:$O$1017),0)","v":0},{"$f":"IFERROR($E372*SUMIF('Daily Log'!$Q$18:$Q$1017,$B372,'Daily Log'!$R$18:$R$1017),0)","v":0},{"$f":"IFERROR($E372*SUMIF('Daily Log'!$T$18:$T$1017,$B372,'Daily Log'!$U$18:$U$1017),0)","v":0},{"$f":"IFERROR($E372*SUMIF('Daily Log'!$W$18:$W$1017,$B372,'Daily Log'!$X$18:$X$1017),0)","v":0},{"$f":"IFERROR($E372*SUMIF('Daily Log'!$Z$18:$Z$1017,$B372,'Daily Log'!$AA$18:$AA$1017),0)","v":0},{"$f":"IFERROR($E372*SUMIF('Daily Log'!$AC$18:$AC$1017,$B372,'Daily Log'!$AD$18:$AD$1017),0)","v":0},{"$f":"IFERROR($E372*SUMIF('Daily Log'!$AF$18:$AF$1017,$B372,'Daily Log'!$AG$18:$AG$1017),0)","v":0},{"$f":"IFERROR($E372*SUMIF('Daily Log'!$AI$18:$AI$1017,$B372,'Daily Log'!$AJ$18:$AJ$1017),0)","v":0},{"$f":"IFERROR($E372*SUMIF('Daily Log'!$AL$18:$AL$1017,$B372,'Daily Log'!$AM$18:$AM$1017),0)","v":0},{"$f":"IFERROR($E372*SUMIF('Daily Log'!$AO$18:$AO$1017,$B372,'Daily Log'!$AP$18:$AP$1017),0)","v":0},{"$f":"IFERROR($E372*SUMIF('Daily Log'!$AR$18:$AR$1017,$B372,'Daily Log'!$AS$18:$AS$1017),0)","v":0},{"$f":"IFERROR($E372*SUMIF('Daily Log'!$AU$18:$AU$1017,$B372,'Daily Log'!$AV$18:$AV$1017),0)","v":0},{"$f":"IFERROR($E372*SUMIF('Daily Log'!$AX$18:$AX$1017,$B372,'Daily Log'!$AY$18:$AY$1017),0)","v":0},{"$f":"IFERROR($E372*SUMIF('Daily Log'!$BA$18:$BA$1017,$B372,'Daily Log'!$BB$18:$BB$1017),0)","v":0},{"$f":"IFERROR($E372*SUMIF('Daily Log'!$BD$18:$BD$1017,$B372,'Daily Log'!$BE$18:$BE$1017),0)","v":0},{"$f":"IFERROR($E372*SUMIF('Daily Log'!$BG$18:$BG$1017,$B372,'Daily Log'!$BH$18:$BH$1017),0)","v":0},{"$f":"IFERROR($E372*SUMIF('Daily Log'!$BJ$18:$BJ$1017,$B372,'Daily Log'!$BK$18:$BK$1017),0)","v":0},{"$f":"IFERROR($E372*SUMIF('Daily Log'!$BM$18:$BM$1017,$B372,'Daily Log'!$BN$18:$BN$1017),0)","v":0},{"$f":"IFERROR($E372*SUMIF('Daily Log'!$BP$18:$BP$1017,$B372,'Daily Log'!$BQ$18:$BQ$1017),0)","v":0},{"$f":"IFERROR($E372*SUMIF('Daily Log'!$BS$18:$BS$1017,$B372,'Daily Log'!$BT$18:$BT$1017),0)","v":0},{"$f":"IFERROR($E372*SUMIF('Daily Log'!$BV$18:$BV$1017,$B372,'Daily Log'!$BW$18:$BW$1017),0)","v":0},{"$f":"IFERROR($E372*SUMIF('Daily Log'!$BY$18:$BY$1017,$B372,'Daily Log'!$BZ$18:$BZ$1017),0)","v":0},{"$f":"IFERROR($E372*SUMIF('Daily Log'!$CB$18:$CB$1017,$B372,'Daily Log'!$CC$18:$CC$1017),0)","v":0},{"$f":"IFERROR($E372*SUMIF('Daily Log'!$CE$18:$CE$1017,$B372,'Daily Log'!$CF$18:$CF$1017),0)","v":0},{"$f":"IFERROR($E372*SUMIF('Daily Log'!$CH$18:$CH$1017,$B372,'Daily Log'!$CI$18:$CI$1017),0)","v":0},{"$f":"IFERROR($E372*SUMIF('Daily Log'!$CK$18:$CK$1017,$B372,'Daily Log'!$CL$18:$CL$1017),0)","v":0},{"$f":"IFERROR($E372*SUMIF('Daily Log'!$CN$18:$CN$1017,$B372,'Daily Log'!$CO$18:$CO$1017),0)","v":0}]
[null,null,null,null,null,0,{"$f":"IFERROR($E373*SUMIF('Daily Log'!$B$18:$B$1017,$B373,'Daily Log'!$C$18:$C$1017),0)","v":0},{"$f":"IFERROR($E373*SUMIF('Daily Log'!$E$18:$E$1017,$B373,'Daily Log'!$F$18:$F$1017),0)","v":0},{"$f":"IFERROR($E373*SUMIF('Daily Log'!$H$18:$H$1017,$B373,'Daily Log'!$I$18:$I$1017),0)","v":0},{"$f":"IFERROR($E373*SUMIF('Daily Log'!$K$18:$K$1017,$B373,'Daily Log'!$L$18:$L$1017),0)","v":0},{"$f":"IFERROR($E373*SUMIF('Daily Log'!$N$18:$N$1017,$B373,'Daily Log'!$O$18:$O$1017),0)","v":0},{"$f":"IFERROR($E373*SUMIF('Daily Log'!$Q$18:$Q$1017,$B373,'Daily Log'!$R$18:$R$1017),0)","v":0},{"$f":"IFERROR($E373*SUMIF('Daily Log'!$T$18:$T$1017,$B373,'Daily Log'!$U$18:$U$1017),0)","v":0},{"$f":"IFERROR($E373*SUMIF('Daily Log'!$W$18:$W$1017,$B373,'Daily Log'!$X$18:$X$1017),0)","v":0},{"$f":"IFERROR($E373*SUMIF('Daily Log'!$Z$18:$Z$1017,$B373,'Daily Log'!$AA$18:$AA$1017),0)","v":0},{"$f":"IFERROR($E373*SUMIF('Daily Log'!$AC$18:$AC$1017,$B373,'Daily Log'!$AD$18:$AD$1017),0)","v":0},{"$f":"IFERROR($E373*SUMIF('Daily Log'!$AF$18:$AF$1017,$B373,'Daily Log'!$AG$18:$AG$1017),0)","v":0},{"$f":"IFERROR($E373*SUMIF('Daily Log'!$AI$18:$AI$1017,$B373,'Daily Log'!$AJ$18:$AJ$1017),0)","v":0},{"$f":"IFERROR($E373*SUMIF('Daily Log'!$AL$18:$AL$1017,$B373,'Daily Log'!$AM$18:$AM$1017),0)","v":0},{"$f":"IFERROR($E373*SUMIF('Daily Log'!$AO$18:$AO$1017,$B373,'Daily Log'!$AP$18:$AP$1017),0)","v":0},{"$f":"IFERROR($E373*SUMIF('Daily Log'!$AR$18:$AR$1017,$B373,'Daily Log'!$AS$18:$AS$1017),0)","v":0},{"$f":"IFERROR($E373*SUMIF('Daily Log'!$AU$18:$AU$1017,$B373,'Daily Log'!$AV$18:$AV$1017),0)","v":0},{"$f":"IFERROR($E373*SUMIF('Daily Log'!$AX$18:$AX$1017,$B373,'Daily Log'!$AY$18:$AY$1017),0)","v":0},{"$f":"IFERROR($E373*SUMIF('Daily Log'!$BA$18:$BA$1017,$B373,'Daily Log'!$BB$18:$BB$1017),0)","v":0},{"$f":"IFERROR($E373*SUMIF('Daily Log'!$BD$18:$BD$1017,$B373,'Daily Log'!$BE$18:$BE$1017),0)","v":0},{"$f":"IFERROR($E373*SUMIF('Daily Log'!$BG$18:$BG$1017,$B373,'Daily Log'!$BH$18:$BH$1017),0)","v":0},{"$f":"IFERROR($E373*SUMIF('Daily Log'!$BJ$18:$BJ$1017,$B373,'Daily Log'!$BK$18:$BK$1017),0)","v":0},{"$f":"IFERROR($E373*SUMIF('Daily Log'!$BM$18:$BM$1017,$B373,'Daily Log'!$BN$18:$BN$1017),0)","v":0},{"$f":"IFERROR($E373*SUMIF('Daily Log'!$BP$18:$BP$1017,$B373,'Daily Log'!$BQ$18:$BQ$1017),0)","v":0},{"$f":"IFERROR($E373*SUMIF('Daily Log'!$BS$18:$BS$1017,$B373,'Daily Log'!$BT$18:$BT$1017),0)","v":0},{"$f":"IFERROR($E373*SUMIF('Daily Log'!$BV$18:$BV$1017,$B373,'Daily Log'!$BW$18:$BW$1017),0)","v":0},{"$f":"IFERROR($E373*SUMIF('Daily Log'!$BY$18:$BY$1017,$B373,'Daily Log'!$BZ$18:$BZ$1017),0)","v":0},{"$f":"IFERROR($E373*SUMIF('Daily Log'!$CB$18:$CB$1017,$B373,'Daily Log'!$CC$18:$CC$1017),0)","v":0},{"$f":"IFERROR($E373*SUMIF('Daily Log'!$CE$18:$CE$1017,$B373,'Daily Log'!$CF$18:$CF$1017),0)","v":0},{"$f":"IFERROR($E373*SUMIF('Daily Log'!$CH$18:$CH$1017,$B373,'Daily Log'!$CI$18:$CI$1017),0)","v":0},{"$f":"IFERROR($E373*SUMIF('Daily Log'!$CK$18:$CK$1017,$B373,'Daily Log'!$CL$18:$CL$1017),0)","v":0},{"$f":"IFERROR($E373*SUMIF('Daily Log'!$CN$18:$CN$1017,$B373,'Daily Log'!$CO$18:$CO$1017),0)","v":0}]
[null,null,null,null,null,0,{"$f":"IFERROR($E374*SUMIF('Daily Log'!$B$18:$B$1017,$B374,'Daily Log'!$C$18:$C$1017),0)","v":0},{"$f":"IFERROR($E374*SUMIF('Daily Log'!$E$18:$E$1017,$B374,'Daily Log'!$F$18:$F$1017),0)","v":0},{"$f":"IFERROR($E374*SUMIF('Daily Log'!$H$18:$H$1017,$B374,'Daily Log'!$I$18:$I$1017),0)","v":0},{"$f":"IFERROR($E374*SUMIF('Daily Log'!$K$18:$K$1017,$B374,'Daily Log'!$L$18:$L$1017),0)","v":0},{"$f":"IFERROR($E374*SUMIF('Daily Log'!$N$18:$N$1017,$B374,'Daily Log'!$O$18:$O$1017),0)","v":0},{"$f":"IFERROR($E374*SUMIF('Daily Log'!$Q$18:$Q$1017,$B374,'Daily Log'!$R$18:$R$1017),0)","v":0},{"$f":"IFERROR($E374*SUMIF('Daily Log'!$T$18:$T$1017,$B374,'Daily Log'!$U$18:$U$1017),0)","v":0},{"$f":"IFERROR($E374*SUMIF('Daily Log'!$W$18:$W$1017,$B374,'Daily Log'!$X$18:$X$1017),0)","v":0},{"$f":"IFERROR($E374*SUMIF('Daily Log'!$Z$18:$Z$1017,$B374,'Daily Log'!$AA$18:$AA$1017),0)","v":0},{"$f":"IFERROR($E374*SUMIF('Daily Log'!$AC$18:$AC$1017,$B374,'Daily Log'!$AD$18:$AD$1017),0)","v":0},{"$f":"IFERROR($E374*SUMIF('Daily Log'!$AF$18:$AF$1017,$B374,'Daily Log'!$AG$18:$AG$1017),0)","v":0},{"$f":"IFERROR($E374*SUMIF('Daily Log'!$AI$18:$AI$1017,$B374,'Daily Log'!$AJ$18:$AJ$1017),0)","v":0},{"$f":"IFERROR($E374*SUMIF('Daily Log'!$AL$18:$AL$1017,$B374,'Daily Log'!$AM$18:$AM$1017),0)","v":0},{"$f":"IFERROR($E374*SUMIF('Daily Log'!$AO$18:$AO$1017,$B374,'Daily Log'!$AP$18:$AP$1017),0)","v":0},{"$f":"IFERROR($E374*SUMIF('Daily Log'!$AR$18:$AR$1017,$B374,'Daily Log'!$AS$18:$AS$1017),0)","v":0},{"$f":"IFERROR($E374*SUMIF('Daily Log'!$AU$18:$AU$1017,$B374,'Daily Log'!$AV$18:$AV$1017),0)","v":0},{"$f":"IFERROR($E374*SUMIF('Daily Log'!$AX$18:$AX$1017,$B374,'Daily Log'!$AY$18:$AY$1017),0)","v":0},{"$f":"IFERROR($E374*SUMIF('Daily Log'!$BA$18:$BA$1017,$B374,'Daily Log'!$BB$18:$BB$1017),0)","v":0},{"$f":"IFERROR($E374*SUMIF('Daily Log'!$BD$18:$BD$1017,$B374,'Daily Log'!$BE$18:$BE$1017),0)","v":0},{"$f":"IFERROR($E374*SUMIF('Daily Log'!$BG$18:$BG$1017,$B374,'Daily Log'!$BH$18:$BH$1017),0)","v":0},{"$f":"IFERROR($E374*SUMIF('Daily Log'!$BJ$18:$BJ$1017,$B374,'Daily Log'!$BK$18:$BK$1017),0)","v":0},{"$f":"IFERROR($E374*SUMIF('Daily Log'!$BM$18:$BM$1017,$B374,'Daily Log'!$BN$18:$BN$1017),0)","v":0},{"$f":"IFERROR($E374*SUMIF('Daily Log'!$BP$18:$BP$1017,$B374,'Daily Log'!$BQ$18:$BQ$1017),0)","v":0},{"$f":"IFERROR($E374*SUMIF('Daily Log'!$BS$18:$BS$1017,$B374,'Daily Log'!$BT$18:$BT$1017),0)","v":0},{"$f":"IFERROR($E374*SUMIF('Daily Log'!$BV$18:$BV$1017,$B374,'Daily Log'!$BW$18:$BW$1017),0)","v":0},{"$f":"IFERROR($E374*SUMIF('Daily Log'!$BY$18:$BY$1017,$B374,'Daily Log'!$BZ$18:$BZ$1017),0)","v":0},{"$f":"IFERROR($E374*SUMIF('Daily Log'!$CB$18:$CB$1017,$B374,'Daily Log'!$CC$18:$CC$1017),0)","v":0},{"$f":"IFERROR($E374*SUMIF('Daily Log'!$CE$18:$CE$1017,$B374,'Daily Log'!$CF$18:$CF$1017),0)","v":0},{"$f":"IFERROR($E374*SUMIF('Daily Log'!$CH$18:$CH$1017,$B374,'Daily Log'!$CI$18:$CI$1017),0)","v":0},{"$f":"IFERROR($E374*SUMIF('Daily Log'!$CK$18:$CK$1017,$B374,'Daily Log'!$CL$18:$CL$1017),0)","v":0},{"$f":"IFERROR($E374*SUMIF('Daily Log'!$CN$18:$CN$1017,$B374,'Daily Log'!$CO$18:$CO$1017),0)","v":0}]
[]
[null,"Copyright © 2013 by Oracle Symphony Sdn Bhd"]

{"sheet":"Daily Log","index":2,"n_rows":1019,"n_cols":96,"rows_kept":1019,"cut":false,"hidden":false,"merged":[[5,2,5,4],[7,2,7,4],[9,2,9,4]]}
[]
[]
[null,null,"DAILY LOG OF PRODUCT SALES"]
[]
[]
[null,"OUTLET",{"$f":"Summary!C6","v":"TSU"}]
[]
[null,"YEAR",{"$f":"Summary!C8","v":"2013"}]
[]
[null,"MONTH",{"$f":"Summary!C10","v":"OCTOBER"}]
[]
[]
[]
[{"$f":"IFERROR(INDEX($CR$18:$CR$48,MAX($B$17:$CO$17),1),\"\")","v":0},{"$f":"\"DATE  \"&TEXT(Summary!G27,\"DD / MM / YYYY\")","v":"DATE  01 / 10 / 2013"},null,null,{"$f":"\"DATE  \"&TEXT(Summary!H27,\"DD / MM / YYYY\")","v":"DATE  02 / 10 / 2013"},null,null,{"$f":"\"DATE  \"&TEXT(Summary!I27,\"DD / MM / YYYY\")","v":"DATE  03 / 10 / 2013"},null,null,{"$f":"\"DATE  \"&TEXT(Summary!J27,\"DD / MM / YYYY\")","v":"DATE  04 / 10 / 2013"},null,null,{"$f":"\"DATE  \"&TEXT(Summary!K27,\"DD / MM / YYYY\")","v":"DATE  05 / 10 / 2013"},null,null,{"$f":"\"DATE  \"&TEXT(Summary!L27,\"DD / MM / YYYY\")","v":"DATE  06 / 10 / 2013"},null,null,{"$f":"\"DATE  \"&TEXT(Summary!M27,\"DD / MM / YYYY\")","v":"DATE  07 / 10 / 2013"},null,null,{"$f":"\"DATE  \"&TEXT(Summary!N27,\"DD / MM / YYYY\")","v":"DATE  08 / 10 / 2013"},null,null,{"$f":"\"DATE  \"&TEXT(Summary!O27,\"DD / MM / YYYY\")","v":"DATE  09 / 10 / 2013"},null,null,{"$f":"\"DATE  \"&TEXT(Summary!P27,\"DD / MM / YYYY\")","v":"DATE  10 / 10 / 2013"},null,null,{"$f":"\"DATE  \"&TEXT(Summary!Q27,\"DD / MM / YYYY\")","v":"DATE  11 / 10 / 2013"},null,null,{"$f":"\"DATE  \"&TEXT(Summary!R27,\"DD / MM / YYYY\")","v":"DATE  12 / 10 / 2013"},null,null,{"$f":"\"DATE  \"&TEXT(Summary!S27,\"DD / MM / YYYY\")","v":"DATE  13 / 10 / 2013"},null,null,{"$f":"\"DATE  \"&TEXT(Summary!T27,\"DD / MM / YYYY\")","v":"DATE  14 / 10 / 2013"},null,null,{"$f":"\"DATE  \"&TEXT(Summary!U27,\"DD / MM / YYYY\")","v":"DATE  15 / 10 / 2013"},null,null,{"$f":"\"DATE  \"&TEXT(Summary!V27,\"DD / MM / YYYY\")","v":"DATE  16 / 10 / 2013"},null,null,{"$f":"\"DATE  \"&TEXT(Summary!W27,\"DD / MM / YYYY\")","v":"DATE  17 / 10 / 2013"},null,null,{"$f":"\"DATE  \"&TEXT(Summary!X27,\"DD / MM / YYYY\")","v":"DATE  18 / 10 / 2013"},null,null,{"$f":"\"DATE  \"&TEXT(Summary!Y27,\"DD / MM / YYYY\")","v":"DATE  19 / 10 / 2013"},null,null,{"$f":"\"DATE  \"&TEXT(Summary!Z27,\"DD / MM / YYYY\")","v":"DATE  20 / 10 / 2013"},null,null,{"$f":"\"DATE  \"&TEXT(Summary!AA27,\"DD / MM / YYYY\")","v":"DATE  21 / 10 / 2013"},null,null,{"$f":"\"DATE  \"&TEXT(Summary!AB27,\"DD / MM / YYYY\")","v":"DATE  22 / 10 / 2013"},null,null,{"$f":"\"DATE  \"&TEXT(Summary!AC27,\"DD / MM / YYYY\")","v":"DATE  23 / 10 / 2013"},null,null,{"$f":"\"DATE  \"&TEXT(Summary!AD27,\"DD / MM / YYYY\")","v":"DATE  24 / 10 / 2013"},null,null,{"$f":"\"DATE  \"&TEXT(Summary!AE27,\"DD / MM / YYYY\")","v":"DATE  25 / 10 / 2013"},null,null,{"$f":"\"DATE  \"&TEXT(Summary!AF27,\"DD / MM / YYYY\")","v":"DATE  26 / 10 / 2013"},null,null,{"$f":"\"DATE  \"&TEXT(Summary!AG27,\"DD / MM / YYYY\")","v":"DATE  27 / 10 / 2013"},null,null,{"$f":"\"DATE  \"&TEXT(Summary!AH27,\"DD / MM / YYYY\")","v":"DATE  28 / 10 / 2013"},null,null,{"$f":"\"DATE  \"&TEXT(Summary!AI27,\"DD / MM / YYYY\")","v":"DATE  29 / 10 / 2013"},null,null,{"$f":"\"DATE  \"&TEXT(Summary!AJ27,\"DD / MM / YYYY\")","v":"DATE  30 / 10 / 2013"},null,null,{"$f":"\"DATE  \"&TEXT(Summary!AK27,\"DD / MM / YYYY\")","v":"DATE  31 / 10 / 2013"},null,null,"COLUMN"]
[]
[null,"PRODUCT","QUANTITY",null,"PRODUCT","QUANTITY",null,"PRODUCT","QUANTITY",null,"PRODUCT","QUANTITY",null,"PRODUCT","QUANTITY",null,"PRODUCT","QUANTITY",null,"PRODUCT","QUANTITY",null,"PRODUCT","QUANTITY",null,"PRODUCT","QUANTITY",null,"PRODUCT","QUANTITY",null,"PRODUCT","QUANTITY",null,"PRODUCT","QUANTITY",null,"PRODUCT","QUANTITY",null,"PRODUCT","QUANTITY",null,"PRODUCT","QUANTITY",null,"PRODUCT","QUANTITY",null,"PRODUCT","QUANTITY",null,"PRODUCT","QUANTITY",null,"PRODUCT","QUANTITY",null,"PRODUCT","QUANTITY",null,"PRODUCT","QUANTITY",null,"PRODUCT","QUANTITY",null,"PRODUCT","QUANTITY",null,"PRODUCT","QUANTITY",null,"PRODUCT","QUANTITY",null,"PRODUCT","QUANTITY",null,"PRODUCT","QUANTITY",null,"PRODUCT","QUANTITY",null,"PRODUCT","QUANTITY",null,"PRODUCT","QUANTITY",null,"PRODUCT","QUANTITY",null,"MONTH","COLUMN"]
[null,{"$f":"IF(B18<>\"\",1,0)","v":0},null,null,{"$f":"IF(E18<>\"\",2,0)","v":0},null,null,{"$f":"IF(H18<>\"\",3,0)","v":0},null,null,{"$f":"IF(K18<>\"\",4,0)","v":0},null,null,{"$f":"IF(N18<>\"\",5,0)","v":0},null,null,{"$f":"IF(Q18<>\"\",6,0)","v":0},null,null,{"$f":"IF(T18<>\"\",7,0)","v":7},null,null,{"$f":"IF(W18<>\"\",8,0)","v":8},null,null,{"$f":"IF(Z18<>\"\",9,0)","v":9},null,null,{"$f":"IF(AC18<>\"\",10,0)","v":10},null,null,{"$f":"IF(AF18<>\"\",11,0)","v":11},null,null,{"$f":"IF(AI18<>\"\",12,0)","v":12},null,null,{"$f":"IF(AL18<>\"\",13,0)","v":13},null,null,{"$f":"IF(AO18<>\"\",14,0)","v":0},null,null,{"$f":"IF(AR18<>\"\",15,0)","v":0},null,null,{"$f":"IF(AU18<>\"\",16,0)","v":0},null,null,{"$f":"IF(AX18<>\"\",17,0)","v":0},null,null,{"$f":"IF(BA18<>\"\",18,0)","v":0},null,null,{"$f":"IF(BD18<>\"\",19,0)","v":0},null,null,{"$f":"IF(BG18<>\"\",20,0)","v":0},null,null,{"$f":"IF(BJ18<>\"\",21,0)","v":0},null,null,{"$f":"IF(BM18<>\"\",22,0)","v":0},null,null,{"$f":"IF(BP18<>\"\",23,0)","v":0},null,null,{"$f":"IF(BS18<>\"\",24,0)","v":0},null,null,{"$f":"IF(BV18<>\"\",25,0)","v":0},null,null,{"$f":"IF(BY18<>\"\",26,0)","v":0},null,null,{"$f":"IF(CB18<>\"\",27,0)","v":0},null,null,{"$f":"IF(CE18<>\"\",28,0)","v":0},null,null,{"$f":"IF(CH18<>\"\",29,0)","v":0},null,null,{"$f":"IF(CK18<>\"\",30,0)","v":0},null,null,{"$f":"IF(CN18<>\"\",31,0)","v":0}]
[null,null,null,null,null,null,null,null,null,null,null,null,null,null,null,null,null,null,null,"01101:K-Normal Price",2,null,"01101:K-Normal Price",10,null,"01101:K-Normal Price",4,null,"01101:K-Normal Price",3,null,"01115:K-Lunch",144,null,"01103:K-Children Free",8,null,"01148:N - FEST MEM 4BP",2]
[null,null,null,null,null,null,null,null,null,null,null,null,null,null,null,null,null,null,null,"01103:K-Children Free",3,null,"01103:K-Children Free",3,null,"01103:K-Children Free",1,null,"01103:K-Children Free",3,null,"01148:N - FEST MEM 4BP",1,null,"01104:K-Member Birthday",1,null,"01153:Tiger Fest",1]
[null,null,null,null,null,null,null,null,null,null,null,null,null,null,null,null,null,null,null,"01115:K-Lunch",92,null,"01110:K-Extend (Medium)",1,null,"01115:K-Lunch",124,null,"01115:K-Lunch",80,null,"01149:M - FEST 4BP",1,null,"01147:N - FEST 4BP",1,null,"01154:Tiger Mem Fest",16]
[null,null,null,null,null,null,null,null,null,null,null,null,null,null,null,null,null,null,null,"01153:Tiger Fest",2,null,"01115:K-Lunch",80,null,"01146:H - FEST MEM 4BP",1,null,"01145:H - FEST 4BP",1,null,"01153:Tiger Fest",6,null,"01148:N - FEST MEM 4BP",14,null,"01155:Heineken Fest",2]
[null,null,null,null,null,null,null,null,null,null,null,null,null,null,null,null,null,null,null,"01154:Tiger Mem Fest",15,null,"01145:H - FEST 4BP",1,null,"01153:Tiger Fest",3,null,"01147:N - FEST 4BP",1,null,"01154:Tiger Mem Fest",10,null,"01149:M - FEST 4BP",2,null,"01203:H-Children",7]
[null,null,null,null,null,null,null,null,null,null,null,null,null,null,null,null,null,null,null,"01156:Heineken Mem Fest",1,null,"01153:Tiger Fest",3,null,"01154:Tiger Mem Fest",9,null,"01148:N - FEST MEM 4BP",3,null,"01155:Heineken Fest",2,null,"01153:Tiger Fest",5,null,"01204:H-Member Birthday ",4]
[null,null,null,null,null,null,null,null,null,null,null,null,null,null,null,null,null,null,null,"01201:H-Normal Price",36,null,"01154:Tiger Mem Fest",3,null,"01156:Heineken Mem Fest",5,null,"01153:Tiger Fest",2,null,"01156:Heineken Mem Fest",2,null,"01154:Tiger Mem Fest",10,null,"01210:H-Extend (Medium)",1]
[null,null,null,null,null,null,null,null,null,null,null,null,null,null,null,null,null,null,null,"01202:H-Member Price",49,null,"01155:Heineken Fest",2,null,"01158:Guinness Mem Fest",2,null,"01154:Tiger Mem Fest",1,null,"01158:Guinness Mem Fest",1,null,"01156:Heineken Mem Fest",7,null,"01218:H-Free Head Charge",2]
[null,null,null,null,null,null,null,null,null,null,null,null,null,null,null,null,null,null,null,"01204:H-Member Birthday ",3,null,"01156:Heineken Mem Fest",1,null,"01201:H-Normal Price",50,null,"01156:Heineken Mem Fest",3,null,"01201:H-Normal Price",43,null,"01204:H-Member Birthday ",7,null,"01222:H-ST FHC",5]
[null,null,null,null,null,null,null,null,null,null,null,null,null,null,null,null,null,null,null,"01206:H-Student Price",34,null,"01158:Guinness Mem Fest",1,null,"01202:H-Member Price",61,null,"01158:Guinness Mem Fest",1,null,"01202:H-Member Price",37,null,"01218:H-Free Head Charge",6,null,"01225:H- FB 50% (OCT)",8]
[null,null,null,null,null,null,null,null,null,null,null,null,null,null,null,null,null,null,null,"01215:H-FB 50% (OCT)",2,null,"01188:N - FEST MEM 4BP",1,null,"01203:H-Children",3,null,"01201:H-Normal Price",59,null,"01204:H-Member Birthday ",1,null,"01225:H- FB 50% (OCT)",3,null,"01301:N-Normal Price",92]
[null,null,null,null,null,null,null,null,null,null,null,null,null,null,null,null,null,null,null,"01221:H-ST Member Price",5,null,"01201:H-Normal Price",32,null,"01204:H-Member Birthday ",4,null,"01202:H-Member Price",53,null,"01206:H-Student Price",111,null,"01301:N-Normal Price",4,null,"01302:N-Member Price",112]
[null,null,null,null,null,null,null,null,null,null,null,null,null,null,null,null,null,null,null,"01301:N-Normal Price",107,null,"01204:H-Member Birthday ",1,null,"01206:H-Student Price",65,null,"01203:H-Children",3,null,"01215:H-FB 50% (OCT)",4,null,"01302:N-Member Price",56,null,"01303:N-Children",5]
[null,null,null,null,null,null,null,null,null,null,null,null,null,null,null,null,null,null,null,"01302:N-Member Price",2,null,"01206:H-Student Price",37,null,"01218:H-Free Head Charge",1,null,"01204:H-Member Birthday ",4,null,"01218:H-Free Head Charge",1,null,"01303:N-Children",4,null,"01304:N-Member Birthday",11]
[null,null,null,null,null,null,null,null,null,null,null,null,null,null,null,null,null,null,null,"01303:N-Children",3,null,"01215:H-FB 50% (OCT)",2,null,"01221:H-ST Member Price",3,null,"01206:H-Student Price",49,null,"01221:H-ST Member Price",3,null,"01304:N-Member Birthday",14,null,"01309:N-Extend (Small)",2]
[null,null,null,null,null,null,null,null,null,null,null,null,null,null,null,null,null,null,null,"01304:N-Member Birthday",3,null,"01218:H-Free Head Charge",1,null,"01301:N-Normal Price",70,null,"01215:H-FB 50% (OCT)",4,null,"01302:N-Member Price",4,null,"01318:N-Free Head Charge",14,null,"01311:N-Extend (Big)",1]
[null,null,null,null,null,null,null,null,null,null,null,null,null,null,null,null,null,null,null,"01305:N-Promotion",58,null,"01219:H - Member Day Price",61,null,"01302:N-Member Price",102,null,"01218:H-Free Head Charge",2,null,"01303:N-Children",6,null,"01401:M-Normal Price",8,null,"01318:N-Free Head Charge",6]
[null,null,null,null,null,null,null,null,null,null,null,null,null,null,null,null,null,null,null,"01307:N-AEON Promotion",14,null,"01301:N-Normal Price",22,null,"01304:N-Member Birthday",7,null,"01221:H-ST Member Price",4,null,"01304:N-Member Birthday",10,null,"01403:M-Children",1,null,"01322:N-50% HC",72]
[null,null,null,null,null,null,null,null,null,null,null,null,null,null,null,null,null,null,null,"01310:N-Extend (Medium)",1,null,"01302:N-Member Price",4,null,"01309:N-Extend (Small)",1,null,"01301:N-Normal Price",65,null,"01310:N-Extend (Medium)",1,null,"01404:M-Member Birthday",2,null,"01403:M-Children",5]
[null,null,null,null,null,null,null,null,null,null,null,null,null,null,null,null,null,null,null,"01318:N-Free Head Charge",1,null,"01304:N-Member Birthday",9,null,"01318:N-Free Head Charge",4,null,"01302:N-Member Price",111,null,"01318:N-Free Head Charge",8,null,"01410:M-Extend (Medium)",1,null,"01404:M-Member Birthday",2]
[null,null,null,null,null,null,null,null,null,null,null,null,null,null,null,null,null,null,null,"01322:N-50% HC",4,null,"01318:N-Free Head Charge",6,null,"01322:N-50% HC",21,null,"01304:N-Member Birthday",14,null,"01401:M-Normal Price",4,null,"01418:M-Free Head Charge",2,null,"01418:M-Free Head Charge",1]
[null,null,null,null,null,null,null,null,null,null,null,null,null,null,null,null,null,null,null,"01401:M-Normal Price",10,null,"01319:N - Member Day Price",137,null,"01401:M-Normal Price",26,null,"01318:N-Free Head Charge",8,null,"01404:M-Member Birthday",1,null,"01705:N-TFO FHC",1,null,"01704:H-TFO FHC",1]
[null,null,null,null,null,null,null,null,null,null,null,null,null,null,null,null,null,null,null,"01404:M-Member Birthday",1,null,"01322:N-50% HC",39,null,"01408:M-Ladies Price",17,null,"01322:N-50% HC",42,null,"01410:M-Extend (Medium)",1,null,"02201:H-Normal Price",74,null,"01706:M-TFO FHC",1]
[null,null,null,null,null,null,null,null,null,null,null,null,null,null,null,null,null,null,null,"01405:M-Promotion",5,null,"01401:M-Normal Price",7,null,"01418:M-Free Head Charge",1,null,"01401:M-Normal Price",18,null,"01704:H-TFO FHC",1,null,"02202:H-Member Price",41,null,"02201:H-Normal Price",54]
[null,null,null,null,null,null,null,null,null,null,null,null,null,null,null,null,null,null,null,"01408:M-Ladies Price",14,null,"01404:M-Member Birthday",1,null,"01704:H-TFO FHC",4,null,"01404:M-Member Birthday",1,null,"01705:N-TFO FHC",1,null,"02209:H-ST Member Price",4,null,"02202:H-Member Price",105]
[null,null,null,null,null,null,null,null,null,null,null,null,null,null,null,null,null,null,null,"08001:Grape Juice",9,null,"01408:M-Ladies Price",15,null,"01802:N-WD HC 30%(OCT)",10,null,"01408:M-Ladies Price",36,null,"02101:K-Normal Price",1,null,"02401:M-Normal Price",25,null,"02209:H-ST Member Price",2]
[null,null,null,null,null,null,null,null,null,null,null,null,null,null,null,null,null,null,null,"08002:Grape Soda",14,null,"01419:M - Member Day Price",15,null,"08001:Grape Juice",6,null,"01704:H-TFO FHC",1,null,"02401:M-Normal Price",17,null,"02402:M-Member Price",35,null,"03101:K-Normal",5]
[null,null,null,null,null,null,null,null,null,null,null,null,null,null,null,null,null,null,null,"08003:Green Apple Juice",21,null,"08001:Grape Juice",8,null,"08002:Grape Soda",9,null,"01705:N-TFO FHC",2,null,"02402:M-Member Price",20,null,"03101:K-Normal",3,null,"03103:K-Lunch",116]
[null,null,null,null,null,null,null,null,null,null,null,null,null,null,null,null,null,null,null,"08004:Green Apple Soda",9,null,"08002:Grape Soda",6,null,"08003:Green Apple Juice",34,null,"08001:Grape Juice",8,null,"04303:N-Normal Price",109,null,"03103:K-Lunch",150,null,"03401:M-Normal",31]
[null,null,null,null,null,null,null,null,null,null,null,null,null,null,null,null,null,null,null,"08005:Passion Fruit Juice",11,null,"08003:Green Apple Juice",17,null,"08004:Green Apple Soda",7,null,"08002:Grape Soda",7,null,"04304:N-Member Price",131,null,"04303:N-Normal Price",90,null,"03402:M-Member",2]
[null,null,null,null,null,null,null,null,null,null,null,null,null,null,null,null,null,null,null,"08006:Passion Fruit Soda",5,null,"08004:Green Apple Soda",5,null,"08005:Passion Fruit Juice",19,null,"08003:Green Apple Juice",34,null,"04306:N-50% HC",50,null,"04304:N-Member Price",98,null,"03408:M-Ladies",35]
[null,null,null,null,null,null,null,null,null,null,null,null,null,null,null,null,null,null,null,"08007:Mango Juice",6,null,"08005:Passion Fruit Juice",26,null,"08006:Passion Fruit Soda",14,null,"08004:Green Apple Soda",4,null,"08001:Grape Juice",16,null,"04306:N-50% HC",57,null,"08001:Grape Juice",29]
[null,null,null,null,null,null,null,null,null,null,null,null,null,null,null,null,null,null,null,"08008:Mango Soda",4,null,"08006:Passion Fruit Soda",3,null,"08007:Mango Juice",14,null,"08005:Passion Fruit Juice",16,null,"08002:Grape Soda",2,null,"08001:Grape Juice",7,null,"08002:Grape Soda",6]
[null,null,null,null,null,null,null,null,null,null,null,null,null,null,null,null,null,null,null,"08011:Pepsi",21,null,"08007:Mango Juice",12,null,"08008:Mango Soda",8,null,"08006:Passion Fruit Soda",7,null,"08003:Green Apple Juice",20,null,"08002:Grape Soda",14,null,"08003:Green Apple Juice",23]
[null,null,null,null,null,null,null,null,null,null,null,null,null,null,null,null,null,null,null,"08013:7up",7,null,"08008:Mango Soda",11,null,"08011:Pepsi",31,null,"08007:Mango Juice",11,null,"08004:Green Apple Soda",10,null,"08003:Green Apple Juice",19,null,"08004:Green Apple Soda",10]
[null,null,null,null,null,null,null,null,null,null,null,null,null,null,null,null,null,null,null,"08014:7up Revive",4,null,"08011:Pepsi",32,null,"08013:7up",12,null,"08008:Mango Soda",5,null,"08005:Passion Fruit Juice",22,null,"08004:Green Apple Soda",9,null,"08005:Passion Fruit Juice",23]
[null,null,null,null,null,null,null,null,null,null,null,null,null,null,null,null,null,null,null,"08015:Earl Grey",3,null,"08013:7up",4,null,"08014:7up Revive",4,null,"08011:Pepsi",19,null,"08006:Passion Fruit Soda",3,null,"08005:Passion Fruit Juice",34,null,"08006:Passion Fruit Soda",13]
[null,null,null,null,null,null,null,null,null,null,null,null,null,null,null,null,null,null,null,"08016:Chamomile",2,null,"08014:7up Revive",5,null,"08015:Earl Grey",1,null,"08013:7up",8,null,"08007:Mango Juice",11,null,"08006:Passion Fruit Soda",8,null,"08007:Mango Juice",11]
[null,null,null,null,null,null,null,null,null,null,null,null,null,null,null,null,null,null,null,"08018:Ribena",19,null,"08015:Earl Grey",1,null,"08016:Chamomile",1,null,"08014:7up Revive",1,null,"08008:Mango Soda",3,null,"08007:Mango Juice",7,null,"08008:Mango Soda",5]
[null,null,null,null,null,null,null,null,null,null,null,null,null,null,null,null,null,null,null,"08018S:RIBENA SODA",8,null,"08016:Chamomile",4,null,"08018:Ribena",22,null,"08015:Earl Grey",5,null,"08011:Pepsi",43,null,"08008:Mango Soda",8,null,"08011:Pepsi",36]
[null,null,null,null,null,null,null,null,null,null,null,null,null,null,null,null,null,null,null,"08019:Ice Milo",44,null,"08018:Ribena",24,null,"08018S:RIBENA SODA",6,null,"08016:Chamomile",1,null,"08013:7up",8,null,"08011:Pepsi",41,null,"08013:7up",10]
[null,null,null,null,null,null,null,null,null,null,null,null,null,null,null,null,null,null,null,"08020:Hot Milo",29,null,"08018S:RIBENA SODA",20,null,"08019:Ice Milo",29,null,"08018:Ribena",13,null,"08014:7up Revive",3,null,"08013:7up",11,null,"08015:Earl Grey",4]
[null,null,null,null,null,null,null,null,null,null,null,null,null,null,null,null,null,null,null,"08021:Ice Nescafe",4,null,"08019:Ice Milo",23,null,"08020:Hot Milo",44,null,"08018S:RIBENA SODA",17,null,"08015:Earl Grey",1,null,"08014:7up Revive",8,null,"08016:Chamomile",9]
[null,null,null,null,null,null,null,null,null,null,null,null,null,null,null,null,null,null,null,"08022:Hot Nescafe",6,null,"08020:Hot Milo",4,null,"08021:Ice Nescafe",8,null,"08019:Ice Milo",35,null,"08016:Chamomile",3,null,"08015:Earl Grey",7,null,"08017:Darjeeling",2]
[null,null,null,null,null,null,null,null,null,null,null,null,null,null,null,null,null,null,null,"08023:Ice Tea",2,null,"08021:Ice Nescafe",12,null,"08022:Hot Nescafe",7,null,"08020:Hot Milo",38,null,"08018:Ribena",38,null,"08016:Chamomile",6,null,"08018:Ribena",36]
[null,null,null,null,null,null,null,null,null,null,null,null,null,null,null,null,null,null,null,"08024:Hot Tea",2,null,"08022:Hot Nescafe",7,null,"08023:Ice Tea",5,null,"08021:Ice Nescafe",9,null,"08018S:RIBENA SODA",2,null,"08017:Darjeeling",1,null,"08018S:RIBENA SODA",11]
[null,null,null,null,null,null,null,null,null,null,null,null,null,null,null,null,null,null,null,"08025:Ice Lemon Tea",45,null,"08023:Ice Tea",2,null,"08024:Hot Tea",10,null,"08022:Hot Nescafe",15,null,"08019:Ice Milo",27,null,"08018:Ribena",19,null,"08019:Ice Milo",57]
[null,null,null,null,null,null,null,null,null,null,null,null,null,null,null,null,null,null,null,"08026:Hot Lemon Tea",9,null,"08024:Hot Tea",3,null,"08025:Ice Lemon Tea",60,null,"08023:Ice Tea",2,null,"08020:Hot Milo",33,null,"08018S:RIBENA SODA",7,null,"08020:Hot Milo",57]
[null,null,null,null,null,null,null,null,null,null,null,null,null,null,null,null,null,null,null,"08027:Ice Honey",11,null,"08025:Ice Lemon Tea",27,null,"08026:Hot Lemon Tea",5,null,"08024:Hot Tea",20,null,"08021:Ice Nescafe",6,null,"08019:Ice Milo",33,null,"08021:Ice Nescafe",8]
[null,null,null,null,null,null,null,null,null,null,null,null,null,null,null,null,null,null,null,"08028:Hot Honey",39,null,"08026:Hot Lemon Tea",11,null,"08027:Ice Honey",11,null,"08025:Ice Lemon Tea",52,null,"08022:Hot Nescafe",16,null,"08020:Hot Milo",26,null,"08022:Hot Nescafe",7]
[null,null,null,null,null,null,null,null,null,null,null,null,null,null,null,null,null,null,null,"08029:Ice Honey Lemon",64,null,"08027:Ice Honey",7,null,"08028:Hot Honey",20,null,"08026:Hot Lemon Tea",26,null,"08023:Ice Tea",2,null,"08021:Ice Nescafe",4,null,"08023:Ice Tea",9]
[null,null,null,null,null,null,null,null,null,null,null,null,null,null,null,null,null,null,null,"08030:Hot Honey Lemon",94,null,"08028:Hot Honey",51,null,"08029:Ice Honey Lemon",61,null,"08027:Ice Honey",22,null,"08025:Ice Lemon Tea",48,null,"08022:Hot Nescafe",9,null,"08024:Hot Tea",5]
[null,null,null,null,null,null,null,null,null,null,null,null,null,null,null,null,null,null,null,"08031:Ice Jasmine Green Tea",28,null,"08029:Ice Honey Lemon",68,null,"08030:Hot Honey Lemon",55,null,"08028:Hot Honey",37,null,"08026:Hot Lemon Tea",15,null,"08023:Ice Tea",2,null,"08025:Ice Lemon Tea",70]
[null,null,null,null,null,null,null,null,null,null,null,null,null,null,null,null,null,null,null,"08032:Hot Jasmine Green Tea",17,null,"08030:Hot Honey Lemon",117,null,"08031:Ice Jasmine Green Tea",19,null,"08029:Ice Honey Lemon",88,null,"08027:Ice Honey",26,null,"08024:Hot Tea",4,null,"08026:Hot Lemon Tea",12]
[null,null,null,null,null,null,null,null,null,null,null,null,null,null,null,null,null,null,null,"08033:Ice Honey Green Tea",60,null,"08031:Ice Jasmine Green Tea",35,null,"08032:Hot Jasmine Green Tea",22,null,"08030:Hot Honey Lemon",140,null,"08028:Hot Honey",41,null,"08025:Ice Lemon Tea",26,null,"08027:Ice Honey",34]
[null,null,null,null,null,null,null,null,null,null,null,null,null,null,null,null,null,null,null,"08034:Hot Honey Green Tea",74,null,"08032:Hot Jasmine Green Tea",20,null,"08033:Ice Honey Green Tea",90,null,"08031:Ice Jasmine Green Tea",33,null,"08029:Ice Honey Lemon",70,null,"08026:Hot Lemon Tea",9,null,"08028:Hot Honey",52]
[null,null,null,null,null,null,null,null,null,null,null,null,null,null,null,null,null,null,null,"08046:Sky Juice",24,null,"08033:Ice Honey Green Tea",84,null,"08034:Hot Honey Green Tea",65,null,"08032:Hot Jasmine Green Tea",23,null,"08030:Hot Honey Lemon",117,null,"08027:Ice Honey",10,null,"08029:Ice Honey Lemon",65]
[null,null,null,null,null,null,null,null,null,null,null,null,null,null,null,null,null,null,null,"08050:FF-Rose Tea",4,null,"08034:Hot Honey Green Tea",98,null,"08046:Sky Juice",19,null,"08033:Ice Honey Green Tea",67,null,"08031:Ice Jasmine Green Tea",38,null,"08028:Hot Honey",32,null,"08030:Hot Honey Lemon",173]
[null,null,null,null,null,null,null,null,null,null,null,null,null,null,null,null,null,null,null,"08054:FF- 7up Peppermint",3,null,"08046:Sky Juice",24,null,"08050:FF-Rose Tea",7,null,"08034:Hot Honey Green Tea",114,null,"08032:Hot Jasmine Green Tea",13,null,"08029:Ice Honey Lemon",99,null,"08031:Ice Jasmine Green Tea",29]
[null,null,null,null,null,null,null,null,null,null,null,null,null,null,null,null,null,null,null,"09013:7up",1,null,"08050:FF-Rose Tea",2,null,"08054:FF- 7up Peppermint",6,null,"08046:Sky Juice",24,null,"08033:Ice Honey Green Tea",106,null,"08030:Hot Honey Lemon",121,null,"08032:Hot Jasmine Green Tea",23]
[null,null,null,null,null,null,null,null,null,null,null,null,null,null,null,null,null,null,null,"09025:Ice Lemon Tea",1,null,"08054:FF- 7up Peppermint",16,null,"09004:Green Apple Soda",1,null,"09003:Green Apple Juice",1,null,"08034:Hot Honey Green Tea",69,null,"08031:Ice Jasmine Green Tea",24,null,"08033:Ice Honey Green Tea",127]
[null,null,null,null,null,null,null,null,null,null,null,null,null,null,null,null,null,null,null,"09029:Ice Honey Lemon",1,null,"09025:Ice Lemon Tea",2,null,"09025:Ice Lemon Tea",1,null,"09020:Hot Milo",1,null,"08046:Sky Juice",33,null,"08032:Hot Jasmine Green Tea",49,null,"08034:Hot Honey Green Tea",86]
[null,null,null,null,null,null,null,null,null,null,null,null,null,null,null,null,null,null,null,"09041:Chocolate Smoothies",1,null,"10101:Heineken Bottle",2,null,"09030:Hot Honey Lemon",1,null,"09021:Ice Nescafe",1,null,"08050:FF-Rose Tea",2,null,"08033:Ice Honey Green Tea",93,null,"08046:Sky Juice",38]
[null,null,null,null,null,null,null,null,null,null,null,null,null,null,null,null,null,null,null,"10103:Heineken Buket",3,null,"10103:Heineken Buket",9,null,"10101:Heineken Bottle",3,null,"09025:Ice Lemon Tea",1,null,"08054:FF- 7up Peppermint",18,null,"08034:Hot Honey Green Tea",72,null,"08050:FF-Rose Tea",2]
[null,null,null,null,null,null,null,null,null,null,null,null,null,null,null,null,null,null,null,"10201:Tiger Bottle",1,null,"10201:Tiger Bottle",2,null,"10103:Heineken Buket",11,null,"09037:Passion Fruit Smoothies",1,null,"09015:Earl Grey",1,null,"08046:Sky Juice",27,null,"08054:FF- 7up Peppermint",4]
[null,null,null,null,null,null,null,null,null,null,null,null,null,null,null,null,null,null,null,"10203:Tiger Buket",34,null,"10203:Tiger Buket",15,null,"10203:Tiger Buket",27,null,"10101:Heineken Bottle",1,null,"09016:Chamomile",1,null,"08050:FF-Rose Tea",5,null,"09002:Grape Soda",1]
[null,null,null,null,null,null,null,null,null,null,null,null,null,null,null,null,null,null,null,"10401:Guinness Bottle",2,null,"10401:Guinness Bottle",2,null,"10301:Cocktail-Screw Driver",1,null,"10103:Heineken Buket",13,null,"09018:Ribena",1,null,"08054:FF- 7up Peppermint",6,null,"09029:Ice Honey Lemon",1]
[null,null,null,null,null,null,null,null,null,null,null,null,null,null,null,null,null,null,null,"10403:Guinness Buket",1,null,"10403:Guinness Buket",3,null,"10302:Cocktail-Vodka Ribena",1,null,"10203:Tiger Buket",15,null,"09033:Ice Honey Green Tea",1,null,"09004:Green Apple Soda",1,null,"09030:Hot Honey Lemon",1]
[null,null,null,null,null,null,null,null,null,null,null,null,null,null,null,null,null,null,null,"10601:Somersby Bottle",1,null,"11001:Lok01-鸡肉火腿",2,null,"10303:Cocktail-Tequila Sunrise",1,null,"10401:Guinness Bottle",1,null,"10101:Heineken Bottle",1,null,"09011:Pepsi",1,null,"09033:Ice Honey Green Tea",1]
[null,null,null,null,null,null,null,null,null,null,null,null,null,null,null,null,null,null,null,"10801:Hoegaarden Bottle",2,null,"11002:Lok02-烧鸡肾",3,null,"10401:Guinness Bottle",1,null,"10403:Guinness Buket",2,null,"10103:Heineken Buket",9,null,"09013:7up",1,null,"10103:Heineken Buket",5]
[null,null,null,null,null,null,null,null,null,null,null,null,null,null,null,null,null,null,null,"10802:Hoegaarden Bucket",2,null,"11004:Lok04-鸡肉香肠",2,null,"10403:Guinness Buket",4,null,"10601:Somersby Bottle",1,null,"10203:Tiger Buket",38,null,"09021:Ice Nescafe",1,null,"10201:Tiger Bottle",1]
[null,null,null,null,null,null,null,null,null,null,null,null,null,null,null,null,null,null,null,"11001:Lok01-鸡肉火腿",2,null,"11005:Lok06-去骨烧鸡翼",8,null,"10505:Cocktail Buy 2 Free 1",1,null,"10602:Somersby Bucket",2,null,"10403:Guinness Buket",2,null,"09029:Ice Honey Lemon",2,null,"10203:Tiger Buket",40]
[null,null,null,null,null,null,null,null,null,null,null,null,null,null,null,null,null,null,null,"11005:Lok06-去骨烧鸡翼",5,null,"11006:Lok07-芝士香肠",2,null,"10601:Somersby Bottle",1,null,"10801:Hoegaarden Bottle",2,null,"10801:Hoegaarden Bottle",1,null,"09034:Hot Honey Green Tea",1,null,"10401:Guinness Bottle",1]
[null,null,null,null,null,null,null,null,null,null,null,null,null,null,null,null,null,null,null,"11006:Lok07-芝士香肠",6,null,"11007:Lok12-烧烤鸭肉",4,null,"10801:Hoegaarden Bottle",2,null,"11001:Lok01-鸡肉火腿",3,null,"10802:Hoegaarden Bucket",1,null,"10101:Heineken Bottle",2,null,"10403:Guinness Buket",1]
[null,null,null,null,null,null,null,null,null,null,null,null,null,null,null,null,null,null,null,"11007:Lok12-烧烤鸭肉",3,null,"11008:Lok15-猪肉圆",10,null,"11001:Lok01-鸡肉火腿",2,null,"11002:Lok02-烧鸡肾",2,null,"11001:Lok01-鸡肉火腿",5,null,"10103:Heineken Buket",38,null,"10601:Somersby Bottle",2]
[null,null,null,null,null,null,null,null,null,null,null,null,null,null,null,null,null,null,null,"11008:Lok15-猪肉圆",4,null,"11009:Lok16-培根",1,null,"11002:Lok02-烧鸡肾",7,null,"11004:Lok04-鸡肉香肠",1,null,"11002:Lok02-烧鸡肾",8,null,"10201:Tiger Bottle",4,null,"10701:Strongbow Bottle",1]
[null,null,null,null,null,null,null,null,null,null,null,null,null,null,null,null,null,null,null,"11010:Lok17-炸云吞",1,null,"11010:Lok17-炸云吞",3,null,"11003:Lok03-鸡尾酒香肠",7,null,"11005:Lok06-去骨烧鸡翼",10,null,"11003:Lok03-鸡尾酒香肠",5,null,"10203:Tiger Buket",57,null,"10802:Hoegaarden Bucket",2]
[null,null,null,null,null,null,null,null,null,null,null,null,null,null,null,null,null,null,null,"11012:Lok20-台湾香肠",5,null,"11011:Lok18-五香肉卷",2,null,"11004:Lok04-鸡肉香肠",2,null,"11006:Lok07-芝士香肠",4,null,"11005:Lok06-去骨烧鸡翼",7,null,"10601:Somersby Bottle",2,null,"11001:Lok01-鸡肉火腿",2]
[null,null,null,null,null,null,null,null,null,null,null,null,null,null,null,null,null,null,null,"11013:Lok21-金菇培根卷",2,null,"11012:Lok20-台湾香肠",10,null,"11005:Lok06-去骨烧鸡翼",14,null,"11007:Lok12-烧烤鸭肉",6,null,"11006:Lok07-芝士香肠",13,null,"10801:Hoegaarden Bottle",1,null,"11002:Lok02-烧鸡肾",10]
[null,null,null,null,null,null,null,null,null,null,null,null,null,null,null,null,null,null,null,"11014:Lok23-空心菜",1,null,"11013:Lok21-金菇培根卷",10,null,"11006:Lok07-芝士香肠",10,null,"11008:Lok15-猪肉圆",5,null,"11007:Lok12-烧烤鸭肉",5,null,"11001:Lok01-鸡肉火腿",5,null,"11003:Lok03-鸡尾酒香肠",3]
[null,null,null,null,null,null,null,null,null,null,null,null,null,null,null,null,null,null,null,"11015:Lok24-西兰花",5,null,"11014:Lok23-空心菜",6,null,"11007:Lok12-烧烤鸭肉",3,null,"11009:Lok16-培根",1,null,"11008:Lok15-猪肉圆",14,null,"11002:Lok02-烧鸡肾",3,null,"11004:Lok04-鸡肉香肠",1]
[null,null,null,null,null,null,null,null,null,null,null,null,null,null,null,null,null,null,null,"11016:Lok25-长豆",3,null,"11015:Lok24-西兰花",4,null,"11008:Lok15-猪肉圆",9,null,"11010:Lok17-炸云吞",1,null,"11010:Lok17-炸云吞",4,null,"11003:Lok03-鸡尾酒香肠",2,null,"11005:Lok06-去骨烧鸡翼",8]
[null,null,null,null,null,null,null,null,null,null,null,null,null,null,null,null,null,null,null,"11018:Lok26-炸鲍鱼菇",10,null,"11016:Lok25-长豆",6,null,"11009:Lok16-培根",3,null,"11011:Lok18-五香肉卷",4,null,"11011:Lok18-五香肉卷",4,null,"11004:Lok04-鸡肉香肠",1,null,"11006:Lok07-芝士香肠",7]
[null,null,null,null,null,null,null,null,null,null,null,null,null,null,null,null,null,null,null,"11020:Lok29-鱿鱼",2,null,"11018:Lok26-炸鲍鱼菇",10,null,"11010:Lok17-炸云吞",2,null,"11012:Lok20-台湾香肠",9,null,"11012:Lok20-台湾香肠",13,null,"11005:Lok06-去骨烧鸡翼",11,null,"11007:Lok12-烧烤鸭肉",9]
[null,null,null,null,null,null,null,null,null,null,null,null,null,null,null,null,null,null,null,"11021:Lok30-蟹条",7,null,"11019:Lok28-鉗",1,null,"11012:Lok20-台湾香肠",15,null,"11013:Lok21-金菇培根卷",1,null,"11013:Lok21-金菇培根卷",5,null,"11006:Lok07-芝士香肠",6,null,"11008:Lok15-猪肉圆",13]
[null,null,null,null,null,null,null,null,null,null,null,null,null,null,null,null,null,null,null,"11022:Lok31-鱼丸（小）",6,null,"11021:Lok30-蟹条",5,null,"11013:Lok21-金菇培根卷",8,null,"11014:Lok23-空心菜",4,null,"11014:Lok23-空心菜",8,null,"11007:Lok12-烧烤鸭肉",3,null,"11009:Lok16-培根",3]
[null,null,null,null,null,null,null,null,null,null,null,null,null,null,null,null,null,null,null,"11023:Lok32-苏东",3,null,"11022:Lok31-鱼丸（小）",12,null,"11014:Lok23-空心菜",7,null,"11015:Lok24-西兰花",5,null,"11015:Lok24-西兰花",10,null,"11008:Lok15-猪肉圆",8,null,"11010:Lok17-炸云吞",5]
[null,null,null,null,null,null,null,null,null,null,null,null,null,null,null,null,null,null,null,"11029:Lok35-炸芋头角",6,null,"11023:Lok32-苏东",1,null,"11015:Lok24-西兰花",7,null,"11016:Lok25-长豆",4,null,"11016:Lok25-长豆",7,null,"11009:Lok16-培根",3,null,"11011:Lok18-五香肉卷",1]
[null,null,null,null,null,null,null,null,null,null,null,null,null,null,null,null,null,null,null,"11030:Lok36-炸腐皮",2,null,"11029:Lok35-炸芋头角",1,null,"11016:Lok25-长豆",9,null,"11018:Lok26-炸鲍鱼菇",5,null,"11018:Lok26-炸鲍鱼菇",13,null,"11011:Lok18-五香肉卷",1,null,"11012:Lok20-台湾香肠",13]
[null,null,null,null,null,null,null,null,null,null,null,null,null,null,null,null,null,null,null,"11031:Lok37-豆卜",1,null,"11030:Lok36-炸腐皮",5,null,"11018:Lok26-炸鲍鱼菇",7,null,"11019:Lok28-鉗",6,null,"11019:Lok28-鉗",2,null,"11012:Lok20-台湾香肠",12,null,"11013:Lok21-金菇培根卷",8]
[null,null,null,null,null,null,null,null,null,null,null,null,null,null,null,null,null,null,null,"11032:Lok40-鹌鹑蛋",2,null,"11032:Lok40-鹌鹑蛋",4,null,"11019:Lok28-鉗",2,null,"11020:Lok29-鱿鱼",2,null,"11020:Lok29-鱿鱼",1,null,"11013:Lok21-金菇培根卷",3,null,"11014:Lok23-空心菜",4]
[null,null,null,null,null,null,null,null,null,null,null,null,null,null,null,null,null,null,null,"11033:Lok44-鹌鹑皮蛋",5,null,"11033:Lok44-鹌鹑皮蛋",6,null,"11020:Lok29-鱿鱼",1,null,"11021:Lok30-蟹条",2,null,"11021:Lok30-蟹条",4,null,"11014:Lok23-空心菜",1,null,"11015:Lok24-西兰花",10]
[null,null,null,null,null,null,null,null,null,null,null,null,null,null,null,null,null,null,null,"11034:Lok45-海鲜豆腐",7,null,"11034:Lok45-海鲜豆腐",5,null,"11021:Lok30-蟹条",3,null,"11022:Lok31-鱼丸（小）",8,null,"11022:Lok31-鱼丸（小）",17,null,"11015:Lok24-西兰花",13,null,"11016:Lok25-长豆",4]
[null,null,null,null,null,null,null,null,null,null,null,null,null,null,null,null,null,null,null,"11035:Lok05-豆苗火腿",3,null,"11035:Lok05-豆苗火腿",1,null,"11022:Lok31-鱼丸（小）",10,null,"11029:Lok35-炸芋头角",3,null,"11029:Lok35-炸芋头角",9,null,"11016:Lok25-长豆",4,null,"11018:Lok26-炸鲍鱼菇",19]
[null,null,null,null,null,null,null,null,null,null,null,null,null,null,null,null,null,null,null,"11036:Lok08-火鸡串",2,null,"11037:Lok09-芝士火腿",2,null,"11023:Lok32-苏东",4,null,"11030:Lok36-炸腐皮",7,null,"11030:Lok36-炸腐皮",14,null,"11018:Lok26-炸鲍鱼菇",12,null,"11019:Lok28-鉗",2]
[null,null,null,null,null,null,null,null,null,null,null,null,null,null,null,null,null,null,null,"11037:Lok09-芝士火腿",3,null,"11038:Lok10-蟹肉火腿",1,null,"11029:Lok35-炸芋头角",6,null,"11032:Lok40-鹌鹑蛋",3,null,"11032:Lok40-鹌鹑蛋",2,null,"11021:Lok30-蟹条",2,null,"11020:Lok29-鱿鱼",3]
[null,null,null,null,null,null,null,null,null,null,null,null,null,null,null,null,null,null,null,"11038:Lok10-蟹肉火腿",1,null,"11039:Lok11-炸鸡球",1,null,"11030:Lok36-炸腐皮",10,null,"11033:Lok44-鹌鹑皮蛋",2,null,"11033:Lok44-鹌鹑皮蛋",3,null,"11022:Lok31-鱼丸（小）",18,null,"11021:Lok30-蟹条",5]
[null,null,null,null,null,null,null,null,null,null,null,null,null,null,null,null,null,null,null,"11044:Lok27-白雪菇",5,null,"11041:Lok14-鸡肉腊肠",2,null,"11031:Lok37-豆卜",1,null,"11034:Lok45-海鲜豆腐",5,null,"11034:Lok45-海鲜豆腐",13,null,"11029:Lok35-炸芋头角",5,null,"11022:Lok31-鱼丸（小）",15]
[null,null,null,null,null,null,null,null,null,null,null,null,null,null,null,null,null,null,null,"11045:Lok34-烤鱼皮",3,null,"11042:Lok19-黄金烧卖",2,null,"11032:Lok40-鹌鹑蛋",8,null,"11035:Lok05-豆苗火腿",4,null,"11035:Lok05-豆苗火腿",2,null,"11030:Lok36-炸腐皮",14,null,"11023:Lok32-苏东",1]
[null,null,null,null,null,null,null,null,null,null,null,null,null,null,null,null,null,null,null,"11046:Lok38-炸馒头",6,null,"11044:Lok27-白雪菇",3,null,"11033:Lok44-鹌鹑皮蛋",4,null,"11036:Lok08-火鸡串",2,null,"11037:Lok09-芝士火腿",5,null,"11031:Lok37-豆卜",3,null,"11024:Lok33-天妇罗虾",1]
[null,null,null,null,null,null,null,null,null,null,null,null,null,null,null,null,null,null,null,"11047:Lok39-酥脆炸包",2,null,"11045:Lok34-烤鱼皮",3,null,"11034:Lok45-海鲜豆腐",3,null,"11037:Lok09-芝士火腿",7,null,"11038:Lok10-蟹肉火腿",1,null,"11032:Lok40-鹌鹑蛋",5,null,"11029:Lok35-炸芋头角",5]
[null,null,null,null,null,null,null,null,null,null,null,null,null,null,null,null,null,null,null,"11048:Lok41-鱼肉豆卜",1,null,"11046:Lok38-炸馒头",5,null,"11035:Lok05-豆苗火腿",2,null,"11039:Lok11-炸鸡球",1,null,"11039:Lok11-炸鸡球",1,null,"11033:Lok44-鹌鹑皮蛋",5,null,"11030:Lok36-炸腐皮",11]
[null,null,null,null,null,null,null,null,null,null,null,null,null,null,null,null,null,null,null,"11049:Lok42-脆皮包",1,null,"11049:Lok42-脆皮包",2,null,"11037:Lok09-芝士火腿",3,null,"11041:Lok14-鸡肉腊肠",1,null,"11041:Lok14-鸡肉腊肠",3,null,"11034:Lok45-海鲜豆腐",6,null,"11031:Lok37-豆卜",1]
[null,null,null,null,null,null,null,null,null,null,null,null,null,null,null,null,null,null,null,"11050:Lok43-蛋黄家乡饺",2,null,"11050:Lok43-蛋黄家乡饺",2,null,"11038:Lok10-蟹肉火腿",1,null,"11042:Lok19-黄金烧卖",5,null,"11042:Lok19-黄金烧卖",3,null,"11035:Lok05-豆苗火腿",2,null,"11032:Lok40-鹌鹑蛋",6]
[null,null,null,null,null,null,null,null,null,null,null,null,null,null,null,null,null,null,null,"11401:Add Rice-加饭",1,null,"11401:Add Rice-加饭",2,null,"11041:Lok14-鸡肉腊肠",3,null,"11046:Lok38-炸馒头",1,null,"11044:Lok27-白雪菇",1,null,"11036:Lok08-火鸡串",2,null,"11033:Lok44-鹌鹑皮蛋",5]
[null,null,null,null,null,null,null,null,null,null,null,null,null,null,null,null,null,null,null,"11501:C01-泰式鸡饭",4,null,"11501:C01-泰式鸡饭",2,null,"11043:Lok22-南乳炸肉",3,null,"11047:Lok39-酥脆炸包",2,null,"11045:Lok34-烤鱼皮",1,null,"11037:Lok09-芝士火腿",5,null,"11034:Lok45-海鲜豆腐",13]
[null,null,null,null,null,null,null,null,null,null,null,null,null,null,null,null,null,null,null,"11502:C02-妈蜜鸡饭",10,null,"11502:C02-妈蜜鸡饭",5,null,"11044:Lok27-白雪菇",1,null,"11048:Lok41-鱼肉豆卜",1,null,"11046:Lok38-炸馒头",1,null,"11039:Lok11-炸鸡球",2,null,"11035:Lok05-豆苗火腿",4]
[null,null,null,null,null,null,null,null,null,null,null,null,null,null,null,null,null,null,null,"11505:C03-奶油鸡饭",4,null,"11505:C03-奶油鸡饭",3,null,"11045:Lok34-烤鱼皮",2,null,"11050:Lok43-蛋黄家乡饺",1,null,"11049:Lok42-脆皮包",2,null,"11043:Lok22-南乳炸肉",3,null,"11037:Lok09-芝士火腿",6]
[null,null,null,null,null,null,null,null,null,null,null,null,null,null,null,null,null,null,null,"11507:C07-泰式鱼扒饭",3,null,"11507:C07-泰式鱼扒饭",1,null,"11046:Lok38-炸馒头",6,null,"11401:Add Rice-加饭",4,null,"11050:Lok43-蛋黄家乡饺",3,null,"11044:Lok27-白雪菇",4,null,"11038:Lok10-蟹肉火腿",2]
[null,null,null,null,null,null,null,null,null,null,null,null,null,null,null,null,null,null,null,"11508:C08-妈蜜鱼扒饭",3,null,"11509:C09-奶油鱼扒饭",1,null,"11047:Lok39-酥脆炸包",2,null,"11501:C01-泰式鸡饭",13,null,"11401:Add Rice-加饭",4,null,"11046:Lok38-炸馒头",4,null,"11039:Lok11-炸鸡球",1]
[null,null,null,null,null,null,null,null,null,null,null,null,null,null,null,null,null,null,null,"11509:C09-奶油鱼扒饭",3,null,"11517:S02-小薯脆脆",7,null,"11049:Lok42-脆皮包",1,null,"11502:C02-妈蜜鸡饭",15,null,"11402:Add Egg-加蛋",3,null,"11047:Lok39-酥脆炸包",1,null,"11040:Lok13-鸡肉带子壳",1]
[null,null,null,null,null,null,null,null,null,null,null,null,null,null,null,null,null,null,null,"11517:S02-小薯脆脆",6,null,"11519:S06-小小鱼丸",1,null,"11050:Lok43-蛋黄家乡饺",1,null,"11505:C03-奶油鸡饭",18,null,"11501:C01-泰式鸡饭",8,null,"11049:Lok42-脆皮包",2,null,"11041:Lok14-鸡肉腊肠",1]
[null,null,null,null,null,null,null,null,null,null,null,null,null,null,null,null,null,null,null,"11519:S06-小小鱼丸",2,null,"11521:S12-家乡春卷",1,null,"11401:Add Rice-加饭",3,null,"11507:C07-泰式鱼扒饭",3,null,"11502:C02-妈蜜鸡饭",6,null,"11502:C02-妈蜜鸡饭",7,null,"11042:Lok19-黄金烧卖",5]
[null,null,null,null,null,null,null,null,null,null,null,null,null,null,null,null,null,null,null,"11521:S12-家乡春卷",1,null,"11522:S11-洋葱圈圈",1,null,"11501:C01-泰式鸡饭",5,null,"11508:C08-妈蜜鱼扒饭",3,null,"11505:C03-奶油鸡饭",12,null,"11505:C03-奶油鸡饭",9,null,"11043:Lok22-南乳炸肉",1]
[null,null,null,null,null,null,null,null,null,null,null,null,null,null,null,null,null,null,null,"11522:S11-洋葱圈圈",3,null,"11525:S05-小鸡块块",3,null,"11502:C02-妈蜜鸡饭",3,null,"11509:C09-奶油鱼扒饭",2,null,"11508:C08-妈蜜鱼扒饭",3,null,"11508:C08-妈蜜鱼扒饭",2,null,"11044:Lok27-白雪菇",2]
[null,null,null,null,null,null,null,null,null,null,null,null,null,null,null,null,null,null,null,"11525:S05-小鸡块块",4,null,"11528:S07-小乳鸡翅",4,null,"11505:C03-奶油鸡饭",12,null,"11517:S02-小薯脆脆",17,null,"11509:C09-奶油鱼扒饭",1,null,"11509:C09-奶油鱼扒饭",4,null,"11046:Lok38-炸馒头",1]
[null,null,null,null,null,null,null,null,null,null,null,null,null,null,null,null,null,null,null,"11528:S07-小乳鸡翅",8,null,"11531:W01-香煎鸡扒",11,null,"11507:C07-泰式鱼扒饭",2,null,"11519:S06-小小鱼丸",2,null,"11517:S02-小薯脆脆",28,null,"11517:S02-小薯脆脆",13,null,"11048:Lok41-鱼肉豆卜",2]
[null,null,null,null,null,null,null,null,null,null,null,null,null,null,null,null,null,null,null,"11531:W01-香煎鸡扒",8,null,"11532:W03-马里兰鸡扒",5,null,"11509:C09-奶油鱼扒饭",5,null,"11521:S12-家乡春卷",2,null,"11519:S06-小小鱼丸",4,null,"11519:S06-小小鱼丸",1,null,"11049:Lok42-脆皮包",3]
[null,null,null,null,null,null,null,null,null,null,null,null,null,null,null,null,null,null,null,"11532:W03-马里兰鸡扒",2,null,"11533:W02-香炸鱼扒",3,null,"11517:S02-小薯脆脆",21,null,"11522:S11-洋葱圈圈",1,null,"11521:S12-家乡春卷",1,null,"11521:S12-家乡春卷",2,null,"11050:Lok43-蛋黄家乡饺",3]
[null,null,null,null,null,null,null,null,null,null,null,null,null,null,null,null,null,null,null,"11533:W02-香炸鱼扒",1,null,"11537:M/S 蘑菇酱",11,null,"11519:S06-小小鱼丸",5,null,"11525:S05-小鸡块块",10,null,"11522:S11-洋葱圈圈",7,null,"11522:S11-洋葱圈圈",1,null,"11402:Add Egg-加蛋",1]
[null,null,null,null,null,null,null,null,null,null,null,null,null,null,null,null,null,null,null,"11535:W04-鸡扒沙拉",1,null,"11539:B/P-黑椒酱",28,null,"11525:S05-小鸡块块",12,null,"11528:S07-小乳鸡翅",5,null,"11525:S05-小鸡块块",9,null,"11525:S05-小鸡块块",4,null,"11501:C01-泰式鸡饭",4]
[null,null,null,null,null,null,null,null,null,null,null,null,null,null,null,null,null,null,null,"11537:M/S 蘑菇酱",18,null,"11540:S01-小热狗包",1,null,"11528:S07-小乳鸡翅",6,null,"11531:W01-香煎鸡扒",23,null,"11528:S07-小乳鸡翅",17,null,"11528:S07-小乳鸡翅",1,null,"11502:C02-妈蜜鸡饭",4]
[null,null,null,null,null,null,null,null,null,null,null,null,null,null,null,null,null,null,null,"11539:B/P-黑椒酱",17,null,"11543:S08-海鲜豆腐",4,null,"11531:W01-香煎鸡扒",23,null,"11532:W03-马里兰鸡扒",4,null,"11531:W01-香煎鸡扒",16,null,"11531:W01-香煎鸡扒",11,null,"11505:C03-奶油鸡饭",10]
[null,null,null,null,null,null,null,null,null,null,null,null,null,null,null,null,null,null,null,"11540:S01-小热狗包",3,null,"11544:S09-沙律卷卷",1,null,"11532:W03-马里兰鸡扒",1,null,"11533:W02-香炸鱼扒",5,null,"11532:W03-马里兰鸡扒",1,null,"11532:W03-马里兰鸡扒",3,null,"11507:C07-泰式鱼扒饭",3]
[null,null,null,null,null,null,null,null,null,null,null,null,null,null,null,null,null,null,null,"11542:S04-小肠弯弯",3,null,"11545:S10-金钱肉干",2,null,"11533:W02-香炸鱼扒",3,null,"11537:M/S 蘑菇酱",22,null,"11533:W02-香炸鱼扒",5,null,"11537:M/S 蘑菇酱",38,null,"11508:C08-妈蜜鱼扒饭",5]
[null,null,null,null,null,null,null,null,null,null,null,null,null,null,null,null,null,null,null,"11543:S08-海鲜豆腐",6,null,"11601:L -C01-泰式鸡饭",2,null,"11535:W04-鸡扒沙拉",1,null,"11539:B/P-黑椒酱",33,null,"11535:W04-鸡扒沙拉",3,null,"11539:B/P-黑椒酱",40,null,"11509:C09-奶油鱼扒饭",4]
[null,null,null,null,null,null,null,null,null,null,null,null,null,null,null,null,null,null,null,"11601:L -C01-泰式鸡饭",4,null,"11602:L -C02-妈蜜鸡饭",6,null,"11537:M/S 蘑菇酱",35,null,"11542:S04-小肠弯弯",3,null,"11537:M/S 蘑菇酱",34,null,"11540:S01-小热狗包",2,null,"11517:S02-小薯脆脆",14]
[null,null,null,null,null,null,null,null,null,null,null,null,null,null,null,null,null,null,null,"11602:L -C02-妈蜜鸡饭",5,null,"11605:L -C03-奶油鸡饭",5,null,"11539:B/P-黑椒酱",18,null,"11543:S08-海鲜豆腐",2,null,"11539:B/P-黑椒酱",53,null,"11542:S04-小肠弯弯",5,null,"11519:S06-小小鱼丸",5]
[null,null,null,null,null,null,null,null,null,null,null,null,null,null,null,null,null,null,null,"11605:L -C03-奶油鸡饭",8,null,"11607:L-C07-泰式鱼扒饭",1,null,"11542:S04-小肠弯弯",2,null,"11544:S09-沙律卷卷",4,null,"11542:S04-小肠弯弯",2,null,"11543:S08-海鲜豆腐",4,null,"11521:S12-家乡春卷",1]
[null,null,null,null,null,null,null,null,null,null,null,null,null,null,null,null,null,null,null,"11607:L-C07-泰式鱼扒饭",3,null,"11608:L-C08-妈蜜鱼扒饭",3,null,"11543:S08-海鲜豆腐",3,null,"11545:S10-金钱肉干",1,null,"11543:S08-海鲜豆腐",3,null,"11545:S10-金钱肉干",5,null,"11522:S11-洋葱圈圈",2]
[null,null,null,null,null,null,null,null,null,null,null,null,null,null,null,null,null,null,null,"11608:L-C08-妈蜜鱼扒饭",2,null,"11609:L-C09-奶油鱼扒饭",4,null,"11544:S09-沙律卷卷",2,null,"11601:L -C01-泰式鸡饭",10,null,"11544:S09-沙律卷卷",2,null,"11601:L -C01-泰式鸡饭",6,null,"11525:S05-小鸡块块",6]
[null,null,null,null,null,null,null,null,null,null,null,null,null,null,null,null,null,null,null,"11609:L-C09-奶油鱼扒饭",4,null,"11617:L -S02-小薯脆脆",3,null,"11545:S10-金钱肉干",5,null,"11602:L -C02-妈蜜鸡饭",4,null,"11545:S10-金钱肉干",4,null,"11602:L -C02-妈蜜鸡饭",9,null,"11528:S07-小乳鸡翅",1]
[null,null,null,null,null,null,null,null,null,null,null,null,null,null,null,null,null,null,null,"11617:L -S02-小薯脆脆",3,null,"11625:L -S05-小鸡块块",2,null,"11601:L -C01-泰式鸡饭",6,null,"11605:L -C03-奶油鸡饭",5,null,"11601:L -C01-泰式鸡饭",12,null,"11605:L -C03-奶油鸡饭",7,null,"11531:W01-香煎鸡扒",17]
[null,null,null,null,null,null,null,null,null,null,null,null,null,null,null,null,null,null,null,"11622:L -S11-洋葱圈圈",1,null,"11631:L -W01-香煎鸡扒",28,null,"11602:L -C02-妈蜜鸡饭",12,null,"11607:L-C07-泰式鱼扒饭",3,null,"11602:L -C02-妈蜜鸡饭",10,null,"11607:L-C07-泰式鱼扒饭",3,null,"11532:W03-马里兰鸡扒",2]
[null,null,null,null,null,null,null,null,null,null,null,null,null,null,null,null,null,null,null,"11625:L -S05-小鸡块块",3,null,"11632:L -W03-马里兰鸡扒",9,null,"11605:L -C03-奶油鸡饭",17,null,"11609:L-C09-奶油鱼扒饭",5,null,"11605:L -C03-奶油鸡饭",9,null,"11608:L-C08-妈蜜鱼扒饭",2,null,"11533:W02-香炸鱼扒",4]
[null,null,null,null,null,null,null,null,null,null,null,null,null,null,null,null,null,null,null,"11628:L -S07-小乳鸡翅",2,null,"11633:L -W02-香炸鱼扒",8,null,"11607:L-C07-泰式鱼扒饭",7,null,"11631:L -W01-香煎鸡扒",32,null,"11607:L-C07-泰式鱼扒饭",2,null,"11609:L-C09-奶油鱼扒饭",7,null,"11535:W04-鸡扒沙拉",1]
[null,null,null,null,null,null,null,null,null,null,null,null,null,null,null,null,null,null,null,"11631:L -W01-香煎鸡扒",27,null,"11635:L -W04-鸡扒沙拉",5,null,"11608:L-C08-妈蜜鱼扒饭",4,null,"11632:L -W03-马里兰鸡扒",5,null,"11608:L-C08-妈蜜鱼扒饭",2,null,"11617:L -S02-小薯脆脆",2,null,"11537:M/S 蘑菇酱",33]
[null,null,null,null,null,null,null,null,null,null,null,null,null,null,null,null,null,null,null,"11632:L -W03-马里兰鸡扒",12,null,"11640:L -S01-小热狗包",2,null,"11609:L-C09-奶油鱼扒饭",4,null,"11633:L -W02-香炸鱼扒",9,null,"11609:L-C09-奶油鱼扒饭",3,null,"11622:L -S11-洋葱圈圈",1,null,"11539:B/P-黑椒酱",28]
[null,null,null,null,null,null,null,null,null,null,null,null,null,null,null,null,null,null,null,"11633:L -W02-香炸鱼扒",12,null,"11643:L -S08-海鲜豆腐",1,null,"11617:L -S02-小薯脆脆",4,null,"11635:L -W04-鸡扒沙拉",6,null,"11617:L -S02-小薯脆脆",3,null,"11625:L -S05-小鸡块块",2,null,"11540:S01-小热狗包",2]
[null,null,null,null,null,null,null,null,null,null,null,null,null,null,null,null,null,null,null,"11635:L -W04-鸡扒沙拉",4,null,"11645:L -S10-金钱肉干",1,null,"11619:L -S06-小小鱼丸",3,null,"11644:L -S09-沙律卷卷",1,null,"11625:L -S05-小鸡块块",1,null,"11628:L -S07-小乳鸡翅",2,null,"11542:S04-小肠弯弯",4]
[null,null,null,null,null,null,null,null,null,null,null,null,null,null,null,null,null,null,null,"11643:L -S08-海鲜豆腐",1,null,"11801:R-B/P Sauce ",1,null,"11625:L -S05-小鸡块块",1,null,"11803:R-Butter Sauce",4,null,"11628:L -S07-小乳鸡翅",1,null,"11631:L -W01-香煎鸡扒",67,null,"11543:S08-海鲜豆腐",6]
[null,null,null,null,null,null,null,null,null,null,null,null,null,null,null,null,null,null,null,"11646:L-MC03-螺旋薯条",1,null,"11806:R-Mayonaisse",6,null,"11628:L -S07-小乳鸡翅",3,null,"11806:R-Mayonaisse",2,null,"11631:L -W01-香煎鸡扒",70,null,"11632:L -W03-马里兰鸡扒",17,null,"11544:S09-沙律卷卷",5]
[null,null,null,null,null,null,null,null,null,null,null,null,null,null,null,null,null,null,null,"11803:R-Butter Sauce",2,null,"11901:McCain Platter",1,null,"11631:L -W01-香煎鸡扒",30,null,"11901:McCain Platter",1,null,"11632:L -W03-马里兰鸡扒",4,null,"11633:L -W02-香炸鱼扒",22,null,"11545:S10-金钱肉干",7]
[null,null,null,null,null,null,null,null,null,null,null,null,null,null,null,null,null,null,null,"11805:R-Tar Tar Sauce",1,null,"11903:MC03-螺旋薯条",4,null,"11632:L -W03-马里兰鸡扒",6,null,"11903:MC03-螺旋薯条",4,null,"11633:L -W02-香炸鱼扒",20,null,"11640:L -S01-小热狗包",2,null,"11601:L -C01-泰式鸡饭",3]
[null,null,null,null,null,null,null,null,null,null,null,null,null,null,null,null,null,null,null,"11806:R-Mayonaisse",5,null,"11904:MC04-迷你薯饼",3,null,"11633:L -W02-香炸鱼扒",19,null,"11904:MC04-迷你薯饼",2,null,"11640:L -S01-小热狗包",2,null,"11644:L -S09-沙律卷卷",1,null,"11602:L -C02-妈蜜鸡饭",9]
[null,null,null,null,null,null,null,null,null,null,null,null,null,null,null,null,null,null,null,"11901:McCain Platter",1,null,"11905:MC05-笑面薯饼",2,null,"11635:L -W04-鸡扒沙拉",5,null,"11905:MC05-笑面薯饼",1,null,"11642:L -S04-小肠弯弯",1,null,"11808:R-Marmite Sauce",1,null,"11605:L -C03-奶油鸡饭",1]
[null,null,null,null,null,null,null,null,null,null,null,null,null,null,null,null,null,null,null,"11903:MC03-螺旋薯条",4,null,"12033:Titb (Bowl)",4,null,"11642:L -S04-小肠弯弯",1,null,"12033:Titb (Bowl)",10,null,"11645:L -S10-金钱肉干",1,null,"11901:McCain Platter",1,null,"11607:L-C07-泰式鱼扒饭",5]
[null,null,null,null,null,null,null,null,null,null,null,null,null,null,null,null,null,null,null,"11904:MC04-迷你薯饼",4,null,"13001:Lighter",1,null,"11645:L -S10-金钱肉干",2,null,"13001:Lighter",2,null,"11646:L-MC03-螺旋薯条",1,null,"11904:MC04-迷你薯饼",1,null,"11608:L-C08-妈蜜鱼扒饭",1]
[null,null,null,null,null,null,null,null,null,null,null,null,null,null,null,null,null,null,null,"11905:MC05-笑面薯饼",2,null,"13006:MIC COVER x3",1,null,"11803:R-Butter Sauce",2,null,"13006:MIC COVER x3",2,null,"11647:L-MC04-迷你薯饼",1,null,"12033:Titb (Bowl)",34,null,"11609:L-C09-奶油鱼扒饭",3]
[null,null,null,null,null,null,null,null,null,null,null,null,null,null,null,null,null,null,null,"12033:Titb (Bowl)",1,null,"13011:D.KING",2,null,"11804:R-Thousand Island",2,null,"13011:D.KING",2,null,"11648:L-MC05-笑面薯饼",1,null,"13006:MIC COVER x3",1,null,"11617:L -S02-小薯脆脆",7]
[null,null,null,null,null,null,null,null,null,null,null,null,null,null,null,null,null,null,null,"13006:MIC COVER x3",1,null,"13012:D.LIGHTS",1,null,"11806:R-Mayonaisse",6,null,"13013:D.MENTHOL ",1,null,"11801:R-B/P Sauce ",1,null,"13011:D.KING",6,null,"11621:L -S12-家乡春卷",3]
[null,null,null,null,null,null,null,null,null,null,null,null,null,null,null,null,null,null,null,"13013:D.MENTHOL ",1,null,"13017:D.ICE",1,null,"11901:McCain Platter",1,null,"13015:D.BOOST",1,null,"11802:R-Mushroom Sauce",1,null,"13012:D.LIGHTS",2,null,"11622:L -S11-洋葱圈圈",2]
[null,null,null,null,null,null,null,null,null,null,null,null,null,null,null,null,null,null,null,"14001:SD-Grape Juice",3,null,"14001:SD-Grape Juice",5,null,"11902:McCain Beer",1,null,"13017:D.ICE",2,null,"11806:R-Mayonaisse",2,null,"13013:D.MENTHOL ",2,null,"11625:L -S05-小鸡块块",3]
[null,null,null,null,null,null,null,null,null,null,null,null,null,null,null,null,null,null,null,"14007:SD-Mango juice",1,null,"14003:SD-Green Apple Juice",5,null,"11903:MC03-螺旋薯条",1,null,"14001:SD-Grape Juice",5,null,"11901:McCain Platter",2,null,"13017:D.ICE",3,null,"11628:L -S07-小乳鸡翅",3]
[null,null,null,null,null,null,null,null,null,null,null,null,null,null,null,null,null,null,null,"14023:SD-Ice Tea",2,null,"14007:SD-Mango juice",5,null,"11904:MC04-迷你薯饼",3,null,"14003:SD-Green Apple Juice",6,null,"11903:MC03-螺旋薯条",2,null,"15001:Member Card",22,null,"11631:L -W01-香煎鸡扒",44]
[null,null,null,null,null,null,null,null,null,null,null,null,null,null,null,null,null,null,null,"14025:SD-Ice Lemon Tea",4,null,"14023:SD-Ice Tea",9,null,"12033:Titb (Bowl)",2,null,"14023:SD-Ice Tea",5,null,"11904:MC04-迷你薯饼",2,null,"15002:Renew Member Card",1,null,"11632:L -W03-马里兰鸡扒",7]
[null,null,null,null,null,null,null,null,null,null,null,null,null,null,null,null,null,null,null,"14031:SD-Ice Jasmine Green Tea",2,null,"14025:SD-Ice Lemon Tea",6,null,"13001:Lighter",3,null,"14025:SD-Ice Lemon Tea",12,null,"12033:Titb (Bowl)",4,null,"15004:ST Renew Member Card",2,null,"11633:L -W02-香炸鱼扒",17]
[null,null,null,null,null,null,null,null,null,null,null,null,null,null,null,null,null,null,null,"15001:Member Card",4,null,"14028:SD-Hot Honey",1,null,"13006:MIC COVER x3",22,null,"14031:SD-Ice Jasmine Green Tea",7,null,"13001:Lighter",3,null,"15005:58 Member Card",2,null,"11643:L -S08-海鲜豆腐",2]
[null,null,null,null,null,null,null,null,null,null,null,null,null,null,null,null,null,null,null,"15002:Renew Member Card",1,null,"14029:SD-Ice Honey Lemon",2,null,"13011:D.KING",1,null,"14032:SD-Hot Jasmine Green Tea",3,null,"13006:MIC COVER x3",6,null,"30001:Appetizer Combo Set A",11,null,"11644:L -S09-沙律卷卷",2]
[null,null,null,null,null,null,null,null,null,null,null,null,null,null,null,null,null,null,null,"15005:58 Member Card",1,null,"14030:SD-Hot Honey Lemon",1,null,"13013:D.MENTHOL ",1,null,"14034:SD-Hot Honey Green Tea",4,null,"13011:D.KING",8,null,"30002:Appetizer Combo Set B",2,null,"11645:L -S10-金钱肉干",2]
[null,null,null,null,null,null,null,null,null,null,null,null,null,null,null,null,null,null,null,"30001:Appetizer Combo Set A",7,null,"14031:SD-Ice Jasmine Green Tea",7,null,"13017:D.ICE",2,null,"15001:Member Card",10,null,"13012:D.LIGHTS",1,null,null,null,null,"11648:L-MC05-笑面薯饼",2]
[null,null,null,null,null,null,null,null,null,null,null,null,null,null,null,null,null,null,null,"30002:Appetizer Combo Set B",10,null,"14033:SD-Ice Honey Green Tea",4,null,"14001:SD-Grape Juice",3,null,"15002:Renew Member Card",1,null,"13017:D.ICE",3,null,null,null,null,"11805:R-Tar Tar Sauce",2]
[null,null,null,null,null,null,null,null,null,null,null,null,null,null,null,null,null,null,null,null,null,null,"15001:Member Card",6,null,"14003:SD-Green Apple Juice",2,null,"15005:58 Member Card",4,null,"14001:SD-Grape Juice",1,null,null,null,null,"11806:R-Mayonaisse",2]
[null,null,null,null,null,null,null,null,null,null,null,null,null,null,null,null,null,null,null,null,null,null,"15002:Renew Member Card",3,null,"14025:SD-Ice Lemon Tea",7,null,"30001:Appetizer Combo Set A",11,null,"14003:SD-Green Apple Juice",5,null,null,null,null,"11903:MC03-螺旋薯条",2]
[null,null,null,null,null,null,null,null,null,null,null,null,null,null,null,null,null,null,null,null,null,null,"15005:58 Member Card",8,null,"14027:SD-Ice Honey",3,null,"30002:Appetizer Combo Set B",6,null,"14007:SD-Mango juice",1,null,null,null,null,"11904:MC04-迷你薯饼",2]
[null,null,null,null,null,null,null,null,null,null,null,null,null,null,null,null,null,null,null,null,null,null,"30001:Appetizer Combo Set A",7,null,"14029:SD-Ice Honey Lemon",1,null,"30003:Combo Lok Lok Package A",2,null,"14023:SD-Ice Tea",8,null,null,null,null,"12033:Titb (Bowl)",5]
[null,null,null,null,null,null,null,null,null,null,null,null,null,null,null,null,null,null,null,null,null,null,"30002:Appetizer Combo Set B",8,null,"14031:SD-Ice Jasmine Green Tea",6,null,null,null,null,"14025:SD-Ice Lemon Tea",8,null,null,null,null,"13001:Lighter",3]
[null,null,null,null,null,null,null,null,null,null,null,null,null,null,null,null,null,null,null,null,null,null,"30003:Combo Lok Lok Package A",1,null,"15001:Member Card",5,null,null,null,null,"14027:SD-Ice Honey",1,null,null,null,null,"13006:MIC COVER x3",3]
[null,null,null,null,null,null,null,null,null,null,null,null,null,null,null,null,null,null,null,null,null,null,null,null,null,"15002:Renew Member Card",2,null,null,null,null,"14031:SD-Ice Jasmine Green Tea",5,null,null,null,null,"13011:D.KING",2]
[null,null,null,null,null,null,null,null,null,null,null,null,null,null,null,null,null,null,null,null,null,null,null,null,null,"15003:ST Member Card",1,null,null,null,null,"14033:SD-Ice Honey Green Tea",1,null,null,null,null,"13012:D.LIGHTS",3]
[null,null,null,null,null,null,null,null,null,null,null,null,null,null,null,null,null,null,null,null,null,null,null,null,null,"15004:ST Renew Member Card",1,null,null,null,null,"15001:Member Card",8,null,null,null,null,"13013:D.MENTHOL ",1]
[null,null,null,null,null,null,null,null,null,null,null,null,null,null,null,null,null,null,null,null,null,null,null,null,null,"15005:58 Member Card",4,null,null,null,null,"15004:ST Renew Member Card",2,null,null,null,null,"13017:D.ICE",2]
[null,null,null,null,null,null,null,null,null,null,null,null,null,null,null,null,null,null,null,null,null,null,null,null,null,"30001:Appetizer Combo Set A",15,null,null,null,null,"15005:58 Member Card",2,null,null,null,null,"14001:SD-Grape Juice",8]
[null,null,null,null,null,null,null,null,null,null,null,null,null,null,null,null,null,null,null,null,null,null,null,null,null,"30002:Appetizer Combo Set B",10,null,null,null,null,"30001:Appetizer Combo Set A",18,null,null,null,null,"14007:SD-Mango juice",1]
[null,null,null,null,null,null,null,null,null,null,null,null,null,null,null,null,null,null,null,null,null,null,null,null,null,"9991:K:Event Pax",1,null,null,null,null,"30002:Appetizer Combo Set B",14,null,null,null,null,"14023:SD-Ice Tea",6]
[null,null,null,null,null,null,null,null,null,null,null,null,null,null,null,null,null,null,null,null,null,null,null,null,null,null,null,null,null,null,null,"30003:Combo Lok Lok Package A",2,null,null,null,null,"14025:SD-Ice Lemon Tea",7]
[null,null,null,null,null,null,null,null,null,null,null,null,null,null,null,null,null,null,null,null,null,null,null,null,null,null,null,null,null,null,null,"30005:Lok Lok Special Package C ",1,null,null,null,null,"14028:SD-Hot Honey",4]
[null,null,null,null,null,null,null,null,null,null,null,null,null,null,null,null,null,null,null,null,null,null,null,null,null,null,null,null,null,null,null,null,null,null,null,null,null,"14029:SD-Ice Honey Lemon",1]
[null,null,null,null,null,null,null,null,null,null,null,null,null,null,null,null,null,null,null,null,null,null,null,null,null,null,null,null,null,null,null,null,null,null,null,null,null,"14031:SD-Ice Jasmine Green Tea",19]
[null,null,null,null,null,null,null,null,null,null,null,null,null,null,null,null,null,null,null,null,null,null,null,null,null,null,null,null,null,null,null,null,null,null,null,null,null,"14033:SD-Ice Honey Green Tea",11]
[null,null,null,null,null,null,null,null,null,null,null,null,null,null,null,null,null,null,null,null,null,null,null,null,null,null,null,null,null,null,null,null,null,null,null,null,null,"15001:Member Card",9]
[null,null,null,null,null,null,null,null,null,null,null,null,null,null,null,null,null,null,null,null,null,null,null,null,null,null,null,null,null,null,null,null,null,null,null,null,null,"15002:Renew Member Card",2]
[null,null,null,null,null,null,null,null,null,null,null,null,null,null,null,null,null,null,null,null,null,null,null,null,null,null,null,null,null,null,null,null,null,null,null,null,null,"15003:ST Member Card",6]
[null,null,null,null,null,null,null,null,null,null,null,null,null,null,null,null,null,null,null,null,null,null,null,null,null,null,null,null,null,null,null,null,null,null,null,null,null,"15005:58 Member Card",4]
[null,null,null,null,null,null,null,null,null,null,null,null,null,null,null,null,null,null,null,null,null,null,null,null,null,null,null,null,null,null,null,null,null,null,null,null,null,"30001:Appetizer Combo Set A",14]
[null,null,null,null,null,null,null,null,null,null,null,null,null,null,null,null,null,null,null,null,null,null,null,null,null,null,null,null,null,null,null,null,null,null,null,null,null,"30002:Appetizer Combo Set B",4]
[null,null,null,null,null,null,null,null,null,null,null,null,null,null,null,null,null,null,null,null,null,null,null,null,null,null,null,null,null,null,null,null,null,null,null,null,null,"30003:Combo Lok Lok Package A",1]
[null,null,null,null,null,null,null,null,null,null,null,null,null,null,null,null,null,null,null,null,null,null,null,null,null,null,null,null,null,null,null,null,null,null,null,null,null,"30004:Combo Lok Lok Package B",1]
[null,null,null,null,null,null,null,null,null,null,null,null,null,null,null,null,null,null,null,null,null,null,null,null,null,null,null,null,null,null,null,null,null,null,null,null,null,"30005:Lok Lok Special Package C ",1]
[]
[]
[]
[]
[]
[]
[]
[]
[{"$f":"IFERROR(IF(INDIRECT($A$14&ROW())<>\"\",COUNTIF([1]Summary!$B$30:$B$1029,INDIRECT($A$14&ROW())),\"\"),\"\")","v":""}]
[{"$f":"IFERROR(IF(INDIRECT($A$14&ROW())<>\"\",COUNTIF([1]Summary!$B$30:$B$1029,INDIRECT($A$14&ROW())),\"\"),\"\")","v":""}]
[{"$f":"IFERROR(IF(INDIRECT($A$14&ROW())<>\"\",COUNTIF([1]Summary!$B$30:$B$1029,INDIRECT($A$14&ROW())),\"\"),\"\")","v":""}]
[{"$f":"IFERROR(IF(INDIRECT($A$14&ROW())<>\"\",COUNTIF([1]Summary!$B$30:$B$1029,INDIRECT($A$14&ROW())),\"\"),\"\")","v":""}]
[{"$f":"IFERROR(IF(INDIRECT($A$14&ROW())<>\"\",COUNTIF([1]Summary!$B$30:$B$1029,INDIRECT($A$14&ROW())),\"\"),\"\")","v":""}]
[{"$f":"IFERROR(IF(INDIRECT($A$14&ROW())<>\"\",COUNTIF([1]Summary!$B$30:$B$1029,INDIRECT($A$14&ROW())),\"\"),\"\")","v":""}]
[{"$f":"IFERROR(IF(INDIRECT($A$14&ROW())<>\"\",COUNTIF([1]Summary!$B$30:$B$1029,INDIRECT($A$14&ROW())),\"\"),\"\")","v":""}]
[{"$f":"IFERROR(IF(INDIRECT($A$14&ROW())<>\"\",COUNTIF([1]Summary!$B$30:$B$1029,INDIRECT($A$14&ROW())),\"\"),\"\")","v":""}]
[{"$f":"IFERROR(IF(INDIRECT($A$14&ROW())<>\"\",COUNTIF([1]Summary!$B$30:$B$1029,INDIRECT($A$14&ROW())),\"\"),\"\")","v":""}]
[{"$f":"IFERROR(IF(INDIRECT($A$14&ROW())<>\"\",COUNTIF([1]Summary!$B$30:$B$1029,INDIRECT($A$14&ROW())),\"\"),\"\")","v":""}]
[{"$f":"IFERROR(IF(INDIRECT($A$14&ROW())<>\"\",COUNTIF([1]Summary!$B$30:$B$1029,INDIRECT($A$14&ROW())),\"\"),\"\")","v":""}]
[{"$f":"IFERROR(IF(INDIRECT($A$14&ROW())<>\"\",COUNTIF([1]Summary!$B$30:$B$1029,INDIRECT($A$14&ROW())),\"\"),\"\")","v":""}]
[{"$f":"IFERROR(IF(INDIRECT($A$14&ROW())<>\"\",COUNTIF([1]Summary!$B$30:$B$1029,INDIRECT($A$14&ROW())),\"\"),\"\")","v":""}]
[{"$f":"IFERROR(IF(INDIRECT($A$14&ROW())<>\"\",COUNTIF([1]Summary!$B$30:$B$1029,INDIRECT($A$14&ROW())),\"\"),\"\")","v":""}]
[{"$f":"IFERROR(IF(INDIRECT($A$14&ROW())<>\"\",COUNTIF([1]Summary!$B$30:$B$1029,INDIRECT($A$14&ROW())),\"\"),\"\")","v":""}]
[{"$f":"IFERROR(IF(INDIRECT($A$14&ROW())<>\"\",COUNTIF([1]Summary!$B$30:$B$1029,INDIRECT($A$14&ROW())),\"\"),\"\")","v":""}]
[{"$f":"IFERROR(IF(INDIRECT($A$14&ROW())<>\"\",COUNTIF([1]Summary!$B$30:$B$1029,INDIRECT($A$14&ROW())),\"\"),\"\")","v":""}]
[{"$f":"IFERROR(IF(INDIRECT($A$14&ROW())<>\"\",COUNTIF([1]Summary!$B$30:$B$1029,INDIRECT($A$14&ROW())),\"\"),\"\")","v":""}]
[{"$f":"IFERROR(IF(INDIRECT($A$14&ROW())<>\"\",COUNTIF([1]Summary!$B$30:$B$1029,INDIRECT($A$14&ROW())),\"\"),\"\")","v":""}]
[{"$f":"IFERROR(IF(INDIRECT($A$14&ROW())<>\"\",COUNTIF([1]Summary!$B$30:$B$1029,INDIRECT($A$14&ROW())),\"\"),\"\")","v":""}]
[{"$f":"IFERROR(IF(INDIRECT($A$14&ROW())<>\"\",COUNTIF([1]Summary!$B$30:$B$1029,INDIRECT($A$14&ROW())),\"\"),\"\")","v":""}]
[{"$f":"IFERROR(IF(INDIRECT($A$14&ROW())<>\"\",COUNTIF([1]Summary!$B$30:$B$1029,INDIRECT($A$14&ROW())),\"\"),\"\")","v":""}]
[{"$f":"IFERROR(IF(INDIRECT($A$14&ROW())<>\"\",COUNTIF([1]Summary!$B$30:$B$1029,INDIRECT($A$14&ROW())),\"\"),\"\")","v":""}]
[{"$f":"IFERROR(IF(INDIRECT($A$14&ROW())<>\"\",COUNTIF([1]Summary!$B$30:$B$1029,INDIRECT($A$14&ROW())),\"\"),\"\")","v":""}]
[{"$f":"IFERROR(IF(INDIRECT($A$14&ROW())<>\"\",COUNTIF([1]Summary!$B$30:$B$1029,INDIRECT($A$14&ROW())),\"\"),\"\")","v":""}]
[{"$f":"IFERROR(IF(INDIRECT($A$14&ROW())<>\"\",COUNTIF([1]Summary!$B$30:$B$1029,INDIRECT($A$14&ROW())),\"\"),\"\")","v":""}]
[{"$f":"IFERROR(IF(INDIRECT($A$14&ROW())<>\"\",COUNTIF([1]Summary!$B$30:$B$1029,INDIRECT($A$14&ROW())),\"\"),\"\")","v":""}]
[{"$f":"IFERROR(IF(INDIRECT($A$14&ROW())<>\"\",COUNTIF([1]Summary!$B$30:$B$1029,INDIRECT($A$14&ROW())),\"\"),\"\")","v":""}]
[{"$f":"IFERROR(IF(INDIRECT($A$14&ROW())<>\"\",COUNTIF([1]Summary!$B$30:$B$1029,INDIRECT($A$14&ROW())),\"\"),\"\")","v":""}]
[{"$f":"IFERROR(IF(INDIRECT($A$14&ROW())<>\"\",COUNTIF([1]Summary!$B$30:$B$1029,INDIRECT($A$14&ROW())),\"\"),\"\")","v":""}]
[{"$f":"IFERROR(IF(INDIRECT($A$14&ROW())<>\"\",COUNTIF([1]Summary!$B$30:$B$1029,INDIRECT($A$14&ROW())),\"\"),\"\")","v":""}]
[{"$f":"IFERROR(IF(INDIRECT($A$14&ROW())<>\"\",COUNTIF([1]Summary!$B$30:$B$1029,INDIRECT($A$14&ROW())),\"\"),\"\")","v":""}]
[{"$f":"IFERROR(IF(INDIRECT($A$14&ROW())<>\"\",COUNTIF([1]Summary!$B$30:$B$1029,INDIRECT($A$14&ROW())),\"\"),\"\")","v":""}]
[{"$f":"IFERROR(IF(INDIRECT($A$14&ROW())<>\"\",COUNTIF([1]Summary!$B$30:$B$1029,INDIRECT($A$14&ROW())),\"\"),\"\")","v":""}]
[{"$f":"IFERROR(IF(INDIRECT($A$14&ROW())<>\"\",COUNTIF([1]Summary!$B$30:$B$1029,INDIRECT($A$14&ROW())),\"\"),\"\")","v":""}]
[{"$f":"IFERROR(IF(INDIRECT($A$14&ROW())<>\"\",COUNTIF([1]Summary!$B$30:$B$1029,INDIRECT($A$14&ROW())),\"\"),\"\")","v":""}]
[{"$f":"IFERROR(IF(INDIRECT($A$14&ROW())<>\"\",COUNTIF([1]Summary!$B$30:$B$1029,INDIRECT($A$14&ROW())),\"\"),\"\")","v":""}]
[{"$f":"IFERROR(IF(INDIRECT($A$14&ROW())<>\"\",COUNTIF([1]Summary!$B$30:$B$1029,INDIRECT($A$14&ROW())),\"\"),\"\")","v":""}]
[{"$f":"IFERROR(IF(INDIRECT($A$14&ROW())<>\"\",COUNTIF([1]Summary!$B$30:$B$1029,INDIRECT($A$14&ROW())),\"\"),\"\")","v":""}]
[{"$f":"IFERROR(IF(INDIRECT($A$14&ROW())<>\"\",COUNTIF([1]Summary!$B$30:$B$1029,INDIRECT($A$14&ROW())),\"\"),\"\")","v":""}]
[{"$f":"IFERROR(IF(INDIRECT($A$14&ROW())<>\"\",COUNTIF([1]Summary!$B$30:$B$1029,INDIRECT($A$14&ROW())),\"\"),\"\")","v":""}]
[{"$f":"IFERROR(IF(INDIRECT($A$14&ROW())<>\"\",COUNTIF([1]Summary!$B$30:$B$1029,INDIRECT($A$14&ROW())),\"\"),\"\")","v":""}]
[{"$f":"IFERROR(IF(INDIRECT($A$14&ROW())<>\"\",COUNTIF([1]Summary!$B$30:$B$1029,INDIRECT($A$14&ROW())),\"\"),\"\")","v":""}]
[{"$f":"IFERROR(IF(INDIRECT($A$14&ROW())<>\"\",COUNTIF([1]Summary!$B$30:$B$1029,INDIRECT($A$14&ROW())),\"\"),\"\")","v":""}]
[{"$f":"IFERROR(IF(INDIRECT($A$14&ROW())<>\"\",COUNTIF([1]Summary!$B$30:$B$1029,INDIRECT($A$14&ROW())),\"\"),\"\")","v":""}]
[{"$f":"IFERROR(IF(INDIRECT($A$14&ROW())<>\"\",COUNTIF([1]Summary!$B$30:$B$1029,INDIRECT($A$14&ROW())),\"\"),\"\")","v":""}]
[{"$f":"IFERROR(IF(INDIRECT($A$14&ROW())<>\"\",COUNTIF([1]Summary!$B$30:$B$1029,INDIRECT($A$14&ROW())),\"\"),\"\")","v":""}]
[{"$f":"IFERROR(IF(INDIRECT($A$14&ROW())<>\"\",COUNTIF([1]Summary!$B$30:$B$1029,INDIRECT($A$14&ROW())),\"\"),\"\")","v":""}]
[{"$f":"IFERROR(IF(INDIRECT($A$14&ROW())<>\"\",COUNTIF([1]Summary!$B$30:$B$1029,INDIRECT($A$14&ROW())),\"\"),\"\")","v":""}]
[{"$f":"IFERROR(IF(INDIRECT($A$14&ROW())<>\"\",COUNTIF([1]Summary!$B$30:$B$1029,INDIRECT($A$14&ROW())),\"\"),\"\")","v":""}]
[{"$f":"IFERROR(IF(INDIRECT($A$14&ROW())<>\"\",COUNTIF([1]Summary!$B$30:$B$1029,INDIRECT($A$14&ROW())),\"\"),\"\")","v":""}]
[{"$f":"IFERROR(IF(INDIRECT($A$14&ROW())<>\"\",COUNTIF([1]Summary!$B$30:$B$1029,INDIRECT($A$14&ROW())),\"\"),\"\")","v":""}]
[{"$f":"IFERROR(IF(INDIRECT($A$14&ROW())<>\"\",COUNTIF([1]Summary!$B$30:$B$1029,INDIRECT($A$14&ROW())),\"\"),\"\")","v":""}]
[{"$f":"IFERROR(IF(INDIRECT($A$14&ROW())<>\"\",COUNTIF([1]Summary!$B$30:$B$1029,INDIRECT($A$14&ROW())),\"\"),\"\")","v":""}]
[{"$f":"IFERROR(IF(INDIRECT($A$14&ROW())<>\"\",COUNTIF([1]Summary!$B$30:$B$1029,INDIRECT($A$14&ROW())),\"\"),\"\")","v":""}]
[{"$f":"IFERROR(IF(INDIRECT($A$14&ROW())<>\"\",COUNTIF([1]Summary!$B$30:$B$1029,INDIRECT($A$14&ROW())),\"\"),\"\")","v":""}]
[{"$f":"IFERROR(IF(INDIRECT($A$14&ROW())<>\"\",COUNTIF([1]Summary!$B$30:$B$1029,INDIRECT($A$14&ROW())),\"\"),\"\")","v":""}]
[{"$f":"IFERROR(IF(INDIRECT($A$14&ROW())<>\"\",COUNTIF([1]Summary!$B$30:$B$1029,INDIRECT($A$14&ROW())),\"\"),\"\")","v":""}]
[{"$f":"IFERROR(IF(INDIRECT($A$14&ROW())<>\"\",COUNTIF([1]Summary!$B$30:$B$1029,INDIRECT($A$14&ROW())),\"\"),\"\")","v":""}]
[{"$f":"IFERROR(IF(INDIRECT($A$14&ROW())<>\"\",COUNTIF([1]Summary!$B$30:$B$1029,INDIRECT($A$14&ROW())),\"\"),\"\")","v":""}]
[{"$f":"IFERROR(IF(INDIRECT($A$14&ROW())<>\"\",COUNTIF([1]Summary!$B$30:$B$1029,INDIRECT($A$14&ROW())),\"\"),\"\")","v":""}]
[{"$f":"IFERROR(IF(INDIRECT($A$14&ROW())<>\"\",COUNTIF([1]Summary!$B$30:$B$1029,INDIRECT($A$14&ROW())),\"\"),\"\")","v":""}]
[{"$f":"IFERROR(IF(INDIRECT($A$14&ROW())<>\"\",COUNTIF([1]Summary!$B$30:$B$1029,INDIRECT($A$14&ROW())),\"\"),\"\")","v":""}]
[{"$f":"IFERROR(IF(INDIRECT($A$14&ROW())<>\"\",COUNTIF([1]Summary!$B$30:$B$1029,INDIRECT($A$14&ROW())),\"\"),\"\")","v":""}]
[{"$f":"IFERROR(IF(INDIRECT($A$14&ROW())<>\"\",COUNTIF([1]Summary!$B$30:$B$1029,INDIRECT($A$14&ROW())),\"\"),\"\")","v":""}]
[{"$f":"IFERROR(IF(INDIRECT($A$14&ROW())<>\"\",COUNTIF([1]Summary!$B$30:$B$1029,INDIRECT($A$14&ROW())),\"\"),\"\")","v":""}]
[{"$f":"IFERROR(IF(INDIRECT($A$14&ROW())<>\"\",COUNTIF([1]Summary!$B$30:$B$1029,INDIRECT($A$14&ROW())),\"\"),\"\")","v":""}]
[{"$f":"IFERROR(IF(INDIRECT($A$14&ROW())<>\"\",COUNTIF([1]Summary!$B$30:$B$1029,INDIRECT($A$14&ROW())),\"\"),\"\")","v":""}]
[{"$f":"IFERROR(IF(INDIRECT($A$14&ROW())<>\"\",COUNTIF([1]Summary!$B$30:$B$1029,INDIRECT($A$14&ROW())),\"\"),\"\")","v":""}]
[{"$f":"IFERROR(IF(INDIRECT($A$14&ROW())<>\"\",COUNTIF([1]Summary!$B$30:$B$1029,INDIRECT($A$14&ROW())),\"\"),\"\")","v":""}]
[{"$f":"IFERROR(IF(INDIRECT($A$14&ROW())<>\"\",COUNTIF([1]Summary!$B$30:$B$1029,INDIRECT($A$14&ROW())),\"\"),\"\")","v":""}]
[{"$f":"IFERROR(IF(INDIRECT($A$14&ROW())<>\"\",COUNTIF([1]Summary!$B$30:$B$1029,INDIRECT($A$14&ROW())),\"\"),\"\")","v":""}]
[{"$f":"IFERROR(IF(INDIRECT($A$14&ROW())<>\"\",COUNTIF([1]Summary!$B$30:$B$1029,INDIRECT($A$14&ROW())),\"\"),\"\")","v":""}]
[{"$f":"IFERROR(IF(INDIRECT($A$14&ROW())<>\"\",COUNTIF([1]Summary!$B$30:$B$1029,INDIRECT($A$14&ROW())),\"\"),\"\")","v":""}]
[{"$f":"IFERROR(IF(INDIRECT($A$14&ROW())<>\"\",COUNTIF([1]Summary!$B$30:$B$1029,INDIRECT($A$14&ROW())),\"\"),\"\")","v":""}]
[{"$f":"IFERROR(IF(INDIRECT($A$14&ROW())<>\"\",COUNTIF([1]Summary!$B$30:$B$1029,INDIRECT($A$14&ROW())),\"\"),\"\")","v":""}]
[{"$f":"IFERROR(IF(INDIRECT($A$14&ROW())<>\"\",COUNTIF([1]Summary!$B$30:$B$1029,INDIRECT($A$14&ROW())),\"\"),\"\")","v":""}]
[{"$f":"IFERROR(IF(INDIRECT($A$14&ROW())<>\"\",COUNTIF([1]Summary!$B$30:$B$1029,INDIRECT($A$14&ROW())),\"\"),\"\")","v":""}]
[{"$f":"IFERROR(IF(INDIRECT($A$14&ROW())<>\"\",COUNTIF([1]Summary!$B$30:$B$1029,INDIRECT($A$14&ROW())),\"\"),\"\")","v":""}]
[{"$f":"IFERROR(IF(INDIRECT($A$14&ROW())<>\"\",COUNTIF([1]Summary!$B$30:$B$1029,INDIRECT($A$14&ROW())),\"\"),\"\")","v":""}]
[{"$f":"IFERROR(IF(INDIRECT($A$14&ROW())<>\"\",COUNTIF([1]Summary!$B$30:$B$1029,INDIRECT($A$14&ROW())),\"\"),\"\")","v":""}]
[{"$f":"IFERROR(IF(INDIRECT($A$14&ROW())<>\"\",COUNTIF([1]Summary!$B$30:$B$1029,INDIRECT($A$14&ROW())),\"\"),\"\")","v":""}]
[{"$f":"IFERROR(IF(INDIRECT($A$14&ROW())<>\"\",COUNTIF([1]Summary!$B$30:$B$1029,INDIRECT($A$14&ROW())),\"\"),\"\")","v":""}]
[{"$f":"IFERROR(IF(INDIRECT($A$14&ROW())<>\"\",COUNTIF([1]Summary!$B$30:$B$1029,INDIRECT($A$14&ROW())),\"\"),\"\")","v":""}]
[{"$f":"IFERROR(IF(INDIRECT($A$14&ROW())<>\"\",COUNTIF([1]Summary!$B$30:$B$1029,INDIRECT($A$14&ROW())),\"\"),\"\")","v":""}]
[{"$f":"IFERROR(IF(INDIRECT($A$14&ROW())<>\"\",COUNTIF([1]Summary!$B$30:$B$1029,INDIRECT($A$14&ROW())),\"\"),\"\")","v":""}]
[{"$f":"IFERROR(IF(INDIRECT($A$14&ROW())<>\"\",COUNTIF([1]Summary!$B$30:$B$1029,INDIRECT($A$14&ROW())),\"\"),\"\")","v":""}]
[{"$f":"IFERROR(IF(INDIRECT($A$14&ROW())<>\"\",COUNTIF([1]Summary!$B$30:$B$1029,INDIRECT($A$14&ROW())),\"\"),\"\")","v":""}]
[{"$f":"IFERROR(IF(INDIRECT($A$14&ROW())<>\"\",COUNTIF([1]Summary!$B$30:$B$1029,INDIRECT($A$14&ROW())),\"\"),\"\")","v":""}]
[{"$f":"IFERROR(IF(INDIRECT($A$14&ROW())<>\"\",COUNTIF([1]Summary!$B$30:$B$1029,INDIRECT($A$14&ROW())),\"\"),\"\")","v":""}]
[{"$f":"IFERROR(IF(INDIRECT($A$14&ROW())<>\"\",COUNTIF([1]Summary!$B$30:$B$1029,INDIRECT($A$14&ROW())),\"\"),\"\")","v":""}]
[{"$f":"IFERROR(IF(INDIRECT($A$14&ROW())<>\"\",COUNTIF([1]Summary!$B$30:$B$1029,INDIRECT($A$14&ROW())),\"\"),\"\")","v":""}]
[{"$f":"IFERROR(IF(INDIRECT($A$14&ROW())<>\"\",COUNTIF([1]Summary!$B$30:$B$1029,INDIRECT($A$14&ROW())),\"\"),\"\")","v":""}]
[{"$f":"IFERROR(IF(INDIRECT($A$14&ROW())<>\"\",COUNTIF([1]Summary!$B$30:$B$1029,INDIRECT($A$14&ROW())),\"\"),\"\")","v":""}]
[{"$f":"IFERROR(IF(INDIRECT($A$14&ROW())<>\"\",COUNTIF([1]Summary!$B$30:$B$1029,INDIRECT($A$14&ROW())),\"\"),\"\")","v":""}]
[{"$f":"IFERROR(IF(INDIRECT($A$14&ROW())<>\"\",COUNTIF([1]Summary!$B$30:$B$1029,INDIRECT($A$14&ROW())),\"\"),\"\")","v":""}]
[{"$f":"IFERROR(IF(INDIRECT($A$14&ROW())<>\"\",COUNTIF([1]Summary!$B$30:$B$1029,INDIRECT($A$14&ROW())),\"\"),\"\")","v":""}]
[{"$f":"IFERROR(IF(INDIRECT($A$14&ROW())<>\"\",COUNTIF([1]Summary!$B$30:$B$1029,INDIRECT($A$14&ROW())),\"\"),\"\")","v":""}]
[{"$f":"IFERROR(IF(INDIRECT($A$14&ROW())<>\"\",COUNTIF([1]Summary!$B$30:$B$1029,INDIRECT($A$14&ROW())),\"\"),\"\")","v":""}]
[{"$f":"IFERROR(IF(INDIRECT($A$14&ROW())<>\"\",COUNTIF([1]Summary!$B$30:$B$1029,INDIRECT($A$14&ROW())),\"\"),\"\")","v":""}]
[{"$f":"IFERROR(IF(INDIRECT($A$14&ROW())<>\"\",COUNTIF([1]Summary!$B$30:$B$1029,INDIRECT($A$14&ROW())),\"\"),\"\")","v":""}]
[{"$f":"IFERROR(IF(INDIRECT($A$14&ROW())<>\"\",COUNTIF([1]Summary!$B$30:$B$1029,INDIRECT($A$14&ROW())),\"\"),\"\")","v":""}]
[{"$f":"IFERROR(IF(INDIRECT($A$14&ROW())<>\"\",COUNTIF([1]Summary!$B$30:$B$1029,INDIRECT($A$14&ROW())),\"\"),\"\")","v":""}]
[{"$f":"IFERROR(IF(INDIRECT($A$14&ROW())<>\"\",COUNTIF([1]Summary!$B$30:$B$1029,INDIRECT($A$14&ROW())),\"\"),\"\")","v":""}]
[{"$f":"IFERROR(IF(INDIRECT($A$14&ROW())<>\"\",COUNTIF([1]Summary!$B$30:$B$1029,INDIRECT($A$14&ROW())),\"\"),\"\")","v":""}]
[{"$f":"IFERROR(IF(INDIRECT($A$14&ROW())<>\"\",COUNTIF([1]Summary!$B$30:$B$1029,INDIRECT($A$14&ROW())),\"\"),\"\")","v":""}]
[{"$f":"IFERROR(IF(INDIRECT($A$14&ROW())<>\"\",COUNTIF([1]Summary!$B$30:$B$1029,INDIRECT($A$14&ROW())),\"\"),\"\")","v":""}]
[{"$f":"IFERROR(IF(INDIRECT($A$14&ROW())<>\"\",COUNTIF([1]Summary!$B$30:$B$1029,INDIRECT($A$14&ROW())),\"\"),\"\")","v":""}]
[{"$f":"IFERROR(IF(INDIRECT($A$14&ROW())<>\"\",COUNTIF([1]Summary!$B$30:$B$1029,INDIRECT($A$14&ROW())),\"\"),\"\")","v":""}]
[{"$f":"IFERROR(IF(INDIRECT($A$14&ROW())<>\"\",COUNTIF([1]Summary!$B$30:$B$1029,INDIRECT($A$14&ROW())),\"\"),\"\")","v":""}]
[{"$f":"IFERROR(IF(INDIRECT($A$14&ROW())<>\"\",COUNTIF([1]Summary!$B$30:$B$1029,INDIRECT($A$14&ROW())),\"\"),\"\")","v":""}]
[{"$f":"IFERROR(IF(INDIRECT($A$14&ROW())<>\"\",COUNTIF([1]Summary!$B$30:$B$1029,INDIRECT($A$14&ROW())),\"\"),\"\")","v":""}]
[{"$f":"IFERROR(IF(INDIRECT($A$14&ROW())<>\"\",COUNTIF([1]Summary!$B$30:$B$1029,INDIRECT($A$14&ROW())),\"\"),\"\")","v":""}]
[{"$f":"IFERROR(IF(INDIRECT($A$14&ROW())<>\"\",COUNTIF([1]Summary!$B$30:$B$1029,INDIRECT($A$14&ROW())),\"\"),\"\")","v":""}]
[{"$f":"IFERROR(IF(INDIRECT($A$14&ROW())<>\"\",COUNTIF([1]Summary!$B$30:$B$1029,INDIRECT($A$14&ROW())),\"\"),\"\")","v":""}]
[{"$f":"IFERROR(IF(INDIRECT($A$14&ROW())<>\"\",COUNTIF([1]Summary!$B$30:$B$1029,INDIRECT($A$14&ROW())),\"\"),\"\")","v":""}]
[{"$f":"IFERROR(IF(INDIRECT($A$14&ROW())<>\"\",COUNTIF([1]Summary!$B$30:$B$1029,INDIRECT($A$14&ROW())),\"\"),\"\")","v":""}]
[{"$f":"IFERROR(IF(INDIRECT($A$14&ROW())<>\"\",COUNTIF([1]Summary!$B$30:$B$1029,INDIRECT($A$14&ROW())),\"\"),\"\")","v":""}]
[{"$f":"IFERROR(IF(INDIRECT($A$14&ROW())<>\"\",COUNTIF([1]Summary!$B$30:$B$1029,INDIRECT($A$14&ROW())),\"\"),\"\")","v":""}]
[{"$f":"IFERROR(IF(INDIRECT($A$14&ROW())<>\"\",COUNTIF([1]Summary!$B$30:$B$1029,INDIRECT($A$14&ROW())),\"\"),\"\")","v":""}]
[{"$f":"IFERROR(IF(INDIRECT($A$14&ROW())<>\"\",COUNTIF([1]Summary!$B$30:$B$1029,INDIRECT($A$14&ROW())),\"\"),\"\")","v":""}]
[{"$f":"IFERROR(IF(INDIRECT($A$14&ROW())<>\"\",COUNTIF([1]Summary!$B$30:$B$1029,INDIRECT($A$14&ROW())),\"\"),\"\")","v":""}]
[{"$f":"IFERROR(IF(INDIRECT($A$14&ROW())<>\"\",COUNTIF([1]Summary!$B$30:$B$1029,INDIRECT($A$14&ROW())),\"\"),\"\")","v":""}]
[{"$f":"IFERROR(IF(INDIRECT($A$14&ROW())<>\"\",COUNTIF([1]Summary!$B$30:$B$1029,INDIRECT($A$14&ROW())),\"\"),\"\")","v":""}]
[{"$f":"IFERROR(IF(INDIRECT($A$14&ROW())<>\"\",COUNTIF([1]Summary!$B$30:$B$1029,INDIRECT($A$14&ROW())),\"\"),\"\")","v":""}]
[{"$f":"IFERROR(IF(INDIRECT($A$14&ROW())<>\"\",COUNTIF([1]Summary!$B$30:$B$1029,INDIRECT($A$14&ROW())),\"\"),\"\")","v":""}]
[{"$f":"IFERROR(IF(INDIRECT($A$14&ROW())<>\"\",COUNTIF([1]Summary!$B$30:$B$1029,INDIRECT($A$14&ROW())),\"\"),\"\")","v":""}]
[{"$f":"IFERROR(IF(INDIRECT($A$14&ROW())<>\"\",COUNTIF([1]Summary!$B$30:$B$1029,INDIRECT($A$14&ROW())),\"\"),\"\")","v":""}]
[{"$f":"IFERROR(IF(INDIRECT($A$14&ROW())<>\"\",COUNTIF([1]Summary!$B$30:$B$1029,INDIRECT($A$14&ROW())),\"\"),\"\")","v":""}]
[{"$f":"IFERROR(IF(INDIRECT($A$14&ROW())<>\"\",COUNTIF([1]Summary!$B$30:$B$1029,INDIRECT($A$14&ROW())),\"\"),\"\")","v":""}]
[{"$f":"IFERROR(IF(INDIRECT($A$14&ROW())<>\"\",COUNTIF([1]Summary!$B$30:$B$1029,INDIRECT($A$14&ROW())),\"\"),\"\")","v":""}]
[{"$f":"IFERROR(IF(INDIRECT($A$14&ROW())<>\"\",COUNTIF([1]Summary!$B$30:$B$1029,INDIRECT($A$14&ROW())),\"\"),\"\")","v":""}]
[{"$f":"IFERROR(IF(INDIRECT($A$14&ROW())<>\"\",COUNTIF([1]Summary!$B$30:$B$1029,INDIRECT($A$14&ROW())),\"\"),\"\")","v":""}]
[{"$f":"IFERROR(IF(INDIRECT($A$14&ROW())<>\"\",COUNTIF([1]Summary!$B$30:$B$1029,INDIRECT($A$14&ROW())),\"\"),\"\")","v":""}]
[{"$f":"IFERROR(IF(INDIRECT($A$14&ROW())<>\"\",COUNTIF([1]Summary!$B$30:$B$1029,INDIRECT($A$14&ROW())),\"\"),\"\")","v":""}]
[{"$f":"IFERROR(IF(INDIRECT($A$14&ROW())<>\"\",COUNTIF([1]Summary!$B$30:$B$1029,INDIRECT($A$14&ROW())),\"\"),\"\")","v":""}]
[{"$f":"IFERROR(IF(INDIRECT($A$14&ROW())<>\"\",COUNTIF([1]Summary!$B$30:$B$1029,INDIRECT($A$14&ROW())),\"\"),\"\")","v":""}]
[{"$f":"IFERROR(IF(INDIRECT($A$14&ROW())<>\"\",COUNTIF([1]Summary!$B$30:$B$1029,INDIRECT($A$14&ROW())),\"\"),\"\")","v":""}]
[{"$f":"IFERROR(IF(INDIRECT($A$14&ROW())<>\"\",COUNTIF([1]Summary!$B$30:$B$1029,INDIRECT($A$14&ROW())),\"\"),\"\")","v":""}]
[{"$f":"IFERROR(IF(INDIRECT($A$14&ROW())<>\"\",COUNTIF([1]Summary!$B$30:$B$1029,INDIRECT($A$14&ROW())),\"\"),\"\")","v":""}]
[{"$f":"IFERROR(IF(INDIRECT($A$14&ROW())<>\"\",COUNTIF([1]Summary!$B$30:$B$1029,INDIRECT($A$14&ROW())),\"\"),\"\")","v":""}]
[{"$f":"IFERROR(IF(INDIRECT($A$14&ROW())<>\"\",COUNTIF([1]Summary!$B$30:$B$1029,INDIRECT($A$14&ROW())),\"\"),\"\")","v":""}]
[{"$f":"IFERROR(IF(INDIRECT($A$14&ROW())<>\"\",COUNTIF([1]Summary!$B$30:$B$1029,INDIRECT($A$14&ROW())),\"\"),\"\")","v":""}]
[{"$f":"IFERROR(IF(INDIRECT($A$14&ROW())<>\"\",COUNTIF([1]Summary!$B$30:$B$1029,INDIRECT($A$14&ROW())),\"\"),\"\")","v":""}]
[{"$f":"IFERROR(IF(INDIRECT($A$14&ROW())<>\"\",COUNTIF([1]Summary!$B$30:$B$1029,INDIRECT($A$14&ROW())),\"\"),\"\")","v":""}]
[{"$f":"IFERROR(IF(INDIRECT($A$14&ROW())<>\"\",COUNTIF([1]Summary!$B$30:$B$1029,INDIRECT($A$14&ROW())),\"\"),\"\")","v":""}]
[{"$f":"IFERROR(IF(INDIRECT($A$14&ROW())<>\"\",COUNTIF([1]Summary!$B$30:$B$1029,INDIRECT($A$14&ROW())),\"\"),\"\")","v":""}]
[{"$f":"IFERROR(IF(INDIRECT($A$14&ROW())<>\"\",COUNTIF([1]Summary!$B$30:$B$1029,INDIRECT($A$14&ROW())),\"\"),\"\")","v":""}]
[{"$f":"IFERROR(IF(INDIRECT($A$14&ROW())<>\"\",COUNTIF([1]Summary!$B$30:$B$1029,INDIRECT($A$14&ROW())),\"\"),\"\")","v":""}]
[{"$f":"IFERROR(IF(INDIRECT($A$14&ROW())<>\"\",COUNTIF([1]Summary!$B$30:$B$1029,INDIRECT($A$14&ROW())),\"\"),\"\")","v":""}]
[{"$f":"IFERROR(IF(INDIRECT($A$14&ROW())<>\"\",COUNTIF([1]Summary!$B$30:$B$1029,INDIRECT($A$14&ROW())),\"\"),\"\")","v":""}]
[{"$f":"IFERROR(IF(INDIRECT($A$14&ROW())<>\"\",COUNTIF([1]Summary!$B$30:$B$1029,INDIRECT($A$14&ROW())),\"\"),\"\")","v":""}]
[{"$f":"IFERROR(IF(INDIRECT($A$14&ROW())<>\"\",COUNTIF([1]Summary!$B$30:$B$1029,INDIRECT($A$14&ROW())),\"\"),\"\")","v":""}]
[{"$f":"IFERROR(IF(INDIRECT($A$14&ROW())<>\"\",COUNTIF([1]Summary!$B$30:$B$1029,INDIRECT($A$14&ROW())),\"\"),\"\")","v":""}]
[{"$f":"IFERROR(IF(INDIRECT($A$14&ROW())<>\"\",COUNTIF([1]Summary!$B$30:$B$1029,INDIRECT($A$14&ROW())),\"\"),\"\")","v":""}]
[{"$f":"IFERROR(IF(INDIRECT($A$14&ROW())<>\"\",COUNTIF([1]Summary!$B$30:$B$1029,INDIRECT($A$14&ROW())),\"\"),\"\")","v":""}]
[{"$f":"IFERROR(IF(INDIRECT($A$14&ROW())<>\"\",COUNTIF([1]Summary!$B$30:$B$1029,INDIRECT($A$14&ROW())),\"\"),\"\")","v":""}]
[{"$f":"IFERROR(IF(INDIRECT($A$14&ROW())<>\"\",COUNTIF([1]Summary!$B$30:$B$1029,INDIRECT($A$14&ROW())),\"\"),\"\")","v":""}]
[{"$f":"IFERROR(IF(INDIRECT($A$14&ROW())<>\"\",COUNTIF([1]Summary!$B$30:$B$1029,INDIRECT($A$14&ROW())),\"\"),\"\")","v":""}]
[{"$f":"IFERROR(IF(INDIRECT($A$14&ROW())<>\"\",COUNTIF([1]Summary!$B$30:$B$1029,INDIRECT($A$14&ROW())),\"\"),\"\")","v":""}]
[{"$f":"IFERROR(IF(INDIRECT($A$14&ROW())<>\"\",COUNTIF([1]Summary!$B$30:$B$1029,INDIRECT($A$14&ROW())),\"\"),\"\")","v":""}]
[{"$f":"IFERROR(IF(INDIRECT($A$14&ROW())<>\"\",COUNTIF([1]Summary!$B$30:$B$1029,INDIRECT($A$14&ROW())),\"\"),\"\")","v":""}]
[{"$f":"IFERROR(IF(INDIRECT($A$14&ROW())<>\"\",COUNTIF([1]Summary!$B$30:$B$1029,INDIRECT($A$14&ROW())),\"\"),\"\")","v":""}]
[{"$f":"IFERROR(IF(INDIRECT($A$14&ROW())<>\"\",COUNTIF([1]Summary!$B$30:$B$1029,INDIRECT($A$14&ROW())),\"\"),\"\")","v":""}]
[{"$f":"IFERROR(IF(INDIRECT($A$14&ROW())<>\"\",COUNTIF([1]Summary!$B$30:$B$1029,INDIRECT($A$14&ROW())),\"\"),\"\")","v":""}]
[{"$f":"IFERROR(IF(INDIRECT($A$14&ROW())<>\"\",COUNTIF([1]Summary!$B$30:$B$1029,INDIRECT($A$14&ROW())),\"\"),\"\")","v":""}]
[{"$f":"IFERROR(IF(INDIRECT($A$14&ROW())<>\"\",COUNTIF([1]Summary!$B$30:$B$1029,INDIRECT($A$14&ROW())),\"\"),\"\")","v":""}]
[{"$f":"IFERROR(IF(INDIRECT($A$14&ROW())<>\"\",COUNTIF([1]Summary!$B$30:$B$1029,INDIRECT($A$14&ROW())),\"\"),\"\")","v":""}]
[{"$f":"IFERROR(IF(INDIRECT($A$14&ROW())<>\"\",COUNTIF([1]Summary!$B$30:$B$1029,INDIRECT($A$14&ROW())),\"\"),\"\")","v":""}]
[{"$f":"IFERROR(IF(INDIRECT($A$14&ROW())<>\"\",COUNTIF([1]Summary!$B$30:$B$1029,INDIRECT($A$14&ROW())),\"\"),\"\")","v":""}]
[{"$f":"IFERROR(IF(INDIRECT($A$14&ROW())<>\"\",COUNTIF([1]Summary!$B$30:$B$1029,INDIRECT($A$14&ROW())),\"\"),\"\")","v":""}]
[{"$f":"IFERROR(IF(INDIRECT($A$14&ROW())<>\"\",COUNTIF([1]Summary!$B$30:$B$1029,INDIRECT($A$14&ROW())),\"\"),\"\")","v":""}]
[{"$f":"IFERROR(IF(INDIRECT($A$14&ROW())<>\"\",COUNTIF([1]Summary!$B$30:$B$1029,INDIRECT($A$14&ROW())),\"\"),\"\")","v":""}]
[{"$f":"IFERROR(IF(INDIRECT($A$14&ROW())<>\"\",COUNTIF([1]Summary!$B$30:$B$1029,INDIRECT($A$14&ROW())),\"\"),\"\")","v":""}]
[{"$f":"IFERROR(IF(INDIRECT($A$14&ROW())<>\"\",COUNTIF([1]Summary!$B$30:$B$1029,INDIRECT($A$14&ROW())),\"\"),\"\")","v":""}]
[{"$f":"IFERROR(IF(INDIRECT($A$14&ROW())<>\"\",COUNTIF([1]Summary!$B$30:$B$1029,INDIRECT($A$14&ROW())),\"\"),\"\")","v":""}]
[{"$f":"IFERROR(IF(INDIRECT($A$14&ROW())<>\"\",COUNTIF([1]Summary!$B$30:$B$1029,INDIRECT($A$14&ROW())),\"\"),\"\")","v":""}]
[{"$f":"IFERROR(IF(INDIRECT($A$14&ROW())<>\"\",COUNTIF([1]Summary!$B$30:$B$1029,INDIRECT($A$14&ROW())),\"\"),\"\")","v":""}]
[{"$f":"IFERROR(IF(INDIRECT($A$14&ROW())<>\"\",COUNTIF([1]Summary!$B$30:$B$1029,INDIRECT($A$14&ROW())),\"\"),\"\")","v":""}]
[{"$f":"IFERROR(IF(INDIRECT($A$14&ROW())<>\"\",COUNTIF([1]Summary!$B$30:$B$1029,INDIRECT($A$14&ROW())),\"\"),\"\")","v":""}]
[{"$f":"IFERROR(IF(INDIRECT($A$14&ROW())<>\"\",COUNTIF([1]Summary!$B$30:$B$1029,INDIRECT($A$14&ROW())),\"\"),\"\")","v":""}]
[{"$f":"IFERROR(IF(INDIRECT($A$14&ROW())<>\"\",COUNTIF([1]Summary!$B$30:$B$1029,INDIRECT($A$14&ROW())),\"\"),\"\")","v":""}]
[{"$f":"IFERROR(IF(INDIRECT($A$14&ROW())<>\"\",COUNTIF([1]Summary!$B$30:$B$1029,INDIRECT($A$14&ROW())),\"\"),\"\")","v":""}]
[{"$f":"IFERROR(IF(INDIRECT($A$14&ROW())<>\"\",COUNTIF([1]Summary!$B$30:$B$1029,INDIRECT($A$14&ROW())),\"\"),\"\")","v":""}]
[{"$f":"IFERROR(IF(INDIRECT($A$14&ROW())<>\"\",COUNTIF([1]Summary!$B$30:$B$1029,INDIRECT($A$14&ROW())),\"\"),\"\")","v":""}]
[{"$f":"IFERROR(IF(INDIRECT($A$14&ROW())<>\"\",COUNTIF([1]Summary!$B$30:$B$1029,INDIRECT($A$14&ROW())),\"\"),\"\")","v":""}]
[{"$f":"IFERROR(IF(INDIRECT($A$14&ROW())<>\"\",COUNTIF([1]Summary!$B$30:$B$1029,INDIRECT($A$14&ROW())),\"\"),\"\")","v":""}]
[{"$f":"IFERROR(IF(INDIRECT($A$14&ROW())<>\"\",COUNTIF([1]Summary!$B$30:$B$1029,INDIRECT($A$14&ROW())),\"\"),\"\")","v":""}]
[{"$f":"IFERROR(IF(INDIRECT($A$14&ROW())<>\"\",COUNTIF([1]Summary!$B$30:$B$1029,INDIRECT($A$14&ROW())),\"\"),\"\")","v":""}]
[{"$f":"IFERROR(IF(INDIRECT($A$14&ROW())<>\"\",COUNTIF([1]Summary!$B$30:$B$1029,INDIRECT($A$14&ROW())),\"\"),\"\")","v":""}]
[{"$f":"IFERROR(IF(INDIRECT($A$14&ROW())<>\"\",COUNTIF([1]Summary!$B$30:$B$1029,INDIRECT($A$14&ROW())),\"\"),\"\")","v":""}]
[{"$f":"IFERROR(IF(INDIRECT($A$14&ROW())<>\"\",COUNTIF([1]Summary!$B$30:$B$1029,INDIRECT($A$14&ROW())),\"\"),\"\")","v":""}]
[{"$f":"IFERROR(IF(INDIRECT($A$14&ROW())<>\"\",COUNTIF([1]Summary!$B$30:$B$1029,INDIRECT($A$14&ROW())),\"\"),\"\")","v":""}]
[{"$f":"IFERROR(IF(INDIRECT($A$14&ROW())<>\"\",COUNTIF([1]Summary!$B$30:$B$1029,INDIRECT($A$14&ROW())),\"\"),\"\")","v":""}]
[{"$f":"IFERROR(IF(INDIRECT($A$14&ROW())<>\"\",COUNTIF([1]Summary!$B$30:$B$1029,INDIRECT($A$14&ROW())),\"\"),\"\")","v":""}]
[{"$f":"IFERROR(IF(INDIRECT($A$14&ROW())<>\"\",COUNTIF([1]Summary!$B$30:$B$1029,INDIRECT($A$14&ROW())),\"\"),\"\")","v":""}]
[{"$f":"IFERROR(IF(INDIRECT($A$14&ROW())<>\"\",COUNTIF([1]Summary!$B$30:$B$1029,INDIRECT($A$14&ROW())),\"\"),\"\")","v":""}]
[{"$f":"IFERROR(IF(INDIRECT($A$14&ROW())<>\"\",COUNTIF([1]Summary!$B$30:$B$1029,INDIRECT($A$14&ROW())),\"\"),\"\")","v":""}]
[{"$f":"IFERROR(IF(INDIRECT($A$14&ROW())<>\"\",COUNTIF([1]Summary!$B$30:$B$1029,INDIRECT($A$14&ROW())),\"\"),\"\")","v":""}]
[{"$f":"IFERROR(IF(INDIRECT($A$14&ROW())<>\"\",COUNTIF([1]Summary!$B$30:$B$1029,INDIRECT($A$14&ROW())),\"\"),\"\")","v":""}]
[{"$f":"IFERROR(IF(INDIRECT($A$14&ROW())<>\"\",COUNTIF([1]Summary!$B$30:$B$1029,INDIRECT($A$14&ROW())),\"\"),\"\")","v":""}]
[{"$f":"IFERROR(IF(INDIRECT($A$14&ROW())<>\"\",COUNTIF([1]Summary!$B$30:$B$1029,INDIRECT($A$14&ROW())),\"\"),\"\")","v":""}]
[{"$f":"IFERROR(IF(INDIRECT($A$14&ROW())<>\"\",COUNTIF([1]Summary!$B$30:$B$1029,INDIRECT($A$14&ROW())),\"\"),\"\")","v":""}]
[{"$f":"IFERROR(IF(INDIRECT($A$14&ROW())<>\"\",COUNTIF([1]Summary!$B$30:$B$1029,INDIRECT($A$14&ROW())),\"\"),\"\")","v":""}]
[{"$f":"IFERROR(IF(INDIRECT($A$14&ROW())<>\"\",COUNTIF([1]Summary!$B$30:$B$1029,INDIRECT($A$14&ROW())),\"\"),\"\")","v":""}]
[{"$f":"IFERROR(IF(INDIRECT($A$14&ROW())<>\"\",COUNTIF([1]Summary!$B$30:$B$1029,INDIRECT($A$14&ROW())),\"\"),\"\")","v":""}]
[{"$f":"IFERROR(IF(INDIRECT($A$14&ROW())<>\"\",COUNTIF([1]Summary!$B$30:$B$1029,INDIRECT($A$14&ROW())),\"\"),\"\")","v":""}]
[{"$f":"IFERROR(IF(INDIRECT($A$14&ROW())<>\"\",COUNTIF([1]Summary!$B$30:$B$1029,INDIRECT($A$14&ROW())),\"\"),\"\")","v":""}]
[{"$f":"IFERROR(IF(INDIRECT($A$14&ROW())<>\"\",COUNTIF([1]Summary!$B$30:$B$1029,INDIRECT($A$14&ROW())),\"\"),\"\")","v":""}]
[{"$f":"IFERROR(IF(INDIRECT($A$14&ROW())<>\"\",COUNTIF([1]Summary!$B$30:$B$1029,INDIRECT($A$14&ROW())),\"\"),\"\")","v":""}]
[{"$f":"IFERROR(IF(INDIRECT($A$14&ROW())<>\"\",COUNTIF([1]Summary!$B$30:$B$1029,INDIRECT($A$14&ROW())),\"\"),\"\")","v":""}]
[{"$f":"IFERROR(IF(INDIRECT($A$14&ROW())<>\"\",COUNTIF([1]Summary!$B$30:$B$1029,INDIRECT($A$14&ROW())),\"\"),\"\")","v":""}]
[{"$f":"IFERROR(IF(INDIRECT($A$14&ROW())<>\"\",COUNTIF([1]Summary!$B$30:$B$1029,INDIRECT($A$14&ROW())),\"\"),\"\")","v":""}]
[{"$f":"IFERROR(IF(INDIRECT($A$14&ROW())<>\"\",COUNTIF([1]Summary!$B$30:$B$1029,INDIRECT($A$14&ROW())),\"\"),\"\")","v":""}]
[{"$f":"IFERROR(IF(INDIRECT($A$14&ROW())<>\"\",COUNTIF([1]Summary!$B$30:$B$1029,INDIRECT($A$14&ROW())),\"\"),\"\")","v":""}]
[{"$f":"IFERROR(IF(INDIRECT($A$14&ROW())<>\"\",COUNTIF([1]Summary!$B$30:$B$1029,INDIRECT($A$14&ROW())),\"\"),\"\")","v":""}]
[{"$f":"IFERROR(IF(INDIRECT($A$14&ROW())<>\"\",COUNTIF([1]Summary!$B$30:$B$1029,INDIRECT($A$14&ROW())),\"\"),\"\")","v":""}]
[{"$f":"IFERROR(IF(INDIRECT($A$14&ROW())<>\"\",COUNTIF([1]Summary!$B$30:$B$1029,INDIRECT($A$14&ROW())),\"\"),\"\")","v":""}]
[{"$f":"IFERROR(IF(INDIRECT($A$14&ROW())<>\"\",COUNTIF([1]Summary!$B$30:$B$1029,INDIRECT($A$14&ROW())),\"\"),\"\")","v":""}]
[{"$f":"IFERROR(IF(INDIRECT($A$14&ROW())<>\"\",COUNTIF([1]Summary!$B$30:$B$1029,INDIRECT($A$14&ROW())),\"\"),\"\")","v":""}]
[{"$f":"IFERROR(IF(INDIRECT($A$14&ROW())<>\"\",COUNTIF([1]Summary!$B$30:$B$1029,INDIRECT($A$14&ROW())),\"\"),\"\")","v":""}]
[{"$f":"IFERROR(IF(INDIRECT($A$14&ROW())<>\"\",COUNTIF([1]Summary!$B$30:$B$1029,INDIRECT($A$14&ROW())),\"\"),\"\")","v":""}]
[{"$f":"IFERROR(IF(INDIRECT($A$14&ROW())<>\"\",COUNTIF([1]Summary!$B$30:$B$1029,INDIRECT($A$14&ROW())),\"\"),\"\")","v":""}]
[{"$f":"IFERROR(IF(INDIRECT($A$14&ROW())<>\"\",COUNTIF([1]Summary!$B$30:$B$1029,INDIRECT($A$14&ROW())),\"\"),\"\")","v":""}]
[{"$f":"IFERROR(IF(INDIRECT($A$14&ROW())<>\"\",COUNTIF([1]Summary!$B$30:$B$1029,INDIRECT($A$14&ROW())),\"\"),\"\")","v":""}]
[{"$f":"IFERROR(IF(INDIRECT($A$14&ROW())<>\"\",COUNTIF([1]Summary!$B$30:$B$1029,INDIRECT($A$14&ROW())),\"\"),\"\")","v":""}]
[{"$f":"IFERROR(IF(INDIRECT($A$14&ROW())<>\"\",COUNTIF([1]Summary!$B$30:$B$1029,INDIRECT($A$14&ROW())),\"\"),\"\")","v":""}]
[{"$f":"IFERROR(IF(INDIRECT($A$14&ROW())<>\"\",COUNTIF([1]Summary!$B$30:$B$1029,INDIRECT($A$14&ROW())),\"\"),\"\")","v":""}]
[{"$f":"IFERROR(IF(INDIRECT($A$14&ROW())<>\"\",COUNTIF([1]Summary!$B$30:$B$1029,INDIRECT($A$14&ROW())),\"\"),\"\")","v":""}]
[{"$f":"IFERROR(IF(INDIRECT($A$14&ROW())<>\"\",COUNTIF([1]Summary!$B$30:$B$1029,INDIRECT($A$14&ROW())),\"\"),\"\")","v":""}]
[{"$f":"IFERROR(IF(INDIRECT($A$14&ROW())<>\"\",COUNTIF([1]Summary!$B$30:$B$1029,INDIRECT($A$14&ROW())),\"\"),\"\")","v":""}]
[{"$f":"IFERROR(IF(INDIRECT($A$14&ROW())<>\"\",COUNTIF([1]Summary!$B$30:$B$1029,INDIRECT($A$14&ROW())),\"\"),\"\")","v":""}]
[{"$f":"IFERROR(IF(INDIRECT($A$14&ROW())<>\"\",COUNTIF([1]Summary!$B$30:$B$1029,INDIRECT($A$14&ROW())),\"\"),\"\")","v":""}]
[{"$f":"IFERROR(IF(INDIRECT($A$14&ROW())<>\"\",COUNTIF([1]Summary!$B$30:$B$1029,INDIRECT($A$14&ROW())),\"\"),\"\")","v":""}]
[{"$f":"IFERROR(IF(INDIRECT($A$14&ROW())<>\"\",COUNTIF([1]Summary!$B$30:$B$1029,INDIRECT($A$14&ROW())),\"\"),\"\")","v":""}]
[{"$f":"IFERROR(IF(INDIRECT($A$14&ROW())<>\"\",COUNTIF([1]Summary!$B$30:$B$1029,INDIRECT($A$14&ROW())),\"\"),\"\")","v":""}]
[{"$f":"IFERROR(IF(INDIRECT($A$14&ROW())<>\"\",COUNTIF([1]Summary!$B$30:$B$1029,INDIRECT($A$14&ROW())),\"\"),\"\")","v":""}]
[{"$f":"IFERROR(IF(INDIRECT($A$14&ROW())<>\"\",COUNTIF([1]Summary!$B$30:$B$1029,INDIRECT($A$14&ROW())),\"\"),\"\")","v":""}]
[{"$f":"IFERROR(IF(INDIRECT($A$14&ROW())<>\"\",COUNTIF([1]Summary!$B$30:$B$1029,INDIRECT($A$14&ROW())),\"\"),\"\")","v":""}]
[{"$f":"IFERROR(IF(INDIRECT($A$14&ROW())<>\"\",COUNTIF([1]Summary!$B$30:$B$1029,INDIRECT($A$14&ROW())),\"\"),\"\")","v":""}]
[{"$f":"IFERROR(IF(INDIRECT($A$14&ROW())<>\"\",COUNTIF([1]Summary!$B$30:$B$1029,INDIRECT($A$14&ROW())),\"\"),\"\")","v":""}]
[{"$f":"IFERROR(IF(INDIRECT($A$14&ROW())<>\"\",COUNTIF([1]Summary!$B$30:$B$1029,INDIRECT($A$14&ROW())),\"\"),\"\")","v":""}]
[{"$f":"IFERROR(IF(INDIRECT($A$14&ROW())<>\"\",COUNTIF([1]Summary!$B$30:$B$1029,INDIRECT($A$14&ROW())),\"\"),\"\")","v":""}]
[{"$f":"IFERROR(IF(INDIRECT($A$14&ROW())<>\"\",COUNTIF([1]Summary!$B$30:$B$1029,INDIRECT($A$14&ROW())),\"\"),\"\")","v":""}]
[{"$f":"IFERROR(IF(INDIRECT($A$14&ROW())<>\"\",COUNTIF([1]Summary!$B$30:$B$1029,INDIRECT($A$14&ROW())),\"\"),\"\")","v":""}]
[{"$f":"IFERROR(IF(INDIRECT($A$14&ROW())<>\"\",COUNTIF([1]Summary!$B$30:$B$1029,INDIRECT($A$14&ROW())),\"\"),\"\")","v":""}]
[{"$f":"IFERROR(IF(INDIRECT($A$14&ROW())<>\"\",COUNTIF([1]Summary!$B$30:$B$1029,INDIRECT($A$14&ROW())),\"\"),\"\")","v":""}]
[{"$f":"IFERROR(IF(INDIRECT($A$14&ROW())<>\"\",COUNTIF([1]Summary!$B$30:$B$1029,INDIRECT($A$14&ROW())),\"\"),\"\")","v":""}]
[{"$f":"IFERROR(IF(INDIRECT($A$14&ROW())<>\"\",COUNTIF([1]Summary!$B$30:$B$1029,INDIRECT($A$14&ROW())),\"\"),\"\")","v":""}]
[{"$f":"IFERROR(IF(INDIRECT($A$14&ROW())<>\"\",COUNTIF([1]Summary!$B$30:$B$1029,INDIRECT($A$14&ROW())),\"\"),\"\")","v":""}]
[{"$f":"IFERROR(IF(INDIRECT($A$14&ROW())<>\"\",COUNTIF([1]Summary!$B$30:$B$1029,INDIRECT($A$14&ROW())),\"\"),\"\")","v":""}]
[{"$f":"IFERROR(IF(INDIRECT($A$14&ROW())<>\"\",COUNTIF([1]Summary!$B$30:$B$1029,INDIRECT($A$14&ROW())),\"\"),\"\")","v":""}]
[{"$f":"IFERROR(IF(INDIRECT($A$14&ROW())<>\"\",COUNTIF([1]Summary!$B$30:$B$1029,INDIRECT($A$14&ROW())),\"\"),\"\")","v":""}]
[{"$f":"IFERROR(IF(INDIRECT($A$14&ROW())<>\"\",COUNTIF([1]Summary!$B$30:$B$1029,INDIRECT($A$14&ROW())),\"\"),\"\")","v":""}]
[{"$f":"IFERROR(IF(INDIRECT($A$14&ROW())<>\"\",COUNTIF([1]Summary!$B$30:$B$1029,INDIRECT($A$14&ROW())),\"\"),\"\")","v":""}]
[{"$f":"IFERROR(IF(INDIRECT($A$14&ROW())<>\"\",COUNTIF([1]Summary!$B$30:$B$1029,INDIRECT($A$14&ROW())),\"\"),\"\")","v":""}]
[{"$f":"IFERROR(IF(INDIRECT($A$14&ROW())<>\"\",COUNTIF([1]Summary!$B$30:$B$1029,INDIRECT($A$14&ROW())),\"\"),\"\")","v":""}]
[{"$f":"IFERROR(IF(INDIRECT($A$14&ROW())<>\"\",COUNTIF([1]Summary!$B$30:$B$1029,INDIRECT($A$14&ROW())),\"\"),\"\")","v":""}]
[{"$f":"IFERROR(IF(INDIRECT($A$14&ROW())<>\"\",COUNTIF([1]Summary!$B$30:$B$1029,INDIRECT($A$14&ROW())),\"\"),\"\")","v":""}]
[{"$f":"IFERROR(IF(INDIRECT($A$14&ROW())<>\"\",COUNTIF([1]Summary!$B$30:$B$1029,INDIRECT($A$14&ROW())),\"\"),\"\")","v":""}]
[{"$f":"IFERROR(IF(INDIRECT($A$14&ROW())<>\"\",COUNTIF([1]Summary!$B$30:$B$1029,INDIRECT($A$14&ROW())),\"\"),\"\")","v":""}]
[{"$f":"IFERROR(IF(INDIRECT($A$14&ROW())<>\"\",COUNTIF([1]Summary!$B$30:$B$1029,INDIRECT($A$14&ROW())),\"\"),\"\")","v":""}]
[{"$f":"IFERROR(IF(INDIRECT($A$14&ROW())<>\"\",COUNTIF([1]Summary!$B$30:$B$1029,INDIRECT($A$14&ROW())),\"\"),\"\")","v":""}]
[{"$f":"IFERROR(IF(INDIRECT($A$14&ROW())<>\"\",COUNTIF([1]Summary!$B$30:$B$1029,INDIRECT($A$14&ROW())),\"\"),\"\")","v":""}]
[{"$f":"IFERROR(IF(INDIRECT($A$14&ROW())<>\"\",COUNTIF([1]Summary!$B$30:$B$1029,INDIRECT($A$14&ROW())),\"\"),\"\")","v":""}]
[{"$f":"IFERROR(IF(INDIRECT($A$14&ROW())<>\"\",COUNTIF([1]Summary!$B$30:$B$1029,INDIRECT($A$14&ROW())),\"\"),\"\")","v":""}]
[{"$f":"IFERROR(IF(INDIRECT($A$14&ROW())<>\"\",COUNTIF([1]Summary!$B$30:$B$1029,INDIRECT($A$14&ROW())),\"\"),\"\")","v":""}]
[{"$f":"IFERROR(IF(INDIRECT($A$14&ROW())<>\"\",COUNTIF([1]Summary!$B$30:$B$1029,INDIRECT($A$14&ROW())),\"\"),\"\")","v":""}]
[{"$f":"IFERROR(IF(INDIRECT($A$14&ROW())<>\"\",COUNTIF([1]Summary!$B$30:$B$1029,INDIRECT($A$14&ROW())),\"\"),\"\")","v":""}]
[{"$f":"IFERROR(IF(INDIRECT($A$14&ROW())<>\"\",COUNTIF([1]Summary!$B$30:$B$1029,INDIRECT($A$14&ROW())),\"\"),\"\")","v":""}]
[{"$f":"IFERROR(IF(INDIRECT($A$14&ROW())<>\"\",COUNTIF([1]Summary!$B$30:$B$1029,INDIRECT($A$14&ROW())),\"\"),\"\")","v":""}]
[{"$f":"IFERROR(IF(INDIRECT($A$14&ROW())<>\"\",COUNTIF([1]Summary!$B$30:$B$1029,INDIRECT($A$14&ROW())),\"\"),\"\")","v":""}]
[{"$f":"IFERROR(IF(INDIRECT($A$14&ROW())<>\"\",COUNTIF([1]Summary!$B$30:$B$1029,INDIRECT($A$14&ROW())),\"\"),\"\")","v":""}]
[{"$f":"IFERROR(IF(INDIRECT($A$14&ROW())<>\"\",COUNTIF([1]Summary!$B$30:$B$1029,INDIRECT($A$14&ROW())),\"\"),\"\")","v":""}]
[{"$f":"IFERROR(IF(INDIRECT($A$14&ROW())<>\"\",COUNTIF([1]Summary!$B$30:$B$1029,INDIRECT($A$14&ROW())),\"\"),\"\")","v":""}]
[{"$f":"IFERROR(IF(INDIRECT($A$14&ROW())<>\"\",COUNTIF([1]Summary!$B$30:$B$1029,INDIRECT($A$14&ROW())),\"\"),\"\")","v":""}]
[{"$f":"IFERROR(IF(INDIRECT($A$14&ROW())<>\"\",COUNTIF([1]Summary!$B$30:$B$1029,INDIRECT($A$14&ROW())),\"\"),\"\")","v":""}]
[{"$f":"IFERROR(IF(INDIRECT($A$14&ROW())<>\"\",COUNTIF([1]Summary!$B$30:$B$1029,INDIRECT($A$14&ROW())),\"\"),\"\")","v":""}]
[{"$f":"IFERROR(IF(INDIRECT($A$14&ROW())<>\"\",COUNTIF([1]Summary!$B$30:$B$1029,INDIRECT($A$14&ROW())),\"\"),\"\")","v":""}]
[{"$f":"IFERROR(IF(INDIRECT($A$14&ROW())<>\"\",COUNTIF([1]Summary!$B$30:$B$1029,INDIRECT($A$14&ROW())),\"\"),\"\")","v":""}]
[{"$f":"IFERROR(IF(INDIRECT($A$14&ROW())<>\"\",COUNTIF([1]Summary!$B$30:$B$1029,INDIRECT($A$14&ROW())),\"\"),\"\")","v":""}]
[{"$f":"IFERROR(IF(INDIRECT($A$14&ROW())<>\"\",COUNTIF([1]Summary!$B$30:$B$1029,INDIRECT($A$14&ROW())),\"\"),\"\")","v":""}]
[{"$f":"IFERROR(IF(INDIRECT($A$14&ROW())<>\"\",COUNTIF([1]Summary!$B$30:$B$1029,INDIRECT($A$14&ROW())),\"\"),\"\")","v":""}]
[{"$f":"IFERROR(IF(INDIRECT($A$14&ROW())<>\"\",COUNTIF([1]Summary!$B$30:$B$1029,INDIRECT($A$14&ROW())),\"\"),\"\")","v":""}]
[{"$f":"IFERROR(IF(INDIRECT($A$14&ROW())<>\"\",COUNTIF([1]Summary!$B$30:$B$1029,INDIRECT($A$14&ROW())),\"\"),\"\")","v":""}]
[{"$f":"IFERROR(IF(INDIRECT($A$14&ROW())<>\"\",COUNTIF([1]Summary!$B$30:$B$1029,INDIRECT($A$14&ROW())),\"\"),\"\")","v":""}]
[{"$f":"IFERROR(IF(INDIRECT($A$14&ROW())<>\"\",COUNTIF([1]Summary!$B$30:$B$1029,INDIRECT($A$14&ROW())),\"\"),\"\")","v":""}]
[{"$f":"IFERROR(IF(INDIRECT($A$14&ROW())<>\"\",COUNTIF([1]Summary!$B$30:$B$1029,INDIRECT($A$14&ROW())),\"\"),\"\")","v":""}]
[{"$f":"IFERROR(IF(INDIRECT($A$14&ROW())<>\"\",COUNTIF([1]Summary!$B$30:$B$1029,INDIRECT($A$14&ROW())),\"\"),\"\")","v":""}]
[{"$f":"IFERROR(IF(INDIRECT($A$14&ROW())<>\"\",COUNTIF([1]Summary!$B$30:$B$1029,INDIRECT($A$14&ROW())),\"\"),\"\")","v":""}]
[{"$f":"IFERROR(IF(INDIRECT($A$14&ROW())<>\"\",COUNTIF([1]Summary!$B$30:$B$1029,INDIRECT($A$14&ROW())),\"\"),\"\")","v":""}]
[{"$f":"IFERROR(IF(INDIRECT($A$14&ROW())<>\"\",COUNTIF([1]Summary!$B$30:$B$1029,INDIRECT($A$14&ROW())),\"\"),\"\")","v":""}]
[{"$f":"IFERROR(IF(INDIRECT($A$14&ROW())<>\"\",COUNTIF([1]Summary!$B$30:$B$1029,INDIRECT($A$14&ROW())),\"\"),\"\")","v":""}]
[{"$f":"IFERROR(IF(INDIRECT($A$14&ROW())<>\"\",COUNTIF([1]Summary!$B$30:$B$1029,INDIRECT($A$14&ROW())),\"\"),\"\")","v":""}]
[{"$f":"IFERROR(IF(INDIRECT($A$14&ROW())<>\"\",COUNTIF([1]Summary!$B$30:$B$1029,INDIRECT($A$14&ROW())),\"\"),\"\")","v":""}]
[{"$f":"IFERROR(IF(INDIRECT($A$14&ROW())<>\"\",COUNTIF([1]Summary!$B$30:$B$1029,INDIRECT($A$14&ROW())),\"\"),\"\")","v":""}]
[{"$f":"IFERROR(IF(INDIRECT($A$14&ROW())<>\"\",COUNTIF([1]Summary!$B$30:$B$1029,INDIRECT($A$14&ROW())),\"\"),\"\")","v":""}]
[{"$f":"IFERROR(IF(INDIRECT($A$14&ROW())<>\"\",COUNTIF([1]Summary!$B$30:$B$1029,INDIRECT($A$14&ROW())),\"\"),\"\")","v":""}]
[{"$f":"IFERROR(IF(INDIRECT($A$14&ROW())<>\"\",COUNTIF([1]Summary!$B$30:$B$1029,INDIRECT($A$14&ROW())),\"\"),\"\")","v":""}]
[{"$f":"IFERROR(IF(INDIRECT($A$14&ROW())<>\"\",COUNTIF([1]Summary!$B$30:$B$1029,INDIRECT($A$14&ROW())),\"\"),\"\")","v":""}]
[{"$f":"IFERROR(IF(INDIRECT($A$14&ROW())<>\"\",COUNTIF([1]Summary!$B$30:$B$1029,INDIRECT($A$14&ROW())),\"\"),\"\")","v":""}]
[{"$f":"IFERROR(IF(INDIRECT($A$14&ROW())<>\"\",COUNTIF([1]Summary!$B$30:$B$1029,INDIRECT($A$14&ROW())),\"\"),\"\")","v":""}]
[{"$f":"IFERROR(IF(INDIRECT($A$14&ROW())<>\"\",COUNTIF([1]Summary!$B$30:$B$1029,INDIRECT($A$14&ROW())),\"\"),\"\")","v":""}]
[{"$f":"IFERROR(IF(INDIRECT($A$14&ROW())<>\"\",COUNTIF([1]Summary!$B$30:$B$1029,INDIRECT($A$14&ROW())),\"\"),\"\")","v":""}]
[{"$f":"IFERROR(IF(INDIRECT($A$14&ROW())<>\"\",COUNTIF([1]Summary!$B$30:$B$1029,INDIRECT($A$14&ROW())),\"\"),\"\")","v":""}]
[{"$f":"IFERROR(IF(INDIRECT($A$14&ROW())<>\"\",COUNTIF([1]Summary!$B$30:$B$1029,INDIRECT($A$14&ROW())),\"\"),\"\")","v":""}]
[{"$f":"IFERROR(IF(INDIRECT($A$14&ROW())<>\"\",COUNTIF([1]Summary!$B$30:$B$1029,INDIRECT($A$14&ROW())),\"\"),\"\")","v":""}]
[{"$f":"IFERROR(IF(INDIRECT($A$14&ROW())<>\"\",COUNTIF([1]Summary!$B$30:$B$1029,INDIRECT($A$14&ROW())),\"\"),\"\")","v":""}]
[{"$f":"IFERROR(IF(INDIRECT($A$14&ROW())<>\"\",COUNTIF([1]Summary!$B$30:$B$1029,INDIRECT($A$14&ROW())),\"\"),\"\")","v":""}]
[{"$f":"IFERROR(IF(INDIRECT($A$14&ROW())<>\"\",COUNTIF([1]Summary!$B$30:$B$1029,INDIRECT($A$14&ROW())),\"\"),\"\")","v":""}]
[{"$f":"IFERROR(IF(INDIRECT($A$14&ROW())<>\"\",COUNTIF([1]Summary!$B$30:$B$1029,INDIRECT($A$14&ROW())),\"\"),\"\")","v":""}]
[{"$f":"IFERROR(IF(INDIRECT($A$14&ROW())<>\"\",COUNTIF([1]Summary!$B$30:$B$1029,INDIRECT($A$14&ROW())),\"\"),\"\")","v":""}]
[{"$f":"IFERROR(IF(INDIRECT($A$14&ROW())<>\"\",COUNTIF([1]Summary!$B$30:$B$1029,INDIRECT($A$14&ROW())),\"\"),\"\")","v":""}]
[{"$f":"IFERROR(IF(INDIRECT($A$14&ROW())<>\"\",COUNTIF([1]Summary!$B$30:$B$1029,INDIRECT($A$14&ROW())),\"\"),\"\")","v":""}]
[{"$f":"IFERROR(IF(INDIRECT($A$14&ROW())<>\"\",COUNTIF([1]Summary!$B$30:$B$1029,INDIRECT($A$14&ROW())),\"\"),\"\")","v":""}]
[{"$f":"IFERROR(IF(INDIRECT($A$14&ROW())<>\"\",COUNTIF([1]Summary!$B$30:$B$1029,INDIRECT($A$14&ROW())),\"\"),\"\")","v":""}]
[{"$f":"IFERROR(IF(INDIRECT($A$14&ROW())<>\"\",COUNTIF([1]Summary!$B$30:$B$1029,INDIRECT($A$14&ROW())),\"\"),\"\")","v":""}]
[{"$f":"IFERROR(IF(INDIRECT($A$14&ROW())<>\"\",COUNTIF([1]Summary!$B$30:$B$1029,INDIRECT($A$14&ROW())),\"\"),\"\")","v":""}]
[{"$f":"IFERROR(IF(INDIRECT($A$14&ROW())<>\"\",COUNTIF([1]Summary!$B$30:$B$1029,INDIRECT($A$14&ROW())),\"\"),\"\")","v":""}]
[{"$f":"IFERROR(IF(INDIRECT($A$14&ROW())<>\"\",COUNTIF([1]Summary!$B$30:$B$1029,INDIRECT($A$14&ROW())),\"\"),\"\")","v":""}]
[{"$f":"IFERROR(IF(INDIRECT($A$14&ROW())<>\"\",COUNTIF([1]Summary!$B$30:$B$1029,INDIRECT($A$14&ROW())),\"\"),\"\")","v":""}]
[{"$f":"IFERROR(IF(INDIRECT($A$14&ROW())<>\"\",COUNTIF([1]Summary!$B$30:$B$1029,INDIRECT($A$14&ROW())),\"\"),\"\")","v":""}]
[{"$f":"IFERROR(IF(INDIRECT($A$14&ROW())<>\"\",COUNTIF([1]Summary!$B$30:$B$1029,INDIRECT($A$14&ROW())),\"\"),\"\")","v":""}]
[{"$f":"IFERROR(IF(INDIRECT($A$14&ROW())<>\"\",COUNTIF([1]Summary!$B$30:$B$1029,INDIRECT($A$14&ROW())),\"\"),\"\")","v":""}]
[{"$f":"IFERROR(IF(INDIRECT($A$14&ROW())<>\"\",COUNTIF([1]Summary!$B$30:$B$1029,INDIRECT($A$14&ROW())),\"\"),\"\")","v":""}]
[{"$f":"IFERROR(IF(INDIRECT($A$14&ROW())<>\"\",COUNTIF([1]Summary!$B$30:$B$1029,INDIRECT($A$14&ROW())),\"\"),\"\")","v":""}]
[{"$f":"IFERROR(IF(INDIRECT($A$14&ROW())<>\"\",COUNTIF([1]Summary!$B$30:$B$1029,INDIRECT($A$14&ROW())),\"\"),\"\")","v":""}]
[{"$f":"IFERROR(IF(INDIRECT($A$14&ROW())<>\"\",COUNTIF([1]Summary!$B$30:$B$1029,INDIRECT($A$14&ROW())),\"\"),\"\")","v":""}]
[{"$f":"IFERROR(IF(INDIRECT($A$14&ROW())<>\"\",COUNTIF([1]Summary!$B$30:$B$1029,INDIRECT($A$14&ROW())),\"\"),\"\")","v":""}]
[{"$f":"IFERROR(IF(INDIRECT($A$14&ROW())<>\"\",COUNTIF([1]Summary!$B$30:$B$1029,INDIRECT($A$14&ROW())),\"\"),\"\")","v":""}]
[{"$f":"IFERROR(IF(INDIRECT($A$14&ROW())<>\"\",COUNTIF([1]Summary!$B$30:$B$1029,INDIRECT($A$14&ROW())),\"\"),\"\")","v":""}]
[{"$f":"IFERROR(IF(INDIRECT($A$14&ROW())<>\"\",COUNTIF([1]Summary!$B$30:$B$1029,INDIRECT($A$14&ROW())),\"\"),\"\")","v":""}]
[{"$f":"IFERROR(IF(INDIRECT($A$14&ROW())<>\"\",COUNTIF([1]Summary!$B$30:$B$1029,INDIRECT($A$14&ROW())),\"\"),\"\")","v":""}]
[{"$f":"IFERROR(IF(INDIRECT($A$14&ROW())<>\"\",COUNTIF([1]Summary!$B$30:$B$1029,INDIRECT($A$14&ROW())),\"\"),\"\")","v":""}]
[{"$f":"IFERROR(IF(INDIRECT($A$14&ROW())<>\"\",COUNTIF([1]Summary!$B$30:$B$1029,INDIRECT($A$14&ROW())),\"\"),\"\")","v":""}]
[{"$f":"IFERROR(IF(INDIRECT($A$14&ROW())<>\"\",COUNTIF([1]Summary!$B$30:$B$1029,INDIRECT($A$14&ROW())),\"\"),\"\")","v":""}]
[{"$f":"IFERROR(IF(INDIRECT($A$14&ROW())<>\"\",COUNTIF([1]Summary!$B$30:$B$1029,INDIRECT($A$14&ROW())),\"\"),\"\")","v":""}]
[{"$f":"IFERROR(IF(INDIRECT($A$14&ROW())<>\"\",COUNTIF([1]Summary!$B$30:$B$1029,INDIRECT($A$14&ROW())),\"\"),\"\")","v":""}]
[{"$f":"IFERROR(IF(INDIRECT($A$14&ROW())<>\"\",COUNTIF([1]Summary!$B$30:$B$1029,INDIRECT($A$14&ROW())),\"\"),\"\")","v":""}]
[{"$f":"IFERROR(IF(INDIRECT($A$14&ROW())<>\"\",COUNTIF([1]Summary!$B$30:$B$1029,INDIRECT($A$14&ROW())),\"\"),\"\")","v":""}]
[{"$f":"IFERROR(IF(INDIRECT($A$14&ROW())<>\"\",COUNTIF([1]Summary!$B$30:$B$1029,INDIRECT($A$14&ROW())),\"\"),\"\")","v":""}]
[{"$f":"IFERROR(IF(INDIRECT($A$14&ROW())<>\"\",COUNTIF([1]Summary!$B$30:$B$1029,INDIRECT($A$14&ROW())),\"\"),\"\")","v":""}]
[{"$f":"IFERROR(IF(INDIRECT($A$14&ROW())<>\"\",COUNTIF([1]Summary!$B$30:$B$1029,INDIRECT($A$14&ROW())),\"\"),\"\")","v":""}]
[{"$f":"IFERROR(IF(INDIRECT($A$14&ROW())<>\"\",COUNTIF([1]Summary!$B$30:$B$1029,INDIRECT($A$14&ROW())),\"\"),\"\")","v":""}]
[{"$f":"IFERROR(IF(INDIRECT($A$14&ROW())<>\"\",COUNTIF([1]Summary!$B$30:$B$1029,INDIRECT($A$14&ROW())),\"\"),\"\")","v":""}]
[{"$f":"IFERROR(IF(INDIRECT($A$14&ROW())<>\"\",COUNTIF([1]Summary!$B$30:$B$1029,INDIRECT($A$14&ROW())),\"\"),\"\")","v":""}]
[{"$f":"IFERROR(IF(INDIRECT($A$14&ROW())<>\"\",COUNTIF([1]Summary!$B$30:$B$1029,INDIRECT($A$14&ROW())),\"\"),\"\")","v":""}]
[{"$f":"IFERROR(IF(INDIRECT($A$14&ROW())<>\"\",COUNTIF([1]Summary!$B$30:$B$1029,INDIRECT($A$14&ROW())),\"\"),\"\")","v":""}]
[{"$f":"IFERROR(IF(INDIRECT($A$14&ROW())<>\"\",COUNTIF([1]Summary!$B$30:$B$1029,INDIRECT($A$14&ROW())),\"\"),\"\")","v":""}]
[{"$f":"IFERROR(IF(INDIRECT($A$14&ROW())<>\"\",COUNTIF([1]Summary!$B$30:$B$1029,INDIRECT($A$14&ROW())),\"\"),\"\")","v":""}]
[{"$f":"IFERROR(IF(INDIRECT($A$14&ROW())<>\"\",COUNTIF([1]Summary!$B$30:$B$1029,INDIRECT($A$14&ROW())),\"\"),\"\")","v":""}]
[{"$f":"IFERROR(IF(INDIRECT($A$14&ROW())<>\"\",COUNTIF([1]Summary!$B$30:$B$1029,INDIRECT($A$14&ROW())),\"\"),\"\")","v":""}]
[{"$f":"IFERROR(IF(INDIRECT($A$14&ROW())<>\"\",COUNTIF([1]Summary!$B$30:$B$1029,INDIRECT($A$14&ROW())),\"\"),\"\")","v":""}]
[{"$f":"IFERROR(IF(INDIRECT($A$14&ROW())<>\"\",COUNTIF([1]Summary!$B$30:$B$1029,INDIRECT($A$14&ROW())),\"\"),\"\")","v":""}]
[{"$f":"IFERROR(IF(INDIRECT($A$14&ROW())<>\"\",COUNTIF([1]Summary!$B$30:$B$1029,INDIRECT($A$14&ROW())),\"\"),\"\")","v":""}]
[{"$f":"IFERROR(IF(INDIRECT($A$14&ROW())<>\"\",COUNTIF([1]Summary!$B$30:$B$1029,INDIRECT($A$14&ROW())),\"\"),\"\")","v":""}]
[{"$f":"IFERROR(IF(INDIRECT($A$14&ROW())<>\"\",COUNTIF([1]Summary!$B$30:$B$1029,INDIRECT($A$14&ROW())),\"\"),\"\")","v":""}]
[{"$f":"IFERROR(IF(INDIRECT($A$14&ROW())<>\"\",COUNTIF([1]Summary!$B$30:$B$1029,INDIRECT($A$14&ROW())),\"\"),\"\")","v":""}]
[{"$f":"IFERROR(IF(INDIRECT($A$14&ROW())<>\"\",COUNTIF([1]Summary!$B$30:$B$1029,INDIRECT($A$14&ROW())),\"\"),\"\")","v":""}]
[{"$f":"IFERROR(IF(INDIRECT($A$14&ROW())<>\"\",COUNTIF([1]Summary!$B$30:$B$1029,INDIRECT($A$14&ROW())),\"\"),\"\")","v":""}]
[{"$f":"IFERROR(IF(INDIRECT($A$14&ROW())<>\"\",COUNTIF([1]Summary!$B$30:$B$1029,INDIRECT($A$14&ROW())),\"\"),\"\")","v":""}]
[{"$f":"IFERROR(IF(INDIRECT($A$14&ROW())<>\"\",COUNTIF([1]Summary!$B$30:$B$1029,INDIRECT($A$14&ROW())),\"\"),\"\")","v":""}]
[{"$f":"IFERROR(IF(INDIRECT($A$14&ROW())<>\"\",COUNTIF([1]Summary!$B$30:$B$1029,INDIRECT($A$14&ROW())),\"\"),\"\")","v":""}]
[{"$f":"IFERROR(IF(INDIRECT($A$14&ROW())<>\"\",COUNTIF([1]Summary!$B$30:$B$1029,INDIRECT($A$14&ROW())),\"\"),\"\")","v":""}]
[{"$f":"IFERROR(IF(INDIRECT($A$14&ROW())<>\"\",COUNTIF([1]Summary!$B$30:$B$1029,INDIRECT($A$14&ROW())),\"\"),\"\")","v":""}]
[{"$f":"IFERROR(IF(INDIRECT($A$14&ROW())<>\"\",COUNTIF([1]Summary!$B$30:$B$1029,INDIRECT($A$14&ROW())),\"\"),\"\")","v":""}]
[{"$f":"IFERROR(IF(INDIRECT($A$14&ROW())<>\"\",COUNTIF([1]Summary!$B$30:$B$1029,INDIRECT($A$14&ROW())),\"\"),\"\")","v":""}]
[{"$f":"IFERROR(IF(INDIRECT($A$14&ROW())<>\"\",COUNTIF([1]Summary!$B$30:$B$1029,INDIRECT($A$14&ROW())),\"\"),\"\")","v":""}]
[{"$f":"IFERROR(IF(INDIRECT($A$14&ROW())<>\"\",COUNTIF([1]Summary!$B$30:$B$1029,INDIRECT($A$14&ROW())),\"\"),\"\")","v":""}]
[{"$f":"IFERROR(IF(INDIRECT($A$14&ROW())<>\"\",COUNTIF([1]Summary!$B$30:$B$1029,INDIRECT($A$14&ROW())),\"\"),\"\")","v":""}]
[{"$f":"IFERROR(IF(INDIRECT($A$14&ROW())<>\"\",COUNTIF([1]Summary!$B$30:$B$1029,INDIRECT($A$14&ROW())),\"\"),\"\")","v":""}]
[{"$f":"IFERROR(IF(INDIRECT($A$14&ROW())<>\"\",COUNTIF([1]Summary!$B$30:$B$1029,INDIRECT($A$14&ROW())),\"\"),\"\")","v":""}]
[{"$f":"IFERROR(IF(INDIRECT($A$14&ROW())<>\"\",COUNTIF([1]Summary!$B$30:$B$1029,INDIRECT($A$14&ROW())),\"\"),\"\")","v":""}]
[{"$f":"IFERROR(IF(INDIRECT($A$14&ROW())<>\"\",COUNTIF([1]Summary!$B$30:$B$1029,INDIRECT($A$14&ROW())),\"\"),\"\")","v":""}]
[{"$f":"IFERROR(IF(INDIRECT($A$14&ROW())<>\"\",COUNTIF([1]Summary!$B$30:$B$1029,INDIRECT($A$14&ROW())),\"\"),\"\")","v":""}]
[{"$f":"IFERROR(IF(INDIRECT($A$14&ROW())<>\"\",COUNTIF([1]Summary!$B$30:$B$1029,INDIRECT($A$14&ROW())),\"\"),\"\")","v":""}]
[{"$f":"IFERROR(IF(INDIRECT($A$14&ROW())<>\"\",COUNTIF([1]Summary!$B$30:$B$1029,INDIRECT($A$14&ROW())),\"\"),\"\")","v":""}]
[{"$f":"IFERROR(IF(INDIRECT($A$14&ROW())<>\"\",COUNTIF([1]Summary!$B$30:$B$1029,INDIRECT($A$14&ROW())),\"\"),\"\")","v":""}]
[{"$f":"IFERROR(IF(INDIRECT($A$14&ROW())<>\"\",COUNTIF([1]Summary!$B$30:$B$1029,INDIRECT($A$14&ROW())),\"\"),\"\")","v":""}]
[{"$f":"IFERROR(IF(INDIRECT($A$14&ROW())<>\"\",COUNTIF([1]Summary!$B$30:$B$1029,INDIRECT($A$14&ROW())),\"\"),\"\")","v":""}]
[{"$f":"IFERROR(IF(INDIRECT($A$14&ROW())<>\"\",COUNTIF([1]Summary!$B$30:$B$1029,INDIRECT($A$14&ROW())),\"\"),\"\")","v":""}]
[{"$f":"IFERROR(IF(INDIRECT($A$14&ROW())<>\"\",COUNTIF([1]Summary!$B$30:$B$1029,INDIRECT($A$14&ROW())),\"\"),\"\")","v":""}]
[{"$f":"IFERROR(IF(INDIRECT($A$14&ROW())<>\"\",COUNTIF([1]Summary!$B$30:$B$1029,INDIRECT($A$14&ROW())),\"\"),\"\")","v":""}]
[{"$f":"IFERROR(IF(INDIRECT($A$14&ROW())<>\"\",COUNTIF([1]Summary!$B$30:$B$1029,INDIRECT($A$14&ROW())),\"\"),\"\")","v":""}]
[{"$f":"IFERROR(IF(INDIRECT($A$14&ROW())<>\"\",COUNTIF([1]Summary!$B$30:$B$1029,INDIRECT($A$14&ROW())),\"\"),\"\")","v":""}]
[{"$f":"IFERROR(IF(INDIRECT($A$14&ROW())<>\"\",COUNTIF([1]Summary!$B$30:$B$1029,INDIRECT($A$14&ROW())),\"\"),\"\")","v":""}]
[{"$f":"IFERROR(IF(INDIRECT($A$14&ROW())<>\"\",COUNTIF([1]Summary!$B$30:$B$1029,INDIRECT($A$14&ROW())),\"\"),\"\")","v":""}]
[{"$f":"IFERROR(IF(INDIRECT($A$14&ROW())<>\"\",COUNTIF([1]Summary!$B$30:$B$1029,INDIRECT($A$14&ROW())),\"\"),\"\")","v":""}]
[{"$f":"IFERROR(IF(INDIRECT($A$14&ROW())<>\"\",COUNTIF([1]Summary!$B$30:$B$1029,INDIRECT($A$14&ROW())),\"\"),\"\")","v":""}]
[{"$f":"IFERROR(IF(INDIRECT($A$14&ROW())<>\"\",COUNTIF([1]Summary!$B$30:$B$1029,INDIRECT($A$14&ROW())),\"\"),\"\")","v":""}]
[{"$f":"IFERROR(IF(INDIRECT($A$14&ROW())<>\"\",COUNTIF([1]Summary!$B$30:$B$1029,INDIRECT($A$14&ROW())),\"\"),\"\")","v":""}]
[{"$f":"IFERROR(IF(INDIRECT($A$14&ROW())<>\"\",COUNTIF([1]Summary!$B$30:$B$1029,INDIRECT($A$14&ROW())),\"\"),\"\")","v":""}]
[{"$f":"IFERROR(IF(INDIRECT($A$14&ROW())<>\"\",COUNTIF([1]Summary!$B$30:$B$1029,INDIRECT($A$14&ROW())),\"\"),\"\")","v":""}]
[{"$f":"IFERROR(IF(INDIRECT($A$14&ROW())<>\"\",COUNTIF([1]Summary!$B$30:$B$1029,INDIRECT($A$14&ROW())),\"\"),\"\")","v":""}]
[{"$f":"IFERROR(IF(INDIRECT($A$14&ROW())<>\"\",COUNTIF([1]Summary!$B$30:$B$1029,INDIRECT($A$14&ROW())),\"\"),\"\")","v":""}]
[{"$f":"IFERROR(IF(INDIRECT($A$14&ROW())<>\"\",COUNTIF([1]Summary!$B$30:$B$1029,INDIRECT($A$14&ROW())),\"\"),\"\")","v":""}]
[{"$f":"IFERROR(IF(INDIRECT($A$14&ROW())<>\"\",COUNTIF([1]Summary!$B$30:$B$1029,INDIRECT($A$14&ROW())),\"\"),\"\")","v":""}]
[{"$f":"IFERROR(IF(INDIRECT($A$14&ROW())<>\"\",COUNTIF([1]Summary!$B$30:$B$1029,INDIRECT($A$14&ROW())),\"\"),\"\")","v":""}]
[{"$f":"IFERROR(IF(INDIRECT($A$14&ROW())<>\"\",COUNTIF([1]Summary!$B$30:$B$1029,INDIRECT($A$14&ROW())),\"\"),\"\")","v":""}]
[{"$f":"IFERROR(IF(INDIRECT($A$14&ROW())<>\"\",COUNTIF([1]Summary!$B$30:$B$1029,INDIRECT($A$14&ROW())),\"\"),\"\")","v":""}]
[{"$f":"IFERROR(IF(INDIRECT($A$14&ROW())<>\"\",COUNTIF([1]Summary!$B$30:$B$1029,INDIRECT($A$14&ROW())),\"\"),\"\")","v":""}]
[{"$f":"IFERROR(IF(INDIRECT($A$14&ROW())<>\"\",COUNTIF([1]Summary!$B$30:$B$1029,INDIRECT($A$14&ROW())),\"\"),\"\")","v":""}]
[{"$f":"IFERROR(IF(INDIRECT($A$14&ROW())<>\"\",COUNTIF([1]Summary!$B$30:$B$1029,INDIRECT($A$14&ROW())),\"\"),\"\")","v":""}]
[{"$f":"IFERROR(IF(INDIRECT($A$14&ROW())<>\"\",COUNTIF([1]Summary!$B$30:$B$1029,INDIRECT($A$14&ROW())),\"\"),\"\")","v":""}]
[{"$f":"IFERROR(IF(INDIRECT($A$14&ROW())<>\"\",COUNTIF([1]Summary!$B$30:$B$1029,INDIRECT($A$14&ROW())),\"\"),\"\")","v":""}]
[{"$f":"IFERROR(IF(INDIRECT($A$14&ROW())<>\"\",COUNTIF([1]Summary!$B$30:$B$1029,INDIRECT($A$14&ROW())),\"\"),\"\")","v":""}]
[{"$f":"IFERROR(IF(INDIRECT($A$14&ROW())<>\"\",COUNTIF([1]Summary!$B$30:$B$1029,INDIRECT($A$14&ROW())),\"\"),\"\")","v":""}]
[{"$f":"IFERROR(IF(INDIRECT($A$14&ROW())<>\"\",COUNTIF([1]Summary!$B$30:$B$1029,INDIRECT($A$14&ROW())),\"\"),\"\")","v":""}]
[{"$f":"IFERROR(IF(INDIRECT($A$14&ROW())<>\"\",COUNTIF([1]Summary!$B$30:$B$1029,INDIRECT($A$14&ROW())),\"\"),\"\")","v":""}]
[{"$f":"IFERROR(IF(INDIRECT($A$14&ROW())<>\"\",COUNTIF([1]Summary!$B$30:$B$1029,INDIRECT($A$14&ROW())),\"\"),\"\")","v":""}]
[{"$f":"IFERROR(IF(INDIRECT($A$14&ROW())<>\"\",COUNTIF([1]Summary!$B$30:$B$1029,INDIRECT($A$14&ROW())),\"\"),\"\")","v":""}]
[{"$f":"IFERROR(IF(INDIRECT($A$14&ROW())<>\"\",COUNTIF([1]Summary!$B$30:$B$1029,INDIRECT($A$14&ROW())),\"\"),\"\")","v":""}]
[{"$f":"IFERROR(IF(INDIRECT($A$14&ROW())<>\"\",COUNTIF([1]Summary!$B$30:$B$1029,INDIRECT($A$14&ROW())),\"\"),\"\")","v":""}]
[{"$f":"IFERROR(IF(INDIRECT($A$14&ROW())<>\"\",COUNTIF([1]Summary!$B$30:$B$1029,INDIRECT($A$14&ROW())),\"\"),\"\")","v":""}]
[{"$f":"IFERROR(IF(INDIRECT($A$14&ROW())<>\"\",COUNTIF([1]Summary!$B$30:$B$1029,INDIRECT($A$14&ROW())),\"\"),\"\")","v":""}]
[{"$f":"IFERROR(IF(INDIRECT($A$14&ROW())<>\"\",COUNTIF([1]Summary!$B$30:$B$1029,INDIRECT($A$14&ROW())),\"\"),\"\")","v":""}]
[{"$f":"IFERROR(IF(INDIRECT($A$14&ROW())<>\"\",COUNTIF([1]Summary!$B$30:$B$1029,INDIRECT($A$14&ROW())),\"\"),\"\")","v":""}]
[{"$f":"IFERROR(IF(INDIRECT($A$14&ROW())<>\"\",COUNTIF([1]Summary!$B$30:$B$1029,INDIRECT($A$14&ROW())),\"\"),\"\")","v":""}]
[{"$f":"IFERROR(IF(INDIRECT($A$14&ROW())<>\"\",COUNTIF([1]Summary!$B$30:$B$1029,INDIRECT($A$14&ROW())),\"\"),\"\")","v":""}]
[{"$f":"IFERROR(IF(INDIRECT($A$14&ROW())<>\"\",COUNTIF([1]Summary!$B$30:$B$1029,INDIRECT($A$14&ROW())),\"\"),\"\")","v":""}]
[{"$f":"IFERROR(IF(INDIRECT($A$14&ROW())<>\"\",COUNTIF([1]Summary!$B$30:$B$1029,INDIRECT($A$14&ROW())),\"\"),\"\")","v":""}]
[{"$f":"IFERROR(IF(INDIRECT($A$14&ROW())<>\"\",COUNTIF([1]Summary!$B$30:$B$1029,INDIRECT($A$14&ROW())),\"\"),\"\")","v":""}]
[{"$f":"IFERROR(IF(INDIRECT($A$14&ROW())<>\"\",COUNTIF([1]Summary!$B$30:$B$1029,INDIRECT($A$14&ROW())),\"\"),\"\")","v":""}]
[{"$f":"IFERROR(IF(INDIRECT($A$14&ROW())<>\"\",COUNTIF([1]Summary!$B$30:$B$1029,INDIRECT($A$14&ROW())),\"\"),\"\")","v":""}]
[{"$f":"IFERROR(IF(INDIRECT($A$14&ROW())<>\"\",COUNTIF([1]Summary!$B$30:$B$1029,INDIRECT($A$14&ROW())),\"\"),\"\")","v":""}]
[{"$f":"IFERROR(IF(INDIRECT($A$14&ROW())<>\"\",COUNTIF([1]Summary!$B$30:$B$1029,INDIRECT($A$14&ROW())),\"\"),\"\")","v":""}]
[{"$f":"IFERROR(IF(INDIRECT($A$14&ROW())<>\"\",COUNTIF([1]Summary!$B$30:$B$1029,INDIRECT($A$14&ROW())),\"\"),\"\")","v":""}]
[{"$f":"IFERROR(IF(INDIRECT($A$14&ROW())<>\"\",COUNTIF([1]Summary!$B$30:$B$1029,INDIRECT($A$14&ROW())),\"\"),\"\")","v":""}]
[{"$f":"IFERROR(IF(INDIRECT($A$14&ROW())<>\"\",COUNTIF([1]Summary!$B$30:$B$1029,INDIRECT($A$14&ROW())),\"\"),\"\")","v":""}]
[{"$f":"IFERROR(IF(INDIRECT($A$14&ROW())<>\"\",COUNTIF([1]Summary!$B$30:$B$1029,INDIRECT($A$14&ROW())),\"\"),\"\")","v":""}]
[{"$f":"IFERROR(IF(INDIRECT($A$14&ROW())<>\"\",COUNTIF([1]Summary!$B$30:$B$1029,INDIRECT($A$14&ROW())),\"\"),\"\")","v":""}]
[{"$f":"IFERROR(IF(INDIRECT($A$14&ROW())<>\"\",COUNTIF([1]Summary!$B$30:$B$1029,INDIRECT($A$14&ROW())),\"\"),\"\")","v":""}]
[{"$f":"IFERROR(IF(INDIRECT($A$14&ROW())<>\"\",COUNTIF([1]Summary!$B$30:$B$1029,INDIRECT($A$14&ROW())),\"\"),\"\")","v":""}]
[{"$f":"IFERROR(IF(INDIRECT($A$14&ROW())<>\"\",COUNTIF([1]Summary!$B$30:$B$1029,INDIRECT($A$14&ROW())),\"\"),\"\")","v":""}]
[{"$f":"IFERROR(IF(INDIRECT($A$14&ROW())<>\"\",COUNTIF([1]Summary!$B$30:$B$1029,INDIRECT($A$14&ROW())),\"\"),\"\")","v":""}]
[{"$f":"IFERROR(IF(INDIRECT($A$14&ROW())<>\"\",COUNTIF([1]Summary!$B$30:$B$1029,INDIRECT($A$14&ROW())),\"\"),\"\")","v":""}]
[{"$f":"IFERROR(IF(INDIRECT($A$14&ROW())<>\"\",COUNTIF([1]Summary!$B$30:$B$1029,INDIRECT($A$14&ROW())),\"\"),\"\")","v":""}]
[{"$f":"IFERROR(IF(INDIRECT($A$14&ROW())<>\"\",COUNTIF([1]Summary!$B$30:$B$1029,INDIRECT($A$14&ROW())),\"\"),\"\")","v":""}]
[{"$f":"IFERROR(IF(INDIRECT($A$14&ROW())<>\"\",COUNTIF([1]Summary!$B$30:$B$1029,INDIRECT($A$14&ROW())),\"\"),\"\")","v":""}]
[{"$f":"IFERROR(IF(INDIRECT($A$14&ROW())<>\"\",COUNTIF([1]Summary!$B$30:$B$1029,INDIRECT($A$14&ROW())),\"\"),\"\")","v":""}]
[{"$f":"IFERROR(IF(INDIRECT($A$14&ROW())<>\"\",COUNTIF([1]Summary!$B$30:$B$1029,INDIRECT($A$14&ROW())),\"\"),\"\")","v":""}]
[{"$f":"IFERROR(IF(INDIRECT($A$14&ROW())<>\"\",COUNTIF([1]Summary!$B$30:$B$1029,INDIRECT($A$14&ROW())),\"\"),\"\")","v":""}]
[{"$f":"IFERROR(IF(INDIRECT($A$14&ROW())<>\"\",COUNTIF([1]Summary!$B$30:$B$1029,INDIRECT($A$14&ROW())),\"\"),\"\")","v":""}]
[{"$f":"IFERROR(IF(INDIRECT($A$14&ROW())<>\"\",COUNTIF([1]Summary!$B$30:$B$1029,INDIRECT($A$14&ROW())),\"\"),\"\")","v":""}]
[{"$f":"IFERROR(IF(INDIRECT($A$14&ROW())<>\"\",COUNTIF([1]Summary!$B$30:$B$1029,INDIRECT($A$14&ROW())),\"\"),\"\")","v":""}]
[{"$f":"IFERROR(IF(INDIRECT($A$14&ROW())<>\"\",COUNTIF([1]Summary!$B$30:$B$1029,INDIRECT($A$14&ROW())),\"\"),\"\")","v":""}]
[{"$f":"IFERROR(IF(INDIRECT($A$14&ROW())<>\"\",COUNTIF([1]Summary!$B$30:$B$1029,INDIRECT($A$14&ROW())),\"\"),\"\")","v":""}]
[{"$f":"IFERROR(IF(INDIRECT($A$14&ROW())<>\"\",COUNTIF([1]Summary!$B$30:$B$1029,INDIRECT($A$14&ROW())),\"\"),\"\")","v":""}]
[{"$f":"IFERROR(IF(INDIRECT($A$14&ROW())<>\"\",COUNTIF([1]Summary!$B$30:$B$1029,INDIRECT($A$14&ROW())),\"\"),\"\")","v":""}]
[{"$f":"IFERROR(IF(INDIRECT($A$14&ROW())<>\"\",COUNTIF([1]Summary!$B$30:$B$1029,INDIRECT($A$14&ROW())),\"\"),\"\")","v":""}]
[{"$f":"IFERROR(IF(INDIRECT($A$14&ROW())<>\"\",COUNTIF([1]Summary!$B$30:$B$1029,INDIRECT($A$14&ROW())),\"\"),\"\")","v":""}]
[{"$f":"IFERROR(IF(INDIRECT($A$14&ROW())<>\"\",COUNTIF([1]Summary!$B$30:$B$1029,INDIRECT($A$14&ROW())),\"\"),\"\")","v":""}]
[{"$f":"IFERROR(IF(INDIRECT($A$14&ROW())<>\"\",COUNTIF([1]Summary!$B$30:$B$1029,INDIRECT($A$14&ROW())),\"\"),\"\")","v":""}]
[{"$f":"IFERROR(IF(INDIRECT($A$14&ROW())<>\"\",COUNTIF([1]Summary!$B$30:$B$1029,INDIRECT($A$14&ROW())),\"\"),\"\")","v":""}]
[{"$f":"IFERROR(IF(INDIRECT($A$14&ROW())<>\"\",COUNTIF([1]Summary!$B$30:$B$1029,INDIRECT($A$14&ROW())),\"\"),\"\")","v":""}]
[{"$f":"IFERROR(IF(INDIRECT($A$14&ROW())<>\"\",COUNTIF([1]Summary!$B$30:$B$1029,INDIRECT($A$14&ROW())),\"\"),\"\")","v":""}]
[{"$f":"IFERROR(IF(INDIRECT($A$14&ROW())<>\"\",COUNTIF([1]Summary!$B$30:$B$1029,INDIRECT($A$14&ROW())),\"\"),\"\")","v":""}]
[{"$f":"IFERROR(IF(INDIRECT($A$14&ROW())<>\"\",COUNTIF([1]Summary!$B$30:$B$1029,INDIRECT($A$14&ROW())),\"\"),\"\")","v":""}]
[{"$f":"IFERROR(IF(INDIRECT($A$14&ROW())<>\"\",COUNTIF([1]Summary!$B$30:$B$1029,INDIRECT($A$14&ROW())),\"\"),\"\")","v":""}]
[{"$f":"IFERROR(IF(INDIRECT($A$14&ROW())<>\"\",COUNTIF([1]Summary!$B$30:$B$1029,INDIRECT($A$14&ROW())),\"\"),\"\")","v":""}]
[{"$f":"IFERROR(IF(INDIRECT($A$14&ROW())<>\"\",COUNTIF([1]Summary!$B$30:$B$1029,INDIRECT($A$14&ROW())),\"\"),\"\")","v":""}]
[{"$f":"IFERROR(IF(INDIRECT($A$14&ROW())<>\"\",COUNTIF([1]Summary!$B$30:$B$1029,INDIRECT($A$14&ROW())),\"\"),\"\")","v":""}]
[{"$f":"IFERROR(IF(INDIRECT($A$14&ROW())<>\"\",COUNTIF([1]Summary!$B$30:$B$1029,INDIRECT($A$14&ROW())),\"\"),\"\")","v":""}]
[{"$f":"IFERROR(IF(INDIRECT($A$14&ROW())<>\"\",COUNTIF([1]Summary!$B$30:$B$1029,INDIRECT($A$14&ROW())),\"\"),\"\")","v":""}]
[{"$f":"IFERROR(IF(INDIRECT($A$14&ROW())<>\"\",COUNTIF([1]Summary!$B$30:$B$1029,INDIRECT($A$14&ROW())),\"\"),\"\")","v":""}]
[{"$f":"IFERROR(IF(INDIRECT($A$14&ROW())<>\"\",COUNTIF([1]Summary!$B$30:$B$1029,INDIRECT($A$14&ROW())),\"\"),\"\")","v":""}]
[{"$f":"IFERROR(IF(INDIRECT($A$14&ROW())<>\"\",COUNTIF([1]Summary!$B$30:$B$1029,INDIRECT($A$14&ROW())),\"\"),\"\")","v":""}]
[{"$f":"IFERROR(IF(INDIRECT($A$14&ROW())<>\"\",COUNTIF([1]Summary!$B$30:$B$1029,INDIRECT($A$14&ROW())),\"\"),\"\")","v":""}]
[{"$f":"IFERROR(IF(INDIRECT($A$14&ROW())<>\"\",COUNTIF([1]Summary!$B$30:$B$1029,INDIRECT($A$14&ROW())),\"\"),\"\")","v":""}]
[{"$f":"IFERROR(IF(INDIRECT($A$14&ROW())<>\"\",COUNTIF([1]Summary!$B$30:$B$1029,INDIRECT($A$14&ROW())),\"\"),\"\")","v":""}]
[{"$f":"IFERROR(IF(INDIRECT($A$14&ROW())<>\"\",COUNTIF([1]Summary!$B$30:$B$1029,INDIRECT($A$14&ROW())),\"\"),\"\")","v":""}]
[{"$f":"IFERROR(IF(INDIRECT($A$14&ROW())<>\"\",COUNTIF([1]Summary!$B$30:$B$1029,INDIRECT($A$14&ROW())),\"\"),\"\")","v":""}]
[{"$f":"IFERROR(IF(INDIRECT($A$14&ROW())<>\"\",COUNTIF([1]Summary!$B$30:$B$1029,INDIRECT($A$14&ROW())),\"\"),\"\")","v":""}]
[{"$f":"IFERROR(IF(INDIRECT($A$14&ROW())<>\"\",COUNTIF([1]Summary!$B$30:$B$1029,INDIRECT($A$14&ROW())),\"\"),\"\")","v":""}]
[{"$f":"IFERROR(IF(INDIRECT($A$14&ROW())<>\"\",COUNTIF([1]Summary!$B$30:$B$1029,INDIRECT($A$14&ROW())),\"\"),\"\")","v":""}]
[{"$f":"IFERROR(IF(INDIRECT($A$14&ROW())<>\"\",COUNTIF([1]Summary!$B$30:$B$1029,INDIRECT($A$14&ROW())),\"\"),\"\")","v":""}]
[{"$f":"IFERROR(IF(INDIRECT($A$14&ROW())<>\"\",COUNTIF([1]Summary!$B$30:$B$1029,INDIRECT($A$14&ROW())),\"\"),\"\")","v":""}]
[{"$f":"IFERROR(IF(INDIRECT($A$14&ROW())<>\"\",COUNTIF([1]Summary!$B$30:$B$1029,INDIRECT($A$14&ROW())),\"\"),\"\")","v":""}]
[{"$f":"IFERROR(IF(INDIRECT($A$14&ROW())<>\"\",COUNTIF([1]Summary!$B$30:$B$1029,INDIRECT($A$14&ROW())),\"\"),\"\")","v":""}]
[{"$f":"IFERROR(IF(INDIRECT($A$14&ROW())<>\"\",COUNTIF([1]Summary!$B$30:$B$1029,INDIRECT($A$14&ROW())),\"\"),\"\")","v":""}]
[{"$f":"IFERROR(IF(INDIRECT($A$14&ROW())<>\"\",COUNTIF([1]Summary!$B$30:$B$1029,INDIRECT($A$14&ROW())),\"\"),\"\")","v":""}]
[{"$f":"IFERROR(IF(INDIRECT($A$14&ROW())<>\"\",COUNTIF([1]Summary!$B$30:$B$1029,INDIRECT($A$14&ROW())),\"\"),\"\")","v":""}]
[{"$f":"IFERROR(IF(INDIRECT($A$14&ROW())<>\"\",COUNTIF([1]Summary!$B$30:$B$1029,INDIRECT($A$14&ROW())),\"\"),\"\")","v":""}]
[{"$f":"IFERROR(IF(INDIRECT($A$14&ROW())<>\"\",COUNTIF([1]Summary!$B$30:$B$1029,INDIRECT($A$14&ROW())),\"\"),\"\")","v":""}]
[{"$f":"IFERROR(IF(INDIRECT($A$14&ROW())<>\"\",COUNTIF([1]Summary!$B$30:$B$1029,INDIRECT($A$14&ROW())),\"\"),\"\")","v":""}]
[{"$f":"IFERROR(IF(INDIRECT($A$14&ROW())<>\"\",COUNTIF([1]Summary!$B$30:$B$1029,INDIRECT($A$14&ROW())),\"\"),\"\")","v":""}]
[{"$f":"IFERROR(IF(INDIRECT($A$14&ROW())<>\"\",COUNTIF([1]Summary!$B$30:$B$1029,INDIRECT($A$14&ROW())),\"\"),\"\")","v":""}]
[{"$f":"IFERROR(IF(INDIRECT($A$14&ROW())<>\"\",COUNTIF([1]Summary!$B$30:$B$1029,INDIRECT($A$14&ROW())),\"\"),\"\")","v":""}]
[{"$f":"IFERROR(IF(INDIRECT($A$14&ROW())<>\"\",COUNTIF([1]Summary!$B$30:$B$1029,INDIRECT($A$14&ROW())),\"\"),\"\")","v":""}]
[{"$f":"IFERROR(IF(INDIRECT($A$14&ROW())<>\"\",COUNTIF([1]Summary!$B$30:$B$1029,INDIRECT($A$14&ROW())),\"\"),\"\")","v":""}]
[{"$f":"IFERROR(IF(INDIRECT($A$14&ROW())<>\"\",COUNTIF([1]Summary!$B$30:$B$1029,INDIRECT($A$14&ROW())),\"\"),\"\")","v":""}]
[{"$f":"IFERROR(IF(INDIRECT($A$14&ROW())<>\"\",COUNTIF([1]Summary!$B$30:$B$1029,INDIRECT($A$14&ROW())),\"\"),\"\")","v":""}]
[{"$f":"IFERROR(IF(INDIRECT($A$14&ROW())<>\"\",COUNTIF([1]Summary!$B$30:$B$1029,INDIRECT($A$14&ROW())),\"\"),\"\")","v":""}]
[{"$f":"IFERROR(IF(INDIRECT($A$14&ROW())<>\"\",COUNTIF([1]Summary!$B$30:$B$1029,INDIRECT($A$14&ROW())),\"\"),\"\")","v":""}]
[{"$f":"IFERROR(IF(INDIRECT($A$14&ROW())<>\"\",COUNTIF([1]Summary!$B$30:$B$1029,INDIRECT($A$14&ROW())),\"\"),\"\")","v":""}]
[{"$f":"IFERROR(IF(INDIRECT($A$14&ROW())<>\"\",COUNTIF([1]Summary!$B$30:$B$1029,INDIRECT($A$14&ROW())),\"\"),\"\")","v":""}]
[{"$f":"IFERROR(IF(INDIRECT($A$14&ROW())<>\"\",COUNTIF([1]Summary!$B$30:$B$1029,INDIRECT($A$14&ROW())),\"\"),\"\")","v":""}]
[{"$f":"IFERROR(IF(INDIRECT($A$14&ROW())<>\"\",COUNTIF([1]Summary!$B$30:$B$1029,INDIRECT($A$14&ROW())),\"\"),\"\")","v":""}]
[{"$f":"IFERROR(IF(INDIRECT($A$14&ROW())<>\"\",COUNTIF([1]Summary!$B$30:$B$1029,INDIRECT($A$14&ROW())),\"\"),\"\")","v":""}]
[{"$f":"IFERROR(IF(INDIRECT($A$14&ROW())<>\"\",COUNTIF([1]Summary!$B$30:$B$1029,INDIRECT($A$14&ROW())),\"\"),\"\")","v":""}]
[{"$f":"IFERROR(IF(INDIRECT($A$14&ROW())<>\"\",COUNTIF([1]Summary!$B$30:$B$1029,INDIRECT($A$14&ROW())),\"\"),\"\")","v":""}]
[{"$f":"IFERROR(IF(INDIRECT($A$14&ROW())<>\"\",COUNTIF([1]Summary!$B$30:$B$1029,INDIRECT($A$14&ROW())),\"\"),\"\")","v":""}]
[{"$f":"IFERROR(IF(INDIRECT($A$14&ROW())<>\"\",COUNTIF([1]Summary!$B$30:$B$1029,INDIRECT($A$14&ROW())),\"\"),\"\")","v":""}]
[{"$f":"IFERROR(IF(INDIRECT($A$14&ROW())<>\"\",COUNTIF([1]Summary!$B$30:$B$1029,INDIRECT($A$14&ROW())),\"\"),\"\")","v":""}]
[{"$f":"IFERROR(IF(INDIRECT($A$14&ROW())<>\"\",COUNTIF([1]Summary!$B$30:$B$1029,INDIRECT($A$14&ROW())),\"\"),\"\")","v":""}]
[{"$f":"IFERROR(IF(INDIRECT($A$14&ROW())<>\"\",COUNTIF([1]Summary!$B$30:$B$1029,INDIRECT($A$14&ROW())),\"\"),\"\")","v":""}]
[{"$f":"IFERROR(IF(INDIRECT($A$14&ROW())<>\"\",COUNTIF([1]Summary!$B$30:$B$1029,INDIRECT($A$14&ROW())),\"\"),\"\")","v":""}]
[{"$f":"IFERROR(IF(INDIRECT($A$14&ROW())<>\"\",COUNTIF([1]Summary!$B$30:$B$1029,INDIRECT($A$14&ROW())),\"\"),\"\")","v":""}]
[{"$f":"IFERROR(IF(INDIRECT($A$14&ROW())<>\"\",COUNTIF([1]Summary!$B$30:$B$1029,INDIRECT($A$14&ROW())),\"\"),\"\")","v":""}]
[{"$f":"IFERROR(IF(INDIRECT($A$14&ROW())<>\"\",COUNTIF([1]Summary!$B$30:$B$1029,INDIRECT($A$14&ROW())),\"\"),\"\")","v":""}]
[{"$f":"IFERROR(IF(INDIRECT($A$14&ROW())<>\"\",COUNTIF([1]Summary!$B$30:$B$1029,INDIRECT($A$14&ROW())),\"\"),\"\")","v":""}]
[{"$f":"IFERROR(IF(INDIRECT($A$14&ROW())<>\"\",COUNTIF([1]Summary!$B$30:$B$1029,INDIRECT($A$14&ROW())),\"\"),\"\")","v":""}]
[{"$f":"IFERROR(IF(INDIRECT($A$14&ROW())<>\"\",COUNTIF([1]Summary!$B$30:$B$1029,INDIRECT($A$14&ROW())),\"\"),\"\")","v":""}]
[{"$f":"IFERROR(IF(INDIRECT($A$14&ROW())<>\"\",COUNTIF([1]Summary!$B$30:$B$1029,INDIRECT($A$14&ROW())),\"\"),\"\")","v":""}]
[{"$f":"IFERROR(IF(INDIRECT($A$14&ROW())<>\"\",COUNTIF([1]Summary!$B$30:$B$1029,INDIRECT($A$14&ROW())),\"\"),\"\")","v":""}]
[{"$f":"IFERROR(IF(INDIRECT($A$14&ROW())<>\"\",COUNTIF([1]Summary!$B$30:$B$1029,INDIRECT($A$14&ROW())),\"\"),\"\")","v":""}]
[{"$f":"IFERROR(IF(INDIRECT($A$14&ROW())<>\"\",COUNTIF([1]Summary!$B$30:$B$1029,INDIRECT($A$14&ROW())),\"\"),\"\")","v":""}]
[{"$f":"IFERROR(IF(INDIRECT($A$14&ROW())<>\"\",COUNTIF([1]Summary!$B$30:$B$1029,INDIRECT($A$14&ROW())),\"\"),\"\")","v":""}]
[{"$f":"IFERROR(IF(INDIRECT($A$14&ROW())<>\"\",COUNTIF([1]Summary!$B$30:$B$1029,INDIRECT($A$14&ROW())),\"\"),\"\")","v":""}]
[{"$f":"IFERROR(IF(INDIRECT($A$14&ROW())<>\"\",COUNTIF([1]Summary!$B$30:$B$1029,INDIRECT($A$14&ROW())),\"\"),\"\")","v":""}]
[{"$f":"IFERROR(IF(INDIRECT($A$14&ROW())<>\"\",COUNTIF([1]Summary!$B$30:$B$1029,INDIRECT($A$14&ROW())),\"\"),\"\")","v":""}]
[{"$f":"IFERROR(IF(INDIRECT($A$14&ROW())<>\"\",COUNTIF([1]Summary!$B$30:$B$1029,INDIRECT($A$14&ROW())),\"\"),\"\")","v":""}]
[{"$f":"IFERROR(IF(INDIRECT($A$14&ROW())<>\"\",COUNTIF([1]Summary!$B$30:$B$1029,INDIRECT($A$14&ROW())),\"\"),\"\")","v":""}]
[{"$f":"IFERROR(IF(INDIRECT($A$14&ROW())<>\"\",COUNTIF([1]Summary!$B$30:$B$1029,INDIRECT($A$14&ROW())),\"\"),\"\")","v":""}]
[{"$f":"IFERROR(IF(INDIRECT($A$14&ROW())<>\"\",COUNTIF([1]Summary!$B$30:$B$1029,INDIRECT($A$14&ROW())),\"\"),\"\")","v":""}]
[{"$f":"IFERROR(IF(INDIRECT($A$14&ROW())<>\"\",COUNTIF([1]Summary!$B$30:$B$1029,INDIRECT($A$14&ROW())),\"\"),\"\")","v":""}]
[{"$f":"IFERROR(IF(INDIRECT($A$14&ROW())<>\"\",COUNTIF([1]Summary!$B$30:$B$1029,INDIRECT($A$14&ROW())),\"\"),\"\")","v":""}]
[{"$f":"IFERROR(IF(INDIRECT($A$14&ROW())<>\"\",COUNTIF([1]Summary!$B$30:$B$1029,INDIRECT($A$14&ROW())),\"\"),\"\")","v":""}]
[{"$f":"IFERROR(IF(INDIRECT($A$14&ROW())<>\"\",COUNTIF([1]Summary!$B$30:$B$1029,INDIRECT($A$14&ROW())),\"\"),\"\")","v":""}]
[{"$f":"IFERROR(IF(INDIRECT($A$14&ROW())<>\"\",COUNTIF([1]Summary!$B$30:$B$1029,INDIRECT($A$14&ROW())),\"\"),\"\")","v":""}]
[{"$f":"IFERROR(IF(INDIRECT($A$14&ROW())<>\"\",COUNTIF([1]Summary!$B$30:$B$1029,INDIRECT($A$14&ROW())),\"\"),\"\")","v":""}]
[{"$f":"IFERROR(IF(INDIRECT($A$14&ROW())<>\"\",COUNTIF([1]Summary!$B$30:$B$1029,INDIRECT($A$14&ROW())),\"\"),\"\")","v":""}]
[{"$f":"IFERROR(IF(INDIRECT($A$14&ROW())<>\"\",COUNTIF([1]Summary!$B$30:$B$1029,INDIRECT($A$14&ROW())),\"\"),\"\")","v":""}]
[{"$f":"IFERROR(IF(INDIRECT($A$14&ROW())<>\"\",COUNTIF([1]Summary!$B$30:$B$1029,INDIRECT($A$14&ROW())),\"\"),\"\")","v":""}]
[{"$f":"IFERROR(IF(INDIRECT($A$14&ROW())<>\"\",COUNTIF([1]Summary!$B$30:$B$1029,INDIRECT($A$14&ROW())),\"\"),\"\")","v":""}]
[{"$f":"IFERROR(IF(INDIRECT($A$14&ROW())<>\"\",COUNTIF([1]Summary!$B$30:$B$1029,INDIRECT($A$14&ROW())),\"\"),\"\")","v":""}]
[{"$f":"IFERROR(IF(INDIRECT($A$14&ROW())<>\"\",COUNTIF([1]Summary!$B$30:$B$1029,INDIRECT($A$14&ROW())),\"\"),\"\")","v":""}]
[{"$f":"IFERROR(IF(INDIRECT($A$14&ROW())<>\"\",COUNTIF([1]Summary!$B$30:$B$1029,INDIRECT($A$14&ROW())),\"\"),\"\")","v":""}]
[{"$f":"IFERROR(IF(INDIRECT($A$14&ROW())<>\"\",COUNTIF([1]Summary!$B$30:$B$1029,INDIRECT($A$14&ROW())),\"\"),\"\")","v":""}]
[{"$f":"IFERROR(IF(INDIRECT($A$14&ROW())<>\"\",COUNTIF([1]Summary!$B$30:$B$1029,INDIRECT($A$14&ROW())),\"\"),\"\")","v":""}]
[{"$f":"IFERROR(IF(INDIRECT($A$14&ROW())<>\"\",COUNTIF([1]Summary!$B$30:$B$1029,INDIRECT($A$14&ROW())),\"\"),\"\")","v":""}]
[{"$f":"IFERROR(IF(INDIRECT($A$14&ROW())<>\"\",COUNTIF([1]Summary!$B$30:$B$1029,INDIRECT($A$14&ROW())),\"\"),\"\")","v":""}]
[{"$f":"IFERROR(IF(INDIRECT($A$14&ROW())<>\"\",COUNTIF([1]Summary!$B$30:$B$1029,INDIRECT($A$14&ROW())),\"\"),\"\")","v":""}]
[{"$f":"IFERROR(IF(INDIRECT($A$14&ROW())<>\"\",COUNTIF([1]Summary!$B$30:$B$1029,INDIRECT($A$14&ROW())),\"\"),\"\")","v":""}]
[{"$f":"IFERROR(IF(INDIRECT($A$14&ROW())<>\"\",COUNTIF([1]Summary!$B$30:$B$1029,INDIRECT($A$14&ROW())),\"\"),\"\")","v":""}]
[{"$f":"IFERROR(IF(INDIRECT($A$14&ROW())<>\"\",COUNTIF([1]Summary!$B$30:$B$1029,INDIRECT($A$14&ROW())),\"\"),\"\")","v":""}]
[{"$f":"IFERROR(IF(INDIRECT($A$14&ROW())<>\"\",COUNTIF([1]Summary!$B$30:$B$1029,INDIRECT($A$14&ROW())),\"\"),\"\")","v":""}]
[{"$f":"IFERROR(IF(INDIRECT($A$14&ROW())<>\"\",COUNTIF([1]Summary!$B$30:$B$1029,INDIRECT($A$14&ROW())),\"\"),\"\")","v":""}]
[{"$f":"IFERROR(IF(INDIRECT($A$14&ROW())<>\"\",COUNTIF([1]Summary!$B$30:$B$1029,INDIRECT($A$14&ROW())),\"\"),\"\")","v":""}]
[{"$f":"IFERROR(IF(INDIRECT($A$14&ROW())<>\"\",COUNTIF([1]Summary!$B$30:$B$1029,INDIRECT($A$14&ROW())),\"\"),\"\")","v":""}]
[{"$f":"IFERROR(IF(INDIRECT($A$14&ROW())<>\"\",COUNTIF([1]Summary!$B$30:$B$1029,INDIRECT($A$14&ROW())),\"\"),\"\")","v":""}]
[{"$f":"IFERROR(IF(INDIRECT($A$14&ROW())<>\"\",COUNTIF([1]Summary!$B$30:$B$1029,INDIRECT($A$14&ROW())),\"\"),\"\")","v":""}]
[{"$f":"IFERROR(IF(INDIRECT($A$14&ROW())<>\"\",COUNTIF([1]Summary!$B$30:$B$1029,INDIRECT($A$14&ROW())),\"\"),\"\")","v":""}]
[{"$f":"IFERROR(IF(INDIRECT($A$14&ROW())<>\"\",COUNTIF([1]Summary!$B$30:$B$1029,INDIRECT($A$14&ROW())),\"\"),\"\")","v":""}]
[{"$f":"IFERROR(IF(INDIRECT($A$14&ROW())<>\"\",COUNTIF([1]Summary!$B$30:$B$1029,INDIRECT($A$14&ROW())),\"\"),\"\")","v":""}]
[{"$f":"IFERROR(IF(INDIRECT($A$14&ROW())<>\"\",COUNTIF([1]Summary!$B$30:$B$1029,INDIRECT($A$14&ROW())),\"\"),\"\")","v":""}]
[{"$f":"IFERROR(IF(INDIRECT($A$14&ROW())<>\"\",COUNTIF([1]Summary!$B$30:$B$1029,INDIRECT($A$14&ROW())),\"\"),\"\")","v":""}]
[{"$f":"IFERROR(IF(INDIRECT($A$14&ROW())<>\"\",COUNTIF([1]Summary!$B$30:$B$1029,INDIRECT($A$14&ROW())),\"\"),\"\")","v":""}]
[{"$f":"IFERROR(IF(INDIRECT($A$14&ROW())<>\"\",COUNTIF([1]Summary!$B$30:$B$1029,INDIRECT($A$14&ROW())),\"\"),\"\")","v":""}]
[{"$f":"IFERROR(IF(INDIRECT($A$14&ROW())<>\"\",COUNTIF([1]Summary!$B$30:$B$1029,INDIRECT($A$14&ROW())),\"\"),\"\")","v":""}]
[{"$f":"IFERROR(IF(INDIRECT($A$14&ROW())<>\"\",COUNTIF([1]Summary!$B$30:$B$1029,INDIRECT($A$14&ROW())),\"\"),\"\")","v":""}]
[{"$f":"IFERROR(IF(INDIRECT($A$14&ROW())<>\"\",COUNTIF([1]Summary!$B$30:$B$1029,INDIRECT($A$14&ROW())),\"\"),\"\")","v":""}]
[{"$f":"IFERROR(IF(INDIRECT($A$14&ROW())<>\"\",COUNTIF([1]Summary!$B$30:$B$1029,INDIRECT($A$14&ROW())),\"\"),\"\")","v":""}]
[{"$f":"IFERROR(IF(INDIRECT($A$14&ROW())<>\"\",COUNTIF([1]Summary!$B$30:$B$1029,INDIRECT($A$14&ROW())),\"\"),\"\")","v":""}]
[{"$f":"IFERROR(IF(INDIRECT($A$14&ROW())<>\"\",COUNTIF([1]Summary!$B$30:$B$1029,INDIRECT($A$14&ROW())),\"\"),\"\")","v":""}]
[{"$f":"IFERROR(IF(INDIRECT($A$14&ROW())<>\"\",COUNTIF([1]Summary!$B$30:$B$1029,INDIRECT($A$14&ROW())),\"\"),\"\")","v":""}]
[{"$f":"IFERROR(IF(INDIRECT($A$14&ROW())<>\"\",COUNTIF([1]Summary!$B$30:$B$1029,INDIRECT($A$14&ROW())),\"\"),\"\")","v":""}]
[{"$f":"IFERROR(IF(INDIRECT($A$14&ROW())<>\"\",COUNTIF([1]Summary!$B$30:$B$1029,INDIRECT($A$14&ROW())),\"\"),\"\")","v":""}]
[{"$f":"IFERROR(IF(INDIRECT($A$14&ROW())<>\"\",COUNTIF([1]Summary!$B$30:$B$1029,INDIRECT($A$14&ROW())),\"\"),\"\")","v":""}]
[{"$f":"IFERROR(IF(INDIRECT($A$14&ROW())<>\"\",COUNTIF([1]Summary!$B$30:$B$1029,INDIRECT($A$14&ROW())),\"\"),\"\")","v":""}]
[{"$f":"IFERROR(IF(INDIRECT($A$14&ROW())<>\"\",COUNTIF([1]Summary!$B$30:$B$1029,INDIRECT($A$14&ROW())),\"\"),\"\")","v":""}]
[{"$f":"IFERROR(IF(INDIRECT($A$14&ROW())<>\"\",COUNTIF([1]Summary!$B$30:$B$1029,INDIRECT($A$14&ROW())),\"\"),\"\")","v":""}]
[{"$f":"IFERROR(IF(INDIRECT($A$14&ROW())<>\"\",COUNTIF([1]Summary!$B$30:$B$1029,INDIRECT($A$14&ROW())),\"\"),\"\")","v":""}]
[{"$f":"IFERROR(IF(INDIRECT($A$14&ROW())<>\"\",COUNTIF([1]Summary!$B$30:$B$1029,INDIRECT($A$14&ROW())),\"\"),\"\")","v":""}]
[{"$f":"IFERROR(IF(INDIRECT($A$14&ROW())<>\"\",COUNTIF([1]Summary!$B$30:$B$1029,INDIRECT($A$14&ROW())),\"\"),\"\")","v":""}]
[{"$f":"IFERROR(IF(INDIRECT($A$14&ROW())<>\"\",COUNTIF([1]Summary!$B$30:$B$1029,INDIRECT($A$14&ROW())),\"\"),\"\")","v":""}]
[{"$f":"IFERROR(IF(INDIRECT($A$14&ROW())<>\"\",COUNTIF([1]Summary!$B$30:$B$1029,INDIRECT($A$14&ROW())),\"\"),\"\")","v":""}]
[{"$f":"IFERROR(IF(INDIRECT($A$14&ROW())<>\"\",COUNTIF([1]Summary!$B$30:$B$1029,INDIRECT($A$14&ROW())),\"\"),\"\")","v":""}]
[{"$f":"IFERROR(IF(INDIRECT($A$14&ROW())<>\"\",COUNTIF([1]Summary!$B$30:$B$1029,INDIRECT($A$14&ROW())),\"\"),\"\")","v":""}]
[{"$f":"IFERROR(IF(INDIRECT($A$14&ROW())<>\"\",COUNTIF([1]Summary!$B$30:$B$1029,INDIRECT($A$14&ROW())),\"\"),\"\")","v":""}]
[{"$f":"IFERROR(IF(INDIRECT($A$14&ROW())<>\"\",COUNTIF([1]Summary!$B$30:$B$1029,INDIRECT($A$14&ROW())),\"\"),\"\")","v":""}]
[{"$f":"IFERROR(IF(INDIRECT($A$14&ROW())<>\"\",COUNTIF([1]Summary!$B$30:$B$1029,INDIRECT($A$14&ROW())),\"\"),\"\")","v":""}]
[{"$f":"IFERROR(IF(INDIRECT($A$14&ROW())<>\"\",COUNTIF([1]Summary!$B$30:$B$1029,INDIRECT($A$14&ROW())),\"\"),\"\")","v":""}]
[{"$f":"IFERROR(IF(INDIRECT($A$14&ROW())<>\"\",COUNTIF([1]Summary!$B$30:$B$1029,INDIRECT($A$14&ROW())),\"\"),\"\")","v":""}]
[{"$f":"IFERROR(IF(INDIRECT($A$14&ROW())<>\"\",COUNTIF([1]Summary!$B$30:$B$1029,INDIRECT($A$14&ROW())),\"\"),\"\")","v":""}]
[{"$f":"IFERROR(IF(INDIRECT($A$14&ROW())<>\"\",COUNTIF([1]Summary!$B$30:$B$1029,INDIRECT($A$14&ROW())),\"\"),\"\")","v":""}]
[{"$f":"IFERROR(IF(INDIRECT($A$14&ROW())<>\"\",COUNTIF([1]Summary!$B$30:$B$1029,INDIRECT($A$14&ROW())),\"\"),\"\")","v":""}]
[{"$f":"IFERROR(IF(INDIRECT($A$14&ROW())<>\"\",COUNTIF([1]Summary!$B$30:$B$1029,INDIRECT($A$14&ROW())),\"\"),\"\")","v":""}]
[{"$f":"IFERROR(IF(INDIRECT($A$14&ROW())<>\"\",COUNTIF([1]Summary!$B$30:$B$1029,INDIRECT($A$14&ROW())),\"\"),\"\")","v":""}]
[{"$f":"IFERROR(IF(INDIRECT($A$14&ROW())<>\"\",COUNTIF([1]Summary!$B$30:$B$1029,INDIRECT($A$14&ROW())),\"\"),\"\")","v":""}]
[{"$f":"IFERROR(IF(INDIRECT($A$14&ROW())<>\"\",COUNTIF([1]Summary!$B$30:$B$1029,INDIRECT($A$14&ROW())),\"\"),\"\")","v":""}]
[{"$f":"IFERROR(IF(INDIRECT($A$14&ROW())<>\"\",COUNTIF([1]Summary!$B$30:$B$1029,INDIRECT($A$14&ROW())),\"\"),\"\")","v":""}]
[{"$f":"IFERROR(IF(INDIRECT($A$14&ROW())<>\"\",COUNTIF([1]Summary!$B$30:$B$1029,INDIRECT($A$14&ROW())),\"\"),\"\")","v":""}]
[{"$f":"IFERROR(IF(INDIRECT($A$14&ROW())<>\"\",COUNTIF([1]Summary!$B$30:$B$1029,INDIRECT($A$14&ROW())),\"\"),\"\")","v":""}]
[{"$f":"IFERROR(IF(INDIRECT($A$14&ROW())<>\"\",COUNTIF([1]Summary!$B$30:$B$1029,INDIRECT($A$14&ROW())),\"\"),\"\")","v":""}]
[{"$f":"IFERROR(IF(INDIRECT($A$14&ROW())<>\"\",COUNTIF([1]Summary!$B$30:$B$1029,INDIRECT($A$14&ROW())),\"\"),\"\")","v":""}]
[{"$f":"IFERROR(IF(INDIRECT($A$14&ROW())<>\"\",COUNTIF([1]Summary!$B$30:$B$1029,INDIRECT($A$14&ROW())),\"\"),\"\")","v":""}]
[{"$f":"IFERROR(IF(INDIRECT($A$14&ROW())<>\"\",COUNTIF([1]Summary!$B$30:$B$1029,INDIRECT($A$14&ROW())),\"\"),\"\")","v":""}]
[{"$f":"IFERROR(IF(INDIRECT($A$14&ROW())<>\"\",COUNTIF([1]Summary!$B$30:$B$1029,INDIRECT($A$14&ROW())),\"\"),\"\")","v":""}]
[{"$f":"IFERROR(IF(INDIRECT($A$14&ROW())<>\"\",COUNTIF([1]Summary!$B$30:$B$1029,INDIRECT($A$14&ROW())),\"\"),\"\")","v":""}]
[{"$f":"IFERROR(IF(INDIRECT($A$14&ROW())<>\"\",COUNTIF([1]Summary!$B$30:$B$1029,INDIRECT($A$14&ROW())),\"\"),\"\")","v":""}]
[{"$f":"IFERROR(IF(INDIRECT($A$14&ROW())<>\"\",COUNTIF([1]Summary!$B$30:$B$1029,INDIRECT($A$14&ROW())),\"\"),\"\")","v":""}]
[{"$f":"IFERROR(IF(INDIRECT($A$14&ROW())<>\"\",COUNTIF([1]Summary!$B$30:$B$1029,INDIRECT($A$14&ROW())),\"\"),\"\")","v":""}]
[{"$f":"IFERROR(IF(INDIRECT($A$14&ROW())<>\"\",COUNTIF([1]Summary!$B$30:$B$1029,INDIRECT($A$14&ROW())),\"\"),\"\")","v":""}]
[{"$f":"IFERROR(IF(INDIRECT($A$14&ROW())<>\"\",COUNTIF([1]Summary!$B$30:$B$1029,INDIRECT($A$14&ROW())),\"\"),\"\")","v":""}]
[{"$f":"IFERROR(IF(INDIRECT($A$14&ROW())<>\"\",COUNTIF([1]Summary!$B$30:$B$1029,INDIRECT($A$14&ROW())),\"\"),\"\")","v":""}]
[{"$f":"IFERROR(IF(INDIRECT($A$14&ROW())<>\"\",COUNTIF([1]Summary!$B$30:$B$1029,INDIRECT($A$14&ROW())),\"\"),\"\")","v":""}]
[{"$f":"IFERROR(IF(INDIRECT($A$14&ROW())<>\"\",COUNTIF([1]Summary!$B$30:$B$1029,INDIRECT($A$14&ROW())),\"\"),\"\")","v":""}]
[{"$f":"IFERROR(IF(INDIRECT($A$14&ROW())<>\"\",COUNTIF([1]Summary!$B$30:$B$1029,INDIRECT($A$14&ROW())),\"\"),\"\")","v":""}]
[{"$f":"IFERROR(IF(INDIRECT($A$14&ROW())<>\"\",COUNTIF([1]Summary!$B$30:$B$1029,INDIRECT($A$14&ROW())),\"\"),\"\")","v":""}]
[{"$f":"IFERROR(IF(INDIRECT($A$14&ROW())<>\"\",COUNTIF([1]Summary!$B$30:$B$1029,INDIRECT($A$14&ROW())),\"\"),\"\")","v":""}]
[{"$f":"IFERROR(IF(INDIRECT($A$14&ROW())<>\"\",COUNTIF([1]Summary!$B$30:$B$1029,INDIRECT($A$14&ROW())),\"\"),\"\")","v":""}]
[{"$f":"IFERROR(IF(INDIRECT($A$14&ROW())<>\"\",COUNTIF([1]Summary!$B$30:$B$1029,INDIRECT($A$14&ROW())),\"\"),\"\")","v":""}]
[{"$f":"IFERROR(IF(INDIRECT($A$14&ROW())<>\"\",COUNTIF([1]Summary!$B$30:$B$1029,INDIRECT($A$14&ROW())),\"\"),\"\")","v":""}]
[{"$f":"IFERROR(IF(INDIRECT($A$14&ROW())<>\"\",COUNTIF([1]Summary!$B$30:$B$1029,INDIRECT($A$14&ROW())),\"\"),\"\")","v":""}]
[{"$f":"IFERROR(IF(INDIRECT($A$14&ROW())<>\"\",COUNTIF([1]Summary!$B$30:$B$1029,INDIRECT($A$14&ROW())),\"\"),\"\")","v":""}]
[{"$f":"IFERROR(IF(INDIRECT($A$14&ROW())<>\"\",COUNTIF([1]Summary!$B$30:$B$1029,INDIRECT($A$14&ROW())),\"\"),\"\")","v":""}]
[{"$f":"IFERROR(IF(INDIRECT($A$14&ROW())<>\"\",COUNTIF([1]Summary!$B$30:$B$1029,INDIRECT($A$14&ROW())),\"\"),\"\")","v":""}]
[{"$f":"IFERROR(IF(INDIRECT($A$14&ROW())<>\"\",COUNTIF([1]Summary!$B$30:$B$1029,INDIRECT($A$14&ROW())),\"\"),\"\")","v":""}]
[{"$f":"IFERROR(IF(INDIRECT($A$14&ROW())<>\"\",COUNTIF([1]Summary!$B$30:$B$1029,INDIRECT($A$14&ROW())),\"\"),\"\")","v":""}]
[{"$f":"IFERROR(IF(INDIRECT($A$14&ROW())<>\"\",COUNTIF([1]Summary!$B$30:$B$1029,INDIRECT($A$14&ROW())),\"\"),\"\")","v":""}]
[{"$f":"IFERROR(IF(INDIRECT($A$14&ROW())<>\"\",COUNTIF([1]Summary!$B$30:$B$1029,INDIRECT($A$14&ROW())),\"\"),\"\")","v":""}]
[{"$f":"IFERROR(IF(INDIRECT($A$14&ROW())<>\"\",COUNTIF([1]Summary!$B$30:$B$1029,INDIRECT($A$14&ROW())),\"\"),\"\")","v":""}]
[{"$f":"IFERROR(IF(INDIRECT($A$14&ROW())<>\"\",COUNTIF([1]Summary!$B$30:$B$1029,INDIRECT($A$14&ROW())),\"\"),\"\")","v":""}]
[{"$f":"IFERROR(IF(INDIRECT($A$14&ROW())<>\"\",COUNTIF([1]Summary!$B$30:$B$1029,INDIRECT($A$14&ROW())),\"\"),\"\")","v":""}]
[{"$f":"IFERROR(IF(INDIRECT($A$14&ROW())<>\"\",COUNTIF([1]Summary!$B$30:$B$1029,INDIRECT($A$14&ROW())),\"\"),\"\")","v":""}]
[{"$f":"IFERROR(IF(INDIRECT($A$14&ROW())<>\"\",COUNTIF([1]Summary!$B$30:$B$1029,INDIRECT($A$14&ROW())),\"\"),\"\")","v":""}]
[{"$f":"IFERROR(IF(INDIRECT($A$14&ROW())<>\"\",COUNTIF([1]Summary!$B$30:$B$1029,INDIRECT($A$14&ROW())),\"\"),\"\")","v":""}]
[{"$f":"IFERROR(IF(INDIRECT($A$14&ROW())<>\"\",COUNTIF([1]Summary!$B$30:$B$1029,INDIRECT($A$14&ROW())),\"\"),\"\")","v":""}]
[{"$f":"IFERROR(IF(INDIRECT($A$14&ROW())<>\"\",COUNTIF([1]Summary!$B$30:$B$1029,INDIRECT($A$14&ROW())),\"\"),\"\")","v":""}]
[{"$f":"IFERROR(IF(INDIRECT($A$14&ROW())<>\"\",COUNTIF([1]Summary!$B$30:$B$1029,INDIRECT($A$14&ROW())),\"\"),\"\")","v":""}]
[{"$f":"IFERROR(IF(INDIRECT($A$14&ROW())<>\"\",COUNTIF([1]Summary!$B$30:$B$1029,INDIRECT($A$14&ROW())),\"\"),\"\")","v":""}]
[{"$f":"IFERROR(IF(INDIRECT($A$14&ROW())<>\"\",COUNTIF([1]Summary!$B$30:$B$1029,INDIRECT($A$14&ROW())),\"\"),\"\")","v":""}]
[{"$f":"IFERROR(IF(INDIRECT($A$14&ROW())<>\"\",COUNTIF([1]Summary!$B$30:$B$1029,INDIRECT($A$14&ROW())),\"\"),\"\")","v":""}]
[{"$f":"IFERROR(IF(INDIRECT($A$14&ROW())<>\"\",COUNTIF([1]Summary!$B$30:$B$1029,INDIRECT($A$14&ROW())),\"\"),\"\")","v":""}]
[{"$f":"IFERROR(IF(INDIRECT($A$14&ROW())<>\"\",COUNTIF([1]Summary!$B$30:$B$1029,INDIRECT($A$14&ROW())),\"\"),\"\")","v":""}]
[{"$f":"IFERROR(IF(INDIRECT($A$14&ROW())<>\"\",COUNTIF([1]Summary!$B$30:$B$1029,INDIRECT($A$14&ROW())),\"\"),\"\")","v":""}]
[{"$f":"IFERROR(IF(INDIRECT($A$14&ROW())<>\"\",COUNTIF([1]Summary!$B$30:$B$1029,INDIRECT($A$14&ROW())),\"\"),\"\")","v":""}]
[{"$f":"IFERROR(IF(INDIRECT($A$14&ROW())<>\"\",COUNTIF([1]Summary!$B$30:$B$1029,INDIRECT($A$14&ROW())),\"\"),\"\")","v":""}]
[{"$f":"IFERROR(IF(INDIRECT($A$14&ROW())<>\"\",COUNTIF([1]Summary!$B$30:$B$1029,INDIRECT($A$14&ROW())),\"\"),\"\")","v":""}]
[{"$f":"IFERROR(IF(INDIRECT($A$14&ROW())<>\"\",COUNTIF([1]Summary!$B$30:$B$1029,INDIRECT($A$14&ROW())),\"\"),\"\")","v":""}]
[{"$f":"IFERROR(IF(INDIRECT($A$14&ROW())<>\"\",COUNTIF([1]Summary!$B$30:$B$1029,INDIRECT($A$14&ROW())),\"\"),\"\")","v":""}]
[{"$f":"IFERROR(IF(INDIRECT($A$14&ROW())<>\"\",COUNTIF([1]Summary!$B$30:$B$1029,INDIRECT($A$14&ROW())),\"\"),\"\")","v":""}]
[{"$f":"IFERROR(IF(INDIRECT($A$14&ROW())<>\"\",COUNTIF([1]Summary!$B$30:$B$1029,INDIRECT($A$14&ROW())),\"\"),\"\")","v":""}]
[{"$f":"IFERROR(IF(INDIRECT($A$14&ROW())<>\"\",COUNTIF([1]Summary!$B$30:$B$1029,INDIRECT($A$14&ROW())),\"\"),\"\")","v":""}]
[{"$f":"IFERROR(IF(INDIRECT($A$14&ROW())<>\"\",COUNTIF([1]Summary!$B$30:$B$1029,INDIRECT($A$14&ROW())),\"\"),\"\")","v":""}]
[{"$f":"IFERROR(IF(INDIRECT($A$14&ROW())<>\"\",COUNTIF([1]Summary!$B$30:$B$1029,INDIRECT($A$14&ROW())),\"\"),\"\")","v":""}]
[{"$f":"IFERROR(IF(INDIRECT($A$14&ROW())<>\"\",COUNTIF([1]Summary!$B$30:$B$1029,INDIRECT($A$14&ROW())),\"\"),\"\")","v":""}]
[{"$f":"IFERROR(IF(INDIRECT($A$14&ROW())<>\"\",COUNTIF([1]Summary!$B$30:$B$1029,INDIRECT($A$14&ROW())),\"\"),\"\")","v":""}]
[{"$f":"IFERROR(IF(INDIRECT($A$14&ROW())<>\"\",COUNTIF([1]Summary!$B$30:$B$1029,INDIRECT($A$14&ROW())),\"\"),\"\")","v":""}]
[{"$f":"IFERROR(IF(INDIRECT($A$14&ROW())<>\"\",COUNTIF([1]Summary!$B$30:$B$1029,INDIRECT($A$14&ROW())),\"\"),\"\")","v":""}]
[{"$f":"IFERROR(IF(INDIRECT($A$14&ROW())<>\"\",COUNTIF([1]Summary!$B$30:$B$1029,INDIRECT($A$14&ROW())),\"\"),\"\")","v":""}]
[{"$f":"IFERROR(IF(INDIRECT($A$14&ROW())<>\"\",COUNTIF([1]Summary!$B$30:$B$1029,INDIRECT($A$14&ROW())),\"\"),\"\")","v":""}]
[{"$f":"IFERROR(IF(INDIRECT($A$14&ROW())<>\"\",COUNTIF([1]Summary!$B$30:$B$1029,INDIRECT($A$14&ROW())),\"\"),\"\")","v":""}]
[{"$f":"IFERROR(IF(INDIRECT($A$14&ROW())<>\"\",COUNTIF([1]Summary!$B$30:$B$1029,INDIRECT($A$14&ROW())),\"\"),\"\")","v":""}]
[{"$f":"IFERROR(IF(INDIRECT($A$14&ROW())<>\"\",COUNTIF([1]Summary!$B$30:$B$1029,INDIRECT($A$14&ROW())),\"\"),\"\")","v":""}]
[{"$f":"IFERROR(IF(INDIRECT($A$14&ROW())<>\"\",COUNTIF([1]Summary!$B$30:$B$1029,INDIRECT($A$14&ROW())),\"\"),\"\")","v":""}]
[{"$f":"IFERROR(IF(INDIRECT($A$14&ROW())<>\"\",COUNTIF([1]Summary!$B$30:$B$1029,INDIRECT($A$14&ROW())),\"\"),\"\")","v":""}]
[{"$f":"IFERROR(IF(INDIRECT($A$14&ROW())<>\"\",COUNTIF([1]Summary!$B$30:$B$1029,INDIRECT($A$14&ROW())),\"\"),\"\")","v":""}]
[{"$f":"IFERROR(IF(INDIRECT($A$14&ROW())<>\"\",COUNTIF([1]Summary!$B$30:$B$1029,INDIRECT($A$14&ROW())),\"\"),\"\")","v":""}]
[{"$f":"IFERROR(IF(INDIRECT($A$14&ROW())<>\"\",COUNTIF([1]Summary!$B$30:$B$1029,INDIRECT($A$14&ROW())),\"\"),\"\")","v":""}]
[{"$f":"IFERROR(IF(INDIRECT($A$14&ROW())<>\"\",COUNTIF([1]Summary!$B$30:$B$1029,INDIRECT($A$14&ROW())),\"\"),\"\")","v":""}]
[{"$f":"IFERROR(IF(INDIRECT($A$14&ROW())<>\"\",COUNTIF([1]Summary!$B$30:$B$1029,INDIRECT($A$14&ROW())),\"\"),\"\")","v":""}]
[{"$f":"IFERROR(IF(INDIRECT($A$14&ROW())<>\"\",COUNTIF([1]Summary!$B$30:$B$1029,INDIRECT($A$14&ROW())),\"\"),\"\")","v":""}]
[{"$f":"IFERROR(IF(INDIRECT($A$14&ROW())<>\"\",COUNTIF([1]Summary!$B$30:$B$1029,INDIRECT($A$14&ROW())),\"\"),\"\")","v":""}]
[{"$f":"IFERROR(IF(INDIRECT($A$14&ROW())<>\"\",COUNTIF([1]Summary!$B$30:$B$1029,INDIRECT($A$14&ROW())),\"\"),\"\")","v":""}]
[{"$f":"IFERROR(IF(INDIRECT($A$14&ROW())<>\"\",COUNTIF([1]Summary!$B$30:$B$1029,INDIRECT($A$14&ROW())),\"\"),\"\")","v":""}]
[{"$f":"IFERROR(IF(INDIRECT($A$14&ROW())<>\"\",COUNTIF([1]Summary!$B$30:$B$1029,INDIRECT($A$14&ROW())),\"\"),\"\")","v":""}]
[{"$f":"IFERROR(IF(INDIRECT($A$14&ROW())<>\"\",COUNTIF([1]Summary!$B$30:$B$1029,INDIRECT($A$14&ROW())),\"\"),\"\")","v":""}]
[{"$f":"IFERROR(IF(INDIRECT($A$14&ROW())<>\"\",COUNTIF([1]Summary!$B$30:$B$1029,INDIRECT($A$14&ROW())),\"\"),\"\")","v":""}]
[{"$f":"IFERROR(IF(INDIRECT($A$14&ROW())<>\"\",COUNTIF([1]Summary!$B$30:$B$1029,INDIRECT($A$14&ROW())),\"\"),\"\")","v":""}]
[{"$f":"IFERROR(IF(INDIRECT($A$14&ROW())<>\"\",COUNTIF([1]Summary!$B$30:$B$1029,INDIRECT($A$14&ROW())),\"\"),\"\")","v":""}]
[{"$f":"IFERROR(IF(INDIRECT($A$14&ROW())<>\"\",COUNTIF([1]Summary!$B$30:$B$1029,INDIRECT($A$14&ROW())),\"\"),\"\")","v":""}]
[{"$f":"IFERROR(IF(INDIRECT($A$14&ROW())<>\"\",COUNTIF([1]Summary!$B$30:$B$1029,INDIRECT($A$14&ROW())),\"\"),\"\")","v":""}]
[{"$f":"IFERROR(IF(INDIRECT($A$14&ROW())<>\"\",COUNTIF([1]Summary!$B$30:$B$1029,INDIRECT($A$14&ROW())),\"\"),\"\")","v":""}]
[{"$f":"IFERROR(IF(INDIRECT($A$14&ROW())<>\"\",COUNTIF([1]Summary!$B$30:$B$1029,INDIRECT($A$14&ROW())),\"\"),\"\")","v":""}]
[{"$f":"IFERROR(IF(INDIRECT($A$14&ROW())<>\"\",COUNTIF([1]Summary!$B$30:$B$1029,INDIRECT($A$14&ROW())),\"\"),\"\")","v":""}]
[{"$f":"IFERROR(IF(INDIRECT($A$14&ROW())<>\"\",COUNTIF([1]Summary!$B$30:$B$1029,INDIRECT($A$14&ROW())),\"\"),\"\")","v":""}]
[{"$f":"IFERROR(IF(INDIRECT($A$14&ROW())<>\"\",COUNTIF([1]Summary!$B$30:$B$1029,INDIRECT($A$14&ROW())),\"\"),\"\")","v":""}]
[{"$f":"IFERROR(IF(INDIRECT($A$14&ROW())<>\"\",COUNTIF([1]Summary!$B$30:$B$1029,INDIRECT($A$14&ROW())),\"\"),\"\")","v":""}]
[{"$f":"IFERROR(IF(INDIRECT($A$14&ROW())<>\"\",COUNTIF([1]Summary!$B$30:$B$1029,INDIRECT($A$14&ROW())),\"\"),\"\")","v":""}]
[{"$f":"IFERROR(IF(INDIRECT($A$14&ROW())<>\"\",COUNTIF([1]Summary!$B$30:$B$1029,INDIRECT($A$14&ROW())),\"\"),\"\")","v":""}]
[{"$f":"IFERROR(IF(INDIRECT($A$14&ROW())<>\"\",COUNTIF([1]Summary!$B$30:$B$1029,INDIRECT($A$14&ROW())),\"\"),\"\")","v":""}]
[{"$f":"IFERROR(IF(INDIRECT($A$14&ROW())<>\"\",COUNTIF([1]Summary!$B$30:$B$1029,INDIRECT($A$14&ROW())),\"\"),\"\")","v":""}]
[{"$f":"IFERROR(IF(INDIRECT($A$14&ROW())<>\"\",COUNTIF([1]Summary!$B$30:$B$1029,INDIRECT($A$14&ROW())),\"\"),\"\")","v":""}]
[{"$f":"IFERROR(IF(INDIRECT($A$14&ROW())<>\"\",COUNTIF([1]Summary!$B$30:$B$1029,INDIRECT($A$14&ROW())),\"\"),\"\")","v":""}]
[{"$f":"IFERROR(IF(INDIRECT($A$14&ROW())<>\"\",COUNTIF([1]Summary!$B$30:$B$1029,INDIRECT($A$14&ROW())),\"\"),\"\")","v":""}]
[{"$f":"IFERROR(IF(INDIRECT($A$14&ROW())<>\"\",COUNTIF([1]Summary!$B$30:$B$1029,INDIRECT($A$14&ROW())),\"\"),\"\")","v":""}]
[{"$f":"IFERROR(IF(INDIRECT($A$14&ROW())<>\"\",COUNTIF([1]Summary!$B$30:$B$1029,INDIRECT($A$14&ROW())),\"\"),\"\")","v":""}]
[{"$f":"IFERROR(IF(INDIRECT($A$14&ROW())<>\"\",COUNTIF([1]Summary!$B$30:$B$1029,INDIRECT($A$14&ROW())),\"\"),\"\")","v":""}]
[{"$f":"IFERROR(IF(INDIRECT($A$14&ROW())<>\"\",COUNTIF([1]Summary!$B$30:$B$1029,INDIRECT($A$14&ROW())),\"\"),\"\")","v":""}]
[{"$f":"IFERROR(IF(INDIRECT($A$14&ROW())<>\"\",COUNTIF([1]Summary!$B$30:$B$1029,INDIRECT($A$14&ROW())),\"\"),\"\")","v":""}]
[{"$f":"IFERROR(IF(INDIRECT($A$14&ROW())<>\"\",COUNTIF([1]Summary!$B$30:$B$1029,INDIRECT($A$14&ROW())),\"\"),\"\")","v":""}]
[{"$f":"IFERROR(IF(INDIRECT($A$14&ROW())<>\"\",COUNTIF([1]Summary!$B$30:$B$1029,INDIRECT($A$14&ROW())),\"\"),\"\")","v":""}]
[{"$f":"IFERROR(IF(INDIRECT($A$14&ROW())<>\"\",COUNTIF([1]Summary!$B$30:$B$1029,INDIRECT($A$14&ROW())),\"\"),\"\")","v":""}]
[{"$f":"IFERROR(IF(INDIRECT($A$14&ROW())<>\"\",COUNTIF([1]Summary!$B$30:$B$1029,INDIRECT($A$14&ROW())),\"\"),\"\")","v":""}]
[{"$f":"IFERROR(IF(INDIRECT($A$14&ROW())<>\"\",COUNTIF([1]Summary!$B$30:$B$1029,INDIRECT($A$14&ROW())),\"\"),\"\")","v":""}]
[{"$f":"IFERROR(IF(INDIRECT($A$14&ROW())<>\"\",COUNTIF([1]Summary!$B$30:$B$1029,INDIRECT($A$14&ROW())),\"\"),\"\")","v":""}]
[{"$f":"IFERROR(IF(INDIRECT($A$14&ROW())<>\"\",COUNTIF([1]Summary!$B$30:$B$1029,INDIRECT($A$14&ROW())),\"\"),\"\")","v":""}]
[{"$f":"IFERROR(IF(INDIRECT($A$14&ROW())<>\"\",COUNTIF([1]Summary!$B$30:$B$1029,INDIRECT($A$14&ROW())),\"\"),\"\")","v":""}]
[{"$f":"IFERROR(IF(INDIRECT($A$14&ROW())<>\"\",COUNTIF([1]Summary!$B$30:$B$1029,INDIRECT($A$14&ROW())),\"\"),\"\")","v":""}]
[{"$f":"IFERROR(IF(INDIRECT($A$14&ROW())<>\"\",COUNTIF([1]Summary!$B$30:$B$1029,INDIRECT($A$14&ROW())),\"\"),\"\")","v":""}]
[{"$f":"IFERROR(IF(INDIRECT($A$14&ROW())<>\"\",COUNTIF([1]Summary!$B$30:$B$1029,INDIRECT($A$14&ROW())),\"\"),\"\")","v":""}]
[{"$f":"IFERROR(IF(INDIRECT($A$14&ROW())<>\"\",COUNTIF([1]Summary!$B$30:$B$1029,INDIRECT($A$14&ROW())),\"\"),\"\")","v":""}]
[{"$f":"IFERROR(IF(INDIRECT($A$14&ROW())<>\"\",COUNTIF([1]Summary!$B$30:$B$1029,INDIRECT($A$14&ROW())),\"\"),\"\")","v":""}]
[{"$f":"IFERROR(IF(INDIRECT($A$14&ROW())<>\"\",COUNTIF([1]Summary!$B$30:$B$1029,INDIRECT($A$14&ROW())),\"\"),\"\")","v":""}]
[{"$f":"IFERROR(IF(INDIRECT($A$14&ROW())<>\"\",COUNTIF([1]Summary!$B$30:$B$1029,INDIRECT($A$14&ROW())),\"\"),\"\")","v":""}]
[{"$f":"IFERROR(IF(INDIRECT($A$14&ROW())<>\"\",COUNTIF([1]Summary!$B$30:$B$1029,INDIRECT($A$14&ROW())),\"\"),\"\")","v":""}]
[{"$f":"IFERROR(IF(INDIRECT($A$14&ROW())<>\"\",COUNTIF([1]Summary!$B$30:$B$1029,INDIRECT($A$14&ROW())),\"\"),\"\")","v":""}]
[{"$f":"IFERROR(IF(INDIRECT($A$14&ROW())<>\"\",COUNTIF([1]Summary!$B$30:$B$1029,INDIRECT($A$14&ROW())),\"\"),\"\")","v":""}]
[{"$f":"IFERROR(IF(INDIRECT($A$14&ROW())<>\"\",COUNTIF([1]Summary!$B$30:$B$1029,INDIRECT($A$14&ROW())),\"\"),\"\")","v":""}]
[{"$f":"IFERROR(IF(INDIRECT($A$14&ROW())<>\"\",COUNTIF([1]Summary!$B$30:$B$1029,INDIRECT($A$14&ROW())),\"\"),\"\")","v":""}]
[{"$f":"IFERROR(IF(INDIRECT($A$14&ROW())<>\"\",COUNTIF([1]Summary!$B$30:$B$1029,INDIRECT($A$14&ROW())),\"\"),\"\")","v":""}]
[{"$f":"IFERROR(IF(INDIRECT($A$14&ROW())<>\"\",COUNTIF([1]Summary!$B$30:$B$1029,INDIRECT($A$14&ROW())),\"\"),\"\")","v":""}]
[{"$f":"IFERROR(IF(INDIRECT($A$14&ROW())<>\"\",COUNTIF([1]Summary!$B$30:$B$1029,INDIRECT($A$14&ROW())),\"\"),\"\")","v":""}]
[{"$f":"IFERROR(IF(INDIRECT($A$14&ROW())<>\"\",COUNTIF([1]Summary!$B$30:$B$1029,INDIRECT($A$14&ROW())),\"\"),\"\")","v":""}]
[{"$f":"IFERROR(IF(INDIRECT($A$14&ROW())<>\"\",COUNTIF([1]Summary!$B$30:$B$1029,INDIRECT($A$14&ROW())),\"\"),\"\")","v":""}]
[{"$f":"IFERROR(IF(INDIRECT($A$14&ROW())<>\"\",COUNTIF([1]Summary!$B$30:$B$1029,INDIRECT($A$14&ROW())),\"\"),\"\")","v":""}]
[{"$f":"IFERROR(IF(INDIRECT($A$14&ROW())<>\"\",COUNTIF([1]Summary!$B$30:$B$1029,INDIRECT($A$14&ROW())),\"\"),\"\")","v":""}]
[{"$f":"IFERROR(IF(INDIRECT($A$14&ROW())<>\"\",COUNTIF([1]Summary!$B$30:$B$1029,INDIRECT($A$14&ROW())),\"\"),\"\")","v":""}]
[{"$f":"IFERROR(IF(INDIRECT($A$14&ROW())<>\"\",COUNTIF([1]Summary!$B$30:$B$1029,INDIRECT($A$14&ROW())),\"\"),\"\")","v":""}]
[{"$f":"IFERROR(IF(INDIRECT($A$14&ROW())<>\"\",COUNTIF([1]Summary!$B$30:$B$1029,INDIRECT($A$14&ROW())),\"\"),\"\")","v":""}]
[{"$f":"IFERROR(IF(INDIRECT($A$14&ROW())<>\"\",COUNTIF([1]Summary!$B$30:$B$1029,INDIRECT($A$14&ROW())),\"\"),\"\")","v":""}]
[{"$f":"IFERROR(IF(INDIRECT($A$14&ROW())<>\"\",COUNTIF([1]Summary!$B$30:$B$1029,INDIRECT($A$14&ROW())),\"\"),\"\")","v":""}]
[{"$f":"IFERROR(IF(INDIRECT($A$14&ROW())<>\"\",COUNTIF([1]Summary!$B$30:$B$1029,INDIRECT($A$14&ROW())),\"\"),\"\")","v":""}]
[{"$f":"IFERROR(IF(INDIRECT($A$14&ROW())<>\"\",COUNTIF([1]Summary!$B$30:$B$1029,INDIRECT($A$14&ROW())),\"\"),\"\")","v":""}]
[{"$f":"IFERROR(IF(INDIRECT($A$14&ROW())<>\"\",COUNTIF([1]Summary!$B$30:$B$1029,INDIRECT($A$14&ROW())),\"\"),\"\")","v":""}]
[{"$f":"IFERROR(IF(INDIRECT($A$14&ROW())<>\"\",COUNTIF([1]Summary!$B$30:$B$1029,INDIRECT($A$14&ROW())),\"\"),\"\")","v":""}]
[{"$f":"IFERROR(IF(INDIRECT($A$14&ROW())<>\"\",COUNTIF([1]Summary!$B$30:$B$1029,INDIRECT($A$14&ROW())),\"\"),\"\")","v":""}]
[{"$f":"IFERROR(IF(INDIRECT($A$14&ROW())<>\"\",COUNTIF([1]Summary!$B$30:$B$1029,INDIRECT($A$14&ROW())),\"\"),\"\")","v":""}]
[{"$f":"IFERROR(IF(INDIRECT($A$14&ROW())<>\"\",COUNTIF([1]Summary!$B$30:$B$1029,INDIRECT($A$14&ROW())),\"\"),\"\")","v":""}]
[{"$f":"IFERROR(IF(INDIRECT($A$14&ROW())<>\"\",COUNTIF([1]Summary!$B$30:$B$1029,INDIRECT($A$14&ROW())),\"\"),\"\")","v":""}]
[{"$f":"IFERROR(IF(INDIRECT($A$14&ROW())<>\"\",COUNTIF([1]Summary!$B$30:$B$1029,INDIRECT($A$14&ROW())),\"\"),\"\")","v":""}]
[{"$f":"IFERROR(IF(INDIRECT($A$14&ROW())<>\"\",COUNTIF([1]Summary!$B$30:$B$1029,INDIRECT($A$14&ROW())),\"\"),\"\")","v":""}]
[{"$f":"IFERROR(IF(INDIRECT($A$14&ROW())<>\"\",COUNTIF([1]Summary!$B$30:$B$1029,INDIRECT($A$14&ROW())),\"\"),\"\")","v":""}]
[{"$f":"IFERROR(IF(INDIRECT($A$14&ROW())<>\"\",COUNTIF([1]Summary!$B$30:$B$1029,INDIRECT($A$14&ROW())),\"\"),\"\")","v":""}]
[{"$f":"IFERROR(IF(INDIRECT($A$14&ROW())<>\"\",COUNTIF([1]Summary!$B$30:$B$1029,INDIRECT($A$14&ROW())),\"\"),\"\")","v":""}]
[{"$f":"IFERROR(IF(INDIRECT($A$14&ROW())<>\"\",COUNTIF([1]Summary!$B$30:$B$1029,INDIRECT($A$14&ROW())),\"\"),\"\")","v":""}]
[{"$f":"IFERROR(IF(INDIRECT($A$14&ROW())<>\"\",COUNTIF([1]Summary!$B$30:$B$1029,INDIRECT($A$14&ROW())),\"\"),\"\")","v":""}]
[{"$f":"IFERROR(IF(INDIRECT($A$14&ROW())<>\"\",COUNTIF([1]Summary!$B$30:$B$1029,INDIRECT($A$14&ROW())),\"\"),\"\")","v":""}]
[{"$f":"IFERROR(IF(INDIRECT($A$14&ROW())<>\"\",COUNTIF([1]Summary!$B$30:$B$1029,INDIRECT($A$14&ROW())),\"\"),\"\")","v":""}]
[{"$f":"IFERROR(IF(INDIRECT($A$14&ROW())<>\"\",COUNTIF([1]Summary!$B$30:$B$1029,INDIRECT($A$14&ROW())),\"\"),\"\")","v":""}]
[{"$f":"IFERROR(IF(INDIRECT($A$14&ROW())<>\"\",COUNTIF([1]Summary!$B$30:$B$1029,INDIRECT($A$14&ROW())),\"\"),\"\")","v":""}]
[{"$f":"IFERROR(IF(INDIRECT($A$14&ROW())<>\"\",COUNTIF([1]Summary!$B$30:$B$1029,INDIRECT($A$14&ROW())),\"\"),\"\")","v":""}]
[{"$f":"IFERROR(IF(INDIRECT($A$14&ROW())<>\"\",COUNTIF([1]Summary!$B$30:$B$1029,INDIRECT($A$14&ROW())),\"\"),\"\")","v":""}]
[{"$f":"IFERROR(IF(INDIRECT($A$14&ROW())<>\"\",COUNTIF([1]Summary!$B$30:$B$1029,INDIRECT($A$14&ROW())),\"\"),\"\")","v":""}]
[{"$f":"IFERROR(IF(INDIRECT($A$14&ROW())<>\"\",COUNTIF([1]Summary!$B$30:$B$1029,INDIRECT($A$14&ROW())),\"\"),\"\")","v":""}]
[{"$f":"IFERROR(IF(INDIRECT($A$14&ROW())<>\"\",COUNTIF([1]Summary!$B$30:$B$1029,INDIRECT($A$14&ROW())),\"\"),\"\")","v":""}]
[{"$f":"IFERROR(IF(INDIRECT($A$14&ROW())<>\"\",COUNTIF([1]Summary!$B$30:$B$1029,INDIRECT($A$14&ROW())),\"\"),\"\")","v":""}]
[{"$f":"IFERROR(IF(INDIRECT($A$14&ROW())<>\"\",COUNTIF([1]Summary!$B$30:$B$1029,INDIRECT($A$14&ROW())),\"\"),\"\")","v":""}]
[{"$f":"IFERROR(IF(INDIRECT($A$14&ROW())<>\"\",COUNTIF([1]Summary!$B$30:$B$1029,INDIRECT($A$14&ROW())),\"\"),\"\")","v":""}]
[{"$f":"IFERROR(IF(INDIRECT($A$14&ROW())<>\"\",COUNTIF([1]Summary!$B$30:$B$1029,INDIRECT($A$14&ROW())),\"\"),\"\")","v":""}]
[{"$f":"IFERROR(IF(INDIRECT($A$14&ROW())<>\"\",COUNTIF([1]Summary!$B$30:$B$1029,INDIRECT($A$14&ROW())),\"\"),\"\")","v":""}]
[{"$f":"IFERROR(IF(INDIRECT($A$14&ROW())<>\"\",COUNTIF([1]Summary!$B$30:$B$1029,INDIRECT($A$14&ROW())),\"\"),\"\")","v":""}]
[{"$f":"IFERROR(IF(INDIRECT($A$14&ROW())<>\"\",COUNTIF([1]Summary!$B$30:$B$1029,INDIRECT($A$14&ROW())),\"\"),\"\")","v":""}]
[{"$f":"IFERROR(IF(INDIRECT($A$14&ROW())<>\"\",COUNTIF([1]Summary!$B$30:$B$1029,INDIRECT($A$14&ROW())),\"\"),\"\")","v":""}]
[{"$f":"IFERROR(IF(INDIRECT($A$14&ROW())<>\"\",COUNTIF([1]Summary!$B$30:$B$1029,INDIRECT($A$14&ROW())),\"\"),\"\")","v":""}]
[{"$f":"IFERROR(IF(INDIRECT($A$14&ROW())<>\"\",COUNTIF([1]Summary!$B$30:$B$1029,INDIRECT($A$14&ROW())),\"\"),\"\")","v":""}]
[{"$f":"IFERROR(IF(INDIRECT($A$14&ROW())<>\"\",COUNTIF([1]Summary!$B$30:$B$1029,INDIRECT($A$14&ROW())),\"\"),\"\")","v":""}]
[{"$f":"IFERROR(IF(INDIRECT($A$14&ROW())<>\"\",COUNTIF([1]Summary!$B$30:$B$1029,INDIRECT($A$14&ROW())),\"\"),\"\")","v":""}]
[{"$f":"IFERROR(IF(INDIRECT($A$14&ROW())<>\"\",COUNTIF([1]Summary!$B$30:$B$1029,INDIRECT($A$14&ROW())),\"\"),\"\")","v":""}]
[{"$f":"IFERROR(IF(INDIRECT($A$14&ROW())<>\"\",COUNTIF([1]Summary!$B$30:$B$1029,INDIRECT($A$14&ROW())),\"\"),\"\")","v":""}]
[{"$f":"IFERROR(IF(INDIRECT($A$14&ROW())<>\"\",COUNTIF([1]Summary!$B$30:$B$1029,INDIRECT($A$14&ROW())),\"\"),\"\")","v":""}]
[{"$f":"IFERROR(IF(INDIRECT($A$14&ROW())<>\"\",COUNTIF([1]Summary!$B$30:$B$1029,INDIRECT($A$14&ROW())),\"\"),\"\")","v":""}]
[{"$f":"IFERROR(IF(INDIRECT($A$14&ROW())<>\"\",COUNTIF([1]Summary!$B$30:$B$1029,INDIRECT($A$14&ROW())),\"\"),\"\")","v":""}]
[{"$f":"IFERROR(IF(INDIRECT($A$14&ROW())<>\"\",COUNTIF([1]Summary!$B$30:$B$1029,INDIRECT($A$14&ROW())),\"\"),\"\")","v":""}]
[{"$f":"IFERROR(IF(INDIRECT($A$14&ROW())<>\"\",COUNTIF([1]Summary!$B$30:$B$1029,INDIRECT($A$14&ROW())),\"\"),\"\")","v":""}]
[{"$f":"IFERROR(IF(INDIRECT($A$14&ROW())<>\"\",COUNTIF([1]Summary!$B$30:$B$1029,INDIRECT($A$14&ROW())),\"\"),\"\")","v":""}]
[{"$f":"IFERROR(IF(INDIRECT($A$14&ROW())<>\"\",COUNTIF([1]Summary!$B$30:$B$1029,INDIRECT($A$14&ROW())),\"\"),\"\")","v":""}]
[{"$f":"IFERROR(IF(INDIRECT($A$14&ROW())<>\"\",COUNTIF([1]Summary!$B$30:$B$1029,INDIRECT($A$14&ROW())),\"\"),\"\")","v":""}]
[{"$f":"IFERROR(IF(INDIRECT($A$14&ROW())<>\"\",COUNTIF([1]Summary!$B$30:$B$1029,INDIRECT($A$14&ROW())),\"\"),\"\")","v":""}]
[{"$f":"IFERROR(IF(INDIRECT($A$14&ROW())<>\"\",COUNTIF([1]Summary!$B$30:$B$1029,INDIRECT($A$14&ROW())),\"\"),\"\")","v":""}]
[{"$f":"IFERROR(IF(INDIRECT($A$14&ROW())<>\"\",COUNTIF([1]Summary!$B$30:$B$1029,INDIRECT($A$14&ROW())),\"\"),\"\")","v":""}]
[{"$f":"IFERROR(IF(INDIRECT($A$14&ROW())<>\"\",COUNTIF([1]Summary!$B$30:$B$1029,INDIRECT($A$14&ROW())),\"\"),\"\")","v":""}]
[{"$f":"IFERROR(IF(INDIRECT($A$14&ROW())<>\"\",COUNTIF([1]Summary!$B$30:$B$1029,INDIRECT($A$14&ROW())),\"\"),\"\")","v":""}]
[{"$f":"IFERROR(IF(INDIRECT($A$14&ROW())<>\"\",COUNTIF([1]Summary!$B$30:$B$1029,INDIRECT($A$14&ROW())),\"\"),\"\")","v":""}]
[{"$f":"IFERROR(IF(INDIRECT($A$14&ROW())<>\"\",COUNTIF([1]Summary!$B$30:$B$1029,INDIRECT($A$14&ROW())),\"\"),\"\")","v":""}]
[{"$f":"IFERROR(IF(INDIRECT($A$14&ROW())<>\"\",COUNTIF([1]Summary!$B$30:$B$1029,INDIRECT($A$14&ROW())),\"\"),\"\")","v":""}]
[{"$f":"IFERROR(IF(INDIRECT($A$14&ROW())<>\"\",COUNTIF([1]Summary!$B$30:$B$1029,INDIRECT($A$14&ROW())),\"\"),\"\")","v":""}]
[{"$f":"IFERROR(IF(INDIRECT($A$14&ROW())<>\"\",COUNTIF([1]Summary!$B$30:$B$1029,INDIRECT($A$14&ROW())),\"\"),\"\")","v":""}]
[{"$f":"IFERROR(IF(INDIRECT($A$14&ROW())<>\"\",COUNTIF([1]Summary!$B$30:$B$1029,INDIRECT($A$14&ROW())),\"\"),\"\")","v":""}]
[{"$f":"IFERROR(IF(INDIRECT($A$14&ROW())<>\"\",COUNTIF([1]Summary!$B$30:$B$1029,INDIRECT($A$14&ROW())),\"\"),\"\")","v":""}]
[{"$f":"IFERROR(IF(INDIRECT($A$14&ROW())<>\"\",COUNTIF([1]Summary!$B$30:$B$1029,INDIRECT($A$14&ROW())),\"\"),\"\")","v":""}]
[{"$f":"IFERROR(IF(INDIRECT($A$14&ROW())<>\"\",COUNTIF([1]Summary!$B$30:$B$1029,INDIRECT($A$14&ROW())),\"\"),\"\")","v":""}]
[{"$f":"IFERROR(IF(INDIRECT($A$14&ROW())<>\"\",COUNTIF([1]Summary!$B$30:$B$1029,INDIRECT($A$14&ROW())),\"\"),\"\")","v":""}]
[{"$f":"IFERROR(IF(INDIRECT($A$14&ROW())<>\"\",COUNTIF([1]Summary!$B$30:$B$1029,INDIRECT($A$14&ROW())),\"\"),\"\")","v":""}]
[{"$f":"IFERROR(IF(INDIRECT($A$14&ROW())<>\"\",COUNTIF([1]Summary!$B$30:$B$1029,INDIRECT($A$14&ROW())),\"\"),\"\")","v":""}]
[{"$f":"IFERROR(IF(INDIRECT($A$14&ROW())<>\"\",COUNTIF([1]Summary!$B$30:$B$1029,INDIRECT($A$14&ROW())),\"\"),\"\")","v":""}]
[{"$f":"IFERROR(IF(INDIRECT($A$14&ROW())<>\"\",COUNTIF([1]Summary!$B$30:$B$1029,INDIRECT($A$14&ROW())),\"\"),\"\")","v":""}]
[{"$f":"IFERROR(IF(INDIRECT($A$14&ROW())<>\"\",COUNTIF([1]Summary!$B$30:$B$1029,INDIRECT($A$14&ROW())),\"\"),\"\")","v":""}]
[{"$f":"IFERROR(IF(INDIRECT($A$14&ROW())<>\"\",COUNTIF([1]Summary!$B$30:$B$1029,INDIRECT($A$14&ROW())),\"\"),\"\")","v":""}]
[{"$f":"IFERROR(IF(INDIRECT($A$14&ROW())<>\"\",COUNTIF([1]Summary!$B$30:$B$1029,INDIRECT($A$14&ROW())),\"\"),\"\")","v":""}]
[{"$f":"IFERROR(IF(INDIRECT($A$14&ROW())<>\"\",COUNTIF([1]Summary!$B$30:$B$1029,INDIRECT($A$14&ROW())),\"\"),\"\")","v":""}]
[{"$f":"IFERROR(IF(INDIRECT($A$14&ROW())<>\"\",COUNTIF([1]Summary!$B$30:$B$1029,INDIRECT($A$14&ROW())),\"\"),\"\")","v":""}]
[{"$f":"IFERROR(IF(INDIRECT($A$14&ROW())<>\"\",COUNTIF([1]Summary!$B$30:$B$1029,INDIRECT($A$14&ROW())),\"\"),\"\")","v":""}]
[{"$f":"IFERROR(IF(INDIRECT($A$14&ROW())<>\"\",COUNTIF([1]Summary!$B$30:$B$1029,INDIRECT($A$14&ROW())),\"\"),\"\")","v":""}]
[{"$f":"IFERROR(IF(INDIRECT($A$14&ROW())<>\"\",COUNTIF([1]Summary!$B$30:$B$1029,INDIRECT($A$14&ROW())),\"\"),\"\")","v":""}]
[{"$f":"IFERROR(IF(INDIRECT($A$14&ROW())<>\"\",COUNTIF([1]Summary!$B$30:$B$1029,INDIRECT($A$14&ROW())),\"\"),\"\")","v":""}]
[{"$f":"IFERROR(IF(INDIRECT($A$14&ROW())<>\"\",COUNTIF([1]Summary!$B$30:$B$1029,INDIRECT($A$14&ROW())),\"\"),\"\")","v":""}]
[{"$f":"IFERROR(IF(INDIRECT($A$14&ROW())<>\"\",COUNTIF([1]Summary!$B$30:$B$1029,INDIRECT($A$14&ROW())),\"\"),\"\")","v":""}]
[{"$f":"IFERROR(IF(INDIRECT($A$14&ROW())<>\"\",COUNTIF([1]Summary!$B$30:$B$1029,INDIRECT($A$14&ROW())),\"\"),\"\")","v":""}]
[{"$f":"IFERROR(IF(INDIRECT($A$14&ROW())<>\"\",COUNTIF([1]Summary!$B$30:$B$1029,INDIRECT($A$14&ROW())),\"\"),\"\")","v":""}]
[{"$f":"IFERROR(IF(INDIRECT($A$14&ROW())<>\"\",COUNTIF([1]Summary!$B$30:$B$1029,INDIRECT($A$14&ROW())),\"\"),\"\")","v":""}]
[]
[null,"Copyright © 2013 by Oracle Symphony Sdn Bhd"]

{"sheet":"STOCK ANALYSIS","index":3,"n_rows":75,"n_cols":19,"rows_kept":75,"cut":false,"hidden":false,"merged":[[17,18,18,18],[29,1,29,18],[21,1,21,18],[37,1,37,18],[54,1,54,2],[57,1,57,4],[6,3,6,4],[9,3,9,4],[55,1,55,4],[27,1,27,2],[35,1,35,2]]}
[]
[]
[null,null,"MONTHLY KITCHEN STOCK SUMMARY "]
[null,null,"每月厨房货物总结表"]
[]
[]
[null,null,"OUTLET KITCHEN ","TSU"]
[null,null,"分行厨房"]
[]
[null,null,"YEAR / MONTH","OCTOBER  2013",null,null,"W2 (07-13)"]
[null,null,"年/月"]
[]
[]
[]
[null,"ITEM","PRODUCT DESCRIPTION","PRICE","UOM","FOR TSU KITCHEN "]
[null,"项目","食材产品","价格","单位","A","B","C","D","E","F","G","H","I","J","K","L","M","N"]
[null,null,null,null,null,null,null,null,null,null,null,null,"=C+D+E+F+G","=A+B-H",null,"=J-I","=K / I","=UP*K","=K / H"]
[null,null,null,null,null,"OPENING","PURCHASE","USAGE ","USAGE ","DISPOSED","USAGE ","USAGE ","TOTAL","BOOKING","STOCK ","DIFF.","DIFF.","LOSS/GAIN","STOCK DIFF OVER USAGE"]
[null,null,null,null,null,"STOCK","购买数量","IN K LUNCH ","IN SIDE ORDER","STOCK","CUSTOMER REQ","IN OTHER ","USAGE ","INVENTORY","TAKE "]
[null,null,null,null,null,"上月存货",null,"K LUNCH 用量","附加菜 用量","本月抛弃","顾客请求","其他用途","总用量","账面存货","本月点货","差异","%差异","盈亏 (RM)","%"]
[]
[null,"MAIN SAUCE 主要酱料"]
[null,{"$f":"[2]Database!$B23","v":"S01"},"BLACK PEPPER SAUCE",1.8,"KG 公斤",3.7,8,{"$f":"SUMIF('SAUCE USAGE'!$F$11:$F$12,C23,'SAUCE USAGE'!$H$11:$H$12)/1000","v":6.51},{"$f":"SUMIF('SAUCE USAGE'!$F$36:$F$48,C23,'SAUCE USAGE'!$H$36:$H$48)/1000","v":0},null,{"$f":"SUMIF('SAUCE USAGE'!$F$15:$F$27,C23,'SAUCE USAGE'!$H$15:$H$27)/1000","v":0.06},null,{"$f":"SUM(H23:L23)","v":6.5699999999999994},{"$f":"+F23+G23-M23","v":5.13},1.1000000000000001,{"$f":"+O23-N23","v":-4.0299999999999994},{"$f":"IF(N23=0,\"\",P23/N23)","v":-0.78557504873294337},{"$f":"+O23*D23","v":1.9800000000000002},{"$f":"+P23/M23","v":-0.61339421613394207}]
[null,{"$f":"[2]Database!$B24","v":"S02"},"BUTTER SAUCE ",4.4000000000000004,"KG 公斤",3.9,5.6,{"$f":"SUMIF('SAUCE USAGE'!$F$30:$F$33,C24,'SAUCE USAGE'!$H$30:$H$33)/1000","v":2.46},{"$f":"SUMIF('SAUCE USAGE'!$F$36:$F$48,C24,'SAUCE USAGE'!$H$36:$H$48)/1000","v":2.64},null,{"$f":"SUMIF('SAUCE USAGE'!$F$15:$F$27,C24,'SAUCE USAGE'!$H$15:$H$27)/1000","v":0.24},null,{"$f":"SUM(H24:L24)","v":5.34},{"$f":"+F24+G24-M24","v":4.16},0.8,{"$f":"+O24-N24","v":-3.3600000000000003},-0.80769230769230771,{"$f":"+O24*D24","v":3.5200000000000005},{"$f":"+P24/M24","v":-0.62921348314606751}]
[null,{"$f":"[2]Database!$B25","v":"S03"},"MUSHROOM SAUCE",2.2999999999999998,"KG 公斤",2.5,12.8,{"$f":"SUMIF('SAUCE USAGE'!$F$11:$F$12,C25,'SAUCE USAGE'!$H$11:$H$12)/1000","v":9.5500000000000007},{"$f":"SUMIF('SAUCE USAGE'!$F$36:$F$48,C25,'SAUCE USAGE'!$H$36:$H$48)/1000","v":0},null,{"$f":"SUMIF('SAUCE USAGE'!$F$15:$F$27,C25,'SAUCE USAGE'!$H$15:$H$27)/1000","v":0.05},null,{"$f":"SUM(H25:L25)","v":9.6000000000000014},{"$f":"+F25+G25-M25","v":5.6999999999999993},4.3,-1.3999999999999995,-0.24561403508771923,{"$f":"+O25*D25","v":9.8899999999999988},-0.14583333333333326]
[]
[]
[null,"GRAND TOTAL ",null,null,null,null,null,null,null,null,null,null,null,null,null,null,null,{"$f":"SUM(R23:R27)","v":15.39}]
[]
[null,"MAIN COURSE MATERIAL 主餐食材"]
[null,1,"CHICKEN CHOP (MARINATED)",3,"PCS 片",207.5,700,{"$f":"SUMIF('K-LUNCH & K DINNER'!$O$10:$O$100,C31,'K-LUNCH & K DINNER'!$Q$10:$Q$100)","v":443},{"$f":"SUMIF('SIDE ORDER & FOC'!$Q$11:$S$118,C31,'SIDE ORDER & FOC'!$S$11:$S$118)","v":207},null,null,null,{"$f":"SUM(H31:L31)","v":650},{"$f":"+F31+G31-M31","v":257.5},240,{"$f":"+O31-N31","v":-17.5},{"$f":"IF(N31=0,\"\",P31/N31)","v":-6.7961165048543687E-2},{"$f":"+P31*D31","v":-52.5},{"$f":"+P31/M31","v":-2.6923076923076925E-2}]
[null,{"$f":"+B31+1","v":2},"CHICKEN WINGS (MARINATED)",1.2,"PCS 片",126,168,{"$f":"SUMIF('K-LUNCH & K DINNER'!$O$10:$O$100,C32,'K-LUNCH & K DINNER'!$Q$10:$Q$100)","v":33},{"$f":"SUMIF('SIDE ORDER & FOC'!$Q$11:$S$118,C32,'SIDE ORDER & FOC'!$S$11:$S$118)","v":126},null,null,null,{"$f":"SUM(H32:L32)","v":159},135,134,{"$f":"+O32-N32","v":-1},-7.4074074074074077E-3,{"$f":"+P32*D32","v":-1.2},{"$f":"+P32/M32","v":-6.2893081761006293E-3}]
[null,{"$f":"+B32+1","v":3},"FISH & CHIP ",2.73,"PCS 片",157.5,150,{"$f":"SUMIF('K-LUNCH & K DINNER'!$O$10:$O$100,C33,'K-LUNCH & K DINNER'!$Q$10:$Q$100)","v":141},{"$f":"SUMIF('SIDE ORDER & FOC'!$Q$11:$S$118,C33,'SIDE ORDER & FOC'!$S$11:$S$118)","v":45},null,null,null,186,121.5,120,-1.5,-1.2345679012345678E-2,-4.0949999999999998,-8.0645161290322578E-3]
[]
[]
[null,"GRAND TOTAL ",null,null,null,null,null,null,null,null,null,null,null,null,null,null,null,{"$f":"SUM(R31:R35)","v":-57.795000000000002}]
[]
[null,"SNACKS MATERIAL   小吃食材"]
[null,4,"MCCAIN ONION RING",0.17,"PCS 片",null,null,{"$f":"SUMIF('K-LUNCH & K DINNER'!$O$10:$O$100,C39,'K-LUNCH & K DINNER'!$Q$10:$Q$100)","v":32},{"$f":"SUMIF('SIDE ORDER & FOC'!$Q$11:$S$118,C39,'SIDE ORDER & FOC'!$S$11:$S$118)","v":184},null,null,null,216,{"$f":"+F39+G39-M39","v":-216},null,{"$f":"+O39-N39","v":216},-1,{"$f":"+P39*D39","v":36.720000000000006},{"$f":"+P39/M39","v":1}]
[null,5,"MCCAIN SMILES",0.12,"PCS 片",null,null,{"$f":"SUMIF('K-LUNCH & K DINNER'!$O$10:$O$100,C40,'K-LUNCH & K DINNER'!$Q$10:$Q$100)","v":16},{"$f":"SUMIF('SIDE ORDER & FOC'!$Q$11:$S$118,C40,'SIDE ORDER & FOC'!$S$11:$S$118)","v":88},null,null,null,104,-104,null,104,-1,{"$f":"+P40*D40","v":12.48},1]
[null,6,"MCCAIN VERSITOT",0.06,"PCS 片",null,null,{"$f":"SUMIF('K-LUNCH & K DINNER'!$O$10:$O$100,C41,'K-LUNCH & K DINNER'!$Q$10:$Q$100)","v":15},{"$f":"SUMIF('SIDE ORDER & FOC'!$Q$11:$S$118,C41,'SIDE ORDER & FOC'!$S$11:$S$118)","v":319},null,null,null,334,-334,null,334,-1,20.04,{"$f":"+P41/M41","v":1}]
[null,7,"MCCAIN SPIRAL FRIES",7.87,"KG 公斤",null,null,{"$f":"SUMIF('K-LUNCH & K DINNER'!$O$10:$O$100,C42,'K-LUNCH & K DINNER'!$Q$10:$Q$100)","v":3.96},{"$f":"SUMIF('SIDE ORDER & FOC'!$Q$11:$S$118,C42,'SIDE ORDER & FOC'!$S$11:$S$118)","v":4.7},null,null,null,8.66,-8.66,null,8.66,-1,68.154200000000003,1]
[null,8,"BBQ CHICKEN ",0.25,"PCS 片",null,null,{"$f":"SUMIF('K-LUNCH & K DINNER'!$O$10:$O$100,C43,'K-LUNCH & K DINNER'!$Q$10:$Q$100)","v":48},{"$f":"SUMIF('SIDE ORDER & FOC'!$Q$11:$S$118,C43,'SIDE ORDER & FOC'!$S$11:$S$118)","v":192},null,null,null,240,{"$f":"+F43+G43-M43","v":-240},null,{"$f":"+O43-N43","v":240},{"$f":"IF(N43=0,\"\",P43/N43)","v":-1},{"$f":"+P43*D43","v":60},1]
[null,7,"CHICKEN NUGGET",0.27,"PCS 片",null,null,{"$f":"SUMIF('K-LUNCH & K DINNER'!$O$10:$O$100,C44,'K-LUNCH & K DINNER'!$Q$10:$Q$100)","v":96},{"$f":"SUMIF('SIDE ORDER & FOC'!$Q$11:$S$118,C44,'SIDE ORDER & FOC'!$S$11:$S$118)","v":288},null,null,null,{"$f":"SUM(H44:L44)","v":384},-384,null,384,-1,103.68,1]
[null,10,"CHICKEN SAUSAGE ",1.17,"PCS 片",null,null,{"$f":"SUMIF('K-LUNCH & K DINNER'!$O$10:$O$100,C45,'K-LUNCH & K DINNER'!$Q$10:$Q$100)","v":10},{"$f":"SUMIF('SIDE ORDER & FOC'!$Q$11:$S$118,C45,'SIDE ORDER & FOC'!$S$11:$S$118)","v":53},null,null,null,63,-63,null,63,-1,73.709999999999994,1]
[null,11,"FISH BALL (SMALL)",0.2,"PCS 片",null,null,{"$f":"SUMIF('K-LUNCH & K DINNER'!$O$10:$O$100,C46,'K-LUNCH & K DINNER'!$Q$10:$Q$100)","v":24},{"$f":"SUMIF('SIDE ORDER & FOC'!$Q$11:$S$51,C46,'SIDE ORDER & FOC'!$S$11:$S$51)","v":160},null,null,null,184,-184,null,184,-1,36.800000000000004,1]
[null,12,"HOT DOG BUN ",0.4,"PCS 片",null,null,{"$f":"SUMIF('K-LUNCH & K DINNER'!$O$10:$O$100,C47,'K-LUNCH & K DINNER'!$Q$10:$Q$100)","v":6},{"$f":"SUMIF('SIDE ORDER & FOC'!$Q$11:$S$118,C47,'SIDE ORDER & FOC'!$S$11:$S$118)","v":8},null,null,null,14,-14,null,14,-1,5.6000000000000005,1]
[null,13,"SALAD ROLL ",0.45,"PCS 片",null,null,{"$f":"SUMIF('K-LUNCH & K DINNER'!$O$10:$O$100,C48,'K-LUNCH & K DINNER'!$Q$10:$Q$100)","v":16},{"$f":"SUMIF('SIDE ORDER & FOC'!$Q$11:$S$118,C48,'SIDE ORDER & FOC'!$S$11:$S$118)","v":56},null,null,null,72,-72,null,72,-1,32.4,1]
[null,14,"SEAFOOD TOFU ",0.26,"PCS 片",null,null,{"$f":"SUMIF('K-LUNCH & K DINNER'!$O$10:$O$100,C49,'K-LUNCH & K DINNER'!$Q$10:$Q$100)","v":24},{"$f":"SUMIF('SIDE ORDER & FOC'!$Q$11:$S$51,C49,'SIDE ORDER & FOC'!$S$11:$S$51)","v":168},null,null,null,192,-192,null,192,-1,49.92,1]
[null,15,"SPRING ROLL",0.4,"PCS 片",null,null,{"$f":"SUMIF('K-LUNCH & K DINNER'!$O$10:$O$100,C50,'K-LUNCH & K DINNER'!$Q$10:$Q$100)","v":12},{"$f":"SUMIF('SIDE ORDER & FOC'!$Q$11:$S$118,C50,'SIDE ORDER & FOC'!$S$11:$S$118)","v":32},null,null,null,44,-44,null,44,-1,17.600000000000001,1]
[]
[]
[]
[]
[null,"GRAND TOTAL ",null,null,null,null,null,null,null,null,null,null,null,null,null,null,null,{"$f":"SUM(R39:R54)","v":517.10419999999999}]
[null,"**exclude the usage for lok lok bar "]
[]
[null,"COMPARISON OF TOTAL LOSSES",null,null,null,null,null,null,null,null,"COMPARISON OF ACTUAL USAGE "]
[null,"NO","CATEGORIES",null,null,"JULY ","AUG","DIFF",null,null,"NO",null,null,null,null,"JULY ","AUG","DIFF"]
[null,null,null,null,null,"RM ","PCS","%",null,null,null,null,null,null,null,"PCS","PCS","%"]
[null,1,{"$f":"+B22","v":"MAIN SAUCE 主要酱料"},null,null,-207.36,{"$f":"+R28","v":15.39},{"$f":"(+G61-F61)/F61","v":-1.07421875},null,null,1,{"$f":"+C31","v":"CHICKEN CHOP (MARINATED)"},null,null,null,2078.5,{"$f":"+M31","v":650},{"$f":"(+Q61-P61)/P61","v":-0.68727447678614384}]
[null,2,{"$f":"+B30","v":"MAIN COURSE MATERIAL 主餐食材"},null,null,-197.14500000000001,{"$f":"+R36","v":-57.795000000000002},{"$f":"(+G62-F62)/F62","v":-0.70684014304192355},null,null,2,{"$f":"+C32","v":"CHICKEN WINGS (MARINATED)"},null,null,null,600,{"$f":"+M32","v":159},{"$f":"(+Q62-P62)/P62","v":-0.73499999999999999}]
[null,3,{"$f":"+B38","v":"SNACKS MATERIAL   小吃食材"},null,null,-201.74,{"$f":"+R55","v":517.10419999999999},-3.5632209774957864,null,null,3,{"$f":"+C33","v":"FISH & CHIP "},null,null,null,667.5,{"$f":"+M33","v":186},-0.72134831460674154]
[null,null,null,null,null,null,null,null,null,null,{"$f":"+K63+1","v":4},{"$f":"+C39","v":"MCCAIN ONION RING"},null,null,null,800,1080,0.35]
[null,null,null,null,null,null,null,null,null,null,{"$f":"+K64+1","v":5},"MCCAIN SMILES",null,null,null,364,474,0.30219780219780218]
[null,null,null,null,null,null,null,null,null,null,6,"MCCAIN VERSITOT",null,null,null,953,1275,0.33788037775445962]
[null,null,null,null,null,null,null,null,null,null,7,"MCCAIN SPIRAL FRIES",null,null,null,20.48,24.36,0.18945312499999994]
[null,null,null,null,null,null,null,null,null,null,8,"BBQ CHICKEN ",null,null,null,376,632,0.68085106382978722]
[null,null,null,null,null,null,null,null,null,null,9,"CHICKEN NUGGET",null,null,null,1414,1780,0.25884016973125884]
[null,null,null,null,null,null,null,null,null,null,10,"CHICKEN SAUSAGE ",null,null,null,212,312,0.47169811320754718]
[null,null,null,null,null,null,null,null,null,null,11,"FISH BALL (SMALL)",null,null,null,906,1302,0.4370860927152318]
[null,null,null,null,null,null,null,null,null,null,12,"HOT DOG BUN ",null,null,null,20,49,1.45]
[null,null,null,null,null,null,null,null,null,null,13,"SALAD ROLL ",null,null,null,294,257,-0.12585034013605442]
[null,null,null,null,null,null,null,null,null,null,14,"SEAFOOD TOFU ",null,null,null,1118,1125,6.2611806797853312E-3]
[null,null,null,null,null,null,null,null,null,null,15,"SPRING ROLL",null,null,null,160,200,0.25]

{"sheet":"K-LUNCH & K DINNER","index":4,"n_rows":39,"n_cols":18,"rows_kept":39,"cut":false,"hidden":false,"merged":[[38,0,38,2],[5,15,5,16],[0,0,0,11],[2,4,2,8],[5,3,5,4],[5,7,5,8],[5,10,5,11]]}
["MONTHLY SALES FOOD RECORD ( K LUNCH & K DINNER)"]
[]
["Outlet :","TSU OUTLET "]
["Month :","2013-10-01"]
[]
[null,null,null,"K-LUNCH",null,null,null,"K-DINNER",null,null,"TOTAL COST",null,null,null,null,"USAGE"]
["NO","Item","Cost","Sales","TOTAL",null,"Item","Sales","TOTAL",null,"Sales","TOTAL",null,null,"MATERIAL ","RECIPE","TOTAL"]
[null,null,"RM","Q","RM",null,null,"Q","RM",null,"Q","RM",null,null,"Q","Q","Q"]
[]
[1,"11601:L -C01-泰式鸡饭",{"$f":"SUMIF('DATABASE '!$B$4:$B$33,'K-LUNCH & K DINNER'!B10,'DATABASE '!$C$4:$C$30)","v":2.7},{"$f":"VLOOKUP(B10,Summary!$B$30:$AK$374,5,FALSE)","v":43},{"$f":"D10*C10","v":116.10000000000001},null,"11701:D -C01-泰式鸡饭",{"$f":"VLOOKUP(G10,[3]Summary!$B$30:$AK$349,5,FALSE)","v":0},{"$f":"H10*C10","v":0},null,{"$f":"D10+H10","v":43},{"$f":"K10*C10","v":116.10000000000001},null,null,"CHICKEN CHOP (MARINATED)",0.5,{"$f":"+P10*K10","v":21.5}]
[{"$f":"+A10+1","v":2},"11602:L -C02-妈蜜鸡饭",{"$f":"SUMIF('DATABASE '!$B$4:$B$33,'K-LUNCH & K DINNER'!B11,'DATABASE '!$C$4:$C$30)","v":2.2000000000000002},{"$f":"VLOOKUP(B11,Summary!$B$30:$AK$374,5,FALSE)","v":55},121.00000000000001,null,"11702:D -C02-妈蜜鸡饭",{"$f":"VLOOKUP(G11,[3]Summary!$B$30:$AK$349,5,FALSE)","v":0},0,null,{"$f":"D11+H11","v":55},121.00000000000001,null,null,"CHICKEN CHOP (MARINATED)",0.5,{"$f":"+P11*K11","v":27.5}]
[{"$f":"+A11+1","v":3},"11605:L -C03-奶油鸡饭",{"$f":"SUMIF('DATABASE '!$B$4:$B$33,'K-LUNCH & K DINNER'!B12,'DATABASE '!$C$4:$C$30)","v":2.4500000000000002},{"$f":"VLOOKUP(B12,Summary!$B$30:$AK$374,5,FALSE)","v":52},127.4,null,"11705:D -C03-奶油鸡饭",{"$f":"VLOOKUP(G12,[3]Summary!$B$30:$AK$349,5,FALSE)","v":0},0,null,52,127.4,null,null,"CHICKEN CHOP (MARINATED)",0.5,26]
[4,"11606:L -C04-港式炒饭",{"$f":"SUMIF('DATABASE '!$B$4:$B$33,'K-LUNCH & K DINNER'!B13,'DATABASE '!$C$4:$C$30)","v":2.4500000000000002},{"$f":"VLOOKUP(B13,Summary!$B$30:$AK$374,5,FALSE)","v":0},0,null,"11706:D -C04-港式炒饭",{"$f":"VLOOKUP(G13,[3]Summary!$B$30:$AK$349,5,FALSE)","v":0},0,null,0,0]
[5,"11607:L-C07-泰式鱼扒饭",{"$f":"SUMIF('DATABASE '!$B$4:$B$33,'K-LUNCH & K DINNER'!B14,'DATABASE '!$C$4:$C$30)","v":2.57},{"$f":"VLOOKUP(B14,Summary!$B$30:$AK$374,5,FALSE)","v":24},61.679999999999993,null,"11777:D -C07-泰式鱼片饭",{"$f":"VLOOKUP(G14,[3]Summary!$B$30:$AK$349,5,FALSE)","v":0},0,null,24,61.679999999999993,null,null,"FISH & CHIP ",0.5,{"$f":"+P14*K14","v":12}]
[6,"11608:L-C08-妈蜜鱼扒饭",{"$f":"SUMIF('DATABASE '!$B$4:$B$33,'K-LUNCH & K DINNER'!B15,'DATABASE '!$C$4:$C$30)","v":2.0699999999999998},{"$f":"VLOOKUP(B15,Summary!$B$30:$AK$374,5,FALSE)","v":14},28.979999999999997,null,"11778:D -C08-妈蜜鱼片饭",{"$f":"VLOOKUP(G15,[3]Summary!$B$30:$AK$349,5,FALSE)","v":0},0,null,14,28.979999999999997,null,null,"FISH & CHIP ",0.5,7]
[7,"11609:L-C09-奶油鱼扒饭",{"$f":"SUMIF('DATABASE '!$B$4:$B$33,'K-LUNCH & K DINNER'!B16,'DATABASE '!$C$4:$C$30)","v":2.3199999999999998},{"$f":"VLOOKUP(B16,Summary!$B$30:$AK$374,5,FALSE)","v":30},69.599999999999994,null,"11779:D -C09-奶油鱼片饭",{"$f":"VLOOKUP(G16,[3]Summary!$B$30:$AK$349,5,FALSE)","v":0},0,null,30,69.599999999999994,null,null,"FISH & CHIP ",0.5,15]
[8,"11610:L -C05-黑椒乌冬面",{"$f":"SUMIF('DATABASE '!$B$4:$B$33,'K-LUNCH & K DINNER'!B17,'DATABASE '!$C$4:$C$30)","v":2.6},{"$f":"VLOOKUP(B17,Summary!$B$30:$AK$374,5,FALSE)","v":0},{"$f":"D17*C17","v":0},null,"11710:D -C05-黑椒乌冬面",{"$f":"VLOOKUP(G17,[3]Summary!$B$30:$AK$349,5,FALSE)","v":0},0,null,0,0]
[9,"11617:L -S02-小薯脆脆",{"$f":"SUMIF('DATABASE '!$B$4:$B$33,'K-LUNCH & K DINNER'!B18,'DATABASE '!$C$4:$C$30)","v":1.45},{"$f":"VLOOKUP(B18,Summary!$B$30:$AK$374,5,FALSE)","v":22},31.9,null,"11717:D -S02-小薯脆脆",{"$f":"VLOOKUP(G18,[3]Summary!$B$30:$AK$349,5,FALSE)","v":0},0,null,22,31.9]
[10,"11619:L -S06-小小鱼丸",{"$f":"SUMIF('DATABASE '!$B$4:$B$33,'K-LUNCH & K DINNER'!B19,'DATABASE '!$C$4:$C$30)","v":1.7},{"$f":"VLOOKUP(B19,Summary!$B$30:$AK$374,5,FALSE)","v":3},5.0999999999999996,null,"11719:D -S06-小小鱼丸",{"$f":"VLOOKUP(G19,[3]Summary!$B$30:$AK$349,5,FALSE)","v":0},0,null,3,5.0999999999999996,null,null,"FISH BALL (SMALL)",8,{"$f":"+P19*K19","v":24}]
[11,"11621:L -S12-家乡春卷",{"$f":"SUMIF('DATABASE '!$B$4:$B$33,'K-LUNCH & K DINNER'!B20,'DATABASE '!$C$4:$C$30)","v":1.7},{"$f":"VLOOKUP(B20,Summary!$B$30:$AK$374,5,FALSE)","v":3},5.0999999999999996,null,"11721:D -S12-家乡春卷",{"$f":"VLOOKUP(G20,[3]Summary!$B$30:$AK$349,5,FALSE)","v":0},0,null,3,5.0999999999999996,null,null,"SPRING ROLL",4,12]
[12,"11622:L -S11-洋葱圈圈",{"$f":"SUMIF('DATABASE '!$B$4:$B$33,'K-LUNCH & K DINNER'!B21,'DATABASE '!$C$4:$C$30)","v":1.4},{"$f":"VLOOKUP(B21,Summary!$B$30:$AK$374,5,FALSE)","v":4},5.6,null,"11722:D -S11-洋葱圈圈",{"$f":"VLOOKUP(G21,[3]Summary!$B$30:$AK$349,5,FALSE)","v":0},0,null,4,5.6,null,null,"MCCAIN ONION RING",8,32]
[13,"11625:L -S05-小鸡块块",{"$f":"SUMIF('DATABASE '!$B$4:$B$33,'K-LUNCH & K DINNER'!B22,'DATABASE '!$C$4:$C$30)","v":2.2599999999999998},{"$f":"VLOOKUP(B22,Summary!$B$30:$AK$374,5,FALSE)","v":12},27.119999999999997,null,"11725:D -S07-小鸡块块",{"$f":"VLOOKUP(G22,[3]Summary!$B$30:$AK$349,5,FALSE)","v":0},0,null,12,27.119999999999997,null,null,"CHICKEN NUGGET",8,96]
[14,"11628:L -S07-小乳鸡翅",{"$f":"SUMIF('DATABASE '!$B$4:$B$33,'K-LUNCH & K DINNER'!B23,'DATABASE '!$C$4:$C$30)","v":3.7},{"$f":"VLOOKUP(B23,Summary!$B$30:$AK$374,5,FALSE)","v":11},40.700000000000003,null,"11728:D -S05-小乳鸡翅",{"$f":"VLOOKUP(G23,[3]Summary!$B$30:$AK$349,5,FALSE)","v":0},0,null,11,40.700000000000003,null,null,"CHICKEN WINGS (MARINATED)",3,33]
[15,"11631:L -W01-香煎鸡扒",{"$f":"SUMIF('DATABASE '!$B$4:$B$33,'K-LUNCH & K DINNER'!B24,'DATABASE '!$C$4:$C$30)","v":3.95},{"$f":"VLOOKUP(B24,Summary!$B$30:$AK$374,5,FALSE)","v":298},{"$f":"D24*C24","v":1177.1000000000001},null,"11731:D -W01-香煎鸡扒",{"$f":"VLOOKUP(G24,[3]Summary!$B$30:$AK$349,5,FALSE)","v":0},0,null,298,1177.1000000000001,null,null,"CHICKEN CHOP (MARINATED)",1,298]
[{"$f":"+A24+1","v":16},"11632:L -W03-马里兰鸡扒",{"$f":"SUMIF('DATABASE '!$B$4:$B$33,'K-LUNCH & K DINNER'!B25,'DATABASE '!$C$4:$C$30)","v":4.75},{"$f":"VLOOKUP(B25,Summary!$B$30:$AK$374,5,FALSE)","v":60},285,null,"11732:D -W03-马里兰鸡扒",{"$f":"VLOOKUP(G25,[3]Summary!$B$30:$AK$349,5,FALSE)","v":0},0,null,60,285,null,null,"CHICKEN CHOP (MARINATED)",1,60]
[17,"11633:L -W02-香炸鱼扒",{"$f":"SUMIF('DATABASE '!$B$4:$B$33,'K-LUNCH & K DINNER'!B26,'DATABASE '!$C$4:$C$30)","v":4.2300000000000004},{"$f":"VLOOKUP(B26,Summary!$B$30:$AK$374,5,FALSE)","v":107},{"$f":"D26*C26","v":452.61000000000007},null,"11733:D -W02-香炸鱼扒",{"$f":"VLOOKUP(G26,[3]Summary!$B$30:$AK$349,5,FALSE)","v":0},0,null,107,452.61000000000007,null,null,"FISH & CHIP ",1,107]
[18,"11635:L -W04-鸡扒沙拉",{"$f":"SUMIF('DATABASE '!$B$4:$B$33,'K-LUNCH & K DINNER'!B27,'DATABASE '!$C$4:$C$30)","v":2.65},{"$f":"VLOOKUP(B27,Summary!$B$30:$AK$374,5,FALSE)","v":20},53,null,"11735:D -W04-鸡扒沙拉",{"$f":"VLOOKUP(G27,[3]Summary!$B$30:$AK$349,5,FALSE)","v":0},0,null,20,53,null,null,"CHICKEN CHOP (MARINATED)",0.5,10,{"$f":"SUBTOTAL(9,Q10:Q27)","v":781}]
[19,"11640:L -S01-小热狗包",{"$f":"SUMIF('DATABASE '!$B$4:$B$33,'K-LUNCH & K DINNER'!B28,'DATABASE '!$C$4:$C$30)","v":2.04},{"$f":"VLOOKUP(B28,Summary!$B$30:$AK$374,5,FALSE)","v":6},12.24,null,"11740:D -S01-小热狗包",{"$f":"VLOOKUP(G28,[3]Summary!$B$30:$AK$349,5,FALSE)","v":0},0,null,6,12.24,null,null,"CHICKEN SAUSAGE ",1,{"$f":"+P28*$K$28","v":6}]
[null,null,null,null,null,null,null,null,null,null,null,null,null,null,"HOT DOG BUN ",1,{"$f":"+P29*$K$28","v":6}]
[{"$f":"+A28+1","v":20},"11642:L -S04-小肠弯弯",{"$f":"SUMIF('DATABASE '!$B$4:$B$33,'K-LUNCH & K DINNER'!B30,'DATABASE '!$C$4:$C$30)","v":2.44},{"$f":"VLOOKUP(B30,Summary!$B$30:$AK$374,5,FALSE)","v":2},4.88,null,"11742:D -S04-小肠弯弯",{"$f":"VLOOKUP(G30,[3]Summary!$B$30:$AK$349,5,FALSE)","v":0},0,null,2,4.88,null,null,"CHICKEN SAUSAGE ",2,{"$f":"+P30*K30","v":4}]
[21,"11643:L -S08-海鲜豆腐",{"$f":"SUMIF('DATABASE '!$B$4:$B$33,'K-LUNCH & K DINNER'!B31,'DATABASE '!$C$4:$C$30)","v":1.66},{"$f":"VLOOKUP(B31,Summary!$B$30:$AK$374,5,FALSE)","v":4},6.64,null,"11743:D -S08-海鲜豆腐",{"$f":"VLOOKUP(G31,[3]Summary!$B$30:$AK$349,5,FALSE)","v":0},0,null,4,6.64,null,null,"SEAFOOD TOFU ",6,{"$f":"+P31*K31","v":24}]
[22,"11644:L -S09-沙律卷卷",{"$f":"SUMIF('DATABASE '!$B$4:$B$33,'K-LUNCH & K DINNER'!B32,'DATABASE '!$C$4:$C$30)","v":1.9},{"$f":"VLOOKUP(B32,Summary!$B$30:$AK$374,5,FALSE)","v":4},7.6,null,"11744:D -S09-沙律卷卷",{"$f":"VLOOKUP(G32,[3]Summary!$B$30:$AK$349,5,FALSE)","v":0},0,null,4,7.6,null,null,"SALAD ROLL ",4,16]
[23,"11645:L -S10-金钱肉干",{"$f":"SUMIF('DATABASE '!$B$4:$B$33,'K-LUNCH & K DINNER'!B33,'DATABASE '!$C$4:$C$30)","v":2.1},{"$f":"VLOOKUP(B33,Summary!$B$30:$AK$374,5,FALSE)","v":6},12.600000000000001,null,"11745:D -S10-金钱肉干",{"$f":"VLOOKUP(G33,[3]Summary!$B$30:$AK$349,5,FALSE)","v":0},0,null,6,12.600000000000001,null,null,"BBQ CHICKEN ",8,48]
[24,"11646:L-MC03-螺旋薯条",{"$f":"SUMIF('DATABASE '!$B$4:$B$33,'K-LUNCH & K DINNER'!B34,'DATABASE '!$C$4:$C$30)","v":1.72},{"$f":"VLOOKUP(B34,Summary!$B$30:$AK$374,5,FALSE)","v":2},3.44,null,null,null,null,null,2,3.44,null,null,"MCCAIN SPIRAL FRIES",0.22,3.96]
[25,"11647:L-MC04-迷你薯饼",{"$f":"SUMIF('DATABASE '!$B$4:$B$33,'K-LUNCH & K DINNER'!B35,'DATABASE '!$C$4:$C$30)","v":0.59},{"$f":"VLOOKUP(B35,Summary!$B$30:$AK$374,5,FALSE)","v":1},0.59,null,null,null,null,null,1,0.59,null,null,"MCCAIN VERSITOT",15,{"$f":"+P35*K35","v":15}]
[26,"11648:L-MC05-笑面薯饼",{"$f":"SUMIF('DATABASE '!$B$4:$B$33,'K-LUNCH & K DINNER'!B36,'DATABASE '!$C$4:$C$30)","v":1.34},{"$f":"VLOOKUP(B36,Summary!$B$30:$AK$374,5,FALSE)","v":3},4.0200000000000005,null,null,null,null,null,3,4.0200000000000005,null,null,"MCCAIN SMILES",8,16]
[]
[]
["Total Sales / COST",null,null,{"$f":"SUM(D10:D38)","v":786},{"$f":"SUM(E9:E38)","v":2660},null,null,{"$f":"SUM(H10:H33)","v":0},{"$f":"SUM(I10:I38)","v":0},null,{"$f":"SUM(K10:K38)","v":786},{"$f":"SUM(L10:L38)","v":2660}]

{"sheet":"SIDE ORDER & FOC","index":5,"n_rows":114,"n_cols":20,"rows_kept":114,"cut":false,"hidden":false,"merged":[[7,8,7,9],[117,9,117,11],[7,16,7,18],[56,13,56,14],[118,9,118,11],[56,16,56,18],[7,13,7,14],[0,0,0,12],[7,10,50,10],[56,3,56,4],[56,6,56,7],[56,8,56,9],[7,11,7,12],[56,11,56,12],[6,3,6,4],[6,6,6,7],[6,8,6,9],[55,3,55,4],[55,6,55,7],[55,8,55,9],[50,0,50,2],[7,3,7,4],[7,6,7,7]]}
["MONTHLY SALES FOOD RECORD ( SIDE ORDER & FOC )"]
[]
[{"$f":"+'K-LUNCH & K DINNER'!A3","v":"Outlet :"},{"$f":"+'K-LUNCH & K DINNER'!B3","v":"TSU OUTLET "}]
[{"$f":"+'K-LUNCH & K DINNER'!A4","v":"Month :"},{"$f":"+'K-LUNCH & K DINNER'!B4","v":"2013-10-01"}]
[]
["PART (A)  LOCAL DELIGHTS /WESTERN CRUISE / SNAKCS"]
[null,null,null,"(A)",null,null,"(B)",null,"(A) - (B)"]
[null,null,null,"SIDE ORDER                 (INCLUDING FOC)",null,null,"FOC",null,"SIDE ORDER                        (NETT SALES)",null,null,"SIDE ORDER                        (NETT COST)",null,"FOC (COST)",null,null,"USAGE"]
["NO","Item","S/P","Sales","TOTAL",null,"Sales","TOTAL","Sales","TOTAL",null,"COST","TOTAL","COST","TOTAL",null,"MATERIAL ","RECIPE","TOTAL"]
[null,null,"RM","Q","RM",null,"Q","RM","Q","RM",null,"RM","RM","RM","RM",null,"Q","Q","Q"]
[1,"11401:Add Rice-加饭",1,{"$f":"VLOOKUP(B11,Summary!$B$30:$AK$374,5,FALSE)","v":14},{"$f":"D11*C11","v":14},null,{"$f":"+'DAILY FOC '!BO9","v":0},{"$f":"G11*C11","v":0},{"$f":"+D11-G11","v":14},{"$f":"+I11*C11","v":14},null,{"$f":"SUMIF('DATABASE '!$E$4:$E$35,B11,'DATABASE '!$F$4:$F$33)","v":0.5},{"$f":"+L11*I11","v":7},{"$f":"+L11","v":0.5},{"$f":"+N11*G11","v":0}]
[{"$f":"+A11+1","v":2},"11402:Add Egg-加蛋",1,{"$f":"VLOOKUP(B12,Summary!$B$30:$AK$374,5,FALSE)","v":4},{"$f":"D12*C12","v":4},null,{"$f":"+'DAILY FOC '!BO10","v":0},{"$f":"G12*C12","v":0},{"$f":"+D12-G12","v":4},{"$f":"+I12*C12","v":4},null,{"$f":"SUMIF('DATABASE '!$E$4:$E$35,B12,'DATABASE '!$F$4:$F$33)","v":0.35},1.4,{"$f":"+L12","v":0.35},0]
[{"$f":"+A12+1","v":3},"11501:C01-泰式鸡饭",7.9,{"$f":"VLOOKUP(B13,Summary!$B$30:$AK$374,5,FALSE)","v":36},284.40000000000003,null,{"$f":"+'DAILY FOC '!BO11","v":0},0,36,{"$f":"+I13*C13","v":284.40000000000003},null,{"$f":"SUMIF('DATABASE '!$E$4:$E$35,B13,'DATABASE '!$F$4:$F$33)","v":2.7},97.2,2.7,0,null,"CHICKEN CHOP (MARINATED)",0.5,{"$f":"+R13*D13","v":18}]
[4,"11502:C02-妈蜜鸡饭",7.9,{"$f":"VLOOKUP(B14,Summary!$B$30:$AK$374,5,FALSE)","v":50},395,null,{"$f":"+'DAILY FOC '!BO12","v":0},0,50,395,null,{"$f":"SUMIF('DATABASE '!$E$4:$E$35,B14,'DATABASE '!$F$4:$F$33)","v":2.2000000000000002},110.00000000000001,2.2000000000000002,0,null,"CHICKEN CHOP (MARINATED)",0.5,{"$f":"+R14*D14","v":25}]
[5,"11505:C03-奶油鸡饭",7.9,{"$f":"VLOOKUP(B15,Summary!$B$30:$AK$374,5,FALSE)","v":68},537.20000000000005,null,{"$f":"+'DAILY FOC '!BO13","v":0},0,68,537.20000000000005,null,{"$f":"SUMIF('DATABASE '!$E$4:$E$35,B15,'DATABASE '!$F$4:$F$33)","v":2.4500000000000002},166.60000000000002,2.4500000000000002,0,null,"CHICKEN CHOP (MARINATED)",0.5,34]
[6,"11506:C04-港式炒饭",6.9,{"$f":"VLOOKUP(B16,Summary!$B$30:$AK$374,5,FALSE)","v":0},0,null,{"$f":"+'DAILY FOC '!BO14","v":0},{"$f":"G16*C16","v":0},0,{"$f":"+I16*C16","v":0},null,{"$f":"SUMIF('DATABASE '!$E$4:$E$35,B16,'DATABASE '!$F$4:$F$33)","v":2.4500000000000002},0,2.4500000000000002,0]
[7,"11507:C07-泰式鱼扒饭",7.9,{"$f":"VLOOKUP(B17,Summary!$B$30:$AK$374,5,FALSE)","v":12},94.800000000000011,null,{"$f":"+'DAILY FOC '!BO15","v":0},0,12,94.800000000000011,null,{"$f":"SUMIF('DATABASE '!$E$4:$E$35,B17,'DATABASE '!$F$4:$F$33)","v":2.57},30.839999999999996,2.57,0,null,"FISH & CHIP ",0.5,6]
[8,"11508:C08-妈蜜鱼扒饭",7.9,{"$f":"VLOOKUP(B18,Summary!$B$30:$AK$374,5,FALSE)","v":16},126.4,null,{"$f":"+'DAILY FOC '!BO16","v":0},0,16,126.4,null,{"$f":"SUMIF('DATABASE '!$E$4:$E$35,B18,'DATABASE '!$F$4:$F$33)","v":2.0699999999999998},33.119999999999997,2.0699999999999998,0,null,"FISH & CHIP ",0.5,8]
[9,"11509:C09-奶油鱼扒饭",7.9,{"$f":"VLOOKUP(B19,Summary!$B$30:$AK$374,5,FALSE)","v":20},158,null,{"$f":"+'DAILY FOC '!BO17","v":0},0,20,158,null,{"$f":"SUMIF('DATABASE '!$E$4:$E$35,B19,'DATABASE '!$F$4:$F$33)","v":2.3199999999999998},46.4,2.3199999999999998,0,null,"FISH & CHIP ",0.5,{"$f":"+R19*D19","v":10}]
[10,"11510:C05-黑椒乌冬面",6.9,{"$f":"VLOOKUP(B20,Summary!$B$30:$AK$374,5,FALSE)","v":0},0,null,{"$f":"+'DAILY FOC '!BO18","v":0},0,0,0,null,{"$f":"SUMIF('DATABASE '!$E$4:$E$35,B20,'DATABASE '!$F$4:$F$33)","v":2.6},0,2.6,0]
[11,"11517:S02-小薯脆脆",4.9000000000000004,{"$f":"VLOOKUP(B21,Summary!$B$30:$AK$374,5,FALSE)","v":106},519.40000000000009,null,{"$f":"+'DAILY FOC '!BO19","v":0},0,106,519.40000000000009,null,{"$f":"SUMIF('DATABASE '!$E$4:$E$35,B21,'DATABASE '!$F$4:$F$33)","v":1.45},153.69999999999999,1.45,0]
[12,"11519:S06-小小鱼丸",4.9000000000000004,{"$f":"VLOOKUP(B22,Summary!$B$30:$AK$374,5,FALSE)","v":20},98,null,{"$f":"+'DAILY FOC '!BO21","v":0},0,20,98,null,{"$f":"SUMIF('DATABASE '!$E$4:$E$35,B22,'DATABASE '!$F$4:$F$33)","v":1.7},34,1.7,0,null,"FISH BALL (SMALL)",8,{"$f":"+R22*D22","v":160}]
[13,"11521:S12-家乡春卷",4.9000000000000004,{"$f":"VLOOKUP(B23,Summary!$B$30:$AK$374,5,FALSE)","v":8},39.200000000000003,null,{"$f":"+'DAILY FOC '!BO22","v":0},0,8,39.200000000000003,null,{"$f":"SUMIF('DATABASE '!$E$4:$E$35,B23,'DATABASE '!$F$4:$F$33)","v":1.7},13.6,1.7,0,null,"SPRING ROLL",4,32]
[14,"11522:S11-洋葱圈圈",4.9000000000000004,{"$f":"VLOOKUP(B24,Summary!$B$30:$AK$374,5,FALSE)","v":15},73.5,null,{"$f":"+'DAILY FOC '!BO23","v":0},0,15,73.5,null,{"$f":"SUMIF('DATABASE '!$E$4:$E$35,B24,'DATABASE '!$F$4:$F$33)","v":1.4},21,1.4,0,null,"MCCAIN ONION RING",8,{"$f":"+R24*D24","v":120}]
[15,"11525:S07-小鸡块块",5.9,{"$f":"VLOOKUP(B25,Summary!$B$30:$AK$374,5,FALSE)","v":0},0,null,0,0,0,0,null,{"$f":"SUMIF('DATABASE '!$E$4:$E$35,B25,'DATABASE '!$F$4:$F$33)","v":0},0,0,0,null,"CHICKEN NUGGET",8,{"$f":"+R25*D25","v":0}]
[16,"11528:S05-小乳鸡翅",7.9,{"$f":"VLOOKUP(B26,Summary!$B$30:$AK$374,5,FALSE)","v":0},0,null,0,0,0,0,null,{"$f":"SUMIF('DATABASE '!$E$4:$E$35,B26,'DATABASE '!$F$4:$F$33)","v":0},0,0,0,null,"CHICKEN WINGS (MARINATED)",3,0]
[17,"11525:S05-小鸡块块",5.9,{"$f":"VLOOKUP(B27,Summary!$B$30:$AK$374,5,FALSE)","v":48},{"$f":"D27*C27","v":283.20000000000005},null,{"$f":"+'DAILY FOC '!BO24","v":0},{"$f":"G27*C27","v":0},{"$f":"+D27-G27","v":48},{"$f":"+I27*C27","v":283.20000000000005},null,{"$f":"SUMIF('DATABASE '!$E$4:$E$35,B27,'DATABASE '!$F$4:$F$33)","v":2.2599999999999998},{"$f":"+L27*I27","v":108.47999999999999},{"$f":"+L27","v":2.2599999999999998},{"$f":"+N27*G27","v":0},null,"CHICKEN NUGGET",6,{"$f":"+R27*D27","v":288}]
[18,"11528:S07-小乳鸡翅",7.9,{"$f":"VLOOKUP(B28,Summary!$B$30:$AK$374,5,FALSE)","v":42},331.8,null,{"$f":"+'DAILY FOC '!BO25","v":0},0,42,331.8,null,{"$f":"SUMIF('DATABASE '!$E$4:$E$35,B28,'DATABASE '!$F$4:$F$33)","v":3.7},155.4,3.7,0,null,"CHICKEN WINGS (MARINATED)",3,126]
[19,"11531:W01-香煎鸡扒",9.9,{"$f":"VLOOKUP(B29,Summary!$B$30:$AK$374,5,FALSE)","v":109},1079.1000000000001,null,{"$f":"+'DAILY FOC '!BO26","v":0},0,109,1079.1000000000001,null,{"$f":"SUMIF('DATABASE '!$E$4:$E$35,B29,'DATABASE '!$F$4:$F$33)","v":3.95},430.55,3.95,0,null,"CHICKEN CHOP (MARINATED)",1,109]
[20,"11532:W03-马里兰鸡扒",9.9,{"$f":"VLOOKUP(B30,Summary!$B$30:$AK$374,5,FALSE)","v":18},178.20000000000002,null,{"$f":"+'DAILY FOC '!BO27","v":0},0,18,178.20000000000002,null,{"$f":"SUMIF('DATABASE '!$E$4:$E$35,B30,'DATABASE '!$F$4:$F$33)","v":4.75},85.5,4.75,0,null,"CHICKEN CHOP (MARINATED)",1,{"$f":"+R30*D30","v":18}]
[21,"11533:W02-香炸鱼扒",9.9,{"$f":"VLOOKUP(B31,Summary!$B$30:$AK$374,5,FALSE)","v":21},207.9,null,{"$f":"+'DAILY FOC '!BO28","v":0},0,21,207.9,null,{"$f":"SUMIF('DATABASE '!$E$4:$E$35,B31,'DATABASE '!$F$4:$F$33)","v":4.2300000000000004},88.830000000000013,4.2300000000000004,0,null,"FISH & CHIP ",1,21]
[22,"11535:W04-鸡扒沙拉",7.9,{"$f":"VLOOKUP(B32,Summary!$B$30:$AK$374,5,FALSE)","v":6},47.400000000000006,null,{"$f":"+'DAILY FOC '!BO29","v":0},0,6,47.400000000000006,null,{"$f":"SUMIF('DATABASE '!$E$4:$E$35,B32,'DATABASE '!$F$4:$F$33)","v":2.65},15.899999999999999,2.65,0,null,"CHICKEN CHOP (MARINATED)",0.5,3,{"$f":"SUBTOTAL(9,S13:S32)","v":978}]
[23,"11540:S01-小热狗包",3.9,{"$f":"VLOOKUP(B33,Summary!$B$30:$AK$374,5,FALSE)","v":8},31.2,null,{"$f":"+'DAILY FOC '!BO30","v":0},0,8,31.2,null,{"$f":"SUMIF('DATABASE '!$E$4:$E$35,B33,'DATABASE '!$F$4:$F$33)","v":2.04},16.32,2.04,0,null,"CHICKEN SAUSAGE ",1,8]
[null,null,null,null,null,null,null,null,null,null,null,null,null,null,null,null,"HOT DOG BUN ",1,{"$f":"+R34*D33","v":8}]
[{"$f":"+A33+1","v":24},"11542:S04-小肠弯弯",5.9,{"$f":"VLOOKUP(B35,Summary!$B$30:$AK$374,5,FALSE)","v":19},112.10000000000001,null,{"$f":"+'DAILY FOC '!BO32","v":0},0,19,112.10000000000001,null,{"$f":"SUMIF('DATABASE '!$E$4:$E$35,B35,'DATABASE '!$F$4:$F$33)","v":2.44},46.36,2.44,0,null,"CHICKEN SAUSAGE ",2,38]
[25,"11543:S08-海鲜豆腐",4.9000000000000004,{"$f":"VLOOKUP(B36,Summary!$B$30:$AK$374,5,FALSE)","v":28},137.20000000000002,null,{"$f":"+'DAILY FOC '!BO33","v":0},0,28,137.20000000000002,null,{"$f":"SUMIF('DATABASE '!$E$4:$E$35,B36,'DATABASE '!$F$4:$F$33)","v":1.66},46.48,1.66,0,null,"SEAFOOD TOFU ",6,168]
[26,"11544:S09-沙律卷卷",4.9000000000000004,{"$f":"VLOOKUP(B37,Summary!$B$30:$AK$374,5,FALSE)","v":14},68.600000000000009,null,{"$f":"+'DAILY FOC '!BO34","v":0},0,14,68.600000000000009,null,{"$f":"SUMIF('DATABASE '!$E$4:$E$35,B37,'DATABASE '!$F$4:$F$33)","v":1.9},26.599999999999998,1.9,0,null,"SALAD ROLL ",4,56]
[27,"11545:S10-金钱肉干",5.9,{"$f":"VLOOKUP(B38,Summary!$B$30:$AK$374,5,FALSE)","v":24},141.60000000000002,null,{"$f":"+'DAILY FOC '!BO35","v":0},0,24,141.60000000000002,null,{"$f":"SUMIF('DATABASE '!$E$4:$E$35,B38,'DATABASE '!$F$4:$F$33)","v":2.1},50.400000000000006,2.1,0,null,"BBQ CHICKEN ",8,192]
[28,"11901:McCain Platter",13.9,{"$f":"VLOOKUP(B39,Summary!$B$30:$AK$374,5,FALSE)","v":7},97.3,null,{"$f":"+'DAILY FOC '!BO36","v":0},0,7,97.3,null,{"$f":"SUMIF('DATABASE '!$E$4:$E$35,B39,'DATABASE '!$F$4:$F$33)","v":4.5999999999999996},32.199999999999996,4.5999999999999996,0,null,"MCCAIN VERSITOT",8,{"$f":"+R39*D39","v":56}]
[null,null,null,null,null,null,null,null,null,null,null,null,null,null,null,null,"MCCAIN SMILES",6,{"$f":"+R40*D39","v":42}]
[null,null,null,null,null,null,null,null,null,null,null,null,null,null,null,null,"MCCAIN ONION RING",8,{"$f":"+R41*D39","v":56}]
[null,null,null,null,null,null,null,null,null,null,null,null,null,null,null,null,"MCCAIN SPIRAL FRIES",0.12,{"$f":"+R42*D39","v":0.84}]
[{"$f":"+A39+1","v":29},"11902:McCain Beer",9.9,{"$f":"VLOOKUP(B43,Summary!$B$30:$AK$374,5,FALSE)","v":1},9.9,null,{"$f":"+'DAILY FOC '!BO37","v":0},0,1,9.9,null,{"$f":"SUMIF('DATABASE '!$E$4:$E$35,B43,'DATABASE '!$F$4:$F$33)","v":4.5999999999999996},4.5999999999999996,4.5999999999999996,0,null,"MCCAIN VERSITOT",8,{"$f":"+R43*D43","v":8}]
[null,null,null,null,null,null,null,null,null,null,null,null,null,null,null,null,"MCCAIN SMILES",6,{"$f":"+R44*D43","v":6}]
[null,null,null,null,null,null,null,null,null,null,null,null,null,null,null,null,"MCCAIN ONION RING",8,{"$f":"+R45*D43","v":8}]
[null,null,null,null,null,null,null,null,null,null,null,null,null,null,null,null,"MCCAIN SPIRAL FRIES",0.12,{"$f":"+R46*D43","v":0.12}]
[30,"11903:MC03-螺旋薯条",7.9,{"$f":"VLOOKUP(B47,Summary!$B$30:$AK$374,5,FALSE)","v":17},134.30000000000001,null,{"$f":"+'DAILY FOC '!BO38","v":0},{"$f":"G47*C47","v":0},{"$f":"+D47-G47","v":17},{"$f":"+I47*C47","v":134.30000000000001},null,{"$f":"SUMIF('DATABASE '!$E$4:$E$35,B47,'DATABASE '!$F$4:$F$33)","v":1.72},{"$f":"+L47*I47","v":29.24},{"$f":"+L47","v":1.72},{"$f":"+N47*G47","v":0},null,"MCCAIN SPIRAL FRIES",0.22,{"$f":"+R47*D47","v":3.74}]
[31,"11904:MC04-迷你薯饼",7.9,{"$f":"VLOOKUP(B48,Summary!$B$30:$AK$374,5,FALSE)","v":17},134.30000000000001,null,{"$f":"+'DAILY FOC '!BO37","v":0},0,17,134.30000000000001,null,{"$f":"SUMIF('DATABASE '!$E$4:$E$35,B48,'DATABASE '!$F$4:$F$33)","v":0.59},10.029999999999999,0.59,0,null,"MCCAIN VERSITOT",15,{"$f":"+R48*D48","v":255}]
[32,"11905:MC05-笑面薯饼",7.9,{"$f":"VLOOKUP(B49,Summary!$B$30:$AK$374,5,FALSE)","v":5},39.5,null,{"$f":"+'DAILY FOC '!BO38","v":0},0,5,39.5,null,{"$f":"SUMIF('DATABASE '!$E$4:$E$35,B49,'DATABASE '!$F$4:$F$33)","v":1.34},6.7,1.34,0,null,"MCCAIN SMILES",8,{"$f":"+R49*D49","v":40}]
[]
["Total Sales / COST",null,null,{"$f":"SUM(D11:D50)","v":753},{"$f":"SUM(E11:E50)","v":5377.5000000000009},null,{"$f":"SUM(G11:G50)","v":0},{"$f":"SUM(H11:H50)","v":0},{"$f":"SUM(I11:I50)","v":753},{"$f":"SUM(J11:J50)","v":5377.5000000000009},null,null,{"$f":"SUM(M11:M50)","v":1868.4499999999998},null,{"$f":"SUM(O11:O50)","v":0}]
[]
[]
[]
["PART (B)  LOK LOK ITEMS"]
[null,null,null,"(A)",null,null,"(B)",null,"(A) - (B)"]
[null,null,null,"SIDE ORDER                 (INCLUDING FOC)",null,null,"FOC",null,"SIDE ORDER                        (NETT SALES)",null,null,"SIDE ORDER                        (NETT COST)",null,"FOC (COST)",null,null,"USAGE"]
["NO","Item","S/P","Sales","TOTAL",null,"Sales","TOTAL","Sales","TOTAL",null,"COST","TOTAL","COST","TOTAL",null,"MATERIAL ","RECIPE","TOTAL"]
[null,null,"RM","Q","RM",null,"Q","RM","Q","RM",null,"RM","RM","RM","RM",null,"Q","Q","Q"]
[1,"11001:Lok01-鸡肉火腿",1.5,{"$f":"VLOOKUP(B60,Summary!$B$30:$AK$374,5,FALSE)","v":21},{"$f":"D60*C60","v":31.5},null,0,{"$f":"G60*C60","v":0},{"$f":"+D60-G60","v":21},{"$f":"+I60*C60","v":31.5},null,0.25,{"$f":"+L60*I60","v":5.25},{"$f":"+L60","v":0.25},{"$f":"+N60*G60","v":0},null,"CHICKEN HAM",3,{"$f":"+R60*D60","v":63}]
[{"$f":"+A60+1","v":2},"11002:Lok02-烧鸡肾",1.5,{"$f":"VLOOKUP(B61,Summary!$B$30:$AK$374,5,FALSE)","v":33},{"$f":"D61*C61","v":49.5},null,0,0,{"$f":"+D61-G61","v":33},49.5,null,0.35,11.549999999999999,{"$f":"+L61","v":0.35},{"$f":"+N61*G61","v":0},null,"CHICKEN KIDNEY",4,{"$f":"+R61*D61","v":132}]
[{"$f":"+A61+1","v":3},"11003:Lok03-鸡尾酒香肠",2,{"$f":"VLOOKUP(B62,Summary!$B$30:$AK$374,5,FALSE)","v":17},34,null,0,0,17,34,null,0.4,6.8000000000000007,0.4,0,null,"CHICKEN COCKTAIL SAUSAGE ",3,{"$f":"+R62*D62","v":51}]
[4,"11004:Lok04-鸡肉香肠",2,{"$f":"VLOOKUP(B63,Summary!$B$30:$AK$374,5,FALSE)","v":7},14,null,0,0,7,14,null,0.6,4.2,0.6,0,null,"CHICKEN SAUSAGE ",1,7]
[5,"11005:Lok06-去骨烧鸡翼",2.5,{"$f":"VLOOKUP(B64,Summary!$B$30:$AK$374,5,FALSE)","v":63},157.5,null,0,0,63,157.5,null,0.85,53.55,0.85,0,null,"BONELESS CHICKEN WING",1,63]
[6,"11006:Lok07-芝士香肠",2.5,{"$f":"VLOOKUP(B65,Summary!$B$30:$AK$374,5,FALSE)","v":48},120,null,0,0,48,120,null,0.8,38.400000000000006,0.8,0,null,"CHEESE SAUSAGE ",1,48]
[7,"11007:Lok12-烧烤鸭肉",4,{"$f":"VLOOKUP(B66,Summary!$B$30:$AK$374,5,FALSE)","v":33},132,null,0,{"$f":"G66*C66","v":0},33,{"$f":"+I66*C66","v":132},null,1.85,61.050000000000004,1.85,0,null,"BBQ DUCK MEAT",1,33]
[8,"11008:Lok15-猪肉圆",2,{"$f":"VLOOKUP(B67,Summary!$B$30:$AK$374,5,FALSE)","v":63},126,null,0,0,63,126,null,0.45,28.35,0.45,0,null,"PORK MEATBALL",6,378]
[9,"11009:Lok16-培根",2.5,{"$f":"VLOOKUP(B68,Summary!$B$30:$AK$374,5,FALSE)","v":11},27.5,null,0,0,11,27.5,null,0.75,8.25,0.75,0,null,"BACON",1,11]
[10,"11010:Lok17-炸云吞",2.5,{"$f":"VLOOKUP(B69,Summary!$B$30:$AK$374,5,FALSE)","v":16},40,null,0,0,16,40,null,0.8,12.8,0.8,0,null,"FRIED WONTAN",4,64]
[11,"11011:Lok18-五香肉卷",2.5,{"$f":"VLOOKUP(B70,Summary!$B$30:$AK$374,5,FALSE)","v":12},30,null,0,0,12,30,null,0.6,7.1999999999999993,0.6,0,null,"FIVE SPICES ROLL",5,60]
[12,"11012:Lok20-台湾香肠",3,{"$f":"VLOOKUP(B71,Summary!$B$30:$AK$374,5,FALSE)","v":77},231,null,0,0,77,231,null,0.9,69.3,0.9,0,null,"TAIWAN SAUSAGE",1,77]
[13,"11013:Lok21-金菇培根卷",3,{"$f":"VLOOKUP(B72,Summary!$B$30:$AK$374,5,FALSE)","v":37},111,null,0,0,37,111,null,1,37,1,0,null,"ENOKI AND BACON ROLL",4,148]
[14,"11014:Lok23-空心菜",1.5,{"$f":"VLOOKUP(B73,Summary!$B$30:$AK$374,5,FALSE)","v":31},46.5,null,0,0,31,46.5,null,0.1,3.1,0.1,0,null,"KANGKONG",4,124]
[15,"11015:Lok24-西兰花",1.5,{"$f":"VLOOKUP(B74,Summary!$B$30:$AK$374,5,FALSE)","v":54},81,null,0,0,54,81,null,0.4,21.6,0.4,0,null,"BROCCOLI",3,162]
[16,"11016:Lok25-长豆",1.5,{"$f":"VLOOKUP(B75,Summary!$B$30:$AK$374,5,FALSE)","v":37},55.5,null,0,0,37,55.5,null,0.35,12.95,0.35,0,null,"LONG BEAN",9,333]
[17,"11017:Lok17-羊角豆",1.5,{"$f":"VLOOKUP(B76,Summary!$B$30:$AK$374,5,FALSE)","v":0},0,null,0,0,0,0,null,0.25,0,0.25,0,null,"LADY FINGER ",9,0]
[18,"11018:Lok26-炸鲍鱼菇",2,{"$f":"VLOOKUP(B77,Summary!$B$30:$AK$374,5,FALSE)","v":76},152,null,0,0,76,152,0,0.45,34.200000000000003,0.45,0,null,"ABALON MUSHROOM",3,228]
["18 (a)","11018:Lok18-炸鲍鱼菇",2,null,{"$f":"D78*C78","v":0},null,0,{"$f":"G78*C78","v":0},{"$f":"+D78-G78","v":0},{"$f":"+I78*C78","v":0},0,0.45,{"$f":"+L78*I78","v":0},{"$f":"+L78","v":0.45},{"$f":"+N78*G78","v":0},null,"ABALON MUSHROOM",3,{"$f":"+R78*D78","v":0}]
[{"$f":"+A77+1","v":19},"11019:Lok28-鉗",1.5,{"$f":"VLOOKUP(B79,Summary!$B$30:$AK$374,5,FALSE)","v":13},19.5,null,0,0,13,19.5,null,0.4,5.2,0.4,0,null,"COCKLES",8,104]
[20,"11020:Lok29-鱿鱼",1.5,{"$f":"VLOOKUP(B80,Summary!$B$30:$AK$374,5,FALSE)","v":9},13.5,null,0,0,9,13.5,null,0.4,3.6,0.4,0,null,"CUTTLEFISH ",5,45]
[21,"11021:Lok30-蟹条",1.5,{"$f":"VLOOKUP(B81,Summary!$B$30:$AK$374,5,FALSE)","v":28},42,null,0,0,28,42,null,0.5,14,0.5,0,null,"CRABSTICK ",2,56]
[22,"11022:Lok31-鱼丸（小）",1.5,{"$f":"VLOOKUP(B82,Summary!$B$30:$AK$374,5,FALSE)","v":86},{"$f":"D82*C82","v":129},null,0,{"$f":"G82*C82","v":0},{"$f":"+D82-G82","v":86},{"$f":"+I82*C82","v":129},null,0.5,{"$f":"+L82*I82","v":43},0.5,{"$f":"+N82*G82","v":0},null,"FISH BALL (SMALL)",5,430]
[23,"11023:Lok32-苏东",2,{"$f":"VLOOKUP(B83,Summary!$B$30:$AK$374,5,FALSE)","v":9},{"$f":"D83*C83","v":18},null,0,{"$f":"G83*C83","v":0},{"$f":"+D83-G83","v":9},{"$f":"+I83*C83","v":18},null,0.45,4.05,0.45,0,null,"SOTONG",4,36]
[24,"11024:Lok33-天妇罗虾",2,{"$f":"VLOOKUP(B84,Summary!$B$30:$AK$374,5,FALSE)","v":1},{"$f":"D84*C84","v":2},null,0,{"$f":"G84*C84","v":0},{"$f":"+D84-G84","v":1},{"$f":"+I84*C84","v":2},null,0.75,0.75,0.75,0,null,"TEMPURA PRAWN",1,1]
[25,"11025:Lok25-苏东丸",2.5,{"$f":"VLOOKUP(B85,Summary!$B$30:$AK$374,5,FALSE)","v":0},{"$f":"D85*C85","v":0},null,0,{"$f":"G85*C85","v":0},{"$f":"+D85-G85","v":0},{"$f":"+I85*C85","v":0},null,0.6,0,0.6,0,null,"SOTONG BALL ",4,0]
[26,"11026:Lok26-小章鱼",3,{"$f":"VLOOKUP(B86,Summary!$B$30:$AK$374,5,FALSE)","v":0},{"$f":"D86*C86","v":0},null,0,{"$f":"G86*C86","v":0},{"$f":"+D86-G86","v":0},{"$f":"+I86*C86","v":0},null,1.32,0,1.32,0,null,"OCTOPUS",3,0]
[27,"11027:Lok27-福州鱼丸（大）",3,{"$f":"VLOOKUP(B87,Summary!$B$30:$AK$374,5,FALSE)","v":0},0,null,0,0,0,0,null,1.05,0,1.05,0,null,"FUZHOU FISH BALL ",3,0]
[28,"11028:Lok28-澳洲绿蚌",3,{"$f":"VLOOKUP(B88,Summary!$B$30:$AK$374,5,FALSE)","v":0},0,null,1,3,-1,-3,null,0.93,-0.93,0.93,0.93,null,"AUSTRALIAN GREEN MUSSELS",3,0]
[29,"11029:Lok35-炸芋头角",1.5,{"$f":"VLOOKUP(B89,Summary!$B$30:$AK$374,5,FALSE)","v":35},52.5,null,0,0,35,52.5,null,0.4,14,0.4,0,null,"SAMOSA YAM",4,140]
[30,"11030:Lok36-炸腐皮",1.5,{"$f":"VLOOKUP(B90,Summary!$B$30:$AK$374,5,FALSE)","v":63},{"$f":"D90*C90","v":94.5},null,0,{"$f":"G90*C90","v":0},{"$f":"+D90-G90","v":63},{"$f":"+I90*C90","v":94.5},null,0.25,15.75,0.25,0,null,"TOFU SKIN",3,189]
[31,"11031:Lok37-豆卜",1.5,{"$f":"VLOOKUP(B91,Summary!$B$30:$AK$374,5,FALSE)","v":6},{"$f":"D91*C91","v":9},null,0,{"$f":"G91*C91","v":0},{"$f":"+D91-G91","v":6},{"$f":"+I91*C91","v":9},null,0.25,1.5,0.25,0,null,"TOFU POK",3,18]
[32,"11032:Lok40-鹌鹑蛋",2,{"$f":"VLOOKUP(B92,Summary!$B$30:$AK$374,5,FALSE)","v":30},{"$f":"D92*C92","v":60},null,0,{"$f":"G92*C92","v":0},{"$f":"+D92-G92","v":30},{"$f":"+I92*C92","v":60},null,0.52,15.600000000000001,0.52,0,null,"QUAIL EGGS",4,120]
[33,"11033:Lok44-鹌鹑皮蛋",3,{"$f":"VLOOKUP(B93,Summary!$B$30:$AK$374,5,FALSE)","v":30},{"$f":"D93*C93","v":90},null,0,{"$f":"G93*C93","v":0},{"$f":"+D93-G93","v":30},{"$f":"+I93*C93","v":90},null,0.95,28.5,0.95,0,null,"CENTURY EGG",4,120]
[34,"11034:Lok45-海鲜豆腐",3,{"$f":"VLOOKUP(B94,Summary!$B$30:$AK$374,5,FALSE)","v":52},{"$f":"D94*C94","v":156},null,0,{"$f":"G94*C94","v":0},{"$f":"+D94-G94","v":52},{"$f":"+I94*C94","v":156},null,0.8,41.6,0.8,0,null,"SEAFOOD TOFU ",3,156]
[35,"11035:Lok05-豆苗火腿",2,{"$f":"VLOOKUP(B95,Summary!$B$30:$AK$374,5,FALSE)","v":18},{"$f":"D95*C95","v":36},null,0,{"$f":"G95*C95","v":0},{"$f":"+D95-G95","v":18},{"$f":"+I95*C95","v":36},null,0.8,{"$f":"+L95*I95","v":14.4},{"$f":"+L95","v":0.8},{"$f":"+N95*G95","v":0}]
[36,"11036:Lok08-火鸡串",2.5,{"$f":"VLOOKUP(B96,Summary!$B$30:$AK$374,5,FALSE)","v":6},15,null,0,{"$f":"G96*C96","v":0},{"$f":"+D96-G96","v":6},{"$f":"+I96*C96","v":15},null,0.8,{"$f":"+L96*I96","v":4.8000000000000007},{"$f":"+L96","v":0.8},{"$f":"+N96*G96","v":0}]
[37,"11037:Lok09-芝士火腿",3,{"$f":"VLOOKUP(B97,Summary!$B$30:$AK$374,5,FALSE)","v":31},93,null,0,0,31,93,null,0.8,24.8,0.8,0]
[38,"11038:Lok10-蟹肉火腿",3,{"$f":"VLOOKUP(B98,Summary!$B$30:$AK$374,5,FALSE)","v":6},18,null,0,0,6,18,null,0.8,4.8000000000000007,0.8,0]
[39,"11039:Lok11-炸鸡球",3,{"$f":"VLOOKUP(B99,Summary!$B$30:$AK$374,5,FALSE)","v":6},18,null,0,0,6,18,null,0.8,4.8000000000000007,0.8,0]
[40,"11040:Lok13-鸡肉带子壳",4,{"$f":"VLOOKUP(B100,Summary!$B$30:$AK$374,5,FALSE)","v":1},4,null,0,0,1,4,null,0.8,0.8,0.8,0]
[41,"11041:Lok14-鸡肉腊肠",4,{"$f":"VLOOKUP(B101,Summary!$B$30:$AK$374,5,FALSE)","v":10},40,null,0,0,10,40,null,0.8,8,0.8,0]
[42,"11042:Lok19-黄金烧卖",2.5,{"$f":"VLOOKUP(B102,Summary!$B$30:$AK$374,5,FALSE)","v":15},37.5,null,0,0,15,37.5,null,0.8,12,0.8,0]
[43,"11043:Lok22-南乳炸肉",3,{"$f":"VLOOKUP(B103,Summary!$B$30:$AK$374,5,FALSE)","v":7},21,null,0,0,7,21,null,0.8,5.6000000000000005,0.8,0]
[44,"11044:Lok27-白雪菇",2,{"$f":"VLOOKUP(B104,Summary!$B$30:$AK$374,5,FALSE)","v":16},32,null,0,0,16,32,null,0.8,12.8,0.8,0]
[45,"11045:Lok34-烤鱼皮",4,{"$f":"VLOOKUP(B105,Summary!$B$30:$AK$374,5,FALSE)","v":9},36,null,0,0,9,36,null,0.8,7.2,0.8,0]
[46,"11046:Lok38-炸馒头",1.5,{"$f":"VLOOKUP(B106,Summary!$B$30:$AK$374,5,FALSE)","v":24},36,null,0,0,24,36,null,0.8,19.200000000000003,0.8,0]
[47,"11047:Lok39-酥脆炸包",1.5,{"$f":"VLOOKUP(B107,Summary!$B$30:$AK$374,5,FALSE)","v":7},10.5,null,0,0,7,10.5,null,0.8,5.6000000000000005,0.8,0]
[48,"11048:Lok41-鱼肉豆卜",2,{"$f":"VLOOKUP(B108,Summary!$B$30:$AK$374,5,FALSE)","v":4},{"$f":"D108*C108","v":8},null,0,{"$f":"G108*C108","v":0},{"$f":"+D108-G108","v":4},{"$f":"+I108*C108","v":8},null,0.8,{"$f":"+L108*I108","v":3.2},{"$f":"+L108","v":0.8},{"$f":"+N108*G108","v":0}]
[49,"11049:Lok42-脆皮保",2.5,{"$f":"VLOOKUP(B109,Summary!$B$30:$AK$374,5,FALSE)","v":0},0,null,0,0,0,0,null,0.8,0,0.8,0]
[50,"11049:Lok42-脆皮包",2.5,{"$f":"VLOOKUP(B110,Summary!$B$30:$AK$374,5,FALSE)","v":11},27.5,null,0,0,11,27.5,null,0.8,8.8000000000000007,0.8,0]
[51,"11050:Lok43-蛋黄家乡饺",2.5,{"$f":"VLOOKUP(B111,Summary!$B$30:$AK$374,5,FALSE)","v":12},30,null,0,0,12,30,null,0.8,9.6000000000000014,0.8,0]
[]
["Total Sales / COST"]
[null,null,null,{"$f":"SUM(D60:D94)","v":998},{"$f":"SUM(E60:E113)","v":2587.5},null,{"$f":"SUM(G60:G94)","v":1},{"$f":"SUM(H60:H113)","v":3},{"$f":"SUM(I60:I94)","v":997},{"$f":"SUM(J60:J113)","v":2584.5},null,null,{"$f":"SUM(M60:M113)","v":748.56999999999994},null,{"$f":"SUM(O60:O113)","v":0.93}]

{"sheet":"DAILY FOC ","index":6,"n_rows":42,"n_cols":69,"rows_kept":42,"cut":false,"hidden":false,"merged":[[6,13,6,14],[6,15,6,16],[6,17,6,18],[6,51,6,52],[6,53,6,54],[6,31,6,32],[6,33,6,34],[6,35,6,36],[6,37,6,38],[6,39,6,40],[6,41,6,42],[0,0,0,12],[6,43,6,44],[6,45,6,46],[6,47,6,48],[6,49,6,50],[6,19,6,20],[6,21,6,22],[6,23,6,24],[6,25,6,26],[6,27,6,28],[6,29,6,30],[6,3,6,4],[6,5,6,6],[6,7,6,8],[6,9,6,10],[6,11,6,12],[6,55,6,56],[6,57,6,58],[6,59,6,60],[6,61,6,62],[6,63,6,64]]}
["MONTHLY SALES FOOD RECORD ( SIDE ORDER & FOC )"]
[]
[{"$f":"+'K-LUNCH & K DINNER'!A3","v":"Outlet :"},{"$f":"+'K-LUNCH & K DINNER'!B3","v":"TSU OUTLET "}]
[{"$f":"+'K-LUNCH & K DINNER'!A4","v":"Month :"},{"$f":"+'K-LUNCH & K DINNER'!B4","v":"2013-10-01"}]
[]
[]
["CODE","Item","S/P",1,null,{"$f":"+D7+1","v":2},null,{"$f":"+F7+1","v":3},null,{"$f":"+H7+1","v":4},null,{"$f":"+J7+1","v":5},null,{"$f":"+L7+1","v":6},null,{"$f":"+N7+1","v":7},null,{"$f":"+P7+1","v":8},null,{"$f":"+R7+1","v":9},null,{"$f":"+T7+1","v":10},null,{"$f":"+V7+1","v":11},null,{"$f":"+X7+1","v":12},null,{"$f":"+Z7+1","v":13},null,{"$f":"+AB7+1","v":14},null,{"$f":"+AD7+1","v":15},null,{"$f":"+AF7+1","v":16},null,{"$f":"+AH7+1","v":17},null,{"$f":"+AJ7+1","v":18},null,{"$f":"+AL7+1","v":19},null,{"$f":"+AN7+1","v":20},null,{"$f":"+AP7+1","v":21},null,{"$f":"+AR7+1","v":22},null,{"$f":"+AT7+1","v":23},null,{"$f":"+AV7+1","v":24},null,{"$f":"+AX7+1","v":25},null,{"$f":"+AZ7+1","v":26},null,{"$f":"+BB7+1","v":27},null,{"$f":"+BD7+1","v":28},null,{"$f":"+BF7+1","v":29},null,{"$f":"+BH7+1","v":30},null,{"$f":"+BJ7+1","v":31},null,null,"TOTAL","TOTAL","%"]
[null,null,"RM","Q","RM","Q","RM","Q","RM","Q","RM","Q","RM","Q","RM","Q","RM","Q","RM","Q","RM","Q","RM","Q","RM","Q","RM","Q","RM","Q","RM","Q","RM","Q","RM","Q","RM","Q","RM","Q","RM","Q","RM","Q","RM","Q","RM","Q","RM","Q","RM","Q","RM","Q","RM","Q","RM","Q","RM","Q","RM","Q","RM","Q","RM",null,"Q","RM"]
[11401,"加饭",1,0,{"$f":"D9*C9","v":0},0,{"$f":"F9*C9","v":0},0,{"$f":"H9*C9","v":0},0,{"$f":"J9*C9","v":0},0,{"$f":"L9*C9","v":0},0,{"$f":"N9*C9","v":0},0,{"$f":"P9*C9","v":0},0,{"$f":"R9*C9","v":0},0,{"$f":"T9*C9","v":0},0,{"$f":"V9*C9","v":0},0,{"$f":"X9*C9","v":0},0,{"$f":"Z9*C9","v":0},0,{"$f":"AB9*C9","v":0},0,{"$f":"AD9*C9","v":0},0,{"$f":"AF9*C9","v":0},0,{"$f":"AH9*C9","v":0},0,{"$f":"AJ9*C9","v":0},0,{"$f":"AL9*C9","v":0},0,{"$f":"AN9*C9","v":0},0,{"$f":"AP9*C9","v":0},0,{"$f":"AR9*C9","v":0},0,{"$f":"AT9*C9","v":0},0,{"$f":"AV9*C9","v":0},0,{"$f":"AX9*C9","v":0},0,{"$f":"AZ9*C9","v":0},0,{"$f":"BB9*C9","v":0},0,{"$f":"BD9*C9","v":0},0,{"$f":"BF9*C9","v":0},0,{"$f":"BH9*C9","v":0},0,{"$f":"BJ9*C9","v":0},0,{"$f":"BL9*C9","v":0},null,{"$f":"D9+F9+H9+J9+L9+N9+P9+R9+T9+V9+X9+Z9+AB9+AD9+AF9+AH9+AJ9+AL9+AN9+AP9+AR9+AT9+AV9+AX9+AZ9+BB9+BD9+BF9+BH9+BJ9+BL9","v":0},{"$f":"BO9*C9","v":0}]
[11402,"加蛋",1,0,0,0,0,0,0,0,0,0,0,0,0,0,0,0,0,0,0,0,0,0,0,0,0,0,0,0,0,0,0,0,0,0,0,0,0,0,0,0,0,0,0,0,0,0,0,0,0,0,0,0,0,0,0,0,0,0,0,0,0,0,0,null,{"$f":"D10+F10+H10+J10+L10+N10+P10+R10+T10+V10+X10+Z10+AB10+AD10+AF10+AH10+AJ10+AL10+AN10+AP10+AR10+AT10+AV10+AX10+AZ10+BB10+BD10+BF10+BH10+BJ10+BL10","v":0},0]
[11501,"泰式鸡饭",7.9,0,0,0,0,0,0,0,0,0,0,0,0,0,0,0,0,0,0,0,0,0,0,0,0,0,0,0,0,0,0,0,0,0,0,0,0,0,0,0,0,0,0,0,0,0,0,0,0,0,0,0,0,0,0,0,0,0,0,0,0,0,0,null,0,0]
[11502,"妈蜜鸡饭",7.9,0,0,0,0,0,0,0,0,0,0,0,0,0,0,0,0,0,0,0,0,0,0,0,0,0,0,0,0,0,0,0,0,0,0,0,0,0,0,0,0,0,0,0,0,0,0,0,0,0,0,0,0,0,0,0,0,0,0,0,0,0,0,null,0,0]
[11505,"奶油鸡饭",7.9,0,0,0,0,0,0,0,0,0,0,0,0,0,0,0,0,0,0,0,0,0,0,0,0,0,0,0,0,0,0,0,0,0,0,0,0,0,0,0,0,0,0,0,0,0,0,0,0,0,0,0,0,0,0,0,0,0,0,0,0,0,0,null,0,0]
[11506,"港式炒饭",6.9,0,0,0,0,0,0,0,0,0,0,0,0,0,0,0,0,0,0,0,0,0,0,0,0,0,0,0,0,0,0,0,0,0,0,0,0,0,0,0,0,0,0,0,0,0,0,0,0,0,0,0,0,0,0,0,0,0,0,0,0,0,0,null,0,0]
[11507,"泰式鱼片饭",7.9,0,0,0,0,0,0,0,0,0,0,0,0,0,0,0,0,0,0,0,0,0,0,0,0,0,0,0,0,0,0,0,0,0,0,0,0,0,0,0,0,0,0,0,0,0,0,0,0,0,0,0,0,0,0,0,0,0,0,0,0,0,0,null,0,0]
[11508,"妈蜜鱼片饭",7.9,0,0,0,0,0,0,0,0,0,0,0,0,0,0,0,0,0,0,0,0,0,0,0,0,0,0,0,0,0,0,0,0,0,0,0,0,0,0,0,0,0,0,0,0,0,0,0,0,0,0,0,0,0,0,0,0,0,0,0,0,0,0,null,0,0]
[11509,"奶油鱼片饭",7.9,0,0,0,0,0,0,0,0,0,0,0,0,0,0,0,0,0,0,0,0,0,0,0,0,0,0,0,0,0,0,0,0,0,0,0,0,0,0,0,0,0,0,0,0,0,0,0,0,0,0,0,0,0,0,0,0,0,0,0,0,0,0,null,0,0]
[11510,"黑椒乌冬面",6.9,0,{"$f":"D18*C18","v":0},0,0,0,0,0,0,0,0,0,0,0,0,0,0,0,0,0,0,0,0,0,0,0,0,0,0,0,0,0,0,0,0,0,0,0,0,0,0,0,0,0,0,0,0,0,0,0,0,0,0,0,0,0,0,0,0,0,0,0,0,null,0,0]
[11517,"小薯脆脆",4.9000000000000004,0,0,0,0,0,0,0,0,0,0,0,0,0,0,0,0,0,0,0,0,0,0,0,0,0,0,0,0,0,0,0,0,0,0,0,0,0,0,0,0,0,0,0,0,0,0,0,0,0,0,0,0,0,0,0,0,0,0,0,0,0,0,null,0,0]
[11518,"酥炸金针菇",5.9,0,0,0,0,0,0,0,0,0,0,0,0,0,0,0,0,0,0,0,0,0,0,0,0,0,0,0,0,0,0,0,0,0,0,0,0,0,0,0,0,0,0,0,0,0,0,0,0,0,0,0,0,0,0,0,0,0,0,0,0,0,0,null,0,0]
[11519,"小小鱼丸",4.9000000000000004,0,0,0,0,0,0,0,0,0,0,0,0,0,0,0,0,0,0,0,0,0,0,0,0,0,0,0,0,0,0,0,0,0,0,0,0,0,0,0,0,0,0,0,0,0,0,0,0,0,0,0,0,0,0,0,0,0,0,0,0,0,0,null,0,0]
[11521,"家乡春卷",4.9000000000000004,0,0,0,0,0,0,0,0,0,0,0,0,0,0,0,0,0,0,0,0,0,0,0,0,0,0,0,0,0,0,0,0,0,0,0,0,0,0,0,0,0,0,0,0,0,0,0,0,0,0,0,0,0,0,0,0,0,0,0,0,0,0,null,0,0]
[11522,"洋葱圈圈",4.9000000000000004,0,0,0,0,0,0,0,0,0,0,0,0,0,0,0,0,0,0,0,0,0,0,0,0,0,0,0,0,0,0,0,0,0,0,0,0,0,0,0,0,0,0,0,0,0,0,0,0,0,0,0,0,0,0,0,0,0,0,0,0,0,0,null,0,0]
[11525,"小鸡块块",5.9,0,0,0,0,0,0,0,0,0,0,0,0,0,0,0,0,0,0,0,0,0,0,0,0,0,0,0,0,0,0,0,0,0,0,0,0,0,0,0,0,0,0,0,0,0,0,0,0,0,0,0,0,0,0,0,0,0,0,0,0,0,0,null,0,0]
[11528,"小乳鸡翅",7.9,0,0,0,0,0,0,0,0,0,0,0,0,0,0,0,0,0,0,0,0,0,0,0,0,0,0,0,0,0,0,0,0,0,0,0,0,0,0,0,0,0,0,0,0,0,0,0,0,0,0,0,0,0,0,0,0,0,0,0,0,0,0,null,0,0]
[11531,"香煎鸡扒",9.9,0,0,0,0,0,0,0,0,0,0,0,0,0,0,0,0,0,0,0,0,0,0,0,0,0,0,0,0,0,0,0,0,0,0,0,0,0,0,0,0,0,0,0,0,0,0,0,0,0,0,0,0,0,0,0,0,0,0,0,0,0,0,null,0,0]
[11532,"马里兰鸡扒",9.9,0,0,0,0,0,0,0,0,0,0,0,0,0,0,0,0,0,0,0,0,0,0,0,0,0,0,0,0,0,0,0,0,0,0,0,0,0,0,0,0,0,0,0,0,0,0,0,0,0,0,0,0,0,0,0,0,0,0,0,0,0,0,null,0,0]
[11533,"香炸鱼扒",9.9,0,0,0,0,0,0,0,0,0,0,0,0,0,0,0,0,0,0,0,0,0,0,0,0,0,0,0,0,0,0,0,0,0,0,0,0,0,0,0,0,0,0,0,0,0,0,0,0,0,0,0,0,0,0,0,0,0,0,0,0,0,0,null,0,0]
[11535,"鸡扒沙拉",7.9,0,0,0,0,0,0,0,0,0,0,0,0,0,0,0,0,0,0,0,0,0,0,0,0,0,0,0,0,0,0,0,0,0,0,0,0,0,0,0,0,0,0,0,0,0,0,0,0,0,0,0,0,0,0,0,0,0,0,0,0,0,0,null,0,0]
[11540,"小热狗包",3.9,0,0,0,0,0,0,0,0,0,0,0,0,0,0,0,0,0,0,0,0,0,0,0,0,0,0,0,0,0,0,0,0,0,0,0,0,0,0,0,0,0,0,0,0,0,0,0,0,0,0,0,0,0,0,0,0,0,0,0,0,0,0,null,0,0]
[11541,"小五香香",5.9,0,0,0,0,0,0,0,0,0,0,0,0,0,0,0,0,0,0,0,0,0,0,0,0,0,0,0,0,0,0,0,0,0,0,0,0,0,0,0,0,0,0,0,0,0,0,0,0,0,0,0,0,0,0,0,0,0,0,0,0,0,0,null,0,0]
[11542,"小肠湾湾",5.9,0,0,0,0,0,0,0,0,0,0,0,0,0,0,0,0,0,0,0,0,0,0,0,0,0,0,0,0,0,0,0,0,0,0,0,0,0,0,0,0,0,0,0,0,0,0,0,0,0,0,0,0,0,0,0,0,0,0,0,0,0,0,null,0,0]
[11543,"海鲜豆腐",4.9000000000000004,0,0,0,0,0,0,0,0,0,0,0,0,0,0,0,0,0,0,0,0,0,0,0,0,0,0,0,0,0,0,0,0,0,0,0,0,0,0,0,0,0,0,0,0,0,0,0,0,0,0,0,0,0,0,0,0,0,0,0,0,0,0,null,0,0]
[11544,"沙律卷卷",4.9000000000000004,0,0,0,0,0,0,0,0,0,0,0,0,0,0,0,0,0,0,0,0,0,0,0,0,0,0,0,0,0,0,0,0,0,0,0,0,0,0,0,0,0,0,0,0,0,0,0,0,0,0,0,0,0,0,0,0,0,0,0,0,0,0,null,0,0]
[11545,"金钱肉干",5.9,0,0,0,0,0,0,0,0,0,0,0,0,0,0,0,0,0,0,0,0,0,0,0,0,0,0,0,0,0,0,0,0,0,0,0,0,0,0,0,0,0,0,0,0,0,0,0,0,0,0,0,0,0,0,0,0,0,0,0,0,0,0,null,0,0]
[11901,"McCain Platter",13.9,0,0,0,0,0,0,0,0,0,0,0,0,0,0,0,0,0,0,0,0,0,0,0,0,0,0,0,0,0,0,0,0,0,0,0,0,0,0,0,0,0,0,0,0,0,0,0,0,0,0,0,0,0,0,0,0,0,0,0,0,0,0,null,0,0]
[11902,"McCain Beer",9.9,0,0,0,0,0,0,0,0,0,0,0,0,0,0,0,0,0,0,0,0,0,0,0,0,0,0,0,0,0,0,0,0,0,0,0,0,0,0,0,0,0,0,0,0,0,0,0,0,0,0,0,0,0,0,0,0,0,0,0,0,0,0,null,0,0]
[11903,"MC03-螺旋薯条",7.9,0,{"$f":"D38*C38","v":0},0,{"$f":"F38*C38","v":0},0,{"$f":"H38*C38","v":0},0,{"$f":"J38*C38","v":0},0,{"$f":"L38*C38","v":0},0,{"$f":"N38*C38","v":0},0,{"$f":"P38*C38","v":0},0,{"$f":"R38*C38","v":0},0,{"$f":"T38*C38","v":0},0,{"$f":"V38*C38","v":0},0,{"$f":"X38*C38","v":0},0,{"$f":"Z38*C38","v":0},0,{"$f":"AB38*C38","v":0},0,{"$f":"AD38*C38","v":0},0,{"$f":"AF38*C38","v":0},0,{"$f":"AH38*C38","v":0},0,{"$f":"AJ38*C38","v":0},0,{"$f":"AL38*C38","v":0},0,{"$f":"AN38*C38","v":0},0,{"$f":"AP38*C38","v":0},0,{"$f":"AR38*C38","v":0},0,{"$f":"AT38*C38","v":0},0,{"$f":"AV38*C38","v":0},0,{"$f":"AX38*C38","v":0},0,{"$f":"AZ38*C38","v":0},0,{"$f":"BB38*C38","v":0},0,{"$f":"BD38*C38","v":0},0,{"$f":"BF38*C38","v":0},0,{"$f":"BH38*C38","v":0},0,{"$f":"BJ38*C38","v":0},0,{"$f":"BL38*C38","v":0},null,{"$f":"D38+F38+H38+J38+L38+N38+P38+R38+T38+V38+X38+Z38+AB38+AD38+AF38+AH38+AJ38+AL38+AN38+AP38+AR38+AT38+AV38+AX38+AZ38+BB38+BD38+BF38+BH38+BJ38+BL38","v":0},{"$f":"BO38*C38","v":0}]
[11904,"MC04-迷你薯饼",7.9,0,0,0,0,0,0,0,0,0,0,0,0,0,0,0,0,0,0,0,0,0,0,0,0,0,0,0,0,0,0,0,0,0,0,0,0,0,0,0,0,0,0,0,0,0,0,0,0,0,0,0,0,0,0,0,0,0,0,0,0,0,0,null,{"$f":"D39+F39+H39+J39+L39+N39+P39+R39+T39+V39+X39+Z39+AB39+AD39+AF39+AH39+AJ39+AL39+AN39+AP39+AR39+AT39+AV39+AX39+AZ39+BB39+BD39+BF39+BH39+BJ39+BL39","v":0},{"$f":"BO39*C39","v":0}]
[11905,"MC05-笑面薯饼",7.9,0,0,0,0,0,0,0,0,0,0,0,0,0,0,0,0,0,0,0,0,0,0,0,0,0,0,0,0,0,0,0,0,0,0,0,0,0,0,0,0,0,0,0,0,0,0,0,0,0,0,0,0,0,0,0,0,0,0,0,0,0,0,null,0,0]
[]
[null,"Total Foc","-",{"$f":"SUM(D9:D40)","v":0},0,0,0,0,0,0,0,0,0,0,0,0,0,0,0,0,0,0,0,0,0,0,0,0,0,0,0,0,0,0,0,0,0,0,0,0,0,0,0,{"$f":"SUM(AR9:AR40)","v":0},{"$f":"SUM(AS9:AS40)","v":0},{"$f":"SUM(AT9:AT40)","v":0},0,0,0,0,0,0,0,0,0,0,0,0,0,0,0,0,0,0,{"$f":"SUM(BM9:BM40)","v":0},null,{"$f":"SUM(BO9:BO41)","v":0},{"$f":"SUM(BP9:BP41)","v":0}]

{"sheet":"SAUCE USAGE","index":7,"n_rows":62,"n_cols":9,"rows_kept":62,"cut":false,"hidden":false,"merged":[[6,5,6,7],[51,0,51,2]]}
["MONTHLY SERVINGS: SAUCE "]
[]
[{"$f":"+'[4]K-LUNCH & K DINNER'!A3","v":"Outlet :"},{"$f":"+'[4]K-LUNCH & K DINNER'!B3","v":"TSU OUTLET "}]
[{"$f":"+'[4]K-LUNCH & K DINNER'!A4","v":"Month :"},{"$f":"+'K-LUNCH & K DINNER'!B4","v":"2013-10-01"}]
[]
[]
[null,null,null,"FROM POS",null,"USAGE"]
["NO","Item","COST","SERVINGS",null,"MATERIAL ","RECIPE","TOTAL","TOTAL COST"]
[null,null,"RM","Q",null,"Q","GRAM","GRAM ","RM"]
[null,"ALL USAGE",null,null,null,null,null,null,{"$f":"+H10*C10","v":0}]
[1,"11537:M/S 蘑菇酱",4.5999999999999999E-3,{"$f":"VLOOKUP(B11,Summary!$B$30:$AK$372,5,FALSE)","v":191},null,"MUSHROOM SAUCE",50,{"$f":"+G11*D11","v":9550},{"$f":"+H11*C11","v":43.93}]
[{"$f":"+A11+1","v":2},"11539:B/P-黑椒酱",3.0000000000000001E-3,{"$f":"VLOOKUP(B12,Summary!$B$30:$AK$372,5,FALSE)","v":217},null,"BLACK PEPPER SAUCE",30,{"$f":"+G12*D12","v":6510},{"$f":"+H12*C12","v":19.53}]
[]
[null,"CUSTOMER REQUEST",null,null,null,null,null,null,0]
[{"$f":"+A12+1","v":3},"11801:R-B/P Sauce ",3.0000000000000001E-3,{"$f":"VLOOKUP(B15,Summary!$B$30:$AK$372,5,FALSE)","v":2},null,"BLACK PEPPER SAUCE",30,60,0.18]
[{"$f":"+A15+1","v":4},"11802:R-Mushroom Sauce",4.5999999999999999E-3,{"$f":"VLOOKUP(B16,Summary!$B$30:$AK$372,5,FALSE)","v":1},null,"MUSHROOM SAUCE",50,50,0.22999999999999998]
[5,"11803:R-Butter Sauce",0.01,{"$f":"VLOOKUP(B17,Summary!$B$30:$AK$372,5,FALSE)","v":8},null,"BUTTER SAUCE ",30,240,2.4]
[6,"11804:R-Thousand Island",0.01,{"$f":"VLOOKUP(B18,Summary!$B$30:$AK$372,5,FALSE)","v":2},null,"THOUSAND ISLAND",30,60,0.6]
[7,"11805:R-Tar Tar Sauce",0.01,{"$f":"VLOOKUP(B19,Summary!$B$30:$AK$372,5,FALSE)","v":3},null,"TAR TAR SAUCE",40,120,1.2]
[8,"11806:R-Mayonaisse",8.9999999999999993E-3,{"$f":"VLOOKUP(B20,Summary!$B$30:$AK$372,5,FALSE)","v":23},null,"MAYONAISSE",40,920,8.2799999999999994]
[9,"11807:R-Thai Style Sauce",6.4999999999999997E-3,{"$f":"VLOOKUP(B21,Summary!$B$30:$AK$372,5,FALSE)","v":0},null,"THAI STYLE SAUCE ",38,0,0]
[10,"11808:R-Marmite Sauce",1.6000000000000001E-3,{"$f":"VLOOKUP(B22,Summary!$B$30:$AK$372,5,FALSE)","v":1},null,"MARMITE SAUCE",30,30,4.8000000000000001E-2]
[11,"11809:R-Tomato Sauce",3.0000000000000001E-3,{"$f":"VLOOKUP(B23,Summary!$B$30:$AK$372,5,FALSE)","v":0},null,"TOMATO SAUCE",30,0,0]
[12,"11810:R-Gravy Sauce",null,{"$f":"VLOOKUP(B24,Summary!$B$30:$AK$372,5,FALSE)","v":0},null,null,null,null,0]
[13,"11811:R-Sambal Sauce",null,{"$f":"VLOOKUP(B25,Summary!$B$30:$AK$372,5,FALSE)","v":0},null,null,null,null,0]
[14,"118152:R-Bolognaise Sauce",null,{"$f":"VLOOKUP(B26,Summary!$B$30:$AK$372,5,FALSE)","v":0},null,null,null,null,0]
[15,"11813:R-Chilli Padi",3.0000000000000001E-3,{"$f":"VLOOKUP(B27,Summary!$B$30:$AK$372,5,FALSE)","v":0},null,"CHILLI SAUCE",33.299999999999997,{"$f":"+G27*D27","v":0},0]
[]
[null,"K LUNCH",null,null,null,null,null,null,{"$f":"+H29*C29","v":0}]
[16,"11602:L -C02-妈蜜鸡饭",1.6000000000000001E-3,{"$f":"VLOOKUP(B30,Summary!$B$30:$AK$372,5,FALSE)","v":55},null,"MARMITE SAUCE",30,{"$f":"+G30*D30","v":1650},{"$f":"+H30*C30","v":2.64}]
[17,"11605:L -C03-奶油鸡饭",0.01,{"$f":"VLOOKUP(B31,Summary!$B$30:$AK$372,5,FALSE)","v":52},null,"BUTTER SAUCE ",30,{"$f":"+G31*D31","v":1560},{"$f":"+H31*C31","v":15.6}]
[18,"11608:L-C08-妈蜜鱼扒饭",1.6000000000000001E-3,{"$f":"VLOOKUP(B32,Summary!$B$30:$AK$372,5,FALSE)","v":14},null,"MARMITE SAUCE",30,{"$f":"+G32*D32","v":420},{"$f":"+H32*C32","v":0.67200000000000004}]
[19,"11609:L-C09-奶油鱼扒饭",0.01,{"$f":"VLOOKUP(B33,Summary!$B$30:$AK$372,5,FALSE)","v":30},null,"BUTTER SAUCE ",30,{"$f":"+G33*D33","v":900},{"$f":"+H33*C33","v":9}]
[]
[null,"K DINNER ",null,null,null,null,null,null,{"$f":"+H35*C35","v":0}]
[20,"11702:D -C02-妈蜜鸡饭",1.6000000000000001E-3,{"$f":"VLOOKUP(B36,Summary!$B$30:$AK$372,5,FALSE)","v":0},null,"MARMITE SAUCE",30,0,0]
[21,"11705:D -C03-奶油鸡饭",0.01,{"$f":"VLOOKUP(B37,Summary!$B$30:$AK$372,5,FALSE)","v":0},null,"BUTTER SAUCE ",30,0,0]
[22,"11778:D -C08-妈蜜鱼片饭",1.6000000000000001E-3,{"$f":"VLOOKUP(B38,Summary!$B$30:$AK$372,5,FALSE)","v":0},null,"MARMITE SAUCE",30,0,0]
[23,"11779:D -C09-奶油鱼片饭",0.01,{"$f":"VLOOKUP(B39,Summary!$B$30:$AK$372,5,FALSE)","v":0},null,"BUTTER SAUCE ",30,0,0]
[]
[]
[null,"SIDE ORDER"]
[24,"11502:C02-妈蜜鸡饭",1.6000000000000001E-3,{"$f":"VLOOKUP(B43,Summary!$B$30:$AK$372,5,FALSE)","v":50},null,"MARMITE SAUCE",30,1500,2.4]
[25,"11505:C03-奶油鸡饭",0.01,{"$f":"VLOOKUP(B44,Summary!$B$30:$AK$372,5,FALSE)","v":68},null,"BUTTER SAUCE ",30,2040,20.400000000000002]
[26,"11508:C08-妈蜜鱼扒饭",1.6000000000000001E-3,{"$f":"VLOOKUP(B45,Summary!$B$30:$AK$372,5,FALSE)","v":16},null,"MARMITE SAUCE",30,480,0.76800000000000002]
[27,"11509:C09-奶油鱼扒饭",0.01,{"$f":"VLOOKUP(B46,Summary!$B$30:$AK$372,5,FALSE)","v":20},null,"BUTTER SAUCE ",30,600,6]
[]
[]
[]
[]
[]
["Total Sales / COST",null,null,null,null,null,null,null,{"$f":"SUM(I11:I51)","v":133.87799999999999}]
[]
[]
[]
[]
[]
[]
[]
[]
[]
[null,null,null,null,null,null,null,{"$f":"SUBTOTAL(9,H11:H16)","v":16170}]