{"text_format":"1","workbook":"xlsx","n_sheets":10,"sheets":["DATABASE","Summary","Daily Log","STOCK ANALYSIS","CLOSING STOCK","K-LUNCH & K DINNER","LOK LOK ","SIDE ORDER & FOC","DAILY FOC","SAUCE USAGE"],"not_rendered":{"charts":0,"images":5,"macros":0,"external_links":6,"defined_names":14,"comments":2,"pivot_tables":0},"unopened":[],"bounds":{"document_bytes":16777216,"sheet_cells":100000,"rows_first":2000,"rows_last":500,"rows_between":2000,"halvings":0,"cell_chars":16384,"cell_head_chars":4096},"cells_cut":0,"cells_raw":0,"read":"whole","date_system":"1900"}

{"sheet":"DATABASE","index":0,"n_rows":81,"n_cols":16,"rows_kept":81,"cut":false,"hidden":false,"merged":[]}
[null,null,"COST",null,null,null,null,null,"COST",null,null,null,"COST",null,null,"COST"]
[]
[null,"DH01 91101:THAI CHK",3.29,null,null,"DC01 1101:THAI CHK",null,null,{"$f":"+C3","v":3.29},null,null,"JK101 LLB Thai Chk Ric",{"$f":"+I3","v":3.29},null,"JM101 C.Chicken Sausag",0.39]
[null,"DH02 91102:MAMITE CHK",3.02,null,null,"DC02 1102:MAMITE CHK",null,null,{"$f":"+C4","v":3.02},null,null,"JK102 Marmite Chk Rice",{"$f":"+I4","v":3.02},null,"JM102 Beef Ball",0.65]
[null,"DH03 91103:KO PO CHK",3.45,null,null,"DC03 1103:KO PO CHK",null,null,3.45,null,null,null,null,null,"JM103 Chicken Kidney",1]
[null,"DH04 91104:S&S CHK",3.45,null,null,"DC04 1104:S&S CHK",null,null,3.45,null,null,"JK104 S&S Chk Rice",{"$f":"+I6","v":3.45},null,"JM104 Chicken Liver",1]
[null,"DH05 91105:BUTTER CHK",3.32,null,null,"DC05 1105:BUTTER CHK",null,null,3.32,null,null,"JK105 B.Cream.Chk Rice",3.32,null,"JM105 Cheese C.Sausage",0.8]
[null,"DH06 91106:HK F.RICE",3.16,null,null,"DC06 1106:HK F.RICE",null,null,3.16,null,null,"JK106 H.K Fried Rice",3.16,null,"JM106 B.P C.Sausage",0.8]
[null,"DH07 91107:SBL F.RICE",2.41,null,null,"DC07 1107:SBL F.RICE",null,null,2.41,null,null,"JK107 LLBSambal F.Rice",2.41,null,"JM107 S.Fill beef Ball",1.05]
[null,"DH08 91108:SBL F.MEE",2.8,null,null,"DC08 1108:SBL F.MEE",null,null,2.8,null,null,"JK108 LLB S.Fried MEE",2.8,null,"JM108 Pandan Chicken",1.64]
[null,"DH09 91109:BP UDON",2.08,null,null,"DC09 1109:BP UDON",null,null,2.08,null,null,"JK109 LLB BP Udon Mee",2.08,null,"JM109 S. Duck Breast",2.13]
[null,"DH10 91110:NISSIN",2.3199999999999998,null,null,"DC10 1110:NISSIN",null,null,2.3199999999999998,null,null,"JK110 LLB Nisin Noodle",2.3199999999999998,null,"JM110 Grill.B.Chk.Wing",2.8]
[null,"DH11 91111:VEG RICE",1.6,null,null,"DC11 1111:VEG RICE",null,null,1.6,null,null,"JK111 LLB S.M.Ver Rice",{"$f":"+I13","v":1.6},null,"JN211 Pork Meatball s",0.55000000000000004]
[null,"DH12 91112:NASI LEMAK",3.56,null,null,"DC12 1112:NASI LEMAK",null,null,3.56]
[null,"DH13 91113:KUEY TEOW",3.16,null,null,"DC13 1113:KUEY TEOW",null,null,3.16,null,null,null,null,null,"JN213 P. Sauage Slices",0.96]
[null,"DH14 91114:F.BALL MEE",2.59,null,null,"DC14 1114:F.BALL MEE",null,null,2.59,null,null,null,null,null,"JN214 Pork Dumplings",1.2]
[null,"DH15 91115:CHK NOODLE",4.71,null,null,"DC15 1115:CHK NOODLE",null,null,4.71,null,null,"JK115 LLB B.Noodle.Chk",{"$f":"+I17","v":4.71},null,"JN215 Pork Meatball B",0.78]
[null,"DH16 91116:MGL CHK",3.54,null,null,"DC16 1116:MGL CHICKEN",null,null,3.54,null,null,"JK116 LLB Mon.Chk Rice",3.54,null,"JN216 Pork Liver",1.2]
[null,"DG01 91001:BP CHK CP",4.41,null,null,"DB01 1001:BP CKN CP",null,null,4.41,null,null,"JK001 LLB BP CHK CHOP",4.41,null,"JN217 Taiwan Sausage",1.02]
[null,"DG02 91002:GVY CHK CP",4.43,null,null,"DB02 1002:GVY CHK CP",null,null,4.43,null,null,"JK002 LLB G.S C. CHOP",4.43,null,"JN218 Bacon",0.95]
[null,"DG03 91003:MSR CHK CP",4.75,null,null,"DB03 1003:MSR CKN CP",null,null,4.75,null,null,"JK003 LLB MSR CHK CHOP",4.75,null,"JN219 Pork Rinds",1.5]
[null,"DG04 91004:CKN MARY",5.98,null,null,"DB04 1004:CKN MARY",null,null,5.98,null,null,"JK004 LLB CHK MARRYLAN",5.98,null,"JN220 Sauce Filll Ball",1.5]
[null,"DG05 91005:FISH&CHIP",4.32,null,null,"DB05 1005:FISH&CHIP",null,null,4.32,null,null,"JK005 LLB Fish & Chip",4.32]
[null,"DG06 91006:SPAGHETTI",2.1,null,null,"DB06 1006:SPAGHETTI",null,null,2.1,null,null,"JK006 LLB Spaghetti",2.1,null,"JN222 Enoki Bacon Roll",1.5]
[null,"DG07 91007:CHK SALAD",4.9400000000000004,null,null,"DB07 1007:CHK SALAD",null,null,4.9400000000000004,null,null,"JK007 LLB CHK .C.SALAD",4.9400000000000004,null,"JO323 Fish Wanton",0.45]
[null,"DI01 91201:SFD STICK",2,null,null,"DD01 1201:SFD STICK",null,null,2,null,null,null,null,null,"JO324 M. Fried F. Cake",0.6]
[null,null,null,null,null,null,null,null,null,null,null,null,null,null,"JO325 Spicy Fish Cake",0.48]
[null,null,null,null,null,null,null,null,null,null,null,null,null,null,"JO326 Fresh Clam",1.5]
[null,"DI02 91202:FREN FRIES",1.76,null,null,"DD02 1202:FREN FRIES",null,null,{"$f":"+C29","v":1.76},null,null,null,null,null,"JO327 Wu Xiang F.Ball",0.7]
[null,"DI03 91203:GOLD MROOM",2.15,null,null,"DD03 1203:GOLD MROOM",null,null,{"$f":"+C30","v":2.15},null,null,null,null,null,"JO328 Xi Dao Fish Ball",0.65]
[null,"DI04 91204:FISHBALL",1.56,null,null,"DD04 1204:FISHBALL",null,null,1.56,null,null,null,null,null,"JO329 Fish Ball (S)",0.65]
[null,"DI05 91205:RAINBOW RL",2.5,null,null,"DD05 1205:RAINBOW RL",null,null,2.5,null,null,null,null,null,"JO330 Tofu Fish Ball",0.6]
[null,"DI06 91206:SPRING RL",2.67,null,null,"DD06 1206:SPRING RL",null,null,2.67,null,null,null,null,null,"JO331 Prawn Ball",0.39]
[null,"DI07 91207:SAUSAGE",1.24,null,null,"DD07 1207:SAUSAGE",null,null,1.24,null,null,null,null,null,"JO332 Abalone Slices",0.72]
[null,"DI08 91208:HOTDOG BUN",null,null,null,null,null,null,null,null,null,null,null,null,"JO333 Prawn C. sausage",0.56999999999999995]
[null,"DI09 91209:SFD TOFU",null,null,null,null,null,null,null,null,null,null,null,null,"JO334 FISH BALL BIG",1]
[null,"DI10 91301:DUMPLING",4.5,null,null,"DD10 1301:DUMPLING",null,null,{"$f":"+C37","v":4.5},null,null,null,null,null,"JO335 Tempura Prawn",0.9]
[null,"DI11 91302:NUGGET",2.4300000000000002,null,null,"DD11 1302:NUGGET",null,null,{"$f":"+C38","v":2.4300000000000002},null,null,null,null,null,"JO336 Breaded CarbClaw",0.9]
[null,"DI12 91303:CHK WING",3.97,null,null,"DD12 1303:CHK WING",null,null,3.97,null,null,null,null,null,"JO337 C.Shrimp.F.Paste",0.73]
[null,"DI13 91304:IKAN BILIS",2.1800000000000002,null,null,"DD13 1304:IKAN BILIS",null,null,2.1800000000000002,null,null,null,null,null,"JO338 Otak Fish Paste",0.67]
[null,"DI14 91305:THAI RL",3.61,null,null,"DD14 1305:THAI RL",null,null,3.61,null,null,null,null,null,"JO339 Salmon Ball",0.9]
[null,"DI15 91306:SLVR FISH",null,null,null,"DD15 1306:SLVR FISH",null,null,0,null,null,null,null,null,"JO340 Fuzhou Fish Ball",1.29]
[null,"DI16 91307:D/F C.WING",4.3099999999999996,null,null,"DD16 1307:D.F C/WING",null,null,4.3099999999999996,null,null,null,null,null,"JO341 Scallop Ball",1.02]
[null,"DI17 91308:C/CALAMARI",3.69,null,null,"DD17 1308 C/CALAMARI",null,null,3.69,null,null,null,null,null,"JO342 Taiwan C.F. Ball",1.17]
[null,"DI18 91309:Mc O.RINGS",1.72,null,null,"DD18 1309 Mc C/O.RING",null,null,1.72,null,null,null,null,null,"JO343 Cuttlefish Roll",1.06]
[null,"DI19 91310:McSPIRAL.F",1.72,null,null,"DD19 1310:Mc SPIRAL/F",null,null,1.72,null,null,null,null,null,"JO344 M.Seafood Ball",1.02]
[null,"DI20 91311Mc H/SMILES",1.34,null,null,"DD20 1311:Mc H/SMILES",null,null,1.34,null,null,null,null,null,"JO345 Cuttlefish",1.5]
[null,"DI21 91312:Mc HASH.B",0.59,null,null,"DD21 1312:Mc HASH BRW",null,null,0.59,null,null,null,null,null,"JO346 Shisamo",1.5]
[null,null,null,null,null,"ZAB01 1201:SFD STICK",null,null,2,null,null,null,null,null,"JO347 Tiger Prawn",1.5]
[null,null,null,null,null,null,null,null,null,null,null,null,null,null,"JP448 Botton Mushroom",0.6]
[null,null,null,null,null,"ZAB02 1202:FRIES",null,null,1.76,null,null,null,null,null,"JP449 Kang Kong",0.4]
[null,null,null,null,null,"ZAB03 1203:GOLD MROOM",null,null,2.15,null,null,null,null,null,"JP450 Broccali",0.5]
[null,null,null,null,null,"ZAB04 1204:F.BALL",null,null,1.56,null,null,null,null,null,"JP451 Long Bean",0.3]
[null,null,null,null,null,"ZAB06 1206:SPRING RL",null,null,2.5,null,null,null,null,null,"JP452 Fried A.Mushroom",0.4]
[null,null,null,null,null,"ZAB07 1207:SAUSAGE",null,null,2.67,null,null,null,null,null,"JP453 Shiitake Mushrom",0.7]
[null,null,null,null,null,"ZAC02 1302:NUGGET",null,null,1.24,null,null,null,null,null,"JQ554 M.Fish Eggplant",0.52]
[null,null,null,null,null,"ZAC03 1303:CHK WING",null,null,3.97,null,null,null,null,null,"JQ555 M.Fish Chilli",0.52]
[null,null,null,null,null,"ZAC04 1304:IKAN BILIS",null,null,2.1800000000000002,null,null,null,null,null,"JQ556 M.Fish Lady's F",0.52]
[null,null,null,null,null,"ZAC05 1305:THAI RL",null,null,3.61,null,null,null,null,null,"JQ557 Chrisy Beabcurd",0.33]
[null,null,null,null,null,"ZAC07 1307:D/F C.WINGS",null,null,4.3099999999999996,null,null,null,null,null,"JQ558 Quail Eggs",0.56000000000000005]
[null,null,null,null,null,"ZAC08 1308:C/CALAMARI",null,null,3.69,null,null,null,null,null,"JQ559 Fried Wanton",0.9]
[null,null,null,null,null,"ZAC09 1309:Mc /O.RINGS",null,null,1.72,null,null,null,null,null,"JQ560 L.G.Potato Samos",0.7]
[null,null,null,null,null,"ZAC10 1310:Mc SPIRAL/F",null,null,1.72,null,null,null,null,null,"JQ561 F.Vege Ball",0.75]
[null,null,null,null,null,"ZAC11 1311:Mc H/SMILES",null,null,1.34,null,null,null,null,null,"JQ562 Minced Fish Ball",1.02]
[null,null,null,null,null,"ZAC12 1312:Mc HASH/B",null,null,0.59,null,null,null,null,null,"JQ563 Seafood Tofu",0.87]
[null,null,null,null,null,"DL01 3001:6'HAWAIIAN",null,null,3.25,null,null,null,null,null,"JQ564 Spring Roll",1]
[null,null,null,null,null,"DL02 3002:6'SMOKE BBQ",null,null,4.59,null,null,null,null,null,"JQ565 Quail Century Eg",0.81]
[null,null,null,null,null,"DL03 3003:6'SEAFOOD",null,null,5.13,null,null,null,null,null,"JQ566 Thai Roll",1.2]
[null,null,null,null,null,"DL04 3004:6'SPICY BUF",null,null,2.99,null,null,null,null,null,"JQ567 Cheese S.Tofu",1.02]
[null,null,null,null,null,"DL05 3005:6'VEGGIE",null,null,3.62,null,null,null,null,null,"JQ568 Rice Skin  Roll",1.2]
[null,null,null,null,null,"DL06 3001:9'HAWAIIAN",null,null,5.79,null,null,null,null,null,"JR01 PACKAGE A",8.2799999999999994]
[null,null,null,null,null,"DL07 3002:9'SMOKED",null,null,8.2100000000000009,null,null,null,null,null,"JR02 PACKAGE B",8.4600000000000009]
[null,null,null,null,null,"DL08 3003:9'SEAFOOD",null,null,9.48]
[null,null,null,null,null,"DL09 3004:9'SPICY B",null,null,5.38]
[null,null,null,null,null,"DL10 3005:9'VEGGIE",null,null,6.96]
[null,null,null,null,null,"DM01 SNACK PLATTER(A)",null,null,4.5999999999999996]
[null,null,null,null,null,"DM02 SNACK PLATTER(B)",null,null,4.5999999999999996]
[null,null,null,null,null,"DM03 CNY platter(A)",null,null,9.81]
[null,null,null,null,null,"DM04 CNY platter (B)",null,null,9.81]
[null,null,null,null,null,"DF01 ADD RICE",null,null,0.5]
[null,null,null,null,null,"DF02 ADD F.EGG",null,null,0.34]

{"sheet":"Summary","index":1,"n_rows":442,"n_cols":37,"rows_kept":442,"cut":false,"hidden":false,"merged":[[437,1,437,2],[438,1,438,2],[439,1,439,2],[432,1,432,2],[433,1,433,2],[434,1,434,2],[435,1,435,2],[436,1,436,2],[427,1,427,2],[428,1,428,2],[429,1,429,2],[430,1,430,2],[431,1,431,2],[422,1,422,2],[423,1,423,2],[424,1,424,2],[425,1,425,2],[426,1,426,2],[417,1,417,2],[418,1,418,2],[419,1,419,2],[420,1,420,2],[421,1,421,2],[412,1,412,2],[413,1,413,2],[414,1,414,2],[415,1,415,2],[416,1,416,2],[407,1,407,2],[408,1,408,2],[409,1,409,2],[410,1,410,2],[411,1,411,2],[402,1,402,2],[403,1,403,2],[404,1,404,2],[405,1,405,2],[406,1,406,2],[397,1,397,2],[398,1,398,2],[399,1,399,2],[400,1,400,2],[401,1,401,2],[392,1,392,2],[393,1,393,2],[394,1,394,2],[395,1,395,2],[396,1,396,2],[387,1,387,2],[388,1,388,2],[389,1,389,2],[390,1,390,2],[391,1,391,2],[382,1,382,2],[383,1,383,2],[384,1,384,2],[385,1,385,2],[386,1,386,2],[377,1,377,2],[378,1,378,2],[379,1,379,2],[380,1,380,2],[381,1,381,2],[372,1,372,2],[373,1,373,2],[374,1,374,2],[375,1,375,2],[376,1,376,2],[5,2,5,3],[7,2,7,3],[9,2,9,3],[28,1,28,2],[371,1,371,2]]}
[]
[]
[null,null,"SUMMARY OF PRODUCT SALES IN MONTH"]
[]
[]
[null,"OUTLET",{"$f":"MID(CELL(\"FILENAME\",$A$1),FIND(\"[\",CELL(\"FILENAME\",$A$1))+1,3)","v":"CCS"}]
[]
[null,"YEAR",{"$f":"MID(CELL(\"FILENAME\",$A$1),FIND(\"[\",CELL(\"FILENAME\",$A$1))+4,4)","v":"2013"}]
[]
[null,"MONTH",{"$f":"INDEX($C$12:$C$23,MID(CELL(\"FILENAME\",$A$1),FIND(\"[\",CELL(\"FILENAME\",$A$1))+8,2),1)","v":"SEPTEMBER"}]
[]
[null,"MONTH","JANUARY"]
[null,null,"FEBRUARY"]
[null,null,"MARCH"]
[null,null,"APRIL"]
[null,null,"MAY"]
[null,null,"JUNE"]
[null,null,"JULY"]
[null,null,"AUGUST"]
[null,null,"SEPTEMBER"]
[null,null,"OCTOBER"]
[null,null,"NOVEMBER"]
[null,null,"DECEMBER"]
[]
[]
[null,"PRODUCT",null,"CATEGORY","QTY","QUANTITIES SOLD IN MONTH"]
[null,null,null,null,"PER","TOTAL",{"$f":"DATE(C8,MID(CELL(\"FILENAME\",$A$1),FIND(\"[\",CELL(\"FILENAME\",$A$1))+8,2),1)","v":"2013-09-01"},{"$f":"IFERROR(IF(MONTH(G27+1)<=MONTH($G$27),G27+1,\"\"),\"\")","v":"2013-09-02"},{"$f":"IFERROR(IF(MONTH(H27+1)<=MONTH($G$27),H27+1,\"\"),\"\")","v":"2013-09-03"},"2013-09-04","2013-09-05","2013-09-06","2013-09-07","2013-09-08","2013-09-09","2013-09-10","2013-09-11","2013-09-12","2013-09-13","2013-09-14","2013-09-15","2013-09-16","2013-09-17","2013-09-18","2013-09-19","2013-09-20","2013-09-21","2013-09-22","2013-09-23","2013-09-24","2013-09-25","2013-09-26","2013-09-27","2013-09-28","2013-09-29","2013-09-30",""]
[null,null,null,null,"ITEM"]
[]
[null,"BA01 K : 4BP",null,"BEER",12,{"$f":"SUM($G30:$AK30)","v":0},{"$f":"IFERROR($E30*SUMIF('[1]Daily Log'!$B$18:$B$1017,$B30,'[1]Daily Log'!$C$18:$C$1017),0)","v":0},{"$f":"IFERROR($E30*SUMIF('[2]Daily Log'!$E$18:$E$1017,$B30,'[2]Daily Log'!$F$18:$F$1017),0)","v":0},{"$f":"IFERROR($E30*SUMIF('[3]Daily Log'!$H$18:$H$1017,$B30,'[3]Daily Log'!$I$18:$I$1017),0)","v":0},{"$f":"IFERROR($E30*SUMIF('[3]Daily Log'!$K$18:$K$1017,$B30,'[3]Daily Log'!$L$18:$L$1017),0)","v":0},{"$f":"IFERROR($E30*SUMIF('[3]Daily Log'!$N$18:$N$1017,$B30,'[3]Daily Log'!$O$18:$O$1017),0)","v":0},{"$f":"IFERROR($E30*SUMIF('[3]Daily Log'!$Q$18:$Q$1017,$B30,'[3]Daily Log'!$R$18:$R$1017),0)","v":0},{"$f":"IFERROR($E30*SUMIF('[3]Daily Log'!$T$18:$T$1017,$B30,'[3]Daily Log'!$U$18:$U$1017),0)","v":0},{"$f":"IFERROR($E30*SUMIF('[3]Daily Log'!$W$18:$W$1017,$B30,'[3]Daily Log'!$X$18:$X$1017),0)","v":0},{"$f":"IFERROR($E30*SUMIF('[3]Daily Log'!$Z$18:$Z$1017,$B30,'[3]Daily Log'!$AA$18:$AA$1017),0)","v":0},{"$f":"IFERROR($E30*SUMIF('[3]Daily Log'!$AC$18:$AC$1017,$B30,'[3]Daily Log'!$AD$18:$AD$1017),0)","v":0},{"$f":"IFERROR($E30*SUMIF('[3]Daily Log'!$AF$18:$AF$1017,$B30,'[3]Daily Log'!$AG$18:$AG$1017),0)","v":0},{"$f":"IFERROR($E30*SUMIF('[3]Daily Log'!$AI$18:$AI$1017,$B30,'[3]Daily Log'!$AJ$18:$AJ$1017),0)","v":0},{"$f":"IFERROR($E30*SUMIF('[3]Daily Log'!$AL$18:$AL$1017,$B30,'[3]Daily Log'!$AM$18:$AM$1017),0)","v":0},{"$f":"IFERROR($E30*SUMIF('[3]Daily Log'!$AO$18:$AO$1017,$B30,'[3]Daily Log'!$AP$18:$AP$1017),0)","v":0},{"$f":"IFERROR($E30*SUMIF('[3]Daily Log'!$AR$18:$AR$1017,$B30,'[3]Daily Log'!$AS$18:$AS$1017),0)","v":0},{"$f":"IFERROR($E30*SUMIF('[3]Daily Log'!$AU$18:$AU$1017,$B30,'[3]Daily Log'!$AV$18:$AV$1017),0)","v":0},{"$f":"IFERROR($E30*SUMIF('[3]Daily Log'!$AX$18:$AX$1017,$B30,'[3]Daily Log'!$AY$18:$AY$1017),0)","v":0},{"$f":"IFERROR($E30*SUMIF('[3]Daily Log'!$BA$18:$BA$1017,$B30,'[3]Daily Log'!$BB$18:$BB$1017),0)","v":0},{"$f":"IFERROR($E30*SUMIF('[3]Daily Log'!$BD$18:$BD$1017,$B30,'[3]Daily Log'!$BE$18:$BE$1017),0)","v":0},{"$f":"IFERROR($E30*SUMIF('[3]Daily Log'!$BG$18:$BG$1017,$B30,'[3]Daily Log'!$BH$18:$BH$1017),0)","v":0},{"$f":"IFERROR($E30*SUMIF('[3]Daily Log'!$BJ$18:$BJ$1017,$B30,'[3]Daily Log'!$BK$18:$BK$1017),0)","v":0},{"$f":"IFERROR($E30*SUMIF('[3]Daily Log'!$BM$18:$BM$1017,$B30,'[3]Daily Log'!$BN$18:$BN$1017),0)","v":0},{"$f":"IFERROR($E30*SUMIF('[3]Daily Log'!$BP$18:$BP$1017,$B30,'[3]Daily Log'!$BQ$18:$BQ$1017),0)","v":0},{"$f":"IFERROR($E30*SUMIF('[3]Daily Log'!$BS$18:$BS$1017,$B30,'[3]Daily Log'!$BT$18:$BT$1017),0)","v":0},{"$f":"IFERROR($E30*SUMIF('[3]Daily Log'!$BV$18:$BV$1017,$B30,'[3]Daily Log'!$BW$18:$BW$1017),0)","v":0},{"$f":"IFERROR($E30*SUMIF('[3]Daily Log'!$BY$18:$BY$1017,$B30,'[3]Daily Log'!$BZ$18:$BZ$1017),0)","v":0},{"$f":"IFERROR($E30*SUMIF('[3]Daily Log'!$CB$18:$CB$1017,$B30,'[3]Daily Log'!$CC$18:$CC$1017),0)","v":0},{"$f":"IFERROR($E30*SUMIF('[3]Daily Log'!$CE$18:$CE$1017,$B30,'[3]Daily Log'!$CF$18:$CF$1017),0)","v":0},{"$f":"IFERROR($E30*SUMIF('[3]Daily Log'!$CH$18:$CH$1017,$B30,'[3]Daily Log'!$CI$18:$CI$1017),0)","v":0},{"$f":"IFERROR($E30*SUMIF('Daily Log'!$CK$18:$CK$1017,$B30,'Daily Log'!$CL$18:$CL$1017),0)","v":0},{"$f":"IFERROR($E30*SUMIF('[3]Daily Log'!$CN$18:$CN$1017,$B30,'[3]Daily Log'!$CO$18:$CO$1017),0)","v":0}]
[null,"BA02 H : 4BP",null,"BEER",12,{"$f":"SUM($G31:$AK31)","v":132},null,null,null,null,null,null,null,null,null,null,null,null,null,null,null,null,null,null,null,null,null,null,null,null,null,null,null,null,null,{"$f":"IFERROR($E31*SUMIF('Daily Log'!$CK$18:$CK$1017,$B31,'Daily Log'!$CL$18:$CL$1017),0)","v":132},{"$f":"IFERROR($E31*SUMIF('Daily Log'!$CN$18:$CN$1017,$B31,'Daily Log'!$CO$18:$CO$1017),0)","v":0}]
[null,"BA03 H : 4BP MEMBER",null,"BEER",12,0,null,null,null,null,null,null,null,null,null,null,null,null,null,null,null,null,null,null,null,null,null,null,null,null,null,null,null,null,null,{"$f":"IFERROR($E32*SUMIF('Daily Log'!$CK$18:$CK$1017,$B32,'Daily Log'!$CL$18:$CL$1017),0)","v":0},{"$f":"IFERROR($E32*SUMIF('Daily Log'!$CN$18:$CN$1017,$B32,'Daily Log'!$CO$18:$CO$1017),0)","v":0}]
[null,"BA04 N : 4BP",null,"BEER",12,708,null,null,null,null,null,null,null,null,null,null,null,null,null,null,null,null,null,null,null,null,null,null,null,null,null,null,null,null,null,{"$f":"IFERROR($E33*SUMIF('Daily Log'!$CK$18:$CK$1017,$B33,'Daily Log'!$CL$18:$CL$1017),0)","v":708},{"$f":"IFERROR($E33*SUMIF('Daily Log'!$CN$18:$CN$1017,$B33,'Daily Log'!$CO$18:$CO$1017),0)","v":0}]
[null,"BA05 N : 4BP MEMBER",null,"BEER",12,0,null,null,null,null,null,null,null,null,null,null,null,null,null,null,null,null,null,null,null,null,null,null,null,null,null,null,null,null,null,{"$f":"IFERROR($E34*SUMIF('Daily Log'!$CK$18:$CK$1017,$B34,'Daily Log'!$CL$18:$CL$1017),0)","v":0},{"$f":"IFERROR($E34*SUMIF('Daily Log'!$CN$18:$CN$1017,$B34,'Daily Log'!$CO$18:$CO$1017),0)","v":0}]
[null,"BA06 M : 4BP",null,"BEER",12,144,null,null,null,null,null,null,null,null,null,null,null,null,null,null,null,null,null,null,null,null,null,null,null,null,null,null,null,null,null,{"$f":"IFERROR($E35*SUMIF('Daily Log'!$CK$18:$CK$1017,$B35,'Daily Log'!$CL$18:$CL$1017),0)","v":144},{"$f":"IFERROR($E35*SUMIF('Daily Log'!$CN$18:$CN$1017,$B35,'Daily Log'!$CO$18:$CO$1017),0)","v":0}]
[null,"BA07 M : 4BP MEMBER",null,"BEER",12,0,null,null,null,null,null,null,null,null,null,null,null,null,null,null,null,null,null,null,null,null,null,null,null,null,null,null,null,null,null,{"$f":"IFERROR($E36*SUMIF('Daily Log'!$CK$18:$CK$1017,$B36,'Daily Log'!$CL$18:$CL$1017),0)","v":0},{"$f":"IFERROR($E36*SUMIF('Daily Log'!$CN$18:$CN$1017,$B36,'Daily Log'!$CO$18:$CO$1017),0)","v":0}]
[null,"BA08 GUINNESS BTL",null,"BEER",1,10,null,null,null,null,null,null,null,null,null,null,null,null,null,null,null,null,null,null,null,null,null,null,null,null,null,null,null,null,null,{"$f":"IFERROR($E37*SUMIF('Daily Log'!$CK$18:$CK$1017,$B37,'Daily Log'!$CL$18:$CL$1017),0)","v":10},{"$f":"IFERROR($E37*SUMIF('Daily Log'!$CN$18:$CN$1017,$B37,'Daily Log'!$CO$18:$CO$1017),0)","v":0}]
[null,"BA09 GUINNESS BKT",null,"BEER",4,48,null,null,null,null,null,null,null,null,null,null,null,null,null,null,null,null,null,null,null,null,null,null,null,null,null,null,null,null,null,{"$f":"IFERROR($E38*SUMIF('Daily Log'!$CK$18:$CK$1017,$B38,'Daily Log'!$CL$18:$CL$1017),0)","v":48},{"$f":"IFERROR($E38*SUMIF('Daily Log'!$CN$18:$CN$1017,$B38,'Daily Log'!$CO$18:$CO$1017),0)","v":0}]
[null,"BA10 GUINNESS RND",null,"BEER",12,0,null,null,null,null,null,null,null,null,null,null,null,null,null,null,null,null,null,null,null,null,null,null,null,null,null,null,null,null,null,{"$f":"IFERROR($E39*SUMIF('Daily Log'!$CK$18:$CK$1017,$B39,'Daily Log'!$CL$18:$CL$1017),0)","v":0},{"$f":"IFERROR($E39*SUMIF('Daily Log'!$CN$18:$CN$1017,$B39,'Daily Log'!$CO$18:$CO$1017),0)","v":0}]
[null,"BA11 HEINEKEN BTL",null,"BEER",1,10,null,null,null,null,null,null,null,null,null,null,null,null,null,null,null,null,null,null,null,null,null,null,null,null,null,null,null,null,null,{"$f":"IFERROR($E40*SUMIF('Daily Log'!$CK$18:$CK$1017,$B40,'Daily Log'!$CL$18:$CL$1017),0)","v":10},{"$f":"IFERROR($E40*SUMIF('Daily Log'!$CN$18:$CN$1017,$B40,'Daily Log'!$CO$18:$CO$1017),0)","v":0}]
[null,"BA12 HEINEKEN BKT",null,"BEER",4,68,null,null,null,null,null,null,null,null,null,null,null,null,null,null,null,null,null,null,null,null,null,null,null,null,null,null,null,null,null,{"$f":"IFERROR($E41*SUMIF('Daily Log'!$CK$18:$CK$1017,$B41,'Daily Log'!$CL$18:$CL$1017),0)","v":68},{"$f":"IFERROR($E41*SUMIF('Daily Log'!$CN$18:$CN$1017,$B41,'Daily Log'!$CO$18:$CO$1017),0)","v":0}]
[null,"BA13 HEINEKEN RND",null,"BEER",12,108,null,null,null,null,null,null,null,null,null,null,null,null,null,null,null,null,null,null,null,null,null,null,null,null,null,null,null,null,null,{"$f":"IFERROR($E42*SUMIF('Daily Log'!$CK$18:$CK$1017,$B42,'Daily Log'!$CL$18:$CL$1017),0)","v":108},{"$f":"IFERROR($E42*SUMIF('Daily Log'!$CN$18:$CN$1017,$B42,'Daily Log'!$CO$18:$CO$1017),0)","v":0}]
[null,"BA14 TIGER BTL",null,"BEER",1,20,null,null,null,null,null,null,null,null,null,null,null,null,null,null,null,null,null,null,null,null,null,null,null,null,null,null,null,null,null,{"$f":"IFERROR($E43*SUMIF('Daily Log'!$CK$18:$CK$1017,$B43,'Daily Log'!$CL$18:$CL$1017),0)","v":20},{"$f":"IFERROR($E43*SUMIF('Daily Log'!$CN$18:$CN$1017,$B43,'Daily Log'!$CO$18:$CO$1017),0)","v":0}]
[null,"BA15 TIGER BKT",null,"BEER",4,264,null,null,null,null,null,null,null,null,null,null,null,null,null,null,null,null,null,null,null,null,null,null,null,null,null,null,null,null,null,{"$f":"IFERROR($E44*SUMIF('Daily Log'!$CK$18:$CK$1017,$B44,'Daily Log'!$CL$18:$CL$1017),0)","v":264},{"$f":"IFERROR($E44*SUMIF('Daily Log'!$CN$18:$CN$1017,$B44,'Daily Log'!$CO$18:$CO$1017),0)","v":0}]
[null,"BA16 TIGER RND",null,"BEER",12,588,null,null,null,null,null,null,null,null,null,null,null,null,null,null,null,null,null,null,null,null,null,null,null,null,null,null,null,null,null,{"$f":"IFERROR($E45*SUMIF('Daily Log'!$CK$18:$CK$1017,$B45,'Daily Log'!$CL$18:$CL$1017),0)","v":588},{"$f":"IFERROR($E45*SUMIF('Daily Log'!$CN$18:$CN$1017,$B45,'Daily Log'!$CO$18:$CO$1017),0)","v":0}]
[null,"BA17 TIGER 3+1",null,"BEER",0,0,null,null,null,null,null,null,null,null,null,null,null,null,null,null,null,null,null,null,null,null,null,null,null,null,null,null,null,null,null,{"$f":"IFERROR($E46*SUMIF('Daily Log'!$CK$18:$CK$1017,$B46,'Daily Log'!$CL$18:$CL$1017),0)","v":0},{"$f":"IFERROR($E46*SUMIF('Daily Log'!$CN$18:$CN$1017,$B46,'Daily Log'!$CO$18:$CO$1017),0)","v":0}]
[null,"BA19 Tiger 2+1",null,"BEER",12,108,null,null,null,null,null,null,null,null,null,null,null,null,null,null,null,null,null,null,null,null,null,null,null,null,null,null,null,null,null,{"$f":"IFERROR($E47*SUMIF('Daily Log'!$CK$18:$CK$1017,$B47,'Daily Log'!$CL$18:$CL$1017),0)","v":108},{"$f":"IFERROR($E47*SUMIF('Daily Log'!$CN$18:$CN$1017,$B47,'Daily Log'!$CO$18:$CO$1017),0)","v":0}]
[null,"BA20 Heineken 3+1",null,"BEER",16,48,null,null,null,null,null,null,null,null,null,null,null,null,null,null,null,null,null,null,null,null,null,null,null,null,null,null,null,null,null,{"$f":"IFERROR($E48*SUMIF('Daily Log'!$CK$18:$CK$1017,$B48,'Daily Log'!$CL$18:$CL$1017),0)","v":48},{"$f":"IFERROR($E48*SUMIF('Daily Log'!$CN$18:$CN$1017,$B48,'Daily Log'!$CO$18:$CO$1017),0)","v":0}]
[null,"CA01 GRAPE J",null,"SIDE ORDER-JUICE",1,0,null,null,null,null,null,null,null,null,null,null,null,null,null,null,null,null,null,null,null,null,null,null,null,null,null,null,null,null,null,{"$f":"IFERROR($E49*SUMIF('Daily Log'!$CK$18:$CK$1017,$B49,'Daily Log'!$CL$18:$CL$1017),0)","v":0},{"$f":"IFERROR($E49*SUMIF('Daily Log'!$CN$18:$CN$1017,$B49,'Daily Log'!$CO$18:$CO$1017),0)","v":0}]
[null,"CA02 APPLE J",null,"SIDE ORDER-JUICE",1,0,null,null,null,null,null,null,null,null,null,null,null,null,null,null,null,null,null,null,null,null,null,null,null,null,null,null,null,null,null,{"$f":"IFERROR($E50*SUMIF('Daily Log'!$CK$18:$CK$1017,$B50,'Daily Log'!$CL$18:$CL$1017),0)","v":0},{"$f":"IFERROR($E50*SUMIF('Daily Log'!$CN$18:$CN$1017,$B50,'Daily Log'!$CO$18:$CO$1017),0)","v":0}]
[null,"CA03 KIWI J",null,"SIDE ORDER-JUICE",1,0,null,null,null,null,null,null,null,null,null,null,null,null,null,null,null,null,null,null,null,null,null,null,null,null,null,null,null,null,null,{"$f":"IFERROR($E51*SUMIF('Daily Log'!$CK$18:$CK$1017,$B51,'Daily Log'!$CL$18:$CL$1017),0)","v":0},{"$f":"IFERROR($E51*SUMIF('Daily Log'!$CN$18:$CN$1017,$B51,'Daily Log'!$CO$18:$CO$1017),0)","v":0}]
[null,"CA04 MANGO J",null,"SIDE ORDER-JUICE",1,0,null,null,null,null,null,null,null,null,null,null,null,null,null,null,null,null,null,null,null,null,null,null,null,null,null,null,null,null,null,{"$f":"IFERROR($E52*SUMIF('Daily Log'!$CK$18:$CK$1017,$B52,'Daily Log'!$CL$18:$CL$1017),0)","v":0},{"$f":"IFERROR($E52*SUMIF('Daily Log'!$CN$18:$CN$1017,$B52,'Daily Log'!$CO$18:$CO$1017),0)","v":0}]
[null,"CA05 PASSION J",null,"SIDE ORDER-JUICE",1,1,null,null,null,null,null,null,null,null,null,null,null,null,null,null,null,null,null,null,null,null,null,null,null,null,null,null,null,null,null,{"$f":"IFERROR($E53*SUMIF('Daily Log'!$CK$18:$CK$1017,$B53,'Daily Log'!$CL$18:$CL$1017),0)","v":1},{"$f":"IFERROR($E53*SUMIF('Daily Log'!$CN$18:$CN$1017,$B53,'Daily Log'!$CO$18:$CO$1017),0)","v":0}]
[null,"CA06 RIBENA J",null,"SIDE ORDER-JUICE",1,2,null,null,null,null,null,null,null,null,null,null,null,null,null,null,null,null,null,null,null,null,null,null,null,null,null,null,null,null,null,{"$f":"IFERROR($E54*SUMIF('Daily Log'!$CK$18:$CK$1017,$B54,'Daily Log'!$CL$18:$CL$1017),0)","v":2},{"$f":"IFERROR($E54*SUMIF('Daily Log'!$CN$18:$CN$1017,$B54,'Daily Log'!$CO$18:$CO$1017),0)","v":0}]
[null,"CB01 GRAPE SO",null,"SIDE ORDER-SODA",1,0,null,null,null,null,null,null,null,null,null,null,null,null,null,null,null,null,null,null,null,null,null,null,null,null,null,null,null,null,null,{"$f":"IFERROR($E55*SUMIF('Daily Log'!$CK$18:$CK$1017,$B55,'Daily Log'!$CL$18:$CL$1017),0)","v":0},{"$f":"IFERROR($E55*SUMIF('Daily Log'!$CN$18:$CN$1017,$B55,'Daily Log'!$CO$18:$CO$1017),0)","v":0}]
[null,"CB02 APPLE SO",null,"SIDE ORDER-SODA",1,0,null,null,null,null,null,null,null,null,null,null,null,null,null,null,null,null,null,null,null,null,null,null,null,null,null,null,null,null,null,{"$f":"IFERROR($E56*SUMIF('Daily Log'!$CK$18:$CK$1017,$B56,'Daily Log'!$CL$18:$CL$1017),0)","v":0},{"$f":"IFERROR($E56*SUMIF('Daily Log'!$CN$18:$CN$1017,$B56,'Daily Log'!$CO$18:$CO$1017),0)","v":0}]
[null,"CB03 KIWI SO",null,"SIDE ORDER-SODA",1,0,null,null,null,null,null,null,null,null,null,null,null,null,null,null,null,null,null,null,null,null,null,null,null,null,null,null,null,null,null,{"$f":"IFERROR($E57*SUMIF('Daily Log'!$CK$18:$CK$1017,$B57,'Daily Log'!$CL$18:$CL$1017),0)","v":0},{"$f":"IFERROR($E57*SUMIF('Daily Log'!$CN$18:$CN$1017,$B57,'Daily Log'!$CO$18:$CO$1017),0)","v":0}]
[null,"CB04 MANGO SO",null,"SIDE ORDER-SODA",1,0,null,null,null,null,null,null,null,null,null,null,null,null,null,null,null,null,null,null,null,null,null,null,null,null,null,null,null,null,null,{"$f":"IFERROR($E58*SUMIF('Daily Log'!$CK$18:$CK$1017,$B58,'Daily Log'!$CL$18:$CL$1017),0)","v":0},{"$f":"IFERROR($E58*SUMIF('Daily Log'!$CN$18:$CN$1017,$B58,'Daily Log'!$CO$18:$CO$1017),0)","v":0}]
[null,"CB05 PASSION SO",null,"SIDE ORDER-SODA",1,0,null,null,null,null,null,null,null,null,null,null,null,null,null,null,null,null,null,null,null,null,null,null,null,null,null,null,null,null,null,{"$f":"IFERROR($E59*SUMIF('Daily Log'!$CK$18:$CK$1017,$B59,'Daily Log'!$CL$18:$CL$1017),0)","v":0},{"$f":"IFERROR($E59*SUMIF('Daily Log'!$CN$18:$CN$1017,$B59,'Daily Log'!$CO$18:$CO$1017),0)","v":0}]
[null,"CB06 RIBENA SO",null,"SIDE ORDER-SODA",1,0,null,null,null,null,null,null,null,null,null,null,null,null,null,null,null,null,null,null,null,null,null,null,null,null,null,null,null,null,null,{"$f":"IFERROR($E60*SUMIF('Daily Log'!$CK$18:$CK$1017,$B60,'Daily Log'!$CL$18:$CL$1017),0)","v":0},{"$f":"IFERROR($E60*SUMIF('Daily Log'!$CN$18:$CN$1017,$B60,'Daily Log'!$CO$18:$CO$1017),0)","v":0}]
[null,"CC01 GRAPE SM",null,"SIDE ORDER-SMOOTHIES",1,0,null,null,null,null,null,null,null,null,null,null,null,null,null,null,null,null,null,null,null,null,null,null,null,null,null,null,null,null,null,{"$f":"IFERROR($E61*SUMIF('Daily Log'!$CK$18:$CK$1017,$B61,'Daily Log'!$CL$18:$CL$1017),0)","v":0},{"$f":"IFERROR($E61*SUMIF('Daily Log'!$CN$18:$CN$1017,$B61,'Daily Log'!$CO$18:$CO$1017),0)","v":0}]
[null,"CC02 APPLE SM",null,"SIDE ORDER-SMOOTHIES",1,0,null,null,null,null,null,null,null,null,null,null,null,null,null,null,null,null,null,null,null,null,null,null,null,null,null,null,null,null,null,{"$f":"IFERROR($E62*SUMIF('Daily Log'!$CK$18:$CK$1017,$B62,'Daily Log'!$CL$18:$CL$1017),0)","v":0},{"$f":"IFERROR($E62*SUMIF('Daily Log'!$CN$18:$CN$1017,$B62,'Daily Log'!$CO$18:$CO$1017),0)","v":0}]
[null,"CC03 KIWI SM",null,"SIDE ORDER-SMOOTHIES",1,0,null,null,null,null,null,null,null,null,null,null,null,null,null,null,null,null,null,null,null,null,null,null,null,null,null,null,null,null,null,{"$f":"IFERROR($E63*SUMIF('Daily Log'!$CK$18:$CK$1017,$B63,'Daily Log'!$CL$18:$CL$1017),0)","v":0},{"$f":"IFERROR($E63*SUMIF('Daily Log'!$CN$18:$CN$1017,$B63,'Daily Log'!$CO$18:$CO$1017),0)","v":0}]
[null,"CC04 MANGO SM",null,"SIDE ORDER-SMOOTHIES",1,0,null,null,null,null,null,null,null,null,null,null,null,null,null,null,null,null,null,null,null,null,null,null,null,null,null,null,null,null,null,{"$f":"IFERROR($E64*SUMIF('Daily Log'!$CK$18:$CK$1017,$B64,'Daily Log'!$CL$18:$CL$1017),0)","v":0},{"$f":"IFERROR($E64*SUMIF('Daily Log'!$CN$18:$CN$1017,$B64,'Daily Log'!$CO$18:$CO$1017),0)","v":0}]
[null,"CC05 PASSION SM",null,"SIDE ORDER-SMOOTHIES",1,0,null,null,null,null,null,null,null,null,null,null,null,null,null,null,null,null,null,null,null,null,null,null,null,null,null,null,null,null,null,{"$f":"IFERROR($E65*SUMIF('Daily Log'!$CK$18:$CK$1017,$B65,'Daily Log'!$CL$18:$CL$1017),0)","v":0},{"$f":"IFERROR($E65*SUMIF('Daily Log'!$CN$18:$CN$1017,$B65,'Daily Log'!$CO$18:$CO$1017),0)","v":0}]
[null,"CC06 RIBENA SM",null,"SIDE ORDER-SMOOTHIES",1,0,null,null,null,null,null,null,null,null,null,null,null,null,null,null,null,null,null,null,null,null,null,null,null,null,null,null,null,null,null,{"$f":"IFERROR($E66*SUMIF('Daily Log'!$CK$18:$CK$1017,$B66,'Daily Log'!$CL$18:$CL$1017),0)","v":0},{"$f":"IFERROR($E66*SUMIF('Daily Log'!$CN$18:$CN$1017,$B66,'Daily Log'!$CO$18:$CO$1017),0)","v":0}]
[null,"CC07 CAPPUCINNO SM",null,"SIDE ORDER-SMOOTHIES",1,0,null,null,null,null,null,null,null,null,null,null,null,null,null,null,null,null,null,null,null,null,null,null,null,null,null,null,null,null,null,{"$f":"IFERROR($E67*SUMIF('Daily Log'!$CK$18:$CK$1017,$B67,'Daily Log'!$CL$18:$CL$1017),0)","v":0},{"$f":"IFERROR($E67*SUMIF('Daily Log'!$CN$18:$CN$1017,$B67,'Daily Log'!$CO$18:$CO$1017),0)","v":0}]
[null,"CC08 CHOCOLATE SM",null,"SIDE ORDER-SMOOTHIES",1,4,null,null,null,null,null,null,null,null,null,null,null,null,null,null,null,null,null,null,null,null,null,null,null,null,null,null,null,null,null,{"$f":"IFERROR($E68*SUMIF('Daily Log'!$CK$18:$CK$1017,$B68,'Daily Log'!$CL$18:$CL$1017),0)","v":4},{"$f":"IFERROR($E68*SUMIF('Daily Log'!$CN$18:$CN$1017,$B68,'Daily Log'!$CO$18:$CO$1017),0)","v":0}]
[null,"CC09 MOCHA SM",null,"SIDE ORDER-SMOOTHIES",1,0,null,null,null,null,null,null,null,null,null,null,null,null,null,null,null,null,null,null,null,null,null,null,null,null,null,null,null,null,null,{"$f":"IFERROR($E69*SUMIF('Daily Log'!$CK$18:$CK$1017,$B69,'Daily Log'!$CL$18:$CL$1017),0)","v":0},{"$f":"IFERROR($E69*SUMIF('Daily Log'!$CN$18:$CN$1017,$B69,'Daily Log'!$CO$18:$CO$1017),0)","v":0}]
[null,"CD01 7 UP",null,"SIDE ORDER-SOFT DRINKS",1,1,null,null,null,null,null,null,null,null,null,null,null,null,null,null,null,null,null,null,null,null,null,null,null,null,null,null,null,null,null,{"$f":"IFERROR($E70*SUMIF('Daily Log'!$CK$18:$CK$1017,$B70,'Daily Log'!$CL$18:$CL$1017),0)","v":1},{"$f":"IFERROR($E70*SUMIF('Daily Log'!$CN$18:$CN$1017,$B70,'Daily Log'!$CO$18:$CO$1017),0)","v":0}]
[null,"CD02 7 UP REVIVE",null,"SIDE ORDER-SOFT DRINKS",1,0,null,null,null,null,null,null,null,null,null,null,null,null,null,null,null,null,null,null,null,null,null,null,null,null,null,null,null,null,null,{"$f":"IFERROR($E71*SUMIF('Daily Log'!$CK$18:$CK$1017,$B71,'Daily Log'!$CL$18:$CL$1017),0)","v":0},{"$f":"IFERROR($E71*SUMIF('Daily Log'!$CN$18:$CN$1017,$B71,'Daily Log'!$CO$18:$CO$1017),0)","v":0}]
[null,"CD03 PEPSI",null,"SIDE ORDER-SOFT DRINKS",1,2,null,null,null,null,null,null,null,null,null,null,null,null,null,null,null,null,null,null,null,null,null,null,null,null,null,null,null,null,null,{"$f":"IFERROR($E72*SUMIF('Daily Log'!$CK$18:$CK$1017,$B72,'Daily Log'!$CL$18:$CL$1017),0)","v":2},{"$f":"IFERROR($E72*SUMIF('Daily Log'!$CN$18:$CN$1017,$B72,'Daily Log'!$CO$18:$CO$1017),0)","v":0}]
[null,"CE01 MILO (C)",null,"SIDE ORDER-COLD BEVERAGE",1,2,null,null,null,null,null,null,null,null,null,null,null,null,null,null,null,null,null,null,null,null,null,null,null,null,null,null,null,null,null,{"$f":"IFERROR($E73*SUMIF('Daily Log'!$CK$18:$CK$1017,$B73,'Daily Log'!$CL$18:$CL$1017),0)","v":2},{"$f":"IFERROR($E73*SUMIF('Daily Log'!$CN$18:$CN$1017,$B73,'Daily Log'!$CO$18:$CO$1017),0)","v":0}]
[null,"CE02 NESCAFE (C)",null,"SIDE ORDER-COLD BEVERAGE",1,0,null,null,null,null,null,null,null,null,null,null,null,null,null,null,null,null,null,null,null,null,null,null,null,null,null,null,null,null,null,{"$f":"IFERROR($E74*SUMIF('Daily Log'!$CK$18:$CK$1017,$B74,'Daily Log'!$CL$18:$CL$1017),0)","v":0},{"$f":"IFERROR($E74*SUMIF('Daily Log'!$CN$18:$CN$1017,$B74,'Daily Log'!$CO$18:$CO$1017),0)","v":0}]
[null,"CE03 TEA (C)",null,"SIDE ORDER-COLD BEVERAGE",1,0,null,null,null,null,null,null,null,null,null,null,null,null,null,null,null,null,null,null,null,null,null,null,null,null,null,null,null,null,null,{"$f":"IFERROR($E75*SUMIF('Daily Log'!$CK$18:$CK$1017,$B75,'Daily Log'!$CL$18:$CL$1017),0)","v":0},{"$f":"IFERROR($E75*SUMIF('Daily Log'!$CN$18:$CN$1017,$B75,'Daily Log'!$CO$18:$CO$1017),0)","v":0}]
[null,"CE04 LEMON TEA (C)",null,"SIDE ORDER-COLD BEVERAGE",1,1,null,null,null,null,null,null,null,null,null,null,null,null,null,null,null,null,null,null,null,null,null,null,null,null,null,null,null,null,null,{"$f":"IFERROR($E76*SUMIF('Daily Log'!$CK$18:$CK$1017,$B76,'Daily Log'!$CL$18:$CL$1017),0)","v":1},{"$f":"IFERROR($E76*SUMIF('Daily Log'!$CN$18:$CN$1017,$B76,'Daily Log'!$CO$18:$CO$1017),0)","v":0}]
[null,"CE05 GRN TEA (C)",null,"SIDE ORDER-COLD BEVERAGE",1,3,null,null,null,null,null,null,null,null,null,null,null,null,null,null,null,null,null,null,null,null,null,null,null,null,null,null,null,null,null,{"$f":"IFERROR($E77*SUMIF('Daily Log'!$CK$18:$CK$1017,$B77,'Daily Log'!$CL$18:$CL$1017),0)","v":3},{"$f":"IFERROR($E77*SUMIF('Daily Log'!$CN$18:$CN$1017,$B77,'Daily Log'!$CO$18:$CO$1017),0)","v":0}]
[null,"CE06 HNY GRN TEA (C)",null,"SIDE ORDER-COLD BEVERAGE",1,3,null,null,null,null,null,null,null,null,null,null,null,null,null,null,null,null,null,null,null,null,null,null,null,null,null,null,null,null,null,{"$f":"IFERROR($E78*SUMIF('Daily Log'!$CK$18:$CK$1017,$B78,'Daily Log'!$CL$18:$CL$1017),0)","v":3},{"$f":"IFERROR($E78*SUMIF('Daily Log'!$CN$18:$CN$1017,$B78,'Daily Log'!$CO$18:$CO$1017),0)","v":0}]
[null,"CE07 HONEY (C)",null,"SIDE ORDER-COLD BEVERAGE",1,1,null,null,null,null,null,null,null,null,null,null,null,null,null,null,null,null,null,null,null,null,null,null,null,null,null,null,null,null,null,{"$f":"IFERROR($E79*SUMIF('Daily Log'!$CK$18:$CK$1017,$B79,'Daily Log'!$CL$18:$CL$1017),0)","v":1},{"$f":"IFERROR($E79*SUMIF('Daily Log'!$CN$18:$CN$1017,$B79,'Daily Log'!$CO$18:$CO$1017),0)","v":0}]
[null,"CE08 LEMON HONEY (C)",null,"SIDE ORDER-COLD BEVERAGE",1,6,null,null,null,null,null,null,null,null,null,null,null,null,null,null,null,null,null,null,null,null,null,null,null,null,null,null,null,null,null,{"$f":"IFERROR($E80*SUMIF('Daily Log'!$CK$18:$CK$1017,$B80,'Daily Log'!$CL$18:$CL$1017),0)","v":6},{"$f":"IFERROR($E80*SUMIF('Daily Log'!$CN$18:$CN$1017,$B80,'Daily Log'!$CO$18:$CO$1017),0)","v":0}]
[null,"CF01 MILO (H)",null,"SIDE ORDER-HOT BEVERAGE",1,1,null,null,null,null,null,null,null,null,null,null,null,null,null,null,null,null,null,null,null,null,null,null,null,null,null,null,null,null,null,{"$f":"IFERROR($E81*SUMIF('Daily Log'!$CK$18:$CK$1017,$B81,'Daily Log'!$CL$18:$CL$1017),0)","v":1},{"$f":"IFERROR($E81*SUMIF('Daily Log'!$CN$18:$CN$1017,$B81,'Daily Log'!$CO$18:$CO$1017),0)","v":0}]
[null,"CF02 NESCAFE (H)",null,"SIDE ORDER-HOT BEVERAGE",1,1,null,null,null,null,null,null,null,null,null,null,null,null,null,null,null,null,null,null,null,null,null,null,null,null,null,null,null,null,null,{"$f":"IFERROR($E82*SUMIF('Daily Log'!$CK$18:$CK$1017,$B82,'Daily Log'!$CL$18:$CL$1017),0)","v":1},{"$f":"IFERROR($E82*SUMIF('Daily Log'!$CN$18:$CN$1017,$B82,'Daily Log'!$CO$18:$CO$1017),0)","v":0}]
[null,"CF03 TEA (H)",null,"SIDE ORDER-HOT BEVERAGE",1,0,null,null,null,null,null,null,null,null,null,null,null,null,null,null,null,null,null,null,null,null,null,null,null,null,null,null,null,null,null,{"$f":"IFERROR($E83*SUMIF('Daily Log'!$CK$18:$CK$1017,$B83,'Daily Log'!$CL$18:$CL$1017),0)","v":0},{"$f":"IFERROR($E83*SUMIF('Daily Log'!$CN$18:$CN$1017,$B83,'Daily Log'!$CO$18:$CO$1017),0)","v":0}]
[null,"CF04 LEMON TEA (H)",null,"SIDE ORDER-HOT BEVERAGE",1,0,null,null,null,null,null,null,null,null,null,null,null,null,null,null,null,null,null,null,null,null,null,null,null,null,null,null,null,null,null,{"$f":"IFERROR($E84*SUMIF('Daily Log'!$CK$18:$CK$1017,$B84,'Daily Log'!$CL$18:$CL$1017),0)","v":0},{"$f":"IFERROR($E84*SUMIF('Daily Log'!$CN$18:$CN$1017,$B84,'Daily Log'!$CO$18:$CO$1017),0)","v":0}]
[null,"CF05 GRN TEA (H)",null,"SIDE ORDER-HOT BEVERAGE",1,0,null,null,null,null,null,null,null,null,null,null,null,null,null,null,null,null,null,null,null,null,null,null,null,null,null,null,null,null,null,{"$f":"IFERROR($E85*SUMIF('Daily Log'!$CK$18:$CK$1017,$B85,'Daily Log'!$CL$18:$CL$1017),0)","v":0},{"$f":"IFERROR($E85*SUMIF('Daily Log'!$CN$18:$CN$1017,$B85,'Daily Log'!$CO$18:$CO$1017),0)","v":0}]
[null,"CF06 HNY GRN TEA (H)",null,"SIDE ORDER-HOT BEVERAGE",1,0,null,null,null,null,null,null,null,null,null,null,null,null,null,null,null,null,null,null,null,null,null,null,null,null,null,null,null,null,null,{"$f":"IFERROR($E86*SUMIF('Daily Log'!$CK$18:$CK$1017,$B86,'Daily Log'!$CL$18:$CL$1017),0)","v":0},{"$f":"IFERROR($E86*SUMIF('Daily Log'!$CN$18:$CN$1017,$B86,'Daily Log'!$CO$18:$CO$1017),0)","v":0}]
[null,"CF07 HONEY (H)",null,"SIDE ORDER-HOT BEVERAGE",1,0,null,null,null,null,null,null,null,null,null,null,null,null,null,null,null,null,null,null,null,null,null,null,null,null,null,null,null,null,null,{"$f":"IFERROR($E87*SUMIF('Daily Log'!$CK$18:$CK$1017,$B87,'Daily Log'!$CL$18:$CL$1017),0)","v":0},{"$f":"IFERROR($E87*SUMIF('Daily Log'!$CN$18:$CN$1017,$B87,'Daily Log'!$CO$18:$CO$1017),0)","v":0}]
[null,"CF08 LEMON HONEY (H)",null,"SIDE ORDER-HOT BEVERAGE",1,6,null,null,null,null,null,null,null,null,null,null,null,null,null,null,null,null,null,null,null,null,null,null,null,null,null,null,null,null,null,{"$f":"IFERROR($E88*SUMIF('Daily Log'!$CK$18:$CK$1017,$B88,'Daily Log'!$CL$18:$CL$1017),0)","v":6},{"$f":"IFERROR($E88*SUMIF('Daily Log'!$CN$18:$CN$1017,$B88,'Daily Log'!$CO$18:$CO$1017),0)","v":0}]
[null,"CF09 CAPPUCCINO (H)",null,"SIDE ORDER-HOT BEVERAGE",1,0,null,null,null,null,null,null,null,null,null,null,null,null,null,null,null,null,null,null,null,null,null,null,null,null,null,null,null,null,null,{"$f":"IFERROR($E89*SUMIF('Daily Log'!$CK$18:$CK$1017,$B89,'Daily Log'!$CL$18:$CL$1017),0)","v":0},{"$f":"IFERROR($E89*SUMIF('Daily Log'!$CN$18:$CN$1017,$B89,'Daily Log'!$CO$18:$CO$1017),0)","v":0}]
[null,"CF10 CHOCOLATE (H)",null,"SIDE ORDER-HOT BEVERAGE",1,1,null,null,null,null,null,null,null,null,null,null,null,null,null,null,null,null,null,null,null,null,null,null,null,null,null,null,null,null,null,{"$f":"IFERROR($E90*SUMIF('Daily Log'!$CK$18:$CK$1017,$B90,'Daily Log'!$CL$18:$CL$1017),0)","v":1},{"$f":"IFERROR($E90*SUMIF('Daily Log'!$CN$18:$CN$1017,$B90,'Daily Log'!$CO$18:$CO$1017),0)","v":0}]
[null,"CF11 MOCHA (H)",null,"SIDE ORDER-HOT BEVERAGE",1,0,null,null,null,null,null,null,null,null,null,null,null,null,null,null,null,null,null,null,null,null,null,null,null,null,null,null,null,null,null,{"$f":"IFERROR($E91*SUMIF('Daily Log'!$CK$18:$CK$1017,$B91,'Daily Log'!$CL$18:$CL$1017),0)","v":0},{"$f":"IFERROR($E91*SUMIF('Daily Log'!$CN$18:$CN$1017,$B91,'Daily Log'!$CO$18:$CO$1017),0)","v":0}]
[null,"CF12 CHAMOMILE (H)",null,"SIDE ORDER-HOT BEVERAGE",1,0,null,null,null,null,null,null,null,null,null,null,null,null,null,null,null,null,null,null,null,null,null,null,null,null,null,null,null,null,null,{"$f":"IFERROR($E92*SUMIF('Daily Log'!$CK$18:$CK$1017,$B92,'Daily Log'!$CL$18:$CL$1017),0)","v":0},{"$f":"IFERROR($E92*SUMIF('Daily Log'!$CN$18:$CN$1017,$B92,'Daily Log'!$CO$18:$CO$1017),0)","v":0}]
[null,"CF13 DARJEELING (H)",null,"SIDE ORDER-HOT BEVERAGE",1,0,null,null,null,null,null,null,null,null,null,null,null,null,null,null,null,null,null,null,null,null,null,null,null,null,null,null,null,null,null,{"$f":"IFERROR($E93*SUMIF('Daily Log'!$CK$18:$CK$1017,$B93,'Daily Log'!$CL$18:$CL$1017),0)","v":0},{"$f":"IFERROR($E93*SUMIF('Daily Log'!$CN$18:$CN$1017,$B93,'Daily Log'!$CO$18:$CO$1017),0)","v":0}]
[null,"CF14 EARL GREY (H)",null,"SIDE ORDER-HOT BEVERAGE",1,{"$f":"SUM($G94:$AK94)","v":0},null,null,null,null,null,null,null,null,null,null,null,null,null,null,null,null,null,null,null,null,null,null,null,null,null,null,null,null,null,{"$f":"IFERROR($E94*SUMIF('Daily Log'!$CK$18:$CK$1017,$B94,'Daily Log'!$CL$18:$CL$1017),0)","v":0},{"$f":"IFERROR($E94*SUMIF('Daily Log'!$CN$18:$CN$1017,$B94,'Daily Log'!$CO$18:$CO$1017),0)","v":0}]
[null,"CG01 MINERAL WATER",null,"MINERAL WATER ",1,7,null,null,null,null,null,null,null,null,null,null,null,null,null,null,null,null,null,null,null,null,null,null,null,null,null,null,null,null,null,{"$f":"IFERROR($E95*SUMIF('Daily Log'!$CK$18:$CK$1017,$B95,'Daily Log'!$CL$18:$CL$1017),0)","v":7},{"$f":"IFERROR($E95*SUMIF('Daily Log'!$CN$18:$CN$1017,$B95,'Daily Log'!$CO$18:$CO$1017),0)","v":0}]
[null,"CH01 7 UP JUG",null,"JUG",1,0,null,null,null,null,null,null,null,null,null,null,null,null,null,null,null,null,null,null,null,null,null,null,null,null,null,null,null,null,null,{"$f":"IFERROR($E96*SUMIF('Daily Log'!$CK$18:$CK$1017,$B96,'Daily Log'!$CL$18:$CL$1017),0)","v":0},{"$f":"IFERROR($E96*SUMIF('Daily Log'!$CN$18:$CN$1017,$B96,'Daily Log'!$CO$18:$CO$1017),0)","v":0}]
[null,"CH02 GRN TEA JUG",null,"JUG",1,0,null,null,null,null,null,null,null,null,null,null,null,null,null,null,null,null,null,null,null,null,null,null,null,null,null,null,null,null,null,{"$f":"IFERROR($E97*SUMIF('Daily Log'!$CK$18:$CK$1017,$B97,'Daily Log'!$CL$18:$CL$1017),0)","v":0},{"$f":"IFERROR($E97*SUMIF('Daily Log'!$CN$18:$CN$1017,$B97,'Daily Log'!$CO$18:$CO$1017),0)","v":0}]
[null,"CH03 PEPSI JUG",null,"JUG",1,0,null,null,null,null,null,null,null,null,null,null,null,null,null,null,null,null,null,null,null,null,null,null,null,null,null,null,null,null,null,{"$f":"IFERROR($E98*SUMIF('Daily Log'!$CK$18:$CK$1017,$B98,'Daily Log'!$CL$18:$CL$1017),0)","v":0},{"$f":"IFERROR($E98*SUMIF('Daily Log'!$CN$18:$CN$1017,$B98,'Daily Log'!$CO$18:$CO$1017),0)","v":0}]
[null,"CH04 RIBENA JUG",null,"JUG",1,0,null,null,null,null,null,null,null,null,null,null,null,null,null,null,null,null,null,null,null,null,null,null,null,null,null,null,null,null,null,{"$f":"IFERROR($E99*SUMIF('Daily Log'!$CK$18:$CK$1017,$B99,'Daily Log'!$CL$18:$CL$1017),0)","v":0},{"$f":"IFERROR($E99*SUMIF('Daily Log'!$CN$18:$CN$1017,$B99,'Daily Log'!$CO$18:$CO$1017),0)","v":0}]
[null,"CI01 GRAPE J",null,"FFD-JUICE",1,336,null,null,null,null,null,null,null,null,null,null,null,null,null,null,null,null,null,null,null,null,null,null,null,null,null,null,null,null,null,{"$f":"IFERROR($E100*SUMIF('Daily Log'!$CK$18:$CK$1017,$B100,'Daily Log'!$CL$18:$CL$1017),0)","v":336},{"$f":"IFERROR($E100*SUMIF('Daily Log'!$CN$18:$CN$1017,$B100,'Daily Log'!$CO$18:$CO$1017),0)","v":0}]
[null,"CI02 APPLE J",null,"FFD-JUICE",1,665,null,null,null,null,null,null,null,null,null,null,null,null,null,null,null,null,null,null,null,null,null,null,null,null,null,null,null,null,null,{"$f":"IFERROR($E101*SUMIF('Daily Log'!$CK$18:$CK$1017,$B101,'Daily Log'!$CL$18:$CL$1017),0)","v":665},{"$f":"IFERROR($E101*SUMIF('Daily Log'!$CN$18:$CN$1017,$B101,'Daily Log'!$CO$18:$CO$1017),0)","v":0}]
[null,"CI04 MANGO J",null,"FFD-JUICE",1,442,null,null,null,null,null,null,null,null,null,null,null,null,null,null,null,null,null,null,null,null,null,null,null,null,null,null,null,null,null,{"$f":"IFERROR($E102*SUMIF('Daily Log'!$CK$18:$CK$1017,$B102,'Daily Log'!$CL$18:$CL$1017),0)","v":442},{"$f":"IFERROR($E102*SUMIF('Daily Log'!$CN$18:$CN$1017,$B102,'Daily Log'!$CO$18:$CO$1017),0)","v":0}]
[null,"CI05 PASSION J",null,"FFD-JUICE",1,804,null,null,null,null,null,null,null,null,null,null,null,null,null,null,null,null,null,null,null,null,null,null,null,null,null,null,null,null,null,{"$f":"IFERROR($E103*SUMIF('Daily Log'!$CK$18:$CK$1017,$B103,'Daily Log'!$CL$18:$CL$1017),0)","v":804},{"$f":"IFERROR($E103*SUMIF('Daily Log'!$CN$18:$CN$1017,$B103,'Daily Log'!$CO$18:$CO$1017),0)","v":0}]
[null,"CI06 RIBENA J",null,"FFD-JUICE",1,827,null,null,null,null,null,null,null,null,null,null,null,null,null,null,null,null,null,null,null,null,null,null,null,null,null,null,null,null,null,{"$f":"IFERROR($E104*SUMIF('Daily Log'!$CK$18:$CK$1017,$B104,'Daily Log'!$CL$18:$CL$1017),0)","v":827},{"$f":"IFERROR($E104*SUMIF('Daily Log'!$CN$18:$CN$1017,$B104,'Daily Log'!$CO$18:$CO$1017),0)","v":0}]
[null,"CJ01 GRAPE SO",null,"FFD-SODA",1,52,null,null,null,null,null,null,null,null,null,null,null,null,null,null,null,null,null,null,null,null,null,null,null,null,null,null,null,null,null,{"$f":"IFERROR($E105*SUMIF('Daily Log'!$CK$18:$CK$1017,$B105,'Daily Log'!$CL$18:$CL$1017),0)","v":52},{"$f":"IFERROR($E105*SUMIF('Daily Log'!$CN$18:$CN$1017,$B105,'Daily Log'!$CO$18:$CO$1017),0)","v":0}]
[null,"CJ02 APPLE SO",null,"FFD-SODA",1,85,null,null,null,null,null,null,null,null,null,null,null,null,null,null,null,null,null,null,null,null,null,null,null,null,null,null,null,null,null,{"$f":"IFERROR($E106*SUMIF('Daily Log'!$CK$18:$CK$1017,$B106,'Daily Log'!$CL$18:$CL$1017),0)","v":85},{"$f":"IFERROR($E106*SUMIF('Daily Log'!$CN$18:$CN$1017,$B106,'Daily Log'!$CO$18:$CO$1017),0)","v":0}]
[null,"CJ04 MANGO SO",null,"FFD-SODA",1,46,null,null,null,null,null,null,null,null,null,null,null,null,null,null,null,null,null,null,null,null,null,null,null,null,null,null,null,null,null,{"$f":"IFERROR($E107*SUMIF('Daily Log'!$CK$18:$CK$1017,$B107,'Daily Log'!$CL$18:$CL$1017),0)","v":46},{"$f":"IFERROR($E107*SUMIF('Daily Log'!$CN$18:$CN$1017,$B107,'Daily Log'!$CO$18:$CO$1017),0)","v":0}]
[null,"CJ05 PASSION SO",null,"FFD-SODA",1,93,null,null,null,null,null,null,null,null,null,null,null,null,null,null,null,null,null,null,null,null,null,null,null,null,null,null,null,null,null,{"$f":"IFERROR($E108*SUMIF('Daily Log'!$CK$18:$CK$1017,$B108,'Daily Log'!$CL$18:$CL$1017),0)","v":93},{"$f":"IFERROR($E108*SUMIF('Daily Log'!$CN$18:$CN$1017,$B108,'Daily Log'!$CO$18:$CO$1017),0)","v":0}]
[null,"CJ06 RIBENA SO",null,"FFD-SODA",1,124,null,null,null,null,null,null,null,null,null,null,null,null,null,null,null,null,null,null,null,null,null,null,null,null,null,null,null,null,null,{"$f":"IFERROR($E109*SUMIF('Daily Log'!$CK$18:$CK$1017,$B109,'Daily Log'!$CL$18:$CL$1017),0)","v":124},{"$f":"IFERROR($E109*SUMIF('Daily Log'!$CN$18:$CN$1017,$B109,'Daily Log'!$CO$18:$CO$1017),0)","v":0}]
[null,"CL01 7 UP",null,"FFD-SOFT DRINKS",1,376,null,null,null,null,null,null,null,null,null,null,null,null,null,null,null,null,null,null,null,null,null,null,null,null,null,null,null,null,null,{"$f":"IFERROR($E110*SUMIF('Daily Log'!$CK$18:$CK$1017,$B110,'Daily Log'!$CL$18:$CL$1017),0)","v":376},{"$f":"IFERROR($E110*SUMIF('Daily Log'!$CN$18:$CN$1017,$B110,'Daily Log'!$CO$18:$CO$1017),0)","v":0}]
[null,"CL02 7 UP REVIVE",null,"FFD-SOFT DRINKS",1,74,null,null,null,null,null,null,null,null,null,null,null,null,null,null,null,null,null,null,null,null,null,null,null,null,null,null,null,null,null,{"$f":"IFERROR($E111*SUMIF('Daily Log'!$CK$18:$CK$1017,$B111,'Daily Log'!$CL$18:$CL$1017),0)","v":74},{"$f":"IFERROR($E111*SUMIF('Daily Log'!$CN$18:$CN$1017,$B111,'Daily Log'!$CO$18:$CO$1017),0)","v":0}]
[null,"CL03 PEPSI",null,"FFD-SOFT DRINKS",1,946,null,null,null,null,null,null,null,null,null,null,null,null,null,null,null,null,null,null,null,null,null,null,null,null,null,null,null,null,null,{"$f":"IFERROR($E112*SUMIF('Daily Log'!$CK$18:$CK$1017,$B112,'Daily Log'!$CL$18:$CL$1017),0)","v":946},{"$f":"IFERROR($E112*SUMIF('Daily Log'!$CN$18:$CN$1017,$B112,'Daily Log'!$CO$18:$CO$1017),0)","v":0}]
[null,"CM01 MILO (C)",null,"FFD-COLD BEVERAGES",1,964,null,null,null,null,null,null,null,null,null,null,null,null,null,null,null,null,null,null,null,null,null,null,null,null,null,null,null,null,null,{"$f":"IFERROR($E113*SUMIF('Daily Log'!$CK$18:$CK$1017,$B113,'Daily Log'!$CL$18:$CL$1017),0)","v":964},{"$f":"IFERROR($E113*SUMIF('Daily Log'!$CN$18:$CN$1017,$B113,'Daily Log'!$CO$18:$CO$1017),0)","v":0}]
[null,"CM02 NESCAFE (C)",null,"FFD-COLD BEVERAGES",1,271,null,null,null,null,null,null,null,null,null,null,null,null,null,null,null,null,null,null,null,null,null,null,null,null,null,null,null,null,null,{"$f":"IFERROR($E114*SUMIF('Daily Log'!$CK$18:$CK$1017,$B114,'Daily Log'!$CL$18:$CL$1017),0)","v":271},{"$f":"IFERROR($E114*SUMIF('Daily Log'!$CN$18:$CN$1017,$B114,'Daily Log'!$CO$18:$CO$1017),0)","v":0}]
[null,"CM03 TEA (C)",null,"FFD-COLD BEVERAGES",1,335,null,null,null,null,null,null,null,null,null,null,null,null,null,null,null,null,null,null,null,null,null,null,null,null,null,null,null,null,null,{"$f":"IFERROR($E115*SUMIF('Daily Log'!$CK$18:$CK$1017,$B115,'Daily Log'!$CL$18:$CL$1017),0)","v":335},{"$f":"IFERROR($E115*SUMIF('Daily Log'!$CN$18:$CN$1017,$B115,'Daily Log'!$CO$18:$CO$1017),0)","v":0}]
[null,"CM04 LEMON TEA (C)",null,"FFD-COLD BEVERAGES",1,1288,null,null,null,null,null,null,null,null,null,null,null,null,null,null,null,null,null,null,null,null,null,null,null,null,null,null,null,null,null,{"$f":"IFERROR($E116*SUMIF('Daily Log'!$CK$18:$CK$1017,$B116,'Daily Log'!$CL$18:$CL$1017),0)","v":1288},{"$f":"IFERROR($E116*SUMIF('Daily Log'!$CN$18:$CN$1017,$B116,'Daily Log'!$CO$18:$CO$1017),0)","v":0}]
[null,"CM05 GRN TEA (C)",null,"FFD-COLD BEVERAGES",1,1457,null,null,null,null,null,null,null,null,null,null,null,null,null,null,null,null,null,null,null,null,null,null,null,null,null,null,null,null,null,{"$f":"IFERROR($E117*SUMIF('Daily Log'!$CK$18:$CK$1017,$B117,'Daily Log'!$CL$18:$CL$1017),0)","v":1457},{"$f":"IFERROR($E117*SUMIF('Daily Log'!$CN$18:$CN$1017,$B117,'Daily Log'!$CO$18:$CO$1017),0)","v":0}]
[null,"CM06 HNY GRN TEA (C)",null,"FFD-COLD BEVERAGES",1,2244,null,null,null,null,null,null,null,null,null,null,null,null,null,null,null,null,null,null,null,null,null,null,null,null,null,null,null,null,null,{"$f":"IFERROR($E118*SUMIF('Daily Log'!$CK$18:$CK$1017,$B118,'Daily Log'!$CL$18:$CL$1017),0)","v":2244},{"$f":"IFERROR($E118*SUMIF('Daily Log'!$CN$18:$CN$1017,$B118,'Daily Log'!$CO$18:$CO$1017),0)","v":0}]
[null,"CM07 HONEY (C)",null,"FFD-COLD BEVERAGES",1,587,null,null,null,null,null,null,null,null,null,null,null,null,null,null,null,null,null,null,null,null,null,null,null,null,null,null,null,null,null,{"$f":"IFERROR($E119*SUMIF('Daily Log'!$CK$18:$CK$1017,$B119,'Daily Log'!$CL$18:$CL$1017),0)","v":587},{"$f":"IFERROR($E119*SUMIF('Daily Log'!$CN$18:$CN$1017,$B119,'Daily Log'!$CO$18:$CO$1017),0)","v":0}]
[null,"CM08 LEMON HONEY (C)",null,"FFD-COLD BEVERAGES",1,2601,null,null,null,null,null,null,null,null,null,null,null,null,null,null,null,null,null,null,null,null,null,null,null,null,null,null,null,null,null,{"$f":"IFERROR($E120*SUMIF('Daily Log'!$CK$18:$CK$1017,$B120,'Daily Log'!$CL$18:$CL$1017),0)","v":2601},{"$f":"IFERROR($E120*SUMIF('Daily Log'!$CN$18:$CN$1017,$B120,'Daily Log'!$CO$18:$CO$1017),0)","v":0}]
[null,"CN01 MILO (H)",null,"FFD-HOT BEVERAGES",1,788,null,null,null,null,null,null,null,null,null,null,null,null,null,null,null,null,null,null,null,null,null,null,null,null,null,null,null,null,null,{"$f":"IFERROR($E121*SUMIF('Daily Log'!$CK$18:$CK$1017,$B121,'Daily Log'!$CL$18:$CL$1017),0)","v":788},{"$f":"IFERROR($E121*SUMIF('Daily Log'!$CN$18:$CN$1017,$B121,'Daily Log'!$CO$18:$CO$1017),0)","v":0}]
[null,"CN02 NESCAFE (H)",null,"FFD-HOT BEVERAGES",1,202,null,null,null,null,null,null,null,null,null,null,null,null,null,null,null,null,null,null,null,null,null,null,null,null,null,null,null,null,null,{"$f":"IFERROR($E122*SUMIF('Daily Log'!$CK$18:$CK$1017,$B122,'Daily Log'!$CL$18:$CL$1017),0)","v":202},{"$f":"IFERROR($E122*SUMIF('Daily Log'!$CN$18:$CN$1017,$B122,'Daily Log'!$CO$18:$CO$1017),0)","v":0}]
[null,"CN03 TEA (H)",null,"FFD-HOT BEVERAGES",1,54,null,null,null,null,null,null,null,null,null,null,null,null,null,null,null,null,null,null,null,null,null,null,null,null,null,null,null,null,null,{"$f":"IFERROR($E123*SUMIF('Daily Log'!$CK$18:$CK$1017,$B123,'Daily Log'!$CL$18:$CL$1017),0)","v":54},{"$f":"IFERROR($E123*SUMIF('Daily Log'!$CN$18:$CN$1017,$B123,'Daily Log'!$CO$18:$CO$1017),0)","v":0}]
[null,"CN04 LEMON TEA (H)",null,"FFD-HOT BEVERAGES",1,162,null,null,null,null,null,null,null,null,null,null,null,null,null,null,null,null,null,null,null,null,null,null,null,null,null,null,null,null,null,{"$f":"IFERROR($E124*SUMIF('Daily Log'!$CK$18:$CK$1017,$B124,'Daily Log'!$CL$18:$CL$1017),0)","v":162},{"$f":"IFERROR($E124*SUMIF('Daily Log'!$CN$18:$CN$1017,$B124,'Daily Log'!$CO$18:$CO$1017),0)","v":0}]
[null,"CN05 GRN TEA (H)",null,"FFD-HOT BEVERAGES",1,402,null,null,null,null,null,null,null,null,null,null,null,null,null,null,null,null,null,null,null,null,null,null,null,null,null,null,null,null,null,{"$f":"IFERROR($E125*SUMIF('Daily Log'!$CK$18:$CK$1017,$B125,'Daily Log'!$CL$18:$CL$1017),0)","v":402},{"$f":"IFERROR($E125*SUMIF('Daily Log'!$CN$18:$CN$1017,$B125,'Daily Log'!$CO$18:$CO$1017),0)","v":0}]
[null,"CN06 HNY GRN TEA (H)",null,"FFD-HOT BEVERAGES",1,670,null,null,null,null,null,null,null,null,null,null,null,null,null,null,null,null,null,null,null,null,null,null,null,null,null,null,null,null,null,{"$f":"IFERROR($E126*SUMIF('Daily Log'!$CK$18:$CK$1017,$B126,'Daily Log'!$CL$18:$CL$1017),0)","v":670},{"$f":"IFERROR($E126*SUMIF('Daily Log'!$CN$18:$CN$1017,$B126,'Daily Log'!$CO$18:$CO$1017),0)","v":0}]
[null,"CN07 HONEY (H)",null,"FFD-HOT BEVERAGES",1,431,null,null,null,null,null,null,null,null,null,null,null,null,null,null,null,null,null,null,null,null,null,null,null,null,null,null,null,null,null,{"$f":"IFERROR($E127*SUMIF('Daily Log'!$CK$18:$CK$1017,$B127,'Daily Log'!$CL$18:$CL$1017),0)","v":431},{"$f":"IFERROR($E127*SUMIF('Daily Log'!$CN$18:$CN$1017,$B127,'Daily Log'!$CO$18:$CO$1017),0)","v":0}]
[null,"CN08 LEMON HONEY (H)",null,"FFD-HOT BEVERAGES",1,1761,null,null,null,null,null,null,null,null,null,null,null,null,null,null,null,null,null,null,null,null,null,null,null,null,null,null,null,null,null,{"$f":"IFERROR($E128*SUMIF('Daily Log'!$CK$18:$CK$1017,$B128,'Daily Log'!$CL$18:$CL$1017),0)","v":1761},{"$f":"IFERROR($E128*SUMIF('Daily Log'!$CN$18:$CN$1017,$B128,'Daily Log'!$CO$18:$CO$1017),0)","v":0}]
[null,"CN12 CHAMOMILE (H)",null,"FFD-HOT BEVERAGES",1,127,null,null,null,null,null,null,null,null,null,null,null,null,null,null,null,null,null,null,null,null,null,null,null,null,null,null,null,null,null,{"$f":"IFERROR($E129*SUMIF('Daily Log'!$CK$18:$CK$1017,$B129,'Daily Log'!$CL$18:$CL$1017),0)","v":127},{"$f":"IFERROR($E129*SUMIF('Daily Log'!$CN$18:$CN$1017,$B129,'Daily Log'!$CO$18:$CO$1017),0)","v":0}]
[null,"CN13 DARJEELING (H)",null,"FFD-HOT BEVERAGES",1,20,null,null,null,null,null,null,null,null,null,null,null,null,null,null,null,null,null,null,null,null,null,null,null,null,null,null,null,null,null,{"$f":"IFERROR($E130*SUMIF('Daily Log'!$CK$18:$CK$1017,$B130,'Daily Log'!$CL$18:$CL$1017),0)","v":20},{"$f":"IFERROR($E130*SUMIF('Daily Log'!$CN$18:$CN$1017,$B130,'Daily Log'!$CO$18:$CO$1017),0)","v":0}]
[null,"CN14 EARL GREY (H)",null,"FFD-HOT BEVERAGES",1,72,null,null,null,null,null,null,null,null,null,null,null,null,null,null,null,null,null,null,null,null,null,null,null,null,null,null,null,null,null,{"$f":"IFERROR($E131*SUMIF('Daily Log'!$CK$18:$CK$1017,$B131,'Daily Log'!$CL$18:$CL$1017),0)","v":72},{"$f":"IFERROR($E131*SUMIF('Daily Log'!$CN$18:$CN$1017,$B131,'Daily Log'!$CO$18:$CO$1017),0)","v":0}]
[null,"DB01 1001:BP CKN CP",null,"SIDE ORDER- WESTERN CRUISE ",1,93,null,null,null,null,null,null,null,null,null,null,null,null,null,null,null,null,null,null,null,null,null,null,null,null,null,null,null,null,null,{"$f":"IFERROR($E132*SUMIF('Daily Log'!$CK$18:$CK$1017,$B132,'Daily Log'!$CL$18:$CL$1017),0)","v":93},{"$f":"IFERROR($E132*SUMIF('Daily Log'!$CN$18:$CN$1017,$B132,'Daily Log'!$CO$18:$CO$1017),0)","v":0}]
[null,"DB02 1002:GVY CHK CP",null,"SIDE ORDER- WESTERN CRUISE ",1,23,null,null,null,null,null,null,null,null,null,null,null,null,null,null,null,null,null,null,null,null,null,null,null,null,null,null,null,null,null,{"$f":"IFERROR($E133*SUMIF('Daily Log'!$CK$18:$CK$1017,$B133,'Daily Log'!$CL$18:$CL$1017),0)","v":23},{"$f":"IFERROR($E133*SUMIF('Daily Log'!$CN$18:$CN$1017,$B133,'Daily Log'!$CO$18:$CO$1017),0)","v":0}]
[null,"DB03 1003:MSR CKN CP",null,"SIDE ORDER- WESTERN CRUISE ",1,115,null,null,null,null,null,null,null,null,null,null,null,null,null,null,null,null,null,null,null,null,null,null,null,null,null,null,null,null,null,{"$f":"IFERROR($E134*SUMIF('Daily Log'!$CK$18:$CK$1017,$B134,'Daily Log'!$CL$18:$CL$1017),0)","v":115},{"$f":"IFERROR($E134*SUMIF('Daily Log'!$CN$18:$CN$1017,$B134,'Daily Log'!$CO$18:$CO$1017),0)","v":0}]
[null,"DB04 1004:CKN MARY",null,"SIDE ORDER- WESTERN CRUISE ",1,27,null,null,null,null,null,null,null,null,null,null,null,null,null,null,null,null,null,null,null,null,null,null,null,null,null,null,null,null,null,{"$f":"IFERROR($E135*SUMIF('Daily Log'!$CK$18:$CK$1017,$B135,'Daily Log'!$CL$18:$CL$1017),0)","v":27},{"$f":"IFERROR($E135*SUMIF('Daily Log'!$CN$18:$CN$1017,$B135,'Daily Log'!$CO$18:$CO$1017),0)","v":0}]
[null,"DB05 1005:FISH&CHIP",null,"SIDE ORDER- WESTERN CRUISE ",1,40,null,null,null,null,null,null,null,null,null,null,null,null,null,null,null,null,null,null,null,null,null,null,null,null,null,null,null,null,null,{"$f":"IFERROR($E136*SUMIF('Daily Log'!$CK$18:$CK$1017,$B136,'Daily Log'!$CL$18:$CL$1017),0)","v":40},{"$f":"IFERROR($E136*SUMIF('Daily Log'!$CN$18:$CN$1017,$B136,'Daily Log'!$CO$18:$CO$1017),0)","v":0}]
[null,"DB06 1006:SPAGHETTI",null,"SIDE ORDER- WESTERN CRUISE ",1,46,null,null,null,null,null,null,null,null,null,null,null,null,null,null,null,null,null,null,null,null,null,null,null,null,null,null,null,null,null,{"$f":"IFERROR($E137*SUMIF('Daily Log'!$CK$18:$CK$1017,$B137,'Daily Log'!$CL$18:$CL$1017),0)","v":46},{"$f":"IFERROR($E137*SUMIF('Daily Log'!$CN$18:$CN$1017,$B137,'Daily Log'!$CO$18:$CO$1017),0)","v":0}]
[null,"DB07 1007:CHK SALAD",null,"SIDE ORDER- WESTERN CRUISE ",1,11,null,null,null,null,null,null,null,null,null,null,null,null,null,null,null,null,null,null,null,null,null,null,null,null,null,null,null,null,null,{"$f":"IFERROR($E138*SUMIF('Daily Log'!$CK$18:$CK$1017,$B138,'Daily Log'!$CL$18:$CL$1017),0)","v":11},{"$f":"IFERROR($E138*SUMIF('Daily Log'!$CN$18:$CN$1017,$B138,'Daily Log'!$CO$18:$CO$1017),0)","v":0}]
[null,"DC01 1101:THAI CHK",null,"SIDE ORDER- LOCAL DELIGHTS",1,60,null,null,null,null,null,null,null,null,null,null,null,null,null,null,null,null,null,null,null,null,null,null,null,null,null,null,null,null,null,{"$f":"IFERROR($E139*SUMIF('Daily Log'!$CK$18:$CK$1017,$B139,'Daily Log'!$CL$18:$CL$1017),0)","v":60},{"$f":"IFERROR($E139*SUMIF('Daily Log'!$CN$18:$CN$1017,$B139,'Daily Log'!$CO$18:$CO$1017),0)","v":0}]
[null,"DC02 1102:MAMITE CHK",null,"SIDE ORDER- LOCAL DELIGHTS",1,63,null,null,null,null,null,null,null,null,null,null,null,null,null,null,null,null,null,null,null,null,null,null,null,null,null,null,null,null,null,{"$f":"IFERROR($E140*SUMIF('Daily Log'!$CK$18:$CK$1017,$B140,'Daily Log'!$CL$18:$CL$1017),0)","v":63},{"$f":"IFERROR($E140*SUMIF('Daily Log'!$CN$18:$CN$1017,$B140,'Daily Log'!$CO$18:$CO$1017),0)","v":0}]
[null,"DC03 1103:KO PO CHK",null,"SIDE ORDER- LOCAL DELIGHTS",1,0,null,null,null,null,null,null,null,null,null,null,null,null,null,null,null,null,null,null,null,null,null,null,null,null,null,null,null,null,null,{"$f":"IFERROR($E141*SUMIF('Daily Log'!$CK$18:$CK$1017,$B141,'Daily Log'!$CL$18:$CL$1017),0)","v":0},{"$f":"IFERROR($E141*SUMIF('Daily Log'!$CN$18:$CN$1017,$B141,'Daily Log'!$CO$18:$CO$1017),0)","v":0}]
[null,"DC04 1104:S&S CHK",null,"SIDE ORDER- LOCAL DELIGHTS",1,31,null,null,null,null,null,null,null,null,null,null,null,null,null,null,null,null,null,null,null,null,null,null,null,null,null,null,null,null,null,{"$f":"IFERROR($E142*SUMIF('Daily Log'!$CK$18:$CK$1017,$B142,'Daily Log'!$CL$18:$CL$1017),0)","v":31},{"$f":"IFERROR($E142*SUMIF('Daily Log'!$CN$18:$CN$1017,$B142,'Daily Log'!$CO$18:$CO$1017),0)","v":0}]
[null,"DC05 1105:BUTTER CHK",null,"SIDE ORDER- LOCAL DELIGHTS",1,130,null,null,null,null,null,null,null,null,null,null,null,null,null,null,null,null,null,null,null,null,null,null,null,null,null,null,null,null,null,{"$f":"IFERROR($E143*SUMIF('Daily Log'!$CK$18:$CK$1017,$B143,'Daily Log'!$CL$18:$CL$1017),0)","v":130},{"$f":"IFERROR($E143*SUMIF('Daily Log'!$CN$18:$CN$1017,$B143,'Daily Log'!$CO$18:$CO$1017),0)","v":0}]
[null,"DC06 1106:HK F.RICE",null,"SIDE ORDER- LOCAL DELIGHTS",1,56,null,null,null,null,null,null,null,null,null,null,null,null,null,null,null,null,null,null,null,null,null,null,null,null,null,null,null,null,null,{"$f":"IFERROR($E144*SUMIF('Daily Log'!$CK$18:$CK$1017,$B144,'Daily Log'!$CL$18:$CL$1017),0)","v":56},{"$f":"IFERROR($E144*SUMIF('Daily Log'!$CN$18:$CN$1017,$B144,'Daily Log'!$CO$18:$CO$1017),0)","v":0}]
[null,"DC07 1107:SBL F.RICE",null,"SIDE ORDER- LOCAL DELIGHTS",1,51,null,null,null,null,null,null,null,null,null,null,null,null,null,null,null,null,null,null,null,null,null,null,null,null,null,null,null,null,null,{"$f":"IFERROR($E145*SUMIF('Daily Log'!$CK$18:$CK$1017,$B145,'Daily Log'!$CL$18:$CL$1017),0)","v":51},{"$f":"IFERROR($E145*SUMIF('Daily Log'!$CN$18:$CN$1017,$B145,'Daily Log'!$CO$18:$CO$1017),0)","v":0}]
[null,"DC08 1108:SBL F.MEE",null,"SIDE ORDER- LOCAL DELIGHTS",1,7,null,null,null,null,null,null,null,null,null,null,null,null,null,null,null,null,null,null,null,null,null,null,null,null,null,null,null,null,null,{"$f":"IFERROR($E146*SUMIF('Daily Log'!$CK$18:$CK$1017,$B146,'Daily Log'!$CL$18:$CL$1017),0)","v":7},{"$f":"IFERROR($E146*SUMIF('Daily Log'!$CN$18:$CN$1017,$B146,'Daily Log'!$CO$18:$CO$1017),0)","v":0}]
[null,"DC09 1109:BP UDON",null,"SIDE ORDER- LOCAL DELIGHTS",1,27,null,null,null,null,null,null,null,null,null,null,null,null,null,null,null,null,null,null,null,null,null,null,null,null,null,null,null,null,null,{"$f":"IFERROR($E147*SUMIF('Daily Log'!$CK$18:$CK$1017,$B147,'Daily Log'!$CL$18:$CL$1017),0)","v":27},{"$f":"IFERROR($E147*SUMIF('Daily Log'!$CN$18:$CN$1017,$B147,'Daily Log'!$CO$18:$CO$1017),0)","v":0}]
["","DC10 1110:NISSIN",null,"SIDE ORDER- LOCAL DELIGHTS",1,19,null,null,null,null,null,null,null,null,null,null,null,null,null,null,null,null,null,null,null,null,null,null,null,null,null,null,null,null,null,{"$f":"IFERROR($E148*SUMIF('Daily Log'!$CK$18:$CK$1017,$B148,'Daily Log'!$CL$18:$CL$1017),0)","v":19},{"$f":"IFERROR($E148*SUMIF('Daily Log'!$CN$18:$CN$1017,$B148,'Daily Log'!$CO$18:$CO$1017),0)","v":0}]
[null,"DC11 1111:VEG RICE",null,"SIDE ORDER- LOCAL DELIGHTS",1,7,null,null,null,null,null,null,null,null,null,null,null,null,null,null,null,null,null,null,null,null,null,null,null,null,null,null,null,null,null,{"$f":"IFERROR($E149*SUMIF('Daily Log'!$CK$18:$CK$1017,$B149,'Daily Log'!$CL$18:$CL$1017),0)","v":7},{"$f":"IFERROR($E149*SUMIF('Daily Log'!$CN$18:$CN$1017,$B149,'Daily Log'!$CO$18:$CO$1017),0)","v":0}]
[null,"DC12 1112:NASI LEMAK",null,"SIDE ORDER- LOCAL DELIGHTS",1,0,null,null,null,null,null,null,null,null,null,null,null,null,null,null,null,null,null,null,null,null,null,null,null,null,null,null,null,null,null,{"$f":"IFERROR($E150*SUMIF('Daily Log'!$CK$18:$CK$1017,$B150,'Daily Log'!$CL$18:$CL$1017),0)","v":0},{"$f":"IFERROR($E150*SUMIF('Daily Log'!$CN$18:$CN$1017,$B150,'Daily Log'!$CO$18:$CO$1017),0)","v":0}]
[null,"DC13 1113:KUEY TEOW",null,"SIDE ORDER- LOCAL DELIGHTS",1,0,null,null,null,null,null,null,null,null,null,null,null,null,null,null,null,null,null,null,null,null,null,null,null,null,null,null,null,null,null,{"$f":"IFERROR($E151*SUMIF('Daily Log'!$CK$18:$CK$1017,$B151,'Daily Log'!$CL$18:$CL$1017),0)","v":0},{"$f":"IFERROR($E151*SUMIF('Daily Log'!$CN$18:$CN$1017,$B151,'Daily Log'!$CO$18:$CO$1017),0)","v":0}]
[null,"DC14 1114:F.BALL MEE",null,"SIDE ORDER- LOCAL DELIGHTS",1,0,null,null,null,null,null,null,null,null,null,null,null,null,null,null,null,null,null,null,null,null,null,null,null,null,null,null,null,null,null,{"$f":"IFERROR($E152*SUMIF('Daily Log'!$CK$18:$CK$1017,$B152,'Daily Log'!$CL$18:$CL$1017),0)","v":0},{"$f":"IFERROR($E152*SUMIF('Daily Log'!$CN$18:$CN$1017,$B152,'Daily Log'!$CO$18:$CO$1017),0)","v":0}]
[null,"DC15 1115:CHK NOODLE",null,"SIDE ORDER- LOCAL DELIGHTS",1,22,null,null,null,null,null,null,null,null,null,null,null,null,null,null,null,null,null,null,null,null,null,null,null,null,null,null,null,null,null,{"$f":"IFERROR($E153*SUMIF('Daily Log'!$CK$18:$CK$1017,$B153,'Daily Log'!$CL$18:$CL$1017),0)","v":22},{"$f":"IFERROR($E153*SUMIF('Daily Log'!$CN$18:$CN$1017,$B153,'Daily Log'!$CO$18:$CO$1017),0)","v":0}]
[null,"DC16 1116:MGL CHICKEN",null,"SIDE ORDER- LOCAL DELIGHTS",1,22,null,null,null,null,null,null,null,null,null,null,null,null,null,null,null,null,null,null,null,null,null,null,null,null,null,null,null,null,null,{"$f":"IFERROR($E154*SUMIF('Daily Log'!$CK$18:$CK$1017,$B154,'Daily Log'!$CL$18:$CL$1017),0)","v":22},{"$f":"IFERROR($E154*SUMIF('Daily Log'!$CN$18:$CN$1017,$B154,'Daily Log'!$CO$18:$CO$1017),0)","v":0}]
[null,"DD01 1201:SFD STICK",null,"SIDE ORDER- APPETIZER",1,0,null,null,null,null,null,null,null,null,null,null,null,null,null,null,null,null,null,null,null,null,null,null,null,null,null,null,null,null,null,{"$f":"IFERROR($E155*SUMIF('Daily Log'!$CK$18:$CK$1017,$B155,'Daily Log'!$CL$18:$CL$1017),0)","v":0},{"$f":"IFERROR($E155*SUMIF('Daily Log'!$CN$18:$CN$1017,$B155,'Daily Log'!$CO$18:$CO$1017),0)","v":0}]
[null,"DD02 1202:FREN FRIES",null,"SIDE ORDER- APPETIZER",1,80,null,null,null,null,null,null,null,null,null,null,null,null,null,null,null,null,null,null,null,null,null,null,null,null,null,null,null,null,null,{"$f":"IFERROR($E156*SUMIF('Daily Log'!$CK$18:$CK$1017,$B156,'Daily Log'!$CL$18:$CL$1017),0)","v":80},{"$f":"IFERROR($E156*SUMIF('Daily Log'!$CN$18:$CN$1017,$B156,'Daily Log'!$CO$18:$CO$1017),0)","v":0}]
[null,"DD03 1203:GOLD MROOM",null,"SIDE ORDER- APPETIZER",1,11,null,null,null,null,null,null,null,null,null,null,null,null,null,null,null,null,null,null,null,null,null,null,null,null,null,null,null,null,null,{"$f":"IFERROR($E157*SUMIF('Daily Log'!$CK$18:$CK$1017,$B157,'Daily Log'!$CL$18:$CL$1017),0)","v":11},{"$f":"IFERROR($E157*SUMIF('Daily Log'!$CN$18:$CN$1017,$B157,'Daily Log'!$CO$18:$CO$1017),0)","v":0}]
[null,"DD04 1204:FISHBALL",null,"SIDE ORDER- APPETIZER",1,14,null,null,null,null,null,null,null,null,null,null,null,null,null,null,null,null,null,null,null,null,null,null,null,null,null,null,null,null,null,{"$f":"IFERROR($E158*SUMIF('Daily Log'!$CK$18:$CK$1017,$B158,'Daily Log'!$CL$18:$CL$1017),0)","v":14},{"$f":"IFERROR($E158*SUMIF('Daily Log'!$CN$18:$CN$1017,$B158,'Daily Log'!$CO$18:$CO$1017),0)","v":0}]
[null,"DD05 1205:RAINBOW RL",null,"SIDE ORDER- APPETIZER",1,0,null,null,null,null,null,null,null,null,null,null,null,null,null,null,null,null,null,null,null,null,null,null,null,null,null,null,null,null,null,{"$f":"IFERROR($E159*SUMIF('Daily Log'!$CK$18:$CK$1017,$B159,'Daily Log'!$CL$18:$CL$1017),0)","v":0},{"$f":"IFERROR($E159*SUMIF('Daily Log'!$CN$18:$CN$1017,$B159,'Daily Log'!$CO$18:$CO$1017),0)","v":0}]
[null,"DD06 1206:SPRING RL",null,"SIDE ORDER- APPETIZER",1,17,null,null,null,null,null,null,null,null,null,null,null,null,null,null,null,null,null,null,null,null,null,null,null,null,null,null,null,null,null,{"$f":"IFERROR($E160*SUMIF('Daily Log'!$CK$18:$CK$1017,$B160,'Daily Log'!$CL$18:$CL$1017),0)","v":17},{"$f":"IFERROR($E160*SUMIF('Daily Log'!$CN$18:$CN$1017,$B160,'Daily Log'!$CO$18:$CO$1017),0)","v":0}]
[null,"DD07 1207:SAUSAGE",null,"SIDE ORDER- APPETIZER",1,{"$f":"SUM($G161:$AK161)","v":17},null,null,null,null,null,null,null,null,null,null,null,null,null,null,null,null,null,null,null,null,null,null,null,null,null,null,null,null,null,{"$f":"IFERROR($E161*SUMIF('Daily Log'!$CK$18:$CK$1017,$B161,'Daily Log'!$CL$18:$CL$1017),0)","v":17},{"$f":"IFERROR($E161*SUMIF('Daily Log'!$CN$18:$CN$1017,$B161,'Daily Log'!$CO$18:$CO$1017),0)","v":0}]
[null,"DD08 1208:HOTDOG BUN",null,"SIDE ORDER- APPETIZER",1,0,null,null,null,null,null,null,null,null,null,null,null,null,null,null,null,null,null,null,null,null,null,null,null,null,null,null,null,null,null,{"$f":"IFERROR($E162*SUMIF('Daily Log'!$CK$18:$CK$1017,$B162,'Daily Log'!$CL$18:$CL$1017),0)","v":0},{"$f":"IFERROR($E162*SUMIF('Daily Log'!$CN$18:$CN$1017,$B162,'Daily Log'!$CO$18:$CO$1017),0)","v":0}]
[null,"DD09 1209:SFD TOFU",null,"SIDE ORDER- APPETIZER",1,0,null,null,null,null,null,null,null,null,null,null,null,null,null,null,null,null,null,null,null,null,null,null,null,null,null,null,null,null,null,{"$f":"IFERROR($E163*SUMIF('Daily Log'!$CK$18:$CK$1017,$B163,'Daily Log'!$CL$18:$CL$1017),0)","v":0},{"$f":"IFERROR($E163*SUMIF('Daily Log'!$CN$18:$CN$1017,$B163,'Daily Log'!$CO$18:$CO$1017),0)","v":0}]
[null,"DD10 1301:DUMPLING",null,"SIDE ORDER- APPETIZER",1,0,null,null,null,null,null,null,null,null,null,null,null,null,null,null,null,null,null,null,null,null,null,null,null,null,null,null,null,null,null,{"$f":"IFERROR($E164*SUMIF('Daily Log'!$CK$18:$CK$1017,$B164,'Daily Log'!$CL$18:$CL$1017),0)","v":0},{"$f":"IFERROR($E164*SUMIF('Daily Log'!$CN$18:$CN$1017,$B164,'Daily Log'!$CO$18:$CO$1017),0)","v":0}]
[null,"DD11 1302:NUGGET",null,"SIDE ORDER- APPETIZER",1,39,null,null,null,null,null,null,null,null,null,null,null,null,null,null,null,null,null,null,null,null,null,null,null,null,null,null,null,null,null,{"$f":"IFERROR($E165*SUMIF('Daily Log'!$CK$18:$CK$1017,$B165,'Daily Log'!$CL$18:$CL$1017),0)","v":39},{"$f":"IFERROR($E165*SUMIF('Daily Log'!$CN$18:$CN$1017,$B165,'Daily Log'!$CO$18:$CO$1017),0)","v":0}]
[null,"DD12 1303:CHK WING",null,"SIDE ORDER- APPETIZER",1,31,null,null,null,null,null,null,null,null,null,null,null,null,null,null,null,null,null,null,null,null,null,null,null,null,null,null,null,null,null,{"$f":"IFERROR($E166*SUMIF('Daily Log'!$CK$18:$CK$1017,$B166,'Daily Log'!$CL$18:$CL$1017),0)","v":31},{"$f":"IFERROR($E166*SUMIF('Daily Log'!$CN$18:$CN$1017,$B166,'Daily Log'!$CO$18:$CO$1017),0)","v":0}]
[null,"DD13 1304:IKAN BILIS",null,"SIDE ORDER- APPETIZER",1,9,null,null,null,null,null,null,null,null,null,null,null,null,null,null,null,null,null,null,null,null,null,null,null,null,null,null,null,null,null,{"$f":"IFERROR($E167*SUMIF('Daily Log'!$CK$18:$CK$1017,$B167,'Daily Log'!$CL$18:$CL$1017),0)","v":9},{"$f":"IFERROR($E167*SUMIF('Daily Log'!$CN$18:$CN$1017,$B167,'Daily Log'!$CO$18:$CO$1017),0)","v":0}]
[null,"DD14 1305:THAI RL",null,"SIDE ORDER- APPETIZER",1,5,null,null,null,null,null,null,null,null,null,null,null,null,null,null,null,null,null,null,null,null,null,null,null,null,null,null,null,null,null,{"$f":"IFERROR($E168*SUMIF('Daily Log'!$CK$18:$CK$1017,$B168,'Daily Log'!$CL$18:$CL$1017),0)","v":5},{"$f":"IFERROR($E168*SUMIF('Daily Log'!$CN$18:$CN$1017,$B168,'Daily Log'!$CO$18:$CO$1017),0)","v":0}]
[null,"DD15 1306:SLVR FISH",null,"SIDE ORDER- APPETIZER",1,0,null,null,null,null,null,null,null,null,null,null,null,null,null,null,null,null,null,null,null,null,null,null,null,null,null,null,null,null,null,{"$f":"IFERROR($E169*SUMIF('Daily Log'!$CK$18:$CK$1017,$B169,'Daily Log'!$CL$18:$CL$1017),0)","v":0},{"$f":"IFERROR($E169*SUMIF('Daily Log'!$CN$18:$CN$1017,$B169,'Daily Log'!$CO$18:$CO$1017),0)","v":0}]
[null,"DD16 1307:D.F C/WING",null,"SIDE ORDER- APPETIZER",1,13,null,null,null,null,null,null,null,null,null,null,null,null,null,null,null,null,null,null,null,null,null,null,null,null,null,null,null,null,null,{"$f":"IFERROR($E170*SUMIF('Daily Log'!$CK$18:$CK$1017,$B170,'Daily Log'!$CL$18:$CL$1017),0)","v":13},{"$f":"IFERROR($E170*SUMIF('Daily Log'!$CN$18:$CN$1017,$B170,'Daily Log'!$CO$18:$CO$1017),0)","v":0}]
[null,"DD17 1308 C/CALAMARI",null,"SIDE ORDER- APPETIZER",1,11,null,null,null,null,null,null,null,null,null,null,null,null,null,null,null,null,null,null,null,null,null,null,null,null,null,null,null,null,null,{"$f":"IFERROR($E171*SUMIF('Daily Log'!$CK$18:$CK$1017,$B171,'Daily Log'!$CL$18:$CL$1017),0)","v":11},{"$f":"IFERROR($E171*SUMIF('Daily Log'!$CN$18:$CN$1017,$B171,'Daily Log'!$CO$18:$CO$1017),0)","v":0}]
[null,"DD18 1309 Mc C/O.RING",null,"SIDE ORDER- APPETIZER",1,6,null,null,null,null,null,null,null,null,null,null,null,null,null,null,null,null,null,null,null,null,null,null,null,null,null,null,null,null,null,{"$f":"IFERROR($E172*SUMIF('Daily Log'!$CK$18:$CK$1017,$B172,'Daily Log'!$CL$18:$CL$1017),0)","v":6},{"$f":"IFERROR($E172*SUMIF('Daily Log'!$CN$18:$CN$1017,$B172,'Daily Log'!$CO$18:$CO$1017),0)","v":0}]
[null,"DD19 1310:Mc SPIRAL/F",null,"SIDE ORDER- APPETIZER",1,7,null,null,null,null,null,null,null,null,null,null,null,null,null,null,null,null,null,null,null,null,null,null,null,null,null,null,null,null,null,{"$f":"IFERROR($E173*SUMIF('Daily Log'!$CK$18:$CK$1017,$B173,'Daily Log'!$CL$18:$CL$1017),0)","v":7},{"$f":"IFERROR($E173*SUMIF('Daily Log'!$CN$18:$CN$1017,$B173,'Daily Log'!$CO$18:$CO$1017),0)","v":0}]
[null,"DD20 1311:Mc H/SMILES",null,"SIDE ORDER- APPETIZER",1,0,null,null,null,null,null,null,null,null,null,null,null,null,null,null,null,null,null,null,null,null,null,null,null,null,null,null,null,null,null,{"$f":"IFERROR($E174*SUMIF('Daily Log'!$CK$18:$CK$1017,$B174,'Daily Log'!$CL$18:$CL$1017),0)","v":0},{"$f":"IFERROR($E174*SUMIF('Daily Log'!$CN$18:$CN$1017,$B174,'Daily Log'!$CO$18:$CO$1017),0)","v":0}]
[null,"DD21 1312:Mc HASH BRW",null,"SIDE ORDER- APPETIZER",1,8,null,null,null,null,null,null,null,null,null,null,null,null,null,null,null,null,null,null,null,null,null,null,null,null,null,null,null,null,null,{"$f":"IFERROR($E175*SUMIF('Daily Log'!$CK$18:$CK$1017,$B175,'Daily Log'!$CL$18:$CL$1017),0)","v":8},{"$f":"IFERROR($E175*SUMIF('Daily Log'!$CN$18:$CN$1017,$B175,'Daily Log'!$CO$18:$CO$1017),0)","v":0}]
[null,"DF01 ADD RICE",null,"SIDE ORDER-OTHERS",1,15,null,null,null,null,null,null,null,null,null,null,null,null,null,null,null,null,null,null,null,null,null,null,null,null,null,null,null,null,null,{"$f":"IFERROR($E176*SUMIF('Daily Log'!$CK$18:$CK$1017,$B176,'Daily Log'!$CL$18:$CL$1017),0)","v":15},{"$f":"IFERROR($E176*SUMIF('Daily Log'!$CN$18:$CN$1017,$B176,'Daily Log'!$CO$18:$CO$1017),0)","v":0}]
[null,"DF02 ADD F.EGG",null,"SIDE ORDER-OTHERS",1,9,null,null,null,null,null,null,null,null,null,null,null,null,null,null,null,null,null,null,null,null,null,null,null,null,null,null,null,null,null,{"$f":"IFERROR($E177*SUMIF('Daily Log'!$CK$18:$CK$1017,$B177,'Daily Log'!$CL$18:$CL$1017),0)","v":9},{"$f":"IFERROR($E177*SUMIF('Daily Log'!$CN$18:$CN$1017,$B177,'Daily Log'!$CO$18:$CO$1017),0)","v":0}]
[null,"DF03 ADD SAUCE 1000",null,"SAUCE",1,15,null,null,null,null,null,null,null,null,null,null,null,null,null,null,null,null,null,null,null,null,null,null,null,null,null,null,null,null,null,{"$f":"IFERROR($E178*SUMIF('Daily Log'!$CK$18:$CK$1017,$B178,'Daily Log'!$CL$18:$CL$1017),0)","v":15},{"$f":"IFERROR($E178*SUMIF('Daily Log'!$CN$18:$CN$1017,$B178,'Daily Log'!$CO$18:$CO$1017),0)","v":0}]
[null,"DF04 ADD SAUCE BOLO",null,"SAUCE",1,2,null,null,null,null,null,null,null,null,null,null,null,null,null,null,null,null,null,null,null,null,null,null,null,null,null,null,null,null,null,{"$f":"IFERROR($E179*SUMIF('Daily Log'!$CK$18:$CK$1017,$B179,'Daily Log'!$CL$18:$CL$1017),0)","v":2},{"$f":"IFERROR($E179*SUMIF('Daily Log'!$CN$18:$CN$1017,$B179,'Daily Log'!$CO$18:$CO$1017),0)","v":0}]
[null,"DF05 ADD SAUCE BP",null,"SAUCE",1,5,null,null,null,null,null,null,null,null,null,null,null,null,null,null,null,null,null,null,null,null,null,null,null,null,null,null,null,null,null,{"$f":"IFERROR($E180*SUMIF('Daily Log'!$CK$18:$CK$1017,$B180,'Daily Log'!$CL$18:$CL$1017),0)","v":5},{"$f":"IFERROR($E180*SUMIF('Daily Log'!$CN$18:$CN$1017,$B180,'Daily Log'!$CO$18:$CO$1017),0)","v":0}]
[null,"DF06 ADD SAUCE BUTTER",null,"SAUCE",1,0,null,null,null,null,null,null,null,null,null,null,null,null,null,null,null,null,null,null,null,null,null,null,null,null,null,null,null,null,null,{"$f":"IFERROR($E181*SUMIF('Daily Log'!$CK$18:$CK$1017,$B181,'Daily Log'!$CL$18:$CL$1017),0)","v":0},{"$f":"IFERROR($E181*SUMIF('Daily Log'!$CN$18:$CN$1017,$B181,'Daily Log'!$CO$18:$CO$1017),0)","v":0}]
[null,"DF07 ADD SAUCE C.PADI",null,"SAUCE",1,39,null,null,null,null,null,null,null,null,null,null,null,null,null,null,null,null,null,null,null,null,null,null,null,null,null,null,null,null,null,{"$f":"IFERROR($E182*SUMIF('Daily Log'!$CK$18:$CK$1017,$B182,'Daily Log'!$CL$18:$CL$1017),0)","v":39},{"$f":"IFERROR($E182*SUMIF('Daily Log'!$CN$18:$CN$1017,$B182,'Daily Log'!$CO$18:$CO$1017),0)","v":0}]
[null,"DF08 ADD SAUCE GS",null,"SAUCE",1,1,null,null,null,null,null,null,null,null,null,null,null,null,null,null,null,null,null,null,null,null,null,null,null,null,null,null,null,null,null,{"$f":"IFERROR($E183*SUMIF('Daily Log'!$CK$18:$CK$1017,$B183,'Daily Log'!$CL$18:$CL$1017),0)","v":1},{"$f":"IFERROR($E183*SUMIF('Daily Log'!$CN$18:$CN$1017,$B183,'Daily Log'!$CO$18:$CO$1017),0)","v":0}]
[null,"DF09 ADD SAUCE MAYO",null,"SAUCE",1,87,null,null,null,null,null,null,null,null,null,null,null,null,null,null,null,null,null,null,null,null,null,null,null,null,null,null,null,null,null,{"$f":"IFERROR($E184*SUMIF('Daily Log'!$CK$18:$CK$1017,$B184,'Daily Log'!$CL$18:$CL$1017),0)","v":87},{"$f":"IFERROR($E184*SUMIF('Daily Log'!$CN$18:$CN$1017,$B184,'Daily Log'!$CO$18:$CO$1017),0)","v":0}]
[null,"DF10 ADD SAUCE MMITE",null,"SAUCE",1,0,null,null,null,null,null,null,null,null,null,null,null,null,null,null,null,null,null,null,null,null,null,null,null,null,null,null,null,null,null,{"$f":"IFERROR($E185*SUMIF('Daily Log'!$CK$18:$CK$1017,$B185,'Daily Log'!$CL$18:$CL$1017),0)","v":0},{"$f":"IFERROR($E185*SUMIF('Daily Log'!$CN$18:$CN$1017,$B185,'Daily Log'!$CO$18:$CO$1017),0)","v":0}]
[null,"DF11 ADD SAUCE MR",null,"SAUCE",1,5,null,null,null,null,null,null,null,null,null,null,null,null,null,null,null,null,null,null,null,null,null,null,null,null,null,null,null,null,null,{"$f":"IFERROR($E186*SUMIF('Daily Log'!$CK$18:$CK$1017,$B186,'Daily Log'!$CL$18:$CL$1017),0)","v":5},{"$f":"IFERROR($E186*SUMIF('Daily Log'!$CN$18:$CN$1017,$B186,'Daily Log'!$CO$18:$CO$1017),0)","v":0}]
[null,"DF12 ADD SAUCE SAMBAL",null,"SAUCE",1,2,null,null,null,null,null,null,null,null,null,null,null,null,null,null,null,null,null,null,null,null,null,null,null,null,null,null,null,null,null,{"$f":"IFERROR($E187*SUMIF('Daily Log'!$CK$18:$CK$1017,$B187,'Daily Log'!$CL$18:$CL$1017),0)","v":2},{"$f":"IFERROR($E187*SUMIF('Daily Log'!$CN$18:$CN$1017,$B187,'Daily Log'!$CO$18:$CO$1017),0)","v":0}]
[null,"DF13 ADD SAUCE THAI",null,"SAUCE",1,3,null,null,null,null,null,null,null,null,null,null,null,null,null,null,null,null,null,null,null,null,null,null,null,null,null,null,null,null,null,{"$f":"IFERROR($E188*SUMIF('Daily Log'!$CK$18:$CK$1017,$B188,'Daily Log'!$CL$18:$CL$1017),0)","v":3},{"$f":"IFERROR($E188*SUMIF('Daily Log'!$CN$18:$CN$1017,$B188,'Daily Log'!$CO$18:$CO$1017),0)","v":0}]
[null,"DF14 ADD SAUCE TOMATO",null,"SAUCE",1,95,null,null,null,null,null,null,null,null,null,null,null,null,null,null,null,null,null,null,null,null,null,null,null,null,null,null,null,null,null,{"$f":"IFERROR($E189*SUMIF('Daily Log'!$CK$18:$CK$1017,$B189,'Daily Log'!$CL$18:$CL$1017),0)","v":95},{"$f":"IFERROR($E189*SUMIF('Daily Log'!$CN$18:$CN$1017,$B189,'Daily Log'!$CO$18:$CO$1017),0)","v":0}]
[null,"DF15 ADD TATA SAUCE",null,"SAUCE",1,17,null,null,null,null,null,null,null,null,null,null,null,null,null,null,null,null,null,null,null,null,null,null,null,null,null,null,null,null,null,{"$f":"IFERROR($E190*SUMIF('Daily Log'!$CK$18:$CK$1017,$B190,'Daily Log'!$CL$18:$CL$1017),0)","v":17},{"$f":"IFERROR($E190*SUMIF('Daily Log'!$CN$18:$CN$1017,$B190,'Daily Log'!$CO$18:$CO$1017),0)","v":0}]
[null,"DF16 ADD SAUCE CHEES",null,"SAUCE",1,0,null,null,null,null,null,null,null,null,null,null,null,null,null,null,null,null,null,null,null,null,null,null,null,null,null,null,null,null,null,{"$f":"IFERROR($E191*SUMIF('Daily Log'!$CK$18:$CK$1017,$B191,'Daily Log'!$CL$18:$CL$1017),0)","v":0},{"$f":"IFERROR($E191*SUMIF('Daily Log'!$CN$18:$CN$1017,$B191,'Daily Log'!$CO$18:$CO$1017),0)","v":0}]
[null,"DG01 91001:BP CHK CP",null,"KLKD-WESTERN CRUISE ",1,368,null,null,null,null,null,null,null,null,null,null,null,null,null,null,null,null,null,null,null,null,null,null,null,null,null,null,null,null,null,{"$f":"IFERROR($E192*SUMIF('Daily Log'!$CK$18:$CK$1017,$B192,'Daily Log'!$CL$18:$CL$1017),0)","v":368},{"$f":"IFERROR($E192*SUMIF('Daily Log'!$CN$18:$CN$1017,$B192,'Daily Log'!$CO$18:$CO$1017),0)","v":0}]
[null,"DG02 91002:GVY CHK CP",null,"KLKD-WESTERN CRUISE ",1,117,null,null,null,null,null,null,null,null,null,null,null,null,null,null,null,null,null,null,null,null,null,null,null,null,null,null,null,null,null,{"$f":"IFERROR($E193*SUMIF('Daily Log'!$CK$18:$CK$1017,$B193,'Daily Log'!$CL$18:$CL$1017),0)","v":117},{"$f":"IFERROR($E193*SUMIF('Daily Log'!$CN$18:$CN$1017,$B193,'Daily Log'!$CO$18:$CO$1017),0)","v":0}]
[null,"DG03 91003:MSR CHK CP",null,"KLKD-WESTERN CRUISE ",1,436,null,null,null,null,null,null,null,null,null,null,null,null,null,null,null,null,null,null,null,null,null,null,null,null,null,null,null,null,null,{"$f":"IFERROR($E194*SUMIF('Daily Log'!$CK$18:$CK$1017,$B194,'Daily Log'!$CL$18:$CL$1017),0)","v":436},{"$f":"IFERROR($E194*SUMIF('Daily Log'!$CN$18:$CN$1017,$B194,'Daily Log'!$CO$18:$CO$1017),0)","v":0}]
[null,"DG04 91004:CKN MARY",null,"KLKD-WESTERN CRUISE ",1,203,null,null,null,null,null,null,null,null,null,null,null,null,null,null,null,null,null,null,null,null,null,null,null,null,null,null,null,null,null,{"$f":"IFERROR($E195*SUMIF('Daily Log'!$CK$18:$CK$1017,$B195,'Daily Log'!$CL$18:$CL$1017),0)","v":203},{"$f":"IFERROR($E195*SUMIF('Daily Log'!$CN$18:$CN$1017,$B195,'Daily Log'!$CO$18:$CO$1017),0)","v":0}]
[null,"DG05 91005:FISH&CHIP",null,"KLKD-WESTERN CRUISE ",1,246,null,null,null,null,null,null,null,null,null,null,null,null,null,null,null,null,null,null,null,null,null,null,null,null,null,null,null,null,null,{"$f":"IFERROR($E196*SUMIF('Daily Log'!$CK$18:$CK$1017,$B196,'Daily Log'!$CL$18:$CL$1017),0)","v":246},{"$f":"IFERROR($E196*SUMIF('Daily Log'!$CN$18:$CN$1017,$B196,'Daily Log'!$CO$18:$CO$1017),0)","v":0}]
[null,"DG06 91006:SPAGHETTI",null,"KLKD-WESTERN CRUISE ",1,160,null,null,null,null,null,null,null,null,null,null,null,null,null,null,null,null,null,null,null,null,null,null,null,null,null,null,null,null,null,{"$f":"IFERROR($E197*SUMIF('Daily Log'!$CK$18:$CK$1017,$B197,'Daily Log'!$CL$18:$CL$1017),0)","v":160},{"$f":"IFERROR($E197*SUMIF('Daily Log'!$CN$18:$CN$1017,$B197,'Daily Log'!$CO$18:$CO$1017),0)","v":0}]
[null,"DG07 91007:CHK SALAD",null,"KLKD-WESTERN CRUISE ",1,71,null,null,null,null,null,null,null,null,null,null,null,null,null,null,null,null,null,null,null,null,null,null,null,null,null,null,null,null,null,{"$f":"IFERROR($E198*SUMIF('Daily Log'!$CK$18:$CK$1017,$B198,'Daily Log'!$CL$18:$CL$1017),0)","v":71},{"$f":"IFERROR($E198*SUMIF('Daily Log'!$CN$18:$CN$1017,$B198,'Daily Log'!$CO$18:$CO$1017),0)","v":0}]
[null,"DH01 91101:THAI CHK",null,"KLKD-LOCAL DELIGHTS",1,64,null,null,null,null,null,null,null,null,null,null,null,null,null,null,null,null,null,null,null,null,null,null,null,null,null,null,null,null,null,{"$f":"IFERROR($E199*SUMIF('Daily Log'!$CK$18:$CK$1017,$B199,'Daily Log'!$CL$18:$CL$1017),0)","v":64},{"$f":"IFERROR($E199*SUMIF('Daily Log'!$CN$18:$CN$1017,$B199,'Daily Log'!$CO$18:$CO$1017),0)","v":0}]
[null,"DH02 91102:MAMITE CHK",null,"KLKD-LOCAL DELIGHTS",1,114,null,null,null,null,null,null,null,null,null,null,null,null,null,null,null,null,null,null,null,null,null,null,null,null,null,null,null,null,null,{"$f":"IFERROR($E200*SUMIF('Daily Log'!$CK$18:$CK$1017,$B200,'Daily Log'!$CL$18:$CL$1017),0)","v":114},{"$f":"IFERROR($E200*SUMIF('Daily Log'!$CN$18:$CN$1017,$B200,'Daily Log'!$CO$18:$CO$1017),0)","v":0}]
[null,"DH03 91103:KO PO CHK",null,"KLKD-LOCAL DELIGHTS",1,0,null,null,null,null,null,null,null,null,null,null,null,null,null,null,null,null,null,null,null,null,null,null,null,null,null,null,null,null,null,{"$f":"IFERROR($E201*SUMIF('Daily Log'!$CK$18:$CK$1017,$B201,'Daily Log'!$CL$18:$CL$1017),0)","v":0},{"$f":"IFERROR($E201*SUMIF('Daily Log'!$CN$18:$CN$1017,$B201,'Daily Log'!$CO$18:$CO$1017),0)","v":0}]
[null,"DH04 91104:S&S CHK",null,"KLKD-LOCAL DELIGHTS",1,47,null,null,null,null,null,null,null,null,null,null,null,null,null,null,null,null,null,null,null,null,null,null,null,null,null,null,null,null,null,{"$f":"IFERROR($E202*SUMIF('Daily Log'!$CK$18:$CK$1017,$B202,'Daily Log'!$CL$18:$CL$1017),0)","v":47},{"$f":"IFERROR($E202*SUMIF('Daily Log'!$CN$18:$CN$1017,$B202,'Daily Log'!$CO$18:$CO$1017),0)","v":0}]
[null,"DH05 91105:BUTTER CHK",null,"KLKD-LOCAL DELIGHTS",1,140,null,null,null,null,null,null,null,null,null,null,null,null,null,null,null,null,null,null,null,null,null,null,null,null,null,null,null,null,null,{"$f":"IFERROR($E203*SUMIF('Daily Log'!$CK$18:$CK$1017,$B203,'Daily Log'!$CL$18:$CL$1017),0)","v":140},{"$f":"IFERROR($E203*SUMIF('Daily Log'!$CN$18:$CN$1017,$B203,'Daily Log'!$CO$18:$CO$1017),0)","v":0}]
[null,"DH06 91106:HK F.RICE",null,"KLKD-LOCAL DELIGHTS",1,105,null,null,null,null,null,null,null,null,null,null,null,null,null,null,null,null,null,null,null,null,null,null,null,null,null,null,null,null,null,{"$f":"IFERROR($E204*SUMIF('Daily Log'!$CK$18:$CK$1017,$B204,'Daily Log'!$CL$18:$CL$1017),0)","v":105},{"$f":"IFERROR($E204*SUMIF('Daily Log'!$CN$18:$CN$1017,$B204,'Daily Log'!$CO$18:$CO$1017),0)","v":0}]
[null,"DH07 91107:SBL F.RICE",null,"KLKD-LOCAL DELIGHTS",1,52,null,null,null,null,null,null,null,null,null,null,null,null,null,null,null,null,null,null,null,null,null,null,null,null,null,null,null,null,null,{"$f":"IFERROR($E205*SUMIF('Daily Log'!$CK$18:$CK$1017,$B205,'Daily Log'!$CL$18:$CL$1017),0)","v":52},{"$f":"IFERROR($E205*SUMIF('Daily Log'!$CN$18:$CN$1017,$B205,'Daily Log'!$CO$18:$CO$1017),0)","v":0}]
[null,"DH08 91108:SBL F.MEE",null,"KLKD-LOCAL DELIGHTS",1,11,null,null,null,null,null,null,null,null,null,null,null,null,null,null,null,null,null,null,null,null,null,null,null,null,null,null,null,null,null,{"$f":"IFERROR($E206*SUMIF('Daily Log'!$CK$18:$CK$1017,$B206,'Daily Log'!$CL$18:$CL$1017),0)","v":11},{"$f":"IFERROR($E206*SUMIF('Daily Log'!$CN$18:$CN$1017,$B206,'Daily Log'!$CO$18:$CO$1017),0)","v":0}]
[null,"DH09 91109:BP UDON",null,"KLKD-LOCAL DELIGHTS",1,49,null,null,null,null,null,null,null,null,null,null,null,null,null,null,null,null,null,null,null,null,null,null,null,null,null,null,null,null,null,{"$f":"IFERROR($E207*SUMIF('Daily Log'!$CK$18:$CK$1017,$B207,'Daily Log'!$CL$18:$CL$1017),0)","v":49},{"$f":"IFERROR($E207*SUMIF('Daily Log'!$CN$18:$CN$1017,$B207,'Daily Log'!$CO$18:$CO$1017),0)","v":0}]
[null,"DH10 91110:NISSIN",null,"KLKD-LOCAL DELIGHTS",1,34,null,null,null,null,null,null,null,null,null,null,null,null,null,null,null,null,null,null,null,null,null,null,null,null,null,null,null,null,null,{"$f":"IFERROR($E208*SUMIF('Daily Log'!$CK$18:$CK$1017,$B208,'Daily Log'!$CL$18:$CL$1017),0)","v":34},{"$f":"IFERROR($E208*SUMIF('Daily Log'!$CN$18:$CN$1017,$B208,'Daily Log'!$CO$18:$CO$1017),0)","v":0}]
[null,"DH11 91111:VEG RICE",null,"KLKD-LOCAL DELIGHTS",1,21,null,null,null,null,null,null,null,null,null,null,null,null,null,null,null,null,null,null,null,null,null,null,null,null,null,null,null,null,null,{"$f":"IFERROR($E209*SUMIF('Daily Log'!$CK$18:$CK$1017,$B209,'Daily Log'!$CL$18:$CL$1017),0)","v":21},{"$f":"IFERROR($E209*SUMIF('Daily Log'!$CN$18:$CN$1017,$B209,'Daily Log'!$CO$18:$CO$1017),0)","v":0}]
[null,"DH12 91112:NASI LEMAK",null,"KLKD-LOCAL DELIGHTS",1,0,null,null,null,null,null,null,null,null,null,null,null,null,null,null,null,null,null,null,null,null,null,null,null,null,null,null,null,null,null,{"$f":"IFERROR($E210*SUMIF('Daily Log'!$CK$18:$CK$1017,$B210,'Daily Log'!$CL$18:$CL$1017),0)","v":0},{"$f":"IFERROR($E210*SUMIF('Daily Log'!$CN$18:$CN$1017,$B210,'Daily Log'!$CO$18:$CO$1017),0)","v":0}]
[null,"DH13 91113:KUEY TEOW",null,"KLKD-LOCAL DELIGHTS",1,0,null,null,null,null,null,null,null,null,null,null,null,null,null,null,null,null,null,null,null,null,null,null,null,null,null,null,null,null,null,{"$f":"IFERROR($E211*SUMIF('Daily Log'!$CK$18:$CK$1017,$B211,'Daily Log'!$CL$18:$CL$1017),0)","v":0},{"$f":"IFERROR($E211*SUMIF('Daily Log'!$CN$18:$CN$1017,$B211,'Daily Log'!$CO$18:$CO$1017),0)","v":0}]
[null,"DH14 91114:F.BALL MEE",null,"KLKD-LOCAL DELIGHTS",1,0,null,null,null,null,null,null,null,null,null,null,null,null,null,null,null,null,null,null,null,null,null,null,null,null,null,null,null,null,null,{"$f":"IFERROR($E212*SUMIF('Daily Log'!$CK$18:$CK$1017,$B212,'Daily Log'!$CL$18:$CL$1017),0)","v":0},{"$f":"IFERROR($E212*SUMIF('Daily Log'!$CN$18:$CN$1017,$B212,'Daily Log'!$CO$18:$CO$1017),0)","v":0}]
[null,"DH15 91115:CHK NOODLE",null,"KLKD-LOCAL DELIGHTS",1,33,null,null,null,null,null,null,null,null,null,null,null,null,null,null,null,null,null,null,null,null,null,null,null,null,null,null,null,null,null,{"$f":"IFERROR($E213*SUMIF('Daily Log'!$CK$18:$CK$1017,$B213,'Daily Log'!$CL$18:$CL$1017),0)","v":33},{"$f":"IFERROR($E213*SUMIF('Daily Log'!$CN$18:$CN$1017,$B213,'Daily Log'!$CO$18:$CO$1017),0)","v":0}]
[null,"DH16 91116:MGL CHK",null,"KLKD-LOCAL DELIGHTS",1,50,null,null,null,null,null,null,null,null,null,null,null,null,null,null,null,null,null,null,null,null,null,null,null,null,null,null,null,null,null,{"$f":"IFERROR($E214*SUMIF('Daily Log'!$CK$18:$CK$1017,$B214,'Daily Log'!$CL$18:$CL$1017),0)","v":50},{"$f":"IFERROR($E214*SUMIF('Daily Log'!$CN$18:$CN$1017,$B214,'Daily Log'!$CO$18:$CO$1017),0)","v":0}]
[null,"DI01 91201:SFD STICK",null,"KLKD-APPETIZER",1,3,null,null,null,null,null,null,null,null,null,null,null,null,null,null,null,null,null,null,null,null,null,null,null,null,null,null,null,null,null,{"$f":"IFERROR($E215*SUMIF('Daily Log'!$CK$18:$CK$1017,$B215,'Daily Log'!$CL$18:$CL$1017),0)","v":3},{"$f":"IFERROR($E215*SUMIF('Daily Log'!$CN$18:$CN$1017,$B215,'Daily Log'!$CO$18:$CO$1017),0)","v":0}]
[null,"DI02 91202:FREN FRIES",null,"KLKD-APPETIZER",1,28,null,null,null,null,null,null,null,null,null,null,null,null,null,null,null,null,null,null,null,null,null,null,null,null,null,null,null,null,null,{"$f":"IFERROR($E216*SUMIF('Daily Log'!$CK$18:$CK$1017,$B216,'Daily Log'!$CL$18:$CL$1017),0)","v":28},{"$f":"IFERROR($E216*SUMIF('Daily Log'!$CN$18:$CN$1017,$B216,'Daily Log'!$CO$18:$CO$1017),0)","v":0}]
[null,"DI03 91203:GOLD MROOM",null,"KLKD-APPETIZER",1,5,null,null,null,null,null,null,null,null,null,null,null,null,null,null,null,null,null,null,null,null,null,null,null,null,null,null,null,null,null,{"$f":"IFERROR($E217*SUMIF('Daily Log'!$CK$18:$CK$1017,$B217,'Daily Log'!$CL$18:$CL$1017),0)","v":5},{"$f":"IFERROR($E217*SUMIF('Daily Log'!$CN$18:$CN$1017,$B217,'Daily Log'!$CO$18:$CO$1017),0)","v":0}]
[null,"DI04 91204:FISHBALL",null,"KLKD-APPETIZER",1,6,null,null,null,null,null,null,null,null,null,null,null,null,null,null,null,null,null,null,null,null,null,null,null,null,null,null,null,null,null,{"$f":"IFERROR($E218*SUMIF('Daily Log'!$CK$18:$CK$1017,$B218,'Daily Log'!$CL$18:$CL$1017),0)","v":6},{"$f":"IFERROR($E218*SUMIF('Daily Log'!$CN$18:$CN$1017,$B218,'Daily Log'!$CO$18:$CO$1017),0)","v":0}]
[null,"DI05 91205:RAINBOW RL",null,"KLKD-APPETIZER",1,0,null,null,null,null,null,null,null,null,null,null,null,null,null,null,null,null,null,null,null,null,null,null,null,null,null,null,null,null,null,{"$f":"IFERROR($E219*SUMIF('Daily Log'!$CK$18:$CK$1017,$B219,'Daily Log'!$CL$18:$CL$1017),0)","v":0},{"$f":"IFERROR($E219*SUMIF('Daily Log'!$CN$18:$CN$1017,$B219,'Daily Log'!$CO$18:$CO$1017),0)","v":0}]
[null,"DI06 91206:SPRING RL",null,"KLKD-APPETIZER",1,3,null,null,null,null,null,null,null,null,null,null,null,null,null,null,null,null,null,null,null,null,null,null,null,null,null,null,null,null,null,{"$f":"IFERROR($E220*SUMIF('Daily Log'!$CK$18:$CK$1017,$B220,'Daily Log'!$CL$18:$CL$1017),0)","v":3},{"$f":"IFERROR($E220*SUMIF('Daily Log'!$CN$18:$CN$1017,$B220,'Daily Log'!$CO$18:$CO$1017),0)","v":0}]
[null,"DI07 91207:SAUSAGE",null,"KLKD-APPETIZER",1,15,null,null,null,null,null,null,null,null,null,null,null,null,null,null,null,null,null,null,null,null,null,null,null,null,null,null,null,null,null,{"$f":"IFERROR($E221*SUMIF('Daily Log'!$CK$18:$CK$1017,$B221,'Daily Log'!$CL$18:$CL$1017),0)","v":15},{"$f":"IFERROR($E221*SUMIF('Daily Log'!$CN$18:$CN$1017,$B221,'Daily Log'!$CO$18:$CO$1017),0)","v":0}]
[null,"DI08 91208:HOTDOG BUN",null,"KLKD-APPETIZER",1,0,null,null,null,null,null,null,null,null,null,null,null,null,null,null,null,null,null,null,null,null,null,null,null,null,null,null,null,null,null,{"$f":"IFERROR($E222*SUMIF('Daily Log'!$CK$18:$CK$1017,$B222,'Daily Log'!$CL$18:$CL$1017),0)","v":0},{"$f":"IFERROR($E222*SUMIF('Daily Log'!$CN$18:$CN$1017,$B222,'Daily Log'!$CO$18:$CO$1017),0)","v":0}]
[null,"DI09 91209:SFD TOFU",null,"KLKD-APPETIZER",1,0,null,null,null,null,null,null,null,null,null,null,null,null,null,null,null,null,null,null,null,null,null,null,null,null,null,null,null,null,null,{"$f":"IFERROR($E223*SUMIF('Daily Log'!$CK$18:$CK$1017,$B223,'Daily Log'!$CL$18:$CL$1017),0)","v":0},{"$f":"IFERROR($E223*SUMIF('Daily Log'!$CN$18:$CN$1017,$B223,'Daily Log'!$CO$18:$CO$1017),0)","v":0}]
[null,"DI10 91301:DUMPLING",null,"KLKD-APPETIZER",1,0,null,null,null,null,null,null,null,null,null,null,null,null,null,null,null,null,null,null,null,null,null,null,null,null,null,null,null,null,null,{"$f":"IFERROR($E224*SUMIF('Daily Log'!$CK$18:$CK$1017,$B224,'Daily Log'!$CL$18:$CL$1017),0)","v":0},{"$f":"IFERROR($E224*SUMIF('Daily Log'!$CN$18:$CN$1017,$B224,'Daily Log'!$CO$18:$CO$1017),0)","v":0}]
[null,"DI11 91302:NUGGET",null,"KLKD-APPETIZER",1,{"$f":"SUM($G225:$AK225)","v":31},null,null,null,null,null,null,null,null,null,null,null,null,null,null,null,null,null,null,null,null,null,null,null,null,null,null,null,null,null,{"$f":"IFERROR($E225*SUMIF('Daily Log'!$CK$18:$CK$1017,$B225,'Daily Log'!$CL$18:$CL$1017),0)","v":31},{"$f":"IFERROR($E225*SUMIF('Daily Log'!$CN$18:$CN$1017,$B225,'Daily Log'!$CO$18:$CO$1017),0)","v":0}]
[null,"DI12 91303:CHK WING",null,"KLKD-APPETIZER",1,54,null,null,null,null,null,null,null,null,null,null,null,null,null,null,null,null,null,null,null,null,null,null,null,null,null,null,null,null,null,{"$f":"IFERROR($E226*SUMIF('Daily Log'!$CK$18:$CK$1017,$B226,'Daily Log'!$CL$18:$CL$1017),0)","v":54},{"$f":"IFERROR($E226*SUMIF('Daily Log'!$CN$18:$CN$1017,$B226,'Daily Log'!$CO$18:$CO$1017),0)","v":0}]
[null,"DI13 91304:IKAN BILIS",null,"KLKD-APPETIZER",1,2,null,null,null,null,null,null,null,null,null,null,null,null,null,null,null,null,null,null,null,null,null,null,null,null,null,null,null,null,null,{"$f":"IFERROR($E227*SUMIF('Daily Log'!$CK$18:$CK$1017,$B227,'Daily Log'!$CL$18:$CL$1017),0)","v":2},{"$f":"IFERROR($E227*SUMIF('Daily Log'!$CN$18:$CN$1017,$B227,'Daily Log'!$CO$18:$CO$1017),0)","v":0}]
[null,"DI14 91305:THAI RL",null,"KLKD-APPETIZER",1,3,null,null,null,null,null,null,null,null,null,null,null,null,null,null,null,null,null,null,null,null,null,null,null,null,null,null,null,null,null,{"$f":"IFERROR($E228*SUMIF('Daily Log'!$CK$18:$CK$1017,$B228,'Daily Log'!$CL$18:$CL$1017),0)","v":3},{"$f":"IFERROR($E228*SUMIF('Daily Log'!$CN$18:$CN$1017,$B228,'Daily Log'!$CO$18:$CO$1017),0)","v":0}]
[null,"DI15 91306:SLVR FISH",null,"KLKD-APPETIZER",1,0,null,null,null,null,null,null,null,null,null,null,null,null,null,null,null,null,null,null,null,null,null,null,null,null,null,null,null,null,null,{"$f":"IFERROR($E229*SUMIF('Daily Log'!$CK$18:$CK$1017,$B229,'Daily Log'!$CL$18:$CL$1017),0)","v":0},{"$f":"IFERROR($E229*SUMIF('Daily Log'!$CN$18:$CN$1017,$B229,'Daily Log'!$CO$18:$CO$1017),0)","v":0}]
[null,"DI16 91307:D/F C.WING",null,"KLKD-APPETIZER",1,30,null,null,null,null,null,null,null,null,null,null,null,null,null,null,null,null,null,null,null,null,null,null,null,null,null,null,null,null,null,{"$f":"IFERROR($E230*SUMIF('Daily Log'!$CK$18:$CK$1017,$B230,'Daily Log'!$CL$18:$CL$1017),0)","v":30},{"$f":"IFERROR($E230*SUMIF('Daily Log'!$CN$18:$CN$1017,$B230,'Daily Log'!$CO$18:$CO$1017),0)","v":0}]
[null,"DI17 91308:C/CALAMARI",null,"KLKD-APPETIZER",1,12,null,null,null,null,null,null,null,null,null,null,null,null,null,null,null,null,null,null,null,null,null,null,null,null,null,null,null,null,null,{"$f":"IFERROR($E231*SUMIF('Daily Log'!$CK$18:$CK$1017,$B231,'Daily Log'!$CL$18:$CL$1017),0)","v":12},{"$f":"IFERROR($E231*SUMIF('Daily Log'!$CN$18:$CN$1017,$B231,'Daily Log'!$CO$18:$CO$1017),0)","v":0}]
[null,"DI18 91309:Mc O.RINGS",null,"KLKD-APPETIZER",1,10,null,null,null,null,null,null,null,null,null,null,null,null,null,null,null,null,null,null,null,null,null,null,null,null,null,null,null,null,null,{"$f":"IFERROR($E232*SUMIF('Daily Log'!$CK$18:$CK$1017,$B232,'Daily Log'!$CL$18:$CL$1017),0)","v":10},{"$f":"IFERROR($E232*SUMIF('Daily Log'!$CN$18:$CN$1017,$B232,'Daily Log'!$CO$18:$CO$1017),0)","v":0}]
[null,"DI19 91310:McSPIRAL.F",null,"KLKD-APPETIZER",1,5,null,null,null,null,null,null,null,null,null,null,null,null,null,null,null,null,null,null,null,null,null,null,null,null,null,null,null,null,null,{"$f":"IFERROR($E233*SUMIF('Daily Log'!$CK$18:$CK$1017,$B233,'Daily Log'!$CL$18:$CL$1017),0)","v":5},{"$f":"IFERROR($E233*SUMIF('Daily Log'!$CN$18:$CN$1017,$B233,'Daily Log'!$CO$18:$CO$1017),0)","v":0}]
[null,"DI20 91311Mc H/SMILES",null,"KLKD-APPETIZER",1,3,null,null,null,null,null,null,null,null,null,null,null,null,null,null,null,null,null,null,null,null,null,null,null,null,null,null,null,null,null,{"$f":"IFERROR($E234*SUMIF('Daily Log'!$CK$18:$CK$1017,$B234,'Daily Log'!$CL$18:$CL$1017),0)","v":3},{"$f":"IFERROR($E234*SUMIF('Daily Log'!$CN$18:$CN$1017,$B234,'Daily Log'!$CO$18:$CO$1017),0)","v":0}]
[null,"DI21 91312:Mc HASH.B",null,"KLKD-APPETIZER",1,10,null,null,null,null,null,null,null,null,null,null,null,null,null,null,null,null,null,null,null,null,null,null,null,null,null,null,null,null,null,{"$f":"IFERROR($E235*SUMIF('Daily Log'!$CK$18:$CK$1017,$B235,'Daily Log'!$CL$18:$CL$1017),0)","v":10},{"$f":"IFERROR($E235*SUMIF('Daily Log'!$CN$18:$CN$1017,$B235,'Daily Log'!$CO$18:$CO$1017),0)","v":0}]
[null,"DL01 3001:6'HAWAIIAN",null,"SIDE ORDER -APPETIZER (PIZZA)",1,0,null,null,null,null,null,null,null,null,null,null,null,null,null,null,null,null,null,null,null,null,null,null,null,null,null,null,null,null,null,{"$f":"IFERROR($E236*SUMIF('Daily Log'!$CK$18:$CK$1017,$B236,'Daily Log'!$CL$18:$CL$1017),0)","v":0},{"$f":"IFERROR($E236*SUMIF('Daily Log'!$CN$18:$CN$1017,$B236,'Daily Log'!$CO$18:$CO$1017),0)","v":0}]
[null,"DL02 3002:6'SMOKE BBQ",null,"SIDE ORDER -APPETIZER (PIZZA)",1,0,null,null,null,null,null,null,null,null,null,null,null,null,null,null,null,null,null,null,null,null,null,null,null,null,null,null,null,null,null,{"$f":"IFERROR($E237*SUMIF('Daily Log'!$CK$18:$CK$1017,$B237,'Daily Log'!$CL$18:$CL$1017),0)","v":0},{"$f":"IFERROR($E237*SUMIF('Daily Log'!$CN$18:$CN$1017,$B237,'Daily Log'!$CO$18:$CO$1017),0)","v":0}]
[null,"DL03 3003:6'SEAFOOD",null,"SIDE ORDER -APPETIZER (PIZZA)",1,0,null,null,null,null,null,null,null,null,null,null,null,null,null,null,null,null,null,null,null,null,null,null,null,null,null,null,null,null,null,{"$f":"IFERROR($E238*SUMIF('Daily Log'!$CK$18:$CK$1017,$B238,'Daily Log'!$CL$18:$CL$1017),0)","v":0},{"$f":"IFERROR($E238*SUMIF('Daily Log'!$CN$18:$CN$1017,$B238,'Daily Log'!$CO$18:$CO$1017),0)","v":0}]
[null,"DL04 3004:6'SPICY BUF",null,"SIDE ORDER -APPETIZER (PIZZA)",1,0,null,null,null,null,null,null,null,null,null,null,null,null,null,null,null,null,null,null,null,null,null,null,null,null,null,null,null,null,null,{"$f":"IFERROR($E239*SUMIF('Daily Log'!$CK$18:$CK$1017,$B239,'Daily Log'!$CL$18:$CL$1017),0)","v":0},{"$f":"IFERROR($E239*SUMIF('Daily Log'!$CN$18:$CN$1017,$B239,'Daily Log'!$CO$18:$CO$1017),0)","v":0}]
[null,"DL05 3005:6'VEGGIE",null,"SIDE ORDER -APPETIZER (PIZZA)",1,0,null,null,null,null,null,null,null,null,null,null,null,null,null,null,null,null,null,null,null,null,null,null,null,null,null,null,null,null,null,{"$f":"IFERROR($E240*SUMIF('Daily Log'!$CK$18:$CK$1017,$B240,'Daily Log'!$CL$18:$CL$1017),0)","v":0},{"$f":"IFERROR($E240*SUMIF('Daily Log'!$CN$18:$CN$1017,$B240,'Daily Log'!$CO$18:$CO$1017),0)","v":0}]
[null,"DL06 3001:9'HAWAIIAN",null,"SIDE ORDER -APPETIZER (PIZZA)",1,0,null,null,null,null,null,null,null,null,null,null,null,null,null,null,null,null,null,null,null,null,null,null,null,null,null,null,null,null,null,{"$f":"IFERROR($E241*SUMIF('Daily Log'!$CK$18:$CK$1017,$B241,'Daily Log'!$CL$18:$CL$1017),0)","v":0},{"$f":"IFERROR($E241*SUMIF('Daily Log'!$CN$18:$CN$1017,$B241,'Daily Log'!$CO$18:$CO$1017),0)","v":0}]
[null,"DL07 3002:9'SMOKED",null,"SIDE ORDER -APPETIZER (PIZZA)",1,0,null,null,null,null,null,null,null,null,null,null,null,null,null,null,null,null,null,null,null,null,null,null,null,null,null,null,null,null,null,{"$f":"IFERROR($E242*SUMIF('Daily Log'!$CK$18:$CK$1017,$B242,'Daily Log'!$CL$18:$CL$1017),0)","v":0},{"$f":"IFERROR($E242*SUMIF('Daily Log'!$CN$18:$CN$1017,$B242,'Daily Log'!$CO$18:$CO$1017),0)","v":0}]
[null,"DL08 3003:9'SEAFOOD",null,"SIDE ORDER -APPETIZER (PIZZA)",1,0,null,null,null,null,null,null,null,null,null,null,null,null,null,null,null,null,null,null,null,null,null,null,null,null,null,null,null,null,null,{"$f":"IFERROR($E243*SUMIF('Daily Log'!$CK$18:$CK$1017,$B243,'Daily Log'!$CL$18:$CL$1017),0)","v":0},{"$f":"IFERROR($E243*SUMIF('Daily Log'!$CN$18:$CN$1017,$B243,'Daily Log'!$CO$18:$CO$1017),0)","v":0}]
[null,"DL09 3004:9'SPICY B",null,"SIDE ORDER -APPETIZER (PIZZA)",1,0,null,null,null,null,null,null,null,null,null,null,null,null,null,null,null,null,null,null,null,null,null,null,null,null,null,null,null,null,null,{"$f":"IFERROR($E244*SUMIF('Daily Log'!$CK$18:$CK$1017,$B244,'Daily Log'!$CL$18:$CL$1017),0)","v":0},{"$f":"IFERROR($E244*SUMIF('Daily Log'!$CN$18:$CN$1017,$B244,'Daily Log'!$CO$18:$CO$1017),0)","v":0}]
[null,"DL10 3005:9'VEGGIE",null,"SIDE ORDER -APPETIZER (PIZZA)",1,0,null,null,null,null,null,null,null,null,null,null,null,null,null,null,null,null,null,null,null,null,null,null,null,null,null,null,null,null,null,{"$f":"IFERROR($E245*SUMIF('Daily Log'!$CK$18:$CK$1017,$B245,'Daily Log'!$CL$18:$CL$1017),0)","v":0},{"$f":"IFERROR($E245*SUMIF('Daily Log'!$CN$18:$CN$1017,$B245,'Daily Log'!$CO$18:$CO$1017),0)","v":0}]
[null,"DM01 SNACK PLATTER(A)",null,"PLATTER",1,7,null,null,null,null,null,null,null,null,null,null,null,null,null,null,null,null,null,null,null,null,null,null,null,null,null,null,null,null,null,{"$f":"IFERROR($E246*SUMIF('Daily Log'!$CK$18:$CK$1017,$B246,'Daily Log'!$CL$18:$CL$1017),0)","v":7},{"$f":"IFERROR($E246*SUMIF('Daily Log'!$CN$18:$CN$1017,$B246,'Daily Log'!$CO$18:$CO$1017),0)","v":0}]
[null,"DM02 SNACK PLATTER(B)",null,"PLATTER",1,6,null,null,null,null,null,null,null,null,null,null,null,null,null,null,null,null,null,null,null,null,null,null,null,null,null,null,null,null,null,{"$f":"IFERROR($E247*SUMIF('Daily Log'!$CK$18:$CK$1017,$B247,'Daily Log'!$CL$18:$CL$1017),0)","v":6},{"$f":"IFERROR($E247*SUMIF('Daily Log'!$CN$18:$CN$1017,$B247,'Daily Log'!$CO$18:$CO$1017),0)","v":0}]
[null,"DM03 CNY platter(A)",null,"PLATTER",1,0,null,null,null,null,null,null,null,null,null,null,null,null,null,null,null,null,null,null,null,null,null,null,null,null,null,null,null,null,null,{"$f":"IFERROR($E248*SUMIF('Daily Log'!$CK$18:$CK$1017,$B248,'Daily Log'!$CL$18:$CL$1017),0)","v":0},{"$f":"IFERROR($E248*SUMIF('Daily Log'!$CN$18:$CN$1017,$B248,'Daily Log'!$CO$18:$CO$1017),0)","v":0}]
[null,"DM04 CNY platter (B)",null,"PLATTER",1,0,null,null,null,null,null,null,null,null,null,null,null,null,null,null,null,null,null,null,null,null,null,null,null,null,null,null,null,null,null,{"$f":"IFERROR($E249*SUMIF('Daily Log'!$CK$18:$CK$1017,$B249,'Daily Log'!$CL$18:$CL$1017),0)","v":0},{"$f":"IFERROR($E249*SUMIF('Daily Log'!$CN$18:$CN$1017,$B249,'Daily Log'!$CO$18:$CO$1017),0)","v":0}]
[null,"GA01 DUNHILL",null,"CIGARETTE",1,0,null,null,null,null,null,null,null,null,null,null,null,null,null,null,null,null,null,null,null,null,null,null,null,null,null,null,null,null,null,{"$f":"IFERROR($E250*SUMIF('Daily Log'!$CK$18:$CK$1017,$B250,'Daily Log'!$CL$18:$CL$1017),0)","v":0},{"$f":"IFERROR($E250*SUMIF('Daily Log'!$CN$18:$CN$1017,$B250,'Daily Log'!$CO$18:$CO$1017),0)","v":0}]
[null,"GA02 KENT",null,"CIGARETTE",1,0,null,null,null,null,null,null,null,null,null,null,null,null,null,null,null,null,null,null,null,null,null,null,null,null,null,null,null,null,null,{"$f":"IFERROR($E251*SUMIF('Daily Log'!$CK$18:$CK$1017,$B251,'Daily Log'!$CL$18:$CL$1017),0)","v":0},{"$f":"IFERROR($E251*SUMIF('Daily Log'!$CN$18:$CN$1017,$B251,'Daily Log'!$CO$18:$CO$1017),0)","v":0}]
[null,"GE01 DUNHILL",null,"CIGARETTE",1,30,null,null,null,null,null,null,null,null,null,null,null,null,null,null,null,null,null,null,null,null,null,null,null,null,null,null,null,null,null,{"$f":"IFERROR($E252*SUMIF('Daily Log'!$CK$18:$CK$1017,$B252,'Daily Log'!$CL$18:$CL$1017),0)","v":30},{"$f":"IFERROR($E252*SUMIF('Daily Log'!$CN$18:$CN$1017,$B252,'Daily Log'!$CO$18:$CO$1017),0)","v":0}]
[null,"GE02 DUNHILL LITE",null,"CIGARETTE",1,10,null,null,null,null,null,null,null,null,null,null,null,null,null,null,null,null,null,null,null,null,null,null,null,null,null,null,null,null,null,{"$f":"IFERROR($E253*SUMIF('Daily Log'!$CK$18:$CK$1017,$B253,'Daily Log'!$CL$18:$CL$1017),0)","v":10},{"$f":"IFERROR($E253*SUMIF('Daily Log'!$CN$18:$CN$1017,$B253,'Daily Log'!$CO$18:$CO$1017),0)","v":0}]
[null,"GE03 DUNHILL MT",null,"CIGARETTE",1,10,null,null,null,null,null,null,null,null,null,null,null,null,null,null,null,null,null,null,null,null,null,null,null,null,null,null,null,null,null,{"$f":"IFERROR($E254*SUMIF('Daily Log'!$CK$18:$CK$1017,$B254,'Daily Log'!$CL$18:$CL$1017),0)","v":10},{"$f":"IFERROR($E254*SUMIF('Daily Log'!$CN$18:$CN$1017,$B254,'Daily Log'!$CO$18:$CO$1017),0)","v":0}]
[null,"GE04 DUNHILL MT LITE",null,"CIGARETTE",1,3,null,null,null,null,null,null,null,null,null,null,null,null,null,null,null,null,null,null,null,null,null,null,null,null,null,null,null,null,null,{"$f":"IFERROR($E255*SUMIF('Daily Log'!$CK$18:$CK$1017,$B255,'Daily Log'!$CL$18:$CL$1017),0)","v":3},{"$f":"IFERROR($E255*SUMIF('Daily Log'!$CN$18:$CN$1017,$B255,'Daily Log'!$CO$18:$CO$1017),0)","v":0}]
[null,"GE05 DUNHILL BOOST",null,"CIGARETTE",1,6,null,null,null,null,null,null,null,null,null,null,null,null,null,null,null,null,null,null,null,null,null,null,null,null,null,null,null,null,null,{"$f":"IFERROR($E256*SUMIF('Daily Log'!$CK$18:$CK$1017,$B256,'Daily Log'!$CL$18:$CL$1017),0)","v":6},{"$f":"IFERROR($E256*SUMIF('Daily Log'!$CN$18:$CN$1017,$B256,'Daily Log'!$CO$18:$CO$1017),0)","v":0}]
[null,"GE06 DUNHILL SWITCH",null,"CIGARETTE",1,6,null,null,null,null,null,null,null,null,null,null,null,null,null,null,null,null,null,null,null,null,null,null,null,null,null,null,null,null,null,{"$f":"IFERROR($E257*SUMIF('Daily Log'!$CK$18:$CK$1017,$B257,'Daily Log'!$CL$18:$CL$1017),0)","v":6},{"$f":"IFERROR($E257*SUMIF('Daily Log'!$CN$18:$CN$1017,$B257,'Daily Log'!$CO$18:$CO$1017),0)","v":0}]
[null,"GE07 DUNHILL ICE",null,"CIGARETTE",1,11,null,null,null,null,null,null,null,null,null,null,null,null,null,null,null,null,null,null,null,null,null,null,null,null,null,null,null,null,null,{"$f":"IFERROR($E258*SUMIF('Daily Log'!$CK$18:$CK$1017,$B258,'Daily Log'!$CL$18:$CL$1017),0)","v":11},{"$f":"IFERROR($E258*SUMIF('Daily Log'!$CN$18:$CN$1017,$B258,'Daily Log'!$CO$18:$CO$1017),0)","v":0}]
[null,"GF01 KENT ORIGINAL",null,"CIGARETTE",1,0,null,null,null,null,null,null,null,null,null,null,null,null,null,null,null,null,null,null,null,null,null,null,null,null,null,null,null,null,null,{"$f":"IFERROR($E259*SUMIF('Daily Log'!$CK$18:$CK$1017,$B259,'Daily Log'!$CL$18:$CL$1017),0)","v":0},{"$f":"IFERROR($E259*SUMIF('Daily Log'!$CN$18:$CN$1017,$B259,'Daily Log'!$CO$18:$CO$1017),0)","v":0}]
[null,"GF02 KENT FUTURA",null,"CIGARETTE",1,0,null,null,null,null,null,null,null,null,null,null,null,null,null,null,null,null,null,null,null,null,null,null,null,null,null,null,null,null,null,{"$f":"IFERROR($E260*SUMIF('Daily Log'!$CK$18:$CK$1017,$B260,'Daily Log'!$CL$18:$CL$1017),0)","v":0},{"$f":"IFERROR($E260*SUMIF('Daily Log'!$CN$18:$CN$1017,$B260,'Daily Log'!$CO$18:$CO$1017),0)","v":0}]
[null,"GF03 KENT MINTEK",null,"CIGARETTE",1,0,null,null,null,null,null,null,null,null,null,null,null,null,null,null,null,null,null,null,null,null,null,null,null,null,null,null,null,null,null,{"$f":"IFERROR($E261*SUMIF('Daily Log'!$CK$18:$CK$1017,$B261,'Daily Log'!$CL$18:$CL$1017),0)","v":0},{"$f":"IFERROR($E261*SUMIF('Daily Log'!$CN$18:$CN$1017,$B261,'Daily Log'!$CO$18:$CO$1017),0)","v":0}]
[null,"GF04 KENT NEO",null,"CIGARETTE",1,0,null,null,null,null,null,null,null,null,null,null,null,null,null,null,null,null,null,null,null,null,null,null,null,null,null,null,null,null,null,{"$f":"IFERROR($E262*SUMIF('Daily Log'!$CK$18:$CK$1017,$B262,'Daily Log'!$CL$18:$CL$1017),0)","v":0},{"$f":"IFERROR($E262*SUMIF('Daily Log'!$CN$18:$CN$1017,$B262,'Daily Log'!$CO$18:$CO$1017),0)","v":0}]
[null,"ZAB01 1201:SFD STICK",null,"COMBO-SNAKCS",1,11,null,null,null,null,null,null,null,null,null,null,null,null,null,null,null,null,null,null,null,null,null,null,null,null,null,null,null,null,null,{"$f":"IFERROR($E263*SUMIF('Daily Log'!$CK$18:$CK$1017,$B263,'Daily Log'!$CL$18:$CL$1017),0)","v":11},{"$f":"IFERROR($E263*SUMIF('Daily Log'!$CN$18:$CN$1017,$B263,'Daily Log'!$CO$18:$CO$1017),0)","v":0}]
[null,"ZAB02 1202:FRIES",null,"COMBO-SNAKCS",1,164,null,null,null,null,null,null,null,null,null,null,null,null,null,null,null,null,null,null,null,null,null,null,null,null,null,null,null,null,null,{"$f":"IFERROR($E264*SUMIF('Daily Log'!$CK$18:$CK$1017,$B264,'Daily Log'!$CL$18:$CL$1017),0)","v":164},{"$f":"IFERROR($E264*SUMIF('Daily Log'!$CN$18:$CN$1017,$B264,'Daily Log'!$CO$18:$CO$1017),0)","v":0}]
[null,"ZAB03 1203:GOLD MROOM",null,"COMBO-SNAKCS",1,33,null,null,null,null,null,null,null,null,null,null,null,null,null,null,null,null,null,null,null,null,null,null,null,null,null,null,null,null,null,{"$f":"IFERROR($E265*SUMIF('Daily Log'!$CK$18:$CK$1017,$B265,'Daily Log'!$CL$18:$CL$1017),0)","v":33},{"$f":"IFERROR($E265*SUMIF('Daily Log'!$CN$18:$CN$1017,$B265,'Daily Log'!$CO$18:$CO$1017),0)","v":0}]
[null,"ZAB04 1204:F.BALL",null,"COMBO-SNAKCS",1,23,null,null,null,null,null,null,null,null,null,null,null,null,null,null,null,null,null,null,null,null,null,null,null,null,null,null,null,null,null,{"$f":"IFERROR($E266*SUMIF('Daily Log'!$CK$18:$CK$1017,$B266,'Daily Log'!$CL$18:$CL$1017),0)","v":23},{"$f":"IFERROR($E266*SUMIF('Daily Log'!$CN$18:$CN$1017,$B266,'Daily Log'!$CO$18:$CO$1017),0)","v":0}]
[null,"ZAB06 1206:SPRING RL",null,"COMBO-SNAKCS",1,46,null,null,null,null,null,null,null,null,null,null,null,null,null,null,null,null,null,null,null,null,null,null,null,null,null,null,null,null,null,{"$f":"IFERROR($E267*SUMIF('Daily Log'!$CK$18:$CK$1017,$B267,'Daily Log'!$CL$18:$CL$1017),0)","v":46},{"$f":"IFERROR($E267*SUMIF('Daily Log'!$CN$18:$CN$1017,$B267,'Daily Log'!$CO$18:$CO$1017),0)","v":0}]
[null,"ZAB07 1207:SAUSAGE",null,"COMBO-SNAKCS",1,79,null,null,null,null,null,null,null,null,null,null,null,null,null,null,null,null,null,null,null,null,null,null,null,null,null,null,null,null,null,{"$f":"IFERROR($E268*SUMIF('Daily Log'!$CK$18:$CK$1017,$B268,'Daily Log'!$CL$18:$CL$1017),0)","v":79},{"$f":"IFERROR($E268*SUMIF('Daily Log'!$CN$18:$CN$1017,$B268,'Daily Log'!$CO$18:$CO$1017),0)","v":0}]
[null,"ZAC02 1302:NUGGET",null,"COMBO-SNAKCS",1,68,null,null,null,null,null,null,null,null,null,null,null,null,null,null,null,null,null,null,null,null,null,null,null,null,null,null,null,null,null,{"$f":"IFERROR($E269*SUMIF('Daily Log'!$CK$18:$CK$1017,$B269,'Daily Log'!$CL$18:$CL$1017),0)","v":68},{"$f":"IFERROR($E269*SUMIF('Daily Log'!$CN$18:$CN$1017,$B269,'Daily Log'!$CO$18:$CO$1017),0)","v":0}]
[null,"ZAC03 1303:CHK WING",null,"COMBO-SNAKCS",1,64,null,null,null,null,null,null,null,null,null,null,null,null,null,null,null,null,null,null,null,null,null,null,null,null,null,null,null,null,null,{"$f":"IFERROR($E270*SUMIF('Daily Log'!$CK$18:$CK$1017,$B270,'Daily Log'!$CL$18:$CL$1017),0)","v":64},{"$f":"IFERROR($E270*SUMIF('Daily Log'!$CN$18:$CN$1017,$B270,'Daily Log'!$CO$18:$CO$1017),0)","v":0}]
[null,"ZAC04 1304:IKAN BILIS",null,"COMBO-SNAKCS",1,9,null,null,null,null,null,null,null,null,null,null,null,null,null,null,null,null,null,null,null,null,null,null,null,null,null,null,null,null,null,{"$f":"IFERROR($E271*SUMIF('Daily Log'!$CK$18:$CK$1017,$B271,'Daily Log'!$CL$18:$CL$1017),0)","v":9},{"$f":"IFERROR($E271*SUMIF('Daily Log'!$CN$18:$CN$1017,$B271,'Daily Log'!$CO$18:$CO$1017),0)","v":0}]
[null,"ZAC05 1305:THAI RL",null,"COMBO-SNAKCS",1,7,null,null,null,null,null,null,null,null,null,null,null,null,null,null,null,null,null,null,null,null,null,null,null,null,null,null,null,null,null,{"$f":"IFERROR($E272*SUMIF('Daily Log'!$CK$18:$CK$1017,$B272,'Daily Log'!$CL$18:$CL$1017),0)","v":7},{"$f":"IFERROR($E272*SUMIF('Daily Log'!$CN$18:$CN$1017,$B272,'Daily Log'!$CO$18:$CO$1017),0)","v":0}]
[null,"ZAC07 1307:D/F C.WINGS",null,"COMBO-SNAKCS",1,42,null,null,null,null,null,null,null,null,null,null,null,null,null,null,null,null,null,null,null,null,null,null,null,null,null,null,null,null,null,{"$f":"IFERROR($E273*SUMIF('Daily Log'!$CK$18:$CK$1017,$B273,'Daily Log'!$CL$18:$CL$1017),0)","v":42},{"$f":"IFERROR($E273*SUMIF('Daily Log'!$CN$18:$CN$1017,$B273,'Daily Log'!$CO$18:$CO$1017),0)","v":0}]
[null,"ZAC08 1308:C/CALAMARI",null,"COMBO-SNAKCS",1,22,null,null,null,null,null,null,null,null,null,null,null,null,null,null,null,null,null,null,null,null,null,null,null,null,null,null,null,null,null,{"$f":"IFERROR($E274*SUMIF('Daily Log'!$CK$18:$CK$1017,$B274,'Daily Log'!$CL$18:$CL$1017),0)","v":22},{"$f":"IFERROR($E274*SUMIF('Daily Log'!$CN$18:$CN$1017,$B274,'Daily Log'!$CO$18:$CO$1017),0)","v":0}]
[null,"ZAC09 1309:Mc /O.RINGS",null,"COMBO-SNAKCS",1,11,null,null,null,null,null,null,null,null,null,null,null,null,null,null,null,null,null,null,null,null,null,null,null,null,null,null,null,null,null,{"$f":"IFERROR($E275*SUMIF('Daily Log'!$CK$18:$CK$1017,$B275,'Daily Log'!$CL$18:$CL$1017),0)","v":11},{"$f":"IFERROR($E275*SUMIF('Daily Log'!$CN$18:$CN$1017,$B275,'Daily Log'!$CO$18:$CO$1017),0)","v":0}]
[null,"ZAC10 1310:Mc SPIRAL/F",null,"COMBO-SNAKCS",1,18,null,null,null,null,null,null,null,null,null,null,null,null,null,null,null,null,null,null,null,null,null,null,null,null,null,null,null,null,null,{"$f":"IFERROR($E276*SUMIF('Daily Log'!$CK$18:$CK$1017,$B276,'Daily Log'!$CL$18:$CL$1017),0)","v":18},{"$f":"IFERROR($E276*SUMIF('Daily Log'!$CN$18:$CN$1017,$B276,'Daily Log'!$CO$18:$CO$1017),0)","v":0}]
[null,"ZAC11 1311:Mc H/SMILES",null,"COMBO-SNAKCS",1,5,null,null,null,null,null,null,null,null,null,null,null,null,null,null,null,null,null,null,null,null,null,null,null,null,null,null,null,null,null,{"$f":"IFERROR($E277*SUMIF('Daily Log'!$CK$18:$CK$1017,$B277,'Daily Log'!$CL$18:$CL$1017),0)","v":5},{"$f":"IFERROR($E277*SUMIF('Daily Log'!$CN$18:$CN$1017,$B277,'Daily Log'!$CO$18:$CO$1017),0)","v":0}]
[null,"ZAC12 1312:Mc HASH/B",null,"COMBO-SNAKCS",1,22,null,null,null,null,null,null,null,null,null,null,null,null,null,null,null,null,null,null,null,null,null,null,null,null,null,null,null,null,null,{"$f":"IFERROR($E278*SUMIF('Daily Log'!$CK$18:$CK$1017,$B278,'Daily Log'!$CL$18:$CL$1017),0)","v":22},{"$f":"IFERROR($E278*SUMIF('Daily Log'!$CN$18:$CN$1017,$B278,'Daily Log'!$CO$18:$CO$1017),0)","v":0}]
[null,"JK001 LLB BP CHK CHOP",null,"LLB -MAIN COURSE ",1,11,null,null,null,null,null,null,null,null,null,null,null,null,null,null,null,null,null,null,null,null,null,null,null,null,null,null,null,null,null,{"$f":"IFERROR($E279*SUMIF('Daily Log'!$CK$18:$CK$1017,$B279,'Daily Log'!$CL$18:$CL$1017),0)","v":11},{"$f":"IFERROR($E279*SUMIF('Daily Log'!$CN$18:$CN$1017,$B279,'Daily Log'!$CO$18:$CO$1017),0)","v":0}]
[null,"JK002 LLB G.S C. CHOP",null,"LLB -MAIN COURSE ",1,2,null,null,null,null,null,null,null,null,null,null,null,null,null,null,null,null,null,null,null,null,null,null,null,null,null,null,null,null,null,{"$f":"IFERROR($E280*SUMIF('Daily Log'!$CK$18:$CK$1017,$B280,'Daily Log'!$CL$18:$CL$1017),0)","v":2}]
[null,"JK003 LLB MSR CHK CHOP",null,"LLB -MAIN COURSE ",1,11,null,null,null,null,null,null,null,null,null,null,null,null,null,null,null,null,null,null,null,null,null,null,null,null,null,null,null,null,null,{"$f":"IFERROR($E281*SUMIF('Daily Log'!$CK$18:$CK$1017,$B281,'Daily Log'!$CL$18:$CL$1017),0)","v":11}]
[null,"JK004 LLB CHK MARRYLAN",null,"LLB -MAIN COURSE ",1,3,null,null,null,null,null,null,null,null,null,null,null,null,null,null,null,null,null,null,null,null,null,null,null,null,null,null,null,null,null,{"$f":"IFERROR($E282*SUMIF('Daily Log'!$CK$18:$CK$1017,$B282,'Daily Log'!$CL$18:$CL$1017),0)","v":3}]
[null,"JK005 LLB Fish & Chip",null,"LLB -MAIN COURSE ",1,2,null,null,null,null,null,null,null,null,null,null,null,null,null,null,null,null,null,null,null,null,null,null,null,null,null,null,null,null,null,{"$f":"IFERROR($E283*SUMIF('Daily Log'!$CK$18:$CK$1017,$B283,'Daily Log'!$CL$18:$CL$1017),0)","v":2}]
[null,"JK006 LLB Spaghetti",null,"LLB -MAIN COURSE ",1,4,null,null,null,null,null,null,null,null,null,null,null,null,null,null,null,null,null,null,null,null,null,null,null,null,null,null,null,null,null,{"$f":"IFERROR($E284*SUMIF('Daily Log'!$CK$18:$CK$1017,$B284,'Daily Log'!$CL$18:$CL$1017),0)","v":4}]
[null,"JK007 LLB CHK .C.SALAD",null,"LLB -MAIN COURSE ",1,2,null,null,null,null,null,null,null,null,null,null,null,null,null,null,null,null,null,null,null,null,null,null,null,null,null,null,null,null,null,{"$f":"IFERROR($E285*SUMIF('Daily Log'!$CK$18:$CK$1017,$B285,'Daily Log'!$CL$18:$CL$1017),0)","v":2}]
[null,"JK101 LLB Thai Chk Ric",null,"LLB -MAIN COURSE ",1,8,null,null,null,null,null,null,null,null,null,null,null,null,null,null,null,null,null,null,null,null,null,null,null,null,null,null,null,null,null,{"$f":"IFERROR($E286*SUMIF('Daily Log'!$CK$18:$CK$1017,$B286,'Daily Log'!$CL$18:$CL$1017),0)","v":8}]
[null,"JK102 Marmite Chk Rice",null,"LLB -MAIN COURSE ",1,4,null,null,null,null,null,null,null,null,null,null,null,null,null,null,null,null,null,null,null,null,null,null,null,null,null,null,null,null,null,{"$f":"IFERROR($E287*SUMIF('Daily Log'!$CK$18:$CK$1017,$B287,'Daily Log'!$CL$18:$CL$1017),0)","v":4}]
[null,"JK104 S&S Chk Rice",null,"LLB -MAIN COURSE ",1,3,null,null,null,null,null,null,null,null,null,null,null,null,null,null,null,null,null,null,null,null,null,null,null,null,null,null,null,null,null,{"$f":"IFERROR($E288*SUMIF('Daily Log'!$CK$18:$CK$1017,$B288,'Daily Log'!$CL$18:$CL$1017),0)","v":3}]
[null,"JK105 B.Cream.Chk Rice",null,"LLB -MAIN COURSE ",1,13,null,null,null,null,null,null,null,null,null,null,null,null,null,null,null,null,null,null,null,null,null,null,null,null,null,null,null,null,null,{"$f":"IFERROR($E289*SUMIF('Daily Log'!$CK$18:$CK$1017,$B289,'Daily Log'!$CL$18:$CL$1017),0)","v":13}]
[null,"JK106 H.K Fried Rice",null,"LLB -MAIN COURSE ",1,6,null,null,null,null,null,null,null,null,null,null,null,null,null,null,null,null,null,null,null,null,null,null,null,null,null,null,null,null,null,{"$f":"IFERROR($E290*SUMIF('Daily Log'!$CK$18:$CK$1017,$B290,'Daily Log'!$CL$18:$CL$1017),0)","v":6}]
[null,"JK107 LLBSambal F.Rice",null,"LLB -MAIN COURSE ",1,6,null,null,null,null,null,null,null,null,null,null,null,null,null,null,null,null,null,null,null,null,null,null,null,null,null,null,null,null,null,{"$f":"IFERROR($E291*SUMIF('Daily Log'!$CK$18:$CK$1017,$B291,'Daily Log'!$CL$18:$CL$1017),0)","v":6}]
[null,"JK108 LLB S.Fried MEE",null,"LLB -MAIN COURSE ",1,1,null,null,null,null,null,null,null,null,null,null,null,null,null,null,null,null,null,null,null,null,null,null,null,null,null,null,null,null,null,{"$f":"IFERROR($E292*SUMIF('Daily Log'!$CK$18:$CK$1017,$B292,'Daily Log'!$CL$18:$CL$1017),0)","v":1}]
[null,"JK109 LLB BP Udon Mee",null,"LLB -MAIN COURSE ",1,5,null,null,null,null,null,null,null,null,null,null,null,null,null,null,null,null,null,null,null,null,null,null,null,null,null,null,null,null,null,{"$f":"IFERROR($E293*SUMIF('Daily Log'!$CK$18:$CK$1017,$B293,'Daily Log'!$CL$18:$CL$1017),0)","v":5}]
[null,"JK110 LLB Nisin Noodle",null,"LLB -MAIN COURSE ",1,1,null,null,null,null,null,null,null,null,null,null,null,null,null,null,null,null,null,null,null,null,null,null,null,null,null,null,null,null,null,{"$f":"IFERROR($E294*SUMIF('Daily Log'!$CK$18:$CK$1017,$B294,'Daily Log'!$CL$18:$CL$1017),0)","v":1}]
[null,"JK111 LLB S.M.Ver Rice",null,"LLB -MAIN COURSE ",1,1,null,null,null,null,null,null,null,null,null,null,null,null,null,null,null,null,null,null,null,null,null,null,null,null,null,null,null,null,null,{"$f":"IFERROR($E295*SUMIF('Daily Log'!$CK$18:$CK$1017,$B295,'Daily Log'!$CL$18:$CL$1017),0)","v":1}]
[null,"JK115 LLB B.Noodle.Chk",null,"LLB -MAIN COURSE ",1,4,null,null,null,null,null,null,null,null,null,null,null,null,null,null,null,null,null,null,null,null,null,null,null,null,null,null,null,null,null,{"$f":"IFERROR($E296*SUMIF('Daily Log'!$CK$18:$CK$1017,$B296,'Daily Log'!$CL$18:$CL$1017),0)","v":4}]
[null,"JK116 LLB Mon.Chk Rice",null,"LLB -MAIN COURSE ",1,8,null,null,null,null,null,null,null,null,null,null,null,null,null,null,null,null,null,null,null,null,null,null,null,null,null,null,null,null,null,{"$f":"IFERROR($E297*SUMIF('Daily Log'!$CK$18:$CK$1017,$B297,'Daily Log'!$CL$18:$CL$1017),0)","v":8}]
[null,"JM101 C.Chicken Sausag",null,"LLB -LOK LOK STICK",1,44,null,null,null,null,null,null,null,null,null,null,null,null,null,null,null,null,null,null,null,null,null,null,null,null,null,null,null,null,null,{"$f":"IFERROR($E298*SUMIF('Daily Log'!$CK$18:$CK$1017,$B298,'Daily Log'!$CL$18:$CL$1017),0)","v":44}]
[null,"JM102 Beef Ball",null,"LLB -LOK LOK STICK",1,18,null,null,null,null,null,null,null,null,null,null,null,null,null,null,null,null,null,null,null,null,null,null,null,null,null,null,null,null,null,{"$f":"IFERROR($E299*SUMIF('Daily Log'!$CK$18:$CK$1017,$B299,'Daily Log'!$CL$18:$CL$1017),0)","v":18}]
[null,"JM103 Chicken Kidney",null,"LLB -LOK LOK STICK",1,9,null,null,null,null,null,null,null,null,null,null,null,null,null,null,null,null,null,null,null,null,null,null,null,null,null,null,null,null,null,{"$f":"IFERROR($E300*SUMIF('Daily Log'!$CK$18:$CK$1017,$B300,'Daily Log'!$CL$18:$CL$1017),0)","v":9}]
[null,"JM104 Chicken Liver",null,"LLB -LOK LOK STICK",1,4,null,null,null,null,null,null,null,null,null,null,null,null,null,null,null,null,null,null,null,null,null,null,null,null,null,null,null,null,null,{"$f":"IFERROR($E301*SUMIF('Daily Log'!$CK$18:$CK$1017,$B301,'Daily Log'!$CL$18:$CL$1017),0)","v":4}]
[null,"JM105 Cheese C.Sausage",null,"LLB -LOK LOK STICK",1,71,null,null,null,null,null,null,null,null,null,null,null,null,null,null,null,null,null,null,null,null,null,null,null,null,null,null,null,null,null,{"$f":"IFERROR($E302*SUMIF('Daily Log'!$CK$18:$CK$1017,$B302,'Daily Log'!$CL$18:$CL$1017),0)","v":71},{"$f":"IFERROR($E302*SUMIF('Daily Log'!$CN$18:$CN$1017,$B302,'Daily Log'!$CO$18:$CO$1017),0)","v":0}]
[null,"JM106 B.P C.Sausage",null,"LLB -LOK LOK STICK",1,47,null,null,null,null,null,null,null,null,null,null,null,null,null,null,null,null,null,null,null,null,null,null,null,null,null,null,null,null,null,{"$f":"IFERROR($E303*SUMIF('Daily Log'!$CK$18:$CK$1017,$B303,'Daily Log'!$CL$18:$CL$1017),0)","v":47},{"$f":"IFERROR($E303*SUMIF('Daily Log'!$CN$18:$CN$1017,$B303,'Daily Log'!$CO$18:$CO$1017),0)","v":0}]
[null,"JM107 S.Fill beef Ball",null,"LLB -LOK LOK STICK",1,27,null,null,null,null,null,null,null,null,null,null,null,null,null,null,null,null,null,null,null,null,null,null,null,null,null,null,null,null,null,{"$f":"IFERROR($E304*SUMIF('Daily Log'!$CK$18:$CK$1017,$B304,'Daily Log'!$CL$18:$CL$1017),0)","v":27},{"$f":"IFERROR($E304*SUMIF('Daily Log'!$CN$18:$CN$1017,$B304,'Daily Log'!$CO$18:$CO$1017),0)","v":0}]
[null,"JM108 Pandan Chicken",null,"LLB -LOK LOK STICK",1,15,null,null,null,null,null,null,null,null,null,null,null,null,null,null,null,null,null,null,null,null,null,null,null,null,null,null,null,null,null,{"$f":"IFERROR($E305*SUMIF('Daily Log'!$CK$18:$CK$1017,$B305,'Daily Log'!$CL$18:$CL$1017),0)","v":15},{"$f":"IFERROR($E305*SUMIF('Daily Log'!$CN$18:$CN$1017,$B305,'Daily Log'!$CO$18:$CO$1017),0)","v":0}]
[null,"JM109 S. Duck Breast",null,"LLB -LOK LOK STICK",1,18,null,null,null,null,null,null,null,null,null,null,null,null,null,null,null,null,null,null,null,null,null,null,null,null,null,null,null,null,null,{"$f":"IFERROR($E306*SUMIF('Daily Log'!$CK$18:$CK$1017,$B306,'Daily Log'!$CL$18:$CL$1017),0)","v":18},{"$f":"IFERROR($E306*SUMIF('Daily Log'!$CN$18:$CN$1017,$B306,'Daily Log'!$CO$18:$CO$1017),0)","v":0}]
[null,"JM110 Grill.B.Chk.Wing",null,"LLB -LOK LOK STICK",1,34,null,null,null,null,null,null,null,null,null,null,null,null,null,null,null,null,null,null,null,null,null,null,null,null,null,null,null,null,null,{"$f":"IFERROR($E307*SUMIF('Daily Log'!$CK$18:$CK$1017,$B307,'Daily Log'!$CL$18:$CL$1017),0)","v":34},{"$f":"IFERROR($E307*SUMIF('Daily Log'!$CN$18:$CN$1017,$B307,'Daily Log'!$CO$18:$CO$1017),0)","v":0}]
[null,"JN211 Pork Meatball s",null,"LLB -LOK LOK STICK",1,79,null,null,null,null,null,null,null,null,null,null,null,null,null,null,null,null,null,null,null,null,null,null,null,null,null,null,null,null,null,{"$f":"IFERROR($E308*SUMIF('Daily Log'!$CK$18:$CK$1017,$B308,'Daily Log'!$CL$18:$CL$1017),0)","v":79},{"$f":"IFERROR($E308*SUMIF('Daily Log'!$CN$18:$CN$1017,$B308,'Daily Log'!$CO$18:$CO$1017),0)","v":0}]
[null,"JN213 P. Sauage Slices",null,"LLB -LOK LOK STICK",1,31,null,null,null,null,null,null,null,null,null,null,null,null,null,null,null,null,null,null,null,null,null,null,null,null,null,null,null,null,null,{"$f":"IFERROR($E309*SUMIF('Daily Log'!$CK$18:$CK$1017,$B309,'Daily Log'!$CL$18:$CL$1017),0)","v":31},{"$f":"IFERROR($E309*SUMIF('Daily Log'!$CN$18:$CN$1017,$B309,'Daily Log'!$CO$18:$CO$1017),0)","v":0}]
[null,"JN214 Pork Dumplings",null,"LLB -LOK LOK STICK",1,31,null,null,null,null,null,null,null,null,null,null,null,null,null,null,null,null,null,null,null,null,null,null,null,null,null,null,null,null,null,{"$f":"IFERROR($E310*SUMIF('Daily Log'!$CK$18:$CK$1017,$B310,'Daily Log'!$CL$18:$CL$1017),0)","v":31},{"$f":"IFERROR($E310*SUMIF('Daily Log'!$CN$18:$CN$1017,$B310,'Daily Log'!$CO$18:$CO$1017),0)","v":0}]
[null,"JN215 Pork Meatball B",null,"LLB -LOK LOK STICK",1,93,null,null,null,null,null,null,null,null,null,null,null,null,null,null,null,null,null,null,null,null,null,null,null,null,null,null,null,null,null,{"$f":"IFERROR($E311*SUMIF('Daily Log'!$CK$18:$CK$1017,$B311,'Daily Log'!$CL$18:$CL$1017),0)","v":93},{"$f":"IFERROR($E311*SUMIF('Daily Log'!$CN$18:$CN$1017,$B311,'Daily Log'!$CO$18:$CO$1017),0)","v":0}]
[null,"JN216 Pork Liver",null,"LLB -LOK LOK STICK",1,{"$f":"SUM($G312:$AK312)","v":6},null,null,null,null,null,null,null,null,null,null,null,null,null,null,null,null,null,null,null,null,null,null,null,null,null,null,null,null,null,{"$f":"IFERROR($E312*SUMIF('Daily Log'!$CK$18:$CK$1017,$B312,'Daily Log'!$CL$18:$CL$1017),0)","v":6},{"$f":"IFERROR($E312*SUMIF('Daily Log'!$CN$18:$CN$1017,$B312,'Daily Log'!$CO$18:$CO$1017),0)","v":0}]
[null,"JN217 Taiwan Sausage",null,"LLB -LOK LOK STICK",1,119,null,null,null,null,null,null,null,null,null,null,null,null,null,null,null,null,null,null,null,null,null,null,null,null,null,null,null,null,null,{"$f":"IFERROR($E313*SUMIF('Daily Log'!$CK$18:$CK$1017,$B313,'Daily Log'!$CL$18:$CL$1017),0)","v":119},{"$f":"IFERROR($E313*SUMIF('Daily Log'!$CN$18:$CN$1017,$B313,'Daily Log'!$CO$18:$CO$1017),0)","v":0}]
[null,"JN218 Bacon",null,"LLB -LOK LOK STICK",1,40,null,null,null,null,null,null,null,null,null,null,null,null,null,null,null,null,null,null,null,null,null,null,null,null,null,null,null,null,null,{"$f":"IFERROR($E314*SUMIF('Daily Log'!$CK$18:$CK$1017,$B314,'Daily Log'!$CL$18:$CL$1017),0)","v":40},{"$f":"IFERROR($E314*SUMIF('Daily Log'!$CN$18:$CN$1017,$B314,'Daily Log'!$CO$18:$CO$1017),0)","v":0}]
[null,"JN219 Pork Rinds",null,"LLB -LOK LOK STICK",1,10,null,null,null,null,null,null,null,null,null,null,null,null,null,null,null,null,null,null,null,null,null,null,null,null,null,null,null,null,null,{"$f":"IFERROR($E315*SUMIF('Daily Log'!$CK$18:$CK$1017,$B315,'Daily Log'!$CL$18:$CL$1017),0)","v":10},{"$f":"IFERROR($E315*SUMIF('Daily Log'!$CN$18:$CN$1017,$B315,'Daily Log'!$CO$18:$CO$1017),0)","v":0}]
[null,"JN220 Sauce Filll Ball",null,"LLB -LOK LOK STICK",1,67,null,null,null,null,null,null,null,null,null,null,null,null,null,null,null,null,null,null,null,null,null,null,null,null,null,null,null,null,null,{"$f":"IFERROR($E316*SUMIF('Daily Log'!$CK$18:$CK$1017,$B316,'Daily Log'!$CL$18:$CL$1017),0)","v":67},{"$f":"IFERROR($E316*SUMIF('Daily Log'!$CN$18:$CN$1017,$B316,'Daily Log'!$CO$18:$CO$1017),0)","v":0}]
[null,"JN222 Enoki Bacon Roll",null,"LLB -LOK LOK STICK",1,45,null,null,null,null,null,null,null,null,null,null,null,null,null,null,null,null,null,null,null,null,null,null,null,null,null,null,null,null,null,{"$f":"IFERROR($E317*SUMIF('Daily Log'!$CK$18:$CK$1017,$B317,'Daily Log'!$CL$18:$CL$1017),0)","v":45},{"$f":"IFERROR($E317*SUMIF('Daily Log'!$CN$18:$CN$1017,$B317,'Daily Log'!$CO$18:$CO$1017),0)","v":0}]
[null,"JO323 Fish Wanton",null,"LLB -LOK LOK STICK",1,35,null,null,null,null,null,null,null,null,null,null,null,null,null,null,null,null,null,null,null,null,null,null,null,null,null,null,null,null,null,{"$f":"IFERROR($E318*SUMIF('Daily Log'!$CK$18:$CK$1017,$B318,'Daily Log'!$CL$18:$CL$1017),0)","v":35},{"$f":"IFERROR($E318*SUMIF('Daily Log'!$CN$18:$CN$1017,$B318,'Daily Log'!$CO$18:$CO$1017),0)","v":0}]
[null,"JO324 M. Fried F. Cake",null,"LLB -LOK LOK STICK",1,41,null,null,null,null,null,null,null,null,null,null,null,null,null,null,null,null,null,null,null,null,null,null,null,null,null,null,null,null,null,{"$f":"IFERROR($E319*SUMIF('Daily Log'!$CK$18:$CK$1017,$B319,'Daily Log'!$CL$18:$CL$1017),0)","v":41},{"$f":"IFERROR($E319*SUMIF('Daily Log'!$CN$18:$CN$1017,$B319,'Daily Log'!$CO$18:$CO$1017),0)","v":0}]
[null,"JO325 Spicy Fish Cake",null,"LLB -LOK LOK STICK",1,15,null,null,null,null,null,null,null,null,null,null,null,null,null,null,null,null,null,null,null,null,null,null,null,null,null,null,null,null,null,{"$f":"IFERROR($E320*SUMIF('Daily Log'!$CK$18:$CK$1017,$B320,'Daily Log'!$CL$18:$CL$1017),0)","v":15},{"$f":"IFERROR($E320*SUMIF('Daily Log'!$CN$18:$CN$1017,$B320,'Daily Log'!$CO$18:$CO$1017),0)","v":0}]
[null,"JO326 Fresh Clam",null,"LLB -LOK LOK STICK",1,24,null,null,null,null,null,null,null,null,null,null,null,null,null,null,null,null,null,null,null,null,null,null,null,null,null,null,null,null,null,{"$f":"IFERROR($E321*SUMIF('Daily Log'!$CK$18:$CK$1017,$B321,'Daily Log'!$CL$18:$CL$1017),0)","v":24},{"$f":"IFERROR($E321*SUMIF('Daily Log'!$CN$18:$CN$1017,$B321,'Daily Log'!$CO$18:$CO$1017),0)","v":0}]
[null,"JO327 Wu Xiang F.Ball",null,"LLB -LOK LOK STICK",1,21,null,null,null,null,null,null,null,null,null,null,null,null,null,null,null,null,null,null,null,null,null,null,null,null,null,null,null,null,null,{"$f":"IFERROR($E322*SUMIF('Daily Log'!$CK$18:$CK$1017,$B322,'Daily Log'!$CL$18:$CL$1017),0)","v":21},{"$f":"IFERROR($E322*SUMIF('Daily Log'!$CN$18:$CN$1017,$B322,'Daily Log'!$CO$18:$CO$1017),0)","v":0}]
[null,"JO328 Xi Dao Fish Ball",null,"LLB -LOK LOK STICK",1,51,null,null,null,null,null,null,null,null,null,null,null,null,null,null,null,null,null,null,null,null,null,null,null,null,null,null,null,null,null,{"$f":"IFERROR($E323*SUMIF('Daily Log'!$CK$18:$CK$1017,$B323,'Daily Log'!$CL$18:$CL$1017),0)","v":51},{"$f":"IFERROR($E323*SUMIF('Daily Log'!$CN$18:$CN$1017,$B323,'Daily Log'!$CO$18:$CO$1017),0)","v":0}]
[null,"JO329 Fish Ball (S)",null,"LLB -LOK LOK STICK",1,30,null,null,null,null,null,null,null,null,null,null,null,null,null,null,null,null,null,null,null,null,null,null,null,null,null,null,null,null,null,{"$f":"IFERROR($E324*SUMIF('Daily Log'!$CK$18:$CK$1017,$B324,'Daily Log'!$CL$18:$CL$1017),0)","v":30},{"$f":"IFERROR($E324*SUMIF('Daily Log'!$CN$18:$CN$1017,$B324,'Daily Log'!$CO$18:$CO$1017),0)","v":0}]
[null,"JO330 Tofu Fish Ball",null,"LLB -LOK LOK STICK",1,27,null,null,null,null,null,null,null,null,null,null,null,null,null,null,null,null,null,null,null,null,null,null,null,null,null,null,null,null,null,{"$f":"IFERROR($E325*SUMIF('Daily Log'!$CK$18:$CK$1017,$B325,'Daily Log'!$CL$18:$CL$1017),0)","v":27},{"$f":"IFERROR($E325*SUMIF('Daily Log'!$CN$18:$CN$1017,$B325,'Daily Log'!$CO$18:$CO$1017),0)","v":0}]
[null,"JO331 Prawn Ball",null,"LLB -LOK LOK STICK",1,16,null,null,null,null,null,null,null,null,null,null,null,null,null,null,null,null,null,null,null,null,null,null,null,null,null,null,null,null,null,{"$f":"IFERROR($E326*SUMIF('Daily Log'!$CK$18:$CK$1017,$B326,'Daily Log'!$CL$18:$CL$1017),0)","v":16},{"$f":"IFERROR($E326*SUMIF('Daily Log'!$CN$18:$CN$1017,$B326,'Daily Log'!$CO$18:$CO$1017),0)","v":0}]
[null,"JO332 Abalone Slices",null,"LLB -LOK LOK STICK",1,47,null,null,null,null,null,null,null,null,null,null,null,null,null,null,null,null,null,null,null,null,null,null,null,null,null,null,null,null,null,{"$f":"IFERROR($E327*SUMIF('Daily Log'!$CK$18:$CK$1017,$B327,'Daily Log'!$CL$18:$CL$1017),0)","v":47},{"$f":"IFERROR($E327*SUMIF('Daily Log'!$CN$18:$CN$1017,$B327,'Daily Log'!$CO$18:$CO$1017),0)","v":0}]
[null,"JO333 Prawn C. sausage",null,"LLB -LOK LOK STICK",1,14,null,null,null,null,null,null,null,null,null,null,null,null,null,null,null,null,null,null,null,null,null,null,null,null,null,null,null,null,null,{"$f":"IFERROR($E328*SUMIF('Daily Log'!$CK$18:$CK$1017,$B328,'Daily Log'!$CL$18:$CL$1017),0)","v":14},{"$f":"IFERROR($E328*SUMIF('Daily Log'!$CN$18:$CN$1017,$B328,'Daily Log'!$CO$18:$CO$1017),0)","v":0}]
[null,"JO334 FISH BALL BIG",null,"LLB -LOK LOK STICK",1,35,null,null,null,null,null,null,null,null,null,null,null,null,null,null,null,null,null,null,null,null,null,null,null,null,null,null,null,null,null,{"$f":"IFERROR($E329*SUMIF('Daily Log'!$CK$18:$CK$1017,$B329,'Daily Log'!$CL$18:$CL$1017),0)","v":35},{"$f":"IFERROR($E329*SUMIF('Daily Log'!$CN$18:$CN$1017,$B329,'Daily Log'!$CO$18:$CO$1017),0)","v":0}]
[null,"JO335 Tempura Prawn",null,"LLB -LOK LOK STICK",1,8,null,null,null,null,null,null,null,null,null,null,null,null,null,null,null,null,null,null,null,null,null,null,null,null,null,null,null,null,null,{"$f":"IFERROR($E330*SUMIF('Daily Log'!$CK$18:$CK$1017,$B330,'Daily Log'!$CL$18:$CL$1017),0)","v":8},{"$f":"IFERROR($E330*SUMIF('Daily Log'!$CN$18:$CN$1017,$B330,'Daily Log'!$CO$18:$CO$1017),0)","v":0}]
[null,"JO336 Breaded CarbClaw",null,"LLB -LOK LOK STICK",1,29,null,null,null,null,null,null,null,null,null,null,null,null,null,null,null,null,null,null,null,null,null,null,null,null,null,null,null,null,null,{"$f":"IFERROR($E331*SUMIF('Daily Log'!$CK$18:$CK$1017,$B331,'Daily Log'!$CL$18:$CL$1017),0)","v":29},{"$f":"IFERROR($E331*SUMIF('Daily Log'!$CN$18:$CN$1017,$B331,'Daily Log'!$CO$18:$CO$1017),0)","v":0}]
[null,"JO337 C.Shrimp.F.Paste",null,"LLB -LOK LOK STICK",1,27,null,null,null,null,null,null,null,null,null,null,null,null,null,null,null,null,null,null,null,null,null,null,null,null,null,null,null,null,null,{"$f":"IFERROR($E332*SUMIF('Daily Log'!$CK$18:$CK$1017,$B332,'Daily Log'!$CL$18:$CL$1017),0)","v":27},{"$f":"IFERROR($E332*SUMIF('Daily Log'!$CN$18:$CN$1017,$B332,'Daily Log'!$CO$18:$CO$1017),0)","v":0}]
[null,"JO338 Otak Fish Paste",null,"LLB -LOK LOK STICK",1,28,null,null,null,null,null,null,null,null,null,null,null,null,null,null,null,null,null,null,null,null,null,null,null,null,null,null,null,null,null,{"$f":"IFERROR($E333*SUMIF('Daily Log'!$CK$18:$CK$1017,$B333,'Daily Log'!$CL$18:$CL$1017),0)","v":28},{"$f":"IFERROR($E333*SUMIF('Daily Log'!$CN$18:$CN$1017,$B333,'Daily Log'!$CO$18:$CO$1017),0)","v":0}]
[null,"JO339 Salmon Ball",null,"LLB -LOK LOK STICK",1,18,null,null,null,null,null,null,null,null,null,null,null,null,null,null,null,null,null,null,null,null,null,null,null,null,null,null,null,null,null,{"$f":"IFERROR($E334*SUMIF('Daily Log'!$CK$18:$CK$1017,$B334,'Daily Log'!$CL$18:$CL$1017),0)","v":18},{"$f":"IFERROR($E334*SUMIF('Daily Log'!$CN$18:$CN$1017,$B334,'Daily Log'!$CO$18:$CO$1017),0)","v":0}]
[null,"JO340 Fuzhou Fish Ball",null,"LLB -LOK LOK STICK",1,10,null,null,null,null,null,null,null,null,null,null,null,null,null,null,null,null,null,null,null,null,null,null,null,null,null,null,null,null,null,{"$f":"IFERROR($E335*SUMIF('Daily Log'!$CK$18:$CK$1017,$B335,'Daily Log'!$CL$18:$CL$1017),0)","v":10},{"$f":"IFERROR($E335*SUMIF('Daily Log'!$CN$18:$CN$1017,$B335,'Daily Log'!$CO$18:$CO$1017),0)","v":0}]
[null,"JO341 Scallop Ball",null,"LLB -LOK LOK STICK",1,7,null,null,null,null,null,null,null,null,null,null,null,null,null,null,null,null,null,null,null,null,null,null,null,null,null,null,null,null,null,{"$f":"IFERROR($E336*SUMIF('Daily Log'!$CK$18:$CK$1017,$B336,'Daily Log'!$CL$18:$CL$1017),0)","v":7},{"$f":"IFERROR($E336*SUMIF('Daily Log'!$CN$18:$CN$1017,$B336,'Daily Log'!$CO$18:$CO$1017),0)","v":0}]
[null,"JO342 Taiwan C.F. Ball",null,"LLB -LOK LOK STICK",1,29,null,null,null,null,null,null,null,null,null,null,null,null,null,null,null,null,null,null,null,null,null,null,null,null,null,null,null,null,null,{"$f":"IFERROR($E337*SUMIF('Daily Log'!$CK$18:$CK$1017,$B337,'Daily Log'!$CL$18:$CL$1017),0)","v":29},{"$f":"IFERROR($E337*SUMIF('Daily Log'!$CN$18:$CN$1017,$B337,'Daily Log'!$CO$18:$CO$1017),0)","v":0}]
[null,"JO343 Cuttlefish Roll",null,"LLB -LOK LOK STICK",1,30,null,null,null,null,null,null,null,null,null,null,null,null,null,null,null,null,null,null,null,null,null,null,null,null,null,null,null,null,null,{"$f":"IFERROR($E338*SUMIF('Daily Log'!$CK$18:$CK$1017,$B338,'Daily Log'!$CL$18:$CL$1017),0)","v":30},{"$f":"IFERROR($E338*SUMIF('Daily Log'!$CN$18:$CN$1017,$B338,'Daily Log'!$CO$18:$CO$1017),0)","v":0}]
[null,"JO344 M.Seafood Ball",null,"LLB -LOK LOK STICK",1,29,null,null,null,null,null,null,null,null,null,null,null,null,null,null,null,null,null,null,null,null,null,null,null,null,null,null,null,null,null,{"$f":"IFERROR($E339*SUMIF('Daily Log'!$CK$18:$CK$1017,$B339,'Daily Log'!$CL$18:$CL$1017),0)","v":29},{"$f":"IFERROR($E339*SUMIF('Daily Log'!$CN$18:$CN$1017,$B339,'Daily Log'!$CO$18:$CO$1017),0)","v":0}]
[null,"JO345 Cuttlefish",null,"LLB -LOK LOK STICK",1,20,null,null,null,null,null,null,null,null,null,null,null,null,null,null,null,null,null,null,null,null,null,null,null,null,null,null,null,null,null,{"$f":"IFERROR($E340*SUMIF('Daily Log'!$CK$18:$CK$1017,$B340,'Daily Log'!$CL$18:$CL$1017),0)","v":20},{"$f":"IFERROR($E340*SUMIF('Daily Log'!$CN$18:$CN$1017,$B340,'Daily Log'!$CO$18:$CO$1017),0)","v":0}]
[null,"JO346 Shisamo",null,"LLB -LOK LOK STICK",1,7,null,null,null,null,null,null,null,null,null,null,null,null,null,null,null,null,null,null,null,null,null,null,null,null,null,null,null,null,null,{"$f":"IFERROR($E341*SUMIF('Daily Log'!$CK$18:$CK$1017,$B341,'Daily Log'!$CL$18:$CL$1017),0)","v":7},{"$f":"IFERROR($E341*SUMIF('Daily Log'!$CN$18:$CN$1017,$B341,'Daily Log'!$CO$18:$CO$1017),0)","v":0}]
[null,"JO347 Tiger Prawn",null,"LLB -LOK LOK STICK",1,11,null,null,null,null,null,null,null,null,null,null,null,null,null,null,null,null,null,null,null,null,null,null,null,null,null,null,null,null,null,{"$f":"IFERROR($E342*SUMIF('Daily Log'!$CK$18:$CK$1017,$B342,'Daily Log'!$CL$18:$CL$1017),0)","v":11},{"$f":"IFERROR($E342*SUMIF('Daily Log'!$CN$18:$CN$1017,$B342,'Daily Log'!$CO$18:$CO$1017),0)","v":0}]
[null,"JP448 Botton Mushroom",null,"LLB -LOK LOK STICK",1,29,null,null,null,null,null,null,null,null,null,null,null,null,null,null,null,null,null,null,null,null,null,null,null,null,null,null,null,null,null,{"$f":"IFERROR($E343*SUMIF('Daily Log'!$CK$18:$CK$1017,$B343,'Daily Log'!$CL$18:$CL$1017),0)","v":29},{"$f":"IFERROR($E343*SUMIF('Daily Log'!$CN$18:$CN$1017,$B343,'Daily Log'!$CO$18:$CO$1017),0)","v":0}]
[null,"JP449 Kang Kong",null,"LLB -LOK LOK STICK",1,43,null,null,null,null,null,null,null,null,null,null,null,null,null,null,null,null,null,null,null,null,null,null,null,null,null,null,null,null,null,{"$f":"IFERROR($E344*SUMIF('Daily Log'!$CK$18:$CK$1017,$B344,'Daily Log'!$CL$18:$CL$1017),0)","v":43},{"$f":"IFERROR($E344*SUMIF('Daily Log'!$CN$18:$CN$1017,$B344,'Daily Log'!$CO$18:$CO$1017),0)","v":0}]
[null,"JP450 Broccali",null,"LLB -LOK LOK STICK",1,47,null,null,null,null,null,null,null,null,null,null,null,null,null,null,null,null,null,null,null,null,null,null,null,null,null,null,null,null,null,{"$f":"IFERROR($E345*SUMIF('Daily Log'!$CK$18:$CK$1017,$B345,'Daily Log'!$CL$18:$CL$1017),0)","v":47},{"$f":"IFERROR($E345*SUMIF('Daily Log'!$CN$18:$CN$1017,$B345,'Daily Log'!$CO$18:$CO$1017),0)","v":0}]
[null,"JP451 Long Bean",null,"LLB -LOK LOK STICK",1,11,null,null,null,null,null,null,null,null,null,null,null,null,null,null,null,null,null,null,null,null,null,null,null,null,null,null,null,null,null,{"$f":"IFERROR($E346*SUMIF('Daily Log'!$CK$18:$CK$1017,$B346,'Daily Log'!$CL$18:$CL$1017),0)","v":11},{"$f":"IFERROR($E346*SUMIF('Daily Log'!$CN$18:$CN$1017,$B346,'Daily Log'!$CO$18:$CO$1017),0)","v":0}]
[null,"JP452 Fried A.Mushroom",null,"LLB -LOK LOK STICK",1,30,null,null,null,null,null,null,null,null,null,null,null,null,null,null,null,null,null,null,null,null,null,null,null,null,null,null,null,null,null,{"$f":"IFERROR($E347*SUMIF('Daily Log'!$CK$18:$CK$1017,$B347,'Daily Log'!$CL$18:$CL$1017),0)","v":30},{"$f":"IFERROR($E347*SUMIF('Daily Log'!$CN$18:$CN$1017,$B347,'Daily Log'!$CO$18:$CO$1017),0)","v":0}]
[null,"JP453 Shiitake Mushrom",null,"LLB -LOK LOK STICK",1,29,null,null,null,null,null,null,null,null,null,null,null,null,null,null,null,null,null,null,null,null,null,null,null,null,null,null,null,null,null,{"$f":"IFERROR($E348*SUMIF('Daily Log'!$CK$18:$CK$1017,$B348,'Daily Log'!$CL$18:$CL$1017),0)","v":29},{"$f":"IFERROR($E348*SUMIF('Daily Log'!$CN$18:$CN$1017,$B348,'Daily Log'!$CO$18:$CO$1017),0)","v":0}]
[null,"JQ554 M.Fish Eggplant",null,"LLB -LOK LOK STICK",1,6,null,null,null,null,null,null,null,null,null,null,null,null,null,null,null,null,null,null,null,null,null,null,null,null,null,null,null,null,null,{"$f":"IFERROR($E349*SUMIF('Daily Log'!$CK$18:$CK$1017,$B349,'Daily Log'!$CL$18:$CL$1017),0)","v":6},{"$f":"IFERROR($E349*SUMIF('Daily Log'!$CN$18:$CN$1017,$B349,'Daily Log'!$CO$18:$CO$1017),0)","v":0}]
[null,"JQ555 M.Fish Chilli",null,"LLB -LOK LOK STICK",1,5,null,null,null,null,null,null,null,null,null,null,null,null,null,null,null,null,null,null,null,null,null,null,null,null,null,null,null,null,null,{"$f":"IFERROR($E350*SUMIF('Daily Log'!$CK$18:$CK$1017,$B350,'Daily Log'!$CL$18:$CL$1017),0)","v":5},{"$f":"IFERROR($E350*SUMIF('Daily Log'!$CN$18:$CN$1017,$B350,'Daily Log'!$CO$18:$CO$1017),0)","v":0}]
[null,"JQ556 M.Fish Lady's F",null,"LLB -LOK LOK STICK",1,12,null,null,null,null,null,null,null,null,null,null,null,null,null,null,null,null,null,null,null,null,null,null,null,null,null,null,null,null,null,{"$f":"IFERROR($E351*SUMIF('Daily Log'!$CK$18:$CK$1017,$B351,'Daily Log'!$CL$18:$CL$1017),0)","v":12},{"$f":"IFERROR($E351*SUMIF('Daily Log'!$CN$18:$CN$1017,$B351,'Daily Log'!$CO$18:$CO$1017),0)","v":0}]
[null,"JQ557 Chrisy Beabcurd",null,"LLB -LOK LOK STICK",1,64,null,null,null,null,null,null,null,null,null,null,null,null,null,null,null,null,null,null,null,null,null,null,null,null,null,null,null,null,null,{"$f":"IFERROR($E352*SUMIF('Daily Log'!$CK$18:$CK$1017,$B352,'Daily Log'!$CL$18:$CL$1017),0)","v":64},{"$f":"IFERROR($E352*SUMIF('Daily Log'!$CN$18:$CN$1017,$B352,'Daily Log'!$CO$18:$CO$1017),0)","v":0}]
[null,"JQ558 Quail Eggs",null,"LLB -LOK LOK STICK",1,75,null,null,null,null,null,null,null,null,null,null,null,null,null,null,null,null,null,null,null,null,null,null,null,null,null,null,null,null,null,{"$f":"IFERROR($E353*SUMIF('Daily Log'!$CK$18:$CK$1017,$B353,'Daily Log'!$CL$18:$CL$1017),0)","v":75},{"$f":"IFERROR($E353*SUMIF('Daily Log'!$CN$18:$CN$1017,$B353,'Daily Log'!$CO$18:$CO$1017),0)","v":0}]
[null,"JQ559 Fried Wanton",null,"LLB -LOK LOK STICK",1,26,null,null,null,null,null,null,null,null,null,null,null,null,null,null,null,null,null,null,null,null,null,null,null,null,null,null,null,null,null,{"$f":"IFERROR($E354*SUMIF('Daily Log'!$CK$18:$CK$1017,$B354,'Daily Log'!$CL$18:$CL$1017),0)","v":26},{"$f":"IFERROR($E354*SUMIF('Daily Log'!$CN$18:$CN$1017,$B354,'Daily Log'!$CO$18:$CO$1017),0)","v":0}]
[null,"JQ560 L.G.Potato Samos",null,"LLB -LOK LOK STICK",1,13,null,null,null,null,null,null,null,null,null,null,null,null,null,null,null,null,null,null,null,null,null,null,null,null,null,null,null,null,null,{"$f":"IFERROR($E355*SUMIF('Daily Log'!$CK$18:$CK$1017,$B355,'Daily Log'!$CL$18:$CL$1017),0)","v":13},{"$f":"IFERROR($E355*SUMIF('Daily Log'!$CN$18:$CN$1017,$B355,'Daily Log'!$CO$18:$CO$1017),0)","v":0}]
[null,"JQ561 F.Vege Ball",null,"LLB -LOK LOK STICK",1,16,null,null,null,null,null,null,null,null,null,null,null,null,null,null,null,null,null,null,null,null,null,null,null,null,null,null,null,null,null,{"$f":"IFERROR($E356*SUMIF('Daily Log'!$CK$18:$CK$1017,$B356,'Daily Log'!$CL$18:$CL$1017),0)","v":16},{"$f":"IFERROR($E356*SUMIF('Daily Log'!$CN$18:$CN$1017,$B356,'Daily Log'!$CO$18:$CO$1017),0)","v":0}]
[null,"JQ562 Minced Fish Ball",null,"LLB -LOK LOK STICK",1,11,null,null,null,null,null,null,null,null,null,null,null,null,null,null,null,null,null,null,null,null,null,null,null,null,null,null,null,null,null,{"$f":"IFERROR($E357*SUMIF('Daily Log'!$CK$18:$CK$1017,$B357,'Daily Log'!$CL$18:$CL$1017),0)","v":11},{"$f":"IFERROR($E357*SUMIF('Daily Log'!$CN$18:$CN$1017,$B357,'Daily Log'!$CO$18:$CO$1017),0)","v":0}]
[null,"JQ563 Seafood Tofu",null,"LLB -LOK LOK STICK",1,61,null,null,null,null,null,null,null,null,null,null,null,null,null,null,null,null,null,null,null,null,null,null,null,null,null,null,null,null,null,{"$f":"IFERROR($E358*SUMIF('Daily Log'!$CK$18:$CK$1017,$B358,'Daily Log'!$CL$18:$CL$1017),0)","v":61},{"$f":"IFERROR($E358*SUMIF('Daily Log'!$CN$18:$CN$1017,$B358,'Daily Log'!$CO$18:$CO$1017),0)","v":0}]
[null,"JQ564 Spring Roll",null,"LLB -LOK LOK STICK",1,10,null,null,null,null,null,null,null,null,null,null,null,null,null,null,null,null,null,null,null,null,null,null,null,null,null,null,null,null,null,{"$f":"IFERROR($E359*SUMIF('Daily Log'!$CK$18:$CK$1017,$B359,'Daily Log'!$CL$18:$CL$1017),0)","v":10},{"$f":"IFERROR($E359*SUMIF('Daily Log'!$CN$18:$CN$1017,$B359,'Daily Log'!$CO$18:$CO$1017),0)","v":0}]
[null,"JQ565 Quail Century Eg",null,"LLB -LOK LOK STICK",1,58,null,null,null,null,null,null,null,null,null,null,null,null,null,null,null,null,null,null,null,null,null,null,null,null,null,null,null,null,null,{"$f":"IFERROR($E360*SUMIF('Daily Log'!$CK$18:$CK$1017,$B360,'Daily Log'!$CL$18:$CL$1017),0)","v":58},{"$f":"IFERROR($E360*SUMIF('Daily Log'!$CN$18:$CN$1017,$B360,'Daily Log'!$CO$18:$CO$1017),0)","v":0}]
[null,"JQ566 Thai Roll",null,"LLB -LOK LOK STICK",1,14,null,null,null,null,null,null,null,null,null,null,null,null,null,null,null,null,null,null,null,null,null,null,null,null,null,null,null,null,null,{"$f":"IFERROR($E361*SUMIF('Daily Log'!$CK$18:$CK$1017,$B361,'Daily Log'!$CL$18:$CL$1017),0)","v":14},{"$f":"IFERROR($E361*SUMIF('Daily Log'!$CN$18:$CN$1017,$B361,'Daily Log'!$CO$18:$CO$1017),0)","v":0}]
[null,"JQ567 Cheese S.Tofu",null,"LLB -LOK LOK STICK",1,62,null,null,null,null,null,null,null,null,null,null,null,null,null,null,null,null,null,null,null,null,null,null,null,null,null,null,null,null,null,{"$f":"IFERROR($E362*SUMIF('Daily Log'!$CK$18:$CK$1017,$B362,'Daily Log'!$CL$18:$CL$1017),0)","v":62},{"$f":"IFERROR($E362*SUMIF('Daily Log'!$CN$18:$CN$1017,$B362,'Daily Log'!$CO$18:$CO$1017),0)","v":0}]
[null,"JR01 PACKAGE A",null,"LLB -LOK LOK PACKAGE",1,11,null,null,null,null,null,null,null,null,null,null,null,null,null,null,null,null,null,null,null,null,null,null,null,null,null,null,null,null,null,{"$f":"IFERROR($E363*SUMIF('Daily Log'!$CK$18:$CK$1017,$B363,'Daily Log'!$CL$18:$CL$1017),0)","v":11},{"$f":"IFERROR($E363*SUMIF('Daily Log'!$CN$18:$CN$1017,$B363,'Daily Log'!$CO$18:$CO$1017),0)","v":0}]
[null,"JR02 PACKAGE B",null,"LLB -LOK LOK PACKAGE",1,19,null,null,null,null,null,null,null,null,null,null,null,null,null,null,null,null,null,null,null,null,null,null,null,null,null,null,null,null,null,{"$f":"IFERROR($E364*SUMIF('Daily Log'!$CK$18:$CK$1017,$B364,'Daily Log'!$CL$18:$CL$1017),0)","v":19},{"$f":"IFERROR($E364*SUMIF('Daily Log'!$CN$18:$CN$1017,$B364,'Daily Log'!$CO$18:$CO$1017),0)","v":0}]
[null,"JQ568 Rice Skin  Roll",null,"LLB -LOK LOK STICK",1,12,null,null,null,null,null,null,null,null,null,null,null,null,null,null,null,null,null,null,null,null,null,null,null,null,null,null,null,null,null,{"$f":"IFERROR($E365*SUMIF('Daily Log'!$CK$18:$CK$1017,$B365,'Daily Log'!$CL$18:$CL$1017),0)","v":12},{"$f":"IFERROR($E365*SUMIF('Daily Log'!$CN$18:$CN$1017,$B365,'Daily Log'!$CO$18:$CO$1017),0)","v":0}]
[null,null,null,null,null,{"$f":"SUM($G366:$AK366)","v":0},null,null,null,null,null,null,null,null,null,null,null,null,null,null,null,null,null,null,null,null,null,null,null,null,null,null,null,null,null,{"$f":"IFERROR($E366*SUMIF('Daily Log'!$CN$18:$CN$1017,$B366,'Daily Log'!$CO$18:$CO$1017),0)","v":0},{"$f":"IFERROR($E366*SUMIF('Daily Log'!$CN$18:$CN$1017,$B366,'Daily Log'!$CO$18:$CO$1017),0)","v":0}]
[null,null,null,null,null,{"$f":"SUM($G367:$AK367)","v":0},null,null,null,null,null,null,null,null,null,null,null,null,null,null,null,null,null,null,null,null,null,null,null,null,null,null,null,null,null,{"$f":"IFERROR($E367*SUMIF('Daily Log'!$CN$18:$CN$1017,$B367,'Daily Log'!$CO$18:$CO$1017),0)","v":0},{"$f":"IFERROR($E367*SUMIF('[4]Daily Log'!$CN$18:$CN$1017,$B367,'[4]Daily Log'!$CO$18:$CO$1017),0)","v":0}]
[null,null,null,null,null,0,null,null,null,null,null,null,null,null,null,null,null,null,null,null,null,null,null,null,null,null,null,null,null,null,null,null,null,null,null,{"$f":"IFERROR($E368*SUMIF('Daily Log'!$CN$18:$CN$1017,$B368,'Daily Log'!$CO$18:$CO$1017),0)","v":0},{"$f":"IFERROR($E368*SUMIF('[4]Daily Log'!$CN$18:$CN$1017,$B368,'[4]Daily Log'!$CO$18:$CO$1017),0)","v":0}]
[null,null,null,null,null,0,null,null,null,null,null,null,null,null,null,null,null,null,null,null,null,null,null,null,null,null,null,null,null,null,null,null,null,null,null,{"$f":"IFERROR($E369*SUMIF('Daily Log'!$CN$18:$CN$1017,$B369,'Daily Log'!$CO$18:$CO$1017),0)","v":0},{"$f":"IFERROR($E369*SUMIF('[4]Daily Log'!$CN$18:$CN$1017,$B369,'[4]Daily Log'!$CO$18:$CO$1017),0)","v":0}]
[null,null,null,null,null,0,null,null,null,null,null,null,null,null,null,null,null,null,null,null,null,null,null,null,null,null,null,null,null,null,null,null,null,null,null,null,{"$f":"IFERROR($E370*SUMIF('[4]Daily Log'!$CN$18:$CN$1017,$B370,'[4]Daily Log'!$CO$18:$CO$1017),0)","v":0}]
[null,null,null,null,null,0,null,null,null,null,null,null,null,null,null,null,null,null,null,null,null,null,null,null,null,null,null,null,null,null,null,null,null,null,null,null,{"$f":"IFERROR($E371*SUMIF('[4]Daily Log'!$CN$18:$CN$1017,$B371,'[4]Daily Log'!$CO$18:$CO$1017),0)","v":0}]
[null,null,null,null,null,0,null,null,null,null,null,null,null,null,null,null,null,null,null,null,null,null,null,null,null,null,null,null,null,null,null,null,null,null,null,null,{"$f":"IFERROR($E372*SUMIF('[4]Daily Log'!$CN$18:$CN$1017,$B372,'[4]Daily Log'!$CO$18:$CO$1017),0)","v":0}]
[null,null,null,null,null,0,null,null,null,null,null,null,null,null,null,null,null,null,null,null,null,null,null,null,null,null,null,null,null,null,null,null,null,null,null,null,{"$f":"IFERROR($E373*SUMIF('[4]Daily Log'!$CN$18:$CN$1017,$B373,'[4]Daily Log'!$CO$18:$CO$1017),0)","v":0}]
[null,null,null,null,null,0,null,null,null,null,null,null,null,null,null,null,null,null,null,null,null,null,null,null,null,null,null,null,null,null,null,null,null,null,null,null,{"$f":"IFERROR($E374*SUMIF('[4]Daily Log'!$CN$18:$CN$1017,$B374,'[4]Daily Log'!$CO$18:$CO$1017),0)","v":0}]
[null,null,null,null,null,0,null,null,null,null,null,null,null,null,null,null,null,null,null,null,null,null,null,null,null,null,null,null,null,null,null,null,null,null,null,null,{"$f":"IFERROR($E375*SUMIF('[4]Daily Log'!$CN$18:$CN$1017,$B375,'[4]Daily Log'!$CO$18:$CO$1017),0)","v":0}]
[null,null,null,null,null,0,null,null,null,null,null,null,null,null,null,null,null,null,null,null,null,null,null,null,null,null,null,null,null,null,null,null,null,null,null,null,{"$f":"IFERROR($E376*SUMIF('[4]Daily Log'!$CN$18:$CN$1017,$B376,'[4]Daily Log'!$CO$18:$CO$1017),0)","v":0}]
[null,null,null,null,null,0,null,null,null,null,null,null,null,null,null,null,null,null,null,null,null,null,null,null,null,null,null,null,null,null,null,null,null,null,null,null,{"$f":"IFERROR($E377*SUMIF('[4]Daily Log'!$CN$18:$CN$1017,$B377,'[4]Daily Log'!$CO$18:$CO$1017),0)","v":0}]
[null,null,null,null,null,0,null,null,null,null,null,null,null,null,null,null,null,null,null,null,null,null,null,null,null,null,null,null,null,null,null,null,null,null,null,null,{"$f":"IFERROR($E378*SUMIF('[4]Daily Log'!$CN$18:$CN$1017,$B378,'[4]Daily Log'!$CO$18:$CO$1017),0)","v":0}]
[null,null,null,null,null,0,null,null,null,null,null,null,null,null,null,null,null,null,null,null,null,null,null,null,null,null,null,null,null,null,null,null,null,null,null,null,{"$f":"IFERROR($E379*SUMIF('[4]Daily Log'!$CN$18:$CN$1017,$B379,'[4]Daily Log'!$CO$18:$CO$1017),0)","v":0}]
[null,null,null,null,null,0,null,null,null,null,null,null,null,null,null,null,null,null,null,null,null,null,null,null,null,null,null,null,null,null,null,null,null,null,null,null,{"$f":"IFERROR($E380*SUMIF('[4]Daily Log'!$CN$18:$CN$1017,$B380,'[4]Daily Log'!$CO$18:$CO$1017),0)","v":0}]
[null,null,null,null,null,0,null,null,null,null,null,null,null,null,null,null,null,null,null,null,null,null,null,null,null,null,null,null,null,null,null,null,null,null,null,null,{"$f":"IFERROR($E381*SUMIF('[4]Daily Log'!$CN$18:$CN$1017,$B381,'[4]Daily Log'!$CO$18:$CO$1017),0)","v":0}]
[null,null,null,null,null,0,null,null,null,null,null,null,null,null,null,null,null,null,null,null,null,null,null,null,null,null,null,null,null,null,null,null,null,null,null,null,{"$f":"IFERROR($E382*SUMIF('[4]Daily Log'!$CN$18:$CN$1017,$B382,'[4]Daily Log'!$CO$18:$CO$1017),0)","v":0}]
[null,null,null,null,null,0,null,null,null,null,null,null,null,null,null,null,null,null,null,null,null,null,null,null,null,null,null,null,null,null,null,null,null,null,null,null,{"$f":"IFERROR($E383*SUMIF('[4]Daily Log'!$CN$18:$CN$1017,$B383,'[4]Daily Log'!$CO$18:$CO$1017),0)","v":0}]
[null,null,null,null,null,0,null,null,null,null,null,null,null,null,null,null,null,null,null,null,null,null,null,null,null,null,null,null,null,null,null,null,null,null,null,null,{"$f":"IFERROR($E384*SUMIF('[4]Daily Log'!$CN$18:$CN$1017,$B384,'[4]Daily Log'!$CO$18:$CO$1017),0)","v":0}]
[null,null,null,null,null,0,null,null,null,null,null,null,null,null,null,null,null,null,null,null,null,null,null,null,null,null,null,null,null,null,null,null,null,null,null,null,{"$f":"IFERROR($E385*SUMIF('[4]Daily Log'!$CN$18:$CN$1017,$B385,'[4]Daily Log'!$CO$18:$CO$1017),0)","v":0}]
[null,null,null,null,null,0,null,null,null,null,null,null,null,null,null,null,null,null,null,null,null,null,null,null,null,null,null,null,null,null,null,null,null,null,null,null,{"$f":"IFERROR($E386*SUMIF('[4]Daily Log'!$CN$18:$CN$1017,$B386,'[4]Daily Log'!$CO$18:$CO$1017),0)","v":0}]
[null,null,null,null,null,0,null,null,null,null,null,null,null,null,null,null,null,null,null,null,null,null,null,null,null,null,null,null,null,null,null,null,null,null,null,null,{"$f":"IFERROR($E387*SUMIF('[4]Daily Log'!$CN$18:$CN$1017,$B387,'[4]Daily Log'!$CO$18:$CO$1017),0)","v":0}]
[null,null,null,null,null,0,null,null,null,null,null,null,null,null,null,null,null,null,null,null,null,null,null,null,null,null,null,null,null,null,null,null,null,null,null,null,{"$f":"IFERROR($E388*SUMIF('[4]Daily Log'!$CN$18:$CN$1017,$B388,'[4]Daily Log'!$CO$18:$CO$1017),0)","v":0}]
[null,null,null,null,null,0,null,null,null,null,null,null,null,null,null,null,null,null,null,null,null,null,null,null,null,null,null,null,null,null,null,null,null,null,null,null,{"$f":"IFERROR($E389*SUMIF('[4]Daily Log'!$CN$18:$CN$1017,$B389,'[4]Daily Log'!$CO$18:$CO$1017),0)","v":0}]
[null,null,null,null,null,0,null,null,null,null,null,null,null,null,null,null,null,null,null,null,null,null,null,null,null,null,null,null,null,null,null,null,null,null,null,null,{"$f":"IFERROR($E390*SUMIF('[4]Daily Log'!$CN$18:$CN$1017,$B390,'[4]Daily Log'!$CO$18:$CO$1017),0)","v":0}]
[null,null,null,null,null,0,null,null,null,null,null,null,null,null,null,null,null,null,null,null,null,null,null,null,null,null,null,null,null,null,null,null,null,null,null,null,{"$f":"IFERROR($E391*SUMIF('[4]Daily Log'!$CN$18:$CN$1017,$B391,'[4]Daily Log'!$CO$18:$CO$1017),0)","v":0}]
[null,null,null,null,null,0,null,null,null,null,null,null,null,null,null,null,null,null,null,null,null,null,null,null,null,null,null,null,null,null,null,null,null,null,null,null,{"$f":"IFERROR($E392*SUMIF('[4]Daily Log'!$CN$18:$CN$1017,$B392,'[4]Daily Log'!$CO$18:$CO$1017),0)","v":0}]
[null,null,null,null,null,0,null,null,null,null,null,null,null,null,null,null,null,null,null,null,null,null,null,null,null,null,null,null,null,null,null,null,null,null,null,null,{"$f":"IFERROR($E393*SUMIF('[4]Daily Log'!$CN$18:$CN$1017,$B393,'[4]Daily Log'!$CO$18:$CO$1017),0)","v":0}]
[null,null,null,null,null,0,null,null,null,null,null,null,null,null,null,null,null,null,null,null,null,null,null,null,null,null,null,null,null,null,null,null,null,null,null,null,{"$f":"IFERROR($E394*SUMIF('[4]Daily Log'!$CN$18:$CN$1017,$B394,'[4]Daily Log'!$CO$18:$CO$1017),0)","v":0}]
[null,null,null,null,null,0,null,null,null,null,null,null,null,null,null,null,null,null,null,null,null,null,null,null,null,null,null,null,null,null,null,null,null,null,null,null,{"$f":"IFERROR($E395*SUMIF('[4]Daily Log'!$CN$18:$CN$1017,$B395,'[4]Daily Log'!$CO$18:$CO$1017),0)","v":0}]
[null,null,null,null,null,0,null,null,null,null,null,null,null,null,null,null,null,null,null,null,null,null,null,null,null,null,null,null,null,null,null,null,null,null,null,null,{"$f":"IFERROR($E396*SUMIF('[4]Daily Log'!$CN$18:$CN$1017,$B396,'[4]Daily Log'!$CO$18:$CO$1017),0)","v":0}]
[null,null,null,null,null,0,null,null,null,null,null,null,null,null,null,null,null,null,null,null,null,null,null,null,null,null,null,null,null,null,null,null,null,null,null,null,{"$f":"IFERROR($E397*SUMIF('[4]Daily Log'!$CN$18:$CN$1017,$B397,'[4]Daily Log'!$CO$18:$CO$1017),0)","v":0}]
[null,null,null,null,null,0,null,null,null,null,null,null,null,null,null,null,null,null,null,null,null,null,null,null,null,null,null,null,null,null,null,null,null,null,null,null,{"$f":"IFERROR($E398*SUMIF('[4]Daily Log'!$CN$18:$CN$1017,$B398,'[4]Daily Log'!$CO$18:$CO$1017),0)","v":0}]
[null,null,null,null,null,0,null,null,null,null,null,null,null,null,null,null,null,null,null,null,null,null,null,null,null,null,null,null,null,null,null,null,null,null,null,null,{"$f":"IFERROR($E399*SUMIF('[4]Daily Log'!$CN$18:$CN$1017,$B399,'[4]Daily Log'!$CO$18:$CO$1017),0)","v":0}]
[null,null,null,null,null,0,null,null,null,null,null,null,null,null,null,null,null,null,null,null,null,null,null,null,null,null,null,null,null,null,null,null,null,null,null,null,{"$f":"IFERROR($E400*SUMIF('[4]Daily Log'!$CN$18:$CN$1017,$B400,'[4]Daily Log'!$CO$18:$CO$1017),0)","v":0}]
[null,null,null,null,null,0,null,null,null,null,null,null,null,null,null,null,null,null,null,null,null,null,null,null,null,null,null,null,null,null,null,null,null,null,null,null,{"$f":"IFERROR($E401*SUMIF('[4]Daily Log'!$CN$18:$CN$1017,$B401,'[4]Daily Log'!$CO$18:$CO$1017),0)","v":0}]
[null,null,null,null,null,0,null,null,null,null,null,null,null,null,null,null,null,null,null,null,null,null,null,null,null,null,null,null,null,null,null,null,null,null,null,null,{"$f":"IFERROR($E402*SUMIF('[4]Daily Log'!$CN$18:$CN$1017,$B402,'[4]Daily Log'!$CO$18:$CO$1017),0)","v":0}]
[null,null,null,null,null,0,null,null,null,null,null,null,null,null,null,null,null,null,null,null,null,null,null,null,null,null,null,null,null,null,null,null,null,null,null,null,{"$f":"IFERROR($E403*SUMIF('[4]Daily Log'!$CN$18:$CN$1017,$B403,'[4]Daily Log'!$CO$18:$CO$1017),0)","v":0}]
[null,null,null,null,null,0,null,null,null,null,null,null,null,null,null,null,null,null,null,null,null,null,null,null,null,null,null,null,null,null,null,null,null,null,null,null,{"$f":"IFERROR($E404*SUMIF('[4]Daily Log'!$CN$18:$CN$1017,$B404,'[4]Daily Log'!$CO$18:$CO$1017),0)","v":0}]
[null,null,null,null,null,0,null,null,null,null,null,null,null,null,null,null,null,null,null,null,null,null,null,null,null,null,null,null,null,null,null,null,null,null,null,null,{"$f":"IFERROR($E405*SUMIF('[4]Daily Log'!$CN$18:$CN$1017,$B405,'[4]Daily Log'!$CO$18:$CO$1017),0)","v":0}]
[null,null,null,null,null,0,null,null,null,null,null,null,null,null,null,null,null,null,null,null,null,null,null,null,null,null,null,null,null,null,null,null,null,null,null,null,{"$f":"IFERROR($E406*SUMIF('[4]Daily Log'!$CN$18:$CN$1017,$B406,'[4]Daily Log'!$CO$18:$CO$1017),0)","v":0}]
[null,null,null,null,null,0,null,null,null,null,null,null,null,null,null,null,null,null,null,null,null,null,null,null,null,null,null,null,null,null,null,null,null,null,null,null,{"$f":"IFERROR($E407*SUMIF('[4]Daily Log'!$CN$18:$CN$1017,$B407,'[4]Daily Log'!$CO$18:$CO$1017),0)","v":0}]
[null,null,null,null,null,0,null,null,null,null,null,null,null,null,null,null,null,null,null,null,null,null,null,null,null,null,null,null,null,null,null,null,null,null,null,null,{"$f":"IFERROR($E408*SUMIF('[4]Daily Log'!$CN$18:$CN$1017,$B408,'[4]Daily Log'!$CO$18:$CO$1017),0)","v":0}]
[null,null,null,null,null,{"$f":"SUM($G409:$AK409)","v":0},null,null,null,null,null,null,null,null,null,null,null,null,null,null,null,null,null,null,null,null,null,null,null,null,null,null,null,null,null,null,{"$f":"IFERROR($E409*SUMIF('[4]Daily Log'!$CN$18:$CN$1017,$B409,'[4]Daily Log'!$CO$18:$CO$1017),0)","v":0}]
[null,null,null,null,null,0,null,null,null,null,null,null,null,null,null,null,null,null,null,null,null,null,null,null,null,null,null,null,null,null,null,null,null,null,null,null,{"$f":"IFERROR($E410*SUMIF('[4]Daily Log'!$CN$18:$CN$1017,$B410,'[4]Daily Log'!$CO$18:$CO$1017),0)","v":0}]
[null,null,null,null,null,0,null,null,null,null,null,null,null,null,null,null,null,null,null,null,null,null,null,null,null,null,null,null,null,null,null,null,null,null,null,null,{"$f":"IFERROR($E411*SUMIF('[4]Daily Log'!$CN$18:$CN$1017,$B411,'[4]Daily Log'!$CO$18:$CO$1017),0)","v":0}]
[null,null,null,null,null,0,null,null,null,null,null,null,null,null,null,null,null,null,null,null,null,null,null,null,null,null,null,null,null,null,null,null,null,null,null,null,{"$f":"IFERROR($E412*SUMIF('[4]Daily Log'!$CN$18:$CN$1017,$B412,'[4]Daily Log'!$CO$18:$CO$1017),0)","v":0}]
[null,null,null,null,null,0,null,null,null,null,null,null,null,null,null,null,null,null,null,null,null,null,null,null,null,null,null,null,null,null,null,null,null,null,null,null,{"$f":"IFERROR($E413*SUMIF('[4]Daily Log'!$CN$18:$CN$1017,$B413,'[4]Daily Log'!$CO$18:$CO$1017),0)","v":0}]
[null,null,null,null,null,0,null,null,null,null,null,null,null,null,null,null,null,null,null,null,null,null,null,null,null,null,null,null,null,null,null,null,null,null,null,null,{"$f":"IFERROR($E414*SUMIF('[4]Daily Log'!$CN$18:$CN$1017,$B414,'[4]Daily Log'!$CO$18:$CO$1017),0)","v":0}]
[null,null,null,null,null,0,null,null,null,null,null,null,null,null,null,null,null,null,null,null,null,null,null,null,null,null,null,null,null,null,null,null,null,null,null,null,{"$f":"IFERROR($E415*SUMIF('[4]Daily Log'!$CN$18:$CN$1017,$B415,'[4]Daily Log'!$CO$18:$CO$1017),0)","v":0}]
[null,null,null,null,null,0,null,null,null,null,null,null,null,null,null,null,null,null,null,null,null,null,null,null,null,null,null,null,null,null,null,null,null,null,null,null,{"$f":"IFERROR($E416*SUMIF('[4]Daily Log'!$CN$18:$CN$1017,$B416,'[4]Daily Log'!$CO$18:$CO$1017),0)","v":0}]
[null,null,null,null,null,0,null,null,null,null,null,null,null,null,null,null,null,null,null,null,null,null,null,null,null,null,null,null,null,null,null,null,null,null,null,null,{"$f":"IFERROR($E417*SUMIF('[4]Daily Log'!$CN$18:$CN$1017,$B417,'[4]Daily Log'!$CO$18:$CO$1017),0)","v":0}]
[null,null,null,null,null,0,null,null,null,null,null,null,null,null,null,null,null,null,null,null,null,null,null,null,null,null,null,null,null,null,null,null,null,null,null,null,{"$f":"IFERROR($E418*SUMIF('[4]Daily Log'!$CN$18:$CN$1017,$B418,'[4]Daily Log'!$CO$18:$CO$1017),0)","v":0}]
[null,null,null,null,null,0,null,null,null,null,null,null,null,null,null,null,null,null,null,null,null,null,null,null,null,null,null,null,null,null,null,null,null,null,null,null,{"$f":"IFERROR($E419*SUMIF('[4]Daily Log'!$CN$18:$CN$1017,$B419,'[4]Daily Log'!$CO$18:$CO$1017),0)","v":0}]
[null,null,null,null,null,0,null,null,null,null,null,null,null,null,null,null,null,null,null,null,null,null,null,null,null,null,null,null,null,null,null,null,null,null,null,null,{"$f":"IFERROR($E420*SUMIF('[4]Daily Log'!$CN$18:$CN$1017,$B420,'[4]Daily Log'!$CO$18:$CO$1017),0)","v":0}]
[null,null,null,null,null,0,null,null,null,null,null,null,null,null,null,null,null,null,null,null,null,null,null,null,null,null,null,null,null,null,null,null,null,null,null,null,{"$f":"IFERROR($E421*SUMIF('[4]Daily Log'!$CN$18:$CN$1017,$B421,'[4]Daily Log'!$CO$18:$CO$1017),0)","v":0}]
[null,null,null,null,null,0,null,null,null,null,null,null,null,null,null,null,null,null,null,null,null,null,null,null,null,null,null,null,null,null,null,null,null,null,null,null,{"$f":"IFERROR($E422*SUMIF('[4]Daily Log'!$CN$18:$CN$1017,$B422,'[4]Daily Log'!$CO$18:$CO$1017),0)","v":0}]
[null,null,null,null,null,0,{"$f":"IFERROR($E423*SUMIF('[4]Daily Log'!$B$18:$B$1017,$B423,'[4]Daily Log'!$C$18:$C$1017),0)","v":0},{"$f":"IFERROR($E423*SUMIF('[4]Daily Log'!$E$18:$E$1017,$B423,'[4]Daily Log'!$F$18:$F$1017),0)","v":0},{"$f":"IFERROR($E423*SUMIF('[4]Daily Log'!$H$18:$H$1017,$B423,'[4]Daily Log'!$I$18:$I$1017),0)","v":0},{"$f":"IFERROR($E423*SUMIF('[4]Daily Log'!$K$18:$K$1017,$B423,'[4]Daily Log'!$L$18:$L$1017),0)","v":0},{"$f":"IFERROR($E423*SUMIF('[4]Daily Log'!$N$18:$N$1017,$B423,'[4]Daily Log'!$O$18:$O$1017),0)","v":0},{"$f":"IFERROR($E423*SUMIF('[4]Daily Log'!$Q$18:$Q$1017,$B423,'[4]Daily Log'!$R$18:$R$1017),0)","v":0},{"$f":"IFERROR($E423*SUMIF('[4]Daily Log'!$T$18:$T$1017,$B423,'[4]Daily Log'!$U$18:$U$1017),0)","v":0},{"$f":"IFERROR($E423*SUMIF('[4]Daily Log'!$W$18:$W$1017,$B423,'[4]Daily Log'!$X$18:$X$1017),0)","v":0},{"$f":"IFERROR($E423*SUMIF('[4]Daily Log'!$Z$18:$Z$1017,$B423,'[4]Daily Log'!$AA$18:$AA$1017),0)","v":0},{"$f":"IFERROR($E423*SUMIF('[4]Daily Log'!$AC$18:$AC$1017,$B423,'[4]Daily Log'!$AD$18:$AD$1017),0)","v":0},{"$f":"IFERROR($E423*SUMIF('[4]Daily Log'!$AF$18:$AF$1017,$B423,'[4]Daily Log'!$AG$18:$AG$1017),0)","v":0},{"$f":"IFERROR($E423*SUMIF('[4]Daily Log'!$AI$18:$AI$1017,$B423,'[4]Daily Log'!$AJ$18:$AJ$1017),0)","v":0},{"$f":"IFERROR($E423*SUMIF('[4]Daily Log'!$AL$18:$AL$1017,$B423,'[4]Daily Log'!$AM$18:$AM$1017),0)","v":0},{"$f":"IFERROR($E423*SUMIF('[4]Daily Log'!$AO$18:$AO$1017,$B423,'[4]Daily Log'!$AP$18:$AP$1017),0)","v":0},{"$f":"IFERROR($E423*SUMIF('[4]Daily Log'!$AR$18:$AR$1017,$B423,'[4]Daily Log'!$AS$18:$AS$1017),0)","v":0},{"$f":"IFERROR($E423*SUMIF('[4]Daily Log'!$AU$18:$AU$1017,$B423,'[4]Daily Log'!$AV$18:$AV$1017),0)","v":0},{"$f":"IFERROR($E423*SUMIF('[4]Daily Log'!$AX$18:$AX$1017,$B423,'[4]Daily Log'!$AY$18:$AY$1017),0)","v":0},{"$f":"IFERROR($E423*SUMIF('[4]Daily Log'!$BA$18:$BA$1017,$B423,'[4]Daily Log'!$BB$18:$BB$1017),0)","v":0},{"$f":"IFERROR($E423*SUMIF('[4]Daily Log'!$BD$18:$BD$1017,$B423,'[4]Daily Log'!$BE$18:$BE$1017),0)","v":0},{"$f":"IFERROR($E423*SUMIF('[4]Daily Log'!$BG$18:$BG$1017,$B423,'[4]Daily Log'!$BH$18:$BH$1017),0)","v":0},{"$f":"IFERROR($E423*SUMIF('[4]Daily Log'!$BJ$18:$BJ$1017,$B423,'[4]Daily Log'!$BK$18:$BK$1017),0)","v":0},{"$f":"IFERROR($E423*SUMIF('[4]Daily Log'!$BM$18:$BM$1017,$B423,'[4]Daily Log'!$BN$18:$BN$1017),0)","v":0},{"$f":"IFERROR($E423*SUMIF('[4]Daily Log'!$BP$18:$BP$1017,$B423,'[4]Daily Log'!$BQ$18:$BQ$1017),0)","v":0},{"$f":"IFERROR($E423*SUMIF('[4]Daily Log'!$BS$18:$BS$1017,$B423,'[4]Daily Log'!$BT$18:$BT$1017),0)","v":0},{"$f":"IFERROR($E423*SUMIF('[4]Daily Log'!$BV$18:$BV$1017,$B423,'[4]Daily Log'!$BW$18:$BW$1017),0)","v":0},{"$f":"IFERROR($E423*SUMIF('[4]Daily Log'!$BY$18:$BY$1017,$B423,'[4]Daily Log'!$BZ$18:$BZ$1017),0)","v":0},{"$f":"IFERROR($E423*SUMIF('[4]Daily Log'!$CB$18:$CB$1017,$B423,'[4]Daily Log'!$CC$18:$CC$1017),0)","v":0},{"$f":"IFERROR($E423*SUMIF('[4]Daily Log'!$CE$18:$CE$1017,$B423,'[4]Daily Log'!$CF$18:$CF$1017),0)","v":0},{"$f":"IFERROR($E423*SUMIF('[4]Daily Log'!$CH$18:$CH$1017,$B423,'[4]Daily Log'!$CI$18:$CI$1017),0)","v":0},{"$f":"IFERROR($E423*SUMIF('[4]Daily Log'!$CK$18:$CK$1017,$B423,'[4]Daily Log'!$CL$18:$CL$1017),0)","v":0},{"$f":"IFERROR($E423*SUMIF('[4]Daily Log'!$CN$18:$CN$1017,$B423,'[4]Daily Log'!$CO$18:$CO$1017),0)","v":0}]
[null,null,null,null,null,0,{"$f":"IFERROR($E424*SUMIF('[4]Daily Log'!$B$18:$B$1017,$B424,'[4]Daily Log'!$C$18:$C$1017),0)","v":0},{"$f":"IFERROR($E424*SUMIF('[4]Daily Log'!$E$18:$E$1017,$B424,'[4]Daily Log'!$F$18:$F$1017),0)","v":0},{"$f":"IFERROR($E424*SUMIF('[4]Daily Log'!$H$18:$H$1017,$B424,'[4]Daily Log'!$I$18:$I$1017),0)","v":0},{"$f":"IFERROR($E424*SUMIF('[4]Daily Log'!$K$18:$K$1017,$B424,'[4]Daily Log'!$L$18:$L$1017),0)","v":0},{"$f":"IFERROR($E424*SUMIF('[4]Daily Log'!$N$18:$N$1017,$B424,'[4]Daily Log'!$O$18:$O$1017),0)","v":0},{"$f":"IFERROR($E424*SUMIF('[4]Daily Log'!$Q$18:$Q$1017,$B424,'[4]Daily Log'!$R$18:$R$1017),0)","v":0},{"$f":"IFERROR($E424*SUMIF('[4]Daily Log'!$T$18:$T$1017,$B424,'[4]Daily Log'!$U$18:$U$1017),0)","v":0},{"$f":"IFERROR($E424*SUMIF('[4]Daily Log'!$W$18:$W$1017,$B424,'[4]Daily Log'!$X$18:$X$1017),0)","v":0},{"$f":"IFERROR($E424*SUMIF('[4]Daily Log'!$Z$18:$Z$1017,$B424,'[4]Daily Log'!$AA$18:$AA$1017),0)","v":0},{"$f":"IFERROR($E424*SUMIF('[4]Daily Log'!$AC$18:$AC$1017,$B424,'[4]Daily Log'!$AD$18:$AD$1017),0)","v":0},{"$f":"IFERROR($E424*SUMIF('[4]Daily Log'!$AF$18:$AF$1017,$B424,'[4]Daily Log'!$AG$18:$AG$1017),0)","v":0},{"$f":"IFERROR($E424*SUMIF('[4]Daily Log'!$AI$18:$AI$1017,$B424,'[4]Daily Log'!$AJ$18:$AJ$1017),0)","v":0},{"$f":"IFERROR($E424*SUMIF('[4]Daily Log'!$AL$18:$AL$1017,$B424,'[4]Daily Log'!$AM$18:$AM$1017),0)","v":0},{"$f":"IFERROR($E424*SUMIF('[4]Daily Log'!$AO$18:$AO$1017,$B424,'[4]Daily Log'!$AP$18:$AP$1017),0)","v":0},{"$f":"IFERROR($E424*SUMIF('[4]Daily Log'!$AR$18:$AR$1017,$B424,'[4]Daily Log'!$AS$18:$AS$1017),0)","v":0},{"$f":"IFERROR($E424*SUMIF('[4]Daily Log'!$AU$18:$AU$1017,$B424,'[4]Daily Log'!$AV$18:$AV$1017),0)","v":0},{"$f":"IFERROR($E424*SUMIF('[4]Daily Log'!$AX$18:$AX$1017,$B424,'[4]Daily Log'!$AY$18:$AY$1017),0)","v":0},{"$f":"IFERROR($E424*SUMIF('[4]Daily Log'!$BA$18:$BA$1017,$B424,'[4]Daily Log'!$BB$18:$BB$1017),0)","v":0},{"$f":"IFERROR($E424*SUMIF('[4]Daily Log'!$BD$18:$BD$1017,$B424,'[4]Daily Log'!$BE$18:$BE$1017),0)","v":0},{"$f":"IFERROR($E424*SUMIF('[4]Daily Log'!$BG$18:$BG$1017,$B424,'[4]Daily Log'!$BH$18:$BH$1017),0)","v":0},{"$f":"IFERROR($E424*SUMIF('[4]Daily Log'!$BJ$18:$BJ$1017,$B424,'[4]Daily Log'!$BK$18:$BK$1017),0)","v":0},{"$f":"IFERROR($E424*SUMIF('[4]Daily Log'!$BM$18:$BM$1017,$B424,'[4]Daily Log'!$BN$18:$BN$1017),0)","v":0},{"$f":"IFERROR($E424*SUMIF('[4]Daily Log'!$BP$18:$BP$1017,$B424,'[4]Daily Log'!$BQ$18:$BQ$1017),0)","v":0},{"$f":"IFERROR($E424*SUMIF('[4]Daily Log'!$BS$18:$BS$1017,$B424,'[4]Daily Log'!$BT$18:$BT$1017),0)","v":0},{"$f":"IFERROR($E424*SUMIF('[4]Daily Log'!$BV$18:$BV$1017,$B424,'[4]Daily Log'!$BW$18:$BW$1017),0)","v":0},{"$f":"IFERROR($E424*SUMIF('[4]Daily Log'!$BY$18:$BY$1017,$B424,'[4]Daily Log'!$BZ$18:$BZ$1017),0)","v":0},{"$f":"IFERROR($E424*SUMIF('[4]Daily Log'!$CB$18:$CB$1017,$B424,'[4]Daily Log'!$CC$18:$CC$1017),0)","v":0},{"$f":"IFERROR($E424*SUMIF('[4]Daily Log'!$CE$18:$CE$1017,$B424,'[4]Daily Log'!$CF$18:$CF$1017),0)","v":0},{"$f":"IFERROR($E424*SUMIF('[4]Daily Log'!$CH$18:$CH$1017,$B424,'[4]Daily Log'!$CI$18:$CI$1017),0)","v":0},{"$f":"IFERROR($E424*SUMIF('[4]Daily Log'!$CK$18:$CK$1017,$B424,'[4]Daily Log'!$CL$18:$CL$1017),0)","v":0},{"$f":"IFERROR($E424*SUMIF('[4]Daily Log'!$CN$18:$CN$1017,$B424,'[4]Daily Log'!$CO$18:$CO$1017),0)","v":0}]
[null,null,null,null,null,0,{"$f":"IFERROR($E425*SUMIF('[4]Daily Log'!$B$18:$B$1017,$B425,'[4]Daily Log'!$C$18:$C$1017),0)","v":0},{"$f":"IFERROR($E425*SUMIF('[4]Daily Log'!$E$18:$E$1017,$B425,'[4]Daily Log'!$F$18:$F$1017),0)","v":0},{"$f":"IFERROR($E425*SUMIF('[4]Daily Log'!$H$18:$H$1017,$B425,'[4]Daily Log'!$I$18:$I$1017),0)","v":0},{"$f":"IFERROR($E425*SUMIF('[4]Daily Log'!$K$18:$K$1017,$B425,'[4]Daily Log'!$L$18:$L$1017),0)","v":0},{"$f":"IFERROR($E425*SUMIF('[4]Daily Log'!$N$18:$N$1017,$B425,'[4]Daily Log'!$O$18:$O$1017),0)","v":0},{"$f":"IFERROR($E425*SUMIF('[4]Daily Log'!$Q$18:$Q$1017,$B425,'[4]Daily Log'!$R$18:$R$1017),0)","v":0},{"$f":"IFERROR($E425*SUMIF('[4]Daily Log'!$T$18:$T$1017,$B425,'[4]Daily Log'!$U$18:$U$1017),0)","v":0},{"$f":"IFERROR($E425*SUMIF('[4]Daily Log'!$W$18:$W$1017,$B425,'[4]Daily Log'!$X$18:$X$1017),0)","v":0},{"$f":"IFERROR($E425*SUMIF('[4]Daily Log'!$Z$18:$Z$1017,$B425,'[4]Daily Log'!$AA$18:$AA$1017),0)","v":0},{"$f":"IFERROR($E425*SUMIF('[4]Daily Log'!$AC$18:$AC$1017,$B425,'[4]Daily Log'!$AD$18:$AD$1017),0)","v":0},{"$f":"IFERROR($E425*SUMIF('[4]Daily Log'!$AF$18:$AF$1017,$B425,'[4]Daily Log'!$AG$18:$AG$1017),0)","v":0},{"$f":"IFERROR($E425*SUMIF('[4]Daily Log'!$AI$18:$AI$1017,$B425,'[4]Daily Log'!$AJ$18:$AJ$1017),0)","v":0},{"$f":"IFERROR($E425*SUMIF('[4]Daily Log'!$AL$18:$AL$1017,$B425,'[4]Daily Log'!$AM$18:$AM$1017),0)","v":0},{"$f":"IFERROR($E425*SUMIF('[4]Daily Log'!$AO$18:$AO$1017,$B425,'[4]Daily Log'!$AP$18:$AP$1017),0)","v":0},{"$f":"IFERROR($E425*SUMIF('[4]Daily Log'!$AR$18:$AR$1017,$B425,'[4]Daily Log'!$AS$18:$AS$1017),0)","v":0},{"$f":"IFERROR($E425*SUMIF('[4]Daily Log'!$AU$18:$AU$1017,$B425,'[4]Daily Log'!$AV$18:$AV$1017),0)","v":0},{"$f":"IFERROR($E425*SUMIF('[4]Daily Log'!$AX$18:$AX$1017,$B425,'[4]Daily Log'!$AY$18:$AY$1017),0)","v":0},{"$f":"IFERROR($E425*SUMIF('[4]Daily Log'!$BA$18:$BA$1017,$B425,'[4]Daily Log'!$BB$18:$BB$1017),0)","v":0},{"$f":"IFERROR($E425*SUMIF('[4]Daily Log'!$BD$18:$BD$1017,$B425,'[4]Daily Log'!$BE$18:$BE$1017),0)","v":0},{"$f":"IFERROR($E425*SUMIF('[4]Daily Log'!$BG$18:$BG$1017,$B425,'[4]Daily Log'!$BH$18:$BH$1017),0)","v":0},{"$f":"IFERROR($E425*SUMIF('[4]Daily Log'!$BJ$18:$BJ$1017,$B425,'[4]Daily Log'!$BK$18:$BK$1017),0)","v":0},{"$f":"IFERROR($E425*SUMIF('[4]Daily Log'!$BM$18:$BM$1017,$B425,'[4]Daily Log'!$BN$18:$BN$1017),0)","v":0},{"$f":"IFERROR($E425*SUMIF('[4]Daily Log'!$BP$18:$BP$1017,$B425,'[4]Daily Log'!$BQ$18:$BQ$1017),0)","v":0},{"$f":"IFERROR($E425*SUMIF('[4]Daily Log'!$BS$18:$BS$1017,$B425,'[4]Daily Log'!$BT$18:$BT$1017),0)","v":0},{"$f":"IFERROR($E425*SUMIF('[4]Daily Log'!$BV$18:$BV$1017,$B425,'[4]Daily Log'!$BW$18:$BW$1017),0)","v":0},{"$f":"IFERROR($E425*SUMIF('[4]Daily Log'!$BY$18:$BY$1017,$B425,'[4]Daily Log'!$BZ$18:$BZ$1017),0)","v":0},{"$f":"IFERROR($E425*SUMIF('[4]Daily Log'!$CB$18:$CB$1017,$B425,'[4]Daily Log'!$CC$18:$CC$1017),0)","v":0},{"$f":"IFERROR($E425*SUMIF('[4]Daily Log'!$CE$18:$CE$1017,$B425,'[4]Daily Log'!$CF$18:$CF$1017),0)","v":0},{"$f":"IFERROR($E425*SUMIF('[4]Daily Log'!$CH$18:$CH$1017,$B425,'[4]Daily Log'!$CI$18:$CI$1017),0)","v":0},{"$f":"IFERROR($E425*SUMIF('[4]Daily Log'!$CK$18:$CK$1017,$B425,'[4]Daily Log'!$CL$18:$CL$1017),0)","v":0},{"$f":"IFERROR($E425*SUMIF('[4]Daily Log'!$CN$18:$CN$1017,$B425,'[4]Daily Log'!$CO$18:$CO$1017),0)","v":0}]
[null,null,null,null,null,0,{"$f":"IFERROR($E426*SUMIF('[4]Daily Log'!$B$18:$B$1017,$B426,'[4]Daily Log'!$C$18:$C$1017),0)","v":0},{"$f":"IFERROR($E426*SUMIF('[4]Daily Log'!$E$18:$E$1017,$B426,'[4]Daily Log'!$F$18:$F$1017),0)","v":0},{"$f":"IFERROR($E426*SUMIF('[4]Daily Log'!$H$18:$H$1017,$B426,'[4]Daily Log'!$I$18:$I$1017),0)","v":0},{"$f":"IFERROR($E426*SUMIF('[4]Daily Log'!$K$18:$K$1017,$B426,'[4]Daily Log'!$L$18:$L$1017),0)","v":0},{"$f":"IFERROR($E426*SUMIF('[4]Daily Log'!$N$18:$N$1017,$B426,'[4]Daily Log'!$O$18:$O$1017),0)","v":0},{"$f":"IFERROR($E426*SUMIF('[4]Daily Log'!$Q$18:$Q$1017,$B426,'[4]Daily Log'!$R$18:$R$1017),0)","v":0},{"$f":"IFERROR($E426*SUMIF('[4]Daily Log'!$T$18:$T$1017,$B426,'[4]Daily Log'!$U$18:$U$1017),0)","v":0},{"$f":"IFERROR($E426*SUMIF('[4]Daily Log'!$W$18:$W$1017,$B426,'[4]Daily Log'!$X$18:$X$1017),0)","v":0},{"$f":"IFERROR($E426*SUMIF('[4]Daily Log'!$Z$18:$Z$1017,$B426,'[4]Daily Log'!$AA$18:$AA$1017),0)","v":0},{"$f":"IFERROR($E426*SUMIF('[4]Daily Log'!$AC$18:$AC$1017,$B426,'[4]Daily Log'!$AD$18:$AD$1017),0)","v":0},{"$f":"IFERROR($E426*SUMIF('[4]Daily Log'!$AF$18:$AF$1017,$B426,'[4]Daily Log'!$AG$18:$AG$1017),0)","v":0},{"$f":"IFERROR($E426*SUMIF('[4]Daily Log'!$AI$18:$AI$1017,$B426,'[4]Daily Log'!$AJ$18:$AJ$1017),0)","v":0},{"$f":"IFERROR($E426*SUMIF('[4]Daily Log'!$AL$18:$AL$1017,$B426,'[4]Daily Log'!$AM$18:$AM$1017),0)","v":0},{"$f":"IFERROR($E426*SUMIF('[4]Daily Log'!$AO$18:$AO$1017,$B426,'[4]Daily Log'!$AP$18:$AP$1017),0)","v":0},{"$f":"IFERROR($E426*SUMIF('[4]Daily Log'!$AR$18:$AR$1017,$B426,'[4]Daily Log'!$AS$18:$AS$1017),0)","v":0},{"$f":"IFERROR($E426*SUMIF('[4]Daily Log'!$AU$18:$AU$1017,$B426,'[4]Daily Log'!$AV$18:$AV$1017),0)","v":0},{"$f":"IFERROR($E426*SUMIF('[4]Daily Log'!$AX$18:$AX$1017,$B426,'[4]Daily Log'!$AY$18:$AY$1017),0)","v":0},{"$f":"IFERROR($E426*SUMIF('[4]Daily Log'!$BA$18:$BA$1017,$B426,'[4]Daily Log'!$BB$18:$BB$1017),0)","v":0},{"$f":"IFERROR($E426*SUMIF('[4]Daily Log'!$BD$18:$BD$1017,$B426,'[4]Daily Log'!$BE$18:$BE$1017),0)","v":0},{"$f":"IFERROR($E426*SUMIF('[4]Daily Log'!$BG$18:$BG$1017,$B426,'[4]Daily Log'!$BH$18:$BH$1017),0)","v":0},{"$f":"IFERROR($E426*SUMIF('[4]Daily Log'!$BJ$18:$BJ$1017,$B426,'[4]Daily Log'!$BK$18:$BK$1017),0)","v":0},{"$f":"IFERROR($E426*SUMIF('[4]Daily Log'!$BM$18:$BM$1017,$B426,'[4]Daily Log'!$BN$18:$BN$1017),0)","v":0},{"$f":"IFERROR($E426*SUMIF('[4]Daily Log'!$BP$18:$BP$1017,$B426,'[4]Daily Log'!$BQ$18:$BQ$1017),0)","v":0},{"$f":"IFERROR($E426*SUMIF('[4]Daily Log'!$BS$18:$BS$1017,$B426,'[4]Daily Log'!$BT$18:$BT$1017),0)","v":0},{"$f":"IFERROR($E426*SUMIF('[4]Daily Log'!$BV$18:$BV$1017,$B426,'[4]Daily Log'!$BW$18:$BW$1017),0)","v":0},{"$f":"IFERROR($E426*SUMIF('[4]Daily Log'!$BY$18:$BY$1017,$B426,'[4]Daily Log'!$BZ$18:$BZ$1017),0)","v":0},{"$f":"IFERROR($E426*SUMIF('[4]Daily Log'!$CB$18:$CB$1017,$B426,'[4]Daily Log'!$CC$18:$CC$1017),0)","v":0},{"$f":"IFERROR($E426*SUMIF('[4]Daily Log'!$CE$18:$CE$1017,$B426,'[4]Daily Log'!$CF$18:$CF$1017),0)","v":0},{"$f":"IFERROR($E426*SUMIF('[4]Daily Log'!$CH$18:$CH$1017,$B426,'[4]Daily Log'!$CI$18:$CI$1017),0)","v":0},{"$f":"IFERROR($E426*SUMIF('[4]Daily Log'!$CK$18:$CK$1017,$B426,'[4]Daily Log'!$CL$18:$CL$1017),0)","v":0},{"$f":"IFERROR($E426*SUMIF('[4]Daily Log'!$CN$18:$CN$1017,$B426,'[4]Daily Log'!$CO$18:$CO$1017),0)","v":0}]
[null,null,null,null,null,0,{"$f":"IFERROR($E427*SUMIF('[4]Daily Log'!$B$18:$B$1017,$B427,'[4]Daily Log'!$C$18:$C$1017),0)","v":0},{"$f":"IFERROR($E427*SUMIF('[4]Daily Log'!$E$18:$E$1017,$B427,'[4]Daily Log'!$F$18:$F$1017),0)","v":0},{"$f":"IFERROR($E427*SUMIF('[4]Daily Log'!$H$18:$H$1017,$B427,'[4]Daily Log'!$I$18:$I$1017),0)","v":0},{"$f":"IFERROR($E427*SUMIF('[4]Daily Log'!$K$18:$K$1017,$B427,'[4]Daily Log'!$L$18:$L$1017),0)","v":0},{"$f":"IFERROR($E427*SUMIF('[4]Daily Log'!$N$18:$N$1017,$B427,'[4]Daily Log'!$O$18:$O$1017),0)","v":0},{"$f":"IFERROR($E427*SUMIF('[4]Daily Log'!$Q$18:$Q$1017,$B427,'[4]Daily Log'!$R$18:$R$1017),0)","v":0},{"$f":"IFERROR($E427*SUMIF('[4]Daily Log'!$T$18:$T$1017,$B427,'[4]Daily Log'!$U$18:$U$1017),0)","v":0},{"$f":"IFERROR($E427*SUMIF('[4]Daily Log'!$W$18:$W$1017,$B427,'[4]Daily Log'!$X$18:$X$1017),0)","v":0},{"$f":"IFERROR($E427*SUMIF('[4]Daily Log'!$Z$18:$Z$1017,$B427,'[4]Daily Log'!$AA$18:$AA$1017),0)","v":0},{"$f":"IFERROR($E427*SUMIF('[4]Daily Log'!$AC$18:$AC$1017,$B427,'[4]Daily Log'!$AD$18:$AD$1017),0)","v":0},{"$f":"IFERROR($E427*SUMIF('[4]Daily Log'!$AF$18:$AF$1017,$B427,'[4]Daily Log'!$AG$18:$AG$1017),0)","v":0},{"$f":"IFERROR($E427*SUMIF('[4]Daily Log'!$AI$18:$AI$1017,$B427,'[4]Daily Log'!$AJ$18:$AJ$1017),0)","v":0},{"$f":"IFERROR($E427*SUMIF('[4]Daily Log'!$AL$18:$AL$1017,$B427,'[4]Daily Log'!$AM$18:$AM$1017),0)","v":0},{"$f":"IFERROR($E427*SUMIF('[4]Daily Log'!$AO$18:$AO$1017,$B427,'[4]Daily Log'!$AP$18:$AP$1017),0)","v":0},{"$f":"IFERROR($E427*SUMIF('[4]Daily Log'!$AR$18:$AR$1017,$B427,'[4]Daily Log'!$AS$18:$AS$1017),0)","v":0},{"$f":"IFERROR($E427*SUMIF('[4]Daily Log'!$AU$18:$AU$1017,$B427,'[4]Daily Log'!$AV$18:$AV$1017),0)","v":0},{"$f":"IFERROR($E427*SUMIF('[4]Daily Log'!$AX$18:$AX$1017,$B427,'[4]Daily Log'!$AY$18:$AY$1017),0)","v":0},{"$f":"IFERROR($E427*SUMIF('[4]Daily Log'!$BA$18:$BA$1017,$B427,'[4]Daily Log'!$BB$18:$BB$1017),0)","v":0},{"$f":"IFERROR($E427*SUMIF('[4]Daily Log'!$BD$18:$BD$1017,$B427,'[4]Daily Log'!$BE$18:$BE$1017),0)","v":0},{"$f":"IFERROR($E427*SUMIF('[4]Daily Log'!$BG$18:$BG$1017,$B427,'[4]Daily Log'!$BH$18:$BH$1017),0)","v":0},{"$f":"IFERROR($E427*SUMIF('[4]Daily Log'!$BJ$18:$BJ$1017,$B427,'[4]Daily Log'!$BK$18:$BK$1017),0)","v":0},{"$f":"IFERROR($E427*SUMIF('[4]Daily Log'!$BM$18:$BM$1017,$B427,'[4]Daily Log'!$BN$18:$BN$1017),0)","v":0},{"$f":"IFERROR($E427*SUMIF('[4]Daily Log'!$BP$18:$BP$1017,$B427,'[4]Daily Log'!$BQ$18:$BQ$1017),0)","v":0},{"$f":"IFERROR($E427*SUMIF('[4]Daily Log'!$BS$18:$BS$1017,$B427,'[4]Daily Log'!$BT$18:$BT$1017),0)","v":0},{"$f":"IFERROR($E427*SUMIF('[4]Daily Log'!$BV$18:$BV$1017,$B427,'[4]Daily Log'!$BW$18:$BW$1017),0)","v":0},{"$f":"IFERROR($E427*SUMIF('[4]Daily Log'!$BY$18:$BY$1017,$B427,'[4]Daily Log'!$BZ$18:$BZ$1017),0)","v":0},{"$f":"IFERROR($E427*SUMIF('[4]Daily Log'!$CB$18:$CB$1017,$B427,'[4]Daily Log'!$CC$18:$CC$1017),0)","v":0},{"$f":"IFERROR($E427*SUMIF('[4]Daily Log'!$CE$18:$CE$1017,$B427,'[4]Daily Log'!$CF$18:$CF$1017),0)","v":0},{"$f":"IFERROR($E427*SUMIF('[4]Daily Log'!$CH$18:$CH$1017,$B427,'[4]Daily Log'!$CI$18:$CI$1017),0)","v":0},{"$f":"IFERROR($E427*SUMIF('[4]Daily Log'!$CK$18:$CK$1017,$B427,'[4]Daily Log'!$CL$18:$CL$1017),0)","v":0},{"$f":"IFERROR($E427*SUMIF('[4]Daily Log'!$CN$18:$CN$1017,$B427,'[4]Daily Log'!$CO$18:$CO$1017),0)","v":0}]
[null,null,null,null,null,0,{"$f":"IFERROR($E428*SUMIF('[4]Daily Log'!$B$18:$B$1017,$B428,'[4]Daily Log'!$C$18:$C$1017),0)","v":0},{"$f":"IFERROR($E428*SUMIF('[4]Daily Log'!$E$18:$E$1017,$B428,'[4]Daily Log'!$F$18:$F$1017),0)","v":0},{"$f":"IFERROR($E428*SUMIF('[4]Daily Log'!$H$18:$H$1017,$B428,'[4]Daily Log'!$I$18:$I$1017),0)","v":0},{"$f":"IFERROR($E428*SUMIF('[4]Daily Log'!$K$18:$K$1017,$B428,'[4]Daily Log'!$L$18:$L$1017),0)","v":0},{"$f":"IFERROR($E428*SUMIF('[4]Daily Log'!$N$18:$N$1017,$B428,'[4]Daily Log'!$O$18:$O$1017),0)","v":0},{"$f":"IFERROR($E428*SUMIF('[4]Daily Log'!$Q$18:$Q$1017,$B428,'[4]Daily Log'!$R$18:$R$1017),0)","v":0},{"$f":"IFERROR($E428*SUMIF('[4]Daily Log'!$T$18:$T$1017,$B428,'[4]Daily Log'!$U$18:$U$1017),0)","v":0},{"$f":"IFERROR($E428*SUMIF('[4]Daily Log'!$W$18:$W$1017,$B428,'[4]Daily Log'!$X$18:$X$1017),0)","v":0},{"$f":"IFERROR($E428*SUMIF('[4]Daily Log'!$Z$18:$Z$1017,$B428,'[4]Daily Log'!$AA$18:$AA$1017),0)","v":0},{"$f":"IFERROR($E428*SUMIF('[4]Daily Log'!$AC$18:$AC$1017,$B428,'[4]Daily Log'!$AD$18:$AD$1017),0)","v":0},{"$f":"IFERROR($E428*SUMIF('[4]Daily Log'!$AF$18:$AF$1017,$B428,'[4]Daily Log'!$AG$18:$AG$1017),0)","v":0},{"$f":"IFERROR($E428*SUMIF('[4]Daily Log'!$AI$18:$AI$1017,$B428,'[4]Daily Log'!$AJ$18:$AJ$1017),0)","v":0},{"$f":"IFERROR($E428*SUMIF('[4]Daily Log'!$AL$18:$AL$1017,$B428,'[4]Daily Log'!$AM$18:$AM$1017),0)","v":0},{"$f":"IFERROR($E428*SUMIF('[4]Daily Log'!$AO$18:$AO$1017,$B428,'[4]Daily Log'!$AP$18:$AP$1017),0)","v":0},{"$f":"IFERROR($E428*SUMIF('[4]Daily Log'!$AR$18:$AR$1017,$B428,'[4]Daily Log'!$AS$18:$AS$1017),0)","v":0},{"$f":"IFERROR($E428*SUMIF('[4]Daily Log'!$AU$18:$AU$1017,$B428,'[4]Daily Log'!$AV$18:$AV$1017),0)","v":0},{"$f":"IFERROR($E428*SUMIF('[4]Daily Log'!$AX$18:$AX$1017,$B428,'[4]Daily Log'!$AY$18:$AY$1017),0)","v":0},{"$f":"IFERROR($E428*SUMIF('[4]Daily Log'!$BA$18:$BA$1017,$B428,'[4]Daily Log'!$BB$18:$BB$1017),0)","v":0},{"$f":"IFERROR($E428*SUMIF('[4]Daily Log'!$BD$18:$BD$1017,$B428,'[4]Daily Log'!$BE$18:$BE$1017),0)","v":0},{"$f":"IFERROR($E428*SUMIF('[4]Daily Log'!$BG$18:$BG$1017,$B428,'[4]Daily Log'!$BH$18:$BH$1017),0)","v":0},{"$f":"IFERROR($E428*SUMIF('[4]Daily Log'!$BJ$18:$BJ$1017,$B428,'[4]Daily Log'!$BK$18:$BK$1017),0)","v":0},{"$f":"IFERROR($E428*SUMIF('[4]Daily Log'!$BM$18:$BM$1017,$B428,'[4]Daily Log'!$BN$18:$BN$1017),0)","v":0},{"$f":"IFERROR($E428*SUMIF('[4]Daily Log'!$BP$18:$BP$1017,$B428,'[4]Daily Log'!$BQ$18:$BQ$1017),0)","v":0},{"$f":"IFERROR($E428*SUMIF('[4]Daily Log'!$BS$18:$BS$1017,$B428,'[4]Daily Log'!$BT$18:$BT$1017),0)","v":0},{"$f":"IFERROR($E428*SUMIF('[4]Daily Log'!$BV$18:$BV$1017,$B428,'[4]Daily Log'!$BW$18:$BW$1017),0)","v":0},{"$f":"IFERROR($E428*SUMIF('[4]Daily Log'!$BY$18:$BY$1017,$B428,'[4]Daily Log'!$BZ$18:$BZ$1017),0)","v":0},{"$f":"IFERROR($E428*SUMIF('[4]Daily Log'!$CB$18:$CB$1017,$B428,'[4]Daily Log'!$CC$18:$CC$1017),0)","v":0},{"$f":"IFERROR($E428*SUMIF('[4]Daily Log'!$CE$18:$CE$1017,$B428,'[4]Daily Log'!$CF$18:$CF$1017),0)","v":0},{"$f":"IFERROR($E428*SUMIF('[4]Daily Log'!$CH$18:$CH$1017,$B428,'[4]Daily Log'!$CI$18:$CI$1017),0)","v":0},{"$f":"IFERROR($E428*SUMIF('[4]Daily Log'!$CK$18:$CK$1017,$B428,'[4]Daily Log'!$CL$18:$CL$1017),0)","v":0},{"$f":"IFERROR($E428*SUMIF('[4]Daily Log'!$CN$18:$CN$1017,$B428,'[4]Daily Log'!$CO$18:$CO$1017),0)","v":0}]
[null,null,null,null,null,0,{"$f":"IFERROR($E429*SUMIF('[4]Daily Log'!$B$18:$B$1017,$B429,'[4]Daily Log'!$C$18:$C$1017),0)","v":0},{"$f":"IFERROR($E429*SUMIF('[4]Daily Log'!$E$18:$E$1017,$B429,'[4]Daily Log'!$F$18:$F$1017),0)","v":0},{"$f":"IFERROR($E429*SUMIF('[4]Daily Log'!$H$18:$H$1017,$B429,'[4]Daily Log'!$I$18:$I$1017),0)","v":0},{"$f":"IFERROR($E429*SUMIF('[4]Daily Log'!$K$18:$K$1017,$B429,'[4]Daily Log'!$L$18:$L$1017),0)","v":0},{"$f":"IFERROR($E429*SUMIF('[4]Daily Log'!$N$18:$N$1017,$B429,'[4]Daily Log'!$O$18:$O$1017),0)","v":0},{"$f":"IFERROR($E429*SUMIF('[4]Daily Log'!$Q$18:$Q$1017,$B429,'[4]Daily Log'!$R$18:$R$1017),0)","v":0},{"$f":"IFERROR($E429*SUMIF('[4]Daily Log'!$T$18:$T$1017,$B429,'[4]Daily Log'!$U$18:$U$1017),0)","v":0},{"$f":"IFERROR($E429*SUMIF('[4]Daily Log'!$W$18:$W$1017,$B429,'[4]Daily Log'!$X$18:$X$1017),0)","v":0},{"$f":"IFERROR($E429*SUMIF('[4]Daily Log'!$Z$18:$Z$1017,$B429,'[4]Daily Log'!$AA$18:$AA$1017),0)","v":0},{"$f":"IFERROR($E429*SUMIF('[4]Daily Log'!$AC$18:$AC$1017,$B429,'[4]Daily Log'!$AD$18:$AD$1017),0)","v":0},{"$f":"IFERROR($E429*SUMIF('[4]Daily Log'!$AF$18:$AF$1017,$B429,'[4]Daily Log'!$AG$18:$AG$1017),0)","v":0},{"$f":"IFERROR($E429*SUMIF('[4]Daily Log'!$AI$18:$AI$1017,$B429,'[4]Daily Log'!$AJ$18:$AJ$1017),0)","v":0},{"$f":"IFERROR($E429*SUMIF('[4]Daily Log'!$AL$18:$AL$1017,$B429,'[4]Daily Log'!$AM$18:$AM$1017),0)","v":0},{"$f":"IFERROR($E429*SUMIF('[4]Daily Log'!$AO$18:$AO$1017,$B429,'[4]Daily Log'!$AP$18:$AP$1017),0)","v":0},{"$f":"IFERROR($E429*SUMIF('[4]Daily Log'!$AR$18:$AR$1017,$B429,'[4]Daily Log'!$AS$18:$AS$1017),0)","v":0},{"$f":"IFERROR($E429*SUMIF('[4]Daily Log'!$AU$18:$AU$1017,$B429,'[4]Daily Log'!$AV$18:$AV$1017),0)","v":0},{"$f":"IFERROR($E429*SUMIF('[4]Daily Log'!$AX$18:$AX$1017,$B429,'[4]Daily Log'!$AY$18:$AY$1017),0)","v":0},{"$f":"IFERROR($E429*SUMIF('[4]Daily Log'!$BA$18:$BA$1017,$B429,'[4]Daily Log'!$BB$18:$BB$1017),0)","v":0},{"$f":"IFERROR($E429*SUMIF('[4]Daily Log'!$BD$18:$BD$1017,$B429,'[4]Daily Log'!$BE$18:$BE$1017),0)","v":0},{"$f":"IFERROR($E429*SUMIF('[4]Daily Log'!$BG$18:$BG$1017,$B429,'[4]Daily Log'!$BH$18:$BH$1017),0)","v":0},{"$f":"IFERROR($E429*SUMIF('[4]Daily Log'!$BJ$18:$BJ$1017,$B429,'[4]Daily Log'!$BK$18:$BK$1017),0)","v":0},{"$f":"IFERROR($E429*SUMIF('[4]Daily Log'!$BM$18:$BM$1017,$B429,'[4]Daily Log'!$BN$18:$BN$1017),0)","v":0},{"$f":"IFERROR($E429*SUMIF('[4]Daily Log'!$BP$18:$BP$1017,$B429,'[4]Daily Log'!$BQ$18:$BQ$1017),0)","v":0},{"$f":"IFERROR($E429*SUMIF('[4]Daily Log'!$BS$18:$BS$1017,$B429,'[4]Daily Log'!$BT$18:$BT$1017),0)","v":0},{"$f":"IFERROR($E429*SUMIF('[4]Daily Log'!$BV$18:$BV$1017,$B429,'[4]Daily Log'!$BW$18:$BW$1017),0)","v":0},{"$f":"IFERROR($E429*SUMIF('[4]Daily Log'!$BY$18:$BY$1017,$B429,'[4]Daily Log'!$BZ$18:$BZ$1017),0)","v":0},{"$f":"IFERROR($E429*SUMIF('[4]Daily Log'!$CB$18:$CB$1017,$B429,'[4]Daily Log'!$CC$18:$CC$1017),0)","v":0},{"$f":"IFERROR($E429*SUMIF('[4]Daily Log'!$CE$18:$CE$1017,$B429,'[4]Daily Log'!$CF$18:$CF$1017),0)","v":0},{"$f":"IFERROR($E429*SUMIF('[4]Daily Log'!$CH$18:$CH$1017,$B429,'[4]Daily Log'!$CI$18:$CI$1017),0)","v":0},{"$f":"IFERROR($E429*SUMIF('[4]Daily Log'!$CK$18:$CK$1017,$B429,'[4]Daily Log'!$CL$18:$CL$1017),0)","v":0},{"$f":"IFERROR($E429*SUMIF('[4]Daily Log'!$CN$18:$CN$1017,$B429,'[4]Daily Log'!$CO$18:$CO$1017),0)","v":0}]
[null,null,null,null,null,0,{"$f":"IFERROR($E430*SUMIF('[4]Daily Log'!$B$18:$B$1017,$B430,'[4]Daily Log'!$C$18:$C$1017),0)","v":0},{"$f":"IFERROR($E430*SUMIF('[4]Daily Log'!$E$18:$E$1017,$B430,'[4]Daily Log'!$F$18:$F$1017),0)","v":0},{"$f":"IFERROR($E430*SUMIF('[4]Daily Log'!$H$18:$H$1017,$B430,'[4]Daily Log'!$I$18:$I$1017),0)","v":0},{"$f":"IFERROR($E430*SUMIF('[4]Daily Log'!$K$18:$K$1017,$B430,'[4]Daily Log'!$L$18:$L$1017),0)","v":0},{"$f":"IFERROR($E430*SUMIF('[4]Daily Log'!$N$18:$N$1017,$B430,'[4]Daily Log'!$O$18:$O$1017),0)","v":0},{"$f":"IFERROR($E430*SUMIF('[4]Daily Log'!$Q$18:$Q$1017,$B430,'[4]Daily Log'!$R$18:$R$1017),0)","v":0},{"$f":"IFERROR($E430*SUMIF('[4]Daily Log'!$T$18:$T$1017,$B430,'[4]Daily Log'!$U$18:$U$1017),0)","v":0},{"$f":"IFERROR($E430*SUMIF('[4]Daily Log'!$W$18:$W$1017,$B430,'[4]Daily Log'!$X$18:$X$1017),0)","v":0},{"$f":"IFERROR($E430*SUMIF('[4]Daily Log'!$Z$18:$Z$1017,$B430,'[4]Daily Log'!$AA$18:$AA$1017),0)","v":0},{"$f":"IFERROR($E430*SUMIF('[4]Daily Log'!$AC$18:$AC$1017,$B430,'[4]Daily Log'!$AD$18:$AD$1017),0)","v":0},{"$f":"IFERROR($E430*SUMIF('[4]Daily Log'!$AF$18:$AF$1017,$B430,'[4]Daily Log'!$AG$18:$AG$1017),0)","v":0},{"$f":"IFERROR($E430*SUMIF('[4]Daily Log'!$AI$18:$AI$1017,$B430,'[4]Daily Log'!$AJ$18:$AJ$1017),0)","v":0},{"$f":"IFERROR($E430*SUMIF('[4]Daily Log'!$AL$18:$AL$1017,$B430,'[4]Daily Log'!$AM$18:$AM$1017),0)","v":0},{"$f":"IFERROR($E430*SUMIF('[4]Daily Log'!$AO$18:$AO$1017,$B430,'[4]Daily Log'!$AP$18:$AP$1017),0)","v":0},{"$f":"IFERROR($E430*SUMIF('[4]Daily Log'!$AR$18:$AR$1017,$B430,'[4]Daily Log'!$AS$18:$AS$1017),0)","v":0},{"$f":"IFERROR($E430*SUMIF('[4]Daily Log'!$AU$18:$AU$1017,$B430,'[4]Daily Log'!$AV$18:$AV$1017),0)","v":0},{"$f":"IFERROR($E430*SUMIF('[4]Daily Log'!$AX$18:$AX$1017,$B430,'[4]Daily Log'!$AY$18:$AY$1017),0)","v":0},{"$f":"IFERROR($E430*SUMIF('[4]Daily Log'!$BA$18:$BA$1017,$B430,'[4]Daily Log'!$BB$18:$BB$1017),0)","v":0},{"$f":"IFERROR($E430*SUMIF('[4]Daily Log'!$BD$18:$BD$1017,$B430,'[4]Daily Log'!$BE$18:$BE$1017),0)","v":0},{"$f":"IFERROR($E430*SUMIF('[4]Daily Log'!$BG$18:$BG$1017,$B430,'[4]Daily Log'!$BH$18:$BH$1017),0)","v":0},{"$f":"IFERROR($E430*SUMIF('[4]Daily Log'!$BJ$18:$BJ$1017,$B430,'[4]Daily Log'!$BK$18:$BK$1017),0)","v":0},{"$f":"IFERROR($E430*SUMIF('[4]Daily Log'!$BM$18:$BM$1017,$B430,'[4]Daily Log'!$BN$18:$BN$1017),0)","v":0},{"$f":"IFERROR($E430*SUMIF('[4]Daily Log'!$BP$18:$BP$1017,$B430,'[4]Daily Log'!$BQ$18:$BQ$1017),0)","v":0},{"$f":"IFERROR($E430*SUMIF('[4]Daily Log'!$BS$18:$BS$1017,$B430,'[4]Daily Log'!$BT$18:$BT$1017),0)","v":0},{"$f":"IFERROR($E430*SUMIF('[4]Daily Log'!$BV$18:$BV$1017,$B430,'[4]Daily Log'!$BW$18:$BW$1017),0)","v":0},{"$f":"IFERROR($E430*SUMIF('[4]Daily Log'!$BY$18:$BY$1017,$B430,'[4]Daily Log'!$BZ$18:$BZ$1017),0)","v":0},{"$f":"IFERROR($E430*SUMIF('[4]Daily Log'!$CB$18:$CB$1017,$B430,'[4]Daily Log'!$CC$18:$CC$1017),0)","v":0},{"$f":"IFERROR($E430*SUMIF('[4]Daily Log'!$CE$18:$CE$1017,$B430,'[4]Daily Log'!$CF$18:$CF$1017),0)","v":0},{"$f":"IFERROR($E430*SUMIF('[4]Daily Log'!$CH$18:$CH$1017,$B430,'[4]Daily Log'!$CI$18:$CI$1017),0)","v":0},{"$f":"IFERROR($E430*SUMIF('[4]Daily Log'!$CK$18:$CK$1017,$B430,'[4]Daily Log'!$CL$18:$CL$1017),0)","v":0},{"$f":"IFERROR($E430*SUMIF('[4]Daily Log'!$CN$18:$CN$1017,$B430,'[4]Daily Log'!$CO$18:$CO$1017),0)","v":0}]
[null,null,null,null,null,0,{"$f":"IFERROR($E431*SUMIF('[4]Daily Log'!$B$18:$B$1017,$B431,'[4]Daily Log'!$C$18:$C$1017),0)","v":0},{"$f":"IFERROR($E431*SUMIF('[4]Daily Log'!$E$18:$E$1017,$B431,'[4]Daily Log'!$F$18:$F$1017),0)","v":0},{"$f":"IFERROR($E431*SUMIF('[4]Daily Log'!$H$18:$H$1017,$B431,'[4]Daily Log'!$I$18:$I$1017),0)","v":0},{"$f":"IFERROR($E431*SUMIF('[4]Daily Log'!$K$18:$K$1017,$B431,'[4]Daily Log'!$L$18:$L$1017),0)","v":0},{"$f":"IFERROR($E431*SUMIF('[4]Daily Log'!$N$18:$N$1017,$B431,'[4]Daily Log'!$O$18:$O$1017),0)","v":0},{"$f":"IFERROR($E431*SUMIF('[4]Daily Log'!$Q$18:$Q$1017,$B431,'[4]Daily Log'!$R$18:$R$1017),0)","v":0},{"$f":"IFERROR($E431*SUMIF('[4]Daily Log'!$T$18:$T$1017,$B431,'[4]Daily Log'!$U$18:$U$1017),0)","v":0},{"$f":"IFERROR($E431*SUMIF('[4]Daily Log'!$W$18:$W$1017,$B431,'[4]Daily Log'!$X$18:$X$1017),0)","v":0},{"$f":"IFERROR($E431*SUMIF('[4]Daily Log'!$Z$18:$Z$1017,$B431,'[4]Daily Log'!$AA$18:$AA$1017),0)","v":0},{"$f":"IFERROR($E431*SUMIF('[4]Daily Log'!$AC$18:$AC$1017,$B431,'[4]Daily Log'!$AD$18:$AD$1017),0)","v":0},{"$f":"IFERROR($E431*SUMIF('[4]Daily Log'!$AF$18:$AF$1017,$B431,'[4]Daily Log'!$AG$18:$AG$1017),0)","v":0},{"$f":"IFERROR($E431*SUMIF('[4]Daily Log'!$AI$18:$AI$1017,$B431,'[4]Daily Log'!$AJ$18:$AJ$1017),0)","v":0},{"$f":"IFERROR($E431*SUMIF('[4]Daily Log'!$AL$18:$AL$1017,$B431,'[4]Daily Log'!$AM$18:$AM$1017),0)","v":0},{"$f":"IFERROR($E431*SUMIF('[4]Daily Log'!$AO$18:$AO$1017,$B431,'[4]Daily Log'!$AP$18:$AP$1017),0)","v":0},{"$f":"IFERROR($E431*SUMIF('[4]Daily Log'!$AR$18:$AR$1017,$B431,'[4]Daily Log'!$AS$18:$AS$1017),0)","v":0},{"$f":"IFERROR($E431*SUMIF('[4]Daily Log'!$AU$18:$AU$1017,$B431,'[4]Daily Log'!$AV$18:$AV$1017),0)","v":0},{"$f":"IFERROR($E431*SUMIF('[4]Daily Log'!$AX$18:$AX$1017,$B431,'[4]Daily Log'!$AY$18:$AY$1017),0)","v":0},{"$f":"IFERROR($E431*SUMIF('[4]Daily Log'!$BA$18:$BA$1017,$B431,'[4]Daily Log'!$BB$18:$BB$1017),0)","v":0},{"$f":"IFERROR($E431*SUMIF('[4]Daily Log'!$BD$18:$BD$1017,$B431,'[4]Daily Log'!$BE$18:$BE$1017),0)","v":0},{"$f":"IFERROR($E431*SUMIF('[4]Daily Log'!$BG$18:$BG$1017,$B431,'[4]Daily Log'!$BH$18:$BH$1017),0)","v":0},{"$f":"IFERROR($E431*SUMIF('[4]Daily Log'!$BJ$18:$BJ$1017,$B431,'[4]Daily Log'!$BK$18:$BK$1017),0)","v":0},{"$f":"IFERROR($E431*SUMIF('[4]Daily Log'!$BM$18:$BM$1017,$B431,'[4]Daily Log'!$BN$18:$BN$1017),0)","v":0},{"$f":"IFERROR($E431*SUMIF('[4]Daily Log'!$BP$18:$BP$1017,$B431,'[4]Daily Log'!$BQ$18:$BQ$1017),0)","v":0},{"$f":"IFERROR($E431*SUMIF('[4]Daily Log'!$BS$18:$BS$1017,$B431,'[4]Daily Log'!$BT$18:$BT$1017),0)","v":0},{"$f":"IFERROR($E431*SUMIF('[4]Daily Log'!$BV$18:$BV$1017,$B431,'[4]Daily Log'!$BW$18:$BW$1017),0)","v":0},{"$f":"IFERROR($E431*SUMIF('[4]Daily Log'!$BY$18:$BY$1017,$B431,'[4]Daily Log'!$BZ$18:$BZ$1017),0)","v":0},{"$f":"IFERROR($E431*SUMIF('[4]Daily Log'!$CB$18:$CB$1017,$B431,'[4]Daily Log'!$CC$18:$CC$1017),0)","v":0},{"$f":"IFERROR($E431*SUMIF('[4]Daily Log'!$CE$18:$CE$1017,$B431,'[4]Daily Log'!$CF$18:$CF$1017),0)","v":0},{"$f":"IFERROR($E431*SUMIF('[4]Daily Log'!$CH$18:$CH$1017,$B431,'[4]Daily Log'!$CI$18:$CI$1017),0)","v":0},{"$f":"IFERROR($E431*SUMIF('[4]Daily Log'!$CK$18:$CK$1017,$B431,'[4]Daily Log'!$CL$18:$CL$1017),0)","v":0},{"$f":"IFERROR($E431*SUMIF('[4]Daily Log'!$CN$18:$CN$1017,$B431,'[4]Daily Log'!$CO$18:$CO$1017),0)","v":0}]
[null,null,null,null,null,0,{"$f":"IFERROR($E432*SUMIF('[4]Daily Log'!$B$18:$B$1017,$B432,'[4]Daily Log'!$C$18:$C$1017),0)","v":0},{"$f":"IFERROR($E432*SUMIF('[4]Daily Log'!$E$18:$E$1017,$B432,'[4]Daily Log'!$F$18:$F$1017),0)","v":0},{"$f":"IFERROR($E432*SUMIF('[4]Daily Log'!$H$18:$H$1017,$B432,'[4]Daily Log'!$I$18:$I$1017),0)","v":0},{"$f":"IFERROR($E432*SUMIF('[4]Daily Log'!$K$18:$K$1017,$B432,'[4]Daily Log'!$L$18:$L$1017),0)","v":0},{"$f":"IFERROR($E432*SUMIF('[4]Daily Log'!$N$18:$N$1017,$B432,'[4]Daily Log'!$O$18:$O$1017),0)","v":0},{"$f":"IFERROR($E432*SUMIF('[4]Daily Log'!$Q$18:$Q$1017,$B432,'[4]Daily Log'!$R$18:$R$1017),0)","v":0},{"$f":"IFERROR($E432*SUMIF('[4]Daily Log'!$T$18:$T$1017,$B432,'[4]Daily Log'!$U$18:$U$1017),0)","v":0},{"$f":"IFERROR($E432*SUMIF('[4]Daily Log'!$W$18:$W$1017,$B432,'[4]Daily Log'!$X$18:$X$1017),0)","v":0},{"$f":"IFERROR($E432*SUMIF('[4]Daily Log'!$Z$18:$Z$1017,$B432,'[4]Daily Log'!$AA$18:$AA$1017),0)","v":0},{"$f":"IFERROR($E432*SUMIF('[4]Daily Log'!$AC$18:$AC$1017,$B432,'[4]Daily Log'!$AD$18:$AD$1017),0)","v":0},{"$f":"IFERROR($E432*SUMIF('[4]Daily Log'!$AF$18:$AF$1017,$B432,'[4]Daily Log'!$AG$18:$AG$1017),0)","v":0},{"$f":"IFERROR($E432*SUMIF('[4]Daily Log'!$AI$18:$AI$1017,$B432,'[4]Daily Log'!$AJ$18:$AJ$1017),0)","v":0},{"$f":"IFERROR($E432*SUMIF('[4]Daily Log'!$AL$18:$AL$1017,$B432,'[4]Daily Log'!$AM$18:$AM$1017),0)","v":0},{"$f":"IFERROR($E432*SUMIF('[4]Daily Log'!$AO$18:$AO$1017,$B432,'[4]Daily Log'!$AP$18:$AP$1017),0)","v":0},{"$f":"IFERROR($E432*SUMIF('[4]Daily Log'!$AR$18:$AR$1017,$B432,'[4]Daily Log'!$AS$18:$AS$1017),0)","v":0},{"$f":"IFERROR($E432*SUMIF('[4]Daily Log'!$AU$18:$AU$1017,$B432,'[4]Daily Log'!$AV$18:$AV$1017),0)","v":0},{"$f":"IFERROR($E432*SUMIF('[4]Daily Log'!$AX$18:$AX$1017,$B432,'[4]Daily Log'!$AY$18:$AY$1017),0)","v":0},{"$f":"IFERROR($E432*SUMIF('[4]Daily Log'!$BA$18:$BA$1017,$B432,'[4]Daily Log'!$BB$18:$BB$1017),0)","v":0},{"$f":"IFERROR($E432*SUMIF('[4]Daily Log'!$BD$18:$BD$1017,$B432,'[4]Daily Log'!$BE$18:$BE$1017),0)","v":0},{"$f":"IFERROR($E432*SUMIF('[4]Daily Log'!$BG$18:$BG$1017,$B432,'[4]Daily Log'!$BH$18:$BH$1017),0)","v":0},{"$f":"IFERROR($E432*SUMIF('[4]Daily Log'!$BJ$18:$BJ$1017,$B432,'[4]Daily Log'!$BK$18:$BK$1017),0)","v":0},{"$f":"IFERROR($E432*SUMIF('[4]Daily Log'!$BM$18:$BM$1017,$B432,'[4]Daily Log'!$BN$18:$BN$1017),0)","v":0},{"$f":"IFERROR($E432*SUMIF('[4]Daily Log'!$BP$18:$BP$1017,$B432,'[4]Daily Log'!$BQ$18:$BQ$1017),0)","v":0},{"$f":"IFERROR($E432*SUMIF('[4]Daily Log'!$BS$18:$BS$1017,$B432,'[4]Daily Log'!$BT$18:$BT$1017),0)","v":0},{"$f":"IFERROR($E432*SUMIF('[4]Daily Log'!$BV$18:$BV$1017,$B432,'[4]Daily Log'!$BW$18:$BW$1017),0)","v":0},{"$f":"IFERROR($E432*SUMIF('[4]Daily Log'!$BY$18:$BY$1017,$B432,'[4]Daily Log'!$BZ$18:$BZ$1017),0)","v":0},{"$f":"IFERROR($E432*SUMIF('[4]Daily Log'!$CB$18:$CB$1017,$B432,'[4]Daily Log'!$CC$18:$CC$1017),0)","v":0},{"$f":"IFERROR($E432*SUMIF('[4]Daily Log'!$CE$18:$CE$1017,$B432,'[4]Daily Log'!$CF$18:$CF$1017),0)","v":0},{"$f":"IFERROR($E432*SUMIF('[4]Daily Log'!$CH$18:$CH$1017,$B432,'[4]Daily Log'!$CI$18:$CI$1017),0)","v":0},{"$f":"IFERROR($E432*SUMIF('[4]Daily Log'!$CK$18:$CK$1017,$B432,'[4]Daily Log'!$CL$18:$CL$1017),0)","v":0},{"$f":"IFERROR($E432*SUMIF('[4]Daily Log'!$CN$18:$CN$1017,$B432,'[4]Daily Log'!$CO$18:$CO$1017),0)","v":0}]
[null,null,null,null,null,0,{"$f":"IFERROR($E433*SUMIF('[4]Daily Log'!$B$18:$B$1017,$B433,'[4]Daily Log'!$C$18:$C$1017),0)","v":0},{"$f":"IFERROR($E433*SUMIF('[4]Daily Log'!$E$18:$E$1017,$B433,'[4]Daily Log'!$F$18:$F$1017),0)","v":0},{"$f":"IFERROR($E433*SUMIF('[4]Daily Log'!$H$18:$H$1017,$B433,'[4]Daily Log'!$I$18:$I$1017),0)","v":0},{"$f":"IFERROR($E433*SUMIF('[4]Daily Log'!$K$18:$K$1017,$B433,'[4]Daily Log'!$L$18:$L$1017),0)","v":0},{"$f":"IFERROR($E433*SUMIF('[4]Daily Log'!$N$18:$N$1017,$B433,'[4]Daily Log'!$O$18:$O$1017),0)","v":0},{"$f":"IFERROR($E433*SUMIF('[4]Daily Log'!$Q$18:$Q$1017,$B433,'[4]Daily Log'!$R$18:$R$1017),0)","v":0},{"$f":"IFERROR($E433*SUMIF('[4]Daily Log'!$T$18:$T$1017,$B433,'[4]Daily Log'!$U$18:$U$1017),0)","v":0},{"$f":"IFERROR($E433*SUMIF('[4]Daily Log'!$W$18:$W$1017,$B433,'[4]Daily Log'!$X$18:$X$1017),0)","v":0},{"$f":"IFERROR($E433*SUMIF('[4]Daily Log'!$Z$18:$Z$1017,$B433,'[4]Daily Log'!$AA$18:$AA$1017),0)","v":0},{"$f":"IFERROR($E433*SUMIF('[4]Daily Log'!$AC$18:$AC$1017,$B433,'[4]Daily Log'!$AD$18:$AD$1017),0)","v":0},{"$f":"IFERROR($E433*SUMIF('[4]Daily Log'!$AF$18:$AF$1017,$B433,'[4]Daily Log'!$AG$18:$AG$1017),0)","v":0},{"$f":"IFERROR($E433*SUMIF('[4]Daily Log'!$AI$18:$AI$1017,$B433,'[4]Daily Log'!$AJ$18:$AJ$1017),0)","v":0},{"$f":"IFERROR($E433*SUMIF('[4]Daily Log'!$AL$18:$AL$1017,$B433,'[4]Daily Log'!$AM$18:$AM$1017),0)","v":0},{"$f":"IFERROR($E433*SUMIF('[4]Daily Log'!$AO$18:$AO$1017,$B433,'[4]Daily Log'!$AP$18:$AP$1017),0)","v":0},{"$f":"IFERROR($E433*SUMIF('[4]Daily Log'!$AR$18:$AR$1017,$B433,'[4]Daily Log'!$AS$18:$AS$1017),0)","v":0},{"$f":"IFERROR($E433*SUMIF('[4]Daily Log'!$AU$18:$AU$1017,$B433,'[4]Daily Log'!$AV$18:$AV$1017),0)","v":0},{"$f":"IFERROR($E433*SUMIF('[4]Daily Log'!$AX$18:$AX$1017,$B433,'[4]Daily Log'!$AY$18:$AY$1017),0)","v":0},{"$f":"IFERROR($E433*SUMIF('[4]Daily Log'!$BA$18:$BA$1017,$B433,'[4]Daily Log'!$BB$18:$BB$1017),0)","v":0},{"$f":"IFERROR($E433*SUMIF('[4]Daily Log'!$BD$18:$BD$1017,$B433,'[4]Daily Log'!$BE$18:$BE$1017),0)","v":0},{"$f":"IFERROR($E433*SUMIF('[4]Daily Log'!$BG$18:$BG$1017,$B433,'[4]Daily Log'!$BH$18:$BH$1017),0)","v":0},{"$f":"IFERROR($E433*SUMIF('[4]Daily Log'!$BJ$18:$BJ$1017,$B433,'[4]Daily Log'!$BK$18:$BK$1017),0)","v":0},{"$f":"IFERROR($E433*SUMIF('[4]Daily Log'!$BM$18:$BM$1017,$B433,'[4]Daily Log'!$BN$18:$BN$1017),0)","v":0},{"$f":"IFERROR($E433*SUMIF('[4]Daily Log'!$BP$18:$BP$1017,$B433,'[4]Daily Log'!$BQ$18:$BQ$1017),0)","v":0},{"$f":"IFERROR($E433*SUMIF('[4]Daily Log'!$BS$18:$BS$1017,$B433,'[4]Daily Log'!$BT$18:$BT$1017),0)","v":0},{"$f":"IFERROR($E433*SUMIF('[4]Daily Log'!$BV$18:$BV$1017,$B433,'[4]Daily Log'!$BW$18:$BW$1017),0)","v":0},{"$f":"IFERROR($E433*SUMIF('[4]Daily Log'!$BY$18:$BY$1017,$B433,'[4]Daily Log'!$BZ$18:$BZ$1017),0)","v":0},{"$f":"IFERROR($E433*SUMIF('[4]Daily Log'!$CB$18:$CB$1017,$B433,'[4]Daily Log'!$CC$18:$CC$1017),0)","v":0},{"$f":"IFERROR($E433*SUMIF('[4]Daily Log'!$CE$18:$CE$1017,$B433,'[4]Daily Log'!$CF$18:$CF$1017),0)","v":0},{"$f":"IFERROR($E433*SUMIF('[4]Daily Log'!$CH$18:$CH$1017,$B433,'[4]Daily Log'!$CI$18:$CI$1017),0)","v":0},{"$f":"IFERROR($E433*SUMIF('[4]Daily Log'!$CK$18:$CK$1017,$B433,'[4]Daily Log'!$CL$18:$CL$1017),0)","v":0},{"$f":"IFERROR($E433*SUMIF('[4]Daily Log'!$CN$18:$CN$1017,$B433,'[4]Daily Log'!$CO$18:$CO$1017),0)","v":0}]
[null,null,null,null,null,0,{"$f":"IFERROR($E434*SUMIF('[4]Daily Log'!$B$18:$B$1017,$B434,'[4]Daily Log'!$C$18:$C$1017),0)","v":0},{"$f":"IFERROR($E434*SUMIF('[4]Daily Log'!$E$18:$E$1017,$B434,'[4]Daily Log'!$F$18:$F$1017),0)","v":0},{"$f":"IFERROR($E434*SUMIF('[4]Daily Log'!$H$18:$H$1017,$B434,'[4]Daily Log'!$I$18:$I$1017),0)","v":0},{"$f":"IFERROR($E434*SUMIF('[4]Daily Log'!$K$18:$K$1017,$B434,'[4]Daily Log'!$L$18:$L$1017),0)","v":0},{"$f":"IFERROR($E434*SUMIF('[4]Daily Log'!$N$18:$N$1017,$B434,'[4]Daily Log'!$O$18:$O$1017),0)","v":0},{"$f":"IFERROR($E434*SUMIF('[4]Daily Log'!$Q$18:$Q$1017,$B434,'[4]Daily Log'!$R$18:$R$1017),0)","v":0},{"$f":"IFERROR($E434*SUMIF('[4]Daily Log'!$T$18:$T$1017,$B434,'[4]Daily Log'!$U$18:$U$1017),0)","v":0},{"$f":"IFERROR($E434*SUMIF('[4]Daily Log'!$W$18:$W$1017,$B434,'[4]Daily Log'!$X$18:$X$1017),0)","v":0},{"$f":"IFERROR($E434*SUMIF('[4]Daily Log'!$Z$18:$Z$1017,$B434,'[4]Daily Log'!$AA$18:$AA$1017),0)","v":0},{"$f":"IFERROR($E434*SUMIF('[4]Daily Log'!$AC$18:$AC$1017,$B434,'[4]Daily Log'!$AD$18:$AD$1017),0)","v":0},{"$f":"IFERROR($E434*SUMIF('[4]Daily Log'!$AF$18:$AF$1017,$B434,'[4]Daily Log'!$AG$18:$AG$1017),0)","v":0},{"$f":"IFERROR($E434*SUMIF('[4]Daily Log'!$AI$18:$AI$1017,$B434,'[4]Daily Log'!$AJ$18:$AJ$1017),0)","v":0},{"$f":"IFERROR($E434*SUMIF('[4]Daily Log'!$AL$18:$AL$1017,$B434,'[4]Daily Log'!$AM$18:$AM$1017),0)","v":0},{"$f":"IFERROR($E434*SUMIF('[4]Daily Log'!$AO$18:$AO$1017,$B434,'[4]Daily Log'!$AP$18:$AP$1017),0)","v":0},{"$f":"IFERROR($E434*SUMIF('[4]Daily Log'!$AR$18:$AR$1017,$B434,'[4]Daily Log'!$AS$18:$AS$1017),0)","v":0},{"$f":"IFERROR($E434*SUMIF('[4]Daily Log'!$AU$18:$AU$1017,$B434,'[4]Daily Log'!$AV$18:$AV$1017),0)","v":0},{"$f":"IFERROR($E434*SUMIF('[4]Daily Log'!$AX$18:$AX$1017,$B434,'[4]Daily Log'!$AY$18:$AY$1017),0)","v":0},{"$f":"IFERROR($E434*SUMIF('[4]Daily Log'!$BA$18:$BA$1017,$B434,'[4]Daily Log'!$BB$18:$BB$1017),0)","v":0},{"$f":"IFERROR($E434*SUMIF('[4]Daily Log'!$BD$18:$BD$1017,$B434,'[4]Daily Log'!$BE$18:$BE$1017),0)","v":0},{"$f":"IFERROR($E434*SUMIF('[4]Daily Log'!$BG$18:$BG$1017,$B434,'[4]Daily Log'!$BH$18:$BH$1017),0)","v":0},{"$f":"IFERROR($E434*SUMIF('[4]Daily Log'!$BJ$18:$BJ$1017,$B434,'[4]Daily Log'!$BK$18:$BK$1017),0)","v":0},{"$f":"IFERROR($E434*SUMIF('[4]Daily Log'!$BM$18:$BM$1017,$B434,'[4]Daily Log'!$BN$18:$BN$1017),0)","v":0},{"$f":"IFERROR($E434*SUMIF('[4]Daily Log'!$BP$18:$BP$1017,$B434,'[4]Daily Log'!$BQ$18:$BQ$1017),0)","v":0},{"$f":"IFERROR($E434*SUMIF('[4]Daily Log'!$BS$18:$BS$1017,$B434,'[4]Daily Log'!$BT$18:$BT$1017),0)","v":0},{"$f":"IFERROR($E434*SUMIF('[4]Daily Log'!$BV$18:$BV$1017,$B434,'[4]Daily Log'!$BW$18:$BW$1017),0)","v":0},{"$f":"IFERROR($E434*SUMIF('[4]Daily Log'!$BY$18:$BY$1017,$B434,'[4]Daily Log'!$BZ$18:$BZ$1017),0)","v":0},{"$f":"IFERROR($E434*SUMIF('[4]Daily Log'!$CB$18:$CB$1017,$B434,'[4]Daily Log'!$CC$18:$CC$1017),0)","v":0},{"$f":"IFERROR($E434*SUMIF('[4]Daily Log'!$CE$18:$CE$1017,$B434,'[4]Daily Log'!$CF$18:$CF$1017),0)","v":0},{"$f":"IFERROR($E434*SUMIF('[4]Daily Log'!$CH$18:$CH$1017,$B434,'[4]Daily Log'!$CI$18:$CI$1017),0)","v":0},{"$f":"IFERROR($E434*SUMIF('[4]Daily Log'!$CK$18:$CK$1017,$B434,'[4]Daily Log'!$CL$18:$CL$1017),0)","v":0},{"$f":"IFERROR($E434*SUMIF('[4]Daily Log'!$CN$18:$CN$1017,$B434,'[4]Daily Log'!$CO$18:$CO$1017),0)","v":0}]
[null,null,null,null,null,0,{"$f":"IFERROR($E435*SUMIF('[4]Daily Log'!$B$18:$B$1017,$B435,'[4]Daily Log'!$C$18:$C$1017),0)","v":0},{"$f":"IFERROR($E435*SUMIF('[4]Daily Log'!$E$18:$E$1017,$B435,'[4]Daily Log'!$F$18:$F$1017),0)","v":0},{"$f":"IFERROR($E435*SUMIF('[4]Daily Log'!$H$18:$H$1017,$B435,'[4]Daily Log'!$I$18:$I$1017),0)","v":0},{"$f":"IFERROR($E435*SUMIF('[4]Daily Log'!$K$18:$K$1017,$B435,'[4]Daily Log'!$L$18:$L$1017),0)","v":0},{"$f":"IFERROR($E435*SUMIF('[4]Daily Log'!$N$18:$N$1017,$B435,'[4]Daily Log'!$O$18:$O$1017),0)","v":0},{"$f":"IFERROR($E435*SUMIF('[4]Daily Log'!$Q$18:$Q$1017,$B435,'[4]Daily Log'!$R$18:$R$1017),0)","v":0},{"$f":"IFERROR($E435*SUMIF('[4]Daily Log'!$T$18:$T$1017,$B435,'[4]Daily Log'!$U$18:$U$1017),0)","v":0},{"$f":"IFERROR($E435*SUMIF('[4]Daily Log'!$W$18:$W$1017,$B435,'[4]Daily Log'!$X$18:$X$1017),0)","v":0},{"$f":"IFERROR($E435*SUMIF('[4]Daily Log'!$Z$18:$Z$1017,$B435,'[4]Daily Log'!$AA$18:$AA$1017),0)","v":0},{"$f":"IFERROR($E435*SUMIF('[4]Daily Log'!$AC$18:$AC$1017,$B435,'[4]Daily Log'!$AD$18:$AD$1017),0)","v":0},{"$f":"IFERROR($E435*SUMIF('[4]Daily Log'!$AF$18:$AF$1017,$B435,'[4]Daily Log'!$AG$18:$AG$1017),0)","v":0},{"$f":"IFERROR($E435*SUMIF('[4]Daily Log'!$AI$18:$AI$1017,$B435,'[4]Daily Log'!$AJ$18:$AJ$1017),0)","v":0},{"$f":"IFERROR($E435*SUMIF('[4]Daily Log'!$AL$18:$AL$1017,$B435,'[4]Daily Log'!$AM$18:$AM$1017),0)","v":0},{"$f":"IFERROR($E435*SUMIF('[4]Daily Log'!$AO$18:$AO$1017,$B435,'[4]Daily Log'!$AP$18:$AP$1017),0)","v":0},{"$f":"IFERROR($E435*SUMIF('[4]Daily Log'!$AR$18:$AR$1017,$B435,'[4]Daily Log'!$AS$18:$AS$1017),0)","v":0},{"$f":"IFERROR($E435*SUMIF('[4]Daily Log'!$AU$18:$AU$1017,$B435,'[4]Daily Log'!$AV$18:$AV$1017),0)","v":0},{"$f":"IFERROR($E435*SUMIF('[4]Daily Log'!$AX$18:$AX$1017,$B435,'[4]Daily Log'!$AY$18:$AY$1017),0)","v":0},{"$f":"IFERROR($E435*SUMIF('[4]Daily Log'!$BA$18:$BA$1017,$B435,'[4]Daily Log'!$BB$18:$BB$1017),0)","v":0},{"$f":"IFERROR($E435*SUMIF('[4]Daily Log'!$BD$18:$BD$1017,$B435,'[4]Daily Log'!$BE$18:$BE$1017),0)","v":0},{"$f":"IFERROR($E435*SUMIF('[4]Daily Log'!$BG$18:$BG$1017,$B435,'[4]Daily Log'!$BH$18:$BH$1017),0)","v":0},{"$f":"IFERROR($E435*SUMIF('[4]Daily Log'!$BJ$18:$BJ$1017,$B435,'[4]Daily Log'!$BK$18:$BK$1017),0)","v":0},{"$f":"IFERROR($E435*SUMIF('[4]Daily Log'!$BM$18:$BM$1017,$B435,'[4]Daily Log'!$BN$18:$BN$1017),0)","v":0},{"$f":"IFERROR($E435*SUMIF('[4]Daily Log'!$BP$18:$BP$1017,$B435,'[4]Daily Log'!$BQ$18:$BQ$1017),0)","v":0},{"$f":"IFERROR($E435*SUMIF('[4]Daily Log'!$BS$18:$BS$1017,$B435,'[4]Daily Log'!$BT$18:$BT$1017),0)","v":0},{"$f":"IFERROR($E435*SUMIF('[4]Daily Log'!$BV$18:$BV$1017,$B435,'[4]Daily Log'!$BW$18:$BW$1017),0)","v":0},{"$f":"IFERROR($E435*SUMIF('[4]Daily Log'!$BY$18:$BY$1017,$B435,'[4]Daily Log'!$BZ$18:$BZ$1017),0)","v":0},{"$f":"IFERROR($E435*SUMIF('[4]Daily Log'!$CB$18:$CB$1017,$B435,'[4]Daily Log'!$CC$18:$CC$1017),0)","v":0},{"$f":"IFERROR($E435*SUMIF('[4]Daily Log'!$CE$18:$CE$1017,$B435,'[4]Daily Log'!$CF$18:$CF$1017),0)","v":0},{"$f":"IFERROR($E435*SUMIF('[4]Daily Log'!$CH$18:$CH$1017,$B435,'[4]Daily Log'!$CI$18:$CI$1017),0)","v":0},{"$f":"IFERROR($E435*SUMIF('[4]Daily Log'!$CK$18:$CK$1017,$B435,'[4]Daily Log'!$CL$18:$CL$1017),0)","v":0},{"$f":"IFERROR($E435*SUMIF('[4]Daily Log'!$CN$18:$CN$1017,$B435,'[4]Daily Log'!$CO$18:$CO$1017),0)","v":0}]
[null,null,null,null,null,0,{"$f":"IFERROR($E436*SUMIF('[4]Daily Log'!$B$18:$B$1017,$B436,'[4]Daily Log'!$C$18:$C$1017),0)","v":0},{"$f":"IFERROR($E436*SUMIF('[4]Daily Log'!$E$18:$E$1017,$B436,'[4]Daily Log'!$F$18:$F$1017),0)","v":0},{"$f":"IFERROR($E436*SUMIF('[4]Daily Log'!$H$18:$H$1017,$B436,'[4]Daily Log'!$I$18:$I$1017),0)","v":0},{"$f":"IFERROR($E436*SUMIF('[4]Daily Log'!$K$18:$K$1017,$B436,'[4]Daily Log'!$L$18:$L$1017),0)","v":0},{"$f":"IFERROR($E436*SUMIF('[4]Daily Log'!$N$18:$N$1017,$B436,'[4]Daily Log'!$O$18:$O$1017),0)","v":0},{"$f":"IFERROR($E436*SUMIF('[4]Daily Log'!$Q$18:$Q$1017,$B436,'[4]Daily Log'!$R$18:$R$1017),0)","v":0},{"$f":"IFERROR($E436*SUMIF('[4]Daily Log'!$T$18:$T$1017,$B436,'[4]Daily Log'!$U$18:$U$1017),0)","v":0},{"$f":"IFERROR($E436*SUMIF('[4]Daily Log'!$W$18:$W$1017,$B436,'[4]Daily Log'!$X$18:$X$1017),0)","v":0},{"$f":"IFERROR($E436*SUMIF('[4]Daily Log'!$Z$18:$Z$1017,$B436,'[4]Daily Log'!$AA$18:$AA$1017),0)","v":0},{"$f":"IFERROR($E436*SUMIF('[4]Daily Log'!$AC$18:$AC$1017,$B436,'[4]Daily Log'!$AD$18:$AD$1017),0)","v":0},{"$f":"IFERROR($E436*SUMIF('[4]Daily Log'!$AF$18:$AF$1017,$B436,'[4]Daily Log'!$AG$18:$AG$1017),0)","v":0},{"$f":"IFERROR($E436*SUMIF('[4]Daily Log'!$AI$18:$AI$1017,$B436,'[4]Daily Log'!$AJ$18:$AJ$1017),0)","v":0},{"$f":"IFERROR($E436*SUMIF('[4]Daily Log'!$AL$18:$AL$1017,$B436,'[4]Daily Log'!$AM$18:$AM$1017),0)","v":0},{"$f":"IFERROR($E436*SUMIF('[4]Daily Log'!$AO$18:$AO$1017,$B436,'[4]Daily Log'!$AP$18:$AP$1017),0)","v":0},{"$f":"IFERROR($E436*SUMIF('[4]Daily Log'!$AR$18:$AR$1017,$B436,'[4]Daily Log'!$AS$18:$AS$1017),0)","v":0},{"$f":"IFERROR($E436*SUMIF('[4]Daily Log'!$AU$18:$AU$1017,$B436,'[4]Daily Log'!$AV$18:$AV$1017),0)","v":0},{"$f":"IFERROR($E436*SUMIF('[4]Daily Log'!$AX$18:$AX$1017,$B436,'[4]Daily Log'!$AY$18:$AY$1017),0)","v":0},{"$f":"IFERROR($E436*SUMIF('[4]Daily Log'!$BA$18:$BA$1017,$B436,'[4]Daily Log'!$BB$18:$BB$1017),0)","v":0},{"$f":"IFERROR($E436*SUMIF('[4]Daily Log'!$BD$18:$BD$1017,$B436,'[4]Daily Log'!$BE$18:$BE$1017),0)","v":0},{"$f":"IFERROR($E436*SUMIF('[4]Daily Log'!$BG$18:$BG$1017,$B436,'[4]Daily Log'!$BH$18:$BH$1017),0)","v":0},{"$f":"IFERROR($E436*SUMIF('[4]Daily Log'!$BJ$18:$BJ$1017,$B436,'[4]Daily Log'!$BK$18:$BK$1017),0)","v":0},{"$f":"IFERROR($E436*SUMIF('[4]Daily Log'!$BM$18:$BM$1017,$B436,'[4]Daily Log'!$BN$18:$BN$1017),0)","v":0},{"$f":"IFERROR($E436*SUMIF('[4]Daily Log'!$BP$18:$BP$1017,$B436,'[4]Daily Log'!$BQ$18:$BQ$1017),0)","v":0},{"$f":"IFERROR($E436*SUMIF('[4]Daily Log'!$BS$18:$BS$1017,$B436,'[4]Daily Log'!$BT$18:$BT$1017),0)","v":0},{"$f":"IFERROR($E436*SUMIF('[4]Daily Log'!$BV$18:$BV$1017,$B436,'[4]Daily Log'!$BW$18:$BW$1017),0)","v":0},{"$f":"IFERROR($E436*SUMIF('[4]Daily Log'!$BY$18:$BY$1017,$B436,'[4]Daily Log'!$BZ$18:$BZ$1017),0)","v":0},{"$f":"IFERROR($E436*SUMIF('[4]Daily Log'!$CB$18:$CB$1017,$B436,'[4]Daily Log'!$CC$18:$CC$1017),0)","v":0},{"$f":"IFERROR($E436*SUMIF('[4]Daily Log'!$CE$18:$CE$1017,$B436,'[4]Daily Log'!$CF$18:$CF$1017),0)","v":0},{"$f":"IFERROR($E436*SUMIF('[4]Daily Log'!$CH$18:$CH$1017,$B436,'[4]Daily Log'!$CI$18:$CI$1017),0)","v":0},{"$f":"IFERROR($E436*SUMIF('[4]Daily Log'!$CK$18:$CK$1017,$B436,'[4]Daily Log'!$CL$18:$CL$1017),0)","v":0},{"$f":"IFERROR($E436*SUMIF('[4]Daily Log'!$CN$18:$CN$1017,$B436,'[4]Daily Log'!$CO$18:$CO$1017),0)","v":0}]
[null,null,null,null,null,0,{"$f":"IFERROR($E437*SUMIF('[4]Daily Log'!$B$18:$B$1017,$B437,'[4]Daily Log'!$C$18:$C$1017),0)","v":0},{"$f":"IFERROR($E437*SUMIF('[4]Daily Log'!$E$18:$E$1017,$B437,'[4]Daily Log'!$F$18:$F$1017),0)","v":0},{"$f":"IFERROR($E437*SUMIF('[4]Daily Log'!$H$18:$H$1017,$B437,'[4]Daily Log'!$I$18:$I$1017),0)","v":0},{"$f":"IFERROR($E437*SUMIF('[4]Daily Log'!$K$18:$K$1017,$B437,'[4]Daily Log'!$L$18:$L$1017),0)","v":0},{"$f":"IFERROR($E437*SUMIF('[4]Daily Log'!$N$18:$N$1017,$B437,'[4]Daily Log'!$O$18:$O$1017),0)","v":0},{"$f":"IFERROR($E437*SUMIF('[4]Daily Log'!$Q$18:$Q$1017,$B437,'[4]Daily Log'!$R$18:$R$1017),0)","v":0},{"$f":"IFERROR($E437*SUMIF('[4]Daily Log'!$T$18:$T$1017,$B437,'[4]Daily Log'!$U$18:$U$1017),0)","v":0},{"$f":"IFERROR($E437*SUMIF('[4]Daily Log'!$W$18:$W$1017,$B437,'[4]Daily Log'!$X$18:$X$1017),0)","v":0},{"$f":"IFERROR($E437*SUMIF('[4]Daily Log'!$Z$18:$Z$1017,$B437,'[4]Daily Log'!$AA$18:$AA$1017),0)","v":0},{"$f":"IFERROR($E437*SUMIF('[4]Daily Log'!$AC$18:$AC$1017,$B437,'[4]Daily Log'!$AD$18:$AD$1017),0)","v":0},{"$f":"IFERROR($E437*SUMIF('[4]Daily Log'!$AF$18:$AF$1017,$B437,'[4]Daily Log'!$AG$18:$AG$1017),0)","v":0},{"$f":"IFERROR($E437*SUMIF('[4]Daily Log'!$AI$18:$AI$1017,$B437,'[4]Daily Log'!$AJ$18:$AJ$1017),0)","v":0},{"$f":"IFERROR($E437*SUMIF('[4]Daily Log'!$AL$18:$AL$1017,$B437,'[4]Daily Log'!$AM$18:$AM$1017),0)","v":0},{"$f":"IFERROR($E437*SUMIF('[4]Daily Log'!$AO$18:$AO$1017,$B437,'[4]Daily Log'!$AP$18:$AP$1017),0)","v":0},{"$f":"IFERROR($E437*SUMIF('[4]Daily Log'!$AR$18:$AR$1017,$B437,'[4]Daily Log'!$AS$18:$AS$1017),0)","v":0},{"$f":"IFERROR($E437*SUMIF('[4]Daily Log'!$AU$18:$AU$1017,$B437,'[4]Daily Log'!$AV$18:$AV$1017),0)","v":0},{"$f":"IFERROR($E437*SUMIF('[4]Daily Log'!$AX$18:$AX$1017,$B437,'[4]Daily Log'!$AY$18:$AY$1017),0)","v":0},{"$f":"IFERROR($E437*SUMIF('[4]Daily Log'!$BA$18:$BA$1017,$B437,'[4]Daily Log'!$BB$18:$BB$1017),0)","v":0},{"$f":"IFERROR($E437*SUMIF('[4]Daily Log'!$BD$18:$BD$1017,$B437,'[4]Daily Log'!$BE$18:$BE$1017),0)","v":0},{"$f":"IFERROR($E437*SUMIF('[4]Daily Log'!$BG$18:$BG$1017,$B437,'[4]Daily Log'!$BH$18:$BH$1017),0)","v":0},{"$f":"IFERROR($E437*SUMIF('[4]Daily Log'!$BJ$18:$BJ$1017,$B437,'[4]Daily Log'!$BK$18:$BK$1017),0)","v":0},{"$f":"IFERROR($E437*SUMIF('[4]Daily Log'!$BM$18:$BM$1017,$B437,'[4]Daily Log'!$BN$18:$BN$1017),0)","v":0},{"$f":"IFERROR($E437*SUMIF('[4]Daily Log'!$BP$18:$BP$1017,$B437,'[4]Daily Log'!$BQ$18:$BQ$1017),0)","v":0},{"$f":"IFERROR($E437*SUMIF('[4]Daily Log'!$BS$18:$BS$1017,$B437,'[4]Daily Log'!$BT$18:$BT$1017),0)","v":0},{"$f":"IFERROR($E437*SUMIF('[4]Daily Log'!$BV$18:$BV$1017,$B437,'[4]Daily Log'!$BW$18:$BW$1017),0)","v":0},{"$f":"IFERROR($E437*SUMIF('[4]Daily Log'!$BY$18:$BY$1017,$B437,'[4]Daily Log'!$BZ$18:$BZ$1017),0)","v":0},{"$f":"IFERROR($E437*SUMIF('[4]Daily Log'!$CB$18:$CB$1017,$B437,'[4]Daily Log'!$CC$18:$CC$1017),0)","v":0},{"$f":"IFERROR($E437*SUMIF('[4]Daily Log'!$CE$18:$CE$1017,$B437,'[4]Daily Log'!$CF$18:$CF$1017),0)","v":0},{"$f":"IFERROR($E437*SUMIF('[4]Daily Log'!$CH$18:$CH$1017,$B437,'[4]Daily Log'!$CI$18:$CI$1017),0)","v":0},{"$f":"IFERROR($E437*SUMIF('[4]Daily Log'!$CK$18:$CK$1017,$B437,'[4]Daily Log'!$CL$18:$CL$1017),0)","v":0},{"$f":"IFERROR($E437*SUMIF('[4]Daily Log'!$CN$18:$CN$1017,$B437,'[4]Daily Log'!$CO$18:$CO$1017),0)","v":0}]
[null,null,null,null,null,0,{"$f":"IFERROR($E438*SUMIF('[4]Daily Log'!$B$18:$B$1017,$B438,'[4]Daily Log'!$C$18:$C$1017),0)","v":0},{"$f":"IFERROR($E438*SUMIF('[4]Daily Log'!$E$18:$E$1017,$B438,'[4]Daily Log'!$F$18:$F$1017),0)","v":0},{"$f":"IFERROR($E438*SUMIF('[4]Daily Log'!$H$18:$H$1017,$B438,'[4]Daily Log'!$I$18:$I$1017),0)","v":0},{"$f":"IFERROR($E438*SUMIF('[4]Daily Log'!$K$18:$K$1017,$B438,'[4]Daily Log'!$L$18:$L$1017),0)","v":0},{"$f":"IFERROR($E438*SUMIF('[4]Daily Log'!$N$18:$N$1017,$B438,'[4]Daily Log'!$O$18:$O$1017),0)","v":0},{"$f":"IFERROR($E438*SUMIF('[4]Daily Log'!$Q$18:$Q$1017,$B438,'[4]Daily Log'!$R$18:$R$1017),0)","v":0},{"$f":"IFERROR($E438*SUMIF('[4]Daily Log'!$T$18:$T$1017,$B438,'[4]Daily Log'!$U$18:$U$1017),0)","v":0},{"$f":"IFERROR($E438*SUMIF('[4]Daily Log'!$W$18:$W$1017,$B438,'[4]Daily Log'!$X$18:$X$1017),0)","v":0},{"$f":"IFERROR($E438*SUMIF('[4]Daily Log'!$Z$18:$Z$1017,$B438,'[4]Daily Log'!$AA$18:$AA$1017),0)","v":0},{"$f":"IFERROR($E438*SUMIF('[4]Daily Log'!$AC$18:$AC$1017,$B438,'[4]Daily Log'!$AD$18:$AD$1017),0)","v":0},{"$f":"IFERROR($E438*SUMIF('[4]Daily Log'!$AF$18:$AF$1017,$B438,'[4]Daily Log'!$AG$18:$AG$1017),0)","v":0},{"$f":"IFERROR($E438*SUMIF('[4]Daily Log'!$AI$18:$AI$1017,$B438,'[4]Daily Log'!$AJ$18:$AJ$1017),0)","v":0},{"$f":"IFERROR($E438*SUMIF('[4]Daily Log'!$AL$18:$AL$1017,$B438,'[4]Daily Log'!$AM$18:$AM$1017),0)","v":0},{"$f":"IFERROR($E438*SUMIF('[4]Daily Log'!$AO$18:$AO$1017,$B438,'[4]Daily Log'!$AP$18:$AP$1017),0)","v":0},{"$f":"IFERROR($E438*SUMIF('[4]Daily Log'!$AR$18:$AR$1017,$B438,'[4]Daily Log'!$AS$18:$AS$1017),0)","v":0},{"$f":"IFERROR($E438*SUMIF('[4]Daily Log'!$AU$18:$AU$1017,$B438,'[4]Daily Log'!$AV$18:$AV$1017),0)","v":0},{"$f":"IFERROR($E438*SUMIF('[4]Daily Log'!$AX$18:$AX$1017,$B438,'[4]Daily Log'!$AY$18:$AY$1017),0)","v":0},{"$f":"IFERROR($E438*SUMIF('[4]Daily Log'!$BA$18:$BA$1017,$B438,'[4]Daily Log'!$BB$18:$BB$1017),0)","v":0},{"$f":"IFERROR($E438*SUMIF('[4]Daily Log'!$BD$18:$BD$1017,$B438,'[4]Daily Log'!$BE$18:$BE$1017),0)","v":0},{"$f":"IFERROR($E438*SUMIF('[4]Daily Log'!$BG$18:$BG$1017,$B438,'[4]Daily Log'!$BH$18:$BH$1017),0)","v":0},{"$f":"IFERROR($E438*SUMIF('[4]Daily Log'!$BJ$18:$BJ$1017,$B438,'[4]Daily Log'!$BK$18:$BK$1017),0)","v":0},{"$f":"IFERROR($E438*SUMIF('[4]Daily Log'!$BM$18:$BM$1017,$B438,'[4]Daily Log'!$BN$18:$BN$1017),0)","v":0},{"$f":"IFERROR($E438*SUMIF('[4]Daily Log'!$BP$18:$BP$1017,$B438,'[4]Daily Log'!$BQ$18:$BQ$1017),0)","v":0},{"$f":"IFERROR($E438*SUMIF('[4]Daily Log'!$BS$18:$BS$1017,$B438,'[4]Daily Log'!$BT$18:$BT$1017),0)","v":0},{"$f":"IFERROR($E438*SUMIF('[4]Daily Log'!$BV$18:$BV$1017,$B438,'[4]Daily Log'!$BW$18:$BW$1017),0)","v":0},{"$f":"IFERROR($E438*SUMIF('[4]Daily Log'!$BY$18:$BY$1017,$B438,'[4]Daily Log'!$BZ$18:$BZ$1017),0)","v":0},{"$f":"IFERROR($E438*SUMIF('[4]Daily Log'!$CB$18:$CB$1017,$B438,'[4]Daily Log'!$CC$18:$CC$1017),0)","v":0},{"$f":"IFERROR($E438*SUMIF('[4]Daily Log'!$CE$18:$CE$1017,$B438,'[4]Daily Log'!$CF$18:$CF$1017),0)","v":0},{"$f":"IFERROR($E438*SUMIF('[4]Daily Log'!$CH$18:$CH$1017,$B438,'[4]Daily Log'!$CI$18:$CI$1017),0)","v":0},{"$f":"IFERROR($E438*SUMIF('[4]Daily Log'!$CK$18:$CK$1017,$B438,'[4]Daily Log'!$CL$18:$CL$1017),0)","v":0},{"$f":"IFERROR($E438*SUMIF('[4]Daily Log'!$CN$18:$CN$1017,$B438,'[4]Daily Log'!$CO$18:$CO$1017),0)","v":0}]
[null,null,null,null,null,0,{"$f":"IFERROR($E439*SUMIF('[4]Daily Log'!$B$18:$B$1017,$B439,'[4]Daily Log'!$C$18:$C$1017),0)","v":0},{"$f":"IFERROR($E439*SUMIF('[4]Daily Log'!$E$18:$E$1017,$B439,'[4]Daily Log'!$F$18:$F$1017),0)","v":0},{"$f":"IFERROR($E439*SUMIF('[4]Daily Log'!$H$18:$H$1017,$B439,'[4]Daily Log'!$I$18:$I$1017),0)","v":0},{"$f":"IFERROR($E439*SUMIF('[4]Daily Log'!$K$18:$K$1017,$B439,'[4]Daily Log'!$L$18:$L$1017),0)","v":0},{"$f":"IFERROR($E439*SUMIF('[4]Daily Log'!$N$18:$N$1017,$B439,'[4]Daily Log'!$O$18:$O$1017),0)","v":0},{"$f":"IFERROR($E439*SUMIF('[4]Daily Log'!$Q$18:$Q$1017,$B439,'[4]Daily Log'!$R$18:$R$1017),0)","v":0},{"$f":"IFERROR($E439*SUMIF('[4]Daily Log'!$T$18:$T$1017,$B439,'[4]Daily Log'!$U$18:$U$1017),0)","v":0},{"$f":"IFERROR($E439*SUMIF('[4]Daily Log'!$W$18:$W$1017,$B439,'[4]Daily Log'!$X$18:$X$1017),0)","v":0},{"$f":"IFERROR($E439*SUMIF('[4]Daily Log'!$Z$18:$Z$1017,$B439,'[4]Daily Log'!$AA$18:$AA$1017),0)","v":0},{"$f":"IFERROR($E439*SUMIF('[4]Daily Log'!$AC$18:$AC$1017,$B439,'[4]Daily Log'!$AD$18:$AD$1017),0)","v":0},{"$f":"IFERROR($E439*SUMIF('[4]Daily Log'!$AF$18:$AF$1017,$B439,'[4]Daily Log'!$AG$18:$AG$1017),0)","v":0},{"$f":"IFERROR($E439*SUMIF('[4]Daily Log'!$AI$18:$AI$1017,$B439,'[4]Daily Log'!$AJ$18:$AJ$1017),0)","v":0},{"$f":"IFERROR($E439*SUMIF('[4]Daily Log'!$AL$18:$AL$1017,$B439,'[4]Daily Log'!$AM$18:$AM$1017),0)","v":0},{"$f":"IFERROR($E439*SUMIF('[4]Daily Log'!$AO$18:$AO$1017,$B439,'[4]Daily Log'!$AP$18:$AP$1017),0)","v":0},{"$f":"IFERROR($E439*SUMIF('[4]Daily Log'!$AR$18:$AR$1017,$B439,'[4]Daily Log'!$AS$18:$AS$1017),0)","v":0},{"$f":"IFERROR($E439*SUMIF('[4]Daily Log'!$AU$18:$AU$1017,$B439,'[4]Daily Log'!$AV$18:$AV$1017),0)","v":0},{"$f":"IFERROR($E439*SUMIF('[4]Daily Log'!$AX$18:$AX$1017,$B439,'[4]Daily Log'!$AY$18:$AY$1017),0)","v":0},{"$f":"IFERROR($E439*SUMIF('[4]Daily Log'!$BA$18:$BA$1017,$B439,'[4]Daily Log'!$BB$18:$BB$1017),0)","v":0},{"$f":"IFERROR($E439*SUMIF('[4]Daily Log'!$BD$18:$BD$1017,$B439,'[4]Daily Log'!$BE$18:$BE$1017),0)","v":0},{"$f":"IFERROR($E439*SUMIF('[4]Daily Log'!$BG$18:$BG$1017,$B439,'[4]Daily Log'!$BH$18:$BH$1017),0)","v":0},{"$f":"IFERROR($E439*SUMIF('[4]Daily Log'!$BJ$18:$BJ$1017,$B439,'[4]Daily Log'!$BK$18:$BK$1017),0)","v":0},{"$f":"IFERROR($E439*SUMIF('[4]Daily Log'!$BM$18:$BM$1017,$B439,'[4]Daily Log'!$BN$18:$BN$1017),0)","v":0},{"$f":"IFERROR($E439*SUMIF('[4]Daily Log'!$BP$18:$BP$1017,$B439,'[4]Daily Log'!$BQ$18:$BQ$1017),0)","v":0},{"$f":"IFERROR($E439*SUMIF('[4]Daily Log'!$BS$18:$BS$1017,$B439,'[4]Daily Log'!$BT$18:$BT$1017),0)","v":0},{"$f":"IFERROR($E439*SUMIF('[4]Daily Log'!$BV$18:$BV$1017,$B439,'[4]Daily Log'!$BW$18:$BW$1017),0)","v":0},{"$f":"IFERROR($E439*SUMIF('[4]Daily Log'!$BY$18:$BY$1017,$B439,'[4]Daily Log'!$BZ$18:$BZ$1017),0)","v":0},{"$f":"IFERROR($E439*SUMIF('[4]Daily Log'!$CB$18:$CB$1017,$B439,'[4]Daily Log'!$CC$18:$CC$1017),0)","v":0},{"$f":"IFERROR($E439*SUMIF('[4]Daily Log'!$CE$18:$CE$1017,$B439,'[4]Daily Log'!$CF$18:$CF$1017),0)","v":0},{"$f":"IFERROR($E439*SUMIF('[4]Daily Log'!$CH$18:$CH$1017,$B439,'[4]Daily Log'!$CI$18:$CI$1017),0)","v":0},{"$f":"IFERROR($E439*SUMIF('[4]Daily Log'!$CK$18:$CK$1017,$B439,'[4]Daily Log'!$CL$18:$CL$1017),0)","v":0},{"$f":"IFERROR($E439*SUMIF('[4]Daily Log'!$CN$18:$CN$1017,$B439,'[4]Daily Log'!$CO$18:$CO$1017),0)","v":0}]
[null,null,null,null,null,0,{"$f":"IFERROR($E440*SUMIF('[4]Daily Log'!$B$18:$B$1017,$B440,'[4]Daily Log'!$C$18:$C$1017),0)","v":0},{"$f":"IFERROR($E440*SUMIF('[4]Daily Log'!$E$18:$E$1017,$B440,'[4]Daily Log'!$F$18:$F$1017),0)","v":0},{"$f":"IFERROR($E440*SUMIF('[4]Daily Log'!$H$18:$H$1017,$B440,'[4]Daily Log'!$I$18:$I$1017),0)","v":0},{"$f":"IFERROR($E440*SUMIF('[4]Daily Log'!$K$18:$K$1017,$B440,'[4]Daily Log'!$L$18:$L$1017),0)","v":0},{"$f":"IFERROR($E440*SUMIF('[4]Daily Log'!$N$18:$N$1017,$B440,'[4]Daily Log'!$O$18:$O$1017),0)","v":0},{"$f":"IFERROR($E440*SUMIF('[4]Daily Log'!$Q$18:$Q$1017,$B440,'[4]Daily Log'!$R$18:$R$1017),0)","v":0},{"$f":"IFERROR($E440*SUMIF('[4]Daily Log'!$T$18:$T$1017,$B440,'[4]Daily Log'!$U$18:$U$1017),0)","v":0},{"$f":"IFERROR($E440*SUMIF('[4]Daily Log'!$W$18:$W$1017,$B440,'[4]Daily Log'!$X$18:$X$1017),0)","v":0},{"$f":"IFERROR($E440*SUMIF('[4]Daily Log'!$Z$18:$Z$1017,$B440,'[4]Daily Log'!$AA$18:$AA$1017),0)","v":0},{"$f":"IFERROR($E440*SUMIF('[4]Daily Log'!$AC$18:$AC$1017,$B440,'[4]Daily Log'!$AD$18:$AD$1017),0)","v":0},{"$f":"IFERROR($E440*SUMIF('[4]Daily Log'!$AF$18:$AF$1017,$B440,'[4]Daily Log'!$AG$18:$AG$1017),0)","v":0},{"$f":"IFERROR($E440*SUMIF('[4]Daily Log'!$AI$18:$AI$1017,$B440,'[4]Daily Log'!$AJ$18:$AJ$1017),0)","v":0},{"$f":"IFERROR($E440*SUMIF('[4]Daily Log'!$AL$18:$AL$1017,$B440,'[4]Daily Log'!$AM$18:$AM$1017),0)","v":0},{"$f":"IFERROR($E440*SUMIF('[4]Daily Log'!$AO$18:$AO$1017,$B440,'[4]Daily Log'!$AP$18:$AP$1017),0)","v":0},{"$f":"IFERROR($E440*SUMIF('[4]Daily Log'!$AR$18:$AR$1017,$B440,'[4]Daily Log'!$AS$18:$AS$1017),0)","v":0},{"$f":"IFERROR($E440*SUMIF('[4]Daily Log'!$AU$18:$AU$1017,$B440,'[4]Daily Log'!$AV$18:$AV$1017),0)","v":0},{"$f":"IFERROR($E440*SUMIF('[4]Daily Log'!$AX$18:$AX$1017,$B440,'[4]Daily Log'!$AY$18:$AY$1017),0)","v":0},{"$f":"IFERROR($E440*SUMIF('[4]Daily Log'!$BA$18:$BA$1017,$B440,'[4]Daily Log'!$BB$18:$BB$1017),0)","v":0},{"$f":"IFERROR($E440*SUMIF('[4]Daily Log'!$BD$18:$BD$1017,$B440,'[4]Daily Log'!$BE$18:$BE$1017),0)","v":0},{"$f":"IFERROR($E440*SUMIF('[4]Daily Log'!$BG$18:$BG$1017,$B440,'[4]Daily Log'!$BH$18:$BH$1017),0)","v":0},{"$f":"IFERROR($E440*SUMIF('[4]Daily Log'!$BJ$18:$BJ$1017,$B440,'[4]Daily Log'!$BK$18:$BK$1017),0)","v":0},{"$f":"IFERROR($E440*SUMIF('[4]Daily Log'!$BM$18:$BM$1017,$B440,'[4]Daily Log'!$BN$18:$BN$1017),0)","v":0},{"$f":"IFERROR($E440*SUMIF('[4]Daily Log'!$BP$18:$BP$1017,$B440,'[4]Daily Log'!$BQ$18:$BQ$1017),0)","v":0},{"$f":"IFERROR($E440*SUMIF('[4]Daily Log'!$BS$18:$BS$1017,$B440,'[4]Daily Log'!$BT$18:$BT$1017),0)","v":0},{"$f":"IFERROR($E440*SUMIF('[4]Daily Log'!$BV$18:$BV$1017,$B440,'[4]Daily Log'!$BW$18:$BW$1017),0)","v":0},{"$f":"IFERROR($E440*SUMIF('[4]Daily Log'!$BY$18:$BY$1017,$B440,'[4]Daily Log'!$BZ$18:$BZ$1017),0)","v":0},{"$f":"IFERROR($E440*SUMIF('[4]Daily Log'!$CB$18:$CB$1017,$B440,'[4]Daily Log'!$CC$18:$CC$1017),0)","v":0},{"$f":"IFERROR($E440*SUMIF('[4]Daily Log'!$CE$18:$CE$1017,$B440,'[4]Daily Log'!$CF$18:$CF$1017),0)","v":0},{"$f":"IFERROR($E440*SUMIF('[4]Daily Log'!$CH$18:$CH$1017,$B440,'[4]Daily Log'!$CI$18:$CI$1017),0)","v":0},{"$f":"IFERROR($E440*SUMIF('[4]Daily Log'!$CK$18:$CK$1017,$B440,'[4]Daily Log'!$CL$18:$CL$1017),0)","v":0},{"$f":"IFERROR($E440*SUMIF('[4]Daily Log'!$CN$18:$CN$1017,$B440,'[4]Daily Log'!$CO$18:$CO$1017),0)","v":0}]
[]
[null,"Copyright © 2013 by Oracle Symphony Sdn Bhd"]

{"sheet":"Daily Log","index":2,"n_rows":1048,"n_cols":96,"rows_kept":1048,"cut":false,"hidden":false,"merged":[[5,2,5,4],[7,2,7,4],[9,2,9,4]]}
[]
[]
[null,null,"DAILY LOG OF PRODUCT SALES"]
[]
[]
[null,"OUTLET",{"$f":"Summary!C6","v":"CCS"}]
[]
[null,"YEAR",{"$f":"Summary!C8","v":"2013"}]
[]
[null,"MONTH",{"$f":"Summary!C10","v":"SEPTEMBER"}]
[]
[]
[]
[{"$f":"IFERROR(INDEX($CR$18:$CR$48,MAX($B$17:$CO$17),1),\"\")","v":0},{"$f":"\"DATE  \"&TEXT(Summary!G27,\"DD / MM / YYYY\")","v":"DATE  01 / 09 / 2013"},null,null,{"$f":"\"DATE  \"&TEXT(Summary!H27,\"DD / MM / YYYY\")","v":"DATE  02 / 09 / 2013"},null,null,{"$f":"\"DATE  \"&TEXT(Summary!I27,\"DD / MM / YYYY\")","v":"DATE  03 / 09 / 2013"},null,null,{"$f":"\"DATE  \"&TEXT(Summary!J27,\"DD / MM / YYYY\")","v":"DATE  04 / 09 / 2013"},null,null,{"$f":"\"DATE  \"&TEXT(Summary!K27,\"DD / MM / YYYY\")","v":"DATE  05 / 09 / 2013"},null,null,{"$f":"\"DATE  \"&TEXT(Summary!L27,\"DD / MM / YYYY\")","v":"DATE  06 / 09 / 2013"},null,null,{"$f":"\"DATE  \"&TEXT(Summary!M27,\"DD / MM / YYYY\")","v":"DATE  07 / 09 / 2013"},null,null,{"$f":"\"DATE  \"&TEXT(Summary!N27,\"DD / MM / YYYY\")","v":"DATE  08 / 09 / 2013"},null,null,{"$f":"\"DATE  \"&TEXT(Summary!O27,\"DD / MM / YYYY\")","v":"DATE  09 / 09 / 2013"},null,null,{"$f":"\"DATE  \"&TEXT(Summary!P27,\"DD / MM / YYYY\")","v":"DATE  10 / 09 / 2013"},null,null,{"$f":"\"DATE  \"&TEXT(Summary!Q27,\"DD / MM / YYYY\")","v":"DATE  11 / 09 / 2013"},null,null,{"$f":"\"DATE  \"&TEXT(Summary!R27,\"DD / MM / YYYY\")","v":"DATE  12 / 09 / 2013"},null,null,{"$f":"\"DATE  \"&TEXT(Summary!S27,\"DD / MM / YYYY\")","v":"DATE  13 / 09 / 2013"},null,null,{"$f":"\"DATE  \"&TEXT(Summary!T27,\"DD / MM / YYYY\")","v":"DATE  14 / 09 / 2013"},null,null,{"$f":"\"DATE  \"&TEXT(Summary!U27,\"DD / MM / YYYY\")","v":"DATE  15 / 09 / 2013"},null,null,{"$f":"\"DATE  \"&TEXT(Summary!V27,\"DD / MM / YYYY\")","v":"DATE  16 / 09 / 2013"},null,null,{"$f":"\"DATE  \"&TEXT(Summary!W27,\"DD / MM / YYYY\")","v":"DATE  17 / 09 / 2013"},null,null,{"$f":"\"DATE  \"&TEXT(Summary!X27,\"DD / MM / YYYY\")","v":"DATE  18 / 09 / 2013"},null,null,{"$f":"\"DATE  \"&TEXT(Summary!Y27,\"DD / MM / YYYY\")","v":"DATE  19 / 09 / 2013"},null,null,{"$f":"\"DATE  \"&TEXT(Summary!Z27,\"DD / MM / YYYY\")","v":"DATE  20 / 09 / 2013"},null,null,{"$f":"\"DATE  \"&TEXT(Summary!AA27,\"DD / MM / YYYY\")","v":"DATE  21 / 09 / 2013"},null,null,{"$f":"\"DATE  \"&TEXT(Summary!AB27,\"DD / MM / YYYY\")","v":"DATE  22 / 09 / 2013"},null,null,{"$f":"\"DATE  \"&TEXT(Summary!AC27,\"DD / MM / YYYY\")","v":"DATE  23 / 09 / 2013"},null,null,{"$f":"\"DATE  \"&TEXT(Summary!AD27,\"DD / MM / YYYY\")","v":"DATE  24 / 09 / 2013"},null,null,{"$f":"\"DATE  \"&TEXT(Summary!AE27,\"DD / MM / YYYY\")","v":"DATE  25 / 09 / 2013"},null,null,{"$f":"\"DATE  \"&TEXT(Summary!AF27,\"DD / MM / YYYY\")","v":"DATE  26 / 09 / 2013"},null,null,{"$f":"\"DATE  \"&TEXT(Summary!AG27,\"DD / MM / YYYY\")","v":"DATE  27 / 09 / 2013"},null,null,{"$f":"\"DATE  \"&TEXT(Summary!AH27,\"DD / MM / YYYY\")","v":"DATE  28 / 09 / 2013"},null,null,{"$f":"\"DATE  \"&TEXT(Summary!AI27,\"DD / MM / YYYY\")","v":"DATE  29 / 09 / 2013"},null,null,{"$f":"\"DATE  \"&TEXT(Summary!AJ27,\"DD / MM / YYYY\")","v":"DATE  30 / 09 / 2013"},null,null,{"$f":"\"DATE  \"&TEXT(Summary!AK27,\"DD / MM / YYYY\")","v":"DATE  "},null,null,"COLUMN"]
[]
[null,"PRODUCT","QUANTITY",null,"PRODUCT","QUANTITY",null,"PRODUCT","QUANTITY",null,"PRODUCT","QUANTITY",null,"PRODUCT","QUANTITY",null,"PRODUCT","QUANTITY",null,"PRODUCT","QUANTITY",null,"PRODUCT","QUANTITY",null,"PRODUCT","QUANTITY",null,"PRODUCT","QUANTITY",null,"PRODUCT","QUANTITY",null,"PRODUCT","QUANTITY",null,"PRODUCT","QUANTITY",null,"PRODUCT","QUANTITY",null,"PRODUCT","QUANTITY",null,"PRODUCT","QUANTITY",null,"PRODUCT","QUANTITY",null,"PRODUCT","QUANTITY",null,"PRODUCT","QUANTITY",null,"PRODUCT","QUANTITY",null,"PRODUCT","QUANTITY",null,"PRODUCT","QUANTITY",null,"PRODUCT","QUANTITY",null,"PRODUCT","QUANTITY",null,"PRODUCT","QUANTITY",null,"PRODUCT","QUANTITY",null,"PRODUCT","QUANTITY",null,"PRODUCT","QUANTITY",null,"PRODUCT","QUANTITY",null,"PRODUCT","QUANTITY",null,"PRODUCT","QUANTITY",null,"MONTH","COLUMN"]
[null,{"$f":"IF(B18<>\"\",1,0)","v":0},null,null,{"$f":"IF(E18<>\"\",2,0)","v":0},null,null,{"$f":"IF(H18<>\"\",3,0)","v":0},null,null,{"$f":"IF(K18<>\"\",4,0)","v":0},null,null,{"$f":"IF(N18<>\"\",5,0)","v":0},null,null,{"$f":"IF(Q18<>\"\",6,0)","v":0},null,null,{"$f":"IF(T18<>\"\",7,0)","v":0},null,null,{"$f":"IF(W18<>\"\",8,0)","v":0},null,null,{"$f":"IF(Z18<>\"\",9,0)","v":0},null,null,{"$f":"IF(AC18<>\"\",10,0)","v":0},null,null,{"$f":"IF(AF18<>\"\",11,0)","v":0},null,null,{"$f":"IF(AI18<>\"\",12,0)","v":0},null,null,{"$f":"IF(AL18<>\"\",13,0)","v":0},null,null,{"$f":"IF(AO18<>\"\",14,0)","v":0},null,null,{"$f":"IF(AR18<>\"\",15,0)","v":0},null,null,{"$f":"IF(AU18<>\"\",16,0)","v":0},null,null,{"$f":"IF(AX18<>\"\",17,0)","v":0},null,null,{"$f":"IF(BA18<>\"\",23,0)","v":0},null,null,{"$f":"IF(BD18<>\"\",23,0)","v":0},null,null,{"$f":"IF(BG18<>\"\",23,0)","v":0},null,null,{"$f":"IF(BJ18<>\"\",23,0)","v":0},null,null,{"$f":"IF(BM18<>\"\",23,0)","v":0},null,null,{"$f":"IF(BP18<>\"\",23,0)","v":0},null,null,{"$f":"IF(BS18<>\"\",24,0)","v":0},null,null,{"$f":"IF(BV18<>\"\",25,0)","v":0},null,null,{"$f":"IF(BY18<>\"\",26,0)","v":0},null,null,{"$f":"IF(CB18<>\"\",27,0)","v":0},null,null,{"$f":"IF(CE18<>\"\",28,0)","v":0},null,null,{"$f":"IF(CH18<>\"\",29,0)","v":0},null,null,{"$f":"IF(CK18<>\"\",30,0)","v":30},null,null,{"$f":"IF(CN18<>\"\",23,0)","v":0}]
[{"$f":"IFERROR(IF(INDIRECT($A$14&ROW())<>\"\",COUNTIF(Summary!$B$30:$B$1105,INDIRECT($A$14&ROW())),\"\"),\"\")","v":""},null,null,null,null,null,null,null,null,null,null,null,null,null,null,null,null,null,null,null,null,null,null,null,null,null,null,null,null,null,null,null,null,null,null,null,null,null,null,null,null,null,null,null,null,null,null,null,null,null,null,null,null,null,null,null,null,null,null,null,null,null,null,null,null,null,null,null,null,null,null,null,null,null,null,null,null,null,null,null,null,null,null,null,null,null,null,null,"AA01 K : REGULAR",37]
[{"$f":"IFERROR(IF(INDIRECT($A$14&ROW())<>\"\",COUNTIF(Summary!$B$30:$B$1105,INDIRECT($A$14&ROW())),\"\"),\"\")","v":""},null,null,null,null,null,null,null,null,null,null,null,null,null,null,null,null,null,null,null,null,null,null,null,null,null,null,null,null,null,null,null,null,null,null,null,null,null,null,null,null,null,null,null,null,null,null,null,null,null,null,null,null,null,null,null,null,null,null,null,null,null,null,null,null,null,null,null,null,null,null,null,null,null,null,null,null,null,null,null,null,null,null,null,null,null,null,null,"AA02 K : MEMBER",11]
[{"$f":"IFERROR(IF(INDIRECT($A$14&ROW())<>\"\",COUNTIF(Summary!$B$30:$B$1105,INDIRECT($A$14&ROW())),\"\"),\"\")","v":""},null,null,null,null,null,null,null,null,null,null,null,null,null,null,null,null,null,null,null,null,null,null,null,null,null,null,null,null,null,null,null,null,null,null,null,null,null,null,null,null,null,null,null,null,null,null,null,null,null,null,null,null,null,null,null,null,null,null,null,null,null,null,null,null,null,null,null,null,null,null,null,null,null,null,null,null,null,null,null,null,null,null,null,null,null,null,null,"AA04 K-LUNCH",1405]
[{"$f":"IFERROR(IF(INDIRECT($A$14&ROW())<>\"\",COUNTIF(Summary!$B$30:$B$1105,INDIRECT($A$14&ROW())),\"\"),\"\")","v":""},null,null,null,null,null,null,null,null,null,null,null,null,null,null,null,null,null,null,null,null,null,null,null,null,null,null,null,null,null,null,null,null,null,null,null,null,null,null,null,null,null,null,null,null,null,null,null,null,null,null,null,null,null,null,null,null,null,null,null,null,null,null,null,null,null,null,null,null,null,null,null,null,null,null,null,null,null,null,null,null,null,null,null,null,null,null,null,"AA05 K : CHILDREN",54]
[{"$f":"IFERROR(IF(INDIRECT($A$14&ROW())<>\"\",COUNTIF(Summary!$B$30:$B$1105,INDIRECT($A$14&ROW())),\"\"),\"\")","v":""},null,null,null,null,null,null,null,null,null,null,null,null,null,null,null,null,null,null,null,null,null,null,null,null,null,null,null,null,null,null,null,null,null,null,null,null,null,null,null,null,null,null,null,null,null,null,null,null,null,null,null,null,null,null,null,null,null,null,null,null,null,null,null,null,null,null,null,null,null,null,null,null,null,null,null,null,null,null,null,null,null,null,null,null,null,null,null,"AA06 K : MEMBER B'DAY",5]
[{"$f":"IFERROR(IF(INDIRECT($A$14&ROW())<>\"\",COUNTIF(Summary!$B$30:$B$1105,INDIRECT($A$14&ROW())),\"\"),\"\")","v":""},null,null,null,null,null,null,null,null,null,null,null,null,null,null,null,null,null,null,null,null,null,null,null,null,null,null,null,null,null,null,null,null,null,null,null,null,null,null,null,null,null,null,null,null,null,null,null,null,null,null,null,null,null,null,null,null,null,null,null,null,null,null,null,null,null,null,null,null,null,null,null,null,null,null,null,null,null,null,null,null,null,null,null,null,null,null,null,"AA11 K : FREEHEAD (R)",1]
[{"$f":"IFERROR(IF(INDIRECT($A$14&ROW())<>\"\",COUNTIF(Summary!$B$30:$B$1105,INDIRECT($A$14&ROW())),\"\"),\"\")","v":""},null,null,null,null,null,null,null,null,null,null,null,null,null,null,null,null,null,null,null,null,null,null,null,null,null,null,null,null,null,null,null,null,null,null,null,null,null,null,null,null,null,null,null,null,null,null,null,null,null,null,null,null,null,null,null,null,null,null,null,null,null,null,null,null,null,null,null,null,null,null,null,null,null,null,null,null,null,null,null,null,null,null,null,null,null,null,null,"AB01 H : REGULAR",816]
[{"$f":"IFERROR(IF(INDIRECT($A$14&ROW())<>\"\",COUNTIF(Summary!$B$30:$B$1105,INDIRECT($A$14&ROW())),\"\"),\"\")","v":""},null,null,null,null,null,null,null,null,null,null,null,null,null,null,null,null,null,null,null,null,null,null,null,null,null,null,null,null,null,null,null,null,null,null,null,null,null,null,null,null,null,null,null,null,null,null,null,null,null,null,null,null,null,null,null,null,null,null,null,null,null,null,null,null,null,null,null,null,null,null,null,null,null,null,null,null,null,null,null,null,null,null,null,null,null,null,null,"AB02 H : MEMBER",271]
[{"$f":"IFERROR(IF(INDIRECT($A$14&ROW())<>\"\",COUNTIF(Summary!$B$30:$B$1105,INDIRECT($A$14&ROW())),\"\"),\"\")","v":""},null,null,null,null,null,null,null,null,null,null,null,null,null,null,null,null,null,null,null,null,null,null,null,null,null,null,null,null,null,null,null,null,null,null,null,null,null,null,null,null,null,null,null,null,null,null,null,null,null,null,null,null,null,null,null,null,null,null,null,null,null,null,null,null,null,null,null,null,null,null,null,null,null,null,null,null,null,null,null,null,null,null,null,null,null,null,null,"AB03 H : MEMBER 30%",28]
[{"$f":"IFERROR(IF(INDIRECT($A$14&ROW())<>\"\",COUNTIF(Summary!$B$30:$B$1105,INDIRECT($A$14&ROW())),\"\"),\"\")","v":""},null,null,null,null,null,null,null,null,null,null,null,null,null,null,null,null,null,null,null,null,null,null,null,null,null,null,null,null,null,null,null,null,null,null,null,null,null,null,null,null,null,null,null,null,null,null,null,null,null,null,null,null,null,null,null,null,null,null,null,null,null,null,null,null,null,null,null,null,null,null,null,null,null,null,null,null,null,null,null,null,null,null,null,null,null,null,null,"AB05 H : STUDENT",419]
[{"$f":"IFERROR(IF(INDIRECT($A$14&ROW())<>\"\",COUNTIF(Summary!$B$30:$B$1105,INDIRECT($A$14&ROW())),\"\"),\"\")","v":""},null,null,null,null,null,null,null,null,null,null,null,null,null,null,null,null,null,null,null,null,null,null,null,null,null,null,null,null,null,null,null,null,null,null,null,null,null,null,null,null,null,null,null,null,null,null,null,null,null,null,null,null,null,null,null,null,null,null,null,null,null,null,null,null,null,null,null,null,null,null,null,null,null,null,null,null,null,null,null,null,null,null,null,null,null,null,null,"AB06 H : SENIOR",3]
[{"$f":"IFERROR(IF(INDIRECT($A$14&ROW())<>\"\",COUNTIF(Summary!$B$30:$B$1105,INDIRECT($A$14&ROW())),\"\"),\"\")","v":""},null,null,null,null,null,null,null,null,null,null,null,null,null,null,null,null,null,null,null,null,null,null,null,null,null,null,null,null,null,null,null,null,null,null,null,null,null,null,null,null,null,null,null,null,null,null,null,null,null,null,null,null,null,null,null,null,null,null,null,null,null,null,null,null,null,null,null,null,null,null,null,null,null,null,null,null,null,null,null,null,null,null,null,null,null,null,null,"AB07 H : CHILDREN",52]
[{"$f":"IFERROR(IF(INDIRECT($A$14&ROW())<>\"\",COUNTIF(Summary!$B$30:$B$1105,INDIRECT($A$14&ROW())),\"\"),\"\")","v":""},null,null,null,null,null,null,null,null,null,null,null,null,null,null,null,null,null,null,null,null,null,null,null,null,null,null,null,null,null,null,null,null,null,null,null,null,null,null,null,null,null,null,null,null,null,null,null,null,null,null,null,null,null,null,null,null,null,null,null,null,null,null,null,null,null,null,null,null,null,null,null,null,null,null,null,null,null,null,null,null,null,null,null,null,null,null,null,"AB08 H : MEMBER B'DAY",7]
[{"$f":"IFERROR(IF(INDIRECT($A$14&ROW())<>\"\",COUNTIF(Summary!$B$30:$B$1105,INDIRECT($A$14&ROW())),\"\"),\"\")","v":""},null,null,null,null,null,null,null,null,null,null,null,null,null,null,null,null,null,null,null,null,null,null,null,null,null,null,null,null,null,null,null,null,null,null,null,null,null,null,null,null,null,null,null,null,null,null,null,null,null,null,null,null,null,null,null,null,null,null,null,null,null,null,null,null,null,null,null,null,null,null,null,null,null,null,null,null,null,null,null,null,null,null,null,null,null,null,null,"AB13 H : FREEHEAD (R)",15]
[{"$f":"IFERROR(IF(INDIRECT($A$14&ROW())<>\"\",COUNTIF(Summary!$B$30:$B$1105,INDIRECT($A$14&ROW())),\"\"),\"\")","v":""},null,null,null,null,null,null,null,null,null,null,null,null,null,null,null,null,null,null,null,null,null,null,null,null,null,null,null,null,null,null,null,null,null,null,null,null,null,null,null,null,null,null,null,null,null,null,null,null,null,null,null,null,null,null,null,null,null,null,null,null,null,null,null,null,null,null,null,null,null,null,null,null,null,null,null,null,null,null,null,null,null,null,null,null,null,null,null,"AB14 H : Buy 3 Free 1",3]
[{"$f":"IFERROR(IF(INDIRECT($A$14&ROW())<>\"\",COUNTIF(Summary!$B$30:$B$1105,INDIRECT($A$14&ROW())),\"\"),\"\")","v":""},null,null,null,null,null,null,null,null,null,null,null,null,null,null,null,null,null,null,null,null,null,null,null,null,null,null,null,null,null,null,null,null,null,null,null,null,null,null,null,null,null,null,null,null,null,null,null,null,null,null,null,null,null,null,null,null,null,null,null,null,null,null,null,null,null,null,null,null,null,null,null,null,null,null,null,null,null,null,null,null,null,null,null,null,null,null,null,"AB17 H : XTD S ROOM",2]
[{"$f":"IFERROR(IF(INDIRECT($A$14&ROW())<>\"\",COUNTIF(Summary!$B$30:$B$1105,INDIRECT($A$14&ROW())),\"\"),\"\")","v":""},null,null,null,null,null,null,null,null,null,null,null,null,null,null,null,null,null,null,null,null,null,null,null,null,null,null,null,null,null,null,null,null,null,null,null,null,null,null,null,null,null,null,null,null,null,null,null,null,null,null,null,null,null,null,null,null,null,null,null,null,null,null,null,null,null,null,null,null,null,null,null,null,null,null,null,null,null,null,null,null,null,null,null,null,null,null,null,"AB19 H : XTD B ROOM",2]
[{"$f":"IFERROR(IF(INDIRECT($A$14&ROW())<>\"\",COUNTIF(Summary!$B$30:$B$1105,INDIRECT($A$14&ROW())),\"\"),\"\")","v":""},null,null,null,null,null,null,null,null,null,null,null,null,null,null,null,null,null,null,null,null,null,null,null,null,null,null,null,null,null,null,null,null,null,null,null,null,null,null,null,null,null,null,null,null,null,null,null,null,null,null,null,null,null,null,null,null,null,null,null,null,null,null,null,null,null,null,null,null,null,null,null,null,null,null,null,null,null,null,null,null,null,null,null,null,null,null,null,"AB22 H: FB LIKED 50%",444]
[{"$f":"IFERROR(IF(INDIRECT($A$14&ROW())<>\"\",COUNTIF(Summary!$B$30:$B$1105,INDIRECT($A$14&ROW())),\"\"),\"\")","v":""},null,null,null,null,null,null,null,null,null,null,null,null,null,null,null,null,null,null,null,null,null,null,null,null,null,null,null,null,null,null,null,null,null,null,null,null,null,null,null,null,null,null,null,null,null,null,null,null,null,null,null,null,null,null,null,null,null,null,null,null,null,null,null,null,null,null,null,null,null,null,null,null,null,null,null,null,null,null,null,null,null,null,null,null,null,null,null,"AB50 H:Student Mem",12]
[{"$f":"IFERROR(IF(INDIRECT($A$14&ROW())<>\"\",COUNTIF(Summary!$B$30:$B$1105,INDIRECT($A$14&ROW())),\"\"),\"\")","v":""},null,null,null,null,null,null,null,null,null,null,null,null,null,null,null,null,null,null,null,null,null,null,null,null,null,null,null,null,null,null,null,null,null,null,null,null,null,null,null,null,null,null,null,null,null,null,null,null,null,null,null,null,null,null,null,null,null,null,null,null,null,null,null,null,null,null,null,null,null,null,null,null,null,null,null,null,null,null,null,null,null,null,null,null,null,null,null,"AC01 N : REGULAR",1810]
[{"$f":"IFERROR(IF(INDIRECT($A$14&ROW())<>\"\",COUNTIF(Summary!$B$30:$B$1105,INDIRECT($A$14&ROW())),\"\"),\"\")","v":""},null,null,null,null,null,null,null,null,null,null,null,null,null,null,null,null,null,null,null,null,null,null,null,null,null,null,null,null,null,null,null,null,null,null,null,null,null,null,null,null,null,null,null,null,null,null,null,null,null,null,null,null,null,null,null,null,null,null,null,null,null,null,null,null,null,null,null,null,null,null,null,null,null,null,null,null,null,null,null,null,null,null,null,null,null,null,null,"AC02 N : MEMBER",894]
[{"$f":"IFERROR(IF(INDIRECT($A$14&ROW())<>\"\",COUNTIF(Summary!$B$30:$B$1105,INDIRECT($A$14&ROW())),\"\"),\"\")","v":""},null,null,null,null,null,null,null,null,null,null,null,null,null,null,null,null,null,null,null,null,null,null,null,null,null,null,null,null,null,null,null,null,null,null,null,null,null,null,null,null,null,null,null,null,null,null,null,null,null,null,null,null,null,null,null,null,null,null,null,null,null,null,null,null,null,null,null,null,null,null,null,null,null,null,null,null,null,null,null,null,null,null,null,null,null,null,null,"AC03 N : MEMBER 30%",246]
[{"$f":"IFERROR(IF(INDIRECT($A$14&ROW())<>\"\",COUNTIF(Summary!$B$30:$B$1105,INDIRECT($A$14&ROW())),\"\"),\"\")","v":""},null,null,null,null,null,null,null,null,null,null,null,null,null,null,null,null,null,null,null,null,null,null,null,null,null,null,null,null,null,null,null,null,null,null,null,null,null,null,null,null,null,null,null,null,null,null,null,null,null,null,null,null,null,null,null,null,null,null,null,null,null,null,null,null,null,null,null,null,null,null,null,null,null,null,null,null,null,null,null,null,null,null,null,null,null,null,null,"AC05 K-DINNER",1144]
[{"$f":"IFERROR(IF(INDIRECT($A$14&ROW())<>\"\",COUNTIF(Summary!$B$30:$B$1105,INDIRECT($A$14&ROW())),\"\"),\"\")","v":""},null,null,null,null,null,null,null,null,null,null,null,null,null,null,null,null,null,null,null,null,null,null,null,null,null,null,null,null,null,null,null,null,null,null,null,null,null,null,null,null,null,null,null,null,null,null,null,null,null,null,null,null,null,null,null,null,null,null,null,null,null,null,null,null,null,null,null,null,null,null,null,null,null,null,null,null,null,null,null,null,null,null,null,null,null,null,null,"AC06 N : CHILDREN",96]
[{"$f":"IFERROR(IF(INDIRECT($A$14&ROW())<>\"\",COUNTIF(Summary!$B$30:$B$1105,INDIRECT($A$14&ROW())),\"\"),\"\")","v":""},null,null,null,null,null,null,null,null,null,null,null,null,null,null,null,null,null,null,null,null,null,null,null,null,null,null,null,null,null,null,null,null,null,null,null,null,null,null,null,null,null,null,null,null,null,null,null,null,null,null,null,null,null,null,null,null,null,null,null,null,null,null,null,null,null,null,null,null,null,null,null,null,null,null,null,null,null,null,null,null,null,null,null,null,null,null,null,"AC07 N : MEMBER B'DAY",41]
[{"$f":"IFERROR(IF(INDIRECT($A$14&ROW())<>\"\",COUNTIF(Summary!$B$30:$B$1105,INDIRECT($A$14&ROW())),\"\"),\"\")","v":""},null,null,null,null,null,null,null,null,null,null,null,null,null,null,null,null,null,null,null,null,null,null,null,null,null,null,null,null,null,null,null,null,null,null,null,null,null,null,null,null,null,null,null,null,null,null,null,null,null,null,null,null,null,null,null,null,null,null,null,null,null,null,null,null,null,null,null,null,null,null,null,null,null,null,null,null,null,null,null,null,null,null,null,null,null,null,null,"AC12 N : FREEHEAD (R)",45]
[{"$f":"IFERROR(IF(INDIRECT($A$14&ROW())<>\"\",COUNTIF(Summary!$B$30:$B$1105,INDIRECT($A$14&ROW())),\"\"),\"\")","v":""},null,null,null,null,null,null,null,null,null,null,null,null,null,null,null,null,null,null,null,null,null,null,null,null,null,null,null,null,null,null,null,null,null,null,null,null,null,null,null,null,null,null,null,null,null,null,null,null,null,null,null,null,null,null,null,null,null,null,null,null,null,null,null,null,null,null,null,null,null,null,null,null,null,null,null,null,null,null,null,null,null,null,null,null,null,null,null,"AC13 N : Buy 3 Free 1",3]
[{"$f":"IFERROR(IF(INDIRECT($A$14&ROW())<>\"\",COUNTIF(Summary!$B$30:$B$1105,INDIRECT($A$14&ROW())),\"\"),\"\")","v":""},null,null,null,null,null,null,null,null,null,null,null,null,null,null,null,null,null,null,null,null,null,null,null,null,null,null,null,null,null,null,null,null,null,null,null,null,null,null,null,null,null,null,null,null,null,null,null,null,null,null,null,null,null,null,null,null,null,null,null,null,null,null,null,null,null,null,null,null,null,null,null,null,null,null,null,null,null,null,null,null,null,null,null,null,null,null,null,"AC16 N : EVENT",1]
[{"$f":"IFERROR(IF(INDIRECT($A$14&ROW())<>\"\",COUNTIF(Summary!$B$30:$B$1105,INDIRECT($A$14&ROW())),\"\"),\"\")","v":""},null,null,null,null,null,null,null,null,null,null,null,null,null,null,null,null,null,null,null,null,null,null,null,null,null,null,null,null,null,null,null,null,null,null,null,null,null,null,null,null,null,null,null,null,null,null,null,null,null,null,null,null,null,null,null,null,null,null,null,null,null,null,null,null,null,null,null,null,null,null,null,null,null,null,null,null,null,null,null,null,null,null,null,null,null,null,null,"AC17 N : XTD S ROOM",6]
[{"$f":"IFERROR(IF(INDIRECT($A$14&ROW())<>\"\",COUNTIF(Summary!$B$30:$B$1105,INDIRECT($A$14&ROW())),\"\"),\"\")","v":""},null,null,null,null,null,null,null,null,null,null,null,null,null,null,null,null,null,null,null,null,null,null,null,null,null,null,null,null,null,null,null,null,null,null,null,null,null,null,null,null,null,null,null,null,null,null,null,null,null,null,null,null,null,null,null,null,null,null,null,null,null,null,null,null,null,null,null,null,null,null,null,null,null,null,null,null,null,null,null,null,null,null,null,null,null,null,null,"AC18 N : XTD M ROOM",11]
[{"$f":"IFERROR(IF(INDIRECT($A$14&ROW())<>\"\",COUNTIF(Summary!$B$30:$B$1105,INDIRECT($A$14&ROW())),\"\"),\"\")","v":""},null,null,null,null,null,null,null,null,null,null,null,null,null,null,null,null,null,null,null,null,null,null,null,null,null,null,null,null,null,null,null,null,null,null,null,null,null,null,null,null,null,null,null,null,null,null,null,null,null,null,null,null,null,null,null,null,null,null,null,null,null,null,null,null,null,null,null,null,null,null,null,null,null,null,null,null,null,null,null,null,null,null,null,null,null,null,null,"AC19 N : XTD B ROOM",11]
[{"$f":"IFERROR(IF(INDIRECT($A$14&ROW())<>\"\",COUNTIF(Summary!$B$30:$B$1105,INDIRECT($A$14&ROW())),\"\"),\"\")","v":""},null,null,null,null,null,null,null,null,null,null,null,null,null,null,null,null,null,null,null,null,null,null,null,null,null,null,null,null,null,null,null,null,null,null,null,null,null,null,null,null,null,null,null,null,null,null,null,null,null,null,null,null,null,null,null,null,null,null,null,null,null,null,null,null,null,null,null,null,null,null,null,null,null,null,null,null,null,null,null,null,null,null,null,null,null,null,null,"AC29 N:9.0 Ver",424]
[{"$f":"IFERROR(IF(INDIRECT($A$14&ROW())<>\"\",COUNTIF(Summary!$B$30:$B$1105,INDIRECT($A$14&ROW())),\"\"),\"\")","v":""},null,null,null,null,null,null,null,null,null,null,null,null,null,null,null,null,null,null,null,null,null,null,null,null,null,null,null,null,null,null,null,null,null,null,null,null,null,null,null,null,null,null,null,null,null,null,null,null,null,null,null,null,null,null,null,null,null,null,null,null,null,null,null,null,null,null,null,null,null,null,null,null,null,null,null,null,null,null,null,null,null,null,null,null,null,null,null,"AC30 N:9.0 ver Aeon",309]
[{"$f":"IFERROR(IF(INDIRECT($A$14&ROW())<>\"\",COUNTIF(Summary!$B$30:$B$1105,INDIRECT($A$14&ROW())),\"\"),\"\")","v":""},null,null,null,null,null,null,null,null,null,null,null,null,null,null,null,null,null,null,null,null,null,null,null,null,null,null,null,null,null,null,null,null,null,null,null,null,null,null,null,null,null,null,null,null,null,null,null,null,null,null,null,null,null,null,null,null,null,null,null,null,null,null,null,null,null,null,null,null,null,null,null,null,null,null,null,null,null,null,null,null,null,null,null,null,null,null,null,"AC33 N : XTD VIP ROOM",5]
[{"$f":"IFERROR(IF(INDIRECT($A$14&ROW())<>\"\",COUNTIF(Summary!$B$30:$B$1105,INDIRECT($A$14&ROW())),\"\"),\"\")","v":""},null,null,null,null,null,null,null,null,null,null,null,null,null,null,null,null,null,null,null,null,null,null,null,null,null,null,null,null,null,null,null,null,null,null,null,null,null,null,null,null,null,null,null,null,null,null,null,null,null,null,null,null,null,null,null,null,null,null,null,null,null,null,null,null,null,null,null,null,null,null,null,null,null,null,null,null,null,null,null,null,null,null,null,null,null,null,null,"AD01 M : REGULAR",507]
[{"$f":"IFERROR(IF(INDIRECT($A$14&ROW())<>\"\",COUNTIF(Summary!$B$30:$B$1105,INDIRECT($A$14&ROW())),\"\"),\"\")","v":""},null,null,null,null,null,null,null,null,null,null,null,null,null,null,null,null,null,null,null,null,null,null,null,null,null,null,null,null,null,null,null,null,null,null,null,null,null,null,null,null,null,null,null,null,null,null,null,null,null,null,null,null,null,null,null,null,null,null,null,null,null,null,null,null,null,null,null,null,null,null,null,null,null,null,null,null,null,null,null,null,null,null,null,null,null,null,null,"AD02 M : MEMBER",201]
[{"$f":"IFERROR(IF(INDIRECT($A$14&ROW())<>\"\",COUNTIF(Summary!$B$30:$B$1105,INDIRECT($A$14&ROW())),\"\"),\"\")","v":""},null,null,null,null,null,null,null,null,null,null,null,null,null,null,null,null,null,null,null,null,null,null,null,null,null,null,null,null,null,null,null,null,null,null,null,null,null,null,null,null,null,null,null,null,null,null,null,null,null,null,null,null,null,null,null,null,null,null,null,null,null,null,null,null,null,null,null,null,null,null,null,null,null,null,null,null,null,null,null,null,null,null,null,null,null,null,null,"AD03 M : MEMBER 30%",19]
[{"$f":"IFERROR(IF(INDIRECT($A$14&ROW())<>\"\",COUNTIF(Summary!$B$30:$B$1105,INDIRECT($A$14&ROW())),\"\"),\"\")","v":""},null,null,null,null,null,null,null,null,null,null,null,null,null,null,null,null,null,null,null,null,null,null,null,null,null,null,null,null,null,null,null,null,null,null,null,null,null,null,null,null,null,null,null,null,null,null,null,null,null,null,null,null,null,null,null,null,null,null,null,null,null,null,null,null,null,null,null,null,null,null,null,null,null,null,null,null,null,null,null,null,null,null,null,null,null,null,null,"AD05 M : LADIES",349]
[{"$f":"IFERROR(IF(INDIRECT($A$14&ROW())<>\"\",COUNTIF(Summary!$B$30:$B$1105,INDIRECT($A$14&ROW())),\"\"),\"\")","v":""},null,null,null,null,null,null,null,null,null,null,null,null,null,null,null,null,null,null,null,null,null,null,null,null,null,null,null,null,null,null,null,null,null,null,null,null,null,null,null,null,null,null,null,null,null,null,null,null,null,null,null,null,null,null,null,null,null,null,null,null,null,null,null,null,null,null,null,null,null,null,null,null,null,null,null,null,null,null,null,null,null,null,null,null,null,null,null,"AD06 M : CHILDREN",13]
[{"$f":"IFERROR(IF(INDIRECT($A$14&ROW())<>\"\",COUNTIF(Summary!$B$30:$B$1105,INDIRECT($A$14&ROW())),\"\"),\"\")","v":""},null,null,null,null,null,null,null,null,null,null,null,null,null,null,null,null,null,null,null,null,null,null,null,null,null,null,null,null,null,null,null,null,null,null,null,null,null,null,null,null,null,null,null,null,null,null,null,null,null,null,null,null,null,null,null,null,null,null,null,null,null,null,null,null,null,null,null,null,null,null,null,null,null,null,null,null,null,null,null,null,null,null,null,null,null,null,null,"AD07 M : MEMBER B'DAY",7]
[{"$f":"IFERROR(IF(INDIRECT($A$14&ROW())<>\"\",COUNTIF(Summary!$B$30:$B$1105,INDIRECT($A$14&ROW())),\"\"),\"\")","v":""},null,null,null,null,null,null,null,null,null,null,null,null,null,null,null,null,null,null,null,null,null,null,null,null,null,null,null,null,null,null,null,null,null,null,null,null,null,null,null,null,null,null,null,null,null,null,null,null,null,null,null,null,null,null,null,null,null,null,null,null,null,null,null,null,null,null,null,null,null,null,null,null,null,null,null,null,null,null,null,null,null,null,null,null,null,null,null,"AD11 M : FREEHEAD (R)"]
[{"$f":"IFERROR(IF(INDIRECT($A$14&ROW())<>\"\",COUNTIF(Summary!$B$30:$B$1105,INDIRECT($A$14&ROW())),\"\"),\"\")","v":""},null,null,null,null,null,null,null,null,null,null,null,null,null,null,null,null,null,null,null,null,null,null,null,null,null,null,null,null,null,null,null,null,null,null,null,null,null,null,null,null,null,null,null,null,null,null,null,null,null,null,null,null,null,null,null,null,null,null,null,null,null,null,null,null,null,null,null,null,null,null,null,null,null,null,null,null,null,null,null,null,null,null,null,null,null,null,null,"AD15 M : XTD S ROOM",7]
[{"$f":"IFERROR(IF(INDIRECT($A$14&ROW())<>\"\",COUNTIF(Summary!$B$30:$B$1105,INDIRECT($A$14&ROW())),\"\"),\"\")","v":""},null,null,null,null,null,null,null,null,null,null,null,null,null,null,null,null,null,null,null,null,null,null,null,null,null,null,null,null,null,null,null,null,null,null,null,null,null,null,null,null,null,null,null,null,null,null,null,null,null,null,null,null,null,null,null,null,null,null,null,null,null,null,null,null,null,null,null,null,null,null,null,null,null,null,null,null,null,null,null,null,null,null,null,null,null,null,null,"AD16 M : XTD M ROOM",4]
[{"$f":"IFERROR(IF(INDIRECT($A$14&ROW())<>\"\",COUNTIF(Summary!$B$30:$B$1105,INDIRECT($A$14&ROW())),\"\"),\"\")","v":""},null,null,null,null,null,null,null,null,null,null,null,null,null,null,null,null,null,null,null,null,null,null,null,null,null,null,null,null,null,null,null,null,null,null,null,null,null,null,null,null,null,null,null,null,null,null,null,null,null,null,null,null,null,null,null,null,null,null,null,null,null,null,null,null,null,null,null,null,null,null,null,null,null,null,null,null,null,null,null,null,null,null,null,null,null,null,null,"AD17 M : XTD B ROOM",2]
[{"$f":"IFERROR(IF(INDIRECT($A$14&ROW())<>\"\",COUNTIF(Summary!$B$30:$B$1105,INDIRECT($A$14&ROW())),\"\"),\"\")","v":""},null,null,null,null,null,null,null,null,null,null,null,null,null,null,null,null,null,null,null,null,null,null,null,null,null,null,null,null,null,null,null,null,null,null,null,null,null,null,null,null,null,null,null,null,null,null,null,null,null,null,null,null,null,null,null,null,null,null,null,null,null,null,null,null,null,null,null,null,null,null,null,null,null,null,null,null,null,null,null,null,null,null,null,null,null,null,null,"AD28 M : XTD VIP ROOM",1]
[{"$f":"IFERROR(IF(INDIRECT($A$14&ROW())<>\"\",COUNTIF(Summary!$B$30:$B$1105,INDIRECT($A$14&ROW())),\"\"),\"\")","v":""},null,null,null,null,null,null,null,null,null,null,null,null,null,null,null,null,null,null,null,null,null,null,null,null,null,null,null,null,null,null,null,null,null,null,null,null,null,null,null,null,null,null,null,null,null,null,null,null,null,null,null,null,null,null,null,null,null,null,null,null,null,null,null,null,null,null,null,null,null,null,null,null,null,null,null,null,null,null,null,null,null,null,null,null,null,null,null,"AD29 M :WEDDING 30%",13]
[{"$f":"IFERROR(IF(INDIRECT($A$14&ROW())<>\"\",COUNTIF(Summary!$B$30:$B$1105,INDIRECT($A$14&ROW())),\"\"),\"\")","v":""},null,null,null,null,null,null,null,null,null,null,null,null,null,null,null,null,null,null,null,null,null,null,null,null,null,null,null,null,null,null,null,null,null,null,null,null,null,null,null,null,null,null,null,null,null,null,null,null,null,null,null,null,null,null,null,null,null,null,null,null,null,null,null,null,null,null,null,null,null,null,null,null,null,null,null,null,null,null,null,null,null,null,null,null,null,null,null,"BA02 H : 4BP",11]
[{"$f":"IFERROR(IF(INDIRECT($A$14&ROW())<>\"\",COUNTIF(Summary!$B$30:$B$1105,INDIRECT($A$14&ROW())),\"\"),\"\")","v":""},null,null,null,null,null,null,null,null,null,null,null,null,null,null,null,null,null,null,null,null,null,null,null,null,null,null,null,null,null,null,null,null,null,null,null,null,null,null,null,null,null,null,null,null,null,null,null,null,null,null,null,null,null,null,null,null,null,null,null,null,null,null,null,null,null,null,null,null,null,null,null,null,null,null,null,null,null,null,null,null,null,null,null,null,null,null,null,"BA04 N : 4BP",59]
[{"$f":"IFERROR(IF(INDIRECT($A$14&ROW())<>\"\",COUNTIF(Summary!$B$30:$B$1105,INDIRECT($A$14&ROW())),\"\"),\"\")","v":""},null,null,null,null,null,null,null,null,null,null,null,null,null,null,null,null,null,null,null,null,null,null,null,null,null,null,null,null,null,null,null,null,null,null,null,null,null,null,null,null,null,null,null,null,null,null,null,null,null,null,null,null,null,null,null,null,null,null,null,null,null,null,null,null,null,null,null,null,null,null,null,null,null,null,null,null,null,null,null,null,null,null,null,null,null,null,null,"BA06 M : 4BP",12]
[{"$f":"IFERROR(IF(INDIRECT($A$14&ROW())<>\"\",COUNTIF(Summary!$B$30:$B$1105,INDIRECT($A$14&ROW())),\"\"),\"\")","v":""},null,null,null,null,null,null,null,null,null,null,null,null,null,null,null,null,null,null,null,null,null,null,null,null,null,null,null,null,null,null,null,null,null,null,null,null,null,null,null,null,null,null,null,null,null,null,null,null,null,null,null,null,null,null,null,null,null,null,null,null,null,null,null,null,null,null,null,null,null,null,null,null,null,null,null,null,null,null,null,null,null,null,null,null,null,null,null,"BA08 GUINNESS BTL",10]
[{"$f":"IFERROR(IF(INDIRECT($A$14&ROW())<>\"\",COUNTIF(Summary!$B$30:$B$1105,INDIRECT($A$14&ROW())),\"\"),\"\")","v":""},null,null,null,null,null,null,null,null,null,null,null,null,null,null,null,null,null,null,null,null,null,null,null,null,null,null,null,null,null,null,null,null,null,null,null,null,null,null,null,null,null,null,null,null,null,null,null,null,null,null,null,null,null,null,null,null,null,null,null,null,null,null,null,null,null,null,null,null,null,null,null,null,null,null,null,null,null,null,null,null,null,null,null,null,null,null,null,"BA09 GUINNESS BKT",12]
[{"$f":"IFERROR(IF(INDIRECT($A$14&ROW())<>\"\",COUNTIF(Summary!$B$30:$B$1105,INDIRECT($A$14&ROW())),\"\"),\"\")","v":""},null,null,null,null,null,null,null,null,null,null,null,null,null,null,null,null,null,null,null,null,null,null,null,null,null,null,null,null,null,null,null,null,null,null,null,null,null,null,null,null,null,null,null,null,null,null,null,null,null,null,null,null,null,null,null,null,null,null,null,null,null,null,null,null,null,null,null,null,null,null,null,null,null,null,null,null,null,null,null,null,null,null,null,null,null,null,null,"BA11 HEINEKEN BTL",10]
[{"$f":"IFERROR(IF(INDIRECT($A$14&ROW())<>\"\",COUNTIF(Summary!$B$30:$B$1105,INDIRECT($A$14&ROW())),\"\"),\"\")","v":""},null,null,null,null,null,null,null,null,null,null,null,null,null,null,null,null,null,null,null,null,null,null,null,null,null,null,null,null,null,null,null,null,null,null,null,null,null,null,null,null,null,null,null,null,null,null,null,null,null,null,null,null,null,null,null,null,null,null,null,null,null,null,null,null,null,null,null,null,null,null,null,null,null,null,null,null,null,null,null,null,null,null,null,null,null,null,null,"BA12 HEINEKEN BKT",17]
[{"$f":"IFERROR(IF(INDIRECT($A$14&ROW())<>\"\",COUNTIF(Summary!$B$30:$B$1105,INDIRECT($A$14&ROW())),\"\"),\"\")","v":""},null,null,null,null,null,null,null,null,null,null,null,null,null,null,null,null,null,null,null,null,null,null,null,null,null,null,null,null,null,null,null,null,null,null,null,null,null,null,null,null,null,null,null,null,null,null,null,null,null,null,null,null,null,null,null,null,null,null,null,null,null,null,null,null,null,null,null,null,null,null,null,null,null,null,null,null,null,null,null,null,null,null,null,null,null,null,null,"BA13 HEINEKEN RND",9]
[{"$f":"IFERROR(IF(INDIRECT($A$14&ROW())<>\"\",COUNTIF(Summary!$B$30:$B$1105,INDIRECT($A$14&ROW())),\"\"),\"\")","v":""},null,null,null,null,null,null,null,null,null,null,null,null,null,null,null,null,null,null,null,null,null,null,null,null,null,null,null,null,null,null,null,null,null,null,null,null,null,null,null,null,null,null,null,null,null,null,null,null,null,null,null,null,null,null,null,null,null,null,null,null,null,null,null,null,null,null,null,null,null,null,null,null,null,null,null,null,null,null,null,null,null,null,null,null,null,null,null,"BA14 TIGER BTL",20]
[{"$f":"IFERROR(IF(INDIRECT($A$14&ROW())<>\"\",COUNTIF(Summary!$B$30:$B$1105,INDIRECT($A$14&ROW())),\"\"),\"\")","v":""},null,null,null,null,null,null,null,null,null,null,null,null,null,null,null,null,null,null,null,null,null,null,null,null,null,null,null,null,null,null,null,null,null,null,null,null,null,null,null,null,null,null,null,null,null,null,null,null,null,null,null,null,null,null,null,null,null,null,null,null,null,null,null,null,null,null,null,null,null,null,null,null,null,null,null,null,null,null,null,null,null,null,null,null,null,null,null,"BA15 TIGER BKT",66]
[{"$f":"IFERROR(IF(INDIRECT($A$14&ROW())<>\"\",COUNTIF(Summary!$B$30:$B$1105,INDIRECT($A$14&ROW())),\"\"),\"\")","v":""},null,null,null,null,null,null,null,null,null,null,null,null,null,null,null,null,null,null,null,null,null,null,null,null,null,null,null,null,null,null,null,null,null,null,null,null,null,null,null,null,null,null,null,null,null,null,null,null,null,null,null,null,null,null,null,null,null,null,null,null,null,null,null,null,null,null,null,null,null,null,null,null,null,null,null,null,null,null,null,null,null,null,null,null,null,null,null,"BA16 TIGER RND",49]
[{"$f":"IFERROR(IF(INDIRECT($A$14&ROW())<>\"\",COUNTIF(Summary!$B$30:$B$1105,INDIRECT($A$14&ROW())),\"\"),\"\")","v":""},null,null,null,null,null,null,null,null,null,null,null,null,null,null,null,null,null,null,null,null,null,null,null,null,null,null,null,null,null,null,null,null,null,null,null,null,null,null,null,null,null,null,null,null,null,null,null,null,null,null,null,null,null,null,null,null,null,null,null,null,null,null,null,null,null,null,null,null,null,null,null,null,null,null,null,null,null,null,null,null,null,null,null,null,null,null,null,"BA19 Tiger 2+1",9]
[{"$f":"IFERROR(IF(INDIRECT($A$14&ROW())<>\"\",COUNTIF(Summary!$B$30:$B$1105,INDIRECT($A$14&ROW())),\"\"),\"\")","v":""},null,null,null,null,null,null,null,null,null,null,null,null,null,null,null,null,null,null,null,null,null,null,null,null,null,null,null,null,null,null,null,null,null,null,null,null,null,null,null,null,null,null,null,null,null,null,null,null,null,null,null,null,null,null,null,null,null,null,null,null,null,null,null,null,null,null,null,null,null,null,null,null,null,null,null,null,null,null,null,null,null,null,null,null,null,null,null,"BA20 Heineken 3+1",3]
[{"$f":"IFERROR(IF(INDIRECT($A$14&ROW())<>\"\",COUNTIF(Summary!$B$30:$B$1105,INDIRECT($A$14&ROW())),\"\"),\"\")","v":""},null,null,null,null,null,null,null,null,null,null,null,null,null,null,null,null,null,null,null,null,null,null,null,null,null,null,null,null,null,null,null,null,null,null,null,null,null,null,null,null,null,null,null,null,null,null,null,null,null,null,null,null,null,null,null,null,null,null,null,null,null,null,null,null,null,null,null,null,null,null,null,null,null,null,null,null,null,null,null,null,null,null,null,null,null,null,null,"BA23 SOMERSBY BTL",6]
[{"$f":"IFERROR(IF(INDIRECT($A$14&ROW())<>\"\",COUNTIF(Summary!$B$30:$B$1105,INDIRECT($A$14&ROW())),\"\"),\"\")","v":""},null,null,null,null,null,null,null,null,null,null,null,null,null,null,null,null,null,null,null,null,null,null,null,null,null,null,null,null,null,null,null,null,null,null,null,null,null,null,null,null,null,null,null,null,null,null,null,null,null,null,null,null,null,null,null,null,null,null,null,null,null,null,null,null,null,null,null,null,null,null,null,null,null,null,null,null,null,null,null,null,null,null,null,null,null,null,null,"BA24 SOMERSBY BKT",2]
[{"$f":"IFERROR(IF(INDIRECT($A$14&ROW())<>\"\",COUNTIF(Summary!$B$30:$B$1105,INDIRECT($A$14&ROW())),\"\"),\"\")","v":""},null,null,null,null,null,null,null,null,null,null,null,null,null,null,null,null,null,null,null,null,null,null,null,null,null,null,null,null,null,null,null,null,null,null,null,null,null,null,null,null,null,null,null,null,null,null,null,null,null,null,null,null,null,null,null,null,null,null,null,null,null,null,null,null,null,null,null,null,null,null,null,null,null,null,null,null,null,null,null,null,null,null,null,null,null,null,null,"BA26 STRONGBOW BKT",1]
[{"$f":"IFERROR(IF(INDIRECT($A$14&ROW())<>\"\",COUNTIF(Summary!$B$30:$B$1105,INDIRECT($A$14&ROW())),\"\"),\"\")","v":""},null,null,null,null,null,null,null,null,null,null,null,null,null,null,null,null,null,null,null,null,null,null,null,null,null,null,null,null,null,null,null,null,null,null,null,null,null,null,null,null,null,null,null,null,null,null,null,null,null,null,null,null,null,null,null,null,null,null,null,null,null,null,null,null,null,null,null,null,null,null,null,null,null,null,null,null,null,null,null,null,null,null,null,null,null,null,null,"BA28 HOEGAARDEN BKT",2]
[{"$f":"IFERROR(IF(INDIRECT($A$14&ROW())<>\"\",COUNTIF(Summary!$B$30:$B$1105,INDIRECT($A$14&ROW())),\"\"),\"\")","v":""},null,null,null,null,null,null,null,null,null,null,null,null,null,null,null,null,null,null,null,null,null,null,null,null,null,null,null,null,null,null,null,null,null,null,null,null,null,null,null,null,null,null,null,null,null,null,null,null,null,null,null,null,null,null,null,null,null,null,null,null,null,null,null,null,null,null,null,null,null,null,null,null,null,null,null,null,null,null,null,null,null,null,null,null,null,null,null,"BD03 H : 4BP PROMO",5]
[{"$f":"IFERROR(IF(INDIRECT($A$14&ROW())<>\"\",COUNTIF(Summary!$B$30:$B$1105,INDIRECT($A$14&ROW())),\"\"),\"\")","v":""},null,null,null,null,null,null,null,null,null,null,null,null,null,null,null,null,null,null,null,null,null,null,null,null,null,null,null,null,null,null,null,null,null,null,null,null,null,null,null,null,null,null,null,null,null,null,null,null,null,null,null,null,null,null,null,null,null,null,null,null,null,null,null,null,null,null,null,null,null,null,null,null,null,null,null,null,null,null,null,null,null,null,null,null,null,null,null,"BD04 H : 4BP MEMBER",1]
[{"$f":"IFERROR(IF(INDIRECT($A$14&ROW())<>\"\",COUNTIF(Summary!$B$30:$B$1105,INDIRECT($A$14&ROW())),\"\"),\"\")","v":""},null,null,null,null,null,null,null,null,null,null,null,null,null,null,null,null,null,null,null,null,null,null,null,null,null,null,null,null,null,null,null,null,null,null,null,null,null,null,null,null,null,null,null,null,null,null,null,null,null,null,null,null,null,null,null,null,null,null,null,null,null,null,null,null,null,null,null,null,null,null,null,null,null,null,null,null,null,null,null,null,null,null,null,null,null,null,null,"BD05 N : 4BP PROMO",38]
[{"$f":"IFERROR(IF(INDIRECT($A$14&ROW())<>\"\",COUNTIF(Summary!$B$30:$B$1105,INDIRECT($A$14&ROW())),\"\"),\"\")","v":""},null,null,null,null,null,null,null,null,null,null,null,null,null,null,null,null,null,null,null,null,null,null,null,null,null,null,null,null,null,null,null,null,null,null,null,null,null,null,null,null,null,null,null,null,null,null,null,null,null,null,null,null,null,null,null,null,null,null,null,null,null,null,null,null,null,null,null,null,null,null,null,null,null,null,null,null,null,null,null,null,null,null,null,null,null,null,null,"BD06 N : 4BP MEMBER",39]
[{"$f":"IFERROR(IF(INDIRECT($A$14&ROW())<>\"\",COUNTIF(Summary!$B$30:$B$1105,INDIRECT($A$14&ROW())),\"\"),\"\")","v":""},null,null,null,null,null,null,null,null,null,null,null,null,null,null,null,null,null,null,null,null,null,null,null,null,null,null,null,null,null,null,null,null,null,null,null,null,null,null,null,null,null,null,null,null,null,null,null,null,null,null,null,null,null,null,null,null,null,null,null,null,null,null,null,null,null,null,null,null,null,null,null,null,null,null,null,null,null,null,null,null,null,null,null,null,null,null,null,"BD07 M : 4BP PROMO",14]
[{"$f":"IFERROR(IF(INDIRECT($A$14&ROW())<>\"\",COUNTIF(Summary!$B$30:$B$1105,INDIRECT($A$14&ROW())),\"\"),\"\")","v":""},null,null,null,null,null,null,null,null,null,null,null,null,null,null,null,null,null,null,null,null,null,null,null,null,null,null,null,null,null,null,null,null,null,null,null,null,null,null,null,null,null,null,null,null,null,null,null,null,null,null,null,null,null,null,null,null,null,null,null,null,null,null,null,null,null,null,null,null,null,null,null,null,null,null,null,null,null,null,null,null,null,null,null,null,null,null,null,"BD08 M : 4BP MEMBER",5]
[{"$f":"IFERROR(IF(INDIRECT($A$14&ROW())<>\"\",COUNTIF(Summary!$B$30:$B$1105,INDIRECT($A$14&ROW())),\"\"),\"\")","v":""},null,null,null,null,null,null,null,null,null,null,null,null,null,null,null,null,null,null,null,null,null,null,null,null,null,null,null,null,null,null,null,null,null,null,null,null,null,null,null,null,null,null,null,null,null,null,null,null,null,null,null,null,null,null,null,null,null,null,null,null,null,null,null,null,null,null,null,null,null,null,null,null,null,null,null,null,null,null,null,null,null,null,null,null,null,null,null,"BD09 GUI 2 x BKT",8]
[{"$f":"IFERROR(IF(INDIRECT($A$14&ROW())<>\"\",COUNTIF(Summary!$B$30:$B$1105,INDIRECT($A$14&ROW())),\"\"),\"\")","v":""},null,null,null,null,null,null,null,null,null,null,null,null,null,null,null,null,null,null,null,null,null,null,null,null,null,null,null,null,null,null,null,null,null,null,null,null,null,null,null,null,null,null,null,null,null,null,null,null,null,null,null,null,null,null,null,null,null,null,null,null,null,null,null,null,null,null,null,null,null,null,null,null,null,null,null,null,null,null,null,null,null,null,null,null,null,null,null,"BD10 GUI 2 x BKT MEM",5]
[{"$f":"IFERROR(IF(INDIRECT($A$14&ROW())<>\"\",COUNTIF(Summary!$B$30:$B$1105,INDIRECT($A$14&ROW())),\"\"),\"\")","v":""},null,null,null,null,null,null,null,null,null,null,null,null,null,null,null,null,null,null,null,null,null,null,null,null,null,null,null,null,null,null,null,null,null,null,null,null,null,null,null,null,null,null,null,null,null,null,null,null,null,null,null,null,null,null,null,null,null,null,null,null,null,null,null,null,null,null,null,null,null,null,null,null,null,null,null,null,null,null,null,null,null,null,null,null,null,null,null,"BD11 HEI 2 x BKT",11]
[{"$f":"IFERROR(IF(INDIRECT($A$14&ROW())<>\"\",COUNTIF(Summary!$B$30:$B$1105,INDIRECT($A$14&ROW())),\"\"),\"\")","v":""},null,null,null,null,null,null,null,null,null,null,null,null,null,null,null,null,null,null,null,null,null,null,null,null,null,null,null,null,null,null,null,null,null,null,null,null,null,null,null,null,null,null,null,null,null,null,null,null,null,null,null,null,null,null,null,null,null,null,null,null,null,null,null,null,null,null,null,null,null,null,null,null,null,null,null,null,null,null,null,null,null,null,null,null,null,null,null,"BD12 HEI 2 x BKT MEME",20]
[{"$f":"IFERROR(IF(INDIRECT($A$14&ROW())<>\"\",COUNTIF(Summary!$B$30:$B$1105,INDIRECT($A$14&ROW())),\"\"),\"\")","v":""},null,null,null,null,null,null,null,null,null,null,null,null,null,null,null,null,null,null,null,null,null,null,null,null,null,null,null,null,null,null,null,null,null,null,null,null,null,null,null,null,null,null,null,null,null,null,null,null,null,null,null,null,null,null,null,null,null,null,null,null,null,null,null,null,null,null,null,null,null,null,null,null,null,null,null,null,null,null,null,null,null,null,null,null,null,null,null,"BD13 TIGER 2 x BKT",40]
[{"$f":"IFERROR(IF(INDIRECT($A$14&ROW())<>\"\",COUNTIF(Summary!$B$30:$B$1105,INDIRECT($A$14&ROW())),\"\"),\"\")","v":""},null,null,null,null,null,null,null,null,null,null,null,null,null,null,null,null,null,null,null,null,null,null,null,null,null,null,null,null,null,null,null,null,null,null,null,null,null,null,null,null,null,null,null,null,null,null,null,null,null,null,null,null,null,null,null,null,null,null,null,null,null,null,null,null,null,null,null,null,null,null,null,null,null,null,null,null,null,null,null,null,null,null,null,null,null,null,null,"BD14 TIGER 2x BKT MEM",81]
[{"$f":"IFERROR(IF(INDIRECT($A$14&ROW())<>\"\",COUNTIF(Summary!$B$30:$B$1105,INDIRECT($A$14&ROW())),\"\"),\"\")","v":""},null,null,null,null,null,null,null,null,null,null,null,null,null,null,null,null,null,null,null,null,null,null,null,null,null,null,null,null,null,null,null,null,null,null,null,null,null,null,null,null,null,null,null,null,null,null,null,null,null,null,null,null,null,null,null,null,null,null,null,null,null,null,null,null,null,null,null,null,null,null,null,null,null,null,null,null,null,null,null,null,null,null,null,null,null,null,null,"CA05 PASSION J",1]
[{"$f":"IFERROR(IF(INDIRECT($A$14&ROW())<>\"\",COUNTIF(Summary!$B$30:$B$1105,INDIRECT($A$14&ROW())),\"\"),\"\")","v":""},null,null,null,null,null,null,null,null,null,null,null,null,null,null,null,null,null,null,null,null,null,null,null,null,null,null,null,null,null,null,null,null,null,null,null,null,null,null,null,null,null,null,null,null,null,null,null,null,null,null,null,null,null,null,null,null,null,null,null,null,null,null,null,null,null,null,null,null,null,null,null,null,null,null,null,null,null,null,null,null,null,null,null,null,null,null,null,"CA06 RIBENA J",2]
[{"$f":"IFERROR(IF(INDIRECT($A$14&ROW())<>\"\",COUNTIF(Summary!$B$30:$B$1105,INDIRECT($A$14&ROW())),\"\"),\"\")","v":""},null,null,null,null,null,null,null,null,null,null,null,null,null,null,null,null,null,null,null,null,null,null,null,null,null,null,null,null,null,null,null,null,null,null,null,null,null,null,null,null,null,null,null,null,null,null,null,null,null,null,null,null,null,null,null,null,null,null,null,null,null,null,null,null,null,null,null,null,null,null,null,null,null,null,null,null,null,null,null,null,null,null,null,null,null,null,null,"CC08 CHOCOLATE SM",4]
[{"$f":"IFERROR(IF(INDIRECT($A$14&ROW())<>\"\",COUNTIF(Summary!$B$30:$B$1105,INDIRECT($A$14&ROW())),\"\"),\"\")","v":""},null,null,null,null,null,null,null,null,null,null,null,null,null,null,null,null,null,null,null,null,null,null,null,null,null,null,null,null,null,null,null,null,null,null,null,null,null,null,null,null,null,null,null,null,null,null,null,null,null,null,null,null,null,null,null,null,null,null,null,null,null,null,null,null,null,null,null,null,null,null,null,null,null,null,null,null,null,null,null,null,null,null,null,null,null,null,null,"CD01 7 UP",1]
[{"$f":"IFERROR(IF(INDIRECT($A$14&ROW())<>\"\",COUNTIF(Summary!$B$30:$B$1105,INDIRECT($A$14&ROW())),\"\"),\"\")","v":""},null,null,null,null,null,null,null,null,null,null,null,null,null,null,null,null,null,null,null,null,null,null,null,null,null,null,null,null,null,null,null,null,null,null,null,null,null,null,null,null,null,null,null,null,null,null,null,null,null,null,null,null,null,null,null,null,null,null,null,null,null,null,null,null,null,null,null,null,null,null,null,null,null,null,null,null,null,null,null,null,null,null,null,null,null,null,null,"CD03 PEPSI",2]
[{"$f":"IFERROR(IF(INDIRECT($A$14&ROW())<>\"\",COUNTIF(Summary!$B$30:$B$1105,INDIRECT($A$14&ROW())),\"\"),\"\")","v":""},null,null,null,null,null,null,null,null,null,null,null,null,null,null,null,null,null,null,null,null,null,null,null,null,null,null,null,null,null,null,null,null,null,null,null,null,null,null,null,null,null,null,null,null,null,null,null,null,null,null,null,null,null,null,null,null,null,null,null,null,null,null,null,null,null,null,null,null,null,null,null,null,null,null,null,null,null,null,null,null,null,null,null,null,null,null,null,"CE01 MILO (C)",2]
[{"$f":"IFERROR(IF(INDIRECT($A$14&ROW())<>\"\",COUNTIF(Summary!$B$30:$B$1105,INDIRECT($A$14&ROW())),\"\"),\"\")","v":""},null,null,null,null,null,null,null,null,null,null,null,null,null,null,null,null,null,null,null,null,null,null,null,null,null,null,null,null,null,null,null,null,null,null,null,null,null,null,null,null,null,null,null,null,null,null,null,null,null,null,null,null,null,null,null,null,null,null,null,null,null,null,null,null,null,null,null,null,null,null,null,null,null,null,null,null,null,null,null,null,null,null,null,null,null,null,null,"CE04 LEMON TEA (C)",1]
[{"$f":"IFERROR(IF(INDIRECT($A$14&ROW())<>\"\",COUNTIF(Summary!$B$30:$B$1105,INDIRECT($A$14&ROW())),\"\"),\"\")","v":""},null,null,null,null,null,null,null,null,null,null,null,null,null,null,null,null,null,null,null,null,null,null,null,null,null,null,null,null,null,null,null,null,null,null,null,null,null,null,null,null,null,null,null,null,null,null,null,null,null,null,null,null,null,null,null,null,null,null,null,null,null,null,null,null,null,null,null,null,null,null,null,null,null,null,null,null,null,null,null,null,null,null,null,null,null,null,null,"CE05 GRN TEA (C)",3]
[{"$f":"IFERROR(IF(INDIRECT($A$14&ROW())<>\"\",COUNTIF(Summary!$B$30:$B$1105,INDIRECT($A$14&ROW())),\"\"),\"\")","v":""},null,null,null,null,null,null,null,null,null,null,null,null,null,null,null,null,null,null,null,null,null,null,null,null,null,null,null,null,null,null,null,null,null,null,null,null,null,null,null,null,null,null,null,null,null,null,null,null,null,null,null,null,null,null,null,null,null,null,null,null,null,null,null,null,null,null,null,null,null,null,null,null,null,null,null,null,null,null,null,null,null,null,null,null,null,null,null,"CE06 HNY GRN TEA (C)",3]
[{"$f":"IFERROR(IF(INDIRECT($A$14&ROW())<>\"\",COUNTIF(Summary!$B$30:$B$1105,INDIRECT($A$14&ROW())),\"\"),\"\")","v":""},null,null,null,null,null,null,null,null,null,null,null,null,null,null,null,null,null,null,null,null,null,null,null,null,null,null,null,null,null,null,null,null,null,null,null,null,null,null,null,null,null,null,null,null,null,null,null,null,null,null,null,null,null,null,null,null,null,null,null,null,null,null,null,null,null,null,null,null,null,null,null,null,null,null,null,null,null,null,null,null,null,null,null,null,null,null,null,"CE07 HONEY (C)",1]
[{"$f":"IFERROR(IF(INDIRECT($A$14&ROW())<>\"\",COUNTIF(Summary!$B$30:$B$1105,INDIRECT($A$14&ROW())),\"\"),\"\")","v":""},null,null,null,null,null,null,null,null,null,null,null,null,null,null,null,null,null,null,null,null,null,null,null,null,null,null,null,null,null,null,null,null,null,null,null,null,null,null,null,null,null,null,null,null,null,null,null,null,null,null,null,null,null,null,null,null,null,null,null,null,null,null,null,null,null,null,null,null,null,null,null,null,null,null,null,null,null,null,null,null,null,null,null,null,null,null,null,"CE08 LEMON HONEY (C)",6]
[{"$f":"IFERROR(IF(INDIRECT($A$14&ROW())<>\"\",COUNTIF(Summary!$B$30:$B$1105,INDIRECT($A$14&ROW())),\"\"),\"\")","v":""},null,null,null,null,null,null,null,null,null,null,null,null,null,null,null,null,null,null,null,null,null,null,null,null,null,null,null,null,null,null,null,null,null,null,null,null,null,null,null,null,null,null,null,null,null,null,null,null,null,null,null,null,null,null,null,null,null,null,null,null,null,null,null,null,null,null,null,null,null,null,null,null,null,null,null,null,null,null,null,null,null,null,null,null,null,null,null,"CF01 MILO (H)",1]
[{"$f":"IFERROR(IF(INDIRECT($A$14&ROW())<>\"\",COUNTIF(Summary!$B$30:$B$1105,INDIRECT($A$14&ROW())),\"\"),\"\")","v":""},null,null,null,null,null,null,null,null,null,null,null,null,null,null,null,null,null,null,null,null,null,null,null,null,null,null,null,null,null,null,null,null,null,null,null,null,null,null,null,null,null,null,null,null,null,null,null,null,null,null,null,null,null,null,null,null,null,null,null,null,null,null,null,null,null,null,null,null,null,null,null,null,null,null,null,null,null,null,null,null,null,null,null,null,null,null,null,"CF02 NESCAFE (H)",1]
[{"$f":"IFERROR(IF(INDIRECT($A$14&ROW())<>\"\",COUNTIF(Summary!$B$30:$B$1105,INDIRECT($A$14&ROW())),\"\"),\"\")","v":""},null,null,null,null,null,null,null,null,null,null,null,null,null,null,null,null,null,null,null,null,null,null,null,null,null,null,null,null,null,null,null,null,null,null,null,null,null,null,null,null,null,null,null,null,null,null,null,null,null,null,null,null,null,null,null,null,null,null,null,null,null,null,null,null,null,null,null,null,null,null,null,null,null,null,null,null,null,null,null,null,null,null,null,null,null,null,null,"CF08 LEMON HONEY (H)",6]
[{"$f":"IFERROR(IF(INDIRECT($A$14&ROW())<>\"\",COUNTIF(Summary!$B$30:$B$1105,INDIRECT($A$14&ROW())),\"\"),\"\")","v":""},null,null,null,null,null,null,null,null,null,null,null,null,null,null,null,null,null,null,null,null,null,null,null,null,null,null,null,null,null,null,null,null,null,null,null,null,null,null,null,null,null,null,null,null,null,null,null,null,null,null,null,null,null,null,null,null,null,null,null,null,null,null,null,null,null,null,null,null,null,null,null,null,null,null,null,null,null,null,null,null,null,null,null,null,null,null,null,"CF10 CHOCOLATE (H)",1]
[{"$f":"IFERROR(IF(INDIRECT($A$14&ROW())<>\"\",COUNTIF(Summary!$B$30:$B$1105,INDIRECT($A$14&ROW())),\"\"),\"\")","v":""},null,null,null,null,null,null,null,null,null,null,null,null,null,null,null,null,null,null,null,null,null,null,null,null,null,null,null,null,null,null,null,null,null,null,null,null,null,null,null,null,null,null,null,null,null,null,null,null,null,null,null,null,null,null,null,null,null,null,null,null,null,null,null,null,null,null,null,null,null,null,null,null,null,null,null,null,null,null,null,null,null,null,null,null,null,null,null,"CG01 MINERAL WATER",7]
[{"$f":"IFERROR(IF(INDIRECT($A$14&ROW())<>\"\",COUNTIF(Summary!$B$30:$B$1105,INDIRECT($A$14&ROW())),\"\"),\"\")","v":""},null,null,null,null,null,null,null,null,null,null,null,null,null,null,null,null,null,null,null,null,null,null,null,null,null,null,null,null,null,null,null,null,null,null,null,null,null,null,null,null,null,null,null,null,null,null,null,null,null,null,null,null,null,null,null,null,null,null,null,null,null,null,null,null,null,null,null,null,null,null,null,null,null,null,null,null,null,null,null,null,null,null,null,null,null,null,null,"CH06 WATER JUG",8]
[{"$f":"IFERROR(IF(INDIRECT($A$14&ROW())<>\"\",COUNTIF(Summary!$B$30:$B$1105,INDIRECT($A$14&ROW())),\"\"),\"\")","v":""},null,null,null,null,null,null,null,null,null,null,null,null,null,null,null,null,null,null,null,null,null,null,null,null,null,null,null,null,null,null,null,null,null,null,null,null,null,null,null,null,null,null,null,null,null,null,null,null,null,null,null,null,null,null,null,null,null,null,null,null,null,null,null,null,null,null,null,null,null,null,null,null,null,null,null,null,null,null,null,null,null,null,null,null,null,null,null,"CI01 GRAPE J",336]
[{"$f":"IFERROR(IF(INDIRECT($A$14&ROW())<>\"\",COUNTIF(Summary!$B$30:$B$1105,INDIRECT($A$14&ROW())),\"\"),\"\")","v":""},null,null,null,null,null,null,null,null,null,null,null,null,null,null,null,null,null,null,null,null,null,null,null,null,null,null,null,null,null,null,null,null,null,null,null,null,null,null,null,null,null,null,null,null,null,null,null,null,null,null,null,null,null,null,null,null,null,null,null,null,null,null,null,null,null,null,null,null,null,null,null,null,null,null,null,null,null,null,null,null,null,null,null,null,null,null,null,"CI02 APPLE J",665]
[{"$f":"IFERROR(IF(INDIRECT($A$14&ROW())<>\"\",COUNTIF(Summary!$B$30:$B$1105,INDIRECT($A$14&ROW())),\"\"),\"\")","v":""},null,null,null,null,null,null,null,null,null,null,null,null,null,null,null,null,null,null,null,null,null,null,null,null,null,null,null,null,null,null,null,null,null,null,null,null,null,null,null,null,null,null,null,null,null,null,null,null,null,null,null,null,null,null,null,null,null,null,null,null,null,null,null,null,null,null,null,null,null,null,null,null,null,null,null,null,null,null,null,null,null,null,null,null,null,null,null,"CI04 MANGO J",442]
[{"$f":"IFERROR(IF(INDIRECT($A$14&ROW())<>\"\",COUNTIF(Summary!$B$30:$B$1105,INDIRECT($A$14&ROW())),\"\"),\"\")","v":""},null,null,null,null,null,null,null,null,null,null,null,null,null,null,null,null,null,null,null,null,null,null,null,null,null,null,null,null,null,null,null,null,null,null,null,null,null,null,null,null,null,null,null,null,null,null,null,null,null,null,null,null,null,null,null,null,null,null,null,null,null,null,null,null,null,null,null,null,null,null,null,null,null,null,null,null,null,null,null,null,null,null,null,null,null,null,null,"CI05 PASSION J",804]
[{"$f":"IFERROR(IF(INDIRECT($A$14&ROW())<>\"\",COUNTIF(Summary!$B$30:$B$1105,INDIRECT($A$14&ROW())),\"\"),\"\")","v":""},null,null,null,null,null,null,null,null,null,null,null,null,null,null,null,null,null,null,null,null,null,null,null,null,null,null,null,null,null,null,null,null,null,null,null,null,null,null,null,null,null,null,null,null,null,null,null,null,null,null,null,null,null,null,null,null,null,null,null,null,null,null,null,null,null,null,null,null,null,null,null,null,null,null,null,null,null,null,null,null,null,null,null,null,null,null,null,"CI06 RIBENA J",827]
[{"$f":"IFERROR(IF(INDIRECT($A$14&ROW())<>\"\",COUNTIF(Summary!$B$30:$B$1105,INDIRECT($A$14&ROW())),\"\"),\"\")","v":""},null,null,null,null,null,null,null,null,null,null,null,null,null,null,null,null,null,null,null,null,null,null,null,null,null,null,null,null,null,null,null,null,null,null,null,null,null,null,null,null,null,null,null,null,null,null,null,null,null,null,null,null,null,null,null,null,null,null,null,null,null,null,null,null,null,null,null,null,null,null,null,null,null,null,null,null,null,null,null,null,null,null,null,null,null,null,null,"CJ01 GRAPE SO",52]
[{"$f":"IFERROR(IF(INDIRECT($A$14&ROW())<>\"\",COUNTIF(Summary!$B$30:$B$1105,INDIRECT($A$14&ROW())),\"\"),\"\")","v":""},null,null,null,null,null,null,null,null,null,null,null,null,null,null,null,null,null,null,null,null,null,null,null,null,null,null,null,null,null,null,null,null,null,null,null,null,null,null,null,null,null,null,null,null,null,null,null,null,null,null,null,null,null,null,null,null,null,null,null,null,null,null,null,null,null,null,null,null,null,null,null,null,null,null,null,null,null,null,null,null,null,null,null,null,null,null,null,"CJ02 APPLE SO",85]
[{"$f":"IFERROR(IF(INDIRECT($A$14&ROW())<>\"\",COUNTIF(Summary!$B$30:$B$1105,INDIRECT($A$14&ROW())),\"\"),\"\")","v":""},null,null,null,null,null,null,null,null,null,null,null,null,null,null,null,null,null,null,null,null,null,null,null,null,null,null,null,null,null,null,null,null,null,null,null,null,null,null,null,null,null,null,null,null,null,null,null,null,null,null,null,null,null,null,null,null,null,null,null,null,null,null,null,null,null,null,null,null,null,null,null,null,null,null,null,null,null,null,null,null,null,null,null,null,null,null,null,"CJ04 MANGO SO",46]
[{"$f":"IFERROR(IF(INDIRECT($A$14&ROW())<>\"\",COUNTIF(Summary!$B$30:$B$1105,INDIRECT($A$14&ROW())),\"\"),\"\")","v":""},null,null,null,null,null,null,null,null,null,null,null,null,null,null,null,null,null,null,null,null,null,null,null,null,null,null,null,null,null,null,null,null,null,null,null,null,null,null,null,null,null,null,null,null,null,null,null,null,null,null,null,null,null,null,null,null,null,null,null,null,null,null,null,null,null,null,null,null,null,null,null,null,null,null,null,null,null,null,null,null,null,null,null,null,null,null,null,"CJ05 PASSION SO",93]
[{"$f":"IFERROR(IF(INDIRECT($A$14&ROW())<>\"\",COUNTIF(Summary!$B$30:$B$1105,INDIRECT($A$14&ROW())),\"\"),\"\")","v":""},null,null,null,null,null,null,null,null,null,null,null,null,null,null,null,null,null,null,null,null,null,null,null,null,null,null,null,null,null,null,null,null,null,null,null,null,null,null,null,null,null,null,null,null,null,null,null,null,null,null,null,null,null,null,null,null,null,null,null,null,null,null,null,null,null,null,null,null,null,null,null,null,null,null,null,null,null,null,null,null,null,null,null,null,null,null,null,"CJ06 RIBENA SO",124]
[{"$f":"IFERROR(IF(INDIRECT($A$14&ROW())<>\"\",COUNTIF(Summary!$B$30:$B$1105,INDIRECT($A$14&ROW())),\"\"),\"\")","v":""},null,null,null,null,null,null,null,null,null,null,null,null,null,null,null,null,null,null,null,null,null,null,null,null,null,null,null,null,null,null,null,null,null,null,null,null,null,null,null,null,null,null,null,null,null,null,null,null,null,null,null,null,null,null,null,null,null,null,null,null,null,null,null,null,null,null,null,null,null,null,null,null,null,null,null,null,null,null,null,null,null,null,null,null,null,null,null,"CL01 7 UP",376]
[{"$f":"IFERROR(IF(INDIRECT($A$14&ROW())<>\"\",COUNTIF(Summary!$B$30:$B$1105,INDIRECT($A$14&ROW())),\"\"),\"\")","v":""},null,null,null,null,null,null,null,null,null,null,null,null,null,null,null,null,null,null,null,null,null,null,null,null,null,null,null,null,null,null,null,null,null,null,null,null,null,null,null,null,null,null,null,null,null,null,null,null,null,null,null,null,null,null,null,null,null,null,null,null,null,null,null,null,null,null,null,null,null,null,null,null,null,null,null,null,null,null,null,null,null,null,null,null,null,null,null,"CL02 7 UP REVIVE",74]
[{"$f":"IFERROR(IF(INDIRECT($A$14&ROW())<>\"\",COUNTIF(Summary!$B$30:$B$1105,INDIRECT($A$14&ROW())),\"\"),\"\")","v":""},null,null,null,null,null,null,null,null,null,null,null,null,null,null,null,null,null,null,null,null,null,null,null,null,null,null,null,null,null,null,null,null,null,null,null,null,null,null,null,null,null,null,null,null,null,null,null,null,null,null,null,null,null,null,null,null,null,null,null,null,null,null,null,null,null,null,null,null,null,null,null,null,null,null,null,null,null,null,null,null,null,null,null,null,null,null,null,"CL03 PEPSI",946]
[{"$f":"IFERROR(IF(INDIRECT($A$14&ROW())<>\"\",COUNTIF(Summary!$B$30:$B$1105,INDIRECT($A$14&ROW())),\"\"),\"\")","v":""},null,null,null,null,null,null,null,null,null,null,null,null,null,null,null,null,null,null,null,null,null,null,null,null,null,null,null,null,null,null,null,null,null,null,null,null,null,null,null,null,null,null,null,null,null,null,null,null,null,null,null,null,null,null,null,null,null,null,null,null,null,null,null,null,null,null,null,null,null,null,null,null,null,null,null,null,null,null,null,null,null,null,null,null,null,null,null,"CM01 MILO (C)",964]
[{"$f":"IFERROR(IF(INDIRECT($A$14&ROW())<>\"\",COUNTIF(Summary!$B$30:$B$1105,INDIRECT($A$14&ROW())),\"\"),\"\")","v":""},null,null,null,null,null,null,null,null,null,null,null,null,null,null,null,null,null,null,null,null,null,null,null,null,null,null,null,null,null,null,null,null,null,null,null,null,null,null,null,null,null,null,null,null,null,null,null,null,null,null,null,null,null,null,null,null,null,null,null,null,null,null,null,null,null,null,null,null,null,null,null,null,null,null,null,null,null,null,null,null,null,null,null,null,null,null,null,"CM02 NESCAFE (C)",271]
[{"$f":"IFERROR(IF(INDIRECT($A$14&ROW())<>\"\",COUNTIF(Summary!$B$30:$B$1105,INDIRECT($A$14&ROW())),\"\"),\"\")","v":""},null,null,null,null,null,null,null,null,null,null,null,null,null,null,null,null,null,null,null,null,null,null,null,null,null,null,null,null,null,null,null,null,null,null,null,null,null,null,null,null,null,null,null,null,null,null,null,null,null,null,null,null,null,null,null,null,null,null,null,null,null,null,null,null,null,null,null,null,null,null,null,null,null,null,null,null,null,null,null,null,null,null,null,null,null,null,null,"CM03 TEA (C)",335]
[{"$f":"IFERROR(IF(INDIRECT($A$14&ROW())<>\"\",COUNTIF(Summary!$B$30:$B$1105,INDIRECT($A$14&ROW())),\"\"),\"\")","v":""},null,null,null,null,null,null,null,null,null,null,null,null,null,null,null,null,null,null,null,null,null,null,null,null,null,null,null,null,null,null,null,null,null,null,null,null,null,null,null,null,null,null,null,null,null,null,null,null,null,null,null,null,null,null,null,null,null,null,null,null,null,null,null,null,null,null,null,null,null,null,null,null,null,null,null,null,null,null,null,null,null,null,null,null,null,null,null,"CM04 LEMON TEA (C)",1288]
[{"$f":"IFERROR(IF(INDIRECT($A$14&ROW())<>\"\",COUNTIF(Summary!$B$30:$B$1105,INDIRECT($A$14&ROW())),\"\"),\"\")","v":""},null,null,null,null,null,null,null,null,null,null,null,null,null,null,null,null,null,null,null,null,null,null,null,null,null,null,null,null,null,null,null,null,null,null,null,null,null,null,null,null,null,null,null,null,null,null,null,null,null,null,null,null,null,null,null,null,null,null,null,null,null,null,null,null,null,null,null,null,null,null,null,null,null,null,null,null,null,null,null,null,null,null,null,null,null,null,null,"CM05 GRN TEA (C)",1457]
[{"$f":"IFERROR(IF(INDIRECT($A$14&ROW())<>\"\",COUNTIF(Summary!$B$30:$B$1105,INDIRECT($A$14&ROW())),\"\"),\"\")","v":""},null,null,null,null,null,null,null,null,null,null,null,null,null,null,null,null,null,null,null,null,null,null,null,null,null,null,null,null,null,null,null,null,null,null,null,null,null,null,null,null,null,null,null,null,null,null,null,null,null,null,null,null,null,null,null,null,null,null,null,null,null,null,null,null,null,null,null,null,null,null,null,null,null,null,null,null,null,null,null,null,null,null,null,null,null,null,null,"CM06 HNY GRN TEA (C)",2244]
[{"$f":"IFERROR(IF(INDIRECT($A$14&ROW())<>\"\",COUNTIF(Summary!$B$30:$B$1105,INDIRECT($A$14&ROW())),\"\"),\"\")","v":""},null,null,null,null,null,null,null,null,null,null,null,null,null,null,null,null,null,null,null,null,null,null,null,null,null,null,null,null,null,null,null,null,null,null,null,null,null,null,null,null,null,null,null,null,null,null,null,null,null,null,null,null,null,null,null,null,null,null,null,null,null,null,null,null,null,null,null,null,null,null,null,null,null,null,null,null,null,null,null,null,null,null,null,null,null,null,null,"CM07 HONEY (C)",587]
[{"$f":"IFERROR(IF(INDIRECT($A$14&ROW())<>\"\",COUNTIF(Summary!$B$30:$B$1105,INDIRECT($A$14&ROW())),\"\"),\"\")","v":""},null,null,null,null,null,null,null,null,null,null,null,null,null,null,null,null,null,null,null,null,null,null,null,null,null,null,null,null,null,null,null,null,null,null,null,null,null,null,null,null,null,null,null,null,null,null,null,null,null,null,null,null,null,null,null,null,null,null,null,null,null,null,null,null,null,null,null,null,null,null,null,null,null,null,null,null,null,null,null,null,null,null,null,null,null,null,null,"CM08 LEMON HONEY (C)",2601]
[{"$f":"IFERROR(IF(INDIRECT($A$14&ROW())<>\"\",COUNTIF(Summary!$B$30:$B$1105,INDIRECT($A$14&ROW())),\"\"),\"\")","v":""},null,null,null,null,null,null,null,null,null,null,null,null,null,null,null,null,null,null,null,null,null,null,null,null,null,null,null,null,null,null,null,null,null,null,null,null,null,null,null,null,null,null,null,null,null,null,null,null,null,null,null,null,null,null,null,null,null,null,null,null,null,null,null,null,null,null,null,null,null,null,null,null,null,null,null,null,null,null,null,null,null,null,null,null,null,null,null,"CN01 MILO (H)",788]
[{"$f":"IFERROR(IF(INDIRECT($A$14&ROW())<>\"\",COUNTIF(Summary!$B$30:$B$1105,INDIRECT($A$14&ROW())),\"\"),\"\")","v":""},null,null,null,null,null,null,null,null,null,null,null,null,null,null,null,null,null,null,null,null,null,null,null,null,null,null,null,null,null,null,null,null,null,null,null,null,null,null,null,null,null,null,null,null,null,null,null,null,null,null,null,null,null,null,null,null,null,null,null,null,null,null,null,null,null,null,null,null,null,null,null,null,null,null,null,null,null,null,null,null,null,null,null,null,null,null,null,"CN02 NESCAFE (H)",202]
[{"$f":"IFERROR(IF(INDIRECT($A$14&ROW())<>\"\",COUNTIF(Summary!$B$30:$B$1105,INDIRECT($A$14&ROW())),\"\"),\"\")","v":""},null,null,null,null,null,null,null,null,null,null,null,null,null,null,null,null,null,null,null,null,null,null,null,null,null,null,null,null,null,null,null,null,null,null,null,null,null,null,null,null,null,null,null,null,null,null,null,null,null,null,null,null,null,null,null,null,null,null,null,null,null,null,null,null,null,null,null,null,null,null,null,null,null,null,null,null,null,null,null,null,null,null,null,null,null,null,null,"CN03 TEA (H)",54]
[{"$f":"IFERROR(IF(INDIRECT($A$14&ROW())<>\"\",COUNTIF(Summary!$B$30:$B$1105,INDIRECT($A$14&ROW())),\"\"),\"\")","v":""},null,null,null,null,null,null,null,null,null,null,null,null,null,null,null,null,null,null,null,null,null,null,null,null,null,null,null,null,null,null,null,null,null,null,null,null,null,null,null,null,null,null,null,null,null,null,null,null,null,null,null,null,null,null,null,null,null,null,null,null,null,null,null,null,null,null,null,null,null,null,null,null,null,null,null,null,null,null,null,null,null,null,null,null,null,null,null,"CN04 LEMON TEA (H)",162]
[{"$f":"IFERROR(IF(INDIRECT($A$14&ROW())<>\"\",COUNTIF(Summary!$B$30:$B$1105,INDIRECT($A$14&ROW())),\"\"),\"\")","v":""},null,null,null,null,null,null,null,null,null,null,null,null,null,null,null,null,null,null,null,null,null,null,null,null,null,null,null,null,null,null,null,null,null,null,null,null,null,null,null,null,null,null,null,null,null,null,null,null,null,null,null,null,null,null,null,null,null,null,null,null,null,null,null,null,null,null,null,null,null,null,null,null,null,null,null,null,null,null,null,null,null,null,null,null,null,null,null,"CN05 GRN TEA (H)",402]
[{"$f":"IFERROR(IF(INDIRECT($A$14&ROW())<>\"\",COUNTIF(Summary!$B$30:$B$1105,INDIRECT($A$14&ROW())),\"\"),\"\")","v":""},null,null,null,null,null,null,null,null,null,null,null,null,null,null,null,null,null,null,null,null,null,null,null,null,null,null,null,null,null,null,null,null,null,null,null,null,null,null,null,null,null,null,null,null,null,null,null,null,null,null,null,null,null,null,null,null,null,null,null,null,null,null,null,null,null,null,null,null,null,null,null,null,null,null,null,null,null,null,null,null,null,null,null,null,null,null,null,"CN06 HNY GRN TEA (H)",670]
[{"$f":"IFERROR(IF(INDIRECT($A$14&ROW())<>\"\",COUNTIF(Summary!$B$30:$B$1105,INDIRECT($A$14&ROW())),\"\"),\"\")","v":""},null,null,null,null,null,null,null,null,null,null,null,null,null,null,null,null,null,null,null,null,null,null,null,null,null,null,null,null,null,null,null,null,null,null,null,null,null,null,null,null,null,null,null,null,null,null,null,null,null,null,null,null,null,null,null,null,null,null,null,null,null,null,null,null,null,null,null,null,null,null,null,null,null,null,null,null,null,null,null,null,null,null,null,null,null,null,null,"CN07 HONEY (H)",431]
[{"$f":"IFERROR(IF(INDIRECT($A$14&ROW())<>\"\",COUNTIF(Summary!$B$30:$B$1105,INDIRECT($A$14&ROW())),\"\"),\"\")","v":""},null,null,null,null,null,null,null,null,null,null,null,null,null,null,null,null,null,null,null,null,null,null,null,null,null,null,null,null,null,null,null,null,null,null,null,null,null,null,null,null,null,null,null,null,null,null,null,null,null,null,null,null,null,null,null,null,null,null,null,null,null,null,null,null,null,null,null,null,null,null,null,null,null,null,null,null,null,null,null,null,null,null,null,null,null,null,null,"CN08 LEMON HONEY (H)",1761]
[{"$f":"IFERROR(IF(INDIRECT($A$14&ROW())<>\"\",COUNTIF(Summary!$B$30:$B$1105,INDIRECT($A$14&ROW())),\"\"),\"\")","v":""},null,null,null,null,null,null,null,null,null,null,null,null,null,null,null,null,null,null,null,null,null,null,null,null,null,null,null,null,null,null,null,null,null,null,null,null,null,null,null,null,null,null,null,null,null,null,null,null,null,null,null,null,null,null,null,null,null,null,null,null,null,null,null,null,null,null,null,null,null,null,null,null,null,null,null,null,null,null,null,null,null,null,null,null,null,null,null,"CN12 CHAMOMILE (H)",127]
[{"$f":"IFERROR(IF(INDIRECT($A$14&ROW())<>\"\",COUNTIF(Summary!$B$30:$B$1105,INDIRECT($A$14&ROW())),\"\"),\"\")","v":""},null,null,null,null,null,null,null,null,null,null,null,null,null,null,null,null,null,null,null,null,null,null,null,null,null,null,null,null,null,null,null,null,null,null,null,null,null,null,null,null,null,null,null,null,null,null,null,null,null,null,null,null,null,null,null,null,null,null,null,null,null,null,null,null,null,null,null,null,null,null,null,null,null,null,null,null,null,null,null,null,null,null,null,null,null,null,null,"CN13 DARJEELING (H)",20]
[{"$f":"IFERROR(IF(INDIRECT($A$14&ROW())<>\"\",COUNTIF(Summary!$B$30:$B$1105,INDIRECT($A$14&ROW())),\"\"),\"\")","v":""},null,null,null,null,null,null,null,null,null,null,null,null,null,null,null,null,null,null,null,null,null,null,null,null,null,null,null,null,null,null,null,null,null,null,null,null,null,null,null,null,null,null,null,null,null,null,null,null,null,null,null,null,null,null,null,null,null,null,null,null,null,null,null,null,null,null,null,null,null,null,null,null,null,null,null,null,null,null,null,null,null,null,null,null,null,null,null,"CN14 EARL GREY (H)",72]
[{"$f":"IFERROR(IF(INDIRECT($A$14&ROW())<>\"\",COUNTIF(Summary!$B$30:$B$1105,INDIRECT($A$14&ROW())),\"\"),\"\")","v":""},null,null,null,null,null,null,null,null,null,null,null,null,null,null,null,null,null,null,null,null,null,null,null,null,null,null,null,null,null,null,null,null,null,null,null,null,null,null,null,null,null,null,null,null,null,null,null,null,null,null,null,null,null,null,null,null,null,null,null,null,null,null,null,null,null,null,null,null,null,null,null,null,null,null,null,null,null,null,null,null,null,null,null,null,null,null,null,"CO02 PLAIN WATER",878]
[{"$f":"IFERROR(IF(INDIRECT($A$14&ROW())<>\"\",COUNTIF(Summary!$B$30:$B$1105,INDIRECT($A$14&ROW())),\"\"),\"\")","v":""},null,null,null,null,null,null,null,null,null,null,null,null,null,null,null,null,null,null,null,null,null,null,null,null,null,null,null,null,null,null,null,null,null,null,null,null,null,null,null,null,null,null,null,null,null,null,null,null,null,null,null,null,null,null,null,null,null,null,null,null,null,null,null,null,null,null,null,null,null,null,null,null,null,null,null,null,null,null,null,null,null,null,null,null,null,null,null,"DB01 1001:BP CKN CP",93]
[{"$f":"IFERROR(IF(INDIRECT($A$14&ROW())<>\"\",COUNTIF(Summary!$B$30:$B$1105,INDIRECT($A$14&ROW())),\"\"),\"\")","v":""},null,null,null,null,null,null,null,null,null,null,null,null,null,null,null,null,null,null,null,null,null,null,null,null,null,null,null,null,null,null,null,null,null,null,null,null,null,null,null,null,null,null,null,null,null,null,null,null,null,null,null,null,null,null,null,null,null,null,null,null,null,null,null,null,null,null,null,null,null,null,null,null,null,null,null,null,null,null,null,null,null,null,null,null,null,null,null,"DB02 1002:GVY CHK CP",23]
[{"$f":"IFERROR(IF(INDIRECT($A$14&ROW())<>\"\",COUNTIF(Summary!$B$30:$B$1105,INDIRECT($A$14&ROW())),\"\"),\"\")","v":""},null,null,null,null,null,null,null,null,null,null,null,null,null,null,null,null,null,null,null,null,null,null,null,null,null,null,null,null,null,null,null,null,null,null,null,null,null,null,null,null,null,null,null,null,null,null,null,null,null,null,null,null,null,null,null,null,null,null,null,null,null,null,null,null,null,null,null,null,null,null,null,null,null,null,null,null,null,null,null,null,null,null,null,null,null,null,null,"DB03 1003:MSR CKN CP",115]
[{"$f":"IFERROR(IF(INDIRECT($A$14&ROW())<>\"\",COUNTIF(Summary!$B$30:$B$1105,INDIRECT($A$14&ROW())),\"\"),\"\")","v":""},null,null,null,null,null,null,null,null,null,null,null,null,null,null,null,null,null,null,null,null,null,null,null,null,null,null,null,null,null,null,null,null,null,null,null,null,null,null,null,null,null,null,null,null,null,null,null,null,null,null,null,null,null,null,null,null,null,null,null,null,null,null,null,null,null,null,null,null,null,null,null,null,null,null,null,null,null,null,null,null,null,null,null,null,null,null,null,"DB04 1004:CKN MARY",27]
[{"$f":"IFERROR(IF(INDIRECT($A$14&ROW())<>\"\",COUNTIF(Summary!$B$30:$B$1105,INDIRECT($A$14&ROW())),\"\"),\"\")","v":""},null,null,null,null,null,null,null,null,null,null,null,null,null,null,null,null,null,null,null,null,null,null,null,null,null,null,null,null,null,null,null,null,null,null,null,null,null,null,null,null,null,null,null,null,null,null,null,null,null,null,null,null,null,null,null,null,null,null,null,null,null,null,null,null,null,null,null,null,null,null,null,null,null,null,null,null,null,null,null,null,null,null,null,null,null,null,null,"DB05 1005:FISH&CHIP",40]
[{"$f":"IFERROR(IF(INDIRECT($A$14&ROW())<>\"\",COUNTIF(Summary!$B$30:$B$1105,INDIRECT($A$14&ROW())),\"\"),\"\")","v":""},null,null,null,null,null,null,null,null,null,null,null,null,null,null,null,null,null,null,null,null,null,null,null,null,null,null,null,null,null,null,null,null,null,null,null,null,null,null,null,null,null,null,null,null,null,null,null,null,null,null,null,null,null,null,null,null,null,null,null,null,null,null,null,null,null,null,null,null,null,null,null,null,null,null,null,null,null,null,null,null,null,null,null,null,null,null,null,"DB06 1006:SPAGHETTI",46]
[{"$f":"IFERROR(IF(INDIRECT($A$14&ROW())<>\"\",COUNTIF(Summary!$B$30:$B$1105,INDIRECT($A$14&ROW())),\"\"),\"\")","v":""},null,null,null,null,null,null,null,null,null,null,null,null,null,null,null,null,null,null,null,null,null,null,null,null,null,null,null,null,null,null,null,null,null,null,null,null,null,null,null,null,null,null,null,null,null,null,null,null,null,null,null,null,null,null,null,null,null,null,null,null,null,null,null,null,null,null,null,null,null,null,null,null,null,null,null,null,null,null,null,null,null,null,null,null,null,null,null,"DB07 1007:CHK SALAD",11]
[{"$f":"IFERROR(IF(INDIRECT($A$14&ROW())<>\"\",COUNTIF(Summary!$B$30:$B$1105,INDIRECT($A$14&ROW())),\"\"),\"\")","v":""},null,null,null,null,null,null,null,null,null,null,null,null,null,null,null,null,null,null,null,null,null,null,null,null,null,null,null,null,null,null,null,null,null,null,null,null,null,null,null,null,null,null,null,null,null,null,null,null,null,null,null,null,null,null,null,null,null,null,null,null,null,null,null,null,null,null,null,null,null,null,null,null,null,null,null,null,null,null,null,null,null,null,null,null,null,null,null,"DC01 1101:THAI CHK",60]
[{"$f":"IFERROR(IF(INDIRECT($A$14&ROW())<>\"\",COUNTIF(Summary!$B$30:$B$1105,INDIRECT($A$14&ROW())),\"\"),\"\")","v":""},null,null,null,null,null,null,null,null,null,null,null,null,null,null,null,null,null,null,null,null,null,null,null,null,null,null,null,null,null,null,null,null,null,null,null,null,null,null,null,null,null,null,null,null,null,null,null,null,null,null,null,null,null,null,null,null,null,null,null,null,null,null,null,null,null,null,null,null,null,null,null,null,null,null,null,null,null,null,null,null,null,null,null,null,null,null,null,"DC02 1102:MAMITE CHK",63]
[{"$f":"IFERROR(IF(INDIRECT($A$14&ROW())<>\"\",COUNTIF(Summary!$B$30:$B$1105,INDIRECT($A$14&ROW())),\"\"),\"\")","v":""},null,null,null,null,null,null,null,null,null,null,null,null,null,null,null,null,null,null,null,null,null,null,null,null,null,null,null,null,null,null,null,null,null,null,null,null,null,null,null,null,null,null,null,null,null,null,null,null,null,null,null,null,null,null,null,null,null,null,null,null,null,null,null,null,null,null,null,null,null,null,null,null,null,null,null,null,null,null,null,null,null,null,null,null,null,null,null,"DC04 1104:S&S CHK",31]
[{"$f":"IFERROR(IF(INDIRECT($A$14&ROW())<>\"\",COUNTIF(Summary!$B$30:$B$1105,INDIRECT($A$14&ROW())),\"\"),\"\")","v":""},null,null,null,null,null,null,null,null,null,null,null,null,null,null,null,null,null,null,null,null,null,null,null,null,null,null,null,null,null,null,null,null,null,null,null,null,null,null,null,null,null,null,null,null,null,null,null,null,null,null,null,null,null,null,null,null,null,null,null,null,null,null,null,null,null,null,null,null,null,null,null,null,null,null,null,null,null,null,null,null,null,null,null,null,null,null,null,"DC05 1105:BUTTER CHK",130]
[{"$f":"IFERROR(IF(INDIRECT($A$14&ROW())<>\"\",COUNTIF(Summary!$B$30:$B$1105,INDIRECT($A$14&ROW())),\"\"),\"\")","v":""},null,null,null,null,null,null,null,null,null,null,null,null,null,null,null,null,null,null,null,null,null,null,null,null,null,null,null,null,null,null,null,null,null,null,null,null,null,null,null,null,null,null,null,null,null,null,null,null,null,null,null,null,null,null,null,null,null,null,null,null,null,null,null,null,null,null,null,null,null,null,null,null,null,null,null,null,null,null,null,null,null,null,null,null,null,null,null,"DC06 1106:HK F.RICE",56]
[{"$f":"IFERROR(IF(INDIRECT($A$14&ROW())<>\"\",COUNTIF(Summary!$B$30:$B$1105,INDIRECT($A$14&ROW())),\"\"),\"\")","v":""},null,null,null,null,null,null,null,null,null,null,null,null,null,null,null,null,null,null,null,null,null,null,null,null,null,null,null,null,null,null,null,null,null,null,null,null,null,null,null,null,null,null,null,null,null,null,null,null,null,null,null,null,null,null,null,null,null,null,null,null,null,null,null,null,null,null,null,null,null,null,null,null,null,null,null,null,null,null,null,null,null,null,null,null,null,null,null,"DC07 1107:SBL F.RICE",51]
[{"$f":"IFERROR(IF(INDIRECT($A$14&ROW())<>\"\",COUNTIF(Summary!$B$30:$B$1105,INDIRECT($A$14&ROW())),\"\"),\"\")","v":""},null,null,null,null,null,null,null,null,null,null,null,null,null,null,null,null,null,null,null,null,null,null,null,null,null,null,null,null,null,null,null,null,null,null,null,null,null,null,null,null,null,null,null,null,null,null,null,null,null,null,null,null,null,null,null,null,null,null,null,null,null,null,null,null,null,null,null,null,null,null,null,null,null,null,null,null,null,null,null,null,null,null,null,null,null,null,null,"DC08 1108:SBL F.MEE",7]
[{"$f":"IFERROR(IF(INDIRECT($A$14&ROW())<>\"\",COUNTIF(Summary!$B$30:$B$1105,INDIRECT($A$14&ROW())),\"\"),\"\")","v":""},null,null,null,null,null,null,null,null,null,null,null,null,null,null,null,null,null,null,null,null,null,null,null,null,null,null,null,null,null,null,null,null,null,null,null,null,null,null,null,null,null,null,null,null,null,null,null,null,null,null,null,null,null,null,null,null,null,null,null,null,null,null,null,null,null,null,null,null,null,null,null,null,null,null,null,null,null,null,null,null,null,null,null,null,null,null,null,"DC09 1109:BP UDON",27]
[{"$f":"IFERROR(IF(INDIRECT($A$14&ROW())<>\"\",COUNTIF(Summary!$B$30:$B$1105,INDIRECT($A$14&ROW())),\"\"),\"\")","v":""},null,null,null,null,null,null,null,null,null,null,null,null,null,null,null,null,null,null,null,null,null,null,null,null,null,null,null,null,null,null,null,null,null,null,null,null,null,null,null,null,null,null,null,null,null,null,null,null,null,null,null,null,null,null,null,null,null,null,null,null,null,null,null,null,null,null,null,null,null,null,null,null,null,null,null,null,null,null,null,null,null,null,null,null,null,null,null,"DC10 1110:NISSIN",19]
[{"$f":"IFERROR(IF(INDIRECT($A$14&ROW())<>\"\",COUNTIF(Summary!$B$30:$B$1105,INDIRECT($A$14&ROW())),\"\"),\"\")","v":""},null,null,null,null,null,null,null,null,null,null,null,null,null,null,null,null,null,null,null,null,null,null,null,null,null,null,null,null,null,null,null,null,null,null,null,null,null,null,null,null,null,null,null,null,null,null,null,null,null,null,null,null,null,null,null,null,null,null,null,null,null,null,null,null,null,null,null,null,null,null,null,null,null,null,null,null,null,null,null,null,null,null,null,null,null,null,null,"DC11 1111:VEG RICE",7]
[{"$f":"IFERROR(IF(INDIRECT($A$14&ROW())<>\"\",COUNTIF(Summary!$B$30:$B$1105,INDIRECT($A$14&ROW())),\"\"),\"\")","v":""},null,null,null,null,null,null,null,null,null,null,null,null,null,null,null,null,null,null,null,null,null,null,null,null,null,null,null,null,null,null,null,null,null,null,null,null,null,null,null,null,null,null,null,null,null,null,null,null,null,null,null,null,null,null,null,null,null,null,null,null,null,null,null,null,null,null,null,null,null,null,null,null,null,null,null,null,null,null,null,null,null,null,null,null,null,null,null,"DC15 1115:CHK NOODLE",22]
[{"$f":"IFERROR(IF(INDIRECT($A$14&ROW())<>\"\",COUNTIF(Summary!$B$30:$B$1105,INDIRECT($A$14&ROW())),\"\"),\"\")","v":""},null,null,null,null,null,null,null,null,null,null,null,null,null,null,null,null,null,null,null,null,null,null,null,null,null,null,null,null,null,null,null,null,null,null,null,null,null,null,null,null,null,null,null,null,null,null,null,null,null,null,null,null,null,null,null,null,null,null,null,null,null,null,null,null,null,null,null,null,null,null,null,null,null,null,null,null,null,null,null,null,null,null,null,null,null,null,null,"DC16 1116:MGL CHICKEN",22]
[{"$f":"IFERROR(IF(INDIRECT($A$14&ROW())<>\"\",COUNTIF(Summary!$B$30:$B$1105,INDIRECT($A$14&ROW())),\"\"),\"\")","v":""},null,null,null,null,null,null,null,null,null,null,null,null,null,null,null,null,null,null,null,null,null,null,null,null,null,null,null,null,null,null,null,null,null,null,null,null,null,null,null,null,null,null,null,null,null,null,null,null,null,null,null,null,null,null,null,null,null,null,null,null,null,null,null,null,null,null,null,null,null,null,null,null,null,null,null,null,null,null,null,null,null,null,null,null,null,null,null,"DD02 1202:FREN FRIES",80]
[{"$f":"IFERROR(IF(INDIRECT($A$14&ROW())<>\"\",COUNTIF(Summary!$B$30:$B$1105,INDIRECT($A$14&ROW())),\"\"),\"\")","v":""},null,null,null,null,null,null,null,null,null,null,null,null,null,null,null,"ZAC08 1308:C/CALAMARI",2,null,null,null,null,null,null,null,null,null,null,null,null,null,null,null,null,null,null,null,null,null,null,null,null,null,null,null,null,null,null,null,null,null,null,null,null,null,"ZZZZZ UPGRADE TO HEI",null,null,"ZAD37 ICE BUCKET",12,null,"ZAD21 TAKE AWAY",3,null,null,null,null,null,null,null,null,null,null,null,null,null,"ZAD36 BEER GLASS",22,null,"ZAD17 WITHOUT SUGAR",3,null,null,null,null,null,null,null,"DD03 1203:GOLD MROOM",11]
[{"$f":"IFERROR(IF(INDIRECT($A$14&ROW())<>\"\",COUNTIF(Summary!$B$30:$B$1105,INDIRECT($A$14&ROW())),\"\"),\"\")","v":""},null,null,null,null,null,null,null,null,null,null,null,null,null,null,null,"ZAC10 1310:Mc SPIRAL/F",5,null,null,null,null,null,null,null,null,null,null,null,null,null,null,null,null,null,null,null,null,null,null,null,null,null,null,null,null,null,null,null,null,null,null,null,null,null,null,null,null,"ZZZZZ APPLY MEM",null,null,"ZAD36 BEER GLASS",26,null,null,null,null,null,null,null,null,null,null,null,null,null,"ZAD37 ICE BUCKET",10,null,"ZAD20 JUG",8,null,null,null,null,null,null,null,"DD04 1204:FISHBALL",14]
[{"$f":"IFERROR(IF(INDIRECT($A$14&ROW())<>\"\",COUNTIF(Summary!$B$30:$B$1105,INDIRECT($A$14&ROW())),\"\"),\"\")","v":""},null,null,null,null,null,null,null,null,null,null,null,null,null,null,null,"ZAC11 1311:Mc H/SMILES",1,null,null,null,null,null,null,null,null,null,null,null,null,null,null,null,null,null,null,null,null,null,null,null,null,null,null,null,null,null,null,null,null,null,null,null,null,null,null,null,null,null,null,null,"ZAD37 ICE BUCKET",8,null,null,null,null,null,null,null,null,null,null,null,null,null,"ZZZZZ PRICE NOT CHANGE",null,null,"ZAD36 BEER GLASS",46,null,null,null,null,null,null,null,"DD06 1206:SPRING RL",17]
[{"$f":"IFERROR(IF(INDIRECT($A$14&ROW())<>\"\",COUNTIF(Summary!$B$30:$B$1105,INDIRECT($A$14&ROW())),\"\"),\"\")","v":""},null,null,null,null,null,null,null,null,null,null,null,null,null,null,null,"ZAC12 1312:Mc HASH/B",1,null,null,null,null,null,null,null,null,null,null,null,null,null,null,null,null,null,null,null,null,null,null,null,null,null,null,null,null,null,null,null,null,null,null,null,null,null,null,null,null,null,null,null,"ZZZZZ SOLD OUT",null,null,null,null,null,null,null,null,null,null,null,null,null,null,null,null,null,"ZAD37 ICE BUCKET",14,null,null,null,null,null,null,null,"DD07 1207:SAUSAGE",17]
[{"$f":"IFERROR(IF(INDIRECT($A$14&ROW())<>\"\",COUNTIF(Summary!$B$30:$B$1105,INDIRECT($A$14&ROW())),\"\"),\"\")","v":""},null,null,null,null,null,null,null,null,null,null,null,null,null,null,null,"ZAD01 COLD",7,null,null,null,null,null,null,null,null,null,null,null,null,null,null,null,null,null,null,null,null,null,null,null,null,null,null,null,null,null,null,null,null,null,null,null,null,null,null,null,null,null,null,null,null,null,null,null,null,null,null,null,null,null,null,null,null,null,null,null,null,null,"ZZZZZ CHANGE REGULAR",null,null,null,null,null,null,null,null,"DD11 1302:NUGGET",39]
[{"$f":"IFERROR(IF(INDIRECT($A$14&ROW())<>\"\",COUNTIF(Summary!$B$30:$B$1105,INDIRECT($A$14&ROW())),\"\"),\"\")","v":""},null,null,null,null,null,null,null,null,null,null,null,null,null,null,null,"ZAD02 HOT",7,null,null,null,null,null,null,null,null,null,null,null,null,null,null,null,null,null,null,null,null,null,null,null,null,null,null,null,null,null,null,null,null,null,null,null,null,null,null,null,null,null,null,null,null,null,null,null,null,null,null,null,null,null,null,null,null,null,null,null,null,null,null,null,null,null,null,null,null,null,null,"DD12 1303:CHK WING",31]
[{"$f":"IFERROR(IF(INDIRECT($A$14&ROW())<>\"\",COUNTIF(Summary!$B$30:$B$1105,INDIRECT($A$14&ROW())),\"\"),\"\")","v":""},null,null,null,null,null,null,null,null,null,null,null,null,null,null,null,"ZAD03 WARM",25,null,null,null,null,null,null,null,null,null,null,null,null,null,null,null,null,null,null,null,null,null,null,null,null,null,null,null,null,null,null,null,null,null,null,null,null,null,null,null,null,null,null,null,null,null,null,null,null,null,null,null,null,null,null,null,null,null,null,null,null,null,null,null,null,null,null,null,null,null,null,"DD13 1304:IKAN BILIS",9]
[{"$f":"IFERROR(IF(INDIRECT($A$14&ROW())<>\"\",COUNTIF(Summary!$B$30:$B$1105,INDIRECT($A$14&ROW())),\"\"),\"\")","v":""},null,null,null,null,null,null,null,null,null,null,null,null,null,null,null,"ZAD04 LESS ICE",58,null,null,null,null,null,null,null,null,null,null,null,null,null,null,null,null,null,null,null,null,null,null,null,null,null,null,null,null,null,null,null,null,null,null,null,null,null,null,null,null,null,null,null,null,null,null,null,null,null,null,null,null,null,null,null,null,null,null,null,null,null,null,null,null,null,null,null,null,null,null,"DD14 1305:THAI RL",5]
[{"$f":"IFERROR(IF(INDIRECT($A$14&ROW())<>\"\",COUNTIF(Summary!$B$30:$B$1105,INDIRECT($A$14&ROW())),\"\"),\"\")","v":""},null,null,null,null,null,null,null,null,null,null,null,null,null,null,null,"ZAD06 NO ICE",25,null,null,null,null,null,null,null,null,null,null,null,null,null,null,null,null,null,null,null,null,null,null,null,null,null,null,null,null,null,null,null,null,null,null,null,null,null,null,null,null,null,null,null,null,null,null,null,null,null,null,null,null,null,null,null,null,null,null,null,null,null,null,null,null,null,null,null,null,null,null,"DD16 1307:D.F C/WING",13]
[{"$f":"IFERROR(IF(INDIRECT($A$14&ROW())<>\"\",COUNTIF(Summary!$B$30:$B$1105,INDIRECT($A$14&ROW())),\"\"),\"\")","v":""},null,null,null,null,null,null,null,null,null,null,null,null,null,null,null,"ZAD07 LESS SWEET",6,null,null,null,null,null,null,null,null,null,null,null,null,null,null,null,null,null,null,null,null,null,null,null,null,null,null,null,null,null,null,null,null,null,null,null,null,null,null,null,null,null,null,null,null,null,null,null,null,null,null,null,null,null,null,null,null,null,null,null,null,null,null,null,null,null,null,null,null,null,null,"DD17 1308 C/CALAMARI",11]
[{"$f":"IFERROR(IF(INDIRECT($A$14&ROW())<>\"\",COUNTIF(Summary!$B$30:$B$1105,INDIRECT($A$14&ROW())),\"\"),\"\")","v":""},null,null,null,null,null,null,null,null,null,null,null,null,null,null,null,"ZAD13 ADD LEMON",2,null,null,null,null,null,null,null,null,null,null,null,null,null,null,null,null,null,null,null,null,null,null,null,null,null,null,null,null,null,null,null,null,null,null,null,null,null,null,null,null,null,null,null,null,null,null,null,null,null,null,null,null,null,null,null,null,null,null,null,null,null,null,null,null,null,null,null,null,null,null,"DD18 1309 Mc C/O.RING",6]
[{"$f":"IFERROR(IF(INDIRECT($A$14&ROW())<>\"\",COUNTIF(Summary!$B$30:$B$1105,INDIRECT($A$14&ROW())),\"\"),\"\")","v":""},null,null,null,null,null,null,null,null,null,null,null,null,null,null,null,"ZAD20 JUG",4,null,null,null,null,null,null,null,null,null,null,null,null,null,null,null,null,null,null,null,null,null,null,null,null,null,null,null,null,null,null,null,null,null,null,null,null,null,null,null,null,null,null,null,null,null,null,null,null,null,null,null,null,null,null,null,null,null,null,null,null,null,null,null,null,null,null,null,null,null,null,"DD19 1310:Mc SPIRAL/F",7]
[{"$f":"IFERROR(IF(INDIRECT($A$14&ROW())<>\"\",COUNTIF(Summary!$B$30:$B$1105,INDIRECT($A$14&ROW())),\"\"),\"\")","v":""},null,null,null,null,null,null,null,null,null,null,null,null,null,null,null,"ZAD21 TAKE AWAY",4,null,null,null,null,null,null,null,null,null,null,null,null,null,null,null,null,null,null,null,null,null,null,null,null,null,null,null,null,null,null,null,null,null,null,null,null,null,null,null,null,null,null,null,null,null,null,null,null,null,null,null,null,null,null,null,null,null,null,null,null,null,null,null,null,null,null,null,null,null,null,"DD21 1312:Mc HASH BRW",8]
[{"$f":"IFERROR(IF(INDIRECT($A$14&ROW())<>\"\",COUNTIF(Summary!$B$30:$B$1105,INDIRECT($A$14&ROW())),\"\"),\"\")","v":""},null,null,null,null,null,null,null,null,null,null,null,null,null,null,null,"ZAD36 BEER GLASS",28,null,null,null,null,null,null,null,null,null,null,null,null,null,null,null,null,null,null,null,null,null,null,null,null,null,null,null,null,null,null,null,null,null,null,null,null,null,null,null,null,null,null,null,null,null,null,null,null,null,null,null,null,null,null,null,null,null,null,null,null,null,null,null,null,null,null,null,null,null,null,"DE01 SET 990",178]
[{"$f":"IFERROR(IF(INDIRECT($A$14&ROW())<>\"\",COUNTIF(Summary!$B$30:$B$1105,INDIRECT($A$14&ROW())),\"\"),\"\")","v":""},null,null,null,null,null,null,null,null,null,null,null,null,null,null,null,"ZAD37 ICE BUCKET",11,null,null,null,null,null,null,null,null,null,null,null,null,null,null,null,null,null,null,null,null,null,null,null,null,null,null,null,null,null,null,null,null,null,null,null,null,null,null,null,null,null,null,null,null,null,null,null,null,null,null,null,null,null,null,null,null,null,null,null,null,null,null,null,null,null,null,null,null,null,null,"DE02 SET 1390",134]
[{"$f":"IFERROR(IF(INDIRECT($A$14&ROW())<>\"\",COUNTIF(Summary!$B$30:$B$1105,INDIRECT($A$14&ROW())),\"\"),\"\")","v":""},null,null,null,null,null,null,null,null,null,null,null,null,null,null,null,"ZZZZZ WRONG KEY",null,null,null,null,null,null,null,null,null,null,null,null,null,null,null,null,null,null,null,null,null,null,null,null,null,null,null,null,null,null,null,null,null,null,null,null,null,null,null,null,null,null,null,null,null,null,null,null,null,null,null,null,null,null,null,null,null,null,null,null,null,null,null,null,null,null,null,null,null,null,null,"DF01 ADD RICE",15]
[{"$f":"IFERROR(IF(INDIRECT($A$14&ROW())<>\"\",COUNTIF(Summary!$B$30:$B$1105,INDIRECT($A$14&ROW())),\"\"),\"\")","v":""},null,null,null,null,null,null,null,null,null,null,null,null,null,null,null,null,null,null,null,null,null,null,null,null,null,null,null,null,null,null,null,null,null,null,null,null,null,null,null,null,null,null,null,null,null,null,null,null,null,null,null,null,null,null,null,null,null,null,null,null,null,null,null,null,null,null,null,null,null,null,null,null,null,null,null,null,null,null,null,null,null,null,null,null,null,null,null,"DF02 ADD F.EGG",9]
[{"$f":"IFERROR(IF(INDIRECT($A$14&ROW())<>\"\",COUNTIF(Summary!$B$30:$B$1105,INDIRECT($A$14&ROW())),\"\"),\"\")","v":""},null,null,null,null,null,null,null,null,null,null,null,null,null,null,null,null,null,null,null,null,null,null,null,null,null,null,null,null,null,null,null,null,null,null,null,null,null,null,null,null,null,null,null,null,null,null,null,null,null,null,null,null,null,null,null,null,null,null,null,null,null,null,null,null,null,null,null,null,null,null,null,null,null,null,null,null,null,null,null,null,null,null,null,null,null,null,null,"DF03 ADD SAUCE 1000",15]
[{"$f":"IFERROR(IF(INDIRECT($A$14&ROW())<>\"\",COUNTIF(Summary!$B$30:$B$1105,INDIRECT($A$14&ROW())),\"\"),\"\")","v":""},null,null,null,null,null,null,null,null,null,null,null,null,null,null,null,null,null,null,null,null,null,null,null,null,null,null,null,null,null,null,null,null,null,null,null,null,null,null,null,null,null,null,null,null,null,null,null,null,null,null,null,null,null,null,null,null,null,null,null,null,null,null,null,null,null,null,null,null,null,null,null,null,null,null,null,null,null,null,null,null,null,null,null,null,null,null,null,"DF04 ADD SAUCE BOLO",2]
[{"$f":"IFERROR(IF(INDIRECT($A$14&ROW())<>\"\",COUNTIF(Summary!$B$30:$B$1105,INDIRECT($A$14&ROW())),\"\"),\"\")","v":""},null,null,null,null,null,null,null,null,null,null,null,null,null,null,null,null,null,null,null,null,null,null,null,null,null,null,null,null,null,null,null,null,null,null,null,null,null,null,null,null,null,null,null,null,null,null,null,null,null,null,null,null,null,null,null,null,null,null,null,null,null,null,null,null,null,null,null,null,null,null,null,null,null,null,null,null,null,null,null,null,null,null,null,null,null,null,null,"DF05 ADD SAUCE BP",5]
[{"$f":"IFERROR(IF(INDIRECT($A$14&ROW())<>\"\",COUNTIF(Summary!$B$30:$B$1105,INDIRECT($A$14&ROW())),\"\"),\"\")","v":""},null,null,null,null,null,null,null,null,null,null,null,null,null,null,null,null,null,null,null,null,null,null,null,null,null,null,null,null,null,null,null,null,null,null,null,null,null,null,null,null,null,null,null,null,null,null,null,null,null,null,null,null,null,null,null,null,null,null,null,null,null,null,null,null,null,null,null,null,null,null,null,null,null,null,null,null,null,null,null,null,null,null,null,null,null,null,null,"DF07 ADD SAUCE C.PADI",39]
[{"$f":"IFERROR(IF(INDIRECT($A$14&ROW())<>\"\",COUNTIF(Summary!$B$30:$B$1105,INDIRECT($A$14&ROW())),\"\"),\"\")","v":""},null,null,null,null,null,null,null,null,null,null,null,null,null,null,null,null,null,null,null,null,null,null,null,null,null,null,null,null,null,null,null,null,null,null,null,null,null,null,null,null,null,null,null,null,null,null,null,null,null,null,null,null,null,null,null,null,null,null,null,null,null,null,null,null,null,null,null,null,null,null,null,null,null,null,null,null,null,null,null,null,null,null,null,null,null,null,null,"DF08 ADD SAUCE GS",1]
[{"$f":"IFERROR(IF(INDIRECT($A$14&ROW())<>\"\",COUNTIF(Summary!$B$30:$B$1105,INDIRECT($A$14&ROW())),\"\"),\"\")","v":""},null,null,null,null,null,null,null,null,null,null,null,null,null,null,null,null,null,null,null,null,null,null,null,null,null,null,null,null,null,null,null,null,null,null,null,null,null,null,null,null,null,null,null,null,null,null,null,null,null,null,null,null,null,null,null,null,null,null,null,null,null,null,null,null,null,null,null,null,null,null,null,null,null,null,null,null,null,null,null,null,null,null,null,null,null,null,null,"DF09 ADD SAUCE MAYO",87]
[{"$f":"IFERROR(IF(INDIRECT($A$14&ROW())<>\"\",COUNTIF(Summary!$B$30:$B$1105,INDIRECT($A$14&ROW())),\"\"),\"\")","v":""},null,null,null,null,null,null,null,null,null,null,null,null,null,null,null,null,null,null,null,null,null,null,null,null,null,null,null,null,null,null,null,null,null,null,null,null,null,null,null,null,null,null,null,null,null,null,null,null,null,null,null,null,null,null,null,null,null,null,null,null,null,null,null,null,null,null,null,null,null,null,null,null,null,null,null,null,null,null,null,null,null,null,null,null,null,null,null,"DF11 ADD SAUCE MR",5]
[{"$f":"IFERROR(IF(INDIRECT($A$14&ROW())<>\"\",COUNTIF(Summary!$B$30:$B$1105,INDIRECT($A$14&ROW())),\"\"),\"\")","v":""},null,null,null,null,null,null,null,null,null,null,null,null,null,null,null,null,null,null,null,null,null,null,null,null,null,null,null,null,null,null,null,null,null,null,null,null,null,null,null,null,null,null,null,null,null,null,null,null,null,null,null,null,null,null,null,null,null,null,null,null,null,null,null,null,null,null,null,null,null,null,null,null,null,null,null,null,null,null,null,null,null,null,null,null,null,null,null,"DF12 ADD SAUCE SAMBAL",2]
[{"$f":"IFERROR(IF(INDIRECT($A$14&ROW())<>\"\",COUNTIF(Summary!$B$30:$B$1105,INDIRECT($A$14&ROW())),\"\"),\"\")","v":""},null,null,null,null,null,null,null,null,null,null,null,null,null,null,null,null,null,null,null,null,null,null,null,null,null,null,null,null,null,null,null,null,null,null,null,null,null,null,null,null,null,null,null,null,null,null,null,null,null,null,null,null,null,null,null,null,null,null,null,null,null,null,null,null,null,null,null,null,null,null,null,null,null,null,null,null,null,null,null,null,null,null,null,null,null,null,null,"DF13 ADD SAUCE THAI",3]
[{"$f":"IFERROR(IF(INDIRECT($A$14&ROW())<>\"\",COUNTIF(Summary!$B$30:$B$1105,INDIRECT($A$14&ROW())),\"\"),\"\")","v":""},null,null,null,null,null,null,null,null,null,null,null,null,null,null,null,null,null,null,null,null,null,null,null,null,null,null,null,null,null,null,null,null,null,null,null,null,null,null,null,null,null,null,null,null,null,null,null,null,null,null,null,null,null,null,null,null,null,null,null,null,null,null,null,null,null,null,null,null,null,null,null,null,null,null,null,null,null,null,null,null,null,null,null,null,null,null,null,"DF14 ADD SAUCE TOMATO",95]
[{"$f":"IFERROR(IF(INDIRECT($A$14&ROW())<>\"\",COUNTIF(Summary!$B$30:$B$1105,INDIRECT($A$14&ROW())),\"\"),\"\")","v":""},null,null,null,null,null,null,null,null,null,null,null,null,null,null,null,null,null,null,null,null,null,null,null,null,null,null,null,null,null,null,null,null,null,null,null,null,null,null,null,null,null,null,null,null,null,null,null,null,null,null,null,null,null,null,null,null,null,null,null,null,null,null,null,null,null,null,null,null,null,null,null,null,null,null,null,null,null,null,null,null,null,null,null,null,null,null,null,"DF15 ADD TATA SAUCE",17]
[{"$f":"IFERROR(IF(INDIRECT($A$14&ROW())<>\"\",COUNTIF(Summary!$B$30:$B$1105,INDIRECT($A$14&ROW())),\"\"),\"\")","v":""},null,null,null,null,null,null,null,null,null,null,null,null,null,null,null,null,null,null,null,null,null,null,null,null,null,null,null,null,null,null,null,null,null,null,null,null,null,null,null,null,null,null,null,null,null,null,null,null,null,null,null,null,null,null,null,null,null,null,null,null,null,null,null,null,null,null,null,null,null,null,null,null,null,null,null,null,null,null,null,null,null,null,null,null,null,null,null,"DG01 91001:BP CHK CP",368]
[{"$f":"IFERROR(IF(INDIRECT($A$14&ROW())<>\"\",COUNTIF(Summary!$B$30:$B$1105,INDIRECT($A$14&ROW())),\"\"),\"\")","v":""},null,null,null,null,null,null,null,null,null,null,null,null,null,null,null,null,null,null,null,null,null,null,null,null,null,null,null,null,null,null,null,null,null,null,null,null,null,null,null,null,null,null,null,null,null,null,null,null,null,null,null,null,null,null,null,null,null,null,null,null,null,null,null,null,null,null,null,null,null,null,null,null,null,null,null,null,null,null,null,null,null,null,null,null,null,null,null,"DG02 91002:GVY CHK CP",117]
[{"$f":"IFERROR(IF(INDIRECT($A$14&ROW())<>\"\",COUNTIF(Summary!$B$30:$B$1105,INDIRECT($A$14&ROW())),\"\"),\"\")","v":""},null,null,null,null,null,null,null,null,null,null,null,null,null,null,null,null,null,null,null,null,null,null,null,null,null,null,null,null,null,null,null,null,null,null,null,null,null,null,null,null,null,null,null,null,null,null,null,null,null,null,null,null,null,null,null,null,null,null,null,null,null,null,null,null,null,null,null,null,null,null,null,null,null,null,null,null,null,null,null,null,null,null,null,null,null,null,null,"DG03 91003:MSR CHK CP",436]
[{"$f":"IFERROR(IF(INDIRECT($A$14&ROW())<>\"\",COUNTIF(Summary!$B$30:$B$1105,INDIRECT($A$14&ROW())),\"\"),\"\")","v":""},null,null,null,null,null,null,null,null,null,null,null,null,null,null,null,null,null,null,null,null,null,null,null,null,null,null,null,null,null,null,null,null,null,null,null,null,null,null,null,null,null,null,null,null,null,null,null,null,null,null,null,null,null,null,null,null,null,null,null,null,null,null,null,null,null,null,null,null,null,null,null,null,null,null,null,null,null,null,null,null,null,null,null,null,null,null,null,"DG04 91004:CKN MARY",203]
[{"$f":"IFERROR(IF(INDIRECT($A$14&ROW())<>\"\",COUNTIF(Summary!$B$30:$B$1105,INDIRECT($A$14&ROW())),\"\"),\"\")","v":""},null,null,null,null,null,null,null,null,null,null,null,null,null,null,null,null,null,null,null,null,null,null,null,null,null,null,null,null,null,null,null,null,null,null,null,null,null,null,null,null,null,null,null,null,null,null,null,null,null,null,null,null,null,null,null,null,null,null,null,null,null,null,null,null,null,null,null,null,null,null,null,null,null,null,null,null,null,null,null,null,null,null,null,null,null,null,null,"DG05 91005:FISH&CHIP",246]
[{"$f":"IFERROR(IF(INDIRECT($A$14&ROW())<>\"\",COUNTIF(Summary!$B$30:$B$1105,INDIRECT($A$14&ROW())),\"\"),\"\")","v":""},null,null,null,null,null,null,null,null,null,null,null,null,null,null,null,null,null,null,null,null,null,null,null,null,null,null,null,null,null,null,null,null,null,null,null,null,null,null,null,null,null,null,null,null,null,null,null,null,null,null,null,null,null,null,null,null,null,null,null,null,null,null,null,null,null,null,null,null,null,null,null,null,null,null,null,null,null,null,null,null,null,null,null,null,null,null,null,"DG06 91006:SPAGHETTI",160]
[{"$f":"IFERROR(IF(INDIRECT($A$14&ROW())<>\"\",COUNTIF(Summary!$B$30:$B$1105,INDIRECT($A$14&ROW())),\"\"),\"\")","v":""},null,null,null,null,null,null,null,null,null,null,null,null,null,null,null,null,null,null,null,null,null,null,null,null,null,null,null,null,null,null,null,null,null,null,null,null,null,null,null,null,null,null,null,null,null,null,null,null,null,null,null,null,null,null,null,null,null,null,null,null,null,null,null,null,null,null,null,null,null,null,null,null,null,null,null,null,null,null,null,null,null,null,null,null,null,null,null,"DG07 91007:CHK SALAD",71]
[{"$f":"IFERROR(IF(INDIRECT($A$14&ROW())<>\"\",COUNTIF(Summary!$B$30:$B$1105,INDIRECT($A$14&ROW())),\"\"),\"\")","v":""},null,null,null,null,null,null,null,null,null,null,null,null,null,null,null,null,null,null,null,null,null,null,null,null,null,null,null,null,null,null,null,null,null,null,null,null,null,null,null,null,null,null,null,null,null,null,null,null,null,null,null,null,null,null,null,null,null,null,null,null,null,null,null,null,null,null,null,null,null,null,null,null,null,null,null,null,null,null,null,null,null,null,null,null,null,null,null,"DH01 91101:THAI CHK",64]
[{"$f":"IFERROR(IF(INDIRECT($A$14&ROW())<>\"\",COUNTIF(Summary!$B$30:$B$1105,INDIRECT($A$14&ROW())),\"\"),\"\")","v":""},null,null,null,null,null,null,null,null,null,null,null,null,null,null,null,null,null,null,null,null,null,null,null,null,null,null,null,null,null,null,null,null,null,null,null,null,null,null,null,null,null,null,null,null,null,null,null,null,null,null,null,null,null,null,null,null,null,null,null,null,null,null,null,null,null,null,null,null,null,null,null,null,null,null,null,null,null,null,null,null,null,null,null,null,null,null,null,"DH02 91102:MAMITE CHK",114]
[{"$f":"IFERROR(IF(INDIRECT($A$14&ROW())<>\"\",COUNTIF(Summary!$B$30:$B$1105,INDIRECT($A$14&ROW())),\"\"),\"\")","v":""},null,null,null,null,null,null,null,null,null,null,null,null,null,null,null,null,null,null,null,null,null,null,null,null,null,null,null,null,null,null,null,null,null,null,null,null,null,null,null,null,null,null,null,null,null,null,null,null,null,null,null,null,null,null,null,null,null,null,null,null,null,null,null,null,null,null,null,null,null,null,null,null,null,null,null,null,null,null,null,null,null,null,null,null,null,null,null,"DH04 91104:S&S CHK",47]
[{"$f":"IFERROR(IF(INDIRECT($A$14&ROW())<>\"\",COUNTIF(Summary!$B$30:$B$1105,INDIRECT($A$14&ROW())),\"\"),\"\")","v":""},null,null,null,null,null,null,null,null,null,null,null,null,null,null,null,null,null,null,null,null,null,null,null,null,null,null,null,null,null,null,null,null,null,null,null,null,null,null,null,null,null,null,null,null,null,null,null,null,null,null,null,null,null,null,null,null,null,null,null,null,null,null,null,null,null,null,null,null,null,null,null,null,null,null,null,null,null,null,null,null,null,null,null,null,null,null,null,"DH05 91105:BUTTER CHK",140]
[{"$f":"IFERROR(IF(INDIRECT($A$14&ROW())<>\"\",COUNTIF(Summary!$B$30:$B$1105,INDIRECT($A$14&ROW())),\"\"),\"\")","v":""},null,null,null,null,null,null,null,null,null,null,null,null,null,null,null,null,null,null,null,null,null,null,null,null,null,null,null,null,null,null,null,null,null,null,null,null,null,null,null,null,null,null,null,null,null,null,null,null,null,null,null,null,null,null,null,null,null,null,null,null,null,null,null,null,null,null,null,null,null,null,null,null,null,null,null,null,null,null,null,null,null,null,null,null,null,null,null,"DH06 91106:HK F.RICE",105]
[{"$f":"IFERROR(IF(INDIRECT($A$14&ROW())<>\"\",COUNTIF(Summary!$B$30:$B$1105,INDIRECT($A$14&ROW())),\"\"),\"\")","v":""},null,null,null,null,null,null,null,null,null,null,null,null,null,null,null,null,null,null,null,null,null,null,null,null,null,null,null,null,null,null,null,null,null,null,null,null,null,null,null,null,null,null,null,null,null,null,null,null,null,null,null,null,null,null,null,null,null,null,null,null,null,null,null,null,null,null,null,null,null,null,null,null,null,null,null,null,null,null,null,null,null,null,null,null,null,null,null,"DH07 91107:SBL F.RICE",52]
[{"$f":"IFERROR(IF(INDIRECT($A$14&ROW())<>\"\",COUNTIF(Summary!$B$30:$B$1105,INDIRECT($A$14&ROW())),\"\"),\"\")","v":""},null,null,null,null,null,null,null,null,null,null,null,null,null,null,null,null,null,null,null,null,null,null,null,null,null,null,null,null,null,null,null,null,null,null,null,null,null,null,null,null,null,null,null,null,null,null,null,null,null,null,null,null,null,null,null,null,null,null,null,null,null,null,null,null,null,null,null,null,null,null,null,null,null,null,null,null,null,null,null,null,null,null,null,null,null,null,null,"DH08 91108:SBL F.MEE",11]
[{"$f":"IFERROR(IF(INDIRECT($A$14&ROW())<>\"\",COUNTIF(Summary!$B$30:$B$1105,INDIRECT($A$14&ROW())),\"\"),\"\")","v":""},null,null,null,null,null,null,null,null,null,null,null,null,null,null,null,null,null,null,null,null,null,null,null,null,null,null,null,null,null,null,null,null,null,null,null,null,null,null,null,null,null,null,null,null,null,null,null,null,null,null,null,null,null,null,null,null,null,null,null,null,null,null,null,null,null,null,null,null,null,null,null,null,null,null,null,null,null,null,null,null,null,null,null,null,null,null,null,"DH09 91109:BP UDON",49]
[{"$f":"IFERROR(IF(INDIRECT($A$14&ROW())<>\"\",COUNTIF(Summary!$B$30:$B$1105,INDIRECT($A$14&ROW())),\"\"),\"\")","v":""},null,null,null,null,null,null,null,null,null,null,null,null,null,null,null,null,null,null,null,null,null,null,null,null,null,null,null,null,null,null,null,null,null,null,null,null,null,null,null,null,null,null,null,null,null,null,null,null,null,null,null,null,null,null,null,null,null,null,null,null,null,null,null,null,null,null,null,null,null,null,null,null,null,null,null,null,null,null,null,null,null,null,null,null,null,null,null,"DH10 91110:NISSIN",34]
[{"$f":"IFERROR(IF(INDIRECT($A$14&ROW())<>\"\",COUNTIF(Summary!$B$30:$B$1105,INDIRECT($A$14&ROW())),\"\"),\"\")","v":""},null,null,null,null,null,null,null,null,null,null,null,null,null,null,null,null,null,null,null,null,null,null,null,null,null,null,null,null,null,null,null,null,null,null,null,null,null,null,null,null,null,null,null,null,null,null,null,null,null,null,null,null,null,null,null,null,null,null,null,null,null,null,null,null,null,null,null,null,null,null,null,null,null,null,null,null,null,null,null,null,null,null,null,null,null,null,null,"DH11 91111:VEG RICE",21]
[{"$f":"IFERROR(IF(INDIRECT($A$14&ROW())<>\"\",COUNTIF(Summary!$B$30:$B$1105,INDIRECT($A$14&ROW())),\"\"),\"\")","v":""},null,null,null,null,null,null,null,null,null,null,null,null,null,null,null,null,null,null,null,null,null,null,null,null,null,null,null,null,null,null,null,null,null,null,null,null,null,null,null,null,null,null,null,null,null,null,null,null,null,null,null,null,null,null,null,null,null,null,null,null,null,null,null,null,null,null,null,null,null,null,null,null,null,null,null,null,null,null,null,null,null,null,null,null,null,null,null,"DH15 91115:CHK NOODLE",33]
[{"$f":"IFERROR(IF(INDIRECT($A$14&ROW())<>\"\",COUNTIF(Summary!$B$30:$B$1105,INDIRECT($A$14&ROW())),\"\"),\"\")","v":""},null,null,null,null,null,null,null,null,null,null,null,null,null,null,null,null,null,null,null,null,null,null,null,null,null,null,null,null,null,null,null,null,null,null,null,null,null,null,null,null,null,null,null,null,null,null,null,null,null,null,null,null,null,null,null,null,null,null,null,null,null,null,null,null,null,null,null,null,null,null,null,null,null,null,null,null,null,null,null,null,null,null,null,null,null,null,null,"DH16 91116:MGL CHK",50]
[{"$f":"IFERROR(IF(INDIRECT($A$14&ROW())<>\"\",COUNTIF(Summary!$B$30:$B$1105,INDIRECT($A$14&ROW())),\"\"),\"\")","v":""},null,null,null,null,null,null,null,null,null,null,null,null,null,null,null,null,null,null,null,null,null,null,null,null,null,null,null,null,null,null,null,null,null,null,null,null,null,null,null,null,null,null,null,null,null,null,null,null,null,null,null,null,null,null,null,null,null,null,null,null,null,null,null,null,null,null,null,null,null,null,null,null,null,null,null,null,null,null,null,null,null,null,null,null,null,null,null,"DI01 91201:SFD STICK",3]
[{"$f":"IFERROR(IF(INDIRECT($A$14&ROW())<>\"\",COUNTIF(Summary!$B$30:$B$1105,INDIRECT($A$14&ROW())),\"\"),\"\")","v":""},null,null,null,null,null,null,null,null,null,null,null,null,null,null,null,null,null,null,null,null,null,null,null,null,null,null,null,null,null,null,null,null,null,null,null,null,null,null,null,null,null,null,null,null,null,null,null,null,null,null,null,null,null,null,null,null,null,null,null,null,null,null,null,null,null,null,null,null,null,null,null,null,null,null,null,null,null,null,null,null,null,null,null,null,null,null,null,"DI02 91202:FREN FRIES",28]
[{"$f":"IFERROR(IF(INDIRECT($A$14&ROW())<>\"\",COUNTIF(Summary!$B$30:$B$1105,INDIRECT($A$14&ROW())),\"\"),\"\")","v":""},null,null,null,null,null,null,null,null,null,null,null,null,null,null,null,null,null,null,null,null,null,null,null,null,null,null,null,null,null,null,null,null,null,null,null,null,null,null,null,null,null,null,null,null,null,null,null,null,null,null,null,null,null,null,null,null,null,null,null,null,null,null,null,null,null,null,null,null,null,null,null,null,null,null,null,null,null,null,null,null,null,null,null,null,null,null,null,"DI03 91203:GOLD MROOM",5]
[{"$f":"IFERROR(IF(INDIRECT($A$14&ROW())<>\"\",COUNTIF(Summary!$B$30:$B$1105,INDIRECT($A$14&ROW())),\"\"),\"\")","v":""},null,null,null,null,null,null,null,null,null,null,null,null,null,null,null,null,null,null,null,null,null,null,null,null,null,null,null,null,null,null,null,null,null,null,null,null,null,null,null,null,null,null,null,null,null,null,null,null,null,null,null,null,null,null,null,null,null,null,null,null,null,null,null,null,null,null,null,null,null,null,null,null,null,null,null,null,null,null,null,null,null,null,null,null,null,null,null,"DI04 91204:FISHBALL",6]
[{"$f":"IFERROR(IF(INDIRECT($A$14&ROW())<>\"\",COUNTIF(Summary!$B$30:$B$1105,INDIRECT($A$14&ROW())),\"\"),\"\")","v":""},null,null,null,null,null,null,null,null,null,null,null,null,null,null,null,null,null,null,null,null,null,null,null,null,null,null,null,null,null,null,null,null,null,null,null,null,null,null,null,null,null,null,null,null,null,null,null,null,null,null,null,null,null,null,null,null,null,null,null,null,null,null,null,null,null,null,null,null,null,null,null,null,null,null,null,null,null,null,null,null,null,null,null,null,null,null,null,"DI06 91206:SPRING RL",3]
[{"$f":"IFERROR(IF(INDIRECT($A$14&ROW())<>\"\",COUNTIF(Summary!$B$30:$B$1105,INDIRECT($A$14&ROW())),\"\"),\"\")","v":""},null,null,null,null,null,null,null,null,null,null,null,null,null,null,null,null,null,null,null,null,null,null,null,null,null,null,null,null,null,null,null,null,null,null,null,null,null,null,null,null,null,null,null,null,null,null,null,null,null,null,null,null,null,null,null,null,null,null,null,null,null,null,null,null,null,null,null,null,null,null,null,null,null,null,null,null,null,null,null,null,null,null,null,null,null,null,null,"DI07 91207:SAUSAGE",15]
[{"$f":"IFERROR(IF(INDIRECT($A$14&ROW())<>\"\",COUNTIF(Summary!$B$30:$B$1105,INDIRECT($A$14&ROW())),\"\"),\"\")","v":""},null,null,null,null,null,null,null,null,null,null,null,null,null,null,null,null,null,null,null,null,null,null,null,null,null,null,null,null,null,null,null,null,null,null,null,null,null,null,null,null,null,null,null,null,null,null,null,null,null,null,null,null,null,null,null,null,null,null,null,null,null,null,null,null,null,null,null,null,null,null,null,null,null,null,null,null,null,null,null,null,null,null,null,null,null,null,null,"DI11 91302:NUGGET",31]
[{"$f":"IFERROR(IF(INDIRECT($A$14&ROW())<>\"\",COUNTIF(Summary!$B$30:$B$1105,INDIRECT($A$14&ROW())),\"\"),\"\")","v":""},null,null,null,null,null,null,null,null,null,null,null,null,null,null,null,null,null,null,null,null,null,null,null,null,null,null,null,null,null,null,null,null,null,null,null,null,null,null,null,null,null,null,null,null,null,null,null,null,null,null,null,null,null,null,null,null,null,null,null,null,null,null,null,null,null,null,null,null,null,null,null,null,null,null,null,null,null,null,null,null,null,null,null,null,null,null,null,"DI12 91303:CHK WING",54]
[{"$f":"IFERROR(IF(INDIRECT($A$14&ROW())<>\"\",COUNTIF(Summary!$B$30:$B$1105,INDIRECT($A$14&ROW())),\"\"),\"\")","v":""},null,null,null,null,null,null,null,null,null,null,null,null,null,null,null,null,null,null,null,null,null,null,null,null,null,null,null,null,null,null,null,null,null,null,null,null,null,null,null,null,null,null,null,null,null,null,null,null,null,null,null,null,null,null,null,null,null,null,null,null,null,null,null,null,null,null,null,null,null,null,null,null,null,null,null,null,null,null,null,null,null,null,null,null,null,null,null,"DI13 91304:IKAN BILIS",2]
[{"$f":"IFERROR(IF(INDIRECT($A$14&ROW())<>\"\",COUNTIF(Summary!$B$30:$B$1105,INDIRECT($A$14&ROW())),\"\"),\"\")","v":""},null,null,null,null,null,null,null,null,null,null,null,null,null,null,null,null,null,null,null,null,null,null,null,null,null,null,null,null,null,null,null,null,null,null,null,null,null,null,null,null,null,null,null,null,null,null,null,null,null,null,null,null,null,null,null,null,null,null,null,null,null,null,null,null,null,null,null,null,null,null,null,null,null,null,null,null,null,null,null,null,null,null,null,null,null,null,null,"DI14 91305:THAI RL",3]
[{"$f":"IFERROR(IF(INDIRECT($A$14&ROW())<>\"\",COUNTIF(Summary!$B$30:$B$1105,INDIRECT($A$14&ROW())),\"\"),\"\")","v":""},null,null,null,null,null,null,null,null,null,null,null,null,null,null,null,null,null,null,null,null,null,null,null,null,null,null,null,null,null,null,null,null,null,null,null,null,null,null,null,null,null,null,null,null,null,null,null,null,null,null,null,null,null,null,null,null,null,null,null,null,null,null,null,null,null,null,null,null,null,null,null,null,null,null,null,null,null,null,null,null,null,null,null,null,null,null,null,"DI16 91307:D/F C.WING",30]
[{"$f":"IFERROR(IF(INDIRECT($A$14&ROW())<>\"\",COUNTIF(Summary!$B$30:$B$1105,INDIRECT($A$14&ROW())),\"\"),\"\")","v":""},null,null,null,null,null,null,null,null,null,null,null,null,null,null,null,null,null,null,null,null,null,null,null,null,null,null,null,null,null,null,null,null,null,null,null,null,null,null,null,null,null,null,null,null,null,null,null,null,null,null,null,null,null,null,null,null,null,null,null,null,null,null,null,null,null,null,null,null,null,null,null,null,null,null,null,null,null,null,null,null,null,null,null,null,null,null,null,"DI17 91308:C/CALAMARI",12]
[{"$f":"IFERROR(IF(INDIRECT($A$14&ROW())<>\"\",COUNTIF(Summary!$B$30:$B$1105,INDIRECT($A$14&ROW())),\"\"),\"\")","v":""},null,null,null,null,null,null,null,null,null,null,null,null,null,null,null,null,null,null,null,null,null,null,null,null,null,null,null,null,null,null,null,null,null,null,null,null,null,null,null,null,null,null,null,null,null,null,null,null,null,null,null,null,null,null,null,null,null,null,null,null,null,null,null,null,null,null,null,null,null,null,null,null,null,null,null,null,null,null,null,null,null,null,null,null,null,null,null,"DI18 91309:Mc O.RINGS",10]
[{"$f":"IFERROR(IF(INDIRECT($A$14&ROW())<>\"\",COUNTIF(Summary!$B$30:$B$1105,INDIRECT($A$14&ROW())),\"\"),\"\")","v":""},null,null,null,null,null,null,null,null,null,null,null,null,null,null,null,null,null,null,null,null,null,null,null,null,null,null,null,null,null,null,null,null,null,null,null,null,null,null,null,null,null,null,null,null,null,null,null,null,null,null,null,null,null,null,null,null,null,null,null,null,null,null,null,null,null,null,null,null,null,null,null,null,null,null,null,null,null,null,null,null,null,null,null,null,null,null,null,"DI19 91310:McSPIRAL.F",5]
[{"$f":"IFERROR(IF(INDIRECT($A$14&ROW())<>\"\",COUNTIF(Summary!$B$30:$B$1105,INDIRECT($A$14&ROW())),\"\"),\"\")","v":""},null,null,null,null,null,null,null,null,null,null,null,null,null,null,null,null,null,null,null,null,null,null,null,null,null,null,null,null,null,null,null,null,null,null,null,null,null,null,null,null,null,null,null,null,null,null,null,null,null,null,null,null,null,null,null,null,null,null,null,null,null,null,null,null,null,null,null,null,null,null,null,null,null,null,null,null,null,null,null,null,null,null,null,null,null,null,null,"DI20 91311Mc H/SMILES",3]
[{"$f":"IFERROR(IF(INDIRECT($A$14&ROW())<>\"\",COUNTIF(Summary!$B$30:$B$1105,INDIRECT($A$14&ROW())),\"\"),\"\")","v":""},null,null,null,null,null,null,null,null,null,null,null,null,null,null,null,null,null,null,null,null,null,null,null,null,null,null,null,null,null,null,null,null,null,null,null,null,null,null,null,null,null,null,null,null,null,null,null,null,null,null,null,null,null,null,null,null,null,null,null,null,null,null,null,null,null,null,null,null,null,null,null,null,null,null,null,null,null,null,null,null,null,null,null,null,null,null,null,"DI21 91312:Mc HASH.B",10]
[{"$f":"IFERROR(IF(INDIRECT($A$14&ROW())<>\"\",COUNTIF(Summary!$B$30:$B$1105,INDIRECT($A$14&ROW())),\"\"),\"\")","v":""},null,null,null,null,null,null,null,null,null,null,null,null,null,null,null,null,null,null,null,null,null,null,null,null,null,null,null,null,null,null,null,null,null,null,null,null,null,null,null,null,null,null,null,null,null,null,null,null,null,null,null,null,null,null,null,null,null,null,null,null,null,null,null,null,null,null,null,null,null,null,null,null,null,null,null,null,null,null,null,null,null,null,null,null,null,null,null,"DM01 SNACK PLATTER(A)",7]
[{"$f":"IFERROR(IF(INDIRECT($A$14&ROW())<>\"\",COUNTIF(Summary!$B$30:$B$1105,INDIRECT($A$14&ROW())),\"\"),\"\")","v":""},null,null,null,null,null,null,null,null,null,null,null,null,null,null,null,null,null,null,null,null,null,null,null,null,null,null,null,null,null,null,null,null,null,null,null,null,null,null,null,null,null,null,null,null,null,null,null,null,null,null,null,null,null,null,null,null,null,null,null,null,null,null,null,null,null,null,null,null,null,null,null,null,null,null,null,null,null,null,null,null,null,null,null,null,null,null,null,"DM02 SNACK PLATTER(B)",6]
[{"$f":"IFERROR(IF(INDIRECT($A$14&ROW())<>\"\",COUNTIF(Summary!$B$30:$B$1105,INDIRECT($A$14&ROW())),\"\"),\"\")","v":""},null,null,null,null,null,null,null,null,null,null,null,null,null,null,null,null,null,null,null,null,null,null,null,null,null,null,null,null,null,null,null,null,null,null,null,null,null,null,null,null,null,null,null,null,null,null,null,null,null,null,null,null,null,null,null,null,null,null,null,null,null,null,null,null,null,null,null,null,null,null,null,null,null,null,null,null,null,null,null,null,null,null,null,null,null,null,null,"EA01 TIDBITS",11]
[{"$f":"IFERROR(IF(INDIRECT($A$14&ROW())<>\"\",COUNTIF(Summary!$B$30:$B$1105,INDIRECT($A$14&ROW())),\"\"),\"\")","v":""},null,null,null,null,null,null,null,null,null,null,null,null,null,null,null,null,null,null,null,null,null,null,null,null,null,null,null,null,null,null,null,null,null,null,null,null,null,null,null,null,null,null,null,null,null,null,null,null,null,null,null,null,null,null,null,null,null,null,null,null,null,null,null,null,null,null,null,null,null,null,null,null,null,null,null,null,null,null,null,null,null,null,null,null,null,null,null,"GA09 LIGHTER",17]
[{"$f":"IFERROR(IF(INDIRECT($A$14&ROW())<>\"\",COUNTIF(Summary!$B$30:$B$1105,INDIRECT($A$14&ROW())),\"\"),\"\")","v":""},null,null,null,null,null,null,null,null,null,null,null,null,null,null,null,null,null,null,null,null,null,null,null,null,null,null,null,null,null,null,null,null,null,null,null,null,null,null,null,null,null,null,null,null,null,null,null,null,null,null,null,null,null,null,null,null,null,null,null,null,null,null,null,null,null,null,null,null,null,null,null,null,null,null,null,null,null,null,null,null,null,null,null,null,null,null,null,"GC01 CARD NEW",53]
[{"$f":"IFERROR(IF(INDIRECT($A$14&ROW())<>\"\",COUNTIF(Summary!$B$30:$B$1105,INDIRECT($A$14&ROW())),\"\"),\"\")","v":""},null,null,null,null,null,null,null,null,null,null,null,null,null,null,null,null,null,null,null,null,null,null,null,null,null,null,null,null,null,null,null,null,null,null,null,null,null,null,null,null,null,null,null,null,null,null,null,null,null,null,null,null,null,null,null,null,null,null,null,null,null,null,null,null,null,null,null,null,null,null,null,null,null,null,null,null,null,null,null,null,null,null,null,null,null,null,null,"GC02 CARD REPLACE",5]
[{"$f":"IFERROR(IF(INDIRECT($A$14&ROW())<>\"\",COUNTIF(Summary!$B$30:$B$1105,INDIRECT($A$14&ROW())),\"\"),\"\")","v":""},null,null,null,null,null,null,null,null,null,null,null,null,null,null,null,null,null,null,null,null,null,null,null,null,null,null,null,null,null,null,null,null,null,null,null,null,null,null,null,null,null,null,null,null,null,null,null,null,null,null,null,null,null,null,null,null,null,null,null,null,null,null,null,null,null,null,null,null,null,null,null,null,null,null,null,null,null,null,null,null,null,null,null,null,null,null,null,"GC03 Student Mem Card",3]
[{"$f":"IFERROR(IF(INDIRECT($A$14&ROW())<>\"\",COUNTIF(Summary!$B$30:$B$1105,INDIRECT($A$14&ROW())),\"\"),\"\")","v":""},null,null,null,null,null,null,null,null,null,null,null,null,null,null,null,null,null,null,null,null,null,null,null,null,null,null,null,null,null,null,null,null,null,null,null,null,null,null,null,null,null,null,null,null,null,null,null,null,null,null,null,null,null,null,null,null,null,null,null,null,null,null,null,null,null,null,null,null,null,null,null,null,null,null,null,null,null,null,null,null,null,null,null,null,null,null,null,"GC05 AEON MEMBER 50%",37]
[{"$f":"IFERROR(IF(INDIRECT($A$14&ROW())<>\"\",COUNTIF(Summary!$B$30:$B$1105,INDIRECT($A$14&ROW())),\"\"),\"\")","v":""},null,null,null,null,null,null,null,null,null,null,null,null,null,null,null,null,null,null,null,null,null,null,null,null,null,null,null,null,null,null,null,null,null,null,null,null,null,null,null,null,null,null,null,null,null,null,null,null,null,null,null,null,null,null,null,null,null,null,null,null,null,null,null,null,null,null,null,null,null,null,null,null,null,null,null,null,null,null,null,null,null,null,null,null,null,null,null,"GD01 MIKE COVER 01",1]
[{"$f":"IFERROR(IF(INDIRECT($A$14&ROW())<>\"\",COUNTIF(Summary!$B$30:$B$1105,INDIRECT($A$14&ROW())),\"\"),\"\")","v":""},null,null,null,null,null,null,null,null,null,null,null,null,null,null,null,null,null,null,null,null,null,null,null,null,null,null,null,null,null,null,null,null,null,null,null,null,null,null,null,null,null,null,null,null,null,null,null,null,null,null,null,null,null,null,null,null,null,null,null,null,null,null,null,null,null,null,null,null,null,null,null,null,null,null,null,null,null,null,null,null,null,null,null,null,null,null,null,"GD02 MIKE COVER 03",31]
[{"$f":"IFERROR(IF(INDIRECT($A$14&ROW())<>\"\",COUNTIF(Summary!$B$30:$B$1105,INDIRECT($A$14&ROW())),\"\"),\"\")","v":""},null,null,null,null,null,null,null,null,null,null,null,null,null,null,null,null,null,null,null,null,null,null,null,null,null,null,null,null,null,null,null,null,null,null,null,null,null,null,null,null,null,null,null,null,null,null,null,null,null,null,null,null,null,null,null,null,null,null,null,null,null,null,null,null,null,null,null,null,null,null,null,null,null,null,null,null,null,null,null,null,null,null,null,null,null,null,null,"GE01 DUNHILL",30]
[{"$f":"IFERROR(IF(INDIRECT($A$14&ROW())<>\"\",COUNTIF(Summary!$B$30:$B$1105,INDIRECT($A$14&ROW())),\"\"),\"\")","v":""},null,null,null,null,null,null,null,null,null,null,null,null,null,null,null,null,null,null,null,null,null,null,null,null,null,null,null,null,null,null,null,null,null,null,null,null,null,null,null,null,null,null,null,null,null,null,null,null,null,null,null,null,null,null,null,null,null,null,null,null,null,null,null,null,null,null,null,null,null,null,null,null,null,null,null,null,null,null,null,null,null,null,null,null,null,null,null,"GE02 DUNHILL LITE",10]
[{"$f":"IFERROR(IF(INDIRECT($A$14&ROW())<>\"\",COUNTIF(Summary!$B$30:$B$1105,INDIRECT($A$14&ROW())),\"\"),\"\")","v":""},null,null,null,null,null,null,null,null,null,null,null,null,null,null,null,null,null,null,null,null,null,null,null,null,null,null,null,null,null,null,null,null,null,null,null,null,null,null,null,null,null,null,null,null,null,null,null,null,null,null,null,null,null,null,null,null,null,null,null,null,null,null,null,null,null,null,null,null,null,null,null,null,null,null,null,null,null,null,null,null,null,null,null,null,null,null,null,"GE03 DUNHILL MT",10]
[{"$f":"IFERROR(IF(INDIRECT($A$14&ROW())<>\"\",COUNTIF(Summary!$B$30:$B$1105,INDIRECT($A$14&ROW())),\"\"),\"\")","v":""},null,null,null,null,null,null,null,null,null,null,null,null,null,null,null,null,null,null,null,null,null,null,null,null,null,null,null,null,null,null,null,null,null,null,null,null,null,null,null,null,null,null,null,null,null,null,null,null,null,null,null,null,null,null,null,null,null,null,null,null,null,null,null,null,null,null,null,null,null,null,null,null,null,null,null,null,null,null,null,null,null,null,null,null,null,null,null,"GE04 DUNHILL MT LITE",3]
[{"$f":"IFERROR(IF(INDIRECT($A$14&ROW())<>\"\",COUNTIF(Summary!$B$30:$B$1105,INDIRECT($A$14&ROW())),\"\"),\"\")","v":""},null,null,null,null,null,null,null,null,null,null,null,null,null,null,null,null,null,null,null,null,null,null,null,null,null,null,null,null,null,null,null,null,null,null,null,null,null,null,null,null,null,null,null,null,null,null,null,null,null,null,null,null,null,null,null,null,null,null,null,null,null,null,null,null,null,null,null,null,null,null,null,null,null,null,null,null,null,null,null,null,null,null,null,null,null,null,null,"GE05 DUNHILL BOOST",6]
[{"$f":"IFERROR(IF(INDIRECT($A$14&ROW())<>\"\",COUNTIF(Summary!$B$30:$B$1105,INDIRECT($A$14&ROW())),\"\"),\"\")","v":""},null,null,null,null,null,null,null,null,null,null,null,null,null,null,null,null,null,null,null,null,null,null,null,null,null,null,null,null,null,null,null,null,null,null,null,null,null,null,null,null,null,null,null,null,null,null,null,null,null,null,null,null,null,null,null,null,null,null,null,null,null,null,null,null,null,null,null,null,null,null,null,null,null,null,null,null,null,null,null,null,null,null,null,null,null,null,null,"GE06 DUNHILL SWITCH",6]
[{"$f":"IFERROR(IF(INDIRECT($A$14&ROW())<>\"\",COUNTIF(Summary!$B$30:$B$1105,INDIRECT($A$14&ROW())),\"\"),\"\")","v":""},null,null,null,null,null,null,null,null,null,null,null,null,null,null,null,null,null,null,null,null,null,null,null,null,null,null,null,null,null,null,null,null,null,null,null,null,null,null,null,null,null,null,null,null,null,null,null,null,null,null,null,null,null,null,null,null,null,null,null,null,null,null,null,null,null,null,null,null,null,null,null,null,null,null,null,null,null,null,null,null,null,null,null,null,null,null,null,"GE07 DUNHILL ICE",11]
[{"$f":"IFERROR(IF(INDIRECT($A$14&ROW())<>\"\",COUNTIF(Summary!$B$30:$B$1105,INDIRECT($A$14&ROW())),\"\"),\"\")","v":""},null,null,null,null,null,null,null,null,null,null,null,null,null,null,null,null,null,null,null,null,null,null,null,null,null,null,null,null,null,null,null,null,null,null,null,null,null,null,null,null,null,null,null,null,null,null,null,null,null,null,null,null,null,null,null,null,null,null,null,null,null,null,null,null,null,null,null,null,null,null,null,null,null,null,null,null,null,null,null,null,null,null,null,null,null,null,null,"JG201 LLB L. Tea (C)",112]
[{"$f":"IFERROR(IF(INDIRECT($A$14&ROW())<>\"\",COUNTIF(Summary!$B$30:$B$1105,INDIRECT($A$14&ROW())),\"\"),\"\")","v":""},null,null,null,null,null,null,null,null,null,null,null,null,null,null,null,null,null,null,null,null,null,null,null,null,null,null,null,null,null,null,null,null,null,null,null,null,null,null,null,null,null,null,null,null,null,null,null,null,null,null,null,null,null,null,null,null,null,null,null,null,null,null,null,null,null,null,null,null,null,null,null,null,null,null,null,null,null,null,null,null,null,null,null,null,null,null,null,"JG202 LLBGreen Tea (C)",59]
[{"$f":"IFERROR(IF(INDIRECT($A$14&ROW())<>\"\",COUNTIF(Summary!$B$30:$B$1105,INDIRECT($A$14&ROW())),\"\"),\"\")","v":""},null,null,null,null,null,null,null,null,null,null,null,null,null,null,null,null,null,null,null,null,null,null,null,null,null,null,null,null,null,null,null,null,null,null,null,null,null,null,null,null,null,null,null,null,null,null,null,null,null,null,null,null,null,null,null,null,null,null,null,null,null,null,null,null,null,null,null,null,null,null,null,null,null,null,null,null,null,null,null,null,null,null,null,null,null,null,null,"JG203 LLB Chrysanthemu",41]
[{"$f":"IFERROR(IF(INDIRECT($A$14&ROW())<>\"\",COUNTIF(Summary!$B$30:$B$1105,INDIRECT($A$14&ROW())),\"\"),\"\")","v":""},null,null,null,null,null,null,null,null,null,null,null,null,null,null,null,null,null,null,null,null,null,null,null,null,null,null,null,null,null,null,null,null,null,null,null,null,null,null,null,null,null,null,null,null,null,null,null,null,null,null,null,null,null,null,null,null,null,null,null,null,null,null,null,null,null,null,null,null,null,null,null,null,null,null,null,null,null,null,null,null,null,null,null,null,null,null,null,"JG204 Soya Milk",40]
[{"$f":"IFERROR(IF(INDIRECT($A$14&ROW())<>\"\",COUNTIF(Summary!$B$30:$B$1105,INDIRECT($A$14&ROW())),\"\"),\"\")","v":""},null,null,null,null,null,null,null,null,null,null,null,null,null,null,null,null,null,null,null,null,null,null,null,null,null,null,null,null,null,null,null,null,null,null,null,null,null,null,null,null,null,null,null,null,null,null,null,null,null,null,null,null,null,null,null,null,null,null,null,null,null,null,null,null,null,null,null,null,null,null,null,null,null,null,null,null,null,null,null,null,null,null,null,null,null,null,null,"JG205 Chicau",19]
[{"$f":"IFERROR(IF(INDIRECT($A$14&ROW())<>\"\",COUNTIF(Summary!$B$30:$B$1105,INDIRECT($A$14&ROW())),\"\"),\"\")","v":""},null,null,null,null,null,null,null,null,null,null,null,null,null,null,null,null,null,null,null,null,null,null,null,null,null,null,null,null,null,null,null,null,null,null,null,null,null,null,null,null,null,null,null,null,null,null,null,null,null,null,null,null,null,null,null,null,null,null,null,null,null,null,null,null,null,null,null,null,null,null,null,null,null,null,null,null,null,null,null,null,null,null,null,null,null,null,null,"JG206 7up Revive",11]
[{"$f":"IFERROR(IF(INDIRECT($A$14&ROW())<>\"\",COUNTIF(Summary!$B$30:$B$1105,INDIRECT($A$14&ROW())),\"\"),\"\")","v":""},null,null,null,null,null,null,null,null,null,null,null,null,null,null,null,null,null,null,null,null,null,null,null,null,null,null,null,null,null,null,null,null,null,null,null,null,null,null,null,null,null,null,null,null,null,null,null,null,null,null,null,null,null,null,null,null,null,null,null,null,null,null,null,null,null,null,null,null,null,null,null,null,null,null,null,null,null,null,null,null,null,null,null,null,null,null,null,"JG207 Pepsi",32]
[{"$f":"IFERROR(IF(INDIRECT($A$14&ROW())<>\"\",COUNTIF(Summary!$B$30:$B$1105,INDIRECT($A$14&ROW())),\"\"),\"\")","v":""},null,null,null,null,null,null,null,null,null,null,null,null,null,null,null,null,null,null,null,null,null,null,null,null,null,null,null,null,null,null,null,null,null,null,null,null,null,null,null,null,null,null,null,null,null,null,null,null,null,null,null,null,null,null,null,null,null,null,null,null,null,null,null,null,null,null,null,null,null,null,null,null,null,null,null,null,null,null,null,null,null,null,null,null,null,null,null,"JG208 7UP",19]
[{"$f":"IFERROR(IF(INDIRECT($A$14&ROW())<>\"\",COUNTIF(Summary!$B$30:$B$1105,INDIRECT($A$14&ROW())),\"\"),\"\")","v":""},null,null,null,null,null,null,null,null,null,null,null,null,null,null,null,null,null,null,null,null,null,null,null,null,null,null,null,null,null,null,null,null,null,null,null,null,null,null,null,null,null,null,null,null,null,null,null,null,null,null,null,null,null,null,null,null,null,null,null,null,null,null,null,null,null,null,null,null,null,null,null,null,null,null,null,null,null,null,null,null,null,null,null,null,null,null,null,"JG209 Ribena",24]
[{"$f":"IFERROR(IF(INDIRECT($A$14&ROW())<>\"\",COUNTIF(Summary!$B$30:$B$1105,INDIRECT($A$14&ROW())),\"\"),\"\")","v":""},null,null,null,null,null,null,null,null,null,null,null,null,null,null,null,null,null,null,null,null,null,null,null,null,null,null,null,null,null,null,null,null,null,null,null,null,null,null,null,null,null,null,null,null,null,null,null,null,null,null,null,null,null,null,null,null,null,null,null,null,null,null,null,null,null,null,null,null,null,null,null,null,null,null,null,null,null,null,null,null,null,null,null,null,null,null,null,"JG210 Mineral Water",22]
[{"$f":"IFERROR(IF(INDIRECT($A$14&ROW())<>\"\",COUNTIF(Summary!$B$30:$B$1105,INDIRECT($A$14&ROW())),\"\"),\"\")","v":""},null,null,null,null,null,null,null,null,null,null,null,null,null,null,null,null,null,null,null,null,null,null,null,null,null,null,null,null,null,null,null,null,null,null,null,null,null,null,null,null,null,null,null,null,null,null,null,null,null,null,null,null,null,null,null,null,null,null,null,null,null,null,null,null,null,null,null,null,null,null,null,null,null,null,null,null,null,null,null,null,null,null,null,null,null,null,null,"JH101 LLB TIGER BTL",4]
[{"$f":"IFERROR(IF(INDIRECT($A$14&ROW())<>\"\",COUNTIF(Summary!$B$30:$B$1105,INDIRECT($A$14&ROW())),\"\"),\"\")","v":""},null,null,null,null,null,null,null,null,null,null,null,null,null,null,null,null,null,null,null,null,null,null,null,null,null,null,null,null,null,null,null,null,null,null,null,null,null,null,null,null,null,null,null,null,null,null,null,null,null,null,null,null,null,null,null,null,null,null,null,null,null,null,null,null,null,null,null,null,null,null,null,null,null,null,null,null,null,null,null,null,null,null,null,null,null,null,null,"JH102 LLB TIGER BKT",2]
[{"$f":"IFERROR(IF(INDIRECT($A$14&ROW())<>\"\",COUNTIF(Summary!$B$30:$B$1105,INDIRECT($A$14&ROW())),\"\"),\"\")","v":""},null,null,null,null,null,null,null,null,null,null,null,null,null,null,null,null,null,null,null,null,null,null,null,null,null,null,null,null,null,null,null,null,null,null,null,null,null,null,null,null,null,null,null,null,null,null,null,null,null,null,null,null,null,null,null,null,null,null,null,null,null,null,null,null,null,null,null,null,null,null,null,null,null,null,null,null,null,null,null,null,null,null,null,null,null,null,null,"JH104 LLB HEINEKEN BTL",2]
[{"$f":"IFERROR(IF(INDIRECT($A$14&ROW())<>\"\",COUNTIF(Summary!$B$30:$B$1105,INDIRECT($A$14&ROW())),\"\"),\"\")","v":""},null,null,null,null,null,null,null,null,null,null,null,null,null,null,null,null,null,null,null,null,null,null,null,null,null,null,null,null,null,null,null,null,null,null,null,null,null,null,null,null,null,null,null,null,null,null,null,null,null,null,null,null,null,null,null,null,null,null,null,null,null,null,null,null,null,null,null,null,null,null,null,null,null,null,null,null,null,null,null,null,null,null,null,null,null,null,null,"JH105 LLB HEINEKEN BKT",3]
[{"$f":"IFERROR(IF(INDIRECT($A$14&ROW())<>\"\",COUNTIF(Summary!$B$30:$B$1105,INDIRECT($A$14&ROW())),\"\"),\"\")","v":""},null,null,null,null,null,null,null,null,null,null,null,null,null,null,null,null,null,null,null,null,null,null,null,null,null,null,null,null,null,null,null,null,null,null,null,null,null,null,null,null,null,null,null,null,null,null,null,null,null,null,null,null,null,null,null,null,null,null,null,null,null,null,null,null,null,null,null,null,null,null,null,null,null,null,null,null,null,null,null,null,null,null,null,null,null,null,null,"JH107 LLB GUINNESS BTL",4]
[{"$f":"IFERROR(IF(INDIRECT($A$14&ROW())<>\"\",COUNTIF(Summary!$B$30:$B$1105,INDIRECT($A$14&ROW())),\"\"),\"\")","v":""},null,null,null,null,null,null,null,null,null,null,null,null,null,null,null,null,null,null,null,null,null,null,null,null,null,null,null,null,null,null,null,null,null,null,null,null,null,null,null,null,null,null,null,null,null,null,null,null,null,null,null,null,null,null,null,null,null,null,null,null,null,null,null,null,null,null,null,null,null,null,null,null,null,null,null,null,null,null,null,null,null,null,null,null,null,null,null,"JH108 LLB GUINNESS BKT",1]
[{"$f":"IFERROR(IF(INDIRECT($A$14&ROW())<>\"\",COUNTIF(Summary!$B$30:$B$1105,INDIRECT($A$14&ROW())),\"\"),\"\")","v":""},null,null,null,null,null,null,null,null,null,null,null,null,null,null,null,null,null,null,null,null,null,null,null,null,null,null,null,null,null,null,null,null,null,null,null,null,null,null,null,null,null,null,null,null,null,null,null,null,null,null,null,null,null,null,null,null,null,null,null,null,null,null,null,null,null,null,null,null,null,null,null,null,null,null,null,null,null,null,null,null,null,null,null,null,null,null,null,"JH110 LLB SOMERSBY BTL",13]
[{"$f":"IFERROR(IF(INDIRECT($A$14&ROW())<>\"\",COUNTIF(Summary!$B$30:$B$1105,INDIRECT($A$14&ROW())),\"\"),\"\")","v":""},null,null,null,null,null,null,null,null,null,null,null,null,null,null,null,null,null,null,null,null,null,null,null,null,null,null,null,null,null,null,null,null,null,null,null,null,null,null,null,null,null,null,null,null,null,null,null,null,null,null,null,null,null,null,null,null,null,null,null,null,null,null,null,null,null,null,null,null,null,null,null,null,null,null,null,null,null,null,null,null,null,null,null,null,null,null,null,"JH111 LLB SOMERSBY BKT",8]
[{"$f":"IFERROR(IF(INDIRECT($A$14&ROW())<>\"\",COUNTIF(Summary!$B$30:$B$1105,INDIRECT($A$14&ROW())),\"\"),\"\")","v":""},null,null,null,null,null,null,null,null,null,null,null,null,null,null,null,null,null,null,null,null,null,null,null,null,null,null,null,null,null,null,null,null,null,null,null,null,null,null,null,null,null,null,null,null,null,null,null,null,null,null,null,null,null,null,null,null,null,null,null,null,null,null,null,null,null,null,null,null,null,null,null,null,null,null,null,null,null,null,null,null,null,null,null,null,null,null,null,"JH112 LLB S.BOW BTL",1]
[{"$f":"IFERROR(IF(INDIRECT($A$14&ROW())<>\"\",COUNTIF(Summary!$B$30:$B$1105,INDIRECT($A$14&ROW())),\"\"),\"\")","v":""},null,null,null,null,null,null,null,null,null,null,null,null,null,null,null,null,null,null,null,null,null,null,null,null,null,null,null,null,null,null,null,null,null,null,null,null,null,null,null,null,null,null,null,null,null,null,null,null,null,null,null,null,null,null,null,null,null,null,null,null,null,null,null,null,null,null,null,null,null,null,null,null,null,null,null,null,null,null,null,null,null,null,null,null,null,null,null,"JH114 LLB H.GAARDEN BT",4]
[{"$f":"IFERROR(IF(INDIRECT($A$14&ROW())<>\"\",COUNTIF(Summary!$B$30:$B$1105,INDIRECT($A$14&ROW())),\"\"),\"\")","v":""},null,null,null,null,null,null,null,null,null,null,null,null,null,null,null,null,null,null,null,null,null,null,null,null,null,null,null,null,null,null,null,null,null,null,null,null,null,null,null,null,null,null,null,null,null,null,null,null,null,null,null,null,null,null,null,null,null,null,null,null,null,null,null,null,null,null,null,null,null,null,null,null,null,null,null,null,null,null,null,null,null,null,null,null,null,null,null,"JH115 LLB H.GAARDEN BK",1]
[{"$f":"IFERROR(IF(INDIRECT($A$14&ROW())<>\"\",COUNTIF(Summary!$B$30:$B$1105,INDIRECT($A$14&ROW())),\"\"),\"\")","v":""},null,null,null,null,null,null,null,null,null,null,null,null,null,null,null,null,null,null,null,null,null,null,null,null,null,null,null,null,null,null,null,null,null,null,null,null,null,null,null,null,null,null,null,null,null,null,null,null,null,null,null,null,null,null,null,null,null,null,null,null,null,null,null,null,null,null,null,null,null,null,null,null,null,null,null,null,null,null,null,null,null,null,null,null,null,null,null,"JK001 LLB BP CHK CHOP",11]
[{"$f":"IFERROR(IF(INDIRECT($A$14&ROW())<>\"\",COUNTIF(Summary!$B$30:$B$1105,INDIRECT($A$14&ROW())),\"\"),\"\")","v":""},null,null,null,null,null,null,null,null,null,null,null,null,null,null,null,null,null,null,null,null,null,null,null,null,null,null,null,null,null,null,null,null,null,null,null,null,null,null,null,null,null,null,null,null,null,null,null,null,null,null,null,null,null,null,null,null,null,null,null,null,null,null,null,null,null,null,null,null,null,null,null,null,null,null,null,null,null,null,null,null,null,null,null,null,null,null,null,"JK002 LLB G.S C. CHOP",2]
[{"$f":"IFERROR(IF(INDIRECT($A$14&ROW())<>\"\",COUNTIF(Summary!$B$30:$B$1105,INDIRECT($A$14&ROW())),\"\"),\"\")","v":""},null,null,null,null,null,null,null,null,null,null,null,null,null,null,null,null,null,null,null,null,null,null,null,null,null,null,null,null,null,null,null,null,null,null,null,null,null,null,null,null,null,null,null,null,null,null,null,null,null,null,null,null,null,null,null,null,null,null,null,null,null,null,null,null,null,null,null,null,null,null,null,null,null,null,null,null,null,null,null,null,null,null,null,null,null,null,null,"JK003 LLB MSR CHK CHOP",11]
[{"$f":"IFERROR(IF(INDIRECT($A$14&ROW())<>\"\",COUNTIF(Summary!$B$30:$B$1105,INDIRECT($A$14&ROW())),\"\"),\"\")","v":""},null,null,null,null,null,null,null,null,null,null,null,null,null,null,null,null,null,null,null,null,null,null,null,null,null,null,null,null,null,null,null,null,null,null,null,null,null,null,null,null,null,null,null,null,null,null,null,null,null,null,null,null,null,null,null,null,null,null,null,null,null,null,null,null,null,null,null,null,null,null,null,null,null,null,null,null,null,null,null,null,null,null,null,null,null,null,null,"JK004 LLB CHK MARRYLAN",3]
[{"$f":"IFERROR(IF(INDIRECT($A$14&ROW())<>\"\",COUNTIF(Summary!$B$30:$B$1105,INDIRECT($A$14&ROW())),\"\"),\"\")","v":""},null,null,null,null,null,null,null,null,null,null,null,null,null,null,null,null,null,null,null,null,null,null,null,null,null,null,null,null,null,null,null,null,null,null,null,null,null,null,null,null,null,null,null,null,null,null,null,null,null,null,null,null,null,null,null,null,null,null,null,null,null,null,null,null,null,null,null,null,null,null,null,null,null,null,null,null,null,null,null,null,null,null,null,null,null,null,null,"JK005 LLB Fish & Chip",2]
[{"$f":"IFERROR(IF(INDIRECT($A$14&ROW())<>\"\",COUNTIF(Summary!$B$30:$B$1105,INDIRECT($A$14&ROW())),\"\"),\"\")","v":""},null,null,null,null,null,null,null,null,null,null,null,null,null,null,null,null,null,null,null,null,null,null,null,null,null,null,null,null,null,null,null,null,null,null,null,null,null,null,null,null,null,null,null,null,null,null,null,null,null,null,null,null,null,null,null,null,null,null,null,null,null,null,null,null,null,null,null,null,null,null,null,null,null,null,null,null,null,null,null,null,null,null,null,null,null,null,null,"JK006 LLB Spaghetti",4]
[{"$f":"IFERROR(IF(INDIRECT($A$14&ROW())<>\"\",COUNTIF(Summary!$B$30:$B$1105,INDIRECT($A$14&ROW())),\"\"),\"\")","v":""},null,null,null,null,null,null,null,null,null,null,null,null,null,null,null,null,null,null,null,null,null,null,null,null,null,null,null,null,null,null,null,null,null,null,null,null,null,null,null,null,null,null,null,null,null,null,null,null,null,null,null,null,null,null,null,null,null,null,null,null,null,null,null,null,null,null,null,null,null,null,null,null,null,null,null,null,null,null,null,null,null,null,null,null,null,null,null,"JK007 LLB CHK .C.SALAD",2]
[{"$f":"IFERROR(IF(INDIRECT($A$14&ROW())<>\"\",COUNTIF(Summary!$B$30:$B$1105,INDIRECT($A$14&ROW())),\"\"),\"\")","v":""},null,null,null,null,null,null,null,null,null,null,null,null,null,null,null,null,null,null,null,null,null,null,null,null,null,null,null,null,null,null,null,null,null,null,null,null,null,null,null,null,null,null,null,null,null,null,null,null,null,null,null,null,null,null,null,null,null,null,null,null,null,null,null,null,null,null,null,null,null,null,null,null,null,null,null,null,null,null,null,null,null,null,null,null,null,null,null,"JK101 LLB Thai Chk Ric",8]
[{"$f":"IFERROR(IF(INDIRECT($A$14&ROW())<>\"\",COUNTIF(Summary!$B$30:$B$1105,INDIRECT($A$14&ROW())),\"\"),\"\")","v":""},null,null,null,null,null,null,null,null,null,null,null,null,null,null,null,null,null,null,null,null,null,null,null,null,null,null,null,null,null,null,null,null,null,null,null,null,null,null,null,null,null,null,null,null,null,null,null,null,null,null,null,null,null,null,null,null,null,null,null,null,null,null,null,null,null,null,null,null,null,null,null,null,null,null,null,null,null,null,null,null,null,null,null,null,null,null,null,"JK102 Marmite Chk Rice",4]
[{"$f":"IFERROR(IF(INDIRECT($A$14&ROW())<>\"\",COUNTIF(Summary!$B$30:$B$1105,INDIRECT($A$14&ROW())),\"\"),\"\")","v":""},null,null,null,null,null,null,null,null,null,null,null,null,null,null,null,null,null,null,null,null,null,null,null,null,null,null,null,null,null,null,null,null,null,null,null,null,null,null,null,null,null,null,null,null,null,null,null,null,null,null,null,null,null,null,null,null,null,null,null,null,null,null,null,null,null,null,null,null,null,null,null,null,null,null,null,null,null,null,null,null,null,null,null,null,null,null,null,"JK104 S&S Chk Rice",3]
[{"$f":"IFERROR(IF(INDIRECT($A$14&ROW())<>\"\",COUNTIF(Summary!$B$30:$B$1105,INDIRECT($A$14&ROW())),\"\"),\"\")","v":""},null,null,null,null,null,null,null,null,null,null,null,null,null,null,null,null,null,null,null,null,null,null,null,null,null,null,null,null,null,null,null,null,null,null,null,null,null,null,null,null,null,null,null,null,null,null,null,null,null,null,null,null,null,null,null,null,null,null,null,null,null,null,null,null,null,null,null,null,null,null,null,null,null,null,null,null,null,null,null,null,null,null,null,null,null,null,null,"JK105 B.Cream.Chk Rice",13]
[{"$f":"IFERROR(IF(INDIRECT($A$14&ROW())<>\"\",COUNTIF(Summary!$B$30:$B$1105,INDIRECT($A$14&ROW())),\"\"),\"\")","v":""},null,null,null,null,null,null,null,null,null,null,null,null,null,null,null,null,null,null,null,null,null,null,null,null,null,null,null,null,null,null,null,null,null,null,null,null,null,null,null,null,null,null,null,null,null,null,null,null,null,null,null,null,null,null,null,null,null,null,null,null,null,null,null,null,null,null,null,null,null,null,null,null,null,null,null,null,null,null,null,null,null,null,null,null,null,null,null,"JK106 H.K Fried Rice",6]
[{"$f":"IFERROR(IF(INDIRECT($A$14&ROW())<>\"\",COUNTIF(Summary!$B$30:$B$1105,INDIRECT($A$14&ROW())),\"\"),\"\")","v":""},null,null,null,null,null,null,null,null,null,null,null,null,null,null,null,null,null,null,null,null,null,null,null,null,null,null,null,null,null,null,null,null,null,null,null,null,null,null,null,null,null,null,null,null,null,null,null,null,null,null,null,null,null,null,null,null,null,null,null,null,null,null,null,null,null,null,null,null,null,null,null,null,null,null,null,null,null,null,null,null,null,null,null,null,null,null,null,"JK107 LLBSambal F.Rice",6]
[{"$f":"IFERROR(IF(INDIRECT($A$14&ROW())<>\"\",COUNTIF(Summary!$B$30:$B$1105,INDIRECT($A$14&ROW())),\"\"),\"\")","v":""},null,null,null,null,null,null,null,null,null,null,null,null,null,null,null,null,null,null,null,null,null,null,null,null,null,null,null,null,null,null,null,null,null,null,null,null,null,null,null,null,null,null,null,null,null,null,null,null,null,null,null,null,null,null,null,null,null,null,null,null,null,null,null,null,null,null,null,null,null,null,null,null,null,null,null,null,null,null,null,null,null,null,null,null,null,null,null,"JK108 LLB S.Fried MEE",1]
[{"$f":"IFERROR(IF(INDIRECT($A$14&ROW())<>\"\",COUNTIF(Summary!$B$30:$B$1105,INDIRECT($A$14&ROW())),\"\"),\"\")","v":""},null,null,null,null,null,null,null,null,null,null,null,null,null,null,null,null,null,null,null,null,null,null,null,null,null,null,null,null,null,null,null,null,null,null,null,null,null,null,null,null,null,null,null,null,null,null,null,null,null,null,null,null,null,null,null,null,null,null,null,null,null,null,null,null,null,null,null,null,null,null,null,null,null,null,null,null,null,null,null,null,null,null,null,null,null,null,null,"JK109 LLB BP Udon Mee",5]
[{"$f":"IFERROR(IF(INDIRECT($A$14&ROW())<>\"\",COUNTIF(Summary!$B$30:$B$1105,INDIRECT($A$14&ROW())),\"\"),\"\")","v":""},null,null,null,null,null,null,null,null,null,null,null,null,null,null,null,null,null,null,null,null,null,null,null,null,null,null,null,null,null,null,null,null,null,null,null,null,null,null,null,null,null,null,null,null,null,null,null,null,null,null,null,null,null,null,null,null,null,null,null,null,null,null,null,null,null,null,null,null,null,null,null,null,null,null,null,null,null,null,null,null,null,null,null,null,null,null,null,"JK110 LLB Nisin Noodle",1]
[{"$f":"IFERROR(IF(INDIRECT($A$14&ROW())<>\"\",COUNTIF(Summary!$B$30:$B$1105,INDIRECT($A$14&ROW())),\"\"),\"\")","v":""},null,null,null,null,null,null,null,null,null,null,null,null,null,null,null,null,null,null,null,null,null,null,null,null,null,null,null,null,null,null,null,null,null,null,null,null,null,null,null,null,null,null,null,null,null,null,null,null,null,null,null,null,null,null,null,null,null,null,null,null,null,null,null,null,null,null,null,null,null,null,null,null,null,null,null,null,null,null,null,null,null,null,null,null,null,null,null,"JK111 LLB S.M.Ver Rice",1]
[{"$f":"IFERROR(IF(INDIRECT($A$14&ROW())<>\"\",COUNTIF(Summary!$B$30:$B$1105,INDIRECT($A$14&ROW())),\"\"),\"\")","v":""},null,null,null,null,null,null,null,null,null,null,null,null,null,null,null,null,null,null,null,null,null,null,null,null,null,null,null,null,null,null,null,null,null,null,null,null,null,null,null,null,null,null,null,null,null,null,null,null,null,null,null,null,null,null,null,null,null,null,null,null,null,null,null,null,null,null,null,null,null,null,null,null,null,null,null,null,null,null,null,null,null,null,null,null,null,null,null,"JK115 LLB B.Noodle.Chk",4]
[{"$f":"IFERROR(IF(INDIRECT($A$14&ROW())<>\"\",COUNTIF(Summary!$B$30:$B$1105,INDIRECT($A$14&ROW())),\"\"),\"\")","v":""},null,null,null,null,null,null,null,null,null,null,null,null,null,null,null,null,null,null,null,null,null,null,null,null,null,null,null,null,null,null,null,null,null,null,null,null,null,null,null,null,null,null,null,null,null,null,null,null,null,null,null,null,null,null,null,null,null,null,null,null,null,null,null,null,null,null,null,null,null,null,null,null,null,null,null,null,null,null,null,null,null,null,null,null,null,null,null,"JK116 LLB Mon.Chk Rice",8]
[{"$f":"IFERROR(IF(INDIRECT($A$14&ROW())<>\"\",COUNTIF(Summary!$B$30:$B$1105,INDIRECT($A$14&ROW())),\"\"),\"\")","v":""},null,null,null,null,null,null,null,null,null,null,null,null,null,null,null,null,null,null,null,null,null,null,null,null,null,null,null,null,null,null,null,null,null,null,null,null,null,null,null,null,null,null,null,null,null,null,null,null,null,null,null,null,null,null,null,null,null,null,null,null,null,null,null,null,null,null,null,null,null,null,null,null,null,null,null,null,null,null,null,null,null,null,null,null,null,null,null,"JM101 C.Chicken Sausag",44]
[{"$f":"IFERROR(IF(INDIRECT($A$14&ROW())<>\"\",COUNTIF(Summary!$B$30:$B$1105,INDIRECT($A$14&ROW())),\"\"),\"\")","v":""},null,null,null,null,null,null,null,null,null,null,null,null,null,null,null,null,null,null,null,null,null,null,null,null,null,null,null,null,null,null,null,null,null,null,null,null,null,null,null,null,null,null,null,null,null,null,null,null,null,null,null,null,null,null,null,null,null,null,null,null,null,null,null,null,null,null,null,null,null,null,null,null,null,null,null,null,null,null,null,null,null,null,null,null,null,null,null,"JM102 Beef Ball",18]
[{"$f":"IFERROR(IF(INDIRECT($A$14&ROW())<>\"\",COUNTIF(Summary!$B$30:$B$1105,INDIRECT($A$14&ROW())),\"\"),\"\")","v":""},null,null,null,null,null,null,null,null,null,null,null,null,null,null,null,null,null,null,null,null,null,null,null,null,null,null,null,null,null,null,null,null,null,null,null,null,null,null,null,null,null,null,null,null,null,null,null,null,null,null,null,null,null,null,null,null,null,null,null,null,null,null,null,null,null,null,null,null,null,null,null,null,null,null,null,null,null,null,null,null,null,null,null,null,null,null,null,"JM103 Chicken Kidney",9]
[{"$f":"IFERROR(IF(INDIRECT($A$14&ROW())<>\"\",COUNTIF(Summary!$B$30:$B$1105,INDIRECT($A$14&ROW())),\"\"),\"\")","v":""},null,null,null,null,null,null,null,null,null,null,null,null,null,null,null,null,null,null,null,null,null,null,null,null,null,null,null,null,null,null,null,null,null,null,null,null,null,null,null,null,null,null,null,null,null,null,null,null,null,null,null,null,null,null,null,null,null,null,null,null,null,null,null,null,null,null,null,null,null,null,null,null,null,null,null,null,null,null,null,null,null,null,null,null,null,null,null,"JM104 Chicken Liver",4]
[{"$f":"IFERROR(IF(INDIRECT($A$14&ROW())<>\"\",COUNTIF(Summary!$B$30:$B$1105,INDIRECT($A$14&ROW())),\"\"),\"\")","v":""},null,null,null,null,null,null,null,null,null,null,null,null,null,null,null,null,null,null,null,null,null,null,null,null,null,null,null,null,null,null,null,null,null,null,null,null,null,null,null,null,null,null,null,null,null,null,null,null,null,null,null,null,null,null,null,null,null,null,null,null,null,null,null,null,null,null,null,null,null,null,null,null,null,null,null,null,null,null,null,null,null,null,null,null,null,null,null,"JM105 Cheese C.Sausage",71]
[{"$f":"IFERROR(IF(INDIRECT($A$14&ROW())<>\"\",COUNTIF(Summary!$B$30:$B$1105,INDIRECT($A$14&ROW())),\"\"),\"\")","v":""},null,null,null,null,null,null,null,null,null,null,null,null,null,null,null,null,null,null,null,null,null,null,null,null,null,null,null,null,null,null,null,null,null,null,null,null,null,null,null,null,null,null,null,null,null,null,null,null,null,null,null,null,null,null,null,null,null,null,null,null,null,null,null,null,null,null,null,null,null,null,null,null,null,null,null,null,null,null,null,null,null,null,null,null,null,null,null,"JM106 B.P C.Sausage",47]
[{"$f":"IFERROR(IF(INDIRECT($A$14&ROW())<>\"\",COUNTIF(Summary!$B$30:$B$1105,INDIRECT($A$14&ROW())),\"\"),\"\")","v":""},null,null,null,null,null,null,null,null,null,null,null,null,null,null,null,null,null,null,null,null,null,null,null,null,null,null,null,null,null,null,null,null,null,null,null,null,null,null,null,null,null,null,null,null,null,null,null,null,null,null,null,null,null,null,null,null,null,null,null,null,null,null,null,null,null,null,null,null,null,null,null,null,null,null,null,null,null,null,null,null,null,null,null,null,null,null,null,"JM107 S.Fill beef Ball",27]
[{"$f":"IFERROR(IF(INDIRECT($A$14&ROW())<>\"\",COUNTIF(Summary!$B$30:$B$1105,INDIRECT($A$14&ROW())),\"\"),\"\")","v":""},null,null,null,null,null,null,null,null,null,null,null,null,null,null,null,null,null,null,null,null,null,null,null,null,null,null,null,null,null,null,null,null,null,null,null,null,null,null,null,null,null,null,null,null,null,null,null,null,null,null,null,null,null,null,null,null,null,null,null,null,null,null,null,null,null,null,null,null,null,null,null,null,null,null,null,null,null,null,null,null,null,null,null,null,null,null,null,"JM108 Pandan Chicken",15]
[{"$f":"IFERROR(IF(INDIRECT($A$14&ROW())<>\"\",COUNTIF(Summary!$B$30:$B$1105,INDIRECT($A$14&ROW())),\"\"),\"\")","v":""},null,null,null,null,null,null,null,null,null,null,null,null,null,null,null,null,null,null,null,null,null,null,null,null,null,null,null,null,null,null,null,null,null,null,null,null,null,null,null,null,null,null,null,null,null,null,null,null,null,null,null,null,null,null,null,null,null,null,null,null,null,null,null,null,null,null,null,null,null,null,null,null,null,null,null,null,null,null,null,null,null,null,null,null,null,null,null,"JM109 S. Duck Breast",18]
[{"$f":"IFERROR(IF(INDIRECT($A$14&ROW())<>\"\",COUNTIF(Summary!$B$30:$B$1105,INDIRECT($A$14&ROW())),\"\"),\"\")","v":""},null,null,null,null,null,null,null,null,null,null,null,null,null,null,null,null,null,null,null,null,null,null,null,null,null,null,null,null,null,null,null,null,null,null,null,null,null,null,null,null,null,null,null,null,null,null,null,null,null,null,null,null,null,null,null,null,null,null,null,null,null,null,null,null,null,null,null,null,null,null,null,null,null,null,null,null,null,null,null,null,null,null,null,null,null,null,null,"JM110 Grill.B.Chk.Wing",34]
[{"$f":"IFERROR(IF(INDIRECT($A$14&ROW())<>\"\",COUNTIF(Summary!$B$30:$B$1105,INDIRECT($A$14&ROW())),\"\"),\"\")","v":""},null,null,null,null,null,null,null,null,null,null,null,null,null,null,null,null,null,null,null,null,null,null,null,null,null,null,null,null,null,null,null,null,null,null,null,null,null,null,null,null,null,null,null,null,null,null,null,null,null,null,null,null,null,null,null,null,null,null,null,null,null,null,null,null,null,null,null,null,null,null,null,null,null,null,null,null,null,null,null,null,null,null,null,null,null,null,null,"JN211 Pork Meatball s",79]
[{"$f":"IFERROR(IF(INDIRECT($A$14&ROW())<>\"\",COUNTIF(Summary!$B$30:$B$1105,INDIRECT($A$14&ROW())),\"\"),\"\")","v":""},null,null,null,null,null,null,null,null,null,null,null,null,null,null,null,null,null,null,null,null,null,null,null,null,null,null,null,null,null,null,null,null,null,null,null,null,null,null,null,null,null,null,null,null,null,null,null,null,null,null,null,null,null,null,null,null,null,null,null,null,null,null,null,null,null,null,null,null,null,null,null,null,null,null,null,null,null,null,null,null,null,null,null,null,null,null,null,"JN213 P. Sauage Slices",31]
[{"$f":"IFERROR(IF(INDIRECT($A$14&ROW())<>\"\",COUNTIF(Summary!$B$30:$B$1105,INDIRECT($A$14&ROW())),\"\"),\"\")","v":""},null,null,null,null,null,null,null,null,null,null,null,null,null,null,null,null,null,null,null,null,null,null,null,null,null,null,null,null,null,null,null,null,null,null,null,null,null,null,null,null,null,null,null,null,null,null,null,null,null,null,null,null,null,null,null,null,null,null,null,null,null,null,null,null,null,null,null,null,null,null,null,null,null,null,null,null,null,null,null,null,null,null,null,null,null,null,null,"JN214 Pork Dumplings",31]
[{"$f":"IFERROR(IF(INDIRECT($A$14&ROW())<>\"\",COUNTIF(Summary!$B$30:$B$1105,INDIRECT($A$14&ROW())),\"\"),\"\")","v":""},null,null,null,null,null,null,null,null,null,null,null,null,null,null,null,null,null,null,null,null,null,null,null,null,null,null,null,null,null,null,null,null,null,null,null,null,null,null,null,null,null,null,null,null,null,null,null,null,null,null,null,null,null,null,null,null,null,null,null,null,null,null,null,null,null,null,null,null,null,null,null,null,null,null,null,null,null,null,null,null,null,null,null,null,null,null,null,"JN215 Pork Meatball B",93]
[{"$f":"IFERROR(IF(INDIRECT($A$14&ROW())<>\"\",COUNTIF(Summary!$B$30:$B$1105,INDIRECT($A$14&ROW())),\"\"),\"\")","v":""},null,null,null,null,null,null,null,null,null,null,null,null,null,null,null,null,null,null,null,null,null,null,null,null,null,null,null,null,null,null,null,null,null,null,null,null,null,null,null,null,null,null,null,null,null,null,null,null,null,null,null,null,null,null,null,null,null,null,null,null,null,null,null,null,null,null,null,null,null,null,null,null,null,null,null,null,null,null,null,null,null,null,null,null,null,null,null,"JN216 Pork Liver",6]
[{"$f":"IFERROR(IF(INDIRECT($A$14&ROW())<>\"\",COUNTIF(Summary!$B$30:$B$1105,INDIRECT($A$14&ROW())),\"\"),\"\")","v":""},null,null,null,null,null,null,null,null,null,null,null,null,null,null,null,null,null,null,null,null,null,null,null,null,null,null,null,null,null,null,null,null,null,null,null,null,null,null,null,null,null,null,null,null,null,null,null,null,null,null,null,null,null,null,null,null,null,null,null,null,null,null,null,null,null,null,null,null,null,null,null,null,null,null,null,null,null,null,null,null,null,null,null,null,null,null,null,"JN217 Taiwan Sausage",119]
[{"$f":"IFERROR(IF(INDIRECT($A$14&ROW())<>\"\",COUNTIF(Summary!$B$30:$B$1105,INDIRECT($A$14&ROW())),\"\"),\"\")","v":""},null,null,null,null,null,null,null,null,null,null,null,null,null,null,null,null,null,null,null,null,null,null,null,null,null,null,null,null,null,null,null,null,null,null,null,null,null,null,null,null,null,null,null,null,null,null,null,null,null,null,null,null,null,null,null,null,null,null,null,null,null,null,null,null,null,null,null,null,null,null,null,null,null,null,null,null,null,null,null,null,null,null,null,null,null,null,null,"JN218 Bacon",40]
[{"$f":"IFERROR(IF(INDIRECT($A$14&ROW())<>\"\",COUNTIF(Summary!$B$30:$B$1105,INDIRECT($A$14&ROW())),\"\"),\"\")","v":""},null,null,null,null,null,null,null,null,null,null,null,null,null,null,null,null,null,null,null,null,null,null,null,null,null,null,null,null,null,null,null,null,null,null,null,null,null,null,null,null,null,null,null,null,null,null,null,null,null,null,null,null,null,null,null,null,null,null,null,null,null,null,null,null,null,null,null,null,null,null,null,null,null,null,null,null,null,null,null,null,null,null,null,null,null,null,null,"JN219 Pork Rinds",10]
[{"$f":"IFERROR(IF(INDIRECT($A$14&ROW())<>\"\",COUNTIF(Summary!$B$30:$B$1105,INDIRECT($A$14&ROW())),\"\"),\"\")","v":""},null,null,null,null,null,null,null,null,null,null,null,null,null,null,null,null,null,null,null,null,null,null,null,null,null,null,null,null,null,null,null,null,null,null,null,null,null,null,null,null,null,null,null,null,null,null,null,null,null,null,null,null,null,null,null,null,null,null,null,null,null,null,null,null,null,null,null,null,null,null,null,null,null,null,null,null,null,null,null,null,null,null,null,null,null,null,null,"JN220 Sauce Filll Ball",67]
[{"$f":"IFERROR(IF(INDIRECT($A$14&ROW())<>\"\",COUNTIF(Summary!$B$30:$B$1105,INDIRECT($A$14&ROW())),\"\"),\"\")","v":""},null,null,null,null,null,null,null,null,null,null,null,null,null,null,null,null,null,null,null,null,null,null,null,null,null,null,null,null,null,null,null,null,null,null,null,null,null,null,null,null,null,null,null,null,null,null,null,null,null,null,null,null,null,null,null,null,null,null,null,null,null,null,null,null,null,null,null,null,null,null,null,null,null,null,null,null,null,null,null,null,null,null,null,null,null,null,null,"JN222 Enoki Bacon Roll",45]
[{"$f":"IFERROR(IF(INDIRECT($A$14&ROW())<>\"\",COUNTIF(Summary!$B$30:$B$1105,INDIRECT($A$14&ROW())),\"\"),\"\")","v":""},null,null,null,null,null,null,null,null,null,null,null,null,null,null,null,null,null,null,null,null,null,null,null,null,null,null,null,null,null,null,null,null,null,null,null,null,null,null,null,null,null,null,null,null,null,null,null,null,null,null,null,null,null,null,null,null,null,null,null,null,null,null,null,null,null,null,null,null,null,null,null,null,null,null,null,null,null,null,null,null,null,null,null,null,null,null,null,"JO323 Fish Wanton",35]
[{"$f":"IFERROR(IF(INDIRECT($A$14&ROW())<>\"\",COUNTIF(Summary!$B$30:$B$1105,INDIRECT($A$14&ROW())),\"\"),\"\")","v":""},null,null,null,null,null,null,null,null,null,null,null,null,null,null,null,null,null,null,null,null,null,null,null,null,null,null,null,null,null,null,null,null,null,null,null,null,null,null,null,null,null,null,null,null,null,null,null,null,null,null,null,null,null,null,null,null,null,null,null,null,null,null,null,null,null,null,null,null,null,null,null,null,null,null,null,null,null,null,null,null,null,null,null,null,null,null,null,"JO324 M. Fried F. Cake",41]
[{"$f":"IFERROR(IF(INDIRECT($A$14&ROW())<>\"\",COUNTIF(Summary!$B$30:$B$1105,INDIRECT($A$14&ROW())),\"\"),\"\")","v":""},null,null,null,null,null,null,null,null,null,null,null,null,null,null,null,null,null,null,null,null,null,null,null,null,null,null,null,null,null,null,null,null,null,null,null,null,null,null,null,null,null,null,null,null,null,null,null,null,null,null,null,null,null,null,null,null,null,null,null,null,null,null,null,null,null,null,null,null,null,null,null,null,null,null,null,null,null,null,null,null,null,null,null,null,null,null,null,"JO325 Spicy Fish Cake",15]
[{"$f":"IFERROR(IF(INDIRECT($A$14&ROW())<>\"\",COUNTIF(Summary!$B$30:$B$1105,INDIRECT($A$14&ROW())),\"\"),\"\")","v":""},null,null,null,null,null,null,null,null,null,null,null,null,null,null,null,null,null,null,null,null,null,null,null,null,null,null,null,null,null,null,null,null,null,null,null,null,null,null,null,null,null,null,null,null,null,null,null,null,null,null,null,null,null,null,null,null,null,null,null,null,null,null,null,null,null,null,null,null,null,null,null,null,null,null,null,null,null,null,null,null,null,null,null,null,null,null,null,"JO326 Fresh Clam",24]
[{"$f":"IFERROR(IF(INDIRECT($A$14&ROW())<>\"\",COUNTIF(Summary!$B$30:$B$1105,INDIRECT($A$14&ROW())),\"\"),\"\")","v":""},null,null,null,null,null,null,null,null,null,null,null,null,null,null,null,null,null,null,null,null,null,null,null,null,null,null,null,null,null,null,null,null,null,null,null,null,null,null,null,null,null,null,null,null,null,null,null,null,null,null,null,null,null,null,null,null,null,null,null,null,null,null,null,null,null,null,null,null,null,null,null,null,null,null,null,null,null,null,null,null,null,null,null,null,null,null,null,"JO327 Wu Xiang F.Ball",21]
[{"$f":"IFERROR(IF(INDIRECT($A$14&ROW())<>\"\",COUNTIF(Summary!$B$30:$B$1105,INDIRECT($A$14&ROW())),\"\"),\"\")","v":""},null,null,null,null,null,null,null,null,null,null,null,null,null,null,null,null,null,null,null,null,null,null,null,null,null,null,null,null,null,null,null,null,null,null,null,null,null,null,null,null,null,null,null,null,null,null,null,null,null,null,null,null,null,null,null,null,null,null,null,null,null,null,null,null,null,null,null,null,null,null,null,null,null,null,null,null,null,null,null,null,null,null,null,null,null,null,null,"JO328 Xi Dao Fish Ball",51]
[{"$f":"IFERROR(IF(INDIRECT($A$14&ROW())<>\"\",COUNTIF(Summary!$B$30:$B$1105,INDIRECT($A$14&ROW())),\"\"),\"\")","v":""},null,null,null,null,null,null,null,null,null,null,null,null,null,null,null,null,null,null,null,null,null,null,null,null,null,null,null,null,null,null,null,null,null,null,null,null,null,null,null,null,null,null,null,null,null,null,null,null,null,null,null,null,null,null,null,null,null,null,null,null,null,null,null,null,null,null,null,null,null,null,null,null,null,null,null,null,null,null,null,null,null,null,null,null,null,null,null,"JO329 Fish Ball (S)",30]
[{"$f":"IFERROR(IF(INDIRECT($A$14&ROW())<>\"\",COUNTIF(Summary!$B$30:$B$1105,INDIRECT($A$14&ROW())),\"\"),\"\")","v":""},null,null,null,null,null,null,null,null,null,null,null,null,null,null,null,null,null,null,null,null,null,null,null,null,null,null,null,null,null,null,null,null,null,null,null,null,null,null,null,null,null,null,null,null,null,null,null,null,null,null,null,null,null,null,null,null,null,null,null,null,null,null,null,null,null,null,null,null,null,null,null,null,null,null,null,null,null,null,null,null,null,null,null,null,null,null,null,"JO330 Tofu Fish Ball",27]
[{"$f":"IFERROR(IF(INDIRECT($A$14&ROW())<>\"\",COUNTIF(Summary!$B$30:$B$1105,INDIRECT($A$14&ROW())),\"\"),\"\")","v":""},null,null,null,null,null,null,null,null,null,null,null,null,null,null,null,null,null,null,null,null,null,null,null,null,null,null,null,null,null,null,null,null,null,null,null,null,null,null,null,null,null,null,null,null,null,null,null,null,null,null,null,null,null,null,null,null,null,null,null,null,null,null,null,null,null,null,null,null,null,null,null,null,null,null,null,null,null,null,null,null,null,null,null,null,null,null,null,"JO331 Prawn Ball",16]
[{"$f":"IFERROR(IF(INDIRECT($A$14&ROW())<>\"\",COUNTIF(Summary!$B$30:$B$1105,INDIRECT($A$14&ROW())),\"\"),\"\")","v":""},null,null,null,null,null,null,null,null,null,null,null,null,null,null,null,null,null,null,null,null,null,null,null,null,null,null,null,null,null,null,null,null,null,null,null,null,null,null,null,null,null,null,null,null,null,null,null,null,null,null,null,null,null,null,null,null,null,null,null,null,null,null,null,null,null,null,null,null,null,null,null,null,null,null,null,null,null,null,null,null,null,null,null,null,null,null,null,"JO332 Abalone Slices",47]
[{"$f":"IFERROR(IF(INDIRECT($A$14&ROW())<>\"\",COUNTIF(Summary!$B$30:$B$1105,INDIRECT($A$14&ROW())),\"\"),\"\")","v":""},null,null,null,null,null,null,null,null,null,null,null,null,null,null,null,null,null,null,null,null,null,null,null,null,null,null,null,null,null,null,null,null,null,null,null,null,null,null,null,null,null,null,null,null,null,null,null,null,null,null,null,null,null,null,null,null,null,null,null,null,null,null,null,null,null,null,null,null,null,null,null,null,null,null,null,null,null,null,null,null,null,null,null,null,null,null,null,"JO333 Prawn C. sausage",14]
[{"$f":"IFERROR(IF(INDIRECT($A$14&ROW())<>\"\",COUNTIF(Summary!$B$30:$B$1105,INDIRECT($A$14&ROW())),\"\"),\"\")","v":""},null,null,null,null,null,null,null,null,null,null,null,null,null,null,null,null,null,null,null,null,null,null,null,null,null,null,null,null,null,null,null,null,null,null,null,null,null,null,null,null,null,null,null,null,null,null,null,null,null,null,null,null,null,null,null,null,null,null,null,null,null,null,null,null,null,null,null,null,null,null,null,null,null,null,null,null,null,null,null,null,null,null,null,null,null,null,null,"JO334 FISH BALL BIG",35]
[{"$f":"IFERROR(IF(INDIRECT($A$14&ROW())<>\"\",COUNTIF(Summary!$B$30:$B$1105,INDIRECT($A$14&ROW())),\"\"),\"\")","v":""},null,null,null,null,null,null,null,null,null,null,null,null,null,null,null,null,null,null,null,null,null,null,null,null,null,null,null,null,null,null,null,null,null,null,null,null,null,null,null,null,null,null,null,null,null,null,null,null,null,null,null,null,null,null,null,null,null,null,null,null,null,null,null,null,null,null,null,null,null,null,null,null,null,null,null,null,null,null,null,null,null,null,null,null,null,null,null,"JO335 Tempura Prawn",8]
[{"$f":"IFERROR(IF(INDIRECT($A$14&ROW())<>\"\",COUNTIF(Summary!$B$30:$B$1105,INDIRECT($A$14&ROW())),\"\"),\"\")","v":""},null,null,null,null,null,null,null,null,null,null,null,null,null,null,null,null,null,null,null,null,null,null,null,null,null,null,null,null,null,null,null,null,null,null,null,null,null,null,null,null,null,null,null,null,null,null,null,null,null,null,null,null,null,null,null,null,null,null,null,null,null,null,null,null,null,null,null,null,null,null,null,null,null,null,null,null,null,null,null,null,null,null,null,null,null,null,null,"JO336 Breaded CarbClaw",29]
[{"$f":"IFERROR(IF(INDIRECT($A$14&ROW())<>\"\",COUNTIF(Summary!$B$30:$B$1105,INDIRECT($A$14&ROW())),\"\"),\"\")","v":""},null,null,null,null,null,null,null,null,null,null,null,null,null,null,null,null,null,null,null,null,null,null,null,null,null,null,null,null,null,null,null,null,null,null,null,null,null,null,null,null,null,null,null,null,null,null,null,null,null,null,null,null,null,null,null,null,null,null,null,null,null,null,null,null,null,null,null,null,null,null,null,null,null,null,null,null,null,null,null,null,null,null,null,null,null,null,null,"JO337 C.Shrimp.F.Paste",27]
[{"$f":"IFERROR(IF(INDIRECT($A$14&ROW())<>\"\",COUNTIF(Summary!$B$30:$B$1105,INDIRECT($A$14&ROW())),\"\"),\"\")","v":""},null,null,null,null,null,null,null,null,null,null,null,null,null,null,null,null,null,null,null,null,null,null,null,null,null,null,null,null,null,null,null,null,null,null,null,null,null,null,null,null,null,null,null,null,null,null,null,null,null,null,null,null,null,null,null,null,null,null,null,null,null,null,null,null,null,null,null,null,null,null,null,null,null,null,null,null,null,null,null,null,null,null,null,null,null,null,null,"JO338 Otak Fish Paste",28]
[{"$f":"IFERROR(IF(INDIRECT($A$14&ROW())<>\"\",COUNTIF(Summary!$B$30:$B$1105,INDIRECT($A$14&ROW())),\"\"),\"\")","v":""},null,null,null,null,null,null,null,null,null,null,null,null,null,null,null,null,null,null,null,null,null,null,null,null,null,null,null,null,null,null,null,null,null,null,null,null,null,null,null,null,null,null,null,null,null,null,null,null,null,null,null,null,null,null,null,null,null,null,null,null,null,null,null,null,null,null,null,null,null,null,null,null,null,null,null,null,null,null,null,null,null,null,null,null,null,null,null,"JO339 Salmon Ball",18]
[{"$f":"IFERROR(IF(INDIRECT($A$14&ROW())<>\"\",COUNTIF(Summary!$B$30:$B$1105,INDIRECT($A$14&ROW())),\"\"),\"\")","v":""},null,null,null,null,null,null,null,null,null,null,null,null,null,null,null,null,null,null,null,null,null,null,null,null,null,null,null,null,null,null,null,null,null,null,null,null,null,null,null,null,null,null,null,null,null,null,null,null,null,null,null,null,null,null,null,null,null,null,null,null,null,null,null,null,null,null,null,null,null,null,null,null,null,null,null,null,null,null,null,null,null,null,null,null,null,null,null,"JO340 Fuzhou Fish Ball",10]
[{"$f":"IFERROR(IF(INDIRECT($A$14&ROW())<>\"\",COUNTIF(Summary!$B$30:$B$1105,INDIRECT($A$14&ROW())),\"\"),\"\")","v":""},null,null,null,null,null,null,null,null,null,null,null,null,null,null,null,null,null,null,null,null,null,null,null,null,null,null,null,null,null,null,null,null,null,null,null,null,null,null,null,null,null,null,null,null,null,null,null,null,null,null,null,null,null,null,null,null,null,null,null,null,null,null,null,null,null,null,null,null,null,null,null,null,null,null,null,null,null,null,null,null,null,null,null,null,null,null,null,"JO341 Scallop Ball",7]
[{"$f":"IFERROR(IF(INDIRECT($A$14&ROW())<>\"\",COUNTIF(Summary!$B$30:$B$1105,INDIRECT($A$14&ROW())),\"\"),\"\")","v":""},null,null,null,null,null,null,null,null,null,null,null,null,null,null,null,null,null,null,null,null,null,null,null,null,null,null,null,null,null,null,null,null,null,null,null,null,null,null,null,null,null,null,null,null,null,null,null,null,null,null,null,null,null,null,null,null,null,null,null,null,null,null,null,null,null,null,null,null,null,null,null,null,null,null,null,null,null,null,null,null,null,null,null,null,null,null,null,"JO342 Taiwan C.F. Ball",29]
[{"$f":"IFERROR(IF(INDIRECT($A$14&ROW())<>\"\",COUNTIF(Summary!$B$30:$B$1105,INDIRECT($A$14&ROW())),\"\"),\"\")","v":""},null,null,null,null,null,null,null,null,null,null,null,null,null,null,null,null,null,null,null,null,null,null,null,null,null,null,null,null,null,null,null,null,null,null,null,null,null,null,null,null,null,null,null,null,null,null,null,null,null,null,null,null,null,null,null,null,null,null,null,null,null,null,null,null,null,null,null,null,null,null,null,null,null,null,null,null,null,null,null,null,null,null,null,null,null,null,null,"JO343 Cuttlefish Roll",30]
[{"$f":"IFERROR(IF(INDIRECT($A$14&ROW())<>\"\",COUNTIF(Summary!$B$30:$B$1105,INDIRECT($A$14&ROW())),\"\"),\"\")","v":""},null,null,null,null,null,null,null,null,null,null,null,null,null,null,null,null,null,null,null,null,null,null,null,null,null,null,null,null,null,null,null,null,null,null,null,null,null,null,null,null,null,null,null,null,null,null,null,null,null,null,null,null,null,null,null,null,null,null,null,null,null,null,null,null,null,null,null,null,null,null,null,null,null,null,null,null,null,null,null,null,null,null,null,null,null,null,null,"JO344 M.Seafood Ball",29]
[{"$f":"IFERROR(IF(INDIRECT($A$14&ROW())<>\"\",COUNTIF(Summary!$B$30:$B$1105,INDIRECT($A$14&ROW())),\"\"),\"\")","v":""},null,null,null,null,null,null,null,null,null,null,null,null,null,null,null,null,null,null,null,null,null,null,null,null,null,null,null,null,null,null,null,null,null,null,null,null,null,null,null,null,null,null,null,null,null,null,null,null,null,null,null,null,null,null,null,null,null,null,null,null,null,null,null,null,null,null,null,null,null,null,null,null,null,null,null,null,null,null,null,null,null,null,null,null,null,null,null,"JO345 Cuttlefish",20]
[{"$f":"IFERROR(IF(INDIRECT($A$14&ROW())<>\"\",COUNTIF(Summary!$B$30:$B$1105,INDIRECT($A$14&ROW())),\"\"),\"\")","v":""},null,null,null,null,null,null,null,null,null,null,null,null,null,null,null,null,null,null,null,null,null,null,null,null,null,null,null,null,null,null,null,null,null,null,null,null,null,null,null,null,null,null,null,null,null,null,null,null,null,null,null,null,null,null,null,null,null,null,null,null,null,null,null,null,null,null,null,null,null,null,null,null,null,null,null,null,null,null,null,null,null,null,null,null,null,null,null,"JO346 Shisamo",7]
[{"$f":"IFERROR(IF(INDIRECT($A$14&ROW())<>\"\",COUNTIF(Summary!$B$30:$B$1105,INDIRECT($A$14&ROW())),\"\"),\"\")","v":""},null,null,null,null,null,null,null,null,null,null,null,null,null,null,null,null,null,null,null,null,null,null,null,null,null,null,null,null,null,null,null,null,null,null,null,null,null,null,null,null,null,null,null,null,null,null,null,null,null,null,null,null,null,null,null,null,null,null,null,null,null,null,null,null,null,null,null,null,null,null,null,null,null,null,null,null,null,null,null,null,null,null,null,null,null,null,null,"JO347 Tiger Prawn",11]
[{"$f":"IFERROR(IF(INDIRECT($A$14&ROW())<>\"\",COUNTIF(Summary!$B$30:$B$1105,INDIRECT($A$14&ROW())),\"\"),\"\")","v":""},null,null,null,null,null,null,null,null,null,null,null,null,null,null,null,null,null,null,null,null,null,null,null,null,null,null,null,null,null,null,null,null,null,null,null,null,null,null,null,null,null,null,null,null,null,null,null,null,null,null,null,null,null,null,null,null,null,null,null,null,null,null,null,null,null,null,null,null,null,null,null,null,null,null,null,null,null,null,null,null,null,null,null,null,null,null,null,"JP448 Botton Mushroom",29]
[{"$f":"IFERROR(IF(INDIRECT($A$14&ROW())<>\"\",COUNTIF(Summary!$B$30:$B$1105,INDIRECT($A$14&ROW())),\"\"),\"\")","v":""},null,null,null,null,null,null,null,null,null,null,null,null,null,null,null,null,null,null,null,null,null,null,null,null,null,null,null,null,null,null,null,null,null,null,null,null,null,null,null,null,null,null,null,null,null,null,null,null,null,null,null,null,null,null,null,null,null,null,null,null,null,null,null,null,null,null,null,null,null,null,null,null,null,null,null,null,null,null,null,null,null,null,null,null,null,null,null,"JP449 Kang Kong",43]
[{"$f":"IFERROR(IF(INDIRECT($A$14&ROW())<>\"\",COUNTIF(Summary!$B$30:$B$1105,INDIRECT($A$14&ROW())),\"\"),\"\")","v":""},null,null,null,null,null,null,null,null,null,null,null,null,null,null,null,null,null,null,null,null,null,null,null,null,null,null,null,null,null,null,null,null,null,null,null,null,null,null,null,null,null,null,null,null,null,null,null,null,null,null,null,null,null,null,null,null,null,null,null,null,null,null,null,null,null,null,null,null,null,null,null,null,null,null,null,null,null,null,null,null,null,null,null,null,null,null,null,"JP450 Broccali",47]
[{"$f":"IFERROR(IF(INDIRECT($A$14&ROW())<>\"\",COUNTIF(Summary!$B$30:$B$1105,INDIRECT($A$14&ROW())),\"\"),\"\")","v":""},null,null,null,null,null,null,null,null,null,null,null,null,null,null,null,null,null,null,null,null,null,null,null,null,null,null,null,null,null,null,null,null,null,null,null,null,null,null,null,null,null,null,null,null,null,null,null,null,null,null,null,null,null,null,null,null,null,null,null,null,null,null,null,null,null,null,null,null,null,null,null,null,null,null,null,null,null,null,null,null,null,null,null,null,null,null,null,"JP451 Long Bean",11]
[{"$f":"IFERROR(IF(INDIRECT($A$14&ROW())<>\"\",COUNTIF(Summary!$B$30:$B$1105,INDIRECT($A$14&ROW())),\"\"),\"\")","v":""},null,null,null,null,null,null,null,null,null,null,null,null,null,null,null,null,null,null,null,null,null,null,null,null,null,null,null,null,null,null,null,null,null,null,null,null,null,null,null,null,null,null,null,null,null,null,null,null,null,null,null,null,null,null,null,null,null,null,null,null,null,null,null,null,null,null,null,null,null,null,null,null,null,null,null,null,null,null,null,null,null,null,null,null,null,null,null,"JP452 Fried A.Mushroom",30]
[{"$f":"IFERROR(IF(INDIRECT($A$14&ROW())<>\"\",COUNTIF(Summary!$B$30:$B$1105,INDIRECT($A$14&ROW())),\"\"),\"\")","v":""},null,null,null,null,null,null,null,null,null,null,null,null,null,null,null,null,null,null,null,null,null,null,null,null,null,null,null,null,null,null,null,null,null,null,null,null,null,null,null,null,null,null,null,null,null,null,null,null,null,null,null,null,null,null,null,null,null,null,null,null,null,null,null,null,null,null,null,null,null,null,null,null,null,null,null,null,null,null,null,null,null,null,null,null,null,null,null,"JP453 Shiitake Mushrom",29]
[{"$f":"IFERROR(IF(INDIRECT($A$14&ROW())<>\"\",COUNTIF(Summary!$B$30:$B$1105,INDIRECT($A$14&ROW())),\"\"),\"\")","v":""},null,null,null,null,null,null,null,null,null,null,null,null,null,null,null,null,null,null,null,null,null,null,null,null,null,null,null,null,null,null,null,null,null,null,null,null,null,null,null,null,null,null,null,null,null,null,null,null,null,null,null,null,null,null,null,null,null,null,null,null,null,null,null,null,null,null,null,null,null,null,null,null,null,null,null,null,null,null,null,null,null,null,null,null,null,null,null,"JQ554 M.Fish Eggplant",6]
[{"$f":"IFERROR(IF(INDIRECT($A$14&ROW())<>\"\",COUNTIF(Summary!$B$30:$B$1105,INDIRECT($A$14&ROW())),\"\"),\"\")","v":""},null,null,null,null,null,null,null,null,null,null,null,null,null,null,null,null,null,null,null,null,null,null,null,null,null,null,null,null,null,null,null,null,null,null,null,null,null,null,null,null,null,null,null,null,null,null,null,null,null,null,null,null,null,null,null,null,null,null,null,null,null,null,null,null,null,null,null,null,null,null,null,null,null,null,null,null,null,null,null,null,null,null,null,null,null,null,null,"JQ555 M.Fish Chilli",5]
[{"$f":"IFERROR(IF(INDIRECT($A$14&ROW())<>\"\",COUNTIF(Summary!$B$30:$B$1105,INDIRECT($A$14&ROW())),\"\"),\"\")","v":""},null,null,null,null,null,null,null,null,null,null,null,null,null,null,null,null,null,null,null,null,null,null,null,null,null,null,null,null,null,null,null,null,null,null,null,null,null,null,null,null,null,null,null,null,null,null,null,null,null,null,null,null,null,null,null,null,null,null,null,null,null,null,null,null,null,null,null,null,null,null,null,null,null,null,null,null,null,null,null,null,null,null,null,null,null,null,null,"JQ556 M.Fish Lady's F",12]
[{"$f":"IFERROR(IF(INDIRECT($A$14&ROW())<>\"\",COUNTIF(Summary!$B$30:$B$1105,INDIRECT($A$14&ROW())),\"\"),\"\")","v":""},null,null,null,null,null,null,null,null,null,null,null,null,null,null,null,null,null,null,null,null,null,null,null,null,null,null,null,null,null,null,null,null,null,null,null,null,null,null,null,null,null,null,null,null,null,null,null,null,null,null,null,null,null,null,null,null,null,null,null,null,null,null,null,null,null,null,null,null,null,null,null,null,null,null,null,null,null,null,null,null,null,null,null,null,null,null,null,"JQ557 Chrisy Beabcurd",64]
[{"$f":"IFERROR(IF(INDIRECT($A$14&ROW())<>\"\",COUNTIF(Summary!$B$30:$B$1105,INDIRECT($A$14&ROW())),\"\"),\"\")","v":""},null,null,null,null,null,null,null,null,null,null,null,null,null,null,null,null,null,null,null,null,null,null,null,null,null,null,null,null,null,null,null,null,null,null,null,null,null,null,null,null,null,null,null,null,null,null,null,null,null,null,null,null,null,null,null,null,null,null,null,null,null,null,null,null,null,null,null,null,null,null,null,null,null,null,null,null,null,null,null,null,null,null,null,null,null,null,null,"JQ558 Quail Eggs",75]
[{"$f":"IFERROR(IF(INDIRECT($A$14&ROW())<>\"\",COUNTIF(Summary!$B$30:$B$1105,INDIRECT($A$14&ROW())),\"\"),\"\")","v":""},null,null,null,null,null,null,null,null,null,null,null,null,null,null,null,null,null,null,null,null,null,null,null,null,null,null,null,null,null,null,null,null,null,null,null,null,null,null,null,null,null,null,null,null,null,null,null,null,null,null,null,null,null,null,null,null,null,null,null,null,null,null,null,null,null,null,null,null,null,null,null,null,null,null,null,null,null,null,null,null,null,null,null,null,null,null,null,"JQ559 Fried Wanton",26]
[{"$f":"IFERROR(IF(INDIRECT($A$14&ROW())<>\"\",COUNTIF(Summary!$B$30:$B$1105,INDIRECT($A$14&ROW())),\"\"),\"\")","v":""},null,null,null,null,null,null,null,null,null,null,null,null,null,null,null,null,null,null,null,null,null,null,null,null,null,null,null,null,null,null,null,null,null,null,null,null,null,null,null,null,null,null,null,null,null,null,null,null,null,null,null,null,null,null,null,null,null,null,null,null,null,null,null,null,null,null,null,null,null,null,null,null,null,null,null,null,null,null,null,null,null,null,null,null,null,null,null,"JQ560 L.G.Potato Samos",13]
[{"$f":"IFERROR(IF(INDIRECT($A$14&ROW())<>\"\",COUNTIF(Summary!$B$30:$B$1105,INDIRECT($A$14&ROW())),\"\"),\"\")","v":""},null,null,null,null,null,null,null,null,null,null,null,null,null,null,null,null,null,null,null,null,null,null,null,null,null,null,null,null,null,null,null,null,null,null,null,null,null,null,null,null,null,null,null,null,null,null,null,null,null,null,null,null,null,null,null,null,null,null,null,null,null,null,null,null,null,null,null,null,null,null,null,null,null,null,null,null,null,null,null,null,null,null,null,null,null,null,null,"JQ561 F.Vege Ball",16]
[{"$f":"IFERROR(IF(INDIRECT($A$14&ROW())<>\"\",COUNTIF(Summary!$B$30:$B$1105,INDIRECT($A$14&ROW())),\"\"),\"\")","v":""},null,null,null,null,null,null,null,null,null,null,null,null,null,null,null,null,null,null,null,null,null,null,null,null,null,null,null,null,null,null,null,null,null,null,null,null,null,null,null,null,null,null,null,null,null,null,null,null,null,null,null,null,null,null,null,null,null,null,null,null,null,null,null,null,null,null,null,null,null,null,null,null,null,null,null,null,null,null,null,null,null,null,null,null,null,null,null,"JQ562 Minced Fish Ball",11]
[{"$f":"IFERROR(IF(INDIRECT($A$14&ROW())<>\"\",COUNTIF(Summary!$B$30:$B$1105,INDIRECT($A$14&ROW())),\"\"),\"\")","v":""},null,null,null,null,null,null,null,null,null,null,null,null,null,null,null,null,null,null,null,null,null,null,null,null,null,null,null,null,null,null,null,null,null,null,null,null,null,null,null,null,null,null,null,null,null,null,null,null,null,null,null,null,null,null,null,null,null,null,null,null,null,null,null,null,null,null,null,null,null,null,null,null,null,null,null,null,null,null,null,null,null,null,null,null,null,null,null,"JQ563 Seafood Tofu",61]
[{"$f":"IFERROR(IF(INDIRECT($A$14&ROW())<>\"\",COUNTIF(Summary!$B$30:$B$1105,INDIRECT($A$14&ROW())),\"\"),\"\")","v":""},null,null,null,null,null,null,null,null,null,null,null,null,null,null,null,null,null,null,null,null,null,null,null,null,null,null,null,null,null,null,null,null,null,null,null,null,null,null,null,null,null,null,null,null,null,null,null,null,null,null,null,null,null,null,null,null,null,null,null,null,null,null,null,null,null,null,null,null,null,null,null,null,null,null,null,null,null,null,null,null,null,null,null,null,null,null,null,"JQ564 Spring Roll",10]
[{"$f":"IFERROR(IF(INDIRECT($A$14&ROW())<>\"\",COUNTIF(Summary!$B$30:$B$1105,INDIRECT($A$14&ROW())),\"\"),\"\")","v":""},null,null,null,null,null,null,null,null,null,null,null,null,null,null,null,null,null,null,null,null,null,null,null,null,null,null,null,null,null,null,null,null,null,null,null,null,null,null,null,null,null,null,null,null,null,null,null,null,null,null,null,null,null,null,null,null,null,null,null,null,null,null,null,null,null,null,null,null,null,null,null,null,null,null,null,null,null,null,null,null,null,null,null,null,null,null,null,"JQ565 Quail Century Eg",58]
[{"$f":"IFERROR(IF(INDIRECT($A$14&ROW())<>\"\",COUNTIF(Summary!$B$30:$B$1105,INDIRECT($A$14&ROW())),\"\"),\"\")","v":""},null,null,null,null,null,null,null,null,null,null,null,null,null,null,null,null,null,null,null,null,null,null,null,null,null,null,null,null,null,null,null,null,null,null,null,null,null,null,null,null,null,null,null,null,null,null,null,null,null,null,null,null,null,null,null,null,null,null,null,null,null,null,null,null,null,null,null,null,null,null,null,null,null,null,null,null,null,null,null,null,null,null,null,null,null,null,null,"JQ566 Thai Roll",14]
[{"$f":"IFERROR(IF(INDIRECT($A$14&ROW())<>\"\",COUNTIF(Summary!$B$30:$B$1105,INDIRECT($A$14&ROW())),\"\"),\"\")","v":""},null,null,null,null,null,null,null,null,null,null,null,null,null,null,null,null,null,null,null,null,null,null,null,null,null,null,null,null,null,null,null,null,null,null,null,null,null,null,null,null,null,null,null,null,null,null,null,null,null,null,null,null,null,null,null,null,null,null,null,null,null,null,null,null,null,null,null,null,null,null,null,null,null,null,null,null,null,null,null,null,null,null,null,null,null,null,null,"JQ567 Cheese S.Tofu",62]
[{"$f":"IFERROR(IF(INDIRECT($A$14&ROW())<>\"\",COUNTIF(Summary!$B$30:$B$1105,INDIRECT($A$14&ROW())),\"\"),\"\")","v":""},null,null,null,null,null,null,null,null,null,null,null,null,null,null,null,null,null,null,null,null,null,null,null,null,null,null,null,null,null,null,null,null,null,null,null,null,null,null,null,null,null,null,null,null,null,null,null,null,null,null,null,null,null,null,null,null,null,null,null,null,null,null,null,null,null,null,null,null,null,null,null,null,null,null,null,null,null,null,null,null,null,null,null,null,null,null,null,"JQ568 Rice Skin  Roll",12]
[{"$f":"IFERROR(IF(INDIRECT($A$14&ROW())<>\"\",COUNTIF(Summary!$B$30:$B$1105,INDIRECT($A$14&ROW())),\"\"),\"\")","v":""},null,null,null,null,null,null,null,null,null,null,null,null,null,null,null,null,null,null,null,null,null,null,null,null,null,null,null,null,null,null,null,null,null,null,null,null,null,null,null,null,null,null,null,null,null,null,null,null,null,null,null,null,null,null,null,null,null,null,null,null,null,null,null,null,null,null,null,null,null,null,null,null,null,null,null,null,null,null,null,null,null,null,null,null,null,null,null,"JR01 PACKAGE A",11]
[{"$f":"IFERROR(IF(INDIRECT($A$14&ROW())<>\"\",COUNTIF(Summary!$B$30:$B$1105,INDIRECT($A$14&ROW())),\"\"),\"\")","v":""},null,null,null,null,null,null,null,null,null,null,null,null,null,null,null,null,null,null,null,null,null,null,null,null,null,null,null,null,null,null,null,null,null,null,null,null,null,null,null,null,null,null,null,null,null,null,null,null,null,null,null,null,null,null,null,null,null,null,null,null,null,null,null,null,null,null,null,null,null,null,null,null,null,null,null,null,null,null,null,null,null,null,null,null,null,null,null,"JR02 PACKAGE B",19]
[{"$f":"IFERROR(IF(INDIRECT($A$14&ROW())<>\"\",COUNTIF(Summary!$B$30:$B$1105,INDIRECT($A$14&ROW())),\"\"),\"\")","v":""},null,null,null,null,null,null,null,null,null,null,null,null,null,null,null,null,null,null,null,null,null,null,null,null,null,null,null,null,null,null,null,null,null,null,null,null,null,null,null,null,null,null,null,null,null,null,null,null,null,null,null,null,null,null,null,null,null,null,null,null,null,null,null,null,null,null,null,null,null,null,null,null,null,null,null,null,null,null,null,null,null,null,null,null,null,null,null,"JT101 Tiger BKT Pro",24]
[{"$f":"IFERROR(IF(INDIRECT($A$14&ROW())<>\"\",COUNTIF(Summary!$B$30:$B$1105,INDIRECT($A$14&ROW())),\"\"),\"\")","v":""},null,null,null,null,null,null,null,null,null,null,null,null,null,null,null,null,null,null,null,null,null,null,null,null,null,null,null,null,null,null,null,null,null,null,null,null,null,null,null,null,null,null,null,null,null,null,null,null,null,null,null,null,null,null,null,null,null,null,null,null,null,null,null,null,null,null,null,null,null,null,null,null,null,null,null,null,null,null,null,null,null,null,null,null,null,null,null,"JT102 Tiger 2 BTK Pro",40]
[{"$f":"IFERROR(IF(INDIRECT($A$14&ROW())<>\"\",COUNTIF(Summary!$B$30:$B$1105,INDIRECT($A$14&ROW())),\"\"),\"\")","v":""},null,null,null,null,null,null,null,null,null,null,null,null,null,null,null,null,null,null,null,null,null,null,null,null,null,null,null,null,null,null,null,null,null,null,null,null,null,null,null,null,null,null,null,null,null,null,null,null,null,null,null,null,null,null,null,null,null,null,null,null,null,null,null,null,null,null,null,null,null,null,null,null,null,null,null,null,null,null,null,null,null,null,null,null,null,null,null,"ZAA01 GUINNESS EX BKT",5]
[{"$f":"IFERROR(IF(INDIRECT($A$14&ROW())<>\"\",COUNTIF(Summary!$B$30:$B$1105,INDIRECT($A$14&ROW())),\"\"),\"\")","v":""},null,null,null,null,null,null,null,null,null,null,null,null,null,null,null,null,null,null,null,null,null,null,null,null,null,null,null,null,null,null,null,null,null,null,null,null,null,null,null,null,null,null,null,null,null,null,null,null,null,null,null,null,null,null,null,null,null,null,null,null,null,null,null,null,null,null,null,null,null,null,null,null,null,null,null,null,null,null,null,null,null,null,null,null,null,null,null,"ZAA02 HEINEKEN EX BKT",43]
[{"$f":"IFERROR(IF(INDIRECT($A$14&ROW())<>\"\",COUNTIF(Summary!$B$30:$B$1105,INDIRECT($A$14&ROW())),\"\"),\"\")","v":""},null,null,null,null,null,null,null,null,null,null,null,null,null,null,null,null,null,null,null,null,null,null,null,null,null,null,null,null,null,null,null,null,null,null,null,null,null,null,null,null,null,null,null,null,null,null,null,null,null,null,null,null,null,null,null,null,null,null,null,null,null,null,null,null,null,null,null,null,null,null,null,null,null,null,null,null,null,null,null,null,null,null,null,null,null,null,null,"ZAB01 1201:SFD STICK",11]
[{"$f":"IFERROR(IF(INDIRECT($A$14&ROW())<>\"\",COUNTIF(Summary!$B$30:$B$1105,INDIRECT($A$14&ROW())),\"\"),\"\")","v":""},null,null,null,null,null,null,null,null,null,null,null,null,null,null,null,null,null,null,null,null,null,null,null,null,null,null,null,null,null,null,null,null,null,null,null,null,null,null,null,null,null,null,null,null,null,null,null,null,null,null,null,null,null,null,null,null,null,null,null,null,null,null,null,null,null,null,null,null,null,null,null,null,null,null,null,null,null,null,null,null,null,null,null,null,null,null,null,"ZAB02 1202:FRIES",164]
[{"$f":"IFERROR(IF(INDIRECT($A$14&ROW())<>\"\",COUNTIF(Summary!$B$30:$B$1105,INDIRECT($A$14&ROW())),\"\"),\"\")","v":""},null,null,null,null,null,null,null,null,null,null,null,null,null,null,null,null,null,null,null,null,null,null,null,null,null,null,null,null,null,null,null,null,null,null,null,null,null,null,null,null,null,null,null,null,null,null,null,null,null,null,null,null,null,null,null,null,null,null,null,null,null,null,null,null,null,null,null,null,null,null,null,null,null,null,null,null,null,null,null,null,null,null,null,null,null,null,null,"ZAB03 1203:GOLD MROOM",33]
[{"$f":"IFERROR(IF(INDIRECT($A$14&ROW())<>\"\",COUNTIF(Summary!$B$30:$B$1105,INDIRECT($A$14&ROW())),\"\"),\"\")","v":""},null,null,null,null,null,null,null,null,null,null,null,null,null,null,null,null,null,null,null,null,null,null,null,null,null,null,null,null,null,null,null,null,null,null,null,null,null,null,null,null,null,null,null,null,null,null,null,null,null,null,null,null,null,null,null,null,null,null,null,null,null,null,null,null,null,null,null,null,null,null,null,null,null,null,null,null,null,null,null,null,null,null,null,null,null,null,null,"ZAB04 1204:F.BALL",23]
[{"$f":"IFERROR(IF(INDIRECT($A$14&ROW())<>\"\",COUNTIF(Summary!$B$30:$B$1105,INDIRECT($A$14&ROW())),\"\"),\"\")","v":""},null,null,null,null,null,null,null,null,null,null,null,null,null,null,null,null,null,null,null,null,null,null,null,null,null,null,null,null,null,null,null,null,null,null,null,null,null,null,null,null,null,null,null,null,null,null,null,null,null,null,null,null,null,null,null,null,null,null,null,null,null,null,null,null,null,null,null,null,null,null,null,null,null,null,null,null,null,null,null,null,null,null,null,null,null,null,null,"ZAB06 1206:SPRING RL",46]
[{"$f":"IFERROR(IF(INDIRECT($A$14&ROW())<>\"\",COUNTIF(Summary!$B$30:$B$1105,INDIRECT($A$14&ROW())),\"\"),\"\")","v":""},null,null,null,null,null,null,null,null,null,null,null,null,null,null,null,null,null,null,null,null,null,null,null,null,null,null,null,null,null,null,null,null,null,null,null,null,null,null,null,null,null,null,null,null,null,null,null,null,null,null,null,null,null,null,null,null,null,null,null,null,null,null,null,null,null,null,null,null,null,null,null,null,null,null,null,null,null,null,null,null,null,null,null,null,null,null,null,"ZAB07 1207:SAUSAGE",79]
[{"$f":"IFERROR(IF(INDIRECT($A$14&ROW())<>\"\",COUNTIF(Summary!$B$30:$B$1105,INDIRECT($A$14&ROW())),\"\"),\"\")","v":""},null,null,null,null,null,null,null,null,null,null,null,null,null,null,null,null,null,null,null,null,null,null,null,null,null,null,null,null,null,null,null,null,null,null,null,null,null,null,null,null,null,null,null,null,null,null,null,null,null,null,null,null,null,null,null,null,null,null,null,null,null,null,null,null,null,null,null,null,null,null,null,null,null,null,null,null,null,null,null,null,null,null,null,null,null,null,null,"ZAC02 1302:NUGGET",68]
[{"$f":"IFERROR(IF(INDIRECT($A$14&ROW())<>\"\",COUNTIF(Summary!$B$30:$B$1105,INDIRECT($A$14&ROW())),\"\"),\"\")","v":""},null,null,null,null,null,null,null,null,null,null,null,null,null,null,null,null,null,null,null,null,null,null,null,null,null,null,null,null,null,null,null,null,null,null,null,null,null,null,null,null,null,null,null,null,null,null,null,null,null,null,null,null,null,null,null,null,null,null,null,null,null,null,null,null,null,null,null,null,null,null,null,null,null,null,null,null,null,null,null,null,null,null,null,null,null,null,null,"ZAC03 1303:CHK WING",64]
[{"$f":"IFERROR(IF(INDIRECT($A$14&ROW())<>\"\",COUNTIF(Summary!$B$30:$B$1105,INDIRECT($A$14&ROW())),\"\"),\"\")","v":""},null,null,null,null,null,null,null,null,null,null,null,null,null,null,null,null,null,null,null,null,null,null,null,null,null,null,null,null,null,null,null,null,null,null,null,null,null,null,null,null,null,null,null,null,null,null,null,null,null,null,null,null,null,null,null,null,null,null,null,null,null,null,null,null,null,null,null,null,null,null,null,null,null,null,null,null,null,null,null,null,null,null,null,null,null,null,null,"ZAC04 1304:IKAN BILIS",9]
[{"$f":"IFERROR(IF(INDIRECT($A$14&ROW())<>\"\",COUNTIF(Summary!$B$30:$B$1105,INDIRECT($A$14&ROW())),\"\"),\"\")","v":""},null,null,null,null,null,null,null,null,null,null,null,null,null,null,null,null,null,null,null,null,null,null,null,null,null,null,null,null,null,null,null,null,null,null,null,null,null,null,null,null,null,null,null,null,null,null,null,null,null,null,null,null,null,null,null,null,null,null,null,null,null,null,null,null,null,null,null,null,null,null,null,null,null,null,null,null,null,null,null,null,null,null,null,null,null,null,null,"ZAC05 1305:THAI RL",7]
[{"$f":"IFERROR(IF(INDIRECT($A$14&ROW())<>\"\",COUNTIF(Summary!$B$30:$B$1105,INDIRECT($A$14&ROW())),\"\"),\"\")","v":""},null,null,null,null,null,null,null,null,null,null,null,null,null,null,null,null,null,null,null,null,null,null,null,null,null,null,null,null,null,null,null,null,null,null,null,null,null,null,null,null,null,null,null,null,null,null,null,null,null,null,null,null,null,null,null,null,null,null,null,null,null,null,null,null,null,null,null,null,null,null,null,null,null,null,null,null,null,null,null,null,null,null,null,null,null,null,null,"ZAC07 1307:D/F C.WINGS",42]
[{"$f":"IFERROR(IF(INDIRECT($A$14&ROW())<>\"\",COUNTIF(Summary!$B$30:$B$1105,INDIRECT($A$14&ROW())),\"\"),\"\")","v":""},null,null,null,null,null,null,null,null,null,null,null,null,null,null,null,null,null,null,null,null,null,null,null,null,null,null,null,null,null,null,null,null,null,null,null,null,null,null,null,null,null,null,null,null,null,null,null,null,null,null,null,null,null,null,null,null,null,null,null,null,null,null,null,null,null,null,null,null,null,null,null,null,null,null,null,null,null,null,null,null,null,null,null,null,null,null,null,"ZAC08 1308:C/CALAMARI",22]
[{"$f":"IFERROR(IF(INDIRECT($A$14&ROW())<>\"\",COUNTIF(Summary!$B$30:$B$1105,INDIRECT($A$14&ROW())),\"\"),\"\")","v":""},null,null,null,null,null,null,null,null,null,null,null,null,null,null,null,null,null,null,null,null,null,null,null,null,null,null,null,null,null,null,null,null,null,null,null,null,null,null,null,null,null,null,null,null,null,null,null,null,null,null,null,null,null,null,null,null,null,null,null,null,null,null,null,null,null,null,null,null,null,null,null,null,null,null,null,null,null,null,null,null,null,null,null,null,null,null,null,"ZAC09 1309:Mc /O.RINGS",11]
[{"$f":"IFERROR(IF(INDIRECT($A$14&ROW())<>\"\",COUNTIF(Summary!$B$30:$B$1105,INDIRECT($A$14&ROW())),\"\"),\"\")","v":""},null,null,null,null,null,null,null,null,null,null,null,null,null,null,null,null,null,null,null,null,null,null,null,null,null,null,null,null,null,null,null,null,null,null,null,null,null,null,null,null,null,null,null,null,null,null,null,null,null,null,null,null,null,null,null,null,null,null,null,null,null,null,null,null,null,null,null,null,null,null,null,null,null,null,null,null,null,null,null,null,null,null,null,null,null,null,null,"ZAC10 1310:Mc SPIRAL/F",18]
[{"$f":"IFERROR(IF(INDIRECT($A$14&ROW())<>\"\",COUNTIF(Summary!$B$30:$B$1105,INDIRECT($A$14&ROW())),\"\"),\"\")","v":""},null,null,null,null,null,null,null,null,null,null,null,null,null,null,null,null,null,null,null,null,null,null,null,null,null,null,null,null,null,null,null,null,null,null,null,null,null,null,null,null,null,null,null,null,null,null,null,null,null,null,null,null,null,null,null,null,null,null,null,null,null,null,null,null,null,null,null,null,null,null,null,null,null,null,null,null,null,null,null,null,null,null,null,null,null,null,null,"ZAC11 1311:Mc H/SMILES",5]
[{"$f":"IFERROR(IF(INDIRECT($A$14&ROW())<>\"\",COUNTIF(Summary!$B$30:$B$1105,INDIRECT($A$14&ROW())),\"\"),\"\")","v":""},null,null,null,null,null,null,null,null,null,null,null,null,null,null,null,null,null,null,null,null,null,null,null,null,null,null,null,null,null,null,null,null,null,null,null,null,null,null,null,null,null,null,null,null,null,null,null,null,null,null,null,null,null,null,null,null,null,null,null,null,null,null,null,null,null,null,null,null,null,null,null,null,null,null,null,null,null,null,null,null,null,null,null,null,null,null,null,"ZAC12 1312:Mc HASH/B",22]
[{"$f":"IFERROR(IF(INDIRECT($A$14&ROW())<>\"\",COUNTIF(Summary!$B$30:$B$1105,INDIRECT($A$14&ROW())),\"\"),\"\")","v":""},null,null,null,null,null,null,null,null,null,null,null,null,null,null,null,null,null,null,null,null,null,null,null,null,null,null,null,null,null,null,null,null,null,null,null,null,null,null,null,null,null,null,null,null,null,null,null,null,null,null,null,null,null,null,null,null,null,null,null,null,null,null,null,null,null,null,null,null,null,null,null,null,null,null,null,null,null,null,null,null,null,null,null,null,null,null,null,"ZAD01 COLD",82]
[{"$f":"IFERROR(IF(INDIRECT($A$14&ROW())<>\"\",COUNTIF(Summary!$B$30:$B$1105,INDIRECT($A$14&ROW())),\"\"),\"\")","v":""},null,null,null,null,null,null,null,null,null,null,null,null,null,null,null,null,null,null,null,null,null,null,null,null,null,null,null,null,null,null,null,null,null,null,null,null,null,null,null,null,null,null,null,null,null,null,null,null,null,null,null,null,null,null,null,null,null,null,null,null,null,null,null,null,null,null,null,null,null,null,null,null,null,null,null,null,null,null,null,null,null,null,null,null,null,null,null,"ZAD02 HOT",90]
[{"$f":"IFERROR(IF(INDIRECT($A$14&ROW())<>\"\",COUNTIF(Summary!$B$30:$B$1105,INDIRECT($A$14&ROW())),\"\"),\"\")","v":""},null,null,null,null,null,null,null,null,null,null,null,null,null,null,null,null,null,null,null,null,null,null,null,null,null,null,null,null,null,null,null,null,null,null,null,null,null,null,null,null,null,null,null,null,null,null,null,null,null,null,null,null,null,null,null,null,null,null,null,null,null,null,null,null,null,null,null,null,null,null,null,null,null,null,null,null,null,null,null,null,null,null,null,null,null,null,null,"ZAD03 WARM",518]
[{"$f":"IFERROR(IF(INDIRECT($A$14&ROW())<>\"\",COUNTIF(Summary!$B$30:$B$1105,INDIRECT($A$14&ROW())),\"\"),\"\")","v":""},null,null,null,null,null,null,null,null,null,null,null,null,null,null,null,null,null,null,null,null,null,null,null,null,null,null,null,null,null,null,null,null,null,null,null,null,null,null,null,null,null,null,null,null,null,null,null,null,null,null,null,null,null,null,null,null,null,null,null,null,null,null,null,null,null,null,null,null,null,null,null,null,null,null,null,null,null,null,null,null,null,null,null,null,null,null,null,"ZAD04 LESS ICE",1053]
[{"$f":"IFERROR(IF(INDIRECT($A$14&ROW())<>\"\",COUNTIF(Summary!$B$30:$B$1105,INDIRECT($A$14&ROW())),\"\"),\"\")","v":""},null,null,null,null,null,null,null,null,null,null,null,null,null,null,null,null,null,null,null,null,null,null,null,null,null,null,null,null,null,null,null,null,null,null,null,null,null,null,null,null,null,null,null,null,null,null,null,null,null,null,null,null,null,null,null,null,null,null,null,null,null,null,null,null,null,null,null,null,null,null,null,null,null,null,null,null,null,null,null,null,null,null,null,null,null,null,null,"ZAD05 MORE ICE",10]
[{"$f":"IFERROR(IF(INDIRECT($A$14&ROW())<>\"\",COUNTIF(Summary!$B$30:$B$1105,INDIRECT($A$14&ROW())),\"\"),\"\")","v":""},null,null,null,null,null,null,null,null,null,null,null,null,null,null,null,null,null,null,null,null,null,null,null,null,null,null,null,null,null,null,null,null,null,null,null,null,null,null,null,null,null,null,null,null,null,null,null,null,null,null,null,null,null,null,null,null,null,null,null,null,null,null,null,null,null,null,null,null,null,null,null,null,null,null,null,null,null,null,null,null,null,null,null,null,null,null,null,"ZAD06 NO ICE",308]
[{"$f":"IFERROR(IF(INDIRECT($A$14&ROW())<>\"\",COUNTIF(Summary!$B$30:$B$1105,INDIRECT($A$14&ROW())),\"\"),\"\")","v":""},null,null,null,null,null,null,null,null,null,null,null,null,null,null,null,null,null,null,null,null,null,null,null,null,null,null,null,null,null,null,null,null,null,null,null,null,null,null,null,null,null,null,null,null,null,null,null,null,null,null,null,null,null,null,null,null,null,null,null,null,null,null,null,null,null,null,null,null,null,null,null,null,null,null,null,null,null,null,null,null,null,null,null,null,null,null,null,"ZAD07 LESS SWEET",148]
[{"$f":"IFERROR(IF(INDIRECT($A$14&ROW())<>\"\",COUNTIF(Summary!$B$30:$B$1105,INDIRECT($A$14&ROW())),\"\"),\"\")","v":""},null,null,null,null,null,null,null,null,null,null,null,null,null,null,null,null,null,null,null,null,null,null,null,null,null,null,null,null,null,null,null,null,null,null,null,null,null,null,null,null,null,null,null,null,null,null,null,null,null,null,null,null,null,null,null,null,null,null,null,null,null,null,null,null,null,null,null,null,null,null,null,null,null,null,null,null,null,null,null,null,null,null,null,null,null,null,null,"ZAD08 LESS OILY",5]
[{"$f":"IFERROR(IF(INDIRECT($A$14&ROW())<>\"\",COUNTIF(Summary!$B$30:$B$1105,INDIRECT($A$14&ROW())),\"\"),\"\")","v":""},null,null,null,null,null,null,null,null,null,null,null,null,null,null,null,null,null,null,null,null,null,null,null,null,null,null,null,null,null,null,null,null,null,null,null,null,null,null,null,null,null,null,null,null,null,null,null,null,null,null,null,null,null,null,null,null,null,null,null,null,null,null,null,null,null,null,null,null,null,null,null,null,null,null,null,null,null,null,null,null,null,null,null,null,null,null,null,"ZAD09 LESS SALTY",5]
[{"$f":"IFERROR(IF(INDIRECT($A$14&ROW())<>\"\",COUNTIF(Summary!$B$30:$B$1105,INDIRECT($A$14&ROW())),\"\"),\"\")","v":""},null,null,null,null,null,null,null,null,null,null,null,null,null,null,null,null,null,null,null,null,null,null,null,null,null,null,null,null,null,null,null,null,null,null,null,null,null,null,null,null,null,null,null,null,null,null,null,null,null,null,null,null,null,null,null,null,null,null,null,null,null,null,null,null,null,null,null,null,null,null,null,null,null,null,null,null,null,null,null,null,null,null,null,null,null,null,null,"ZAD10 LESS SPICY",2]
[{"$f":"IFERROR(IF(INDIRECT($A$14&ROW())<>\"\",COUNTIF(Summary!$B$30:$B$1105,INDIRECT($A$14&ROW())),\"\"),\"\")","v":""},null,null,null,null,null,null,null,null,null,null,null,null,null,null,null,null,null,null,null,null,null,null,null,null,null,null,null,null,null,null,null,null,null,null,null,null,null,null,null,null,null,null,null,null,null,null,null,null,null,null,null,null,null,null,null,null,null,null,null,null,null,null,null,null,null,null,null,null,null,null,null,null,null,null,null,null,null,null,null,null,null,null,null,null,null,null,null,"ZAD11 MORE SPICY",3]
[{"$f":"IFERROR(IF(INDIRECT($A$14&ROW())<>\"\",COUNTIF(Summary!$B$30:$B$1105,INDIRECT($A$14&ROW())),\"\"),\"\")","v":""},null,null,null,null,null,null,null,null,null,null,null,null,null,null,null,null,null,null,null,null,null,null,null,null,null,null,null,null,null,null,null,null,null,null,null,null,null,null,null,null,null,null,null,null,null,null,null,null,null,null,null,null,null,null,null,null,null,null,null,null,null,null,null,null,null,null,null,null,null,null,null,null,null,null,null,null,null,null,null,null,null,null,null,null,null,null,null,"ZAD13 ADD LEMON",292]
[{"$f":"IFERROR(IF(INDIRECT($A$14&ROW())<>\"\",COUNTIF(Summary!$B$30:$B$1105,INDIRECT($A$14&ROW())),\"\"),\"\")","v":""},null,null,null,null,null,null,null,null,null,null,null,null,null,null,null,null,null,null,null,null,null,null,null,null,null,null,null,null,null,null,null,null,null,null,null,null,null,null,null,null,null,null,null,null,null,null,null,null,null,null,null,null,null,null,null,null,null,null,null,null,null,null,null,null,null,null,null,null,null,null,null,null,null,null,null,null,null,null,null,null,null,null,null,null,null,null,null,"ZAD14 MORE SWEET",30]
[{"$f":"IFERROR(IF(INDIRECT($A$14&ROW())<>\"\",COUNTIF(Summary!$B$30:$B$1105,INDIRECT($A$14&ROW())),\"\"),\"\")","v":""},null,null,null,null,null,null,null,null,null,null,null,null,null,null,null,null,null,null,null,null,null,null,null,null,null,null,null,null,null,null,null,null,null,null,null,null,null,null,null,null,null,null,null,null,null,null,null,null,null,null,null,null,null,null,null,null,null,null,null,null,null,null,null,null,null,null,null,null,null,null,null,null,null,null,null,null,null,null,null,null,null,null,null,null,null,null,null,"ZAD15 VEGGIE ONLY",2]
[{"$f":"IFERROR(IF(INDIRECT($A$14&ROW())<>\"\",COUNTIF(Summary!$B$30:$B$1105,INDIRECT($A$14&ROW())),\"\"),\"\")","v":""},null,null,null,null,null,null,null,null,null,null,null,null,null,null,null,null,null,null,null,null,null,null,null,null,null,null,null,null,null,null,null,null,null,null,null,null,null,null,null,null,null,null,null,null,null,null,null,null,null,null,null,null,null,null,null,null,null,null,null,null,null,null,null,null,null,null,null,null,null,null,null,null,null,null,null,null,null,null,null,null,null,null,null,null,null,null,null,"ZAD16 MORE HONEY",67]
[{"$f":"IFERROR(IF(INDIRECT($A$14&ROW())<>\"\",COUNTIF(Summary!$B$30:$B$1105,INDIRECT($A$14&ROW())),\"\"),\"\")","v":""},null,null,null,null,null,null,null,null,null,null,null,null,null,null,null,null,null,null,null,null,null,null,null,null,null,null,null,null,null,null,null,null,null,null,null,null,null,null,null,null,null,null,null,null,null,null,null,null,null,null,null,null,null,null,null,null,null,null,null,null,null,null,null,null,null,null,null,null,null,null,null,null,null,null,null,null,null,null,null,null,null,null,null,null,null,null,null,"ZAD17 WITHOUT SUGAR",104]
[{"$f":"IFERROR(IF(INDIRECT($A$14&ROW())<>\"\",COUNTIF(Summary!$B$30:$B$1105,INDIRECT($A$14&ROW())),\"\"),\"\")","v":""},null,null,null,null,null,null,null,null,null,null,null,null,null,null,null,null,null,null,null,null,null,null,null,null,null,null,null,null,null,null,null,null,null,null,null,null,null,null,null,null,null,null,null,null,null,null,null,null,null,null,null,null,null,null,null,null,null,null,null,null,null,null,null,null,null,null,null,null,null,null,null,null,null,null,null,null,null,null,null,null,null,null,null,null,null,null,null,"ZAD19 KAU KAU",52]
[{"$f":"IFERROR(IF(INDIRECT($A$14&ROW())<>\"\",COUNTIF(Summary!$B$30:$B$1105,INDIRECT($A$14&ROW())),\"\"),\"\")","v":""},null,null,null,null,null,null,null,null,null,null,null,null,null,null,null,null,null,null,null,null,null,null,null,null,null,null,null,null,null,null,null,null,null,null,null,null,null,null,null,null,null,null,null,null,null,null,null,null,null,null,null,null,null,null,null,null,null,null,null,null,null,null,null,null,null,null,null,null,null,null,null,null,null,null,null,null,null,null,null,null,null,null,null,null,null,null,null,"ZAD20 JUG",234]
[{"$f":"IFERROR(IF(INDIRECT($A$14&ROW())<>\"\",COUNTIF(Summary!$B$30:$B$1105,INDIRECT($A$14&ROW())),\"\"),\"\")","v":""},null,null,null,null,null,null,null,null,null,null,null,null,null,null,null,null,null,null,null,null,null,null,null,null,null,null,null,null,null,null,null,null,null,null,null,null,null,null,null,null,null,null,null,null,null,null,null,null,null,null,null,null,null,null,null,null,null,null,null,null,null,null,null,null,null,null,null,null,null,null,null,null,null,null,null,null,null,null,null,null,null,null,null,null,null,null,null,"ZAD21 TAKE AWAY",4]
[{"$f":"IFERROR(IF(INDIRECT($A$14&ROW())<>\"\",COUNTIF(Summary!$B$30:$B$1105,INDIRECT($A$14&ROW())),\"\"),\"\")","v":""},null,null,null,null,null,null,null,null,null,null,null,null,null,null,null,null,null,null,null,null,null,null,null,null,null,null,null,null,null,null,null,null,null,null,null,null,null,null,null,null,null,null,null,null,null,null,null,null,null,null,null,null,null,null,null,null,null,null,null,null,null,null,null,null,null,null,null,null,null,null,null,null,null,null,null,null,null,null,null,null,null,null,null,null,null,null,null,"ZAD24 + SAUCE BP",3]
[{"$f":"IFERROR(IF(INDIRECT($A$14&ROW())<>\"\",COUNTIF(Summary!$B$30:$B$1105,INDIRECT($A$14&ROW())),\"\"),\"\")","v":""},null,null,null,null,null,null,null,null,null,null,null,null,null,null,null,null,null,null,null,null,null,null,null,null,null,null,null,null,null,null,null,null,null,null,null,null,null,null,null,null,null,null,null,null,null,null,null,null,null,null,null,null,null,null,null,null,null,null,null,null,null,null,null,null,null,null,null,null,null,null,null,null,null,null,null,null,null,null,null,null,null,null,null,null,null,null,null,"ZAD26 + CILLI PADI",2]
[{"$f":"IFERROR(IF(INDIRECT($A$14&ROW())<>\"\",COUNTIF(Summary!$B$30:$B$1105,INDIRECT($A$14&ROW())),\"\"),\"\")","v":""},null,null,null,null,null,null,null,null,null,null,null,null,null,null,null,null,null,null,null,null,null,null,null,null,null,null,null,null,null,null,null,null,null,null,null,null,null,null,null,null,null,null,null,null,null,null,null,null,null,null,null,null,null,null,null,null,null,null,null,null,null,null,null,null,null,null,null,null,null,null,null,null,null,null,null,null,null,null,null,null,null,null,null,null,null,null,null,"ZAD30 + SAUCE MR",3]
[{"$f":"IFERROR(IF(INDIRECT($A$14&ROW())<>\"\",COUNTIF(Summary!$B$30:$B$1105,INDIRECT($A$14&ROW())),\"\"),\"\")","v":""},null,null,null,null,null,null,null,null,null,null,null,null,null,null,null,null,null,null,null,null,null,null,null,null,null,null,null,null,null,null,null,null,null,null,null,null,null,null,null,null,null,null,null,null,null,null,null,null,null,null,null,null,null,null,null,null,null,null,null,null,null,null,null,null,null,null,null,null,null,null,null,null,null,null,null,null,null,null,null,null,null,null,null,null,null,null,null,"ZAD33 + SAUCE TOMATO",1]
[{"$f":"IFERROR(IF(INDIRECT($A$14&ROW())<>\"\",COUNTIF(Summary!$B$30:$B$1105,INDIRECT($A$14&ROW())),\"\"),\"\")","v":""},null,null,null,null,null,null,null,null,null,null,null,null,null,null,null,null,null,null,null,null,null,null,null,null,null,null,null,null,null,null,null,null,null,null,null,null,null,null,null,null,null,null,null,null,null,null,null,null,null,null,null,null,null,null,null,null,null,null,null,null,null,null,null,null,null,null,null,null,null,null,null,null,null,null,null,null,null,null,null,null,null,null,null,null,null,null,null,"ZAD36 BEER GLASS",576]
[{"$f":"IFERROR(IF(INDIRECT($A$14&ROW())<>\"\",COUNTIF(Summary!$B$30:$B$1105,INDIRECT($A$14&ROW())),\"\"),\"\")","v":""},null,null,null,null,null,null,null,null,null,null,null,null,null,null,null,null,null,null,null,null,null,null,null,null,null,null,null,null,null,null,null,null,null,null,null,null,null,null,null,null,null,null,null,null,null,null,null,null,null,null,null,null,null,null,null,null,null,null,null,null,null,null,null,null,null,null,null,null,null,null,null,null,null,null,null,null,null,null,null,null,null,null,null,null,null,null,null,"ZAD37 ICE BUCKET",161]
[{"$f":"IFERROR(IF(INDIRECT($A$14&ROW())<>\"\",COUNTIF(Summary!$B$30:$B$1105,INDIRECT($A$14&ROW())),\"\"),\"\")","v":""},null,null,null,null,null,null,null,null,null,null,null,null,null,null,null,null,null,null,null,null,null,null,null,null,null,null,null,null,null,null,null,null,null,null,null,null,null,null,null,null,null,null,null,null,null,null,null,null,null,null,null,null,null,null,null,null,null,null,null,null,null,null,null,null,null,null,null,null,null,null,null,null,null,null,null,null,null,null,null,null,null,null,null,null,null,null,null,"ZZZZZ CHANGE TO CHARGE"]
[{"$f":"IFERROR(IF(INDIRECT($A$14&ROW())<>\"\",COUNTIF(Summary!$B$30:$B$1105,INDIRECT($A$14&ROW())),\"\"),\"\")","v":""}]
[{"$f":"IFERROR(IF(INDIRECT($A$14&ROW())<>\"\",COUNTIF(Summary!$B$30:$B$1105,INDIRECT($A$14&ROW())),\"\"),\"\")","v":""}]
[{"$f":"IFERROR(IF(INDIRECT($A$14&ROW())<>\"\",COUNTIF(Summary!$B$30:$B$1105,INDIRECT($A$14&ROW())),\"\"),\"\")","v":""}]
[{"$f":"IFERROR(IF(INDIRECT($A$14&ROW())<>\"\",COUNTIF(Summary!$B$30:$B$1105,INDIRECT($A$14&ROW())),\"\"),\"\")","v":""}]
[{"$f":"IFERROR(IF(INDIRECT($A$14&ROW())<>\"\",COUNTIF(Summary!$B$30:$B$1105,INDIRECT($A$14&ROW())),\"\"),\"\")","v":""}]
[{"$f":"IFERROR(IF(INDIRECT($A$14&ROW())<>\"\",COUNTIF(Summary!$B$30:$B$1105,INDIRECT($A$14&ROW())),\"\"),\"\")","v":""}]
[{"$f":"IFERROR(IF(INDIRECT($A$14&ROW())<>\"\",COUNTIF(Summary!$B$30:$B$1105,INDIRECT($A$14&ROW())),\"\"),\"\")","v":""}]
[{"$f":"IFERROR(IF(INDIRECT($A$14&ROW())<>\"\",COUNTIF(Summary!$B$30:$B$1105,INDIRECT($A$14&ROW())),\"\"),\"\")","v":""}]
[{"$f":"IFERROR(IF(INDIRECT($A$14&ROW())<>\"\",COUNTIF(Summary!$B$30:$B$1105,INDIRECT($A$14&ROW())),\"\"),\"\")","v":""}]
[{"$f":"IFERROR(IF(INDIRECT($A$14&ROW())<>\"\",COUNTIF(Summary!$B$30:$B$1105,INDIRECT($A$14&ROW())),\"\"),\"\")","v":""}]
[{"$f":"IFERROR(IF(INDIRECT($A$14&ROW())<>\"\",COUNTIF(Summary!$B$30:$B$1105,INDIRECT($A$14&ROW())),\"\"),\"\")","v":""}]
[{"$f":"IFERROR(IF(INDIRECT($A$14&ROW())<>\"\",COUNTIF(Summary!$B$30:$B$1105,INDIRECT($A$14&ROW())),\"\"),\"\")","v":""}]
[{"$f":"IFERROR(IF(INDIRECT($A$14&ROW())<>\"\",COUNTIF(Summary!$B$30:$B$1105,INDIRECT($A$14&ROW())),\"\"),\"\")","v":""}]
[{"$f":"IFERROR(IF(INDIRECT($A$14&ROW())<>\"\",COUNTIF(Summary!$B$30:$B$1105,INDIRECT($A$14&ROW())),\"\"),\"\")","v":""}]
[{"$f":"IFERROR(IF(INDIRECT($A$14&ROW())<>\"\",COUNTIF(Summary!$B$30:$B$1105,INDIRECT($A$14&ROW())),\"\"),\"\")","v":""}]
[{"$f":"IFERROR(IF(INDIRECT($A$14&ROW())<>\"\",COUNTIF(Summary!$B$30:$B$1105,INDIRECT($A$14&ROW())),\"\"),\"\")","v":""}]
[{"$f":"IFERROR(IF(INDIRECT($A$14&ROW())<>\"\",COUNTIF(Summary!$B$30:$B$1105,INDIRECT($A$14&ROW())),\"\"),\"\")","v":""}]
[{"$f":"IFERROR(IF(INDIRECT($A$14&ROW())<>\"\",COUNTIF(Summary!$B$30:$B$1105,INDIRECT($A$14&ROW())),\"\"),\"\")","v":""}]
[{"$f":"IFERROR(IF(INDIRECT($A$14&ROW())<>\"\",COUNTIF(Summary!$B$30:$B$1105,INDIRECT($A$14&ROW())),\"\"),\"\")","v":""}]
[{"$f":"IFERROR(IF(INDIRECT($A$14&ROW())<>\"\",COUNTIF(Summary!$B$30:$B$1105,INDIRECT($A$14&ROW())),\"\"),\"\")","v":""}]
[{"$f":"IFERROR(IF(INDIRECT($A$14&ROW())<>\"\",COUNTIF(Summary!$B$30:$B$1105,INDIRECT($A$14&ROW())),\"\"),\"\")","v":""}]
[{"$f":"IFERROR(IF(INDIRECT($A$14&ROW())<>\"\",COUNTIF(Summary!$B$30:$B$1105,INDIRECT($A$14&ROW())),\"\"),\"\")","v":""}]
[{"$f":"IFERROR(IF(INDIRECT($A$14&ROW())<>\"\",COUNTIF(Summary!$B$30:$B$1105,INDIRECT($A$14&ROW())),\"\"),\"\")","v":""}]
[{"$f":"IFERROR(IF(INDIRECT($A$14&ROW())<>\"\",COUNTIF(Summary!$B$30:$B$1105,INDIRECT($A$14&ROW())),\"\"),\"\")","v":""}]
[{"$f":"IFERROR(IF(INDIRECT($A$14&ROW())<>\"\",COUNTIF(Summary!$B$30:$B$1105,INDIRECT($A$14&ROW())),\"\"),\"\")","v":""}]
[{"$f":"IFERROR(IF(INDIRECT($A$14&ROW())<>\"\",COUNTIF(Summary!$B$30:$B$1105,INDIRECT($A$14&ROW())),\"\"),\"\")","v":""}]
[{"$f":"IFERROR(IF(INDIRECT($A$14&ROW())<>\"\",COUNTIF(Summary!$B$30:$B$1105,INDIRECT($A$14&ROW())),\"\"),\"\")","v":""}]
[{"$f":"IFERROR(IF(INDIRECT($A$14&ROW())<>\"\",COUNTIF(Summary!$B$30:$B$1105,INDIRECT($A$14&ROW())),\"\"),\"\")","v":""}]
[{"$f":"IFERROR(IF(INDIRECT($A$14&ROW())<>\"\",COUNTIF(Summary!$B$30:$B$1105,INDIRECT($A$14&ROW())),\"\"),\"\")","v":""}]
[{"$f":"IFERROR(IF(INDIRECT($A$14&ROW())<>\"\",COUNTIF(Summary!$B$30:$B$1105,INDIRECT($A$14&ROW())),\"\"),\"\")","v":""}]
[{"$f":"IFERROR(IF(INDIRECT($A$14&ROW())<>\"\",COUNTIF(Summary!$B$30:$B$1105,INDIRECT($A$14&ROW())),\"\"),\"\")","v":""}]
[{"$f":"IFERROR(IF(INDIRECT($A$14&ROW())<>\"\",COUNTIF(Summary!$B$30:$B$1105,INDIRECT($A$14&ROW())),\"\"),\"\")","v":""}]
[{"$f":"IFERROR(IF(INDIRECT($A$14&ROW())<>\"\",COUNTIF(Summary!$B$30:$B$1105,INDIRECT($A$14&ROW())),\"\"),\"\")","v":""}]
[{"$f":"IFERROR(IF(INDIRECT($A$14&ROW())<>\"\",COUNTIF(Summary!$B$30:$B$1105,INDIRECT($A$14&ROW())),\"\"),\"\")","v":""}]
[{"$f":"IFERROR(IF(INDIRECT($A$14&ROW())<>\"\",COUNTIF(Summary!$B$30:$B$1105,INDIRECT($A$14&ROW())),\"\"),\"\")","v":""}]
[{"$f":"IFERROR(IF(INDIRECT($A$14&ROW())<>\"\",COUNTIF(Summary!$B$30:$B$1105,INDIRECT($A$14&ROW())),\"\"),\"\")","v":""}]
[{"$f":"IFERROR(IF(INDIRECT($A$14&ROW())<>\"\",COUNTIF(Summary!$B$30:$B$1105,INDIRECT($A$14&ROW())),\"\"),\"\")","v":""}]
[{"$f":"IFERROR(IF(INDIRECT($A$14&ROW())<>\"\",COUNTIF(Summary!$B$30:$B$1105,INDIRECT($A$14&ROW())),\"\"),\"\")","v":""}]
[{"$f":"IFERROR(IF(INDIRECT($A$14&ROW())<>\"\",COUNTIF(Summary!$B$30:$B$1105,INDIRECT($A$14&ROW())),\"\"),\"\")","v":""}]
[{"$f":"IFERROR(IF(INDIRECT($A$14&ROW())<>\"\",COUNTIF(Summary!$B$30:$B$1105,INDIRECT($A$14&ROW())),\"\"),\"\")","v":""}]
[{"$f":"IFERROR(IF(INDIRECT($A$14&ROW())<>\"\",COUNTIF(Summary!$B$30:$B$1105,INDIRECT($A$14&ROW())),\"\"),\"\")","v":""}]
[{"$f":"IFERROR(IF(INDIRECT($A$14&ROW())<>\"\",COUNTIF(Summary!$B$30:$B$1105,INDIRECT($A$14&ROW())),\"\"),\"\")","v":""}]
[{"$f":"IFERROR(IF(INDIRECT($A$14&ROW())<>\"\",COUNTIF(Summary!$B$30:$B$1105,INDIRECT($A$14&ROW())),\"\"),\"\")","v":""}]
[{"$f":"IFERROR(IF(INDIRECT($A$14&ROW())<>\"\",COUNTIF(Summary!$B$30:$B$1105,INDIRECT($A$14&ROW())),\"\"),\"\")","v":""}]
[{"$f":"IFERROR(IF(INDIRECT($A$14&ROW())<>\"\",COUNTIF(Summary!$B$30:$B$1105,INDIRECT($A$14&ROW())),\"\"),\"\")","v":""}]
[{"$f":"IFERROR(IF(INDIRECT($A$14&ROW())<>\"\",COUNTIF(Summary!$B$30:$B$1105,INDIRECT($A$14&ROW())),\"\"),\"\")","v":""}]
[{"$f":"IFERROR(IF(INDIRECT($A$14&ROW())<>\"\",COUNTIF(Summary!$B$30:$B$1105,INDIRECT($A$14&ROW())),\"\"),\"\")","v":""}]
[{"$f":"IFERROR(IF(INDIRECT($A$14&ROW())<>\"\",COUNTIF(Summary!$B$30:$B$1105,INDIRECT($A$14&ROW())),\"\"),\"\")","v":""}]
[{"$f":"IFERROR(IF(INDIRECT($A$14&ROW())<>\"\",COUNTIF(Summary!$B$30:$B$1105,INDIRECT($A$14&ROW())),\"\"),\"\")","v":""}]
[{"$f":"IFERROR(IF(INDIRECT($A$14&ROW())<>\"\",COUNTIF(Summary!$B$30:$B$1105,INDIRECT($A$14&ROW())),\"\"),\"\")","v":""}]
[{"$f":"IFERROR(IF(INDIRECT($A$14&ROW())<>\"\",COUNTIF(Summary!$B$30:$B$1105,INDIRECT($A$14&ROW())),\"\"),\"\")","v":""}]
[{"$f":"IFERROR(IF(INDIRECT($A$14&ROW())<>\"\",COUNTIF(Summary!$B$30:$B$1105,INDIRECT($A$14&ROW())),\"\"),\"\")","v":""}]
[{"$f":"IFERROR(IF(INDIRECT($A$14&ROW())<>\"\",COUNTIF(Summary!$B$30:$B$1105,INDIRECT($A$14&ROW())),\"\"),\"\")","v":""}]
[{"$f":"IFERROR(IF(INDIRECT($A$14&ROW())<>\"\",COUNTIF(Summary!$B$30:$B$1105,INDIRECT($A$14&ROW())),\"\"),\"\")","v":""}]
[{"$f":"IFERROR(IF(INDIRECT($A$14&ROW())<>\"\",COUNTIF(Summary!$B$30:$B$1105,INDIRECT($A$14&ROW())),\"\"),\"\")","v":""}]
[{"$f":"IFERROR(IF(INDIRECT($A$14&ROW())<>\"\",COUNTIF(Summary!$B$30:$B$1105,INDIRECT($A$14&ROW())),\"\"),\"\")","v":""}]
[{"$f":"IFERROR(IF(INDIRECT($A$14&ROW())<>\"\",COUNTIF(Summary!$B$30:$B$1105,INDIRECT($A$14&ROW())),\"\"),\"\")","v":""}]
[{"$f":"IFERROR(IF(INDIRECT($A$14&ROW())<>\"\",COUNTIF(Summary!$B$30:$B$1105,INDIRECT($A$14&ROW())),\"\"),\"\")","v":""}]
[{"$f":"IFERROR(IF(INDIRECT($A$14&ROW())<>\"\",COUNTIF(Summary!$B$30:$B$1105,INDIRECT($A$14&ROW())),\"\"),\"\")","v":""}]
[{"$f":"IFERROR(IF(INDIRECT($A$14&ROW())<>\"\",COUNTIF(Summary!$B$30:$B$1105,INDIRECT($A$14&ROW())),\"\"),\"\")","v":""}]
[{"$f":"IFERROR(IF(INDIRECT($A$14&ROW())<>\"\",COUNTIF(Summary!$B$30:$B$1105,INDIRECT($A$14&ROW())),\"\"),\"\")","v":""}]
[{"$f":"IFERROR(IF(INDIRECT($A$14&ROW())<>\"\",COUNTIF(Summary!$B$30:$B$1105,INDIRECT($A$14&ROW())),\"\"),\"\")","v":""}]
[{"$f":"IFERROR(IF(INDIRECT($A$14&ROW())<>\"\",COUNTIF(Summary!$B$30:$B$1105,INDIRECT($A$14&ROW())),\"\"),\"\")","v":""}]
[{"$f":"IFERROR(IF(INDIRECT($A$14&ROW())<>\"\",COUNTIF(Summary!$B$30:$B$1105,INDIRECT($A$14&ROW())),\"\"),\"\")","v":""}]
[{"$f":"IFERROR(IF(INDIRECT($A$14&ROW())<>\"\",COUNTIF(Summary!$B$30:$B$1105,INDIRECT($A$14&ROW())),\"\"),\"\")","v":""}]
[{"$f":"IFERROR(IF(INDIRECT($A$14&ROW())<>\"\",COUNTIF(Summary!$B$30:$B$1105,INDIRECT($A$14&ROW())),\"\"),\"\")","v":""}]
[{"$f":"IFERROR(IF(INDIRECT($A$14&ROW())<>\"\",COUNTIF(Summary!$B$30:$B$1105,INDIRECT($A$14&ROW())),\"\"),\"\")","v":""}]
[{"$f":"IFERROR(IF(INDIRECT($A$14&ROW())<>\"\",COUNTIF(Summary!$B$30:$B$1105,INDIRECT($A$14&ROW())),\"\"),\"\")","v":""}]
[{"$f":"IFERROR(IF(INDIRECT($A$14&ROW())<>\"\",COUNTIF(Summary!$B$30:$B$1105,INDIRECT($A$14&ROW())),\"\"),\"\")","v":""}]
[{"$f":"IFERROR(IF(INDIRECT($A$14&ROW())<>\"\",COUNTIF(Summary!$B$30:$B$1105,INDIRECT($A$14&ROW())),\"\"),\"\")","v":""}]
[{"$f":"IFERROR(IF(INDIRECT($A$14&ROW())<>\"\",COUNTIF(Summary!$B$30:$B$1105,INDIRECT($A$14&ROW())),\"\"),\"\")","v":""}]
[{"$f":"IFERROR(IF(INDIRECT($A$14&ROW())<>\"\",COUNTIF(Summary!$B$30:$B$1105,INDIRECT($A$14&ROW())),\"\"),\"\")","v":""}]
[{"$f":"IFERROR(IF(INDIRECT($A$14&ROW())<>\"\",COUNTIF(Summary!$B$30:$B$1105,INDIRECT($A$14&ROW())),\"\"),\"\")","v":""}]
[{"$f":"IFERROR(IF(INDIRECT($A$14&ROW())<>\"\",COUNTIF(Summary!$B$30:$B$1105,INDIRECT($A$14&ROW())),\"\"),\"\")","v":""}]
[{"$f":"IFERROR(IF(INDIRECT($A$14&ROW())<>\"\",COUNTIF(Summary!$B$30:$B$1105,INDIRECT($A$14&ROW())),\"\"),\"\")","v":""}]
[{"$f":"IFERROR(IF(INDIRECT($A$14&ROW())<>\"\",COUNTIF(Summary!$B$30:$B$1105,INDIRECT($A$14&ROW())),\"\"),\"\")","v":""}]
[{"$f":"IFERROR(IF(INDIRECT($A$14&ROW())<>\"\",COUNTIF(Summary!$B$30:$B$1105,INDIRECT($A$14&ROW())),\"\"),\"\")","v":""}]
[{"$f":"IFERROR(IF(INDIRECT($A$14&ROW())<>\"\",COUNTIF(Summary!$B$30:$B$1105,INDIRECT($A$14&ROW())),\"\"),\"\")","v":""}]
[{"$f":"IFERROR(IF(INDIRECT($A$14&ROW())<>\"\",COUNTIF(Summary!$B$30:$B$1105,INDIRECT($A$14&ROW())),\"\"),\"\")","v":""}]
[{"$f":"IFERROR(IF(INDIRECT($A$14&ROW())<>\"\",COUNTIF(Summary!$B$30:$B$1105,INDIRECT($A$14&ROW())),\"\"),\"\")","v":""}]
[{"$f":"IFERROR(IF(INDIRECT($A$14&ROW())<>\"\",COUNTIF(Summary!$B$30:$B$1105,INDIRECT($A$14&ROW())),\"\"),\"\")","v":""}]
[{"$f":"IFERROR(IF(INDIRECT($A$14&ROW())<>\"\",COUNTIF(Summary!$B$30:$B$1105,INDIRECT($A$14&ROW())),\"\"),\"\")","v":""}]
[{"$f":"IFERROR(IF(INDIRECT($A$14&ROW())<>\"\",COUNTIF(Summary!$B$30:$B$1105,INDIRECT($A$14&ROW())),\"\"),\"\")","v":""}]
[{"$f":"IFERROR(IF(INDIRECT($A$14&ROW())<>\"\",COUNTIF(Summary!$B$30:$B$1105,INDIRECT($A$14&ROW())),\"\"),\"\")","v":""}]
[{"$f":"IFERROR(IF(INDIRECT($A$14&ROW())<>\"\",COUNTIF(Summary!$B$30:$B$1105,INDIRECT($A$14&ROW())),\"\"),\"\")","v":""}]
[{"$f":"IFERROR(IF(INDIRECT($A$14&ROW())<>\"\",COUNTIF(Summary!$B$30:$B$1105,INDIRECT($A$14&ROW())),\"\"),\"\")","v":""}]
[{"$f":"IFERROR(IF(INDIRECT($A$14&ROW())<>\"\",COUNTIF(Summary!$B$30:$B$1105,INDIRECT($A$14&ROW())),\"\"),\"\")","v":""}]
[{"$f":"IFERROR(IF(INDIRECT($A$14&ROW())<>\"\",COUNTIF(Summary!$B$30:$B$1105,INDIRECT($A$14&ROW())),\"\"),\"\")","v":""}]
[{"$f":"IFERROR(IF(INDIRECT($A$14&ROW())<>\"\",COUNTIF(Summary!$B$30:$B$1105,INDIRECT($A$14&ROW())),\"\"),\"\")","v":""}]
[{"$f":"IFERROR(IF(INDIRECT($A$14&ROW())<>\"\",COUNTIF(Summary!$B$30:$B$1105,INDIRECT($A$14&ROW())),\"\"),\"\")","v":""}]
[{"$f":"IFERROR(IF(INDIRECT($A$14&ROW())<>\"\",COUNTIF(Summary!$B$30:$B$1105,INDIRECT($A$14&ROW())),\"\"),\"\")","v":""}]
[{"$f":"IFERROR(IF(INDIRECT($A$14&ROW())<>\"\",COUNTIF(Summary!$B$30:$B$1105,INDIRECT($A$14&ROW())),\"\"),\"\")","v":""}]
[{"$f":"IFERROR(IF(INDIRECT($A$14&ROW())<>\"\",COUNTIF(Summary!$B$30:$B$1105,INDIRECT($A$14&ROW())),\"\"),\"\")","v":""}]
[{"$f":"IFERROR(IF(INDIRECT($A$14&ROW())<>\"\",COUNTIF(Summary!$B$30:$B$1105,INDIRECT($A$14&ROW())),\"\"),\"\")","v":""}]
[{"$f":"IFERROR(IF(INDIRECT($A$14&ROW())<>\"\",COUNTIF(Summary!$B$30:$B$1105,INDIRECT($A$14&ROW())),\"\"),\"\")","v":""}]
[{"$f":"IFERROR(IF(INDIRECT($A$14&ROW())<>\"\",COUNTIF(Summary!$B$30:$B$1105,INDIRECT($A$14&ROW())),\"\"),\"\")","v":""}]
[{"$f":"IFERROR(IF(INDIRECT($A$14&ROW())<>\"\",COUNTIF(Summary!$B$30:$B$1105,INDIRECT($A$14&ROW())),\"\"),\"\")","v":""}]
[{"$f":"IFERROR(IF(INDIRECT($A$14&ROW())<>\"\",COUNTIF(Summary!$B$30:$B$1105,INDIRECT($A$14&ROW())),\"\"),\"\")","v":""}]
[{"$f":"IFERROR(IF(INDIRECT($A$14&ROW())<>\"\",COUNTIF(Summary!$B$30:$B$1105,INDIRECT($A$14&ROW())),\"\"),\"\")","v":""}]
[{"$f":"IFERROR(IF(INDIRECT($A$14&ROW())<>\"\",COUNTIF(Summary!$B$30:$B$1105,INDIRECT($A$14&ROW())),\"\"),\"\")","v":""}]
[{"$f":"IFERROR(IF(INDIRECT($A$14&ROW())<>\"\",COUNTIF(Summary!$B$30:$B$1105,INDIRECT($A$14&ROW())),\"\"),\"\")","v":""}]
[{"$f":"IFERROR(IF(INDIRECT($A$14&ROW())<>\"\",COUNTIF(Summary!$B$30:$B$1105,INDIRECT($A$14&ROW())),\"\"),\"\")","v":""}]
[{"$f":"IFERROR(IF(INDIRECT($A$14&ROW())<>\"\",COUNTIF(Summary!$B$30:$B$1105,INDIRECT($A$14&ROW())),\"\"),\"\")","v":""}]
[{"$f":"IFERROR(IF(INDIRECT($A$14&ROW())<>\"\",COUNTIF(Summary!$B$30:$B$1105,INDIRECT($A$14&ROW())),\"\"),\"\")","v":""}]
[{"$f":"IFERROR(IF(INDIRECT($A$14&ROW())<>\"\",COUNTIF(Summary!$B$30:$B$1105,INDIRECT($A$14&ROW())),\"\"),\"\")","v":""}]
[{"$f":"IFERROR(IF(INDIRECT($A$14&ROW())<>\"\",COUNTIF(Summary!$B$30:$B$1105,INDIRECT($A$14&ROW())),\"\"),\"\")","v":""}]
[{"$f":"IFERROR(IF(INDIRECT($A$14&ROW())<>\"\",COUNTIF(Summary!$B$30:$B$1105,INDIRECT($A$14&ROW())),\"\"),\"\")","v":""}]
[{"$f":"IFERROR(IF(INDIRECT($A$14&ROW())<>\"\",COUNTIF(Summary!$B$30:$B$1105,INDIRECT($A$14&ROW())),\"\"),\"\")","v":""}]
[{"$f":"IFERROR(IF(INDIRECT($A$14&ROW())<>\"\",COUNTIF(Summary!$B$30:$B$1105,INDIRECT($A$14&ROW())),\"\"),\"\")","v":""}]
[{"$f":"IFERROR(IF(INDIRECT($A$14&ROW())<>\"\",COUNTIF(Summary!$B$30:$B$1105,INDIRECT($A$14&ROW())),\"\"),\"\")","v":""}]
[{"$f":"IFERROR(IF(INDIRECT($A$14&ROW())<>\"\",COUNTIF(Summary!$B$30:$B$1105,INDIRECT($A$14&ROW())),\"\"),\"\")","v":""}]
[{"$f":"IFERROR(IF(INDIRECT($A$14&ROW())<>\"\",COUNTIF(Summary!$B$30:$B$1105,INDIRECT($A$14&ROW())),\"\"),\"\")","v":""}]
[{"$f":"IFERROR(IF(INDIRECT($A$14&ROW())<>\"\",COUNTIF(Summary!$B$30:$B$1105,INDIRECT($A$14&ROW())),\"\"),\"\")","v":""}]
[{"$f":"IFERROR(IF(INDIRECT($A$14&ROW())<>\"\",COUNTIF(Summary!$B$30:$B$1105,INDIRECT($A$14&ROW())),\"\"),\"\")","v":""}]
[{"$f":"IFERROR(IF(INDIRECT($A$14&ROW())<>\"\",COUNTIF(Summary!$B$30:$B$1105,INDIRECT($A$14&ROW())),\"\"),\"\")","v":""}]
[{"$f":"IFERROR(IF(INDIRECT($A$14&ROW())<>\"\",COUNTIF(Summary!$B$30:$B$1105,INDIRECT($A$14&ROW())),\"\"),\"\")","v":""}]
[{"$f":"IFERROR(IF(INDIRECT($A$14&ROW())<>\"\",COUNTIF(Summary!$B$30:$B$1105,INDIRECT($A$14&ROW())),\"\"),\"\")","v":""}]
[{"$f":"IFERROR(IF(INDIRECT($A$14&ROW())<>\"\",COUNTIF(Summary!$B$30:$B$1105,INDIRECT($A$14&ROW())),\"\"),\"\")","v":""}]
[{"$f":"IFERROR(IF(INDIRECT($A$14&ROW())<>\"\",COUNTIF(Summary!$B$30:$B$1105,INDIRECT($A$14&ROW())),\"\"),\"\")","v":""}]
[{"$f":"IFERROR(IF(INDIRECT($A$14&ROW())<>\"\",COUNTIF(Summary!$B$30:$B$1105,INDIRECT($A$14&ROW())),\"\"),\"\")","v":""}]
[{"$f":"IFERROR(IF(INDIRECT($A$14&ROW())<>\"\",COUNTIF(Summary!$B$30:$B$1105,INDIRECT($A$14&ROW())),\"\"),\"\")","v":""}]
[{"$f":"IFERROR(IF(INDIRECT($A$14&ROW())<>\"\",COUNTIF(Summary!$B$30:$B$1105,INDIRECT($A$14&ROW())),\"\"),\"\")","v":""}]
[{"$f":"IFERROR(IF(INDIRECT($A$14&ROW())<>\"\",COUNTIF(Summary!$B$30:$B$1105,INDIRECT($A$14&ROW())),\"\"),\"\")","v":""}]
[{"$f":"IFERROR(IF(INDIRECT($A$14&ROW())<>\"\",COUNTIF(Summary!$B$30:$B$1105,INDIRECT($A$14&ROW())),\"\"),\"\")","v":""}]
[{"$f":"IFERROR(IF(INDIRECT($A$14&ROW())<>\"\",COUNTIF(Summary!$B$30:$B$1105,INDIRECT($A$14&ROW())),\"\"),\"\")","v":""}]
[{"$f":"IFERROR(IF(INDIRECT($A$14&ROW())<>\"\",COUNTIF(Summary!$B$30:$B$1105,INDIRECT($A$14&ROW())),\"\"),\"\")","v":""}]
[{"$f":"IFERROR(IF(INDIRECT($A$14&ROW())<>\"\",COUNTIF(Summary!$B$30:$B$1105,INDIRECT($A$14&ROW())),\"\"),\"\")","v":""}]
[{"$f":"IFERROR(IF(INDIRECT($A$14&ROW())<>\"\",COUNTIF(Summary!$B$30:$B$1105,INDIRECT($A$14&ROW())),\"\"),\"\")","v":""}]
[{"$f":"IFERROR(IF(INDIRECT($A$14&ROW())<>\"\",COUNTIF(Summary!$B$30:$B$1105,INDIRECT($A$14&ROW())),\"\"),\"\")","v":""}]
[{"$f":"IFERROR(IF(INDIRECT($A$14&ROW())<>\"\",COUNTIF(Summary!$B$30:$B$1105,INDIRECT($A$14&ROW())),\"\"),\"\")","v":""}]
[{"$f":"IFERROR(IF(INDIRECT($A$14&ROW())<>\"\",COUNTIF(Summary!$B$30:$B$1105,INDIRECT($A$14&ROW())),\"\"),\"\")","v":""}]
[{"$f":"IFERROR(IF(INDIRECT($A$14&ROW())<>\"\",COUNTIF(Summary!$B$30:$B$1105,INDIRECT($A$14&ROW())),\"\"),\"\")","v":""}]
[{"$f":"IFERROR(IF(INDIRECT($A$14&ROW())<>\"\",COUNTIF(Summary!$B$30:$B$1105,INDIRECT($A$14&ROW())),\"\"),\"\")","v":""}]
[{"$f":"IFERROR(IF(INDIRECT($A$14&ROW())<>\"\",COUNTIF(Summary!$B$30:$B$1105,INDIRECT($A$14&ROW())),\"\"),\"\")","v":""}]
[{"$f":"IFERROR(IF(INDIRECT($A$14&ROW())<>\"\",COUNTIF(Summary!$B$30:$B$1105,INDIRECT($A$14&ROW())),\"\"),\"\")","v":""}]
[{"$f":"IFERROR(IF(INDIRECT($A$14&ROW())<>\"\",COUNTIF(Summary!$B$30:$B$1105,INDIRECT($A$14&ROW())),\"\"),\"\")","v":""}]
[{"$f":"IFERROR(IF(INDIRECT($A$14&ROW())<>\"\",COUNTIF(Summary!$B$30:$B$1105,INDIRECT($A$14&ROW())),\"\"),\"\")","v":""}]
[{"$f":"IFERROR(IF(INDIRECT($A$14&ROW())<>\"\",COUNTIF(Summary!$B$30:$B$1105,INDIRECT($A$14&ROW())),\"\"),\"\")","v":""}]
[{"$f":"IFERROR(IF(INDIRECT($A$14&ROW())<>\"\",COUNTIF(Summary!$B$30:$B$1105,INDIRECT($A$14&ROW())),\"\"),\"\")","v":""}]
[{"$f":"IFERROR(IF(INDIRECT($A$14&ROW())<>\"\",COUNTIF(Summary!$B$30:$B$1105,INDIRECT($A$14&ROW())),\"\"),\"\")","v":""}]
[{"$f":"IFERROR(IF(INDIRECT($A$14&ROW())<>\"\",COUNTIF(Summary!$B$30:$B$1105,INDIRECT($A$14&ROW())),\"\"),\"\")","v":""}]
[{"$f":"IFERROR(IF(INDIRECT($A$14&ROW())<>\"\",COUNTIF(Summary!$B$30:$B$1105,INDIRECT($A$14&ROW())),\"\"),\"\")","v":""}]
[{"$f":"IFERROR(IF(INDIRECT($A$14&ROW())<>\"\",COUNTIF(Summary!$B$30:$B$1105,INDIRECT($A$14&ROW())),\"\"),\"\")","v":""}]
[{"$f":"IFERROR(IF(INDIRECT($A$14&ROW())<>\"\",COUNTIF(Summary!$B$30:$B$1105,INDIRECT($A$14&ROW())),\"\"),\"\")","v":""}]
[{"$f":"IFERROR(IF(INDIRECT($A$14&ROW())<>\"\",COUNTIF(Summary!$B$30:$B$1105,INDIRECT($A$14&ROW())),\"\"),\"\")","v":""}]
[{"$f":"IFERROR(IF(INDIRECT($A$14&ROW())<>\"\",COUNTIF(Summary!$B$30:$B$1105,INDIRECT($A$14&ROW())),\"\"),\"\")","v":""}]
[{"$f":"IFERROR(IF(INDIRECT($A$14&ROW())<>\"\",COUNTIF(Summary!$B$30:$B$1105,INDIRECT($A$14&ROW())),\"\"),\"\")","v":""}]
[{"$f":"IFERROR(IF(INDIRECT($A$14&ROW())<>\"\",COUNTIF(Summary!$B$30:$B$1105,INDIRECT($A$14&ROW())),\"\"),\"\")","v":""}]
[{"$f":"IFERROR(IF(INDIRECT($A$14&ROW())<>\"\",COUNTIF(Summary!$B$30:$B$1105,INDIRECT($A$14&ROW())),\"\"),\"\")","v":""}]
[{"$f":"IFERROR(IF(INDIRECT($A$14&ROW())<>\"\",COUNTIF(Summary!$B$30:$B$1105,INDIRECT($A$14&ROW())),\"\"),\"\")","v":""}]
[{"$f":"IFERROR(IF(INDIRECT($A$14&ROW())<>\"\",COUNTIF(Summary!$B$30:$B$1105,INDIRECT($A$14&ROW())),\"\"),\"\")","v":""}]
[{"$f":"IFERROR(IF(INDIRECT($A$14&ROW())<>\"\",COUNTIF(Summary!$B$30:$B$1105,INDIRECT($A$14&ROW())),\"\"),\"\")","v":""}]
[{"$f":"IFERROR(IF(INDIRECT($A$14&ROW())<>\"\",COUNTIF(Summary!$B$30:$B$1105,INDIRECT($A$14&ROW())),\"\"),\"\")","v":""}]
[{"$f":"IFERROR(IF(INDIRECT($A$14&ROW())<>\"\",COUNTIF(Summary!$B$30:$B$1105,INDIRECT($A$14&ROW())),\"\"),\"\")","v":""}]
[{"$f":"IFERROR(IF(INDIRECT($A$14&ROW())<>\"\",COUNTIF(Summary!$B$30:$B$1105,INDIRECT($A$14&ROW())),\"\"),\"\")","v":""}]
[{"$f":"IFERROR(IF(INDIRECT($A$14&ROW())<>\"\",COUNTIF(Summary!$B$30:$B$1105,INDIRECT($A$14&ROW())),\"\"),\"\")","v":""}]
[{"$f":"IFERROR(IF(INDIRECT($A$14&ROW())<>\"\",COUNTIF(Summary!$B$30:$B$1105,INDIRECT($A$14&ROW())),\"\"),\"\")","v":""}]
[{"$f":"IFERROR(IF(INDIRECT($A$14&ROW())<>\"\",COUNTIF(Summary!$B$30:$B$1105,INDIRECT($A$14&ROW())),\"\"),\"\")","v":""}]
[{"$f":"IFERROR(IF(INDIRECT($A$14&ROW())<>\"\",COUNTIF(Summary!$B$30:$B$1105,INDIRECT($A$14&ROW())),\"\"),\"\")","v":""}]
[{"$f":"IFERROR(IF(INDIRECT($A$14&ROW())<>\"\",COUNTIF(Summary!$B$30:$B$1105,INDIRECT($A$14&ROW())),\"\"),\"\")","v":""}]
[{"$f":"IFERROR(IF(INDIRECT($A$14&ROW())<>\"\",COUNTIF(Summary!$B$30:$B$1105,INDIRECT($A$14&ROW())),\"\"),\"\")","v":""}]
[{"$f":"IFERROR(IF(INDIRECT($A$14&ROW())<>\"\",COUNTIF(Summary!$B$30:$B$1105,INDIRECT($A$14&ROW())),\"\"),\"\")","v":""}]
[{"$f":"IFERROR(IF(INDIRECT($A$14&ROW())<>\"\",COUNTIF(Summary!$B$30:$B$1105,INDIRECT($A$14&ROW())),\"\"),\"\")","v":""}]
[{"$f":"IFERROR(IF(INDIRECT($A$14&ROW())<>\"\",COUNTIF(Summary!$B$30:$B$1105,INDIRECT($A$14&ROW())),\"\"),\"\")","v":""}]
[{"$f":"IFERROR(IF(INDIRECT($A$14&ROW())<>\"\",COUNTIF(Summary!$B$30:$B$1105,INDIRECT($A$14&ROW())),\"\"),\"\")","v":""}]
[{"$f":"IFERROR(IF(INDIRECT($A$14&ROW())<>\"\",COUNTIF(Summary!$B$30:$B$1105,INDIRECT($A$14&ROW())),\"\"),\"\")","v":""}]
[{"$f":"IFERROR(IF(INDIRECT($A$14&ROW())<>\"\",COUNTIF(Summary!$B$30:$B$1105,INDIRECT($A$14&ROW())),\"\"),\"\")","v":""}]
[{"$f":"IFERROR(IF(INDIRECT($A$14&ROW())<>\"\",COUNTIF(Summary!$B$30:$B$1105,INDIRECT($A$14&ROW())),\"\"),\"\")","v":""}]
[{"$f":"IFERROR(IF(INDIRECT($A$14&ROW())<>\"\",COUNTIF(Summary!$B$30:$B$1105,INDIRECT($A$14&ROW())),\"\"),\"\")","v":""}]
[{"$f":"IFERROR(IF(INDIRECT($A$14&ROW())<>\"\",COUNTIF(Summary!$B$30:$B$1105,INDIRECT($A$14&ROW())),\"\"),\"\")","v":""}]
[{"$f":"IFERROR(IF(INDIRECT($A$14&ROW())<>\"\",COUNTIF(Summary!$B$30:$B$1105,INDIRECT($A$14&ROW())),\"\"),\"\")","v":""}]
[{"$f":"IFERROR(IF(INDIRECT($A$14&ROW())<>\"\",COUNTIF(Summary!$B$30:$B$1105,INDIRECT($A$14&ROW())),\"\"),\"\")","v":""}]
[{"$f":"IFERROR(IF(INDIRECT($A$14&ROW())<>\"\",COUNTIF(Summary!$B$30:$B$1105,INDIRECT($A$14&ROW())),\"\"),\"\")","v":""}]
[{"$f":"IFERROR(IF(INDIRECT($A$14&ROW())<>\"\",COUNTIF(Summary!$B$30:$B$1105,INDIRECT($A$14&ROW())),\"\"),\"\")","v":""}]
[{"$f":"IFERROR(IF(INDIRECT($A$14&ROW())<>\"\",COUNTIF(Summary!$B$30:$B$1105,INDIRECT($A$14&ROW())),\"\"),\"\")","v":""}]
[{"$f":"IFERROR(IF(INDIRECT($A$14&ROW())<>\"\",COUNTIF(Summary!$B$30:$B$1105,INDIRECT($A$14&ROW())),\"\"),\"\")","v":""}]
[{"$f":"IFERROR(IF(INDIRECT($A$14&ROW())<>\"\",COUNTIF(Summary!$B$30:$B$1105,INDIRECT($A$14&ROW())),\"\"),\"\")","v":""}]
[{"$f":"IFERROR(IF(INDIRECT($A$14&ROW())<>\"\",COUNTIF(Summary!$B$30:$B$1105,INDIRECT($A$14&ROW())),\"\"),\"\")","v":""}]
[{"$f":"IFERROR(IF(INDIRECT($A$14&ROW())<>\"\",COUNTIF(Summary!$B$30:$B$1105,INDIRECT($A$14&ROW())),\"\"),\"\")","v":""}]
[{"$f":"IFERROR(IF(INDIRECT($A$14&ROW())<>\"\",COUNTIF(Summary!$B$30:$B$1105,INDIRECT($A$14&ROW())),\"\"),\"\")","v":""}]
[{"$f":"IFERROR(IF(INDIRECT($A$14&ROW())<>\"\",COUNTIF(Summary!$B$30:$B$1105,INDIRECT($A$14&ROW())),\"\"),\"\")","v":""}]
[{"$f":"IFERROR(IF(INDIRECT($A$14&ROW())<>\"\",COUNTIF(Summary!$B$30:$B$1105,INDIRECT($A$14&ROW())),\"\"),\"\")","v":""}]
[{"$f":"IFERROR(IF(INDIRECT($A$14&ROW())<>\"\",COUNTIF(Summary!$B$30:$B$1105,INDIRECT($A$14&ROW())),\"\"),\"\")","v":""}]
[{"$f":"IFERROR(IF(INDIRECT($A$14&ROW())<>\"\",COUNTIF(Summary!$B$30:$B$1105,INDIRECT($A$14&ROW())),\"\"),\"\")","v":""}]
[{"$f":"IFERROR(IF(INDIRECT($A$14&ROW())<>\"\",COUNTIF(Summary!$B$30:$B$1105,INDIRECT($A$14&ROW())),\"\"),\"\")","v":""}]
[{"$f":"IFERROR(IF(INDIRECT($A$14&ROW())<>\"\",COUNTIF(Summary!$B$30:$B$1105,INDIRECT($A$14&ROW())),\"\"),\"\")","v":""}]
[{"$f":"IFERROR(IF(INDIRECT($A$14&ROW())<>\"\",COUNTIF(Summary!$B$30:$B$1105,INDIRECT($A$14&ROW())),\"\"),\"\")","v":""}]
[{"$f":"IFERROR(IF(INDIRECT($A$14&ROW())<>\"\",COUNTIF(Summary!$B$30:$B$1105,INDIRECT($A$14&ROW())),\"\"),\"\")","v":""}]
[{"$f":"IFERROR(IF(INDIRECT($A$14&ROW())<>\"\",COUNTIF(Summary!$B$30:$B$1105,INDIRECT($A$14&ROW())),\"\"),\"\")","v":""}]
[{"$f":"IFERROR(IF(INDIRECT($A$14&ROW())<>\"\",COUNTIF(Summary!$B$30:$B$1105,INDIRECT($A$14&ROW())),\"\"),\"\")","v":""}]
[{"$f":"IFERROR(IF(INDIRECT($A$14&ROW())<>\"\",COUNTIF(Summary!$B$30:$B$1105,INDIRECT($A$14&ROW())),\"\"),\"\")","v":""}]
[{"$f":"IFERROR(IF(INDIRECT($A$14&ROW())<>\"\",COUNTIF(Summary!$B$30:$B$1105,INDIRECT($A$14&ROW())),\"\"),\"\")","v":""}]
[{"$f":"IFERROR(IF(INDIRECT($A$14&ROW())<>\"\",COUNTIF(Summary!$B$30:$B$1105,INDIRECT($A$14&ROW())),\"\"),\"\")","v":""}]
[{"$f":"IFERROR(IF(INDIRECT($A$14&ROW())<>\"\",COUNTIF(Summary!$B$30:$B$1105,INDIRECT($A$14&ROW())),\"\"),\"\")","v":""}]
[{"$f":"IFERROR(IF(INDIRECT($A$14&ROW())<>\"\",COUNTIF(Summary!$B$30:$B$1105,INDIRECT($A$14&ROW())),\"\"),\"\")","v":""}]
[{"$f":"IFERROR(IF(INDIRECT($A$14&ROW())<>\"\",COUNTIF(Summary!$B$30:$B$1105,INDIRECT($A$14&ROW())),\"\"),\"\")","v":""}]
[{"$f":"IFERROR(IF(INDIRECT($A$14&ROW())<>\"\",COUNTIF(Summary!$B$30:$B$1105,INDIRECT($A$14&ROW())),\"\"),\"\")","v":""}]
[{"$f":"IFERROR(IF(INDIRECT($A$14&ROW())<>\"\",COUNTIF(Summary!$B$30:$B$1105,INDIRECT($A$14&ROW())),\"\"),\"\")","v":""}]
[{"$f":"IFERROR(IF(INDIRECT($A$14&ROW())<>\"\",COUNTIF(Summary!$B$30:$B$1105,INDIRECT($A$14&ROW())),\"\"),\"\")","v":""}]
[{"$f":"IFERROR(IF(INDIRECT($A$14&ROW())<>\"\",COUNTIF(Summary!$B$30:$B$1105,INDIRECT($A$14&ROW())),\"\"),\"\")","v":""}]
[{"$f":"IFERROR(IF(INDIRECT($A$14&ROW())<>\"\",COUNTIF(Summary!$B$30:$B$1105,INDIRECT($A$14&ROW())),\"\"),\"\")","v":""}]
[{"$f":"IFERROR(IF(INDIRECT($A$14&ROW())<>\"\",COUNTIF(Summary!$B$30:$B$1105,INDIRECT($A$14&ROW())),\"\"),\"\")","v":""}]
[{"$f":"IFERROR(IF(INDIRECT($A$14&ROW())<>\"\",COUNTIF(Summary!$B$30:$B$1105,INDIRECT($A$14&ROW())),\"\"),\"\")","v":""}]
[{"$f":"IFERROR(IF(INDIRECT($A$14&ROW())<>\"\",COUNTIF(Summary!$B$30:$B$1105,INDIRECT($A$14&ROW())),\"\"),\"\")","v":""}]
[{"$f":"IFERROR(IF(INDIRECT($A$14&ROW())<>\"\",COUNTIF(Summary!$B$30:$B$1105,INDIRECT($A$14&ROW())),\"\"),\"\")","v":""}]
[{"$f":"IFERROR(IF(INDIRECT($A$14&ROW())<>\"\",COUNTIF(Summary!$B$30:$B$1105,INDIRECT($A$14&ROW())),\"\"),\"\")","v":""}]
[{"$f":"IFERROR(IF(INDIRECT($A$14&ROW())<>\"\",COUNTIF(Summary!$B$30:$B$1105,INDIRECT($A$14&ROW())),\"\"),\"\")","v":""}]
[{"$f":"IFERROR(IF(INDIRECT($A$14&ROW())<>\"\",COUNTIF(Summary!$B$30:$B$1105,INDIRECT($A$14&ROW())),\"\"),\"\")","v":""}]
[{"$f":"IFERROR(IF(INDIRECT($A$14&ROW())<>\"\",COUNTIF(Summary!$B$30:$B$1105,INDIRECT($A$14&ROW())),\"\"),\"\")","v":""}]
[{"$f":"IFERROR(IF(INDIRECT($A$14&ROW())<>\"\",COUNTIF(Summary!$B$30:$B$1105,INDIRECT($A$14&ROW())),\"\"),\"\")","v":""}]
[{"$f":"IFERROR(IF(INDIRECT($A$14&ROW())<>\"\",COUNTIF(Summary!$B$30:$B$1105,INDIRECT($A$14&ROW())),\"\"),\"\")","v":""}]
[{"$f":"IFERROR(IF(INDIRECT($A$14&ROW())<>\"\",COUNTIF(Summary!$B$30:$B$1105,INDIRECT($A$14&ROW())),\"\"),\"\")","v":""}]
[{"$f":"IFERROR(IF(INDIRECT($A$14&ROW())<>\"\",COUNTIF(Summary!$B$30:$B$1105,INDIRECT($A$14&ROW())),\"\"),\"\")","v":""}]
[{"$f":"IFERROR(IF(INDIRECT($A$14&ROW())<>\"\",COUNTIF(Summary!$B$30:$B$1105,INDIRECT($A$14&ROW())),\"\"),\"\")","v":""}]
[{"$f":"IFERROR(IF(INDIRECT($A$14&ROW())<>\"\",COUNTIF(Summary!$B$30:$B$1105,INDIRECT($A$14&ROW())),\"\"),\"\")","v":""}]
[{"$f":"IFERROR(IF(INDIRECT($A$14&ROW())<>\"\",COUNTIF(Summary!$B$30:$B$1105,INDIRECT($A$14&ROW())),\"\"),\"\")","v":""}]
[{"$f":"IFERROR(IF(INDIRECT($A$14&ROW())<>\"\",COUNTIF(Summary!$B$30:$B$1105,INDIRECT($A$14&ROW())),\"\"),\"\")","v":""}]
[{"$f":"IFERROR(IF(INDIRECT($A$14&ROW())<>\"\",COUNTIF(Summary!$B$30:$B$1105,INDIRECT($A$14&ROW())),\"\"),\"\")","v":""}]
[{"$f":"IFERROR(IF(INDIRECT($A$14&ROW())<>\"\",COUNTIF(Summary!$B$30:$B$1105,INDIRECT($A$14&ROW())),\"\"),\"\")","v":""}]
[{"$f":"IFERROR(IF(INDIRECT($A$14&ROW())<>\"\",COUNTIF(Summary!$B$30:$B$1105,INDIRECT($A$14&ROW())),\"\"),\"\")","v":""}]
[{"$f":"IFERROR(IF(INDIRECT($A$14&ROW())<>\"\",COUNTIF(Summary!$B$30:$B$1105,INDIRECT($A$14&ROW())),\"\"),\"\")","v":""}]
[{"$f":"IFERROR(IF(INDIRECT($A$14&ROW())<>\"\",COUNTIF(Summary!$B$30:$B$1105,INDIRECT($A$14&ROW())),\"\"),\"\")","v":""}]
[{"$f":"IFERROR(IF(INDIRECT($A$14&ROW())<>\"\",COUNTIF(Summary!$B$30:$B$1105,INDIRECT($A$14&ROW())),\"\"),\"\")","v":""}]
[{"$f":"IFERROR(IF(INDIRECT($A$14&ROW())<>\"\",COUNTIF(Summary!$B$30:$B$1105,INDIRECT($A$14&ROW())),\"\"),\"\")","v":""}]
[{"$f":"IFERROR(IF(INDIRECT($A$14&ROW())<>\"\",COUNTIF(Summary!$B$30:$B$1105,INDIRECT($A$14&ROW())),\"\"),\"\")","v":""}]
[{"$f":"IFERROR(IF(INDIRECT($A$14&ROW())<>\"\",COUNTIF(Summary!$B$30:$B$1105,INDIRECT($A$14&ROW())),\"\"),\"\")","v":""}]
[{"$f":"IFERROR(IF(INDIRECT($A$14&ROW())<>\"\",COUNTIF(Summary!$B$30:$B$1105,INDIRECT($A$14&ROW())),\"\"),\"\")","v":""}]
[{"$f":"IFERROR(IF(INDIRECT($A$14&ROW())<>\"\",COUNTIF(Summary!$B$30:$B$1105,INDIRECT($A$14&ROW())),\"\"),\"\")","v":""}]
[{"$f":"IFERROR(IF(INDIRECT($A$14&ROW())<>\"\",COUNTIF(Summary!$B$30:$B$1105,INDIRECT($A$14&ROW())),\"\"),\"\")","v":""}]
[{"$f":"IFERROR(IF(INDIRECT($A$14&ROW())<>\"\",COUNTIF(Summary!$B$30:$B$1105,INDIRECT($A$14&ROW())),\"\"),\"\")","v":""}]
[{"$f":"IFERROR(IF(INDIRECT($A$14&ROW())<>\"\",COUNTIF(Summary!$B$30:$B$1105,INDIRECT($A$14&ROW())),\"\"),\"\")","v":""},null,null,null,null,null,null,null,null,null,null,null,null,null,null,null,null,null,null,null,null,null,null,null,null,null,null,null,null,null,null,null,null,null,null,null,null,null,null,null,null,null,null,null,null,null,null,null,null,null,null,null,null,null,null,null,null,null,null,null,null,null,null,null,null,1]
[{"$f":"IFERROR(IF(INDIRECT($A$14&ROW())<>\"\",COUNTIF(Summary!$B$30:$B$1105,INDIRECT($A$14&ROW())),\"\"),\"\")","v":""},null,null,null,null,null,null,null,null,null,null,null,null,null,null,null,null,null,null,null,null,null,null,null,null,null,null,null,null,null,null,null,null,null,null,null,null,null,null,null,null,null,null,null,null,null,null,null,null,null,null,null,null,null,null,null,null,null,null,null,null,null,null,null,null,1]
[{"$f":"IFERROR(IF(INDIRECT($A$14&ROW())<>\"\",COUNTIF(Summary!$B$30:$B$1105,INDIRECT($A$14&ROW())),\"\"),\"\")","v":""},null,null,null,null,null,null,null,null,null,null,null,null,null,null,null,null,null,null,null,null,null,null,null,null,null,null,null,null,null,null,null,null,null,null,null,null,null,null,null,null,null,null,null,null,null,null,null,null,null,null,null,null,null,null,null,null,null,null,null,null,null,null,null,null,1]
[{"$f":"IFERROR(IF(INDIRECT($A$14&ROW())<>\"\",COUNTIF(Summary!$B$30:$B$1105,INDIRECT($A$14&ROW())),\"\"),\"\")","v":""},null,null,null,null,null,null,null,null,null,null,null,null,null,null,null,null,null,null,null,null,null,null,null,null,null,null,null,null,null,null,null,null,null,null,null,null,null,null,null,null,null,null,null,null,null,null,null,null,null,null,null,null,null,null,null,null,null,null,null,null,null,null,null,null,1]
[{"$f":"IFERROR(IF(INDIRECT($A$14&ROW())<>\"\",COUNTIF(Summary!$B$30:$B$1105,INDIRECT($A$14&ROW())),\"\"),\"\")","v":""},null,null,null,null,null,null,null,null,null,null,null,null,null,null,null,null,null,null,null,null,null,null,null,null,null,null,null,null,null,null,null,null,null,null,null,null,null,null,null,null,null,null,null,null,null,null,null,null,null,null,null,null,null,null,null,null,null,null,null,null,null,null,null,null,2]
[{"$f":"IFERROR(IF(INDIRECT($A$14&ROW())<>\"\",COUNTIF(Summary!$B$30:$B$1105,INDIRECT($A$14&ROW())),\"\"),\"\")","v":""},null,null,null,null,null,null,null,null,null,null,null,null,null,null,null,null,null,null,null,null,null,null,null,null,null,null,null,null,null,null,null,null,null,null,null,null,null,null,null,null,null,null,null,null,null,null,null,null,null,null,null,null,null,null,null,null,null,null,null,null,null,null,null,null,1]
[{"$f":"IFERROR(IF(INDIRECT($A$14&ROW())<>\"\",COUNTIF(Summary!$B$30:$B$1105,INDIRECT($A$14&ROW())),\"\"),\"\")","v":""},null,null,null,null,null,null,null,null,null,null,null,null,null,null,null,null,null,null,null,null,null,null,null,null,null,null,null,null,null,null,null,null,null,null,null,null,null,null,null,null,null,null,null,null,null,null,null,null,null,null,null,null,null,null,null,null,null,null,null,null,null,null,null,null,1]
[{"$f":"IFERROR(IF(INDIRECT($A$14&ROW())<>\"\",COUNTIF(Summary!$B$30:$B$1105,INDIRECT($A$14&ROW())),\"\"),\"\")","v":""},null,null,null,null,null,null,null,null,null,null,null,null,null,null,null,null,null,null,null,null,null,null,null,null,null,null,null,null,null,null,null,null,null,null,null,null,null,null,null,null,null,null,null,null,null,null,null,null,null,null,null,null,null,null,null,null,null,null,null,null,null,null,null,null,1]
[{"$f":"IFERROR(IF(INDIRECT($A$14&ROW())<>\"\",COUNTIF(Summary!$B$30:$B$1105,INDIRECT($A$14&ROW())),\"\"),\"\")","v":""},null,null,null,null,null,null,null,null,null,null,null,null,null,null,null,null,null,null,null,null,null,null,null,null,null,null,null,null,null,null,null,null,null,null,null,null,null,null,null,null,null,null,null,null,null,null,null,null,null,null,null,null,null,null,null,null,null,null,null,null,null,null,null,null,1]
[{"$f":"IFERROR(IF(INDIRECT($A$14&ROW())<>\"\",COUNTIF(Summary!$B$30:$B$1105,INDIRECT($A$14&ROW())),\"\"),\"\")","v":""},null,null,null,null,null,null,null,null,null,null,null,null,null,null,null,null,null,null,null,null,null,null,null,null,null,null,null,null,null,null,null,null,null,null,null,null,null,null,null,null,null,null,null,null,null,null,null,null,null,null,null,null,null,null,null,null,null,null,null,null,null,null,null,null,1]
[{"$f":"IFERROR(IF(INDIRECT($A$14&ROW())<>\"\",COUNTIF(Summary!$B$30:$B$1105,INDIRECT($A$14&ROW())),\"\"),\"\")","v":""},null,null,null,null,null,null,null,null,null,null,null,null,null,null,null,null,null,null,null,null,null,null,null,null,null,null,null,null,null,null,null,null,null,null,null,null,null,null,null,null,null,null,null,null,null,null,null,null,null,null,null,null,null,null,null,null,null,null,null,null,null,null,null,null,3]
[{"$f":"IFERROR(IF(INDIRECT($A$14&ROW())<>\"\",COUNTIF(Summary!$B$30:$B$1105,INDIRECT($A$14&ROW())),\"\"),\"\")","v":""},null,null,null,null,null,null,null,null,null,null,null,null,null,null,null,null,null,null,null,null,null,null,null,null,null,null,null,null,null,null,null,null,null,null,null,null,null,null,null,null,null,null,null,null,null,null,null,null,null,null,null,null,null,null,null,null,null,null,null,null,null,null,null,null,1]
[{"$f":"IFERROR(IF(INDIRECT($A$14&ROW())<>\"\",COUNTIF(Summary!$B$30:$B$1105,INDIRECT($A$14&ROW())),\"\"),\"\")","v":""},null,null,null,null,null,null,null,null,null,null,null,null,null,null,null,null,null,null,null,null,null,null,null,null,null,null,null,null,null,null,null,null,null,null,null,null,null,null,null,null,null,null,null,null,null,null,null,null,null,null,null,null,null,null,null,null,null,null,null,null,null,null,null,null,1]
[{"$f":"IFERROR(IF(INDIRECT($A$14&ROW())<>\"\",COUNTIF(Summary!$B$30:$B$1105,INDIRECT($A$14&ROW())),\"\"),\"\")","v":""},null,null,null,null,null,null,null,null,null,null,null,null,null,null,null,null,null,null,null,null,null,null,null,null,null,null,null,null,null,null,null,null,null,null,null,null,null,null,null,null,null,null,null,null,null,null,null,null,null,null,null,null,null,null,null,null,null,null,null,null,null,null,null,null,2]
[{"$f":"IFERROR(IF(INDIRECT($A$14&ROW())<>\"\",COUNTIF(Summary!$B$30:$B$1105,INDIRECT($A$14&ROW())),\"\"),\"\")","v":""},null,null,null,null,null,null,null,null,null,null,null,null,null,null,null,null,null,null,null,null,null,null,null,null,null,null,null,null,null,null,null,null,null,null,null,null,null,null,null,null,null,null,null,null,null,null,null,null,null,null,null,null,null,null,null,null,null,null,null,null,null,null,null,null,1]
[{"$f":"IFERROR(IF(INDIRECT($A$14&ROW())<>\"\",COUNTIF(Summary!$B$30:$B$1105,INDIRECT($A$14&ROW())),\"\"),\"\")","v":""},null,null,null,null,null,null,null,null,null,null,null,null,null,null,null,null,null,null,null,null,null,null,null,null,null,null,null,null,null,null,null,null,null,null,null,null,null,null,null,null,null,null,null,null,null,null,null,null,null,null,null,null,null,null,null,null,null,null,null,null,null,null,null,null,1]
[{"$f":"IFERROR(IF(INDIRECT($A$14&ROW())<>\"\",COUNTIF(Summary!$B$30:$B$1105,INDIRECT($A$14&ROW())),\"\"),\"\")","v":""},null,null,null,null,null,null,null,null,null,null,null,null,null,null,null,null,null,null,null,null,null,null,null,null,null,null,null,null,null,null,null,null,null,null,null,null,null,null,null,null,null,null,null,null,null,null,null,null,null,null,null,null,null,null,null,null,null,null,null,null,null,null,null,null,1]
[{"$f":"IFERROR(IF(INDIRECT($A$14&ROW())<>\"\",COUNTIF(Summary!$B$30:$B$1105,INDIRECT($A$14&ROW())),\"\"),\"\")","v":""},null,null,null,null,null,null,null,null,null,null,null,null,null,null,null,null,null,null,null,null,null,null,null,null,null,null,null,null,null,null,null,null,null,null,null,null,null,null,null,null,null,null,null,null,null,null,null,null,null,null,null,null,null,null,null,null,null,null,null,null,null,null,null,null,4]
[{"$f":"IFERROR(IF(INDIRECT($A$14&ROW())<>\"\",COUNTIF(Summary!$B$30:$B$1105,INDIRECT($A$14&ROW())),\"\"),\"\")","v":""},null,null,null,null,null,null,null,null,null,null,null,null,null,null,null,null,null,null,null,null,null,null,null,null,null,null,null,null,null,null,null,null,null,null,null,null,null,null,null,null,null,null,null,null,null,null,null,null,null,null,null,null,null,null,null,null,null,null,null,null,null,null,null,null,1]
[{"$f":"IFERROR(IF(INDIRECT($A$14&ROW())<>\"\",COUNTIF(Summary!$B$30:$B$1105,INDIRECT($A$14&ROW())),\"\"),\"\")","v":""},null,null,null,null,null,null,null,null,null,null,null,null,null,null,null,null,null,null,null,null,null,null,null,null,null,null,null,null,null,null,null,null,null,null,null,null,null,null,null,null,null,null,null,null,null,null,null,null,null,null,null,null,null,null,null,null,null,null,null,null,null,null,null,null,1]
[{"$f":"IFERROR(IF(INDIRECT($A$14&ROW())<>\"\",COUNTIF(Summary!$B$30:$B$1105,INDIRECT($A$14&ROW())),\"\"),\"\")","v":""},null,null,null,null,null,null,null,null,null,null,null,null,null,null,null,null,null,null,null,null,null,null,null,null,null,null,null,null,null,null,null,null,null,null,null,null,null,null,null,null,null,null,null,null,null,null,null,null,null,null,null,null,null,null,null,null,null,null,null,null,null,null,null,null,1]
[{"$f":"IFERROR(IF(INDIRECT($A$14&ROW())<>\"\",COUNTIF(Summary!$B$30:$B$1105,INDIRECT($A$14&ROW())),\"\"),\"\")","v":""},null,null,null,null,null,null,null,null,null,null,null,null,null,null,null,null,null,null,null,null,null,null,null,null,null,null,null,null,null,null,null,null,null,null,null,null,null,null,null,null,null,null,null,null,null,null,null,null,null,null,null,null,null,null,null,null,null,null,null,null,null,null,null,null,1]
[{"$f":"IFERROR(IF(INDIRECT($A$14&ROW())<>\"\",COUNTIF(Summary!$B$30:$B$1105,INDIRECT($A$14&ROW())),\"\"),\"\")","v":""},null,null,null,null,null,null,null,null,null,null,null,null,null,null,null,null,null,null,null,null,null,null,null,null,null,null,null,null,null,null,null,null,null,null,null,null,null,null,null,null,null,null,null,null,null,null,null,null,null,null,null,null,null,null,null,null,null,null,null,null,null,null,null,null,1]
[{"$f":"IFERROR(IF(INDIRECT($A$14&ROW())<>\"\",COUNTIF(Summary!$B$30:$B$1105,INDIRECT($A$14&ROW())),\"\"),\"\")","v":""},null,null,null,null,null,null,null,null,null,null,null,null,null,null,null,null,null,null,null,null,null,null,null,null,null,null,null,null,null,null,null,null,null,null,null,null,null,null,null,null,null,null,null,null,null,null,null,null,null,null,null,null,null,null,null,null,null,null,null,null,null,null,null,null,1]
[{"$f":"IFERROR(IF(INDIRECT($A$14&ROW())<>\"\",COUNTIF(Summary!$B$30:$B$1105,INDIRECT($A$14&ROW())),\"\"),\"\")","v":""},null,null,null,null,null,null,null,null,null,null,null,null,null,null,null,null,null,null,null,null,null,null,null,null,null,null,null,null,null,null,null,null,null,null,null,null,null,null,null,null,null,null,null,null,null,null,null,null,null,null,null,null,null,null,null,null,null,null,null,null,null,null,null,null,1]
[{"$f":"IFERROR(IF(INDIRECT($A$14&ROW())<>\"\",COUNTIF(Summary!$B$30:$B$1105,INDIRECT($A$14&ROW())),\"\"),\"\")","v":""},null,null,null,null,null,null,null,null,null,null,null,null,null,null,null,null,null,null,null,null,null,null,null,null,null,null,null,null,null,null,null,null,null,null,null,null,null,null,null,null,null,null,null,null,null,null,null,null,null,null,null,null,null,null,null,null,null,null,null,null,null,null,null,null,1]
[{"$f":"IFERROR(IF(INDIRECT($A$14&ROW())<>\"\",COUNTIF(Summary!$B$30:$B$1105,INDIRECT($A$14&ROW())),\"\"),\"\")","v":""},null,null,null,null,null,null,null,null,null,null,null,null,null,null,null,null,null,null,null,null,null,null,null,null,null,null,null,null,null,null,null,null,null,null,null,null,null,null,null,null,null,null,null,null,null,null,null,null,null,null,null,null,null,null,null,null,null,null,null,null,null,null,null,null,1]
[{"$f":"IFERROR(IF(INDIRECT($A$14&ROW())<>\"\",COUNTIF(Summary!$B$30:$B$1105,INDIRECT($A$14&ROW())),\"\"),\"\")","v":""},null,null,null,null,null,null,null,null,null,null,null,null,null,null,null,null,null,null,null,null,null,null,null,null,null,null,null,null,null,null,null,null,null,null,null,null,null,null,null,null,null,null,null,null,null,null,null,null,null,null,null,null,null,null,null,null,null,null,null,null,null,null,null,null,1]
[{"$f":"IFERROR(IF(INDIRECT($A$14&ROW())<>\"\",COUNTIF(Summary!$B$30:$B$1105,INDIRECT($A$14&ROW())),\"\"),\"\")","v":""},null,null,null,null,null,null,null,null,null,null,null,null,null,null,null,null,null,null,null,null,null,null,null,null,null,null,null,null,null,null,null,null,null,null,null,null,null,null,null,null,null,null,null,null,null,null,null,null,null,null,null,null,null,null,null,null,null,null,null,null,null,null,null,null,1]
[{"$f":"IFERROR(IF(INDIRECT($A$14&ROW())<>\"\",COUNTIF(Summary!$B$30:$B$1105,INDIRECT($A$14&ROW())),\"\"),\"\")","v":""},null,null,null,null,null,null,null,null,null,null,null,null,null,null,null,null,null,null,null,null,null,null,null,null,null,null,null,null,null,null,null,null,null,null,null,null,null,null,null,null,null,null,null,null,null,null,null,null,null,null,null,null,null,null,null,null,null,null,null,null,null,null,null,null,1]
[{"$f":"IFERROR(IF(INDIRECT($A$14&ROW())<>\"\",COUNTIF(Summary!$B$30:$B$1105,INDIRECT($A$14&ROW())),\"\"),\"\")","v":""},null,null,null,null,null,null,null,null,null,null,null,null,null,null,null,null,null,null,null,null,null,null,null,null,null,null,null,null,null,null,null,null,null,null,null,null,null,null,null,null,null,null,null,null,null,null,null,null,null,null,null,null,null,null,null,null,null,null,null,null,null,null,null,null,1]
[{"$f":"IFERROR(IF(INDIRECT($A$14&ROW())<>\"\",COUNTIF(Summary!$B$30:$B$1105,INDIRECT($A$14&ROW())),\"\"),\"\")","v":""},null,null,null,null,null,null,null,null,null,null,null,null,null,null,null,null,null,null,null,null,null,null,null,null,null,null,null,null,null,null,null,null,null,null,null,null,null,null,null,null,null,null,null,null,null,null,null,null,null,null,null,null,null,null,null,null,null,null,null,null,null,null,null,null,1]
[{"$f":"IFERROR(IF(INDIRECT($A$14&ROW())<>\"\",COUNTIF(Summary!$B$30:$B$1105,INDIRECT($A$14&ROW())),\"\"),\"\")","v":""},null,null,null,null,null,null,null,null,null,null,null,null,null,null,null,null,null,null,null,null,null,null,null,null,null,null,null,null,null,null,null,null,null,null,null,null,null,null,null,null,null,null,null,null,null,null,null,null,null,null,null,null,null,null,null,null,null,null,null,null,null,null,null,null,1]
[{"$f":"IFERROR(IF(INDIRECT($A$14&ROW())<>\"\",COUNTIF(Summary!$B$30:$B$1105,INDIRECT($A$14&ROW())),\"\"),\"\")","v":""},null,null,null,null,null,null,null,null,null,null,null,null,null,null,null,null,null,null,null,null,null,null,null,null,null,null,null,null,null,null,null,null,null,null,null,null,null,null,null,null,null,null,null,null,null,null,null,null,null,null,null,null,null,null,null,null,null,null,null,null,null,null,null,null,1]
[{"$f":"IFERROR(IF(INDIRECT($A$14&ROW())<>\"\",COUNTIF(Summary!$B$30:$B$1105,INDIRECT($A$14&ROW())),\"\"),\"\")","v":""},null,null,null,null,null,null,null,null,null,null,null,null,null,null,null,null,null,null,null,null,null,null,null,null,null,null,null,null,null,null,null,null,null,null,null,null,null,null,null,null,null,null,null,null,null,null,null,null,null,null,null,null,null,null,null,null,null,null,null,null,null,null,null,null,1]
[{"$f":"IFERROR(IF(INDIRECT($A$14&ROW())<>\"\",COUNTIF(Summary!$B$30:$B$1105,INDIRECT($A$14&ROW())),\"\"),\"\")","v":""},null,null,null,null,null,null,null,null,null,null,null,null,null,null,null,null,null,null,null,null,null,null,null,null,null,null,null,null,null,null,null,null,null,null,null,null,null,null,null,null,null,null,null,null,null,null,null,null,null,null,null,null,null,null,null,null,null,null,null,null,null,null,null,null,1]
[{"$f":"IFERROR(IF(INDIRECT($A$14&ROW())<>\"\",COUNTIF(Summary!$B$30:$B$1105,INDIRECT($A$14&ROW())),\"\"),\"\")","v":""},null,null,null,null,null,null,null,null,null,null,null,null,null,null,null,null,null,null,null,null,null,null,null,null,null,null,null,null,null,null,null,null,null,null,null,null,null,null,null,null,null,null,null,null,null,null,null,null,null,null,null,null,null,null,null,null,null,null,null,null,null,null,null,null,1]
[{"$f":"IFERROR(IF(INDIRECT($A$14&ROW())<>\"\",COUNTIF(Summary!$B$30:$B$1105,INDIRECT($A$14&ROW())),\"\"),\"\")","v":""},null,null,null,null,null,null,null,null,null,null,null,null,null,null,null,null,null,null,null,null,null,null,null,null,null,null,null,null,null,null,null,null,null,null,null,null,null,null,null,null,null,null,null,null,null,null,null,null,null,null,null,null,null,null,null,null,null,null,null,null,null,null,null,null,1]
[{"$f":"IFERROR(IF(INDIRECT($A$14&ROW())<>\"\",COUNTIF(Summary!$B$30:$B$1105,INDIRECT($A$14&ROW())),\"\"),\"\")","v":""},null,null,null,null,null,null,null,null,null,null,null,null,null,null,null,null,null,null,null,null,null,null,null,null,null,null,null,null,null,null,null,null,null,null,null,null,null,null,null,null,null,null,null,null,null,null,null,null,null,null,null,null,null,null,null,null,null,null,null,null,null,null,null,null,1]
[{"$f":"IFERROR(IF(INDIRECT($A$14&ROW())<>\"\",COUNTIF(Summary!$B$30:$B$1105,INDIRECT($A$14&ROW())),\"\"),\"\")","v":""},null,null,null,null,null,null,null,null,null,null,null,null,null,null,null,null,null,null,null,null,null,null,null,null,null,null,null,null,null,null,null,null,null,null,null,null,null,null,null,null,null,null,null,null,null,null,null,null,null,null,null,null,null,null,null,null,null,null,null,null,null,null,null,null,1]
[{"$f":"IFERROR(IF(INDIRECT($A$14&ROW())<>\"\",COUNTIF(Summary!$B$30:$B$1105,INDIRECT($A$14&ROW())),\"\"),\"\")","v":""},null,null,null,null,null,null,null,null,null,null,null,null,null,null,null,null,null,null,null,null,null,null,null,null,null,null,null,null,null,null,null,null,null,null,null,null,null,null,null,null,null,null,null,null,null,null,null,null,null,null,null,null,null,null,null,null,null,null,null,null,null,null,null,null,1]
[{"$f":"IFERROR(IF(INDIRECT($A$14&ROW())<>\"\",COUNTIF(Summary!$B$30:$B$1105,INDIRECT($A$14&ROW())),\"\"),\"\")","v":""},null,null,null,null,null,null,null,null,null,null,null,null,null,null,null,null,null,null,null,null,null,null,null,null,null,null,null,null,null,null,null,null,null,null,null,null,null,null,null,null,null,null,null,null,null,null,null,null,null,null,null,null,null,null,null,null,null,null,null,null,null,null,null,null,1]
[{"$f":"IFERROR(IF(INDIRECT($A$14&ROW())<>\"\",COUNTIF(Summary!$B$30:$B$1105,INDIRECT($A$14&ROW())),\"\"),\"\")","v":""},null,null,null,null,null,null,null,null,null,null,null,null,null,null,null,null,null,null,null,null,null,null,null,null,null,null,null,null,null,null,null,null,null,null,null,null,null,null,null,null,null,null,null,null,null,null,null,null,null,null,null,null,null,null,null,null,null,null,null,null,null,null,null,null,4]
[{"$f":"IFERROR(IF(INDIRECT($A$14&ROW())<>\"\",COUNTIF(Summary!$B$30:$B$1105,INDIRECT($A$14&ROW())),\"\"),\"\")","v":""},null,null,null,null,null,null,null,null,null,null,null,null,null,null,null,null,null,null,null,null,null,null,null,null,null,null,null,null,null,null,null,null,null,null,null,null,null,null,null,null,null,null,null,null,null,null,null,null,null,null,null,null,null,null,null,null,null,null,null,null,null,null,null,null,1]
[{"$f":"IFERROR(IF(INDIRECT($A$14&ROW())<>\"\",COUNTIF(Summary!$B$30:$B$1105,INDIRECT($A$14&ROW())),\"\"),\"\")","v":""},null,null,null,null,null,null,null,null,null,null,null,null,null,null,null,null,null,null,null,null,null,null,null,null,null,null,null,null,null,null,null,null,null,null,null,null,null,null,null,null,null,null,null,null,null,null,null,null,null,null,null,null,null,null,null,null,null,null,null,null,null,null,null,null,1]
[{"$f":"IFERROR(IF(INDIRECT($A$14&ROW())<>\"\",COUNTIF(Summary!$B$30:$B$1105,INDIRECT($A$14&ROW())),\"\"),\"\")","v":""},null,null,null,null,null,null,null,null,null,null,null,null,null,null,null,null,null,null,null,null,null,null,null,null,null,null,null,null,null,null,null,null,null,null,null,null,null,null,null,null,null,null,null,null,null,null,null,null,null,null,null,null,null,null,null,null,null,null,null,null,null,null,null,null,1]
[{"$f":"IFERROR(IF(INDIRECT($A$14&ROW())<>\"\",COUNTIF(Summary!$B$30:$B$1105,INDIRECT($A$14&ROW())),\"\"),\"\")","v":""},null,null,null,null,null,null,null,null,null,null,null,null,null,null,null,null,null,null,null,null,null,null,null,null,null,null,null,null,null,null,null,null,null,null,null,null,null,null,null,null,null,null,null,null,null,null,null,null,null,null,null,null,null,null,null,null,null,null,null,null,null,null,null,null,1]
[{"$f":"IFERROR(IF(INDIRECT($A$14&ROW())<>\"\",COUNTIF(Summary!$B$30:$B$1105,INDIRECT($A$14&ROW())),\"\"),\"\")","v":""},null,null,null,null,null,null,null,null,null,null,null,null,null,null,null,null,null,null,null,null,null,null,null,null,null,null,null,null,null,null,null,null,null,null,null,null,null,null,null,null,null,null,null,null,null,null,null,null,null,null,null,null,null,null,null,null,null,null,null,null,null,null,null,null,1]
[{"$f":"IFERROR(IF(INDIRECT($A$14&ROW())<>\"\",COUNTIF(Summary!$B$30:$B$1105,INDIRECT($A$14&ROW())),\"\"),\"\")","v":""},null,null,null,null,null,null,null,null,null,null,null,null,null,null,null,null,null,null,null,null,null,null,null,null,null,null,null,null,null,null,null,null,null,null,null,null,null,null,null,null,null,null,null,null,null,null,null,null,null,null,null,null,null,null,null,null,null,null,null,null,null,null,null,null,1]
[{"$f":"IFERROR(IF(INDIRECT($A$14&ROW())<>\"\",COUNTIF(Summary!$B$30:$B$1105,INDIRECT($A$14&ROW())),\"\"),\"\")","v":""},null,null,null,null,null,null,null,null,null,null,null,null,null,null,null,null,null,null,null,null,null,null,null,null,null,null,null,null,null,null,null,null,null,null,null,null,null,null,null,null,null,null,null,null,null,null,null,null,null,null,null,null,null,null,null,null,null,null,null,null,null,null,null,null,1]
[{"$f":"IFERROR(IF(INDIRECT($A$14&ROW())<>\"\",COUNTIF(Summary!$B$30:$B$1105,INDIRECT($A$14&ROW())),\"\"),\"\")","v":""},null,null,null,null,null,null,null,null,null,null,null,null,null,null,null,null,null,null,null,null,null,null,null,null,null,null,null,null,null,null,null,null,null,null,null,null,null,null,null,null,null,null,null,null,null,null,null,null,null,null,null,null,null,null,null,null,null,null,null,null,null,null,null,null,1]
[{"$f":"IFERROR(IF(INDIRECT($A$14&ROW())<>\"\",COUNTIF(Summary!$B$30:$B$1105,INDIRECT($A$14&ROW())),\"\"),\"\")","v":""},null,null,null,null,null,null,null,null,null,null,null,null,null,null,null,null,null,null,null,null,null,null,null,null,null,null,null,null,null,null,null,null,null,null,null,null,null,null,null,null,null,null,null,null,null,null,null,null,null,null,null,null,null,null,null,null,null,null,null,null,null,null,null,null,1]
[{"$f":"IFERROR(IF(INDIRECT($A$14&ROW())<>\"\",COUNTIF(Summary!$B$30:$B$1105,INDIRECT($A$14&ROW())),\"\"),\"\")","v":""},null,null,null,null,null,null,null,null,null,null,null,null,null,null,null,null,null,null,null,null,null,null,null,null,null,null,null,null,null,null,null,null,null,null,null,null,null,null,null,null,null,null,null,null,null,null,null,null,null,null,null,null,null,null,null,null,null,null,null,null,null,null,null,null,1]
[{"$f":"IFERROR(IF(INDIRECT($A$14&ROW())<>\"\",COUNTIF(Summary!$B$30:$B$1105,INDIRECT($A$14&ROW())),\"\"),\"\")","v":""},null,null,null,null,null,null,null,null,null,null,null,null,null,null,null,null,null,null,null,null,null,null,null,null,null,null,null,null,null,null,null,null,null,null,null,null,null,null,null,null,null,null,null,null,null,null,null,null,null,null,null,null,null,null,null,null,null,null,null,null,null,null,null,null,1]
[{"$f":"IFERROR(IF(INDIRECT($A$14&ROW())<>\"\",COUNTIF(Summary!$B$30:$B$1105,INDIRECT($A$14&ROW())),\"\"),\"\")","v":""},null,null,null,null,null,null,null,null,null,null,null,null,null,null,null,null,null,null,null,null,null,null,null,null,null,null,null,null,null,null,null,null,null,null,null,null,null,null,null,null,null,null,null,null,null,null,null,null,null,null,null,null,null,null,null,null,null,null,null,null,null,null,null,null,1]
[{"$f":"IFERROR(IF(INDIRECT($A$14&ROW())<>\"\",COUNTIF(Summary!$B$30:$B$1105,INDIRECT($A$14&ROW())),\"\"),\"\")","v":""},null,null,null,null,null,null,null,null,null,null,null,null,null,null,null,null,null,null,null,null,null,null,null,null,null,null,null,null,null,null,null,null,null,null,null,null,null,null,null,null,null,null,null,null,null,null,null,null,null,null,null,null,null,null,null,null,null,null,null,null,null,null,null,null,1]
[{"$f":"IFERROR(IF(INDIRECT($A$14&ROW())<>\"\",COUNTIF(Summary!$B$30:$B$1105,INDIRECT($A$14&ROW())),\"\"),\"\")","v":""},null,null,null,null,null,null,null,null,null,null,null,null,null,null,null,null,null,null,null,null,null,null,null,null,null,null,null,null,null,null,null,null,null,null,null,null,null,null,null,null,null,null,null,null,null,null,null,null,null,null,null,null,null,null,null,null,null,null,null,null,null,null,null,null,1]
[{"$f":"IFERROR(IF(INDIRECT($A$14&ROW())<>\"\",COUNTIF(Summary!$B$30:$B$1105,INDIRECT($A$14&ROW())),\"\"),\"\")","v":""},null,null,null,null,null,null,null,null,null,null,null,null,null,null,null,null,null,null,null,null,null,null,null,null,null,null,null,null,null,null,null,null,null,null,null,null,null,null,null,null,null,null,null,null,null,null,null,null,null,null,null,null,null,null,null,null,null,null,null,null,null,null,null,null,1]
[{"$f":"IFERROR(IF(INDIRECT($A$14&ROW())<>\"\",COUNTIF(Summary!$B$30:$B$1105,INDIRECT($A$14&ROW())),\"\"),\"\")","v":""},null,null,null,null,null,null,null,null,null,null,null,null,null,null,null,null,null,null,null,null,null,null,null,null,null,null,null,null,null,null,null,null,null,null,null,null,null,null,null,null,null,null,null,null,null,null,null,null,null,null,null,null,null,null,null,null,null,null,null,null,null,null,null,null,1]
[{"$f":"IFERROR(IF(INDIRECT($A$14&ROW())<>\"\",COUNTIF(Summary!$B$30:$B$1105,INDIRECT($A$14&ROW())),\"\"),\"\")","v":""},null,null,null,null,null,null,null,null,null,null,null,null,null,null,null,null,null,null,null,null,null,null,null,null,null,null,null,null,null,null,null,null,null,null,null,null,null,null,null,null,null,null,null,null,null,null,null,null,null,null,null,null,null,null,null,null,null,null,null,null,null,null,null,null,1]
[{"$f":"IFERROR(IF(INDIRECT($A$14&ROW())<>\"\",COUNTIF(Summary!$B$30:$B$1105,INDIRECT($A$14&ROW())),\"\"),\"\")","v":""},null,null,null,null,null,null,null,null,null,null,null,null,null,null,null,null,null,null,null,null,null,null,null,null,null,null,null,null,null,null,null,null,null,null,null,null,null,null,null,null,null,null,null,null,null,null,null,null,null,null,null,null,null,null,null,null,null,null,null,null,null,null,null,null,1]
[{"$f":"IFERROR(IF(INDIRECT($A$14&ROW())<>\"\",COUNTIF(Summary!$B$30:$B$1105,INDIRECT($A$14&ROW())),\"\"),\"\")","v":""},null,null,null,null,null,null,null,null,null,null,null,null,null,null,null,null,null,null,null,null,null,null,null,null,null,null,null,null,null,null,null,null,null,null,null,null,null,null,null,null,null,null,null,null,null,null,null,null,null,null,null,null,null,null,null,null,null,null,null,null,null,null,null,null,1]
[{"$f":"IFERROR(IF(INDIRECT($A$14&ROW())<>\"\",COUNTIF(Summary!$B$30:$B$1105,INDIRECT($A$14&ROW())),\"\"),\"\")","v":""},null,null,null,null,null,null,null,null,null,null,null,null,null,null,null,null,null,null,null,null,null,null,null,null,null,null,null,null,null,null,null,null,null,null,null,null,null,null,null,null,null,null,null,null,null,null,null,null,null,null,null,null,null,null,null,null,null,null,null,null,null,null,null,null,2]
[{"$f":"IFERROR(IF(INDIRECT($A$14&ROW())<>\"\",COUNTIF(Summary!$B$30:$B$1105,INDIRECT($A$14&ROW())),\"\"),\"\")","v":""},null,null,null,null,null,null,null,null,null,null,null,null,null,null,null,null,null,null,null,null,null,null,null,null,null,null,null,null,null,null,null,null,null,null,null,null,null,null,null,null,null,null,null,null,null,null,null,null,null,null,null,null,null,null,null,null,null,null,null,null,null,null,null,null,1]
[{"$f":"IFERROR(IF(INDIRECT($A$14&ROW())<>\"\",COUNTIF(Summary!$B$30:$B$1105,INDIRECT($A$14&ROW())),\"\"),\"\")","v":""},null,null,null,null,null,null,null,null,null,null,null,null,null,null,null,null,null,null,null,null,null,null,null,null,null,null,null,null,null,null,null,null,null,null,null,null,null,null,null,null,null,null,null,null,null,null,null,null,null,null,null,null,null,null,null,null,null,null,null,null,null,null,null,null,1]
[{"$f":"IFERROR(IF(INDIRECT($A$14&ROW())<>\"\",COUNTIF(Summary!$B$30:$B$1105,INDIRECT($A$14&ROW())),\"\"),\"\")","v":""},null,null,null,null,null,null,null,null,null,null,null,null,null,null,null,null,null,null,null,null,null,null,null,null,null,null,null,null,null,null,null,null,null,null,null,null,null,null,null,null,null,null,null,null,null,null,null,null,null,null,null,null,null,null,null,null,null,null,null,null,null,null,null,null,1]
[{"$f":"IFERROR(IF(INDIRECT($A$14&ROW())<>\"\",COUNTIF(Summary!$B$30:$B$1105,INDIRECT($A$14&ROW())),\"\"),\"\")","v":""},null,null,null,null,null,null,null,null,null,null,null,null,null,null,null,null,null,null,null,null,null,null,null,null,null,null,null,null,null,null,null,null,null,null,null,null,null,null,null,null,null,null,null,null,null,null,null,null,null,null,null,null,null,null,null,null,null,null,null,null,null,null,null,null,1]
[{"$f":"IFERROR(IF(INDIRECT($A$14&ROW())<>\"\",COUNTIF(Summary!$B$30:$B$1105,INDIRECT($A$14&ROW())),\"\"),\"\")","v":""},null,null,null,null,null,null,null,null,null,null,null,null,null,null,null,null,null,null,null,null,null,null,null,null,null,null,null,null,null,null,null,null,null,null,null,null,null,null,null,null,null,null,null,null,null,null,null,null,null,null,null,null,null,null,null,null,null,null,null,null,null,null,null,null,1]
[{"$f":"IFERROR(IF(INDIRECT($A$14&ROW())<>\"\",COUNTIF(Summary!$B$30:$B$1105,INDIRECT($A$14&ROW())),\"\"),\"\")","v":""},null,null,null,null,null,null,null,null,null,null,null,null,null,null,null,null,null,null,null,null,null,null,null,null,null,null,null,null,null,null,null,null,null,null,null,null,null,null,null,null,null,null,null,null,null,null,null,null,null,null,null,null,null,null,null,null,null,null,null,null,null,null,null,null,1]
[{"$f":"IFERROR(IF(INDIRECT($A$14&ROW())<>\"\",COUNTIF(Summary!$B$30:$B$1105,INDIRECT($A$14&ROW())),\"\"),\"\")","v":""},null,null,null,null,null,null,null,null,null,null,null,null,null,null,null,null,null,null,null,null,null,null,null,null,null,null,null,null,null,null,null,null,null,null,null,null,null,null,null,null,null,null,null,null,null,null,null,null,null,null,null,null,null,null,null,null,null,null,null,null,null,null,null,null,1]
[{"$f":"IFERROR(IF(INDIRECT($A$14&ROW())<>\"\",COUNTIF(Summary!$B$30:$B$1105,INDIRECT($A$14&ROW())),\"\"),\"\")","v":""},null,null,null,null,null,null,null,null,null,null,null,null,null,null,null,null,null,null,null,null,null,null,null,null,null,null,null,null,null,null,null,null,null,null,null,null,null,null,null,null,null,null,null,null,null,null,null,null,null,null,null,null,null,null,null,null,null,null,null,null,null,null,null,null,1]
[{"$f":"IFERROR(IF(INDIRECT($A$14&ROW())<>\"\",COUNTIF(Summary!$B$30:$B$1105,INDIRECT($A$14&ROW())),\"\"),\"\")","v":""},null,null,null,null,null,null,null,null,null,null,null,null,null,null,null,null,null,null,null,null,null,null,null,null,null,null,null,null,null,null,null,null,null,null,null,null,null,null,null,null,null,null,null,null,null,null,null,null,null,null,null,null,null,null,null,null,null,null,null,null,null,null,null,null,1]
[{"$f":"IFERROR(IF(INDIRECT($A$14&ROW())<>\"\",COUNTIF(Summary!$B$30:$B$1105,INDIRECT($A$14&ROW())),\"\"),\"\")","v":""},null,null,null,null,null,null,null,null,null,null,null,null,null,null,null,null,null,null,null,null,null,null,null,null,null,null,null,null,null,null,null,null,null,null,null,null,null,null,null,null,null,null,null,null,null,null,null,null,null,null,null,null,null,null,null,null,null,null,null,null,null,null,null,null,1]
[{"$f":"IFERROR(IF(INDIRECT($A$14&ROW())<>\"\",COUNTIF(Summary!$B$30:$B$1105,INDIRECT($A$14&ROW())),\"\"),\"\")","v":""},null,null,null,null,null,null,null,null,null,null,null,null,null,null,null,null,null,null,null,null,null,null,null,null,null,null,null,null,null,null,null,null,null,null,null,null,null,null,null,null,null,null,null,null,null,null,null,null,null,null,null,null,null,null,null,null,null,null,null,null,null,null,null,null,1]
[{"$f":"IFERROR(IF(INDIRECT($A$14&ROW())<>\"\",COUNTIF(Summary!$B$30:$B$1105,INDIRECT($A$14&ROW())),\"\"),\"\")","v":""},null,null,null,null,null,null,null,null,null,null,null,null,null,null,null,null,null,null,null,null,null,null,null,null,null,null,null,null,null,null,null,null,null,null,null,null,null,null,null,null,null,null,null,null,null,null,null,null,null,null,null,null,null,null,null,null,null,null,null,null,null,null,null,null,1]
[{"$f":"IFERROR(IF(INDIRECT($A$14&ROW())<>\"\",COUNTIF(Summary!$B$30:$B$1105,INDIRECT($A$14&ROW())),\"\"),\"\")","v":""},null,null,null,null,null,null,null,null,null,null,null,null,null,null,null,null,null,null,null,null,null,null,null,null,null,null,null,null,null,null,null,null,null,null,null,null,null,null,null,null,null,null,null,null,null,null,null,null,null,null,null,null,null,null,null,null,null,null,null,null,null,null,null,null,1]
[{"$f":"IFERROR(IF(INDIRECT($A$14&ROW())<>\"\",COUNTIF(Summary!$B$30:$B$1105,INDIRECT($A$14&ROW())),\"\"),\"\")","v":""},null,null,null,null,null,null,null,null,null,null,null,null,null,null,null,null,null,null,null,null,null,null,null,null,null,null,null,null,null,null,null,null,null,null,null,null,null,null,null,null,null,null,null,null,null,null,null,null,null,null,null,null,null,null,null,null,null,null,null,null,null,null,null,null,1]
[{"$f":"IFERROR(IF(INDIRECT($A$14&ROW())<>\"\",COUNTIF(Summary!$B$30:$B$1105,INDIRECT($A$14&ROW())),\"\"),\"\")","v":""},null,null,null,null,null,null,null,null,null,null,null,null,null,null,null,null,null,null,null,null,null,null,null,null,null,null,null,null,null,null,null,null,null,null,null,null,null,null,null,null,null,null,null,null,null,null,null,null,null,null,null,null,null,null,null,null,null,null,null,null,null,null,null,null,1]
[{"$f":"IFERROR(IF(INDIRECT($A$14&ROW())<>\"\",COUNTIF(Summary!$B$30:$B$1105,INDIRECT($A$14&ROW())),\"\"),\"\")","v":""},null,null,null,null,null,null,null,null,null,null,null,null,null,null,null,null,null,null,null,null,null,null,null,null,null,null,null,null,null,null,null,null,null,null,null,null,null,null,null,null,null,null,null,null,null,null,null,null,null,null,null,null,null,null,null,null,null,null,null,null,null,null,null,null,1]
[{"$f":"IFERROR(IF(INDIRECT($A$14&ROW())<>\"\",COUNTIF(Summary!$B$30:$B$1105,INDIRECT($A$14&ROW())),\"\"),\"\")","v":""},null,null,null,null,null,null,null,null,null,null,null,null,null,null,null,null,null,null,null,null,null,null,null,null,null,null,null,null,null,null,null,null,null,null,null,null,null,null,null,null,null,null,null,null,null,null,null,null,null,null,null,null,null,null,null,null,null,null,null,null,null,null,null,null,1]
[{"$f":"IFERROR(IF(INDIRECT($A$14&ROW())<>\"\",COUNTIF(Summary!$B$30:$B$1105,INDIRECT($A$14&ROW())),\"\"),\"\")","v":""},null,null,null,null,null,null,null,null,null,null,null,null,null,null,null,null,null,null,null,null,null,null,null,null,null,null,null,null,null,null,null,null,null,null,null,null,null,null,null,null,null,null,null,null,null,null,null,null,null,null,null,null,null,null,null,null,null,null,null,null,null,null,null,null,1]
[{"$f":"IFERROR(IF(INDIRECT($A$14&ROW())<>\"\",COUNTIF(Summary!$B$30:$B$1105,INDIRECT($A$14&ROW())),\"\"),\"\")","v":""},null,null,null,null,null,null,null,null,null,null,null,null,null,null,null,null,null,null,null,null,null,null,null,null,null,null,null,null,null,null,null,null,null,null,null,null,null,null,null,null,null,null,null,null,null,null,null,null,null,null,null,null,null,null,null,null,null,null,null,null,null,null,null,null,1]
[{"$f":"IFERROR(IF(INDIRECT($A$14&ROW())<>\"\",COUNTIF(Summary!$B$30:$B$1105,INDIRECT($A$14&ROW())),\"\"),\"\")","v":""},null,null,null,null,null,null,null,null,null,null,null,null,null,null,null,null,null,null,null,null,null,null,null,null,null,null,null,null,null,null,null,null,null,null,null,null,null,null,null,null,null,null,null,null,null,null,null,null,null,null,null,null,null,null,null,null,null,null,null,null,null,null,null,null,1]
[{"$f":"IFERROR(IF(INDIRECT($A$14&ROW())<>\"\",COUNTIF(Summary!$B$30:$B$1105,INDIRECT($A$14&ROW())),\"\"),\"\")","v":""},null,null,null,null,null,null,null,null,null,null,null,null,null,null,null,null,null,null,null,null,null,null,null,null,null,null,null,null,null,null,null,null,null,null,null,null,null,null,null,null,null,null,null,null,null,null,null,null,null,null,null,null,null,null,null,null,null,null,null,null,null,null,null,null,1]
[{"$f":"IFERROR(IF(INDIRECT($A$14&ROW())<>\"\",COUNTIF(Summary!$B$30:$B$1105,INDIRECT($A$14&ROW())),\"\"),\"\")","v":""},null,null,null,null,null,null,null,null,null,null,null,null,null,null,null,null,null,null,null,null,null,null,null,null,null,null,null,null,null,null,null,null,null,null,null,null,null,null,null,null,null,null,null,null,null,null,null,null,null,null,null,null,null,null,null,null,null,null,null,null,null,null,null,null,1]
[{"$f":"IFERROR(IF(INDIRECT($A$14&ROW())<>\"\",COUNTIF(Summary!$B$30:$B$1105,INDIRECT($A$14&ROW())),\"\"),\"\")","v":""},null,null,null,null,null,null,null,null,null,null,null,null,null,null,null,null,null,null,null,null,null,null,null,null,null,null,null,null,null,null,null,null,null,null,null,null,null,null,null,null,null,null,null,null,null,null,null,null,null,null,null,null,null,null,null,null,null,null,null,null,null,null,null,null,1]
[{"$f":"IFERROR(IF(INDIRECT($A$14&ROW())<>\"\",COUNTIF(Summary!$B$30:$B$1105,INDIRECT($A$14&ROW())),\"\"),\"\")","v":""},null,null,null,null,null,null,null,null,null,null,null,null,null,null,null,null,null,null,null,null,null,null,null,null,null,null,null,null,null,null,null,null,null,null,null,null,null,null,null,null,null,null,null,null,null,null,null,null,null,null,null,null,null,null,null,null,null,null,null,null,null,null,null,null,1]
[{"$f":"IFERROR(IF(INDIRECT($A$14&ROW())<>\"\",COUNTIF(Summary!$B$30:$B$1105,INDIRECT($A$14&ROW())),\"\"),\"\")","v":""},null,null,null,null,null,null,null,null,null,null,null,null,null,null,null,null,null,null,null,null,null,null,null,null,null,null,null,null,null,null,null,null,null,null,null,null,null,null,null,null,null,null,null,null,null,null,null,null,null,null,null,null,null,null,null,null,null,null,null,null,null,null,null,null,1]
[{"$f":"IFERROR(IF(INDIRECT($A$14&ROW())<>\"\",COUNTIF(Summary!$B$30:$B$1105,INDIRECT($A$14&ROW())),\"\"),\"\")","v":""},null,null,null,null,null,null,null,null,null,null,null,null,null,null,null,null,null,null,null,null,null,null,null,null,null,null,null,null,null,null,null,null,null,null,null,null,null,null,null,null,null,null,null,null,null,null,null,null,null,null,null,null,null,null,null,null,null,null,null,null,null,null,null,null,1]
[{"$f":"IFERROR(IF(INDIRECT($A$14&ROW())<>\"\",COUNTIF(Summary!$B$30:$B$1105,INDIRECT($A$14&ROW())),\"\"),\"\")","v":""},null,null,null,null,null,null,null,null,null,null,null,null,null,null,null,null,null,null,null,null,null,null,null,null,null,null,null,null,null,null,null,null,null,null,null,null,null,null,null,null,null,null,null,null,null,null,null,null,null,null,null,null,null,null,null,null,null,null,null,null,null,null,null,null,1]
[{"$f":"IFERROR(IF(INDIRECT($A$14&ROW())<>\"\",COUNTIF(Summary!$B$30:$B$1105,INDIRECT($A$14&ROW())),\"\"),\"\")","v":""},null,null,null,null,null,null,null,null,null,null,null,null,null,null,null,null,null,null,null,null,null,null,null,null,null,null,null,null,null,null,null,null,null,null,null,null,null,null,null,null,null,null,null,null,null,null,null,null,null,null,null,null,null,null,null,null,null,null,null,null,null,null,null,null,1]
[{"$f":"IFERROR(IF(INDIRECT($A$14&ROW())<>\"\",COUNTIF(Summary!$B$30:$B$1105,INDIRECT($A$14&ROW())),\"\"),\"\")","v":""},null,null,null,null,null,null,null,null,null,null,null,null,null,null,null,null,null,null,null,null,null,null,null,null,null,null,null,null,null,null,null,null,null,null,null,null,null,null,null,null,null,null,null,null,null,null,null,null,null,null,null,null,null,null,null,null,null,null,null,null,null,null,null,null,1]
[{"$f":"IFERROR(IF(INDIRECT($A$14&ROW())<>\"\",COUNTIF(Summary!$B$30:$B$1105,INDIRECT($A$14&ROW())),\"\"),\"\")","v":""},null,null,null,null,null,null,null,null,null,null,null,null,null,null,null,null,null,null,null,null,null,null,null,null,null,null,null,null,null,null,null,null,null,null,null,null,null,null,null,null,null,null,null,null,null,null,null,null,null,null,null,null,null,null,null,null,null,null,null,null,null,null,null,null,1]
[{"$f":"IFERROR(IF(INDIRECT($A$14&ROW())<>\"\",COUNTIF(Summary!$B$30:$B$1105,INDIRECT($A$14&ROW())),\"\"),\"\")","v":""},null,null,null,null,null,null,null,null,null,null,null,null,null,null,null,null,null,null,null,null,null,null,null,null,null,null,null,null,null,null,null,null,null,null,null,null,null,null,null,null,null,null,null,null,null,null,null,null,null,null,null,null,null,null,null,null,null,null,null,null,null,null,null,null,1]
[{"$f":"IFERROR(IF(INDIRECT($A$14&ROW())<>\"\",COUNTIF(Summary!$B$30:$B$1105,INDIRECT($A$14&ROW())),\"\"),\"\")","v":""},null,null,null,null,null,null,null,null,null,null,null,null,null,null,null,null,null,null,null,null,null,null,null,null,null,null,null,null,null,null,null,null,null,null,null,null,null,null,null,null,null,null,null,null,null,null,null,null,null,null,null,null,null,null,null,null,null,null,null,null,null,null,null,null,1]
[{"$f":"IFERROR(IF(INDIRECT($A$14&ROW())<>\"\",COUNTIF(Summary!$B$30:$B$1105,INDIRECT($A$14&ROW())),\"\"),\"\")","v":""},null,null,null,null,null,null,null,null,null,null,null,null,null,null,null,null,null,null,null,null,null,null,null,null,null,null,null,null,null,null,null,null,null,null,null,null,null,null,null,null,null,null,null,null,null,null,null,null,null,null,null,null,null,null,null,null,null,null,null,null,null,null,null,null,1]
[{"$f":"IFERROR(IF(INDIRECT($A$14&ROW())<>\"\",COUNTIF(Summary!$B$30:$B$1105,INDIRECT($A$14&ROW())),\"\"),\"\")","v":""},null,null,null,null,null,null,null,null,null,null,null,null,null,null,null,null,null,null,null,null,null,null,null,null,null,null,null,null,null,null,null,null,null,null,null,null,null,null,null,null,null,null,null,null,null,null,null,null,null,null,null,null,null,null,null,null,null,null,null,null,null,null,null,null,3]
[{"$f":"IFERROR(IF(INDIRECT($A$14&ROW())<>\"\",COUNTIF(Summary!$B$30:$B$1105,INDIRECT($A$14&ROW())),\"\"),\"\")","v":""},null,null,null,null,null,null,null,null,null,null,null,null,null,null,null,null,null,null,null,null,null,null,null,null,null,null,null,null,null,null,null,null,null,null,null,null,null,null,null,null,null,null,null,null,null,null,null,null,null,null,null,null,null,null,null,null,null,null,null,null,null,null,null,null,1]
[{"$f":"IFERROR(IF(INDIRECT($A$14&ROW())<>\"\",COUNTIF(Summary!$B$30:$B$1105,INDIRECT($A$14&ROW())),\"\"),\"\")","v":""},null,null,null,null,null,null,null,null,null,null,null,null,null,null,null,null,null,null,null,null,null,null,null,null,null,null,null,null,null,null,null,null,null,null,null,null,null,null,null,null,null,null,null,null,null,null,null,null,null,null,null,null,null,null,null,null,null,null,null,null,null,null,null,null,1]
[{"$f":"IFERROR(IF(INDIRECT($A$14&ROW())<>\"\",COUNTIF(Summary!$B$30:$B$1105,INDIRECT($A$14&ROW())),\"\"),\"\")","v":""},null,null,null,null,null,null,null,null,null,null,null,null,null,null,null,null,null,null,null,null,null,null,null,null,null,null,null,null,null,null,null,null,null,null,null,null,null,null,null,null,null,null,null,null,null,null,null,null,null,null,null,null,null,null,null,null,null,null,null,null,null,null,null,null,-1]
[{"$f":"IFERROR(IF(INDIRECT($A$14&ROW())<>\"\",COUNTIF(Summary!$B$30:$B$1105,INDIRECT($A$14&ROW())),\"\"),\"\")","v":""},null,null,null,null,null,null,null,null,null,null,null,null,null,null,null,null,null,null,null,null,null,null,null,null,null,null,null,null,null,null,null,null,null,null,null,null,null,null,null,null,null,null,null,null,null,null,null,null,null,null,null,null,null,null,null,null,null,null,null,null,null,null,null,null,1]
[{"$f":"IFERROR(IF(INDIRECT($A$14&ROW())<>\"\",COUNTIF(Summary!$B$30:$B$1105,INDIRECT($A$14&ROW())),\"\"),\"\")","v":""},null,null,null,null,null,null,null,null,null,null,null,null,null,null,null,null,null,null,null,null,null,null,null,null,null,null,null,null,null,null,null,null,null,null,null,null,null,null,null,null,null,null,null,null,null,null,null,null,null,null,null,null,null,null,null,null,null,null,null,null,null,null,null,null,1]
[{"$f":"IFERROR(IF(INDIRECT($A$14&ROW())<>\"\",COUNTIF(Summary!$B$30:$B$1105,INDIRECT($A$14&ROW())),\"\"),\"\")","v":""},null,null,null,null,null,null,null,null,null,null,null,null,null,null,null,null,null,null,null,null,null,null,null,null,null,null,null,null,null,null,null,null,null,null,null,null,null,null,null,null,null,null,null,null,null,null,null,null,null,null,null,null,null,null,null,null,null,null,null,null,null,null,null,null,-1]
[{"$f":"IFERROR(IF(INDIRECT($A$14&ROW())<>\"\",COUNTIF(Summary!$B$30:$B$1105,INDIRECT($A$14&ROW())),\"\"),\"\")","v":""},null,null,null,null,null,null,null,null,null,null,null,null,null,null,null,null,null,null,null,null,null,null,null,null,null,null,null,null,null,null,null,null,null,null,null,null,null,null,null,null,null,null,null,null,null,null,null,null,null,null,null,null,null,null,null,null,null,null,null,null,null,null,null,null,1]
[{"$f":"IFERROR(IF(INDIRECT($A$14&ROW())<>\"\",COUNTIF(Summary!$B$30:$B$1105,INDIRECT($A$14&ROW())),\"\"),\"\")","v":""},null,null,null,null,null,null,null,null,null,null,null,null,null,null,null,null,null,null,null,null,null,null,null,null,null,null,null,null,null,null,null,null,null,null,null,null,null,null,null,null,null,null,null,null,null,null,null,null,null,null,null,null,null,null,null,null,null,null,null,null,null,null,null,null,1]
[{"$f":"IFERROR(IF(INDIRECT($A$14&ROW())<>\"\",COUNTIF(Summary!$B$30:$B$1105,INDIRECT($A$14&ROW())),\"\"),\"\")","v":""},null,null,null,null,null,null,null,null,null,null,null,null,null,null,null,null,null,null,null,null,null,null,null,null,null,null,null,null,null,null,null,null,null,null,null,null,null,null,null,null,null,null,null,null,null,null,null,null,null,null,null,null,null,null,null,null,null,null,null,null,null,null,null,null,1]
[{"$f":"IFERROR(IF(INDIRECT($A$14&ROW())<>\"\",COUNTIF(Summary!$B$30:$B$1105,INDIRECT($A$14&ROW())),\"\"),\"\")","v":""},null,null,null,null,null,null,null,null,null,null,null,null,null,null,null,null,null,null,null,null,null,null,null,null,null,null,null,null,null,null,null,null,null,null,null,null,null,null,null,null,null,null,null,null,null,null,null,null,null,null,null,null,null,null,null,null,null,null,null,null,null,null,null,null,-1]
[{"$f":"IFERROR(IF(INDIRECT($A$14&ROW())<>\"\",COUNTIF(Summary!$B$30:$B$1105,INDIRECT($A$14&ROW())),\"\"),\"\")","v":""},null,null,null,null,null,null,null,null,null,null,null,null,null,null,null,null,null,null,null,null,null,null,null,null,null,null,null,null,null,null,null,null,null,null,null,null,null,null,null,null,null,null,null,null,null,null,null,null,null,null,null,null,null,null,null,null,null,null,null,null,null,null,null,null,1]
[{"$f":"IFERROR(IF(INDIRECT($A$14&ROW())<>\"\",COUNTIF(Summary!$B$30:$B$1105,INDIRECT($A$14&ROW())),\"\"),\"\")","v":""},null,null,null,null,null,null,null,null,null,null,null,null,null,null,null,null,null,null,null,null,null,null,null,null,null,null,null,null,null,null,null,null,null,null,null,null,null,null,null,null,null,null,null,null,null,null,null,null,null,null,null,null,null,null,null,null,null,null,null,null,null,null,null,null,1]
[{"$f":"IFERROR(IF(INDIRECT($A$14&ROW())<>\"\",COUNTIF(Summary!$B$30:$B$1105,INDIRECT($A$14&ROW())),\"\"),\"\")","v":""},null,null,null,null,null,null,null,null,null,null,null,null,null,null,null,null,null,null,null,null,null,null,null,null,null,null,null,null,null,null,null,null,null,null,null,null,null,null,null,null,null,null,null,null,null,null,null,null,null,null,null,null,null,null,null,null,null,null,null,null,null,null,null,null,1]
[{"$f":"IFERROR(IF(INDIRECT($A$14&ROW())<>\"\",COUNTIF(Summary!$B$30:$B$1105,INDIRECT($A$14&ROW())),\"\"),\"\")","v":""},null,null,null,null,null,null,null,null,null,null,null,null,null,null,null,null,null,null,null,null,null,null,null,null,null,null,null,null,null,null,null,null,null,null,null,null,null,null,null,null,null,null,null,null,null,null,null,null,null,null,null,null,null,null,null,null,null,null,null,null,null,null,null,null,1]
[{"$f":"IFERROR(IF(INDIRECT($A$14&ROW())<>\"\",COUNTIF(Summary!$B$30:$B$1105,INDIRECT($A$14&ROW())),\"\"),\"\")","v":""},null,null,null,null,null,null,null,null,null,null,null,null,null,null,null,null,null,null,null,null,null,null,null,null,null,null,null,null,null,null,null,null,null,null,null,null,null,null,null,null,null,null,null,null,null,null,null,null,null,null,null,null,null,null,null,null,null,null,null,null,null,null,null,null,1]
[{"$f":"IFERROR(IF(INDIRECT($A$14&ROW())<>\"\",COUNTIF(Summary!$B$30:$B$1105,INDIRECT($A$14&ROW())),\"\"),\"\")","v":""},null,null,null,null,null,null,null,null,null,null,null,null,null,null,null,null,null,null,null,null,null,null,null,null,null,null,null,null,null,null,null,null,null,null,null,null,null,null,null,null,null,null,null,null,null,null,null,null,null,null,null,null,null,null,null,null,null,null,null,null,null,null,null,null,1]
[{"$f":"IFERROR(IF(INDIRECT($A$14&ROW())<>\"\",COUNTIF(Summary!$B$30:$B$1105,INDIRECT($A$14&ROW())),\"\"),\"\")","v":""},null,null,null,null,null,null,null,null,null,null,null,null,null,null,null,null,null,null,null,null,null,null,null,null,null,null,null,null,null,null,null,null,null,null,null,null,null,null,null,null,null,null,null,null,null,null,null,null,null,null,null,null,null,null,null,null,null,null,null,null,null,null,null,null,1]
[{"$f":"IFERROR(IF(INDIRECT($A$14&ROW())<>\"\",COUNTIF(Summary!$B$30:$B$1105,INDIRECT($A$14&ROW())),\"\"),\"\")","v":""},null,null,null,null,null,null,null,null,null,null,null,null,null,null,null,null,null,null,null,null,null,null,null,null,null,null,null,null,null,null,null,null,null,null,null,null,null,null,null,null,null,null,null,null,null,null,null,null,null,null,null,null,null,null,null,null,null,null,null,null,null,null,null,null,1]
[{"$f":"IFERROR(IF(INDIRECT($A$14&ROW())<>\"\",COUNTIF(Summary!$B$30:$B$1105,INDIRECT($A$14&ROW())),\"\"),\"\")","v":""},null,null,null,null,null,null,null,null,null,null,null,null,null,null,null,null,null,null,null,null,null,null,null,null,null,null,null,null,null,null,null,null,null,null,null,null,null,null,null,null,null,null,null,null,null,null,null,null,null,null,null,null,null,null,null,null,null,null,null,null,null,null,null,null,1]
[{"$f":"IFERROR(IF(INDIRECT($A$14&ROW())<>\"\",COUNTIF(Summary!$B$30:$B$1105,INDIRECT($A$14&ROW())),\"\"),\"\")","v":""},null,null,null,null,null,null,null,null,null,null,null,null,null,null,null,null,null,null,null,null,null,null,null,null,null,null,null,null,null,null,null,null,null,null,null,null,null,null,null,null,null,null,null,null,null,null,null,null,null,null,null,null,null,null,null,null,null,null,null,null,null,null,null,null,1]
[{"$f":"IFERROR(IF(INDIRECT($A$14&ROW())<>\"\",COUNTIF(Summary!$B$30:$B$1105,INDIRECT($A$14&ROW())),\"\"),\"\")","v":""},null,null,null,null,null,null,null,null,null,null,null,null,null,null,null,null,null,null,null,null,null,null,null,null,null,null,null,null,null,null,null,null,null,null,null,null,null,null,null,null,null,null,null,null,null,null,null,null,null,null,null,null,null,null,null,null,null,null,null,null,null,null,null,null,1]
[{"$f":"IFERROR(IF(INDIRECT($A$14&ROW())<>\"\",COUNTIF(Summary!$B$30:$B$1105,INDIRECT($A$14&ROW())),\"\"),\"\")","v":""},null,null,null,null,null,null,null,null,null,null,null,null,null,null,null,null,null,null,null,null,null,null,null,null,null,null,null,null,null,null,null,null,null,null,null,null,null,null,null,null,null,null,null,null,null,null,null,null,null,null,null,null,null,null,null,null,null,null,null,null,null,null,null,null,1]
[{"$f":"IFERROR(IF(INDIRECT($A$14&ROW())<>\"\",COUNTIF(Summary!$B$30:$B$1105,INDIRECT($A$14&ROW())),\"\"),\"\")","v":""},null,null,null,null,null,null,null,null,null,null,null,null,null,null,null,null,null,null,null,null,null,null,null,null,null,null,null,null,null,null,null,null,null,null,null,null,null,null,null,null,null,null,null,null,null,null,null,null,null,null,null,null,null,null,null,null,null,null,null,null,null,null,null,null,1]
[{"$f":"IFERROR(IF(INDIRECT($A$14&ROW())<>\"\",COUNTIF(Summary!$B$30:$B$1105,INDIRECT($A$14&ROW())),\"\"),\"\")","v":""},null,null,null,null,null,null,null,null,null,null,null,null,null,null,null,null,null,null,null,null,null,null,null,null,null,null,null,null,null,null,null,null,null,null,null,null,null,null,null,null,null,null,null,null,null,null,null,null,null,null,null,null,null,null,null,null,null,null,null,null,null,null,null,null,1]
[{"$f":"IFERROR(IF(INDIRECT($A$14&ROW())<>\"\",COUNTIF(Summary!$B$30:$B$1105,INDIRECT($A$14&ROW())),\"\"),\"\")","v":""},null,null,null,null,null,null,null,null,null,null,null,null,null,null,null,null,null,null,null,null,null,null,null,null,null,null,null,null,null,null,null,null,null,null,null,null,null,null,null,null,null,null,null,null,null,null,null,null,null,null,null,null,null,null,null,null,null,null,null,null,null,null,null,null,1]
[{"$f":"IFERROR(IF(INDIRECT($A$14&ROW())<>\"\",COUNTIF(Summary!$B$30:$B$1105,INDIRECT($A$14&ROW())),\"\"),\"\")","v":""},null,null,null,null,null,null,null,null,null,null,null,null,null,null,null,null,null,null,null,null,null,null,null,null,null,null,null,null,null,null,null,null,null,null,null,null,null,null,null,null,null,null,null,null,null,null,null,null,null,null,null,null,null,null,null,null,null,null,null,null,null,null,null,null,1]
[{"$f":"IFERROR(IF(INDIRECT($A$14&ROW())<>\"\",COUNTIF(Summary!$B$30:$B$1105,INDIRECT($A$14&ROW())),\"\"),\"\")","v":""},null,null,null,null,null,null,null,null,null,null,null,null,null,null,null,null,null,null,null,null,null,null,null,null,null,null,null,null,null,null,null,null,null,null,null,null,null,null,null,null,null,null,null,null,null,null,null,null,null,null,null,null,null,null,null,null,null,null,null,null,null,null,null,null,1]
[{"$f":"IFERROR(IF(INDIRECT($A$14&ROW())<>\"\",COUNTIF(Summary!$B$30:$B$1105,INDIRECT($A$14&ROW())),\"\"),\"\")","v":""},null,null,null,null,null,null,null,null,null,null,null,null,null,null,null,null,null,null,null,null,null,null,null,null,null,null,null,null,null,null,null,null,null,null,null,null,null,null,null,null,null,null,null,null,null,null,null,null,null,null,null,null,null,null,null,null,null,null,null,null,null,null,null,null,1]
[{"$f":"IFERROR(IF(INDIRECT($A$14&ROW())<>\"\",COUNTIF(Summary!$B$30:$B$1105,INDIRECT($A$14&ROW())),\"\"),\"\")","v":""},null,null,null,null,null,null,null,null,null,null,null,null,null,null,null,null,null,null,null,null,null,null,null,null,null,null,null,null,null,null,null,null,null,null,null,null,null,null,null,null,null,null,null,null,null,null,null,null,null,null,null,null,null,null,null,null,null,null,null,null,null,null,null,null,1]
[{"$f":"IFERROR(IF(INDIRECT($A$14&ROW())<>\"\",COUNTIF(Summary!$B$30:$B$1105,INDIRECT($A$14&ROW())),\"\"),\"\")","v":""},null,null,null,null,null,null,null,null,null,null,null,null,null,null,null,null,null,null,null,null,null,null,null,null,null,null,null,null,null,null,null,null,null,null,null,null,null,null,null,null,null,null,null,null,null,null,null,null,null,null,null,null,null,null,null,null,null,null,null,null,null,null,null,null,1]
[{"$f":"IFERROR(IF(INDIRECT($A$14&ROW())<>\"\",COUNTIF(Summary!$B$30:$B$1105,INDIRECT($A$14&ROW())),\"\"),\"\")","v":""},null,null,null,null,null,null,null,null,null,null,null,null,null,null,null,null,null,null,null,null,null,null,null,null,null,null,null,null,null,null,null,null,null,null,null,null,null,null,null,null,null,null,null,null,null,null,null,null,null,null,null,null,null,null,null,null,null,null,null,null,null,null,null,null,1]
[{"$f":"IFERROR(IF(INDIRECT($A$14&ROW())<>\"\",COUNTIF(Summary!$B$30:$B$1105,INDIRECT($A$14&ROW())),\"\"),\"\")","v":""},null,null,null,null,null,null,null,null,null,null,null,null,null,null,null,null,null,null,null,null,null,null,null,null,null,null,null,null,null,null,null,null,null,null,null,null,null,null,null,null,null,null,null,null,null,null,null,null,null,null,null,null,null,null,null,null,null,null,null,null,null,null,null,null,1]
[{"$f":"IFERROR(IF(INDIRECT($A$14&ROW())<>\"\",COUNTIF(Summary!$B$30:$B$1105,INDIRECT($A$14&ROW())),\"\"),\"\")","v":""},null,null,null,null,null,null,null,null,null,null,null,null,null,null,null,null,null,null,null,null,null,null,null,null,null,null,null,null,null,null,null,null,null,null,null,null,null,null,null,null,null,null,null,null,null,null,null,null,null,null,null,null,null,null,null,null,null,null,null,null,null,null,null,null,1]
[{"$f":"IFERROR(IF(INDIRECT($A$14&ROW())<>\"\",COUNTIF(Summary!$B$30:$B$1105,INDIRECT($A$14&ROW())),\"\"),\"\")","v":""},null,null,null,null,null,null,null,null,null,null,null,null,null,null,null,null,null,null,null,null,null,null,null,null,null,null,null,null,null,null,null,null,null,null,null,null,null,null,null,null,null,null,null,null,null,null,null,null,null,null,null,null,null,null,null,null,null,null,null,null,null,null,null,null,1]
[{"$f":"IFERROR(IF(INDIRECT($A$14&ROW())<>\"\",COUNTIF(Summary!$B$30:$B$1105,INDIRECT($A$14&ROW())),\"\"),\"\")","v":""},null,null,null,null,null,null,null,null,null,null,null,null,null,null,null,null,null,null,null,null,null,null,null,null,null,null,null,null,null,null,null,null,null,null,null,null,null,null,null,null,null,null,null,null,null,null,null,null,null,null,null,null,null,null,null,null,null,null,null,null,null,null,null,null,1]
[{"$f":"IFERROR(IF(INDIRECT($A$14&ROW())<>\"\",COUNTIF(Summary!$B$30:$B$1105,INDIRECT($A$14&ROW())),\"\"),\"\")","v":""},null,null,null,null,null,null,null,null,null,null,null,null,null,null,null,null,null,null,null,null,null,null,null,null,null,null,null,null,null,null,null,null,null,null,null,null,null,null,null,null,null,null,null,null,null,null,null,null,null,null,null,null,null,null,null,null,null,null,null,null,null,null,null,null,1]
[{"$f":"IFERROR(IF(INDIRECT($A$14&ROW())<>\"\",COUNTIF(Summary!$B$30:$B$1105,INDIRECT($A$14&ROW())),\"\"),\"\")","v":""},null,null,null,null,null,null,null,null,null,null,null,null,null,null,null,null,null,null,null,null,null,null,null,null,null,null,null,null,null,null,null,null,null,null,null,null,null,null,null,null,null,null,null,null,null,null,null,null,null,null,null,null,null,null,null,null,null,null,null,null,null,null,null,null,1]
[{"$f":"IFERROR(IF(INDIRECT($A$14&ROW())<>\"\",COUNTIF(Summary!$B$30:$B$1105,INDIRECT($A$14&ROW())),\"\"),\"\")","v":""},null,null,null,null,null,null,null,null,null,null,null,null,null,null,null,null,null,null,null,null,null,null,null,null,null,null,null,null,null,null,null,null,null,null,null,null,null,null,null,null,null,null,null,null,null,null,null,null,null,null,null,null,null,null,null,null,null,null,null,null,null,null,null,null,-1]
[{"$f":"IFERROR(IF(INDIRECT($A$14&ROW())<>\"\",COUNTIF(Summary!$B$30:$B$1105,INDIRECT($A$14&ROW())),\"\"),\"\")","v":""},null,null,null,null,null,null,null,null,null,null,null,null,null,null,null,null,null,null,null,null,null,null,null,null,null,null,null,null,null,null,null,null,null,null,null,null,null,null,null,null,null,null,null,null,null,null,null,null,null,null,null,null,null,null,null,null,null,null,null,null,null,null,null,null,-1]
[{"$f":"IFERROR(IF(INDIRECT($A$14&ROW())<>\"\",COUNTIF(Summary!$B$30:$B$1105,INDIRECT($A$14&ROW())),\"\"),\"\")","v":""},null,null,null,null,null,null,null,null,null,null,null,null,null,null,null,null,null,null,null,null,null,null,null,null,null,null,null,null,null,null,null,null,null,null,null,null,null,null,null,null,null,null,null,null,null,null,null,null,null,null,null,null,null,null,null,null,null,null,null,null,null,null,null,null,-1]
[{"$f":"IFERROR(IF(INDIRECT($A$14&ROW())<>\"\",COUNTIF(Summary!$B$30:$B$1105,INDIRECT($A$14&ROW())),\"\"),\"\")","v":""},null,null,null,null,null,null,null,null,null,null,null,null,null,null,null,null,null,null,null,null,null,null,null,null,null,null,null,null,null,null,null,null,null,null,null,null,null,null,null,null,null,null,null,null,null,null,null,null,null,null,null,null,null,null,null,null,null,null,null,null,null,null,null,null,-1]
[{"$f":"IFERROR(IF(INDIRECT($A$14&ROW())<>\"\",COUNTIF(Summary!$B$30:$B$1105,INDIRECT($A$14&ROW())),\"\"),\"\")","v":""},null,null,null,null,null,null,null,null,null,null,null,null,null,null,null,null,null,null,null,null,null,null,null,null,null,null,null,null,null,null,null,null,null,null,null,null,null,null,null,null,null,null,null,null,null,null,null,null,null,null,null,null,null,null,null,null,null,null,null,null,null,null,null,null,1]
[{"$f":"IFERROR(IF(INDIRECT($A$14&ROW())<>\"\",COUNTIF(Summary!$B$30:$B$1105,INDIRECT($A$14&ROW())),\"\"),\"\")","v":""},null,null,null,null,null,null,null,null,null,null,null,null,null,null,null,null,null,null,null,null,null,null,null,null,null,null,null,null,null,null,null,null,null,null,null,null,null,null,null,null,null,null,null,null,null,null,null,null,null,null,null,null,null,null,null,null,null,null,null,null,null,null,null,null,1]
[{"$f":"IFERROR(IF(INDIRECT($A$14&ROW())<>\"\",COUNTIF(Summary!$B$30:$B$1105,INDIRECT($A$14&ROW())),\"\"),\"\")","v":""},null,null,null,null,null,null,null,null,null,null,null,null,null,null,null,null,null,null,null,null,null,null,null,null,null,null,null,null,null,null,null,null,null,null,null,null,null,null,null,null,null,null,null,null,null,null,null,null,null,null,null,null,null,null,null,null,null,null,null,null,null,null,null,null,1]
[{"$f":"IFERROR(IF(INDIRECT($A$14&ROW())<>\"\",COUNTIF(Summary!$B$30:$B$1105,INDIRECT($A$14&ROW())),\"\"),\"\")","v":""},null,null,null,null,null,null,null,null,null,null,null,null,null,null,null,null,null,null,null,null,null,null,null,null,null,null,null,null,null,null,null,null,null,null,null,null,null,null,null,null,null,null,null,null,null,null,null,null,null,null,null,null,null,null,null,null,null,null,null,null,null,null,null,null,1]
[{"$f":"IFERROR(IF(INDIRECT($A$14&ROW())<>\"\",COUNTIF(Summary!$B$30:$B$1105,INDIRECT($A$14&ROW())),\"\"),\"\")","v":""},null,null,null,null,null,null,null,null,null,null,null,null,null,null,null,null,null,null,null,null,null,null,null,null,null,null,null,null,null,null,null,null,null,null,null,null,null,null,null,null,null,null,null,null,null,null,null,null,null,null,null,null,null,null,null,null,null,null,null,null,null,null,null,null,1]
[{"$f":"IFERROR(IF(INDIRECT($A$14&ROW())<>\"\",COUNTIF(Summary!$B$30:$B$1105,INDIRECT($A$14&ROW())),\"\"),\"\")","v":""},null,null,null,null,null,null,null,null,null,null,null,null,null,null,null,null,null,null,null,null,null,null,null,null,null,null,null,null,null,null,null,null,null,null,null,null,null,null,null,null,null,null,null,null,null,null,null,null,null,null,null,null,null,null,null,null,null,null,null,null,null,null,null,null,-1]
[{"$f":"IFERROR(IF(INDIRECT($A$14&ROW())<>\"\",COUNTIF(Summary!$B$30:$B$1105,INDIRECT($A$14&ROW())),\"\"),\"\")","v":""},null,null,null,null,null,null,null,null,null,null,null,null,null,null,null,null,null,null,null,null,null,null,null,null,null,null,null,null,null,null,null,null,null,null,null,null,null,null,null,null,null,null,null,null,null,null,null,null,null,null,null,null,null,null,null,null,null,null,null,null,null,null,null,null,-1]
[{"$f":"IFERROR(IF(INDIRECT($A$14&ROW())<>\"\",COUNTIF(Summary!$B$30:$B$1105,INDIRECT($A$14&ROW())),\"\"),\"\")","v":""},null,null,null,null,null,null,null,null,null,null,null,null,null,null,null,null,null,null,null,null,null,null,null,null,null,null,null,null,null,null,null,null,null,null,null,null,null,null,null,null,null,null,null,null,null,null,null,null,null,null,null,null,null,null,null,null,null,null,null,null,null,null,null,null,-1]
[{"$f":"IFERROR(IF(INDIRECT($A$14&ROW())<>\"\",COUNTIF(Summary!$B$30:$B$1105,INDIRECT($A$14&ROW())),\"\"),\"\")","v":""},null,null,null,null,null,null,null,null,null,null,null,null,null,null,null,null,null,null,null,null,null,null,null,null,null,null,null,null,null,null,null,null,null,null,null,null,null,null,null,null,null,null,null,null,null,null,null,null,null,null,null,null,null,null,null,null,null,null,null,null,null,null,null,null,-1]
[{"$f":"IFERROR(IF(INDIRECT($A$14&ROW())<>\"\",COUNTIF(Summary!$B$30:$B$1105,INDIRECT($A$14&ROW())),\"\"),\"\")","v":""},null,null,null,null,null,null,null,null,null,null,null,null,null,null,null,null,null,null,null,null,null,null,null,null,null,null,null,null,null,null,null,null,null,null,null,null,null,null,null,null,null,null,null,null,null,null,null,null,null,null,null,null,null,null,null,null,null,null,null,null,null,null,null,null,1]
[{"$f":"IFERROR(IF(INDIRECT($A$14&ROW())<>\"\",COUNTIF(Summary!$B$30:$B$1105,INDIRECT($A$14&ROW())),\"\"),\"\")","v":""},null,null,null,null,null,null,null,null,null,null,null,null,null,null,null,null,null,null,null,null,null,null,null,null,null,null,null,null,null,null,null,null,null,null,null,null,null,null,null,null,null,null,null,null,null,null,null,null,null,null,null,null,null,null,null,null,null,null,null,null,null,null,null,null,1]
[{"$f":"IFERROR(IF(INDIRECT($A$14&ROW())<>\"\",COUNTIF(Summary!$B$30:$B$1105,INDIRECT($A$14&ROW())),\"\"),\"\")","v":""},null,null,null,null,null,null,null,null,null,null,null,null,null,null,null,null,null,null,null,null,null,null,null,null,null,null,null,null,null,null,null,null,null,null,null,null,null,null,null,null,null,null,null,null,null,null,null,null,null,null,null,null,null,null,null,null,null,null,null,null,null,null,null,null,1]
[{"$f":"IFERROR(IF(INDIRECT($A$14&ROW())<>\"\",COUNTIF(Summary!$B$30:$B$1105,INDIRECT($A$14&ROW())),\"\"),\"\")","v":""}]
[{"$f":"IFERROR(IF(INDIRECT($A$14&ROW())<>\"\",COUNTIF(Summary!$B$30:$B$1105,INDIRECT($A$14&ROW())),\"\"),\"\")","v":""}]
[{"$f":"IFERROR(IF(INDIRECT($A$14&ROW())<>\"\",COUNTIF(Summary!$B$30:$B$1105,INDIRECT($A$14&ROW())),\"\"),\"\")","v":""}]
[{"$f":"IFERROR(IF(INDIRECT($A$14&ROW())<>\"\",COUNTIF(Summary!$B$30:$B$1105,INDIRECT($A$14&ROW())),\"\"),\"\")","v":""}]
[{"$f":"IFERROR(IF(INDIRECT($A$14&ROW())<>\"\",COUNTIF(Summary!$B$30:$B$1105,INDIRECT($A$14&ROW())),\"\"),\"\")","v":""}]
[{"$f":"IFERROR(IF(INDIRECT($A$14&ROW())<>\"\",COUNTIF(Summary!$B$30:$B$1105,INDIRECT($A$14&ROW())),\"\"),\"\")","v":""}]
[{"$f":"IFERROR(IF(INDIRECT($A$14&ROW())<>\"\",COUNTIF(Summary!$B$30:$B$1105,INDIRECT($A$14&ROW())),\"\"),\"\")","v":""}]
[{"$f":"IFERROR(IF(INDIRECT($A$14&ROW())<>\"\",COUNTIF(Summary!$B$30:$B$1105,INDIRECT($A$14&ROW())),\"\"),\"\")","v":""}]
[{"$f":"IFERROR(IF(INDIRECT($A$14&ROW())<>\"\",COUNTIF(Summary!$B$30:$B$1105,INDIRECT($A$14&ROW())),\"\"),\"\")","v":""}]
[{"$f":"IFERROR(IF(INDIRECT($A$14&ROW())<>\"\",COUNTIF(Summary!$B$30:$B$1105,INDIRECT($A$14&ROW())),\"\"),\"\")","v":""}]
[{"$f":"IFERROR(IF(INDIRECT($A$14&ROW())<>\"\",COUNTIF(Summary!$B$30:$B$1105,INDIRECT($A$14&ROW())),\"\"),\"\")","v":""}]
[{"$f":"IFERROR(IF(INDIRECT($A$14&ROW())<>\"\",COUNTIF(Summary!$B$30:$B$1105,INDIRECT($A$14&ROW())),\"\"),\"\")","v":""}]
[{"$f":"IFERROR(IF(INDIRECT($A$14&ROW())<>\"\",COUNTIF(Summary!$B$30:$B$1105,INDIRECT($A$14&ROW())),\"\"),\"\")","v":""}]
[{"$f":"IFERROR(IF(INDIRECT($A$14&ROW())<>\"\",COUNTIF(Summary!$B$30:$B$1105,INDIRECT($A$14&ROW())),\"\"),\"\")","v":""}]
[{"$f":"IFERROR(IF(INDIRECT($A$14&ROW())<>\"\",COUNTIF(Summary!$B$30:$B$1105,INDIRECT($A$14&ROW())),\"\"),\"\")","v":""}]
[{"$f":"IFERROR(IF(INDIRECT($A$14&ROW())<>\"\",COUNTIF(Summary!$B$30:$B$1105,INDIRECT($A$14&ROW())),\"\"),\"\")","v":""}]
[{"$f":"IFERROR(IF(INDIRECT($A$14&ROW())<>\"\",COUNTIF(Summary!$B$30:$B$1105,INDIRECT($A$14&ROW())),\"\"),\"\")","v":""}]
[{"$f":"IFERROR(IF(INDIRECT($A$14&ROW())<>\"\",COUNTIF(Summary!$B$30:$B$1105,INDIRECT($A$14&ROW())),\"\"),\"\")","v":""}]
[{"$f":"IFERROR(IF(INDIRECT($A$14&ROW())<>\"\",COUNTIF(Summary!$B$30:$B$1105,INDIRECT($A$14&ROW())),\"\"),\"\")","v":""}]
[{"$f":"IFERROR(IF(INDIRECT($A$14&ROW())<>\"\",COUNTIF(Summary!$B$30:$B$1105,INDIRECT($A$14&ROW())),\"\"),\"\")","v":""}]
[{"$f":"IFERROR(IF(INDIRECT($A$14&ROW())<>\"\",COUNTIF(Summary!$B$30:$B$1105,INDIRECT($A$14&ROW())),\"\"),\"\")","v":""}]
[{"$f":"IFERROR(IF(INDIRECT($A$14&ROW())<>\"\",COUNTIF(Summary!$B$30:$B$1105,INDIRECT($A$14&ROW())),\"\"),\"\")","v":""}]
[{"$f":"IFERROR(IF(INDIRECT($A$14&ROW())<>\"\",COUNTIF(Summary!$B$30:$B$1105,INDIRECT($A$14&ROW())),\"\"),\"\")","v":""}]
[{"$f":"IFERROR(IF(INDIRECT($A$14&ROW())<>\"\",COUNTIF(Summary!$B$30:$B$1105,INDIRECT($A$14&ROW())),\"\"),\"\")","v":""}]
[{"$f":"IFERROR(IF(INDIRECT($A$14&ROW())<>\"\",COUNTIF(Summary!$B$30:$B$1105,INDIRECT($A$14&ROW())),\"\"),\"\")","v":""}]
[{"$f":"IFERROR(IF(INDIRECT($A$14&ROW())<>\"\",COUNTIF(Summary!$B$30:$B$1105,INDIRECT($A$14&ROW())),\"\"),\"\")","v":""}]
[{"$f":"IFERROR(IF(INDIRECT($A$14&ROW())<>\"\",COUNTIF(Summary!$B$30:$B$1105,INDIRECT($A$14&ROW())),\"\"),\"\")","v":""}]
[{"$f":"IFERROR(IF(INDIRECT($A$14&ROW())<>\"\",COUNTIF(Summary!$B$30:$B$1105,INDIRECT($A$14&ROW())),\"\"),\"\")","v":""}]
[{"$f":"IFERROR(IF(INDIRECT($A$14&ROW())<>\"\",COUNTIF(Summary!$B$30:$B$1105,INDIRECT($A$14&ROW())),\"\"),\"\")","v":""}]
[{"$f":"IFERROR(IF(INDIRECT($A$14&ROW())<>\"\",COUNTIF(Summary!$B$30:$B$1105,INDIRECT($A$14&ROW())),\"\"),\"\")","v":""}]
[{"$f":"IFERROR(IF(INDIRECT($A$14&ROW())<>\"\",COUNTIF(Summary!$B$30:$B$1105,INDIRECT($A$14&ROW())),\"\"),\"\")","v":""}]
[{"$f":"IFERROR(IF(INDIRECT($A$14&ROW())<>\"\",COUNTIF(Summary!$B$30:$B$1105,INDIRECT($A$14&ROW())),\"\"),\"\")","v":""}]
[{"$f":"IFERROR(IF(INDIRECT($A$14&ROW())<>\"\",COUNTIF(Summary!$B$30:$B$1105,INDIRECT($A$14&ROW())),\"\"),\"\")","v":""}]
[{"$f":"IFERROR(IF(INDIRECT($A$14&ROW())<>\"\",COUNTIF(Summary!$B$30:$B$1105,INDIRECT($A$14&ROW())),\"\"),\"\")","v":""}]
[{"$f":"IFERROR(IF(INDIRECT($A$14&ROW())<>\"\",COUNTIF(Summary!$B$30:$B$1105,INDIRECT($A$14&ROW())),\"\"),\"\")","v":""}]
[{"$f":"IFERROR(IF(INDIRECT($A$14&ROW())<>\"\",COUNTIF(Summary!$B$30:$B$1105,INDIRECT($A$14&ROW())),\"\"),\"\")","v":""}]
[{"$f":"IFERROR(IF(INDIRECT($A$14&ROW())<>\"\",COUNTIF(Summary!$B$30:$B$1105,INDIRECT($A$14&ROW())),\"\"),\"\")","v":""}]
[{"$f":"IFERROR(IF(INDIRECT($A$14&ROW())<>\"\",COUNTIF(Summary!$B$30:$B$1105,INDIRECT($A$14&ROW())),\"\"),\"\")","v":""}]
[{"$f":"IFERROR(IF(INDIRECT($A$14&ROW())<>\"\",COUNTIF(Summary!$B$30:$B$1105,INDIRECT($A$14&ROW())),\"\"),\"\")","v":""}]
[{"$f":"IFERROR(IF(INDIRECT($A$14&ROW())<>\"\",COUNTIF(Summary!$B$30:$B$1105,INDIRECT($A$14&ROW())),\"\"),\"\")","v":""}]
[{"$f":"IFERROR(IF(INDIRECT($A$14&ROW())<>\"\",COUNTIF(Summary!$B$30:$B$1105,INDIRECT($A$14&ROW())),\"\"),\"\")","v":""}]
[{"$f":"IFERROR(IF(INDIRECT($A$14&ROW())<>\"\",COUNTIF(Summary!$B$30:$B$1105,INDIRECT($A$14&ROW())),\"\"),\"\")","v":""}]
[{"$f":"IFERROR(IF(INDIRECT($A$14&ROW())<>\"\",COUNTIF(Summary!$B$30:$B$1105,INDIRECT($A$14&ROW())),\"\"),\"\")","v":""}]
[{"$f":"IFERROR(IF(INDIRECT($A$14&ROW())<>\"\",COUNTIF(Summary!$B$30:$B$1105,INDIRECT($A$14&ROW())),\"\"),\"\")","v":""}]
[{"$f":"IFERROR(IF(INDIRECT($A$14&ROW())<>\"\",COUNTIF(Summary!$B$30:$B$1105,INDIRECT($A$14&ROW())),\"\"),\"\")","v":""}]
[{"$f":"IFERROR(IF(INDIRECT($A$14&ROW())<>\"\",COUNTIF(Summary!$B$30:$B$1105,INDIRECT($A$14&ROW())),\"\"),\"\")","v":""}]
[{"$f":"IFERROR(IF(INDIRECT($A$14&ROW())<>\"\",COUNTIF(Summary!$B$30:$B$1105,INDIRECT($A$14&ROW())),\"\"),\"\")","v":""}]
[{"$f":"IFERROR(IF(INDIRECT($A$14&ROW())<>\"\",COUNTIF(Summary!$B$30:$B$1105,INDIRECT($A$14&ROW())),\"\"),\"\")","v":""}]
[{"$f":"IFERROR(IF(INDIRECT($A$14&ROW())<>\"\",COUNTIF(Summary!$B$30:$B$1105,INDIRECT($A$14&ROW())),\"\"),\"\")","v":""}]
[{"$f":"IFERROR(IF(INDIRECT($A$14&ROW())<>\"\",COUNTIF(Summary!$B$30:$B$1105,INDIRECT($A$14&ROW())),\"\"),\"\")","v":""}]
[{"$f":"IFERROR(IF(INDIRECT($A$14&ROW())<>\"\",COUNTIF(Summary!$B$30:$B$1105,INDIRECT($A$14&ROW())),\"\"),\"\")","v":""}]
[{"$f":"IFERROR(IF(INDIRECT($A$14&ROW())<>\"\",COUNTIF(Summary!$B$30:$B$1105,INDIRECT($A$14&ROW())),\"\"),\"\")","v":""}]
[{"$f":"IFERROR(IF(INDIRECT($A$14&ROW())<>\"\",COUNTIF(Summary!$B$30:$B$1105,INDIRECT($A$14&ROW())),\"\"),\"\")","v":""}]
[{"$f":"IFERROR(IF(INDIRECT($A$14&ROW())<>\"\",COUNTIF(Summary!$B$30:$B$1105,INDIRECT($A$14&ROW())),\"\"),\"\")","v":""}]
[{"$f":"IFERROR(IF(INDIRECT($A$14&ROW())<>\"\",COUNTIF(Summary!$B$30:$B$1105,INDIRECT($A$14&ROW())),\"\"),\"\")","v":""}]
[{"$f":"IFERROR(IF(INDIRECT($A$14&ROW())<>\"\",COUNTIF(Summary!$B$30:$B$1105,INDIRECT($A$14&ROW())),\"\"),\"\")","v":""}]
[{"$f":"IFERROR(IF(INDIRECT($A$14&ROW())<>\"\",COUNTIF(Summary!$B$30:$B$1105,INDIRECT($A$14&ROW())),\"\"),\"\")","v":""}]
[{"$f":"IFERROR(IF(INDIRECT($A$14&ROW())<>\"\",COUNTIF(Summary!$B$30:$B$1105,INDIRECT($A$14&ROW())),\"\"),\"\")","v":""}]
[{"$f":"IFERROR(IF(INDIRECT($A$14&ROW())<>\"\",COUNTIF(Summary!$B$30:$B$1105,INDIRECT($A$14&ROW())),\"\"),\"\")","v":""}]
[{"$f":"IFERROR(IF(INDIRECT($A$14&ROW())<>\"\",COUNTIF(Summary!$B$30:$B$1105,INDIRECT($A$14&ROW())),\"\"),\"\")","v":""}]
[{"$f":"IFERROR(IF(INDIRECT($A$14&ROW())<>\"\",COUNTIF(Summary!$B$30:$B$1105,INDIRECT($A$14&ROW())),\"\"),\"\")","v":""}]
[{"$f":"IFERROR(IF(INDIRECT($A$14&ROW())<>\"\",COUNTIF(Summary!$B$30:$B$1105,INDIRECT($A$14&ROW())),\"\"),\"\")","v":""}]
[{"$f":"IFERROR(IF(INDIRECT($A$14&ROW())<>\"\",COUNTIF(Summary!$B$30:$B$1105,INDIRECT($A$14&ROW())),\"\"),\"\")","v":""}]
[{"$f":"IFERROR(IF(INDIRECT($A$14&ROW())<>\"\",COUNTIF(Summary!$B$30:$B$1105,INDIRECT($A$14&ROW())),\"\"),\"\")","v":""}]
[{"$f":"IFERROR(IF(INDIRECT($A$14&ROW())<>\"\",COUNTIF(Summary!$B$30:$B$1105,INDIRECT($A$14&ROW())),\"\"),\"\")","v":""}]
[{"$f":"IFERROR(IF(INDIRECT($A$14&ROW())<>\"\",COUNTIF(Summary!$B$30:$B$1105,INDIRECT($A$14&ROW())),\"\"),\"\")","v":""}]
[{"$f":"IFERROR(IF(INDIRECT($A$14&ROW())<>\"\",COUNTIF(Summary!$B$30:$B$1105,INDIRECT($A$14&ROW())),\"\"),\"\")","v":""}]
[{"$f":"IFERROR(IF(INDIRECT($A$14&ROW())<>\"\",COUNTIF(Summary!$B$30:$B$1105,INDIRECT($A$14&ROW())),\"\"),\"\")","v":""}]
[{"$f":"IFERROR(IF(INDIRECT($A$14&ROW())<>\"\",COUNTIF(Summary!$B$30:$B$1105,INDIRECT($A$14&ROW())),\"\"),\"\")","v":""}]
[{"$f":"IFERROR(IF(INDIRECT($A$14&ROW())<>\"\",COUNTIF(Summary!$B$30:$B$1105,INDIRECT($A$14&ROW())),\"\"),\"\")","v":""}]
[{"$f":"IFERROR(IF(INDIRECT($A$14&ROW())<>\"\",COUNTIF(Summary!$B$30:$B$1105,INDIRECT($A$14&ROW())),\"\"),\"\")","v":""}]
[{"$f":"IFERROR(IF(INDIRECT($A$14&ROW())<>\"\",COUNTIF(Summary!$B$30:$B$1105,INDIRECT($A$14&ROW())),\"\"),\"\")","v":""}]
[{"$f":"IFERROR(IF(INDIRECT($A$14&ROW())<>\"\",COUNTIF(Summary!$B$30:$B$1105,INDIRECT($A$14&ROW())),\"\"),\"\")","v":""}]
[{"$f":"IFERROR(IF(INDIRECT($A$14&ROW())<>\"\",COUNTIF(Summary!$B$30:$B$1105,INDIRECT($A$14&ROW())),\"\"),\"\")","v":""}]
[{"$f":"IFERROR(IF(INDIRECT($A$14&ROW())<>\"\",COUNTIF(Summary!$B$30:$B$1105,INDIRECT($A$14&ROW())),\"\"),\"\")","v":""}]
[{"$f":"IFERROR(IF(INDIRECT($A$14&ROW())<>\"\",COUNTIF(Summary!$B$30:$B$1105,INDIRECT($A$14&ROW())),\"\"),\"\")","v":""}]
[{"$f":"IFERROR(IF(INDIRECT($A$14&ROW())<>\"\",COUNTIF(Summary!$B$30:$B$1105,INDIRECT($A$14&ROW())),\"\"),\"\")","v":""}]
[{"$f":"IFERROR(IF(INDIRECT($A$14&ROW())<>\"\",COUNTIF(Summary!$B$30:$B$1105,INDIRECT($A$14&ROW())),\"\"),\"\")","v":""}]
[{"$f":"IFERROR(IF(INDIRECT($A$14&ROW())<>\"\",COUNTIF(Summary!$B$30:$B$1105,INDIRECT($A$14&ROW())),\"\"),\"\")","v":""}]
[{"$f":"IFERROR(IF(INDIRECT($A$14&ROW())<>\"\",COUNTIF(Summary!$B$30:$B$1105,INDIRECT($A$14&ROW())),\"\"),\"\")","v":""}]
[{"$f":"IFERROR(IF(INDIRECT($A$14&ROW())<>\"\",COUNTIF(Summary!$B$30:$B$1105,INDIRECT($A$14&ROW())),\"\"),\"\")","v":""}]
[{"$f":"IFERROR(IF(INDIRECT($A$14&ROW())<>\"\",COUNTIF(Summary!$B$30:$B$1105,INDIRECT($A$14&ROW())),\"\"),\"\")","v":""}]
[{"$f":"IFERROR(IF(INDIRECT($A$14&ROW())<>\"\",COUNTIF(Summary!$B$30:$B$1105,INDIRECT($A$14&ROW())),\"\"),\"\")","v":""}]
[{"$f":"IFERROR(IF(INDIRECT($A$14&ROW())<>\"\",COUNTIF(Summary!$B$30:$B$1105,INDIRECT($A$14&ROW())),\"\"),\"\")","v":""}]
[{"$f":"IFERROR(IF(INDIRECT($A$14&ROW())<>\"\",COUNTIF(Summary!$B$30:$B$1105,INDIRECT($A$14&ROW())),\"\"),\"\")","v":""}]
[{"$f":"IFERROR(IF(INDIRECT($A$14&ROW())<>\"\",COUNTIF(Summary!$B$30:$B$1105,INDIRECT($A$14&ROW())),\"\"),\"\")","v":""}]
[{"$f":"IFERROR(IF(INDIRECT($A$14&ROW())<>\"\",COUNTIF(Summary!$B$30:$B$1105,INDIRECT($A$14&ROW())),\"\"),\"\")","v":""}]
[{"$f":"IFERROR(IF(INDIRECT($A$14&ROW())<>\"\",COUNTIF(Summary!$B$30:$B$1105,INDIRECT($A$14&ROW())),\"\"),\"\")","v":""}]
[{"$f":"IFERROR(IF(INDIRECT($A$14&ROW())<>\"\",COUNTIF(Summary!$B$30:$B$1105,INDIRECT($A$14&ROW())),\"\"),\"\")","v":""}]
[{"$f":"IFERROR(IF(INDIRECT($A$14&ROW())<>\"\",COUNTIF(Summary!$B$30:$B$1105,INDIRECT($A$14&ROW())),\"\"),\"\")","v":""}]
[{"$f":"IFERROR(IF(INDIRECT($A$14&ROW())<>\"\",COUNTIF(Summary!$B$30:$B$1105,INDIRECT($A$14&ROW())),\"\"),\"\")","v":""}]
[{"$f":"IFERROR(IF(INDIRECT($A$14&ROW())<>\"\",COUNTIF(Summary!$B$30:$B$1105,INDIRECT($A$14&ROW())),\"\"),\"\")","v":""}]
[{"$f":"IFERROR(IF(INDIRECT($A$14&ROW())<>\"\",COUNTIF(Summary!$B$30:$B$1105,INDIRECT($A$14&ROW())),\"\"),\"\")","v":""}]
[{"$f":"IFERROR(IF(INDIRECT($A$14&ROW())<>\"\",COUNTIF(Summary!$B$30:$B$1105,INDIRECT($A$14&ROW())),\"\"),\"\")","v":""}]
[{"$f":"IFERROR(IF(INDIRECT($A$14&ROW())<>\"\",COUNTIF(Summary!$B$30:$B$1105,INDIRECT($A$14&ROW())),\"\"),\"\")","v":""}]
[{"$f":"IFERROR(IF(INDIRECT($A$14&ROW())<>\"\",COUNTIF(Summary!$B$30:$B$1105,INDIRECT($A$14&ROW())),\"\"),\"\")","v":""}]
[{"$f":"IFERROR(IF(INDIRECT($A$14&ROW())<>\"\",COUNTIF(Summary!$B$30:$B$1105,INDIRECT($A$14&ROW())),\"\"),\"\")","v":""}]
[{"$f":"IFERROR(IF(INDIRECT($A$14&ROW())<>\"\",COUNTIF(Summary!$B$30:$B$1105,INDIRECT($A$14&ROW())),\"\"),\"\")","v":""}]
[{"$f":"IFERROR(IF(INDIRECT($A$14&ROW())<>\"\",COUNTIF(Summary!$B$30:$B$1105,INDIRECT($A$14&ROW())),\"\"),\"\")","v":""}]
[{"$f":"IFERROR(IF(INDIRECT($A$14&ROW())<>\"\",COUNTIF(Summary!$B$30:$B$1105,INDIRECT($A$14&ROW())),\"\"),\"\")","v":""}]
[{"$f":"IFERROR(IF(INDIRECT($A$14&ROW())<>\"\",COUNTIF(Summary!$B$30:$B$1105,INDIRECT($A$14&ROW())),\"\"),\"\")","v":""}]
[{"$f":"IFERROR(IF(INDIRECT($A$14&ROW())<>\"\",COUNTIF(Summary!$B$30:$B$1105,INDIRECT($A$14&ROW())),\"\"),\"\")","v":""}]
[{"$f":"IFERROR(IF(INDIRECT($A$14&ROW())<>\"\",COUNTIF(Summary!$B$30:$B$1105,INDIRECT($A$14&ROW())),\"\"),\"\")","v":""}]
[{"$f":"IFERROR(IF(INDIRECT($A$14&ROW())<>\"\",COUNTIF(Summary!$B$30:$B$1105,INDIRECT($A$14&ROW())),\"\"),\"\")","v":""}]
[{"$f":"IFERROR(IF(INDIRECT($A$14&ROW())<>\"\",COUNTIF(Summary!$B$30:$B$1105,INDIRECT($A$14&ROW())),\"\"),\"\")","v":""}]
[{"$f":"IFERROR(IF(INDIRECT($A$14&ROW())<>\"\",COUNTIF(Summary!$B$30:$B$1105,INDIRECT($A$14&ROW())),\"\"),\"\")","v":""}]
[{"$f":"IFERROR(IF(INDIRECT($A$14&ROW())<>\"\",COUNTIF(Summary!$B$30:$B$1105,INDIRECT($A$14&ROW())),\"\"),\"\")","v":""}]
[{"$f":"IFERROR(IF(INDIRECT($A$14&ROW())<>\"\",COUNTIF(Summary!$B$30:$B$1105,INDIRECT($A$14&ROW())),\"\"),\"\")","v":""}]
[{"$f":"IFERROR(IF(INDIRECT($A$14&ROW())<>\"\",COUNTIF(Summary!$B$30:$B$1105,INDIRECT($A$14&ROW())),\"\"),\"\")","v":""}]
[{"$f":"IFERROR(IF(INDIRECT($A$14&ROW())<>\"\",COUNTIF(Summary!$B$30:$B$1105,INDIRECT($A$14&ROW())),\"\"),\"\")","v":""}]
[{"$f":"IFERROR(IF(INDIRECT($A$14&ROW())<>\"\",COUNTIF(Summary!$B$30:$B$1105,INDIRECT($A$14&ROW())),\"\"),\"\")","v":""}]
[{"$f":"IFERROR(IF(INDIRECT($A$14&ROW())<>\"\",COUNTIF(Summary!$B$30:$B$1105,INDIRECT($A$14&ROW())),\"\"),\"\")","v":""}]
[{"$f":"IFERROR(IF(INDIRECT($A$14&ROW())<>\"\",COUNTIF(Summary!$B$30:$B$1105,INDIRECT($A$14&ROW())),\"\"),\"\")","v":""}]
[{"$f":"IFERROR(IF(INDIRECT($A$14&ROW())<>\"\",COUNTIF(Summary!$B$30:$B$1105,INDIRECT($A$14&ROW())),\"\"),\"\")","v":""}]
[{"$f":"IFERROR(IF(INDIRECT($A$14&ROW())<>\"\",COUNTIF(Summary!$B$30:$B$1105,INDIRECT($A$14&ROW())),\"\"),\"\")","v":""}]
[{"$f":"IFERROR(IF(INDIRECT($A$14&ROW())<>\"\",COUNTIF(Summary!$B$30:$B$1105,INDIRECT($A$14&ROW())),\"\"),\"\")","v":""}]
[{"$f":"IFERROR(IF(INDIRECT($A$14&ROW())<>\"\",COUNTIF(Summary!$B$30:$B$1105,INDIRECT($A$14&ROW())),\"\"),\"\")","v":""}]
[{"$f":"IFERROR(IF(INDIRECT($A$14&ROW())<>\"\",COUNTIF(Summary!$B$30:$B$1105,INDIRECT($A$14&ROW())),\"\"),\"\")","v":""}]
[{"$f":"IFERROR(IF(INDIRECT($A$14&ROW())<>\"\",COUNTIF(Summary!$B$30:$B$1105,INDIRECT($A$14&ROW())),\"\"),\"\")","v":""}]
[{"$f":"IFERROR(IF(INDIRECT($A$14&ROW())<>\"\",COUNTIF(Summary!$B$30:$B$1105,INDIRECT($A$14&ROW())),\"\"),\"\")","v":""}]
[{"$f":"IFERROR(IF(INDIRECT($A$14&ROW())<>\"\",COUNTIF(Summary!$B$30:$B$1105,INDIRECT($A$14&ROW())),\"\"),\"\")","v":""}]
[{"$f":"IFERROR(IF(INDIRECT($A$14&ROW())<>\"\",COUNTIF(Summary!$B$30:$B$1105,INDIRECT($A$14&ROW())),\"\"),\"\")","v":""}]
[{"$f":"IFERROR(IF(INDIRECT($A$14&ROW())<>\"\",COUNTIF(Summary!$B$30:$B$1105,INDIRECT($A$14&ROW())),\"\"),\"\")","v":""}]
[{"$f":"IFERROR(IF(INDIRECT($A$14&ROW())<>\"\",COUNTIF(Summary!$B$30:$B$1105,INDIRECT($A$14&ROW())),\"\"),\"\")","v":""}]
[{"$f":"IFERROR(IF(INDIRECT($A$14&ROW())<>\"\",COUNTIF(Summary!$B$30:$B$1105,INDIRECT($A$14&ROW())),\"\"),\"\")","v":""}]
[{"$f":"IFERROR(IF(INDIRECT($A$14&ROW())<>\"\",COUNTIF(Summary!$B$30:$B$1105,INDIRECT($A$14&ROW())),\"\"),\"\")","v":""}]
[{"$f":"IFERROR(IF(INDIRECT($A$14&ROW())<>\"\",COUNTIF(Summary!$B$30:$B$1105,INDIRECT($A$14&ROW())),\"\"),\"\")","v":""}]
[{"$f":"IFERROR(IF(INDIRECT($A$14&ROW())<>\"\",COUNTIF(Summary!$B$30:$B$1105,INDIRECT($A$14&ROW())),\"\"),\"\")","v":""}]
[{"$f":"IFERROR(IF(INDIRECT($A$14&ROW())<>\"\",COUNTIF(Summary!$B$30:$B$1105,INDIRECT($A$14&ROW())),\"\"),\"\")","v":""}]
[{"$f":"IFERROR(IF(INDIRECT($A$14&ROW())<>\"\",COUNTIF(Summary!$B$30:$B$1105,INDIRECT($A$14&ROW())),\"\"),\"\")","v":""}]
[{"$f":"IFERROR(IF(INDIRECT($A$14&ROW())<>\"\",COUNTIF(Summary!$B$30:$B$1105,INDIRECT($A$14&ROW())),\"\"),\"\")","v":""}]
[{"$f":"IFERROR(IF(INDIRECT($A$14&ROW())<>\"\",COUNTIF(Summary!$B$30:$B$1105,INDIRECT($A$14&ROW())),\"\"),\"\")","v":""}]
[{"$f":"IFERROR(IF(INDIRECT($A$14&ROW())<>\"\",COUNTIF(Summary!$B$30:$B$1105,INDIRECT($A$14&ROW())),\"\"),\"\")","v":""}]
[{"$f":"IFERROR(IF(INDIRECT($A$14&ROW())<>\"\",COUNTIF(Summary!$B$30:$B$1105,INDIRECT($A$14&ROW())),\"\"),\"\")","v":""}]
[{"$f":"IFERROR(IF(INDIRECT($A$14&ROW())<>\"\",COUNTIF(Summary!$B$30:$B$1105,INDIRECT($A$14&ROW())),\"\"),\"\")","v":""}]
[{"$f":"IFERROR(IF(INDIRECT($A$14&ROW())<>\"\",COUNTIF(Summary!$B$30:$B$1105,INDIRECT($A$14&ROW())),\"\"),\"\")","v":""}]
[{"$f":"IFERROR(IF(INDIRECT($A$14&ROW())<>\"\",COUNTIF(Summary!$B$30:$B$1105,INDIRECT($A$14&ROW())),\"\"),\"\")","v":""}]
[{"$f":"IFERROR(IF(INDIRECT($A$14&ROW())<>\"\",COUNTIF(Summary!$B$30:$B$1105,INDIRECT($A$14&ROW())),\"\"),\"\")","v":""}]
[{"$f":"IFERROR(IF(INDIRECT($A$14&ROW())<>\"\",COUNTIF(Summary!$B$30:$B$1105,INDIRECT($A$14&ROW())),\"\"),\"\")","v":""}]
[{"$f":"IFERROR(IF(INDIRECT($A$14&ROW())<>\"\",COUNTIF(Summary!$B$30:$B$1105,INDIRECT($A$14&ROW())),\"\"),\"\")","v":""}]
[{"$f":"IFERROR(IF(INDIRECT($A$14&ROW())<>\"\",COUNTIF(Summary!$B$30:$B$1105,INDIRECT($A$14&ROW())),\"\"),\"\")","v":""}]
[{"$f":"IFERROR(IF(INDIRECT($A$14&ROW())<>\"\",COUNTIF(Summary!$B$30:$B$1105,INDIRECT($A$14&ROW())),\"\"),\"\")","v":""}]
[{"$f":"IFERROR(IF(INDIRECT($A$14&ROW())<>\"\",COUNTIF(Summary!$B$30:$B$1105,INDIRECT($A$14&ROW())),\"\"),\"\")","v":""}]
[{"$f":"IFERROR(IF(INDIRECT($A$14&ROW())<>\"\",COUNTIF(Summary!$B$30:$B$1105,INDIRECT($A$14&ROW())),\"\"),\"\")","v":""}]
[{"$f":"IFERROR(IF(INDIRECT($A$14&ROW())<>\"\",COUNTIF(Summary!$B$30:$B$1105,INDIRECT($A$14&ROW())),\"\"),\"\")","v":""}]
[{"$f":"IFERROR(IF(INDIRECT($A$14&ROW())<>\"\",COUNTIF(Summary!$B$30:$B$1105,INDIRECT($A$14&ROW())),\"\"),\"\")","v":""}]
[{"$f":"IFERROR(IF(INDIRECT($A$14&ROW())<>\"\",COUNTIF(Summary!$B$30:$B$1105,INDIRECT($A$14&ROW())),\"\"),\"\")","v":""}]
[{"$f":"IFERROR(IF(INDIRECT($A$14&ROW())<>\"\",COUNTIF(Summary!$B$30:$B$1105,INDIRECT($A$14&ROW())),\"\"),\"\")","v":""}]
[{"$f":"IFERROR(IF(INDIRECT($A$14&ROW())<>\"\",COUNTIF(Summary!$B$30:$B$1105,INDIRECT($A$14&ROW())),\"\"),\"\")","v":""}]
[{"$f":"IFERROR(IF(INDIRECT($A$14&ROW())<>\"\",COUNTIF(Summary!$B$30:$B$1105,INDIRECT($A$14&ROW())),\"\"),\"\")","v":""}]
[{"$f":"IFERROR(IF(INDIRECT($A$14&ROW())<>\"\",COUNTIF(Summary!$B$30:$B$1105,INDIRECT($A$14&ROW())),\"\"),\"\")","v":""}]
[{"$f":"IFERROR(IF(INDIRECT($A$14&ROW())<>\"\",COUNTIF(Summary!$B$30:$B$1105,INDIRECT($A$14&ROW())),\"\"),\"\")","v":""}]
[{"$f":"IFERROR(IF(INDIRECT($A$14&ROW())<>\"\",COUNTIF(Summary!$B$30:$B$1105,INDIRECT($A$14&ROW())),\"\"),\"\")","v":""}]
[{"$f":"IFERROR(IF(INDIRECT($A$14&ROW())<>\"\",COUNTIF(Summary!$B$30:$B$1105,INDIRECT($A$14&ROW())),\"\"),\"\")","v":""}]
[{"$f":"IFERROR(IF(INDIRECT($A$14&ROW())<>\"\",COUNTIF(Summary!$B$30:$B$1105,INDIRECT($A$14&ROW())),\"\"),\"\")","v":""}]
[{"$f":"IFERROR(IF(INDIRECT($A$14&ROW())<>\"\",COUNTIF(Summary!$B$30:$B$1105,INDIRECT($A$14&ROW())),\"\"),\"\")","v":""}]
[{"$f":"IFERROR(IF(INDIRECT($A$14&ROW())<>\"\",COUNTIF(Summary!$B$30:$B$1105,INDIRECT($A$14&ROW())),\"\"),\"\")","v":""}]
[{"$f":"IFERROR(IF(INDIRECT($A$14&ROW())<>\"\",COUNTIF(Summary!$B$30:$B$1105,INDIRECT($A$14&ROW())),\"\"),\"\")","v":""}]
[{"$f":"IFERROR(IF(INDIRECT($A$14&ROW())<>\"\",COUNTIF(Summary!$B$30:$B$1105,INDIRECT($A$14&ROW())),\"\"),\"\")","v":""}]
[{"$f":"IFERROR(IF(INDIRECT($A$14&ROW())<>\"\",COUNTIF(Summary!$B$30:$B$1105,INDIRECT($A$14&ROW())),\"\"),\"\")","v":""}]
[{"$f":"IFERROR(IF(INDIRECT($A$14&ROW())<>\"\",COUNTIF(Summary!$B$30:$B$1105,INDIRECT($A$14&ROW())),\"\"),\"\")","v":""}]
[{"$f":"IFERROR(IF(INDIRECT($A$14&ROW())<>\"\",COUNTIF(Summary!$B$30:$B$1105,INDIRECT($A$14&ROW())),\"\"),\"\")","v":""}]
[{"$f":"IFERROR(IF(INDIRECT($A$14&ROW())<>\"\",COUNTIF(Summary!$B$30:$B$1105,INDIRECT($A$14&ROW())),\"\"),\"\")","v":""}]
[{"$f":"IFERROR(IF(INDIRECT($A$14&ROW())<>\"\",COUNTIF(Summary!$B$30:$B$1105,INDIRECT($A$14&ROW())),\"\"),\"\")","v":""}]
[{"$f":"IFERROR(IF(INDIRECT($A$14&ROW())<>\"\",COUNTIF(Summary!$B$30:$B$1105,INDIRECT($A$14&ROW())),\"\"),\"\")","v":""}]
[{"$f":"IFERROR(IF(INDIRECT($A$14&ROW())<>\"\",COUNTIF(Summary!$B$30:$B$1105,INDIRECT($A$14&ROW())),\"\"),\"\")","v":""}]
[{"$f":"IFERROR(IF(INDIRECT($A$14&ROW())<>\"\",COUNTIF(Summary!$B$30:$B$1105,INDIRECT($A$14&ROW())),\"\"),\"\")","v":""}]
[{"$f":"IFERROR(IF(INDIRECT($A$14&ROW())<>\"\",COUNTIF(Summary!$B$30:$B$1105,INDIRECT($A$14&ROW())),\"\"),\"\")","v":""}]
[{"$f":"IFERROR(IF(INDIRECT($A$14&ROW())<>\"\",COUNTIF(Summary!$B$30:$B$1105,INDIRECT($A$14&ROW())),\"\"),\"\")","v":""}]
[{"$f":"IFERROR(IF(INDIRECT($A$14&ROW())<>\"\",COUNTIF(Summary!$B$30:$B$1105,INDIRECT($A$14&ROW())),\"\"),\"\")","v":""}]
[{"$f":"IFERROR(IF(INDIRECT($A$14&ROW())<>\"\",COUNTIF(Summary!$B$30:$B$1105,INDIRECT($A$14&ROW())),\"\"),\"\")","v":""}]
[{"$f":"IFERROR(IF(INDIRECT($A$14&ROW())<>\"\",COUNTIF(Summary!$B$30:$B$1105,INDIRECT($A$14&ROW())),\"\"),\"\")","v":""}]
[{"$f":"IFERROR(IF(INDIRECT($A$14&ROW())<>\"\",COUNTIF(Summary!$B$30:$B$1105,INDIRECT($A$14&ROW())),\"\"),\"\")","v":""}]
[{"$f":"IFERROR(IF(INDIRECT($A$14&ROW())<>\"\",COUNTIF(Summary!$B$30:$B$1105,INDIRECT($A$14&ROW())),\"\"),\"\")","v":""}]
[{"$f":"IFERROR(IF(INDIRECT($A$14&ROW())<>\"\",COUNTIF(Summary!$B$30:$B$1105,INDIRECT($A$14&ROW())),\"\"),\"\")","v":""}]
[{"$f":"IFERROR(IF(INDIRECT($A$14&ROW())<>\"\",COUNTIF(Summary!$B$30:$B$1105,INDIRECT($A$14&ROW())),\"\"),\"\")","v":""}]
[{"$f":"IFERROR(IF(INDIRECT($A$14&ROW())<>\"\",COUNTIF(Summary!$B$30:$B$1105,INDIRECT($A$14&ROW())),\"\"),\"\")","v":""}]
[{"$f":"IFERROR(IF(INDIRECT($A$14&ROW())<>\"\",COUNTIF(Summary!$B$30:$B$1105,INDIRECT($A$14&ROW())),\"\"),\"\")","v":""}]
[{"$f":"IFERROR(IF(INDIRECT($A$14&ROW())<>\"\",COUNTIF(Summary!$B$30:$B$1105,INDIRECT($A$14&ROW())),\"\"),\"\")","v":""}]
[{"$f":"IFERROR(IF(INDIRECT($A$14&ROW())<>\"\",COUNTIF(Summary!$B$30:$B$1105,INDIRECT($A$14&ROW())),\"\"),\"\")","v":""}]
[{"$f":"IFERROR(IF(INDIRECT($A$14&ROW())<>\"\",COUNTIF(Summary!$B$30:$B$1105,INDIRECT($A$14&ROW())),\"\"),\"\")","v":""}]
[{"$f":"IFERROR(IF(INDIRECT($A$14&ROW())<>\"\",COUNTIF(Summary!$B$30:$B$1105,INDIRECT($A$14&ROW())),\"\"),\"\")","v":""}]
[{"$f":"IFERROR(IF(INDIRECT($A$14&ROW())<>\"\",COUNTIF(Summary!$B$30:$B$1105,INDIRECT($A$14&ROW())),\"\"),\"\")","v":""}]
[{"$f":"IFERROR(IF(INDIRECT($A$14&ROW())<>\"\",COUNTIF(Summary!$B$30:$B$1105,INDIRECT($A$14&ROW())),\"\"),\"\")","v":""}]
[{"$f":"IFERROR(IF(INDIRECT($A$14&ROW())<>\"\",COUNTIF(Summary!$B$30:$B$1105,INDIRECT($A$14&ROW())),\"\"),\"\")","v":""}]
[{"$f":"IFERROR(IF(INDIRECT($A$14&ROW())<>\"\",COUNTIF(Summary!$B$30:$B$1105,INDIRECT($A$14&ROW())),\"\"),\"\")","v":""}]
[{"$f":"IFERROR(IF(INDIRECT($A$14&ROW())<>\"\",COUNTIF(Summary!$B$30:$B$1105,INDIRECT($A$14&ROW())),\"\"),\"\")","v":""}]
[{"$f":"IFERROR(IF(INDIRECT($A$14&ROW())<>\"\",COUNTIF(Summary!$B$30:$B$1105,INDIRECT($A$14&ROW())),\"\"),\"\")","v":""}]
[{"$f":"IFERROR(IF(INDIRECT($A$14&ROW())<>\"\",COUNTIF(Summary!$B$30:$B$1105,INDIRECT($A$14&ROW())),\"\"),\"\")","v":""}]
[{"$f":"IFERROR(IF(INDIRECT($A$14&ROW())<>\"\",COUNTIF(Summary!$B$30:$B$1105,INDIRECT($A$14&ROW())),\"\"),\"\")","v":""}]
[{"$f":"IFERROR(IF(INDIRECT($A$14&ROW())<>\"\",COUNTIF(Summary!$B$30:$B$1105,INDIRECT($A$14&ROW())),\"\"),\"\")","v":""}]
[{"$f":"IFERROR(IF(INDIRECT($A$14&ROW())<>\"\",COUNTIF(Summary!$B$30:$B$1105,INDIRECT($A$14&ROW())),\"\"),\"\")","v":""}]
[{"$f":"IFERROR(IF(INDIRECT($A$14&ROW())<>\"\",COUNTIF(Summary!$B$30:$B$1105,INDIRECT($A$14&ROW())),\"\"),\"\")","v":""}]
[{"$f":"IFERROR(IF(INDIRECT($A$14&ROW())<>\"\",COUNTIF(Summary!$B$30:$B$1105,INDIRECT($A$14&ROW())),\"\"),\"\")","v":""}]
[{"$f":"IFERROR(IF(INDIRECT($A$14&ROW())<>\"\",COUNTIF(Summary!$B$30:$B$1105,INDIRECT($A$14&ROW())),\"\"),\"\")","v":""}]
[{"$f":"IFERROR(IF(INDIRECT($A$14&ROW())<>\"\",COUNTIF(Summary!$B$30:$B$1105,INDIRECT($A$14&ROW())),\"\"),\"\")","v":""}]
[{"$f":"IFERROR(IF(INDIRECT($A$14&ROW())<>\"\",COUNTIF(Summary!$B$30:$B$1105,INDIRECT($A$14&ROW())),\"\"),\"\")","v":""}]
[{"$f":"IFERROR(IF(INDIRECT($A$14&ROW())<>\"\",COUNTIF(Summary!$B$30:$B$1105,INDIRECT($A$14&ROW())),\"\"),\"\")","v":""}]
[{"$f":"IFERROR(IF(INDIRECT($A$14&ROW())<>\"\",COUNTIF(Summary!$B$30:$B$1105,INDIRECT($A$14&ROW())),\"\"),\"\")","v":""}]
[{"$f":"IFERROR(IF(INDIRECT($A$14&ROW())<>\"\",COUNTIF(Summary!$B$30:$B$1105,INDIRECT($A$14&ROW())),\"\"),\"\")","v":""}]
[{"$f":"IFERROR(IF(INDIRECT($A$14&ROW())<>\"\",COUNTIF(Summary!$B$30:$B$1105,INDIRECT($A$14&ROW())),\"\"),\"\")","v":""}]
[{"$f":"IFERROR(IF(INDIRECT($A$14&ROW())<>\"\",COUNTIF(Summary!$B$30:$B$1105,INDIRECT($A$14&ROW())),\"\"),\"\")","v":""}]
[{"$f":"IFERROR(IF(INDIRECT($A$14&ROW())<>\"\",COUNTIF(Summary!$B$30:$B$1105,INDIRECT($A$14&ROW())),\"\"),\"\")","v":""}]
[{"$f":"IFERROR(IF(INDIRECT($A$14&ROW())<>\"\",COUNTIF(Summary!$B$30:$B$1105,INDIRECT($A$14&ROW())),\"\"),\"\")","v":""}]
[{"$f":"IFERROR(IF(INDIRECT($A$14&ROW())<>\"\",COUNTIF(Summary!$B$30:$B$1105,INDIRECT($A$14&ROW())),\"\"),\"\")","v":""}]
[{"$f":"IFERROR(IF(INDIRECT($A$14&ROW())<>\"\",COUNTIF(Summary!$B$30:$B$1105,INDIRECT($A$14&ROW())),\"\"),\"\")","v":""}]
[{"$f":"IFERROR(IF(INDIRECT($A$14&ROW())<>\"\",COUNTIF(Summary!$B$30:$B$1105,INDIRECT($A$14&ROW())),\"\"),\"\")","v":""}]
[{"$f":"IFERROR(IF(INDIRECT($A$14&ROW())<>\"\",COUNTIF(Summary!$B$30:$B$1105,INDIRECT($A$14&ROW())),\"\"),\"\")","v":""}]
[{"$f":"IFERROR(IF(INDIRECT($A$14&ROW())<>\"\",COUNTIF(Summary!$B$30:$B$1105,INDIRECT($A$14&ROW())),\"\"),\"\")","v":""}]
[{"$f":"IFERROR(IF(INDIRECT($A$14&ROW())<>\"\",COUNTIF(Summary!$B$30:$B$1105,INDIRECT($A$14&ROW())),\"\"),\"\")","v":""}]
[{"$f":"IFERROR(IF(INDIRECT($A$14&ROW())<>\"\",COUNTIF(Summary!$B$30:$B$1105,INDIRECT($A$14&ROW())),\"\"),\"\")","v":""}]
[{"$f":"IFERROR(IF(INDIRECT($A$14&ROW())<>\"\",COUNTIF(Summary!$B$30:$B$1105,INDIRECT($A$14&ROW())),\"\"),\"\")","v":""}]
[{"$f":"IFERROR(IF(INDIRECT($A$14&ROW())<>\"\",COUNTIF(Summary!$B$30:$B$1105,INDIRECT($A$14&ROW())),\"\"),\"\")","v":""}]
[{"$f":"IFERROR(IF(INDIRECT($A$14&ROW())<>\"\",COUNTIF(Summary!$B$30:$B$1105,INDIRECT($A$14&ROW())),\"\"),\"\")","v":""}]
[{"$f":"IFERROR(IF(INDIRECT($A$14&ROW())<>\"\",COUNTIF(Summary!$B$30:$B$1105,INDIRECT($A$14&ROW())),\"\"),\"\")","v":""}]
[{"$f":"IFERROR(IF(INDIRECT($A$14&ROW())<>\"\",COUNTIF(Summary!$B$30:$B$1105,INDIRECT($A$14&ROW())),\"\"),\"\")","v":""}]
[{"$f":"IFERROR(IF(INDIRECT($A$14&ROW())<>\"\",COUNTIF(Summary!$B$30:$B$1105,INDIRECT($A$14&ROW())),\"\"),\"\")","v":""}]
[{"$f":"IFERROR(IF(INDIRECT($A$14&ROW())<>\"\",COUNTIF(Summary!$B$30:$B$1105,INDIRECT($A$14&ROW())),\"\"),\"\")","v":""}]
[{"$f":"IFERROR(IF(INDIRECT($A$14&ROW())<>\"\",COUNTIF(Summary!$B$30:$B$1105,INDIRECT($A$14&ROW())),\"\"),\"\")","v":""}]
[{"$f":"IFERROR(IF(INDIRECT($A$14&ROW())<>\"\",COUNTIF(Summary!$B$30:$B$1105,INDIRECT($A$14&ROW())),\"\"),\"\")","v":""}]
[{"$f":"IFERROR(IF(INDIRECT($A$14&ROW())<>\"\",COUNTIF(Summary!$B$30:$B$1105,INDIRECT($A$14&ROW())),\"\"),\"\")","v":""}]
[{"$f":"IFERROR(IF(INDIRECT($A$14&ROW())<>\"\",COUNTIF(Summary!$B$30:$B$1105,INDIRECT($A$14&ROW())),\"\"),\"\")","v":""}]
[{"$f":"IFERROR(IF(INDIRECT($A$14&ROW())<>\"\",COUNTIF(Summary!$B$30:$B$1105,INDIRECT($A$14&ROW())),\"\"),\"\")","v":""}]
[{"$f":"IFERROR(IF(INDIRECT($A$14&ROW())<>\"\",COUNTIF(Summary!$B$30:$B$1105,INDIRECT($A$14&ROW())),\"\"),\"\")","v":""}]
[{"$f":"IFERROR(IF(INDIRECT($A$14&ROW())<>\"\",COUNTIF(Summary!$B$30:$B$1105,INDIRECT($A$14&ROW())),\"\"),\"\")","v":""}]
[{"$f":"IFERROR(IF(INDIRECT($A$14&ROW())<>\"\",COUNTIF(Summary!$B$30:$B$1105,INDIRECT($A$14&ROW())),\"\"),\"\")","v":""}]
[{"$f":"IFERROR(IF(INDIRECT($A$14&ROW())<>\"\",COUNTIF(Summary!$B$30:$B$1105,INDIRECT($A$14&ROW())),\"\"),\"\")","v":""}]
[{"$f":"IFERROR(IF(INDIRECT($A$14&ROW())<>\"\",COUNTIF(Summary!$B$30:$B$1105,INDIRECT($A$14&ROW())),\"\"),\"\")","v":""}]
[{"$f":"IFERROR(IF(INDIRECT($A$14&ROW())<>\"\",COUNTIF(Summary!$B$30:$B$1105,INDIRECT($A$14&ROW())),\"\"),\"\")","v":""}]
[{"$f":"IFERROR(IF(INDIRECT($A$14&ROW())<>\"\",COUNTIF(Summary!$B$30:$B$1105,INDIRECT($A$14&ROW())),\"\"),\"\")","v":""}]
[{"$f":"IFERROR(IF(INDIRECT($A$14&ROW())<>\"\",COUNTIF(Summary!$B$30:$B$1105,INDIRECT($A$14&ROW())),\"\"),\"\")","v":""}]
[{"$f":"IFERROR(IF(INDIRECT($A$14&ROW())<>\"\",COUNTIF(Summary!$B$30:$B$1105,INDIRECT($A$14&ROW())),\"\"),\"\")","v":""}]
[{"$f":"IFERROR(IF(INDIRECT($A$14&ROW())<>\"\",COUNTIF(Summary!$B$30:$B$1105,INDIRECT($A$14&ROW())),\"\"),\"\")","v":""}]
[{"$f":"IFERROR(IF(INDIRECT($A$14&ROW())<>\"\",COUNTIF(Summary!$B$30:$B$1105,INDIRECT($A$14&ROW())),\"\"),\"\")","v":""}]
[{"$f":"IFERROR(IF(INDIRECT($A$14&ROW())<>\"\",COUNTIF(Summary!$B$30:$B$1105,INDIRECT($A$14&ROW())),\"\"),\"\")","v":""}]
[{"$f":"IFERROR(IF(INDIRECT($A$14&ROW())<>\"\",COUNTIF(Summary!$B$30:$B$1105,INDIRECT($A$14&ROW())),\"\"),\"\")","v":""}]
[{"$f":"IFERROR(IF(INDIRECT($A$14&ROW())<>\"\",COUNTIF(Summary!$B$30:$B$1105,INDIRECT($A$14&ROW())),\"\"),\"\")","v":""}]
[{"$f":"IFERROR(IF(INDIRECT($A$14&ROW())<>\"\",COUNTIF(Summary!$B$30:$B$1105,INDIRECT($A$14&ROW())),\"\"),\"\")","v":""}]
[{"$f":"IFERROR(IF(INDIRECT($A$14&ROW())<>\"\",COUNTIF(Summary!$B$30:$B$1105,INDIRECT($A$14&ROW())),\"\"),\"\")","v":""}]
[{"$f":"IFERROR(IF(INDIRECT($A$14&ROW())<>\"\",COUNTIF(Summary!$B$30:$B$1105,INDIRECT($A$14&ROW())),\"\"),\"\")","v":""}]
[{"$f":"IFERROR(IF(INDIRECT($A$14&ROW())<>\"\",COUNTIF(Summary!$B$30:$B$1105,INDIRECT($A$14&ROW())),\"\"),\"\")","v":""}]
[]
[null,"Copyright © 2013 by Oracle Symphony Sdn Bhd"]
[]
[null,null,null,null,null,null,null,null,null,null,null,null,null,null,null,null,null,null,null,null,null,null,null,null,null,null,null,null,null,null,null,null,null,null,null,null,null,null,null,null,null,null,null,null,null,null,null,null,null,null,null,null,"DH16 91116:MGL CHK",1]
[null,null,null,null,null,null,null,null,null,null,null,null,null,null,null,null,null,null,null,null,null,null,null,null,null,null,null,null,null,null,null,null,null,null,null,null,null,null,null,null,null,null,null,null,null,null,null,null,null,null,null,null,"DD02 1202:FREN FRIES",1]
[null,null,null,null,null,null,null,null,null,null,null,null,null,null,null,null,null,null,null,null,null,null,null,null,null,null,null,null,null,null,null,null,null,null,null,null,null,null,null,null,null,null,null,null,null,null,null,null,null,null,null,null,"DD02 1202:FREN FRIES",1]
[null,null,null,null,null,null,null,null,null,null,null,null,null,null,null,null,null,null,null,null,null,null,null,null,null,null,null,null,null,null,null,null,null,null,null,null,null,null,null,null,null,null,null,null,null,null,null,null,null,null,null,null,"DD17 1308 C/CALAMARI",1]
[null,null,null,null,null,null,null,null,null,null,null,null,null,null,null,null,null,null,null,null,null,null,null,null,null,null,null,null,null,null,null,null,null,null,null,null,null,null,null,null,null,null,null,null,null,null,null,null,null,null,null,null,"DD21 1312:Mc HASH BRW",1]
[null,null,null,null,null,null,null,null,null,null,null,null,null,null,null,null,null,null,null,null,null,null,null,null,null,null,null,null,null,null,null,null,null,null,null,null,null,null,null,null,null,null,null,null,null,null,null,null,null,null,null,null,"DI11 91302:NUGGET",1]
[null,null,null,null,null,null,null,null,null,null,null,null,null,null,null,null,null,null,null,null,null,null,null,null,null,null,null,null,null,null,null,null,null,null,null,null,null,null,null,null,null,null,null,null,null,null,null,null,null,null,null,null,"DE02 SET 1390",1]
[null,null,null,null,null,null,null,null,null,null,null,null,null,null,null,null,null,null,null,null,null,null,null,null,null,null,null,null,null,null,null,null,null,null,null,null,null,null,null,null,null,null,null,null,null,null,null,null,null,null,null,null,"DE02 SET 1390",1]
[null,null,null,null,null,null,null,null,null,null,null,null,null,null,null,null,null,null,null,null,null,null,null,null,null,null,null,null,null,null,null,null,null,null,null,null,null,null,null,null,null,null,null,null,null,null,null,null,null,null,null,null,"DE02 SET 1390",1]
[null,null,null,null,null,null,null,null,null,null,null,null,null,null,null,null,null,null,null,null,null,null,null,null,null,null,null,null,null,null,null,null,null,null,null,null,null,null,null,null,null,null,null,null,null,null,null,null,null,null,null,null,"DE01 SET 990",1]
[null,null,null,null,null,null,null,null,null,null,null,null,null,null,null,null,null,null,null,null,null,null,null,null,null,null,null,null,null,null,null,null,null,null,null,null,null,null,null,null,null,null,null,null,null,null,null,null,null,null,null,null,"DE01 SET 990",1]
[null,null,null,null,null,null,null,null,null,null,null,null,null,null,null,null,null,null,null,null,null,null,null,null,null,null,null,null,null,null,null,null,null,null,null,null,null,null,null,null,null,null,null,null,null,null,null,null,null,null,null,null,"DE01 SET 990",1]
[null,null,null,null,null,null,null,null,null,null,null,null,null,null,null,null,null,null,null,null,null,null,null,null,null,null,null,null,null,null,null,null,null,null,null,null,null,null,null,null,null,null,null,null,null,null,null,null,null,null,null,null,"DE01 SET 990",1]
[null,null,null,null,null,null,null,null,null,null,null,null,null,null,null,null,null,null,null,null,null,null,null,null,null,null,null,null,null,null,null,null,null,null,null,null,null,null,null,null,null,null,null,null,null,null,null,null,null,null,null,null,"DF07 ADD SAUCE C.PADI",1]
[null,null,null,null,null,null,null,null,null,null,null,null,null,null,null,null,null,null,null,null,null,null,null,null,null,null,null,null,null,null,null,null,null,null,null,null,null,null,null,null,null,null,null,null,null,null,null,null,null,null,null,null,"DF09 ADD SAUCE MAYO",1]
[null,null,null,null,null,null,null,null,null,null,null,null,null,null,null,null,null,null,null,null,null,null,null,null,null,null,null,null,null,null,null,null,null,null,null,null,null,null,null,null,null,null,null,null,null,null,null,null,null,null,null,null,"DF14 ADD SAUCE TOMATO",1]
[null,null,null,null,null,null,null,null,null,null,null,null,null,null,null,null,null,null,null,null,null,null,null,null,null,null,null,null,null,null,null,null,null,null,null,null,null,null,null,null,null,null,null,null,null,null,null,null,null,null,null,null,"DF14 ADD SAUCE TOMATO",1]
[null,null,null,null,null,null,null,null,null,null,null,null,null,null,null,null,null,null,null,null,null,null,null,null,null,null,null,null,null,null,null,null,null,null,null,null,null,null,null,null,null,null,null,null,null,null,null,null,null,null,null,null,"GA09 LIGHTER",1]
[null,null,null,null,null,null,null,null,null,null,null,null,null,null,null,null,null,null,null,null,null,null,null,null,null,null,null,null,null,null,null,null,null,null,null,null,null,null,null,null,null,null,null,null,null,null,null,null,null,null,null,null,"GC01 CARD NEW",1]
[null,null,null,null,null,null,null,null,null,null,null,null,null,null,null,null,null,null,null,null,null,null,null,null,null,null,null,null,null,null,null,null,null,null,null,null,null,null,null,null,null,null,null,null,null,null,null,null,null,null,null,null,"GC01 CARD NEW",1]
[null,null,null,null,null,null,null,null,null,null,null,null,null,null,null,null,null,null,null,null,null,null,null,null,null,null,null,null,null,null,null,null,null,null,null,null,null,null,null,null,null,null,null,null,null,null,null,null,null,null,null,null,"GC01 CARD NEW",1]
[null,null,null,null,null,null,null,null,null,null,null,null,null,null,null,null,null,null,null,null,null,null,null,null,null,null,null,null,null,null,null,null,null,null,null,null,null,null,null,null,null,null,null,null,null,null,null,null,null,null,null,null,"GD02 MIKE COVER 03",1]
[null,null,null,null,null,null,null,null,null,null,null,null,null,null,null,null,null,null,null,null,null,null,null,null,null,null,null,null,null,null,null,null,null,null,null,null,null,null,null,null,null,null,null,null,null,null,null,null,null,null,null,null,"DL06 3001:9'HAWAIIAN",1]
[null,null,null,null,null,null,null,null,null,null,null,null,null,null,null,null,null,null,null,null,null,null,null,null,null,null,null,null,null,null,null,null,null,null,null,null,null,null,null,null,null,null,null,null,null,null,null,null,null,null,null,null,"DL06 3001:9'HAWAIIAN",1]
[null,null,null,null,null,null,null,null,null,null,null,null,null,null,null,null,null,null,null,null,null,null,null,null,null,null,null,null,null,null,null,null,null,null,null,null,null,null,null,null,null,null,null,null,null,null,null,null,null,null,null,null,"AC33 N : XTD VIP ROOM",1]
[null,null,null,null,null,null,null,null,null,null,null,null,null,null,null,null,null,null,null,null,null,null,null,null,null,null,null,null,null,null,null,null,null,null,null,null,null,null,null,null,null,null,null,null,null,null,null,null,null,null,null,null,"GE07 DUNHILL ICE",1]
[null,null,null,null,null,null,null,null,null,null,null,null,null,null,null,null,null,null,null,null,null,null,null,null,null,null,null,null,null,null,null,null,null,null,null,null,null,null,null,null,null,null,null,null,null,null,null,null,null,null,null,null,"GE02 DUNHILL LITE",1]
[null,null,null,null,null,null,null,null,null,null,null,null,null,null,null,null,null,null,null,null,null,null,null,null,null,null,null,null,null,null,null,null,null,null,null,null,null,null,null,null,null,null,null,null,null,null,null,null,null,null,null,null,"GE04 DUNHILL MT LITE",1]

{"sheet":"STOCK ANALYSIS","index":3,"n_rows":93,"n_cols":20,"rows_kept":93,"cut":false,"hidden":false,"merged":[[17,19,18,19],[71,1,71,4],[78,1,78,4],[6,3,6,4],[9,3,9,4],[42,1,42,2],[31,1,31,2],[61,1,61,2]]}
[]
[]
[null,null,"MONTHLY KITCHEN STOCK SUMMARY "]
[null,null,"每月厨房货物总结表"]
[]
[]
[null,null,"OUTLET KITCHEN ","CCS"]
[null,null,"分行厨房"]
[]
[null,null,"YEAR / MONTH","SEPTEMBER  2013"]
[null,null,"年/月"]
[]
[]
[]
[null,"ITEM","PRODUCT DESCRIPTION","PRICE","UOM","FOR CCS KITCHEN "]
[null,"项目","食材产品","价格","单位","A","B","C","D","E","F","G","H","I","J","K","L","M","M","N"]
[null,null,null,null,null,null,null,null,null,null,null,null,null,"=C+D+E+F+G","=A+B-H",null,"=K-J","=L / J","=UP*L","=L / I"]
[null,null,null,null,null,"OPENING","PURCHASE","USAGE ","USAGE ","USAGE ","CUSTOMER REQUEST /","DISPOSED","USAGE ","TOTAL","BOOKING","STOCK ","DIFF.","DIFF.","LOSS/GAIN","STOCK DIFF OVER USAGE"]
[null,null,null,null,null,"STOCK",null,"IN K LUNCH & K DINNER","IN SIDE ORDER","IN LOK LOK","STAFF MEAL","STOCK","IN LOK LOK","USAGE ","INVENTORY","TAKE "]
[null,null,null,null,null,"上月存货","购买数量","K LUNCH / DINNER  用量","附加菜 用量","渌渌 用量","顾客请求/员工餐","本月抛弃","渌渌用量","总用量","账面存货","本月点货","差异","%差异","盈亏 (RM)"]
[]
["MAIN SAUCE 主要酱料"]
[null,1,"BLACK PEPPER SAUCE",3.88,"KG",3.2,38.299999999999997,{"$f":"SUMIF('SAUCE USAGE'!$J$26:$J$66,C23,'SAUCE USAGE'!$L$26:$L$66)/1000","v":33.119999999999997},{"$f":"SUMIF('SAUCE USAGE'!$J$69:$J$109,C23,'SAUCE USAGE'!$L$69:$L$109)/1000","v":8.3699999999999992},{"$f":"SUMIF('SAUCE USAGE'!$J$110:$J$128,'STOCK ANALYSIS'!C23,'SAUCE USAGE'!$L$110:$L$128)/1000","v":0.99},{"$f":"SUMIF('SAUCE USAGE'!$J$11:$J$24,C23,'SAUCE USAGE'!$L$11:$L$24)/1000","v":0.4},null,null,{"$f":"SUM(H23:M23)","v":42.879999999999995},{"$f":"+F23+G23-N23","v":-1.3799999999999955},{"$f":"SUMIF('CLOSING STOCK'!$B$108:$B$119,'STOCK ANALYSIS'!C23,'CLOSING STOCK'!$L$108:$L$119)","v":3.3},{"$f":"+P23-O23","v":4.6799999999999953},{"$f":"IF(O23=0,\"\",Q23/O23)","v":-3.3913043478260949},{"$f":"+Q23*D23","v":18.158399999999983},{"$f":"+Q23/N23","v":0.10914179104477602}]
[null,2,"BLACK PEPPER SAUCE (UDON)",3.88,"KG",1.9,4.3,{"$f":"SUMIF('SAUCE USAGE'!$J$26:$J$66,C24,'SAUCE USAGE'!$L$26:$L$66)/1000","v":3.43},{"$f":"SUMIF('SAUCE USAGE'!$J$69:$J$109,C24,'SAUCE USAGE'!$L$69:$L$109)/1000","v":1.89},{"$f":"SUMIF('SAUCE USAGE'!$J$110:$J$128,'STOCK ANALYSIS'!C24,'SAUCE USAGE'!$L$110:$L$128)/1000","v":0.35},{"$f":"SUMIF('SAUCE USAGE'!$J$11:$J$24,C24,'SAUCE USAGE'!$L$11:$L$24)/1000","v":0},null,null,{"$f":"SUM(H24:M24)","v":5.67},0.52999999999999936,{"$f":"SUMIF('CLOSING STOCK'!$B$108:$B$119,'STOCK ANALYSIS'!C24,'CLOSING STOCK'!$L$108:$L$119)","v":1.7},{"$f":"+P24-O24","v":1.1700000000000006},2.2075471698113245,{"$f":"+Q24*D24","v":4.5396000000000019},{"$f":"+Q24/N24","v":0.20634920634920645}]
[null,{"$f":"+B24+1","v":3},"BOLOGNESE SAUCE",11.35,"KG",7.9,12,{"$f":"SUMIF('SAUCE USAGE'!$J$26:$J$66,C25,'SAUCE USAGE'!$L$26:$L$66)/1000","v":24},{"$f":"SUMIF('SAUCE USAGE'!$J$69:$J$109,C25,'SAUCE USAGE'!$L$69:$L$109)/1000","v":6.9},{"$f":"SUMIF('SAUCE USAGE'!$J$110:$J$128,'STOCK ANALYSIS'!C25,'SAUCE USAGE'!$L$110:$L$128)/1000","v":0.6},{"$f":"SUMIF('SAUCE USAGE'!$J$11:$J$24,C25,'SAUCE USAGE'!$L$11:$L$24)/1000","v":0.28000000000000003},null,null,31.78,-11.880000000000003,{"$f":"SUMIF('CLOSING STOCK'!$B$108:$B$119,'STOCK ANALYSIS'!C25,'CLOSING STOCK'!$L$108:$L$119)","v":6.5},18.380000000000003,-1.5471380471380469,208.61300000000003,0.57835116425424804]
[null,{"$f":"+B25+1","v":4},"BUTTER CREAM SAUCE",5.9,"KG",0.5,16.812000000000001,{"$f":"SUMIF('SAUCE USAGE'!$J$26:$J$66,C26,'SAUCE USAGE'!$L$26:$L$66)/1000","v":10.5},{"$f":"SUMIF('SAUCE USAGE'!$J$69:$J$109,C26,'SAUCE USAGE'!$L$69:$L$109)/1000","v":9.75},{"$f":"SUMIF('SAUCE USAGE'!$J$110:$J$128,'STOCK ANALYSIS'!C26,'SAUCE USAGE'!$L$110:$L$128)/1000","v":0.45},{"$f":"SUMIF('SAUCE USAGE'!$J$11:$J$24,C26,'SAUCE USAGE'!$L$11:$L$24)/1000","v":0},null,null,20.7,-3.3879999999999981,{"$f":"SUMIF('CLOSING STOCK'!$B$108:$B$119,'STOCK ANALYSIS'!C26,'CLOSING STOCK'!$L$108:$L$119)","v":0.2},{"$f":"+P26-O26","v":3.5879999999999983},{"$f":"IF(O26=0,\"\",Q26/O26)","v":-1.0590318772136955},21.169199999999993,{"$f":"+Q26/N26","v":0.17333333333333326}]
[null,5,"GRAVY SAUCE",3.3,"KG",1.8,12.6,{"$f":"SUMIF('SAUCE USAGE'!$J$26:$J$66,C27,'SAUCE USAGE'!$L$26:$L$66)/1000","v":10.53},{"$f":"SUMIF('SAUCE USAGE'!$J$69:$J$109,C27,'SAUCE USAGE'!$L$69:$L$109)/1000","v":2.0699999999999998},{"$f":"SUMIF('SAUCE USAGE'!$J$110:$J$128,'STOCK ANALYSIS'!C27,'SAUCE USAGE'!$L$110:$L$128)/1000","v":0.99},{"$f":"SUMIF('SAUCE USAGE'!$J$11:$J$24,C27,'SAUCE USAGE'!$L$11:$L$24)/1000","v":0.08},null,null,13.67,0.73000000000000043,{"$f":"SUMIF('CLOSING STOCK'!$B$108:$B$119,'STOCK ANALYSIS'!C27,'CLOSING STOCK'!$L$108:$L$119)","v":2.5},1.7699999999999996,2.4246575342465735,5.8409999999999984,0.12948061448427209]
[null,6,"MARMITE SAUCE ",2,"KG",4.5,16.2,{"$f":"SUMIF('SAUCE USAGE'!$J$26:$J$66,C28,'SAUCE USAGE'!$L$26:$L$66)/1000","v":9.1199999999999992},{"$f":"SUMIF('SAUCE USAGE'!$J$69:$J$109,C28,'SAUCE USAGE'!$L$69:$L$109)/1000","v":5.04},{"$f":"SUMIF('SAUCE USAGE'!$J$110:$J$128,'STOCK ANALYSIS'!C28,'SAUCE USAGE'!$L$110:$L$128)/1000","v":0.32},{"$f":"SUMIF('SAUCE USAGE'!$J$11:$J$24,C28,'SAUCE USAGE'!$L$11:$L$24)/1000","v":0},null,null,14.48,6.2199999999999989,{"$f":"SUMIF('CLOSING STOCK'!$B$108:$B$119,'STOCK ANALYSIS'!C28,'CLOSING STOCK'!$L$108:$L$119)","v":4.4000000000000004},-1.8199999999999985,-0.29260450160771684,-3.639999999999997,-0.12569060773480653]
[null,7,"MUSHROOM SAUCE",6.78,"KG",3.4,43.8,{"$f":"SUMIF('SAUCE USAGE'!$J$26:$J$66,C29,'SAUCE USAGE'!$L$26:$L$66)/1000","v":39.24},{"$f":"SUMIF('SAUCE USAGE'!$J$69:$J$109,C29,'SAUCE USAGE'!$L$69:$L$109)/1000","v":10.35},{"$f":"SUMIF('SAUCE USAGE'!$J$110:$J$128,'STOCK ANALYSIS'!C29,'SAUCE USAGE'!$L$110:$L$128)/1000","v":0.27},{"$f":"SUMIF('SAUCE USAGE'!$J$11:$J$24,C29,'SAUCE USAGE'!$L$11:$L$24)/1000","v":0.4},null,null,50.260000000000005,-3.0600000000000094,{"$f":"SUMIF('CLOSING STOCK'!$B$108:$B$119,'STOCK ANALYSIS'!C29,'CLOSING STOCK'!$L$108:$L$119)","v":3.3},6.3600000000000092,-2.0784313725490162,43.120800000000067,0.12654198169518521]
[null,8,"SAMBAL (FRIED)SAUCE",9.07,"KG",9.1999999999999993,7.9,{"$f":"SUMIF('SAUCE USAGE'!$J$26:$J$66,C30,'SAUCE USAGE'!$L$26:$L$66)/1000","v":3.66},{"$f":"SUMIF('SAUCE USAGE'!$J$69:$J$109,C30,'SAUCE USAGE'!$L$69:$L$109)/1000","v":3.51},{"$f":"SUMIF('SAUCE USAGE'!$J$110:$J$128,'STOCK ANALYSIS'!C30,'SAUCE USAGE'!$L$110:$L$128)/1000","v":0},{"$f":"SUMIF('SAUCE USAGE'!$J$11:$J$24,C30,'SAUCE USAGE'!$L$11:$L$24)/1000","v":0},null,null,7.17,9.9300000000000015,{"$f":"SUMIF('CLOSING STOCK'!$B$108:$B$119,'STOCK ANALYSIS'!C30,'CLOSING STOCK'!$L$108:$L$119)","v":0},-9.9300000000000015,-1,-90.065100000000015,-1.384937238493724]
[null,{"$f":"+B30+1","v":9},"SWEET & SOUR SAUCE",1.88,"KG",5.2,12.6,{"$f":"SUMIF('SAUCE USAGE'!$J$26:$J$66,C31,'SAUCE USAGE'!$L$26:$L$66)/1000","v":9.4},{"$f":"SUMIF('SAUCE USAGE'!$J$69:$J$109,C31,'SAUCE USAGE'!$L$69:$L$109)/1000","v":6.2},{"$f":"SUMIF('SAUCE USAGE'!$J$110:$J$128,'STOCK ANALYSIS'!C31,'SAUCE USAGE'!$L$110:$L$128)/1000","v":2.6},{"$f":"SUMIF('SAUCE USAGE'!$J$11:$J$24,C31,'SAUCE USAGE'!$L$11:$L$24)/1000","v":0},null,null,18.200000000000003,-0.40000000000000213,{"$f":"SUMIF('CLOSING STOCK'!$B$108:$B$119,'STOCK ANALYSIS'!C31,'CLOSING STOCK'!$L$108:$L$119)","v":2.2000000000000002},2.6000000000000023,-6.4999999999999716,4.8880000000000043,0.14285714285714296]
[null,"GRAND TOTAL ",null,null,null,null,null,null,null,null,null,null,null,null,null,null,null,null,{"$f":"SUM(S23:S31)","v":212.62490000000005}]
[]
["MAIN COURSE MATERIAL 主餐食材"]
[null,1,"CHICKEN CHOP (MARINATED)",3.34,"PCS",374,2051,{"$f":"SUMIF('K-LUNCH & K DINNER'!$H$10:$H$55,C35,'K-LUNCH & K DINNER'!$J$10:$J$55)","v":1501.9},{"$f":"SUMIF('SIDE ORDER & FOC'!$Q$11:$Q$204,C35,'SIDE ORDER & FOC'!$S$11:$S$204)","v":492.96000000000004},{"$f":"SUMIF('LOK LOK '!$R$11:$R$30,C35,'LOK LOK '!$T$11:$T$30)","v":52.76},15,null,null,{"$f":"SUM(H35:M35)","v":2062.62},{"$f":"+F35+G35-N35","v":362.38000000000011},{"$f":"SUMIF('CLOSING STOCK'!$B$12:$B$18,'STOCK ANALYSIS'!C35,'CLOSING STOCK'!$L$12:$L$19)","v":357},{"$f":"+P35-O35","v":-5.3800000000001091},{"$f":"IF(O35=0,\"\",Q35/O35)","v":-1.4846293945582283E-2},{"$f":"+Q35*D35","v":-17.969200000000363},-2.6083330909232477E-3]
[]
[null,2,"CHICKEN WING  (MARINATED)",1.17,"PCS",33,419,{"$f":"SUMIF('K-LUNCH & K DINNER'!$H$10:$H$55,C37,'K-LUNCH & K DINNER'!$J$10:$J$55)","v":252},{"$f":"SUMIF('SIDE ORDER & FOC'!$Q$11:$Q$204,C37,'SIDE ORDER & FOC'!$S$11:$S$204)","v":450},{"$f":"SUMIF('LOK LOK '!$R$12:$R$128,C37,'LOK LOK '!$T$11:$T$128)","v":0},null,null,null,{"$f":"SUM(H37:M37)","v":702},{"$f":"+F37+G37-N37","v":-250},{"$f":"SUMIF('CLOSING STOCK'!$B$12:$B$18,'STOCK ANALYSIS'!C37,'CLOSING STOCK'!$L$12:$L$19)","v":9},{"$f":"+P37-O37","v":259},-1.036]
[null,3,"CHICKEN WINGS (NON -MARINATED)",1.17,"PCS",26,311,{"$f":"SUMIF('K-LUNCH & K DINNER'!$H$10:$H$55,C38,'K-LUNCH & K DINNER'!$J$10:$J$55)","v":0},{"$f":"SUMIF('SIDE ORDER & FOC'!$Q$11:$Q$204,C38,'SIDE ORDER & FOC'!$S$11:$S$204)","v":0},{"$f":"SUMIF('LOK LOK '!$R$12:$R$128,C38,'LOK LOK '!$T$11:$T$128)","v":0},null,3,null,{"$f":"SUM(H38:M38)","v":3},{"$f":"+F38+G38-N38","v":334},{"$f":"SUMIF('CLOSING STOCK'!$B$12:$B$18,'STOCK ANALYSIS'!C38,'CLOSING STOCK'!$L$12:$L$19)","v":24},-310,-0.92814371257485029]
[null,null,"CHICKEN WINGS -TOTAL",1.17,"PCS",{"$f":"SUM(F37:F38)","v":59},{"$f":"SUM(G37:G38)","v":730},{"$f":"SUM(H37:H38)","v":252},{"$f":"SUM(I37:I38)","v":450},{"$f":"SUM(J37:J38)","v":0},0,{"$f":"SUM(L37:L38)","v":3},null,{"$f":"SUM(N37:N38)","v":705},84,33,-51,-1.9641437125748502,{"$f":"+Q39*D39","v":-59.669999999999995},-7.2340425531914887E-2]
[]
[null,4,"DORY FISH FILLET ",2.4900000000000002,"PCS",18,359,{"$f":"SUMIF('K-LUNCH & K DINNER'!$H$10:$H$55,C41,'K-LUNCH & K DINNER'!$J$10:$J$55)","v":246},{"$f":"SUMIF('SIDE ORDER & FOC'!$Q$11:$Q$204,C41,'SIDE ORDER & FOC'!$S$11:$S$204)","v":40},{"$f":"SUMIF('LOK LOK '!$R$12:$R$128,C41,'LOK LOK '!$T$11:$T$128)","v":3},16,null,null,{"$f":"SUM(H41:M41)","v":305},{"$f":"+F41+G41-N41","v":72},{"$f":"SUMIF('CLOSING STOCK'!$B$12:$B$20,'STOCK ANALYSIS'!C41,'CLOSING STOCK'!$L$12:$L$20)","v":55},{"$f":"+P41-O41","v":-17},-0.2361111111111111,-42.330000000000005,-5.5737704918032788E-2]
[]
[null,"GRAND TOTAL ",null,null,null,null,null,null,null,null,null,null,null,null,null,null,null,null,{"$f":"SUM(S35:S42)","v":-119.96920000000037}]
[]
["SNACKS MATERIAL   小吃食材"]
[null,5,"MCCAIN ONION RING",0.17,"PCS",565,480,{"$f":"SUMIF('K-LUNCH & K DINNER'!$H$10:$H$55,C46,'K-LUNCH & K DINNER'!$J$10:$J$55)","v":80},{"$f":"SUMIF('SIDE ORDER & FOC'!$Q$11:$Q$204,C46,'SIDE ORDER & FOC'!$S$11:$S$204)","v":240},null,null,null,null,{"$f":"SUM(H46:M46)","v":320},{"$f":"+F46+G46-N46","v":725},{"$f":"SUMIF('CLOSING STOCK'!$B$12:$B$49,'STOCK ANALYSIS'!C46,'CLOSING STOCK'!$L$12:$L$49)","v":761},36,{"$f":"IF(O46=0,\"\",Q46/O46)","v":4.9655172413793101E-2},{"$f":"+Q46*D46","v":6.12},0.1125]
[null,6,"MCCAIN SMILES",0.12,"PCS",603,630,{"$f":"SUMIF('K-LUNCH & K DINNER'!$H$10:$H$55,C47,'K-LUNCH & K DINNER'!$J$10:$J$55)","v":24},{"$f":"SUMIF('SIDE ORDER & FOC'!$Q$11:$Q$204,C47,'SIDE ORDER & FOC'!$S$11:$S$204)","v":118},null,null,null,null,142,{"$f":"+F47+G47-N47","v":1091},{"$f":"SUMIF('CLOSING STOCK'!$B$12:$B$49,'STOCK ANALYSIS'!C47,'CLOSING STOCK'!$L$12:$L$49)","v":972},-119,-0.10907424381301559,{"$f":"+Q47*D47","v":-14.28},-0.8380281690140845]
[null,7,"MCCAIN VERSITOT",0.06,"PCS",565,1320,{"$f":"SUMIF('K-LUNCH & K DINNER'!$H$10:$H$55,C48,'K-LUNCH & K DINNER'!$J$10:$J$55)","v":150},{"$f":"SUMIF('SIDE ORDER & FOC'!$Q$11:$Q$204,C48,'SIDE ORDER & FOC'!$S$11:$S$204)","v":554},null,null,null,null,704,{"$f":"+F48+G48-N48","v":1181},{"$f":"SUMIF('CLOSING STOCK'!$B$12:$B$49,'STOCK ANALYSIS'!C48,'CLOSING STOCK'!$L$12:$L$49)","v":1178},-3,-2.5402201524132089E-3,-0.18,-4.261363636363636E-3]
[null,{"$f":"+B48+1","v":8},"MCCAIN SPIRAL FRIES",7.87,"KG",5.6,10.8,{"$f":"SUMIF('K-LUNCH & K DINNER'!$H$10:$H$55,C49,'K-LUNCH & K DINNER'!$J$10:$J$55)","v":1.1000000000000001},{"$f":"SUMIF('SIDE ORDER & FOC'!$Q$11:$Q$204,C49,'SIDE ORDER & FOC'!$S$11:$S$204)","v":7.18},null,null,null,null,8.2799999999999994,-1.56,{"$f":"SUMIF('CLOSING STOCK'!$B$12:$B$49,'STOCK ANALYSIS'!C49,'CLOSING STOCK'!$L$12:$L$49)","v":6.24},7.8000000000000007,-5,61.38600000000001,0.94202898550724656]
[null,{"$f":"+B49+1","v":9},"CALAMARI RING",0.47,"PCS",72,375,{"$f":"SUMIF('K-LUNCH & K DINNER'!$H$10:$H$55,C50,'K-LUNCH & K DINNER'!$J$10:$J$55)","v":84},{"$f":"SUMIF('SIDE ORDER & FOC'!$Q$11:$Q$204,C50,'SIDE ORDER & FOC'!$S$11:$S$204)","v":231},null,null,null,null,315,{"$f":"+F50+G50-N50","v":132},{"$f":"SUMIF('CLOSING STOCK'!$B$12:$B$49,'STOCK ANALYSIS'!C50,'CLOSING STOCK'!$L$12:$L$49)","v":67},{"$f":"+P50-O50","v":-65},{"$f":"IF(O50=0,\"\",Q50/O50)","v":-0.49242424242424243},-30.549999999999997,-0.20634920634920634]
[null,10,"CHICKEN NUGGET",0.26,"PCS",384,936,{"$f":"SUMIF('K-LUNCH & K DINNER'!$H$10:$H$55,C51,'K-LUNCH & K DINNER'!$J$10:$J$55)","v":248},{"$f":"SUMIF('SIDE ORDER & FOC'!$Q$11:$Q$204,C51,'SIDE ORDER & FOC'!$S$11:$S$204)","v":856},null,null,null,null,1104,216,{"$f":"SUMIF('CLOSING STOCK'!$B$12:$B$49,'STOCK ANALYSIS'!C51,'CLOSING STOCK'!$L$12:$L$49)","v":223},7,3.2407407407407406E-2,1.82,6.3405797101449279E-3]
[null,11,"CHICKEN SAUSAGE ",0.23,"PCS",229,600,{"$f":"SUMIF('K-LUNCH & K DINNER'!$H$10:$H$55,C52,'K-LUNCH & K DINNER'!$J$10:$J$55)","v":111},{"$f":"SUMIF('SIDE ORDER & FOC'!$Q$11:$Q$204,C52,'SIDE ORDER & FOC'!$S$11:$S$204)","v":412.5},null,24,null,null,{"$f":"SUM(H52:M52)","v":547.5},281.5,{"$f":"SUMIF('CLOSING STOCK'!$B$12:$B$49,'STOCK ANALYSIS'!C52,'CLOSING STOCK'!$L$12:$L$49)","v":244},-37.5,-0.13321492007104796,-8.625,-6.8493150684931503E-2]
[null,12,"FISH BALL (BIG)",0.24,"PCS",100,240,{"$f":"SUMIF('K-LUNCH & K DINNER'!$H$10:$H$55,C53,'K-LUNCH & K DINNER'!$J$10:$J$55)","v":36},{"$f":"SUMIF('SIDE ORDER & FOC'!$Q$11:$Q$204,C53,'SIDE ORDER & FOC'!$S$11:$S$204)","v":222},{"$f":"44*3","v":132},null,null,null,{"$f":"SUM(H53:M53)","v":390},-50,{"$f":"SUMIF('CLOSING STOCK'!$B$12:$B$49,'STOCK ANALYSIS'!C53,'CLOSING STOCK'!$L$12:$L$49)","v":43},93,-1.86,22.32,0.23846153846153847]
[null,13,"SALMON BALL",0.27,"PCS",41,90,{"$f":"SUMIF('K-LUNCH & K DINNER'!$H$10:$H$55,C54,'K-LUNCH & K DINNER'!$J$10:$J$55)","v":6},{"$f":"SUMIF('SIDE ORDER & FOC'!$Q$11:$Q$204,C54,'SIDE ORDER & FOC'!$S$11:$S$204)","v":22},{"$f":"31*3","v":93},null,null,null,{"$f":"SUM(H54:M54)","v":121},10,{"$f":"SUMIF('CLOSING STOCK'!$B$12:$B$49,'STOCK ANALYSIS'!C54,'CLOSING STOCK'!$L$12:$L$49)","v":66},56,5.6,15.120000000000001,0.46280991735537191]
[null,14,"SEAFOOD TOFU ",0.33,"PCS",41,165,{"$f":"SUMIF('K-LUNCH & K DINNER'!$H$10:$H$55,C55,'K-LUNCH & K DINNER'!$J$10:$J$55)","v":6},{"$f":"SUMIF('SIDE ORDER & FOC'!$Q$11:$Q$204,C55,'SIDE ORDER & FOC'!$S$11:$S$204)","v":22},{"$f":"56*3","v":168},null,null,null,196,10,69,59,5.9,19.470000000000002,0.30102040816326531]
[null,15,"SOTONG BALL",0.17,"PCS",102,0,{"$f":"SUMIF('K-LUNCH & K DINNER'!$H$10:$H$55,C56,'K-LUNCH & K DINNER'!$J$10:$J$55)","v":6},{"$f":"SUMIF('SIDE ORDER & FOC'!$Q$11:$Q$204,C56,'SIDE ORDER & FOC'!$S$11:$S$204)","v":22},null,null,null,null,28,74,{"$f":"SUMIF('CLOSING STOCK'!$B$12:$B$49,'STOCK ANALYSIS'!C56,'CLOSING STOCK'!$L$12:$L$49)","v":48},-26,-0.35135135135135137,-4.42,-0.9285714285714286]
[null,16,"SPRING ROLL",0.27,"PCS",177,520,{"$f":"SUMIF('K-LUNCH & K DINNER'!$H$10:$H$55,C57,'K-LUNCH & K DINNER'!$J$10:$J$55)","v":24},{"$f":"SUMIF('SIDE ORDER & FOC'!$Q$11:$Q$204,C57,'SIDE ORDER & FOC'!$S$11:$S$204)","v":504},{"$f":"49*2","v":98},null,null,null,626,71,{"$f":"SUMIF('CLOSING STOCK'!$B$12:$B$49,'STOCK ANALYSIS'!C57,'CLOSING STOCK'!$L$12:$L$49)","v":92},21,0.29577464788732394,5.67,3.3546325878594248E-2]
[null,17,"THAI ROLL",0.45,"PCS",197,105,{"$f":"SUMIF('K-LUNCH & K DINNER'!$H$10:$H$55,C58,'K-LUNCH & K DINNER'!$J$10:$J$55)","v":21},{"$f":"SUMIF('SIDE ORDER & FOC'!$Q$11:$Q$204,C58,'SIDE ORDER & FOC'!$S$11:$S$204)","v":84},{"$f":"31*2","v":62},null,null,null,167,135,{"$f":"SUMIF('CLOSING STOCK'!$B$12:$B$49,'STOCK ANALYSIS'!C58,'CLOSING STOCK'!$L$12:$L$49)","v":173},38,0.2814814814814815,17.100000000000001,0.22754491017964071]
[null,18,"6\" PIZZA BASE ",1.25,"PCS",0,0,{"$f":"SUMIF('K-LUNCH & K DINNER'!$H$10:$H$55,C59,'K-LUNCH & K DINNER'!$J$10:$J$55)","v":0},{"$f":"SUMIF('SIDE ORDER & FOC'!$Q$11:$Q$204,C59,'SIDE ORDER & FOC'!$S$11:$S$204)","v":0},null,null,null,null,0,0,{"$f":"SUMIF('CLOSING STOCK'!$B$30:$B$32,'STOCK ANALYSIS'!C59,'CLOSING STOCK'!$L$30:$L$31)","v":0},{"$f":"+P59-O59","v":0},"",0,0]
[null,19,"9\" PIZZA BASE ",2.2999999999999998,"PCS",0,0,{"$f":"SUMIF('K-LUNCH & K DINNER'!$H$10:$H$55,C60,'K-LUNCH & K DINNER'!$J$10:$J$55)","v":0},{"$f":"SUMIF('SIDE ORDER & FOC'!$Q$11:$Q$204,C60,'SIDE ORDER & FOC'!$S$11:$S$204)","v":0},null,null,null,null,0,0,{"$f":"SUMIF('CLOSING STOCK'!$B$30:$B$32,'STOCK ANALYSIS'!C60,'CLOSING STOCK'!$L$30:$L$31)","v":0},0,"",0,0]
[]
[null,"GRAND TOTAL ",null,null,null,null,null,null,null,null,null,null,null,null,null,null,null,null,{"$f":"SUM(S46:S61)","v":90.951000000000022}]
[]
[null,null,"** CLOSING STOCK FOR SNACK FOOD ( NO.12.13.14.16 AND 17 ) EXCLUDE STOCK WHICH KEPT AT LOK LOK BAR "]
[null,null,"** THE PURCHASE QUANTITY OF SNACK FOOD ( NO .12.13.14.16. AND  17 ) HAVE INCLUDED LOK LOK , THEREFORE , WE SHOULD DEDUCT THE QUANTITY WHICH IS TRANSFERRED FOR LOK LOK PRODUCTION "]
[]
[]
[]
[]
[]
[]
[null,"COMPARISON OF TOTAL LOSSES",null,null,null,null,null,null,null,"COMPARISON OF ACTUAL USAGE "]
[null,"NO","CATEGORIES",null,null,"AUG","SEPT","DIFF",null,"NO",null,null,null,null,null,"AUG","SEPT","DIFF"]
[null,null,null,null,null,"PCS","PCS","%",null,null,null,null,null,null,null,"PCS","PCS","%"]
[null,1,"MAIN SAUCE 主要酱料",null,null,517.27079999999978,{"$f":"+S32","v":212.62490000000005},{"$f":"(+G75-F75)/F75","v":-0.58894857393844746},null,1,{"$f":"+C35","v":"CHICKEN CHOP (MARINATED)"},null,null,null,null,2492.1999999999998,{"$f":"+N35","v":2062.62},{"$f":"(+Q75-P75)/P75","v":-0.17236979375652034}]
[null,2,"MAIN COURSE MATERIAL 主餐食材",null,null,-99.372000000000597,{"$f":"+S43","v":-119.96920000000037},0.20727367870224661,null,2,{"$f":"+C39","v":"CHICKEN WINGS -TOTAL"},null,null,null,null,722,{"$f":"+N39","v":705},{"$f":"(+Q76-P76)/P76","v":-2.3545706371191136E-2}]
[null,3,"SNACKS MATERIAL   小吃食材",null,null,7.8691999999999993,{"$f":"+S62","v":90.951000000000022},10.55784577847812,null,3,{"$f":"+C41","v":"DORY FISH FILLET "},null,null,null,null,336,{"$f":"+N41","v":305},-9.2261904761904767E-2]
[null,null,null,null,null,null,null,null,null,4,{"$f":"+C46","v":"MCCAIN ONION RING"},null,null,null,null,536,{"$f":"+N46","v":320},-0.40298507462686567]
[null,"GRAND TOTAL ",null,null,null,{"$f":"SUM(F75:F78)","v":425.76799999999918},{"$f":"SUM(G75:G78)","v":183.60669999999971},null,null,5,{"$f":"+C47","v":"MCCAIN SMILES"},null,null,null,null,336,142,-0.57738095238095233]
[null,null,null,null,null,null,null,null,null,6,"MCCAIN VERSITOT",null,null,null,null,903,704,-0.22037652270210409]
[null,null,null,null,null,null,null,null,null,7,"MCCAIN SPIRAL FRIES",null,null,null,null,1.56,8.2799999999999994,4.3076923076923066]
[null,"COMPARISON OF ACTUAL USAGE  (SAUCE)",null,null,null,null,null,null,null,8,"CALAMARI RING",null,null,null,null,364,315,-0.13461538461538461]
[null,null,null,null,null,null,null,null,null,9,"CHICKEN NUGGET",null,null,null,null,1120,1104,-1.4285714285714285E-2]
[null,"NO","CATEGORIES",null,null,"AUG","SEPT","DIFF",null,10,"CHICKEN SAUSAGE ",null,null,null,null,680,547.5,-0.19485294117647059]
[null,null,null,null,null,"KG","KG","%",null,11,"FISH BALL (BIG)",null,null,null,null,348,390,0.1206896551724138]
[null,1,{"$f":"+C23","v":"BLACK PEPPER SAUCE"},null,null,54.89,{"$f":"+N23","v":42.879999999999995},{"$f":"(+G86-F86)/F86","v":-0.21880123884131908},null,{"$f":"+J85+1","v":12},{"$f":"+C54","v":"SALMON BALL"},null,null,null,null,56,121,1.1607142857142858]
[null,2,{"$f":"+C24","v":"BLACK PEPPER SAUCE (UDON)"},null,null,6.51,{"$f":"+N24","v":5.67},-0.1290322580645161,null,{"$f":"+J86+1","v":13},{"$f":"+C55","v":"SEAFOOD TOFU "},null,null,null,null,56,196,2.5]
[null,3,{"$f":"+C25","v":"BOLOGNESE SAUCE"},null,null,43.489999999999995,{"$f":"+N25","v":31.78},-0.2692573005288571,null,14,"SOTONG BALL",null,null,null,null,56,28,-0.5]
[null,{"$f":"+B88+1","v":4},{"$f":"+C27","v":"GRAVY SAUCE"},null,null,13.5,{"$f":"+N27","v":13.67},{"$f":"(+G89-F89)/F89","v":1.2592592592592588E-2},null,15,"SPRING ROLL",null,null,null,null,512,626,0.22265625]
[null,{"$f":"+B89+1","v":5},"MARMITE SAUCE ",null,null,18.149999999999999,14.48,-0.20220385674931121,null,16,"THAI ROLL",null,null,null,null,189,167,-0.1164021164021164]
[null,6,"MUSHROOM SAUCE",null,null,57.83,50.260000000000005,-0.13090091647933588,null,17,"6\" PIZZA BASE ",null,null,null,null,18,0,0]
[null,7,"SAMBAL (FRIED)SAUCE",null,null,7.4700000000000006,7.17,-4.0160642570281214E-2,null,18,"9\" PIZZA BASE ",null,null,null,null,0,0,0]
[null,8,"SWEET & SOUR SAUCE",null,null,17.2,18.200000000000003,5.8139534883721138E-2]

{"sheet":"CLOSING STOCK","index":4,"n_rows":212,"n_cols":18,"rows_kept":212,"cut":false,"hidden":false,"merged":[[8,11,8,12],[3,1,3,4],[4,1,4,4],[8,5,8,6],[8,7,8,8],[8,9,8,10]]}
[null,"LOUDSPEAKER KARAOKE "]
[null,"MONTHLY KITCHEN  STOCK TAKE "]
[]
[null,"OUTLET : CCS KITCHEN "]
[null,"DATE      : 01.10.2013 (CLOSING STOCK VALUE FOR SEPT)"]
[]
["Price Changed"]
[]
[null,"ITEMS 物品","中文","Packing     包装","U/P","(WHOLE PACK.)",null,"CONVERT",null,"(PARTIAL PACK)",null,"TOTAL ",null,"TOTAL ","完整包装",null,"部分包装"]
[null,null,null,null,"RM","Qty","UOM ",{"$f":"+F10","v":"Qty"},{"$f":"+G10","v":"UOM "},"QTY","UOM","QTY","UOM","RM ","Qty","UOM ","Qty","UOM "]
["FROZEN FOOD 冷冻食品"]
["(A ) MEAT 肉类","CHICKEN CHOP (MARINATED)","鸡扒","1 PKT * 10 PCS",3.34,null,"PKT",10,"PCS",357,"PCS",{"$f":"+J12+(H12*F12)","v":357},"PCS",{"$f":"+L12*E12","v":1192.3799999999999},null,"包",null,"片"]
[null,"CHICKEN CHOP ( ORIGINAL)","鸡扒(未加工）","1 PKT * 1 KG",11.8,null,"PKT",1,"KG",50,"KG",50,"KG ",590,null,"包",null,"片"]
[null,"WHOLE CHICKEN","全鸡","1 PKT * 1 KG",8.4,null,"KG",1,"KG",12.3,"KG",12.3,"KG ",103.32000000000001,null,"公斤",null,"公斤"]
[null,"CHICKEN WING  (MARINATED)","腌制鸡翅膀","1PKT*21 PCS",1.17,null,"PKT",21,"PCS",9,"PCS",9,"PCS",10.53,null,"包",null,"片"]
[null,"CHICKEN WINGS (NON -MARINATED)","未腌制鸡翅膀","PER PCS",1.17,null,"PKT",1,"KG",24,"PCS",{"$f":"+J16+(H16*F16)","v":24},"PCS",{"$f":"+L16*E16","v":28.08}]
[null,"CHICKEN WING ","未腌制鸡翅膀","PER KG ",9.6999999999999993,null,"KG",1,"KG",null,"KG",0,"KG ",0,null,"公斤"]
[null,"MINCED CHICKEN ","鸡肉碎","1PKT * 1 KG",12.5,null,"PKT",1,{"$f":"+G18","v":"PKT"},null,"PKT",0,"PKT",0,null,"包"]
[]
["(B ) SEAFOOD 海鲜类","DORY FISH FILLET ","多利鱼","1 PKT*16PCS",2.4900000000000002,null,"PKT",16,"PCS",55,"PCS",{"$f":"+J20+(H20*F20)","v":55},{"$f":"+K20","v":"PCS"},{"$f":"+L20*E20","v":136.95000000000002},null,"包",null,"片"]
[null,"DORRY FISH FILLET ","多利鱼","1CTN *6PCS",56,4,"CTN",1,"CTN",null,"KG",{"$f":"+J21+(H21*F21)","v":4},"CTN",{"$f":"+L21*E21","v":224},null,"箱",null,"片"]
[null,"TAIL PRAWN 41/50","有尾虾","1PKT*1KG*45PCS",{"$f":"24.5/45","v":0.5444444444444444},4,"PKT",45,"PCS",17,"PCS",{"$f":"+J22+(H22*F22)","v":197},{"$f":"+K22","v":"PCS"},{"$f":"+L22*E22","v":107.25555555555555},null,"包",null,"只"]
[]
["(C ) MC Cain 产品","MCCAIN ONION RING","洋葱圈","1CTN*8PKT*60 PCS * 907 GM",0.17,12,"PKT",60,"PCS",41,"PCS",{"$f":"+J24+(H24*F24)","v":761},"PCS",{"$f":"+L24*E24","v":129.37},null,"包",null,"粒"]
[null,"MCCAIN SMILES","笑脸","1CTN*6PKT*105 PCS * 1.8 KG",0.13,8,"PKT",105,"PCS",132,"PCS",{"$f":"+J25+(H25*F25)","v":972},{"$f":"+I25","v":"PCS"},{"$f":"+L25*E25","v":126.36},null,"包",null,"粒"]
[null,"MCCAIN VERSITOT","粒粒","1CTN*6PKT*220 PCS * 2.27 KG",6.3636363636363602E-2,5,"PKT",220,"PCS",78,"PCS",1178,{"$f":"+I26","v":"PCS"},{"$f":"+L26*E26","v":74.963636363636326},null,"包",null,"粒"]
[null,"MC CAIN SPICY WEDGES POTATO","薯仔角","1PKT * 2.2KG*250 PCS",{"$f":"14.17/250","v":5.6680000000000001E-2},null,"PKT",250,"PCS",null,"PCS",0,{"$f":"+I27","v":"PCS"},{"$f":"+L27*E27","v":0},null,"包",null,"粒"]
[null,"MCCAIN SPIRAL FRIES","卷曲薯条","1CTN*6PKT*1.8 KG",{"$f":"14.17/1.8","v":7.8722222222222218},3,"PKT",1.8,"KG ",0.84,"KG",6.24,{"$f":"+I28","v":"KG "},{"$f":"+L28*E28","v":49.122666666666667},null,"包",null,"公斤"]
[]
["(D ) PIZZA BASE ","6\" PIZZA BASE ","披萨皮6寸","1ctn * 160pcs",1.25,null,"CTN",160,"PCS",null,"PCS",0,"PCS",{"$f":"+L30*E30","v":0},null,"箱",null,"片 "]
[null,"9\" PIZZA BASE ","披萨皮9寸","1ctn * 30pcs",2.2999999999999998,null,"CTN",30,"PCS",null,"PCS",0,"PCS",{"$f":"+L31*E31","v":0},null,"箱",null,"片 "]
[]
[]
["(E  ) FISH /SALMON/SOTONG","SALMON BALL","三文鱼丸","1CTN * 20PKTS *30PCS * 500G",0.27,1,"PKT",30,"PCS",36,"PCS",{"$f":"+J34+(H34*F34)","v":66},{"$f":"+K34","v":"PCS"},{"$f":"+L34*E34","v":17.82},null,"包",null,"粒"]
["         BALL ","SOTONG BALL","苏东丸","1CTN * 20PKTS*50PCS  * 1KG",{"$f":"8.5/50","v":0.17},null,"PKT",50,"PCS",48,"PCS",{"$f":"+J35+(H35*F35)","v":48},{"$f":"+K35","v":"PCS"},{"$f":"+L35*E35","v":8.16},null,"包",null,"粒"]
[null,"FISH BALL (BIG)","大白鱼丸","1CTN * 10PKTS*40PCS * 1KG",0.24,1,"PKT",40,"PCS",3,"PCS",{"$f":"+J36+(H36*F36)","v":43},{"$f":"+K36","v":"PCS"},{"$f":"+L36*E36","v":10.32},null,"包",null,"粒"]
[null,"WHITE FISH BALL - SMALL (CHILLED)","小白鱼丸","1CTN * 20PKTS*100PCS * 1KG",9.5000000000000001E-2,null,"PKT",100,"PCS",null,"PCS",{"$f":"+J37+(H37*F37)","v":0},{"$f":"+K37","v":"PCS"},{"$f":"+L37*E37","v":0},null,"包",null,"粒"]
[]
["(F ) OTHERS 其他"]
[null,"CALAMARI RING","苏东圈","1PKT*300G * 15PCS",0.46666666666666667,4,"PKT",15,"PCS",7,"PCS",{"$f":"+J40+(H40*F40)","v":67},"PCS",{"$f":"+L40*E40","v":31.266666666666666},null,"包",null,"粒"]
[null,"CHICKEN HAM","鸡肉火腿","1CTN * 50PKT*500G*10PCS",0.55000000000000004,2,"PKT",10,"PCS",9,"PCS",29,{"$f":"+K41","v":"PCS"},15.950000000000001,null,"包",null,"条"]
[null,"CHICKEN SAUSAGE ","鸡肉香肠","1CTN *32PKTS * 10PCS",0.23,24,"PKT",10,"PCS",4,"PCS",244,"PCS",56.120000000000005,null,"包",null,"条"]
[null,"SPRING ROLL","春卷","1CTN * 50PKTS *20PCS",0.26500000000000001,3,"PKT",20,"PCS",32,"PCS",92,"PCS",24.380000000000003,null,"包",null,"条"]
[null,"CRAB STICK (FILAMENT STICK)","蟹柳","1CTN * 20PKT*30PCS*1KG",0.28999999999999998,4,"PKT",30,"PCS",11,"PCS",131,"PCS",37.989999999999995,null,"包",null,"条"]
[null,"THAI ROLL","泰式卷","1CTN *50PKTS* 15PCS",0.45,11,"PKT",15,"PCS",8,"PCS",173,"PCS",77.850000000000009,null,"包",null,"个"]
[null,"FISH CAKE -DODO (BIG)","鱼饼","1PKT *1KG*10PCS",0.98,3,"PKT",10,"PCS",7,"PCS",37,"PCS",36.26,null,"包",null,"公斤"]
[null,"FRENCH FRIES CRINCLE CUT ","薯条有牙","1CTN * 10 PKT * 1KG",4.8,3,"PKT",1,"KG",0.2,{"$f":"+I47","v":"KG"},3.2,"KG",15.36,null,"包",null,"个"]
[null,"SEAFOOD TOFU ","海鲜豆腐","1 PKT * 33 PCS",0.33,1,"PKT",33,"PCS",36,"PCS",69,{"$f":"+K48","v":"PCS"},22.77,null,"包",null,"个"]
[null,"CHICKEN NUGGET","天妇罗鸡肉块","1PKT * 36 PCS ",0.26,6,"PKT",36,"PCS",7,"PCS",223,{"$f":"+K49","v":"PCS"},57.980000000000004]
[]
["CHEESE PRODUCTS 芝士产品"]
[null,"CHEESE MOZZARELLA SHREDDED","芝士碎","1PKT * 1 KG",39,9,"PKT",1,"PKT",null,null,{"$f":"+J52+(H52*F52)","v":9},{"$f":"+G52","v":"PKT"},{"$f":"+L52*E52","v":351},null,"包"]
[null,"PAMECAN CHEESE ","芝士粉","1PKT * 1 KG",23,0.5,"PKT",1,{"$f":"+G53","v":"PKT"},null,null,{"$f":"+J53+(H53*F53)","v":0.5},{"$f":"+G53","v":"PKT"},{"$f":"+L53*E53","v":11.5},null,"包"]
[null,"SHREDDED MILD CHEDDAR CHEESE","瑞士乳酪","1PKT*2KG ",11.5,2,"PKT",1,{"$f":"+G54","v":"PKT"},null,null,{"$f":"+J54+(H54*F54)","v":2},{"$f":"+G54","v":"PKT"},{"$f":"+L54*E54","v":23},null,"包"]
[null,"TROPIC CHOICE NACHOS CHEESE DIP","玉米片奶酪","1TUB*3KG",48,null,"TUB",1,{"$f":"+G55","v":"TUB"},null,null,{"$f":"+J55+(H55*F55)","v":0},{"$f":"+G55","v":"TUB"},{"$f":"+L55*E55","v":0},null,"包"]
[]
["NOODLES 面类"]
[null,"KUEY TEOH ","粿条","1PKT * 1KG",1.5,2,"PKT",1,"PKT",null,null,{"$f":"+J58+(+H58*F58)","v":2},"PKT",{"$f":"+L58*E58","v":3},null,"包"]
[null,"MEE KUNING","黄面","1PKT * 1KG",1.7,2,"PKT",1,"PKT",null,null,2,"PKT",3.4,null,"包"]
[null,"NDL SESAME OIL NISSIN                ","出前一丁面","1CTN*12 PKT * 100 GM ",6.666666666666667,41,"PKT",1,"PKT",null,null,41,{"$f":"+G60","v":"PKT"},273.33333333333337,null,"包"]
[null,"RAMEN","日式拉面","1CTN * 12PKT *12PCS",0.9,5,"PKT",12,"PCS",8,{"$f":"+M61","v":"PCS"},68,"PCS",61.2,null,"包"]
[null,"SPAGHETTI","意大利面","1 PKT* 500 GM",2.5,31,"PKT",1,"PKT",null,null,31,{"$f":"+G62","v":"PKT"},77.5,null,"包"]
[null,"UDON NOODLES","乌东面","1 PKT*200 GM",1.1000000000000001,32,"PKT",1,"PKT",null,null,32,{"$f":"+G63","v":"PKT"},35.200000000000003,null,"包"]
[]
["RICE 米"]
[null,"WANGI IMP.THAI - PEARL ","泰国香米","1PKT * 10 KG ",42.95,12,"PKT",1,{"$f":"+I67","v":"PKT "},null,null,{"$f":"+J66+(+H66*F66)","v":12},{"$f":"+G66","v":"PKT"},{"$f":"+L66*E66","v":515.40000000000009},null,"包"]
[null,"RICE  ( RAMBUTAN)","红毛丹米","1PKT * 10 KG ",27.5,3,"PKT",1,"PKT ",null,null,{"$f":"+J67+(+H67*F67)","v":3},"PKT",{"$f":"+L67*E67","v":82.5},null,"包"]
[]
["CONDIMENT 调味料"]
["(A ) Soy  sauce","MCM SAUCE OYSTER                                            ","(美中美)蚝油","1 TUB * 5 KG",10,null,"TUB",1,"TUB",null,null,{"$f":"+J70+(+H70*F70)","v":0},{"$f":"+G70","v":"TUB"},{"$f":"+L70*E70","v":0},null,"瓶 "]
[null,"MCM SAUCE SOY DARK (2)                               ","(美中美)加晒","1 TUB * 5 KG",19.5,1,"TUB",1,"TUB",null,null,1,"TUB",19.5,null,"瓶 "]
[null,"MCM SAUCE SOY LIGHT( 4KG)                            ","(美中美)生抽","1 TUB * 4 KG",7.5,1,"TUB",1,"TUB",null,null,1,"TUB",7.5,null,"瓶 "]
[null,"BENTONG SAUCE SOY LIGHT","文东生抽","1TUB* 1.6 KG",10,null,"TUB",1,"TUB",null,null,0,"TUB",0,null,"瓶 "]
[null,"BENTONG SAUCE SOY LIGHT","文东生抽","1TUB* 1.3 KG",9,1,"TUB",1,"TUB",null,null,1,"TUB",9,null,"瓶 "]
[null,"STH OYSTER SAUCE (TONG)","新泰兴蚝油（桶）","1TONG*5KG",10.5,1,"TONG",1,"TONG",null,null,1,{"$f":"+G75","v":"TONG"},10.5]
[]
["(B) Chilli / Tomato ","KIMBALL CHILI SAUCE(PKT)","(KIMBALL)辣椒酱","1CNT*12PKT*1kg",3.54,17,"PKT",1,{"$f":"+G77","v":"PKT"},null,null,{"$f":"+J77+(+H77*F77)","v":17},{"$f":"+G77","v":"PKT"},{"$f":"+L77*E77","v":60.18},null,"包"]
[null,"KIMBALL TOMATO SAUCE(PKT)","(KIMBALL)蕃茄酱","1CNT*12PKT*1kg",3.7,23,"PKT",1,{"$f":"+G78","v":"PKT"},null,null,{"$f":"+J78+(+H78*F78)","v":23},{"$f":"+G78","v":"PKT"},{"$f":"+L78*E78","v":85.100000000000009},null,"包"]
[null,"KN PRONTO ITALIAN TOMATO SAUCE","(家乐)番茄肉粒酱","1TIN * 2KG",24,null,"TUB",1,{"$f":"+G79","v":"TUB"},null,null,{"$f":"+J79+(+H79*F79)","v":0},{"$f":"+G79","v":"TUB"},{"$f":"+L79*E79","v":0},null,"罐"]
[null,"KIMBALL TOMATO PUREE","(KIMBALL)番茄膏","1CTN *24CAN *430G",3.8,2,"CAN",1,{"$f":"+G80","v":"CAN"},null,null,{"$f":"+J80+(+H80*F80)","v":2},{"$f":"+G80","v":"CAN"},{"$f":"+L80*E80","v":7.6},null,"罐"]
[]
["(C ) Salad Sauce 沙拉酱","LC COLESLAW DRESSING                                   ","沙拉酱","1 CTN*4 TUB *3 LIT ",27.9,null,"TUB",1,{"$f":"+G82","v":"TUB"},null,null,{"$f":"+J82+(+H82*F82)","v":0},{"$f":"+G82","v":"TUB"},{"$f":"+L82*E82","v":0},null,"桶"]
[null,"LC MAYO MAGIC              (PKT)                                     ","蛋黄酱 ( 包）","1 CTN*4 PKT *3 LIT ",18.899999999999999,null,"PKT",1,{"$f":"+G83","v":"PKT"},null,null,{"$f":"+J83+(+H83*F83)","v":0},{"$f":"+G83","v":"PKT"},{"$f":"+L83*E83","v":0},null,"桶"]
[null,"LC TARTAR SAUCE                                              ","鞑靼酱","1 CTN*6 TUB *3 LIT",31.5,2,"TUB",1,{"$f":"+G84","v":"TUB"},null,null,{"$f":"+J84+(+H84*F84)","v":2},{"$f":"+G84","v":"TUB"},{"$f":"+L84*E84","v":63},null,"桶"]
[null,"LC THOUSAND ISLAND DRESSING                       ","千岛酱","1 CTN*6 TUB *2.4 LIT",25.5,3,"TUB",1,{"$f":"+G85","v":"TUB"},null,null,{"$f":"+J85+(+H85*F85)","v":3},{"$f":"+G85","v":"TUB"},{"$f":"+L85*E85","v":76.5},null,"桶"]
[]
["(D) MCM Product","MCM VINEGAR WHITE                                           ","(美中美)白醋","1 TUB * 4000G",6.5,1,"TUB",1,"TUB",null,null,{"$f":"+J87+(+H87*F87)","v":1},{"$f":"+G87","v":"TUB"},{"$f":"+L87*E87","v":6.5},null,"桶"]
[null,"MCM SAUCE SOURPLUM                                    ","(美中美)酸梅酱","1 TUB * 3KG",16.5,1,"TUB",1,"TUB",null,null,{"$f":"+J88+(+H88*F88)","v":1},{"$f":"+G88","v":"TUB"},{"$f":"+L88*E88","v":16.5},null,"桶"]
[null,"MCM TAUCU PASTE                                           ","(美中美)蘑豆酱","1 TUB * 3KG",11.5,1,"TUB",1,"TUB",null,null,{"$f":"+J89+(+H89*F89)","v":1},{"$f":"+G89","v":"TUB"},{"$f":"+L89*E89","v":11.5},null,"桶"]
[]
["(E ) OTHERS 其他","A1 Sauce","A1 汁"," 1BTL * 630ML ",7,null,"BTL",1,{"$f":"+G91","v":"BTL"},null,null,{"$f":"+J91+(+H91*F91)","v":0},"BTL",{"$f":"+L91*E91","v":0},null,"瓶 "]
[null,"DIPPING FOR CHIKEN (TONG)                                ","泰国-点鸡汁","1CTN*3TUB*5KG",37,2,"TUB",1,"TUB",null,null,2,"TUB",74,null,"桶"]
[null,"FISH SAUCE","鱼露","1 BTL * 750 ML ",2.2000000000000002,null,"BTL",1,"BTL",null,null,0,"BTL",0,null,"瓶 "]
[null,"H.P SAUCE","Hp酱","1BTL *220GM",5.5,null,"BTL",1,"BTL",null,null,0,"BTL",0,null,"瓶 "]
[null,"KN BARBEQUE SAUCE","烧烤酱","1TUB * 900G ",25,1,"TUB",1,"TUB",null,null,1,{"$f":"+I95","v":"TUB"},25,null,"瓶 "]
[null,"LKK CHU HOU PASTE                              ","(李)柱侯酱","1 CAN *2.2KG",25.5,null,"CAN",1,"CAN",null,null,0,"CAN",0,null,"桶"]
[null,"MAGGI SEASONING","(美极)调味料","1CTN*6BTL*790ML",17.5,2,"BTL",1,"BTL",null,null,2,"BTL",35,null,"罐"]
[null,"PASTE PRAWN (HK) SALTED","咸虾酱","1CAN * 227 G",4.9000000000000004,4,"CAN",1,"CAN",null,null,4,"CAN",19.600000000000001,null,"罐"]
[null,"RICE WINE    (HAI-O)","白米酒(兴兴发）","1 BTL * 640ML",4.95,2,"BTL",1,"BTL",null,null,2,"BTL",9.9,null,"瓶 "]
[null,"SATAY SAUCE","沙爹酱","1PKT * 1KG",21.5,4,"PKT",1,"PKT",null,null,4,"PKT",86,null,"包"]
[null,"SAUCE LEA & PERRIN (LP)                                     ","LP调味汁","1 BTL *290ML",7.7,1,"BTL",1,"BTL",null,null,1,"BTL ",7.7,null,"瓶 "]
[null,"SAUCE TABASCO","辣酱油","1BTL * 60ml",6.5,1,"BTL ",1,"BTL ",null,null,1,{"$f":"+I102","v":"BTL "},6.5,null,"瓶 "]
[null,"VINEGAR (RED) -ELISEN","大红浙醋","1BTL*640ML",5.2,1,"BTL",1,"BTL",null,null,1,{"$f":"+I103","v":"BTL"},5.2,null,"瓶 "]
[null,"VINEGER GREATWALL","长城淅醋","1BTL * 667ML",3.3,1,"BTL",1,"BTL",null,null,1,{"$f":"+I104","v":"BTL"},3.3,null,"瓶 "]
[null,"WINE HUA TIAO CHEW (A)                                                ","花雕酒(尖塔)","1 BTL * 640ML",4.95,1,"BTL",1,{"$f":"+G105","v":"BTL"},null,null,1,{"$f":"+I105","v":"BTL"},4.95,null,"瓶"]
[]
["PREPARED SAUCE 自制酱料"]
[null,"BLACK PEPPER SAUCE","黑椒酱","TUB*3.7KG",3.02,null,"TUB",3.7,{"$f":"+K108","v":"KG"},3.3,"KG",{"$f":"+J108+(+H108*F108)","v":3.3},{"$f":"+K108","v":"KG"},{"$f":"+L108*E108","v":9.9659999999999993},null,"桶",null,"公斤"]
[null,"BLACK PEPPER SAUCE (UDON)","黑椒酱 (乌冬面）","TUB*4 KG",3.88,null,"TUB",4,{"$f":"+I108","v":"KG"},1.7,"KG",1.7,{"$f":"+K109","v":"KG"},6.5960000000000001,null,"桶",null,"公斤"]
[null,"BOLOGNESE SAUCE","肉酱意粉酱","1 PKT*2KG",11.35,null,"PKT",2,{"$f":"+I109","v":"KG"},6.5,"KG",6.5,"KG",73.774999999999991]
[null,"GRAVY SAUCE","鸡汁","TUB*1.6 KG",3.3,null,"TUB",1.6,"KG",2.5,"KG",2.5,"KG",8.25]
[null,"MARMITE SAUCE ","妈蜜汁","TUB*4.50KG",2,null,"TUB",4.5,"KG",4.4000000000000004,"KG",4.4000000000000004,"KG",8.8000000000000007]
[null,"MUSHROOM SAUCE","蘑菇酱","TUB*3.7 KG",6.78,null,"TUB",3.7,"KG",3.3,"KG",3.3,"KG",22.373999999999999,null,"包",null,"公斤"]
[null,"SAMBAL (NASI LEMAK )","叁巴酱","TUB*6KG",7.39,null,"TUB",6,"KG",8.75,"KG",{"$f":"+J114+(+H114*F114)","v":8.75},{"$f":"+K114","v":"KG"},{"$f":"+L114*E114","v":64.662499999999994},null,"桶",null,"公斤"]
[null,"SWEET & SOUR SAUCE","糖醋酱","TUB*4KG",1.88,null,"TUB",4,"KG",2.2000000000000002,"KG",2.2000000000000002,"KG",4.1360000000000001,null,"桶",null,"公斤"]
[null,"THAI SAUCE","泰式酱","1TUB*7.1 KG",7.1,null,"TUB",7.1,"KG",3.2,"KG",{"$f":"+J116+(+H116*F116)","v":3.2},{"$f":"+K116","v":"KG"},{"$f":"+L116*E116","v":22.72},null,"桶",null,"公斤"]
[null,"BUTTER CREAM SAUCE","奶油酱","1TUB*1.2KG",6.36,null,"TUB",1.2,"KG",0.2,"KG",{"$f":"+J117+(+H117*F117)","v":0.2},{"$f":"+K117","v":"KG"},{"$f":"+L117*E117","v":1.2720000000000002}]
[null,"SAUCE DRY NOODLE","干捞面酱","1TUB*3.6KG",8.9600000000000009,null,"TUB",3.6,"KG",0.8,"KG",{"$f":"+J118+(+H118*F118)","v":0.8},{"$f":"+K118","v":"KG"},{"$f":"+L118*E118","v":7.168000000000001}]
[null,"MIX SEASONING","厨房总味","1TUB*940GM",9.8699999999999992,null,"TUB",0.94,"KG",0.75,"KG",{"$f":"+J119+(+H119*F119)","v":0.75},{"$f":"+K119","v":"KG"},{"$f":"+L119*E119","v":7.4024999999999999}]
[]
["OIL 油"]
[null,"COOKING OIL","食油","1CTN *17PKT * 1KG",2.7,4,"CTN",17,"PKT",3,"PKT",{"$f":"+J122+(+H122*F122)","v":71},"PKT",{"$f":"+L122*E122","v":191.70000000000002},null,"箱",null,"包"]
[null,"OIL CORN DAISY                                                ","包蜀油"," 1TUB *3KG",29.5,1,"TUB",1,{"$f":"+G123","v":"TUB"},null,null,{"$f":"+J123+(+H123*F123)","v":1},{"$f":"+G123","v":"TUB"},{"$f":"+L123*E123","v":29.5},null,"桶"]
[null,"OIL SESAME CY                                   ","麻油(胡泉益)鹿牌","1 TIN * 6KG",43,null,"TIN",1,{"$f":"+G124","v":"TIN"},null,null,{"$f":"+J124+(+H124*F124)","v":0},{"$f":"+G124","v":"TIN"},{"$f":"+L124*E124","v":0},null,"桶"]
[null,"OLIVE OIL","橄榄油","1 BTL * 1 LIT ",20.5,null,"BTL",1,"KG",null,null,{"$f":"+J125+(+H125*F125)","v":0},{"$f":"+G125","v":"BTL"},{"$f":"+L125*E125","v":0},null,"瓶"]
[]
[]
["POWDER 粉类"]
["(A ) KNORR BRAND","KN CHICKEN STOCK                                         ","(家乐)鸡精粉","1ctn*6pkt*1.2kg",17.899999999999999,2,"PKT",1,"PKT",null,null,{"$f":"+J129+(+H129*F129)","v":2},{"$f":"+G129","v":"PKT"},{"$f":"+L129*E129","v":35.799999999999997},null,"包"]
[null,"KN DEMI-GLACE BROWN SAUCE MIX               ","(家乐)黄揭汁粉","1ctn*6pkt*1kg",20.9,4,"PKT",1,"PKT",null,null,{"$f":"+J130+(+H130*F130)","v":4},{"$f":"+G130","v":"PKT"},{"$f":"+L130*E130","v":83.6},null,"包"]
[null,"KN INSTANT CHICKEN GRAVY MIX                 ","(家乐)即溶鸡肉汁","1ctn*6pkt*1kg",23.9,null,"PKT",1,"PKT",null,null,{"$f":"+J131+(+H131*F131)","v":0},{"$f":"+G131","v":"PKT"},{"$f":"+L131*E131","v":0},null,"包"]
[null,"KN TENDERIZER ","（家乐）松肉粉","1btl*453.6gm",6.9,1,"BTL ",1,{"$f":"+G132","v":"BTL "},null,null,{"$f":"+J132+(+H132*F132)","v":1},{"$f":"+G132","v":"BTL "},{"$f":"+L132*E132","v":6.9},null,"罐"]
[null,"KN TEPUNG GORENG AYAM","(家乐)酥炸脆鸡粉","1ctn*12pkt*1kg",12,2,"PKT",1,"PKT",null,null,{"$f":"+J133+(+H133*F133)","v":2},{"$f":"+G133","v":"PKT"},{"$f":"+L133*E133","v":24},null,"包"]
[]
["(B ) FLOUR","FLOUR SUPERIOR (WINDMILL)                              ","风车粉","1pkt*1kg",6.5,1.2,"KG",1,"KG",null,null,{"$f":"+J135+(+H135*F135)","v":1.2},{"$f":"+G135","v":"KG"},{"$f":"+L135*E135","v":7.8},null,"包"]
[null,"FLOUR TAPIOCA                                                      ","薯粉","1pkt*1kg",2.9,9,"PKT",1,"KG",null,null,{"$f":"+J136+(+H136*F136)","v":9},{"$f":"+G136","v":"PKT"},{"$f":"+L136*E136","v":26.099999999999998},null,"包"]
[null,"FLOUR WHEAT (ANCHOR)                                ","面粉","1pkt*1kg",2.7,2,"PKT",1,"KG",null,null,{"$f":"+J137+(+H137*F137)","v":2},{"$f":"+G137","v":"PKT"},{"$f":"+L137*E137","v":5.4},null,"包"]
[null,"FLOUR RICE","粘米粉","1PKT * 500G",1.9,null,"PKT",1,"KG",null,null,{"$f":"+J138+(+H138*F138)","v":0},{"$f":"+G138","v":"PKT"},{"$f":"+L138*E138","v":0},null,"包"]
[]
["(C  ) OTHERS","AJINOMOTO","味精粉","1CTN*20PKT*1KG",9.5,null,"PKT",1,"PKT",null,null,{"$f":"+J140+(+H140*F140)","v":0},"PKT",{"$f":"+L140*E140","v":0},null,"包"]
[null,"CUMIN (JINTAN PUTIH)                   ","小茴粉","1ctn*40pkt*70g",4.5,null,"PKT",1,{"$f":"+G141","v":"PKT"},null,null,0,{"$f":"+G141","v":"PKT"},0,null,"包"]
[null,"DRIED CHILI POWDER","辣椒干粉","1ctn*40pkt*250g",6,0.65,"GM",1,"GM",null,null,0.65,"GM",3.9000000000000004,null,"包"]
[null,"DRIED CHILI POWDER","辣椒干粉","1CTN *40PKT *250G",28,1.2,"KG",1,"KG",null,null,1.2,"KG",33.6]
[null,"PARPIKA ","灯笼椒粉","1pkt*100gm",{"$f":"+[5]Mar!E224","v":5.9},1,"PKT",1,"PKT",null,null,1,"PKT",5.9,null,"包"]
[null,"PEPPER BLACK (CORN WHOLE)                          ","黑胡椒粒","PER KG",4.8,null,"PKT",1,"PKT",null,null,0,"PKT",0,null,"包"]
[null,"POWDER CURRY (BABA)","(BABA)加厘粉","1pkt*250g",8,14,"KG",1,"KG",null,null,14,"KG",112,null,"包"]
[null,"POWDER CURRY WATCH BRAND (ENGLAND)                     ","英式咖哩粉","1ctn*36btl*115g",null,null,null,null,null,null,null,null,null,null,null,"罐"]
[null,"POWDER CUSTARD","鸡仔粉","1pkt*300gm",null,null,null,null,null,null,null,null,null,null,null,"包"]
[null,"POWDER FIVE SPICE              ","五香粉(博安堂)","1pkt*300gm",0.06,null,"PKT",1,"GM",null,{"$f":"+I149","v":"GM"},{"$f":"+J149+(+H149*F149)","v":0},{"$f":"+K149","v":"GM"},{"$f":"+L149*E149","v":0},null,"包"]
[null,"POWDER MUSTARD","黄芥辣粉","1tub*454gm",5.5E-2,null,"PKT",1,"GM",430,"GM",430,"GM",23.65,null,"包"]
[null,"POWDER WHITE PEPPER                                     ","白胡椒粉(平)","1pkt*500gm",6.6000000000000003E-2,null,"PKT",1,"GM",160,"GM",160,"GM",10.56,null,"包"]
[null,"TURMERIC (KUNYIT)                              ","黄姜粉","1pkt*250g",1.4E-2,null,"PKT",1,"GM",300,"GM",300,"GM",4.2,null,"包"]
[null,"TURMERIC (KUNYIT)                              ","黄姜粉","1PKT * 250G",7.0000000000000007E-2,null,"PKT",1,"GM",93,"GM",93,"GM",6.5100000000000007]
[null,"WHITE BREADCRUMB","面包粉","1pkt*1Kkg",4.4999999999999998E-2,null,"PKT",1,"GM",110,"GM",110,"GM",4.95,null,"包"]
[null,null,null,null,15,null,"PKT",1,"KG",0.3,"KG",0.3,"KG",4.5]
["HERBS & SPICES 香料类"]
[null,"BASIL WHOLE","九层塔香草","GRAM ",2.9,7,"CAN",1,{"$f":"+G157","v":"CAN"},null,null,{"$f":"+J157+(+H157*F157)","v":7},{"$f":"+G157","v":"CAN"},{"$f":"+L157*E157","v":20.3},null,"公斤"]
[null,"BAY LEAVES WHOLE","月桂叶","GRAM ",3.8,null,"PKT",1,{"$f":"+G158","v":"PKT"},null,null,0,{"$f":"+G158","v":"PKT"},0,null,"公斤"]
[null,"DING XIANG(CENGKIH)","丁香","GRAM ",2.75,5,"CAN",1,{"$f":"+G159","v":"CAN"},null,null,5,"CAN",13.75,null,"公斤"]
[null,"FUNGUS BLACK                                         ","木耳","GRAM ",12.5,null,"PKT",1,"PKT",null,null,0,"PKT",0,null,"公斤"]
[null,"OREGANO WHOLE","区里卡诺香草","GRAM ",8.5,1,"BTL",1,"BTL",null,null,1,"BTL",8.5,null,"公斤"]
[null,"ROSEMARY WHOLE","迷迭香","GRAM ",8.5,null,"BTL",1,"BTL",null,null,0,"BTL",0,null,"公斤"]
[null,null,null,null,8.8000000000000007,null,"PKT",1,"PKT",null,null,0,"PKT",{"$f":"+L163*E163","v":0}]
["CREAM / MILK / JUICE  忌廉/牛奶/汁",null,null,null,4.25,null,"BTL",1,"BTL",null,null,0,"BTL",0]
[null,"CARNATION MILK","三花生奶","1CTN *48 CAN *400G",null,null,null,null,null,null,null,null,null,null,null,"罐"]
[null,"GREENFIELD FULL CREAM MILK （INDONESIA）","全脂牛奶","1 PKT * 1 LIT",null,null,null,null,null,null,null,null,null,null,null,"包"]
[null,"MILK TEA POT                                                          ","茶壶牛奶","1CTN *48 CAN *505G",0.37,209,"PCS",1,{"$f":"+G167","v":"PCS"},null,null,{"$f":"+J167+(+H167*F167)","v":209},{"$f":"+G167","v":"PCS"},{"$f":"+L167*E167","v":77.33},null,"罐"]
[null,"GREENFIELD UHT WHIPPING CREAM","液体奶油","1PKT * 1 LIT",null,null,null,null,null,null,null,null,null,null,null,"包"]
[null,"LEMON JUICE","柠檬汁","1BTL * 2LIT ",null,null,null,null,null,null,null,null,null,null,null,{"$f":"+P125","v":"瓶"}]
[null,"LIME JUICE","酸柑汁","1BTL * 2LIT ",2.7,3,"PKT",1,{"$f":"+G170","v":"PKT"},null,null,{"$f":"+J170+(+H170*F170)","v":3},{"$f":"+G170","v":"PKT"},{"$f":"+L170*E170","v":8.1000000000000014},null,"瓶"]
[null,"MILK COCONUT (RASAKU)                                    ","椰汁","1PKT * 1 LIT",0.57999999999999996,8,"PKT",1,{"$f":"+G171","v":"PKT"},null,null,{"$f":"+J171+(+H171*F171)","v":8},"PKT",{"$f":"+L171*E171","v":4.6399999999999997},null,"包"]
[null,"ORANGE JUICE","橙汁","1BTL * 2LIT ",null,null,null,null,null,null,null,null,null,null,null,"瓶"]
[]
["EGG 鸡蛋 ",null,null,null,20,1,"KG",1,{"$f":"+G174","v":"KG"},null,null,{"$f":"+J174+(+H174*F174)","v":1},{"$f":"+G174","v":"KG"},{"$f":"+L174*E174","v":20}]
[null,"EGG","鸡蛋","NOS",1.8,2,"CAN",1,{"$f":"+G175","v":"CAN"},null,null,{"$f":"+J175+(+H175*F175)","v":2},{"$f":"+G175","v":"CAN"},{"$f":"+L175*E175","v":3.6},null,"粒"]
[null,null,null,null,2,4,"CAN",1,"CAN",null,null,4,"CAN",8]
["SUGAR / SALT 糖与盐",null,null,null,2,4,"CAN",1,"CAN",null,null,4,"CAN",8]
[null,"SUGER WHITE FINE","幼白糖","1CTN*24PKT*1KG",3.9,1,"CAN",1,"CAN",null,null,1,"CAN",3.9,null,"包"]
[null,"SALT FINE (PKT)                                                       ","幼盐(包)","1CTN*12PKT*450GM",2.2000000000000002,1,"CAN",1,"CAN",null,null,1,"CAN",2.2000000000000002,null,"包"]
[null,null,null,null,24.9,1,"CAN",1,"CAN",null,null,1,"CAN",24.9]
["GROCERIES 杂货",null,null,null,34,null,"TIN",1,"TIN",null,null,0,"TIN",0]
[null,"IKAN BILIS (B)","金钱鱼肉","PER KG",2.4,3,"CAN",1,"CAN",null,null,3,"CAN",7.1999999999999993,null,"罐"]
[null,"BAKED BEAN                                                ","茄汁豆","1CTN*24CAN *425G",2.35,6,"CAN",1,"CAN",null,null,6,"CAN",14.100000000000001,null,"公斤"]
[null,"BEANCURD RED PRESERVED","南乳(罐)","1 CTN *36BTL *250G",14,null,"KG",1,"KG",null,null,0,"KG",0,null,"罐"]
[null,"BEANCURD WHITE PRESERVED                ","大石付乳","1 CTN *36BTL *350G",0,null,"KG",1,"KG",null,null,0,"KG",0,null,"罐"]
[null,"DOU CHU LI ","豆豉粒","1 CAN *500G",0,null,"CTN",1,"CTN",null,null,0,"CTN",0,null,"罐"]
[null,"MALTOSE","麦芽糖","1CAN* 350G",2.9,2,"CAN",1,"CAN",null,null,2,"CAN",5.8,null,"罐"]
[null,"MARMITE","妈蜜汁","1CAN* 470G",45,2,"TUB ",1,"TUB ",null,null,2,"TUB ",90,null,"罐"]
[null,"MASHED POTATO POWDER","薯泥粉","1TIN* 2.2KG",6.5,null,"PKT",1,"PKT",null,null,0,"PKT",0,null,"包"]
[null,"MUSHROOM BUTTON                               ","蘑菇","1CTN*24CAN *425G",2.5,6,"CAN",1,"CAN",null,null,6,"CAN",15,null,"罐"]
[null,"MUSHROOM STRAW ","草菇","1CTN*24CAN *425G",3.5,null,"CAN",1,"CAN",null,null,0,"CAN",0,null,"罐"]
[null,"NUT CANDLENUT (BUAH KERAS)                   ","石古仔","1 PKT * 1KG",9.5,null,"PKT",1,"PKT",null,null,0,"PKT",0,null,"包"]
[null,"NUT GROUND                                                ","花生米","1 PKT * 1KG",24,1.3,"KG",1,{"$f":"+G193","v":"KG"},null,null,{"$f":"+J193+(+H193*F193)","v":1.3},"KG",{"$f":"+L193*E193","v":31.200000000000003},null,"包"]
[null,"PICKLED LETTUCE","罐头菜心","1CTN*48CAN*170G",null,null,null,null,null,null,null,null,null,null,null,"罐"]
[null,"PINEAPPLE (SLICE)","黄梨片","1TIN * 565G",null,null,null,null,null,null,null,null,null,{"$f":"SUM(N12:N194)","v":6496.3338585858592},null,"罐"]
[null,"PLANTA CHEF","白兰她","1TUB*4.8KG",null,null,null,null,null,null,null,null,null,null,null,"桶"]
[null,"PRESERVED VEGETABLE","包装菜蒲碎","1PKT *120G",null,null,null,null,null,null,null,null,null,null,null,"包"]
[null,"SARDINE","沙丁鱼","1CTN*24CAN *425G",13.5,null,"DRUM",1,{"$f":"+G198","v":"DRUM"},null,null,{"$f":"+J198+(+H198*F198)","v":0},{"$f":"+I198","v":"DRUM"},{"$f":"+L198*E198","v":0},null,"罐"]
[null,"SESAME SEED WHITE","白芝麻","1 PKT * 1KG",0.4,191,"PCS",1,{"$f":"+G199","v":"PCS"},null,null,{"$f":"+J199+(+H199*F199)","v":191},"PKT",{"$f":"+L199*E199","v":76.400000000000006},null,"包"]
[null,"SILVER FISH","白饭银鱼","1PKT*50GM",3.5,40,"PKT",1,{"$f":"+G200","v":"PKT"},null,null,{"$f":"+J200+(+H200*F200)","v":40},"PKT",{"$f":"+L200*E200","v":140},null,"包"]
[null,"VE-TSIN POWDER-SMALL","佛手味精","1BTL*94.5G",null,null,null,null,null,null,null,null,null,null,null,"罐 "]
[null,"VG DRIED CHILI                                                      ","辣椒干","1 PKT * 1KG",null,null,null,null,null,null,null,null,null,{"$f":"+N200+N199+N198+N195","v":6712.7338585858588},null,"包"]
[null,"Dried Prawn","虾米","1 PKT * 1KG"]
[]
["G.TOTAL FOR FOOD MATERIAL  "]
[]
["OTHERS 其他"]
[null,"DISHWASHING ","洗碗精","1DRUM*10 LIT",null,null,null,null,null,null,null,null,null,null,null,"桶"]
[null,"LUNCH BOX SET","打包饭盒","PCS"]
[null,"OIL ABSORBING PAPER","吸油纸","1CTN*20PKT"]
[]
["G.TOTAL  ( FOOD MATERIAL + OTHERS)"]

{"sheet":"K-LUNCH & K DINNER","index":5,"n_rows":56,"n_cols":10,"rows_kept":56,"cut":false,"hidden":false,"merged":[[0,0,0,4],[55,0,55,2],[5,8,5,9]]}
["MONTHLY SALES FOOD RECORD ( K LUNCH & K DINNER)"]
[]
["Outlet :","CCS OUTLET"]
["Month :","2013-09-01"]
[]
[null,null,null,"K-LUNCH & K DINNER","TOTAL COST ",null,null,null,"USAGE"]
["NO","MENU ITEM","Cost","Sales",null,null,null,"MATERIAL  USED","PORTION","TOTAL"]
[null,null,"RM","Q","RM",null,null,"Q","Q","Q"]
[]
[1,"DH01 91101:THAI CHK",{"$f":"SUMIF(DATABASE!$B$3:$B$73,'K-LUNCH & K DINNER'!B10,DATABASE!$C$3:$C$73)","v":3.29},{"$f":"VLOOKUP(B10,Summary!$B$30:$AK$475,5,FALSE)","v":64},{"$f":"+D10*C10","v":210.56},null,null,"CHICKEN CHOP (MARINATED)",0.66,{"$f":"+I10*D10","v":42.24}]
[{"$f":"+A10+1","v":2},"DH02 91102:MAMITE CHK",{"$f":"SUMIF(DATABASE!$B$3:$B$73,'K-LUNCH & K DINNER'!B11,DATABASE!$C$3:$C$73)","v":3.02},{"$f":"VLOOKUP(B11,Summary!$B$30:$AK$475,5,FALSE)","v":114},{"$f":"+D11*C11","v":344.28000000000003},null,null,"CHICKEN CHOP (MARINATED)",0.66,75.240000000000009]
[{"$f":"+A11+1","v":3},"DH03 91103:KO PO CHK",{"$f":"SUMIF(DATABASE!$B$3:$B$73,'K-LUNCH & K DINNER'!B12,DATABASE!$C$3:$C$73)","v":3.45},{"$f":"VLOOKUP(B12,Summary!$B$30:$AK$475,5,FALSE)","v":0},0,null,null,"CHICKEN CHOP (MARINATED)",0.66,0]
[4,"DH04 91104:S&S CHK",{"$f":"SUMIF(DATABASE!$B$3:$B$73,'K-LUNCH & K DINNER'!B13,DATABASE!$C$3:$C$73)","v":3.45},{"$f":"VLOOKUP(B13,Summary!$B$30:$AK$475,5,FALSE)","v":47},162.15,null,null,"CHICKEN CHOP (MARINATED)",0.66,31.020000000000003]
[5,"DH05 91105:BUTTER CHK",{"$f":"SUMIF(DATABASE!$B$3:$B$73,'K-LUNCH & K DINNER'!B14,DATABASE!$C$3:$C$73)","v":3.32},{"$f":"VLOOKUP(B14,Summary!$B$30:$AK$475,5,FALSE)","v":140},464.79999999999995,null,null,"CHICKEN CHOP (MARINATED)",0.66,92.4]
[6,"DH06 91106:HK F.RICE",{"$f":"SUMIF(DATABASE!$B$3:$B$73,'K-LUNCH & K DINNER'!B15,DATABASE!$C$3:$C$73)","v":3.16},{"$f":"VLOOKUP(B15,Summary!$B$30:$AK$475,5,FALSE)","v":105},331.8,null,null,null,null,0]
[7,"DH07 91107:SBL F.RICE",{"$f":"SUMIF(DATABASE!$B$3:$B$73,'K-LUNCH & K DINNER'!B16,DATABASE!$C$3:$C$73)","v":2.41},{"$f":"+Summary!F148","v":19},45.790000000000006,null,null,null,null,0]
[8,"DH08 91108:SBL F.MEE",{"$f":"SUMIF(DATABASE!$B$3:$B$73,'K-LUNCH & K DINNER'!B17,DATABASE!$C$3:$C$73)","v":2.8},{"$f":"VLOOKUP(B17,Summary!$B$30:$AK$475,5,FALSE)","v":11},30.799999999999997,null,null,null,null,0]
[9,"DH09 91109:BP UDON",{"$f":"SUMIF(DATABASE!$B$3:$B$73,'K-LUNCH & K DINNER'!B18,DATABASE!$C$3:$C$73)","v":2.08},{"$f":"VLOOKUP(B18,Summary!$B$30:$AK$475,5,FALSE)","v":49},101.92,null,null,null,null,0]
[10,"DH10 91110:NISSIN",{"$f":"SUMIF(DATABASE!$B$3:$B$73,'K-LUNCH & K DINNER'!B19,DATABASE!$C$3:$C$73)","v":2.3199999999999998},{"$f":"VLOOKUP(B19,Summary!$B$30:$AK$475,5,FALSE)","v":34},78.88,null,null,"CHICKEN SAUSAGE ",1.5,51]
[11,"DH11 91111:VEG RICE",{"$f":"SUMIF(DATABASE!$B$3:$B$73,'K-LUNCH & K DINNER'!B20,DATABASE!$C$3:$C$73)","v":1.6},{"$f":"VLOOKUP(B20,Summary!$B$30:$AK$475,5,FALSE)","v":21},33.6,null,null,null,null,0]
[12,"DH12 91112:NASI LEMAK",{"$f":"SUMIF(DATABASE!$B$3:$B$73,'K-LUNCH & K DINNER'!B21,DATABASE!$C$3:$C$73)","v":3.56},{"$f":"VLOOKUP(B21,Summary!$B$30:$AK$475,5,FALSE)","v":0},0,null,null,"CHICKEN WINGS (NON -MARINATED)",1,0]
[13,"DH13 91113:KUEY TEOW",{"$f":"SUMIF(DATABASE!$B$3:$B$73,'K-LUNCH & K DINNER'!B22,DATABASE!$C$3:$C$73)","v":3.16},{"$f":"VLOOKUP(B22,Summary!$B$30:$AK$475,5,FALSE)","v":0},0,null,null,null,null,0]
[14,"DH14 91114:F.BALL MEE",{"$f":"SUMIF(DATABASE!$B$3:$B$73,'K-LUNCH & K DINNER'!B23,DATABASE!$C$3:$C$73)","v":2.59},{"$f":"VLOOKUP(B23,Summary!$B$30:$AK$475,5,FALSE)","v":0},0,null,null,"FISH BALL (SMALL)",5,0]
[15,"DH15 91115:CHK NOODLE",{"$f":"SUMIF(DATABASE!$B$3:$B$73,'K-LUNCH & K DINNER'!B24,DATABASE!$C$3:$C$73)","v":4.71},{"$f":"VLOOKUP(B24,Summary!$B$30:$AK$475,5,FALSE)","v":33},155.43,null,null,"CHICKEN CHOP (MARINATED)",1,33]
[16,"DH16 91116:MGL CHK",{"$f":"SUMIF(DATABASE!$B$3:$B$73,'K-LUNCH & K DINNER'!B25,DATABASE!$C$3:$C$73)","v":3.54},{"$f":"VLOOKUP(B25,Summary!$B$30:$AK$475,5,FALSE)","v":50},177,null,null,"CHICKEN CHOP (MARINATED)",0.66,{"$f":"+I25*D25","v":33}]
[{"$f":"+A25+1","v":17},"DG01 91001:BP CHK CP",{"$f":"SUMIF(DATABASE!$B$3:$B$73,'K-LUNCH & K DINNER'!B26,DATABASE!$C$3:$C$73)","v":4.41},{"$f":"VLOOKUP(B26,Summary!$B$30:$AK$475,5,FALSE)","v":368},{"$f":"+D26*C26","v":1622.88},null,null,"CHICKEN CHOP (MARINATED)",1,368]
[{"$f":"+A26+1","v":18},"DG02 91002:GVY CHK CP",{"$f":"SUMIF(DATABASE!$B$3:$B$73,'K-LUNCH & K DINNER'!B27,DATABASE!$C$3:$C$73)","v":4.43},{"$f":"VLOOKUP(B27,Summary!$B$30:$AK$475,5,FALSE)","v":117},518.30999999999995,null,null,"CHICKEN CHOP (MARINATED)",1,117]
[19,"DG03 91003:MSR CHK CP",{"$f":"SUMIF(DATABASE!$B$3:$B$73,'K-LUNCH & K DINNER'!B28,DATABASE!$C$3:$C$73)","v":4.75},{"$f":"VLOOKUP(B28,Summary!$B$30:$AK$475,5,FALSE)","v":436},2071,null,null,"CHICKEN CHOP (MARINATED)",1,436]
[20,"DG04 91004:CKN MARY",{"$f":"SUMIF(DATABASE!$B$3:$B$73,'K-LUNCH & K DINNER'!B29,DATABASE!$C$3:$C$73)","v":5.98},{"$f":"VLOOKUP(B29,Summary!$B$30:$AK$475,5,FALSE)","v":203},1213.94,null,null,"CHICKEN CHOP (MARINATED)",1,203]
[21,"DG05 91005:FISH&CHIP",{"$f":"SUMIF(DATABASE!$B$3:$B$73,'K-LUNCH & K DINNER'!B30,DATABASE!$C$3:$C$73)","v":4.32},{"$f":"VLOOKUP(B30,Summary!$B$30:$AK$475,5,FALSE)","v":246},1062.72,null,null,"DORY FISH FILLET ",1,246]
[22,"DG06 91006:SPAGHETTI",{"$f":"SUMIF(DATABASE!$B$3:$B$73,'K-LUNCH & K DINNER'!B31,DATABASE!$C$3:$C$73)","v":2.1},{"$f":"VLOOKUP(B31,Summary!$B$30:$AK$475,5,FALSE)","v":160},336]
[23,"DG07 91007:CHK SALAD",{"$f":"SUMIF(DATABASE!$B$3:$B$73,'K-LUNCH & K DINNER'!B32,DATABASE!$C$3:$C$73)","v":4.9400000000000004},{"$f":"VLOOKUP(B32,Summary!$B$30:$AK$475,5,FALSE)","v":71},350.74,null,null,"CHICKEN CHOP (MARINATED)",1,{"$f":"+I32*D32","v":71}]
[24,"DI01 91201:SFD STICK",{"$f":"SUMIF(DATABASE!$B$3:$B$73,'K-LUNCH & K DINNER'!B33,DATABASE!$C$3:$C$73)","v":2},{"$f":"VLOOKUP(B33,Summary!$B$30:$AK$475,5,FALSE)","v":3},6,null,null,"SOTONG BALL",2,{"$f":"+I33*$D$33","v":6}]
[null,null,null,null,null,null,null,"SALMON BALL",2,{"$f":"+I34*$D$33","v":6}]
[null,null,null,null,null,null,null,"SEAFOOD TOFU ",2,{"$f":"+I35*$D$33","v":6}]
[25,"DI02 91202:FREN FRIES",{"$f":"SUMIF(DATABASE!$B$3:$B$73,'K-LUNCH & K DINNER'!B36,DATABASE!$C$3:$C$73)","v":1.76},{"$f":"VLOOKUP(B36,Summary!$B$30:$AK$475,5,FALSE)","v":28},49.28,null,null,null,null,{"$f":"+I36*D36","v":0}]
[26,"DI03 91203:GOLD MROOM",{"$f":"SUMIF(DATABASE!$B$3:$B$73,'K-LUNCH & K DINNER'!B37,DATABASE!$C$3:$C$73)","v":2.15},{"$f":"VLOOKUP(B37,Summary!$B$30:$AK$475,5,FALSE)","v":5},10.75,null,null,null,null,0]
[27,"DI04 91204:FISHBALL",{"$f":"SUMIF(DATABASE!$B$3:$B$73,'K-LUNCH & K DINNER'!B38,DATABASE!$C$3:$C$73)","v":1.56},{"$f":"VLOOKUP(B38,Summary!$B$30:$AK$475,5,FALSE)","v":6},9.36,null,null,"FISH BALL (BIG)",6,{"$f":"+I38*D38","v":36}]
[28,"DI05 91205:RAINBOW RL",{"$f":"SUMIF(DATABASE!$B$3:$B$73,'K-LUNCH & K DINNER'!B39,DATABASE!$C$3:$C$73)","v":2.5},{"$f":"VLOOKUP(B39,Summary!$B$30:$AK$475,5,FALSE)","v":0},0,null,null,"RAINBOW ROLL",1,{"$f":"+I39*D39","v":0}]
[29,"DI06 91206:SPRING RL",{"$f":"SUMIF(DATABASE!$B$3:$B$73,'K-LUNCH & K DINNER'!B40,DATABASE!$C$3:$C$73)","v":2.67},{"$f":"VLOOKUP(B40,Summary!$B$30:$AK$475,5,FALSE)","v":3},8.01,null,null,"SPRING ROLL",8,24]
[30,"DI07 91207:SAUSAGE",{"$f":"SUMIF(DATABASE!$B$3:$B$73,'K-LUNCH & K DINNER'!B41,DATABASE!$C$3:$C$73)","v":1.24},{"$f":"VLOOKUP(B41,Summary!$B$30:$AK$475,5,FALSE)","v":15},18.600000000000001,null,null,"CHICKEN SAUSAGE ",4,{"$f":"+I41*D41","v":60}]
[31,"DI08 91208:HOTDOG BUN",{"$f":"SUMIF(DATABASE!$B$3:$B$73,'K-LUNCH & K DINNER'!B42,DATABASE!$C$3:$C$73)","v":0},{"$f":"VLOOKUP(B42,Summary!$B$30:$AK$475,5,FALSE)","v":0},0,null,null,"HOTDOG",null,0]
[32,"DI09 91209:SFD TOFU",{"$f":"SUMIF(DATABASE!$B$3:$B$73,'K-LUNCH & K DINNER'!B43,DATABASE!$C$3:$C$73)","v":0},{"$f":"VLOOKUP(B43,Summary!$B$30:$AK$475,5,FALSE)","v":0},0,null,null,"SEAFOOD TOFU ",null,0]
[24,"DI10 91301:DUMPLING",{"$f":"SUMIF(DATABASE!$B$3:$B$73,'K-LUNCH & K DINNER'!B44,DATABASE!$C$3:$C$73)","v":4.5},{"$f":"VLOOKUP(B44,Summary!$B$30:$AK$475,5,FALSE)","v":0},0,null,null,"DUMPLING ",6,0]
[25,"DI11 91302:NUGGET",{"$f":"SUMIF(DATABASE!$B$3:$B$73,'K-LUNCH & K DINNER'!B45,DATABASE!$C$3:$C$73)","v":2.4300000000000002},{"$f":"VLOOKUP(B45,Summary!$B$30:$AK$475,5,FALSE)","v":31},75.33,null,null,"CHICKEN NUGGET",8,{"$f":"+I45*D45","v":248}]
[26,"DI12 91303:CHK WING",{"$f":"SUMIF(DATABASE!$B$3:$B$73,'K-LUNCH & K DINNER'!B46,DATABASE!$C$3:$C$73)","v":3.97},{"$f":"VLOOKUP(B46,Summary!$B$30:$AK$475,5,FALSE)","v":54},214.38000000000002,null,null,"CHICKEN WING  (MARINATED)",3,162]
[27,"DI13 91304:IKAN BILIS",{"$f":"SUMIF(DATABASE!$B$3:$B$73,'K-LUNCH & K DINNER'!B47,DATABASE!$C$3:$C$73)","v":2.1800000000000002},{"$f":"VLOOKUP(B47,Summary!$B$30:$AK$475,5,FALSE)","v":2},4.3600000000000003,null,null,null,null,0]
[28,"DI14 91305:THAI RL",{"$f":"SUMIF(DATABASE!$B$3:$B$73,'K-LUNCH & K DINNER'!B48,DATABASE!$C$3:$C$73)","v":3.61},{"$f":"VLOOKUP(B48,Summary!$B$30:$AK$475,5,FALSE)","v":3},10.83,null,null,"THAI ROLL",7,21]
[29,"DI15 91306:SLVR FISH",{"$f":"SUMIF(DATABASE!$B$3:$B$73,'K-LUNCH & K DINNER'!B49,DATABASE!$C$3:$C$73)","v":0},{"$f":"VLOOKUP(B49,Summary!$B$30:$AK$475,5,FALSE)","v":0},0,null,null,null,null,0]
[30,"DI16 91307:D/F C.WING",{"$f":"SUMIF(DATABASE!$B$3:$B$73,'K-LUNCH & K DINNER'!B50,DATABASE!$C$3:$C$73)","v":4.3099999999999996},{"$f":"VLOOKUP(B50,Summary!$B$30:$AK$475,5,FALSE)","v":30},129.29999999999998,null,null,"CHICKEN WING  (MARINATED)",3,90]
[31,"DI17 91308:C/CALAMARI",{"$f":"SUMIF(DATABASE!$B$3:$B$73,'K-LUNCH & K DINNER'!B51,DATABASE!$C$3:$C$73)","v":3.69},{"$f":"VLOOKUP(B51,Summary!$B$30:$AK$475,5,FALSE)","v":12},44.28,null,null,"CALAMARI RING",7,84]
[32,"DI18 91309:Mc O.RINGS",{"$f":"SUMIF(DATABASE!$B$3:$B$73,'K-LUNCH & K DINNER'!B52,DATABASE!$C$3:$C$73)","v":1.72},{"$f":"VLOOKUP(B52,Summary!$B$30:$AK$475,5,FALSE)","v":10},17.2,null,null,"MCCAIN ONION RING",8,{"$f":"+I52*D52","v":80}]
[33,"DI19 91310:McSPIRAL.F",{"$f":"SUMIF(DATABASE!$B$3:$B$73,'K-LUNCH & K DINNER'!B53,DATABASE!$C$3:$C$73)","v":1.72},{"$f":"VLOOKUP(B53,Summary!$B$30:$AK$475,5,FALSE)","v":5},8.6,null,null,"MCCAIN SPIRAL FRIES",0.22,{"$f":"+I53*D53","v":1.1000000000000001}]
[34,"DI20 91311Mc H/SMILES",{"$f":"SUMIF(DATABASE!$B$3:$B$73,'K-LUNCH & K DINNER'!B54,DATABASE!$C$3:$C$73)","v":1.34},{"$f":"VLOOKUP(B54,Summary!$B$30:$AK$475,5,FALSE)","v":3},4.0200000000000005,null,null,"MCCAIN SMILES",8,{"$f":"+I54*D54","v":24}]
[35,"DI21 91312:Mc HASH.B",{"$f":"SUMIF(DATABASE!$B$3:$B$73,'K-LUNCH & K DINNER'!B55,DATABASE!$C$3:$C$73)","v":0.59},{"$f":"VLOOKUP(B55,Summary!$B$30:$AK$475,5,FALSE)","v":10},5.8999999999999995,null,null,"MCCAIN VERSITOT",15,{"$f":"+I55*D55","v":150}]
["Total Sales / COST",null,null,{"$f":"SUM(D10:D55)","v":2508},{"$f":"SUM(E10:E55)","v":9928.8000000000029}]

{"sheet":"LOK LOK ","index":6,"n_rows":130,"n_cols":20,"rows_kept":130,"cut":false,"hidden":false,"merged":[[127,1,127,3],[0,1,0,13],[7,17,7,19],[7,4,7,5],[7,7,7,8],[7,9,7,10],[7,12,7,13],[7,14,7,15],[6,4,6,5],[6,7,6,8],[6,9,6,10],[43,1,43,3]]}
[null,"MONTHLY SALES FOOD RECORD ( LOK LOK BAR COUNTER )"]
[]
[null,{"$f":"+'K-LUNCH & K DINNER'!A3","v":"Outlet :"},{"$f":"+'K-LUNCH & K DINNER'!B3","v":"CCS OUTLET"}]
[null,{"$f":"+'K-LUNCH & K DINNER'!A4","v":"Month :"},{"$f":"+'K-LUNCH & K DINNER'!B4","v":"2013-09-01"}]
[]
[null,"CCS LOK LOK BAR SALES"]
[null,null,null,null,"(A)",null,null,"(B)",null,"(A) - (B)"]
[null,null,null,null,"SIDE ORDER                 (INCLUDING FOC)",null,null,"FOC",null,"SIDE ORDER                        (NETT SALES)",null,null,"SIDE ORDER                        (NETT COST)",null,"FOC (COST)",null,null,"USAGE"]
[null,"NO","MENU ITEM","S/P","Sales","TOTAL",null,"Sales","TOTAL","Sales","TOTAL",null,"COST","TOTAL","COST","TOTAL",null,"MATERIAL ","RECIPE","TOTAL"]
[null,null,null,"RM","Q","RM",null,"Q","RM","Q","RM",null,"RM","RM","RM","RM",null,"Q","Q","Q"]
[null,null,"MAIN COURSE"]
["Grilled Chicken Chop (Black Pepper Sauce)",1,"JK001 LLB BP CHK CHOP",12.9,{"$f":"VLOOKUP(C12,Summary!$B$30:$AK$475,5,FALSE)","v":11},{"$f":"E12*D12","v":141.9},null,null,null,{"$f":"+E12-H12","v":11},{"$f":"+J12*D12","v":141.9},null,{"$f":"SUMIF(DATABASE!$L$3:$L$26,'LOK LOK '!C12,DATABASE!$M$3:$M$26)","v":4.41},{"$f":"+M12*J12","v":48.510000000000005},{"$f":"+M12","v":4.41},{"$f":"+O12*H12","v":0},null,"CHICKEN CHOP (MARINATED)",1,{"$f":"+S12*E12","v":11}]
["Grilled Chicken Chop (Gravy Sauce)",{"$f":"+B12+1","v":2},"JK002 LLB G.S C. CHOP",12.9,{"$f":"VLOOKUP(C13,Summary!$B$30:$AK$475,5,FALSE)","v":2},{"$f":"E13*D13","v":25.8},null,null,null,{"$f":"+E13-H13","v":2},{"$f":"+J13*D13","v":25.8},null,{"$f":"SUMIF(DATABASE!$L$3:$L$26,'LOK LOK '!C13,DATABASE!$M$3:$M$26)","v":4.43},{"$f":"+M13*J13","v":8.86},{"$f":"+M13","v":4.43},{"$f":"+O13*H13","v":0},null,"CHICKEN CHOP (MARINATED)",1,{"$f":"+S13*E13","v":2}]
["Grilled Chicken Chop (Black Pepper Sauce)",3,"JK003 LLB MSR CHK CHOP",12.9,{"$f":"VLOOKUP(C14,Summary!$B$30:$AK$475,5,FALSE)","v":11},141.9,null,null,null,11,141.9,null,{"$f":"SUMIF(DATABASE!$L$3:$L$26,'LOK LOK '!C14,DATABASE!$M$3:$M$26)","v":4.75},52.25,4.75,0,null,"CHICKEN CHOP (MARINATED)",1,11]
["Grilled Chicken Chop (Mushroom Sauce)",4,"JK004 LLB CHK MARRYLAN",12.9,{"$f":"VLOOKUP(C15,Summary!$B$30:$AK$475,5,FALSE)","v":3},38.700000000000003,null,null,null,3,38.700000000000003,null,{"$f":"SUMIF(DATABASE!$L$3:$L$26,'LOK LOK '!C15,DATABASE!$M$3:$M$26)","v":5.98},17.940000000000001,5.98,0,null,"CHICKEN CHOP (MARINATED)",1,3]
["Fish & Chip",5,"JK005 LLB Fish & Chip",12.9,{"$f":"VLOOKUP(C16,Summary!$B$30:$AK$475,5,FALSE)","v":2},25.8,null,null,null,2,25.8,null,{"$f":"SUMIF(DATABASE!$L$3:$L$26,'LOK LOK '!C16,DATABASE!$M$3:$M$26)","v":4.32},8.64,4.32,0,null,"DORY FISH FILLET ",1,2]
["Spaghetti Bolognese (Chicken)",6,"JK006 LLB Spaghetti",12.9,{"$f":"VLOOKUP(C17,Summary!$B$30:$AK$475,5,FALSE)","v":4},51.6,null,null,null,4,51.6,null,{"$f":"SUMIF(DATABASE!$L$3:$L$26,'LOK LOK '!C17,DATABASE!$M$3:$M$26)","v":2.1},8.4,2.1,0]
["Chicken Chop Salad",7,"JK007 LLB CHK .C.SALAD",12.9,{"$f":"VLOOKUP(C18,Summary!$B$30:$AK$475,5,FALSE)","v":2},25.8,null,null,null,2,25.8,null,{"$f":"SUMIF(DATABASE!$L$3:$L$26,'LOK LOK '!C18,DATABASE!$M$3:$M$26)","v":4.9400000000000004},9.8800000000000008,4.9400000000000004,0,null,"CHICKEN CHOP (MARINATED)",1,2]
["Thai Style Chicken Chop With Rice",8,"JK101 LLB Thai Chk Ric",9.9,{"$f":"VLOOKUP(C19,Summary!$B$30:$AK$475,5,FALSE)","v":8},79.2,null,null,null,8,79.2,null,{"$f":"SUMIF(DATABASE!$L$3:$L$26,'LOK LOK '!C19,DATABASE!$M$3:$M$26)","v":3.29},26.32,3.29,0,null,"CHICKEN CHOP (MARINATED)",0.66,5.28]
["Marmite Style Chicken Chop With Rice",9,"JK102 Marmite Chk Rice",9.9,{"$f":"VLOOKUP(C20,Summary!$B$30:$AK$475,5,FALSE)","v":4},39.6,null,null,null,4,39.6,null,{"$f":"SUMIF(DATABASE!$L$3:$L$26,'LOK LOK '!C20,DATABASE!$M$3:$M$26)","v":3.02},12.08,3.02,0,null,"CHICKEN CHOP (MARINATED)",0.66,2.64]
["Sweet & Sour Chicken Chop With Rice",10,"JK104 S&S Chk Rice",9.9,{"$f":"VLOOKUP(C21,Summary!$B$30:$AK$475,5,FALSE)","v":3},29.700000000000003,null,null,null,3,29.700000000000003,null,{"$f":"SUMIF(DATABASE!$L$3:$L$26,'LOK LOK '!C21,DATABASE!$M$3:$M$26)","v":3.45},10.350000000000001,3.45,0,null,"CHICKEN CHOP (MARINATED)",0.66,1.98]
["Butter Cream Chicken Chop With Rice",11,"JK105 B.Cream.Chk Rice",9.9,{"$f":"VLOOKUP(C22,Summary!$B$30:$AK$475,5,FALSE)","v":13},128.70000000000002,null,null,null,13,128.70000000000002,null,{"$f":"SUMIF(DATABASE!$L$3:$L$26,'LOK LOK '!C22,DATABASE!$M$3:$M$26)","v":3.32},43.16,3.32,0,null,"CHICKEN CHOP (MARINATED)",0.66,{"$f":"+S22*E22","v":8.58}]
["Hong Kong Style Fried Rice",12,"JK106 H.K Fried Rice",9.9,{"$f":"VLOOKUP(C23,Summary!$B$30:$AK$475,5,FALSE)","v":6},59.400000000000006,null,null,null,6,59.400000000000006,null,{"$f":"SUMIF(DATABASE!$L$3:$L$26,'LOK LOK '!C23,DATABASE!$M$3:$M$26)","v":3.16},18.96,3.16,0]
["Sambal Fried Rice",13,"JK107 LLBSambal F.Rice",9.9,{"$f":"VLOOKUP(C24,Summary!$B$30:$AK$475,5,FALSE)","v":6},59.400000000000006,null,null,null,6,59.400000000000006,null,{"$f":"SUMIF(DATABASE!$L$3:$L$26,'LOK LOK '!C24,DATABASE!$M$3:$M$26)","v":2.41},14.46,2.41,0]
["Sambal Fried MEE",14,"JK108 LLB S.Fried MEE",9.9,{"$f":"VLOOKUP(C25,Summary!$B$30:$AK$475,5,FALSE)","v":1},9.9,null,null,null,1,9.9,null,{"$f":"SUMIF(DATABASE!$L$3:$L$26,'LOK LOK '!C25,DATABASE!$M$3:$M$26)","v":2.8},2.8,2.8,0]
["Black Pepper Udon Mee",15,"JK109 LLB BP Udon Mee",9.9,{"$f":"VLOOKUP(C26,Summary!$B$30:$AK$475,5,FALSE)","v":5},49.5,null,null,null,5,49.5,null,{"$f":"SUMIF(DATABASE!$L$3:$L$26,'LOK LOK '!C26,DATABASE!$M$3:$M$26)","v":2.08},10.4,2.08,0]
["Nissin Noodle",16,"JK110 LLB Nisin Noodle",9.9,{"$f":"VLOOKUP(C27,Summary!$B$30:$AK$475,5,FALSE)","v":1},9.9,null,null,null,1,9.9,null,{"$f":"SUMIF(DATABASE!$L$3:$L$26,'LOK LOK '!C27,DATABASE!$M$3:$M$26)","v":2.3199999999999998},2.3199999999999998,2.3199999999999998,0,null,"CHICKEN SAUSAGE ",1.5,{"$f":"+S27*E27","v":1.5}]
["Stir Fried Mixed Vegetabes With Rice",17,"JK111 LLB S.M.Ver Rice",9.9,{"$f":"VLOOKUP(C28,Summary!$B$30:$AK$475,5,FALSE)","v":1},9.9,null,null,null,1,9.9,null,{"$f":"SUMIF(DATABASE!$L$3:$L$26,'LOK LOK '!C28,DATABASE!$M$3:$M$26)","v":1.6},1.6,1.6,0]
["Braised Noodle With Chicken Chop",18,"JK115 LLB B.Noodle.Chk",9.9,{"$f":"VLOOKUP(C29,Summary!$B$30:$AK$475,5,FALSE)","v":4},39.6,null,null,null,4,39.6,null,{"$f":"SUMIF(DATABASE!$L$3:$L$26,'LOK LOK '!C29,DATABASE!$M$3:$M$26)","v":4.71},18.84,4.71,0]
["Mongolian Chicken Chop With Rice",19,"JK116 LLB Mon.Chk Rice",9.9,{"$f":"VLOOKUP(C30,Summary!$B$30:$AK$475,5,FALSE)","v":8},79.2,null,null,null,8,79.2,null,{"$f":"SUMIF(DATABASE!$L$3:$L$26,'LOK LOK '!C30,DATABASE!$M$3:$M$26)","v":3.54},28.32,3.54,0,null,"CHICKEN CHOP (MARINATED)",0.66,{"$f":"+S30*E30","v":5.28}]
[]
[null,null,"PIZZA"]
[null,1]
[null,{"$f":"+B33+1","v":2}]
[null,3]
[null,4]
[null,5]
[null,6]
[null,7]
[null,{"$f":"+B39+1","v":8}]
[null,9]
[null,10]
[]
[null,"Total Sales / COST",null,null,{"$f":"SUM(E11:E43)","v":95},{"$f":"SUM(F11:F42)","v":1045.5},null,{"$f":"SUM(H11:H43)","v":0},{"$f":"SUM(I11:I42)","v":0},{"$f":"SUM(J11:J43)","v":95},{"$f":"SUM(K11:K42)","v":1045.5},null,{"$f":"SUM(M11:M43)","v":66.63000000000001},{"$f":"SUM(N11:N42)","v":344.08999999999992},{"$f":"SUM(O11:O43)","v":66.63000000000001},{"$f":"SUM(P11:P42)","v":0}]
[]
[null,null,"LOK LOK "]
["Cocktail Chicken Sausage",1,"JM101 C.Chicken Sausag",1.5,{"$f":"VLOOKUP(C47,Summary!$B$30:$AK$475,5,FALSE)","v":44},{"$f":"E47*D47","v":66},null,null,{"$f":"H47*D47","v":0},{"$f":"+E47-H47","v":44},{"$f":"+J47*D47","v":66},null,{"$f":"SUMIF(DATABASE!$O$3:$O$78,'LOK LOK '!C47,DATABASE!$P$3:$P$77)","v":0.39},{"$f":"+M47*J47","v":17.16},{"$f":"+M47","v":0.39},{"$f":"+O47*H47","v":0},null,"CHICKEN SAUSAGE",3,{"$f":"+S47*E47","v":132}]
["Beef Ball",{"$f":"+B47+1","v":2},"JM102 Beef Ball",2,{"$f":"VLOOKUP(C48,Summary!$B$30:$AK$475,5,FALSE)","v":18},{"$f":"E48*D48","v":36},null,null,0,18,36,null,{"$f":"SUMIF(DATABASE!$O$3:$O$78,'LOK LOK '!C48,DATABASE!$P$3:$P$77)","v":0.65},{"$f":"+M48*J48","v":11.700000000000001},{"$f":"+M48","v":0.65},0,null,"BEEF BALL",3,{"$f":"+S48*E48","v":54}]
["Chicken Kidney",{"$f":"+B48+1","v":3},"JM103 Chicken Kidney",2.5,{"$f":"VLOOKUP(C49,Summary!$B$30:$AK$475,5,FALSE)","v":9},22.5,null,null,0,9,22.5,null,{"$f":"SUMIF(DATABASE!$O$3:$O$78,'LOK LOK '!C49,DATABASE!$P$3:$P$77)","v":1},9,1,0,null,"CHICKEN KIDNEY",3,27]
["Chicken Liver",4,"JM104 Chicken Liver",2.5,{"$f":"VLOOKUP(C50,Summary!$B$30:$AK$475,5,FALSE)","v":4},10,null,null,0,4,10,null,{"$f":"SUMIF(DATABASE!$O$3:$O$78,'LOK LOK '!C50,DATABASE!$P$3:$P$77)","v":1},4,1,0,null,"CHICKEN LIVER",3,12]
["Cheese Chicken Sausage",5,"JM105 Cheese C.Sausage",2.5,{"$f":"VLOOKUP(C51,Summary!$B$30:$AK$475,5,FALSE)","v":71},177.5,null,null,0,0,0,null,{"$f":"SUMIF(DATABASE!$O$3:$O$78,'LOK LOK '!C51,DATABASE!$P$3:$P$77)","v":0.8},0,0.8,0,null,"CHESS C.SAUSAGE",1,71]
["Black Pepper Chicken Sausage",6,"JM106 B.P C.Sausage",2.5,{"$f":"VLOOKUP(C52,Summary!$B$30:$AK$475,5,FALSE)","v":47},117.5,null,null,0,47,117.5,null,{"$f":"SUMIF(DATABASE!$O$3:$O$78,'LOK LOK '!C52,DATABASE!$P$3:$P$77)","v":0.8},37.6,0.8,0,null,null,1,47]
["Sauce-Filled Beef Ball",7,"JM107 S.Fill beef Ball",3,{"$f":"VLOOKUP(C53,Summary!$B$30:$AK$475,5,FALSE)","v":27},81,null,null,0,27,81,null,{"$f":"SUMIF(DATABASE!$O$3:$O$78,'LOK LOK '!C53,DATABASE!$P$3:$P$77)","v":1.05},28.35,1.05,0,null,"BEEF BALL",3,81]
["Pandan Chicken",8,"JM108 Pandan Chicken",4,{"$f":"VLOOKUP(C54,Summary!$B$30:$AK$475,5,FALSE)","v":15},60,null,null,0,15,60,null,{"$f":"SUMIF(DATABASE!$O$3:$O$78,'LOK LOK '!C54,DATABASE!$P$3:$P$77)","v":1.64},24.599999999999998,1.64,0,null,"PANDAN CHICKEN",2,30]
["Smoked Duck Breast",9,"JM109 S. Duck Breast",4,{"$f":"VLOOKUP(C55,Summary!$B$30:$AK$475,5,FALSE)","v":18},72,null,null,0,18,72,null,{"$f":"SUMIF(DATABASE!$O$3:$O$78,'LOK LOK '!C55,DATABASE!$P$3:$P$77)","v":2.13},38.339999999999996,2.13,0,null,"DUCK BREAST",2,36]
["Grilled Boneless Chicken Wing",10,"JM110 Grill.B.Chk.Wing",4,{"$f":"VLOOKUP(C56,Summary!$B$30:$AK$475,5,FALSE)","v":34},136,null,null,0,0,0,null,{"$f":"SUMIF(DATABASE!$O$3:$O$78,'LOK LOK '!C56,DATABASE!$P$3:$P$77)","v":2.8},0,2.8,0,null,null,1,34]
["Pork Meatball (Small)",11,"JN211 Pork Meatball s",2,{"$f":"VLOOKUP(C57,Summary!$B$30:$AK$475,5,FALSE)","v":79},158,null,null,0,0,0,null,{"$f":"SUMIF(DATABASE!$O$3:$O$78,'LOK LOK '!C57,DATABASE!$P$3:$P$77)","v":0.55000000000000004},0,0.55000000000000004,0,null,"PORK MEATBALL (S)",5,395]
["Wu Xiang Roll (Small)",{"$f":"+B57+1","v":12},null,null,null,null,null,null,null,null,null,null,{"$f":"SUMIF(DATABASE!$O$3:$O$78,'LOK LOK '!C58,DATABASE!$P$3:$P$77)","v":0},null,0,null,null,null,null,0]
["Pork Sausage Slices",{"$f":"+B58+1","v":13},"JN213 P. Sauage Slices",2.5,{"$f":"VLOOKUP(C59,Summary!$B$30:$AK$475,5,FALSE)","v":31},77.5,null,null,0,31,77.5,null,{"$f":"SUMIF(DATABASE!$O$3:$O$78,'LOK LOK '!C59,DATABASE!$P$3:$P$77)","v":0.96},29.759999999999998,0.96,0,null,null,null,0]
["Pork Dumplings",14,"JN214 Pork Dumplings",2.5,{"$f":"VLOOKUP(C60,Summary!$B$30:$AK$475,5,FALSE)","v":31},77.5,null,null,0,0,0,null,{"$f":"SUMIF(DATABASE!$O$3:$O$78,'LOK LOK '!C60,DATABASE!$P$3:$P$77)","v":1.2},0,1.2,0,null,"PORK DUMPLINGS",3,93]
["Pork Meatball (Big)",15,"JN215 Pork Meatball B",2.5,{"$f":"VLOOKUP(C61,Summary!$B$30:$AK$475,5,FALSE)","v":93},232.5,null,null,0,0,0,null,{"$f":"SUMIF(DATABASE!$O$3:$O$78,'LOK LOK '!C61,DATABASE!$P$3:$P$77)","v":0.78},0,0.78,0,null,"PORK MEATBALL (B)",null,0]
["Pork Liver",16,"JN216 Pork Liver",3,{"$f":"VLOOKUP(C62,Summary!$B$30:$AK$475,5,FALSE)","v":6},18,null,null,0,6,18,null,{"$f":"SUMIF(DATABASE!$O$3:$O$78,'LOK LOK '!C62,DATABASE!$P$3:$P$77)","v":1.2},7.1999999999999993,1.2,0,null,"PORK LIVER",3,18]
["Taiwan Sausage",17,"JN217 Taiwan Sausage",3,{"$f":"VLOOKUP(C63,Summary!$B$30:$AK$475,5,FALSE)","v":119},357,null,null,0,119,357,null,{"$f":"SUMIF(DATABASE!$O$3:$O$78,'LOK LOK '!C63,DATABASE!$P$3:$P$77)","v":1.02},121.38,1.02,0,null,"TAIWAN SAUSAGE",3,357]
["Bacon",18,"JN218 Bacon",3,{"$f":"VLOOKUP(C64,Summary!$B$30:$AK$475,5,FALSE)","v":40},120,null,null,0,40,120,null,{"$f":"SUMIF(DATABASE!$O$3:$O$78,'LOK LOK '!C64,DATABASE!$P$3:$P$77)","v":0.95},38,0.95,0,null,"BACON",1,40]
["Pork Rinds",19,"JN219 Pork Rinds",4,{"$f":"VLOOKUP(C65,Summary!$B$30:$AK$475,5,FALSE)","v":10},40,null,null,0,10,40,null,{"$f":"SUMIF(DATABASE!$O$3:$O$78,'LOK LOK '!C65,DATABASE!$P$3:$P$77)","v":1.5},15,1.5,0,null,"PORK RINDS",2,20]
["Sauce-Filled Pork Meatball",20,"JN220 Sauce Filll Ball",4,{"$f":"VLOOKUP(C66,Summary!$B$30:$AK$475,5,FALSE)","v":67},268,null,null,0,67,268,null,{"$f":"SUMIF(DATABASE!$O$3:$O$78,'LOK LOK '!C66,DATABASE!$P$3:$P$77)","v":1.5},100.5,1.5,0,null,null,null,0]
["Roasted Pork",21,null,null,null,null,null,null,null,null,null,null,{"$f":"SUMIF(DATABASE!$O$3:$O$78,'LOK LOK '!C67,DATABASE!$P$3:$P$77)","v":0},null,0,null,null,null,null,0]
["Enoki with Bacon Roll",22,"JN222 Enoki Bacon Roll",4,{"$f":"VLOOKUP(C68,Summary!$B$30:$AK$475,5,FALSE)","v":45},180,null,null,0,45,180,null,{"$f":"SUMIF(DATABASE!$O$3:$O$78,'LOK LOK '!C68,DATABASE!$P$3:$P$77)","v":1.5},67.5,1.5,0,null,"ENOKI BACON",3,135]
["Fish Wanton",23,"JO323 Fish Wanton",1.5,{"$f":"VLOOKUP(C69,Summary!$B$30:$AK$475,5,FALSE)","v":35},52.5,null,null,0,35,52.5,null,{"$f":"SUMIF(DATABASE!$O$3:$O$78,'LOK LOK '!C69,DATABASE!$P$3:$P$77)","v":0.45},15.75,0.45,0,null,"FISH WANTON",3,105]
["Mini Fried Fish Cake",24,"JO324 M. Fried F. Cake",1.5,{"$f":"VLOOKUP(C70,Summary!$B$30:$AK$475,5,FALSE)","v":41},61.5,null,null,0,41,61.5,null,{"$f":"SUMIF(DATABASE!$O$3:$O$78,'LOK LOK '!C70,DATABASE!$P$3:$P$77)","v":0.6},24.599999999999998,0.6,0,null,null,null,0]
["Spicy Fish Cake",25,"JO325 Spicy Fish Cake",1.5,{"$f":"VLOOKUP(C71,Summary!$B$30:$AK$475,5,FALSE)","v":15},22.5,null,null,0,15,22.5,null,{"$f":"SUMIF(DATABASE!$O$3:$O$78,'LOK LOK '!C71,DATABASE!$P$3:$P$77)","v":0.48},7.1999999999999993,0.48,0,null,null,null,0]
["Clam",26,"JO326 Fresh Clam",1.5,{"$f":"VLOOKUP(C72,Summary!$B$30:$AK$475,5,FALSE)","v":24},36,null,null,0,24,36,null,{"$f":"SUMIF(DATABASE!$O$3:$O$78,'LOK LOK '!C72,DATABASE!$P$3:$P$77)","v":1.5},36,1.5,0,null,null,null,0]
["Wu Xiang Fish Ball",27,"JO327 Wu Xiang F.Ball",2,{"$f":"VLOOKUP(C73,Summary!$B$30:$AK$475,5,FALSE)","v":21},42,null,null,0,21,42,null,{"$f":"SUMIF(DATABASE!$O$3:$O$78,'LOK LOK '!C73,DATABASE!$P$3:$P$77)","v":0.7},14.7,0.7,0,null,null,null,0]
["Xi Dao Fish Ball ",28,"JO328 Xi Dao Fish Ball",2,{"$f":"VLOOKUP(C74,Summary!$B$30:$AK$475,5,FALSE)","v":51},{"$f":"E74*D74","v":102},null,null,0,0,{"$f":"+J74*D74","v":0},null,{"$f":"SUMIF(DATABASE!$O$3:$O$78,'LOK LOK '!C74,DATABASE!$P$3:$P$77)","v":0.65},0,0.65,0,null,"FISH BALL",5,255]
["Fish Ball (Small)",29,"JO329 Fish Ball (S)",2,{"$f":"VLOOKUP(C75,Summary!$B$30:$AK$475,5,FALSE)","v":30},{"$f":"E75*D75","v":60},null,null,{"$f":"H75*D75","v":0},0,{"$f":"+J75*D75","v":0},null,{"$f":"SUMIF(DATABASE!$O$3:$O$78,'LOK LOK '!C75,DATABASE!$P$3:$P$77)","v":0.65},0,0.65,0,null,"FISH BALL (S )",5,150]
["Tofu Fish Ball ",30,"JO330 Tofu Fish Ball",2,{"$f":"VLOOKUP(C76,Summary!$B$30:$AK$475,5,FALSE)","v":27},54,null,null,0,0,0,null,{"$f":"SUMIF(DATABASE!$O$3:$O$78,'LOK LOK '!C76,DATABASE!$P$3:$P$77)","v":0.6},0,0.6,0,null,"TOFU FISH BALL",3,81]
["Prawn Ball",31,"JO331 Prawn Ball",2,{"$f":"VLOOKUP(C77,Summary!$B$30:$AK$475,5,FALSE)","v":16},{"$f":"E77*D77","v":32},null,null,{"$f":"H77*D77","v":0},{"$f":"+E77-H77","v":16},{"$f":"+J77*D77","v":32},null,{"$f":"SUMIF(DATABASE!$O$3:$O$78,'LOK LOK '!C77,DATABASE!$P$3:$P$77)","v":0.39},6.24,0.39,0,null,"PRAWN BALL",3,48]
["Abalone Slices",32,"JO332 Abalone Slices",2,{"$f":"VLOOKUP(C78,Summary!$B$30:$AK$475,5,FALSE)","v":47},94,null,null,0,47,{"$f":"+J78*D78","v":94},null,{"$f":"SUMIF(DATABASE!$O$3:$O$78,'LOK LOK '!C78,DATABASE!$P$3:$P$77)","v":0.72},33.839999999999996,0.72,0,null,"ABALONE SLICES",3,141]
["Prawn Cocktail Sausage",33,"JO333 Prawn C. sausage",2,{"$f":"VLOOKUP(C79,Summary!$B$30:$AK$475,5,FALSE)","v":14},28,null,null,0,14,28,null,{"$f":"SUMIF(DATABASE!$O$3:$O$78,'LOK LOK '!C79,DATABASE!$P$3:$P$77)","v":0.56999999999999995},7.9799999999999995,0.56999999999999995,0,null,"PRAWN. C.SAUSAGE",3,42]
["Fish Ball (Big)",34,"JO334 FISH BALL BIG",2.5,{"$f":"VLOOKUP(C80,Summary!$B$30:$AK$475,5,FALSE)","v":35},87.5,null,null,0,0,0,null,{"$f":"SUMIF(DATABASE!$O$3:$O$78,'LOK LOK '!C80,DATABASE!$P$3:$P$77)","v":1},0,1,0,null,"FISH BALL (B)",3,105]
["Tempura Prawn",35,"JO335 Tempura Prawn",2.5,{"$f":"VLOOKUP(C81,Summary!$B$30:$AK$475,5,FALSE)","v":8},20,null,null,{"$f":"H81*D81","v":0},8,{"$f":"+J81*D81","v":20},null,{"$f":"SUMIF(DATABASE!$O$3:$O$78,'LOK LOK '!C81,DATABASE!$P$3:$P$77)","v":0.9},7.2,0.9,0,null,"TEMPURA PRAWN",1,8]
["Breaded Crab Claw",36,"JO336 Breaded CarbClaw",2.5,{"$f":"VLOOKUP(C82,Summary!$B$30:$AK$475,5,FALSE)","v":29},72.5,null,null,0,29,72.5,null,{"$f":"SUMIF(DATABASE!$O$3:$O$78,'LOK LOK '!C82,DATABASE!$P$3:$P$77)","v":0.9},26.1,0.9,0,null,null,null,0]
["Cheese Shrimp with Fish Paste ",37,"JO337 C.Shrimp.F.Paste",2.5,{"$f":"VLOOKUP(C83,Summary!$B$30:$AK$475,5,FALSE)","v":27},67.5,null,null,0,0,0,null,{"$f":"SUMIF(DATABASE!$O$3:$O$78,'LOK LOK '!C83,DATABASE!$P$3:$P$77)","v":0.73},0,0.73,0,null,null,null,0]
["Otak Fish Paste",38,"JO338 Otak Fish Paste",2.5,{"$f":"VLOOKUP(C84,Summary!$B$30:$AK$475,5,FALSE)","v":28},70,null,null,0,28,70,null,{"$f":"SUMIF(DATABASE!$O$3:$O$78,'LOK LOK '!C84,DATABASE!$P$3:$P$77)","v":0.67},18.760000000000002,0.67,0,null,null,null,0]
["Salmon Ball",39,"JO339 Salmon Ball",2.5,{"$f":"VLOOKUP(C85,Summary!$B$30:$AK$475,5,FALSE)","v":18},{"$f":"E85*D85","v":45},null,null,{"$f":"H85*D85","v":0},{"$f":"+E85-H85","v":18},{"$f":"+J85*D85","v":45},null,{"$f":"SUMIF(DATABASE!$O$3:$O$78,'LOK LOK '!C85,DATABASE!$P$3:$P$77)","v":0.9},{"$f":"+M85*J85","v":16.2},{"$f":"+M85","v":0.9},{"$f":"+O85*H85","v":0},null,"SALMON BALL",3,54]
["Fuzhou Fish Ball",40,"JO340 Fuzhou Fish Ball",3,{"$f":"VLOOKUP(C86,Summary!$B$30:$AK$475,5,FALSE)","v":10},30,null,null,0,10,30,null,{"$f":"SUMIF(DATABASE!$O$3:$O$78,'LOK LOK '!C86,DATABASE!$P$3:$P$77)","v":1.29},12.9,1.29,0,null,null,null,0]
["Scallop Ball",41,"JO341 Scallop Ball",3,{"$f":"VLOOKUP(C87,Summary!$B$30:$AK$475,5,FALSE)","v":7},21,null,null,0,7,21,null,{"$f":"SUMIF(DATABASE!$O$3:$O$78,'LOK LOK '!C87,DATABASE!$P$3:$P$77)","v":1.02},7.1400000000000006,1.02,0,null,"SCALLOP BALL",3,21]
["Taiwan Cuttlefish Ball",42,"JO342 Taiwan C.F. Ball",3,{"$f":"VLOOKUP(C88,Summary!$B$30:$AK$475,5,FALSE)","v":29},{"$f":"E88*D88","v":87},null,null,{"$f":"H88*D88","v":0},{"$f":"+E88-H88","v":29},{"$f":"+J88*D88","v":87},null,{"$f":"SUMIF(DATABASE!$O$3:$O$78,'LOK LOK '!C88,DATABASE!$P$3:$P$77)","v":1.17},{"$f":"+M88*J88","v":33.93},{"$f":"+M88","v":1.17},{"$f":"+O88*H88","v":0},null,"TAIWAN C.F. BALL",3,87]
["Cuttlefish Roll",43,"JO343 Cuttlefish Roll",3,{"$f":"VLOOKUP(C89,Summary!$B$30:$AK$475,5,FALSE)","v":30},90,null,null,0,30,90,null,{"$f":"SUMIF(DATABASE!$O$3:$O$78,'LOK LOK '!C89,DATABASE!$P$3:$P$77)","v":1.06},31.8,1.06,0,null,null,null,0]
["Mushroom Seafood Ball",44,"JO344 M.Seafood Ball",3,{"$f":"VLOOKUP(C90,Summary!$B$30:$AK$475,5,FALSE)","v":29},87,null,null,0,29,87,null,{"$f":"SUMIF(DATABASE!$O$3:$O$78,'LOK LOK '!C90,DATABASE!$P$3:$P$77)","v":1.02},29.580000000000002,1.02,0,null,null,null,0]
["Cuttlefish",45,"JO345 Cuttlefish",3,{"$f":"VLOOKUP(C91,Summary!$B$30:$AK$475,5,FALSE)","v":20},60,null,null,0,20,60,null,{"$f":"SUMIF(DATABASE!$O$3:$O$78,'LOK LOK '!C91,DATABASE!$P$3:$P$77)","v":1.5},30,1.5,0,null,null,null,0]
["Shisamo",46,"JO346 Shisamo",4,{"$f":"VLOOKUP(C92,Summary!$B$30:$AK$475,5,FALSE)","v":7},28,null,null,0,7,28,null,{"$f":"SUMIF(DATABASE!$O$3:$O$78,'LOK LOK '!C92,DATABASE!$P$3:$P$77)","v":1.5},10.5,1.5,0,null,null,null,0]
["Tiger Prawn",47,"JO347 Tiger Prawn",4,{"$f":"VLOOKUP(C93,Summary!$B$30:$AK$475,5,FALSE)","v":11},44,null,null,0,11,44,null,{"$f":"SUMIF(DATABASE!$O$3:$O$78,'LOK LOK '!C93,DATABASE!$P$3:$P$77)","v":1.5},16.5,1.5,0,null,"TIGER PRAWN",3,33]
["Bottom Mushroom",48,"JP448 Botton Mushroom",1.5,{"$f":"VLOOKUP(C94,Summary!$B$30:$AK$475,5,FALSE)","v":29},43.5,null,null,0,29,43.5,null,{"$f":"SUMIF(DATABASE!$O$3:$O$78,'LOK LOK '!C94,DATABASE!$P$3:$P$77)","v":0.6},17.399999999999999,0.6,0,null,null,null,0]
["Kang Kong",49,"JP449 Kang Kong",1.5,{"$f":"VLOOKUP(C95,Summary!$B$30:$AK$475,5,FALSE)","v":43},64.5,null,null,0,43,64.5,null,{"$f":"SUMIF(DATABASE!$O$3:$O$78,'LOK LOK '!C95,DATABASE!$P$3:$P$77)","v":0.4},17.2,0.4,0,null,null,null,0]
["Broccoli",50,"JP450 Broccali",1.5,{"$f":"VLOOKUP(C96,Summary!$B$30:$AK$475,5,FALSE)","v":47},70.5,null,null,0,47,70.5,null,{"$f":"SUMIF(DATABASE!$O$3:$O$78,'LOK LOK '!C96,DATABASE!$P$3:$P$77)","v":0.5},23.5,0.5,0,null,null,null,0]
["Long Bean",51,"JP451 Long Bean",1.5,{"$f":"VLOOKUP(C97,Summary!$B$30:$AK$475,5,FALSE)","v":11},16.5,null,null,0,11,16.5,null,{"$f":"SUMIF(DATABASE!$O$3:$O$78,'LOK LOK '!C97,DATABASE!$P$3:$P$77)","v":0.3},3.3,0.3,0,null,null,null,0]
["Fried Abalone Mushroom",52,"JP452 Fried A.Mushroom",2,{"$f":"VLOOKUP(C98,Summary!$B$30:$AK$475,5,FALSE)","v":30},60,null,null,0,30,60,null,{"$f":"SUMIF(DATABASE!$O$3:$O$78,'LOK LOK '!C98,DATABASE!$P$3:$P$77)","v":0.4},12,0.4,0,null,null,null,0]
["Shiitake Mushroom",53,"JP453 Shiitake Mushrom",2,{"$f":"VLOOKUP(C99,Summary!$B$30:$AK$475,5,FALSE)","v":29},58,null,null,0,29,58,null,{"$f":"SUMIF(DATABASE!$O$3:$O$78,'LOK LOK '!C99,DATABASE!$P$3:$P$77)","v":0.7},20.299999999999997,0.7,0,null,null,null,0]
["Minced Fish Eggplant",54,"JQ554 M.Fish Eggplant",1.5,{"$f":"VLOOKUP(C100,Summary!$B$30:$AK$475,5,FALSE)","v":6},9,null,null,0,6,9,null,{"$f":"SUMIF(DATABASE!$O$3:$O$78,'LOK LOK '!C100,DATABASE!$P$3:$P$77)","v":0.52},3.12,0.52,0,null,null,null,0]
["Minced Fish Chili",55,"JQ555 M.Fish Chilli",1.5,{"$f":"VLOOKUP(C101,Summary!$B$30:$AK$475,5,FALSE)","v":5},7.5,null,null,0,5,7.5,null,{"$f":"SUMIF(DATABASE!$O$3:$O$78,'LOK LOK '!C101,DATABASE!$P$3:$P$77)","v":0.52},2.6,0.52,0,null,null,null,0]
["Minced Fish Lady's Finger",56,"JQ556 M.Fish Lady's F",1.5,{"$f":"VLOOKUP(C102,Summary!$B$30:$AK$475,5,FALSE)","v":12},18,null,null,0,12,18,null,{"$f":"SUMIF(DATABASE!$O$3:$O$78,'LOK LOK '!C102,DATABASE!$P$3:$P$77)","v":0.52},6.24,0.52,0,null,null,null,0]
["Crispy Mini Beancurd",57,"JQ557 Chrisy Beabcurd",1.5,{"$f":"VLOOKUP(C103,Summary!$B$30:$AK$475,5,FALSE)","v":64},96,null,null,0,64,96,null,{"$f":"SUMIF(DATABASE!$O$3:$O$78,'LOK LOK '!C103,DATABASE!$P$3:$P$77)","v":0.33},21.12,0.33,0,null,null,null,0]
["Quail Eggs",58,"JQ558 Quail Eggs",1.5,{"$f":"VLOOKUP(C104,Summary!$B$30:$AK$475,5,FALSE)","v":75},112.5,null,null,0,75,112.5,null,{"$f":"SUMIF(DATABASE!$O$3:$O$78,'LOK LOK '!C104,DATABASE!$P$3:$P$77)","v":0.56000000000000005},42.000000000000007,0.56000000000000005,0,null,"QUAIL EGGS",4,300]
["Fried Wanton",59,"JQ559 Fried Wanton",2,{"$f":"VLOOKUP(C105,Summary!$B$30:$AK$475,5,FALSE)","v":26},52,null,null,0,26,52,null,{"$f":"SUMIF(DATABASE!$O$3:$O$78,'LOK LOK '!C105,DATABASE!$P$3:$P$77)","v":0.9},23.400000000000002,0.9,0,null,"FRIED WANTON ",3,78]
["Lemon Grass Potato Samosa",60,"JQ560 L.G.Potato Samos",2,{"$f":"VLOOKUP(C106,Summary!$B$30:$AK$475,5,FALSE)","v":13},26,null,null,0,13,26,null,{"$f":"SUMIF(DATABASE!$O$3:$O$78,'LOK LOK '!C106,DATABASE!$P$3:$P$77)","v":0.7},9.1,0.7,0,null,null,null,0]
["Flavored Vege Ball",61,"JQ561 F.Vege Ball",2,{"$f":"VLOOKUP(C107,Summary!$B$30:$AK$475,5,FALSE)","v":16},32,null,null,0,16,32,null,{"$f":"SUMIF(DATABASE!$O$3:$O$78,'LOK LOK '!C107,DATABASE!$P$3:$P$77)","v":0.75},12,0.75,0,null,"VEGE BALL",3,48]
["Minded Fish Ball",62,"JQ562 Minced Fish Ball",2.5,{"$f":"VLOOKUP(C108,Summary!$B$30:$AK$475,5,FALSE)","v":11},27.5,null,null,0,11,27.5,null,{"$f":"SUMIF(DATABASE!$O$3:$O$78,'LOK LOK '!C108,DATABASE!$P$3:$P$77)","v":1.02},11.22,1.02,0,null,"SEAFOOD TOFU ",3,33]
["Seafood Tofu",63,"JQ563 Seafood Tofu",2.5,{"$f":"VLOOKUP(C109,Summary!$B$30:$AK$475,5,FALSE)","v":61},152.5,null,null,0,61,152.5,null,{"$f":"SUMIF(DATABASE!$O$3:$O$78,'LOK LOK '!C109,DATABASE!$P$3:$P$77)","v":0.87},53.07,0.87,0,null,"SPRING ROLL",2,122]
["Spring Roll",64,"JQ564 Spring Roll",2.5,{"$f":"VLOOKUP(C110,Summary!$B$30:$AK$475,5,FALSE)","v":10},25,null,null,0,10,25,null,{"$f":"SUMIF(DATABASE!$O$3:$O$78,'LOK LOK '!C110,DATABASE!$P$3:$P$77)","v":1},10,1,0,null,null,null,0]
["Quail Century Egg",65,"JQ565 Quail Century Eg",2.5,{"$f":"VLOOKUP(C111,Summary!$B$30:$AK$475,5,FALSE)","v":58},145,null,null,0,58,145,null,{"$f":"SUMIF(DATABASE!$O$3:$O$78,'LOK LOK '!C111,DATABASE!$P$3:$P$77)","v":0.81},46.980000000000004,0.81,0,null,"QUAIL CENTURY EGG",3,174]
["Thai Roll",66,"JQ566 Thai Roll",3,{"$f":"VLOOKUP(C112,Summary!$B$30:$AK$475,5,FALSE)","v":14},42,null,null,0,14,42,null,{"$f":"SUMIF(DATABASE!$O$3:$O$78,'LOK LOK '!C112,DATABASE!$P$3:$P$77)","v":1.2},16.8,1.2,0,null,"THAI ROLL",2,{"$f":"+S112*E112","v":28}]
["Cheese Seafood Tofu",67,"JQ567 Cheese S.Tofu",3,{"$f":"VLOOKUP(C113,Summary!$B$30:$AK$475,5,FALSE)","v":62},186,null,null,0,62,186,null,{"$f":"SUMIF(DATABASE!$O$3:$O$78,'LOK LOK '!C113,DATABASE!$P$3:$P$77)","v":1.02},63.24,1.02,0,null,null,null,0]
["Rice Skin Roll",68,"JQ568 Rice Skin  Roll",3,{"$f":"VLOOKUP(C114,Summary!$B$30:$AK$475,5,FALSE)","v":12},36,null,null,0,12,36,null,{"$f":"SUMIF(DATABASE!$O$3:$O$78,'LOK LOK '!C114,DATABASE!$P$3:$P$77)","v":1.2},14.399999999999999,1.2,0,null,null,null,0]
[null,69,"JR01 PACKAGE A",18.8,{"$f":"VLOOKUP(C115,Summary!$B$30:$AK$475,5,FALSE)","v":11},{"$f":"E115*D115","v":206.8},null,null,{"$f":"H115*D115","v":0},{"$f":"+E115-H115","v":11},{"$f":"+J115*D115","v":206.8},null,{"$f":"SUMIF(DATABASE!$O$3:$O$78,'LOK LOK '!C115,DATABASE!$P$3:$P$77)","v":8.2799999999999994},{"$f":"+M115*J115","v":91.08},{"$f":"+M115","v":8.2799999999999994},{"$f":"+O115*H115","v":0},null,null,null,0]
[null,null,null,null,null,null,null,null,null,null,null,null,null,null,null,null,null,null,null,0]
[null,null,null,null,null,null,null,null,null,null,null,null,null,null,null,null,null,null,null,0]
[null,null,null,null,null,null,null,null,null,null,null,null,null,null,null,null,null,null,null,0]
[null,null,null,null,null,null,null,null,null,null,null,null,null,null,null,null,null,null,null,0]
[]
[]
[]
[]
[]
[null,70,"JR02 PACKAGE B",18.8,{"$f":"VLOOKUP(C125,Summary!$B$30:$AK$475,5,FALSE)","v":19},357.2,null,null,0,19,357.2,null,{"$f":"SUMIF(DATABASE!$O$3:$O$78,'LOK LOK '!C125,DATABASE!$P$3:$P$77)","v":8.4600000000000009},160.74,8.4600000000000009,0]
[]
[]
[null,"Total Sales / COST",null,null,{"$f":"SUM(E47:E127)","v":2081},{"$f":"SUM(F47:F127)","v":5545},null,{"$f":"SUM(H26:H126)","v":0},{"$f":"SUM(I11:I127)","v":0},{"$f":"SUM(J47:J127)","v":1603},{"$f":"SUM(K47:K127)","v":4392.5},null,null,{"$f":"SUM(N47:N127)","v":1617.8199999999997},null,{"$f":"SUM(P47:P127)","v":0}]
[]
[null,null,"NEW ADDED  CODE 69 AND 70"]

{"sheet":"SIDE ORDER & FOC","index":7,"n_rows":201,"n_cols":20,"rows_kept":201,"cut":false,"hidden":false,"merged":[[0,0,0,12],[7,11,7,12],[6,3,6,4],[6,6,6,7],[6,8,6,9],[7,16,7,18],[166,9,166,11],[7,13,7,14],[109,0,109,2],[7,3,7,4],[7,6,7,7],[7,8,7,9],[165,9,165,11]]}
["MONTHLY SALES FOOD RECORD ( SIDE ORDER & FOC )"]
[]
[{"$f":"+'K-LUNCH & K DINNER'!A3","v":"Outlet :"},{"$f":"+'K-LUNCH & K DINNER'!B3","v":"CCS OUTLET"}]
[{"$f":"+'K-LUNCH & K DINNER'!A4","v":"Month :"},{"$f":"+'K-LUNCH & K DINNER'!B4","v":"2013-09-01"}]
[]
["LOCAL DELIGHTS / WESTERN CRUISE / APPETIZER "]
[null,null,null,"(A)",null,null,"(B)",null,"(A) - (B)"]
[null,null,null,"SIDE ORDER                 (INCLUDING FOC)",null,null,"FOC",null,"SIDE ORDER                        (NETT SALES)",null,null,"SIDE ORDER                        (NETT COST)",null,"FOC (COST)",null,null,"USAGE"]
["NO","MENU ITEM","S/P","Sales","TOTAL",null,"Sales","TOTAL","Sales","TOTAL",null,"COST","TOTAL","COST","TOTAL",null,"MATERIAL ","RECIPE","TOTAL"]
[null,null,"RM","Q","RM",null,"Q","RM","Q","RM",null,"RM","RM","RM","RM",null,"Q","Q","Q"]
[1,"DF01 ADD RICE",1,{"$f":"VLOOKUP(B11,Summary!$B$30:$AK$475,5,FALSE)","v":15},{"$f":"D11*C11","v":15},null,{"$f":"SUMIF('DAILY FOC'!$A$9:$A$62,'SIDE ORDER & FOC'!B11,'DAILY FOC'!$BN$9:$BN$63)","v":0},{"$f":"G11*C11","v":0},{"$f":"+D11-G11","v":15},{"$f":"+I11*C11","v":15},null,{"$f":"SUMIF(DATABASE!$F$3:$F$89,B11,DATABASE!$I$3:$I$81)","v":0.5},{"$f":"+L11*I11","v":7.5},{"$f":"+L11","v":0.5},{"$f":"+N11*G11","v":0}]
[{"$f":"+A11+1","v":2},"DF02 ADD F.EGG",1.5,{"$f":"VLOOKUP(B12,Summary!$B$30:$AK$475,5,FALSE)","v":9},13.5,null,{"$f":"SUMIF('DAILY FOC'!$A$9:$A$62,'SIDE ORDER & FOC'!B12,'DAILY FOC'!$BN$9:$BN$63)","v":0},0,{"$f":"+D12-G12","v":9},13.5,null,{"$f":"SUMIF(DATABASE!$F$3:$F$89,B12,DATABASE!$I$3:$I$81)","v":0.34},3.06,0.34,0]
[3,"DC01 1101:THAI CHK",9.9,{"$f":"VLOOKUP(B13,Summary!$B$30:$AK$475,5,FALSE)","v":60},594,null,{"$f":"SUMIF('DAILY FOC'!$A$9:$A$62,'SIDE ORDER & FOC'!B13,'DAILY FOC'!$BN$9:$BN$63)","v":0},0,60,594,null,{"$f":"SUMIF(DATABASE!$F$3:$F$89,B13,DATABASE!$I$3:$I$81)","v":3.29},197.4,3.29,0,null,"CHICKEN CHOP (MARINATED)",0.66,{"$f":"+R13*D13","v":39.6}]
[4,"DC02 1102:MAMITE CHK",9.9,{"$f":"VLOOKUP(B14,Summary!$B$30:$AK$475,5,FALSE)","v":63},623.70000000000005,null,{"$f":"SUMIF('DAILY FOC'!$A$9:$A$62,'SIDE ORDER & FOC'!B14,'DAILY FOC'!$BN$9:$BN$63)","v":0},0,63,623.70000000000005,null,{"$f":"SUMIF(DATABASE!$F$3:$F$89,B14,DATABASE!$I$3:$I$81)","v":3.02},190.26,3.02,0,null,"CHICKEN CHOP (MARINATED)",0.66,{"$f":"+R14*D14","v":41.580000000000005}]
[5,"DC03 1103:KO PO CHK",9.9,{"$f":"VLOOKUP(B15,Summary!$B$30:$AK$475,5,FALSE)","v":0},0,null,{"$f":"SUMIF('DAILY FOC'!$A$9:$A$62,'SIDE ORDER & FOC'!B15,'DAILY FOC'!$BN$9:$BN$63)","v":0},0,0,0,null,{"$f":"SUMIF(DATABASE!$F$3:$F$89,B15,DATABASE!$I$3:$I$81)","v":3.45},0,3.45,0,null,"CHICKEN CHOP (MARINATED)",0.66,{"$f":"+R15*D15","v":0}]
[6,"DC04 1104:S&S CHK",9.9,{"$f":"VLOOKUP(B16,Summary!$B$30:$AK$475,5,FALSE)","v":31},306.90000000000003,null,{"$f":"SUMIF('DAILY FOC'!$A$9:$A$62,'SIDE ORDER & FOC'!B16,'DAILY FOC'!$BN$9:$BN$63)","v":0},0,31,306.90000000000003,null,{"$f":"SUMIF(DATABASE!$F$3:$F$89,B16,DATABASE!$I$3:$I$81)","v":3.45},106.95,3.45,0,null,"CHICKEN CHOP (MARINATED)",0.66,{"$f":"+R16*D16","v":20.46}]
[7,"DC05 1105:BUTTER CHK",9.9,{"$f":"VLOOKUP(B17,Summary!$B$30:$AK$475,5,FALSE)","v":130},1287,null,{"$f":"SUMIF('DAILY FOC'!$A$9:$A$62,'SIDE ORDER & FOC'!B17,'DAILY FOC'!$BN$9:$BN$63)","v":1},9.9,129,1277.1000000000001,null,{"$f":"SUMIF(DATABASE!$F$3:$F$89,B17,DATABASE!$I$3:$I$81)","v":3.32},428.28,3.32,3.32,null,"CHICKEN CHOP (MARINATED)",0.66,{"$f":"+R17*D17","v":85.8}]
[8,"DC06 1106:HK F.RICE",9.9,{"$f":"VLOOKUP(B18,Summary!$B$30:$AK$475,5,FALSE)","v":56},554.4,null,{"$f":"SUMIF('DAILY FOC'!$A$9:$A$62,'SIDE ORDER & FOC'!B18,'DAILY FOC'!$BN$9:$BN$63)","v":0},0,56,554.4,null,{"$f":"SUMIF(DATABASE!$F$3:$F$89,B18,DATABASE!$I$3:$I$81)","v":3.16},176.96,3.16,0]
[9,"DC07 1107:SBL F.RICE",9.9,{"$f":"VLOOKUP(B19,Summary!$B$30:$AK$475,5,FALSE)","v":51},504.90000000000003,null,{"$f":"SUMIF('DAILY FOC'!$A$9:$A$62,'SIDE ORDER & FOC'!B19,'DAILY FOC'!$BN$9:$BN$63)","v":0},0,51,504.90000000000003,null,{"$f":"SUMIF(DATABASE!$F$3:$F$89,B19,DATABASE!$I$3:$I$81)","v":2.41},122.91000000000001,2.41,0]
[10,"DC08 1108:SBL F.MEE",9.9,{"$f":"VLOOKUP(B20,Summary!$B$30:$AK$475,5,FALSE)","v":7},69.3,null,{"$f":"SUMIF('DAILY FOC'!$A$9:$A$62,'SIDE ORDER & FOC'!B20,'DAILY FOC'!$BN$9:$BN$63)","v":0},0,7,69.3,null,{"$f":"SUMIF(DATABASE!$F$3:$F$89,B20,DATABASE!$I$3:$I$81)","v":2.8},19.599999999999998,2.8,0]
[11,"DC09 1109:BP UDON",9.9,{"$f":"VLOOKUP(B21,Summary!$B$30:$AK$475,5,FALSE)","v":27},267.3,null,{"$f":"SUMIF('DAILY FOC'!$A$9:$A$62,'SIDE ORDER & FOC'!B21,'DAILY FOC'!$BN$9:$BN$63)","v":0},0,27,267.3,null,{"$f":"SUMIF(DATABASE!$F$3:$F$89,B21,DATABASE!$I$3:$I$81)","v":2.08},56.160000000000004,2.08,0]
[12,"DC10 1110:NISSIN",9.9,{"$f":"VLOOKUP(B22,Summary!$B$30:$AK$475,5,FALSE)","v":19},188.1,null,{"$f":"SUMIF('DAILY FOC'!$A$9:$A$62,'SIDE ORDER & FOC'!B22,'DAILY FOC'!$BN$9:$BN$63)","v":0},0,19,188.1,null,{"$f":"SUMIF(DATABASE!$F$3:$F$89,B22,DATABASE!$I$3:$I$81)","v":2.3199999999999998},44.08,2.3199999999999998,0,null,"CHICKEN SAUSAGE ",1.5,{"$f":"+R22*D22","v":28.5}]
[13,"DC11 1111:VEG RICE",9.9,{"$f":"VLOOKUP(B23,Summary!$B$30:$AK$475,5,FALSE)","v":7},69.3,null,{"$f":"SUMIF('DAILY FOC'!$A$9:$A$62,'SIDE ORDER & FOC'!B23,'DAILY FOC'!$BN$9:$BN$63)","v":0},0,7,69.3,null,{"$f":"SUMIF(DATABASE!$F$3:$F$89,B23,DATABASE!$I$3:$I$81)","v":1.6},11.200000000000001,1.6,0]
[14,"DC12 1112:NASI LEMAK",9.9,{"$f":"VLOOKUP(B24,Summary!$B$30:$AK$475,5,FALSE)","v":0},0,null,{"$f":"SUMIF('DAILY FOC'!$A$9:$A$62,'SIDE ORDER & FOC'!B24,'DAILY FOC'!$BN$9:$BN$63)","v":0},0,0,0,null,{"$f":"SUMIF(DATABASE!$F$3:$F$89,B24,DATABASE!$I$3:$I$81)","v":3.56},0,3.56,0,null,"CHICKEN WINGS (NON -MARINATED)",1,{"$f":"+R24*D24","v":0}]
[15,"DC13 1113:KUEY TEOW",9.9,{"$f":"VLOOKUP(B25,Summary!$B$30:$AK$475,5,FALSE)","v":0},0,null,{"$f":"SUMIF('DAILY FOC'!$A$9:$A$62,'SIDE ORDER & FOC'!B25,'DAILY FOC'!$BN$9:$BN$63)","v":0},0,0,0,null,{"$f":"SUMIF(DATABASE!$F$3:$F$89,B25,DATABASE!$I$3:$I$81)","v":3.16},0,3.16,0]
[16,"DC14 1114:F.BALL MEE",9.9,{"$f":"VLOOKUP(B26,Summary!$B$30:$AK$475,5,FALSE)","v":0},0,null,{"$f":"SUMIF('DAILY FOC'!$A$9:$A$62,'SIDE ORDER & FOC'!B26,'DAILY FOC'!$BN$9:$BN$63)","v":0},0,0,0,null,{"$f":"SUMIF(DATABASE!$F$3:$F$89,B26,DATABASE!$I$3:$I$81)","v":2.59},0,2.59,0,null,"FISH BALL (SMALL)",5,{"$f":"+R26*D26","v":0}]
[17,"DC15 1115:CHK NOODLE",9.9,{"$f":"VLOOKUP(B27,Summary!$B$30:$AK$475,5,FALSE)","v":22},217.8,null,{"$f":"SUMIF('DAILY FOC'!$A$9:$A$62,'SIDE ORDER & FOC'!B27,'DAILY FOC'!$BN$9:$BN$63)","v":0},0,22,217.8,null,{"$f":"SUMIF(DATABASE!$F$3:$F$89,B27,DATABASE!$I$3:$I$81)","v":4.71},103.62,4.71,0,null,"CHICKEN CHOP (MARINATED)",1,22]
[18,"DC16 1116:MGL CHICKEN",9.9,{"$f":"VLOOKUP(B28,Summary!$B$30:$AK$475,5,FALSE)","v":22},217.8,null,{"$f":"SUMIF('DAILY FOC'!$A$9:$A$62,'SIDE ORDER & FOC'!B28,'DAILY FOC'!$BN$9:$BN$63)","v":0},0,22,217.8,null,{"$f":"SUMIF(DATABASE!$F$3:$F$89,B28,DATABASE!$I$3:$I$81)","v":3.54},77.88,3.54,0,null,"CHICKEN CHOP (MARINATED)",0.66,14.520000000000001]
[19,"DB01 1001:BP CKN CP",12.9,{"$f":"VLOOKUP(B29,Summary!$B$30:$AK$475,5,FALSE)","v":93},1199.7,null,{"$f":"SUMIF('DAILY FOC'!$A$9:$A$62,'SIDE ORDER & FOC'!B29,'DAILY FOC'!$BN$9:$BN$63)","v":1},12.9,92,1186.8,null,{"$f":"SUMIF(DATABASE!$F$3:$F$89,B29,DATABASE!$I$3:$I$81)","v":4.41},405.72,4.41,4.41,null,"CHICKEN CHOP (MARINATED)",1,93]
[20,"DB02 1002:GVY CHK CP",12.9,{"$f":"VLOOKUP(B30,Summary!$B$30:$AK$475,5,FALSE)","v":23},296.7,null,{"$f":"SUMIF('DAILY FOC'!$A$9:$A$62,'SIDE ORDER & FOC'!B30,'DAILY FOC'!$BN$9:$BN$63)","v":0},0,23,296.7,null,{"$f":"SUMIF(DATABASE!$F$3:$F$89,B30,DATABASE!$I$3:$I$81)","v":4.43},101.88999999999999,4.43,0,null,"CHICKEN CHOP (MARINATED)",1,23]
[21,"DB03 1003:MSR CKN CP",12.9,{"$f":"VLOOKUP(B31,Summary!$B$30:$AK$475,5,FALSE)","v":115},1483.5,null,{"$f":"SUMIF('DAILY FOC'!$A$9:$A$62,'SIDE ORDER & FOC'!B31,'DAILY FOC'!$BN$9:$BN$63)","v":0},0,115,1483.5,null,{"$f":"SUMIF(DATABASE!$F$3:$F$89,B31,DATABASE!$I$3:$I$81)","v":4.75},546.25,4.75,0,null,"CHICKEN CHOP (MARINATED)",1,115]
[22,"DB04 1004:CKN MARY",12.9,{"$f":"VLOOKUP(B32,Summary!$B$30:$AK$475,5,FALSE)","v":27},348.3,null,{"$f":"SUMIF('DAILY FOC'!$A$9:$A$62,'SIDE ORDER & FOC'!B32,'DAILY FOC'!$BN$9:$BN$63)","v":0},0,27,348.3,null,{"$f":"SUMIF(DATABASE!$F$3:$F$89,B32,DATABASE!$I$3:$I$81)","v":5.98},161.46,5.98,0,null,"CHICKEN CHOP (MARINATED)",1,27]
[23,"DB05 1005:FISH&CHIP",12.9,{"$f":"VLOOKUP(B33,Summary!$B$30:$AK$475,5,FALSE)","v":40},516,null,{"$f":"SUMIF('DAILY FOC'!$A$9:$A$62,'SIDE ORDER & FOC'!B33,'DAILY FOC'!$BN$9:$BN$63)","v":0},0,40,516,null,{"$f":"SUMIF(DATABASE!$F$3:$F$89,B33,DATABASE!$I$3:$I$81)","v":4.32},172.8,4.32,0,null,"DORY FISH FILLET ",1,40]
[24,"DB06 1006:SPAGHETTI",12.9,{"$f":"VLOOKUP(B34,Summary!$B$30:$AK$475,5,FALSE)","v":46},593.4,null,{"$f":"SUMIF('DAILY FOC'!$A$9:$A$62,'SIDE ORDER & FOC'!B34,'DAILY FOC'!$BN$9:$BN$63)","v":0},0,46,593.4,null,{"$f":"SUMIF(DATABASE!$F$3:$F$89,B34,DATABASE!$I$3:$I$81)","v":2.1},96.600000000000009,2.1,0]
[25,"DB07 1007:CHK SALAD",12.9,{"$f":"VLOOKUP(B35,Summary!$B$30:$AK$475,5,FALSE)","v":11},141.9,null,{"$f":"SUMIF('DAILY FOC'!$A$9:$A$62,'SIDE ORDER & FOC'!B35,'DAILY FOC'!$BN$9:$BN$63)","v":2},25.8,9,116.10000000000001,null,{"$f":"SUMIF(DATABASE!$F$3:$F$89,B35,DATABASE!$I$3:$I$81)","v":4.9400000000000004},44.46,4.9400000000000004,9.8800000000000008,null,"CHICKEN CHOP (MARINATED)",1,{"$f":"+R35*D35","v":11}]
[26,"DD01 1201:SFD STICK",5.9,{"$f":"VLOOKUP(B36,Summary!$B$30:$AK$475,5,FALSE)","v":0},0,null,{"$f":"SUMIF('DAILY FOC'!$A$9:$A$62,'SIDE ORDER & FOC'!B36,'DAILY FOC'!$BN$9:$BN$63)","v":0},0,0,0,null,{"$f":"SUMIF(DATABASE!$F$3:$F$89,B36,DATABASE!$I$3:$I$81)","v":2},0,2,0,null,"SOTONG BALL",2,{"$f":"+R36*$D$36","v":0}]
[null,null,null,null,null,null,null,null,null,null,null,null,null,null,null,null,"SALMON BALL",2,{"$f":"+R37*$D$36","v":0}]
[null,null,null,null,null,null,null,null,null,null,null,null,null,null,null,null,"SEAFOOD TOFU ",2,{"$f":"+R38*$D$36","v":0}]
[{"$f":"+A36+1","v":27},"DD02 1202:FREN FRIES",5.9,{"$f":"VLOOKUP(B39,Summary!$B$30:$AK$475,5,FALSE)","v":80},{"$f":"D39*C39","v":472},null,{"$f":"SUMIF('DAILY FOC'!$A$9:$A$62,'SIDE ORDER & FOC'!B39,'DAILY FOC'!$BN$9:$BN$63)","v":0},{"$f":"G39*C39","v":0},{"$f":"+D39-G39","v":80},{"$f":"+I39*C39","v":472},null,{"$f":"SUMIF(DATABASE!$F$3:$F$89,B39,DATABASE!$I$3:$I$81)","v":1.76},{"$f":"+L39*I39","v":140.80000000000001},{"$f":"+L39","v":1.76},{"$f":"+N39*G39","v":0}]
[{"$f":"+A39+1","v":28},"DD03 1203:GOLD MROOM",5.9,{"$f":"VLOOKUP(B40,Summary!$B$30:$AK$475,5,FALSE)","v":11},64.900000000000006,null,{"$f":"SUMIF('DAILY FOC'!$A$9:$A$62,'SIDE ORDER & FOC'!B40,'DAILY FOC'!$BN$9:$BN$63)","v":0},0,11,64.900000000000006,null,{"$f":"SUMIF(DATABASE!$F$3:$F$89,B40,DATABASE!$I$3:$I$81)","v":2.15},23.65,2.15,0]
[29,"DD04 1204:FISHBALL",5.9,{"$f":"VLOOKUP(B41,Summary!$B$30:$AK$475,5,FALSE)","v":14},82.600000000000009,null,{"$f":"SUMIF('DAILY FOC'!$A$9:$A$62,'SIDE ORDER & FOC'!B41,'DAILY FOC'!$BN$9:$BN$63)","v":0},0,14,82.600000000000009,null,{"$f":"SUMIF(DATABASE!$F$3:$F$89,B41,DATABASE!$I$3:$I$81)","v":1.56},21.84,1.56,0,null,"FISH BALL (BIG)",6,{"$f":"+R41*D41","v":84}]
[30,"DD05 1205:RAINBOW RL",5.9,{"$f":"VLOOKUP(B42,Summary!$B$30:$AK$475,5,FALSE)","v":0},0,null,{"$f":"SUMIF('DAILY FOC'!$A$9:$A$62,'SIDE ORDER & FOC'!B42,'DAILY FOC'!$BN$9:$BN$63)","v":0},0,0,0,null,{"$f":"SUMIF(DATABASE!$F$3:$F$89,B42,DATABASE!$I$3:$I$81)","v":2.5},0,2.5,0,null,"RAINBOW ROLL",1,0]
[31,"DD06 1206:SPRING RL",5.9,{"$f":"VLOOKUP(B43,Summary!$B$30:$AK$475,5,FALSE)","v":17},100.30000000000001,null,{"$f":"SUMIF('DAILY FOC'!$A$9:$A$62,'SIDE ORDER & FOC'!B43,'DAILY FOC'!$BN$9:$BN$63)","v":0},0,17,100.30000000000001,null,{"$f":"SUMIF(DATABASE!$F$3:$F$89,B43,DATABASE!$I$3:$I$81)","v":2.67},45.39,2.67,0,null,"SPRING ROLL",8,136]
[32,"DD07 1207:SAUSAGE",5.9,{"$f":"VLOOKUP(B44,Summary!$B$30:$AK$475,5,FALSE)","v":17},100.30000000000001,null,{"$f":"SUMIF('DAILY FOC'!$A$9:$A$62,'SIDE ORDER & FOC'!B44,'DAILY FOC'!$BN$9:$BN$63)","v":1},5.9,16,94.4,null,{"$f":"SUMIF(DATABASE!$F$3:$F$89,B44,DATABASE!$I$3:$I$81)","v":1.24},19.84,1.24,1.24,null,"CHICKEN SAUSAGE ",4,68]
[33,"DD10 1301:DUMPLING",5.9,{"$f":"VLOOKUP(B45,Summary!$B$30:$AK$475,5,FALSE)","v":0},0,null,{"$f":"SUMIF('DAILY FOC'!$A$9:$A$62,'SIDE ORDER & FOC'!B45,'DAILY FOC'!$BN$9:$BN$63)","v":0},0,0,0,null,{"$f":"SUMIF(DATABASE!$F$3:$F$89,B45,DATABASE!$I$3:$I$81)","v":4.5},0,4.5,0,null,"DUMPLING ",6,0]
[34,"DD11 1302:NUGGET",7.9,{"$f":"VLOOKUP(B46,Summary!$B$30:$AK$475,5,FALSE)","v":39},308.10000000000002,null,{"$f":"SUMIF('DAILY FOC'!$A$9:$A$62,'SIDE ORDER & FOC'!B46,'DAILY FOC'!$BN$9:$BN$63)","v":0},0,39,308.10000000000002,null,{"$f":"SUMIF(DATABASE!$F$3:$F$89,B46,DATABASE!$I$3:$I$81)","v":2.4300000000000002},94.77000000000001,2.4300000000000002,0,null,"CHICKEN NUGGET",8,312]
[35,"DD12 1303:CHK WING",7.9,{"$f":"VLOOKUP(B47,Summary!$B$30:$AK$475,5,FALSE)","v":31},244.9,null,{"$f":"SUMIF('DAILY FOC'!$A$9:$A$62,'SIDE ORDER & FOC'!B47,'DAILY FOC'!$BN$9:$BN$63)","v":0},0,31,244.9,null,{"$f":"SUMIF(DATABASE!$F$3:$F$89,B47,DATABASE!$I$3:$I$81)","v":3.97},123.07000000000001,3.97,0,null,"CHICKEN WING  (MARINATED)",3,93,105]
[36,"DD13 1304:IKAN BILIS",7.9,{"$f":"VLOOKUP(B48,Summary!$B$30:$AK$475,5,FALSE)","v":9},71.100000000000009,null,{"$f":"SUMIF('DAILY FOC'!$A$9:$A$62,'SIDE ORDER & FOC'!B48,'DAILY FOC'!$BN$9:$BN$63)","v":0},0,9,71.100000000000009,null,{"$f":"SUMIF(DATABASE!$F$3:$F$89,B48,DATABASE!$I$3:$I$81)","v":2.1800000000000002},19.62,2.1800000000000002,0,null,null,null,0]
[37,"DD14 1305:THAI RL",7.9,{"$f":"VLOOKUP(B49,Summary!$B$30:$AK$475,5,FALSE)","v":5},39.5,null,{"$f":"SUMIF('DAILY FOC'!$A$9:$A$62,'SIDE ORDER & FOC'!B49,'DAILY FOC'!$BN$9:$BN$63)","v":1},7.9,4,31.6,null,{"$f":"SUMIF(DATABASE!$F$3:$F$89,B49,DATABASE!$I$3:$I$81)","v":3.61},14.44,3.61,3.61,null,"THAI ROLL",7,35]
[38,"DD15 1306:SLVR FISH",7.9,{"$f":"VLOOKUP(B50,Summary!$B$30:$AK$475,5,FALSE)","v":0},0,null,{"$f":"SUMIF('DAILY FOC'!$A$9:$A$62,'SIDE ORDER & FOC'!B50,'DAILY FOC'!$BN$9:$BN$63)","v":0},0,0,0,null,{"$f":"SUMIF(DATABASE!$F$3:$F$89,B50,DATABASE!$I$3:$I$81)","v":0},0,0,0,null,null,null,0]
[39,"DD16 1307:D.F C/WING",7.9,{"$f":"VLOOKUP(B51,Summary!$B$30:$AK$475,5,FALSE)","v":13},102.7,null,{"$f":"SUMIF('DAILY FOC'!$A$9:$A$62,'SIDE ORDER & FOC'!B51,'DAILY FOC'!$BN$9:$BN$63)","v":1},7.9,12,94.800000000000011,null,{"$f":"SUMIF(DATABASE!$F$3:$F$89,B51,DATABASE!$I$3:$I$81)","v":4.3099999999999996},51.72,4.3099999999999996,4.3099999999999996,null,"CHICKEN WING  (MARINATED)",3,39,48]
[40,"DD17 1308 C/CALAMARI",7.9,{"$f":"VLOOKUP(B52,Summary!$B$30:$AK$475,5,FALSE)","v":11},86.9,null,{"$f":"SUMIF('DAILY FOC'!$A$9:$A$62,'SIDE ORDER & FOC'!B52,'DAILY FOC'!$BN$9:$BN$63)","v":0},0,11,86.9,null,{"$f":"SUMIF(DATABASE!$F$3:$F$89,B52,DATABASE!$I$3:$I$81)","v":3.69},40.589999999999996,3.69,0,null,"CALAMARI RING",7,77]
[41,"DD18 1309 Mc C/O.RING",7.9,{"$f":"VLOOKUP(B53,Summary!$B$30:$AK$475,5,FALSE)","v":6},47.400000000000006,null,{"$f":"SUMIF('DAILY FOC'!$A$9:$A$62,'SIDE ORDER & FOC'!B53,'DAILY FOC'!$BN$9:$BN$63)","v":0},0,6,47.400000000000006,null,{"$f":"SUMIF(DATABASE!$F$3:$F$89,B53,DATABASE!$I$3:$I$81)","v":1.72},10.32,1.72,0,null,"MCCAIN ONION RING",8,48]
[42,"DD19 1310:Mc SPIRAL/F",7.9,{"$f":"VLOOKUP(B54,Summary!$B$30:$AK$475,5,FALSE)","v":7},55.300000000000004,null,{"$f":"SUMIF('DAILY FOC'!$A$9:$A$62,'SIDE ORDER & FOC'!B54,'DAILY FOC'!$BN$9:$BN$63)","v":0},0,7,55.300000000000004,null,{"$f":"SUMIF(DATABASE!$F$3:$F$89,B54,DATABASE!$I$3:$I$81)","v":1.72},12.04,1.72,0,null,"MCCAIN SPIRAL FRIES",0.22,1.54]
[43,"DD20 1311:Mc H/SMILES",7.9,{"$f":"VLOOKUP(B55,Summary!$B$30:$AK$475,5,FALSE)","v":0},0,null,{"$f":"SUMIF('DAILY FOC'!$A$9:$A$62,'SIDE ORDER & FOC'!B55,'DAILY FOC'!$BN$9:$BN$63)","v":0},0,0,0,null,{"$f":"SUMIF(DATABASE!$F$3:$F$89,B55,DATABASE!$I$3:$I$81)","v":1.34},0,1.34,0,null,"MCCAIN SMILES",8,0]
[44,"DD21 1312:Mc HASH BRW",7.9,{"$f":"VLOOKUP(B56,Summary!$B$30:$AK$475,5,FALSE)","v":8},63.2,null,{"$f":"SUMIF('DAILY FOC'!$A$9:$A$62,'SIDE ORDER & FOC'!B56,'DAILY FOC'!$BN$9:$BN$63)","v":0},0,8,63.2,null,{"$f":"SUMIF(DATABASE!$F$3:$F$89,B56,DATABASE!$I$3:$I$81)","v":0.59},4.72,0.59,0,null,"MCCAIN VERSITOT",15,120]
[]
[null,"COMBO SET"]
[1,"ZAB01 1201:SFD STICK",4.95,{"$f":"VLOOKUP(B59,Summary!$B$30:$AK$475,5,FALSE)","v":11},{"$f":"D59*C59","v":54.45},null,null,null,{"$f":"+D59-G59","v":11},{"$f":"+I59*C59","v":54.45},null,{"$f":"SUMIF(DATABASE!$F$3:$F$89,B59,DATABASE!$I$3:$I$81)","v":2},{"$f":"+L59*I59","v":22},{"$f":"+L59","v":2},{"$f":"+N59*G59","v":0},null,"SOTONG BALL",2,{"$f":"+R59*D59","v":22}]
[null,null,null,null,null,null,null,null,null,null,null,null,null,null,null,null,"SALMON BALL",2,{"$f":"+R60*$D$59","v":22}]
[null,null,null,null,null,null,null,null,null,null,null,null,null,null,null,null,"SEAFOOD TOFU ",2,{"$f":"+R61*$D$59","v":22}]
[{"$f":"+A59+1","v":2},"ZAB02 1202:FRIES",4.95,{"$f":"VLOOKUP(B62,Summary!$B$30:$AK$475,5,FALSE)","v":164},{"$f":"D62*C62","v":811.80000000000007},null,null,null,{"$f":"+D62-G62","v":164},{"$f":"+I62*C62","v":811.80000000000007},null,{"$f":"SUMIF(DATABASE!$F$3:$F$89,B62,DATABASE!$I$3:$I$81)","v":1.76},{"$f":"+L62*I62","v":288.64},{"$f":"+L62","v":1.76},{"$f":"+N62*G62","v":0},null,null,null,{"$f":"+R62*D62","v":0}]
[{"$f":"+A62+1","v":3},"ZAB03 1203:GOLD MROOM",4.95,{"$f":"VLOOKUP(B63,Summary!$B$30:$AK$475,5,FALSE)","v":33},163.35,null,null,null,33,163.35,null,{"$f":"SUMIF(DATABASE!$F$3:$F$89,B63,DATABASE!$I$3:$I$81)","v":2.15},70.95,2.15,0,null,null,null,0]
[4,"ZAB04 1204:F.BALL",4.95,{"$f":"VLOOKUP(B64,Summary!$B$30:$AK$475,5,FALSE)","v":23},113.85000000000001,null,null,null,23,113.85000000000001,null,{"$f":"SUMIF(DATABASE!$F$3:$F$89,B64,DATABASE!$I$3:$I$81)","v":1.56},35.880000000000003,1.56,0,null,"FISH BALL (BIG)",6,138]
[5,"ZAB06 1206:SPRING RL",4.95,{"$f":"VLOOKUP(B65,Summary!$B$30:$AK$475,5,FALSE)","v":46},227.70000000000002,null,null,null,46,227.70000000000002,null,{"$f":"SUMIF(DATABASE!$F$3:$F$89,B65,DATABASE!$I$3:$I$81)","v":2.5},115,2.5,0,null,"SPRING ROLL",8,368]
[6,"ZAB07 1207:SAUSAGE",4.95,{"$f":"VLOOKUP(B66,Summary!$B$30:$AK$475,5,FALSE)","v":79},391.05,null,null,null,79,391.05,null,{"$f":"SUMIF(DATABASE!$F$3:$F$89,B66,DATABASE!$I$3:$I$81)","v":2.67},210.93,2.67,0,null,"CHICKEN SAUSAGE ",4,316]
[7,"ZAC02 1302:NUGGET",6.95,{"$f":"VLOOKUP(B67,Summary!$B$30:$AK$475,5,FALSE)","v":68},472.6,null,null,null,68,472.6,null,{"$f":"SUMIF(DATABASE!$F$3:$F$89,B67,DATABASE!$I$3:$I$81)","v":1.24},84.32,1.24,0,null,"CHICKEN NUGGET",8,544]
[8,"ZAC03 1303:CHK WING",6.95,{"$f":"VLOOKUP(B68,Summary!$B$30:$AK$475,5,FALSE)","v":64},444.8,null,null,null,64,444.8,null,{"$f":"SUMIF(DATABASE!$F$3:$F$89,B68,DATABASE!$I$3:$I$81)","v":3.97},254.08,3.97,0,null,"CHICKEN WING  (MARINATED)",3,192]
[9,"ZAC04 1304:IKAN BILIS",6.95,{"$f":"VLOOKUP(B69,Summary!$B$30:$AK$475,5,FALSE)","v":9},62.550000000000004,null,null,null,9,62.550000000000004,null,{"$f":"SUMIF(DATABASE!$F$3:$F$89,B69,DATABASE!$I$3:$I$81)","v":2.1800000000000002},19.62,2.1800000000000002,0,null,null,null,0]
[10,"ZAC05 1305:THAI RL",6.95,{"$f":"VLOOKUP(B70,Summary!$B$30:$AK$475,5,FALSE)","v":7},48.65,null,null,null,7,48.65,null,{"$f":"SUMIF(DATABASE!$F$3:$F$89,B70,DATABASE!$I$3:$I$81)","v":3.61},25.27,3.61,0,null,"THAI ROLL",7,49]
[11,"ZAC07 1307:D/F C.WINGS",6.95,{"$f":"VLOOKUP(B71,Summary!$B$30:$AK$475,5,FALSE)","v":42},291.90000000000003,null,null,null,42,291.90000000000003,null,{"$f":"SUMIF(DATABASE!$F$3:$F$89,B71,DATABASE!$I$3:$I$81)","v":4.3099999999999996},181.01999999999998,4.3099999999999996,0,null,"CHICKEN WING  (MARINATED)",3,126]
[12,"ZAC08 1308:C/CALAMARI",6.95,{"$f":"VLOOKUP(B72,Summary!$B$30:$AK$475,5,FALSE)","v":22},152.9,null,null,null,22,152.9,null,{"$f":"SUMIF(DATABASE!$F$3:$F$89,B72,DATABASE!$I$3:$I$81)","v":3.69},81.179999999999993,3.69,0,null,"CALAMARI RING",7,154]
[13,"ZAC09 1309:Mc /O.RINGS",6.95,{"$f":"VLOOKUP(B73,Summary!$B$30:$AK$475,5,FALSE)","v":11},76.45,null,null,null,11,76.45,null,{"$f":"SUMIF(DATABASE!$F$3:$F$89,B73,DATABASE!$I$3:$I$81)","v":1.72},18.919999999999998,1.72,0,null,"MCCAIN ONION RING",8,88]
[14,"ZAC10 1310:Mc SPIRAL/F",6.95,{"$f":"VLOOKUP(B74,Summary!$B$30:$AK$475,5,FALSE)","v":18},125.10000000000001,null,null,null,18,125.10000000000001,null,{"$f":"SUMIF(DATABASE!$F$3:$F$89,B74,DATABASE!$I$3:$I$81)","v":1.72},30.96,1.72,0,null,"MCCAIN SPIRAL FRIES",0.22,3.96]
[15,"ZAC11 1311:Mc H/SMILES",6.95,{"$f":"VLOOKUP(B75,Summary!$B$30:$AK$475,5,FALSE)","v":5},34.75,null,null,null,5,34.75,null,{"$f":"SUMIF(DATABASE!$F$3:$F$89,B75,DATABASE!$I$3:$I$81)","v":1.34},6.7,1.34,0,null,"MCCAIN SMILES",8,40]
[16,"ZAC12 1312:Mc HASH/B",6.95,{"$f":"VLOOKUP(B76,Summary!$B$30:$AK$475,5,FALSE)","v":22},152.9,null,null,null,22,152.9,null,{"$f":"SUMIF(DATABASE!$F$3:$F$89,B76,DATABASE!$I$3:$I$81)","v":0.59},12.979999999999999,0.59,0,null,"MCCAIN VERSITOT",15,330]
[]
[null,"HOMEMADE PIZZA"]
[1,"DL01 3001:6'HAWAIIAN",12.9,{"$f":"VLOOKUP(B79,Summary!$B$30:$AK$475,5,FALSE)","v":0},{"$f":"D79*C79","v":0},null,{"$f":"SUMIF('DAILY FOC'!$A$9:$A$62,'SIDE ORDER & FOC'!B79,'DAILY FOC'!$BN$9:$BN$63)","v":0},{"$f":"G79*C79","v":0},{"$f":"+D79-G79","v":0},{"$f":"+I79*C79","v":0},null,{"$f":"SUMIF(DATABASE!$F$3:$F$89,B79,DATABASE!$I$3:$I$81)","v":3.25},{"$f":"+L79*I79","v":0},{"$f":"+L79","v":3.25},{"$f":"+N79*G79","v":0},null,"6\" PIZZA BASE ",1,{"$f":"+R79*D79","v":0}]
[{"$f":"+A79+1","v":2},"DL02 3002:6'SMOKE BBQ",12.9,{"$f":"VLOOKUP(B80,Summary!$B$30:$AK$475,5,FALSE)","v":0},{"$f":"D80*C80","v":0},null,{"$f":"SUMIF('DAILY FOC'!$A$9:$A$62,'SIDE ORDER & FOC'!B80,'DAILY FOC'!$BN$9:$BN$63)","v":0},{"$f":"G80*C80","v":0},{"$f":"+D80-G80","v":0},{"$f":"+I80*C80","v":0},null,{"$f":"SUMIF(DATABASE!$F$3:$F$89,B80,DATABASE!$I$3:$I$81)","v":4.59},{"$f":"+L80*I80","v":0},{"$f":"+L80","v":4.59},{"$f":"+N80*G80","v":0},null,"CHICKEN CHOP (MARINATED)",0.5,{"$f":"+R80*$D$80","v":0}]
[null,null,null,null,null,null,null,null,null,null,null,null,null,null,null,null,"6\" PIZZA BASE ",1,{"$f":"+R81*$D$80","v":0}]
[{"$f":"+A80+1","v":3},"DL03 3003:6'SEAFOOD",12.9,{"$f":"VLOOKUP(B82,Summary!$B$30:$AK$475,5,FALSE)","v":0},{"$f":"D82*C82","v":0},null,{"$f":"SUMIF('DAILY FOC'!$A$9:$A$62,'SIDE ORDER & FOC'!B82,'DAILY FOC'!$BN$9:$BN$63)","v":0},{"$f":"G82*C82","v":0},{"$f":"+D82-G82","v":0},{"$f":"+I82*C82","v":0},null,{"$f":"SUMIF(DATABASE!$F$3:$F$89,B82,DATABASE!$I$3:$I$81)","v":5.13},{"$f":"+L82*I82","v":0},{"$f":"+L82","v":5.13},{"$f":"+N82*G82","v":0},null,"6\" PIZZA BASE ",1,{"$f":"+R82*D82","v":0}]
[{"$f":"+A82+1","v":4},"DL04 3004:6'SPICY BUF",12.9,{"$f":"VLOOKUP(B83,Summary!$B$30:$AK$475,5,FALSE)","v":0},{"$f":"D83*C83","v":0},null,{"$f":"SUMIF('DAILY FOC'!$A$9:$A$62,'SIDE ORDER & FOC'!B83,'DAILY FOC'!$BN$9:$BN$63)","v":0},{"$f":"G83*C83","v":0},{"$f":"+D83-G83","v":0},{"$f":"+I83*C83","v":0},null,{"$f":"SUMIF(DATABASE!$F$3:$F$89,B83,DATABASE!$I$3:$I$81)","v":2.99},{"$f":"+L83*I83","v":0},{"$f":"+L83","v":2.99},{"$f":"+N83*G83","v":0},null,"CHICKEN SAUSAGE ",1,{"$f":"+R83*$D$83","v":0}]
[null,null,null,null,null,null,null,null,null,null,null,null,null,null,null,null,"6\" PIZZA BASE ",1,{"$f":"+R84*D84","v":0}]
[{"$f":"+A83+1","v":5},"DL05 3005:6'VEGGIE",12.9,{"$f":"VLOOKUP(B85,Summary!$B$30:$AK$475,5,FALSE)","v":0},{"$f":"D85*C85","v":0},null,{"$f":"SUMIF('DAILY FOC'!$A$9:$A$62,'SIDE ORDER & FOC'!B85,'DAILY FOC'!$BN$9:$BN$63)","v":0},{"$f":"G85*C85","v":0},{"$f":"+D85-G85","v":0},{"$f":"+I85*C85","v":0},null,{"$f":"SUMIF(DATABASE!$F$3:$F$89,B85,DATABASE!$I$3:$I$81)","v":3.62},{"$f":"+L85*I85","v":0},{"$f":"+L85","v":3.62},{"$f":"+N85*G85","v":0},null,"6\" PIZZA BASE ",1,0]
[{"$f":"+A85+1","v":6},"DL06 3001:9'HAWAIIAN",16.899999999999999,{"$f":"VLOOKUP(B86,Summary!$B$30:$AK$475,5,FALSE)","v":0},{"$f":"D86*C86","v":0},null,{"$f":"SUMIF('DAILY FOC'!$A$9:$A$62,'SIDE ORDER & FOC'!B86,'DAILY FOC'!$BN$9:$BN$63)","v":0},{"$f":"G86*C86","v":0},{"$f":"+D86-G86","v":0},{"$f":"+I86*C86","v":0},null,{"$f":"SUMIF(DATABASE!$F$3:$F$89,B86,DATABASE!$I$3:$I$81)","v":5.79},{"$f":"+L86*I86","v":0},{"$f":"+L86","v":5.79},{"$f":"+N86*G86","v":0},null,"9\" PIZZA BASE ",1,0]
[null,null,null,null,null,null,null,null,null,null,null,null,null,null,null,null,"CHICKEN HAM",2,0]
[{"$f":"+A86+1","v":7},"DL07 3002:9'SMOKED",16.899999999999999,{"$f":"VLOOKUP(B88,Summary!$B$30:$AK$475,5,FALSE)","v":0},{"$f":"D88*C88","v":0},null,{"$f":"SUMIF('DAILY FOC'!$A$9:$A$62,'SIDE ORDER & FOC'!B88,'DAILY FOC'!$BN$9:$BN$63)","v":0},{"$f":"G88*C88","v":0},{"$f":"+D88-G88","v":0},{"$f":"+I88*C88","v":0},null,{"$f":"SUMIF(DATABASE!$F$3:$F$89,B88,DATABASE!$I$3:$I$81)","v":8.2100000000000009},{"$f":"+L88*I88","v":0},{"$f":"+L88","v":8.2100000000000009},{"$f":"+N88*G88","v":0},null,"9\" PIZZA BASE ",1,0]
[null,null,null,null,null,null,null,null,null,null,null,null,null,null,null,null,"CHICKEN WING  (MARINATED)",1,0]
[{"$f":"+A88+1","v":8},"DL08 3003:9'SEAFOOD",16.899999999999999,{"$f":"VLOOKUP(B90,Summary!$B$30:$AK$475,5,FALSE)","v":0},{"$f":"D90*C90","v":0},null,{"$f":"SUMIF('DAILY FOC'!$A$9:$A$62,'SIDE ORDER & FOC'!B90,'DAILY FOC'!$BN$9:$BN$63)","v":0},{"$f":"G90*C90","v":0},{"$f":"+D90-G90","v":0},{"$f":"+I90*C90","v":0},null,{"$f":"SUMIF(DATABASE!$F$3:$F$89,B90,DATABASE!$I$3:$I$81)","v":9.48},{"$f":"+L90*I90","v":0},{"$f":"+L90","v":9.48},{"$f":"+N90*G90","v":0},null,"9\" PIZZA BASE ",1,0]
[{"$f":"+A90+1","v":9},"DL09 3004:9'SPICY B",16.899999999999999,{"$f":"VLOOKUP(B91,Summary!$B$30:$AK$475,5,FALSE)","v":0},{"$f":"D91*C91","v":0},null,{"$f":"SUMIF('DAILY FOC'!$A$9:$A$62,'SIDE ORDER & FOC'!B91,'DAILY FOC'!$BN$9:$BN$63)","v":0},{"$f":"G91*C91","v":0},{"$f":"+D91-G91","v":0},{"$f":"+I91*C91","v":0},null,{"$f":"SUMIF(DATABASE!$F$3:$F$89,B91,DATABASE!$I$3:$I$81)","v":5.38},{"$f":"+L91*I91","v":0},{"$f":"+L91","v":5.38},{"$f":"+N91*G91","v":0},null,"CHICKEN SAUSAGE ",1,{"$f":"+R91*$D$91","v":0}]
[null,null,null,null,null,null,null,null,null,null,null,null,null,null,null,null,"9\" PIZZA BASE ",1,{"$f":"+R92*$D$91","v":0}]
[10,"DL10 3005:9'VEGGIE",16.899999999999999,{"$f":"VLOOKUP(B93,Summary!$B$30:$AK$475,5,FALSE)","v":0},{"$f":"D93*C93","v":0},null,{"$f":"SUMIF('DAILY FOC'!$A$9:$A$62,'SIDE ORDER & FOC'!B93,'DAILY FOC'!$BN$9:$BN$63)","v":0},{"$f":"G93*C93","v":0},{"$f":"+D93-G93","v":0},{"$f":"+I93*C93","v":0},null,{"$f":"SUMIF(DATABASE!$F$3:$F$89,B93,DATABASE!$I$3:$I$81)","v":6.96},{"$f":"+L93*I93","v":0},{"$f":"+L93","v":6.96},{"$f":"+N93*G93","v":0},null,"9\" PIZZA BASE ",1,{"$f":"+R93*D93","v":0}]
[]
[null,"PLATTER"]
[1,"DM01 SNACK PLATTER(A)",16.899999999999999,{"$f":"VLOOKUP(B96,Summary!$B$30:$AK$475,5,FALSE)","v":7},{"$f":"D96*C96","v":118.29999999999998},null,{"$f":"SUMIF('DAILY FOC'!$A$9:$A$62,'SIDE ORDER & FOC'!B96,'DAILY FOC'!$BN$9:$BN$63)","v":0},null,{"$f":"+D96-G96","v":7},{"$f":"+I96*C96","v":118.29999999999998},null,{"$f":"SUMIF(DATABASE!$F$3:$F$89,B96,DATABASE!$I$3:$I$81)","v":4.5999999999999996},{"$f":"+L96*I96","v":32.199999999999996},{"$f":"+L96","v":4.5999999999999996},{"$f":"+N96*G96","v":0},null,"MCCAIN VERSITOT",8,{"$f":"+R96*$D$96","v":56}]
[null,null,null,null,null,null,null,null,null,null,null,null,null,null,null,null,"MCCAIN SMILES",6,{"$f":"+R97*$D$96","v":42}]
[null,null,null,null,null,null,null,null,null,null,null,null,null,null,null,null,"MCCAIN ONION RING",8,{"$f":"+R98*$D$96","v":56}]
[null,null,null,null,null,null,null,null,null,null,null,null,null,null,null,null,"MCCAIN SPIRAL FRIES",0.12,{"$f":"+R99*$D$96","v":0.84}]
[2,"DM02 SNACK PLATTER(B)",12.9,{"$f":"VLOOKUP(B100,Summary!$B$30:$AK$475,5,FALSE)","v":6},{"$f":"D100*C100","v":77.400000000000006},null,null,null,{"$f":"+D100-G100","v":6},{"$f":"+I100*C100","v":77.400000000000006},null,{"$f":"SUMIF(DATABASE!$F$3:$F$89,B100,DATABASE!$I$3:$I$81)","v":4.5999999999999996},{"$f":"+L100*I100","v":27.599999999999998},{"$f":"+L100","v":4.5999999999999996},{"$f":"+N100*G100","v":0},null,"MCCAIN VERSITOT",8,{"$f":"+R100*$D$100","v":48}]
[null,null,null,null,null,null,null,null,null,null,null,null,null,null,null,null,"MCCAIN SMILES",6,{"$f":"+R101*$D$100","v":36}]
[null,null,null,null,null,null,null,null,null,null,null,null,null,null,null,null,"MCCAIN ONION RING",8,{"$f":"+R102*$D$100","v":48}]
[null,null,null,null,null,null,null,null,null,null,null,null,null,null,null,null,"MCCAIN SPIRAL FRIES",0.12,{"$f":"+R103*$D$96","v":0.84}]
[3,"DM03 CNY platter(A)",19.899999999999999,{"$f":"VLOOKUP(B104,Summary!$B$30:$AK$475,5,FALSE)","v":0},{"$f":"D104*C104","v":0},null,null,null,{"$f":"+D104-G104","v":0},{"$f":"+I104*C104","v":0},null,{"$f":"SUMIF(DATABASE!$F$3:$F$89,B104,DATABASE!$I$3:$I$81)","v":9.81},{"$f":"+L104*I104","v":0},{"$f":"+L104","v":9.81},{"$f":"+N104*G104","v":0},null,"CHICKEN WINGS (NON -MARINATED)",4,{"$f":"+R104*D104","v":0}]
[null,null,null,null,null,null,null,null,null,null,null,null,null,null,null,null,"MCCAIN ONION RING",8,{"$f":"+R105*$D$104","v":0}]
[4,"DM04 CNY platter (B)",23.9,{"$f":"VLOOKUP(B106,Summary!$B$30:$AK$475,5,FALSE)","v":0},{"$f":"D106*C106","v":0},null,null,null,{"$f":"+D106-G106","v":0},{"$f":"+I106*C106","v":0},null,{"$f":"SUMIF(DATABASE!$F$3:$F$89,B106,DATABASE!$I$3:$I$81)","v":9.81},{"$f":"+L106*I106","v":0},{"$f":"+L106","v":9.81},{"$f":"+N106*G106","v":0},null,"CHICKEN WINGS (NON -MARINATED)",4,{"$f":"+R106*$D$106","v":0}]
[null,null,null,null,null,null,null,null,null,null,null,null,null,null,null,null,"MCCAIN ONION RING",8,{"$f":"+R107*$D$106","v":0}]
[]
[]
["Total Sales / COST",null,null,{"$f":"SUM(D11:D109)","v":1779},{"$f":"SUM(E11:E109)","v":15168.199999999997},null,{"$f":"SUM(G11:G108)","v":7},{"$f":"SUM(H11:H109)","v":70.3},{"$f":"SUM(I11:I109)","v":1772},{"$f":"SUM(J11:J109)","v":15097.899999999998},null,null,{"$f":"SUM(M11:M109)","v":5216.1000000000013},null,{"$f":"SUM(O11:O109)","v":26.769999999999996}]
[]
[]
[]
[]
[]
[]
[]
[]
[]
[]
[]
[]
[]
[]
[]
[]
[]
[]
[]
[]
[]
[]
[]
[]
[]
[]
[]
[]
[]
[]
[]
[]
[]
[]
[]
[]
[]
[]
[]
[]
[]
[]
[]
[]
[]
[]
[]
[]
[]
[]
[]
[]
[]
[]
[]
[]
[]
[]
[]
[]
[]
[]
[]
[]
[]
[]
[]
[]
[]
[]
[]
[]
[]
[]
[]
[]
[]
[]
[]
[]
[]
[]
[]
[]
[]
[]
[]
[]
[]
[]
[null,null,null,null,null,null,null,null,null,null,null,null,null,null,null,null,null,null,{"$f":"SUBTOTAL(9,S13:S89)","v":3989.96}]

{"sheet":"DAILY FOC","index":8,"n_rows":62,"n_cols":68,"rows_kept":62,"cut":false,"hidden":false,"merged":[[6,56,6,57],[6,58,6,59],[6,60,6,61],[6,62,6,63],[6,44,6,45],[6,46,6,47],[6,48,6,49],[6,50,6,51],[6,52,6,53],[6,54,6,55],[6,42,6,43],[6,20,6,21],[6,22,6,23],[6,24,6,25],[6,26,6,27],[6,28,6,29],[6,30,6,31],[6,32,6,33],[6,34,6,35],[6,36,6,37],[6,38,6,39],[6,40,6,41],[6,18,6,19],[6,2,6,3],[6,4,6,5],[6,6,6,7],[6,8,6,9],[6,10,6,11],[2,1,2,7],[3,1,3,7],[6,12,6,13],[6,14,6,15],[6,16,6,17]]}
["DAILY FOC RECORD "]
[]
["Outlet :","CCS OUTLET"]
["Month :",{"$f":"+'K-LUNCH & K DINNER'!B4","v":"2013-09-01"}]
[]
[]
["Item","S/P",1,null,{"$f":"+C7+1","v":2},null,{"$f":"+E7+1","v":3},null,{"$f":"+G7+1","v":4},null,{"$f":"+I7+1","v":5},null,{"$f":"+K7+1","v":6},null,{"$f":"+M7+1","v":7},null,{"$f":"+O7+1","v":8},null,{"$f":"+Q7+1","v":9},null,{"$f":"+S7+1","v":10},null,{"$f":"+U7+1","v":11},null,{"$f":"+W7+1","v":12},null,{"$f":"+Y7+1","v":13},null,{"$f":"+AA7+1","v":14},null,{"$f":"+AC7+1","v":15},null,{"$f":"+AE7+1","v":16},null,{"$f":"+AG7+1","v":17},null,{"$f":"+AI7+1","v":18},null,{"$f":"+AK7+1","v":19},null,{"$f":"+AM7+1","v":20},null,{"$f":"+AO7+1","v":21},null,{"$f":"+AQ7+1","v":22},null,{"$f":"+AS7+1","v":23},null,{"$f":"+AU7+1","v":24},null,{"$f":"+AW7+1","v":25},null,{"$f":"+AY7+1","v":26},null,{"$f":"+BA7+1","v":27},null,{"$f":"+BC7+1","v":28},null,{"$f":"+BE7+1","v":29},null,{"$f":"+BG7+1","v":30},null,{"$f":"+BI7+1","v":31},null,null,"TOTAL","TOTAL","%"]
[null,"RM","Q","RM","Q","RM","Q","RM","Q","RM","Q","RM","Q","RM","Q","RM","Q","RM","Q","RM","Q","RM","Q","RM","Q","RM","Q","RM","Q","RM","Q","RM","Q","RM","Q","RM","Q","RM","Q","RM","Q","RM","Q","RM","Q","RM","Q","RM","Q","RM","Q","RM","Q","RM","Q","RM","Q","RM","Q","RM","Q","RM","Q","RM",null,"Q","RM"]
["DF01 ADD RICE",1,0,{"$f":"C9*B9","v":0},0,{"$f":"E9*B9","v":0},0,{"$f":"G9*B9","v":0},0,{"$f":"I9*B9","v":0},0,{"$f":"K9*B9","v":0},0,{"$f":"M9*B9","v":0},0,{"$f":"O9*B9","v":0},0,{"$f":"Q9*B9","v":0},0,{"$f":"S9*B9","v":0},0,{"$f":"U9*B9","v":0},0,{"$f":"W9*B9","v":0},0,{"$f":"Y9*B9","v":0},0,{"$f":"AA9*B9","v":0},0,{"$f":"AC9*B9","v":0},0,{"$f":"AE9*B9","v":0},0,{"$f":"AG9*B9","v":0},0,{"$f":"AI9*B9","v":0},0,{"$f":"AK9*B9","v":0},0,{"$f":"AM9*B9","v":0},0,{"$f":"AO9*B9","v":0},0,{"$f":"AQ9*B9","v":0},0,{"$f":"AS9*B9","v":0},0,{"$f":"AU9*B9","v":0},0,{"$f":"AW9*B9","v":0},0,{"$f":"AY9*B9","v":0},0,{"$f":"BA9*B9","v":0},0,{"$f":"BC9*B9","v":0},0,{"$f":"BE9*B9","v":0},0,{"$f":"BG9*B9","v":0},0,{"$f":"BI9*B9","v":0},0,{"$f":"BK9*B9","v":0},null,{"$f":"C9+E9+G9+I9+K9+M9+O9+Q9+S9+U9+W9+Y9+AA9+AC9+AE9+AG9+AI9+AK9+AM9+AO9+AQ9+AS9+AU9+AW9+AY9+BA9+BC9+BE9+BG9+BI9+BK9","v":0},{"$f":"BN9*B9","v":0}]
["DF02 ADD F.EGG",1.5,0,0,0,0,0,0,0,0,0,0,0,0,0,0,0,0,0,0,0,0,0,0,0,0,0,0,0,0,0,0,0,0,0,0,0,0,0,0,0,0,0,0,0,0,0,0,0,0,0,0,0,0,0,0,0,0,0,0,0,0,0,0,null,0,0]
["DC01 1101:THAI CHK",9.9,0,{"$f":"C11*B11","v":0},0,{"$f":"E11*B11","v":0},0,{"$f":"G11*B11","v":0},0,{"$f":"I11*B11","v":0},0,{"$f":"K11*B11","v":0},0,{"$f":"M11*B11","v":0},0,{"$f":"O11*B11","v":0},0,{"$f":"Q11*B11","v":0},0,{"$f":"S11*B11","v":0},0,{"$f":"U11*B11","v":0},0,{"$f":"W11*B11","v":0},0,{"$f":"Y11*B11","v":0},0,{"$f":"AA11*B11","v":0},0,{"$f":"AC11*B11","v":0},0,{"$f":"AE11*B11","v":0},0,{"$f":"AG11*B11","v":0},0,{"$f":"AI11*B11","v":0},0,{"$f":"AK11*B11","v":0},0,{"$f":"AM11*B11","v":0},0,{"$f":"AO11*B11","v":0},0,{"$f":"AQ11*B11","v":0},0,{"$f":"AS11*B11","v":0},0,{"$f":"AU11*B11","v":0},0,{"$f":"AW11*B11","v":0},0,{"$f":"AY11*B11","v":0},0,{"$f":"BA11*B11","v":0},0,{"$f":"BC11*B11","v":0},0,{"$f":"BE11*B11","v":0},0,{"$f":"BG11*B11","v":0},0,{"$f":"BI11*B11","v":0},0,{"$f":"BK11*B11","v":0},null,{"$f":"C11+E11+G11+I11+K11+M11+O11+Q11+S11+U11+W11+Y11+AA11+AC11+AE11+AG11+AI11+AK11+AM11+AO11+AQ11+AS11+AU11+AW11+AY11+BA11+BC11+BE11+BG11+BI11+BK11","v":0},{"$f":"BN11*B11","v":0}]
["DC02 1102:MAMITE CHK",9.9,0,0,0,0,0,0,0,0,0,0,0,0,0,0,0,0,0,0,0,0,0,0,0,0,0,0,0,0,0,0,0,0,0,0,0,0,0,0,0,0,0,0,0,0,0,0,0,0,0,0,0,0,0,0,0,0,0,0,0,0,0,0,null,0,0]
["DC03 1103:KO PO CHK",9.9,0,0,0,0,0,0,0,0,0,0,0,0,0,0,0,0,0,0,0,0,0,0,0,0,0,0,0,0,0,0,0,0,0,0,0,0,0,0,0,0,0,0,0,0,0,0,0,0,0,0,0,0,0,0,0,0,0,0,0,0,0,0,null,0,0]
["DC04 1104:S&S CHK",9.9,0,0,0,0,0,0,0,0,0,0,0,0,0,0,0,0,0,0,0,0,0,0,0,0,0,0,0,0,0,0,0,0,0,0,0,0,0,0,0,0,0,0,0,0,0,0,0,0,0,0,0,0,0,0,0,0,0,0,0,0,0,0,null,0,0]
["DC05 1105:BUTTER CHK",9.9,0,0,0,0,0,0,0,0,0,0,0,0,0,0,0,0,0,0,0,0,0,0,0,0,0,0,0,0,0,0,0,0,0,0,1,9.9,0,0,0,0,0,0,0,0,0,0,0,0,0,0,0,0,0,0,0,0,0,0,0,0,0,0,null,1,9.9]
["DC06 1106:HK F.RICE",9.9,0,0,0,0,0,0,0,0,0,0,0,0,0,0,0,0,0,0,0,0,0,0,0,0,0,0,0,0,0,0,0,0,0,0,0,0,0,0,0,0,0,0,0,0,0,0,0,0,0,0,0,0,0,0,0,0,0,0,0,0,0,0,null,0,0]
["DC07 1107:SBL F.RICE",9.9,0,0,0,0,0,0,0,0,0,0,0,0,0,0,0,0,0,0,0,0,0,0,0,0,0,0,0,0,0,0,0,0,0,0,0,0,0,0,0,0,0,0,0,0,0,0,0,0,0,0,0,0,0,0,0,0,0,0,0,0,0,0,null,0,0]
["DC08 1108:SBL F.MEE",9.9,0,0,0,0,0,0,0,0,0,0,0,0,0,0,0,0,0,0,0,0,0,0,0,0,0,0,0,0,0,0,0,0,0,0,0,0,0,0,0,0,0,0,0,0,0,0,0,0,0,0,0,0,0,0,0,0,0,0,0,0,0,0,null,0,0]
["DC09 1109:BP UDON",9.9,0,0,0,0,0,0,0,0,0,0,0,0,0,0,0,0,0,0,0,0,0,0,0,0,0,0,0,0,0,0,0,0,0,0,0,0,0,0,0,0,0,0,0,0,0,0,0,0,0,0,0,0,0,0,0,0,0,0,0,0,0,0,null,0,0]
["DC10 1110:NISSIN",9.9,0,0,0,0,0,0,0,0,0,0,0,0,0,0,0,0,0,0,0,0,0,0,0,0,0,0,0,0,0,0,0,0,0,0,0,0,0,0,0,0,0,0,0,0,0,0,0,0,0,0,0,0,0,0,0,0,0,0,0,0,0,0,null,0,0]
["DC11 1111:VEG RICE",9.9,0,0,0,0,0,0,0,0,0,0,0,0,0,0,0,0,0,0,0,0,0,0,0,0,0,0,0,0,0,0,0,0,0,0,0,0,0,0,0,0,0,0,0,0,0,0,0,0,0,0,0,0,0,0,0,0,0,0,0,0,0,0,null,0,0]
["DC12 1112:NASI LEMAK",9.9,0,0,0,0,0,0,0,0,0,0,0,0,0,0,0,0,0,0,0,0,0,0,0,0,0,0,0,0,0,0,0,0,0,0,0,0,0,0,0,0,0,0,0,0,0,0,0,0,0,0,0,0,0,0,0,0,0,0,0,0,0,0,null,0,0]
["DC13 1113:KUEY TEOW",9.9,0,0,0,0,0,0,0,0,0,0,0,0,0,0,0,0,0,0,0,0,0,0,0,0,0,0,0,0,0,0,0,0,0,0,0,0,0,0,0,0,0,0,0,0,0,0,0,0,0,0,0,0,0,0,0,0,0,0,0,0,0,0,null,0,0]
["DC14 1114:F.BALL MEE",9.9,0,0,0,0,0,0,0,0,0,0,0,0,0,0,0,0,0,0,0,0,0,0,0,0,0,0,0,0,0,0,0,0,0,0,0,0,0,0,0,0,0,0,0,0,0,0,0,0,0,0,0,0,0,0,0,0,0,0,0,0,0,0,null,0,0]
["DC15 1115:CHK NOODLE",9.9,0,0,0,0,0,0,0,0,0,0,0,0,0,0,0,0,0,0,0,0,0,0,0,0,0,0,0,0,0,0,0,0,0,0,0,0,0,0,0,0,0,0,0,0,0,0,0,0,0,0,0,0,0,0,0,0,0,0,0,0,0,0,null,0,0]
["DC16 1116:MGL CHICKEN",9.9,0,0,0,0,0,0,0,0,0,0,0,0,0,0,0,0,0,0,0,0,0,0,0,0,0,0,0,0,0,0,0,0,0,0,0,0,0,0,0,0,0,0,0,0,0,0,0,0,0,0,0,0,0,0,0,0,0,0,0,0,0,0,null,0,0]
["DB01 1001:BP CKN CP",12.9,0,0,0,0,0,0,0,0,1,12.9,0,0,0,0,0,0,0,0,0,0,0,0,0,0,0,0,0,0,0,0,0,0,0,0,0,0,0,0,0,0,0,0,0,0,0,0,0,0,0,0,0,0,0,0,0,0,0,0,0,0,0,0,null,1,12.9]
["DB02 1002:GVY CHK CP",12.9,0,0,0,0,0,0,0,0,0,0,0,0,0,0,0,0,0,0,0,0,0,0,0,0,0,0,0,0,0,0,0,0,0,0,0,0,0,0,0,0,0,0,0,0,0,0,0,0,0,0,0,0,0,0,0,0,0,0,0,0,0,0,null,0,0]
["DB03 1003:MSR CKN CP",12.9,0,0,0,0,0,0,0,0,0,0,0,0,0,0,0,0,0,0,0,0,0,0,0,0,0,0,0,0,0,0,0,0,0,0,0,0,0,0,0,0,0,0,0,0,0,0,0,0,0,0,0,0,0,0,0,0,0,0,0,0,0,0,null,0,0]
["DB04 1004:CKN MARY",12.9,0,0,0,0,0,0,0,0,0,0,0,0,0,0,0,0,0,0,0,0,0,0,0,0,0,0,0,0,0,0,0,0,0,0,0,0,0,0,0,0,0,0,0,0,0,0,0,0,0,0,0,0,0,0,0,0,0,0,0,0,0,0,null,0,0]
["DB05 1005:FISH&CHIP",12.9,0,0,0,0,0,0,0,0,0,0,0,0,0,0,0,0,0,0,0,0,0,0,0,0,0,0,0,0,0,0,0,0,0,0,0,0,0,0,0,0,0,0,0,0,0,0,0,0,0,0,0,0,0,0,0,0,0,0,0,0,0,0,null,0,0]
["DB06 1006:SPAGHETTI",12.9,0,0,0,0,0,0,0,0,0,0,0,0,0,0,0,0,0,0,0,0,0,0,0,0,0,0,0,0,0,0,0,0,0,0,0,0,0,0,0,0,0,0,0,0,0,0,0,0,0,0,0,0,0,0,0,0,0,0,0,0,0,0,null,0,0]
["DB07 1007:CHK SALAD",12.9,1,12.9,0,0,0,0,0,0,0,0,0,0,0,0,0,0,0,0,0,0,0,0,0,0,0,0,0,0,0,0,0,0,0,0,0,0,0,0,1,12.9,0,0,0,0,0,0,0,0,0,0,0,0,0,0,0,0,0,0,0,0,0,0,null,2,25.8]
["DD01 1201:SFD STICK",5.9,0,0,0,0,0,0,0,0,0,0,0,0,0,0,0,0,0,0,0,0,0,0,0,0,0,0,0,0,0,0,0,0,0,0,0,0,0,0,0,0,0,0,0,0,0,0,0,0,0,0,0,0,0,0,0,0,0,0,0,0,0,0,null,0,0]
["DD02 1202:FREN FRIES",5.9,0,0,0,0,0,0,0,0,0,0,0,0,0,0,0,0,0,0,0,0,0,0,0,0,0,0,0,0,0,0,0,0,0,0,0,0,0,0,0,0,0,0,0,0,0,0,0,0,0,0,0,0,0,0,0,0,0,0,0,0,0,0,null,0,0]
["DD03 1203:GOLD MROOM",5.9,0,0,0,0,0,0,0,0,0,0,0,0,0,0,0,0,0,0,0,0,0,0,0,0,0,0,0,0,0,0,0,0,0,0,0,0,0,0,0,0,0,0,0,0,0,0,0,0,0,0,0,0,0,0,0,0,0,0,0,0,0,0,null,0,0]
["DD04 1204:FISHBALL",5.9,0,0,0,0,0,0,0,0,0,0,0,0,0,0,0,0,0,0,0,0,0,0,0,0,0,0,0,0,0,0,0,0,0,0,0,0,0,0,0,0,0,0,0,0,0,0,0,0,0,0,0,0,0,0,0,0,0,0,0,0,0,0,null,0,0]
["DD05 1205:RAINBOW RL",5.9,0,0,0,0,0,0,0,0,0,0,0,0,0,0,0,0,0,0,0,0,0,0,0,0,0,0,0,0,0,0,0,0,0,0,0,0,0,0,0,0,0,0,0,0,0,0,0,0,0,0,0,0,0,0,0,0,0,0,0,0,0,0,null,0,0]
["DD06 1206:SPRING RL",5.9,0,0,0,0,0,0,0,0,0,0,0,0,0,0,0,0,0,0,0,0,0,0,0,0,0,0,0,0,0,0,0,0,0,0,0,0,0,0,0,0,0,0,0,0,0,0,0,0,0,0,0,0,0,0,0,0,0,0,0,0,0,0,null,0,0]
["DD07 1207:SAUSAGE",5.9,0,0,0,0,0,0,0,0,0,0,0,0,0,0,0,0,0,0,0,0,0,0,0,0,0,0,0,0,0,0,0,0,0,0,0,0,0,0,1,5.9,0,0,0,0,0,0,0,0,0,0,0,0,0,0,0,0,0,0,0,0,0,0,null,1,5.9]
["DD10 1301:DUMPLING",7.9,0,0,0,0,0,0,0,0,0,0,0,0,0,0,0,0,0,0,0,0,0,0,0,0,0,0,0,0,0,0,0,0,0,0,0,0,0,0,0,0,0,0,0,0,0,0,0,0,0,0,0,0,0,0,0,0,0,0,0,0,0,0,null,0,0]
["DD11 1302:NUGGET",7.9,0,0,0,0,0,0,0,0,0,0,0,0,0,0,0,0,0,0,0,0,0,0,0,0,0,0,0,0,0,0,0,0,0,0,0,0,0,0,0,0,0,0,0,0,0,0,0,0,0,0,0,0,0,0,0,0,0,0,0,0,0,0,null,0,0]
["DD12 1303:CHK WING",7.9,0,0,0,0,0,0,0,0,0,0,0,0,0,0,0,0,0,0,0,0,0,0,0,0,0,0,0,0,0,0,0,0,0,0,0,0,0,0,0,0,0,0,0,0,0,0,0,0,0,0,0,0,0,0,0,0,0,0,0,0,0,0,null,0,0]
["DD13 1304:IKAN BILIS",7.9,0,0,0,0,0,0,0,0,0,0,0,0,0,0,0,0,0,0,0,0,0,0,0,0,0,0,0,0,0,0,0,0,0,0,0,0,0,0,0,0,0,0,0,0,0,0,0,0,0,0,0,0,0,0,0,0,0,0,0,0,0,0,null,0,0]
["DD14 1305:THAI RL",7.9,0,0,0,0,0,0,0,0,1,7.9,0,0,0,0,0,0,0,0,0,0,0,0,0,0,0,0,0,0,0,0,0,0,0,0,0,0,0,0,0,0,0,0,0,0,0,0,0,0,0,0,0,0,0,0,0,0,0,0,0,0,0,0,null,1,7.9]
["DD15 1306:SLVR FISH",7.9,0,0,0,0,0,0,0,0,0,0,0,0,0,0,0,0,0,0,0,0,0,0,0,0,0,0,0,0,0,0,0,0,0,0,0,0,0,0,0,0,0,0,0,0,0,0,0,0,0,0,0,0,0,0,0,0,0,0,0,0,0,0,null,0,0]
["DD16 1307:D.F C/WING",7.9,0,0,0,0,0,0,0,0,0,0,0,0,0,0,0,0,0,{"$f":"S47*B47","v":0},0,0,0,0,0,0,0,0,0,0,0,0,0,0,0,0,1,7.9,0,0,0,0,0,0,0,0,0,0,0,0,0,0,0,0,0,0,0,0,0,0,0,0,0,0,null,1,7.9]
["DD17 1308 C/CALAMARI",7.9,0,0,0,0,0,0,0,0,0,0,0,0,0,0,0,0,0,{"$f":"S48*B48","v":0},0,0,0,0,0,0,0,0,0,0,0,0,0,0,0,0,0,0,0,0,0,0,0,0,0,0,0,0,0,0,0,0,0,0,0,0,0,0,0,0,0,0,0,0,null,0,0]
["DD18 1309 Mc C/O.RING",7.9,0,0,0,0,0,0,0,0,0,0,0,0,0,0,0,0,0,{"$f":"S49*B49","v":0},0,0,0,0,0,0,0,0,0,0,0,0,0,0,0,0,0,0,0,0,0,0,0,0,0,0,0,0,0,0,0,0,0,0,0,0,0,0,0,0,0,0,0,0,null,0,0]
["DD19 1310:Mc SPIRAL/F",7.9,0,0,0,0,0,0,0,0,0,0,0,0,0,0,0,0,0,{"$f":"S50*D50","v":0},0,0,0,0,0,0,0,0,0,0,0,0,0,0,0,0,0,0,0,0,0,0,0,0,0,0,0,0,0,0,0,0,0,0,0,0,0,0,0,0,0,0,0,0,null,0,0]
["DD20 1311:Mc H/SMILES",7.9,0,0,0,0,0,0,0,0,0,0,0,0,0,0,0,0,0,{"$f":"S51*B51","v":0},0,0,0,0,0,0,0,0,0,0,0,0,0,0,0,0,0,0,0,0,0,0,0,0,0,0,0,0,0,0,0,0,0,0,0,0,0,0,0,0,0,0,0,0,null,0,0]
["DD21 1312:Mc HASH BRW",7.9,0,0,0,0,0,0,0,0,0,0,0,0,0,0,0,0,0,{"$f":"S52*B52","v":0},0,0,0,0,0,0,0,0,0,0,0,0,0,0,0,0,0,0,0,0,0,0,0,0,0,0,0,0,0,0,0,0,0,0,0,0,0,0,0,0,0,0,0,0,null,0,0]
["DL01 3001:6'HAWAIIAN",12.9,0,{"$f":"C53*B53","v":0},0,{"$f":"E53*B53","v":0},0,0,0,{"$f":"I53*B53","v":0},0,0,0,0,0,0,0,0,0,0,0,0,0,0,0,0,0,0,0,0,0,0,0,{"$f":"AG53*AF53","v":0},0,0,0,0,0,0,0,0,0,0,0,0,0,0,0,0,0,0,0,0,0,0,0,0,0,{"$f":"BG53*B53","v":0},0,0,0,0,null,0,0]
["DL02 3002:6'SMOKE BBQ",12.9,0,{"$f":"C54*B54","v":0},0,{"$f":"E54*B54","v":0},0,0,0,{"$f":"I54*B54","v":0},0,0,0,0,0,0,0,0,0,0,0,0,0,0,0,0,0,0,0,0,0,0,0,0,0,0,0,0,0,0,0,0,0,0,0,0,0,0,0,0,0,0,0,0,0,0,0,0,0,{"$f":"BG54*B54","v":0},0,0,0,0,null,0,0]
["DL03 3003:6'SEAFOOD",12.9,0,0,0,0,0,0,0,0,0,0,0,{"$f":"M55*B55","v":0},0,0,0,0,0,0,0,0,0,0,0,0,0,0,0,0,0,0,0,0,0,0,0,0,0,0,0,0,0,0,0,0,0,0,0,0,0,0,0,0,0,0,0,0,0,0,0,0,0,0,null,0,0]
["DL04 3004:6'SPICY BUF",12.9,0,0,0,0,0,0,0,0,0,0,0,0,0,0,0,0,0,0,0,0,0,0,0,0,0,0,0,0,0,0,0,0,0,0,0,0,0,0,0,0,0,0,0,0,0,0,0,0,0,0,0,0,0,0,0,0,0,0,0,0,0,0,null,0,0]
["DL05 3005:6'VEGGIE",16.899999999999999,0,0,0,0,0,0,0,0,0,0,0,0,0,0,0,0,0,0,0,0,0,0,0,0,0,0,0,0,0,0,0,0,0,0,0,0,0,0,0,0,0,0,0,0,0,0,0,0,0,0,0,0,0,0,0,0,0,0,0,0,0,0,null,0,0]
["DL06 3001:9'HAWAIIAN",16.899999999999999,0,0,0,0,0,0,0,0,0,0,0,0,0,0,0,0,0,0,0,0,0,0,0,0,0,0,0,0,0,0,0,0,0,0,0,0,0,0,0,0,0,0,0,0,0,0,0,0,0,0,0,0,0,0,0,0,0,0,0,0,0,0,null,0,0]
["DL07 3002:9'SMOKED",16.899999999999999,0,0,0,0,0,0,0,0,0,0,0,0,0,0,0,0,0,0,0,0,0,0,0,0,0,0,0,0,0,0,0,0,0,0,0,0,0,0,0,0,0,0,0,0,0,0,0,0,0,0,0,0,0,0,0,0,0,0,0,0,0,0,null,0,0]
["DL08 3003:9'SEAFOOD",12.9,0,0,0,0,0,0,0,0,0,0,0,0,0,0,0,0,0,0,0,0,0,0,0,0,0,0,0,0,0,0,0,0,0,0,0,0,0,0,0,0,0,0,0,0,0,0,0,0,0,0,0,0,0,0,0,0,0,0,0,0,0,0,null,0,0]
["DL09 3004:9'SPICY B",null,0,{"$f":"C61*B61","v":0},0,{"$f":"E61*B61","v":0},0,{"$f":"G61*B61","v":0},0,{"$f":"I61*B61","v":0},0,{"$f":"K61*B61","v":0},0,{"$f":"M61*B61","v":0},0,{"$f":"O61*B61","v":0},0,{"$f":"Q61*B61","v":0},0,{"$f":"S61*B61","v":0},0,{"$f":"U61*B61","v":0},0,{"$f":"W61*B61","v":0},0,{"$f":"Y61*B61","v":0},0,{"$f":"AA61*B61","v":0},0,{"$f":"AC61*B61","v":0},0,{"$f":"AE61*B61","v":0},0,{"$f":"AG61*B61","v":0},0,{"$f":"AI61*B61","v":0},0,{"$f":"AK61*B61","v":0},0,{"$f":"AM61*B61","v":0},0,{"$f":"AO61*B61","v":0},0,{"$f":"AQ61*B61","v":0},0,{"$f":"AS61*B61","v":0},0,{"$f":"AU61*B61","v":0},0,{"$f":"AW61*B61","v":0},0,{"$f":"AY61*B61","v":0},0,{"$f":"BA61*B61","v":0},0,{"$f":"BC61*B61","v":0},0,{"$f":"BE61*B61","v":0},0,{"$f":"BG61*B61","v":0},0,{"$f":"BI61*B61","v":0},0,{"$f":"BK61*B61","v":0},null,{"$f":"C61+E61+G61+I61+K61+M61+O61+Q61+S61+U61+W61+Y61+AA61+AC61+AE61+AG61+AI61+AK61+AM61+AO61+AQ61+AS61+AU61+AW61+AY61+BA61+BC61+BE61+BG61+BI61+BK61","v":0},{"$f":"BN61*B61","v":0}]
["DL10 3005:9'VEGGIE",null,0,0,0,0,0,0,0,0,0,0,0,0,0,0,0,0,0,0,0,0,0,0,0,0,0,0,0,0,0,0,0,0,0,0,0,0,0,0,0,0,0,0,0,0,0,0,0,0,0,0,0,0,0,0,0,0,0,0,0,0,0,0,null,0,0]

{"sheet":"SAUCE USAGE","index":9,"n_rows":128,"n_cols":13,"rows_kept":128,"cut":false,"hidden":false,"merged":[[6,9,6,11],[0,0,0,4]]}
["MONTHLY SERVINGS: SAUCE "]
[]
[{"$f":"+'[6]K-LUNCH & K DINNER'!A3","v":"Outlet :"},{"$f":"+'K-LUNCH & K DINNER'!B3","v":"CCS OUTLET"}]
[{"$f":"+'[6]K-LUNCH & K DINNER'!A4","v":"Month :"},{"$f":"+'LOK LOK '!C4","v":"2013-09-01"}]
[]
[]
[null,null,null,"FROM SYSTEM ",null,null,"FROM SYSTEM ",null,null,"USAGE"]
["NO","Item","COST","SERVINGS",null,"Item","SERVINGS","TOTAL ",null,"MATERIAL ","RECIPE","TOTAL","TOTAL COST"]
[null,null,"RM","Q",null,null,"Q","Q",null,"Q","GRAM","GRAM ","RM"]
[null,"REQUEST BY CUSTOMERS",null,null,null,null,null,null,null,"ALL PORTION DECREASED BY 10 GRAM"]
[1,"DF03 ADD SAUCE 1000",1.0800000000000001E-2,{"$f":"VLOOKUP(B11,Summary!$B$30:$AK$475,5,FALSE)","v":15},null,null,null,{"$f":"+G11+D11","v":15},null,"DRESSING THOUSAND ISLAND",55,{"$f":"+K11*H11","v":825},{"$f":"+L11*C11","v":8.91}]
[{"$f":"+A11+1","v":2},"DF04 ADD SAUCE BOLO",1.14E-2,{"$f":"VLOOKUP(B12,Summary!$B$30:$AK$475,5,FALSE)","v":2},null,null,null,2,null,"BOLOGNESE SAUCE",140,{"$f":"+K12*H12","v":280},3.1920000000000002]
[{"$f":"+A12+1","v":3},"DF05 ADD SAUCE BP",3.0000000000000001E-3,{"$f":"VLOOKUP(B13,Summary!$B$30:$AK$475,5,FALSE)","v":5},null,null,null,5,null,"BLACK PEPPER SAUCE",80,400,1.2]
[4,"DF06 ADD SAUCE BUTTER",5.8999999999999999E-3,{"$f":"VLOOKUP(B14,Summary!$B$30:$AK$475,5,FALSE)","v":0},null,null,null,0,null,"BUTTER CREAM SAUCE",65,0,0]
[5,"DF07 ADD SAUCE C.PADI",{"$f":"0.13/30","v":4.3333333333333331E-3},{"$f":"VLOOKUP(B15,Summary!$B$30:$AK$475,5,FALSE)","v":39},null,null,null,39,null,"SAUCE CHILLI (KIMBALL)",20,780,{"$f":"+L15*C15","v":3.38}]
[6,"DF08 ADD SAUCE GS",3.3E-3,{"$f":"VLOOKUP(B16,Summary!$B$30:$AK$475,5,FALSE)","v":1},null,null,null,1,null,"GRAVY SAUCE",80,80,0.26400000000000001]
[7,"DF09 ADD SAUCE MAYO",6.3E-3,{"$f":"VLOOKUP(B17,Summary!$B$30:$AK$475,5,FALSE)","v":87},null,null,null,87,null,"MAYONNAISE",70,6090,38.366999999999997]
[8,"DF10 ADD SAUCE MMITE",2E-3,{"$f":"VLOOKUP(B18,Summary!$B$30:$AK$475,5,FALSE)","v":0},null,null,null,0,null,"MARMITE SAUCE ",70,0,0]
[9,"DF11 ADD SAUCE MR",6.7999999999999996E-3,{"$f":"VLOOKUP(B19,Summary!$B$30:$AK$475,5,FALSE)","v":5},null,null,null,5,null,"MUSHROOM SAUCE",80,400,2.7199999999999998]
[10,"DF12 ADD SAUCE SAMBAL",8.2500000000000004E-3,{"$f":"VLOOKUP(B20,Summary!$B$30:$AK$475,5,FALSE)","v":2},null,null,null,2,null,"SAMBAL SAUCE (NASI)",110,220,1.8150000000000002]
[11,"DF13 ADD SAUCE THAI",{"$f":"0.27/38","v":7.1052631578947369E-3},{"$f":"VLOOKUP(B21,Summary!$B$30:$AK$475,5,FALSE)","v":3},null,null,null,3,null,"THAI SAUCE",65,195,1.3855263157894737]
[12,"DF14 ADD SAUCE TOMATO",3.5000000000000001E-3,{"$f":"VLOOKUP(B22,Summary!$B$30:$AK$475,5,FALSE)","v":95},null,null,null,95,null,"TOMATO SAUCE ( KIMBALL )",20,1900,6.65]
[13,"DF15 ADD TATA SAUCE",1.24E-2,{"$f":"VLOOKUP(B23,Summary!$B$30:$AK$475,5,FALSE)","v":17},null,null,null,17,null,"TARTAR SAUCE",28,476,5.9024000000000001]
[14,"DF16 ADD SAUCE CHEES",null,{"$f":"VLOOKUP(B24,Summary!$B$30:$AK$475,5,FALSE)","v":0},null,null,null,0,null,"NACHO CHEESE DIP ",70,0,0]
[null,"KLKD"]
[15,"DH01 91101:THAI CHK",{"$f":"0.27/38","v":7.1052631578947369E-3},{"$f":"VLOOKUP(B26,Summary!$B$30:$AK$475,5,FALSE)","v":64},null,null,null,{"$f":"+G26+D26","v":64},null,"THAI SAUCE",75,{"$f":"+K26*H26","v":4800},{"$f":"+L26*C26","v":34.10526315789474}]
[{"$f":"+A26+1","v":16},"DH02 91102:MAMITE CHK",2E-3,{"$f":"VLOOKUP(B27,Summary!$B$30:$AK$475,5,FALSE)","v":114},null,null,null,{"$f":"+G27+D27","v":114},null,"MARMITE SAUCE ",80,{"$f":"+K27*H27","v":9120},{"$f":"+L27*C27","v":18.240000000000002}]
[{"$f":"+A27+1","v":17},"DH03 91103:KO PO CHK",1.5E-3,{"$f":"VLOOKUP(B28,Summary!$B$30:$AK$475,5,FALSE)","v":0},null,null,null,0,null,"KONG PO SAUCE",180,0,0]
[18,"DH04 91104:S&S CHK",{"$f":"0.38/200","v":1.9E-3},{"$f":"VLOOKUP(B29,Summary!$B$30:$AK$475,5,FALSE)","v":47},null,null,null,47,null,"SWEET & SOUR SAUCE",200,9400,17.86]
[19,"DH05 91105:BUTTER CHK",5.8999999999999999E-3,{"$f":"VLOOKUP(B30,Summary!$B$30:$AK$475,5,FALSE)","v":140},null,null,null,140,null,"BUTTER CREAM SAUCE",75,{"$f":"+K30*H30","v":10500},61.949999999999996]
[20,"DH06 91106:HK F.RICE",{"$f":"0.28/30","v":9.3333333333333341E-3},{"$f":"VLOOKUP(B31,Summary!$B$30:$AK$475,5,FALSE)","v":105},null,null,null,105,null,null,null,{"$f":"+K31*H31","v":0},0]
[21,"DH07 91107:SBL F.RICE",9.1000000000000004E-3,{"$f":"VLOOKUP(B32,Summary!$B$30:$AK$475,5,FALSE)","v":52},null,null,null,52,null,"SAMBAL (FRIED)SAUCE",30,1560,14.196000000000002]
[22,"DH08 91108:SBL F.MEE",9.1000000000000004E-3,{"$f":"VLOOKUP(B33,Summary!$B$30:$AK$475,5,FALSE)","v":11},null,null,null,11,null,"SAMBAL (FRIED)SAUCE",30,{"$f":"+K33*H33","v":330},3.0030000000000001]
[23,"DH09 91109:BP UDON",3.8999999999999998E-3,{"$f":"VLOOKUP(B34,Summary!$B$30:$AK$475,5,FALSE)","v":49},null,null,null,49,null,"BLACK PEPPER SAUCE (UDON)",70,{"$f":"+K34*H34","v":3430},13.376999999999999]
[24,"DH10 91110:NISSIN",{"$f":"0.7/80","v":8.7499999999999991E-3},{"$f":"VLOOKUP(B35,Summary!$B$30:$AK$475,5,FALSE)","v":34},null,null,null,34,null,null,null,{"$f":"+K35*H35","v":0},0]
[{"$f":"+A35+1","v":25},"DH11 91111:VEG RICE",{"$f":"0.28/90","v":3.1111111111111114E-3},{"$f":"VLOOKUP(B36,Summary!$B$30:$AK$475,5,FALSE)","v":21},null,null,null,21,null,null,null,0,0]
[{"$f":"+A36+1","v":26},"DH12 91112:NASI LEMAK",7.4000000000000003E-3,{"$f":"VLOOKUP(B37,Summary!$B$30:$AK$475,5,FALSE)","v":0},null,null,null,0,null,"SAMBAL SAUCE (NASI)",110,0,0]
[27,"DH13 91113:KUEY TEOW",9.1000000000000004E-3,{"$f":"VLOOKUP(B38,Summary!$B$30:$AK$475,5,FALSE)","v":0},null,null,null,0,null,"SAMBAL (FRIED)SAUCE",30,0,0]
[28,"DH14 91114:F.BALL MEE",{"$f":"0.75/130","v":5.7692307692307696E-3},{"$f":"VLOOKUP(B39,Summary!$B$30:$AK$475,5,FALSE)","v":0},null,null,null,0,null,null,null,0,0]
[{"$f":"+A39+1","v":29},"DH15 91115:CHK NOODLE",1.5E-3,{"$f":"VLOOKUP(B40,Summary!$B$30:$AK$475,5,FALSE)","v":33},null,null,null,33,null,"DRY NOODLE SAUCE",25,825,1.2375]
[30,"DG01 91001:BP CHK CP",3.0000000000000001E-3,{"$f":"VLOOKUP(B41,Summary!$B$30:$AK$475,5,FALSE)","v":368},null,null,null,{"$f":"+G41+D41","v":368},null,"BLACK PEPPER SAUCE",90,{"$f":"+K41*H41","v":33120},99.36]
[31,"DH16 91116:MGL CHK",{"$f":"0.7/80","v":8.7499999999999991E-3},{"$f":"VLOOKUP(B42,Summary!$B$30:$AK$475,5,FALSE)","v":50},null,null,null,{"$f":"+G42+D42","v":50},null,"MONGOLIAN SAUCE",80,{"$f":"+K42*H42","v":4000}]
[32,"DG02 91002:GVY CHK CP",6.7999999999999996E-3,{"$f":"VLOOKUP(B43,Summary!$B$30:$AK$475,5,FALSE)","v":117},null,null,null,117,null,"GRAVY SAUCE",90,{"$f":"+K43*H43","v":10530},71.603999999999999]
[33,"DG03 91003:MSR CHK CP",{"$f":"0.27/38","v":7.1052631578947369E-3},{"$f":"VLOOKUP(B44,Summary!$B$30:$AK$475,5,FALSE)","v":436},null,null,null,436,null,"MUSHROOM SAUCE",90,{"$f":"+K44*H44","v":39240},278.8105263157895]
[34,"DG04 91004:CKN MARY",7.1052631578947369E-3,{"$f":"VLOOKUP(B45,Summary!$B$30:$AK$475,5,FALSE)","v":203},null,null,null,203,null,"DRESSING THOUSAND ISLAND",30,{"$f":"+K45*H45","v":6090},43.271052631578947]
[35,"DG05 91005:FISH&CHIP",1.24E-2,{"$f":"VLOOKUP(B46,Summary!$B$30:$AK$475,5,FALSE)","v":246},null,null,null,246,null,"TARTAR SAUCE",30,7380,91.512]
[36,"DG06 91006:SPAGHETTI",1.14E-2,{"$f":"VLOOKUP(B47,Summary!$B$30:$AK$475,5,FALSE)","v":160},null,null,null,160,null,"BOLOGNESE SAUCE",150,24000,273.60000000000002]
[37,"DG07 91007:CHK SALAD",{"$f":"0.7/65","v":1.0769230769230769E-2},{"$f":"VLOOKUP(B48,Summary!$B$30:$AK$475,5,FALSE)","v":71},null,null,null,71,null,"DRESSING THOUSAND ISLAND",65,4615,49.699999999999996]
[38,"DI01 91201:SFD STICK",{"$f":"0.27/38","v":7.1052631578947369E-3},{"$f":"VLOOKUP(B49,Summary!$B$30:$AK$475,5,FALSE)","v":3},null,null,null,3,null,"THAI SAUCE",38,114,0.81]
[39,"DI02 91202:FREN FRIES",{"$f":"0.13/30","v":4.3333333333333331E-3},{"$f":"VLOOKUP(B50,Summary!$B$30:$AK$475,5,FALSE)","v":28},null,null,null,28,null,"SAUCE CHILLI (KIMBALL)",30,840,3.6399999999999997]
[40,"DI03 91203:GOLD MROOM",{"$f":"0.28/30","v":9.3333333333333341E-3},{"$f":"VLOOKUP(B51,Summary!$B$30:$AK$475,5,FALSE)","v":5},null,null,null,5,null,null,null,0,0]
[41,"DI04 91204:FISHBALL",4.3E-3,{"$f":"VLOOKUP(B52,Summary!$B$30:$AK$475,5,FALSE)","v":6},null,null,null,6,null,"SAUCE CHILLI (KIMBALL)",30,180,0.77400000000000002]
[42,"DI05 91205:RAINBOW RL",1.24E-2,{"$f":"VLOOKUP(B53,Summary!$B$30:$AK$475,5,FALSE)","v":0},null,null,null,0,null,"TARTAR SAUCE",38,0,0]
[43,"DI06 91206:SPRING RL",1.24E-2,{"$f":"VLOOKUP(B54,Summary!$B$30:$AK$475,5,FALSE)","v":3},null,null,null,3,null,"TARTAR SAUCE",30,90,1.1159999999999999]
[44,"DI07 91207:SAUSAGE",{"$f":"0.32/30","v":1.0666666666666666E-2},{"$f":"VLOOKUP(B55,Summary!$B$30:$AK$475,5,FALSE)","v":15},null,null,null,15,null,"SAUCE CHILLI (KIMBALL)",30,450,4.8]
[45,"DI10 91301:DUMPLING",{"$f":"0.2/30","v":6.6666666666666671E-3},{"$f":"VLOOKUP(B56,Summary!$B$30:$AK$475,5,FALSE)","v":0},null,null,null,0,null,null,null,0,0]
[46,"DI11 91302:NUGGET",{"$f":"0.2/30","v":6.6666666666666671E-3},{"$f":"VLOOKUP(B57,Summary!$B$30:$AK$475,5,FALSE)","v":31},null,null,null,31,null,"SAUCE CHILLI (KIMBALL)",30,930,6.2]
[47,"DI12 91303:CHK WING",{"$f":"0.2/30","v":6.6666666666666671E-3},{"$f":"VLOOKUP(B58,Summary!$B$30:$AK$475,5,FALSE)","v":54},null,null,null,54,null,"THAI SAUCE",38,2052,13.680000000000001]
[48,"DI13 91304:IKAN BILIS",9.1000000000000004E-3,{"$f":"VLOOKUP(B59,Summary!$B$30:$AK$475,5,FALSE)","v":2},null,null,null,2,null,"SAMBAL (FRIED)SAUCE",30,1770,16.106999999999999]
[49,"DI14 91305:THAI RL",{"$f":"0.2/30","v":6.6666666666666671E-3},{"$f":"VLOOKUP(B60,Summary!$B$30:$AK$475,5,FALSE)","v":3},null,null,null,3,null,"THAI SAUCE",38,{"$f":"+K60*H60","v":114},{"$f":"+L60*C60","v":0.76}]
[50,"DI16 91307:D/F C.WING",{"$f":"0.32/30","v":1.0666666666666666E-2},{"$f":"VLOOKUP(B61,Summary!$B$30:$AK$475,5,FALSE)","v":30},null,null,null,30,null,"SAUCE CHILLI (KIMBALL)",30,900,9.6]
[51,"DI17 91308:C/CALAMARI",1.24E-2,{"$f":"VLOOKUP(B62,Summary!$B$30:$AK$475,5,FALSE)","v":12},null,null,null,12,null,"TARTAR SAUCE",30,360,4.4639999999999995]
[52,"DI18 91309:Mc O.RINGS",1.24E-2,{"$f":"VLOOKUP(B63,Summary!$B$30:$AK$475,5,FALSE)","v":10},null,null,null,10,null,"TARTAR SAUCE",30,{"$f":"+K63*H63","v":300},3.7199999999999998]
[53,"DI19 91310:McSPIRAL.F",6.3E-3,{"$f":"VLOOKUP(B64,Summary!$B$30:$AK$475,5,FALSE)","v":5},null,null,null,5,null,"MAYONNAISE",30,150,0.94500000000000006]
[54,"DI20 91311Mc H/SMILES",6.3E-3,{"$f":"VLOOKUP(B65,Summary!$B$30:$AK$475,5,FALSE)","v":3},null,null,null,3,null,"MAYONNAISE",30,{"$f":"+K65*H65","v":90},{"$f":"+L65*C65","v":0.56699999999999995}]
[55,"DI21 91312:Mc HASH.B",6.3E-3,{"$f":"VLOOKUP(B66,Summary!$B$30:$AK$475,5,FALSE)","v":10},null,null,null,10,null,"MAYONNAISE",30,{"$f":"+K66*H66","v":300},{"$f":"+L66*C66","v":1.8900000000000001}]
[null,null,null,null,null,null,null,0,null,null,null,0,0]
[null,"SIDE ORDER",null,null,null,null,null,0]
[{"$f":"+A66+1","v":56},"DC01 1101:THAI CHK",{"$f":"0.27/38","v":7.1052631578947369E-3},{"$f":"VLOOKUP(B69,Summary!$B$30:$AK$475,5,FALSE)","v":60},null,null,null,60,null,"THAI SAUCE",75,{"$f":"+K69*H69","v":4500},{"$f":"+L69*C69","v":31.973684210526315}]
[{"$f":"+A69+1","v":57},"DC02 1102:MAMITE CHK",2E-3,{"$f":"VLOOKUP(B70,Summary!$B$30:$AK$475,5,FALSE)","v":63},null,null,null,63,null,"MARMITE SAUCE ",80,{"$f":"+K70*H70","v":5040},{"$f":"+L70*C70","v":10.08}]
[{"$f":"+A70+1","v":58},"DC03 1103:KO PO CHK",1.5E-3,{"$f":"VLOOKUP(B71,Summary!$B$30:$AK$475,5,FALSE)","v":0},null,null,null,0,null,"KONG PO SAUCE",180,0,0]
[59,"DC04 1104:S&S CHK",{"$f":"0.38/200","v":1.9E-3},{"$f":"VLOOKUP(B72,Summary!$B$30:$AK$475,5,FALSE)","v":31},null,null,null,31,null,"SWEET & SOUR SAUCE",200,6200,11.78]
[60,"DC05 1105:BUTTER CHK",5.8999999999999999E-3,{"$f":"VLOOKUP(B73,Summary!$B$30:$AK$475,5,FALSE)","v":130},null,null,null,130,null,"BUTTER CREAM SAUCE",75,{"$f":"+K73*H73","v":9750},57.524999999999999]
[61,"DC06 1106:HK F.RICE",{"$f":"0.28/30","v":9.3333333333333341E-3},{"$f":"VLOOKUP(B74,Summary!$B$30:$AK$475,5,FALSE)","v":56},null,null,null,56,null,null,null,{"$f":"+K74*H74","v":0},0]
[62,"DC07 1107:SBL F.RICE",9.1000000000000004E-3,{"$f":"VLOOKUP(B75,Summary!$B$30:$AK$475,5,FALSE)","v":51},null,null,null,51,null,"SAMBAL (FRIED)SAUCE",30,{"$f":"+K75*H75","v":1530},13.923]
[63,"DC08 1108:SBL F.MEE",9.1000000000000004E-3,{"$f":"VLOOKUP(B76,Summary!$B$30:$AK$475,5,FALSE)","v":7},null,null,null,7,null,"SAMBAL (FRIED)SAUCE",30,{"$f":"+K76*H76","v":210},1.911]
[64,"DC09 1109:BP UDON",3.8999999999999998E-3,{"$f":"VLOOKUP(B77,Summary!$B$30:$AK$475,5,FALSE)","v":27},null,null,null,27,null,"BLACK PEPPER SAUCE (UDON)",70,{"$f":"+K77*H77","v":1890},7.3709999999999996]
[65,"DC10 1110:NISSIN",{"$f":"0.7/80","v":8.7499999999999991E-3},{"$f":"VLOOKUP(B78,Summary!$B$30:$AK$475,5,FALSE)","v":19},null,null,null,19,null,null,null,{"$f":"+K78*H78","v":0},0]
[66,"DC11 1111:VEG RICE",{"$f":"0.28/90","v":3.1111111111111114E-3},{"$f":"VLOOKUP(B79,Summary!$B$30:$AK$475,5,FALSE)","v":7},null,null,null,7,null,null,null,0,0]
[67,"DC12 1112:NASI LEMAK",7.4000000000000003E-3,{"$f":"VLOOKUP(B80,Summary!$B$30:$AK$475,5,FALSE)","v":0},null,null,null,0,null,"SAMBAL SAUCE (NASI)",110,0,0]
[68,"DC13 1113:KUEY TEOW",9.1000000000000004E-3,{"$f":"VLOOKUP(B81,Summary!$B$30:$AK$475,5,FALSE)","v":0},null,null,null,0,null,"SAMBAL (FRIED)SAUCE",30,0,0]
[69,"DC14 1114:F.BALL MEE",{"$f":"0.75/130","v":5.7692307692307696E-3},{"$f":"VLOOKUP(B82,Summary!$B$30:$AK$475,5,FALSE)","v":0},null,null,null,0,null,null,null,0,0]
[70,"DC15 1115:CHK NOODLE",1.5E-3,{"$f":"VLOOKUP(B83,Summary!$B$30:$AK$475,5,FALSE)","v":22},null,null,null,22,null,"DRY NOODLE SAUCE",25,550,0.82500000000000007]
[71,"DB01 1001:BP CKN CP",3.0000000000000001E-3,{"$f":"VLOOKUP(B84,Summary!$B$30:$AK$475,5,FALSE)","v":93},null,null,null,93,null,"BLACK PEPPER SAUCE",90,{"$f":"+K84*H84","v":8370},25.11]
[72,"DC16 1116:MGL CHICKEN",{"$f":"0.7/80","v":8.7499999999999991E-3},{"$f":"VLOOKUP(B85,Summary!$B$30:$AK$475,5,FALSE)","v":22},null,null,null,22,null,"MONGOLIAN SAUCE",80,{"$f":"+K85*H85","v":1760},15.399999999999999]
[73,"DB02 1002:GVY CHK CP",6.7999999999999996E-3,{"$f":"VLOOKUP(B86,Summary!$B$30:$AK$475,5,FALSE)","v":23},null,null,null,23,null,"GRAVY SAUCE",90,{"$f":"+K86*H86","v":2070},{"$f":"+L86*C86","v":14.075999999999999}]
[74,"DB03 1003:MSR CKN CP",{"$f":"0.27/38","v":7.1052631578947369E-3},{"$f":"VLOOKUP(B87,Summary!$B$30:$AK$475,5,FALSE)","v":115},null,null,null,115,null,"MUSHROOM SAUCE",90,{"$f":"+K87*H87","v":10350},73.53947368421052]
[75,"DB04 1004:CKN MARY",7.1052631578947369E-3,{"$f":"VLOOKUP(B88,Summary!$B$30:$AK$475,5,FALSE)","v":27},null,null,null,27,null,"DRESSING THOUSAND ISLAND",30,810,5.7552631578947366]
[76,"DB05 1005:FISH&CHIP",1.24E-2,{"$f":"VLOOKUP(B89,Summary!$B$30:$AK$475,5,FALSE)","v":40},null,null,null,40,null,"TARTAR SAUCE",30,1200,14.879999999999999]
[77,"DB06 1006:SPAGHETTI",1.14E-2,{"$f":"VLOOKUP(B90,Summary!$B$30:$AK$475,5,FALSE)","v":46},null,null,null,46,null,"BOLOGNESE SAUCE",150,6900,78.66]
[78,"DB07 1007:CHK SALAD",{"$f":"0.7/65","v":1.0769230769230769E-2},{"$f":"VLOOKUP(B91,Summary!$B$30:$AK$475,5,FALSE)","v":11},null,null,null,11,null,"DRESSING THOUSAND ISLAND",65,715,7.6999999999999993]
[79,"DD01 1201:SFD STICK",{"$f":"0.27/38","v":7.1052631578947369E-3},{"$f":"VLOOKUP(B92,Summary!$B$30:$AK$475,5,FALSE)","v":0},null,null,null,0,null,"THAI SAUCE",38,0,0]
[80,"DD02 1202:FREN FRIES",{"$f":"0.13/30","v":4.3333333333333331E-3},{"$f":"VLOOKUP(B93,Summary!$B$30:$AK$475,5,FALSE)","v":80},null,null,null,80,null,"SAUCE CHILLI (KIMBALL)",30,2400,10.4]
[81,"DD03 1203:GOLD MROOM",{"$f":"0.28/30","v":9.3333333333333341E-3},{"$f":"VLOOKUP(B94,Summary!$B$30:$AK$475,5,FALSE)","v":11},null,null,null,11,null,null,null,0,0]
[82,"DD04 1204:FISHBALL",4.3E-3,{"$f":"VLOOKUP(B95,Summary!$B$30:$AK$475,5,FALSE)","v":14},null,null,null,14,null,"SAUCE CHILLI (KIMBALL)",30,420,1.806]
[83,"DD05 1205:RAINBOW RL",1.24E-2,{"$f":"VLOOKUP(B96,Summary!$B$30:$AK$475,5,FALSE)","v":0},null,null,null,0,null,"TARTAR SAUCE",38,0,0]
[84,"DD06 1206:SPRING RL",1.24E-2,{"$f":"VLOOKUP(B97,Summary!$B$30:$AK$475,5,FALSE)","v":17},null,null,null,17,null,"TARTAR SAUCE",30,510,6.3239999999999998]
[85,"DD07 1207:SAUSAGE",{"$f":"0.32/30","v":1.0666666666666666E-2},{"$f":"VLOOKUP(B98,Summary!$B$30:$AK$475,5,FALSE)","v":17},null,null,null,17,null,"SAUCE CHILLI (KIMBALL)",30,510,5.4399999999999995]
[86,"DD10 1301:DUMPLING",{"$f":"0.2/30","v":6.6666666666666671E-3},{"$f":"VLOOKUP(B99,Summary!$B$30:$AK$475,5,FALSE)","v":0},null,null,null,0,null,null,null,0,0]
[87,"DD11 1302:NUGGET",{"$f":"0.2/30","v":6.6666666666666671E-3},{"$f":"VLOOKUP(B100,Summary!$B$30:$AK$475,5,FALSE)","v":39},null,null,null,39,null,"SAUCE CHILLI (KIMBALL)",30,1170,7.8000000000000007]
[88,"DD12 1303:CHK WING",{"$f":"0.2/30","v":6.6666666666666671E-3},{"$f":"VLOOKUP(B101,Summary!$B$30:$AK$475,5,FALSE)","v":31},null,null,null,31,null,"THAI SAUCE",38,1178,7.8533333333333335]
[89,"DD13 1304:IKAN BILIS",9.1000000000000004E-3,{"$f":"VLOOKUP(B102,Summary!$B$30:$AK$475,5,FALSE)","v":9},null,null,null,9,null,"SAMBAL (FRIED)SAUCE",30,1770,16.106999999999999]
[90,"DD14 1305:THAI RL",{"$f":"0.2/30","v":6.6666666666666671E-3},{"$f":"VLOOKUP(B103,Summary!$B$30:$AK$475,5,FALSE)","v":5},null,null,null,5,null,"THAI SAUCE",38,{"$f":"+K103*H103","v":190},{"$f":"+L103*C103","v":1.2666666666666668}]
[91,"DD16 1307:D.F C/WING",{"$f":"0.32/30","v":1.0666666666666666E-2},{"$f":"VLOOKUP(B104,Summary!$B$30:$AK$475,5,FALSE)","v":13},null,null,null,13,null,"SAUCE CHILLI (KIMBALL)",30,390,4.16]
[92,"DD17 1308 C/CALAMARI",1.24E-2,{"$f":"VLOOKUP(B105,Summary!$B$30:$AK$475,5,FALSE)","v":11},null,null,null,11,null,"TARTAR SAUCE",30,330,4.0919999999999996]
[93,"DD18 1309 Mc C/O.RING",1.24E-2,{"$f":"VLOOKUP(B106,Summary!$B$30:$AK$475,5,FALSE)","v":6},null,null,null,{"$f":"+G106+D106","v":6},null,"TARTAR SAUCE",30,180,2.2319999999999998]
[94,"DD19 1310:Mc SPIRAL/F",6.3E-3,{"$f":"VLOOKUP(B107,Summary!$B$30:$AK$475,5,FALSE)","v":7},null,null,null,7,null,"MAYONNAISE",30,210,1.323]
[95,"DD20 1311:Mc H/SMILES",6.3E-3,{"$f":"VLOOKUP(B108,Summary!$B$30:$AK$475,5,FALSE)","v":0},null,null,null,0,null,"MAYONNAISE",30,0,0]
[96,"DD21 1312:Mc HASH BRW",6.3E-3,{"$f":"VLOOKUP(B109,Summary!$B$30:$AK$475,5,FALSE)","v":8},null,null,null,8,null,"MAYONNAISE",30,240,1.512]
[{"$f":"+A109+1","v":97},"JK001 LLB BP CHK CHOP",3.0000000000000001E-3,{"$f":"SUMIF('LOK LOK '!$C$12:$C$30,'SAUCE USAGE'!B110,'LOK LOK '!$E$12:$E$30)","v":11},null,null,null,{"$f":"+G110+D110","v":11},null,"BLACK PEPPER SAUCE",90,{"$f":"+K110*H110","v":990},{"$f":"+L110*C110","v":2.97}]
[{"$f":"+A110+1","v":98},"JK002 LLB G.S C. CHOP",{"$f":"0.7/80","v":8.7499999999999991E-3},{"$f":"SUMIF('LOK LOK '!$C$12:$C$30,'SAUCE USAGE'!B111,'LOK LOK '!$E$12:$E$30)","v":2},null,null,null,{"$f":"+G111+D111","v":2},null,"MONGOLIAN SAUCE",80,{"$f":"+K111*H111","v":160},1.4]
[99,"JK003 LLB MSR CHK CHOP",6.7999999999999996E-3,{"$f":"SUMIF('LOK LOK '!$C$12:$C$30,'SAUCE USAGE'!B112,'LOK LOK '!$E$12:$E$30)","v":11},null,null,null,11,null,"GRAVY SAUCE",90,{"$f":"+K112*H112","v":990},6.7319999999999993]
[100,"JK004 LLB CHK MARRYLAN",7.1052631578947369E-3,{"$f":"SUMIF('LOK LOK '!$C$12:$C$30,'SAUCE USAGE'!B113,'LOK LOK '!$E$12:$E$30)","v":3},null,null,null,3,null,"MUSHROOM SAUCE",90,{"$f":"+K113*H113","v":270},1.918421052631579]
[101,"JK005 LLB Fish & Chip",1.24E-2,{"$f":"SUMIF('LOK LOK '!$C$12:$C$30,'SAUCE USAGE'!B114,'LOK LOK '!$E$12:$E$30)","v":2},null,null,null,{"$f":"+G114+D114","v":2},null,"DRESSING THOUSAND ISLAND",30,60,0.74399999999999999]
[102,"JK006 LLB Spaghetti",1.14E-2,{"$f":"SUMIF('LOK LOK '!$C$12:$C$30,'SAUCE USAGE'!B115,'LOK LOK '!$E$12:$E$30)","v":4},null,null,null,4,null,"BOLOGNESE SAUCE",150,600,6.84]
[103,"JK007 LLB CHK .C.SALAD",{"$f":"0.7/65","v":1.0769230769230769E-2},{"$f":"SUMIF('LOK LOK '!$C$12:$C$30,'SAUCE USAGE'!B116,'LOK LOK '!$E$12:$E$30)","v":2},null,null,null,2,null,"DRESSING THOUSAND ISLAND",65,130,1.4]
[104,"JK101 LLB Thai Chk Ric",7.1052631578947369E-3,{"$f":"SUMIF('LOK LOK '!$C$12:$C$30,'SAUCE USAGE'!B117,'LOK LOK '!$E$12:$E$30)","v":8},null,null,null,{"$f":"+G117+D117","v":8},null,"THAI SAUCE",75,{"$f":"+K117*H117","v":600},4.2631578947368425]
[105,"JK102 Marmite Chk Rice",2E-3,{"$f":"SUMIF('LOK LOK '!$C$12:$C$30,'SAUCE USAGE'!B118,'LOK LOK '!$E$12:$E$30)","v":4},null,null,null,4,null,"MARMITE SAUCE ",80,{"$f":"+K118*H118","v":320},0.64]
[106,"JK104 S&S Chk Rice",1.5E-3,{"$f":"SUMIF('LOK LOK '!$C$12:$C$30,'SAUCE USAGE'!B119,'LOK LOK '!$E$12:$E$30)","v":3},null,null,null,3,null,"SWEET & SOUR SAUCE",200,{"$f":"+K119*H120","v":2600},3.9]
[107,"JK105 B.Cream.Chk Rice",1.9E-3,{"$f":"SUMIF('LOK LOK '!$C$12:$C$30,'SAUCE USAGE'!B120,'LOK LOK '!$E$12:$E$30)","v":13},null,null,null,13,null,"BUTTER CREAM SAUCE",75,{"$f":"+K120*H121","v":450},0.85499999999999998]
[108,"JK106 H.K Fried Rice",5.8999999999999999E-3,{"$f":"SUMIF('LOK LOK '!$C$12:$C$30,'SAUCE USAGE'!B121,'LOK LOK '!$E$12:$E$30)","v":6},null,null,null,6,null,null,null,null,0]
[109,"JK107 LLBSambal F.Rice",null,{"$f":"SUMIF('LOK LOK '!$C$12:$C$30,'SAUCE USAGE'!B122,'LOK LOK '!$E$12:$E$30)","v":6},null,null,null,6,null,null,null,null,0]
[110,"JK108 LLB S.Fried MEE",null,{"$f":"SUMIF('LOK LOK '!$C$12:$C$30,'SAUCE USAGE'!B123,'LOK LOK '!$E$12:$E$30)","v":1},null,null,null,1,null,null,null,null,0]
[111,"JK109 LLB BP Udon Mee",null,{"$f":"SUMIF('LOK LOK '!$C$12:$C$30,'SAUCE USAGE'!B124,'LOK LOK '!$E$12:$E$30)","v":5},null,null,null,5,null,"BLACK PEPPER SAUCE (UDON)",70,{"$f":"+K124*H124","v":350},0]
[112,"JK110 LLB Nisin Noodle",null,{"$f":"SUMIF('LOK LOK '!$C$12:$C$30,'SAUCE USAGE'!B125,'LOK LOK '!$E$12:$E$30)","v":1},null,null,null,1,null,null,null,null,0]
[113,"JK111 LLB S.M.Ver Rice",null,{"$f":"SUMIF('LOK LOK '!$C$12:$C$30,'SAUCE USAGE'!B126,'LOK LOK '!$E$12:$E$30)","v":1},null,null,null,{"$f":"+G126+D126","v":1},null,null,null,null,0]
[114,"JK115 LLB B.Noodle.Chk",null,{"$f":"SUMIF('LOK LOK '!$C$12:$C$30,'SAUCE USAGE'!B127,'LOK LOK '!$E$12:$E$30)","v":4},null,null,null,4,null,null,null,null,0]
[115,"JK116 LLB Mon.Chk Rice",null,{"$f":"SUMIF('LOK LOK '!$C$12:$C$30,'SAUCE USAGE'!B128,'LOK LOK '!$E$12:$E$30)","v":8},null,null,null,8,null,"MONGOLIAN SAUCE",80,{"$f":"+K128*H128","v":640},0]